{"text_format":"3","workbook":"xlsx","n_sheets":4,"sheets":["MASTER","STUDENT DETAIL","TIME TABLE","ADMIT CARD"],"not_rendered":{"images":3,"defined_names":3},"read":"whole","date_system":"1900"}

{"sheet":"MASTER","index":0,"n_rows":23,"n_cols":20,"rows_kept":23,"merged":[[0,0,0,14],[1,1,1,3],[1,4,1,6],[1,7,1,9],[1,10,21,10],[1,11,1,13],[1,14,21,14],[2,0,24,0],[2,1,2,9],[2,11,3,13],[3,1,3,9],[4,1,4,9],[4,11,12,13],[5,1,5,2],[5,4,5,9],[6,1,6,9],[7,1,8,2],[7,3,8,3],[7,4,8,9],[9,1,9,9],[10,1,11,2],[10,3,11,3],[10,4,11,9],[12,1,12,9],[13,1,14,2],[13,3,14,3],[13,4,14,9],[14,11,16,13],[15,1,15,9],[16,1,16,2],[16,4,16,9],[17,1,17,9],[17,11,21,13],[18,1,18,2],[18,4,18,9],[19,1,19,9],[20,1,20,2],[20,4,20,9],[21,1,21,9],[22,1,22,2],[22,4,22,5],[22,7,22,9]]}
[]
[null,"t; fgUn",null,null,"oUns ekrje~",null,null,"t; fgUn"]
[]
[null,"ADMIT CARD GENERATOR PROGRAM",{"$nulls":16},"2019-20","PRIMARY"]
[{"$nulls":18},"2019-21","UPPER PRIMARY"]
[null,"SESSION",null,":-","2025-26",{"$nulls":13},"2019-22","SECONDARY"]
[{"$nulls":18},"2019-21","UPPER PRIMARY"]
[null,"Exam Type",null,":-","TEST-I"]
[{"$nulls":18},"2019-24"]
[]
[null,"SCHOOL'S FULL NAME",null,":-","Govt. Sr. Secondary School Raimalwada"]
[{"$nulls":18},"2019-22","SECONDARY"]
[{"$nulls":18},"2019-23","SR. SECONDARY"]
[null,"ADDRESS",null,":-","P.S.-Bapini (Phalodi)"]
[{"$nulls":11},"DEVOPED BY:-UMMED TARAD",{"$nulls":6},"2019-24"]
[{"$nulls":18},"2019-23","SR. SECONDARY"]
[null,"U-DISE CODE",null,":-","08151106901",{"$nulls":13},"2019-24"]
[{"$nulls":11},"(GSSS RAIMALWADA)",{"$nulls":6},"2019-25"]
[null,"NAME OF PRINCIPAL",null,":-",{"$nulls":14},"2019-26"]
[]
[null,"SCHOOL TYPE",null,":-","Sr. Secondary"]
[{"$nulls":18},"2019-25"]
[null,"School Logo",null,":-",{"$nulls":3},"UPDATED ON :- \n14-11-2025"]

{"sheet":"STUDENT DETAIL","index":1,"n_rows":132,"n_cols":38,"rows_kept":132,"merged":[[0,2,0,8],[0,9,0,19],[0,20,106,21],[1,2,1,6],[1,7,1,8],[1,9,1,19],[2,2,2,3],[2,4,2,5],[2,7,2,8],[2,9,3,14],[2,15,5,15],[2,16,5,16],[2,17,5,17],[2,18,5,18],[2,19,5,19],[3,2,3,3],[3,4,3,5],[3,7,3,8],[4,2,4,8],[4,9,5,9],[4,10,5,10],[4,11,5,11],[4,12,5,12],[4,13,5,13],[4,14,5,14]]}
[null,null,{"$f":"MASTER!E11","v":"Govt. Sr. Secondary School Raimalwada"}]
[null,null,"Print Admit Card",{"$nulls":4},"GoTo Time Table"]
[null,null,"School U-Dise Code :-",null,{"$f":"MASTER!E17","v":"08151106901"},null,"Session :-",{"$f":"MASTER!E6","v":"2025-26"},null,"Subject Wise Result",{"$nulls":5},"Subject Which Failed","Subject Which supplymentry","Subject Which 1 Grace","Subject Which 2 Grace","Subject Which Re-Exam"]
[null,null,"Class -",null,4,null,"Saction :-","A"]
[null,null,"Student Related Basic Details",{"$nulls":6},"Hindi","English","Sanskrit","Math","Science","social Science"]
[null,null,"Sr. No.","Class","Roll No.","Student's Name","Father's Name","Mother's Name","Date Of Birth"]
[null,null,0,0,null,0,0,0,0,{"$f":"#REF!","v":{"$error":"#REF!"}},{"$f":"#REF!","v":{"$error":"#REF!"}},{"$f":"#REF!","v":{"$error":"#REF!"}},{"$f":"#REF!","v":{"$error":"#REF!"}},{"$f":"#REF!","v":{"$error":"#REF!"}},{"$f":"#REF!","v":{"$error":"#REF!"}},{"$f":"COUNTIF(J7:O7,\"F\")+COUNTIF(J7:O7,\"AB\")","v":0},{"$f":"COUNTIF(J7:O7,\"S\")","v":0},{"$f":"COUNTIF(J7:O7,\"G1\")","v":0},{"$f":"COUNTIF(J7:O7,\"G2\")","v":0}]
[{"$f":"E8","v":901},1,1,10,901,"Akshya","Ram","Seeta","2000-02-05",{"$f":"#REF!","v":{"$error":"#REF!"}},{"$f":"#REF!","v":{"$error":"#REF!"}},{"$f":"#REF!","v":{"$error":"#REF!"}},{"$f":"#REF!","v":{"$error":"#REF!"}},{"$f":"#REF!","v":{"$error":"#REF!"}},{"$f":"#REF!","v":{"$error":"#REF!"}},{"$f":"COUNTIF(J8:O8,\"F\")+COUNTIF(J8:O8,\"AB\")","v":0},{"$f":"COUNTIF(J8:O8,\"S\")","v":0},{"$f":"COUNTIF(J8:O8,\"G1\")","v":0},{"$f":"COUNTIF(J8:O8,\"G2\")","v":0},{"$nulls":3},{"$f":"#REF!","v":{"$error":"#REF!"}},"/",{"$f":"#REF!","v":{"$error":"#REF!"}},{"$f":"CONCATENATE(W8,X8,Y8)","v":{"$error":"#REF!"}},{"$f":"#REF!","v":{"$error":"#REF!"}},"/",{"$f":"#REF!","v":{"$error":"#REF!"}},{"$f":"CONCATENATE(AA8,AB8,AC8)","v":{"$error":"#REF!"}},{"$f":"#REF!","v":{"$error":"#REF!"}},"/",{"$f":"#REF!","v":{"$error":"#REF!"}},{"$f":"CONCATENATE(AE8,AF8,AG8)","v":{"$error":"#REF!"}},{"$f":"#REF!","v":{"$error":"#REF!"}},"/",{"$f":"#REF!","v":{"$error":"#REF!"}},{"$f":"CONCATENATE(AI8,AJ8,AK8)","v":{"$error":"#REF!"}}]
[{"$f":"E9","v":902},2,2,{"$f":"IF(E9>0,$E$4,0)","v":4},902,"ram","sdadbh","jsadkcna","2001-03-05",{"$f":"#REF!","v":{"$error":"#REF!"}},{"$f":"#REF!","v":{"$error":"#REF!"}},{"$f":"#REF!","v":{"$error":"#REF!"}},{"$f":"#REF!","v":{"$error":"#REF!"}},{"$f":"#REF!","v":{"$error":"#REF!"}},{"$f":"#REF!","v":{"$error":"#REF!"}},{"$f":"COUNTIF(J9:O9,\"F\")+COUNTIF(J9:O9,\"AB\")","v":0},{"$f":"COUNTIF(J9:O9,\"S\")","v":0},{"$f":"COUNTIF(J9:O9,\"G1\")","v":0},{"$f":"COUNTIF(J9:O9,\"G2\")","v":0},{"$nulls":3},{"$f":"#REF!","v":{"$error":"#REF!"}},"/",{"$f":"#REF!","v":{"$error":"#REF!"}},{"$f":"CONCATENATE(W9,X9,Y9)","v":{"$error":"#REF!"}},{"$f":"#REF!","v":{"$error":"#REF!"}},"/",{"$f":"#REF!","v":{"$error":"#REF!"}},{"$f":"CONCATENATE(AA9,AB9,AC9)","v":{"$error":"#REF!"}},{"$f":"#REF!","v":{"$error":"#REF!"}},"/",{"$f":"#REF!","v":{"$error":"#REF!"}},{"$f":"CONCATENATE(AE9,AF9,AG9)","v":{"$error":"#REF!"}},{"$f":"#REF!","v":{"$error":"#REF!"}},"/",{"$f":"#REF!","v":{"$error":"#REF!"}},{"$f":"CONCATENATE(AI9,AJ9,AK9)","v":{"$error":"#REF!"}}]
[0,3,3,0,{"$nulls":5},{"$f":"#REF!","v":{"$error":"#REF!"}},{"$f":"#REF!","v":{"$error":"#REF!"}},{"$f":"#REF!","v":{"$error":"#REF!"}},{"$f":"#REF!","v":{"$error":"#REF!"}},{"$f":"#REF!","v":{"$error":"#REF!"}},{"$f":"#REF!","v":{"$error":"#REF!"}},0,0,0,0,{"$nulls":3},{"$f":"#REF!","v":{"$error":"#REF!"}},"/",{"$f":"#REF!","v":{"$error":"#REF!"}},{"$error":"#REF!"},{"$f":"#REF!","v":{"$error":"#REF!"}},"/",{"$f":"#REF!","v":{"$error":"#REF!"}},{"$error":"#REF!"},{"$f":"#REF!","v":{"$error":"#REF!"}},"/",{"$f":"#REF!","v":{"$error":"#REF!"}},{"$error":"#REF!"},{"$f":"#REF!","v":{"$error":"#REF!"}},"/",{"$f":"#REF!","v":{"$error":"#REF!"}},{"$error":"#REF!"}]
[0,4,4,0,{"$nulls":5},{"$f":"#REF!","v":{"$error":"#REF!"}},{"$f":"#REF!","v":{"$error":"#REF!"}},{"$f":"#REF!","v":{"$error":"#REF!"}},{"$f":"#REF!","v":{"$error":"#REF!"}},{"$f":"#REF!","v":{"$error":"#REF!"}},{"$f":"#REF!","v":{"$error":"#REF!"}},0,0,0,0,{"$nulls":3},{"$f":"#REF!","v":{"$error":"#REF!"}},"/",{"$f":"#REF!","v":{"$error":"#REF!"}},{"$error":"#REF!"},{"$f":"#REF!","v":{"$error":"#REF!"}},"/",{"$f":"#REF!","v":{"$error":"#REF!"}},{"$error":"#REF!"},{"$f":"#REF!","v":{"$error":"#REF!"}},"/",{"$f":"#REF!","v":{"$error":"#REF!"}},{"$error":"#REF!"},{"$f":"#REF!","v":{"$error":"#REF!"}},"/",{"$f":"#REF!","v":{"$error":"#REF!"}},{"$error":"#REF!"}]
[0,5,5,0,{"$nulls":5},{"$f":"#REF!","v":{"$error":"#REF!"}},{"$f":"#REF!","v":{"$error":"#REF!"}},{"$f":"#REF!","v":{"$error":"#REF!"}},{"$f":"#REF!","v":{"$error":"#REF!"}},{"$f":"#REF!","v":{"$error":"#REF!"}},{"$f":"#REF!","v":{"$error":"#REF!"}},0,0,0,0,{"$nulls":3},{"$f":"#REF!","v":{"$error":"#REF!"}},"/",{"$f":"#REF!","v":{"$error":"#REF!"}},{"$error":"#REF!"},{"$f":"#REF!","v":{"$error":"#REF!"}},"/",{"$f":"#REF!","v":{"$error":"#REF!"}},{"$error":"#REF!"},{"$f":"#REF!","v":{"$error":"#REF!"}},"/",{"$f":"#REF!","v":{"$error":"#REF!"}},{"$error":"#REF!"},{"$f":"#REF!","v":{"$error":"#REF!"}},"/",{"$f":"#REF!","v":{"$error":"#REF!"}},{"$error":"#REF!"}]
[0,6,6,0,{"$nulls":5},{"$f":"#REF!","v":{"$error":"#REF!"}},{"$f":"#REF!","v":{"$error":"#REF!"}},{"$f":"#REF!","v":{"$error":"#REF!"}},{"$f":"#REF!","v":{"$error":"#REF!"}},{"$f":"#REF!","v":{"$error":"#REF!"}},{"$f":"#REF!","v":{"$error":"#REF!"}},0,0,0,0,{"$nulls":3},{"$f":"#REF!","v":{"$error":"#REF!"}},"/",{"$f":"#REF!","v":{"$error":"#REF!"}},{"$error":"#REF!"},{"$f":"#REF!","v":{"$error":"#REF!"}},"/",{"$f":"#REF!","v":{"$error":"#REF!"}},{"$error":"#REF!"},{"$f":"#REF!","v":{"$error":"#REF!"}},"/",{"$f":"#REF!","v":{"$error":"#REF!"}},{"$error":"#REF!"},{"$f":"#REF!","v":{"$error":"#REF!"}},"/",{"$f":"#REF!","v":{"$error":"#REF!"}},{"$error":"#REF!"}]
[0,7,7,0,{"$nulls":5},{"$f":"#REF!","v":{"$error":"#REF!"}},{"$f":"#REF!","v":{"$error":"#REF!"}},{"$f":"#REF!","v":{"$error":"#REF!"}},{"$f":"#REF!","v":{"$error":"#REF!"}},{"$f":"#REF!","v":{"$error":"#REF!"}},{"$f":"#REF!","v":{"$error":"#REF!"}},0,0,0,0,{"$nulls":3},{"$f":"#REF!","v":{"$error":"#REF!"}},"/",{"$f":"#REF!","v":{"$error":"#REF!"}},{"$error":"#REF!"},{"$f":"#REF!","v":{"$error":"#REF!"}},"/",{"$f":"#REF!","v":{"$error":"#REF!"}},{"$error":"#REF!"},{"$f":"#REF!","v":{"$error":"#REF!"}},"/",{"$f":"#REF!","v":{"$error":"#REF!"}},{"$error":"#REF!"},{"$f":"#REF!","v":{"$error":"#REF!"}},"/",{"$f":"#REF!","v":{"$error":"#REF!"}},{"$error":"#REF!"}]
[0,8,8,0,{"$nulls":5},{"$f":"#REF!","v":{"$error":"#REF!"}},{"$f":"#REF!","v":{"$error":"#REF!"}},{"$f":"#REF!","v":{"$error":"#REF!"}},{"$f":"#REF!","v":{"$error":"#REF!"}},{"$f":"#REF!","v":{"$error":"#REF!"}},{"$f":"#REF!","v":{"$error":"#REF!"}},0,0,0,0,{"$nulls":3},{"$f":"#REF!","v":{"$error":"#REF!"}},"/",{"$f":"#REF!","v":{"$error":"#REF!"}},{"$error":"#REF!"},{"$f":"#REF!","v":{"$error":"#REF!"}},"/",{"$f":"#REF!","v":{"$error":"#REF!"}},{"$error":"#REF!"},{"$f":"#REF!","v":{"$error":"#REF!"}},"/",{"$f":"#REF!","v":{"$error":"#REF!"}},{"$error":"#REF!"},{"$f":"#REF!","v":{"$error":"#REF!"}},"/",{"$f":"#REF!","v":{"$error":"#REF!"}},{"$error":"#REF!"}]
[0,9,9,0,{"$nulls":5},{"$f":"#REF!","v":{"$error":"#REF!"}},{"$f":"#REF!","v":{"$error":"#REF!"}},{"$f":"#REF!","v":{"$error":"#REF!"}},{"$f":"#REF!","v":{"$error":"#REF!"}},{"$f":"#REF!","v":{"$error":"#REF!"}},{"$f":"#REF!","v":{"$error":"#REF!"}},0,0,0,0,{"$nulls":3},{"$f":"#REF!","v":{"$error":"#REF!"}},"/",{"$f":"#REF!","v":{"$error":"#REF!"}},{"$error":"#REF!"},{"$f":"#REF!","v":{"$error":"#REF!"}},"/",{"$f":"#REF!","v":{"$error":"#REF!"}},{"$error":"#REF!"},{"$f":"#REF!","v":{"$error":"#REF!"}},"/",{"$f":"#REF!","v":{"$error":"#REF!"}},{"$error":"#REF!"},{"$f":"#REF!","v":{"$error":"#REF!"}},"/",{"$f":"#REF!","v":{"$error":"#REF!"}},{"$error":"#REF!"}]
[0,10,10,0,{"$nulls":5},{"$f":"#REF!","v":{"$error":"#REF!"}},{"$f":"#REF!","v":{"$error":"#REF!"}},{"$f":"#REF!","v":{"$error":"#REF!"}},{"$f":"#REF!","v":{"$error":"#REF!"}},{"$f":"#REF!","v":{"$error":"#REF!"}},{"$f":"#REF!","v":{"$error":"#REF!"}},0,0,0,0,{"$nulls":3},{"$f":"#REF!","v":{"$error":"#REF!"}},"/",{"$f":"#REF!","v":{"$error":"#REF!"}},{"$error":"#REF!"},{"$f":"#REF!","v":{"$error":"#REF!"}},"/",{"$f":"#REF!","v":{"$error":"#REF!"}},{"$error":"#REF!"},{"$f":"#REF!","v":{"$error":"#REF!"}},"/",{"$f":"#REF!","v":{"$error":"#REF!"}},{"$error":"#REF!"},{"$f":"#REF!","v":{"$error":"#REF!"}},"/",{"$f":"#REF!","v":{"$error":"#REF!"}},{"$error":"#REF!"}]
[0,11,11,0,{"$nulls":5},{"$f":"#REF!","v":{"$error":"#REF!"}},{"$f":"#REF!","v":{"$error":"#REF!"}},{"$f":"#REF!","v":{"$error":"#REF!"}},{"$f":"#REF!","v":{"$error":"#REF!"}},{"$f":"#REF!","v":{"$error":"#REF!"}},{"$f":"#REF!","v":{"$error":"#REF!"}},0,0,0,0,{"$nulls":3},{"$f":"#REF!","v":{"$error":"#REF!"}},"/",{"$f":"#REF!","v":{"$error":"#REF!"}},{"$error":"#REF!"},{"$f":"#REF!","v":{"$error":"#REF!"}},"/",{"$f":"#REF!","v":{"$error":"#REF!"}},{"$error":"#REF!"},{"$f":"#REF!","v":{"$error":"#REF!"}},"/",{"$f":"#REF!","v":{"$error":"#REF!"}},{"$error":"#REF!"},{"$f":"#REF!","v":{"$error":"#REF!"}},"/",{"$f":"#REF!","v":{"$error":"#REF!"}},{"$error":"#REF!"}]
[0,12,12,0,{"$nulls":5},{"$f":"#REF!","v":{"$error":"#REF!"}},{"$f":"#REF!","v":{"$error":"#REF!"}},{"$f":"#REF!","v":{"$error":"#REF!"}},{"$f":"#REF!","v":{"$error":"#REF!"}},{"$f":"#REF!","v":{"$error":"#REF!"}},{"$f":"#REF!","v":{"$error":"#REF!"}},0,0,0,0,{"$nulls":3},{"$f":"#REF!","v":{"$error":"#REF!"}},"/",{"$f":"#REF!","v":{"$error":"#REF!"}},{"$error":"#REF!"},{"$f":"#REF!","v":{"$error":"#REF!"}},"/",{"$f":"#REF!","v":{"$error":"#REF!"}},{"$error":"#REF!"},{"$f":"#REF!","v":{"$error":"#REF!"}},"/",{"$f":"#REF!","v":{"$error":"#REF!"}},{"$error":"#REF!"},{"$f":"#REF!","v":{"$error":"#REF!"}},"/",{"$f":"#REF!","v":{"$error":"#REF!"}},{"$error":"#REF!"}]
[0,13,13,0,{"$nulls":5},{"$f":"#REF!","v":{"$error":"#REF!"}},{"$f":"#REF!","v":{"$error":"#REF!"}},{"$f":"#REF!","v":{"$error":"#REF!"}},{"$f":"#REF!","v":{"$error":"#REF!"}},{"$f":"#REF!","v":{"$error":"#REF!"}},{"$f":"#REF!","v":{"$error":"#REF!"}},0,0,0,0,{"$nulls":3},{"$f":"#REF!","v":{"$error":"#REF!"}},"/",{"$f":"#REF!","v":{"$error":"#REF!"}},{"$error":"#REF!"},{"$f":"#REF!","v":{"$error":"#REF!"}},"/",{"$f":"#REF!","v":{"$error":"#REF!"}},{"$error":"#REF!"},{"$f":"#REF!","v":{"$error":"#REF!"}},"/",{"$f":"#REF!","v":{"$error":"#REF!"}},{"$error":"#REF!"},{"$f":"#REF!","v":{"$error":"#REF!"}},"/",{"$f":"#REF!","v":{"$error":"#REF!"}},{"$error":"#REF!"}]
[0,14,14,0,{"$nulls":5},{"$f":"#REF!","v":{"$error":"#REF!"}},{"$f":"#REF!","v":{"$error":"#REF!"}},{"$f":"#REF!","v":{"$error":"#REF!"}},{"$f":"#REF!","v":{"$error":"#REF!"}},{"$f":"#REF!","v":{"$error":"#REF!"}},{"$f":"#REF!","v":{"$error":"#REF!"}},0,0,0,0,{"$nulls":3},{"$f":"#REF!","v":{"$error":"#REF!"}},"/",{"$f":"#REF!","v":{"$error":"#REF!"}},{"$error":"#REF!"},{"$f":"#REF!","v":{"$error":"#REF!"}},"/",{"$f":"#REF!","v":{"$error":"#REF!"}},{"$error":"#REF!"},{"$f":"#REF!","v":{"$error":"#REF!"}},"/",{"$f":"#REF!","v":{"$error":"#REF!"}},{"$error":"#REF!"},{"$f":"#REF!","v":{"$error":"#REF!"}},"/",{"$f":"#REF!","v":{"$error":"#REF!"}},{"$error":"#REF!"}]
[0,15,15,0,{"$nulls":5},{"$f":"#REF!","v":{"$error":"#REF!"}},{"$f":"#REF!","v":{"$error":"#REF!"}},{"$f":"#REF!","v":{"$error":"#REF!"}},{"$f":"#REF!","v":{"$error":"#REF!"}},{"$f":"#REF!","v":{"$error":"#REF!"}},{"$f":"#REF!","v":{"$error":"#REF!"}},0,0,0,0,{"$nulls":3},{"$f":"#REF!","v":{"$error":"#REF!"}},"/",{"$f":"#REF!","v":{"$error":"#REF!"}},{"$error":"#REF!"},{"$f":"#REF!","v":{"$error":"#REF!"}},"/",{"$f":"#REF!","v":{"$error":"#REF!"}},{"$error":"#REF!"},{"$f":"#REF!","v":{"$error":"#REF!"}},"/",{"$f":"#REF!","v":{"$error":"#REF!"}},{"$error":"#REF!"},{"$f":"#REF!","v":{"$error":"#REF!"}},"/",{"$f":"#REF!","v":{"$error":"#REF!"}},{"$error":"#REF!"}]
[0,16,16,0,{"$nulls":5},{"$f":"#REF!","v":{"$error":"#REF!"}},{"$f":"#REF!","v":{"$error":"#REF!"}},{"$f":"#REF!","v":{"$error":"#REF!"}},{"$f":"#REF!","v":{"$error":"#REF!"}},{"$f":"#REF!","v":{"$error":"#REF!"}},{"$f":"#REF!","v":{"$error":"#REF!"}},0,0,0,0,{"$nulls":3},{"$f":"#REF!","v":{"$error":"#REF!"}},"/",{"$f":"#REF!","v":{"$error":"#REF!"}},{"$error":"#REF!"},{"$f":"#REF!","v":{"$error":"#REF!"}},"/",{"$f":"#REF!","v":{"$error":"#REF!"}},{"$error":"#REF!"},{"$f":"#REF!","v":{"$error":"#REF!"}},"/",{"$f":"#REF!","v":{"$error":"#REF!"}},{"$error":"#REF!"},{"$f":"#REF!","v":{"$error":"#REF!"}},"/",{"$f":"#REF!","v":{"$error":"#REF!"}},{"$error":"#REF!"}]
[0,17,17,0,{"$nulls":5},{"$f":"#REF!","v":{"$error":"#REF!"}},{"$f":"#REF!","v":{"$error":"#REF!"}},{"$f":"#REF!","v":{"$error":"#REF!"}},{"$f":"#REF!","v":{"$error":"#REF!"}},{"$f":"#REF!","v":{"$error":"#REF!"}},{"$f":"#REF!","v":{"$error":"#REF!"}},0,0,0,0,{"$nulls":3},{"$f":"#REF!","v":{"$error":"#REF!"}},"/",{"$f":"#REF!","v":{"$error":"#REF!"}},{"$error":"#REF!"},{"$f":"#REF!","v":{"$error":"#REF!"}},"/",{"$f":"#REF!","v":{"$error":"#REF!"}},{"$error":"#REF!"},{"$f":"#REF!","v":{"$error":"#REF!"}},"/",{"$f":"#REF!","v":{"$error":"#REF!"}},{"$error":"#REF!"},{"$f":"#REF!","v":{"$error":"#REF!"}},"/",{"$f":"#REF!","v":{"$error":"#REF!"}},{"$error":"#REF!"}]
[0,18,18,0,{"$nulls":5},{"$f":"#REF!","v":{"$error":"#REF!"}},{"$f":"#REF!","v":{"$error":"#REF!"}},{"$f":"#REF!","v":{"$error":"#REF!"}},{"$f":"#REF!","v":{"$error":"#REF!"}},{"$f":"#REF!","v":{"$error":"#REF!"}},{"$f":"#REF!","v":{"$error":"#REF!"}},0,0,0,0,{"$nulls":3},{"$f":"#REF!","v":{"$error":"#REF!"}},"/",{"$f":"#REF!","v":{"$error":"#REF!"}},{"$error":"#REF!"},{"$f":"#REF!","v":{"$error":"#REF!"}},"/",{"$f":"#REF!","v":{"$error":"#REF!"}},{"$error":"#REF!"},{"$f":"#REF!","v":{"$error":"#REF!"}},"/",{"$f":"#REF!","v":{"$error":"#REF!"}},{"$error":"#REF!"},{"$f":"#REF!","v":{"$error":"#REF!"}},"/",{"$f":"#REF!","v":{"$error":"#REF!"}},{"$error":"#REF!"}]
[0,19,19,0,{"$nulls":5},{"$f":"#REF!","v":{"$error":"#REF!"}},{"$f":"#REF!","v":{"$error":"#REF!"}},{"$f":"#REF!","v":{"$error":"#REF!"}},{"$f":"#REF!","v":{"$error":"#REF!"}},{"$f":"#REF!","v":{"$error":"#REF!"}},{"$f":"#REF!","v":{"$error":"#REF!"}},0,0,0,0,{"$nulls":3},{"$f":"#REF!","v":{"$error":"#REF!"}},"/",{"$f":"#REF!","v":{"$error":"#REF!"}},{"$error":"#REF!"},{"$f":"#REF!","v":{"$error":"#REF!"}},"/",{"$f":"#REF!","v":{"$error":"#REF!"}},{"$error":"#REF!"},{"$f":"#REF!","v":{"$error":"#REF!"}},"/",{"$f":"#REF!","v":{"$error":"#REF!"}},{"$error":"#REF!"},{"$f":"#REF!","v":{"$error":"#REF!"}},"/",{"$f":"#REF!","v":{"$error":"#REF!"}},{"$error":"#REF!"}]
[0,20,20,0,{"$nulls":5},{"$f":"#REF!","v":{"$error":"#REF!"}},{"$f":"#REF!","v":{"$error":"#REF!"}},{"$f":"#REF!","v":{"$error":"#REF!"}},{"$f":"#REF!","v":{"$error":"#REF!"}},{"$f":"#REF!","v":{"$error":"#REF!"}},{"$f":"#REF!","v":{"$error":"#REF!"}},0,0,0,0,{"$nulls":3},{"$f":"#REF!","v":{"$error":"#REF!"}},"/",{"$f":"#REF!","v":{"$error":"#REF!"}},{"$error":"#REF!"},{"$f":"#REF!","v":{"$error":"#REF!"}},"/",{"$f":"#REF!","v":{"$error":"#REF!"}},{"$error":"#REF!"},{"$f":"#REF!","v":{"$error":"#REF!"}},"/",{"$f":"#REF!","v":{"$error":"#REF!"}},{"$error":"#REF!"},{"$f":"#REF!","v":{"$error":"#REF!"}},"/",{"$f":"#REF!","v":{"$error":"#REF!"}},{"$error":"#REF!"}]
[0,21,21,0,{"$nulls":5},{"$f":"#REF!","v":{"$error":"#REF!"}},{"$f":"#REF!","v":{"$error":"#REF!"}},{"$f":"#REF!","v":{"$error":"#REF!"}},{"$f":"#REF!","v":{"$error":"#REF!"}},{"$f":"#REF!","v":{"$error":"#REF!"}},{"$f":"#REF!","v":{"$error":"#REF!"}},0,0,0,0,{"$nulls":3},{"$f":"#REF!","v":{"$error":"#REF!"}},"/",{"$f":"#REF!","v":{"$error":"#REF!"}},{"$error":"#REF!"},{"$f":"#REF!","v":{"$error":"#REF!"}},"/",{"$f":"#REF!","v":{"$error":"#REF!"}},{"$error":"#REF!"},{"$f":"#REF!","v":{"$error":"#REF!"}},"/",{"$f":"#REF!","v":{"$error":"#REF!"}},{"$error":"#REF!"},{"$f":"#REF!","v":{"$error":"#REF!"}},"/",{"$f":"#REF!","v":{"$error":"#REF!"}},{"$error":"#REF!"}]
[0,22,22,0,{"$nulls":5},{"$f":"#REF!","v":{"$error":"#REF!"}},{"$f":"#REF!","v":{"$error":"#REF!"}},{"$f":"#REF!","v":{"$error":"#REF!"}},{"$f":"#REF!","v":{"$error":"#REF!"}},{"$f":"#REF!","v":{"$error":"#REF!"}},{"$f":"#REF!","v":{"$error":"#REF!"}},0,0,0,0,{"$nulls":3},{"$f":"#REF!","v":{"$error":"#REF!"}},"/",{"$f":"#REF!","v":{"$error":"#REF!"}},{"$error":"#REF!"},{"$f":"#REF!","v":{"$error":"#REF!"}},"/",{"$f":"#REF!","v":{"$error":"#REF!"}},{"$error":"#REF!"},{"$f":"#REF!","v":{"$error":"#REF!"}},"/",{"$f":"#REF!","v":{"$error":"#REF!"}},{"$error":"#REF!"},{"$f":"#REF!","v":{"$error":"#REF!"}},"/",{"$f":"#REF!","v":{"$error":"#REF!"}},{"$error":"#REF!"}]
[0,23,23,0,{"$nulls":5},{"$f":"#REF!","v":{"$error":"#REF!"}},{"$f":"#REF!","v":{"$error":"#REF!"}},{"$f":"#REF!","v":{"$error":"#REF!"}},{"$f":"#REF!","v":{"$error":"#REF!"}},{"$f":"#REF!","v":{"$error":"#REF!"}},{"$f":"#REF!","v":{"$error":"#REF!"}},0,0,0,0,{"$nulls":3},{"$f":"#REF!","v":{"$error":"#REF!"}},"/",{"$f":"#REF!","v":{"$error":"#REF!"}},{"$error":"#REF!"},{"$f":"#REF!","v":{"$error":"#REF!"}},"/",{"$f":"#REF!","v":{"$error":"#REF!"}},{"$error":"#REF!"},{"$f":"#REF!","v":{"$error":"#REF!"}},"/",{"$f":"#REF!","v":{"$error":"#REF!"}},{"$error":"#REF!"},{"$f":"#REF!","v":{"$error":"#REF!"}},"/",{"$f":"#REF!","v":{"$error":"#REF!"}},{"$error":"#REF!"}]
[0,24,24,0,{"$nulls":5},{"$f":"#REF!","v":{"$error":"#REF!"}},{"$f":"#REF!","v":{"$error":"#REF!"}},{"$f":"#REF!","v":{"$error":"#REF!"}},{"$f":"#REF!","v":{"$error":"#REF!"}},{"$f":"#REF!","v":{"$error":"#REF!"}},{"$f":"#REF!","v":{"$error":"#REF!"}},0,0,0,0,{"$nulls":3},{"$f":"#REF!","v":{"$error":"#REF!"}},"/",{"$f":"#REF!","v":{"$error":"#REF!"}},{"$error":"#REF!"},{"$f":"#REF!","v":{"$error":"#REF!"}},"/",{"$f":"#REF!","v":{"$error":"#REF!"}},{"$error":"#REF!"},{"$f":"#REF!","v":{"$error":"#REF!"}},"/",{"$f":"#REF!","v":{"$error":"#REF!"}},{"$error":"#REF!"},{"$f":"#REF!","v":{"$error":"#REF!"}},"/",{"$f":"#REF!","v":{"$error":"#REF!"}},{"$error":"#REF!"}]
[0,25,25,0,{"$nulls":5},{"$f":"#REF!","v":{"$error":"#REF!"}},{"$f":"#REF!","v":{"$error":"#REF!"}},{"$f":"#REF!","v":{"$error":"#REF!"}},{"$f":"#REF!","v":{"$error":"#REF!"}},{"$f":"#REF!","v":{"$error":"#REF!"}},{"$f":"#REF!","v":{"$error":"#REF!"}},0,0,0,0,{"$nulls":3},{"$f":"#REF!","v":{"$error":"#REF!"}},"/",{"$f":"#REF!","v":{"$error":"#REF!"}},{"$error":"#REF!"},{"$f":"#REF!","v":{"$error":"#REF!"}},"/",{"$f":"#REF!","v":{"$error":"#REF!"}},{"$error":"#REF!"},{"$f":"#REF!","v":{"$error":"#REF!"}},"/",{"$f":"#REF!","v":{"$error":"#REF!"}},{"$error":"#REF!"},{"$f":"#REF!","v":{"$error":"#REF!"}},"/",{"$f":"#REF!","v":{"$error":"#REF!"}},{"$error":"#REF!"}]
[0,26,26,0,{"$nulls":5},{"$f":"#REF!","v":{"$error":"#REF!"}},{"$f":"#REF!","v":{"$error":"#REF!"}},{"$f":"#REF!","v":{"$error":"#REF!"}},{"$f":"#REF!","v":{"$error":"#REF!"}},{"$f":"#REF!","v":{"$error":"#REF!"}},{"$f":"#REF!","v":{"$error":"#REF!"}},0,0,0,0,{"$nulls":3},{"$f":"#REF!","v":{"$error":"#REF!"}},"/",{"$f":"#REF!","v":{"$error":"#REF!"}},{"$error":"#REF!"},{"$f":"#REF!","v":{"$error":"#REF!"}},"/",{"$f":"#REF!","v":{"$error":"#REF!"}},{"$error":"#REF!"},{"$f":"#REF!","v":{"$error":"#REF!"}},"/",{"$f":"#REF!","v":{"$error":"#REF!"}},{"$error":"#REF!"},{"$f":"#REF!","v":{"$error":"#REF!"}},"/",{"$f":"#REF!","v":{"$error":"#REF!"}},{"$error":"#REF!"}]
[0,27,27,0,{"$nulls":5},{"$f":"#REF!","v":{"$error":"#REF!"}},{"$f":"#REF!","v":{"$error":"#REF!"}},{"$f":"#REF!","v":{"$error":"#REF!"}},{"$f":"#REF!","v":{"$error":"#REF!"}},{"$f":"#REF!","v":{"$error":"#REF!"}},{"$f":"#REF!","v":{"$error":"#REF!"}},0,0,0,0,{"$nulls":3},{"$f":"#REF!","v":{"$error":"#REF!"}},"/",{"$f":"#REF!","v":{"$error":"#REF!"}},{"$error":"#REF!"},{"$f":"#REF!","v":{"$error":"#REF!"}},"/",{"$f":"#REF!","v":{"$error":"#REF!"}},{"$error":"#REF!"},{"$f":"#REF!","v":{"$error":"#REF!"}},"/",{"$f":"#REF!","v":{"$error":"#REF!"}},{"$error":"#REF!"},{"$f":"#REF!","v":{"$error":"#REF!"}},"/",{"$f":"#REF!","v":{"$error":"#REF!"}},{"$error":"#REF!"}]
[0,28,28,0,{"$nulls":5},{"$f":"#REF!","v":{"$error":"#REF!"}},{"$f":"#REF!","v":{"$error":"#REF!"}},{"$f":"#REF!","v":{"$error":"#REF!"}},{"$f":"#REF!","v":{"$error":"#REF!"}},{"$f":"#REF!","v":{"$error":"#REF!"}},{"$f":"#REF!","v":{"$error":"#REF!"}},0,0,0,0,{"$nulls":3},{"$f":"#REF!","v":{"$error":"#REF!"}},"/",{"$f":"#REF!","v":{"$error":"#REF!"}},{"$error":"#REF!"},{"$f":"#REF!","v":{"$error":"#REF!"}},"/",{"$f":"#REF!","v":{"$error":"#REF!"}},{"$error":"#REF!"},{"$f":"#REF!","v":{"$error":"#REF!"}},"/",{"$f":"#REF!","v":{"$error":"#REF!"}},{"$error":"#REF!"},{"$f":"#REF!","v":{"$error":"#REF!"}},"/",{"$f":"#REF!","v":{"$error":"#REF!"}},{"$error":"#REF!"}]
[0,29,29,0,{"$nulls":5},{"$f":"#REF!","v":{"$error":"#REF!"}},{"$f":"#REF!","v":{"$error":"#REF!"}},{"$f":"#REF!","v":{"$error":"#REF!"}},{"$f":"#REF!","v":{"$error":"#REF!"}},{"$f":"#REF!","v":{"$error":"#REF!"}},{"$f":"#REF!","v":{"$error":"#REF!"}},0,0,0,0,{"$nulls":3},{"$f":"#REF!","v":{"$error":"#REF!"}},"/",{"$f":"#REF!","v":{"$error":"#REF!"}},{"$error":"#REF!"},{"$f":"#REF!","v":{"$error":"#REF!"}},"/",{"$f":"#REF!","v":{"$error":"#REF!"}},{"$error":"#REF!"},{"$f":"#REF!","v":{"$error":"#REF!"}},"/",{"$f":"#REF!","v":{"$error":"#REF!"}},{"$error":"#REF!"},{"$f":"#REF!","v":{"$error":"#REF!"}},"/",{"$f":"#REF!","v":{"$error":"#REF!"}},{"$error":"#REF!"}]
[0,30,30,0,{"$nulls":5},{"$f":"#REF!","v":{"$error":"#REF!"}},{"$f":"#REF!","v":{"$error":"#REF!"}},{"$f":"#REF!","v":{"$error":"#REF!"}},{"$f":"#REF!","v":{"$error":"#REF!"}},{"$f":"#REF!","v":{"$error":"#REF!"}},{"$f":"#REF!","v":{"$error":"#REF!"}},0,0,0,0,{"$nulls":3},{"$f":"#REF!","v":{"$error":"#REF!"}},"/",{"$f":"#REF!","v":{"$error":"#REF!"}},{"$error":"#REF!"},{"$f":"#REF!","v":{"$error":"#REF!"}},"/",{"$f":"#REF!","v":{"$error":"#REF!"}},{"$error":"#REF!"},{"$f":"#REF!","v":{"$error":"#REF!"}},"/",{"$f":"#REF!","v":{"$error":"#REF!"}},{"$error":"#REF!"},{"$f":"#REF!","v":{"$error":"#REF!"}},"/",{"$f":"#REF!","v":{"$error":"#REF!"}},{"$error":"#REF!"}]
[0,31,31,0,{"$nulls":5},{"$f":"#REF!","v":{"$error":"#REF!"}},{"$f":"#REF!","v":{"$error":"#REF!"}},{"$f":"#REF!","v":{"$error":"#REF!"}},{"$f":"#REF!","v":{"$error":"#REF!"}},{"$f":"#REF!","v":{"$error":"#REF!"}},{"$f":"#REF!","v":{"$error":"#REF!"}},0,0,0,0,{"$nulls":3},{"$f":"#REF!","v":{"$error":"#REF!"}},"/",{"$f":"#REF!","v":{"$error":"#REF!"}},{"$error":"#REF!"},{"$f":"#REF!","v":{"$error":"#REF!"}},"/",{"$f":"#REF!","v":{"$error":"#REF!"}},{"$error":"#REF!"},{"$f":"#REF!","v":{"$error":"#REF!"}},"/",{"$f":"#REF!","v":{"$error":"#REF!"}},{"$error":"#REF!"},{"$f":"#REF!","v":{"$error":"#REF!"}},"/",{"$f":"#REF!","v":{"$error":"#REF!"}},{"$error":"#REF!"}]
[0,32,32,0,{"$nulls":5},{"$f":"#REF!","v":{"$error":"#REF!"}},{"$f":"#REF!","v":{"$error":"#REF!"}},{"$f":"#REF!","v":{"$error":"#REF!"}},{"$f":"#REF!","v":{"$error":"#REF!"}},{"$f":"#REF!","v":{"$error":"#REF!"}},{"$f":"#REF!","v":{"$error":"#REF!"}},0,0,0,0,{"$nulls":3},{"$f":"#REF!","v":{"$error":"#REF!"}},"/",{"$f":"#REF!","v":{"$error":"#REF!"}},{"$error":"#REF!"},{"$f":"#REF!","v":{"$error":"#REF!"}},"/",{"$f":"#REF!","v":{"$error":"#REF!"}},{"$error":"#REF!"},{"$f":"#REF!","v":{"$error":"#REF!"}},"/",{"$f":"#REF!","v":{"$error":"#REF!"}},{"$error":"#REF!"},{"$f":"#REF!","v":{"$error":"#REF!"}},"/",{"$f":"#REF!","v":{"$error":"#REF!"}},{"$error":"#REF!"}]
[0,33,33,0,{"$nulls":5},{"$f":"#REF!","v":{"$error":"#REF!"}},{"$f":"#REF!","v":{"$error":"#REF!"}},{"$f":"#REF!","v":{"$error":"#REF!"}},{"$f":"#REF!","v":{"$error":"#REF!"}},{"$f":"#REF!","v":{"$error":"#REF!"}},{"$f":"#REF!","v":{"$error":"#REF!"}},0,0,0,0,{"$nulls":3},{"$f":"#REF!","v":{"$error":"#REF!"}},"/",{"$f":"#REF!","v":{"$error":"#REF!"}},{"$error":"#REF!"},{"$f":"#REF!","v":{"$error":"#REF!"}},"/",{"$f":"#REF!","v":{"$error":"#REF!"}},{"$error":"#REF!"},{"$f":"#REF!","v":{"$error":"#REF!"}},"/",{"$f":"#REF!","v":{"$error":"#REF!"}},{"$error":"#REF!"},{"$f":"#REF!","v":{"$error":"#REF!"}},"/",{"$f":"#REF!","v":{"$error":"#REF!"}},{"$error":"#REF!"}]
[0,34,34,0,{"$nulls":5},{"$f":"#REF!","v":{"$error":"#REF!"}},{"$f":"#REF!","v":{"$error":"#REF!"}},{"$f":"#REF!","v":{"$error":"#REF!"}},{"$f":"#REF!","v":{"$error":"#REF!"}},{"$f":"#REF!","v":{"$error":"#REF!"}},{"$f":"#REF!","v":{"$error":"#REF!"}},0,0,0,0,{"$nulls":3},{"$f":"#REF!","v":{"$error":"#REF!"}},"/",{"$f":"#REF!","v":{"$error":"#REF!"}},{"$error":"#REF!"},{"$f":"#REF!","v":{"$error":"#REF!"}},"/",{"$f":"#REF!","v":{"$error":"#REF!"}},{"$error":"#REF!"},{"$f":"#REF!","v":{"$error":"#REF!"}},"/",{"$f":"#REF!","v":{"$error":"#REF!"}},{"$error":"#REF!"},{"$f":"#REF!","v":{"$error":"#REF!"}},"/",{"$f":"#REF!","v":{"$error":"#REF!"}},{"$error":"#REF!"}]
[0,35,35,0,{"$nulls":5},{"$f":"#REF!","v":{"$error":"#REF!"}},{"$f":"#REF!","v":{"$error":"#REF!"}},{"$f":"#REF!","v":{"$error":"#REF!"}},{"$f":"#REF!","v":{"$error":"#REF!"}},{"$f":"#REF!","v":{"$error":"#REF!"}},{"$f":"#REF!","v":{"$error":"#REF!"}},0,0,0,0,{"$nulls":3},{"$f":"#REF!","v":{"$error":"#REF!"}},"/",{"$f":"#REF!","v":{"$error":"#REF!"}},{"$error":"#REF!"},{"$f":"#REF!","v":{"$error":"#REF!"}},"/",{"$f":"#REF!","v":{"$error":"#REF!"}},{"$error":"#REF!"},{"$f":"#REF!","v":{"$error":"#REF!"}},"/",{"$f":"#REF!","v":{"$error":"#REF!"}},{"$error":"#REF!"},{"$f":"#REF!","v":{"$error":"#REF!"}},"/",{"$f":"#REF!","v":{"$error":"#REF!"}},{"$error":"#REF!"}]
[0,36,36,0,{"$nulls":5},{"$f":"#REF!","v":{"$error":"#REF!"}},{"$f":"#REF!","v":{"$error":"#REF!"}},{"$f":"#REF!","v":{"$error":"#REF!"}},{"$f":"#REF!","v":{"$error":"#REF!"}},{"$f":"#REF!","v":{"$error":"#REF!"}},{"$f":"#REF!","v":{"$error":"#REF!"}},0,0,0,0,{"$nulls":3},{"$f":"#REF!","v":{"$error":"#REF!"}},"/",{"$f":"#REF!","v":{"$error":"#REF!"}},{"$error":"#REF!"},{"$f":"#REF!","v":{"$error":"#REF!"}},"/",{"$f":"#REF!","v":{"$error":"#REF!"}},{"$error":"#REF!"},{"$f":"#REF!","v":{"$error":"#REF!"}},"/",{"$f":"#REF!","v":{"$error":"#REF!"}},{"$error":"#REF!"},{"$f":"#REF!","v":{"$error":"#REF!"}},"/",{"$f":"#REF!","v":{"$error":"#REF!"}},{"$error":"#REF!"}]
[0,37,37,0,{"$nulls":5},{"$f":"#REF!","v":{"$error":"#REF!"}},{"$f":"#REF!","v":{"$error":"#REF!"}},{"$f":"#REF!","v":{"$error":"#REF!"}},{"$f":"#REF!","v":{"$error":"#REF!"}},{"$f":"#REF!","v":{"$error":"#REF!"}},{"$f":"#REF!","v":{"$error":"#REF!"}},0,0,0,0,{"$nulls":3},{"$f":"#REF!","v":{"$error":"#REF!"}},"/",{"$f":"#REF!","v":{"$error":"#REF!"}},{"$error":"#REF!"},{"$f":"#REF!","v":{"$error":"#REF!"}},"/",{"$f":"#REF!","v":{"$error":"#REF!"}},{"$error":"#REF!"},{"$f":"#REF!","v":{"$error":"#REF!"}},"/",{"$f":"#REF!","v":{"$error":"#REF!"}},{"$error":"#REF!"},{"$f":"#REF!","v":{"$error":"#REF!"}},"/",{"$f":"#REF!","v":{"$error":"#REF!"}},{"$error":"#REF!"}]
[0,38,38,0,{"$nulls":5},{"$f":"#REF!","v":{"$error":"#REF!"}},{"$f":"#REF!","v":{"$error":"#REF!"}},{"$f":"#REF!","v":{"$error":"#REF!"}},{"$f":"#REF!","v":{"$error":"#REF!"}},{"$f":"#REF!","v":{"$error":"#REF!"}},{"$f":"#REF!","v":{"$error":"#REF!"}},0,0,0,0,{"$nulls":3},{"$f":"#REF!","v":{"$error":"#REF!"}},"/",{"$f":"#REF!","v":{"$error":"#REF!"}},{"$error":"#REF!"},{"$f":"#REF!","v":{"$error":"#REF!"}},"/",{"$f":"#REF!","v":{"$error":"#REF!"}},{"$error":"#REF!"},{"$f":"#REF!","v":{"$error":"#REF!"}},"/",{"$f":"#REF!","v":{"$error":"#REF!"}},{"$error":"#REF!"},{"$f":"#REF!","v":{"$error":"#REF!"}},"/",{"$f":"#REF!","v":{"$error":"#REF!"}},{"$error":"#REF!"}]
[0,39,39,0,{"$nulls":5},{"$f":"#REF!","v":{"$error":"#REF!"}},{"$f":"#REF!","v":{"$error":"#REF!"}},{"$f":"#REF!","v":{"$error":"#REF!"}},{"$f":"#REF!","v":{"$error":"#REF!"}},{"$f":"#REF!","v":{"$error":"#REF!"}},{"$f":"#REF!","v":{"$error":"#REF!"}},0,0,0,0,{"$nulls":3},{"$f":"#REF!","v":{"$error":"#REF!"}},"/",{"$f":"#REF!","v":{"$error":"#REF!"}},{"$error":"#REF!"},{"$f":"#REF!","v":{"$error":"#REF!"}},"/",{"$f":"#REF!","v":{"$error":"#REF!"}},{"$error":"#REF!"},{"$f":"#REF!","v":{"$error":"#REF!"}},"/",{"$f":"#REF!","v":{"$error":"#REF!"}},{"$error":"#REF!"},{"$f":"#REF!","v":{"$error":"#REF!"}},"/",{"$f":"#REF!","v":{"$error":"#REF!"}},{"$error":"#REF!"}]
[0,40,40,0,{"$nulls":5},{"$f":"#REF!","v":{"$error":"#REF!"}},{"$f":"#REF!","v":{"$error":"#REF!"}},{"$f":"#REF!","v":{"$error":"#REF!"}},{"$f":"#REF!","v":{"$error":"#REF!"}},{"$f":"#REF!","v":{"$error":"#REF!"}},{"$f":"#REF!","v":{"$error":"#REF!"}},0,0,0,0,{"$nulls":3},{"$f":"#REF!","v":{"$error":"#REF!"}},"/",{"$f":"#REF!","v":{"$error":"#REF!"}},{"$error":"#REF!"},{"$f":"#REF!","v":{"$error":"#REF!"}},"/",{"$f":"#REF!","v":{"$error":"#REF!"}},{"$error":"#REF!"},{"$f":"#REF!","v":{"$error":"#REF!"}},"/",{"$f":"#REF!","v":{"$error":"#REF!"}},{"$error":"#REF!"},{"$f":"#REF!","v":{"$error":"#REF!"}},"/",{"$f":"#REF!","v":{"$error":"#REF!"}},{"$error":"#REF!"}]
[0,41,41,0,{"$nulls":5},{"$f":"#REF!","v":{"$error":"#REF!"}},{"$f":"#REF!","v":{"$error":"#REF!"}},{"$f":"#REF!","v":{"$error":"#REF!"}},{"$f":"#REF!","v":{"$error":"#REF!"}},{"$f":"#REF!","v":{"$error":"#REF!"}},{"$f":"#REF!","v":{"$error":"#REF!"}},0,0,0,0,{"$nulls":3},{"$f":"#REF!","v":{"$error":"#REF!"}},"/",{"$f":"#REF!","v":{"$error":"#REF!"}},{"$error":"#REF!"},{"$f":"#REF!","v":{"$error":"#REF!"}},"/",{"$f":"#REF!","v":{"$error":"#REF!"}},{"$error":"#REF!"},{"$f":"#REF!","v":{"$error":"#REF!"}},"/",{"$f":"#REF!","v":{"$error":"#REF!"}},{"$error":"#REF!"},{"$f":"#REF!","v":{"$error":"#REF!"}},"/",{"$f":"#REF!","v":{"$error":"#REF!"}},{"$error":"#REF!"}]
[0,42,42,0,{"$nulls":5},{"$f":"#REF!","v":{"$error":"#REF!"}},{"$f":"#REF!","v":{"$error":"#REF!"}},{"$f":"#REF!","v":{"$error":"#REF!"}},{"$f":"#REF!","v":{"$error":"#REF!"}},{"$f":"#REF!","v":{"$error":"#REF!"}},{"$f":"#REF!","v":{"$error":"#REF!"}},0,0,0,0,{"$nulls":3},{"$f":"#REF!","v":{"$error":"#REF!"}},"/",{"$f":"#REF!","v":{"$error":"#REF!"}},{"$error":"#REF!"},{"$f":"#REF!","v":{"$error":"#REF!"}},"/",{"$f":"#REF!","v":{"$error":"#REF!"}},{"$error":"#REF!"},{"$f":"#REF!","v":{"$error":"#REF!"}},"/",{"$f":"#REF!","v":{"$error":"#REF!"}},{"$error":"#REF!"},{"$f":"#REF!","v":{"$error":"#REF!"}},"/",{"$f":"#REF!","v":{"$error":"#REF!"}},{"$error":"#REF!"}]
[0,43,43,0,{"$nulls":5},{"$f":"#REF!","v":{"$error":"#REF!"}},{"$f":"#REF!","v":{"$error":"#REF!"}},{"$f":"#REF!","v":{"$error":"#REF!"}},{"$f":"#REF!","v":{"$error":"#REF!"}},{"$f":"#REF!","v":{"$error":"#REF!"}},{"$f":"#REF!","v":{"$error":"#REF!"}},0,0,0,0,{"$nulls":3},{"$f":"#REF!","v":{"$error":"#REF!"}},"/",{"$f":"#REF!","v":{"$error":"#REF!"}},{"$error":"#REF!"},{"$f":"#REF!","v":{"$error":"#REF!"}},"/",{"$f":"#REF!","v":{"$error":"#REF!"}},{"$error":"#REF!"},{"$f":"#REF!","v":{"$error":"#REF!"}},"/",{"$f":"#REF!","v":{"$error":"#REF!"}},{"$error":"#REF!"},{"$f":"#REF!","v":{"$error":"#REF!"}},"/",{"$f":"#REF!","v":{"$error":"#REF!"}},{"$error":"#REF!"}]
[0,44,44,0,{"$nulls":5},{"$f":"#REF!","v":{"$error":"#REF!"}},{"$f":"#REF!","v":{"$error":"#REF!"}},{"$f":"#REF!","v":{"$error":"#REF!"}},{"$f":"#REF!","v":{"$error":"#REF!"}},{"$f":"#REF!","v":{"$error":"#REF!"}},{"$f":"#REF!","v":{"$error":"#REF!"}},0,0,0,0,{"$nulls":3},{"$f":"#REF!","v":{"$error":"#REF!"}},"/",{"$f":"#REF!","v":{"$error":"#REF!"}},{"$error":"#REF!"},{"$f":"#REF!","v":{"$error":"#REF!"}},"/",{"$f":"#REF!","v":{"$error":"#REF!"}},{"$error":"#REF!"},{"$f":"#REF!","v":{"$error":"#REF!"}},"/",{"$f":"#REF!","v":{"$error":"#REF!"}},{"$error":"#REF!"},{"$f":"#REF!","v":{"$error":"#REF!"}},"/",{"$f":"#REF!","v":{"$error":"#REF!"}},{"$error":"#REF!"}]
[0,45,45,0,{"$nulls":5},{"$f":"#REF!","v":{"$error":"#REF!"}},{"$f":"#REF!","v":{"$error":"#REF!"}},{"$f":"#REF!","v":{"$error":"#REF!"}},{"$f":"#REF!","v":{"$error":"#REF!"}},{"$f":"#REF!","v":{"$error":"#REF!"}},{"$f":"#REF!","v":{"$error":"#REF!"}},0,0,0,0,{"$nulls":3},{"$f":"#REF!","v":{"$error":"#REF!"}},"/",{"$f":"#REF!","v":{"$error":"#REF!"}},{"$error":"#REF!"},{"$f":"#REF!","v":{"$error":"#REF!"}},"/",{"$f":"#REF!","v":{"$error":"#REF!"}},{"$error":"#REF!"},{"$f":"#REF!","v":{"$error":"#REF!"}},"/",{"$f":"#REF!","v":{"$error":"#REF!"}},{"$error":"#REF!"},{"$f":"#REF!","v":{"$error":"#REF!"}},"/",{"$f":"#REF!","v":{"$error":"#REF!"}},{"$error":"#REF!"}]
[0,46,46,0,{"$nulls":5},{"$f":"#REF!","v":{"$error":"#REF!"}},{"$f":"#REF!","v":{"$error":"#REF!"}},{"$f":"#REF!","v":{"$error":"#REF!"}},{"$f":"#REF!","v":{"$error":"#REF!"}},{"$f":"#REF!","v":{"$error":"#REF!"}},{"$f":"#REF!","v":{"$error":"#REF!"}},0,0,0,0,{"$nulls":3},{"$f":"#REF!","v":{"$error":"#REF!"}},"/",{"$f":"#REF!","v":{"$error":"#REF!"}},{"$error":"#REF!"},{"$f":"#REF!","v":{"$error":"#REF!"}},"/",{"$f":"#REF!","v":{"$error":"#REF!"}},{"$error":"#REF!"},{"$f":"#REF!","v":{"$error":"#REF!"}},"/",{"$f":"#REF!","v":{"$error":"#REF!"}},{"$error":"#REF!"},{"$f":"#REF!","v":{"$error":"#REF!"}},"/",{"$f":"#REF!","v":{"$error":"#REF!"}},{"$error":"#REF!"}]
[0,47,47,0,{"$nulls":5},{"$f":"#REF!","v":{"$error":"#REF!"}},{"$f":"#REF!","v":{"$error":"#REF!"}},{"$f":"#REF!","v":{"$error":"#REF!"}},{"$f":"#REF!","v":{"$error":"#REF!"}},{"$f":"#REF!","v":{"$error":"#REF!"}},{"$f":"#REF!","v":{"$error":"#REF!"}},0,0,0,0,{"$nulls":3},{"$f":"#REF!","v":{"$error":"#REF!"}},"/",{"$f":"#REF!","v":{"$error":"#REF!"}},{"$error":"#REF!"},{"$f":"#REF!","v":{"$error":"#REF!"}},"/",{"$f":"#REF!","v":{"$error":"#REF!"}},{"$error":"#REF!"},{"$f":"#REF!","v":{"$error":"#REF!"}},"/",{"$f":"#REF!","v":{"$error":"#REF!"}},{"$error":"#REF!"},{"$f":"#REF!","v":{"$error":"#REF!"}},"/",{"$f":"#REF!","v":{"$error":"#REF!"}},{"$error":"#REF!"}]
[0,48,48,0,{"$nulls":5},{"$f":"#REF!","v":{"$error":"#REF!"}},{"$f":"#REF!","v":{"$error":"#REF!"}},{"$f":"#REF!","v":{"$error":"#REF!"}},{"$f":"#REF!","v":{"$error":"#REF!"}},{"$f":"#REF!","v":{"$error":"#REF!"}},{"$f":"#REF!","v":{"$error":"#REF!"}},0,0,0,0,{"$nulls":3},{"$f":"#REF!","v":{"$error":"#REF!"}},"/",{"$f":"#REF!","v":{"$error":"#REF!"}},{"$error":"#REF!"},{"$f":"#REF!","v":{"$error":"#REF!"}},"/",{"$f":"#REF!","v":{"$error":"#REF!"}},{"$error":"#REF!"},{"$f":"#REF!","v":{"$error":"#REF!"}},"/",{"$f":"#REF!","v":{"$error":"#REF!"}},{"$error":"#REF!"},{"$f":"#REF!","v":{"$error":"#REF!"}},"/",{"$f":"#REF!","v":{"$error":"#REF!"}},{"$error":"#REF!"}]
[0,49,49,0,{"$nulls":5},{"$f":"#REF!","v":{"$error":"#REF!"}},{"$f":"#REF!","v":{"$error":"#REF!"}},{"$f":"#REF!","v":{"$error":"#REF!"}},{"$f":"#REF!","v":{"$error":"#REF!"}},{"$f":"#REF!","v":{"$error":"#REF!"}},{"$f":"#REF!","v":{"$error":"#REF!"}},0,0,0,0,{"$nulls":3},{"$f":"#REF!","v":{"$error":"#REF!"}},"/",{"$f":"#REF!","v":{"$error":"#REF!"}},{"$error":"#REF!"},{"$f":"#REF!","v":{"$error":"#REF!"}},"/",{"$f":"#REF!","v":{"$error":"#REF!"}},{"$error":"#REF!"},{"$f":"#REF!","v":{"$error":"#REF!"}},"/",{"$f":"#REF!","v":{"$error":"#REF!"}},{"$error":"#REF!"},{"$f":"#REF!","v":{"$error":"#REF!"}},"/",{"$f":"#REF!","v":{"$error":"#REF!"}},{"$error":"#REF!"}]
[0,50,50,0,{"$nulls":5},{"$f":"#REF!","v":{"$error":"#REF!"}},{"$f":"#REF!","v":{"$error":"#REF!"}},{"$f":"#REF!","v":{"$error":"#REF!"}},{"$f":"#REF!","v":{"$error":"#REF!"}},{"$f":"#REF!","v":{"$error":"#REF!"}},{"$f":"#REF!","v":{"$error":"#REF!"}},0,0,0,0,{"$nulls":3},{"$f":"#REF!","v":{"$error":"#REF!"}},"/",{"$f":"#REF!","v":{"$error":"#REF!"}},{"$error":"#REF!"},{"$f":"#REF!","v":{"$error":"#REF!"}},"/",{"$f":"#REF!","v":{"$error":"#REF!"}},{"$error":"#REF!"},{"$f":"#REF!","v":{"$error":"#REF!"}},"/",{"$f":"#REF!","v":{"$error":"#REF!"}},{"$error":"#REF!"},{"$f":"#REF!","v":{"$error":"#REF!"}},"/",{"$f":"#REF!","v":{"$error":"#REF!"}},{"$error":"#REF!"}]
[0,51,51,0,{"$nulls":5},{"$f":"#REF!","v":{"$error":"#REF!"}},{"$f":"#REF!","v":{"$error":"#REF!"}},{"$f":"#REF!","v":{"$error":"#REF!"}},{"$f":"#REF!","v":{"$error":"#REF!"}},{"$f":"#REF!","v":{"$error":"#REF!"}},{"$f":"#REF!","v":{"$error":"#REF!"}},0,0,0,0,{"$nulls":3},{"$f":"#REF!","v":{"$error":"#REF!"}},"/",{"$f":"#REF!","v":{"$error":"#REF!"}},{"$error":"#REF!"},{"$f":"#REF!","v":{"$error":"#REF!"}},"/",{"$f":"#REF!","v":{"$error":"#REF!"}},{"$error":"#REF!"},{"$f":"#REF!","v":{"$error":"#REF!"}},"/",{"$f":"#REF!","v":{"$error":"#REF!"}},{"$error":"#REF!"},{"$f":"#REF!","v":{"$error":"#REF!"}},"/",{"$f":"#REF!","v":{"$error":"#REF!"}},{"$error":"#REF!"}]
[0,52,52,0,{"$nulls":5},{"$f":"#REF!","v":{"$error":"#REF!"}},{"$f":"#REF!","v":{"$error":"#REF!"}},{"$f":"#REF!","v":{"$error":"#REF!"}},{"$f":"#REF!","v":{"$error":"#REF!"}},{"$f":"#REF!","v":{"$error":"#REF!"}},{"$f":"#REF!","v":{"$error":"#REF!"}},0,0,0,0,{"$nulls":3},{"$f":"#REF!","v":{"$error":"#REF!"}},"/",{"$f":"#REF!","v":{"$error":"#REF!"}},{"$error":"#REF!"},{"$f":"#REF!","v":{"$error":"#REF!"}},"/",{"$f":"#REF!","v":{"$error":"#REF!"}},{"$error":"#REF!"},{"$f":"#REF!","v":{"$error":"#REF!"}},"/",{"$f":"#REF!","v":{"$error":"#REF!"}},{"$error":"#REF!"},{"$f":"#REF!","v":{"$error":"#REF!"}},"/",{"$f":"#REF!","v":{"$error":"#REF!"}},{"$error":"#REF!"}]
[0,53,53,0,{"$nulls":5},{"$f":"#REF!","v":{"$error":"#REF!"}},{"$f":"#REF!","v":{"$error":"#REF!"}},{"$f":"#REF!","v":{"$error":"#REF!"}},{"$f":"#REF!","v":{"$error":"#REF!"}},{"$f":"#REF!","v":{"$error":"#REF!"}},{"$f":"#REF!","v":{"$error":"#REF!"}},0,0,0,0,{"$nulls":3},{"$f":"#REF!","v":{"$error":"#REF!"}},"/",{"$f":"#REF!","v":{"$error":"#REF!"}},{"$error":"#REF!"},{"$f":"#REF!","v":{"$error":"#REF!"}},"/",{"$f":"#REF!","v":{"$error":"#REF!"}},{"$error":"#REF!"},{"$f":"#REF!","v":{"$error":"#REF!"}},"/",{"$f":"#REF!","v":{"$error":"#REF!"}},{"$error":"#REF!"},{"$f":"#REF!","v":{"$error":"#REF!"}},"/",{"$f":"#REF!","v":{"$error":"#REF!"}},{"$error":"#REF!"}]
[0,54,54,0,{"$nulls":5},{"$f":"#REF!","v":{"$error":"#REF!"}},{"$f":"#REF!","v":{"$error":"#REF!"}},{"$f":"#REF!","v":{"$error":"#REF!"}},{"$f":"#REF!","v":{"$error":"#REF!"}},{"$f":"#REF!","v":{"$error":"#REF!"}},{"$f":"#REF!","v":{"$error":"#REF!"}},0,0,0,0,{"$nulls":3},{"$f":"#REF!","v":{"$error":"#REF!"}},"/",{"$f":"#REF!","v":{"$error":"#REF!"}},{"$error":"#REF!"},{"$f":"#REF!","v":{"$error":"#REF!"}},"/",{"$f":"#REF!","v":{"$error":"#REF!"}},{"$error":"#REF!"},{"$f":"#REF!","v":{"$error":"#REF!"}},"/",{"$f":"#REF!","v":{"$error":"#REF!"}},{"$error":"#REF!"},{"$f":"#REF!","v":{"$error":"#REF!"}},"/",{"$f":"#REF!","v":{"$error":"#REF!"}},{"$error":"#REF!"}]
[0,55,55,0,{"$nulls":5},{"$f":"#REF!","v":{"$error":"#REF!"}},{"$f":"#REF!","v":{"$error":"#REF!"}},{"$f":"#REF!","v":{"$error":"#REF!"}},{"$f":"#REF!","v":{"$error":"#REF!"}},{"$f":"#REF!","v":{"$error":"#REF!"}},{"$f":"#REF!","v":{"$error":"#REF!"}},0,0,0,0,{"$nulls":3},{"$f":"#REF!","v":{"$error":"#REF!"}},"/",{"$f":"#REF!","v":{"$error":"#REF!"}},{"$error":"#REF!"},{"$f":"#REF!","v":{"$error":"#REF!"}},"/",{"$f":"#REF!","v":{"$error":"#REF!"}},{"$error":"#REF!"},{"$f":"#REF!","v":{"$error":"#REF!"}},"/",{"$f":"#REF!","v":{"$error":"#REF!"}},{"$error":"#REF!"},{"$f":"#REF!","v":{"$error":"#REF!"}},"/",{"$f":"#REF!","v":{"$error":"#REF!"}},{"$error":"#REF!"}]
[0,56,56,0,{"$nulls":5},{"$f":"#REF!","v":{"$error":"#REF!"}},{"$f":"#REF!","v":{"$error":"#REF!"}},{"$f":"#REF!","v":{"$error":"#REF!"}},{"$f":"#REF!","v":{"$error":"#REF!"}},{"$f":"#REF!","v":{"$error":"#REF!"}},{"$f":"#REF!","v":{"$error":"#REF!"}},0,0,0,0,{"$nulls":3},{"$f":"#REF!","v":{"$error":"#REF!"}},"/",{"$f":"#REF!","v":{"$error":"#REF!"}},{"$error":"#REF!"},{"$f":"#REF!","v":{"$error":"#REF!"}},"/",{"$f":"#REF!","v":{"$error":"#REF!"}},{"$error":"#REF!"},{"$f":"#REF!","v":{"$error":"#REF!"}},"/",{"$f":"#REF!","v":{"$error":"#REF!"}},{"$error":"#REF!"},{"$f":"#REF!","v":{"$error":"#REF!"}},"/",{"$f":"#REF!","v":{"$error":"#REF!"}},{"$error":"#REF!"}]
[0,57,57,0,{"$nulls":5},{"$f":"#REF!","v":{"$error":"#REF!"}},{"$f":"#REF!","v":{"$error":"#REF!"}},{"$f":"#REF!","v":{"$error":"#REF!"}},{"$f":"#REF!","v":{"$error":"#REF!"}},{"$f":"#REF!","v":{"$error":"#REF!"}},{"$f":"#REF!","v":{"$error":"#REF!"}},0,0,0,0,{"$nulls":3},{"$f":"#REF!","v":{"$error":"#REF!"}},"/",{"$f":"#REF!","v":{"$error":"#REF!"}},{"$error":"#REF!"},{"$f":"#REF!","v":{"$error":"#REF!"}},"/",{"$f":"#REF!","v":{"$error":"#REF!"}},{"$error":"#REF!"},{"$f":"#REF!","v":{"$error":"#REF!"}},"/",{"$f":"#REF!","v":{"$error":"#REF!"}},{"$error":"#REF!"},{"$f":"#REF!","v":{"$error":"#REF!"}},"/",{"$f":"#REF!","v":{"$error":"#REF!"}},{"$error":"#REF!"}]
[0,58,58,0,{"$nulls":5},{"$f":"#REF!","v":{"$error":"#REF!"}},{"$f":"#REF!","v":{"$error":"#REF!"}},{"$f":"#REF!","v":{"$error":"#REF!"}},{"$f":"#REF!","v":{"$error":"#REF!"}},{"$f":"#REF!","v":{"$error":"#REF!"}},{"$f":"#REF!","v":{"$error":"#REF!"}},0,0,0,0,{"$nulls":3},{"$f":"#REF!","v":{"$error":"#REF!"}},"/",{"$f":"#REF!","v":{"$error":"#REF!"}},{"$error":"#REF!"},{"$f":"#REF!","v":{"$error":"#REF!"}},"/",{"$f":"#REF!","v":{"$error":"#REF!"}},{"$error":"#REF!"},{"$f":"#REF!","v":{"$error":"#REF!"}},"/",{"$f":"#REF!","v":{"$error":"#REF!"}},{"$error":"#REF!"},{"$f":"#REF!","v":{"$error":"#REF!"}},"/",{"$f":"#REF!","v":{"$error":"#REF!"}},{"$error":"#REF!"}]
[0,59,59,0,{"$nulls":5},{"$f":"#REF!","v":{"$error":"#REF!"}},{"$f":"#REF!","v":{"$error":"#REF!"}},{"$f":"#REF!","v":{"$error":"#REF!"}},{"$f":"#REF!","v":{"$error":"#REF!"}},{"$f":"#REF!","v":{"$error":"#REF!"}},{"$f":"#REF!","v":{"$error":"#REF!"}},0,0,0,0,{"$nulls":3},{"$f":"#REF!","v":{"$error":"#REF!"}},"/",{"$f":"#REF!","v":{"$error":"#REF!"}},{"$error":"#REF!"},{"$f":"#REF!","v":{"$error":"#REF!"}},"/",{"$f":"#REF!","v":{"$error":"#REF!"}},{"$error":"#REF!"},{"$f":"#REF!","v":{"$error":"#REF!"}},"/",{"$f":"#REF!","v":{"$error":"#REF!"}},{"$error":"#REF!"},{"$f":"#REF!","v":{"$error":"#REF!"}},"/",{"$f":"#REF!","v":{"$error":"#REF!"}},{"$error":"#REF!"}]
[0,60,60,0,{"$nulls":5},{"$f":"#REF!","v":{"$error":"#REF!"}},{"$f":"#REF!","v":{"$error":"#REF!"}},{"$f":"#REF!","v":{"$error":"#REF!"}},{"$f":"#REF!","v":{"$error":"#REF!"}},{"$f":"#REF!","v":{"$error":"#REF!"}},{"$f":"#REF!","v":{"$error":"#REF!"}},0,0,0,0,{"$nulls":3},{"$f":"#REF!","v":{"$error":"#REF!"}},"/",{"$f":"#REF!","v":{"$error":"#REF!"}},{"$error":"#REF!"},{"$f":"#REF!","v":{"$error":"#REF!"}},"/",{"$f":"#REF!","v":{"$error":"#REF!"}},{"$error":"#REF!"},{"$f":"#REF!","v":{"$error":"#REF!"}},"/",{"$f":"#REF!","v":{"$error":"#REF!"}},{"$error":"#REF!"},{"$f":"#REF!","v":{"$error":"#REF!"}},"/",{"$f":"#REF!","v":{"$error":"#REF!"}},{"$error":"#REF!"}]
[0,61,61,0,{"$nulls":5},{"$f":"#REF!","v":{"$error":"#REF!"}},{"$f":"#REF!","v":{"$error":"#REF!"}},{"$f":"#REF!","v":{"$error":"#REF!"}},{"$f":"#REF!","v":{"$error":"#REF!"}},{"$f":"#REF!","v":{"$error":"#REF!"}},{"$f":"#REF!","v":{"$error":"#REF!"}},0,0,0,0,{"$nulls":3},{"$f":"#REF!","v":{"$error":"#REF!"}},"/",{"$f":"#REF!","v":{"$error":"#REF!"}},{"$error":"#REF!"},{"$f":"#REF!","v":{"$error":"#REF!"}},"/",{"$f":"#REF!","v":{"$error":"#REF!"}},{"$error":"#REF!"},{"$f":"#REF!","v":{"$error":"#REF!"}},"/",{"$f":"#REF!","v":{"$error":"#REF!"}},{"$error":"#REF!"},{"$f":"#REF!","v":{"$error":"#REF!"}},"/",{"$f":"#REF!","v":{"$error":"#REF!"}},{"$error":"#REF!"}]
[0,62,62,0,{"$nulls":5},{"$f":"#REF!","v":{"$error":"#REF!"}},{"$f":"#REF!","v":{"$error":"#REF!"}},{"$f":"#REF!","v":{"$error":"#REF!"}},{"$f":"#REF!","v":{"$error":"#REF!"}},{"$f":"#REF!","v":{"$error":"#REF!"}},{"$f":"#REF!","v":{"$error":"#REF!"}},0,0,0,0,{"$nulls":3},{"$f":"#REF!","v":{"$error":"#REF!"}},"/",{"$f":"#REF!","v":{"$error":"#REF!"}},{"$error":"#REF!"},{"$f":"#REF!","v":{"$error":"#REF!"}},"/",{"$f":"#REF!","v":{"$error":"#REF!"}},{"$error":"#REF!"},{"$f":"#REF!","v":{"$error":"#REF!"}},"/",{"$f":"#REF!","v":{"$error":"#REF!"}},{"$error":"#REF!"},{"$f":"#REF!","v":{"$error":"#REF!"}},"/",{"$f":"#REF!","v":{"$error":"#REF!"}},{"$error":"#REF!"}]
[0,63,63,0,{"$nulls":5},{"$f":"#REF!","v":{"$error":"#REF!"}},{"$f":"#REF!","v":{"$error":"#REF!"}},{"$f":"#REF!","v":{"$error":"#REF!"}},{"$f":"#REF!","v":{"$error":"#REF!"}},{"$f":"#REF!","v":{"$error":"#REF!"}},{"$f":"#REF!","v":{"$error":"#REF!"}},0,0,0,0,{"$nulls":3},{"$f":"#REF!","v":{"$error":"#REF!"}},"/",{"$f":"#REF!","v":{"$error":"#REF!"}},{"$error":"#REF!"},{"$f":"#REF!","v":{"$error":"#REF!"}},"/",{"$f":"#REF!","v":{"$error":"#REF!"}},{"$error":"#REF!"},{"$f":"#REF!","v":{"$error":"#REF!"}},"/",{"$f":"#REF!","v":{"$error":"#REF!"}},{"$error":"#REF!"},{"$f":"#REF!","v":{"$error":"#REF!"}},"/",{"$f":"#REF!","v":{"$error":"#REF!"}},{"$error":"#REF!"}]
[0,64,64,0,{"$nulls":5},{"$f":"#REF!","v":{"$error":"#REF!"}},{"$f":"#REF!","v":{"$error":"#REF!"}},{"$f":"#REF!","v":{"$error":"#REF!"}},{"$f":"#REF!","v":{"$error":"#REF!"}},{"$f":"#REF!","v":{"$error":"#REF!"}},{"$f":"#REF!","v":{"$error":"#REF!"}},0,0,0,0,{"$nulls":3},{"$f":"#REF!","v":{"$error":"#REF!"}},"/",{"$f":"#REF!","v":{"$error":"#REF!"}},{"$error":"#REF!"},{"$f":"#REF!","v":{"$error":"#REF!"}},"/",{"$f":"#REF!","v":{"$error":"#REF!"}},{"$error":"#REF!"},{"$f":"#REF!","v":{"$error":"#REF!"}},"/",{"$f":"#REF!","v":{"$error":"#REF!"}},{"$error":"#REF!"},{"$f":"#REF!","v":{"$error":"#REF!"}},"/",{"$f":"#REF!","v":{"$error":"#REF!"}},{"$error":"#REF!"}]
[0,65,65,0,{"$nulls":5},{"$f":"#REF!","v":{"$error":"#REF!"}},{"$f":"#REF!","v":{"$error":"#REF!"}},{"$f":"#REF!","v":{"$error":"#REF!"}},{"$f":"#REF!","v":{"$error":"#REF!"}},{"$f":"#REF!","v":{"$error":"#REF!"}},{"$f":"#REF!","v":{"$error":"#REF!"}},0,0,0,0,{"$nulls":3},{"$f":"#REF!","v":{"$error":"#REF!"}},"/",{"$f":"#REF!","v":{"$error":"#REF!"}},{"$error":"#REF!"},{"$f":"#REF!","v":{"$error":"#REF!"}},"/",{"$f":"#REF!","v":{"$error":"#REF!"}},{"$error":"#REF!"},{"$f":"#REF!","v":{"$error":"#REF!"}},"/",{"$f":"#REF!","v":{"$error":"#REF!"}},{"$error":"#REF!"},{"$f":"#REF!","v":{"$error":"#REF!"}},"/",{"$f":"#REF!","v":{"$error":"#REF!"}},{"$error":"#REF!"}]
[{"$f":"E73","v":0},66,66,{"$f":"IF(E73>0,$E$4,0)","v":0},{"$nulls":5},{"$f":"#REF!","v":{"$error":"#REF!"}},{"$f":"#REF!","v":{"$error":"#REF!"}},{"$f":"#REF!","v":{"$error":"#REF!"}},{"$f":"#REF!","v":{"$error":"#REF!"}},{"$f":"#REF!","v":{"$error":"#REF!"}},{"$f":"#REF!","v":{"$error":"#REF!"}},{"$f":"COUNTIF(J73:O73,\"F\")+COUNTIF(J73:O73,\"AB\")","v":0},{"$f":"COUNTIF(J73:O73,\"S\")","v":0},{"$f":"COUNTIF(J73:O73,\"G1\")","v":0},{"$f":"COUNTIF(J73:O73,\"G2\")","v":0},{"$nulls":3},{"$f":"#REF!","v":{"$error":"#REF!"}},"/",{"$f":"#REF!","v":{"$error":"#REF!"}},{"$f":"CONCATENATE(W73,X73,Y73)","v":{"$error":"#REF!"}},{"$f":"#REF!","v":{"$error":"#REF!"}},"/",{"$f":"#REF!","v":{"$error":"#REF!"}},{"$f":"CONCATENATE(AA73,AB73,AC73)","v":{"$error":"#REF!"}},{"$f":"#REF!","v":{"$error":"#REF!"}},"/",{"$f":"#REF!","v":{"$error":"#REF!"}},{"$f":"CONCATENATE(AE73,AF73,AG73)","v":{"$error":"#REF!"}},{"$f":"#REF!","v":{"$error":"#REF!"}},"/",{"$f":"#REF!","v":{"$error":"#REF!"}},{"$f":"CONCATENATE(AI73,AJ73,AK73)","v":{"$error":"#REF!"}}]
[0,67,67,0,{"$nulls":5},{"$f":"#REF!","v":{"$error":"#REF!"}},{"$f":"#REF!","v":{"$error":"#REF!"}},{"$f":"#REF!","v":{"$error":"#REF!"}},{"$f":"#REF!","v":{"$error":"#REF!"}},{"$f":"#REF!","v":{"$error":"#REF!"}},{"$f":"#REF!","v":{"$error":"#REF!"}},0,0,0,0,{"$nulls":3},{"$f":"#REF!","v":{"$error":"#REF!"}},"/",{"$f":"#REF!","v":{"$error":"#REF!"}},{"$error":"#REF!"},{"$f":"#REF!","v":{"$error":"#REF!"}},"/",{"$f":"#REF!","v":{"$error":"#REF!"}},{"$error":"#REF!"},{"$f":"#REF!","v":{"$error":"#REF!"}},"/",{"$f":"#REF!","v":{"$error":"#REF!"}},{"$error":"#REF!"},{"$f":"#REF!","v":{"$error":"#REF!"}},"/",{"$f":"#REF!","v":{"$error":"#REF!"}},{"$error":"#REF!"}]
[0,68,68,0,{"$nulls":5},{"$f":"#REF!","v":{"$error":"#REF!"}},{"$f":"#REF!","v":{"$error":"#REF!"}},{"$f":"#REF!","v":{"$error":"#REF!"}},{"$f":"#REF!","v":{"$error":"#REF!"}},{"$f":"#REF!","v":{"$error":"#REF!"}},{"$f":"#REF!","v":{"$error":"#REF!"}},0,0,0,0,{"$nulls":3},{"$f":"#REF!","v":{"$error":"#REF!"}},"/",{"$f":"#REF!","v":{"$error":"#REF!"}},{"$error":"#REF!"},{"$f":"#REF!","v":{"$error":"#REF!"}},"/",{"$f":"#REF!","v":{"$error":"#REF!"}},{"$error":"#REF!"},{"$f":"#REF!","v":{"$error":"#REF!"}},"/",{"$f":"#REF!","v":{"$error":"#REF!"}},{"$error":"#REF!"},{"$f":"#REF!","v":{"$error":"#REF!"}},"/",{"$f":"#REF!","v":{"$error":"#REF!"}},{"$error":"#REF!"}]
[0,69,69,0,{"$nulls":5},{"$f":"#REF!","v":{"$error":"#REF!"}},{"$f":"#REF!","v":{"$error":"#REF!"}},{"$f":"#REF!","v":{"$error":"#REF!"}},{"$f":"#REF!","v":{"$error":"#REF!"}},{"$f":"#REF!","v":{"$error":"#REF!"}},{"$f":"#REF!","v":{"$error":"#REF!"}},0,0,0,0,{"$nulls":3},{"$f":"#REF!","v":{"$error":"#REF!"}},"/",{"$f":"#REF!","v":{"$error":"#REF!"}},{"$error":"#REF!"},{"$f":"#REF!","v":{"$error":"#REF!"}},"/",{"$f":"#REF!","v":{"$error":"#REF!"}},{"$error":"#REF!"},{"$f":"#REF!","v":{"$error":"#REF!"}},"/",{"$f":"#REF!","v":{"$error":"#REF!"}},{"$error":"#REF!"},{"$f":"#REF!","v":{"$error":"#REF!"}},"/",{"$f":"#REF!","v":{"$error":"#REF!"}},{"$error":"#REF!"}]
[0,70,70,0,{"$nulls":5},{"$f":"#REF!","v":{"$error":"#REF!"}},{"$f":"#REF!","v":{"$error":"#REF!"}},{"$f":"#REF!","v":{"$error":"#REF!"}},{"$f":"#REF!","v":{"$error":"#REF!"}},{"$f":"#REF!","v":{"$error":"#REF!"}},{"$f":"#REF!","v":{"$error":"#REF!"}},0,0,0,0,{"$nulls":3},{"$f":"#REF!","v":{"$error":"#REF!"}},"/",{"$f":"#REF!","v":{"$error":"#REF!"}},{"$error":"#REF!"},{"$f":"#REF!","v":{"$error":"#REF!"}},"/",{"$f":"#REF!","v":{"$error":"#REF!"}},{"$error":"#REF!"},{"$f":"#REF!","v":{"$error":"#REF!"}},"/",{"$f":"#REF!","v":{"$error":"#REF!"}},{"$error":"#REF!"},{"$f":"#REF!","v":{"$error":"#REF!"}},"/",{"$f":"#REF!","v":{"$error":"#REF!"}},{"$error":"#REF!"}]
[0,71,71,0,{"$nulls":5},{"$f":"#REF!","v":{"$error":"#REF!"}},{"$f":"#REF!","v":{"$error":"#REF!"}},{"$f":"#REF!","v":{"$error":"#REF!"}},{"$f":"#REF!","v":{"$error":"#REF!"}},{"$f":"#REF!","v":{"$error":"#REF!"}},{"$f":"#REF!","v":{"$error":"#REF!"}},0,0,0,0,{"$nulls":3},{"$f":"#REF!","v":{"$error":"#REF!"}},"/",{"$f":"#REF!","v":{"$error":"#REF!"}},{"$error":"#REF!"},{"$f":"#REF!","v":{"$error":"#REF!"}},"/",{"$f":"#REF!","v":{"$error":"#REF!"}},{"$error":"#REF!"},{"$f":"#REF!","v":{"$error":"#REF!"}},"/",{"$f":"#REF!","v":{"$error":"#REF!"}},{"$error":"#REF!"},{"$f":"#REF!","v":{"$error":"#REF!"}},"/",{"$f":"#REF!","v":{"$error":"#REF!"}},{"$error":"#REF!"}]
[0,72,72,0,{"$nulls":5},{"$f":"#REF!","v":{"$error":"#REF!"}},{"$f":"#REF!","v":{"$error":"#REF!"}},{"$f":"#REF!","v":{"$error":"#REF!"}},{"$f":"#REF!","v":{"$error":"#REF!"}},{"$f":"#REF!","v":{"$error":"#REF!"}},{"$f":"#REF!","v":{"$error":"#REF!"}},0,0,0,0,{"$nulls":3},{"$f":"#REF!","v":{"$error":"#REF!"}},"/",{"$f":"#REF!","v":{"$error":"#REF!"}},{"$error":"#REF!"},{"$f":"#REF!","v":{"$error":"#REF!"}},"/",{"$f":"#REF!","v":{"$error":"#REF!"}},{"$error":"#REF!"},{"$f":"#REF!","v":{"$error":"#REF!"}},"/",{"$f":"#REF!","v":{"$error":"#REF!"}},{"$error":"#REF!"},{"$f":"#REF!","v":{"$error":"#REF!"}},"/",{"$f":"#REF!","v":{"$error":"#REF!"}},{"$error":"#REF!"}]
[0,73,73,0,{"$nulls":5},{"$f":"#REF!","v":{"$error":"#REF!"}},{"$f":"#REF!","v":{"$error":"#REF!"}},{"$f":"#REF!","v":{"$error":"#REF!"}},{"$f":"#REF!","v":{"$error":"#REF!"}},{"$f":"#REF!","v":{"$error":"#REF!"}},{"$f":"#REF!","v":{"$error":"#REF!"}},0,0,0,0,{"$nulls":3},{"$f":"#REF!","v":{"$error":"#REF!"}},"/",{"$f":"#REF!","v":{"$error":"#REF!"}},{"$error":"#REF!"},{"$f":"#REF!","v":{"$error":"#REF!"}},"/",{"$f":"#REF!","v":{"$error":"#REF!"}},{"$error":"#REF!"},{"$f":"#REF!","v":{"$error":"#REF!"}},"/",{"$f":"#REF!","v":{"$error":"#REF!"}},{"$error":"#REF!"},{"$f":"#REF!","v":{"$error":"#REF!"}},"/",{"$f":"#REF!","v":{"$error":"#REF!"}},{"$error":"#REF!"}]
[0,74,74,0,{"$nulls":5},{"$f":"#REF!","v":{"$error":"#REF!"}},{"$f":"#REF!","v":{"$error":"#REF!"}},{"$f":"#REF!","v":{"$error":"#REF!"}},{"$f":"#REF!","v":{"$error":"#REF!"}},{"$f":"#REF!","v":{"$error":"#REF!"}},{"$f":"#REF!","v":{"$error":"#REF!"}},0,0,0,0,{"$nulls":3},{"$f":"#REF!","v":{"$error":"#REF!"}},"/",{"$f":"#REF!","v":{"$error":"#REF!"}},{"$error":"#REF!"},{"$f":"#REF!","v":{"$error":"#REF!"}},"/",{"$f":"#REF!","v":{"$error":"#REF!"}},{"$error":"#REF!"},{"$f":"#REF!","v":{"$error":"#REF!"}},"/",{"$f":"#REF!","v":{"$error":"#REF!"}},{"$error":"#REF!"},{"$f":"#REF!","v":{"$error":"#REF!"}},"/",{"$f":"#REF!","v":{"$error":"#REF!"}},{"$error":"#REF!"}]
[0,75,75,0,{"$nulls":5},{"$f":"#REF!","v":{"$error":"#REF!"}},{"$f":"#REF!","v":{"$error":"#REF!"}},{"$f":"#REF!","v":{"$error":"#REF!"}},{"$f":"#REF!","v":{"$error":"#REF!"}},{"$f":"#REF!","v":{"$error":"#REF!"}},{"$f":"#REF!","v":{"$error":"#REF!"}},0,0,0,0,{"$nulls":3},{"$f":"#REF!","v":{"$error":"#REF!"}},"/",{"$f":"#REF!","v":{"$error":"#REF!"}},{"$error":"#REF!"},{"$f":"#REF!","v":{"$error":"#REF!"}},"/",{"$f":"#REF!","v":{"$error":"#REF!"}},{"$error":"#REF!"},{"$f":"#REF!","v":{"$error":"#REF!"}},"/",{"$f":"#REF!","v":{"$error":"#REF!"}},{"$error":"#REF!"},{"$f":"#REF!","v":{"$error":"#REF!"}},"/",{"$f":"#REF!","v":{"$error":"#REF!"}},{"$error":"#REF!"}]
[0,76,76,0,{"$nulls":5},{"$f":"#REF!","v":{"$error":"#REF!"}},{"$f":"#REF!","v":{"$error":"#REF!"}},{"$f":"#REF!","v":{"$error":"#REF!"}},{"$f":"#REF!","v":{"$error":"#REF!"}},{"$f":"#REF!","v":{"$error":"#REF!"}},{"$f":"#REF!","v":{"$error":"#REF!"}},0,0,0,0,{"$nulls":3},{"$f":"#REF!","v":{"$error":"#REF!"}},"/",{"$f":"#REF!","v":{"$error":"#REF!"}},{"$error":"#REF!"},{"$f":"#REF!","v":{"$error":"#REF!"}},"/",{"$f":"#REF!","v":{"$error":"#REF!"}},{"$error":"#REF!"},{"$f":"#REF!","v":{"$error":"#REF!"}},"/",{"$f":"#REF!","v":{"$error":"#REF!"}},{"$error":"#REF!"},{"$f":"#REF!","v":{"$error":"#REF!"}},"/",{"$f":"#REF!","v":{"$error":"#REF!"}},{"$error":"#REF!"}]
[0,77,77,0,{"$nulls":5},{"$f":"#REF!","v":{"$error":"#REF!"}},{"$f":"#REF!","v":{"$error":"#REF!"}},{"$f":"#REF!","v":{"$error":"#REF!"}},{"$f":"#REF!","v":{"$error":"#REF!"}},{"$f":"#REF!","v":{"$error":"#REF!"}},{"$f":"#REF!","v":{"$error":"#REF!"}},0,0,0,0,{"$nulls":3},{"$f":"#REF!","v":{"$error":"#REF!"}},"/",{"$f":"#REF!","v":{"$error":"#REF!"}},{"$error":"#REF!"},{"$f":"#REF!","v":{"$error":"#REF!"}},"/",{"$f":"#REF!","v":{"$error":"#REF!"}},{"$error":"#REF!"},{"$f":"#REF!","v":{"$error":"#REF!"}},"/",{"$f":"#REF!","v":{"$error":"#REF!"}},{"$error":"#REF!"},{"$f":"#REF!","v":{"$error":"#REF!"}},"/",{"$f":"#REF!","v":{"$error":"#REF!"}},{"$error":"#REF!"}]
[0,78,78,0,{"$nulls":5},{"$f":"#REF!","v":{"$error":"#REF!"}},{"$f":"#REF!","v":{"$error":"#REF!"}},{"$f":"#REF!","v":{"$error":"#REF!"}},{"$f":"#REF!","v":{"$error":"#REF!"}},{"$f":"#REF!","v":{"$error":"#REF!"}},{"$f":"#REF!","v":{"$error":"#REF!"}},0,0,0,0,{"$nulls":3},{"$f":"#REF!","v":{"$error":"#REF!"}},"/",{"$f":"#REF!","v":{"$error":"#REF!"}},{"$error":"#REF!"},{"$f":"#REF!","v":{"$error":"#REF!"}},"/",{"$f":"#REF!","v":{"$error":"#REF!"}},{"$error":"#REF!"},{"$f":"#REF!","v":{"$error":"#REF!"}},"/",{"$f":"#REF!","v":{"$error":"#REF!"}},{"$error":"#REF!"},{"$f":"#REF!","v":{"$error":"#REF!"}},"/",{"$f":"#REF!","v":{"$error":"#REF!"}},{"$error":"#REF!"}]
[0,79,79,0,{"$nulls":5},{"$f":"#REF!","v":{"$error":"#REF!"}},{"$f":"#REF!","v":{"$error":"#REF!"}},{"$f":"#REF!","v":{"$error":"#REF!"}},{"$f":"#REF!","v":{"$error":"#REF!"}},{"$f":"#REF!","v":{"$error":"#REF!"}},{"$f":"#REF!","v":{"$error":"#REF!"}},0,0,0,0,{"$nulls":3},{"$f":"#REF!","v":{"$error":"#REF!"}},"/",{"$f":"#REF!","v":{"$error":"#REF!"}},{"$error":"#REF!"},{"$f":"#REF!","v":{"$error":"#REF!"}},"/",{"$f":"#REF!","v":{"$error":"#REF!"}},{"$error":"#REF!"},{"$f":"#REF!","v":{"$error":"#REF!"}},"/",{"$f":"#REF!","v":{"$error":"#REF!"}},{"$error":"#REF!"},{"$f":"#REF!","v":{"$error":"#REF!"}},"/",{"$f":"#REF!","v":{"$error":"#REF!"}},{"$error":"#REF!"}]
[0,80,80,0,{"$nulls":5},{"$f":"#REF!","v":{"$error":"#REF!"}},{"$f":"#REF!","v":{"$error":"#REF!"}},{"$f":"#REF!","v":{"$error":"#REF!"}},{"$f":"#REF!","v":{"$error":"#REF!"}},{"$f":"#REF!","v":{"$error":"#REF!"}},{"$f":"#REF!","v":{"$error":"#REF!"}},0,0,0,0,{"$nulls":3},{"$f":"#REF!","v":{"$error":"#REF!"}},"/",{"$f":"#REF!","v":{"$error":"#REF!"}},{"$error":"#REF!"},{"$f":"#REF!","v":{"$error":"#REF!"}},"/",{"$f":"#REF!","v":{"$error":"#REF!"}},{"$error":"#REF!"},{"$f":"#REF!","v":{"$error":"#REF!"}},"/",{"$f":"#REF!","v":{"$error":"#REF!"}},{"$error":"#REF!"},{"$f":"#REF!","v":{"$error":"#REF!"}},"/",{"$f":"#REF!","v":{"$error":"#REF!"}},{"$error":"#REF!"}]
[0,81,81,0,{"$nulls":5},{"$f":"#REF!","v":{"$error":"#REF!"}},{"$f":"#REF!","v":{"$error":"#REF!"}},{"$f":"#REF!","v":{"$error":"#REF!"}},{"$f":"#REF!","v":{"$error":"#REF!"}},{"$f":"#REF!","v":{"$error":"#REF!"}},{"$f":"#REF!","v":{"$error":"#REF!"}},0,0,0,0,{"$nulls":3},{"$f":"#REF!","v":{"$error":"#REF!"}},"/",{"$f":"#REF!","v":{"$error":"#REF!"}},{"$error":"#REF!"},{"$f":"#REF!","v":{"$error":"#REF!"}},"/",{"$f":"#REF!","v":{"$error":"#REF!"}},{"$error":"#REF!"},{"$f":"#REF!","v":{"$error":"#REF!"}},"/",{"$f":"#REF!","v":{"$error":"#REF!"}},{"$error":"#REF!"},{"$f":"#REF!","v":{"$error":"#REF!"}},"/",{"$f":"#REF!","v":{"$error":"#REF!"}},{"$error":"#REF!"}]
[0,82,82,0,{"$nulls":5},{"$f":"#REF!","v":{"$error":"#REF!"}},{"$f":"#REF!","v":{"$error":"#REF!"}},{"$f":"#REF!","v":{"$error":"#REF!"}},{"$f":"#REF!","v":{"$error":"#REF!"}},{"$f":"#REF!","v":{"$error":"#REF!"}},{"$f":"#REF!","v":{"$error":"#REF!"}},0,0,0,0,{"$nulls":3},{"$f":"#REF!","v":{"$error":"#REF!"}},"/",{"$f":"#REF!","v":{"$error":"#REF!"}},{"$error":"#REF!"},{"$f":"#REF!","v":{"$error":"#REF!"}},"/",{"$f":"#REF!","v":{"$error":"#REF!"}},{"$error":"#REF!"},{"$f":"#REF!","v":{"$error":"#REF!"}},"/",{"$f":"#REF!","v":{"$error":"#REF!"}},{"$error":"#REF!"},{"$f":"#REF!","v":{"$error":"#REF!"}},"/",{"$f":"#REF!","v":{"$error":"#REF!"}},{"$error":"#REF!"}]
[0,83,83,0,{"$nulls":5},{"$f":"#REF!","v":{"$error":"#REF!"}},{"$f":"#REF!","v":{"$error":"#REF!"}},{"$f":"#REF!","v":{"$error":"#REF!"}},{"$f":"#REF!","v":{"$error":"#REF!"}},{"$f":"#REF!","v":{"$error":"#REF!"}},{"$f":"#REF!","v":{"$error":"#REF!"}},0,0,0,0,{"$nulls":3},{"$f":"#REF!","v":{"$error":"#REF!"}},"/",{"$f":"#REF!","v":{"$error":"#REF!"}},{"$error":"#REF!"},{"$f":"#REF!","v":{"$error":"#REF!"}},"/",{"$f":"#REF!","v":{"$error":"#REF!"}},{"$error":"#REF!"},{"$f":"#REF!","v":{"$error":"#REF!"}},"/",{"$f":"#REF!","v":{"$error":"#REF!"}},{"$error":"#REF!"},{"$f":"#REF!","v":{"$error":"#REF!"}},"/",{"$f":"#REF!","v":{"$error":"#REF!"}},{"$error":"#REF!"}]
[0,84,84,0,{"$nulls":5},{"$f":"#REF!","v":{"$error":"#REF!"}},{"$f":"#REF!","v":{"$error":"#REF!"}},{"$f":"#REF!","v":{"$error":"#REF!"}},{"$f":"#REF!","v":{"$error":"#REF!"}},{"$f":"#REF!","v":{"$error":"#REF!"}},{"$f":"#REF!","v":{"$error":"#REF!"}},0,0,0,0,{"$nulls":3},{"$f":"#REF!","v":{"$error":"#REF!"}},"/",{"$f":"#REF!","v":{"$error":"#REF!"}},{"$error":"#REF!"},{"$f":"#REF!","v":{"$error":"#REF!"}},"/",{"$f":"#REF!","v":{"$error":"#REF!"}},{"$error":"#REF!"},{"$f":"#REF!","v":{"$error":"#REF!"}},"/",{"$f":"#REF!","v":{"$error":"#REF!"}},{"$error":"#REF!"},{"$f":"#REF!","v":{"$error":"#REF!"}},"/",{"$f":"#REF!","v":{"$error":"#REF!"}},{"$error":"#REF!"}]
[0,85,85,0,{"$nulls":5},{"$f":"#REF!","v":{"$error":"#REF!"}},{"$f":"#REF!","v":{"$error":"#REF!"}},{"$f":"#REF!","v":{"$error":"#REF!"}},{"$f":"#REF!","v":{"$error":"#REF!"}},{"$f":"#REF!","v":{"$error":"#REF!"}},{"$f":"#REF!","v":{"$error":"#REF!"}},0,0,0,0,{"$nulls":3},{"$f":"#REF!","v":{"$error":"#REF!"}},"/",{"$f":"#REF!","v":{"$error":"#REF!"}},{"$error":"#REF!"},{"$f":"#REF!","v":{"$error":"#REF!"}},"/",{"$f":"#REF!","v":{"$error":"#REF!"}},{"$error":"#REF!"},{"$f":"#REF!","v":{"$error":"#REF!"}},"/",{"$f":"#REF!","v":{"$error":"#REF!"}},{"$error":"#REF!"},{"$f":"#REF!","v":{"$error":"#REF!"}},"/",{"$f":"#REF!","v":{"$error":"#REF!"}},{"$error":"#REF!"}]
[0,86,86,0,{"$nulls":5},{"$f":"#REF!","v":{"$error":"#REF!"}},{"$f":"#REF!","v":{"$error":"#REF!"}},{"$f":"#REF!","v":{"$error":"#REF!"}},{"$f":"#REF!","v":{"$error":"#REF!"}},{"$f":"#REF!","v":{"$error":"#REF!"}},{"$f":"#REF!","v":{"$error":"#REF!"}},0,0,0,0,{"$nulls":3},{"$f":"#REF!","v":{"$error":"#REF!"}},"/",{"$f":"#REF!","v":{"$error":"#REF!"}},{"$error":"#REF!"},{"$f":"#REF!","v":{"$error":"#REF!"}},"/",{"$f":"#REF!","v":{"$error":"#REF!"}},{"$error":"#REF!"},{"$f":"#REF!","v":{"$error":"#REF!"}},"/",{"$f":"#REF!","v":{"$error":"#REF!"}},{"$error":"#REF!"},{"$f":"#REF!","v":{"$error":"#REF!"}},"/",{"$f":"#REF!","v":{"$error":"#REF!"}},{"$error":"#REF!"}]
[0,87,87,0,{"$nulls":5},{"$f":"#REF!","v":{"$error":"#REF!"}},{"$f":"#REF!","v":{"$error":"#REF!"}},{"$f":"#REF!","v":{"$error":"#REF!"}},{"$f":"#REF!","v":{"$error":"#REF!"}},{"$f":"#REF!","v":{"$error":"#REF!"}},{"$f":"#REF!","v":{"$error":"#REF!"}},0,0,0,0,{"$nulls":3},{"$f":"#REF!","v":{"$error":"#REF!"}},"/",{"$f":"#REF!","v":{"$error":"#REF!"}},{"$error":"#REF!"},{"$f":"#REF!","v":{"$error":"#REF!"}},"/",{"$f":"#REF!","v":{"$error":"#REF!"}},{"$error":"#REF!"},{"$f":"#REF!","v":{"$error":"#REF!"}},"/",{"$f":"#REF!","v":{"$error":"#REF!"}},{"$error":"#REF!"},{"$f":"#REF!","v":{"$error":"#REF!"}},"/",{"$f":"#REF!","v":{"$error":"#REF!"}},{"$error":"#REF!"}]
[0,88,88,0,{"$nulls":5},{"$f":"#REF!","v":{"$error":"#REF!"}},{"$f":"#REF!","v":{"$error":"#REF!"}},{"$f":"#REF!","v":{"$error":"#REF!"}},{"$f":"#REF!","v":{"$error":"#REF!"}},{"$f":"#REF!","v":{"$error":"#REF!"}},{"$f":"#REF!","v":{"$error":"#REF!"}},0,0,0,0,{"$nulls":3},{"$f":"#REF!","v":{"$error":"#REF!"}},"/",{"$f":"#REF!","v":{"$error":"#REF!"}},{"$error":"#REF!"},{"$f":"#REF!","v":{"$error":"#REF!"}},"/",{"$f":"#REF!","v":{"$error":"#REF!"}},{"$error":"#REF!"},{"$f":"#REF!","v":{"$error":"#REF!"}},"/",{"$f":"#REF!","v":{"$error":"#REF!"}},{"$error":"#REF!"},{"$f":"#REF!","v":{"$error":"#REF!"}},"/",{"$f":"#REF!","v":{"$error":"#REF!"}},{"$error":"#REF!"}]
[0,89,89,0,{"$nulls":5},{"$f":"#REF!","v":{"$error":"#REF!"}},{"$f":"#REF!","v":{"$error":"#REF!"}},{"$f":"#REF!","v":{"$error":"#REF!"}},{"$f":"#REF!","v":{"$error":"#REF!"}},{"$f":"#REF!","v":{"$error":"#REF!"}},{"$f":"#REF!","v":{"$error":"#REF!"}},0,0,0,0,{"$nulls":3},{"$f":"#REF!","v":{"$error":"#REF!"}},"/",{"$f":"#REF!","v":{"$error":"#REF!"}},{"$error":"#REF!"},{"$f":"#REF!","v":{"$error":"#REF!"}},"/",{"$f":"#REF!","v":{"$error":"#REF!"}},{"$error":"#REF!"},{"$f":"#REF!","v":{"$error":"#REF!"}},"/",{"$f":"#REF!","v":{"$error":"#REF!"}},{"$error":"#REF!"},{"$f":"#REF!","v":{"$error":"#REF!"}},"/",{"$f":"#REF!","v":{"$error":"#REF!"}},{"$error":"#REF!"}]
[0,90,90,0,{"$nulls":5},{"$f":"#REF!","v":{"$error":"#REF!"}},{"$f":"#REF!","v":{"$error":"#REF!"}},{"$f":"#REF!","v":{"$error":"#REF!"}},{"$f":"#REF!","v":{"$error":"#REF!"}},{"$f":"#REF!","v":{"$error":"#REF!"}},{"$f":"#REF!","v":{"$error":"#REF!"}},0,0,0,0,{"$nulls":3},{"$f":"#REF!","v":{"$error":"#REF!"}},"/",{"$f":"#REF!","v":{"$error":"#REF!"}},{"$error":"#REF!"},{"$f":"#REF!","v":{"$error":"#REF!"}},"/",{"$f":"#REF!","v":{"$error":"#REF!"}},{"$error":"#REF!"},{"$f":"#REF!","v":{"$error":"#REF!"}},"/",{"$f":"#REF!","v":{"$error":"#REF!"}},{"$error":"#REF!"},{"$f":"#REF!","v":{"$error":"#REF!"}},"/",{"$f":"#REF!","v":{"$error":"#REF!"}},{"$error":"#REF!"}]
[0,91,91,0,{"$nulls":5},{"$f":"#REF!","v":{"$error":"#REF!"}},{"$f":"#REF!","v":{"$error":"#REF!"}},{"$f":"#REF!","v":{"$error":"#REF!"}},{"$f":"#REF!","v":{"$error":"#REF!"}},{"$f":"#REF!","v":{"$error":"#REF!"}},{"$f":"#REF!","v":{"$error":"#REF!"}},0,0,0,0,{"$nulls":3},{"$f":"#REF!","v":{"$error":"#REF!"}},"/",{"$f":"#REF!","v":{"$error":"#REF!"}},{"$error":"#REF!"},{"$f":"#REF!","v":{"$error":"#REF!"}},"/",{"$f":"#REF!","v":{"$error":"#REF!"}},{"$error":"#REF!"},{"$f":"#REF!","v":{"$error":"#REF!"}},"/",{"$f":"#REF!","v":{"$error":"#REF!"}},{"$error":"#REF!"},{"$f":"#REF!","v":{"$error":"#REF!"}},"/",{"$f":"#REF!","v":{"$error":"#REF!"}},{"$error":"#REF!"}]
[0,92,92,0,{"$nulls":5},{"$f":"#REF!","v":{"$error":"#REF!"}},{"$f":"#REF!","v":{"$error":"#REF!"}},{"$f":"#REF!","v":{"$error":"#REF!"}},{"$f":"#REF!","v":{"$error":"#REF!"}},{"$f":"#REF!","v":{"$error":"#REF!"}},{"$f":"#REF!","v":{"$error":"#REF!"}},0,0,0,0,{"$nulls":3},{"$f":"#REF!","v":{"$error":"#REF!"}},"/",{"$f":"#REF!","v":{"$error":"#REF!"}},{"$error":"#REF!"},{"$f":"#REF!","v":{"$error":"#REF!"}},"/",{"$f":"#REF!","v":{"$error":"#REF!"}},{"$error":"#REF!"},{"$f":"#REF!","v":{"$error":"#REF!"}},"/",{"$f":"#REF!","v":{"$error":"#REF!"}},{"$error":"#REF!"},{"$f":"#REF!","v":{"$error":"#REF!"}},"/",{"$f":"#REF!","v":{"$error":"#REF!"}},{"$error":"#REF!"}]
[0,93,93,0,{"$nulls":5},{"$f":"#REF!","v":{"$error":"#REF!"}},{"$f":"#REF!","v":{"$error":"#REF!"}},{"$f":"#REF!","v":{"$error":"#REF!"}},{"$f":"#REF!","v":{"$error":"#REF!"}},{"$f":"#REF!","v":{"$error":"#REF!"}},{"$f":"#REF!","v":{"$error":"#REF!"}},0,0,0,0,{"$nulls":3},{"$f":"#REF!","v":{"$error":"#REF!"}},"/",{"$f":"#REF!","v":{"$error":"#REF!"}},{"$error":"#REF!"},{"$f":"#REF!","v":{"$error":"#REF!"}},"/",{"$f":"#REF!","v":{"$error":"#REF!"}},{"$error":"#REF!"},{"$f":"#REF!","v":{"$error":"#REF!"}},"/",{"$f":"#REF!","v":{"$error":"#REF!"}},{"$error":"#REF!"},{"$f":"#REF!","v":{"$error":"#REF!"}},"/",{"$f":"#REF!","v":{"$error":"#REF!"}},{"$error":"#REF!"}]
[0,94,94,0,{"$nulls":5},{"$f":"#REF!","v":{"$error":"#REF!"}},{"$f":"#REF!","v":{"$error":"#REF!"}},{"$f":"#REF!","v":{"$error":"#REF!"}},{"$f":"#REF!","v":{"$error":"#REF!"}},{"$f":"#REF!","v":{"$error":"#REF!"}},{"$f":"#REF!","v":{"$error":"#REF!"}},0,0,0,0,{"$nulls":3},{"$f":"#REF!","v":{"$error":"#REF!"}},"/",{"$f":"#REF!","v":{"$error":"#REF!"}},{"$error":"#REF!"},{"$f":"#REF!","v":{"$error":"#REF!"}},"/",{"$f":"#REF!","v":{"$error":"#REF!"}},{"$error":"#REF!"},{"$f":"#REF!","v":{"$error":"#REF!"}},"/",{"$f":"#REF!","v":{"$error":"#REF!"}},{"$error":"#REF!"},{"$f":"#REF!","v":{"$error":"#REF!"}},"/",{"$f":"#REF!","v":{"$error":"#REF!"}},{"$error":"#REF!"}]
[0,95,95,0,{"$nulls":5},{"$f":"#REF!","v":{"$error":"#REF!"}},{"$f":"#REF!","v":{"$error":"#REF!"}},{"$f":"#REF!","v":{"$error":"#REF!"}},{"$f":"#REF!","v":{"$error":"#REF!"}},{"$f":"#REF!","v":{"$error":"#REF!"}},{"$f":"#REF!","v":{"$error":"#REF!"}},0,0,0,0,{"$nulls":3},{"$f":"#REF!","v":{"$error":"#REF!"}},"/",{"$f":"#REF!","v":{"$error":"#REF!"}},{"$error":"#REF!"},{"$f":"#REF!","v":{"$error":"#REF!"}},"/",{"$f":"#REF!","v":{"$error":"#REF!"}},{"$error":"#REF!"},{"$f":"#REF!","v":{"$error":"#REF!"}},"/",{"$f":"#REF!","v":{"$error":"#REF!"}},{"$error":"#REF!"},{"$f":"#REF!","v":{"$error":"#REF!"}},"/",{"$f":"#REF!","v":{"$error":"#REF!"}},{"$error":"#REF!"}]
[0,96,96,0,{"$nulls":5},{"$f":"#REF!","v":{"$error":"#REF!"}},{"$f":"#REF!","v":{"$error":"#REF!"}},{"$f":"#REF!","v":{"$error":"#REF!"}},{"$f":"#REF!","v":{"$error":"#REF!"}},{"$f":"#REF!","v":{"$error":"#REF!"}},{"$f":"#REF!","v":{"$error":"#REF!"}},0,0,0,0,{"$nulls":3},{"$f":"#REF!","v":{"$error":"#REF!"}},"/",{"$f":"#REF!","v":{"$error":"#REF!"}},{"$error":"#REF!"},{"$f":"#REF!","v":{"$error":"#REF!"}},"/",{"$f":"#REF!","v":{"$error":"#REF!"}},{"$error":"#REF!"},{"$f":"#REF!","v":{"$error":"#REF!"}},"/",{"$f":"#REF!","v":{"$error":"#REF!"}},{"$error":"#REF!"},{"$f":"#REF!","v":{"$error":"#REF!"}},"/",{"$f":"#REF!","v":{"$error":"#REF!"}},{"$error":"#REF!"}]
[0,97,97,0,{"$nulls":5},{"$f":"#REF!","v":{"$error":"#REF!"}},{"$f":"#REF!","v":{"$error":"#REF!"}},{"$f":"#REF!","v":{"$error":"#REF!"}},{"$f":"#REF!","v":{"$error":"#REF!"}},{"$f":"#REF!","v":{"$error":"#REF!"}},{"$f":"#REF!","v":{"$error":"#REF!"}},0,0,0,0,{"$nulls":3},{"$f":"#REF!","v":{"$error":"#REF!"}},"/",{"$f":"#REF!","v":{"$error":"#REF!"}},{"$error":"#REF!"},{"$f":"#REF!","v":{"$error":"#REF!"}},"/",{"$f":"#REF!","v":{"$error":"#REF!"}},{"$error":"#REF!"},{"$f":"#REF!","v":{"$error":"#REF!"}},"/",{"$f":"#REF!","v":{"$error":"#REF!"}},{"$error":"#REF!"},{"$f":"#REF!","v":{"$error":"#REF!"}},"/",{"$f":"#REF!","v":{"$error":"#REF!"}},{"$error":"#REF!"}]
[0,98,98,0,{"$nulls":5},{"$f":"#REF!","v":{"$error":"#REF!"}},{"$f":"#REF!","v":{"$error":"#REF!"}},{"$f":"#REF!","v":{"$error":"#REF!"}},{"$f":"#REF!","v":{"$error":"#REF!"}},{"$f":"#REF!","v":{"$error":"#REF!"}},{"$f":"#REF!","v":{"$error":"#REF!"}},0,0,0,0,{"$nulls":3},{"$f":"#REF!","v":{"$error":"#REF!"}},"/",{"$f":"#REF!","v":{"$error":"#REF!"}},{"$error":"#REF!"},{"$f":"#REF!","v":{"$error":"#REF!"}},"/",{"$f":"#REF!","v":{"$error":"#REF!"}},{"$error":"#REF!"},{"$f":"#REF!","v":{"$error":"#REF!"}},"/",{"$f":"#REF!","v":{"$error":"#REF!"}},{"$error":"#REF!"},{"$f":"#REF!","v":{"$error":"#REF!"}},"/",{"$f":"#REF!","v":{"$error":"#REF!"}},{"$error":"#REF!"}]
[0,99,99,0,{"$nulls":5},{"$f":"#REF!","v":{"$error":"#REF!"}},{"$f":"#REF!","v":{"$error":"#REF!"}},{"$f":"#REF!","v":{"$error":"#REF!"}},{"$f":"#REF!","v":{"$error":"#REF!"}},{"$f":"#REF!","v":{"$error":"#REF!"}},{"$f":"#REF!","v":{"$error":"#REF!"}},0,0,0,0,{"$nulls":3},{"$f":"#REF!","v":{"$error":"#REF!"}},"/",{"$f":"#REF!","v":{"$error":"#REF!"}},{"$error":"#REF!"},{"$f":"#REF!","v":{"$error":"#REF!"}},"/",{"$f":"#REF!","v":{"$error":"#REF!"}},{"$error":"#REF!"},{"$f":"#REF!","v":{"$error":"#REF!"}},"/",{"$f":"#REF!","v":{"$error":"#REF!"}},{"$error":"#REF!"},{"$f":"#REF!","v":{"$error":"#REF!"}},"/",{"$f":"#REF!","v":{"$error":"#REF!"}},{"$error":"#REF!"}]
[0,100,100,0,{"$nulls":5},{"$f":"#REF!","v":{"$error":"#REF!"}},{"$f":"#REF!","v":{"$error":"#REF!"}},{"$f":"#REF!","v":{"$error":"#REF!"}},{"$f":"#REF!","v":{"$error":"#REF!"}},{"$f":"#REF!","v":{"$error":"#REF!"}},{"$f":"#REF!","v":{"$error":"#REF!"}},0,0,0,0,{"$nulls":3},{"$f":"#REF!","v":{"$error":"#REF!"}},"/",{"$f":"#REF!","v":{"$error":"#REF!"}},{"$error":"#REF!"},{"$f":"#REF!","v":{"$error":"#REF!"}},"/",{"$f":"#REF!","v":{"$error":"#REF!"}},{"$error":"#REF!"},{"$f":"#REF!","v":{"$error":"#REF!"}},"/",{"$f":"#REF!","v":{"$error":"#REF!"}},{"$error":"#REF!"},{"$f":"#REF!","v":{"$error":"#REF!"}},"/",{"$f":"#REF!","v":{"$error":"#REF!"}},{"$error":"#REF!"}]
[null,1,2,4,6,7,8,9,10,142,143,144,145,146,147,148,149,150,151,152,153,154,155,156,157,158,159,160,161,162,163,164,165,166,167,168,169,170]
[{"$nulls":6},{"$f":"MASTER!#REF!","v":{"$error":"#REF!"}},{"$f":"MASTER!#REF!","v":{"$error":"#REF!"}}]
[{"$nulls":6},{"$f":"MASTER!#REF!","v":{"$error":"#REF!"}},{"$f":"MASTER!#REF!","v":{"$error":"#REF!"}}]
[{"$nulls":6},{"$f":"MASTER!#REF!","v":{"$error":"#REF!"}},{"$f":"MASTER!#REF!","v":{"$error":"#REF!"}}]
[{"$nulls":6},{"$f":"MASTER!#REF!","v":{"$error":"#REF!"}},{"$f":"MASTER!#REF!","v":{"$error":"#REF!"}}]
[{"$nulls":6},{"$f":"MASTER!#REF!","v":{"$error":"#REF!"}},{"$f":"MASTER!#REF!","v":{"$error":"#REF!"}}]
[{"$nulls":6},{"$f":"MASTER!#REF!","v":{"$error":"#REF!"}},{"$f":"MASTER!#REF!","v":{"$error":"#REF!"}}]
[{"$nulls":6},{"$f":"MASTER!#REF!","v":{"$error":"#REF!"}},{"$f":"MASTER!#REF!","v":{"$error":"#REF!"}}]
[{"$nulls":6},{"$f":"MASTER!#REF!","v":{"$error":"#REF!"}},{"$f":"MASTER!#REF!","v":{"$error":"#REF!"}}]
[{"$nulls":6},{"$f":"MASTER!#REF!","v":{"$error":"#REF!"}},{"$f":"MASTER!#REF!","v":{"$error":"#REF!"}}]
[{"$nulls":6},{"$f":"MASTER!#REF!","v":{"$error":"#REF!"}},{"$f":"MASTER!#REF!","v":{"$error":"#REF!"}}]
[{"$nulls":6},{"$f":"MASTER!#REF!","v":{"$error":"#REF!"}},{"$f":"MASTER!#REF!","v":{"$error":"#REF!"}}]
[{"$nulls":6},{"$f":"MASTER!#REF!","v":{"$error":"#REF!"}},{"$f":"MASTER!#REF!","v":{"$error":"#REF!"}}]
[{"$nulls":6},{"$f":"MASTER!#REF!","v":{"$error":"#REF!"}},{"$f":"MASTER!#REF!","v":{"$error":"#REF!"}}]
[{"$nulls":6},{"$f":"MASTER!#REF!","v":{"$error":"#REF!"}},{"$f":"MASTER!#REF!","v":{"$error":"#REF!"}}]
[{"$nulls":7},{"$f":"MASTER!#REF!","v":{"$error":"#REF!"}}]
[{"$nulls":7},{"$f":"MASTER!#REF!","v":{"$error":"#REF!"}}]
[{"$nulls":7},{"$f":"MASTER!#REF!","v":{"$error":"#REF!"}}]
[{"$nulls":7},{"$f":"MASTER!#REF!","v":{"$error":"#REF!"}}]
[{"$nulls":7},{"$f":"MASTER!#REF!","v":{"$error":"#REF!"}}]
[{"$nulls":7},{"$f":"MASTER!#REF!","v":{"$error":"#REF!"}}]
[{"$nulls":7},{"$f":"MASTER!#REF!","v":{"$error":"#REF!"}}]
[{"$nulls":7},{"$f":"MASTER!#REF!","v":{"$error":"#REF!"}}]
[{"$nulls":7},{"$f":"MASTER!#REF!","v":{"$error":"#REF!"}}]
[{"$nulls":7},{"$f":"MASTER!#REF!","v":{"$error":"#REF!"}}]

{"sheet":"TIME TABLE","index":2,"n_rows":14,"n_cols":8,"rows_kept":14,"merged":[[0,0,14,0],[0,1,0,7],[0,8,14,8],[1,1,1,5],[2,1,3,4],[2,6,3,6],[2,7,3,7],[4,5,4,6],[5,5,5,6],[6,5,6,6],[7,5,7,6],[8,5,8,6],[9,5,9,6],[14,1,14,7]]}
[null,{"$f":"MASTER!E11","v":"Govt. Sr. Secondary School Raimalwada"}]
[null,{"$f":"CONCATENATE(MASTER!E8,\":\",\" \",\"(\",MASTER!E6,\")\")","v":"TEST-I: (2025-26)"},{"$nulls":5},"TIME TABLE"]
[null,"Date (Day) ↓",{"$nulls":3},"Class","Subjects","Exam Paper"]
[{"$nulls":5},{"$f":"'STUDENT DETAIL'!E4","v":4}]
[null,"2022-03-31","(",{"$f":"IF(B5=0,0,TEXT(B5,\"dddd\"))","v":"Thursday"},")","Hindi",null,"09:00 AM to 11:45 AM"]
[null,{"$f":"B5+1","v":"2022-04-01"},"(",{"$f":"IF(B6=0,0,TEXT(B6,\"dddd\"))","v":"Friday"},")","English",null,{"$f":"H5","v":"09:00 AM to 11:45 AM"}]
[null,{"$f":"B6+1","v":"2022-04-02"},"(","Saturday",")","Science",null,{"$f":"H6","v":"09:00 AM to 11:45 AM"}]
[null,"2022-04-03","(","Sunday",")","Mathematics",null,"09:00 AM to 11:45 AM"]
[null,"2022-04-04","(","Monday",")","Social Study",null,"09:00 AM to 11:45 AM"]
[null,"2022-04-05","(","Tuesday",")","Sanskrit",null,"09:00 AM to 11:45 AM"]
[null,null,"(",0,")",null,null,"09:00 AM to 11:45 AM"]
[null,null,"(",0,")",null,null,"09:00 AM to 11:45 AM"]
[null,null,"(",0,")",null,null,"09:00 AM to 11:45 AM"]
[null,null,"(",0,")",null,null,"09:00 AM to 11:45 AM"]

{"sheet":"ADMIT CARD","index":3,"n_rows":3399,"n_cols":10,"rows_kept":3399,"merged":[[2891,0,2922,0],[2891,1,2892,2],[2891,3,2891,8],[2892,3,2892,8],[2893,1,2922,1],[2893,2,2893,7],[2893,8,2896,8],[2894,2,2894,7],[2895,2,2895,4],[2895,6,2895,7],[2896,2,2896,4],[2896,6,2896,7],[2897,2,2897,4],[2897,6,2897,7],[2897,8,2900,8],[2898,2,2898,4],[2898,6,2898,7],[2899,2,2899,4],[2899,6,2899,7],[2900,2,2900,4],[2900,6,2900,7],[2901,2,2901,8],[2902,2,2902,4],[2902,5,2902,6],[2902,7,2902,8],[2903,2,2903,3],[2903,5,2903,6],[2903,7,2903,8],[2904,2,2904,3],[2904,5,2904,6],[2904,7,2904,8],[2905,2,2905,3],[2905,5,2905,6],[2905,7,2905,8],[2906,2,2906,3],[2906,5,2906,6],[2906,7,2906,8],[2907,2,2907,3],[2907,5,2907,6],[2907,7,2907,8],[2909,5,2909,6],[2909,7,2909,8],[2910,2,2910,3],[2910,5,2910,6],[2910,7,2910,8],[2911,2,2911,3],[2911,5,2911,6],[2911,7,2911,8],[2912,2,2912,3],[2912,5,2912,6],[2912,7,2912,8],[2913,2,2913,8],[2914,3,2914,8],[2915,3,2915,8],[2916,3,2916,8],[2917,3,2917,8],[2918,3,2918,8],[2919,3,2919,8],[2920,3,2920,8],[2921,3,2921,8],[2922,3,2922,8],[2923,0,2923,8],[2924,1,2924,8],[2925,0,2956,0],[2925,1,2926,2],[2925,3,2925,8],[2926,3,2926,8],[2927,1,2956,1],[2927,2,2927,7],[2927,8,2930,8],[2928,2,2928,7],[2929,2,2929,4],[2929,6,2929,7],[2930,2,2930,4],[2930,6,2930,7],[2931,2,2931,4],[2931,6,2931,7],[2931,8,2934,8],[2932,2,2932,4],[2932,6,2932,7],[2933,2,2933,4],[2933,6,2933,7],[2934,2,2934,4],[2934,6,2934,7],[2935,2,2935,8],[2936,2,2936,4],[2936,5,2936,6],[2936,7,2936,8],[2937,2,2937,3],[2937,5,2937,6],[2937,7,2937,8],[2938,2,2938,3],[2938,5,2938,6],[2938,7,2938,8],[2939,2,2939,3],[2939,5,2939,6],[2939,7,2939,8],[2940,2,2940,3],[2940,5,2940,6],[2940,7,2940,8],[2941,2,2941,3],[2941,5,2941,6],[2941,7,2941,8],[2942,2,2942,3],[2942,5,2942,6],[2942,7,2942,8],[2943,2,2943,3],[2943,5,2943,6],[2943,7,2943,8],[2944,2,2944,3],[2944,5,2944,6],[2944,7,2944,8],[2945,2,2945,3],[2945,5,2945,6],[2945,7,2945,8],[2946,2,2946,3],[2946,5,2946,6],[2946,7,2946,8],[2947,2,2947,8],[2948,3,2948,8],[2949,3,2949,8],[2950,3,2950,8],[2951,3,2951,8],[2952,3,2952,8],[2953,3,2953,8],[2954,3,2954,8],[2955,3,2955,8],[2956,3,2956,8],[2957,0,2957,8],[2958,1,2958,8],[2959,0,2990,0],[2959,1,2960,2],[2959,3,2959,8],[2960,3,2960,8],[2961,1,2990,1],[2961,2,2961,7],[2961,8,2964,8],[2962,2,2962,7],[2963,2,2963,4],[2963,6,2963,7],[2964,2,2964,4],[2964,6,2964,7],[2965,2,2965,4],[2965,6,2965,7],[2965,8,2968,8],[2966,2,2966,4],[2966,6,2966,7],[2967,2,2967,4],[2967,6,2967,7],[2968,2,2968,4],[2968,6,2968,7],[2969,2,2969,8],[2970,2,2970,4],[2970,5,2970,6],[2970,7,2970,8],[2971,2,2971,3],[2971,5,2971,6],[2971,7,2971,8],[2972,2,2972,3],[2972,5,2972,6],[2972,7,2972,8],[2973,2,2973,3],[2973,5,2973,6],[2973,7,2973,8],[2974,2,2974,3],[2974,5,2974,6],[2974,7,2974,8],[2975,2,2975,3],[2975,5,2975,6],[2975,7,2975,8],[2976,2,2976,3],[2976,5,2976,6],[2976,7,2976,8],[2977,2,2977,3],[2977,5,2977,6],[2977,7,2977,8],[2978,2,2978,3],[2978,5,2978,6],[2978,7,2978,8],[2979,2,2979,3],[2979,5,2979,6],[2979,7,2979,8],[2980,2,2980,3],[2980,5,2980,6],[2980,7,2980,8],[2981,2,2981,8],[2982,3,2982,8],[2983,3,2983,8],[2984,3,2984,8],[2985,3,2985,8],[2986,3,2986,8],[2987,3,2987,8],[2988,3,2988,8],[2989,3,2989,8],[2990,3,2990,8],[2991,0,2991,8],[2992,1,2992,8],[2993,0,3024,0],[2993,1,2994,2],[2993,3,2993,8],[2994,3,2994,8],[2995,1,3024,1],[2995,2,2995,7],[2995,8,2998,8],[2996,2,2996,7],[2997,2,2997,4],[2997,6,2997,7],[2998,2,2998,4],[2998,6,2998,7],[2999,2,2999,4],[2999,6,2999,7],[2999,8,3002,8],[3000,2,3000,4],[3000,6,3000,7],[3001,2,3001,4],[3001,6,3001,7],[3002,2,3002,4],[3002,6,3002,7],[3003,2,3003,8],[3004,2,3004,4],[3004,5,3004,6],[3004,7,3004,8],[3005,2,3005,3],[3005,5,3005,6],[3005,7,3005,8],[3006,2,3006,3],[3006,5,3006,6],[3006,7,3006,8],[3007,2,3007,3],[3007,5,3007,6],[3007,7,3007,8],[3008,2,3008,3],[3008,5,3008,6],[3008,7,3008,8],[3009,2,3009,3],[3009,5,3009,6],[3009,7,3009,8],[3010,2,3010,3],[3010,5,3010,6],[3010,7,3010,8],[3011,2,3011,3],[3011,5,3011,6],[3011,7,3011,8],[3012,2,3012,3],[3012,5,3012,6],[3012,7,3012,8],[3013,2,3013,3],[3013,5,3013,6],[3013,7,3013,8],[3014,2,3014,3],[3014,5,3014,6],[3014,7,3014,8],[3015,2,3015,8],[3016,3,3016,8],[3017,3,3017,8],[3018,3,3018,8],[3019,3,3019,8],[3020,3,3020,8],[3021,3,3021,8],[3022,3,3022,8],[3023,3,3023,8],[3024,3,3024,8],[3025,0,3025,8],[3026,1,3026,8],[3027,0,3058,0],[3027,1,3028,2],[3027,3,3027,8],[3028,3,3028,8],[3029,1,3058,1],[3029,2,3029,7],[3029,8,3032,8],[3030,2,3030,7],[3031,2,3031,4],[3031,6,3031,7],[3032,2,3032,4],[3032,6,3032,7],[3033,2,3033,4],[3033,6,3033,7],[3033,8,3036,8],[3034,2,3034,4],[3034,6,3034,7],[3035,2,3035,4],[3035,6,3035,7],[3036,2,3036,4],[3036,6,3036,7],[3037,2,3037,8],[3038,2,3038,4],[3038,5,3038,6],[3038,7,3038,8],[3039,2,3039,3],[3039,5,3039,6],[3039,7,3039,8],[3040,2,3040,3],[3040,5,3040,6],[3040,7,3040,8],[3041,2,3041,3],[3041,5,3041,6],[3041,7,3041,8],[3042,2,3042,3],[3042,5,3042,6],[3042,7,3042,8],[3043,2,3043,3],[3043,5,3043,6],[3043,7,3043,8],[3044,2,3044,3],[3044,5,3044,6],[3044,7,3044,8],[3045,2,3045,3],[3045,5,3045,6],[3045,7,3045,8],[3046,2,3046,3],[3046,5,3046,6],[3046,7,3046,8],[3047,2,3047,3],[3047,5,3047,6],[3047,7,3047,8],[3048,2,3048,3],[3048,5,3048,6],[3048,7,3048,8],[3049,2,3049,8],[3050,3,3050,8],[3051,3,3051,8],[3052,3,3052,8],[3053,3,3053,8],[3054,3,3054,8],[3055,3,3055,8],[3056,3,3056,8],[3057,3,3057,8],[3058,3,3058,8],[3059,0,3059,8],[3060,1,3060,8],[3061,0,3092,0],[3061,1,3062,2],[3061,3,3061,8],[3062,3,3062,8],[3063,1,3092,1],[3063,2,3063,7],[3063,8,3066,8],[3064,2,3064,7],[3065,2,3065,4],[3065,6,3065,7],[3066,2,3066,4],[3066,6,3066,7],[3067,2,3067,4],[3067,6,3067,7],[3067,8,3070,8],[3068,2,3068,4],[3068,6,3068,7],[3069,2,3069,4],[3069,6,3069,7],[3070,2,3070,4],[3070,6,3070,7],[3071,2,3071,8],[3072,2,3072,4],[3072,5,3072,6],[3072,7,3072,8],[3073,2,3073,3],[3073,5,3073,6],[3073,7,3073,8],[3074,2,3074,3],[3074,5,3074,6],[3074,7,3074,8],[3075,2,3075,3],[3075,5,3075,6],[3075,7,3075,8],[3076,2,3076,3],[3076,5,3076,6],[3076,7,3076,8],[3077,2,3077,3],[3077,5,3077,6],[3077,7,3077,8],[3078,2,3078,3],[3078,5,3078,6],[3078,7,3078,8],[3079,2,3079,3],[3079,5,3079,6],[3079,7,3079,8],[3080,2,3080,3],[3080,5,3080,6],[3080,7,3080,8],[3081,2,3081,3],[3081,5,3081,6],[3081,7,3081,8],[3082,2,3082,3],[3082,5,3082,6],[3082,7,3082,8],[3083,2,3083,8],[3084,3,3084,8],[3085,3,3085,8],[3086,3,3086,8],[3087,3,3087,8],[3088,3,3088,8],[3089,3,3089,8],[3090,3,3090,8],[3091,3,3091,8],[3092,3,3092,8],[3093,0,3093,8],[3094,1,3094,8],[3095,0,3126,0],[3095,1,3096,2],[3095,3,3095,8],[3096,3,3096,8],[3097,1,3126,1],[3097,2,3097,7],[3097,8,3100,8],[3098,2,3098,7],[3099,2,3099,4],[3099,6,3099,7],[3100,2,3100,4],[3100,6,3100,7],[3101,2,3101,4],[3101,6,3101,7],[3101,8,3104,8],[3102,2,3102,4],[3102,6,3102,7],[3103,2,3103,4],[3103,6,3103,7],[3104,2,3104,4],[3104,6,3104,7],[3105,2,3105,8],[3106,2,3106,4],[3106,5,3106,6],[3106,7,3106,8],[3107,2,3107,3],[3107,5,3107,6],[3107,7,3107,8],[3108,2,3108,3],[3108,5,3108,6],[3108,7,3108,8],[3109,2,3109,3],[3109,5,3109,6],[3109,7,3109,8],[3110,2,3110,3],[3110,5,3110,6],[3110,7,3110,8],[3111,2,3111,3],[3111,5,3111,6],[3111,7,3111,8],[3112,2,3112,3],[3112,5,3112,6],[3112,7,3112,8],[3113,2,3113,3],[3113,5,3113,6],[3113,7,3113,8],[3114,2,3114,3],[3114,5,3114,6],[3114,7,3114,8],[3115,2,3115,3],[3115,5,3115,6],[3115,7,3115,8],[3116,2,3116,3],[3116,5,3116,6],[3116,7,3116,8],[3117,2,3117,8],[3118,3,3118,8],[3119,3,3119,8],[3120,3,3120,8],[3121,3,3121,8],[3122,3,3122,8],[3123,3,3123,8],[3124,3,3124,8],[3125,3,3125,8],[3126,3,3126,8],[3127,0,3127,8],[3128,1,3128,8],[3129,0,3160,0],[3129,1,3130,2],[3129,3,3129,8],[3130,3,3130,8],[3131,1,3160,1],[3131,2,3131,7],[3131,8,3134,8],[3132,2,3132,7],[3133,2,3133,4],[3133,6,3133,7],[3134,2,3134,4],[3134,6,3134,7],[3135,2,3135,4],[3135,6,3135,7],[3135,8,3138,8],[3136,2,3136,4],[3136,6,3136,7],[3137,2,3137,4],[3137,6,3137,7],[3138,2,3138,4],[3138,6,3138,7],[3139,2,3139,8],[3140,2,3140,4],[3140,5,3140,6],[3140,7,3140,8],[3141,2,3141,3],[3141,5,3141,6],[3141,7,3141,8],[3142,2,3142,3],[3142,5,3142,6],[3142,7,3142,8],[3143,2,3143,3],[3143,5,3143,6],[3143,7,3143,8],[3144,2,3144,3],[3144,5,3144,6],[3144,7,3144,8],[3145,2,3145,3],[3145,5,3145,6],[3145,7,3145,8],[3146,2,3146,3],[3146,5,3146,6],[3146,7,3146,8],[3147,2,3147,3],[3147,5,3147,6],[3147,7,3147,8],[3148,2,3148,3],[3148,5,3148,6],[3148,7,3148,8],[3149,2,3149,3],[3149,5,3149,6],[3149,7,3149,8],[3150,2,3150,3],[3150,5,3150,6],[3150,7,3150,8],[3151,2,3151,8],[3152,3,3152,8],[3153,3,3153,8],[3154,3,3154,8],[3155,3,3155,8],[3156,3,3156,8],[3157,3,3157,8],[3158,3,3158,8],[3159,3,3159,8],[3160,3,3160,8],[3161,0,3161,8],[3162,1,3162,8],[3163,0,3194,0],[3163,1,3164,2],[3163,3,3163,8],[3164,3,3164,8],[3165,1,3194,1],[3165,2,3165,7],[3165,8,3168,8],[3166,2,3166,7],[3167,2,3167,4],[3167,6,3167,7],[3168,2,3168,4],[3168,6,3168,7],[3169,2,3169,4],[3169,6,3169,7],[3169,8,3172,8],[3170,2,3170,4],[3170,6,3170,7],[3171,2,3171,4],[3171,6,3171,7],[3172,2,3172,4],[3172,6,3172,7],[3173,2,3173,8],[3174,2,3174,4],[3174,5,3174,6],[3174,7,3174,8],[3175,2,3175,3],[3175,5,3175,6],[3175,7,3175,8],[3176,2,3176,3],[3176,5,3176,6],[3176,7,3176,8],[3177,2,3177,3],[3177,5,3177,6],[3177,7,3177,8],[3178,2,3178,3],[3178,5,3178,6],[3178,7,3178,8],[3179,2,3179,3],[3179,5,3179,6],[3179,7,3179,8],[3180,2,3180,3],[3180,5,3180,6],[3180,7,3180,8],[3181,2,3181,3],[3181,5,3181,6],[3181,7,3181,8],[3182,2,3182,3],[3182,5,3182,6],[3182,7,3182,8],[3183,2,3183,3],[3183,5,3183,6],[3183,7,3183,8],[3184,2,3184,3],[3184,5,3184,6],[3184,7,3184,8],[3185,2,3185,8],[3186,3,3186,8],[3187,3,3187,8],[3188,3,3188,8],[3189,3,3189,8],[3190,3,3190,8],[3191,3,3191,8],[3192,3,3192,8],[3193,3,3193,8],[3194,3,3194,8],[3195,0,3195,8],[3196,1,3196,8],[3197,0,3228,0],[3197,1,3198,2],[3197,3,3197,8],[3198,3,3198,8],[3199,1,3228,1],[3199,2,3199,7],[3199,8,3202,8],[3200,2,3200,7],[3201,2,3201,4],[3201,6,3201,7],[3202,2,3202,4],[3202,6,3202,7],[3203,2,3203,4],[3203,6,3203,7],[3203,8,3206,8],[3204,2,3204,4],[3204,6,3204,7],[3205,2,3205,4],[3205,6,3205,7],[3206,2,3206,4],[3206,6,3206,7],[3207,2,3207,8],[3208,2,3208,4],[3208,5,3208,6],[3208,7,3208,8],[3209,2,3209,3],[3209,5,3209,6],[3209,7,3209,8],[3210,2,3210,3],[3210,5,3210,6],[3210,7,3210,8],[3211,2,3211,3],[3211,5,3211,6],[3211,7,3211,8],[3212,2,3212,3],[3212,5,3212,6],[3212,7,3212,8],[3213,2,3213,3],[3213,5,3213,6],[3213,7,3213,8],[3214,2,3214,3],[3214,5,3214,6],[3214,7,3214,8],[3215,2,3215,3],[3215,5,3215,6],[3215,7,3215,8],[3216,2,3216,3],[3216,5,3216,6],[3216,7,3216,8],[3217,2,3217,3],[3217,5,3217,6],[3217,7,3217,8],[3218,2,3218,3],[3218,5,3218,6],[3218,7,3218,8],[3219,2,3219,8],[3220,3,3220,8],[3221,3,3221,8],[3222,3,3222,8],[3223,3,3223,8],[3224,3,3224,8],[3225,3,3225,8],[3226,3,3226,8],[3227,3,3227,8],[3228,3,3228,8],[3229,0,3229,8],[3230,1,3230,8],[3231,0,3262,0],[3231,1,3232,2],[3231,3,3231,8],[3232,3,3232,8],[3233,1,3262,1],[3233,2,3233,7],[3233,8,3236,8],[3234,2,3234,7],[3235,2,3235,4],[3235,6,3235,7],[3236,2,3236,4],[3236,6,3236,7],[3237,2,3237,4],[3237,6,3237,7],[3237,8,3240,8],[3238,2,3238,4],[3238,6,3238,7],[3239,2,3239,4],[3239,6,3239,7],[3240,2,3240,4],[3240,6,3240,7],[3241,2,3241,8],[3242,2,3242,4],[3242,5,3242,6],[3242,7,3242,8],[3243,2,3243,3],[3243,5,3243,6],[3243,7,3243,8],[3244,2,3244,3],[3244,5,3244,6],[3244,7,3244,8],[3245,2,3245,3],[3245,5,3245,6],[3245,7,3245,8],[3246,2,3246,3],[3246,5,3246,6],[3246,7,3246,8],[3247,2,3247,3],[3247,5,3247,6],[3247,7,3247,8],[3248,2,3248,3],[3248,5,3248,6],[3248,7,3248,8],[3249,2,3249,3],[3249,5,3249,6],[3249,7,3249,8],[3250,2,3250,3],[3250,5,3250,6],[3250,7,3250,8],[3251,2,3251,3],[3251,5,3251,6],[3251,7,3251,8],[3252,2,3252,3],[3252,5,3252,6],[3252,7,3252,8],[3253,2,3253,8],[3254,3,3254,8],[3255,3,3255,8],[3256,3,3256,8],[3257,3,3257,8],[3258,3,3258,8],[3259,3,3259,8],[3260,3,3260,8],[3261,3,3261,8],[3262,3,3262,8],[3263,0,3263,8],[3264,1,3264,8],[3265,0,3296,0],[3265,1,3266,2],[3265,3,3265,8],[3266,3,3266,8],[3267,1,3296,1],[3267,2,3267,7],[3267,8,3270,8],[3268,2,3268,7],[3269,2,3269,4],[3269,6,3269,7],[3270,2,3270,4],[3270,6,3270,7],[3271,2,3271,4],[3271,6,3271,7],[3271,8,3274,8],[3272,2,3272,4],[3272,6,3272,7],[3273,2,3273,4],[3273,6,3273,7],[3274,2,3274,4],[3274,6,3274,7],[3275,2,3275,8],[3276,2,3276,4],[3276,5,3276,6],[3276,7,3276,8],[3277,2,3277,3],[3277,5,3277,6],[3277,7,3277,8],[3278,2,3278,3],[3278,5,3278,6],[3278,7,3278,8],[3279,2,3279,3],[3279,5,3279,6],[3279,7,3279,8],[3280,2,3280,3],[3280,5,3280,6],[3280,7,3280,8],[3281,2,3281,3],[3281,5,3281,6],[3281,7,3281,8],[3282,2,3282,3],[3282,5,3282,6],[3282,7,3282,8],[3283,2,3283,3],[3283,5,3283,6],[3283,7,3283,8],[3284,2,3284,3],[3284,5,3284,6],[3284,7,3284,8],[3285,2,3285,3],[3285,5,3285,6],[3285,7,3285,8],[3286,2,3286,3],[3286,5,3286,6],[3286,7,3286,8],[3287,2,3287,8],[3288,3,3288,8],[3289,3,3289,8],[3290,3,3290,8],[3291,3,3291,8],[3292,3,3292,8],[3293,3,3293,8],[3294,3,3294,8],[3295,3,3295,8],[3296,3,3296,8],[3297,0,3297,8],[3298,1,3298,8],[3299,0,3330,0],[3299,1,3300,2],[3299,3,3299,8],[3300,3,3300,8],[3301,1,3330,1],[3301,2,3301,7],[3301,8,3304,8],[3302,2,3302,7],[3303,2,3303,4],[3303,6,3303,7],[3304,2,3304,4],[3304,6,3304,7],[3305,2,3305,4],[3305,6,3305,7],[3305,8,3308,8],[3306,2,3306,4],[3306,6,3306,7],[3307,2,3307,4],[3307,6,3307,7],[3308,2,3308,4],[3308,6,3308,7],[3309,2,3309,8],[3310,2,3310,4],[3310,5,3310,6],[3310,7,3310,8],[3311,2,3311,3],[3311,5,3311,6],[3311,7,3311,8],[3312,2,3312,3],[3312,5,3312,6],[3312,7,3312,8],[3313,2,3313,3],[3313,5,3313,6],[3313,7,3313,8],[3314,2,3314,3],[3314,5,3314,6],[3314,7,3314,8],[3315,2,3315,3],[3315,5,3315,6],[3315,7,3315,8],[3316,2,3316,3],[3316,5,3316,6],[3316,7,3316,8],[3317,2,3317,3],[3317,5,3317,6],[3317,7,3317,8],[3318,2,3318,3],[3318,5,3318,6],[3318,7,3318,8],[3319,2,3319,3],[3319,5,3319,6],[3319,7,3319,8],[3320,2,3320,3],[3320,5,3320,6],[3320,7,3320,8],[3321,2,3321,8],[3322,3,3322,8],[3323,3,3323,8],[3324,3,3324,8],[3325,3,3325,8],[3326,3,3326,8],[3327,3,3327,8],[3328,3,3328,8],[3329,3,3329,8],[3330,3,3330,8],[3331,0,3331,8],[3332,1,3332,8],[3333,0,3364,0],[3333,1,3334,2],[3333,3,3333,8],[3334,3,3334,8],[3335,1,3364,1],[3335,2,3335,7],[3335,8,3338,8],[3336,2,3336,7],[3337,2,3337,4],[3337,6,3337,7],[3338,2,3338,4],[3338,6,3338,7],[3339,2,3339,4],[3339,6,3339,7],[3339,8,3342,8],[3340,2,3340,4],[3340,6,3340,7],[3341,2,3341,4],[3341,6,3341,7],[3342,2,3342,4],[3342,6,3342,7],[3343,2,3343,8],[3344,2,3344,4],[3344,5,3344,6],[3344,7,3344,8],[3345,2,3345,3],[3345,5,3345,6],[3345,7,3345,8],[3346,2,3346,3],[3346,5,3346,6],[3346,7,3346,8],[3347,2,3347,3],[3347,5,3347,6],[3347,7,3347,8],[3348,2,3348,3],[3348,5,3348,6],[3348,7,3348,8],[3349,2,3349,3],[3349,5,3349,6],[3349,7,3349,8],[3350,2,3350,3],[3350,5,3350,6],[3350,7,3350,8],[3351,2,3351,3],[3351,5,3351,6],[3351,7,3351,8],[3352,2,3352,3],[3352,5,3352,6],[3352,7,3352,8],[3353,2,3353,3],[3353,5,3353,6],[3353,7,3353,8],[3354,2,3354,3],[3354,5,3354,6],[3354,7,3354,8],[3355,2,3355,8],[3356,3,3356,8],[3357,3,3357,8],[3358,3,3358,8],[3359,3,3359,8],[3360,3,3360,8],[3361,3,3361,8],[3362,3,3362,8],[3363,3,3363,8],[3364,3,3364,8],[3365,0,3365,8],[3366,1,3366,8],[3367,0,3398,0],[3367,1,3368,2],[3367,3,3367,8],[3368,3,3368,8],[3369,1,3398,1],[3369,2,3369,7],[3369,8,3372,8],[3370,2,3370,7],[3371,2,3371,4],[3371,6,3371,7],[3372,2,3372,4],[3372,6,3372,7],[3373,2,3373,4],[3373,6,3373,7],[3373,8,3376,8],[3374,2,3374,4],[3374,6,3374,7],[3375,2,3375,4],[3375,6,3375,7],[3376,2,3376,4],[3376,6,3376,7],[3377,2,3377,8],[3378,2,3378,4],[3378,5,3378,6],[3378,7,3378,8],[3379,2,3379,3],[3379,5,3379,6],[3379,7,3379,8],[3380,2,3380,3],[3380,5,3380,6],[3380,7,3380,8],[3381,2,3381,3],[3381,5,3381,6],[3381,7,3381,8],[3382,2,3382,3],[3382,5,3382,6],[3382,7,3382,8],[3383,2,3383,3],[3383,5,3383,6],[3383,7,3383,8],[3384,2,3384,3],[3384,5,3384,6],[3384,7,3384,8],[3385,2,3385,3],[3385,5,3385,6],[3385,7,3385,8],[3386,2,3386,3],[3386,5,3386,6],[3386,7,3386,8],[3387,2,3387,3],[3387,5,3387,6],[3387,7,3387,8],[3388,2,3388,3],[3388,5,3388,6],[3388,7,3388,8],[3389,2,3389,8],[3390,3,3390,8],[3391,3,3391,8],[3392,3,3392,8],[3393,3,3393,8],[3394,3,3394,8],[3395,3,3395,8],[3396,3,3396,8],[3397,3,3397,8],[3398,3,3398,8],[3399,0,3399,8]],"merged_total":6700,"flags":["merged_cut"]}
[1]
[null,{"$f":"logo","v":{"$error":"#NAME?"}},null,{"$f":"MASTER!$E$11","v":"Govt. Sr. Secondary School Raimalwada"}]
[{"$nulls":3},{"$f":"MASTER!$E$14","v":"P.S.-Bapini (Phalodi)"}]
[null,{"$f":"CONCATENATE(C5,'TIME TABLE'!$C$5,'ADMIT CARD'!$C6,$F6,'ADMIT CARD'!$G6,'TIME TABLE'!$E$5)","v":"ADMIT CARD(Roll Number●→901)"},{"$f":"CONCATENATE('TIME TABLE'!$B$2,'TIME TABLE'!$F$2)","v":"TEST-I: (2025-26)"},{"$nulls":5},"Paste latest \nphoto of student"]
[null,null,"ADMIT CARD",{"$nulls":6}," "]
[null,null,"Roll Number",null,null,"●→",{"$f":"VLOOKUP(A1,'STUDENT DETAIL'!$C$8:$I$107,3)","v":901}]
[null,null,"Student's Name",null,null,"●→",{"$f":"IF(OR(G6=0,G6=\"\"),\"\",VLOOKUP(A1,'STUDENT DETAIL'!$C$8:$I$107,4))","v":"Akshya"}]
[null,null,"Father's Name",null,null,"●→",{"$f":"IF(OR(G6=0,G6=\"\"),\"\",VLOOKUP(A1,'STUDENT DETAIL'!$C$8:$I$107,5))","v":"Ram"},null,"Seal and Signature of Head of Institution"]
[null,null,"Mother's Name ",null,null,"●→",{"$f":"IF(OR(G6=0,G6=\"\"),\"\",VLOOKUP(A1,'STUDENT DETAIL'!$C$8:$I$107,6))","v":"Seeta"}]
[null,null,"Class & Section",null,null,"●→",{"$f":"IF(OR(G6=0,G6=\"\"),\"\",IF('STUDENT DETAIL'!$H$4=\"\",'STUDENT DETAIL'!$E$4,CONCATENATE('STUDENT DETAIL'!$E$4,\"   \",\"(\",'STUDENT DETAIL'!$H$4,\")\")))","v":"4   (A)"}]
[null,null,"Date Of Birth",null,null,"●→",{"$f":"IF(OR(G6=0,G6=\"\"),\"\",VLOOKUP(A1,'STUDENT DETAIL'!$C$8:$I$107,7))","v":"2000-02-05"}]
[null,null,"Time Table"]
[null,null,"Date (Day)",null,null,"Subject",null,"Time"]
[null,null,{"$f":"IF('TIME TABLE'!$B$5=\"\",\"\",'TIME TABLE'!$B$5)","v":"2022-03-31"},null,{"$f":"IF(C14=\"\",\"\",IF(C14>0,CONCATENATE('TIME TABLE'!$C$5,'TIME TABLE'!$D$5,'TIME TABLE'!$E$5)))","v":"(Thursday)"},{"$f":"IF(C14=\"\",\"\",'TIME TABLE'!$F$5)","v":"Hindi"},null,{"$f":"IF(F14=\"\",\"\",'TIME TABLE'!$H$5)","v":"09:00 AM to 11:45 AM"}]
[null,null,{"$f":"IF('TIME TABLE'!$B$6=\"\",\"\",'TIME TABLE'!$B$6)","v":"2022-04-01"},null,{"$f":"IF(C15=\"\",\"\",IF(C15>0,CONCATENATE('TIME TABLE'!$C$6,'TIME TABLE'!$D$6,'TIME TABLE'!$E$6)))","v":"(Friday)"},{"$f":"IF(C15=\"\",\"\",'TIME TABLE'!$F$6)","v":"English"},null,{"$f":"IF(F15=\"\",\"\",'TIME TABLE'!$H$6)","v":"09:00 AM to 11:45 AM"}]
[null,null,{"$f":"IF('TIME TABLE'!$B$7=\"\",\"\",'TIME TABLE'!$B$7)","v":"2022-04-02"},null,{"$f":"IF(C16=\"\",\"\",IF(C16>0,CONCATENATE('TIME TABLE'!$C$7,'TIME TABLE'!$D$7,'TIME TABLE'!$E$7)))","v":"(Saturday)"},{"$f":"IF(C16=\"\",\"\",'TIME TABLE'!$F$7)","v":"Science"},null,{"$f":"IF(F16=\"\",\"\",'TIME TABLE'!$H$7)","v":"09:00 AM to 11:45 AM"}]
[null,null,{"$f":"IF('TIME TABLE'!$B$8=\"\",\"\",'TIME TABLE'!$B$8)","v":"2022-04-03"},null,{"$f":"IF(C17=\"\",\"\",IF(C17>0,CONCATENATE('TIME TABLE'!$C$8,'TIME TABLE'!$D$8,'TIME TABLE'!$E$8)))","v":"(Sunday)"},{"$f":"IF(C17=\"\",\"\",'TIME TABLE'!$F$8)","v":"Mathematics"},null,{"$f":"IF(F17=\"\",\"\",'TIME TABLE'!$H$8)","v":"09:00 AM to 11:45 AM"}]
[null,null,{"$f":"IF('TIME TABLE'!$B$9=\"\",\"\",'TIME TABLE'!$B$9)","v":"2022-04-04"},null,{"$f":"IF(C18=\"\",\"\",IF(C18>0,CONCATENATE('TIME TABLE'!$C$9,'TIME TABLE'!$D$9,'TIME TABLE'!$E$9)))","v":"(Monday)"},{"$f":"IF(C18=\"\",\"\",'TIME TABLE'!$F$9)","v":"Social Study"},null,{"$f":"IF(F18=\"\",\"\",'TIME TABLE'!$H$9)","v":"09:00 AM to 11:45 AM"}]
[null,null,{"$f":"IF('TIME TABLE'!$B$10=\"\",\"\",'TIME TABLE'!$B$10)","v":"2022-04-05"},null,{"$f":"IF(C19=\"\",\"\",IF(C19>0,CONCATENATE('TIME TABLE'!$C$10,'TIME TABLE'!$D$10,'TIME TABLE'!$E$10)))","v":"(Tuesday)"},{"$f":"IF(C19=\"\",\"\",'TIME TABLE'!$F$10)","v":"Sanskrit"},null,{"$f":"IF(F19=\"\",\"\",'TIME TABLE'!$H$10)","v":"09:00 AM to 11:45 AM"}]
[null,null,{"$f":"IF('TIME TABLE'!$B$11=\"\",\"\",'TIME TABLE'!$B$11)","v":""},null,{"$f":"IF(C20=\"\",\"\",IF(C20>0,CONCATENATE('TIME TABLE'!$C$11,'TIME TABLE'!$D$11,'TIME TABLE'!$E$11)))","v":""},{"$f":"IF(C20=\"\",\"\",'TIME TABLE'!$F$11)","v":""},null,{"$f":"IF(F20=\"\",\"\",'TIME TABLE'!$H$11)","v":""}]
[null,null,{"$f":"IF('TIME TABLE'!$B$12=\"\",\"\",'TIME TABLE'!$B$12)","v":""},null,{"$f":"IF(C21=\"\",\"\",IF(C21>0,CONCATENATE('TIME TABLE'!$C$12,'TIME TABLE'!$D$12,'TIME TABLE'!$E$12)))","v":""},{"$f":"IF(C21=\"\",\"\",'TIME TABLE'!$F$12)","v":""},null,{"$f":"IF(C21=\"\",\"\",'TIME TABLE'!$H$12)","v":""}]
[null,null,{"$f":"IF('TIME TABLE'!$B$13=\"\",\"\",'TIME TABLE'!$B$13)","v":""},null,{"$f":"IF(C22=\"\",\"\",IF(C22>0,CONCATENATE('TIME TABLE'!$C$11,'TIME TABLE'!$D$11,'TIME TABLE'!$E$11)))","v":""},{"$f":"IF(C22=\"\",\"\",'TIME TABLE'!$F$13)","v":""},null,{"$f":"IF(C22=\"\",\"\",'TIME TABLE'!$H$13)","v":""}]
[null,null,{"$f":"IF('TIME TABLE'!$B$14=\"\",\"\",'TIME TABLE'!$B$14)","v":""},null,{"$f":"IF(C23=\"\",\"\",IF(C23>0,CONCATENATE('TIME TABLE'!$C$11,'TIME TABLE'!$D$11,'TIME TABLE'!$E$11)))","v":""},{"$f":"IF(C23=\"\",\"\",'TIME TABLE'!$F$14)","v":""},null,{"$f":"IF(C23=\"\",\"\",'TIME TABLE'!$H$14)","v":""}]
[null,null,"Instructions"]
[null,null,1,"Check the exam time table carefully."]
[null,null,2,"Students must bring the 'Admit Card' and show it to the invigilator(s) on duty and should preserve it for future requirements."]
[null,null,3,"Mobile Phone, Calculator, Digital Watch or any Electronic Device is NOT ALLOWED."]
[null,null,4,"Arrive at the School at least 15 minutes before the start examination."]
[null,null,5,"Student is barred from entering the examination hall 15 minutes after the written examination starts."]
[null,null,6,"Ensure that you use the washroom before arriving for your exam as you will not be permitted to leave during the first hour."]
[null,null,7,"Normally, you are required to answer questionsusing blue or black in . Make sure you bring some spare pens with you."]
[null,null,8,"Keep your eyes on your own paper. Remember, copying is cheating!"]
[null,null,9,"You must remain silent until after you have exited the school building."]
[]
[{"$f":"A1+1","v":2}]
[null,{"$f":"logo","v":{"$error":"#NAME?"}},null,{"$f":"MASTER!$E$11","v":"Govt. Sr. Secondary School Raimalwada"}]
[{"$nulls":3},{"$f":"MASTER!$E$14","v":"P.S.-Bapini (Phalodi)"}]
[null,{"$f":"CONCATENATE(C39,'TIME TABLE'!$C$5,'ADMIT CARD'!$C40,$F40,'ADMIT CARD'!$G40,'TIME TABLE'!$E$5)","v":"ADMIT CARD(Roll Number●→902)"},{"$f":"CONCATENATE('TIME TABLE'!$B$2,'TIME TABLE'!$F$2)","v":"TEST-I: (2025-26)"},{"$nulls":5},"Paste latest \nphoto of student"]
[null,null,"ADMIT CARD",{"$nulls":6}," "]
[null,null,"Roll Number",null,null,"●→",{"$f":"VLOOKUP(A35,'STUDENT DETAIL'!$C$8:$I$107,3)","v":902}]
[null,null,"Student's Name",null,null,"●→",{"$f":"IF(OR(G40=0,G40=\"\"),\"\",VLOOKUP(A35,'STUDENT DETAIL'!$C$8:$I$107,4))","v":"ram"}]
[null,null,"Father's Name",null,null,"●→",{"$f":"IF(OR(G40=0,G40=\"\"),\"\",VLOOKUP(A35,'STUDENT DETAIL'!$C$8:$I$107,5))","v":"sdadbh"},null,"Seal and Signature of Head of Institution"]
[null,null,"Mother's Name ",null,null,"●→",{"$f":"IF(OR(G40=0,G40=\"\"),\"\",VLOOKUP(A35,'STUDENT DETAIL'!$C$8:$I$107,6))","v":"jsadkcna"}]
[null,null,"Class & Section",null,null,"●→",{"$f":"IF(OR(G40=0,G40=\"\"),\"\",IF('STUDENT DETAIL'!$H$4=\"\",'STUDENT DETAIL'!$E$4,CONCATENATE('STUDENT DETAIL'!$E$4,\"   \",\"(\",'STUDENT DETAIL'!$H$4,\")\")))","v":"4   (A)"}]
[null,null,"Date Of Birth",null,null,"●→",{"$f":"IF(OR(G40=0,G40=\"\"),\"\",VLOOKUP(A35,'STUDENT DETAIL'!$C$8:$I$107,7))","v":"2001-03-05"}]
[null,null,"Time Table"]
[null,null,"Date (Day)",null,null,"Subject",null,"Time"]
[null,null,{"$f":"IF('TIME TABLE'!$B$5=\"\",\"\",'TIME TABLE'!$B$5)","v":"2022-03-31"},null,{"$f":"IF(C48=\"\",\"\",IF(C48>0,CONCATENATE('TIME TABLE'!$C$5,'TIME TABLE'!$D$5,'TIME TABLE'!$E$5)))","v":"(Thursday)"},{"$f":"IF(C48=\"\",\"\",'TIME TABLE'!$F$5)","v":"Hindi"},null,{"$f":"IF(F48=\"\",\"\",'TIME TABLE'!$H$5)","v":"09:00 AM to 11:45 AM"}]
[null,null,{"$f":"IF('TIME TABLE'!$B$6=\"\",\"\",'TIME TABLE'!$B$6)","v":"2022-04-01"},null,{"$f":"IF(C49=\"\",\"\",IF(C49>0,CONCATENATE('TIME TABLE'!$C$6,'TIME TABLE'!$D$6,'TIME TABLE'!$E$6)))","v":"(Friday)"},{"$f":"IF(C49=\"\",\"\",'TIME TABLE'!$F$6)","v":"English"},null,{"$f":"IF(F49=\"\",\"\",'TIME TABLE'!$H$6)","v":"09:00 AM to 11:45 AM"}]
[null,null,{"$f":"IF('TIME TABLE'!$B$7=\"\",\"\",'TIME TABLE'!$B$7)","v":"2022-04-02"},null,{"$f":"IF(C50=\"\",\"\",IF(C50>0,CONCATENATE('TIME TABLE'!$C$7,'TIME TABLE'!$D$7,'TIME TABLE'!$E$7)))","v":"(Saturday)"},{"$f":"IF(C50=\"\",\"\",'TIME TABLE'!$F$7)","v":"Science"},null,{"$f":"IF(F50=\"\",\"\",'TIME TABLE'!$H$7)","v":"09:00 AM to 11:45 AM"}]
[null,null,{"$f":"IF('TIME TABLE'!$B$8=\"\",\"\",'TIME TABLE'!$B$8)","v":"2022-04-03"},null,{"$f":"IF(C51=\"\",\"\",IF(C51>0,CONCATENATE('TIME TABLE'!$C$8,'TIME TABLE'!$D$8,'TIME TABLE'!$E$8)))","v":"(Sunday)"},{"$f":"IF(C51=\"\",\"\",'TIME TABLE'!$F$8)","v":"Mathematics"},null,{"$f":"IF(F51=\"\",\"\",'TIME TABLE'!$H$8)","v":"09:00 AM to 11:45 AM"}]
[null,null,{"$f":"IF('TIME TABLE'!$B$9=\"\",\"\",'TIME TABLE'!$B$9)","v":"2022-04-04"},null,{"$f":"IF(C52=\"\",\"\",IF(C52>0,CONCATENATE('TIME TABLE'!$C$9,'TIME TABLE'!$D$9,'TIME TABLE'!$E$9)))","v":"(Monday)"},{"$f":"IF(C52=\"\",\"\",'TIME TABLE'!$F$9)","v":"Social Study"},null,{"$f":"IF(F52=\"\",\"\",'TIME TABLE'!$H$9)","v":"09:00 AM to 11:45 AM"}]
[null,null,{"$f":"IF('TIME TABLE'!$B$10=\"\",\"\",'TIME TABLE'!$B$10)","v":"2022-04-05"},null,{"$f":"IF(C53=\"\",\"\",IF(C53>0,CONCATENATE('TIME TABLE'!$C$10,'TIME TABLE'!$D$10,'TIME TABLE'!$E$10)))","v":"(Tuesday)"},{"$f":"IF(C53=\"\",\"\",'TIME TABLE'!$F$10)","v":"Sanskrit"},null,{"$f":"IF(F53=\"\",\"\",'TIME TABLE'!$H$10)","v":"09:00 AM to 11:45 AM"}]
[null,null,{"$f":"IF('TIME TABLE'!$B$11=\"\",\"\",'TIME TABLE'!$B$11)","v":""},null,{"$f":"IF(C54=\"\",\"\",IF(C54>0,CONCATENATE('TIME TABLE'!$C$11,'TIME TABLE'!$D$11,'TIME TABLE'!$E$11)))","v":""},{"$f":"IF(C54=\"\",\"\",'TIME TABLE'!$F$11)","v":""},null,{"$f":"IF(F54=\"\",\"\",'TIME TABLE'!$H$11)","v":""}]
[null,null,{"$f":"IF('TIME TABLE'!$B$12=\"\",\"\",'TIME TABLE'!$B$12)","v":""},null,{"$f":"IF(C55=\"\",\"\",IF(C55>0,CONCATENATE('TIME TABLE'!$C$12,'TIME TABLE'!$D$12,'TIME TABLE'!$E$12)))","v":""},{"$f":"IF(C55=\"\",\"\",'TIME TABLE'!$F$12)","v":""},null,{"$f":"IF(C55=\"\",\"\",'TIME TABLE'!$H$12)","v":""}]
[null,null,{"$f":"IF('TIME TABLE'!$B$13=\"\",\"\",'TIME TABLE'!$B$13)","v":""},null,{"$f":"IF(C56=\"\",\"\",IF(C56>0,CONCATENATE('TIME TABLE'!$C$11,'TIME TABLE'!$D$11,'TIME TABLE'!$E$11)))","v":""},{"$f":"IF(C56=\"\",\"\",'TIME TABLE'!$F$13)","v":""},null,{"$f":"IF(C56=\"\",\"\",'TIME TABLE'!$H$13)","v":""}]
[null,null,{"$f":"IF('TIME TABLE'!$B$14=\"\",\"\",'TIME TABLE'!$B$14)","v":""},null,{"$f":"IF(C57=\"\",\"\",IF(C57>0,CONCATENATE('TIME TABLE'!$C$11,'TIME TABLE'!$D$11,'TIME TABLE'!$E$11)))","v":""},{"$f":"IF(C57=\"\",\"\",'TIME TABLE'!$F$14)","v":""},null,{"$f":"IF(C57=\"\",\"\",'TIME TABLE'!$H$14)","v":""}]
[null,null,"Instructions"]
[null,null,1,"Check the exam time table carefully."]
[null,null,2,"Students must bring the 'Admit Card' and show it to the invigilator(s) on duty and should preserve it for future requirements."]
[null,null,3,"Mobile Phone, Calculator, Digital Watch or any Electronic Device is NOT ALLOWED."]
[null,null,4,"Arrive at the School at least 15 minutes before the start examination."]
[null,null,5,"Student is barred from entering the examination hall 15 minutes after the written examination starts."]
[null,null,6,"Ensure that you use the washroom before arriving for your exam as you will not be permitted to leave during the first hour."]
[null,null,7,"Normally, you are required to answer questionsusing blue or black in . Make sure you bring some spare pens with you."]
[null,null,8,"Keep your eyes on your own paper. Remember, copying is cheating!"]
[null,null,9,"You must remain silent until after you have exited the school building."]
[]
[{"$f":"A35+1","v":3}]
[null,{"$f":"logo","v":{"$error":"#NAME?"}},null,{"$f":"MASTER!$E$11","v":"Govt. Sr. Secondary School Raimalwada"}]
[{"$nulls":3},{"$f":"MASTER!$E$14","v":"P.S.-Bapini (Phalodi)"}]
[null,{"$f":"CONCATENATE(C73,'TIME TABLE'!$C$5,'ADMIT CARD'!$C74,$F74,'ADMIT CARD'!$G74,'TIME TABLE'!$E$5)","v":"ADMIT CARD(Roll Number●→0)"},{"$f":"CONCATENATE('TIME TABLE'!$B$2,'TIME TABLE'!$F$2)","v":"TEST-I: (2025-26)"},{"$nulls":5},"Paste latest \nphoto of student"]
[null,null,"ADMIT CARD",{"$nulls":6}," "]
[null,null,"Roll Number",null,null,"●→",{"$f":"VLOOKUP(A69,'STUDENT DETAIL'!$C$8:$I$107,3)","v":0}]
[null,null,"Student's Name",null,null,"●→",{"$f":"IF(OR(G74=0,G74=\"\"),\"\",VLOOKUP(A69,'STUDENT DETAIL'!$C$8:$I$107,4))","v":""}]
[null,null,"Father's Name",null,null,"●→",{"$f":"IF(OR(G74=0,G74=\"\"),\"\",VLOOKUP(A69,'STUDENT DETAIL'!$C$8:$I$107,5))","v":""},null,"Seal and Signature of Head of Institution"]
[null,null,"Mother's Name ",null,null,"●→",{"$f":"IF(OR(G74=0,G74=\"\"),\"\",VLOOKUP(A69,'STUDENT DETAIL'!$C$8:$I$107,6))","v":""}]
[null,null,"Class & Section",null,null,"●→",{"$f":"IF(OR(G74=0,G74=\"\"),\"\",IF('STUDENT DETAIL'!$H$4=\"\",'STUDENT DETAIL'!$E$4,CONCATENATE('STUDENT DETAIL'!$E$4,\"   \",\"(\",'STUDENT DETAIL'!$H$4,\")\")))","v":""}]
[null,null,"Date Of Birth",null,null,"●→",{"$f":"IF(OR(G74=0,G74=\"\"),\"\",VLOOKUP(A69,'STUDENT DETAIL'!$C$8:$I$107,7))","v":""}]
[null,null,"Time Table"]
[null,null,"Date (Day)",null,null,"Subject",null,"Time"]
[null,null,{"$f":"IF('TIME TABLE'!$B$5=\"\",\"\",'TIME TABLE'!$B$5)","v":"2022-03-31"},null,{"$f":"IF(C82=\"\",\"\",IF(C82>0,CONCATENATE('TIME TABLE'!$C$5,'TIME TABLE'!$D$5,'TIME TABLE'!$E$5)))","v":"(Thursday)"},{"$f":"IF(C82=\"\",\"\",'TIME TABLE'!$F$5)","v":"Hindi"},null,{"$f":"IF(F82=\"\",\"\",'TIME TABLE'!$H$5)","v":"09:00 AM to 11:45 AM"}]
[null,null,{"$f":"IF('TIME TABLE'!$B$6=\"\",\"\",'TIME TABLE'!$B$6)","v":"2022-04-01"},null,{"$f":"IF(C83=\"\",\"\",IF(C83>0,CONCATENATE('TIME TABLE'!$C$6,'TIME TABLE'!$D$6,'TIME TABLE'!$E$6)))","v":"(Friday)"},{"$f":"IF(C83=\"\",\"\",'TIME TABLE'!$F$6)","v":"English"},null,{"$f":"IF(F83=\"\",\"\",'TIME TABLE'!$H$6)","v":"09:00 AM to 11:45 AM"}]
[null,null,{"$f":"IF('TIME TABLE'!$B$7=\"\",\"\",'TIME TABLE'!$B$7)","v":"2022-04-02"},null,{"$f":"IF(C84=\"\",\"\",IF(C84>0,CONCATENATE('TIME TABLE'!$C$7,'TIME TABLE'!$D$7,'TIME TABLE'!$E$7)))","v":"(Saturday)"},{"$f":"IF(C84=\"\",\"\",'TIME TABLE'!$F$7)","v":"Science"},null,{"$f":"IF(F84=\"\",\"\",'TIME TABLE'!$H$7)","v":"09:00 AM to 11:45 AM"}]
[null,null,{"$f":"IF('TIME TABLE'!$B$8=\"\",\"\",'TIME TABLE'!$B$8)","v":"2022-04-03"},null,{"$f":"IF(C85=\"\",\"\",IF(C85>0,CONCATENATE('TIME TABLE'!$C$8,'TIME TABLE'!$D$8,'TIME TABLE'!$E$8)))","v":"(Sunday)"},{"$f":"IF(C85=\"\",\"\",'TIME TABLE'!$F$8)","v":"Mathematics"},null,{"$f":"IF(F85=\"\",\"\",'TIME TABLE'!$H$8)","v":"09:00 AM to 11:45 AM"}]
[null,null,{"$f":"IF('TIME TABLE'!$B$9=\"\",\"\",'TIME TABLE'!$B$9)","v":"2022-04-04"},null,{"$f":"IF(C86=\"\",\"\",IF(C86>0,CONCATENATE('TIME TABLE'!$C$9,'TIME TABLE'!$D$9,'TIME TABLE'!$E$9)))","v":"(Monday)"},{"$f":"IF(C86=\"\",\"\",'TIME TABLE'!$F$9)","v":"Social Study"},null,{"$f":"IF(F86=\"\",\"\",'TIME TABLE'!$H$9)","v":"09:00 AM to 11:45 AM"}]
[null,null,{"$f":"IF('TIME TABLE'!$B$10=\"\",\"\",'TIME TABLE'!$B$10)","v":"2022-04-05"},null,{"$f":"IF(C87=\"\",\"\",IF(C87>0,CONCATENATE('TIME TABLE'!$C$10,'TIME TABLE'!$D$10,'TIME TABLE'!$E$10)))","v":"(Tuesday)"},{"$f":"IF(C87=\"\",\"\",'TIME TABLE'!$F$10)","v":"Sanskrit"},null,{"$f":"IF(F87=\"\",\"\",'TIME TABLE'!$H$10)","v":"09:00 AM to 11:45 AM"}]
[null,null,{"$f":"IF('TIME TABLE'!$B$11=\"\",\"\",'TIME TABLE'!$B$11)","v":""},null,{"$f":"IF(C88=\"\",\"\",IF(C88>0,CONCATENATE('TIME TABLE'!$C$11,'TIME TABLE'!$D$11,'TIME TABLE'!$E$11)))","v":""},{"$f":"IF(C88=\"\",\"\",'TIME TABLE'!$F$11)","v":""},null,{"$f":"IF(F88=\"\",\"\",'TIME TABLE'!$H$11)","v":""}]
[null,null,{"$f":"IF('TIME TABLE'!$B$12=\"\",\"\",'TIME TABLE'!$B$12)","v":""},null,{"$f":"IF(C89=\"\",\"\",IF(C89>0,CONCATENATE('TIME TABLE'!$C$12,'TIME TABLE'!$D$12,'TIME TABLE'!$E$12)))","v":""},{"$f":"IF(C89=\"\",\"\",'TIME TABLE'!$F$12)","v":""},null,{"$f":"IF(C89=\"\",\"\",'TIME TABLE'!$H$12)","v":""}]
[null,null,{"$f":"IF('TIME TABLE'!$B$13=\"\",\"\",'TIME TABLE'!$B$13)","v":""},null,{"$f":"IF(C90=\"\",\"\",IF(C90>0,CONCATENATE('TIME TABLE'!$C$11,'TIME TABLE'!$D$11,'TIME TABLE'!$E$11)))","v":""},{"$f":"IF(C90=\"\",\"\",'TIME TABLE'!$F$13)","v":""},null,{"$f":"IF(C90=\"\",\"\",'TIME TABLE'!$H$13)","v":""}]
[null,null,{"$f":"IF('TIME TABLE'!$B$14=\"\",\"\",'TIME TABLE'!$B$14)","v":""},null,{"$f":"IF(C91=\"\",\"\",IF(C91>0,CONCATENATE('TIME TABLE'!$C$11,'TIME TABLE'!$D$11,'TIME TABLE'!$E$11)))","v":""},{"$f":"IF(C91=\"\",\"\",'TIME TABLE'!$F$14)","v":""},null,{"$f":"IF(C91=\"\",\"\",'TIME TABLE'!$H$14)","v":""}]
[null,null,"Instructions"]
[null,null,1,"Check the exam time table carefully."]
[null,null,2,"Students must bring the 'Admit Card' and show it to the invigilator(s) on duty and should preserve it for future requirements."]
[null,null,3,"Mobile Phone, Calculator, Digital Watch or any Electronic Device is NOT ALLOWED."]
[null,null,4,"Arrive at the School at least 15 minutes before the start examination."]
[null,null,5,"Student is barred from entering the examination hall 15 minutes after the written examination starts."]
[null,null,6,"Ensure that you use the washroom before arriving for your exam as you will not be permitted to leave during the first hour."]
[null,null,7,"Normally, you are required to answer questionsusing blue or black in . Make sure you bring some spare pens with you."]
[null,null,8,"Keep your eyes on your own paper. Remember, copying is cheating!"]
[null,null,9,"You must remain silent until after you have exited the school building."]
[]
[{"$f":"A69+1","v":4}]
[null,{"$f":"logo","v":{"$error":"#NAME?"}},null,{"$f":"MASTER!$E$11","v":"Govt. Sr. Secondary School Raimalwada"}]
[{"$nulls":3},{"$f":"MASTER!$E$14","v":"P.S.-Bapini (Phalodi)"}]
[null,{"$f":"CONCATENATE(C107,'TIME TABLE'!$C$5,'ADMIT CARD'!$C108,$F108,'ADMIT CARD'!$G108,'TIME TABLE'!$E$5)","v":"ADMIT CARD(Roll Number●→0)"},{"$f":"CONCATENATE('TIME TABLE'!$B$2,'TIME TABLE'!$F$2)","v":"TEST-I: (2025-26)"},{"$nulls":5},"Paste latest \nphoto of student"]
[null,null,"ADMIT CARD",{"$nulls":6}," "]
[null,null,"Roll Number",null,null,"●→",{"$f":"VLOOKUP(A103,'STUDENT DETAIL'!$C$8:$I$107,3)","v":0}]
[null,null,"Student's Name",null,null,"●→",{"$f":"IF(OR(G108=0,G108=\"\"),\"\",VLOOKUP(A103,'STUDENT DETAIL'!$C$8:$I$107,4))","v":""}]
[null,null,"Father's Name",null,null,"●→",{"$f":"IF(OR(G108=0,G108=\"\"),\"\",VLOOKUP(A103,'STUDENT DETAIL'!$C$8:$I$107,5))","v":""},null,"Seal and Signature of Head of Institution"]
[null,null,"Mother's Name ",null,null,"●→",{"$f":"IF(OR(G108=0,G108=\"\"),\"\",VLOOKUP(A103,'STUDENT DETAIL'!$C$8:$I$107,6))","v":""}]
[null,null,"Class & Section",null,null,"●→",{"$f":"IF(OR(G108=0,G108=\"\"),\"\",IF('STUDENT DETAIL'!$H$4=\"\",'STUDENT DETAIL'!$E$4,CONCATENATE('STUDENT DETAIL'!$E$4,\"   \",\"(\",'STUDENT DETAIL'!$H$4,\")\")))","v":""}]
[null,null,"Date Of Birth",null,null,"●→",{"$f":"IF(OR(G108=0,G108=\"\"),\"\",VLOOKUP(A103,'STUDENT DETAIL'!$C$8:$I$107,7))","v":""}]
[null,null,"Time Table"]
[null,null,"Date (Day)",null,null,"Subject",null,"Time"]
[null,null,{"$f":"IF('TIME TABLE'!$B$5=\"\",\"\",'TIME TABLE'!$B$5)","v":"2022-03-31"},null,{"$f":"IF(C116=\"\",\"\",IF(C116>0,CONCATENATE('TIME TABLE'!$C$5,'TIME TABLE'!$D$5,'TIME TABLE'!$E$5)))","v":"(Thursday)"},{"$f":"IF(C116=\"\",\"\",'TIME TABLE'!$F$5)","v":"Hindi"},null,{"$f":"IF(F116=\"\",\"\",'TIME TABLE'!$H$5)","v":"09:00 AM to 11:45 AM"}]
[null,null,{"$f":"IF('TIME TABLE'!$B$6=\"\",\"\",'TIME TABLE'!$B$6)","v":"2022-04-01"},null,{"$f":"IF(C117=\"\",\"\",IF(C117>0,CONCATENATE('TIME TABLE'!$C$6,'TIME TABLE'!$D$6,'TIME TABLE'!$E$6)))","v":"(Friday)"},{"$f":"IF(C117=\"\",\"\",'TIME TABLE'!$F$6)","v":"English"},null,{"$f":"IF(F117=\"\",\"\",'TIME TABLE'!$H$6)","v":"09:00 AM to 11:45 AM"}]
[null,null,{"$f":"IF('TIME TABLE'!$B$7=\"\",\"\",'TIME TABLE'!$B$7)","v":"2022-04-02"},null,{"$f":"IF(C118=\"\",\"\",IF(C118>0,CONCATENATE('TIME TABLE'!$C$7,'TIME TABLE'!$D$7,'TIME TABLE'!$E$7)))","v":"(Saturday)"},{"$f":"IF(C118=\"\",\"\",'TIME TABLE'!$F$7)","v":"Science"},null,{"$f":"IF(F118=\"\",\"\",'TIME TABLE'!$H$7)","v":"09:00 AM to 11:45 AM"}]
[null,null,{"$f":"IF('TIME TABLE'!$B$8=\"\",\"\",'TIME TABLE'!$B$8)","v":"2022-04-03"},null,{"$f":"IF(C119=\"\",\"\",IF(C119>0,CONCATENATE('TIME TABLE'!$C$8,'TIME TABLE'!$D$8,'TIME TABLE'!$E$8)))","v":"(Sunday)"},{"$f":"IF(C119=\"\",\"\",'TIME TABLE'!$F$8)","v":"Mathematics"},null,{"$f":"IF(F119=\"\",\"\",'TIME TABLE'!$H$8)","v":"09:00 AM to 11:45 AM"}]
[null,null,{"$f":"IF('TIME TABLE'!$B$9=\"\",\"\",'TIME TABLE'!$B$9)","v":"2022-04-04"},null,{"$f":"IF(C120=\"\",\"\",IF(C120>0,CONCATENATE('TIME TABLE'!$C$9,'TIME TABLE'!$D$9,'TIME TABLE'!$E$9)))","v":"(Monday)"},{"$f":"IF(C120=\"\",\"\",'TIME TABLE'!$F$9)","v":"Social Study"},null,{"$f":"IF(F120=\"\",\"\",'TIME TABLE'!$H$9)","v":"09:00 AM to 11:45 AM"}]
[null,null,{"$f":"IF('TIME TABLE'!$B$10=\"\",\"\",'TIME TABLE'!$B$10)","v":"2022-04-05"},null,{"$f":"IF(C121=\"\",\"\",IF(C121>0,CONCATENATE('TIME TABLE'!$C$10,'TIME TABLE'!$D$10,'TIME TABLE'!$E$10)))","v":"(Tuesday)"},{"$f":"IF(C121=\"\",\"\",'TIME TABLE'!$F$10)","v":"Sanskrit"},null,{"$f":"IF(F121=\"\",\"\",'TIME TABLE'!$H$10)","v":"09:00 AM to 11:45 AM"}]
[null,null,{"$f":"IF('TIME TABLE'!$B$11=\"\",\"\",'TIME TABLE'!$B$11)","v":""},null,{"$f":"IF(C122=\"\",\"\",IF(C122>0,CONCATENATE('TIME TABLE'!$C$11,'TIME TABLE'!$D$11,'TIME TABLE'!$E$11)))","v":""},{"$f":"IF(C122=\"\",\"\",'TIME TABLE'!$F$11)","v":""},null,{"$f":"IF(F122=\"\",\"\",'TIME TABLE'!$H$11)","v":""}]
[null,null,{"$f":"IF('TIME TABLE'!$B$12=\"\",\"\",'TIME TABLE'!$B$12)","v":""},null,{"$f":"IF(C123=\"\",\"\",IF(C123>0,CONCATENATE('TIME TABLE'!$C$12,'TIME TABLE'!$D$12,'TIME TABLE'!$E$12)))","v":""},{"$f":"IF(C123=\"\",\"\",'TIME TABLE'!$F$12)","v":""},null,{"$f":"IF(C123=\"\",\"\",'TIME TABLE'!$H$12)","v":""}]
[null,null,{"$f":"IF('TIME TABLE'!$B$13=\"\",\"\",'TIME TABLE'!$B$13)","v":""},null,{"$f":"IF(C124=\"\",\"\",IF(C124>0,CONCATENATE('TIME TABLE'!$C$11,'TIME TABLE'!$D$11,'TIME TABLE'!$E$11)))","v":""},{"$f":"IF(C124=\"\",\"\",'TIME TABLE'!$F$13)","v":""},null,{"$f":"IF(C124=\"\",\"\",'TIME TABLE'!$H$13)","v":""}]
[null,null,{"$f":"IF('TIME TABLE'!$B$14=\"\",\"\",'TIME TABLE'!$B$14)","v":""},null,{"$f":"IF(C125=\"\",\"\",IF(C125>0,CONCATENATE('TIME TABLE'!$C$11,'TIME TABLE'!$D$11,'TIME TABLE'!$E$11)))","v":""},{"$f":"IF(C125=\"\",\"\",'TIME TABLE'!$F$14)","v":""},null,{"$f":"IF(C125=\"\",\"\",'TIME TABLE'!$H$14)","v":""}]
[null,null,"Instructions"]
[null,null,1,"Check the exam time table carefully."]
[null,null,2,"Students must bring the 'Admit Card' and show it to the invigilator(s) on duty and should preserve it for future requirements."]
[null,null,3,"Mobile Phone, Calculator, Digital Watch or any Electronic Device is NOT ALLOWED."]
[null,null,4,"Arrive at the School at least 15 minutes before the start examination."]
[null,null,5,"Student is barred from entering the examination hall 15 minutes after the written examination starts."]
[null,null,6,"Ensure that you use the washroom before arriving for your exam as you will not be permitted to leave during the first hour."]
[null,null,7,"Normally, you are required to answer questionsusing blue or black in . Make sure you bring some spare pens with you."]
[null,null,8,"Keep your eyes on your own paper. Remember, copying is cheating!"]
[null,null,9,"You must remain silent until after you have exited the school building."]
[]
[{"$f":"A103+1","v":5}]
[null,{"$f":"logo","v":{"$error":"#NAME?"}},null,{"$f":"MASTER!$E$11","v":"Govt. Sr. Secondary School Raimalwada"}]
[{"$nulls":3},{"$f":"MASTER!$E$14","v":"P.S.-Bapini (Phalodi)"}]
[null,{"$f":"CONCATENATE(C141,'TIME TABLE'!$C$5,'ADMIT CARD'!$C142,$F142,'ADMIT CARD'!$G142,'TIME TABLE'!$E$5)","v":"ADMIT CARD(Roll Number●→0)"},{"$f":"CONCATENATE('TIME TABLE'!$B$2,'TIME TABLE'!$F$2)","v":"TEST-I: (2025-26)"},{"$nulls":5},"Paste latest \nphoto of student"]
[null,null,"ADMIT CARD",{"$nulls":6}," "]
[null,null,"Roll Number",null,null,"●→",{"$f":"VLOOKUP(A137,'STUDENT DETAIL'!$C$8:$I$107,3)","v":0}]
[null,null,"Student's Name",null,null,"●→",{"$f":"IF(OR(G142=0,G142=\"\"),\"\",VLOOKUP(A137,'STUDENT DETAIL'!$C$8:$I$107,4))","v":""}]
[null,null,"Father's Name",null,null,"●→",{"$f":"IF(OR(G142=0,G142=\"\"),\"\",VLOOKUP(A137,'STUDENT DETAIL'!$C$8:$I$107,5))","v":""},null,"Seal and Signature of Head of Institution"]
[null,null,"Mother's Name ",null,null,"●→",{"$f":"IF(OR(G142=0,G142=\"\"),\"\",VLOOKUP(A137,'STUDENT DETAIL'!$C$8:$I$107,6))","v":""}]
[null,null,"Class & Section",null,null,"●→",{"$f":"IF(OR(G142=0,G142=\"\"),\"\",IF('STUDENT DETAIL'!$H$4=\"\",'STUDENT DETAIL'!$E$4,CONCATENATE('STUDENT DETAIL'!$E$4,\"   \",\"(\",'STUDENT DETAIL'!$H$4,\")\")))","v":""}]
[null,null,"Date Of Birth",null,null,"●→",{"$f":"IF(OR(G142=0,G142=\"\"),\"\",VLOOKUP(A137,'STUDENT DETAIL'!$C$8:$I$107,7))","v":""}]
[null,null,"Time Table"]
[null,null,"Date (Day)",null,null,"Subject",null,"Time"]
[null,null,{"$f":"IF('TIME TABLE'!$B$5=\"\",\"\",'TIME TABLE'!$B$5)","v":"2022-03-31"},null,{"$f":"IF(C150=\"\",\"\",IF(C150>0,CONCATENATE('TIME TABLE'!$C$5,'TIME TABLE'!$D$5,'TIME TABLE'!$E$5)))","v":"(Thursday)"},{"$f":"IF(C150=\"\",\"\",'TIME TABLE'!$F$5)","v":"Hindi"},null,{"$f":"IF(F150=\"\",\"\",'TIME TABLE'!$H$5)","v":"09:00 AM to 11:45 AM"}]
[null,null,{"$f":"IF('TIME TABLE'!$B$6=\"\",\"\",'TIME TABLE'!$B$6)","v":"2022-04-01"},null,{"$f":"IF(C151=\"\",\"\",IF(C151>0,CONCATENATE('TIME TABLE'!$C$6,'TIME TABLE'!$D$6,'TIME TABLE'!$E$6)))","v":"(Friday)"},{"$f":"IF(C151=\"\",\"\",'TIME TABLE'!$F$6)","v":"English"},null,{"$f":"IF(F151=\"\",\"\",'TIME TABLE'!$H$6)","v":"09:00 AM to 11:45 AM"}]
[null,null,{"$f":"IF('TIME TABLE'!$B$7=\"\",\"\",'TIME TABLE'!$B$7)","v":"2022-04-02"},null,{"$f":"IF(C152=\"\",\"\",IF(C152>0,CONCATENATE('TIME TABLE'!$C$7,'TIME TABLE'!$D$7,'TIME TABLE'!$E$7)))","v":"(Saturday)"},{"$f":"IF(C152=\"\",\"\",'TIME TABLE'!$F$7)","v":"Science"},null,{"$f":"IF(F152=\"\",\"\",'TIME TABLE'!$H$7)","v":"09:00 AM to 11:45 AM"}]
[null,null,{"$f":"IF('TIME TABLE'!$B$8=\"\",\"\",'TIME TABLE'!$B$8)","v":"2022-04-03"},null,{"$f":"IF(C153=\"\",\"\",IF(C153>0,CONCATENATE('TIME TABLE'!$C$8,'TIME TABLE'!$D$8,'TIME TABLE'!$E$8)))","v":"(Sunday)"},{"$f":"IF(C153=\"\",\"\",'TIME TABLE'!$F$8)","v":"Mathematics"},null,{"$f":"IF(F153=\"\",\"\",'TIME TABLE'!$H$8)","v":"09:00 AM to 11:45 AM"}]
[null,null,{"$f":"IF('TIME TABLE'!$B$9=\"\",\"\",'TIME TABLE'!$B$9)","v":"2022-04-04"},null,{"$f":"IF(C154=\"\",\"\",IF(C154>0,CONCATENATE('TIME TABLE'!$C$9,'TIME TABLE'!$D$9,'TIME TABLE'!$E$9)))","v":"(Monday)"},{"$f":"IF(C154=\"\",\"\",'TIME TABLE'!$F$9)","v":"Social Study"},null,{"$f":"IF(F154=\"\",\"\",'TIME TABLE'!$H$9)","v":"09:00 AM to 11:45 AM"}]
[null,null,{"$f":"IF('TIME TABLE'!$B$10=\"\",\"\",'TIME TABLE'!$B$10)","v":"2022-04-05"},null,{"$f":"IF(C155=\"\",\"\",IF(C155>0,CONCATENATE('TIME TABLE'!$C$10,'TIME TABLE'!$D$10,'TIME TABLE'!$E$10)))","v":"(Tuesday)"},{"$f":"IF(C155=\"\",\"\",'TIME TABLE'!$F$10)","v":"Sanskrit"},null,{"$f":"IF(F155=\"\",\"\",'TIME TABLE'!$H$10)","v":"09:00 AM to 11:45 AM"}]
[null,null,{"$f":"IF('TIME TABLE'!$B$11=\"\",\"\",'TIME TABLE'!$B$11)","v":""},null,{"$f":"IF(C156=\"\",\"\",IF(C156>0,CONCATENATE('TIME TABLE'!$C$11,'TIME TABLE'!$D$11,'TIME TABLE'!$E$11)))","v":""},{"$f":"IF(C156=\"\",\"\",'TIME TABLE'!$F$11)","v":""},null,{"$f":"IF(F156=\"\",\"\",'TIME TABLE'!$H$11)","v":""}]
[null,null,{"$f":"IF('TIME TABLE'!$B$12=\"\",\"\",'TIME TABLE'!$B$12)","v":""},null,{"$f":"IF(C157=\"\",\"\",IF(C157>0,CONCATENATE('TIME TABLE'!$C$12,'TIME TABLE'!$D$12,'TIME TABLE'!$E$12)))","v":""},{"$f":"IF(C157=\"\",\"\",'TIME TABLE'!$F$12)","v":""},null,{"$f":"IF(C157=\"\",\"\",'TIME TABLE'!$H$12)","v":""}]
[null,null,{"$f":"IF('TIME TABLE'!$B$13=\"\",\"\",'TIME TABLE'!$B$13)","v":""},null,{"$f":"IF(C158=\"\",\"\",IF(C158>0,CONCATENATE('TIME TABLE'!$C$11,'TIME TABLE'!$D$11,'TIME TABLE'!$E$11)))","v":""},{"$f":"IF(C158=\"\",\"\",'TIME TABLE'!$F$13)","v":""},null,{"$f":"IF(C158=\"\",\"\",'TIME TABLE'!$H$13)","v":""}]
[null,null,{"$f":"IF('TIME TABLE'!$B$14=\"\",\"\",'TIME TABLE'!$B$14)","v":""},null,{"$f":"IF(C159=\"\",\"\",IF(C159>0,CONCATENATE('TIME TABLE'!$C$11,'TIME TABLE'!$D$11,'TIME TABLE'!$E$11)))","v":""},{"$f":"IF(C159=\"\",\"\",'TIME TABLE'!$F$14)","v":""},null,{"$f":"IF(C159=\"\",\"\",'TIME TABLE'!$H$14)","v":""}]
[null,null,"Instructions"]
[null,null,1,"Check the exam time table carefully."]
[null,null,2,"Students must bring the 'Admit Card' and show it to the invigilator(s) on duty and should preserve it for future requirements."]
[null,null,3,"Mobile Phone, Calculator, Digital Watch or any Electronic Device is NOT ALLOWED."]
[null,null,4,"Arrive at the School at least 15 minutes before the start examination."]
[null,null,5,"Student is barred from entering the examination hall 15 minutes after the written examination starts."]
[null,null,6,"Ensure that you use the washroom before arriving for your exam as you will not be permitted to leave during the first hour."]
[null,null,7,"Normally, you are required to answer questionsusing blue or black in . Make sure you bring some spare pens with you."]
[null,null,8,"Keep your eyes on your own paper. Remember, copying is cheating!"]
[null,null,9,"You must remain silent until after you have exited the school building."]
[]
[{"$f":"A137+1","v":6}]
[null,{"$f":"logo","v":{"$error":"#NAME?"}},null,{"$f":"MASTER!$E$11","v":"Govt. Sr. Secondary School Raimalwada"}]
[{"$nulls":3},{"$f":"MASTER!$E$14","v":"P.S.-Bapini (Phalodi)"}]
[null,{"$f":"CONCATENATE(C175,'TIME TABLE'!$C$5,'ADMIT CARD'!$C176,$F176,'ADMIT CARD'!$G176,'TIME TABLE'!$E$5)","v":"ADMIT CARD(Roll Number●→0)"},{"$f":"CONCATENATE('TIME TABLE'!$B$2,'TIME TABLE'!$F$2)","v":"TEST-I: (2025-26)"},{"$nulls":5},"Paste latest \nphoto of student"]
[null,null,"ADMIT CARD",{"$nulls":6}," "]
[null,null,"Roll Number",null,null,"●→",{"$f":"VLOOKUP(A171,'STUDENT DETAIL'!$C$8:$I$107,3)","v":0}]
[null,null,"Student's Name",null,null,"●→",{"$f":"IF(OR(G176=0,G176=\"\"),\"\",VLOOKUP(A171,'STUDENT DETAIL'!$C$8:$I$107,4))","v":""}]
[null,null,"Father's Name",null,null,"●→",{"$f":"IF(OR(G176=0,G176=\"\"),\"\",VLOOKUP(A171,'STUDENT DETAIL'!$C$8:$I$107,5))","v":""},null,"Seal and Signature of Head of Institution"]
[null,null,"Mother's Name ",null,null,"●→",{"$f":"IF(OR(G176=0,G176=\"\"),\"\",VLOOKUP(A171,'STUDENT DETAIL'!$C$8:$I$107,6))","v":""}]
[null,null,"Class & Section",null,null,"●→",{"$f":"IF(OR(G176=0,G176=\"\"),\"\",IF('STUDENT DETAIL'!$H$4=\"\",'STUDENT DETAIL'!$E$4,CONCATENATE('STUDENT DETAIL'!$E$4,\"   \",\"(\",'STUDENT DETAIL'!$H$4,\")\")))","v":""}]
[null,null,"Date Of Birth",null,null,"●→",{"$f":"IF(OR(G176=0,G176=\"\"),\"\",VLOOKUP(A171,'STUDENT DETAIL'!$C$8:$I$107,7))","v":""}]
[null,null,"Time Table"]
[null,null,"Date (Day)",null,null,"Subject",null,"Time"]
[null,null,{"$f":"IF('TIME TABLE'!$B$5=\"\",\"\",'TIME TABLE'!$B$5)","v":"2022-03-31"},null,{"$f":"IF(C184=\"\",\"\",IF(C184>0,CONCATENATE('TIME TABLE'!$C$5,'TIME TABLE'!$D$5,'TIME TABLE'!$E$5)))","v":"(Thursday)"},{"$f":"IF(C184=\"\",\"\",'TIME TABLE'!$F$5)","v":"Hindi"},null,{"$f":"IF(F184=\"\",\"\",'TIME TABLE'!$H$5)","v":"09:00 AM to 11:45 AM"}]
[null,null,{"$f":"IF('TIME TABLE'!$B$6=\"\",\"\",'TIME TABLE'!$B$6)","v":"2022-04-01"},null,{"$f":"IF(C185=\"\",\"\",IF(C185>0,CONCATENATE('TIME TABLE'!$C$6,'TIME TABLE'!$D$6,'TIME TABLE'!$E$6)))","v":"(Friday)"},{"$f":"IF(C185=\"\",\"\",'TIME TABLE'!$F$6)","v":"English"},null,{"$f":"IF(F185=\"\",\"\",'TIME TABLE'!$H$6)","v":"09:00 AM to 11:45 AM"}]
[null,null,{"$f":"IF('TIME TABLE'!$B$7=\"\",\"\",'TIME TABLE'!$B$7)","v":"2022-04-02"},null,{"$f":"IF(C186=\"\",\"\",IF(C186>0,CONCATENATE('TIME TABLE'!$C$7,'TIME TABLE'!$D$7,'TIME TABLE'!$E$7)))","v":"(Saturday)"},{"$f":"IF(C186=\"\",\"\",'TIME TABLE'!$F$7)","v":"Science"},null,{"$f":"IF(F186=\"\",\"\",'TIME TABLE'!$H$7)","v":"09:00 AM to 11:45 AM"}]
[null,null,{"$f":"IF('TIME TABLE'!$B$8=\"\",\"\",'TIME TABLE'!$B$8)","v":"2022-04-03"},null,{"$f":"IF(C187=\"\",\"\",IF(C187>0,CONCATENATE('TIME TABLE'!$C$8,'TIME TABLE'!$D$8,'TIME TABLE'!$E$8)))","v":"(Sunday)"},{"$f":"IF(C187=\"\",\"\",'TIME TABLE'!$F$8)","v":"Mathematics"},null,{"$f":"IF(F187=\"\",\"\",'TIME TABLE'!$H$8)","v":"09:00 AM to 11:45 AM"}]
[null,null,{"$f":"IF('TIME TABLE'!$B$9=\"\",\"\",'TIME TABLE'!$B$9)","v":"2022-04-04"},null,{"$f":"IF(C188=\"\",\"\",IF(C188>0,CONCATENATE('TIME TABLE'!$C$9,'TIME TABLE'!$D$9,'TIME TABLE'!$E$9)))","v":"(Monday)"},{"$f":"IF(C188=\"\",\"\",'TIME TABLE'!$F$9)","v":"Social Study"},null,{"$f":"IF(F188=\"\",\"\",'TIME TABLE'!$H$9)","v":"09:00 AM to 11:45 AM"}]
[null,null,{"$f":"IF('TIME TABLE'!$B$10=\"\",\"\",'TIME TABLE'!$B$10)","v":"2022-04-05"},null,{"$f":"IF(C189=\"\",\"\",IF(C189>0,CONCATENATE('TIME TABLE'!$C$10,'TIME TABLE'!$D$10,'TIME TABLE'!$E$10)))","v":"(Tuesday)"},{"$f":"IF(C189=\"\",\"\",'TIME TABLE'!$F$10)","v":"Sanskrit"},null,{"$f":"IF(F189=\"\",\"\",'TIME TABLE'!$H$10)","v":"09:00 AM to 11:45 AM"}]
[null,null,{"$f":"IF('TIME TABLE'!$B$11=\"\",\"\",'TIME TABLE'!$B$11)","v":""},null,{"$f":"IF(C190=\"\",\"\",IF(C190>0,CONCATENATE('TIME TABLE'!$C$11,'TIME TABLE'!$D$11,'TIME TABLE'!$E$11)))","v":""},{"$f":"IF(C190=\"\",\"\",'TIME TABLE'!$F$11)","v":""},null,{"$f":"IF(F190=\"\",\"\",'TIME TABLE'!$H$11)","v":""}]
[null,null,{"$f":"IF('TIME TABLE'!$B$12=\"\",\"\",'TIME TABLE'!$B$12)","v":""},null,{"$f":"IF(C191=\"\",\"\",IF(C191>0,CONCATENATE('TIME TABLE'!$C$12,'TIME TABLE'!$D$12,'TIME TABLE'!$E$12)))","v":""},{"$f":"IF(C191=\"\",\"\",'TIME TABLE'!$F$12)","v":""},null,{"$f":"IF(C191=\"\",\"\",'TIME TABLE'!$H$12)","v":""}]
[null,null,{"$f":"IF('TIME TABLE'!$B$13=\"\",\"\",'TIME TABLE'!$B$13)","v":""},null,{"$f":"IF(C192=\"\",\"\",IF(C192>0,CONCATENATE('TIME TABLE'!$C$11,'TIME TABLE'!$D$11,'TIME TABLE'!$E$11)))","v":""},{"$f":"IF(C192=\"\",\"\",'TIME TABLE'!$F$13)","v":""},null,{"$f":"IF(C192=\"\",\"\",'TIME TABLE'!$H$13)","v":""}]
[null,null,{"$f":"IF('TIME TABLE'!$B$14=\"\",\"\",'TIME TABLE'!$B$14)","v":""},null,{"$f":"IF(C193=\"\",\"\",IF(C193>0,CONCATENATE('TIME TABLE'!$C$11,'TIME TABLE'!$D$11,'TIME TABLE'!$E$11)))","v":""},{"$f":"IF(C193=\"\",\"\",'TIME TABLE'!$F$14)","v":""},null,{"$f":"IF(C193=\"\",\"\",'TIME TABLE'!$H$14)","v":""}]
[null,null,"Instructions"]
[null,null,1,"Check the exam time table carefully."]
[null,null,2,"Students must bring the 'Admit Card' and show it to the invigilator(s) on duty and should preserve it for future requirements."]
[null,null,3,"Mobile Phone, Calculator, Digital Watch or any Electronic Device is NOT ALLOWED."]
[null,null,4,"Arrive at the School at least 15 minutes before the start examination."]
[null,null,5,"Student is barred from entering the examination hall 15 minutes after the written examination starts."]
[null,null,6,"Ensure that you use the washroom before arriving for your exam as you will not be permitted to leave during the first hour."]
[null,null,7,"Normally, you are required to answer questionsusing blue or black in . Make sure you bring some spare pens with you."]
[null,null,8,"Keep your eyes on your own paper. Remember, copying is cheating!"]
[null,null,9,"You must remain silent until after you have exited the school building."]
[]
[{"$f":"A171+1","v":7}]
[null,{"$f":"logo","v":{"$error":"#NAME?"}},null,{"$f":"MASTER!$E$11","v":"Govt. Sr. Secondary School Raimalwada"}]
[{"$nulls":3},{"$f":"MASTER!$E$14","v":"P.S.-Bapini (Phalodi)"}]
[null,{"$f":"CONCATENATE(C209,'TIME TABLE'!$C$5,'ADMIT CARD'!$C210,$F210,'ADMIT CARD'!$G210,'TIME TABLE'!$E$5)","v":"ADMIT CARD(Roll Number●→0)"},{"$f":"CONCATENATE('TIME TABLE'!$B$2,'TIME TABLE'!$F$2)","v":"TEST-I: (2025-26)"},{"$nulls":5},"Paste latest \nphoto of student"]
[null,null,"ADMIT CARD",{"$nulls":6}," "]
[null,null,"Roll Number",null,null,"●→",{"$f":"VLOOKUP(A205,'STUDENT DETAIL'!$C$8:$I$107,3)","v":0}]
[null,null,"Student's Name",null,null,"●→",{"$f":"IF(OR(G210=0,G210=\"\"),\"\",VLOOKUP(A205,'STUDENT DETAIL'!$C$8:$I$107,4))","v":""}]
[null,null,"Father's Name",null,null,"●→",{"$f":"IF(OR(G210=0,G210=\"\"),\"\",VLOOKUP(A205,'STUDENT DETAIL'!$C$8:$I$107,5))","v":""},null,"Seal and Signature of Head of Institution"]
[null,null,"Mother's Name ",null,null,"●→",{"$f":"IF(OR(G210=0,G210=\"\"),\"\",VLOOKUP(A205,'STUDENT DETAIL'!$C$8:$I$107,6))","v":""}]
[null,null,"Class & Section",null,null,"●→",{"$f":"IF(OR(G210=0,G210=\"\"),\"\",IF('STUDENT DETAIL'!$H$4=\"\",'STUDENT DETAIL'!$E$4,CONCATENATE('STUDENT DETAIL'!$E$4,\"   \",\"(\",'STUDENT DETAIL'!$H$4,\")\")))","v":""}]
[null,null,"Date Of Birth",null,null,"●→",{"$f":"IF(OR(G210=0,G210=\"\"),\"\",VLOOKUP(A205,'STUDENT DETAIL'!$C$8:$I$107,7))","v":""}]
[null,null,"Time Table"]
[null,null,"Date (Day)",null,null,"Subject",null,"Time"]
[null,null,{"$f":"IF('TIME TABLE'!$B$5=\"\",\"\",'TIME TABLE'!$B$5)","v":"2022-03-31"},null,{"$f":"IF(C218=\"\",\"\",IF(C218>0,CONCATENATE('TIME TABLE'!$C$5,'TIME TABLE'!$D$5,'TIME TABLE'!$E$5)))","v":"(Thursday)"},{"$f":"IF(C218=\"\",\"\",'TIME TABLE'!$F$5)","v":"Hindi"},null,{"$f":"IF(F218=\"\",\"\",'TIME TABLE'!$H$5)","v":"09:00 AM to 11:45 AM"}]
[null,null,{"$f":"IF('TIME TABLE'!$B$6=\"\",\"\",'TIME TABLE'!$B$6)","v":"2022-04-01"},null,{"$f":"IF(C219=\"\",\"\",IF(C219>0,CONCATENATE('TIME TABLE'!$C$6,'TIME TABLE'!$D$6,'TIME TABLE'!$E$6)))","v":"(Friday)"},{"$f":"IF(C219=\"\",\"\",'TIME TABLE'!$F$6)","v":"English"},null,{"$f":"IF(F219=\"\",\"\",'TIME TABLE'!$H$6)","v":"09:00 AM to 11:45 AM"}]
[null,null,{"$f":"IF('TIME TABLE'!$B$7=\"\",\"\",'TIME TABLE'!$B$7)","v":"2022-04-02"},null,{"$f":"IF(C220=\"\",\"\",IF(C220>0,CONCATENATE('TIME TABLE'!$C$7,'TIME TABLE'!$D$7,'TIME TABLE'!$E$7)))","v":"(Saturday)"},{"$f":"IF(C220=\"\",\"\",'TIME TABLE'!$F$7)","v":"Science"},null,{"$f":"IF(F220=\"\",\"\",'TIME TABLE'!$H$7)","v":"09:00 AM to 11:45 AM"}]
[null,null,{"$f":"IF('TIME TABLE'!$B$8=\"\",\"\",'TIME TABLE'!$B$8)","v":"2022-04-03"},null,{"$f":"IF(C221=\"\",\"\",IF(C221>0,CONCATENATE('TIME TABLE'!$C$8,'TIME TABLE'!$D$8,'TIME TABLE'!$E$8)))","v":"(Sunday)"},{"$f":"IF(C221=\"\",\"\",'TIME TABLE'!$F$8)","v":"Mathematics"},null,{"$f":"IF(F221=\"\",\"\",'TIME TABLE'!$H$8)","v":"09:00 AM to 11:45 AM"}]
[null,null,{"$f":"IF('TIME TABLE'!$B$9=\"\",\"\",'TIME TABLE'!$B$9)","v":"2022-04-04"},null,{"$f":"IF(C222=\"\",\"\",IF(C222>0,CONCATENATE('TIME TABLE'!$C$9,'TIME TABLE'!$D$9,'TIME TABLE'!$E$9)))","v":"(Monday)"},{"$f":"IF(C222=\"\",\"\",'TIME TABLE'!$F$9)","v":"Social Study"},null,{"$f":"IF(F222=\"\",\"\",'TIME TABLE'!$H$9)","v":"09:00 AM to 11:45 AM"}]
[null,null,{"$f":"IF('TIME TABLE'!$B$10=\"\",\"\",'TIME TABLE'!$B$10)","v":"2022-04-05"},null,{"$f":"IF(C223=\"\",\"\",IF(C223>0,CONCATENATE('TIME TABLE'!$C$10,'TIME TABLE'!$D$10,'TIME TABLE'!$E$10)))","v":"(Tuesday)"},{"$f":"IF(C223=\"\",\"\",'TIME TABLE'!$F$10)","v":"Sanskrit"},null,{"$f":"IF(F223=\"\",\"\",'TIME TABLE'!$H$10)","v":"09:00 AM to 11:45 AM"}]
[null,null,{"$f":"IF('TIME TABLE'!$B$11=\"\",\"\",'TIME TABLE'!$B$11)","v":""},null,{"$f":"IF(C224=\"\",\"\",IF(C224>0,CONCATENATE('TIME TABLE'!$C$11,'TIME TABLE'!$D$11,'TIME TABLE'!$E$11)))","v":""},{"$f":"IF(C224=\"\",\"\",'TIME TABLE'!$F$11)","v":""},null,{"$f":"IF(F224=\"\",\"\",'TIME TABLE'!$H$11)","v":""}]
[null,null,{"$f":"IF('TIME TABLE'!$B$12=\"\",\"\",'TIME TABLE'!$B$12)","v":""},null,{"$f":"IF(C225=\"\",\"\",IF(C225>0,CONCATENATE('TIME TABLE'!$C$12,'TIME TABLE'!$D$12,'TIME TABLE'!$E$12)))","v":""},{"$f":"IF(C225=\"\",\"\",'TIME TABLE'!$F$12)","v":""},null,{"$f":"IF(C225=\"\",\"\",'TIME TABLE'!$H$12)","v":""}]
[null,null,{"$f":"IF('TIME TABLE'!$B$13=\"\",\"\",'TIME TABLE'!$B$13)","v":""},null,{"$f":"IF(C226=\"\",\"\",IF(C226>0,CONCATENATE('TIME TABLE'!$C$11,'TIME TABLE'!$D$11,'TIME TABLE'!$E$11)))","v":""},{"$f":"IF(C226=\"\",\"\",'TIME TABLE'!$F$13)","v":""},null,{"$f":"IF(C226=\"\",\"\",'TIME TABLE'!$H$13)","v":""}]
[null,null,{"$f":"IF('TIME TABLE'!$B$14=\"\",\"\",'TIME TABLE'!$B$14)","v":""},null,{"$f":"IF(C227=\"\",\"\",IF(C227>0,CONCATENATE('TIME TABLE'!$C$11,'TIME TABLE'!$D$11,'TIME TABLE'!$E$11)))","v":""},{"$f":"IF(C227=\"\",\"\",'TIME TABLE'!$F$14)","v":""},null,{"$f":"IF(C227=\"\",\"\",'TIME TABLE'!$H$14)","v":""}]
[null,null,"Instructions"]
[null,null,1,"Check the exam time table carefully."]
[null,null,2,"Students must bring the 'Admit Card' and show it to the invigilator(s) on duty and should preserve it for future requirements."]
[null,null,3,"Mobile Phone, Calculator, Digital Watch or any Electronic Device is NOT ALLOWED."]
[null,null,4,"Arrive at the School at least 15 minutes before the start examination."]
[null,null,5,"Student is barred from entering the examination hall 15 minutes after the written examination starts."]
[null,null,6,"Ensure that you use the washroom before arriving for your exam as you will not be permitted to leave during the first hour."]
[null,null,7,"Normally, you are required to answer questionsusing blue or black in . Make sure you bring some spare pens with you."]
[null,null,8,"Keep your eyes on your own paper. Remember, copying is cheating!"]
[null,null,9,"You must remain silent until after you have exited the school building."]
[]
[{"$f":"A205+1","v":8}]
[null,{"$f":"logo","v":{"$error":"#NAME?"}},null,{"$f":"MASTER!$E$11","v":"Govt. Sr. Secondary School Raimalwada"}]
[{"$nulls":3},{"$f":"MASTER!$E$14","v":"P.S.-Bapini (Phalodi)"}]
[null,{"$f":"CONCATENATE(C243,'TIME TABLE'!$C$5,'ADMIT CARD'!$C244,$F244,'ADMIT CARD'!$G244,'TIME TABLE'!$E$5)","v":"ADMIT CARD(Roll Number●→0)"},{"$f":"CONCATENATE('TIME TABLE'!$B$2,'TIME TABLE'!$F$2)","v":"TEST-I: (2025-26)"},{"$nulls":5},"Paste latest \nphoto of student"]
[null,null,"ADMIT CARD",{"$nulls":6}," "]
[null,null,"Roll Number",null,null,"●→",{"$f":"VLOOKUP(A239,'STUDENT DETAIL'!$C$8:$I$107,3)","v":0}]
[null,null,"Student's Name",null,null,"●→",{"$f":"IF(OR(G244=0,G244=\"\"),\"\",VLOOKUP(A239,'STUDENT DETAIL'!$C$8:$I$107,4))","v":""}]
[null,null,"Father's Name",null,null,"●→",{"$f":"IF(OR(G244=0,G244=\"\"),\"\",VLOOKUP(A239,'STUDENT DETAIL'!$C$8:$I$107,5))","v":""},null,"Seal and Signature of Head of Institution"]
[null,null,"Mother's Name ",null,null,"●→",{"$f":"IF(OR(G244=0,G244=\"\"),\"\",VLOOKUP(A239,'STUDENT DETAIL'!$C$8:$I$107,6))","v":""}]
[null,null,"Class & Section",null,null,"●→",{"$f":"IF(OR(G244=0,G244=\"\"),\"\",IF('STUDENT DETAIL'!$H$4=\"\",'STUDENT DETAIL'!$E$4,CONCATENATE('STUDENT DETAIL'!$E$4,\"   \",\"(\",'STUDENT DETAIL'!$H$4,\")\")))","v":""}]
[null,null,"Date Of Birth",null,null,"●→",{"$f":"IF(OR(G244=0,G244=\"\"),\"\",VLOOKUP(A239,'STUDENT DETAIL'!$C$8:$I$107,7))","v":""}]
[null,null,"Time Table"]
[null,null,"Date (Day)",null,null,"Subject",null,"Time"]
[null,null,{"$f":"IF('TIME TABLE'!$B$5=\"\",\"\",'TIME TABLE'!$B$5)","v":"2022-03-31"},null,{"$f":"IF(C252=\"\",\"\",IF(C252>0,CONCATENATE('TIME TABLE'!$C$5,'TIME TABLE'!$D$5,'TIME TABLE'!$E$5)))","v":"(Thursday)"},{"$f":"IF(C252=\"\",\"\",'TIME TABLE'!$F$5)","v":"Hindi"},null,{"$f":"IF(F252=\"\",\"\",'TIME TABLE'!$H$5)","v":"09:00 AM to 11:45 AM"}]
[null,null,{"$f":"IF('TIME TABLE'!$B$6=\"\",\"\",'TIME TABLE'!$B$6)","v":"2022-04-01"},null,{"$f":"IF(C253=\"\",\"\",IF(C253>0,CONCATENATE('TIME TABLE'!$C$6,'TIME TABLE'!$D$6,'TIME TABLE'!$E$6)))","v":"(Friday)"},{"$f":"IF(C253=\"\",\"\",'TIME TABLE'!$F$6)","v":"English"},null,{"$f":"IF(F253=\"\",\"\",'TIME TABLE'!$H$6)","v":"09:00 AM to 11:45 AM"}]
[null,null,{"$f":"IF('TIME TABLE'!$B$7=\"\",\"\",'TIME TABLE'!$B$7)","v":"2022-04-02"},null,{"$f":"IF(C254=\"\",\"\",IF(C254>0,CONCATENATE('TIME TABLE'!$C$7,'TIME TABLE'!$D$7,'TIME TABLE'!$E$7)))","v":"(Saturday)"},{"$f":"IF(C254=\"\",\"\",'TIME TABLE'!$F$7)","v":"Science"},null,{"$f":"IF(F254=\"\",\"\",'TIME TABLE'!$H$7)","v":"09:00 AM to 11:45 AM"}]
[null,null,{"$f":"IF('TIME TABLE'!$B$8=\"\",\"\",'TIME TABLE'!$B$8)","v":"2022-04-03"},null,{"$f":"IF(C255=\"\",\"\",IF(C255>0,CONCATENATE('TIME TABLE'!$C$8,'TIME TABLE'!$D$8,'TIME TABLE'!$E$8)))","v":"(Sunday)"},{"$f":"IF(C255=\"\",\"\",'TIME TABLE'!$F$8)","v":"Mathematics"},null,{"$f":"IF(F255=\"\",\"\",'TIME TABLE'!$H$8)","v":"09:00 AM to 11:45 AM"}]
[null,null,{"$f":"IF('TIME TABLE'!$B$9=\"\",\"\",'TIME TABLE'!$B$9)","v":"2022-04-04"},null,{"$f":"IF(C256=\"\",\"\",IF(C256>0,CONCATENATE('TIME TABLE'!$C$9,'TIME TABLE'!$D$9,'TIME TABLE'!$E$9)))","v":"(Monday)"},{"$f":"IF(C256=\"\",\"\",'TIME TABLE'!$F$9)","v":"Social Study"},null,{"$f":"IF(F256=\"\",\"\",'TIME TABLE'!$H$9)","v":"09:00 AM to 11:45 AM"}]
[null,null,{"$f":"IF('TIME TABLE'!$B$10=\"\",\"\",'TIME TABLE'!$B$10)","v":"2022-04-05"},null,{"$f":"IF(C257=\"\",\"\",IF(C257>0,CONCATENATE('TIME TABLE'!$C$10,'TIME TABLE'!$D$10,'TIME TABLE'!$E$10)))","v":"(Tuesday)"},{"$f":"IF(C257=\"\",\"\",'TIME TABLE'!$F$10)","v":"Sanskrit"},null,{"$f":"IF(F257=\"\",\"\",'TIME TABLE'!$H$10)","v":"09:00 AM to 11:45 AM"}]
[null,null,{"$f":"IF('TIME TABLE'!$B$11=\"\",\"\",'TIME TABLE'!$B$11)","v":""},null,{"$f":"IF(C258=\"\",\"\",IF(C258>0,CONCATENATE('TIME TABLE'!$C$11,'TIME TABLE'!$D$11,'TIME TABLE'!$E$11)))","v":""},{"$f":"IF(C258=\"\",\"\",'TIME TABLE'!$F$11)","v":""},null,{"$f":"IF(F258=\"\",\"\",'TIME TABLE'!$H$11)","v":""}]
[null,null,{"$f":"IF('TIME TABLE'!$B$12=\"\",\"\",'TIME TABLE'!$B$12)","v":""},null,{"$f":"IF(C259=\"\",\"\",IF(C259>0,CONCATENATE('TIME TABLE'!$C$12,'TIME TABLE'!$D$12,'TIME TABLE'!$E$12)))","v":""},{"$f":"IF(C259=\"\",\"\",'TIME TABLE'!$F$12)","v":""},null,{"$f":"IF(C259=\"\",\"\",'TIME TABLE'!$H$12)","v":""}]
[null,null,{"$f":"IF('TIME TABLE'!$B$13=\"\",\"\",'TIME TABLE'!$B$13)","v":""},null,{"$f":"IF(C260=\"\",\"\",IF(C260>0,CONCATENATE('TIME TABLE'!$C$11,'TIME TABLE'!$D$11,'TIME TABLE'!$E$11)))","v":""},{"$f":"IF(C260=\"\",\"\",'TIME TABLE'!$F$13)","v":""},null,{"$f":"IF(C260=\"\",\"\",'TIME TABLE'!$H$13)","v":""}]
[null,null,{"$f":"IF('TIME TABLE'!$B$14=\"\",\"\",'TIME TABLE'!$B$14)","v":""},null,{"$f":"IF(C261=\"\",\"\",IF(C261>0,CONCATENATE('TIME TABLE'!$C$11,'TIME TABLE'!$D$11,'TIME TABLE'!$E$11)))","v":""},{"$f":"IF(C261=\"\",\"\",'TIME TABLE'!$F$14)","v":""},null,{"$f":"IF(C261=\"\",\"\",'TIME TABLE'!$H$14)","v":""}]
[null,null,"Instructions"]
[null,null,1,"Check the exam time table carefully."]
[null,null,2,"Students must bring the 'Admit Card' and show it to the invigilator(s) on duty and should preserve it for future requirements."]
[null,null,3,"Mobile Phone, Calculator, Digital Watch or any Electronic Device is NOT ALLOWED."]
[null,null,4,"Arrive at the School at least 15 minutes before the start examination."]
[null,null,5,"Student is barred from entering the examination hall 15 minutes after the written examination starts."]
[null,null,6,"Ensure that you use the washroom before arriving for your exam as you will not be permitted to leave during the first hour."]
[null,null,7,"Normally, you are required to answer questionsusing blue or black in . Make sure you bring some spare pens with you."]
[null,null,8,"Keep your eyes on your own paper. Remember, copying is cheating!"]
[null,null,9,"You must remain silent until after you have exited the school building."]
[]
[{"$f":"A239+1","v":9}]
[null,{"$f":"logo","v":{"$error":"#NAME?"}},null,{"$f":"MASTER!$E$11","v":"Govt. Sr. Secondary School Raimalwada"}]
[{"$nulls":3},{"$f":"MASTER!$E$14","v":"P.S.-Bapini (Phalodi)"}]
[null,{"$f":"CONCATENATE(C277,'TIME TABLE'!$C$5,'ADMIT CARD'!$C278,$F278,'ADMIT CARD'!$G278,'TIME TABLE'!$E$5)","v":"ADMIT CARD(Roll Number●→0)"},{"$f":"CONCATENATE('TIME TABLE'!$B$2,'TIME TABLE'!$F$2)","v":"TEST-I: (2025-26)"},{"$nulls":5},"Paste latest \nphoto of student"]
[null,null,"ADMIT CARD",{"$nulls":6}," "]
[null,null,"Roll Number",null,null,"●→",{"$f":"VLOOKUP(A273,'STUDENT DETAIL'!$C$8:$I$107,3)","v":0}]
[null,null,"Student's Name",null,null,"●→",{"$f":"IF(OR(G278=0,G278=\"\"),\"\",VLOOKUP(A273,'STUDENT DETAIL'!$C$8:$I$107,4))","v":""}]
[null,null,"Father's Name",null,null,"●→",{"$f":"IF(OR(G278=0,G278=\"\"),\"\",VLOOKUP(A273,'STUDENT DETAIL'!$C$8:$I$107,5))","v":""},null,"Seal and Signature of Head of Institution"]
[null,null,"Mother's Name ",null,null,"●→",{"$f":"IF(OR(G278=0,G278=\"\"),\"\",VLOOKUP(A273,'STUDENT DETAIL'!$C$8:$I$107,6))","v":""}]
[null,null,"Class & Section",null,null,"●→",{"$f":"IF(OR(G278=0,G278=\"\"),\"\",IF('STUDENT DETAIL'!$H$4=\"\",'STUDENT DETAIL'!$E$4,CONCATENATE('STUDENT DETAIL'!$E$4,\"   \",\"(\",'STUDENT DETAIL'!$H$4,\")\")))","v":""}]
[null,null,"Date Of Birth",null,null,"●→",{"$f":"IF(OR(G278=0,G278=\"\"),\"\",VLOOKUP(A273,'STUDENT DETAIL'!$C$8:$I$107,7))","v":""}]
[null,null,"Time Table"]
[null,null,"Date (Day)",null,null,"Subject",null,"Time"]
[null,null,{"$f":"IF('TIME TABLE'!$B$5=\"\",\"\",'TIME TABLE'!$B$5)","v":"2022-03-31"},null,{"$f":"IF(C286=\"\",\"\",IF(C286>0,CONCATENATE('TIME TABLE'!$C$5,'TIME TABLE'!$D$5,'TIME TABLE'!$E$5)))","v":"(Thursday)"},{"$f":"IF(C286=\"\",\"\",'TIME TABLE'!$F$5)","v":"Hindi"},null,{"$f":"IF(F286=\"\",\"\",'TIME TABLE'!$H$5)","v":"09:00 AM to 11:45 AM"}]
[null,null,{"$f":"IF('TIME TABLE'!$B$6=\"\",\"\",'TIME TABLE'!$B$6)","v":"2022-04-01"},null,{"$f":"IF(C287=\"\",\"\",IF(C287>0,CONCATENATE('TIME TABLE'!$C$6,'TIME TABLE'!$D$6,'TIME TABLE'!$E$6)))","v":"(Friday)"},{"$f":"IF(C287=\"\",\"\",'TIME TABLE'!$F$6)","v":"English"},null,{"$f":"IF(F287=\"\",\"\",'TIME TABLE'!$H$6)","v":"09:00 AM to 11:45 AM"}]
[null,null,{"$f":"IF('TIME TABLE'!$B$7=\"\",\"\",'TIME TABLE'!$B$7)","v":"2022-04-02"},null,{"$f":"IF(C288=\"\",\"\",IF(C288>0,CONCATENATE('TIME TABLE'!$C$7,'TIME TABLE'!$D$7,'TIME TABLE'!$E$7)))","v":"(Saturday)"},{"$f":"IF(C288=\"\",\"\",'TIME TABLE'!$F$7)","v":"Science"},null,{"$f":"IF(F288=\"\",\"\",'TIME TABLE'!$H$7)","v":"09:00 AM to 11:45 AM"}]
[null,null,{"$f":"IF('TIME TABLE'!$B$8=\"\",\"\",'TIME TABLE'!$B$8)","v":"2022-04-03"},null,{"$f":"IF(C289=\"\",\"\",IF(C289>0,CONCATENATE('TIME TABLE'!$C$8,'TIME TABLE'!$D$8,'TIME TABLE'!$E$8)))","v":"(Sunday)"},{"$f":"IF(C289=\"\",\"\",'TIME TABLE'!$F$8)","v":"Mathematics"},null,{"$f":"IF(F289=\"\",\"\",'TIME TABLE'!$H$8)","v":"09:00 AM to 11:45 AM"}]
[null,null,{"$f":"IF('TIME TABLE'!$B$9=\"\",\"\",'TIME TABLE'!$B$9)","v":"2022-04-04"},null,{"$f":"IF(C290=\"\",\"\",IF(C290>0,CONCATENATE('TIME TABLE'!$C$9,'TIME TABLE'!$D$9,'TIME TABLE'!$E$9)))","v":"(Monday)"},{"$f":"IF(C290=\"\",\"\",'TIME TABLE'!$F$9)","v":"Social Study"},null,{"$f":"IF(F290=\"\",\"\",'TIME TABLE'!$H$9)","v":"09:00 AM to 11:45 AM"}]
[null,null,{"$f":"IF('TIME TABLE'!$B$10=\"\",\"\",'TIME TABLE'!$B$10)","v":"2022-04-05"},null,{"$f":"IF(C291=\"\",\"\",IF(C291>0,CONCATENATE('TIME TABLE'!$C$10,'TIME TABLE'!$D$10,'TIME TABLE'!$E$10)))","v":"(Tuesday)"},{"$f":"IF(C291=\"\",\"\",'TIME TABLE'!$F$10)","v":"Sanskrit"},null,{"$f":"IF(F291=\"\",\"\",'TIME TABLE'!$H$10)","v":"09:00 AM to 11:45 AM"}]
[null,null,{"$f":"IF('TIME TABLE'!$B$11=\"\",\"\",'TIME TABLE'!$B$11)","v":""},null,{"$f":"IF(C292=\"\",\"\",IF(C292>0,CONCATENATE('TIME TABLE'!$C$11,'TIME TABLE'!$D$11,'TIME TABLE'!$E$11)))","v":""},{"$f":"IF(C292=\"\",\"\",'TIME TABLE'!$F$11)","v":""},null,{"$f":"IF(F292=\"\",\"\",'TIME TABLE'!$H$11)","v":""}]
[null,null,{"$f":"IF('TIME TABLE'!$B$12=\"\",\"\",'TIME TABLE'!$B$12)","v":""},null,{"$f":"IF(C293=\"\",\"\",IF(C293>0,CONCATENATE('TIME TABLE'!$C$12,'TIME TABLE'!$D$12,'TIME TABLE'!$E$12)))","v":""},{"$f":"IF(C293=\"\",\"\",'TIME TABLE'!$F$12)","v":""},null,{"$f":"IF(C293=\"\",\"\",'TIME TABLE'!$H$12)","v":""}]
[null,null,{"$f":"IF('TIME TABLE'!$B$13=\"\",\"\",'TIME TABLE'!$B$13)","v":""},null,{"$f":"IF(C294=\"\",\"\",IF(C294>0,CONCATENATE('TIME TABLE'!$C$11,'TIME TABLE'!$D$11,'TIME TABLE'!$E$11)))","v":""},{"$f":"IF(C294=\"\",\"\",'TIME TABLE'!$F$13)","v":""},null,{"$f":"IF(C294=\"\",\"\",'TIME TABLE'!$H$13)","v":""}]
[null,null,{"$f":"IF('TIME TABLE'!$B$14=\"\",\"\",'TIME TABLE'!$B$14)","v":""},null,{"$f":"IF(C295=\"\",\"\",IF(C295>0,CONCATENATE('TIME TABLE'!$C$11,'TIME TABLE'!$D$11,'TIME TABLE'!$E$11)))","v":""},{"$f":"IF(C295=\"\",\"\",'TIME TABLE'!$F$14)","v":""},null,{"$f":"IF(C295=\"\",\"\",'TIME TABLE'!$H$14)","v":""}]
[null,null,"Instructions"]
[null,null,1,"Check the exam time table carefully."]
[null,null,2,"Students must bring the 'Admit Card' and show it to the invigilator(s) on duty and should preserve it for future requirements."]
[null,null,3,"Mobile Phone, Calculator, Digital Watch or any Electronic Device is NOT ALLOWED."]
[null,null,4,"Arrive at the School at least 15 minutes before the start examination."]
[null,null,5,"Student is barred from entering the examination hall 15 minutes after the written examination starts."]
[null,null,6,"Ensure that you use the washroom before arriving for your exam as you will not be permitted to leave during the first hour."]
[null,null,7,"Normally, you are required to answer questionsusing blue or black in . Make sure you bring some spare pens with you."]
[null,null,8,"Keep your eyes on your own paper. Remember, copying is cheating!"]
[null,null,9,"You must remain silent until after you have exited the school building."]
[]
[{"$f":"A273+1","v":10}]
[null,{"$f":"logo","v":{"$error":"#NAME?"}},null,{"$f":"MASTER!$E$11","v":"Govt. Sr. Secondary School Raimalwada"}]
[{"$nulls":3},{"$f":"MASTER!$E$14","v":"P.S.-Bapini (Phalodi)"}]
[null,{"$f":"CONCATENATE(C311,'TIME TABLE'!$C$5,'ADMIT CARD'!$C312,$F312,'ADMIT CARD'!$G312,'TIME TABLE'!$E$5)","v":"ADMIT CARD(Roll Number●→0)"},{"$f":"CONCATENATE('TIME TABLE'!$B$2,'TIME TABLE'!$F$2)","v":"TEST-I: (2025-26)"},{"$nulls":5},"Paste latest \nphoto of student"]
[null,null,"ADMIT CARD",{"$nulls":6}," "]
[null,null,"Roll Number",null,null,"●→",{"$f":"VLOOKUP(A307,'STUDENT DETAIL'!$C$8:$I$107,3)","v":0}]
[null,null,"Student's Name",null,null,"●→",{"$f":"IF(OR(G312=0,G312=\"\"),\"\",VLOOKUP(A307,'STUDENT DETAIL'!$C$8:$I$107,4))","v":""}]
[null,null,"Father's Name",null,null,"●→",{"$f":"IF(OR(G312=0,G312=\"\"),\"\",VLOOKUP(A307,'STUDENT DETAIL'!$C$8:$I$107,5))","v":""},null,"Seal and Signature of Head of Institution"]
[null,null,"Mother's Name ",null,null,"●→",{"$f":"IF(OR(G312=0,G312=\"\"),\"\",VLOOKUP(A307,'STUDENT DETAIL'!$C$8:$I$107,6))","v":""}]
[null,null,"Class & Section",null,null,"●→",{"$f":"IF(OR(G312=0,G312=\"\"),\"\",IF('STUDENT DETAIL'!$H$4=\"\",'STUDENT DETAIL'!$E$4,CONCATENATE('STUDENT DETAIL'!$E$4,\"   \",\"(\",'STUDENT DETAIL'!$H$4,\")\")))","v":""}]
[null,null,"Date Of Birth",null,null,"●→",{"$f":"IF(OR(G312=0,G312=\"\"),\"\",VLOOKUP(A307,'STUDENT DETAIL'!$C$8:$I$107,7))","v":""}]
[null,null,"Time Table"]
[null,null,"Date (Day)",null,null,"Subject",null,"Time"]
[null,null,{"$f":"IF('TIME TABLE'!$B$5=\"\",\"\",'TIME TABLE'!$B$5)","v":"2022-03-31"},null,{"$f":"IF(C320=\"\",\"\",IF(C320>0,CONCATENATE('TIME TABLE'!$C$5,'TIME TABLE'!$D$5,'TIME TABLE'!$E$5)))","v":"(Thursday)"},{"$f":"IF(C320=\"\",\"\",'TIME TABLE'!$F$5)","v":"Hindi"},null,{"$f":"IF(F320=\"\",\"\",'TIME TABLE'!$H$5)","v":"09:00 AM to 11:45 AM"}]
[null,null,{"$f":"IF('TIME TABLE'!$B$6=\"\",\"\",'TIME TABLE'!$B$6)","v":"2022-04-01"},null,{"$f":"IF(C321=\"\",\"\",IF(C321>0,CONCATENATE('TIME TABLE'!$C$6,'TIME TABLE'!$D$6,'TIME TABLE'!$E$6)))","v":"(Friday)"},{"$f":"IF(C321=\"\",\"\",'TIME TABLE'!$F$6)","v":"English"},null,{"$f":"IF(F321=\"\",\"\",'TIME TABLE'!$H$6)","v":"09:00 AM to 11:45 AM"}]
[null,null,{"$f":"IF('TIME TABLE'!$B$7=\"\",\"\",'TIME TABLE'!$B$7)","v":"2022-04-02"},null,{"$f":"IF(C322=\"\",\"\",IF(C322>0,CONCATENATE('TIME TABLE'!$C$7,'TIME TABLE'!$D$7,'TIME TABLE'!$E$7)))","v":"(Saturday)"},{"$f":"IF(C322=\"\",\"\",'TIME TABLE'!$F$7)","v":"Science"},null,{"$f":"IF(F322=\"\",\"\",'TIME TABLE'!$H$7)","v":"09:00 AM to 11:45 AM"}]
[null,null,{"$f":"IF('TIME TABLE'!$B$8=\"\",\"\",'TIME TABLE'!$B$8)","v":"2022-04-03"},null,{"$f":"IF(C323=\"\",\"\",IF(C323>0,CONCATENATE('TIME TABLE'!$C$8,'TIME TABLE'!$D$8,'TIME TABLE'!$E$8)))","v":"(Sunday)"},{"$f":"IF(C323=\"\",\"\",'TIME TABLE'!$F$8)","v":"Mathematics"},null,{"$f":"IF(F323=\"\",\"\",'TIME TABLE'!$H$8)","v":"09:00 AM to 11:45 AM"}]
[null,null,{"$f":"IF('TIME TABLE'!$B$9=\"\",\"\",'TIME TABLE'!$B$9)","v":"2022-04-04"},null,{"$f":"IF(C324=\"\",\"\",IF(C324>0,CONCATENATE('TIME TABLE'!$C$9,'TIME TABLE'!$D$9,'TIME TABLE'!$E$9)))","v":"(Monday)"},{"$f":"IF(C324=\"\",\"\",'TIME TABLE'!$F$9)","v":"Social Study"},null,{"$f":"IF(F324=\"\",\"\",'TIME TABLE'!$H$9)","v":"09:00 AM to 11:45 AM"}]
[null,null,{"$f":"IF('TIME TABLE'!$B$10=\"\",\"\",'TIME TABLE'!$B$10)","v":"2022-04-05"},null,{"$f":"IF(C325=\"\",\"\",IF(C325>0,CONCATENATE('TIME TABLE'!$C$10,'TIME TABLE'!$D$10,'TIME TABLE'!$E$10)))","v":"(Tuesday)"},{"$f":"IF(C325=\"\",\"\",'TIME TABLE'!$F$10)","v":"Sanskrit"},null,{"$f":"IF(F325=\"\",\"\",'TIME TABLE'!$H$10)","v":"09:00 AM to 11:45 AM"}]
[null,null,{"$f":"IF('TIME TABLE'!$B$11=\"\",\"\",'TIME TABLE'!$B$11)","v":""},null,{"$f":"IF(C326=\"\",\"\",IF(C326>0,CONCATENATE('TIME TABLE'!$C$11,'TIME TABLE'!$D$11,'TIME TABLE'!$E$11)))","v":""},{"$f":"IF(C326=\"\",\"\",'TIME TABLE'!$F$11)","v":""},null,{"$f":"IF(F326=\"\",\"\",'TIME TABLE'!$H$11)","v":""}]
[null,null,{"$f":"IF('TIME TABLE'!$B$12=\"\",\"\",'TIME TABLE'!$B$12)","v":""},null,{"$f":"IF(C327=\"\",\"\",IF(C327>0,CONCATENATE('TIME TABLE'!$C$12,'TIME TABLE'!$D$12,'TIME TABLE'!$E$12)))","v":""},{"$f":"IF(C327=\"\",\"\",'TIME TABLE'!$F$12)","v":""},null,{"$f":"IF(C327=\"\",\"\",'TIME TABLE'!$H$12)","v":""}]
[null,null,{"$f":"IF('TIME TABLE'!$B$13=\"\",\"\",'TIME TABLE'!$B$13)","v":""},null,{"$f":"IF(C328=\"\",\"\",IF(C328>0,CONCATENATE('TIME TABLE'!$C$11,'TIME TABLE'!$D$11,'TIME TABLE'!$E$11)))","v":""},{"$f":"IF(C328=\"\",\"\",'TIME TABLE'!$F$13)","v":""},null,{"$f":"IF(C328=\"\",\"\",'TIME TABLE'!$H$13)","v":""}]
[null,null,{"$f":"IF('TIME TABLE'!$B$14=\"\",\"\",'TIME TABLE'!$B$14)","v":""},null,{"$f":"IF(C329=\"\",\"\",IF(C329>0,CONCATENATE('TIME TABLE'!$C$11,'TIME TABLE'!$D$11,'TIME TABLE'!$E$11)))","v":""},{"$f":"IF(C329=\"\",\"\",'TIME TABLE'!$F$14)","v":""},null,{"$f":"IF(C329=\"\",\"\",'TIME TABLE'!$H$14)","v":""}]
[null,null,"Instructions"]
[null,null,1,"Check the exam time table carefully."]
[null,null,2,"Students must bring the 'Admit Card' and show it to the invigilator(s) on duty and should preserve it for future requirements."]
[null,null,3,"Mobile Phone, Calculator, Digital Watch or any Electronic Device is NOT ALLOWED."]
[null,null,4,"Arrive at the School at least 15 minutes before the start examination."]
[null,null,5,"Student is barred from entering the examination hall 15 minutes after the written examination starts."]
[null,null,6,"Ensure that you use the washroom before arriving for your exam as you will not be permitted to leave during the first hour."]
[null,null,7,"Normally, you are required to answer questionsusing blue or black in . Make sure you bring some spare pens with you."]
[null,null,8,"Keep your eyes on your own paper. Remember, copying is cheating!"]
[null,null,9,"You must remain silent until after you have exited the school building."]
[]
[{"$f":"A307+1","v":11}]
[null,{"$f":"logo","v":{"$error":"#NAME?"}},null,{"$f":"MASTER!$E$11","v":"Govt. Sr. Secondary School Raimalwada"}]
[{"$nulls":3},{"$f":"MASTER!$E$14","v":"P.S.-Bapini (Phalodi)"}]
[null,{"$f":"CONCATENATE(C345,'TIME TABLE'!$C$5,'ADMIT CARD'!$C346,$F346,'ADMIT CARD'!$G346,'TIME TABLE'!$E$5)","v":"ADMIT CARD(Roll Number●→0)"},{"$f":"CONCATENATE('TIME TABLE'!$B$2,'TIME TABLE'!$F$2)","v":"TEST-I: (2025-26)"},{"$nulls":5},"Paste latest \nphoto of student"]
[null,null,"ADMIT CARD",{"$nulls":6}," "]
[null,null,"Roll Number",null,null,"●→",{"$f":"VLOOKUP(A341,'STUDENT DETAIL'!$C$8:$I$107,3)","v":0}]
[null,null,"Student's Name",null,null,"●→",{"$f":"IF(OR(G346=0,G346=\"\"),\"\",VLOOKUP(A341,'STUDENT DETAIL'!$C$8:$I$107,4))","v":""}]
[null,null,"Father's Name",null,null,"●→",{"$f":"IF(OR(G346=0,G346=\"\"),\"\",VLOOKUP(A341,'STUDENT DETAIL'!$C$8:$I$107,5))","v":""},null,"Seal and Signature of Head of Institution"]
[null,null,"Mother's Name ",null,null,"●→",{"$f":"IF(OR(G346=0,G346=\"\"),\"\",VLOOKUP(A341,'STUDENT DETAIL'!$C$8:$I$107,6))","v":""}]
[null,null,"Class & Section",null,null,"●→",{"$f":"IF(OR(G346=0,G346=\"\"),\"\",IF('STUDENT DETAIL'!$H$4=\"\",'STUDENT DETAIL'!$E$4,CONCATENATE('STUDENT DETAIL'!$E$4,\"   \",\"(\",'STUDENT DETAIL'!$H$4,\")\")))","v":""}]
[null,null,"Date Of Birth",null,null,"●→",{"$f":"IF(OR(G346=0,G346=\"\"),\"\",VLOOKUP(A341,'STUDENT DETAIL'!$C$8:$I$107,7))","v":""}]
[null,null,"Time Table"]
[null,null,"Date (Day)",null,null,"Subject",null,"Time"]
[null,null,{"$f":"IF('TIME TABLE'!$B$5=\"\",\"\",'TIME TABLE'!$B$5)","v":"2022-03-31"},null,{"$f":"IF(C354=\"\",\"\",IF(C354>0,CONCATENATE('TIME TABLE'!$C$5,'TIME TABLE'!$D$5,'TIME TABLE'!$E$5)))","v":"(Thursday)"},{"$f":"IF(C354=\"\",\"\",'TIME TABLE'!$F$5)","v":"Hindi"},null,{"$f":"IF(F354=\"\",\"\",'TIME TABLE'!$H$5)","v":"09:00 AM to 11:45 AM"}]
[null,null,{"$f":"IF('TIME TABLE'!$B$6=\"\",\"\",'TIME TABLE'!$B$6)","v":"2022-04-01"},null,{"$f":"IF(C355=\"\",\"\",IF(C355>0,CONCATENATE('TIME TABLE'!$C$6,'TIME TABLE'!$D$6,'TIME TABLE'!$E$6)))","v":"(Friday)"},{"$f":"IF(C355=\"\",\"\",'TIME TABLE'!$F$6)","v":"English"},null,{"$f":"IF(F355=\"\",\"\",'TIME TABLE'!$H$6)","v":"09:00 AM to 11:45 AM"}]
[null,null,{"$f":"IF('TIME TABLE'!$B$7=\"\",\"\",'TIME TABLE'!$B$7)","v":"2022-04-02"},null,{"$f":"IF(C356=\"\",\"\",IF(C356>0,CONCATENATE('TIME TABLE'!$C$7,'TIME TABLE'!$D$7,'TIME TABLE'!$E$7)))","v":"(Saturday)"},{"$f":"IF(C356=\"\",\"\",'TIME TABLE'!$F$7)","v":"Science"},null,{"$f":"IF(F356=\"\",\"\",'TIME TABLE'!$H$7)","v":"09:00 AM to 11:45 AM"}]
[null,null,{"$f":"IF('TIME TABLE'!$B$8=\"\",\"\",'TIME TABLE'!$B$8)","v":"2022-04-03"},null,{"$f":"IF(C357=\"\",\"\",IF(C357>0,CONCATENATE('TIME TABLE'!$C$8,'TIME TABLE'!$D$8,'TIME TABLE'!$E$8)))","v":"(Sunday)"},{"$f":"IF(C357=\"\",\"\",'TIME TABLE'!$F$8)","v":"Mathematics"},null,{"$f":"IF(F357=\"\",\"\",'TIME TABLE'!$H$8)","v":"09:00 AM to 11:45 AM"}]
[null,null,{"$f":"IF('TIME TABLE'!$B$9=\"\",\"\",'TIME TABLE'!$B$9)","v":"2022-04-04"},null,{"$f":"IF(C358=\"\",\"\",IF(C358>0,CONCATENATE('TIME TABLE'!$C$9,'TIME TABLE'!$D$9,'TIME TABLE'!$E$9)))","v":"(Monday)"},{"$f":"IF(C358=\"\",\"\",'TIME TABLE'!$F$9)","v":"Social Study"},null,{"$f":"IF(F358=\"\",\"\",'TIME TABLE'!$H$9)","v":"09:00 AM to 11:45 AM"}]
[null,null,{"$f":"IF('TIME TABLE'!$B$10=\"\",\"\",'TIME TABLE'!$B$10)","v":"2022-04-05"},null,{"$f":"IF(C359=\"\",\"\",IF(C359>0,CONCATENATE('TIME TABLE'!$C$10,'TIME TABLE'!$D$10,'TIME TABLE'!$E$10)))","v":"(Tuesday)"},{"$f":"IF(C359=\"\",\"\",'TIME TABLE'!$F$10)","v":"Sanskrit"},null,{"$f":"IF(F359=\"\",\"\",'TIME TABLE'!$H$10)","v":"09:00 AM to 11:45 AM"}]
[null,null,{"$f":"IF('TIME TABLE'!$B$11=\"\",\"\",'TIME TABLE'!$B$11)","v":""},null,{"$f":"IF(C360=\"\",\"\",IF(C360>0,CONCATENATE('TIME TABLE'!$C$11,'TIME TABLE'!$D$11,'TIME TABLE'!$E$11)))","v":""},{"$f":"IF(C360=\"\",\"\",'TIME TABLE'!$F$11)","v":""},null,{"$f":"IF(F360=\"\",\"\",'TIME TABLE'!$H$11)","v":""}]
[null,null,{"$f":"IF('TIME TABLE'!$B$12=\"\",\"\",'TIME TABLE'!$B$12)","v":""},null,{"$f":"IF(C361=\"\",\"\",IF(C361>0,CONCATENATE('TIME TABLE'!$C$12,'TIME TABLE'!$D$12,'TIME TABLE'!$E$12)))","v":""},{"$f":"IF(C361=\"\",\"\",'TIME TABLE'!$F$12)","v":""},null,{"$f":"IF(C361=\"\",\"\",'TIME TABLE'!$H$12)","v":""}]
[null,null,{"$f":"IF('TIME TABLE'!$B$13=\"\",\"\",'TIME TABLE'!$B$13)","v":""},null,{"$f":"IF(C362=\"\",\"\",IF(C362>0,CONCATENATE('TIME TABLE'!$C$11,'TIME TABLE'!$D$11,'TIME TABLE'!$E$11)))","v":""},{"$f":"IF(C362=\"\",\"\",'TIME TABLE'!$F$13)","v":""},null,{"$f":"IF(C362=\"\",\"\",'TIME TABLE'!$H$13)","v":""}]
[null,null,{"$f":"IF('TIME TABLE'!$B$14=\"\",\"\",'TIME TABLE'!$B$14)","v":""},null,{"$f":"IF(C363=\"\",\"\",IF(C363>0,CONCATENATE('TIME TABLE'!$C$11,'TIME TABLE'!$D$11,'TIME TABLE'!$E$11)))","v":""},{"$f":"IF(C363=\"\",\"\",'TIME TABLE'!$F$14)","v":""},null,{"$f":"IF(C363=\"\",\"\",'TIME TABLE'!$H$14)","v":""}]
[null,null,"Instructions"]
[null,null,1,"Check the exam time table carefully."]
[null,null,2,"Students must bring the 'Admit Card' and show it to the invigilator(s) on duty and should preserve it for future requirements."]
[null,null,3,"Mobile Phone, Calculator, Digital Watch or any Electronic Device is NOT ALLOWED."]
[null,null,4,"Arrive at the School at least 15 minutes before the start examination."]
[null,null,5,"Student is barred from entering the examination hall 15 minutes after the written examination starts."]
[null,null,6,"Ensure that you use the washroom before arriving for your exam as you will not be permitted to leave during the first hour."]
[null,null,7,"Normally, you are required to answer questionsusing blue or black in . Make sure you bring some spare pens with you."]
[null,null,8,"Keep your eyes on your own paper. Remember, copying is cheating!"]
[null,null,9,"You must remain silent until after you have exited the school building."]
[]
[{"$f":"A341+1","v":12}]
[null,{"$f":"logo","v":{"$error":"#NAME?"}},null,{"$f":"MASTER!$E$11","v":"Govt. Sr. Secondary School Raimalwada"}]
[{"$nulls":3},{"$f":"MASTER!$E$14","v":"P.S.-Bapini (Phalodi)"}]
[null,{"$f":"CONCATENATE(C379,'TIME TABLE'!$C$5,'ADMIT CARD'!$C380,$F380,'ADMIT CARD'!$G380,'TIME TABLE'!$E$5)","v":"ADMIT CARD(Roll Number●→0)"},{"$f":"CONCATENATE('TIME TABLE'!$B$2,'TIME TABLE'!$F$2)","v":"TEST-I: (2025-26)"},{"$nulls":5},"Paste latest \nphoto of student"]
[null,null,"ADMIT CARD",{"$nulls":6}," "]
[null,null,"Roll Number",null,null,"●→",{"$f":"VLOOKUP(A375,'STUDENT DETAIL'!$C$8:$I$107,3)","v":0}]
[null,null,"Student's Name",null,null,"●→",{"$f":"IF(OR(G380=0,G380=\"\"),\"\",VLOOKUP(A375,'STUDENT DETAIL'!$C$8:$I$107,4))","v":""}]
[null,null,"Father's Name",null,null,"●→",{"$f":"IF(OR(G380=0,G380=\"\"),\"\",VLOOKUP(A375,'STUDENT DETAIL'!$C$8:$I$107,5))","v":""},null,"Seal and Signature of Head of Institution"]
[null,null,"Mother's Name ",null,null,"●→",{"$f":"IF(OR(G380=0,G380=\"\"),\"\",VLOOKUP(A375,'STUDENT DETAIL'!$C$8:$I$107,6))","v":""}]
[null,null,"Class & Section",null,null,"●→",{"$f":"IF(OR(G380=0,G380=\"\"),\"\",IF('STUDENT DETAIL'!$H$4=\"\",'STUDENT DETAIL'!$E$4,CONCATENATE('STUDENT DETAIL'!$E$4,\"   \",\"(\",'STUDENT DETAIL'!$H$4,\")\")))","v":""}]
[null,null,"Date Of Birth",null,null,"●→",{"$f":"IF(OR(G380=0,G380=\"\"),\"\",VLOOKUP(A375,'STUDENT DETAIL'!$C$8:$I$107,7))","v":""}]
[null,null,"Time Table"]
[null,null,"Date (Day)",null,null,"Subject",null,"Time"]
[null,null,{"$f":"IF('TIME TABLE'!$B$5=\"\",\"\",'TIME TABLE'!$B$5)","v":"2022-03-31"},null,{"$f":"IF(C388=\"\",\"\",IF(C388>0,CONCATENATE('TIME TABLE'!$C$5,'TIME TABLE'!$D$5,'TIME TABLE'!$E$5)))","v":"(Thursday)"},{"$f":"IF(C388=\"\",\"\",'TIME TABLE'!$F$5)","v":"Hindi"},null,{"$f":"IF(F388=\"\",\"\",'TIME TABLE'!$H$5)","v":"09:00 AM to 11:45 AM"}]
[null,null,{"$f":"IF('TIME TABLE'!$B$6=\"\",\"\",'TIME TABLE'!$B$6)","v":"2022-04-01"},null,{"$f":"IF(C389=\"\",\"\",IF(C389>0,CONCATENATE('TIME TABLE'!$C$6,'TIME TABLE'!$D$6,'TIME TABLE'!$E$6)))","v":"(Friday)"},{"$f":"IF(C389=\"\",\"\",'TIME TABLE'!$F$6)","v":"English"},null,{"$f":"IF(F389=\"\",\"\",'TIME TABLE'!$H$6)","v":"09:00 AM to 11:45 AM"}]
[null,null,{"$f":"IF('TIME TABLE'!$B$7=\"\",\"\",'TIME TABLE'!$B$7)","v":"2022-04-02"},null,{"$f":"IF(C390=\"\",\"\",IF(C390>0,CONCATENATE('TIME TABLE'!$C$7,'TIME TABLE'!$D$7,'TIME TABLE'!$E$7)))","v":"(Saturday)"},{"$f":"IF(C390=\"\",\"\",'TIME TABLE'!$F$7)","v":"Science"},null,{"$f":"IF(F390=\"\",\"\",'TIME TABLE'!$H$7)","v":"09:00 AM to 11:45 AM"}]
[null,null,{"$f":"IF('TIME TABLE'!$B$8=\"\",\"\",'TIME TABLE'!$B$8)","v":"2022-04-03"},null,{"$f":"IF(C391=\"\",\"\",IF(C391>0,CONCATENATE('TIME TABLE'!$C$8,'TIME TABLE'!$D$8,'TIME TABLE'!$E$8)))","v":"(Sunday)"},{"$f":"IF(C391=\"\",\"\",'TIME TABLE'!$F$8)","v":"Mathematics"},null,{"$f":"IF(F391=\"\",\"\",'TIME TABLE'!$H$8)","v":"09:00 AM to 11:45 AM"}]
[null,null,{"$f":"IF('TIME TABLE'!$B$9=\"\",\"\",'TIME TABLE'!$B$9)","v":"2022-04-04"},null,{"$f":"IF(C392=\"\",\"\",IF(C392>0,CONCATENATE('TIME TABLE'!$C$9,'TIME TABLE'!$D$9,'TIME TABLE'!$E$9)))","v":"(Monday)"},{"$f":"IF(C392=\"\",\"\",'TIME TABLE'!$F$9)","v":"Social Study"},null,{"$f":"IF(F392=\"\",\"\",'TIME TABLE'!$H$9)","v":"09:00 AM to 11:45 AM"}]
[null,null,{"$f":"IF('TIME TABLE'!$B$10=\"\",\"\",'TIME TABLE'!$B$10)","v":"2022-04-05"},null,{"$f":"IF(C393=\"\",\"\",IF(C393>0,CONCATENATE('TIME TABLE'!$C$10,'TIME TABLE'!$D$10,'TIME TABLE'!$E$10)))","v":"(Tuesday)"},{"$f":"IF(C393=\"\",\"\",'TIME TABLE'!$F$10)","v":"Sanskrit"},null,{"$f":"IF(F393=\"\",\"\",'TIME TABLE'!$H$10)","v":"09:00 AM to 11:45 AM"}]
[null,null,{"$f":"IF('TIME TABLE'!$B$11=\"\",\"\",'TIME TABLE'!$B$11)","v":""},null,{"$f":"IF(C394=\"\",\"\",IF(C394>0,CONCATENATE('TIME TABLE'!$C$11,'TIME TABLE'!$D$11,'TIME TABLE'!$E$11)))","v":""},{"$f":"IF(C394=\"\",\"\",'TIME TABLE'!$F$11)","v":""},null,{"$f":"IF(F394=\"\",\"\",'TIME TABLE'!$H$11)","v":""}]
[null,null,{"$f":"IF('TIME TABLE'!$B$12=\"\",\"\",'TIME TABLE'!$B$12)","v":""},null,{"$f":"IF(C395=\"\",\"\",IF(C395>0,CONCATENATE('TIME TABLE'!$C$12,'TIME TABLE'!$D$12,'TIME TABLE'!$E$12)))","v":""},{"$f":"IF(C395=\"\",\"\",'TIME TABLE'!$F$12)","v":""},null,{"$f":"IF(C395=\"\",\"\",'TIME TABLE'!$H$12)","v":""}]
[null,null,{"$f":"IF('TIME TABLE'!$B$13=\"\",\"\",'TIME TABLE'!$B$13)","v":""},null,{"$f":"IF(C396=\"\",\"\",IF(C396>0,CONCATENATE('TIME TABLE'!$C$11,'TIME TABLE'!$D$11,'TIME TABLE'!$E$11)))","v":""},{"$f":"IF(C396=\"\",\"\",'TIME TABLE'!$F$13)","v":""},null,{"$f":"IF(C396=\"\",\"\",'TIME TABLE'!$H$13)","v":""}]
[null,null,{"$f":"IF('TIME TABLE'!$B$14=\"\",\"\",'TIME TABLE'!$B$14)","v":""},null,{"$f":"IF(C397=\"\",\"\",IF(C397>0,CONCATENATE('TIME TABLE'!$C$11,'TIME TABLE'!$D$11,'TIME TABLE'!$E$11)))","v":""},{"$f":"IF(C397=\"\",\"\",'TIME TABLE'!$F$14)","v":""},null,{"$f":"IF(C397=\"\",\"\",'TIME TABLE'!$H$14)","v":""}]
[null,null,"Instructions"]
[null,null,1,"Check the exam time table carefully."]
[null,null,2,"Students must bring the 'Admit Card' and show it to the invigilator(s) on duty and should preserve it for future requirements."]
[null,null,3,"Mobile Phone, Calculator, Digital Watch or any Electronic Device is NOT ALLOWED."]
[null,null,4,"Arrive at the School at least 15 minutes before the start examination."]
[null,null,5,"Student is barred from entering the examination hall 15 minutes after the written examination starts."]
[null,null,6,"Ensure that you use the washroom before arriving for your exam as you will not be permitted to leave during the first hour."]
[null,null,7,"Normally, you are required to answer questionsusing blue or black in . Make sure you bring some spare pens with you."]
[null,null,8,"Keep your eyes on your own paper. Remember, copying is cheating!"]
[null,null,9,"You must remain silent until after you have exited the school building."]
[]
[{"$f":"A375+1","v":13}]
[null,{"$f":"logo","v":{"$error":"#NAME?"}},null,{"$f":"MASTER!$E$11","v":"Govt. Sr. Secondary School Raimalwada"}]
[{"$nulls":3},{"$f":"MASTER!$E$14","v":"P.S.-Bapini (Phalodi)"}]
[null,{"$f":"CONCATENATE(C413,'TIME TABLE'!$C$5,'ADMIT CARD'!$C414,$F414,'ADMIT CARD'!$G414,'TIME TABLE'!$E$5)","v":"ADMIT CARD(Roll Number●→0)"},{"$f":"CONCATENATE('TIME TABLE'!$B$2,'TIME TABLE'!$F$2)","v":"TEST-I: (2025-26)"},{"$nulls":5},"Paste latest \nphoto of student"]
[null,null,"ADMIT CARD",{"$nulls":6}," "]
[null,null,"Roll Number",null,null,"●→",{"$f":"VLOOKUP(A409,'STUDENT DETAIL'!$C$8:$I$107,3)","v":0}]
[null,null,"Student's Name",null,null,"●→",{"$f":"IF(OR(G414=0,G414=\"\"),\"\",VLOOKUP(A409,'STUDENT DETAIL'!$C$8:$I$107,4))","v":""}]
[null,null,"Father's Name",null,null,"●→",{"$f":"IF(OR(G414=0,G414=\"\"),\"\",VLOOKUP(A409,'STUDENT DETAIL'!$C$8:$I$107,5))","v":""},null,"Seal and Signature of Head of Institution"]
[null,null,"Mother's Name ",null,null,"●→",{"$f":"IF(OR(G414=0,G414=\"\"),\"\",VLOOKUP(A409,'STUDENT DETAIL'!$C$8:$I$107,6))","v":""}]
[null,null,"Class & Section",null,null,"●→",{"$f":"IF(OR(G414=0,G414=\"\"),\"\",IF('STUDENT DETAIL'!$H$4=\"\",'STUDENT DETAIL'!$E$4,CONCATENATE('STUDENT DETAIL'!$E$4,\"   \",\"(\",'STUDENT DETAIL'!$H$4,\")\")))","v":""}]
[null,null,"Date Of Birth",null,null,"●→",{"$f":"IF(OR(G414=0,G414=\"\"),\"\",VLOOKUP(A409,'STUDENT DETAIL'!$C$8:$I$107,7))","v":""}]
[null,null,"Time Table"]
[null,null,"Date (Day)",null,null,"Subject",null,"Time"]
[null,null,{"$f":"IF('TIME TABLE'!$B$5=\"\",\"\",'TIME TABLE'!$B$5)","v":"2022-03-31"},null,{"$f":"IF(C422=\"\",\"\",IF(C422>0,CONCATENATE('TIME TABLE'!$C$5,'TIME TABLE'!$D$5,'TIME TABLE'!$E$5)))","v":"(Thursday)"},{"$f":"IF(C422=\"\",\"\",'TIME TABLE'!$F$5)","v":"Hindi"},null,{"$f":"IF(F422=\"\",\"\",'TIME TABLE'!$H$5)","v":"09:00 AM to 11:45 AM"}]
[null,null,{"$f":"IF('TIME TABLE'!$B$6=\"\",\"\",'TIME TABLE'!$B$6)","v":"2022-04-01"},null,{"$f":"IF(C423=\"\",\"\",IF(C423>0,CONCATENATE('TIME TABLE'!$C$6,'TIME TABLE'!$D$6,'TIME TABLE'!$E$6)))","v":"(Friday)"},{"$f":"IF(C423=\"\",\"\",'TIME TABLE'!$F$6)","v":"English"},null,{"$f":"IF(F423=\"\",\"\",'TIME TABLE'!$H$6)","v":"09:00 AM to 11:45 AM"}]
[null,null,{"$f":"IF('TIME TABLE'!$B$7=\"\",\"\",'TIME TABLE'!$B$7)","v":"2022-04-02"},null,{"$f":"IF(C424=\"\",\"\",IF(C424>0,CONCATENATE('TIME TABLE'!$C$7,'TIME TABLE'!$D$7,'TIME TABLE'!$E$7)))","v":"(Saturday)"},{"$f":"IF(C424=\"\",\"\",'TIME TABLE'!$F$7)","v":"Science"},null,{"$f":"IF(F424=\"\",\"\",'TIME TABLE'!$H$7)","v":"09:00 AM to 11:45 AM"}]
[null,null,{"$f":"IF('TIME TABLE'!$B$8=\"\",\"\",'TIME TABLE'!$B$8)","v":"2022-04-03"},null,{"$f":"IF(C425=\"\",\"\",IF(C425>0,CONCATENATE('TIME TABLE'!$C$8,'TIME TABLE'!$D$8,'TIME TABLE'!$E$8)))","v":"(Sunday)"},{"$f":"IF(C425=\"\",\"\",'TIME TABLE'!$F$8)","v":"Mathematics"},null,{"$f":"IF(F425=\"\",\"\",'TIME TABLE'!$H$8)","v":"09:00 AM to 11:45 AM"}]
[null,null,{"$f":"IF('TIME TABLE'!$B$9=\"\",\"\",'TIME TABLE'!$B$9)","v":"2022-04-04"},null,{"$f":"IF(C426=\"\",\"\",IF(C426>0,CONCATENATE('TIME TABLE'!$C$9,'TIME TABLE'!$D$9,'TIME TABLE'!$E$9)))","v":"(Monday)"},{"$f":"IF(C426=\"\",\"\",'TIME TABLE'!$F$9)","v":"Social Study"},null,{"$f":"IF(F426=\"\",\"\",'TIME TABLE'!$H$9)","v":"09:00 AM to 11:45 AM"}]
[null,null,{"$f":"IF('TIME TABLE'!$B$10=\"\",\"\",'TIME TABLE'!$B$10)","v":"2022-04-05"},null,{"$f":"IF(C427=\"\",\"\",IF(C427>0,CONCATENATE('TIME TABLE'!$C$10,'TIME TABLE'!$D$10,'TIME TABLE'!$E$10)))","v":"(Tuesday)"},{"$f":"IF(C427=\"\",\"\",'TIME TABLE'!$F$10)","v":"Sanskrit"},null,{"$f":"IF(F427=\"\",\"\",'TIME TABLE'!$H$10)","v":"09:00 AM to 11:45 AM"}]
[null,null,{"$f":"IF('TIME TABLE'!$B$11=\"\",\"\",'TIME TABLE'!$B$11)","v":""},null,{"$f":"IF(C428=\"\",\"\",IF(C428>0,CONCATENATE('TIME TABLE'!$C$11,'TIME TABLE'!$D$11,'TIME TABLE'!$E$11)))","v":""},{"$f":"IF(C428=\"\",\"\",'TIME TABLE'!$F$11)","v":""},null,{"$f":"IF(F428=\"\",\"\",'TIME TABLE'!$H$11)","v":""}]
[null,null,{"$f":"IF('TIME TABLE'!$B$12=\"\",\"\",'TIME TABLE'!$B$12)","v":""},null,{"$f":"IF(C429=\"\",\"\",IF(C429>0,CONCATENATE('TIME TABLE'!$C$12,'TIME TABLE'!$D$12,'TIME TABLE'!$E$12)))","v":""},{"$f":"IF(C429=\"\",\"\",'TIME TABLE'!$F$12)","v":""},null,{"$f":"IF(C429=\"\",\"\",'TIME TABLE'!$H$12)","v":""}]
[null,null,{"$f":"IF('TIME TABLE'!$B$13=\"\",\"\",'TIME TABLE'!$B$13)","v":""},null,{"$f":"IF(C430=\"\",\"\",IF(C430>0,CONCATENATE('TIME TABLE'!$C$11,'TIME TABLE'!$D$11,'TIME TABLE'!$E$11)))","v":""},{"$f":"IF(C430=\"\",\"\",'TIME TABLE'!$F$13)","v":""},null,{"$f":"IF(C430=\"\",\"\",'TIME TABLE'!$H$13)","v":""}]
[null,null,{"$f":"IF('TIME TABLE'!$B$14=\"\",\"\",'TIME TABLE'!$B$14)","v":""},null,{"$f":"IF(C431=\"\",\"\",IF(C431>0,CONCATENATE('TIME TABLE'!$C$11,'TIME TABLE'!$D$11,'TIME TABLE'!$E$11)))","v":""},{"$f":"IF(C431=\"\",\"\",'TIME TABLE'!$F$14)","v":""},null,{"$f":"IF(C431=\"\",\"\",'TIME TABLE'!$H$14)","v":""}]
[null,null,"Instructions"]
[null,null,1,"Check the exam time table carefully."]
[null,null,2,"Students must bring the 'Admit Card' and show it to the invigilator(s) on duty and should preserve it for future requirements."]
[null,null,3,"Mobile Phone, Calculator, Digital Watch or any Electronic Device is NOT ALLOWED."]
[null,null,4,"Arrive at the School at least 15 minutes before the start examination."]
[null,null,5,"Student is barred from entering the examination hall 15 minutes after the written examination starts."]
[null,null,6,"Ensure that you use the washroom before arriving for your exam as you will not be permitted to leave during the first hour."]
[null,null,7,"Normally, you are required to answer questionsusing blue or black in . Make sure you bring some spare pens with you."]
[null,null,8,"Keep your eyes on your own paper. Remember, copying is cheating!"]
[null,null,9,"You must remain silent until after you have exited the school building."]
[]
[{"$f":"A409+1","v":14}]
[null,{"$f":"logo","v":{"$error":"#NAME?"}},null,{"$f":"MASTER!$E$11","v":"Govt. Sr. Secondary School Raimalwada"}]
[{"$nulls":3},{"$f":"MASTER!$E$14","v":"P.S.-Bapini (Phalodi)"}]
[null,{"$f":"CONCATENATE(C447,'TIME TABLE'!$C$5,'ADMIT CARD'!$C448,$F448,'ADMIT CARD'!$G448,'TIME TABLE'!$E$5)","v":"ADMIT CARD(Roll Number●→0)"},{"$f":"CONCATENATE('TIME TABLE'!$B$2,'TIME TABLE'!$F$2)","v":"TEST-I: (2025-26)"},{"$nulls":5},"Paste latest \nphoto of student"]
[null,null,"ADMIT CARD",{"$nulls":6}," "]
[null,null,"Roll Number",null,null,"●→",{"$f":"VLOOKUP(A443,'STUDENT DETAIL'!$C$8:$I$107,3)","v":0}]
[null,null,"Student's Name",null,null,"●→",{"$f":"IF(OR(G448=0,G448=\"\"),\"\",VLOOKUP(A443,'STUDENT DETAIL'!$C$8:$I$107,4))","v":""}]
[null,null,"Father's Name",null,null,"●→",{"$f":"IF(OR(G448=0,G448=\"\"),\"\",VLOOKUP(A443,'STUDENT DETAIL'!$C$8:$I$107,5))","v":""},null,"Seal and Signature of Head of Institution"]
[null,null,"Mother's Name ",null,null,"●→",{"$f":"IF(OR(G448=0,G448=\"\"),\"\",VLOOKUP(A443,'STUDENT DETAIL'!$C$8:$I$107,6))","v":""}]
[null,null,"Class & Section",null,null,"●→",{"$f":"IF(OR(G448=0,G448=\"\"),\"\",IF('STUDENT DETAIL'!$H$4=\"\",'STUDENT DETAIL'!$E$4,CONCATENATE('STUDENT DETAIL'!$E$4,\"   \",\"(\",'STUDENT DETAIL'!$H$4,\")\")))","v":""}]
[null,null,"Date Of Birth",null,null,"●→",{"$f":"IF(OR(G448=0,G448=\"\"),\"\",VLOOKUP(A443,'STUDENT DETAIL'!$C$8:$I$107,7))","v":""}]
[null,null,"Time Table"]
[null,null,"Date (Day)",null,null,"Subject",null,"Time"]
[null,null,{"$f":"IF('TIME TABLE'!$B$5=\"\",\"\",'TIME TABLE'!$B$5)","v":"2022-03-31"},null,{"$f":"IF(C456=\"\",\"\",IF(C456>0,CONCATENATE('TIME TABLE'!$C$5,'TIME TABLE'!$D$5,'TIME TABLE'!$E$5)))","v":"(Thursday)"},{"$f":"IF(C456=\"\",\"\",'TIME TABLE'!$F$5)","v":"Hindi"},null,{"$f":"IF(F456=\"\",\"\",'TIME TABLE'!$H$5)","v":"09:00 AM to 11:45 AM"}]
[null,null,{"$f":"IF('TIME TABLE'!$B$6=\"\",\"\",'TIME TABLE'!$B$6)","v":"2022-04-01"},null,{"$f":"IF(C457=\"\",\"\",IF(C457>0,CONCATENATE('TIME TABLE'!$C$6,'TIME TABLE'!$D$6,'TIME TABLE'!$E$6)))","v":"(Friday)"},{"$f":"IF(C457=\"\",\"\",'TIME TABLE'!$F$6)","v":"English"},null,{"$f":"IF(F457=\"\",\"\",'TIME TABLE'!$H$6)","v":"09:00 AM to 11:45 AM"}]
[null,null,{"$f":"IF('TIME TABLE'!$B$7=\"\",\"\",'TIME TABLE'!$B$7)","v":"2022-04-02"},null,{"$f":"IF(C458=\"\",\"\",IF(C458>0,CONCATENATE('TIME TABLE'!$C$7,'TIME TABLE'!$D$7,'TIME TABLE'!$E$7)))","v":"(Saturday)"},{"$f":"IF(C458=\"\",\"\",'TIME TABLE'!$F$7)","v":"Science"},null,{"$f":"IF(F458=\"\",\"\",'TIME TABLE'!$H$7)","v":"09:00 AM to 11:45 AM"}]
[null,null,{"$f":"IF('TIME TABLE'!$B$8=\"\",\"\",'TIME TABLE'!$B$8)","v":"2022-04-03"},null,{"$f":"IF(C459=\"\",\"\",IF(C459>0,CONCATENATE('TIME TABLE'!$C$8,'TIME TABLE'!$D$8,'TIME TABLE'!$E$8)))","v":"(Sunday)"},{"$f":"IF(C459=\"\",\"\",'TIME TABLE'!$F$8)","v":"Mathematics"},null,{"$f":"IF(F459=\"\",\"\",'TIME TABLE'!$H$8)","v":"09:00 AM to 11:45 AM"}]
[null,null,{"$f":"IF('TIME TABLE'!$B$9=\"\",\"\",'TIME TABLE'!$B$9)","v":"2022-04-04"},null,{"$f":"IF(C460=\"\",\"\",IF(C460>0,CONCATENATE('TIME TABLE'!$C$9,'TIME TABLE'!$D$9,'TIME TABLE'!$E$9)))","v":"(Monday)"},{"$f":"IF(C460=\"\",\"\",'TIME TABLE'!$F$9)","v":"Social Study"},null,{"$f":"IF(F460=\"\",\"\",'TIME TABLE'!$H$9)","v":"09:00 AM to 11:45 AM"}]
[null,null,{"$f":"IF('TIME TABLE'!$B$10=\"\",\"\",'TIME TABLE'!$B$10)","v":"2022-04-05"},null,{"$f":"IF(C461=\"\",\"\",IF(C461>0,CONCATENATE('TIME TABLE'!$C$10,'TIME TABLE'!$D$10,'TIME TABLE'!$E$10)))","v":"(Tuesday)"},{"$f":"IF(C461=\"\",\"\",'TIME TABLE'!$F$10)","v":"Sanskrit"},null,{"$f":"IF(F461=\"\",\"\",'TIME TABLE'!$H$10)","v":"09:00 AM to 11:45 AM"}]
[null,null,{"$f":"IF('TIME TABLE'!$B$11=\"\",\"\",'TIME TABLE'!$B$11)","v":""},null,{"$f":"IF(C462=\"\",\"\",IF(C462>0,CONCATENATE('TIME TABLE'!$C$11,'TIME TABLE'!$D$11,'TIME TABLE'!$E$11)))","v":""},{"$f":"IF(C462=\"\",\"\",'TIME TABLE'!$F$11)","v":""},null,{"$f":"IF(F462=\"\",\"\",'TIME TABLE'!$H$11)","v":""}]
[null,null,{"$f":"IF('TIME TABLE'!$B$12=\"\",\"\",'TIME TABLE'!$B$12)","v":""},null,{"$f":"IF(C463=\"\",\"\",IF(C463>0,CONCATENATE('TIME TABLE'!$C$12,'TIME TABLE'!$D$12,'TIME TABLE'!$E$12)))","v":""},{"$f":"IF(C463=\"\",\"\",'TIME TABLE'!$F$12)","v":""},null,{"$f":"IF(C463=\"\",\"\",'TIME TABLE'!$H$12)","v":""}]
[null,null,{"$f":"IF('TIME TABLE'!$B$13=\"\",\"\",'TIME TABLE'!$B$13)","v":""},null,{"$f":"IF(C464=\"\",\"\",IF(C464>0,CONCATENATE('TIME TABLE'!$C$11,'TIME TABLE'!$D$11,'TIME TABLE'!$E$11)))","v":""},{"$f":"IF(C464=\"\",\"\",'TIME TABLE'!$F$13)","v":""},null,{"$f":"IF(C464=\"\",\"\",'TIME TABLE'!$H$13)","v":""}]
[null,null,{"$f":"IF('TIME TABLE'!$B$14=\"\",\"\",'TIME TABLE'!$B$14)","v":""},null,{"$f":"IF(C465=\"\",\"\",IF(C465>0,CONCATENATE('TIME TABLE'!$C$11,'TIME TABLE'!$D$11,'TIME TABLE'!$E$11)))","v":""},{"$f":"IF(C465=\"\",\"\",'TIME TABLE'!$F$14)","v":""},null,{"$f":"IF(C465=\"\",\"\",'TIME TABLE'!$H$14)","v":""}]
[null,null,"Instructions"]
[null,null,1,"Check the exam time table carefully."]
[null,null,2,"Students must bring the 'Admit Card' and show it to the invigilator(s) on duty and should preserve it for future requirements."]
[null,null,3,"Mobile Phone, Calculator, Digital Watch or any Electronic Device is NOT ALLOWED."]
[null,null,4,"Arrive at the School at least 15 minutes before the start examination."]
[null,null,5,"Student is barred from entering the examination hall 15 minutes after the written examination starts."]
[null,null,6,"Ensure that you use the washroom before arriving for your exam as you will not be permitted to leave during the first hour."]
[null,null,7,"Normally, you are required to answer questionsusing blue or black in . Make sure you bring some spare pens with you."]
[null,null,8,"Keep your eyes on your own paper. Remember, copying is cheating!"]
[null,null,9,"You must remain silent until after you have exited the school building."]
[]
[{"$f":"A443+1","v":15}]
[null,{"$f":"logo","v":{"$error":"#NAME?"}},null,{"$f":"MASTER!$E$11","v":"Govt. Sr. Secondary School Raimalwada"}]
[{"$nulls":3},{"$f":"MASTER!$E$14","v":"P.S.-Bapini (Phalodi)"}]
[null,{"$f":"CONCATENATE(C481,'TIME TABLE'!$C$5,'ADMIT CARD'!$C482,$F482,'ADMIT CARD'!$G482,'TIME TABLE'!$E$5)","v":"ADMIT CARD(Roll Number●→0)"},{"$f":"CONCATENATE('TIME TABLE'!$B$2,'TIME TABLE'!$F$2)","v":"TEST-I: (2025-26)"},{"$nulls":5},"Paste latest \nphoto of student"]
[null,null,"ADMIT CARD",{"$nulls":6}," "]
[null,null,"Roll Number",null,null,"●→",{"$f":"VLOOKUP(A477,'STUDENT DETAIL'!$C$8:$I$107,3)","v":0}]
[null,null,"Student's Name",null,null,"●→",{"$f":"IF(OR(G482=0,G482=\"\"),\"\",VLOOKUP(A477,'STUDENT DETAIL'!$C$8:$I$107,4))","v":""}]
[null,null,"Father's Name",null,null,"●→",{"$f":"IF(OR(G482=0,G482=\"\"),\"\",VLOOKUP(A477,'STUDENT DETAIL'!$C$8:$I$107,5))","v":""},null,"Seal and Signature of Head of Institution"]
[null,null,"Mother's Name ",null,null,"●→",{"$f":"IF(OR(G482=0,G482=\"\"),\"\",VLOOKUP(A477,'STUDENT DETAIL'!$C$8:$I$107,6))","v":""}]
[null,null,"Class & Section",null,null,"●→",{"$f":"IF(OR(G482=0,G482=\"\"),\"\",IF('STUDENT DETAIL'!$H$4=\"\",'STUDENT DETAIL'!$E$4,CONCATENATE('STUDENT DETAIL'!$E$4,\"   \",\"(\",'STUDENT DETAIL'!$H$4,\")\")))","v":""}]
[null,null,"Date Of Birth",null,null,"●→",{"$f":"IF(OR(G482=0,G482=\"\"),\"\",VLOOKUP(A477,'STUDENT DETAIL'!$C$8:$I$107,7))","v":""}]
[null,null,"Time Table"]
[null,null,"Date (Day)",null,null,"Subject",null,"Time"]
[null,null,{"$f":"IF('TIME TABLE'!$B$5=\"\",\"\",'TIME TABLE'!$B$5)","v":"2022-03-31"},null,{"$f":"IF(C490=\"\",\"\",IF(C490>0,CONCATENATE('TIME TABLE'!$C$5,'TIME TABLE'!$D$5,'TIME TABLE'!$E$5)))","v":"(Thursday)"},{"$f":"IF(C490=\"\",\"\",'TIME TABLE'!$F$5)","v":"Hindi"},null,{"$f":"IF(F490=\"\",\"\",'TIME TABLE'!$H$5)","v":"09:00 AM to 11:45 AM"}]
[null,null,{"$f":"IF('TIME TABLE'!$B$6=\"\",\"\",'TIME TABLE'!$B$6)","v":"2022-04-01"},null,{"$f":"IF(C491=\"\",\"\",IF(C491>0,CONCATENATE('TIME TABLE'!$C$6,'TIME TABLE'!$D$6,'TIME TABLE'!$E$6)))","v":"(Friday)"},{"$f":"IF(C491=\"\",\"\",'TIME TABLE'!$F$6)","v":"English"},null,{"$f":"IF(F491=\"\",\"\",'TIME TABLE'!$H$6)","v":"09:00 AM to 11:45 AM"}]
[null,null,{"$f":"IF('TIME TABLE'!$B$7=\"\",\"\",'TIME TABLE'!$B$7)","v":"2022-04-02"},null,{"$f":"IF(C492=\"\",\"\",IF(C492>0,CONCATENATE('TIME TABLE'!$C$7,'TIME TABLE'!$D$7,'TIME TABLE'!$E$7)))","v":"(Saturday)"},{"$f":"IF(C492=\"\",\"\",'TIME TABLE'!$F$7)","v":"Science"},null,{"$f":"IF(F492=\"\",\"\",'TIME TABLE'!$H$7)","v":"09:00 AM to 11:45 AM"}]
[null,null,{"$f":"IF('TIME TABLE'!$B$8=\"\",\"\",'TIME TABLE'!$B$8)","v":"2022-04-03"},null,{"$f":"IF(C493=\"\",\"\",IF(C493>0,CONCATENATE('TIME TABLE'!$C$8,'TIME TABLE'!$D$8,'TIME TABLE'!$E$8)))","v":"(Sunday)"},{"$f":"IF(C493=\"\",\"\",'TIME TABLE'!$F$8)","v":"Mathematics"},null,{"$f":"IF(F493=\"\",\"\",'TIME TABLE'!$H$8)","v":"09:00 AM to 11:45 AM"}]
[null,null,{"$f":"IF('TIME TABLE'!$B$9=\"\",\"\",'TIME TABLE'!$B$9)","v":"2022-04-04"},null,{"$f":"IF(C494=\"\",\"\",IF(C494>0,CONCATENATE('TIME TABLE'!$C$9,'TIME TABLE'!$D$9,'TIME TABLE'!$E$9)))","v":"(Monday)"},{"$f":"IF(C494=\"\",\"\",'TIME TABLE'!$F$9)","v":"Social Study"},null,{"$f":"IF(F494=\"\",\"\",'TIME TABLE'!$H$9)","v":"09:00 AM to 11:45 AM"}]
[null,null,{"$f":"IF('TIME TABLE'!$B$10=\"\",\"\",'TIME TABLE'!$B$10)","v":"2022-04-05"},null,{"$f":"IF(C495=\"\",\"\",IF(C495>0,CONCATENATE('TIME TABLE'!$C$10,'TIME TABLE'!$D$10,'TIME TABLE'!$E$10)))","v":"(Tuesday)"},{"$f":"IF(C495=\"\",\"\",'TIME TABLE'!$F$10)","v":"Sanskrit"},null,{"$f":"IF(F495=\"\",\"\",'TIME TABLE'!$H$10)","v":"09:00 AM to 11:45 AM"}]
[null,null,{"$f":"IF('TIME TABLE'!$B$11=\"\",\"\",'TIME TABLE'!$B$11)","v":""},null,{"$f":"IF(C496=\"\",\"\",IF(C496>0,CONCATENATE('TIME TABLE'!$C$11,'TIME TABLE'!$D$11,'TIME TABLE'!$E$11)))","v":""},{"$f":"IF(C496=\"\",\"\",'TIME TABLE'!$F$11)","v":""},null,{"$f":"IF(F496=\"\",\"\",'TIME TABLE'!$H$11)","v":""}]
[null,null,{"$f":"IF('TIME TABLE'!$B$12=\"\",\"\",'TIME TABLE'!$B$12)","v":""},null,{"$f":"IF(C497=\"\",\"\",IF(C497>0,CONCATENATE('TIME TABLE'!$C$12,'TIME TABLE'!$D$12,'TIME TABLE'!$E$12)))","v":""},{"$f":"IF(C497=\"\",\"\",'TIME TABLE'!$F$12)","v":""},null,{"$f":"IF(C497=\"\",\"\",'TIME TABLE'!$H$12)","v":""}]
[null,null,{"$f":"IF('TIME TABLE'!$B$13=\"\",\"\",'TIME TABLE'!$B$13)","v":""},null,{"$f":"IF(C498=\"\",\"\",IF(C498>0,CONCATENATE('TIME TABLE'!$C$11,'TIME TABLE'!$D$11,'TIME TABLE'!$E$11)))","v":""},{"$f":"IF(C498=\"\",\"\",'TIME TABLE'!$F$13)","v":""},null,{"$f":"IF(C498=\"\",\"\",'TIME TABLE'!$H$13)","v":""}]
[null,null,{"$f":"IF('TIME TABLE'!$B$14=\"\",\"\",'TIME TABLE'!$B$14)","v":""},null,{"$f":"IF(C499=\"\",\"\",IF(C499>0,CONCATENATE('TIME TABLE'!$C$11,'TIME TABLE'!$D$11,'TIME TABLE'!$E$11)))","v":""},{"$f":"IF(C499=\"\",\"\",'TIME TABLE'!$F$14)","v":""},null,{"$f":"IF(C499=\"\",\"\",'TIME TABLE'!$H$14)","v":""}]
[null,null,"Instructions"]
[null,null,1,"Check the exam time table carefully."]
[null,null,2,"Students must bring the 'Admit Card' and show it to the invigilator(s) on duty and should preserve it for future requirements."]
[null,null,3,"Mobile Phone, Calculator, Digital Watch or any Electronic Device is NOT ALLOWED."]
[null,null,4,"Arrive at the School at least 15 minutes before the start examination."]
[null,null,5,"Student is barred from entering the examination hall 15 minutes after the written examination starts."]
[null,null,6,"Ensure that you use the washroom before arriving for your exam as you will not be permitted to leave during the first hour."]
[null,null,7,"Normally, you are required to answer questionsusing blue or black in . Make sure you bring some spare pens with you."]
[null,null,8,"Keep your eyes on your own paper. Remember, copying is cheating!"]
[null,null,9,"You must remain silent until after you have exited the school building."]
[]
[{"$f":"A477+1","v":16}]
[null,{"$f":"logo","v":{"$error":"#NAME?"}},null,{"$f":"MASTER!$E$11","v":"Govt. Sr. Secondary School Raimalwada"}]
[{"$nulls":3},{"$f":"MASTER!$E$14","v":"P.S.-Bapini (Phalodi)"}]
[null,{"$f":"CONCATENATE(C515,'TIME TABLE'!$C$5,'ADMIT CARD'!$C516,$F516,'ADMIT CARD'!$G516,'TIME TABLE'!$E$5)","v":"ADMIT CARD(Roll Number●→0)"},{"$f":"CONCATENATE('TIME TABLE'!$B$2,'TIME TABLE'!$F$2)","v":"TEST-I: (2025-26)"},{"$nulls":5},"Paste latest \nphoto of student"]
[null,null,"ADMIT CARD",{"$nulls":6}," "]
[null,null,"Roll Number",null,null,"●→",{"$f":"VLOOKUP(A511,'STUDENT DETAIL'!$C$8:$I$107,3)","v":0}]
[null,null,"Student's Name",null,null,"●→",{"$f":"IF(OR(G516=0,G516=\"\"),\"\",VLOOKUP(A511,'STUDENT DETAIL'!$C$8:$I$107,4))","v":""}]
[null,null,"Father's Name",null,null,"●→",{"$f":"IF(OR(G516=0,G516=\"\"),\"\",VLOOKUP(A511,'STUDENT DETAIL'!$C$8:$I$107,5))","v":""},null,"Seal and Signature of Head of Institution"]
[null,null,"Mother's Name ",null,null,"●→",{"$f":"IF(OR(G516=0,G516=\"\"),\"\",VLOOKUP(A511,'STUDENT DETAIL'!$C$8:$I$107,6))","v":""}]
[null,null,"Class & Section",null,null,"●→",{"$f":"IF(OR(G516=0,G516=\"\"),\"\",IF('STUDENT DETAIL'!$H$4=\"\",'STUDENT DETAIL'!$E$4,CONCATENATE('STUDENT DETAIL'!$E$4,\"   \",\"(\",'STUDENT DETAIL'!$H$4,\")\")))","v":""}]
[null,null,"Date Of Birth",null,null,"●→",{"$f":"IF(OR(G516=0,G516=\"\"),\"\",VLOOKUP(A511,'STUDENT DETAIL'!$C$8:$I$107,7))","v":""}]
[null,null,"Time Table"]
[null,null,"Date (Day)",null,null,"Subject",null,"Time"]
[null,null,{"$f":"IF('TIME TABLE'!$B$5=\"\",\"\",'TIME TABLE'!$B$5)","v":"2022-03-31"},null,{"$f":"IF(C524=\"\",\"\",IF(C524>0,CONCATENATE('TIME TABLE'!$C$5,'TIME TABLE'!$D$5,'TIME TABLE'!$E$5)))","v":"(Thursday)"},{"$f":"IF(C524=\"\",\"\",'TIME TABLE'!$F$5)","v":"Hindi"},null,{"$f":"IF(F524=\"\",\"\",'TIME TABLE'!$H$5)","v":"09:00 AM to 11:45 AM"}]
[null,null,{"$f":"IF('TIME TABLE'!$B$6=\"\",\"\",'TIME TABLE'!$B$6)","v":"2022-04-01"},null,{"$f":"IF(C525=\"\",\"\",IF(C525>0,CONCATENATE('TIME TABLE'!$C$6,'TIME TABLE'!$D$6,'TIME TABLE'!$E$6)))","v":"(Friday)"},{"$f":"IF(C525=\"\",\"\",'TIME TABLE'!$F$6)","v":"English"},null,{"$f":"IF(F525=\"\",\"\",'TIME TABLE'!$H$6)","v":"09:00 AM to 11:45 AM"}]
[null,null,{"$f":"IF('TIME TABLE'!$B$7=\"\",\"\",'TIME TABLE'!$B$7)","v":"2022-04-02"},null,{"$f":"IF(C526=\"\",\"\",IF(C526>0,CONCATENATE('TIME TABLE'!$C$7,'TIME TABLE'!$D$7,'TIME TABLE'!$E$7)))","v":"(Saturday)"},{"$f":"IF(C526=\"\",\"\",'TIME TABLE'!$F$7)","v":"Science"},null,{"$f":"IF(F526=\"\",\"\",'TIME TABLE'!$H$7)","v":"09:00 AM to 11:45 AM"}]
[null,null,{"$f":"IF('TIME TABLE'!$B$8=\"\",\"\",'TIME TABLE'!$B$8)","v":"2022-04-03"},null,{"$f":"IF(C527=\"\",\"\",IF(C527>0,CONCATENATE('TIME TABLE'!$C$8,'TIME TABLE'!$D$8,'TIME TABLE'!$E$8)))","v":"(Sunday)"},{"$f":"IF(C527=\"\",\"\",'TIME TABLE'!$F$8)","v":"Mathematics"},null,{"$f":"IF(F527=\"\",\"\",'TIME TABLE'!$H$8)","v":"09:00 AM to 11:45 AM"}]
[null,null,{"$f":"IF('TIME TABLE'!$B$9=\"\",\"\",'TIME TABLE'!$B$9)","v":"2022-04-04"},null,{"$f":"IF(C528=\"\",\"\",IF(C528>0,CONCATENATE('TIME TABLE'!$C$9,'TIME TABLE'!$D$9,'TIME TABLE'!$E$9)))","v":"(Monday)"},{"$f":"IF(C528=\"\",\"\",'TIME TABLE'!$F$9)","v":"Social Study"},null,{"$f":"IF(F528=\"\",\"\",'TIME TABLE'!$H$9)","v":"09:00 AM to 11:45 AM"}]
[null,null,{"$f":"IF('TIME TABLE'!$B$10=\"\",\"\",'TIME TABLE'!$B$10)","v":"2022-04-05"},null,{"$f":"IF(C529=\"\",\"\",IF(C529>0,CONCATENATE('TIME TABLE'!$C$10,'TIME TABLE'!$D$10,'TIME TABLE'!$E$10)))","v":"(Tuesday)"},{"$f":"IF(C529=\"\",\"\",'TIME TABLE'!$F$10)","v":"Sanskrit"},null,{"$f":"IF(F529=\"\",\"\",'TIME TABLE'!$H$10)","v":"09:00 AM to 11:45 AM"}]
[null,null,{"$f":"IF('TIME TABLE'!$B$11=\"\",\"\",'TIME TABLE'!$B$11)","v":""},null,{"$f":"IF(C530=\"\",\"\",IF(C530>0,CONCATENATE('TIME TABLE'!$C$11,'TIME TABLE'!$D$11,'TIME TABLE'!$E$11)))","v":""},{"$f":"IF(C530=\"\",\"\",'TIME TABLE'!$F$11)","v":""},null,{"$f":"IF(F530=\"\",\"\",'TIME TABLE'!$H$11)","v":""}]
[null,null,{"$f":"IF('TIME TABLE'!$B$12=\"\",\"\",'TIME TABLE'!$B$12)","v":""},null,{"$f":"IF(C531=\"\",\"\",IF(C531>0,CONCATENATE('TIME TABLE'!$C$12,'TIME TABLE'!$D$12,'TIME TABLE'!$E$12)))","v":""},{"$f":"IF(C531=\"\",\"\",'TIME TABLE'!$F$12)","v":""},null,{"$f":"IF(C531=\"\",\"\",'TIME TABLE'!$H$12)","v":""}]
[null,null,{"$f":"IF('TIME TABLE'!$B$13=\"\",\"\",'TIME TABLE'!$B$13)","v":""},null,{"$f":"IF(C532=\"\",\"\",IF(C532>0,CONCATENATE('TIME TABLE'!$C$11,'TIME TABLE'!$D$11,'TIME TABLE'!$E$11)))","v":""},{"$f":"IF(C532=\"\",\"\",'TIME TABLE'!$F$13)","v":""},null,{"$f":"IF(C532=\"\",\"\",'TIME TABLE'!$H$13)","v":""}]
[null,null,{"$f":"IF('TIME TABLE'!$B$14=\"\",\"\",'TIME TABLE'!$B$14)","v":""},null,{"$f":"IF(C533=\"\",\"\",IF(C533>0,CONCATENATE('TIME TABLE'!$C$11,'TIME TABLE'!$D$11,'TIME TABLE'!$E$11)))","v":""},{"$f":"IF(C533=\"\",\"\",'TIME TABLE'!$F$14)","v":""},null,{"$f":"IF(C533=\"\",\"\",'TIME TABLE'!$H$14)","v":""}]
[null,null,"Instructions"]
[null,null,1,"Check the exam time table carefully."]
[null,null,2,"Students must bring the 'Admit Card' and show it to the invigilator(s) on duty and should preserve it for future requirements."]
[null,null,3,"Mobile Phone, Calculator, Digital Watch or any Electronic Device is NOT ALLOWED."]
[null,null,4,"Arrive at the School at least 15 minutes before the start examination."]
[null,null,5,"Student is barred from entering the examination hall 15 minutes after the written examination starts."]
[null,null,6,"Ensure that you use the washroom before arriving for your exam as you will not be permitted to leave during the first hour."]
[null,null,7,"Normally, you are required to answer questionsusing blue or black in . Make sure you bring some spare pens with you."]
[null,null,8,"Keep your eyes on your own paper. Remember, copying is cheating!"]
[null,null,9,"You must remain silent until after you have exited the school building."]
[]
[{"$f":"A511+1","v":17}]
[null,{"$f":"logo","v":{"$error":"#NAME?"}},null,{"$f":"MASTER!$E$11","v":"Govt. Sr. Secondary School Raimalwada"}]
[{"$nulls":3},{"$f":"MASTER!$E$14","v":"P.S.-Bapini (Phalodi)"}]
[null,{"$f":"CONCATENATE(C549,'TIME TABLE'!$C$5,'ADMIT CARD'!$C550,$F550,'ADMIT CARD'!$G550,'TIME TABLE'!$E$5)","v":"ADMIT CARD(Roll Number●→0)"},{"$f":"CONCATENATE('TIME TABLE'!$B$2,'TIME TABLE'!$F$2)","v":"TEST-I: (2025-26)"},{"$nulls":5},"Paste latest \nphoto of student"]
[null,null,"ADMIT CARD",{"$nulls":6}," "]
[null,null,"Roll Number",null,null,"●→",{"$f":"VLOOKUP(A545,'STUDENT DETAIL'!$C$8:$I$107,3)","v":0}]
[null,null,"Student's Name",null,null,"●→",{"$f":"IF(OR(G550=0,G550=\"\"),\"\",VLOOKUP(A545,'STUDENT DETAIL'!$C$8:$I$107,4))","v":""}]
[null,null,"Father's Name",null,null,"●→",{"$f":"IF(OR(G550=0,G550=\"\"),\"\",VLOOKUP(A545,'STUDENT DETAIL'!$C$8:$I$107,5))","v":""},null,"Seal and Signature of Head of Institution"]
[null,null,"Mother's Name ",null,null,"●→",{"$f":"IF(OR(G550=0,G550=\"\"),\"\",VLOOKUP(A545,'STUDENT DETAIL'!$C$8:$I$107,6))","v":""}]
[null,null,"Class & Section",null,null,"●→",{"$f":"IF(OR(G550=0,G550=\"\"),\"\",IF('STUDENT DETAIL'!$H$4=\"\",'STUDENT DETAIL'!$E$4,CONCATENATE('STUDENT DETAIL'!$E$4,\"   \",\"(\",'STUDENT DETAIL'!$H$4,\")\")))","v":""}]
[null,null,"Date Of Birth",null,null,"●→",{"$f":"IF(OR(G550=0,G550=\"\"),\"\",VLOOKUP(A545,'STUDENT DETAIL'!$C$8:$I$107,7))","v":""}]
[null,null,"Time Table"]
[null,null,"Date (Day)",null,null,"Subject",null,"Time"]
[null,null,{"$f":"IF('TIME TABLE'!$B$5=\"\",\"\",'TIME TABLE'!$B$5)","v":"2022-03-31"},null,{"$f":"IF(C558=\"\",\"\",IF(C558>0,CONCATENATE('TIME TABLE'!$C$5,'TIME TABLE'!$D$5,'TIME TABLE'!$E$5)))","v":"(Thursday)"},{"$f":"IF(C558=\"\",\"\",'TIME TABLE'!$F$5)","v":"Hindi"},null,{"$f":"IF(F558=\"\",\"\",'TIME TABLE'!$H$5)","v":"09:00 AM to 11:45 AM"}]
[null,null,{"$f":"IF('TIME TABLE'!$B$6=\"\",\"\",'TIME TABLE'!$B$6)","v":"2022-04-01"},null,{"$f":"IF(C559=\"\",\"\",IF(C559>0,CONCATENATE('TIME TABLE'!$C$6,'TIME TABLE'!$D$6,'TIME TABLE'!$E$6)))","v":"(Friday)"},{"$f":"IF(C559=\"\",\"\",'TIME TABLE'!$F$6)","v":"English"},null,{"$f":"IF(F559=\"\",\"\",'TIME TABLE'!$H$6)","v":"09:00 AM to 11:45 AM"}]
[null,null,{"$f":"IF('TIME TABLE'!$B$7=\"\",\"\",'TIME TABLE'!$B$7)","v":"2022-04-02"},null,{"$f":"IF(C560=\"\",\"\",IF(C560>0,CONCATENATE('TIME TABLE'!$C$7,'TIME TABLE'!$D$7,'TIME TABLE'!$E$7)))","v":"(Saturday)"},{"$f":"IF(C560=\"\",\"\",'TIME TABLE'!$F$7)","v":"Science"},null,{"$f":"IF(F560=\"\",\"\",'TIME TABLE'!$H$7)","v":"09:00 AM to 11:45 AM"}]
[null,null,{"$f":"IF('TIME TABLE'!$B$8=\"\",\"\",'TIME TABLE'!$B$8)","v":"2022-04-03"},null,{"$f":"IF(C561=\"\",\"\",IF(C561>0,CONCATENATE('TIME TABLE'!$C$8,'TIME TABLE'!$D$8,'TIME TABLE'!$E$8)))","v":"(Sunday)"},{"$f":"IF(C561=\"\",\"\",'TIME TABLE'!$F$8)","v":"Mathematics"},null,{"$f":"IF(F561=\"\",\"\",'TIME TABLE'!$H$8)","v":"09:00 AM to 11:45 AM"}]
[null,null,{"$f":"IF('TIME TABLE'!$B$9=\"\",\"\",'TIME TABLE'!$B$9)","v":"2022-04-04"},null,{"$f":"IF(C562=\"\",\"\",IF(C562>0,CONCATENATE('TIME TABLE'!$C$9,'TIME TABLE'!$D$9,'TIME TABLE'!$E$9)))","v":"(Monday)"},{"$f":"IF(C562=\"\",\"\",'TIME TABLE'!$F$9)","v":"Social Study"},null,{"$f":"IF(F562=\"\",\"\",'TIME TABLE'!$H$9)","v":"09:00 AM to 11:45 AM"}]
[null,null,{"$f":"IF('TIME TABLE'!$B$10=\"\",\"\",'TIME TABLE'!$B$10)","v":"2022-04-05"},null,{"$f":"IF(C563=\"\",\"\",IF(C563>0,CONCATENATE('TIME TABLE'!$C$10,'TIME TABLE'!$D$10,'TIME TABLE'!$E$10)))","v":"(Tuesday)"},{"$f":"IF(C563=\"\",\"\",'TIME TABLE'!$F$10)","v":"Sanskrit"},null,{"$f":"IF(F563=\"\",\"\",'TIME TABLE'!$H$10)","v":"09:00 AM to 11:45 AM"}]
[null,null,{"$f":"IF('TIME TABLE'!$B$11=\"\",\"\",'TIME TABLE'!$B$11)","v":""},null,{"$f":"IF(C564=\"\",\"\",IF(C564>0,CONCATENATE('TIME TABLE'!$C$11,'TIME TABLE'!$D$11,'TIME TABLE'!$E$11)))","v":""},{"$f":"IF(C564=\"\",\"\",'TIME TABLE'!$F$11)","v":""},null,{"$f":"IF(F564=\"\",\"\",'TIME TABLE'!$H$11)","v":""}]
[null,null,{"$f":"IF('TIME TABLE'!$B$12=\"\",\"\",'TIME TABLE'!$B$12)","v":""},null,{"$f":"IF(C565=\"\",\"\",IF(C565>0,CONCATENATE('TIME TABLE'!$C$12,'TIME TABLE'!$D$12,'TIME TABLE'!$E$12)))","v":""},{"$f":"IF(C565=\"\",\"\",'TIME TABLE'!$F$12)","v":""},null,{"$f":"IF(C565=\"\",\"\",'TIME TABLE'!$H$12)","v":""}]
[null,null,{"$f":"IF('TIME TABLE'!$B$13=\"\",\"\",'TIME TABLE'!$B$13)","v":""},null,{"$f":"IF(C566=\"\",\"\",IF(C566>0,CONCATENATE('TIME TABLE'!$C$11,'TIME TABLE'!$D$11,'TIME TABLE'!$E$11)))","v":""},{"$f":"IF(C566=\"\",\"\",'TIME TABLE'!$F$13)","v":""},null,{"$f":"IF(C566=\"\",\"\",'TIME TABLE'!$H$13)","v":""}]
[null,null,{"$f":"IF('TIME TABLE'!$B$14=\"\",\"\",'TIME TABLE'!$B$14)","v":""},null,{"$f":"IF(C567=\"\",\"\",IF(C567>0,CONCATENATE('TIME TABLE'!$C$11,'TIME TABLE'!$D$11,'TIME TABLE'!$E$11)))","v":""},{"$f":"IF(C567=\"\",\"\",'TIME TABLE'!$F$14)","v":""},null,{"$f":"IF(C567=\"\",\"\",'TIME TABLE'!$H$14)","v":""}]
[null,null,"Instructions"]
[null,null,1,"Check the exam time table carefully."]
[null,null,2,"Students must bring the 'Admit Card' and show it to the invigilator(s) on duty and should preserve it for future requirements."]
[null,null,3,"Mobile Phone, Calculator, Digital Watch or any Electronic Device is NOT ALLOWED."]
[null,null,4,"Arrive at the School at least 15 minutes before the start examination."]
[null,null,5,"Student is barred from entering the examination hall 15 minutes after the written examination starts."]
[null,null,6,"Ensure that you use the washroom before arriving for your exam as you will not be permitted to leave during the first hour."]
[null,null,7,"Normally, you are required to answer questionsusing blue or black in . Make sure you bring some spare pens with you."]
[null,null,8,"Keep your eyes on your own paper. Remember, copying is cheating!"]
[null,null,9,"You must remain silent until after you have exited the school building."]
[]
[{"$f":"A545+1","v":18}]
[null,{"$f":"logo","v":{"$error":"#NAME?"}},null,{"$f":"MASTER!$E$11","v":"Govt. Sr. Secondary School Raimalwada"}]
[{"$nulls":3},{"$f":"MASTER!$E$14","v":"P.S.-Bapini (Phalodi)"}]
[null,{"$f":"CONCATENATE(C583,'TIME TABLE'!$C$5,'ADMIT CARD'!$C584,$F584,'ADMIT CARD'!$G584,'TIME TABLE'!$E$5)","v":"ADMIT CARD(Roll Number●→0)"},{"$f":"CONCATENATE('TIME TABLE'!$B$2,'TIME TABLE'!$F$2)","v":"TEST-I: (2025-26)"},{"$nulls":5},"Paste latest \nphoto of student"]
[null,null,"ADMIT CARD",{"$nulls":6}," "]
[null,null,"Roll Number",null,null,"●→",{"$f":"VLOOKUP(A579,'STUDENT DETAIL'!$C$8:$I$107,3)","v":0}]
[null,null,"Student's Name",null,null,"●→",{"$f":"IF(OR(G584=0,G584=\"\"),\"\",VLOOKUP(A579,'STUDENT DETAIL'!$C$8:$I$107,4))","v":""}]
[null,null,"Father's Name",null,null,"●→",{"$f":"IF(OR(G584=0,G584=\"\"),\"\",VLOOKUP(A579,'STUDENT DETAIL'!$C$8:$I$107,5))","v":""},null,"Seal and Signature of Head of Institution"]
[null,null,"Mother's Name ",null,null,"●→",{"$f":"IF(OR(G584=0,G584=\"\"),\"\",VLOOKUP(A579,'STUDENT DETAIL'!$C$8:$I$107,6))","v":""}]
[null,null,"Class & Section",null,null,"●→",{"$f":"IF(OR(G584=0,G584=\"\"),\"\",IF('STUDENT DETAIL'!$H$4=\"\",'STUDENT DETAIL'!$E$4,CONCATENATE('STUDENT DETAIL'!$E$4,\"   \",\"(\",'STUDENT DETAIL'!$H$4,\")\")))","v":""}]
[null,null,"Date Of Birth",null,null,"●→",{"$f":"IF(OR(G584=0,G584=\"\"),\"\",VLOOKUP(A579,'STUDENT DETAIL'!$C$8:$I$107,7))","v":""}]
[null,null,"Time Table"]
[null,null,"Date (Day)",null,null,"Subject",null,"Time"]
[null,null,{"$f":"IF('TIME TABLE'!$B$5=\"\",\"\",'TIME TABLE'!$B$5)","v":"2022-03-31"},null,{"$f":"IF(C592=\"\",\"\",IF(C592>0,CONCATENATE('TIME TABLE'!$C$5,'TIME TABLE'!$D$5,'TIME TABLE'!$E$5)))","v":"(Thursday)"},{"$f":"IF(C592=\"\",\"\",'TIME TABLE'!$F$5)","v":"Hindi"},null,{"$f":"IF(F592=\"\",\"\",'TIME TABLE'!$H$5)","v":"09:00 AM to 11:45 AM"}]
[null,null,{"$f":"IF('TIME TABLE'!$B$6=\"\",\"\",'TIME TABLE'!$B$6)","v":"2022-04-01"},null,{"$f":"IF(C593=\"\",\"\",IF(C593>0,CONCATENATE('TIME TABLE'!$C$6,'TIME TABLE'!$D$6,'TIME TABLE'!$E$6)))","v":"(Friday)"},{"$f":"IF(C593=\"\",\"\",'TIME TABLE'!$F$6)","v":"English"},null,{"$f":"IF(F593=\"\",\"\",'TIME TABLE'!$H$6)","v":"09:00 AM to 11:45 AM"}]
[null,null,{"$f":"IF('TIME TABLE'!$B$7=\"\",\"\",'TIME TABLE'!$B$7)","v":"2022-04-02"},null,{"$f":"IF(C594=\"\",\"\",IF(C594>0,CONCATENATE('TIME TABLE'!$C$7,'TIME TABLE'!$D$7,'TIME TABLE'!$E$7)))","v":"(Saturday)"},{"$f":"IF(C594=\"\",\"\",'TIME TABLE'!$F$7)","v":"Science"},null,{"$f":"IF(F594=\"\",\"\",'TIME TABLE'!$H$7)","v":"09:00 AM to 11:45 AM"}]
[null,null,{"$f":"IF('TIME TABLE'!$B$8=\"\",\"\",'TIME TABLE'!$B$8)","v":"2022-04-03"},null,{"$f":"IF(C595=\"\",\"\",IF(C595>0,CONCATENATE('TIME TABLE'!$C$8,'TIME TABLE'!$D$8,'TIME TABLE'!$E$8)))","v":"(Sunday)"},{"$f":"IF(C595=\"\",\"\",'TIME TABLE'!$F$8)","v":"Mathematics"},null,{"$f":"IF(F595=\"\",\"\",'TIME TABLE'!$H$8)","v":"09:00 AM to 11:45 AM"}]
[null,null,{"$f":"IF('TIME TABLE'!$B$9=\"\",\"\",'TIME TABLE'!$B$9)","v":"2022-04-04"},null,{"$f":"IF(C596=\"\",\"\",IF(C596>0,CONCATENATE('TIME TABLE'!$C$9,'TIME TABLE'!$D$9,'TIME TABLE'!$E$9)))","v":"(Monday)"},{"$f":"IF(C596=\"\",\"\",'TIME TABLE'!$F$9)","v":"Social Study"},null,{"$f":"IF(F596=\"\",\"\",'TIME TABLE'!$H$9)","v":"09:00 AM to 11:45 AM"}]
[null,null,{"$f":"IF('TIME TABLE'!$B$10=\"\",\"\",'TIME TABLE'!$B$10)","v":"2022-04-05"},null,{"$f":"IF(C597=\"\",\"\",IF(C597>0,CONCATENATE('TIME TABLE'!$C$10,'TIME TABLE'!$D$10,'TIME TABLE'!$E$10)))","v":"(Tuesday)"},{"$f":"IF(C597=\"\",\"\",'TIME TABLE'!$F$10)","v":"Sanskrit"},null,{"$f":"IF(F597=\"\",\"\",'TIME TABLE'!$H$10)","v":"09:00 AM to 11:45 AM"}]
[null,null,{"$f":"IF('TIME TABLE'!$B$11=\"\",\"\",'TIME TABLE'!$B$11)","v":""},null,{"$f":"IF(C598=\"\",\"\",IF(C598>0,CONCATENATE('TIME TABLE'!$C$11,'TIME TABLE'!$D$11,'TIME TABLE'!$E$11)))","v":""},{"$f":"IF(C598=\"\",\"\",'TIME TABLE'!$F$11)","v":""},null,{"$f":"IF(F598=\"\",\"\",'TIME TABLE'!$H$11)","v":""}]
[null,null,{"$f":"IF('TIME TABLE'!$B$12=\"\",\"\",'TIME TABLE'!$B$12)","v":""},null,{"$f":"IF(C599=\"\",\"\",IF(C599>0,CONCATENATE('TIME TABLE'!$C$12,'TIME TABLE'!$D$12,'TIME TABLE'!$E$12)))","v":""},{"$f":"IF(C599=\"\",\"\",'TIME TABLE'!$F$12)","v":""},null,{"$f":"IF(C599=\"\",\"\",'TIME TABLE'!$H$12)","v":""}]
[null,null,{"$f":"IF('TIME TABLE'!$B$13=\"\",\"\",'TIME TABLE'!$B$13)","v":""},null,{"$f":"IF(C600=\"\",\"\",IF(C600>0,CONCATENATE('TIME TABLE'!$C$11,'TIME TABLE'!$D$11,'TIME TABLE'!$E$11)))","v":""},{"$f":"IF(C600=\"\",\"\",'TIME TABLE'!$F$13)","v":""},null,{"$f":"IF(C600=\"\",\"\",'TIME TABLE'!$H$13)","v":""}]
[null,null,{"$f":"IF('TIME TABLE'!$B$14=\"\",\"\",'TIME TABLE'!$B$14)","v":""},null,{"$f":"IF(C601=\"\",\"\",IF(C601>0,CONCATENATE('TIME TABLE'!$C$11,'TIME TABLE'!$D$11,'TIME TABLE'!$E$11)))","v":""},{"$f":"IF(C601=\"\",\"\",'TIME TABLE'!$F$14)","v":""},null,{"$f":"IF(C601=\"\",\"\",'TIME TABLE'!$H$14)","v":""}]
[null,null,"Instructions"]
[null,null,1,"Check the exam time table carefully."]
[null,null,2,"Students must bring the 'Admit Card' and show it to the invigilator(s) on duty and should preserve it for future requirements."]
[null,null,3,"Mobile Phone, Calculator, Digital Watch or any Electronic Device is NOT ALLOWED."]
[null,null,4,"Arrive at the School at least 15 minutes before the start examination."]
[null,null,5,"Student is barred from entering the examination hall 15 minutes after the written examination starts."]
[null,null,6,"Ensure that you use the washroom before arriving for your exam as you will not be permitted to leave during the first hour."]
[null,null,7,"Normally, you are required to answer questionsusing blue or black in . Make sure you bring some spare pens with you."]
[null,null,8,"Keep your eyes on your own paper. Remember, copying is cheating!"]
[null,null,9,"You must remain silent until after you have exited the school building."]
[]
[{"$f":"A579+1","v":19}]
[null,{"$f":"logo","v":{"$error":"#NAME?"}},null,{"$f":"MASTER!$E$11","v":"Govt. Sr. Secondary School Raimalwada"}]
[{"$nulls":3},{"$f":"MASTER!$E$14","v":"P.S.-Bapini (Phalodi)"}]
[null,{"$f":"CONCATENATE(C617,'TIME TABLE'!$C$5,'ADMIT CARD'!$C618,$F618,'ADMIT CARD'!$G618,'TIME TABLE'!$E$5)","v":"ADMIT CARD(Roll Number●→0)"},{"$f":"CONCATENATE('TIME TABLE'!$B$2,'TIME TABLE'!$F$2)","v":"TEST-I: (2025-26)"},{"$nulls":5},"Paste latest \nphoto of student"]
[null,null,"ADMIT CARD",{"$nulls":6}," "]
[null,null,"Roll Number",null,null,"●→",{"$f":"VLOOKUP(A613,'STUDENT DETAIL'!$C$8:$I$107,3)","v":0}]
[null,null,"Student's Name",null,null,"●→",{"$f":"IF(OR(G618=0,G618=\"\"),\"\",VLOOKUP(A613,'STUDENT DETAIL'!$C$8:$I$107,4))","v":""}]
[null,null,"Father's Name",null,null,"●→",{"$f":"IF(OR(G618=0,G618=\"\"),\"\",VLOOKUP(A613,'STUDENT DETAIL'!$C$8:$I$107,5))","v":""},null,"Seal and Signature of Head of Institution"]
[null,null,"Mother's Name ",null,null,"●→",{"$f":"IF(OR(G618=0,G618=\"\"),\"\",VLOOKUP(A613,'STUDENT DETAIL'!$C$8:$I$107,6))","v":""}]
[null,null,"Class & Section",null,null,"●→",{"$f":"IF(OR(G618=0,G618=\"\"),\"\",IF('STUDENT DETAIL'!$H$4=\"\",'STUDENT DETAIL'!$E$4,CONCATENATE('STUDENT DETAIL'!$E$4,\"   \",\"(\",'STUDENT DETAIL'!$H$4,\")\")))","v":""}]
[null,null,"Date Of Birth",null,null,"●→",{"$f":"IF(OR(G618=0,G618=\"\"),\"\",VLOOKUP(A613,'STUDENT DETAIL'!$C$8:$I$107,7))","v":""}]
[null,null,"Time Table"]
[null,null,"Date (Day)",null,null,"Subject",null,"Time"]
[null,null,{"$f":"IF('TIME TABLE'!$B$5=\"\",\"\",'TIME TABLE'!$B$5)","v":"2022-03-31"},null,{"$f":"IF(C626=\"\",\"\",IF(C626>0,CONCATENATE('TIME TABLE'!$C$5,'TIME TABLE'!$D$5,'TIME TABLE'!$E$5)))","v":"(Thursday)"},{"$f":"IF(C626=\"\",\"\",'TIME TABLE'!$F$5)","v":"Hindi"},null,{"$f":"IF(F626=\"\",\"\",'TIME TABLE'!$H$5)","v":"09:00 AM to 11:45 AM"}]
[null,null,{"$f":"IF('TIME TABLE'!$B$6=\"\",\"\",'TIME TABLE'!$B$6)","v":"2022-04-01"},null,{"$f":"IF(C627=\"\",\"\",IF(C627>0,CONCATENATE('TIME TABLE'!$C$6,'TIME TABLE'!$D$6,'TIME TABLE'!$E$6)))","v":"(Friday)"},{"$f":"IF(C627=\"\",\"\",'TIME TABLE'!$F$6)","v":"English"},null,{"$f":"IF(F627=\"\",\"\",'TIME TABLE'!$H$6)","v":"09:00 AM to 11:45 AM"}]
[null,null,{"$f":"IF('TIME TABLE'!$B$7=\"\",\"\",'TIME TABLE'!$B$7)","v":"2022-04-02"},null,{"$f":"IF(C628=\"\",\"\",IF(C628>0,CONCATENATE('TIME TABLE'!$C$7,'TIME TABLE'!$D$7,'TIME TABLE'!$E$7)))","v":"(Saturday)"},{"$f":"IF(C628=\"\",\"\",'TIME TABLE'!$F$7)","v":"Science"},null,{"$f":"IF(F628=\"\",\"\",'TIME TABLE'!$H$7)","v":"09:00 AM to 11:45 AM"}]
[null,null,{"$f":"IF('TIME TABLE'!$B$8=\"\",\"\",'TIME TABLE'!$B$8)","v":"2022-04-03"},null,{"$f":"IF(C629=\"\",\"\",IF(C629>0,CONCATENATE('TIME TABLE'!$C$8,'TIME TABLE'!$D$8,'TIME TABLE'!$E$8)))","v":"(Sunday)"},{"$f":"IF(C629=\"\",\"\",'TIME TABLE'!$F$8)","v":"Mathematics"},null,{"$f":"IF(F629=\"\",\"\",'TIME TABLE'!$H$8)","v":"09:00 AM to 11:45 AM"}]
[null,null,{"$f":"IF('TIME TABLE'!$B$9=\"\",\"\",'TIME TABLE'!$B$9)","v":"2022-04-04"},null,{"$f":"IF(C630=\"\",\"\",IF(C630>0,CONCATENATE('TIME TABLE'!$C$9,'TIME TABLE'!$D$9,'TIME TABLE'!$E$9)))","v":"(Monday)"},{"$f":"IF(C630=\"\",\"\",'TIME TABLE'!$F$9)","v":"Social Study"},null,{"$f":"IF(F630=\"\",\"\",'TIME TABLE'!$H$9)","v":"09:00 AM to 11:45 AM"}]
[null,null,{"$f":"IF('TIME TABLE'!$B$10=\"\",\"\",'TIME TABLE'!$B$10)","v":"2022-04-05"},null,{"$f":"IF(C631=\"\",\"\",IF(C631>0,CONCATENATE('TIME TABLE'!$C$10,'TIME TABLE'!$D$10,'TIME TABLE'!$E$10)))","v":"(Tuesday)"},{"$f":"IF(C631=\"\",\"\",'TIME TABLE'!$F$10)","v":"Sanskrit"},null,{"$f":"IF(F631=\"\",\"\",'TIME TABLE'!$H$10)","v":"09:00 AM to 11:45 AM"}]
[null,null,{"$f":"IF('TIME TABLE'!$B$11=\"\",\"\",'TIME TABLE'!$B$11)","v":""},null,{"$f":"IF(C632=0,\"\",IF(C632>0,CONCATENATE('TIME TABLE'!$C$11,'TIME TABLE'!$D$11,'TIME TABLE'!$E$11)))","v":"(0)"},{"$f":"IF(C632=\"\",\"\",'TIME TABLE'!$F$11)","v":""},null,{"$f":"IF(F632=\"\",\"\",'TIME TABLE'!$H$11)","v":""}]
[null,null,{"$f":"IF('TIME TABLE'!$B$12=\"\",\"\",'TIME TABLE'!$B$12)","v":""},null,{"$f":"IF(C633=\"\",\"\",IF(C633>0,CONCATENATE('TIME TABLE'!$C$12,'TIME TABLE'!$D$12,'TIME TABLE'!$E$12)))","v":""},{"$f":"IF(C633=\"\",\"\",'TIME TABLE'!$F$12)","v":""},null,{"$f":"IF(C633=\"\",\"\",'TIME TABLE'!$H$12)","v":""}]
[null,null,{"$f":"IF('TIME TABLE'!$B$13=\"\",\"\",'TIME TABLE'!$B$13)","v":""},null,{"$f":"IF(C634=\"\",\"\",IF(C634>0,CONCATENATE('TIME TABLE'!$C$11,'TIME TABLE'!$D$11,'TIME TABLE'!$E$11)))","v":""},{"$f":"IF(C634=\"\",\"\",'TIME TABLE'!$F$13)","v":""},null,{"$f":"IF(C634=\"\",\"\",'TIME TABLE'!$H$13)","v":""}]
[null,null,{"$f":"IF('TIME TABLE'!$B$14=\"\",\"\",'TIME TABLE'!$B$14)","v":""},null,{"$f":"IF(C635=\"\",\"\",IF(C635>0,CONCATENATE('TIME TABLE'!$C$11,'TIME TABLE'!$D$11,'TIME TABLE'!$E$11)))","v":""},{"$f":"IF(C635=\"\",\"\",'TIME TABLE'!$F$14)","v":""},null,{"$f":"IF(C635=\"\",\"\",'TIME TABLE'!$H$14)","v":""}]
[null,null,"Instructions"]
[null,null,1,"Check the exam time table carefully."]
[null,null,2,"Students must bring the 'Admit Card' and show it to the invigilator(s) on duty and should preserve it for future requirements."]
[null,null,3,"Mobile Phone, Calculator, Digital Watch or any Electronic Device is NOT ALLOWED."]
[null,null,4,"Arrive at the School at least 15 minutes before the start examination."]
[null,null,5,"Student is barred from entering the examination hall 15 minutes after the written examination starts."]
[null,null,6,"Ensure that you use the washroom before arriving for your exam as you will not be permitted to leave during the first hour."]
[null,null,7,"Normally, you are required to answer questionsusing blue or black in . Make sure you bring some spare pens with you."]
[null,null,8,"Keep your eyes on your own paper. Remember, copying is cheating!"]
[null,null,9,"You must remain silent until after you have exited the school building."]
[]
[{"$f":"A613+1","v":20}]
[null,{"$f":"logo","v":{"$error":"#NAME?"}},null,{"$f":"MASTER!$E$11","v":"Govt. Sr. Secondary School Raimalwada"}]
[{"$nulls":3},{"$f":"MASTER!$E$14","v":"P.S.-Bapini (Phalodi)"}]
[null,{"$f":"CONCATENATE(C651,'TIME TABLE'!$C$5,'ADMIT CARD'!$C652,$F652,'ADMIT CARD'!$G652,'TIME TABLE'!$E$5)","v":"ADMIT CARD(Roll Number●→0)"},{"$f":"CONCATENATE('TIME TABLE'!$B$2,'TIME TABLE'!$F$2)","v":"TEST-I: (2025-26)"},{"$nulls":5},"Paste latest \nphoto of student"]
[null,null,"ADMIT CARD",{"$nulls":6}," "]
[null,null,"Roll Number",null,null,"●→",{"$f":"VLOOKUP(A647,'STUDENT DETAIL'!$C$8:$I$107,3)","v":0}]
[null,null,"Student's Name",null,null,"●→",{"$f":"IF(OR(G652=0,G652=\"\"),\"\",VLOOKUP(A647,'STUDENT DETAIL'!$C$8:$I$107,4))","v":""}]
[null,null,"Father's Name",null,null,"●→",{"$f":"IF(OR(G652=0,G652=\"\"),\"\",VLOOKUP(A647,'STUDENT DETAIL'!$C$8:$I$107,5))","v":""},null,"Seal and Signature of Head of Institution"]
[null,null,"Mother's Name ",null,null,"●→",{"$f":"IF(OR(G652=0,G652=\"\"),\"\",VLOOKUP(A647,'STUDENT DETAIL'!$C$8:$I$107,6))","v":""}]
[null,null,"Class & Section",null,null,"●→",{"$f":"IF(OR(G652=0,G652=\"\"),\"\",IF('STUDENT DETAIL'!$H$4=\"\",'STUDENT DETAIL'!$E$4,CONCATENATE('STUDENT DETAIL'!$E$4,\"   \",\"(\",'STUDENT DETAIL'!$H$4,\")\")))","v":""}]
[null,null,"Date Of Birth",null,null,"●→",{"$f":"IF(OR(G652=0,G652=\"\"),\"\",VLOOKUP(A647,'STUDENT DETAIL'!$C$8:$I$107,7))","v":""}]
[null,null,"Time Table"]
[null,null,"Date (Day)",null,null,"Subject",null,"Time"]
[null,null,{"$f":"IF('TIME TABLE'!$B$5=\"\",\"\",'TIME TABLE'!$B$5)","v":"2022-03-31"},null,{"$f":"IF(C660=\"\",\"\",IF(C660>0,CONCATENATE('TIME TABLE'!$C$5,'TIME TABLE'!$D$5,'TIME TABLE'!$E$5)))","v":"(Thursday)"},{"$f":"IF(C660=\"\",\"\",'TIME TABLE'!$F$5)","v":"Hindi"},null,{"$f":"IF(F660=\"\",\"\",'TIME TABLE'!$H$5)","v":"09:00 AM to 11:45 AM"}]
[null,null,{"$f":"IF('TIME TABLE'!$B$6=\"\",\"\",'TIME TABLE'!$B$6)","v":"2022-04-01"},null,{"$f":"IF(C661=\"\",\"\",IF(C661>0,CONCATENATE('TIME TABLE'!$C$6,'TIME TABLE'!$D$6,'TIME TABLE'!$E$6)))","v":"(Friday)"},{"$f":"IF(C661=\"\",\"\",'TIME TABLE'!$F$6)","v":"English"},null,{"$f":"IF(F661=\"\",\"\",'TIME TABLE'!$H$6)","v":"09:00 AM to 11:45 AM"}]
[null,null,{"$f":"IF('TIME TABLE'!$B$7=\"\",\"\",'TIME TABLE'!$B$7)","v":"2022-04-02"},null,{"$f":"IF(C662=\"\",\"\",IF(C662>0,CONCATENATE('TIME TABLE'!$C$7,'TIME TABLE'!$D$7,'TIME TABLE'!$E$7)))","v":"(Saturday)"},{"$f":"IF(C662=\"\",\"\",'TIME TABLE'!$F$7)","v":"Science"},null,{"$f":"IF(F662=\"\",\"\",'TIME TABLE'!$H$7)","v":"09:00 AM to 11:45 AM"}]
[null,null,{"$f":"IF('TIME TABLE'!$B$8=\"\",\"\",'TIME TABLE'!$B$8)","v":"2022-04-03"},null,{"$f":"IF(C663=\"\",\"\",IF(C663>0,CONCATENATE('TIME TABLE'!$C$8,'TIME TABLE'!$D$8,'TIME TABLE'!$E$8)))","v":"(Sunday)"},{"$f":"IF(C663=\"\",\"\",'TIME TABLE'!$F$8)","v":"Mathematics"},null,{"$f":"IF(F663=\"\",\"\",'TIME TABLE'!$H$8)","v":"09:00 AM to 11:45 AM"}]
[null,null,{"$f":"IF('TIME TABLE'!$B$9=\"\",\"\",'TIME TABLE'!$B$9)","v":"2022-04-04"},null,{"$f":"IF(C664=\"\",\"\",IF(C664>0,CONCATENATE('TIME TABLE'!$C$9,'TIME TABLE'!$D$9,'TIME TABLE'!$E$9)))","v":"(Monday)"},{"$f":"IF(C664=\"\",\"\",'TIME TABLE'!$F$9)","v":"Social Study"},null,{"$f":"IF(F664=\"\",\"\",'TIME TABLE'!$H$9)","v":"09:00 AM to 11:45 AM"}]
[null,null,{"$f":"IF('TIME TABLE'!$B$10=\"\",\"\",'TIME TABLE'!$B$10)","v":"2022-04-05"},null,{"$f":"IF(C665=\"\",\"\",IF(C665>0,CONCATENATE('TIME TABLE'!$C$10,'TIME TABLE'!$D$10,'TIME TABLE'!$E$10)))","v":"(Tuesday)"},{"$f":"IF(C665=\"\",\"\",'TIME TABLE'!$F$10)","v":"Sanskrit"},null,{"$f":"IF(F665=\"\",\"\",'TIME TABLE'!$H$10)","v":"09:00 AM to 11:45 AM"}]
[null,null,{"$f":"IF('TIME TABLE'!$B$11=\"\",\"\",'TIME TABLE'!$B$11)","v":""},null,{"$f":"IF(C666=\"\",\"\",IF(C666>0,CONCATENATE('TIME TABLE'!$C$11,'TIME TABLE'!$D$11,'TIME TABLE'!$E$11)))","v":""},{"$f":"IF(C666=\"\",\"\",'TIME TABLE'!$F$11)","v":""},null,{"$f":"IF(F666=\"\",\"\",'TIME TABLE'!$H$11)","v":""}]
[null,null,{"$f":"IF('TIME TABLE'!$B$12=\"\",\"\",'TIME TABLE'!$B$12)","v":""},null,{"$f":"IF(C667=\"\",\"\",IF(C667>0,CONCATENATE('TIME TABLE'!$C$12,'TIME TABLE'!$D$12,'TIME TABLE'!$E$12)))","v":""},{"$f":"IF(C667=\"\",\"\",'TIME TABLE'!$F$12)","v":""},null,{"$f":"IF(C667=\"\",\"\",'TIME TABLE'!$H$12)","v":""}]
[null,null,{"$f":"IF('TIME TABLE'!$B$13=\"\",\"\",'TIME TABLE'!$B$13)","v":""},null,{"$f":"IF(C668=\"\",\"\",IF(C668>0,CONCATENATE('TIME TABLE'!$C$11,'TIME TABLE'!$D$11,'TIME TABLE'!$E$11)))","v":""},{"$f":"IF(C668=\"\",\"\",'TIME TABLE'!$F$13)","v":""},null,{"$f":"IF(C668=\"\",\"\",'TIME TABLE'!$H$13)","v":""}]
[null,null,{"$f":"IF('TIME TABLE'!$B$14=\"\",\"\",'TIME TABLE'!$B$14)","v":""},null,{"$f":"IF(C669=\"\",\"\",IF(C669>0,CONCATENATE('TIME TABLE'!$C$11,'TIME TABLE'!$D$11,'TIME TABLE'!$E$11)))","v":""},{"$f":"IF(C669=\"\",\"\",'TIME TABLE'!$F$14)","v":""},null,{"$f":"IF(C669=\"\",\"\",'TIME TABLE'!$H$14)","v":""}]
[null,null,"Instructions"]
[null,null,1,"Check the exam time table carefully."]
[null,null,2,"Students must bring the 'Admit Card' and show it to the invigilator(s) on duty and should preserve it for future requirements."]
[null,null,3,"Mobile Phone, Calculator, Digital Watch or any Electronic Device is NOT ALLOWED."]
[null,null,4,"Arrive at the School at least 15 minutes before the start examination."]
[null,null,5,"Student is barred from entering the examination hall 15 minutes after the written examination starts."]
[null,null,6,"Ensure that you use the washroom before arriving for your exam as you will not be permitted to leave during the first hour."]
[null,null,7,"Normally, you are required to answer questionsusing blue or black in . Make sure you bring some spare pens with you."]
[null,null,8,"Keep your eyes on your own paper. Remember, copying is cheating!"]
[null,null,9,"You must remain silent until after you have exited the school building."]
[]
[{"$f":"A647+1","v":21}]
[null,{"$f":"logo","v":{"$error":"#NAME?"}},null,{"$f":"MASTER!$E$11","v":"Govt. Sr. Secondary School Raimalwada"}]
[{"$nulls":3},{"$f":"MASTER!$E$14","v":"P.S.-Bapini (Phalodi)"}]
[null,{"$f":"CONCATENATE(C685,'TIME TABLE'!$C$5,'ADMIT CARD'!$C686,$F686,'ADMIT CARD'!$G686,'TIME TABLE'!$E$5)","v":"ADMIT CARD(Roll Number●→0)"},{"$f":"CONCATENATE('TIME TABLE'!$B$2,'TIME TABLE'!$F$2)","v":"TEST-I: (2025-26)"},{"$nulls":5},"Paste latest \nphoto of student"]
[null,null,"ADMIT CARD",{"$nulls":6}," "]
[null,null,"Roll Number",null,null,"●→",{"$f":"VLOOKUP(A681,'STUDENT DETAIL'!$C$8:$I$107,3)","v":0}]
[null,null,"Student's Name",null,null,"●→",{"$f":"IF(OR(G686=0,G686=\"\"),\"\",VLOOKUP(A681,'STUDENT DETAIL'!$C$8:$I$107,4))","v":""}]
[null,null,"Father's Name",null,null,"●→",{"$f":"IF(OR(G686=0,G686=\"\"),\"\",VLOOKUP(A681,'STUDENT DETAIL'!$C$8:$I$107,5))","v":""},null,"Seal and Signature of Head of Institution"]
[null,null,"Mother's Name ",null,null,"●→",{"$f":"IF(OR(G686=0,G686=\"\"),\"\",VLOOKUP(A681,'STUDENT DETAIL'!$C$8:$I$107,6))","v":""}]
[null,null,"Class & Section",null,null,"●→",{"$f":"IF(OR(G686=0,G686=\"\"),\"\",IF('STUDENT DETAIL'!$H$4=\"\",'STUDENT DETAIL'!$E$4,CONCATENATE('STUDENT DETAIL'!$E$4,\"   \",\"(\",'STUDENT DETAIL'!$H$4,\")\")))","v":""}]
[null,null,"Date Of Birth",null,null,"●→",{"$f":"IF(OR(G686=0,G686=\"\"),\"\",VLOOKUP(A681,'STUDENT DETAIL'!$C$8:$I$107,7))","v":""}]
[null,null,"Time Table"]
[null,null,"Date (Day)",null,null,"Subject",null,"Time"]
[null,null,{"$f":"IF('TIME TABLE'!$B$5=\"\",\"\",'TIME TABLE'!$B$5)","v":"2022-03-31"},null,{"$f":"IF(C694=\"\",\"\",IF(C694>0,CONCATENATE('TIME TABLE'!$C$5,'TIME TABLE'!$D$5,'TIME TABLE'!$E$5)))","v":"(Thursday)"},{"$f":"IF(C694=\"\",\"\",'TIME TABLE'!$F$5)","v":"Hindi"},null,{"$f":"IF(F694=\"\",\"\",'TIME TABLE'!$H$5)","v":"09:00 AM to 11:45 AM"}]
[null,null,{"$f":"IF('TIME TABLE'!$B$6=\"\",\"\",'TIME TABLE'!$B$6)","v":"2022-04-01"},null,{"$f":"IF(C695=\"\",\"\",IF(C695>0,CONCATENATE('TIME TABLE'!$C$6,'TIME TABLE'!$D$6,'TIME TABLE'!$E$6)))","v":"(Friday)"},{"$f":"IF(C695=\"\",\"\",'TIME TABLE'!$F$6)","v":"English"},null,{"$f":"IF(F695=\"\",\"\",'TIME TABLE'!$H$6)","v":"09:00 AM to 11:45 AM"}]
[null,null,{"$f":"IF('TIME TABLE'!$B$7=\"\",\"\",'TIME TABLE'!$B$7)","v":"2022-04-02"},null,{"$f":"IF(C696=\"\",\"\",IF(C696>0,CONCATENATE('TIME TABLE'!$C$7,'TIME TABLE'!$D$7,'TIME TABLE'!$E$7)))","v":"(Saturday)"},{"$f":"IF(C696=\"\",\"\",'TIME TABLE'!$F$7)","v":"Science"},null,{"$f":"IF(F696=\"\",\"\",'TIME TABLE'!$H$7)","v":"09:00 AM to 11:45 AM"}]
[null,null,{"$f":"IF('TIME TABLE'!$B$8=\"\",\"\",'TIME TABLE'!$B$8)","v":"2022-04-03"},null,{"$f":"IF(C697=\"\",\"\",IF(C697>0,CONCATENATE('TIME TABLE'!$C$8,'TIME TABLE'!$D$8,'TIME TABLE'!$E$8)))","v":"(Sunday)"},{"$f":"IF(C697=\"\",\"\",'TIME TABLE'!$F$8)","v":"Mathematics"},null,{"$f":"IF(F697=\"\",\"\",'TIME TABLE'!$H$8)","v":"09:00 AM to 11:45 AM"}]
[null,null,{"$f":"IF('TIME TABLE'!$B$9=\"\",\"\",'TIME TABLE'!$B$9)","v":"2022-04-04"},null,{"$f":"IF(C698=\"\",\"\",IF(C698>0,CONCATENATE('TIME TABLE'!$C$9,'TIME TABLE'!$D$9,'TIME TABLE'!$E$9)))","v":"(Monday)"},{"$f":"IF(C698=\"\",\"\",'TIME TABLE'!$F$9)","v":"Social Study"},null,{"$f":"IF(F698=\"\",\"\",'TIME TABLE'!$H$9)","v":"09:00 AM to 11:45 AM"}]
[null,null,{"$f":"IF('TIME TABLE'!$B$10=\"\",\"\",'TIME TABLE'!$B$10)","v":"2022-04-05"},null,{"$f":"IF(C699=\"\",\"\",IF(C699>0,CONCATENATE('TIME TABLE'!$C$10,'TIME TABLE'!$D$10,'TIME TABLE'!$E$10)))","v":"(Tuesday)"},{"$f":"IF(C699=\"\",\"\",'TIME TABLE'!$F$10)","v":"Sanskrit"},null,{"$f":"IF(F699=\"\",\"\",'TIME TABLE'!$H$10)","v":"09:00 AM to 11:45 AM"}]
[null,null,{"$f":"IF('TIME TABLE'!$B$11=\"\",\"\",'TIME TABLE'!$B$11)","v":""},null,{"$f":"IF(C700=\"\",\"\",IF(C700>0,CONCATENATE('TIME TABLE'!$C$11,'TIME TABLE'!$D$11,'TIME TABLE'!$E$11)))","v":""},{"$f":"IF(C700=\"\",\"\",'TIME TABLE'!$F$11)","v":""},null,{"$f":"IF(F700=\"\",\"\",'TIME TABLE'!$H$11)","v":""}]
[null,null,{"$f":"IF('TIME TABLE'!$B$12=\"\",\"\",'TIME TABLE'!$B$12)","v":""},null,{"$f":"IF(C701=\"\",\"\",IF(C701>0,CONCATENATE('TIME TABLE'!$C$12,'TIME TABLE'!$D$12,'TIME TABLE'!$E$12)))","v":""},{"$f":"IF(C701=\"\",\"\",'TIME TABLE'!$F$12)","v":""},null,{"$f":"IF(C701=\"\",\"\",'TIME TABLE'!$H$12)","v":""}]
[null,null,{"$f":"IF('TIME TABLE'!$B$13=\"\",\"\",'TIME TABLE'!$B$13)","v":""},null,{"$f":"IF(C702=\"\",\"\",IF(C702>0,CONCATENATE('TIME TABLE'!$C$11,'TIME TABLE'!$D$11,'TIME TABLE'!$E$11)))","v":""},{"$f":"IF(C702=\"\",\"\",'TIME TABLE'!$F$13)","v":""},null,{"$f":"IF(C702=\"\",\"\",'TIME TABLE'!$H$13)","v":""}]
[null,null,{"$f":"IF('TIME TABLE'!$B$14=\"\",\"\",'TIME TABLE'!$B$14)","v":""},null,{"$f":"IF(C703=\"\",\"\",IF(C703>0,CONCATENATE('TIME TABLE'!$C$11,'TIME TABLE'!$D$11,'TIME TABLE'!$E$11)))","v":""},{"$f":"IF(C703=\"\",\"\",'TIME TABLE'!$F$14)","v":""},null,{"$f":"IF(C703=\"\",\"\",'TIME TABLE'!$H$14)","v":""}]
[null,null,"Instructions"]
[null,null,1,"Check the exam time table carefully."]
[null,null,2,"Students must bring the 'Admit Card' and show it to the invigilator(s) on duty and should preserve it for future requirements."]
[null,null,3,"Mobile Phone, Calculator, Digital Watch or any Electronic Device is NOT ALLOWED."]
[null,null,4,"Arrive at the School at least 15 minutes before the start examination."]
[null,null,5,"Student is barred from entering the examination hall 15 minutes after the written examination starts."]
[null,null,6,"Ensure that you use the washroom before arriving for your exam as you will not be permitted to leave during the first hour."]
[null,null,7,"Normally, you are required to answer questionsusing blue or black in . Make sure you bring some spare pens with you."]
[null,null,8,"Keep your eyes on your own paper. Remember, copying is cheating!"]
[null,null,9,"You must remain silent until after you have exited the school building."]
[]
[{"$f":"A681+1","v":22}]
[null,{"$f":"logo","v":{"$error":"#NAME?"}},null,{"$f":"MASTER!$E$11","v":"Govt. Sr. Secondary School Raimalwada"}]
[{"$nulls":3},{"$f":"MASTER!$E$14","v":"P.S.-Bapini (Phalodi)"}]
[null,{"$f":"CONCATENATE(C719,'TIME TABLE'!$C$5,'ADMIT CARD'!$C720,$F720,'ADMIT CARD'!$G720,'TIME TABLE'!$E$5)","v":"ADMIT CARD(Roll Number●→0)"},{"$f":"CONCATENATE('TIME TABLE'!$B$2,'TIME TABLE'!$F$2)","v":"TEST-I: (2025-26)"},{"$nulls":5},"Paste latest \nphoto of student"]
[null,null,"ADMIT CARD",{"$nulls":6}," "]
[null,null,"Roll Number",null,null,"●→",{"$f":"VLOOKUP(A715,'STUDENT DETAIL'!$C$8:$I$107,3)","v":0}]
[null,null,"Student's Name",null,null,"●→",{"$f":"IF(OR(G720=0,G720=\"\"),\"\",VLOOKUP(A715,'STUDENT DETAIL'!$C$8:$I$107,4))","v":""}]
[null,null,"Father's Name",null,null,"●→",{"$f":"IF(OR(G720=0,G720=\"\"),\"\",VLOOKUP(A715,'STUDENT DETAIL'!$C$8:$I$107,5))","v":""},null,"Seal and Signature of Head of Institution"]
[null,null,"Mother's Name ",null,null,"●→",{"$f":"IF(OR(G720=0,G720=\"\"),\"\",VLOOKUP(A715,'STUDENT DETAIL'!$C$8:$I$107,6))","v":""}]
[null,null,"Class & Section",null,null,"●→",{"$f":"IF(OR(G720=0,G720=\"\"),\"\",IF('STUDENT DETAIL'!$H$4=\"\",'STUDENT DETAIL'!$E$4,CONCATENATE('STUDENT DETAIL'!$E$4,\"   \",\"(\",'STUDENT DETAIL'!$H$4,\")\")))","v":""}]
[null,null,"Date Of Birth",null,null,"●→",{"$f":"IF(OR(G720=0,G720=\"\"),\"\",VLOOKUP(A715,'STUDENT DETAIL'!$C$8:$I$107,7))","v":""}]
[null,null,"Time Table"]
[null,null,"Date (Day)",null,null,"Subject",null,"Time"]
[null,null,{"$f":"IF('TIME TABLE'!$B$5=\"\",\"\",'TIME TABLE'!$B$5)","v":"2022-03-31"},null,{"$f":"IF(C728=\"\",\"\",IF(C728>0,CONCATENATE('TIME TABLE'!$C$5,'TIME TABLE'!$D$5,'TIME TABLE'!$E$5)))","v":"(Thursday)"},{"$f":"IF(C728=\"\",\"\",'TIME TABLE'!$F$5)","v":"Hindi"},null,{"$f":"IF(F728=\"\",\"\",'TIME TABLE'!$H$5)","v":"09:00 AM to 11:45 AM"}]
[null,null,{"$f":"IF('TIME TABLE'!$B$6=\"\",\"\",'TIME TABLE'!$B$6)","v":"2022-04-01"},null,{"$f":"IF(C729=\"\",\"\",IF(C729>0,CONCATENATE('TIME TABLE'!$C$6,'TIME TABLE'!$D$6,'TIME TABLE'!$E$6)))","v":"(Friday)"},{"$f":"IF(C729=\"\",\"\",'TIME TABLE'!$F$6)","v":"English"},null,{"$f":"IF(F729=\"\",\"\",'TIME TABLE'!$H$6)","v":"09:00 AM to 11:45 AM"}]
[null,null,{"$f":"IF('TIME TABLE'!$B$7=\"\",\"\",'TIME TABLE'!$B$7)","v":"2022-04-02"},null,{"$f":"IF(C730=\"\",\"\",IF(C730>0,CONCATENATE('TIME TABLE'!$C$7,'TIME TABLE'!$D$7,'TIME TABLE'!$E$7)))","v":"(Saturday)"},{"$f":"IF(C730=\"\",\"\",'TIME TABLE'!$F$7)","v":"Science"},null,{"$f":"IF(F730=\"\",\"\",'TIME TABLE'!$H$7)","v":"09:00 AM to 11:45 AM"}]
[null,null,{"$f":"IF('TIME TABLE'!$B$8=\"\",\"\",'TIME TABLE'!$B$8)","v":"2022-04-03"},null,{"$f":"IF(C731=\"\",\"\",IF(C731>0,CONCATENATE('TIME TABLE'!$C$8,'TIME TABLE'!$D$8,'TIME TABLE'!$E$8)))","v":"(Sunday)"},{"$f":"IF(C731=\"\",\"\",'TIME TABLE'!$F$8)","v":"Mathematics"},null,{"$f":"IF(F731=\"\",\"\",'TIME TABLE'!$H$8)","v":"09:00 AM to 11:45 AM"}]
[null,null,{"$f":"IF('TIME TABLE'!$B$9=\"\",\"\",'TIME TABLE'!$B$9)","v":"2022-04-04"},null,{"$f":"IF(C732=\"\",\"\",IF(C732>0,CONCATENATE('TIME TABLE'!$C$9,'TIME TABLE'!$D$9,'TIME TABLE'!$E$9)))","v":"(Monday)"},{"$f":"IF(C732=\"\",\"\",'TIME TABLE'!$F$9)","v":"Social Study"},null,{"$f":"IF(F732=\"\",\"\",'TIME TABLE'!$H$9)","v":"09:00 AM to 11:45 AM"}]
[null,null,{"$f":"IF('TIME TABLE'!$B$10=\"\",\"\",'TIME TABLE'!$B$10)","v":"2022-04-05"},null,{"$f":"IF(C733=\"\",\"\",IF(C733>0,CONCATENATE('TIME TABLE'!$C$10,'TIME TABLE'!$D$10,'TIME TABLE'!$E$10)))","v":"(Tuesday)"},{"$f":"IF(C733=\"\",\"\",'TIME TABLE'!$F$10)","v":"Sanskrit"},null,{"$f":"IF(F733=\"\",\"\",'TIME TABLE'!$H$10)","v":"09:00 AM to 11:45 AM"}]
[null,null,{"$f":"IF('TIME TABLE'!$B$11=\"\",\"\",'TIME TABLE'!$B$11)","v":""},null,{"$f":"IF(C734=\"\",\"\",IF(C734>0,CONCATENATE('TIME TABLE'!$C$11,'TIME TABLE'!$D$11,'TIME TABLE'!$E$11)))","v":""},{"$f":"IF(C734=\"\",\"\",'TIME TABLE'!$F$11)","v":""},null,{"$f":"IF(F734=\"\",\"\",'TIME TABLE'!$H$11)","v":""}]
[null,null,{"$f":"IF('TIME TABLE'!$B$12=\"\",\"\",'TIME TABLE'!$B$12)","v":""},null,{"$f":"IF(C735=\"\",\"\",IF(C735>0,CONCATENATE('TIME TABLE'!$C$12,'TIME TABLE'!$D$12,'TIME TABLE'!$E$12)))","v":""},{"$f":"IF(C735=\"\",\"\",'TIME TABLE'!$F$12)","v":""},null,{"$f":"IF(C735=\"\",\"\",'TIME TABLE'!$H$12)","v":""}]
[null,null,{"$f":"IF('TIME TABLE'!$B$13=\"\",\"\",'TIME TABLE'!$B$13)","v":""},null,{"$f":"IF(C736=\"\",\"\",IF(C736>0,CONCATENATE('TIME TABLE'!$C$11,'TIME TABLE'!$D$11,'TIME TABLE'!$E$11)))","v":""},{"$f":"IF(C736=\"\",\"\",'TIME TABLE'!$F$13)","v":""},null,{"$f":"IF(C736=\"\",\"\",'TIME TABLE'!$H$13)","v":""}]
[null,null,{"$f":"IF('TIME TABLE'!$B$14=\"\",\"\",'TIME TABLE'!$B$14)","v":""},null,{"$f":"IF(C737=\"\",\"\",IF(C737>0,CONCATENATE('TIME TABLE'!$C$11,'TIME TABLE'!$D$11,'TIME TABLE'!$E$11)))","v":""},{"$f":"IF(C737=\"\",\"\",'TIME TABLE'!$F$14)","v":""},null,{"$f":"IF(C737=\"\",\"\",'TIME TABLE'!$H$14)","v":""}]
[null,null,"Instructions"]
[null,null,1,"Check the exam time table carefully."]
[null,null,2,"Students must bring the 'Admit Card' and show it to the invigilator(s) on duty and should preserve it for future requirements."]
[null,null,3,"Mobile Phone, Calculator, Digital Watch or any Electronic Device is NOT ALLOWED."]
[null,null,4,"Arrive at the School at least 15 minutes before the start examination."]
[null,null,5,"Student is barred from entering the examination hall 15 minutes after the written examination starts."]
[null,null,6,"Ensure that you use the washroom before arriving for your exam as you will not be permitted to leave during the first hour."]
[null,null,7,"Normally, you are required to answer questionsusing blue or black in . Make sure you bring some spare pens with you."]
[null,null,8,"Keep your eyes on your own paper. Remember, copying is cheating!"]
[null,null,9,"You must remain silent until after you have exited the school building."]
[]
[{"$f":"A715+1","v":23}]
[null,{"$f":"logo","v":{"$error":"#NAME?"}},null,{"$f":"MASTER!$E$11","v":"Govt. Sr. Secondary School Raimalwada"}]
[{"$nulls":3},{"$f":"MASTER!$E$14","v":"P.S.-Bapini (Phalodi)"}]
[null,{"$f":"CONCATENATE(C753,'TIME TABLE'!$C$5,'ADMIT CARD'!$C754,$F754,'ADMIT CARD'!$G754,'TIME TABLE'!$E$5)","v":"ADMIT CARD(Roll Number●→0)"},{"$f":"CONCATENATE('TIME TABLE'!$B$2,'TIME TABLE'!$F$2)","v":"TEST-I: (2025-26)"},{"$nulls":5},"Paste latest \nphoto of student"]
[null,null,"ADMIT CARD",{"$nulls":6}," "]
[null,null,"Roll Number",null,null,"●→",{"$f":"VLOOKUP(A749,'STUDENT DETAIL'!$C$8:$I$107,3)","v":0}]
[null,null,"Student's Name",null,null,"●→",{"$f":"IF(OR(G754=0,G754=\"\"),\"\",VLOOKUP(A749,'STUDENT DETAIL'!$C$8:$I$107,4))","v":""}]
[null,null,"Father's Name",null,null,"●→",{"$f":"IF(OR(G754=0,G754=\"\"),\"\",VLOOKUP(A749,'STUDENT DETAIL'!$C$8:$I$107,5))","v":""},null,"Seal and Signature of Head of Institution"]
[null,null,"Mother's Name ",null,null,"●→",{"$f":"IF(OR(G754=0,G754=\"\"),\"\",VLOOKUP(A749,'STUDENT DETAIL'!$C$8:$I$107,6))","v":""}]
[null,null,"Class & Section",null,null,"●→",{"$f":"IF(OR(G754=0,G754=\"\"),\"\",IF('STUDENT DETAIL'!$H$4=\"\",'STUDENT DETAIL'!$E$4,CONCATENATE('STUDENT DETAIL'!$E$4,\"   \",\"(\",'STUDENT DETAIL'!$H$4,\")\")))","v":""}]
[null,null,"Date Of Birth",null,null,"●→",{"$f":"IF(OR(G754=0,G754=\"\"),\"\",VLOOKUP(A749,'STUDENT DETAIL'!$C$8:$I$107,7))","v":""}]
[null,null,"Time Table"]
[null,null,"Date (Day)",null,null,"Subject",null,"Time"]
[null,null,{"$f":"IF('TIME TABLE'!$B$5=\"\",\"\",'TIME TABLE'!$B$5)","v":"2022-03-31"},null,{"$f":"IF(C762=\"\",\"\",IF(C762>0,CONCATENATE('TIME TABLE'!$C$5,'TIME TABLE'!$D$5,'TIME TABLE'!$E$5)))","v":"(Thursday)"},{"$f":"IF(C762=\"\",\"\",'TIME TABLE'!$F$5)","v":"Hindi"},null,{"$f":"IF(F762=\"\",\"\",'TIME TABLE'!$H$5)","v":"09:00 AM to 11:45 AM"}]
[null,null,{"$f":"IF('TIME TABLE'!$B$6=\"\",\"\",'TIME TABLE'!$B$6)","v":"2022-04-01"},null,{"$f":"IF(C763=\"\",\"\",IF(C763>0,CONCATENATE('TIME TABLE'!$C$6,'TIME TABLE'!$D$6,'TIME TABLE'!$E$6)))","v":"(Friday)"},{"$f":"IF(C763=\"\",\"\",'TIME TABLE'!$F$6)","v":"English"},null,{"$f":"IF(F763=\"\",\"\",'TIME TABLE'!$H$6)","v":"09:00 AM to 11:45 AM"}]
[null,null,{"$f":"IF('TIME TABLE'!$B$7=\"\",\"\",'TIME TABLE'!$B$7)","v":"2022-04-02"},null,{"$f":"IF(C764=\"\",\"\",IF(C764>0,CONCATENATE('TIME TABLE'!$C$7,'TIME TABLE'!$D$7,'TIME TABLE'!$E$7)))","v":"(Saturday)"},{"$f":"IF(C764=\"\",\"\",'TIME TABLE'!$F$7)","v":"Science"},null,{"$f":"IF(F764=\"\",\"\",'TIME TABLE'!$H$7)","v":"09:00 AM to 11:45 AM"}]
[null,null,{"$f":"IF('TIME TABLE'!$B$8=\"\",\"\",'TIME TABLE'!$B$8)","v":"2022-04-03"},null,{"$f":"IF(C765=\"\",\"\",IF(C765>0,CONCATENATE('TIME TABLE'!$C$8,'TIME TABLE'!$D$8,'TIME TABLE'!$E$8)))","v":"(Sunday)"},{"$f":"IF(C765=\"\",\"\",'TIME TABLE'!$F$8)","v":"Mathematics"},null,{"$f":"IF(F765=\"\",\"\",'TIME TABLE'!$H$8)","v":"09:00 AM to 11:45 AM"}]
[null,null,{"$f":"IF('TIME TABLE'!$B$9=\"\",\"\",'TIME TABLE'!$B$9)","v":"2022-04-04"},null,{"$f":"IF(C766=\"\",\"\",IF(C766>0,CONCATENATE('TIME TABLE'!$C$9,'TIME TABLE'!$D$9,'TIME TABLE'!$E$9)))","v":"(Monday)"},{"$f":"IF(C766=\"\",\"\",'TIME TABLE'!$F$9)","v":"Social Study"},null,{"$f":"IF(F766=\"\",\"\",'TIME TABLE'!$H$9)","v":"09:00 AM to 11:45 AM"}]
[null,null,{"$f":"IF('TIME TABLE'!$B$10=\"\",\"\",'TIME TABLE'!$B$10)","v":"2022-04-05"},null,{"$f":"IF(C767=\"\",\"\",IF(C767>0,CONCATENATE('TIME TABLE'!$C$10,'TIME TABLE'!$D$10,'TIME TABLE'!$E$10)))","v":"(Tuesday)"},{"$f":"IF(C767=\"\",\"\",'TIME TABLE'!$F$10)","v":"Sanskrit"},null,{"$f":"IF(F767=\"\",\"\",'TIME TABLE'!$H$10)","v":"09:00 AM to 11:45 AM"}]
[null,null,{"$f":"IF('TIME TABLE'!$B$11=\"\",\"\",'TIME TABLE'!$B$11)","v":""},null,{"$f":"IF(C768=\"\",\"\",IF(C768>0,CONCATENATE('TIME TABLE'!$C$11,'TIME TABLE'!$D$11,'TIME TABLE'!$E$11)))","v":""},{"$f":"IF(C768=\"\",\"\",'TIME TABLE'!$F$11)","v":""},null,{"$f":"IF(F768=\"\",\"\",'TIME TABLE'!$H$11)","v":""}]
[null,null,{"$f":"IF('TIME TABLE'!$B$12=\"\",\"\",'TIME TABLE'!$B$12)","v":""},null,{"$f":"IF(C769=\"\",\"\",IF(C769>0,CONCATENATE('TIME TABLE'!$C$12,'TIME TABLE'!$D$12,'TIME TABLE'!$E$12)))","v":""},{"$f":"IF(C769=\"\",\"\",'TIME TABLE'!$F$12)","v":""},null,{"$f":"IF(C769=\"\",\"\",'TIME TABLE'!$H$12)","v":""}]
[null,null,{"$f":"IF('TIME TABLE'!$B$13=\"\",\"\",'TIME TABLE'!$B$13)","v":""},null,{"$f":"IF(C770=\"\",\"\",IF(C770>0,CONCATENATE('TIME TABLE'!$C$11,'TIME TABLE'!$D$11,'TIME TABLE'!$E$11)))","v":""},{"$f":"IF(C770=\"\",\"\",'TIME TABLE'!$F$13)","v":""},null,{"$f":"IF(C770=\"\",\"\",'TIME TABLE'!$H$13)","v":""}]
[null,null,{"$f":"IF('TIME TABLE'!$B$14=\"\",\"\",'TIME TABLE'!$B$14)","v":""},null,{"$f":"IF(C771=\"\",\"\",IF(C771>0,CONCATENATE('TIME TABLE'!$C$11,'TIME TABLE'!$D$11,'TIME TABLE'!$E$11)))","v":""},{"$f":"IF(C771=\"\",\"\",'TIME TABLE'!$F$14)","v":""},null,{"$f":"IF(C771=\"\",\"\",'TIME TABLE'!$H$14)","v":""}]
[null,null,"Instructions"]
[null,null,1,"Check the exam time table carefully."]
[null,null,2,"Students must bring the 'Admit Card' and show it to the invigilator(s) on duty and should preserve it for future requirements."]
[null,null,3,"Mobile Phone, Calculator, Digital Watch or any Electronic Device is NOT ALLOWED."]
[null,null,4,"Arrive at the School at least 15 minutes before the start examination."]
[null,null,5,"Student is barred from entering the examination hall 15 minutes after the written examination starts."]
[null,null,6,"Ensure that you use the washroom before arriving for your exam as you will not be permitted to leave during the first hour."]
[null,null,7,"Normally, you are required to answer questionsusing blue or black in . Make sure you bring some spare pens with you."]
[null,null,8,"Keep your eyes on your own paper. Remember, copying is cheating!"]
[null,null,9,"You must remain silent until after you have exited the school building."]
[]
[{"$f":"A749+1","v":24}]
[null,{"$f":"logo","v":{"$error":"#NAME?"}},null,{"$f":"MASTER!$E$11","v":"Govt. Sr. Secondary School Raimalwada"}]
[{"$nulls":3},{"$f":"MASTER!$E$14","v":"P.S.-Bapini (Phalodi)"}]
[null,{"$f":"CONCATENATE(C787,'TIME TABLE'!$C$5,'ADMIT CARD'!$C788,$F788,'ADMIT CARD'!$G788,'TIME TABLE'!$E$5)","v":"ADMIT CARD(Roll Number●→0)"},{"$f":"CONCATENATE('TIME TABLE'!$B$2,'TIME TABLE'!$F$2)","v":"TEST-I: (2025-26)"},{"$nulls":5},"Paste latest \nphoto of student"]
[null,null,"ADMIT CARD",{"$nulls":6}," "]
[null,null,"Roll Number",null,null,"●→",{"$f":"VLOOKUP(A783,'STUDENT DETAIL'!$C$8:$I$107,3)","v":0}]
[null,null,"Student's Name",null,null,"●→",{"$f":"IF(OR(G788=0,G788=\"\"),\"\",VLOOKUP(A783,'STUDENT DETAIL'!$C$8:$I$107,4))","v":""}]
[null,null,"Father's Name",null,null,"●→",{"$f":"IF(OR(G788=0,G788=\"\"),\"\",VLOOKUP(A783,'STUDENT DETAIL'!$C$8:$I$107,5))","v":""},null,"Seal and Signature of Head of Institution"]
[null,null,"Mother's Name ",null,null,"●→",{"$f":"IF(OR(G788=0,G788=\"\"),\"\",VLOOKUP(A783,'STUDENT DETAIL'!$C$8:$I$107,6))","v":""}]
[null,null,"Class & Section",null,null,"●→",{"$f":"IF(OR(G788=0,G788=\"\"),\"\",IF('STUDENT DETAIL'!$H$4=\"\",'STUDENT DETAIL'!$E$4,CONCATENATE('STUDENT DETAIL'!$E$4,\"   \",\"(\",'STUDENT DETAIL'!$H$4,\")\")))","v":""}]
[null,null,"Date Of Birth",null,null,"●→",{"$f":"IF(OR(G788=0,G788=\"\"),\"\",VLOOKUP(A783,'STUDENT DETAIL'!$C$8:$I$107,7))","v":""}]
[null,null,"Time Table"]
[null,null,"Date (Day)",null,null,"Subject",null,"Time"]
[null,null,{"$f":"IF('TIME TABLE'!$B$5=\"\",\"\",'TIME TABLE'!$B$5)","v":"2022-03-31"},null,{"$f":"IF(C796=\"\",\"\",IF(C796>0,CONCATENATE('TIME TABLE'!$C$5,'TIME TABLE'!$D$5,'TIME TABLE'!$E$5)))","v":"(Thursday)"},{"$f":"IF(C796=\"\",\"\",'TIME TABLE'!$F$5)","v":"Hindi"},null,{"$f":"IF(F796=\"\",\"\",'TIME TABLE'!$H$5)","v":"09:00 AM to 11:45 AM"}]
[null,null,{"$f":"IF('TIME TABLE'!$B$6=\"\",\"\",'TIME TABLE'!$B$6)","v":"2022-04-01"},null,{"$f":"IF(C797=\"\",\"\",IF(C797>0,CONCATENATE('TIME TABLE'!$C$6,'TIME TABLE'!$D$6,'TIME TABLE'!$E$6)))","v":"(Friday)"},{"$f":"IF(C797=\"\",\"\",'TIME TABLE'!$F$6)","v":"English"},null,{"$f":"IF(F797=\"\",\"\",'TIME TABLE'!$H$6)","v":"09:00 AM to 11:45 AM"}]
[null,null,{"$f":"IF('TIME TABLE'!$B$7=\"\",\"\",'TIME TABLE'!$B$7)","v":"2022-04-02"},null,{"$f":"IF(C798=\"\",\"\",IF(C798>0,CONCATENATE('TIME TABLE'!$C$7,'TIME TABLE'!$D$7,'TIME TABLE'!$E$7)))","v":"(Saturday)"},{"$f":"IF(C798=\"\",\"\",'TIME TABLE'!$F$7)","v":"Science"},null,{"$f":"IF(F798=\"\",\"\",'TIME TABLE'!$H$7)","v":"09:00 AM to 11:45 AM"}]
[null,null,{"$f":"IF('TIME TABLE'!$B$8=\"\",\"\",'TIME TABLE'!$B$8)","v":"2022-04-03"},null,{"$f":"IF(C799=\"\",\"\",IF(C799>0,CONCATENATE('TIME TABLE'!$C$8,'TIME TABLE'!$D$8,'TIME TABLE'!$E$8)))","v":"(Sunday)"},{"$f":"IF(C799=\"\",\"\",'TIME TABLE'!$F$8)","v":"Mathematics"},null,{"$f":"IF(F799=\"\",\"\",'TIME TABLE'!$H$8)","v":"09:00 AM to 11:45 AM"}]
[null,null,{"$f":"IF('TIME TABLE'!$B$9=\"\",\"\",'TIME TABLE'!$B$9)","v":"2022-04-04"},null,{"$f":"IF(C800=\"\",\"\",IF(C800>0,CONCATENATE('TIME TABLE'!$C$9,'TIME TABLE'!$D$9,'TIME TABLE'!$E$9)))","v":"(Monday)"},{"$f":"IF(C800=\"\",\"\",'TIME TABLE'!$F$9)","v":"Social Study"},null,{"$f":"IF(F800=\"\",\"\",'TIME TABLE'!$H$9)","v":"09:00 AM to 11:45 AM"}]
[null,null,{"$f":"IF('TIME TABLE'!$B$10=\"\",\"\",'TIME TABLE'!$B$10)","v":"2022-04-05"},null,{"$f":"IF(C801=\"\",\"\",IF(C801>0,CONCATENATE('TIME TABLE'!$C$10,'TIME TABLE'!$D$10,'TIME TABLE'!$E$10)))","v":"(Tuesday)"},{"$f":"IF(C801=\"\",\"\",'TIME TABLE'!$F$10)","v":"Sanskrit"},null,{"$f":"IF(F801=\"\",\"\",'TIME TABLE'!$H$10)","v":"09:00 AM to 11:45 AM"}]
[null,null,{"$f":"IF('TIME TABLE'!$B$11=\"\",\"\",'TIME TABLE'!$B$11)","v":""},null,{"$f":"IF(C802=\"\",\"\",IF(C802>0,CONCATENATE('TIME TABLE'!$C$11,'TIME TABLE'!$D$11,'TIME TABLE'!$E$11)))","v":""},{"$f":"IF(C802=\"\",\"\",'TIME TABLE'!$F$11)","v":""},null,{"$f":"IF(F802=\"\",\"\",'TIME TABLE'!$H$11)","v":""}]
[null,null,{"$f":"IF('TIME TABLE'!$B$12=\"\",\"\",'TIME TABLE'!$B$12)","v":""},null,{"$f":"IF(C803=\"\",\"\",IF(C803>0,CONCATENATE('TIME TABLE'!$C$12,'TIME TABLE'!$D$12,'TIME TABLE'!$E$12)))","v":""},{"$f":"IF(C803=\"\",\"\",'TIME TABLE'!$F$12)","v":""},null,{"$f":"IF(C803=\"\",\"\",'TIME TABLE'!$H$12)","v":""}]
[null,null,{"$f":"IF('TIME TABLE'!$B$13=\"\",\"\",'TIME TABLE'!$B$13)","v":""},null,{"$f":"IF(C804=\"\",\"\",IF(C804>0,CONCATENATE('TIME TABLE'!$C$11,'TIME TABLE'!$D$11,'TIME TABLE'!$E$11)))","v":""},{"$f":"IF(C804=\"\",\"\",'TIME TABLE'!$F$13)","v":""},null,{"$f":"IF(C804=\"\",\"\",'TIME TABLE'!$H$13)","v":""}]
[null,null,{"$f":"IF('TIME TABLE'!$B$14=\"\",\"\",'TIME TABLE'!$B$14)","v":""},null,{"$f":"IF(C805=\"\",\"\",IF(C805>0,CONCATENATE('TIME TABLE'!$C$11,'TIME TABLE'!$D$11,'TIME TABLE'!$E$11)))","v":""},{"$f":"IF(C805=\"\",\"\",'TIME TABLE'!$F$14)","v":""},null,{"$f":"IF(C805=\"\",\"\",'TIME TABLE'!$H$14)","v":""}]
[null,null,"Instructions"]
[null,null,1,"Check the exam time table carefully."]
[null,null,2,"Students must bring the 'Admit Card' and show it to the invigilator(s) on duty and should preserve it for future requirements."]
[null,null,3,"Mobile Phone, Calculator, Digital Watch or any Electronic Device is NOT ALLOWED."]
[null,null,4,"Arrive at the School at least 15 minutes before the start examination."]
[null,null,5,"Student is barred from entering the examination hall 15 minutes after the written examination starts."]
[null,null,6,"Ensure that you use the washroom before arriving for your exam as you will not be permitted to leave during the first hour."]
[null,null,7,"Normally, you are required to answer questionsusing blue or black in . Make sure you bring some spare pens with you."]
[null,null,8,"Keep your eyes on your own paper. Remember, copying is cheating!"]
[null,null,9,"You must remain silent until after you have exited the school building."]
[]
[{"$f":"A783+1","v":25}]
[null,{"$f":"logo","v":{"$error":"#NAME?"}},null,{"$f":"MASTER!$E$11","v":"Govt. Sr. Secondary School Raimalwada"}]
[{"$nulls":3},{"$f":"MASTER!$E$14","v":"P.S.-Bapini (Phalodi)"}]
[null,{"$f":"CONCATENATE(C821,'TIME TABLE'!$C$5,'ADMIT CARD'!$C822,$F822,'ADMIT CARD'!$G822,'TIME TABLE'!$E$5)","v":"ADMIT CARD(Roll Number●→0)"},{"$f":"CONCATENATE('TIME TABLE'!$B$2,'TIME TABLE'!$F$2)","v":"TEST-I: (2025-26)"},{"$nulls":5},"Paste latest \nphoto of student"]
[null,null,"ADMIT CARD",{"$nulls":6}," "]
[null,null,"Roll Number",null,null,"●→",{"$f":"VLOOKUP(A817,'STUDENT DETAIL'!$C$8:$I$107,3)","v":0}]
[null,null,"Student's Name",null,null,"●→",{"$f":"IF(OR(G822=0,G822=\"\"),\"\",VLOOKUP(A817,'STUDENT DETAIL'!$C$8:$I$107,4))","v":""}]
[null,null,"Father's Name",null,null,"●→",{"$f":"IF(OR(G822=0,G822=\"\"),\"\",VLOOKUP(A817,'STUDENT DETAIL'!$C$8:$I$107,5))","v":""},null,"Seal and Signature of Head of Institution"]
[null,null,"Mother's Name ",null,null,"●→",{"$f":"IF(OR(G822=0,G822=\"\"),\"\",VLOOKUP(A817,'STUDENT DETAIL'!$C$8:$I$107,6))","v":""}]
[null,null,"Class & Section",null,null,"●→",{"$f":"IF(OR(G822=0,G822=\"\"),\"\",IF('STUDENT DETAIL'!$H$4=\"\",'STUDENT DETAIL'!$E$4,CONCATENATE('STUDENT DETAIL'!$E$4,\"   \",\"(\",'STUDENT DETAIL'!$H$4,\")\")))","v":""}]
[null,null,"Date Of Birth",null,null,"●→",{"$f":"IF(OR(G822=0,G822=\"\"),\"\",VLOOKUP(A817,'STUDENT DETAIL'!$C$8:$I$107,7))","v":""}]
[null,null,"Time Table"]
[null,null,"Date (Day)",null,null,"Subject",null,"Time"]
[null,null,{"$f":"IF('TIME TABLE'!$B$5=\"\",\"\",'TIME TABLE'!$B$5)","v":"2022-03-31"},null,{"$f":"IF(C830=\"\",\"\",IF(C830>0,CONCATENATE('TIME TABLE'!$C$5,'TIME TABLE'!$D$5,'TIME TABLE'!$E$5)))","v":"(Thursday)"},{"$f":"IF(C830=\"\",\"\",'TIME TABLE'!$F$5)","v":"Hindi"},null,{"$f":"IF(F830=\"\",\"\",'TIME TABLE'!$H$5)","v":"09:00 AM to 11:45 AM"}]
[null,null,{"$f":"IF('TIME TABLE'!$B$6=\"\",\"\",'TIME TABLE'!$B$6)","v":"2022-04-01"},null,{"$f":"IF(C831=\"\",\"\",IF(C831>0,CONCATENATE('TIME TABLE'!$C$6,'TIME TABLE'!$D$6,'TIME TABLE'!$E$6)))","v":"(Friday)"},{"$f":"IF(C831=\"\",\"\",'TIME TABLE'!$F$6)","v":"English"},null,{"$f":"IF(F831=\"\",\"\",'TIME TABLE'!$H$6)","v":"09:00 AM to 11:45 AM"}]
[null,null,{"$f":"IF('TIME TABLE'!$B$7=\"\",\"\",'TIME TABLE'!$B$7)","v":"2022-04-02"},null,{"$f":"IF(C832=\"\",\"\",IF(C832>0,CONCATENATE('TIME TABLE'!$C$7,'TIME TABLE'!$D$7,'TIME TABLE'!$E$7)))","v":"(Saturday)"},{"$f":"IF(C832=\"\",\"\",'TIME TABLE'!$F$7)","v":"Science"},null,{"$f":"IF(F832=\"\",\"\",'TIME TABLE'!$H$7)","v":"09:00 AM to 11:45 AM"}]
[null,null,{"$f":"IF('TIME TABLE'!$B$8=\"\",\"\",'TIME TABLE'!$B$8)","v":"2022-04-03"},null,{"$f":"IF(C833=\"\",\"\",IF(C833>0,CONCATENATE('TIME TABLE'!$C$8,'TIME TABLE'!$D$8,'TIME TABLE'!$E$8)))","v":"(Sunday)"},{"$f":"IF(C833=\"\",\"\",'TIME TABLE'!$F$8)","v":"Mathematics"},null,{"$f":"IF(F833=\"\",\"\",'TIME TABLE'!$H$8)","v":"09:00 AM to 11:45 AM"}]
[null,null,{"$f":"IF('TIME TABLE'!$B$9=\"\",\"\",'TIME TABLE'!$B$9)","v":"2022-04-04"},null,{"$f":"IF(C834=\"\",\"\",IF(C834>0,CONCATENATE('TIME TABLE'!$C$9,'TIME TABLE'!$D$9,'TIME TABLE'!$E$9)))","v":"(Monday)"},{"$f":"IF(C834=\"\",\"\",'TIME TABLE'!$F$9)","v":"Social Study"},null,{"$f":"IF(F834=\"\",\"\",'TIME TABLE'!$H$9)","v":"09:00 AM to 11:45 AM"}]
[null,null,{"$f":"IF('TIME TABLE'!$B$10=\"\",\"\",'TIME TABLE'!$B$10)","v":"2022-04-05"},null,{"$f":"IF(C835=\"\",\"\",IF(C835>0,CONCATENATE('TIME TABLE'!$C$10,'TIME TABLE'!$D$10,'TIME TABLE'!$E$10)))","v":"(Tuesday)"},{"$f":"IF(C835=\"\",\"\",'TIME TABLE'!$F$10)","v":"Sanskrit"},null,{"$f":"IF(F835=\"\",\"\",'TIME TABLE'!$H$10)","v":"09:00 AM to 11:45 AM"}]
[null,null,{"$f":"IF('TIME TABLE'!$B$11=\"\",\"\",'TIME TABLE'!$B$11)","v":""},null,{"$f":"IF(C836=\"\",\"\",IF(C836>0,CONCATENATE('TIME TABLE'!$C$11,'TIME TABLE'!$D$11,'TIME TABLE'!$E$11)))","v":""},{"$f":"IF(C836=\"\",\"\",'TIME TABLE'!$F$11)","v":""},null,{"$f":"IF(F836=\"\",\"\",'TIME TABLE'!$H$11)","v":""}]
[null,null,{"$f":"IF('TIME TABLE'!$B$12=\"\",\"\",'TIME TABLE'!$B$12)","v":""},null,{"$f":"IF(C837=\"\",\"\",IF(C837>0,CONCATENATE('TIME TABLE'!$C$12,'TIME TABLE'!$D$12,'TIME TABLE'!$E$12)))","v":""},{"$f":"IF(C837=\"\",\"\",'TIME TABLE'!$F$12)","v":""},null,{"$f":"IF(C837=\"\",\"\",'TIME TABLE'!$H$12)","v":""}]
[null,null,{"$f":"IF('TIME TABLE'!$B$13=\"\",\"\",'TIME TABLE'!$B$13)","v":""},null,{"$f":"IF(C838=\"\",\"\",IF(C838>0,CONCATENATE('TIME TABLE'!$C$11,'TIME TABLE'!$D$11,'TIME TABLE'!$E$11)))","v":""},{"$f":"IF(C838=\"\",\"\",'TIME TABLE'!$F$13)","v":""},null,{"$f":"IF(C838=\"\",\"\",'TIME TABLE'!$H$13)","v":""}]
[null,null,{"$f":"IF('TIME TABLE'!$B$14=\"\",\"\",'TIME TABLE'!$B$14)","v":""},null,{"$f":"IF(C839=\"\",\"\",IF(C839>0,CONCATENATE('TIME TABLE'!$C$11,'TIME TABLE'!$D$11,'TIME TABLE'!$E$11)))","v":""},{"$f":"IF(C839=\"\",\"\",'TIME TABLE'!$F$14)","v":""},null,{"$f":"IF(C839=\"\",\"\",'TIME TABLE'!$H$14)","v":""}]
[null,null,"Instructions"]
[null,null,1,"Check the exam time table carefully."]
[null,null,2,"Students must bring the 'Admit Card' and show it to the invigilator(s) on duty and should preserve it for future requirements."]
[null,null,3,"Mobile Phone, Calculator, Digital Watch or any Electronic Device is NOT ALLOWED."]
[null,null,4,"Arrive at the School at least 15 minutes before the start examination."]
[null,null,5,"Student is barred from entering the examination hall 15 minutes after the written examination starts."]
[null,null,6,"Ensure that you use the washroom before arriving for your exam as you will not be permitted to leave during the first hour."]
[null,null,7,"Normally, you are required to answer questionsusing blue or black in . Make sure you bring some spare pens with you."]
[null,null,8,"Keep your eyes on your own paper. Remember, copying is cheating!"]
[null,null,9,"You must remain silent until after you have exited the school building."]
[]
[{"$f":"A817+1","v":26}]
[null,{"$f":"logo","v":{"$error":"#NAME?"}},null,{"$f":"MASTER!$E$11","v":"Govt. Sr. Secondary School Raimalwada"}]
[{"$nulls":3},{"$f":"MASTER!$E$14","v":"P.S.-Bapini (Phalodi)"}]
[null,{"$f":"CONCATENATE(C855,'TIME TABLE'!$C$5,'ADMIT CARD'!$C856,$F856,'ADMIT CARD'!$G856,'TIME TABLE'!$E$5)","v":"ADMIT CARD(Roll Number●→0)"},{"$f":"CONCATENATE('TIME TABLE'!$B$2,'TIME TABLE'!$F$2)","v":"TEST-I: (2025-26)"},{"$nulls":5},"Paste latest \nphoto of student"]
[null,null,"ADMIT CARD",{"$nulls":6}," "]
[null,null,"Roll Number",null,null,"●→",{"$f":"VLOOKUP(A851,'STUDENT DETAIL'!$C$8:$I$107,3)","v":0}]
[null,null,"Student's Name",null,null,"●→",{"$f":"IF(OR(G856=0,G856=\"\"),\"\",VLOOKUP(A851,'STUDENT DETAIL'!$C$8:$I$107,4))","v":""}]
[null,null,"Father's Name",null,null,"●→",{"$f":"IF(OR(G856=0,G856=\"\"),\"\",VLOOKUP(A851,'STUDENT DETAIL'!$C$8:$I$107,5))","v":""},null,"Seal and Signature of Head of Institution"]
[null,null,"Mother's Name ",null,null,"●→",{"$f":"IF(OR(G856=0,G856=\"\"),\"\",VLOOKUP(A851,'STUDENT DETAIL'!$C$8:$I$107,6))","v":""}]
[null,null,"Class & Section",null,null,"●→",{"$f":"IF(OR(G856=0,G856=\"\"),\"\",IF('STUDENT DETAIL'!$H$4=\"\",'STUDENT DETAIL'!$E$4,CONCATENATE('STUDENT DETAIL'!$E$4,\"   \",\"(\",'STUDENT DETAIL'!$H$4,\")\")))","v":""}]
[null,null,"Date Of Birth",null,null,"●→",{"$f":"IF(OR(G856=0,G856=\"\"),\"\",VLOOKUP(A851,'STUDENT DETAIL'!$C$8:$I$107,7))","v":""}]
[null,null,"Time Table"]
[null,null,"Date (Day)",null,null,"Subject",null,"Time"]
[null,null,{"$f":"IF('TIME TABLE'!$B$5=\"\",\"\",'TIME TABLE'!$B$5)","v":"2022-03-31"},null,{"$f":"IF(C864=\"\",\"\",IF(C864>0,CONCATENATE('TIME TABLE'!$C$5,'TIME TABLE'!$D$5,'TIME TABLE'!$E$5)))","v":"(Thursday)"},{"$f":"IF(C864=\"\",\"\",'TIME TABLE'!$F$5)","v":"Hindi"},null,{"$f":"IF(F864=\"\",\"\",'TIME TABLE'!$H$5)","v":"09:00 AM to 11:45 AM"}]
[null,null,{"$f":"IF('TIME TABLE'!$B$6=\"\",\"\",'TIME TABLE'!$B$6)","v":"2022-04-01"},null,{"$f":"IF(C865=\"\",\"\",IF(C865>0,CONCATENATE('TIME TABLE'!$C$6,'TIME TABLE'!$D$6,'TIME TABLE'!$E$6)))","v":"(Friday)"},{"$f":"IF(C865=\"\",\"\",'TIME TABLE'!$F$6)","v":"English"},null,{"$f":"IF(F865=\"\",\"\",'TIME TABLE'!$H$6)","v":"09:00 AM to 11:45 AM"}]
[null,null,{"$f":"IF('TIME TABLE'!$B$7=\"\",\"\",'TIME TABLE'!$B$7)","v":"2022-04-02"},null,{"$f":"IF(C866=\"\",\"\",IF(C866>0,CONCATENATE('TIME TABLE'!$C$7,'TIME TABLE'!$D$7,'TIME TABLE'!$E$7)))","v":"(Saturday)"},{"$f":"IF(C866=\"\",\"\",'TIME TABLE'!$F$7)","v":"Science"},null,{"$f":"IF(F866=\"\",\"\",'TIME TABLE'!$H$7)","v":"09:00 AM to 11:45 AM"}]
[null,null,{"$f":"IF('TIME TABLE'!$B$8=\"\",\"\",'TIME TABLE'!$B$8)","v":"2022-04-03"},null,{"$f":"IF(C867=\"\",\"\",IF(C867>0,CONCATENATE('TIME TABLE'!$C$8,'TIME TABLE'!$D$8,'TIME TABLE'!$E$8)))","v":"(Sunday)"},{"$f":"IF(C867=\"\",\"\",'TIME TABLE'!$F$8)","v":"Mathematics"},null,{"$f":"IF(F867=\"\",\"\",'TIME TABLE'!$H$8)","v":"09:00 AM to 11:45 AM"}]
[null,null,{"$f":"IF('TIME TABLE'!$B$9=\"\",\"\",'TIME TABLE'!$B$9)","v":"2022-04-04"},null,{"$f":"IF(C868=\"\",\"\",IF(C868>0,CONCATENATE('TIME TABLE'!$C$9,'TIME TABLE'!$D$9,'TIME TABLE'!$E$9)))","v":"(Monday)"},{"$f":"IF(C868=\"\",\"\",'TIME TABLE'!$F$9)","v":"Social Study"},null,{"$f":"IF(F868=\"\",\"\",'TIME TABLE'!$H$9)","v":"09:00 AM to 11:45 AM"}]
[null,null,{"$f":"IF('TIME TABLE'!$B$10=\"\",\"\",'TIME TABLE'!$B$10)","v":"2022-04-05"},null,{"$f":"IF(C869=\"\",\"\",IF(C869>0,CONCATENATE('TIME TABLE'!$C$10,'TIME TABLE'!$D$10,'TIME TABLE'!$E$10)))","v":"(Tuesday)"},{"$f":"IF(C869=\"\",\"\",'TIME TABLE'!$F$10)","v":"Sanskrit"},null,{"$f":"IF(F869=\"\",\"\",'TIME TABLE'!$H$10)","v":"09:00 AM to 11:45 AM"}]
[null,null,{"$f":"IF('TIME TABLE'!$B$11=\"\",\"\",'TIME TABLE'!$B$11)","v":""},null,{"$f":"IF(C870=\"\",\"\",IF(C870>0,CONCATENATE('TIME TABLE'!$C$11,'TIME TABLE'!$D$11,'TIME TABLE'!$E$11)))","v":""},{"$f":"IF(C870=\"\",\"\",'TIME TABLE'!$F$11)","v":""},null,{"$f":"IF(F870=\"\",\"\",'TIME TABLE'!$H$11)","v":""}]
[null,null,{"$f":"IF('TIME TABLE'!$B$12=\"\",\"\",'TIME TABLE'!$B$12)","v":""},null,{"$f":"IF(C871=\"\",\"\",IF(C871>0,CONCATENATE('TIME TABLE'!$C$12,'TIME TABLE'!$D$12,'TIME TABLE'!$E$12)))","v":""},{"$f":"IF(C871=\"\",\"\",'TIME TABLE'!$F$12)","v":""},null,{"$f":"IF(C871=\"\",\"\",'TIME TABLE'!$H$12)","v":""}]
[null,null,{"$f":"IF('TIME TABLE'!$B$13=\"\",\"\",'TIME TABLE'!$B$13)","v":""},null,{"$f":"IF(C872=\"\",\"\",IF(C872>0,CONCATENATE('TIME TABLE'!$C$11,'TIME TABLE'!$D$11,'TIME TABLE'!$E$11)))","v":""},{"$f":"IF(C872=\"\",\"\",'TIME TABLE'!$F$13)","v":""},null,{"$f":"IF(C872=\"\",\"\",'TIME TABLE'!$H$13)","v":""}]
[null,null,{"$f":"IF('TIME TABLE'!$B$14=\"\",\"\",'TIME TABLE'!$B$14)","v":""},null,{"$f":"IF(C873=\"\",\"\",IF(C873>0,CONCATENATE('TIME TABLE'!$C$11,'TIME TABLE'!$D$11,'TIME TABLE'!$E$11)))","v":""},{"$f":"IF(C873=\"\",\"\",'TIME TABLE'!$F$14)","v":""},null,{"$f":"IF(C873=\"\",\"\",'TIME TABLE'!$H$14)","v":""}]
[null,null,"Instructions"]
[null,null,1,"Check the exam time table carefully."]
[null,null,2,"Students must bring the 'Admit Card' and show it to the invigilator(s) on duty and should preserve it for future requirements."]
[null,null,3,"Mobile Phone, Calculator, Digital Watch or any Electronic Device is NOT ALLOWED."]
[null,null,4,"Arrive at the School at least 15 minutes before the start examination."]
[null,null,5,"Student is barred from entering the examination hall 15 minutes after the written examination starts."]
[null,null,6,"Ensure that you use the washroom before arriving for your exam as you will not be permitted to leave during the first hour."]
[null,null,7,"Normally, you are required to answer questionsusing blue or black in . Make sure you bring some spare pens with you."]
[null,null,8,"Keep your eyes on your own paper. Remember, copying is cheating!"]
[null,null,9,"You must remain silent until after you have exited the school building."]
[]
[{"$f":"A851+1","v":27}]
[null,{"$f":"logo","v":{"$error":"#NAME?"}},null,{"$f":"MASTER!$E$11","v":"Govt. Sr. Secondary School Raimalwada"}]
[{"$nulls":3},{"$f":"MASTER!$E$14","v":"P.S.-Bapini (Phalodi)"}]
[null,{"$f":"CONCATENATE(C889,'TIME TABLE'!$C$5,'ADMIT CARD'!$C890,$F890,'ADMIT CARD'!$G890,'TIME TABLE'!$E$5)","v":"ADMIT CARD(Roll Number●→0)"},{"$f":"CONCATENATE('TIME TABLE'!$B$2,'TIME TABLE'!$F$2)","v":"TEST-I: (2025-26)"},{"$nulls":5},"Paste latest \nphoto of student"]
[null,null,"ADMIT CARD",{"$nulls":6}," "]
[null,null,"Roll Number",null,null,"●→",{"$f":"VLOOKUP(A885,'STUDENT DETAIL'!$C$8:$I$107,3)","v":0}]
[null,null,"Student's Name",null,null,"●→",{"$f":"IF(OR(G890=0,G890=\"\"),\"\",VLOOKUP(A885,'STUDENT DETAIL'!$C$8:$I$107,4))","v":""}]
[null,null,"Father's Name",null,null,"●→",{"$f":"IF(OR(G890=0,G890=\"\"),\"\",VLOOKUP(A885,'STUDENT DETAIL'!$C$8:$I$107,5))","v":""},null,"Seal and Signature of Head of Institution"]
[null,null,"Mother's Name ",null,null,"●→",{"$f":"IF(OR(G890=0,G890=\"\"),\"\",VLOOKUP(A885,'STUDENT DETAIL'!$C$8:$I$107,6))","v":""}]
[null,null,"Class & Section",null,null,"●→",{"$f":"IF(OR(G890=0,G890=\"\"),\"\",IF('STUDENT DETAIL'!$H$4=\"\",'STUDENT DETAIL'!$E$4,CONCATENATE('STUDENT DETAIL'!$E$4,\"   \",\"(\",'STUDENT DETAIL'!$H$4,\")\")))","v":""}]
[null,null,"Date Of Birth",null,null,"●→",{"$f":"IF(OR(G890=0,G890=\"\"),\"\",VLOOKUP(A885,'STUDENT DETAIL'!$C$8:$I$107,7))","v":""}]
[null,null,"Time Table"]
[null,null,"Date (Day)",null,null,"Subject",null,"Time"]
[null,null,{"$f":"IF('TIME TABLE'!$B$5=\"\",\"\",'TIME TABLE'!$B$5)","v":"2022-03-31"},null,{"$f":"IF(C898=\"\",\"\",IF(C898>0,CONCATENATE('TIME TABLE'!$C$5,'TIME TABLE'!$D$5,'TIME TABLE'!$E$5)))","v":"(Thursday)"},{"$f":"IF(C898=\"\",\"\",'TIME TABLE'!$F$5)","v":"Hindi"},null,{"$f":"IF(F898=\"\",\"\",'TIME TABLE'!$H$5)","v":"09:00 AM to 11:45 AM"}]
[null,null,{"$f":"IF('TIME TABLE'!$B$6=\"\",\"\",'TIME TABLE'!$B$6)","v":"2022-04-01"},null,{"$f":"IF(C899=\"\",\"\",IF(C899>0,CONCATENATE('TIME TABLE'!$C$6,'TIME TABLE'!$D$6,'TIME TABLE'!$E$6)))","v":"(Friday)"},{"$f":"IF(C899=\"\",\"\",'TIME TABLE'!$F$6)","v":"English"},null,{"$f":"IF(F899=\"\",\"\",'TIME TABLE'!$H$6)","v":"09:00 AM to 11:45 AM"}]
[null,null,{"$f":"IF('TIME TABLE'!$B$7=\"\",\"\",'TIME TABLE'!$B$7)","v":"2022-04-02"},null,{"$f":"IF(C900=\"\",\"\",IF(C900>0,CONCATENATE('TIME TABLE'!$C$7,'TIME TABLE'!$D$7,'TIME TABLE'!$E$7)))","v":"(Saturday)"},{"$f":"IF(C900=\"\",\"\",'TIME TABLE'!$F$7)","v":"Science"},null,{"$f":"IF(F900=\"\",\"\",'TIME TABLE'!$H$7)","v":"09:00 AM to 11:45 AM"}]
[null,null,{"$f":"IF('TIME TABLE'!$B$8=\"\",\"\",'TIME TABLE'!$B$8)","v":"2022-04-03"},null,{"$f":"IF(C901=\"\",\"\",IF(C901>0,CONCATENATE('TIME TABLE'!$C$8,'TIME TABLE'!$D$8,'TIME TABLE'!$E$8)))","v":"(Sunday)"},{"$f":"IF(C901=\"\",\"\",'TIME TABLE'!$F$8)","v":"Mathematics"},null,{"$f":"IF(F901=\"\",\"\",'TIME TABLE'!$H$8)","v":"09:00 AM to 11:45 AM"}]
[null,null,{"$f":"IF('TIME TABLE'!$B$9=\"\",\"\",'TIME TABLE'!$B$9)","v":"2022-04-04"},null,{"$f":"IF(C902=\"\",\"\",IF(C902>0,CONCATENATE('TIME TABLE'!$C$9,'TIME TABLE'!$D$9,'TIME TABLE'!$E$9)))","v":"(Monday)"},{"$f":"IF(C902=\"\",\"\",'TIME TABLE'!$F$9)","v":"Social Study"},null,{"$f":"IF(F902=\"\",\"\",'TIME TABLE'!$H$9)","v":"09:00 AM to 11:45 AM"}]
[null,null,{"$f":"IF('TIME TABLE'!$B$10=\"\",\"\",'TIME TABLE'!$B$10)","v":"2022-04-05"},null,{"$f":"IF(C903=\"\",\"\",IF(C903>0,CONCATENATE('TIME TABLE'!$C$10,'TIME TABLE'!$D$10,'TIME TABLE'!$E$10)))","v":"(Tuesday)"},{"$f":"IF(C903=\"\",\"\",'TIME TABLE'!$F$10)","v":"Sanskrit"},null,{"$f":"IF(F903=\"\",\"\",'TIME TABLE'!$H$10)","v":"09:00 AM to 11:45 AM"}]
[null,null,{"$f":"IF('TIME TABLE'!$B$11=\"\",\"\",'TIME TABLE'!$B$11)","v":""},null,{"$f":"IF(C904=\"\",\"\",IF(C904>0,CONCATENATE('TIME TABLE'!$C$11,'TIME TABLE'!$D$11,'TIME TABLE'!$E$11)))","v":""},{"$f":"IF(C904=\"\",\"\",'TIME TABLE'!$F$11)","v":""},null,{"$f":"IF(F904=\"\",\"\",'TIME TABLE'!$H$11)","v":""}]
[null,null,{"$f":"IF('TIME TABLE'!$B$12=\"\",\"\",'TIME TABLE'!$B$12)","v":""},null,{"$f":"IF(C905=\"\",\"\",IF(C905>0,CONCATENATE('TIME TABLE'!$C$12,'TIME TABLE'!$D$12,'TIME TABLE'!$E$12)))","v":""},{"$f":"IF(C905=\"\",\"\",'TIME TABLE'!$F$12)","v":""},null,{"$f":"IF(C905=\"\",\"\",'TIME TABLE'!$H$12)","v":""}]
[null,null,{"$f":"IF('TIME TABLE'!$B$13=\"\",\"\",'TIME TABLE'!$B$13)","v":""},null,{"$f":"IF(C906=\"\",\"\",IF(C906>0,CONCATENATE('TIME TABLE'!$C$11,'TIME TABLE'!$D$11,'TIME TABLE'!$E$11)))","v":""},{"$f":"IF(C906=\"\",\"\",'TIME TABLE'!$F$13)","v":""},null,{"$f":"IF(C906=\"\",\"\",'TIME TABLE'!$H$13)","v":""}]
[null,null,{"$f":"IF('TIME TABLE'!$B$14=\"\",\"\",'TIME TABLE'!$B$14)","v":""},null,{"$f":"IF(C907=\"\",\"\",IF(C907>0,CONCATENATE('TIME TABLE'!$C$11,'TIME TABLE'!$D$11,'TIME TABLE'!$E$11)))","v":""},{"$f":"IF(C907=\"\",\"\",'TIME TABLE'!$F$14)","v":""},null,{"$f":"IF(C907=\"\",\"\",'TIME TABLE'!$H$14)","v":""}]
[null,null,"Instructions"]
[null,null,1,"Check the exam time table carefully."]
[null,null,2,"Students must bring the 'Admit Card' and show it to the invigilator(s) on duty and should preserve it for future requirements."]
[null,null,3,"Mobile Phone, Calculator, Digital Watch or any Electronic Device is NOT ALLOWED."]
[null,null,4,"Arrive at the School at least 15 minutes before the start examination."]
[null,null,5,"Student is barred from entering the examination hall 15 minutes after the written examination starts."]
[null,null,6,"Ensure that you use the washroom before arriving for your exam as you will not be permitted to leave during the first hour."]
[null,null,7,"Normally, you are required to answer questionsusing blue or black in . Make sure you bring some spare pens with you."]
[null,null,8,"Keep your eyes on your own paper. Remember, copying is cheating!"]
[null,null,9,"You must remain silent until after you have exited the school building."]
[]
[{"$f":"A885+1","v":28}]
[null,{"$f":"logo","v":{"$error":"#NAME?"}},null,{"$f":"MASTER!$E$11","v":"Govt. Sr. Secondary School Raimalwada"}]
[{"$nulls":3},{"$f":"MASTER!$E$14","v":"P.S.-Bapini (Phalodi)"}]
[null,{"$f":"CONCATENATE(C923,'TIME TABLE'!$C$5,'ADMIT CARD'!$C924,$F924,'ADMIT CARD'!$G924,'TIME TABLE'!$E$5)","v":"ADMIT CARD(Roll Number●→0)"},{"$f":"CONCATENATE('TIME TABLE'!$B$2,'TIME TABLE'!$F$2)","v":"TEST-I: (2025-26)"},{"$nulls":5},"Paste latest \nphoto of student"]
[null,null,"ADMIT CARD",{"$nulls":6}," "]
[null,null,"Roll Number",null,null,"●→",{"$f":"VLOOKUP(A919,'STUDENT DETAIL'!$C$8:$I$107,3)","v":0}]
[null,null,"Student's Name",null,null,"●→",{"$f":"IF(OR(G924=0,G924=\"\"),\"\",VLOOKUP(A919,'STUDENT DETAIL'!$C$8:$I$107,4))","v":""}]
[null,null,"Father's Name",null,null,"●→",{"$f":"IF(OR(G924=0,G924=\"\"),\"\",VLOOKUP(A919,'STUDENT DETAIL'!$C$8:$I$107,5))","v":""},null,"Seal and Signature of Head of Institution"]
[null,null,"Mother's Name ",null,null,"●→",{"$f":"IF(OR(G924=0,G924=\"\"),\"\",VLOOKUP(A919,'STUDENT DETAIL'!$C$8:$I$107,6))","v":""}]
[null,null,"Class & Section",null,null,"●→",{"$f":"IF(OR(G924=0,G924=\"\"),\"\",IF('STUDENT DETAIL'!$H$4=\"\",'STUDENT DETAIL'!$E$4,CONCATENATE('STUDENT DETAIL'!$E$4,\"   \",\"(\",'STUDENT DETAIL'!$H$4,\")\")))","v":""}]
[null,null,"Date Of Birth",null,null,"●→",{"$f":"IF(OR(G924=0,G924=\"\"),\"\",VLOOKUP(A919,'STUDENT DETAIL'!$C$8:$I$107,7))","v":""}]
[null,null,"Time Table"]
[null,null,"Date (Day)",null,null,"Subject",null,"Time"]
[null,null,{"$f":"IF('TIME TABLE'!$B$5=\"\",\"\",'TIME TABLE'!$B$5)","v":"2022-03-31"},null,{"$f":"IF(C932=\"\",\"\",IF(C932>0,CONCATENATE('TIME TABLE'!$C$5,'TIME TABLE'!$D$5,'TIME TABLE'!$E$5)))","v":"(Thursday)"},{"$f":"IF(C932=\"\",\"\",'TIME TABLE'!$F$5)","v":"Hindi"},null,{"$f":"IF(F932=\"\",\"\",'TIME TABLE'!$H$5)","v":"09:00 AM to 11:45 AM"}]
[null,null,{"$f":"IF('TIME TABLE'!$B$6=\"\",\"\",'TIME TABLE'!$B$6)","v":"2022-04-01"},null,{"$f":"IF(C933=\"\",\"\",IF(C933>0,CONCATENATE('TIME TABLE'!$C$6,'TIME TABLE'!$D$6,'TIME TABLE'!$E$6)))","v":"(Friday)"},{"$f":"IF(C933=\"\",\"\",'TIME TABLE'!$F$6)","v":"English"},null,{"$f":"IF(F933=\"\",\"\",'TIME TABLE'!$H$6)","v":"09:00 AM to 11:45 AM"}]
[null,null,{"$f":"IF('TIME TABLE'!$B$7=\"\",\"\",'TIME TABLE'!$B$7)","v":"2022-04-02"},null,{"$f":"IF(C934=\"\",\"\",IF(C934>0,CONCATENATE('TIME TABLE'!$C$7,'TIME TABLE'!$D$7,'TIME TABLE'!$E$7)))","v":"(Saturday)"},{"$f":"IF(C934=\"\",\"\",'TIME TABLE'!$F$7)","v":"Science"},null,{"$f":"IF(F934=\"\",\"\",'TIME TABLE'!$H$7)","v":"09:00 AM to 11:45 AM"}]
[null,null,{"$f":"IF('TIME TABLE'!$B$8=\"\",\"\",'TIME TABLE'!$B$8)","v":"2022-04-03"},null,{"$f":"IF(C935=\"\",\"\",IF(C935>0,CONCATENATE('TIME TABLE'!$C$8,'TIME TABLE'!$D$8,'TIME TABLE'!$E$8)))","v":"(Sunday)"},{"$f":"IF(C935=\"\",\"\",'TIME TABLE'!$F$8)","v":"Mathematics"},null,{"$f":"IF(F935=\"\",\"\",'TIME TABLE'!$H$8)","v":"09:00 AM to 11:45 AM"}]
[null,null,{"$f":"IF('TIME TABLE'!$B$9=\"\",\"\",'TIME TABLE'!$B$9)","v":"2022-04-04"},null,{"$f":"IF(C936=\"\",\"\",IF(C936>0,CONCATENATE('TIME TABLE'!$C$9,'TIME TABLE'!$D$9,'TIME TABLE'!$E$9)))","v":"(Monday)"},{"$f":"IF(C936=\"\",\"\",'TIME TABLE'!$F$9)","v":"Social Study"},null,{"$f":"IF(F936=\"\",\"\",'TIME TABLE'!$H$9)","v":"09:00 AM to 11:45 AM"}]
[null,null,{"$f":"IF('TIME TABLE'!$B$10=\"\",\"\",'TIME TABLE'!$B$10)","v":"2022-04-05"},null,{"$f":"IF(C937=\"\",\"\",IF(C937>0,CONCATENATE('TIME TABLE'!$C$10,'TIME TABLE'!$D$10,'TIME TABLE'!$E$10)))","v":"(Tuesday)"},{"$f":"IF(C937=\"\",\"\",'TIME TABLE'!$F$10)","v":"Sanskrit"},null,{"$f":"IF(F937=\"\",\"\",'TIME TABLE'!$H$10)","v":"09:00 AM to 11:45 AM"}]
[null,null,{"$f":"IF('TIME TABLE'!$B$11=\"\",\"\",'TIME TABLE'!$B$11)","v":""},null,{"$f":"IF(C938=\"\",\"\",IF(C938>0,CONCATENATE('TIME TABLE'!$C$11,'TIME TABLE'!$D$11,'TIME TABLE'!$E$11)))","v":""},{"$f":"IF(C938=\"\",\"\",'TIME TABLE'!$F$11)","v":""},null,{"$f":"IF(F938=\"\",\"\",'TIME TABLE'!$H$11)","v":""}]
[null,null,{"$f":"IF('TIME TABLE'!$B$12=\"\",\"\",'TIME TABLE'!$B$12)","v":""},null,{"$f":"IF(C939=\"\",\"\",IF(C939>0,CONCATENATE('TIME TABLE'!$C$12,'TIME TABLE'!$D$12,'TIME TABLE'!$E$12)))","v":""},{"$f":"IF(C939=\"\",\"\",'TIME TABLE'!$F$12)","v":""},null,{"$f":"IF(C939=\"\",\"\",'TIME TABLE'!$H$12)","v":""}]
[null,null,{"$f":"IF('TIME TABLE'!$B$13=\"\",\"\",'TIME TABLE'!$B$13)","v":""},null,{"$f":"IF(C940=\"\",\"\",IF(C940>0,CONCATENATE('TIME TABLE'!$C$11,'TIME TABLE'!$D$11,'TIME TABLE'!$E$11)))","v":""},{"$f":"IF(C940=\"\",\"\",'TIME TABLE'!$F$13)","v":""},null,{"$f":"IF(C940=\"\",\"\",'TIME TABLE'!$H$13)","v":""}]
[null,null,{"$f":"IF('TIME TABLE'!$B$14=\"\",\"\",'TIME TABLE'!$B$14)","v":""},null,{"$f":"IF(C941=\"\",\"\",IF(C941>0,CONCATENATE('TIME TABLE'!$C$11,'TIME TABLE'!$D$11,'TIME TABLE'!$E$11)))","v":""},{"$f":"IF(C941=\"\",\"\",'TIME TABLE'!$F$14)","v":""},null,{"$f":"IF(C941=\"\",\"\",'TIME TABLE'!$H$14)","v":""}]
[null,null,"Instructions"]
[null,null,1,"Check the exam time table carefully."]
[null,null,2,"Students must bring the 'Admit Card' and show it to the invigilator(s) on duty and should preserve it for future requirements."]
[null,null,3,"Mobile Phone, Calculator, Digital Watch or any Electronic Device is NOT ALLOWED."]
[null,null,4,"Arrive at the School at least 15 minutes before the start examination."]
[null,null,5,"Student is barred from entering the examination hall 15 minutes after the written examination starts."]
[null,null,6,"Ensure that you use the washroom before arriving for your exam as you will not be permitted to leave during the first hour."]
[null,null,7,"Normally, you are required to answer questionsusing blue or black in . Make sure you bring some spare pens with you."]
[null,null,8,"Keep your eyes on your own paper. Remember, copying is cheating!"]
[null,null,9,"You must remain silent until after you have exited the school building."]
[]
[{"$f":"A919+1","v":29}]
[null,{"$f":"logo","v":{"$error":"#NAME?"}},null,{"$f":"MASTER!$E$11","v":"Govt. Sr. Secondary School Raimalwada"}]
[{"$nulls":3},{"$f":"MASTER!$E$14","v":"P.S.-Bapini (Phalodi)"}]
[null,{"$f":"CONCATENATE(C957,'TIME TABLE'!$C$5,'ADMIT CARD'!$C958,$F958,'ADMIT CARD'!$G958,'TIME TABLE'!$E$5)","v":"ADMIT CARD(Roll Number●→0)"},{"$f":"CONCATENATE('TIME TABLE'!$B$2,'TIME TABLE'!$F$2)","v":"TEST-I: (2025-26)"},{"$nulls":5},"Paste latest \nphoto of student"]
[null,null,"ADMIT CARD",{"$nulls":6}," "]
[null,null,"Roll Number",null,null,"●→",{"$f":"VLOOKUP(A953,'STUDENT DETAIL'!$C$8:$I$107,3)","v":0}]
[null,null,"Student's Name",null,null,"●→",{"$f":"IF(OR(G958=0,G958=\"\"),\"\",VLOOKUP(A953,'STUDENT DETAIL'!$C$8:$I$107,4))","v":""}]
[null,null,"Father's Name",null,null,"●→",{"$f":"IF(OR(G958=0,G958=\"\"),\"\",VLOOKUP(A953,'STUDENT DETAIL'!$C$8:$I$107,5))","v":""},null,"Seal and Signature of Head of Institution"]
[null,null,"Mother's Name ",null,null,"●→",{"$f":"IF(OR(G958=0,G958=\"\"),\"\",VLOOKUP(A953,'STUDENT DETAIL'!$C$8:$I$107,6))","v":""}]
[null,null,"Class & Section",null,null,"●→",{"$f":"IF(OR(G958=0,G958=\"\"),\"\",IF('STUDENT DETAIL'!$H$4=\"\",'STUDENT DETAIL'!$E$4,CONCATENATE('STUDENT DETAIL'!$E$4,\"   \",\"(\",'STUDENT DETAIL'!$H$4,\")\")))","v":""}]
[null,null,"Date Of Birth",null,null,"●→",{"$f":"IF(OR(G958=0,G958=\"\"),\"\",VLOOKUP(A953,'STUDENT DETAIL'!$C$8:$I$107,7))","v":""}]
[null,null,"Time Table"]
[null,null,"Date (Day)",null,null,"Subject",null,"Time"]
[null,null,{"$f":"IF('TIME TABLE'!$B$5=\"\",\"\",'TIME TABLE'!$B$5)","v":"2022-03-31"},null,{"$f":"IF(C966=\"\",\"\",IF(C966>0,CONCATENATE('TIME TABLE'!$C$5,'TIME TABLE'!$D$5,'TIME TABLE'!$E$5)))","v":"(Thursday)"},{"$f":"IF(C966=\"\",\"\",'TIME TABLE'!$F$5)","v":"Hindi"},null,{"$f":"IF(F966=\"\",\"\",'TIME TABLE'!$H$5)","v":"09:00 AM to 11:45 AM"}]
[null,null,{"$f":"IF('TIME TABLE'!$B$6=\"\",\"\",'TIME TABLE'!$B$6)","v":"2022-04-01"},null,{"$f":"IF(C967=\"\",\"\",IF(C967>0,CONCATENATE('TIME TABLE'!$C$6,'TIME TABLE'!$D$6,'TIME TABLE'!$E$6)))","v":"(Friday)"},{"$f":"IF(C967=\"\",\"\",'TIME TABLE'!$F$6)","v":"English"},null,{"$f":"IF(F967=\"\",\"\",'TIME TABLE'!$H$6)","v":"09:00 AM to 11:45 AM"}]
[null,null,{"$f":"IF('TIME TABLE'!$B$7=\"\",\"\",'TIME TABLE'!$B$7)","v":"2022-04-02"},null,{"$f":"IF(C968=\"\",\"\",IF(C968>0,CONCATENATE('TIME TABLE'!$C$7,'TIME TABLE'!$D$7,'TIME TABLE'!$E$7)))","v":"(Saturday)"},{"$f":"IF(C968=\"\",\"\",'TIME TABLE'!$F$7)","v":"Science"},null,{"$f":"IF(F968=\"\",\"\",'TIME TABLE'!$H$7)","v":"09:00 AM to 11:45 AM"}]
[null,null,{"$f":"IF('TIME TABLE'!$B$8=\"\",\"\",'TIME TABLE'!$B$8)","v":"2022-04-03"},null,{"$f":"IF(C969=\"\",\"\",IF(C969>0,CONCATENATE('TIME TABLE'!$C$8,'TIME TABLE'!$D$8,'TIME TABLE'!$E$8)))","v":"(Sunday)"},{"$f":"IF(C969=\"\",\"\",'TIME TABLE'!$F$8)","v":"Mathematics"},null,{"$f":"IF(F969=\"\",\"\",'TIME TABLE'!$H$8)","v":"09:00 AM to 11:45 AM"}]
[null,null,{"$f":"IF('TIME TABLE'!$B$9=\"\",\"\",'TIME TABLE'!$B$9)","v":"2022-04-04"},null,{"$f":"IF(C970=\"\",\"\",IF(C970>0,CONCATENATE('TIME TABLE'!$C$9,'TIME TABLE'!$D$9,'TIME TABLE'!$E$9)))","v":"(Monday)"},{"$f":"IF(C970=\"\",\"\",'TIME TABLE'!$F$9)","v":"Social Study"},null,{"$f":"IF(F970=\"\",\"\",'TIME TABLE'!$H$9)","v":"09:00 AM to 11:45 AM"}]
[null,null,{"$f":"IF('TIME TABLE'!$B$10=\"\",\"\",'TIME TABLE'!$B$10)","v":"2022-04-05"},null,{"$f":"IF(C971=\"\",\"\",IF(C971>0,CONCATENATE('TIME TABLE'!$C$10,'TIME TABLE'!$D$10,'TIME TABLE'!$E$10)))","v":"(Tuesday)"},{"$f":"IF(C971=\"\",\"\",'TIME TABLE'!$F$10)","v":"Sanskrit"},null,{"$f":"IF(F971=\"\",\"\",'TIME TABLE'!$H$10)","v":"09:00 AM to 11:45 AM"}]
[null,null,{"$f":"IF('TIME TABLE'!$B$11=\"\",\"\",'TIME TABLE'!$B$11)","v":""},null,{"$f":"IF(C972=\"\",\"\",IF(C972>0,CONCATENATE('TIME TABLE'!$C$11,'TIME TABLE'!$D$11,'TIME TABLE'!$E$11)))","v":""},{"$f":"IF(C972=\"\",\"\",'TIME TABLE'!$F$11)","v":""},null,{"$f":"IF(F972=\"\",\"\",'TIME TABLE'!$H$11)","v":""}]
[null,null,{"$f":"IF('TIME TABLE'!$B$12=\"\",\"\",'TIME TABLE'!$B$12)","v":""},null,{"$f":"IF(C973=\"\",\"\",IF(C973>0,CONCATENATE('TIME TABLE'!$C$12,'TIME TABLE'!$D$12,'TIME TABLE'!$E$12)))","v":""},{"$f":"IF(C973=\"\",\"\",'TIME TABLE'!$F$12)","v":""},null,{"$f":"IF(C973=\"\",\"\",'TIME TABLE'!$H$12)","v":""}]
[null,null,{"$f":"IF('TIME TABLE'!$B$13=\"\",\"\",'TIME TABLE'!$B$13)","v":""},null,{"$f":"IF(C974=\"\",\"\",IF(C974>0,CONCATENATE('TIME TABLE'!$C$11,'TIME TABLE'!$D$11,'TIME TABLE'!$E$11)))","v":""},{"$f":"IF(C974=\"\",\"\",'TIME TABLE'!$F$13)","v":""},null,{"$f":"IF(C974=\"\",\"\",'TIME TABLE'!$H$13)","v":""}]
[null,null,{"$f":"IF('TIME TABLE'!$B$14=\"\",\"\",'TIME TABLE'!$B$14)","v":""},null,{"$f":"IF(C975=\"\",\"\",IF(C975>0,CONCATENATE('TIME TABLE'!$C$11,'TIME TABLE'!$D$11,'TIME TABLE'!$E$11)))","v":""},{"$f":"IF(C975=\"\",\"\",'TIME TABLE'!$F$14)","v":""},null,{"$f":"IF(C975=\"\",\"\",'TIME TABLE'!$H$14)","v":""}]
[null,null,"Instructions"]
[null,null,1,"Check the exam time table carefully."]
[null,null,2,"Students must bring the 'Admit Card' and show it to the invigilator(s) on duty and should preserve it for future requirements."]
[null,null,3,"Mobile Phone, Calculator, Digital Watch or any Electronic Device is NOT ALLOWED."]
[null,null,4,"Arrive at the School at least 15 minutes before the start examination."]
[null,null,5,"Student is barred from entering the examination hall 15 minutes after the written examination starts."]
[null,null,6,"Ensure that you use the washroom before arriving for your exam as you will not be permitted to leave during the first hour."]
[null,null,7,"Normally, you are required to answer questionsusing blue or black in . Make sure you bring some spare pens with you."]
[null,null,8,"Keep your eyes on your own paper. Remember, copying is cheating!"]
[null,null,9,"You must remain silent until after you have exited the school building."]
[]
[{"$f":"A953+1","v":30}]
[null,{"$f":"logo","v":{"$error":"#NAME?"}},null,{"$f":"MASTER!$E$11","v":"Govt. Sr. Secondary School Raimalwada"}]
[{"$nulls":3},{"$f":"MASTER!$E$14","v":"P.S.-Bapini (Phalodi)"}]
[null,{"$f":"CONCATENATE(C991,'TIME TABLE'!$C$5,'ADMIT CARD'!$C992,$F992,'ADMIT CARD'!$G992,'TIME TABLE'!$E$5)","v":"ADMIT CARD(Roll Number●→0)"},{"$f":"CONCATENATE('TIME TABLE'!$B$2,'TIME TABLE'!$F$2)","v":"TEST-I: (2025-26)"},{"$nulls":5},"Paste latest \nphoto of student"]
[null,null,"ADMIT CARD",{"$nulls":6}," "]
[null,null,"Roll Number",null,null,"●→",{"$f":"VLOOKUP(A987,'STUDENT DETAIL'!$C$8:$I$107,3)","v":0}]
[null,null,"Student's Name",null,null,"●→",{"$f":"IF(OR(G992=0,G992=\"\"),\"\",VLOOKUP(A987,'STUDENT DETAIL'!$C$8:$I$107,4))","v":""}]
[null,null,"Father's Name",null,null,"●→",{"$f":"IF(OR(G992=0,G992=\"\"),\"\",VLOOKUP(A987,'STUDENT DETAIL'!$C$8:$I$107,5))","v":""},null,"Seal and Signature of Head of Institution"]
[null,null,"Mother's Name ",null,null,"●→",{"$f":"IF(OR(G992=0,G992=\"\"),\"\",VLOOKUP(A987,'STUDENT DETAIL'!$C$8:$I$107,6))","v":""}]
[null,null,"Class & Section",null,null,"●→",{"$f":"IF(OR(G992=0,G992=\"\"),\"\",IF('STUDENT DETAIL'!$H$4=\"\",'STUDENT DETAIL'!$E$4,CONCATENATE('STUDENT DETAIL'!$E$4,\"   \",\"(\",'STUDENT DETAIL'!$H$4,\")\")))","v":""}]
[null,null,"Date Of Birth",null,null,"●→",{"$f":"IF(OR(G992=0,G992=\"\"),\"\",VLOOKUP(A987,'STUDENT DETAIL'!$C$8:$I$107,7))","v":""}]
[null,null,"Time Table"]
[null,null,"Date (Day)",null,null,"Subject",null,"Time"]
[null,null,{"$f":"IF('TIME TABLE'!$B$5=\"\",\"\",'TIME TABLE'!$B$5)","v":"2022-03-31"},null,{"$f":"IF(C1000=\"\",\"\",IF(C1000>0,CONCATENATE('TIME TABLE'!$C$5,'TIME TABLE'!$D$5,'TIME TABLE'!$E$5)))","v":"(Thursday)"},{"$f":"IF(C1000=\"\",\"\",'TIME TABLE'!$F$5)","v":"Hindi"},null,{"$f":"IF(F1000=\"\",\"\",'TIME TABLE'!$H$5)","v":"09:00 AM to 11:45 AM"}]
[null,null,{"$f":"IF('TIME TABLE'!$B$6=\"\",\"\",'TIME TABLE'!$B$6)","v":"2022-04-01"},null,{"$f":"IF(C1001=\"\",\"\",IF(C1001>0,CONCATENATE('TIME TABLE'!$C$6,'TIME TABLE'!$D$6,'TIME TABLE'!$E$6)))","v":"(Friday)"},{"$f":"IF(C1001=\"\",\"\",'TIME TABLE'!$F$6)","v":"English"},null,{"$f":"IF(F1001=\"\",\"\",'TIME TABLE'!$H$6)","v":"09:00 AM to 11:45 AM"}]
[null,null,{"$f":"IF('TIME TABLE'!$B$7=\"\",\"\",'TIME TABLE'!$B$7)","v":"2022-04-02"},null,{"$f":"IF(C1002=\"\",\"\",IF(C1002>0,CONCATENATE('TIME TABLE'!$C$7,'TIME TABLE'!$D$7,'TIME TABLE'!$E$7)))","v":"(Saturday)"},{"$f":"IF(C1002=\"\",\"\",'TIME TABLE'!$F$7)","v":"Science"},null,{"$f":"IF(F1002=\"\",\"\",'TIME TABLE'!$H$7)","v":"09:00 AM to 11:45 AM"}]
[null,null,{"$f":"IF('TIME TABLE'!$B$8=\"\",\"\",'TIME TABLE'!$B$8)","v":"2022-04-03"},null,{"$f":"IF(C1003=\"\",\"\",IF(C1003>0,CONCATENATE('TIME TABLE'!$C$8,'TIME TABLE'!$D$8,'TIME TABLE'!$E$8)))","v":"(Sunday)"},{"$f":"IF(C1003=\"\",\"\",'TIME TABLE'!$F$8)","v":"Mathematics"},null,{"$f":"IF(F1003=\"\",\"\",'TIME TABLE'!$H$8)","v":"09:00 AM to 11:45 AM"}]
[null,null,{"$f":"IF('TIME TABLE'!$B$9=\"\",\"\",'TIME TABLE'!$B$9)","v":"2022-04-04"},null,{"$f":"IF(C1004=\"\",\"\",IF(C1004>0,CONCATENATE('TIME TABLE'!$C$9,'TIME TABLE'!$D$9,'TIME TABLE'!$E$9)))","v":"(Monday)"},{"$f":"IF(C1004=\"\",\"\",'TIME TABLE'!$F$9)","v":"Social Study"},null,{"$f":"IF(F1004=\"\",\"\",'TIME TABLE'!$H$9)","v":"09:00 AM to 11:45 AM"}]
[null,null,{"$f":"IF('TIME TABLE'!$B$10=\"\",\"\",'TIME TABLE'!$B$10)","v":"2022-04-05"},null,{"$f":"IF(C1005=\"\",\"\",IF(C1005>0,CONCATENATE('TIME TABLE'!$C$10,'TIME TABLE'!$D$10,'TIME TABLE'!$E$10)))","v":"(Tuesday)"},{"$f":"IF(C1005=\"\",\"\",'TIME TABLE'!$F$10)","v":"Sanskrit"},null,{"$f":"IF(F1005=\"\",\"\",'TIME TABLE'!$H$10)","v":"09:00 AM to 11:45 AM"}]
[null,null,{"$f":"IF('TIME TABLE'!$B$11=\"\",\"\",'TIME TABLE'!$B$11)","v":""},null,{"$f":"IF(C1006=\"\",\"\",IF(C1006>0,CONCATENATE('TIME TABLE'!$C$11,'TIME TABLE'!$D$11,'TIME TABLE'!$E$11)))","v":""},{"$f":"IF(C1006=\"\",\"\",'TIME TABLE'!$F$11)","v":""},null,{"$f":"IF(F1006=\"\",\"\",'TIME TABLE'!$H$11)","v":""}]
[null,null,{"$f":"IF('TIME TABLE'!$B$12=\"\",\"\",'TIME TABLE'!$B$12)","v":""},null,{"$f":"IF(C1007=\"\",\"\",IF(C1007>0,CONCATENATE('TIME TABLE'!$C$12,'TIME TABLE'!$D$12,'TIME TABLE'!$E$12)))","v":""},{"$f":"IF(C1007=\"\",\"\",'TIME TABLE'!$F$12)","v":""},null,{"$f":"IF(C1007=\"\",\"\",'TIME TABLE'!$H$12)","v":""}]
[null,null,{"$f":"IF('TIME TABLE'!$B$13=\"\",\"\",'TIME TABLE'!$B$13)","v":""},null,{"$f":"IF(C1008=\"\",\"\",IF(C1008>0,CONCATENATE('TIME TABLE'!$C$11,'TIME TABLE'!$D$11,'TIME TABLE'!$E$11)))","v":""},{"$f":"IF(C1008=\"\",\"\",'TIME TABLE'!$F$13)","v":""},null,{"$f":"IF(C1008=\"\",\"\",'TIME TABLE'!$H$13)","v":""}]
[null,null,{"$f":"IF('TIME TABLE'!$B$14=\"\",\"\",'TIME TABLE'!$B$14)","v":""},null,{"$f":"IF(C1009=\"\",\"\",IF(C1009>0,CONCATENATE('TIME TABLE'!$C$11,'TIME TABLE'!$D$11,'TIME TABLE'!$E$11)))","v":""},{"$f":"IF(C1009=\"\",\"\",'TIME TABLE'!$F$14)","v":""},null,{"$f":"IF(C1009=\"\",\"\",'TIME TABLE'!$H$14)","v":""}]
[null,null,"Instructions"]
[null,null,1,"Check the exam time table carefully."]
[null,null,2,"Students must bring the 'Admit Card' and show it to the invigilator(s) on duty and should preserve it for future requirements."]
[null,null,3,"Mobile Phone, Calculator, Digital Watch or any Electronic Device is NOT ALLOWED."]
[null,null,4,"Arrive at the School at least 15 minutes before the start examination."]
[null,null,5,"Student is barred from entering the examination hall 15 minutes after the written examination starts."]
[null,null,6,"Ensure that you use the washroom before arriving for your exam as you will not be permitted to leave during the first hour."]
[null,null,7,"Normally, you are required to answer questionsusing blue or black in . Make sure you bring some spare pens with you."]
[null,null,8,"Keep your eyes on your own paper. Remember, copying is cheating!"]
[null,null,9,"You must remain silent until after you have exited the school building."]
[]
[{"$f":"A987+1","v":31}]
[null,{"$f":"logo","v":{"$error":"#NAME?"}},null,{"$f":"MASTER!$E$11","v":"Govt. Sr. Secondary School Raimalwada"}]
[{"$nulls":3},{"$f":"MASTER!$E$14","v":"P.S.-Bapini (Phalodi)"}]
[null,{"$f":"CONCATENATE(C1025,'TIME TABLE'!$C$5,'ADMIT CARD'!$C1026,$F1026,'ADMIT CARD'!$G1026,'TIME TABLE'!$E$5)","v":"ADMIT CARD(Roll Number●→0)"},{"$f":"CONCATENATE('TIME TABLE'!$B$2,'TIME TABLE'!$F$2)","v":"TEST-I: (2025-26)"},{"$nulls":5},"Paste latest \nphoto of student"]
[null,null,"ADMIT CARD",{"$nulls":6}," "]
[null,null,"Roll Number",null,null,"●→",{"$f":"VLOOKUP(A1021,'STUDENT DETAIL'!$C$8:$I$107,3)","v":0}]
[null,null,"Student's Name",null,null,"●→",{"$f":"IF(OR(G1026=0,G1026=\"\"),\"\",VLOOKUP(A1021,'STUDENT DETAIL'!$C$8:$I$107,4))","v":""}]
[null,null,"Father's Name",null,null,"●→",{"$f":"IF(OR(G1026=0,G1026=\"\"),\"\",VLOOKUP(A1021,'STUDENT DETAIL'!$C$8:$I$107,5))","v":""},null,"Seal and Signature of Head of Institution"]
[null,null,"Mother's Name ",null,null,"●→",{"$f":"IF(OR(G1026=0,G1026=\"\"),\"\",VLOOKUP(A1021,'STUDENT DETAIL'!$C$8:$I$107,6))","v":""}]
[null,null,"Class & Section",null,null,"●→",{"$f":"IF(OR(G1026=0,G1026=\"\"),\"\",IF('STUDENT DETAIL'!$H$4=\"\",'STUDENT DETAIL'!$E$4,CONCATENATE('STUDENT DETAIL'!$E$4,\"   \",\"(\",'STUDENT DETAIL'!$H$4,\")\")))","v":""}]
[null,null,"Date Of Birth",null,null,"●→",{"$f":"IF(OR(G1026=0,G1026=\"\"),\"\",VLOOKUP(A1021,'STUDENT DETAIL'!$C$8:$I$107,7))","v":""}]
[null,null,"Time Table"]
[null,null,"Date (Day)",null,null,"Subject",null,"Time"]
[null,null,{"$f":"IF('TIME TABLE'!$B$5=\"\",\"\",'TIME TABLE'!$B$5)","v":"2022-03-31"},null,{"$f":"IF(C1034=\"\",\"\",IF(C1034>0,CONCATENATE('TIME TABLE'!$C$5,'TIME TABLE'!$D$5,'TIME TABLE'!$E$5)))","v":"(Thursday)"},{"$f":"IF(C1034=\"\",\"\",'TIME TABLE'!$F$5)","v":"Hindi"},null,{"$f":"IF(F1034=\"\",\"\",'TIME TABLE'!$H$5)","v":"09:00 AM to 11:45 AM"}]
[null,null,{"$f":"IF('TIME TABLE'!$B$6=\"\",\"\",'TIME TABLE'!$B$6)","v":"2022-04-01"},null,{"$f":"IF(C1035=\"\",\"\",IF(C1035>0,CONCATENATE('TIME TABLE'!$C$6,'TIME TABLE'!$D$6,'TIME TABLE'!$E$6)))","v":"(Friday)"},{"$f":"IF(C1035=\"\",\"\",'TIME TABLE'!$F$6)","v":"English"},null,{"$f":"IF(F1035=\"\",\"\",'TIME TABLE'!$H$6)","v":"09:00 AM to 11:45 AM"}]
[null,null,{"$f":"IF('TIME TABLE'!$B$7=\"\",\"\",'TIME TABLE'!$B$7)","v":"2022-04-02"},null,{"$f":"IF(C1036=\"\",\"\",IF(C1036>0,CONCATENATE('TIME TABLE'!$C$7,'TIME TABLE'!$D$7,'TIME TABLE'!$E$7)))","v":"(Saturday)"},{"$f":"IF(C1036=\"\",\"\",'TIME TABLE'!$F$7)","v":"Science"},null,{"$f":"IF(F1036=\"\",\"\",'TIME TABLE'!$H$7)","v":"09:00 AM to 11:45 AM"}]
[null,null,{"$f":"IF('TIME TABLE'!$B$8=\"\",\"\",'TIME TABLE'!$B$8)","v":"2022-04-03"},null,{"$f":"IF(C1037=\"\",\"\",IF(C1037>0,CONCATENATE('TIME TABLE'!$C$8,'TIME TABLE'!$D$8,'TIME TABLE'!$E$8)))","v":"(Sunday)"},{"$f":"IF(C1037=\"\",\"\",'TIME TABLE'!$F$8)","v":"Mathematics"},null,{"$f":"IF(F1037=\"\",\"\",'TIME TABLE'!$H$8)","v":"09:00 AM to 11:45 AM"}]
[null,null,{"$f":"IF('TIME TABLE'!$B$9=\"\",\"\",'TIME TABLE'!$B$9)","v":"2022-04-04"},null,{"$f":"IF(C1038=\"\",\"\",IF(C1038>0,CONCATENATE('TIME TABLE'!$C$9,'TIME TABLE'!$D$9,'TIME TABLE'!$E$9)))","v":"(Monday)"},{"$f":"IF(C1038=\"\",\"\",'TIME TABLE'!$F$9)","v":"Social Study"},null,{"$f":"IF(F1038=\"\",\"\",'TIME TABLE'!$H$9)","v":"09:00 AM to 11:45 AM"}]
[null,null,{"$f":"IF('TIME TABLE'!$B$10=\"\",\"\",'TIME TABLE'!$B$10)","v":"2022-04-05"},null,{"$f":"IF(C1039=\"\",\"\",IF(C1039>0,CONCATENATE('TIME TABLE'!$C$10,'TIME TABLE'!$D$10,'TIME TABLE'!$E$10)))","v":"(Tuesday)"},{"$f":"IF(C1039=\"\",\"\",'TIME TABLE'!$F$10)","v":"Sanskrit"},null,{"$f":"IF(F1039=\"\",\"\",'TIME TABLE'!$H$10)","v":"09:00 AM to 11:45 AM"}]
[null,null,{"$f":"IF('TIME TABLE'!$B$11=\"\",\"\",'TIME TABLE'!$B$11)","v":""},null,{"$f":"IF(C1040=\"\",\"\",IF(C1040>0,CONCATENATE('TIME TABLE'!$C$11,'TIME TABLE'!$D$11,'TIME TABLE'!$E$11)))","v":""},{"$f":"IF(C1040=\"\",\"\",'TIME TABLE'!$F$11)","v":""},null,{"$f":"IF(F1040=\"\",\"\",'TIME TABLE'!$H$11)","v":""}]
[null,null,{"$f":"IF('TIME TABLE'!$B$12=\"\",\"\",'TIME TABLE'!$B$12)","v":""},null,{"$f":"IF(C1041=\"\",\"\",IF(C1041>0,CONCATENATE('TIME TABLE'!$C$12,'TIME TABLE'!$D$12,'TIME TABLE'!$E$12)))","v":""},{"$f":"IF(C1041=\"\",\"\",'TIME TABLE'!$F$12)","v":""},null,{"$f":"IF(C1041=\"\",\"\",'TIME TABLE'!$H$12)","v":""}]
[null,null,{"$f":"IF('TIME TABLE'!$B$13=\"\",\"\",'TIME TABLE'!$B$13)","v":""},null,{"$f":"IF(C1042=\"\",\"\",IF(C1042>0,CONCATENATE('TIME TABLE'!$C$11,'TIME TABLE'!$D$11,'TIME TABLE'!$E$11)))","v":""},{"$f":"IF(C1042=\"\",\"\",'TIME TABLE'!$F$13)","v":""},null,{"$f":"IF(C1042=\"\",\"\",'TIME TABLE'!$H$13)","v":""}]
[null,null,{"$f":"IF('TIME TABLE'!$B$14=\"\",\"\",'TIME TABLE'!$B$14)","v":""},null,{"$f":"IF(C1043=\"\",\"\",IF(C1043>0,CONCATENATE('TIME TABLE'!$C$11,'TIME TABLE'!$D$11,'TIME TABLE'!$E$11)))","v":""},{"$f":"IF(C1043=\"\",\"\",'TIME TABLE'!$F$14)","v":""},null,{"$f":"IF(C1043=\"\",\"\",'TIME TABLE'!$H$14)","v":""}]
[null,null,"Instructions"]
[null,null,1,"Check the exam time table carefully."]
[null,null,2,"Students must bring the 'Admit Card' and show it to the invigilator(s) on duty and should preserve it for future requirements."]
[null,null,3,"Mobile Phone, Calculator, Digital Watch or any Electronic Device is NOT ALLOWED."]
[null,null,4,"Arrive at the School at least 15 minutes before the start examination."]
[null,null,5,"Student is barred from entering the examination hall 15 minutes after the written examination starts."]
[null,null,6,"Ensure that you use the washroom before arriving for your exam as you will not be permitted to leave during the first hour."]
[null,null,7,"Normally, you are required to answer questionsusing blue or black in . Make sure you bring some spare pens with you."]
[null,null,8,"Keep your eyes on your own paper. Remember, copying is cheating!"]
[null,null,9,"You must remain silent until after you have exited the school building."]
[]
[{"$f":"A1021+1","v":32}]
[null,{"$f":"logo","v":{"$error":"#NAME?"}},null,{"$f":"MASTER!$E$11","v":"Govt. Sr. Secondary School Raimalwada"}]
[{"$nulls":3},{"$f":"MASTER!$E$14","v":"P.S.-Bapini (Phalodi)"}]
[null,{"$f":"CONCATENATE(C1059,'TIME TABLE'!$C$5,'ADMIT CARD'!$C1060,$F1060,'ADMIT CARD'!$G1060,'TIME TABLE'!$E$5)","v":"ADMIT CARD(Roll Number●→0)"},{"$f":"CONCATENATE('TIME TABLE'!$B$2,'TIME TABLE'!$F$2)","v":"TEST-I: (2025-26)"},{"$nulls":5},"Paste latest \nphoto of student"]
[null,null,"ADMIT CARD",{"$nulls":6}," "]
[null,null,"Roll Number",null,null,"●→",{"$f":"VLOOKUP(A1055,'STUDENT DETAIL'!$C$8:$I$107,3)","v":0}]
[null,null,"Student's Name",null,null,"●→",{"$f":"IF(OR(G1060=0,G1060=\"\"),\"\",VLOOKUP(A1055,'STUDENT DETAIL'!$C$8:$I$107,4))","v":""}]
[null,null,"Father's Name",null,null,"●→",{"$f":"IF(OR(G1060=0,G1060=\"\"),\"\",VLOOKUP(A1055,'STUDENT DETAIL'!$C$8:$I$107,5))","v":""},null,"Seal and Signature of Head of Institution"]
[null,null,"Mother's Name ",null,null,"●→",{"$f":"IF(OR(G1060=0,G1060=\"\"),\"\",VLOOKUP(A1055,'STUDENT DETAIL'!$C$8:$I$107,6))","v":""}]
[null,null,"Class & Section",null,null,"●→",{"$f":"IF(OR(G1060=0,G1060=\"\"),\"\",IF('STUDENT DETAIL'!$H$4=\"\",'STUDENT DETAIL'!$E$4,CONCATENATE('STUDENT DETAIL'!$E$4,\"   \",\"(\",'STUDENT DETAIL'!$H$4,\")\")))","v":""}]
[null,null,"Date Of Birth",null,null,"●→",{"$f":"IF(OR(G1060=0,G1060=\"\"),\"\",VLOOKUP(A1055,'STUDENT DETAIL'!$C$8:$I$107,7))","v":""}]
[null,null,"Time Table"]
[null,null,"Date (Day)",null,null,"Subject",null,"Time"]
[null,null,{"$f":"IF('TIME TABLE'!$B$5=\"\",\"\",'TIME TABLE'!$B$5)","v":"2022-03-31"},null,{"$f":"IF(C1068=\"\",\"\",IF(C1068>0,CONCATENATE('TIME TABLE'!$C$5,'TIME TABLE'!$D$5,'TIME TABLE'!$E$5)))","v":"(Thursday)"},{"$f":"IF(C1068=\"\",\"\",'TIME TABLE'!$F$5)","v":"Hindi"},null,{"$f":"IF(F1068=\"\",\"\",'TIME TABLE'!$H$5)","v":"09:00 AM to 11:45 AM"}]
[null,null,{"$f":"IF('TIME TABLE'!$B$6=\"\",\"\",'TIME TABLE'!$B$6)","v":"2022-04-01"},null,{"$f":"IF(C1069=\"\",\"\",IF(C1069>0,CONCATENATE('TIME TABLE'!$C$6,'TIME TABLE'!$D$6,'TIME TABLE'!$E$6)))","v":"(Friday)"},{"$f":"IF(C1069=\"\",\"\",'TIME TABLE'!$F$6)","v":"English"},null,{"$f":"IF(F1069=\"\",\"\",'TIME TABLE'!$H$6)","v":"09:00 AM to 11:45 AM"}]
[null,null,{"$f":"IF('TIME TABLE'!$B$7=\"\",\"\",'TIME TABLE'!$B$7)","v":"2022-04-02"},null,{"$f":"IF(C1070=\"\",\"\",IF(C1070>0,CONCATENATE('TIME TABLE'!$C$7,'TIME TABLE'!$D$7,'TIME TABLE'!$E$7)))","v":"(Saturday)"},{"$f":"IF(C1070=\"\",\"\",'TIME TABLE'!$F$7)","v":"Science"},null,{"$f":"IF(F1070=\"\",\"\",'TIME TABLE'!$H$7)","v":"09:00 AM to 11:45 AM"}]
[null,null,{"$f":"IF('TIME TABLE'!$B$8=\"\",\"\",'TIME TABLE'!$B$8)","v":"2022-04-03"},null,{"$f":"IF(C1071=\"\",\"\",IF(C1071>0,CONCATENATE('TIME TABLE'!$C$8,'TIME TABLE'!$D$8,'TIME TABLE'!$E$8)))","v":"(Sunday)"},{"$f":"IF(C1071=\"\",\"\",'TIME TABLE'!$F$8)","v":"Mathematics"},null,{"$f":"IF(F1071=\"\",\"\",'TIME TABLE'!$H$8)","v":"09:00 AM to 11:45 AM"}]
[null,null,{"$f":"IF('TIME TABLE'!$B$9=\"\",\"\",'TIME TABLE'!$B$9)","v":"2022-04-04"},null,{"$f":"IF(C1072=\"\",\"\",IF(C1072>0,CONCATENATE('TIME TABLE'!$C$9,'TIME TABLE'!$D$9,'TIME TABLE'!$E$9)))","v":"(Monday)"},{"$f":"IF(C1072=\"\",\"\",'TIME TABLE'!$F$9)","v":"Social Study"},null,{"$f":"IF(F1072=\"\",\"\",'TIME TABLE'!$H$9)","v":"09:00 AM to 11:45 AM"}]
[null,null,{"$f":"IF('TIME TABLE'!$B$10=\"\",\"\",'TIME TABLE'!$B$10)","v":"2022-04-05"},null,{"$f":"IF(C1073=\"\",\"\",IF(C1073>0,CONCATENATE('TIME TABLE'!$C$10,'TIME TABLE'!$D$10,'TIME TABLE'!$E$10)))","v":"(Tuesday)"},{"$f":"IF(C1073=\"\",\"\",'TIME TABLE'!$F$10)","v":"Sanskrit"},null,{"$f":"IF(F1073=\"\",\"\",'TIME TABLE'!$H$10)","v":"09:00 AM to 11:45 AM"}]
[null,null,{"$f":"IF('TIME TABLE'!$B$11=\"\",\"\",'TIME TABLE'!$B$11)","v":""},null,{"$f":"IF(C1074=\"\",\"\",IF(C1074>0,CONCATENATE('TIME TABLE'!$C$11,'TIME TABLE'!$D$11,'TIME TABLE'!$E$11)))","v":""},{"$f":"IF(C1074=\"\",\"\",'TIME TABLE'!$F$11)","v":""},null,{"$f":"IF(F1074=\"\",\"\",'TIME TABLE'!$H$11)","v":""}]
[null,null,{"$f":"IF('TIME TABLE'!$B$12=\"\",\"\",'TIME TABLE'!$B$12)","v":""},null,{"$f":"IF(C1075=\"\",\"\",IF(C1075>0,CONCATENATE('TIME TABLE'!$C$12,'TIME TABLE'!$D$12,'TIME TABLE'!$E$12)))","v":""},{"$f":"IF(C1075=\"\",\"\",'TIME TABLE'!$F$12)","v":""},null,{"$f":"IF(C1075=\"\",\"\",'TIME TABLE'!$H$12)","v":""}]
[null,null,{"$f":"IF('TIME TABLE'!$B$13=\"\",\"\",'TIME TABLE'!$B$13)","v":""},null,{"$f":"IF(C1076=\"\",\"\",IF(C1076>0,CONCATENATE('TIME TABLE'!$C$11,'TIME TABLE'!$D$11,'TIME TABLE'!$E$11)))","v":""},{"$f":"IF(C1076=\"\",\"\",'TIME TABLE'!$F$13)","v":""},null,{"$f":"IF(C1076=\"\",\"\",'TIME TABLE'!$H$13)","v":""}]
[null,null,{"$f":"IF('TIME TABLE'!$B$14=\"\",\"\",'TIME TABLE'!$B$14)","v":""},null,{"$f":"IF(C1077=\"\",\"\",IF(C1077>0,CONCATENATE('TIME TABLE'!$C$11,'TIME TABLE'!$D$11,'TIME TABLE'!$E$11)))","v":""},{"$f":"IF(C1077=\"\",\"\",'TIME TABLE'!$F$14)","v":""},null,{"$f":"IF(C1077=\"\",\"\",'TIME TABLE'!$H$14)","v":""}]
[null,null,"Instructions"]
[null,null,1,"Check the exam time table carefully."]
[null,null,2,"Students must bring the 'Admit Card' and show it to the invigilator(s) on duty and should preserve it for future requirements."]
[null,null,3,"Mobile Phone, Calculator, Digital Watch or any Electronic Device is NOT ALLOWED."]
[null,null,4,"Arrive at the School at least 15 minutes before the start examination."]
[null,null,5,"Student is barred from entering the examination hall 15 minutes after the written examination starts."]
[null,null,6,"Ensure that you use the washroom before arriving for your exam as you will not be permitted to leave during the first hour."]
[null,null,7,"Normally, you are required to answer questionsusing blue or black in . Make sure you bring some spare pens with you."]
[null,null,8,"Keep your eyes on your own paper. Remember, copying is cheating!"]
[null,null,9,"You must remain silent until after you have exited the school building."]
[]
[{"$f":"A1055+1","v":33}]
[null,{"$f":"logo","v":{"$error":"#NAME?"}},null,{"$f":"MASTER!$E$11","v":"Govt. Sr. Secondary School Raimalwada"}]
[{"$nulls":3},{"$f":"MASTER!$E$14","v":"P.S.-Bapini (Phalodi)"}]
[null,{"$f":"CONCATENATE(C1093,'TIME TABLE'!$C$5,'ADMIT CARD'!$C1094,$F1094,'ADMIT CARD'!$G1094,'TIME TABLE'!$E$5)","v":"ADMIT CARD(Roll Number●→0)"},{"$f":"CONCATENATE('TIME TABLE'!$B$2,'TIME TABLE'!$F$2)","v":"TEST-I: (2025-26)"},{"$nulls":5},"Paste latest \nphoto of student"]
[null,null,"ADMIT CARD",{"$nulls":6}," "]
[null,null,"Roll Number",null,null,"●→",{"$f":"VLOOKUP(A1089,'STUDENT DETAIL'!$C$8:$I$107,3)","v":0}]
[null,null,"Student's Name",null,null,"●→",{"$f":"IF(OR(G1094=0,G1094=\"\"),\"\",VLOOKUP(A1089,'STUDENT DETAIL'!$C$8:$I$107,4))","v":""}]
[null,null,"Father's Name",null,null,"●→",{"$f":"IF(OR(G1094=0,G1094=\"\"),\"\",VLOOKUP(A1089,'STUDENT DETAIL'!$C$8:$I$107,5))","v":""},null,"Seal and Signature of Head of Institution"]
[null,null,"Mother's Name ",null,null,"●→",{"$f":"IF(OR(G1094=0,G1094=\"\"),\"\",VLOOKUP(A1089,'STUDENT DETAIL'!$C$8:$I$107,6))","v":""}]
[null,null,"Class & Section",null,null,"●→",{"$f":"IF(OR(G1094=0,G1094=\"\"),\"\",IF('STUDENT DETAIL'!$H$4=\"\",'STUDENT DETAIL'!$E$4,CONCATENATE('STUDENT DETAIL'!$E$4,\"   \",\"(\",'STUDENT DETAIL'!$H$4,\")\")))","v":""}]
[null,null,"Date Of Birth",null,null,"●→",{"$f":"IF(OR(G1094=0,G1094=\"\"),\"\",VLOOKUP(A1089,'STUDENT DETAIL'!$C$8:$I$107,7))","v":""}]
[null,null,"Time Table"]
[null,null,"Date (Day)",null,null,"Subject",null,"Time"]
[null,null,{"$f":"IF('TIME TABLE'!$B$5=\"\",\"\",'TIME TABLE'!$B$5)","v":"2022-03-31"},null,{"$f":"IF(C1102=\"\",\"\",IF(C1102>0,CONCATENATE('TIME TABLE'!$C$5,'TIME TABLE'!$D$5,'TIME TABLE'!$E$5)))","v":"(Thursday)"},{"$f":"IF(C1102=\"\",\"\",'TIME TABLE'!$F$5)","v":"Hindi"},null,{"$f":"IF(F1102=\"\",\"\",'TIME TABLE'!$H$5)","v":"09:00 AM to 11:45 AM"}]
[null,null,{"$f":"IF('TIME TABLE'!$B$6=\"\",\"\",'TIME TABLE'!$B$6)","v":"2022-04-01"},null,{"$f":"IF(C1103=\"\",\"\",IF(C1103>0,CONCATENATE('TIME TABLE'!$C$6,'TIME TABLE'!$D$6,'TIME TABLE'!$E$6)))","v":"(Friday)"},{"$f":"IF(C1103=\"\",\"\",'TIME TABLE'!$F$6)","v":"English"},null,{"$f":"IF(F1103=\"\",\"\",'TIME TABLE'!$H$6)","v":"09:00 AM to 11:45 AM"}]
[null,null,{"$f":"IF('TIME TABLE'!$B$7=\"\",\"\",'TIME TABLE'!$B$7)","v":"2022-04-02"},null,{"$f":"IF(C1104=\"\",\"\",IF(C1104>0,CONCATENATE('TIME TABLE'!$C$7,'TIME TABLE'!$D$7,'TIME TABLE'!$E$7)))","v":"(Saturday)"},{"$f":"IF(C1104=\"\",\"\",'TIME TABLE'!$F$7)","v":"Science"},null,{"$f":"IF(F1104=\"\",\"\",'TIME TABLE'!$H$7)","v":"09:00 AM to 11:45 AM"}]
[null,null,{"$f":"IF('TIME TABLE'!$B$8=\"\",\"\",'TIME TABLE'!$B$8)","v":"2022-04-03"},null,{"$f":"IF(C1105=\"\",\"\",IF(C1105>0,CONCATENATE('TIME TABLE'!$C$8,'TIME TABLE'!$D$8,'TIME TABLE'!$E$8)))","v":"(Sunday)"},{"$f":"IF(C1105=\"\",\"\",'TIME TABLE'!$F$8)","v":"Mathematics"},null,{"$f":"IF(F1105=\"\",\"\",'TIME TABLE'!$H$8)","v":"09:00 AM to 11:45 AM"}]
[null,null,{"$f":"IF('TIME TABLE'!$B$9=\"\",\"\",'TIME TABLE'!$B$9)","v":"2022-04-04"},null,{"$f":"IF(C1106=\"\",\"\",IF(C1106>0,CONCATENATE('TIME TABLE'!$C$9,'TIME TABLE'!$D$9,'TIME TABLE'!$E$9)))","v":"(Monday)"},{"$f":"IF(C1106=\"\",\"\",'TIME TABLE'!$F$9)","v":"Social Study"},null,{"$f":"IF(F1106=\"\",\"\",'TIME TABLE'!$H$9)","v":"09:00 AM to 11:45 AM"}]
[null,null,{"$f":"IF('TIME TABLE'!$B$10=\"\",\"\",'TIME TABLE'!$B$10)","v":"2022-04-05"},null,{"$f":"IF(C1107=\"\",\"\",IF(C1107>0,CONCATENATE('TIME TABLE'!$C$10,'TIME TABLE'!$D$10,'TIME TABLE'!$E$10)))","v":"(Tuesday)"},{"$f":"IF(C1107=\"\",\"\",'TIME TABLE'!$F$10)","v":"Sanskrit"},null,{"$f":"IF(F1107=\"\",\"\",'TIME TABLE'!$H$10)","v":"09:00 AM to 11:45 AM"}]
[null,null,{"$f":"IF('TIME TABLE'!$B$11=\"\",\"\",'TIME TABLE'!$B$11)","v":""},null,{"$f":"IF(C1108=\"\",\"\",IF(C1108>0,CONCATENATE('TIME TABLE'!$C$11,'TIME TABLE'!$D$11,'TIME TABLE'!$E$11)))","v":""},{"$f":"IF(C1108=\"\",\"\",'TIME TABLE'!$F$11)","v":""},null,{"$f":"IF(F1108=\"\",\"\",'TIME TABLE'!$H$11)","v":""}]
[null,null,{"$f":"IF('TIME TABLE'!$B$12=\"\",\"\",'TIME TABLE'!$B$12)","v":""},null,{"$f":"IF(C1109=\"\",\"\",IF(C1109>0,CONCATENATE('TIME TABLE'!$C$12,'TIME TABLE'!$D$12,'TIME TABLE'!$E$12)))","v":""},{"$f":"IF(C1109=\"\",\"\",'TIME TABLE'!$F$12)","v":""},null,{"$f":"IF(C1109=\"\",\"\",'TIME TABLE'!$H$12)","v":""}]
[null,null,{"$f":"IF('TIME TABLE'!$B$13=\"\",\"\",'TIME TABLE'!$B$13)","v":""},null,{"$f":"IF(C1110=\"\",\"\",IF(C1110>0,CONCATENATE('TIME TABLE'!$C$11,'TIME TABLE'!$D$11,'TIME TABLE'!$E$11)))","v":""},{"$f":"IF(C1110=\"\",\"\",'TIME TABLE'!$F$13)","v":""},null,{"$f":"IF(C1110=\"\",\"\",'TIME TABLE'!$H$13)","v":""}]
[null,null,{"$f":"IF('TIME TABLE'!$B$14=\"\",\"\",'TIME TABLE'!$B$14)","v":""},null,{"$f":"IF(C1111=\"\",\"\",IF(C1111>0,CONCATENATE('TIME TABLE'!$C$11,'TIME TABLE'!$D$11,'TIME TABLE'!$E$11)))","v":""},{"$f":"IF(C1111=\"\",\"\",'TIME TABLE'!$F$14)","v":""},null,{"$f":"IF(C1111=\"\",\"\",'TIME TABLE'!$H$14)","v":""}]
[null,null,"Instructions"]
[null,null,1,"Check the exam time table carefully."]
[null,null,2,"Students must bring the 'Admit Card' and show it to the invigilator(s) on duty and should preserve it for future requirements."]
[null,null,3,"Mobile Phone, Calculator, Digital Watch or any Electronic Device is NOT ALLOWED."]
[null,null,4,"Arrive at the School at least 15 minutes before the start examination."]
[null,null,5,"Student is barred from entering the examination hall 15 minutes after the written examination starts."]
[null,null,6,"Ensure that you use the washroom before arriving for your exam as you will not be permitted to leave during the first hour."]
[null,null,7,"Normally, you are required to answer questionsusing blue or black in . Make sure you bring some spare pens with you."]
[null,null,8,"Keep your eyes on your own paper. Remember, copying is cheating!"]
[null,null,9,"You must remain silent until after you have exited the school building."]
[]
[{"$f":"A1089+1","v":34}]
[null,{"$f":"logo","v":{"$error":"#NAME?"}},null,{"$f":"MASTER!$E$11","v":"Govt. Sr. Secondary School Raimalwada"}]
[{"$nulls":3},{"$f":"MASTER!$E$14","v":"P.S.-Bapini (Phalodi)"}]
[null,{"$f":"CONCATENATE(C1127,'TIME TABLE'!$C$5,'ADMIT CARD'!$C1128,$F1128,'ADMIT CARD'!$G1128,'TIME TABLE'!$E$5)","v":"ADMIT CARD(Roll Number●→0)"},{"$f":"CONCATENATE('TIME TABLE'!$B$2,'TIME TABLE'!$F$2)","v":"TEST-I: (2025-26)"},{"$nulls":5},"Paste latest \nphoto of student"]
[null,null,"ADMIT CARD",{"$nulls":6}," "]
[null,null,"Roll Number",null,null,"●→",{"$f":"VLOOKUP(A1123,'STUDENT DETAIL'!$C$8:$I$107,3)","v":0}]
[null,null,"Student's Name",null,null,"●→",{"$f":"IF(OR(G1128=0,G1128=\"\"),\"\",VLOOKUP(A1123,'STUDENT DETAIL'!$C$8:$I$107,4))","v":""}]
[null,null,"Father's Name",null,null,"●→",{"$f":"IF(OR(G1128=0,G1128=\"\"),\"\",VLOOKUP(A1123,'STUDENT DETAIL'!$C$8:$I$107,5))","v":""},null,"Seal and Signature of Head of Institution"]
[null,null,"Mother's Name ",null,null,"●→",{"$f":"IF(OR(G1128=0,G1128=\"\"),\"\",VLOOKUP(A1123,'STUDENT DETAIL'!$C$8:$I$107,6))","v":""}]
[null,null,"Class & Section",null,null,"●→",{"$f":"IF(OR(G1128=0,G1128=\"\"),\"\",IF('STUDENT DETAIL'!$H$4=\"\",'STUDENT DETAIL'!$E$4,CONCATENATE('STUDENT DETAIL'!$E$4,\"   \",\"(\",'STUDENT DETAIL'!$H$4,\")\")))","v":""}]
[null,null,"Date Of Birth",null,null,"●→",{"$f":"IF(OR(G1128=0,G1128=\"\"),\"\",VLOOKUP(A1123,'STUDENT DETAIL'!$C$8:$I$107,7))","v":""}]
[null,null,"Time Table"]
[null,null,"Date (Day)",null,null,"Subject",null,"Time"]
[null,null,{"$f":"IF('TIME TABLE'!$B$5=\"\",\"\",'TIME TABLE'!$B$5)","v":"2022-03-31"},null,{"$f":"IF(C1136=\"\",\"\",IF(C1136>0,CONCATENATE('TIME TABLE'!$C$5,'TIME TABLE'!$D$5,'TIME TABLE'!$E$5)))","v":"(Thursday)"},{"$f":"IF(C1136=\"\",\"\",'TIME TABLE'!$F$5)","v":"Hindi"},null,{"$f":"IF(F1136=\"\",\"\",'TIME TABLE'!$H$5)","v":"09:00 AM to 11:45 AM"}]
[null,null,{"$f":"IF('TIME TABLE'!$B$6=\"\",\"\",'TIME TABLE'!$B$6)","v":"2022-04-01"},null,{"$f":"IF(C1137=\"\",\"\",IF(C1137>0,CONCATENATE('TIME TABLE'!$C$6,'TIME TABLE'!$D$6,'TIME TABLE'!$E$6)))","v":"(Friday)"},{"$f":"IF(C1137=\"\",\"\",'TIME TABLE'!$F$6)","v":"English"},null,{"$f":"IF(F1137=\"\",\"\",'TIME TABLE'!$H$6)","v":"09:00 AM to 11:45 AM"}]
[null,null,{"$f":"IF('TIME TABLE'!$B$7=\"\",\"\",'TIME TABLE'!$B$7)","v":"2022-04-02"},null,{"$f":"IF(C1138=\"\",\"\",IF(C1138>0,CONCATENATE('TIME TABLE'!$C$7,'TIME TABLE'!$D$7,'TIME TABLE'!$E$7)))","v":"(Saturday)"},{"$f":"IF(C1138=\"\",\"\",'TIME TABLE'!$F$7)","v":"Science"},null,{"$f":"IF(F1138=\"\",\"\",'TIME TABLE'!$H$7)","v":"09:00 AM to 11:45 AM"}]
[null,null,{"$f":"IF('TIME TABLE'!$B$8=\"\",\"\",'TIME TABLE'!$B$8)","v":"2022-04-03"},null,{"$f":"IF(C1139=\"\",\"\",IF(C1139>0,CONCATENATE('TIME TABLE'!$C$8,'TIME TABLE'!$D$8,'TIME TABLE'!$E$8)))","v":"(Sunday)"},{"$f":"IF(C1139=\"\",\"\",'TIME TABLE'!$F$8)","v":"Mathematics"},null,{"$f":"IF(F1139=\"\",\"\",'TIME TABLE'!$H$8)","v":"09:00 AM to 11:45 AM"}]
[null,null,{"$f":"IF('TIME TABLE'!$B$9=\"\",\"\",'TIME TABLE'!$B$9)","v":"2022-04-04"},null,{"$f":"IF(C1140=\"\",\"\",IF(C1140>0,CONCATENATE('TIME TABLE'!$C$9,'TIME TABLE'!$D$9,'TIME TABLE'!$E$9)))","v":"(Monday)"},{"$f":"IF(C1140=\"\",\"\",'TIME TABLE'!$F$9)","v":"Social Study"},null,{"$f":"IF(F1140=\"\",\"\",'TIME TABLE'!$H$9)","v":"09:00 AM to 11:45 AM"}]
[null,null,{"$f":"IF('TIME TABLE'!$B$10=\"\",\"\",'TIME TABLE'!$B$10)","v":"2022-04-05"},null,{"$f":"IF(C1141=\"\",\"\",IF(C1141>0,CONCATENATE('TIME TABLE'!$C$10,'TIME TABLE'!$D$10,'TIME TABLE'!$E$10)))","v":"(Tuesday)"},{"$f":"IF(C1141=\"\",\"\",'TIME TABLE'!$F$10)","v":"Sanskrit"},null,{"$f":"IF(F1141=\"\",\"\",'TIME TABLE'!$H$10)","v":"09:00 AM to 11:45 AM"}]
[null,null,{"$f":"IF('TIME TABLE'!$B$11=\"\",\"\",'TIME TABLE'!$B$11)","v":""},null,{"$f":"IF(C1142=\"\",\"\",IF(C1142>0,CONCATENATE('TIME TABLE'!$C$11,'TIME TABLE'!$D$11,'TIME TABLE'!$E$11)))","v":""},{"$f":"IF(C1142=\"\",\"\",'TIME TABLE'!$F$11)","v":""},null,{"$f":"IF(F1142=\"\",\"\",'TIME TABLE'!$H$11)","v":""}]
[null,null,{"$f":"IF('TIME TABLE'!$B$12=\"\",\"\",'TIME TABLE'!$B$12)","v":""},null,{"$f":"IF(C1143=\"\",\"\",IF(C1143>0,CONCATENATE('TIME TABLE'!$C$12,'TIME TABLE'!$D$12,'TIME TABLE'!$E$12)))","v":""},{"$f":"IF(C1143=\"\",\"\",'TIME TABLE'!$F$12)","v":""},null,{"$f":"IF(C1143=\"\",\"\",'TIME TABLE'!$H$12)","v":""}]
[null,null,{"$f":"IF('TIME TABLE'!$B$13=\"\",\"\",'TIME TABLE'!$B$13)","v":""},null,{"$f":"IF(C1144=\"\",\"\",IF(C1144>0,CONCATENATE('TIME TABLE'!$C$11,'TIME TABLE'!$D$11,'TIME TABLE'!$E$11)))","v":""},{"$f":"IF(C1144=\"\",\"\",'TIME TABLE'!$F$13)","v":""},null,{"$f":"IF(C1144=\"\",\"\",'TIME TABLE'!$H$13)","v":""}]
[null,null,{"$f":"IF('TIME TABLE'!$B$14=\"\",\"\",'TIME TABLE'!$B$14)","v":""},null,{"$f":"IF(C1145=\"\",\"\",IF(C1145>0,CONCATENATE('TIME TABLE'!$C$11,'TIME TABLE'!$D$11,'TIME TABLE'!$E$11)))","v":""},{"$f":"IF(C1145=\"\",\"\",'TIME TABLE'!$F$14)","v":""},null,{"$f":"IF(C1145=\"\",\"\",'TIME TABLE'!$H$14)","v":""}]
[null,null,"Instructions"]
[null,null,1,"Check the exam time table carefully."]
[null,null,2,"Students must bring the 'Admit Card' and show it to the invigilator(s) on duty and should preserve it for future requirements."]
[null,null,3,"Mobile Phone, Calculator, Digital Watch or any Electronic Device is NOT ALLOWED."]
[null,null,4,"Arrive at the School at least 15 minutes before the start examination."]
[null,null,5,"Student is barred from entering the examination hall 15 minutes after the written examination starts."]
[null,null,6,"Ensure that you use the washroom before arriving for your exam as you will not be permitted to leave during the first hour."]
[null,null,7,"Normally, you are required to answer questionsusing blue or black in . Make sure you bring some spare pens with you."]
[null,null,8,"Keep your eyes on your own paper. Remember, copying is cheating!"]
[null,null,9,"You must remain silent until after you have exited the school building."]
[]
[{"$f":"A1123+1","v":35}]
[null,{"$f":"logo","v":{"$error":"#NAME?"}},null,{"$f":"MASTER!$E$11","v":"Govt. Sr. Secondary School Raimalwada"}]
[{"$nulls":3},{"$f":"MASTER!$E$14","v":"P.S.-Bapini (Phalodi)"}]
[null,{"$f":"CONCATENATE(C1161,'TIME TABLE'!$C$5,'ADMIT CARD'!$C1162,$F1162,'ADMIT CARD'!$G1162,'TIME TABLE'!$E$5)","v":"ADMIT CARD(Roll Number●→0)"},{"$f":"CONCATENATE('TIME TABLE'!$B$2,'TIME TABLE'!$F$2)","v":"TEST-I: (2025-26)"},{"$nulls":5},"Paste latest \nphoto of student"]
[null,null,"ADMIT CARD",{"$nulls":6}," "]
[null,null,"Roll Number",null,null,"●→",{"$f":"VLOOKUP(A1157,'STUDENT DETAIL'!$C$8:$I$107,3)","v":0}]
[null,null,"Student's Name",null,null,"●→",{"$f":"IF(OR(G1162=0,G1162=\"\"),\"\",VLOOKUP(A1157,'STUDENT DETAIL'!$C$8:$I$107,4))","v":""}]
[null,null,"Father's Name",null,null,"●→",{"$f":"IF(OR(G1162=0,G1162=\"\"),\"\",VLOOKUP(A1157,'STUDENT DETAIL'!$C$8:$I$107,5))","v":""},null,"Seal and Signature of Head of Institution"]
[null,null,"Mother's Name ",null,null,"●→",{"$f":"IF(OR(G1162=0,G1162=\"\"),\"\",VLOOKUP(A1157,'STUDENT DETAIL'!$C$8:$I$107,6))","v":""}]
[null,null,"Class & Section",null,null,"●→",{"$f":"IF(OR(G1162=0,G1162=\"\"),\"\",IF('STUDENT DETAIL'!$H$4=\"\",'STUDENT DETAIL'!$E$4,CONCATENATE('STUDENT DETAIL'!$E$4,\"   \",\"(\",'STUDENT DETAIL'!$H$4,\")\")))","v":""}]
[null,null,"Date Of Birth",null,null,"●→",{"$f":"IF(OR(G1162=0,G1162=\"\"),\"\",VLOOKUP(A1157,'STUDENT DETAIL'!$C$8:$I$107,7))","v":""}]
[null,null,"Time Table"]
[null,null,"Date (Day)",null,null,"Subject",null,"Time"]
[null,null,{"$f":"IF('TIME TABLE'!$B$5=\"\",\"\",'TIME TABLE'!$B$5)","v":"2022-03-31"},null,{"$f":"IF(C1170=\"\",\"\",IF(C1170>0,CONCATENATE('TIME TABLE'!$C$5,'TIME TABLE'!$D$5,'TIME TABLE'!$E$5)))","v":"(Thursday)"},{"$f":"IF(C1170=\"\",\"\",'TIME TABLE'!$F$5)","v":"Hindi"},null,{"$f":"IF(F1170=\"\",\"\",'TIME TABLE'!$H$5)","v":"09:00 AM to 11:45 AM"}]
[null,null,{"$f":"IF('TIME TABLE'!$B$6=\"\",\"\",'TIME TABLE'!$B$6)","v":"2022-04-01"},null,{"$f":"IF(C1171=\"\",\"\",IF(C1171>0,CONCATENATE('TIME TABLE'!$C$6,'TIME TABLE'!$D$6,'TIME TABLE'!$E$6)))","v":"(Friday)"},{"$f":"IF(C1171=\"\",\"\",'TIME TABLE'!$F$6)","v":"English"},null,{"$f":"IF(F1171=\"\",\"\",'TIME TABLE'!$H$6)","v":"09:00 AM to 11:45 AM"}]
[null,null,{"$f":"IF('TIME TABLE'!$B$7=\"\",\"\",'TIME TABLE'!$B$7)","v":"2022-04-02"},null,{"$f":"IF(C1172=\"\",\"\",IF(C1172>0,CONCATENATE('TIME TABLE'!$C$7,'TIME TABLE'!$D$7,'TIME TABLE'!$E$7)))","v":"(Saturday)"},{"$f":"IF(C1172=\"\",\"\",'TIME TABLE'!$F$7)","v":"Science"},null,{"$f":"IF(F1172=\"\",\"\",'TIME TABLE'!$H$7)","v":"09:00 AM to 11:45 AM"}]
[null,null,{"$f":"IF('TIME TABLE'!$B$8=\"\",\"\",'TIME TABLE'!$B$8)","v":"2022-04-03"},null,{"$f":"IF(C1173=\"\",\"\",IF(C1173>0,CONCATENATE('TIME TABLE'!$C$8,'TIME TABLE'!$D$8,'TIME TABLE'!$E$8)))","v":"(Sunday)"},{"$f":"IF(C1173=\"\",\"\",'TIME TABLE'!$F$8)","v":"Mathematics"},null,{"$f":"IF(F1173=\"\",\"\",'TIME TABLE'!$H$8)","v":"09:00 AM to 11:45 AM"}]
[null,null,{"$f":"IF('TIME TABLE'!$B$9=\"\",\"\",'TIME TABLE'!$B$9)","v":"2022-04-04"},null,{"$f":"IF(C1174=\"\",\"\",IF(C1174>0,CONCATENATE('TIME TABLE'!$C$9,'TIME TABLE'!$D$9,'TIME TABLE'!$E$9)))","v":"(Monday)"},{"$f":"IF(C1174=\"\",\"\",'TIME TABLE'!$F$9)","v":"Social Study"},null,{"$f":"IF(F1174=\"\",\"\",'TIME TABLE'!$H$9)","v":"09:00 AM to 11:45 AM"}]
[null,null,{"$f":"IF('TIME TABLE'!$B$10=\"\",\"\",'TIME TABLE'!$B$10)","v":"2022-04-05"},null,{"$f":"IF(C1175=\"\",\"\",IF(C1175>0,CONCATENATE('TIME TABLE'!$C$10,'TIME TABLE'!$D$10,'TIME TABLE'!$E$10)))","v":"(Tuesday)"},{"$f":"IF(C1175=\"\",\"\",'TIME TABLE'!$F$10)","v":"Sanskrit"},null,{"$f":"IF(F1175=\"\",\"\",'TIME TABLE'!$H$10)","v":"09:00 AM to 11:45 AM"}]
[null,null,{"$f":"IF('TIME TABLE'!$B$11=\"\",\"\",'TIME TABLE'!$B$11)","v":""},null,{"$f":"IF(C1176=\"\",\"\",IF(C1176>0,CONCATENATE('TIME TABLE'!$C$11,'TIME TABLE'!$D$11,'TIME TABLE'!$E$11)))","v":""},{"$f":"IF(C1176=\"\",\"\",'TIME TABLE'!$F$11)","v":""},null,{"$f":"IF(F1176=\"\",\"\",'TIME TABLE'!$H$11)","v":""}]
[null,null,{"$f":"IF('TIME TABLE'!$B$12=\"\",\"\",'TIME TABLE'!$B$12)","v":""},null,{"$f":"IF(C1177=\"\",\"\",IF(C1177>0,CONCATENATE('TIME TABLE'!$C$12,'TIME TABLE'!$D$12,'TIME TABLE'!$E$12)))","v":""},{"$f":"IF(C1177=\"\",\"\",'TIME TABLE'!$F$12)","v":""},null,{"$f":"IF(C1177=\"\",\"\",'TIME TABLE'!$H$12)","v":""}]
[null,null,{"$f":"IF('TIME TABLE'!$B$13=\"\",\"\",'TIME TABLE'!$B$13)","v":""},null,{"$f":"IF(C1178=\"\",\"\",IF(C1178>0,CONCATENATE('TIME TABLE'!$C$11,'TIME TABLE'!$D$11,'TIME TABLE'!$E$11)))","v":""},{"$f":"IF(C1178=\"\",\"\",'TIME TABLE'!$F$13)","v":""},null,{"$f":"IF(C1178=\"\",\"\",'TIME TABLE'!$H$13)","v":""}]
[null,null,{"$f":"IF('TIME TABLE'!$B$14=\"\",\"\",'TIME TABLE'!$B$14)","v":""},null,{"$f":"IF(C1179=\"\",\"\",IF(C1179>0,CONCATENATE('TIME TABLE'!$C$11,'TIME TABLE'!$D$11,'TIME TABLE'!$E$11)))","v":""},{"$f":"IF(C1179=\"\",\"\",'TIME TABLE'!$F$14)","v":""},null,{"$f":"IF(C1179=\"\",\"\",'TIME TABLE'!$H$14)","v":""}]
[null,null,"Instructions"]
[null,null,1,"Check the exam time table carefully."]
[null,null,2,"Students must bring the 'Admit Card' and show it to the invigilator(s) on duty and should preserve it for future requirements."]
[null,null,3,"Mobile Phone, Calculator, Digital Watch or any Electronic Device is NOT ALLOWED."]
[null,null,4,"Arrive at the School at least 15 minutes before the start examination."]
[null,null,5,"Student is barred from entering the examination hall 15 minutes after the written examination starts."]
[null,null,6,"Ensure that you use the washroom before arriving for your exam as you will not be permitted to leave during the first hour."]
[null,null,7,"Normally, you are required to answer questionsusing blue or black in . Make sure you bring some spare pens with you."]
[null,null,8,"Keep your eyes on your own paper. Remember, copying is cheating!"]
[null,null,9,"You must remain silent until after you have exited the school building."]
[]
[{"$f":"A1157+1","v":36}]
[null,{"$f":"logo","v":{"$error":"#NAME?"}},null,{"$f":"MASTER!$E$11","v":"Govt. Sr. Secondary School Raimalwada"}]
[{"$nulls":3},{"$f":"MASTER!$E$14","v":"P.S.-Bapini (Phalodi)"}]
[null,{"$f":"CONCATENATE(C1195,'TIME TABLE'!$C$5,'ADMIT CARD'!$C1196,$F1196,'ADMIT CARD'!$G1196,'TIME TABLE'!$E$5)","v":"ADMIT CARD(Roll Number●→0)"},{"$f":"CONCATENATE('TIME TABLE'!$B$2,'TIME TABLE'!$F$2)","v":"TEST-I: (2025-26)"},{"$nulls":5},"Paste latest \nphoto of student"]
[null,null,"ADMIT CARD",{"$nulls":6}," "]
[null,null,"Roll Number",null,null,"●→",{"$f":"VLOOKUP(A1191,'STUDENT DETAIL'!$C$8:$I$107,3)","v":0}]
[null,null,"Student's Name",null,null,"●→",{"$f":"IF(OR(G1196=0,G1196=\"\"),\"\",VLOOKUP(A1191,'STUDENT DETAIL'!$C$8:$I$107,4))","v":""}]
[null,null,"Father's Name",null,null,"●→",{"$f":"IF(OR(G1196=0,G1196=\"\"),\"\",VLOOKUP(A1191,'STUDENT DETAIL'!$C$8:$I$107,5))","v":""},null,"Seal and Signature of Head of Institution"]
[null,null,"Mother's Name ",null,null,"●→",{"$f":"IF(OR(G1196=0,G1196=\"\"),\"\",VLOOKUP(A1191,'STUDENT DETAIL'!$C$8:$I$107,6))","v":""}]
[null,null,"Class & Section",null,null,"●→",{"$f":"IF(OR(G1196=0,G1196=\"\"),\"\",IF('STUDENT DETAIL'!$H$4=\"\",'STUDENT DETAIL'!$E$4,CONCATENATE('STUDENT DETAIL'!$E$4,\"   \",\"(\",'STUDENT DETAIL'!$H$4,\")\")))","v":""}]
[null,null,"Date Of Birth",null,null,"●→",{"$f":"IF(OR(G1196=0,G1196=\"\"),\"\",VLOOKUP(A1191,'STUDENT DETAIL'!$C$8:$I$107,7))","v":""}]
[null,null,"Time Table"]
[null,null,"Date (Day)",null,null,"Subject",null,"Time"]
[null,null,{"$f":"IF('TIME TABLE'!$B$5=\"\",\"\",'TIME TABLE'!$B$5)","v":"2022-03-31"},null,{"$f":"IF(C1204=\"\",\"\",IF(C1204>0,CONCATENATE('TIME TABLE'!$C$5,'TIME TABLE'!$D$5,'TIME TABLE'!$E$5)))","v":"(Thursday)"},{"$f":"IF(C1204=\"\",\"\",'TIME TABLE'!$F$5)","v":"Hindi"},null,{"$f":"IF(F1204=\"\",\"\",'TIME TABLE'!$H$5)","v":"09:00 AM to 11:45 AM"}]
[null,null,{"$f":"IF('TIME TABLE'!$B$6=\"\",\"\",'TIME TABLE'!$B$6)","v":"2022-04-01"},null,{"$f":"IF(C1205=\"\",\"\",IF(C1205>0,CONCATENATE('TIME TABLE'!$C$6,'TIME TABLE'!$D$6,'TIME TABLE'!$E$6)))","v":"(Friday)"},{"$f":"IF(C1205=\"\",\"\",'TIME TABLE'!$F$6)","v":"English"},null,{"$f":"IF(F1205=\"\",\"\",'TIME TABLE'!$H$6)","v":"09:00 AM to 11:45 AM"}]
[null,null,{"$f":"IF('TIME TABLE'!$B$7=\"\",\"\",'TIME TABLE'!$B$7)","v":"2022-04-02"},null,{"$f":"IF(C1206=\"\",\"\",IF(C1206>0,CONCATENATE('TIME TABLE'!$C$7,'TIME TABLE'!$D$7,'TIME TABLE'!$E$7)))","v":"(Saturday)"},{"$f":"IF(C1206=\"\",\"\",'TIME TABLE'!$F$7)","v":"Science"},null,{"$f":"IF(F1206=\"\",\"\",'TIME TABLE'!$H$7)","v":"09:00 AM to 11:45 AM"}]
[null,null,{"$f":"IF('TIME TABLE'!$B$8=\"\",\"\",'TIME TABLE'!$B$8)","v":"2022-04-03"},null,{"$f":"IF(C1207=\"\",\"\",IF(C1207>0,CONCATENATE('TIME TABLE'!$C$8,'TIME TABLE'!$D$8,'TIME TABLE'!$E$8)))","v":"(Sunday)"},{"$f":"IF(C1207=\"\",\"\",'TIME TABLE'!$F$8)","v":"Mathematics"},null,{"$f":"IF(F1207=\"\",\"\",'TIME TABLE'!$H$8)","v":"09:00 AM to 11:45 AM"}]
[null,null,{"$f":"IF('TIME TABLE'!$B$9=\"\",\"\",'TIME TABLE'!$B$9)","v":"2022-04-04"},null,{"$f":"IF(C1208=\"\",\"\",IF(C1208>0,CONCATENATE('TIME TABLE'!$C$9,'TIME TABLE'!$D$9,'TIME TABLE'!$E$9)))","v":"(Monday)"},{"$f":"IF(C1208=\"\",\"\",'TIME TABLE'!$F$9)","v":"Social Study"},null,{"$f":"IF(F1208=\"\",\"\",'TIME TABLE'!$H$9)","v":"09:00 AM to 11:45 AM"}]
[null,null,{"$f":"IF('TIME TABLE'!$B$10=\"\",\"\",'TIME TABLE'!$B$10)","v":"2022-04-05"},null,{"$f":"IF(C1209=\"\",\"\",IF(C1209>0,CONCATENATE('TIME TABLE'!$C$10,'TIME TABLE'!$D$10,'TIME TABLE'!$E$10)))","v":"(Tuesday)"},{"$f":"IF(C1209=\"\",\"\",'TIME TABLE'!$F$10)","v":"Sanskrit"},null,{"$f":"IF(F1209=\"\",\"\",'TIME TABLE'!$H$10)","v":"09:00 AM to 11:45 AM"}]
[null,null,{"$f":"IF('TIME TABLE'!$B$11=\"\",\"\",'TIME TABLE'!$B$11)","v":""},null,{"$f":"IF(C1210=\"\",\"\",IF(C1210>0,CONCATENATE('TIME TABLE'!$C$11,'TIME TABLE'!$D$11,'TIME TABLE'!$E$11)))","v":""},{"$f":"IF(C1210=\"\",\"\",'TIME TABLE'!$F$11)","v":""},null,{"$f":"IF(F1210=\"\",\"\",'TIME TABLE'!$H$11)","v":""}]
[null,null,{"$f":"IF('TIME TABLE'!$B$12=\"\",\"\",'TIME TABLE'!$B$12)","v":""},null,{"$f":"IF(C1211=\"\",\"\",IF(C1211>0,CONCATENATE('TIME TABLE'!$C$12,'TIME TABLE'!$D$12,'TIME TABLE'!$E$12)))","v":""},{"$f":"IF(C1211=\"\",\"\",'TIME TABLE'!$F$12)","v":""},null,{"$f":"IF(C1211=\"\",\"\",'TIME TABLE'!$H$12)","v":""}]
[null,null,{"$f":"IF('TIME TABLE'!$B$13=\"\",\"\",'TIME TABLE'!$B$13)","v":""},null,{"$f":"IF(C1212=\"\",\"\",IF(C1212>0,CONCATENATE('TIME TABLE'!$C$11,'TIME TABLE'!$D$11,'TIME TABLE'!$E$11)))","v":""},{"$f":"IF(C1212=\"\",\"\",'TIME TABLE'!$F$13)","v":""},null,{"$f":"IF(C1212=\"\",\"\",'TIME TABLE'!$H$13)","v":""}]
[null,null,{"$f":"IF('TIME TABLE'!$B$14=\"\",\"\",'TIME TABLE'!$B$14)","v":""},null,{"$f":"IF(C1213=\"\",\"\",IF(C1213>0,CONCATENATE('TIME TABLE'!$C$11,'TIME TABLE'!$D$11,'TIME TABLE'!$E$11)))","v":""},{"$f":"IF(C1213=\"\",\"\",'TIME TABLE'!$F$14)","v":""},null,{"$f":"IF(C1213=\"\",\"\",'TIME TABLE'!$H$14)","v":""}]
[null,null,"Instructions"]
[null,null,1,"Check the exam time table carefully."]
[null,null,2,"Students must bring the 'Admit Card' and show it to the invigilator(s) on duty and should preserve it for future requirements."]
[null,null,3,"Mobile Phone, Calculator, Digital Watch or any Electronic Device is NOT ALLOWED."]
[null,null,4,"Arrive at the School at least 15 minutes before the start examination."]
[null,null,5,"Student is barred from entering the examination hall 15 minutes after the written examination starts."]
[null,null,6,"Ensure that you use the washroom before arriving for your exam as you will not be permitted to leave during the first hour."]
[null,null,7,"Normally, you are required to answer questionsusing blue or black in . Make sure you bring some spare pens with you."]
[null,null,8,"Keep your eyes on your own paper. Remember, copying is cheating!"]
[null,null,9,"You must remain silent until after you have exited the school building."]
[]
[{"$f":"A1191+1","v":37}]
[null,{"$f":"logo","v":{"$error":"#NAME?"}},null,{"$f":"MASTER!$E$11","v":"Govt. Sr. Secondary School Raimalwada"}]
[{"$nulls":3},{"$f":"MASTER!$E$14","v":"P.S.-Bapini (Phalodi)"}]
[null,{"$f":"CONCATENATE(C1229,'TIME TABLE'!$C$5,'ADMIT CARD'!$C1230,$F1230,'ADMIT CARD'!$G1230,'TIME TABLE'!$E$5)","v":"ADMIT CARD(Roll Number●→0)"},{"$f":"CONCATENATE('TIME TABLE'!$B$2,'TIME TABLE'!$F$2)","v":"TEST-I: (2025-26)"},{"$nulls":5},"Paste latest \nphoto of student"]
[null,null,"ADMIT CARD",{"$nulls":6}," "]
[null,null,"Roll Number",null,null,"●→",{"$f":"VLOOKUP(A1225,'STUDENT DETAIL'!$C$8:$I$107,3)","v":0}]
[null,null,"Student's Name",null,null,"●→",{"$f":"IF(OR(G1230=0,G1230=\"\"),\"\",VLOOKUP(A1225,'STUDENT DETAIL'!$C$8:$I$107,4))","v":""}]
[null,null,"Father's Name",null,null,"●→",{"$f":"IF(OR(G1230=0,G1230=\"\"),\"\",VLOOKUP(A1225,'STUDENT DETAIL'!$C$8:$I$107,5))","v":""},null,"Seal and Signature of Head of Institution"]
[null,null,"Mother's Name ",null,null,"●→",{"$f":"IF(OR(G1230=0,G1230=\"\"),\"\",VLOOKUP(A1225,'STUDENT DETAIL'!$C$8:$I$107,6))","v":""}]
[null,null,"Class & Section",null,null,"●→",{"$f":"IF(OR(G1230=0,G1230=\"\"),\"\",IF('STUDENT DETAIL'!$H$4=\"\",'STUDENT DETAIL'!$E$4,CONCATENATE('STUDENT DETAIL'!$E$4,\"   \",\"(\",'STUDENT DETAIL'!$H$4,\")\")))","v":""}]
[null,null,"Date Of Birth",null,null,"●→",{"$f":"IF(OR(G1230=0,G1230=\"\"),\"\",VLOOKUP(A1225,'STUDENT DETAIL'!$C$8:$I$107,7))","v":""}]
[null,null,"Time Table"]
[null,null,"Date (Day)",null,null,"Subject",null,"Time"]
[null,null,{"$f":"IF('TIME TABLE'!$B$5=\"\",\"\",'TIME TABLE'!$B$5)","v":"2022-03-31"},null,{"$f":"IF(C1238=\"\",\"\",IF(C1238>0,CONCATENATE('TIME TABLE'!$C$5,'TIME TABLE'!$D$5,'TIME TABLE'!$E$5)))","v":"(Thursday)"},{"$f":"IF(C1238=\"\",\"\",'TIME TABLE'!$F$5)","v":"Hindi"},null,{"$f":"IF(F1238=\"\",\"\",'TIME TABLE'!$H$5)","v":"09:00 AM to 11:45 AM"}]
[null,null,{"$f":"IF('TIME TABLE'!$B$6=\"\",\"\",'TIME TABLE'!$B$6)","v":"2022-04-01"},null,{"$f":"IF(C1239=\"\",\"\",IF(C1239>0,CONCATENATE('TIME TABLE'!$C$6,'TIME TABLE'!$D$6,'TIME TABLE'!$E$6)))","v":"(Friday)"},{"$f":"IF(C1239=\"\",\"\",'TIME TABLE'!$F$6)","v":"English"},null,{"$f":"IF(F1239=\"\",\"\",'TIME TABLE'!$H$6)","v":"09:00 AM to 11:45 AM"}]
[null,null,{"$f":"IF('TIME TABLE'!$B$7=\"\",\"\",'TIME TABLE'!$B$7)","v":"2022-04-02"},null,{"$f":"IF(C1240=\"\",\"\",IF(C1240>0,CONCATENATE('TIME TABLE'!$C$7,'TIME TABLE'!$D$7,'TIME TABLE'!$E$7)))","v":"(Saturday)"},{"$f":"IF(C1240=\"\",\"\",'TIME TABLE'!$F$7)","v":"Science"},null,{"$f":"IF(F1240=\"\",\"\",'TIME TABLE'!$H$7)","v":"09:00 AM to 11:45 AM"}]
[null,null,{"$f":"IF('TIME TABLE'!$B$8=\"\",\"\",'TIME TABLE'!$B$8)","v":"2022-04-03"},null,{"$f":"IF(C1241=\"\",\"\",IF(C1241>0,CONCATENATE('TIME TABLE'!$C$8,'TIME TABLE'!$D$8,'TIME TABLE'!$E$8)))","v":"(Sunday)"},{"$f":"IF(C1241=\"\",\"\",'TIME TABLE'!$F$8)","v":"Mathematics"},null,{"$f":"IF(F1241=\"\",\"\",'TIME TABLE'!$H$8)","v":"09:00 AM to 11:45 AM"}]
[null,null,{"$f":"IF('TIME TABLE'!$B$9=\"\",\"\",'TIME TABLE'!$B$9)","v":"2022-04-04"},null,{"$f":"IF(C1242=\"\",\"\",IF(C1242>0,CONCATENATE('TIME TABLE'!$C$9,'TIME TABLE'!$D$9,'TIME TABLE'!$E$9)))","v":"(Monday)"},{"$f":"IF(C1242=\"\",\"\",'TIME TABLE'!$F$9)","v":"Social Study"},null,{"$f":"IF(F1242=\"\",\"\",'TIME TABLE'!$H$9)","v":"09:00 AM to 11:45 AM"}]
[null,null,{"$f":"IF('TIME TABLE'!$B$10=\"\",\"\",'TIME TABLE'!$B$10)","v":"2022-04-05"},null,{"$f":"IF(C1243=\"\",\"\",IF(C1243>0,CONCATENATE('TIME TABLE'!$C$10,'TIME TABLE'!$D$10,'TIME TABLE'!$E$10)))","v":"(Tuesday)"},{"$f":"IF(C1243=\"\",\"\",'TIME TABLE'!$F$10)","v":"Sanskrit"},null,{"$f":"IF(F1243=\"\",\"\",'TIME TABLE'!$H$10)","v":"09:00 AM to 11:45 AM"}]
[null,null,{"$f":"IF('TIME TABLE'!$B$11=\"\",\"\",'TIME TABLE'!$B$11)","v":""},null,{"$f":"IF(C1244=\"\",\"\",IF(C1244>0,CONCATENATE('TIME TABLE'!$C$11,'TIME TABLE'!$D$11,'TIME TABLE'!$E$11)))","v":""},{"$f":"IF(C1244=\"\",\"\",'TIME TABLE'!$F$11)","v":""},null,{"$f":"IF(F1244=\"\",\"\",'TIME TABLE'!$H$11)","v":""}]
[null,null,{"$f":"IF('TIME TABLE'!$B$12=\"\",\"\",'TIME TABLE'!$B$12)","v":""},null,{"$f":"IF(C1245=\"\",\"\",IF(C1245>0,CONCATENATE('TIME TABLE'!$C$12,'TIME TABLE'!$D$12,'TIME TABLE'!$E$12)))","v":""},{"$f":"IF(C1245=\"\",\"\",'TIME TABLE'!$F$12)","v":""},null,{"$f":"IF(C1245=\"\",\"\",'TIME TABLE'!$H$12)","v":""}]
[null,null,{"$f":"IF('TIME TABLE'!$B$13=\"\",\"\",'TIME TABLE'!$B$13)","v":""},null,{"$f":"IF(C1246=\"\",\"\",IF(C1246>0,CONCATENATE('TIME TABLE'!$C$11,'TIME TABLE'!$D$11,'TIME TABLE'!$E$11)))","v":""},{"$f":"IF(C1246=\"\",\"\",'TIME TABLE'!$F$13)","v":""},null,{"$f":"IF(C1246=\"\",\"\",'TIME TABLE'!$H$13)","v":""}]
[null,null,{"$f":"IF('TIME TABLE'!$B$14=\"\",\"\",'TIME TABLE'!$B$14)","v":""},null,{"$f":"IF(C1247=\"\",\"\",IF(C1247>0,CONCATENATE('TIME TABLE'!$C$11,'TIME TABLE'!$D$11,'TIME TABLE'!$E$11)))","v":""},{"$f":"IF(C1247=\"\",\"\",'TIME TABLE'!$F$14)","v":""},null,{"$f":"IF(C1247=\"\",\"\",'TIME TABLE'!$H$14)","v":""}]
[null,null,"Instructions"]
[null,null,1,"Check the exam time table carefully."]
[null,null,2,"Students must bring the 'Admit Card' and show it to the invigilator(s) on duty and should preserve it for future requirements."]
[null,null,3,"Mobile Phone, Calculator, Digital Watch or any Electronic Device is NOT ALLOWED."]
[null,null,4,"Arrive at the School at least 15 minutes before the start examination."]
[null,null,5,"Student is barred from entering the examination hall 15 minutes after the written examination starts."]
[null,null,6,"Ensure that you use the washroom before arriving for your exam as you will not be permitted to leave during the first hour."]
[null,null,7,"Normally, you are required to answer questionsusing blue or black in . Make sure you bring some spare pens with you."]
[null,null,8,"Keep your eyes on your own paper. Remember, copying is cheating!"]
[null,null,9,"You must remain silent until after you have exited the school building."]
[]
[{"$f":"A1225+1","v":38}]
[null,{"$f":"logo","v":{"$error":"#NAME?"}},null,{"$f":"MASTER!$E$11","v":"Govt. Sr. Secondary School Raimalwada"}]
[{"$nulls":3},{"$f":"MASTER!$E$14","v":"P.S.-Bapini (Phalodi)"}]
[null,{"$f":"CONCATENATE(C1263,'TIME TABLE'!$C$5,'ADMIT CARD'!$C1264,$F1264,'ADMIT CARD'!$G1264,'TIME TABLE'!$E$5)","v":"ADMIT CARD(Roll Number●→0)"},{"$f":"CONCATENATE('TIME TABLE'!$B$2,'TIME TABLE'!$F$2)","v":"TEST-I: (2025-26)"},{"$nulls":5},"Paste latest \nphoto of student"]
[null,null,"ADMIT CARD",{"$nulls":6}," "]
[null,null,"Roll Number",null,null,"●→",{"$f":"VLOOKUP(A1259,'STUDENT DETAIL'!$C$8:$I$107,3)","v":0}]
[null,null,"Student's Name",null,null,"●→",{"$f":"IF(OR(G1264=0,G1264=\"\"),\"\",VLOOKUP(A1259,'STUDENT DETAIL'!$C$8:$I$107,4))","v":""}]
[null,null,"Father's Name",null,null,"●→",{"$f":"IF(OR(G1264=0,G1264=\"\"),\"\",VLOOKUP(A1259,'STUDENT DETAIL'!$C$8:$I$107,5))","v":""},null,"Seal and Signature of Head of Institution"]
[null,null,"Mother's Name ",null,null,"●→",{"$f":"IF(OR(G1264=0,G1264=\"\"),\"\",VLOOKUP(A1259,'STUDENT DETAIL'!$C$8:$I$107,6))","v":""}]
[null,null,"Class & Section",null,null,"●→",{"$f":"IF(OR(G1264=0,G1264=\"\"),\"\",IF('STUDENT DETAIL'!$H$4=\"\",'STUDENT DETAIL'!$E$4,CONCATENATE('STUDENT DETAIL'!$E$4,\"   \",\"(\",'STUDENT DETAIL'!$H$4,\")\")))","v":""}]
[null,null,"Date Of Birth",null,null,"●→",{"$f":"IF(OR(G1264=0,G1264=\"\"),\"\",VLOOKUP(A1259,'STUDENT DETAIL'!$C$8:$I$107,7))","v":""}]
[null,null,"Time Table"]
[null,null,"Date (Day)",null,null,"Subject",null,"Time"]
[null,null,{"$f":"IF('TIME TABLE'!$B$5=\"\",\"\",'TIME TABLE'!$B$5)","v":"2022-03-31"},null,{"$f":"IF(C1272=\"\",\"\",IF(C1272>0,CONCATENATE('TIME TABLE'!$C$5,'TIME TABLE'!$D$5,'TIME TABLE'!$E$5)))","v":"(Thursday)"},{"$f":"IF(C1272=\"\",\"\",'TIME TABLE'!$F$5)","v":"Hindi"},null,{"$f":"IF(F1272=\"\",\"\",'TIME TABLE'!$H$5)","v":"09:00 AM to 11:45 AM"}]
[null,null,{"$f":"IF('TIME TABLE'!$B$6=\"\",\"\",'TIME TABLE'!$B$6)","v":"2022-04-01"},null,{"$f":"IF(C1273=\"\",\"\",IF(C1273>0,CONCATENATE('TIME TABLE'!$C$6,'TIME TABLE'!$D$6,'TIME TABLE'!$E$6)))","v":"(Friday)"},{"$f":"IF(C1273=\"\",\"\",'TIME TABLE'!$F$6)","v":"English"},null,{"$f":"IF(F1273=\"\",\"\",'TIME TABLE'!$H$6)","v":"09:00 AM to 11:45 AM"}]
[null,null,{"$f":"IF('TIME TABLE'!$B$7=\"\",\"\",'TIME TABLE'!$B$7)","v":"2022-04-02"},null,{"$f":"IF(C1274=\"\",\"\",IF(C1274>0,CONCATENATE('TIME TABLE'!$C$7,'TIME TABLE'!$D$7,'TIME TABLE'!$E$7)))","v":"(Saturday)"},{"$f":"IF(C1274=\"\",\"\",'TIME TABLE'!$F$7)","v":"Science"},null,{"$f":"IF(F1274=\"\",\"\",'TIME TABLE'!$H$7)","v":"09:00 AM to 11:45 AM"}]
[null,null,{"$f":"IF('TIME TABLE'!$B$8=\"\",\"\",'TIME TABLE'!$B$8)","v":"2022-04-03"},null,{"$f":"IF(C1275=\"\",\"\",IF(C1275>0,CONCATENATE('TIME TABLE'!$C$8,'TIME TABLE'!$D$8,'TIME TABLE'!$E$8)))","v":"(Sunday)"},{"$f":"IF(C1275=\"\",\"\",'TIME TABLE'!$F$8)","v":"Mathematics"},null,{"$f":"IF(F1275=\"\",\"\",'TIME TABLE'!$H$8)","v":"09:00 AM to 11:45 AM"}]
[null,null,{"$f":"IF('TIME TABLE'!$B$9=\"\",\"\",'TIME TABLE'!$B$9)","v":"2022-04-04"},null,{"$f":"IF(C1276=\"\",\"\",IF(C1276>0,CONCATENATE('TIME TABLE'!$C$9,'TIME TABLE'!$D$9,'TIME TABLE'!$E$9)))","v":"(Monday)"},{"$f":"IF(C1276=\"\",\"\",'TIME TABLE'!$F$9)","v":"Social Study"},null,{"$f":"IF(F1276=\"\",\"\",'TIME TABLE'!$H$9)","v":"09:00 AM to 11:45 AM"}]
[null,null,{"$f":"IF('TIME TABLE'!$B$10=\"\",\"\",'TIME TABLE'!$B$10)","v":"2022-04-05"},null,{"$f":"IF(C1277=\"\",\"\",IF(C1277>0,CONCATENATE('TIME TABLE'!$C$10,'TIME TABLE'!$D$10,'TIME TABLE'!$E$10)))","v":"(Tuesday)"},{"$f":"IF(C1277=\"\",\"\",'TIME TABLE'!$F$10)","v":"Sanskrit"},null,{"$f":"IF(F1277=\"\",\"\",'TIME TABLE'!$H$10)","v":"09:00 AM to 11:45 AM"}]
[null,null,{"$f":"IF('TIME TABLE'!$B$11=\"\",\"\",'TIME TABLE'!$B$11)","v":""},null,{"$f":"IF(C1278=\"\",\"\",IF(C1278>0,CONCATENATE('TIME TABLE'!$C$11,'TIME TABLE'!$D$11,'TIME TABLE'!$E$11)))","v":""},{"$f":"IF(C1278=\"\",\"\",'TIME TABLE'!$F$11)","v":""},null,{"$f":"IF(F1278=\"\",\"\",'TIME TABLE'!$H$11)","v":""}]
[null,null,{"$f":"IF('TIME TABLE'!$B$12=\"\",\"\",'TIME TABLE'!$B$12)","v":""},null,{"$f":"IF(C1279=\"\",\"\",IF(C1279>0,CONCATENATE('TIME TABLE'!$C$12,'TIME TABLE'!$D$12,'TIME TABLE'!$E$12)))","v":""},{"$f":"IF(C1279=\"\",\"\",'TIME TABLE'!$F$12)","v":""},null,{"$f":"IF(C1279=\"\",\"\",'TIME TABLE'!$H$12)","v":""}]
[null,null,{"$f":"IF('TIME TABLE'!$B$13=\"\",\"\",'TIME TABLE'!$B$13)","v":""},null,{"$f":"IF(C1280=\"\",\"\",IF(C1280>0,CONCATENATE('TIME TABLE'!$C$11,'TIME TABLE'!$D$11,'TIME TABLE'!$E$11)))","v":""},{"$f":"IF(C1280=\"\",\"\",'TIME TABLE'!$F$13)","v":""},null,{"$f":"IF(C1280=\"\",\"\",'TIME TABLE'!$H$13)","v":""}]
[null,null,{"$f":"IF('TIME TABLE'!$B$14=\"\",\"\",'TIME TABLE'!$B$14)","v":""},null,{"$f":"IF(C1281=\"\",\"\",IF(C1281>0,CONCATENATE('TIME TABLE'!$C$11,'TIME TABLE'!$D$11,'TIME TABLE'!$E$11)))","v":""},{"$f":"IF(C1281=\"\",\"\",'TIME TABLE'!$F$14)","v":""},null,{"$f":"IF(C1281=\"\",\"\",'TIME TABLE'!$H$14)","v":""}]
[null,null,"Instructions"]
[null,null,1,"Check the exam time table carefully."]
[null,null,2,"Students must bring the 'Admit Card' and show it to the invigilator(s) on duty and should preserve it for future requirements."]
[null,null,3,"Mobile Phone, Calculator, Digital Watch or any Electronic Device is NOT ALLOWED."]
[null,null,4,"Arrive at the School at least 15 minutes before the start examination."]
[null,null,5,"Student is barred from entering the examination hall 15 minutes after the written examination starts."]
[null,null,6,"Ensure that you use the washroom before arriving for your exam as you will not be permitted to leave during the first hour."]
[null,null,7,"Normally, you are required to answer questionsusing blue or black in . Make sure you bring some spare pens with you."]
[null,null,8,"Keep your eyes on your own paper. Remember, copying is cheating!"]
[null,null,9,"You must remain silent until after you have exited the school building."]
[]
[{"$f":"A1259+1","v":39}]
[null,{"$f":"logo","v":{"$error":"#NAME?"}},null,{"$f":"MASTER!$E$11","v":"Govt. Sr. Secondary School Raimalwada"}]
[{"$nulls":3},{"$f":"MASTER!$E$14","v":"P.S.-Bapini (Phalodi)"}]
[null,{"$f":"CONCATENATE(C1297,'TIME TABLE'!$C$5,'ADMIT CARD'!$C1298,$F1298,'ADMIT CARD'!$G1298,'TIME TABLE'!$E$5)","v":"ADMIT CARD(Roll Number●→0)"},{"$f":"CONCATENATE('TIME TABLE'!$B$2,'TIME TABLE'!$F$2)","v":"TEST-I: (2025-26)"},{"$nulls":5},"Paste latest \nphoto of student"]
[null,null,"ADMIT CARD",{"$nulls":6}," "]
[null,null,"Roll Number",null,null,"●→",{"$f":"VLOOKUP(A1293,'STUDENT DETAIL'!$C$8:$I$107,3)","v":0}]
[null,null,"Student's Name",null,null,"●→",{"$f":"IF(OR(G1298=0,G1298=\"\"),\"\",VLOOKUP(A1293,'STUDENT DETAIL'!$C$8:$I$107,4))","v":""}]
[null,null,"Father's Name",null,null,"●→",{"$f":"IF(OR(G1298=0,G1298=\"\"),\"\",VLOOKUP(A1293,'STUDENT DETAIL'!$C$8:$I$107,5))","v":""},null,"Seal and Signature of Head of Institution"]
[null,null,"Mother's Name ",null,null,"●→",{"$f":"IF(OR(G1298=0,G1298=\"\"),\"\",VLOOKUP(A1293,'STUDENT DETAIL'!$C$8:$I$107,6))","v":""}]
[null,null,"Class & Section",null,null,"●→",{"$f":"IF(OR(G1298=0,G1298=\"\"),\"\",IF('STUDENT DETAIL'!$H$4=\"\",'STUDENT DETAIL'!$E$4,CONCATENATE('STUDENT DETAIL'!$E$4,\"   \",\"(\",'STUDENT DETAIL'!$H$4,\")\")))","v":""}]
[null,null,"Date Of Birth",null,null,"●→",{"$f":"IF(OR(G1298=0,G1298=\"\"),\"\",VLOOKUP(A1293,'STUDENT DETAIL'!$C$8:$I$107,7))","v":""}]
[null,null,"Time Table"]
[null,null,"Date (Day)",null,null,"Subject",null,"Time"]
[null,null,{"$f":"IF('TIME TABLE'!$B$5=\"\",\"\",'TIME TABLE'!$B$5)","v":"2022-03-31"},null,{"$f":"IF(C1306=\"\",\"\",IF(C1306>0,CONCATENATE('TIME TABLE'!$C$5,'TIME TABLE'!$D$5,'TIME TABLE'!$E$5)))","v":"(Thursday)"},{"$f":"IF(C1306=\"\",\"\",'TIME TABLE'!$F$5)","v":"Hindi"},null,{"$f":"IF(F1306=\"\",\"\",'TIME TABLE'!$H$5)","v":"09:00 AM to 11:45 AM"}]
[null,null,{"$f":"IF('TIME TABLE'!$B$6=\"\",\"\",'TIME TABLE'!$B$6)","v":"2022-04-01"},null,{"$f":"IF(C1307=\"\",\"\",IF(C1307>0,CONCATENATE('TIME TABLE'!$C$6,'TIME TABLE'!$D$6,'TIME TABLE'!$E$6)))","v":"(Friday)"},{"$f":"IF(C1307=\"\",\"\",'TIME TABLE'!$F$6)","v":"English"},null,{"$f":"IF(F1307=\"\",\"\",'TIME TABLE'!$H$6)","v":"09:00 AM to 11:45 AM"}]
[null,null,{"$f":"IF('TIME TABLE'!$B$7=\"\",\"\",'TIME TABLE'!$B$7)","v":"2022-04-02"},null,{"$f":"IF(C1308=\"\",\"\",IF(C1308>0,CONCATENATE('TIME TABLE'!$C$7,'TIME TABLE'!$D$7,'TIME TABLE'!$E$7)))","v":"(Saturday)"},{"$f":"IF(C1308=\"\",\"\",'TIME TABLE'!$F$7)","v":"Science"},null,{"$f":"IF(F1308=\"\",\"\",'TIME TABLE'!$H$7)","v":"09:00 AM to 11:45 AM"}]
[null,null,{"$f":"IF('TIME TABLE'!$B$8=\"\",\"\",'TIME TABLE'!$B$8)","v":"2022-04-03"},null,{"$f":"IF(C1309=\"\",\"\",IF(C1309>0,CONCATENATE('TIME TABLE'!$C$8,'TIME TABLE'!$D$8,'TIME TABLE'!$E$8)))","v":"(Sunday)"},{"$f":"IF(C1309=\"\",\"\",'TIME TABLE'!$F$8)","v":"Mathematics"},null,{"$f":"IF(F1309=\"\",\"\",'TIME TABLE'!$H$8)","v":"09:00 AM to 11:45 AM"}]
[null,null,{"$f":"IF('TIME TABLE'!$B$9=\"\",\"\",'TIME TABLE'!$B$9)","v":"2022-04-04"},null,{"$f":"IF(C1310=\"\",\"\",IF(C1310>0,CONCATENATE('TIME TABLE'!$C$9,'TIME TABLE'!$D$9,'TIME TABLE'!$E$9)))","v":"(Monday)"},{"$f":"IF(C1310=\"\",\"\",'TIME TABLE'!$F$9)","v":"Social Study"},null,{"$f":"IF(F1310=\"\",\"\",'TIME TABLE'!$H$9)","v":"09:00 AM to 11:45 AM"}]
[null,null,{"$f":"IF('TIME TABLE'!$B$10=\"\",\"\",'TIME TABLE'!$B$10)","v":"2022-04-05"},null,{"$f":"IF(C1311=\"\",\"\",IF(C1311>0,CONCATENATE('TIME TABLE'!$C$10,'TIME TABLE'!$D$10,'TIME TABLE'!$E$10)))","v":"(Tuesday)"},{"$f":"IF(C1311=\"\",\"\",'TIME TABLE'!$F$10)","v":"Sanskrit"},null,{"$f":"IF(F1311=\"\",\"\",'TIME TABLE'!$H$10)","v":"09:00 AM to 11:45 AM"}]
[null,null,{"$f":"IF('TIME TABLE'!$B$11=\"\",\"\",'TIME TABLE'!$B$11)","v":""},null,{"$f":"IF(C1312=\"\",\"\",IF(C1312>0,CONCATENATE('TIME TABLE'!$C$11,'TIME TABLE'!$D$11,'TIME TABLE'!$E$11)))","v":""},{"$f":"IF(C1312=\"\",\"\",'TIME TABLE'!$F$11)","v":""},null,{"$f":"IF(F1312=\"\",\"\",'TIME TABLE'!$H$11)","v":""}]
[null,null,{"$f":"IF('TIME TABLE'!$B$12=\"\",\"\",'TIME TABLE'!$B$12)","v":""},null,{"$f":"IF(C1313=\"\",\"\",IF(C1313>0,CONCATENATE('TIME TABLE'!$C$12,'TIME TABLE'!$D$12,'TIME TABLE'!$E$12)))","v":""},{"$f":"IF(C1313=\"\",\"\",'TIME TABLE'!$F$12)","v":""},null,{"$f":"IF(C1313=\"\",\"\",'TIME TABLE'!$H$12)","v":""}]
[null,null,{"$f":"IF('TIME TABLE'!$B$13=\"\",\"\",'TIME TABLE'!$B$13)","v":""},null,{"$f":"IF(C1314=\"\",\"\",IF(C1314>0,CONCATENATE('TIME TABLE'!$C$11,'TIME TABLE'!$D$11,'TIME TABLE'!$E$11)))","v":""},{"$f":"IF(C1314=\"\",\"\",'TIME TABLE'!$F$13)","v":""},null,{"$f":"IF(C1314=\"\",\"\",'TIME TABLE'!$H$13)","v":""}]
[null,null,{"$f":"IF('TIME TABLE'!$B$14=\"\",\"\",'TIME TABLE'!$B$14)","v":""},null,{"$f":"IF(C1315=\"\",\"\",IF(C1315>0,CONCATENATE('TIME TABLE'!$C$11,'TIME TABLE'!$D$11,'TIME TABLE'!$E$11)))","v":""},{"$f":"IF(C1315=\"\",\"\",'TIME TABLE'!$F$14)","v":""},null,{"$f":"IF(C1315=\"\",\"\",'TIME TABLE'!$H$14)","v":""}]
[null,null,"Instructions"]
[null,null,1,"Check the exam time table carefully."]
[null,null,2,"Students must bring the 'Admit Card' and show it to the invigilator(s) on duty and should preserve it for future requirements."]
[null,null,3,"Mobile Phone, Calculator, Digital Watch or any Electronic Device is NOT ALLOWED."]
[null,null,4,"Arrive at the School at least 15 minutes before the start examination."]
[null,null,5,"Student is barred from entering the examination hall 15 minutes after the written examination starts."]
[null,null,6,"Ensure that you use the washroom before arriving for your exam as you will not be permitted to leave during the first hour."]
[null,null,7,"Normally, you are required to answer questionsusing blue or black in . Make sure you bring some spare pens with you."]
[null,null,8,"Keep your eyes on your own paper. Remember, copying is cheating!"]
[null,null,9,"You must remain silent until after you have exited the school building."]
[]
[{"$f":"A1293+1","v":40}]
[null,{"$f":"logo","v":{"$error":"#NAME?"}},null,{"$f":"MASTER!$E$11","v":"Govt. Sr. Secondary School Raimalwada"}]
[{"$nulls":3},{"$f":"MASTER!$E$14","v":"P.S.-Bapini (Phalodi)"}]
[null,{"$f":"CONCATENATE(C1331,'TIME TABLE'!$C$5,'ADMIT CARD'!$C1332,$F1332,'ADMIT CARD'!$G1332,'TIME TABLE'!$E$5)","v":"ADMIT CARD(Roll Number●→0)"},{"$f":"CONCATENATE('TIME TABLE'!$B$2,'TIME TABLE'!$F$2)","v":"TEST-I: (2025-26)"},{"$nulls":5},"Paste latest \nphoto of student"]
[null,null,"ADMIT CARD",{"$nulls":6}," "]
[null,null,"Roll Number",null,null,"●→",{"$f":"VLOOKUP(A1327,'STUDENT DETAIL'!$C$8:$I$107,3)","v":0}]
[null,null,"Student's Name",null,null,"●→",{"$f":"IF(OR(G1332=0,G1332=\"\"),\"\",VLOOKUP(A1327,'STUDENT DETAIL'!$C$8:$I$107,4))","v":""}]
[null,null,"Father's Name",null,null,"●→",{"$f":"IF(OR(G1332=0,G1332=\"\"),\"\",VLOOKUP(A1327,'STUDENT DETAIL'!$C$8:$I$107,5))","v":""},null,"Seal and Signature of Head of Institution"]
[null,null,"Mother's Name ",null,null,"●→",{"$f":"IF(OR(G1332=0,G1332=\"\"),\"\",VLOOKUP(A1327,'STUDENT DETAIL'!$C$8:$I$107,6))","v":""}]
[null,null,"Class & Section",null,null,"●→",{"$f":"IF(OR(G1332=0,G1332=\"\"),\"\",IF('STUDENT DETAIL'!$H$4=\"\",'STUDENT DETAIL'!$E$4,CONCATENATE('STUDENT DETAIL'!$E$4,\"   \",\"(\",'STUDENT DETAIL'!$H$4,\")\")))","v":""}]
[null,null,"Date Of Birth",null,null,"●→",{"$f":"IF(OR(G1332=0,G1332=\"\"),\"\",VLOOKUP(A1327,'STUDENT DETAIL'!$C$8:$I$107,7))","v":""}]
[null,null,"Time Table"]
[null,null,"Date (Day)",null,null,"Subject",null,"Time"]
[null,null,{"$f":"IF('TIME TABLE'!$B$5=\"\",\"\",'TIME TABLE'!$B$5)","v":"2022-03-31"},null,{"$f":"IF(C1340=\"\",\"\",IF(C1340>0,CONCATENATE('TIME TABLE'!$C$5,'TIME TABLE'!$D$5,'TIME TABLE'!$E$5)))","v":"(Thursday)"},{"$f":"IF(C1340=\"\",\"\",'TIME TABLE'!$F$5)","v":"Hindi"},null,{"$f":"IF(F1340=\"\",\"\",'TIME TABLE'!$H$5)","v":"09:00 AM to 11:45 AM"}]
[null,null,{"$f":"IF('TIME TABLE'!$B$6=\"\",\"\",'TIME TABLE'!$B$6)","v":"2022-04-01"},null,{"$f":"IF(C1341=\"\",\"\",IF(C1341>0,CONCATENATE('TIME TABLE'!$C$6,'TIME TABLE'!$D$6,'TIME TABLE'!$E$6)))","v":"(Friday)"},{"$f":"IF(C1341=\"\",\"\",'TIME TABLE'!$F$6)","v":"English"},null,{"$f":"IF(F1341=\"\",\"\",'TIME TABLE'!$H$6)","v":"09:00 AM to 11:45 AM"}]
[null,null,{"$f":"IF('TIME TABLE'!$B$7=\"\",\"\",'TIME TABLE'!$B$7)","v":"2022-04-02"},null,{"$f":"IF(C1342=\"\",\"\",IF(C1342>0,CONCATENATE('TIME TABLE'!$C$7,'TIME TABLE'!$D$7,'TIME TABLE'!$E$7)))","v":"(Saturday)"},{"$f":"IF(C1342=\"\",\"\",'TIME TABLE'!$F$7)","v":"Science"},null,{"$f":"IF(F1342=\"\",\"\",'TIME TABLE'!$H$7)","v":"09:00 AM to 11:45 AM"}]
[null,null,{"$f":"IF('TIME TABLE'!$B$8=\"\",\"\",'TIME TABLE'!$B$8)","v":"2022-04-03"},null,{"$f":"IF(C1343=\"\",\"\",IF(C1343>0,CONCATENATE('TIME TABLE'!$C$8,'TIME TABLE'!$D$8,'TIME TABLE'!$E$8)))","v":"(Sunday)"},{"$f":"IF(C1343=\"\",\"\",'TIME TABLE'!$F$8)","v":"Mathematics"},null,{"$f":"IF(F1343=\"\",\"\",'TIME TABLE'!$H$8)","v":"09:00 AM to 11:45 AM"}]
[null,null,{"$f":"IF('TIME TABLE'!$B$9=\"\",\"\",'TIME TABLE'!$B$9)","v":"2022-04-04"},null,{"$f":"IF(C1344=\"\",\"\",IF(C1344>0,CONCATENATE('TIME TABLE'!$C$9,'TIME TABLE'!$D$9,'TIME TABLE'!$E$9)))","v":"(Monday)"},{"$f":"IF(C1344=\"\",\"\",'TIME TABLE'!$F$9)","v":"Social Study"},null,{"$f":"IF(F1344=\"\",\"\",'TIME TABLE'!$H$9)","v":"09:00 AM to 11:45 AM"}]
[null,null,{"$f":"IF('TIME TABLE'!$B$10=\"\",\"\",'TIME TABLE'!$B$10)","v":"2022-04-05"},null,{"$f":"IF(C1345=\"\",\"\",IF(C1345>0,CONCATENATE('TIME TABLE'!$C$10,'TIME TABLE'!$D$10,'TIME TABLE'!$E$10)))","v":"(Tuesday)"},{"$f":"IF(C1345=\"\",\"\",'TIME TABLE'!$F$10)","v":"Sanskrit"},null,{"$f":"IF(F1345=\"\",\"\",'TIME TABLE'!$H$10)","v":"09:00 AM to 11:45 AM"}]
[null,null,{"$f":"IF('TIME TABLE'!$B$11=\"\",\"\",'TIME TABLE'!$B$11)","v":""},null,{"$f":"IF(C1346=\"\",\"\",IF(C1346>0,CONCATENATE('TIME TABLE'!$C$11,'TIME TABLE'!$D$11,'TIME TABLE'!$E$11)))","v":""},{"$f":"IF(C1346=\"\",\"\",'TIME TABLE'!$F$11)","v":""},null,{"$f":"IF(F1346=\"\",\"\",'TIME TABLE'!$H$11)","v":""}]
[null,null,{"$f":"IF('TIME TABLE'!$B$12=\"\",\"\",'TIME TABLE'!$B$12)","v":""},null,{"$f":"IF(C1347=\"\",\"\",IF(C1347>0,CONCATENATE('TIME TABLE'!$C$12,'TIME TABLE'!$D$12,'TIME TABLE'!$E$12)))","v":""},{"$f":"IF(C1347=\"\",\"\",'TIME TABLE'!$F$12)","v":""},null,{"$f":"IF(C1347=\"\",\"\",'TIME TABLE'!$H$12)","v":""}]
[null,null,{"$f":"IF('TIME TABLE'!$B$13=\"\",\"\",'TIME TABLE'!$B$13)","v":""},null,{"$f":"IF(C1348=\"\",\"\",IF(C1348>0,CONCATENATE('TIME TABLE'!$C$11,'TIME TABLE'!$D$11,'TIME TABLE'!$E$11)))","v":""},{"$f":"IF(C1348=\"\",\"\",'TIME TABLE'!$F$13)","v":""},null,{"$f":"IF(C1348=\"\",\"\",'TIME TABLE'!$H$13)","v":""}]
[null,null,{"$f":"IF('TIME TABLE'!$B$14=\"\",\"\",'TIME TABLE'!$B$14)","v":""},null,{"$f":"IF(C1349=\"\",\"\",IF(C1349>0,CONCATENATE('TIME TABLE'!$C$11,'TIME TABLE'!$D$11,'TIME TABLE'!$E$11)))","v":""},{"$f":"IF(C1349=\"\",\"\",'TIME TABLE'!$F$14)","v":""},null,{"$f":"IF(C1349=\"\",\"\",'TIME TABLE'!$H$14)","v":""}]
[null,null,"Instructions"]
[null,null,1,"Check the exam time table carefully."]
[null,null,2,"Students must bring the 'Admit Card' and show it to the invigilator(s) on duty and should preserve it for future requirements."]
[null,null,3,"Mobile Phone, Calculator, Digital Watch or any Electronic Device is NOT ALLOWED."]
[null,null,4,"Arrive at the School at least 15 minutes before the start examination."]
[null,null,5,"Student is barred from entering the examination hall 15 minutes after the written examination starts."]
[null,null,6,"Ensure that you use the washroom before arriving for your exam as you will not be permitted to leave during the first hour."]
[null,null,7,"Normally, you are required to answer questionsusing blue or black in . Make sure you bring some spare pens with you."]
[null,null,8,"Keep your eyes on your own paper. Remember, copying is cheating!"]
[null,null,9,"You must remain silent until after you have exited the school building."]
[]
[{"$f":"A1327+1","v":41}]
[null,{"$f":"logo","v":{"$error":"#NAME?"}},null,{"$f":"MASTER!$E$11","v":"Govt. Sr. Secondary School Raimalwada"}]
[{"$nulls":3},{"$f":"MASTER!$E$14","v":"P.S.-Bapini (Phalodi)"}]
[null,{"$f":"CONCATENATE(C1365,'TIME TABLE'!$C$5,'ADMIT CARD'!$C1366,$F1366,'ADMIT CARD'!$G1366,'TIME TABLE'!$E$5)","v":"ADMIT CARD(Roll Number●→0)"},{"$f":"CONCATENATE('TIME TABLE'!$B$2,'TIME TABLE'!$F$2)","v":"TEST-I: (2025-26)"},{"$nulls":5},"Paste latest \nphoto of student"]
[null,null,"ADMIT CARD",{"$nulls":6}," "]
[null,null,"Roll Number",null,null,"●→",{"$f":"VLOOKUP(A1361,'STUDENT DETAIL'!$C$8:$I$107,3)","v":0}]
[null,null,"Student's Name",null,null,"●→",{"$f":"IF(OR(G1366=0,G1366=\"\"),\"\",VLOOKUP(A1361,'STUDENT DETAIL'!$C$8:$I$107,4))","v":""}]
[null,null,"Father's Name",null,null,"●→",{"$f":"IF(OR(G1366=0,G1366=\"\"),\"\",VLOOKUP(A1361,'STUDENT DETAIL'!$C$8:$I$107,5))","v":""},null,"Seal and Signature of Head of Institution"]
[null,null,"Mother's Name ",null,null,"●→",{"$f":"IF(OR(G1366=0,G1366=\"\"),\"\",VLOOKUP(A1361,'STUDENT DETAIL'!$C$8:$I$107,6))","v":""}]
[null,null,"Class & Section",null,null,"●→",{"$f":"IF(OR(G1366=0,G1366=\"\"),\"\",IF('STUDENT DETAIL'!$H$4=\"\",'STUDENT DETAIL'!$E$4,CONCATENATE('STUDENT DETAIL'!$E$4,\"   \",\"(\",'STUDENT DETAIL'!$H$4,\")\")))","v":""}]
[null,null,"Date Of Birth",null,null,"●→",{"$f":"IF(OR(G1366=0,G1366=\"\"),\"\",VLOOKUP(A1361,'STUDENT DETAIL'!$C$8:$I$107,7))","v":""}]
[null,null,"Time Table"]
[null,null,"Date (Day)",null,null,"Subject",null,"Time"]
[null,null,{"$f":"IF('TIME TABLE'!$B$5=\"\",\"\",'TIME TABLE'!$B$5)","v":"2022-03-31"},null,{"$f":"IF(C1374=\"\",\"\",IF(C1374>0,CONCATENATE('TIME TABLE'!$C$5,'TIME TABLE'!$D$5,'TIME TABLE'!$E$5)))","v":"(Thursday)"},{"$f":"IF(C1374=\"\",\"\",'TIME TABLE'!$F$5)","v":"Hindi"},null,{"$f":"IF(F1374=\"\",\"\",'TIME TABLE'!$H$5)","v":"09:00 AM to 11:45 AM"}]
[null,null,{"$f":"IF('TIME TABLE'!$B$6=\"\",\"\",'TIME TABLE'!$B$6)","v":"2022-04-01"},null,{"$f":"IF(C1375=\"\",\"\",IF(C1375>0,CONCATENATE('TIME TABLE'!$C$6,'TIME TABLE'!$D$6,'TIME TABLE'!$E$6)))","v":"(Friday)"},{"$f":"IF(C1375=\"\",\"\",'TIME TABLE'!$F$6)","v":"English"},null,{"$f":"IF(F1375=\"\",\"\",'TIME TABLE'!$H$6)","v":"09:00 AM to 11:45 AM"}]
[null,null,{"$f":"IF('TIME TABLE'!$B$7=\"\",\"\",'TIME TABLE'!$B$7)","v":"2022-04-02"},null,{"$f":"IF(C1376=\"\",\"\",IF(C1376>0,CONCATENATE('TIME TABLE'!$C$7,'TIME TABLE'!$D$7,'TIME TABLE'!$E$7)))","v":"(Saturday)"},{"$f":"IF(C1376=\"\",\"\",'TIME TABLE'!$F$7)","v":"Science"},null,{"$f":"IF(F1376=\"\",\"\",'TIME TABLE'!$H$7)","v":"09:00 AM to 11:45 AM"}]
[null,null,{"$f":"IF('TIME TABLE'!$B$8=\"\",\"\",'TIME TABLE'!$B$8)","v":"2022-04-03"},null,{"$f":"IF(C1377=\"\",\"\",IF(C1377>0,CONCATENATE('TIME TABLE'!$C$8,'TIME TABLE'!$D$8,'TIME TABLE'!$E$8)))","v":"(Sunday)"},{"$f":"IF(C1377=\"\",\"\",'TIME TABLE'!$F$8)","v":"Mathematics"},null,{"$f":"IF(F1377=\"\",\"\",'TIME TABLE'!$H$8)","v":"09:00 AM to 11:45 AM"}]
[null,null,{"$f":"IF('TIME TABLE'!$B$9=\"\",\"\",'TIME TABLE'!$B$9)","v":"2022-04-04"},null,{"$f":"IF(C1378=\"\",\"\",IF(C1378>0,CONCATENATE('TIME TABLE'!$C$9,'TIME TABLE'!$D$9,'TIME TABLE'!$E$9)))","v":"(Monday)"},{"$f":"IF(C1378=\"\",\"\",'TIME TABLE'!$F$9)","v":"Social Study"},null,{"$f":"IF(F1378=\"\",\"\",'TIME TABLE'!$H$9)","v":"09:00 AM to 11:45 AM"}]
[null,null,{"$f":"IF('TIME TABLE'!$B$10=\"\",\"\",'TIME TABLE'!$B$10)","v":"2022-04-05"},null,{"$f":"IF(C1379=\"\",\"\",IF(C1379>0,CONCATENATE('TIME TABLE'!$C$10,'TIME TABLE'!$D$10,'TIME TABLE'!$E$10)))","v":"(Tuesday)"},{"$f":"IF(C1379=\"\",\"\",'TIME TABLE'!$F$10)","v":"Sanskrit"},null,{"$f":"IF(F1379=\"\",\"\",'TIME TABLE'!$H$10)","v":"09:00 AM to 11:45 AM"}]
[null,null,{"$f":"IF('TIME TABLE'!$B$11=\"\",\"\",'TIME TABLE'!$B$11)","v":""},null,{"$f":"IF(C1380=\"\",\"\",IF(C1380>0,CONCATENATE('TIME TABLE'!$C$11,'TIME TABLE'!$D$11,'TIME TABLE'!$E$11)))","v":""},{"$f":"IF(C1380=\"\",\"\",'TIME TABLE'!$F$11)","v":""},null,{"$f":"IF(F1380=\"\",\"\",'TIME TABLE'!$H$11)","v":""}]
[null,null,{"$f":"IF('TIME TABLE'!$B$12=\"\",\"\",'TIME TABLE'!$B$12)","v":""},null,{"$f":"IF(C1381=\"\",\"\",IF(C1381>0,CONCATENATE('TIME TABLE'!$C$12,'TIME TABLE'!$D$12,'TIME TABLE'!$E$12)))","v":""},{"$f":"IF(C1381=\"\",\"\",'TIME TABLE'!$F$12)","v":""},null,{"$f":"IF(C1381=\"\",\"\",'TIME TABLE'!$H$12)","v":""}]
[null,null,{"$f":"IF('TIME TABLE'!$B$13=\"\",\"\",'TIME TABLE'!$B$13)","v":""},null,{"$f":"IF(C1382=\"\",\"\",IF(C1382>0,CONCATENATE('TIME TABLE'!$C$11,'TIME TABLE'!$D$11,'TIME TABLE'!$E$11)))","v":""},{"$f":"IF(C1382=\"\",\"\",'TIME TABLE'!$F$13)","v":""},null,{"$f":"IF(C1382=\"\",\"\",'TIME TABLE'!$H$13)","v":""}]
[null,null,{"$f":"IF('TIME TABLE'!$B$14=\"\",\"\",'TIME TABLE'!$B$14)","v":""},null,{"$f":"IF(C1383=\"\",\"\",IF(C1383>0,CONCATENATE('TIME TABLE'!$C$11,'TIME TABLE'!$D$11,'TIME TABLE'!$E$11)))","v":""},{"$f":"IF(C1383=\"\",\"\",'TIME TABLE'!$F$14)","v":""},null,{"$f":"IF(C1383=\"\",\"\",'TIME TABLE'!$H$14)","v":""}]
[null,null,"Instructions"]
[null,null,1,"Check the exam time table carefully."]
[null,null,2,"Students must bring the 'Admit Card' and show it to the invigilator(s) on duty and should preserve it for future requirements."]
[null,null,3,"Mobile Phone, Calculator, Digital Watch or any Electronic Device is NOT ALLOWED."]
[null,null,4,"Arrive at the School at least 15 minutes before the start examination."]
[null,null,5,"Student is barred from entering the examination hall 15 minutes after the written examination starts."]
[null,null,6,"Ensure that you use the washroom before arriving for your exam as you will not be permitted to leave during the first hour."]
[null,null,7,"Normally, you are required to answer questionsusing blue or black in . Make sure you bring some spare pens with you."]
[null,null,8,"Keep your eyes on your own paper. Remember, copying is cheating!"]
[null,null,9,"You must remain silent until after you have exited the school building."]
[]
[{"$f":"A1361+1","v":42}]
[null,{"$f":"logo","v":{"$error":"#NAME?"}},null,{"$f":"MASTER!$E$11","v":"Govt. Sr. Secondary School Raimalwada"}]
[{"$nulls":3},{"$f":"MASTER!$E$14","v":"P.S.-Bapini (Phalodi)"}]
[null,{"$f":"CONCATENATE(C1399,'TIME TABLE'!$C$5,'ADMIT CARD'!$C1400,$F1400,'ADMIT CARD'!$G1400,'TIME TABLE'!$E$5)","v":"ADMIT CARD(Roll Number●→0)"},{"$f":"CONCATENATE('TIME TABLE'!$B$2,'TIME TABLE'!$F$2)","v":"TEST-I: (2025-26)"},{"$nulls":5},"Paste latest \nphoto of student"]
[null,null,"ADMIT CARD",{"$nulls":6}," "]
[null,null,"Roll Number",null,null,"●→",{"$f":"VLOOKUP(A1395,'STUDENT DETAIL'!$C$8:$I$107,3)","v":0}]
[null,null,"Student's Name",null,null,"●→",{"$f":"IF(OR(G1400=0,G1400=\"\"),\"\",VLOOKUP(A1395,'STUDENT DETAIL'!$C$8:$I$107,4))","v":""}]
[null,null,"Father's Name",null,null,"●→",{"$f":"IF(OR(G1400=0,G1400=\"\"),\"\",VLOOKUP(A1395,'STUDENT DETAIL'!$C$8:$I$107,5))","v":""},null,"Seal and Signature of Head of Institution"]
[null,null,"Mother's Name ",null,null,"●→",{"$f":"IF(OR(G1400=0,G1400=\"\"),\"\",VLOOKUP(A1395,'STUDENT DETAIL'!$C$8:$I$107,6))","v":""}]
[null,null,"Class & Section",null,null,"●→",{"$f":"IF(OR(G1400=0,G1400=\"\"),\"\",IF('STUDENT DETAIL'!$H$4=\"\",'STUDENT DETAIL'!$E$4,CONCATENATE('STUDENT DETAIL'!$E$4,\"   \",\"(\",'STUDENT DETAIL'!$H$4,\")\")))","v":""}]
[null,null,"Date Of Birth",null,null,"●→",{"$f":"IF(OR(G1400=0,G1400=\"\"),\"\",VLOOKUP(A1395,'STUDENT DETAIL'!$C$8:$I$107,7))","v":""}]
[null,null,"Time Table"]
[null,null,"Date (Day)",null,null,"Subject",null,"Time"]
[null,null,{"$f":"IF('TIME TABLE'!$B$5=\"\",\"\",'TIME TABLE'!$B$5)","v":"2022-03-31"},null,{"$f":"IF(C1408=\"\",\"\",IF(C1408>0,CONCATENATE('TIME TABLE'!$C$5,'TIME TABLE'!$D$5,'TIME TABLE'!$E$5)))","v":"(Thursday)"},{"$f":"IF(C1408=\"\",\"\",'TIME TABLE'!$F$5)","v":"Hindi"},null,{"$f":"IF(F1408=\"\",\"\",'TIME TABLE'!$H$5)","v":"09:00 AM to 11:45 AM"}]
[null,null,{"$f":"IF('TIME TABLE'!$B$6=\"\",\"\",'TIME TABLE'!$B$6)","v":"2022-04-01"},null,{"$f":"IF(C1409=\"\",\"\",IF(C1409>0,CONCATENATE('TIME TABLE'!$C$6,'TIME TABLE'!$D$6,'TIME TABLE'!$E$6)))","v":"(Friday)"},{"$f":"IF(C1409=\"\",\"\",'TIME TABLE'!$F$6)","v":"English"},null,{"$f":"IF(F1409=\"\",\"\",'TIME TABLE'!$H$6)","v":"09:00 AM to 11:45 AM"}]
[null,null,{"$f":"IF('TIME TABLE'!$B$7=\"\",\"\",'TIME TABLE'!$B$7)","v":"2022-04-02"},null,{"$f":"IF(C1410=\"\",\"\",IF(C1410>0,CONCATENATE('TIME TABLE'!$C$7,'TIME TABLE'!$D$7,'TIME TABLE'!$E$7)))","v":"(Saturday)"},{"$f":"IF(C1410=\"\",\"\",'TIME TABLE'!$F$7)","v":"Science"},null,{"$f":"IF(F1410=\"\",\"\",'TIME TABLE'!$H$7)","v":"09:00 AM to 11:45 AM"}]
[null,null,{"$f":"IF('TIME TABLE'!$B$8=\"\",\"\",'TIME TABLE'!$B$8)","v":"2022-04-03"},null,{"$f":"IF(C1411=\"\",\"\",IF(C1411>0,CONCATENATE('TIME TABLE'!$C$8,'TIME TABLE'!$D$8,'TIME TABLE'!$E$8)))","v":"(Sunday)"},{"$f":"IF(C1411=\"\",\"\",'TIME TABLE'!$F$8)","v":"Mathematics"},null,{"$f":"IF(F1411=\"\",\"\",'TIME TABLE'!$H$8)","v":"09:00 AM to 11:45 AM"}]
[null,null,{"$f":"IF('TIME TABLE'!$B$9=\"\",\"\",'TIME TABLE'!$B$9)","v":"2022-04-04"},null,{"$f":"IF(C1412=\"\",\"\",IF(C1412>0,CONCATENATE('TIME TABLE'!$C$9,'TIME TABLE'!$D$9,'TIME TABLE'!$E$9)))","v":"(Monday)"},{"$f":"IF(C1412=\"\",\"\",'TIME TABLE'!$F$9)","v":"Social Study"},null,{"$f":"IF(F1412=\"\",\"\",'TIME TABLE'!$H$9)","v":"09:00 AM to 11:45 AM"}]
[null,null,{"$f":"IF('TIME TABLE'!$B$10=\"\",\"\",'TIME TABLE'!$B$10)","v":"2022-04-05"},null,{"$f":"IF(C1413=\"\",\"\",IF(C1413>0,CONCATENATE('TIME TABLE'!$C$10,'TIME TABLE'!$D$10,'TIME TABLE'!$E$10)))","v":"(Tuesday)"},{"$f":"IF(C1413=\"\",\"\",'TIME TABLE'!$F$10)","v":"Sanskrit"},null,{"$f":"IF(F1413=\"\",\"\",'TIME TABLE'!$H$10)","v":"09:00 AM to 11:45 AM"}]
[null,null,{"$f":"IF('TIME TABLE'!$B$11=\"\",\"\",'TIME TABLE'!$B$11)","v":""},null,{"$f":"IF(C1414=\"\",\"\",IF(C1414>0,CONCATENATE('TIME TABLE'!$C$11,'TIME TABLE'!$D$11,'TIME TABLE'!$E$11)))","v":""},{"$f":"IF(C1414=\"\",\"\",'TIME TABLE'!$F$11)","v":""},null,{"$f":"IF(F1414=\"\",\"\",'TIME TABLE'!$H$11)","v":""}]
[null,null,{"$f":"IF('TIME TABLE'!$B$12=\"\",\"\",'TIME TABLE'!$B$12)","v":""},null,{"$f":"IF(C1415=\"\",\"\",IF(C1415>0,CONCATENATE('TIME TABLE'!$C$12,'TIME TABLE'!$D$12,'TIME TABLE'!$E$12)))","v":""},{"$f":"IF(C1415=\"\",\"\",'TIME TABLE'!$F$12)","v":""},null,{"$f":"IF(C1415=\"\",\"\",'TIME TABLE'!$H$12)","v":""}]
[null,null,{"$f":"IF('TIME TABLE'!$B$13=\"\",\"\",'TIME TABLE'!$B$13)","v":""},null,{"$f":"IF(C1416=\"\",\"\",IF(C1416>0,CONCATENATE('TIME TABLE'!$C$11,'TIME TABLE'!$D$11,'TIME TABLE'!$E$11)))","v":""},{"$f":"IF(C1416=\"\",\"\",'TIME TABLE'!$F$13)","v":""},null,{"$f":"IF(C1416=\"\",\"\",'TIME TABLE'!$H$13)","v":""}]
[null,null,{"$f":"IF('TIME TABLE'!$B$14=\"\",\"\",'TIME TABLE'!$B$14)","v":""},null,{"$f":"IF(C1417=\"\",\"\",IF(C1417>0,CONCATENATE('TIME TABLE'!$C$11,'TIME TABLE'!$D$11,'TIME TABLE'!$E$11)))","v":""},{"$f":"IF(C1417=\"\",\"\",'TIME TABLE'!$F$14)","v":""},null,{"$f":"IF(C1417=\"\",\"\",'TIME TABLE'!$H$14)","v":""}]
[null,null,"Instructions"]
[null,null,1,"Check the exam time table carefully."]
[null,null,2,"Students must bring the 'Admit Card' and show it to the invigilator(s) on duty and should preserve it for future requirements."]
[null,null,3,"Mobile Phone, Calculator, Digital Watch or any Electronic Device is NOT ALLOWED."]
[null,null,4,"Arrive at the School at least 15 minutes before the start examination."]
[null,null,5,"Student is barred from entering the examination hall 15 minutes after the written examination starts."]
[null,null,6,"Ensure that you use the washroom before arriving for your exam as you will not be permitted to leave during the first hour."]
[null,null,7,"Normally, you are required to answer questionsusing blue or black in . Make sure you bring some spare pens with you."]
[null,null,8,"Keep your eyes on your own paper. Remember, copying is cheating!"]
[null,null,9,"You must remain silent until after you have exited the school building."]
[]
[{"$f":"A1395+1","v":43}]
[null,{"$f":"logo","v":{"$error":"#NAME?"}},null,{"$f":"MASTER!$E$11","v":"Govt. Sr. Secondary School Raimalwada"}]
[{"$nulls":3},{"$f":"MASTER!$E$14","v":"P.S.-Bapini (Phalodi)"}]
[null,{"$f":"CONCATENATE(C1433,'TIME TABLE'!$C$5,'ADMIT CARD'!$C1434,$F1434,'ADMIT CARD'!$G1434,'TIME TABLE'!$E$5)","v":"ADMIT CARD(Roll Number●→0)"},{"$f":"CONCATENATE('TIME TABLE'!$B$2,'TIME TABLE'!$F$2)","v":"TEST-I: (2025-26)"},{"$nulls":5},"Paste latest \nphoto of student"]
[null,null,"ADMIT CARD",{"$nulls":6}," "]
[null,null,"Roll Number",null,null,"●→",{"$f":"VLOOKUP(A1429,'STUDENT DETAIL'!$C$8:$I$107,3)","v":0}]
[null,null,"Student's Name",null,null,"●→",{"$f":"IF(OR(G1434=0,G1434=\"\"),\"\",VLOOKUP(A1429,'STUDENT DETAIL'!$C$8:$I$107,4))","v":""}]
[null,null,"Father's Name",null,null,"●→",{"$f":"IF(OR(G1434=0,G1434=\"\"),\"\",VLOOKUP(A1429,'STUDENT DETAIL'!$C$8:$I$107,5))","v":""},null,"Seal and Signature of Head of Institution"]
[null,null,"Mother's Name ",null,null,"●→",{"$f":"IF(OR(G1434=0,G1434=\"\"),\"\",VLOOKUP(A1429,'STUDENT DETAIL'!$C$8:$I$107,6))","v":""}]
[null,null,"Class & Section",null,null,"●→",{"$f":"IF(OR(G1434=0,G1434=\"\"),\"\",IF('STUDENT DETAIL'!$H$4=\"\",'STUDENT DETAIL'!$E$4,CONCATENATE('STUDENT DETAIL'!$E$4,\"   \",\"(\",'STUDENT DETAIL'!$H$4,\")\")))","v":""}]
[null,null,"Date Of Birth",null,null,"●→",{"$f":"IF(OR(G1434=0,G1434=\"\"),\"\",VLOOKUP(A1429,'STUDENT DETAIL'!$C$8:$I$107,7))","v":""}]
[null,null,"Time Table"]
[null,null,"Date (Day)",null,null,"Subject",null,"Time"]
[null,null,{"$f":"IF('TIME TABLE'!$B$5=\"\",\"\",'TIME TABLE'!$B$5)","v":"2022-03-31"},null,{"$f":"IF(C1442=\"\",\"\",IF(C1442>0,CONCATENATE('TIME TABLE'!$C$5,'TIME TABLE'!$D$5,'TIME TABLE'!$E$5)))","v":"(Thursday)"},{"$f":"IF(C1442=\"\",\"\",'TIME TABLE'!$F$5)","v":"Hindi"},null,{"$f":"IF(F1442=\"\",\"\",'TIME TABLE'!$H$5)","v":"09:00 AM to 11:45 AM"}]
[null,null,{"$f":"IF('TIME TABLE'!$B$6=\"\",\"\",'TIME TABLE'!$B$6)","v":"2022-04-01"},null,{"$f":"IF(C1443=\"\",\"\",IF(C1443>0,CONCATENATE('TIME TABLE'!$C$6,'TIME TABLE'!$D$6,'TIME TABLE'!$E$6)))","v":"(Friday)"},{"$f":"IF(C1443=\"\",\"\",'TIME TABLE'!$F$6)","v":"English"},null,{"$f":"IF(F1443=\"\",\"\",'TIME TABLE'!$H$6)","v":"09:00 AM to 11:45 AM"}]
[null,null,{"$f":"IF('TIME TABLE'!$B$7=\"\",\"\",'TIME TABLE'!$B$7)","v":"2022-04-02"},null,{"$f":"IF(C1444=\"\",\"\",IF(C1444>0,CONCATENATE('TIME TABLE'!$C$7,'TIME TABLE'!$D$7,'TIME TABLE'!$E$7)))","v":"(Saturday)"},{"$f":"IF(C1444=\"\",\"\",'TIME TABLE'!$F$7)","v":"Science"},null,{"$f":"IF(F1444=\"\",\"\",'TIME TABLE'!$H$7)","v":"09:00 AM to 11:45 AM"}]
[null,null,{"$f":"IF('TIME TABLE'!$B$8=\"\",\"\",'TIME TABLE'!$B$8)","v":"2022-04-03"},null,{"$f":"IF(C1445=\"\",\"\",IF(C1445>0,CONCATENATE('TIME TABLE'!$C$8,'TIME TABLE'!$D$8,'TIME TABLE'!$E$8)))","v":"(Sunday)"},{"$f":"IF(C1445=\"\",\"\",'TIME TABLE'!$F$8)","v":"Mathematics"},null,{"$f":"IF(F1445=\"\",\"\",'TIME TABLE'!$H$8)","v":"09:00 AM to 11:45 AM"}]
[null,null,{"$f":"IF('TIME TABLE'!$B$9=\"\",\"\",'TIME TABLE'!$B$9)","v":"2022-04-04"},null,{"$f":"IF(C1446=\"\",\"\",IF(C1446>0,CONCATENATE('TIME TABLE'!$C$9,'TIME TABLE'!$D$9,'TIME TABLE'!$E$9)))","v":"(Monday)"},{"$f":"IF(C1446=\"\",\"\",'TIME TABLE'!$F$9)","v":"Social Study"},null,{"$f":"IF(F1446=\"\",\"\",'TIME TABLE'!$H$9)","v":"09:00 AM to 11:45 AM"}]
[null,null,{"$f":"IF('TIME TABLE'!$B$10=\"\",\"\",'TIME TABLE'!$B$10)","v":"2022-04-05"},null,{"$f":"IF(C1447=\"\",\"\",IF(C1447>0,CONCATENATE('TIME TABLE'!$C$10,'TIME TABLE'!$D$10,'TIME TABLE'!$E$10)))","v":"(Tuesday)"},{"$f":"IF(C1447=\"\",\"\",'TIME TABLE'!$F$10)","v":"Sanskrit"},null,{"$f":"IF(F1447=\"\",\"\",'TIME TABLE'!$H$10)","v":"09:00 AM to 11:45 AM"}]
[null,null,{"$f":"IF('TIME TABLE'!$B$11=\"\",\"\",'TIME TABLE'!$B$11)","v":""},null,{"$f":"IF(C1448=\"\",\"\",IF(C1448>0,CONCATENATE('TIME TABLE'!$C$11,'TIME TABLE'!$D$11,'TIME TABLE'!$E$11)))","v":""},{"$f":"IF(C1448=\"\",\"\",'TIME TABLE'!$F$11)","v":""},null,{"$f":"IF(F1448=\"\",\"\",'TIME TABLE'!$H$11)","v":""}]
[null,null,{"$f":"IF('TIME TABLE'!$B$12=\"\",\"\",'TIME TABLE'!$B$12)","v":""},null,{"$f":"IF(C1449=\"\",\"\",IF(C1449>0,CONCATENATE('TIME TABLE'!$C$12,'TIME TABLE'!$D$12,'TIME TABLE'!$E$12)))","v":""},{"$f":"IF(C1449=\"\",\"\",'TIME TABLE'!$F$12)","v":""},null,{"$f":"IF(C1449=\"\",\"\",'TIME TABLE'!$H$12)","v":""}]
[null,null,{"$f":"IF('TIME TABLE'!$B$13=\"\",\"\",'TIME TABLE'!$B$13)","v":""},null,{"$f":"IF(C1450=\"\",\"\",IF(C1450>0,CONCATENATE('TIME TABLE'!$C$11,'TIME TABLE'!$D$11,'TIME TABLE'!$E$11)))","v":""},{"$f":"IF(C1450=\"\",\"\",'TIME TABLE'!$F$13)","v":""},null,{"$f":"IF(C1450=\"\",\"\",'TIME TABLE'!$H$13)","v":""}]
[null,null,{"$f":"IF('TIME TABLE'!$B$14=\"\",\"\",'TIME TABLE'!$B$14)","v":""},null,{"$f":"IF(C1451=\"\",\"\",IF(C1451>0,CONCATENATE('TIME TABLE'!$C$11,'TIME TABLE'!$D$11,'TIME TABLE'!$E$11)))","v":""},{"$f":"IF(C1451=\"\",\"\",'TIME TABLE'!$F$14)","v":""},null,{"$f":"IF(C1451=\"\",\"\",'TIME TABLE'!$H$14)","v":""}]
[null,null,"Instructions"]
[null,null,1,"Check the exam time table carefully."]
[null,null,2,"Students must bring the 'Admit Card' and show it to the invigilator(s) on duty and should preserve it for future requirements."]
[null,null,3,"Mobile Phone, Calculator, Digital Watch or any Electronic Device is NOT ALLOWED."]
[null,null,4,"Arrive at the School at least 15 minutes before the start examination."]
[null,null,5,"Student is barred from entering the examination hall 15 minutes after the written examination starts."]
[null,null,6,"Ensure that you use the washroom before arriving for your exam as you will not be permitted to leave during the first hour."]
[null,null,7,"Normally, you are required to answer questionsusing blue or black in . Make sure you bring some spare pens with you."]
[null,null,8,"Keep your eyes on your own paper. Remember, copying is cheating!"]
[null,null,9,"You must remain silent until after you have exited the school building."]
[]
[{"$f":"A1429+1","v":44}]
[null,{"$f":"logo","v":{"$error":"#NAME?"}},null,{"$f":"MASTER!$E$11","v":"Govt. Sr. Secondary School Raimalwada"}]
[{"$nulls":3},{"$f":"MASTER!$E$14","v":"P.S.-Bapini (Phalodi)"}]
[null,{"$f":"CONCATENATE(C1467,'TIME TABLE'!$C$5,'ADMIT CARD'!$C1468,$F1468,'ADMIT CARD'!$G1468,'TIME TABLE'!$E$5)","v":"ADMIT CARD(Roll Number●→0)"},{"$f":"CONCATENATE('TIME TABLE'!$B$2,'TIME TABLE'!$F$2)","v":"TEST-I: (2025-26)"},{"$nulls":5},"Paste latest \nphoto of student"]
[null,null,"ADMIT CARD",{"$nulls":6}," "]
[null,null,"Roll Number",null,null,"●→",{"$f":"VLOOKUP(A1463,'STUDENT DETAIL'!$C$8:$I$107,3)","v":0}]
[null,null,"Student's Name",null,null,"●→",{"$f":"IF(OR(G1468=0,G1468=\"\"),\"\",VLOOKUP(A1463,'STUDENT DETAIL'!$C$8:$I$107,4))","v":""}]
[null,null,"Father's Name",null,null,"●→",{"$f":"IF(OR(G1468=0,G1468=\"\"),\"\",VLOOKUP(A1463,'STUDENT DETAIL'!$C$8:$I$107,5))","v":""},null,"Seal and Signature of Head of Institution"]
[null,null,"Mother's Name ",null,null,"●→",{"$f":"IF(OR(G1468=0,G1468=\"\"),\"\",VLOOKUP(A1463,'STUDENT DETAIL'!$C$8:$I$107,6))","v":""}]
[null,null,"Class & Section",null,null,"●→",{"$f":"IF(OR(G1468=0,G1468=\"\"),\"\",IF('STUDENT DETAIL'!$H$4=\"\",'STUDENT DETAIL'!$E$4,CONCATENATE('STUDENT DETAIL'!$E$4,\"   \",\"(\",'STUDENT DETAIL'!$H$4,\")\")))","v":""}]
[null,null,"Date Of Birth",null,null,"●→",{"$f":"IF(OR(G1468=0,G1468=\"\"),\"\",VLOOKUP(A1463,'STUDENT DETAIL'!$C$8:$I$107,7))","v":""}]
[null,null,"Time Table"]
[null,null,"Date (Day)",null,null,"Subject",null,"Time"]
[null,null,{"$f":"IF('TIME TABLE'!$B$5=\"\",\"\",'TIME TABLE'!$B$5)","v":"2022-03-31"},null,{"$f":"IF(C1476=\"\",\"\",IF(C1476>0,CONCATENATE('TIME TABLE'!$C$5,'TIME TABLE'!$D$5,'TIME TABLE'!$E$5)))","v":"(Thursday)"},{"$f":"IF(C1476=\"\",\"\",'TIME TABLE'!$F$5)","v":"Hindi"},null,{"$f":"IF(F1476=\"\",\"\",'TIME TABLE'!$H$5)","v":"09:00 AM to 11:45 AM"}]
[null,null,{"$f":"IF('TIME TABLE'!$B$6=\"\",\"\",'TIME TABLE'!$B$6)","v":"2022-04-01"},null,{"$f":"IF(C1477=\"\",\"\",IF(C1477>0,CONCATENATE('TIME TABLE'!$C$6,'TIME TABLE'!$D$6,'TIME TABLE'!$E$6)))","v":"(Friday)"},{"$f":"IF(C1477=\"\",\"\",'TIME TABLE'!$F$6)","v":"English"},null,{"$f":"IF(F1477=\"\",\"\",'TIME TABLE'!$H$6)","v":"09:00 AM to 11:45 AM"}]
[null,null,{"$f":"IF('TIME TABLE'!$B$7=\"\",\"\",'TIME TABLE'!$B$7)","v":"2022-04-02"},null,{"$f":"IF(C1478=\"\",\"\",IF(C1478>0,CONCATENATE('TIME TABLE'!$C$7,'TIME TABLE'!$D$7,'TIME TABLE'!$E$7)))","v":"(Saturday)"},{"$f":"IF(C1478=\"\",\"\",'TIME TABLE'!$F$7)","v":"Science"},null,{"$f":"IF(F1478=\"\",\"\",'TIME TABLE'!$H$7)","v":"09:00 AM to 11:45 AM"}]
[null,null,{"$f":"IF('TIME TABLE'!$B$8=\"\",\"\",'TIME TABLE'!$B$8)","v":"2022-04-03"},null,{"$f":"IF(C1479=\"\",\"\",IF(C1479>0,CONCATENATE('TIME TABLE'!$C$8,'TIME TABLE'!$D$8,'TIME TABLE'!$E$8)))","v":"(Sunday)"},{"$f":"IF(C1479=\"\",\"\",'TIME TABLE'!$F$8)","v":"Mathematics"},null,{"$f":"IF(F1479=\"\",\"\",'TIME TABLE'!$H$8)","v":"09:00 AM to 11:45 AM"}]
[null,null,{"$f":"IF('TIME TABLE'!$B$9=\"\",\"\",'TIME TABLE'!$B$9)","v":"2022-04-04"},null,{"$f":"IF(C1480=\"\",\"\",IF(C1480>0,CONCATENATE('TIME TABLE'!$C$9,'TIME TABLE'!$D$9,'TIME TABLE'!$E$9)))","v":"(Monday)"},{"$f":"IF(C1480=\"\",\"\",'TIME TABLE'!$F$9)","v":"Social Study"},null,{"$f":"IF(F1480=\"\",\"\",'TIME TABLE'!$H$9)","v":"09:00 AM to 11:45 AM"}]
[null,null,{"$f":"IF('TIME TABLE'!$B$10=\"\",\"\",'TIME TABLE'!$B$10)","v":"2022-04-05"},null,{"$f":"IF(C1481=\"\",\"\",IF(C1481>0,CONCATENATE('TIME TABLE'!$C$10,'TIME TABLE'!$D$10,'TIME TABLE'!$E$10)))","v":"(Tuesday)"},{"$f":"IF(C1481=\"\",\"\",'TIME TABLE'!$F$10)","v":"Sanskrit"},null,{"$f":"IF(F1481=\"\",\"\",'TIME TABLE'!$H$10)","v":"09:00 AM to 11:45 AM"}]
[null,null,{"$f":"IF('TIME TABLE'!$B$11=\"\",\"\",'TIME TABLE'!$B$11)","v":""},null,{"$f":"IF(C1482=\"\",\"\",IF(C1482>0,CONCATENATE('TIME TABLE'!$C$11,'TIME TABLE'!$D$11,'TIME TABLE'!$E$11)))","v":""},{"$f":"IF(C1482=\"\",\"\",'TIME TABLE'!$F$11)","v":""},null,{"$f":"IF(F1482=\"\",\"\",'TIME TABLE'!$H$11)","v":""}]
[null,null,{"$f":"IF('TIME TABLE'!$B$12=\"\",\"\",'TIME TABLE'!$B$12)","v":""},null,{"$f":"IF(C1483=\"\",\"\",IF(C1483>0,CONCATENATE('TIME TABLE'!$C$12,'TIME TABLE'!$D$12,'TIME TABLE'!$E$12)))","v":""},{"$f":"IF(C1483=\"\",\"\",'TIME TABLE'!$F$12)","v":""},null,{"$f":"IF(C1483=\"\",\"\",'TIME TABLE'!$H$12)","v":""}]
[null,null,{"$f":"IF('TIME TABLE'!$B$13=\"\",\"\",'TIME TABLE'!$B$13)","v":""},null,{"$f":"IF(C1484=\"\",\"\",IF(C1484>0,CONCATENATE('TIME TABLE'!$C$11,'TIME TABLE'!$D$11,'TIME TABLE'!$E$11)))","v":""},{"$f":"IF(C1484=\"\",\"\",'TIME TABLE'!$F$13)","v":""},null,{"$f":"IF(C1484=\"\",\"\",'TIME TABLE'!$H$13)","v":""}]
[null,null,{"$f":"IF('TIME TABLE'!$B$14=\"\",\"\",'TIME TABLE'!$B$14)","v":""},null,{"$f":"IF(C1485=\"\",\"\",IF(C1485>0,CONCATENATE('TIME TABLE'!$C$11,'TIME TABLE'!$D$11,'TIME TABLE'!$E$11)))","v":""},{"$f":"IF(C1485=\"\",\"\",'TIME TABLE'!$F$14)","v":""},null,{"$f":"IF(C1485=\"\",\"\",'TIME TABLE'!$H$14)","v":""}]
[null,null,"Instructions"]
[null,null,1,"Check the exam time table carefully."]
[null,null,2,"Students must bring the 'Admit Card' and show it to the invigilator(s) on duty and should preserve it for future requirements."]
[null,null,3,"Mobile Phone, Calculator, Digital Watch or any Electronic Device is NOT ALLOWED."]
[null,null,4,"Arrive at the School at least 15 minutes before the start examination."]
[null,null,5,"Student is barred from entering the examination hall 15 minutes after the written examination starts."]
[null,null,6,"Ensure that you use the washroom before arriving for your exam as you will not be permitted to leave during the first hour."]
[null,null,7,"Normally, you are required to answer questionsusing blue or black in . Make sure you bring some spare pens with you."]
[null,null,8,"Keep your eyes on your own paper. Remember, copying is cheating!"]
[null,null,9,"You must remain silent until after you have exited the school building."]
[]
[{"$f":"A1463+1","v":45}]
[null,{"$f":"logo","v":{"$error":"#NAME?"}},null,{"$f":"MASTER!$E$11","v":"Govt. Sr. Secondary School Raimalwada"}]
[{"$nulls":3},{"$f":"MASTER!$E$14","v":"P.S.-Bapini (Phalodi)"}]
[null,{"$f":"CONCATENATE(C1501,'TIME TABLE'!$C$5,'ADMIT CARD'!$C1502,$F1502,'ADMIT CARD'!$G1502,'TIME TABLE'!$E$5)","v":"ADMIT CARD(Roll Number●→0)"},{"$f":"CONCATENATE('TIME TABLE'!$B$2,'TIME TABLE'!$F$2)","v":"TEST-I: (2025-26)"},{"$nulls":5},"Paste latest \nphoto of student"]
[null,null,"ADMIT CARD",{"$nulls":6}," "]
[null,null,"Roll Number",null,null,"●→",{"$f":"VLOOKUP(A1497,'STUDENT DETAIL'!$C$8:$I$107,3)","v":0}]
[null,null,"Student's Name",null,null,"●→",{"$f":"IF(OR(G1502=0,G1502=\"\"),\"\",VLOOKUP(A1497,'STUDENT DETAIL'!$C$8:$I$107,4))","v":""}]
[null,null,"Father's Name",null,null,"●→",{"$f":"IF(OR(G1502=0,G1502=\"\"),\"\",VLOOKUP(A1497,'STUDENT DETAIL'!$C$8:$I$107,5))","v":""},null,"Seal and Signature of Head of Institution"]
[null,null,"Mother's Name ",null,null,"●→",{"$f":"IF(OR(G1502=0,G1502=\"\"),\"\",VLOOKUP(A1497,'STUDENT DETAIL'!$C$8:$I$107,6))","v":""}]
[null,null,"Class & Section",null,null,"●→",{"$f":"IF(OR(G1502=0,G1502=\"\"),\"\",IF('STUDENT DETAIL'!$H$4=\"\",'STUDENT DETAIL'!$E$4,CONCATENATE('STUDENT DETAIL'!$E$4,\"   \",\"(\",'STUDENT DETAIL'!$H$4,\")\")))","v":""}]
[null,null,"Date Of Birth",null,null,"●→",{"$f":"IF(OR(G1502=0,G1502=\"\"),\"\",VLOOKUP(A1497,'STUDENT DETAIL'!$C$8:$I$107,7))","v":""}]
[null,null,"Time Table"]
[null,null,"Date (Day)",null,null,"Subject",null,"Time"]
[null,null,{"$f":"IF('TIME TABLE'!$B$5=\"\",\"\",'TIME TABLE'!$B$5)","v":"2022-03-31"},null,{"$f":"IF(C1510=\"\",\"\",IF(C1510>0,CONCATENATE('TIME TABLE'!$C$5,'TIME TABLE'!$D$5,'TIME TABLE'!$E$5)))","v":"(Thursday)"},{"$f":"IF(C1510=\"\",\"\",'TIME TABLE'!$F$5)","v":"Hindi"},null,{"$f":"IF(F1510=\"\",\"\",'TIME TABLE'!$H$5)","v":"09:00 AM to 11:45 AM"}]
[null,null,{"$f":"IF('TIME TABLE'!$B$6=\"\",\"\",'TIME TABLE'!$B$6)","v":"2022-04-01"},null,{"$f":"IF(C1511=\"\",\"\",IF(C1511>0,CONCATENATE('TIME TABLE'!$C$6,'TIME TABLE'!$D$6,'TIME TABLE'!$E$6)))","v":"(Friday)"},{"$f":"IF(C1511=\"\",\"\",'TIME TABLE'!$F$6)","v":"English"},null,{"$f":"IF(F1511=\"\",\"\",'TIME TABLE'!$H$6)","v":"09:00 AM to 11:45 AM"}]
[null,null,{"$f":"IF('TIME TABLE'!$B$7=\"\",\"\",'TIME TABLE'!$B$7)","v":"2022-04-02"},null,{"$f":"IF(C1512=\"\",\"\",IF(C1512>0,CONCATENATE('TIME TABLE'!$C$7,'TIME TABLE'!$D$7,'TIME TABLE'!$E$7)))","v":"(Saturday)"},{"$f":"IF(C1512=\"\",\"\",'TIME TABLE'!$F$7)","v":"Science"},null,{"$f":"IF(F1512=\"\",\"\",'TIME TABLE'!$H$7)","v":"09:00 AM to 11:45 AM"}]
[null,null,{"$f":"IF('TIME TABLE'!$B$8=\"\",\"\",'TIME TABLE'!$B$8)","v":"2022-04-03"},null,{"$f":"IF(C1513=\"\",\"\",IF(C1513>0,CONCATENATE('TIME TABLE'!$C$8,'TIME TABLE'!$D$8,'TIME TABLE'!$E$8)))","v":"(Sunday)"},{"$f":"IF(C1513=\"\",\"\",'TIME TABLE'!$F$8)","v":"Mathematics"},null,{"$f":"IF(F1513=\"\",\"\",'TIME TABLE'!$H$8)","v":"09:00 AM to 11:45 AM"}]
[null,null,{"$f":"IF('TIME TABLE'!$B$9=\"\",\"\",'TIME TABLE'!$B$9)","v":"2022-04-04"},null,{"$f":"IF(C1514=\"\",\"\",IF(C1514>0,CONCATENATE('TIME TABLE'!$C$9,'TIME TABLE'!$D$9,'TIME TABLE'!$E$9)))","v":"(Monday)"},{"$f":"IF(C1514=\"\",\"\",'TIME TABLE'!$F$9)","v":"Social Study"},null,{"$f":"IF(F1514=\"\",\"\",'TIME TABLE'!$H$9)","v":"09:00 AM to 11:45 AM"}]
[null,null,{"$f":"IF('TIME TABLE'!$B$10=\"\",\"\",'TIME TABLE'!$B$10)","v":"2022-04-05"},null,{"$f":"IF(C1515=\"\",\"\",IF(C1515>0,CONCATENATE('TIME TABLE'!$C$10,'TIME TABLE'!$D$10,'TIME TABLE'!$E$10)))","v":"(Tuesday)"},{"$f":"IF(C1515=\"\",\"\",'TIME TABLE'!$F$10)","v":"Sanskrit"},null,{"$f":"IF(F1515=\"\",\"\",'TIME TABLE'!$H$10)","v":"09:00 AM to 11:45 AM"}]
[null,null,{"$f":"IF('TIME TABLE'!$B$11=\"\",\"\",'TIME TABLE'!$B$11)","v":""},null,{"$f":"IF(C1516=\"\",\"\",IF(C1516>0,CONCATENATE('TIME TABLE'!$C$11,'TIME TABLE'!$D$11,'TIME TABLE'!$E$11)))","v":""},{"$f":"IF(C1516=\"\",\"\",'TIME TABLE'!$F$11)","v":""},null,{"$f":"IF(F1516=\"\",\"\",'TIME TABLE'!$H$11)","v":""}]
[null,null,{"$f":"IF('TIME TABLE'!$B$12=\"\",\"\",'TIME TABLE'!$B$12)","v":""},null,{"$f":"IF(C1517=\"\",\"\",IF(C1517>0,CONCATENATE('TIME TABLE'!$C$12,'TIME TABLE'!$D$12,'TIME TABLE'!$E$12)))","v":""},{"$f":"IF(C1517=\"\",\"\",'TIME TABLE'!$F$12)","v":""},null,{"$f":"IF(C1517=\"\",\"\",'TIME TABLE'!$H$12)","v":""}]
[null,null,{"$f":"IF('TIME TABLE'!$B$13=\"\",\"\",'TIME TABLE'!$B$13)","v":""},null,{"$f":"IF(C1518=\"\",\"\",IF(C1518>0,CONCATENATE('TIME TABLE'!$C$11,'TIME TABLE'!$D$11,'TIME TABLE'!$E$11)))","v":""},{"$f":"IF(C1518=\"\",\"\",'TIME TABLE'!$F$13)","v":""},null,{"$f":"IF(C1518=\"\",\"\",'TIME TABLE'!$H$13)","v":""}]
[null,null,{"$f":"IF('TIME TABLE'!$B$14=\"\",\"\",'TIME TABLE'!$B$14)","v":""},null,{"$f":"IF(C1519=\"\",\"\",IF(C1519>0,CONCATENATE('TIME TABLE'!$C$11,'TIME TABLE'!$D$11,'TIME TABLE'!$E$11)))","v":""},{"$f":"IF(C1519=\"\",\"\",'TIME TABLE'!$F$14)","v":""},null,{"$f":"IF(C1519=\"\",\"\",'TIME TABLE'!$H$14)","v":""}]
[null,null,"Instructions"]
[null,null,1,"Check the exam time table carefully."]
[null,null,2,"Students must bring the 'Admit Card' and show it to the invigilator(s) on duty and should preserve it for future requirements."]
[null,null,3,"Mobile Phone, Calculator, Digital Watch or any Electronic Device is NOT ALLOWED."]
[null,null,4,"Arrive at the School at least 15 minutes before the start examination."]
[null,null,5,"Student is barred from entering the examination hall 15 minutes after the written examination starts."]
[null,null,6,"Ensure that you use the washroom before arriving for your exam as you will not be permitted to leave during the first hour."]
[null,null,7,"Normally, you are required to answer questionsusing blue or black in . Make sure you bring some spare pens with you."]
[null,null,8,"Keep your eyes on your own paper. Remember, copying is cheating!"]
[null,null,9,"You must remain silent until after you have exited the school building."]
[]
[{"$f":"A1497+1","v":46}]
[null,{"$f":"logo","v":{"$error":"#NAME?"}},null,{"$f":"MASTER!$E$11","v":"Govt. Sr. Secondary School Raimalwada"}]
[{"$nulls":3},{"$f":"MASTER!$E$14","v":"P.S.-Bapini (Phalodi)"}]
[null,{"$f":"CONCATENATE(C1535,'TIME TABLE'!$C$5,'ADMIT CARD'!$C1536,$F1536,'ADMIT CARD'!$G1536,'TIME TABLE'!$E$5)","v":"ADMIT CARD(Roll Number●→0)"},{"$f":"CONCATENATE('TIME TABLE'!$B$2,'TIME TABLE'!$F$2)","v":"TEST-I: (2025-26)"},{"$nulls":5},"Paste latest \nphoto of student"]
[null,null,"ADMIT CARD",{"$nulls":6}," "]
[null,null,"Roll Number",null,null,"●→",{"$f":"VLOOKUP(A1531,'STUDENT DETAIL'!$C$8:$I$107,3)","v":0}]
[null,null,"Student's Name",null,null,"●→",{"$f":"IF(OR(G1536=0,G1536=\"\"),\"\",VLOOKUP(A1531,'STUDENT DETAIL'!$C$8:$I$107,4))","v":""}]
[null,null,"Father's Name",null,null,"●→",{"$f":"IF(OR(G1536=0,G1536=\"\"),\"\",VLOOKUP(A1531,'STUDENT DETAIL'!$C$8:$I$107,5))","v":""},null,"Seal and Signature of Head of Institution"]
[null,null,"Mother's Name ",null,null,"●→",{"$f":"IF(OR(G1536=0,G1536=\"\"),\"\",VLOOKUP(A1531,'STUDENT DETAIL'!$C$8:$I$107,6))","v":""}]
[null,null,"Class & Section",null,null,"●→",{"$f":"IF(OR(G1536=0,G1536=\"\"),\"\",IF('STUDENT DETAIL'!$H$4=\"\",'STUDENT DETAIL'!$E$4,CONCATENATE('STUDENT DETAIL'!$E$4,\"   \",\"(\",'STUDENT DETAIL'!$H$4,\")\")))","v":""}]
[null,null,"Date Of Birth",null,null,"●→",{"$f":"IF(OR(G1536=0,G1536=\"\"),\"\",VLOOKUP(A1531,'STUDENT DETAIL'!$C$8:$I$107,7))","v":""}]
[null,null,"Time Table"]
[null,null,"Date (Day)",null,null,"Subject",null,"Time"]
[null,null,{"$f":"IF('TIME TABLE'!$B$5=\"\",\"\",'TIME TABLE'!$B$5)","v":"2022-03-31"},null,{"$f":"IF(C1544=\"\",\"\",IF(C1544>0,CONCATENATE('TIME TABLE'!$C$5,'TIME TABLE'!$D$5,'TIME TABLE'!$E$5)))","v":"(Thursday)"},{"$f":"IF(C1544=\"\",\"\",'TIME TABLE'!$F$5)","v":"Hindi"},null,{"$f":"IF(F1544=\"\",\"\",'TIME TABLE'!$H$5)","v":"09:00 AM to 11:45 AM"}]
[null,null,{"$f":"IF('TIME TABLE'!$B$6=\"\",\"\",'TIME TABLE'!$B$6)","v":"2022-04-01"},null,{"$f":"IF(C1545=\"\",\"\",IF(C1545>0,CONCATENATE('TIME TABLE'!$C$6,'TIME TABLE'!$D$6,'TIME TABLE'!$E$6)))","v":"(Friday)"},{"$f":"IF(C1545=\"\",\"\",'TIME TABLE'!$F$6)","v":"English"},null,{"$f":"IF(F1545=\"\",\"\",'TIME TABLE'!$H$6)","v":"09:00 AM to 11:45 AM"}]
[null,null,{"$f":"IF('TIME TABLE'!$B$7=\"\",\"\",'TIME TABLE'!$B$7)","v":"2022-04-02"},null,{"$f":"IF(C1546=\"\",\"\",IF(C1546>0,CONCATENATE('TIME TABLE'!$C$7,'TIME TABLE'!$D$7,'TIME TABLE'!$E$7)))","v":"(Saturday)"},{"$f":"IF(C1546=\"\",\"\",'TIME TABLE'!$F$7)","v":"Science"},null,{"$f":"IF(F1546=\"\",\"\",'TIME TABLE'!$H$7)","v":"09:00 AM to 11:45 AM"}]
[null,null,{"$f":"IF('TIME TABLE'!$B$8=\"\",\"\",'TIME TABLE'!$B$8)","v":"2022-04-03"},null,{"$f":"IF(C1547=\"\",\"\",IF(C1547>0,CONCATENATE('TIME TABLE'!$C$8,'TIME TABLE'!$D$8,'TIME TABLE'!$E$8)))","v":"(Sunday)"},{"$f":"IF(C1547=\"\",\"\",'TIME TABLE'!$F$8)","v":"Mathematics"},null,{"$f":"IF(F1547=\"\",\"\",'TIME TABLE'!$H$8)","v":"09:00 AM to 11:45 AM"}]
[null,null,{"$f":"IF('TIME TABLE'!$B$9=\"\",\"\",'TIME TABLE'!$B$9)","v":"2022-04-04"},null,{"$f":"IF(C1548=\"\",\"\",IF(C1548>0,CONCATENATE('TIME TABLE'!$C$9,'TIME TABLE'!$D$9,'TIME TABLE'!$E$9)))","v":"(Monday)"},{"$f":"IF(C1548=\"\",\"\",'TIME TABLE'!$F$9)","v":"Social Study"},null,{"$f":"IF(F1548=\"\",\"\",'TIME TABLE'!$H$9)","v":"09:00 AM to 11:45 AM"}]
[null,null,{"$f":"IF('TIME TABLE'!$B$10=\"\",\"\",'TIME TABLE'!$B$10)","v":"2022-04-05"},null,{"$f":"IF(C1549=\"\",\"\",IF(C1549>0,CONCATENATE('TIME TABLE'!$C$10,'TIME TABLE'!$D$10,'TIME TABLE'!$E$10)))","v":"(Tuesday)"},{"$f":"IF(C1549=\"\",\"\",'TIME TABLE'!$F$10)","v":"Sanskrit"},null,{"$f":"IF(F1549=\"\",\"\",'TIME TABLE'!$H$10)","v":"09:00 AM to 11:45 AM"}]
[null,null,{"$f":"IF('TIME TABLE'!$B$11=\"\",\"\",'TIME TABLE'!$B$11)","v":""},null,{"$f":"IF(C1550=\"\",\"\",IF(C1550>0,CONCATENATE('TIME TABLE'!$C$11,'TIME TABLE'!$D$11,'TIME TABLE'!$E$11)))","v":""},{"$f":"IF(C1550=\"\",\"\",'TIME TABLE'!$F$11)","v":""},null,{"$f":"IF(F1550=\"\",\"\",'TIME TABLE'!$H$11)","v":""}]
[null,null,{"$f":"IF('TIME TABLE'!$B$12=\"\",\"\",'TIME TABLE'!$B$12)","v":""},null,{"$f":"IF(C1551=\"\",\"\",IF(C1551>0,CONCATENATE('TIME TABLE'!$C$12,'TIME TABLE'!$D$12,'TIME TABLE'!$E$12)))","v":""},{"$f":"IF(C1551=\"\",\"\",'TIME TABLE'!$F$12)","v":""},null,{"$f":"IF(C1551=\"\",\"\",'TIME TABLE'!$H$12)","v":""}]
[null,null,{"$f":"IF('TIME TABLE'!$B$13=\"\",\"\",'TIME TABLE'!$B$13)","v":""},null,{"$f":"IF(C1552=\"\",\"\",IF(C1552>0,CONCATENATE('TIME TABLE'!$C$11,'TIME TABLE'!$D$11,'TIME TABLE'!$E$11)))","v":""},{"$f":"IF(C1552=\"\",\"\",'TIME TABLE'!$F$13)","v":""},null,{"$f":"IF(C1552=\"\",\"\",'TIME TABLE'!$H$13)","v":""}]
[null,null,{"$f":"IF('TIME TABLE'!$B$14=\"\",\"\",'TIME TABLE'!$B$14)","v":""},null,{"$f":"IF(C1553=\"\",\"\",IF(C1553>0,CONCATENATE('TIME TABLE'!$C$11,'TIME TABLE'!$D$11,'TIME TABLE'!$E$11)))","v":""},{"$f":"IF(C1553=\"\",\"\",'TIME TABLE'!$F$14)","v":""},null,{"$f":"IF(C1553=\"\",\"\",'TIME TABLE'!$H$14)","v":""}]
[null,null,"Instructions"]
[null,null,1,"Check the exam time table carefully."]
[null,null,2,"Students must bring the 'Admit Card' and show it to the invigilator(s) on duty and should preserve it for future requirements."]
[null,null,3,"Mobile Phone, Calculator, Digital Watch or any Electronic Device is NOT ALLOWED."]
[null,null,4,"Arrive at the School at least 15 minutes before the start examination."]
[null,null,5,"Student is barred from entering the examination hall 15 minutes after the written examination starts."]
[null,null,6,"Ensure that you use the washroom before arriving for your exam as you will not be permitted to leave during the first hour."]
[null,null,7,"Normally, you are required to answer questionsusing blue or black in . Make sure you bring some spare pens with you."]
[null,null,8,"Keep your eyes on your own paper. Remember, copying is cheating!"]
[null,null,9,"You must remain silent until after you have exited the school building."]
[]
[{"$f":"A1531+1","v":47}]
[null,{"$f":"logo","v":{"$error":"#NAME?"}},null,{"$f":"MASTER!$E$11","v":"Govt. Sr. Secondary School Raimalwada"}]
[{"$nulls":3},{"$f":"MASTER!$E$14","v":"P.S.-Bapini (Phalodi)"}]
[null,{"$f":"CONCATENATE(C1569,'TIME TABLE'!$C$5,'ADMIT CARD'!$C1570,$F1570,'ADMIT CARD'!$G1570,'TIME TABLE'!$E$5)","v":"ADMIT CARD(Roll Number●→0)"},{"$f":"CONCATENATE('TIME TABLE'!$B$2,'TIME TABLE'!$F$2)","v":"TEST-I: (2025-26)"},{"$nulls":5},"Paste latest \nphoto of student"]
[null,null,"ADMIT CARD",{"$nulls":6}," "]
[null,null,"Roll Number",null,null,"●→",{"$f":"VLOOKUP(A1565,'STUDENT DETAIL'!$C$8:$I$107,3)","v":0}]
[null,null,"Student's Name",null,null,"●→",{"$f":"IF(OR(G1570=0,G1570=\"\"),\"\",VLOOKUP(A1565,'STUDENT DETAIL'!$C$8:$I$107,4))","v":""}]
[null,null,"Father's Name",null,null,"●→",{"$f":"IF(OR(G1570=0,G1570=\"\"),\"\",VLOOKUP(A1565,'STUDENT DETAIL'!$C$8:$I$107,5))","v":""},null,"Seal and Signature of Head of Institution"]
[null,null,"Mother's Name ",null,null,"●→",{"$f":"IF(OR(G1570=0,G1570=\"\"),\"\",VLOOKUP(A1565,'STUDENT DETAIL'!$C$8:$I$107,6))","v":""}]
[null,null,"Class & Section",null,null,"●→",{"$f":"IF(OR(G1570=0,G1570=\"\"),\"\",IF('STUDENT DETAIL'!$H$4=\"\",'STUDENT DETAIL'!$E$4,CONCATENATE('STUDENT DETAIL'!$E$4,\"   \",\"(\",'STUDENT DETAIL'!$H$4,\")\")))","v":""}]
[null,null,"Date Of Birth",null,null,"●→",{"$f":"IF(OR(G1570=0,G1570=\"\"),\"\",VLOOKUP(A1565,'STUDENT DETAIL'!$C$8:$I$107,7))","v":""}]
[null,null,"Time Table"]
[null,null,"Date (Day)",null,null,"Subject",null,"Time"]
[null,null,{"$f":"IF('TIME TABLE'!$B$5=\"\",\"\",'TIME TABLE'!$B$5)","v":"2022-03-31"},null,{"$f":"IF(C1578=\"\",\"\",IF(C1578>0,CONCATENATE('TIME TABLE'!$C$5,'TIME TABLE'!$D$5,'TIME TABLE'!$E$5)))","v":"(Thursday)"},{"$f":"IF(C1578=\"\",\"\",'TIME TABLE'!$F$5)","v":"Hindi"},null,{"$f":"IF(F1578=\"\",\"\",'TIME TABLE'!$H$5)","v":"09:00 AM to 11:45 AM"}]
[null,null,{"$f":"IF('TIME TABLE'!$B$6=\"\",\"\",'TIME TABLE'!$B$6)","v":"2022-04-01"},null,{"$f":"IF(C1579=\"\",\"\",IF(C1579>0,CONCATENATE('TIME TABLE'!$C$6,'TIME TABLE'!$D$6,'TIME TABLE'!$E$6)))","v":"(Friday)"},{"$f":"IF(C1579=\"\",\"\",'TIME TABLE'!$F$6)","v":"English"},null,{"$f":"IF(F1579=\"\",\"\",'TIME TABLE'!$H$6)","v":"09:00 AM to 11:45 AM"}]
[null,null,{"$f":"IF('TIME TABLE'!$B$7=\"\",\"\",'TIME TABLE'!$B$7)","v":"2022-04-02"},null,{"$f":"IF(C1580=\"\",\"\",IF(C1580>0,CONCATENATE('TIME TABLE'!$C$7,'TIME TABLE'!$D$7,'TIME TABLE'!$E$7)))","v":"(Saturday)"},{"$f":"IF(C1580=\"\",\"\",'TIME TABLE'!$F$7)","v":"Science"},null,{"$f":"IF(F1580=\"\",\"\",'TIME TABLE'!$H$7)","v":"09:00 AM to 11:45 AM"}]
[null,null,{"$f":"IF('TIME TABLE'!$B$8=\"\",\"\",'TIME TABLE'!$B$8)","v":"2022-04-03"},null,{"$f":"IF(C1581=\"\",\"\",IF(C1581>0,CONCATENATE('TIME TABLE'!$C$8,'TIME TABLE'!$D$8,'TIME TABLE'!$E$8)))","v":"(Sunday)"},{"$f":"IF(C1581=\"\",\"\",'TIME TABLE'!$F$8)","v":"Mathematics"},null,{"$f":"IF(F1581=\"\",\"\",'TIME TABLE'!$H$8)","v":"09:00 AM to 11:45 AM"}]
[null,null,{"$f":"IF('TIME TABLE'!$B$9=\"\",\"\",'TIME TABLE'!$B$9)","v":"2022-04-04"},null,{"$f":"IF(C1582=\"\",\"\",IF(C1582>0,CONCATENATE('TIME TABLE'!$C$9,'TIME TABLE'!$D$9,'TIME TABLE'!$E$9)))","v":"(Monday)"},{"$f":"IF(C1582=\"\",\"\",'TIME TABLE'!$F$9)","v":"Social Study"},null,{"$f":"IF(F1582=\"\",\"\",'TIME TABLE'!$H$9)","v":"09:00 AM to 11:45 AM"}]
[null,null,{"$f":"IF('TIME TABLE'!$B$10=\"\",\"\",'TIME TABLE'!$B$10)","v":"2022-04-05"},null,{"$f":"IF(C1583=\"\",\"\",IF(C1583>0,CONCATENATE('TIME TABLE'!$C$10,'TIME TABLE'!$D$10,'TIME TABLE'!$E$10)))","v":"(Tuesday)"},{"$f":"IF(C1583=\"\",\"\",'TIME TABLE'!$F$10)","v":"Sanskrit"},null,{"$f":"IF(F1583=\"\",\"\",'TIME TABLE'!$H$10)","v":"09:00 AM to 11:45 AM"}]
[null,null,{"$f":"IF('TIME TABLE'!$B$11=\"\",\"\",'TIME TABLE'!$B$11)","v":""},null,{"$f":"IF(C1584=\"\",\"\",IF(C1584>0,CONCATENATE('TIME TABLE'!$C$11,'TIME TABLE'!$D$11,'TIME TABLE'!$E$11)))","v":""},{"$f":"IF(C1584=\"\",\"\",'TIME TABLE'!$F$11)","v":""},null,{"$f":"IF(F1584=\"\",\"\",'TIME TABLE'!$H$11)","v":""}]
[null,null,{"$f":"IF('TIME TABLE'!$B$12=\"\",\"\",'TIME TABLE'!$B$12)","v":""},null,{"$f":"IF(C1585=\"\",\"\",IF(C1585>0,CONCATENATE('TIME TABLE'!$C$12,'TIME TABLE'!$D$12,'TIME TABLE'!$E$12)))","v":""},{"$f":"IF(C1585=\"\",\"\",'TIME TABLE'!$F$12)","v":""},null,{"$f":"IF(C1585=\"\",\"\",'TIME TABLE'!$H$12)","v":""}]
[null,null,{"$f":"IF('TIME TABLE'!$B$13=\"\",\"\",'TIME TABLE'!$B$13)","v":""},null,{"$f":"IF(C1586=\"\",\"\",IF(C1586>0,CONCATENATE('TIME TABLE'!$C$11,'TIME TABLE'!$D$11,'TIME TABLE'!$E$11)))","v":""},{"$f":"IF(C1586=\"\",\"\",'TIME TABLE'!$F$13)","v":""},null,{"$f":"IF(C1586=\"\",\"\",'TIME TABLE'!$H$13)","v":""}]
[null,null,{"$f":"IF('TIME TABLE'!$B$14=\"\",\"\",'TIME TABLE'!$B$14)","v":""},null,{"$f":"IF(C1587=\"\",\"\",IF(C1587>0,CONCATENATE('TIME TABLE'!$C$11,'TIME TABLE'!$D$11,'TIME TABLE'!$E$11)))","v":""},{"$f":"IF(C1587=\"\",\"\",'TIME TABLE'!$F$14)","v":""},null,{"$f":"IF(C1587=\"\",\"\",'TIME TABLE'!$H$14)","v":""}]
[null,null,"Instructions"]
[null,null,1,"Check the exam time table carefully."]
[null,null,2,"Students must bring the 'Admit Card' and show it to the invigilator(s) on duty and should preserve it for future requirements."]
[null,null,3,"Mobile Phone, Calculator, Digital Watch or any Electronic Device is NOT ALLOWED."]
[null,null,4,"Arrive at the School at least 15 minutes before the start examination."]
[null,null,5,"Student is barred from entering the examination hall 15 minutes after the written examination starts."]
[null,null,6,"Ensure that you use the washroom before arriving for your exam as you will not be permitted to leave during the first hour."]
[null,null,7,"Normally, you are required to answer questionsusing blue or black in . Make sure you bring some spare pens with you."]
[null,null,8,"Keep your eyes on your own paper. Remember, copying is cheating!"]
[null,null,9,"You must remain silent until after you have exited the school building."]
[]
[{"$f":"A1565+1","v":48}]
[null,{"$f":"logo","v":{"$error":"#NAME?"}},null,{"$f":"MASTER!$E$11","v":"Govt. Sr. Secondary School Raimalwada"}]
[{"$nulls":3},{"$f":"MASTER!$E$14","v":"P.S.-Bapini (Phalodi)"}]
[null,{"$f":"CONCATENATE(C1603,'TIME TABLE'!$C$5,'ADMIT CARD'!$C1604,$F1604,'ADMIT CARD'!$G1604,'TIME TABLE'!$E$5)","v":"ADMIT CARD(Roll Number●→0)"},{"$f":"CONCATENATE('TIME TABLE'!$B$2,'TIME TABLE'!$F$2)","v":"TEST-I: (2025-26)"},{"$nulls":5},"Paste latest \nphoto of student"]
[null,null,"ADMIT CARD",{"$nulls":6}," "]
[null,null,"Roll Number",null,null,"●→",{"$f":"VLOOKUP(A1599,'STUDENT DETAIL'!$C$8:$I$107,3)","v":0}]
[null,null,"Student's Name",null,null,"●→",{"$f":"IF(OR(G1604=0,G1604=\"\"),\"\",VLOOKUP(A1599,'STUDENT DETAIL'!$C$8:$I$107,4))","v":""}]
[null,null,"Father's Name",null,null,"●→",{"$f":"IF(OR(G1604=0,G1604=\"\"),\"\",VLOOKUP(A1599,'STUDENT DETAIL'!$C$8:$I$107,5))","v":""},null,"Seal and Signature of Head of Institution"]
[null,null,"Mother's Name ",null,null,"●→",{"$f":"IF(OR(G1604=0,G1604=\"\"),\"\",VLOOKUP(A1599,'STUDENT DETAIL'!$C$8:$I$107,6))","v":""}]
[null,null,"Class & Section",null,null,"●→",{"$f":"IF(OR(G1604=0,G1604=\"\"),\"\",IF('STUDENT DETAIL'!$H$4=\"\",'STUDENT DETAIL'!$E$4,CONCATENATE('STUDENT DETAIL'!$E$4,\"   \",\"(\",'STUDENT DETAIL'!$H$4,\")\")))","v":""}]
[null,null,"Date Of Birth",null,null,"●→",{"$f":"IF(OR(G1604=0,G1604=\"\"),\"\",VLOOKUP(A1599,'STUDENT DETAIL'!$C$8:$I$107,7))","v":""}]
[null,null,"Time Table"]
[null,null,"Date (Day)",null,null,"Subject",null,"Time"]
[null,null,{"$f":"IF('TIME TABLE'!$B$5=\"\",\"\",'TIME TABLE'!$B$5)","v":"2022-03-31"},null,{"$f":"IF(C1612=\"\",\"\",IF(C1612>0,CONCATENATE('TIME TABLE'!$C$5,'TIME TABLE'!$D$5,'TIME TABLE'!$E$5)))","v":"(Thursday)"},{"$f":"IF(C1612=\"\",\"\",'TIME TABLE'!$F$5)","v":"Hindi"},null,{"$f":"IF(F1612=\"\",\"\",'TIME TABLE'!$H$5)","v":"09:00 AM to 11:45 AM"}]
[null,null,{"$f":"IF('TIME TABLE'!$B$6=\"\",\"\",'TIME TABLE'!$B$6)","v":"2022-04-01"},null,{"$f":"IF(C1613=\"\",\"\",IF(C1613>0,CONCATENATE('TIME TABLE'!$C$6,'TIME TABLE'!$D$6,'TIME TABLE'!$E$6)))","v":"(Friday)"},{"$f":"IF(C1613=\"\",\"\",'TIME TABLE'!$F$6)","v":"English"},null,{"$f":"IF(F1613=\"\",\"\",'TIME TABLE'!$H$6)","v":"09:00 AM to 11:45 AM"}]
[null,null,{"$f":"IF('TIME TABLE'!$B$7=\"\",\"\",'TIME TABLE'!$B$7)","v":"2022-04-02"},null,{"$f":"IF(C1614=\"\",\"\",IF(C1614>0,CONCATENATE('TIME TABLE'!$C$7,'TIME TABLE'!$D$7,'TIME TABLE'!$E$7)))","v":"(Saturday)"},{"$f":"IF(C1614=\"\",\"\",'TIME TABLE'!$F$7)","v":"Science"},null,{"$f":"IF(F1614=\"\",\"\",'TIME TABLE'!$H$7)","v":"09:00 AM to 11:45 AM"}]
[null,null,{"$f":"IF('TIME TABLE'!$B$8=\"\",\"\",'TIME TABLE'!$B$8)","v":"2022-04-03"},null,{"$f":"IF(C1615=\"\",\"\",IF(C1615>0,CONCATENATE('TIME TABLE'!$C$8,'TIME TABLE'!$D$8,'TIME TABLE'!$E$8)))","v":"(Sunday)"},{"$f":"IF(C1615=\"\",\"\",'TIME TABLE'!$F$8)","v":"Mathematics"},null,{"$f":"IF(F1615=\"\",\"\",'TIME TABLE'!$H$8)","v":"09:00 AM to 11:45 AM"}]
[null,null,{"$f":"IF('TIME TABLE'!$B$9=\"\",\"\",'TIME TABLE'!$B$9)","v":"2022-04-04"},null,{"$f":"IF(C1616=\"\",\"\",IF(C1616>0,CONCATENATE('TIME TABLE'!$C$9,'TIME TABLE'!$D$9,'TIME TABLE'!$E$9)))","v":"(Monday)"},{"$f":"IF(C1616=\"\",\"\",'TIME TABLE'!$F$9)","v":"Social Study"},null,{"$f":"IF(F1616=\"\",\"\",'TIME TABLE'!$H$9)","v":"09:00 AM to 11:45 AM"}]
[null,null,{"$f":"IF('TIME TABLE'!$B$10=\"\",\"\",'TIME TABLE'!$B$10)","v":"2022-04-05"},null,{"$f":"IF(C1617=\"\",\"\",IF(C1617>0,CONCATENATE('TIME TABLE'!$C$10,'TIME TABLE'!$D$10,'TIME TABLE'!$E$10)))","v":"(Tuesday)"},{"$f":"IF(C1617=\"\",\"\",'TIME TABLE'!$F$10)","v":"Sanskrit"},null,{"$f":"IF(F1617=\"\",\"\",'TIME TABLE'!$H$10)","v":"09:00 AM to 11:45 AM"}]
[null,null,{"$f":"IF('TIME TABLE'!$B$11=\"\",\"\",'TIME TABLE'!$B$11)","v":""},null,{"$f":"IF(C1618=\"\",\"\",IF(C1618>0,CONCATENATE('TIME TABLE'!$C$11,'TIME TABLE'!$D$11,'TIME TABLE'!$E$11)))","v":""},{"$f":"IF(C1618=\"\",\"\",'TIME TABLE'!$F$11)","v":""},null,{"$f":"IF(F1618=\"\",\"\",'TIME TABLE'!$H$11)","v":""}]
[null,null,{"$f":"IF('TIME TABLE'!$B$12=\"\",\"\",'TIME TABLE'!$B$12)","v":""},null,{"$f":"IF(C1619=\"\",\"\",IF(C1619>0,CONCATENATE('TIME TABLE'!$C$12,'TIME TABLE'!$D$12,'TIME TABLE'!$E$12)))","v":""},{"$f":"IF(C1619=\"\",\"\",'TIME TABLE'!$F$12)","v":""},null,{"$f":"IF(C1619=\"\",\"\",'TIME TABLE'!$H$12)","v":""}]
[null,null,{"$f":"IF('TIME TABLE'!$B$13=\"\",\"\",'TIME TABLE'!$B$13)","v":""},null,{"$f":"IF(C1620=\"\",\"\",IF(C1620>0,CONCATENATE('TIME TABLE'!$C$11,'TIME TABLE'!$D$11,'TIME TABLE'!$E$11)))","v":""},{"$f":"IF(C1620=\"\",\"\",'TIME TABLE'!$F$13)","v":""},null,{"$f":"IF(C1620=\"\",\"\",'TIME TABLE'!$H$13)","v":""}]
[null,null,{"$f":"IF('TIME TABLE'!$B$14=\"\",\"\",'TIME TABLE'!$B$14)","v":""},null,{"$f":"IF(C1621=\"\",\"\",IF(C1621>0,CONCATENATE('TIME TABLE'!$C$11,'TIME TABLE'!$D$11,'TIME TABLE'!$E$11)))","v":""},{"$f":"IF(C1621=\"\",\"\",'TIME TABLE'!$F$14)","v":""},null,{"$f":"IF(C1621=\"\",\"\",'TIME TABLE'!$H$14)","v":""}]
[null,null,"Instructions"]
[null,null,1,"Check the exam time table carefully."]
[null,null,2,"Students must bring the 'Admit Card' and show it to the invigilator(s) on duty and should preserve it for future requirements."]
[null,null,3,"Mobile Phone, Calculator, Digital Watch or any Electronic Device is NOT ALLOWED."]
[null,null,4,"Arrive at the School at least 15 minutes before the start examination."]
[null,null,5,"Student is barred from entering the examination hall 15 minutes after the written examination starts."]
[null,null,6,"Ensure that you use the washroom before arriving for your exam as you will not be permitted to leave during the first hour."]
[null,null,7,"Normally, you are required to answer questionsusing blue or black in . Make sure you bring some spare pens with you."]
[null,null,8,"Keep your eyes on your own paper. Remember, copying is cheating!"]
[null,null,9,"You must remain silent until after you have exited the school building."]
[]
[{"$f":"A1599+1","v":49}]
[null,{"$f":"logo","v":{"$error":"#NAME?"}},null,{"$f":"MASTER!$E$11","v":"Govt. Sr. Secondary School Raimalwada"}]
[{"$nulls":3},{"$f":"MASTER!$E$14","v":"P.S.-Bapini (Phalodi)"}]
[null,{"$f":"CONCATENATE(C1637,'TIME TABLE'!$C$5,'ADMIT CARD'!$C1638,$F1638,'ADMIT CARD'!$G1638,'TIME TABLE'!$E$5)","v":"ADMIT CARD(Roll Number●→0)"},{"$f":"CONCATENATE('TIME TABLE'!$B$2,'TIME TABLE'!$F$2)","v":"TEST-I: (2025-26)"},{"$nulls":5},"Paste latest \nphoto of student"]
[null,null,"ADMIT CARD",{"$nulls":6}," "]
[null,null,"Roll Number",null,null,"●→",{"$f":"VLOOKUP(A1633,'STUDENT DETAIL'!$C$8:$I$107,3)","v":0}]
[null,null,"Student's Name",null,null,"●→",{"$f":"IF(OR(G1638=0,G1638=\"\"),\"\",VLOOKUP(A1633,'STUDENT DETAIL'!$C$8:$I$107,4))","v":""}]
[null,null,"Father's Name",null,null,"●→",{"$f":"IF(OR(G1638=0,G1638=\"\"),\"\",VLOOKUP(A1633,'STUDENT DETAIL'!$C$8:$I$107,5))","v":""},null,"Seal and Signature of Head of Institution"]
[null,null,"Mother's Name ",null,null,"●→",{"$f":"IF(OR(G1638=0,G1638=\"\"),\"\",VLOOKUP(A1633,'STUDENT DETAIL'!$C$8:$I$107,6))","v":""}]
[null,null,"Class & Section",null,null,"●→",{"$f":"IF(OR(G1638=0,G1638=\"\"),\"\",IF('STUDENT DETAIL'!$H$4=\"\",'STUDENT DETAIL'!$E$4,CONCATENATE('STUDENT DETAIL'!$E$4,\"   \",\"(\",'STUDENT DETAIL'!$H$4,\")\")))","v":""}]
[null,null,"Date Of Birth",null,null,"●→",{"$f":"IF(OR(G1638=0,G1638=\"\"),\"\",VLOOKUP(A1633,'STUDENT DETAIL'!$C$8:$I$107,7))","v":""}]
[null,null,"Time Table"]
[null,null,"Date (Day)",null,null,"Subject",null,"Time"]
[null,null,{"$f":"IF('TIME TABLE'!$B$5=\"\",\"\",'TIME TABLE'!$B$5)","v":"2022-03-31"},null,{"$f":"IF(C1646=\"\",\"\",IF(C1646>0,CONCATENATE('TIME TABLE'!$C$5,'TIME TABLE'!$D$5,'TIME TABLE'!$E$5)))","v":"(Thursday)"},{"$f":"IF(C1646=\"\",\"\",'TIME TABLE'!$F$5)","v":"Hindi"},null,{"$f":"IF(F1646=\"\",\"\",'TIME TABLE'!$H$5)","v":"09:00 AM to 11:45 AM"}]
[null,null,{"$f":"IF('TIME TABLE'!$B$6=\"\",\"\",'TIME TABLE'!$B$6)","v":"2022-04-01"},null,{"$f":"IF(C1647=\"\",\"\",IF(C1647>0,CONCATENATE('TIME TABLE'!$C$6,'TIME TABLE'!$D$6,'TIME TABLE'!$E$6)))","v":"(Friday)"},{"$f":"IF(C1647=\"\",\"\",'TIME TABLE'!$F$6)","v":"English"},null,{"$f":"IF(F1647=\"\",\"\",'TIME TABLE'!$H$6)","v":"09:00 AM to 11:45 AM"}]
[null,null,{"$f":"IF('TIME TABLE'!$B$7=\"\",\"\",'TIME TABLE'!$B$7)","v":"2022-04-02"},null,{"$f":"IF(C1648=\"\",\"\",IF(C1648>0,CONCATENATE('TIME TABLE'!$C$7,'TIME TABLE'!$D$7,'TIME TABLE'!$E$7)))","v":"(Saturday)"},{"$f":"IF(C1648=\"\",\"\",'TIME TABLE'!$F$7)","v":"Science"},null,{"$f":"IF(F1648=\"\",\"\",'TIME TABLE'!$H$7)","v":"09:00 AM to 11:45 AM"}]
[null,null,{"$f":"IF('TIME TABLE'!$B$8=\"\",\"\",'TIME TABLE'!$B$8)","v":"2022-04-03"},null,{"$f":"IF(C1649=\"\",\"\",IF(C1649>0,CONCATENATE('TIME TABLE'!$C$8,'TIME TABLE'!$D$8,'TIME TABLE'!$E$8)))","v":"(Sunday)"},{"$f":"IF(C1649=\"\",\"\",'TIME TABLE'!$F$8)","v":"Mathematics"},null,{"$f":"IF(F1649=\"\",\"\",'TIME TABLE'!$H$8)","v":"09:00 AM to 11:45 AM"}]
[null,null,{"$f":"IF('TIME TABLE'!$B$9=\"\",\"\",'TIME TABLE'!$B$9)","v":"2022-04-04"},null,{"$f":"IF(C1650=\"\",\"\",IF(C1650>0,CONCATENATE('TIME TABLE'!$C$9,'TIME TABLE'!$D$9,'TIME TABLE'!$E$9)))","v":"(Monday)"},{"$f":"IF(C1650=\"\",\"\",'TIME TABLE'!$F$9)","v":"Social Study"},null,{"$f":"IF(F1650=\"\",\"\",'TIME TABLE'!$H$9)","v":"09:00 AM to 11:45 AM"}]
[null,null,{"$f":"IF('TIME TABLE'!$B$10=\"\",\"\",'TIME TABLE'!$B$10)","v":"2022-04-05"},null,{"$f":"IF(C1651=\"\",\"\",IF(C1651>0,CONCATENATE('TIME TABLE'!$C$10,'TIME TABLE'!$D$10,'TIME TABLE'!$E$10)))","v":"(Tuesday)"},{"$f":"IF(C1651=\"\",\"\",'TIME TABLE'!$F$10)","v":"Sanskrit"},null,{"$f":"IF(F1651=\"\",\"\",'TIME TABLE'!$H$10)","v":"09:00 AM to 11:45 AM"}]
[null,null,{"$f":"IF('TIME TABLE'!$B$11=\"\",\"\",'TIME TABLE'!$B$11)","v":""},null,{"$f":"IF(C1652=\"\",\"\",IF(C1652>0,CONCATENATE('TIME TABLE'!$C$11,'TIME TABLE'!$D$11,'TIME TABLE'!$E$11)))","v":""},{"$f":"IF(C1652=\"\",\"\",'TIME TABLE'!$F$11)","v":""},null,{"$f":"IF(F1652=\"\",\"\",'TIME TABLE'!$H$11)","v":""}]
[null,null,{"$f":"IF('TIME TABLE'!$B$12=\"\",\"\",'TIME TABLE'!$B$12)","v":""},null,{"$f":"IF(C1653=\"\",\"\",IF(C1653>0,CONCATENATE('TIME TABLE'!$C$12,'TIME TABLE'!$D$12,'TIME TABLE'!$E$12)))","v":""},{"$f":"IF(C1653=\"\",\"\",'TIME TABLE'!$F$12)","v":""},null,{"$f":"IF(C1653=\"\",\"\",'TIME TABLE'!$H$12)","v":""}]
[null,null,{"$f":"IF('TIME TABLE'!$B$13=\"\",\"\",'TIME TABLE'!$B$13)","v":""},null,{"$f":"IF(C1654=\"\",\"\",IF(C1654>0,CONCATENATE('TIME TABLE'!$C$11,'TIME TABLE'!$D$11,'TIME TABLE'!$E$11)))","v":""},{"$f":"IF(C1654=\"\",\"\",'TIME TABLE'!$F$13)","v":""},null,{"$f":"IF(C1654=\"\",\"\",'TIME TABLE'!$H$13)","v":""}]
[null,null,{"$f":"IF('TIME TABLE'!$B$14=\"\",\"\",'TIME TABLE'!$B$14)","v":""},null,{"$f":"IF(C1655=\"\",\"\",IF(C1655>0,CONCATENATE('TIME TABLE'!$C$11,'TIME TABLE'!$D$11,'TIME TABLE'!$E$11)))","v":""},{"$f":"IF(C1655=\"\",\"\",'TIME TABLE'!$F$14)","v":""},null,{"$f":"IF(C1655=\"\",\"\",'TIME TABLE'!$H$14)","v":""}]
[null,null,"Instructions"]
[null,null,1,"Check the exam time table carefully."]
[null,null,2,"Students must bring the 'Admit Card' and show it to the invigilator(s) on duty and should preserve it for future requirements."]
[null,null,3,"Mobile Phone, Calculator, Digital Watch or any Electronic Device is NOT ALLOWED."]
[null,null,4,"Arrive at the School at least 15 minutes before the start examination."]
[null,null,5,"Student is barred from entering the examination hall 15 minutes after the written examination starts."]
[null,null,6,"Ensure that you use the washroom before arriving for your exam as you will not be permitted to leave during the first hour."]
[null,null,7,"Normally, you are required to answer questionsusing blue or black in . Make sure you bring some spare pens with you."]
[null,null,8,"Keep your eyes on your own paper. Remember, copying is cheating!"]
[null,null,9,"You must remain silent until after you have exited the school building."]
[]
[{"$f":"A1633+1","v":50}]
[null,{"$f":"logo","v":{"$error":"#NAME?"}},null,{"$f":"MASTER!$E$11","v":"Govt. Sr. Secondary School Raimalwada"}]
[{"$nulls":3},{"$f":"MASTER!$E$14","v":"P.S.-Bapini (Phalodi)"}]
[null,{"$f":"CONCATENATE(C1671,'TIME TABLE'!$C$5,'ADMIT CARD'!$C1672,$F1672,'ADMIT CARD'!$G1672,'TIME TABLE'!$E$5)","v":"ADMIT CARD(Roll Number●→0)"},{"$f":"CONCATENATE('TIME TABLE'!$B$2,'TIME TABLE'!$F$2)","v":"TEST-I: (2025-26)"},{"$nulls":5},"Paste latest \nphoto of student"]
[null,null,"ADMIT CARD",{"$nulls":6}," "]
[null,null,"Roll Number",null,null,"●→",{"$f":"VLOOKUP(A1667,'STUDENT DETAIL'!$C$8:$I$107,3)","v":0}]
[null,null,"Student's Name",null,null,"●→",{"$f":"IF(OR(G1672=0,G1672=\"\"),\"\",VLOOKUP(A1667,'STUDENT DETAIL'!$C$8:$I$107,4))","v":""}]
[null,null,"Father's Name",null,null,"●→",{"$f":"IF(OR(G1672=0,G1672=\"\"),\"\",VLOOKUP(A1667,'STUDENT DETAIL'!$C$8:$I$107,5))","v":""},null,"Seal and Signature of Head of Institution"]
[null,null,"Mother's Name ",null,null,"●→",{"$f":"IF(OR(G1672=0,G1672=\"\"),\"\",VLOOKUP(A1667,'STUDENT DETAIL'!$C$8:$I$107,6))","v":""}]
[null,null,"Class & Section",null,null,"●→",{"$f":"IF(OR(G1672=0,G1672=\"\"),\"\",IF('STUDENT DETAIL'!$H$4=\"\",'STUDENT DETAIL'!$E$4,CONCATENATE('STUDENT DETAIL'!$E$4,\"   \",\"(\",'STUDENT DETAIL'!$H$4,\")\")))","v":""}]
[null,null,"Date Of Birth",null,null,"●→",{"$f":"IF(OR(G1672=0,G1672=\"\"),\"\",VLOOKUP(A1667,'STUDENT DETAIL'!$C$8:$I$107,7))","v":""}]
[null,null,"Time Table"]
[null,null,"Date (Day)",null,null,"Subject",null,"Time"]
[null,null,{"$f":"IF('TIME TABLE'!$B$5=\"\",\"\",'TIME TABLE'!$B$5)","v":"2022-03-31"},null,{"$f":"IF(C1680=\"\",\"\",IF(C1680>0,CONCATENATE('TIME TABLE'!$C$5,'TIME TABLE'!$D$5,'TIME TABLE'!$E$5)))","v":"(Thursday)"},{"$f":"IF(C1680=\"\",\"\",'TIME TABLE'!$F$5)","v":"Hindi"},null,{"$f":"IF(F1680=\"\",\"\",'TIME TABLE'!$H$5)","v":"09:00 AM to 11:45 AM"}]
[null,null,{"$f":"IF('TIME TABLE'!$B$6=\"\",\"\",'TIME TABLE'!$B$6)","v":"2022-04-01"},null,{"$f":"IF(C1681=\"\",\"\",IF(C1681>0,CONCATENATE('TIME TABLE'!$C$6,'TIME TABLE'!$D$6,'TIME TABLE'!$E$6)))","v":"(Friday)"},{"$f":"IF(C1681=\"\",\"\",'TIME TABLE'!$F$6)","v":"English"},null,{"$f":"IF(F1681=\"\",\"\",'TIME TABLE'!$H$6)","v":"09:00 AM to 11:45 AM"}]
[null,null,{"$f":"IF('TIME TABLE'!$B$7=\"\",\"\",'TIME TABLE'!$B$7)","v":"2022-04-02"},null,{"$f":"IF(C1682=\"\",\"\",IF(C1682>0,CONCATENATE('TIME TABLE'!$C$7,'TIME TABLE'!$D$7,'TIME TABLE'!$E$7)))","v":"(Saturday)"},{"$f":"IF(C1682=\"\",\"\",'TIME TABLE'!$F$7)","v":"Science"},null,{"$f":"IF(F1682=\"\",\"\",'TIME TABLE'!$H$7)","v":"09:00 AM to 11:45 AM"}]
[null,null,{"$f":"IF('TIME TABLE'!$B$8=\"\",\"\",'TIME TABLE'!$B$8)","v":"2022-04-03"},null,{"$f":"IF(C1683=\"\",\"\",IF(C1683>0,CONCATENATE('TIME TABLE'!$C$8,'TIME TABLE'!$D$8,'TIME TABLE'!$E$8)))","v":"(Sunday)"},{"$f":"IF(C1683=\"\",\"\",'TIME TABLE'!$F$8)","v":"Mathematics"},null,{"$f":"IF(F1683=\"\",\"\",'TIME TABLE'!$H$8)","v":"09:00 AM to 11:45 AM"}]
[null,null,{"$f":"IF('TIME TABLE'!$B$9=\"\",\"\",'TIME TABLE'!$B$9)","v":"2022-04-04"},null,{"$f":"IF(C1684=\"\",\"\",IF(C1684>0,CONCATENATE('TIME TABLE'!$C$9,'TIME TABLE'!$D$9,'TIME TABLE'!$E$9)))","v":"(Monday)"},{"$f":"IF(C1684=\"\",\"\",'TIME TABLE'!$F$9)","v":"Social Study"},null,{"$f":"IF(F1684=\"\",\"\",'TIME TABLE'!$H$9)","v":"09:00 AM to 11:45 AM"}]
[null,null,{"$f":"IF('TIME TABLE'!$B$10=\"\",\"\",'TIME TABLE'!$B$10)","v":"2022-04-05"},null,{"$f":"IF(C1685=\"\",\"\",IF(C1685>0,CONCATENATE('TIME TABLE'!$C$10,'TIME TABLE'!$D$10,'TIME TABLE'!$E$10)))","v":"(Tuesday)"},{"$f":"IF(C1685=\"\",\"\",'TIME TABLE'!$F$10)","v":"Sanskrit"},null,{"$f":"IF(F1685=\"\",\"\",'TIME TABLE'!$H$10)","v":"09:00 AM to 11:45 AM"}]
[null,null,{"$f":"IF('TIME TABLE'!$B$11=\"\",\"\",'TIME TABLE'!$B$11)","v":""},null,{"$f":"IF(C1686=\"\",\"\",IF(C1686>0,CONCATENATE('TIME TABLE'!$C$11,'TIME TABLE'!$D$11,'TIME TABLE'!$E$11)))","v":""},{"$f":"IF(C1686=\"\",\"\",'TIME TABLE'!$F$11)","v":""},null,{"$f":"IF(F1686=\"\",\"\",'TIME TABLE'!$H$11)","v":""}]
[null,null,{"$f":"IF('TIME TABLE'!$B$12=\"\",\"\",'TIME TABLE'!$B$12)","v":""},null,{"$f":"IF(C1687=\"\",\"\",IF(C1687>0,CONCATENATE('TIME TABLE'!$C$12,'TIME TABLE'!$D$12,'TIME TABLE'!$E$12)))","v":""},{"$f":"IF(C1687=\"\",\"\",'TIME TABLE'!$F$12)","v":""},null,{"$f":"IF(C1687=\"\",\"\",'TIME TABLE'!$H$12)","v":""}]
[null,null,{"$f":"IF('TIME TABLE'!$B$13=\"\",\"\",'TIME TABLE'!$B$13)","v":""},null,{"$f":"IF(C1688=\"\",\"\",IF(C1688>0,CONCATENATE('TIME TABLE'!$C$11,'TIME TABLE'!$D$11,'TIME TABLE'!$E$11)))","v":""},{"$f":"IF(C1688=\"\",\"\",'TIME TABLE'!$F$13)","v":""},null,{"$f":"IF(C1688=\"\",\"\",'TIME TABLE'!$H$13)","v":""}]
[null,null,{"$f":"IF('TIME TABLE'!$B$14=\"\",\"\",'TIME TABLE'!$B$14)","v":""},null,{"$f":"IF(C1689=\"\",\"\",IF(C1689>0,CONCATENATE('TIME TABLE'!$C$11,'TIME TABLE'!$D$11,'TIME TABLE'!$E$11)))","v":""},{"$f":"IF(C1689=\"\",\"\",'TIME TABLE'!$F$14)","v":""},null,{"$f":"IF(C1689=\"\",\"\",'TIME TABLE'!$H$14)","v":""}]
[null,null,"Instructions"]
[null,null,1,"Check the exam time table carefully."]
[null,null,2,"Students must bring the 'Admit Card' and show it to the invigilator(s) on duty and should preserve it for future requirements."]
[null,null,3,"Mobile Phone, Calculator, Digital Watch or any Electronic Device is NOT ALLOWED."]
[null,null,4,"Arrive at the School at least 15 minutes before the start examination."]
[null,null,5,"Student is barred from entering the examination hall 15 minutes after the written examination starts."]
[null,null,6,"Ensure that you use the washroom before arriving for your exam as you will not be permitted to leave during the first hour."]
[null,null,7,"Normally, you are required to answer questionsusing blue or black in . Make sure you bring some spare pens with you."]
[null,null,8,"Keep your eyes on your own paper. Remember, copying is cheating!"]
[null,null,9,"You must remain silent until after you have exited the school building."]
[]
[{"$f":"A1667+1","v":51}]
[null,{"$f":"logo","v":{"$error":"#NAME?"}},null,{"$f":"MASTER!$E$11","v":"Govt. Sr. Secondary School Raimalwada"}]
[{"$nulls":3},{"$f":"MASTER!$E$14","v":"P.S.-Bapini (Phalodi)"}]
[null,{"$f":"CONCATENATE(C1705,'TIME TABLE'!$C$5,'ADMIT CARD'!$C1706,$F1706,'ADMIT CARD'!$G1706,'TIME TABLE'!$E$5)","v":"ADMIT CARD(Roll Number●→0)"},{"$f":"CONCATENATE('TIME TABLE'!$B$2,'TIME TABLE'!$F$2)","v":"TEST-I: (2025-26)"},{"$nulls":5},"Paste latest \nphoto of student"]
[null,null,"ADMIT CARD",{"$nulls":6}," "]
[null,null,"Roll Number",null,null,"●→",{"$f":"VLOOKUP(A1701,'STUDENT DETAIL'!$C$8:$I$107,3)","v":0}]
[null,null,"Student's Name",null,null,"●→",{"$f":"IF(OR(G1706=0,G1706=\"\"),\"\",VLOOKUP(A1701,'STUDENT DETAIL'!$C$8:$I$107,4))","v":""}]
[null,null,"Father's Name",null,null,"●→",{"$f":"IF(OR(G1706=0,G1706=\"\"),\"\",VLOOKUP(A1701,'STUDENT DETAIL'!$C$8:$I$107,5))","v":""},null,"Seal and Signature of Head of Institution"]
[null,null,"Mother's Name ",null,null,"●→",{"$f":"IF(OR(G1706=0,G1706=\"\"),\"\",VLOOKUP(A1701,'STUDENT DETAIL'!$C$8:$I$107,6))","v":""}]
[null,null,"Class & Section",null,null,"●→",{"$f":"IF(OR(G1706=0,G1706=\"\"),\"\",IF('STUDENT DETAIL'!$H$4=\"\",'STUDENT DETAIL'!$E$4,CONCATENATE('STUDENT DETAIL'!$E$4,\"   \",\"(\",'STUDENT DETAIL'!$H$4,\")\")))","v":""}]
[null,null,"Date Of Birth",null,null,"●→",{"$f":"IF(OR(G1706=0,G1706=\"\"),\"\",VLOOKUP(A1701,'STUDENT DETAIL'!$C$8:$I$107,7))","v":""}]
[null,null,"Time Table"]
[null,null,"Date (Day)",null,null,"Subject",null,"Time"]
[null,null,{"$f":"IF('TIME TABLE'!$B$5=\"\",\"\",'TIME TABLE'!$B$5)","v":"2022-03-31"},null,{"$f":"IF(C1714=\"\",\"\",IF(C1714>0,CONCATENATE('TIME TABLE'!$C$5,'TIME TABLE'!$D$5,'TIME TABLE'!$E$5)))","v":"(Thursday)"},{"$f":"IF(C1714=\"\",\"\",'TIME TABLE'!$F$5)","v":"Hindi"},null,{"$f":"IF(F1714=\"\",\"\",'TIME TABLE'!$H$5)","v":"09:00 AM to 11:45 AM"}]
[null,null,{"$f":"IF('TIME TABLE'!$B$6=\"\",\"\",'TIME TABLE'!$B$6)","v":"2022-04-01"},null,{"$f":"IF(C1715=\"\",\"\",IF(C1715>0,CONCATENATE('TIME TABLE'!$C$6,'TIME TABLE'!$D$6,'TIME TABLE'!$E$6)))","v":"(Friday)"},{"$f":"IF(C1715=\"\",\"\",'TIME TABLE'!$F$6)","v":"English"},null,{"$f":"IF(F1715=\"\",\"\",'TIME TABLE'!$H$6)","v":"09:00 AM to 11:45 AM"}]
[null,null,{"$f":"IF('TIME TABLE'!$B$7=\"\",\"\",'TIME TABLE'!$B$7)","v":"2022-04-02"},null,{"$f":"IF(C1716=\"\",\"\",IF(C1716>0,CONCATENATE('TIME TABLE'!$C$7,'TIME TABLE'!$D$7,'TIME TABLE'!$E$7)))","v":"(Saturday)"},{"$f":"IF(C1716=\"\",\"\",'TIME TABLE'!$F$7)","v":"Science"},null,{"$f":"IF(F1716=\"\",\"\",'TIME TABLE'!$H$7)","v":"09:00 AM to 11:45 AM"}]
[null,null,{"$f":"IF('TIME TABLE'!$B$8=\"\",\"\",'TIME TABLE'!$B$8)","v":"2022-04-03"},null,{"$f":"IF(C1717=\"\",\"\",IF(C1717>0,CONCATENATE('TIME TABLE'!$C$8,'TIME TABLE'!$D$8,'TIME TABLE'!$E$8)))","v":"(Sunday)"},{"$f":"IF(C1717=\"\",\"\",'TIME TABLE'!$F$8)","v":"Mathematics"},null,{"$f":"IF(F1717=\"\",\"\",'TIME TABLE'!$H$8)","v":"09:00 AM to 11:45 AM"}]
[null,null,{"$f":"IF('TIME TABLE'!$B$9=\"\",\"\",'TIME TABLE'!$B$9)","v":"2022-04-04"},null,{"$f":"IF(C1718=\"\",\"\",IF(C1718>0,CONCATENATE('TIME TABLE'!$C$9,'TIME TABLE'!$D$9,'TIME TABLE'!$E$9)))","v":"(Monday)"},{"$f":"IF(C1718=\"\",\"\",'TIME TABLE'!$F$9)","v":"Social Study"},null,{"$f":"IF(F1718=\"\",\"\",'TIME TABLE'!$H$9)","v":"09:00 AM to 11:45 AM"}]
[null,null,{"$f":"IF('TIME TABLE'!$B$10=\"\",\"\",'TIME TABLE'!$B$10)","v":"2022-04-05"},null,{"$f":"IF(C1719=\"\",\"\",IF(C1719>0,CONCATENATE('TIME TABLE'!$C$10,'TIME TABLE'!$D$10,'TIME TABLE'!$E$10)))","v":"(Tuesday)"},{"$f":"IF(C1719=\"\",\"\",'TIME TABLE'!$F$10)","v":"Sanskrit"},null,{"$f":"IF(F1719=\"\",\"\",'TIME TABLE'!$H$10)","v":"09:00 AM to 11:45 AM"}]
[null,null,{"$f":"IF('TIME TABLE'!$B$11=\"\",\"\",'TIME TABLE'!$B$11)","v":""},null,{"$f":"IF(C1720=\"\",\"\",IF(C1720>0,CONCATENATE('TIME TABLE'!$C$11,'TIME TABLE'!$D$11,'TIME TABLE'!$E$11)))","v":""},{"$f":"IF(C1720=\"\",\"\",'TIME TABLE'!$F$11)","v":""},null,{"$f":"IF(F1720=\"\",\"\",'TIME TABLE'!$H$11)","v":""}]
[null,null,{"$f":"IF('TIME TABLE'!$B$12=\"\",\"\",'TIME TABLE'!$B$12)","v":""},null,{"$f":"IF(C1721=\"\",\"\",IF(C1721>0,CONCATENATE('TIME TABLE'!$C$12,'TIME TABLE'!$D$12,'TIME TABLE'!$E$12)))","v":""},{"$f":"IF(C1721=\"\",\"\",'TIME TABLE'!$F$12)","v":""},null,{"$f":"IF(C1721=\"\",\"\",'TIME TABLE'!$H$12)","v":""}]
[null,null,{"$f":"IF('TIME TABLE'!$B$13=\"\",\"\",'TIME TABLE'!$B$13)","v":""},null,{"$f":"IF(C1722=\"\",\"\",IF(C1722>0,CONCATENATE('TIME TABLE'!$C$11,'TIME TABLE'!$D$11,'TIME TABLE'!$E$11)))","v":""},{"$f":"IF(C1722=\"\",\"\",'TIME TABLE'!$F$13)","v":""},null,{"$f":"IF(C1722=\"\",\"\",'TIME TABLE'!$H$13)","v":""}]
[null,null,{"$f":"IF('TIME TABLE'!$B$14=\"\",\"\",'TIME TABLE'!$B$14)","v":""},null,{"$f":"IF(C1723=\"\",\"\",IF(C1723>0,CONCATENATE('TIME TABLE'!$C$11,'TIME TABLE'!$D$11,'TIME TABLE'!$E$11)))","v":""},{"$f":"IF(C1723=\"\",\"\",'TIME TABLE'!$F$14)","v":""},null,{"$f":"IF(C1723=\"\",\"\",'TIME TABLE'!$H$14)","v":""}]
[null,null,"Instructions"]
[null,null,1,"Check the exam time table carefully."]
[null,null,2,"Students must bring the 'Admit Card' and show it to the invigilator(s) on duty and should preserve it for future requirements."]
[null,null,3,"Mobile Phone, Calculator, Digital Watch or any Electronic Device is NOT ALLOWED."]
[null,null,4,"Arrive at the School at least 15 minutes before the start examination."]
[null,null,5,"Student is barred from entering the examination hall 15 minutes after the written examination starts."]
[null,null,6,"Ensure that you use the washroom before arriving for your exam as you will not be permitted to leave during the first hour."]
[null,null,7,"Normally, you are required to answer questionsusing blue or black in . Make sure you bring some spare pens with you."]
[null,null,8,"Keep your eyes on your own paper. Remember, copying is cheating!"]
[null,null,9,"You must remain silent until after you have exited the school building."]
[]
[{"$f":"A1701+1","v":52}]
[null,{"$f":"logo","v":{"$error":"#NAME?"}},null,{"$f":"MASTER!$E$11","v":"Govt. Sr. Secondary School Raimalwada"}]
[{"$nulls":3},{"$f":"MASTER!$E$14","v":"P.S.-Bapini (Phalodi)"}]
[null,{"$f":"CONCATENATE(C1739,'TIME TABLE'!$C$5,'ADMIT CARD'!$C1740,$F1740,'ADMIT CARD'!$G1740,'TIME TABLE'!$E$5)","v":"ADMIT CARD(Roll Number●→0)"},{"$f":"CONCATENATE('TIME TABLE'!$B$2,'TIME TABLE'!$F$2)","v":"TEST-I: (2025-26)"},{"$nulls":5},"Paste latest \nphoto of student"]
[null,null,"ADMIT CARD",{"$nulls":6}," "]
[null,null,"Roll Number",null,null,"●→",{"$f":"VLOOKUP(A1735,'STUDENT DETAIL'!$C$8:$I$107,3)","v":0}]
[null,null,"Student's Name",null,null,"●→",{"$f":"IF(OR(G1740=0,G1740=\"\"),\"\",VLOOKUP(A1735,'STUDENT DETAIL'!$C$8:$I$107,4))","v":""}]
[null,null,"Father's Name",null,null,"●→",{"$f":"IF(OR(G1740=0,G1740=\"\"),\"\",VLOOKUP(A1735,'STUDENT DETAIL'!$C$8:$I$107,5))","v":""},null,"Seal and Signature of Head of Institution"]
[null,null,"Mother's Name ",null,null,"●→",{"$f":"IF(OR(G1740=0,G1740=\"\"),\"\",VLOOKUP(A1735,'STUDENT DETAIL'!$C$8:$I$107,6))","v":""}]
[null,null,"Class & Section",null,null,"●→",{"$f":"IF(OR(G1740=0,G1740=\"\"),\"\",IF('STUDENT DETAIL'!$H$4=\"\",'STUDENT DETAIL'!$E$4,CONCATENATE('STUDENT DETAIL'!$E$4,\"   \",\"(\",'STUDENT DETAIL'!$H$4,\")\")))","v":""}]
[null,null,"Date Of Birth",null,null,"●→",{"$f":"IF(OR(G1740=0,G1740=\"\"),\"\",VLOOKUP(A1735,'STUDENT DETAIL'!$C$8:$I$107,7))","v":""}]
[null,null,"Time Table"]
[null,null,"Date (Day)",null,null,"Subject",null,"Time"]
[null,null,{"$f":"IF('TIME TABLE'!$B$5=\"\",\"\",'TIME TABLE'!$B$5)","v":"2022-03-31"},null,{"$f":"IF(C1748=\"\",\"\",IF(C1748>0,CONCATENATE('TIME TABLE'!$C$5,'TIME TABLE'!$D$5,'TIME TABLE'!$E$5)))","v":"(Thursday)"},{"$f":"IF(C1748=\"\",\"\",'TIME TABLE'!$F$5)","v":"Hindi"},null,{"$f":"IF(F1748=\"\",\"\",'TIME TABLE'!$H$5)","v":"09:00 AM to 11:45 AM"}]
[null,null,{"$f":"IF('TIME TABLE'!$B$6=\"\",\"\",'TIME TABLE'!$B$6)","v":"2022-04-01"},null,{"$f":"IF(C1749=\"\",\"\",IF(C1749>0,CONCATENATE('TIME TABLE'!$C$6,'TIME TABLE'!$D$6,'TIME TABLE'!$E$6)))","v":"(Friday)"},{"$f":"IF(C1749=\"\",\"\",'TIME TABLE'!$F$6)","v":"English"},null,{"$f":"IF(F1749=\"\",\"\",'TIME TABLE'!$H$6)","v":"09:00 AM to 11:45 AM"}]
[null,null,{"$f":"IF('TIME TABLE'!$B$7=\"\",\"\",'TIME TABLE'!$B$7)","v":"2022-04-02"},null,{"$f":"IF(C1750=\"\",\"\",IF(C1750>0,CONCATENATE('TIME TABLE'!$C$7,'TIME TABLE'!$D$7,'TIME TABLE'!$E$7)))","v":"(Saturday)"},{"$f":"IF(C1750=\"\",\"\",'TIME TABLE'!$F$7)","v":"Science"},null,{"$f":"IF(F1750=\"\",\"\",'TIME TABLE'!$H$7)","v":"09:00 AM to 11:45 AM"}]
[null,null,{"$f":"IF('TIME TABLE'!$B$8=\"\",\"\",'TIME TABLE'!$B$8)","v":"2022-04-03"},null,{"$f":"IF(C1751=\"\",\"\",IF(C1751>0,CONCATENATE('TIME TABLE'!$C$8,'TIME TABLE'!$D$8,'TIME TABLE'!$E$8)))","v":"(Sunday)"},{"$f":"IF(C1751=\"\",\"\",'TIME TABLE'!$F$8)","v":"Mathematics"},null,{"$f":"IF(F1751=\"\",\"\",'TIME TABLE'!$H$8)","v":"09:00 AM to 11:45 AM"}]
[null,null,{"$f":"IF('TIME TABLE'!$B$9=\"\",\"\",'TIME TABLE'!$B$9)","v":"2022-04-04"},null,{"$f":"IF(C1752=\"\",\"\",IF(C1752>0,CONCATENATE('TIME TABLE'!$C$9,'TIME TABLE'!$D$9,'TIME TABLE'!$E$9)))","v":"(Monday)"},{"$f":"IF(C1752=\"\",\"\",'TIME TABLE'!$F$9)","v":"Social Study"},null,{"$f":"IF(F1752=\"\",\"\",'TIME TABLE'!$H$9)","v":"09:00 AM to 11:45 AM"}]
[null,null,{"$f":"IF('TIME TABLE'!$B$10=\"\",\"\",'TIME TABLE'!$B$10)","v":"2022-04-05"},null,{"$f":"IF(C1753=\"\",\"\",IF(C1753>0,CONCATENATE('TIME TABLE'!$C$10,'TIME TABLE'!$D$10,'TIME TABLE'!$E$10)))","v":"(Tuesday)"},{"$f":"IF(C1753=\"\",\"\",'TIME TABLE'!$F$10)","v":"Sanskrit"},null,{"$f":"IF(F1753=\"\",\"\",'TIME TABLE'!$H$10)","v":"09:00 AM to 11:45 AM"}]
[null,null,{"$f":"IF('TIME TABLE'!$B$11=\"\",\"\",'TIME TABLE'!$B$11)","v":""},null,{"$f":"IF(C1754=\"\",\"\",IF(C1754>0,CONCATENATE('TIME TABLE'!$C$11,'TIME TABLE'!$D$11,'TIME TABLE'!$E$11)))","v":""},{"$f":"IF(C1754=\"\",\"\",'TIME TABLE'!$F$11)","v":""},null,{"$f":"IF(F1754=\"\",\"\",'TIME TABLE'!$H$11)","v":""}]
[null,null,{"$f":"IF('TIME TABLE'!$B$12=\"\",\"\",'TIME TABLE'!$B$12)","v":""},null,{"$f":"IF(C1755=\"\",\"\",IF(C1755>0,CONCATENATE('TIME TABLE'!$C$12,'TIME TABLE'!$D$12,'TIME TABLE'!$E$12)))","v":""},{"$f":"IF(C1755=\"\",\"\",'TIME TABLE'!$F$12)","v":""},null,{"$f":"IF(C1755=\"\",\"\",'TIME TABLE'!$H$12)","v":""}]
[null,null,{"$f":"IF('TIME TABLE'!$B$13=\"\",\"\",'TIME TABLE'!$B$13)","v":""},null,{"$f":"IF(C1756=\"\",\"\",IF(C1756>0,CONCATENATE('TIME TABLE'!$C$11,'TIME TABLE'!$D$11,'TIME TABLE'!$E$11)))","v":""},{"$f":"IF(C1756=\"\",\"\",'TIME TABLE'!$F$13)","v":""},null,{"$f":"IF(C1756=\"\",\"\",'TIME TABLE'!$H$13)","v":""}]
[null,null,{"$f":"IF('TIME TABLE'!$B$14=\"\",\"\",'TIME TABLE'!$B$14)","v":""},null,{"$f":"IF(C1757=\"\",\"\",IF(C1757>0,CONCATENATE('TIME TABLE'!$C$11,'TIME TABLE'!$D$11,'TIME TABLE'!$E$11)))","v":""},{"$f":"IF(C1757=\"\",\"\",'TIME TABLE'!$F$14)","v":""},null,{"$f":"IF(C1757=\"\",\"\",'TIME TABLE'!$H$14)","v":""}]
[null,null,"Instructions"]
[null,null,1,"Check the exam time table carefully."]
[null,null,2,"Students must bring the 'Admit Card' and show it to the invigilator(s) on duty and should preserve it for future requirements."]
[null,null,3,"Mobile Phone, Calculator, Digital Watch or any Electronic Device is NOT ALLOWED."]
[null,null,4,"Arrive at the School at least 15 minutes before the start examination."]
[null,null,5,"Student is barred from entering the examination hall 15 minutes after the written examination starts."]
[null,null,6,"Ensure that you use the washroom before arriving for your exam as you will not be permitted to leave during the first hour."]
[null,null,7,"Normally, you are required to answer questionsusing blue or black in . Make sure you bring some spare pens with you."]
[null,null,8,"Keep your eyes on your own paper. Remember, copying is cheating!"]
[null,null,9,"You must remain silent until after you have exited the school building."]
[]
[{"$f":"A1735+1","v":53}]
[null,{"$f":"logo","v":{"$error":"#NAME?"}},null,{"$f":"MASTER!$E$11","v":"Govt. Sr. Secondary School Raimalwada"}]
[{"$nulls":3},{"$f":"MASTER!$E$14","v":"P.S.-Bapini (Phalodi)"}]
[null,{"$f":"CONCATENATE(C1773,'TIME TABLE'!$C$5,'ADMIT CARD'!$C1774,$F1774,'ADMIT CARD'!$G1774,'TIME TABLE'!$E$5)","v":"ADMIT CARD(Roll Number●→0)"},{"$f":"CONCATENATE('TIME TABLE'!$B$2,'TIME TABLE'!$F$2)","v":"TEST-I: (2025-26)"},{"$nulls":5},"Paste latest \nphoto of student"]
[null,null,"ADMIT CARD",{"$nulls":6}," "]
[null,null,"Roll Number",null,null,"●→",{"$f":"VLOOKUP(A1769,'STUDENT DETAIL'!$C$8:$I$107,3)","v":0}]
[null,null,"Student's Name",null,null,"●→",{"$f":"IF(OR(G1774=0,G1774=\"\"),\"\",VLOOKUP(A1769,'STUDENT DETAIL'!$C$8:$I$107,4))","v":""}]
[null,null,"Father's Name",null,null,"●→",{"$f":"IF(OR(G1774=0,G1774=\"\"),\"\",VLOOKUP(A1769,'STUDENT DETAIL'!$C$8:$I$107,5))","v":""},null,"Seal and Signature of Head of Institution"]
[null,null,"Mother's Name ",null,null,"●→",{"$f":"IF(OR(G1774=0,G1774=\"\"),\"\",VLOOKUP(A1769,'STUDENT DETAIL'!$C$8:$I$107,6))","v":""}]
[null,null,"Class & Section",null,null,"●→",{"$f":"IF(OR(G1774=0,G1774=\"\"),\"\",IF('STUDENT DETAIL'!$H$4=\"\",'STUDENT DETAIL'!$E$4,CONCATENATE('STUDENT DETAIL'!$E$4,\"   \",\"(\",'STUDENT DETAIL'!$H$4,\")\")))","v":""}]
[null,null,"Date Of Birth",null,null,"●→",{"$f":"IF(OR(G1774=0,G1774=\"\"),\"\",VLOOKUP(A1769,'STUDENT DETAIL'!$C$8:$I$107,7))","v":""}]
[null,null,"Time Table"]
[null,null,"Date (Day)",null,null,"Subject",null,"Time"]
[null,null,{"$f":"IF('TIME TABLE'!$B$5=\"\",\"\",'TIME TABLE'!$B$5)","v":"2022-03-31"},null,{"$f":"IF(C1782=\"\",\"\",IF(C1782>0,CONCATENATE('TIME TABLE'!$C$5,'TIME TABLE'!$D$5,'TIME TABLE'!$E$5)))","v":"(Thursday)"},{"$f":"IF(C1782=\"\",\"\",'TIME TABLE'!$F$5)","v":"Hindi"},null,{"$f":"IF(F1782=\"\",\"\",'TIME TABLE'!$H$5)","v":"09:00 AM to 11:45 AM"}]
[null,null,{"$f":"IF('TIME TABLE'!$B$6=\"\",\"\",'TIME TABLE'!$B$6)","v":"2022-04-01"},null,{"$f":"IF(C1783=\"\",\"\",IF(C1783>0,CONCATENATE('TIME TABLE'!$C$6,'TIME TABLE'!$D$6,'TIME TABLE'!$E$6)))","v":"(Friday)"},{"$f":"IF(C1783=\"\",\"\",'TIME TABLE'!$F$6)","v":"English"},null,{"$f":"IF(F1783=\"\",\"\",'TIME TABLE'!$H$6)","v":"09:00 AM to 11:45 AM"}]
[null,null,{"$f":"IF('TIME TABLE'!$B$7=\"\",\"\",'TIME TABLE'!$B$7)","v":"2022-04-02"},null,{"$f":"IF(C1784=\"\",\"\",IF(C1784>0,CONCATENATE('TIME TABLE'!$C$7,'TIME TABLE'!$D$7,'TIME TABLE'!$E$7)))","v":"(Saturday)"},{"$f":"IF(C1784=\"\",\"\",'TIME TABLE'!$F$7)","v":"Science"},null,{"$f":"IF(F1784=\"\",\"\",'TIME TABLE'!$H$7)","v":"09:00 AM to 11:45 AM"}]
[null,null,{"$f":"IF('TIME TABLE'!$B$8=\"\",\"\",'TIME TABLE'!$B$8)","v":"2022-04-03"},null,{"$f":"IF(C1785=\"\",\"\",IF(C1785>0,CONCATENATE('TIME TABLE'!$C$8,'TIME TABLE'!$D$8,'TIME TABLE'!$E$8)))","v":"(Sunday)"},{"$f":"IF(C1785=\"\",\"\",'TIME TABLE'!$F$8)","v":"Mathematics"},null,{"$f":"IF(F1785=\"\",\"\",'TIME TABLE'!$H$8)","v":"09:00 AM to 11:45 AM"}]
[null,null,{"$f":"IF('TIME TABLE'!$B$9=\"\",\"\",'TIME TABLE'!$B$9)","v":"2022-04-04"},null,{"$f":"IF(C1786=\"\",\"\",IF(C1786>0,CONCATENATE('TIME TABLE'!$C$9,'TIME TABLE'!$D$9,'TIME TABLE'!$E$9)))","v":"(Monday)"},{"$f":"IF(C1786=\"\",\"\",'TIME TABLE'!$F$9)","v":"Social Study"},null,{"$f":"IF(F1786=\"\",\"\",'TIME TABLE'!$H$9)","v":"09:00 AM to 11:45 AM"}]
[null,null,{"$f":"IF('TIME TABLE'!$B$10=\"\",\"\",'TIME TABLE'!$B$10)","v":"2022-04-05"},null,{"$f":"IF(C1787=\"\",\"\",IF(C1787>0,CONCATENATE('TIME TABLE'!$C$10,'TIME TABLE'!$D$10,'TIME TABLE'!$E$10)))","v":"(Tuesday)"},{"$f":"IF(C1787=\"\",\"\",'TIME TABLE'!$F$10)","v":"Sanskrit"},null,{"$f":"IF(F1787=\"\",\"\",'TIME TABLE'!$H$10)","v":"09:00 AM to 11:45 AM"}]
[null,null,{"$f":"IF('TIME TABLE'!$B$11=\"\",\"\",'TIME TABLE'!$B$11)","v":""},null,{"$f":"IF(C1788=\"\",\"\",IF(C1788>0,CONCATENATE('TIME TABLE'!$C$11,'TIME TABLE'!$D$11,'TIME TABLE'!$E$11)))","v":""},{"$f":"IF(C1788=\"\",\"\",'TIME TABLE'!$F$11)","v":""},null,{"$f":"IF(F1788=\"\",\"\",'TIME TABLE'!$H$11)","v":""}]
[null,null,{"$f":"IF('TIME TABLE'!$B$12=\"\",\"\",'TIME TABLE'!$B$12)","v":""},null,{"$f":"IF(C1789=\"\",\"\",IF(C1789>0,CONCATENATE('TIME TABLE'!$C$12,'TIME TABLE'!$D$12,'TIME TABLE'!$E$12)))","v":""},{"$f":"IF(C1789=\"\",\"\",'TIME TABLE'!$F$12)","v":""},null,{"$f":"IF(C1789=\"\",\"\",'TIME TABLE'!$H$12)","v":""}]
[null,null,{"$f":"IF('TIME TABLE'!$B$13=\"\",\"\",'TIME TABLE'!$B$13)","v":""},null,{"$f":"IF(C1790=\"\",\"\",IF(C1790>0,CONCATENATE('TIME TABLE'!$C$11,'TIME TABLE'!$D$11,'TIME TABLE'!$E$11)))","v":""},{"$f":"IF(C1790=\"\",\"\",'TIME TABLE'!$F$13)","v":""},null,{"$f":"IF(C1790=\"\",\"\",'TIME TABLE'!$H$13)","v":""}]
[null,null,{"$f":"IF('TIME TABLE'!$B$14=\"\",\"\",'TIME TABLE'!$B$14)","v":""},null,{"$f":"IF(C1791=\"\",\"\",IF(C1791>0,CONCATENATE('TIME TABLE'!$C$11,'TIME TABLE'!$D$11,'TIME TABLE'!$E$11)))","v":""},{"$f":"IF(C1791=\"\",\"\",'TIME TABLE'!$F$14)","v":""},null,{"$f":"IF(C1791=\"\",\"\",'TIME TABLE'!$H$14)","v":""}]
[null,null,"Instructions"]
[null,null,1,"Check the exam time table carefully."]
[null,null,2,"Students must bring the 'Admit Card' and show it to the invigilator(s) on duty and should preserve it for future requirements."]
[null,null,3,"Mobile Phone, Calculator, Digital Watch or any Electronic Device is NOT ALLOWED."]
[null,null,4,"Arrive at the School at least 15 minutes before the start examination."]
[null,null,5,"Student is barred from entering the examination hall 15 minutes after the written examination starts."]
[null,null,6,"Ensure that you use the washroom before arriving for your exam as you will not be permitted to leave during the first hour."]
[null,null,7,"Normally, you are required to answer questionsusing blue or black in . Make sure you bring some spare pens with you."]
[null,null,8,"Keep your eyes on your own paper. Remember, copying is cheating!"]
[null,null,9,"You must remain silent until after you have exited the school building."]
[]
[{"$f":"A1769+1","v":54}]
[null,{"$f":"logo","v":{"$error":"#NAME?"}},null,{"$f":"MASTER!$E$11","v":"Govt. Sr. Secondary School Raimalwada"}]
[{"$nulls":3},{"$f":"MASTER!$E$14","v":"P.S.-Bapini (Phalodi)"}]
[null,{"$f":"CONCATENATE(C1807,'TIME TABLE'!$C$5,'ADMIT CARD'!$C1808,$F1808,'ADMIT CARD'!$G1808,'TIME TABLE'!$E$5)","v":"ADMIT CARD(Roll Number●→0)"},{"$f":"CONCATENATE('TIME TABLE'!$B$2,'TIME TABLE'!$F$2)","v":"TEST-I: (2025-26)"},{"$nulls":5},"Paste latest \nphoto of student"]
[null,null,"ADMIT CARD",{"$nulls":6}," "]
[null,null,"Roll Number",null,null,"●→",{"$f":"VLOOKUP(A1803,'STUDENT DETAIL'!$C$8:$I$107,3)","v":0}]
[null,null,"Student's Name",null,null,"●→",{"$f":"IF(OR(G1808=0,G1808=\"\"),\"\",VLOOKUP(A1803,'STUDENT DETAIL'!$C$8:$I$107,4))","v":""}]
[null,null,"Father's Name",null,null,"●→",{"$f":"IF(OR(G1808=0,G1808=\"\"),\"\",VLOOKUP(A1803,'STUDENT DETAIL'!$C$8:$I$107,5))","v":""},null,"Seal and Signature of Head of Institution"]
[null,null,"Mother's Name ",null,null,"●→",{"$f":"IF(OR(G1808=0,G1808=\"\"),\"\",VLOOKUP(A1803,'STUDENT DETAIL'!$C$8:$I$107,6))","v":""}]
[null,null,"Class & Section",null,null,"●→",{"$f":"IF(OR(G1808=0,G1808=\"\"),\"\",IF('STUDENT DETAIL'!$H$4=\"\",'STUDENT DETAIL'!$E$4,CONCATENATE('STUDENT DETAIL'!$E$4,\"   \",\"(\",'STUDENT DETAIL'!$H$4,\")\")))","v":""}]
[null,null,"Date Of Birth",null,null,"●→",{"$f":"IF(OR(G1808=0,G1808=\"\"),\"\",VLOOKUP(A1803,'STUDENT DETAIL'!$C$8:$I$107,7))","v":""}]
[null,null,"Time Table"]
[null,null,"Date (Day)",null,null,"Subject",null,"Time"]
[null,null,{"$f":"IF('TIME TABLE'!$B$5=\"\",\"\",'TIME TABLE'!$B$5)","v":"2022-03-31"},null,{"$f":"IF(C1816=\"\",\"\",IF(C1816>0,CONCATENATE('TIME TABLE'!$C$5,'TIME TABLE'!$D$5,'TIME TABLE'!$E$5)))","v":"(Thursday)"},{"$f":"IF(C1816=\"\",\"\",'TIME TABLE'!$F$5)","v":"Hindi"},null,{"$f":"IF(F1816=\"\",\"\",'TIME TABLE'!$H$5)","v":"09:00 AM to 11:45 AM"}]
[null,null,{"$f":"IF('TIME TABLE'!$B$6=\"\",\"\",'TIME TABLE'!$B$6)","v":"2022-04-01"},null,{"$f":"IF(C1817=\"\",\"\",IF(C1817>0,CONCATENATE('TIME TABLE'!$C$6,'TIME TABLE'!$D$6,'TIME TABLE'!$E$6)))","v":"(Friday)"},{"$f":"IF(C1817=\"\",\"\",'TIME TABLE'!$F$6)","v":"English"},null,{"$f":"IF(F1817=\"\",\"\",'TIME TABLE'!$H$6)","v":"09:00 AM to 11:45 AM"}]
[null,null,{"$f":"IF('TIME TABLE'!$B$7=\"\",\"\",'TIME TABLE'!$B$7)","v":"2022-04-02"},null,{"$f":"IF(C1818=\"\",\"\",IF(C1818>0,CONCATENATE('TIME TABLE'!$C$7,'TIME TABLE'!$D$7,'TIME TABLE'!$E$7)))","v":"(Saturday)"},{"$f":"IF(C1818=\"\",\"\",'TIME TABLE'!$F$7)","v":"Science"},null,{"$f":"IF(F1818=\"\",\"\",'TIME TABLE'!$H$7)","v":"09:00 AM to 11:45 AM"}]
[null,null,{"$f":"IF('TIME TABLE'!$B$8=\"\",\"\",'TIME TABLE'!$B$8)","v":"2022-04-03"},null,{"$f":"IF(C1819=\"\",\"\",IF(C1819>0,CONCATENATE('TIME TABLE'!$C$8,'TIME TABLE'!$D$8,'TIME TABLE'!$E$8)))","v":"(Sunday)"},{"$f":"IF(C1819=\"\",\"\",'TIME TABLE'!$F$8)","v":"Mathematics"},null,{"$f":"IF(F1819=\"\",\"\",'TIME TABLE'!$H$8)","v":"09:00 AM to 11:45 AM"}]
[null,null,{"$f":"IF('TIME TABLE'!$B$9=\"\",\"\",'TIME TABLE'!$B$9)","v":"2022-04-04"},null,{"$f":"IF(C1820=\"\",\"\",IF(C1820>0,CONCATENATE('TIME TABLE'!$C$9,'TIME TABLE'!$D$9,'TIME TABLE'!$E$9)))","v":"(Monday)"},{"$f":"IF(C1820=\"\",\"\",'TIME TABLE'!$F$9)","v":"Social Study"},null,{"$f":"IF(F1820=\"\",\"\",'TIME TABLE'!$H$9)","v":"09:00 AM to 11:45 AM"}]
[null,null,{"$f":"IF('TIME TABLE'!$B$10=\"\",\"\",'TIME TABLE'!$B$10)","v":"2022-04-05"},null,{"$f":"IF(C1821=\"\",\"\",IF(C1821>0,CONCATENATE('TIME TABLE'!$C$10,'TIME TABLE'!$D$10,'TIME TABLE'!$E$10)))","v":"(Tuesday)"},{"$f":"IF(C1821=\"\",\"\",'TIME TABLE'!$F$10)","v":"Sanskrit"},null,{"$f":"IF(F1821=\"\",\"\",'TIME TABLE'!$H$10)","v":"09:00 AM to 11:45 AM"}]
[null,null,{"$f":"IF('TIME TABLE'!$B$11=\"\",\"\",'TIME TABLE'!$B$11)","v":""},null,{"$f":"IF(C1822=\"\",\"\",IF(C1822>0,CONCATENATE('TIME TABLE'!$C$11,'TIME TABLE'!$D$11,'TIME TABLE'!$E$11)))","v":""},{"$f":"IF(C1822=\"\",\"\",'TIME TABLE'!$F$11)","v":""},null,{"$f":"IF(F1822=\"\",\"\",'TIME TABLE'!$H$11)","v":""}]
[null,null,{"$f":"IF('TIME TABLE'!$B$12=\"\",\"\",'TIME TABLE'!$B$12)","v":""},null,{"$f":"IF(C1823=\"\",\"\",IF(C1823>0,CONCATENATE('TIME TABLE'!$C$12,'TIME TABLE'!$D$12,'TIME TABLE'!$E$12)))","v":""},{"$f":"IF(C1823=\"\",\"\",'TIME TABLE'!$F$12)","v":""},null,{"$f":"IF(C1823=\"\",\"\",'TIME TABLE'!$H$12)","v":""}]
[null,null,{"$f":"IF('TIME TABLE'!$B$13=\"\",\"\",'TIME TABLE'!$B$13)","v":""},null,{"$f":"IF(C1824=\"\",\"\",IF(C1824>0,CONCATENATE('TIME TABLE'!$C$11,'TIME TABLE'!$D$11,'TIME TABLE'!$E$11)))","v":""},{"$f":"IF(C1824=\"\",\"\",'TIME TABLE'!$F$13)","v":""},null,{"$f":"IF(C1824=\"\",\"\",'TIME TABLE'!$H$13)","v":""}]
[null,null,{"$f":"IF('TIME TABLE'!$B$14=\"\",\"\",'TIME TABLE'!$B$14)","v":""},null,{"$f":"IF(C1825=\"\",\"\",IF(C1825>0,CONCATENATE('TIME TABLE'!$C$11,'TIME TABLE'!$D$11,'TIME TABLE'!$E$11)))","v":""},{"$f":"IF(C1825=\"\",\"\",'TIME TABLE'!$F$14)","v":""},null,{"$f":"IF(C1825=\"\",\"\",'TIME TABLE'!$H$14)","v":""}]
[null,null,"Instructions"]
[null,null,1,"Check the exam time table carefully."]
[null,null,2,"Students must bring the 'Admit Card' and show it to the invigilator(s) on duty and should preserve it for future requirements."]
[null,null,3,"Mobile Phone, Calculator, Digital Watch or any Electronic Device is NOT ALLOWED."]
[null,null,4,"Arrive at the School at least 15 minutes before the start examination."]
[null,null,5,"Student is barred from entering the examination hall 15 minutes after the written examination starts."]
[null,null,6,"Ensure that you use the washroom before arriving for your exam as you will not be permitted to leave during the first hour."]
[null,null,7,"Normally, you are required to answer questionsusing blue or black in . Make sure you bring some spare pens with you."]
[null,null,8,"Keep your eyes on your own paper. Remember, copying is cheating!"]
[null,null,9,"You must remain silent until after you have exited the school building."]
[]
[{"$f":"A1803+1","v":55}]
[null,{"$f":"logo","v":{"$error":"#NAME?"}},null,{"$f":"MASTER!$E$11","v":"Govt. Sr. Secondary School Raimalwada"}]
[{"$nulls":3},{"$f":"MASTER!$E$14","v":"P.S.-Bapini (Phalodi)"}]
[null,{"$f":"CONCATENATE(C1841,'TIME TABLE'!$C$5,'ADMIT CARD'!$C1842,$F1842,'ADMIT CARD'!$G1842,'TIME TABLE'!$E$5)","v":"ADMIT CARD(Roll Number●→0)"},{"$f":"CONCATENATE('TIME TABLE'!$B$2,'TIME TABLE'!$F$2)","v":"TEST-I: (2025-26)"},{"$nulls":5},"Paste latest \nphoto of student"]
[null,null,"ADMIT CARD",{"$nulls":6}," "]
[null,null,"Roll Number",null,null,"●→",{"$f":"VLOOKUP(A1837,'STUDENT DETAIL'!$C$8:$I$107,3)","v":0}]
[null,null,"Student's Name",null,null,"●→",{"$f":"IF(OR(G1842=0,G1842=\"\"),\"\",VLOOKUP(A1837,'STUDENT DETAIL'!$C$8:$I$107,4))","v":""}]
[null,null,"Father's Name",null,null,"●→",{"$f":"IF(OR(G1842=0,G1842=\"\"),\"\",VLOOKUP(A1837,'STUDENT DETAIL'!$C$8:$I$107,5))","v":""},null,"Seal and Signature of Head of Institution"]
[null,null,"Mother's Name ",null,null,"●→",{"$f":"IF(OR(G1842=0,G1842=\"\"),\"\",VLOOKUP(A1837,'STUDENT DETAIL'!$C$8:$I$107,6))","v":""}]
[null,null,"Class & Section",null,null,"●→",{"$f":"IF(OR(G1842=0,G1842=\"\"),\"\",IF('STUDENT DETAIL'!$H$4=\"\",'STUDENT DETAIL'!$E$4,CONCATENATE('STUDENT DETAIL'!$E$4,\"   \",\"(\",'STUDENT DETAIL'!$H$4,\")\")))","v":""}]
[null,null,"Date Of Birth",null,null,"●→",{"$f":"IF(OR(G1842=0,G1842=\"\"),\"\",VLOOKUP(A1837,'STUDENT DETAIL'!$C$8:$I$107,7))","v":""}]
[null,null,"Time Table"]
[null,null,"Date (Day)",null,null,"Subject",null,"Time"]
[null,null,{"$f":"IF('TIME TABLE'!$B$5=\"\",\"\",'TIME TABLE'!$B$5)","v":"2022-03-31"},null,{"$f":"IF(C1850=\"\",\"\",IF(C1850>0,CONCATENATE('TIME TABLE'!$C$5,'TIME TABLE'!$D$5,'TIME TABLE'!$E$5)))","v":"(Thursday)"},{"$f":"IF(C1850=\"\",\"\",'TIME TABLE'!$F$5)","v":"Hindi"},null,{"$f":"IF(F1850=\"\",\"\",'TIME TABLE'!$H$5)","v":"09:00 AM to 11:45 AM"}]
[null,null,{"$f":"IF('TIME TABLE'!$B$6=\"\",\"\",'TIME TABLE'!$B$6)","v":"2022-04-01"},null,{"$f":"IF(C1851=\"\",\"\",IF(C1851>0,CONCATENATE('TIME TABLE'!$C$6,'TIME TABLE'!$D$6,'TIME TABLE'!$E$6)))","v":"(Friday)"},{"$f":"IF(C1851=\"\",\"\",'TIME TABLE'!$F$6)","v":"English"},null,{"$f":"IF(F1851=\"\",\"\",'TIME TABLE'!$H$6)","v":"09:00 AM to 11:45 AM"}]
[null,null,{"$f":"IF('TIME TABLE'!$B$7=\"\",\"\",'TIME TABLE'!$B$7)","v":"2022-04-02"},null,{"$f":"IF(C1852=\"\",\"\",IF(C1852>0,CONCATENATE('TIME TABLE'!$C$7,'TIME TABLE'!$D$7,'TIME TABLE'!$E$7)))","v":"(Saturday)"},{"$f":"IF(C1852=\"\",\"\",'TIME TABLE'!$F$7)","v":"Science"},null,{"$f":"IF(F1852=\"\",\"\",'TIME TABLE'!$H$7)","v":"09:00 AM to 11:45 AM"}]
[null,null,{"$f":"IF('TIME TABLE'!$B$8=\"\",\"\",'TIME TABLE'!$B$8)","v":"2022-04-03"},null,{"$f":"IF(C1853=\"\",\"\",IF(C1853>0,CONCATENATE('TIME TABLE'!$C$8,'TIME TABLE'!$D$8,'TIME TABLE'!$E$8)))","v":"(Sunday)"},{"$f":"IF(C1853=\"\",\"\",'TIME TABLE'!$F$8)","v":"Mathematics"},null,{"$f":"IF(F1853=\"\",\"\",'TIME TABLE'!$H$8)","v":"09:00 AM to 11:45 AM"}]
[null,null,{"$f":"IF('TIME TABLE'!$B$9=\"\",\"\",'TIME TABLE'!$B$9)","v":"2022-04-04"},null,{"$f":"IF(C1854=\"\",\"\",IF(C1854>0,CONCATENATE('TIME TABLE'!$C$9,'TIME TABLE'!$D$9,'TIME TABLE'!$E$9)))","v":"(Monday)"},{"$f":"IF(C1854=\"\",\"\",'TIME TABLE'!$F$9)","v":"Social Study"},null,{"$f":"IF(F1854=\"\",\"\",'TIME TABLE'!$H$9)","v":"09:00 AM to 11:45 AM"}]
[null,null,{"$f":"IF('TIME TABLE'!$B$10=\"\",\"\",'TIME TABLE'!$B$10)","v":"2022-04-05"},null,{"$f":"IF(C1855=\"\",\"\",IF(C1855>0,CONCATENATE('TIME TABLE'!$C$10,'TIME TABLE'!$D$10,'TIME TABLE'!$E$10)))","v":"(Tuesday)"},{"$f":"IF(C1855=\"\",\"\",'TIME TABLE'!$F$10)","v":"Sanskrit"},null,{"$f":"IF(F1855=\"\",\"\",'TIME TABLE'!$H$10)","v":"09:00 AM to 11:45 AM"}]
[null,null,{"$f":"IF('TIME TABLE'!$B$11=\"\",\"\",'TIME TABLE'!$B$11)","v":""},null,{"$f":"IF(C1856=\"\",\"\",IF(C1856>0,CONCATENATE('TIME TABLE'!$C$11,'TIME TABLE'!$D$11,'TIME TABLE'!$E$11)))","v":""},{"$f":"IF(C1856=\"\",\"\",'TIME TABLE'!$F$11)","v":""},null,{"$f":"IF(F1856=\"\",\"\",'TIME TABLE'!$H$11)","v":""}]
[null,null,{"$f":"IF('TIME TABLE'!$B$12=\"\",\"\",'TIME TABLE'!$B$12)","v":""},null,{"$f":"IF(C1857=\"\",\"\",IF(C1857>0,CONCATENATE('TIME TABLE'!$C$12,'TIME TABLE'!$D$12,'TIME TABLE'!$E$12)))","v":""},{"$f":"IF(C1857=\"\",\"\",'TIME TABLE'!$F$12)","v":""},null,{"$f":"IF(C1857=\"\",\"\",'TIME TABLE'!$H$12)","v":""}]
[null,null,{"$f":"IF('TIME TABLE'!$B$13=\"\",\"\",'TIME TABLE'!$B$13)","v":""},null,{"$f":"IF(C1858=\"\",\"\",IF(C1858>0,CONCATENATE('TIME TABLE'!$C$11,'TIME TABLE'!$D$11,'TIME TABLE'!$E$11)))","v":""},{"$f":"IF(C1858=\"\",\"\",'TIME TABLE'!$F$13)","v":""},null,{"$f":"IF(C1858=\"\",\"\",'TIME TABLE'!$H$13)","v":""}]
[null,null,{"$f":"IF('TIME TABLE'!$B$14=\"\",\"\",'TIME TABLE'!$B$14)","v":""},null,{"$f":"IF(C1859=\"\",\"\",IF(C1859>0,CONCATENATE('TIME TABLE'!$C$11,'TIME TABLE'!$D$11,'TIME TABLE'!$E$11)))","v":""},{"$f":"IF(C1859=\"\",\"\",'TIME TABLE'!$F$14)","v":""},null,{"$f":"IF(C1859=\"\",\"\",'TIME TABLE'!$H$14)","v":""}]
[null,null,"Instructions"]
[null,null,1,"Check the exam time table carefully."]
[null,null,2,"Students must bring the 'Admit Card' and show it to the invigilator(s) on duty and should preserve it for future requirements."]
[null,null,3,"Mobile Phone, Calculator, Digital Watch or any Electronic Device is NOT ALLOWED."]
[null,null,4,"Arrive at the School at least 15 minutes before the start examination."]
[null,null,5,"Student is barred from entering the examination hall 15 minutes after the written examination starts."]
[null,null,6,"Ensure that you use the washroom before arriving for your exam as you will not be permitted to leave during the first hour."]
[null,null,7,"Normally, you are required to answer questionsusing blue or black in . Make sure you bring some spare pens with you."]
[null,null,8,"Keep your eyes on your own paper. Remember, copying is cheating!"]
[null,null,9,"You must remain silent until after you have exited the school building."]
[]
[{"$f":"A1837+1","v":56}]
[null,{"$f":"logo","v":{"$error":"#NAME?"}},null,{"$f":"MASTER!$E$11","v":"Govt. Sr. Secondary School Raimalwada"}]
[{"$nulls":3},{"$f":"MASTER!$E$14","v":"P.S.-Bapini (Phalodi)"}]
[null,{"$f":"CONCATENATE(C1875,'TIME TABLE'!$C$5,'ADMIT CARD'!$C1876,$F1876,'ADMIT CARD'!$G1876,'TIME TABLE'!$E$5)","v":"ADMIT CARD(Roll Number●→0)"},{"$f":"CONCATENATE('TIME TABLE'!$B$2,'TIME TABLE'!$F$2)","v":"TEST-I: (2025-26)"},{"$nulls":5},"Paste latest \nphoto of student"]
[null,null,"ADMIT CARD",{"$nulls":6}," "]
[null,null,"Roll Number",null,null,"●→",{"$f":"VLOOKUP(A1871,'STUDENT DETAIL'!$C$8:$I$107,3)","v":0}]
[null,null,"Student's Name",null,null,"●→",{"$f":"IF(OR(G1876=0,G1876=\"\"),\"\",VLOOKUP(A1871,'STUDENT DETAIL'!$C$8:$I$107,4))","v":""}]
[null,null,"Father's Name",null,null,"●→",{"$f":"IF(OR(G1876=0,G1876=\"\"),\"\",VLOOKUP(A1871,'STUDENT DETAIL'!$C$8:$I$107,5))","v":""},null,"Seal and Signature of Head of Institution"]
[null,null,"Mother's Name ",null,null,"●→",{"$f":"IF(OR(G1876=0,G1876=\"\"),\"\",VLOOKUP(A1871,'STUDENT DETAIL'!$C$8:$I$107,6))","v":""}]
[null,null,"Class & Section",null,null,"●→",{"$f":"IF(OR(G1876=0,G1876=\"\"),\"\",IF('STUDENT DETAIL'!$H$4=\"\",'STUDENT DETAIL'!$E$4,CONCATENATE('STUDENT DETAIL'!$E$4,\"   \",\"(\",'STUDENT DETAIL'!$H$4,\")\")))","v":""}]
[null,null,"Date Of Birth",null,null,"●→",{"$f":"IF(OR(G1876=0,G1876=\"\"),\"\",VLOOKUP(A1871,'STUDENT DETAIL'!$C$8:$I$107,7))","v":""}]
[null,null,"Time Table"]
[null,null,"Date (Day)",null,null,"Subject",null,"Time"]
[null,null,{"$f":"IF('TIME TABLE'!$B$5=\"\",\"\",'TIME TABLE'!$B$5)","v":"2022-03-31"},null,{"$f":"IF(C1884=\"\",\"\",IF(C1884>0,CONCATENATE('TIME TABLE'!$C$5,'TIME TABLE'!$D$5,'TIME TABLE'!$E$5)))","v":"(Thursday)"},{"$f":"IF(C1884=\"\",\"\",'TIME TABLE'!$F$5)","v":"Hindi"},null,{"$f":"IF(F1884=\"\",\"\",'TIME TABLE'!$H$5)","v":"09:00 AM to 11:45 AM"}]
[null,null,{"$f":"IF('TIME TABLE'!$B$6=\"\",\"\",'TIME TABLE'!$B$6)","v":"2022-04-01"},null,{"$f":"IF(C1885=\"\",\"\",IF(C1885>0,CONCATENATE('TIME TABLE'!$C$6,'TIME TABLE'!$D$6,'TIME TABLE'!$E$6)))","v":"(Friday)"},{"$f":"IF(C1885=\"\",\"\",'TIME TABLE'!$F$6)","v":"English"},null,{"$f":"IF(F1885=\"\",\"\",'TIME TABLE'!$H$6)","v":"09:00 AM to 11:45 AM"}]
[null,null,{"$f":"IF('TIME TABLE'!$B$7=\"\",\"\",'TIME TABLE'!$B$7)","v":"2022-04-02"},null,{"$f":"IF(C1886=\"\",\"\",IF(C1886>0,CONCATENATE('TIME TABLE'!$C$7,'TIME TABLE'!$D$7,'TIME TABLE'!$E$7)))","v":"(Saturday)"},{"$f":"IF(C1886=\"\",\"\",'TIME TABLE'!$F$7)","v":"Science"},null,{"$f":"IF(F1886=\"\",\"\",'TIME TABLE'!$H$7)","v":"09:00 AM to 11:45 AM"}]
[null,null,{"$f":"IF('TIME TABLE'!$B$8=\"\",\"\",'TIME TABLE'!$B$8)","v":"2022-04-03"},null,{"$f":"IF(C1887=\"\",\"\",IF(C1887>0,CONCATENATE('TIME TABLE'!$C$8,'TIME TABLE'!$D$8,'TIME TABLE'!$E$8)))","v":"(Sunday)"},{"$f":"IF(C1887=\"\",\"\",'TIME TABLE'!$F$8)","v":"Mathematics"},null,{"$f":"IF(F1887=\"\",\"\",'TIME TABLE'!$H$8)","v":"09:00 AM to 11:45 AM"}]
[null,null,{"$f":"IF('TIME TABLE'!$B$9=\"\",\"\",'TIME TABLE'!$B$9)","v":"2022-04-04"},null,{"$f":"IF(C1888=\"\",\"\",IF(C1888>0,CONCATENATE('TIME TABLE'!$C$9,'TIME TABLE'!$D$9,'TIME TABLE'!$E$9)))","v":"(Monday)"},{"$f":"IF(C1888=\"\",\"\",'TIME TABLE'!$F$9)","v":"Social Study"},null,{"$f":"IF(F1888=\"\",\"\",'TIME TABLE'!$H$9)","v":"09:00 AM to 11:45 AM"}]
[null,null,{"$f":"IF('TIME TABLE'!$B$10=\"\",\"\",'TIME TABLE'!$B$10)","v":"2022-04-05"},null,{"$f":"IF(C1889=\"\",\"\",IF(C1889>0,CONCATENATE('TIME TABLE'!$C$10,'TIME TABLE'!$D$10,'TIME TABLE'!$E$10)))","v":"(Tuesday)"},{"$f":"IF(C1889=\"\",\"\",'TIME TABLE'!$F$10)","v":"Sanskrit"},null,{"$f":"IF(F1889=\"\",\"\",'TIME TABLE'!$H$10)","v":"09:00 AM to 11:45 AM"}]
[null,null,{"$f":"IF('TIME TABLE'!$B$11=\"\",\"\",'TIME TABLE'!$B$11)","v":""},null,{"$f":"IF(C1890=\"\",\"\",IF(C1890>0,CONCATENATE('TIME TABLE'!$C$11,'TIME TABLE'!$D$11,'TIME TABLE'!$E$11)))","v":""},{"$f":"IF(C1890=\"\",\"\",'TIME TABLE'!$F$11)","v":""},null,{"$f":"IF(F1890=\"\",\"\",'TIME TABLE'!$H$11)","v":""}]
[null,null,{"$f":"IF('TIME TABLE'!$B$12=\"\",\"\",'TIME TABLE'!$B$12)","v":""},null,{"$f":"IF(C1891=\"\",\"\",IF(C1891>0,CONCATENATE('TIME TABLE'!$C$12,'TIME TABLE'!$D$12,'TIME TABLE'!$E$12)))","v":""},{"$f":"IF(C1891=\"\",\"\",'TIME TABLE'!$F$12)","v":""},null,{"$f":"IF(C1891=\"\",\"\",'TIME TABLE'!$H$12)","v":""}]
[null,null,{"$f":"IF('TIME TABLE'!$B$13=\"\",\"\",'TIME TABLE'!$B$13)","v":""},null,{"$f":"IF(C1892=\"\",\"\",IF(C1892>0,CONCATENATE('TIME TABLE'!$C$11,'TIME TABLE'!$D$11,'TIME TABLE'!$E$11)))","v":""},{"$f":"IF(C1892=\"\",\"\",'TIME TABLE'!$F$13)","v":""},null,{"$f":"IF(C1892=\"\",\"\",'TIME TABLE'!$H$13)","v":""}]
[null,null,{"$f":"IF('TIME TABLE'!$B$14=\"\",\"\",'TIME TABLE'!$B$14)","v":""},null,{"$f":"IF(C1893=\"\",\"\",IF(C1893>0,CONCATENATE('TIME TABLE'!$C$11,'TIME TABLE'!$D$11,'TIME TABLE'!$E$11)))","v":""},{"$f":"IF(C1893=\"\",\"\",'TIME TABLE'!$F$14)","v":""},null,{"$f":"IF(C1893=\"\",\"\",'TIME TABLE'!$H$14)","v":""}]
[null,null,"Instructions"]
[null,null,1,"Check the exam time table carefully."]
[null,null,2,"Students must bring the 'Admit Card' and show it to the invigilator(s) on duty and should preserve it for future requirements."]
[null,null,3,"Mobile Phone, Calculator, Digital Watch or any Electronic Device is NOT ALLOWED."]
[null,null,4,"Arrive at the School at least 15 minutes before the start examination."]
[null,null,5,"Student is barred from entering the examination hall 15 minutes after the written examination starts."]
[null,null,6,"Ensure that you use the washroom before arriving for your exam as you will not be permitted to leave during the first hour."]
[null,null,7,"Normally, you are required to answer questionsusing blue or black in . Make sure you bring some spare pens with you."]
[null,null,8,"Keep your eyes on your own paper. Remember, copying is cheating!"]
[null,null,9,"You must remain silent until after you have exited the school building."]
[]
[{"$f":"A1871+1","v":57}]
[null,{"$f":"logo","v":{"$error":"#NAME?"}},null,{"$f":"MASTER!$E$11","v":"Govt. Sr. Secondary School Raimalwada"}]
[{"$nulls":3},{"$f":"MASTER!$E$14","v":"P.S.-Bapini (Phalodi)"}]
[null,{"$f":"CONCATENATE(C1909,'TIME TABLE'!$C$5,'ADMIT CARD'!$C1910,$F1910,'ADMIT CARD'!$G1910,'TIME TABLE'!$E$5)","v":"ADMIT CARD(Roll Number●→0)"},{"$f":"CONCATENATE('TIME TABLE'!$B$2,'TIME TABLE'!$F$2)","v":"TEST-I: (2025-26)"},{"$nulls":5},"Paste latest \nphoto of student"]
[null,null,"ADMIT CARD",{"$nulls":6}," "]
[null,null,"Roll Number",null,null,"●→",{"$f":"VLOOKUP(A1905,'STUDENT DETAIL'!$C$8:$I$107,3)","v":0}]
[null,null,"Student's Name",null,null,"●→",{"$f":"IF(OR(G1910=0,G1910=\"\"),\"\",VLOOKUP(A1905,'STUDENT DETAIL'!$C$8:$I$107,4))","v":""}]
[null,null,"Father's Name",null,null,"●→",{"$f":"IF(OR(G1910=0,G1910=\"\"),\"\",VLOOKUP(A1905,'STUDENT DETAIL'!$C$8:$I$107,5))","v":""},null,"Seal and Signature of Head of Institution"]
[null,null,"Mother's Name ",null,null,"●→",{"$f":"IF(OR(G1910=0,G1910=\"\"),\"\",VLOOKUP(A1905,'STUDENT DETAIL'!$C$8:$I$107,6))","v":""}]
[null,null,"Class & Section",null,null,"●→",{"$f":"IF(OR(G1910=0,G1910=\"\"),\"\",IF('STUDENT DETAIL'!$H$4=\"\",'STUDENT DETAIL'!$E$4,CONCATENATE('STUDENT DETAIL'!$E$4,\"   \",\"(\",'STUDENT DETAIL'!$H$4,\")\")))","v":""}]
[null,null,"Date Of Birth",null,null,"●→",{"$f":"IF(OR(G1910=0,G1910=\"\"),\"\",VLOOKUP(A1905,'STUDENT DETAIL'!$C$8:$I$107,7))","v":""}]
[null,null,"Time Table"]
[null,null,"Date (Day)",null,null,"Subject",null,"Time"]
[null,null,{"$f":"IF('TIME TABLE'!$B$5=\"\",\"\",'TIME TABLE'!$B$5)","v":"2022-03-31"},null,{"$f":"IF(C1918=\"\",\"\",IF(C1918>0,CONCATENATE('TIME TABLE'!$C$5,'TIME TABLE'!$D$5,'TIME TABLE'!$E$5)))","v":"(Thursday)"},{"$f":"IF(C1918=\"\",\"\",'TIME TABLE'!$F$5)","v":"Hindi"},null,{"$f":"IF(F1918=\"\",\"\",'TIME TABLE'!$H$5)","v":"09:00 AM to 11:45 AM"}]
[null,null,{"$f":"IF('TIME TABLE'!$B$6=\"\",\"\",'TIME TABLE'!$B$6)","v":"2022-04-01"},null,{"$f":"IF(C1919=\"\",\"\",IF(C1919>0,CONCATENATE('TIME TABLE'!$C$6,'TIME TABLE'!$D$6,'TIME TABLE'!$E$6)))","v":"(Friday)"},{"$f":"IF(C1919=\"\",\"\",'TIME TABLE'!$F$6)","v":"English"},null,{"$f":"IF(F1919=\"\",\"\",'TIME TABLE'!$H$6)","v":"09:00 AM to 11:45 AM"}]
[null,null,{"$f":"IF('TIME TABLE'!$B$7=\"\",\"\",'TIME TABLE'!$B$7)","v":"2022-04-02"},null,{"$f":"IF(C1920=\"\",\"\",IF(C1920>0,CONCATENATE('TIME TABLE'!$C$7,'TIME TABLE'!$D$7,'TIME TABLE'!$E$7)))","v":"(Saturday)"},{"$f":"IF(C1920=\"\",\"\",'TIME TABLE'!$F$7)","v":"Science"},null,{"$f":"IF(F1920=\"\",\"\",'TIME TABLE'!$H$7)","v":"09:00 AM to 11:45 AM"}]
[null,null,{"$f":"IF('TIME TABLE'!$B$8=\"\",\"\",'TIME TABLE'!$B$8)","v":"2022-04-03"},null,{"$f":"IF(C1921=\"\",\"\",IF(C1921>0,CONCATENATE('TIME TABLE'!$C$8,'TIME TABLE'!$D$8,'TIME TABLE'!$E$8)))","v":"(Sunday)"},{"$f":"IF(C1921=\"\",\"\",'TIME TABLE'!$F$8)","v":"Mathematics"},null,{"$f":"IF(F1921=\"\",\"\",'TIME TABLE'!$H$8)","v":"09:00 AM to 11:45 AM"}]
[null,null,{"$f":"IF('TIME TABLE'!$B$9=\"\",\"\",'TIME TABLE'!$B$9)","v":"2022-04-04"},null,{"$f":"IF(C1922=\"\",\"\",IF(C1922>0,CONCATENATE('TIME TABLE'!$C$9,'TIME TABLE'!$D$9,'TIME TABLE'!$E$9)))","v":"(Monday)"},{"$f":"IF(C1922=\"\",\"\",'TIME TABLE'!$F$9)","v":"Social Study"},null,{"$f":"IF(F1922=\"\",\"\",'TIME TABLE'!$H$9)","v":"09:00 AM to 11:45 AM"}]
[null,null,{"$f":"IF('TIME TABLE'!$B$10=\"\",\"\",'TIME TABLE'!$B$10)","v":"2022-04-05"},null,{"$f":"IF(C1923=\"\",\"\",IF(C1923>0,CONCATENATE('TIME TABLE'!$C$10,'TIME TABLE'!$D$10,'TIME TABLE'!$E$10)))","v":"(Tuesday)"},{"$f":"IF(C1923=\"\",\"\",'TIME TABLE'!$F$10)","v":"Sanskrit"},null,{"$f":"IF(F1923=\"\",\"\",'TIME TABLE'!$H$10)","v":"09:00 AM to 11:45 AM"}]
[null,null,{"$f":"IF('TIME TABLE'!$B$11=\"\",\"\",'TIME TABLE'!$B$11)","v":""},null,{"$f":"IF(C1924=\"\",\"\",IF(C1924>0,CONCATENATE('TIME TABLE'!$C$11,'TIME TABLE'!$D$11,'TIME TABLE'!$E$11)))","v":""},{"$f":"IF(C1924=\"\",\"\",'TIME TABLE'!$F$11)","v":""},null,{"$f":"IF(F1924=\"\",\"\",'TIME TABLE'!$H$11)","v":""}]
[null,null,{"$f":"IF('TIME TABLE'!$B$12=\"\",\"\",'TIME TABLE'!$B$12)","v":""},null,{"$f":"IF(C1925=\"\",\"\",IF(C1925>0,CONCATENATE('TIME TABLE'!$C$12,'TIME TABLE'!$D$12,'TIME TABLE'!$E$12)))","v":""},{"$f":"IF(C1925=\"\",\"\",'TIME TABLE'!$F$12)","v":""},null,{"$f":"IF(C1925=\"\",\"\",'TIME TABLE'!$H$12)","v":""}]
[null,null,{"$f":"IF('TIME TABLE'!$B$13=\"\",\"\",'TIME TABLE'!$B$13)","v":""},null,{"$f":"IF(C1926=\"\",\"\",IF(C1926>0,CONCATENATE('TIME TABLE'!$C$11,'TIME TABLE'!$D$11,'TIME TABLE'!$E$11)))","v":""},{"$f":"IF(C1926=\"\",\"\",'TIME TABLE'!$F$13)","v":""},null,{"$f":"IF(C1926=\"\",\"\",'TIME TABLE'!$H$13)","v":""}]
[null,null,{"$f":"IF('TIME TABLE'!$B$14=\"\",\"\",'TIME TABLE'!$B$14)","v":""},null,{"$f":"IF(C1927=\"\",\"\",IF(C1927>0,CONCATENATE('TIME TABLE'!$C$11,'TIME TABLE'!$D$11,'TIME TABLE'!$E$11)))","v":""},{"$f":"IF(C1927=\"\",\"\",'TIME TABLE'!$F$14)","v":""},null,{"$f":"IF(C1927=\"\",\"\",'TIME TABLE'!$H$14)","v":""}]
[null,null,"Instructions"]
[null,null,1,"Check the exam time table carefully."]
[null,null,2,"Students must bring the 'Admit Card' and show it to the invigilator(s) on duty and should preserve it for future requirements."]
[null,null,3,"Mobile Phone, Calculator, Digital Watch or any Electronic Device is NOT ALLOWED."]
[null,null,4,"Arrive at the School at least 15 minutes before the start examination."]
[null,null,5,"Student is barred from entering the examination hall 15 minutes after the written examination starts."]
[null,null,6,"Ensure that you use the washroom before arriving for your exam as you will not be permitted to leave during the first hour."]
[null,null,7,"Normally, you are required to answer questionsusing blue or black in . Make sure you bring some spare pens with you."]
[null,null,8,"Keep your eyes on your own paper. Remember, copying is cheating!"]
[null,null,9,"You must remain silent until after you have exited the school building."]
[]
[{"$f":"A1905+1","v":58}]
[null,{"$f":"logo","v":{"$error":"#NAME?"}},null,{"$f":"MASTER!$E$11","v":"Govt. Sr. Secondary School Raimalwada"}]
[{"$nulls":3},{"$f":"MASTER!$E$14","v":"P.S.-Bapini (Phalodi)"}]
[null,{"$f":"CONCATENATE(C1943,'TIME TABLE'!$C$5,'ADMIT CARD'!$C1944,$F1944,'ADMIT CARD'!$G1944,'TIME TABLE'!$E$5)","v":"ADMIT CARD(Roll Number●→0)"},{"$f":"CONCATENATE('TIME TABLE'!$B$2,'TIME TABLE'!$F$2)","v":"TEST-I: (2025-26)"},{"$nulls":5},"Paste latest \nphoto of student"]
[null,null,"ADMIT CARD",{"$nulls":6}," "]
[null,null,"Roll Number",null,null,"●→",{"$f":"VLOOKUP(A1939,'STUDENT DETAIL'!$C$8:$I$107,3)","v":0}]
[null,null,"Student's Name",null,null,"●→",{"$f":"IF(OR(G1944=0,G1944=\"\"),\"\",VLOOKUP(A1939,'STUDENT DETAIL'!$C$8:$I$107,4))","v":""}]
[null,null,"Father's Name",null,null,"●→",{"$f":"IF(OR(G1944=0,G1944=\"\"),\"\",VLOOKUP(A1939,'STUDENT DETAIL'!$C$8:$I$107,5))","v":""},null,"Seal and Signature of Head of Institution"]
[null,null,"Mother's Name ",null,null,"●→",{"$f":"IF(OR(G1944=0,G1944=\"\"),\"\",VLOOKUP(A1939,'STUDENT DETAIL'!$C$8:$I$107,6))","v":""}]
[null,null,"Class & Section",null,null,"●→",{"$f":"IF(OR(G1944=0,G1944=\"\"),\"\",IF('STUDENT DETAIL'!$H$4=\"\",'STUDENT DETAIL'!$E$4,CONCATENATE('STUDENT DETAIL'!$E$4,\"   \",\"(\",'STUDENT DETAIL'!$H$4,\")\")))","v":""}]
[null,null,"Date Of Birth",null,null,"●→",{"$f":"IF(OR(G1944=0,G1944=\"\"),\"\",VLOOKUP(A1939,'STUDENT DETAIL'!$C$8:$I$107,7))","v":""}]
[null,null,"Time Table"]
[null,null,"Date (Day)",null,null,"Subject",null,"Time"]
[null,null,{"$f":"IF('TIME TABLE'!$B$5=\"\",\"\",'TIME TABLE'!$B$5)","v":"2022-03-31"},null,{"$f":"IF(C1952=\"\",\"\",IF(C1952>0,CONCATENATE('TIME TABLE'!$C$5,'TIME TABLE'!$D$5,'TIME TABLE'!$E$5)))","v":"(Thursday)"},{"$f":"IF(C1952=\"\",\"\",'TIME TABLE'!$F$5)","v":"Hindi"},null,{"$f":"IF(F1952=\"\",\"\",'TIME TABLE'!$H$5)","v":"09:00 AM to 11:45 AM"}]
[null,null,{"$f":"IF('TIME TABLE'!$B$6=\"\",\"\",'TIME TABLE'!$B$6)","v":"2022-04-01"},null,{"$f":"IF(C1953=\"\",\"\",IF(C1953>0,CONCATENATE('TIME TABLE'!$C$6,'TIME TABLE'!$D$6,'TIME TABLE'!$E$6)))","v":"(Friday)"},{"$f":"IF(C1953=\"\",\"\",'TIME TABLE'!$F$6)","v":"English"},null,{"$f":"IF(F1953=\"\",\"\",'TIME TABLE'!$H$6)","v":"09:00 AM to 11:45 AM"}]
[null,null,{"$f":"IF('TIME TABLE'!$B$7=\"\",\"\",'TIME TABLE'!$B$7)","v":"2022-04-02"},null,{"$f":"IF(C1954=\"\",\"\",IF(C1954>0,CONCATENATE('TIME TABLE'!$C$7,'TIME TABLE'!$D$7,'TIME TABLE'!$E$7)))","v":"(Saturday)"},{"$f":"IF(C1954=\"\",\"\",'TIME TABLE'!$F$7)","v":"Science"},null,{"$f":"IF(F1954=\"\",\"\",'TIME TABLE'!$H$7)","v":"09:00 AM to 11:45 AM"}]
[null,null,{"$f":"IF('TIME TABLE'!$B$8=\"\",\"\",'TIME TABLE'!$B$8)","v":"2022-04-03"},null,{"$f":"IF(C1955=\"\",\"\",IF(C1955>0,CONCATENATE('TIME TABLE'!$C$8,'TIME TABLE'!$D$8,'TIME TABLE'!$E$8)))","v":"(Sunday)"},{"$f":"IF(C1955=\"\",\"\",'TIME TABLE'!$F$8)","v":"Mathematics"},null,{"$f":"IF(F1955=\"\",\"\",'TIME TABLE'!$H$8)","v":"09:00 AM to 11:45 AM"}]
[null,null,{"$f":"IF('TIME TABLE'!$B$9=\"\",\"\",'TIME TABLE'!$B$9)","v":"2022-04-04"},null,{"$f":"IF(C1956=\"\",\"\",IF(C1956>0,CONCATENATE('TIME TABLE'!$C$9,'TIME TABLE'!$D$9,'TIME TABLE'!$E$9)))","v":"(Monday)"},{"$f":"IF(C1956=\"\",\"\",'TIME TABLE'!$F$9)","v":"Social Study"},null,{"$f":"IF(F1956=\"\",\"\",'TIME TABLE'!$H$9)","v":"09:00 AM to 11:45 AM"}]
[null,null,{"$f":"IF('TIME TABLE'!$B$10=\"\",\"\",'TIME TABLE'!$B$10)","v":"2022-04-05"},null,{"$f":"IF(C1957=\"\",\"\",IF(C1957>0,CONCATENATE('TIME TABLE'!$C$10,'TIME TABLE'!$D$10,'TIME TABLE'!$E$10)))","v":"(Tuesday)"},{"$f":"IF(C1957=\"\",\"\",'TIME TABLE'!$F$10)","v":"Sanskrit"},null,{"$f":"IF(F1957=\"\",\"\",'TIME TABLE'!$H$10)","v":"09:00 AM to 11:45 AM"}]
[null,null,{"$f":"IF('TIME TABLE'!$B$11=\"\",\"\",'TIME TABLE'!$B$11)","v":""},null,{"$f":"IF(C1958=\"\",\"\",IF(C1958>0,CONCATENATE('TIME TABLE'!$C$11,'TIME TABLE'!$D$11,'TIME TABLE'!$E$11)))","v":""},{"$f":"IF(C1958=\"\",\"\",'TIME TABLE'!$F$11)","v":""},null,{"$f":"IF(F1958=\"\",\"\",'TIME TABLE'!$H$11)","v":""}]
[null,null,{"$f":"IF('TIME TABLE'!$B$12=\"\",\"\",'TIME TABLE'!$B$12)","v":""},null,{"$f":"IF(C1959=\"\",\"\",IF(C1959>0,CONCATENATE('TIME TABLE'!$C$12,'TIME TABLE'!$D$12,'TIME TABLE'!$E$12)))","v":""},{"$f":"IF(C1959=\"\",\"\",'TIME TABLE'!$F$12)","v":""},null,{"$f":"IF(C1959=\"\",\"\",'TIME TABLE'!$H$12)","v":""}]
[null,null,{"$f":"IF('TIME TABLE'!$B$13=\"\",\"\",'TIME TABLE'!$B$13)","v":""},null,{"$f":"IF(C1960=\"\",\"\",IF(C1960>0,CONCATENATE('TIME TABLE'!$C$11,'TIME TABLE'!$D$11,'TIME TABLE'!$E$11)))","v":""},{"$f":"IF(C1960=\"\",\"\",'TIME TABLE'!$F$13)","v":""},null,{"$f":"IF(C1960=\"\",\"\",'TIME TABLE'!$H$13)","v":""}]
[null,null,{"$f":"IF('TIME TABLE'!$B$14=\"\",\"\",'TIME TABLE'!$B$14)","v":""},null,{"$f":"IF(C1961=\"\",\"\",IF(C1961>0,CONCATENATE('TIME TABLE'!$C$11,'TIME TABLE'!$D$11,'TIME TABLE'!$E$11)))","v":""},{"$f":"IF(C1961=\"\",\"\",'TIME TABLE'!$F$14)","v":""},null,{"$f":"IF(C1961=\"\",\"\",'TIME TABLE'!$H$14)","v":""}]
[null,null,"Instructions"]
[null,null,1,"Check the exam time table carefully."]
[null,null,2,"Students must bring the 'Admit Card' and show it to the invigilator(s) on duty and should preserve it for future requirements."]
[null,null,3,"Mobile Phone, Calculator, Digital Watch or any Electronic Device is NOT ALLOWED."]
[null,null,4,"Arrive at the School at least 15 minutes before the start examination."]
[null,null,5,"Student is barred from entering the examination hall 15 minutes after the written examination starts."]
[null,null,6,"Ensure that you use the washroom before arriving for your exam as you will not be permitted to leave during the first hour."]
[null,null,7,"Normally, you are required to answer questionsusing blue or black in . Make sure you bring some spare pens with you."]
[null,null,8,"Keep your eyes on your own paper. Remember, copying is cheating!"]
[null,null,9,"You must remain silent until after you have exited the school building."]
[]
[{"$f":"A1939+1","v":59}]
[null,{"$f":"logo","v":{"$error":"#NAME?"}},null,{"$f":"MASTER!$E$11","v":"Govt. Sr. Secondary School Raimalwada"}]
[{"$nulls":3},{"$f":"MASTER!$E$14","v":"P.S.-Bapini (Phalodi)"}]
[null,{"$f":"CONCATENATE(C1977,'TIME TABLE'!$C$5,'ADMIT CARD'!$C1978,$F1978,'ADMIT CARD'!$G1978,'TIME TABLE'!$E$5)","v":"ADMIT CARD(Roll Number●→0)"},{"$f":"CONCATENATE('TIME TABLE'!$B$2,'TIME TABLE'!$F$2)","v":"TEST-I: (2025-26)"},{"$nulls":5},"Paste latest \nphoto of student"]
[null,null,"ADMIT CARD",{"$nulls":6}," "]
[null,null,"Roll Number",null,null,"●→",{"$f":"VLOOKUP(A1973,'STUDENT DETAIL'!$C$8:$I$107,3)","v":0}]
[null,null,"Student's Name",null,null,"●→",{"$f":"IF(OR(G1978=0,G1978=\"\"),\"\",VLOOKUP(A1973,'STUDENT DETAIL'!$C$8:$I$107,4))","v":""}]
[null,null,"Father's Name",null,null,"●→",{"$f":"IF(OR(G1978=0,G1978=\"\"),\"\",VLOOKUP(A1973,'STUDENT DETAIL'!$C$8:$I$107,5))","v":""},null,"Seal and Signature of Head of Institution"]
[null,null,"Mother's Name ",null,null,"●→",{"$f":"IF(OR(G1978=0,G1978=\"\"),\"\",VLOOKUP(A1973,'STUDENT DETAIL'!$C$8:$I$107,6))","v":""}]
[null,null,"Class & Section",null,null,"●→",{"$f":"IF(OR(G1978=0,G1978=\"\"),\"\",IF('STUDENT DETAIL'!$H$4=\"\",'STUDENT DETAIL'!$E$4,CONCATENATE('STUDENT DETAIL'!$E$4,\"   \",\"(\",'STUDENT DETAIL'!$H$4,\")\")))","v":""}]
[null,null,"Date Of Birth",null,null,"●→",{"$f":"IF(OR(G1978=0,G1978=\"\"),\"\",VLOOKUP(A1973,'STUDENT DETAIL'!$C$8:$I$107,7))","v":""}]
[null,null,"Time Table"]
[null,null,"Date (Day)",null,null,"Subject",null,"Time"]
[null,null,{"$f":"IF('TIME TABLE'!$B$5=\"\",\"\",'TIME TABLE'!$B$5)","v":"2022-03-31"},null,{"$f":"IF(C1986=\"\",\"\",IF(C1986>0,CONCATENATE('TIME TABLE'!$C$5,'TIME TABLE'!$D$5,'TIME TABLE'!$E$5)))","v":"(Thursday)"},{"$f":"IF(C1986=\"\",\"\",'TIME TABLE'!$F$5)","v":"Hindi"},null,{"$f":"IF(F1986=\"\",\"\",'TIME TABLE'!$H$5)","v":"09:00 AM to 11:45 AM"}]
[null,null,{"$f":"IF('TIME TABLE'!$B$6=\"\",\"\",'TIME TABLE'!$B$6)","v":"2022-04-01"},null,{"$f":"IF(C1987=\"\",\"\",IF(C1987>0,CONCATENATE('TIME TABLE'!$C$6,'TIME TABLE'!$D$6,'TIME TABLE'!$E$6)))","v":"(Friday)"},{"$f":"IF(C1987=\"\",\"\",'TIME TABLE'!$F$6)","v":"English"},null,{"$f":"IF(F1987=\"\",\"\",'TIME TABLE'!$H$6)","v":"09:00 AM to 11:45 AM"}]
[null,null,{"$f":"IF('TIME TABLE'!$B$7=\"\",\"\",'TIME TABLE'!$B$7)","v":"2022-04-02"},null,{"$f":"IF(C1988=\"\",\"\",IF(C1988>0,CONCATENATE('TIME TABLE'!$C$7,'TIME TABLE'!$D$7,'TIME TABLE'!$E$7)))","v":"(Saturday)"},{"$f":"IF(C1988=\"\",\"\",'TIME TABLE'!$F$7)","v":"Science"},null,{"$f":"IF(F1988=\"\",\"\",'TIME TABLE'!$H$7)","v":"09:00 AM to 11:45 AM"}]
[null,null,{"$f":"IF('TIME TABLE'!$B$8=\"\",\"\",'TIME TABLE'!$B$8)","v":"2022-04-03"},null,{"$f":"IF(C1989=\"\",\"\",IF(C1989>0,CONCATENATE('TIME TABLE'!$C$8,'TIME TABLE'!$D$8,'TIME TABLE'!$E$8)))","v":"(Sunday)"},{"$f":"IF(C1989=\"\",\"\",'TIME TABLE'!$F$8)","v":"Mathematics"},null,{"$f":"IF(F1989=\"\",\"\",'TIME TABLE'!$H$8)","v":"09:00 AM to 11:45 AM"}]
[null,null,{"$f":"IF('TIME TABLE'!$B$9=\"\",\"\",'TIME TABLE'!$B$9)","v":"2022-04-04"},null,{"$f":"IF(C1990=\"\",\"\",IF(C1990>0,CONCATENATE('TIME TABLE'!$C$9,'TIME TABLE'!$D$9,'TIME TABLE'!$E$9)))","v":"(Monday)"},{"$f":"IF(C1990=\"\",\"\",'TIME TABLE'!$F$9)","v":"Social Study"},null,{"$f":"IF(F1990=\"\",\"\",'TIME TABLE'!$H$9)","v":"09:00 AM to 11:45 AM"}]
[null,null,{"$f":"IF('TIME TABLE'!$B$10=\"\",\"\",'TIME TABLE'!$B$10)","v":"2022-04-05"},null,{"$f":"IF(C1991=\"\",\"\",IF(C1991>0,CONCATENATE('TIME TABLE'!$C$10,'TIME TABLE'!$D$10,'TIME TABLE'!$E$10)))","v":"(Tuesday)"},{"$f":"IF(C1991=\"\",\"\",'TIME TABLE'!$F$10)","v":"Sanskrit"},null,{"$f":"IF(F1991=\"\",\"\",'TIME TABLE'!$H$10)","v":"09:00 AM to 11:45 AM"}]
[null,null,{"$f":"IF('TIME TABLE'!$B$11=\"\",\"\",'TIME TABLE'!$B$11)","v":""},null,{"$f":"IF(C1992=\"\",\"\",IF(C1992>0,CONCATENATE('TIME TABLE'!$C$11,'TIME TABLE'!$D$11,'TIME TABLE'!$E$11)))","v":""},{"$f":"IF(C1992=\"\",\"\",'TIME TABLE'!$F$11)","v":""},null,{"$f":"IF(F1992=\"\",\"\",'TIME TABLE'!$H$11)","v":""}]
[null,null,{"$f":"IF('TIME TABLE'!$B$12=\"\",\"\",'TIME TABLE'!$B$12)","v":""},null,{"$f":"IF(C1993=\"\",\"\",IF(C1993>0,CONCATENATE('TIME TABLE'!$C$12,'TIME TABLE'!$D$12,'TIME TABLE'!$E$12)))","v":""},{"$f":"IF(C1993=\"\",\"\",'TIME TABLE'!$F$12)","v":""},null,{"$f":"IF(C1993=\"\",\"\",'TIME TABLE'!$H$12)","v":""}]
[null,null,{"$f":"IF('TIME TABLE'!$B$13=\"\",\"\",'TIME TABLE'!$B$13)","v":""},null,{"$f":"IF(C1994=\"\",\"\",IF(C1994>0,CONCATENATE('TIME TABLE'!$C$11,'TIME TABLE'!$D$11,'TIME TABLE'!$E$11)))","v":""},{"$f":"IF(C1994=\"\",\"\",'TIME TABLE'!$F$13)","v":""},null,{"$f":"IF(C1994=\"\",\"\",'TIME TABLE'!$H$13)","v":""}]
[null,null,{"$f":"IF('TIME TABLE'!$B$14=\"\",\"\",'TIME TABLE'!$B$14)","v":""},null,{"$f":"IF(C1995=\"\",\"\",IF(C1995>0,CONCATENATE('TIME TABLE'!$C$11,'TIME TABLE'!$D$11,'TIME TABLE'!$E$11)))","v":""},{"$f":"IF(C1995=\"\",\"\",'TIME TABLE'!$F$14)","v":""},null,{"$f":"IF(C1995=\"\",\"\",'TIME TABLE'!$H$14)","v":""}]
[null,null,"Instructions"]
[null,null,1,"Check the exam time table carefully."]
[null,null,2,"Students must bring the 'Admit Card' and show it to the invigilator(s) on duty and should preserve it for future requirements."]
[null,null,3,"Mobile Phone, Calculator, Digital Watch or any Electronic Device is NOT ALLOWED."]
[null,null,4,"Arrive at the School at least 15 minutes before the start examination."]
[null,null,5,"Student is barred from entering the examination hall 15 minutes after the written examination starts."]
[null,null,6,"Ensure that you use the washroom before arriving for your exam as you will not be permitted to leave during the first hour."]
[null,null,7,"Normally, you are required to answer questionsusing blue or black in . Make sure you bring some spare pens with you."]
[null,null,8,"Keep your eyes on your own paper. Remember, copying is cheating!"]
[null,null,9,"You must remain silent until after you have exited the school building."]
[]
[{"$f":"A1973+1","v":60}]
[null,{"$f":"logo","v":{"$error":"#NAME?"}},null,{"$f":"MASTER!$E$11","v":"Govt. Sr. Secondary School Raimalwada"}]
[{"$nulls":3},{"$f":"MASTER!$E$14","v":"P.S.-Bapini (Phalodi)"}]
[null,{"$f":"CONCATENATE(C2011,'TIME TABLE'!$C$5,'ADMIT CARD'!$C2012,$F2012,'ADMIT CARD'!$G2012,'TIME TABLE'!$E$5)","v":"ADMIT CARD(Roll Number●→0)"},{"$f":"CONCATENATE('TIME TABLE'!$B$2,'TIME TABLE'!$F$2)","v":"TEST-I: (2025-26)"},{"$nulls":5},"Paste latest \nphoto of student"]
[null,null,"ADMIT CARD",{"$nulls":6}," "]
[null,null,"Roll Number",null,null,"●→",{"$f":"VLOOKUP(A2007,'STUDENT DETAIL'!$C$8:$I$107,3)","v":0}]
[null,null,"Student's Name",null,null,"●→",{"$f":"IF(OR(G2012=0,G2012=\"\"),\"\",VLOOKUP(A2007,'STUDENT DETAIL'!$C$8:$I$107,4))","v":""}]
[null,null,"Father's Name",null,null,"●→",{"$f":"IF(OR(G2012=0,G2012=\"\"),\"\",VLOOKUP(A2007,'STUDENT DETAIL'!$C$8:$I$107,5))","v":""},null,"Seal and Signature of Head of Institution"]
[null,null,"Mother's Name ",null,null,"●→",{"$f":"IF(OR(G2012=0,G2012=\"\"),\"\",VLOOKUP(A2007,'STUDENT DETAIL'!$C$8:$I$107,6))","v":""}]
[null,null,"Class & Section",null,null,"●→",{"$f":"IF(OR(G2012=0,G2012=\"\"),\"\",IF('STUDENT DETAIL'!$H$4=\"\",'STUDENT DETAIL'!$E$4,CONCATENATE('STUDENT DETAIL'!$E$4,\"   \",\"(\",'STUDENT DETAIL'!$H$4,\")\")))","v":""}]
[null,null,"Date Of Birth",null,null,"●→",{"$f":"IF(OR(G2012=0,G2012=\"\"),\"\",VLOOKUP(A2007,'STUDENT DETAIL'!$C$8:$I$107,7))","v":""}]
[null,null,"Time Table"]
[null,null,"Date (Day)",null,null,"Subject",null,"Time"]
[null,null,{"$f":"IF('TIME TABLE'!$B$5=\"\",\"\",'TIME TABLE'!$B$5)","v":"2022-03-31"},null,{"$f":"IF(C2020=\"\",\"\",IF(C2020>0,CONCATENATE('TIME TABLE'!$C$5,'TIME TABLE'!$D$5,'TIME TABLE'!$E$5)))","v":"(Thursday)"},{"$f":"IF(C2020=\"\",\"\",'TIME TABLE'!$F$5)","v":"Hindi"},null,{"$f":"IF(F2020=\"\",\"\",'TIME TABLE'!$H$5)","v":"09:00 AM to 11:45 AM"}]
[null,null,{"$f":"IF('TIME TABLE'!$B$6=\"\",\"\",'TIME TABLE'!$B$6)","v":"2022-04-01"},null,{"$f":"IF(C2021=\"\",\"\",IF(C2021>0,CONCATENATE('TIME TABLE'!$C$6,'TIME TABLE'!$D$6,'TIME TABLE'!$E$6)))","v":"(Friday)"},{"$f":"IF(C2021=\"\",\"\",'TIME TABLE'!$F$6)","v":"English"},null,{"$f":"IF(F2021=\"\",\"\",'TIME TABLE'!$H$6)","v":"09:00 AM to 11:45 AM"}]
[null,null,{"$f":"IF('TIME TABLE'!$B$7=\"\",\"\",'TIME TABLE'!$B$7)","v":"2022-04-02"},null,{"$f":"IF(C2022=\"\",\"\",IF(C2022>0,CONCATENATE('TIME TABLE'!$C$7,'TIME TABLE'!$D$7,'TIME TABLE'!$E$7)))","v":"(Saturday)"},{"$f":"IF(C2022=\"\",\"\",'TIME TABLE'!$F$7)","v":"Science"},null,{"$f":"IF(F2022=\"\",\"\",'TIME TABLE'!$H$7)","v":"09:00 AM to 11:45 AM"}]
[null,null,{"$f":"IF('TIME TABLE'!$B$8=\"\",\"\",'TIME TABLE'!$B$8)","v":"2022-04-03"},null,{"$f":"IF(C2023=\"\",\"\",IF(C2023>0,CONCATENATE('TIME TABLE'!$C$8,'TIME TABLE'!$D$8,'TIME TABLE'!$E$8)))","v":"(Sunday)"},{"$f":"IF(C2023=\"\",\"\",'TIME TABLE'!$F$8)","v":"Mathematics"},null,{"$f":"IF(F2023=\"\",\"\",'TIME TABLE'!$H$8)","v":"09:00 AM to 11:45 AM"}]
[null,null,{"$f":"IF('TIME TABLE'!$B$9=\"\",\"\",'TIME TABLE'!$B$9)","v":"2022-04-04"},null,{"$f":"IF(C2024=\"\",\"\",IF(C2024>0,CONCATENATE('TIME TABLE'!$C$9,'TIME TABLE'!$D$9,'TIME TABLE'!$E$9)))","v":"(Monday)"},{"$f":"IF(C2024=\"\",\"\",'TIME TABLE'!$F$9)","v":"Social Study"},null,{"$f":"IF(F2024=\"\",\"\",'TIME TABLE'!$H$9)","v":"09:00 AM to 11:45 AM"}]
[null,null,{"$f":"IF('TIME TABLE'!$B$10=\"\",\"\",'TIME TABLE'!$B$10)","v":"2022-04-05"},null,{"$f":"IF(C2025=\"\",\"\",IF(C2025>0,CONCATENATE('TIME TABLE'!$C$10,'TIME TABLE'!$D$10,'TIME TABLE'!$E$10)))","v":"(Tuesday)"},{"$f":"IF(C2025=\"\",\"\",'TIME TABLE'!$F$10)","v":"Sanskrit"},null,{"$f":"IF(F2025=\"\",\"\",'TIME TABLE'!$H$10)","v":"09:00 AM to 11:45 AM"}]
[null,null,{"$f":"IF('TIME TABLE'!$B$11=\"\",\"\",'TIME TABLE'!$B$11)","v":""},null,{"$f":"IF(C2026=\"\",\"\",IF(C2026>0,CONCATENATE('TIME TABLE'!$C$11,'TIME TABLE'!$D$11,'TIME TABLE'!$E$11)))","v":""},{"$f":"IF(C2026=\"\",\"\",'TIME TABLE'!$F$11)","v":""},null,{"$f":"IF(F2026=\"\",\"\",'TIME TABLE'!$H$11)","v":""}]
[null,null,{"$f":"IF('TIME TABLE'!$B$12=\"\",\"\",'TIME TABLE'!$B$12)","v":""},null,{"$f":"IF(C2027=\"\",\"\",IF(C2027>0,CONCATENATE('TIME TABLE'!$C$12,'TIME TABLE'!$D$12,'TIME TABLE'!$E$12)))","v":""},{"$f":"IF(C2027=\"\",\"\",'TIME TABLE'!$F$12)","v":""},null,{"$f":"IF(C2027=\"\",\"\",'TIME TABLE'!$H$12)","v":""}]
[null,null,{"$f":"IF('TIME TABLE'!$B$13=\"\",\"\",'TIME TABLE'!$B$13)","v":""},null,{"$f":"IF(C2028=\"\",\"\",IF(C2028>0,CONCATENATE('TIME TABLE'!$C$11,'TIME TABLE'!$D$11,'TIME TABLE'!$E$11)))","v":""},{"$f":"IF(C2028=\"\",\"\",'TIME TABLE'!$F$13)","v":""},null,{"$f":"IF(C2028=\"\",\"\",'TIME TABLE'!$H$13)","v":""}]
[null,null,{"$f":"IF('TIME TABLE'!$B$14=\"\",\"\",'TIME TABLE'!$B$14)","v":""},null,{"$f":"IF(C2029=\"\",\"\",IF(C2029>0,CONCATENATE('TIME TABLE'!$C$11,'TIME TABLE'!$D$11,'TIME TABLE'!$E$11)))","v":""},{"$f":"IF(C2029=\"\",\"\",'TIME TABLE'!$F$14)","v":""},null,{"$f":"IF(C2029=\"\",\"\",'TIME TABLE'!$H$14)","v":""}]
[null,null,"Instructions"]
[null,null,1,"Check the exam time table carefully."]
[null,null,2,"Students must bring the 'Admit Card' and show it to the invigilator(s) on duty and should preserve it for future requirements."]
[null,null,3,"Mobile Phone, Calculator, Digital Watch or any Electronic Device is NOT ALLOWED."]
[null,null,4,"Arrive at the School at least 15 minutes before the start examination."]
[null,null,5,"Student is barred from entering the examination hall 15 minutes after the written examination starts."]
[null,null,6,"Ensure that you use the washroom before arriving for your exam as you will not be permitted to leave during the first hour."]
[null,null,7,"Normally, you are required to answer questionsusing blue or black in . Make sure you bring some spare pens with you."]
[null,null,8,"Keep your eyes on your own paper. Remember, copying is cheating!"]
[null,null,9,"You must remain silent until after you have exited the school building."]
[]
[{"$f":"A2007+1","v":61}]
[null,{"$f":"logo","v":{"$error":"#NAME?"}},null,{"$f":"MASTER!$E$11","v":"Govt. Sr. Secondary School Raimalwada"}]
[{"$nulls":3},{"$f":"MASTER!$E$14","v":"P.S.-Bapini (Phalodi)"}]
[null,{"$f":"CONCATENATE(C2045,'TIME TABLE'!$C$5,'ADMIT CARD'!$C2046,$F2046,'ADMIT CARD'!$G2046,'TIME TABLE'!$E$5)","v":"ADMIT CARD(Roll Number●→0)"},{"$f":"CONCATENATE('TIME TABLE'!$B$2,'TIME TABLE'!$F$2)","v":"TEST-I: (2025-26)"},{"$nulls":5},"Paste latest \nphoto of student"]
[null,null,"ADMIT CARD",{"$nulls":6}," "]
[null,null,"Roll Number",null,null,"●→",{"$f":"VLOOKUP(A2041,'STUDENT DETAIL'!$C$8:$I$107,3)","v":0}]
[null,null,"Student's Name",null,null,"●→",{"$f":"IF(OR(G2046=0,G2046=\"\"),\"\",VLOOKUP(A2041,'STUDENT DETAIL'!$C$8:$I$107,4))","v":""}]
[null,null,"Father's Name",null,null,"●→",{"$f":"IF(OR(G2046=0,G2046=\"\"),\"\",VLOOKUP(A2041,'STUDENT DETAIL'!$C$8:$I$107,5))","v":""},null,"Seal and Signature of Head of Institution"]
[null,null,"Mother's Name ",null,null,"●→",{"$f":"IF(OR(G2046=0,G2046=\"\"),\"\",VLOOKUP(A2041,'STUDENT DETAIL'!$C$8:$I$107,6))","v":""}]
[null,null,"Class & Section",null,null,"●→",{"$f":"IF(OR(G2046=0,G2046=\"\"),\"\",IF('STUDENT DETAIL'!$H$4=\"\",'STUDENT DETAIL'!$E$4,CONCATENATE('STUDENT DETAIL'!$E$4,\"   \",\"(\",'STUDENT DETAIL'!$H$4,\")\")))","v":""}]
[null,null,"Date Of Birth",null,null,"●→",{"$f":"IF(OR(G2046=0,G2046=\"\"),\"\",VLOOKUP(A2041,'STUDENT DETAIL'!$C$8:$I$107,7))","v":""}]
[null,null,"Time Table"]
[null,null,"Date (Day)",null,null,"Subject",null,"Time"]
[null,null,{"$f":"IF('TIME TABLE'!$B$5=\"\",\"\",'TIME TABLE'!$B$5)","v":"2022-03-31"},null,{"$f":"IF(C2054=\"\",\"\",IF(C2054>0,CONCATENATE('TIME TABLE'!$C$5,'TIME TABLE'!$D$5,'TIME TABLE'!$E$5)))","v":"(Thursday)"},{"$f":"IF(C2054=\"\",\"\",'TIME TABLE'!$F$5)","v":"Hindi"},null,{"$f":"IF(F2054=\"\",\"\",'TIME TABLE'!$H$5)","v":"09:00 AM to 11:45 AM"}]
[null,null,{"$f":"IF('TIME TABLE'!$B$6=\"\",\"\",'TIME TABLE'!$B$6)","v":"2022-04-01"},null,{"$f":"IF(C2055=\"\",\"\",IF(C2055>0,CONCATENATE('TIME TABLE'!$C$6,'TIME TABLE'!$D$6,'TIME TABLE'!$E$6)))","v":"(Friday)"},{"$f":"IF(C2055=\"\",\"\",'TIME TABLE'!$F$6)","v":"English"},null,{"$f":"IF(F2055=\"\",\"\",'TIME TABLE'!$H$6)","v":"09:00 AM to 11:45 AM"}]
[null,null,{"$f":"IF('TIME TABLE'!$B$7=\"\",\"\",'TIME TABLE'!$B$7)","v":"2022-04-02"},null,{"$f":"IF(C2056=\"\",\"\",IF(C2056>0,CONCATENATE('TIME TABLE'!$C$7,'TIME TABLE'!$D$7,'TIME TABLE'!$E$7)))","v":"(Saturday)"},{"$f":"IF(C2056=\"\",\"\",'TIME TABLE'!$F$7)","v":"Science"},null,{"$f":"IF(F2056=\"\",\"\",'TIME TABLE'!$H$7)","v":"09:00 AM to 11:45 AM"}]
[null,null,{"$f":"IF('TIME TABLE'!$B$8=\"\",\"\",'TIME TABLE'!$B$8)","v":"2022-04-03"},null,{"$f":"IF(C2057=\"\",\"\",IF(C2057>0,CONCATENATE('TIME TABLE'!$C$8,'TIME TABLE'!$D$8,'TIME TABLE'!$E$8)))","v":"(Sunday)"},{"$f":"IF(C2057=\"\",\"\",'TIME TABLE'!$F$8)","v":"Mathematics"},null,{"$f":"IF(F2057=\"\",\"\",'TIME TABLE'!$H$8)","v":"09:00 AM to 11:45 AM"}]
[null,null,{"$f":"IF('TIME TABLE'!$B$9=\"\",\"\",'TIME TABLE'!$B$9)","v":"2022-04-04"},null,{"$f":"IF(C2058=\"\",\"\",IF(C2058>0,CONCATENATE('TIME TABLE'!$C$9,'TIME TABLE'!$D$9,'TIME TABLE'!$E$9)))","v":"(Monday)"},{"$f":"IF(C2058=\"\",\"\",'TIME TABLE'!$F$9)","v":"Social Study"},null,{"$f":"IF(F2058=\"\",\"\",'TIME TABLE'!$H$9)","v":"09:00 AM to 11:45 AM"}]
[null,null,{"$f":"IF('TIME TABLE'!$B$10=\"\",\"\",'TIME TABLE'!$B$10)","v":"2022-04-05"},null,{"$f":"IF(C2059=\"\",\"\",IF(C2059>0,CONCATENATE('TIME TABLE'!$C$10,'TIME TABLE'!$D$10,'TIME TABLE'!$E$10)))","v":"(Tuesday)"},{"$f":"IF(C2059=\"\",\"\",'TIME TABLE'!$F$10)","v":"Sanskrit"},null,{"$f":"IF(F2059=\"\",\"\",'TIME TABLE'!$H$10)","v":"09:00 AM to 11:45 AM"}]
[null,null,{"$f":"IF('TIME TABLE'!$B$11=\"\",\"\",'TIME TABLE'!$B$11)","v":""},null,{"$f":"IF(C2060=\"\",\"\",IF(C2060>0,CONCATENATE('TIME TABLE'!$C$11,'TIME TABLE'!$D$11,'TIME TABLE'!$E$11)))","v":""},{"$f":"IF(C2060=\"\",\"\",'TIME TABLE'!$F$11)","v":""},null,{"$f":"IF(F2060=\"\",\"\",'TIME TABLE'!$H$11)","v":""}]
[null,null,{"$f":"IF('TIME TABLE'!$B$12=\"\",\"\",'TIME TABLE'!$B$12)","v":""},null,{"$f":"IF(C2061=\"\",\"\",IF(C2061>0,CONCATENATE('TIME TABLE'!$C$12,'TIME TABLE'!$D$12,'TIME TABLE'!$E$12)))","v":""},{"$f":"IF(C2061=\"\",\"\",'TIME TABLE'!$F$12)","v":""},null,{"$f":"IF(C2061=\"\",\"\",'TIME TABLE'!$H$12)","v":""}]
[null,null,{"$f":"IF('TIME TABLE'!$B$13=\"\",\"\",'TIME TABLE'!$B$13)","v":""},null,{"$f":"IF(C2062=\"\",\"\",IF(C2062>0,CONCATENATE('TIME TABLE'!$C$11,'TIME TABLE'!$D$11,'TIME TABLE'!$E$11)))","v":""},{"$f":"IF(C2062=\"\",\"\",'TIME TABLE'!$F$13)","v":""},null,{"$f":"IF(C2062=\"\",\"\",'TIME TABLE'!$H$13)","v":""}]
[null,null,{"$f":"IF('TIME TABLE'!$B$14=\"\",\"\",'TIME TABLE'!$B$14)","v":""},null,{"$f":"IF(C2063=\"\",\"\",IF(C2063>0,CONCATENATE('TIME TABLE'!$C$11,'TIME TABLE'!$D$11,'TIME TABLE'!$E$11)))","v":""},{"$f":"IF(C2063=\"\",\"\",'TIME TABLE'!$F$14)","v":""},null,{"$f":"IF(C2063=\"\",\"\",'TIME TABLE'!$H$14)","v":""}]
[null,null,"Instructions"]
[null,null,1,"Check the exam time table carefully."]
[null,null,2,"Students must bring the 'Admit Card' and show it to the invigilator(s) on duty and should preserve it for future requirements."]
[null,null,3,"Mobile Phone, Calculator, Digital Watch or any Electronic Device is NOT ALLOWED."]
[null,null,4,"Arrive at the School at least 15 minutes before the start examination."]
[null,null,5,"Student is barred from entering the examination hall 15 minutes after the written examination starts."]
[null,null,6,"Ensure that you use the washroom before arriving for your exam as you will not be permitted to leave during the first hour."]
[null,null,7,"Normally, you are required to answer questionsusing blue or black in . Make sure you bring some spare pens with you."]
[null,null,8,"Keep your eyes on your own paper. Remember, copying is cheating!"]
[null,null,9,"You must remain silent until after you have exited the school building."]
[]
[{"$f":"A2041+1","v":62}]
[null,{"$f":"logo","v":{"$error":"#NAME?"}},null,{"$f":"MASTER!$E$11","v":"Govt. Sr. Secondary School Raimalwada"}]
[{"$nulls":3},{"$f":"MASTER!$E$14","v":"P.S.-Bapini (Phalodi)"}]
[null,{"$f":"CONCATENATE(C2079,'TIME TABLE'!$C$5,'ADMIT CARD'!$C2080,$F2080,'ADMIT CARD'!$G2080,'TIME TABLE'!$E$5)","v":"ADMIT CARD(Roll Number●→0)"},{"$f":"CONCATENATE('TIME TABLE'!$B$2,'TIME TABLE'!$F$2)","v":"TEST-I: (2025-26)"},{"$nulls":5},"Paste latest \nphoto of student"]
[null,null,"ADMIT CARD",{"$nulls":6}," "]
[null,null,"Roll Number",null,null,"●→",{"$f":"VLOOKUP(A2075,'STUDENT DETAIL'!$C$8:$I$107,3)","v":0}]
[null,null,"Student's Name",null,null,"●→",{"$f":"IF(OR(G2080=0,G2080=\"\"),\"\",VLOOKUP(A2075,'STUDENT DETAIL'!$C$8:$I$107,4))","v":""}]
[null,null,"Father's Name",null,null,"●→",{"$f":"IF(OR(G2080=0,G2080=\"\"),\"\",VLOOKUP(A2075,'STUDENT DETAIL'!$C$8:$I$107,5))","v":""},null,"Seal and Signature of Head of Institution"]
[null,null,"Mother's Name ",null,null,"●→",{"$f":"IF(OR(G2080=0,G2080=\"\"),\"\",VLOOKUP(A2075,'STUDENT DETAIL'!$C$8:$I$107,6))","v":""}]
[null,null,"Class & Section",null,null,"●→",{"$f":"IF(OR(G2080=0,G2080=\"\"),\"\",IF('STUDENT DETAIL'!$H$4=\"\",'STUDENT DETAIL'!$E$4,CONCATENATE('STUDENT DETAIL'!$E$4,\"   \",\"(\",'STUDENT DETAIL'!$H$4,\")\")))","v":""}]
[null,null,"Date Of Birth",null,null,"●→",{"$f":"IF(OR(G2080=0,G2080=\"\"),\"\",VLOOKUP(A2075,'STUDENT DETAIL'!$C$8:$I$107,7))","v":""}]
[null,null,"Time Table"]
[null,null,"Date (Day)",null,null,"Subject",null,"Time"]
[null,null,{"$f":"IF('TIME TABLE'!$B$5=\"\",\"\",'TIME TABLE'!$B$5)","v":"2022-03-31"},null,{"$f":"IF(C2088=\"\",\"\",IF(C2088>0,CONCATENATE('TIME TABLE'!$C$5,'TIME TABLE'!$D$5,'TIME TABLE'!$E$5)))","v":"(Thursday)"},{"$f":"IF(C2088=\"\",\"\",'TIME TABLE'!$F$5)","v":"Hindi"},null,{"$f":"IF(F2088=\"\",\"\",'TIME TABLE'!$H$5)","v":"09:00 AM to 11:45 AM"}]
[null,null,{"$f":"IF('TIME TABLE'!$B$6=\"\",\"\",'TIME TABLE'!$B$6)","v":"2022-04-01"},null,{"$f":"IF(C2089=\"\",\"\",IF(C2089>0,CONCATENATE('TIME TABLE'!$C$6,'TIME TABLE'!$D$6,'TIME TABLE'!$E$6)))","v":"(Friday)"},{"$f":"IF(C2089=\"\",\"\",'TIME TABLE'!$F$6)","v":"English"},null,{"$f":"IF(F2089=\"\",\"\",'TIME TABLE'!$H$6)","v":"09:00 AM to 11:45 AM"}]
[null,null,{"$f":"IF('TIME TABLE'!$B$7=\"\",\"\",'TIME TABLE'!$B$7)","v":"2022-04-02"},null,{"$f":"IF(C2090=\"\",\"\",IF(C2090>0,CONCATENATE('TIME TABLE'!$C$7,'TIME TABLE'!$D$7,'TIME TABLE'!$E$7)))","v":"(Saturday)"},{"$f":"IF(C2090=\"\",\"\",'TIME TABLE'!$F$7)","v":"Science"},null,{"$f":"IF(F2090=\"\",\"\",'TIME TABLE'!$H$7)","v":"09:00 AM to 11:45 AM"}]
[null,null,{"$f":"IF('TIME TABLE'!$B$8=\"\",\"\",'TIME TABLE'!$B$8)","v":"2022-04-03"},null,{"$f":"IF(C2091=\"\",\"\",IF(C2091>0,CONCATENATE('TIME TABLE'!$C$8,'TIME TABLE'!$D$8,'TIME TABLE'!$E$8)))","v":"(Sunday)"},{"$f":"IF(C2091=\"\",\"\",'TIME TABLE'!$F$8)","v":"Mathematics"},null,{"$f":"IF(F2091=\"\",\"\",'TIME TABLE'!$H$8)","v":"09:00 AM to 11:45 AM"}]
[null,null,{"$f":"IF('TIME TABLE'!$B$9=\"\",\"\",'TIME TABLE'!$B$9)","v":"2022-04-04"},null,{"$f":"IF(C2092=\"\",\"\",IF(C2092>0,CONCATENATE('TIME TABLE'!$C$9,'TIME TABLE'!$D$9,'TIME TABLE'!$E$9)))","v":"(Monday)"},{"$f":"IF(C2092=\"\",\"\",'TIME TABLE'!$F$9)","v":"Social Study"},null,{"$f":"IF(F2092=\"\",\"\",'TIME TABLE'!$H$9)","v":"09:00 AM to 11:45 AM"}]
[null,null,{"$f":"IF('TIME TABLE'!$B$10=\"\",\"\",'TIME TABLE'!$B$10)","v":"2022-04-05"},null,{"$f":"IF(C2093=\"\",\"\",IF(C2093>0,CONCATENATE('TIME TABLE'!$C$10,'TIME TABLE'!$D$10,'TIME TABLE'!$E$10)))","v":"(Tuesday)"},{"$f":"IF(C2093=\"\",\"\",'TIME TABLE'!$F$10)","v":"Sanskrit"},null,{"$f":"IF(F2093=\"\",\"\",'TIME TABLE'!$H$10)","v":"09:00 AM to 11:45 AM"}]
[null,null,{"$f":"IF('TIME TABLE'!$B$11=\"\",\"\",'TIME TABLE'!$B$11)","v":""},null,{"$f":"IF(C2094=\"\",\"\",IF(C2094>0,CONCATENATE('TIME TABLE'!$C$11,'TIME TABLE'!$D$11,'TIME TABLE'!$E$11)))","v":""},{"$f":"IF(C2094=\"\",\"\",'TIME TABLE'!$F$11)","v":""},null,{"$f":"IF(F2094=\"\",\"\",'TIME TABLE'!$H$11)","v":""}]
[null,null,{"$f":"IF('TIME TABLE'!$B$12=\"\",\"\",'TIME TABLE'!$B$12)","v":""},null,{"$f":"IF(C2095=\"\",\"\",IF(C2095>0,CONCATENATE('TIME TABLE'!$C$12,'TIME TABLE'!$D$12,'TIME TABLE'!$E$12)))","v":""},{"$f":"IF(C2095=\"\",\"\",'TIME TABLE'!$F$12)","v":""},null,{"$f":"IF(C2095=\"\",\"\",'TIME TABLE'!$H$12)","v":""}]
[null,null,{"$f":"IF('TIME TABLE'!$B$13=\"\",\"\",'TIME TABLE'!$B$13)","v":""},null,{"$f":"IF(C2096=\"\",\"\",IF(C2096>0,CONCATENATE('TIME TABLE'!$C$11,'TIME TABLE'!$D$11,'TIME TABLE'!$E$11)))","v":""},{"$f":"IF(C2096=\"\",\"\",'TIME TABLE'!$F$13)","v":""},null,{"$f":"IF(C2096=\"\",\"\",'TIME TABLE'!$H$13)","v":""}]
[null,null,{"$f":"IF('TIME TABLE'!$B$14=\"\",\"\",'TIME TABLE'!$B$14)","v":""},null,{"$f":"IF(C2097=\"\",\"\",IF(C2097>0,CONCATENATE('TIME TABLE'!$C$11,'TIME TABLE'!$D$11,'TIME TABLE'!$E$11)))","v":""},{"$f":"IF(C2097=\"\",\"\",'TIME TABLE'!$F$14)","v":""},null,{"$f":"IF(C2097=\"\",\"\",'TIME TABLE'!$H$14)","v":""}]
[null,null,"Instructions"]
[null,null,1,"Check the exam time table carefully."]
[null,null,2,"Students must bring the 'Admit Card' and show it to the invigilator(s) on duty and should preserve it for future requirements."]
[null,null,3,"Mobile Phone, Calculator, Digital Watch or any Electronic Device is NOT ALLOWED."]
[null,null,4,"Arrive at the School at least 15 minutes before the start examination."]
[null,null,5,"Student is barred from entering the examination hall 15 minutes after the written examination starts."]
[null,null,6,"Ensure that you use the washroom before arriving for your exam as you will not be permitted to leave during the first hour."]
[null,null,7,"Normally, you are required to answer questionsusing blue or black in . Make sure you bring some spare pens with you."]
[null,null,8,"Keep your eyes on your own paper. Remember, copying is cheating!"]
[null,null,9,"You must remain silent until after you have exited the school building."]
[]
[{"$f":"A2075+1","v":63}]
[null,{"$f":"logo","v":{"$error":"#NAME?"}},null,{"$f":"MASTER!$E$11","v":"Govt. Sr. Secondary School Raimalwada"}]
[{"$nulls":3},{"$f":"MASTER!$E$14","v":"P.S.-Bapini (Phalodi)"}]
[null,{"$f":"CONCATENATE(C2113,'TIME TABLE'!$C$5,'ADMIT CARD'!$C2114,$F2114,'ADMIT CARD'!$G2114,'TIME TABLE'!$E$5)","v":"ADMIT CARD(Roll Number●→0)"},{"$f":"CONCATENATE('TIME TABLE'!$B$2,'TIME TABLE'!$F$2)","v":"TEST-I: (2025-26)"},{"$nulls":5},"Paste latest \nphoto of student"]
[null,null,"ADMIT CARD",{"$nulls":6}," "]
[null,null,"Roll Number",null,null,"●→",{"$f":"VLOOKUP(A2109,'STUDENT DETAIL'!$C$8:$I$107,3)","v":0}]
[null,null,"Student's Name",null,null,"●→",{"$f":"IF(OR(G2114=0,G2114=\"\"),\"\",VLOOKUP(A2109,'STUDENT DETAIL'!$C$8:$I$107,4))","v":""}]
[null,null,"Father's Name",null,null,"●→",{"$f":"IF(OR(G2114=0,G2114=\"\"),\"\",VLOOKUP(A2109,'STUDENT DETAIL'!$C$8:$I$107,5))","v":""},null,"Seal and Signature of Head of Institution"]
[null,null,"Mother's Name ",null,null,"●→",{"$f":"IF(OR(G2114=0,G2114=\"\"),\"\",VLOOKUP(A2109,'STUDENT DETAIL'!$C$8:$I$107,6))","v":""}]
[null,null,"Class & Section",null,null,"●→",{"$f":"IF(OR(G2114=0,G2114=\"\"),\"\",IF('STUDENT DETAIL'!$H$4=\"\",'STUDENT DETAIL'!$E$4,CONCATENATE('STUDENT DETAIL'!$E$4,\"   \",\"(\",'STUDENT DETAIL'!$H$4,\")\")))","v":""}]
[null,null,"Date Of Birth",null,null,"●→",{"$f":"IF(OR(G2114=0,G2114=\"\"),\"\",VLOOKUP(A2109,'STUDENT DETAIL'!$C$8:$I$107,7))","v":""}]
[null,null,"Time Table"]
[null,null,"Date (Day)",null,null,"Subject",null,"Time"]
[null,null,{"$f":"IF('TIME TABLE'!$B$5=\"\",\"\",'TIME TABLE'!$B$5)","v":"2022-03-31"},null,{"$f":"IF(C2122=\"\",\"\",IF(C2122>0,CONCATENATE('TIME TABLE'!$C$5,'TIME TABLE'!$D$5,'TIME TABLE'!$E$5)))","v":"(Thursday)"},{"$f":"IF(C2122=\"\",\"\",'TIME TABLE'!$F$5)","v":"Hindi"},null,{"$f":"IF(F2122=\"\",\"\",'TIME TABLE'!$H$5)","v":"09:00 AM to 11:45 AM"}]
[null,null,{"$f":"IF('TIME TABLE'!$B$6=\"\",\"\",'TIME TABLE'!$B$6)","v":"2022-04-01"},null,{"$f":"IF(C2123=\"\",\"\",IF(C2123>0,CONCATENATE('TIME TABLE'!$C$6,'TIME TABLE'!$D$6,'TIME TABLE'!$E$6)))","v":"(Friday)"},{"$f":"IF(C2123=\"\",\"\",'TIME TABLE'!$F$6)","v":"English"},null,{"$f":"IF(F2123=\"\",\"\",'TIME TABLE'!$H$6)","v":"09:00 AM to 11:45 AM"}]
[null,null,{"$f":"IF('TIME TABLE'!$B$7=\"\",\"\",'TIME TABLE'!$B$7)","v":"2022-04-02"},null,{"$f":"IF(C2124=\"\",\"\",IF(C2124>0,CONCATENATE('TIME TABLE'!$C$7,'TIME TABLE'!$D$7,'TIME TABLE'!$E$7)))","v":"(Saturday)"},{"$f":"IF(C2124=\"\",\"\",'TIME TABLE'!$F$7)","v":"Science"},null,{"$f":"IF(F2124=\"\",\"\",'TIME TABLE'!$H$7)","v":"09:00 AM to 11:45 AM"}]
[null,null,{"$f":"IF('TIME TABLE'!$B$8=\"\",\"\",'TIME TABLE'!$B$8)","v":"2022-04-03"},null,{"$f":"IF(C2125=\"\",\"\",IF(C2125>0,CONCATENATE('TIME TABLE'!$C$8,'TIME TABLE'!$D$8,'TIME TABLE'!$E$8)))","v":"(Sunday)"},{"$f":"IF(C2125=\"\",\"\",'TIME TABLE'!$F$8)","v":"Mathematics"},null,{"$f":"IF(F2125=\"\",\"\",'TIME TABLE'!$H$8)","v":"09:00 AM to 11:45 AM"}]
[null,null,{"$f":"IF('TIME TABLE'!$B$9=\"\",\"\",'TIME TABLE'!$B$9)","v":"2022-04-04"},null,{"$f":"IF(C2126=\"\",\"\",IF(C2126>0,CONCATENATE('TIME TABLE'!$C$9,'TIME TABLE'!$D$9,'TIME TABLE'!$E$9)))","v":"(Monday)"},{"$f":"IF(C2126=\"\",\"\",'TIME TABLE'!$F$9)","v":"Social Study"},null,{"$f":"IF(F2126=\"\",\"\",'TIME TABLE'!$H$9)","v":"09:00 AM to 11:45 AM"}]
[null,null,{"$f":"IF('TIME TABLE'!$B$10=\"\",\"\",'TIME TABLE'!$B$10)","v":"2022-04-05"},null,{"$f":"IF(C2127=\"\",\"\",IF(C2127>0,CONCATENATE('TIME TABLE'!$C$10,'TIME TABLE'!$D$10,'TIME TABLE'!$E$10)))","v":"(Tuesday)"},{"$f":"IF(C2127=\"\",\"\",'TIME TABLE'!$F$10)","v":"Sanskrit"},null,{"$f":"IF(F2127=\"\",\"\",'TIME TABLE'!$H$10)","v":"09:00 AM to 11:45 AM"}]
[null,null,{"$f":"IF('TIME TABLE'!$B$11=\"\",\"\",'TIME TABLE'!$B$11)","v":""},null,{"$f":"IF(C2128=\"\",\"\",IF(C2128>0,CONCATENATE('TIME TABLE'!$C$11,'TIME TABLE'!$D$11,'TIME TABLE'!$E$11)))","v":""},{"$f":"IF(C2128=\"\",\"\",'TIME TABLE'!$F$11)","v":""},null,{"$f":"IF(F2128=\"\",\"\",'TIME TABLE'!$H$11)","v":""}]
[null,null,{"$f":"IF('TIME TABLE'!$B$12=\"\",\"\",'TIME TABLE'!$B$12)","v":""},null,{"$f":"IF(C2129=\"\",\"\",IF(C2129>0,CONCATENATE('TIME TABLE'!$C$12,'TIME TABLE'!$D$12,'TIME TABLE'!$E$12)))","v":""},{"$f":"IF(C2129=\"\",\"\",'TIME TABLE'!$F$12)","v":""},null,{"$f":"IF(C2129=\"\",\"\",'TIME TABLE'!$H$12)","v":""}]
[null,null,{"$f":"IF('TIME TABLE'!$B$13=\"\",\"\",'TIME TABLE'!$B$13)","v":""},null,{"$f":"IF(C2130=\"\",\"\",IF(C2130>0,CONCATENATE('TIME TABLE'!$C$11,'TIME TABLE'!$D$11,'TIME TABLE'!$E$11)))","v":""},{"$f":"IF(C2130=\"\",\"\",'TIME TABLE'!$F$13)","v":""},null,{"$f":"IF(C2130=\"\",\"\",'TIME TABLE'!$H$13)","v":""}]
[null,null,{"$f":"IF('TIME TABLE'!$B$14=\"\",\"\",'TIME TABLE'!$B$14)","v":""},null,{"$f":"IF(C2131=\"\",\"\",IF(C2131>0,CONCATENATE('TIME TABLE'!$C$11,'TIME TABLE'!$D$11,'TIME TABLE'!$E$11)))","v":""},{"$f":"IF(C2131=\"\",\"\",'TIME TABLE'!$F$14)","v":""},null,{"$f":"IF(C2131=\"\",\"\",'TIME TABLE'!$H$14)","v":""}]
[null,null,"Instructions"]
[null,null,1,"Check the exam time table carefully."]
[null,null,2,"Students must bring the 'Admit Card' and show it to the invigilator(s) on duty and should preserve it for future requirements."]
[null,null,3,"Mobile Phone, Calculator, Digital Watch or any Electronic Device is NOT ALLOWED."]
[null,null,4,"Arrive at the School at least 15 minutes before the start examination."]
[null,null,5,"Student is barred from entering the examination hall 15 minutes after the written examination starts."]
[null,null,6,"Ensure that you use the washroom before arriving for your exam as you will not be permitted to leave during the first hour."]
[null,null,7,"Normally, you are required to answer questionsusing blue or black in . Make sure you bring some spare pens with you."]
[null,null,8,"Keep your eyes on your own paper. Remember, copying is cheating!"]
[null,null,9,"You must remain silent until after you have exited the school building."]
[]
[{"$f":"A2109+1","v":64}]
[null,{"$f":"logo","v":{"$error":"#NAME?"}},null,{"$f":"MASTER!$E$11","v":"Govt. Sr. Secondary School Raimalwada"}]
[{"$nulls":3},{"$f":"MASTER!$E$14","v":"P.S.-Bapini (Phalodi)"}]
[null,{"$f":"CONCATENATE(C2147,'TIME TABLE'!$C$5,'ADMIT CARD'!$C2148,$F2148,'ADMIT CARD'!$G2148,'TIME TABLE'!$E$5)","v":"ADMIT CARD(Roll Number●→0)"},{"$f":"CONCATENATE('TIME TABLE'!$B$2,'TIME TABLE'!$F$2)","v":"TEST-I: (2025-26)"},{"$nulls":5},"Paste latest \nphoto of student"]
[null,null,"ADMIT CARD",{"$nulls":6}," "]
[null,null,"Roll Number",null,null,"●→",{"$f":"VLOOKUP(A2143,'STUDENT DETAIL'!$C$8:$I$107,3)","v":0}]
[null,null,"Student's Name",null,null,"●→",{"$f":"IF(OR(G2148=0,G2148=\"\"),\"\",VLOOKUP(A2143,'STUDENT DETAIL'!$C$8:$I$107,4))","v":""}]
[null,null,"Father's Name",null,null,"●→",{"$f":"IF(OR(G2148=0,G2148=\"\"),\"\",VLOOKUP(A2143,'STUDENT DETAIL'!$C$8:$I$107,5))","v":""},null,"Seal and Signature of Head of Institution"]
[null,null,"Mother's Name ",null,null,"●→",{"$f":"IF(OR(G2148=0,G2148=\"\"),\"\",VLOOKUP(A2143,'STUDENT DETAIL'!$C$8:$I$107,6))","v":""}]
[null,null,"Class & Section",null,null,"●→",{"$f":"IF(OR(G2148=0,G2148=\"\"),\"\",IF('STUDENT DETAIL'!$H$4=\"\",'STUDENT DETAIL'!$E$4,CONCATENATE('STUDENT DETAIL'!$E$4,\"   \",\"(\",'STUDENT DETAIL'!$H$4,\")\")))","v":""}]
[null,null,"Date Of Birth",null,null,"●→",{"$f":"IF(OR(G2148=0,G2148=\"\"),\"\",VLOOKUP(A2143,'STUDENT DETAIL'!$C$8:$I$107,7))","v":""}]
[null,null,"Time Table"]
[null,null,"Date (Day)",null,null,"Subject",null,"Time"]
[null,null,{"$f":"IF('TIME TABLE'!$B$5=\"\",\"\",'TIME TABLE'!$B$5)","v":"2022-03-31"},null,{"$f":"IF(C2156=\"\",\"\",IF(C2156>0,CONCATENATE('TIME TABLE'!$C$5,'TIME TABLE'!$D$5,'TIME TABLE'!$E$5)))","v":"(Thursday)"},{"$f":"IF(C2156=\"\",\"\",'TIME TABLE'!$F$5)","v":"Hindi"},null,{"$f":"IF(F2156=\"\",\"\",'TIME TABLE'!$H$5)","v":"09:00 AM to 11:45 AM"}]
[null,null,{"$f":"IF('TIME TABLE'!$B$6=\"\",\"\",'TIME TABLE'!$B$6)","v":"2022-04-01"},null,{"$f":"IF(C2157=\"\",\"\",IF(C2157>0,CONCATENATE('TIME TABLE'!$C$6,'TIME TABLE'!$D$6,'TIME TABLE'!$E$6)))","v":"(Friday)"},{"$f":"IF(C2157=\"\",\"\",'TIME TABLE'!$F$6)","v":"English"},null,{"$f":"IF(F2157=\"\",\"\",'TIME TABLE'!$H$6)","v":"09:00 AM to 11:45 AM"}]
[null,null,{"$f":"IF('TIME TABLE'!$B$7=\"\",\"\",'TIME TABLE'!$B$7)","v":"2022-04-02"},null,{"$f":"IF(C2158=\"\",\"\",IF(C2158>0,CONCATENATE('TIME TABLE'!$C$7,'TIME TABLE'!$D$7,'TIME TABLE'!$E$7)))","v":"(Saturday)"},{"$f":"IF(C2158=\"\",\"\",'TIME TABLE'!$F$7)","v":"Science"},null,{"$f":"IF(F2158=\"\",\"\",'TIME TABLE'!$H$7)","v":"09:00 AM to 11:45 AM"}]
[null,null,{"$f":"IF('TIME TABLE'!$B$8=\"\",\"\",'TIME TABLE'!$B$8)","v":"2022-04-03"},null,{"$f":"IF(C2159=\"\",\"\",IF(C2159>0,CONCATENATE('TIME TABLE'!$C$8,'TIME TABLE'!$D$8,'TIME TABLE'!$E$8)))","v":"(Sunday)"},{"$f":"IF(C2159=\"\",\"\",'TIME TABLE'!$F$8)","v":"Mathematics"},null,{"$f":"IF(F2159=\"\",\"\",'TIME TABLE'!$H$8)","v":"09:00 AM to 11:45 AM"}]
[null,null,{"$f":"IF('TIME TABLE'!$B$9=\"\",\"\",'TIME TABLE'!$B$9)","v":"2022-04-04"},null,{"$f":"IF(C2160=\"\",\"\",IF(C2160>0,CONCATENATE('TIME TABLE'!$C$9,'TIME TABLE'!$D$9,'TIME TABLE'!$E$9)))","v":"(Monday)"},{"$f":"IF(C2160=\"\",\"\",'TIME TABLE'!$F$9)","v":"Social Study"},null,{"$f":"IF(F2160=\"\",\"\",'TIME TABLE'!$H$9)","v":"09:00 AM to 11:45 AM"}]
[null,null,{"$f":"IF('TIME TABLE'!$B$10=\"\",\"\",'TIME TABLE'!$B$10)","v":"2022-04-05"},null,{"$f":"IF(C2161=\"\",\"\",IF(C2161>0,CONCATENATE('TIME TABLE'!$C$10,'TIME TABLE'!$D$10,'TIME TABLE'!$E$10)))","v":"(Tuesday)"},{"$f":"IF(C2161=\"\",\"\",'TIME TABLE'!$F$10)","v":"Sanskrit"},null,{"$f":"IF(F2161=\"\",\"\",'TIME TABLE'!$H$10)","v":"09:00 AM to 11:45 AM"}]
[null,null,{"$f":"IF('TIME TABLE'!$B$11=\"\",\"\",'TIME TABLE'!$B$11)","v":""},null,{"$f":"IF(C2162=\"\",\"\",IF(C2162>0,CONCATENATE('TIME TABLE'!$C$11,'TIME TABLE'!$D$11,'TIME TABLE'!$E$11)))","v":""},{"$f":"IF(C2162=\"\",\"\",'TIME TABLE'!$F$11)","v":""},null,{"$f":"IF(F2162=\"\",\"\",'TIME TABLE'!$H$11)","v":""}]
[null,null,{"$f":"IF('TIME TABLE'!$B$12=\"\",\"\",'TIME TABLE'!$B$12)","v":""},null,{"$f":"IF(C2163=\"\",\"\",IF(C2163>0,CONCATENATE('TIME TABLE'!$C$12,'TIME TABLE'!$D$12,'TIME TABLE'!$E$12)))","v":""},{"$f":"IF(C2163=\"\",\"\",'TIME TABLE'!$F$12)","v":""},null,{"$f":"IF(C2163=\"\",\"\",'TIME TABLE'!$H$12)","v":""}]
[null,null,{"$f":"IF('TIME TABLE'!$B$13=\"\",\"\",'TIME TABLE'!$B$13)","v":""},null,{"$f":"IF(C2164=\"\",\"\",IF(C2164>0,CONCATENATE('TIME TABLE'!$C$11,'TIME TABLE'!$D$11,'TIME TABLE'!$E$11)))","v":""},{"$f":"IF(C2164=\"\",\"\",'TIME TABLE'!$F$13)","v":""},null,{"$f":"IF(C2164=\"\",\"\",'TIME TABLE'!$H$13)","v":""}]
[null,null,{"$f":"IF('TIME TABLE'!$B$14=\"\",\"\",'TIME TABLE'!$B$14)","v":""},null,{"$f":"IF(C2165=\"\",\"\",IF(C2165>0,CONCATENATE('TIME TABLE'!$C$11,'TIME TABLE'!$D$11,'TIME TABLE'!$E$11)))","v":""},{"$f":"IF(C2165=\"\",\"\",'TIME TABLE'!$F$14)","v":""},null,{"$f":"IF(C2165=\"\",\"\",'TIME TABLE'!$H$14)","v":""}]
[null,null,"Instructions"]
[null,null,1,"Check the exam time table carefully."]
[null,null,2,"Students must bring the 'Admit Card' and show it to the invigilator(s) on duty and should preserve it for future requirements."]
[null,null,3,"Mobile Phone, Calculator, Digital Watch or any Electronic Device is NOT ALLOWED."]
[null,null,4,"Arrive at the School at least 15 minutes before the start examination."]
[null,null,5,"Student is barred from entering the examination hall 15 minutes after the written examination starts."]
[null,null,6,"Ensure that you use the washroom before arriving for your exam as you will not be permitted to leave during the first hour."]
[null,null,7,"Normally, you are required to answer questionsusing blue or black in . Make sure you bring some spare pens with you."]
[null,null,8,"Keep your eyes on your own paper. Remember, copying is cheating!"]
[null,null,9,"You must remain silent until after you have exited the school building."]
[]
[{"$f":"A2143+1","v":65}]
[null,{"$f":"logo","v":{"$error":"#NAME?"}},null,{"$f":"MASTER!$E$11","v":"Govt. Sr. Secondary School Raimalwada"}]
[{"$nulls":3},{"$f":"MASTER!$E$14","v":"P.S.-Bapini (Phalodi)"}]
[null,{"$f":"CONCATENATE(C2181,'TIME TABLE'!$C$5,'ADMIT CARD'!$C2182,$F2182,'ADMIT CARD'!$G2182,'TIME TABLE'!$E$5)","v":"ADMIT CARD(Roll Number●→0)"},{"$f":"CONCATENATE('TIME TABLE'!$B$2,'TIME TABLE'!$F$2)","v":"TEST-I: (2025-26)"},{"$nulls":5},"Paste latest \nphoto of student"]
[null,null,"ADMIT CARD",{"$nulls":6}," "]
[null,null,"Roll Number",null,null,"●→",{"$f":"VLOOKUP(A2177,'STUDENT DETAIL'!$C$8:$I$107,3)","v":0}]
[null,null,"Student's Name",null,null,"●→",{"$f":"IF(OR(G2182=0,G2182=\"\"),\"\",VLOOKUP(A2177,'STUDENT DETAIL'!$C$8:$I$107,4))","v":""}]
[null,null,"Father's Name",null,null,"●→",{"$f":"IF(OR(G2182=0,G2182=\"\"),\"\",VLOOKUP(A2177,'STUDENT DETAIL'!$C$8:$I$107,5))","v":""},null,"Seal and Signature of Head of Institution"]
[null,null,"Mother's Name ",null,null,"●→",{"$f":"IF(OR(G2182=0,G2182=\"\"),\"\",VLOOKUP(A2177,'STUDENT DETAIL'!$C$8:$I$107,6))","v":""}]
[null,null,"Class & Section",null,null,"●→",{"$f":"IF(OR(G2182=0,G2182=\"\"),\"\",IF('STUDENT DETAIL'!$H$4=\"\",'STUDENT DETAIL'!$E$4,CONCATENATE('STUDENT DETAIL'!$E$4,\"   \",\"(\",'STUDENT DETAIL'!$H$4,\")\")))","v":""}]
[null,null,"Date Of Birth",null,null,"●→",{"$f":"IF(OR(G2182=0,G2182=\"\"),\"\",VLOOKUP(A2177,'STUDENT DETAIL'!$C$8:$I$107,7))","v":""}]
[null,null,"Time Table"]
[null,null,"Date (Day)",null,null,"Subject",null,"Time"]
[null,null,{"$f":"IF('TIME TABLE'!$B$5=\"\",\"\",'TIME TABLE'!$B$5)","v":"2022-03-31"},null,{"$f":"IF(C2190=\"\",\"\",IF(C2190>0,CONCATENATE('TIME TABLE'!$C$5,'TIME TABLE'!$D$5,'TIME TABLE'!$E$5)))","v":"(Thursday)"},{"$f":"IF(C2190=\"\",\"\",'TIME TABLE'!$F$5)","v":"Hindi"},null,{"$f":"IF(F2190=\"\",\"\",'TIME TABLE'!$H$5)","v":"09:00 AM to 11:45 AM"}]
[null,null,{"$f":"IF('TIME TABLE'!$B$6=\"\",\"\",'TIME TABLE'!$B$6)","v":"2022-04-01"},null,{"$f":"IF(C2191=\"\",\"\",IF(C2191>0,CONCATENATE('TIME TABLE'!$C$6,'TIME TABLE'!$D$6,'TIME TABLE'!$E$6)))","v":"(Friday)"},{"$f":"IF(C2191=\"\",\"\",'TIME TABLE'!$F$6)","v":"English"},null,{"$f":"IF(F2191=\"\",\"\",'TIME TABLE'!$H$6)","v":"09:00 AM to 11:45 AM"}]
[null,null,{"$f":"IF('TIME TABLE'!$B$7=\"\",\"\",'TIME TABLE'!$B$7)","v":"2022-04-02"},null,{"$f":"IF(C2192=\"\",\"\",IF(C2192>0,CONCATENATE('TIME TABLE'!$C$7,'TIME TABLE'!$D$7,'TIME TABLE'!$E$7)))","v":"(Saturday)"},{"$f":"IF(C2192=\"\",\"\",'TIME TABLE'!$F$7)","v":"Science"},null,{"$f":"IF(F2192=\"\",\"\",'TIME TABLE'!$H$7)","v":"09:00 AM to 11:45 AM"}]
[null,null,{"$f":"IF('TIME TABLE'!$B$8=\"\",\"\",'TIME TABLE'!$B$8)","v":"2022-04-03"},null,{"$f":"IF(C2193=\"\",\"\",IF(C2193>0,CONCATENATE('TIME TABLE'!$C$8,'TIME TABLE'!$D$8,'TIME TABLE'!$E$8)))","v":"(Sunday)"},{"$f":"IF(C2193=\"\",\"\",'TIME TABLE'!$F$8)","v":"Mathematics"},null,{"$f":"IF(F2193=\"\",\"\",'TIME TABLE'!$H$8)","v":"09:00 AM to 11:45 AM"}]
[null,null,{"$f":"IF('TIME TABLE'!$B$9=\"\",\"\",'TIME TABLE'!$B$9)","v":"2022-04-04"},null,{"$f":"IF(C2194=\"\",\"\",IF(C2194>0,CONCATENATE('TIME TABLE'!$C$9,'TIME TABLE'!$D$9,'TIME TABLE'!$E$9)))","v":"(Monday)"},{"$f":"IF(C2194=\"\",\"\",'TIME TABLE'!$F$9)","v":"Social Study"},null,{"$f":"IF(F2194=\"\",\"\",'TIME TABLE'!$H$9)","v":"09:00 AM to 11:45 AM"}]
[null,null,{"$f":"IF('TIME TABLE'!$B$10=\"\",\"\",'TIME TABLE'!$B$10)","v":"2022-04-05"},null,{"$f":"IF(C2195=\"\",\"\",IF(C2195>0,CONCATENATE('TIME TABLE'!$C$10,'TIME TABLE'!$D$10,'TIME TABLE'!$E$10)))","v":"(Tuesday)"},{"$f":"IF(C2195=\"\",\"\",'TIME TABLE'!$F$10)","v":"Sanskrit"},null,{"$f":"IF(F2195=\"\",\"\",'TIME TABLE'!$H$10)","v":"09:00 AM to 11:45 AM"}]
[null,null,{"$f":"IF('TIME TABLE'!$B$11=\"\",\"\",'TIME TABLE'!$B$11)","v":""},null,{"$f":"IF(C2196=\"\",\"\",IF(C2196>0,CONCATENATE('TIME TABLE'!$C$11,'TIME TABLE'!$D$11,'TIME TABLE'!$E$11)))","v":""},{"$f":"IF(C2196=\"\",\"\",'TIME TABLE'!$F$11)","v":""},null,{"$f":"IF(F2196=\"\",\"\",'TIME TABLE'!$H$11)","v":""}]
[null,null,{"$f":"IF('TIME TABLE'!$B$12=\"\",\"\",'TIME TABLE'!$B$12)","v":""},null,{"$f":"IF(C2197=\"\",\"\",IF(C2197>0,CONCATENATE('TIME TABLE'!$C$12,'TIME TABLE'!$D$12,'TIME TABLE'!$E$12)))","v":""},{"$f":"IF(C2197=\"\",\"\",'TIME TABLE'!$F$12)","v":""},null,{"$f":"IF(C2197=\"\",\"\",'TIME TABLE'!$H$12)","v":""}]
[null,null,{"$f":"IF('TIME TABLE'!$B$13=\"\",\"\",'TIME TABLE'!$B$13)","v":""},null,{"$f":"IF(C2198=\"\",\"\",IF(C2198>0,CONCATENATE('TIME TABLE'!$C$11,'TIME TABLE'!$D$11,'TIME TABLE'!$E$11)))","v":""},{"$f":"IF(C2198=\"\",\"\",'TIME TABLE'!$F$13)","v":""},null,{"$f":"IF(C2198=\"\",\"\",'TIME TABLE'!$H$13)","v":""}]
[null,null,{"$f":"IF('TIME TABLE'!$B$14=\"\",\"\",'TIME TABLE'!$B$14)","v":""},null,{"$f":"IF(C2199=\"\",\"\",IF(C2199>0,CONCATENATE('TIME TABLE'!$C$11,'TIME TABLE'!$D$11,'TIME TABLE'!$E$11)))","v":""},{"$f":"IF(C2199=\"\",\"\",'TIME TABLE'!$F$14)","v":""},null,{"$f":"IF(C2199=\"\",\"\",'TIME TABLE'!$H$14)","v":""}]
[null,null,"Instructions"]
[null,null,1,"Check the exam time table carefully."]
[null,null,2,"Students must bring the 'Admit Card' and show it to the invigilator(s) on duty and should preserve it for future requirements."]
[null,null,3,"Mobile Phone, Calculator, Digital Watch or any Electronic Device is NOT ALLOWED."]
[null,null,4,"Arrive at the School at least 15 minutes before the start examination."]
[null,null,5,"Student is barred from entering the examination hall 15 minutes after the written examination starts."]
[null,null,6,"Ensure that you use the washroom before arriving for your exam as you will not be permitted to leave during the first hour."]
[null,null,7,"Normally, you are required to answer questionsusing blue or black in . Make sure you bring some spare pens with you."]
[null,null,8,"Keep your eyes on your own paper. Remember, copying is cheating!"]
[null,null,9,"You must remain silent until after you have exited the school building."]
[]
[{"$f":"A2177+1","v":66}]
[null,{"$f":"logo","v":{"$error":"#NAME?"}},null,{"$f":"MASTER!$E$11","v":"Govt. Sr. Secondary School Raimalwada"}]
[{"$nulls":3},{"$f":"MASTER!$E$14","v":"P.S.-Bapini (Phalodi)"}]
[null,{"$f":"CONCATENATE(C2215,'TIME TABLE'!$C$5,'ADMIT CARD'!$C2216,$F2216,'ADMIT CARD'!$G2216,'TIME TABLE'!$E$5)","v":"ADMIT CARD(Roll Number●→0)"},{"$f":"CONCATENATE('TIME TABLE'!$B$2,'TIME TABLE'!$F$2)","v":"TEST-I: (2025-26)"},{"$nulls":5},"Paste latest \nphoto of student"]
[null,null,"ADMIT CARD",{"$nulls":6}," "]
[null,null,"Roll Number",null,null,"●→",{"$f":"VLOOKUP(A2211,'STUDENT DETAIL'!$C$8:$I$107,3)","v":0}]
[null,null,"Student's Name",null,null,"●→",{"$f":"IF(OR(G2216=0,G2216=\"\"),\"\",VLOOKUP(A2211,'STUDENT DETAIL'!$C$8:$I$107,4))","v":""}]
[null,null,"Father's Name",null,null,"●→",{"$f":"IF(OR(G2216=0,G2216=\"\"),\"\",VLOOKUP(A2211,'STUDENT DETAIL'!$C$8:$I$107,5))","v":""},null,"Seal and Signature of Head of Institution"]
[null,null,"Mother's Name ",null,null,"●→",{"$f":"IF(OR(G2216=0,G2216=\"\"),\"\",VLOOKUP(A2211,'STUDENT DETAIL'!$C$8:$I$107,6))","v":""}]
[null,null,"Class & Section",null,null,"●→",{"$f":"IF(OR(G2216=0,G2216=\"\"),\"\",IF('STUDENT DETAIL'!$H$4=\"\",'STUDENT DETAIL'!$E$4,CONCATENATE('STUDENT DETAIL'!$E$4,\"   \",\"(\",'STUDENT DETAIL'!$H$4,\")\")))","v":""}]
[null,null,"Date Of Birth",null,null,"●→",{"$f":"IF(OR(G2216=0,G2216=\"\"),\"\",VLOOKUP(A2211,'STUDENT DETAIL'!$C$8:$I$107,7))","v":""}]
[null,null,"Time Table"]
[null,null,"Date (Day)",null,null,"Subject",null,"Time"]
[null,null,{"$f":"IF('TIME TABLE'!$B$5=\"\",\"\",'TIME TABLE'!$B$5)","v":"2022-03-31"},null,{"$f":"IF(C2224=\"\",\"\",IF(C2224>0,CONCATENATE('TIME TABLE'!$C$5,'TIME TABLE'!$D$5,'TIME TABLE'!$E$5)))","v":"(Thursday)"},{"$f":"IF(C2224=\"\",\"\",'TIME TABLE'!$F$5)","v":"Hindi"},null,{"$f":"IF(F2224=\"\",\"\",'TIME TABLE'!$H$5)","v":"09:00 AM to 11:45 AM"}]
[null,null,{"$f":"IF('TIME TABLE'!$B$6=\"\",\"\",'TIME TABLE'!$B$6)","v":"2022-04-01"},null,{"$f":"IF(C2225=\"\",\"\",IF(C2225>0,CONCATENATE('TIME TABLE'!$C$6,'TIME TABLE'!$D$6,'TIME TABLE'!$E$6)))","v":"(Friday)"},{"$f":"IF(C2225=\"\",\"\",'TIME TABLE'!$F$6)","v":"English"},null,{"$f":"IF(F2225=\"\",\"\",'TIME TABLE'!$H$6)","v":"09:00 AM to 11:45 AM"}]
[null,null,{"$f":"IF('TIME TABLE'!$B$7=\"\",\"\",'TIME TABLE'!$B$7)","v":"2022-04-02"},null,{"$f":"IF(C2226=\"\",\"\",IF(C2226>0,CONCATENATE('TIME TABLE'!$C$7,'TIME TABLE'!$D$7,'TIME TABLE'!$E$7)))","v":"(Saturday)"},{"$f":"IF(C2226=\"\",\"\",'TIME TABLE'!$F$7)","v":"Science"},null,{"$f":"IF(F2226=\"\",\"\",'TIME TABLE'!$H$7)","v":"09:00 AM to 11:45 AM"}]
[null,null,{"$f":"IF('TIME TABLE'!$B$8=\"\",\"\",'TIME TABLE'!$B$8)","v":"2022-04-03"},null,{"$f":"IF(C2227=\"\",\"\",IF(C2227>0,CONCATENATE('TIME TABLE'!$C$8,'TIME TABLE'!$D$8,'TIME TABLE'!$E$8)))","v":"(Sunday)"},{"$f":"IF(C2227=\"\",\"\",'TIME TABLE'!$F$8)","v":"Mathematics"},null,{"$f":"IF(F2227=\"\",\"\",'TIME TABLE'!$H$8)","v":"09:00 AM to 11:45 AM"}]
[null,null,{"$f":"IF('TIME TABLE'!$B$9=\"\",\"\",'TIME TABLE'!$B$9)","v":"2022-04-04"},null,{"$f":"IF(C2228=\"\",\"\",IF(C2228>0,CONCATENATE('TIME TABLE'!$C$9,'TIME TABLE'!$D$9,'TIME TABLE'!$E$9)))","v":"(Monday)"},{"$f":"IF(C2228=\"\",\"\",'TIME TABLE'!$F$9)","v":"Social Study"},null,{"$f":"IF(F2228=\"\",\"\",'TIME TABLE'!$H$9)","v":"09:00 AM to 11:45 AM"}]
[null,null,{"$f":"IF('TIME TABLE'!$B$10=\"\",\"\",'TIME TABLE'!$B$10)","v":"2022-04-05"},null,{"$f":"IF(C2229=\"\",\"\",IF(C2229>0,CONCATENATE('TIME TABLE'!$C$10,'TIME TABLE'!$D$10,'TIME TABLE'!$E$10)))","v":"(Tuesday)"},{"$f":"IF(C2229=\"\",\"\",'TIME TABLE'!$F$10)","v":"Sanskrit"},null,{"$f":"IF(F2229=\"\",\"\",'TIME TABLE'!$H$10)","v":"09:00 AM to 11:45 AM"}]
[null,null,{"$f":"IF('TIME TABLE'!$B$11=\"\",\"\",'TIME TABLE'!$B$11)","v":""},null,{"$f":"IF(C2230=\"\",\"\",IF(C2230>0,CONCATENATE('TIME TABLE'!$C$11,'TIME TABLE'!$D$11,'TIME TABLE'!$E$11)))","v":""},{"$f":"IF(C2230=\"\",\"\",'TIME TABLE'!$F$11)","v":""},null,{"$f":"IF(F2230=\"\",\"\",'TIME TABLE'!$H$11)","v":""}]
[null,null,{"$f":"IF('TIME TABLE'!$B$12=\"\",\"\",'TIME TABLE'!$B$12)","v":""},null,{"$f":"IF(C2231=\"\",\"\",IF(C2231>0,CONCATENATE('TIME TABLE'!$C$12,'TIME TABLE'!$D$12,'TIME TABLE'!$E$12)))","v":""},{"$f":"IF(C2231=\"\",\"\",'TIME TABLE'!$F$12)","v":""},null,{"$f":"IF(C2231=\"\",\"\",'TIME TABLE'!$H$12)","v":""}]
[null,null,{"$f":"IF('TIME TABLE'!$B$13=\"\",\"\",'TIME TABLE'!$B$13)","v":""},null,{"$f":"IF(C2232=\"\",\"\",IF(C2232>0,CONCATENATE('TIME TABLE'!$C$11,'TIME TABLE'!$D$11,'TIME TABLE'!$E$11)))","v":""},{"$f":"IF(C2232=\"\",\"\",'TIME TABLE'!$F$13)","v":""},null,{"$f":"IF(C2232=\"\",\"\",'TIME TABLE'!$H$13)","v":""}]
[null,null,{"$f":"IF('TIME TABLE'!$B$14=\"\",\"\",'TIME TABLE'!$B$14)","v":""},null,{"$f":"IF(C2233=\"\",\"\",IF(C2233>0,CONCATENATE('TIME TABLE'!$C$11,'TIME TABLE'!$D$11,'TIME TABLE'!$E$11)))","v":""},{"$f":"IF(C2233=\"\",\"\",'TIME TABLE'!$F$14)","v":""},null,{"$f":"IF(C2233=\"\",\"\",'TIME TABLE'!$H$14)","v":""}]
[null,null,"Instructions"]
[null,null,1,"Check the exam time table carefully."]
[null,null,2,"Students must bring the 'Admit Card' and show it to the invigilator(s) on duty and should preserve it for future requirements."]
[null,null,3,"Mobile Phone, Calculator, Digital Watch or any Electronic Device is NOT ALLOWED."]
[null,null,4,"Arrive at the School at least 15 minutes before the start examination."]
[null,null,5,"Student is barred from entering the examination hall 15 minutes after the written examination starts."]
[null,null,6,"Ensure that you use the washroom before arriving for your exam as you will not be permitted to leave during the first hour."]
[null,null,7,"Normally, you are required to answer questionsusing blue or black in . Make sure you bring some spare pens with you."]
[null,null,8,"Keep your eyes on your own paper. Remember, copying is cheating!"]
[null,null,9,"You must remain silent until after you have exited the school building."]
[]
[{"$f":"A2211+1","v":67}]
[null,{"$f":"logo","v":{"$error":"#NAME?"}},null,{"$f":"MASTER!$E$11","v":"Govt. Sr. Secondary School Raimalwada"}]
[{"$nulls":3},{"$f":"MASTER!$E$14","v":"P.S.-Bapini (Phalodi)"}]
[null,{"$f":"CONCATENATE(C2249,'TIME TABLE'!$C$5,'ADMIT CARD'!$C2250,$F2250,'ADMIT CARD'!$G2250,'TIME TABLE'!$E$5)","v":"ADMIT CARD(Roll Number●→0)"},{"$f":"CONCATENATE('TIME TABLE'!$B$2,'TIME TABLE'!$F$2)","v":"TEST-I: (2025-26)"},{"$nulls":5},"Paste latest \nphoto of student"]
[null,null,"ADMIT CARD",{"$nulls":6}," "]
[null,null,"Roll Number",null,null,"●→",{"$f":"VLOOKUP(A2245,'STUDENT DETAIL'!$C$8:$I$107,3)","v":0}]
[null,null,"Student's Name",null,null,"●→",{"$f":"IF(OR(G2250=0,G2250=\"\"),\"\",VLOOKUP(A2245,'STUDENT DETAIL'!$C$8:$I$107,4))","v":""}]
[null,null,"Father's Name",null,null,"●→",{"$f":"IF(OR(G2250=0,G2250=\"\"),\"\",VLOOKUP(A2245,'STUDENT DETAIL'!$C$8:$I$107,5))","v":""},null,"Seal and Signature of Head of Institution"]
[null,null,"Mother's Name ",null,null,"●→",{"$f":"IF(OR(G2250=0,G2250=\"\"),\"\",VLOOKUP(A2245,'STUDENT DETAIL'!$C$8:$I$107,6))","v":""}]
[null,null,"Class & Section",null,null,"●→",{"$f":"IF(OR(G2250=0,G2250=\"\"),\"\",IF('STUDENT DETAIL'!$H$4=\"\",'STUDENT DETAIL'!$E$4,CONCATENATE('STUDENT DETAIL'!$E$4,\"   \",\"(\",'STUDENT DETAIL'!$H$4,\")\")))","v":""}]
[null,null,"Date Of Birth",null,null,"●→",{"$f":"IF(OR(G2250=0,G2250=\"\"),\"\",VLOOKUP(A2245,'STUDENT DETAIL'!$C$8:$I$107,7))","v":""}]
[null,null,"Time Table"]
[null,null,"Date (Day)",null,null,"Subject",null,"Time"]
[null,null,{"$f":"IF('TIME TABLE'!$B$5=\"\",\"\",'TIME TABLE'!$B$5)","v":"2022-03-31"},null,{"$f":"IF(C2258=\"\",\"\",IF(C2258>0,CONCATENATE('TIME TABLE'!$C$5,'TIME TABLE'!$D$5,'TIME TABLE'!$E$5)))","v":"(Thursday)"},{"$f":"IF(C2258=\"\",\"\",'TIME TABLE'!$F$5)","v":"Hindi"},null,{"$f":"IF(F2258=\"\",\"\",'TIME TABLE'!$H$5)","v":"09:00 AM to 11:45 AM"}]
[null,null,{"$f":"IF('TIME TABLE'!$B$6=\"\",\"\",'TIME TABLE'!$B$6)","v":"2022-04-01"},null,{"$f":"IF(C2259=\"\",\"\",IF(C2259>0,CONCATENATE('TIME TABLE'!$C$6,'TIME TABLE'!$D$6,'TIME TABLE'!$E$6)))","v":"(Friday)"},{"$f":"IF(C2259=\"\",\"\",'TIME TABLE'!$F$6)","v":"English"},null,{"$f":"IF(F2259=\"\",\"\",'TIME TABLE'!$H$6)","v":"09:00 AM to 11:45 AM"}]
[null,null,{"$f":"IF('TIME TABLE'!$B$7=\"\",\"\",'TIME TABLE'!$B$7)","v":"2022-04-02"},null,{"$f":"IF(C2260=\"\",\"\",IF(C2260>0,CONCATENATE('TIME TABLE'!$C$7,'TIME TABLE'!$D$7,'TIME TABLE'!$E$7)))","v":"(Saturday)"},{"$f":"IF(C2260=\"\",\"\",'TIME TABLE'!$F$7)","v":"Science"},null,{"$f":"IF(F2260=\"\",\"\",'TIME TABLE'!$H$7)","v":"09:00 AM to 11:45 AM"}]
[null,null,{"$f":"IF('TIME TABLE'!$B$8=\"\",\"\",'TIME TABLE'!$B$8)","v":"2022-04-03"},null,{"$f":"IF(C2261=\"\",\"\",IF(C2261>0,CONCATENATE('TIME TABLE'!$C$8,'TIME TABLE'!$D$8,'TIME TABLE'!$E$8)))","v":"(Sunday)"},{"$f":"IF(C2261=\"\",\"\",'TIME TABLE'!$F$8)","v":"Mathematics"},null,{"$f":"IF(F2261=\"\",\"\",'TIME TABLE'!$H$8)","v":"09:00 AM to 11:45 AM"}]
[null,null,{"$f":"IF('TIME TABLE'!$B$9=\"\",\"\",'TIME TABLE'!$B$9)","v":"2022-04-04"},null,{"$f":"IF(C2262=\"\",\"\",IF(C2262>0,CONCATENATE('TIME TABLE'!$C$9,'TIME TABLE'!$D$9,'TIME TABLE'!$E$9)))","v":"(Monday)"},{"$f":"IF(C2262=\"\",\"\",'TIME TABLE'!$F$9)","v":"Social Study"},null,{"$f":"IF(F2262=\"\",\"\",'TIME TABLE'!$H$9)","v":"09:00 AM to 11:45 AM"}]
[null,null,{"$f":"IF('TIME TABLE'!$B$10=\"\",\"\",'TIME TABLE'!$B$10)","v":"2022-04-05"},null,{"$f":"IF(C2263=\"\",\"\",IF(C2263>0,CONCATENATE('TIME TABLE'!$C$10,'TIME TABLE'!$D$10,'TIME TABLE'!$E$10)))","v":"(Tuesday)"},{"$f":"IF(C2263=\"\",\"\",'TIME TABLE'!$F$10)","v":"Sanskrit"},null,{"$f":"IF(F2263=\"\",\"\",'TIME TABLE'!$H$10)","v":"09:00 AM to 11:45 AM"}]
[null,null,{"$f":"IF('TIME TABLE'!$B$11=\"\",\"\",'TIME TABLE'!$B$11)","v":""},null,{"$f":"IF(C2264=\"\",\"\",IF(C2264>0,CONCATENATE('TIME TABLE'!$C$11,'TIME TABLE'!$D$11,'TIME TABLE'!$E$11)))","v":""},{"$f":"IF(C2264=\"\",\"\",'TIME TABLE'!$F$11)","v":""},null,{"$f":"IF(F2264=\"\",\"\",'TIME TABLE'!$H$11)","v":""}]
[null,null,{"$f":"IF('TIME TABLE'!$B$12=\"\",\"\",'TIME TABLE'!$B$12)","v":""},null,{"$f":"IF(C2265=\"\",\"\",IF(C2265>0,CONCATENATE('TIME TABLE'!$C$12,'TIME TABLE'!$D$12,'TIME TABLE'!$E$12)))","v":""},{"$f":"IF(C2265=\"\",\"\",'TIME TABLE'!$F$12)","v":""},null,{"$f":"IF(C2265=\"\",\"\",'TIME TABLE'!$H$12)","v":""}]
[null,null,{"$f":"IF('TIME TABLE'!$B$13=\"\",\"\",'TIME TABLE'!$B$13)","v":""},null,{"$f":"IF(C2266=\"\",\"\",IF(C2266>0,CONCATENATE('TIME TABLE'!$C$11,'TIME TABLE'!$D$11,'TIME TABLE'!$E$11)))","v":""},{"$f":"IF(C2266=\"\",\"\",'TIME TABLE'!$F$13)","v":""},null,{"$f":"IF(C2266=\"\",\"\",'TIME TABLE'!$H$13)","v":""}]
[null,null,{"$f":"IF('TIME TABLE'!$B$14=\"\",\"\",'TIME TABLE'!$B$14)","v":""},null,{"$f":"IF(C2267=\"\",\"\",IF(C2267>0,CONCATENATE('TIME TABLE'!$C$11,'TIME TABLE'!$D$11,'TIME TABLE'!$E$11)))","v":""},{"$f":"IF(C2267=\"\",\"\",'TIME TABLE'!$F$14)","v":""},null,{"$f":"IF(C2267=\"\",\"\",'TIME TABLE'!$H$14)","v":""}]
[null,null,"Instructions"]
[null,null,1,"Check the exam time table carefully."]
[null,null,2,"Students must bring the 'Admit Card' and show it to the invigilator(s) on duty and should preserve it for future requirements."]
[null,null,3,"Mobile Phone, Calculator, Digital Watch or any Electronic Device is NOT ALLOWED."]
[null,null,4,"Arrive at the School at least 15 minutes before the start examination."]
[null,null,5,"Student is barred from entering the examination hall 15 minutes after the written examination starts."]
[null,null,6,"Ensure that you use the washroom before arriving for your exam as you will not be permitted to leave during the first hour."]
[null,null,7,"Normally, you are required to answer questionsusing blue or black in . Make sure you bring some spare pens with you."]
[null,null,8,"Keep your eyes on your own paper. Remember, copying is cheating!"]
[null,null,9,"You must remain silent until after you have exited the school building."]
[]
[{"$f":"A2245+1","v":68}]
[null,{"$f":"logo","v":{"$error":"#NAME?"}},null,{"$f":"MASTER!$E$11","v":"Govt. Sr. Secondary School Raimalwada"}]
[{"$nulls":3},{"$f":"MASTER!$E$14","v":"P.S.-Bapini (Phalodi)"}]
[null,{"$f":"CONCATENATE(C2283,'TIME TABLE'!$C$5,'ADMIT CARD'!$C2284,$F2284,'ADMIT CARD'!$G2284,'TIME TABLE'!$E$5)","v":"ADMIT CARD(Roll Number●→0)"},{"$f":"CONCATENATE('TIME TABLE'!$B$2,'TIME TABLE'!$F$2)","v":"TEST-I: (2025-26)"},{"$nulls":5},"Paste latest \nphoto of student"]
[null,null,"ADMIT CARD",{"$nulls":6}," "]
[null,null,"Roll Number",null,null,"●→",{"$f":"VLOOKUP(A2279,'STUDENT DETAIL'!$C$8:$I$107,3)","v":0}]
[null,null,"Student's Name",null,null,"●→",{"$f":"IF(OR(G2284=0,G2284=\"\"),\"\",VLOOKUP(A2279,'STUDENT DETAIL'!$C$8:$I$107,4))","v":""}]
[null,null,"Father's Name",null,null,"●→",{"$f":"IF(OR(G2284=0,G2284=\"\"),\"\",VLOOKUP(A2279,'STUDENT DETAIL'!$C$8:$I$107,5))","v":""},null,"Seal and Signature of Head of Institution"]
[null,null,"Mother's Name ",null,null,"●→",{"$f":"IF(OR(G2284=0,G2284=\"\"),\"\",VLOOKUP(A2279,'STUDENT DETAIL'!$C$8:$I$107,6))","v":""}]
[null,null,"Class & Section",null,null,"●→",{"$f":"IF(OR(G2284=0,G2284=\"\"),\"\",IF('STUDENT DETAIL'!$H$4=\"\",'STUDENT DETAIL'!$E$4,CONCATENATE('STUDENT DETAIL'!$E$4,\"   \",\"(\",'STUDENT DETAIL'!$H$4,\")\")))","v":""}]
[null,null,"Date Of Birth",null,null,"●→",{"$f":"IF(OR(G2284=0,G2284=\"\"),\"\",VLOOKUP(A2279,'STUDENT DETAIL'!$C$8:$I$107,7))","v":""}]
[null,null,"Time Table"]
[null,null,"Date (Day)",null,null,"Subject",null,"Time"]
[null,null,{"$f":"IF('TIME TABLE'!$B$5=\"\",\"\",'TIME TABLE'!$B$5)","v":"2022-03-31"},null,{"$f":"IF(C2292=\"\",\"\",IF(C2292>0,CONCATENATE('TIME TABLE'!$C$5,'TIME TABLE'!$D$5,'TIME TABLE'!$E$5)))","v":"(Thursday)"},{"$f":"IF(C2292=\"\",\"\",'TIME TABLE'!$F$5)","v":"Hindi"},null,{"$f":"IF(F2292=\"\",\"\",'TIME TABLE'!$H$5)","v":"09:00 AM to 11:45 AM"}]
[null,null,{"$f":"IF('TIME TABLE'!$B$6=\"\",\"\",'TIME TABLE'!$B$6)","v":"2022-04-01"},null,{"$f":"IF(C2293=\"\",\"\",IF(C2293>0,CONCATENATE('TIME TABLE'!$C$6,'TIME TABLE'!$D$6,'TIME TABLE'!$E$6)))","v":"(Friday)"},{"$f":"IF(C2293=\"\",\"\",'TIME TABLE'!$F$6)","v":"English"},null,{"$f":"IF(F2293=\"\",\"\",'TIME TABLE'!$H$6)","v":"09:00 AM to 11:45 AM"}]
[null,null,{"$f":"IF('TIME TABLE'!$B$7=\"\",\"\",'TIME TABLE'!$B$7)","v":"2022-04-02"},null,{"$f":"IF(C2294=\"\",\"\",IF(C2294>0,CONCATENATE('TIME TABLE'!$C$7,'TIME TABLE'!$D$7,'TIME TABLE'!$E$7)))","v":"(Saturday)"},{"$f":"IF(C2294=\"\",\"\",'TIME TABLE'!$F$7)","v":"Science"},null,{"$f":"IF(F2294=\"\",\"\",'TIME TABLE'!$H$7)","v":"09:00 AM to 11:45 AM"}]
[null,null,{"$f":"IF('TIME TABLE'!$B$8=\"\",\"\",'TIME TABLE'!$B$8)","v":"2022-04-03"},null,{"$f":"IF(C2295=\"\",\"\",IF(C2295>0,CONCATENATE('TIME TABLE'!$C$8,'TIME TABLE'!$D$8,'TIME TABLE'!$E$8)))","v":"(Sunday)"},{"$f":"IF(C2295=\"\",\"\",'TIME TABLE'!$F$8)","v":"Mathematics"},null,{"$f":"IF(F2295=\"\",\"\",'TIME TABLE'!$H$8)","v":"09:00 AM to 11:45 AM"}]
[null,null,{"$f":"IF('TIME TABLE'!$B$9=\"\",\"\",'TIME TABLE'!$B$9)","v":"2022-04-04"},null,{"$f":"IF(C2296=\"\",\"\",IF(C2296>0,CONCATENATE('TIME TABLE'!$C$9,'TIME TABLE'!$D$9,'TIME TABLE'!$E$9)))","v":"(Monday)"},{"$f":"IF(C2296=\"\",\"\",'TIME TABLE'!$F$9)","v":"Social Study"},null,{"$f":"IF(F2296=\"\",\"\",'TIME TABLE'!$H$9)","v":"09:00 AM to 11:45 AM"}]
[null,null,{"$f":"IF('TIME TABLE'!$B$10=\"\",\"\",'TIME TABLE'!$B$10)","v":"2022-04-05"},null,{"$f":"IF(C2297=\"\",\"\",IF(C2297>0,CONCATENATE('TIME TABLE'!$C$10,'TIME TABLE'!$D$10,'TIME TABLE'!$E$10)))","v":"(Tuesday)"},{"$f":"IF(C2297=\"\",\"\",'TIME TABLE'!$F$10)","v":"Sanskrit"},null,{"$f":"IF(F2297=\"\",\"\",'TIME TABLE'!$H$10)","v":"09:00 AM to 11:45 AM"}]
[null,null,{"$f":"IF('TIME TABLE'!$B$11=\"\",\"\",'TIME TABLE'!$B$11)","v":""},null,{"$f":"IF(C2298=\"\",\"\",IF(C2298>0,CONCATENATE('TIME TABLE'!$C$11,'TIME TABLE'!$D$11,'TIME TABLE'!$E$11)))","v":""},{"$f":"IF(C2298=\"\",\"\",'TIME TABLE'!$F$11)","v":""},null,{"$f":"IF(F2298=\"\",\"\",'TIME TABLE'!$H$11)","v":""}]
[null,null,{"$f":"IF('TIME TABLE'!$B$12=\"\",\"\",'TIME TABLE'!$B$12)","v":""},null,{"$f":"IF(C2299=\"\",\"\",IF(C2299>0,CONCATENATE('TIME TABLE'!$C$12,'TIME TABLE'!$D$12,'TIME TABLE'!$E$12)))","v":""},{"$f":"IF(C2299=\"\",\"\",'TIME TABLE'!$F$12)","v":""},null,{"$f":"IF(C2299=\"\",\"\",'TIME TABLE'!$H$12)","v":""}]
[null,null,{"$f":"IF('TIME TABLE'!$B$13=\"\",\"\",'TIME TABLE'!$B$13)","v":""},null,{"$f":"IF(C2300=\"\",\"\",IF(C2300>0,CONCATENATE('TIME TABLE'!$C$11,'TIME TABLE'!$D$11,'TIME TABLE'!$E$11)))","v":""},{"$f":"IF(C2300=\"\",\"\",'TIME TABLE'!$F$13)","v":""},null,{"$f":"IF(C2300=\"\",\"\",'TIME TABLE'!$H$13)","v":""}]
[null,null,{"$f":"IF('TIME TABLE'!$B$14=\"\",\"\",'TIME TABLE'!$B$14)","v":""},null,{"$f":"IF(C2301=\"\",\"\",IF(C2301>0,CONCATENATE('TIME TABLE'!$C$11,'TIME TABLE'!$D$11,'TIME TABLE'!$E$11)))","v":""},{"$f":"IF(C2301=\"\",\"\",'TIME TABLE'!$F$14)","v":""},null,{"$f":"IF(C2301=\"\",\"\",'TIME TABLE'!$H$14)","v":""}]
[null,null,"Instructions"]
[null,null,1,"Check the exam time table carefully."]
[null,null,2,"Students must bring the 'Admit Card' and show it to the invigilator(s) on duty and should preserve it for future requirements."]
[null,null,3,"Mobile Phone, Calculator, Digital Watch or any Electronic Device is NOT ALLOWED."]
[null,null,4,"Arrive at the School at least 15 minutes before the start examination."]
[null,null,5,"Student is barred from entering the examination hall 15 minutes after the written examination starts."]
[null,null,6,"Ensure that you use the washroom before arriving for your exam as you will not be permitted to leave during the first hour."]
[null,null,7,"Normally, you are required to answer questionsusing blue or black in . Make sure you bring some spare pens with you."]
[null,null,8,"Keep your eyes on your own paper. Remember, copying is cheating!"]
[null,null,9,"You must remain silent until after you have exited the school building."]
[]
[{"$f":"A2279+1","v":69}]
[null,{"$f":"logo","v":{"$error":"#NAME?"}},null,{"$f":"MASTER!$E$11","v":"Govt. Sr. Secondary School Raimalwada"}]
[{"$nulls":3},{"$f":"MASTER!$E$14","v":"P.S.-Bapini (Phalodi)"}]
[null,{"$f":"CONCATENATE(C2317,'TIME TABLE'!$C$5,'ADMIT CARD'!$C2318,$F2318,'ADMIT CARD'!$G2318,'TIME TABLE'!$E$5)","v":"ADMIT CARD(Roll Number●→0)"},{"$f":"CONCATENATE('TIME TABLE'!$B$2,'TIME TABLE'!$F$2)","v":"TEST-I: (2025-26)"},{"$nulls":5},"Paste latest \nphoto of student"]
[null,null,"ADMIT CARD",{"$nulls":6}," "]
[null,null,"Roll Number",null,null,"●→",{"$f":"VLOOKUP(A2313,'STUDENT DETAIL'!$C$8:$I$107,3)","v":0}]
[null,null,"Student's Name",null,null,"●→",{"$f":"IF(OR(G2318=0,G2318=\"\"),\"\",VLOOKUP(A2313,'STUDENT DETAIL'!$C$8:$I$107,4))","v":""}]
[null,null,"Father's Name",null,null,"●→",{"$f":"IF(OR(G2318=0,G2318=\"\"),\"\",VLOOKUP(A2313,'STUDENT DETAIL'!$C$8:$I$107,5))","v":""},null,"Seal and Signature of Head of Institution"]
[null,null,"Mother's Name ",null,null,"●→",{"$f":"IF(OR(G2318=0,G2318=\"\"),\"\",VLOOKUP(A2313,'STUDENT DETAIL'!$C$8:$I$107,6))","v":""}]
[null,null,"Class & Section",null,null,"●→",{"$f":"IF(OR(G2318=0,G2318=\"\"),\"\",IF('STUDENT DETAIL'!$H$4=\"\",'STUDENT DETAIL'!$E$4,CONCATENATE('STUDENT DETAIL'!$E$4,\"   \",\"(\",'STUDENT DETAIL'!$H$4,\")\")))","v":""}]
[null,null,"Date Of Birth",null,null,"●→",{"$f":"IF(OR(G2318=0,G2318=\"\"),\"\",VLOOKUP(A2313,'STUDENT DETAIL'!$C$8:$I$107,7))","v":""}]
[null,null,"Time Table"]
[null,null,"Date (Day)",null,null,"Subject",null,"Time"]
[null,null,{"$f":"IF('TIME TABLE'!$B$5=\"\",\"\",'TIME TABLE'!$B$5)","v":"2022-03-31"},null,{"$f":"IF(C2326=\"\",\"\",IF(C2326>0,CONCATENATE('TIME TABLE'!$C$5,'TIME TABLE'!$D$5,'TIME TABLE'!$E$5)))","v":"(Thursday)"},{"$f":"IF(C2326=\"\",\"\",'TIME TABLE'!$F$5)","v":"Hindi"},null,{"$f":"IF(F2326=\"\",\"\",'TIME TABLE'!$H$5)","v":"09:00 AM to 11:45 AM"}]
[null,null,{"$f":"IF('TIME TABLE'!$B$6=\"\",\"\",'TIME TABLE'!$B$6)","v":"2022-04-01"},null,{"$f":"IF(C2327=\"\",\"\",IF(C2327>0,CONCATENATE('TIME TABLE'!$C$6,'TIME TABLE'!$D$6,'TIME TABLE'!$E$6)))","v":"(Friday)"},{"$f":"IF(C2327=\"\",\"\",'TIME TABLE'!$F$6)","v":"English"},null,{"$f":"IF(F2327=\"\",\"\",'TIME TABLE'!$H$6)","v":"09:00 AM to 11:45 AM"}]
[null,null,{"$f":"IF('TIME TABLE'!$B$7=\"\",\"\",'TIME TABLE'!$B$7)","v":"2022-04-02"},null,{"$f":"IF(C2328=\"\",\"\",IF(C2328>0,CONCATENATE('TIME TABLE'!$C$7,'TIME TABLE'!$D$7,'TIME TABLE'!$E$7)))","v":"(Saturday)"},{"$f":"IF(C2328=\"\",\"\",'TIME TABLE'!$F$7)","v":"Science"},null,{"$f":"IF(F2328=\"\",\"\",'TIME TABLE'!$H$7)","v":"09:00 AM to 11:45 AM"}]
[null,null,{"$f":"IF('TIME TABLE'!$B$8=\"\",\"\",'TIME TABLE'!$B$8)","v":"2022-04-03"},null,{"$f":"IF(C2329=\"\",\"\",IF(C2329>0,CONCATENATE('TIME TABLE'!$C$8,'TIME TABLE'!$D$8,'TIME TABLE'!$E$8)))","v":"(Sunday)"},{"$f":"IF(C2329=\"\",\"\",'TIME TABLE'!$F$8)","v":"Mathematics"},null,{"$f":"IF(F2329=\"\",\"\",'TIME TABLE'!$H$8)","v":"09:00 AM to 11:45 AM"}]
[null,null,{"$f":"IF('TIME TABLE'!$B$9=\"\",\"\",'TIME TABLE'!$B$9)","v":"2022-04-04"},null,{"$f":"IF(C2330=\"\",\"\",IF(C2330>0,CONCATENATE('TIME TABLE'!$C$9,'TIME TABLE'!$D$9,'TIME TABLE'!$E$9)))","v":"(Monday)"},{"$f":"IF(C2330=\"\",\"\",'TIME TABLE'!$F$9)","v":"Social Study"},null,{"$f":"IF(F2330=\"\",\"\",'TIME TABLE'!$H$9)","v":"09:00 AM to 11:45 AM"}]
[null,null,{"$f":"IF('TIME TABLE'!$B$10=\"\",\"\",'TIME TABLE'!$B$10)","v":"2022-04-05"},null,{"$f":"IF(C2331=\"\",\"\",IF(C2331>0,CONCATENATE('TIME TABLE'!$C$10,'TIME TABLE'!$D$10,'TIME TABLE'!$E$10)))","v":"(Tuesday)"},{"$f":"IF(C2331=\"\",\"\",'TIME TABLE'!$F$10)","v":"Sanskrit"},null,{"$f":"IF(F2331=\"\",\"\",'TIME TABLE'!$H$10)","v":"09:00 AM to 11:45 AM"}]
[null,null,{"$f":"IF('TIME TABLE'!$B$11=\"\",\"\",'TIME TABLE'!$B$11)","v":""},null,{"$f":"IF(C2332=\"\",\"\",IF(C2332>0,CONCATENATE('TIME TABLE'!$C$11,'TIME TABLE'!$D$11,'TIME TABLE'!$E$11)))","v":""},{"$f":"IF(C2332=\"\",\"\",'TIME TABLE'!$F$11)","v":""},null,{"$f":"IF(F2332=\"\",\"\",'TIME TABLE'!$H$11)","v":""}]
[null,null,{"$f":"IF('TIME TABLE'!$B$12=\"\",\"\",'TIME TABLE'!$B$12)","v":""},null,{"$f":"IF(C2333=\"\",\"\",IF(C2333>0,CONCATENATE('TIME TABLE'!$C$12,'TIME TABLE'!$D$12,'TIME TABLE'!$E$12)))","v":""},{"$f":"IF(C2333=\"\",\"\",'TIME TABLE'!$F$12)","v":""},null,{"$f":"IF(C2333=\"\",\"\",'TIME TABLE'!$H$12)","v":""}]
[null,null,{"$f":"IF('TIME TABLE'!$B$13=\"\",\"\",'TIME TABLE'!$B$13)","v":""},null,{"$f":"IF(C2334=\"\",\"\",IF(C2334>0,CONCATENATE('TIME TABLE'!$C$11,'TIME TABLE'!$D$11,'TIME TABLE'!$E$11)))","v":""},{"$f":"IF(C2334=\"\",\"\",'TIME TABLE'!$F$13)","v":""},null,{"$f":"IF(C2334=\"\",\"\",'TIME TABLE'!$H$13)","v":""}]
[null,null,{"$f":"IF('TIME TABLE'!$B$14=\"\",\"\",'TIME TABLE'!$B$14)","v":""},null,{"$f":"IF(C2335=\"\",\"\",IF(C2335>0,CONCATENATE('TIME TABLE'!$C$11,'TIME TABLE'!$D$11,'TIME TABLE'!$E$11)))","v":""},{"$f":"IF(C2335=\"\",\"\",'TIME TABLE'!$F$14)","v":""},null,{"$f":"IF(C2335=\"\",\"\",'TIME TABLE'!$H$14)","v":""}]
[null,null,"Instructions"]
[null,null,1,"Check the exam time table carefully."]
[null,null,2,"Students must bring the 'Admit Card' and show it to the invigilator(s) on duty and should preserve it for future requirements."]
[null,null,3,"Mobile Phone, Calculator, Digital Watch or any Electronic Device is NOT ALLOWED."]
[null,null,4,"Arrive at the School at least 15 minutes before the start examination."]
[null,null,5,"Student is barred from entering the examination hall 15 minutes after the written examination starts."]
[null,null,6,"Ensure that you use the washroom before arriving for your exam as you will not be permitted to leave during the first hour."]
[null,null,7,"Normally, you are required to answer questionsusing blue or black in . Make sure you bring some spare pens with you."]
[null,null,8,"Keep your eyes on your own paper. Remember, copying is cheating!"]
[null,null,9,"You must remain silent until after you have exited the school building."]
[]
[{"$f":"A2313+1","v":70}]
[null,{"$f":"logo","v":{"$error":"#NAME?"}},null,{"$f":"MASTER!$E$11","v":"Govt. Sr. Secondary School Raimalwada"}]
[{"$nulls":3},{"$f":"MASTER!$E$14","v":"P.S.-Bapini (Phalodi)"}]
[null,{"$f":"CONCATENATE(C2351,'TIME TABLE'!$C$5,'ADMIT CARD'!$C2352,$F2352,'ADMIT CARD'!$G2352,'TIME TABLE'!$E$5)","v":"ADMIT CARD(Roll Number●→0)"},{"$f":"CONCATENATE('TIME TABLE'!$B$2,'TIME TABLE'!$F$2)","v":"TEST-I: (2025-26)"},{"$nulls":5},"Paste latest \nphoto of student"]
[null,null,"ADMIT CARD",{"$nulls":6}," "]
[null,null,"Roll Number",null,null,"●→",{"$f":"VLOOKUP(A2347,'STUDENT DETAIL'!$C$8:$I$107,3)","v":0}]
[null,null,"Student's Name",null,null,"●→",{"$f":"IF(OR(G2352=0,G2352=\"\"),\"\",VLOOKUP(A2347,'STUDENT DETAIL'!$C$8:$I$107,4))","v":""}]
[null,null,"Father's Name",null,null,"●→",{"$f":"IF(OR(G2352=0,G2352=\"\"),\"\",VLOOKUP(A2347,'STUDENT DETAIL'!$C$8:$I$107,5))","v":""},null,"Seal and Signature of Head of Institution"]
[null,null,"Mother's Name ",null,null,"●→",{"$f":"IF(OR(G2352=0,G2352=\"\"),\"\",VLOOKUP(A2347,'STUDENT DETAIL'!$C$8:$I$107,6))","v":""}]
[null,null,"Class & Section",null,null,"●→",{"$f":"IF(OR(G2352=0,G2352=\"\"),\"\",IF('STUDENT DETAIL'!$H$4=\"\",'STUDENT DETAIL'!$E$4,CONCATENATE('STUDENT DETAIL'!$E$4,\"   \",\"(\",'STUDENT DETAIL'!$H$4,\")\")))","v":""}]
[null,null,"Date Of Birth",null,null,"●→",{"$f":"IF(OR(G2352=0,G2352=\"\"),\"\",VLOOKUP(A2347,'STUDENT DETAIL'!$C$8:$I$107,7))","v":""}]
[null,null,"Time Table"]
[null,null,"Date (Day)",null,null,"Subject",null,"Time"]
[null,null,{"$f":"IF('TIME TABLE'!$B$5=\"\",\"\",'TIME TABLE'!$B$5)","v":"2022-03-31"},null,{"$f":"IF(C2360=\"\",\"\",IF(C2360>0,CONCATENATE('TIME TABLE'!$C$5,'TIME TABLE'!$D$5,'TIME TABLE'!$E$5)))","v":"(Thursday)"},{"$f":"IF(C2360=\"\",\"\",'TIME TABLE'!$F$5)","v":"Hindi"},null,{"$f":"IF(F2360=\"\",\"\",'TIME TABLE'!$H$5)","v":"09:00 AM to 11:45 AM"}]
[null,null,{"$f":"IF('TIME TABLE'!$B$6=\"\",\"\",'TIME TABLE'!$B$6)","v":"2022-04-01"},null,{"$f":"IF(C2361=\"\",\"\",IF(C2361>0,CONCATENATE('TIME TABLE'!$C$6,'TIME TABLE'!$D$6,'TIME TABLE'!$E$6)))","v":"(Friday)"},{"$f":"IF(C2361=\"\",\"\",'TIME TABLE'!$F$6)","v":"English"},null,{"$f":"IF(F2361=\"\",\"\",'TIME TABLE'!$H$6)","v":"09:00 AM to 11:45 AM"}]
[null,null,{"$f":"IF('TIME TABLE'!$B$7=\"\",\"\",'TIME TABLE'!$B$7)","v":"2022-04-02"},null,{"$f":"IF(C2362=\"\",\"\",IF(C2362>0,CONCATENATE('TIME TABLE'!$C$7,'TIME TABLE'!$D$7,'TIME TABLE'!$E$7)))","v":"(Saturday)"},{"$f":"IF(C2362=\"\",\"\",'TIME TABLE'!$F$7)","v":"Science"},null,{"$f":"IF(F2362=\"\",\"\",'TIME TABLE'!$H$7)","v":"09:00 AM to 11:45 AM"}]
[null,null,{"$f":"IF('TIME TABLE'!$B$8=\"\",\"\",'TIME TABLE'!$B$8)","v":"2022-04-03"},null,{"$f":"IF(C2363=\"\",\"\",IF(C2363>0,CONCATENATE('TIME TABLE'!$C$8,'TIME TABLE'!$D$8,'TIME TABLE'!$E$8)))","v":"(Sunday)"},{"$f":"IF(C2363=\"\",\"\",'TIME TABLE'!$F$8)","v":"Mathematics"},null,{"$f":"IF(F2363=\"\",\"\",'TIME TABLE'!$H$8)","v":"09:00 AM to 11:45 AM"}]
[null,null,{"$f":"IF('TIME TABLE'!$B$9=\"\",\"\",'TIME TABLE'!$B$9)","v":"2022-04-04"},null,{"$f":"IF(C2364=\"\",\"\",IF(C2364>0,CONCATENATE('TIME TABLE'!$C$9,'TIME TABLE'!$D$9,'TIME TABLE'!$E$9)))","v":"(Monday)"},{"$f":"IF(C2364=\"\",\"\",'TIME TABLE'!$F$9)","v":"Social Study"},null,{"$f":"IF(F2364=\"\",\"\",'TIME TABLE'!$H$9)","v":"09:00 AM to 11:45 AM"}]
[null,null,{"$f":"IF('TIME TABLE'!$B$10=\"\",\"\",'TIME TABLE'!$B$10)","v":"2022-04-05"},null,{"$f":"IF(C2365=\"\",\"\",IF(C2365>0,CONCATENATE('TIME TABLE'!$C$10,'TIME TABLE'!$D$10,'TIME TABLE'!$E$10)))","v":"(Tuesday)"},{"$f":"IF(C2365=\"\",\"\",'TIME TABLE'!$F$10)","v":"Sanskrit"},null,{"$f":"IF(F2365=\"\",\"\",'TIME TABLE'!$H$10)","v":"09:00 AM to 11:45 AM"}]
[null,null,{"$f":"IF('TIME TABLE'!$B$11=\"\",\"\",'TIME TABLE'!$B$11)","v":""},null,{"$f":"IF(C2366=\"\",\"\",IF(C2366>0,CONCATENATE('TIME TABLE'!$C$11,'TIME TABLE'!$D$11,'TIME TABLE'!$E$11)))","v":""},{"$f":"IF(C2366=\"\",\"\",'TIME TABLE'!$F$11)","v":""},null,{"$f":"IF(F2366=\"\",\"\",'TIME TABLE'!$H$11)","v":""}]
[null,null,{"$f":"IF('TIME TABLE'!$B$12=\"\",\"\",'TIME TABLE'!$B$12)","v":""},null,{"$f":"IF(C2367=\"\",\"\",IF(C2367>0,CONCATENATE('TIME TABLE'!$C$12,'TIME TABLE'!$D$12,'TIME TABLE'!$E$12)))","v":""},{"$f":"IF(C2367=\"\",\"\",'TIME TABLE'!$F$12)","v":""},null,{"$f":"IF(C2367=\"\",\"\",'TIME TABLE'!$H$12)","v":""}]
[null,null,{"$f":"IF('TIME TABLE'!$B$13=\"\",\"\",'TIME TABLE'!$B$13)","v":""},null,{"$f":"IF(C2368=\"\",\"\",IF(C2368>0,CONCATENATE('TIME TABLE'!$C$11,'TIME TABLE'!$D$11,'TIME TABLE'!$E$11)))","v":""},{"$f":"IF(C2368=\"\",\"\",'TIME TABLE'!$F$13)","v":""},null,{"$f":"IF(C2368=\"\",\"\",'TIME TABLE'!$H$13)","v":""}]
[null,null,{"$f":"IF('TIME TABLE'!$B$14=\"\",\"\",'TIME TABLE'!$B$14)","v":""},null,{"$f":"IF(C2369=\"\",\"\",IF(C2369>0,CONCATENATE('TIME TABLE'!$C$11,'TIME TABLE'!$D$11,'TIME TABLE'!$E$11)))","v":""},{"$f":"IF(C2369=\"\",\"\",'TIME TABLE'!$F$14)","v":""},null,{"$f":"IF(C2369=\"\",\"\",'TIME TABLE'!$H$14)","v":""}]
[null,null,"Instructions"]
[null,null,1,"Check the exam time table carefully."]
[null,null,2,"Students must bring the 'Admit Card' and show it to the invigilator(s) on duty and should preserve it for future requirements."]
[null,null,3,"Mobile Phone, Calculator, Digital Watch or any Electronic Device is NOT ALLOWED."]
[null,null,4,"Arrive at the School at least 15 minutes before the start examination."]
[null,null,5,"Student is barred from entering the examination hall 15 minutes after the written examination starts."]
[null,null,6,"Ensure that you use the washroom before arriving for your exam as you will not be permitted to leave during the first hour."]
[null,null,7,"Normally, you are required to answer questionsusing blue or black in . Make sure you bring some spare pens with you."]
[null,null,8,"Keep your eyes on your own paper. Remember, copying is cheating!"]
[null,null,9,"You must remain silent until after you have exited the school building."]
[]
[{"$f":"A2347+1","v":71}]
[null,{"$f":"logo","v":{"$error":"#NAME?"}},null,{"$f":"MASTER!$E$11","v":"Govt. Sr. Secondary School Raimalwada"}]
[{"$nulls":3},{"$f":"MASTER!$E$14","v":"P.S.-Bapini (Phalodi)"}]
[null,{"$f":"CONCATENATE(C2385,'TIME TABLE'!$C$5,'ADMIT CARD'!$C2386,$F2386,'ADMIT CARD'!$G2386,'TIME TABLE'!$E$5)","v":"ADMIT CARD(Roll Number●→0)"},{"$f":"CONCATENATE('TIME TABLE'!$B$2,'TIME TABLE'!$F$2)","v":"TEST-I: (2025-26)"},{"$nulls":5},"Paste latest \nphoto of student"]
[null,null,"ADMIT CARD",{"$nulls":6}," "]
[null,null,"Roll Number",null,null,"●→",{"$f":"VLOOKUP(A2381,'STUDENT DETAIL'!$C$8:$I$107,3)","v":0}]
[null,null,"Student's Name",null,null,"●→",{"$f":"IF(OR(G2386=0,G2386=\"\"),\"\",VLOOKUP(A2381,'STUDENT DETAIL'!$C$8:$I$107,4))","v":""}]
[null,null,"Father's Name",null,null,"●→",{"$f":"IF(OR(G2386=0,G2386=\"\"),\"\",VLOOKUP(A2381,'STUDENT DETAIL'!$C$8:$I$107,5))","v":""},null,"Seal and Signature of Head of Institution"]
[null,null,"Mother's Name ",null,null,"●→",{"$f":"IF(OR(G2386=0,G2386=\"\"),\"\",VLOOKUP(A2381,'STUDENT DETAIL'!$C$8:$I$107,6))","v":""}]
[null,null,"Class & Section",null,null,"●→",{"$f":"IF(OR(G2386=0,G2386=\"\"),\"\",IF('STUDENT DETAIL'!$H$4=\"\",'STUDENT DETAIL'!$E$4,CONCATENATE('STUDENT DETAIL'!$E$4,\"   \",\"(\",'STUDENT DETAIL'!$H$4,\")\")))","v":""}]
[null,null,"Date Of Birth",null,null,"●→",{"$f":"IF(OR(G2386=0,G2386=\"\"),\"\",VLOOKUP(A2381,'STUDENT DETAIL'!$C$8:$I$107,7))","v":""}]
[null,null,"Time Table"]
[null,null,"Date (Day)",null,null,"Subject",null,"Time"]
[null,null,{"$f":"IF('TIME TABLE'!$B$5=\"\",\"\",'TIME TABLE'!$B$5)","v":"2022-03-31"},null,{"$f":"IF(C2394=\"\",\"\",IF(C2394>0,CONCATENATE('TIME TABLE'!$C$5,'TIME TABLE'!$D$5,'TIME TABLE'!$E$5)))","v":"(Thursday)"},{"$f":"IF(C2394=\"\",\"\",'TIME TABLE'!$F$5)","v":"Hindi"},null,{"$f":"IF(F2394=\"\",\"\",'TIME TABLE'!$H$5)","v":"09:00 AM to 11:45 AM"}]
[null,null,{"$f":"IF('TIME TABLE'!$B$6=\"\",\"\",'TIME TABLE'!$B$6)","v":"2022-04-01"},null,{"$f":"IF(C2395=\"\",\"\",IF(C2395>0,CONCATENATE('TIME TABLE'!$C$6,'TIME TABLE'!$D$6,'TIME TABLE'!$E$6)))","v":"(Friday)"},{"$f":"IF(C2395=\"\",\"\",'TIME TABLE'!$F$6)","v":"English"},null,{"$f":"IF(F2395=\"\",\"\",'TIME TABLE'!$H$6)","v":"09:00 AM to 11:45 AM"}]
[null,null,{"$f":"IF('TIME TABLE'!$B$7=\"\",\"\",'TIME TABLE'!$B$7)","v":"2022-04-02"},null,{"$f":"IF(C2396=\"\",\"\",IF(C2396>0,CONCATENATE('TIME TABLE'!$C$7,'TIME TABLE'!$D$7,'TIME TABLE'!$E$7)))","v":"(Saturday)"},{"$f":"IF(C2396=\"\",\"\",'TIME TABLE'!$F$7)","v":"Science"},null,{"$f":"IF(F2396=\"\",\"\",'TIME TABLE'!$H$7)","v":"09:00 AM to 11:45 AM"}]
[null,null,{"$f":"IF('TIME TABLE'!$B$8=\"\",\"\",'TIME TABLE'!$B$8)","v":"2022-04-03"},null,{"$f":"IF(C2397=\"\",\"\",IF(C2397>0,CONCATENATE('TIME TABLE'!$C$8,'TIME TABLE'!$D$8,'TIME TABLE'!$E$8)))","v":"(Sunday)"},{"$f":"IF(C2397=\"\",\"\",'TIME TABLE'!$F$8)","v":"Mathematics"},null,{"$f":"IF(F2397=\"\",\"\",'TIME TABLE'!$H$8)","v":"09:00 AM to 11:45 AM"}]
[null,null,{"$f":"IF('TIME TABLE'!$B$9=\"\",\"\",'TIME TABLE'!$B$9)","v":"2022-04-04"},null,{"$f":"IF(C2398=\"\",\"\",IF(C2398>0,CONCATENATE('TIME TABLE'!$C$9,'TIME TABLE'!$D$9,'TIME TABLE'!$E$9)))","v":"(Monday)"},{"$f":"IF(C2398=\"\",\"\",'TIME TABLE'!$F$9)","v":"Social Study"},null,{"$f":"IF(F2398=\"\",\"\",'TIME TABLE'!$H$9)","v":"09:00 AM to 11:45 AM"}]
[null,null,{"$f":"IF('TIME TABLE'!$B$10=\"\",\"\",'TIME TABLE'!$B$10)","v":"2022-04-05"},null,{"$f":"IF(C2399=\"\",\"\",IF(C2399>0,CONCATENATE('TIME TABLE'!$C$10,'TIME TABLE'!$D$10,'TIME TABLE'!$E$10)))","v":"(Tuesday)"},{"$f":"IF(C2399=\"\",\"\",'TIME TABLE'!$F$10)","v":"Sanskrit"},null,{"$f":"IF(F2399=\"\",\"\",'TIME TABLE'!$H$10)","v":"09:00 AM to 11:45 AM"}]
[null,null,{"$f":"IF('TIME TABLE'!$B$11=\"\",\"\",'TIME TABLE'!$B$11)","v":""},null,{"$f":"IF(C2400=\"\",\"\",IF(C2400>0,CONCATENATE('TIME TABLE'!$C$11,'TIME TABLE'!$D$11,'TIME TABLE'!$E$11)))","v":""},{"$f":"IF(C2400=\"\",\"\",'TIME TABLE'!$F$11)","v":""},null,{"$f":"IF(F2400=\"\",\"\",'TIME TABLE'!$H$11)","v":""}]
[null,null,{"$f":"IF('TIME TABLE'!$B$12=\"\",\"\",'TIME TABLE'!$B$12)","v":""},null,{"$f":"IF(C2401=\"\",\"\",IF(C2401>0,CONCATENATE('TIME TABLE'!$C$12,'TIME TABLE'!$D$12,'TIME TABLE'!$E$12)))","v":""},{"$f":"IF(C2401=\"\",\"\",'TIME TABLE'!$F$12)","v":""},null,{"$f":"IF(C2401=\"\",\"\",'TIME TABLE'!$H$12)","v":""}]
[null,null,{"$f":"IF('TIME TABLE'!$B$13=\"\",\"\",'TIME TABLE'!$B$13)","v":""},null,{"$f":"IF(C2402=\"\",\"\",IF(C2402>0,CONCATENATE('TIME TABLE'!$C$11,'TIME TABLE'!$D$11,'TIME TABLE'!$E$11)))","v":""},{"$f":"IF(C2402=\"\",\"\",'TIME TABLE'!$F$13)","v":""},null,{"$f":"IF(C2402=\"\",\"\",'TIME TABLE'!$H$13)","v":""}]
[null,null,{"$f":"IF('TIME TABLE'!$B$14=\"\",\"\",'TIME TABLE'!$B$14)","v":""},null,{"$f":"IF(C2403=\"\",\"\",IF(C2403>0,CONCATENATE('TIME TABLE'!$C$11,'TIME TABLE'!$D$11,'TIME TABLE'!$E$11)))","v":""},{"$f":"IF(C2403=\"\",\"\",'TIME TABLE'!$F$14)","v":""},null,{"$f":"IF(C2403=\"\",\"\",'TIME TABLE'!$H$14)","v":""}]
[null,null,"Instructions"]
[null,null,1,"Check the exam time table carefully."]
[null,null,2,"Students must bring the 'Admit Card' and show it to the invigilator(s) on duty and should preserve it for future requirements."]
[null,null,3,"Mobile Phone, Calculator, Digital Watch or any Electronic Device is NOT ALLOWED."]
[null,null,4,"Arrive at the School at least 15 minutes before the start examination."]
[null,null,5,"Student is barred from entering the examination hall 15 minutes after the written examination starts."]
[null,null,6,"Ensure that you use the washroom before arriving for your exam as you will not be permitted to leave during the first hour."]
[null,null,7,"Normally, you are required to answer questionsusing blue or black in . Make sure you bring some spare pens with you."]
[null,null,8,"Keep your eyes on your own paper. Remember, copying is cheating!"]
[null,null,9,"You must remain silent until after you have exited the school building."]
[]
[{"$f":"A2381+1","v":72}]
[null,{"$f":"logo","v":{"$error":"#NAME?"}},null,{"$f":"MASTER!$E$11","v":"Govt. Sr. Secondary School Raimalwada"}]
[{"$nulls":3},{"$f":"MASTER!$E$14","v":"P.S.-Bapini (Phalodi)"}]
[null,{"$f":"CONCATENATE(C2419,'TIME TABLE'!$C$5,'ADMIT CARD'!$C2420,$F2420,'ADMIT CARD'!$G2420,'TIME TABLE'!$E$5)","v":"ADMIT CARD(Roll Number●→0)"},{"$f":"CONCATENATE('TIME TABLE'!$B$2,'TIME TABLE'!$F$2)","v":"TEST-I: (2025-26)"},{"$nulls":5},"Paste latest \nphoto of student"]
[null,null,"ADMIT CARD",{"$nulls":6}," "]
[null,null,"Roll Number",null,null,"●→",{"$f":"VLOOKUP(A2415,'STUDENT DETAIL'!$C$8:$I$107,3)","v":0}]
[null,null,"Student's Name",null,null,"●→",{"$f":"IF(OR(G2420=0,G2420=\"\"),\"\",VLOOKUP(A2415,'STUDENT DETAIL'!$C$8:$I$107,4))","v":""}]
[null,null,"Father's Name",null,null,"●→",{"$f":"IF(OR(G2420=0,G2420=\"\"),\"\",VLOOKUP(A2415,'STUDENT DETAIL'!$C$8:$I$107,5))","v":""},null,"Seal and Signature of Head of Institution"]
[null,null,"Mother's Name ",null,null,"●→",{"$f":"IF(OR(G2420=0,G2420=\"\"),\"\",VLOOKUP(A2415,'STUDENT DETAIL'!$C$8:$I$107,6))","v":""}]
[null,null,"Class & Section",null,null,"●→",{"$f":"IF(OR(G2420=0,G2420=\"\"),\"\",IF('STUDENT DETAIL'!$H$4=\"\",'STUDENT DETAIL'!$E$4,CONCATENATE('STUDENT DETAIL'!$E$4,\"   \",\"(\",'STUDENT DETAIL'!$H$4,\")\")))","v":""}]
[null,null,"Date Of Birth",null,null,"●→",{"$f":"IF(OR(G2420=0,G2420=\"\"),\"\",VLOOKUP(A2415,'STUDENT DETAIL'!$C$8:$I$107,7))","v":""}]
[null,null,"Time Table"]
[null,null,"Date (Day)",null,null,"Subject",null,"Time"]
[null,null,{"$f":"IF('TIME TABLE'!$B$5=\"\",\"\",'TIME TABLE'!$B$5)","v":"2022-03-31"},null,{"$f":"IF(C2428=\"\",\"\",IF(C2428>0,CONCATENATE('TIME TABLE'!$C$5,'TIME TABLE'!$D$5,'TIME TABLE'!$E$5)))","v":"(Thursday)"},{"$f":"IF(C2428=\"\",\"\",'TIME TABLE'!$F$5)","v":"Hindi"},null,{"$f":"IF(F2428=\"\",\"\",'TIME TABLE'!$H$5)","v":"09:00 AM to 11:45 AM"}]
[null,null,{"$f":"IF('TIME TABLE'!$B$6=\"\",\"\",'TIME TABLE'!$B$6)","v":"2022-04-01"},null,{"$f":"IF(C2429=\"\",\"\",IF(C2429>0,CONCATENATE('TIME TABLE'!$C$6,'TIME TABLE'!$D$6,'TIME TABLE'!$E$6)))","v":"(Friday)"},{"$f":"IF(C2429=\"\",\"\",'TIME TABLE'!$F$6)","v":"English"},null,{"$f":"IF(F2429=\"\",\"\",'TIME TABLE'!$H$6)","v":"09:00 AM to 11:45 AM"}]
[null,null,{"$f":"IF('TIME TABLE'!$B$7=\"\",\"\",'TIME TABLE'!$B$7)","v":"2022-04-02"},null,{"$f":"IF(C2430=\"\",\"\",IF(C2430>0,CONCATENATE('TIME TABLE'!$C$7,'TIME TABLE'!$D$7,'TIME TABLE'!$E$7)))","v":"(Saturday)"},{"$f":"IF(C2430=\"\",\"\",'TIME TABLE'!$F$7)","v":"Science"},null,{"$f":"IF(F2430=\"\",\"\",'TIME TABLE'!$H$7)","v":"09:00 AM to 11:45 AM"}]
[null,null,{"$f":"IF('TIME TABLE'!$B$8=\"\",\"\",'TIME TABLE'!$B$8)","v":"2022-04-03"},null,{"$f":"IF(C2431=\"\",\"\",IF(C2431>0,CONCATENATE('TIME TABLE'!$C$8,'TIME TABLE'!$D$8,'TIME TABLE'!$E$8)))","v":"(Sunday)"},{"$f":"IF(C2431=\"\",\"\",'TIME TABLE'!$F$8)","v":"Mathematics"},null,{"$f":"IF(F2431=\"\",\"\",'TIME TABLE'!$H$8)","v":"09:00 AM to 11:45 AM"}]
[null,null,{"$f":"IF('TIME TABLE'!$B$9=\"\",\"\",'TIME TABLE'!$B$9)","v":"2022-04-04"},null,{"$f":"IF(C2432=\"\",\"\",IF(C2432>0,CONCATENATE('TIME TABLE'!$C$9,'TIME TABLE'!$D$9,'TIME TABLE'!$E$9)))","v":"(Monday)"},{"$f":"IF(C2432=\"\",\"\",'TIME TABLE'!$F$9)","v":"Social Study"},null,{"$f":"IF(F2432=\"\",\"\",'TIME TABLE'!$H$9)","v":"09:00 AM to 11:45 AM"}]
[null,null,{"$f":"IF('TIME TABLE'!$B$10=\"\",\"\",'TIME TABLE'!$B$10)","v":"2022-04-05"},null,{"$f":"IF(C2433=\"\",\"\",IF(C2433>0,CONCATENATE('TIME TABLE'!$C$10,'TIME TABLE'!$D$10,'TIME TABLE'!$E$10)))","v":"(Tuesday)"},{"$f":"IF(C2433=\"\",\"\",'TIME TABLE'!$F$10)","v":"Sanskrit"},null,{"$f":"IF(F2433=\"\",\"\",'TIME TABLE'!$H$10)","v":"09:00 AM to 11:45 AM"}]
[null,null,{"$f":"IF('TIME TABLE'!$B$11=\"\",\"\",'TIME TABLE'!$B$11)","v":""},null,{"$f":"IF(C2434=\"\",\"\",IF(C2434>0,CONCATENATE('TIME TABLE'!$C$11,'TIME TABLE'!$D$11,'TIME TABLE'!$E$11)))","v":""},{"$f":"IF(C2434=\"\",\"\",'TIME TABLE'!$F$11)","v":""},null,{"$f":"IF(F2434=\"\",\"\",'TIME TABLE'!$H$11)","v":""}]
[null,null,{"$f":"IF('TIME TABLE'!$B$12=\"\",\"\",'TIME TABLE'!$B$12)","v":""},null,{"$f":"IF(C2435=\"\",\"\",IF(C2435>0,CONCATENATE('TIME TABLE'!$C$12,'TIME TABLE'!$D$12,'TIME TABLE'!$E$12)))","v":""},{"$f":"IF(C2435=\"\",\"\",'TIME TABLE'!$F$12)","v":""},null,{"$f":"IF(C2435=\"\",\"\",'TIME TABLE'!$H$12)","v":""}]
[null,null,{"$f":"IF('TIME TABLE'!$B$13=\"\",\"\",'TIME TABLE'!$B$13)","v":""},null,{"$f":"IF(C2436=\"\",\"\",IF(C2436>0,CONCATENATE('TIME TABLE'!$C$11,'TIME TABLE'!$D$11,'TIME TABLE'!$E$11)))","v":""},{"$f":"IF(C2436=\"\",\"\",'TIME TABLE'!$F$13)","v":""},null,{"$f":"IF(C2436=\"\",\"\",'TIME TABLE'!$H$13)","v":""}]
[null,null,{"$f":"IF('TIME TABLE'!$B$14=\"\",\"\",'TIME TABLE'!$B$14)","v":""},null,{"$f":"IF(C2437=\"\",\"\",IF(C2437>0,CONCATENATE('TIME TABLE'!$C$11,'TIME TABLE'!$D$11,'TIME TABLE'!$E$11)))","v":""},{"$f":"IF(C2437=\"\",\"\",'TIME TABLE'!$F$14)","v":""},null,{"$f":"IF(C2437=\"\",\"\",'TIME TABLE'!$H$14)","v":""}]
[null,null,"Instructions"]
[null,null,1,"Check the exam time table carefully."]
[null,null,2,"Students must bring the 'Admit Card' and show it to the invigilator(s) on duty and should preserve it for future requirements."]
[null,null,3,"Mobile Phone, Calculator, Digital Watch or any Electronic Device is NOT ALLOWED."]
[null,null,4,"Arrive at the School at least 15 minutes before the start examination."]
[null,null,5,"Student is barred from entering the examination hall 15 minutes after the written examination starts."]
[null,null,6,"Ensure that you use the washroom before arriving for your exam as you will not be permitted to leave during the first hour."]
[null,null,7,"Normally, you are required to answer questionsusing blue or black in . Make sure you bring some spare pens with you."]
[null,null,8,"Keep your eyes on your own paper. Remember, copying is cheating!"]
[null,null,9,"You must remain silent until after you have exited the school building."]
[]
[{"$f":"A2415+1","v":73}]
[null,{"$f":"logo","v":{"$error":"#NAME?"}},null,{"$f":"MASTER!$E$11","v":"Govt. Sr. Secondary School Raimalwada"}]
[{"$nulls":3},{"$f":"MASTER!$E$14","v":"P.S.-Bapini (Phalodi)"}]
[null,{"$f":"CONCATENATE(C2453,'TIME TABLE'!$C$5,'ADMIT CARD'!$C2454,$F2454,'ADMIT CARD'!$G2454,'TIME TABLE'!$E$5)","v":"ADMIT CARD(Roll Number●→0)"},{"$f":"CONCATENATE('TIME TABLE'!$B$2,'TIME TABLE'!$F$2)","v":"TEST-I: (2025-26)"},{"$nulls":5},"Paste latest \nphoto of student"]
[null,null,"ADMIT CARD",{"$nulls":6}," "]
[null,null,"Roll Number",null,null,"●→",{"$f":"VLOOKUP(A2449,'STUDENT DETAIL'!$C$8:$I$107,3)","v":0}]
[null,null,"Student's Name",null,null,"●→",{"$f":"IF(OR(G2454=0,G2454=\"\"),\"\",VLOOKUP(A2449,'STUDENT DETAIL'!$C$8:$I$107,4))","v":""}]
[null,null,"Father's Name",null,null,"●→",{"$f":"IF(OR(G2454=0,G2454=\"\"),\"\",VLOOKUP(A2449,'STUDENT DETAIL'!$C$8:$I$107,5))","v":""},null,"Seal and Signature of Head of Institution"]
[null,null,"Mother's Name ",null,null,"●→",{"$f":"IF(OR(G2454=0,G2454=\"\"),\"\",VLOOKUP(A2449,'STUDENT DETAIL'!$C$8:$I$107,6))","v":""}]
[null,null,"Class & Section",null,null,"●→",{"$f":"IF(OR(G2454=0,G2454=\"\"),\"\",IF('STUDENT DETAIL'!$H$4=\"\",'STUDENT DETAIL'!$E$4,CONCATENATE('STUDENT DETAIL'!$E$4,\"   \",\"(\",'STUDENT DETAIL'!$H$4,\")\")))","v":""}]
[null,null,"Date Of Birth",null,null,"●→",{"$f":"IF(OR(G2454=0,G2454=\"\"),\"\",VLOOKUP(A2449,'STUDENT DETAIL'!$C$8:$I$107,7))","v":""}]
[null,null,"Time Table"]
[null,null,"Date (Day)",null,null,"Subject",null,"Time"]
[null,null,{"$f":"IF('TIME TABLE'!$B$5=\"\",\"\",'TIME TABLE'!$B$5)","v":"2022-03-31"},null,{"$f":"IF(C2462=\"\",\"\",IF(C2462>0,CONCATENATE('TIME TABLE'!$C$5,'TIME TABLE'!$D$5,'TIME TABLE'!$E$5)))","v":"(Thursday)"},{"$f":"IF(C2462=\"\",\"\",'TIME TABLE'!$F$5)","v":"Hindi"},null,{"$f":"IF(F2462=\"\",\"\",'TIME TABLE'!$H$5)","v":"09:00 AM to 11:45 AM"}]
[null,null,{"$f":"IF('TIME TABLE'!$B$6=\"\",\"\",'TIME TABLE'!$B$6)","v":"2022-04-01"},null,{"$f":"IF(C2463=\"\",\"\",IF(C2463>0,CONCATENATE('TIME TABLE'!$C$6,'TIME TABLE'!$D$6,'TIME TABLE'!$E$6)))","v":"(Friday)"},{"$f":"IF(C2463=\"\",\"\",'TIME TABLE'!$F$6)","v":"English"},null,{"$f":"IF(F2463=\"\",\"\",'TIME TABLE'!$H$6)","v":"09:00 AM to 11:45 AM"}]
[null,null,{"$f":"IF('TIME TABLE'!$B$7=\"\",\"\",'TIME TABLE'!$B$7)","v":"2022-04-02"},null,{"$f":"IF(C2464=\"\",\"\",IF(C2464>0,CONCATENATE('TIME TABLE'!$C$7,'TIME TABLE'!$D$7,'TIME TABLE'!$E$7)))","v":"(Saturday)"},{"$f":"IF(C2464=\"\",\"\",'TIME TABLE'!$F$7)","v":"Science"},null,{"$f":"IF(F2464=\"\",\"\",'TIME TABLE'!$H$7)","v":"09:00 AM to 11:45 AM"}]
[null,null,{"$f":"IF('TIME TABLE'!$B$8=\"\",\"\",'TIME TABLE'!$B$8)","v":"2022-04-03"},null,{"$f":"IF(C2465=\"\",\"\",IF(C2465>0,CONCATENATE('TIME TABLE'!$C$8,'TIME TABLE'!$D$8,'TIME TABLE'!$E$8)))","v":"(Sunday)"},{"$f":"IF(C2465=\"\",\"\",'TIME TABLE'!$F$8)","v":"Mathematics"},null,{"$f":"IF(F2465=\"\",\"\",'TIME TABLE'!$H$8)","v":"09:00 AM to 11:45 AM"}]
[null,null,{"$f":"IF('TIME TABLE'!$B$9=\"\",\"\",'TIME TABLE'!$B$9)","v":"2022-04-04"},null,{"$f":"IF(C2466=\"\",\"\",IF(C2466>0,CONCATENATE('TIME TABLE'!$C$9,'TIME TABLE'!$D$9,'TIME TABLE'!$E$9)))","v":"(Monday)"},{"$f":"IF(C2466=\"\",\"\",'TIME TABLE'!$F$9)","v":"Social Study"},null,{"$f":"IF(F2466=\"\",\"\",'TIME TABLE'!$H$9)","v":"09:00 AM to 11:45 AM"}]
[null,null,{"$f":"IF('TIME TABLE'!$B$10=\"\",\"\",'TIME TABLE'!$B$10)","v":"2022-04-05"},null,{"$f":"IF(C2467=\"\",\"\",IF(C2467>0,CONCATENATE('TIME TABLE'!$C$10,'TIME TABLE'!$D$10,'TIME TABLE'!$E$10)))","v":"(Tuesday)"},{"$f":"IF(C2467=\"\",\"\",'TIME TABLE'!$F$10)","v":"Sanskrit"},null,{"$f":"IF(F2467=\"\",\"\",'TIME TABLE'!$H$10)","v":"09:00 AM to 11:45 AM"}]
[null,null,{"$f":"IF('TIME TABLE'!$B$11=\"\",\"\",'TIME TABLE'!$B$11)","v":""},null,{"$f":"IF(C2468=\"\",\"\",IF(C2468>0,CONCATENATE('TIME TABLE'!$C$11,'TIME TABLE'!$D$11,'TIME TABLE'!$E$11)))","v":""},{"$f":"IF(C2468=\"\",\"\",'TIME TABLE'!$F$11)","v":""},null,{"$f":"IF(F2468=\"\",\"\",'TIME TABLE'!$H$11)","v":""}]
[null,null,{"$f":"IF('TIME TABLE'!$B$12=\"\",\"\",'TIME TABLE'!$B$12)","v":""},null,{"$f":"IF(C2469=\"\",\"\",IF(C2469>0,CONCATENATE('TIME TABLE'!$C$12,'TIME TABLE'!$D$12,'TIME TABLE'!$E$12)))","v":""},{"$f":"IF(C2469=\"\",\"\",'TIME TABLE'!$F$12)","v":""},null,{"$f":"IF(C2469=\"\",\"\",'TIME TABLE'!$H$12)","v":""}]
[null,null,{"$f":"IF('TIME TABLE'!$B$13=\"\",\"\",'TIME TABLE'!$B$13)","v":""},null,{"$f":"IF(C2470=\"\",\"\",IF(C2470>0,CONCATENATE('TIME TABLE'!$C$11,'TIME TABLE'!$D$11,'TIME TABLE'!$E$11)))","v":""},{"$f":"IF(C2470=\"\",\"\",'TIME TABLE'!$F$13)","v":""},null,{"$f":"IF(C2470=\"\",\"\",'TIME TABLE'!$H$13)","v":""}]
[null,null,{"$f":"IF('TIME TABLE'!$B$14=\"\",\"\",'TIME TABLE'!$B$14)","v":""},null,{"$f":"IF(C2471=\"\",\"\",IF(C2471>0,CONCATENATE('TIME TABLE'!$C$11,'TIME TABLE'!$D$11,'TIME TABLE'!$E$11)))","v":""},{"$f":"IF(C2471=\"\",\"\",'TIME TABLE'!$F$14)","v":""},null,{"$f":"IF(C2471=\"\",\"\",'TIME TABLE'!$H$14)","v":""}]
[null,null,"Instructions"]
[null,null,1,"Check the exam time table carefully."]
[null,null,2,"Students must bring the 'Admit Card' and show it to the invigilator(s) on duty and should preserve it for future requirements."]
[null,null,3,"Mobile Phone, Calculator, Digital Watch or any Electronic Device is NOT ALLOWED."]
[null,null,4,"Arrive at the School at least 15 minutes before the start examination."]
[null,null,5,"Student is barred from entering the examination hall 15 minutes after the written examination starts."]
[null,null,6,"Ensure that you use the washroom before arriving for your exam as you will not be permitted to leave during the first hour."]
[null,null,7,"Normally, you are required to answer questionsusing blue or black in . Make sure you bring some spare pens with you."]
[null,null,8,"Keep your eyes on your own paper. Remember, copying is cheating!"]
[null,null,9,"You must remain silent until after you have exited the school building."]
[]
[{"$f":"A2449+1","v":74}]
[null,{"$f":"logo","v":{"$error":"#NAME?"}},null,{"$f":"MASTER!$E$11","v":"Govt. Sr. Secondary School Raimalwada"}]
[{"$nulls":3},{"$f":"MASTER!$E$14","v":"P.S.-Bapini (Phalodi)"}]
[null,{"$f":"CONCATENATE(C2487,'TIME TABLE'!$C$5,'ADMIT CARD'!$C2488,$F2488,'ADMIT CARD'!$G2488,'TIME TABLE'!$E$5)","v":"ADMIT CARD(Roll Number●→0)"},{"$f":"CONCATENATE('TIME TABLE'!$B$2,'TIME TABLE'!$F$2)","v":"TEST-I: (2025-26)"},{"$nulls":5},"Paste latest \nphoto of student"]
[null,null,"ADMIT CARD",{"$nulls":6}," "]
[null,null,"Roll Number",null,null,"●→",{"$f":"VLOOKUP(A2483,'STUDENT DETAIL'!$C$8:$I$107,3)","v":0}]
[null,null,"Student's Name",null,null,"●→",{"$f":"IF(OR(G2488=0,G2488=\"\"),\"\",VLOOKUP(A2483,'STUDENT DETAIL'!$C$8:$I$107,4))","v":""}]
[null,null,"Father's Name",null,null,"●→",{"$f":"IF(OR(G2488=0,G2488=\"\"),\"\",VLOOKUP(A2483,'STUDENT DETAIL'!$C$8:$I$107,5))","v":""},null,"Seal and Signature of Head of Institution"]
[null,null,"Mother's Name ",null,null,"●→",{"$f":"IF(OR(G2488=0,G2488=\"\"),\"\",VLOOKUP(A2483,'STUDENT DETAIL'!$C$8:$I$107,6))","v":""}]
[null,null,"Class & Section",null,null,"●→",{"$f":"IF(OR(G2488=0,G2488=\"\"),\"\",IF('STUDENT DETAIL'!$H$4=\"\",'STUDENT DETAIL'!$E$4,CONCATENATE('STUDENT DETAIL'!$E$4,\"   \",\"(\",'STUDENT DETAIL'!$H$4,\")\")))","v":""}]
[null,null,"Date Of Birth",null,null,"●→",{"$f":"IF(OR(G2488=0,G2488=\"\"),\"\",VLOOKUP(A2483,'STUDENT DETAIL'!$C$8:$I$107,7))","v":""}]
[null,null,"Time Table"]
[null,null,"Date (Day)",null,null,"Subject",null,"Time"]
[null,null,{"$f":"IF('TIME TABLE'!$B$5=\"\",\"\",'TIME TABLE'!$B$5)","v":"2022-03-31"},null,{"$f":"IF(C2496=\"\",\"\",IF(C2496>0,CONCATENATE('TIME TABLE'!$C$5,'TIME TABLE'!$D$5,'TIME TABLE'!$E$5)))","v":"(Thursday)"},{"$f":"IF(C2496=\"\",\"\",'TIME TABLE'!$F$5)","v":"Hindi"},null,{"$f":"IF(F2496=\"\",\"\",'TIME TABLE'!$H$5)","v":"09:00 AM to 11:45 AM"}]
[null,null,{"$f":"IF('TIME TABLE'!$B$6=\"\",\"\",'TIME TABLE'!$B$6)","v":"2022-04-01"},null,{"$f":"IF(C2497=\"\",\"\",IF(C2497>0,CONCATENATE('TIME TABLE'!$C$6,'TIME TABLE'!$D$6,'TIME TABLE'!$E$6)))","v":"(Friday)"},{"$f":"IF(C2497=\"\",\"\",'TIME TABLE'!$F$6)","v":"English"},null,{"$f":"IF(F2497=\"\",\"\",'TIME TABLE'!$H$6)","v":"09:00 AM to 11:45 AM"}]
[null,null,{"$f":"IF('TIME TABLE'!$B$7=\"\",\"\",'TIME TABLE'!$B$7)","v":"2022-04-02"},null,{"$f":"IF(C2498=\"\",\"\",IF(C2498>0,CONCATENATE('TIME TABLE'!$C$7,'TIME TABLE'!$D$7,'TIME TABLE'!$E$7)))","v":"(Saturday)"},{"$f":"IF(C2498=\"\",\"\",'TIME TABLE'!$F$7)","v":"Science"},null,{"$f":"IF(F2498=\"\",\"\",'TIME TABLE'!$H$7)","v":"09:00 AM to 11:45 AM"}]
[null,null,{"$f":"IF('TIME TABLE'!$B$8=\"\",\"\",'TIME TABLE'!$B$8)","v":"2022-04-03"},null,{"$f":"IF(C2499=\"\",\"\",IF(C2499>0,CONCATENATE('TIME TABLE'!$C$8,'TIME TABLE'!$D$8,'TIME TABLE'!$E$8)))","v":"(Sunday)"},{"$f":"IF(C2499=\"\",\"\",'TIME TABLE'!$F$8)","v":"Mathematics"},null,{"$f":"IF(F2499=\"\",\"\",'TIME TABLE'!$H$8)","v":"09:00 AM to 11:45 AM"}]
[null,null,{"$f":"IF('TIME TABLE'!$B$9=\"\",\"\",'TIME TABLE'!$B$9)","v":"2022-04-04"},null,{"$f":"IF(C2500=\"\",\"\",IF(C2500>0,CONCATENATE('TIME TABLE'!$C$9,'TIME TABLE'!$D$9,'TIME TABLE'!$E$9)))","v":"(Monday)"},{"$f":"IF(C2500=\"\",\"\",'TIME TABLE'!$F$9)","v":"Social Study"},null,{"$f":"IF(F2500=\"\",\"\",'TIME TABLE'!$H$9)","v":"09:00 AM to 11:45 AM"}]
[null,null,{"$f":"IF('TIME TABLE'!$B$10=\"\",\"\",'TIME TABLE'!$B$10)","v":"2022-04-05"},null,{"$f":"IF(C2501=\"\",\"\",IF(C2501>0,CONCATENATE('TIME TABLE'!$C$10,'TIME TABLE'!$D$10,'TIME TABLE'!$E$10)))","v":"(Tuesday)"},{"$f":"IF(C2501=\"\",\"\",'TIME TABLE'!$F$10)","v":"Sanskrit"},null,{"$f":"IF(F2501=\"\",\"\",'TIME TABLE'!$H$10)","v":"09:00 AM to 11:45 AM"}]
[null,null,{"$f":"IF('TIME TABLE'!$B$11=\"\",\"\",'TIME TABLE'!$B$11)","v":""},null,{"$f":"IF(C2502=\"\",\"\",IF(C2502>0,CONCATENATE('TIME TABLE'!$C$11,'TIME TABLE'!$D$11,'TIME TABLE'!$E$11)))","v":""},{"$f":"IF(C2502=\"\",\"\",'TIME TABLE'!$F$11)","v":""},null,{"$f":"IF(F2502=\"\",\"\",'TIME TABLE'!$H$11)","v":""}]
[null,null,{"$f":"IF('TIME TABLE'!$B$12=\"\",\"\",'TIME TABLE'!$B$12)","v":""},null,{"$f":"IF(C2503=\"\",\"\",IF(C2503>0,CONCATENATE('TIME TABLE'!$C$12,'TIME TABLE'!$D$12,'TIME TABLE'!$E$12)))","v":""},{"$f":"IF(C2503=\"\",\"\",'TIME TABLE'!$F$12)","v":""},null,{"$f":"IF(C2503=\"\",\"\",'TIME TABLE'!$H$12)","v":""}]
[null,null,{"$f":"IF('TIME TABLE'!$B$13=\"\",\"\",'TIME TABLE'!$B$13)","v":""},null,{"$f":"IF(C2504=\"\",\"\",IF(C2504>0,CONCATENATE('TIME TABLE'!$C$11,'TIME TABLE'!$D$11,'TIME TABLE'!$E$11)))","v":""},{"$f":"IF(C2504=\"\",\"\",'TIME TABLE'!$F$13)","v":""},null,{"$f":"IF(C2504=\"\",\"\",'TIME TABLE'!$H$13)","v":""}]
[null,null,{"$f":"IF('TIME TABLE'!$B$14=\"\",\"\",'TIME TABLE'!$B$14)","v":""},null,{"$f":"IF(C2505=\"\",\"\",IF(C2505>0,CONCATENATE('TIME TABLE'!$C$11,'TIME TABLE'!$D$11,'TIME TABLE'!$E$11)))","v":""},{"$f":"IF(C2505=\"\",\"\",'TIME TABLE'!$F$14)","v":""},null,{"$f":"IF(C2505=\"\",\"\",'TIME TABLE'!$H$14)","v":""}]
[null,null,"Instructions"]
[null,null,1,"Check the exam time table carefully."]
[null,null,2,"Students must bring the 'Admit Card' and show it to the invigilator(s) on duty and should preserve it for future requirements."]
[null,null,3,"Mobile Phone, Calculator, Digital Watch or any Electronic Device is NOT ALLOWED."]
[null,null,4,"Arrive at the School at least 15 minutes before the start examination."]
[null,null,5,"Student is barred from entering the examination hall 15 minutes after the written examination starts."]
[null,null,6,"Ensure that you use the washroom before arriving for your exam as you will not be permitted to leave during the first hour."]
[null,null,7,"Normally, you are required to answer questionsusing blue or black in . Make sure you bring some spare pens with you."]
[null,null,8,"Keep your eyes on your own paper. Remember, copying is cheating!"]
[null,null,9,"You must remain silent until after you have exited the school building."]
[]
[{"$f":"A2483+1","v":75}]
[null,{"$f":"logo","v":{"$error":"#NAME?"}},null,{"$f":"MASTER!$E$11","v":"Govt. Sr. Secondary School Raimalwada"}]
[{"$nulls":3},{"$f":"MASTER!$E$14","v":"P.S.-Bapini (Phalodi)"}]
[null,{"$f":"CONCATENATE(C2521,'TIME TABLE'!$C$5,'ADMIT CARD'!$C2522,$F2522,'ADMIT CARD'!$G2522,'TIME TABLE'!$E$5)","v":"ADMIT CARD(Roll Number●→0)"},{"$f":"CONCATENATE('TIME TABLE'!$B$2,'TIME TABLE'!$F$2)","v":"TEST-I: (2025-26)"},{"$nulls":5},"Paste latest \nphoto of student"]
[null,null,"ADMIT CARD",{"$nulls":6}," "]
[null,null,"Roll Number",null,null,"●→",{"$f":"VLOOKUP(A2517,'STUDENT DETAIL'!$C$8:$I$107,3)","v":0}]
[null,null,"Student's Name",null,null,"●→",{"$f":"IF(OR(G2522=0,G2522=\"\"),\"\",VLOOKUP(A2517,'STUDENT DETAIL'!$C$8:$I$107,4))","v":""}]
[null,null,"Father's Name",null,null,"●→",{"$f":"IF(OR(G2522=0,G2522=\"\"),\"\",VLOOKUP(A2517,'STUDENT DETAIL'!$C$8:$I$107,5))","v":""},null,"Seal and Signature of Head of Institution"]
[null,null,"Mother's Name ",null,null,"●→",{"$f":"IF(OR(G2522=0,G2522=\"\"),\"\",VLOOKUP(A2517,'STUDENT DETAIL'!$C$8:$I$107,6))","v":""}]
[null,null,"Class & Section",null,null,"●→",{"$f":"IF(OR(G2522=0,G2522=\"\"),\"\",IF('STUDENT DETAIL'!$H$4=\"\",'STUDENT DETAIL'!$E$4,CONCATENATE('STUDENT DETAIL'!$E$4,\"   \",\"(\",'STUDENT DETAIL'!$H$4,\")\")))","v":""}]
[null,null,"Date Of Birth",null,null,"●→",{"$f":"IF(OR(G2522=0,G2522=\"\"),\"\",VLOOKUP(A2517,'STUDENT DETAIL'!$C$8:$I$107,7))","v":""}]
[null,null,"Time Table"]
[null,null,"Date (Day)",null,null,"Subject",null,"Time"]
[null,null,{"$f":"IF('TIME TABLE'!$B$5=\"\",\"\",'TIME TABLE'!$B$5)","v":"2022-03-31"},null,{"$f":"IF(C2530=\"\",\"\",IF(C2530>0,CONCATENATE('TIME TABLE'!$C$5,'TIME TABLE'!$D$5,'TIME TABLE'!$E$5)))","v":"(Thursday)"},{"$f":"IF(C2530=\"\",\"\",'TIME TABLE'!$F$5)","v":"Hindi"},null,{"$f":"IF(F2530=\"\",\"\",'TIME TABLE'!$H$5)","v":"09:00 AM to 11:45 AM"}]
[null,null,{"$f":"IF('TIME TABLE'!$B$6=\"\",\"\",'TIME TABLE'!$B$6)","v":"2022-04-01"},null,{"$f":"IF(C2531=\"\",\"\",IF(C2531>0,CONCATENATE('TIME TABLE'!$C$6,'TIME TABLE'!$D$6,'TIME TABLE'!$E$6)))","v":"(Friday)"},{"$f":"IF(C2531=\"\",\"\",'TIME TABLE'!$F$6)","v":"English"},null,{"$f":"IF(F2531=\"\",\"\",'TIME TABLE'!$H$6)","v":"09:00 AM to 11:45 AM"}]
[null,null,{"$f":"IF('TIME TABLE'!$B$7=\"\",\"\",'TIME TABLE'!$B$7)","v":"2022-04-02"},null,{"$f":"IF(C2532=\"\",\"\",IF(C2532>0,CONCATENATE('TIME TABLE'!$C$7,'TIME TABLE'!$D$7,'TIME TABLE'!$E$7)))","v":"(Saturday)"},{"$f":"IF(C2532=\"\",\"\",'TIME TABLE'!$F$7)","v":"Science"},null,{"$f":"IF(F2532=\"\",\"\",'TIME TABLE'!$H$7)","v":"09:00 AM to 11:45 AM"}]
[null,null,{"$f":"IF('TIME TABLE'!$B$8=\"\",\"\",'TIME TABLE'!$B$8)","v":"2022-04-03"},null,{"$f":"IF(C2533=\"\",\"\",IF(C2533>0,CONCATENATE('TIME TABLE'!$C$8,'TIME TABLE'!$D$8,'TIME TABLE'!$E$8)))","v":"(Sunday)"},{"$f":"IF(C2533=\"\",\"\",'TIME TABLE'!$F$8)","v":"Mathematics"},null,{"$f":"IF(F2533=\"\",\"\",'TIME TABLE'!$H$8)","v":"09:00 AM to 11:45 AM"}]
[null,null,{"$f":"IF('TIME TABLE'!$B$9=\"\",\"\",'TIME TABLE'!$B$9)","v":"2022-04-04"},null,{"$f":"IF(C2534=\"\",\"\",IF(C2534>0,CONCATENATE('TIME TABLE'!$C$9,'TIME TABLE'!$D$9,'TIME TABLE'!$E$9)))","v":"(Monday)"},{"$f":"IF(C2534=\"\",\"\",'TIME TABLE'!$F$9)","v":"Social Study"},null,{"$f":"IF(F2534=\"\",\"\",'TIME TABLE'!$H$9)","v":"09:00 AM to 11:45 AM"}]
[null,null,{"$f":"IF('TIME TABLE'!$B$10=\"\",\"\",'TIME TABLE'!$B$10)","v":"2022-04-05"},null,{"$f":"IF(C2535=\"\",\"\",IF(C2535>0,CONCATENATE('TIME TABLE'!$C$10,'TIME TABLE'!$D$10,'TIME TABLE'!$E$10)))","v":"(Tuesday)"},{"$f":"IF(C2535=\"\",\"\",'TIME TABLE'!$F$10)","v":"Sanskrit"},null,{"$f":"IF(F2535=\"\",\"\",'TIME TABLE'!$H$10)","v":"09:00 AM to 11:45 AM"}]
[null,null,{"$f":"IF('TIME TABLE'!$B$11=\"\",\"\",'TIME TABLE'!$B$11)","v":""},null,{"$f":"IF(C2536=\"\",\"\",IF(C2536>0,CONCATENATE('TIME TABLE'!$C$11,'TIME TABLE'!$D$11,'TIME TABLE'!$E$11)))","v":""},{"$f":"IF(C2536=\"\",\"\",'TIME TABLE'!$F$11)","v":""},null,{"$f":"IF(F2536=\"\",\"\",'TIME TABLE'!$H$11)","v":""}]
[null,null,{"$f":"IF('TIME TABLE'!$B$12=\"\",\"\",'TIME TABLE'!$B$12)","v":""},null,{"$f":"IF(C2537=\"\",\"\",IF(C2537>0,CONCATENATE('TIME TABLE'!$C$12,'TIME TABLE'!$D$12,'TIME TABLE'!$E$12)))","v":""},{"$f":"IF(C2537=\"\",\"\",'TIME TABLE'!$F$12)","v":""},null,{"$f":"IF(C2537=\"\",\"\",'TIME TABLE'!$H$12)","v":""}]
[null,null,{"$f":"IF('TIME TABLE'!$B$13=\"\",\"\",'TIME TABLE'!$B$13)","v":""},null,{"$f":"IF(C2538=\"\",\"\",IF(C2538>0,CONCATENATE('TIME TABLE'!$C$11,'TIME TABLE'!$D$11,'TIME TABLE'!$E$11)))","v":""},{"$f":"IF(C2538=\"\",\"\",'TIME TABLE'!$F$13)","v":""},null,{"$f":"IF(C2538=\"\",\"\",'TIME TABLE'!$H$13)","v":""}]
[null,null,{"$f":"IF('TIME TABLE'!$B$14=\"\",\"\",'TIME TABLE'!$B$14)","v":""},null,{"$f":"IF(C2539=\"\",\"\",IF(C2539>0,CONCATENATE('TIME TABLE'!$C$11,'TIME TABLE'!$D$11,'TIME TABLE'!$E$11)))","v":""},{"$f":"IF(C2539=\"\",\"\",'TIME TABLE'!$F$14)","v":""},null,{"$f":"IF(C2539=\"\",\"\",'TIME TABLE'!$H$14)","v":""}]
[null,null,"Instructions"]
[null,null,1,"Check the exam time table carefully."]
[null,null,2,"Students must bring the 'Admit Card' and show it to the invigilator(s) on duty and should preserve it for future requirements."]
[null,null,3,"Mobile Phone, Calculator, Digital Watch or any Electronic Device is NOT ALLOWED."]
[null,null,4,"Arrive at the School at least 15 minutes before the start examination."]
[null,null,5,"Student is barred from entering the examination hall 15 minutes after the written examination starts."]
[null,null,6,"Ensure that you use the washroom before arriving for your exam as you will not be permitted to leave during the first hour."]
[null,null,7,"Normally, you are required to answer questionsusing blue or black in . Make sure you bring some spare pens with you."]
[null,null,8,"Keep your eyes on your own paper. Remember, copying is cheating!"]
[null,null,9,"You must remain silent until after you have exited the school building."]
[]
[{"$f":"A2517+1","v":76}]
[null,{"$f":"logo","v":{"$error":"#NAME?"}},null,{"$f":"MASTER!$E$11","v":"Govt. Sr. Secondary School Raimalwada"}]
[{"$nulls":3},{"$f":"MASTER!$E$14","v":"P.S.-Bapini (Phalodi)"}]
[null,{"$f":"CONCATENATE(C2555,'TIME TABLE'!$C$5,'ADMIT CARD'!$C2556,$F2556,'ADMIT CARD'!$G2556,'TIME TABLE'!$E$5)","v":"ADMIT CARD(Roll Number●→0)"},{"$f":"CONCATENATE('TIME TABLE'!$B$2,'TIME TABLE'!$F$2)","v":"TEST-I: (2025-26)"},{"$nulls":5},"Paste latest \nphoto of student"]
[null,null,"ADMIT CARD",{"$nulls":6}," "]
[null,null,"Roll Number",null,null,"●→",{"$f":"VLOOKUP(A2551,'STUDENT DETAIL'!$C$8:$I$107,3)","v":0}]
[null,null,"Student's Name",null,null,"●→",{"$f":"IF(OR(G2556=0,G2556=\"\"),\"\",VLOOKUP(A2551,'STUDENT DETAIL'!$C$8:$I$107,4))","v":""}]
[null,null,"Father's Name",null,null,"●→",{"$f":"IF(OR(G2556=0,G2556=\"\"),\"\",VLOOKUP(A2551,'STUDENT DETAIL'!$C$8:$I$107,5))","v":""},null,"Seal and Signature of Head of Institution"]
[null,null,"Mother's Name ",null,null,"●→",{"$f":"IF(OR(G2556=0,G2556=\"\"),\"\",VLOOKUP(A2551,'STUDENT DETAIL'!$C$8:$I$107,6))","v":""}]
[null,null,"Class & Section",null,null,"●→",{"$f":"IF(OR(G2556=0,G2556=\"\"),\"\",IF('STUDENT DETAIL'!$H$4=\"\",'STUDENT DETAIL'!$E$4,CONCATENATE('STUDENT DETAIL'!$E$4,\"   \",\"(\",'STUDENT DETAIL'!$H$4,\")\")))","v":""}]
[null,null,"Date Of Birth",null,null,"●→",{"$f":"IF(OR(G2556=0,G2556=\"\"),\"\",VLOOKUP(A2551,'STUDENT DETAIL'!$C$8:$I$107,7))","v":""}]
[null,null,"Time Table"]
[null,null,"Date (Day)",null,null,"Subject",null,"Time"]
[null,null,{"$f":"IF('TIME TABLE'!$B$5=\"\",\"\",'TIME TABLE'!$B$5)","v":"2022-03-31"},null,{"$f":"IF(C2564=\"\",\"\",IF(C2564>0,CONCATENATE('TIME TABLE'!$C$5,'TIME TABLE'!$D$5,'TIME TABLE'!$E$5)))","v":"(Thursday)"},{"$f":"IF(C2564=\"\",\"\",'TIME TABLE'!$F$5)","v":"Hindi"},null,{"$f":"IF(F2564=\"\",\"\",'TIME TABLE'!$H$5)","v":"09:00 AM to 11:45 AM"}]
[null,null,{"$f":"IF('TIME TABLE'!$B$6=\"\",\"\",'TIME TABLE'!$B$6)","v":"2022-04-01"},null,{"$f":"IF(C2565=\"\",\"\",IF(C2565>0,CONCATENATE('TIME TABLE'!$C$6,'TIME TABLE'!$D$6,'TIME TABLE'!$E$6)))","v":"(Friday)"},{"$f":"IF(C2565=\"\",\"\",'TIME TABLE'!$F$6)","v":"English"},null,{"$f":"IF(F2565=\"\",\"\",'TIME TABLE'!$H$6)","v":"09:00 AM to 11:45 AM"}]
[null,null,{"$f":"IF('TIME TABLE'!$B$7=\"\",\"\",'TIME TABLE'!$B$7)","v":"2022-04-02"},null,{"$f":"IF(C2566=\"\",\"\",IF(C2566>0,CONCATENATE('TIME TABLE'!$C$7,'TIME TABLE'!$D$7,'TIME TABLE'!$E$7)))","v":"(Saturday)"},{"$f":"IF(C2566=\"\",\"\",'TIME TABLE'!$F$7)","v":"Science"},null,{"$f":"IF(F2566=\"\",\"\",'TIME TABLE'!$H$7)","v":"09:00 AM to 11:45 AM"}]
[null,null,{"$f":"IF('TIME TABLE'!$B$8=\"\",\"\",'TIME TABLE'!$B$8)","v":"2022-04-03"},null,{"$f":"IF(C2567=\"\",\"\",IF(C2567>0,CONCATENATE('TIME TABLE'!$C$8,'TIME TABLE'!$D$8,'TIME TABLE'!$E$8)))","v":"(Sunday)"},{"$f":"IF(C2567=\"\",\"\",'TIME TABLE'!$F$8)","v":"Mathematics"},null,{"$f":"IF(F2567=\"\",\"\",'TIME TABLE'!$H$8)","v":"09:00 AM to 11:45 AM"}]
[null,null,{"$f":"IF('TIME TABLE'!$B$9=\"\",\"\",'TIME TABLE'!$B$9)","v":"2022-04-04"},null,{"$f":"IF(C2568=\"\",\"\",IF(C2568>0,CONCATENATE('TIME TABLE'!$C$9,'TIME TABLE'!$D$9,'TIME TABLE'!$E$9)))","v":"(Monday)"},{"$f":"IF(C2568=\"\",\"\",'TIME TABLE'!$F$9)","v":"Social Study"},null,{"$f":"IF(F2568=\"\",\"\",'TIME TABLE'!$H$9)","v":"09:00 AM to 11:45 AM"}]
[null,null,{"$f":"IF('TIME TABLE'!$B$10=\"\",\"\",'TIME TABLE'!$B$10)","v":"2022-04-05"},null,{"$f":"IF(C2569=\"\",\"\",IF(C2569>0,CONCATENATE('TIME TABLE'!$C$10,'TIME TABLE'!$D$10,'TIME TABLE'!$E$10)))","v":"(Tuesday)"},{"$f":"IF(C2569=\"\",\"\",'TIME TABLE'!$F$10)","v":"Sanskrit"},null,{"$f":"IF(F2569=\"\",\"\",'TIME TABLE'!$H$10)","v":"09:00 AM to 11:45 AM"}]
[null,null,{"$f":"IF('TIME TABLE'!$B$11=\"\",\"\",'TIME TABLE'!$B$11)","v":""},null,{"$f":"IF(C2570=\"\",\"\",IF(C2570>0,CONCATENATE('TIME TABLE'!$C$11,'TIME TABLE'!$D$11,'TIME TABLE'!$E$11)))","v":""},{"$f":"IF(C2570=\"\",\"\",'TIME TABLE'!$F$11)","v":""},null,{"$f":"IF(F2570=\"\",\"\",'TIME TABLE'!$H$11)","v":""}]
[null,null,{"$f":"IF('TIME TABLE'!$B$12=\"\",\"\",'TIME TABLE'!$B$12)","v":""},null,{"$f":"IF(C2571=\"\",\"\",IF(C2571>0,CONCATENATE('TIME TABLE'!$C$12,'TIME TABLE'!$D$12,'TIME TABLE'!$E$12)))","v":""},{"$f":"IF(C2571=\"\",\"\",'TIME TABLE'!$F$12)","v":""},null,{"$f":"IF(C2571=\"\",\"\",'TIME TABLE'!$H$12)","v":""}]
[null,null,{"$f":"IF('TIME TABLE'!$B$13=\"\",\"\",'TIME TABLE'!$B$13)","v":""},null,{"$f":"IF(C2572=\"\",\"\",IF(C2572>0,CONCATENATE('TIME TABLE'!$C$11,'TIME TABLE'!$D$11,'TIME TABLE'!$E$11)))","v":""},{"$f":"IF(C2572=\"\",\"\",'TIME TABLE'!$F$13)","v":""},null,{"$f":"IF(C2572=\"\",\"\",'TIME TABLE'!$H$13)","v":""}]
[null,null,{"$f":"IF('TIME TABLE'!$B$14=\"\",\"\",'TIME TABLE'!$B$14)","v":""},null,{"$f":"IF(C2573=\"\",\"\",IF(C2573>0,CONCATENATE('TIME TABLE'!$C$11,'TIME TABLE'!$D$11,'TIME TABLE'!$E$11)))","v":""},{"$f":"IF(C2573=\"\",\"\",'TIME TABLE'!$F$14)","v":""},null,{"$f":"IF(C2573=\"\",\"\",'TIME TABLE'!$H$14)","v":""}]
[null,null,"Instructions"]
[null,null,1,"Check the exam time table carefully."]
[null,null,2,"Students must bring the 'Admit Card' and show it to the invigilator(s) on duty and should preserve it for future requirements."]
[null,null,3,"Mobile Phone, Calculator, Digital Watch or any Electronic Device is NOT ALLOWED."]
[null,null,4,"Arrive at the School at least 15 minutes before the start examination."]
[null,null,5,"Student is barred from entering the examination hall 15 minutes after the written examination starts."]
[null,null,6,"Ensure that you use the washroom before arriving for your exam as you will not be permitted to leave during the first hour."]
[null,null,7,"Normally, you are required to answer questionsusing blue or black in . Make sure you bring some spare pens with you."]
[null,null,8,"Keep your eyes on your own paper. Remember, copying is cheating!"]
[null,null,9,"You must remain silent until after you have exited the school building."]
[]
[{"$f":"A2551+1","v":77}]
[null,{"$f":"logo","v":{"$error":"#NAME?"}},null,{"$f":"MASTER!$E$11","v":"Govt. Sr. Secondary School Raimalwada"}]
[{"$nulls":3},{"$f":"MASTER!$E$14","v":"P.S.-Bapini (Phalodi)"}]
[null,{"$f":"CONCATENATE(C2589,'TIME TABLE'!$C$5,'ADMIT CARD'!$C2590,$F2590,'ADMIT CARD'!$G2590,'TIME TABLE'!$E$5)","v":"ADMIT CARD(Roll Number●→0)"},{"$f":"CONCATENATE('TIME TABLE'!$B$2,'TIME TABLE'!$F$2)","v":"TEST-I: (2025-26)"},{"$nulls":5},"Paste latest \nphoto of student"]
[null,null,"ADMIT CARD",{"$nulls":6}," "]
[null,null,"Roll Number",null,null,"●→",{"$f":"VLOOKUP(A2585,'STUDENT DETAIL'!$C$8:$I$107,3)","v":0}]
[null,null,"Student's Name",null,null,"●→",{"$f":"IF(OR(G2590=0,G2590=\"\"),\"\",VLOOKUP(A2585,'STUDENT DETAIL'!$C$8:$I$107,4))","v":""}]
[null,null,"Father's Name",null,null,"●→",{"$f":"IF(OR(G2590=0,G2590=\"\"),\"\",VLOOKUP(A2585,'STUDENT DETAIL'!$C$8:$I$107,5))","v":""},null,"Seal and Signature of Head of Institution"]
[null,null,"Mother's Name ",null,null,"●→",{"$f":"IF(OR(G2590=0,G2590=\"\"),\"\",VLOOKUP(A2585,'STUDENT DETAIL'!$C$8:$I$107,6))","v":""}]
[null,null,"Class & Section",null,null,"●→",{"$f":"IF(OR(G2590=0,G2590=\"\"),\"\",IF('STUDENT DETAIL'!$H$4=\"\",'STUDENT DETAIL'!$E$4,CONCATENATE('STUDENT DETAIL'!$E$4,\"   \",\"(\",'STUDENT DETAIL'!$H$4,\")\")))","v":""}]
[null,null,"Date Of Birth",null,null,"●→",{"$f":"IF(OR(G2590=0,G2590=\"\"),\"\",VLOOKUP(A2585,'STUDENT DETAIL'!$C$8:$I$107,7))","v":""}]
[null,null,"Time Table"]
[null,null,"Date (Day)",null,null,"Subject",null,"Time"]
[null,null,{"$f":"IF('TIME TABLE'!$B$5=\"\",\"\",'TIME TABLE'!$B$5)","v":"2022-03-31"},null,{"$f":"IF(C2598=\"\",\"\",IF(C2598>0,CONCATENATE('TIME TABLE'!$C$5,'TIME TABLE'!$D$5,'TIME TABLE'!$E$5)))","v":"(Thursday)"},{"$f":"IF(C2598=\"\",\"\",'TIME TABLE'!$F$5)","v":"Hindi"},null,{"$f":"IF(F2598=\"\",\"\",'TIME TABLE'!$H$5)","v":"09:00 AM to 11:45 AM"}]
[null,null,{"$f":"IF('TIME TABLE'!$B$6=\"\",\"\",'TIME TABLE'!$B$6)","v":"2022-04-01"},null,{"$f":"IF(C2599=\"\",\"\",IF(C2599>0,CONCATENATE('TIME TABLE'!$C$6,'TIME TABLE'!$D$6,'TIME TABLE'!$E$6)))","v":"(Friday)"},{"$f":"IF(C2599=\"\",\"\",'TIME TABLE'!$F$6)","v":"English"},null,{"$f":"IF(F2599=\"\",\"\",'TIME TABLE'!$H$6)","v":"09:00 AM to 11:45 AM"}]
[null,null,{"$f":"IF('TIME TABLE'!$B$7=\"\",\"\",'TIME TABLE'!$B$7)","v":"2022-04-02"},null,{"$f":"IF(C2600=\"\",\"\",IF(C2600>0,CONCATENATE('TIME TABLE'!$C$7,'TIME TABLE'!$D$7,'TIME TABLE'!$E$7)))","v":"(Saturday)"},{"$f":"IF(C2600=\"\",\"\",'TIME TABLE'!$F$7)","v":"Science"},null,{"$f":"IF(F2600=\"\",\"\",'TIME TABLE'!$H$7)","v":"09:00 AM to 11:45 AM"}]
[null,null,{"$f":"IF('TIME TABLE'!$B$8=\"\",\"\",'TIME TABLE'!$B$8)","v":"2022-04-03"},null,{"$f":"IF(C2601=\"\",\"\",IF(C2601>0,CONCATENATE('TIME TABLE'!$C$8,'TIME TABLE'!$D$8,'TIME TABLE'!$E$8)))","v":"(Sunday)"},{"$f":"IF(C2601=\"\",\"\",'TIME TABLE'!$F$8)","v":"Mathematics"},null,{"$f":"IF(F2601=\"\",\"\",'TIME TABLE'!$H$8)","v":"09:00 AM to 11:45 AM"}]
[null,null,{"$f":"IF('TIME TABLE'!$B$9=\"\",\"\",'TIME TABLE'!$B$9)","v":"2022-04-04"},null,{"$f":"IF(C2602=\"\",\"\",IF(C2602>0,CONCATENATE('TIME TABLE'!$C$9,'TIME TABLE'!$D$9,'TIME TABLE'!$E$9)))","v":"(Monday)"},{"$f":"IF(C2602=\"\",\"\",'TIME TABLE'!$F$9)","v":"Social Study"},null,{"$f":"IF(F2602=\"\",\"\",'TIME TABLE'!$H$9)","v":"09:00 AM to 11:45 AM"}]
[null,null,{"$f":"IF('TIME TABLE'!$B$10=\"\",\"\",'TIME TABLE'!$B$10)","v":"2022-04-05"},null,{"$f":"IF(C2603=\"\",\"\",IF(C2603>0,CONCATENATE('TIME TABLE'!$C$10,'TIME TABLE'!$D$10,'TIME TABLE'!$E$10)))","v":"(Tuesday)"},{"$f":"IF(C2603=\"\",\"\",'TIME TABLE'!$F$10)","v":"Sanskrit"},null,{"$f":"IF(F2603=\"\",\"\",'TIME TABLE'!$H$10)","v":"09:00 AM to 11:45 AM"}]
[null,null,{"$f":"IF('TIME TABLE'!$B$11=\"\",\"\",'TIME TABLE'!$B$11)","v":""},null,{"$f":"IF(C2604=\"\",\"\",IF(C2604>0,CONCATENATE('TIME TABLE'!$C$11,'TIME TABLE'!$D$11,'TIME TABLE'!$E$11)))","v":""},{"$f":"IF(C2604=\"\",\"\",'TIME TABLE'!$F$11)","v":""},null,{"$f":"IF(F2604=\"\",\"\",'TIME TABLE'!$H$11)","v":""}]
[null,null,{"$f":"IF('TIME TABLE'!$B$12=\"\",\"\",'TIME TABLE'!$B$12)","v":""},null,{"$f":"IF(C2605=\"\",\"\",IF(C2605>0,CONCATENATE('TIME TABLE'!$C$12,'TIME TABLE'!$D$12,'TIME TABLE'!$E$12)))","v":""},{"$f":"IF(C2605=\"\",\"\",'TIME TABLE'!$F$12)","v":""},null,{"$f":"IF(C2605=\"\",\"\",'TIME TABLE'!$H$12)","v":""}]
[null,null,{"$f":"IF('TIME TABLE'!$B$13=\"\",\"\",'TIME TABLE'!$B$13)","v":""},null,{"$f":"IF(C2606=\"\",\"\",IF(C2606>0,CONCATENATE('TIME TABLE'!$C$11,'TIME TABLE'!$D$11,'TIME TABLE'!$E$11)))","v":""},{"$f":"IF(C2606=\"\",\"\",'TIME TABLE'!$F$13)","v":""},null,{"$f":"IF(C2606=\"\",\"\",'TIME TABLE'!$H$13)","v":""}]
[null,null,{"$f":"IF('TIME TABLE'!$B$14=\"\",\"\",'TIME TABLE'!$B$14)","v":""},null,{"$f":"IF(C2607=\"\",\"\",IF(C2607>0,CONCATENATE('TIME TABLE'!$C$11,'TIME TABLE'!$D$11,'TIME TABLE'!$E$11)))","v":""},{"$f":"IF(C2607=\"\",\"\",'TIME TABLE'!$F$14)","v":""},null,{"$f":"IF(C2607=\"\",\"\",'TIME TABLE'!$H$14)","v":""}]
[null,null,"Instructions"]
[null,null,1,"Check the exam time table carefully."]
[null,null,2,"Students must bring the 'Admit Card' and show it to the invigilator(s) on duty and should preserve it for future requirements."]
[null,null,3,"Mobile Phone, Calculator, Digital Watch or any Electronic Device is NOT ALLOWED."]
[null,null,4,"Arrive at the School at least 15 minutes before the start examination."]
[null,null,5,"Student is barred from entering the examination hall 15 minutes after the written examination starts."]
[null,null,6,"Ensure that you use the washroom before arriving for your exam as you will not be permitted to leave during the first hour."]
[null,null,7,"Normally, you are required to answer questionsusing blue or black in . Make sure you bring some spare pens with you."]
[null,null,8,"Keep your eyes on your own paper. Remember, copying is cheating!"]
[null,null,9,"You must remain silent until after you have exited the school building."]
[]
[{"$f":"A2585+1","v":78}]
[null,{"$f":"logo","v":{"$error":"#NAME?"}},null,{"$f":"MASTER!$E$11","v":"Govt. Sr. Secondary School Raimalwada"}]
[{"$nulls":3},{"$f":"MASTER!$E$14","v":"P.S.-Bapini (Phalodi)"}]
[null,{"$f":"CONCATENATE(C2623,'TIME TABLE'!$C$5,'ADMIT CARD'!$C2624,$F2624,'ADMIT CARD'!$G2624,'TIME TABLE'!$E$5)","v":"ADMIT CARD(Roll Number●→0)"},{"$f":"CONCATENATE('TIME TABLE'!$B$2,'TIME TABLE'!$F$2)","v":"TEST-I: (2025-26)"},{"$nulls":5},"Paste latest \nphoto of student"]
[null,null,"ADMIT CARD",{"$nulls":6}," "]
[null,null,"Roll Number",null,null,"●→",{"$f":"VLOOKUP(A2619,'STUDENT DETAIL'!$C$8:$I$107,3)","v":0}]
[null,null,"Student's Name",null,null,"●→",{"$f":"IF(OR(G2624=0,G2624=\"\"),\"\",VLOOKUP(A2619,'STUDENT DETAIL'!$C$8:$I$107,4))","v":""}]
[null,null,"Father's Name",null,null,"●→",{"$f":"IF(OR(G2624=0,G2624=\"\"),\"\",VLOOKUP(A2619,'STUDENT DETAIL'!$C$8:$I$107,5))","v":""},null,"Seal and Signature of Head of Institution"]
[null,null,"Mother's Name ",null,null,"●→",{"$f":"IF(OR(G2624=0,G2624=\"\"),\"\",VLOOKUP(A2619,'STUDENT DETAIL'!$C$8:$I$107,6))","v":""}]
[null,null,"Class & Section",null,null,"●→",{"$f":"IF(OR(G2624=0,G2624=\"\"),\"\",IF('STUDENT DETAIL'!$H$4=\"\",'STUDENT DETAIL'!$E$4,CONCATENATE('STUDENT DETAIL'!$E$4,\"   \",\"(\",'STUDENT DETAIL'!$H$4,\")\")))","v":""}]
[null,null,"Date Of Birth",null,null,"●→",{"$f":"IF(OR(G2624=0,G2624=\"\"),\"\",VLOOKUP(A2619,'STUDENT DETAIL'!$C$8:$I$107,7))","v":""}]
[null,null,"Time Table"]
[null,null,"Date (Day)",null,null,"Subject",null,"Time"]
[null,null,{"$f":"IF('TIME TABLE'!$B$5=\"\",\"\",'TIME TABLE'!$B$5)","v":"2022-03-31"},null,{"$f":"IF(C2632=\"\",\"\",IF(C2632>0,CONCATENATE('TIME TABLE'!$C$5,'TIME TABLE'!$D$5,'TIME TABLE'!$E$5)))","v":"(Thursday)"},{"$f":"IF(C2632=\"\",\"\",'TIME TABLE'!$F$5)","v":"Hindi"},null,{"$f":"IF(F2632=\"\",\"\",'TIME TABLE'!$H$5)","v":"09:00 AM to 11:45 AM"}]
[null,null,{"$f":"IF('TIME TABLE'!$B$6=\"\",\"\",'TIME TABLE'!$B$6)","v":"2022-04-01"},null,{"$f":"IF(C2633=\"\",\"\",IF(C2633>0,CONCATENATE('TIME TABLE'!$C$6,'TIME TABLE'!$D$6,'TIME TABLE'!$E$6)))","v":"(Friday)"},{"$f":"IF(C2633=\"\",\"\",'TIME TABLE'!$F$6)","v":"English"},null,{"$f":"IF(F2633=\"\",\"\",'TIME TABLE'!$H$6)","v":"09:00 AM to 11:45 AM"}]
[null,null,{"$f":"IF('TIME TABLE'!$B$7=\"\",\"\",'TIME TABLE'!$B$7)","v":"2022-04-02"},null,{"$f":"IF(C2634=\"\",\"\",IF(C2634>0,CONCATENATE('TIME TABLE'!$C$7,'TIME TABLE'!$D$7,'TIME TABLE'!$E$7)))","v":"(Saturday)"},{"$f":"IF(C2634=\"\",\"\",'TIME TABLE'!$F$7)","v":"Science"},null,{"$f":"IF(F2634=\"\",\"\",'TIME TABLE'!$H$7)","v":"09:00 AM to 11:45 AM"}]
[null,null,{"$f":"IF('TIME TABLE'!$B$8=\"\",\"\",'TIME TABLE'!$B$8)","v":"2022-04-03"},null,{"$f":"IF(C2635=\"\",\"\",IF(C2635>0,CONCATENATE('TIME TABLE'!$C$8,'TIME TABLE'!$D$8,'TIME TABLE'!$E$8)))","v":"(Sunday)"},{"$f":"IF(C2635=\"\",\"\",'TIME TABLE'!$F$8)","v":"Mathematics"},null,{"$f":"IF(F2635=\"\",\"\",'TIME TABLE'!$H$8)","v":"09:00 AM to 11:45 AM"}]
[null,null,{"$f":"IF('TIME TABLE'!$B$9=\"\",\"\",'TIME TABLE'!$B$9)","v":"2022-04-04"},null,{"$f":"IF(C2636=\"\",\"\",IF(C2636>0,CONCATENATE('TIME TABLE'!$C$9,'TIME TABLE'!$D$9,'TIME TABLE'!$E$9)))","v":"(Monday)"},{"$f":"IF(C2636=\"\",\"\",'TIME TABLE'!$F$9)","v":"Social Study"},null,{"$f":"IF(F2636=\"\",\"\",'TIME TABLE'!$H$9)","v":"09:00 AM to 11:45 AM"}]
[null,null,{"$f":"IF('TIME TABLE'!$B$10=\"\",\"\",'TIME TABLE'!$B$10)","v":"2022-04-05"},null,{"$f":"IF(C2637=\"\",\"\",IF(C2637>0,CONCATENATE('TIME TABLE'!$C$10,'TIME TABLE'!$D$10,'TIME TABLE'!$E$10)))","v":"(Tuesday)"},{"$f":"IF(C2637=\"\",\"\",'TIME TABLE'!$F$10)","v":"Sanskrit"},null,{"$f":"IF(F2637=\"\",\"\",'TIME TABLE'!$H$10)","v":"09:00 AM to 11:45 AM"}]
[null,null,{"$f":"IF('TIME TABLE'!$B$11=\"\",\"\",'TIME TABLE'!$B$11)","v":""},null,{"$f":"IF(C2638=\"\",\"\",IF(C2638>0,CONCATENATE('TIME TABLE'!$C$11,'TIME TABLE'!$D$11,'TIME TABLE'!$E$11)))","v":""},{"$f":"IF(C2638=\"\",\"\",'TIME TABLE'!$F$11)","v":""},null,{"$f":"IF(F2638=\"\",\"\",'TIME TABLE'!$H$11)","v":""}]
[null,null,{"$f":"IF('TIME TABLE'!$B$12=\"\",\"\",'TIME TABLE'!$B$12)","v":""},null,{"$f":"IF(C2639=\"\",\"\",IF(C2639>0,CONCATENATE('TIME TABLE'!$C$12,'TIME TABLE'!$D$12,'TIME TABLE'!$E$12)))","v":""},{"$f":"IF(C2639=\"\",\"\",'TIME TABLE'!$F$12)","v":""},null,{"$f":"IF(C2639=\"\",\"\",'TIME TABLE'!$H$12)","v":""}]
[null,null,{"$f":"IF('TIME TABLE'!$B$13=\"\",\"\",'TIME TABLE'!$B$13)","v":""},null,{"$f":"IF(C2640=\"\",\"\",IF(C2640>0,CONCATENATE('TIME TABLE'!$C$11,'TIME TABLE'!$D$11,'TIME TABLE'!$E$11)))","v":""},{"$f":"IF(C2640=\"\",\"\",'TIME TABLE'!$F$13)","v":""},null,{"$f":"IF(C2640=\"\",\"\",'TIME TABLE'!$H$13)","v":""}]
[null,null,{"$f":"IF('TIME TABLE'!$B$14=\"\",\"\",'TIME TABLE'!$B$14)","v":""},null,{"$f":"IF(C2641=\"\",\"\",IF(C2641>0,CONCATENATE('TIME TABLE'!$C$11,'TIME TABLE'!$D$11,'TIME TABLE'!$E$11)))","v":""},{"$f":"IF(C2641=\"\",\"\",'TIME TABLE'!$F$14)","v":""},null,{"$f":"IF(C2641=\"\",\"\",'TIME TABLE'!$H$14)","v":""}]
[null,null,"Instructions"]
[null,null,1,"Check the exam time table carefully."]
[null,null,2,"Students must bring the 'Admit Card' and show it to the invigilator(s) on duty and should preserve it for future requirements."]
[null,null,3,"Mobile Phone, Calculator, Digital Watch or any Electronic Device is NOT ALLOWED."]
[null,null,4,"Arrive at the School at least 15 minutes before the start examination."]
[null,null,5,"Student is barred from entering the examination hall 15 minutes after the written examination starts."]
[null,null,6,"Ensure that you use the washroom before arriving for your exam as you will not be permitted to leave during the first hour."]
[null,null,7,"Normally, you are required to answer questionsusing blue or black in . Make sure you bring some spare pens with you."]
[null,null,8,"Keep your eyes on your own paper. Remember, copying is cheating!"]
[null,null,9,"You must remain silent until after you have exited the school building."]
[]
[{"$f":"A2619+1","v":79}]
[null,{"$f":"logo","v":{"$error":"#NAME?"}},null,{"$f":"MASTER!$E$11","v":"Govt. Sr. Secondary School Raimalwada"}]
[{"$nulls":3},{"$f":"MASTER!$E$14","v":"P.S.-Bapini (Phalodi)"}]
[null,{"$f":"CONCATENATE(C2657,'TIME TABLE'!$C$5,'ADMIT CARD'!$C2658,$F2658,'ADMIT CARD'!$G2658,'TIME TABLE'!$E$5)","v":"ADMIT CARD(Roll Number●→0)"},{"$f":"CONCATENATE('TIME TABLE'!$B$2,'TIME TABLE'!$F$2)","v":"TEST-I: (2025-26)"},{"$nulls":5},"Paste latest \nphoto of student"]
[null,null,"ADMIT CARD",{"$nulls":6}," "]
[null,null,"Roll Number",null,null,"●→",{"$f":"VLOOKUP(A2653,'STUDENT DETAIL'!$C$8:$I$107,3)","v":0}]
[null,null,"Student's Name",null,null,"●→",{"$f":"IF(OR(G2658=0,G2658=\"\"),\"\",VLOOKUP(A2653,'STUDENT DETAIL'!$C$8:$I$107,4))","v":""}]
[null,null,"Father's Name",null,null,"●→",{"$f":"IF(OR(G2658=0,G2658=\"\"),\"\",VLOOKUP(A2653,'STUDENT DETAIL'!$C$8:$I$107,5))","v":""},null,"Seal and Signature of Head of Institution"]
[null,null,"Mother's Name ",null,null,"●→",{"$f":"IF(OR(G2658=0,G2658=\"\"),\"\",VLOOKUP(A2653,'STUDENT DETAIL'!$C$8:$I$107,6))","v":""}]
[null,null,"Class & Section",null,null,"●→",{"$f":"IF(OR(G2658=0,G2658=\"\"),\"\",IF('STUDENT DETAIL'!$H$4=\"\",'STUDENT DETAIL'!$E$4,CONCATENATE('STUDENT DETAIL'!$E$4,\"   \",\"(\",'STUDENT DETAIL'!$H$4,\")\")))","v":""}]
[null,null,"Date Of Birth",null,null,"●→",{"$f":"IF(OR(G2658=0,G2658=\"\"),\"\",VLOOKUP(A2653,'STUDENT DETAIL'!$C$8:$I$107,7))","v":""}]
[null,null,"Time Table"]
[null,null,"Date (Day)",null,null,"Subject",null,"Time"]
[null,null,{"$f":"IF('TIME TABLE'!$B$5=\"\",\"\",'TIME TABLE'!$B$5)","v":"2022-03-31"},null,{"$f":"IF(C2666=\"\",\"\",IF(C2666>0,CONCATENATE('TIME TABLE'!$C$5,'TIME TABLE'!$D$5,'TIME TABLE'!$E$5)))","v":"(Thursday)"},{"$f":"IF(C2666=\"\",\"\",'TIME TABLE'!$F$5)","v":"Hindi"},null,{"$f":"IF(F2666=\"\",\"\",'TIME TABLE'!$H$5)","v":"09:00 AM to 11:45 AM"}]
[null,null,{"$f":"IF('TIME TABLE'!$B$6=\"\",\"\",'TIME TABLE'!$B$6)","v":"2022-04-01"},null,{"$f":"IF(C2667=\"\",\"\",IF(C2667>0,CONCATENATE('TIME TABLE'!$C$6,'TIME TABLE'!$D$6,'TIME TABLE'!$E$6)))","v":"(Friday)"},{"$f":"IF(C2667=\"\",\"\",'TIME TABLE'!$F$6)","v":"English"},null,{"$f":"IF(F2667=\"\",\"\",'TIME TABLE'!$H$6)","v":"09:00 AM to 11:45 AM"}]
[null,null,{"$f":"IF('TIME TABLE'!$B$7=\"\",\"\",'TIME TABLE'!$B$7)","v":"2022-04-02"},null,{"$f":"IF(C2668=\"\",\"\",IF(C2668>0,CONCATENATE('TIME TABLE'!$C$7,'TIME TABLE'!$D$7,'TIME TABLE'!$E$7)))","v":"(Saturday)"},{"$f":"IF(C2668=\"\",\"\",'TIME TABLE'!$F$7)","v":"Science"},null,{"$f":"IF(F2668=\"\",\"\",'TIME TABLE'!$H$7)","v":"09:00 AM to 11:45 AM"}]
[null,null,{"$f":"IF('TIME TABLE'!$B$8=\"\",\"\",'TIME TABLE'!$B$8)","v":"2022-04-03"},null,{"$f":"IF(C2669=\"\",\"\",IF(C2669>0,CONCATENATE('TIME TABLE'!$C$8,'TIME TABLE'!$D$8,'TIME TABLE'!$E$8)))","v":"(Sunday)"},{"$f":"IF(C2669=\"\",\"\",'TIME TABLE'!$F$8)","v":"Mathematics"},null,{"$f":"IF(F2669=\"\",\"\",'TIME TABLE'!$H$8)","v":"09:00 AM to 11:45 AM"}]
[null,null,{"$f":"IF('TIME TABLE'!$B$9=\"\",\"\",'TIME TABLE'!$B$9)","v":"2022-04-04"},null,{"$f":"IF(C2670=\"\",\"\",IF(C2670>0,CONCATENATE('TIME TABLE'!$C$9,'TIME TABLE'!$D$9,'TIME TABLE'!$E$9)))","v":"(Monday)"},{"$f":"IF(C2670=\"\",\"\",'TIME TABLE'!$F$9)","v":"Social Study"},null,{"$f":"IF(F2670=\"\",\"\",'TIME TABLE'!$H$9)","v":"09:00 AM to 11:45 AM"}]
[null,null,{"$f":"IF('TIME TABLE'!$B$10=\"\",\"\",'TIME TABLE'!$B$10)","v":"2022-04-05"},null,{"$f":"IF(C2671=\"\",\"\",IF(C2671>0,CONCATENATE('TIME TABLE'!$C$10,'TIME TABLE'!$D$10,'TIME TABLE'!$E$10)))","v":"(Tuesday)"},{"$f":"IF(C2671=\"\",\"\",'TIME TABLE'!$F$10)","v":"Sanskrit"},null,{"$f":"IF(F2671=\"\",\"\",'TIME TABLE'!$H$10)","v":"09:00 AM to 11:45 AM"}]
[null,null,{"$f":"IF('TIME TABLE'!$B$11=\"\",\"\",'TIME TABLE'!$B$11)","v":""},null,{"$f":"IF(C2672=\"\",\"\",IF(C2672>0,CONCATENATE('TIME TABLE'!$C$11,'TIME TABLE'!$D$11,'TIME TABLE'!$E$11)))","v":""},{"$f":"IF(C2672=\"\",\"\",'TIME TABLE'!$F$11)","v":""},null,{"$f":"IF(F2672=\"\",\"\",'TIME TABLE'!$H$11)","v":""}]
[null,null,{"$f":"IF('TIME TABLE'!$B$12=\"\",\"\",'TIME TABLE'!$B$12)","v":""},null,{"$f":"IF(C2673=\"\",\"\",IF(C2673>0,CONCATENATE('TIME TABLE'!$C$12,'TIME TABLE'!$D$12,'TIME TABLE'!$E$12)))","v":""},{"$f":"IF(C2673=\"\",\"\",'TIME TABLE'!$F$12)","v":""},null,{"$f":"IF(C2673=\"\",\"\",'TIME TABLE'!$H$12)","v":""}]
[null,null,{"$f":"IF('TIME TABLE'!$B$13=\"\",\"\",'TIME TABLE'!$B$13)","v":""},null,{"$f":"IF(C2674=\"\",\"\",IF(C2674>0,CONCATENATE('TIME TABLE'!$C$11,'TIME TABLE'!$D$11,'TIME TABLE'!$E$11)))","v":""},{"$f":"IF(C2674=\"\",\"\",'TIME TABLE'!$F$13)","v":""},null,{"$f":"IF(C2674=\"\",\"\",'TIME TABLE'!$H$13)","v":""}]
[null,null,{"$f":"IF('TIME TABLE'!$B$14=\"\",\"\",'TIME TABLE'!$B$14)","v":""},null,{"$f":"IF(C2675=\"\",\"\",IF(C2675>0,CONCATENATE('TIME TABLE'!$C$11,'TIME TABLE'!$D$11,'TIME TABLE'!$E$11)))","v":""},{"$f":"IF(C2675=\"\",\"\",'TIME TABLE'!$F$14)","v":""},null,{"$f":"IF(C2675=\"\",\"\",'TIME TABLE'!$H$14)","v":""}]
[null,null,"Instructions"]
[null,null,1,"Check the exam time table carefully."]
[null,null,2,"Students must bring the 'Admit Card' and show it to the invigilator(s) on duty and should preserve it for future requirements."]
[null,null,3,"Mobile Phone, Calculator, Digital Watch or any Electronic Device is NOT ALLOWED."]
[null,null,4,"Arrive at the School at least 15 minutes before the start examination."]
[null,null,5,"Student is barred from entering the examination hall 15 minutes after the written examination starts."]
[null,null,6,"Ensure that you use the washroom before arriving for your exam as you will not be permitted to leave during the first hour."]
[null,null,7,"Normally, you are required to answer questionsusing blue or black in . Make sure you bring some spare pens with you."]
[null,null,8,"Keep your eyes on your own paper. Remember, copying is cheating!"]
[null,null,9,"You must remain silent until after you have exited the school building."]
[]
[{"$f":"A2653+1","v":80}]
[null,{"$f":"logo","v":{"$error":"#NAME?"}},null,{"$f":"MASTER!$E$11","v":"Govt. Sr. Secondary School Raimalwada"}]
[{"$nulls":3},{"$f":"MASTER!$E$14","v":"P.S.-Bapini (Phalodi)"}]
[null,{"$f":"CONCATENATE(C2691,'TIME TABLE'!$C$5,'ADMIT CARD'!$C2692,$F2692,'ADMIT CARD'!$G2692,'TIME TABLE'!$E$5)","v":"ADMIT CARD(Roll Number●→0)"},{"$f":"CONCATENATE('TIME TABLE'!$B$2,'TIME TABLE'!$F$2)","v":"TEST-I: (2025-26)"},{"$nulls":5},"Paste latest \nphoto of student"]
[null,null,"ADMIT CARD",{"$nulls":6}," "]
[null,null,"Roll Number",null,null,"●→",{"$f":"VLOOKUP(A2687,'STUDENT DETAIL'!$C$8:$I$107,3)","v":0}]
[null,null,"Student's Name",null,null,"●→",{"$f":"IF(OR(G2692=0,G2692=\"\"),\"\",VLOOKUP(A2687,'STUDENT DETAIL'!$C$8:$I$107,4))","v":""}]
[null,null,"Father's Name",null,null,"●→",{"$f":"IF(OR(G2692=0,G2692=\"\"),\"\",VLOOKUP(A2687,'STUDENT DETAIL'!$C$8:$I$107,5))","v":""},null,"Seal and Signature of Head of Institution"]
[null,null,"Mother's Name ",null,null,"●→",{"$f":"IF(OR(G2692=0,G2692=\"\"),\"\",VLOOKUP(A2687,'STUDENT DETAIL'!$C$8:$I$107,6))","v":""}]
[null,null,"Class & Section",null,null,"●→",{"$f":"IF(OR(G2692=0,G2692=\"\"),\"\",IF('STUDENT DETAIL'!$H$4=\"\",'STUDENT DETAIL'!$E$4,CONCATENATE('STUDENT DETAIL'!$E$4,\"   \",\"(\",'STUDENT DETAIL'!$H$4,\")\")))","v":""}]
[null,null,"Date Of Birth",null,null,"●→",{"$f":"IF(OR(G2692=0,G2692=\"\"),\"\",VLOOKUP(A2687,'STUDENT DETAIL'!$C$8:$I$107,7))","v":""}]
[null,null,"Time Table"]
[null,null,"Date (Day)",null,null,"Subject",null,"Time"]
[null,null,{"$f":"IF('TIME TABLE'!$B$5=\"\",\"\",'TIME TABLE'!$B$5)","v":"2022-03-31"},null,{"$f":"IF(C2700=\"\",\"\",IF(C2700>0,CONCATENATE('TIME TABLE'!$C$5,'TIME TABLE'!$D$5,'TIME TABLE'!$E$5)))","v":"(Thursday)"},{"$f":"IF(C2700=\"\",\"\",'TIME TABLE'!$F$5)","v":"Hindi"},null,{"$f":"IF(F2700=\"\",\"\",'TIME TABLE'!$H$5)","v":"09:00 AM to 11:45 AM"}]
[null,null,{"$f":"IF('TIME TABLE'!$B$6=\"\",\"\",'TIME TABLE'!$B$6)","v":"2022-04-01"},null,{"$f":"IF(C2701=\"\",\"\",IF(C2701>0,CONCATENATE('TIME TABLE'!$C$6,'TIME TABLE'!$D$6,'TIME TABLE'!$E$6)))","v":"(Friday)"},{"$f":"IF(C2701=\"\",\"\",'TIME TABLE'!$F$6)","v":"English"},null,{"$f":"IF(F2701=\"\",\"\",'TIME TABLE'!$H$6)","v":"09:00 AM to 11:45 AM"}]
[null,null,{"$f":"IF('TIME TABLE'!$B$7=\"\",\"\",'TIME TABLE'!$B$7)","v":"2022-04-02"},null,{"$f":"IF(C2702=\"\",\"\",IF(C2702>0,CONCATENATE('TIME TABLE'!$C$7,'TIME TABLE'!$D$7,'TIME TABLE'!$E$7)))","v":"(Saturday)"},{"$f":"IF(C2702=\"\",\"\",'TIME TABLE'!$F$7)","v":"Science"},null,{"$f":"IF(F2702=\"\",\"\",'TIME TABLE'!$H$7)","v":"09:00 AM to 11:45 AM"}]
[null,null,{"$f":"IF('TIME TABLE'!$B$8=\"\",\"\",'TIME TABLE'!$B$8)","v":"2022-04-03"},null,{"$f":"IF(C2703=\"\",\"\",IF(C2703>0,CONCATENATE('TIME TABLE'!$C$8,'TIME TABLE'!$D$8,'TIME TABLE'!$E$8)))","v":"(Sunday)"},{"$f":"IF(C2703=\"\",\"\",'TIME TABLE'!$F$8)","v":"Mathematics"},null,{"$f":"IF(F2703=\"\",\"\",'TIME TABLE'!$H$8)","v":"09:00 AM to 11:45 AM"}]
[null,null,{"$f":"IF('TIME TABLE'!$B$9=\"\",\"\",'TIME TABLE'!$B$9)","v":"2022-04-04"},null,{"$f":"IF(C2704=\"\",\"\",IF(C2704>0,CONCATENATE('TIME TABLE'!$C$9,'TIME TABLE'!$D$9,'TIME TABLE'!$E$9)))","v":"(Monday)"},{"$f":"IF(C2704=\"\",\"\",'TIME TABLE'!$F$9)","v":"Social Study"},null,{"$f":"IF(F2704=\"\",\"\",'TIME TABLE'!$H$9)","v":"09:00 AM to 11:45 AM"}]
[null,null,{"$f":"IF('TIME TABLE'!$B$10=\"\",\"\",'TIME TABLE'!$B$10)","v":"2022-04-05"},null,{"$f":"IF(C2705=\"\",\"\",IF(C2705>0,CONCATENATE('TIME TABLE'!$C$10,'TIME TABLE'!$D$10,'TIME TABLE'!$E$10)))","v":"(Tuesday)"},{"$f":"IF(C2705=\"\",\"\",'TIME TABLE'!$F$10)","v":"Sanskrit"},null,{"$f":"IF(F2705=\"\",\"\",'TIME TABLE'!$H$10)","v":"09:00 AM to 11:45 AM"}]
[null,null,{"$f":"IF('TIME TABLE'!$B$11=\"\",\"\",'TIME TABLE'!$B$11)","v":""},null,{"$f":"IF(C2706=\"\",\"\",IF(C2706>0,CONCATENATE('TIME TABLE'!$C$11,'TIME TABLE'!$D$11,'TIME TABLE'!$E$11)))","v":""},{"$f":"IF(C2706=\"\",\"\",'TIME TABLE'!$F$11)","v":""},null,{"$f":"IF(F2706=\"\",\"\",'TIME TABLE'!$H$11)","v":""}]
[null,null,{"$f":"IF('TIME TABLE'!$B$12=\"\",\"\",'TIME TABLE'!$B$12)","v":""},null,{"$f":"IF(C2707=\"\",\"\",IF(C2707>0,CONCATENATE('TIME TABLE'!$C$12,'TIME TABLE'!$D$12,'TIME TABLE'!$E$12)))","v":""},{"$f":"IF(C2707=\"\",\"\",'TIME TABLE'!$F$12)","v":""},null,{"$f":"IF(C2707=\"\",\"\",'TIME TABLE'!$H$12)","v":""}]
[null,null,{"$f":"IF('TIME TABLE'!$B$13=\"\",\"\",'TIME TABLE'!$B$13)","v":""},null,{"$f":"IF(C2708=\"\",\"\",IF(C2708>0,CONCATENATE('TIME TABLE'!$C$11,'TIME TABLE'!$D$11,'TIME TABLE'!$E$11)))","v":""},{"$f":"IF(C2708=\"\",\"\",'TIME TABLE'!$F$13)","v":""},null,{"$f":"IF(C2708=\"\",\"\",'TIME TABLE'!$H$13)","v":""}]
[null,null,{"$f":"IF('TIME TABLE'!$B$14=\"\",\"\",'TIME TABLE'!$B$14)","v":""},null,{"$f":"IF(C2709=\"\",\"\",IF(C2709>0,CONCATENATE('TIME TABLE'!$C$11,'TIME TABLE'!$D$11,'TIME TABLE'!$E$11)))","v":""},{"$f":"IF(C2709=\"\",\"\",'TIME TABLE'!$F$14)","v":""},null,{"$f":"IF(C2709=\"\",\"\",'TIME TABLE'!$H$14)","v":""}]
[null,null,"Instructions"]
[null,null,1,"Check the exam time table carefully."]
[null,null,2,"Students must bring the 'Admit Card' and show it to the invigilator(s) on duty and should preserve it for future requirements."]
[null,null,3,"Mobile Phone, Calculator, Digital Watch or any Electronic Device is NOT ALLOWED."]
[null,null,4,"Arrive at the School at least 15 minutes before the start examination."]
[null,null,5,"Student is barred from entering the examination hall 15 minutes after the written examination starts."]
[null,null,6,"Ensure that you use the washroom before arriving for your exam as you will not be permitted to leave during the first hour."]
[null,null,7,"Normally, you are required to answer questionsusing blue or black in . Make sure you bring some spare pens with you."]
[null,null,8,"Keep your eyes on your own paper. Remember, copying is cheating!"]
[null,null,9,"You must remain silent until after you have exited the school building."]
[]
[{"$f":"A2687+1","v":81}]
[null,{"$f":"logo","v":{"$error":"#NAME?"}},null,{"$f":"MASTER!$E$11","v":"Govt. Sr. Secondary School Raimalwada"}]
[{"$nulls":3},{"$f":"MASTER!$E$14","v":"P.S.-Bapini (Phalodi)"}]
[null,{"$f":"CONCATENATE(C2725,'TIME TABLE'!$C$5,'ADMIT CARD'!$C2726,$F2726,'ADMIT CARD'!$G2726,'TIME TABLE'!$E$5)","v":"ADMIT CARD(Roll Number●→0)"},{"$f":"CONCATENATE('TIME TABLE'!$B$2,'TIME TABLE'!$F$2)","v":"TEST-I: (2025-26)"},{"$nulls":5},"Paste latest \nphoto of student"]
[null,null,"ADMIT CARD",{"$nulls":6}," "]
[null,null,"Roll Number",null,null,"●→",{"$f":"VLOOKUP(A2721,'STUDENT DETAIL'!$C$8:$I$107,3)","v":0}]
[null,null,"Student's Name",null,null,"●→",{"$f":"IF(OR(G2726=0,G2726=\"\"),\"\",VLOOKUP(A2721,'STUDENT DETAIL'!$C$8:$I$107,4))","v":""}]
[null,null,"Father's Name",null,null,"●→",{"$f":"IF(OR(G2726=0,G2726=\"\"),\"\",VLOOKUP(A2721,'STUDENT DETAIL'!$C$8:$I$107,5))","v":""},null,"Seal and Signature of Head of Institution"]
[null,null,"Mother's Name ",null,null,"●→",{"$f":"IF(OR(G2726=0,G2726=\"\"),\"\",VLOOKUP(A2721,'STUDENT DETAIL'!$C$8:$I$107,6))","v":""}]
[null,null,"Class & Section",null,null,"●→",{"$f":"IF(OR(G2726=0,G2726=\"\"),\"\",IF('STUDENT DETAIL'!$H$4=\"\",'STUDENT DETAIL'!$E$4,CONCATENATE('STUDENT DETAIL'!$E$4,\"   \",\"(\",'STUDENT DETAIL'!$H$4,\")\")))","v":""}]
[null,null,"Date Of Birth",null,null,"●→",{"$f":"IF(OR(G2726=0,G2726=\"\"),\"\",VLOOKUP(A2721,'STUDENT DETAIL'!$C$8:$I$107,7))","v":""}]
[null,null,"Time Table"]
[null,null,"Date (Day)",null,null,"Subject",null,"Time"]
[null,null,{"$f":"IF('TIME TABLE'!$B$5=\"\",\"\",'TIME TABLE'!$B$5)","v":"2022-03-31"},null,{"$f":"IF(C2734=\"\",\"\",IF(C2734>0,CONCATENATE('TIME TABLE'!$C$5,'TIME TABLE'!$D$5,'TIME TABLE'!$E$5)))","v":"(Thursday)"},{"$f":"IF(C2734=\"\",\"\",'TIME TABLE'!$F$5)","v":"Hindi"},null,{"$f":"IF(F2734=\"\",\"\",'TIME TABLE'!$H$5)","v":"09:00 AM to 11:45 AM"}]
[null,null,{"$f":"IF('TIME TABLE'!$B$6=\"\",\"\",'TIME TABLE'!$B$6)","v":"2022-04-01"},null,{"$f":"IF(C2735=\"\",\"\",IF(C2735>0,CONCATENATE('TIME TABLE'!$C$6,'TIME TABLE'!$D$6,'TIME TABLE'!$E$6)))","v":"(Friday)"},{"$f":"IF(C2735=\"\",\"\",'TIME TABLE'!$F$6)","v":"English"},null,{"$f":"IF(F2735=\"\",\"\",'TIME TABLE'!$H$6)","v":"09:00 AM to 11:45 AM"}]
[null,null,{"$f":"IF('TIME TABLE'!$B$7=\"\",\"\",'TIME TABLE'!$B$7)","v":"2022-04-02"},null,{"$f":"IF(C2736=\"\",\"\",IF(C2736>0,CONCATENATE('TIME TABLE'!$C$7,'TIME TABLE'!$D$7,'TIME TABLE'!$E$7)))","v":"(Saturday)"},{"$f":"IF(C2736=\"\",\"\",'TIME TABLE'!$F$7)","v":"Science"},null,{"$f":"IF(F2736=\"\",\"\",'TIME TABLE'!$H$7)","v":"09:00 AM to 11:45 AM"}]
[null,null,{"$f":"IF('TIME TABLE'!$B$8=\"\",\"\",'TIME TABLE'!$B$8)","v":"2022-04-03"},null,{"$f":"IF(C2737=\"\",\"\",IF(C2737>0,CONCATENATE('TIME TABLE'!$C$8,'TIME TABLE'!$D$8,'TIME TABLE'!$E$8)))","v":"(Sunday)"},{"$f":"IF(C2737=\"\",\"\",'TIME TABLE'!$F$8)","v":"Mathematics"},null,{"$f":"IF(F2737=\"\",\"\",'TIME TABLE'!$H$8)","v":"09:00 AM to 11:45 AM"}]
[null,null,{"$f":"IF('TIME TABLE'!$B$9=\"\",\"\",'TIME TABLE'!$B$9)","v":"2022-04-04"},null,{"$f":"IF(C2738=\"\",\"\",IF(C2738>0,CONCATENATE('TIME TABLE'!$C$9,'TIME TABLE'!$D$9,'TIME TABLE'!$E$9)))","v":"(Monday)"},{"$f":"IF(C2738=\"\",\"\",'TIME TABLE'!$F$9)","v":"Social Study"},null,{"$f":"IF(F2738=\"\",\"\",'TIME TABLE'!$H$9)","v":"09:00 AM to 11:45 AM"}]
[null,null,{"$f":"IF('TIME TABLE'!$B$10=\"\",\"\",'TIME TABLE'!$B$10)","v":"2022-04-05"},null,{"$f":"IF(C2739=\"\",\"\",IF(C2739>0,CONCATENATE('TIME TABLE'!$C$10,'TIME TABLE'!$D$10,'TIME TABLE'!$E$10)))","v":"(Tuesday)"},{"$f":"IF(C2739=\"\",\"\",'TIME TABLE'!$F$10)","v":"Sanskrit"},null,{"$f":"IF(F2739=\"\",\"\",'TIME TABLE'!$H$10)","v":"09:00 AM to 11:45 AM"}]
[null,null,{"$f":"IF('TIME TABLE'!$B$11=\"\",\"\",'TIME TABLE'!$B$11)","v":""},null,{"$f":"IF(C2740=\"\",\"\",IF(C2740>0,CONCATENATE('TIME TABLE'!$C$11,'TIME TABLE'!$D$11,'TIME TABLE'!$E$11)))","v":""},{"$f":"IF(C2740=\"\",\"\",'TIME TABLE'!$F$11)","v":""},null,{"$f":"IF(F2740=\"\",\"\",'TIME TABLE'!$H$11)","v":""}]
[null,null,{"$f":"IF('TIME TABLE'!$B$12=\"\",\"\",'TIME TABLE'!$B$12)","v":""},null,{"$f":"IF(C2741=\"\",\"\",IF(C2741>0,CONCATENATE('TIME TABLE'!$C$12,'TIME TABLE'!$D$12,'TIME TABLE'!$E$12)))","v":""},{"$f":"IF(C2741=\"\",\"\",'TIME TABLE'!$F$12)","v":""},null,{"$f":"IF(C2741=\"\",\"\",'TIME TABLE'!$H$12)","v":""}]
[null,null,{"$f":"IF('TIME TABLE'!$B$13=\"\",\"\",'TIME TABLE'!$B$13)","v":""},null,{"$f":"IF(C2742=\"\",\"\",IF(C2742>0,CONCATENATE('TIME TABLE'!$C$11,'TIME TABLE'!$D$11,'TIME TABLE'!$E$11)))","v":""},{"$f":"IF(C2742=\"\",\"\",'TIME TABLE'!$F$13)","v":""},null,{"$f":"IF(C2742=\"\",\"\",'TIME TABLE'!$H$13)","v":""}]
[null,null,{"$f":"IF('TIME TABLE'!$B$14=\"\",\"\",'TIME TABLE'!$B$14)","v":""},null,{"$f":"IF(C2743=\"\",\"\",IF(C2743>0,CONCATENATE('TIME TABLE'!$C$11,'TIME TABLE'!$D$11,'TIME TABLE'!$E$11)))","v":""},{"$f":"IF(C2743=\"\",\"\",'TIME TABLE'!$F$14)","v":""},null,{"$f":"IF(C2743=\"\",\"\",'TIME TABLE'!$H$14)","v":""}]
[null,null,"Instructions"]
[null,null,1,"Check the exam time table carefully."]
[null,null,2,"Students must bring the 'Admit Card' and show it to the invigilator(s) on duty and should preserve it for future requirements."]
[null,null,3,"Mobile Phone, Calculator, Digital Watch or any Electronic Device is NOT ALLOWED."]
[null,null,4,"Arrive at the School at least 15 minutes before the start examination."]
[null,null,5,"Student is barred from entering the examination hall 15 minutes after the written examination starts."]
[null,null,6,"Ensure that you use the washroom before arriving for your exam as you will not be permitted to leave during the first hour."]
[null,null,7,"Normally, you are required to answer questionsusing blue or black in . Make sure you bring some spare pens with you."]
[null,null,8,"Keep your eyes on your own paper. Remember, copying is cheating!"]
[null,null,9,"You must remain silent until after you have exited the school building."]
[]
[{"$f":"A2721+1","v":82}]
[null,{"$f":"logo","v":{"$error":"#NAME?"}},null,{"$f":"MASTER!$E$11","v":"Govt. Sr. Secondary School Raimalwada"}]
[{"$nulls":3},{"$f":"MASTER!$E$14","v":"P.S.-Bapini (Phalodi)"}]
[null,{"$f":"CONCATENATE(C2759,'TIME TABLE'!$C$5,'ADMIT CARD'!$C2760,$F2760,'ADMIT CARD'!$G2760,'TIME TABLE'!$E$5)","v":"ADMIT CARD(Roll Number●→0)"},{"$f":"CONCATENATE('TIME TABLE'!$B$2,'TIME TABLE'!$F$2)","v":"TEST-I: (2025-26)"},{"$nulls":5},"Paste latest \nphoto of student"]
[null,null,"ADMIT CARD",{"$nulls":6}," "]
[null,null,"Roll Number",null,null,"●→",{"$f":"VLOOKUP(A2755,'STUDENT DETAIL'!$C$8:$I$107,3)","v":0}]
[null,null,"Student's Name",null,null,"●→",{"$f":"IF(OR(G2760=0,G2760=\"\"),\"\",VLOOKUP(A2755,'STUDENT DETAIL'!$C$8:$I$107,4))","v":""}]
[null,null,"Father's Name",null,null,"●→",{"$f":"IF(OR(G2760=0,G2760=\"\"),\"\",VLOOKUP(A2755,'STUDENT DETAIL'!$C$8:$I$107,5))","v":""},null,"Seal and Signature of Head of Institution"]
[null,null,"Mother's Name ",null,null,"●→",{"$f":"IF(OR(G2760=0,G2760=\"\"),\"\",VLOOKUP(A2755,'STUDENT DETAIL'!$C$8:$I$107,6))","v":""}]
[null,null,"Class & Section",null,null,"●→",{"$f":"IF(OR(G2760=0,G2760=\"\"),\"\",IF('STUDENT DETAIL'!$H$4=\"\",'STUDENT DETAIL'!$E$4,CONCATENATE('STUDENT DETAIL'!$E$4,\"   \",\"(\",'STUDENT DETAIL'!$H$4,\")\")))","v":""}]
[null,null,"Date Of Birth",null,null,"●→",{"$f":"IF(OR(G2760=0,G2760=\"\"),\"\",VLOOKUP(A2755,'STUDENT DETAIL'!$C$8:$I$107,7))","v":""}]
[null,null,"Time Table"]
[null,null,"Date (Day)",null,null,"Subject",null,"Time"]
[null,null,{"$f":"IF('TIME TABLE'!$B$5=\"\",\"\",'TIME TABLE'!$B$5)","v":"2022-03-31"},null,{"$f":"IF(C2768=\"\",\"\",IF(C2768>0,CONCATENATE('TIME TABLE'!$C$5,'TIME TABLE'!$D$5,'TIME TABLE'!$E$5)))","v":"(Thursday)"},{"$f":"IF(C2768=\"\",\"\",'TIME TABLE'!$F$5)","v":"Hindi"},null,{"$f":"IF(F2768=\"\",\"\",'TIME TABLE'!$H$5)","v":"09:00 AM to 11:45 AM"}]
[null,null,{"$f":"IF('TIME TABLE'!$B$6=\"\",\"\",'TIME TABLE'!$B$6)","v":"2022-04-01"},null,{"$f":"IF(C2769=\"\",\"\",IF(C2769>0,CONCATENATE('TIME TABLE'!$C$6,'TIME TABLE'!$D$6,'TIME TABLE'!$E$6)))","v":"(Friday)"},{"$f":"IF(C2769=\"\",\"\",'TIME TABLE'!$F$6)","v":"English"},null,{"$f":"IF(F2769=\"\",\"\",'TIME TABLE'!$H$6)","v":"09:00 AM to 11:45 AM"}]
[null,null,{"$f":"IF('TIME TABLE'!$B$7=\"\",\"\",'TIME TABLE'!$B$7)","v":"2022-04-02"},null,{"$f":"IF(C2770=\"\",\"\",IF(C2770>0,CONCATENATE('TIME TABLE'!$C$7,'TIME TABLE'!$D$7,'TIME TABLE'!$E$7)))","v":"(Saturday)"},{"$f":"IF(C2770=\"\",\"\",'TIME TABLE'!$F$7)","v":"Science"},null,{"$f":"IF(F2770=\"\",\"\",'TIME TABLE'!$H$7)","v":"09:00 AM to 11:45 AM"}]
[null,null,{"$f":"IF('TIME TABLE'!$B$8=\"\",\"\",'TIME TABLE'!$B$8)","v":"2022-04-03"},null,{"$f":"IF(C2771=\"\",\"\",IF(C2771>0,CONCATENATE('TIME TABLE'!$C$8,'TIME TABLE'!$D$8,'TIME TABLE'!$E$8)))","v":"(Sunday)"},{"$f":"IF(C2771=\"\",\"\",'TIME TABLE'!$F$8)","v":"Mathematics"},null,{"$f":"IF(F2771=\"\",\"\",'TIME TABLE'!$H$8)","v":"09:00 AM to 11:45 AM"}]
[null,null,{"$f":"IF('TIME TABLE'!$B$9=\"\",\"\",'TIME TABLE'!$B$9)","v":"2022-04-04"},null,{"$f":"IF(C2772=\"\",\"\",IF(C2772>0,CONCATENATE('TIME TABLE'!$C$9,'TIME TABLE'!$D$9,'TIME TABLE'!$E$9)))","v":"(Monday)"},{"$f":"IF(C2772=\"\",\"\",'TIME TABLE'!$F$9)","v":"Social Study"},null,{"$f":"IF(F2772=\"\",\"\",'TIME TABLE'!$H$9)","v":"09:00 AM to 11:45 AM"}]
[null,null,{"$f":"IF('TIME TABLE'!$B$10=\"\",\"\",'TIME TABLE'!$B$10)","v":"2022-04-05"},null,{"$f":"IF(C2773=\"\",\"\",IF(C2773>0,CONCATENATE('TIME TABLE'!$C$10,'TIME TABLE'!$D$10,'TIME TABLE'!$E$10)))","v":"(Tuesday)"},{"$f":"IF(C2773=\"\",\"\",'TIME TABLE'!$F$10)","v":"Sanskrit"},null,{"$f":"IF(F2773=\"\",\"\",'TIME TABLE'!$H$10)","v":"09:00 AM to 11:45 AM"}]
[null,null,{"$f":"IF('TIME TABLE'!$B$11=\"\",\"\",'TIME TABLE'!$B$11)","v":""},null,{"$f":"IF(C2774=\"\",\"\",IF(C2774>0,CONCATENATE('TIME TABLE'!$C$11,'TIME TABLE'!$D$11,'TIME TABLE'!$E$11)))","v":""},{"$f":"IF(C2774=\"\",\"\",'TIME TABLE'!$F$11)","v":""},null,{"$f":"IF(F2774=\"\",\"\",'TIME TABLE'!$H$11)","v":""}]
[null,null,{"$f":"IF('TIME TABLE'!$B$12=\"\",\"\",'TIME TABLE'!$B$12)","v":""},null,{"$f":"IF(C2775=\"\",\"\",IF(C2775>0,CONCATENATE('TIME TABLE'!$C$12,'TIME TABLE'!$D$12,'TIME TABLE'!$E$12)))","v":""},{"$f":"IF(C2775=\"\",\"\",'TIME TABLE'!$F$12)","v":""},null,{"$f":"IF(C2775=\"\",\"\",'TIME TABLE'!$H$12)","v":""}]
[null,null,{"$f":"IF('TIME TABLE'!$B$13=\"\",\"\",'TIME TABLE'!$B$13)","v":""},null,{"$f":"IF(C2776=\"\",\"\",IF(C2776>0,CONCATENATE('TIME TABLE'!$C$11,'TIME TABLE'!$D$11,'TIME TABLE'!$E$11)))","v":""},{"$f":"IF(C2776=\"\",\"\",'TIME TABLE'!$F$13)","v":""},null,{"$f":"IF(C2776=\"\",\"\",'TIME TABLE'!$H$13)","v":""}]
[null,null,{"$f":"IF('TIME TABLE'!$B$14=\"\",\"\",'TIME TABLE'!$B$14)","v":""},null,{"$f":"IF(C2777=\"\",\"\",IF(C2777>0,CONCATENATE('TIME TABLE'!$C$11,'TIME TABLE'!$D$11,'TIME TABLE'!$E$11)))","v":""},{"$f":"IF(C2777=\"\",\"\",'TIME TABLE'!$F$14)","v":""},null,{"$f":"IF(C2777=\"\",\"\",'TIME TABLE'!$H$14)","v":""}]
[null,null,"Instructions"]
[null,null,1,"Check the exam time table carefully."]
[null,null,2,"Students must bring the 'Admit Card' and show it to the invigilator(s) on duty and should preserve it for future requirements."]
[null,null,3,"Mobile Phone, Calculator, Digital Watch or any Electronic Device is NOT ALLOWED."]
[null,null,4,"Arrive at the School at least 15 minutes before the start examination."]
[null,null,5,"Student is barred from entering the examination hall 15 minutes after the written examination starts."]
[null,null,6,"Ensure that you use the washroom before arriving for your exam as you will not be permitted to leave during the first hour."]
[null,null,7,"Normally, you are required to answer questionsusing blue or black in . Make sure you bring some spare pens with you."]
[null,null,8,"Keep your eyes on your own paper. Remember, copying is cheating!"]
[null,null,9,"You must remain silent until after you have exited the school building."]
[]
[{"$f":"A2755+1","v":83}]
[null,{"$f":"logo","v":{"$error":"#NAME?"}},null,{"$f":"MASTER!$E$11","v":"Govt. Sr. Secondary School Raimalwada"}]
[{"$nulls":3},{"$f":"MASTER!$E$14","v":"P.S.-Bapini (Phalodi)"}]
[null,{"$f":"CONCATENATE(C2793,'TIME TABLE'!$C$5,'ADMIT CARD'!$C2794,$F2794,'ADMIT CARD'!$G2794,'TIME TABLE'!$E$5)","v":"ADMIT CARD(Roll Number●→0)"},{"$f":"CONCATENATE('TIME TABLE'!$B$2,'TIME TABLE'!$F$2)","v":"TEST-I: (2025-26)"},{"$nulls":5},"Paste latest \nphoto of student"]
[null,null,"ADMIT CARD",{"$nulls":6}," "]
[null,null,"Roll Number",null,null,"●→",{"$f":"VLOOKUP(A2789,'STUDENT DETAIL'!$C$8:$I$107,3)","v":0}]
[null,null,"Student's Name",null,null,"●→",{"$f":"IF(OR(G2794=0,G2794=\"\"),\"\",VLOOKUP(A2789,'STUDENT DETAIL'!$C$8:$I$107,4))","v":""}]
[null,null,"Father's Name",null,null,"●→",{"$f":"IF(OR(G2794=0,G2794=\"\"),\"\",VLOOKUP(A2789,'STUDENT DETAIL'!$C$8:$I$107,5))","v":""},null,"Seal and Signature of Head of Institution"]
[null,null,"Mother's Name ",null,null,"●→",{"$f":"IF(OR(G2794=0,G2794=\"\"),\"\",VLOOKUP(A2789,'STUDENT DETAIL'!$C$8:$I$107,6))","v":""}]
[null,null,"Class & Section",null,null,"●→",{"$f":"IF(OR(G2794=0,G2794=\"\"),\"\",IF('STUDENT DETAIL'!$H$4=\"\",'STUDENT DETAIL'!$E$4,CONCATENATE('STUDENT DETAIL'!$E$4,\"   \",\"(\",'STUDENT DETAIL'!$H$4,\")\")))","v":""}]
[null,null,"Date Of Birth",null,null,"●→",{"$f":"IF(OR(G2794=0,G2794=\"\"),\"\",VLOOKUP(A2789,'STUDENT DETAIL'!$C$8:$I$107,7))","v":""}]
[null,null,"Time Table"]
[null,null,"Date (Day)",null,null,"Subject",null,"Time"]
[null,null,{"$f":"IF('TIME TABLE'!$B$5=\"\",\"\",'TIME TABLE'!$B$5)","v":"2022-03-31"},null,{"$f":"IF(C2802=\"\",\"\",IF(C2802>0,CONCATENATE('TIME TABLE'!$C$5,'TIME TABLE'!$D$5,'TIME TABLE'!$E$5)))","v":"(Thursday)"},{"$f":"IF(C2802=\"\",\"\",'TIME TABLE'!$F$5)","v":"Hindi"},null,{"$f":"IF(F2802=\"\",\"\",'TIME TABLE'!$H$5)","v":"09:00 AM to 11:45 AM"}]
[null,null,{"$f":"IF('TIME TABLE'!$B$6=\"\",\"\",'TIME TABLE'!$B$6)","v":"2022-04-01"},null,{"$f":"IF(C2803=\"\",\"\",IF(C2803>0,CONCATENATE('TIME TABLE'!$C$6,'TIME TABLE'!$D$6,'TIME TABLE'!$E$6)))","v":"(Friday)"},{"$f":"IF(C2803=\"\",\"\",'TIME TABLE'!$F$6)","v":"English"},null,{"$f":"IF(F2803=\"\",\"\",'TIME TABLE'!$H$6)","v":"09:00 AM to 11:45 AM"}]
[null,null,{"$f":"IF('TIME TABLE'!$B$7=\"\",\"\",'TIME TABLE'!$B$7)","v":"2022-04-02"},null,{"$f":"IF(C2804=\"\",\"\",IF(C2804>0,CONCATENATE('TIME TABLE'!$C$7,'TIME TABLE'!$D$7,'TIME TABLE'!$E$7)))","v":"(Saturday)"},{"$f":"IF(C2804=\"\",\"\",'TIME TABLE'!$F$7)","v":"Science"},null,{"$f":"IF(F2804=\"\",\"\",'TIME TABLE'!$H$7)","v":"09:00 AM to 11:45 AM"}]
[null,null,{"$f":"IF('TIME TABLE'!$B$8=\"\",\"\",'TIME TABLE'!$B$8)","v":"2022-04-03"},null,{"$f":"IF(C2805=\"\",\"\",IF(C2805>0,CONCATENATE('TIME TABLE'!$C$8,'TIME TABLE'!$D$8,'TIME TABLE'!$E$8)))","v":"(Sunday)"},{"$f":"IF(C2805=\"\",\"\",'TIME TABLE'!$F$8)","v":"Mathematics"},null,{"$f":"IF(F2805=\"\",\"\",'TIME TABLE'!$H$8)","v":"09:00 AM to 11:45 AM"}]
[null,null,{"$f":"IF('TIME TABLE'!$B$9=\"\",\"\",'TIME TABLE'!$B$9)","v":"2022-04-04"},null,{"$f":"IF(C2806=\"\",\"\",IF(C2806>0,CONCATENATE('TIME TABLE'!$C$9,'TIME TABLE'!$D$9,'TIME TABLE'!$E$9)))","v":"(Monday)"},{"$f":"IF(C2806=\"\",\"\",'TIME TABLE'!$F$9)","v":"Social Study"},null,{"$f":"IF(F2806=\"\",\"\",'TIME TABLE'!$H$9)","v":"09:00 AM to 11:45 AM"}]
[null,null,{"$f":"IF('TIME TABLE'!$B$10=\"\",\"\",'TIME TABLE'!$B$10)","v":"2022-04-05"},null,{"$f":"IF(C2807=\"\",\"\",IF(C2807>0,CONCATENATE('TIME TABLE'!$C$10,'TIME TABLE'!$D$10,'TIME TABLE'!$E$10)))","v":"(Tuesday)"},{"$f":"IF(C2807=\"\",\"\",'TIME TABLE'!$F$10)","v":"Sanskrit"},null,{"$f":"IF(F2807=\"\",\"\",'TIME TABLE'!$H$10)","v":"09:00 AM to 11:45 AM"}]
[null,null,{"$f":"IF('TIME TABLE'!$B$11=\"\",\"\",'TIME TABLE'!$B$11)","v":""},null,{"$f":"IF(C2808=\"\",\"\",IF(C2808>0,CONCATENATE('TIME TABLE'!$C$11,'TIME TABLE'!$D$11,'TIME TABLE'!$E$11)))","v":""},{"$f":"IF(C2808=\"\",\"\",'TIME TABLE'!$F$11)","v":""},null,{"$f":"IF(F2808=\"\",\"\",'TIME TABLE'!$H$11)","v":""}]
[null,null,{"$f":"IF('TIME TABLE'!$B$12=\"\",\"\",'TIME TABLE'!$B$12)","v":""},null,{"$f":"IF(C2809=\"\",\"\",IF(C2809>0,CONCATENATE('TIME TABLE'!$C$12,'TIME TABLE'!$D$12,'TIME TABLE'!$E$12)))","v":""},{"$f":"IF(C2809=\"\",\"\",'TIME TABLE'!$F$12)","v":""},null,{"$f":"IF(C2809=\"\",\"\",'TIME TABLE'!$H$12)","v":""}]
[null,null,{"$f":"IF('TIME TABLE'!$B$13=\"\",\"\",'TIME TABLE'!$B$13)","v":""},null,{"$f":"IF(C2810=\"\",\"\",IF(C2810>0,CONCATENATE('TIME TABLE'!$C$11,'TIME TABLE'!$D$11,'TIME TABLE'!$E$11)))","v":""},{"$f":"IF(C2810=\"\",\"\",'TIME TABLE'!$F$13)","v":""},null,{"$f":"IF(C2810=\"\",\"\",'TIME TABLE'!$H$13)","v":""}]
[null,null,{"$f":"IF('TIME TABLE'!$B$14=\"\",\"\",'TIME TABLE'!$B$14)","v":""},null,{"$f":"IF(C2811=\"\",\"\",IF(C2811>0,CONCATENATE('TIME TABLE'!$C$11,'TIME TABLE'!$D$11,'TIME TABLE'!$E$11)))","v":""},{"$f":"IF(C2811=\"\",\"\",'TIME TABLE'!$F$14)","v":""},null,{"$f":"IF(C2811=\"\",\"\",'TIME TABLE'!$H$14)","v":""}]
[null,null,"Instructions"]
[null,null,1,"Check the exam time table carefully."]
[null,null,2,"Students must bring the 'Admit Card' and show it to the invigilator(s) on duty and should preserve it for future requirements."]
[null,null,3,"Mobile Phone, Calculator, Digital Watch or any Electronic Device is NOT ALLOWED."]
[null,null,4,"Arrive at the School at least 15 minutes before the start examination."]
[null,null,5,"Student is barred from entering the examination hall 15 minutes after the written examination starts."]
[null,null,6,"Ensure that you use the washroom before arriving for your exam as you will not be permitted to leave during the first hour."]
[null,null,7,"Normally, you are required to answer questionsusing blue or black in . Make sure you bring some spare pens with you."]
[null,null,8,"Keep your eyes on your own paper. Remember, copying is cheating!"]
[null,null,9,"You must remain silent until after you have exited the school building."]
[]
[{"$f":"A2789+1","v":84}]
[null,{"$f":"logo","v":{"$error":"#NAME?"}},null,{"$f":"MASTER!$E$11","v":"Govt. Sr. Secondary School Raimalwada"}]
[{"$nulls":3},{"$f":"MASTER!$E$14","v":"P.S.-Bapini (Phalodi)"}]
[null,{"$f":"CONCATENATE(C2827,'TIME TABLE'!$C$5,'ADMIT CARD'!$C2828,$F2828,'ADMIT CARD'!$G2828,'TIME TABLE'!$E$5)","v":"ADMIT CARD(Roll Number●→0)"},{"$f":"CONCATENATE('TIME TABLE'!$B$2,'TIME TABLE'!$F$2)","v":"TEST-I: (2025-26)"},{"$nulls":5},"Paste latest \nphoto of student"]
[null,null,"ADMIT CARD",{"$nulls":6}," "]
[null,null,"Roll Number",null,null,"●→",{"$f":"VLOOKUP(A2823,'STUDENT DETAIL'!$C$8:$I$107,3)","v":0}]
[null,null,"Student's Name",null,null,"●→",{"$f":"IF(OR(G2828=0,G2828=\"\"),\"\",VLOOKUP(A2823,'STUDENT DETAIL'!$C$8:$I$107,4))","v":""}]
[null,null,"Father's Name",null,null,"●→",{"$f":"IF(OR(G2828=0,G2828=\"\"),\"\",VLOOKUP(A2823,'STUDENT DETAIL'!$C$8:$I$107,5))","v":""},null,"Seal and Signature of Head of Institution"]
[null,null,"Mother's Name ",null,null,"●→",{"$f":"IF(OR(G2828=0,G2828=\"\"),\"\",VLOOKUP(A2823,'STUDENT DETAIL'!$C$8:$I$107,6))","v":""}]
[null,null,"Class & Section",null,null,"●→",{"$f":"IF(OR(G2828=0,G2828=\"\"),\"\",IF('STUDENT DETAIL'!$H$4=\"\",'STUDENT DETAIL'!$E$4,CONCATENATE('STUDENT DETAIL'!$E$4,\"   \",\"(\",'STUDENT DETAIL'!$H$4,\")\")))","v":""}]
[null,null,"Date Of Birth",null,null,"●→",{"$f":"IF(OR(G2828=0,G2828=\"\"),\"\",VLOOKUP(A2823,'STUDENT DETAIL'!$C$8:$I$107,7))","v":""}]
[null,null,"Time Table"]
[null,null,"Date (Day)",null,null,"Subject",null,"Time"]
[null,null,{"$f":"IF('TIME TABLE'!$B$5=\"\",\"\",'TIME TABLE'!$B$5)","v":"2022-03-31"},null,{"$f":"IF(C2836=\"\",\"\",IF(C2836>0,CONCATENATE('TIME TABLE'!$C$5,'TIME TABLE'!$D$5,'TIME TABLE'!$E$5)))","v":"(Thursday)"},{"$f":"IF(C2836=\"\",\"\",'TIME TABLE'!$F$5)","v":"Hindi"},null,{"$f":"IF(F2836=\"\",\"\",'TIME TABLE'!$H$5)","v":"09:00 AM to 11:45 AM"}]
[null,null,{"$f":"IF('TIME TABLE'!$B$6=\"\",\"\",'TIME TABLE'!$B$6)","v":"2022-04-01"},null,{"$f":"IF(C2837=\"\",\"\",IF(C2837>0,CONCATENATE('TIME TABLE'!$C$6,'TIME TABLE'!$D$6,'TIME TABLE'!$E$6)))","v":"(Friday)"},{"$f":"IF(C2837=\"\",\"\",'TIME TABLE'!$F$6)","v":"English"},null,{"$f":"IF(F2837=\"\",\"\",'TIME TABLE'!$H$6)","v":"09:00 AM to 11:45 AM"}]
[null,null,{"$f":"IF('TIME TABLE'!$B$7=\"\",\"\",'TIME TABLE'!$B$7)","v":"2022-04-02"},null,{"$f":"IF(C2838=\"\",\"\",IF(C2838>0,CONCATENATE('TIME TABLE'!$C$7,'TIME TABLE'!$D$7,'TIME TABLE'!$E$7)))","v":"(Saturday)"},{"$f":"IF(C2838=\"\",\"\",'TIME TABLE'!$F$7)","v":"Science"},null,{"$f":"IF(F2838=\"\",\"\",'TIME TABLE'!$H$7)","v":"09:00 AM to 11:45 AM"}]
[null,null,{"$f":"IF('TIME TABLE'!$B$8=\"\",\"\",'TIME TABLE'!$B$8)","v":"2022-04-03"},null,{"$f":"IF(C2839=\"\",\"\",IF(C2839>0,CONCATENATE('TIME TABLE'!$C$8,'TIME TABLE'!$D$8,'TIME TABLE'!$E$8)))","v":"(Sunday)"},{"$f":"IF(C2839=\"\",\"\",'TIME TABLE'!$F$8)","v":"Mathematics"},null,{"$f":"IF(F2839=\"\",\"\",'TIME TABLE'!$H$8)","v":"09:00 AM to 11:45 AM"}]
[null,null,{"$f":"IF('TIME TABLE'!$B$9=\"\",\"\",'TIME TABLE'!$B$9)","v":"2022-04-04"},null,{"$f":"IF(C2840=\"\",\"\",IF(C2840>0,CONCATENATE('TIME TABLE'!$C$9,'TIME TABLE'!$D$9,'TIME TABLE'!$E$9)))","v":"(Monday)"},{"$f":"IF(C2840=\"\",\"\",'TIME TABLE'!$F$9)","v":"Social Study"},null,{"$f":"IF(F2840=\"\",\"\",'TIME TABLE'!$H$9)","v":"09:00 AM to 11:45 AM"}]
[null,null,{"$f":"IF('TIME TABLE'!$B$10=\"\",\"\",'TIME TABLE'!$B$10)","v":"2022-04-05"},null,{"$f":"IF(C2841=\"\",\"\",IF(C2841>0,CONCATENATE('TIME TABLE'!$C$10,'TIME TABLE'!$D$10,'TIME TABLE'!$E$10)))","v":"(Tuesday)"},{"$f":"IF(C2841=\"\",\"\",'TIME TABLE'!$F$10)","v":"Sanskrit"},null,{"$f":"IF(F2841=\"\",\"\",'TIME TABLE'!$H$10)","v":"09:00 AM to 11:45 AM"}]
[null,null,{"$f":"IF('TIME TABLE'!$B$11=\"\",\"\",'TIME TABLE'!$B$11)","v":""},null,{"$f":"IF(C2842=\"\",\"\",IF(C2842>0,CONCATENATE('TIME TABLE'!$C$11,'TIME TABLE'!$D$11,'TIME TABLE'!$E$11)))","v":""},{"$f":"IF(C2842=\"\",\"\",'TIME TABLE'!$F$11)","v":""},null,{"$f":"IF(F2842=\"\",\"\",'TIME TABLE'!$H$11)","v":""}]
[null,null,{"$f":"IF('TIME TABLE'!$B$12=\"\",\"\",'TIME TABLE'!$B$12)","v":""},null,{"$f":"IF(C2843=\"\",\"\",IF(C2843>0,CONCATENATE('TIME TABLE'!$C$12,'TIME TABLE'!$D$12,'TIME TABLE'!$E$12)))","v":""},{"$f":"IF(C2843=\"\",\"\",'TIME TABLE'!$F$12)","v":""},null,{"$f":"IF(C2843=\"\",\"\",'TIME TABLE'!$H$12)","v":""}]
[null,null,{"$f":"IF('TIME TABLE'!$B$13=\"\",\"\",'TIME TABLE'!$B$13)","v":""},null,{"$f":"IF(C2844=\"\",\"\",IF(C2844>0,CONCATENATE('TIME TABLE'!$C$11,'TIME TABLE'!$D$11,'TIME TABLE'!$E$11)))","v":""},{"$f":"IF(C2844=\"\",\"\",'TIME TABLE'!$F$13)","v":""},null,{"$f":"IF(C2844=\"\",\"\",'TIME TABLE'!$H$13)","v":""}]
[null,null,{"$f":"IF('TIME TABLE'!$B$14=\"\",\"\",'TIME TABLE'!$B$14)","v":""},null,{"$f":"IF(C2845=\"\",\"\",IF(C2845>0,CONCATENATE('TIME TABLE'!$C$11,'TIME TABLE'!$D$11,'TIME TABLE'!$E$11)))","v":""},{"$f":"IF(C2845=\"\",\"\",'TIME TABLE'!$F$14)","v":""},null,{"$f":"IF(C2845=\"\",\"\",'TIME TABLE'!$H$14)","v":""}]
[null,null,"Instructions"]
[null,null,1,"Check the exam time table carefully."]
[null,null,2,"Students must bring the 'Admit Card' and show it to the invigilator(s) on duty and should preserve it for future requirements."]
[null,null,3,"Mobile Phone, Calculator, Digital Watch or any Electronic Device is NOT ALLOWED."]
[null,null,4,"Arrive at the School at least 15 minutes before the start examination."]
[null,null,5,"Student is barred from entering the examination hall 15 minutes after the written examination starts."]
[null,null,6,"Ensure that you use the washroom before arriving for your exam as you will not be permitted to leave during the first hour."]
[null,null,7,"Normally, you are required to answer questionsusing blue or black in . Make sure you bring some spare pens with you."]
[null,null,8,"Keep your eyes on your own paper. Remember, copying is cheating!"]
[null,null,9,"You must remain silent until after you have exited the school building."]
[]
[{"$f":"A2823+1","v":85}]
[null,{"$f":"logo","v":{"$error":"#NAME?"}},null,{"$f":"MASTER!$E$11","v":"Govt. Sr. Secondary School Raimalwada"}]
[{"$nulls":3},{"$f":"MASTER!$E$14","v":"P.S.-Bapini (Phalodi)"}]
[null,{"$f":"CONCATENATE(C2861,'TIME TABLE'!$C$5,'ADMIT CARD'!$C2862,$F2862,'ADMIT CARD'!$G2862,'TIME TABLE'!$E$5)","v":"ADMIT CARD(Roll Number●→0)"},{"$f":"CONCATENATE('TIME TABLE'!$B$2,'TIME TABLE'!$F$2)","v":"TEST-I: (2025-26)"},{"$nulls":5},"Paste latest \nphoto of student"]
[null,null,"ADMIT CARD",{"$nulls":6}," "]
[null,null,"Roll Number",null,null,"●→",{"$f":"VLOOKUP(A2857,'STUDENT DETAIL'!$C$8:$I$107,3)","v":0}]
[null,null,"Student's Name",null,null,"●→",{"$f":"IF(OR(G2862=0,G2862=\"\"),\"\",VLOOKUP(A2857,'STUDENT DETAIL'!$C$8:$I$107,4))","v":""}]
[null,null,"Father's Name",null,null,"●→",{"$f":"IF(OR(G2862=0,G2862=\"\"),\"\",VLOOKUP(A2857,'STUDENT DETAIL'!$C$8:$I$107,5))","v":""},null,"Seal and Signature of Head of Institution"]
[null,null,"Mother's Name ",null,null,"●→",{"$f":"IF(OR(G2862=0,G2862=\"\"),\"\",VLOOKUP(A2857,'STUDENT DETAIL'!$C$8:$I$107,6))","v":""}]
[null,null,"Class & Section",null,null,"●→",{"$f":"IF(OR(G2862=0,G2862=\"\"),\"\",IF('STUDENT DETAIL'!$H$4=\"\",'STUDENT DETAIL'!$E$4,CONCATENATE('STUDENT DETAIL'!$E$4,\"   \",\"(\",'STUDENT DETAIL'!$H$4,\")\")))","v":""}]
[null,null,"Date Of Birth",null,null,"●→",{"$f":"IF(OR(G2862=0,G2862=\"\"),\"\",VLOOKUP(A2857,'STUDENT DETAIL'!$C$8:$I$107,7))","v":""}]
[null,null,"Time Table"]
[null,null,"Date (Day)",null,null,"Subject",null,"Time"]
[null,null,{"$f":"IF('TIME TABLE'!$B$5=\"\",\"\",'TIME TABLE'!$B$5)","v":"2022-03-31"},null,{"$f":"IF(C2870=\"\",\"\",IF(C2870>0,CONCATENATE('TIME TABLE'!$C$5,'TIME TABLE'!$D$5,'TIME TABLE'!$E$5)))","v":"(Thursday)"},{"$f":"IF(C2870=\"\",\"\",'TIME TABLE'!$F$5)","v":"Hindi"},null,{"$f":"IF(F2870=\"\",\"\",'TIME TABLE'!$H$5)","v":"09:00 AM to 11:45 AM"}]
[null,null,{"$f":"IF('TIME TABLE'!$B$6=\"\",\"\",'TIME TABLE'!$B$6)","v":"2022-04-01"},null,{"$f":"IF(C2871=\"\",\"\",IF(C2871>0,CONCATENATE('TIME TABLE'!$C$6,'TIME TABLE'!$D$6,'TIME TABLE'!$E$6)))","v":"(Friday)"},{"$f":"IF(C2871=\"\",\"\",'TIME TABLE'!$F$6)","v":"English"},null,{"$f":"IF(F2871=\"\",\"\",'TIME TABLE'!$H$6)","v":"09:00 AM to 11:45 AM"}]
[null,null,{"$f":"IF('TIME TABLE'!$B$7=\"\",\"\",'TIME TABLE'!$B$7)","v":"2022-04-02"},null,{"$f":"IF(C2872=\"\",\"\",IF(C2872>0,CONCATENATE('TIME TABLE'!$C$7,'TIME TABLE'!$D$7,'TIME TABLE'!$E$7)))","v":"(Saturday)"},{"$f":"IF(C2872=\"\",\"\",'TIME TABLE'!$F$7)","v":"Science"},null,{"$f":"IF(F2872=\"\",\"\",'TIME TABLE'!$H$7)","v":"09:00 AM to 11:45 AM"}]
[null,null,{"$f":"IF('TIME TABLE'!$B$8=\"\",\"\",'TIME TABLE'!$B$8)","v":"2022-04-03"},null,{"$f":"IF(C2873=\"\",\"\",IF(C2873>0,CONCATENATE('TIME TABLE'!$C$8,'TIME TABLE'!$D$8,'TIME TABLE'!$E$8)))","v":"(Sunday)"},{"$f":"IF(C2873=\"\",\"\",'TIME TABLE'!$F$8)","v":"Mathematics"},null,{"$f":"IF(F2873=\"\",\"\",'TIME TABLE'!$H$8)","v":"09:00 AM to 11:45 AM"}]
[null,null,{"$f":"IF('TIME TABLE'!$B$9=\"\",\"\",'TIME TABLE'!$B$9)","v":"2022-04-04"},null,{"$f":"IF(C2874=\"\",\"\",IF(C2874>0,CONCATENATE('TIME TABLE'!$C$9,'TIME TABLE'!$D$9,'TIME TABLE'!$E$9)))","v":"(Monday)"},{"$f":"IF(C2874=\"\",\"\",'TIME TABLE'!$F$9)","v":"Social Study"},null,{"$f":"IF(F2874=\"\",\"\",'TIME TABLE'!$H$9)","v":"09:00 AM to 11:45 AM"}]
[null,null,{"$f":"IF('TIME TABLE'!$B$10=\"\",\"\",'TIME TABLE'!$B$10)","v":"2022-04-05"},null,{"$f":"IF(C2875=\"\",\"\",IF(C2875>0,CONCATENATE('TIME TABLE'!$C$10,'TIME TABLE'!$D$10,'TIME TABLE'!$E$10)))","v":"(Tuesday)"},{"$f":"IF(C2875=\"\",\"\",'TIME TABLE'!$F$10)","v":"Sanskrit"},null,{"$f":"IF(F2875=\"\",\"\",'TIME TABLE'!$H$10)","v":"09:00 AM to 11:45 AM"}]
[null,null,{"$f":"IF('TIME TABLE'!$B$11=\"\",\"\",'TIME TABLE'!$B$11)","v":""},null,{"$f":"IF(C2876=\"\",\"\",IF(C2876>0,CONCATENATE('TIME TABLE'!$C$11,'TIME TABLE'!$D$11,'TIME TABLE'!$E$11)))","v":""},{"$f":"IF(C2876=\"\",\"\",'TIME TABLE'!$F$11)","v":""},null,{"$f":"IF(F2876=\"\",\"\",'TIME TABLE'!$H$11)","v":""}]
[null,null,{"$f":"IF('TIME TABLE'!$B$12=\"\",\"\",'TIME TABLE'!$B$12)","v":""},null,{"$f":"IF(C2877=\"\",\"\",IF(C2877>0,CONCATENATE('TIME TABLE'!$C$12,'TIME TABLE'!$D$12,'TIME TABLE'!$E$12)))","v":""},{"$f":"IF(C2877=\"\",\"\",'TIME TABLE'!$F$12)","v":""},null,{"$f":"IF(C2877=\"\",\"\",'TIME TABLE'!$H$12)","v":""}]
[null,null,{"$f":"IF('TIME TABLE'!$B$13=\"\",\"\",'TIME TABLE'!$B$13)","v":""},null,{"$f":"IF(C2878=\"\",\"\",IF(C2878>0,CONCATENATE('TIME TABLE'!$C$11,'TIME TABLE'!$D$11,'TIME TABLE'!$E$11)))","v":""},{"$f":"IF(C2878=\"\",\"\",'TIME TABLE'!$F$13)","v":""},null,{"$f":"IF(C2878=\"\",\"\",'TIME TABLE'!$H$13)","v":""}]
[null,null,{"$f":"IF('TIME TABLE'!$B$14=\"\",\"\",'TIME TABLE'!$B$14)","v":""},null,{"$f":"IF(C2879=\"\",\"\",IF(C2879>0,CONCATENATE('TIME TABLE'!$C$11,'TIME TABLE'!$D$11,'TIME TABLE'!$E$11)))","v":""},{"$f":"IF(C2879=\"\",\"\",'TIME TABLE'!$F$14)","v":""},null,{"$f":"IF(C2879=\"\",\"\",'TIME TABLE'!$H$14)","v":""}]
[null,null,"Instructions"]
[null,null,1,"Check the exam time table carefully."]
[null,null,2,"Students must bring the 'Admit Card' and show it to the invigilator(s) on duty and should preserve it for future requirements."]
[null,null,3,"Mobile Phone, Calculator, Digital Watch or any Electronic Device is NOT ALLOWED."]
[null,null,4,"Arrive at the School at least 15 minutes before the start examination."]
[null,null,5,"Student is barred from entering the examination hall 15 minutes after the written examination starts."]
[null,null,6,"Ensure that you use the washroom before arriving for your exam as you will not be permitted to leave during the first hour."]
[null,null,7,"Normally, you are required to answer questionsusing blue or black in . Make sure you bring some spare pens with you."]
[null,null,8,"Keep your eyes on your own paper. Remember, copying is cheating!"]
[null,null,9,"You must remain silent until after you have exited the school building."]
[]
[{"$f":"A2857+1","v":86}]
[null,{"$f":"logo","v":{"$error":"#NAME?"}},null,{"$f":"MASTER!$E$11","v":"Govt. Sr. Secondary School Raimalwada"}]
[{"$nulls":3},{"$f":"MASTER!$E$14","v":"P.S.-Bapini (Phalodi)"}]
[null,{"$f":"CONCATENATE(C2895,'TIME TABLE'!$C$5,'ADMIT CARD'!$C2896,$F2896,'ADMIT CARD'!$G2896,'TIME TABLE'!$E$5)","v":"ADMIT CARD(Roll Number●→0)"},{"$f":"CONCATENATE('TIME TABLE'!$B$2,'TIME TABLE'!$F$2)","v":"TEST-I: (2025-26)"},{"$nulls":5},"Paste latest \nphoto of student"]
[null,null,"ADMIT CARD",{"$nulls":6}," "]
[null,null,"Roll Number",null,null,"●→",{"$f":"VLOOKUP(A2891,'STUDENT DETAIL'!$C$8:$I$107,3)","v":0}]
[null,null,"Student's Name",null,null,"●→",{"$f":"IF(OR(G2896=0,G2896=\"\"),\"\",VLOOKUP(A2891,'STUDENT DETAIL'!$C$8:$I$107,4))","v":""}]
[null,null,"Father's Name",null,null,"●→",{"$f":"IF(OR(G2896=0,G2896=\"\"),\"\",VLOOKUP(A2891,'STUDENT DETAIL'!$C$8:$I$107,5))","v":""},null,"Seal and Signature of Head of Institution"]
[null,null,"Mother's Name ",null,null,"●→",{"$f":"IF(OR(G2896=0,G2896=\"\"),\"\",VLOOKUP(A2891,'STUDENT DETAIL'!$C$8:$I$107,6))","v":""}]
[null,null,"Class & Section",null,null,"●→",{"$f":"IF(OR(G2896=0,G2896=\"\"),\"\",IF('STUDENT DETAIL'!$H$4=\"\",'STUDENT DETAIL'!$E$4,CONCATENATE('STUDENT DETAIL'!$E$4,\"   \",\"(\",'STUDENT DETAIL'!$H$4,\")\")))","v":""}]
[null,null,"Date Of Birth",null,null,"●→",{"$f":"IF(OR(G2896=0,G2896=\"\"),\"\",VLOOKUP(A2891,'STUDENT DETAIL'!$C$8:$I$107,7))","v":""}]
[null,null,"Time Table"]
[null,null,"Date (Day)",null,null,"Subject",null,"Time"]
[null,null,{"$f":"IF('TIME TABLE'!$B$5=\"\",\"\",'TIME TABLE'!$B$5)","v":"2022-03-31"},null,{"$f":"IF(C2904=\"\",\"\",IF(C2904>0,CONCATENATE('TIME TABLE'!$C$5,'TIME TABLE'!$D$5,'TIME TABLE'!$E$5)))","v":"(Thursday)"},{"$f":"IF(C2904=\"\",\"\",'TIME TABLE'!$F$5)","v":"Hindi"},null,{"$f":"IF(F2904=\"\",\"\",'TIME TABLE'!$H$5)","v":"09:00 AM to 11:45 AM"}]
[null,null,{"$f":"IF('TIME TABLE'!$B$6=\"\",\"\",'TIME TABLE'!$B$6)","v":"2022-04-01"},null,{"$f":"IF(C2905=\"\",\"\",IF(C2905>0,CONCATENATE('TIME TABLE'!$C$6,'TIME TABLE'!$D$6,'TIME TABLE'!$E$6)))","v":"(Friday)"},{"$f":"IF(C2905=\"\",\"\",'TIME TABLE'!$F$6)","v":"English"},null,{"$f":"IF(F2905=\"\",\"\",'TIME TABLE'!$H$6)","v":"09:00 AM to 11:45 AM"}]
[null,null,{"$f":"IF('TIME TABLE'!$B$7=\"\",\"\",'TIME TABLE'!$B$7)","v":"2022-04-02"},null,{"$f":"IF(C2906=\"\",\"\",IF(C2906>0,CONCATENATE('TIME TABLE'!$C$7,'TIME TABLE'!$D$7,'TIME TABLE'!$E$7)))","v":"(Saturday)"},{"$f":"IF(C2906=\"\",\"\",'TIME TABLE'!$F$7)","v":"Science"},null,{"$f":"IF(F2906=\"\",\"\",'TIME TABLE'!$H$7)","v":"09:00 AM to 11:45 AM"}]
[null,null,{"$f":"IF('TIME TABLE'!$B$8=\"\",\"\",'TIME TABLE'!$B$8)","v":"2022-04-03"},null,{"$f":"IF(C2907=\"\",\"\",IF(C2907>0,CONCATENATE('TIME TABLE'!$C$8,'TIME TABLE'!$D$8,'TIME TABLE'!$E$8)))","v":"(Sunday)"},{"$f":"IF(C2907=\"\",\"\",'TIME TABLE'!$F$8)","v":"Mathematics"},null,{"$f":"IF(F2907=\"\",\"\",'TIME TABLE'!$H$8)","v":"09:00 AM to 11:45 AM"}]
[null,null,{"$f":"IF('TIME TABLE'!$B$9=\"\",\"\",'TIME TABLE'!$B$9)","v":"2022-04-04"},null,{"$f":"IF(C2908=\"\",\"\",IF(C2908>0,CONCATENATE('TIME TABLE'!$C$9,'TIME TABLE'!$D$9,'TIME TABLE'!$E$9)))","v":"(Monday)"},{"$f":"IF(C2908=\"\",\"\",'TIME TABLE'!$F$9)","v":"Social Study"},null,{"$f":"IF(F2908=\"\",\"\",'TIME TABLE'!$H$9)","v":"09:00 AM to 11:45 AM"}]
[null,null,{"$f":"IF('TIME TABLE'!$B$10=\"\",\"\",'TIME TABLE'!$B$10)","v":"2022-04-05"},null,{"$f":"IF(C2909=\"\",\"\",IF(C2909>0,CONCATENATE('TIME TABLE'!$C$10,'TIME TABLE'!$D$10,'TIME TABLE'!$E$10)))","v":"(Tuesday)"},{"$f":"IF(C2909=\"\",\"\",'TIME TABLE'!$F$10)","v":"Sanskrit"},null,{"$f":"IF(F2909=\"\",\"\",'TIME TABLE'!$H$10)","v":"09:00 AM to 11:45 AM"}]
[null,null,{"$f":"IF('TIME TABLE'!$B$11=\"\",\"\",'TIME TABLE'!$B$11)","v":""},null,{"$f":"IF(C2910=\"\",\"\",IF(C2910>0,CONCATENATE('TIME TABLE'!$C$11,'TIME TABLE'!$D$11,'TIME TABLE'!$E$11)))","v":""},{"$f":"IF(C2910=\"\",\"\",'TIME TABLE'!$F$11)","v":""},null,{"$f":"IF(F2910=\"\",\"\",'TIME TABLE'!$H$11)","v":""}]
[null,null,{"$f":"IF('TIME TABLE'!$B$12=\"\",\"\",'TIME TABLE'!$B$12)","v":""},null,{"$f":"IF(C2911=\"\",\"\",IF(C2911>0,CONCATENATE('TIME TABLE'!$C$12,'TIME TABLE'!$D$12,'TIME TABLE'!$E$12)))","v":""},{"$f":"IF(C2911=\"\",\"\",'TIME TABLE'!$F$12)","v":""},null,{"$f":"IF(C2911=\"\",\"\",'TIME TABLE'!$H$12)","v":""}]
[null,null,{"$f":"IF('TIME TABLE'!$B$13=\"\",\"\",'TIME TABLE'!$B$13)","v":""},null,{"$f":"IF(C2912=\"\",\"\",IF(C2912>0,CONCATENATE('TIME TABLE'!$C$11,'TIME TABLE'!$D$11,'TIME TABLE'!$E$11)))","v":""},{"$f":"IF(C2912=\"\",\"\",'TIME TABLE'!$F$13)","v":""},null,{"$f":"IF(C2912=\"\",\"\",'TIME TABLE'!$H$13)","v":""}]
[null,null,{"$f":"IF('TIME TABLE'!$B$14=\"\",\"\",'TIME TABLE'!$B$14)","v":""},null,{"$f":"IF(C2913=\"\",\"\",IF(C2913>0,CONCATENATE('TIME TABLE'!$C$11,'TIME TABLE'!$D$11,'TIME TABLE'!$E$11)))","v":""},{"$f":"IF(C2913=\"\",\"\",'TIME TABLE'!$F$14)","v":""},null,{"$f":"IF(C2913=\"\",\"\",'TIME TABLE'!$H$14)","v":""}]
[null,null,"Instructions"]
[null,null,1,"Check the exam time table carefully."]
[null,null,2,"Students must bring the 'Admit Card' and show it to the invigilator(s) on duty and should preserve it for future requirements."]
[null,null,3,"Mobile Phone, Calculator, Digital Watch or any Electronic Device is NOT ALLOWED."]
[null,null,4,"Arrive at the School at least 15 minutes before the start examination."]
[null,null,5,"Student is barred from entering the examination hall 15 minutes after the written examination starts."]
[null,null,6,"Ensure that you use the washroom before arriving for your exam as you will not be permitted to leave during the first hour."]
[null,null,7,"Normally, you are required to answer questionsusing blue or black in . Make sure you bring some spare pens with you."]
[null,null,8,"Keep your eyes on your own paper. Remember, copying is cheating!"]
[null,null,9,"You must remain silent until after you have exited the school building."]
[]
[{"$f":"A2891+1","v":87}]
[null,{"$f":"logo","v":{"$error":"#NAME?"}},null,{"$f":"MASTER!$E$11","v":"Govt. Sr. Secondary School Raimalwada"}]
[{"$nulls":3},{"$f":"MASTER!$E$14","v":"P.S.-Bapini (Phalodi)"}]
[null,{"$f":"CONCATENATE(C2929,'TIME TABLE'!$C$5,'ADMIT CARD'!$C2930,$F2930,'ADMIT CARD'!$G2930,'TIME TABLE'!$E$5)","v":"ADMIT CARD(Roll Number●→0)"},{"$f":"CONCATENATE('TIME TABLE'!$B$2,'TIME TABLE'!$F$2)","v":"TEST-I: (2025-26)"},{"$nulls":5},"Paste latest \nphoto of student"]
[null,null,"ADMIT CARD",{"$nulls":6}," "]
[null,null,"Roll Number",null,null,"●→",{"$f":"VLOOKUP(A2925,'STUDENT DETAIL'!$C$8:$I$107,3)","v":0}]
[null,null,"Student's Name",null,null,"●→",{"$f":"IF(OR(G2930=0,G2930=\"\"),\"\",VLOOKUP(A2925,'STUDENT DETAIL'!$C$8:$I$107,4))","v":""}]
[null,null,"Father's Name",null,null,"●→",{"$f":"IF(OR(G2930=0,G2930=\"\"),\"\",VLOOKUP(A2925,'STUDENT DETAIL'!$C$8:$I$107,5))","v":""},null,"Seal and Signature of Head of Institution"]
[null,null,"Mother's Name ",null,null,"●→",{"$f":"IF(OR(G2930=0,G2930=\"\"),\"\",VLOOKUP(A2925,'STUDENT DETAIL'!$C$8:$I$107,6))","v":""}]
[null,null,"Class & Section",null,null,"●→",{"$f":"IF(OR(G2930=0,G2930=\"\"),\"\",IF('STUDENT DETAIL'!$H$4=\"\",'STUDENT DETAIL'!$E$4,CONCATENATE('STUDENT DETAIL'!$E$4,\"   \",\"(\",'STUDENT DETAIL'!$H$4,\")\")))","v":""}]
[null,null,"Date Of Birth",null,null,"●→",{"$f":"IF(OR(G2930=0,G2930=\"\"),\"\",VLOOKUP(A2925,'STUDENT DETAIL'!$C$8:$I$107,7))","v":""}]
[null,null,"Time Table"]
[null,null,"Date (Day)",null,null,"Subject",null,"Time"]
[null,null,{"$f":"IF('TIME TABLE'!$B$5=\"\",\"\",'TIME TABLE'!$B$5)","v":"2022-03-31"},null,{"$f":"IF(C2938=\"\",\"\",IF(C2938>0,CONCATENATE('TIME TABLE'!$C$5,'TIME TABLE'!$D$5,'TIME TABLE'!$E$5)))","v":"(Thursday)"},{"$f":"IF(C2938=\"\",\"\",'TIME TABLE'!$F$5)","v":"Hindi"},null,{"$f":"IF(F2938=\"\",\"\",'TIME TABLE'!$H$5)","v":"09:00 AM to 11:45 AM"}]
[null,null,{"$f":"IF('TIME TABLE'!$B$6=\"\",\"\",'TIME TABLE'!$B$6)","v":"2022-04-01"},null,{"$f":"IF(C2939=\"\",\"\",IF(C2939>0,CONCATENATE('TIME TABLE'!$C$6,'TIME TABLE'!$D$6,'TIME TABLE'!$E$6)))","v":"(Friday)"},{"$f":"IF(C2939=\"\",\"\",'TIME TABLE'!$F$6)","v":"English"},null,{"$f":"IF(F2939=\"\",\"\",'TIME TABLE'!$H$6)","v":"09:00 AM to 11:45 AM"}]
[null,null,{"$f":"IF('TIME TABLE'!$B$7=\"\",\"\",'TIME TABLE'!$B$7)","v":"2022-04-02"},null,{"$f":"IF(C2940=\"\",\"\",IF(C2940>0,CONCATENATE('TIME TABLE'!$C$7,'TIME TABLE'!$D$7,'TIME TABLE'!$E$7)))","v":"(Saturday)"},{"$f":"IF(C2940=\"\",\"\",'TIME TABLE'!$F$7)","v":"Science"},null,{"$f":"IF(F2940=\"\",\"\",'TIME TABLE'!$H$7)","v":"09:00 AM to 11:45 AM"}]
[null,null,{"$f":"IF('TIME TABLE'!$B$8=\"\",\"\",'TIME TABLE'!$B$8)","v":"2022-04-03"},null,{"$f":"IF(C2941=\"\",\"\",IF(C2941>0,CONCATENATE('TIME TABLE'!$C$8,'TIME TABLE'!$D$8,'TIME TABLE'!$E$8)))","v":"(Sunday)"},{"$f":"IF(C2941=\"\",\"\",'TIME TABLE'!$F$8)","v":"Mathematics"},null,{"$f":"IF(F2941=\"\",\"\",'TIME TABLE'!$H$8)","v":"09:00 AM to 11:45 AM"}]
[null,null,{"$f":"IF('TIME TABLE'!$B$9=\"\",\"\",'TIME TABLE'!$B$9)","v":"2022-04-04"},null,{"$f":"IF(C2942=\"\",\"\",IF(C2942>0,CONCATENATE('TIME TABLE'!$C$9,'TIME TABLE'!$D$9,'TIME TABLE'!$E$9)))","v":"(Monday)"},{"$f":"IF(C2942=\"\",\"\",'TIME TABLE'!$F$9)","v":"Social Study"},null,{"$f":"IF(F2942=\"\",\"\",'TIME TABLE'!$H$9)","v":"09:00 AM to 11:45 AM"}]
[null,null,{"$f":"IF('TIME TABLE'!$B$10=\"\",\"\",'TIME TABLE'!$B$10)","v":"2022-04-05"},null,{"$f":"IF(C2943=\"\",\"\",IF(C2943>0,CONCATENATE('TIME TABLE'!$C$10,'TIME TABLE'!$D$10,'TIME TABLE'!$E$10)))","v":"(Tuesday)"},{"$f":"IF(C2943=\"\",\"\",'TIME TABLE'!$F$10)","v":"Sanskrit"},null,{"$f":"IF(F2943=\"\",\"\",'TIME TABLE'!$H$10)","v":"09:00 AM to 11:45 AM"}]
[null,null,{"$f":"IF('TIME TABLE'!$B$11=\"\",\"\",'TIME TABLE'!$B$11)","v":""},null,{"$f":"IF(C2944=\"\",\"\",IF(C2944>0,CONCATENATE('TIME TABLE'!$C$11,'TIME TABLE'!$D$11,'TIME TABLE'!$E$11)))","v":""},{"$f":"IF(C2944=\"\",\"\",'TIME TABLE'!$F$11)","v":""},null,{"$f":"IF(F2944=\"\",\"\",'TIME TABLE'!$H$11)","v":""}]
[null,null,{"$f":"IF('TIME TABLE'!$B$12=\"\",\"\",'TIME TABLE'!$B$12)","v":""},null,{"$f":"IF(C2945=\"\",\"\",IF(C2945>0,CONCATENATE('TIME TABLE'!$C$12,'TIME TABLE'!$D$12,'TIME TABLE'!$E$12)))","v":""},{"$f":"IF(C2945=\"\",\"\",'TIME TABLE'!$F$12)","v":""},null,{"$f":"IF(C2945=\"\",\"\",'TIME TABLE'!$H$12)","v":""}]
[null,null,{"$f":"IF('TIME TABLE'!$B$13=\"\",\"\",'TIME TABLE'!$B$13)","v":""},null,{"$f":"IF(C2946=\"\",\"\",IF(C2946>0,CONCATENATE('TIME TABLE'!$C$11,'TIME TABLE'!$D$11,'TIME TABLE'!$E$11)))","v":""},{"$f":"IF(C2946=\"\",\"\",'TIME TABLE'!$F$13)","v":""},null,{"$f":"IF(C2946=\"\",\"\",'TIME TABLE'!$H$13)","v":""}]
[null,null,{"$f":"IF('TIME TABLE'!$B$14=\"\",\"\",'TIME TABLE'!$B$14)","v":""},null,{"$f":"IF(C2947=\"\",\"\",IF(C2947>0,CONCATENATE('TIME TABLE'!$C$11,'TIME TABLE'!$D$11,'TIME TABLE'!$E$11)))","v":""},{"$f":"IF(C2947=\"\",\"\",'TIME TABLE'!$F$14)","v":""},null,{"$f":"IF(C2947=\"\",\"\",'TIME TABLE'!$H$14)","v":""}]
[null,null,"Instructions"]
[null,null,1,"Check the exam time table carefully."]
[null,null,2,"Students must bring the 'Admit Card' and show it to the invigilator(s) on duty and should preserve it for future requirements."]
[null,null,3,"Mobile Phone, Calculator, Digital Watch or any Electronic Device is NOT ALLOWED."]
[null,null,4,"Arrive at the School at least 15 minutes before the start examination."]
[null,null,5,"Student is barred from entering the examination hall 15 minutes after the written examination starts."]
[null,null,6,"Ensure that you use the washroom before arriving for your exam as you will not be permitted to leave during the first hour."]
[null,null,7,"Normally, you are required to answer questionsusing blue or black in . Make sure you bring some spare pens with you."]
[null,null,8,"Keep your eyes on your own paper. Remember, copying is cheating!"]
[null,null,9,"You must remain silent until after you have exited the school building."]
[]
[{"$f":"A2925+1","v":88}]
[null,{"$f":"logo","v":{"$error":"#NAME?"}},null,{"$f":"MASTER!$E$11","v":"Govt. Sr. Secondary School Raimalwada"}]
[{"$nulls":3},{"$f":"MASTER!$E$14","v":"P.S.-Bapini (Phalodi)"}]
[null,{"$f":"CONCATENATE(C2963,'TIME TABLE'!$C$5,'ADMIT CARD'!$C2964,$F2964,'ADMIT CARD'!$G2964,'TIME TABLE'!$E$5)","v":"ADMIT CARD(Roll Number●→0)"},{"$f":"CONCATENATE('TIME TABLE'!$B$2,'TIME TABLE'!$F$2)","v":"TEST-I: (2025-26)"},{"$nulls":5},"Paste latest \nphoto of student"]
[null,null,"ADMIT CARD",{"$nulls":6}," "]
[null,null,"Roll Number",null,null,"●→",{"$f":"VLOOKUP(A2959,'STUDENT DETAIL'!$C$8:$I$107,3)","v":0}]
[null,null,"Student's Name",null,null,"●→",{"$f":"IF(OR(G2964=0,G2964=\"\"),\"\",VLOOKUP(A2959,'STUDENT DETAIL'!$C$8:$I$107,4))","v":""}]
[null,null,"Father's Name",null,null,"●→",{"$f":"IF(OR(G2964=0,G2964=\"\"),\"\",VLOOKUP(A2959,'STUDENT DETAIL'!$C$8:$I$107,5))","v":""},null,"Seal and Signature of Head of Institution"]
[null,null,"Mother's Name ",null,null,"●→",{"$f":"IF(OR(G2964=0,G2964=\"\"),\"\",VLOOKUP(A2959,'STUDENT DETAIL'!$C$8:$I$107,6))","v":""}]
[null,null,"Class & Section",null,null,"●→",{"$f":"IF(OR(G2964=0,G2964=\"\"),\"\",IF('STUDENT DETAIL'!$H$4=\"\",'STUDENT DETAIL'!$E$4,CONCATENATE('STUDENT DETAIL'!$E$4,\"   \",\"(\",'STUDENT DETAIL'!$H$4,\")\")))","v":""}]
[null,null,"Date Of Birth",null,null,"●→",{"$f":"IF(OR(G2964=0,G2964=\"\"),\"\",VLOOKUP(A2959,'STUDENT DETAIL'!$C$8:$I$107,7))","v":""}]
[null,null,"Time Table"]
[null,null,"Date (Day)",null,null,"Subject",null,"Time"]
[null,null,{"$f":"IF('TIME TABLE'!$B$5=\"\",\"\",'TIME TABLE'!$B$5)","v":"2022-03-31"},null,{"$f":"IF(C2972=\"\",\"\",IF(C2972>0,CONCATENATE('TIME TABLE'!$C$5,'TIME TABLE'!$D$5,'TIME TABLE'!$E$5)))","v":"(Thursday)"},{"$f":"IF(C2972=\"\",\"\",'TIME TABLE'!$F$5)","v":"Hindi"},null,{"$f":"IF(F2972=\"\",\"\",'TIME TABLE'!$H$5)","v":"09:00 AM to 11:45 AM"}]
[null,null,{"$f":"IF('TIME TABLE'!$B$6=\"\",\"\",'TIME TABLE'!$B$6)","v":"2022-04-01"},null,{"$f":"IF(C2973=\"\",\"\",IF(C2973>0,CONCATENATE('TIME TABLE'!$C$6,'TIME TABLE'!$D$6,'TIME TABLE'!$E$6)))","v":"(Friday)"},{"$f":"IF(C2973=\"\",\"\",'TIME TABLE'!$F$6)","v":"English"},null,{"$f":"IF(F2973=\"\",\"\",'TIME TABLE'!$H$6)","v":"09:00 AM to 11:45 AM"}]
[null,null,{"$f":"IF('TIME TABLE'!$B$7=\"\",\"\",'TIME TABLE'!$B$7)","v":"2022-04-02"},null,{"$f":"IF(C2974=\"\",\"\",IF(C2974>0,CONCATENATE('TIME TABLE'!$C$7,'TIME TABLE'!$D$7,'TIME TABLE'!$E$7)))","v":"(Saturday)"},{"$f":"IF(C2974=\"\",\"\",'TIME TABLE'!$F$7)","v":"Science"},null,{"$f":"IF(F2974=\"\",\"\",'TIME TABLE'!$H$7)","v":"09:00 AM to 11:45 AM"}]
[null,null,{"$f":"IF('TIME TABLE'!$B$8=\"\",\"\",'TIME TABLE'!$B$8)","v":"2022-04-03"},null,{"$f":"IF(C2975=\"\",\"\",IF(C2975>0,CONCATENATE('TIME TABLE'!$C$8,'TIME TABLE'!$D$8,'TIME TABLE'!$E$8)))","v":"(Sunday)"},{"$f":"IF(C2975=\"\",\"\",'TIME TABLE'!$F$8)","v":"Mathematics"},null,{"$f":"IF(F2975=\"\",\"\",'TIME TABLE'!$H$8)","v":"09:00 AM to 11:45 AM"}]
[null,null,{"$f":"IF('TIME TABLE'!$B$9=\"\",\"\",'TIME TABLE'!$B$9)","v":"2022-04-04"},null,{"$f":"IF(C2976=\"\",\"\",IF(C2976>0,CONCATENATE('TIME TABLE'!$C$9,'TIME TABLE'!$D$9,'TIME TABLE'!$E$9)))","v":"(Monday)"},{"$f":"IF(C2976=\"\",\"\",'TIME TABLE'!$F$9)","v":"Social Study"},null,{"$f":"IF(F2976=\"\",\"\",'TIME TABLE'!$H$9)","v":"09:00 AM to 11:45 AM"}]
[null,null,{"$f":"IF('TIME TABLE'!$B$10=\"\",\"\",'TIME TABLE'!$B$10)","v":"2022-04-05"},null,{"$f":"IF(C2977=\"\",\"\",IF(C2977>0,CONCATENATE('TIME TABLE'!$C$10,'TIME TABLE'!$D$10,'TIME TABLE'!$E$10)))","v":"(Tuesday)"},{"$f":"IF(C2977=\"\",\"\",'TIME TABLE'!$F$10)","v":"Sanskrit"},null,{"$f":"IF(F2977=\"\",\"\",'TIME TABLE'!$H$10)","v":"09:00 AM to 11:45 AM"}]
[null,null,{"$f":"IF('TIME TABLE'!$B$11=\"\",\"\",'TIME TABLE'!$B$11)","v":""},null,{"$f":"IF(C2978=\"\",\"\",IF(C2978>0,CONCATENATE('TIME TABLE'!$C$11,'TIME TABLE'!$D$11,'TIME TABLE'!$E$11)))","v":""},{"$f":"IF(C2978=\"\",\"\",'TIME TABLE'!$F$11)","v":""},null,{"$f":"IF(F2978=\"\",\"\",'TIME TABLE'!$H$11)","v":""}]
[null,null,{"$f":"IF('TIME TABLE'!$B$12=\"\",\"\",'TIME TABLE'!$B$12)","v":""},null,{"$f":"IF(C2979=\"\",\"\",IF(C2979>0,CONCATENATE('TIME TABLE'!$C$12,'TIME TABLE'!$D$12,'TIME TABLE'!$E$12)))","v":""},{"$f":"IF(C2979=\"\",\"\",'TIME TABLE'!$F$12)","v":""},null,{"$f":"IF(C2979=\"\",\"\",'TIME TABLE'!$H$12)","v":""}]
[null,null,{"$f":"IF('TIME TABLE'!$B$13=\"\",\"\",'TIME TABLE'!$B$13)","v":""},null,{"$f":"IF(C2980=\"\",\"\",IF(C2980>0,CONCATENATE('TIME TABLE'!$C$11,'TIME TABLE'!$D$11,'TIME TABLE'!$E$11)))","v":""},{"$f":"IF(C2980=\"\",\"\",'TIME TABLE'!$F$13)","v":""},null,{"$f":"IF(C2980=\"\",\"\",'TIME TABLE'!$H$13)","v":""}]
[null,null,{"$f":"IF('TIME TABLE'!$B$14=\"\",\"\",'TIME TABLE'!$B$14)","v":""},null,{"$f":"IF(C2981=\"\",\"\",IF(C2981>0,CONCATENATE('TIME TABLE'!$C$11,'TIME TABLE'!$D$11,'TIME TABLE'!$E$11)))","v":""},{"$f":"IF(C2981=\"\",\"\",'TIME TABLE'!$F$14)","v":""},null,{"$f":"IF(C2981=\"\",\"\",'TIME TABLE'!$H$14)","v":""}]
[null,null,"Instructions"]
[null,null,1,"Check the exam time table carefully."]
[null,null,2,"Students must bring the 'Admit Card' and show it to the invigilator(s) on duty and should preserve it for future requirements."]
[null,null,3,"Mobile Phone, Calculator, Digital Watch or any Electronic Device is NOT ALLOWED."]
[null,null,4,"Arrive at the School at least 15 minutes before the start examination."]
[null,null,5,"Student is barred from entering the examination hall 15 minutes after the written examination starts."]
[null,null,6,"Ensure that you use the washroom before arriving for your exam as you will not be permitted to leave during the first hour."]
[null,null,7,"Normally, you are required to answer questionsusing blue or black in . Make sure you bring some spare pens with you."]
[null,null,8,"Keep your eyes on your own paper. Remember, copying is cheating!"]
[null,null,9,"You must remain silent until after you have exited the school building."]
[]
[{"$f":"A2959+1","v":89}]
[null,{"$f":"logo","v":{"$error":"#NAME?"}},null,{"$f":"MASTER!$E$11","v":"Govt. Sr. Secondary School Raimalwada"}]
[{"$nulls":3},{"$f":"MASTER!$E$14","v":"P.S.-Bapini (Phalodi)"}]
[null,{"$f":"CONCATENATE(C2997,'TIME TABLE'!$C$5,'ADMIT CARD'!$C2998,$F2998,'ADMIT CARD'!$G2998,'TIME TABLE'!$E$5)","v":"ADMIT CARD(Roll Number●→0)"},{"$f":"CONCATENATE('TIME TABLE'!$B$2,'TIME TABLE'!$F$2)","v":"TEST-I: (2025-26)"},{"$nulls":5},"Paste latest \nphoto of student"]
[null,null,"ADMIT CARD",{"$nulls":6}," "]
[null,null,"Roll Number",null,null,"●→",{"$f":"VLOOKUP(A2993,'STUDENT DETAIL'!$C$8:$I$107,3)","v":0}]
[null,null,"Student's Name",null,null,"●→",{"$f":"IF(OR(G2998=0,G2998=\"\"),\"\",VLOOKUP(A2993,'STUDENT DETAIL'!$C$8:$I$107,4))","v":""}]
[null,null,"Father's Name",null,null,"●→",{"$f":"IF(OR(G2998=0,G2998=\"\"),\"\",VLOOKUP(A2993,'STUDENT DETAIL'!$C$8:$I$107,5))","v":""},null,"Seal and Signature of Head of Institution"]
[null,null,"Mother's Name ",null,null,"●→",{"$f":"IF(OR(G2998=0,G2998=\"\"),\"\",VLOOKUP(A2993,'STUDENT DETAIL'!$C$8:$I$107,6))","v":""}]
[null,null,"Class & Section",null,null,"●→",{"$f":"IF(OR(G2998=0,G2998=\"\"),\"\",IF('STUDENT DETAIL'!$H$4=\"\",'STUDENT DETAIL'!$E$4,CONCATENATE('STUDENT DETAIL'!$E$4,\"   \",\"(\",'STUDENT DETAIL'!$H$4,\")\")))","v":""}]
[null,null,"Date Of Birth",null,null,"●→",{"$f":"IF(OR(G2998=0,G2998=\"\"),\"\",VLOOKUP(A2993,'STUDENT DETAIL'!$C$8:$I$107,7))","v":""}]
[null,null,"Time Table"]
[null,null,"Date (Day)",null,null,"Subject",null,"Time"]
[null,null,{"$f":"IF('TIME TABLE'!$B$5=\"\",\"\",'TIME TABLE'!$B$5)","v":"2022-03-31"},null,{"$f":"IF(C3006=\"\",\"\",IF(C3006>0,CONCATENATE('TIME TABLE'!$C$5,'TIME TABLE'!$D$5,'TIME TABLE'!$E$5)))","v":"(Thursday)"},{"$f":"IF(C3006=\"\",\"\",'TIME TABLE'!$F$5)","v":"Hindi"},null,{"$f":"IF(F3006=\"\",\"\",'TIME TABLE'!$H$5)","v":"09:00 AM to 11:45 AM"}]
[null,null,{"$f":"IF('TIME TABLE'!$B$6=\"\",\"\",'TIME TABLE'!$B$6)","v":"2022-04-01"},null,{"$f":"IF(C3007=\"\",\"\",IF(C3007>0,CONCATENATE('TIME TABLE'!$C$6,'TIME TABLE'!$D$6,'TIME TABLE'!$E$6)))","v":"(Friday)"},{"$f":"IF(C3007=\"\",\"\",'TIME TABLE'!$F$6)","v":"English"},null,{"$f":"IF(F3007=\"\",\"\",'TIME TABLE'!$H$6)","v":"09:00 AM to 11:45 AM"}]
[null,null,{"$f":"IF('TIME TABLE'!$B$7=\"\",\"\",'TIME TABLE'!$B$7)","v":"2022-04-02"},null,{"$f":"IF(C3008=\"\",\"\",IF(C3008>0,CONCATENATE('TIME TABLE'!$C$7,'TIME TABLE'!$D$7,'TIME TABLE'!$E$7)))","v":"(Saturday)"},{"$f":"IF(C3008=\"\",\"\",'TIME TABLE'!$F$7)","v":"Science"},null,{"$f":"IF(F3008=\"\",\"\",'TIME TABLE'!$H$7)","v":"09:00 AM to 11:45 AM"}]
[null,null,{"$f":"IF('TIME TABLE'!$B$8=\"\",\"\",'TIME TABLE'!$B$8)","v":"2022-04-03"},null,{"$f":"IF(C3009=\"\",\"\",IF(C3009>0,CONCATENATE('TIME TABLE'!$C$8,'TIME TABLE'!$D$8,'TIME TABLE'!$E$8)))","v":"(Sunday)"},{"$f":"IF(C3009=\"\",\"\",'TIME TABLE'!$F$8)","v":"Mathematics"},null,{"$f":"IF(F3009=\"\",\"\",'TIME TABLE'!$H$8)","v":"09:00 AM to 11:45 AM"}]
[null,null,{"$f":"IF('TIME TABLE'!$B$9=\"\",\"\",'TIME TABLE'!$B$9)","v":"2022-04-04"},null,{"$f":"IF(C3010=\"\",\"\",IF(C3010>0,CONCATENATE('TIME TABLE'!$C$9,'TIME TABLE'!$D$9,'TIME TABLE'!$E$9)))","v":"(Monday)"},{"$f":"IF(C3010=\"\",\"\",'TIME TABLE'!$F$9)","v":"Social Study"},null,{"$f":"IF(F3010=\"\",\"\",'TIME TABLE'!$H$9)","v":"09:00 AM to 11:45 AM"}]
[null,null,{"$f":"IF('TIME TABLE'!$B$10=\"\",\"\",'TIME TABLE'!$B$10)","v":"2022-04-05"},null,{"$f":"IF(C3011=\"\",\"\",IF(C3011>0,CONCATENATE('TIME TABLE'!$C$10,'TIME TABLE'!$D$10,'TIME TABLE'!$E$10)))","v":"(Tuesday)"},{"$f":"IF(C3011=\"\",\"\",'TIME TABLE'!$F$10)","v":"Sanskrit"},null,{"$f":"IF(F3011=\"\",\"\",'TIME TABLE'!$H$10)","v":"09:00 AM to 11:45 AM"}]
[null,null,{"$f":"IF('TIME TABLE'!$B$11=\"\",\"\",'TIME TABLE'!$B$11)","v":""},null,{"$f":"IF(C3012=\"\",\"\",IF(C3012>0,CONCATENATE('TIME TABLE'!$C$11,'TIME TABLE'!$D$11,'TIME TABLE'!$E$11)))","v":""},{"$f":"IF(C3012=\"\",\"\",'TIME TABLE'!$F$11)","v":""},null,{"$f":"IF(F3012=\"\",\"\",'TIME TABLE'!$H$11)","v":""}]
[null,null,{"$f":"IF('TIME TABLE'!$B$12=\"\",\"\",'TIME TABLE'!$B$12)","v":""},null,{"$f":"IF(C3013=\"\",\"\",IF(C3013>0,CONCATENATE('TIME TABLE'!$C$12,'TIME TABLE'!$D$12,'TIME TABLE'!$E$12)))","v":""},{"$f":"IF(C3013=\"\",\"\",'TIME TABLE'!$F$12)","v":""},null,{"$f":"IF(C3013=\"\",\"\",'TIME TABLE'!$H$12)","v":""}]
[null,null,{"$f":"IF('TIME TABLE'!$B$13=\"\",\"\",'TIME TABLE'!$B$13)","v":""},null,{"$f":"IF(C3014=\"\",\"\",IF(C3014>0,CONCATENATE('TIME TABLE'!$C$11,'TIME TABLE'!$D$11,'TIME TABLE'!$E$11)))","v":""},{"$f":"IF(C3014=\"\",\"\",'TIME TABLE'!$F$13)","v":""},null,{"$f":"IF(C3014=\"\",\"\",'TIME TABLE'!$H$13)","v":""}]
[null,null,{"$f":"IF('TIME TABLE'!$B$14=\"\",\"\",'TIME TABLE'!$B$14)","v":""},null,{"$f":"IF(C3015=\"\",\"\",IF(C3015>0,CONCATENATE('TIME TABLE'!$C$11,'TIME TABLE'!$D$11,'TIME TABLE'!$E$11)))","v":""},{"$f":"IF(C3015=\"\",\"\",'TIME TABLE'!$F$14)","v":""},null,{"$f":"IF(C3015=\"\",\"\",'TIME TABLE'!$H$14)","v":""}]
[null,null,"Instructions"]
[null,null,1,"Check the exam time table carefully."]
[null,null,2,"Students must bring the 'Admit Card' and show it to the invigilator(s) on duty and should preserve it for future requirements."]
[null,null,3,"Mobile Phone, Calculator, Digital Watch or any Electronic Device is NOT ALLOWED."]
[null,null,4,"Arrive at the School at least 15 minutes before the start examination."]
[null,null,5,"Student is barred from entering the examination hall 15 minutes after the written examination starts."]
[null,null,6,"Ensure that you use the washroom before arriving for your exam as you will not be permitted to leave during the first hour."]
[null,null,7,"Normally, you are required to answer questionsusing blue or black in . Make sure you bring some spare pens with you."]
[null,null,8,"Keep your eyes on your own paper. Remember, copying is cheating!"]
[null,null,9,"You must remain silent until after you have exited the school building."]
[]
[{"$f":"A2993+1","v":90}]
[null,{"$f":"logo","v":{"$error":"#NAME?"}},null,{"$f":"MASTER!$E$11","v":"Govt. Sr. Secondary School Raimalwada"}]
[{"$nulls":3},{"$f":"MASTER!$E$14","v":"P.S.-Bapini (Phalodi)"}]
[null,{"$f":"CONCATENATE(C3031,'TIME TABLE'!$C$5,'ADMIT CARD'!$C3032,$F3032,'ADMIT CARD'!$G3032,'TIME TABLE'!$E$5)","v":"ADMIT CARD(Roll Number●→0)"},{"$f":"CONCATENATE('TIME TABLE'!$B$2,'TIME TABLE'!$F$2)","v":"TEST-I: (2025-26)"},{"$nulls":5},"Paste latest \nphoto of student"]
[null,null,"ADMIT CARD",{"$nulls":6}," "]
[null,null,"Roll Number",null,null,"●→",{"$f":"VLOOKUP(A3027,'STUDENT DETAIL'!$C$8:$I$107,3)","v":0}]
[null,null,"Student's Name",null,null,"●→",{"$f":"IF(OR(G3032=0,G3032=\"\"),\"\",VLOOKUP(A3027,'STUDENT DETAIL'!$C$8:$I$107,4))","v":""}]
[null,null,"Father's Name",null,null,"●→",{"$f":"IF(OR(G3032=0,G3032=\"\"),\"\",VLOOKUP(A3027,'STUDENT DETAIL'!$C$8:$I$107,5))","v":""},null,"Seal and Signature of Head of Institution"]
[null,null,"Mother's Name ",null,null,"●→",{"$f":"IF(OR(G3032=0,G3032=\"\"),\"\",VLOOKUP(A3027,'STUDENT DETAIL'!$C$8:$I$107,6))","v":""}]
[null,null,"Class & Section",null,null,"●→",{"$f":"IF(OR(G3032=0,G3032=\"\"),\"\",IF('STUDENT DETAIL'!$H$4=\"\",'STUDENT DETAIL'!$E$4,CONCATENATE('STUDENT DETAIL'!$E$4,\"   \",\"(\",'STUDENT DETAIL'!$H$4,\")\")))","v":""}]
[null,null,"Date Of Birth",null,null,"●→",{"$f":"IF(OR(G3032=0,G3032=\"\"),\"\",VLOOKUP(A3027,'STUDENT DETAIL'!$C$8:$I$107,7))","v":""}]
[null,null,"Time Table"]
[null,null,"Date (Day)",null,null,"Subject",null,"Time"]
[null,null,{"$f":"IF('TIME TABLE'!$B$5=\"\",\"\",'TIME TABLE'!$B$5)","v":"2022-03-31"},null,{"$f":"IF(C3040=\"\",\"\",IF(C3040>0,CONCATENATE('TIME TABLE'!$C$5,'TIME TABLE'!$D$5,'TIME TABLE'!$E$5)))","v":"(Thursday)"},{"$f":"IF(C3040=\"\",\"\",'TIME TABLE'!$F$5)","v":"Hindi"},null,{"$f":"IF(F3040=\"\",\"\",'TIME TABLE'!$H$5)","v":"09:00 AM to 11:45 AM"}]
[null,null,{"$f":"IF('TIME TABLE'!$B$6=\"\",\"\",'TIME TABLE'!$B$6)","v":"2022-04-01"},null,{"$f":"IF(C3041=\"\",\"\",IF(C3041>0,CONCATENATE('TIME TABLE'!$C$6,'TIME TABLE'!$D$6,'TIME TABLE'!$E$6)))","v":"(Friday)"},{"$f":"IF(C3041=\"\",\"\",'TIME TABLE'!$F$6)","v":"English"},null,{"$f":"IF(F3041=\"\",\"\",'TIME TABLE'!$H$6)","v":"09:00 AM to 11:45 AM"}]
[null,null,{"$f":"IF('TIME TABLE'!$B$7=\"\",\"\",'TIME TABLE'!$B$7)","v":"2022-04-02"},null,{"$f":"IF(C3042=\"\",\"\",IF(C3042>0,CONCATENATE('TIME TABLE'!$C$7,'TIME TABLE'!$D$7,'TIME TABLE'!$E$7)))","v":"(Saturday)"},{"$f":"IF(C3042=\"\",\"\",'TIME TABLE'!$F$7)","v":"Science"},null,{"$f":"IF(F3042=\"\",\"\",'TIME TABLE'!$H$7)","v":"09:00 AM to 11:45 AM"}]
[null,null,{"$f":"IF('TIME TABLE'!$B$8=\"\",\"\",'TIME TABLE'!$B$8)","v":"2022-04-03"},null,{"$f":"IF(C3043=\"\",\"\",IF(C3043>0,CONCATENATE('TIME TABLE'!$C$8,'TIME TABLE'!$D$8,'TIME TABLE'!$E$8)))","v":"(Sunday)"},{"$f":"IF(C3043=\"\",\"\",'TIME TABLE'!$F$8)","v":"Mathematics"},null,{"$f":"IF(F3043=\"\",\"\",'TIME TABLE'!$H$8)","v":"09:00 AM to 11:45 AM"}]
[null,null,{"$f":"IF('TIME TABLE'!$B$9=\"\",\"\",'TIME TABLE'!$B$9)","v":"2022-04-04"},null,{"$f":"IF(C3044=\"\",\"\",IF(C3044>0,CONCATENATE('TIME TABLE'!$C$9,'TIME TABLE'!$D$9,'TIME TABLE'!$E$9)))","v":"(Monday)"},{"$f":"IF(C3044=\"\",\"\",'TIME TABLE'!$F$9)","v":"Social Study"},null,{"$f":"IF(F3044=\"\",\"\",'TIME TABLE'!$H$9)","v":"09:00 AM to 11:45 AM"}]
[null,null,{"$f":"IF('TIME TABLE'!$B$10=\"\",\"\",'TIME TABLE'!$B$10)","v":"2022-04-05"},null,{"$f":"IF(C3045=\"\",\"\",IF(C3045>0,CONCATENATE('TIME TABLE'!$C$10,'TIME TABLE'!$D$10,'TIME TABLE'!$E$10)))","v":"(Tuesday)"},{"$f":"IF(C3045=\"\",\"\",'TIME TABLE'!$F$10)","v":"Sanskrit"},null,{"$f":"IF(F3045=\"\",\"\",'TIME TABLE'!$H$10)","v":"09:00 AM to 11:45 AM"}]
[null,null,{"$f":"IF('TIME TABLE'!$B$11=\"\",\"\",'TIME TABLE'!$B$11)","v":""},null,{"$f":"IF(C3046=\"\",\"\",IF(C3046>0,CONCATENATE('TIME TABLE'!$C$11,'TIME TABLE'!$D$11,'TIME TABLE'!$E$11)))","v":""},{"$f":"IF(C3046=\"\",\"\",'TIME TABLE'!$F$11)","v":""},null,{"$f":"IF(F3046=\"\",\"\",'TIME TABLE'!$H$11)","v":""}]
[null,null,{"$f":"IF('TIME TABLE'!$B$12=\"\",\"\",'TIME TABLE'!$B$12)","v":""},null,{"$f":"IF(C3047=\"\",\"\",IF(C3047>0,CONCATENATE('TIME TABLE'!$C$12,'TIME TABLE'!$D$12,'TIME TABLE'!$E$12)))","v":""},{"$f":"IF(C3047=\"\",\"\",'TIME TABLE'!$F$12)","v":""},null,{"$f":"IF(C3047=\"\",\"\",'TIME TABLE'!$H$12)","v":""}]
[null,null,{"$f":"IF('TIME TABLE'!$B$13=\"\",\"\",'TIME TABLE'!$B$13)","v":""},null,{"$f":"IF(C3048=\"\",\"\",IF(C3048>0,CONCATENATE('TIME TABLE'!$C$11,'TIME TABLE'!$D$11,'TIME TABLE'!$E$11)))","v":""},{"$f":"IF(C3048=\"\",\"\",'TIME TABLE'!$F$13)","v":""},null,{"$f":"IF(C3048=\"\",\"\",'TIME TABLE'!$H$13)","v":""}]
[null,null,{"$f":"IF('TIME TABLE'!$B$14=\"\",\"\",'TIME TABLE'!$B$14)","v":""},null,{"$f":"IF(C3049=\"\",\"\",IF(C3049>0,CONCATENATE('TIME TABLE'!$C$11,'TIME TABLE'!$D$11,'TIME TABLE'!$E$11)))","v":""},{"$f":"IF(C3049=\"\",\"\",'TIME TABLE'!$F$14)","v":""},null,{"$f":"IF(C3049=\"\",\"\",'TIME TABLE'!$H$14)","v":""}]
[null,null,"Instructions"]
[null,null,1,"Check the exam time table carefully."]
[null,null,2,"Students must bring the 'Admit Card' and show it to the invigilator(s) on duty and should preserve it for future requirements."]
[null,null,3,"Mobile Phone, Calculator, Digital Watch or any Electronic Device is NOT ALLOWED."]
[null,null,4,"Arrive at the School at least 15 minutes before the start examination."]
[null,null,5,"Student is barred from entering the examination hall 15 minutes after the written examination starts."]
[null,null,6,"Ensure that you use the washroom before arriving for your exam as you will not be permitted to leave during the first hour."]
[null,null,7,"Normally, you are required to answer questionsusing blue or black in . Make sure you bring some spare pens with you."]
[null,null,8,"Keep your eyes on your own paper. Remember, copying is cheating!"]
[null,null,9,"You must remain silent until after you have exited the school building."]
[]
[{"$f":"A3027+1","v":91}]
[null,{"$f":"logo","v":{"$error":"#NAME?"}},null,{"$f":"MASTER!$E$11","v":"Govt. Sr. Secondary School Raimalwada"}]
[{"$nulls":3},{"$f":"MASTER!$E$14","v":"P.S.-Bapini (Phalodi)"}]
[null,{"$f":"CONCATENATE(C3065,'TIME TABLE'!$C$5,'ADMIT CARD'!$C3066,$F3066,'ADMIT CARD'!$G3066,'TIME TABLE'!$E$5)","v":"ADMIT CARD(Roll Number●→0)"},{"$f":"CONCATENATE('TIME TABLE'!$B$2,'TIME TABLE'!$F$2)","v":"TEST-I: (2025-26)"},{"$nulls":5},"Paste latest \nphoto of student"]
[null,null,"ADMIT CARD",{"$nulls":6}," "]
[null,null,"Roll Number",null,null,"●→",{"$f":"VLOOKUP(A3061,'STUDENT DETAIL'!$C$8:$I$107,3)","v":0}]
[null,null,"Student's Name",null,null,"●→",{"$f":"IF(OR(G3066=0,G3066=\"\"),\"\",VLOOKUP(A3061,'STUDENT DETAIL'!$C$8:$I$107,4))","v":""}]
[null,null,"Father's Name",null,null,"●→",{"$f":"IF(OR(G3066=0,G3066=\"\"),\"\",VLOOKUP(A3061,'STUDENT DETAIL'!$C$8:$I$107,5))","v":""},null,"Seal and Signature of Head of Institution"]
[null,null,"Mother's Name ",null,null,"●→",{"$f":"IF(OR(G3066=0,G3066=\"\"),\"\",VLOOKUP(A3061,'STUDENT DETAIL'!$C$8:$I$107,6))","v":""}]
[null,null,"Class & Section",null,null,"●→",{"$f":"IF(OR(G3066=0,G3066=\"\"),\"\",IF('STUDENT DETAIL'!$H$4=\"\",'STUDENT DETAIL'!$E$4,CONCATENATE('STUDENT DETAIL'!$E$4,\"   \",\"(\",'STUDENT DETAIL'!$H$4,\")\")))","v":""}]
[null,null,"Date Of Birth",null,null,"●→",{"$f":"IF(OR(G3066=0,G3066=\"\"),\"\",VLOOKUP(A3061,'STUDENT DETAIL'!$C$8:$I$107,7))","v":""}]
[null,null,"Time Table"]
[null,null,"Date (Day)",null,null,"Subject",null,"Time"]
[null,null,{"$f":"IF('TIME TABLE'!$B$5=\"\",\"\",'TIME TABLE'!$B$5)","v":"2022-03-31"},null,{"$f":"IF(C3074=\"\",\"\",IF(C3074>0,CONCATENATE('TIME TABLE'!$C$5,'TIME TABLE'!$D$5,'TIME TABLE'!$E$5)))","v":"(Thursday)"},{"$f":"IF(C3074=\"\",\"\",'TIME TABLE'!$F$5)","v":"Hindi"},null,{"$f":"IF(F3074=\"\",\"\",'TIME TABLE'!$H$5)","v":"09:00 AM to 11:45 AM"}]
[null,null,{"$f":"IF('TIME TABLE'!$B$6=\"\",\"\",'TIME TABLE'!$B$6)","v":"2022-04-01"},null,{"$f":"IF(C3075=\"\",\"\",IF(C3075>0,CONCATENATE('TIME TABLE'!$C$6,'TIME TABLE'!$D$6,'TIME TABLE'!$E$6)))","v":"(Friday)"},{"$f":"IF(C3075=\"\",\"\",'TIME TABLE'!$F$6)","v":"English"},null,{"$f":"IF(F3075=\"\",\"\",'TIME TABLE'!$H$6)","v":"09:00 AM to 11:45 AM"}]
[null,null,{"$f":"IF('TIME TABLE'!$B$7=\"\",\"\",'TIME TABLE'!$B$7)","v":"2022-04-02"},null,{"$f":"IF(C3076=\"\",\"\",IF(C3076>0,CONCATENATE('TIME TABLE'!$C$7,'TIME TABLE'!$D$7,'TIME TABLE'!$E$7)))","v":"(Saturday)"},{"$f":"IF(C3076=\"\",\"\",'TIME TABLE'!$F$7)","v":"Science"},null,{"$f":"IF(F3076=\"\",\"\",'TIME TABLE'!$H$7)","v":"09:00 AM to 11:45 AM"}]
[null,null,{"$f":"IF('TIME TABLE'!$B$8=\"\",\"\",'TIME TABLE'!$B$8)","v":"2022-04-03"},null,{"$f":"IF(C3077=\"\",\"\",IF(C3077>0,CONCATENATE('TIME TABLE'!$C$8,'TIME TABLE'!$D$8,'TIME TABLE'!$E$8)))","v":"(Sunday)"},{"$f":"IF(C3077=\"\",\"\",'TIME TABLE'!$F$8)","v":"Mathematics"},null,{"$f":"IF(F3077=\"\",\"\",'TIME TABLE'!$H$8)","v":"09:00 AM to 11:45 AM"}]
[null,null,{"$f":"IF('TIME TABLE'!$B$9=\"\",\"\",'TIME TABLE'!$B$9)","v":"2022-04-04"},null,{"$f":"IF(C3078=\"\",\"\",IF(C3078>0,CONCATENATE('TIME TABLE'!$C$9,'TIME TABLE'!$D$9,'TIME TABLE'!$E$9)))","v":"(Monday)"},{"$f":"IF(C3078=\"\",\"\",'TIME TABLE'!$F$9)","v":"Social Study"},null,{"$f":"IF(F3078=\"\",\"\",'TIME TABLE'!$H$9)","v":"09:00 AM to 11:45 AM"}]
[null,null,{"$f":"IF('TIME TABLE'!$B$10=\"\",\"\",'TIME TABLE'!$B$10)","v":"2022-04-05"},null,{"$f":"IF(C3079=\"\",\"\",IF(C3079>0,CONCATENATE('TIME TABLE'!$C$10,'TIME TABLE'!$D$10,'TIME TABLE'!$E$10)))","v":"(Tuesday)"},{"$f":"IF(C3079=\"\",\"\",'TIME TABLE'!$F$10)","v":"Sanskrit"},null,{"$f":"IF(F3079=\"\",\"\",'TIME TABLE'!$H$10)","v":"09:00 AM to 11:45 AM"}]
[null,null,{"$f":"IF('TIME TABLE'!$B$11=\"\",\"\",'TIME TABLE'!$B$11)","v":""},null,{"$f":"IF(C3080=\"\",\"\",IF(C3080>0,CONCATENATE('TIME TABLE'!$C$11,'TIME TABLE'!$D$11,'TIME TABLE'!$E$11)))","v":""},{"$f":"IF(C3080=\"\",\"\",'TIME TABLE'!$F$11)","v":""},null,{"$f":"IF(F3080=\"\",\"\",'TIME TABLE'!$H$11)","v":""}]
[null,null,{"$f":"IF('TIME TABLE'!$B$12=\"\",\"\",'TIME TABLE'!$B$12)","v":""},null,{"$f":"IF(C3081=\"\",\"\",IF(C3081>0,CONCATENATE('TIME TABLE'!$C$12,'TIME TABLE'!$D$12,'TIME TABLE'!$E$12)))","v":""},{"$f":"IF(C3081=\"\",\"\",'TIME TABLE'!$F$12)","v":""},null,{"$f":"IF(C3081=\"\",\"\",'TIME TABLE'!$H$12)","v":""}]
[null,null,{"$f":"IF('TIME TABLE'!$B$13=\"\",\"\",'TIME TABLE'!$B$13)","v":""},null,{"$f":"IF(C3082=\"\",\"\",IF(C3082>0,CONCATENATE('TIME TABLE'!$C$11,'TIME TABLE'!$D$11,'TIME TABLE'!$E$11)))","v":""},{"$f":"IF(C3082=\"\",\"\",'TIME TABLE'!$F$13)","v":""},null,{"$f":"IF(C3082=\"\",\"\",'TIME TABLE'!$H$13)","v":""}]
[null,null,{"$f":"IF('TIME TABLE'!$B$14=\"\",\"\",'TIME TABLE'!$B$14)","v":""},null,{"$f":"IF(C3083=\"\",\"\",IF(C3083>0,CONCATENATE('TIME TABLE'!$C$11,'TIME TABLE'!$D$11,'TIME TABLE'!$E$11)))","v":""},{"$f":"IF(C3083=\"\",\"\",'TIME TABLE'!$F$14)","v":""},null,{"$f":"IF(C3083=\"\",\"\",'TIME TABLE'!$H$14)","v":""}]
[null,null,"Instructions"]
[null,null,1,"Check the exam time table carefully."]
[null,null,2,"Students must bring the 'Admit Card' and show it to the invigilator(s) on duty and should preserve it for future requirements."]
[null,null,3,"Mobile Phone, Calculator, Digital Watch or any Electronic Device is NOT ALLOWED."]
[null,null,4,"Arrive at the School at least 15 minutes before the start examination."]
[null,null,5,"Student is barred from entering the examination hall 15 minutes after the written examination starts."]
[null,null,6,"Ensure that you use the washroom before arriving for your exam as you will not be permitted to leave during the first hour."]
[null,null,7,"Normally, you are required to answer questionsusing blue or black in . Make sure you bring some spare pens with you."]
[null,null,8,"Keep your eyes on your own paper. Remember, copying is cheating!"]
[null,null,9,"You must remain silent until after you have exited the school building."]
[]
[{"$f":"A3061+1","v":92}]
[null,{"$f":"logo","v":{"$error":"#NAME?"}},null,{"$f":"MASTER!$E$11","v":"Govt. Sr. Secondary School Raimalwada"}]
[{"$nulls":3},{"$f":"MASTER!$E$14","v":"P.S.-Bapini (Phalodi)"}]
[null,{"$f":"CONCATENATE(C3099,'TIME TABLE'!$C$5,'ADMIT CARD'!$C3100,$F3100,'ADMIT CARD'!$G3100,'TIME TABLE'!$E$5)","v":"ADMIT CARD(Roll Number●→0)"},{"$f":"CONCATENATE('TIME TABLE'!$B$2,'TIME TABLE'!$F$2)","v":"TEST-I: (2025-26)"},{"$nulls":5},"Paste latest \nphoto of student"]
[null,null,"ADMIT CARD",{"$nulls":6}," "]
[null,null,"Roll Number",null,null,"●→",{"$f":"VLOOKUP(A3095,'STUDENT DETAIL'!$C$8:$I$107,3)","v":0}]
[null,null,"Student's Name",null,null,"●→",{"$f":"IF(OR(G3100=0,G3100=\"\"),\"\",VLOOKUP(A3095,'STUDENT DETAIL'!$C$8:$I$107,4))","v":""}]
[null,null,"Father's Name",null,null,"●→",{"$f":"IF(OR(G3100=0,G3100=\"\"),\"\",VLOOKUP(A3095,'STUDENT DETAIL'!$C$8:$I$107,5))","v":""},null,"Seal and Signature of Head of Institution"]
[null,null,"Mother's Name ",null,null,"●→",{"$f":"IF(OR(G3100=0,G3100=\"\"),\"\",VLOOKUP(A3095,'STUDENT DETAIL'!$C$8:$I$107,6))","v":""}]
[null,null,"Class & Section",null,null,"●→",{"$f":"IF(OR(G3100=0,G3100=\"\"),\"\",IF('STUDENT DETAIL'!$H$4=\"\",'STUDENT DETAIL'!$E$4,CONCATENATE('STUDENT DETAIL'!$E$4,\"   \",\"(\",'STUDENT DETAIL'!$H$4,\")\")))","v":""}]
[null,null,"Date Of Birth",null,null,"●→",{"$f":"IF(OR(G3100=0,G3100=\"\"),\"\",VLOOKUP(A3095,'STUDENT DETAIL'!$C$8:$I$107,7))","v":""}]
[null,null,"Time Table"]
[null,null,"Date (Day)",null,null,"Subject",null,"Time"]
[null,null,{"$f":"IF('TIME TABLE'!$B$5=\"\",\"\",'TIME TABLE'!$B$5)","v":"2022-03-31"},null,{"$f":"IF(C3108=\"\",\"\",IF(C3108>0,CONCATENATE('TIME TABLE'!$C$5,'TIME TABLE'!$D$5,'TIME TABLE'!$E$5)))","v":"(Thursday)"},{"$f":"IF(C3108=\"\",\"\",'TIME TABLE'!$F$5)","v":"Hindi"},null,{"$f":"IF(F3108=\"\",\"\",'TIME TABLE'!$H$5)","v":"09:00 AM to 11:45 AM"}]
[null,null,{"$f":"IF('TIME TABLE'!$B$6=\"\",\"\",'TIME TABLE'!$B$6)","v":"2022-04-01"},null,{"$f":"IF(C3109=\"\",\"\",IF(C3109>0,CONCATENATE('TIME TABLE'!$C$6,'TIME TABLE'!$D$6,'TIME TABLE'!$E$6)))","v":"(Friday)"},{"$f":"IF(C3109=\"\",\"\",'TIME TABLE'!$F$6)","v":"English"},null,{"$f":"IF(F3109=\"\",\"\",'TIME TABLE'!$H$6)","v":"09:00 AM to 11:45 AM"}]
[null,null,{"$f":"IF('TIME TABLE'!$B$7=\"\",\"\",'TIME TABLE'!$B$7)","v":"2022-04-02"},null,{"$f":"IF(C3110=\"\",\"\",IF(C3110>0,CONCATENATE('TIME TABLE'!$C$7,'TIME TABLE'!$D$7,'TIME TABLE'!$E$7)))","v":"(Saturday)"},{"$f":"IF(C3110=\"\",\"\",'TIME TABLE'!$F$7)","v":"Science"},null,{"$f":"IF(F3110=\"\",\"\",'TIME TABLE'!$H$7)","v":"09:00 AM to 11:45 AM"}]
[null,null,{"$f":"IF('TIME TABLE'!$B$8=\"\",\"\",'TIME TABLE'!$B$8)","v":"2022-04-03"},null,{"$f":"IF(C3111=\"\",\"\",IF(C3111>0,CONCATENATE('TIME TABLE'!$C$8,'TIME TABLE'!$D$8,'TIME TABLE'!$E$8)))","v":"(Sunday)"},{"$f":"IF(C3111=\"\",\"\",'TIME TABLE'!$F$8)","v":"Mathematics"},null,{"$f":"IF(F3111=\"\",\"\",'TIME TABLE'!$H$8)","v":"09:00 AM to 11:45 AM"}]
[null,null,{"$f":"IF('TIME TABLE'!$B$9=\"\",\"\",'TIME TABLE'!$B$9)","v":"2022-04-04"},null,{"$f":"IF(C3112=\"\",\"\",IF(C3112>0,CONCATENATE('TIME TABLE'!$C$9,'TIME TABLE'!$D$9,'TIME TABLE'!$E$9)))","v":"(Monday)"},{"$f":"IF(C3112=\"\",\"\",'TIME TABLE'!$F$9)","v":"Social Study"},null,{"$f":"IF(F3112=\"\",\"\",'TIME TABLE'!$H$9)","v":"09:00 AM to 11:45 AM"}]
[null,null,{"$f":"IF('TIME TABLE'!$B$10=\"\",\"\",'TIME TABLE'!$B$10)","v":"2022-04-05"},null,{"$f":"IF(C3113=\"\",\"\",IF(C3113>0,CONCATENATE('TIME TABLE'!$C$10,'TIME TABLE'!$D$10,'TIME TABLE'!$E$10)))","v":"(Tuesday)"},{"$f":"IF(C3113=\"\",\"\",'TIME TABLE'!$F$10)","v":"Sanskrit"},null,{"$f":"IF(F3113=\"\",\"\",'TIME TABLE'!$H$10)","v":"09:00 AM to 11:45 AM"}]
[null,null,{"$f":"IF('TIME TABLE'!$B$11=\"\",\"\",'TIME TABLE'!$B$11)","v":""},null,{"$f":"IF(C3114=\"\",\"\",IF(C3114>0,CONCATENATE('TIME TABLE'!$C$11,'TIME TABLE'!$D$11,'TIME TABLE'!$E$11)))","v":""},{"$f":"IF(C3114=\"\",\"\",'TIME TABLE'!$F$11)","v":""},null,{"$f":"IF(F3114=\"\",\"\",'TIME TABLE'!$H$11)","v":""}]
[null,null,{"$f":"IF('TIME TABLE'!$B$12=\"\",\"\",'TIME TABLE'!$B$12)","v":""},null,{"$f":"IF(C3115=\"\",\"\",IF(C3115>0,CONCATENATE('TIME TABLE'!$C$12,'TIME TABLE'!$D$12,'TIME TABLE'!$E$12)))","v":""},{"$f":"IF(C3115=\"\",\"\",'TIME TABLE'!$F$12)","v":""},null,{"$f":"IF(C3115=\"\",\"\",'TIME TABLE'!$H$12)","v":""}]
[null,null,{"$f":"IF('TIME TABLE'!$B$13=\"\",\"\",'TIME TABLE'!$B$13)","v":""},null,{"$f":"IF(C3116=\"\",\"\",IF(C3116>0,CONCATENATE('TIME TABLE'!$C$11,'TIME TABLE'!$D$11,'TIME TABLE'!$E$11)))","v":""},{"$f":"IF(C3116=\"\",\"\",'TIME TABLE'!$F$13)","v":""},null,{"$f":"IF(C3116=\"\",\"\",'TIME TABLE'!$H$13)","v":""}]
[null,null,{"$f":"IF('TIME TABLE'!$B$14=\"\",\"\",'TIME TABLE'!$B$14)","v":""},null,{"$f":"IF(C3117=\"\",\"\",IF(C3117>0,CONCATENATE('TIME TABLE'!$C$11,'TIME TABLE'!$D$11,'TIME TABLE'!$E$11)))","v":""},{"$f":"IF(C3117=\"\",\"\",'TIME TABLE'!$F$14)","v":""},null,{"$f":"IF(C3117=\"\",\"\",'TIME TABLE'!$H$14)","v":""}]
[null,null,"Instructions"]
[null,null,1,"Check the exam time table carefully."]
[null,null,2,"Students must bring the 'Admit Card' and show it to the invigilator(s) on duty and should preserve it for future requirements."]
[null,null,3,"Mobile Phone, Calculator, Digital Watch or any Electronic Device is NOT ALLOWED."]
[null,null,4,"Arrive at the School at least 15 minutes before the start examination."]
[null,null,5,"Student is barred from entering the examination hall 15 minutes after the written examination starts."]
[null,null,6,"Ensure that you use the washroom before arriving for your exam as you will not be permitted to leave during the first hour."]
[null,null,7,"Normally, you are required to answer questionsusing blue or black in . Make sure you bring some spare pens with you."]
[null,null,8,"Keep your eyes on your own paper. Remember, copying is cheating!"]
[null,null,9,"You must remain silent until after you have exited the school building."]
[]
[{"$f":"A3095+1","v":93}]
[null,{"$f":"logo","v":{"$error":"#NAME?"}},null,{"$f":"MASTER!$E$11","v":"Govt. Sr. Secondary School Raimalwada"}]
[{"$nulls":3},{"$f":"MASTER!$E$14","v":"P.S.-Bapini (Phalodi)"}]
[null,{"$f":"CONCATENATE(C3133,'TIME TABLE'!$C$5,'ADMIT CARD'!$C3134,$F3134,'ADMIT CARD'!$G3134,'TIME TABLE'!$E$5)","v":"ADMIT CARD(Roll Number●→0)"},{"$f":"CONCATENATE('TIME TABLE'!$B$2,'TIME TABLE'!$F$2)","v":"TEST-I: (2025-26)"},{"$nulls":5},"Paste latest \nphoto of student"]
[null,null,"ADMIT CARD",{"$nulls":6}," "]
[null,null,"Roll Number",null,null,"●→",{"$f":"VLOOKUP(A3129,'STUDENT DETAIL'!$C$8:$I$107,3)","v":0}]
[null,null,"Student's Name",null,null,"●→",{"$f":"IF(OR(G3134=0,G3134=\"\"),\"\",VLOOKUP(A3129,'STUDENT DETAIL'!$C$8:$I$107,4))","v":""}]
[null,null,"Father's Name",null,null,"●→",{"$f":"IF(OR(G3134=0,G3134=\"\"),\"\",VLOOKUP(A3129,'STUDENT DETAIL'!$C$8:$I$107,5))","v":""},null,"Seal and Signature of Head of Institution"]
[null,null,"Mother's Name ",null,null,"●→",{"$f":"IF(OR(G3134=0,G3134=\"\"),\"\",VLOOKUP(A3129,'STUDENT DETAIL'!$C$8:$I$107,6))","v":""}]
[null,null,"Class & Section",null,null,"●→",{"$f":"IF(OR(G3134=0,G3134=\"\"),\"\",IF('STUDENT DETAIL'!$H$4=\"\",'STUDENT DETAIL'!$E$4,CONCATENATE('STUDENT DETAIL'!$E$4,\"   \",\"(\",'STUDENT DETAIL'!$H$4,\")\")))","v":""}]
[null,null,"Date Of Birth",null,null,"●→",{"$f":"IF(OR(G3134=0,G3134=\"\"),\"\",VLOOKUP(A3129,'STUDENT DETAIL'!$C$8:$I$107,7))","v":""}]
[null,null,"Time Table"]
[null,null,"Date (Day)",null,null,"Subject",null,"Time"]
[null,null,{"$f":"IF('TIME TABLE'!$B$5=\"\",\"\",'TIME TABLE'!$B$5)","v":"2022-03-31"},null,{"$f":"IF(C3142=\"\",\"\",IF(C3142>0,CONCATENATE('TIME TABLE'!$C$5,'TIME TABLE'!$D$5,'TIME TABLE'!$E$5)))","v":"(Thursday)"},{"$f":"IF(C3142=\"\",\"\",'TIME TABLE'!$F$5)","v":"Hindi"},null,{"$f":"IF(F3142=\"\",\"\",'TIME TABLE'!$H$5)","v":"09:00 AM to 11:45 AM"}]
[null,null,{"$f":"IF('TIME TABLE'!$B$6=\"\",\"\",'TIME TABLE'!$B$6)","v":"2022-04-01"},null,{"$f":"IF(C3143=\"\",\"\",IF(C3143>0,CONCATENATE('TIME TABLE'!$C$6,'TIME TABLE'!$D$6,'TIME TABLE'!$E$6)))","v":"(Friday)"},{"$f":"IF(C3143=\"\",\"\",'TIME TABLE'!$F$6)","v":"English"},null,{"$f":"IF(F3143=\"\",\"\",'TIME TABLE'!$H$6)","v":"09:00 AM to 11:45 AM"}]
[null,null,{"$f":"IF('TIME TABLE'!$B$7=\"\",\"\",'TIME TABLE'!$B$7)","v":"2022-04-02"},null,{"$f":"IF(C3144=\"\",\"\",IF(C3144>0,CONCATENATE('TIME TABLE'!$C$7,'TIME TABLE'!$D$7,'TIME TABLE'!$E$7)))","v":"(Saturday)"},{"$f":"IF(C3144=\"\",\"\",'TIME TABLE'!$F$7)","v":"Science"},null,{"$f":"IF(F3144=\"\",\"\",'TIME TABLE'!$H$7)","v":"09:00 AM to 11:45 AM"}]
[null,null,{"$f":"IF('TIME TABLE'!$B$8=\"\",\"\",'TIME TABLE'!$B$8)","v":"2022-04-03"},null,{"$f":"IF(C3145=\"\",\"\",IF(C3145>0,CONCATENATE('TIME TABLE'!$C$8,'TIME TABLE'!$D$8,'TIME TABLE'!$E$8)))","v":"(Sunday)"},{"$f":"IF(C3145=\"\",\"\",'TIME TABLE'!$F$8)","v":"Mathematics"},null,{"$f":"IF(F3145=\"\",\"\",'TIME TABLE'!$H$8)","v":"09:00 AM to 11:45 AM"}]
[null,null,{"$f":"IF('TIME TABLE'!$B$9=\"\",\"\",'TIME TABLE'!$B$9)","v":"2022-04-04"},null,{"$f":"IF(C3146=\"\",\"\",IF(C3146>0,CONCATENATE('TIME TABLE'!$C$9,'TIME TABLE'!$D$9,'TIME TABLE'!$E$9)))","v":"(Monday)"},{"$f":"IF(C3146=\"\",\"\",'TIME TABLE'!$F$9)","v":"Social Study"},null,{"$f":"IF(F3146=\"\",\"\",'TIME TABLE'!$H$9)","v":"09:00 AM to 11:45 AM"}]
[null,null,{"$f":"IF('TIME TABLE'!$B$10=\"\",\"\",'TIME TABLE'!$B$10)","v":"2022-04-05"},null,{"$f":"IF(C3147=\"\",\"\",IF(C3147>0,CONCATENATE('TIME TABLE'!$C$10,'TIME TABLE'!$D$10,'TIME TABLE'!$E$10)))","v":"(Tuesday)"},{"$f":"IF(C3147=\"\",\"\",'TIME TABLE'!$F$10)","v":"Sanskrit"},null,{"$f":"IF(F3147=\"\",\"\",'TIME TABLE'!$H$10)","v":"09:00 AM to 11:45 AM"}]
[null,null,{"$f":"IF('TIME TABLE'!$B$11=\"\",\"\",'TIME TABLE'!$B$11)","v":""},null,{"$f":"IF(C3148=\"\",\"\",IF(C3148>0,CONCATENATE('TIME TABLE'!$C$11,'TIME TABLE'!$D$11,'TIME TABLE'!$E$11)))","v":""},{"$f":"IF(C3148=\"\",\"\",'TIME TABLE'!$F$11)","v":""},null,{"$f":"IF(F3148=\"\",\"\",'TIME TABLE'!$H$11)","v":""}]
[null,null,{"$f":"IF('TIME TABLE'!$B$12=\"\",\"\",'TIME TABLE'!$B$12)","v":""},null,{"$f":"IF(C3149=\"\",\"\",IF(C3149>0,CONCATENATE('TIME TABLE'!$C$12,'TIME TABLE'!$D$12,'TIME TABLE'!$E$12)))","v":""},{"$f":"IF(C3149=\"\",\"\",'TIME TABLE'!$F$12)","v":""},null,{"$f":"IF(C3149=\"\",\"\",'TIME TABLE'!$H$12)","v":""}]
[null,null,{"$f":"IF('TIME TABLE'!$B$13=\"\",\"\",'TIME TABLE'!$B$13)","v":""},null,{"$f":"IF(C3150=\"\",\"\",IF(C3150>0,CONCATENATE('TIME TABLE'!$C$11,'TIME TABLE'!$D$11,'TIME TABLE'!$E$11)))","v":""},{"$f":"IF(C3150=\"\",\"\",'TIME TABLE'!$F$13)","v":""},null,{"$f":"IF(C3150=\"\",\"\",'TIME TABLE'!$H$13)","v":""}]
[null,null,{"$f":"IF('TIME TABLE'!$B$14=\"\",\"\",'TIME TABLE'!$B$14)","v":""},null,{"$f":"IF(C3151=\"\",\"\",IF(C3151>0,CONCATENATE('TIME TABLE'!$C$11,'TIME TABLE'!$D$11,'TIME TABLE'!$E$11)))","v":""},{"$f":"IF(C3151=\"\",\"\",'TIME TABLE'!$F$14)","v":""},null,{"$f":"IF(C3151=\"\",\"\",'TIME TABLE'!$H$14)","v":""}]
[null,null,"Instructions"]
[null,null,1,"Check the exam time table carefully."]
[null,null,2,"Students must bring the 'Admit Card' and show it to the invigilator(s) on duty and should preserve it for future requirements."]
[null,null,3,"Mobile Phone, Calculator, Digital Watch or any Electronic Device is NOT ALLOWED."]
[null,null,4,"Arrive at the School at least 15 minutes before the start examination."]
[null,null,5,"Student is barred from entering the examination hall 15 minutes after the written examination starts."]
[null,null,6,"Ensure that you use the washroom before arriving for your exam as you will not be permitted to leave during the first hour."]
[null,null,7,"Normally, you are required to answer questionsusing blue or black in . Make sure you bring some spare pens with you."]
[null,null,8,"Keep your eyes on your own paper. Remember, copying is cheating!"]
[null,null,9,"You must remain silent until after you have exited the school building."]
[]
[{"$f":"A3129+1","v":94}]
[null,{"$f":"logo","v":{"$error":"#NAME?"}},null,{"$f":"MASTER!$E$11","v":"Govt. Sr. Secondary School Raimalwada"}]
[{"$nulls":3},{"$f":"MASTER!$E$14","v":"P.S.-Bapini (Phalodi)"}]
[null,{"$f":"CONCATENATE(C3167,'TIME TABLE'!$C$5,'ADMIT CARD'!$C3168,$F3168,'ADMIT CARD'!$G3168,'TIME TABLE'!$E$5)","v":"ADMIT CARD(Roll Number●→0)"},{"$f":"CONCATENATE('TIME TABLE'!$B$2,'TIME TABLE'!$F$2)","v":"TEST-I: (2025-26)"},{"$nulls":5},"Paste latest \nphoto of student"]
[null,null,"ADMIT CARD",{"$nulls":6}," "]
[null,null,"Roll Number",null,null,"●→",{"$f":"VLOOKUP(A3163,'STUDENT DETAIL'!$C$8:$I$107,3)","v":0}]
[null,null,"Student's Name",null,null,"●→",{"$f":"IF(OR(G3168=0,G3168=\"\"),\"\",VLOOKUP(A3163,'STUDENT DETAIL'!$C$8:$I$107,4))","v":""}]
[null,null,"Father's Name",null,null,"●→",{"$f":"IF(OR(G3168=0,G3168=\"\"),\"\",VLOOKUP(A3163,'STUDENT DETAIL'!$C$8:$I$107,5))","v":""},null,"Seal and Signature of Head of Institution"]
[null,null,"Mother's Name ",null,null,"●→",{"$f":"IF(OR(G3168=0,G3168=\"\"),\"\",VLOOKUP(A3163,'STUDENT DETAIL'!$C$8:$I$107,6))","v":""}]
[null,null,"Class & Section",null,null,"●→",{"$f":"IF(OR(G3168=0,G3168=\"\"),\"\",IF('STUDENT DETAIL'!$H$4=\"\",'STUDENT DETAIL'!$E$4,CONCATENATE('STUDENT DETAIL'!$E$4,\"   \",\"(\",'STUDENT DETAIL'!$H$4,\")\")))","v":""}]
[null,null,"Date Of Birth",null,null,"●→",{"$f":"IF(OR(G3168=0,G3168=\"\"),\"\",VLOOKUP(A3163,'STUDENT DETAIL'!$C$8:$I$107,7))","v":""}]
[null,null,"Time Table"]
[null,null,"Date (Day)",null,null,"Subject",null,"Time"]
[null,null,{"$f":"IF('TIME TABLE'!$B$5=\"\",\"\",'TIME TABLE'!$B$5)","v":"2022-03-31"},null,{"$f":"IF(C3176=\"\",\"\",IF(C3176>0,CONCATENATE('TIME TABLE'!$C$5,'TIME TABLE'!$D$5,'TIME TABLE'!$E$5)))","v":"(Thursday)"},{"$f":"IF(C3176=\"\",\"\",'TIME TABLE'!$F$5)","v":"Hindi"},null,{"$f":"IF(F3176=\"\",\"\",'TIME TABLE'!$H$5)","v":"09:00 AM to 11:45 AM"}]
[null,null,{"$f":"IF('TIME TABLE'!$B$6=\"\",\"\",'TIME TABLE'!$B$6)","v":"2022-04-01"},null,{"$f":"IF(C3177=\"\",\"\",IF(C3177>0,CONCATENATE('TIME TABLE'!$C$6,'TIME TABLE'!$D$6,'TIME TABLE'!$E$6)))","v":"(Friday)"},{"$f":"IF(C3177=\"\",\"\",'TIME TABLE'!$F$6)","v":"English"},null,{"$f":"IF(F3177=\"\",\"\",'TIME TABLE'!$H$6)","v":"09:00 AM to 11:45 AM"}]
[null,null,{"$f":"IF('TIME TABLE'!$B$7=\"\",\"\",'TIME TABLE'!$B$7)","v":"2022-04-02"},null,{"$f":"IF(C3178=\"\",\"\",IF(C3178>0,CONCATENATE('TIME TABLE'!$C$7,'TIME TABLE'!$D$7,'TIME TABLE'!$E$7)))","v":"(Saturday)"},{"$f":"IF(C3178=\"\",\"\",'TIME TABLE'!$F$7)","v":"Science"},null,{"$f":"IF(F3178=\"\",\"\",'TIME TABLE'!$H$7)","v":"09:00 AM to 11:45 AM"}]
[null,null,{"$f":"IF('TIME TABLE'!$B$8=\"\",\"\",'TIME TABLE'!$B$8)","v":"2022-04-03"},null,{"$f":"IF(C3179=\"\",\"\",IF(C3179>0,CONCATENATE('TIME TABLE'!$C$8,'TIME TABLE'!$D$8,'TIME TABLE'!$E$8)))","v":"(Sunday)"},{"$f":"IF(C3179=\"\",\"\",'TIME TABLE'!$F$8)","v":"Mathematics"},null,{"$f":"IF(F3179=\"\",\"\",'TIME TABLE'!$H$8)","v":"09:00 AM to 11:45 AM"}]
[null,null,{"$f":"IF('TIME TABLE'!$B$9=\"\",\"\",'TIME TABLE'!$B$9)","v":"2022-04-04"},null,{"$f":"IF(C3180=\"\",\"\",IF(C3180>0,CONCATENATE('TIME TABLE'!$C$9,'TIME TABLE'!$D$9,'TIME TABLE'!$E$9)))","v":"(Monday)"},{"$f":"IF(C3180=\"\",\"\",'TIME TABLE'!$F$9)","v":"Social Study"},null,{"$f":"IF(F3180=\"\",\"\",'TIME TABLE'!$H$9)","v":"09:00 AM to 11:45 AM"}]
[null,null,{"$f":"IF('TIME TABLE'!$B$10=\"\",\"\",'TIME TABLE'!$B$10)","v":"2022-04-05"},null,{"$f":"IF(C3181=\"\",\"\",IF(C3181>0,CONCATENATE('TIME TABLE'!$C$10,'TIME TABLE'!$D$10,'TIME TABLE'!$E$10)))","v":"(Tuesday)"},{"$f":"IF(C3181=\"\",\"\",'TIME TABLE'!$F$10)","v":"Sanskrit"},null,{"$f":"IF(F3181=\"\",\"\",'TIME TABLE'!$H$10)","v":"09:00 AM to 11:45 AM"}]
[null,null,{"$f":"IF('TIME TABLE'!$B$11=\"\",\"\",'TIME TABLE'!$B$11)","v":""},null,{"$f":"IF(C3182=\"\",\"\",IF(C3182>0,CONCATENATE('TIME TABLE'!$C$11,'TIME TABLE'!$D$11,'TIME TABLE'!$E$11)))","v":""},{"$f":"IF(C3182=\"\",\"\",'TIME TABLE'!$F$11)","v":""},null,{"$f":"IF(F3182=\"\",\"\",'TIME TABLE'!$H$11)","v":""}]
[null,null,{"$f":"IF('TIME TABLE'!$B$12=\"\",\"\",'TIME TABLE'!$B$12)","v":""},null,{"$f":"IF(C3183=\"\",\"\",IF(C3183>0,CONCATENATE('TIME TABLE'!$C$12,'TIME TABLE'!$D$12,'TIME TABLE'!$E$12)))","v":""},{"$f":"IF(C3183=\"\",\"\",'TIME TABLE'!$F$12)","v":""},null,{"$f":"IF(C3183=\"\",\"\",'TIME TABLE'!$H$12)","v":""}]
[null,null,{"$f":"IF('TIME TABLE'!$B$13=\"\",\"\",'TIME TABLE'!$B$13)","v":""},null,{"$f":"IF(C3184=\"\",\"\",IF(C3184>0,CONCATENATE('TIME TABLE'!$C$11,'TIME TABLE'!$D$11,'TIME TABLE'!$E$11)))","v":""},{"$f":"IF(C3184=\"\",\"\",'TIME TABLE'!$F$13)","v":""},null,{"$f":"IF(C3184=\"\",\"\",'TIME TABLE'!$H$13)","v":""}]
[null,null,{"$f":"IF('TIME TABLE'!$B$14=\"\",\"\",'TIME TABLE'!$B$14)","v":""},null,{"$f":"IF(C3185=\"\",\"\",IF(C3185>0,CONCATENATE('TIME TABLE'!$C$11,'TIME TABLE'!$D$11,'TIME TABLE'!$E$11)))","v":""},{"$f":"IF(C3185=\"\",\"\",'TIME TABLE'!$F$14)","v":""},null,{"$f":"IF(C3185=\"\",\"\",'TIME TABLE'!$H$14)","v":""}]
[null,null,"Instructions"]
[null,null,1,"Check the exam time table carefully."]
[null,null,2,"Students must bring the 'Admit Card' and show it to the invigilator(s) on duty and should preserve it for future requirements."]
[null,null,3,"Mobile Phone, Calculator, Digital Watch or any Electronic Device is NOT ALLOWED."]
[null,null,4,"Arrive at the School at least 15 minutes before the start examination."]
[null,null,5,"Student is barred from entering the examination hall 15 minutes after the written examination starts."]
[null,null,6,"Ensure that you use the washroom before arriving for your exam as you will not be permitted to leave during the first hour."]
[null,null,7,"Normally, you are required to answer questionsusing blue or black in . Make sure you bring some spare pens with you."]
[null,null,8,"Keep your eyes on your own paper. Remember, copying is cheating!"]
[null,null,9,"You must remain silent until after you have exited the school building."]
[]
[{"$f":"A3163+1","v":95}]
[null,{"$f":"logo","v":{"$error":"#NAME?"}},null,{"$f":"MASTER!$E$11","v":"Govt. Sr. Secondary School Raimalwada"}]
[{"$nulls":3},{"$f":"MASTER!$E$14","v":"P.S.-Bapini (Phalodi)"}]
[null,{"$f":"CONCATENATE(C3201,'TIME TABLE'!$C$5,'ADMIT CARD'!$C3202,$F3202,'ADMIT CARD'!$G3202,'TIME TABLE'!$E$5)","v":"ADMIT CARD(Roll Number●→0)"},{"$f":"CONCATENATE('TIME TABLE'!$B$2,'TIME TABLE'!$F$2)","v":"TEST-I: (2025-26)"},{"$nulls":5},"Paste latest \nphoto of student"]
[null,null,"ADMIT CARD",{"$nulls":6}," "]
[null,null,"Roll Number",null,null,"●→",{"$f":"VLOOKUP(A3197,'STUDENT DETAIL'!$C$8:$I$107,3)","v":0}]
[null,null,"Student's Name",null,null,"●→",{"$f":"IF(OR(G3202=0,G3202=\"\"),\"\",VLOOKUP(A3197,'STUDENT DETAIL'!$C$8:$I$107,4))","v":""}]
[null,null,"Father's Name",null,null,"●→",{"$f":"IF(OR(G3202=0,G3202=\"\"),\"\",VLOOKUP(A3197,'STUDENT DETAIL'!$C$8:$I$107,5))","v":""},null,"Seal and Signature of Head of Institution"]
[null,null,"Mother's Name ",null,null,"●→",{"$f":"IF(OR(G3202=0,G3202=\"\"),\"\",VLOOKUP(A3197,'STUDENT DETAIL'!$C$8:$I$107,6))","v":""}]
[null,null,"Class & Section",null,null,"●→",{"$f":"IF(OR(G3202=0,G3202=\"\"),\"\",IF('STUDENT DETAIL'!$H$4=\"\",'STUDENT DETAIL'!$E$4,CONCATENATE('STUDENT DETAIL'!$E$4,\"   \",\"(\",'STUDENT DETAIL'!$H$4,\")\")))","v":""}]
[null,null,"Date Of Birth",null,null,"●→",{"$f":"IF(OR(G3202=0,G3202=\"\"),\"\",VLOOKUP(A3197,'STUDENT DETAIL'!$C$8:$I$107,7))","v":""}]
[null,null,"Time Table"]
[null,null,"Date (Day)",null,null,"Subject",null,"Time"]
[null,null,{"$f":"IF('TIME TABLE'!$B$5=\"\",\"\",'TIME TABLE'!$B$5)","v":"2022-03-31"},null,{"$f":"IF(C3210=\"\",\"\",IF(C3210>0,CONCATENATE('TIME TABLE'!$C$5,'TIME TABLE'!$D$5,'TIME TABLE'!$E$5)))","v":"(Thursday)"},{"$f":"IF(C3210=\"\",\"\",'TIME TABLE'!$F$5)","v":"Hindi"},null,{"$f":"IF(F3210=\"\",\"\",'TIME TABLE'!$H$5)","v":"09:00 AM to 11:45 AM"}]
[null,null,{"$f":"IF('TIME TABLE'!$B$6=\"\",\"\",'TIME TABLE'!$B$6)","v":"2022-04-01"},null,{"$f":"IF(C3211=\"\",\"\",IF(C3211>0,CONCATENATE('TIME TABLE'!$C$6,'TIME TABLE'!$D$6,'TIME TABLE'!$E$6)))","v":"(Friday)"},{"$f":"IF(C3211=\"\",\"\",'TIME TABLE'!$F$6)","v":"English"},null,{"$f":"IF(F3211=\"\",\"\",'TIME TABLE'!$H$6)","v":"09:00 AM to 11:45 AM"}]
[null,null,{"$f":"IF('TIME TABLE'!$B$7=\"\",\"\",'TIME TABLE'!$B$7)","v":"2022-04-02"},null,{"$f":"IF(C3212=\"\",\"\",IF(C3212>0,CONCATENATE('TIME TABLE'!$C$7,'TIME TABLE'!$D$7,'TIME TABLE'!$E$7)))","v":"(Saturday)"},{"$f":"IF(C3212=\"\",\"\",'TIME TABLE'!$F$7)","v":"Science"},null,{"$f":"IF(F3212=\"\",\"\",'TIME TABLE'!$H$7)","v":"09:00 AM to 11:45 AM"}]
[null,null,{"$f":"IF('TIME TABLE'!$B$8=\"\",\"\",'TIME TABLE'!$B$8)","v":"2022-04-03"},null,{"$f":"IF(C3213=\"\",\"\",IF(C3213>0,CONCATENATE('TIME TABLE'!$C$8,'TIME TABLE'!$D$8,'TIME TABLE'!$E$8)))","v":"(Sunday)"},{"$f":"IF(C3213=\"\",\"\",'TIME TABLE'!$F$8)","v":"Mathematics"},null,{"$f":"IF(F3213=\"\",\"\",'TIME TABLE'!$H$8)","v":"09:00 AM to 11:45 AM"}]
[null,null,{"$f":"IF('TIME TABLE'!$B$9=\"\",\"\",'TIME TABLE'!$B$9)","v":"2022-04-04"},null,{"$f":"IF(C3214=\"\",\"\",IF(C3214>0,CONCATENATE('TIME TABLE'!$C$9,'TIME TABLE'!$D$9,'TIME TABLE'!$E$9)))","v":"(Monday)"},{"$f":"IF(C3214=\"\",\"\",'TIME TABLE'!$F$9)","v":"Social Study"},null,{"$f":"IF(F3214=\"\",\"\",'TIME TABLE'!$H$9)","v":"09:00 AM to 11:45 AM"}]
[null,null,{"$f":"IF('TIME TABLE'!$B$10=\"\",\"\",'TIME TABLE'!$B$10)","v":"2022-04-05"},null,{"$f":"IF(C3215=\"\",\"\",IF(C3215>0,CONCATENATE('TIME TABLE'!$C$10,'TIME TABLE'!$D$10,'TIME TABLE'!$E$10)))","v":"(Tuesday)"},{"$f":"IF(C3215=\"\",\"\",'TIME TABLE'!$F$10)","v":"Sanskrit"},null,{"$f":"IF(F3215=\"\",\"\",'TIME TABLE'!$H$10)","v":"09:00 AM to 11:45 AM"}]
[null,null,{"$f":"IF('TIME TABLE'!$B$11=\"\",\"\",'TIME TABLE'!$B$11)","v":""},null,{"$f":"IF(C3216=\"\",\"\",IF(C3216>0,CONCATENATE('TIME TABLE'!$C$11,'TIME TABLE'!$D$11,'TIME TABLE'!$E$11)))","v":""},{"$f":"IF(C3216=\"\",\"\",'TIME TABLE'!$F$11)","v":""},null,{"$f":"IF(F3216=\"\",\"\",'TIME TABLE'!$H$11)","v":""}]
[null,null,{"$f":"IF('TIME TABLE'!$B$12=\"\",\"\",'TIME TABLE'!$B$12)","v":""},null,{"$f":"IF(C3217=\"\",\"\",IF(C3217>0,CONCATENATE('TIME TABLE'!$C$12,'TIME TABLE'!$D$12,'TIME TABLE'!$E$12)))","v":""},{"$f":"IF(C3217=\"\",\"\",'TIME TABLE'!$F$12)","v":""},null,{"$f":"IF(C3217=\"\",\"\",'TIME TABLE'!$H$12)","v":""}]
[null,null,{"$f":"IF('TIME TABLE'!$B$13=\"\",\"\",'TIME TABLE'!$B$13)","v":""},null,{"$f":"IF(C3218=\"\",\"\",IF(C3218>0,CONCATENATE('TIME TABLE'!$C$11,'TIME TABLE'!$D$11,'TIME TABLE'!$E$11)))","v":""},{"$f":"IF(C3218=\"\",\"\",'TIME TABLE'!$F$13)","v":""},null,{"$f":"IF(C3218=\"\",\"\",'TIME TABLE'!$H$13)","v":""}]
[null,null,{"$f":"IF('TIME TABLE'!$B$14=\"\",\"\",'TIME TABLE'!$B$14)","v":""},null,{"$f":"IF(C3219=\"\",\"\",IF(C3219>0,CONCATENATE('TIME TABLE'!$C$11,'TIME TABLE'!$D$11,'TIME TABLE'!$E$11)))","v":""},{"$f":"IF(C3219=\"\",\"\",'TIME TABLE'!$F$14)","v":""},null,{"$f":"IF(C3219=\"\",\"\",'TIME TABLE'!$H$14)","v":""}]
[null,null,"Instructions"]
[null,null,1,"Check the exam time table carefully."]
[null,null,2,"Students must bring the 'Admit Card' and show it to the invigilator(s) on duty and should preserve it for future requirements."]
[null,null,3,"Mobile Phone, Calculator, Digital Watch or any Electronic Device is NOT ALLOWED."]
[null,null,4,"Arrive at the School at least 15 minutes before the start examination."]
[null,null,5,"Student is barred from entering the examination hall 15 minutes after the written examination starts."]
[null,null,6,"Ensure that you use the washroom before arriving for your exam as you will not be permitted to leave during the first hour."]
[null,null,7,"Normally, you are required to answer questionsusing blue or black in . Make sure you bring some spare pens with you."]
[null,null,8,"Keep your eyes on your own paper. Remember, copying is cheating!"]
[null,null,9,"You must remain silent until after you have exited the school building."]
[]
[{"$f":"A3197+1","v":96}]
[null,{"$f":"logo","v":{"$error":"#NAME?"}},null,{"$f":"MASTER!$E$11","v":"Govt. Sr. Secondary School Raimalwada"}]
[{"$nulls":3},{"$f":"MASTER!$E$14","v":"P.S.-Bapini (Phalodi)"}]
[null,{"$f":"CONCATENATE(C3235,'TIME TABLE'!$C$5,'ADMIT CARD'!$C3236,$F3236,'ADMIT CARD'!$G3236,'TIME TABLE'!$E$5)","v":"ADMIT CARD(Roll Number●→0)"},{"$f":"CONCATENATE('TIME TABLE'!$B$2,'TIME TABLE'!$F$2)","v":"TEST-I: (2025-26)"},{"$nulls":5},"Paste latest \nphoto of student"]
[null,null,"ADMIT CARD",{"$nulls":6}," "]
[null,null,"Roll Number",null,null,"●→",{"$f":"VLOOKUP(A3231,'STUDENT DETAIL'!$C$8:$I$107,3)","v":0}]
[null,null,"Student's Name",null,null,"●→",{"$f":"IF(OR(G3236=0,G3236=\"\"),\"\",VLOOKUP(A3231,'STUDENT DETAIL'!$C$8:$I$107,4))","v":""}]
[null,null,"Father's Name",null,null,"●→",{"$f":"IF(OR(G3236=0,G3236=\"\"),\"\",VLOOKUP(A3231,'STUDENT DETAIL'!$C$8:$I$107,5))","v":""},null,"Seal and Signature of Head of Institution"]
[null,null,"Mother's Name ",null,null,"●→",{"$f":"IF(OR(G3236=0,G3236=\"\"),\"\",VLOOKUP(A3231,'STUDENT DETAIL'!$C$8:$I$107,6))","v":""}]
[null,null,"Class & Section",null,null,"●→",{"$f":"IF(OR(G3236=0,G3236=\"\"),\"\",IF('STUDENT DETAIL'!$H$4=\"\",'STUDENT DETAIL'!$E$4,CONCATENATE('STUDENT DETAIL'!$E$4,\"   \",\"(\",'STUDENT DETAIL'!$H$4,\")\")))","v":""}]
[null,null,"Date Of Birth",null,null,"●→",{"$f":"IF(OR(G3236=0,G3236=\"\"),\"\",VLOOKUP(A3231,'STUDENT DETAIL'!$C$8:$I$107,7))","v":""}]
[null,null,"Time Table"]
[null,null,"Date (Day)",null,null,"Subject",null,"Time"]
[null,null,{"$f":"IF('TIME TABLE'!$B$5=\"\",\"\",'TIME TABLE'!$B$5)","v":"2022-03-31"},null,{"$f":"IF(C3244=\"\",\"\",IF(C3244>0,CONCATENATE('TIME TABLE'!$C$5,'TIME TABLE'!$D$5,'TIME TABLE'!$E$5)))","v":"(Thursday)"},{"$f":"IF(C3244=\"\",\"\",'TIME TABLE'!$F$5)","v":"Hindi"},null,{"$f":"IF(F3244=\"\",\"\",'TIME TABLE'!$H$5)","v":"09:00 AM to 11:45 AM"}]
[null,null,{"$f":"IF('TIME TABLE'!$B$6=\"\",\"\",'TIME TABLE'!$B$6)","v":"2022-04-01"},null,{"$f":"IF(C3245=\"\",\"\",IF(C3245>0,CONCATENATE('TIME TABLE'!$C$6,'TIME TABLE'!$D$6,'TIME TABLE'!$E$6)))","v":"(Friday)"},{"$f":"IF(C3245=\"\",\"\",'TIME TABLE'!$F$6)","v":"English"},null,{"$f":"IF(F3245=\"\",\"\",'TIME TABLE'!$H$6)","v":"09:00 AM to 11:45 AM"}]
[null,null,{"$f":"IF('TIME TABLE'!$B$7=\"\",\"\",'TIME TABLE'!$B$7)","v":"2022-04-02"},null,{"$f":"IF(C3246=\"\",\"\",IF(C3246>0,CONCATENATE('TIME TABLE'!$C$7,'TIME TABLE'!$D$7,'TIME TABLE'!$E$7)))","v":"(Saturday)"},{"$f":"IF(C3246=\"\",\"\",'TIME TABLE'!$F$7)","v":"Science"},null,{"$f":"IF(F3246=\"\",\"\",'TIME TABLE'!$H$7)","v":"09:00 AM to 11:45 AM"}]
[null,null,{"$f":"IF('TIME TABLE'!$B$8=\"\",\"\",'TIME TABLE'!$B$8)","v":"2022-04-03"},null,{"$f":"IF(C3247=\"\",\"\",IF(C3247>0,CONCATENATE('TIME TABLE'!$C$8,'TIME TABLE'!$D$8,'TIME TABLE'!$E$8)))","v":"(Sunday)"},{"$f":"IF(C3247=\"\",\"\",'TIME TABLE'!$F$8)","v":"Mathematics"},null,{"$f":"IF(F3247=\"\",\"\",'TIME TABLE'!$H$8)","v":"09:00 AM to 11:45 AM"}]
[null,null,{"$f":"IF('TIME TABLE'!$B$9=\"\",\"\",'TIME TABLE'!$B$9)","v":"2022-04-04"},null,{"$f":"IF(C3248=\"\",\"\",IF(C3248>0,CONCATENATE('TIME TABLE'!$C$9,'TIME TABLE'!$D$9,'TIME TABLE'!$E$9)))","v":"(Monday)"},{"$f":"IF(C3248=\"\",\"\",'TIME TABLE'!$F$9)","v":"Social Study"},null,{"$f":"IF(F3248=\"\",\"\",'TIME TABLE'!$H$9)","v":"09:00 AM to 11:45 AM"}]
[null,null,{"$f":"IF('TIME TABLE'!$B$10=\"\",\"\",'TIME TABLE'!$B$10)","v":"2022-04-05"},null,{"$f":"IF(C3249=\"\",\"\",IF(C3249>0,CONCATENATE('TIME TABLE'!$C$10,'TIME TABLE'!$D$10,'TIME TABLE'!$E$10)))","v":"(Tuesday)"},{"$f":"IF(C3249=\"\",\"\",'TIME TABLE'!$F$10)","v":"Sanskrit"},null,{"$f":"IF(F3249=\"\",\"\",'TIME TABLE'!$H$10)","v":"09:00 AM to 11:45 AM"}]
[null,null,{"$f":"IF('TIME TABLE'!$B$11=\"\",\"\",'TIME TABLE'!$B$11)","v":""},null,{"$f":"IF(C3250=\"\",\"\",IF(C3250>0,CONCATENATE('TIME TABLE'!$C$11,'TIME TABLE'!$D$11,'TIME TABLE'!$E$11)))","v":""},{"$f":"IF(C3250=\"\",\"\",'TIME TABLE'!$F$11)","v":""},null,{"$f":"IF(F3250=\"\",\"\",'TIME TABLE'!$H$11)","v":""}]
[null,null,{"$f":"IF('TIME TABLE'!$B$12=\"\",\"\",'TIME TABLE'!$B$12)","v":""},null,{"$f":"IF(C3251=\"\",\"\",IF(C3251>0,CONCATENATE('TIME TABLE'!$C$12,'TIME TABLE'!$D$12,'TIME TABLE'!$E$12)))","v":""},{"$f":"IF(C3251=\"\",\"\",'TIME TABLE'!$F$12)","v":""},null,{"$f":"IF(C3251=\"\",\"\",'TIME TABLE'!$H$12)","v":""}]
[null,null,{"$f":"IF('TIME TABLE'!$B$13=\"\",\"\",'TIME TABLE'!$B$13)","v":""},null,{"$f":"IF(C3252=\"\",\"\",IF(C3252>0,CONCATENATE('TIME TABLE'!$C$11,'TIME TABLE'!$D$11,'TIME TABLE'!$E$11)))","v":""},{"$f":"IF(C3252=\"\",\"\",'TIME TABLE'!$F$13)","v":""},null,{"$f":"IF(C3252=\"\",\"\",'TIME TABLE'!$H$13)","v":""}]
[null,null,{"$f":"IF('TIME TABLE'!$B$14=\"\",\"\",'TIME TABLE'!$B$14)","v":""},null,{"$f":"IF(C3253=\"\",\"\",IF(C3253>0,CONCATENATE('TIME TABLE'!$C$11,'TIME TABLE'!$D$11,'TIME TABLE'!$E$11)))","v":""},{"$f":"IF(C3253=\"\",\"\",'TIME TABLE'!$F$14)","v":""},null,{"$f":"IF(C3253=\"\",\"\",'TIME TABLE'!$H$14)","v":""}]
[null,null,"Instructions"]
[null,null,1,"Check the exam time table carefully."]
[null,null,2,"Students must bring the 'Admit Card' and show it to the invigilator(s) on duty and should preserve it for future requirements."]
[null,null,3,"Mobile Phone, Calculator, Digital Watch or any Electronic Device is NOT ALLOWED."]
[null,null,4,"Arrive at the School at least 15 minutes before the start examination."]
[null,null,5,"Student is barred from entering the examination hall 15 minutes after the written examination starts."]
[null,null,6,"Ensure that you use the washroom before arriving for your exam as you will not be permitted to leave during the first hour."]
[null,null,7,"Normally, you are required to answer questionsusing blue or black in . Make sure you bring some spare pens with you."]
[null,null,8,"Keep your eyes on your own paper. Remember, copying is cheating!"]
[null,null,9,"You must remain silent until after you have exited the school building."]
[]
[{"$f":"A3231+1","v":97}]
[null,{"$f":"logo","v":{"$error":"#NAME?"}},null,{"$f":"MASTER!$E$11","v":"Govt. Sr. Secondary School Raimalwada"}]
[{"$nulls":3},{"$f":"MASTER!$E$14","v":"P.S.-Bapini (Phalodi)"}]
[null,{"$f":"CONCATENATE(C3269,'TIME TABLE'!$C$5,'ADMIT CARD'!$C3270,$F3270,'ADMIT CARD'!$G3270,'TIME TABLE'!$E$5)","v":"ADMIT CARD(Roll Number●→0)"},{"$f":"CONCATENATE('TIME TABLE'!$B$2,'TIME TABLE'!$F$2)","v":"TEST-I: (2025-26)"},{"$nulls":5},"Paste latest \nphoto of student"]
[null,null,"ADMIT CARD",{"$nulls":6}," "]
[null,null,"Roll Number",null,null,"●→",{"$f":"VLOOKUP(A3265,'STUDENT DETAIL'!$C$8:$I$107,3)","v":0}]
[null,null,"Student's Name",null,null,"●→",{"$f":"IF(OR(G3270=0,G3270=\"\"),\"\",VLOOKUP(A3265,'STUDENT DETAIL'!$C$8:$I$107,4))","v":""}]
[null,null,"Father's Name",null,null,"●→",{"$f":"IF(OR(G3270=0,G3270=\"\"),\"\",VLOOKUP(A3265,'STUDENT DETAIL'!$C$8:$I$107,5))","v":""},null,"Seal and Signature of Head of Institution"]
[null,null,"Mother's Name ",null,null,"●→",{"$f":"IF(OR(G3270=0,G3270=\"\"),\"\",VLOOKUP(A3265,'STUDENT DETAIL'!$C$8:$I$107,6))","v":""}]
[null,null,"Class & Section",null,null,"●→",{"$f":"IF(OR(G3270=0,G3270=\"\"),\"\",IF('STUDENT DETAIL'!$H$4=\"\",'STUDENT DETAIL'!$E$4,CONCATENATE('STUDENT DETAIL'!$E$4,\"   \",\"(\",'STUDENT DETAIL'!$H$4,\")\")))","v":""}]
[null,null,"Date Of Birth",null,null,"●→",{"$f":"IF(OR(G3270=0,G3270=\"\"),\"\",VLOOKUP(A3265,'STUDENT DETAIL'!$C$8:$I$107,7))","v":""}]
[null,null,"Time Table"]
[null,null,"Date (Day)",null,null,"Subject",null,"Time"]
[null,null,{"$f":"IF('TIME TABLE'!$B$5=\"\",\"\",'TIME TABLE'!$B$5)","v":"2022-03-31"},null,{"$f":"IF(C3278=\"\",\"\",IF(C3278>0,CONCATENATE('TIME TABLE'!$C$5,'TIME TABLE'!$D$5,'TIME TABLE'!$E$5)))","v":"(Thursday)"},{"$f":"IF(C3278=\"\",\"\",'TIME TABLE'!$F$5)","v":"Hindi"},null,{"$f":"IF(F3278=\"\",\"\",'TIME TABLE'!$H$5)","v":"09:00 AM to 11:45 AM"}]
[null,null,{"$f":"IF('TIME TABLE'!$B$6=\"\",\"\",'TIME TABLE'!$B$6)","v":"2022-04-01"},null,{"$f":"IF(C3279=\"\",\"\",IF(C3279>0,CONCATENATE('TIME TABLE'!$C$6,'TIME TABLE'!$D$6,'TIME TABLE'!$E$6)))","v":"(Friday)"},{"$f":"IF(C3279=\"\",\"\",'TIME TABLE'!$F$6)","v":"English"},null,{"$f":"IF(F3279=\"\",\"\",'TIME TABLE'!$H$6)","v":"09:00 AM to 11:45 AM"}]
[null,null,{"$f":"IF('TIME TABLE'!$B$7=\"\",\"\",'TIME TABLE'!$B$7)","v":"2022-04-02"},null,{"$f":"IF(C3280=\"\",\"\",IF(C3280>0,CONCATENATE('TIME TABLE'!$C$7,'TIME TABLE'!$D$7,'TIME TABLE'!$E$7)))","v":"(Saturday)"},{"$f":"IF(C3280=\"\",\"\",'TIME TABLE'!$F$7)","v":"Science"},null,{"$f":"IF(F3280=\"\",\"\",'TIME TABLE'!$H$7)","v":"09:00 AM to 11:45 AM"}]
[null,null,{"$f":"IF('TIME TABLE'!$B$8=\"\",\"\",'TIME TABLE'!$B$8)","v":"2022-04-03"},null,{"$f":"IF(C3281=\"\",\"\",IF(C3281>0,CONCATENATE('TIME TABLE'!$C$8,'TIME TABLE'!$D$8,'TIME TABLE'!$E$8)))","v":"(Sunday)"},{"$f":"IF(C3281=\"\",\"\",'TIME TABLE'!$F$8)","v":"Mathematics"},null,{"$f":"IF(F3281=\"\",\"\",'TIME TABLE'!$H$8)","v":"09:00 AM to 11:45 AM"}]
[null,null,{"$f":"IF('TIME TABLE'!$B$9=\"\",\"\",'TIME TABLE'!$B$9)","v":"2022-04-04"},null,{"$f":"IF(C3282=\"\",\"\",IF(C3282>0,CONCATENATE('TIME TABLE'!$C$9,'TIME TABLE'!$D$9,'TIME TABLE'!$E$9)))","v":"(Monday)"},{"$f":"IF(C3282=\"\",\"\",'TIME TABLE'!$F$9)","v":"Social Study"},null,{"$f":"IF(F3282=\"\",\"\",'TIME TABLE'!$H$9)","v":"09:00 AM to 11:45 AM"}]
[null,null,{"$f":"IF('TIME TABLE'!$B$10=\"\",\"\",'TIME TABLE'!$B$10)","v":"2022-04-05"},null,{"$f":"IF(C3283=\"\",\"\",IF(C3283>0,CONCATENATE('TIME TABLE'!$C$10,'TIME TABLE'!$D$10,'TIME TABLE'!$E$10)))","v":"(Tuesday)"},{"$f":"IF(C3283=\"\",\"\",'TIME TABLE'!$F$10)","v":"Sanskrit"},null,{"$f":"IF(F3283=\"\",\"\",'TIME TABLE'!$H$10)","v":"09:00 AM to 11:45 AM"}]
[null,null,{"$f":"IF('TIME TABLE'!$B$11=\"\",\"\",'TIME TABLE'!$B$11)","v":""},null,{"$f":"IF(C3284=\"\",\"\",IF(C3284>0,CONCATENATE('TIME TABLE'!$C$11,'TIME TABLE'!$D$11,'TIME TABLE'!$E$11)))","v":""},{"$f":"IF(C3284=\"\",\"\",'TIME TABLE'!$F$11)","v":""},null,{"$f":"IF(F3284=\"\",\"\",'TIME TABLE'!$H$11)","v":""}]
[null,null,{"$f":"IF('TIME TABLE'!$B$12=\"\",\"\",'TIME TABLE'!$B$12)","v":""},null,{"$f":"IF(C3285=\"\",\"\",IF(C3285>0,CONCATENATE('TIME TABLE'!$C$12,'TIME TABLE'!$D$12,'TIME TABLE'!$E$12)))","v":""},{"$f":"IF(C3285=\"\",\"\",'TIME TABLE'!$F$12)","v":""},null,{"$f":"IF(C3285=\"\",\"\",'TIME TABLE'!$H$12)","v":""}]
[null,null,{"$f":"IF('TIME TABLE'!$B$13=\"\",\"\",'TIME TABLE'!$B$13)","v":""},null,{"$f":"IF(C3286=\"\",\"\",IF(C3286>0,CONCATENATE('TIME TABLE'!$C$11,'TIME TABLE'!$D$11,'TIME TABLE'!$E$11)))","v":""},{"$f":"IF(C3286=\"\",\"\",'TIME TABLE'!$F$13)","v":""},null,{"$f":"IF(C3286=\"\",\"\",'TIME TABLE'!$H$13)","v":""}]
[null,null,{"$f":"IF('TIME TABLE'!$B$14=\"\",\"\",'TIME TABLE'!$B$14)","v":""},null,{"$f":"IF(C3287=\"\",\"\",IF(C3287>0,CONCATENATE('TIME TABLE'!$C$11,'TIME TABLE'!$D$11,'TIME TABLE'!$E$11)))","v":""},{"$f":"IF(C3287=\"\",\"\",'TIME TABLE'!$F$14)","v":""},null,{"$f":"IF(C3287=\"\",\"\",'TIME TABLE'!$H$14)","v":""}]
[null,null,"Instructions"]
[null,null,1,"Check the exam time table carefully."]
[null,null,2,"Students must bring the 'Admit Card' and show it to the invigilator(s) on duty and should preserve it for future requirements."]
[null,null,3,"Mobile Phone, Calculator, Digital Watch or any Electronic Device is NOT ALLOWED."]
[null,null,4,"Arrive at the School at least 15 minutes before the start examination."]
[null,null,5,"Student is barred from entering the examination hall 15 minutes after the written examination starts."]
[null,null,6,"Ensure that you use the washroom before arriving for your exam as you will not be permitted to leave during the first hour."]
[null,null,7,"Normally, you are required to answer questionsusing blue or black in . Make sure you bring some spare pens with you."]
[null,null,8,"Keep your eyes on your own paper. Remember, copying is cheating!"]
[null,null,9,"You must remain silent until after you have exited the school building."]
[]
[{"$f":"A3265+1","v":98}]
[null,{"$f":"logo","v":{"$error":"#NAME?"}},null,{"$f":"MASTER!$E$11","v":"Govt. Sr. Secondary School Raimalwada"}]
[{"$nulls":3},{"$f":"MASTER!$E$14","v":"P.S.-Bapini (Phalodi)"}]
[null,{"$f":"CONCATENATE(C3303,'TIME TABLE'!$C$5,'ADMIT CARD'!$C3304,$F3304,'ADMIT CARD'!$G3304,'TIME TABLE'!$E$5)","v":"ADMIT CARD(Roll Number●→0)"},{"$f":"CONCATENATE('TIME TABLE'!$B$2,'TIME TABLE'!$F$2)","v":"TEST-I: (2025-26)"},{"$nulls":5},"Paste latest \nphoto of student"]
[null,null,"ADMIT CARD",{"$nulls":6}," "]
[null,null,"Roll Number",null,null,"●→",{"$f":"VLOOKUP(A3299,'STUDENT DETAIL'!$C$8:$I$107,3)","v":0}]
[null,null,"Student's Name",null,null,"●→",{"$f":"IF(OR(G3304=0,G3304=\"\"),\"\",VLOOKUP(A3299,'STUDENT DETAIL'!$C$8:$I$107,4))","v":""}]
[null,null,"Father's Name",null,null,"●→",{"$f":"IF(OR(G3304=0,G3304=\"\"),\"\",VLOOKUP(A3299,'STUDENT DETAIL'!$C$8:$I$107,5))","v":""},null,"Seal and Signature of Head of Institution"]
[null,null,"Mother's Name ",null,null,"●→",{"$f":"IF(OR(G3304=0,G3304=\"\"),\"\",VLOOKUP(A3299,'STUDENT DETAIL'!$C$8:$I$107,6))","v":""}]
[null,null,"Class & Section",null,null,"●→",{"$f":"IF(OR(G3304=0,G3304=\"\"),\"\",IF('STUDENT DETAIL'!$H$4=\"\",'STUDENT DETAIL'!$E$4,CONCATENATE('STUDENT DETAIL'!$E$4,\"   \",\"(\",'STUDENT DETAIL'!$H$4,\")\")))","v":""}]
[null,null,"Date Of Birth",null,null,"●→",{"$f":"IF(OR(G3304=0,G3304=\"\"),\"\",VLOOKUP(A3299,'STUDENT DETAIL'!$C$8:$I$107,7))","v":""}]
[null,null,"Time Table"]
[null,null,"Date (Day)",null,null,"Subject",null,"Time"]
[null,null,{"$f":"IF('TIME TABLE'!$B$5=\"\",\"\",'TIME TABLE'!$B$5)","v":"2022-03-31"},null,{"$f":"IF(C3312=\"\",\"\",IF(C3312>0,CONCATENATE('TIME TABLE'!$C$5,'TIME TABLE'!$D$5,'TIME TABLE'!$E$5)))","v":"(Thursday)"},{"$f":"IF(C3312=\"\",\"\",'TIME TABLE'!$F$5)","v":"Hindi"},null,{"$f":"IF(F3312=\"\",\"\",'TIME TABLE'!$H$5)","v":"09:00 AM to 11:45 AM"}]
[null,null,{"$f":"IF('TIME TABLE'!$B$6=\"\",\"\",'TIME TABLE'!$B$6)","v":"2022-04-01"},null,{"$f":"IF(C3313=\"\",\"\",IF(C3313>0,CONCATENATE('TIME TABLE'!$C$6,'TIME TABLE'!$D$6,'TIME TABLE'!$E$6)))","v":"(Friday)"},{"$f":"IF(C3313=\"\",\"\",'TIME TABLE'!$F$6)","v":"English"},null,{"$f":"IF(F3313=\"\",\"\",'TIME TABLE'!$H$6)","v":"09:00 AM to 11:45 AM"}]
[null,null,{"$f":"IF('TIME TABLE'!$B$7=\"\",\"\",'TIME TABLE'!$B$7)","v":"2022-04-02"},null,{"$f":"IF(C3314=\"\",\"\",IF(C3314>0,CONCATENATE('TIME TABLE'!$C$7,'TIME TABLE'!$D$7,'TIME TABLE'!$E$7)))","v":"(Saturday)"},{"$f":"IF(C3314=\"\",\"\",'TIME TABLE'!$F$7)","v":"Science"},null,{"$f":"IF(F3314=\"\",\"\",'TIME TABLE'!$H$7)","v":"09:00 AM to 11:45 AM"}]
[null,null,{"$f":"IF('TIME TABLE'!$B$8=\"\",\"\",'TIME TABLE'!$B$8)","v":"2022-04-03"},null,{"$f":"IF(C3315=\"\",\"\",IF(C3315>0,CONCATENATE('TIME TABLE'!$C$8,'TIME TABLE'!$D$8,'TIME TABLE'!$E$8)))","v":"(Sunday)"},{"$f":"IF(C3315=\"\",\"\",'TIME TABLE'!$F$8)","v":"Mathematics"},null,{"$f":"IF(F3315=\"\",\"\",'TIME TABLE'!$H$8)","v":"09:00 AM to 11:45 AM"}]
[null,null,{"$f":"IF('TIME TABLE'!$B$9=\"\",\"\",'TIME TABLE'!$B$9)","v":"2022-04-04"},null,{"$f":"IF(C3316=\"\",\"\",IF(C3316>0,CONCATENATE('TIME TABLE'!$C$9,'TIME TABLE'!$D$9,'TIME TABLE'!$E$9)))","v":"(Monday)"},{"$f":"IF(C3316=\"\",\"\",'TIME TABLE'!$F$9)","v":"Social Study"},null,{"$f":"IF(F3316=\"\",\"\",'TIME TABLE'!$H$9)","v":"09:00 AM to 11:45 AM"}]
[null,null,{"$f":"IF('TIME TABLE'!$B$10=\"\",\"\",'TIME TABLE'!$B$10)","v":"2022-04-05"},null,{"$f":"IF(C3317=\"\",\"\",IF(C3317>0,CONCATENATE('TIME TABLE'!$C$10,'TIME TABLE'!$D$10,'TIME TABLE'!$E$10)))","v":"(Tuesday)"},{"$f":"IF(C3317=\"\",\"\",'TIME TABLE'!$F$10)","v":"Sanskrit"},null,{"$f":"IF(F3317=\"\",\"\",'TIME TABLE'!$H$10)","v":"09:00 AM to 11:45 AM"}]
[null,null,{"$f":"IF('TIME TABLE'!$B$11=\"\",\"\",'TIME TABLE'!$B$11)","v":""},null,{"$f":"IF(C3318=\"\",\"\",IF(C3318>0,CONCATENATE('TIME TABLE'!$C$11,'TIME TABLE'!$D$11,'TIME TABLE'!$E$11)))","v":""},{"$f":"IF(C3318=\"\",\"\",'TIME TABLE'!$F$11)","v":""},null,{"$f":"IF(F3318=\"\",\"\",'TIME TABLE'!$H$11)","v":""}]
[null,null,{"$f":"IF('TIME TABLE'!$B$12=\"\",\"\",'TIME TABLE'!$B$12)","v":""},null,{"$f":"IF(C3319=\"\",\"\",IF(C3319>0,CONCATENATE('TIME TABLE'!$C$12,'TIME TABLE'!$D$12,'TIME TABLE'!$E$12)))","v":""},{"$f":"IF(C3319=\"\",\"\",'TIME TABLE'!$F$12)","v":""},null,{"$f":"IF(C3319=\"\",\"\",'TIME TABLE'!$H$12)","v":""}]
[null,null,{"$f":"IF('TIME TABLE'!$B$13=\"\",\"\",'TIME TABLE'!$B$13)","v":""},null,{"$f":"IF(C3320=\"\",\"\",IF(C3320>0,CONCATENATE('TIME TABLE'!$C$11,'TIME TABLE'!$D$11,'TIME TABLE'!$E$11)))","v":""},{"$f":"IF(C3320=\"\",\"\",'TIME TABLE'!$F$13)","v":""},null,{"$f":"IF(C3320=\"\",\"\",'TIME TABLE'!$H$13)","v":""}]
[null,null,{"$f":"IF('TIME TABLE'!$B$14=\"\",\"\",'TIME TABLE'!$B$14)","v":""},null,{"$f":"IF(C3321=\"\",\"\",IF(C3321>0,CONCATENATE('TIME TABLE'!$C$11,'TIME TABLE'!$D$11,'TIME TABLE'!$E$11)))","v":""},{"$f":"IF(C3321=\"\",\"\",'TIME TABLE'!$F$14)","v":""},null,{"$f":"IF(C3321=\"\",\"\",'TIME TABLE'!$H$14)","v":""}]
[null,null,"Instructions"]
[null,null,1,"Check the exam time table carefully."]
[null,null,2,"Students must bring the 'Admit Card' and show it to the invigilator(s) on duty and should preserve it for future requirements."]
[null,null,3,"Mobile Phone, Calculator, Digital Watch or any Electronic Device is NOT ALLOWED."]
[null,null,4,"Arrive at the School at least 15 minutes before the start examination."]
[null,null,5,"Student is barred from entering the examination hall 15 minutes after the written examination starts."]
[null,null,6,"Ensure that you use the washroom before arriving for your exam as you will not be permitted to leave during the first hour."]
[null,null,7,"Normally, you are required to answer questionsusing blue or black in . Make sure you bring some spare pens with you."]
[null,null,8,"Keep your eyes on your own paper. Remember, copying is cheating!"]
[null,null,9,"You must remain silent until after you have exited the school building."]
[]
[{"$f":"A3299+1","v":99}]
[null,{"$f":"logo","v":{"$error":"#NAME?"}},null,{"$f":"MASTER!$E$11","v":"Govt. Sr. Secondary School Raimalwada"}]
[{"$nulls":3},{"$f":"MASTER!$E$14","v":"P.S.-Bapini (Phalodi)"}]
[null,{"$f":"CONCATENATE(C3337,'TIME TABLE'!$C$5,'ADMIT CARD'!$C3338,$F3338,'ADMIT CARD'!$G3338,'TIME TABLE'!$E$5)","v":"ADMIT CARD(Roll Number●→0)"},{"$f":"CONCATENATE('TIME TABLE'!$B$2,'TIME TABLE'!$F$2)","v":"TEST-I: (2025-26)"},{"$nulls":5},"Paste latest \nphoto of student"]
[null,null,"ADMIT CARD",{"$nulls":6}," "]
[null,null,"Roll Number",null,null,"●→",{"$f":"VLOOKUP(A3333,'STUDENT DETAIL'!$C$8:$I$107,3)","v":0}]
[null,null,"Student's Name",null,null,"●→",{"$f":"IF(OR(G3338=0,G3338=\"\"),\"\",VLOOKUP(A3333,'STUDENT DETAIL'!$C$8:$I$107,4))","v":""}]
[null,null,"Father's Name",null,null,"●→",{"$f":"IF(OR(G3338=0,G3338=\"\"),\"\",VLOOKUP(A3333,'STUDENT DETAIL'!$C$8:$I$107,5))","v":""},null,"Seal and Signature of Head of Institution"]
[null,null,"Mother's Name ",null,null,"●→",{"$f":"IF(OR(G3338=0,G3338=\"\"),\"\",VLOOKUP(A3333,'STUDENT DETAIL'!$C$8:$I$107,6))","v":""}]
[null,null,"Class & Section",null,null,"●→",{"$f":"IF(OR(G3338=0,G3338=\"\"),\"\",IF('STUDENT DETAIL'!$H$4=\"\",'STUDENT DETAIL'!$E$4,CONCATENATE('STUDENT DETAIL'!$E$4,\"   \",\"(\",'STUDENT DETAIL'!$H$4,\")\")))","v":""}]
[null,null,"Date Of Birth",null,null,"●→",{"$f":"IF(OR(G3338=0,G3338=\"\"),\"\",VLOOKUP(A3333,'STUDENT DETAIL'!$C$8:$I$107,7))","v":""}]
[null,null,"Time Table"]
[null,null,"Date (Day)",null,null,"Subject",null,"Time"]
[null,null,{"$f":"IF('TIME TABLE'!$B$5=\"\",\"\",'TIME TABLE'!$B$5)","v":"2022-03-31"},null,{"$f":"IF(C3346=\"\",\"\",IF(C3346>0,CONCATENATE('TIME TABLE'!$C$5,'TIME TABLE'!$D$5,'TIME TABLE'!$E$5)))","v":"(Thursday)"},{"$f":"IF(C3346=\"\",\"\",'TIME TABLE'!$F$5)","v":"Hindi"},null,{"$f":"IF(F3346=\"\",\"\",'TIME TABLE'!$H$5)","v":"09:00 AM to 11:45 AM"}]
[null,null,{"$f":"IF('TIME TABLE'!$B$6=\"\",\"\",'TIME TABLE'!$B$6)","v":"2022-04-01"},null,{"$f":"IF(C3347=\"\",\"\",IF(C3347>0,CONCATENATE('TIME TABLE'!$C$6,'TIME TABLE'!$D$6,'TIME TABLE'!$E$6)))","v":"(Friday)"},{"$f":"IF(C3347=\"\",\"\",'TIME TABLE'!$F$6)","v":"English"},null,{"$f":"IF(F3347=\"\",\"\",'TIME TABLE'!$H$6)","v":"09:00 AM to 11:45 AM"}]
[null,null,{"$f":"IF('TIME TABLE'!$B$7=\"\",\"\",'TIME TABLE'!$B$7)","v":"2022-04-02"},null,{"$f":"IF(C3348=\"\",\"\",IF(C3348>0,CONCATENATE('TIME TABLE'!$C$7,'TIME TABLE'!$D$7,'TIME TABLE'!$E$7)))","v":"(Saturday)"},{"$f":"IF(C3348=\"\",\"\",'TIME TABLE'!$F$7)","v":"Science"},null,{"$f":"IF(F3348=\"\",\"\",'TIME TABLE'!$H$7)","v":"09:00 AM to 11:45 AM"}]
[null,null,{"$f":"IF('TIME TABLE'!$B$8=\"\",\"\",'TIME TABLE'!$B$8)","v":"2022-04-03"},null,{"$f":"IF(C3349=\"\",\"\",IF(C3349>0,CONCATENATE('TIME TABLE'!$C$8,'TIME TABLE'!$D$8,'TIME TABLE'!$E$8)))","v":"(Sunday)"},{"$f":"IF(C3349=\"\",\"\",'TIME TABLE'!$F$8)","v":"Mathematics"},null,{"$f":"IF(F3349=\"\",\"\",'TIME TABLE'!$H$8)","v":"09:00 AM to 11:45 AM"}]
[null,null,{"$f":"IF('TIME TABLE'!$B$9=\"\",\"\",'TIME TABLE'!$B$9)","v":"2022-04-04"},null,{"$f":"IF(C3350=\"\",\"\",IF(C3350>0,CONCATENATE('TIME TABLE'!$C$9,'TIME TABLE'!$D$9,'TIME TABLE'!$E$9)))","v":"(Monday)"},{"$f":"IF(C3350=\"\",\"\",'TIME TABLE'!$F$9)","v":"Social Study"},null,{"$f":"IF(F3350=\"\",\"\",'TIME TABLE'!$H$9)","v":"09:00 AM to 11:45 AM"}]
[null,null,{"$f":"IF('TIME TABLE'!$B$10=\"\",\"\",'TIME TABLE'!$B$10)","v":"2022-04-05"},null,{"$f":"IF(C3351=\"\",\"\",IF(C3351>0,CONCATENATE('TIME TABLE'!$C$10,'TIME TABLE'!$D$10,'TIME TABLE'!$E$10)))","v":"(Tuesday)"},{"$f":"IF(C3351=\"\",\"\",'TIME TABLE'!$F$10)","v":"Sanskrit"},null,{"$f":"IF(F3351=\"\",\"\",'TIME TABLE'!$H$10)","v":"09:00 AM to 11:45 AM"}]
[null,null,{"$f":"IF('TIME TABLE'!$B$11=\"\",\"\",'TIME TABLE'!$B$11)","v":""},null,{"$f":"IF(C3352=0,\"\",IF(C3352>0,CONCATENATE('TIME TABLE'!$C$11,'TIME TABLE'!$D$11,'TIME TABLE'!$E$11)))","v":"(0)"},{"$f":"IF(C3352=\"\",\"\",'TIME TABLE'!$F$11)","v":""},null,{"$f":"IF(F3352=\"\",\"\",'TIME TABLE'!$H$11)","v":""}]
[null,null,{"$f":"IF('TIME TABLE'!$B$12=\"\",\"\",'TIME TABLE'!$B$12)","v":""},null,{"$f":"IF(C3353=\"\",\"\",IF(C3353>0,CONCATENATE('TIME TABLE'!$C$12,'TIME TABLE'!$D$12,'TIME TABLE'!$E$12)))","v":""},{"$f":"IF(C3353=\"\",\"\",'TIME TABLE'!$F$12)","v":""},null,{"$f":"IF(C3353=\"\",\"\",'TIME TABLE'!$H$12)","v":""}]
[null,null,{"$f":"IF('TIME TABLE'!$B$13=\"\",\"\",'TIME TABLE'!$B$13)","v":""},null,{"$f":"IF(C3354=\"\",\"\",IF(C3354>0,CONCATENATE('TIME TABLE'!$C$11,'TIME TABLE'!$D$11,'TIME TABLE'!$E$11)))","v":""},{"$f":"IF(C3354=\"\",\"\",'TIME TABLE'!$F$13)","v":""},null,{"$f":"IF(C3354=\"\",\"\",'TIME TABLE'!$H$13)","v":""}]
[null,null,{"$f":"IF('TIME TABLE'!$B$14=\"\",\"\",'TIME TABLE'!$B$14)","v":""},null,{"$f":"IF(C3355=\"\",\"\",IF(C3355>0,CONCATENATE('TIME TABLE'!$C$11,'TIME TABLE'!$D$11,'TIME TABLE'!$E$11)))","v":""},{"$f":"IF(C3355=\"\",\"\",'TIME TABLE'!$F$14)","v":""},null,{"$f":"IF(C3355=\"\",\"\",'TIME TABLE'!$H$14)","v":""}]
[null,null,"Instructions"]
[null,null,1,"Check the exam time table carefully."]
[null,null,2,"Students must bring the 'Admit Card' and show it to the invigilator(s) on duty and should preserve it for future requirements."]
[null,null,3,"Mobile Phone, Calculator, Digital Watch or any Electronic Device is NOT ALLOWED."]
[null,null,4,"Arrive at the School at least 15 minutes before the start examination."]
[null,null,5,"Student is barred from entering the examination hall 15 minutes after the written examination starts."]
[null,null,6,"Ensure that you use the washroom before arriving for your exam as you will not be permitted to leave during the first hour."]
[null,null,7,"Normally, you are required to answer questionsusing blue or black in . Make sure you bring some spare pens with you."]
[null,null,8,"Keep your eyes on your own paper. Remember, copying is cheating!"]
[null,null,9,"You must remain silent until after you have exited the school building."]
[]
[{"$f":"A3333+1","v":100}]
[null,{"$f":"logo","v":{"$error":"#NAME?"}},null,{"$f":"MASTER!$E$11","v":"Govt. Sr. Secondary School Raimalwada"}]
[{"$nulls":3},{"$f":"MASTER!$E$14","v":"P.S.-Bapini (Phalodi)"}]
[null,{"$f":"CONCATENATE(C3371,'TIME TABLE'!$C$5,'ADMIT CARD'!$C3372,$F3372,'ADMIT CARD'!$G3372,'TIME TABLE'!$E$5)","v":"ADMIT CARD(Roll Number●→0)"},{"$f":"CONCATENATE('TIME TABLE'!$B$2,'TIME TABLE'!$F$2)","v":"TEST-I: (2025-26)"},{"$nulls":5},"Paste latest \nphoto of student"]
[null,null,"ADMIT CARD",{"$nulls":6}," "]
[null,null,"Roll Number",null,null,"●→",{"$f":"VLOOKUP(A3367,'STUDENT DETAIL'!$C$8:$I$107,3)","v":0}]
[null,null,"Student's Name",null,null,"●→",{"$f":"IF(OR(G3372=0,G3372=\"\"),\"\",VLOOKUP(A3367,'STUDENT DETAIL'!$C$8:$I$107,4))","v":""}]
[null,null,"Father's Name",null,null,"●→",{"$f":"IF(OR(G3372=0,G3372=\"\"),\"\",VLOOKUP(A3367,'STUDENT DETAIL'!$C$8:$I$107,5))","v":""},null,"Seal and Signature of Head of Institution"]
[null,null,"Mother's Name ",null,null,"●→",{"$f":"IF(OR(G3372=0,G3372=\"\"),\"\",VLOOKUP(A3367,'STUDENT DETAIL'!$C$8:$I$107,6))","v":""}]
[null,null,"Class & Section",null,null,"●→",{"$f":"IF(OR(G3372=0,G3372=\"\"),\"\",IF('STUDENT DETAIL'!$H$4=\"\",'STUDENT DETAIL'!$E$4,CONCATENATE('STUDENT DETAIL'!$E$4,\"   \",\"(\",'STUDENT DETAIL'!$H$4,\")\")))","v":""}]
[null,null,"Date Of Birth",null,null,"●→",{"$f":"IF(OR(G3372=0,G3372=\"\"),\"\",VLOOKUP(A3367,'STUDENT DETAIL'!$C$8:$I$107,7))","v":""}]
[null,null,"Time Table"]
[null,null,"Date (Day)",null,null,"Subject",null,"Time"]
[null,null,{"$f":"IF('TIME TABLE'!$B$5=\"\",\"\",'TIME TABLE'!$B$5)","v":"2022-03-31"},null,{"$f":"IF(C3380=\"\",\"\",IF(C3380>0,CONCATENATE('TIME TABLE'!$C$5,'TIME TABLE'!$D$5,'TIME TABLE'!$E$5)))","v":"(Thursday)"},{"$f":"IF(C3380=\"\",\"\",'TIME TABLE'!$F$5)","v":"Hindi"},null,{"$f":"IF(F3380=\"\",\"\",'TIME TABLE'!$H$5)","v":"09:00 AM to 11:45 AM"}]
[null,null,{"$f":"IF('TIME TABLE'!$B$6=\"\",\"\",'TIME TABLE'!$B$6)","v":"2022-04-01"},null,{"$f":"IF(C3381=\"\",\"\",IF(C3381>0,CONCATENATE('TIME TABLE'!$C$6,'TIME TABLE'!$D$6,'TIME TABLE'!$E$6)))","v":"(Friday)"},{"$f":"IF(C3381=\"\",\"\",'TIME TABLE'!$F$6)","v":"English"},null,{"$f":"IF(F3381=\"\",\"\",'TIME TABLE'!$H$6)","v":"09:00 AM to 11:45 AM"}]
[null,null,{"$f":"IF('TIME TABLE'!$B$7=\"\",\"\",'TIME TABLE'!$B$7)","v":"2022-04-02"},null,{"$f":"IF(C3382=\"\",\"\",IF(C3382>0,CONCATENATE('TIME TABLE'!$C$7,'TIME TABLE'!$D$7,'TIME TABLE'!$E$7)))","v":"(Saturday)"},{"$f":"IF(C3382=\"\",\"\",'TIME TABLE'!$F$7)","v":"Science"},null,{"$f":"IF(F3382=\"\",\"\",'TIME TABLE'!$H$7)","v":"09:00 AM to 11:45 AM"}]
[null,null,{"$f":"IF('TIME TABLE'!$B$8=\"\",\"\",'TIME TABLE'!$B$8)","v":"2022-04-03"},null,{"$f":"IF(C3383=\"\",\"\",IF(C3383>0,CONCATENATE('TIME TABLE'!$C$8,'TIME TABLE'!$D$8,'TIME TABLE'!$E$8)))","v":"(Sunday)"},{"$f":"IF(C3383=\"\",\"\",'TIME TABLE'!$F$8)","v":"Mathematics"},null,{"$f":"IF(F3383=\"\",\"\",'TIME TABLE'!$H$8)","v":"09:00 AM to 11:45 AM"}]
[null,null,{"$f":"IF('TIME TABLE'!$B$9=\"\",\"\",'TIME TABLE'!$B$9)","v":"2022-04-04"},null,{"$f":"IF(C3384=\"\",\"\",IF(C3384>0,CONCATENATE('TIME TABLE'!$C$9,'TIME TABLE'!$D$9,'TIME TABLE'!$E$9)))","v":"(Monday)"},{"$f":"IF(C3384=\"\",\"\",'TIME TABLE'!$F$9)","v":"Social Study"},null,{"$f":"IF(F3384=\"\",\"\",'TIME TABLE'!$H$9)","v":"09:00 AM to 11:45 AM"}]
[null,null,{"$f":"IF('TIME TABLE'!$B$10=\"\",\"\",'TIME TABLE'!$B$10)","v":"2022-04-05"},null,{"$f":"IF(C3385=\"\",\"\",IF(C3385>0,CONCATENATE('TIME TABLE'!$C$10,'TIME TABLE'!$D$10,'TIME TABLE'!$E$10)))","v":"(Tuesday)"},{"$f":"IF(C3385=\"\",\"\",'TIME TABLE'!$F$10)","v":"Sanskrit"},null,{"$f":"IF(F3385=\"\",\"\",'TIME TABLE'!$H$10)","v":"09:00 AM to 11:45 AM"}]
[null,null,{"$f":"IF('TIME TABLE'!$B$11=\"\",\"\",'TIME TABLE'!$B$11)","v":""},null,{"$f":"IF(C3386=\"\",\"\",IF(C3386>0,CONCATENATE('TIME TABLE'!$C$11,'TIME TABLE'!$D$11,'TIME TABLE'!$E$11)))","v":""},{"$f":"IF(C3386=\"\",\"\",'TIME TABLE'!$F$11)","v":""},null,{"$f":"IF(F3386=\"\",\"\",'TIME TABLE'!$H$11)","v":""}]
[null,null,{"$f":"IF('TIME TABLE'!$B$12=\"\",\"\",'TIME TABLE'!$B$12)","v":""},null,{"$f":"IF(C3387=\"\",\"\",IF(C3387>0,CONCATENATE('TIME TABLE'!$C$12,'TIME TABLE'!$D$12,'TIME TABLE'!$E$12)))","v":""},{"$f":"IF(C3387=\"\",\"\",'TIME TABLE'!$F$12)","v":""},null,{"$f":"IF(C3387=\"\",\"\",'TIME TABLE'!$H$12)","v":""}]
[null,null,{"$f":"IF('TIME TABLE'!$B$13=\"\",\"\",'TIME TABLE'!$B$13)","v":""},null,{"$f":"IF(C3388=\"\",\"\",IF(C3388>0,CONCATENATE('TIME TABLE'!$C$11,'TIME TABLE'!$D$11,'TIME TABLE'!$E$11)))","v":""},{"$f":"IF(C3388=\"\",\"\",'TIME TABLE'!$F$13)","v":""},null,{"$f":"IF(C3388=\"\",\"\",'TIME TABLE'!$H$13)","v":""}]
[null,null,{"$f":"IF('TIME TABLE'!$B$14=\"\",\"\",'TIME TABLE'!$B$14)","v":""},null,{"$f":"IF(C3389=\"\",\"\",IF(C3389>0,CONCATENATE('TIME TABLE'!$C$11,'TIME TABLE'!$D$11,'TIME TABLE'!$E$11)))","v":""},{"$f":"IF(C3389=\"\",\"\",'TIME TABLE'!$F$14)","v":""},null,{"$f":"IF(C3389=\"\",\"\",'TIME TABLE'!$H$14)","v":""}]
[null,null,"Instructions"]
[null,null,1,"Check the exam time table carefully."]
[null,null,2,"Students must bring the 'Admit Card' and show it to the invigilator(s) on duty and should preserve it for future requirements."]
[null,null,3,"Mobile Phone, Calculator, Digital Watch or any Electronic Device is NOT ALLOWED."]
[null,null,4,"Arrive at the School at least 15 minutes before the start examination."]
[null,null,5,"Student is barred from entering the examination hall 15 minutes after the written examination starts."]
[null,null,6,"Ensure that you use the washroom before arriving for your exam as you will not be permitted to leave during the first hour."]
[null,null,7,"Normally, you are required to answer questionsusing blue or black in . Make sure you bring some spare pens with you."]
[null,null,8,"Keep your eyes on your own paper. Remember, copying is cheating!"]
[null,null,9,"You must remain silent until after you have exited the school building."]