{"text_format":"3","workbook":"xlsx","n_sheets":39,"sheets":["Info","Master","Cover Page","forwarding letter","abc","Formet 8","Formet 9","9 (GA-4)","Summary","sharansh","01 Salary","Format 1A","A","Format 1B","Format 1C","GA2","GA3"," Formet 10","Namankan","P-2","P 3","P 4(A)","(1) Prapatra kh","Pending TA-Med List","Scholership","PL Encash","Liveries","Fix Pay","Fix Pay NPS","DA AREAR","Sanvida","Income","Vardi","7th pay fix. arr.","vidhyarthimitra","P-14","P-7","P-5","Bonus Calc."],"not_rendered":{"images":1,"external_links":3,"defined_names":26,"comments":3},"read":"whole","date_system":"1900"}

{"sheet":"Info","index":0,"n_rows":7,"n_cols":6,"rows_kept":7,"merged":[[0,0,0,6],[1,0,4,0],[1,1,1,5],[1,6,4,6],[2,1,2,3],[2,5,3,5],[3,1,3,2],[3,4,4,4],[4,1,4,3],[5,1,5,3],[6,1,6,5],[7,1,7,6]]}
[]
[null,"Updated On : 26-08-2025"]
[{"$nulls":5},"Programmer"]
[null,"              Youtube Help Video  ☞            (Please subscribe my channel)"]
[]
[null,"सहायक बिंदु:- \n1. सर्वप्रथम \"Master\" शीट में विद्यालय का नाम तथा अन्य आवश्यक पूर्तियां करें.\n2. बजट प्रस्ताव के अधिकांश प्रपत्र स्वत: निर्मित हो जायेंगे कुछ प्रपत्र में कुछ पूर्तियां मनुअली पूर्ति करें.\n3. पद नाम तथा उनका संख्यात्मक विवरण केवल Format 1A में एडिट करें.\n4. हिंदी में Devlys 010 फॉण्ट को ही प्राथमिकता देवें.\n5. सर्प्रथम अपने सिस्टम में Date Format DD-MM-YYYY सेट करें.\n6. किसी प्रपत्र को प्रिंट करने से पूर्व अवांछित Rows अथवा Columns को आवश्यकतानुसार Hide कर सकते हैं.",{"$nulls":3},"UMMED TARAD Email id-ummedtrdedu@gmail.com"]
[null,"नोट:- हालाँकि यह प्रोग्राम पूर्ण सावधानी से बनाया गया है, फिर भी किसी प्रकार की त्रुटी की स्थिति में आपके विवेक का इस्तेमाल करें l इसे अंतिम रूप देने से पहले इसे भली-भांति रूप अवश्य जाँच लेवेंl"]

{"sheet":"Master","index":1,"n_rows":460,"n_cols":107,"rows_kept":460,"merged":[[0,2,0,3],[0,4,0,6],[0,7,0,10],[0,11,0,13],[1,2,1,3],[1,4,1,6],[1,7,1,10],[1,12,1,13],[2,2,2,3],[2,4,2,5],[2,6,2,7],[2,8,2,10],[2,12,2,13],[3,2,3,3],[3,4,3,5],[3,6,3,7],[3,8,3,10],[3,12,3,13],[4,2,4,3],[4,4,4,5],[4,6,4,10],[4,12,4,13],[5,2,5,10],[5,11,6,13],[6,2,8,2],[6,3,8,3],[6,4,7,4],[6,5,6,10],[7,7,7,9],[7,11,9,13],[33,2,33,13],[34,2,36,2],[34,3,36,3],[34,4,34,13],[35,4,35,6],[35,8,35,10],[35,11,36,11],[35,12,36,12],[35,13,36,13],[45,2,46,12],[47,2,49,2],[47,3,47,6],[47,7,49,7],[47,8,47,11],[47,12,49,12],[48,3,48,4],[48,5,48,6],[48,8,48,9],[48,10,48,11],[55,2,55,12],[56,2,56,12],[58,2,59,2],[58,3,59,3],[58,4,59,4],[58,5,59,5],[58,6,59,6],[58,7,59,7],[58,8,59,8],[58,9,59,9],[58,10,59,10],[58,11,59,11],[58,12,59,12],[58,30,59,30],[58,31,58,38],[58,43,59,43],[58,44,58,51],[58,56,59,56],[58,57,58,64],[58,69,59,69],[58,70,58,77],[58,82,59,82],[58,83,58,90],[58,95,59,95],[58,96,58,103],[286,2,286,12],[287,2,288,2],[287,3,288,3],[287,4,288,4],[287,5,288,5],[287,12,288,12],[330,2,330,12],[331,2,332,2],[331,3,332,3],[331,4,332,4],[331,5,332,5],[331,12,332,12],[374,2,376,12]]}
[null,null,"dk;kZy; dk uke ¼vaxzsth esa½ %",null,"Principal ",null,null,"Govt. Sr. Sec. School Raimalwada"]
[null,null,"dk;kZy; dk uke ¼fgUnh esa½ %",null,{"$f":"IF(E1=\"Principal \",\"ç/kkukpk;Z]\",\"eq[; CykWd f'k{kk vf/kdkjh]\")","v":"ç/kkukpk;Z]"},null,null,"jkmekfo jk;eyok³k",{"$nulls":3},"ys[kk 'kk[kk dkfeZd ¼v½"]
[null,null,"vkWfQl vkbZ-Mh- la[;k %",null,12572,null,"laLFkk iz/kku dk uke%&",{"$nulls":4},"eksckbZy ua- %&",{"$nulls":18},"ctV en"]
[null,null,"ctV la'kksf/kr vuqeku fofÙk; o\"kZ %",null,"2025-26",null,"eksckbZy ua- %&",{"$nulls":4},"ys[kk 'kk[kk dkfeZd ¼c½",{"$nulls":22},"NON PLAN - GIRLS","2202-02-109-(28)-(01) (STATE FUND)","2202 -सामान्य शिक्षा-02-109 -राजकीय माध्यमिक विद्यालय-28 -बालिका विद्यालय-01 -बालिका विद्यालयों का संचालन व्यय (STATE FUND)"]
[null,null,"ctV en %",null,"NON PLAN - BOYS",null,{"$f":"VLOOKUP(E5,AI4:AN36,2,FALSE)","v":"2202-02-109-(27)-(01) STATE FUND"},{"$nulls":4},"eksckbZy ua- %&",{"$nulls":22},"NON PLAN - BOYS","2202-02-109-(27)-(01) STATE FUND","2202 -सामान्य शिक्षा-02-109 -राजकीय माध्यमिक विद्यालय-27 -लडकों के विद्यालय-01 -लडकों के विद्यालयों का संचालन व्यय   (STATE FUND)"]
[null,null,"okLrfod O;; ds vkadMksa dh uhps izfof\"B djsa A",{"$nulls":8},"              Youtube Help Video  ↓            (Please subscribe my channel)",{"$nulls":22},"NON PLAN (TRIBAL AREA) - BOYS","2202-02-796-(02)-(06) (STATE FUND)","2202 -सामान्य शिक्षा-02-796 -जनजातीय क्षेत्र उपयोजना-02 -राजकीय माध्यमिक विद्यालय-06 -लडकों के विद्यालय का संचालन व्यय (STATE FUND)"]
[null,null,"Ø-la-","foLr`r ys[kk 'kh\"kZd","ctV vkoaVu\n¼pkyw o\"kZ½","okLrfod O;; vkadM+s",{"$nulls":28},"NON PLAN (TRIBAL AREA) - GIRLS","2202-02-796-(02)-(07) (STATE FUND)","2202 -सामान्य शिक्षा-02-796 -जनजातीय क्षेत्र उपयोजना-02 -राजकीय माध्यमिक विद्यालय-07 -बालिका के विद्यालय का संचालन व्यय  (STATE FUND)"]
[{"$nulls":5},{"$f":"CONCATENATE((MID(Master!E4,1,4)-3),\"-\",(MID(Master!E4,6,2)-3))","v":"2022-23"},{"$f":"CONCATENATE((MID(Master!E4,1,4)-2),\"-\",(MID(Master!E4,6,2)-2))","v":"2023-24"},{"$f":"CONCATENATE((MID(Master!E4,1,4)-1),\"-\",(MID(Master!E4,6,2)-1))","v":"2024-25"},null,null,{"$f":"CONCATENATE((MID(Master!E4,1,4)),\"-\",(MID(Master!E4,6,2)))","v":"2025-26"},{"$nulls":23},"PLAN - BOYS","2202-02-109-(01) (STATE FUND)","2202 -सामान्य शिक्षा-02-109 -राजकीय माध्यमिक विद्यालय-01 -लडकों के विद्यालय-00 -- (STATE FUND)"]
[{"$nulls":4},{"$f":"CONCATENATE((MID(Master!E4,1,4)),\"-\",(MID(Master!E4,6,2)))","v":"2025-26"},{"$f":"CONCATENATE(\"vizSy \",(MID(F8,3,2)),\" ls ekpZ \",(MID(F8,3,2)+1),\" rd\")","v":"vizSy 22 ls ekpZ 23 rd"},{"$f":"CONCATENATE(\"vizSy \",(MID(G8,3,2)),\" ls ekpZ \",(MID(G8,3,2)+1),\" rd\")","v":"vizSy 23 ls ekpZ 24 rd"},{"$f":"CONCATENATE(\"vizSy \",(MID(H8,3,2)),\" ls tqykbZZ \",(MID(H8,3,2)),\" rd\")","v":"vizSy 24 ls tqykbZZ 24 rd"},{"$f":"CONCATENATE(\"vxLr \",(MID(H8,3,2)),\" ls ekpZ \",(MID(H8,3,2)+1),\" rd\")","v":"vxLr 24 ls ekpZ 25 rd"},{"$f":"CONCATENATE(\"vizSy \",(MID(H8,3,2)),\" ls ekpZ \",(MID(H8,3,2)+1),\" rd\")","v":"vizSy 24 ls ekpZ 25 rd"},{"$f":"CONCATENATE(\"vizSy \",(MID(K8,3,2)),\" ls tqykbZ \",(MID(K8,3,2)),\" rd\")","v":"vizSy 25 ls tqykbZ 25 rd"},{"$nulls":23},"PLAN - GIRLS","2202-02-109-(02) (STATE FUND)","2202 -सामान्य शिक्षा-02-109 -राजकीय माध्यमिक विद्यालय-02 -बालिका विद्यालय-00 -- (STATE FUND)"]
[null,null,1,2,3,4,5,6,7,8,9,{"$nulls":23},"SEC CA 113-01-01","2202-02-113-(01)-(01) (CANTRAL FUND)","2202 -सामान्य शिक्षा-02-113 -समग्र शिक्षा-01 -माध्यमिक शिक्षा के अन्तर्गत समग्र शिक्षा-01 -समग्र शिक्षा पर व्यय सामान्य   "]
[null,null,1,"01&laosru",0,0,0,0,0,{"$f":"SUM(H11:I11)","v":0},0,{"$nulls":23},"PLAN (TRIBAL AREA) - BOYS","2202-02-796-(02)-01 (STATE FUND)","2202 -सामान्य शिक्षा-02-796 -जनजातीय क्षेत्र उपयोजना-02 -राजकीय माध्यमिक विद्यालय-01 -लड़कों के विद्यालय (STATE FUND)"]
[null,null,2,"03&;k=k O;;",0,0,0,0,0,{"$f":"SUM(H12:I12)","v":0},0,{"$nulls":23},"PLAN (TRIBAL AREA) - GIRLS","2202-02-796-(02)-(02) (STATE FUND)","2202 -सामान्य शिक्षा-02-796 -जनजातीय क्षेत्र उपयोजना-02 -राजकीय माध्यमिक विद्यालय-02 -बालिका विद्यालय (STATE FUND)"]
[null,null,3,"04&fpfdRlk O;;",0,0,0,0,0,{"$f":"SUM(H13:I13)","v":0},0,{"$nulls":23},"PLAN (789)","2202-02-789-(01)-(01) (STATE FUND)","2202 -सामान्य शिक्षा-02-789 -अनुसूचित जातियों के लिए विशिष्ट संघटक योजना-01 -विशिष्ठ संघटक योजना (अनुसूचित जातियों के लिये)-01 -लड़को के विद्यालय (आवासीय विद्यालय) (STATE FUND)"]
[{"$nulls":3},"dqy ;ksx izi= 8",{"$f":"SUM(E11:E13)","v":0},{"$f":"SUM(F11:F13)","v":0},0,0,0,0,0,{"$nulls":23},"PLAN (RMSA) - 01","2202-02-109-(07)-(01) (STATE FUND+CENTRAL ASS.)","2202 -सामान्य शिक्षा-02-109 -राजकीय माध्यमिक विद्यालय-07 -राष्ट्रीय माध्यमिक शिक्षा अभियान-01 -माध्यमिक शिक्षा अभियान- सामान्य व्यय (S.F. + C.A.)"]
[{"$nulls":3},"05&dk;kZy; O;;",0,0,0,0,0,{"$f":"SUM(H15:I15)","v":0},0,{"$nulls":23},"PLAN (RMSA) - 02","2202-02-109-(07)-(02) (STATE FUND)","2202 -सामान्य शिक्षा-02-109 -राजकीय माध्यमिक विद्यालय-07 -राष्ट्रीय माध्यमिक शिक्षा अभियान-02 -माध्यमिक शिक्षा अभियान - अनुसूचित जातियों के लिए (S.F. + C.A.)"]
[null,null,1,"Mkd fVdV",0,0,0,0,0,{"$f":"SUM(H16:I16)","v":0},0,{"$nulls":23},"PLAN (RMSA) - 03","2202-02-109-(07)-(03) (STATE FUND)","2202 -सामान्य शिक्षा-02-109 -राजकीय माध्यमिक विद्यालय-07 -राष्ट्रीय माध्यमिक शिक्षा अभियान-03 -माध्यमिक शिक्षा अभियान - अनुसूचित जन जातियों के लिए (S.F. + C.A.)"]
[null,null,2,"nwjHkk\"k",0,0,0,0,0,0,0,{"$nulls":23},"Central (113-01)","2202-01-113-(01)-(01)","2202 -सामान्य शिक्षा-01-113 -समग्र शिक्षा -01 -प्रारम्भिक शिक्षा अंतर्गत समग्र शिक्षा-01 -समग्र शिक्षा पर व्यय सामान्य     "]
[null,null,3,"fctyh ikuh",0,0,0,0,0,{"$f":"SUM(H18:I18)","v":0},0,{"$nulls":23},"Central (113-02)","2202-01-113-(01)-(02)","2202 -सामान्य शिक्षा-01-113 -समग्र शिक्षा -01 -प्रारम्भिक शिक्षा अंतर्गत समग्र शिक्षा-02 -समग्र शिक्षा अंतर्गत अनुसूचित जातियों के लिए विशिष्ठ संघटक योजना (SCSP) पर व्यय "]
[null,null,4,"iqLrdsa o pkVZ~l",0,0,0,0,0,0,0,{"$nulls":23},"Central (113-03)","2202-01-113-(01)-(03)","2202 -सामान्य शिक्षा-01-113 -समग्र शिक्षा -01 -प्रारम्भिक शिक्षा अंतर्गत समग्र शिक्षा-03 -समग्र शिक्षा अंतर्गत जनजातियों क्षेत्र उपयोजना (TSP) पर व्यय"]
[null,null,5,"QuhZpj",0,0,0,0,0,0,0,{"$nulls":23},"State (197-03-01)","2202-01-197-(03)-(01)","2202 -सामान्य शिक्षा-01-प्रारम्भिक शिक्षा-197-ब्लॉक/मध्यवर्ती स्तर की पंचायतें-03 -बालकों हेतु प्राथमिक विद्यालय-(01)-स्थापना व्य्य (STATE FUND)"]
[null,null,6,"vU; O;;",0,0,0,0,0,0,0,{"$nulls":23},"State (101-03-00)","2202-01-101-(03)-(00)","2202 -सामान्य शिक्षा-01-101 -राजकीय प्राथमिक विद्यालय-03 -बालकों के लिए प्राथमिक विद्यालय-00 (STATE FUND)"]
[null,null,7,"LVs'kujh",0,0,0,0,0,0,0,{"$nulls":23},"State (197-01-02)","2202-01-197-(01)-(02)","2202 -सामान्य शिक्षा-01-197 -ब्लॉक स्तर / मध्यवर्ती स्तर की पंचायतों को सहायता -01 -उच्च प्राथमिक विद्यालय (बालक)-02 -बालकों के विद्यालय का संचालन व्यय (STATE FUND)"]
[null,null,8,"NikbZ",0,0,0,0,0,0,0,{"$nulls":23},"State (197-01-01)","2202-01-197-(01)-(01)","2202 -सामान्य शिक्षा-01-197 -ब्लॉक स्तर / मध्यवर्ती स्तर की पंचायतों को सहायता -01 -उच्च प्राथमिक विद्यालय (बालक)-01 -स्थापना व्यय        "]
[{"$nulls":3},"dqy ;ksx dk;kZy; O;; ¼v½",{"$f":"SUM(E15:E23)","v":0},{"$f":"SUM(F15:F23)","v":0},0,0,0,0,0,{"$nulls":23},"State (197-02-01)","2202-01-197-(02)-(01)","2202 -सामान्य शिक्षा-01-197 -ब्लॉक स्तर / मध्यवर्ती स्तर की पंचायतों को सहायता -02 -उच्च प्राथमिक विद्यालय (बालिका)-01 -स्थापना व्यय       "]
[null,null,1,"28&fofo/k",0,0,0,0,0,{"$f":"SUM(H25:I25)","v":0},0,{"$nulls":23},"State (197-02-02)","2202-01-197-(02)-(02)","2202 -सामान्य शिक्षा-01-197 -ब्लॉक स्तर / मध्यवर्ती स्तर की पंचायतों को सहायता -02 -उच्च प्राथमिक विद्यालय (बालिका)-02 -बालिकाओं के विद्यालय का संचालन व्यय"]
[null,null,2,"31&iqLrdky;",0,0,0,0,0,0,0,{"$nulls":23},"PD (8443-106)","2202-01-197-16-(01)","2202 -सामान्य शिक्षा-01-197 -ब्लॉक स्तर / मध्यवर्ती स्तर की पंचायतों को सहायता -16 -प्राथमिक विद्यालयों के लिए पंचायत समितियों को अनुदान-01 -विद्यालय संचालन पर व्यय "]
[null,null,3,"33&iz;ksx'kkyk",0,0,0,0,0,0,0,{"$nulls":23},"State (197-03-02)","2202-01-197-(03)-(02)","2202 -सामान्य शिक्षा-01-197 -ब्लॉक स्तर / मध्यवर्ती स्तर की पंचायतों को सहायता -03 -प्राथमिक विद्यालय (बालक)-02 -बालकों के विद्यालय का संचालन व्यय"]
[null,null,4,"57&fof'k\"V lsok,sa",0,0,0,0,0,0,0,{"$nulls":23},"State (101-03-00)","2202-01-101-(03)-(00)","2202 -सामान्य शिक्षा-01-101 -राजकीय प्राथमिक विद्यालय-03 -बालकों के लिए प्राथमिक विद्यालय-00 --      "]
[null,null,5,"37&ofnZ;ka",0,0,0,0,0,0,0]
[null,null,6,"41 lafonk O;; ¼e-xka-va-ek-jkfo½",0,0,0,0,0,0,0]
[{"$nulls":3},"dqy ;ksx 1 ls 7 ¼c½",{"$f":"SUM(E25:E30)","v":0},{"$f":"SUM(F25:F30)","v":0},0,0,0,0,0]
[{"$nulls":3},"dqy ;ksx ¼v½$¼c½",{"$f":"SUM(E31,E24)","v":0},{"$f":"SUM(F31,F24)","v":0},0,0,0,0,0]
[{"$nulls":3},"loZ ;ksx",{"$f":"SUM(E14,E32)","v":0},{"$f":"SUM(F14,F32)","v":0},0,0,0,0,0]
[null,null,"okLrfod vk; ds vkadMksa dh uhps izfof\"B djsa A"]
[null,null,"Ø-la-","foLr`r ys[kk 'kh\"kZd","okLrfod vk; ds vkadM+s"]
[{"$nulls":4},"okLrfod vk; vkadM+s \n¼xr rhu o\"kksZa ds½",null,null,"vk; O;; vuqeku pkyw o\"kZ","okLrfod vk; ds vkadM+s ",null,null,"vxLr ls ekpZ rd dk lEHkkfor vk; ¼pkyw o\"kZ½","l'kksf/kr vuqeku ¼pkyw o\"kZ½ ¼08$10½","vk; O;;d vuqeku ¼vkxkeh o\"kZ½"]
[{"$nulls":4},"2022-23","2023-24","2024-25","2025-26","vxLr 24 ls ekpZ 25 rd","vizSy 25 ls tqykbZ 25 rd","dkWye 7 o 8 dk ;ksx"]
[null,null,1,2,3,4,5,6,7,8,9,10,11,12]
[null,null,1,"izos'k 'kqYd",0,0,0,0,0,0,{"$f":"SUM(I39:J39)","v":0},0,{"$f":"SUM(J39+L39)","v":0},0]
[null,null,2,"Vh-lh- 'kqYd",0,0,0,0,0,0,{"$f":"SUM(I40:J40)","v":0},0,{"$f":"SUM(J40+L40)","v":0},0]
[null,null,3,"uhykeh",0,0,0,0,0,0,0,0,0,0]
[null,null,4,"Hkou fdjk;k",0,0,0,0,0,0,0,0,0,0]
[null,null,5,"vU; vk; ¼fo|kFkhZ nq/kZ chek½",0,0,0,0,0,0,0,0,0,0]
[null,null,6,"va'knku @ o`fRrnku",0,0,0,0,0,0,0,0,0,0]
[{"$nulls":3},"dqy ;ksx",{"$f":"SUM(E39:E44)","v":0},{"$f":"SUM(F39:F44)","v":0},0,0,0,0,0,0,0,0]
[null,null,"izos'k ,oa Vh-lh- ls vk; ds vkadMksa dh uhps izfof\"B djsa A"]
[]
[null,null,"fooj.k","o\"kZ 2025&26 dk la'kksf/kr",{"$nulls":3},"o\"kZ 2025&26 dk la'kksf/kr vk;","o\"kZ 2026&27 dk vuqekfur",{"$nulls":3},"o\"kZ 2026&27 dk vuqekfur vk;"]
[{"$nulls":3},"izos'k 'kqYd @ 10/-",null,"LFkkukUrj.k 'kqYd @ 5/-",null,null,"izos'k 'kqYd @ 10/-",null,"LFkkukUrj.k 'kqYd @ 5/-"]
[{"$nulls":3},"Nk= la[;k","jkf'k","Nk= la[;k","jkf'k",null,"Nk= la[;k","jkf'k","Nk= la[;k","jkf'k"]
[null,null,"d{kk 9",0,{"$f":"D51*10","v":0},0,{"$f":"F51*5","v":0},{"$f":"SUM(E51,G51)","v":0},0,{"$f":"I51*10","v":0},0,{"$f":"K51*5","v":0},{"$f":"SUM(J51,L51)","v":0}]
[null,null,"d{kk 10",0,{"$f":"D52*10","v":0},0,{"$f":"F52*5","v":0},{"$f":"SUM(E52,G52)","v":0},0,{"$f":"I52*10","v":0},0,{"$f":"K52*5","v":0},{"$f":"SUM(J52,L52)","v":0}]
[null,null,"d{kk 11",0,{"$f":"D53*10","v":0},0,{"$f":"F53*5","v":0},{"$f":"SUM(E53,G53)","v":0},0,{"$f":"I53*10","v":0},0,{"$f":"K53*5","v":0},{"$f":"SUM(J53,L53)","v":0}]
[null,null,"d{kk 12",0,{"$f":"D54*10","v":0},0,{"$f":"F54*5","v":0},{"$f":"SUM(E54,G54)","v":0},0,{"$f":"I54*10","v":0},0,{"$f":"K54*5","v":0},{"$f":"SUM(J54,L54)","v":0}]
[null,null,"dqy ;ksx",{"$f":"SUM(D51:D54)","v":0},{"$f":"SUM(E51:E54)","v":0},{"$f":"SUM(F51:F54)","v":0},0,0,0,0,0,0,0]
[]
[null,null,"dk;kZy;@fo|ky; esa dk;Zjr deZpkfj;ksa ,oa fjDr in ds vkadMksa dh uhps izfof\"B djsa A"]
[]
[null,null,"Ø-la-","deZpkjh dk uke","Post","Pay Matrics Level","Basic Pay\n(1st March, 2026)","Employee ID No.","GPF/PRAN No.","Gender","Handicaped","Cashier \nAllowance","GAZETTED / NON GAZETTED ",{"$nulls":17},"Ø-la-","GAZETTED - REGULAR",{"$nulls":11},"Ø-la-","NON GAZETTED - REGULAR",{"$nulls":11},"Ø-la-","GAZETTED - FIX PAY",{"$nulls":11},"Ø-la-","NON GAZETTED - FIX PAY",{"$nulls":11},"Ø-la-","GAZETTED - SANVIDA",{"$nulls":11},"Ø-la-","NON GAZETTED - SANVIDA"]
[{"$nulls":31},"deZpkjh dk uke","Post","Grade Pay","Basic Pay","Employee ID No.","GPF/PRAN No.","Gender","Handicaped","Cash All",{"$nulls":4},"deZpkjh dk uke","Post","Grade Pay","Basic Pay","Employee ID No.","GPF/PRAN No.","Gender","Handicaped","Cash All",{"$nulls":4},"deZpkjh dk uke","Post","Grade Pay","Basic Pay","Employee ID No.","FIX PAY / SANVIDA","Gender","Handicaped","Cash All",{"$nulls":4},"deZpkjh dk uke","Post","Grade Pay","Basic Pay","Employee ID No.","FIX PAY / SANVIDA","Gender","Handicaped","Cash All",{"$nulls":4},"deZpkjh dk uke","Post","Grade Pay","Basic Pay","Employee ID No.","FIX PAY / SANVIDA","Gender","Handicaped","Cash All",{"$nulls":4},"deZpkjh dk uke","Post","Grade Pay","Basic Pay","Employee ID No.","FIX PAY / SANVIDA","Gender","Handicaped","Cash All"]
[{"$f":"IF(OR(D61=\"in fjDr\",D61=\"पद रिक्त\",D61=\"Blank\",D61=\"Post Blank\"),0,E61)","v":0},{"$f":"F61","v":10},1,"gfdgd",null,{"v":10,"d":"L-10"},23700,{"$nulls":5},"NON GAZETTED - FIX PAY",{"$nulls":14},{"$f":"MID(H61,5,4)","v":""},{"$f":"IF(F61<=0,1,0)*(IF(M61=\"SANVIDA\",0,1))","v":0},{"$f":"IF(AND(AP61=\"\"),\"\",IF(AP61=0,\"\",AP61))","v":""},1,{"$f":"IF($M61=\"GAZETTED - REGULAR\",D61,0)","v":0},0,0,0,0,0,0,0,0,0,{"$f":"IF(AND(M61=\"\"),\"\",IF(M61=AF$59,1,0))","v":0},{"$f":"IF(AND(BC61=\"\"),\"\",IF(BC61=0,\"\",BC61))","v":""},1,{"$f":"IF($M61=\"NON GAZETTED - REGULAR\",D61,0)","v":0},0,0,0,0,0,0,0,0,0,{"$f":"IF(AND(M61=\"\"),\"\",IF(M61=AS$59,1,0))","v":0},{"$f":"IF(AND(BP61=\"\"),\"\",IF(BP61=0,\"\",BP61))","v":""},1,{"$f":"IF($M61=\"GAZETTED - FIX PAY\",D61,0)","v":0},0,0,0,0,0,0,0,0,0,{"$f":"IF(AND(M61=\"\"),\"\",IF(M61=BF$59,1,0))","v":0},{"$f":"IF(AND(CC61=\"\"),\"\",IF(CC61=0,\"\",CC61))","v":1},1,{"$f":"IF($M61=\"NON GAZETTED - FIX PAY\",D61,0)","v":"gfdgd"},0,10,23700,0,0,0,0,0,"NON GAZETTED - FIX PAY",{"$f":"IF(AND(M61=\"\"),\"\",IF(M61=BS$59,1,0))","v":1},{"$f":"IF(AND(CP61=\"\"),\"\",IF(CP61=0,\"\",CP61))","v":""},1,{"$f":"IF($M61=\"GAZETTED - SANVIDA\",D61,0)","v":0},0,0,0,0,0,0,0,0,0,{"$f":"IF(AND(M61=\"\"),\"\",IF(M61=CF$59,1,0))","v":0},{"$f":"IF(AND(DC61=\"\"),\"\",IF(DC61=0,\"\",DC61))","v":""},1,{"$f":"IF($M61=\"NON GAZETTED - SANVIDA\",D61,0)","v":0},{"$f":"IF($M61=\"NON GAZETTED - SANVIDA\",E61,0)","v":0},{"$f":"IF($M61=\"NON GAZETTED - SANVIDA\",F61,0)","v":0},{"$f":"IF($M61=\"NON GAZETTED - SANVIDA\",G61,0)","v":0},{"$f":"IF($M61=\"NON GAZETTED - SANVIDA\",H61,0)","v":0},{"$f":"IF($M61=\"NON GAZETTED - SANVIDA\",I61,0)","v":0},{"$f":"IF($M61=\"NON GAZETTED - SANVIDA\",J61,0)","v":0},{"$f":"IF($M61=\"NON GAZETTED - SANVIDA\",K61,0)","v":0},{"$f":"IF($M61=\"NON GAZETTED - SANVIDA\",L61,0)","v":0},{"$f":"IF($M61=\"NON GAZETTED - SANVIDA\",M61,0)","v":0},{"$f":"IF(AND(M61=\"\"),\"\",IF(M61=CS$59,1,0))","v":0}]
[{"$f":"IF(OR(D62=\"in fjDr\",D62=\"पद रिक्त\",D62=\"Blank\",D62=\"Post Blank\"),0,E62)","v":0},{"$f":"F62","v":0},2,{"$nulls":24},"",{"$f":"IF(F62<=0,1,0)*(IF(M62=\"SANVIDA\",0,1))","v":1},{"$f":"IF(AND(AP62=\"\"),\"\",IF(AP62=0,\"\",1+(MAX(AD$61:AD61))))","v":""},2,{"$f":"IF($M62=\"GAZETTED - REGULAR\",D62,0)","v":0},{"$f":"IF($M62=\"GAZETTED - REGULAR\",E62,0)","v":0},{"$f":"IF($M62=\"GAZETTED - REGULAR\",F62,0)","v":0},{"$f":"IF($M62=\"GAZETTED - REGULAR\",G62,0)","v":0},{"$f":"IF($M62=\"GAZETTED - REGULAR\",H62,0)","v":0},{"$f":"IF($M62=\"GAZETTED - REGULAR\",I62,0)","v":0},{"$f":"IF($M62=\"GAZETTED - REGULAR\",J62,0)","v":0},{"$f":"IF($M62=\"GAZETTED - REGULAR\",K62,0)","v":0},{"$f":"IF($M62=\"GAZETTED - REGULAR\",L62,0)","v":0},{"$f":"IF($M62=\"GAZETTED - REGULAR\",M62,0)","v":0},"",{"$f":"IF(AND(BC62=\"\"),\"\",IF(BC62=0,\"\",1+(MAX(AQ$61:AQ61))))","v":""},2,{"$f":"IF($M62=\"NON GAZETTED - REGULAR\",D62,0)","v":0},0,0,0,0,0,0,0,0,{"$f":"IF($M62=\"NON GAZETTED - REGULAR\",M62,0)","v":0},"",{"$f":"IF(AND(BP62=\"\"),\"\",IF(BP62=0,\"\",1+(MAX(BD$61:BD61))))","v":""},2,{"$f":"IF($M62=\"GAZETTED - FIX PAY\",D62,0)","v":0},{"$f":"IF($M62=\"GAZETTED - FIX PAY\",E62,0)","v":0},{"$f":"IF($M62=\"GAZETTED - FIX PAY\",F62,0)","v":0},{"$f":"IF($M62=\"GAZETTED - FIX PAY\",G62,0)","v":0},{"$f":"IF($M62=\"GAZETTED - FIX PAY\",H62,0)","v":0},{"$f":"IF($M62=\"GAZETTED - FIX PAY\",I62,0)","v":0},{"$f":"IF($M62=\"GAZETTED - FIX PAY\",J62,0)","v":0},{"$f":"IF($M62=\"GAZETTED - FIX PAY\",K62,0)","v":0},{"$f":"IF($M62=\"GAZETTED - FIX PAY\",L62,0)","v":0},{"$f":"IF($M62=\"GAZETTED - FIX PAY\",M62,0)","v":0},"",{"$f":"IF(AND(CC62=\"\"),\"\",IF(CC62=0,\"\",1+(MAX(BQ$61:BQ61))))","v":""},2,{"$f":"IF($M62=\"NON GAZETTED - FIX PAY\",D62,0)","v":0},{"$f":"IF($M62=\"NON GAZETTED - FIX PAY\",E62,0)","v":0},{"$f":"IF($M62=\"NON GAZETTED - FIX PAY\",F62,0)","v":0},{"$f":"IF($M62=\"NON GAZETTED - FIX PAY\",G62,0)","v":0},{"$f":"IF($M62=\"NON GAZETTED - FIX PAY\",H62,0)","v":0},{"$f":"IF($M62=\"NON GAZETTED - FIX PAY\",I62,0)","v":0},{"$f":"IF($M62=\"NON GAZETTED - FIX PAY\",J62,0)","v":0},{"$f":"IF($M62=\"NON GAZETTED - FIX PAY\",K62,0)","v":0},{"$f":"IF($M62=\"NON GAZETTED - FIX PAY\",L62,0)","v":0},{"$f":"IF($M62=\"NON GAZETTED - FIX PAY\",M62,0)","v":0},"",{"$f":"IF(AND(CP62=\"\"),\"\",IF(CP62=0,\"\",1+(MAX(CD$61:CD61))))","v":""},2,{"$f":"IF($M62=\"GAZETTED - SANVIDA\",D62,0)","v":0},{"$f":"IF($M62=\"GAZETTED - SANVIDA\",E62,0)","v":0},{"$f":"IF($M62=\"GAZETTED - SANVIDA\",F62,0)","v":0},{"$f":"IF($M62=\"GAZETTED - SANVIDA\",G62,0)","v":0},{"$f":"IF($M62=\"GAZETTED - SANVIDA\",H62,0)","v":0},{"$f":"IF($M62=\"GAZETTED - SANVIDA\",I62,0)","v":0},{"$f":"IF($M62=\"GAZETTED - SANVIDA\",J62,0)","v":0},{"$f":"IF($M62=\"GAZETTED - SANVIDA\",K62,0)","v":0},{"$f":"IF($M62=\"GAZETTED - SANVIDA\",L62,0)","v":0},{"$f":"IF($M62=\"GAZETTED - SANVIDA\",M62,0)","v":0},"",{"$f":"IF(AND(DC62=\"\"),\"\",IF(DC62=0,\"\",1+(MAX(CQ$61:CQ61))))","v":""},2,0,0,0,0,0,0,0,0,0,0,""]
[0,0,3,{"$nulls":24},"",1,{"$f":"IF(AND(AP63=\"\"),\"\",IF(AP63=0,\"\",1+(MAX(AD$61:AD62))))","v":""},3,0,0,0,0,0,0,0,0,{"$f":"IF($M63=\"GAZETTED - REGULAR\",L63,0)","v":0},0,"",{"$f":"IF(AND(BC63=\"\"),\"\",IF(BC63=0,\"\",1+(MAX(AQ$61:AQ62))))","v":""},3,{"$f":"IF($M63=\"NON GAZETTED - REGULAR\",D63,0)","v":0},{"$f":"IF($M63=\"NON GAZETTED - REGULAR\",E63,0)","v":0},{"$f":"IF($M63=\"NON GAZETTED - REGULAR\",F63,0)","v":0},{"$f":"IF($M63=\"NON GAZETTED - REGULAR\",G63,0)","v":0},{"$f":"IF($M63=\"NON GAZETTED - REGULAR\",H63,0)","v":0},{"$f":"IF($M63=\"NON GAZETTED - REGULAR\",I63,0)","v":0},{"$f":"IF($M63=\"NON GAZETTED - REGULAR\",J63,0)","v":0},{"$f":"IF($M63=\"NON GAZETTED - REGULAR\",K63,0)","v":0},{"$f":"IF($M63=\"NON GAZETTED - REGULAR\",L63,0)","v":0},0,"",{"$f":"IF(AND(BP63=\"\"),\"\",IF(BP63=0,\"\",1+(MAX(BD$61:BD62))))","v":""},3,0,0,0,0,0,0,0,0,0,0,"",{"$f":"IF(AND(CC63=\"\"),\"\",IF(CC63=0,\"\",1+(MAX(BQ$61:BQ62))))","v":""},3,0,0,0,0,0,0,0,0,0,0,"",{"$f":"IF(AND(CP63=\"\"),\"\",IF(CP63=0,\"\",1+(MAX(CD$61:CD62))))","v":""},3,0,0,0,0,0,0,0,0,0,0,"",{"$f":"IF(AND(DC63=\"\"),\"\",IF(DC63=0,\"\",1+(MAX(CQ$61:CQ62))))","v":""},3,0,0,0,0,0,0,0,0,0,0,""]
[0,0,4,{"$nulls":24},"",1,{"$f":"IF(AND(AP64=\"\"),\"\",IF(AP64=0,\"\",1+(MAX(AD$61:AD63))))","v":""},4,0,0,0,0,0,0,0,0,0,0,"",{"$f":"IF(AND(BC64=\"\"),\"\",IF(BC64=0,\"\",1+(MAX(AQ$61:AQ63))))","v":""},4,0,0,0,0,0,0,0,0,0,0,"",{"$f":"IF(AND(BP64=\"\"),\"\",IF(BP64=0,\"\",1+(MAX(BD$61:BD63))))","v":""},4,0,0,0,0,0,0,0,0,0,0,"",{"$f":"IF(AND(CC64=\"\"),\"\",IF(CC64=0,\"\",1+(MAX(BQ$61:BQ63))))","v":""},4,0,0,0,0,0,0,0,0,0,0,"",{"$f":"IF(AND(CP64=\"\"),\"\",IF(CP64=0,\"\",1+(MAX(CD$61:CD63))))","v":""},4,0,0,0,0,0,0,0,0,0,0,"",{"$f":"IF(AND(DC64=\"\"),\"\",IF(DC64=0,\"\",1+(MAX(CQ$61:CQ63))))","v":""},4,0,0,0,0,0,0,0,0,0,0,""]
[0,0,5,{"$nulls":24},"",1,{"$f":"IF(AND(AP65=\"\"),\"\",IF(AP65=0,\"\",1+(MAX(AD$61:AD64))))","v":""},5,0,0,0,0,0,0,0,0,0,0,"",{"$f":"IF(AND(BC65=\"\"),\"\",IF(BC65=0,\"\",1+(MAX(AQ$61:AQ64))))","v":""},5,0,0,0,0,0,0,0,0,0,0,"",{"$f":"IF(AND(BP65=\"\"),\"\",IF(BP65=0,\"\",1+(MAX(BD$61:BD64))))","v":""},5,0,0,0,0,0,0,0,0,0,0,"",{"$f":"IF(AND(CC65=\"\"),\"\",IF(CC65=0,\"\",1+(MAX(BQ$61:BQ64))))","v":""},5,0,0,0,0,0,0,0,0,0,0,"",{"$f":"IF(AND(CP65=\"\"),\"\",IF(CP65=0,\"\",1+(MAX(CD$61:CD64))))","v":""},5,0,0,0,0,0,0,0,0,0,0,"",{"$f":"IF(AND(DC65=\"\"),\"\",IF(DC65=0,\"\",1+(MAX(CQ$61:CQ64))))","v":""},5,0,0,0,0,0,0,0,0,0,0,""]
[0,0,6,{"$nulls":24},"",1,{"$f":"IF(AND(AP66=\"\"),\"\",IF(AP66=0,\"\",1+(MAX(AD$61:AD65))))","v":""},6,0,0,0,0,0,0,0,0,0,0,"",{"$f":"IF(AND(BC66=\"\"),\"\",IF(BC66=0,\"\",1+(MAX(AQ$61:AQ65))))","v":""},6,0,0,0,0,0,0,0,0,0,0,"",{"$f":"IF(AND(BP66=\"\"),\"\",IF(BP66=0,\"\",1+(MAX(BD$61:BD65))))","v":""},6,0,0,0,0,0,0,0,0,0,0,"",{"$f":"IF(AND(CC66=\"\"),\"\",IF(CC66=0,\"\",1+(MAX(BQ$61:BQ65))))","v":""},6,0,0,0,0,0,0,0,0,0,0,"",{"$f":"IF(AND(CP66=\"\"),\"\",IF(CP66=0,\"\",1+(MAX(CD$61:CD65))))","v":""},6,0,0,0,0,0,0,0,0,0,0,"",{"$f":"IF(AND(DC66=\"\"),\"\",IF(DC66=0,\"\",1+(MAX(CQ$61:CQ65))))","v":""},6,0,0,0,0,0,0,0,0,0,0,""]
[0,0,7,{"$nulls":24},"",1,{"$f":"IF(AND(AP67=\"\"),\"\",IF(AP67=0,\"\",1+(MAX(AD$61:AD66))))","v":""},7,0,0,0,0,0,0,0,0,0,0,"",{"$f":"IF(AND(BC67=\"\"),\"\",IF(BC67=0,\"\",1+(MAX(AQ$61:AQ66))))","v":""},7,0,0,0,0,0,0,0,0,0,0,"",{"$f":"IF(AND(BP67=\"\"),\"\",IF(BP67=0,\"\",1+(MAX(BD$61:BD66))))","v":""},7,0,0,0,0,0,0,0,0,0,0,"",{"$f":"IF(AND(CC67=\"\"),\"\",IF(CC67=0,\"\",1+(MAX(BQ$61:BQ66))))","v":""},7,0,0,0,0,0,0,0,0,0,0,"",{"$f":"IF(AND(CP67=\"\"),\"\",IF(CP67=0,\"\",1+(MAX(CD$61:CD66))))","v":""},7,0,0,0,0,0,0,0,0,0,0,"",{"$f":"IF(AND(DC67=\"\"),\"\",IF(DC67=0,\"\",1+(MAX(CQ$61:CQ66))))","v":""},7,0,0,0,0,0,0,0,0,0,0,""]
[0,0,8,{"$nulls":24},"",1,{"$f":"IF(AND(AP68=\"\"),\"\",IF(AP68=0,\"\",1+(MAX(AD$61:AD67))))","v":""},8,0,0,0,0,0,0,0,0,0,0,"",{"$f":"IF(AND(BC68=\"\"),\"\",IF(BC68=0,\"\",1+(MAX(AQ$61:AQ67))))","v":""},8,0,0,0,0,0,0,0,0,0,0,"",{"$f":"IF(AND(BP68=\"\"),\"\",IF(BP68=0,\"\",1+(MAX(BD$61:BD67))))","v":""},8,0,0,0,0,0,0,0,0,0,0,"",{"$f":"IF(AND(CC68=\"\"),\"\",IF(CC68=0,\"\",1+(MAX(BQ$61:BQ67))))","v":""},8,0,0,0,0,0,0,0,0,0,0,"",{"$f":"IF(AND(CP68=\"\"),\"\",IF(CP68=0,\"\",1+(MAX(CD$61:CD67))))","v":""},8,0,0,0,0,0,0,0,0,0,0,"",{"$f":"IF(AND(DC68=\"\"),\"\",IF(DC68=0,\"\",1+(MAX(CQ$61:CQ67))))","v":""},8,0,0,0,0,0,0,0,0,0,0,""]
[0,0,9,{"$nulls":24},"",1,{"$f":"IF(AND(AP69=\"\"),\"\",IF(AP69=0,\"\",1+(MAX(AD$61:AD68))))","v":""},9,0,0,0,0,0,0,0,0,0,0,"",{"$f":"IF(AND(BC69=\"\"),\"\",IF(BC69=0,\"\",1+(MAX(AQ$61:AQ68))))","v":""},9,0,0,0,0,0,0,0,0,0,0,"",{"$f":"IF(AND(BP69=\"\"),\"\",IF(BP69=0,\"\",1+(MAX(BD$61:BD68))))","v":""},9,0,0,0,0,0,0,0,0,0,0,"",{"$f":"IF(AND(CC69=\"\"),\"\",IF(CC69=0,\"\",1+(MAX(BQ$61:BQ68))))","v":""},9,0,0,0,0,0,0,0,0,0,0,"",{"$f":"IF(AND(CP69=\"\"),\"\",IF(CP69=0,\"\",1+(MAX(CD$61:CD68))))","v":""},9,0,0,0,0,0,0,0,0,0,0,"",{"$f":"IF(AND(DC69=\"\"),\"\",IF(DC69=0,\"\",1+(MAX(CQ$61:CQ68))))","v":""},9,0,0,0,0,0,0,0,0,0,0,""]
[0,0,10,{"$nulls":24},"",1,{"$f":"IF(AND(AP70=\"\"),\"\",IF(AP70=0,\"\",1+(MAX(AD$61:AD69))))","v":""},10,0,0,0,0,0,0,0,0,0,0,"",{"$f":"IF(AND(BC70=\"\"),\"\",IF(BC70=0,\"\",1+(MAX(AQ$61:AQ69))))","v":""},10,0,0,0,0,0,0,0,0,0,0,"",{"$f":"IF(AND(BP70=\"\"),\"\",IF(BP70=0,\"\",1+(MAX(BD$61:BD69))))","v":""},10,0,0,0,0,0,0,0,0,0,0,"",{"$f":"IF(AND(CC70=\"\"),\"\",IF(CC70=0,\"\",1+(MAX(BQ$61:BQ69))))","v":""},10,0,0,0,0,0,0,0,0,0,0,"",{"$f":"IF(AND(CP70=\"\"),\"\",IF(CP70=0,\"\",1+(MAX(CD$61:CD69))))","v":""},10,0,0,0,0,0,0,0,0,0,0,"",{"$f":"IF(AND(DC70=\"\"),\"\",IF(DC70=0,\"\",1+(MAX(CQ$61:CQ69))))","v":""},10,0,0,0,0,0,0,0,0,0,0,""]
[0,0,11,{"$nulls":24},"",1,{"$f":"IF(AND(AP71=\"\"),\"\",IF(AP71=0,\"\",1+(MAX(AD$61:AD70))))","v":""},11,0,0,0,0,0,0,0,0,0,0,"",{"$f":"IF(AND(BC71=\"\"),\"\",IF(BC71=0,\"\",1+(MAX(AQ$61:AQ70))))","v":""},11,0,0,0,0,0,0,0,0,0,0,"",{"$f":"IF(AND(BP71=\"\"),\"\",IF(BP71=0,\"\",1+(MAX(BD$61:BD70))))","v":""},11,0,0,0,0,0,0,0,0,0,0,"",{"$f":"IF(AND(CC71=\"\"),\"\",IF(CC71=0,\"\",1+(MAX(BQ$61:BQ70))))","v":""},11,0,0,0,0,0,0,0,0,0,0,"",{"$f":"IF(AND(CP71=\"\"),\"\",IF(CP71=0,\"\",1+(MAX(CD$61:CD70))))","v":""},11,0,0,0,0,0,0,0,0,0,0,"",{"$f":"IF(AND(DC71=\"\"),\"\",IF(DC71=0,\"\",1+(MAX(CQ$61:CQ70))))","v":""},11,0,0,0,0,0,0,0,0,0,0,""]
[0,0,12,{"$nulls":24},"",1,{"$f":"IF(AND(AP72=\"\"),\"\",IF(AP72=0,\"\",1+(MAX(AD$61:AD71))))","v":""},12,0,0,0,0,0,0,0,0,0,0,"",{"$f":"IF(AND(BC72=\"\"),\"\",IF(BC72=0,\"\",1+(MAX(AQ$61:AQ71))))","v":""},12,0,0,0,0,0,0,0,0,0,0,"",{"$f":"IF(AND(BP72=\"\"),\"\",IF(BP72=0,\"\",1+(MAX(BD$61:BD71))))","v":""},12,0,0,0,0,0,0,0,0,0,0,"",{"$f":"IF(AND(CC72=\"\"),\"\",IF(CC72=0,\"\",1+(MAX(BQ$61:BQ71))))","v":""},12,0,0,0,0,0,0,0,0,0,0,"",{"$f":"IF(AND(CP72=\"\"),\"\",IF(CP72=0,\"\",1+(MAX(CD$61:CD71))))","v":""},12,0,0,0,0,0,0,0,0,0,0,"",{"$f":"IF(AND(DC72=\"\"),\"\",IF(DC72=0,\"\",1+(MAX(CQ$61:CQ71))))","v":""},12,0,0,0,0,0,0,0,0,0,0,""]
[0,0,13,{"$nulls":24},"",1,{"$f":"IF(AND(AP73=\"\"),\"\",IF(AP73=0,\"\",1+(MAX(AD$61:AD72))))","v":""},13,0,0,0,0,0,0,0,0,0,0,"",{"$f":"IF(AND(BC73=\"\"),\"\",IF(BC73=0,\"\",1+(MAX(AQ$61:AQ72))))","v":""},13,0,0,0,0,0,0,0,0,0,0,"",{"$f":"IF(AND(BP73=\"\"),\"\",IF(BP73=0,\"\",1+(MAX(BD$61:BD72))))","v":""},13,0,0,0,0,0,0,0,0,0,0,"",{"$f":"IF(AND(CC73=\"\"),\"\",IF(CC73=0,\"\",1+(MAX(BQ$61:BQ72))))","v":""},13,0,0,0,0,0,0,0,0,0,0,"",{"$f":"IF(AND(CP73=\"\"),\"\",IF(CP73=0,\"\",1+(MAX(CD$61:CD72))))","v":""},13,0,0,0,0,0,0,0,0,0,0,"",{"$f":"IF(AND(DC73=\"\"),\"\",IF(DC73=0,\"\",1+(MAX(CQ$61:CQ72))))","v":""},13,0,0,0,0,0,0,0,0,0,0,""]
[0,0,14,{"$nulls":24},"",1,{"$f":"IF(AND(AP74=\"\"),\"\",IF(AP74=0,\"\",1+(MAX(AD$61:AD73))))","v":""},14,0,0,0,0,0,0,0,0,0,0,"",{"$f":"IF(AND(BC74=\"\"),\"\",IF(BC74=0,\"\",1+(MAX(AQ$61:AQ73))))","v":""},14,0,0,0,0,0,0,0,0,0,0,"",{"$f":"IF(AND(BP74=\"\"),\"\",IF(BP74=0,\"\",1+(MAX(BD$61:BD73))))","v":""},14,0,0,0,0,0,0,0,0,0,0,"",{"$f":"IF(AND(CC74=\"\"),\"\",IF(CC74=0,\"\",1+(MAX(BQ$61:BQ73))))","v":""},14,0,0,0,0,0,0,0,0,0,0,"",{"$f":"IF(AND(CP74=\"\"),\"\",IF(CP74=0,\"\",1+(MAX(CD$61:CD73))))","v":""},14,0,0,0,0,0,0,0,0,0,0,"",{"$f":"IF(AND(DC74=\"\"),\"\",IF(DC74=0,\"\",1+(MAX(CQ$61:CQ73))))","v":""},14,0,0,0,0,0,0,0,0,0,0,""]
[0,0,15,{"$nulls":24},"",1,{"$f":"IF(AND(AP75=\"\"),\"\",IF(AP75=0,\"\",1+(MAX(AD$61:AD74))))","v":""},15,0,0,0,0,0,0,0,0,0,0,"",{"$f":"IF(AND(BC75=\"\"),\"\",IF(BC75=0,\"\",1+(MAX(AQ$61:AQ74))))","v":""},15,0,0,0,0,0,0,0,0,0,0,"",{"$f":"IF(AND(BP75=\"\"),\"\",IF(BP75=0,\"\",1+(MAX(BD$61:BD74))))","v":""},15,0,0,0,0,0,0,0,0,0,0,"",{"$f":"IF(AND(CC75=\"\"),\"\",IF(CC75=0,\"\",1+(MAX(BQ$61:BQ74))))","v":""},15,0,0,0,0,0,0,0,0,0,0,"",{"$f":"IF(AND(CP75=\"\"),\"\",IF(CP75=0,\"\",1+(MAX(CD$61:CD74))))","v":""},15,0,0,0,0,0,0,0,0,0,0,"",{"$f":"IF(AND(DC75=\"\"),\"\",IF(DC75=0,\"\",1+(MAX(CQ$61:CQ74))))","v":""},15,0,0,0,0,0,0,0,0,0,0,""]
[0,0,16,{"$nulls":24},"",1,{"$f":"IF(AND(AP76=\"\"),\"\",IF(AP76=0,\"\",1+(MAX(AD$61:AD75))))","v":""},16,0,0,0,0,0,0,0,0,0,0,"",{"$f":"IF(AND(BC76=\"\"),\"\",IF(BC76=0,\"\",1+(MAX(AQ$61:AQ75))))","v":""},16,0,0,0,0,0,0,0,0,0,0,"",{"$f":"IF(AND(BP76=\"\"),\"\",IF(BP76=0,\"\",1+(MAX(BD$61:BD75))))","v":""},16,0,0,0,0,0,0,0,0,0,0,"",{"$f":"IF(AND(CC76=\"\"),\"\",IF(CC76=0,\"\",1+(MAX(BQ$61:BQ75))))","v":""},16,0,0,0,0,0,0,0,0,0,0,"",{"$f":"IF(AND(CP76=\"\"),\"\",IF(CP76=0,\"\",1+(MAX(CD$61:CD75))))","v":""},16,0,0,0,0,0,0,0,0,0,0,"",{"$f":"IF(AND(DC76=\"\"),\"\",IF(DC76=0,\"\",1+(MAX(CQ$61:CQ75))))","v":""},16,0,0,0,0,0,0,0,0,0,0,""]
[0,0,17,{"$nulls":24},"",1,{"$f":"IF(AND(AP77=\"\"),\"\",IF(AP77=0,\"\",1+(MAX(AD$61:AD76))))","v":""},17,0,0,0,0,0,0,0,0,0,0,"",{"$f":"IF(AND(BC77=\"\"),\"\",IF(BC77=0,\"\",1+(MAX(AQ$61:AQ76))))","v":""},17,0,0,0,0,0,0,0,0,0,0,"",{"$f":"IF(AND(BP77=\"\"),\"\",IF(BP77=0,\"\",1+(MAX(BD$61:BD76))))","v":""},17,0,0,0,0,0,0,0,0,0,0,"",{"$f":"IF(AND(CC77=\"\"),\"\",IF(CC77=0,\"\",1+(MAX(BQ$61:BQ76))))","v":""},17,0,0,0,0,0,0,0,0,0,0,"",{"$f":"IF(AND(CP77=\"\"),\"\",IF(CP77=0,\"\",1+(MAX(CD$61:CD76))))","v":""},17,0,0,0,0,0,0,0,0,0,0,"",{"$f":"IF(AND(DC77=\"\"),\"\",IF(DC77=0,\"\",1+(MAX(CQ$61:CQ76))))","v":""},17,{"$f":"IF($M77=\"NON GAZETTED - SANVIDA\",D77,0)","v":0},{"$f":"IF($M77=\"NON GAZETTED - SANVIDA\",E77,0)","v":0},{"$f":"IF($M77=\"NON GAZETTED - SANVIDA\",F77,0)","v":0},{"$f":"IF($M77=\"NON GAZETTED - SANVIDA\",G77,0)","v":0},{"$f":"IF($M77=\"NON GAZETTED - SANVIDA\",H77,0)","v":0},{"$f":"IF($M77=\"NON GAZETTED - SANVIDA\",I77,0)","v":0},{"$f":"IF($M77=\"NON GAZETTED - SANVIDA\",J77,0)","v":0},{"$f":"IF($M77=\"NON GAZETTED - SANVIDA\",K77,0)","v":0},{"$f":"IF($M77=\"NON GAZETTED - SANVIDA\",L77,0)","v":0},{"$f":"IF($M77=\"NON GAZETTED - SANVIDA\",M77,0)","v":0},""]
[0,0,18,{"$nulls":24},"",1,{"$f":"IF(AND(AP78=\"\"),\"\",IF(AP78=0,\"\",1+(MAX(AD$61:AD77))))","v":""},18,0,0,0,0,0,0,0,0,0,0,"",{"$f":"IF(AND(BC78=\"\"),\"\",IF(BC78=0,\"\",1+(MAX(AQ$61:AQ77))))","v":""},18,0,0,0,0,0,0,0,0,0,0,"",{"$f":"IF(AND(BP78=\"\"),\"\",IF(BP78=0,\"\",1+(MAX(BD$61:BD77))))","v":""},18,0,0,0,0,0,0,0,0,0,0,"",{"$f":"IF(AND(CC78=\"\"),\"\",IF(CC78=0,\"\",1+(MAX(BQ$61:BQ77))))","v":""},18,0,0,0,0,0,0,0,0,0,0,"",{"$f":"IF(AND(CP78=\"\"),\"\",IF(CP78=0,\"\",1+(MAX(CD$61:CD77))))","v":""},18,0,0,0,0,0,0,0,0,0,0,"",{"$f":"IF(AND(DC78=\"\"),\"\",IF(DC78=0,\"\",1+(MAX(CQ$61:CQ77))))","v":""},18,0,0,0,0,0,0,0,0,0,0,""]
[0,0,19,{"$nulls":24},"",1,{"$f":"IF(AND(AP79=\"\"),\"\",IF(AP79=0,\"\",1+(MAX(AD$61:AD78))))","v":""},19,0,0,0,0,0,0,0,0,0,0,"",{"$f":"IF(AND(BC79=\"\"),\"\",IF(BC79=0,\"\",1+(MAX(AQ$61:AQ78))))","v":""},19,0,0,0,0,0,0,0,0,0,0,"",{"$f":"IF(AND(BP79=\"\"),\"\",IF(BP79=0,\"\",1+(MAX(BD$61:BD78))))","v":""},19,0,0,0,0,0,0,0,0,0,0,"",{"$f":"IF(AND(CC79=\"\"),\"\",IF(CC79=0,\"\",1+(MAX(BQ$61:BQ78))))","v":""},19,0,0,0,0,0,0,0,0,0,0,"",{"$f":"IF(AND(CP79=\"\"),\"\",IF(CP79=0,\"\",1+(MAX(CD$61:CD78))))","v":""},19,0,0,0,0,0,0,0,0,0,0,"",{"$f":"IF(AND(DC79=\"\"),\"\",IF(DC79=0,\"\",1+(MAX(CQ$61:CQ78))))","v":""},19,0,0,0,0,0,0,0,0,0,0,""]
[0,0,20,{"$nulls":24},"",1,{"$f":"IF(AND(AP80=\"\"),\"\",IF(AP80=0,\"\",1+(MAX(AD$61:AD79))))","v":""},20,0,0,0,0,0,0,0,0,0,0,"",{"$f":"IF(AND(BC80=\"\"),\"\",IF(BC80=0,\"\",1+(MAX(AQ$61:AQ79))))","v":""},20,0,0,0,0,0,0,0,0,0,0,"",{"$f":"IF(AND(BP80=\"\"),\"\",IF(BP80=0,\"\",1+(MAX(BD$61:BD79))))","v":""},20,0,0,0,0,0,0,0,0,0,0,"",{"$f":"IF(AND(CC80=\"\"),\"\",IF(CC80=0,\"\",1+(MAX(BQ$61:BQ79))))","v":""},20,0,0,0,0,0,0,0,0,0,0,"",{"$f":"IF(AND(CP80=\"\"),\"\",IF(CP80=0,\"\",1+(MAX(CD$61:CD79))))","v":""},20,0,0,0,0,0,0,0,0,0,0,"",{"$f":"IF(AND(DC80=\"\"),\"\",IF(DC80=0,\"\",1+(MAX(CQ$61:CQ79))))","v":""},20,0,0,0,0,0,0,0,0,0,0,""]
[0,0,21,{"$nulls":24},"",1,{"$f":"IF(AND(AP81=\"\"),\"\",IF(AP81=0,\"\",1+(MAX(AD$61:AD80))))","v":""},21,0,0,0,0,0,0,0,0,0,0,"",{"$f":"IF(AND(BC81=\"\"),\"\",IF(BC81=0,\"\",1+(MAX(AQ$61:AQ80))))","v":""},21,0,0,0,0,0,0,0,0,0,0,"",{"$f":"IF(AND(BP81=\"\"),\"\",IF(BP81=0,\"\",1+(MAX(BD$61:BD80))))","v":""},21,0,0,0,0,0,0,0,0,0,0,"",{"$f":"IF(AND(CC81=\"\"),\"\",IF(CC81=0,\"\",1+(MAX(BQ$61:BQ80))))","v":""},21,0,0,0,0,0,0,0,0,0,0,"",{"$f":"IF(AND(CP81=\"\"),\"\",IF(CP81=0,\"\",1+(MAX(CD$61:CD80))))","v":""},21,0,0,0,0,0,0,0,0,0,0,"",{"$f":"IF(AND(DC81=\"\"),\"\",IF(DC81=0,\"\",1+(MAX(CQ$61:CQ80))))","v":""},21,0,0,0,0,0,0,0,0,0,0,""]
[0,0,22,{"$nulls":24},"",1,{"$f":"IF(AND(AP82=\"\"),\"\",IF(AP82=0,\"\",1+(MAX(AD$61:AD81))))","v":""},22,0,0,0,0,0,0,0,0,0,0,"",{"$f":"IF(AND(BC82=\"\"),\"\",IF(BC82=0,\"\",1+(MAX(AQ$61:AQ81))))","v":""},22,0,0,0,0,0,0,0,0,0,0,"",{"$f":"IF(AND(BP82=\"\"),\"\",IF(BP82=0,\"\",1+(MAX(BD$61:BD81))))","v":""},22,0,0,0,0,0,0,0,0,0,0,"",{"$f":"IF(AND(CC82=\"\"),\"\",IF(CC82=0,\"\",1+(MAX(BQ$61:BQ81))))","v":""},22,0,0,0,0,0,0,0,0,0,0,"",{"$f":"IF(AND(CP82=\"\"),\"\",IF(CP82=0,\"\",1+(MAX(CD$61:CD81))))","v":""},22,0,0,0,0,0,0,0,0,0,0,"",{"$f":"IF(AND(DC82=\"\"),\"\",IF(DC82=0,\"\",1+(MAX(CQ$61:CQ81))))","v":""},22,0,0,0,0,0,0,0,0,0,0,""]
[0,0,23,{"$nulls":24},"",1,{"$f":"IF(AND(AP83=\"\"),\"\",IF(AP83=0,\"\",1+(MAX(AD$61:AD82))))","v":""},23,0,0,0,0,0,0,0,0,0,0,"",{"$f":"IF(AND(BC83=\"\"),\"\",IF(BC83=0,\"\",1+(MAX(AQ$61:AQ82))))","v":""},23,0,0,0,0,0,0,0,0,0,0,"",{"$f":"IF(AND(BP83=\"\"),\"\",IF(BP83=0,\"\",1+(MAX(BD$61:BD82))))","v":""},23,0,0,0,0,0,0,0,0,0,0,"",{"$f":"IF(AND(CC83=\"\"),\"\",IF(CC83=0,\"\",1+(MAX(BQ$61:BQ82))))","v":""},23,0,0,0,0,0,0,0,0,0,0,"",{"$f":"IF(AND(CP83=\"\"),\"\",IF(CP83=0,\"\",1+(MAX(CD$61:CD82))))","v":""},23,0,0,0,0,0,0,0,0,0,0,"",{"$f":"IF(AND(DC83=\"\"),\"\",IF(DC83=0,\"\",1+(MAX(CQ$61:CQ82))))","v":""},23,0,0,0,0,0,0,0,0,0,0,""]
[0,0,24,{"$nulls":24},"",1,{"$f":"IF(AND(AP84=\"\"),\"\",IF(AP84=0,\"\",1+(MAX(AD$61:AD83))))","v":""},24,0,0,0,0,0,0,0,0,0,0,"",{"$f":"IF(AND(BC84=\"\"),\"\",IF(BC84=0,\"\",1+(MAX(AQ$61:AQ83))))","v":""},24,0,0,0,0,0,0,0,0,0,0,"",{"$f":"IF(AND(BP84=\"\"),\"\",IF(BP84=0,\"\",1+(MAX(BD$61:BD83))))","v":""},24,0,0,0,0,0,0,0,0,0,0,"",{"$f":"IF(AND(CC84=\"\"),\"\",IF(CC84=0,\"\",1+(MAX(BQ$61:BQ83))))","v":""},24,0,0,0,0,0,0,0,0,0,0,"",{"$f":"IF(AND(CP84=\"\"),\"\",IF(CP84=0,\"\",1+(MAX(CD$61:CD83))))","v":""},24,0,0,0,0,0,0,0,0,0,0,"",{"$f":"IF(AND(DC84=\"\"),\"\",IF(DC84=0,\"\",1+(MAX(CQ$61:CQ83))))","v":""},24,0,0,0,0,0,0,0,0,0,0,""]
[0,0,25,{"$nulls":24},"",1,{"$f":"IF(AND(AP85=\"\"),\"\",IF(AP85=0,\"\",1+(MAX(AD$61:AD84))))","v":""},25,0,0,0,0,0,0,0,0,0,0,"",{"$f":"IF(AND(BC85=\"\"),\"\",IF(BC85=0,\"\",1+(MAX(AQ$61:AQ84))))","v":""},25,0,0,0,0,0,0,0,0,0,0,"",{"$f":"IF(AND(BP85=\"\"),\"\",IF(BP85=0,\"\",1+(MAX(BD$61:BD84))))","v":""},25,0,0,0,0,0,0,0,0,0,0,"",{"$f":"IF(AND(CC85=\"\"),\"\",IF(CC85=0,\"\",1+(MAX(BQ$61:BQ84))))","v":""},25,0,0,0,0,0,0,0,0,0,0,"",{"$f":"IF(AND(CP85=\"\"),\"\",IF(CP85=0,\"\",1+(MAX(CD$61:CD84))))","v":""},25,0,0,0,0,0,0,0,0,0,0,"",{"$f":"IF(AND(DC85=\"\"),\"\",IF(DC85=0,\"\",1+(MAX(CQ$61:CQ84))))","v":""},25,0,0,0,0,0,0,0,0,0,0,""]
[0,0,26,{"$nulls":24},"",1,{"$f":"IF(AND(AP86=\"\"),\"\",IF(AP86=0,\"\",1+(MAX(AD$61:AD85))))","v":""},26,0,0,0,0,0,0,0,0,0,0,"",{"$f":"IF(AND(BC86=\"\"),\"\",IF(BC86=0,\"\",1+(MAX(AQ$61:AQ85))))","v":""},26,0,0,0,0,0,0,0,0,0,0,"",{"$f":"IF(AND(BP86=\"\"),\"\",IF(BP86=0,\"\",1+(MAX(BD$61:BD85))))","v":""},26,0,0,0,0,0,0,0,0,0,0,"",{"$f":"IF(AND(CC86=\"\"),\"\",IF(CC86=0,\"\",1+(MAX(BQ$61:BQ85))))","v":""},26,0,0,0,0,0,0,0,0,0,0,"",{"$f":"IF(AND(CP86=\"\"),\"\",IF(CP86=0,\"\",1+(MAX(CD$61:CD85))))","v":""},26,0,0,0,0,0,0,0,0,0,0,"",{"$f":"IF(AND(DC86=\"\"),\"\",IF(DC86=0,\"\",1+(MAX(CQ$61:CQ85))))","v":""},26,0,0,0,0,0,0,0,0,0,0,""]
[0,0,27,{"$nulls":24},"",1,{"$f":"IF(AND(AP87=\"\"),\"\",IF(AP87=0,\"\",1+(MAX(AD$61:AD86))))","v":""},27,0,0,0,0,0,0,0,0,0,0,"",{"$f":"IF(AND(BC87=\"\"),\"\",IF(BC87=0,\"\",1+(MAX(AQ$61:AQ86))))","v":""},27,0,0,0,0,0,0,0,0,0,0,"",{"$f":"IF(AND(BP87=\"\"),\"\",IF(BP87=0,\"\",1+(MAX(BD$61:BD86))))","v":""},27,0,0,0,0,0,0,0,0,0,0,"",{"$f":"IF(AND(CC87=\"\"),\"\",IF(CC87=0,\"\",1+(MAX(BQ$61:BQ86))))","v":""},27,0,0,0,0,0,0,0,0,0,0,"",{"$f":"IF(AND(CP87=\"\"),\"\",IF(CP87=0,\"\",1+(MAX(CD$61:CD86))))","v":""},27,0,0,0,0,0,0,0,0,0,0,"",{"$f":"IF(AND(DC87=\"\"),\"\",IF(DC87=0,\"\",1+(MAX(CQ$61:CQ86))))","v":""},27,0,0,0,0,0,0,0,0,0,0,""]
[0,0,28,{"$nulls":24},"",1,{"$f":"IF(AND(AP88=\"\"),\"\",IF(AP88=0,\"\",1+(MAX(AD$61:AD87))))","v":""},28,0,0,0,0,0,0,0,0,0,0,"",{"$f":"IF(AND(BC88=\"\"),\"\",IF(BC88=0,\"\",1+(MAX(AQ$61:AQ87))))","v":""},28,0,0,0,0,0,0,0,0,0,0,"",{"$f":"IF(AND(BP88=\"\"),\"\",IF(BP88=0,\"\",1+(MAX(BD$61:BD87))))","v":""},28,0,0,0,0,0,0,0,0,0,0,"",{"$f":"IF(AND(CC88=\"\"),\"\",IF(CC88=0,\"\",1+(MAX(BQ$61:BQ87))))","v":""},28,0,0,0,0,0,0,0,0,0,0,"",{"$f":"IF(AND(CP88=\"\"),\"\",IF(CP88=0,\"\",1+(MAX(CD$61:CD87))))","v":""},28,0,0,0,0,0,0,0,0,0,0,"",{"$f":"IF(AND(DC88=\"\"),\"\",IF(DC88=0,\"\",1+(MAX(CQ$61:CQ87))))","v":""},28,0,0,0,0,0,0,0,0,0,0,""]
[0,0,29,{"$nulls":24},"",1,{"$f":"IF(AND(AP89=\"\"),\"\",IF(AP89=0,\"\",1+(MAX(AD$61:AD88))))","v":""},29,0,0,0,0,0,0,0,0,0,0,"",{"$f":"IF(AND(BC89=\"\"),\"\",IF(BC89=0,\"\",1+(MAX(AQ$61:AQ88))))","v":""},29,0,0,0,0,0,0,0,0,0,0,"",{"$f":"IF(AND(BP89=\"\"),\"\",IF(BP89=0,\"\",1+(MAX(BD$61:BD88))))","v":""},29,0,0,0,0,0,0,0,0,0,0,"",{"$f":"IF(AND(CC89=\"\"),\"\",IF(CC89=0,\"\",1+(MAX(BQ$61:BQ88))))","v":""},29,0,0,0,0,0,0,0,0,0,0,"",{"$f":"IF(AND(CP89=\"\"),\"\",IF(CP89=0,\"\",1+(MAX(CD$61:CD88))))","v":""},29,0,0,0,0,0,0,0,0,0,0,"",{"$f":"IF(AND(DC89=\"\"),\"\",IF(DC89=0,\"\",1+(MAX(CQ$61:CQ88))))","v":""},29,0,0,0,0,0,0,0,0,0,0,""]
[0,0,30,{"$nulls":24},"",1,{"$f":"IF(AND(AP90=\"\"),\"\",IF(AP90=0,\"\",1+(MAX(AD$61:AD89))))","v":""},30,0,0,0,0,0,0,0,0,0,0,"",{"$f":"IF(AND(BC90=\"\"),\"\",IF(BC90=0,\"\",1+(MAX(AQ$61:AQ89))))","v":""},30,0,0,0,0,0,0,0,0,0,0,"",{"$f":"IF(AND(BP90=\"\"),\"\",IF(BP90=0,\"\",1+(MAX(BD$61:BD89))))","v":""},30,0,0,0,0,0,0,0,0,0,0,"",{"$f":"IF(AND(CC90=\"\"),\"\",IF(CC90=0,\"\",1+(MAX(BQ$61:BQ89))))","v":""},30,0,0,0,0,0,0,0,0,0,0,"",{"$f":"IF(AND(CP90=\"\"),\"\",IF(CP90=0,\"\",1+(MAX(CD$61:CD89))))","v":""},30,0,0,0,0,0,0,0,0,0,0,"",{"$f":"IF(AND(DC90=\"\"),\"\",IF(DC90=0,\"\",1+(MAX(CQ$61:CQ89))))","v":""},30,0,0,0,0,0,0,0,0,0,0,""]
[0,0,31,{"$nulls":24},"",1,{"$f":"IF(AND(AP91=\"\"),\"\",IF(AP91=0,\"\",1+(MAX(AD$61:AD90))))","v":""},31,0,0,0,0,0,0,0,0,0,0,"",{"$f":"IF(AND(BC91=\"\"),\"\",IF(BC91=0,\"\",1+(MAX(AQ$61:AQ90))))","v":""},31,0,0,0,0,0,0,0,0,0,0,"",{"$f":"IF(AND(BP91=\"\"),\"\",IF(BP91=0,\"\",1+(MAX(BD$61:BD90))))","v":""},31,0,0,0,0,0,0,0,0,0,0,"",{"$f":"IF(AND(CC91=\"\"),\"\",IF(CC91=0,\"\",1+(MAX(BQ$61:BQ90))))","v":""},31,0,0,0,0,0,0,0,0,0,0,"",{"$f":"IF(AND(CP91=\"\"),\"\",IF(CP91=0,\"\",1+(MAX(CD$61:CD90))))","v":""},31,0,0,0,0,0,0,0,0,0,0,"",{"$f":"IF(AND(DC91=\"\"),\"\",IF(DC91=0,\"\",1+(MAX(CQ$61:CQ90))))","v":""},31,0,0,0,0,0,0,0,0,0,0,""]
[0,0,32,{"$nulls":24},"",1,{"$f":"IF(AND(AP92=\"\"),\"\",IF(AP92=0,\"\",1+(MAX(AD$61:AD91))))","v":""},32,0,0,0,0,0,0,0,0,0,0,"",{"$f":"IF(AND(BC92=\"\"),\"\",IF(BC92=0,\"\",1+(MAX(AQ$61:AQ91))))","v":""},32,0,0,0,0,0,0,0,0,0,0,"",{"$f":"IF(AND(BP92=\"\"),\"\",IF(BP92=0,\"\",1+(MAX(BD$61:BD91))))","v":""},32,0,0,0,0,0,0,0,0,0,0,"",{"$f":"IF(AND(CC92=\"\"),\"\",IF(CC92=0,\"\",1+(MAX(BQ$61:BQ91))))","v":""},32,0,0,0,0,0,0,0,0,0,0,"",{"$f":"IF(AND(CP92=\"\"),\"\",IF(CP92=0,\"\",1+(MAX(CD$61:CD91))))","v":""},32,0,0,0,0,0,0,0,0,0,0,"",{"$f":"IF(AND(DC92=\"\"),\"\",IF(DC92=0,\"\",1+(MAX(CQ$61:CQ91))))","v":""},32,0,0,0,0,0,0,0,0,0,0,""]
[0,0,33,{"$nulls":24},{"$f":"MID(H93,5,4)","v":""},1,{"$f":"IF(AND(AP93=\"\"),\"\",IF(AP93=0,\"\",1+(MAX(AD$61:AD92))))","v":""},33,0,0,0,0,0,0,0,0,0,0,"",{"$f":"IF(AND(BC93=\"\"),\"\",IF(BC93=0,\"\",1+(MAX(AQ$61:AQ92))))","v":""},33,0,0,0,0,0,0,0,0,0,0,"",{"$f":"IF(AND(BP93=\"\"),\"\",IF(BP93=0,\"\",1+(MAX(BD$61:BD92))))","v":""},33,0,0,0,0,0,0,0,0,0,0,"",{"$f":"IF(AND(CC93=\"\"),\"\",IF(CC93=0,\"\",1+(MAX(BQ$61:BQ92))))","v":""},33,0,0,0,0,0,0,0,0,0,0,"",{"$f":"IF(AND(CP93=\"\"),\"\",IF(CP93=0,\"\",1+(MAX(CD$61:CD92))))","v":""},33,0,0,0,0,0,0,0,0,0,0,"",{"$f":"IF(AND(DC93=\"\"),\"\",IF(DC93=0,\"\",1+(MAX(CQ$61:CQ92))))","v":""},33,0,0,0,0,0,0,0,0,0,0,""]
[0,0,34,{"$nulls":24},"",1,{"$f":"IF(AND(AP94=\"\"),\"\",IF(AP94=0,\"\",1+(MAX(AD$61:AD93))))","v":""},34,0,0,0,0,0,0,0,0,0,0,"",{"$f":"IF(AND(BC94=\"\"),\"\",IF(BC94=0,\"\",1+(MAX(AQ$61:AQ93))))","v":""},34,0,0,0,0,0,0,0,0,0,0,"",{"$f":"IF(AND(BP94=\"\"),\"\",IF(BP94=0,\"\",1+(MAX(BD$61:BD93))))","v":""},34,{"$f":"IF($M94=\"GAZETTED - FIX PAY\",D94,0)","v":0},{"$f":"IF($M94=\"GAZETTED - FIX PAY\",E94,0)","v":0},{"$f":"IF($M94=\"GAZETTED - FIX PAY\",F94,0)","v":0},{"$f":"IF($M94=\"GAZETTED - FIX PAY\",G94,0)","v":0},{"$f":"IF($M94=\"GAZETTED - FIX PAY\",H94,0)","v":0},{"$f":"IF($M94=\"GAZETTED - FIX PAY\",I94,0)","v":0},{"$f":"IF($M94=\"GAZETTED - FIX PAY\",J94,0)","v":0},{"$f":"IF($M94=\"GAZETTED - FIX PAY\",K94,0)","v":0},{"$f":"IF($M94=\"GAZETTED - FIX PAY\",L94,0)","v":0},0,"",{"$f":"IF(AND(CC94=\"\"),\"\",IF(CC94=0,\"\",1+(MAX(BQ$61:BQ93))))","v":""},34,{"$f":"IF($M94=\"NON GAZETTED - FIX PAY\",D94,0)","v":0},{"$f":"IF($M94=\"NON GAZETTED - FIX PAY\",E94,0)","v":0},{"$f":"IF($M94=\"NON GAZETTED - FIX PAY\",F94,0)","v":0},{"$f":"IF($M94=\"NON GAZETTED - FIX PAY\",G94,0)","v":0},{"$f":"IF($M94=\"NON GAZETTED - FIX PAY\",H94,0)","v":0},{"$f":"IF($M94=\"NON GAZETTED - FIX PAY\",I94,0)","v":0},{"$f":"IF($M94=\"NON GAZETTED - FIX PAY\",J94,0)","v":0},{"$f":"IF($M94=\"NON GAZETTED - FIX PAY\",K94,0)","v":0},{"$f":"IF($M94=\"NON GAZETTED - FIX PAY\",L94,0)","v":0},0,"",{"$f":"IF(AND(CP94=\"\"),\"\",IF(CP94=0,\"\",1+(MAX(CD$61:CD93))))","v":""},34,0,0,0,0,0,0,0,0,0,0,"",{"$f":"IF(AND(DC94=\"\"),\"\",IF(DC94=0,\"\",1+(MAX(CQ$61:CQ93))))","v":""},34,0,0,0,0,0,0,0,0,0,0,""]
[0,0,35,{"$nulls":24},"",1,{"$f":"IF(AND(AP95=\"\"),\"\",IF(AP95=0,\"\",1+(MAX(AD$61:AD94))))","v":""},35,0,0,0,0,0,0,0,0,0,0,"",{"$f":"IF(AND(BC95=\"\"),\"\",IF(BC95=0,\"\",1+(MAX(AQ$61:AQ94))))","v":""},35,0,0,0,0,0,0,0,0,0,0,"",{"$f":"IF(AND(BP95=\"\"),\"\",IF(BP95=0,\"\",1+(MAX(BD$61:BD94))))","v":""},35,0,0,0,0,0,0,0,0,0,0,"",{"$f":"IF(AND(CC95=\"\"),\"\",IF(CC95=0,\"\",1+(MAX(BQ$61:BQ94))))","v":""},35,0,0,0,0,0,0,0,0,0,0,"",{"$f":"IF(AND(CP95=\"\"),\"\",IF(CP95=0,\"\",1+(MAX(CD$61:CD94))))","v":""},35,0,0,0,0,0,0,0,0,0,0,"",{"$f":"IF(AND(DC95=\"\"),\"\",IF(DC95=0,\"\",1+(MAX(CQ$61:CQ94))))","v":""},35,0,0,0,0,0,0,0,0,0,0,""]
[0,0,36,{"$nulls":24},"",1,{"$f":"IF(AND(AP96=\"\"),\"\",IF(AP96=0,\"\",1+(MAX(AD$61:AD95))))","v":""},36,0,0,0,0,0,0,0,0,0,0,"",{"$f":"IF(AND(BC96=\"\"),\"\",IF(BC96=0,\"\",1+(MAX(AQ$61:AQ95))))","v":""},36,0,0,0,0,0,0,0,0,0,0,"",{"$f":"IF(AND(BP96=\"\"),\"\",IF(BP96=0,\"\",1+(MAX(BD$61:BD95))))","v":""},36,0,0,0,0,0,0,0,0,0,0,"",{"$f":"IF(AND(CC96=\"\"),\"\",IF(CC96=0,\"\",1+(MAX(BQ$61:BQ95))))","v":""},36,0,0,0,0,0,0,0,0,0,0,"",{"$f":"IF(AND(CP96=\"\"),\"\",IF(CP96=0,\"\",1+(MAX(CD$61:CD95))))","v":""},36,0,0,0,0,0,0,0,0,0,0,"",{"$f":"IF(AND(DC96=\"\"),\"\",IF(DC96=0,\"\",1+(MAX(CQ$61:CQ95))))","v":""},36,0,0,0,0,0,0,0,0,0,0,""]
[0,0,37,{"$nulls":24},"",1,{"$f":"IF(AND(AP97=\"\"),\"\",IF(AP97=0,\"\",1+(MAX(AD$61:AD96))))","v":""},37,0,0,0,0,0,0,0,0,0,0,"",{"$f":"IF(AND(BC97=\"\"),\"\",IF(BC97=0,\"\",1+(MAX(AQ$61:AQ96))))","v":""},37,0,0,0,0,0,0,0,0,0,0,"",{"$f":"IF(AND(BP97=\"\"),\"\",IF(BP97=0,\"\",1+(MAX(BD$61:BD96))))","v":""},37,0,0,0,0,0,0,0,0,0,0,"",{"$f":"IF(AND(CC97=\"\"),\"\",IF(CC97=0,\"\",1+(MAX(BQ$61:BQ96))))","v":""},37,0,0,0,0,0,0,0,0,0,0,"",{"$f":"IF(AND(CP97=\"\"),\"\",IF(CP97=0,\"\",1+(MAX(CD$61:CD96))))","v":""},37,0,0,0,0,0,0,0,0,0,0,"",{"$f":"IF(AND(DC97=\"\"),\"\",IF(DC97=0,\"\",1+(MAX(CQ$61:CQ96))))","v":""},37,0,0,0,0,0,0,0,0,0,0,""]
[0,0,38,{"$nulls":24},"",1,{"$f":"IF(AND(AP98=\"\"),\"\",IF(AP98=0,\"\",1+(MAX(AD$61:AD97))))","v":""},38,0,0,0,0,0,0,0,0,0,0,"",{"$f":"IF(AND(BC98=\"\"),\"\",IF(BC98=0,\"\",1+(MAX(AQ$61:AQ97))))","v":""},38,0,0,0,0,0,0,0,0,0,0,"",{"$f":"IF(AND(BP98=\"\"),\"\",IF(BP98=0,\"\",1+(MAX(BD$61:BD97))))","v":""},38,0,0,0,0,0,0,0,0,0,0,"",{"$f":"IF(AND(CC98=\"\"),\"\",IF(CC98=0,\"\",1+(MAX(BQ$61:BQ97))))","v":""},38,0,0,0,0,0,0,0,0,0,0,"",{"$f":"IF(AND(CP98=\"\"),\"\",IF(CP98=0,\"\",1+(MAX(CD$61:CD97))))","v":""},38,0,0,0,0,0,0,0,0,0,0,"",{"$f":"IF(AND(DC98=\"\"),\"\",IF(DC98=0,\"\",1+(MAX(CQ$61:CQ97))))","v":""},38,0,0,0,0,0,0,0,0,0,0,""]
[0,0,39,{"$nulls":24},"",1,{"$f":"IF(AND(AP99=\"\"),\"\",IF(AP99=0,\"\",1+(MAX(AD$61:AD98))))","v":""},39,0,0,0,0,0,0,0,0,0,0,"",{"$f":"IF(AND(BC99=\"\"),\"\",IF(BC99=0,\"\",1+(MAX(AQ$61:AQ98))))","v":""},39,0,0,0,0,0,0,0,0,0,0,"",{"$f":"IF(AND(BP99=\"\"),\"\",IF(BP99=0,\"\",1+(MAX(BD$61:BD98))))","v":""},39,0,0,0,0,0,0,0,0,0,0,"",{"$f":"IF(AND(CC99=\"\"),\"\",IF(CC99=0,\"\",1+(MAX(BQ$61:BQ98))))","v":""},39,0,0,0,0,0,0,0,0,0,0,"",{"$f":"IF(AND(CP99=\"\"),\"\",IF(CP99=0,\"\",1+(MAX(CD$61:CD98))))","v":""},39,0,0,0,0,0,0,0,0,0,0,"",{"$f":"IF(AND(DC99=\"\"),\"\",IF(DC99=0,\"\",1+(MAX(CQ$61:CQ98))))","v":""},39,0,0,0,0,0,0,0,0,0,0,""]
[0,0,40,{"$nulls":24},"",1,{"$f":"IF(AND(AP100=\"\"),\"\",IF(AP100=0,\"\",1+(MAX(AD$61:AD99))))","v":""},40,0,0,0,0,0,0,0,0,0,0,"",{"$f":"IF(AND(BC100=\"\"),\"\",IF(BC100=0,\"\",1+(MAX(AQ$61:AQ99))))","v":""},40,0,0,0,0,0,0,0,0,0,0,"",{"$f":"IF(AND(BP100=\"\"),\"\",IF(BP100=0,\"\",1+(MAX(BD$61:BD99))))","v":""},40,0,0,0,0,0,0,0,0,0,0,"",{"$f":"IF(AND(CC100=\"\"),\"\",IF(CC100=0,\"\",1+(MAX(BQ$61:BQ99))))","v":""},40,0,0,0,0,0,0,0,0,0,0,"",{"$f":"IF(AND(CP100=\"\"),\"\",IF(CP100=0,\"\",1+(MAX(CD$61:CD99))))","v":""},40,0,0,0,0,0,0,0,0,0,0,"",{"$f":"IF(AND(DC100=\"\"),\"\",IF(DC100=0,\"\",1+(MAX(CQ$61:CQ99))))","v":""},40,0,0,0,0,0,0,0,0,0,0,""]
[0,0,41,{"$nulls":24},"",1,{"$f":"IF(AND(AP101=\"\"),\"\",IF(AP101=0,\"\",1+(MAX(AD$61:AD100))))","v":""},41,0,0,0,0,0,0,0,0,0,0,"",{"$f":"IF(AND(BC101=\"\"),\"\",IF(BC101=0,\"\",1+(MAX(AQ$61:AQ100))))","v":""},41,0,0,0,0,0,0,0,0,0,0,"",{"$f":"IF(AND(BP101=\"\"),\"\",IF(BP101=0,\"\",1+(MAX(BD$61:BD100))))","v":""},41,0,0,0,0,0,0,0,0,0,0,"",{"$f":"IF(AND(CC101=\"\"),\"\",IF(CC101=0,\"\",1+(MAX(BQ$61:BQ100))))","v":""},41,0,0,0,0,0,0,0,0,0,0,"",{"$f":"IF(AND(CP101=\"\"),\"\",IF(CP101=0,\"\",1+(MAX(CD$61:CD100))))","v":""},41,0,0,0,0,0,0,0,0,0,0,"",{"$f":"IF(AND(DC101=\"\"),\"\",IF(DC101=0,\"\",1+(MAX(CQ$61:CQ100))))","v":""},41,0,0,0,0,0,0,0,0,0,0,""]
[0,0,42,{"$nulls":24},"",1,{"$f":"IF(AND(AP102=\"\"),\"\",IF(AP102=0,\"\",1+(MAX(AD$61:AD101))))","v":""},42,0,0,0,0,0,0,0,0,0,0,"",{"$f":"IF(AND(BC102=\"\"),\"\",IF(BC102=0,\"\",1+(MAX(AQ$61:AQ101))))","v":""},42,0,0,0,0,0,0,0,0,0,0,"",{"$f":"IF(AND(BP102=\"\"),\"\",IF(BP102=0,\"\",1+(MAX(BD$61:BD101))))","v":""},42,0,0,0,0,0,0,0,0,0,0,"",{"$f":"IF(AND(CC102=\"\"),\"\",IF(CC102=0,\"\",1+(MAX(BQ$61:BQ101))))","v":""},42,0,0,0,0,0,0,0,0,0,0,"",{"$f":"IF(AND(CP102=\"\"),\"\",IF(CP102=0,\"\",1+(MAX(CD$61:CD101))))","v":""},42,0,0,0,0,0,0,0,0,0,0,"",{"$f":"IF(AND(DC102=\"\"),\"\",IF(DC102=0,\"\",1+(MAX(CQ$61:CQ101))))","v":""},42,0,0,0,0,0,0,0,0,0,0,""]
[0,0,43,{"$nulls":24},"",1,{"$f":"IF(AND(AP103=\"\"),\"\",IF(AP103=0,\"\",1+(MAX(AD$61:AD102))))","v":""},43,0,0,0,0,0,0,0,0,0,0,"",{"$f":"IF(AND(BC103=\"\"),\"\",IF(BC103=0,\"\",1+(MAX(AQ$61:AQ102))))","v":""},43,0,0,0,0,0,0,0,0,0,0,"",{"$f":"IF(AND(BP103=\"\"),\"\",IF(BP103=0,\"\",1+(MAX(BD$61:BD102))))","v":""},43,0,0,0,0,0,0,0,0,0,0,"",{"$f":"IF(AND(CC103=\"\"),\"\",IF(CC103=0,\"\",1+(MAX(BQ$61:BQ102))))","v":""},43,0,0,0,0,0,0,0,0,0,0,"",{"$f":"IF(AND(CP103=\"\"),\"\",IF(CP103=0,\"\",1+(MAX(CD$61:CD102))))","v":""},43,0,0,0,0,0,0,0,0,0,0,"",{"$f":"IF(AND(DC103=\"\"),\"\",IF(DC103=0,\"\",1+(MAX(CQ$61:CQ102))))","v":""},43,0,0,0,0,0,0,0,0,0,0,""]
[0,0,44,{"$nulls":24},"",1,{"$f":"IF(AND(AP104=\"\"),\"\",IF(AP104=0,\"\",1+(MAX(AD$61:AD103))))","v":""},44,0,0,0,0,0,0,0,0,0,0,"",{"$f":"IF(AND(BC104=\"\"),\"\",IF(BC104=0,\"\",1+(MAX(AQ$61:AQ103))))","v":""},44,0,0,0,0,0,0,0,0,0,0,"",{"$f":"IF(AND(BP104=\"\"),\"\",IF(BP104=0,\"\",1+(MAX(BD$61:BD103))))","v":""},44,0,0,0,0,0,0,0,0,0,0,"",{"$f":"IF(AND(CC104=\"\"),\"\",IF(CC104=0,\"\",1+(MAX(BQ$61:BQ103))))","v":""},44,0,0,0,0,0,0,0,0,0,0,"",{"$f":"IF(AND(CP104=\"\"),\"\",IF(CP104=0,\"\",1+(MAX(CD$61:CD103))))","v":""},44,0,0,0,0,0,0,0,0,0,0,"",{"$f":"IF(AND(DC104=\"\"),\"\",IF(DC104=0,\"\",1+(MAX(CQ$61:CQ103))))","v":""},44,0,0,0,0,0,0,0,0,0,0,""]
[0,0,45,{"$nulls":24},"",1,{"$f":"IF(AND(AP105=\"\"),\"\",IF(AP105=0,\"\",1+(MAX(AD$61:AD104))))","v":""},45,0,0,0,0,0,0,0,0,0,0,"",{"$f":"IF(AND(BC105=\"\"),\"\",IF(BC105=0,\"\",1+(MAX(AQ$61:AQ104))))","v":""},45,0,0,0,0,0,0,0,0,0,0,"",{"$f":"IF(AND(BP105=\"\"),\"\",IF(BP105=0,\"\",1+(MAX(BD$61:BD104))))","v":""},45,0,0,0,0,0,0,0,0,0,0,"",{"$f":"IF(AND(CC105=\"\"),\"\",IF(CC105=0,\"\",1+(MAX(BQ$61:BQ104))))","v":""},45,0,0,0,0,0,0,0,0,0,0,"",{"$f":"IF(AND(CP105=\"\"),\"\",IF(CP105=0,\"\",1+(MAX(CD$61:CD104))))","v":""},45,0,0,0,0,0,0,0,0,0,0,"",{"$f":"IF(AND(DC105=\"\"),\"\",IF(DC105=0,\"\",1+(MAX(CQ$61:CQ104))))","v":""},45,0,0,0,0,0,0,0,0,0,0,""]
[0,0,46,{"$nulls":24},"",1,{"$f":"IF(AND(AP106=\"\"),\"\",IF(AP106=0,\"\",1+(MAX(AD$61:AD105))))","v":""},46,0,0,0,0,0,0,0,0,0,0,"",{"$f":"IF(AND(BC106=\"\"),\"\",IF(BC106=0,\"\",1+(MAX(AQ$61:AQ105))))","v":""},46,0,0,0,0,0,0,0,0,0,0,"",{"$f":"IF(AND(BP106=\"\"),\"\",IF(BP106=0,\"\",1+(MAX(BD$61:BD105))))","v":""},46,0,0,0,0,0,0,0,0,0,0,"",{"$f":"IF(AND(CC106=\"\"),\"\",IF(CC106=0,\"\",1+(MAX(BQ$61:BQ105))))","v":""},46,0,0,0,0,0,0,0,0,0,0,"",{"$f":"IF(AND(CP106=\"\"),\"\",IF(CP106=0,\"\",1+(MAX(CD$61:CD105))))","v":""},46,0,0,0,0,0,0,0,0,0,0,"",{"$f":"IF(AND(DC106=\"\"),\"\",IF(DC106=0,\"\",1+(MAX(CQ$61:CQ105))))","v":""},46,0,0,0,0,0,0,0,0,0,0,""]
[0,0,47,{"$nulls":24},"",1,{"$f":"IF(AND(AP107=\"\"),\"\",IF(AP107=0,\"\",1+(MAX(AD$61:AD106))))","v":""},47,0,0,0,0,0,0,0,0,0,0,"",{"$f":"IF(AND(BC107=\"\"),\"\",IF(BC107=0,\"\",1+(MAX(AQ$61:AQ106))))","v":""},47,0,0,0,0,0,0,0,0,0,0,"",{"$f":"IF(AND(BP107=\"\"),\"\",IF(BP107=0,\"\",1+(MAX(BD$61:BD106))))","v":""},47,0,0,0,0,0,0,0,0,0,0,"",{"$f":"IF(AND(CC107=\"\"),\"\",IF(CC107=0,\"\",1+(MAX(BQ$61:BQ106))))","v":""},47,0,0,0,0,0,0,0,0,0,0,"",{"$f":"IF(AND(CP107=\"\"),\"\",IF(CP107=0,\"\",1+(MAX(CD$61:CD106))))","v":""},47,0,0,0,0,0,0,0,0,0,0,"",{"$f":"IF(AND(DC107=\"\"),\"\",IF(DC107=0,\"\",1+(MAX(CQ$61:CQ106))))","v":""},47,0,0,0,0,0,0,0,0,0,0,""]
[0,0,48,{"$nulls":24},"",1,{"$f":"IF(AND(AP108=\"\"),\"\",IF(AP108=0,\"\",1+(MAX(AD$61:AD107))))","v":""},48,0,0,0,0,0,0,0,0,0,0,"",{"$f":"IF(AND(BC108=\"\"),\"\",IF(BC108=0,\"\",1+(MAX(AQ$61:AQ107))))","v":""},48,0,0,0,0,0,0,0,0,0,0,"",{"$f":"IF(AND(BP108=\"\"),\"\",IF(BP108=0,\"\",1+(MAX(BD$61:BD107))))","v":""},48,0,0,0,0,0,0,0,0,0,0,"",{"$f":"IF(AND(CC108=\"\"),\"\",IF(CC108=0,\"\",1+(MAX(BQ$61:BQ107))))","v":""},48,0,0,0,0,0,0,0,0,0,0,"",{"$f":"IF(AND(CP108=\"\"),\"\",IF(CP108=0,\"\",1+(MAX(CD$61:CD107))))","v":""},48,0,0,0,0,0,0,0,0,0,0,"",{"$f":"IF(AND(DC108=\"\"),\"\",IF(DC108=0,\"\",1+(MAX(CQ$61:CQ107))))","v":""},48,0,0,0,0,0,0,0,0,0,0,""]
[0,0,49,{"$nulls":24},"",1,{"$f":"IF(AND(AP109=\"\"),\"\",IF(AP109=0,\"\",1+(MAX(AD$61:AD108))))","v":""},49,0,0,0,0,0,0,0,0,0,0,"",{"$f":"IF(AND(BC109=\"\"),\"\",IF(BC109=0,\"\",1+(MAX(AQ$61:AQ108))))","v":""},49,0,0,0,0,0,0,0,0,0,0,"",{"$f":"IF(AND(BP109=\"\"),\"\",IF(BP109=0,\"\",1+(MAX(BD$61:BD108))))","v":""},49,0,0,0,0,0,0,0,0,0,0,"",{"$f":"IF(AND(CC109=\"\"),\"\",IF(CC109=0,\"\",1+(MAX(BQ$61:BQ108))))","v":""},49,0,0,0,0,0,0,0,0,0,0,"",{"$f":"IF(AND(CP109=\"\"),\"\",IF(CP109=0,\"\",1+(MAX(CD$61:CD108))))","v":""},49,0,0,0,0,0,0,0,0,0,0,"",{"$f":"IF(AND(DC109=\"\"),\"\",IF(DC109=0,\"\",1+(MAX(CQ$61:CQ108))))","v":""},49,0,0,0,0,0,0,0,0,0,0,""]
[0,0,50,{"$nulls":24},"",1,{"$f":"IF(AND(AP110=\"\"),\"\",IF(AP110=0,\"\",1+(MAX(AD$61:AD109))))","v":""},50,0,0,0,0,0,0,0,0,0,0,"",{"$f":"IF(AND(BC110=\"\"),\"\",IF(BC110=0,\"\",1+(MAX(AQ$61:AQ109))))","v":""},50,0,0,0,0,0,0,0,0,0,0,"",{"$f":"IF(AND(BP110=\"\"),\"\",IF(BP110=0,\"\",1+(MAX(BD$61:BD109))))","v":""},50,0,0,0,0,0,0,0,0,0,0,"",{"$f":"IF(AND(CC110=\"\"),\"\",IF(CC110=0,\"\",1+(MAX(BQ$61:BQ109))))","v":""},50,0,0,0,0,0,0,0,0,0,0,"",{"$f":"IF(AND(CP110=\"\"),\"\",IF(CP110=0,\"\",1+(MAX(CD$61:CD109))))","v":""},50,0,0,0,0,0,0,0,0,0,0,"",{"$f":"IF(AND(DC110=\"\"),\"\",IF(DC110=0,\"\",1+(MAX(CQ$61:CQ109))))","v":""},50,0,0,0,0,0,0,0,0,0,0,""]
[0,0,51,{"$nulls":24},"",1,{"$f":"IF(AND(AP111=\"\"),\"\",IF(AP111=0,\"\",1+(MAX(AD$61:AD110))))","v":""},51,0,0,0,0,0,0,0,0,0,0,"",{"$f":"IF(AND(BC111=\"\"),\"\",IF(BC111=0,\"\",1+(MAX(AQ$61:AQ110))))","v":""},51,0,0,0,0,0,0,0,0,0,0,"",{"$f":"IF(AND(BP111=\"\"),\"\",IF(BP111=0,\"\",1+(MAX(BD$61:BD110))))","v":""},51,0,0,0,0,0,0,0,0,0,0,"",{"$f":"IF(AND(CC111=\"\"),\"\",IF(CC111=0,\"\",1+(MAX(BQ$61:BQ110))))","v":""},51,0,0,0,0,0,0,0,0,0,0,"",{"$f":"IF(AND(CP111=\"\"),\"\",IF(CP111=0,\"\",1+(MAX(CD$61:CD110))))","v":""},51,0,0,0,0,0,0,0,0,0,0,"",{"$f":"IF(AND(DC111=\"\"),\"\",IF(DC111=0,\"\",1+(MAX(CQ$61:CQ110))))","v":""},51,0,0,0,0,0,0,0,0,0,0,""]
[0,0,52,{"$nulls":24},{"$f":"MID(H112,5,4)","v":""},1,{"$f":"IF(AND(AP112=\"\"),\"\",IF(AP112=0,\"\",1+(MAX(AD$61:AD111))))","v":""},52,{"$f":"IF($M112=\"GAZETTED - REGULAR\",D112,0)","v":0},{"$f":"IF($M112=\"GAZETTED - REGULAR\",E112,0)","v":0},{"$f":"IF($M112=\"GAZETTED - REGULAR\",F112,0)","v":0},{"$f":"IF($M112=\"GAZETTED - REGULAR\",G112,0)","v":0},{"$f":"IF($M112=\"GAZETTED - REGULAR\",H112,0)","v":0},{"$f":"IF($M112=\"GAZETTED - REGULAR\",I112,0)","v":0},{"$f":"IF($M112=\"GAZETTED - REGULAR\",J112,0)","v":0},{"$f":"IF($M112=\"GAZETTED - REGULAR\",K112,0)","v":0},{"$f":"IF($M112=\"GAZETTED - REGULAR\",L112,0)","v":0},{"$f":"IF($M112=\"GAZETTED - REGULAR\",M112,0)","v":0},"",{"$f":"IF(AND(BC112=\"\"),\"\",IF(BC112=0,\"\",1+(MAX(AQ$61:AQ111))))","v":""},52,0,0,0,0,0,0,0,0,0,{"$f":"IF($M112=\"NON GAZETTED - REGULAR\",M112,0)","v":0},"",{"$f":"IF(AND(BP112=\"\"),\"\",IF(BP112=0,\"\",1+(MAX(BD$61:BD111))))","v":""},52,0,0,0,0,0,0,0,0,0,{"$f":"IF($M112=\"GAZETTED - FIX PAY\",M112,0)","v":0},"",{"$f":"IF(AND(CC112=\"\"),\"\",IF(CC112=0,\"\",1+(MAX(BQ$61:BQ111))))","v":""},52,0,0,0,0,0,0,0,0,0,{"$f":"IF($M112=\"NON GAZETTED - FIX PAY\",M112,0)","v":0},"",{"$f":"IF(AND(CP112=\"\"),\"\",IF(CP112=0,\"\",1+(MAX(CD$61:CD111))))","v":""},52,{"$f":"IF($M112=\"GAZETTED - SANVIDA\",D112,0)","v":0},{"$f":"IF($M112=\"GAZETTED - SANVIDA\",E112,0)","v":0},{"$f":"IF($M112=\"GAZETTED - SANVIDA\",F112,0)","v":0},{"$f":"IF($M112=\"GAZETTED - SANVIDA\",G112,0)","v":0},{"$f":"IF($M112=\"GAZETTED - SANVIDA\",H112,0)","v":0},{"$f":"IF($M112=\"GAZETTED - SANVIDA\",I112,0)","v":0},{"$f":"IF($M112=\"GAZETTED - SANVIDA\",J112,0)","v":0},{"$f":"IF($M112=\"GAZETTED - SANVIDA\",K112,0)","v":0},{"$f":"IF($M112=\"GAZETTED - SANVIDA\",L112,0)","v":0},{"$f":"IF($M112=\"GAZETTED - SANVIDA\",M112,0)","v":0},"",{"$f":"IF(AND(DC112=\"\"),\"\",IF(DC112=0,\"\",1+(MAX(CQ$61:CQ111))))","v":""},52,0,{"$f":"IF($M112=\"NON GAZETTED - SANVIDA\",E112,0)","v":0},{"$f":"IF($M112=\"NON GAZETTED - SANVIDA\",F112,0)","v":0},{"$f":"IF($M112=\"NON GAZETTED - SANVIDA\",G112,0)","v":0},{"$f":"IF($M112=\"NON GAZETTED - SANVIDA\",H112,0)","v":0},{"$f":"IF($M112=\"NON GAZETTED - SANVIDA\",I112,0)","v":0},{"$f":"IF($M112=\"NON GAZETTED - SANVIDA\",J112,0)","v":0},{"$f":"IF($M112=\"NON GAZETTED - SANVIDA\",K112,0)","v":0},{"$f":"IF($M112=\"NON GAZETTED - SANVIDA\",L112,0)","v":0},{"$f":"IF($M112=\"NON GAZETTED - SANVIDA\",M112,0)","v":0},""]
[0,0,53,{"$nulls":24},"",1,{"$f":"IF(AND(AP113=\"\"),\"\",IF(AP113=0,\"\",1+(MAX(AD$61:AD112))))","v":""},53,0,0,0,0,0,0,0,0,{"$f":"IF($M113=\"GAZETTED - REGULAR\",L113,0)","v":0},0,"",{"$f":"IF(AND(BC113=\"\"),\"\",IF(BC113=0,\"\",1+(MAX(AQ$61:AQ112))))","v":""},53,{"$f":"IF($M113=\"NON GAZETTED - REGULAR\",D113,0)","v":0},{"$f":"IF($M113=\"NON GAZETTED - REGULAR\",E113,0)","v":0},{"$f":"IF($M113=\"NON GAZETTED - REGULAR\",F113,0)","v":0},{"$f":"IF($M113=\"NON GAZETTED - REGULAR\",G113,0)","v":0},{"$f":"IF($M113=\"NON GAZETTED - REGULAR\",H113,0)","v":0},{"$f":"IF($M113=\"NON GAZETTED - REGULAR\",I113,0)","v":0},{"$f":"IF($M113=\"NON GAZETTED - REGULAR\",J113,0)","v":0},{"$f":"IF($M113=\"NON GAZETTED - REGULAR\",K113,0)","v":0},{"$f":"IF($M113=\"NON GAZETTED - REGULAR\",L113,0)","v":0},0,"",{"$f":"IF(AND(BP113=\"\"),\"\",IF(BP113=0,\"\",1+(MAX(BD$61:BD112))))","v":""},53,0,0,0,0,0,0,0,0,0,0,"",{"$f":"IF(AND(CC113=\"\"),\"\",IF(CC113=0,\"\",1+(MAX(BQ$61:BQ112))))","v":""},53,0,0,0,0,0,0,0,0,0,0,"",{"$f":"IF(AND(CP113=\"\"),\"\",IF(CP113=0,\"\",1+(MAX(CD$61:CD112))))","v":""},53,0,0,0,0,0,0,0,0,0,0,"",{"$f":"IF(AND(DC113=\"\"),\"\",IF(DC113=0,\"\",1+(MAX(CQ$61:CQ112))))","v":""},53,0,0,0,0,0,0,0,0,0,0,""]
[0,0,54,{"$nulls":24},"",1,{"$f":"IF(AND(AP114=\"\"),\"\",IF(AP114=0,\"\",1+(MAX(AD$61:AD113))))","v":""},54,0,0,0,0,0,0,0,0,{"$f":"IF($M114=\"GAZETTED - REGULAR\",L114,0)","v":0},0,"",{"$f":"IF(AND(BC114=\"\"),\"\",IF(BC114=0,\"\",1+(MAX(AQ$61:AQ113))))","v":""},54,0,0,0,0,0,0,0,0,0,0,"",{"$f":"IF(AND(BP114=\"\"),\"\",IF(BP114=0,\"\",1+(MAX(BD$61:BD113))))","v":""},54,0,0,0,0,0,0,0,0,0,0,"",{"$f":"IF(AND(CC114=\"\"),\"\",IF(CC114=0,\"\",1+(MAX(BQ$61:BQ113))))","v":""},54,0,0,0,0,0,0,0,0,0,0,"",{"$f":"IF(AND(CP114=\"\"),\"\",IF(CP114=0,\"\",1+(MAX(CD$61:CD113))))","v":""},54,0,0,0,0,0,0,0,0,0,0,"",{"$f":"IF(AND(DC114=\"\"),\"\",IF(DC114=0,\"\",1+(MAX(CQ$61:CQ113))))","v":""},54,0,0,0,0,0,0,0,0,0,0,""]
[0,0,55,{"$nulls":24},"",1,{"$f":"IF(AND(AP115=\"\"),\"\",IF(AP115=0,\"\",1+(MAX(AD$61:AD114))))","v":""},55,0,0,0,0,0,0,0,0,0,0,"",{"$f":"IF(AND(BC115=\"\"),\"\",IF(BC115=0,\"\",1+(MAX(AQ$61:AQ114))))","v":""},55,0,0,0,0,0,0,0,0,0,0,"",{"$f":"IF(AND(BP115=\"\"),\"\",IF(BP115=0,\"\",1+(MAX(BD$61:BD114))))","v":""},55,0,0,0,0,0,0,0,0,0,0,"",{"$f":"IF(AND(CC115=\"\"),\"\",IF(CC115=0,\"\",1+(MAX(BQ$61:BQ114))))","v":""},55,0,0,0,0,0,0,0,0,0,0,"",{"$f":"IF(AND(CP115=\"\"),\"\",IF(CP115=0,\"\",1+(MAX(CD$61:CD114))))","v":""},55,0,0,0,0,0,0,0,0,0,0,"",{"$f":"IF(AND(DC115=\"\"),\"\",IF(DC115=0,\"\",1+(MAX(CQ$61:CQ114))))","v":""},55,0,0,0,0,0,0,0,0,0,0,""]
[0,0,56,{"$nulls":24},"",1,{"$f":"IF(AND(AP116=\"\"),\"\",IF(AP116=0,\"\",1+(MAX(AD$61:AD115))))","v":""},56,0,0,0,0,0,0,0,0,0,0,"",{"$f":"IF(AND(BC116=\"\"),\"\",IF(BC116=0,\"\",1+(MAX(AQ$61:AQ115))))","v":""},56,0,0,0,0,0,0,0,0,0,0,"",{"$f":"IF(AND(BP116=\"\"),\"\",IF(BP116=0,\"\",1+(MAX(BD$61:BD115))))","v":""},56,0,0,0,0,0,0,0,0,0,0,"",{"$f":"IF(AND(CC116=\"\"),\"\",IF(CC116=0,\"\",1+(MAX(BQ$61:BQ115))))","v":""},56,0,0,0,0,0,0,0,0,0,0,"",{"$f":"IF(AND(CP116=\"\"),\"\",IF(CP116=0,\"\",1+(MAX(CD$61:CD115))))","v":""},56,0,0,0,0,0,0,0,0,0,0,"",{"$f":"IF(AND(DC116=\"\"),\"\",IF(DC116=0,\"\",1+(MAX(CQ$61:CQ115))))","v":""},56,0,0,0,0,0,0,0,0,0,0,""]
[0,0,57,{"$nulls":24},"",1,{"$f":"IF(AND(AP117=\"\"),\"\",IF(AP117=0,\"\",1+(MAX(AD$61:AD116))))","v":""},57,0,0,0,0,0,0,0,0,0,0,"",{"$f":"IF(AND(BC117=\"\"),\"\",IF(BC117=0,\"\",1+(MAX(AQ$61:AQ116))))","v":""},57,0,0,0,0,0,0,0,0,0,0,"",{"$f":"IF(AND(BP117=\"\"),\"\",IF(BP117=0,\"\",1+(MAX(BD$61:BD116))))","v":""},57,0,0,0,0,0,0,0,0,0,0,"",{"$f":"IF(AND(CC117=\"\"),\"\",IF(CC117=0,\"\",1+(MAX(BQ$61:BQ116))))","v":""},57,0,0,0,0,0,0,0,0,0,0,"",{"$f":"IF(AND(CP117=\"\"),\"\",IF(CP117=0,\"\",1+(MAX(CD$61:CD116))))","v":""},57,0,0,0,0,0,0,0,0,0,0,"",{"$f":"IF(AND(DC117=\"\"),\"\",IF(DC117=0,\"\",1+(MAX(CQ$61:CQ116))))","v":""},57,0,0,0,0,0,0,0,0,0,0,""]
[0,0,58,{"$nulls":24},"",1,{"$f":"IF(AND(AP118=\"\"),\"\",IF(AP118=0,\"\",1+(MAX(AD$61:AD117))))","v":""},58,0,0,0,0,0,0,0,0,0,0,"",{"$f":"IF(AND(BC118=\"\"),\"\",IF(BC118=0,\"\",1+(MAX(AQ$61:AQ117))))","v":""},58,0,0,0,0,0,0,0,0,0,0,"",{"$f":"IF(AND(BP118=\"\"),\"\",IF(BP118=0,\"\",1+(MAX(BD$61:BD117))))","v":""},58,0,0,0,0,0,0,0,0,0,0,"",{"$f":"IF(AND(CC118=\"\"),\"\",IF(CC118=0,\"\",1+(MAX(BQ$61:BQ117))))","v":""},58,0,0,0,0,0,0,0,0,0,0,"",{"$f":"IF(AND(CP118=\"\"),\"\",IF(CP118=0,\"\",1+(MAX(CD$61:CD117))))","v":""},58,0,0,0,0,0,0,0,0,0,0,"",{"$f":"IF(AND(DC118=\"\"),\"\",IF(DC118=0,\"\",1+(MAX(CQ$61:CQ117))))","v":""},58,0,0,0,0,0,0,0,0,0,0,""]
[0,0,59,{"$nulls":24},"",1,{"$f":"IF(AND(AP119=\"\"),\"\",IF(AP119=0,\"\",1+(MAX(AD$61:AD118))))","v":""},59,0,0,0,0,0,0,0,0,0,0,"",{"$f":"IF(AND(BC119=\"\"),\"\",IF(BC119=0,\"\",1+(MAX(AQ$61:AQ118))))","v":""},59,0,0,0,0,0,0,0,0,0,0,"",{"$f":"IF(AND(BP119=\"\"),\"\",IF(BP119=0,\"\",1+(MAX(BD$61:BD118))))","v":""},59,0,0,0,0,0,0,0,0,0,0,"",{"$f":"IF(AND(CC119=\"\"),\"\",IF(CC119=0,\"\",1+(MAX(BQ$61:BQ118))))","v":""},59,0,0,0,0,0,0,0,0,0,0,"",{"$f":"IF(AND(CP119=\"\"),\"\",IF(CP119=0,\"\",1+(MAX(CD$61:CD118))))","v":""},59,0,0,0,0,0,0,0,0,0,0,"",{"$f":"IF(AND(DC119=\"\"),\"\",IF(DC119=0,\"\",1+(MAX(CQ$61:CQ118))))","v":""},59,0,0,0,0,0,0,0,0,0,0,""]
[0,0,60,{"$nulls":24},"",1,{"$f":"IF(AND(AP120=\"\"),\"\",IF(AP120=0,\"\",1+(MAX(AD$61:AD119))))","v":""},60,0,0,0,0,0,0,0,0,0,0,"",{"$f":"IF(AND(BC120=\"\"),\"\",IF(BC120=0,\"\",1+(MAX(AQ$61:AQ119))))","v":""},60,0,0,0,0,0,0,0,0,0,0,"",{"$f":"IF(AND(BP120=\"\"),\"\",IF(BP120=0,\"\",1+(MAX(BD$61:BD119))))","v":""},60,0,0,0,0,0,0,0,0,0,0,"",{"$f":"IF(AND(CC120=\"\"),\"\",IF(CC120=0,\"\",1+(MAX(BQ$61:BQ119))))","v":""},60,0,0,0,0,0,0,0,0,0,0,"",{"$f":"IF(AND(CP120=\"\"),\"\",IF(CP120=0,\"\",1+(MAX(CD$61:CD119))))","v":""},60,0,0,0,0,0,0,0,0,0,0,"",{"$f":"IF(AND(DC120=\"\"),\"\",IF(DC120=0,\"\",1+(MAX(CQ$61:CQ119))))","v":""},60,0,0,0,0,0,0,0,0,0,0,""]
[0,0,61,{"$nulls":24},"",1,{"$f":"IF(AND(AP121=\"\"),\"\",IF(AP121=0,\"\",1+(MAX(AD$61:AD120))))","v":""},61,0,0,0,0,0,0,0,0,0,0,"",{"$f":"IF(AND(BC121=\"\"),\"\",IF(BC121=0,\"\",1+(MAX(AQ$61:AQ120))))","v":""},61,0,0,0,0,0,0,0,0,0,0,"",{"$f":"IF(AND(BP121=\"\"),\"\",IF(BP121=0,\"\",1+(MAX(BD$61:BD120))))","v":""},61,0,0,0,0,0,0,0,0,0,0,"",{"$f":"IF(AND(CC121=\"\"),\"\",IF(CC121=0,\"\",1+(MAX(BQ$61:BQ120))))","v":""},61,0,0,0,0,0,0,0,0,0,0,"",{"$f":"IF(AND(CP121=\"\"),\"\",IF(CP121=0,\"\",1+(MAX(CD$61:CD120))))","v":""},61,0,0,0,0,0,0,0,0,0,0,"",{"$f":"IF(AND(DC121=\"\"),\"\",IF(DC121=0,\"\",1+(MAX(CQ$61:CQ120))))","v":""},61,0,0,0,0,0,0,0,0,0,0,""]
[0,0,62,{"$nulls":24},"",1,{"$f":"IF(AND(AP122=\"\"),\"\",IF(AP122=0,\"\",1+(MAX(AD$61:AD121))))","v":""},62,0,0,0,0,0,0,0,0,0,0,"",{"$f":"IF(AND(BC122=\"\"),\"\",IF(BC122=0,\"\",1+(MAX(AQ$61:AQ121))))","v":""},62,0,0,0,0,0,0,0,0,0,0,"",{"$f":"IF(AND(BP122=\"\"),\"\",IF(BP122=0,\"\",1+(MAX(BD$61:BD121))))","v":""},62,0,0,0,0,0,0,0,0,0,0,"",{"$f":"IF(AND(CC122=\"\"),\"\",IF(CC122=0,\"\",1+(MAX(BQ$61:BQ121))))","v":""},62,0,0,0,0,0,0,0,0,0,0,"",{"$f":"IF(AND(CP122=\"\"),\"\",IF(CP122=0,\"\",1+(MAX(CD$61:CD121))))","v":""},62,0,0,0,0,0,0,0,0,0,0,"",{"$f":"IF(AND(DC122=\"\"),\"\",IF(DC122=0,\"\",1+(MAX(CQ$61:CQ121))))","v":""},62,0,0,0,0,0,0,0,0,0,0,""]
[0,0,63,{"$nulls":24},"",1,{"$f":"IF(AND(AP123=\"\"),\"\",IF(AP123=0,\"\",1+(MAX(AD$61:AD122))))","v":""},63,0,0,0,0,0,0,0,0,0,0,"",{"$f":"IF(AND(BC123=\"\"),\"\",IF(BC123=0,\"\",1+(MAX(AQ$61:AQ122))))","v":""},63,0,0,0,0,0,0,0,0,0,0,"",{"$f":"IF(AND(BP123=\"\"),\"\",IF(BP123=0,\"\",1+(MAX(BD$61:BD122))))","v":""},63,0,0,0,0,0,0,0,0,0,0,"",{"$f":"IF(AND(CC123=\"\"),\"\",IF(CC123=0,\"\",1+(MAX(BQ$61:BQ122))))","v":""},63,0,0,0,0,0,0,0,0,0,0,"",{"$f":"IF(AND(CP123=\"\"),\"\",IF(CP123=0,\"\",1+(MAX(CD$61:CD122))))","v":""},63,0,0,0,0,0,0,0,0,0,0,"",{"$f":"IF(AND(DC123=\"\"),\"\",IF(DC123=0,\"\",1+(MAX(CQ$61:CQ122))))","v":""},63,0,0,0,0,0,0,0,0,0,0,""]
[0,0,64,{"$nulls":24},"",1,{"$f":"IF(AND(AP124=\"\"),\"\",IF(AP124=0,\"\",1+(MAX(AD$61:AD123))))","v":""},64,0,0,0,0,0,0,0,0,0,0,"",{"$f":"IF(AND(BC124=\"\"),\"\",IF(BC124=0,\"\",1+(MAX(AQ$61:AQ123))))","v":""},64,0,0,0,0,0,0,0,0,0,0,"",{"$f":"IF(AND(BP124=\"\"),\"\",IF(BP124=0,\"\",1+(MAX(BD$61:BD123))))","v":""},64,0,0,0,0,0,0,0,0,0,0,"",{"$f":"IF(AND(CC124=\"\"),\"\",IF(CC124=0,\"\",1+(MAX(BQ$61:BQ123))))","v":""},64,0,0,0,0,0,0,0,0,0,0,"",{"$f":"IF(AND(CP124=\"\"),\"\",IF(CP124=0,\"\",1+(MAX(CD$61:CD123))))","v":""},64,0,0,0,0,0,0,0,0,0,0,"",{"$f":"IF(AND(DC124=\"\"),\"\",IF(DC124=0,\"\",1+(MAX(CQ$61:CQ123))))","v":""},64,0,0,0,0,0,0,0,0,0,0,""]
[0,0,65,{"$nulls":24},"",1,{"$f":"IF(AND(AP125=\"\"),\"\",IF(AP125=0,\"\",1+(MAX(AD$61:AD124))))","v":""},65,0,0,0,0,0,0,0,0,0,0,{"$f":"IF(AND(M125=\"\"),\"\",IF(M125=AF$59,1,0))","v":""},{"$f":"IF(AND(BC125=\"\"),\"\",IF(BC125=0,\"\",1+(MAX(AQ$61:AQ124))))","v":""},65,0,0,0,0,0,0,0,0,0,0,{"$f":"IF(AND(M125=\"\"),\"\",IF(M125=AS$59,1,0))","v":""},{"$f":"IF(AND(BP125=\"\"),\"\",IF(BP125=0,\"\",1+(MAX(BD$61:BD124))))","v":""},65,0,0,0,0,0,0,0,0,0,0,{"$f":"IF(AND(M125=\"\"),\"\",IF(M125=BF$59,1,0))","v":""},{"$f":"IF(AND(CC125=\"\"),\"\",IF(CC125=0,\"\",1+(MAX(BQ$61:BQ124))))","v":""},65,0,0,0,0,0,0,0,0,0,0,{"$f":"IF(AND(M125=\"\"),\"\",IF(M125=BS$59,1,0))","v":""},{"$f":"IF(AND(CP125=\"\"),\"\",IF(CP125=0,\"\",1+(MAX(CD$61:CD124))))","v":""},65,0,0,0,0,0,0,0,0,0,0,{"$f":"IF(AND(M125=\"\"),\"\",IF(M125=CF$59,1,0))","v":""},{"$f":"IF(AND(DC125=\"\"),\"\",IF(DC125=0,\"\",1+(MAX(CQ$61:CQ124))))","v":""},65,0,0,0,0,0,0,0,0,0,0,{"$f":"IF(AND(M125=\"\"),\"\",IF(M125=CS$59,1,0))","v":""}]
[{"$f":"IF(OR(D126=\"in fjDr\",D126=\"पद रिक्त\",D126=\"Blank\",D126=\"Post Blank\"),0,E126)","v":0},{"$f":"F126","v":0},66,{"$nulls":24},"",{"$f":"IF(F126<=0,1,0)*(IF(M126=\"SANVIDA\",0,1))","v":1},{"$f":"IF(AND(AP126=\"\"),\"\",IF(AP126=0,\"\",1+(MAX(AD$61:AD125))))","v":""},66,0,0,0,0,0,0,0,0,0,0,"",{"$f":"IF(AND(BC126=\"\"),\"\",IF(BC126=0,\"\",1+(MAX(AQ$61:AQ125))))","v":""},66,0,0,0,0,0,0,0,0,0,0,"",{"$f":"IF(AND(BP126=\"\"),\"\",IF(BP126=0,\"\",1+(MAX(BD$61:BD125))))","v":""},66,0,0,0,0,0,0,0,0,0,0,"",{"$f":"IF(AND(CC126=\"\"),\"\",IF(CC126=0,\"\",1+(MAX(BQ$61:BQ125))))","v":""},66,0,0,0,0,0,0,0,0,0,0,"",{"$f":"IF(AND(CP126=\"\"),\"\",IF(CP126=0,\"\",1+(MAX(CD$61:CD125))))","v":""},66,0,0,0,0,0,0,0,0,0,0,"",{"$f":"IF(AND(DC126=\"\"),\"\",IF(DC126=0,\"\",1+(MAX(CQ$61:CQ125))))","v":""},66,0,0,0,0,0,0,0,0,0,0,""]
[0,0,67,{"$nulls":24},"",1,{"$f":"IF(AND(AP127=\"\"),\"\",IF(AP127=0,\"\",1+(MAX(AD$61:AD126))))","v":""},67,0,0,0,0,0,0,0,0,0,0,"",{"$f":"IF(AND(BC127=\"\"),\"\",IF(BC127=0,\"\",1+(MAX(AQ$61:AQ126))))","v":""},67,0,0,0,0,0,0,0,0,0,0,"",{"$f":"IF(AND(BP127=\"\"),\"\",IF(BP127=0,\"\",1+(MAX(BD$61:BD126))))","v":""},67,0,0,0,0,0,0,0,0,0,0,"",{"$f":"IF(AND(CC127=\"\"),\"\",IF(CC127=0,\"\",1+(MAX(BQ$61:BQ126))))","v":""},67,0,0,0,0,0,0,0,0,0,0,"",{"$f":"IF(AND(CP127=\"\"),\"\",IF(CP127=0,\"\",1+(MAX(CD$61:CD126))))","v":""},67,0,0,0,0,0,0,0,0,0,0,"",{"$f":"IF(AND(DC127=\"\"),\"\",IF(DC127=0,\"\",1+(MAX(CQ$61:CQ126))))","v":""},67,0,0,0,0,0,0,0,0,0,0,""]
[0,0,68,{"$nulls":24},"",1,{"$f":"IF(AND(AP128=\"\"),\"\",IF(AP128=0,\"\",1+(MAX(AD$61:AD127))))","v":""},68,0,0,0,0,0,0,0,0,0,0,"",{"$f":"IF(AND(BC128=\"\"),\"\",IF(BC128=0,\"\",1+(MAX(AQ$61:AQ127))))","v":""},68,0,0,0,0,0,0,0,0,0,0,"",{"$f":"IF(AND(BP128=\"\"),\"\",IF(BP128=0,\"\",1+(MAX(BD$61:BD127))))","v":""},68,0,0,0,0,0,0,0,0,0,0,"",{"$f":"IF(AND(CC128=\"\"),\"\",IF(CC128=0,\"\",1+(MAX(BQ$61:BQ127))))","v":""},68,0,0,0,0,0,0,0,0,0,0,"",{"$f":"IF(AND(CP128=\"\"),\"\",IF(CP128=0,\"\",1+(MAX(CD$61:CD127))))","v":""},68,0,0,0,0,0,0,0,0,0,0,"",{"$f":"IF(AND(DC128=\"\"),\"\",IF(DC128=0,\"\",1+(MAX(CQ$61:CQ127))))","v":""},68,0,0,0,0,0,0,0,0,0,0,""]
[0,0,69,{"$nulls":24},"",1,{"$f":"IF(AND(AP129=\"\"),\"\",IF(AP129=0,\"\",1+(MAX(AD$61:AD128))))","v":""},69,0,0,0,0,0,0,0,0,0,0,"",{"$f":"IF(AND(BC129=\"\"),\"\",IF(BC129=0,\"\",1+(MAX(AQ$61:AQ128))))","v":""},69,0,0,0,0,0,0,0,0,0,0,"",{"$f":"IF(AND(BP129=\"\"),\"\",IF(BP129=0,\"\",1+(MAX(BD$61:BD128))))","v":""},69,0,0,0,0,0,0,0,0,0,0,"",{"$f":"IF(AND(CC129=\"\"),\"\",IF(CC129=0,\"\",1+(MAX(BQ$61:BQ128))))","v":""},69,0,0,0,0,0,0,0,0,0,0,"",{"$f":"IF(AND(CP129=\"\"),\"\",IF(CP129=0,\"\",1+(MAX(CD$61:CD128))))","v":""},69,0,0,0,0,0,0,0,0,0,0,"",{"$f":"IF(AND(DC129=\"\"),\"\",IF(DC129=0,\"\",1+(MAX(CQ$61:CQ128))))","v":""},69,0,0,0,0,0,0,0,0,0,0,""]
[0,0,70,{"$nulls":24},"",1,{"$f":"IF(AND(AP130=\"\"),\"\",IF(AP130=0,\"\",1+(MAX(AD$61:AD129))))","v":""},70,0,0,0,0,0,0,0,0,0,0,"",{"$f":"IF(AND(BC130=\"\"),\"\",IF(BC130=0,\"\",1+(MAX(AQ$61:AQ129))))","v":""},70,0,0,0,0,0,0,0,0,0,0,"",{"$f":"IF(AND(BP130=\"\"),\"\",IF(BP130=0,\"\",1+(MAX(BD$61:BD129))))","v":""},70,0,0,0,0,0,0,0,0,0,0,"",{"$f":"IF(AND(CC130=\"\"),\"\",IF(CC130=0,\"\",1+(MAX(BQ$61:BQ129))))","v":""},70,0,0,0,0,0,0,0,0,0,0,"",{"$f":"IF(AND(CP130=\"\"),\"\",IF(CP130=0,\"\",1+(MAX(CD$61:CD129))))","v":""},70,0,0,0,0,0,0,0,0,0,0,"",{"$f":"IF(AND(DC130=\"\"),\"\",IF(DC130=0,\"\",1+(MAX(CQ$61:CQ129))))","v":""},70,0,0,0,0,0,0,0,0,0,0,""]
[0,0,71,{"$nulls":24},"",1,{"$f":"IF(AND(AP131=\"\"),\"\",IF(AP131=0,\"\",1+(MAX(AD$61:AD130))))","v":""},71,0,0,0,0,0,0,0,0,0,0,"",{"$f":"IF(AND(BC131=\"\"),\"\",IF(BC131=0,\"\",1+(MAX(AQ$61:AQ130))))","v":""},71,0,0,0,0,0,0,0,0,0,0,"",{"$f":"IF(AND(BP131=\"\"),\"\",IF(BP131=0,\"\",1+(MAX(BD$61:BD130))))","v":""},71,0,0,0,0,0,0,0,0,0,0,"",{"$f":"IF(AND(CC131=\"\"),\"\",IF(CC131=0,\"\",1+(MAX(BQ$61:BQ130))))","v":""},71,0,0,0,0,0,0,0,0,0,0,"",{"$f":"IF(AND(CP131=\"\"),\"\",IF(CP131=0,\"\",1+(MAX(CD$61:CD130))))","v":""},71,0,0,0,0,0,0,0,0,0,0,"",{"$f":"IF(AND(DC131=\"\"),\"\",IF(DC131=0,\"\",1+(MAX(CQ$61:CQ130))))","v":""},71,0,0,0,0,0,0,0,0,0,0,""]
[0,0,72,{"$nulls":24},"",1,{"$f":"IF(AND(AP132=\"\"),\"\",IF(AP132=0,\"\",1+(MAX(AD$61:AD131))))","v":""},72,0,0,0,0,0,0,0,0,0,0,"",{"$f":"IF(AND(BC132=\"\"),\"\",IF(BC132=0,\"\",1+(MAX(AQ$61:AQ131))))","v":""},72,0,0,0,0,0,0,0,0,0,0,"",{"$f":"IF(AND(BP132=\"\"),\"\",IF(BP132=0,\"\",1+(MAX(BD$61:BD131))))","v":""},72,0,0,0,0,0,0,0,0,0,0,"",{"$f":"IF(AND(CC132=\"\"),\"\",IF(CC132=0,\"\",1+(MAX(BQ$61:BQ131))))","v":""},72,0,0,0,0,0,0,0,0,0,0,"",{"$f":"IF(AND(CP132=\"\"),\"\",IF(CP132=0,\"\",1+(MAX(CD$61:CD131))))","v":""},72,0,0,0,0,0,0,0,0,0,0,"",{"$f":"IF(AND(DC132=\"\"),\"\",IF(DC132=0,\"\",1+(MAX(CQ$61:CQ131))))","v":""},72,0,0,0,0,0,0,0,0,0,0,""]
[0,0,73,{"$nulls":24},"",1,{"$f":"IF(AND(AP133=\"\"),\"\",IF(AP133=0,\"\",1+(MAX(AD$61:AD132))))","v":""},73,0,0,0,0,0,0,0,0,0,0,"",{"$f":"IF(AND(BC133=\"\"),\"\",IF(BC133=0,\"\",1+(MAX(AQ$61:AQ132))))","v":""},73,0,0,0,0,0,0,0,0,0,0,"",{"$f":"IF(AND(BP133=\"\"),\"\",IF(BP133=0,\"\",1+(MAX(BD$61:BD132))))","v":""},73,0,0,0,0,0,0,0,0,0,0,"",{"$f":"IF(AND(CC133=\"\"),\"\",IF(CC133=0,\"\",1+(MAX(BQ$61:BQ132))))","v":""},73,0,0,0,0,0,0,0,0,0,0,"",{"$f":"IF(AND(CP133=\"\"),\"\",IF(CP133=0,\"\",1+(MAX(CD$61:CD132))))","v":""},73,0,0,0,0,0,0,0,0,0,0,"",{"$f":"IF(AND(DC133=\"\"),\"\",IF(DC133=0,\"\",1+(MAX(CQ$61:CQ132))))","v":""},73,0,0,0,0,0,0,0,0,0,0,""]
[0,0,74,{"$nulls":24},"",1,{"$f":"IF(AND(AP134=\"\"),\"\",IF(AP134=0,\"\",1+(MAX(AD$61:AD133))))","v":""},74,0,0,0,0,0,0,0,0,0,0,"",{"$f":"IF(AND(BC134=\"\"),\"\",IF(BC134=0,\"\",1+(MAX(AQ$61:AQ133))))","v":""},74,0,0,0,0,0,0,0,0,0,0,"",{"$f":"IF(AND(BP134=\"\"),\"\",IF(BP134=0,\"\",1+(MAX(BD$61:BD133))))","v":""},74,0,0,0,0,0,0,0,0,0,0,"",{"$f":"IF(AND(CC134=\"\"),\"\",IF(CC134=0,\"\",1+(MAX(BQ$61:BQ133))))","v":""},74,0,0,0,0,0,0,0,0,0,0,"",{"$f":"IF(AND(CP134=\"\"),\"\",IF(CP134=0,\"\",1+(MAX(CD$61:CD133))))","v":""},74,0,0,0,0,0,0,0,0,0,0,"",{"$f":"IF(AND(DC134=\"\"),\"\",IF(DC134=0,\"\",1+(MAX(CQ$61:CQ133))))","v":""},74,0,0,0,0,0,0,0,0,0,0,""]
[0,0,75,{"$nulls":24},"",1,{"$f":"IF(AND(AP135=\"\"),\"\",IF(AP135=0,\"\",1+(MAX(AD$61:AD134))))","v":""},75,0,0,0,0,0,0,0,0,0,0,"",{"$f":"IF(AND(BC135=\"\"),\"\",IF(BC135=0,\"\",1+(MAX(AQ$61:AQ134))))","v":""},75,0,0,0,0,0,0,0,0,0,0,"",{"$f":"IF(AND(BP135=\"\"),\"\",IF(BP135=0,\"\",1+(MAX(BD$61:BD134))))","v":""},75,0,0,0,0,0,0,0,0,0,0,"",{"$f":"IF(AND(CC135=\"\"),\"\",IF(CC135=0,\"\",1+(MAX(BQ$61:BQ134))))","v":""},75,0,0,0,0,0,0,0,0,0,0,"",{"$f":"IF(AND(CP135=\"\"),\"\",IF(CP135=0,\"\",1+(MAX(CD$61:CD134))))","v":""},75,0,0,0,0,0,0,0,0,0,0,"",{"$f":"IF(AND(DC135=\"\"),\"\",IF(DC135=0,\"\",1+(MAX(CQ$61:CQ134))))","v":""},75,0,0,0,0,0,0,0,0,0,0,""]
[0,0,76,{"$nulls":24},"",1,{"$f":"IF(AND(AP136=\"\"),\"\",IF(AP136=0,\"\",1+(MAX(AD$61:AD135))))","v":""},76,0,0,0,0,0,0,0,0,0,0,"",{"$f":"IF(AND(BC136=\"\"),\"\",IF(BC136=0,\"\",1+(MAX(AQ$61:AQ135))))","v":""},76,0,0,0,0,0,0,0,0,0,0,"",{"$f":"IF(AND(BP136=\"\"),\"\",IF(BP136=0,\"\",1+(MAX(BD$61:BD135))))","v":""},76,0,0,0,0,0,0,0,0,0,0,"",{"$f":"IF(AND(CC136=\"\"),\"\",IF(CC136=0,\"\",1+(MAX(BQ$61:BQ135))))","v":""},76,0,0,0,0,0,0,0,0,0,0,"",{"$f":"IF(AND(CP136=\"\"),\"\",IF(CP136=0,\"\",1+(MAX(CD$61:CD135))))","v":""},76,0,0,0,0,0,0,0,0,0,0,"",{"$f":"IF(AND(DC136=\"\"),\"\",IF(DC136=0,\"\",1+(MAX(CQ$61:CQ135))))","v":""},76,0,0,0,0,0,0,0,0,0,0,""]
[0,0,77,{"$nulls":24},"",1,{"$f":"IF(AND(AP137=\"\"),\"\",IF(AP137=0,\"\",1+(MAX(AD$61:AD136))))","v":""},77,0,0,0,0,0,0,0,0,0,0,"",{"$f":"IF(AND(BC137=\"\"),\"\",IF(BC137=0,\"\",1+(MAX(AQ$61:AQ136))))","v":""},77,0,0,0,0,0,0,0,0,0,0,"",{"$f":"IF(AND(BP137=\"\"),\"\",IF(BP137=0,\"\",1+(MAX(BD$61:BD136))))","v":""},77,0,0,0,0,0,0,0,0,0,0,"",{"$f":"IF(AND(CC137=\"\"),\"\",IF(CC137=0,\"\",1+(MAX(BQ$61:BQ136))))","v":""},77,0,0,0,0,0,0,0,0,0,0,"",{"$f":"IF(AND(CP137=\"\"),\"\",IF(CP137=0,\"\",1+(MAX(CD$61:CD136))))","v":""},77,0,0,0,0,0,0,0,0,0,0,"",{"$f":"IF(AND(DC137=\"\"),\"\",IF(DC137=0,\"\",1+(MAX(CQ$61:CQ136))))","v":""},77,0,0,0,0,0,0,0,0,0,0,""]
[0,0,78,{"$nulls":24},"",1,{"$f":"IF(AND(AP138=\"\"),\"\",IF(AP138=0,\"\",1+(MAX(AD$61:AD137))))","v":""},78,0,0,0,0,0,0,0,0,0,0,"",{"$f":"IF(AND(BC138=\"\"),\"\",IF(BC138=0,\"\",1+(MAX(AQ$61:AQ137))))","v":""},78,0,0,0,0,0,0,0,0,0,0,"",{"$f":"IF(AND(BP138=\"\"),\"\",IF(BP138=0,\"\",1+(MAX(BD$61:BD137))))","v":""},78,0,0,0,0,0,0,0,0,0,0,"",{"$f":"IF(AND(CC138=\"\"),\"\",IF(CC138=0,\"\",1+(MAX(BQ$61:BQ137))))","v":""},78,0,0,0,0,0,0,0,0,0,0,"",{"$f":"IF(AND(CP138=\"\"),\"\",IF(CP138=0,\"\",1+(MAX(CD$61:CD137))))","v":""},78,0,0,0,0,0,0,0,0,0,0,"",{"$f":"IF(AND(DC138=\"\"),\"\",IF(DC138=0,\"\",1+(MAX(CQ$61:CQ137))))","v":""},78,0,0,0,0,0,0,0,0,0,0,""]
[0,0,79,{"$nulls":24},"",1,{"$f":"IF(AND(AP139=\"\"),\"\",IF(AP139=0,\"\",1+(MAX(AD$61:AD138))))","v":""},79,0,0,0,0,0,0,0,0,0,0,"",{"$f":"IF(AND(BC139=\"\"),\"\",IF(BC139=0,\"\",1+(MAX(AQ$61:AQ138))))","v":""},79,0,0,0,0,0,0,0,0,0,0,"",{"$f":"IF(AND(BP139=\"\"),\"\",IF(BP139=0,\"\",1+(MAX(BD$61:BD138))))","v":""},79,0,0,0,0,0,0,0,0,0,0,"",{"$f":"IF(AND(CC139=\"\"),\"\",IF(CC139=0,\"\",1+(MAX(BQ$61:BQ138))))","v":""},79,0,0,0,0,0,0,0,0,0,0,"",{"$f":"IF(AND(CP139=\"\"),\"\",IF(CP139=0,\"\",1+(MAX(CD$61:CD138))))","v":""},79,0,0,0,0,0,0,0,0,0,0,"",{"$f":"IF(AND(DC139=\"\"),\"\",IF(DC139=0,\"\",1+(MAX(CQ$61:CQ138))))","v":""},79,0,0,0,0,0,0,0,0,0,0,""]
[0,0,80,{"$nulls":24},"",1,{"$f":"IF(AND(AP140=\"\"),\"\",IF(AP140=0,\"\",1+(MAX(AD$61:AD139))))","v":""},80,0,0,0,0,0,0,0,0,0,0,"",{"$f":"IF(AND(BC140=\"\"),\"\",IF(BC140=0,\"\",1+(MAX(AQ$61:AQ139))))","v":""},80,0,0,0,0,0,0,0,0,0,0,"",{"$f":"IF(AND(BP140=\"\"),\"\",IF(BP140=0,\"\",1+(MAX(BD$61:BD139))))","v":""},80,0,0,0,0,0,0,0,0,0,0,"",{"$f":"IF(AND(CC140=\"\"),\"\",IF(CC140=0,\"\",1+(MAX(BQ$61:BQ139))))","v":""},80,0,0,0,0,0,0,0,0,0,0,"",{"$f":"IF(AND(CP140=\"\"),\"\",IF(CP140=0,\"\",1+(MAX(CD$61:CD139))))","v":""},80,0,0,0,0,0,0,0,0,0,0,"",{"$f":"IF(AND(DC140=\"\"),\"\",IF(DC140=0,\"\",1+(MAX(CQ$61:CQ139))))","v":""},80,0,0,0,0,0,0,0,0,0,0,""]
[0,0,81,{"$nulls":24},"",1,{"$f":"IF(AND(AP141=\"\"),\"\",IF(AP141=0,\"\",1+(MAX(AD$61:AD140))))","v":""},81,0,0,0,0,0,0,0,0,0,0,"",{"$f":"IF(AND(BC141=\"\"),\"\",IF(BC141=0,\"\",1+(MAX(AQ$61:AQ140))))","v":""},81,0,0,0,0,0,0,0,0,0,0,"",{"$f":"IF(AND(BP141=\"\"),\"\",IF(BP141=0,\"\",1+(MAX(BD$61:BD140))))","v":""},81,0,0,0,0,0,0,0,0,0,0,"",{"$f":"IF(AND(CC141=\"\"),\"\",IF(CC141=0,\"\",1+(MAX(BQ$61:BQ140))))","v":""},81,0,0,0,0,0,0,0,0,0,0,"",{"$f":"IF(AND(CP141=\"\"),\"\",IF(CP141=0,\"\",1+(MAX(CD$61:CD140))))","v":""},81,0,0,0,0,0,0,0,0,0,0,"",{"$f":"IF(AND(DC141=\"\"),\"\",IF(DC141=0,\"\",1+(MAX(CQ$61:CQ140))))","v":""},81,{"$f":"IF($M141=\"NON GAZETTED - SANVIDA\",D141,0)","v":0},0,0,0,0,0,0,0,0,0,""]
[0,0,82,{"$nulls":24},"",1,{"$f":"IF(AND(AP142=\"\"),\"\",IF(AP142=0,\"\",1+(MAX(AD$61:AD141))))","v":""},82,0,0,0,0,0,0,0,0,0,0,"",{"$f":"IF(AND(BC142=\"\"),\"\",IF(BC142=0,\"\",1+(MAX(AQ$61:AQ141))))","v":""},82,0,0,0,0,0,0,0,0,0,0,"",{"$f":"IF(AND(BP142=\"\"),\"\",IF(BP142=0,\"\",1+(MAX(BD$61:BD141))))","v":""},82,0,0,0,0,0,0,0,0,0,0,"",{"$f":"IF(AND(CC142=\"\"),\"\",IF(CC142=0,\"\",1+(MAX(BQ$61:BQ141))))","v":""},82,0,0,0,0,0,0,0,0,0,0,"",{"$f":"IF(AND(CP142=\"\"),\"\",IF(CP142=0,\"\",1+(MAX(CD$61:CD141))))","v":""},82,0,0,0,0,0,0,0,0,0,0,"",{"$f":"IF(AND(DC142=\"\"),\"\",IF(DC142=0,\"\",1+(MAX(CQ$61:CQ141))))","v":""},82,0,0,0,0,0,0,0,0,0,0,""]
[0,0,83,{"$nulls":24},"",1,{"$f":"IF(AND(AP143=\"\"),\"\",IF(AP143=0,\"\",1+(MAX(AD$61:AD142))))","v":""},83,0,0,0,0,0,0,0,0,0,0,"",{"$f":"IF(AND(BC143=\"\"),\"\",IF(BC143=0,\"\",1+(MAX(AQ$61:AQ142))))","v":""},83,0,0,0,0,0,0,0,0,0,0,"",{"$f":"IF(AND(BP143=\"\"),\"\",IF(BP143=0,\"\",1+(MAX(BD$61:BD142))))","v":""},83,0,0,0,0,0,0,0,0,0,0,"",{"$f":"IF(AND(CC143=\"\"),\"\",IF(CC143=0,\"\",1+(MAX(BQ$61:BQ142))))","v":""},83,0,0,0,0,0,0,0,0,0,0,"",{"$f":"IF(AND(CP143=\"\"),\"\",IF(CP143=0,\"\",1+(MAX(CD$61:CD142))))","v":""},83,0,0,0,0,0,0,0,0,0,0,"",{"$f":"IF(AND(DC143=\"\"),\"\",IF(DC143=0,\"\",1+(MAX(CQ$61:CQ142))))","v":""},83,0,0,0,0,0,0,0,0,0,0,""]
[0,0,84,{"$nulls":24},"",1,{"$f":"IF(AND(AP144=\"\"),\"\",IF(AP144=0,\"\",1+(MAX(AD$61:AD143))))","v":""},84,0,0,0,0,0,0,0,0,0,0,"",{"$f":"IF(AND(BC144=\"\"),\"\",IF(BC144=0,\"\",1+(MAX(AQ$61:AQ143))))","v":""},84,0,0,0,0,0,0,0,0,0,0,"",{"$f":"IF(AND(BP144=\"\"),\"\",IF(BP144=0,\"\",1+(MAX(BD$61:BD143))))","v":""},84,{"$f":"IF($M144=\"GAZETTED - FIX PAY\",D144,0)","v":0},{"$f":"IF($M144=\"GAZETTED - FIX PAY\",E144,0)","v":0},{"$f":"IF($M144=\"GAZETTED - FIX PAY\",F144,0)","v":0},{"$f":"IF($M144=\"GAZETTED - FIX PAY\",G144,0)","v":0},{"$f":"IF($M144=\"GAZETTED - FIX PAY\",H144,0)","v":0},{"$f":"IF($M144=\"GAZETTED - FIX PAY\",I144,0)","v":0},{"$f":"IF($M144=\"GAZETTED - FIX PAY\",J144,0)","v":0},{"$f":"IF($M144=\"GAZETTED - FIX PAY\",K144,0)","v":0},{"$f":"IF($M144=\"GAZETTED - FIX PAY\",L144,0)","v":0},0,"",{"$f":"IF(AND(CC144=\"\"),\"\",IF(CC144=0,\"\",1+(MAX(BQ$61:BQ143))))","v":""},84,{"$f":"IF($M144=\"NON GAZETTED - FIX PAY\",D144,0)","v":0},{"$f":"IF($M144=\"NON GAZETTED - FIX PAY\",E144,0)","v":0},{"$f":"IF($M144=\"NON GAZETTED - FIX PAY\",F144,0)","v":0},{"$f":"IF($M144=\"NON GAZETTED - FIX PAY\",G144,0)","v":0},{"$f":"IF($M144=\"NON GAZETTED - FIX PAY\",H144,0)","v":0},{"$f":"IF($M144=\"NON GAZETTED - FIX PAY\",I144,0)","v":0},{"$f":"IF($M144=\"NON GAZETTED - FIX PAY\",J144,0)","v":0},{"$f":"IF($M144=\"NON GAZETTED - FIX PAY\",K144,0)","v":0},{"$f":"IF($M144=\"NON GAZETTED - FIX PAY\",L144,0)","v":0},0,"",{"$f":"IF(AND(CP144=\"\"),\"\",IF(CP144=0,\"\",1+(MAX(CD$61:CD143))))","v":""},84,0,0,0,0,0,0,0,0,0,0,"",{"$f":"IF(AND(DC144=\"\"),\"\",IF(DC144=0,\"\",1+(MAX(CQ$61:CQ143))))","v":""},84,0,0,0,0,0,0,0,0,0,0,""]
[0,0,85,{"$nulls":24},"",1,{"$f":"IF(AND(AP145=\"\"),\"\",IF(AP145=0,\"\",1+(MAX(AD$61:AD144))))","v":""},85,0,0,0,0,0,0,0,0,0,0,"",{"$f":"IF(AND(BC145=\"\"),\"\",IF(BC145=0,\"\",1+(MAX(AQ$61:AQ144))))","v":""},85,0,0,0,0,0,0,0,0,0,0,"",{"$f":"IF(AND(BP145=\"\"),\"\",IF(BP145=0,\"\",1+(MAX(BD$61:BD144))))","v":""},85,0,0,0,0,0,0,0,0,0,0,"",{"$f":"IF(AND(CC145=\"\"),\"\",IF(CC145=0,\"\",1+(MAX(BQ$61:BQ144))))","v":""},85,0,0,0,0,0,0,0,0,0,0,"",{"$f":"IF(AND(CP145=\"\"),\"\",IF(CP145=0,\"\",1+(MAX(CD$61:CD144))))","v":""},85,0,0,0,0,0,0,0,0,0,0,"",{"$f":"IF(AND(DC145=\"\"),\"\",IF(DC145=0,\"\",1+(MAX(CQ$61:CQ144))))","v":""},85,0,0,0,0,0,0,0,0,0,0,""]
[0,0,86,{"$nulls":24},"",1,{"$f":"IF(AND(AP146=\"\"),\"\",IF(AP146=0,\"\",1+(MAX(AD$61:AD145))))","v":""},86,0,0,0,0,0,0,0,0,0,0,"",{"$f":"IF(AND(BC146=\"\"),\"\",IF(BC146=0,\"\",1+(MAX(AQ$61:AQ145))))","v":""},86,0,0,0,0,0,0,0,0,0,0,"",{"$f":"IF(AND(BP146=\"\"),\"\",IF(BP146=0,\"\",1+(MAX(BD$61:BD145))))","v":""},86,0,0,0,0,0,0,0,0,0,0,"",{"$f":"IF(AND(CC146=\"\"),\"\",IF(CC146=0,\"\",1+(MAX(BQ$61:BQ145))))","v":""},86,0,0,0,0,0,0,0,0,0,0,"",{"$f":"IF(AND(CP146=\"\"),\"\",IF(CP146=0,\"\",1+(MAX(CD$61:CD145))))","v":""},86,0,0,0,0,0,0,0,0,0,0,"",{"$f":"IF(AND(DC146=\"\"),\"\",IF(DC146=0,\"\",1+(MAX(CQ$61:CQ145))))","v":""},86,0,0,0,0,0,0,0,0,0,0,""]
[0,0,87,{"$nulls":24},"",1,{"$f":"IF(AND(AP147=\"\"),\"\",IF(AP147=0,\"\",1+(MAX(AD$61:AD146))))","v":""},87,0,0,0,0,0,0,0,0,0,0,"",{"$f":"IF(AND(BC147=\"\"),\"\",IF(BC147=0,\"\",1+(MAX(AQ$61:AQ146))))","v":""},87,0,0,0,0,0,0,0,0,0,0,"",{"$f":"IF(AND(BP147=\"\"),\"\",IF(BP147=0,\"\",1+(MAX(BD$61:BD146))))","v":""},87,0,0,0,0,0,0,0,0,0,0,"",{"$f":"IF(AND(CC147=\"\"),\"\",IF(CC147=0,\"\",1+(MAX(BQ$61:BQ146))))","v":""},87,0,0,0,0,0,0,0,0,0,0,"",{"$f":"IF(AND(CP147=\"\"),\"\",IF(CP147=0,\"\",1+(MAX(CD$61:CD146))))","v":""},87,0,0,0,0,0,0,0,0,0,0,"",{"$f":"IF(AND(DC147=\"\"),\"\",IF(DC147=0,\"\",1+(MAX(CQ$61:CQ146))))","v":""},87,0,0,0,0,0,0,0,0,0,0,""]
[0,0,88,{"$nulls":24},"",1,{"$f":"IF(AND(AP148=\"\"),\"\",IF(AP148=0,\"\",1+(MAX(AD$61:AD147))))","v":""},88,0,0,0,0,0,0,0,0,0,0,"",{"$f":"IF(AND(BC148=\"\"),\"\",IF(BC148=0,\"\",1+(MAX(AQ$61:AQ147))))","v":""},88,0,0,0,0,0,0,0,0,0,0,"",{"$f":"IF(AND(BP148=\"\"),\"\",IF(BP148=0,\"\",1+(MAX(BD$61:BD147))))","v":""},88,0,0,0,0,0,0,0,0,0,0,"",{"$f":"IF(AND(CC148=\"\"),\"\",IF(CC148=0,\"\",1+(MAX(BQ$61:BQ147))))","v":""},88,0,0,0,0,0,0,0,0,0,0,"",{"$f":"IF(AND(CP148=\"\"),\"\",IF(CP148=0,\"\",1+(MAX(CD$61:CD147))))","v":""},88,0,0,0,0,0,0,0,0,0,0,"",{"$f":"IF(AND(DC148=\"\"),\"\",IF(DC148=0,\"\",1+(MAX(CQ$61:CQ147))))","v":""},88,0,0,0,0,0,0,0,0,0,0,""]
[0,0,89,{"$nulls":24},"",1,{"$f":"IF(AND(AP149=\"\"),\"\",IF(AP149=0,\"\",1+(MAX(AD$61:AD148))))","v":""},89,0,0,0,0,0,0,0,0,0,0,"",{"$f":"IF(AND(BC149=\"\"),\"\",IF(BC149=0,\"\",1+(MAX(AQ$61:AQ148))))","v":""},89,0,0,0,0,0,0,0,0,0,0,"",{"$f":"IF(AND(BP149=\"\"),\"\",IF(BP149=0,\"\",1+(MAX(BD$61:BD148))))","v":""},89,0,0,0,0,0,0,0,0,0,0,"",{"$f":"IF(AND(CC149=\"\"),\"\",IF(CC149=0,\"\",1+(MAX(BQ$61:BQ148))))","v":""},89,0,0,0,0,0,0,0,0,0,0,"",{"$f":"IF(AND(CP149=\"\"),\"\",IF(CP149=0,\"\",1+(MAX(CD$61:CD148))))","v":""},89,0,0,0,0,0,0,0,0,0,0,"",{"$f":"IF(AND(DC149=\"\"),\"\",IF(DC149=0,\"\",1+(MAX(CQ$61:CQ148))))","v":""},89,0,0,0,0,0,0,0,0,0,0,""]
[0,0,90,{"$nulls":24},"",1,{"$f":"IF(AND(AP150=\"\"),\"\",IF(AP150=0,\"\",1+(MAX(AD$61:AD149))))","v":""},90,0,0,0,0,0,0,0,0,0,0,"",{"$f":"IF(AND(BC150=\"\"),\"\",IF(BC150=0,\"\",1+(MAX(AQ$61:AQ149))))","v":""},90,0,0,0,0,0,0,0,0,0,0,"",{"$f":"IF(AND(BP150=\"\"),\"\",IF(BP150=0,\"\",1+(MAX(BD$61:BD149))))","v":""},90,0,0,0,0,0,0,0,0,0,0,"",{"$f":"IF(AND(CC150=\"\"),\"\",IF(CC150=0,\"\",1+(MAX(BQ$61:BQ149))))","v":""},90,0,0,0,0,0,0,0,0,0,0,"",{"$f":"IF(AND(CP150=\"\"),\"\",IF(CP150=0,\"\",1+(MAX(CD$61:CD149))))","v":""},90,0,0,0,0,0,0,0,0,0,0,"",{"$f":"IF(AND(DC150=\"\"),\"\",IF(DC150=0,\"\",1+(MAX(CQ$61:CQ149))))","v":""},90,0,0,0,0,0,0,0,0,0,0,""]
[0,0,91,{"$nulls":24},"",1,{"$f":"IF(AND(AP151=\"\"),\"\",IF(AP151=0,\"\",1+(MAX(AD$61:AD150))))","v":""},91,0,0,0,0,0,0,0,0,0,0,"",{"$f":"IF(AND(BC151=\"\"),\"\",IF(BC151=0,\"\",1+(MAX(AQ$61:AQ150))))","v":""},91,0,0,0,0,0,0,0,0,0,0,"",{"$f":"IF(AND(BP151=\"\"),\"\",IF(BP151=0,\"\",1+(MAX(BD$61:BD150))))","v":""},91,0,0,0,0,0,0,0,0,0,0,"",{"$f":"IF(AND(CC151=\"\"),\"\",IF(CC151=0,\"\",1+(MAX(BQ$61:BQ150))))","v":""},91,0,0,0,0,0,0,0,0,0,0,"",{"$f":"IF(AND(CP151=\"\"),\"\",IF(CP151=0,\"\",1+(MAX(CD$61:CD150))))","v":""},91,0,0,0,0,0,0,0,0,0,0,"",{"$f":"IF(AND(DC151=\"\"),\"\",IF(DC151=0,\"\",1+(MAX(CQ$61:CQ150))))","v":""},91,0,0,0,0,0,0,0,0,0,0,""]
[0,0,92,{"$nulls":24},"",1,{"$f":"IF(AND(AP152=\"\"),\"\",IF(AP152=0,\"\",1+(MAX(AD$61:AD151))))","v":""},92,0,0,0,0,0,0,0,0,0,0,"",{"$f":"IF(AND(BC152=\"\"),\"\",IF(BC152=0,\"\",1+(MAX(AQ$61:AQ151))))","v":""},92,0,0,0,0,0,0,0,0,0,0,"",{"$f":"IF(AND(BP152=\"\"),\"\",IF(BP152=0,\"\",1+(MAX(BD$61:BD151))))","v":""},92,0,0,0,0,0,0,0,0,0,0,"",{"$f":"IF(AND(CC152=\"\"),\"\",IF(CC152=0,\"\",1+(MAX(BQ$61:BQ151))))","v":""},92,0,0,0,0,0,0,0,0,0,0,"",{"$f":"IF(AND(CP152=\"\"),\"\",IF(CP152=0,\"\",1+(MAX(CD$61:CD151))))","v":""},92,0,0,0,0,0,0,0,0,0,0,"",{"$f":"IF(AND(DC152=\"\"),\"\",IF(DC152=0,\"\",1+(MAX(CQ$61:CQ151))))","v":""},92,0,0,0,0,0,0,0,0,0,0,""]
[0,0,93,{"$nulls":24},"",1,{"$f":"IF(AND(AP153=\"\"),\"\",IF(AP153=0,\"\",1+(MAX(AD$61:AD152))))","v":""},93,0,0,0,0,0,0,0,0,0,0,"",{"$f":"IF(AND(BC153=\"\"),\"\",IF(BC153=0,\"\",1+(MAX(AQ$61:AQ152))))","v":""},93,0,0,0,0,0,0,0,0,0,0,"",{"$f":"IF(AND(BP153=\"\"),\"\",IF(BP153=0,\"\",1+(MAX(BD$61:BD152))))","v":""},93,0,0,0,0,0,0,0,0,0,0,"",{"$f":"IF(AND(CC153=\"\"),\"\",IF(CC153=0,\"\",1+(MAX(BQ$61:BQ152))))","v":""},93,0,0,0,0,0,0,0,0,0,0,"",{"$f":"IF(AND(CP153=\"\"),\"\",IF(CP153=0,\"\",1+(MAX(CD$61:CD152))))","v":""},93,0,0,0,0,0,0,0,0,0,0,"",{"$f":"IF(AND(DC153=\"\"),\"\",IF(DC153=0,\"\",1+(MAX(CQ$61:CQ152))))","v":""},93,0,0,0,0,0,0,0,0,0,0,""]
[0,0,94,{"$nulls":24},"",1,{"$f":"IF(AND(AP154=\"\"),\"\",IF(AP154=0,\"\",1+(MAX(AD$61:AD153))))","v":""},94,0,0,0,0,0,0,0,0,0,0,"",{"$f":"IF(AND(BC154=\"\"),\"\",IF(BC154=0,\"\",1+(MAX(AQ$61:AQ153))))","v":""},94,0,0,0,0,0,0,0,0,0,0,"",{"$f":"IF(AND(BP154=\"\"),\"\",IF(BP154=0,\"\",1+(MAX(BD$61:BD153))))","v":""},94,0,0,0,0,0,0,0,0,0,0,"",{"$f":"IF(AND(CC154=\"\"),\"\",IF(CC154=0,\"\",1+(MAX(BQ$61:BQ153))))","v":""},94,0,0,0,0,0,0,0,0,0,0,"",{"$f":"IF(AND(CP154=\"\"),\"\",IF(CP154=0,\"\",1+(MAX(CD$61:CD153))))","v":""},94,0,0,0,0,0,0,0,0,0,0,"",{"$f":"IF(AND(DC154=\"\"),\"\",IF(DC154=0,\"\",1+(MAX(CQ$61:CQ153))))","v":""},94,0,0,0,0,0,0,0,0,0,0,""]
[0,0,95,{"$nulls":24},"",1,{"$f":"IF(AND(AP155=\"\"),\"\",IF(AP155=0,\"\",1+(MAX(AD$61:AD154))))","v":""},95,0,0,0,0,0,0,0,0,0,0,"",{"$f":"IF(AND(BC155=\"\"),\"\",IF(BC155=0,\"\",1+(MAX(AQ$61:AQ154))))","v":""},95,0,0,0,0,0,0,0,0,0,0,"",{"$f":"IF(AND(BP155=\"\"),\"\",IF(BP155=0,\"\",1+(MAX(BD$61:BD154))))","v":""},95,0,0,0,0,0,0,0,0,0,0,"",{"$f":"IF(AND(CC155=\"\"),\"\",IF(CC155=0,\"\",1+(MAX(BQ$61:BQ154))))","v":""},95,0,0,0,0,0,0,0,0,0,0,"",{"$f":"IF(AND(CP155=\"\"),\"\",IF(CP155=0,\"\",1+(MAX(CD$61:CD154))))","v":""},95,0,0,0,0,0,0,0,0,0,0,"",{"$f":"IF(AND(DC155=\"\"),\"\",IF(DC155=0,\"\",1+(MAX(CQ$61:CQ154))))","v":""},95,0,0,0,0,0,0,0,0,0,0,""]
[0,0,96,{"$nulls":24},"",1,{"$f":"IF(AND(AP156=\"\"),\"\",IF(AP156=0,\"\",1+(MAX(AD$61:AD155))))","v":""},96,0,0,0,0,0,0,0,0,0,0,"",{"$f":"IF(AND(BC156=\"\"),\"\",IF(BC156=0,\"\",1+(MAX(AQ$61:AQ155))))","v":""},96,0,0,0,0,0,0,0,0,0,0,"",{"$f":"IF(AND(BP156=\"\"),\"\",IF(BP156=0,\"\",1+(MAX(BD$61:BD155))))","v":""},96,0,0,0,0,0,0,0,0,0,0,"",{"$f":"IF(AND(CC156=\"\"),\"\",IF(CC156=0,\"\",1+(MAX(BQ$61:BQ155))))","v":""},96,0,0,0,0,0,0,0,0,0,0,"",{"$f":"IF(AND(CP156=\"\"),\"\",IF(CP156=0,\"\",1+(MAX(CD$61:CD155))))","v":""},96,0,0,0,0,0,0,0,0,0,0,"",{"$f":"IF(AND(DC156=\"\"),\"\",IF(DC156=0,\"\",1+(MAX(CQ$61:CQ155))))","v":""},96,0,0,0,0,0,0,0,0,0,0,""]
[0,0,97,{"$nulls":24},"",1,{"$f":"IF(AND(AP157=\"\"),\"\",IF(AP157=0,\"\",1+(MAX(AD$61:AD156))))","v":""},97,0,0,0,0,0,0,0,0,0,0,"",{"$f":"IF(AND(BC157=\"\"),\"\",IF(BC157=0,\"\",1+(MAX(AQ$61:AQ156))))","v":""},97,0,0,0,0,0,0,0,0,0,0,"",{"$f":"IF(AND(BP157=\"\"),\"\",IF(BP157=0,\"\",1+(MAX(BD$61:BD156))))","v":""},97,0,0,0,0,0,0,0,0,0,0,"",{"$f":"IF(AND(CC157=\"\"),\"\",IF(CC157=0,\"\",1+(MAX(BQ$61:BQ156))))","v":""},97,0,0,0,0,0,0,0,0,0,0,"",{"$f":"IF(AND(CP157=\"\"),\"\",IF(CP157=0,\"\",1+(MAX(CD$61:CD156))))","v":""},97,0,0,0,0,0,0,0,0,0,0,"",{"$f":"IF(AND(DC157=\"\"),\"\",IF(DC157=0,\"\",1+(MAX(CQ$61:CQ156))))","v":""},97,0,0,0,0,0,0,0,0,0,0,""]
[0,0,98,{"$nulls":24},"",1,{"$f":"IF(AND(AP158=\"\"),\"\",IF(AP158=0,\"\",1+(MAX(AD$61:AD157))))","v":""},98,0,0,0,0,0,0,0,0,0,0,"",{"$f":"IF(AND(BC158=\"\"),\"\",IF(BC158=0,\"\",1+(MAX(AQ$61:AQ157))))","v":""},98,0,0,0,0,0,0,0,0,0,0,"",{"$f":"IF(AND(BP158=\"\"),\"\",IF(BP158=0,\"\",1+(MAX(BD$61:BD157))))","v":""},98,0,0,0,0,0,0,0,0,0,0,"",{"$f":"IF(AND(CC158=\"\"),\"\",IF(CC158=0,\"\",1+(MAX(BQ$61:BQ157))))","v":""},98,0,0,0,0,0,0,0,0,0,0,"",{"$f":"IF(AND(CP158=\"\"),\"\",IF(CP158=0,\"\",1+(MAX(CD$61:CD157))))","v":""},98,0,0,0,0,0,0,0,0,0,0,"",{"$f":"IF(AND(DC158=\"\"),\"\",IF(DC158=0,\"\",1+(MAX(CQ$61:CQ157))))","v":""},98,0,0,0,0,0,0,0,0,0,0,""]
[0,0,99,{"$nulls":24},"",1,{"$f":"IF(AND(AP159=\"\"),\"\",IF(AP159=0,\"\",1+(MAX(AD$61:AD158))))","v":""},99,0,0,0,0,0,0,0,0,0,0,"",{"$f":"IF(AND(BC159=\"\"),\"\",IF(BC159=0,\"\",1+(MAX(AQ$61:AQ158))))","v":""},99,0,0,0,0,0,0,0,0,0,0,"",{"$f":"IF(AND(BP159=\"\"),\"\",IF(BP159=0,\"\",1+(MAX(BD$61:BD158))))","v":""},99,0,0,0,0,0,0,0,0,0,0,"",{"$f":"IF(AND(CC159=\"\"),\"\",IF(CC159=0,\"\",1+(MAX(BQ$61:BQ158))))","v":""},99,0,0,0,0,0,0,0,0,0,0,"",{"$f":"IF(AND(CP159=\"\"),\"\",IF(CP159=0,\"\",1+(MAX(CD$61:CD158))))","v":""},99,0,0,0,0,0,0,0,0,0,0,"",{"$f":"IF(AND(DC159=\"\"),\"\",IF(DC159=0,\"\",1+(MAX(CQ$61:CQ158))))","v":""},99,0,0,0,0,0,0,0,0,0,0,""]
[0,0,100,{"$nulls":24},"",1,{"$f":"IF(AND(AP160=\"\"),\"\",IF(AP160=0,\"\",1+(MAX(AD$61:AD159))))","v":""},100,0,0,0,0,0,0,0,0,0,0,"",{"$f":"IF(AND(BC160=\"\"),\"\",IF(BC160=0,\"\",1+(MAX(AQ$61:AQ159))))","v":""},100,0,0,0,0,0,0,0,0,0,0,"",{"$f":"IF(AND(BP160=\"\"),\"\",IF(BP160=0,\"\",1+(MAX(BD$61:BD159))))","v":""},100,0,0,0,0,0,0,0,0,0,0,"",{"$f":"IF(AND(CC160=\"\"),\"\",IF(CC160=0,\"\",1+(MAX(BQ$61:BQ159))))","v":""},100,0,0,0,0,0,0,0,0,0,0,"",{"$f":"IF(AND(CP160=\"\"),\"\",IF(CP160=0,\"\",1+(MAX(CD$61:CD159))))","v":""},100,0,0,0,0,0,0,0,0,0,0,"",{"$f":"IF(AND(DC160=\"\"),\"\",IF(DC160=0,\"\",1+(MAX(CQ$61:CQ159))))","v":""},100,0,0,0,0,0,0,0,0,0,0,""]
[0,0,101,{"$nulls":24},{"$f":"MID(H161,5,4)","v":""},1,{"$f":"IF(AND(AP161=\"\"),\"\",IF(AP161=0,\"\",1+(MAX(AD$61:AD160))))","v":""},101,0,0,0,0,0,0,0,0,0,0,"",{"$f":"IF(AND(BC161=\"\"),\"\",IF(BC161=0,\"\",1+(MAX(AQ$61:AQ160))))","v":""},101,0,0,0,0,0,0,0,0,0,0,"",{"$f":"IF(AND(BP161=\"\"),\"\",IF(BP161=0,\"\",1+(MAX(BD$61:BD160))))","v":""},101,0,0,0,0,0,0,0,0,0,0,"",{"$f":"IF(AND(CC161=\"\"),\"\",IF(CC161=0,\"\",1+(MAX(BQ$61:BQ160))))","v":""},101,0,0,0,0,0,0,0,0,0,0,"",{"$f":"IF(AND(CP161=\"\"),\"\",IF(CP161=0,\"\",1+(MAX(CD$61:CD160))))","v":""},101,0,0,0,0,0,0,0,0,0,0,"",{"$f":"IF(AND(DC161=\"\"),\"\",IF(DC161=0,\"\",1+(MAX(CQ$61:CQ160))))","v":""},101,0,0,0,0,0,0,0,0,0,0,""]
[0,0,102,{"$nulls":24},{"$f":"MID(H162,5,4)","v":""},1,{"$f":"IF(AND(AP162=\"\"),\"\",IF(AP162=0,\"\",1+(MAX(AD$61:AD161))))","v":""},102,{"$f":"IF($M162=\"GAZETTED - REGULAR\",D162,0)","v":0},{"$f":"IF($M162=\"GAZETTED - REGULAR\",E162,0)","v":0},{"$f":"IF($M162=\"GAZETTED - REGULAR\",F162,0)","v":0},{"$f":"IF($M162=\"GAZETTED - REGULAR\",G162,0)","v":0},{"$f":"IF($M162=\"GAZETTED - REGULAR\",H162,0)","v":0},{"$f":"IF($M162=\"GAZETTED - REGULAR\",I162,0)","v":0},{"$f":"IF($M162=\"GAZETTED - REGULAR\",J162,0)","v":0},{"$f":"IF($M162=\"GAZETTED - REGULAR\",K162,0)","v":0},0,{"$f":"IF($M162=\"GAZETTED - REGULAR\",M162,0)","v":0},"",{"$f":"IF(AND(BC162=\"\"),\"\",IF(BC162=0,\"\",1+(MAX(AQ$61:AQ161))))","v":""},102,0,0,0,0,0,0,0,0,0,{"$f":"IF($M162=\"NON GAZETTED - REGULAR\",M162,0)","v":0},"",{"$f":"IF(AND(BP162=\"\"),\"\",IF(BP162=0,\"\",1+(MAX(BD$61:BD161))))","v":""},102,0,0,0,0,0,0,0,0,0,{"$f":"IF($M162=\"GAZETTED - FIX PAY\",M162,0)","v":0},"",{"$f":"IF(AND(CC162=\"\"),\"\",IF(CC162=0,\"\",1+(MAX(BQ$61:BQ161))))","v":""},102,0,0,0,0,0,0,0,0,0,{"$f":"IF($M162=\"NON GAZETTED - FIX PAY\",M162,0)","v":0},"",{"$f":"IF(AND(CP162=\"\"),\"\",IF(CP162=0,\"\",1+(MAX(CD$61:CD161))))","v":""},102,{"$f":"IF($M162=\"GAZETTED - SANVIDA\",D162,0)","v":0},{"$f":"IF($M162=\"GAZETTED - SANVIDA\",E162,0)","v":0},{"$f":"IF($M162=\"GAZETTED - SANVIDA\",F162,0)","v":0},{"$f":"IF($M162=\"GAZETTED - SANVIDA\",G162,0)","v":0},{"$f":"IF($M162=\"GAZETTED - SANVIDA\",H162,0)","v":0},{"$f":"IF($M162=\"GAZETTED - SANVIDA\",I162,0)","v":0},{"$f":"IF($M162=\"GAZETTED - SANVIDA\",J162,0)","v":0},{"$f":"IF($M162=\"GAZETTED - SANVIDA\",K162,0)","v":0},{"$f":"IF($M162=\"GAZETTED - SANVIDA\",L162,0)","v":0},{"$f":"IF($M162=\"GAZETTED - SANVIDA\",M162,0)","v":0},"",{"$f":"IF(AND(DC162=\"\"),\"\",IF(DC162=0,\"\",1+(MAX(CQ$61:CQ161))))","v":""},102,0,{"$f":"IF($M162=\"NON GAZETTED - SANVIDA\",E162,0)","v":0},{"$f":"IF($M162=\"NON GAZETTED - SANVIDA\",F162,0)","v":0},{"$f":"IF($M162=\"NON GAZETTED - SANVIDA\",G162,0)","v":0},{"$f":"IF($M162=\"NON GAZETTED - SANVIDA\",H162,0)","v":0},{"$f":"IF($M162=\"NON GAZETTED - SANVIDA\",I162,0)","v":0},{"$f":"IF($M162=\"NON GAZETTED - SANVIDA\",J162,0)","v":0},{"$f":"IF($M162=\"NON GAZETTED - SANVIDA\",K162,0)","v":0},{"$f":"IF($M162=\"NON GAZETTED - SANVIDA\",L162,0)","v":0},{"$f":"IF($M162=\"NON GAZETTED - SANVIDA\",M162,0)","v":0},""]
[0,0,103,{"$nulls":24},"",1,{"$f":"IF(AND(AP163=\"\"),\"\",IF(AP163=0,\"\",1+(MAX(AD$61:AD162))))","v":""},103,0,0,0,0,0,0,0,0,{"$f":"IF($M163=\"GAZETTED - REGULAR\",L163,0)","v":0},0,"",{"$f":"IF(AND(BC163=\"\"),\"\",IF(BC163=0,\"\",1+(MAX(AQ$61:AQ162))))","v":""},103,{"$f":"IF($M163=\"NON GAZETTED - REGULAR\",D163,0)","v":0},{"$f":"IF($M163=\"NON GAZETTED - REGULAR\",E163,0)","v":0},{"$f":"IF($M163=\"NON GAZETTED - REGULAR\",F163,0)","v":0},{"$f":"IF($M163=\"NON GAZETTED - REGULAR\",G163,0)","v":0},{"$f":"IF($M163=\"NON GAZETTED - REGULAR\",H163,0)","v":0},{"$f":"IF($M163=\"NON GAZETTED - REGULAR\",I163,0)","v":0},{"$f":"IF($M163=\"NON GAZETTED - REGULAR\",J163,0)","v":0},{"$f":"IF($M163=\"NON GAZETTED - REGULAR\",K163,0)","v":0},{"$f":"IF($M163=\"NON GAZETTED - REGULAR\",L163,0)","v":0},0,"",{"$f":"IF(AND(BP163=\"\"),\"\",IF(BP163=0,\"\",1+(MAX(BD$61:BD162))))","v":""},103,0,0,0,0,0,0,0,0,0,0,"",{"$f":"IF(AND(CC163=\"\"),\"\",IF(CC163=0,\"\",1+(MAX(BQ$61:BQ162))))","v":""},103,0,0,0,0,0,0,0,0,0,0,"",{"$f":"IF(AND(CP163=\"\"),\"\",IF(CP163=0,\"\",1+(MAX(CD$61:CD162))))","v":""},103,0,0,0,0,0,0,0,0,0,0,"",{"$f":"IF(AND(DC163=\"\"),\"\",IF(DC163=0,\"\",1+(MAX(CQ$61:CQ162))))","v":""},103,0,0,0,0,0,0,0,0,0,0,""]
[0,0,104,{"$nulls":24},"",1,{"$f":"IF(AND(AP164=\"\"),\"\",IF(AP164=0,\"\",1+(MAX(AD$61:AD163))))","v":""},104,0,0,0,0,0,0,0,0,0,0,"",{"$f":"IF(AND(BC164=\"\"),\"\",IF(BC164=0,\"\",1+(MAX(AQ$61:AQ163))))","v":""},104,0,0,0,0,0,0,0,0,0,0,"",{"$f":"IF(AND(BP164=\"\"),\"\",IF(BP164=0,\"\",1+(MAX(BD$61:BD163))))","v":""},104,0,0,0,0,0,0,0,0,0,0,"",{"$f":"IF(AND(CC164=\"\"),\"\",IF(CC164=0,\"\",1+(MAX(BQ$61:BQ163))))","v":""},104,0,0,0,0,0,0,0,0,0,0,"",{"$f":"IF(AND(CP164=\"\"),\"\",IF(CP164=0,\"\",1+(MAX(CD$61:CD163))))","v":""},104,0,0,0,0,0,0,0,0,0,0,"",{"$f":"IF(AND(DC164=\"\"),\"\",IF(DC164=0,\"\",1+(MAX(CQ$61:CQ163))))","v":""},104,0,0,0,0,0,0,0,0,0,0,""]
[0,0,105,{"$nulls":24},"",1,{"$f":"IF(AND(AP165=\"\"),\"\",IF(AP165=0,\"\",1+(MAX(AD$61:AD164))))","v":""},105,0,0,0,0,0,0,0,0,0,0,"",{"$f":"IF(AND(BC165=\"\"),\"\",IF(BC165=0,\"\",1+(MAX(AQ$61:AQ164))))","v":""},105,0,0,0,0,0,0,0,0,0,0,"",{"$f":"IF(AND(BP165=\"\"),\"\",IF(BP165=0,\"\",1+(MAX(BD$61:BD164))))","v":""},105,0,0,0,0,0,0,0,0,0,0,"",{"$f":"IF(AND(CC165=\"\"),\"\",IF(CC165=0,\"\",1+(MAX(BQ$61:BQ164))))","v":""},105,0,0,0,0,0,0,0,0,0,0,"",{"$f":"IF(AND(CP165=\"\"),\"\",IF(CP165=0,\"\",1+(MAX(CD$61:CD164))))","v":""},105,0,0,0,0,0,0,0,0,0,0,"",{"$f":"IF(AND(DC165=\"\"),\"\",IF(DC165=0,\"\",1+(MAX(CQ$61:CQ164))))","v":""},105,0,0,0,0,0,0,0,0,0,0,""]
[0,0,106,{"$nulls":24},"",1,{"$f":"IF(AND(AP166=\"\"),\"\",IF(AP166=0,\"\",1+(MAX(AD$61:AD165))))","v":""},106,0,0,0,0,0,0,0,0,0,0,"",{"$f":"IF(AND(BC166=\"\"),\"\",IF(BC166=0,\"\",1+(MAX(AQ$61:AQ165))))","v":""},106,0,0,0,0,0,0,0,0,0,0,"",{"$f":"IF(AND(BP166=\"\"),\"\",IF(BP166=0,\"\",1+(MAX(BD$61:BD165))))","v":""},106,0,0,0,0,0,0,0,0,0,0,"",{"$f":"IF(AND(CC166=\"\"),\"\",IF(CC166=0,\"\",1+(MAX(BQ$61:BQ165))))","v":""},106,0,0,0,0,0,0,0,0,0,0,"",{"$f":"IF(AND(CP166=\"\"),\"\",IF(CP166=0,\"\",1+(MAX(CD$61:CD165))))","v":""},106,0,0,0,0,0,0,0,0,0,0,"",{"$f":"IF(AND(DC166=\"\"),\"\",IF(DC166=0,\"\",1+(MAX(CQ$61:CQ165))))","v":""},106,0,0,0,0,0,0,0,0,0,0,""]
[0,0,107,{"$nulls":24},"",1,{"$f":"IF(AND(AP167=\"\"),\"\",IF(AP167=0,\"\",1+(MAX(AD$61:AD166))))","v":""},107,0,0,0,0,0,0,0,0,0,0,"",{"$f":"IF(AND(BC167=\"\"),\"\",IF(BC167=0,\"\",1+(MAX(AQ$61:AQ166))))","v":""},107,0,0,0,0,0,0,0,0,0,0,"",{"$f":"IF(AND(BP167=\"\"),\"\",IF(BP167=0,\"\",1+(MAX(BD$61:BD166))))","v":""},107,0,0,0,0,0,0,0,0,0,0,"",{"$f":"IF(AND(CC167=\"\"),\"\",IF(CC167=0,\"\",1+(MAX(BQ$61:BQ166))))","v":""},107,0,0,0,0,0,0,0,0,0,0,"",{"$f":"IF(AND(CP167=\"\"),\"\",IF(CP167=0,\"\",1+(MAX(CD$61:CD166))))","v":""},107,0,0,0,0,0,0,0,0,0,0,"",{"$f":"IF(AND(DC167=\"\"),\"\",IF(DC167=0,\"\",1+(MAX(CQ$61:CQ166))))","v":""},107,0,0,0,0,0,0,0,0,0,0,""]
[0,0,108,{"$nulls":24},"",1,{"$f":"IF(AND(AP168=\"\"),\"\",IF(AP168=0,\"\",1+(MAX(AD$61:AD167))))","v":""},108,0,0,0,0,0,0,0,0,0,0,"",{"$f":"IF(AND(BC168=\"\"),\"\",IF(BC168=0,\"\",1+(MAX(AQ$61:AQ167))))","v":""},108,0,0,0,0,0,0,0,0,0,0,"",{"$f":"IF(AND(BP168=\"\"),\"\",IF(BP168=0,\"\",1+(MAX(BD$61:BD167))))","v":""},108,0,0,0,0,0,0,0,0,0,0,"",{"$f":"IF(AND(CC168=\"\"),\"\",IF(CC168=0,\"\",1+(MAX(BQ$61:BQ167))))","v":""},108,0,0,0,0,0,0,0,0,0,0,"",{"$f":"IF(AND(CP168=\"\"),\"\",IF(CP168=0,\"\",1+(MAX(CD$61:CD167))))","v":""},108,0,0,0,0,0,0,0,0,0,0,"",{"$f":"IF(AND(DC168=\"\"),\"\",IF(DC168=0,\"\",1+(MAX(CQ$61:CQ167))))","v":""},108,0,0,0,0,0,0,0,0,0,0,""]
[0,0,109,{"$nulls":24},"",1,{"$f":"IF(AND(AP169=\"\"),\"\",IF(AP169=0,\"\",1+(MAX(AD$61:AD168))))","v":""},109,0,0,0,0,0,0,0,0,0,0,"",{"$f":"IF(AND(BC169=\"\"),\"\",IF(BC169=0,\"\",1+(MAX(AQ$61:AQ168))))","v":""},109,0,0,0,0,0,0,0,0,0,0,"",{"$f":"IF(AND(BP169=\"\"),\"\",IF(BP169=0,\"\",1+(MAX(BD$61:BD168))))","v":""},109,0,0,0,0,0,0,0,0,0,0,"",{"$f":"IF(AND(CC169=\"\"),\"\",IF(CC169=0,\"\",1+(MAX(BQ$61:BQ168))))","v":""},109,0,0,0,0,0,0,0,0,0,0,"",{"$f":"IF(AND(CP169=\"\"),\"\",IF(CP169=0,\"\",1+(MAX(CD$61:CD168))))","v":""},109,0,0,0,0,0,0,0,0,0,0,"",{"$f":"IF(AND(DC169=\"\"),\"\",IF(DC169=0,\"\",1+(MAX(CQ$61:CQ168))))","v":""},109,0,0,0,0,0,0,0,0,0,0,""]
[0,0,110,{"$nulls":24},"",1,{"$f":"IF(AND(AP170=\"\"),\"\",IF(AP170=0,\"\",1+(MAX(AD$61:AD169))))","v":""},110,0,0,0,0,0,0,0,0,0,0,"",{"$f":"IF(AND(BC170=\"\"),\"\",IF(BC170=0,\"\",1+(MAX(AQ$61:AQ169))))","v":""},110,0,0,0,0,0,0,0,0,0,0,"",{"$f":"IF(AND(BP170=\"\"),\"\",IF(BP170=0,\"\",1+(MAX(BD$61:BD169))))","v":""},110,0,0,0,0,0,0,0,0,0,0,"",{"$f":"IF(AND(CC170=\"\"),\"\",IF(CC170=0,\"\",1+(MAX(BQ$61:BQ169))))","v":""},110,0,0,0,0,0,0,0,0,0,0,"",{"$f":"IF(AND(CP170=\"\"),\"\",IF(CP170=0,\"\",1+(MAX(CD$61:CD169))))","v":""},110,0,0,0,0,0,0,0,0,0,0,"",{"$f":"IF(AND(DC170=\"\"),\"\",IF(DC170=0,\"\",1+(MAX(CQ$61:CQ169))))","v":""},110,0,0,0,0,0,0,0,0,0,0,""]
[0,0,111,{"$nulls":24},"",1,{"$f":"IF(AND(AP171=\"\"),\"\",IF(AP171=0,\"\",1+(MAX(AD$61:AD170))))","v":""},111,0,0,0,0,0,0,0,0,0,0,"",{"$f":"IF(AND(BC171=\"\"),\"\",IF(BC171=0,\"\",1+(MAX(AQ$61:AQ170))))","v":""},111,0,0,0,0,0,0,0,0,0,0,"",{"$f":"IF(AND(BP171=\"\"),\"\",IF(BP171=0,\"\",1+(MAX(BD$61:BD170))))","v":""},111,0,0,0,0,0,0,0,0,0,0,"",{"$f":"IF(AND(CC171=\"\"),\"\",IF(CC171=0,\"\",1+(MAX(BQ$61:BQ170))))","v":""},111,0,0,0,0,0,0,0,0,0,0,"",{"$f":"IF(AND(CP171=\"\"),\"\",IF(CP171=0,\"\",1+(MAX(CD$61:CD170))))","v":""},111,0,0,0,0,0,0,0,0,0,0,"",{"$f":"IF(AND(DC171=\"\"),\"\",IF(DC171=0,\"\",1+(MAX(CQ$61:CQ170))))","v":""},111,0,0,0,0,0,0,0,0,0,0,""]
[0,0,112,{"$nulls":24},"",1,{"$f":"IF(AND(AP172=\"\"),\"\",IF(AP172=0,\"\",1+(MAX(AD$61:AD171))))","v":""},112,0,0,0,0,0,0,0,0,0,0,"",{"$f":"IF(AND(BC172=\"\"),\"\",IF(BC172=0,\"\",1+(MAX(AQ$61:AQ171))))","v":""},112,0,0,0,0,0,0,0,0,0,0,"",{"$f":"IF(AND(BP172=\"\"),\"\",IF(BP172=0,\"\",1+(MAX(BD$61:BD171))))","v":""},112,0,0,0,0,0,0,0,0,0,0,"",{"$f":"IF(AND(CC172=\"\"),\"\",IF(CC172=0,\"\",1+(MAX(BQ$61:BQ171))))","v":""},112,0,0,0,0,0,0,0,0,0,0,"",{"$f":"IF(AND(CP172=\"\"),\"\",IF(CP172=0,\"\",1+(MAX(CD$61:CD171))))","v":""},112,0,0,0,0,0,0,0,0,0,0,"",{"$f":"IF(AND(DC172=\"\"),\"\",IF(DC172=0,\"\",1+(MAX(CQ$61:CQ171))))","v":""},112,0,0,0,0,0,0,0,0,0,0,""]
[0,0,113,{"$nulls":24},"",1,{"$f":"IF(AND(AP173=\"\"),\"\",IF(AP173=0,\"\",1+(MAX(AD$61:AD172))))","v":""},113,0,0,0,0,0,0,0,0,0,0,"",{"$f":"IF(AND(BC173=\"\"),\"\",IF(BC173=0,\"\",1+(MAX(AQ$61:AQ172))))","v":""},113,0,0,0,0,0,0,0,0,0,0,"",{"$f":"IF(AND(BP173=\"\"),\"\",IF(BP173=0,\"\",1+(MAX(BD$61:BD172))))","v":""},113,0,0,0,0,0,0,0,0,0,0,"",{"$f":"IF(AND(CC173=\"\"),\"\",IF(CC173=0,\"\",1+(MAX(BQ$61:BQ172))))","v":""},113,0,0,0,0,0,0,0,0,0,0,"",{"$f":"IF(AND(CP173=\"\"),\"\",IF(CP173=0,\"\",1+(MAX(CD$61:CD172))))","v":""},113,0,0,0,0,0,0,0,0,0,0,"",{"$f":"IF(AND(DC173=\"\"),\"\",IF(DC173=0,\"\",1+(MAX(CQ$61:CQ172))))","v":""},113,0,0,0,0,0,0,0,0,0,0,""]
[0,0,114,{"$nulls":24},"",1,{"$f":"IF(AND(AP174=\"\"),\"\",IF(AP174=0,\"\",1+(MAX(AD$61:AD173))))","v":""},114,0,0,0,0,0,0,0,0,0,0,"",{"$f":"IF(AND(BC174=\"\"),\"\",IF(BC174=0,\"\",1+(MAX(AQ$61:AQ173))))","v":""},114,0,0,0,0,0,0,0,0,0,0,"",{"$f":"IF(AND(BP174=\"\"),\"\",IF(BP174=0,\"\",1+(MAX(BD$61:BD173))))","v":""},114,0,0,0,0,0,0,0,0,0,0,"",{"$f":"IF(AND(CC174=\"\"),\"\",IF(CC174=0,\"\",1+(MAX(BQ$61:BQ173))))","v":""},114,0,0,0,0,0,0,0,0,0,0,"",{"$f":"IF(AND(CP174=\"\"),\"\",IF(CP174=0,\"\",1+(MAX(CD$61:CD173))))","v":""},114,0,0,0,0,0,0,0,0,0,0,"",{"$f":"IF(AND(DC174=\"\"),\"\",IF(DC174=0,\"\",1+(MAX(CQ$61:CQ173))))","v":""},114,0,0,0,0,0,0,0,0,0,0,""]
[0,0,115,{"$nulls":24},"",1,{"$f":"IF(AND(AP175=\"\"),\"\",IF(AP175=0,\"\",1+(MAX(AD$61:AD174))))","v":""},115,0,0,0,0,0,0,0,0,0,0,"",{"$f":"IF(AND(BC175=\"\"),\"\",IF(BC175=0,\"\",1+(MAX(AQ$61:AQ174))))","v":""},115,0,0,0,0,0,0,0,0,0,0,"",{"$f":"IF(AND(BP175=\"\"),\"\",IF(BP175=0,\"\",1+(MAX(BD$61:BD174))))","v":""},115,0,0,0,0,0,0,0,0,0,0,"",{"$f":"IF(AND(CC175=\"\"),\"\",IF(CC175=0,\"\",1+(MAX(BQ$61:BQ174))))","v":""},115,0,0,0,0,0,0,0,0,0,0,"",{"$f":"IF(AND(CP175=\"\"),\"\",IF(CP175=0,\"\",1+(MAX(CD$61:CD174))))","v":""},115,0,0,0,0,0,0,0,0,0,0,"",{"$f":"IF(AND(DC175=\"\"),\"\",IF(DC175=0,\"\",1+(MAX(CQ$61:CQ174))))","v":""},115,0,0,0,0,0,0,0,0,0,0,""]
[0,0,116,{"$nulls":24},"",1,{"$f":"IF(AND(AP176=\"\"),\"\",IF(AP176=0,\"\",1+(MAX(AD$61:AD175))))","v":""},116,0,0,0,0,0,0,0,0,0,0,"",{"$f":"IF(AND(BC176=\"\"),\"\",IF(BC176=0,\"\",1+(MAX(AQ$61:AQ175))))","v":""},116,0,0,0,0,0,0,0,0,0,0,"",{"$f":"IF(AND(BP176=\"\"),\"\",IF(BP176=0,\"\",1+(MAX(BD$61:BD175))))","v":""},116,0,0,0,0,0,0,0,0,0,0,"",{"$f":"IF(AND(CC176=\"\"),\"\",IF(CC176=0,\"\",1+(MAX(BQ$61:BQ175))))","v":""},116,0,0,0,0,0,0,0,0,0,0,"",{"$f":"IF(AND(CP176=\"\"),\"\",IF(CP176=0,\"\",1+(MAX(CD$61:CD175))))","v":""},116,0,0,0,0,0,0,0,0,0,0,"",{"$f":"IF(AND(DC176=\"\"),\"\",IF(DC176=0,\"\",1+(MAX(CQ$61:CQ175))))","v":""},116,0,0,0,0,0,0,0,0,0,0,""]
[0,0,117,{"$nulls":24},"",1,{"$f":"IF(AND(AP177=\"\"),\"\",IF(AP177=0,\"\",1+(MAX(AD$61:AD176))))","v":""},117,0,0,0,0,0,0,0,0,0,0,"",{"$f":"IF(AND(BC177=\"\"),\"\",IF(BC177=0,\"\",1+(MAX(AQ$61:AQ176))))","v":""},117,0,0,0,0,0,0,0,0,0,0,"",{"$f":"IF(AND(BP177=\"\"),\"\",IF(BP177=0,\"\",1+(MAX(BD$61:BD176))))","v":""},117,0,0,0,0,0,0,0,0,0,0,"",{"$f":"IF(AND(CC177=\"\"),\"\",IF(CC177=0,\"\",1+(MAX(BQ$61:BQ176))))","v":""},117,0,0,0,0,0,0,0,0,0,0,"",{"$f":"IF(AND(CP177=\"\"),\"\",IF(CP177=0,\"\",1+(MAX(CD$61:CD176))))","v":""},117,0,0,0,0,0,0,0,0,0,0,"",{"$f":"IF(AND(DC177=\"\"),\"\",IF(DC177=0,\"\",1+(MAX(CQ$61:CQ176))))","v":""},117,0,0,0,0,0,0,0,0,0,0,""]
[0,0,118,{"$nulls":24},"",1,{"$f":"IF(AND(AP178=\"\"),\"\",IF(AP178=0,\"\",1+(MAX(AD$61:AD177))))","v":""},118,0,0,0,0,0,0,0,0,0,0,"",{"$f":"IF(AND(BC178=\"\"),\"\",IF(BC178=0,\"\",1+(MAX(AQ$61:AQ177))))","v":""},118,0,0,0,0,0,0,0,0,0,0,"",{"$f":"IF(AND(BP178=\"\"),\"\",IF(BP178=0,\"\",1+(MAX(BD$61:BD177))))","v":""},118,0,0,0,0,0,0,0,0,0,0,"",{"$f":"IF(AND(CC178=\"\"),\"\",IF(CC178=0,\"\",1+(MAX(BQ$61:BQ177))))","v":""},118,0,0,0,0,0,0,0,0,0,0,"",{"$f":"IF(AND(CP178=\"\"),\"\",IF(CP178=0,\"\",1+(MAX(CD$61:CD177))))","v":""},118,0,0,0,0,0,0,0,0,0,0,"",{"$f":"IF(AND(DC178=\"\"),\"\",IF(DC178=0,\"\",1+(MAX(CQ$61:CQ177))))","v":""},118,{"$f":"IF($M178=\"NON GAZETTED - SANVIDA\",D178,0)","v":0},0,0,0,0,0,0,0,0,0,""]
[0,0,119,{"$nulls":24},"",1,{"$f":"IF(AND(AP179=\"\"),\"\",IF(AP179=0,\"\",1+(MAX(AD$61:AD178))))","v":""},119,0,0,0,0,0,0,0,0,0,0,"",{"$f":"IF(AND(BC179=\"\"),\"\",IF(BC179=0,\"\",1+(MAX(AQ$61:AQ178))))","v":""},119,0,0,0,0,0,0,0,0,0,0,"",{"$f":"IF(AND(BP179=\"\"),\"\",IF(BP179=0,\"\",1+(MAX(BD$61:BD178))))","v":""},119,0,0,0,0,0,0,0,0,0,0,"",{"$f":"IF(AND(CC179=\"\"),\"\",IF(CC179=0,\"\",1+(MAX(BQ$61:BQ178))))","v":""},119,0,0,0,0,0,0,0,0,0,0,"",{"$f":"IF(AND(CP179=\"\"),\"\",IF(CP179=0,\"\",1+(MAX(CD$61:CD178))))","v":""},119,0,0,0,0,0,0,0,0,0,0,"",{"$f":"IF(AND(DC179=\"\"),\"\",IF(DC179=0,\"\",1+(MAX(CQ$61:CQ178))))","v":""},119,0,0,0,0,0,0,0,0,0,0,""]
[0,0,120,{"$nulls":24},"",1,{"$f":"IF(AND(AP180=\"\"),\"\",IF(AP180=0,\"\",1+(MAX(AD$61:AD179))))","v":""},120,0,0,0,0,0,0,0,0,0,0,"",{"$f":"IF(AND(BC180=\"\"),\"\",IF(BC180=0,\"\",1+(MAX(AQ$61:AQ179))))","v":""},120,0,0,0,0,0,0,0,0,0,0,"",{"$f":"IF(AND(BP180=\"\"),\"\",IF(BP180=0,\"\",1+(MAX(BD$61:BD179))))","v":""},120,0,0,0,0,0,0,0,0,0,0,"",{"$f":"IF(AND(CC180=\"\"),\"\",IF(CC180=0,\"\",1+(MAX(BQ$61:BQ179))))","v":""},120,0,0,0,0,0,0,0,0,0,0,"",{"$f":"IF(AND(CP180=\"\"),\"\",IF(CP180=0,\"\",1+(MAX(CD$61:CD179))))","v":""},120,0,0,0,0,0,0,0,0,0,0,"",{"$f":"IF(AND(DC180=\"\"),\"\",IF(DC180=0,\"\",1+(MAX(CQ$61:CQ179))))","v":""},120,0,0,0,0,0,0,0,0,0,0,""]
[0,0,121,{"$nulls":24},"",1,{"$f":"IF(AND(AP181=\"\"),\"\",IF(AP181=0,\"\",1+(MAX(AD$61:AD180))))","v":""},121,0,0,0,0,0,0,0,0,{"$f":"IF($M181=\"GAZETTED - REGULAR\",L181,0)","v":0},0,"",{"$f":"IF(AND(BC181=\"\"),\"\",IF(BC181=0,\"\",1+(MAX(AQ$61:AQ180))))","v":""},121,0,0,0,0,0,0,0,0,0,0,"",{"$f":"IF(AND(BP181=\"\"),\"\",IF(BP181=0,\"\",1+(MAX(BD$61:BD180))))","v":""},121,0,0,0,0,0,0,0,0,0,0,"",{"$f":"IF(AND(CC181=\"\"),\"\",IF(CC181=0,\"\",1+(MAX(BQ$61:BQ180))))","v":""},121,0,0,0,0,0,0,0,0,0,0,"",{"$f":"IF(AND(CP181=\"\"),\"\",IF(CP181=0,\"\",1+(MAX(CD$61:CD180))))","v":""},121,0,0,0,0,0,0,0,0,0,0,"",{"$f":"IF(AND(DC181=\"\"),\"\",IF(DC181=0,\"\",1+(MAX(CQ$61:CQ180))))","v":""},121,0,0,0,0,0,0,0,0,0,0,""]
[0,0,122,{"$nulls":24},"",1,{"$f":"IF(AND(AP182=\"\"),\"\",IF(AP182=0,\"\",1+(MAX(AD$61:AD181))))","v":""},122,0,0,0,0,0,0,0,0,0,0,"",{"$f":"IF(AND(BC182=\"\"),\"\",IF(BC182=0,\"\",1+(MAX(AQ$61:AQ181))))","v":""},122,0,0,0,0,0,0,0,0,0,0,"",{"$f":"IF(AND(BP182=\"\"),\"\",IF(BP182=0,\"\",1+(MAX(BD$61:BD181))))","v":""},122,0,0,0,0,0,0,0,0,0,0,"",{"$f":"IF(AND(CC182=\"\"),\"\",IF(CC182=0,\"\",1+(MAX(BQ$61:BQ181))))","v":""},122,0,0,0,0,0,0,0,0,0,0,"",{"$f":"IF(AND(CP182=\"\"),\"\",IF(CP182=0,\"\",1+(MAX(CD$61:CD181))))","v":""},122,0,0,0,0,0,0,0,0,0,0,"",{"$f":"IF(AND(DC182=\"\"),\"\",IF(DC182=0,\"\",1+(MAX(CQ$61:CQ181))))","v":""},122,0,0,0,0,0,0,0,0,0,0,""]
[0,0,123,{"$nulls":24},"",1,{"$f":"IF(AND(AP183=\"\"),\"\",IF(AP183=0,\"\",1+(MAX(AD$61:AD182))))","v":""},123,0,0,0,0,0,0,0,0,0,0,"",{"$f":"IF(AND(BC183=\"\"),\"\",IF(BC183=0,\"\",1+(MAX(AQ$61:AQ182))))","v":""},123,0,0,0,0,0,0,0,0,0,0,"",{"$f":"IF(AND(BP183=\"\"),\"\",IF(BP183=0,\"\",1+(MAX(BD$61:BD182))))","v":""},123,0,0,0,0,0,0,0,0,0,0,"",{"$f":"IF(AND(CC183=\"\"),\"\",IF(CC183=0,\"\",1+(MAX(BQ$61:BQ182))))","v":""},123,0,0,0,0,0,0,0,0,0,0,"",{"$f":"IF(AND(CP183=\"\"),\"\",IF(CP183=0,\"\",1+(MAX(CD$61:CD182))))","v":""},123,0,0,0,0,0,0,0,0,0,0,"",{"$f":"IF(AND(DC183=\"\"),\"\",IF(DC183=0,\"\",1+(MAX(CQ$61:CQ182))))","v":""},123,0,0,0,0,0,0,0,0,0,0,""]
[0,0,124,{"$nulls":24},"",1,{"$f":"IF(AND(AP184=\"\"),\"\",IF(AP184=0,\"\",1+(MAX(AD$61:AD183))))","v":""},124,0,0,0,0,0,0,0,0,0,0,"",{"$f":"IF(AND(BC184=\"\"),\"\",IF(BC184=0,\"\",1+(MAX(AQ$61:AQ183))))","v":""},124,0,0,0,0,0,0,0,0,0,0,"",{"$f":"IF(AND(BP184=\"\"),\"\",IF(BP184=0,\"\",1+(MAX(BD$61:BD183))))","v":""},124,0,0,0,0,0,0,0,0,0,0,"",{"$f":"IF(AND(CC184=\"\"),\"\",IF(CC184=0,\"\",1+(MAX(BQ$61:BQ183))))","v":""},124,0,0,0,0,0,0,0,0,0,0,"",{"$f":"IF(AND(CP184=\"\"),\"\",IF(CP184=0,\"\",1+(MAX(CD$61:CD183))))","v":""},124,0,0,0,0,0,0,0,0,0,0,"",{"$f":"IF(AND(DC184=\"\"),\"\",IF(DC184=0,\"\",1+(MAX(CQ$61:CQ183))))","v":""},124,0,0,0,0,0,0,0,0,0,0,""]
[0,0,125,{"$nulls":24},"",1,{"$f":"IF(AND(AP185=\"\"),\"\",IF(AP185=0,\"\",1+(MAX(AD$61:AD184))))","v":""},125,0,0,0,0,0,0,0,0,0,0,"",{"$f":"IF(AND(BC185=\"\"),\"\",IF(BC185=0,\"\",1+(MAX(AQ$61:AQ184))))","v":""},125,0,0,0,0,0,0,0,0,0,0,"",{"$f":"IF(AND(BP185=\"\"),\"\",IF(BP185=0,\"\",1+(MAX(BD$61:BD184))))","v":""},125,0,0,0,0,0,0,0,0,0,0,"",{"$f":"IF(AND(CC185=\"\"),\"\",IF(CC185=0,\"\",1+(MAX(BQ$61:BQ184))))","v":""},125,0,0,0,0,0,0,0,0,0,0,"",{"$f":"IF(AND(CP185=\"\"),\"\",IF(CP185=0,\"\",1+(MAX(CD$61:CD184))))","v":""},125,0,0,0,0,0,0,0,0,0,0,"",{"$f":"IF(AND(DC185=\"\"),\"\",IF(DC185=0,\"\",1+(MAX(CQ$61:CQ184))))","v":""},125,0,0,0,0,0,0,0,0,0,0,""]
[0,0,126,{"$nulls":24},"",1,{"$f":"IF(AND(AP186=\"\"),\"\",IF(AP186=0,\"\",1+(MAX(AD$61:AD185))))","v":""},126,0,0,0,0,0,0,0,0,0,0,"",{"$f":"IF(AND(BC186=\"\"),\"\",IF(BC186=0,\"\",1+(MAX(AQ$61:AQ185))))","v":""},126,0,0,0,0,0,0,0,0,0,0,"",{"$f":"IF(AND(BP186=\"\"),\"\",IF(BP186=0,\"\",1+(MAX(BD$61:BD185))))","v":""},126,0,0,0,0,0,0,0,0,0,0,"",{"$f":"IF(AND(CC186=\"\"),\"\",IF(CC186=0,\"\",1+(MAX(BQ$61:BQ185))))","v":""},126,0,0,0,0,0,0,0,0,0,0,"",{"$f":"IF(AND(CP186=\"\"),\"\",IF(CP186=0,\"\",1+(MAX(CD$61:CD185))))","v":""},126,0,0,0,0,0,0,0,0,0,0,"",{"$f":"IF(AND(DC186=\"\"),\"\",IF(DC186=0,\"\",1+(MAX(CQ$61:CQ185))))","v":""},126,0,0,0,0,0,0,0,0,0,0,""]
[0,0,127,{"$nulls":24},"",1,{"$f":"IF(AND(AP187=\"\"),\"\",IF(AP187=0,\"\",1+(MAX(AD$61:AD186))))","v":""},127,0,0,0,0,0,0,0,0,0,0,"",{"$f":"IF(AND(BC187=\"\"),\"\",IF(BC187=0,\"\",1+(MAX(AQ$61:AQ186))))","v":""},127,0,0,0,0,0,0,0,0,0,0,"",{"$f":"IF(AND(BP187=\"\"),\"\",IF(BP187=0,\"\",1+(MAX(BD$61:BD186))))","v":""},127,0,0,0,0,0,0,0,0,0,0,"",{"$f":"IF(AND(CC187=\"\"),\"\",IF(CC187=0,\"\",1+(MAX(BQ$61:BQ186))))","v":""},127,0,0,0,0,0,0,0,0,0,0,"",{"$f":"IF(AND(CP187=\"\"),\"\",IF(CP187=0,\"\",1+(MAX(CD$61:CD186))))","v":""},127,0,0,0,0,0,0,0,0,0,0,"",{"$f":"IF(AND(DC187=\"\"),\"\",IF(DC187=0,\"\",1+(MAX(CQ$61:CQ186))))","v":""},127,0,0,0,0,0,0,0,0,0,0,""]
[0,0,128,{"$nulls":24},"",1,{"$f":"IF(AND(AP188=\"\"),\"\",IF(AP188=0,\"\",1+(MAX(AD$61:AD187))))","v":""},128,0,0,0,0,0,0,0,0,0,0,"",{"$f":"IF(AND(BC188=\"\"),\"\",IF(BC188=0,\"\",1+(MAX(AQ$61:AQ187))))","v":""},128,0,0,0,0,0,0,0,0,0,0,"",{"$f":"IF(AND(BP188=\"\"),\"\",IF(BP188=0,\"\",1+(MAX(BD$61:BD187))))","v":""},128,0,0,0,0,0,0,0,0,0,0,"",{"$f":"IF(AND(CC188=\"\"),\"\",IF(CC188=0,\"\",1+(MAX(BQ$61:BQ187))))","v":""},128,0,0,0,0,0,0,0,0,0,0,"",{"$f":"IF(AND(CP188=\"\"),\"\",IF(CP188=0,\"\",1+(MAX(CD$61:CD187))))","v":""},128,0,0,0,0,0,0,0,0,0,0,"",{"$f":"IF(AND(DC188=\"\"),\"\",IF(DC188=0,\"\",1+(MAX(CQ$61:CQ187))))","v":""},128,0,0,0,0,0,0,0,0,0,0,""]
[0,0,129,{"$nulls":24},"",1,{"$f":"IF(AND(AP189=\"\"),\"\",IF(AP189=0,\"\",1+(MAX(AD$61:AD188))))","v":""},129,0,0,0,0,0,0,0,0,0,0,{"$f":"IF(AND(M189=\"\"),\"\",IF(M189=AF$59,1,0))","v":""},{"$f":"IF(AND(BC189=\"\"),\"\",IF(BC189=0,\"\",1+(MAX(AQ$61:AQ188))))","v":""},129,0,0,0,0,0,0,0,0,0,0,{"$f":"IF(AND(M189=\"\"),\"\",IF(M189=AS$59,1,0))","v":""},{"$f":"IF(AND(BP189=\"\"),\"\",IF(BP189=0,\"\",1+(MAX(BD$61:BD188))))","v":""},129,0,0,0,0,0,0,0,0,0,0,{"$f":"IF(AND(M189=\"\"),\"\",IF(M189=BF$59,1,0))","v":""},{"$f":"IF(AND(CC189=\"\"),\"\",IF(CC189=0,\"\",1+(MAX(BQ$61:BQ188))))","v":""},129,0,0,0,0,0,0,0,0,0,0,{"$f":"IF(AND(M189=\"\"),\"\",IF(M189=BS$59,1,0))","v":""},{"$f":"IF(AND(CP189=\"\"),\"\",IF(CP189=0,\"\",1+(MAX(CD$61:CD188))))","v":""},129,0,0,0,0,0,0,0,0,0,0,{"$f":"IF(AND(M189=\"\"),\"\",IF(M189=CF$59,1,0))","v":""},{"$f":"IF(AND(DC189=\"\"),\"\",IF(DC189=0,\"\",1+(MAX(CQ$61:CQ188))))","v":""},129,0,0,0,0,0,0,0,0,0,0,{"$f":"IF(AND(M189=\"\"),\"\",IF(M189=CS$59,1,0))","v":""}]
[{"$f":"IF(OR(D190=\"in fjDr\",D190=\"पद रिक्त\",D190=\"Blank\",D190=\"Post Blank\"),0,E190)","v":0},{"$f":"F190","v":0},130,{"$nulls":24},"",1,{"$f":"IF(AND(AP190=\"\"),\"\",IF(AP190=0,\"\",1+(MAX(AD$61:AD189))))","v":""},130,0,0,0,0,0,0,0,0,0,0,"",{"$f":"IF(AND(BC190=\"\"),\"\",IF(BC190=0,\"\",1+(MAX(AQ$61:AQ189))))","v":""},130,0,0,0,0,0,0,0,0,0,0,"",{"$f":"IF(AND(BP190=\"\"),\"\",IF(BP190=0,\"\",1+(MAX(BD$61:BD189))))","v":""},130,0,0,0,0,0,0,0,0,0,0,"",{"$f":"IF(AND(CC190=\"\"),\"\",IF(CC190=0,\"\",1+(MAX(BQ$61:BQ189))))","v":""},130,0,0,0,0,0,0,0,0,0,0,"",{"$f":"IF(AND(CP190=\"\"),\"\",IF(CP190=0,\"\",1+(MAX(CD$61:CD189))))","v":""},130,0,0,0,0,0,0,0,0,0,0,"",{"$f":"IF(AND(DC190=\"\"),\"\",IF(DC190=0,\"\",1+(MAX(CQ$61:CQ189))))","v":""},130,0,0,0,0,0,0,0,0,0,0,""]
[0,0,131,{"$nulls":24},"",1,{"$f":"IF(AND(AP191=\"\"),\"\",IF(AP191=0,\"\",1+(MAX(AD$61:AD190))))","v":""},131,0,0,0,0,0,0,0,0,0,0,"",{"$f":"IF(AND(BC191=\"\"),\"\",IF(BC191=0,\"\",1+(MAX(AQ$61:AQ190))))","v":""},131,0,0,0,0,0,0,0,0,0,0,"",{"$f":"IF(AND(BP191=\"\"),\"\",IF(BP191=0,\"\",1+(MAX(BD$61:BD190))))","v":""},131,0,0,0,0,0,0,0,0,0,0,"",{"$f":"IF(AND(CC191=\"\"),\"\",IF(CC191=0,\"\",1+(MAX(BQ$61:BQ190))))","v":""},131,0,0,0,0,0,0,0,0,0,0,"",{"$f":"IF(AND(CP191=\"\"),\"\",IF(CP191=0,\"\",1+(MAX(CD$61:CD190))))","v":""},131,0,0,0,0,0,0,0,0,0,0,"",{"$f":"IF(AND(DC191=\"\"),\"\",IF(DC191=0,\"\",1+(MAX(CQ$61:CQ190))))","v":""},131,0,0,0,0,0,0,0,0,0,0,""]
[0,0,132,{"$nulls":24},"",1,{"$f":"IF(AND(AP192=\"\"),\"\",IF(AP192=0,\"\",1+(MAX(AD$61:AD191))))","v":""},132,0,0,0,0,0,0,0,0,0,0,"",{"$f":"IF(AND(BC192=\"\"),\"\",IF(BC192=0,\"\",1+(MAX(AQ$61:AQ191))))","v":""},132,0,0,0,0,0,0,0,0,0,0,"",{"$f":"IF(AND(BP192=\"\"),\"\",IF(BP192=0,\"\",1+(MAX(BD$61:BD191))))","v":""},132,0,0,0,0,0,0,0,0,0,0,"",{"$f":"IF(AND(CC192=\"\"),\"\",IF(CC192=0,\"\",1+(MAX(BQ$61:BQ191))))","v":""},132,0,0,0,0,0,0,0,0,0,0,"",{"$f":"IF(AND(CP192=\"\"),\"\",IF(CP192=0,\"\",1+(MAX(CD$61:CD191))))","v":""},132,0,0,0,0,0,0,0,0,0,0,"",{"$f":"IF(AND(DC192=\"\"),\"\",IF(DC192=0,\"\",1+(MAX(CQ$61:CQ191))))","v":""},132,0,0,0,0,0,0,0,0,0,0,""]
[0,0,133,{"$nulls":24},"",1,{"$f":"IF(AND(AP193=\"\"),\"\",IF(AP193=0,\"\",1+(MAX(AD$61:AD192))))","v":""},133,0,0,0,0,0,0,0,0,0,0,"",{"$f":"IF(AND(BC193=\"\"),\"\",IF(BC193=0,\"\",1+(MAX(AQ$61:AQ192))))","v":""},133,0,0,0,0,0,0,0,0,0,0,"",{"$f":"IF(AND(BP193=\"\"),\"\",IF(BP193=0,\"\",1+(MAX(BD$61:BD192))))","v":""},133,0,0,0,0,0,0,0,0,0,0,"",{"$f":"IF(AND(CC193=\"\"),\"\",IF(CC193=0,\"\",1+(MAX(BQ$61:BQ192))))","v":""},133,0,0,0,0,0,0,0,0,0,0,"",{"$f":"IF(AND(CP193=\"\"),\"\",IF(CP193=0,\"\",1+(MAX(CD$61:CD192))))","v":""},133,0,0,0,0,0,0,0,0,0,0,"",{"$f":"IF(AND(DC193=\"\"),\"\",IF(DC193=0,\"\",1+(MAX(CQ$61:CQ192))))","v":""},133,0,0,0,0,0,0,0,0,0,0,""]
[0,0,134,{"$nulls":24},"",1,{"$f":"IF(AND(AP194=\"\"),\"\",IF(AP194=0,\"\",1+(MAX(AD$61:AD193))))","v":""},134,0,0,0,0,0,0,0,0,0,0,"",{"$f":"IF(AND(BC194=\"\"),\"\",IF(BC194=0,\"\",1+(MAX(AQ$61:AQ193))))","v":""},134,0,0,0,0,0,0,0,0,0,0,"",{"$f":"IF(AND(BP194=\"\"),\"\",IF(BP194=0,\"\",1+(MAX(BD$61:BD193))))","v":""},134,0,0,0,0,0,0,0,0,0,0,"",{"$f":"IF(AND(CC194=\"\"),\"\",IF(CC194=0,\"\",1+(MAX(BQ$61:BQ193))))","v":""},134,0,0,0,0,0,0,0,0,0,0,"",{"$f":"IF(AND(CP194=\"\"),\"\",IF(CP194=0,\"\",1+(MAX(CD$61:CD193))))","v":""},134,0,0,0,0,0,0,0,0,0,0,"",{"$f":"IF(AND(DC194=\"\"),\"\",IF(DC194=0,\"\",1+(MAX(CQ$61:CQ193))))","v":""},134,0,0,0,0,0,0,0,0,0,0,""]
[0,0,135,{"$nulls":24},"",1,{"$f":"IF(AND(AP195=\"\"),\"\",IF(AP195=0,\"\",1+(MAX(AD$61:AD194))))","v":""},135,0,0,0,0,0,0,0,0,0,0,"",{"$f":"IF(AND(BC195=\"\"),\"\",IF(BC195=0,\"\",1+(MAX(AQ$61:AQ194))))","v":""},135,0,0,0,0,0,0,0,0,0,0,"",{"$f":"IF(AND(BP195=\"\"),\"\",IF(BP195=0,\"\",1+(MAX(BD$61:BD194))))","v":""},135,0,0,0,0,0,0,0,0,0,0,"",{"$f":"IF(AND(CC195=\"\"),\"\",IF(CC195=0,\"\",1+(MAX(BQ$61:BQ194))))","v":""},135,0,0,0,0,0,0,0,0,0,0,"",{"$f":"IF(AND(CP195=\"\"),\"\",IF(CP195=0,\"\",1+(MAX(CD$61:CD194))))","v":""},135,0,0,0,0,0,0,0,0,0,0,"",{"$f":"IF(AND(DC195=\"\"),\"\",IF(DC195=0,\"\",1+(MAX(CQ$61:CQ194))))","v":""},135,0,0,0,0,0,0,0,0,0,0,""]
[0,0,136,{"$nulls":24},"",1,{"$f":"IF(AND(AP196=\"\"),\"\",IF(AP196=0,\"\",1+(MAX(AD$61:AD195))))","v":""},136,0,0,0,0,0,0,0,0,0,0,"",{"$f":"IF(AND(BC196=\"\"),\"\",IF(BC196=0,\"\",1+(MAX(AQ$61:AQ195))))","v":""},136,0,0,0,0,0,0,0,0,0,0,"",{"$f":"IF(AND(BP196=\"\"),\"\",IF(BP196=0,\"\",1+(MAX(BD$61:BD195))))","v":""},136,0,0,0,0,0,0,0,0,0,0,"",{"$f":"IF(AND(CC196=\"\"),\"\",IF(CC196=0,\"\",1+(MAX(BQ$61:BQ195))))","v":""},136,0,0,0,0,0,0,0,0,0,0,"",{"$f":"IF(AND(CP196=\"\"),\"\",IF(CP196=0,\"\",1+(MAX(CD$61:CD195))))","v":""},136,0,0,0,0,0,0,0,0,0,0,"",{"$f":"IF(AND(DC196=\"\"),\"\",IF(DC196=0,\"\",1+(MAX(CQ$61:CQ195))))","v":""},136,0,0,0,0,0,0,0,0,0,0,""]
[0,0,137,{"$nulls":24},"",1,{"$f":"IF(AND(AP197=\"\"),\"\",IF(AP197=0,\"\",1+(MAX(AD$61:AD196))))","v":""},137,0,0,0,0,0,0,0,0,0,0,"",{"$f":"IF(AND(BC197=\"\"),\"\",IF(BC197=0,\"\",1+(MAX(AQ$61:AQ196))))","v":""},137,0,0,0,0,0,0,0,0,0,0,"",{"$f":"IF(AND(BP197=\"\"),\"\",IF(BP197=0,\"\",1+(MAX(BD$61:BD196))))","v":""},137,0,0,0,0,0,0,0,0,0,0,"",{"$f":"IF(AND(CC197=\"\"),\"\",IF(CC197=0,\"\",1+(MAX(BQ$61:BQ196))))","v":""},137,0,0,0,0,0,0,0,0,0,0,"",{"$f":"IF(AND(CP197=\"\"),\"\",IF(CP197=0,\"\",1+(MAX(CD$61:CD196))))","v":""},137,0,0,0,0,0,0,0,0,0,0,"",{"$f":"IF(AND(DC197=\"\"),\"\",IF(DC197=0,\"\",1+(MAX(CQ$61:CQ196))))","v":""},137,0,0,0,0,0,0,0,0,0,0,""]
[0,0,138,{"$nulls":24},"",1,{"$f":"IF(AND(AP198=\"\"),\"\",IF(AP198=0,\"\",1+(MAX(AD$61:AD197))))","v":""},138,0,0,0,0,0,0,0,0,0,0,"",{"$f":"IF(AND(BC198=\"\"),\"\",IF(BC198=0,\"\",1+(MAX(AQ$61:AQ197))))","v":""},138,0,0,0,0,0,0,0,0,0,0,"",{"$f":"IF(AND(BP198=\"\"),\"\",IF(BP198=0,\"\",1+(MAX(BD$61:BD197))))","v":""},138,0,0,0,0,0,0,0,0,0,0,"",{"$f":"IF(AND(CC198=\"\"),\"\",IF(CC198=0,\"\",1+(MAX(BQ$61:BQ197))))","v":""},138,0,0,0,0,0,0,0,0,0,0,"",{"$f":"IF(AND(CP198=\"\"),\"\",IF(CP198=0,\"\",1+(MAX(CD$61:CD197))))","v":""},138,0,0,0,0,0,0,0,0,0,0,"",{"$f":"IF(AND(DC198=\"\"),\"\",IF(DC198=0,\"\",1+(MAX(CQ$61:CQ197))))","v":""},138,0,0,0,0,0,0,0,0,0,0,""]
[0,0,139,{"$nulls":24},"",1,{"$f":"IF(AND(AP199=\"\"),\"\",IF(AP199=0,\"\",1+(MAX(AD$61:AD198))))","v":""},139,0,0,0,0,0,0,0,0,0,0,"",{"$f":"IF(AND(BC199=\"\"),\"\",IF(BC199=0,\"\",1+(MAX(AQ$61:AQ198))))","v":""},139,0,0,0,0,0,0,0,0,0,0,"",{"$f":"IF(AND(BP199=\"\"),\"\",IF(BP199=0,\"\",1+(MAX(BD$61:BD198))))","v":""},139,0,0,0,0,0,0,0,0,0,0,"",{"$f":"IF(AND(CC199=\"\"),\"\",IF(CC199=0,\"\",1+(MAX(BQ$61:BQ198))))","v":""},139,0,0,0,0,0,0,0,0,0,0,"",{"$f":"IF(AND(CP199=\"\"),\"\",IF(CP199=0,\"\",1+(MAX(CD$61:CD198))))","v":""},139,0,0,0,0,0,0,0,0,0,0,"",{"$f":"IF(AND(DC199=\"\"),\"\",IF(DC199=0,\"\",1+(MAX(CQ$61:CQ198))))","v":""},139,0,0,0,0,0,0,0,0,0,0,""]
[0,0,140,{"$nulls":24},"",1,{"$f":"IF(AND(AP200=\"\"),\"\",IF(AP200=0,\"\",1+(MAX(AD$61:AD199))))","v":""},140,0,0,0,0,0,0,0,0,0,0,"",{"$f":"IF(AND(BC200=\"\"),\"\",IF(BC200=0,\"\",1+(MAX(AQ$61:AQ199))))","v":""},140,0,0,0,0,0,0,0,0,0,0,"",{"$f":"IF(AND(BP200=\"\"),\"\",IF(BP200=0,\"\",1+(MAX(BD$61:BD199))))","v":""},140,0,0,0,0,0,0,0,0,0,0,"",{"$f":"IF(AND(CC200=\"\"),\"\",IF(CC200=0,\"\",1+(MAX(BQ$61:BQ199))))","v":""},140,0,0,0,0,0,0,0,0,0,0,"",{"$f":"IF(AND(CP200=\"\"),\"\",IF(CP200=0,\"\",1+(MAX(CD$61:CD199))))","v":""},140,0,0,0,0,0,0,0,0,0,0,"",{"$f":"IF(AND(DC200=\"\"),\"\",IF(DC200=0,\"\",1+(MAX(CQ$61:CQ199))))","v":""},140,0,0,0,0,0,0,0,0,0,0,""]
[0,0,141,{"$nulls":24},"",1,{"$f":"IF(AND(AP201=\"\"),\"\",IF(AP201=0,\"\",1+(MAX(AD$61:AD200))))","v":""},141,0,0,0,0,0,0,0,0,0,0,"",{"$f":"IF(AND(BC201=\"\"),\"\",IF(BC201=0,\"\",1+(MAX(AQ$61:AQ200))))","v":""},141,0,0,0,0,0,0,0,0,0,0,"",{"$f":"IF(AND(BP201=\"\"),\"\",IF(BP201=0,\"\",1+(MAX(BD$61:BD200))))","v":""},141,0,0,0,0,0,0,0,0,0,0,"",{"$f":"IF(AND(CC201=\"\"),\"\",IF(CC201=0,\"\",1+(MAX(BQ$61:BQ200))))","v":""},141,0,0,0,0,0,0,0,0,0,0,"",{"$f":"IF(AND(CP201=\"\"),\"\",IF(CP201=0,\"\",1+(MAX(CD$61:CD200))))","v":""},141,0,0,0,0,0,0,0,0,0,0,"",{"$f":"IF(AND(DC201=\"\"),\"\",IF(DC201=0,\"\",1+(MAX(CQ$61:CQ200))))","v":""},141,0,0,0,0,0,0,0,0,0,0,""]
[0,0,142,{"$nulls":24},"",1,{"$f":"IF(AND(AP202=\"\"),\"\",IF(AP202=0,\"\",1+(MAX(AD$61:AD201))))","v":""},142,0,0,0,0,0,0,0,0,0,0,"",{"$f":"IF(AND(BC202=\"\"),\"\",IF(BC202=0,\"\",1+(MAX(AQ$61:AQ201))))","v":""},142,0,0,0,0,0,0,0,0,0,0,"",{"$f":"IF(AND(BP202=\"\"),\"\",IF(BP202=0,\"\",1+(MAX(BD$61:BD201))))","v":""},142,0,0,0,0,0,0,0,0,0,0,"",{"$f":"IF(AND(CC202=\"\"),\"\",IF(CC202=0,\"\",1+(MAX(BQ$61:BQ201))))","v":""},142,0,0,0,0,0,0,0,0,0,0,"",{"$f":"IF(AND(CP202=\"\"),\"\",IF(CP202=0,\"\",1+(MAX(CD$61:CD201))))","v":""},142,0,0,0,0,0,0,0,0,0,0,"",{"$f":"IF(AND(DC202=\"\"),\"\",IF(DC202=0,\"\",1+(MAX(CQ$61:CQ201))))","v":""},142,0,0,0,0,0,0,0,0,0,0,""]
[0,0,143,{"$nulls":24},"",1,{"$f":"IF(AND(AP203=\"\"),\"\",IF(AP203=0,\"\",1+(MAX(AD$61:AD202))))","v":""},143,0,0,0,0,0,0,0,0,0,0,"",{"$f":"IF(AND(BC203=\"\"),\"\",IF(BC203=0,\"\",1+(MAX(AQ$61:AQ202))))","v":""},143,0,0,0,0,0,0,0,0,0,0,"",{"$f":"IF(AND(BP203=\"\"),\"\",IF(BP203=0,\"\",1+(MAX(BD$61:BD202))))","v":""},143,0,0,0,0,0,0,0,0,0,0,"",{"$f":"IF(AND(CC203=\"\"),\"\",IF(CC203=0,\"\",1+(MAX(BQ$61:BQ202))))","v":""},143,0,0,0,0,0,0,0,0,0,0,"",{"$f":"IF(AND(CP203=\"\"),\"\",IF(CP203=0,\"\",1+(MAX(CD$61:CD202))))","v":""},143,0,0,0,0,0,0,0,0,0,0,"",{"$f":"IF(AND(DC203=\"\"),\"\",IF(DC203=0,\"\",1+(MAX(CQ$61:CQ202))))","v":""},143,0,0,0,0,0,0,0,0,0,0,""]
[0,0,144,{"$nulls":24},"",1,{"$f":"IF(AND(AP204=\"\"),\"\",IF(AP204=0,\"\",1+(MAX(AD$61:AD203))))","v":""},144,0,0,0,0,0,0,0,0,0,0,"",{"$f":"IF(AND(BC204=\"\"),\"\",IF(BC204=0,\"\",1+(MAX(AQ$61:AQ203))))","v":""},144,0,0,0,0,0,0,0,0,0,0,"",{"$f":"IF(AND(BP204=\"\"),\"\",IF(BP204=0,\"\",1+(MAX(BD$61:BD203))))","v":""},144,0,0,0,0,0,0,0,0,0,0,"",{"$f":"IF(AND(CC204=\"\"),\"\",IF(CC204=0,\"\",1+(MAX(BQ$61:BQ203))))","v":""},144,0,0,0,0,0,0,0,0,0,0,"",{"$f":"IF(AND(CP204=\"\"),\"\",IF(CP204=0,\"\",1+(MAX(CD$61:CD203))))","v":""},144,0,0,0,0,0,0,0,0,0,0,"",{"$f":"IF(AND(DC204=\"\"),\"\",IF(DC204=0,\"\",1+(MAX(CQ$61:CQ203))))","v":""},144,0,0,0,0,0,0,0,0,0,0,""]
[0,0,145,{"$nulls":24},"",1,{"$f":"IF(AND(AP205=\"\"),\"\",IF(AP205=0,\"\",1+(MAX(AD$61:AD204))))","v":""},145,0,0,0,0,0,0,0,0,0,0,"",{"$f":"IF(AND(BC205=\"\"),\"\",IF(BC205=0,\"\",1+(MAX(AQ$61:AQ204))))","v":""},145,0,0,0,0,0,0,0,0,0,0,"",{"$f":"IF(AND(BP205=\"\"),\"\",IF(BP205=0,\"\",1+(MAX(BD$61:BD204))))","v":""},145,0,0,0,0,0,0,0,0,0,0,"",{"$f":"IF(AND(CC205=\"\"),\"\",IF(CC205=0,\"\",1+(MAX(BQ$61:BQ204))))","v":""},145,0,0,0,0,0,0,0,0,0,0,"",{"$f":"IF(AND(CP205=\"\"),\"\",IF(CP205=0,\"\",1+(MAX(CD$61:CD204))))","v":""},145,0,0,0,0,0,0,0,0,0,0,"",{"$f":"IF(AND(DC205=\"\"),\"\",IF(DC205=0,\"\",1+(MAX(CQ$61:CQ204))))","v":""},145,0,0,0,0,0,0,0,0,0,0,""]
[0,0,146,{"$nulls":24},"",1,{"$f":"IF(AND(AP206=\"\"),\"\",IF(AP206=0,\"\",1+(MAX(AD$61:AD205))))","v":""},146,0,0,0,0,0,0,0,0,0,0,"",{"$f":"IF(AND(BC206=\"\"),\"\",IF(BC206=0,\"\",1+(MAX(AQ$61:AQ205))))","v":""},146,0,0,0,0,0,0,0,0,0,0,"",{"$f":"IF(AND(BP206=\"\"),\"\",IF(BP206=0,\"\",1+(MAX(BD$61:BD205))))","v":""},146,0,0,0,0,0,0,0,0,0,0,"",{"$f":"IF(AND(CC206=\"\"),\"\",IF(CC206=0,\"\",1+(MAX(BQ$61:BQ205))))","v":""},146,0,0,0,0,0,0,0,0,0,0,"",{"$f":"IF(AND(CP206=\"\"),\"\",IF(CP206=0,\"\",1+(MAX(CD$61:CD205))))","v":""},146,0,0,0,0,0,0,0,0,0,0,"",{"$f":"IF(AND(DC206=\"\"),\"\",IF(DC206=0,\"\",1+(MAX(CQ$61:CQ205))))","v":""},146,0,0,0,0,0,0,0,0,0,0,""]
[0,0,147,{"$nulls":24},"",1,{"$f":"IF(AND(AP207=\"\"),\"\",IF(AP207=0,\"\",1+(MAX(AD$61:AD206))))","v":""},147,0,0,0,0,0,0,0,0,0,0,"",{"$f":"IF(AND(BC207=\"\"),\"\",IF(BC207=0,\"\",1+(MAX(AQ$61:AQ206))))","v":""},147,0,0,0,0,0,0,0,0,0,0,"",{"$f":"IF(AND(BP207=\"\"),\"\",IF(BP207=0,\"\",1+(MAX(BD$61:BD206))))","v":""},147,0,0,0,0,0,0,0,0,0,0,"",{"$f":"IF(AND(CC207=\"\"),\"\",IF(CC207=0,\"\",1+(MAX(BQ$61:BQ206))))","v":""},147,0,0,0,0,0,0,0,0,0,0,"",{"$f":"IF(AND(CP207=\"\"),\"\",IF(CP207=0,\"\",1+(MAX(CD$61:CD206))))","v":""},147,0,0,0,0,0,0,0,0,0,0,"",{"$f":"IF(AND(DC207=\"\"),\"\",IF(DC207=0,\"\",1+(MAX(CQ$61:CQ206))))","v":""},147,0,0,0,0,0,0,0,0,0,0,""]
[0,0,148,{"$nulls":24},"",1,{"$f":"IF(AND(AP208=\"\"),\"\",IF(AP208=0,\"\",1+(MAX(AD$61:AD207))))","v":""},148,0,0,0,0,0,0,0,0,0,0,"",{"$f":"IF(AND(BC208=\"\"),\"\",IF(BC208=0,\"\",1+(MAX(AQ$61:AQ207))))","v":""},148,0,0,0,0,0,0,0,0,0,0,"",{"$f":"IF(AND(BP208=\"\"),\"\",IF(BP208=0,\"\",1+(MAX(BD$61:BD207))))","v":""},148,0,0,0,0,0,0,0,0,0,0,"",{"$f":"IF(AND(CC208=\"\"),\"\",IF(CC208=0,\"\",1+(MAX(BQ$61:BQ207))))","v":""},148,0,0,0,0,0,0,0,0,0,0,"",{"$f":"IF(AND(CP208=\"\"),\"\",IF(CP208=0,\"\",1+(MAX(CD$61:CD207))))","v":""},148,0,0,0,0,0,0,0,0,0,0,"",{"$f":"IF(AND(DC208=\"\"),\"\",IF(DC208=0,\"\",1+(MAX(CQ$61:CQ207))))","v":""},148,0,0,0,0,0,0,0,0,0,0,""]
[0,0,149,{"$nulls":24},"",1,{"$f":"IF(AND(AP209=\"\"),\"\",IF(AP209=0,\"\",1+(MAX(AD$61:AD208))))","v":""},149,0,0,0,0,0,0,0,0,0,0,"",{"$f":"IF(AND(BC209=\"\"),\"\",IF(BC209=0,\"\",1+(MAX(AQ$61:AQ208))))","v":""},149,0,0,0,0,0,0,0,0,0,0,"",{"$f":"IF(AND(BP209=\"\"),\"\",IF(BP209=0,\"\",1+(MAX(BD$61:BD208))))","v":""},149,0,0,0,0,0,0,0,0,0,0,"",{"$f":"IF(AND(CC209=\"\"),\"\",IF(CC209=0,\"\",1+(MAX(BQ$61:BQ208))))","v":""},149,0,0,0,0,0,0,0,0,0,0,"",{"$f":"IF(AND(CP209=\"\"),\"\",IF(CP209=0,\"\",1+(MAX(CD$61:CD208))))","v":""},149,0,0,0,0,0,0,0,0,0,0,"",{"$f":"IF(AND(DC209=\"\"),\"\",IF(DC209=0,\"\",1+(MAX(CQ$61:CQ208))))","v":""},149,0,0,0,0,0,0,0,0,0,0,""]
[0,0,150,{"$nulls":24},"",1,{"$f":"IF(AND(AP210=\"\"),\"\",IF(AP210=0,\"\",1+(MAX(AD$61:AD209))))","v":""},150,0,0,0,0,0,0,0,0,0,0,"",{"$f":"IF(AND(BC210=\"\"),\"\",IF(BC210=0,\"\",1+(MAX(AQ$61:AQ209))))","v":""},150,0,0,0,0,0,0,0,0,0,0,"",{"$f":"IF(AND(BP210=\"\"),\"\",IF(BP210=0,\"\",1+(MAX(BD$61:BD209))))","v":""},150,0,0,0,0,0,0,0,0,0,0,"",{"$f":"IF(AND(CC210=\"\"),\"\",IF(CC210=0,\"\",1+(MAX(BQ$61:BQ209))))","v":""},150,0,0,0,0,0,0,0,0,0,0,"",{"$f":"IF(AND(CP210=\"\"),\"\",IF(CP210=0,\"\",1+(MAX(CD$61:CD209))))","v":""},150,0,0,0,0,0,0,0,0,0,0,"",{"$f":"IF(AND(DC210=\"\"),\"\",IF(DC210=0,\"\",1+(MAX(CQ$61:CQ209))))","v":""},150,0,0,0,0,0,0,0,0,0,0,""]
[0,0,151,{"$nulls":24},"",1,{"$f":"IF(AND(AP211=\"\"),\"\",IF(AP211=0,\"\",1+(MAX(AD$61:AD210))))","v":""},151,0,0,0,0,0,0,0,0,0,0,"",{"$f":"IF(AND(BC211=\"\"),\"\",IF(BC211=0,\"\",1+(MAX(AQ$61:AQ210))))","v":""},151,0,0,0,0,0,0,0,0,0,0,"",{"$f":"IF(AND(BP211=\"\"),\"\",IF(BP211=0,\"\",1+(MAX(BD$61:BD210))))","v":""},151,0,0,0,0,0,0,0,0,0,0,"",{"$f":"IF(AND(CC211=\"\"),\"\",IF(CC211=0,\"\",1+(MAX(BQ$61:BQ210))))","v":""},151,0,0,0,0,0,0,0,0,0,0,"",{"$f":"IF(AND(CP211=\"\"),\"\",IF(CP211=0,\"\",1+(MAX(CD$61:CD210))))","v":""},151,0,0,0,0,0,0,0,0,0,0,"",{"$f":"IF(AND(DC211=\"\"),\"\",IF(DC211=0,\"\",1+(MAX(CQ$61:CQ210))))","v":""},151,0,0,0,0,0,0,0,0,0,0,""]
[0,0,152,{"$nulls":24},"",1,{"$f":"IF(AND(AP212=\"\"),\"\",IF(AP212=0,\"\",1+(MAX(AD$61:AD211))))","v":""},152,0,0,0,0,0,0,0,0,0,0,"",{"$f":"IF(AND(BC212=\"\"),\"\",IF(BC212=0,\"\",1+(MAX(AQ$61:AQ211))))","v":""},152,0,0,0,0,0,0,0,0,0,0,"",{"$f":"IF(AND(BP212=\"\"),\"\",IF(BP212=0,\"\",1+(MAX(BD$61:BD211))))","v":""},152,0,0,0,0,0,0,0,0,0,0,"",{"$f":"IF(AND(CC212=\"\"),\"\",IF(CC212=0,\"\",1+(MAX(BQ$61:BQ211))))","v":""},152,0,0,0,0,0,0,0,0,0,0,"",{"$f":"IF(AND(CP212=\"\"),\"\",IF(CP212=0,\"\",1+(MAX(CD$61:CD211))))","v":""},152,0,0,0,0,0,0,0,0,0,0,"",{"$f":"IF(AND(DC212=\"\"),\"\",IF(DC212=0,\"\",1+(MAX(CQ$61:CQ211))))","v":""},152,0,0,0,0,0,0,0,0,0,0,""]
[0,0,153,{"$nulls":24},"",1,{"$f":"IF(AND(AP213=\"\"),\"\",IF(AP213=0,\"\",1+(MAX(AD$61:AD212))))","v":""},153,0,0,0,0,0,0,0,0,0,0,"",{"$f":"IF(AND(BC213=\"\"),\"\",IF(BC213=0,\"\",1+(MAX(AQ$61:AQ212))))","v":""},153,0,0,0,0,0,0,0,0,0,0,"",{"$f":"IF(AND(BP213=\"\"),\"\",IF(BP213=0,\"\",1+(MAX(BD$61:BD212))))","v":""},153,0,0,0,0,0,0,0,0,0,0,"",{"$f":"IF(AND(CC213=\"\"),\"\",IF(CC213=0,\"\",1+(MAX(BQ$61:BQ212))))","v":""},153,0,0,0,0,0,0,0,0,0,0,"",{"$f":"IF(AND(CP213=\"\"),\"\",IF(CP213=0,\"\",1+(MAX(CD$61:CD212))))","v":""},153,0,0,0,0,0,0,0,0,0,0,"",{"$f":"IF(AND(DC213=\"\"),\"\",IF(DC213=0,\"\",1+(MAX(CQ$61:CQ212))))","v":""},153,0,0,0,0,0,0,0,0,0,0,""]
[0,0,154,{"$nulls":24},"",1,{"$f":"IF(AND(AP214=\"\"),\"\",IF(AP214=0,\"\",1+(MAX(AD$61:AD213))))","v":""},154,0,0,0,0,0,0,0,0,0,0,"",{"$f":"IF(AND(BC214=\"\"),\"\",IF(BC214=0,\"\",1+(MAX(AQ$61:AQ213))))","v":""},154,0,0,0,0,0,0,0,0,0,0,"",{"$f":"IF(AND(BP214=\"\"),\"\",IF(BP214=0,\"\",1+(MAX(BD$61:BD213))))","v":""},154,0,0,0,0,0,0,0,0,0,0,"",{"$f":"IF(AND(CC214=\"\"),\"\",IF(CC214=0,\"\",1+(MAX(BQ$61:BQ213))))","v":""},154,0,0,0,0,0,0,0,0,0,0,"",{"$f":"IF(AND(CP214=\"\"),\"\",IF(CP214=0,\"\",1+(MAX(CD$61:CD213))))","v":""},154,0,0,0,0,0,0,0,0,0,0,"",{"$f":"IF(AND(DC214=\"\"),\"\",IF(DC214=0,\"\",1+(MAX(CQ$61:CQ213))))","v":""},154,0,0,0,0,0,0,0,0,0,0,""]
[0,0,155,{"$nulls":24},"",1,{"$f":"IF(AND(AP215=\"\"),\"\",IF(AP215=0,\"\",1+(MAX(AD$61:AD214))))","v":""},155,0,0,0,0,0,0,0,0,0,0,"",{"$f":"IF(AND(BC215=\"\"),\"\",IF(BC215=0,\"\",1+(MAX(AQ$61:AQ214))))","v":""},155,0,0,0,0,0,0,0,0,0,0,"",{"$f":"IF(AND(BP215=\"\"),\"\",IF(BP215=0,\"\",1+(MAX(BD$61:BD214))))","v":""},155,0,0,0,0,0,0,0,0,0,0,"",{"$f":"IF(AND(CC215=\"\"),\"\",IF(CC215=0,\"\",1+(MAX(BQ$61:BQ214))))","v":""},155,0,0,0,0,0,0,0,0,0,0,"",{"$f":"IF(AND(CP215=\"\"),\"\",IF(CP215=0,\"\",1+(MAX(CD$61:CD214))))","v":""},155,0,0,0,0,0,0,0,0,0,0,"",{"$f":"IF(AND(DC215=\"\"),\"\",IF(DC215=0,\"\",1+(MAX(CQ$61:CQ214))))","v":""},155,0,0,0,0,0,0,0,0,0,0,""]
[0,0,156,{"$nulls":24},"",1,{"$f":"IF(AND(AP216=\"\"),\"\",IF(AP216=0,\"\",1+(MAX(AD$61:AD215))))","v":""},156,0,0,0,0,0,0,0,0,0,0,"",{"$f":"IF(AND(BC216=\"\"),\"\",IF(BC216=0,\"\",1+(MAX(AQ$61:AQ215))))","v":""},156,0,0,0,0,0,0,0,0,0,0,"",{"$f":"IF(AND(BP216=\"\"),\"\",IF(BP216=0,\"\",1+(MAX(BD$61:BD215))))","v":""},156,0,0,0,0,0,0,0,0,0,0,"",{"$f":"IF(AND(CC216=\"\"),\"\",IF(CC216=0,\"\",1+(MAX(BQ$61:BQ215))))","v":""},156,0,0,0,0,0,0,0,0,0,0,"",{"$f":"IF(AND(CP216=\"\"),\"\",IF(CP216=0,\"\",1+(MAX(CD$61:CD215))))","v":""},156,0,0,0,0,0,0,0,0,0,0,"",{"$f":"IF(AND(DC216=\"\"),\"\",IF(DC216=0,\"\",1+(MAX(CQ$61:CQ215))))","v":""},156,0,0,0,0,0,0,0,0,0,0,""]
[0,0,157,{"$nulls":24},"",1,{"$f":"IF(AND(AP217=\"\"),\"\",IF(AP217=0,\"\",1+(MAX(AD$61:AD216))))","v":""},157,0,0,0,0,0,0,0,0,0,0,"",{"$f":"IF(AND(BC217=\"\"),\"\",IF(BC217=0,\"\",1+(MAX(AQ$61:AQ216))))","v":""},157,0,0,0,0,0,0,0,0,0,0,"",{"$f":"IF(AND(BP217=\"\"),\"\",IF(BP217=0,\"\",1+(MAX(BD$61:BD216))))","v":""},157,0,0,0,0,0,0,0,0,0,0,"",{"$f":"IF(AND(CC217=\"\"),\"\",IF(CC217=0,\"\",1+(MAX(BQ$61:BQ216))))","v":""},157,0,0,0,0,0,0,0,0,0,0,"",{"$f":"IF(AND(CP217=\"\"),\"\",IF(CP217=0,\"\",1+(MAX(CD$61:CD216))))","v":""},157,0,0,0,0,0,0,0,0,0,0,"",{"$f":"IF(AND(DC217=\"\"),\"\",IF(DC217=0,\"\",1+(MAX(CQ$61:CQ216))))","v":""},157,0,0,0,0,0,0,0,0,0,0,""]
[0,0,158,{"$nulls":24},"",1,{"$f":"IF(AND(AP218=\"\"),\"\",IF(AP218=0,\"\",1+(MAX(AD$61:AD217))))","v":""},158,0,0,0,0,0,0,0,0,0,0,"",{"$f":"IF(AND(BC218=\"\"),\"\",IF(BC218=0,\"\",1+(MAX(AQ$61:AQ217))))","v":""},158,0,0,0,0,0,0,0,0,0,0,"",{"$f":"IF(AND(BP218=\"\"),\"\",IF(BP218=0,\"\",1+(MAX(BD$61:BD217))))","v":""},158,0,0,0,0,0,0,0,0,0,0,"",{"$f":"IF(AND(CC218=\"\"),\"\",IF(CC218=0,\"\",1+(MAX(BQ$61:BQ217))))","v":""},158,0,0,0,0,0,0,0,0,0,0,"",{"$f":"IF(AND(CP218=\"\"),\"\",IF(CP218=0,\"\",1+(MAX(CD$61:CD217))))","v":""},158,0,0,0,0,0,0,0,0,0,0,"",{"$f":"IF(AND(DC218=\"\"),\"\",IF(DC218=0,\"\",1+(MAX(CQ$61:CQ217))))","v":""},158,0,0,0,0,0,0,0,0,0,0,""]
[0,0,159,{"$nulls":24},"",1,{"$f":"IF(AND(AP219=\"\"),\"\",IF(AP219=0,\"\",1+(MAX(AD$61:AD218))))","v":""},159,0,0,0,0,0,0,0,0,0,0,"",{"$f":"IF(AND(BC219=\"\"),\"\",IF(BC219=0,\"\",1+(MAX(AQ$61:AQ218))))","v":""},159,0,0,0,0,0,0,0,0,0,0,"",{"$f":"IF(AND(BP219=\"\"),\"\",IF(BP219=0,\"\",1+(MAX(BD$61:BD218))))","v":""},159,0,0,0,0,0,0,0,0,0,0,"",{"$f":"IF(AND(CC219=\"\"),\"\",IF(CC219=0,\"\",1+(MAX(BQ$61:BQ218))))","v":""},159,0,0,0,0,0,0,0,0,0,0,"",{"$f":"IF(AND(CP219=\"\"),\"\",IF(CP219=0,\"\",1+(MAX(CD$61:CD218))))","v":""},159,0,0,0,0,0,0,0,0,0,0,"",{"$f":"IF(AND(DC219=\"\"),\"\",IF(DC219=0,\"\",1+(MAX(CQ$61:CQ218))))","v":""},159,0,0,0,0,0,0,0,0,0,0,""]
[0,0,160,{"$nulls":24},"",1,{"$f":"IF(AND(AP220=\"\"),\"\",IF(AP220=0,\"\",1+(MAX(AD$61:AD219))))","v":""},160,0,0,0,0,0,0,0,0,0,0,"",{"$f":"IF(AND(BC220=\"\"),\"\",IF(BC220=0,\"\",1+(MAX(AQ$61:AQ219))))","v":""},160,0,0,0,0,0,0,0,0,0,0,"",{"$f":"IF(AND(BP220=\"\"),\"\",IF(BP220=0,\"\",1+(MAX(BD$61:BD219))))","v":""},160,0,0,0,0,0,0,0,0,0,0,"",{"$f":"IF(AND(CC220=\"\"),\"\",IF(CC220=0,\"\",1+(MAX(BQ$61:BQ219))))","v":""},160,0,0,0,0,0,0,0,0,0,0,"",{"$f":"IF(AND(CP220=\"\"),\"\",IF(CP220=0,\"\",1+(MAX(CD$61:CD219))))","v":""},160,0,0,0,0,0,0,0,0,0,0,"",{"$f":"IF(AND(DC220=\"\"),\"\",IF(DC220=0,\"\",1+(MAX(CQ$61:CQ219))))","v":""},160,0,0,0,0,0,0,0,0,0,0,""]
[0,0,161,{"$nulls":24},"",1,{"$f":"IF(AND(AP221=\"\"),\"\",IF(AP221=0,\"\",1+(MAX(AD$61:AD220))))","v":""},161,0,0,0,0,0,0,0,0,0,0,"",{"$f":"IF(AND(BC221=\"\"),\"\",IF(BC221=0,\"\",1+(MAX(AQ$61:AQ220))))","v":""},161,0,0,0,0,0,0,0,0,0,0,"",{"$f":"IF(AND(BP221=\"\"),\"\",IF(BP221=0,\"\",1+(MAX(BD$61:BD220))))","v":""},161,0,0,0,0,0,0,0,0,0,0,"",{"$f":"IF(AND(CC221=\"\"),\"\",IF(CC221=0,\"\",1+(MAX(BQ$61:BQ220))))","v":""},161,0,0,0,0,0,0,0,0,0,0,"",{"$f":"IF(AND(CP221=\"\"),\"\",IF(CP221=0,\"\",1+(MAX(CD$61:CD220))))","v":""},161,0,0,0,0,0,0,0,0,0,0,"",{"$f":"IF(AND(DC221=\"\"),\"\",IF(DC221=0,\"\",1+(MAX(CQ$61:CQ220))))","v":""},161,0,0,0,0,0,0,0,0,0,0,""]
[0,0,162,{"$nulls":24},"",1,{"$f":"IF(AND(AP222=\"\"),\"\",IF(AP222=0,\"\",1+(MAX(AD$61:AD221))))","v":""},162,0,0,0,0,0,0,0,0,0,0,"",{"$f":"IF(AND(BC222=\"\"),\"\",IF(BC222=0,\"\",1+(MAX(AQ$61:AQ221))))","v":""},162,0,0,0,0,0,0,0,0,0,0,"",{"$f":"IF(AND(BP222=\"\"),\"\",IF(BP222=0,\"\",1+(MAX(BD$61:BD221))))","v":""},162,0,0,0,0,0,0,0,0,0,0,"",{"$f":"IF(AND(CC222=\"\"),\"\",IF(CC222=0,\"\",1+(MAX(BQ$61:BQ221))))","v":""},162,0,0,0,0,0,0,0,0,0,0,"",{"$f":"IF(AND(CP222=\"\"),\"\",IF(CP222=0,\"\",1+(MAX(CD$61:CD221))))","v":""},162,0,0,0,0,0,0,0,0,0,0,"",{"$f":"IF(AND(DC222=\"\"),\"\",IF(DC222=0,\"\",1+(MAX(CQ$61:CQ221))))","v":""},162,0,0,0,0,0,0,0,0,0,0,""]
[0,0,163,{"$nulls":24},"",1,{"$f":"IF(AND(AP223=\"\"),\"\",IF(AP223=0,\"\",1+(MAX(AD$61:AD222))))","v":""},163,0,0,0,0,0,0,0,0,0,0,"",{"$f":"IF(AND(BC223=\"\"),\"\",IF(BC223=0,\"\",1+(MAX(AQ$61:AQ222))))","v":""},163,0,0,0,0,0,0,0,0,0,0,"",{"$f":"IF(AND(BP223=\"\"),\"\",IF(BP223=0,\"\",1+(MAX(BD$61:BD222))))","v":""},163,0,0,0,0,0,0,0,0,0,0,"",{"$f":"IF(AND(CC223=\"\"),\"\",IF(CC223=0,\"\",1+(MAX(BQ$61:BQ222))))","v":""},163,0,0,0,0,0,0,0,0,0,0,"",{"$f":"IF(AND(CP223=\"\"),\"\",IF(CP223=0,\"\",1+(MAX(CD$61:CD222))))","v":""},163,0,0,0,0,0,0,0,0,0,0,"",{"$f":"IF(AND(DC223=\"\"),\"\",IF(DC223=0,\"\",1+(MAX(CQ$61:CQ222))))","v":""},163,0,0,0,0,0,0,0,0,0,0,""]
[0,0,164,{"$nulls":24},"",1,{"$f":"IF(AND(AP224=\"\"),\"\",IF(AP224=0,\"\",1+(MAX(AD$61:AD223))))","v":""},164,0,0,0,0,0,0,0,0,0,0,"",{"$f":"IF(AND(BC224=\"\"),\"\",IF(BC224=0,\"\",1+(MAX(AQ$61:AQ223))))","v":""},164,0,0,0,0,0,0,0,0,0,0,"",{"$f":"IF(AND(BP224=\"\"),\"\",IF(BP224=0,\"\",1+(MAX(BD$61:BD223))))","v":""},164,0,0,0,0,0,0,0,0,0,0,"",{"$f":"IF(AND(CC224=\"\"),\"\",IF(CC224=0,\"\",1+(MAX(BQ$61:BQ223))))","v":""},164,0,0,0,0,0,0,0,0,0,0,"",{"$f":"IF(AND(CP224=\"\"),\"\",IF(CP224=0,\"\",1+(MAX(CD$61:CD223))))","v":""},164,0,0,0,0,0,0,0,0,0,0,"",{"$f":"IF(AND(DC224=\"\"),\"\",IF(DC224=0,\"\",1+(MAX(CQ$61:CQ223))))","v":""},164,0,0,0,0,0,0,0,0,0,0,""]
[0,0,165,{"$nulls":24},"",1,{"$f":"IF(AND(AP225=\"\"),\"\",IF(AP225=0,\"\",1+(MAX(AD$61:AD224))))","v":""},165,0,0,0,0,0,0,0,0,0,0,"",{"$f":"IF(AND(BC225=\"\"),\"\",IF(BC225=0,\"\",1+(MAX(AQ$61:AQ224))))","v":""},165,0,0,0,0,0,0,0,0,0,0,"",{"$f":"IF(AND(BP225=\"\"),\"\",IF(BP225=0,\"\",1+(MAX(BD$61:BD224))))","v":""},165,0,0,0,0,0,0,0,0,0,0,"",{"$f":"IF(AND(CC225=\"\"),\"\",IF(CC225=0,\"\",1+(MAX(BQ$61:BQ224))))","v":""},165,0,0,0,0,0,0,0,0,0,0,"",{"$f":"IF(AND(CP225=\"\"),\"\",IF(CP225=0,\"\",1+(MAX(CD$61:CD224))))","v":""},165,0,0,0,0,0,0,0,0,0,0,"",{"$f":"IF(AND(DC225=\"\"),\"\",IF(DC225=0,\"\",1+(MAX(CQ$61:CQ224))))","v":""},165,0,0,0,0,0,0,0,0,0,0,""]
[0,0,166,{"$nulls":24},"",1,{"$f":"IF(AND(AP226=\"\"),\"\",IF(AP226=0,\"\",1+(MAX(AD$61:AD225))))","v":""},166,0,0,0,0,0,0,0,0,0,0,"",{"$f":"IF(AND(BC226=\"\"),\"\",IF(BC226=0,\"\",1+(MAX(AQ$61:AQ225))))","v":""},166,0,0,0,0,0,0,0,0,0,0,"",{"$f":"IF(AND(BP226=\"\"),\"\",IF(BP226=0,\"\",1+(MAX(BD$61:BD225))))","v":""},166,0,0,0,0,0,0,0,0,0,0,"",{"$f":"IF(AND(CC226=\"\"),\"\",IF(CC226=0,\"\",1+(MAX(BQ$61:BQ225))))","v":""},166,0,0,0,0,0,0,0,0,0,0,"",{"$f":"IF(AND(CP226=\"\"),\"\",IF(CP226=0,\"\",1+(MAX(CD$61:CD225))))","v":""},166,0,0,0,0,0,0,0,0,0,0,"",{"$f":"IF(AND(DC226=\"\"),\"\",IF(DC226=0,\"\",1+(MAX(CQ$61:CQ225))))","v":""},166,0,0,0,0,0,0,0,0,0,0,""]
[0,0,167,{"$nulls":24},"",1,{"$f":"IF(AND(AP227=\"\"),\"\",IF(AP227=0,\"\",1+(MAX(AD$61:AD226))))","v":""},167,0,0,0,0,0,0,0,0,0,0,"",{"$f":"IF(AND(BC227=\"\"),\"\",IF(BC227=0,\"\",1+(MAX(AQ$61:AQ226))))","v":""},167,0,0,0,0,0,0,0,0,0,0,"",{"$f":"IF(AND(BP227=\"\"),\"\",IF(BP227=0,\"\",1+(MAX(BD$61:BD226))))","v":""},167,0,0,0,0,0,0,0,0,0,0,"",{"$f":"IF(AND(CC227=\"\"),\"\",IF(CC227=0,\"\",1+(MAX(BQ$61:BQ226))))","v":""},167,0,0,0,0,0,0,0,0,0,0,"",{"$f":"IF(AND(CP227=\"\"),\"\",IF(CP227=0,\"\",1+(MAX(CD$61:CD226))))","v":""},167,0,0,0,0,0,0,0,0,0,0,"",{"$f":"IF(AND(DC227=\"\"),\"\",IF(DC227=0,\"\",1+(MAX(CQ$61:CQ226))))","v":""},167,0,0,0,0,0,0,0,0,0,0,""]
[0,0,168,{"$nulls":24},{"$f":"MID(H228,5,4)","v":""},1,{"$f":"IF(AND(AP228=\"\"),\"\",IF(AP228=0,\"\",1+(MAX(AD$61:AD227))))","v":""},168,0,0,0,0,0,0,0,0,0,0,"",{"$f":"IF(AND(BC228=\"\"),\"\",IF(BC228=0,\"\",1+(MAX(AQ$61:AQ227))))","v":""},168,0,0,0,0,0,0,0,0,0,0,"",{"$f":"IF(AND(BP228=\"\"),\"\",IF(BP228=0,\"\",1+(MAX(BD$61:BD227))))","v":""},168,0,0,0,0,0,0,0,0,0,0,"",{"$f":"IF(AND(CC228=\"\"),\"\",IF(CC228=0,\"\",1+(MAX(BQ$61:BQ227))))","v":""},168,0,0,0,0,0,0,0,0,0,0,"",{"$f":"IF(AND(CP228=\"\"),\"\",IF(CP228=0,\"\",1+(MAX(CD$61:CD227))))","v":""},168,0,0,0,0,0,0,0,0,0,0,"",{"$f":"IF(AND(DC228=\"\"),\"\",IF(DC228=0,\"\",1+(MAX(CQ$61:CQ227))))","v":""},168,0,0,0,0,0,0,0,0,0,0,""]
[0,0,169,{"$nulls":24},{"$f":"MID(H229,5,4)","v":""},1,{"$f":"IF(AND(AP229=\"\"),\"\",IF(AP229=0,\"\",1+(MAX(AD$61:AD228))))","v":""},169,0,0,0,0,0,0,0,0,0,0,"",{"$f":"IF(AND(BC229=\"\"),\"\",IF(BC229=0,\"\",1+(MAX(AQ$61:AQ228))))","v":""},169,0,0,0,0,0,0,0,0,0,0,"",{"$f":"IF(AND(BP229=\"\"),\"\",IF(BP229=0,\"\",1+(MAX(BD$61:BD228))))","v":""},169,0,0,0,0,0,0,0,0,0,0,"",{"$f":"IF(AND(CC229=\"\"),\"\",IF(CC229=0,\"\",1+(MAX(BQ$61:BQ228))))","v":""},169,0,0,0,0,0,0,0,0,0,0,"",{"$f":"IF(AND(CP229=\"\"),\"\",IF(CP229=0,\"\",1+(MAX(CD$61:CD228))))","v":""},169,0,0,0,0,0,0,0,0,0,0,"",{"$f":"IF(AND(DC229=\"\"),\"\",IF(DC229=0,\"\",1+(MAX(CQ$61:CQ228))))","v":""},169,0,0,0,0,0,0,0,0,0,0,""]
[0,0,170,{"$nulls":24},"",1,{"$f":"IF(AND(AP230=\"\"),\"\",IF(AP230=0,\"\",1+(MAX(AD$61:AD229))))","v":""},170,0,0,0,0,0,0,0,0,{"$f":"IF($M230=\"GAZETTED - REGULAR\",L230,0)","v":0},0,"",{"$f":"IF(AND(BC230=\"\"),\"\",IF(BC230=0,\"\",1+(MAX(AQ$61:AQ229))))","v":""},170,0,0,0,0,0,0,0,0,0,0,"",{"$f":"IF(AND(BP230=\"\"),\"\",IF(BP230=0,\"\",1+(MAX(BD$61:BD229))))","v":""},170,0,0,0,0,0,0,0,0,0,0,"",{"$f":"IF(AND(CC230=\"\"),\"\",IF(CC230=0,\"\",1+(MAX(BQ$61:BQ229))))","v":""},170,0,0,0,0,0,0,0,0,0,0,"",{"$f":"IF(AND(CP230=\"\"),\"\",IF(CP230=0,\"\",1+(MAX(CD$61:CD229))))","v":""},170,0,0,0,0,0,0,0,0,0,0,"",{"$f":"IF(AND(DC230=\"\"),\"\",IF(DC230=0,\"\",1+(MAX(CQ$61:CQ229))))","v":""},170,0,0,0,0,0,0,0,0,0,0,""]
[0,0,171,{"$nulls":24},"",1,{"$f":"IF(AND(AP231=\"\"),\"\",IF(AP231=0,\"\",1+(MAX(AD$61:AD230))))","v":""},171,0,0,0,0,0,0,0,0,{"$f":"IF($M231=\"GAZETTED - REGULAR\",L231,0)","v":0},0,"",{"$f":"IF(AND(BC231=\"\"),\"\",IF(BC231=0,\"\",1+(MAX(AQ$61:AQ230))))","v":""},171,0,0,0,0,0,0,0,0,0,0,"",{"$f":"IF(AND(BP231=\"\"),\"\",IF(BP231=0,\"\",1+(MAX(BD$61:BD230))))","v":""},171,0,0,0,0,0,0,0,0,0,0,"",{"$f":"IF(AND(CC231=\"\"),\"\",IF(CC231=0,\"\",1+(MAX(BQ$61:BQ230))))","v":""},171,0,0,0,0,0,0,0,0,0,0,"",{"$f":"IF(AND(CP231=\"\"),\"\",IF(CP231=0,\"\",1+(MAX(CD$61:CD230))))","v":""},171,0,0,0,0,0,0,0,0,0,0,"",{"$f":"IF(AND(DC231=\"\"),\"\",IF(DC231=0,\"\",1+(MAX(CQ$61:CQ230))))","v":""},171,0,0,0,0,0,0,0,0,0,0,""]
[0,0,172,{"$nulls":24},"",1,{"$f":"IF(AND(AP232=\"\"),\"\",IF(AP232=0,\"\",1+(MAX(AD$61:AD231))))","v":""},172,0,0,0,0,0,0,0,0,0,0,"",{"$f":"IF(AND(BC232=\"\"),\"\",IF(BC232=0,\"\",1+(MAX(AQ$61:AQ231))))","v":""},172,0,0,0,0,0,0,0,0,0,0,"",{"$f":"IF(AND(BP232=\"\"),\"\",IF(BP232=0,\"\",1+(MAX(BD$61:BD231))))","v":""},172,0,0,0,0,0,0,0,0,0,0,"",{"$f":"IF(AND(CC232=\"\"),\"\",IF(CC232=0,\"\",1+(MAX(BQ$61:BQ231))))","v":""},172,0,0,0,0,0,0,0,0,0,0,"",{"$f":"IF(AND(CP232=\"\"),\"\",IF(CP232=0,\"\",1+(MAX(CD$61:CD231))))","v":""},172,0,0,0,0,0,0,0,0,0,0,"",{"$f":"IF(AND(DC232=\"\"),\"\",IF(DC232=0,\"\",1+(MAX(CQ$61:CQ231))))","v":""},172,0,0,0,0,0,0,0,0,0,0,""]
[0,0,173,{"$nulls":24},"",1,{"$f":"IF(AND(AP233=\"\"),\"\",IF(AP233=0,\"\",1+(MAX(AD$61:AD232))))","v":""},173,0,0,0,0,0,0,0,0,0,0,"",{"$f":"IF(AND(BC233=\"\"),\"\",IF(BC233=0,\"\",1+(MAX(AQ$61:AQ232))))","v":""},173,0,0,0,0,0,0,0,0,0,0,"",{"$f":"IF(AND(BP233=\"\"),\"\",IF(BP233=0,\"\",1+(MAX(BD$61:BD232))))","v":""},173,0,0,0,0,0,0,0,0,0,0,"",{"$f":"IF(AND(CC233=\"\"),\"\",IF(CC233=0,\"\",1+(MAX(BQ$61:BQ232))))","v":""},173,0,0,0,0,0,0,0,0,0,0,"",{"$f":"IF(AND(CP233=\"\"),\"\",IF(CP233=0,\"\",1+(MAX(CD$61:CD232))))","v":""},173,0,0,0,0,0,0,0,0,0,0,"",{"$f":"IF(AND(DC233=\"\"),\"\",IF(DC233=0,\"\",1+(MAX(CQ$61:CQ232))))","v":""},173,0,0,0,0,0,0,0,0,0,0,""]
[0,0,174,{"$nulls":24},"",1,{"$f":"IF(AND(AP234=\"\"),\"\",IF(AP234=0,\"\",1+(MAX(AD$61:AD233))))","v":""},174,0,0,0,0,0,0,0,0,0,0,"",{"$f":"IF(AND(BC234=\"\"),\"\",IF(BC234=0,\"\",1+(MAX(AQ$61:AQ233))))","v":""},174,0,0,0,0,0,0,0,0,0,0,"",{"$f":"IF(AND(BP234=\"\"),\"\",IF(BP234=0,\"\",1+(MAX(BD$61:BD233))))","v":""},174,0,0,0,0,0,0,0,0,0,0,"",{"$f":"IF(AND(CC234=\"\"),\"\",IF(CC234=0,\"\",1+(MAX(BQ$61:BQ233))))","v":""},174,0,0,0,0,0,0,0,0,0,0,"",{"$f":"IF(AND(CP234=\"\"),\"\",IF(CP234=0,\"\",1+(MAX(CD$61:CD233))))","v":""},174,0,0,0,0,0,0,0,0,0,0,"",{"$f":"IF(AND(DC234=\"\"),\"\",IF(DC234=0,\"\",1+(MAX(CQ$61:CQ233))))","v":""},174,0,0,0,0,0,0,0,0,0,0,""]
[0,0,175,{"$nulls":24},"",1,{"$f":"IF(AND(AP235=\"\"),\"\",IF(AP235=0,\"\",1+(MAX(AD$61:AD234))))","v":""},175,0,0,0,0,0,0,0,0,0,0,"",{"$f":"IF(AND(BC235=\"\"),\"\",IF(BC235=0,\"\",1+(MAX(AQ$61:AQ234))))","v":""},175,0,0,0,0,0,0,0,0,0,0,"",{"$f":"IF(AND(BP235=\"\"),\"\",IF(BP235=0,\"\",1+(MAX(BD$61:BD234))))","v":""},175,0,0,0,0,0,0,0,0,0,0,"",{"$f":"IF(AND(CC235=\"\"),\"\",IF(CC235=0,\"\",1+(MAX(BQ$61:BQ234))))","v":""},175,0,0,0,0,0,0,0,0,0,0,"",{"$f":"IF(AND(CP235=\"\"),\"\",IF(CP235=0,\"\",1+(MAX(CD$61:CD234))))","v":""},175,0,0,0,0,0,0,0,0,0,0,"",{"$f":"IF(AND(DC235=\"\"),\"\",IF(DC235=0,\"\",1+(MAX(CQ$61:CQ234))))","v":""},175,0,0,0,0,0,0,0,0,0,0,""]
[0,0,176,{"$nulls":24},"",1,{"$f":"IF(AND(AP236=\"\"),\"\",IF(AP236=0,\"\",1+(MAX(AD$61:AD235))))","v":""},176,0,0,0,0,0,0,0,0,0,0,"",{"$f":"IF(AND(BC236=\"\"),\"\",IF(BC236=0,\"\",1+(MAX(AQ$61:AQ235))))","v":""},176,0,0,0,0,0,0,0,0,0,0,"",{"$f":"IF(AND(BP236=\"\"),\"\",IF(BP236=0,\"\",1+(MAX(BD$61:BD235))))","v":""},176,0,0,0,0,0,0,0,0,0,0,"",{"$f":"IF(AND(CC236=\"\"),\"\",IF(CC236=0,\"\",1+(MAX(BQ$61:BQ235))))","v":""},176,0,0,0,0,0,0,0,0,0,0,"",{"$f":"IF(AND(CP236=\"\"),\"\",IF(CP236=0,\"\",1+(MAX(CD$61:CD235))))","v":""},176,0,0,0,0,0,0,0,0,0,0,"",{"$f":"IF(AND(DC236=\"\"),\"\",IF(DC236=0,\"\",1+(MAX(CQ$61:CQ235))))","v":""},176,0,0,0,0,0,0,0,0,0,0,""]
[0,0,177,{"$nulls":24},"",1,{"$f":"IF(AND(AP237=\"\"),\"\",IF(AP237=0,\"\",1+(MAX(AD$61:AD236))))","v":""},177,0,0,0,0,0,0,0,0,0,0,"",{"$f":"IF(AND(BC237=\"\"),\"\",IF(BC237=0,\"\",1+(MAX(AQ$61:AQ236))))","v":""},177,0,0,0,0,0,0,0,0,0,0,"",{"$f":"IF(AND(BP237=\"\"),\"\",IF(BP237=0,\"\",1+(MAX(BD$61:BD236))))","v":""},177,0,0,0,0,0,0,0,0,0,0,"",{"$f":"IF(AND(CC237=\"\"),\"\",IF(CC237=0,\"\",1+(MAX(BQ$61:BQ236))))","v":""},177,0,0,0,0,0,0,0,0,0,0,"",{"$f":"IF(AND(CP237=\"\"),\"\",IF(CP237=0,\"\",1+(MAX(CD$61:CD236))))","v":""},177,0,0,0,0,0,0,0,0,0,0,"",{"$f":"IF(AND(DC237=\"\"),\"\",IF(DC237=0,\"\",1+(MAX(CQ$61:CQ236))))","v":""},177,0,0,0,0,0,0,0,0,0,0,""]
[0,0,178,{"$nulls":24},"",1,{"$f":"IF(AND(AP238=\"\"),\"\",IF(AP238=0,\"\",1+(MAX(AD$61:AD237))))","v":""},178,0,0,0,0,0,0,0,0,0,0,"",{"$f":"IF(AND(BC238=\"\"),\"\",IF(BC238=0,\"\",1+(MAX(AQ$61:AQ237))))","v":""},178,0,0,0,0,0,0,0,0,0,0,"",{"$f":"IF(AND(BP238=\"\"),\"\",IF(BP238=0,\"\",1+(MAX(BD$61:BD237))))","v":""},178,0,0,0,0,0,0,0,0,0,0,"",{"$f":"IF(AND(CC238=\"\"),\"\",IF(CC238=0,\"\",1+(MAX(BQ$61:BQ237))))","v":""},178,0,0,0,0,0,0,0,0,0,0,"",{"$f":"IF(AND(CP238=\"\"),\"\",IF(CP238=0,\"\",1+(MAX(CD$61:CD237))))","v":""},178,0,0,0,0,0,0,0,0,0,0,"",{"$f":"IF(AND(DC238=\"\"),\"\",IF(DC238=0,\"\",1+(MAX(CQ$61:CQ237))))","v":""},178,0,0,0,0,0,0,0,0,0,0,""]
[0,0,179,{"$nulls":24},"",1,{"$f":"IF(AND(AP239=\"\"),\"\",IF(AP239=0,\"\",1+(MAX(AD$61:AD238))))","v":""},179,0,0,0,0,0,0,0,0,0,0,"",{"$f":"IF(AND(BC239=\"\"),\"\",IF(BC239=0,\"\",1+(MAX(AQ$61:AQ238))))","v":""},179,0,0,0,0,0,0,0,0,0,0,"",{"$f":"IF(AND(BP239=\"\"),\"\",IF(BP239=0,\"\",1+(MAX(BD$61:BD238))))","v":""},179,0,0,0,0,0,0,0,0,0,0,"",{"$f":"IF(AND(CC239=\"\"),\"\",IF(CC239=0,\"\",1+(MAX(BQ$61:BQ238))))","v":""},179,0,0,0,0,0,0,0,0,0,0,"",{"$f":"IF(AND(CP239=\"\"),\"\",IF(CP239=0,\"\",1+(MAX(CD$61:CD238))))","v":""},179,0,0,0,0,0,0,0,0,0,0,"",{"$f":"IF(AND(DC239=\"\"),\"\",IF(DC239=0,\"\",1+(MAX(CQ$61:CQ238))))","v":""},179,0,0,0,0,0,0,0,0,0,0,""]
[0,0,180,{"$nulls":24},"",1,{"$f":"IF(AND(AP240=\"\"),\"\",IF(AP240=0,\"\",1+(MAX(AD$61:AD239))))","v":""},180,0,0,0,0,0,0,0,0,0,0,"",{"$f":"IF(AND(BC240=\"\"),\"\",IF(BC240=0,\"\",1+(MAX(AQ$61:AQ239))))","v":""},180,0,0,0,0,0,0,0,0,0,0,"",{"$f":"IF(AND(BP240=\"\"),\"\",IF(BP240=0,\"\",1+(MAX(BD$61:BD239))))","v":""},180,0,0,0,0,0,0,0,0,0,0,"",{"$f":"IF(AND(CC240=\"\"),\"\",IF(CC240=0,\"\",1+(MAX(BQ$61:BQ239))))","v":""},180,0,0,0,0,0,0,0,0,0,0,"",{"$f":"IF(AND(CP240=\"\"),\"\",IF(CP240=0,\"\",1+(MAX(CD$61:CD239))))","v":""},180,0,0,0,0,0,0,0,0,0,0,"",{"$f":"IF(AND(DC240=\"\"),\"\",IF(DC240=0,\"\",1+(MAX(CQ$61:CQ239))))","v":""},180,0,0,0,0,0,0,0,0,0,0,""]
[0,0,181,{"$nulls":24},"",1,{"$f":"IF(AND(AP241=\"\"),\"\",IF(AP241=0,\"\",1+(MAX(AD$61:AD240))))","v":""},181,0,0,0,0,0,0,0,0,0,0,"",{"$f":"IF(AND(BC241=\"\"),\"\",IF(BC241=0,\"\",1+(MAX(AQ$61:AQ240))))","v":""},181,0,0,0,0,0,0,0,0,0,0,"",{"$f":"IF(AND(BP241=\"\"),\"\",IF(BP241=0,\"\",1+(MAX(BD$61:BD240))))","v":""},181,0,0,0,0,0,0,0,0,0,0,"",{"$f":"IF(AND(CC241=\"\"),\"\",IF(CC241=0,\"\",1+(MAX(BQ$61:BQ240))))","v":""},181,0,0,0,0,0,0,0,0,0,0,"",{"$f":"IF(AND(CP241=\"\"),\"\",IF(CP241=0,\"\",1+(MAX(CD$61:CD240))))","v":""},181,0,0,0,0,0,0,0,0,0,0,"",{"$f":"IF(AND(DC241=\"\"),\"\",IF(DC241=0,\"\",1+(MAX(CQ$61:CQ240))))","v":""},181,0,0,0,0,0,0,0,0,0,0,""]
[0,0,182,{"$nulls":24},"",1,{"$f":"IF(AND(AP242=\"\"),\"\",IF(AP242=0,\"\",1+(MAX(AD$61:AD241))))","v":""},182,0,0,0,0,0,0,0,0,0,0,"",{"$f":"IF(AND(BC242=\"\"),\"\",IF(BC242=0,\"\",1+(MAX(AQ$61:AQ241))))","v":""},182,0,0,0,0,0,0,0,0,0,0,"",{"$f":"IF(AND(BP242=\"\"),\"\",IF(BP242=0,\"\",1+(MAX(BD$61:BD241))))","v":""},182,0,0,0,0,0,0,0,0,0,0,"",{"$f":"IF(AND(CC242=\"\"),\"\",IF(CC242=0,\"\",1+(MAX(BQ$61:BQ241))))","v":""},182,0,0,0,0,0,0,0,0,0,0,"",{"$f":"IF(AND(CP242=\"\"),\"\",IF(CP242=0,\"\",1+(MAX(CD$61:CD241))))","v":""},182,0,0,0,0,0,0,0,0,0,0,"",{"$f":"IF(AND(DC242=\"\"),\"\",IF(DC242=0,\"\",1+(MAX(CQ$61:CQ241))))","v":""},182,0,0,0,0,0,0,0,0,0,0,""]
[0,0,183,{"$nulls":24},"",{"$f":"IF(F243<=0,1,0)*(IF(M243=\"SANVIDA\",0,1))","v":1},{"$f":"IF(AND(AP243=\"\"),\"\",IF(AP243=0,\"\",1+(MAX(AD$61:AD242))))","v":""},183,0,0,0,0,0,0,0,0,0,0,"",{"$f":"IF(AND(BC243=\"\"),\"\",IF(BC243=0,\"\",1+(MAX(AQ$61:AQ242))))","v":""},183,0,0,0,0,0,0,0,0,0,0,"",{"$f":"IF(AND(BP243=\"\"),\"\",IF(BP243=0,\"\",1+(MAX(BD$61:BD242))))","v":""},183,0,0,0,0,0,0,0,0,0,0,"",{"$f":"IF(AND(CC243=\"\"),\"\",IF(CC243=0,\"\",1+(MAX(BQ$61:BQ242))))","v":""},183,0,0,0,0,0,0,0,0,0,0,"",{"$f":"IF(AND(CP243=\"\"),\"\",IF(CP243=0,\"\",1+(MAX(CD$61:CD242))))","v":""},183,0,0,0,0,0,0,0,0,0,0,"",{"$f":"IF(AND(DC243=\"\"),\"\",IF(DC243=0,\"\",1+(MAX(CQ$61:CQ242))))","v":""},183,0,0,0,0,0,0,0,0,0,0,""]
[0,0,184,{"$nulls":24},"",1,{"$f":"IF(AND(AP244=\"\"),\"\",IF(AP244=0,\"\",1+(MAX(AD$61:AD243))))","v":""},184,0,0,0,0,0,0,0,0,0,0,"",{"$f":"IF(AND(BC244=\"\"),\"\",IF(BC244=0,\"\",1+(MAX(AQ$61:AQ243))))","v":""},184,0,0,0,0,0,0,0,0,0,0,"",{"$f":"IF(AND(BP244=\"\"),\"\",IF(BP244=0,\"\",1+(MAX(BD$61:BD243))))","v":""},184,0,0,0,0,0,0,0,0,0,0,"",{"$f":"IF(AND(CC244=\"\"),\"\",IF(CC244=0,\"\",1+(MAX(BQ$61:BQ243))))","v":""},184,0,0,0,0,0,0,0,0,0,0,"",{"$f":"IF(AND(CP244=\"\"),\"\",IF(CP244=0,\"\",1+(MAX(CD$61:CD243))))","v":""},184,0,0,0,0,0,0,0,0,0,0,"",{"$f":"IF(AND(DC244=\"\"),\"\",IF(DC244=0,\"\",1+(MAX(CQ$61:CQ243))))","v":""},184,0,0,0,0,0,0,0,0,0,0,""]
[0,0,185,{"$nulls":24},"",1,{"$f":"IF(AND(AP245=\"\"),\"\",IF(AP245=0,\"\",1+(MAX(AD$61:AD244))))","v":""},185,0,0,0,0,0,0,0,0,0,0,"",{"$f":"IF(AND(BC245=\"\"),\"\",IF(BC245=0,\"\",1+(MAX(AQ$61:AQ244))))","v":""},185,0,0,0,0,0,0,0,0,0,0,"",{"$f":"IF(AND(BP245=\"\"),\"\",IF(BP245=0,\"\",1+(MAX(BD$61:BD244))))","v":""},185,0,0,0,0,0,0,0,0,0,0,"",{"$f":"IF(AND(CC245=\"\"),\"\",IF(CC245=0,\"\",1+(MAX(BQ$61:BQ244))))","v":""},185,0,0,0,0,0,0,0,0,0,0,"",{"$f":"IF(AND(CP245=\"\"),\"\",IF(CP245=0,\"\",1+(MAX(CD$61:CD244))))","v":""},185,0,0,0,0,0,0,0,0,0,0,"",{"$f":"IF(AND(DC245=\"\"),\"\",IF(DC245=0,\"\",1+(MAX(CQ$61:CQ244))))","v":""},185,0,0,0,0,0,0,0,0,0,0,""]
[0,0,186,{"$nulls":24},"",1,{"$f":"IF(AND(AP246=\"\"),\"\",IF(AP246=0,\"\",1+(MAX(AD$61:AD245))))","v":""},186,0,0,0,0,0,0,0,0,0,0,"",{"$f":"IF(AND(BC246=\"\"),\"\",IF(BC246=0,\"\",1+(MAX(AQ$61:AQ245))))","v":""},186,0,0,0,0,0,0,0,0,0,0,"",{"$f":"IF(AND(BP246=\"\"),\"\",IF(BP246=0,\"\",1+(MAX(BD$61:BD245))))","v":""},186,0,0,0,0,0,0,0,0,0,0,"",{"$f":"IF(AND(CC246=\"\"),\"\",IF(CC246=0,\"\",1+(MAX(BQ$61:BQ245))))","v":""},186,0,0,0,0,0,0,0,0,0,0,"",{"$f":"IF(AND(CP246=\"\"),\"\",IF(CP246=0,\"\",1+(MAX(CD$61:CD245))))","v":""},186,0,0,0,0,0,0,0,0,0,0,"",{"$f":"IF(AND(DC246=\"\"),\"\",IF(DC246=0,\"\",1+(MAX(CQ$61:CQ245))))","v":""},186,0,0,0,0,0,0,0,0,0,0,""]
[0,0,187,{"$nulls":24},"",1,{"$f":"IF(AND(AP247=\"\"),\"\",IF(AP247=0,\"\",1+(MAX(AD$61:AD246))))","v":""},187,0,0,0,0,0,0,0,0,0,0,"",{"$f":"IF(AND(BC247=\"\"),\"\",IF(BC247=0,\"\",1+(MAX(AQ$61:AQ246))))","v":""},187,0,0,0,0,0,0,0,0,0,0,"",{"$f":"IF(AND(BP247=\"\"),\"\",IF(BP247=0,\"\",1+(MAX(BD$61:BD246))))","v":""},187,0,0,0,0,0,0,0,0,0,0,"",{"$f":"IF(AND(CC247=\"\"),\"\",IF(CC247=0,\"\",1+(MAX(BQ$61:BQ246))))","v":""},187,0,0,0,0,0,0,0,0,0,0,"",{"$f":"IF(AND(CP247=\"\"),\"\",IF(CP247=0,\"\",1+(MAX(CD$61:CD246))))","v":""},187,0,0,0,0,0,0,0,0,0,0,"",{"$f":"IF(AND(DC247=\"\"),\"\",IF(DC247=0,\"\",1+(MAX(CQ$61:CQ246))))","v":""},187,0,0,0,0,0,0,0,0,0,0,""]
[0,0,188,{"$nulls":24},"",1,{"$f":"IF(AND(AP248=\"\"),\"\",IF(AP248=0,\"\",1+(MAX(AD$61:AD247))))","v":""},188,0,0,0,0,0,0,0,0,0,0,"",{"$f":"IF(AND(BC248=\"\"),\"\",IF(BC248=0,\"\",1+(MAX(AQ$61:AQ247))))","v":""},188,0,0,0,0,0,0,0,0,0,0,"",{"$f":"IF(AND(BP248=\"\"),\"\",IF(BP248=0,\"\",1+(MAX(BD$61:BD247))))","v":""},188,0,0,0,0,0,0,0,0,0,0,"",{"$f":"IF(AND(CC248=\"\"),\"\",IF(CC248=0,\"\",1+(MAX(BQ$61:BQ247))))","v":""},188,0,0,0,0,0,0,0,0,0,0,"",{"$f":"IF(AND(CP248=\"\"),\"\",IF(CP248=0,\"\",1+(MAX(CD$61:CD247))))","v":""},188,0,0,0,0,0,0,0,0,0,0,"",{"$f":"IF(AND(DC248=\"\"),\"\",IF(DC248=0,\"\",1+(MAX(CQ$61:CQ247))))","v":""},188,0,0,0,0,0,0,0,0,0,0,""]
[0,0,189,{"$nulls":24},"",1,{"$f":"IF(AND(AP249=\"\"),\"\",IF(AP249=0,\"\",1+(MAX(AD$61:AD248))))","v":""},189,0,0,0,0,0,0,0,0,0,0,"",{"$f":"IF(AND(BC249=\"\"),\"\",IF(BC249=0,\"\",1+(MAX(AQ$61:AQ248))))","v":""},189,0,0,0,0,0,0,0,0,0,0,"",{"$f":"IF(AND(BP249=\"\"),\"\",IF(BP249=0,\"\",1+(MAX(BD$61:BD248))))","v":""},189,0,0,0,0,0,0,0,0,0,0,"",{"$f":"IF(AND(CC249=\"\"),\"\",IF(CC249=0,\"\",1+(MAX(BQ$61:BQ248))))","v":""},189,0,0,0,0,0,0,0,0,0,0,"",{"$f":"IF(AND(CP249=\"\"),\"\",IF(CP249=0,\"\",1+(MAX(CD$61:CD248))))","v":""},189,0,0,0,0,0,0,0,0,0,0,"",{"$f":"IF(AND(DC249=\"\"),\"\",IF(DC249=0,\"\",1+(MAX(CQ$61:CQ248))))","v":""},189,0,0,0,0,0,0,0,0,0,0,""]
[0,0,190,{"$nulls":24},"",1,{"$f":"IF(AND(AP250=\"\"),\"\",IF(AP250=0,\"\",1+(MAX(AD$61:AD249))))","v":""},190,0,0,0,0,0,0,0,0,0,0,"",{"$f":"IF(AND(BC250=\"\"),\"\",IF(BC250=0,\"\",1+(MAX(AQ$61:AQ249))))","v":""},190,0,0,0,0,0,0,0,0,0,0,"",{"$f":"IF(AND(BP250=\"\"),\"\",IF(BP250=0,\"\",1+(MAX(BD$61:BD249))))","v":""},190,0,0,0,0,0,0,0,0,0,0,"",{"$f":"IF(AND(CC250=\"\"),\"\",IF(CC250=0,\"\",1+(MAX(BQ$61:BQ249))))","v":""},190,0,0,0,0,0,0,0,0,0,0,"",{"$f":"IF(AND(CP250=\"\"),\"\",IF(CP250=0,\"\",1+(MAX(CD$61:CD249))))","v":""},190,0,0,0,0,0,0,0,0,0,0,"",{"$f":"IF(AND(DC250=\"\"),\"\",IF(DC250=0,\"\",1+(MAX(CQ$61:CQ249))))","v":""},190,0,0,0,0,0,0,0,0,0,0,""]
[0,0,191,{"$nulls":24},"",1,{"$f":"IF(AND(AP251=\"\"),\"\",IF(AP251=0,\"\",1+(MAX(AD$61:AD250))))","v":""},191,0,0,0,0,0,0,0,0,0,0,"",{"$f":"IF(AND(BC251=\"\"),\"\",IF(BC251=0,\"\",1+(MAX(AQ$61:AQ250))))","v":""},191,0,0,0,0,0,0,0,0,0,0,"",{"$f":"IF(AND(BP251=\"\"),\"\",IF(BP251=0,\"\",1+(MAX(BD$61:BD250))))","v":""},191,0,0,0,0,0,0,0,0,0,0,"",{"$f":"IF(AND(CC251=\"\"),\"\",IF(CC251=0,\"\",1+(MAX(BQ$61:BQ250))))","v":""},191,0,0,0,0,0,0,0,0,0,0,"",{"$f":"IF(AND(CP251=\"\"),\"\",IF(CP251=0,\"\",1+(MAX(CD$61:CD250))))","v":""},191,0,0,0,0,0,0,0,0,0,0,"",{"$f":"IF(AND(DC251=\"\"),\"\",IF(DC251=0,\"\",1+(MAX(CQ$61:CQ250))))","v":""},191,0,0,0,0,0,0,0,0,0,0,""]
[0,0,192,{"$nulls":24},"",1,{"$f":"IF(AND(AP252=\"\"),\"\",IF(AP252=0,\"\",1+(MAX(AD$61:AD251))))","v":""},192,0,0,0,0,0,0,0,0,0,0,"",{"$f":"IF(AND(BC252=\"\"),\"\",IF(BC252=0,\"\",1+(MAX(AQ$61:AQ251))))","v":""},192,0,0,0,0,0,0,0,0,0,0,"",{"$f":"IF(AND(BP252=\"\"),\"\",IF(BP252=0,\"\",1+(MAX(BD$61:BD251))))","v":""},192,0,0,0,0,0,0,0,0,0,0,"",{"$f":"IF(AND(CC252=\"\"),\"\",IF(CC252=0,\"\",1+(MAX(BQ$61:BQ251))))","v":""},192,0,0,0,0,0,0,0,0,0,0,"",{"$f":"IF(AND(CP252=\"\"),\"\",IF(CP252=0,\"\",1+(MAX(CD$61:CD251))))","v":""},192,0,0,0,0,0,0,0,0,0,0,"",{"$f":"IF(AND(DC252=\"\"),\"\",IF(DC252=0,\"\",1+(MAX(CQ$61:CQ251))))","v":""},192,0,0,0,0,0,0,0,0,0,0,""]
[0,0,193,{"$nulls":24},"",1,{"$f":"IF(AND(AP253=\"\"),\"\",IF(AP253=0,\"\",1+(MAX(AD$61:AD252))))","v":""},193,0,0,0,0,0,0,0,0,0,0,{"$f":"IF(AND(M253=\"\"),\"\",IF(M253=AF$59,1,0))","v":""},{"$f":"IF(AND(BC253=\"\"),\"\",IF(BC253=0,\"\",1+(MAX(AQ$61:AQ252))))","v":""},193,0,0,0,0,0,0,0,0,0,0,{"$f":"IF(AND(M253=\"\"),\"\",IF(M253=AS$59,1,0))","v":""},{"$f":"IF(AND(BP253=\"\"),\"\",IF(BP253=0,\"\",1+(MAX(BD$61:BD252))))","v":""},193,0,0,0,0,0,0,0,0,0,0,{"$f":"IF(AND(M253=\"\"),\"\",IF(M253=BF$59,1,0))","v":""},{"$f":"IF(AND(CC253=\"\"),\"\",IF(CC253=0,\"\",1+(MAX(BQ$61:BQ252))))","v":""},193,0,0,0,0,0,0,0,0,0,0,{"$f":"IF(AND(M253=\"\"),\"\",IF(M253=BS$59,1,0))","v":""},{"$f":"IF(AND(CP253=\"\"),\"\",IF(CP253=0,\"\",1+(MAX(CD$61:CD252))))","v":""},193,0,0,0,0,0,0,0,0,0,0,{"$f":"IF(AND(M253=\"\"),\"\",IF(M253=CF$59,1,0))","v":""},{"$f":"IF(AND(DC253=\"\"),\"\",IF(DC253=0,\"\",1+(MAX(CQ$61:CQ252))))","v":""},193,0,0,0,0,0,0,0,0,0,0,{"$f":"IF(AND(M253=\"\"),\"\",IF(M253=CS$59,1,0))","v":""}]
[{"$f":"IF(OR(D254=\"in fjDr\",D254=\"पद रिक्त\",D254=\"Blank\",D254=\"Post Blank\"),0,E254)","v":0},{"$f":"F254","v":0},194,{"$nulls":24},"",1,{"$f":"IF(AND(AP254=\"\"),\"\",IF(AP254=0,\"\",1+(MAX(AD$61:AD253))))","v":""},194,0,0,0,0,0,0,0,0,0,0,"",{"$f":"IF(AND(BC254=\"\"),\"\",IF(BC254=0,\"\",1+(MAX(AQ$61:AQ253))))","v":""},194,0,0,0,0,0,0,0,0,0,0,"",{"$f":"IF(AND(BP254=\"\"),\"\",IF(BP254=0,\"\",1+(MAX(BD$61:BD253))))","v":""},194,0,0,0,0,0,0,0,0,0,0,"",{"$f":"IF(AND(CC254=\"\"),\"\",IF(CC254=0,\"\",1+(MAX(BQ$61:BQ253))))","v":""},194,0,0,0,0,0,0,0,0,0,0,"",{"$f":"IF(AND(CP254=\"\"),\"\",IF(CP254=0,\"\",1+(MAX(CD$61:CD253))))","v":""},194,0,0,0,0,0,0,0,0,0,0,"",{"$f":"IF(AND(DC254=\"\"),\"\",IF(DC254=0,\"\",1+(MAX(CQ$61:CQ253))))","v":""},194,0,0,0,0,0,0,0,0,0,0,""]
[0,0,195,{"$nulls":24},"",1,{"$f":"IF(AND(AP255=\"\"),\"\",IF(AP255=0,\"\",1+(MAX(AD$61:AD254))))","v":""},195,0,0,0,0,0,0,0,0,0,0,"",{"$f":"IF(AND(BC255=\"\"),\"\",IF(BC255=0,\"\",1+(MAX(AQ$61:AQ254))))","v":""},195,0,0,0,0,0,0,0,0,0,0,"",{"$f":"IF(AND(BP255=\"\"),\"\",IF(BP255=0,\"\",1+(MAX(BD$61:BD254))))","v":""},195,0,0,0,0,0,0,0,0,0,0,"",{"$f":"IF(AND(CC255=\"\"),\"\",IF(CC255=0,\"\",1+(MAX(BQ$61:BQ254))))","v":""},195,0,0,0,0,0,0,0,0,0,0,"",{"$f":"IF(AND(CP255=\"\"),\"\",IF(CP255=0,\"\",1+(MAX(CD$61:CD254))))","v":""},195,0,0,0,0,0,0,0,0,0,0,"",{"$f":"IF(AND(DC255=\"\"),\"\",IF(DC255=0,\"\",1+(MAX(CQ$61:CQ254))))","v":""},195,0,0,0,0,0,0,0,0,0,0,""]
[0,0,196,{"$nulls":24},"",1,{"$f":"IF(AND(AP256=\"\"),\"\",IF(AP256=0,\"\",1+(MAX(AD$61:AD255))))","v":""},196,0,0,0,0,0,0,0,0,0,0,"",{"$f":"IF(AND(BC256=\"\"),\"\",IF(BC256=0,\"\",1+(MAX(AQ$61:AQ255))))","v":""},196,0,0,0,0,0,0,0,0,0,0,"",{"$f":"IF(AND(BP256=\"\"),\"\",IF(BP256=0,\"\",1+(MAX(BD$61:BD255))))","v":""},196,0,0,0,0,0,0,0,0,0,0,"",{"$f":"IF(AND(CC256=\"\"),\"\",IF(CC256=0,\"\",1+(MAX(BQ$61:BQ255))))","v":""},196,0,0,0,0,0,0,0,0,0,0,"",{"$f":"IF(AND(CP256=\"\"),\"\",IF(CP256=0,\"\",1+(MAX(CD$61:CD255))))","v":""},196,0,0,0,0,0,0,0,0,0,0,"",{"$f":"IF(AND(DC256=\"\"),\"\",IF(DC256=0,\"\",1+(MAX(CQ$61:CQ255))))","v":""},196,0,0,0,0,0,0,0,0,0,0,""]
[0,0,197,{"$nulls":24},"",1,{"$f":"IF(AND(AP257=\"\"),\"\",IF(AP257=0,\"\",1+(MAX(AD$61:AD256))))","v":""},197,0,0,0,0,0,0,0,0,0,0,"",{"$f":"IF(AND(BC257=\"\"),\"\",IF(BC257=0,\"\",1+(MAX(AQ$61:AQ256))))","v":""},197,0,0,0,0,0,0,0,0,0,0,"",{"$f":"IF(AND(BP257=\"\"),\"\",IF(BP257=0,\"\",1+(MAX(BD$61:BD256))))","v":""},197,0,0,0,0,0,0,0,0,0,0,"",{"$f":"IF(AND(CC257=\"\"),\"\",IF(CC257=0,\"\",1+(MAX(BQ$61:BQ256))))","v":""},197,0,0,0,0,0,0,0,0,0,0,"",{"$f":"IF(AND(CP257=\"\"),\"\",IF(CP257=0,\"\",1+(MAX(CD$61:CD256))))","v":""},197,0,0,0,0,0,0,0,0,0,0,"",{"$f":"IF(AND(DC257=\"\"),\"\",IF(DC257=0,\"\",1+(MAX(CQ$61:CQ256))))","v":""},197,0,0,0,0,0,0,0,0,0,0,""]
[0,0,198,{"$nulls":24},"",1,{"$f":"IF(AND(AP258=\"\"),\"\",IF(AP258=0,\"\",1+(MAX(AD$61:AD257))))","v":""},198,0,0,0,0,0,0,0,0,0,0,"",{"$f":"IF(AND(BC258=\"\"),\"\",IF(BC258=0,\"\",1+(MAX(AQ$61:AQ257))))","v":""},198,0,0,0,0,0,0,0,0,0,0,"",{"$f":"IF(AND(BP258=\"\"),\"\",IF(BP258=0,\"\",1+(MAX(BD$61:BD257))))","v":""},198,0,0,0,0,0,0,0,0,0,0,"",{"$f":"IF(AND(CC258=\"\"),\"\",IF(CC258=0,\"\",1+(MAX(BQ$61:BQ257))))","v":""},198,0,0,0,0,0,0,0,0,0,0,"",{"$f":"IF(AND(CP258=\"\"),\"\",IF(CP258=0,\"\",1+(MAX(CD$61:CD257))))","v":""},198,0,0,0,0,0,0,0,0,0,0,"",{"$f":"IF(AND(DC258=\"\"),\"\",IF(DC258=0,\"\",1+(MAX(CQ$61:CQ257))))","v":""},198,0,0,0,0,0,0,0,0,0,0,""]
[0,0,199,{"$nulls":24},"",1,{"$f":"IF(AND(AP259=\"\"),\"\",IF(AP259=0,\"\",1+(MAX(AD$61:AD258))))","v":""},199,0,0,0,0,0,0,0,0,0,0,"",{"$f":"IF(AND(BC259=\"\"),\"\",IF(BC259=0,\"\",1+(MAX(AQ$61:AQ258))))","v":""},199,0,0,0,0,0,0,0,0,0,0,"",{"$f":"IF(AND(BP259=\"\"),\"\",IF(BP259=0,\"\",1+(MAX(BD$61:BD258))))","v":""},199,0,0,0,0,0,0,0,0,0,0,"",{"$f":"IF(AND(CC259=\"\"),\"\",IF(CC259=0,\"\",1+(MAX(BQ$61:BQ258))))","v":""},199,0,0,0,0,0,0,0,0,0,0,"",{"$f":"IF(AND(CP259=\"\"),\"\",IF(CP259=0,\"\",1+(MAX(CD$61:CD258))))","v":""},199,0,0,0,0,0,0,0,0,0,0,"",{"$f":"IF(AND(DC259=\"\"),\"\",IF(DC259=0,\"\",1+(MAX(CQ$61:CQ258))))","v":""},199,0,0,0,0,0,0,0,0,0,0,""]
[0,0,200,{"$nulls":24},"",1,{"$f":"IF(AND(AP260=\"\"),\"\",IF(AP260=0,\"\",1+(MAX(AD$61:AD259))))","v":""},200,0,0,0,0,0,0,0,0,0,0,"",{"$f":"IF(AND(BC260=\"\"),\"\",IF(BC260=0,\"\",1+(MAX(AQ$61:AQ259))))","v":""},200,0,0,0,0,0,0,0,0,0,0,"",{"$f":"IF(AND(BP260=\"\"),\"\",IF(BP260=0,\"\",1+(MAX(BD$61:BD259))))","v":""},200,0,0,0,0,0,0,0,0,0,0,"",{"$f":"IF(AND(CC260=\"\"),\"\",IF(CC260=0,\"\",1+(MAX(BQ$61:BQ259))))","v":""},200,0,0,0,0,0,0,0,0,0,0,"",{"$f":"IF(AND(CP260=\"\"),\"\",IF(CP260=0,\"\",1+(MAX(CD$61:CD259))))","v":""},200,0,0,0,0,0,0,0,0,0,0,"",{"$f":"IF(AND(DC260=\"\"),\"\",IF(DC260=0,\"\",1+(MAX(CQ$61:CQ259))))","v":""},200,0,0,0,0,0,0,0,0,0,0,""]
[0,0,201,{"$nulls":24},"",1,{"$f":"IF(AND(AP261=\"\"),\"\",IF(AP261=0,\"\",1+(MAX(AD$61:AD260))))","v":""},201,0,0,0,0,0,0,0,0,0,0,"",{"$f":"IF(AND(BC261=\"\"),\"\",IF(BC261=0,\"\",1+(MAX(AQ$61:AQ260))))","v":""},201,0,0,0,0,0,0,0,0,0,0,"",{"$f":"IF(AND(BP261=\"\"),\"\",IF(BP261=0,\"\",1+(MAX(BD$61:BD260))))","v":""},201,{"$f":"IF($M261=\"GAZETTED - FIX PAY\",D261,0)","v":0},{"$f":"IF($M261=\"GAZETTED - FIX PAY\",E261,0)","v":0},{"$f":"IF($M261=\"GAZETTED - FIX PAY\",F261,0)","v":0},{"$f":"IF($M261=\"GAZETTED - FIX PAY\",G261,0)","v":0},{"$f":"IF($M261=\"GAZETTED - FIX PAY\",H261,0)","v":0},{"$f":"IF($M261=\"GAZETTED - FIX PAY\",I261,0)","v":0},{"$f":"IF($M261=\"GAZETTED - FIX PAY\",J261,0)","v":0},{"$f":"IF($M261=\"GAZETTED - FIX PAY\",K261,0)","v":0},{"$f":"IF($M261=\"GAZETTED - FIX PAY\",L261,0)","v":0},0,"",{"$f":"IF(AND(CC261=\"\"),\"\",IF(CC261=0,\"\",1+(MAX(BQ$61:BQ260))))","v":""},201,{"$f":"IF($M261=\"NON GAZETTED - FIX PAY\",D261,0)","v":0},{"$f":"IF($M261=\"NON GAZETTED - FIX PAY\",E261,0)","v":0},{"$f":"IF($M261=\"NON GAZETTED - FIX PAY\",F261,0)","v":0},{"$f":"IF($M261=\"NON GAZETTED - FIX PAY\",G261,0)","v":0},{"$f":"IF($M261=\"NON GAZETTED - FIX PAY\",H261,0)","v":0},{"$f":"IF($M261=\"NON GAZETTED - FIX PAY\",I261,0)","v":0},{"$f":"IF($M261=\"NON GAZETTED - FIX PAY\",J261,0)","v":0},{"$f":"IF($M261=\"NON GAZETTED - FIX PAY\",K261,0)","v":0},{"$f":"IF($M261=\"NON GAZETTED - FIX PAY\",L261,0)","v":0},0,"",{"$f":"IF(AND(CP261=\"\"),\"\",IF(CP261=0,\"\",1+(MAX(CD$61:CD260))))","v":""},201,0,0,0,0,0,0,0,0,0,0,"",{"$f":"IF(AND(DC261=\"\"),\"\",IF(DC261=0,\"\",1+(MAX(CQ$61:CQ260))))","v":""},201,0,0,0,0,0,0,0,0,0,0,""]
[0,0,202,{"$nulls":24},"",1,{"$f":"IF(AND(AP262=\"\"),\"\",IF(AP262=0,\"\",1+(MAX(AD$61:AD261))))","v":""},202,0,0,0,0,0,0,0,0,0,0,"",{"$f":"IF(AND(BC262=\"\"),\"\",IF(BC262=0,\"\",1+(MAX(AQ$61:AQ261))))","v":""},202,0,0,0,0,0,0,0,0,0,0,"",{"$f":"IF(AND(BP262=\"\"),\"\",IF(BP262=0,\"\",1+(MAX(BD$61:BD261))))","v":""},202,0,0,0,0,0,0,0,0,0,0,"",{"$f":"IF(AND(CC262=\"\"),\"\",IF(CC262=0,\"\",1+(MAX(BQ$61:BQ261))))","v":""},202,0,0,0,0,0,0,0,0,0,0,"",{"$f":"IF(AND(CP262=\"\"),\"\",IF(CP262=0,\"\",1+(MAX(CD$61:CD261))))","v":""},202,0,0,0,0,0,0,0,0,0,0,"",{"$f":"IF(AND(DC262=\"\"),\"\",IF(DC262=0,\"\",1+(MAX(CQ$61:CQ261))))","v":""},202,0,0,0,0,0,0,0,0,0,0,""]
[0,0,203,{"$nulls":24},"",1,{"$f":"IF(AND(AP263=\"\"),\"\",IF(AP263=0,\"\",1+(MAX(AD$61:AD262))))","v":""},203,0,0,0,0,0,0,0,0,0,0,"",{"$f":"IF(AND(BC263=\"\"),\"\",IF(BC263=0,\"\",1+(MAX(AQ$61:AQ262))))","v":""},203,0,0,0,0,0,0,0,0,0,0,"",{"$f":"IF(AND(BP263=\"\"),\"\",IF(BP263=0,\"\",1+(MAX(BD$61:BD262))))","v":""},203,0,0,0,0,0,0,0,0,0,0,"",{"$f":"IF(AND(CC263=\"\"),\"\",IF(CC263=0,\"\",1+(MAX(BQ$61:BQ262))))","v":""},203,0,0,0,0,0,0,0,0,0,0,"",{"$f":"IF(AND(CP263=\"\"),\"\",IF(CP263=0,\"\",1+(MAX(CD$61:CD262))))","v":""},203,0,0,0,0,0,0,0,0,0,0,"",{"$f":"IF(AND(DC263=\"\"),\"\",IF(DC263=0,\"\",1+(MAX(CQ$61:CQ262))))","v":""},203,0,0,0,0,0,0,0,0,0,0,""]
[0,0,204,{"$nulls":24},"",1,{"$f":"IF(AND(AP264=\"\"),\"\",IF(AP264=0,\"\",1+(MAX(AD$61:AD263))))","v":""},204,0,0,0,0,0,0,0,0,0,0,"",{"$f":"IF(AND(BC264=\"\"),\"\",IF(BC264=0,\"\",1+(MAX(AQ$61:AQ263))))","v":""},204,0,0,0,0,0,0,0,0,0,0,"",{"$f":"IF(AND(BP264=\"\"),\"\",IF(BP264=0,\"\",1+(MAX(BD$61:BD263))))","v":""},204,0,0,0,0,0,0,0,0,0,0,"",{"$f":"IF(AND(CC264=\"\"),\"\",IF(CC264=0,\"\",1+(MAX(BQ$61:BQ263))))","v":""},204,0,0,0,0,0,0,0,0,0,0,"",{"$f":"IF(AND(CP264=\"\"),\"\",IF(CP264=0,\"\",1+(MAX(CD$61:CD263))))","v":""},204,0,0,0,0,0,0,0,0,0,0,"",{"$f":"IF(AND(DC264=\"\"),\"\",IF(DC264=0,\"\",1+(MAX(CQ$61:CQ263))))","v":""},204,0,0,0,0,0,0,0,0,0,0,""]
[0,0,205,{"$nulls":24},"",1,{"$f":"IF(AND(AP265=\"\"),\"\",IF(AP265=0,\"\",1+(MAX(AD$61:AD264))))","v":""},205,0,0,0,0,0,0,0,0,0,0,"",{"$f":"IF(AND(BC265=\"\"),\"\",IF(BC265=0,\"\",1+(MAX(AQ$61:AQ264))))","v":""},205,0,0,0,0,0,0,0,0,0,0,"",{"$f":"IF(AND(BP265=\"\"),\"\",IF(BP265=0,\"\",1+(MAX(BD$61:BD264))))","v":""},205,0,0,0,0,0,0,0,0,0,0,"",{"$f":"IF(AND(CC265=\"\"),\"\",IF(CC265=0,\"\",1+(MAX(BQ$61:BQ264))))","v":""},205,0,0,0,0,0,0,0,0,0,0,"",{"$f":"IF(AND(CP265=\"\"),\"\",IF(CP265=0,\"\",1+(MAX(CD$61:CD264))))","v":""},205,0,0,0,0,0,0,0,0,0,0,"",{"$f":"IF(AND(DC265=\"\"),\"\",IF(DC265=0,\"\",1+(MAX(CQ$61:CQ264))))","v":""},205,0,0,0,0,0,0,0,0,0,0,""]
[0,0,206,{"$nulls":24},"",1,{"$f":"IF(AND(AP266=\"\"),\"\",IF(AP266=0,\"\",1+(MAX(AD$61:AD265))))","v":""},206,0,0,0,0,0,0,0,0,0,0,"",{"$f":"IF(AND(BC266=\"\"),\"\",IF(BC266=0,\"\",1+(MAX(AQ$61:AQ265))))","v":""},206,0,0,0,0,0,0,0,0,0,0,"",{"$f":"IF(AND(BP266=\"\"),\"\",IF(BP266=0,\"\",1+(MAX(BD$61:BD265))))","v":""},206,0,0,0,0,0,0,0,0,0,0,"",{"$f":"IF(AND(CC266=\"\"),\"\",IF(CC266=0,\"\",1+(MAX(BQ$61:BQ265))))","v":""},206,0,0,0,0,0,0,0,0,0,0,"",{"$f":"IF(AND(CP266=\"\"),\"\",IF(CP266=0,\"\",1+(MAX(CD$61:CD265))))","v":""},206,0,0,0,0,0,0,0,0,0,0,"",{"$f":"IF(AND(DC266=\"\"),\"\",IF(DC266=0,\"\",1+(MAX(CQ$61:CQ265))))","v":""},206,0,0,0,0,0,0,0,0,0,0,""]
[0,0,207,{"$nulls":24},"",1,{"$f":"IF(AND(AP267=\"\"),\"\",IF(AP267=0,\"\",1+(MAX(AD$61:AD266))))","v":""},207,0,0,0,0,0,0,0,0,0,0,"",{"$f":"IF(AND(BC267=\"\"),\"\",IF(BC267=0,\"\",1+(MAX(AQ$61:AQ266))))","v":""},207,0,0,0,0,0,0,0,0,0,0,"",{"$f":"IF(AND(BP267=\"\"),\"\",IF(BP267=0,\"\",1+(MAX(BD$61:BD266))))","v":""},207,0,0,0,0,0,0,0,0,0,0,"",{"$f":"IF(AND(CC267=\"\"),\"\",IF(CC267=0,\"\",1+(MAX(BQ$61:BQ266))))","v":""},207,0,0,0,0,0,0,0,0,0,0,"",{"$f":"IF(AND(CP267=\"\"),\"\",IF(CP267=0,\"\",1+(MAX(CD$61:CD266))))","v":""},207,0,0,0,0,0,0,0,0,0,0,"",{"$f":"IF(AND(DC267=\"\"),\"\",IF(DC267=0,\"\",1+(MAX(CQ$61:CQ266))))","v":""},207,0,0,0,0,0,0,0,0,0,0,""]
[0,0,208,{"$nulls":24},"",1,{"$f":"IF(AND(AP268=\"\"),\"\",IF(AP268=0,\"\",1+(MAX(AD$61:AD267))))","v":""},208,0,0,0,0,0,0,0,0,0,0,"",{"$f":"IF(AND(BC268=\"\"),\"\",IF(BC268=0,\"\",1+(MAX(AQ$61:AQ267))))","v":""},208,0,0,0,0,0,0,0,0,0,0,"",{"$f":"IF(AND(BP268=\"\"),\"\",IF(BP268=0,\"\",1+(MAX(BD$61:BD267))))","v":""},208,0,0,0,0,0,0,0,0,0,0,"",{"$f":"IF(AND(CC268=\"\"),\"\",IF(CC268=0,\"\",1+(MAX(BQ$61:BQ267))))","v":""},208,0,0,0,0,0,0,0,0,0,0,"",{"$f":"IF(AND(CP268=\"\"),\"\",IF(CP268=0,\"\",1+(MAX(CD$61:CD267))))","v":""},208,0,0,0,0,0,0,0,0,0,0,"",{"$f":"IF(AND(DC268=\"\"),\"\",IF(DC268=0,\"\",1+(MAX(CQ$61:CQ267))))","v":""},208,0,0,0,0,0,0,0,0,0,0,""]
[0,0,209,{"$nulls":24},"",1,{"$f":"IF(AND(AP269=\"\"),\"\",IF(AP269=0,\"\",1+(MAX(AD$61:AD268))))","v":""},209,0,0,0,0,0,0,0,0,0,0,"",{"$f":"IF(AND(BC269=\"\"),\"\",IF(BC269=0,\"\",1+(MAX(AQ$61:AQ268))))","v":""},209,0,0,0,0,0,0,0,0,0,0,"",{"$f":"IF(AND(BP269=\"\"),\"\",IF(BP269=0,\"\",1+(MAX(BD$61:BD268))))","v":""},209,0,0,0,0,0,0,0,0,0,0,"",{"$f":"IF(AND(CC269=\"\"),\"\",IF(CC269=0,\"\",1+(MAX(BQ$61:BQ268))))","v":""},209,0,0,0,0,0,0,0,0,0,0,"",{"$f":"IF(AND(CP269=\"\"),\"\",IF(CP269=0,\"\",1+(MAX(CD$61:CD268))))","v":""},209,0,0,0,0,0,0,0,0,0,0,"",{"$f":"IF(AND(DC269=\"\"),\"\",IF(DC269=0,\"\",1+(MAX(CQ$61:CQ268))))","v":""},209,0,0,0,0,0,0,0,0,0,0,""]
[0,0,210,{"$nulls":24},"",1,{"$f":"IF(AND(AP270=\"\"),\"\",IF(AP270=0,\"\",1+(MAX(AD$61:AD269))))","v":""},210,0,0,0,0,0,0,0,0,0,0,"",{"$f":"IF(AND(BC270=\"\"),\"\",IF(BC270=0,\"\",1+(MAX(AQ$61:AQ269))))","v":""},210,0,0,0,0,0,0,0,0,0,0,"",{"$f":"IF(AND(BP270=\"\"),\"\",IF(BP270=0,\"\",1+(MAX(BD$61:BD269))))","v":""},210,0,0,0,0,0,0,0,0,0,0,"",{"$f":"IF(AND(CC270=\"\"),\"\",IF(CC270=0,\"\",1+(MAX(BQ$61:BQ269))))","v":""},210,0,0,0,0,0,0,0,0,0,0,"",{"$f":"IF(AND(CP270=\"\"),\"\",IF(CP270=0,\"\",1+(MAX(CD$61:CD269))))","v":""},210,0,0,0,0,0,0,0,0,0,0,"",{"$f":"IF(AND(DC270=\"\"),\"\",IF(DC270=0,\"\",1+(MAX(CQ$61:CQ269))))","v":""},210,0,0,0,0,0,0,0,0,0,0,""]
[0,0,211,{"$nulls":24},"",1,{"$f":"IF(AND(AP271=\"\"),\"\",IF(AP271=0,\"\",1+(MAX(AD$61:AD270))))","v":""},211,0,0,0,0,0,0,0,0,0,0,"",{"$f":"IF(AND(BC271=\"\"),\"\",IF(BC271=0,\"\",1+(MAX(AQ$61:AQ270))))","v":""},211,0,0,0,0,0,0,0,0,0,0,"",{"$f":"IF(AND(BP271=\"\"),\"\",IF(BP271=0,\"\",1+(MAX(BD$61:BD270))))","v":""},211,0,0,0,0,0,0,0,0,0,0,"",{"$f":"IF(AND(CC271=\"\"),\"\",IF(CC271=0,\"\",1+(MAX(BQ$61:BQ270))))","v":""},211,0,0,0,0,0,0,0,0,0,0,"",{"$f":"IF(AND(CP271=\"\"),\"\",IF(CP271=0,\"\",1+(MAX(CD$61:CD270))))","v":""},211,0,0,0,0,0,0,0,0,0,0,"",{"$f":"IF(AND(DC271=\"\"),\"\",IF(DC271=0,\"\",1+(MAX(CQ$61:CQ270))))","v":""},211,0,0,0,0,0,0,0,0,0,0,""]
[0,0,212,{"$nulls":24},"",1,{"$f":"IF(AND(AP272=\"\"),\"\",IF(AP272=0,\"\",1+(MAX(AD$61:AD271))))","v":""},212,0,0,0,0,0,0,0,0,0,0,"",{"$f":"IF(AND(BC272=\"\"),\"\",IF(BC272=0,\"\",1+(MAX(AQ$61:AQ271))))","v":""},212,0,0,0,0,0,0,0,0,0,0,"",{"$f":"IF(AND(BP272=\"\"),\"\",IF(BP272=0,\"\",1+(MAX(BD$61:BD271))))","v":""},212,0,0,0,0,0,0,0,0,0,0,"",{"$f":"IF(AND(CC272=\"\"),\"\",IF(CC272=0,\"\",1+(MAX(BQ$61:BQ271))))","v":""},212,0,0,0,0,0,0,0,0,0,0,"",{"$f":"IF(AND(CP272=\"\"),\"\",IF(CP272=0,\"\",1+(MAX(CD$61:CD271))))","v":""},212,0,0,0,0,0,0,0,0,0,0,"",{"$f":"IF(AND(DC272=\"\"),\"\",IF(DC272=0,\"\",1+(MAX(CQ$61:CQ271))))","v":""},212,0,0,0,0,0,0,0,0,0,0,""]
[0,0,213,{"$nulls":24},"",1,{"$f":"IF(AND(AP273=\"\"),\"\",IF(AP273=0,\"\",1+(MAX(AD$61:AD272))))","v":""},213,0,0,0,0,0,0,0,0,0,0,"",{"$f":"IF(AND(BC273=\"\"),\"\",IF(BC273=0,\"\",1+(MAX(AQ$61:AQ272))))","v":""},213,0,0,0,0,0,0,0,0,0,0,"",{"$f":"IF(AND(BP273=\"\"),\"\",IF(BP273=0,\"\",1+(MAX(BD$61:BD272))))","v":""},213,0,0,0,0,0,0,0,0,0,0,"",{"$f":"IF(AND(CC273=\"\"),\"\",IF(CC273=0,\"\",1+(MAX(BQ$61:BQ272))))","v":""},213,0,0,0,0,0,0,0,0,0,0,"",{"$f":"IF(AND(CP273=\"\"),\"\",IF(CP273=0,\"\",1+(MAX(CD$61:CD272))))","v":""},213,0,0,0,0,0,0,0,0,0,0,"",{"$f":"IF(AND(DC273=\"\"),\"\",IF(DC273=0,\"\",1+(MAX(CQ$61:CQ272))))","v":""},213,0,0,0,0,0,0,0,0,0,0,""]
[0,0,214,{"$nulls":24},"",1,{"$f":"IF(AND(AP274=\"\"),\"\",IF(AP274=0,\"\",1+(MAX(AD$61:AD273))))","v":""},214,0,0,0,0,0,0,0,0,0,0,"",{"$f":"IF(AND(BC274=\"\"),\"\",IF(BC274=0,\"\",1+(MAX(AQ$61:AQ273))))","v":""},214,0,0,0,0,0,0,0,0,0,0,"",{"$f":"IF(AND(BP274=\"\"),\"\",IF(BP274=0,\"\",1+(MAX(BD$61:BD273))))","v":""},214,0,0,0,0,0,0,0,0,0,0,"",{"$f":"IF(AND(CC274=\"\"),\"\",IF(CC274=0,\"\",1+(MAX(BQ$61:BQ273))))","v":""},214,0,0,0,0,0,0,0,0,0,0,"",{"$f":"IF(AND(CP274=\"\"),\"\",IF(CP274=0,\"\",1+(MAX(CD$61:CD273))))","v":""},214,0,0,0,0,0,0,0,0,0,0,"",{"$f":"IF(AND(DC274=\"\"),\"\",IF(DC274=0,\"\",1+(MAX(CQ$61:CQ273))))","v":""},214,0,0,0,0,0,0,0,0,0,0,""]
[0,0,215,{"$nulls":24},"",1,{"$f":"IF(AND(AP275=\"\"),\"\",IF(AP275=0,\"\",1+(MAX(AD$61:AD274))))","v":""},215,0,0,0,0,0,0,0,0,0,0,"",{"$f":"IF(AND(BC275=\"\"),\"\",IF(BC275=0,\"\",1+(MAX(AQ$61:AQ274))))","v":""},215,0,0,0,0,0,0,0,0,0,0,"",{"$f":"IF(AND(BP275=\"\"),\"\",IF(BP275=0,\"\",1+(MAX(BD$61:BD274))))","v":""},215,0,0,0,0,0,0,0,0,0,0,"",{"$f":"IF(AND(CC275=\"\"),\"\",IF(CC275=0,\"\",1+(MAX(BQ$61:BQ274))))","v":""},215,0,0,0,0,0,0,0,0,0,0,"",{"$f":"IF(AND(CP275=\"\"),\"\",IF(CP275=0,\"\",1+(MAX(CD$61:CD274))))","v":""},215,0,0,0,0,0,0,0,0,0,0,"",{"$f":"IF(AND(DC275=\"\"),\"\",IF(DC275=0,\"\",1+(MAX(CQ$61:CQ274))))","v":""},215,0,0,0,0,0,0,0,0,0,0,""]
[0,0,216,{"$nulls":24},"",1,{"$f":"IF(AND(AP276=\"\"),\"\",IF(AP276=0,\"\",1+(MAX(AD$61:AD275))))","v":""},216,0,0,0,0,0,0,0,0,0,0,"",{"$f":"IF(AND(BC276=\"\"),\"\",IF(BC276=0,\"\",1+(MAX(AQ$61:AQ275))))","v":""},216,0,0,0,0,0,0,0,0,0,0,"",{"$f":"IF(AND(BP276=\"\"),\"\",IF(BP276=0,\"\",1+(MAX(BD$61:BD275))))","v":""},216,0,0,0,0,0,0,0,0,0,0,"",{"$f":"IF(AND(CC276=\"\"),\"\",IF(CC276=0,\"\",1+(MAX(BQ$61:BQ275))))","v":""},216,0,0,0,0,0,0,0,0,0,0,"",{"$f":"IF(AND(CP276=\"\"),\"\",IF(CP276=0,\"\",1+(MAX(CD$61:CD275))))","v":""},216,0,0,0,0,0,0,0,0,0,0,"",{"$f":"IF(AND(DC276=\"\"),\"\",IF(DC276=0,\"\",1+(MAX(CQ$61:CQ275))))","v":""},216,0,0,0,0,0,0,0,0,0,0,""]
[0,0,217,{"$nulls":24},"",1,{"$f":"IF(AND(AP277=\"\"),\"\",IF(AP277=0,\"\",1+(MAX(AD$61:AD276))))","v":""},217,0,0,0,0,0,0,0,0,0,0,"",{"$f":"IF(AND(BC277=\"\"),\"\",IF(BC277=0,\"\",1+(MAX(AQ$61:AQ276))))","v":""},217,0,0,0,0,0,0,0,0,0,0,"",{"$f":"IF(AND(BP277=\"\"),\"\",IF(BP277=0,\"\",1+(MAX(BD$61:BD276))))","v":""},217,0,0,0,0,0,0,0,0,0,0,"",{"$f":"IF(AND(CC277=\"\"),\"\",IF(CC277=0,\"\",1+(MAX(BQ$61:BQ276))))","v":""},217,0,0,0,0,0,0,0,0,0,0,"",{"$f":"IF(AND(CP277=\"\"),\"\",IF(CP277=0,\"\",1+(MAX(CD$61:CD276))))","v":""},217,0,0,0,0,0,0,0,0,0,0,"",{"$f":"IF(AND(DC277=\"\"),\"\",IF(DC277=0,\"\",1+(MAX(CQ$61:CQ276))))","v":""},217,0,0,0,0,0,0,0,0,0,0,""]
[0,0,218,{"$nulls":24},{"$f":"MID(H278,5,4)","v":""},1,{"$f":"IF(AND(AP278=\"\"),\"\",IF(AP278=0,\"\",1+(MAX(AD$61:AD277))))","v":""},218,0,0,0,0,0,0,0,0,0,0,"",{"$f":"IF(AND(BC278=\"\"),\"\",IF(BC278=0,\"\",1+(MAX(AQ$61:AQ277))))","v":""},218,0,0,0,0,0,0,0,0,0,0,"",{"$f":"IF(AND(BP278=\"\"),\"\",IF(BP278=0,\"\",1+(MAX(BD$61:BD277))))","v":""},218,0,0,0,0,0,0,0,0,0,0,"",{"$f":"IF(AND(CC278=\"\"),\"\",IF(CC278=0,\"\",1+(MAX(BQ$61:BQ277))))","v":""},218,0,0,0,0,0,0,0,0,0,0,"",{"$f":"IF(AND(CP278=\"\"),\"\",IF(CP278=0,\"\",1+(MAX(CD$61:CD277))))","v":""},218,0,0,0,0,0,0,0,0,0,0,"",{"$f":"IF(AND(DC278=\"\"),\"\",IF(DC278=0,\"\",1+(MAX(CQ$61:CQ277))))","v":""},218,0,0,0,0,0,0,0,0,0,0,""]
[0,0,219,{"$nulls":24},{"$f":"MID(H279,5,4)","v":""},1,{"$f":"IF(AND(AP279=\"\"),\"\",IF(AP279=0,\"\",1+(MAX(AD$61:AD278))))","v":""},219,{"$f":"IF($M279=\"GAZETTED - REGULAR\",D279,0)","v":0},0,0,0,0,0,0,0,0,{"$f":"IF($M279=\"GAZETTED - REGULAR\",M279,0)","v":0},"",{"$f":"IF(AND(BC279=\"\"),\"\",IF(BC279=0,\"\",1+(MAX(AQ$61:AQ278))))","v":""},219,0,0,0,0,0,0,0,0,0,{"$f":"IF($M279=\"NON GAZETTED - REGULAR\",M279,0)","v":0},"",{"$f":"IF(AND(BP279=\"\"),\"\",IF(BP279=0,\"\",1+(MAX(BD$61:BD278))))","v":""},219,0,0,0,0,0,0,0,0,0,{"$f":"IF($M279=\"GAZETTED - FIX PAY\",M279,0)","v":0},"",{"$f":"IF(AND(CC279=\"\"),\"\",IF(CC279=0,\"\",1+(MAX(BQ$61:BQ278))))","v":""},219,0,0,0,0,0,0,0,0,0,{"$f":"IF($M279=\"NON GAZETTED - FIX PAY\",M279,0)","v":0},"",{"$f":"IF(AND(CP279=\"\"),\"\",IF(CP279=0,\"\",1+(MAX(CD$61:CD278))))","v":""},219,{"$f":"IF($M279=\"GAZETTED - SANVIDA\",D279,0)","v":0},0,0,0,0,0,0,0,0,0,"",{"$f":"IF(AND(DC279=\"\"),\"\",IF(DC279=0,\"\",1+(MAX(CQ$61:CQ278))))","v":""},219,0,{"$f":"IF($M279=\"NON GAZETTED - SANVIDA\",E279,0)","v":0},0,0,0,0,0,0,0,0,""]
[0,0,220,{"$nulls":24},"",1,{"$f":"IF(AND(AP280=\"\"),\"\",IF(AP280=0,\"\",1+(MAX(AD$61:AD279))))","v":""},220,0,0,0,0,0,0,0,0,{"$f":"IF($M280=\"GAZETTED - REGULAR\",L280,0)","v":0},0,"",{"$f":"IF(AND(BC280=\"\"),\"\",IF(BC280=0,\"\",1+(MAX(AQ$61:AQ279))))","v":""},220,0,0,0,0,0,0,0,0,0,0,"",{"$f":"IF(AND(BP280=\"\"),\"\",IF(BP280=0,\"\",1+(MAX(BD$61:BD279))))","v":""},220,0,0,0,0,0,0,0,0,0,0,"",{"$f":"IF(AND(CC280=\"\"),\"\",IF(CC280=0,\"\",1+(MAX(BQ$61:BQ279))))","v":""},220,0,0,0,0,0,0,0,0,0,0,"",{"$f":"IF(AND(CP280=\"\"),\"\",IF(CP280=0,\"\",1+(MAX(CD$61:CD279))))","v":""},220,0,0,0,0,0,0,0,0,0,0,"",{"$f":"IF(AND(DC280=\"\"),\"\",IF(DC280=0,\"\",1+(MAX(CQ$61:CQ279))))","v":""},220,0,0,0,0,0,0,0,0,0,0,""]
[0,0,221,{"$nulls":24},"",1,{"$f":"IF(AND(AP281=\"\"),\"\",IF(AP281=0,\"\",1+(MAX(AD$61:AD280))))","v":""},221,0,0,0,0,0,0,0,0,0,0,"",{"$f":"IF(AND(BC281=\"\"),\"\",IF(BC281=0,\"\",1+(MAX(AQ$61:AQ280))))","v":""},221,0,0,0,0,0,0,0,0,0,0,"",{"$f":"IF(AND(BP281=\"\"),\"\",IF(BP281=0,\"\",1+(MAX(BD$61:BD280))))","v":""},221,0,0,0,0,0,0,0,0,0,0,"",{"$f":"IF(AND(CC281=\"\"),\"\",IF(CC281=0,\"\",1+(MAX(BQ$61:BQ280))))","v":""},221,0,0,0,0,0,0,0,0,0,0,"",{"$f":"IF(AND(CP281=\"\"),\"\",IF(CP281=0,\"\",1+(MAX(CD$61:CD280))))","v":""},221,0,0,0,0,0,0,0,0,0,0,"",{"$f":"IF(AND(DC281=\"\"),\"\",IF(DC281=0,\"\",1+(MAX(CQ$61:CQ280))))","v":""},221,0,0,0,0,0,0,0,0,0,0,""]
[0,0,222,{"$nulls":24},"",1,{"$f":"IF(AND(AP282=\"\"),\"\",IF(AP282=0,\"\",1+(MAX(AD$61:AD281))))","v":""},222,0,0,0,0,0,0,0,0,0,0,"",{"$f":"IF(AND(BC282=\"\"),\"\",IF(BC282=0,\"\",1+(MAX(AQ$61:AQ281))))","v":""},222,0,0,0,0,0,0,0,0,0,0,"",{"$f":"IF(AND(BP282=\"\"),\"\",IF(BP282=0,\"\",1+(MAX(BD$61:BD281))))","v":""},222,0,0,0,0,0,0,0,0,0,0,"",{"$f":"IF(AND(CC282=\"\"),\"\",IF(CC282=0,\"\",1+(MAX(BQ$61:BQ281))))","v":""},222,0,0,0,0,0,0,0,0,0,0,"",{"$f":"IF(AND(CP282=\"\"),\"\",IF(CP282=0,\"\",1+(MAX(CD$61:CD281))))","v":""},222,0,0,0,0,0,0,0,0,0,0,"",{"$f":"IF(AND(DC282=\"\"),\"\",IF(DC282=0,\"\",1+(MAX(CQ$61:CQ281))))","v":""},222,0,0,0,0,0,0,0,0,0,0,""]
[0,0,223,{"$nulls":24},"",1,{"$f":"IF(AND(AP283=\"\"),\"\",IF(AP283=0,\"\",1+(MAX(AD$61:AD282))))","v":""},223,0,0,0,0,0,0,0,0,0,0,"",{"$f":"IF(AND(BC283=\"\"),\"\",IF(BC283=0,\"\",1+(MAX(AQ$61:AQ282))))","v":""},223,0,0,0,0,0,0,0,0,0,0,"",{"$f":"IF(AND(BP283=\"\"),\"\",IF(BP283=0,\"\",1+(MAX(BD$61:BD282))))","v":""},223,0,0,0,0,0,0,0,0,0,0,"",{"$f":"IF(AND(CC283=\"\"),\"\",IF(CC283=0,\"\",1+(MAX(BQ$61:BQ282))))","v":""},223,0,0,0,0,0,0,0,0,0,0,"",{"$f":"IF(AND(CP283=\"\"),\"\",IF(CP283=0,\"\",1+(MAX(CD$61:CD282))))","v":""},223,0,0,0,0,0,0,0,0,0,0,"",{"$f":"IF(AND(DC283=\"\"),\"\",IF(DC283=0,\"\",1+(MAX(CQ$61:CQ282))))","v":""},223,0,0,0,0,0,0,0,0,0,0,""]
[0,0,224,{"$nulls":24},"",1,{"$f":"IF(AND(AP284=\"\"),\"\",IF(AP284=0,\"\",1+(MAX(AD$61:AD283))))","v":""},224,0,0,0,0,0,0,0,0,0,0,"",{"$f":"IF(AND(BC284=\"\"),\"\",IF(BC284=0,\"\",1+(MAX(AQ$61:AQ283))))","v":""},224,0,0,0,0,0,0,0,0,0,0,"",{"$f":"IF(AND(BP284=\"\"),\"\",IF(BP284=0,\"\",1+(MAX(BD$61:BD283))))","v":""},224,0,0,0,0,0,0,0,0,0,0,"",{"$f":"IF(AND(CC284=\"\"),\"\",IF(CC284=0,\"\",1+(MAX(BQ$61:BQ283))))","v":""},224,0,0,0,0,0,0,0,0,0,0,"",{"$f":"IF(AND(CP284=\"\"),\"\",IF(CP284=0,\"\",1+(MAX(CD$61:CD283))))","v":""},224,0,0,0,0,0,0,0,0,0,0,"",{"$f":"IF(AND(DC284=\"\"),\"\",IF(DC284=0,\"\",1+(MAX(CQ$61:CQ283))))","v":""},224,0,0,0,0,0,0,0,0,0,0,""]
[0,0,225,{"$nulls":24},"",1,{"$f":"IF(AND(AP285=\"\"),\"\",IF(AP285=0,\"\",1+(MAX(AD$61:AD284))))","v":""},225,0,0,0,0,0,0,0,0,0,0,"",{"$f":"IF(AND(BC285=\"\"),\"\",IF(BC285=0,\"\",1+(MAX(AQ$61:AQ284))))","v":""},225,0,0,0,0,0,0,0,0,0,0,"",{"$f":"IF(AND(BP285=\"\"),\"\",IF(BP285=0,\"\",1+(MAX(BD$61:BD284))))","v":""},225,0,0,0,0,0,0,0,0,0,0,"",{"$f":"IF(AND(CC285=\"\"),\"\",IF(CC285=0,\"\",1+(MAX(BQ$61:BQ284))))","v":""},225,0,0,0,0,0,0,0,0,0,0,"",{"$f":"IF(AND(CP285=\"\"),\"\",IF(CP285=0,\"\",1+(MAX(CD$61:CD284))))","v":""},225,0,0,0,0,0,0,0,0,0,0,"",{"$f":"IF(AND(DC285=\"\"),\"\",IF(DC285=0,\"\",1+(MAX(CQ$61:CQ284))))","v":""},225,0,0,0,0,0,0,0,0,0,0,""]
[0,0,226,{"$nulls":24},"",1,{"$f":"IF(AND(AP286=\"\"),\"\",IF(AP286=0,\"\",1+(MAX(AD$61:AD285))))","v":""},226,0,0,0,0,0,0,0,0,0,0,"",{"$f":"IF(AND(BC286=\"\"),\"\",IF(BC286=0,\"\",1+(MAX(AQ$61:AQ285))))","v":""},226,0,0,0,0,0,0,0,0,0,0,"",{"$f":"IF(AND(BP286=\"\"),\"\",IF(BP286=0,\"\",1+(MAX(BD$61:BD285))))","v":""},226,0,0,0,0,0,0,0,0,0,0,"",{"$f":"IF(AND(CC286=\"\"),\"\",IF(CC286=0,\"\",1+(MAX(BQ$61:BQ285))))","v":""},226,0,0,0,0,0,0,0,0,0,0,"",{"$f":"IF(AND(CP286=\"\"),\"\",IF(CP286=0,\"\",1+(MAX(CD$61:CD285))))","v":""},226,0,0,0,0,0,0,0,0,0,0,"",{"$f":"IF(AND(DC286=\"\"),\"\",IF(DC286=0,\"\",1+(MAX(CQ$61:CQ285))))","v":""},226,0,0,0,0,0,0,0,0,0,0,""]
[null,null,"dk;kZy;@fo|ky; esa dk;Zjr@LFkkukUrfjr@lsokfuo`r deZpkfj;ksa isafMax ;k=k HkRrk ds O;; vkadMksa dh uhps izfof\"B djsa A",{"$nulls":24},{"$f":"MID(H287,5,4)","v":""},{"$nulls":68},{"$f":"IF($M287=\"NON GAZETTED - SANVIDA\",D287,0)","v":0},0,0,0,0,0,0,0,0,0,""]
[null,null,"Ø-la-","deZpkjh dk uke","in","inLFkkiu LFkku","UP TO","FY","FY","FY","FY","FY","TOTAL"]
[{"$nulls":6},"2021-03-31","2021-22","2022-23","2023-24","2024-25","2025-26"]
[null,null,1,{"$nulls":9},{"$f":"SUM(G290:L290)","v":0}]
[null,null,2,{"$nulls":9},{"$f":"SUM(G291:L291)","v":0}]
[null,null,3,{"$nulls":9},0]
[null,null,4,{"$nulls":9},0]
[null,null,5,{"$nulls":9},0]
[null,null,6,{"$nulls":9},0]
[null,null,7,{"$nulls":9},0]
[null,null,8,{"$nulls":9},0]
[null,null,9,{"$nulls":9},0]
[null,null,10,{"$nulls":9},0]
[null,null,11,{"$nulls":9},0]
[null,null,12,{"$nulls":9},0]
[null,null,13,{"$nulls":9},0]
[null,null,14,{"$nulls":9},0]
[null,null,15,{"$nulls":9},0]
[null,null,16,{"$nulls":9},0]
[null,null,17,{"$nulls":9},0]
[null,null,18,{"$nulls":9},0]
[null,null,19,{"$nulls":9},0]
[null,null,20,{"$nulls":9},0]
[null,null,21,{"$nulls":9},0]
[null,null,22,{"$nulls":9},0]
[null,null,23,{"$nulls":9},0]
[null,null,24,{"$nulls":9},0]
[null,null,25,{"$nulls":9},0]
[null,null,26,{"$nulls":9},0]
[null,null,27,{"$nulls":9},0]
[null,null,28,{"$nulls":9},0]
[null,null,29,{"$nulls":9},0]
[null,null,30,{"$nulls":9},0]
[null,null,31,{"$nulls":9},0]
[null,null,32,{"$nulls":9},0]
[null,null,33,{"$nulls":9},0]
[null,null,34,{"$nulls":9},0]
[null,null,35,{"$nulls":9},0]
[null,null,36,{"$nulls":9},0]
[null,null,37,{"$nulls":9},0]
[null,null,38,{"$nulls":9},0]
[null,null,39,{"$nulls":9},0]
[null,null,40,{"$nulls":9},0]
[{"$nulls":3},"dqy ;ksx",null,null,{"$f":"SUM(G290:G305)","v":0},{"$f":"SUM(H290:H305)","v":0},{"$f":"SUM(I290:I305)","v":0},{"$f":"SUM(J290:J305)","v":0},{"$f":"SUM(K290:K305)","v":0},{"$f":"SUM(L290:L329)","v":0},{"$f":"SUM(G330:L330)","v":0}]
[null,null,"dk;kZy;@fo|ky; esa dk;Zjr@LFkkukUrfjr@lsokfuo`r deZpkfj;ksa isafMax fpfdRlk O;; ds vkadMksa dh uhps izfof\"B djsa A"]
[null,null,"Ø-la-","deZpkjh dk uke","in","inLFkkiu LFkku","UP TO","FY","FY","FY","FY","FY","TOTAL"]
[{"$nulls":6},"2021-03-31","2021-22","2022-23","2023-24","2024-25","2025-26"]
[null,null,1,{"$nulls":9},{"$f":"SUM(G334:L334)","v":0}]
[null,null,2,{"$nulls":9},{"$f":"SUM(G335:L335)","v":0}]
[null,null,3,{"$nulls":9},0]
[null,null,4,{"$nulls":9},0]
[null,null,5,{"$nulls":9},0]
[null,null,6,{"$nulls":9},0]
[null,null,7,{"$nulls":9},0]
[null,null,8,{"$nulls":9},0]
[null,null,9,{"$nulls":9},0]
[null,null,10,{"$nulls":9},0]
[null,null,11,{"$nulls":9},0]
[null,null,12,{"$nulls":9},0]
[null,null,13,{"$nulls":9},0]
[null,null,14,{"$nulls":9},0]
[null,null,15,{"$nulls":9},0]
[null,null,16,{"$nulls":9},0]
[null,null,17,{"$nulls":9},0]
[null,null,18,{"$nulls":9},0]
[null,null,19,{"$nulls":9},0]
[null,null,20,{"$nulls":9},0]
[null,null,21,{"$nulls":9},0]
[null,null,22,{"$nulls":9},0]
[null,null,23,{"$nulls":9},0]
[null,null,24,{"$nulls":9},0]
[null,null,25,{"$nulls":9},0]
[null,null,26,{"$nulls":9},0]
[null,null,27,{"$nulls":9},0]
[null,null,28,{"$nulls":9},0]
[null,null,29,{"$nulls":9},0]
[null,null,30,{"$nulls":9},0]
[null,null,31,{"$nulls":9},0]
[null,null,32,{"$nulls":9},0]
[null,null,33,{"$nulls":9},0]
[null,null,34,{"$nulls":9},0]
[null,null,35,{"$nulls":9},0]
[null,null,36,{"$nulls":9},0]
[null,null,37,{"$nulls":9},0]
[null,null,38,{"$nulls":9},0]
[null,null,39,{"$nulls":9},0]
[null,null,40,{"$nulls":9},0]
[{"$nulls":3},"dqy ;ksx",null,null,{"$f":"SUM(G334:G349)","v":0},0,0,0,0,0,{"$f":"SUM(G374:L374)","v":0}]
{"$rows_empty":60}
[{"$nulls":4},{"$f":"'Format 1A'!D9","v":"PRINCIPAL"}]
[{"$nulls":4},{"$f":"'Format 1A'!D10","v":"VICE PRINCIPAL"}]
[{"$nulls":4},{"$f":"'Format 1A'!D11","v":"LECTURER"}]
[{"$nulls":4},{"$f":"'Format 1A'!D12","v":"Add. Adm. Officer"}]
[{"$nulls":4},{"$f":"'Format 1A'!D13","v":"PTI  I"}]
[{"$nulls":4},{"$f":"'Format 1A'!D14","v":"AGRICULTURE TEACHER"}]
[{"$nulls":4},{"$f":"'Format 1A'!D15","v":"Asst. Adm. Officer"}]
[{"$nulls":4},{"$f":"'Format 1A'!D16","v":"LIBRARIAN I"}]
[{"$nulls":4},{"$f":"'Format 1A'!D17","v":"BASIC COMPUTER INST."}]
[{"$nulls":4},{"$f":"'Format 1A'!D18","v":"TEACHER-II"}]
[{"$nulls":4},{"$f":"'Format 1A'!D19","v":"PTI II"}]
[{"$nulls":4},{"$f":"'Format 1A'!D20","v":"LIBRARIAN II"}]
[{"$nulls":4},{"$f":"'Format 1A'!D21","v":"SR. PRABODHAK"}]
[{"$nulls":4},{"$f":"'Format 1A'!D22","v":"CLERK GRADE I"}]
[{"$nulls":4},{"$f":"'Format 1A'!D23","v":"PTI  III"}]
[{"$nulls":4},{"$f":"'Format 1A'!D24","v":"TEACHER-III"}]
[{"$nulls":4},{"$f":"'Format 1A'!D25","v":"LIBRARIAN III"}]
[{"$nulls":4},{"$f":"'Format 1A'!D26","v":"LAB ASST"}]
[{"$nulls":4},{"$f":"'Format 1A'!D27","v":"CLERK GRADE II"}]
[{"$nulls":4},{"$f":"'Format 1A'!D28","v":"PRABODHAK"}]
[{"$nulls":4},{"$f":"'Format 1A'!D29","v":"LAB BOY"}]
[{"$nulls":4},{"$f":"'Format 1A'!D30","v":"JAMADAR"}]
[{"$nulls":4},{"$f":"'Format 1A'!D31","v":"PEON"}]
[{"$nulls":4},{"$f":"'Format 1A'!D32","v":"Sanvida Employee"}]
[{"$nulls":4},"Prabodhak"]
[{"$nulls":4},"Sr. Prabodhak"]

{"sheet":"Cover Page","index":2,"n_rows":12,"n_cols":8,"rows_kept":12,"merged":[[0,0,1,12],[0,13,13,13],[2,0,2,12],[3,0,4,12],[5,0,5,4],[5,5,5,6],[5,7,5,12],[6,0,7,12],[8,0,8,12],[9,0,10,12],[11,0,12,12],[13,0,13,12]]}
[{"$f":"CONCATENATE(Master!E2,\" \",Master!H2,\" \",\"¼\",Master!C3,\"&\",Master!E3,\"½\")","v":"ç/kkukpk;Z] jkmekfo jk;eyok³k ¼vkWfQl vkbZ-Mh- la[;k %&12572½"}]
[]
[]
[{"$f":"CONCATENATE('[1]Formet 8'!A4:N4,'[1]Formet 8'!A5:N5)","v":"fuf'pr O;;ksa ds foLr`r vuqeku vFkkZr vf/kdkfj;ksa o deZpkfj;ksa ds osru vuqeku o\"kZ ¼vizSy ls ekpZ rd½"}]
[]
[{"$f":"Master!C4","v":"ctV la'kksf/kr vuqeku fofÙk; o\"kZ %"},{"$nulls":4},{"$f":"Master!E4","v":"2025-26"},null,{"$f":"CONCATENATE(\"¼\",Master!I48,\"½\")","v":"¼o\"kZ 2026&27 dk vuqekfur½"}]
["Budget Head"]
[]
[]
[{"$f":"abc!A3","v":"2202-02-109-(27)-(01) STATE FUND"}]
[]
[{"$f":"abc!A4","v":"BUDGET HEAD : 2202 -सामान्य शिक्षा-02-109 -राजकीय माध्यमिक विद्यालय-27 -लडकों के विद्यालय-01 -लडकों के विद्यालयों का संचालन व्यय   (STATE FUND)"}]

{"sheet":"forwarding letter","index":3,"n_rows":19,"n_cols":3,"rows_kept":19,"merged":[[0,0,0,2],[0,3,19,3],[1,0,1,1],[8,0,9,0],[8,1,9,2],[11,0,13,2]]}
[{"$f":"'Cover Page'!A1","v":"ç/kkukpk;Z] jkmekfo jk;eyok³k ¼vkWfQl vkbZ-Mh- la[;k %&12572½"}]
["Øekad %",null,"fnukad %            "]
[]
["iszf\"kr]"]
[null,"Jheku~ eq[; ys[kkf/kdkjh"]
[null,"çkjfEHkd f'k{kk ¼f'k{kk foHkkx½"]
[null,"chdkusjA"]
[]
["fo\"k; %& ",{"$f":"CONCATENATE('Cover Page'!A6,\" \", 'Cover Page'!F6,\" \",'Cover Page'!H6,\" \",\"izLrqr djus ckcr A\")","v":"ctV la'kksf/kr vuqeku fofÙk; o\"kZ % 2025-26 ¼o\"kZ 2026&27 dk vuqekfur½ izLrqr djus ckcr A"}]
[]
["egksn;]"]
["          mijksDr fo\"k; esa fuosnu gS fd LFkkuh; fo|ky;@dk;kZy; esa dk;Zjr deZpkfj;ksa ,oa dk;kZy; v/khu dkfeZdksa dk la'kksf/kr ctV vuqeku l= 2025&26 ,oa vk;&O;;d vuqeku 2026&27 fu/kkZfjr izi= esa rS;kj dj LFkkuh; dk;kZy; ds dkfeZd Jh -------------------------------------------------------------------------------------------------------------------- ds lkFk vko';d dk;Zokgh gsrq Jheku dh lsok esa lknj iszf\"kr gS A"]
[]
[]
["layXu %&"]
[]
[]
[null,null,{"$f":"Master!E2","v":"ç/kkukpk;Z]"}]
[null,null,{"$f":"Master!H2","v":"jkmekfo jk;eyok³k"}]

{"sheet":"abc","index":4,"n_rows":32,"n_cols":4,"rows_kept":32,"merged":[[0,0,0,3],[0,4,33,4],[1,0,1,3],[2,0,2,1],[3,0,3,3],[4,0,4,1],[5,0,5,1],[6,0,6,1],[7,0,7,1],[8,0,8,1],[9,0,9,1],[10,0,10,1],[11,0,11,1],[12,0,12,1],[13,0,13,1],[14,0,14,1],[15,0,15,1],[16,0,16,1],[17,0,17,1],[18,0,18,1],[19,0,19,1],[20,0,20,1],[25,0,25,1],[26,0,26,1],[27,0,27,1],[28,0,28,1],[29,0,29,1],[30,0,30,3],[31,0,33,2],[31,3,33,3]]}
["izi= v] c] l"]
[{"$f":"'Cover Page'!A1","v":"ç/kkukpk;Z] jkmekfo jk;eyok³k ¼vkWfQl vkbZ-Mh- la[;k %&12572½"}]
[{"$f":"Master!G5","v":"2202-02-109-(27)-(01) STATE FUND"},null,"MhMhvks dksM&",{"$f":"Master!E3","v":12572}]
[{"$f":"'Formet 9'!A7:T7","v":"BUDGET HEAD : 2202 -सामान्य शिक्षा-02-109 -राजकीय माध्यमिक विद्यालय-27 -लडकों के विद्यालय-01 -लडकों के विद्यालयों का संचालन व्यय   (STATE FUND)"}]
["en",null,"la'kksf/kr vuqeku\n2025&26","vk;O;;d vuqeku 2026&27"]
["¼1½- laosru"]
["d- osru jktif=r",null,{"$f":"Summary!B8","v":0},{"$f":"Summary!C8","v":0}]
["[k- osru vjktif=r",null,{"$f":"Summary!B9","v":0},{"$f":"Summary!C9","v":0}]
[";ksx osru & ¼ d ls [k rd ½",null,{"$f":"Summary!B10","v":0},{"$f":"Summary!C10","v":0}]
["HkRrs ,oa ekuns; &",null,{"$f":"Summary!B11","v":0},{"$f":"Summary!C11","v":0}]
["1- eagxkbZ HkRrk 55 izfr'kr",null,{"$f":"Summary!B12","v":0},{"$f":"Summary!C12","v":0}]
["2- Mh-,-,fj;j 4 çfr-",null,{"$f":"Summary!B13","v":0},{"$f":"Summary!C13","v":0}]
["3- fLFkjhdj.k ,fj;j",null,{"$f":"Summary!B14","v":0},{"$f":"Summary!C14","v":0}]
["4- edku fdjk;k 10 çfr'kr",null,{"$f":"Summary!B15","v":0},{"$f":"Summary!C15","v":0}]
["5- lefiZr vodk'k osru ¼15 fnol½",null,{"$f":"Summary!B16","v":0},{"$f":"Summary!C16","v":0}]
["6- 'kgjh HkRrk",null,{"$f":"Summary!B17","v":0},{"$f":"Summary!C17","v":0}]
["7- cksul",null,{"$f":"Summary!B18","v":0},{"$f":"Summary!C18","v":0}]
["8- ijhoh{kk/khu dkfeZdksa dks fu;r ikfjJfed ¼ fQDl is ½",null,{"$f":"Summary!B19","v":348540},{"$f":"Summary!C19","v":405600}]
["9- alafonk dkfeZdksa dks fu;r ikfjJfed ¼ fQDl is ½",null,{"$f":"Summary!B20","v":0},{"$f":"Summary!C20","v":0}]
["10- ç-v- HkRrk",null,{"$f":"Summary!B21","v":0},{"$f":"Summary!C21","v":0}]
["11- jksdM HkRrk",null,{"$f":"Summary!B22","v":0},{"$f":"Summary!C22","v":0}]
["12- /kqykbZ HkRrk",null,{"$f":"Summary!B23","v":0},{"$f":"Summary!C23","v":0}]
["13- lkbZfdy HkRrk",null,{"$f":"Summary!B24","v":0},{"$f":"Summary!C24","v":0}]
["14- fodykax HkRrk",null,{"$f":"Summary!B25","v":0},{"$f":"Summary!C25","v":0}]
["13- vU; HkRrs",null,{"$f":"Summary!B26","v":0},{"$f":"Summary!C26","v":0}]
[";ksx&¼ 1ls 14 ½ HkRrs ,oa ekuns;    kk",null,{"$f":"SUM(C11:C25)","v":348540},{"$f":"SUM(D11:D25)","v":405600}]
[";ksx laosru  ¼1½++  ,oa ¼2½",null,{"$f":"SUM(C26,C9)","v":348540},{"$f":"SUM(D26,D9)","v":405600}]
[";k=k O;;",null,{"$f":"Summary!B30","v":0},{"$f":"Summary!C30","v":0}]
["fpfdRlk O;;",null,{"$f":"Summary!B31","v":0},{"$f":"Summary!C31","v":0}]
["loZ ;ksx & ¼QkeZ th-,-&4½",null,{"$f":"SUM(C27:C29)","v":348540},{"$f":"SUM(D27:D29)","v":405600}]
["izekf.kr fd;k tkrk gS fd inksa ds lanHkZ esa mi;qZä lwpuk dh esjs }kjk O;fäxr :i ls tkap dj yh xbZ gS\n vkSj bls lgh ik;k x;k gSA"]
[{"$nulls":3},{"$f":"A!D3","v":"ç/kkukpk;Z] jkmekfo jk;eyok³k ¼vkWfQl vkbZ-Mh- la[;k %&12572½"}]

{"sheet":"Formet 8","index":5,"n_rows":749,"n_cols":82,"rows_kept":749,"merged":[[0,12,0,14],[0,80,377,80],[1,1,1,14],[2,1,2,14],[3,1,3,14],[4,1,4,14],[5,1,5,14],[6,1,7,13],[6,14,7,14],[8,1,9,1],[8,2,9,2],[8,3,9,3],[8,4,9,4],[8,5,9,5],[8,6,9,6],[8,8,9,8],[8,9,9,9],[8,10,8,11],[8,12,9,12],[8,13,9,13],[8,14,9,14],[8,21,9,21],[8,22,9,22],[8,23,9,23],[8,24,9,24],[8,25,9,25],[8,26,8,27],[8,28,8,29],[8,30,8,31],[25,1,25,4],[217,4,217,6],[226,1,226,4],[227,1,227,14],[237,2,237,14],[340,1,340,14],[346,2,346,14],[374,12,374,14],[375,12,377,14]]}
[{"$nulls":12},{"$f":"Summary!$C$1","v":{"v":12572,"d":"OFFICE ID 12572"}},{"$nulls":14},"GAZETTED - REGULAR"]
[null,{"$f":"'Cover Page'!A1","v":"ç/kkukpk;Z] jkmekfo jk;eyok³k ¼vkWfQl vkbZ-Mh- la[;k %&12572½"},{"$nulls":25},"NON GAZETTED - REGULAR"]
[null,"izi= & 8",{"$nulls":25},"GAZETTED - FIX PAY"]
[null,"fuf'pr O;;ksa ds foLr`r vuqeku vFkkZr vf/kdkfj;ksa o deZpkfj;ksa ",{"$nulls":25},"NON GAZETTED - FIX PAY"]
[null,"ds osru vuqeku o\"kZ ¼vizSy ls ekpZ rd½",{"$nulls":25},"GAZETTED - SANVIDA"]
[null,"¼ctV vuqeku vf/kdkfj;ksa }kjk foHkkxk/;{k dks izLrqr djus gsrq½",{"$nulls":25},"NON GAZETTED - SANVIDA"]
[null,{"$f":"Summary!$A$5","v":"BUDGET HEAD : 2202 -सामान्य शिक्षा-02-109 -राजकीय माध्यमिक विद्यालय-27 -लडकों के विद्यालय-01 -लडकों के विद्यालयों का संचालन व्यय   (STATE FUND)"},{"$nulls":12},"¼jkf'k :i;ksa esa½"]
[]
[null,"ys[kk 'kh\"kZd ¼foLr`r 'kh\"kZ½","Øe la[;k","uke","deZpkjh vkbZ-Mh- la[;k","th-ih-,Q-@ ,u-ih-,l- uEcj","in",null,"ctV dh izkjfEHkd frfFk ;kfu 1 ekpZ dks deZpkjh dk osru","igyh ekpZ ls vfUre Qjojh ds fy;s fu/kkZfjr jde","o`f) tks bl vof/k esa gksxh",null,"vkxkeh o\"kZ ds fy;s jde ¼dkWye 9 vkSj 11 dk ;ksx½","pkyw o\"kZ ds fy, la'kksf/kr vuqeku","fo'ks\"k fooj.k",{"$nulls":6},"Handicap Allo.","tUe frfFk","fu;qfDr frFkh","Cash  All Yes / No","Male / Female","Liveries Jamadar",null,"Liveries Lab Boy",null,"Liveries Peon",null,null,"BUDGET ESTIMATE",{"$nulls":17},"REVISED ESTIMATE"]
[{"$nulls":7},"is esfVªDl ysoy",null,null,"frfFk o`f)","jde o`f)",{"$nulls":14},"MALE"," FEMALE","MALE"," FEMALE","MALE"," FEMALE","Back Increement","Salary Gazetted REGULAR","Salary Non-Gazetted\nREGULAR","Salary Gazetted FIXED","Salary Non-Gazetted FIXED",{"$f":"G217","v":{"v":0.55,"d":"D.A. @ 55%"}},{"v":0,"d":"D.A. Arear @ 00%"},"Arear",{"v":0.1,"d":"HRA @ 10%"},"Bonus","Surrender","Cash. Allow.","Handicap Allow.","Washing Allow.","TOTAL Regular","Net Salary","Travelling Expenses","Medical Expenses","Grand Total","Salary Gazetted REGULAR","Salary Non-Gazetted\nREGULAR","Salary Gazetted FIXED","Salary Non-Gazetted FIXED",{"$f":"AL10","v":{"v":0.55,"d":"D.A. @ 55%"}},{"$f":"E218","v":{"v":0.04,"d":"D.A. Arear @ 04%"}},"Arear",{"v":0.08,"d":"HRA @ 08%"},"Bonus","Surrender","Cash. Allow.","Handicap Allow.","Washing Allow.","TOTAL Regular","Net Salary","Travelling Expenses","Medical Expenses","Grand Total GA-1","Guz. ","Non Guz.","Guz. Fix Pay","Non Guz. Fix Pay","Fix Pay","Cash All","NPS","working","SANVIDA","Sanvida Amount"]
[null,1,1,2,3,4,5,6,7,8,9,10,11,12,13,{"$nulls":7},15,16,18,19,25,26,27,28,27,28,null,16,17,18,19,20,21,22,23,24,25,27,28,30,31,32,33,34,35,36,37,38,39,40,41,42,43,44,45,47,48,50,51,52,53,54,55,56,57,58,59]
[{"$f":"IF(I12=\"\",\"\",IF(I12>0,1,\"\"))","v":""},2202,1,{"$f":"IF(ISNA(VLOOKUP(C12,Master!AD$61:AP$108,3,FALSE)),\"\",VLOOKUP(C12,Master!AD$61:AP$108,3,FALSE))","v":""},{"$f":"IF(ISNA(VLOOKUP(C12,Master!AD$61:AP$108,7,FALSE)),\"\",VLOOKUP(C12,Master!AD$61:AP$108,7,FALSE))","v":""},{"$f":"IF(ISNA(VLOOKUP(C12,Master!AD$61:AP$108,8,FALSE)),\"\",VLOOKUP(C12,Master!AD$61:AP$108,8,FALSE))","v":""},{"$f":"IF(ISNA(VLOOKUP(C12,Master!AD$61:AP$108,4,FALSE)),\"\",VLOOKUP(C12,Master!AD$61:AP$108,4,FALSE))","v":""},{"$f":"IF(ISNA(VLOOKUP(C12,Master!AD$61:AP$108,5,FALSE)),\"\",VLOOKUP(C12,Master!AD$61:AP$108,5,FALSE))","v":""},{"$f":"IF(ISNA(VLOOKUP(C12,Master!AD$61:AP$108,6,FALSE)),\"\",VLOOKUP(C12,Master!AD$61:AP$108,6,FALSE))","v":""},{"$f":"IF(AND(I12=\"\"),\"\",I12*12)","v":""},{"$f":"IF(AND(I12=\"\"),\"\",IF(I12<=0,\"\",(CONCATENATE(\"01.07.\",(YEAR(TODAY())+1)))))","v":""},{"$f":"IF(AND(I12=\"\"),\"\",ROUND(ROUND(I12*3%,0),-2)*IF(H12=\"FIX PAY\",0,1)*8)","v":""},{"$f":"IF(AND(I12=\"\"),\"\",J12+L12)","v":""},{"$f":"IF(AND(I12=\"\"),\"\",IF(O12=\"FIX PAY\",M12,((IF(O12=\"FIX PAY\",0,AG12*4+I12*8)))))","v":""},{"$f":"IF(ISNA(VLOOKUP(C12,Master!AD$61:AP$108,12,FALSE)),\"\",VLOOKUP(C12,Master!AD$61:AP$108,12,FALSE))","v":""},null,null,{"$f":"IF(R68=1,\"HANDICAP\",0)","v":0},null,{"$f":"IF(AND(O12=AB$1),0,IF(AND(I12=0),0,$G$222*1*(IF(I12<=0,0,1))*(IF(H12<=12,1,0))))","v":0},{"$f":"IF(G12>0,1,0)","v":1},{"$f":"IF(ISNA(VLOOKUP(C12,Master!AD$61:AP$108,10,FALSE)),\"\",VLOOKUP(C12,Master!AD$61:AP$108,10,FALSE))","v":""},null,null,{"$f":"IF(ISNA(VLOOKUP(C12,Master!AD$61:AP$108,11,FALSE)),\"\",VLOOKUP(C12,Master!AD$61:AP$108,11,FALSE))","v":""},{"$f":"IF(ISNA(VLOOKUP(C12,Master!AD$61:AP$108,9,FALSE)),\"\",VLOOKUP(C12,Master!AD$61:AP$108,9,FALSE))","v":""},{"$f":"IF(Z12=\"MALE\",1,0)*(IF(G12=\"JAMADAR\",1,0))*(IF(I12<=0,0,1))","v":0},{"$f":"IF(Z12=\"FEMALE\",1,0)*(IF(G12=\"JAMADAR\",1,0))*(IF(I12<=0,0,1))","v":0},{"$f":"IF(Z12=\"MALE\",1,0)*(IF(G12=\"LAB BOY\",1,0))*(IF(I12<=0,0,1))","v":0},{"$f":"IF(Z12=\"FEMALE\",1,0)*(IF(G12=\"LAB BOY\",1,0))*(IF(I12<=0,0,1))","v":0},{"$f":"IF(Z12=\"MALE\",1,0)*(IF(G12=\"PEON\",1,0))*(IF(I12<=0,0,1))","v":0},{"$f":"IF(Z12=\"FEMALE\",1,0)*(IF(G12=\"PEON\",1,0))*(IF(I12<=0,0,1))","v":0},{"$f":"IF(AND(I12=\"\"),\"\",I12-ROUNDUP(ROUND((I12*3%)-(I12*3%)*2.9%,-2),0))","v":""},{"$f":"IF(AND(I12=\"\"),\"\",$M12*$BR12)","v":""},{"$f":"IF(AND(I12=\"\"),\"\",$M12*$BS12)","v":""},{"$f":"IF(AND(I12=\"\"),\"\",$M12*$BT12)","v":""},{"$f":"IF(AND(I12=\"\"),\"\",$M12*$BU12)","v":""},{"$f":"IF(AND(AH12=\"\"),\"\",ROUND((AH12+AI12)*$AL$10,0)*BV12)","v":""},0,0,{"$f":"IF(AND(AH12=\"\"),\"\",ROUND((AH12+AI12)*$AO$10,0)*BV12)","v":""},{"$f":"$G$222*BS12*BV12*(IF(I12<=0,0,1))*(IF(H12<=4800,1,0))","v":0},{"$f":"IF(AND(I12=\"\"),0,ROUND((I12+ROUND(I12*$AL$10,0))/2,0)*(IF(O12=\"FIX PAY\",0,1)))","v":0},{"$f":"IF(G12=\"CLERK GRADE I\",1,IF(G12=\"CLERK GRADE II\",1,0))*75*12*BV12*(IF(I12<=0,0,1))*BW12","v":0},{"$f":"IF(AND(I12=\"\"),0,(IF(G12=\"ASSISTANT\",12,IF(G12=\"CLERK GRADE I\",12,IF(G12=\"CLERK GRADE II\",12,IF(G12=\"FIELDMAN & FIELD REC\",12,IF(G12=\"LAB BOY\",12,IF(G12=\"JAMADAR\",12,IF(G12=\"PEON\",12,10))))))))*(MINA(ROUND(I12*6%,0),600))*(IF($V12=\"Yes\",1,0)))","v":0},{"$f":"(IF(G12=\"LAB BOY\",180,IF(G12=\"JAMADAR\",180,IF(G12=\"PEON\",180,0))))*12*BV12*(IF(I12<=0,0,1))","v":0},{"$f":"IF(AND(G12=\"\"),0,SUM(AL12:AT12)+AH12+AI12)","v":0},{"$f":"IF(AND(G12=\"\"),0,AU12)","v":0},null,null,{"$f":"AV12+AW12+AX12","v":0},{"$f":"IF(AND(G12=\"\"),0,N12*BR12)","v":0},{"$f":"IF(AND(G12=\"\"),0,N12*BS12)","v":0},{"$f":"IF(AND(G12=\"\"),0,N12*BT12)","v":0},{"$f":"IF(AND(G12=\"\"),0,N12*BU12)","v":0},{"$f":"ROUND((AZ12+BA12)*$BD$10,0)*BV12","v":0},{"$f":"IF(AND(G12=\"\"),0,ROUND((IF(O12=\"FIX PAY\",0,AG12))*$BE$10*2,0)*BV12)","v":0},0,{"$f":"ROUND((AZ12+BA12)*$BG$10,0)*BV12","v":0},{"$f":"$G$222*2*BS12*BV12*(IF(I12<=0,0,1))*(IF(H12<=4800,1,0))","v":0},{"$f":"IF(AND(I12=\"\"),0,ROUND((AG12+ROUND(AG12*$AL$10,0))/2,0)*(IF(O12=\"FIX PAY\",0,1)))","v":0},{"$f":"IF(G12=\"CLERK GRADE I\",1,IF(G12=\"CLERK GRADE II\",1,0))*75*12*BV12*(IF(I12<=0,0,1))*BW12","v":0},{"$f":"IF(AND(G12=\"\"),0,(IF(G12=\"ASSISTANT\",12,IF(G12=\"CLERK GRADE I\",12,IF(G12=\"CLERK GRADE II\",12,IF(G12=\"FIELDMAN & FIELD REC\",12,IF(G12=\"LAB BOY\",12,IF(G12=\"JAMADAR\",12,IF(G12=\"PEON\",12,10))))))))*(MINA(ROUND(AG12*6%,0),600))*(IF($V12=\"yes\",1,)))","v":0},{"$f":"(IF(G12=\"LAB BOY\",150,IF(G12=\"JAMADAR\",150,IF(G12=\"PEON\",150,0))))*12*BV12*(IF(I12<=0,0,1))","v":0},{"$f":"SUM(BD12:BL12)+AZ12+BA12","v":0},{"$f":"BM12","v":0},null,null,{"$f":"BN12+BO12+BP12","v":0},{"$f":"(IF(G12=\"PRINCIPAL\",1,IF(G12=\"H M\",1,IF(G12=\"AGRICULTURE INST\",1,IF(G12=\"TEACHER-1ST\",1,IF(G12=\"PTI  I  (13)\",1,IF(G12=\"AGRICULTURE TEACH\",1,IF(G12=\"INSTRUCTOR\",1,0))))))))+(IF(G12=\"JR TEACHER\",1,IF(G12=\"LIBRARIAN I\",1,0)))*(IF(O12=\"FIX PAY\",0,1))","v":0},{"$f":"IF(BR12<=0,1,0)*(IF(O12=\"FIX PAY\",0,1))","v":1},{"$f":"(IF(G12=\"PRINCIPAL (16)\",1,IF(G12=\"V P (14)\",1,IF(G12=\"H M (14)\",1,IF(G12=\"AGRICULTURE INST (13)\",1,IF(G12=\"TEACHER-1ST (13)\",1,IF(G12=\"PTI  I  (13)\",1,IF(G12=\"AGRICULTURE TEACH (13)\",1,IF(G12=\"INSTRUCTOR (13)\",1,0))))))))+(IF(G12=\"JR TEACHER (13)\",1,IF(G12=\"LIBRARIAN I (13)\",1,0))))*(IF(O12=\"FIX PAY\",1,0))","v":0},{"$f":"IF(BT12<=0,1,0)*(IF(O12=\"FIX PAY\",1,0))","v":0},{"$f":"IF(O12=\"FIX PAY\",1,0)","v":0},{"$f":"IF(Y12=\"No\",0,1)","v":1},{"$f":"IF((ROUND((SUMPRODUCT(MID(0&E12,LARGE(INDEX(ISNUMBER(--MID(E12,ROW($1:$25),1))* ROW($1:$25),0),ROW($1:$25))+1,1)*10^ROW($1:$25)/10)),-8)/100000000)>=2004,1,0)","v":0},{"$f":"IF(I12<=0,0,1)","v":1},{"$f":"IF(O12=\"SANVIDA\",1,0)","v":0},{"$f":"IF(BZ12>0,I12,0)","v":0},{"$f":"IF(AND(E12=\"\"),\"\",IF(AND(E12<=0),\"\",IF((ROUND((SUMPRODUCT(MID(0&E12,LARGE(INDEX(ISNUMBER(--MID(E12,ROW($1:$70),1))* ROW($1:$70),0),ROW($1:$70))+1,1)*10^ROW($1:$70)/10)),-8)/100000000)<2004,1,0)))","v":""}]
[{"$f":"IF(I13=\"\",\"\",IF(I13>0,A12+1,\"\"))","v":""},2202,2,{"$f":"IF(ISNA(VLOOKUP(C13,Master!AD$61:AP$108,3,FALSE)),\"\",VLOOKUP(C13,Master!AD$61:AP$108,3,FALSE))","v":""},{"$f":"IF(ISNA(VLOOKUP(C13,Master!AD$61:AP$108,7,FALSE)),\"\",VLOOKUP(C13,Master!AD$61:AP$108,7,FALSE))","v":""},{"$f":"IF(ISNA(VLOOKUP(C13,Master!AD$61:AP$108,8,FALSE)),\"\",VLOOKUP(C13,Master!AD$61:AP$108,8,FALSE))","v":""},{"$f":"IF(ISNA(VLOOKUP(C13,Master!AD$61:AP$108,4,FALSE)),\"\",VLOOKUP(C13,Master!AD$61:AP$108,4,FALSE))","v":""},{"$f":"IF(ISNA(VLOOKUP(C13,Master!AD$61:AP$108,5,FALSE)),\"\",VLOOKUP(C13,Master!AD$61:AP$108,5,FALSE))","v":""},{"$f":"IF(ISNA(VLOOKUP(C13,Master!AD$61:AP$108,6,FALSE)),\"\",VLOOKUP(C13,Master!AD$61:AP$108,6,FALSE))","v":""},{"$f":"IF(AND(I13=\"\"),\"\",I13*12)","v":""},{"$f":"IF(AND(I13=\"\"),\"\",IF(I13<=0,\"\",(CONCATENATE(\"01.07.\",(YEAR(TODAY())+1)))))","v":""},{"$f":"IF(AND(I13=\"\"),\"\",ROUND(ROUND(I13*3%,0),-2)*IF(H13=\"FIX PAY\",0,1)*8)","v":""},{"$f":"IF(AND(I13=\"\"),\"\",J13+L13)","v":""},{"$f":"IF(AND(I13=\"\"),\"\",IF(O13=\"FIX PAY\",M13,((IF(O13=\"FIX PAY\",0,AG13*4+I13*8)))))","v":""},{"$f":"IF(ISNA(VLOOKUP(C13,Master!AD$61:AP$108,12,FALSE)),\"\",VLOOKUP(C13,Master!AD$61:AP$108,12,FALSE))","v":""},{"$nulls":4},{"$f":"IF(AND(O13=AB$1),0,IF(AND(I13=0),0,$G$222*1*(IF(I13<=0,0,1))*(IF(H13<=12,1,0))))","v":0},{"$f":"IF(G13>0,1,0)","v":1},{"$f":"IF(ISNA(VLOOKUP(C13,Master!AD$61:AP$108,10,FALSE)),\"\",VLOOKUP(C13,Master!AD$61:AP$108,10,FALSE))","v":""},null,null,{"$f":"IF(ISNA(VLOOKUP(C13,Master!AD$61:AP$108,11,FALSE)),\"\",VLOOKUP(C13,Master!AD$61:AP$108,11,FALSE))","v":""},{"$f":"IF(ISNA(VLOOKUP(C13,Master!AD$61:AP$108,9,FALSE)),\"\",VLOOKUP(C13,Master!AD$61:AP$108,9,FALSE))","v":""},0,0,0,0,0,0,{"$f":"IF(AND(I13=\"\"),\"\",I13-ROUNDUP(ROUND((I13*3%)-(I13*3%)*2.9%,-2),0))","v":""},{"$f":"IF(AND(I13=\"\"),\"\",$M13*$BR13)","v":""},{"$f":"IF(AND(I13=\"\"),\"\",$M13*$BS13)","v":""},{"$f":"IF(AND(I13=\"\"),\"\",$M13*$BT13)","v":""},{"$f":"IF(AND(I13=\"\"),\"\",$M13*$BU13)","v":""},{"$f":"IF(AND(AH13=\"\"),\"\",ROUND((AH13+AI13)*$AL$10,0)*BV13)","v":""},0,0,{"$f":"IF(AND(AH13=\"\"),\"\",ROUND((AH13+AI13)*$AO$10,0)*BV13)","v":""},0,{"$f":"IF(AND(I13=\"\"),0,ROUND((I13+ROUND(I13*$AL$10,0))/2,0)*(IF(O13=\"FIX PAY\",0,1)))","v":0},0,0,{"$f":"(IF(G13=\"LAB BOY\",180,IF(G13=\"JAMADAR\",180,IF(G13=\"PEON\",180,0))))*12*BV13*(IF(I13<=0,0,1))","v":0},0,0,null,null,0,0,0,0,0,0,0,0,0,0,{"$f":"IF(AND(I13=\"\"),0,ROUND((AG13+ROUND(AG13*$AL$10,0))/2,0)*(IF(O13=\"FIX PAY\",0,1)))","v":0},0,0,0,0,0,null,null,0,0,{"$f":"IF(BR13<=0,1,0)*(IF(O13=\"FIX PAY\",0,1))","v":1},0,0,{"$f":"IF(O13=\"FIX PAY\",1,0)","v":0},1,0,{"$f":"IF(I13<=0,0,1)","v":1},{"$f":"IF(O13=\"SANVIDA\",1,0)","v":0},{"$f":"IF(BZ13>0,I13,0)","v":0},""]
[{"$f":"IF(I14=\"\",\"\",IF(I14>0,A13+1,\"\"))","v":""},2202,3,{"$f":"IF(ISNA(VLOOKUP(C14,Master!AD$61:AP$108,3,FALSE)),\"\",VLOOKUP(C14,Master!AD$61:AP$108,3,FALSE))","v":""},{"$f":"IF(ISNA(VLOOKUP(C14,Master!AD$61:AP$108,7,FALSE)),\"\",VLOOKUP(C14,Master!AD$61:AP$108,7,FALSE))","v":""},{"$f":"IF(ISNA(VLOOKUP(C14,Master!AD$61:AP$108,8,FALSE)),\"\",VLOOKUP(C14,Master!AD$61:AP$108,8,FALSE))","v":""},{"$f":"IF(ISNA(VLOOKUP(C14,Master!AD$61:AP$108,4,FALSE)),\"\",VLOOKUP(C14,Master!AD$61:AP$108,4,FALSE))","v":""},{"$f":"IF(ISNA(VLOOKUP(C14,Master!AD$61:AP$108,5,FALSE)),\"\",VLOOKUP(C14,Master!AD$61:AP$108,5,FALSE))","v":""},{"$f":"IF(ISNA(VLOOKUP(C14,Master!AD$61:AP$108,6,FALSE)),\"\",VLOOKUP(C14,Master!AD$61:AP$108,6,FALSE))","v":""},"","","","","",{"$f":"IF(ISNA(VLOOKUP(C14,Master!AD$61:AP$108,12,FALSE)),\"\",VLOOKUP(C14,Master!AD$61:AP$108,12,FALSE))","v":""},{"$nulls":4},0,1,{"$f":"IF(ISNA(VLOOKUP(C14,Master!AD$61:AP$108,10,FALSE)),\"\",VLOOKUP(C14,Master!AD$61:AP$108,10,FALSE))","v":""},null,null,{"$f":"IF(ISNA(VLOOKUP(C14,Master!AD$61:AP$108,11,FALSE)),\"\",VLOOKUP(C14,Master!AD$61:AP$108,11,FALSE))","v":""},{"$f":"IF(ISNA(VLOOKUP(C14,Master!AD$61:AP$108,9,FALSE)),\"\",VLOOKUP(C14,Master!AD$61:AP$108,9,FALSE))","v":""},0,0,0,0,0,0,"","","","","","",0,0,"",0,0,0,0,0,0,0,null,null,0,0,0,0,0,0,0,0,0,0,0,0,0,0,0,0,null,null,0,0,1,0,0,0,1,0,1,0,0,""]
["",2202,4,{"$f":"IF(ISNA(VLOOKUP(C15,Master!AD$61:AP$108,3,FALSE)),\"\",VLOOKUP(C15,Master!AD$61:AP$108,3,FALSE))","v":""},{"$f":"IF(ISNA(VLOOKUP(C15,Master!AD$61:AP$108,7,FALSE)),\"\",VLOOKUP(C15,Master!AD$61:AP$108,7,FALSE))","v":""},{"$f":"IF(ISNA(VLOOKUP(C15,Master!AD$61:AP$108,8,FALSE)),\"\",VLOOKUP(C15,Master!AD$61:AP$108,8,FALSE))","v":""},{"$f":"IF(ISNA(VLOOKUP(C15,Master!AD$61:AP$108,4,FALSE)),\"\",VLOOKUP(C15,Master!AD$61:AP$108,4,FALSE))","v":""},{"$f":"IF(ISNA(VLOOKUP(C15,Master!AD$61:AP$108,5,FALSE)),\"\",VLOOKUP(C15,Master!AD$61:AP$108,5,FALSE))","v":""},{"$f":"IF(ISNA(VLOOKUP(C15,Master!AD$61:AP$108,6,FALSE)),\"\",VLOOKUP(C15,Master!AD$61:AP$108,6,FALSE))","v":""},"","","","","",{"$f":"IF(ISNA(VLOOKUP(C15,Master!AD$61:AP$108,12,FALSE)),\"\",VLOOKUP(C15,Master!AD$61:AP$108,12,FALSE))","v":""},{"$nulls":4},0,1,{"$f":"IF(ISNA(VLOOKUP(C15,Master!AD$61:AP$108,10,FALSE)),\"\",VLOOKUP(C15,Master!AD$61:AP$108,10,FALSE))","v":""},null,null,{"$f":"IF(ISNA(VLOOKUP(C15,Master!AD$61:AP$108,11,FALSE)),\"\",VLOOKUP(C15,Master!AD$61:AP$108,11,FALSE))","v":""},{"$f":"IF(ISNA(VLOOKUP(C15,Master!AD$61:AP$108,9,FALSE)),\"\",VLOOKUP(C15,Master!AD$61:AP$108,9,FALSE))","v":""},0,0,0,0,0,0,"","","","","","",0,0,"",0,0,0,0,0,0,0,null,null,0,0,0,0,0,0,0,0,0,0,0,0,0,0,0,0,null,null,0,0,1,0,0,0,1,0,1,0,0,""]
["",2202,5,{"$f":"IF(ISNA(VLOOKUP(C16,Master!AD$61:AP$108,3,FALSE)),\"\",VLOOKUP(C16,Master!AD$61:AP$108,3,FALSE))","v":""},{"$f":"IF(ISNA(VLOOKUP(C16,Master!AD$61:AP$108,7,FALSE)),\"\",VLOOKUP(C16,Master!AD$61:AP$108,7,FALSE))","v":""},{"$f":"IF(ISNA(VLOOKUP(C16,Master!AD$61:AP$108,8,FALSE)),\"\",VLOOKUP(C16,Master!AD$61:AP$108,8,FALSE))","v":""},{"$f":"IF(ISNA(VLOOKUP(C16,Master!AD$61:AP$108,4,FALSE)),\"\",VLOOKUP(C16,Master!AD$61:AP$108,4,FALSE))","v":""},{"$f":"IF(ISNA(VLOOKUP(C16,Master!AD$61:AP$108,5,FALSE)),\"\",VLOOKUP(C16,Master!AD$61:AP$108,5,FALSE))","v":""},{"$f":"IF(ISNA(VLOOKUP(C16,Master!AD$61:AP$108,6,FALSE)),\"\",VLOOKUP(C16,Master!AD$61:AP$108,6,FALSE))","v":""},"","","","","",{"$f":"IF(ISNA(VLOOKUP(C16,Master!AD$61:AP$108,12,FALSE)),\"\",VLOOKUP(C16,Master!AD$61:AP$108,12,FALSE))","v":""},{"$nulls":4},0,1,{"$f":"IF(ISNA(VLOOKUP(C16,Master!AD$61:AP$108,10,FALSE)),\"\",VLOOKUP(C16,Master!AD$61:AP$108,10,FALSE))","v":""},null,null,{"$f":"IF(ISNA(VLOOKUP(C16,Master!AD$61:AP$108,11,FALSE)),\"\",VLOOKUP(C16,Master!AD$61:AP$108,11,FALSE))","v":""},{"$f":"IF(ISNA(VLOOKUP(C16,Master!AD$61:AP$108,9,FALSE)),\"\",VLOOKUP(C16,Master!AD$61:AP$108,9,FALSE))","v":""},0,0,0,0,0,0,"","","","","","",0,0,"",0,0,0,0,0,0,0,null,null,0,0,0,0,0,0,0,0,0,0,0,0,0,0,0,0,null,null,0,0,1,0,0,0,1,0,1,0,0,""]
["",2202,6,{"$f":"IF(ISNA(VLOOKUP(C17,Master!AD$61:AP$108,3,FALSE)),\"\",VLOOKUP(C17,Master!AD$61:AP$108,3,FALSE))","v":""},{"$f":"IF(ISNA(VLOOKUP(C17,Master!AD$61:AP$108,7,FALSE)),\"\",VLOOKUP(C17,Master!AD$61:AP$108,7,FALSE))","v":""},{"$f":"IF(ISNA(VLOOKUP(C17,Master!AD$61:AP$108,8,FALSE)),\"\",VLOOKUP(C17,Master!AD$61:AP$108,8,FALSE))","v":""},{"$f":"IF(ISNA(VLOOKUP(C17,Master!AD$61:AP$108,4,FALSE)),\"\",VLOOKUP(C17,Master!AD$61:AP$108,4,FALSE))","v":""},{"$f":"IF(ISNA(VLOOKUP(C17,Master!AD$61:AP$108,5,FALSE)),\"\",VLOOKUP(C17,Master!AD$61:AP$108,5,FALSE))","v":""},{"$f":"IF(ISNA(VLOOKUP(C17,Master!AD$61:AP$108,6,FALSE)),\"\",VLOOKUP(C17,Master!AD$61:AP$108,6,FALSE))","v":""},"","","","","",{"$f":"IF(ISNA(VLOOKUP(C17,Master!AD$61:AP$108,12,FALSE)),\"\",VLOOKUP(C17,Master!AD$61:AP$108,12,FALSE))","v":""},{"$nulls":4},0,1,{"$f":"IF(ISNA(VLOOKUP(C17,Master!AD$61:AP$108,10,FALSE)),\"\",VLOOKUP(C17,Master!AD$61:AP$108,10,FALSE))","v":""},null,null,{"$f":"IF(ISNA(VLOOKUP(C17,Master!AD$61:AP$108,11,FALSE)),\"\",VLOOKUP(C17,Master!AD$61:AP$108,11,FALSE))","v":""},{"$f":"IF(ISNA(VLOOKUP(C17,Master!AD$61:AP$108,9,FALSE)),\"\",VLOOKUP(C17,Master!AD$61:AP$108,9,FALSE))","v":""},0,0,0,0,0,0,"","","","","","",0,0,"",0,0,0,0,0,0,0,null,null,0,0,0,0,0,0,0,0,0,0,0,0,0,0,0,0,null,null,0,0,1,0,0,0,1,0,1,0,0,""]
["",2202,7,{"$f":"IF(ISNA(VLOOKUP(C18,Master!AD$61:AP$108,3,FALSE)),\"\",VLOOKUP(C18,Master!AD$61:AP$108,3,FALSE))","v":""},{"$f":"IF(ISNA(VLOOKUP(C18,Master!AD$61:AP$108,7,FALSE)),\"\",VLOOKUP(C18,Master!AD$61:AP$108,7,FALSE))","v":""},{"$f":"IF(ISNA(VLOOKUP(C18,Master!AD$61:AP$108,8,FALSE)),\"\",VLOOKUP(C18,Master!AD$61:AP$108,8,FALSE))","v":""},{"$f":"IF(ISNA(VLOOKUP(C18,Master!AD$61:AP$108,4,FALSE)),\"\",VLOOKUP(C18,Master!AD$61:AP$108,4,FALSE))","v":""},{"$f":"IF(ISNA(VLOOKUP(C18,Master!AD$61:AP$108,5,FALSE)),\"\",VLOOKUP(C18,Master!AD$61:AP$108,5,FALSE))","v":""},{"$f":"IF(ISNA(VLOOKUP(C18,Master!AD$61:AP$108,6,FALSE)),\"\",VLOOKUP(C18,Master!AD$61:AP$108,6,FALSE))","v":""},"","","","","",{"$f":"IF(ISNA(VLOOKUP(C18,Master!AD$61:AP$108,12,FALSE)),\"\",VLOOKUP(C18,Master!AD$61:AP$108,12,FALSE))","v":""},{"$nulls":4},0,1,{"$f":"IF(ISNA(VLOOKUP(C18,Master!AD$61:AP$108,10,FALSE)),\"\",VLOOKUP(C18,Master!AD$61:AP$108,10,FALSE))","v":""},null,null,{"$f":"IF(ISNA(VLOOKUP(C18,Master!AD$61:AP$108,11,FALSE)),\"\",VLOOKUP(C18,Master!AD$61:AP$108,11,FALSE))","v":""},{"$f":"IF(ISNA(VLOOKUP(C18,Master!AD$61:AP$108,9,FALSE)),\"\",VLOOKUP(C18,Master!AD$61:AP$108,9,FALSE))","v":""},0,0,0,0,0,0,"","","","","","",0,0,"",0,0,0,0,0,0,0,null,null,0,0,0,0,0,0,0,0,0,0,0,0,0,0,0,0,null,null,0,0,1,0,0,0,1,0,1,0,0,""]
["",2202,8,{"$f":"IF(ISNA(VLOOKUP(C19,Master!AD$61:AP$108,3,FALSE)),\"\",VLOOKUP(C19,Master!AD$61:AP$108,3,FALSE))","v":""},{"$f":"IF(ISNA(VLOOKUP(C19,Master!AD$61:AP$108,7,FALSE)),\"\",VLOOKUP(C19,Master!AD$61:AP$108,7,FALSE))","v":""},{"$f":"IF(ISNA(VLOOKUP(C19,Master!AD$61:AP$108,8,FALSE)),\"\",VLOOKUP(C19,Master!AD$61:AP$108,8,FALSE))","v":""},{"$f":"IF(ISNA(VLOOKUP(C19,Master!AD$61:AP$108,4,FALSE)),\"\",VLOOKUP(C19,Master!AD$61:AP$108,4,FALSE))","v":""},{"$f":"IF(ISNA(VLOOKUP(C19,Master!AD$61:AP$108,5,FALSE)),\"\",VLOOKUP(C19,Master!AD$61:AP$108,5,FALSE))","v":""},{"$f":"IF(ISNA(VLOOKUP(C19,Master!AD$61:AP$108,6,FALSE)),\"\",VLOOKUP(C19,Master!AD$61:AP$108,6,FALSE))","v":""},"","","","","",{"$f":"IF(ISNA(VLOOKUP(C19,Master!AD$61:AP$108,12,FALSE)),\"\",VLOOKUP(C19,Master!AD$61:AP$108,12,FALSE))","v":""},{"$nulls":4},0,1,{"$f":"IF(ISNA(VLOOKUP(C19,Master!AD$61:AP$108,10,FALSE)),\"\",VLOOKUP(C19,Master!AD$61:AP$108,10,FALSE))","v":""},null,null,{"$f":"IF(ISNA(VLOOKUP(C19,Master!AD$61:AP$108,11,FALSE)),\"\",VLOOKUP(C19,Master!AD$61:AP$108,11,FALSE))","v":""},{"$f":"IF(ISNA(VLOOKUP(C19,Master!AD$61:AP$108,9,FALSE)),\"\",VLOOKUP(C19,Master!AD$61:AP$108,9,FALSE))","v":""},0,0,0,0,0,0,"","","","","","",0,0,"",0,0,0,0,0,0,0,null,null,0,0,0,0,0,0,0,0,0,0,0,0,0,0,0,0,null,null,0,0,1,0,0,0,1,0,1,0,0,""]
["",2202,9,{"$f":"IF(ISNA(VLOOKUP(C20,Master!AD$61:AP$108,3,FALSE)),\"\",VLOOKUP(C20,Master!AD$61:AP$108,3,FALSE))","v":""},{"$f":"IF(ISNA(VLOOKUP(C20,Master!AD$61:AP$108,7,FALSE)),\"\",VLOOKUP(C20,Master!AD$61:AP$108,7,FALSE))","v":""},{"$f":"IF(ISNA(VLOOKUP(C20,Master!AD$61:AP$108,8,FALSE)),\"\",VLOOKUP(C20,Master!AD$61:AP$108,8,FALSE))","v":""},{"$f":"IF(ISNA(VLOOKUP(C20,Master!AD$61:AP$108,4,FALSE)),\"\",VLOOKUP(C20,Master!AD$61:AP$108,4,FALSE))","v":""},{"$f":"IF(ISNA(VLOOKUP(C20,Master!AD$61:AP$108,5,FALSE)),\"\",VLOOKUP(C20,Master!AD$61:AP$108,5,FALSE))","v":""},{"$f":"IF(ISNA(VLOOKUP(C20,Master!AD$61:AP$108,6,FALSE)),\"\",VLOOKUP(C20,Master!AD$61:AP$108,6,FALSE))","v":""},"","","","","",{"$f":"IF(ISNA(VLOOKUP(C20,Master!AD$61:AP$108,12,FALSE)),\"\",VLOOKUP(C20,Master!AD$61:AP$108,12,FALSE))","v":""},{"$nulls":4},0,1,{"$f":"IF(ISNA(VLOOKUP(C20,Master!AD$61:AP$108,10,FALSE)),\"\",VLOOKUP(C20,Master!AD$61:AP$108,10,FALSE))","v":""},null,null,{"$f":"IF(ISNA(VLOOKUP(C20,Master!AD$61:AP$108,11,FALSE)),\"\",VLOOKUP(C20,Master!AD$61:AP$108,11,FALSE))","v":""},{"$f":"IF(ISNA(VLOOKUP(C20,Master!AD$61:AP$108,9,FALSE)),\"\",VLOOKUP(C20,Master!AD$61:AP$108,9,FALSE))","v":""},0,0,0,0,0,0,"","","","","","",0,0,"",0,0,0,0,0,0,0,null,null,0,0,0,0,0,0,0,0,0,0,0,0,0,0,0,0,null,null,0,0,1,0,0,0,1,0,1,0,0,""]
["",2202,10,{"$f":"IF(ISNA(VLOOKUP(C21,Master!AD$61:AP$108,3,FALSE)),\"\",VLOOKUP(C21,Master!AD$61:AP$108,3,FALSE))","v":""},{"$f":"IF(ISNA(VLOOKUP(C21,Master!AD$61:AP$108,7,FALSE)),\"\",VLOOKUP(C21,Master!AD$61:AP$108,7,FALSE))","v":""},{"$f":"IF(ISNA(VLOOKUP(C21,Master!AD$61:AP$108,8,FALSE)),\"\",VLOOKUP(C21,Master!AD$61:AP$108,8,FALSE))","v":""},{"$f":"IF(ISNA(VLOOKUP(C21,Master!AD$61:AP$108,4,FALSE)),\"\",VLOOKUP(C21,Master!AD$61:AP$108,4,FALSE))","v":""},{"$f":"IF(ISNA(VLOOKUP(C21,Master!AD$61:AP$108,5,FALSE)),\"\",VLOOKUP(C21,Master!AD$61:AP$108,5,FALSE))","v":""},{"$f":"IF(ISNA(VLOOKUP(C21,Master!AD$61:AP$108,6,FALSE)),\"\",VLOOKUP(C21,Master!AD$61:AP$108,6,FALSE))","v":""},"","","","","",{"$f":"IF(ISNA(VLOOKUP(C21,Master!AD$61:AP$108,12,FALSE)),\"\",VLOOKUP(C21,Master!AD$61:AP$108,12,FALSE))","v":""},{"$nulls":4},0,1,{"$f":"IF(ISNA(VLOOKUP(C21,Master!AD$61:AP$108,10,FALSE)),\"\",VLOOKUP(C21,Master!AD$61:AP$108,10,FALSE))","v":""},null,null,{"$f":"IF(ISNA(VLOOKUP(C21,Master!AD$61:AP$108,11,FALSE)),\"\",VLOOKUP(C21,Master!AD$61:AP$108,11,FALSE))","v":""},{"$f":"IF(ISNA(VLOOKUP(C21,Master!AD$61:AP$108,9,FALSE)),\"\",VLOOKUP(C21,Master!AD$61:AP$108,9,FALSE))","v":""},0,0,0,0,0,0,"","","","","","",0,0,"",0,0,0,0,0,0,0,null,null,0,0,0,0,0,0,0,0,0,0,0,0,0,0,0,0,null,null,0,0,1,0,0,0,1,0,1,0,0,""]
["",2202,11,{"$f":"IF(ISNA(VLOOKUP(C22,Master!AD$61:AP$108,3,FALSE)),\"\",VLOOKUP(C22,Master!AD$61:AP$108,3,FALSE))","v":""},{"$f":"IF(ISNA(VLOOKUP(C22,Master!AD$61:AP$108,7,FALSE)),\"\",VLOOKUP(C22,Master!AD$61:AP$108,7,FALSE))","v":""},{"$f":"IF(ISNA(VLOOKUP(C22,Master!AD$61:AP$108,8,FALSE)),\"\",VLOOKUP(C22,Master!AD$61:AP$108,8,FALSE))","v":""},{"$f":"IF(ISNA(VLOOKUP(C22,Master!AD$61:AP$108,4,FALSE)),\"\",VLOOKUP(C22,Master!AD$61:AP$108,4,FALSE))","v":""},{"$f":"IF(ISNA(VLOOKUP(C22,Master!AD$61:AP$108,5,FALSE)),\"\",VLOOKUP(C22,Master!AD$61:AP$108,5,FALSE))","v":""},{"$f":"IF(ISNA(VLOOKUP(C22,Master!AD$61:AP$108,6,FALSE)),\"\",VLOOKUP(C22,Master!AD$61:AP$108,6,FALSE))","v":""},"","","","","",{"$f":"IF(ISNA(VLOOKUP(C22,Master!AD$61:AP$108,12,FALSE)),\"\",VLOOKUP(C22,Master!AD$61:AP$108,12,FALSE))","v":""},{"$nulls":4},0,1,{"$f":"IF(ISNA(VLOOKUP(C22,Master!AD$61:AP$108,10,FALSE)),\"\",VLOOKUP(C22,Master!AD$61:AP$108,10,FALSE))","v":""},null,null,{"$f":"IF(ISNA(VLOOKUP(C22,Master!AD$61:AP$108,11,FALSE)),\"\",VLOOKUP(C22,Master!AD$61:AP$108,11,FALSE))","v":""},{"$f":"IF(ISNA(VLOOKUP(C22,Master!AD$61:AP$108,9,FALSE)),\"\",VLOOKUP(C22,Master!AD$61:AP$108,9,FALSE))","v":""},0,0,0,0,0,0,"","","","","","",0,0,"",0,0,0,0,0,0,0,null,null,0,0,0,0,0,0,0,0,0,0,0,0,0,0,0,0,null,null,0,0,1,0,0,0,1,0,1,0,0,""]
["",2202,12,{"$f":"IF(ISNA(VLOOKUP(C23,Master!AD$61:AP$108,3,FALSE)),\"\",VLOOKUP(C23,Master!AD$61:AP$108,3,FALSE))","v":""},{"$f":"IF(ISNA(VLOOKUP(C23,Master!AD$61:AP$108,7,FALSE)),\"\",VLOOKUP(C23,Master!AD$61:AP$108,7,FALSE))","v":""},{"$f":"IF(ISNA(VLOOKUP(C23,Master!AD$61:AP$108,8,FALSE)),\"\",VLOOKUP(C23,Master!AD$61:AP$108,8,FALSE))","v":""},{"$f":"IF(ISNA(VLOOKUP(C23,Master!AD$61:AP$108,4,FALSE)),\"\",VLOOKUP(C23,Master!AD$61:AP$108,4,FALSE))","v":""},{"$f":"IF(ISNA(VLOOKUP(C23,Master!AD$61:AP$108,5,FALSE)),\"\",VLOOKUP(C23,Master!AD$61:AP$108,5,FALSE))","v":""},{"$f":"IF(ISNA(VLOOKUP(C23,Master!AD$61:AP$108,6,FALSE)),\"\",VLOOKUP(C23,Master!AD$61:AP$108,6,FALSE))","v":""},"","","","","",{"$f":"IF(ISNA(VLOOKUP(C23,Master!AD$61:AP$108,12,FALSE)),\"\",VLOOKUP(C23,Master!AD$61:AP$108,12,FALSE))","v":""},{"$nulls":4},0,1,{"$f":"IF(ISNA(VLOOKUP(C23,Master!AD$61:AP$108,10,FALSE)),\"\",VLOOKUP(C23,Master!AD$61:AP$108,10,FALSE))","v":""},null,null,{"$f":"IF(ISNA(VLOOKUP(C23,Master!AD$61:AP$108,11,FALSE)),\"\",VLOOKUP(C23,Master!AD$61:AP$108,11,FALSE))","v":""},{"$f":"IF(ISNA(VLOOKUP(C23,Master!AD$61:AP$108,9,FALSE)),\"\",VLOOKUP(C23,Master!AD$61:AP$108,9,FALSE))","v":""},0,0,0,0,0,0,"","","","","","",0,0,"",0,0,0,0,0,0,0,null,null,0,0,0,0,0,0,0,0,0,0,0,0,0,0,0,0,null,null,0,0,1,0,0,0,1,0,1,0,0,""]
["",2202,13,{"$f":"IF(ISNA(VLOOKUP(C24,Master!AD$61:AP$108,3,FALSE)),\"\",VLOOKUP(C24,Master!AD$61:AP$108,3,FALSE))","v":""},{"$f":"IF(ISNA(VLOOKUP(C24,Master!AD$61:AP$108,7,FALSE)),\"\",VLOOKUP(C24,Master!AD$61:AP$108,7,FALSE))","v":""},{"$f":"IF(ISNA(VLOOKUP(C24,Master!AD$61:AP$108,8,FALSE)),\"\",VLOOKUP(C24,Master!AD$61:AP$108,8,FALSE))","v":""},{"$f":"IF(ISNA(VLOOKUP(C24,Master!AD$61:AP$108,4,FALSE)),\"\",VLOOKUP(C24,Master!AD$61:AP$108,4,FALSE))","v":""},{"$f":"IF(ISNA(VLOOKUP(C24,Master!AD$61:AP$108,5,FALSE)),\"\",VLOOKUP(C24,Master!AD$61:AP$108,5,FALSE))","v":""},{"$f":"IF(ISNA(VLOOKUP(C24,Master!AD$61:AP$108,6,FALSE)),\"\",VLOOKUP(C24,Master!AD$61:AP$108,6,FALSE))","v":""},"","","","","",{"$f":"IF(ISNA(VLOOKUP(C24,Master!AD$61:AP$108,12,FALSE)),\"\",VLOOKUP(C24,Master!AD$61:AP$108,12,FALSE))","v":""},{"$nulls":4},0,1,{"$f":"IF(ISNA(VLOOKUP(C24,Master!AD$61:AP$108,10,FALSE)),\"\",VLOOKUP(C24,Master!AD$61:AP$108,10,FALSE))","v":""},null,null,{"$f":"IF(ISNA(VLOOKUP(C24,Master!AD$61:AP$108,11,FALSE)),\"\",VLOOKUP(C24,Master!AD$61:AP$108,11,FALSE))","v":""},{"$f":"IF(ISNA(VLOOKUP(C24,Master!AD$61:AP$108,9,FALSE)),\"\",VLOOKUP(C24,Master!AD$61:AP$108,9,FALSE))","v":""},0,0,0,0,0,0,"","","","","","",0,0,"",0,0,0,0,0,0,0,null,null,0,0,0,0,0,0,0,0,0,0,0,0,0,0,0,0,null,null,0,0,1,0,0,0,1,0,1,0,0,""]
["",2202,14,{"$f":"IF(ISNA(VLOOKUP(C25,Master!AD$61:AP$108,3,FALSE)),\"\",VLOOKUP(C25,Master!AD$61:AP$108,3,FALSE))","v":""},{"$f":"IF(ISNA(VLOOKUP(C25,Master!AD$61:AP$108,7,FALSE)),\"\",VLOOKUP(C25,Master!AD$61:AP$108,7,FALSE))","v":""},{"$f":"IF(ISNA(VLOOKUP(C25,Master!AD$61:AP$108,8,FALSE)),\"\",VLOOKUP(C25,Master!AD$61:AP$108,8,FALSE))","v":""},{"$f":"IF(ISNA(VLOOKUP(C25,Master!AD$61:AP$108,4,FALSE)),\"\",VLOOKUP(C25,Master!AD$61:AP$108,4,FALSE))","v":""},{"$f":"IF(ISNA(VLOOKUP(C25,Master!AD$61:AP$108,5,FALSE)),\"\",VLOOKUP(C25,Master!AD$61:AP$108,5,FALSE))","v":""},{"$f":"IF(ISNA(VLOOKUP(C25,Master!AD$61:AP$108,6,FALSE)),\"\",VLOOKUP(C25,Master!AD$61:AP$108,6,FALSE))","v":""},"","","","","",{"$f":"IF(ISNA(VLOOKUP(C25,Master!AD$61:AP$108,12,FALSE)),\"\",VLOOKUP(C25,Master!AD$61:AP$108,12,FALSE))","v":""},{"$nulls":4},0,1,{"$f":"IF(ISNA(VLOOKUP(C25,Master!AD$61:AP$108,10,FALSE)),\"\",VLOOKUP(C25,Master!AD$61:AP$108,10,FALSE))","v":""},null,null,{"$f":"IF(ISNA(VLOOKUP(C25,Master!AD$61:AP$108,11,FALSE)),\"\",VLOOKUP(C25,Master!AD$61:AP$108,11,FALSE))","v":""},{"$f":"IF(ISNA(VLOOKUP(C25,Master!AD$61:AP$108,9,FALSE)),\"\",VLOOKUP(C25,Master!AD$61:AP$108,9,FALSE))","v":""},0,0,0,0,0,0,"","","","","","",0,0,{"$f":"IF(AND(AH25=\"\"),\"\",ROUND((AH25+AI25)*$AO$10,0)*BV25)","v":""},0,0,0,0,0,0,0,null,null,0,0,0,0,0,0,0,0,0,0,0,0,0,0,0,0,null,null,0,0,1,0,0,0,1,0,1,0,0,""]
[{"$nulls":6},"TOTAL GAZETTED REGULAR",null,{"$f":"SUM(I12:I25)","v":0},{"$f":"SUM(J12:J25)","v":0},null,{"$f":"SUM(L12:L25)","v":0},{"$f":"SUM(M12:M25)","v":0},{"$f":"SUM(N12:N25)","v":0},{"$nulls":31},0,{"$nulls":30},{"$f":"MID(E26,5,4)","v":""}]
[{"$f":"IF(I27=\"\",\"\",IF(I27>0,MAX(A12:A25)+1,\"\"))","v":""},2202,1,{"$f":"IF(ISNA(VLOOKUP(C27,Master!AQ$61:BC$286,3,FALSE)),\"\",VLOOKUP(C27,Master!AQ$61:BC$286,3,FALSE))","v":""},{"$f":"IF(ISNA(VLOOKUP(C27,Master!AQ$61:BC$286,7,FALSE)),\"\",VLOOKUP(C27,Master!AQ$61:BC$286,7,FALSE))","v":""},{"$f":"IF(ISNA(VLOOKUP(C27,Master!AQ$61:BC$286,8,FALSE)),\"\",VLOOKUP(C27,Master!AQ$61:BC$286,8,FALSE))","v":""},{"$f":"IF(ISNA(VLOOKUP(C27,Master!AQ$61:BC$286,4,FALSE)),\"\",VLOOKUP(C27,Master!AQ$61:BC$286,4,FALSE))","v":""},{"$f":"IF(ISNA(VLOOKUP(C27,Master!AQ$61:BC$286,5,FALSE)),\"\",VLOOKUP(C27,Master!AQ$61:BC$286,5,FALSE))","v":""},{"$f":"IF(ISNA(VLOOKUP(C27,Master!AQ$61:BC$286,6,FALSE)),\"\",VLOOKUP(C27,Master!AQ$61:BC$286,6,FALSE))","v":""},{"$f":"IF(AND(I27=\"\"),\"\",I27*12)","v":""},{"$f":"IF(AND(I27=\"\"),\"\",IF(I27<=0,\"\",(CONCATENATE(\"01.07.\",(YEAR(TODAY())+1)))))","v":""},{"$f":"IF(AND(I27=\"\"),\"\",ROUND(ROUND(I27*3%,0),-2)*IF(H27=\"FIX PAY\",0,1)*8)","v":""},{"$f":"IF(AND(I27=\"\"),\"\",J27+L27)","v":""},{"$f":"IF(AND(I27=\"\"),\"\",IF(O27=\"FIX PAY\",M27,((IF(O27=\"FIX PAY\",0,AG27*4+I27*8)))))","v":""},{"$f":"IF(ISNA(VLOOKUP(C27,Master!AQ$61:BC$286,12,FALSE)),\"\",VLOOKUP(C27,Master!AQ$61:BC$286,12,FALSE))","v":""},{"$nulls":4},{"$f":"IF(H27=\"l-10\",6774,IF(H27=\"l-11\",6774,IF(H27=\"l-12\",6774,0)))","v":0},1,{"$f":"IF(ISNA(VLOOKUP(C27,Master!AQ$61:BC$286,10,FALSE)),\"\",VLOOKUP(C27,Master!AQ$61:BC$286,10,FALSE))","v":""},null,null,{"$f":"IF(ISNA(VLOOKUP(C27,Master!AQ$61:BC$286,11,FALSE)),\"\",VLOOKUP(C27,Master!AQ$61:BC$286,11,FALSE))","v":""},{"$f":"IF(ISNA(VLOOKUP(C27,Master!AQ$61:BC$286,9,FALSE)),\"\",VLOOKUP(C27,Master!AQ$61:BC$286,9,FALSE))","v":""},{"$f":"IF(Z27=\"MALE\",1,0)*(IF(G27=\"JAMADAR\",1,0))*(IF(I27<=0,0,1))","v":0},{"$f":"IF(Z27=\"FEMALE\",1,0)*(IF(G27=\"JAMADAR\",1,0))*(IF(I27<=0,0,1))","v":0},{"$f":"IF(Z27=\"MALE\",1,0)*(IF(G27=\"LAB BOY\",1,0))*(IF(I27<=0,0,1))","v":0},{"$f":"IF(Z27=\"FEMALE\",1,0)*(IF(G27=\"LAB BOY\",1,0))*(IF(I27<=0,0,1))","v":0},{"$f":"IF(Z27=\"MALE\",1,0)*(IF(G27=\"PEON\",1,0))*(IF(I27<=0,0,1))","v":0},{"$f":"IF(Z27=\"FEMALE\",1,0)*(IF(G27=\"PEON\",1,0))*(IF(I27<=0,0,1))","v":0},{"$f":"IF(AND(I27=\"\"),\"\",I27-ROUNDUP(ROUND((I27*3%)-(I27*3%)*2.9%,-2),0))","v":""},{"$f":"IF(AND(I27=\"\"),\"\",$M27*$BR27)","v":""},{"$f":"IF(AND(I27=\"\"),\"\",$M27*$BS27)","v":""},{"$f":"IF(AND(I27=\"\"),\"\",$M27*$BT27)","v":""},{"$f":"IF(AND(I27=\"\"),\"\",$M27*$BU27)","v":""},{"$f":"IF(AND(I27=\"\"),\"\",ROUND((AH27+AI27)*$AL$10,0)*BV27)","v":""},0,0,{"$f":"IF(AND(I27=\"\"),\"\",ROUND((AH27+AI27)*$AO$10,0)*BV27)","v":""},{"$f":"$G$222*BS27*BV27*(IF(I27<=0,0,1))*(IF(H27<=4800,1,0))","v":0},0,{"$f":"IF(G27=\"CLERK GRADE I\",1,IF(G27=\"CLERK GRADE II\",1,0))*75*12*BV27*(IF(I27<=0,0,1))*BW27","v":0},{"$f":"IF(AND(I27=\"\"),0,(IF(G27=\"ASSISTANT\",12,IF(G27=\"CLERK GRADE I\",12,IF(G27=\"CLERK GRADE II\",12,IF(G27=\"FIELDMAN & FIELD REC\",12,IF(G27=\"LAB BOY\",12,IF(G27=\"JAMADAR\",12,IF(G27=\"PEON\",12,10))))))))*(MINA(ROUND(I27*6%,0),600))*(IF($V27=\"yes\",1,0)))","v":0},0,{"$f":"IF(AND(G27=\"\"),0,SUM(AL27:AT27)+AH27+AI27)","v":0},{"$f":"IF(AND(G27=\"\"),0,AU27)","v":0},null,null,{"$f":"AV27+AW27+AX27","v":0},{"$f":"IF(AND(G27=\"\"),0,N27*BR27)","v":0},{"$f":"IF(AND(G27=\"\"),0,N27*BS27)","v":0},{"$f":"IF(AND(G27=\"\"),0,N27*BT27)","v":0},{"$f":"IF(AND(G27=\"\"),0,N27*BU27)","v":0},{"$f":"ROUND((AZ27+BA27)*$BD$10,0)*BV27","v":0},{"$f":"IF(AND(G27=\"\"),0,ROUND((IF(O27=\"FIX PAY\",0,AG27))*$BE$10*2,0)*BV27)","v":0},0,{"$f":"ROUND((AZ27+BA27)*$BG$10,0)*BV27","v":0},{"$f":"3387*2*BS27*BV27*(IF(I27<=0,0,1))*(IF(H27<=4800,1,0))","v":0},0,{"$f":"IF(G27=\"CLERK GRADE I\",1,IF(G27=\"CLERK GRADE II\",1,0))*75*12*BV27*(IF(I27<=0,0,1))*BW27","v":0},{"$f":"IF(AND(G27=\"\"),0,(IF(G27=\"ASSISTANT\",12,IF(G27=\"CLERK GRADE I\",12,IF(G27=\"CLERK GRADE II\",12,IF(G27=\"FIELDMAN & FIELD REC\",12,IF(G27=\"LAB BOY\",12,IF(G27=\"JAMADAR\",12,IF(G27=\"PEON\",12,10))))))))*(MINA(ROUND(AG27*6%,0),600))*(IF($V27=\"yes\",1,)))","v":0},{"$f":"(IF(G27=\"LAB BOY\",150,IF(G27=\"JAMADAR\",150,IF(G27=\"PEON\",150,0))))*12*BV27*(IF(I27<=0,0,1))","v":0},{"$f":"SUM(BD27:BL27)+AZ27+BA27","v":0},{"$f":"BM27","v":0},null,null,{"$f":"BN27+BO27+BP27","v":0},{"$f":"(IF(G27=\"PRINCIPAL\",1,IF(G27=\"H M\",1,IF(G27=\"AGRICULTURE INST\",1,IF(G27=\"TEACHER-1ST\",1,IF(G27=\"PTI  I  (13)\",1,IF(G27=\"AGRICULTURE TEACH\",1,IF(G27=\"INSTRUCTOR\",1,0))))))))+(IF(G27=\"JR TEACHER\",1,IF(G27=\"LIBRARIAN I\",1,0)))*(IF(O27=\"FIX PAY\",0,1))","v":0},{"$f":"IF(BR27<=0,1,0)*(IF(O27=\"FIX PAY\",0,1))","v":1},{"$f":"(IF(G27=\"PRINCIPAL (16)\",1,IF(G27=\"V P (14)\",1,IF(G27=\"H M (14)\",1,IF(G27=\"AGRICULTURE INST (13)\",1,IF(G27=\"TEACHER-1ST (13)\",1,IF(G27=\"PTI  I  (13)\",1,IF(G27=\"AGRICULTURE TEACH (13)\",1,IF(G27=\"INSTRUCTOR (13)\",1,0))))))))+(IF(G27=\"JR TEACHER (13)\",1,IF(G27=\"LIBRARIAN I (13)\",1,0))))*(IF(O27=\"FIX PAY\",1,0))","v":0},{"$f":"IF(BT27<=0,1,0)*(IF(O27=\"FIX PAY\",1,0))","v":0},0,{"$f":"IF(Y27=\"No\",0,1)","v":1},{"$f":"IF((ROUND((SUMPRODUCT(MID(0&E27,LARGE(INDEX(ISNUMBER(--MID(E27,ROW($1:$25),1))* ROW($1:$25),0),ROW($1:$25))+1,1)*10^ROW($1:$25)/10)),-8)/100000000)>=2004,1,0)","v":0},{"$f":"IF(I27<=0,0,1)","v":1},0,0,{"$f":"IF(AND(E27=\"\"),\"\",IF(AND(E27<=0),\"\",IF((ROUND((SUMPRODUCT(MID(0&E27,LARGE(INDEX(ISNUMBER(--MID(E27,ROW($1:$70),1))* ROW($1:$70),0),ROW($1:$70))+1,1)*10^ROW($1:$70)/10)),-8)/100000000)<2004,1,0)))","v":""}]
[{"$f":"IF(I28=\"\",\"\",IF(I28>0,A27+1,\"\"))","v":""},2202,2,{"$f":"IF(ISNA(VLOOKUP(C28,Master!AQ$61:BC$286,3,FALSE)),\"\",VLOOKUP(C28,Master!AQ$61:BC$286,3,FALSE))","v":""},{"$f":"IF(ISNA(VLOOKUP(C28,Master!AQ$61:BC$286,7,FALSE)),\"\",VLOOKUP(C28,Master!AQ$61:BC$286,7,FALSE))","v":""},{"$f":"IF(ISNA(VLOOKUP(C28,Master!AQ$61:BC$286,8,FALSE)),\"\",VLOOKUP(C28,Master!AQ$61:BC$286,8,FALSE))","v":""},{"$f":"IF(ISNA(VLOOKUP(C28,Master!AQ$61:BC$286,4,FALSE)),\"\",VLOOKUP(C28,Master!AQ$61:BC$286,4,FALSE))","v":""},{"$f":"IF(ISNA(VLOOKUP(C28,Master!AQ$61:BC$286,5,FALSE)),\"\",VLOOKUP(C28,Master!AQ$61:BC$286,5,FALSE))","v":""},{"$f":"IF(ISNA(VLOOKUP(C28,Master!AQ$61:BC$286,6,FALSE)),\"\",VLOOKUP(C28,Master!AQ$61:BC$286,6,FALSE))","v":""},{"$f":"IF(AND(I28=\"\"),\"\",I28*12)","v":""},{"$f":"IF(AND(I28=\"\"),\"\",IF(I28<=0,\"\",(CONCATENATE(\"01.07.\",(YEAR(TODAY())+1)))))","v":""},{"$f":"IF(AND(I28=\"\"),\"\",ROUND(ROUND(I28*3%,0),-2)*IF(H28=\"FIX PAY\",0,1)*8)","v":""},{"$f":"IF(AND(I28=\"\"),\"\",J28+L28)","v":""},{"$f":"IF(AND(I28=\"\"),\"\",IF(O28=\"FIX PAY\",M28,((IF(O28=\"FIX PAY\",0,AG28*4+I28*8)))))","v":""},{"$f":"IF(ISNA(VLOOKUP(C28,Master!AQ$61:BC$286,12,FALSE)),\"\",VLOOKUP(C28,Master!AQ$61:BC$286,12,FALSE))","v":""},{"$nulls":4},0,1,{"$f":"IF(ISNA(VLOOKUP(C28,Master!AQ$61:BC$286,10,FALSE)),\"\",VLOOKUP(C28,Master!AQ$61:BC$286,10,FALSE))","v":""},null,null,{"$f":"IF(ISNA(VLOOKUP(C28,Master!AQ$61:BC$286,11,FALSE)),\"\",VLOOKUP(C28,Master!AQ$61:BC$286,11,FALSE))","v":""},{"$f":"IF(ISNA(VLOOKUP(C28,Master!AQ$61:BC$286,9,FALSE)),\"\",VLOOKUP(C28,Master!AQ$61:BC$286,9,FALSE))","v":""},{"$f":"IF(Z28=\"MALE\",1,0)*(IF(G28=\"JAMADAR\",1,0))*(IF(I28<=0,0,1))","v":0},{"$f":"IF(Z28=\"FEMALE\",1,0)*(IF(G28=\"JAMADAR\",1,0))*(IF(I28<=0,0,1))","v":0},{"$f":"IF(Z28=\"MALE\",1,0)*(IF(G28=\"LAB BOY\",1,0))*(IF(I28<=0,0,1))","v":0},{"$f":"IF(Z28=\"FEMALE\",1,0)*(IF(G28=\"LAB BOY\",1,0))*(IF(I28<=0,0,1))","v":0},{"$f":"IF(Z28=\"MALE\",1,0)*(IF(G28=\"PEON\",1,0))*(IF(I28<=0,0,1))","v":0},{"$f":"IF(Z28=\"FEMALE\",1,0)*(IF(G28=\"PEON\",1,0))*(IF(I28<=0,0,1))","v":0},{"$f":"IF(AND(I28=\"\"),\"\",I28-ROUNDUP(ROUND((I28*3%)-(I28*3%)*2.9%,-2),0))","v":""},{"$f":"IF(AND(I28=\"\"),\"\",$M28*$BR28)","v":""},{"$f":"IF(AND(I28=\"\"),\"\",$M28*$BS28)","v":""},{"$f":"IF(AND(I28=\"\"),\"\",$M28*$BT28)","v":""},{"$f":"IF(AND(I28=\"\"),\"\",$M28*$BU28)","v":""},{"$f":"IF(AND(I28=\"\"),\"\",ROUND((AH28+AI28)*$AL$10,0)*BV28)","v":""},0,0,{"$f":"IF(AND(I28=\"\"),\"\",ROUND((AH28+AI28)*$AO$10,0)*BV28)","v":""},0,0,0,0,0,0,0,null,null,{"$f":"AV28+AW28+AX28","v":0},0,0,0,0,{"$f":"ROUND((AZ28+BA28)*$BD$10,0)*BV28","v":0},0,0,{"$f":"ROUND((AZ28+BA28)*$BG$10,0)*BV28","v":0},0,0,0,0,0,{"$f":"SUM(BD28:BL28)+AZ28+BA28","v":0},{"$f":"BM28","v":0},null,null,{"$f":"BN28+BO28+BP28","v":0},0,1,0,0,0,{"$f":"IF(Y28=\"No\",0,1)","v":1},0,{"$f":"IF(I28<=0,0,1)","v":1},0,0,""]
[{"$f":"IF(I29=\"\",\"\",IF(I29>0,A28+1,\"\"))","v":""},2202,3,{"$f":"IF(ISNA(VLOOKUP(C29,Master!AQ$61:BC$286,3,FALSE)),\"\",VLOOKUP(C29,Master!AQ$61:BC$286,3,FALSE))","v":""},{"$f":"IF(ISNA(VLOOKUP(C29,Master!AQ$61:BC$286,7,FALSE)),\"\",VLOOKUP(C29,Master!AQ$61:BC$286,7,FALSE))","v":""},{"$f":"IF(ISNA(VLOOKUP(C29,Master!AQ$61:BC$286,8,FALSE)),\"\",VLOOKUP(C29,Master!AQ$61:BC$286,8,FALSE))","v":""},{"$f":"IF(ISNA(VLOOKUP(C29,Master!AQ$61:BC$286,4,FALSE)),\"\",VLOOKUP(C29,Master!AQ$61:BC$286,4,FALSE))","v":""},{"$f":"IF(ISNA(VLOOKUP(C29,Master!AQ$61:BC$286,5,FALSE)),\"\",VLOOKUP(C29,Master!AQ$61:BC$286,5,FALSE))","v":""},{"$f":"IF(ISNA(VLOOKUP(C29,Master!AQ$61:BC$286,6,FALSE)),\"\",VLOOKUP(C29,Master!AQ$61:BC$286,6,FALSE))","v":""},"","","","","",{"$f":"IF(ISNA(VLOOKUP(C29,Master!AQ$61:BC$286,12,FALSE)),\"\",VLOOKUP(C29,Master!AQ$61:BC$286,12,FALSE))","v":""},{"$nulls":4},0,1,{"$f":"IF(ISNA(VLOOKUP(C29,Master!AQ$61:BC$286,10,FALSE)),\"\",VLOOKUP(C29,Master!AQ$61:BC$286,10,FALSE))","v":""},null,null,{"$f":"IF(ISNA(VLOOKUP(C29,Master!AQ$61:BC$286,11,FALSE)),\"\",VLOOKUP(C29,Master!AQ$61:BC$286,11,FALSE))","v":""},{"$f":"IF(ISNA(VLOOKUP(C29,Master!AQ$61:BC$286,9,FALSE)),\"\",VLOOKUP(C29,Master!AQ$61:BC$286,9,FALSE))","v":""},0,0,0,0,0,0,"","","","","","",0,0,"",0,0,0,0,0,0,0,null,null,0,0,0,0,0,0,0,0,0,0,0,0,0,0,0,0,null,null,0,0,1,0,0,0,1,0,1,0,0,""]
["",2202,4,{"$f":"IF(ISNA(VLOOKUP(C30,Master!AQ$61:BC$286,3,FALSE)),\"\",VLOOKUP(C30,Master!AQ$61:BC$286,3,FALSE))","v":""},{"$f":"IF(ISNA(VLOOKUP(C30,Master!AQ$61:BC$286,7,FALSE)),\"\",VLOOKUP(C30,Master!AQ$61:BC$286,7,FALSE))","v":""},{"$f":"IF(ISNA(VLOOKUP(C30,Master!AQ$61:BC$286,8,FALSE)),\"\",VLOOKUP(C30,Master!AQ$61:BC$286,8,FALSE))","v":""},{"$f":"IF(ISNA(VLOOKUP(C30,Master!AQ$61:BC$286,4,FALSE)),\"\",VLOOKUP(C30,Master!AQ$61:BC$286,4,FALSE))","v":""},{"$f":"IF(ISNA(VLOOKUP(C30,Master!AQ$61:BC$286,5,FALSE)),\"\",VLOOKUP(C30,Master!AQ$61:BC$286,5,FALSE))","v":""},{"$f":"IF(ISNA(VLOOKUP(C30,Master!AQ$61:BC$286,6,FALSE)),\"\",VLOOKUP(C30,Master!AQ$61:BC$286,6,FALSE))","v":""},"","","","","",{"$f":"IF(ISNA(VLOOKUP(C30,Master!AQ$61:BC$286,12,FALSE)),\"\",VLOOKUP(C30,Master!AQ$61:BC$286,12,FALSE))","v":""},{"$nulls":4},0,1,{"$f":"IF(ISNA(VLOOKUP(C30,Master!AQ$61:BC$286,10,FALSE)),\"\",VLOOKUP(C30,Master!AQ$61:BC$286,10,FALSE))","v":""},null,null,{"$f":"IF(ISNA(VLOOKUP(C30,Master!AQ$61:BC$286,11,FALSE)),\"\",VLOOKUP(C30,Master!AQ$61:BC$286,11,FALSE))","v":""},{"$f":"IF(ISNA(VLOOKUP(C30,Master!AQ$61:BC$286,9,FALSE)),\"\",VLOOKUP(C30,Master!AQ$61:BC$286,9,FALSE))","v":""},0,0,0,0,0,0,"","","","","","",0,0,"",0,0,0,0,0,0,0,null,null,0,0,0,0,0,0,0,0,0,0,0,0,0,0,0,0,null,null,0,0,1,0,0,0,1,0,1,0,0,""]
["",2202,5,{"$f":"IF(ISNA(VLOOKUP(C31,Master!AQ$61:BC$286,3,FALSE)),\"\",VLOOKUP(C31,Master!AQ$61:BC$286,3,FALSE))","v":""},{"$f":"IF(ISNA(VLOOKUP(C31,Master!AQ$61:BC$286,7,FALSE)),\"\",VLOOKUP(C31,Master!AQ$61:BC$286,7,FALSE))","v":""},{"$f":"IF(ISNA(VLOOKUP(C31,Master!AQ$61:BC$286,8,FALSE)),\"\",VLOOKUP(C31,Master!AQ$61:BC$286,8,FALSE))","v":""},{"$f":"IF(ISNA(VLOOKUP(C31,Master!AQ$61:BC$286,4,FALSE)),\"\",VLOOKUP(C31,Master!AQ$61:BC$286,4,FALSE))","v":""},{"$f":"IF(ISNA(VLOOKUP(C31,Master!AQ$61:BC$286,5,FALSE)),\"\",VLOOKUP(C31,Master!AQ$61:BC$286,5,FALSE))","v":""},{"$f":"IF(ISNA(VLOOKUP(C31,Master!AQ$61:BC$286,6,FALSE)),\"\",VLOOKUP(C31,Master!AQ$61:BC$286,6,FALSE))","v":""},"","","","","",{"$f":"IF(ISNA(VLOOKUP(C31,Master!AQ$61:BC$286,12,FALSE)),\"\",VLOOKUP(C31,Master!AQ$61:BC$286,12,FALSE))","v":""},{"$nulls":4},0,1,{"$f":"IF(ISNA(VLOOKUP(C31,Master!AQ$61:BC$286,10,FALSE)),\"\",VLOOKUP(C31,Master!AQ$61:BC$286,10,FALSE))","v":""},null,null,{"$f":"IF(ISNA(VLOOKUP(C31,Master!AQ$61:BC$286,11,FALSE)),\"\",VLOOKUP(C31,Master!AQ$61:BC$286,11,FALSE))","v":""},{"$f":"IF(ISNA(VLOOKUP(C31,Master!AQ$61:BC$286,9,FALSE)),\"\",VLOOKUP(C31,Master!AQ$61:BC$286,9,FALSE))","v":""},0,0,0,0,0,0,"","","","","","",0,0,"",0,0,0,0,0,0,0,null,null,0,0,0,0,0,0,0,0,0,0,0,0,0,0,0,0,null,null,0,0,1,0,0,0,1,0,1,0,0,""]
["",2202,6,{"$f":"IF(ISNA(VLOOKUP(C32,Master!AQ$61:BC$286,3,FALSE)),\"\",VLOOKUP(C32,Master!AQ$61:BC$286,3,FALSE))","v":""},{"$f":"IF(ISNA(VLOOKUP(C32,Master!AQ$61:BC$286,7,FALSE)),\"\",VLOOKUP(C32,Master!AQ$61:BC$286,7,FALSE))","v":""},{"$f":"IF(ISNA(VLOOKUP(C32,Master!AQ$61:BC$286,8,FALSE)),\"\",VLOOKUP(C32,Master!AQ$61:BC$286,8,FALSE))","v":""},{"$f":"IF(ISNA(VLOOKUP(C32,Master!AQ$61:BC$286,4,FALSE)),\"\",VLOOKUP(C32,Master!AQ$61:BC$286,4,FALSE))","v":""},{"$f":"IF(ISNA(VLOOKUP(C32,Master!AQ$61:BC$286,5,FALSE)),\"\",VLOOKUP(C32,Master!AQ$61:BC$286,5,FALSE))","v":""},{"$f":"IF(ISNA(VLOOKUP(C32,Master!AQ$61:BC$286,6,FALSE)),\"\",VLOOKUP(C32,Master!AQ$61:BC$286,6,FALSE))","v":""},"","","","","",{"$f":"IF(ISNA(VLOOKUP(C32,Master!AQ$61:BC$286,12,FALSE)),\"\",VLOOKUP(C32,Master!AQ$61:BC$286,12,FALSE))","v":""},{"$nulls":4},0,1,{"$f":"IF(ISNA(VLOOKUP(C32,Master!AQ$61:BC$286,10,FALSE)),\"\",VLOOKUP(C32,Master!AQ$61:BC$286,10,FALSE))","v":""},null,null,{"$f":"IF(ISNA(VLOOKUP(C32,Master!AQ$61:BC$286,11,FALSE)),\"\",VLOOKUP(C32,Master!AQ$61:BC$286,11,FALSE))","v":""},{"$f":"IF(ISNA(VLOOKUP(C32,Master!AQ$61:BC$286,9,FALSE)),\"\",VLOOKUP(C32,Master!AQ$61:BC$286,9,FALSE))","v":""},0,0,0,0,0,0,"","","","","","",0,0,"",0,0,0,0,0,0,0,null,null,0,0,0,0,0,0,0,0,0,0,0,0,0,0,0,0,null,null,0,0,1,0,0,0,1,0,1,0,0,""]
["",2202,7,{"$f":"IF(ISNA(VLOOKUP(C33,Master!AQ$61:BC$286,3,FALSE)),\"\",VLOOKUP(C33,Master!AQ$61:BC$286,3,FALSE))","v":""},{"$f":"IF(ISNA(VLOOKUP(C33,Master!AQ$61:BC$286,7,FALSE)),\"\",VLOOKUP(C33,Master!AQ$61:BC$286,7,FALSE))","v":""},{"$f":"IF(ISNA(VLOOKUP(C33,Master!AQ$61:BC$286,8,FALSE)),\"\",VLOOKUP(C33,Master!AQ$61:BC$286,8,FALSE))","v":""},{"$f":"IF(ISNA(VLOOKUP(C33,Master!AQ$61:BC$286,4,FALSE)),\"\",VLOOKUP(C33,Master!AQ$61:BC$286,4,FALSE))","v":""},{"$f":"IF(ISNA(VLOOKUP(C33,Master!AQ$61:BC$286,5,FALSE)),\"\",VLOOKUP(C33,Master!AQ$61:BC$286,5,FALSE))","v":""},{"$f":"IF(ISNA(VLOOKUP(C33,Master!AQ$61:BC$286,6,FALSE)),\"\",VLOOKUP(C33,Master!AQ$61:BC$286,6,FALSE))","v":""},"","","","","",{"$f":"IF(ISNA(VLOOKUP(C33,Master!AQ$61:BC$286,12,FALSE)),\"\",VLOOKUP(C33,Master!AQ$61:BC$286,12,FALSE))","v":""},{"$nulls":4},0,1,{"$f":"IF(ISNA(VLOOKUP(C33,Master!AQ$61:BC$286,10,FALSE)),\"\",VLOOKUP(C33,Master!AQ$61:BC$286,10,FALSE))","v":""},null,null,{"$f":"IF(ISNA(VLOOKUP(C33,Master!AQ$61:BC$286,11,FALSE)),\"\",VLOOKUP(C33,Master!AQ$61:BC$286,11,FALSE))","v":""},{"$f":"IF(ISNA(VLOOKUP(C33,Master!AQ$61:BC$286,9,FALSE)),\"\",VLOOKUP(C33,Master!AQ$61:BC$286,9,FALSE))","v":""},0,0,0,0,0,0,"","","","","","",0,0,"",0,0,0,0,0,0,0,null,null,0,0,0,0,0,0,0,0,0,0,0,0,0,0,0,0,null,null,0,0,1,0,0,0,1,0,1,0,0,""]
["",2202,8,{"$f":"IF(ISNA(VLOOKUP(C34,Master!AQ$61:BC$286,3,FALSE)),\"\",VLOOKUP(C34,Master!AQ$61:BC$286,3,FALSE))","v":""},{"$f":"IF(ISNA(VLOOKUP(C34,Master!AQ$61:BC$286,7,FALSE)),\"\",VLOOKUP(C34,Master!AQ$61:BC$286,7,FALSE))","v":""},{"$f":"IF(ISNA(VLOOKUP(C34,Master!AQ$61:BC$286,8,FALSE)),\"\",VLOOKUP(C34,Master!AQ$61:BC$286,8,FALSE))","v":""},{"$f":"IF(ISNA(VLOOKUP(C34,Master!AQ$61:BC$286,4,FALSE)),\"\",VLOOKUP(C34,Master!AQ$61:BC$286,4,FALSE))","v":""},{"$f":"IF(ISNA(VLOOKUP(C34,Master!AQ$61:BC$286,5,FALSE)),\"\",VLOOKUP(C34,Master!AQ$61:BC$286,5,FALSE))","v":""},{"$f":"IF(ISNA(VLOOKUP(C34,Master!AQ$61:BC$286,6,FALSE)),\"\",VLOOKUP(C34,Master!AQ$61:BC$286,6,FALSE))","v":""},"","","","","",{"$f":"IF(ISNA(VLOOKUP(C34,Master!AQ$61:BC$286,12,FALSE)),\"\",VLOOKUP(C34,Master!AQ$61:BC$286,12,FALSE))","v":""},{"$nulls":4},0,1,{"$f":"IF(ISNA(VLOOKUP(C34,Master!AQ$61:BC$286,10,FALSE)),\"\",VLOOKUP(C34,Master!AQ$61:BC$286,10,FALSE))","v":""},null,null,{"$f":"IF(ISNA(VLOOKUP(C34,Master!AQ$61:BC$286,11,FALSE)),\"\",VLOOKUP(C34,Master!AQ$61:BC$286,11,FALSE))","v":""},{"$f":"IF(ISNA(VLOOKUP(C34,Master!AQ$61:BC$286,9,FALSE)),\"\",VLOOKUP(C34,Master!AQ$61:BC$286,9,FALSE))","v":""},0,0,0,0,0,0,"","","","","","",0,0,"",0,0,0,0,0,0,0,null,null,0,0,0,0,0,0,0,0,0,0,0,0,0,0,0,0,null,null,0,0,1,0,0,0,1,0,1,0,0,""]
["",2202,9,{"$f":"IF(ISNA(VLOOKUP(C35,Master!AQ$61:BC$286,3,FALSE)),\"\",VLOOKUP(C35,Master!AQ$61:BC$286,3,FALSE))","v":""},{"$f":"IF(ISNA(VLOOKUP(C35,Master!AQ$61:BC$286,7,FALSE)),\"\",VLOOKUP(C35,Master!AQ$61:BC$286,7,FALSE))","v":""},{"$f":"IF(ISNA(VLOOKUP(C35,Master!AQ$61:BC$286,8,FALSE)),\"\",VLOOKUP(C35,Master!AQ$61:BC$286,8,FALSE))","v":""},{"$f":"IF(ISNA(VLOOKUP(C35,Master!AQ$61:BC$286,4,FALSE)),\"\",VLOOKUP(C35,Master!AQ$61:BC$286,4,FALSE))","v":""},{"$f":"IF(ISNA(VLOOKUP(C35,Master!AQ$61:BC$286,5,FALSE)),\"\",VLOOKUP(C35,Master!AQ$61:BC$286,5,FALSE))","v":""},{"$f":"IF(ISNA(VLOOKUP(C35,Master!AQ$61:BC$286,6,FALSE)),\"\",VLOOKUP(C35,Master!AQ$61:BC$286,6,FALSE))","v":""},"","","","","",{"$f":"IF(ISNA(VLOOKUP(C35,Master!AQ$61:BC$286,12,FALSE)),\"\",VLOOKUP(C35,Master!AQ$61:BC$286,12,FALSE))","v":""},{"$nulls":4},0,{"$f":"IF(G35>0,1,0)","v":1},{"$f":"IF(ISNA(VLOOKUP(C35,Master!AQ$61:BC$286,10,FALSE)),\"\",VLOOKUP(C35,Master!AQ$61:BC$286,10,FALSE))","v":""},null,null,{"$f":"IF(ISNA(VLOOKUP(C35,Master!AQ$61:BC$286,11,FALSE)),\"\",VLOOKUP(C35,Master!AQ$61:BC$286,11,FALSE))","v":""},{"$f":"IF(ISNA(VLOOKUP(C35,Master!AQ$61:BC$286,9,FALSE)),\"\",VLOOKUP(C35,Master!AQ$61:BC$286,9,FALSE))","v":""},0,0,0,0,0,0,"","","","","","",0,0,"",0,0,0,0,0,0,0,null,null,0,0,0,0,0,0,0,0,0,0,0,0,0,0,0,0,null,null,0,0,1,0,0,0,1,0,1,0,0,""]
["",2202,10,{"$f":"IF(ISNA(VLOOKUP(C36,Master!AQ$61:BC$286,3,FALSE)),\"\",VLOOKUP(C36,Master!AQ$61:BC$286,3,FALSE))","v":""},{"$f":"IF(ISNA(VLOOKUP(C36,Master!AQ$61:BC$286,7,FALSE)),\"\",VLOOKUP(C36,Master!AQ$61:BC$286,7,FALSE))","v":""},{"$f":"IF(ISNA(VLOOKUP(C36,Master!AQ$61:BC$286,8,FALSE)),\"\",VLOOKUP(C36,Master!AQ$61:BC$286,8,FALSE))","v":""},{"$f":"IF(ISNA(VLOOKUP(C36,Master!AQ$61:BC$286,4,FALSE)),\"\",VLOOKUP(C36,Master!AQ$61:BC$286,4,FALSE))","v":""},{"$f":"IF(ISNA(VLOOKUP(C36,Master!AQ$61:BC$286,5,FALSE)),\"\",VLOOKUP(C36,Master!AQ$61:BC$286,5,FALSE))","v":""},{"$f":"IF(ISNA(VLOOKUP(C36,Master!AQ$61:BC$286,6,FALSE)),\"\",VLOOKUP(C36,Master!AQ$61:BC$286,6,FALSE))","v":""},"","","","","",{"$f":"IF(ISNA(VLOOKUP(C36,Master!AQ$61:BC$286,12,FALSE)),\"\",VLOOKUP(C36,Master!AQ$61:BC$286,12,FALSE))","v":""},{"$nulls":4},0,1,{"$f":"IF(ISNA(VLOOKUP(C36,Master!AQ$61:BC$286,10,FALSE)),\"\",VLOOKUP(C36,Master!AQ$61:BC$286,10,FALSE))","v":""},null,null,{"$f":"IF(ISNA(VLOOKUP(C36,Master!AQ$61:BC$286,11,FALSE)),\"\",VLOOKUP(C36,Master!AQ$61:BC$286,11,FALSE))","v":""},{"$f":"IF(ISNA(VLOOKUP(C36,Master!AQ$61:BC$286,9,FALSE)),\"\",VLOOKUP(C36,Master!AQ$61:BC$286,9,FALSE))","v":""},0,0,0,0,0,0,"","","","","","",0,0,"",0,0,0,0,0,0,0,null,null,0,0,0,0,0,0,0,0,0,0,0,0,0,0,0,0,null,null,0,0,1,0,0,0,1,0,1,0,0,""]
["",2202,11,{"$f":"IF(ISNA(VLOOKUP(C37,Master!AQ$61:BC$286,3,FALSE)),\"\",VLOOKUP(C37,Master!AQ$61:BC$286,3,FALSE))","v":""},{"$f":"IF(ISNA(VLOOKUP(C37,Master!AQ$61:BC$286,7,FALSE)),\"\",VLOOKUP(C37,Master!AQ$61:BC$286,7,FALSE))","v":""},{"$f":"IF(ISNA(VLOOKUP(C37,Master!AQ$61:BC$286,8,FALSE)),\"\",VLOOKUP(C37,Master!AQ$61:BC$286,8,FALSE))","v":""},{"$f":"IF(ISNA(VLOOKUP(C37,Master!AQ$61:BC$286,4,FALSE)),\"\",VLOOKUP(C37,Master!AQ$61:BC$286,4,FALSE))","v":""},{"$f":"IF(ISNA(VLOOKUP(C37,Master!AQ$61:BC$286,5,FALSE)),\"\",VLOOKUP(C37,Master!AQ$61:BC$286,5,FALSE))","v":""},{"$f":"IF(ISNA(VLOOKUP(C37,Master!AQ$61:BC$286,6,FALSE)),\"\",VLOOKUP(C37,Master!AQ$61:BC$286,6,FALSE))","v":""},"","","","","",{"$f":"IF(ISNA(VLOOKUP(C37,Master!AQ$61:BC$286,12,FALSE)),\"\",VLOOKUP(C37,Master!AQ$61:BC$286,12,FALSE))","v":""},{"$nulls":4},0,1,{"$f":"IF(ISNA(VLOOKUP(C37,Master!AQ$61:BC$286,10,FALSE)),\"\",VLOOKUP(C37,Master!AQ$61:BC$286,10,FALSE))","v":""},null,null,{"$f":"IF(ISNA(VLOOKUP(C37,Master!AQ$61:BC$286,11,FALSE)),\"\",VLOOKUP(C37,Master!AQ$61:BC$286,11,FALSE))","v":""},{"$f":"IF(ISNA(VLOOKUP(C37,Master!AQ$61:BC$286,9,FALSE)),\"\",VLOOKUP(C37,Master!AQ$61:BC$286,9,FALSE))","v":""},0,0,0,0,0,0,"","","","","","",0,0,"",0,0,0,0,0,0,0,null,null,0,0,0,0,0,0,0,0,0,0,0,0,0,0,0,0,null,null,0,0,1,0,0,0,1,0,1,0,0,""]
["",2202,12,{"$f":"IF(ISNA(VLOOKUP(C38,Master!AQ$61:BC$286,3,FALSE)),\"\",VLOOKUP(C38,Master!AQ$61:BC$286,3,FALSE))","v":""},{"$f":"IF(ISNA(VLOOKUP(C38,Master!AQ$61:BC$286,7,FALSE)),\"\",VLOOKUP(C38,Master!AQ$61:BC$286,7,FALSE))","v":""},{"$f":"IF(ISNA(VLOOKUP(C38,Master!AQ$61:BC$286,8,FALSE)),\"\",VLOOKUP(C38,Master!AQ$61:BC$286,8,FALSE))","v":""},{"$f":"IF(ISNA(VLOOKUP(C38,Master!AQ$61:BC$286,4,FALSE)),\"\",VLOOKUP(C38,Master!AQ$61:BC$286,4,FALSE))","v":""},{"$f":"IF(ISNA(VLOOKUP(C38,Master!AQ$61:BC$286,5,FALSE)),\"\",VLOOKUP(C38,Master!AQ$61:BC$286,5,FALSE))","v":""},{"$f":"IF(ISNA(VLOOKUP(C38,Master!AQ$61:BC$286,6,FALSE)),\"\",VLOOKUP(C38,Master!AQ$61:BC$286,6,FALSE))","v":""},"","","","","",{"$f":"IF(ISNA(VLOOKUP(C38,Master!AQ$61:BC$286,12,FALSE)),\"\",VLOOKUP(C38,Master!AQ$61:BC$286,12,FALSE))","v":""},{"$nulls":4},0,1,{"$f":"IF(ISNA(VLOOKUP(C38,Master!AQ$61:BC$286,10,FALSE)),\"\",VLOOKUP(C38,Master!AQ$61:BC$286,10,FALSE))","v":""},null,null,{"$f":"IF(ISNA(VLOOKUP(C38,Master!AQ$61:BC$286,11,FALSE)),\"\",VLOOKUP(C38,Master!AQ$61:BC$286,11,FALSE))","v":""},{"$f":"IF(ISNA(VLOOKUP(C38,Master!AQ$61:BC$286,9,FALSE)),\"\",VLOOKUP(C38,Master!AQ$61:BC$286,9,FALSE))","v":""},0,0,0,0,0,0,"","","","","","",0,0,"",0,0,0,0,0,0,0,null,null,0,0,0,0,0,0,0,0,0,0,0,0,0,0,0,0,null,null,0,0,1,0,0,0,1,0,1,0,0,""]
["",2202,13,{"$f":"IF(ISNA(VLOOKUP(C39,Master!AQ$61:BC$286,3,FALSE)),\"\",VLOOKUP(C39,Master!AQ$61:BC$286,3,FALSE))","v":""},{"$f":"IF(ISNA(VLOOKUP(C39,Master!AQ$61:BC$286,7,FALSE)),\"\",VLOOKUP(C39,Master!AQ$61:BC$286,7,FALSE))","v":""},{"$f":"IF(ISNA(VLOOKUP(C39,Master!AQ$61:BC$286,8,FALSE)),\"\",VLOOKUP(C39,Master!AQ$61:BC$286,8,FALSE))","v":""},{"$f":"IF(ISNA(VLOOKUP(C39,Master!AQ$61:BC$286,4,FALSE)),\"\",VLOOKUP(C39,Master!AQ$61:BC$286,4,FALSE))","v":""},{"$f":"IF(ISNA(VLOOKUP(C39,Master!AQ$61:BC$286,5,FALSE)),\"\",VLOOKUP(C39,Master!AQ$61:BC$286,5,FALSE))","v":""},{"$f":"IF(ISNA(VLOOKUP(C39,Master!AQ$61:BC$286,6,FALSE)),\"\",VLOOKUP(C39,Master!AQ$61:BC$286,6,FALSE))","v":""},"","","","","",{"$f":"IF(ISNA(VLOOKUP(C39,Master!AQ$61:BC$286,12,FALSE)),\"\",VLOOKUP(C39,Master!AQ$61:BC$286,12,FALSE))","v":""},{"$nulls":4},0,1,{"$f":"IF(ISNA(VLOOKUP(C39,Master!AQ$61:BC$286,10,FALSE)),\"\",VLOOKUP(C39,Master!AQ$61:BC$286,10,FALSE))","v":""},null,null,{"$f":"IF(ISNA(VLOOKUP(C39,Master!AQ$61:BC$286,11,FALSE)),\"\",VLOOKUP(C39,Master!AQ$61:BC$286,11,FALSE))","v":""},{"$f":"IF(ISNA(VLOOKUP(C39,Master!AQ$61:BC$286,9,FALSE)),\"\",VLOOKUP(C39,Master!AQ$61:BC$286,9,FALSE))","v":""},0,0,0,0,0,0,"","","","","","",0,0,"",0,0,0,0,0,0,0,null,null,0,0,0,0,0,0,0,0,0,0,0,0,0,0,0,0,null,null,0,0,1,0,0,0,1,0,1,0,0,""]
["",2202,14,{"$f":"IF(ISNA(VLOOKUP(C40,Master!AQ$61:BC$286,3,FALSE)),\"\",VLOOKUP(C40,Master!AQ$61:BC$286,3,FALSE))","v":""},{"$f":"IF(ISNA(VLOOKUP(C40,Master!AQ$61:BC$286,7,FALSE)),\"\",VLOOKUP(C40,Master!AQ$61:BC$286,7,FALSE))","v":""},{"$f":"IF(ISNA(VLOOKUP(C40,Master!AQ$61:BC$286,8,FALSE)),\"\",VLOOKUP(C40,Master!AQ$61:BC$286,8,FALSE))","v":""},{"$f":"IF(ISNA(VLOOKUP(C40,Master!AQ$61:BC$286,4,FALSE)),\"\",VLOOKUP(C40,Master!AQ$61:BC$286,4,FALSE))","v":""},{"$f":"IF(ISNA(VLOOKUP(C40,Master!AQ$61:BC$286,5,FALSE)),\"\",VLOOKUP(C40,Master!AQ$61:BC$286,5,FALSE))","v":""},{"$f":"IF(ISNA(VLOOKUP(C40,Master!AQ$61:BC$286,6,FALSE)),\"\",VLOOKUP(C40,Master!AQ$61:BC$286,6,FALSE))","v":""},"","","","","",{"$f":"IF(ISNA(VLOOKUP(C40,Master!AQ$61:BC$286,12,FALSE)),\"\",VLOOKUP(C40,Master!AQ$61:BC$286,12,FALSE))","v":""},{"$nulls":4},0,1,{"$f":"IF(ISNA(VLOOKUP(C40,Master!AQ$61:BC$286,10,FALSE)),\"\",VLOOKUP(C40,Master!AQ$61:BC$286,10,FALSE))","v":""},null,null,{"$f":"IF(ISNA(VLOOKUP(C40,Master!AQ$61:BC$286,11,FALSE)),\"\",VLOOKUP(C40,Master!AQ$61:BC$286,11,FALSE))","v":""},{"$f":"IF(ISNA(VLOOKUP(C40,Master!AQ$61:BC$286,9,FALSE)),\"\",VLOOKUP(C40,Master!AQ$61:BC$286,9,FALSE))","v":""},0,0,0,0,0,0,"","","","","","",0,0,"",0,0,0,0,0,0,0,null,null,0,0,0,0,0,0,0,0,0,0,0,0,0,0,0,0,null,null,0,0,1,0,0,0,1,0,1,0,0,""]
["",2202,15,{"$f":"IF(ISNA(VLOOKUP(C41,Master!AQ$61:BC$286,3,FALSE)),\"\",VLOOKUP(C41,Master!AQ$61:BC$286,3,FALSE))","v":""},{"$f":"IF(ISNA(VLOOKUP(C41,Master!AQ$61:BC$286,7,FALSE)),\"\",VLOOKUP(C41,Master!AQ$61:BC$286,7,FALSE))","v":""},{"$f":"IF(ISNA(VLOOKUP(C41,Master!AQ$61:BC$286,8,FALSE)),\"\",VLOOKUP(C41,Master!AQ$61:BC$286,8,FALSE))","v":""},{"$f":"IF(ISNA(VLOOKUP(C41,Master!AQ$61:BC$286,4,FALSE)),\"\",VLOOKUP(C41,Master!AQ$61:BC$286,4,FALSE))","v":""},{"$f":"IF(ISNA(VLOOKUP(C41,Master!AQ$61:BC$286,5,FALSE)),\"\",VLOOKUP(C41,Master!AQ$61:BC$286,5,FALSE))","v":""},{"$f":"IF(ISNA(VLOOKUP(C41,Master!AQ$61:BC$286,6,FALSE)),\"\",VLOOKUP(C41,Master!AQ$61:BC$286,6,FALSE))","v":""},"","","","","",{"$f":"IF(ISNA(VLOOKUP(C41,Master!AQ$61:BC$286,12,FALSE)),\"\",VLOOKUP(C41,Master!AQ$61:BC$286,12,FALSE))","v":""},{"$nulls":4},0,1,{"$f":"IF(ISNA(VLOOKUP(C41,Master!AQ$61:BC$286,10,FALSE)),\"\",VLOOKUP(C41,Master!AQ$61:BC$286,10,FALSE))","v":""},null,null,{"$f":"IF(ISNA(VLOOKUP(C41,Master!AQ$61:BC$286,11,FALSE)),\"\",VLOOKUP(C41,Master!AQ$61:BC$286,11,FALSE))","v":""},{"$f":"IF(ISNA(VLOOKUP(C41,Master!AQ$61:BC$286,9,FALSE)),\"\",VLOOKUP(C41,Master!AQ$61:BC$286,9,FALSE))","v":""},0,0,0,0,0,0,"","","","","","",0,0,"",0,0,0,0,0,0,0,null,null,0,0,0,0,0,0,0,0,0,0,0,0,0,0,0,0,null,null,0,0,1,0,0,0,1,0,1,0,0,""]
["",2202,16,{"$f":"IF(ISNA(VLOOKUP(C42,Master!AQ$61:BC$286,3,FALSE)),\"\",VLOOKUP(C42,Master!AQ$61:BC$286,3,FALSE))","v":""},{"$f":"IF(ISNA(VLOOKUP(C42,Master!AQ$61:BC$286,7,FALSE)),\"\",VLOOKUP(C42,Master!AQ$61:BC$286,7,FALSE))","v":""},{"$f":"IF(ISNA(VLOOKUP(C42,Master!AQ$61:BC$286,8,FALSE)),\"\",VLOOKUP(C42,Master!AQ$61:BC$286,8,FALSE))","v":""},{"$f":"IF(ISNA(VLOOKUP(C42,Master!AQ$61:BC$286,4,FALSE)),\"\",VLOOKUP(C42,Master!AQ$61:BC$286,4,FALSE))","v":""},{"$f":"IF(ISNA(VLOOKUP(C42,Master!AQ$61:BC$286,5,FALSE)),\"\",VLOOKUP(C42,Master!AQ$61:BC$286,5,FALSE))","v":""},{"$f":"IF(ISNA(VLOOKUP(C42,Master!AQ$61:BC$286,6,FALSE)),\"\",VLOOKUP(C42,Master!AQ$61:BC$286,6,FALSE))","v":""},"","","","","",{"$f":"IF(ISNA(VLOOKUP(C42,Master!AQ$61:BC$286,12,FALSE)),\"\",VLOOKUP(C42,Master!AQ$61:BC$286,12,FALSE))","v":""},{"$nulls":4},0,1,{"$f":"IF(ISNA(VLOOKUP(C42,Master!AQ$61:BC$286,10,FALSE)),\"\",VLOOKUP(C42,Master!AQ$61:BC$286,10,FALSE))","v":""},null,null,{"$f":"IF(ISNA(VLOOKUP(C42,Master!AQ$61:BC$286,11,FALSE)),\"\",VLOOKUP(C42,Master!AQ$61:BC$286,11,FALSE))","v":""},{"$f":"IF(ISNA(VLOOKUP(C42,Master!AQ$61:BC$286,9,FALSE)),\"\",VLOOKUP(C42,Master!AQ$61:BC$286,9,FALSE))","v":""},0,0,0,0,0,0,"","","","","","",0,0,"",0,0,0,0,0,0,0,null,null,0,0,0,0,0,0,0,0,0,0,0,0,0,0,0,0,null,null,0,0,1,0,0,0,1,0,1,0,0,""]
["",2202,17,{"$f":"IF(ISNA(VLOOKUP(C43,Master!AQ$61:BC$286,3,FALSE)),\"\",VLOOKUP(C43,Master!AQ$61:BC$286,3,FALSE))","v":""},{"$f":"IF(ISNA(VLOOKUP(C43,Master!AQ$61:BC$286,7,FALSE)),\"\",VLOOKUP(C43,Master!AQ$61:BC$286,7,FALSE))","v":""},{"$f":"IF(ISNA(VLOOKUP(C43,Master!AQ$61:BC$286,8,FALSE)),\"\",VLOOKUP(C43,Master!AQ$61:BC$286,8,FALSE))","v":""},{"$f":"IF(ISNA(VLOOKUP(C43,Master!AQ$61:BC$286,4,FALSE)),\"\",VLOOKUP(C43,Master!AQ$61:BC$286,4,FALSE))","v":""},{"$f":"IF(ISNA(VLOOKUP(C43,Master!AQ$61:BC$286,5,FALSE)),\"\",VLOOKUP(C43,Master!AQ$61:BC$286,5,FALSE))","v":""},{"$f":"IF(ISNA(VLOOKUP(C43,Master!AQ$61:BC$286,6,FALSE)),\"\",VLOOKUP(C43,Master!AQ$61:BC$286,6,FALSE))","v":""},"","","","","",{"$f":"IF(ISNA(VLOOKUP(C43,Master!AQ$61:BC$286,12,FALSE)),\"\",VLOOKUP(C43,Master!AQ$61:BC$286,12,FALSE))","v":""},{"$nulls":4},0,1,{"$f":"IF(ISNA(VLOOKUP(C43,Master!AQ$61:BC$286,10,FALSE)),\"\",VLOOKUP(C43,Master!AQ$61:BC$286,10,FALSE))","v":""},null,null,{"$f":"IF(ISNA(VLOOKUP(C43,Master!AQ$61:BC$286,11,FALSE)),\"\",VLOOKUP(C43,Master!AQ$61:BC$286,11,FALSE))","v":""},{"$f":"IF(ISNA(VLOOKUP(C43,Master!AQ$61:BC$286,9,FALSE)),\"\",VLOOKUP(C43,Master!AQ$61:BC$286,9,FALSE))","v":""},0,0,0,0,0,0,"","","","","","",0,0,"",0,0,0,0,0,0,0,null,null,0,0,0,0,0,0,0,0,0,0,0,0,0,0,0,0,null,null,0,0,1,0,0,0,1,0,1,0,0,""]
["",2202,18,{"$f":"IF(ISNA(VLOOKUP(C44,Master!AQ$61:BC$286,3,FALSE)),\"\",VLOOKUP(C44,Master!AQ$61:BC$286,3,FALSE))","v":""},{"$f":"IF(ISNA(VLOOKUP(C44,Master!AQ$61:BC$286,7,FALSE)),\"\",VLOOKUP(C44,Master!AQ$61:BC$286,7,FALSE))","v":""},{"$f":"IF(ISNA(VLOOKUP(C44,Master!AQ$61:BC$286,8,FALSE)),\"\",VLOOKUP(C44,Master!AQ$61:BC$286,8,FALSE))","v":""},{"$f":"IF(ISNA(VLOOKUP(C44,Master!AQ$61:BC$286,4,FALSE)),\"\",VLOOKUP(C44,Master!AQ$61:BC$286,4,FALSE))","v":""},{"$f":"IF(ISNA(VLOOKUP(C44,Master!AQ$61:BC$286,5,FALSE)),\"\",VLOOKUP(C44,Master!AQ$61:BC$286,5,FALSE))","v":""},{"$f":"IF(ISNA(VLOOKUP(C44,Master!AQ$61:BC$286,6,FALSE)),\"\",VLOOKUP(C44,Master!AQ$61:BC$286,6,FALSE))","v":""},"","","","","",{"$f":"IF(ISNA(VLOOKUP(C44,Master!AQ$61:BC$286,12,FALSE)),\"\",VLOOKUP(C44,Master!AQ$61:BC$286,12,FALSE))","v":""},{"$nulls":4},0,1,{"$f":"IF(ISNA(VLOOKUP(C44,Master!AQ$61:BC$286,10,FALSE)),\"\",VLOOKUP(C44,Master!AQ$61:BC$286,10,FALSE))","v":""},null,null,{"$f":"IF(ISNA(VLOOKUP(C44,Master!AQ$61:BC$286,11,FALSE)),\"\",VLOOKUP(C44,Master!AQ$61:BC$286,11,FALSE))","v":""},{"$f":"IF(ISNA(VLOOKUP(C44,Master!AQ$61:BC$286,9,FALSE)),\"\",VLOOKUP(C44,Master!AQ$61:BC$286,9,FALSE))","v":""},0,0,0,0,0,0,"","","","","","",0,0,"",0,0,0,0,0,0,0,null,null,0,0,0,0,0,0,0,0,0,0,0,0,0,0,0,0,null,null,0,0,1,0,0,0,1,0,1,0,0,""]
["",2202,19,{"$f":"IF(ISNA(VLOOKUP(C45,Master!AQ$61:BC$286,3,FALSE)),\"\",VLOOKUP(C45,Master!AQ$61:BC$286,3,FALSE))","v":""},{"$f":"IF(ISNA(VLOOKUP(C45,Master!AQ$61:BC$286,7,FALSE)),\"\",VLOOKUP(C45,Master!AQ$61:BC$286,7,FALSE))","v":""},{"$f":"IF(ISNA(VLOOKUP(C45,Master!AQ$61:BC$286,8,FALSE)),\"\",VLOOKUP(C45,Master!AQ$61:BC$286,8,FALSE))","v":""},{"$f":"IF(ISNA(VLOOKUP(C45,Master!AQ$61:BC$286,4,FALSE)),\"\",VLOOKUP(C45,Master!AQ$61:BC$286,4,FALSE))","v":""},{"$f":"IF(ISNA(VLOOKUP(C45,Master!AQ$61:BC$286,5,FALSE)),\"\",VLOOKUP(C45,Master!AQ$61:BC$286,5,FALSE))","v":""},{"$f":"IF(ISNA(VLOOKUP(C45,Master!AQ$61:BC$286,6,FALSE)),\"\",VLOOKUP(C45,Master!AQ$61:BC$286,6,FALSE))","v":""},"","","","","",{"$f":"IF(ISNA(VLOOKUP(C45,Master!AQ$61:BC$286,12,FALSE)),\"\",VLOOKUP(C45,Master!AQ$61:BC$286,12,FALSE))","v":""},{"$nulls":4},0,1,{"$f":"IF(ISNA(VLOOKUP(C45,Master!AQ$61:BC$286,10,FALSE)),\"\",VLOOKUP(C45,Master!AQ$61:BC$286,10,FALSE))","v":""},null,null,{"$f":"IF(ISNA(VLOOKUP(C45,Master!AQ$61:BC$286,11,FALSE)),\"\",VLOOKUP(C45,Master!AQ$61:BC$286,11,FALSE))","v":""},{"$f":"IF(ISNA(VLOOKUP(C45,Master!AQ$61:BC$286,9,FALSE)),\"\",VLOOKUP(C45,Master!AQ$61:BC$286,9,FALSE))","v":""},0,0,0,0,0,0,"","","","","","",0,0,"",0,0,0,0,0,0,0,null,null,0,0,0,0,0,0,0,0,0,0,0,0,0,0,0,0,null,null,0,0,1,0,0,0,1,0,1,0,0,""]
["",2202,20,{"$f":"IF(ISNA(VLOOKUP(C46,Master!AQ$61:BC$286,3,FALSE)),\"\",VLOOKUP(C46,Master!AQ$61:BC$286,3,FALSE))","v":""},{"$f":"IF(ISNA(VLOOKUP(C46,Master!AQ$61:BC$286,7,FALSE)),\"\",VLOOKUP(C46,Master!AQ$61:BC$286,7,FALSE))","v":""},{"$f":"IF(ISNA(VLOOKUP(C46,Master!AQ$61:BC$286,8,FALSE)),\"\",VLOOKUP(C46,Master!AQ$61:BC$286,8,FALSE))","v":""},{"$f":"IF(ISNA(VLOOKUP(C46,Master!AQ$61:BC$286,4,FALSE)),\"\",VLOOKUP(C46,Master!AQ$61:BC$286,4,FALSE))","v":""},{"$f":"IF(ISNA(VLOOKUP(C46,Master!AQ$61:BC$286,5,FALSE)),\"\",VLOOKUP(C46,Master!AQ$61:BC$286,5,FALSE))","v":""},{"$f":"IF(ISNA(VLOOKUP(C46,Master!AQ$61:BC$286,6,FALSE)),\"\",VLOOKUP(C46,Master!AQ$61:BC$286,6,FALSE))","v":""},"","","","","",{"$f":"IF(ISNA(VLOOKUP(C46,Master!AQ$61:BC$286,12,FALSE)),\"\",VLOOKUP(C46,Master!AQ$61:BC$286,12,FALSE))","v":""},{"$nulls":4},0,1,{"$f":"IF(ISNA(VLOOKUP(C46,Master!AQ$61:BC$286,10,FALSE)),\"\",VLOOKUP(C46,Master!AQ$61:BC$286,10,FALSE))","v":""},null,null,{"$f":"IF(ISNA(VLOOKUP(C46,Master!AQ$61:BC$286,11,FALSE)),\"\",VLOOKUP(C46,Master!AQ$61:BC$286,11,FALSE))","v":""},{"$f":"IF(ISNA(VLOOKUP(C46,Master!AQ$61:BC$286,9,FALSE)),\"\",VLOOKUP(C46,Master!AQ$61:BC$286,9,FALSE))","v":""},0,0,0,0,0,0,"","","","","","",0,0,"",0,0,0,0,0,0,0,null,null,0,0,0,0,0,0,0,0,0,0,0,0,0,0,0,0,null,null,0,0,1,0,0,0,1,0,1,0,0,""]
["",2202,21,{"$f":"IF(ISNA(VLOOKUP(C47,Master!AQ$61:BC$286,3,FALSE)),\"\",VLOOKUP(C47,Master!AQ$61:BC$286,3,FALSE))","v":""},{"$f":"IF(ISNA(VLOOKUP(C47,Master!AQ$61:BC$286,7,FALSE)),\"\",VLOOKUP(C47,Master!AQ$61:BC$286,7,FALSE))","v":""},{"$f":"IF(ISNA(VLOOKUP(C47,Master!AQ$61:BC$286,8,FALSE)),\"\",VLOOKUP(C47,Master!AQ$61:BC$286,8,FALSE))","v":""},{"$f":"IF(ISNA(VLOOKUP(C47,Master!AQ$61:BC$286,4,FALSE)),\"\",VLOOKUP(C47,Master!AQ$61:BC$286,4,FALSE))","v":""},{"$f":"IF(ISNA(VLOOKUP(C47,Master!AQ$61:BC$286,5,FALSE)),\"\",VLOOKUP(C47,Master!AQ$61:BC$286,5,FALSE))","v":""},{"$f":"IF(ISNA(VLOOKUP(C47,Master!AQ$61:BC$286,6,FALSE)),\"\",VLOOKUP(C47,Master!AQ$61:BC$286,6,FALSE))","v":""},"","","","","",{"$f":"IF(ISNA(VLOOKUP(C47,Master!AQ$61:BC$286,12,FALSE)),\"\",VLOOKUP(C47,Master!AQ$61:BC$286,12,FALSE))","v":""},{"$nulls":4},0,1,{"$f":"IF(ISNA(VLOOKUP(C47,Master!AQ$61:BC$286,10,FALSE)),\"\",VLOOKUP(C47,Master!AQ$61:BC$286,10,FALSE))","v":""},null,null,{"$f":"IF(ISNA(VLOOKUP(C47,Master!AQ$61:BC$286,11,FALSE)),\"\",VLOOKUP(C47,Master!AQ$61:BC$286,11,FALSE))","v":""},{"$f":"IF(ISNA(VLOOKUP(C47,Master!AQ$61:BC$286,9,FALSE)),\"\",VLOOKUP(C47,Master!AQ$61:BC$286,9,FALSE))","v":""},{"$f":"IF(Z47=\"MALE\",1,0)*(IF(G47=\"JAMADAR\",1,0))*(IF(I47<=0,0,1))","v":0},{"$f":"IF(Z47=\"FEMALE\",1,0)*(IF(G47=\"JAMADAR\",1,0))*(IF(I47<=0,0,1))","v":0},{"$f":"IF(Z47=\"MALE\",1,0)*(IF(G47=\"LAB BOY\",1,0))*(IF(I47<=0,0,1))","v":0},{"$f":"IF(Z47=\"FEMALE\",1,0)*(IF(G47=\"LAB BOY\",1,0))*(IF(I47<=0,0,1))","v":0},{"$f":"IF(Z47=\"MALE\",1,0)*(IF(G47=\"PEON\",1,0))*(IF(I47<=0,0,1))","v":0},{"$f":"IF(Z47=\"FEMALE\",1,0)*(IF(G47=\"PEON\",1,0))*(IF(I47<=0,0,1))","v":0},{"$f":"IF(AND(I47=\"\"),\"\",I47-ROUNDUP(ROUND((I47*3%)-(I47*3%)*2.9%,-2),0))","v":""},"","","","","",0,0,"",0,0,0,0,0,0,0,null,null,0,0,0,0,0,0,0,0,0,0,0,0,0,0,0,0,null,null,0,0,1,0,0,0,1,0,1,0,0,""]
["",2202,22,{"$f":"IF(ISNA(VLOOKUP(C48,Master!AQ$61:BC$286,3,FALSE)),\"\",VLOOKUP(C48,Master!AQ$61:BC$286,3,FALSE))","v":""},{"$f":"IF(ISNA(VLOOKUP(C48,Master!AQ$61:BC$286,7,FALSE)),\"\",VLOOKUP(C48,Master!AQ$61:BC$286,7,FALSE))","v":""},{"$f":"IF(ISNA(VLOOKUP(C48,Master!AQ$61:BC$286,8,FALSE)),\"\",VLOOKUP(C48,Master!AQ$61:BC$286,8,FALSE))","v":""},{"$f":"IF(ISNA(VLOOKUP(C48,Master!AQ$61:BC$286,4,FALSE)),\"\",VLOOKUP(C48,Master!AQ$61:BC$286,4,FALSE))","v":""},{"$f":"IF(ISNA(VLOOKUP(C48,Master!AQ$61:BC$286,5,FALSE)),\"\",VLOOKUP(C48,Master!AQ$61:BC$286,5,FALSE))","v":""},{"$f":"IF(ISNA(VLOOKUP(C48,Master!AQ$61:BC$286,6,FALSE)),\"\",VLOOKUP(C48,Master!AQ$61:BC$286,6,FALSE))","v":""},"","","","","",{"$f":"IF(ISNA(VLOOKUP(C48,Master!AQ$61:BC$286,12,FALSE)),\"\",VLOOKUP(C48,Master!AQ$61:BC$286,12,FALSE))","v":""},{"$nulls":4},0,1,{"$f":"IF(ISNA(VLOOKUP(C48,Master!AQ$61:BC$286,10,FALSE)),\"\",VLOOKUP(C48,Master!AQ$61:BC$286,10,FALSE))","v":""},null,null,{"$f":"IF(ISNA(VLOOKUP(C48,Master!AQ$61:BC$286,11,FALSE)),\"\",VLOOKUP(C48,Master!AQ$61:BC$286,11,FALSE))","v":""},{"$f":"IF(ISNA(VLOOKUP(C48,Master!AQ$61:BC$286,9,FALSE)),\"\",VLOOKUP(C48,Master!AQ$61:BC$286,9,FALSE))","v":""},0,0,0,0,0,0,"","","","","","",0,0,"",0,0,0,0,0,0,0,null,null,0,0,0,0,0,0,0,0,0,0,0,0,0,0,0,0,null,null,0,0,1,0,0,0,1,0,1,0,0,""]
["",2202,23,{"$f":"IF(ISNA(VLOOKUP(C49,Master!AQ$61:BC$286,3,FALSE)),\"\",VLOOKUP(C49,Master!AQ$61:BC$286,3,FALSE))","v":""},{"$f":"IF(ISNA(VLOOKUP(C49,Master!AQ$61:BC$286,7,FALSE)),\"\",VLOOKUP(C49,Master!AQ$61:BC$286,7,FALSE))","v":""},{"$f":"IF(ISNA(VLOOKUP(C49,Master!AQ$61:BC$286,8,FALSE)),\"\",VLOOKUP(C49,Master!AQ$61:BC$286,8,FALSE))","v":""},{"$f":"IF(ISNA(VLOOKUP(C49,Master!AQ$61:BC$286,4,FALSE)),\"\",VLOOKUP(C49,Master!AQ$61:BC$286,4,FALSE))","v":""},{"$f":"IF(ISNA(VLOOKUP(C49,Master!AQ$61:BC$286,5,FALSE)),\"\",VLOOKUP(C49,Master!AQ$61:BC$286,5,FALSE))","v":""},{"$f":"IF(ISNA(VLOOKUP(C49,Master!AQ$61:BC$286,6,FALSE)),\"\",VLOOKUP(C49,Master!AQ$61:BC$286,6,FALSE))","v":""},"","","","","",{"$f":"IF(ISNA(VLOOKUP(C49,Master!AQ$61:BC$286,12,FALSE)),\"\",VLOOKUP(C49,Master!AQ$61:BC$286,12,FALSE))","v":""},{"$nulls":4},0,1,{"$f":"IF(ISNA(VLOOKUP(C49,Master!AQ$61:BC$286,10,FALSE)),\"\",VLOOKUP(C49,Master!AQ$61:BC$286,10,FALSE))","v":""},null,null,{"$f":"IF(ISNA(VLOOKUP(C49,Master!AQ$61:BC$286,11,FALSE)),\"\",VLOOKUP(C49,Master!AQ$61:BC$286,11,FALSE))","v":""},{"$f":"IF(ISNA(VLOOKUP(C49,Master!AQ$61:BC$286,9,FALSE)),\"\",VLOOKUP(C49,Master!AQ$61:BC$286,9,FALSE))","v":""},0,0,0,0,0,0,"","","","","","",0,0,"",0,0,0,0,0,0,0,null,null,0,0,0,0,0,0,0,0,0,0,0,0,0,0,0,0,null,null,0,0,1,0,0,0,1,0,1,0,0,""]
["",2202,24,{"$f":"IF(ISNA(VLOOKUP(C50,Master!AQ$61:BC$286,3,FALSE)),\"\",VLOOKUP(C50,Master!AQ$61:BC$286,3,FALSE))","v":""},{"$f":"IF(ISNA(VLOOKUP(C50,Master!AQ$61:BC$286,7,FALSE)),\"\",VLOOKUP(C50,Master!AQ$61:BC$286,7,FALSE))","v":""},{"$f":"IF(ISNA(VLOOKUP(C50,Master!AQ$61:BC$286,8,FALSE)),\"\",VLOOKUP(C50,Master!AQ$61:BC$286,8,FALSE))","v":""},{"$f":"IF(ISNA(VLOOKUP(C50,Master!AQ$61:BC$286,4,FALSE)),\"\",VLOOKUP(C50,Master!AQ$61:BC$286,4,FALSE))","v":""},{"$f":"IF(ISNA(VLOOKUP(C50,Master!AQ$61:BC$286,5,FALSE)),\"\",VLOOKUP(C50,Master!AQ$61:BC$286,5,FALSE))","v":""},{"$f":"IF(ISNA(VLOOKUP(C50,Master!AQ$61:BC$286,6,FALSE)),\"\",VLOOKUP(C50,Master!AQ$61:BC$286,6,FALSE))","v":""},"","","","","",{"$f":"IF(ISNA(VLOOKUP(C50,Master!AQ$61:BC$286,12,FALSE)),\"\",VLOOKUP(C50,Master!AQ$61:BC$286,12,FALSE))","v":""},{"$nulls":4},0,1,{"$f":"IF(ISNA(VLOOKUP(C50,Master!AQ$61:BC$286,10,FALSE)),\"\",VLOOKUP(C50,Master!AQ$61:BC$286,10,FALSE))","v":""},null,null,{"$f":"IF(ISNA(VLOOKUP(C50,Master!AQ$61:BC$286,11,FALSE)),\"\",VLOOKUP(C50,Master!AQ$61:BC$286,11,FALSE))","v":""},{"$f":"IF(ISNA(VLOOKUP(C50,Master!AQ$61:BC$286,9,FALSE)),\"\",VLOOKUP(C50,Master!AQ$61:BC$286,9,FALSE))","v":""},0,0,0,0,0,0,"","","","","","",0,0,"",0,0,0,0,0,0,0,null,null,0,0,0,0,0,0,0,0,0,0,0,0,0,0,0,0,null,null,0,0,1,0,0,0,1,0,1,0,0,""]
["",2202,25,{"$f":"IF(ISNA(VLOOKUP(C51,Master!AQ$61:BC$286,3,FALSE)),\"\",VLOOKUP(C51,Master!AQ$61:BC$286,3,FALSE))","v":""},{"$f":"IF(ISNA(VLOOKUP(C51,Master!AQ$61:BC$286,7,FALSE)),\"\",VLOOKUP(C51,Master!AQ$61:BC$286,7,FALSE))","v":""},{"$f":"IF(ISNA(VLOOKUP(C51,Master!AQ$61:BC$286,8,FALSE)),\"\",VLOOKUP(C51,Master!AQ$61:BC$286,8,FALSE))","v":""},{"$f":"IF(ISNA(VLOOKUP(C51,Master!AQ$61:BC$286,4,FALSE)),\"\",VLOOKUP(C51,Master!AQ$61:BC$286,4,FALSE))","v":""},{"$f":"IF(ISNA(VLOOKUP(C51,Master!AQ$61:BC$286,5,FALSE)),\"\",VLOOKUP(C51,Master!AQ$61:BC$286,5,FALSE))","v":""},{"$f":"IF(ISNA(VLOOKUP(C51,Master!AQ$61:BC$286,6,FALSE)),\"\",VLOOKUP(C51,Master!AQ$61:BC$286,6,FALSE))","v":""},"","","","","",{"$f":"IF(ISNA(VLOOKUP(C51,Master!AQ$61:BC$286,12,FALSE)),\"\",VLOOKUP(C51,Master!AQ$61:BC$286,12,FALSE))","v":""},{"$nulls":4},0,1,{"$f":"IF(ISNA(VLOOKUP(C51,Master!AQ$61:BC$286,10,FALSE)),\"\",VLOOKUP(C51,Master!AQ$61:BC$286,10,FALSE))","v":""},null,null,{"$f":"IF(ISNA(VLOOKUP(C51,Master!AQ$61:BC$286,11,FALSE)),\"\",VLOOKUP(C51,Master!AQ$61:BC$286,11,FALSE))","v":""},{"$f":"IF(ISNA(VLOOKUP(C51,Master!AQ$61:BC$286,9,FALSE)),\"\",VLOOKUP(C51,Master!AQ$61:BC$286,9,FALSE))","v":""},0,0,0,0,0,0,"","","","","","",0,0,"",0,0,0,0,0,0,0,null,null,0,0,0,0,0,0,0,0,0,0,0,0,0,0,0,0,null,null,0,0,1,0,0,0,1,0,1,0,0,""]
["",2202,26,{"$f":"IF(ISNA(VLOOKUP(C52,Master!AQ$61:BC$286,3,FALSE)),\"\",VLOOKUP(C52,Master!AQ$61:BC$286,3,FALSE))","v":""},{"$f":"IF(ISNA(VLOOKUP(C52,Master!AQ$61:BC$286,7,FALSE)),\"\",VLOOKUP(C52,Master!AQ$61:BC$286,7,FALSE))","v":""},{"$f":"IF(ISNA(VLOOKUP(C52,Master!AQ$61:BC$286,8,FALSE)),\"\",VLOOKUP(C52,Master!AQ$61:BC$286,8,FALSE))","v":""},{"$f":"IF(ISNA(VLOOKUP(C52,Master!AQ$61:BC$286,4,FALSE)),\"\",VLOOKUP(C52,Master!AQ$61:BC$286,4,FALSE))","v":""},{"$f":"IF(ISNA(VLOOKUP(C52,Master!AQ$61:BC$286,5,FALSE)),\"\",VLOOKUP(C52,Master!AQ$61:BC$286,5,FALSE))","v":""},{"$f":"IF(ISNA(VLOOKUP(C52,Master!AQ$61:BC$286,6,FALSE)),\"\",VLOOKUP(C52,Master!AQ$61:BC$286,6,FALSE))","v":""},"","","","","",{"$f":"IF(ISNA(VLOOKUP(C52,Master!AQ$61:BC$286,12,FALSE)),\"\",VLOOKUP(C52,Master!AQ$61:BC$286,12,FALSE))","v":""},{"$nulls":4},0,1,{"$f":"IF(ISNA(VLOOKUP(C52,Master!AQ$61:BC$286,10,FALSE)),\"\",VLOOKUP(C52,Master!AQ$61:BC$286,10,FALSE))","v":""},null,null,{"$f":"IF(ISNA(VLOOKUP(C52,Master!AQ$61:BC$286,11,FALSE)),\"\",VLOOKUP(C52,Master!AQ$61:BC$286,11,FALSE))","v":""},{"$f":"IF(ISNA(VLOOKUP(C52,Master!AQ$61:BC$286,9,FALSE)),\"\",VLOOKUP(C52,Master!AQ$61:BC$286,9,FALSE))","v":""},0,0,0,0,0,0,"","","","","","",0,0,"",0,0,0,0,0,0,0,null,null,0,0,0,0,0,0,0,0,0,0,0,0,0,0,0,0,null,null,0,0,1,0,0,0,1,0,1,0,0,""]
["",2202,27,{"$f":"IF(ISNA(VLOOKUP(C53,Master!AQ$61:BC$286,3,FALSE)),\"\",VLOOKUP(C53,Master!AQ$61:BC$286,3,FALSE))","v":""},{"$f":"IF(ISNA(VLOOKUP(C53,Master!AQ$61:BC$286,7,FALSE)),\"\",VLOOKUP(C53,Master!AQ$61:BC$286,7,FALSE))","v":""},{"$f":"IF(ISNA(VLOOKUP(C53,Master!AQ$61:BC$286,8,FALSE)),\"\",VLOOKUP(C53,Master!AQ$61:BC$286,8,FALSE))","v":""},{"$f":"IF(ISNA(VLOOKUP(C53,Master!AQ$61:BC$286,4,FALSE)),\"\",VLOOKUP(C53,Master!AQ$61:BC$286,4,FALSE))","v":""},{"$f":"IF(ISNA(VLOOKUP(C53,Master!AQ$61:BC$286,5,FALSE)),\"\",VLOOKUP(C53,Master!AQ$61:BC$286,5,FALSE))","v":""},{"$f":"IF(ISNA(VLOOKUP(C53,Master!AQ$61:BC$286,6,FALSE)),\"\",VLOOKUP(C53,Master!AQ$61:BC$286,6,FALSE))","v":""},"","","","","",{"$f":"IF(ISNA(VLOOKUP(C53,Master!AQ$61:BC$286,12,FALSE)),\"\",VLOOKUP(C53,Master!AQ$61:BC$286,12,FALSE))","v":""},{"$nulls":4},0,1,{"$f":"IF(ISNA(VLOOKUP(C53,Master!AQ$61:BC$286,10,FALSE)),\"\",VLOOKUP(C53,Master!AQ$61:BC$286,10,FALSE))","v":""},null,null,{"$f":"IF(ISNA(VLOOKUP(C53,Master!AQ$61:BC$286,11,FALSE)),\"\",VLOOKUP(C53,Master!AQ$61:BC$286,11,FALSE))","v":""},{"$f":"IF(ISNA(VLOOKUP(C53,Master!AQ$61:BC$286,9,FALSE)),\"\",VLOOKUP(C53,Master!AQ$61:BC$286,9,FALSE))","v":""},0,0,0,0,0,0,"","","","","","",0,0,"",0,0,0,0,0,0,0,null,null,0,0,0,0,0,0,0,0,0,0,0,0,0,0,0,0,null,null,0,0,1,0,0,0,1,0,1,0,0,""]
["",2202,28,{"$f":"IF(ISNA(VLOOKUP(C54,Master!AQ$61:BC$286,3,FALSE)),\"\",VLOOKUP(C54,Master!AQ$61:BC$286,3,FALSE))","v":""},{"$f":"IF(ISNA(VLOOKUP(C54,Master!AQ$61:BC$286,7,FALSE)),\"\",VLOOKUP(C54,Master!AQ$61:BC$286,7,FALSE))","v":""},{"$f":"IF(ISNA(VLOOKUP(C54,Master!AQ$61:BC$286,8,FALSE)),\"\",VLOOKUP(C54,Master!AQ$61:BC$286,8,FALSE))","v":""},{"$f":"IF(ISNA(VLOOKUP(C54,Master!AQ$61:BC$286,4,FALSE)),\"\",VLOOKUP(C54,Master!AQ$61:BC$286,4,FALSE))","v":""},{"$f":"IF(ISNA(VLOOKUP(C54,Master!AQ$61:BC$286,5,FALSE)),\"\",VLOOKUP(C54,Master!AQ$61:BC$286,5,FALSE))","v":""},{"$f":"IF(ISNA(VLOOKUP(C54,Master!AQ$61:BC$286,6,FALSE)),\"\",VLOOKUP(C54,Master!AQ$61:BC$286,6,FALSE))","v":""},"","","","","",{"$f":"IF(ISNA(VLOOKUP(C54,Master!AQ$61:BC$286,12,FALSE)),\"\",VLOOKUP(C54,Master!AQ$61:BC$286,12,FALSE))","v":""},{"$nulls":4},0,1,{"$f":"IF(ISNA(VLOOKUP(C54,Master!AQ$61:BC$286,10,FALSE)),\"\",VLOOKUP(C54,Master!AQ$61:BC$286,10,FALSE))","v":""},null,null,{"$f":"IF(ISNA(VLOOKUP(C54,Master!AQ$61:BC$286,11,FALSE)),\"\",VLOOKUP(C54,Master!AQ$61:BC$286,11,FALSE))","v":""},{"$f":"IF(ISNA(VLOOKUP(C54,Master!AQ$61:BC$286,9,FALSE)),\"\",VLOOKUP(C54,Master!AQ$61:BC$286,9,FALSE))","v":""},0,0,0,0,0,0,"","","","","","",0,0,"",0,0,0,0,0,0,0,null,null,0,0,0,0,0,0,0,0,0,0,0,0,0,0,0,0,null,null,0,0,1,0,0,0,1,0,1,0,0,""]
["",2202,29,{"$f":"IF(ISNA(VLOOKUP(C55,Master!AQ$61:BC$286,3,FALSE)),\"\",VLOOKUP(C55,Master!AQ$61:BC$286,3,FALSE))","v":""},{"$f":"IF(ISNA(VLOOKUP(C55,Master!AQ$61:BC$286,7,FALSE)),\"\",VLOOKUP(C55,Master!AQ$61:BC$286,7,FALSE))","v":""},{"$f":"IF(ISNA(VLOOKUP(C55,Master!AQ$61:BC$286,8,FALSE)),\"\",VLOOKUP(C55,Master!AQ$61:BC$286,8,FALSE))","v":""},{"$f":"IF(ISNA(VLOOKUP(C55,Master!AQ$61:BC$286,4,FALSE)),\"\",VLOOKUP(C55,Master!AQ$61:BC$286,4,FALSE))","v":""},{"$f":"IF(ISNA(VLOOKUP(C55,Master!AQ$61:BC$286,5,FALSE)),\"\",VLOOKUP(C55,Master!AQ$61:BC$286,5,FALSE))","v":""},{"$f":"IF(ISNA(VLOOKUP(C55,Master!AQ$61:BC$286,6,FALSE)),\"\",VLOOKUP(C55,Master!AQ$61:BC$286,6,FALSE))","v":""},"","","","","",{"$f":"IF(ISNA(VLOOKUP(C55,Master!AQ$61:BC$286,12,FALSE)),\"\",VLOOKUP(C55,Master!AQ$61:BC$286,12,FALSE))","v":""},{"$nulls":4},0,1,{"$f":"IF(ISNA(VLOOKUP(C55,Master!AQ$61:BC$286,10,FALSE)),\"\",VLOOKUP(C55,Master!AQ$61:BC$286,10,FALSE))","v":""},null,null,{"$f":"IF(ISNA(VLOOKUP(C55,Master!AQ$61:BC$286,11,FALSE)),\"\",VLOOKUP(C55,Master!AQ$61:BC$286,11,FALSE))","v":""},{"$f":"IF(ISNA(VLOOKUP(C55,Master!AQ$61:BC$286,9,FALSE)),\"\",VLOOKUP(C55,Master!AQ$61:BC$286,9,FALSE))","v":""},0,0,0,0,0,0,"","","","","","",0,0,"",0,0,0,0,0,0,0,null,null,0,0,0,0,0,0,0,0,0,0,0,0,0,0,0,0,null,null,0,0,1,0,0,0,1,0,1,0,0,""]
["",2202,30,{"$f":"IF(ISNA(VLOOKUP(C56,Master!AQ$61:BC$286,3,FALSE)),\"\",VLOOKUP(C56,Master!AQ$61:BC$286,3,FALSE))","v":""},{"$f":"IF(ISNA(VLOOKUP(C56,Master!AQ$61:BC$286,7,FALSE)),\"\",VLOOKUP(C56,Master!AQ$61:BC$286,7,FALSE))","v":""},{"$f":"IF(ISNA(VLOOKUP(C56,Master!AQ$61:BC$286,8,FALSE)),\"\",VLOOKUP(C56,Master!AQ$61:BC$286,8,FALSE))","v":""},{"$f":"IF(ISNA(VLOOKUP(C56,Master!AQ$61:BC$286,4,FALSE)),\"\",VLOOKUP(C56,Master!AQ$61:BC$286,4,FALSE))","v":""},{"$f":"IF(ISNA(VLOOKUP(C56,Master!AQ$61:BC$286,5,FALSE)),\"\",VLOOKUP(C56,Master!AQ$61:BC$286,5,FALSE))","v":""},{"$f":"IF(ISNA(VLOOKUP(C56,Master!AQ$61:BC$286,6,FALSE)),\"\",VLOOKUP(C56,Master!AQ$61:BC$286,6,FALSE))","v":""},"","","","","",{"$f":"IF(ISNA(VLOOKUP(C56,Master!AQ$61:BC$286,12,FALSE)),\"\",VLOOKUP(C56,Master!AQ$61:BC$286,12,FALSE))","v":""},{"$nulls":4},0,1,{"$f":"IF(ISNA(VLOOKUP(C56,Master!AQ$61:BC$286,10,FALSE)),\"\",VLOOKUP(C56,Master!AQ$61:BC$286,10,FALSE))","v":""},null,null,{"$f":"IF(ISNA(VLOOKUP(C56,Master!AQ$61:BC$286,11,FALSE)),\"\",VLOOKUP(C56,Master!AQ$61:BC$286,11,FALSE))","v":""},{"$f":"IF(ISNA(VLOOKUP(C56,Master!AQ$61:BC$286,9,FALSE)),\"\",VLOOKUP(C56,Master!AQ$61:BC$286,9,FALSE))","v":""},0,0,0,0,0,0,"","","","","","",0,0,"",0,0,0,0,0,0,0,null,null,0,0,0,0,0,0,0,0,0,0,0,0,0,0,0,0,null,null,0,0,1,0,0,0,1,0,1,0,0,""]
["",2202,31,{"$f":"IF(ISNA(VLOOKUP(C57,Master!AQ$61:BC$286,3,FALSE)),\"\",VLOOKUP(C57,Master!AQ$61:BC$286,3,FALSE))","v":""},{"$f":"IF(ISNA(VLOOKUP(C57,Master!AQ$61:BC$286,7,FALSE)),\"\",VLOOKUP(C57,Master!AQ$61:BC$286,7,FALSE))","v":""},{"$f":"IF(ISNA(VLOOKUP(C57,Master!AQ$61:BC$286,8,FALSE)),\"\",VLOOKUP(C57,Master!AQ$61:BC$286,8,FALSE))","v":""},{"$f":"IF(ISNA(VLOOKUP(C57,Master!AQ$61:BC$286,4,FALSE)),\"\",VLOOKUP(C57,Master!AQ$61:BC$286,4,FALSE))","v":""},{"$f":"IF(ISNA(VLOOKUP(C57,Master!AQ$61:BC$286,5,FALSE)),\"\",VLOOKUP(C57,Master!AQ$61:BC$286,5,FALSE))","v":""},{"$f":"IF(ISNA(VLOOKUP(C57,Master!AQ$61:BC$286,6,FALSE)),\"\",VLOOKUP(C57,Master!AQ$61:BC$286,6,FALSE))","v":""},"","","","","",{"$f":"IF(ISNA(VLOOKUP(C57,Master!AQ$61:BC$286,12,FALSE)),\"\",VLOOKUP(C57,Master!AQ$61:BC$286,12,FALSE))","v":""},{"$nulls":4},0,1,{"$f":"IF(ISNA(VLOOKUP(C57,Master!AQ$61:BC$286,10,FALSE)),\"\",VLOOKUP(C57,Master!AQ$61:BC$286,10,FALSE))","v":""},null,null,{"$f":"IF(ISNA(VLOOKUP(C57,Master!AQ$61:BC$286,11,FALSE)),\"\",VLOOKUP(C57,Master!AQ$61:BC$286,11,FALSE))","v":""},{"$f":"IF(ISNA(VLOOKUP(C57,Master!AQ$61:BC$286,9,FALSE)),\"\",VLOOKUP(C57,Master!AQ$61:BC$286,9,FALSE))","v":""},0,0,0,0,0,0,"","","","","","",0,0,"",0,0,0,0,0,0,0,null,null,0,0,0,0,0,0,0,0,0,0,0,0,0,0,0,0,null,null,0,0,1,0,0,0,1,0,1,0,0,""]
["",2202,32,{"$f":"IF(ISNA(VLOOKUP(C58,Master!AQ$61:BC$286,3,FALSE)),\"\",VLOOKUP(C58,Master!AQ$61:BC$286,3,FALSE))","v":""},{"$f":"IF(ISNA(VLOOKUP(C58,Master!AQ$61:BC$286,7,FALSE)),\"\",VLOOKUP(C58,Master!AQ$61:BC$286,7,FALSE))","v":""},{"$f":"IF(ISNA(VLOOKUP(C58,Master!AQ$61:BC$286,8,FALSE)),\"\",VLOOKUP(C58,Master!AQ$61:BC$286,8,FALSE))","v":""},{"$f":"IF(ISNA(VLOOKUP(C58,Master!AQ$61:BC$286,4,FALSE)),\"\",VLOOKUP(C58,Master!AQ$61:BC$286,4,FALSE))","v":""},{"$f":"IF(ISNA(VLOOKUP(C58,Master!AQ$61:BC$286,5,FALSE)),\"\",VLOOKUP(C58,Master!AQ$61:BC$286,5,FALSE))","v":""},{"$f":"IF(ISNA(VLOOKUP(C58,Master!AQ$61:BC$286,6,FALSE)),\"\",VLOOKUP(C58,Master!AQ$61:BC$286,6,FALSE))","v":""},"","","","","",{"$f":"IF(ISNA(VLOOKUP(C58,Master!AQ$61:BC$286,12,FALSE)),\"\",VLOOKUP(C58,Master!AQ$61:BC$286,12,FALSE))","v":""},{"$nulls":4},0,1,{"$f":"IF(ISNA(VLOOKUP(C58,Master!AQ$61:BC$286,10,FALSE)),\"\",VLOOKUP(C58,Master!AQ$61:BC$286,10,FALSE))","v":""},null,null,{"$f":"IF(ISNA(VLOOKUP(C58,Master!AQ$61:BC$286,11,FALSE)),\"\",VLOOKUP(C58,Master!AQ$61:BC$286,11,FALSE))","v":""},{"$f":"IF(ISNA(VLOOKUP(C58,Master!AQ$61:BC$286,9,FALSE)),\"\",VLOOKUP(C58,Master!AQ$61:BC$286,9,FALSE))","v":""},0,0,0,0,0,0,"","","","","","",0,0,"",0,0,0,0,0,0,0,null,null,0,0,0,0,0,0,0,0,0,0,0,0,0,0,0,0,null,null,0,0,1,0,0,0,1,0,1,0,0,""]
["",2202,33,{"$f":"IF(ISNA(VLOOKUP(C59,Master!AQ$61:BC$286,3,FALSE)),\"\",VLOOKUP(C59,Master!AQ$61:BC$286,3,FALSE))","v":""},{"$f":"IF(ISNA(VLOOKUP(C59,Master!AQ$61:BC$286,7,FALSE)),\"\",VLOOKUP(C59,Master!AQ$61:BC$286,7,FALSE))","v":""},{"$f":"IF(ISNA(VLOOKUP(C59,Master!AQ$61:BC$286,8,FALSE)),\"\",VLOOKUP(C59,Master!AQ$61:BC$286,8,FALSE))","v":""},{"$f":"IF(ISNA(VLOOKUP(C59,Master!AQ$61:BC$286,4,FALSE)),\"\",VLOOKUP(C59,Master!AQ$61:BC$286,4,FALSE))","v":""},{"$f":"IF(ISNA(VLOOKUP(C59,Master!AQ$61:BC$286,5,FALSE)),\"\",VLOOKUP(C59,Master!AQ$61:BC$286,5,FALSE))","v":""},{"$f":"IF(ISNA(VLOOKUP(C59,Master!AQ$61:BC$286,6,FALSE)),\"\",VLOOKUP(C59,Master!AQ$61:BC$286,6,FALSE))","v":""},"","","","","",{"$f":"IF(ISNA(VLOOKUP(C59,Master!AQ$61:BC$286,12,FALSE)),\"\",VLOOKUP(C59,Master!AQ$61:BC$286,12,FALSE))","v":""},{"$nulls":4},0,1,{"$f":"IF(ISNA(VLOOKUP(C59,Master!AQ$61:BC$286,10,FALSE)),\"\",VLOOKUP(C59,Master!AQ$61:BC$286,10,FALSE))","v":""},null,null,{"$f":"IF(ISNA(VLOOKUP(C59,Master!AQ$61:BC$286,11,FALSE)),\"\",VLOOKUP(C59,Master!AQ$61:BC$286,11,FALSE))","v":""},{"$f":"IF(ISNA(VLOOKUP(C59,Master!AQ$61:BC$286,9,FALSE)),\"\",VLOOKUP(C59,Master!AQ$61:BC$286,9,FALSE))","v":""},0,0,0,0,0,0,"","","","","","",0,0,"",0,0,0,0,0,0,0,null,null,0,0,0,0,0,0,0,0,0,0,0,0,0,0,0,0,null,null,0,0,1,0,0,0,1,{"$f":"IF((ROUND((SUMPRODUCT(MID(0&E59,LARGE(INDEX(ISNUMBER(--MID(E59,ROW($1:$25),1))* ROW($1:$25),0),ROW($1:$25))+1,1)*10^ROW($1:$25)/10)),-8)/100000000)>=2004,1,0)","v":0},1,0,0,{"$f":"IF(AND(E59=\"\"),\"\",IF(AND(E59<=0),\"\",IF((ROUND((SUMPRODUCT(MID(0&E59,LARGE(INDEX(ISNUMBER(--MID(E59,ROW($1:$70),1))* ROW($1:$70),0),ROW($1:$70))+1,1)*10^ROW($1:$70)/10)),-8)/100000000)<2004,1,0)))","v":""}]
["",2202,34,{"$f":"IF(ISNA(VLOOKUP(C60,Master!AQ$61:BC$286,3,FALSE)),\"\",VLOOKUP(C60,Master!AQ$61:BC$286,3,FALSE))","v":""},{"$f":"IF(ISNA(VLOOKUP(C60,Master!AQ$61:BC$286,7,FALSE)),\"\",VLOOKUP(C60,Master!AQ$61:BC$286,7,FALSE))","v":""},{"$f":"IF(ISNA(VLOOKUP(C60,Master!AQ$61:BC$286,8,FALSE)),\"\",VLOOKUP(C60,Master!AQ$61:BC$286,8,FALSE))","v":""},{"$f":"IF(ISNA(VLOOKUP(C60,Master!AQ$61:BC$286,4,FALSE)),\"\",VLOOKUP(C60,Master!AQ$61:BC$286,4,FALSE))","v":""},{"$f":"IF(ISNA(VLOOKUP(C60,Master!AQ$61:BC$286,5,FALSE)),\"\",VLOOKUP(C60,Master!AQ$61:BC$286,5,FALSE))","v":""},{"$f":"IF(ISNA(VLOOKUP(C60,Master!AQ$61:BC$286,6,FALSE)),\"\",VLOOKUP(C60,Master!AQ$61:BC$286,6,FALSE))","v":""},"","","","","",{"$f":"IF(ISNA(VLOOKUP(C60,Master!AQ$61:BC$286,12,FALSE)),\"\",VLOOKUP(C60,Master!AQ$61:BC$286,12,FALSE))","v":""},{"$nulls":4},0,1,{"$f":"IF(ISNA(VLOOKUP(C60,Master!AQ$61:BC$286,10,FALSE)),\"\",VLOOKUP(C60,Master!AQ$61:BC$286,10,FALSE))","v":""},null,null,{"$f":"IF(ISNA(VLOOKUP(C60,Master!AQ$61:BC$286,11,FALSE)),\"\",VLOOKUP(C60,Master!AQ$61:BC$286,11,FALSE))","v":""},{"$f":"IF(ISNA(VLOOKUP(C60,Master!AQ$61:BC$286,9,FALSE)),\"\",VLOOKUP(C60,Master!AQ$61:BC$286,9,FALSE))","v":""},0,0,0,0,0,0,"","","","","","",0,0,"",0,0,0,0,0,0,0,null,null,0,0,0,0,0,0,0,0,0,0,0,0,0,0,0,0,null,null,0,0,1,0,0,0,1,0,1,0,0,""]
["",2202,35,{"$f":"IF(ISNA(VLOOKUP(C61,Master!AQ$61:BC$286,3,FALSE)),\"\",VLOOKUP(C61,Master!AQ$61:BC$286,3,FALSE))","v":""},{"$f":"IF(ISNA(VLOOKUP(C61,Master!AQ$61:BC$286,7,FALSE)),\"\",VLOOKUP(C61,Master!AQ$61:BC$286,7,FALSE))","v":""},{"$f":"IF(ISNA(VLOOKUP(C61,Master!AQ$61:BC$286,8,FALSE)),\"\",VLOOKUP(C61,Master!AQ$61:BC$286,8,FALSE))","v":""},{"$f":"IF(ISNA(VLOOKUP(C61,Master!AQ$61:BC$286,4,FALSE)),\"\",VLOOKUP(C61,Master!AQ$61:BC$286,4,FALSE))","v":""},{"$f":"IF(ISNA(VLOOKUP(C61,Master!AQ$61:BC$286,5,FALSE)),\"\",VLOOKUP(C61,Master!AQ$61:BC$286,5,FALSE))","v":""},{"$f":"IF(ISNA(VLOOKUP(C61,Master!AQ$61:BC$286,6,FALSE)),\"\",VLOOKUP(C61,Master!AQ$61:BC$286,6,FALSE))","v":""},"","","","","",{"$f":"IF(ISNA(VLOOKUP(C61,Master!AQ$61:BC$286,12,FALSE)),\"\",VLOOKUP(C61,Master!AQ$61:BC$286,12,FALSE))","v":""},{"$nulls":4},0,1,{"$f":"IF(ISNA(VLOOKUP(C61,Master!AQ$61:BC$286,10,FALSE)),\"\",VLOOKUP(C61,Master!AQ$61:BC$286,10,FALSE))","v":""},null,null,{"$f":"IF(ISNA(VLOOKUP(C61,Master!AQ$61:BC$286,11,FALSE)),\"\",VLOOKUP(C61,Master!AQ$61:BC$286,11,FALSE))","v":""},{"$f":"IF(ISNA(VLOOKUP(C61,Master!AQ$61:BC$286,9,FALSE)),\"\",VLOOKUP(C61,Master!AQ$61:BC$286,9,FALSE))","v":""},0,0,0,0,0,0,"","","","","","",0,0,"",0,0,0,0,0,0,0,null,null,0,0,0,0,0,0,0,0,0,0,0,0,0,0,0,0,null,null,0,0,1,0,0,0,1,0,1,0,0,""]
["",2202,36,{"$f":"IF(ISNA(VLOOKUP(C62,Master!AQ$61:BC$286,3,FALSE)),\"\",VLOOKUP(C62,Master!AQ$61:BC$286,3,FALSE))","v":""},{"$f":"IF(ISNA(VLOOKUP(C62,Master!AQ$61:BC$286,7,FALSE)),\"\",VLOOKUP(C62,Master!AQ$61:BC$286,7,FALSE))","v":""},{"$f":"IF(ISNA(VLOOKUP(C62,Master!AQ$61:BC$286,8,FALSE)),\"\",VLOOKUP(C62,Master!AQ$61:BC$286,8,FALSE))","v":""},{"$f":"IF(ISNA(VLOOKUP(C62,Master!AQ$61:BC$286,4,FALSE)),\"\",VLOOKUP(C62,Master!AQ$61:BC$286,4,FALSE))","v":""},{"$f":"IF(ISNA(VLOOKUP(C62,Master!AQ$61:BC$286,5,FALSE)),\"\",VLOOKUP(C62,Master!AQ$61:BC$286,5,FALSE))","v":""},{"$f":"IF(ISNA(VLOOKUP(C62,Master!AQ$61:BC$286,6,FALSE)),\"\",VLOOKUP(C62,Master!AQ$61:BC$286,6,FALSE))","v":""},"","","","","",{"$f":"IF(ISNA(VLOOKUP(C62,Master!AQ$61:BC$286,12,FALSE)),\"\",VLOOKUP(C62,Master!AQ$61:BC$286,12,FALSE))","v":""},{"$nulls":4},0,1,{"$f":"IF(ISNA(VLOOKUP(C62,Master!AQ$61:BC$286,10,FALSE)),\"\",VLOOKUP(C62,Master!AQ$61:BC$286,10,FALSE))","v":""},null,null,{"$f":"IF(ISNA(VLOOKUP(C62,Master!AQ$61:BC$286,11,FALSE)),\"\",VLOOKUP(C62,Master!AQ$61:BC$286,11,FALSE))","v":""},{"$f":"IF(ISNA(VLOOKUP(C62,Master!AQ$61:BC$286,9,FALSE)),\"\",VLOOKUP(C62,Master!AQ$61:BC$286,9,FALSE))","v":""},0,0,0,0,0,0,"","","","","","",0,0,"",0,0,0,0,0,0,0,null,null,0,0,0,0,0,0,0,0,0,0,0,0,0,0,0,0,null,null,0,0,1,0,0,0,1,0,1,0,0,""]
["",2202,37,{"$f":"IF(ISNA(VLOOKUP(C63,Master!AQ$61:BC$286,3,FALSE)),\"\",VLOOKUP(C63,Master!AQ$61:BC$286,3,FALSE))","v":""},{"$f":"IF(ISNA(VLOOKUP(C63,Master!AQ$61:BC$286,7,FALSE)),\"\",VLOOKUP(C63,Master!AQ$61:BC$286,7,FALSE))","v":""},{"$f":"IF(ISNA(VLOOKUP(C63,Master!AQ$61:BC$286,8,FALSE)),\"\",VLOOKUP(C63,Master!AQ$61:BC$286,8,FALSE))","v":""},{"$f":"IF(ISNA(VLOOKUP(C63,Master!AQ$61:BC$286,4,FALSE)),\"\",VLOOKUP(C63,Master!AQ$61:BC$286,4,FALSE))","v":""},{"$f":"IF(ISNA(VLOOKUP(C63,Master!AQ$61:BC$286,5,FALSE)),\"\",VLOOKUP(C63,Master!AQ$61:BC$286,5,FALSE))","v":""},{"$f":"IF(ISNA(VLOOKUP(C63,Master!AQ$61:BC$286,6,FALSE)),\"\",VLOOKUP(C63,Master!AQ$61:BC$286,6,FALSE))","v":""},"","","","","",{"$f":"IF(ISNA(VLOOKUP(C63,Master!AQ$61:BC$286,12,FALSE)),\"\",VLOOKUP(C63,Master!AQ$61:BC$286,12,FALSE))","v":""},{"$nulls":4},0,1,{"$f":"IF(ISNA(VLOOKUP(C63,Master!AQ$61:BC$286,10,FALSE)),\"\",VLOOKUP(C63,Master!AQ$61:BC$286,10,FALSE))","v":""},null,null,{"$f":"IF(ISNA(VLOOKUP(C63,Master!AQ$61:BC$286,11,FALSE)),\"\",VLOOKUP(C63,Master!AQ$61:BC$286,11,FALSE))","v":""},{"$f":"IF(ISNA(VLOOKUP(C63,Master!AQ$61:BC$286,9,FALSE)),\"\",VLOOKUP(C63,Master!AQ$61:BC$286,9,FALSE))","v":""},0,0,0,0,0,0,"","","","","","",0,0,"",0,0,0,0,0,0,0,null,null,0,0,0,0,0,0,0,0,0,0,0,0,0,0,0,0,null,null,0,0,1,0,0,0,1,0,1,0,0,""]
["",2202,38,{"$f":"IF(ISNA(VLOOKUP(C64,Master!AQ$61:BC$286,3,FALSE)),\"\",VLOOKUP(C64,Master!AQ$61:BC$286,3,FALSE))","v":""},{"$f":"IF(ISNA(VLOOKUP(C64,Master!AQ$61:BC$286,7,FALSE)),\"\",VLOOKUP(C64,Master!AQ$61:BC$286,7,FALSE))","v":""},{"$f":"IF(ISNA(VLOOKUP(C64,Master!AQ$61:BC$286,8,FALSE)),\"\",VLOOKUP(C64,Master!AQ$61:BC$286,8,FALSE))","v":""},{"$f":"IF(ISNA(VLOOKUP(C64,Master!AQ$61:BC$286,4,FALSE)),\"\",VLOOKUP(C64,Master!AQ$61:BC$286,4,FALSE))","v":""},{"$f":"IF(ISNA(VLOOKUP(C64,Master!AQ$61:BC$286,5,FALSE)),\"\",VLOOKUP(C64,Master!AQ$61:BC$286,5,FALSE))","v":""},{"$f":"IF(ISNA(VLOOKUP(C64,Master!AQ$61:BC$286,6,FALSE)),\"\",VLOOKUP(C64,Master!AQ$61:BC$286,6,FALSE))","v":""},"","","","","",{"$f":"IF(ISNA(VLOOKUP(C64,Master!AQ$61:BC$286,12,FALSE)),\"\",VLOOKUP(C64,Master!AQ$61:BC$286,12,FALSE))","v":""},{"$nulls":4},0,1,{"$f":"IF(ISNA(VLOOKUP(C64,Master!AQ$61:BC$286,10,FALSE)),\"\",VLOOKUP(C64,Master!AQ$61:BC$286,10,FALSE))","v":""},null,null,{"$f":"IF(ISNA(VLOOKUP(C64,Master!AQ$61:BC$286,11,FALSE)),\"\",VLOOKUP(C64,Master!AQ$61:BC$286,11,FALSE))","v":""},{"$f":"IF(ISNA(VLOOKUP(C64,Master!AQ$61:BC$286,9,FALSE)),\"\",VLOOKUP(C64,Master!AQ$61:BC$286,9,FALSE))","v":""},0,0,0,0,0,0,"","","","","","",0,0,"",0,0,0,0,0,0,0,null,null,0,0,0,0,0,0,0,0,0,0,0,0,0,0,0,0,null,null,0,0,1,0,0,0,1,0,1,0,0,""]
["",2202,39,{"$f":"IF(ISNA(VLOOKUP(C65,Master!AQ$61:BC$286,3,FALSE)),\"\",VLOOKUP(C65,Master!AQ$61:BC$286,3,FALSE))","v":""},{"$f":"IF(ISNA(VLOOKUP(C65,Master!AQ$61:BC$286,7,FALSE)),\"\",VLOOKUP(C65,Master!AQ$61:BC$286,7,FALSE))","v":""},{"$f":"IF(ISNA(VLOOKUP(C65,Master!AQ$61:BC$286,8,FALSE)),\"\",VLOOKUP(C65,Master!AQ$61:BC$286,8,FALSE))","v":""},{"$f":"IF(ISNA(VLOOKUP(C65,Master!AQ$61:BC$286,4,FALSE)),\"\",VLOOKUP(C65,Master!AQ$61:BC$286,4,FALSE))","v":""},{"$f":"IF(ISNA(VLOOKUP(C65,Master!AQ$61:BC$286,5,FALSE)),\"\",VLOOKUP(C65,Master!AQ$61:BC$286,5,FALSE))","v":""},{"$f":"IF(ISNA(VLOOKUP(C65,Master!AQ$61:BC$286,6,FALSE)),\"\",VLOOKUP(C65,Master!AQ$61:BC$286,6,FALSE))","v":""},"","","","","",{"$f":"IF(ISNA(VLOOKUP(C65,Master!AQ$61:BC$286,12,FALSE)),\"\",VLOOKUP(C65,Master!AQ$61:BC$286,12,FALSE))","v":""},{"$nulls":4},0,1,{"$f":"IF(ISNA(VLOOKUP(C65,Master!AQ$61:BC$286,10,FALSE)),\"\",VLOOKUP(C65,Master!AQ$61:BC$286,10,FALSE))","v":""},null,null,{"$f":"IF(ISNA(VLOOKUP(C65,Master!AQ$61:BC$286,11,FALSE)),\"\",VLOOKUP(C65,Master!AQ$61:BC$286,11,FALSE))","v":""},{"$f":"IF(ISNA(VLOOKUP(C65,Master!AQ$61:BC$286,9,FALSE)),\"\",VLOOKUP(C65,Master!AQ$61:BC$286,9,FALSE))","v":""},0,0,0,0,0,0,"","","","","","",0,0,"",0,0,0,0,0,0,0,null,null,0,0,0,0,0,0,0,0,0,0,0,0,0,0,0,0,null,null,0,0,1,0,0,0,1,0,1,0,0,""]
["",2202,40,{"$f":"IF(ISNA(VLOOKUP(C66,Master!AQ$61:BC$286,3,FALSE)),\"\",VLOOKUP(C66,Master!AQ$61:BC$286,3,FALSE))","v":""},{"$f":"IF(ISNA(VLOOKUP(C66,Master!AQ$61:BC$286,7,FALSE)),\"\",VLOOKUP(C66,Master!AQ$61:BC$286,7,FALSE))","v":""},{"$f":"IF(ISNA(VLOOKUP(C66,Master!AQ$61:BC$286,8,FALSE)),\"\",VLOOKUP(C66,Master!AQ$61:BC$286,8,FALSE))","v":""},{"$f":"IF(ISNA(VLOOKUP(C66,Master!AQ$61:BC$286,4,FALSE)),\"\",VLOOKUP(C66,Master!AQ$61:BC$286,4,FALSE))","v":""},{"$f":"IF(ISNA(VLOOKUP(C66,Master!AQ$61:BC$286,5,FALSE)),\"\",VLOOKUP(C66,Master!AQ$61:BC$286,5,FALSE))","v":""},{"$f":"IF(ISNA(VLOOKUP(C66,Master!AQ$61:BC$286,6,FALSE)),\"\",VLOOKUP(C66,Master!AQ$61:BC$286,6,FALSE))","v":""},"","","","","",{"$f":"IF(ISNA(VLOOKUP(C66,Master!AQ$61:BC$286,12,FALSE)),\"\",VLOOKUP(C66,Master!AQ$61:BC$286,12,FALSE))","v":""},{"$nulls":4},0,1,{"$f":"IF(ISNA(VLOOKUP(C66,Master!AQ$61:BC$286,10,FALSE)),\"\",VLOOKUP(C66,Master!AQ$61:BC$286,10,FALSE))","v":""},null,null,{"$f":"IF(ISNA(VLOOKUP(C66,Master!AQ$61:BC$286,11,FALSE)),\"\",VLOOKUP(C66,Master!AQ$61:BC$286,11,FALSE))","v":""},{"$f":"IF(ISNA(VLOOKUP(C66,Master!AQ$61:BC$286,9,FALSE)),\"\",VLOOKUP(C66,Master!AQ$61:BC$286,9,FALSE))","v":""},0,0,0,0,0,0,"","","","","","",0,0,"",0,0,0,0,0,0,0,null,null,0,0,0,0,0,0,0,0,0,0,0,0,0,0,0,0,null,null,0,0,1,0,0,0,1,0,1,0,0,""]
["",2202,41,{"$f":"IF(ISNA(VLOOKUP(C67,Master!AQ$61:BC$286,3,FALSE)),\"\",VLOOKUP(C67,Master!AQ$61:BC$286,3,FALSE))","v":""},{"$f":"IF(ISNA(VLOOKUP(C67,Master!AQ$61:BC$286,7,FALSE)),\"\",VLOOKUP(C67,Master!AQ$61:BC$286,7,FALSE))","v":""},{"$f":"IF(ISNA(VLOOKUP(C67,Master!AQ$61:BC$286,8,FALSE)),\"\",VLOOKUP(C67,Master!AQ$61:BC$286,8,FALSE))","v":""},{"$f":"IF(ISNA(VLOOKUP(C67,Master!AQ$61:BC$286,4,FALSE)),\"\",VLOOKUP(C67,Master!AQ$61:BC$286,4,FALSE))","v":""},{"$f":"IF(ISNA(VLOOKUP(C67,Master!AQ$61:BC$286,5,FALSE)),\"\",VLOOKUP(C67,Master!AQ$61:BC$286,5,FALSE))","v":""},{"$f":"IF(ISNA(VLOOKUP(C67,Master!AQ$61:BC$286,6,FALSE)),\"\",VLOOKUP(C67,Master!AQ$61:BC$286,6,FALSE))","v":""},"","","","","",{"$f":"IF(ISNA(VLOOKUP(C67,Master!AQ$61:BC$286,12,FALSE)),\"\",VLOOKUP(C67,Master!AQ$61:BC$286,12,FALSE))","v":""},{"$nulls":4},0,1,{"$f":"IF(ISNA(VLOOKUP(C67,Master!AQ$61:BC$286,10,FALSE)),\"\",VLOOKUP(C67,Master!AQ$61:BC$286,10,FALSE))","v":""},null,null,{"$f":"IF(ISNA(VLOOKUP(C67,Master!AQ$61:BC$286,11,FALSE)),\"\",VLOOKUP(C67,Master!AQ$61:BC$286,11,FALSE))","v":""},{"$f":"IF(ISNA(VLOOKUP(C67,Master!AQ$61:BC$286,9,FALSE)),\"\",VLOOKUP(C67,Master!AQ$61:BC$286,9,FALSE))","v":""},0,0,0,0,0,0,"","","","","","",0,0,"",0,0,0,0,0,0,0,null,null,0,0,0,0,0,0,0,0,0,0,0,0,0,0,0,0,null,null,0,0,1,0,0,0,1,0,1,0,0,""]
["",2202,42,{"$f":"IF(ISNA(VLOOKUP(C68,Master!AQ$61:BC$286,3,FALSE)),\"\",VLOOKUP(C68,Master!AQ$61:BC$286,3,FALSE))","v":""},{"$f":"IF(ISNA(VLOOKUP(C68,Master!AQ$61:BC$286,7,FALSE)),\"\",VLOOKUP(C68,Master!AQ$61:BC$286,7,FALSE))","v":""},{"$f":"IF(ISNA(VLOOKUP(C68,Master!AQ$61:BC$286,8,FALSE)),\"\",VLOOKUP(C68,Master!AQ$61:BC$286,8,FALSE))","v":""},{"$f":"IF(ISNA(VLOOKUP(C68,Master!AQ$61:BC$286,4,FALSE)),\"\",VLOOKUP(C68,Master!AQ$61:BC$286,4,FALSE))","v":""},{"$f":"IF(ISNA(VLOOKUP(C68,Master!AQ$61:BC$286,5,FALSE)),\"\",VLOOKUP(C68,Master!AQ$61:BC$286,5,FALSE))","v":""},{"$f":"IF(ISNA(VLOOKUP(C68,Master!AQ$61:BC$286,6,FALSE)),\"\",VLOOKUP(C68,Master!AQ$61:BC$286,6,FALSE))","v":""},"","","","","",{"$f":"IF(ISNA(VLOOKUP(C68,Master!AQ$61:BC$286,12,FALSE)),\"\",VLOOKUP(C68,Master!AQ$61:BC$286,12,FALSE))","v":""},{"$nulls":4},0,1,{"$f":"IF(ISNA(VLOOKUP(C68,Master!AQ$61:BC$286,10,FALSE)),\"\",VLOOKUP(C68,Master!AQ$61:BC$286,10,FALSE))","v":""},null,null,{"$f":"IF(ISNA(VLOOKUP(C68,Master!AQ$61:BC$286,11,FALSE)),\"\",VLOOKUP(C68,Master!AQ$61:BC$286,11,FALSE))","v":""},{"$f":"IF(ISNA(VLOOKUP(C68,Master!AQ$61:BC$286,9,FALSE)),\"\",VLOOKUP(C68,Master!AQ$61:BC$286,9,FALSE))","v":""},0,0,0,0,0,0,"","","","","","",0,0,"",0,0,0,0,0,0,0,null,null,0,0,0,0,0,0,0,0,0,0,0,0,0,0,0,0,null,null,0,0,1,0,0,0,1,0,1,0,0,""]
["",2202,43,{"$f":"IF(ISNA(VLOOKUP(C69,Master!AQ$61:BC$286,3,FALSE)),\"\",VLOOKUP(C69,Master!AQ$61:BC$286,3,FALSE))","v":""},{"$f":"IF(ISNA(VLOOKUP(C69,Master!AQ$61:BC$286,7,FALSE)),\"\",VLOOKUP(C69,Master!AQ$61:BC$286,7,FALSE))","v":""},{"$f":"IF(ISNA(VLOOKUP(C69,Master!AQ$61:BC$286,8,FALSE)),\"\",VLOOKUP(C69,Master!AQ$61:BC$286,8,FALSE))","v":""},{"$f":"IF(ISNA(VLOOKUP(C69,Master!AQ$61:BC$286,4,FALSE)),\"\",VLOOKUP(C69,Master!AQ$61:BC$286,4,FALSE))","v":""},{"$f":"IF(ISNA(VLOOKUP(C69,Master!AQ$61:BC$286,5,FALSE)),\"\",VLOOKUP(C69,Master!AQ$61:BC$286,5,FALSE))","v":""},{"$f":"IF(ISNA(VLOOKUP(C69,Master!AQ$61:BC$286,6,FALSE)),\"\",VLOOKUP(C69,Master!AQ$61:BC$286,6,FALSE))","v":""},"","","","","",{"$f":"IF(ISNA(VLOOKUP(C69,Master!AQ$61:BC$286,12,FALSE)),\"\",VLOOKUP(C69,Master!AQ$61:BC$286,12,FALSE))","v":""},{"$nulls":4},0,1,{"$f":"IF(ISNA(VLOOKUP(C69,Master!AQ$61:BC$286,10,FALSE)),\"\",VLOOKUP(C69,Master!AQ$61:BC$286,10,FALSE))","v":""},null,null,{"$f":"IF(ISNA(VLOOKUP(C69,Master!AQ$61:BC$286,11,FALSE)),\"\",VLOOKUP(C69,Master!AQ$61:BC$286,11,FALSE))","v":""},{"$f":"IF(ISNA(VLOOKUP(C69,Master!AQ$61:BC$286,9,FALSE)),\"\",VLOOKUP(C69,Master!AQ$61:BC$286,9,FALSE))","v":""},0,0,0,0,0,0,"","","","","","",0,0,"",0,0,0,0,0,0,0,null,null,0,0,0,0,0,0,0,0,0,0,0,0,0,0,0,0,null,null,0,0,1,0,0,0,1,0,1,0,0,""]
["",2202,44,{"$f":"IF(ISNA(VLOOKUP(C70,Master!AQ$61:BC$286,3,FALSE)),\"\",VLOOKUP(C70,Master!AQ$61:BC$286,3,FALSE))","v":""},{"$f":"IF(ISNA(VLOOKUP(C70,Master!AQ$61:BC$286,7,FALSE)),\"\",VLOOKUP(C70,Master!AQ$61:BC$286,7,FALSE))","v":""},{"$f":"IF(ISNA(VLOOKUP(C70,Master!AQ$61:BC$286,8,FALSE)),\"\",VLOOKUP(C70,Master!AQ$61:BC$286,8,FALSE))","v":""},{"$f":"IF(ISNA(VLOOKUP(C70,Master!AQ$61:BC$286,4,FALSE)),\"\",VLOOKUP(C70,Master!AQ$61:BC$286,4,FALSE))","v":""},{"$f":"IF(ISNA(VLOOKUP(C70,Master!AQ$61:BC$286,5,FALSE)),\"\",VLOOKUP(C70,Master!AQ$61:BC$286,5,FALSE))","v":""},{"$f":"IF(ISNA(VLOOKUP(C70,Master!AQ$61:BC$286,6,FALSE)),\"\",VLOOKUP(C70,Master!AQ$61:BC$286,6,FALSE))","v":""},"","","","","",{"$f":"IF(ISNA(VLOOKUP(C70,Master!AQ$61:BC$286,12,FALSE)),\"\",VLOOKUP(C70,Master!AQ$61:BC$286,12,FALSE))","v":""},{"$nulls":4},0,1,{"$f":"IF(ISNA(VLOOKUP(C70,Master!AQ$61:BC$286,10,FALSE)),\"\",VLOOKUP(C70,Master!AQ$61:BC$286,10,FALSE))","v":""},null,null,{"$f":"IF(ISNA(VLOOKUP(C70,Master!AQ$61:BC$286,11,FALSE)),\"\",VLOOKUP(C70,Master!AQ$61:BC$286,11,FALSE))","v":""},{"$f":"IF(ISNA(VLOOKUP(C70,Master!AQ$61:BC$286,9,FALSE)),\"\",VLOOKUP(C70,Master!AQ$61:BC$286,9,FALSE))","v":""},0,0,0,0,0,0,"","","","","","",0,0,"",0,0,0,0,0,0,0,null,null,0,0,0,0,0,0,0,0,0,0,0,0,0,0,0,0,null,null,0,0,1,0,0,0,1,0,1,0,0,""]
["",2202,45,{"$f":"IF(ISNA(VLOOKUP(C71,Master!AQ$61:BC$286,3,FALSE)),\"\",VLOOKUP(C71,Master!AQ$61:BC$286,3,FALSE))","v":""},{"$f":"IF(ISNA(VLOOKUP(C71,Master!AQ$61:BC$286,7,FALSE)),\"\",VLOOKUP(C71,Master!AQ$61:BC$286,7,FALSE))","v":""},{"$f":"IF(ISNA(VLOOKUP(C71,Master!AQ$61:BC$286,8,FALSE)),\"\",VLOOKUP(C71,Master!AQ$61:BC$286,8,FALSE))","v":""},{"$f":"IF(ISNA(VLOOKUP(C71,Master!AQ$61:BC$286,4,FALSE)),\"\",VLOOKUP(C71,Master!AQ$61:BC$286,4,FALSE))","v":""},{"$f":"IF(ISNA(VLOOKUP(C71,Master!AQ$61:BC$286,5,FALSE)),\"\",VLOOKUP(C71,Master!AQ$61:BC$286,5,FALSE))","v":""},{"$f":"IF(ISNA(VLOOKUP(C71,Master!AQ$61:BC$286,6,FALSE)),\"\",VLOOKUP(C71,Master!AQ$61:BC$286,6,FALSE))","v":""},"","","","","",{"$f":"IF(ISNA(VLOOKUP(C71,Master!AQ$61:BC$286,12,FALSE)),\"\",VLOOKUP(C71,Master!AQ$61:BC$286,12,FALSE))","v":""},{"$nulls":4},0,1,{"$f":"IF(ISNA(VLOOKUP(C71,Master!AQ$61:BC$286,10,FALSE)),\"\",VLOOKUP(C71,Master!AQ$61:BC$286,10,FALSE))","v":""},null,null,{"$f":"IF(ISNA(VLOOKUP(C71,Master!AQ$61:BC$286,11,FALSE)),\"\",VLOOKUP(C71,Master!AQ$61:BC$286,11,FALSE))","v":""},{"$f":"IF(ISNA(VLOOKUP(C71,Master!AQ$61:BC$286,9,FALSE)),\"\",VLOOKUP(C71,Master!AQ$61:BC$286,9,FALSE))","v":""},0,0,0,0,0,0,"",{"$f":"IF(AND(I71=\"\"),\"\",$M71*$BR71)","v":""},{"$f":"IF(AND(I71=\"\"),\"\",$M71*$BS71)","v":""},{"$f":"IF(AND(I71=\"\"),\"\",$M71*$BT71)","v":""},{"$f":"IF(AND(I71=\"\"),\"\",$M71*$BU71)","v":""},{"$f":"IF(AND(I71=\"\"),\"\",ROUND((AH71+AI71)*$AL$10,0)*BV71)","v":""},0,0,{"$f":"IF(AND(I71=\"\"),\"\",ROUND((AH71+AI71)*$AO$10,0)*BV71)","v":""},{"$f":"$G$222*BS71*BV71*(IF(I71<=0,0,1))*(IF(H71<=4800,1,0))","v":0},{"$f":"IF(AND(I71=\"\"),0,ROUND((I71+ROUND(I71*$AL$10,0))/2,0)*(IF(O71=\"FIX PAY\",0,1)))","v":0},{"$f":"IF(G71=\"CLERK GRADE I\",1,IF(G71=\"CLERK GRADE II\",1,0))*75*12*BV71*(IF(I71<=0,0,1))*BW71","v":0},{"$f":"IF(AND(I71=\"\"),0,(IF(G71=\"ASSISTANT\",12,IF(G71=\"CLERK GRADE I\",12,IF(G71=\"CLERK GRADE II\",12,IF(G71=\"FIELDMAN & FIELD REC\",12,IF(G71=\"LAB BOY\",12,IF(G71=\"JAMADAR\",12,IF(G71=\"PEON\",12,10))))))))*(MINA(ROUND(I71*6%,0),600))*(IF($V71=\"yes\",1,0)))","v":0},0,{"$f":"IF(AND(G71=\"\"),0,SUM(AL71:AT71)+AH71+AI71)","v":0},{"$f":"IF(AND(G71=\"\"),0,AU71)","v":0},null,null,{"$f":"AV71+AW71+AX71","v":0},{"$f":"IF(AND(G71=\"\"),0,N71*BR71)","v":0},{"$f":"IF(AND(G71=\"\"),0,N71*BS71)","v":0},{"$f":"IF(AND(G71=\"\"),0,N71*BT71)","v":0},{"$f":"IF(AND(G71=\"\"),0,N71*BU71)","v":0},{"$f":"ROUND((AZ71+BA71)*$BD$10,0)*BV71","v":0},{"$f":"IF(AND(G71=\"\"),0,ROUND((IF(O71=\"FIX PAY\",0,AG71))*$BE$10*2,0)*BV71)","v":0},0,{"$f":"ROUND((AZ71+BA71)*$BG$10,0)*BV71","v":0},{"$f":"3387*2*BS71*BV71*(IF(I71<=0,0,1))*(IF(H71<=4800,1,0))","v":0},{"$f":"IF(AND(I71=\"\"),0,ROUND((AG71+ROUND(AG71*$AL$10,0))/2,0)*(IF(O71=\"FIX PAY\",0,1)))","v":0},{"$f":"IF(G71=\"CLERK GRADE I\",1,IF(G71=\"CLERK GRADE II\",1,0))*75*12*BV71*(IF(I71<=0,0,1))*BW71","v":0},{"$f":"IF(AND(G71=\"\"),0,(IF(G71=\"ASSISTANT\",12,IF(G71=\"CLERK GRADE I\",12,IF(G71=\"CLERK GRADE II\",12,IF(G71=\"FIELDMAN & FIELD REC\",12,IF(G71=\"LAB BOY\",12,IF(G71=\"JAMADAR\",12,IF(G71=\"PEON\",12,10))))))))*(MINA(ROUND(AG71*6%,0),600))*(IF($V71=\"yes\",1,)))","v":0},{"$f":"(IF(G71=\"LAB BOY\",150,IF(G71=\"JAMADAR\",150,IF(G71=\"PEON\",150,0))))*12*BV71*(IF(I71<=0,0,1))","v":0},{"$f":"SUM(BD71:BL71)+AZ71+BA71","v":0},{"$f":"BM71","v":0},null,null,{"$f":"BN71+BO71+BP71","v":0},{"$f":"(IF(G71=\"PRINCIPAL\",1,IF(G71=\"H M\",1,IF(G71=\"AGRICULTURE INST\",1,IF(G71=\"TEACHER-1ST\",1,IF(G71=\"PTI  I  (13)\",1,IF(G71=\"AGRICULTURE TEACH\",1,IF(G71=\"INSTRUCTOR\",1,0))))))))+(IF(G71=\"JR TEACHER\",1,IF(G71=\"LIBRARIAN I\",1,0)))*(IF(O71=\"FIX PAY\",0,1))","v":0},{"$f":"IF(BR71<=0,1,0)*(IF(O71=\"FIX PAY\",0,1))","v":1},{"$f":"(IF(G71=\"PRINCIPAL (16)\",1,IF(G71=\"V P (14)\",1,IF(G71=\"H M (14)\",1,IF(G71=\"AGRICULTURE INST (13)\",1,IF(G71=\"TEACHER-1ST (13)\",1,IF(G71=\"PTI  I  (13)\",1,IF(G71=\"AGRICULTURE TEACH (13)\",1,IF(G71=\"INSTRUCTOR (13)\",1,0))))))))+(IF(G71=\"JR TEACHER (13)\",1,IF(G71=\"LIBRARIAN I (13)\",1,0))))*(IF(O71=\"FIX PAY\",1,0))","v":0},{"$f":"IF(BT71<=0,1,0)*(IF(O71=\"FIX PAY\",1,0))","v":0},{"$f":"IF(O71=\"FIX PAY\",1,0)","v":0},{"$f":"IF(Y71=\"No\",0,1)","v":1},0,{"$f":"IF(I71<=0,0,1)","v":1},{"$f":"IF(O71=\"SANVIDA\",1,0)","v":0},{"$f":"IF(BZ71>0,I71,0)","v":0},""]
["",2202,46,{"$f":"IF(ISNA(VLOOKUP(C72,Master!AQ$61:BC$286,3,FALSE)),\"\",VLOOKUP(C72,Master!AQ$61:BC$286,3,FALSE))","v":""},{"$f":"IF(ISNA(VLOOKUP(C72,Master!AQ$61:BC$286,7,FALSE)),\"\",VLOOKUP(C72,Master!AQ$61:BC$286,7,FALSE))","v":""},{"$f":"IF(ISNA(VLOOKUP(C72,Master!AQ$61:BC$286,8,FALSE)),\"\",VLOOKUP(C72,Master!AQ$61:BC$286,8,FALSE))","v":""},{"$f":"IF(ISNA(VLOOKUP(C72,Master!AQ$61:BC$286,4,FALSE)),\"\",VLOOKUP(C72,Master!AQ$61:BC$286,4,FALSE))","v":""},{"$f":"IF(ISNA(VLOOKUP(C72,Master!AQ$61:BC$286,5,FALSE)),\"\",VLOOKUP(C72,Master!AQ$61:BC$286,5,FALSE))","v":""},{"$f":"IF(ISNA(VLOOKUP(C72,Master!AQ$61:BC$286,6,FALSE)),\"\",VLOOKUP(C72,Master!AQ$61:BC$286,6,FALSE))","v":""},"","","","","",{"$f":"IF(ISNA(VLOOKUP(C72,Master!AQ$61:BC$286,12,FALSE)),\"\",VLOOKUP(C72,Master!AQ$61:BC$286,12,FALSE))","v":""},{"$nulls":4},0,1,{"$f":"IF(ISNA(VLOOKUP(C72,Master!AQ$61:BC$286,10,FALSE)),\"\",VLOOKUP(C72,Master!AQ$61:BC$286,10,FALSE))","v":""},null,null,{"$f":"IF(ISNA(VLOOKUP(C72,Master!AQ$61:BC$286,11,FALSE)),\"\",VLOOKUP(C72,Master!AQ$61:BC$286,11,FALSE))","v":""},{"$f":"IF(ISNA(VLOOKUP(C72,Master!AQ$61:BC$286,9,FALSE)),\"\",VLOOKUP(C72,Master!AQ$61:BC$286,9,FALSE))","v":""},0,0,0,0,0,0,"",{"$f":"IF(AND(I72=\"\"),\"\",$M72*$BR72)","v":""},{"$f":"IF(AND(I72=\"\"),\"\",$M72*$BS72)","v":""},{"$f":"IF(AND(I72=\"\"),\"\",$M72*$BT72)","v":""},{"$f":"IF(AND(I72=\"\"),\"\",$M72*$BU72)","v":""},{"$f":"IF(AND(I72=\"\"),\"\",ROUND((AH72+AI72)*$AL$10,0)*BV72)","v":""},0,0,{"$f":"IF(AND(I72=\"\"),\"\",ROUND((AH72+AI72)*$AO$10,0)*BV72)","v":""},0,0,0,0,0,0,0,null,null,{"$f":"AV72+AW72+AX72","v":0},0,0,0,0,{"$f":"ROUND((AZ72+BA72)*$BD$10,0)*BV72","v":0},0,0,{"$f":"ROUND((AZ72+BA72)*$BG$10,0)*BV72","v":0},0,0,0,0,0,{"$f":"SUM(BD72:BL72)+AZ72+BA72","v":0},{"$f":"BM72","v":0},null,null,{"$f":"BN72+BO72+BP72","v":0},0,1,0,0,0,{"$f":"IF(Y72=\"No\",0,1)","v":1},0,{"$f":"IF(I72<=0,0,1)","v":1},0,0,""]
["",2202,47,{"$f":"IF(ISNA(VLOOKUP(C73,Master!AQ$61:BC$286,3,FALSE)),\"\",VLOOKUP(C73,Master!AQ$61:BC$286,3,FALSE))","v":""},{"$f":"IF(ISNA(VLOOKUP(C73,Master!AQ$61:BC$286,7,FALSE)),\"\",VLOOKUP(C73,Master!AQ$61:BC$286,7,FALSE))","v":""},{"$f":"IF(ISNA(VLOOKUP(C73,Master!AQ$61:BC$286,8,FALSE)),\"\",VLOOKUP(C73,Master!AQ$61:BC$286,8,FALSE))","v":""},{"$f":"IF(ISNA(VLOOKUP(C73,Master!AQ$61:BC$286,4,FALSE)),\"\",VLOOKUP(C73,Master!AQ$61:BC$286,4,FALSE))","v":""},{"$f":"IF(ISNA(VLOOKUP(C73,Master!AQ$61:BC$286,5,FALSE)),\"\",VLOOKUP(C73,Master!AQ$61:BC$286,5,FALSE))","v":""},{"$f":"IF(ISNA(VLOOKUP(C73,Master!AQ$61:BC$286,6,FALSE)),\"\",VLOOKUP(C73,Master!AQ$61:BC$286,6,FALSE))","v":""},"","","","","",{"$f":"IF(ISNA(VLOOKUP(C73,Master!AQ$61:BC$286,12,FALSE)),\"\",VLOOKUP(C73,Master!AQ$61:BC$286,12,FALSE))","v":""},{"$nulls":4},0,1,{"$f":"IF(ISNA(VLOOKUP(C73,Master!AQ$61:BC$286,10,FALSE)),\"\",VLOOKUP(C73,Master!AQ$61:BC$286,10,FALSE))","v":""},null,null,{"$f":"IF(ISNA(VLOOKUP(C73,Master!AQ$61:BC$286,11,FALSE)),\"\",VLOOKUP(C73,Master!AQ$61:BC$286,11,FALSE))","v":""},{"$f":"IF(ISNA(VLOOKUP(C73,Master!AQ$61:BC$286,9,FALSE)),\"\",VLOOKUP(C73,Master!AQ$61:BC$286,9,FALSE))","v":""},0,0,0,0,0,0,"","","","","","",0,0,"",0,0,0,0,0,0,0,null,null,0,0,0,0,0,0,0,0,0,0,0,0,0,0,0,0,null,null,0,0,1,0,0,0,1,0,1,0,0,""]
["",2202,48,{"$f":"IF(ISNA(VLOOKUP(C74,Master!AQ$61:BC$286,3,FALSE)),\"\",VLOOKUP(C74,Master!AQ$61:BC$286,3,FALSE))","v":""},{"$f":"IF(ISNA(VLOOKUP(C74,Master!AQ$61:BC$286,7,FALSE)),\"\",VLOOKUP(C74,Master!AQ$61:BC$286,7,FALSE))","v":""},{"$f":"IF(ISNA(VLOOKUP(C74,Master!AQ$61:BC$286,8,FALSE)),\"\",VLOOKUP(C74,Master!AQ$61:BC$286,8,FALSE))","v":""},{"$f":"IF(ISNA(VLOOKUP(C74,Master!AQ$61:BC$286,4,FALSE)),\"\",VLOOKUP(C74,Master!AQ$61:BC$286,4,FALSE))","v":""},{"$f":"IF(ISNA(VLOOKUP(C74,Master!AQ$61:BC$286,5,FALSE)),\"\",VLOOKUP(C74,Master!AQ$61:BC$286,5,FALSE))","v":""},{"$f":"IF(ISNA(VLOOKUP(C74,Master!AQ$61:BC$286,6,FALSE)),\"\",VLOOKUP(C74,Master!AQ$61:BC$286,6,FALSE))","v":""},"","","","","",{"$f":"IF(ISNA(VLOOKUP(C74,Master!AQ$61:BC$286,12,FALSE)),\"\",VLOOKUP(C74,Master!AQ$61:BC$286,12,FALSE))","v":""},{"$nulls":4},0,1,{"$f":"IF(ISNA(VLOOKUP(C74,Master!AQ$61:BC$286,10,FALSE)),\"\",VLOOKUP(C74,Master!AQ$61:BC$286,10,FALSE))","v":""},null,null,{"$f":"IF(ISNA(VLOOKUP(C74,Master!AQ$61:BC$286,11,FALSE)),\"\",VLOOKUP(C74,Master!AQ$61:BC$286,11,FALSE))","v":""},{"$f":"IF(ISNA(VLOOKUP(C74,Master!AQ$61:BC$286,9,FALSE)),\"\",VLOOKUP(C74,Master!AQ$61:BC$286,9,FALSE))","v":""},0,0,0,0,0,0,"","","","","","",0,0,"",0,0,0,0,0,0,0,null,null,0,0,0,0,0,0,0,0,0,0,0,0,0,0,0,0,null,null,0,0,1,0,0,0,1,0,1,0,0,""]
["",2202,49,{"$f":"IF(ISNA(VLOOKUP(C75,Master!AQ$61:BC$286,3,FALSE)),\"\",VLOOKUP(C75,Master!AQ$61:BC$286,3,FALSE))","v":""},{"$f":"IF(ISNA(VLOOKUP(C75,Master!AQ$61:BC$286,7,FALSE)),\"\",VLOOKUP(C75,Master!AQ$61:BC$286,7,FALSE))","v":""},{"$f":"IF(ISNA(VLOOKUP(C75,Master!AQ$61:BC$286,8,FALSE)),\"\",VLOOKUP(C75,Master!AQ$61:BC$286,8,FALSE))","v":""},{"$f":"IF(ISNA(VLOOKUP(C75,Master!AQ$61:BC$286,4,FALSE)),\"\",VLOOKUP(C75,Master!AQ$61:BC$286,4,FALSE))","v":""},{"$f":"IF(ISNA(VLOOKUP(C75,Master!AQ$61:BC$286,5,FALSE)),\"\",VLOOKUP(C75,Master!AQ$61:BC$286,5,FALSE))","v":""},{"$f":"IF(ISNA(VLOOKUP(C75,Master!AQ$61:BC$286,6,FALSE)),\"\",VLOOKUP(C75,Master!AQ$61:BC$286,6,FALSE))","v":""},"","","","","",{"$f":"IF(ISNA(VLOOKUP(C75,Master!AQ$61:BC$286,12,FALSE)),\"\",VLOOKUP(C75,Master!AQ$61:BC$286,12,FALSE))","v":""},{"$nulls":4},0,1,{"$f":"IF(ISNA(VLOOKUP(C75,Master!AQ$61:BC$286,10,FALSE)),\"\",VLOOKUP(C75,Master!AQ$61:BC$286,10,FALSE))","v":""},null,null,{"$f":"IF(ISNA(VLOOKUP(C75,Master!AQ$61:BC$286,11,FALSE)),\"\",VLOOKUP(C75,Master!AQ$61:BC$286,11,FALSE))","v":""},{"$f":"IF(ISNA(VLOOKUP(C75,Master!AQ$61:BC$286,9,FALSE)),\"\",VLOOKUP(C75,Master!AQ$61:BC$286,9,FALSE))","v":""},0,0,0,0,0,0,"","","","","","",0,0,"",0,0,0,0,0,0,0,null,null,0,0,0,0,0,0,0,0,0,0,0,0,0,0,0,0,null,null,0,0,1,0,0,0,1,0,1,0,0,""]
["",2202,50,{"$f":"IF(ISNA(VLOOKUP(C76,Master!AQ$61:BC$286,3,FALSE)),\"\",VLOOKUP(C76,Master!AQ$61:BC$286,3,FALSE))","v":""},{"$f":"IF(ISNA(VLOOKUP(C76,Master!AQ$61:BC$286,7,FALSE)),\"\",VLOOKUP(C76,Master!AQ$61:BC$286,7,FALSE))","v":""},{"$f":"IF(ISNA(VLOOKUP(C76,Master!AQ$61:BC$286,8,FALSE)),\"\",VLOOKUP(C76,Master!AQ$61:BC$286,8,FALSE))","v":""},{"$f":"IF(ISNA(VLOOKUP(C76,Master!AQ$61:BC$286,4,FALSE)),\"\",VLOOKUP(C76,Master!AQ$61:BC$286,4,FALSE))","v":""},{"$f":"IF(ISNA(VLOOKUP(C76,Master!AQ$61:BC$286,5,FALSE)),\"\",VLOOKUP(C76,Master!AQ$61:BC$286,5,FALSE))","v":""},{"$f":"IF(ISNA(VLOOKUP(C76,Master!AQ$61:BC$286,6,FALSE)),\"\",VLOOKUP(C76,Master!AQ$61:BC$286,6,FALSE))","v":""},"","","","","",{"$f":"IF(ISNA(VLOOKUP(C76,Master!AQ$61:BC$286,12,FALSE)),\"\",VLOOKUP(C76,Master!AQ$61:BC$286,12,FALSE))","v":""},{"$nulls":4},0,1,{"$f":"IF(ISNA(VLOOKUP(C76,Master!AQ$61:BC$286,10,FALSE)),\"\",VLOOKUP(C76,Master!AQ$61:BC$286,10,FALSE))","v":""},null,null,{"$f":"IF(ISNA(VLOOKUP(C76,Master!AQ$61:BC$286,11,FALSE)),\"\",VLOOKUP(C76,Master!AQ$61:BC$286,11,FALSE))","v":""},{"$f":"IF(ISNA(VLOOKUP(C76,Master!AQ$61:BC$286,9,FALSE)),\"\",VLOOKUP(C76,Master!AQ$61:BC$286,9,FALSE))","v":""},0,0,0,0,0,0,"","","","","","",0,0,"",0,0,0,0,0,0,0,null,null,0,0,0,0,0,0,0,0,0,0,0,0,0,0,0,0,null,null,0,0,1,0,0,0,1,0,1,0,0,""]
["",2202,51,{"$f":"IF(ISNA(VLOOKUP(C77,Master!AQ$61:BC$286,3,FALSE)),\"\",VLOOKUP(C77,Master!AQ$61:BC$286,3,FALSE))","v":""},{"$f":"IF(ISNA(VLOOKUP(C77,Master!AQ$61:BC$286,7,FALSE)),\"\",VLOOKUP(C77,Master!AQ$61:BC$286,7,FALSE))","v":""},{"$f":"IF(ISNA(VLOOKUP(C77,Master!AQ$61:BC$286,8,FALSE)),\"\",VLOOKUP(C77,Master!AQ$61:BC$286,8,FALSE))","v":""},{"$f":"IF(ISNA(VLOOKUP(C77,Master!AQ$61:BC$286,4,FALSE)),\"\",VLOOKUP(C77,Master!AQ$61:BC$286,4,FALSE))","v":""},{"$f":"IF(ISNA(VLOOKUP(C77,Master!AQ$61:BC$286,5,FALSE)),\"\",VLOOKUP(C77,Master!AQ$61:BC$286,5,FALSE))","v":""},{"$f":"IF(ISNA(VLOOKUP(C77,Master!AQ$61:BC$286,6,FALSE)),\"\",VLOOKUP(C77,Master!AQ$61:BC$286,6,FALSE))","v":""},"","","","","",{"$f":"IF(ISNA(VLOOKUP(C77,Master!AQ$61:BC$286,12,FALSE)),\"\",VLOOKUP(C77,Master!AQ$61:BC$286,12,FALSE))","v":""},{"$nulls":4},0,1,{"$f":"IF(ISNA(VLOOKUP(C77,Master!AQ$61:BC$286,10,FALSE)),\"\",VLOOKUP(C77,Master!AQ$61:BC$286,10,FALSE))","v":""},null,null,{"$f":"IF(ISNA(VLOOKUP(C77,Master!AQ$61:BC$286,11,FALSE)),\"\",VLOOKUP(C77,Master!AQ$61:BC$286,11,FALSE))","v":""},{"$f":"IF(ISNA(VLOOKUP(C77,Master!AQ$61:BC$286,9,FALSE)),\"\",VLOOKUP(C77,Master!AQ$61:BC$286,9,FALSE))","v":""},0,0,0,0,0,0,"","","","","","",0,0,"",0,0,0,0,{"$f":"(IF(G77=\"LAB BOY\",180,IF(G77=\"JAMADAR\",180,IF(G77=\"PEON\",180,0))))*12*BV77*(IF(I77<=0,0,1))","v":0},0,0,null,null,0,0,0,0,0,0,0,0,0,0,0,0,0,0,0,0,null,null,0,0,1,0,0,0,1,0,1,0,0,""]
["",2202,52,{"$f":"IF(ISNA(VLOOKUP(C78,Master!AQ$61:BC$286,3,FALSE)),\"\",VLOOKUP(C78,Master!AQ$61:BC$286,3,FALSE))","v":""},{"$f":"IF(ISNA(VLOOKUP(C78,Master!AQ$61:BC$286,7,FALSE)),\"\",VLOOKUP(C78,Master!AQ$61:BC$286,7,FALSE))","v":""},{"$f":"IF(ISNA(VLOOKUP(C78,Master!AQ$61:BC$286,8,FALSE)),\"\",VLOOKUP(C78,Master!AQ$61:BC$286,8,FALSE))","v":""},{"$f":"IF(ISNA(VLOOKUP(C78,Master!AQ$61:BC$286,4,FALSE)),\"\",VLOOKUP(C78,Master!AQ$61:BC$286,4,FALSE))","v":""},{"$f":"IF(ISNA(VLOOKUP(C78,Master!AQ$61:BC$286,5,FALSE)),\"\",VLOOKUP(C78,Master!AQ$61:BC$286,5,FALSE))","v":""},{"$f":"IF(ISNA(VLOOKUP(C78,Master!AQ$61:BC$286,6,FALSE)),\"\",VLOOKUP(C78,Master!AQ$61:BC$286,6,FALSE))","v":""},"","","","","",{"$f":"IF(ISNA(VLOOKUP(C78,Master!AQ$61:BC$286,12,FALSE)),\"\",VLOOKUP(C78,Master!AQ$61:BC$286,12,FALSE))","v":""},{"$nulls":4},0,1,{"$f":"IF(ISNA(VLOOKUP(C78,Master!AQ$61:BC$286,10,FALSE)),\"\",VLOOKUP(C78,Master!AQ$61:BC$286,10,FALSE))","v":""},null,null,{"$f":"IF(ISNA(VLOOKUP(C78,Master!AQ$61:BC$286,11,FALSE)),\"\",VLOOKUP(C78,Master!AQ$61:BC$286,11,FALSE))","v":""},{"$f":"IF(ISNA(VLOOKUP(C78,Master!AQ$61:BC$286,9,FALSE)),\"\",VLOOKUP(C78,Master!AQ$61:BC$286,9,FALSE))","v":""},0,0,0,0,0,0,"","","","","","",0,0,"",0,0,0,0,0,0,0,null,null,0,0,0,0,0,0,0,0,0,0,0,0,0,0,0,0,null,null,0,0,1,0,0,0,1,0,1,0,0,""]
["",2202,53,{"$f":"IF(ISNA(VLOOKUP(C79,Master!AQ$61:BC$286,3,FALSE)),\"\",VLOOKUP(C79,Master!AQ$61:BC$286,3,FALSE))","v":""},{"$f":"IF(ISNA(VLOOKUP(C79,Master!AQ$61:BC$286,7,FALSE)),\"\",VLOOKUP(C79,Master!AQ$61:BC$286,7,FALSE))","v":""},{"$f":"IF(ISNA(VLOOKUP(C79,Master!AQ$61:BC$286,8,FALSE)),\"\",VLOOKUP(C79,Master!AQ$61:BC$286,8,FALSE))","v":""},{"$f":"IF(ISNA(VLOOKUP(C79,Master!AQ$61:BC$286,4,FALSE)),\"\",VLOOKUP(C79,Master!AQ$61:BC$286,4,FALSE))","v":""},{"$f":"IF(ISNA(VLOOKUP(C79,Master!AQ$61:BC$286,5,FALSE)),\"\",VLOOKUP(C79,Master!AQ$61:BC$286,5,FALSE))","v":""},{"$f":"IF(ISNA(VLOOKUP(C79,Master!AQ$61:BC$286,6,FALSE)),\"\",VLOOKUP(C79,Master!AQ$61:BC$286,6,FALSE))","v":""},"","","","","",{"$f":"IF(ISNA(VLOOKUP(C79,Master!AQ$61:BC$286,12,FALSE)),\"\",VLOOKUP(C79,Master!AQ$61:BC$286,12,FALSE))","v":""},{"$nulls":4},0,{"$f":"IF(G79>0,1,0)","v":1},{"$f":"IF(ISNA(VLOOKUP(C79,Master!AQ$61:BC$286,10,FALSE)),\"\",VLOOKUP(C79,Master!AQ$61:BC$286,10,FALSE))","v":""},null,null,{"$f":"IF(ISNA(VLOOKUP(C79,Master!AQ$61:BC$286,11,FALSE)),\"\",VLOOKUP(C79,Master!AQ$61:BC$286,11,FALSE))","v":""},{"$f":"IF(ISNA(VLOOKUP(C79,Master!AQ$61:BC$286,9,FALSE)),\"\",VLOOKUP(C79,Master!AQ$61:BC$286,9,FALSE))","v":""},0,0,0,0,0,0,"","","","","","",0,0,"",0,0,0,0,0,0,0,null,null,0,0,0,0,0,0,0,0,0,0,0,0,0,0,0,0,null,null,0,0,1,0,0,0,1,0,1,0,0,""]
["",2202,54,{"$f":"IF(ISNA(VLOOKUP(C80,Master!AQ$61:BC$286,3,FALSE)),\"\",VLOOKUP(C80,Master!AQ$61:BC$286,3,FALSE))","v":""},{"$f":"IF(ISNA(VLOOKUP(C80,Master!AQ$61:BC$286,7,FALSE)),\"\",VLOOKUP(C80,Master!AQ$61:BC$286,7,FALSE))","v":""},{"$f":"IF(ISNA(VLOOKUP(C80,Master!AQ$61:BC$286,8,FALSE)),\"\",VLOOKUP(C80,Master!AQ$61:BC$286,8,FALSE))","v":""},{"$f":"IF(ISNA(VLOOKUP(C80,Master!AQ$61:BC$286,4,FALSE)),\"\",VLOOKUP(C80,Master!AQ$61:BC$286,4,FALSE))","v":""},{"$f":"IF(ISNA(VLOOKUP(C80,Master!AQ$61:BC$286,5,FALSE)),\"\",VLOOKUP(C80,Master!AQ$61:BC$286,5,FALSE))","v":""},{"$f":"IF(ISNA(VLOOKUP(C80,Master!AQ$61:BC$286,6,FALSE)),\"\",VLOOKUP(C80,Master!AQ$61:BC$286,6,FALSE))","v":""},"","","","","",{"$f":"IF(ISNA(VLOOKUP(C80,Master!AQ$61:BC$286,12,FALSE)),\"\",VLOOKUP(C80,Master!AQ$61:BC$286,12,FALSE))","v":""},{"$nulls":4},0,1,{"$f":"IF(ISNA(VLOOKUP(C80,Master!AQ$61:BC$286,10,FALSE)),\"\",VLOOKUP(C80,Master!AQ$61:BC$286,10,FALSE))","v":""},null,null,{"$f":"IF(ISNA(VLOOKUP(C80,Master!AQ$61:BC$286,11,FALSE)),\"\",VLOOKUP(C80,Master!AQ$61:BC$286,11,FALSE))","v":""},{"$f":"IF(ISNA(VLOOKUP(C80,Master!AQ$61:BC$286,9,FALSE)),\"\",VLOOKUP(C80,Master!AQ$61:BC$286,9,FALSE))","v":""},0,0,0,0,0,0,"","","","","","",0,0,"",0,0,0,0,0,0,0,null,null,0,0,0,0,0,0,0,0,0,0,0,0,0,0,0,0,null,null,0,0,1,0,0,0,1,0,1,0,0,""]
["",2202,55,{"$f":"IF(ISNA(VLOOKUP(C81,Master!AQ$61:BC$286,3,FALSE)),\"\",VLOOKUP(C81,Master!AQ$61:BC$286,3,FALSE))","v":""},{"$f":"IF(ISNA(VLOOKUP(C81,Master!AQ$61:BC$286,7,FALSE)),\"\",VLOOKUP(C81,Master!AQ$61:BC$286,7,FALSE))","v":""},{"$f":"IF(ISNA(VLOOKUP(C81,Master!AQ$61:BC$286,8,FALSE)),\"\",VLOOKUP(C81,Master!AQ$61:BC$286,8,FALSE))","v":""},{"$f":"IF(ISNA(VLOOKUP(C81,Master!AQ$61:BC$286,4,FALSE)),\"\",VLOOKUP(C81,Master!AQ$61:BC$286,4,FALSE))","v":""},{"$f":"IF(ISNA(VLOOKUP(C81,Master!AQ$61:BC$286,5,FALSE)),\"\",VLOOKUP(C81,Master!AQ$61:BC$286,5,FALSE))","v":""},{"$f":"IF(ISNA(VLOOKUP(C81,Master!AQ$61:BC$286,6,FALSE)),\"\",VLOOKUP(C81,Master!AQ$61:BC$286,6,FALSE))","v":""},"","","","","",{"$f":"IF(ISNA(VLOOKUP(C81,Master!AQ$61:BC$286,12,FALSE)),\"\",VLOOKUP(C81,Master!AQ$61:BC$286,12,FALSE))","v":""},{"$nulls":4},0,1,{"$f":"IF(ISNA(VLOOKUP(C81,Master!AQ$61:BC$286,10,FALSE)),\"\",VLOOKUP(C81,Master!AQ$61:BC$286,10,FALSE))","v":""},null,null,{"$f":"IF(ISNA(VLOOKUP(C81,Master!AQ$61:BC$286,11,FALSE)),\"\",VLOOKUP(C81,Master!AQ$61:BC$286,11,FALSE))","v":""},{"$f":"IF(ISNA(VLOOKUP(C81,Master!AQ$61:BC$286,9,FALSE)),\"\",VLOOKUP(C81,Master!AQ$61:BC$286,9,FALSE))","v":""},0,0,0,0,0,0,"","","","","","",0,0,"",0,0,0,0,0,0,0,null,null,0,0,0,0,0,0,0,0,0,0,0,0,0,0,0,0,null,null,0,0,1,0,0,0,1,0,1,0,0,""]
["",2202,56,{"$f":"IF(ISNA(VLOOKUP(C82,Master!AQ$61:BC$286,3,FALSE)),\"\",VLOOKUP(C82,Master!AQ$61:BC$286,3,FALSE))","v":""},{"$f":"IF(ISNA(VLOOKUP(C82,Master!AQ$61:BC$286,7,FALSE)),\"\",VLOOKUP(C82,Master!AQ$61:BC$286,7,FALSE))","v":""},{"$f":"IF(ISNA(VLOOKUP(C82,Master!AQ$61:BC$286,8,FALSE)),\"\",VLOOKUP(C82,Master!AQ$61:BC$286,8,FALSE))","v":""},{"$f":"IF(ISNA(VLOOKUP(C82,Master!AQ$61:BC$286,4,FALSE)),\"\",VLOOKUP(C82,Master!AQ$61:BC$286,4,FALSE))","v":""},{"$f":"IF(ISNA(VLOOKUP(C82,Master!AQ$61:BC$286,5,FALSE)),\"\",VLOOKUP(C82,Master!AQ$61:BC$286,5,FALSE))","v":""},{"$f":"IF(ISNA(VLOOKUP(C82,Master!AQ$61:BC$286,6,FALSE)),\"\",VLOOKUP(C82,Master!AQ$61:BC$286,6,FALSE))","v":""},"","","","","",{"$f":"IF(ISNA(VLOOKUP(C82,Master!AQ$61:BC$286,12,FALSE)),\"\",VLOOKUP(C82,Master!AQ$61:BC$286,12,FALSE))","v":""},{"$nulls":4},0,1,{"$f":"IF(ISNA(VLOOKUP(C82,Master!AQ$61:BC$286,10,FALSE)),\"\",VLOOKUP(C82,Master!AQ$61:BC$286,10,FALSE))","v":""},null,null,{"$f":"IF(ISNA(VLOOKUP(C82,Master!AQ$61:BC$286,11,FALSE)),\"\",VLOOKUP(C82,Master!AQ$61:BC$286,11,FALSE))","v":""},{"$f":"IF(ISNA(VLOOKUP(C82,Master!AQ$61:BC$286,9,FALSE)),\"\",VLOOKUP(C82,Master!AQ$61:BC$286,9,FALSE))","v":""},0,0,0,0,0,0,"","","","","","",0,0,"",0,0,0,0,0,0,0,null,null,0,0,0,0,0,0,0,0,0,0,0,0,0,0,0,0,null,null,0,0,1,0,0,0,1,0,1,0,0,""]
["",2202,57,{"$f":"IF(ISNA(VLOOKUP(C83,Master!AQ$61:BC$286,3,FALSE)),\"\",VLOOKUP(C83,Master!AQ$61:BC$286,3,FALSE))","v":""},{"$f":"IF(ISNA(VLOOKUP(C83,Master!AQ$61:BC$286,7,FALSE)),\"\",VLOOKUP(C83,Master!AQ$61:BC$286,7,FALSE))","v":""},{"$f":"IF(ISNA(VLOOKUP(C83,Master!AQ$61:BC$286,8,FALSE)),\"\",VLOOKUP(C83,Master!AQ$61:BC$286,8,FALSE))","v":""},{"$f":"IF(ISNA(VLOOKUP(C83,Master!AQ$61:BC$286,4,FALSE)),\"\",VLOOKUP(C83,Master!AQ$61:BC$286,4,FALSE))","v":""},{"$f":"IF(ISNA(VLOOKUP(C83,Master!AQ$61:BC$286,5,FALSE)),\"\",VLOOKUP(C83,Master!AQ$61:BC$286,5,FALSE))","v":""},{"$f":"IF(ISNA(VLOOKUP(C83,Master!AQ$61:BC$286,6,FALSE)),\"\",VLOOKUP(C83,Master!AQ$61:BC$286,6,FALSE))","v":""},"","","","","",{"$f":"IF(ISNA(VLOOKUP(C83,Master!AQ$61:BC$286,12,FALSE)),\"\",VLOOKUP(C83,Master!AQ$61:BC$286,12,FALSE))","v":""},{"$nulls":4},0,1,{"$f":"IF(ISNA(VLOOKUP(C83,Master!AQ$61:BC$286,10,FALSE)),\"\",VLOOKUP(C83,Master!AQ$61:BC$286,10,FALSE))","v":""},null,null,{"$f":"IF(ISNA(VLOOKUP(C83,Master!AQ$61:BC$286,11,FALSE)),\"\",VLOOKUP(C83,Master!AQ$61:BC$286,11,FALSE))","v":""},{"$f":"IF(ISNA(VLOOKUP(C83,Master!AQ$61:BC$286,9,FALSE)),\"\",VLOOKUP(C83,Master!AQ$61:BC$286,9,FALSE))","v":""},0,0,0,0,0,0,"","","","","","",0,0,"",0,0,0,0,0,0,0,null,null,0,0,0,0,0,0,0,0,0,0,0,0,0,0,0,0,null,null,0,0,1,0,0,0,1,0,1,0,0,""]
["",2202,58,{"$f":"IF(ISNA(VLOOKUP(C84,Master!AQ$61:BC$286,3,FALSE)),\"\",VLOOKUP(C84,Master!AQ$61:BC$286,3,FALSE))","v":""},{"$f":"IF(ISNA(VLOOKUP(C84,Master!AQ$61:BC$286,7,FALSE)),\"\",VLOOKUP(C84,Master!AQ$61:BC$286,7,FALSE))","v":""},{"$f":"IF(ISNA(VLOOKUP(C84,Master!AQ$61:BC$286,8,FALSE)),\"\",VLOOKUP(C84,Master!AQ$61:BC$286,8,FALSE))","v":""},{"$f":"IF(ISNA(VLOOKUP(C84,Master!AQ$61:BC$286,4,FALSE)),\"\",VLOOKUP(C84,Master!AQ$61:BC$286,4,FALSE))","v":""},{"$f":"IF(ISNA(VLOOKUP(C84,Master!AQ$61:BC$286,5,FALSE)),\"\",VLOOKUP(C84,Master!AQ$61:BC$286,5,FALSE))","v":""},{"$f":"IF(ISNA(VLOOKUP(C84,Master!AQ$61:BC$286,6,FALSE)),\"\",VLOOKUP(C84,Master!AQ$61:BC$286,6,FALSE))","v":""},"","","","","",{"$f":"IF(ISNA(VLOOKUP(C84,Master!AQ$61:BC$286,12,FALSE)),\"\",VLOOKUP(C84,Master!AQ$61:BC$286,12,FALSE))","v":""},{"$nulls":4},0,1,{"$f":"IF(ISNA(VLOOKUP(C84,Master!AQ$61:BC$286,10,FALSE)),\"\",VLOOKUP(C84,Master!AQ$61:BC$286,10,FALSE))","v":""},null,null,{"$f":"IF(ISNA(VLOOKUP(C84,Master!AQ$61:BC$286,11,FALSE)),\"\",VLOOKUP(C84,Master!AQ$61:BC$286,11,FALSE))","v":""},{"$f":"IF(ISNA(VLOOKUP(C84,Master!AQ$61:BC$286,9,FALSE)),\"\",VLOOKUP(C84,Master!AQ$61:BC$286,9,FALSE))","v":""},0,0,0,0,0,0,"","","","","","",0,0,"",0,0,0,0,0,0,0,null,null,0,0,0,0,0,0,0,0,0,0,0,0,0,0,0,0,null,null,0,0,1,0,0,0,1,0,1,0,0,""]
["",2202,59,{"$f":"IF(ISNA(VLOOKUP(C85,Master!AQ$61:BC$286,3,FALSE)),\"\",VLOOKUP(C85,Master!AQ$61:BC$286,3,FALSE))","v":""},{"$f":"IF(ISNA(VLOOKUP(C85,Master!AQ$61:BC$286,7,FALSE)),\"\",VLOOKUP(C85,Master!AQ$61:BC$286,7,FALSE))","v":""},{"$f":"IF(ISNA(VLOOKUP(C85,Master!AQ$61:BC$286,8,FALSE)),\"\",VLOOKUP(C85,Master!AQ$61:BC$286,8,FALSE))","v":""},{"$f":"IF(ISNA(VLOOKUP(C85,Master!AQ$61:BC$286,4,FALSE)),\"\",VLOOKUP(C85,Master!AQ$61:BC$286,4,FALSE))","v":""},{"$f":"IF(ISNA(VLOOKUP(C85,Master!AQ$61:BC$286,5,FALSE)),\"\",VLOOKUP(C85,Master!AQ$61:BC$286,5,FALSE))","v":""},{"$f":"IF(ISNA(VLOOKUP(C85,Master!AQ$61:BC$286,6,FALSE)),\"\",VLOOKUP(C85,Master!AQ$61:BC$286,6,FALSE))","v":""},"","","","","",{"$f":"IF(ISNA(VLOOKUP(C85,Master!AQ$61:BC$286,12,FALSE)),\"\",VLOOKUP(C85,Master!AQ$61:BC$286,12,FALSE))","v":""},{"$nulls":4},0,1,{"$f":"IF(ISNA(VLOOKUP(C85,Master!AQ$61:BC$286,10,FALSE)),\"\",VLOOKUP(C85,Master!AQ$61:BC$286,10,FALSE))","v":""},null,null,{"$f":"IF(ISNA(VLOOKUP(C85,Master!AQ$61:BC$286,11,FALSE)),\"\",VLOOKUP(C85,Master!AQ$61:BC$286,11,FALSE))","v":""},{"$f":"IF(ISNA(VLOOKUP(C85,Master!AQ$61:BC$286,9,FALSE)),\"\",VLOOKUP(C85,Master!AQ$61:BC$286,9,FALSE))","v":""},0,0,0,0,0,0,"","","","","","",0,0,"",0,0,0,0,0,0,0,null,null,0,0,0,0,0,0,0,0,0,0,0,0,0,0,0,0,null,null,0,0,1,0,0,0,1,0,1,0,0,""]
["",2202,60,{"$f":"IF(ISNA(VLOOKUP(C86,Master!AQ$61:BC$286,3,FALSE)),\"\",VLOOKUP(C86,Master!AQ$61:BC$286,3,FALSE))","v":""},{"$f":"IF(ISNA(VLOOKUP(C86,Master!AQ$61:BC$286,7,FALSE)),\"\",VLOOKUP(C86,Master!AQ$61:BC$286,7,FALSE))","v":""},{"$f":"IF(ISNA(VLOOKUP(C86,Master!AQ$61:BC$286,8,FALSE)),\"\",VLOOKUP(C86,Master!AQ$61:BC$286,8,FALSE))","v":""},{"$f":"IF(ISNA(VLOOKUP(C86,Master!AQ$61:BC$286,4,FALSE)),\"\",VLOOKUP(C86,Master!AQ$61:BC$286,4,FALSE))","v":""},{"$f":"IF(ISNA(VLOOKUP(C86,Master!AQ$61:BC$286,5,FALSE)),\"\",VLOOKUP(C86,Master!AQ$61:BC$286,5,FALSE))","v":""},{"$f":"IF(ISNA(VLOOKUP(C86,Master!AQ$61:BC$286,6,FALSE)),\"\",VLOOKUP(C86,Master!AQ$61:BC$286,6,FALSE))","v":""},"","","","","",{"$f":"IF(ISNA(VLOOKUP(C86,Master!AQ$61:BC$286,12,FALSE)),\"\",VLOOKUP(C86,Master!AQ$61:BC$286,12,FALSE))","v":""},{"$nulls":4},0,1,{"$f":"IF(ISNA(VLOOKUP(C86,Master!AQ$61:BC$286,10,FALSE)),\"\",VLOOKUP(C86,Master!AQ$61:BC$286,10,FALSE))","v":""},null,null,{"$f":"IF(ISNA(VLOOKUP(C86,Master!AQ$61:BC$286,11,FALSE)),\"\",VLOOKUP(C86,Master!AQ$61:BC$286,11,FALSE))","v":""},{"$f":"IF(ISNA(VLOOKUP(C86,Master!AQ$61:BC$286,9,FALSE)),\"\",VLOOKUP(C86,Master!AQ$61:BC$286,9,FALSE))","v":""},0,0,0,0,0,0,"","","","","","",0,0,"",0,0,0,0,0,0,0,null,null,0,0,0,0,0,0,0,0,0,0,0,0,0,0,0,0,null,null,0,0,1,0,0,0,1,0,1,0,0,""]
["",2202,61,{"$f":"IF(ISNA(VLOOKUP(C87,Master!AQ$61:BC$286,3,FALSE)),\"\",VLOOKUP(C87,Master!AQ$61:BC$286,3,FALSE))","v":""},{"$f":"IF(ISNA(VLOOKUP(C87,Master!AQ$61:BC$286,7,FALSE)),\"\",VLOOKUP(C87,Master!AQ$61:BC$286,7,FALSE))","v":""},{"$f":"IF(ISNA(VLOOKUP(C87,Master!AQ$61:BC$286,8,FALSE)),\"\",VLOOKUP(C87,Master!AQ$61:BC$286,8,FALSE))","v":""},{"$f":"IF(ISNA(VLOOKUP(C87,Master!AQ$61:BC$286,4,FALSE)),\"\",VLOOKUP(C87,Master!AQ$61:BC$286,4,FALSE))","v":""},{"$f":"IF(ISNA(VLOOKUP(C87,Master!AQ$61:BC$286,5,FALSE)),\"\",VLOOKUP(C87,Master!AQ$61:BC$286,5,FALSE))","v":""},{"$f":"IF(ISNA(VLOOKUP(C87,Master!AQ$61:BC$286,6,FALSE)),\"\",VLOOKUP(C87,Master!AQ$61:BC$286,6,FALSE))","v":""},"","","","","",{"$f":"IF(ISNA(VLOOKUP(C87,Master!AQ$61:BC$286,12,FALSE)),\"\",VLOOKUP(C87,Master!AQ$61:BC$286,12,FALSE))","v":""},{"$nulls":4},0,1,{"$f":"IF(ISNA(VLOOKUP(C87,Master!AQ$61:BC$286,10,FALSE)),\"\",VLOOKUP(C87,Master!AQ$61:BC$286,10,FALSE))","v":""},null,null,{"$f":"IF(ISNA(VLOOKUP(C87,Master!AQ$61:BC$286,11,FALSE)),\"\",VLOOKUP(C87,Master!AQ$61:BC$286,11,FALSE))","v":""},{"$f":"IF(ISNA(VLOOKUP(C87,Master!AQ$61:BC$286,9,FALSE)),\"\",VLOOKUP(C87,Master!AQ$61:BC$286,9,FALSE))","v":""},0,0,0,0,0,0,"","","","","","",0,0,"",0,0,0,0,0,0,0,null,null,0,0,0,0,0,0,0,0,0,0,0,0,0,0,0,0,null,null,0,0,1,0,0,0,1,0,1,0,0,""]
["",2202,62,{"$f":"IF(ISNA(VLOOKUP(C88,Master!AQ$61:BC$286,3,FALSE)),\"\",VLOOKUP(C88,Master!AQ$61:BC$286,3,FALSE))","v":""},{"$f":"IF(ISNA(VLOOKUP(C88,Master!AQ$61:BC$286,7,FALSE)),\"\",VLOOKUP(C88,Master!AQ$61:BC$286,7,FALSE))","v":""},{"$f":"IF(ISNA(VLOOKUP(C88,Master!AQ$61:BC$286,8,FALSE)),\"\",VLOOKUP(C88,Master!AQ$61:BC$286,8,FALSE))","v":""},{"$f":"IF(ISNA(VLOOKUP(C88,Master!AQ$61:BC$286,4,FALSE)),\"\",VLOOKUP(C88,Master!AQ$61:BC$286,4,FALSE))","v":""},{"$f":"IF(ISNA(VLOOKUP(C88,Master!AQ$61:BC$286,5,FALSE)),\"\",VLOOKUP(C88,Master!AQ$61:BC$286,5,FALSE))","v":""},{"$f":"IF(ISNA(VLOOKUP(C88,Master!AQ$61:BC$286,6,FALSE)),\"\",VLOOKUP(C88,Master!AQ$61:BC$286,6,FALSE))","v":""},"","","","","",{"$f":"IF(ISNA(VLOOKUP(C88,Master!AQ$61:BC$286,12,FALSE)),\"\",VLOOKUP(C88,Master!AQ$61:BC$286,12,FALSE))","v":""},{"$nulls":4},0,1,{"$f":"IF(ISNA(VLOOKUP(C88,Master!AQ$61:BC$286,10,FALSE)),\"\",VLOOKUP(C88,Master!AQ$61:BC$286,10,FALSE))","v":""},null,null,{"$f":"IF(ISNA(VLOOKUP(C88,Master!AQ$61:BC$286,11,FALSE)),\"\",VLOOKUP(C88,Master!AQ$61:BC$286,11,FALSE))","v":""},{"$f":"IF(ISNA(VLOOKUP(C88,Master!AQ$61:BC$286,9,FALSE)),\"\",VLOOKUP(C88,Master!AQ$61:BC$286,9,FALSE))","v":""},0,0,0,0,0,0,"","","","","","",0,0,"",0,0,0,0,0,0,0,null,null,0,0,0,0,0,0,0,0,0,0,0,0,0,0,0,0,null,null,0,0,1,0,0,0,1,0,1,0,0,""]
["",2202,63,{"$f":"IF(ISNA(VLOOKUP(C89,Master!AQ$61:BC$286,3,FALSE)),\"\",VLOOKUP(C89,Master!AQ$61:BC$286,3,FALSE))","v":""},{"$f":"IF(ISNA(VLOOKUP(C89,Master!AQ$61:BC$286,7,FALSE)),\"\",VLOOKUP(C89,Master!AQ$61:BC$286,7,FALSE))","v":""},{"$f":"IF(ISNA(VLOOKUP(C89,Master!AQ$61:BC$286,8,FALSE)),\"\",VLOOKUP(C89,Master!AQ$61:BC$286,8,FALSE))","v":""},{"$f":"IF(ISNA(VLOOKUP(C89,Master!AQ$61:BC$286,4,FALSE)),\"\",VLOOKUP(C89,Master!AQ$61:BC$286,4,FALSE))","v":""},{"$f":"IF(ISNA(VLOOKUP(C89,Master!AQ$61:BC$286,5,FALSE)),\"\",VLOOKUP(C89,Master!AQ$61:BC$286,5,FALSE))","v":""},{"$f":"IF(ISNA(VLOOKUP(C89,Master!AQ$61:BC$286,6,FALSE)),\"\",VLOOKUP(C89,Master!AQ$61:BC$286,6,FALSE))","v":""},"","","","","",{"$f":"IF(ISNA(VLOOKUP(C89,Master!AQ$61:BC$286,12,FALSE)),\"\",VLOOKUP(C89,Master!AQ$61:BC$286,12,FALSE))","v":""},{"$nulls":4},0,1,{"$f":"IF(ISNA(VLOOKUP(C89,Master!AQ$61:BC$286,10,FALSE)),\"\",VLOOKUP(C89,Master!AQ$61:BC$286,10,FALSE))","v":""},null,null,{"$f":"IF(ISNA(VLOOKUP(C89,Master!AQ$61:BC$286,11,FALSE)),\"\",VLOOKUP(C89,Master!AQ$61:BC$286,11,FALSE))","v":""},{"$f":"IF(ISNA(VLOOKUP(C89,Master!AQ$61:BC$286,9,FALSE)),\"\",VLOOKUP(C89,Master!AQ$61:BC$286,9,FALSE))","v":""},0,0,0,0,0,0,"","","","","","",0,0,"",0,0,0,0,0,0,0,null,null,0,0,0,0,0,0,0,0,0,0,0,0,0,0,0,0,null,null,0,0,1,0,0,0,1,0,1,0,0,""]
["",2202,64,{"$f":"IF(ISNA(VLOOKUP(C90,Master!AQ$61:BC$286,3,FALSE)),\"\",VLOOKUP(C90,Master!AQ$61:BC$286,3,FALSE))","v":""},{"$f":"IF(ISNA(VLOOKUP(C90,Master!AQ$61:BC$286,7,FALSE)),\"\",VLOOKUP(C90,Master!AQ$61:BC$286,7,FALSE))","v":""},{"$f":"IF(ISNA(VLOOKUP(C90,Master!AQ$61:BC$286,8,FALSE)),\"\",VLOOKUP(C90,Master!AQ$61:BC$286,8,FALSE))","v":""},{"$f":"IF(ISNA(VLOOKUP(C90,Master!AQ$61:BC$286,4,FALSE)),\"\",VLOOKUP(C90,Master!AQ$61:BC$286,4,FALSE))","v":""},{"$f":"IF(ISNA(VLOOKUP(C90,Master!AQ$61:BC$286,5,FALSE)),\"\",VLOOKUP(C90,Master!AQ$61:BC$286,5,FALSE))","v":""},{"$f":"IF(ISNA(VLOOKUP(C90,Master!AQ$61:BC$286,6,FALSE)),\"\",VLOOKUP(C90,Master!AQ$61:BC$286,6,FALSE))","v":""},"","","","","",{"$f":"IF(ISNA(VLOOKUP(C90,Master!AQ$61:BC$286,12,FALSE)),\"\",VLOOKUP(C90,Master!AQ$61:BC$286,12,FALSE))","v":""},{"$nulls":4},0,1,{"$f":"IF(ISNA(VLOOKUP(C90,Master!AQ$61:BC$286,10,FALSE)),\"\",VLOOKUP(C90,Master!AQ$61:BC$286,10,FALSE))","v":""},null,null,{"$f":"IF(ISNA(VLOOKUP(C90,Master!AQ$61:BC$286,11,FALSE)),\"\",VLOOKUP(C90,Master!AQ$61:BC$286,11,FALSE))","v":""},{"$f":"IF(ISNA(VLOOKUP(C90,Master!AQ$61:BC$286,9,FALSE)),\"\",VLOOKUP(C90,Master!AQ$61:BC$286,9,FALSE))","v":""},0,0,0,0,0,0,"","","","","","",0,0,"",0,0,0,0,0,0,0,null,null,0,0,0,0,0,0,0,0,0,0,0,0,0,0,0,0,null,null,0,0,1,0,0,0,1,0,1,0,0,""]
["",2202,65,{"$f":"IF(ISNA(VLOOKUP(C91,Master!AQ$61:BC$286,3,FALSE)),\"\",VLOOKUP(C91,Master!AQ$61:BC$286,3,FALSE))","v":""},{"$f":"IF(ISNA(VLOOKUP(C91,Master!AQ$61:BC$286,7,FALSE)),\"\",VLOOKUP(C91,Master!AQ$61:BC$286,7,FALSE))","v":""},{"$f":"IF(ISNA(VLOOKUP(C91,Master!AQ$61:BC$286,8,FALSE)),\"\",VLOOKUP(C91,Master!AQ$61:BC$286,8,FALSE))","v":""},{"$f":"IF(ISNA(VLOOKUP(C91,Master!AQ$61:BC$286,4,FALSE)),\"\",VLOOKUP(C91,Master!AQ$61:BC$286,4,FALSE))","v":""},{"$f":"IF(ISNA(VLOOKUP(C91,Master!AQ$61:BC$286,5,FALSE)),\"\",VLOOKUP(C91,Master!AQ$61:BC$286,5,FALSE))","v":""},{"$f":"IF(ISNA(VLOOKUP(C91,Master!AQ$61:BC$286,6,FALSE)),\"\",VLOOKUP(C91,Master!AQ$61:BC$286,6,FALSE))","v":""},"","","","","",{"$f":"IF(ISNA(VLOOKUP(C91,Master!AQ$61:BC$286,12,FALSE)),\"\",VLOOKUP(C91,Master!AQ$61:BC$286,12,FALSE))","v":""},{"$nulls":4},{"$f":"IF(H91=\"l-10\",6774,IF(H91=\"l-11\",6774,IF(H91=\"l-12\",6774,0)))","v":0},1,{"$f":"IF(ISNA(VLOOKUP(C91,Master!AQ$61:BC$286,10,FALSE)),\"\",VLOOKUP(C91,Master!AQ$61:BC$286,10,FALSE))","v":""},null,null,{"$f":"IF(ISNA(VLOOKUP(C91,Master!AQ$61:BC$286,11,FALSE)),\"\",VLOOKUP(C91,Master!AQ$61:BC$286,11,FALSE))","v":""},{"$f":"IF(ISNA(VLOOKUP(C91,Master!AQ$61:BC$286,9,FALSE)),\"\",VLOOKUP(C91,Master!AQ$61:BC$286,9,FALSE))","v":""},0,0,0,0,0,0,"","","","","","",0,0,"",0,0,0,0,0,0,0,null,null,0,0,0,0,0,0,0,0,0,0,0,0,0,0,0,0,null,null,0,0,1,0,0,0,1,{"$f":"IF((ROUND((SUMPRODUCT(MID(0&E91,LARGE(INDEX(ISNUMBER(--MID(E91,ROW($1:$25),1))* ROW($1:$25),0),ROW($1:$25))+1,1)*10^ROW($1:$25)/10)),-8)/100000000)>=2004,1,0)","v":0},1,0,0,{"$f":"IF(AND(E91=\"\"),\"\",IF(AND(E91<=0),\"\",IF((ROUND((SUMPRODUCT(MID(0&E91,LARGE(INDEX(ISNUMBER(--MID(E91,ROW($1:$70),1))* ROW($1:$70),0),ROW($1:$70))+1,1)*10^ROW($1:$70)/10)),-8)/100000000)<2004,1,0)))","v":""}]
["",2202,66,{"$f":"IF(ISNA(VLOOKUP(C92,Master!AQ$61:BC$286,3,FALSE)),\"\",VLOOKUP(C92,Master!AQ$61:BC$286,3,FALSE))","v":""},{"$f":"IF(ISNA(VLOOKUP(C92,Master!AQ$61:BC$286,7,FALSE)),\"\",VLOOKUP(C92,Master!AQ$61:BC$286,7,FALSE))","v":""},{"$f":"IF(ISNA(VLOOKUP(C92,Master!AQ$61:BC$286,8,FALSE)),\"\",VLOOKUP(C92,Master!AQ$61:BC$286,8,FALSE))","v":""},{"$f":"IF(ISNA(VLOOKUP(C92,Master!AQ$61:BC$286,4,FALSE)),\"\",VLOOKUP(C92,Master!AQ$61:BC$286,4,FALSE))","v":""},{"$f":"IF(ISNA(VLOOKUP(C92,Master!AQ$61:BC$286,5,FALSE)),\"\",VLOOKUP(C92,Master!AQ$61:BC$286,5,FALSE))","v":""},{"$f":"IF(ISNA(VLOOKUP(C92,Master!AQ$61:BC$286,6,FALSE)),\"\",VLOOKUP(C92,Master!AQ$61:BC$286,6,FALSE))","v":""},{"$f":"IF(AND(I92=\"\"),\"\",I92*12)","v":""},{"$f":"IF(AND(I92=\"\"),\"\",IF(I92<=0,\"\",(CONCATENATE(\"01.07.\",(YEAR(TODAY())+1)))))","v":""},{"$f":"IF(AND(I92=\"\"),\"\",ROUND(ROUND(I92*3%,0),-2)*IF(H92=\"FIX PAY\",0,1)*8)","v":""},{"$f":"IF(AND(I92=\"\"),\"\",J92+L92)","v":""},{"$f":"IF(AND(I92=\"\"),\"\",IF(O92=\"FIX PAY\",M92,((IF(O92=\"FIX PAY\",0,AG92*4+I92*8)))))","v":""},{"$f":"IF(ISNA(VLOOKUP(C92,Master!AQ$61:BC$286,12,FALSE)),\"\",VLOOKUP(C92,Master!AQ$61:BC$286,12,FALSE))","v":""},{"$nulls":4},0,1,{"$f":"IF(ISNA(VLOOKUP(C92,Master!AQ$61:BC$286,10,FALSE)),\"\",VLOOKUP(C92,Master!AQ$61:BC$286,10,FALSE))","v":""},null,null,{"$f":"IF(ISNA(VLOOKUP(C92,Master!AQ$61:BC$286,11,FALSE)),\"\",VLOOKUP(C92,Master!AQ$61:BC$286,11,FALSE))","v":""},{"$f":"IF(ISNA(VLOOKUP(C92,Master!AQ$61:BC$286,9,FALSE)),\"\",VLOOKUP(C92,Master!AQ$61:BC$286,9,FALSE))","v":""},0,0,0,0,0,0,"","","","","","",0,0,"",0,0,0,0,0,0,0,null,null,0,0,0,0,0,0,0,0,0,0,0,0,0,0,0,0,null,null,0,0,1,0,0,0,1,0,1,0,0,""]
[{"$f":"IF(I93=\"\",\"\",IF(I93>0,A92+1,\"\"))","v":""},2202,67,{"$f":"IF(ISNA(VLOOKUP(C93,Master!AQ$61:BC$286,3,FALSE)),\"\",VLOOKUP(C93,Master!AQ$61:BC$286,3,FALSE))","v":""},{"$f":"IF(ISNA(VLOOKUP(C93,Master!AQ$61:BC$286,7,FALSE)),\"\",VLOOKUP(C93,Master!AQ$61:BC$286,7,FALSE))","v":""},{"$f":"IF(ISNA(VLOOKUP(C93,Master!AQ$61:BC$286,8,FALSE)),\"\",VLOOKUP(C93,Master!AQ$61:BC$286,8,FALSE))","v":""},{"$f":"IF(ISNA(VLOOKUP(C93,Master!AQ$61:BC$286,4,FALSE)),\"\",VLOOKUP(C93,Master!AQ$61:BC$286,4,FALSE))","v":""},{"$f":"IF(ISNA(VLOOKUP(C93,Master!AQ$61:BC$286,5,FALSE)),\"\",VLOOKUP(C93,Master!AQ$61:BC$286,5,FALSE))","v":""},{"$f":"IF(ISNA(VLOOKUP(C93,Master!AQ$61:BC$286,6,FALSE)),\"\",VLOOKUP(C93,Master!AQ$61:BC$286,6,FALSE))","v":""},"","","","","",{"$f":"IF(ISNA(VLOOKUP(C93,Master!AQ$61:BC$286,12,FALSE)),\"\",VLOOKUP(C93,Master!AQ$61:BC$286,12,FALSE))","v":""},{"$nulls":4},0,1,{"$f":"IF(ISNA(VLOOKUP(C93,Master!AQ$61:BC$286,10,FALSE)),\"\",VLOOKUP(C93,Master!AQ$61:BC$286,10,FALSE))","v":""},null,null,{"$f":"IF(ISNA(VLOOKUP(C93,Master!AQ$61:BC$286,11,FALSE)),\"\",VLOOKUP(C93,Master!AQ$61:BC$286,11,FALSE))","v":""},{"$f":"IF(ISNA(VLOOKUP(C93,Master!AQ$61:BC$286,9,FALSE)),\"\",VLOOKUP(C93,Master!AQ$61:BC$286,9,FALSE))","v":""},0,0,0,0,0,0,"","","","","","",0,0,"",0,0,0,0,0,0,0,null,null,0,0,0,0,0,0,0,0,0,0,0,0,0,0,0,0,null,null,0,0,1,0,0,0,1,0,1,0,0,""]
["",2202,68,{"$f":"IF(ISNA(VLOOKUP(C94,Master!AQ$61:BC$286,3,FALSE)),\"\",VLOOKUP(C94,Master!AQ$61:BC$286,3,FALSE))","v":""},{"$f":"IF(ISNA(VLOOKUP(C94,Master!AQ$61:BC$286,7,FALSE)),\"\",VLOOKUP(C94,Master!AQ$61:BC$286,7,FALSE))","v":""},{"$f":"IF(ISNA(VLOOKUP(C94,Master!AQ$61:BC$286,8,FALSE)),\"\",VLOOKUP(C94,Master!AQ$61:BC$286,8,FALSE))","v":""},{"$f":"IF(ISNA(VLOOKUP(C94,Master!AQ$61:BC$286,4,FALSE)),\"\",VLOOKUP(C94,Master!AQ$61:BC$286,4,FALSE))","v":""},{"$f":"IF(ISNA(VLOOKUP(C94,Master!AQ$61:BC$286,5,FALSE)),\"\",VLOOKUP(C94,Master!AQ$61:BC$286,5,FALSE))","v":""},{"$f":"IF(ISNA(VLOOKUP(C94,Master!AQ$61:BC$286,6,FALSE)),\"\",VLOOKUP(C94,Master!AQ$61:BC$286,6,FALSE))","v":""},"","","","","",{"$f":"IF(ISNA(VLOOKUP(C94,Master!AQ$61:BC$286,12,FALSE)),\"\",VLOOKUP(C94,Master!AQ$61:BC$286,12,FALSE))","v":""},{"$nulls":4},0,1,{"$f":"IF(ISNA(VLOOKUP(C94,Master!AQ$61:BC$286,10,FALSE)),\"\",VLOOKUP(C94,Master!AQ$61:BC$286,10,FALSE))","v":""},null,null,{"$f":"IF(ISNA(VLOOKUP(C94,Master!AQ$61:BC$286,11,FALSE)),\"\",VLOOKUP(C94,Master!AQ$61:BC$286,11,FALSE))","v":""},{"$f":"IF(ISNA(VLOOKUP(C94,Master!AQ$61:BC$286,9,FALSE)),\"\",VLOOKUP(C94,Master!AQ$61:BC$286,9,FALSE))","v":""},0,0,0,0,0,0,"","","","","","",0,0,"",0,0,0,0,0,0,0,null,null,0,0,0,0,0,0,0,0,0,0,0,0,0,0,0,0,null,null,0,0,1,0,0,0,1,0,1,0,0,""]
["",2202,69,{"$f":"IF(ISNA(VLOOKUP(C95,Master!AQ$61:BC$286,3,FALSE)),\"\",VLOOKUP(C95,Master!AQ$61:BC$286,3,FALSE))","v":""},{"$f":"IF(ISNA(VLOOKUP(C95,Master!AQ$61:BC$286,7,FALSE)),\"\",VLOOKUP(C95,Master!AQ$61:BC$286,7,FALSE))","v":""},{"$f":"IF(ISNA(VLOOKUP(C95,Master!AQ$61:BC$286,8,FALSE)),\"\",VLOOKUP(C95,Master!AQ$61:BC$286,8,FALSE))","v":""},{"$f":"IF(ISNA(VLOOKUP(C95,Master!AQ$61:BC$286,4,FALSE)),\"\",VLOOKUP(C95,Master!AQ$61:BC$286,4,FALSE))","v":""},{"$f":"IF(ISNA(VLOOKUP(C95,Master!AQ$61:BC$286,5,FALSE)),\"\",VLOOKUP(C95,Master!AQ$61:BC$286,5,FALSE))","v":""},{"$f":"IF(ISNA(VLOOKUP(C95,Master!AQ$61:BC$286,6,FALSE)),\"\",VLOOKUP(C95,Master!AQ$61:BC$286,6,FALSE))","v":""},"","","","","",{"$f":"IF(ISNA(VLOOKUP(C95,Master!AQ$61:BC$286,12,FALSE)),\"\",VLOOKUP(C95,Master!AQ$61:BC$286,12,FALSE))","v":""},{"$nulls":4},0,1,{"$f":"IF(ISNA(VLOOKUP(C95,Master!AQ$61:BC$286,10,FALSE)),\"\",VLOOKUP(C95,Master!AQ$61:BC$286,10,FALSE))","v":""},null,null,{"$f":"IF(ISNA(VLOOKUP(C95,Master!AQ$61:BC$286,11,FALSE)),\"\",VLOOKUP(C95,Master!AQ$61:BC$286,11,FALSE))","v":""},{"$f":"IF(ISNA(VLOOKUP(C95,Master!AQ$61:BC$286,9,FALSE)),\"\",VLOOKUP(C95,Master!AQ$61:BC$286,9,FALSE))","v":""},0,0,0,0,0,0,"","","","","","",0,0,"",0,0,0,0,0,0,0,null,null,0,0,0,0,0,0,0,0,0,0,0,0,0,0,0,0,null,null,0,0,1,0,0,0,1,0,1,0,0,""]
["",2202,70,{"$f":"IF(ISNA(VLOOKUP(C96,Master!AQ$61:BC$286,3,FALSE)),\"\",VLOOKUP(C96,Master!AQ$61:BC$286,3,FALSE))","v":""},{"$f":"IF(ISNA(VLOOKUP(C96,Master!AQ$61:BC$286,7,FALSE)),\"\",VLOOKUP(C96,Master!AQ$61:BC$286,7,FALSE))","v":""},{"$f":"IF(ISNA(VLOOKUP(C96,Master!AQ$61:BC$286,8,FALSE)),\"\",VLOOKUP(C96,Master!AQ$61:BC$286,8,FALSE))","v":""},{"$f":"IF(ISNA(VLOOKUP(C96,Master!AQ$61:BC$286,4,FALSE)),\"\",VLOOKUP(C96,Master!AQ$61:BC$286,4,FALSE))","v":""},{"$f":"IF(ISNA(VLOOKUP(C96,Master!AQ$61:BC$286,5,FALSE)),\"\",VLOOKUP(C96,Master!AQ$61:BC$286,5,FALSE))","v":""},{"$f":"IF(ISNA(VLOOKUP(C96,Master!AQ$61:BC$286,6,FALSE)),\"\",VLOOKUP(C96,Master!AQ$61:BC$286,6,FALSE))","v":""},"","","","","",{"$f":"IF(ISNA(VLOOKUP(C96,Master!AQ$61:BC$286,12,FALSE)),\"\",VLOOKUP(C96,Master!AQ$61:BC$286,12,FALSE))","v":""},{"$nulls":4},0,1,{"$f":"IF(ISNA(VLOOKUP(C96,Master!AQ$61:BC$286,10,FALSE)),\"\",VLOOKUP(C96,Master!AQ$61:BC$286,10,FALSE))","v":""},null,null,{"$f":"IF(ISNA(VLOOKUP(C96,Master!AQ$61:BC$286,11,FALSE)),\"\",VLOOKUP(C96,Master!AQ$61:BC$286,11,FALSE))","v":""},{"$f":"IF(ISNA(VLOOKUP(C96,Master!AQ$61:BC$286,9,FALSE)),\"\",VLOOKUP(C96,Master!AQ$61:BC$286,9,FALSE))","v":""},0,0,0,0,0,0,"","","","","","",0,0,"",0,0,0,0,0,0,0,null,null,0,0,0,0,0,0,0,0,0,0,0,0,0,0,0,0,null,null,0,0,1,0,0,0,1,0,1,0,0,""]
["",2202,71,{"$f":"IF(ISNA(VLOOKUP(C97,Master!AQ$61:BC$286,3,FALSE)),\"\",VLOOKUP(C97,Master!AQ$61:BC$286,3,FALSE))","v":""},{"$f":"IF(ISNA(VLOOKUP(C97,Master!AQ$61:BC$286,7,FALSE)),\"\",VLOOKUP(C97,Master!AQ$61:BC$286,7,FALSE))","v":""},{"$f":"IF(ISNA(VLOOKUP(C97,Master!AQ$61:BC$286,8,FALSE)),\"\",VLOOKUP(C97,Master!AQ$61:BC$286,8,FALSE))","v":""},{"$f":"IF(ISNA(VLOOKUP(C97,Master!AQ$61:BC$286,4,FALSE)),\"\",VLOOKUP(C97,Master!AQ$61:BC$286,4,FALSE))","v":""},{"$f":"IF(ISNA(VLOOKUP(C97,Master!AQ$61:BC$286,5,FALSE)),\"\",VLOOKUP(C97,Master!AQ$61:BC$286,5,FALSE))","v":""},{"$f":"IF(ISNA(VLOOKUP(C97,Master!AQ$61:BC$286,6,FALSE)),\"\",VLOOKUP(C97,Master!AQ$61:BC$286,6,FALSE))","v":""},"","","","","",{"$f":"IF(ISNA(VLOOKUP(C97,Master!AQ$61:BC$286,12,FALSE)),\"\",VLOOKUP(C97,Master!AQ$61:BC$286,12,FALSE))","v":""},{"$nulls":4},0,1,{"$f":"IF(ISNA(VLOOKUP(C97,Master!AQ$61:BC$286,10,FALSE)),\"\",VLOOKUP(C97,Master!AQ$61:BC$286,10,FALSE))","v":""},null,null,{"$f":"IF(ISNA(VLOOKUP(C97,Master!AQ$61:BC$286,11,FALSE)),\"\",VLOOKUP(C97,Master!AQ$61:BC$286,11,FALSE))","v":""},{"$f":"IF(ISNA(VLOOKUP(C97,Master!AQ$61:BC$286,9,FALSE)),\"\",VLOOKUP(C97,Master!AQ$61:BC$286,9,FALSE))","v":""},0,0,0,0,0,0,"","","","","","",0,0,"",0,0,0,0,0,0,0,null,null,0,0,0,0,0,0,0,0,0,0,0,0,0,0,0,0,null,null,0,0,1,0,0,0,1,0,1,0,0,""]
["",2202,72,{"$f":"IF(ISNA(VLOOKUP(C98,Master!AQ$61:BC$286,3,FALSE)),\"\",VLOOKUP(C98,Master!AQ$61:BC$286,3,FALSE))","v":""},{"$f":"IF(ISNA(VLOOKUP(C98,Master!AQ$61:BC$286,7,FALSE)),\"\",VLOOKUP(C98,Master!AQ$61:BC$286,7,FALSE))","v":""},{"$f":"IF(ISNA(VLOOKUP(C98,Master!AQ$61:BC$286,8,FALSE)),\"\",VLOOKUP(C98,Master!AQ$61:BC$286,8,FALSE))","v":""},{"$f":"IF(ISNA(VLOOKUP(C98,Master!AQ$61:BC$286,4,FALSE)),\"\",VLOOKUP(C98,Master!AQ$61:BC$286,4,FALSE))","v":""},{"$f":"IF(ISNA(VLOOKUP(C98,Master!AQ$61:BC$286,5,FALSE)),\"\",VLOOKUP(C98,Master!AQ$61:BC$286,5,FALSE))","v":""},{"$f":"IF(ISNA(VLOOKUP(C98,Master!AQ$61:BC$286,6,FALSE)),\"\",VLOOKUP(C98,Master!AQ$61:BC$286,6,FALSE))","v":""},"","","","","",{"$f":"IF(ISNA(VLOOKUP(C98,Master!AQ$61:BC$286,12,FALSE)),\"\",VLOOKUP(C98,Master!AQ$61:BC$286,12,FALSE))","v":""},{"$nulls":4},0,1,{"$f":"IF(ISNA(VLOOKUP(C98,Master!AQ$61:BC$286,10,FALSE)),\"\",VLOOKUP(C98,Master!AQ$61:BC$286,10,FALSE))","v":""},null,null,{"$f":"IF(ISNA(VLOOKUP(C98,Master!AQ$61:BC$286,11,FALSE)),\"\",VLOOKUP(C98,Master!AQ$61:BC$286,11,FALSE))","v":""},{"$f":"IF(ISNA(VLOOKUP(C98,Master!AQ$61:BC$286,9,FALSE)),\"\",VLOOKUP(C98,Master!AQ$61:BC$286,9,FALSE))","v":""},0,0,0,0,0,0,"","","","","","",0,0,"",0,0,0,0,0,0,0,null,null,0,0,0,0,0,0,0,0,0,0,0,0,0,0,0,0,null,null,0,0,1,0,0,0,1,0,1,0,0,""]
["",2202,73,{"$f":"IF(ISNA(VLOOKUP(C99,Master!AQ$61:BC$286,3,FALSE)),\"\",VLOOKUP(C99,Master!AQ$61:BC$286,3,FALSE))","v":""},{"$f":"IF(ISNA(VLOOKUP(C99,Master!AQ$61:BC$286,7,FALSE)),\"\",VLOOKUP(C99,Master!AQ$61:BC$286,7,FALSE))","v":""},{"$f":"IF(ISNA(VLOOKUP(C99,Master!AQ$61:BC$286,8,FALSE)),\"\",VLOOKUP(C99,Master!AQ$61:BC$286,8,FALSE))","v":""},{"$f":"IF(ISNA(VLOOKUP(C99,Master!AQ$61:BC$286,4,FALSE)),\"\",VLOOKUP(C99,Master!AQ$61:BC$286,4,FALSE))","v":""},{"$f":"IF(ISNA(VLOOKUP(C99,Master!AQ$61:BC$286,5,FALSE)),\"\",VLOOKUP(C99,Master!AQ$61:BC$286,5,FALSE))","v":""},{"$f":"IF(ISNA(VLOOKUP(C99,Master!AQ$61:BC$286,6,FALSE)),\"\",VLOOKUP(C99,Master!AQ$61:BC$286,6,FALSE))","v":""},"","","","","",{"$f":"IF(ISNA(VLOOKUP(C99,Master!AQ$61:BC$286,12,FALSE)),\"\",VLOOKUP(C99,Master!AQ$61:BC$286,12,FALSE))","v":""},{"$nulls":4},0,1,{"$f":"IF(ISNA(VLOOKUP(C99,Master!AQ$61:BC$286,10,FALSE)),\"\",VLOOKUP(C99,Master!AQ$61:BC$286,10,FALSE))","v":""},null,null,{"$f":"IF(ISNA(VLOOKUP(C99,Master!AQ$61:BC$286,11,FALSE)),\"\",VLOOKUP(C99,Master!AQ$61:BC$286,11,FALSE))","v":""},{"$f":"IF(ISNA(VLOOKUP(C99,Master!AQ$61:BC$286,9,FALSE)),\"\",VLOOKUP(C99,Master!AQ$61:BC$286,9,FALSE))","v":""},0,0,0,0,0,0,"","","","","","",0,0,"",0,0,0,0,0,0,0,null,null,0,0,0,0,0,0,0,0,0,0,0,0,0,0,0,0,null,null,0,0,1,0,0,0,1,0,1,0,0,""]
["",2202,74,{"$f":"IF(ISNA(VLOOKUP(C100,Master!AQ$61:BC$286,3,FALSE)),\"\",VLOOKUP(C100,Master!AQ$61:BC$286,3,FALSE))","v":""},{"$f":"IF(ISNA(VLOOKUP(C100,Master!AQ$61:BC$286,7,FALSE)),\"\",VLOOKUP(C100,Master!AQ$61:BC$286,7,FALSE))","v":""},{"$f":"IF(ISNA(VLOOKUP(C100,Master!AQ$61:BC$286,8,FALSE)),\"\",VLOOKUP(C100,Master!AQ$61:BC$286,8,FALSE))","v":""},{"$f":"IF(ISNA(VLOOKUP(C100,Master!AQ$61:BC$286,4,FALSE)),\"\",VLOOKUP(C100,Master!AQ$61:BC$286,4,FALSE))","v":""},{"$f":"IF(ISNA(VLOOKUP(C100,Master!AQ$61:BC$286,5,FALSE)),\"\",VLOOKUP(C100,Master!AQ$61:BC$286,5,FALSE))","v":""},{"$f":"IF(ISNA(VLOOKUP(C100,Master!AQ$61:BC$286,6,FALSE)),\"\",VLOOKUP(C100,Master!AQ$61:BC$286,6,FALSE))","v":""},"","","","","",{"$f":"IF(ISNA(VLOOKUP(C100,Master!AQ$61:BC$286,12,FALSE)),\"\",VLOOKUP(C100,Master!AQ$61:BC$286,12,FALSE))","v":""},{"$nulls":4},0,1,{"$f":"IF(ISNA(VLOOKUP(C100,Master!AQ$61:BC$286,10,FALSE)),\"\",VLOOKUP(C100,Master!AQ$61:BC$286,10,FALSE))","v":""},null,null,{"$f":"IF(ISNA(VLOOKUP(C100,Master!AQ$61:BC$286,11,FALSE)),\"\",VLOOKUP(C100,Master!AQ$61:BC$286,11,FALSE))","v":""},{"$f":"IF(ISNA(VLOOKUP(C100,Master!AQ$61:BC$286,9,FALSE)),\"\",VLOOKUP(C100,Master!AQ$61:BC$286,9,FALSE))","v":""},0,0,0,0,0,0,"","","","","","",0,0,"",0,0,0,0,0,0,0,null,null,0,0,0,0,0,0,0,0,0,0,0,0,0,0,0,0,null,null,0,0,1,0,0,0,1,0,1,0,0,""]
["",2202,75,{"$f":"IF(ISNA(VLOOKUP(C101,Master!AQ$61:BC$286,3,FALSE)),\"\",VLOOKUP(C101,Master!AQ$61:BC$286,3,FALSE))","v":""},{"$f":"IF(ISNA(VLOOKUP(C101,Master!AQ$61:BC$286,7,FALSE)),\"\",VLOOKUP(C101,Master!AQ$61:BC$286,7,FALSE))","v":""},{"$f":"IF(ISNA(VLOOKUP(C101,Master!AQ$61:BC$286,8,FALSE)),\"\",VLOOKUP(C101,Master!AQ$61:BC$286,8,FALSE))","v":""},{"$f":"IF(ISNA(VLOOKUP(C101,Master!AQ$61:BC$286,4,FALSE)),\"\",VLOOKUP(C101,Master!AQ$61:BC$286,4,FALSE))","v":""},{"$f":"IF(ISNA(VLOOKUP(C101,Master!AQ$61:BC$286,5,FALSE)),\"\",VLOOKUP(C101,Master!AQ$61:BC$286,5,FALSE))","v":""},{"$f":"IF(ISNA(VLOOKUP(C101,Master!AQ$61:BC$286,6,FALSE)),\"\",VLOOKUP(C101,Master!AQ$61:BC$286,6,FALSE))","v":""},"","","","","",{"$f":"IF(ISNA(VLOOKUP(C101,Master!AQ$61:BC$286,12,FALSE)),\"\",VLOOKUP(C101,Master!AQ$61:BC$286,12,FALSE))","v":""},{"$nulls":4},0,1,{"$f":"IF(ISNA(VLOOKUP(C101,Master!AQ$61:BC$286,10,FALSE)),\"\",VLOOKUP(C101,Master!AQ$61:BC$286,10,FALSE))","v":""},null,null,{"$f":"IF(ISNA(VLOOKUP(C101,Master!AQ$61:BC$286,11,FALSE)),\"\",VLOOKUP(C101,Master!AQ$61:BC$286,11,FALSE))","v":""},{"$f":"IF(ISNA(VLOOKUP(C101,Master!AQ$61:BC$286,9,FALSE)),\"\",VLOOKUP(C101,Master!AQ$61:BC$286,9,FALSE))","v":""},0,0,0,0,0,0,"","","","","","",0,0,"",0,0,0,0,0,0,0,null,null,0,0,0,0,0,0,0,0,0,0,0,0,0,0,0,0,null,null,0,0,1,0,0,0,1,0,1,0,0,""]
["",2202,76,{"$f":"IF(ISNA(VLOOKUP(C102,Master!AQ$61:BC$286,3,FALSE)),\"\",VLOOKUP(C102,Master!AQ$61:BC$286,3,FALSE))","v":""},{"$f":"IF(ISNA(VLOOKUP(C102,Master!AQ$61:BC$286,7,FALSE)),\"\",VLOOKUP(C102,Master!AQ$61:BC$286,7,FALSE))","v":""},{"$f":"IF(ISNA(VLOOKUP(C102,Master!AQ$61:BC$286,8,FALSE)),\"\",VLOOKUP(C102,Master!AQ$61:BC$286,8,FALSE))","v":""},{"$f":"IF(ISNA(VLOOKUP(C102,Master!AQ$61:BC$286,4,FALSE)),\"\",VLOOKUP(C102,Master!AQ$61:BC$286,4,FALSE))","v":""},{"$f":"IF(ISNA(VLOOKUP(C102,Master!AQ$61:BC$286,5,FALSE)),\"\",VLOOKUP(C102,Master!AQ$61:BC$286,5,FALSE))","v":""},{"$f":"IF(ISNA(VLOOKUP(C102,Master!AQ$61:BC$286,6,FALSE)),\"\",VLOOKUP(C102,Master!AQ$61:BC$286,6,FALSE))","v":""},"","","","","",{"$f":"IF(ISNA(VLOOKUP(C102,Master!AQ$61:BC$286,12,FALSE)),\"\",VLOOKUP(C102,Master!AQ$61:BC$286,12,FALSE))","v":""},{"$nulls":4},0,1,{"$f":"IF(ISNA(VLOOKUP(C102,Master!AQ$61:BC$286,10,FALSE)),\"\",VLOOKUP(C102,Master!AQ$61:BC$286,10,FALSE))","v":""},null,null,{"$f":"IF(ISNA(VLOOKUP(C102,Master!AQ$61:BC$286,11,FALSE)),\"\",VLOOKUP(C102,Master!AQ$61:BC$286,11,FALSE))","v":""},{"$f":"IF(ISNA(VLOOKUP(C102,Master!AQ$61:BC$286,9,FALSE)),\"\",VLOOKUP(C102,Master!AQ$61:BC$286,9,FALSE))","v":""},0,0,0,0,0,0,"","","","","","",0,0,"",0,0,0,0,0,0,0,null,null,0,0,0,0,0,0,0,0,0,0,0,0,0,0,0,0,null,null,0,0,1,0,0,0,1,0,1,0,0,""]
["",2202,77,{"$f":"IF(ISNA(VLOOKUP(C103,Master!AQ$61:BC$286,3,FALSE)),\"\",VLOOKUP(C103,Master!AQ$61:BC$286,3,FALSE))","v":""},{"$f":"IF(ISNA(VLOOKUP(C103,Master!AQ$61:BC$286,7,FALSE)),\"\",VLOOKUP(C103,Master!AQ$61:BC$286,7,FALSE))","v":""},{"$f":"IF(ISNA(VLOOKUP(C103,Master!AQ$61:BC$286,8,FALSE)),\"\",VLOOKUP(C103,Master!AQ$61:BC$286,8,FALSE))","v":""},{"$f":"IF(ISNA(VLOOKUP(C103,Master!AQ$61:BC$286,4,FALSE)),\"\",VLOOKUP(C103,Master!AQ$61:BC$286,4,FALSE))","v":""},{"$f":"IF(ISNA(VLOOKUP(C103,Master!AQ$61:BC$286,5,FALSE)),\"\",VLOOKUP(C103,Master!AQ$61:BC$286,5,FALSE))","v":""},{"$f":"IF(ISNA(VLOOKUP(C103,Master!AQ$61:BC$286,6,FALSE)),\"\",VLOOKUP(C103,Master!AQ$61:BC$286,6,FALSE))","v":""},"","","","","",{"$f":"IF(ISNA(VLOOKUP(C103,Master!AQ$61:BC$286,12,FALSE)),\"\",VLOOKUP(C103,Master!AQ$61:BC$286,12,FALSE))","v":""},{"$nulls":4},0,1,{"$f":"IF(ISNA(VLOOKUP(C103,Master!AQ$61:BC$286,10,FALSE)),\"\",VLOOKUP(C103,Master!AQ$61:BC$286,10,FALSE))","v":""},null,null,{"$f":"IF(ISNA(VLOOKUP(C103,Master!AQ$61:BC$286,11,FALSE)),\"\",VLOOKUP(C103,Master!AQ$61:BC$286,11,FALSE))","v":""},{"$f":"IF(ISNA(VLOOKUP(C103,Master!AQ$61:BC$286,9,FALSE)),\"\",VLOOKUP(C103,Master!AQ$61:BC$286,9,FALSE))","v":""},0,0,0,0,0,0,"","","","","","",0,0,"",0,0,0,0,0,0,0,null,null,0,0,0,0,0,0,0,0,0,0,0,0,0,0,0,0,null,null,0,0,1,0,0,0,1,0,1,0,0,""]
["",2202,78,{"$f":"IF(ISNA(VLOOKUP(C104,Master!AQ$61:BC$286,3,FALSE)),\"\",VLOOKUP(C104,Master!AQ$61:BC$286,3,FALSE))","v":""},{"$f":"IF(ISNA(VLOOKUP(C104,Master!AQ$61:BC$286,7,FALSE)),\"\",VLOOKUP(C104,Master!AQ$61:BC$286,7,FALSE))","v":""},{"$f":"IF(ISNA(VLOOKUP(C104,Master!AQ$61:BC$286,8,FALSE)),\"\",VLOOKUP(C104,Master!AQ$61:BC$286,8,FALSE))","v":""},{"$f":"IF(ISNA(VLOOKUP(C104,Master!AQ$61:BC$286,4,FALSE)),\"\",VLOOKUP(C104,Master!AQ$61:BC$286,4,FALSE))","v":""},{"$f":"IF(ISNA(VLOOKUP(C104,Master!AQ$61:BC$286,5,FALSE)),\"\",VLOOKUP(C104,Master!AQ$61:BC$286,5,FALSE))","v":""},{"$f":"IF(ISNA(VLOOKUP(C104,Master!AQ$61:BC$286,6,FALSE)),\"\",VLOOKUP(C104,Master!AQ$61:BC$286,6,FALSE))","v":""},"","","","","",{"$f":"IF(ISNA(VLOOKUP(C104,Master!AQ$61:BC$286,12,FALSE)),\"\",VLOOKUP(C104,Master!AQ$61:BC$286,12,FALSE))","v":""},{"$nulls":4},0,1,{"$f":"IF(ISNA(VLOOKUP(C104,Master!AQ$61:BC$286,10,FALSE)),\"\",VLOOKUP(C104,Master!AQ$61:BC$286,10,FALSE))","v":""},null,null,{"$f":"IF(ISNA(VLOOKUP(C104,Master!AQ$61:BC$286,11,FALSE)),\"\",VLOOKUP(C104,Master!AQ$61:BC$286,11,FALSE))","v":""},{"$f":"IF(ISNA(VLOOKUP(C104,Master!AQ$61:BC$286,9,FALSE)),\"\",VLOOKUP(C104,Master!AQ$61:BC$286,9,FALSE))","v":""},0,0,0,0,0,0,"","","","","","",0,0,"",0,0,0,0,0,0,0,null,null,0,0,0,0,0,0,0,0,0,0,0,0,0,0,0,0,null,null,0,0,1,0,0,0,1,0,1,0,0,""]
["",2202,79,{"$f":"IF(ISNA(VLOOKUP(C105,Master!AQ$61:BC$286,3,FALSE)),\"\",VLOOKUP(C105,Master!AQ$61:BC$286,3,FALSE))","v":""},{"$f":"IF(ISNA(VLOOKUP(C105,Master!AQ$61:BC$286,7,FALSE)),\"\",VLOOKUP(C105,Master!AQ$61:BC$286,7,FALSE))","v":""},{"$f":"IF(ISNA(VLOOKUP(C105,Master!AQ$61:BC$286,8,FALSE)),\"\",VLOOKUP(C105,Master!AQ$61:BC$286,8,FALSE))","v":""},{"$f":"IF(ISNA(VLOOKUP(C105,Master!AQ$61:BC$286,4,FALSE)),\"\",VLOOKUP(C105,Master!AQ$61:BC$286,4,FALSE))","v":""},{"$f":"IF(ISNA(VLOOKUP(C105,Master!AQ$61:BC$286,5,FALSE)),\"\",VLOOKUP(C105,Master!AQ$61:BC$286,5,FALSE))","v":""},{"$f":"IF(ISNA(VLOOKUP(C105,Master!AQ$61:BC$286,6,FALSE)),\"\",VLOOKUP(C105,Master!AQ$61:BC$286,6,FALSE))","v":""},"","","","","",{"$f":"IF(ISNA(VLOOKUP(C105,Master!AQ$61:BC$286,12,FALSE)),\"\",VLOOKUP(C105,Master!AQ$61:BC$286,12,FALSE))","v":""},{"$nulls":4},0,1,{"$f":"IF(ISNA(VLOOKUP(C105,Master!AQ$61:BC$286,10,FALSE)),\"\",VLOOKUP(C105,Master!AQ$61:BC$286,10,FALSE))","v":""},null,null,{"$f":"IF(ISNA(VLOOKUP(C105,Master!AQ$61:BC$286,11,FALSE)),\"\",VLOOKUP(C105,Master!AQ$61:BC$286,11,FALSE))","v":""},{"$f":"IF(ISNA(VLOOKUP(C105,Master!AQ$61:BC$286,9,FALSE)),\"\",VLOOKUP(C105,Master!AQ$61:BC$286,9,FALSE))","v":""},0,0,0,0,0,0,"","","","","","",0,0,"",0,0,0,0,0,0,0,null,null,0,0,0,0,0,0,0,0,0,0,0,0,0,0,0,0,null,null,0,0,1,0,0,0,1,0,1,0,0,""]
["",2202,80,{"$f":"IF(ISNA(VLOOKUP(C106,Master!AQ$61:BC$286,3,FALSE)),\"\",VLOOKUP(C106,Master!AQ$61:BC$286,3,FALSE))","v":""},{"$f":"IF(ISNA(VLOOKUP(C106,Master!AQ$61:BC$286,7,FALSE)),\"\",VLOOKUP(C106,Master!AQ$61:BC$286,7,FALSE))","v":""},{"$f":"IF(ISNA(VLOOKUP(C106,Master!AQ$61:BC$286,8,FALSE)),\"\",VLOOKUP(C106,Master!AQ$61:BC$286,8,FALSE))","v":""},{"$f":"IF(ISNA(VLOOKUP(C106,Master!AQ$61:BC$286,4,FALSE)),\"\",VLOOKUP(C106,Master!AQ$61:BC$286,4,FALSE))","v":""},{"$f":"IF(ISNA(VLOOKUP(C106,Master!AQ$61:BC$286,5,FALSE)),\"\",VLOOKUP(C106,Master!AQ$61:BC$286,5,FALSE))","v":""},{"$f":"IF(ISNA(VLOOKUP(C106,Master!AQ$61:BC$286,6,FALSE)),\"\",VLOOKUP(C106,Master!AQ$61:BC$286,6,FALSE))","v":""},"","","","","",{"$f":"IF(ISNA(VLOOKUP(C106,Master!AQ$61:BC$286,12,FALSE)),\"\",VLOOKUP(C106,Master!AQ$61:BC$286,12,FALSE))","v":""},{"$nulls":4},0,1,{"$f":"IF(ISNA(VLOOKUP(C106,Master!AQ$61:BC$286,10,FALSE)),\"\",VLOOKUP(C106,Master!AQ$61:BC$286,10,FALSE))","v":""},null,null,{"$f":"IF(ISNA(VLOOKUP(C106,Master!AQ$61:BC$286,11,FALSE)),\"\",VLOOKUP(C106,Master!AQ$61:BC$286,11,FALSE))","v":""},{"$f":"IF(ISNA(VLOOKUP(C106,Master!AQ$61:BC$286,9,FALSE)),\"\",VLOOKUP(C106,Master!AQ$61:BC$286,9,FALSE))","v":""},0,0,0,0,0,0,"","","","","","",0,0,"",0,0,0,0,0,0,0,null,null,0,0,0,0,0,0,0,0,0,0,0,0,0,0,0,0,null,null,0,0,1,0,0,0,1,0,1,0,0,""]
["",2202,81,{"$f":"IF(ISNA(VLOOKUP(C107,Master!AQ$61:BC$286,3,FALSE)),\"\",VLOOKUP(C107,Master!AQ$61:BC$286,3,FALSE))","v":""},{"$f":"IF(ISNA(VLOOKUP(C107,Master!AQ$61:BC$286,7,FALSE)),\"\",VLOOKUP(C107,Master!AQ$61:BC$286,7,FALSE))","v":""},{"$f":"IF(ISNA(VLOOKUP(C107,Master!AQ$61:BC$286,8,FALSE)),\"\",VLOOKUP(C107,Master!AQ$61:BC$286,8,FALSE))","v":""},{"$f":"IF(ISNA(VLOOKUP(C107,Master!AQ$61:BC$286,4,FALSE)),\"\",VLOOKUP(C107,Master!AQ$61:BC$286,4,FALSE))","v":""},{"$f":"IF(ISNA(VLOOKUP(C107,Master!AQ$61:BC$286,5,FALSE)),\"\",VLOOKUP(C107,Master!AQ$61:BC$286,5,FALSE))","v":""},{"$f":"IF(ISNA(VLOOKUP(C107,Master!AQ$61:BC$286,6,FALSE)),\"\",VLOOKUP(C107,Master!AQ$61:BC$286,6,FALSE))","v":""},"","","","","",{"$f":"IF(ISNA(VLOOKUP(C107,Master!AQ$61:BC$286,12,FALSE)),\"\",VLOOKUP(C107,Master!AQ$61:BC$286,12,FALSE))","v":""},{"$nulls":4},0,1,{"$f":"IF(ISNA(VLOOKUP(C107,Master!AQ$61:BC$286,10,FALSE)),\"\",VLOOKUP(C107,Master!AQ$61:BC$286,10,FALSE))","v":""},null,null,{"$f":"IF(ISNA(VLOOKUP(C107,Master!AQ$61:BC$286,11,FALSE)),\"\",VLOOKUP(C107,Master!AQ$61:BC$286,11,FALSE))","v":""},{"$f":"IF(ISNA(VLOOKUP(C107,Master!AQ$61:BC$286,9,FALSE)),\"\",VLOOKUP(C107,Master!AQ$61:BC$286,9,FALSE))","v":""},0,0,0,0,0,0,"","","","","","",0,0,"",0,0,0,0,0,0,0,null,null,0,0,0,0,0,0,0,0,0,0,0,0,0,0,0,0,null,null,0,0,1,0,0,0,1,0,1,0,0,""]
["",2202,82,{"$f":"IF(ISNA(VLOOKUP(C108,Master!AQ$61:BC$286,3,FALSE)),\"\",VLOOKUP(C108,Master!AQ$61:BC$286,3,FALSE))","v":""},{"$f":"IF(ISNA(VLOOKUP(C108,Master!AQ$61:BC$286,7,FALSE)),\"\",VLOOKUP(C108,Master!AQ$61:BC$286,7,FALSE))","v":""},{"$f":"IF(ISNA(VLOOKUP(C108,Master!AQ$61:BC$286,8,FALSE)),\"\",VLOOKUP(C108,Master!AQ$61:BC$286,8,FALSE))","v":""},{"$f":"IF(ISNA(VLOOKUP(C108,Master!AQ$61:BC$286,4,FALSE)),\"\",VLOOKUP(C108,Master!AQ$61:BC$286,4,FALSE))","v":""},{"$f":"IF(ISNA(VLOOKUP(C108,Master!AQ$61:BC$286,5,FALSE)),\"\",VLOOKUP(C108,Master!AQ$61:BC$286,5,FALSE))","v":""},{"$f":"IF(ISNA(VLOOKUP(C108,Master!AQ$61:BC$286,6,FALSE)),\"\",VLOOKUP(C108,Master!AQ$61:BC$286,6,FALSE))","v":""},"","","","","",{"$f":"IF(ISNA(VLOOKUP(C108,Master!AQ$61:BC$286,12,FALSE)),\"\",VLOOKUP(C108,Master!AQ$61:BC$286,12,FALSE))","v":""},{"$nulls":4},0,1,{"$f":"IF(ISNA(VLOOKUP(C108,Master!AQ$61:BC$286,10,FALSE)),\"\",VLOOKUP(C108,Master!AQ$61:BC$286,10,FALSE))","v":""},null,null,{"$f":"IF(ISNA(VLOOKUP(C108,Master!AQ$61:BC$286,11,FALSE)),\"\",VLOOKUP(C108,Master!AQ$61:BC$286,11,FALSE))","v":""},{"$f":"IF(ISNA(VLOOKUP(C108,Master!AQ$61:BC$286,9,FALSE)),\"\",VLOOKUP(C108,Master!AQ$61:BC$286,9,FALSE))","v":""},0,0,0,0,0,0,"","","","","","",0,0,"",0,0,0,0,0,0,0,null,null,0,0,0,0,0,0,0,0,0,0,0,0,0,0,0,0,null,null,0,0,1,0,0,0,1,0,1,0,0,""]
["",2202,83,{"$f":"IF(ISNA(VLOOKUP(C109,Master!AQ$61:BC$286,3,FALSE)),\"\",VLOOKUP(C109,Master!AQ$61:BC$286,3,FALSE))","v":""},{"$f":"IF(ISNA(VLOOKUP(C109,Master!AQ$61:BC$286,7,FALSE)),\"\",VLOOKUP(C109,Master!AQ$61:BC$286,7,FALSE))","v":""},{"$f":"IF(ISNA(VLOOKUP(C109,Master!AQ$61:BC$286,8,FALSE)),\"\",VLOOKUP(C109,Master!AQ$61:BC$286,8,FALSE))","v":""},{"$f":"IF(ISNA(VLOOKUP(C109,Master!AQ$61:BC$286,4,FALSE)),\"\",VLOOKUP(C109,Master!AQ$61:BC$286,4,FALSE))","v":""},{"$f":"IF(ISNA(VLOOKUP(C109,Master!AQ$61:BC$286,5,FALSE)),\"\",VLOOKUP(C109,Master!AQ$61:BC$286,5,FALSE))","v":""},{"$f":"IF(ISNA(VLOOKUP(C109,Master!AQ$61:BC$286,6,FALSE)),\"\",VLOOKUP(C109,Master!AQ$61:BC$286,6,FALSE))","v":""},"","","","","",{"$f":"IF(ISNA(VLOOKUP(C109,Master!AQ$61:BC$286,12,FALSE)),\"\",VLOOKUP(C109,Master!AQ$61:BC$286,12,FALSE))","v":""},{"$nulls":4},0,1,{"$f":"IF(ISNA(VLOOKUP(C109,Master!AQ$61:BC$286,10,FALSE)),\"\",VLOOKUP(C109,Master!AQ$61:BC$286,10,FALSE))","v":""},null,null,{"$f":"IF(ISNA(VLOOKUP(C109,Master!AQ$61:BC$286,11,FALSE)),\"\",VLOOKUP(C109,Master!AQ$61:BC$286,11,FALSE))","v":""},{"$f":"IF(ISNA(VLOOKUP(C109,Master!AQ$61:BC$286,9,FALSE)),\"\",VLOOKUP(C109,Master!AQ$61:BC$286,9,FALSE))","v":""},0,0,0,0,0,0,"","","","","","",0,0,"",0,0,0,0,0,0,0,null,null,0,0,0,0,0,0,0,0,0,0,0,0,0,0,0,0,null,null,0,0,1,0,0,0,1,0,1,0,0,""]
["",2202,84,{"$f":"IF(ISNA(VLOOKUP(C110,Master!AQ$61:BC$286,3,FALSE)),\"\",VLOOKUP(C110,Master!AQ$61:BC$286,3,FALSE))","v":""},{"$f":"IF(ISNA(VLOOKUP(C110,Master!AQ$61:BC$286,7,FALSE)),\"\",VLOOKUP(C110,Master!AQ$61:BC$286,7,FALSE))","v":""},{"$f":"IF(ISNA(VLOOKUP(C110,Master!AQ$61:BC$286,8,FALSE)),\"\",VLOOKUP(C110,Master!AQ$61:BC$286,8,FALSE))","v":""},{"$f":"IF(ISNA(VLOOKUP(C110,Master!AQ$61:BC$286,4,FALSE)),\"\",VLOOKUP(C110,Master!AQ$61:BC$286,4,FALSE))","v":""},{"$f":"IF(ISNA(VLOOKUP(C110,Master!AQ$61:BC$286,5,FALSE)),\"\",VLOOKUP(C110,Master!AQ$61:BC$286,5,FALSE))","v":""},{"$f":"IF(ISNA(VLOOKUP(C110,Master!AQ$61:BC$286,6,FALSE)),\"\",VLOOKUP(C110,Master!AQ$61:BC$286,6,FALSE))","v":""},"","","","","",{"$f":"IF(ISNA(VLOOKUP(C110,Master!AQ$61:BC$286,12,FALSE)),\"\",VLOOKUP(C110,Master!AQ$61:BC$286,12,FALSE))","v":""},{"$nulls":4},0,1,{"$f":"IF(ISNA(VLOOKUP(C110,Master!AQ$61:BC$286,10,FALSE)),\"\",VLOOKUP(C110,Master!AQ$61:BC$286,10,FALSE))","v":""},null,null,{"$f":"IF(ISNA(VLOOKUP(C110,Master!AQ$61:BC$286,11,FALSE)),\"\",VLOOKUP(C110,Master!AQ$61:BC$286,11,FALSE))","v":""},{"$f":"IF(ISNA(VLOOKUP(C110,Master!AQ$61:BC$286,9,FALSE)),\"\",VLOOKUP(C110,Master!AQ$61:BC$286,9,FALSE))","v":""},0,0,0,0,0,0,"","","","","","",0,0,"",0,0,0,0,0,0,0,null,null,0,0,0,0,0,0,0,0,0,0,0,0,0,0,0,0,null,null,0,0,1,0,0,0,1,0,1,0,0,""]
["",2202,85,{"$f":"IF(ISNA(VLOOKUP(C111,Master!AQ$61:BC$286,3,FALSE)),\"\",VLOOKUP(C111,Master!AQ$61:BC$286,3,FALSE))","v":""},{"$f":"IF(ISNA(VLOOKUP(C111,Master!AQ$61:BC$286,7,FALSE)),\"\",VLOOKUP(C111,Master!AQ$61:BC$286,7,FALSE))","v":""},{"$f":"IF(ISNA(VLOOKUP(C111,Master!AQ$61:BC$286,8,FALSE)),\"\",VLOOKUP(C111,Master!AQ$61:BC$286,8,FALSE))","v":""},{"$f":"IF(ISNA(VLOOKUP(C111,Master!AQ$61:BC$286,4,FALSE)),\"\",VLOOKUP(C111,Master!AQ$61:BC$286,4,FALSE))","v":""},{"$f":"IF(ISNA(VLOOKUP(C111,Master!AQ$61:BC$286,5,FALSE)),\"\",VLOOKUP(C111,Master!AQ$61:BC$286,5,FALSE))","v":""},{"$f":"IF(ISNA(VLOOKUP(C111,Master!AQ$61:BC$286,6,FALSE)),\"\",VLOOKUP(C111,Master!AQ$61:BC$286,6,FALSE))","v":""},"","","","","",{"$f":"IF(ISNA(VLOOKUP(C111,Master!AQ$61:BC$286,12,FALSE)),\"\",VLOOKUP(C111,Master!AQ$61:BC$286,12,FALSE))","v":""},{"$nulls":4},0,1,{"$f":"IF(ISNA(VLOOKUP(C111,Master!AQ$61:BC$286,10,FALSE)),\"\",VLOOKUP(C111,Master!AQ$61:BC$286,10,FALSE))","v":""},null,null,{"$f":"IF(ISNA(VLOOKUP(C111,Master!AQ$61:BC$286,11,FALSE)),\"\",VLOOKUP(C111,Master!AQ$61:BC$286,11,FALSE))","v":""},{"$f":"IF(ISNA(VLOOKUP(C111,Master!AQ$61:BC$286,9,FALSE)),\"\",VLOOKUP(C111,Master!AQ$61:BC$286,9,FALSE))","v":""},{"$f":"IF(Z111=\"MALE\",1,0)*(IF(G111=\"JAMADAR\",1,0))*(IF(I111<=0,0,1))","v":0},{"$f":"IF(Z111=\"FEMALE\",1,0)*(IF(G111=\"JAMADAR\",1,0))*(IF(I111<=0,0,1))","v":0},{"$f":"IF(Z111=\"MALE\",1,0)*(IF(G111=\"LAB BOY\",1,0))*(IF(I111<=0,0,1))","v":0},{"$f":"IF(Z111=\"FEMALE\",1,0)*(IF(G111=\"LAB BOY\",1,0))*(IF(I111<=0,0,1))","v":0},{"$f":"IF(Z111=\"MALE\",1,0)*(IF(G111=\"PEON\",1,0))*(IF(I111<=0,0,1))","v":0},{"$f":"IF(Z111=\"FEMALE\",1,0)*(IF(G111=\"PEON\",1,0))*(IF(I111<=0,0,1))","v":0},{"$f":"IF(AND(I111=\"\"),\"\",I111-ROUNDUP(ROUND((I111*3%)-(I111*3%)*2.9%,-2),0))","v":""},"","","","","",0,0,"",0,0,0,0,0,0,0,null,null,0,0,0,0,0,0,0,0,0,0,0,0,0,0,0,0,null,null,0,0,1,0,0,0,1,0,1,0,0,""]
["",2202,86,{"$f":"IF(ISNA(VLOOKUP(C112,Master!AQ$61:BC$286,3,FALSE)),\"\",VLOOKUP(C112,Master!AQ$61:BC$286,3,FALSE))","v":""},{"$f":"IF(ISNA(VLOOKUP(C112,Master!AQ$61:BC$286,7,FALSE)),\"\",VLOOKUP(C112,Master!AQ$61:BC$286,7,FALSE))","v":""},{"$f":"IF(ISNA(VLOOKUP(C112,Master!AQ$61:BC$286,8,FALSE)),\"\",VLOOKUP(C112,Master!AQ$61:BC$286,8,FALSE))","v":""},{"$f":"IF(ISNA(VLOOKUP(C112,Master!AQ$61:BC$286,4,FALSE)),\"\",VLOOKUP(C112,Master!AQ$61:BC$286,4,FALSE))","v":""},{"$f":"IF(ISNA(VLOOKUP(C112,Master!AQ$61:BC$286,5,FALSE)),\"\",VLOOKUP(C112,Master!AQ$61:BC$286,5,FALSE))","v":""},{"$f":"IF(ISNA(VLOOKUP(C112,Master!AQ$61:BC$286,6,FALSE)),\"\",VLOOKUP(C112,Master!AQ$61:BC$286,6,FALSE))","v":""},"","","","","",{"$f":"IF(ISNA(VLOOKUP(C112,Master!AQ$61:BC$286,12,FALSE)),\"\",VLOOKUP(C112,Master!AQ$61:BC$286,12,FALSE))","v":""},{"$nulls":4},0,1,{"$f":"IF(ISNA(VLOOKUP(C112,Master!AQ$61:BC$286,10,FALSE)),\"\",VLOOKUP(C112,Master!AQ$61:BC$286,10,FALSE))","v":""},null,null,{"$f":"IF(ISNA(VLOOKUP(C112,Master!AQ$61:BC$286,11,FALSE)),\"\",VLOOKUP(C112,Master!AQ$61:BC$286,11,FALSE))","v":""},{"$f":"IF(ISNA(VLOOKUP(C112,Master!AQ$61:BC$286,9,FALSE)),\"\",VLOOKUP(C112,Master!AQ$61:BC$286,9,FALSE))","v":""},0,0,0,0,0,0,"","","","","","",0,0,"",0,0,0,0,0,0,0,null,null,0,0,0,0,0,0,0,0,0,0,0,0,0,0,0,0,null,null,0,0,1,0,0,0,1,0,1,0,0,""]
["",2202,87,{"$f":"IF(ISNA(VLOOKUP(C113,Master!AQ$61:BC$286,3,FALSE)),\"\",VLOOKUP(C113,Master!AQ$61:BC$286,3,FALSE))","v":""},{"$f":"IF(ISNA(VLOOKUP(C113,Master!AQ$61:BC$286,7,FALSE)),\"\",VLOOKUP(C113,Master!AQ$61:BC$286,7,FALSE))","v":""},{"$f":"IF(ISNA(VLOOKUP(C113,Master!AQ$61:BC$286,8,FALSE)),\"\",VLOOKUP(C113,Master!AQ$61:BC$286,8,FALSE))","v":""},{"$f":"IF(ISNA(VLOOKUP(C113,Master!AQ$61:BC$286,4,FALSE)),\"\",VLOOKUP(C113,Master!AQ$61:BC$286,4,FALSE))","v":""},{"$f":"IF(ISNA(VLOOKUP(C113,Master!AQ$61:BC$286,5,FALSE)),\"\",VLOOKUP(C113,Master!AQ$61:BC$286,5,FALSE))","v":""},{"$f":"IF(ISNA(VLOOKUP(C113,Master!AQ$61:BC$286,6,FALSE)),\"\",VLOOKUP(C113,Master!AQ$61:BC$286,6,FALSE))","v":""},"","","","","",{"$f":"IF(ISNA(VLOOKUP(C113,Master!AQ$61:BC$286,12,FALSE)),\"\",VLOOKUP(C113,Master!AQ$61:BC$286,12,FALSE))","v":""},{"$nulls":4},0,1,{"$f":"IF(ISNA(VLOOKUP(C113,Master!AQ$61:BC$286,10,FALSE)),\"\",VLOOKUP(C113,Master!AQ$61:BC$286,10,FALSE))","v":""},null,null,{"$f":"IF(ISNA(VLOOKUP(C113,Master!AQ$61:BC$286,11,FALSE)),\"\",VLOOKUP(C113,Master!AQ$61:BC$286,11,FALSE))","v":""},{"$f":"IF(ISNA(VLOOKUP(C113,Master!AQ$61:BC$286,9,FALSE)),\"\",VLOOKUP(C113,Master!AQ$61:BC$286,9,FALSE))","v":""},0,0,0,0,0,0,"","","","","","",0,0,"",0,0,0,0,0,0,0,null,null,0,0,0,0,0,0,0,0,0,0,0,0,0,0,0,0,null,null,0,0,1,0,0,0,1,0,1,0,0,""]
["",2202,88,{"$f":"IF(ISNA(VLOOKUP(C114,Master!AQ$61:BC$286,3,FALSE)),\"\",VLOOKUP(C114,Master!AQ$61:BC$286,3,FALSE))","v":""},{"$f":"IF(ISNA(VLOOKUP(C114,Master!AQ$61:BC$286,7,FALSE)),\"\",VLOOKUP(C114,Master!AQ$61:BC$286,7,FALSE))","v":""},{"$f":"IF(ISNA(VLOOKUP(C114,Master!AQ$61:BC$286,8,FALSE)),\"\",VLOOKUP(C114,Master!AQ$61:BC$286,8,FALSE))","v":""},{"$f":"IF(ISNA(VLOOKUP(C114,Master!AQ$61:BC$286,4,FALSE)),\"\",VLOOKUP(C114,Master!AQ$61:BC$286,4,FALSE))","v":""},{"$f":"IF(ISNA(VLOOKUP(C114,Master!AQ$61:BC$286,5,FALSE)),\"\",VLOOKUP(C114,Master!AQ$61:BC$286,5,FALSE))","v":""},{"$f":"IF(ISNA(VLOOKUP(C114,Master!AQ$61:BC$286,6,FALSE)),\"\",VLOOKUP(C114,Master!AQ$61:BC$286,6,FALSE))","v":""},"","","","","",{"$f":"IF(ISNA(VLOOKUP(C114,Master!AQ$61:BC$286,12,FALSE)),\"\",VLOOKUP(C114,Master!AQ$61:BC$286,12,FALSE))","v":""},{"$nulls":4},0,1,{"$f":"IF(ISNA(VLOOKUP(C114,Master!AQ$61:BC$286,10,FALSE)),\"\",VLOOKUP(C114,Master!AQ$61:BC$286,10,FALSE))","v":""},null,null,{"$f":"IF(ISNA(VLOOKUP(C114,Master!AQ$61:BC$286,11,FALSE)),\"\",VLOOKUP(C114,Master!AQ$61:BC$286,11,FALSE))","v":""},{"$f":"IF(ISNA(VLOOKUP(C114,Master!AQ$61:BC$286,9,FALSE)),\"\",VLOOKUP(C114,Master!AQ$61:BC$286,9,FALSE))","v":""},0,0,0,0,0,0,"","","","","","",0,0,"",0,0,0,0,0,0,0,null,null,0,0,0,0,0,0,0,0,0,0,0,0,0,0,0,0,null,null,0,0,1,0,0,0,1,0,1,0,0,""]
["",2202,89,{"$f":"IF(ISNA(VLOOKUP(C115,Master!AQ$61:BC$286,3,FALSE)),\"\",VLOOKUP(C115,Master!AQ$61:BC$286,3,FALSE))","v":""},{"$f":"IF(ISNA(VLOOKUP(C115,Master!AQ$61:BC$286,7,FALSE)),\"\",VLOOKUP(C115,Master!AQ$61:BC$286,7,FALSE))","v":""},{"$f":"IF(ISNA(VLOOKUP(C115,Master!AQ$61:BC$286,8,FALSE)),\"\",VLOOKUP(C115,Master!AQ$61:BC$286,8,FALSE))","v":""},{"$f":"IF(ISNA(VLOOKUP(C115,Master!AQ$61:BC$286,4,FALSE)),\"\",VLOOKUP(C115,Master!AQ$61:BC$286,4,FALSE))","v":""},{"$f":"IF(ISNA(VLOOKUP(C115,Master!AQ$61:BC$286,5,FALSE)),\"\",VLOOKUP(C115,Master!AQ$61:BC$286,5,FALSE))","v":""},{"$f":"IF(ISNA(VLOOKUP(C115,Master!AQ$61:BC$286,6,FALSE)),\"\",VLOOKUP(C115,Master!AQ$61:BC$286,6,FALSE))","v":""},"","","","","",{"$f":"IF(ISNA(VLOOKUP(C115,Master!AQ$61:BC$286,12,FALSE)),\"\",VLOOKUP(C115,Master!AQ$61:BC$286,12,FALSE))","v":""},{"$nulls":4},0,1,{"$f":"IF(ISNA(VLOOKUP(C115,Master!AQ$61:BC$286,10,FALSE)),\"\",VLOOKUP(C115,Master!AQ$61:BC$286,10,FALSE))","v":""},null,null,{"$f":"IF(ISNA(VLOOKUP(C115,Master!AQ$61:BC$286,11,FALSE)),\"\",VLOOKUP(C115,Master!AQ$61:BC$286,11,FALSE))","v":""},{"$f":"IF(ISNA(VLOOKUP(C115,Master!AQ$61:BC$286,9,FALSE)),\"\",VLOOKUP(C115,Master!AQ$61:BC$286,9,FALSE))","v":""},0,0,0,0,0,0,"",{"$f":"IF(AND(I115=\"\"),\"\",$M115*$BR115)","v":""},{"$f":"IF(AND(I115=\"\"),\"\",$M115*$BS115)","v":""},{"$f":"IF(AND(I115=\"\"),\"\",$M115*$BT115)","v":""},{"$f":"IF(AND(I115=\"\"),\"\",$M115*$BU115)","v":""},{"$f":"IF(AND(I115=\"\"),\"\",ROUND((AH115+AI115)*$AL$10,0)*BV115)","v":""},0,0,{"$f":"IF(AND(I115=\"\"),\"\",ROUND((AH115+AI115)*$AO$10,0)*BV115)","v":""},0,0,0,0,0,0,0,null,null,{"$f":"AV115+AW115+AX115","v":0},0,0,0,0,{"$f":"ROUND((AZ115+BA115)*$BD$10,0)*BV115","v":0},0,0,{"$f":"ROUND((AZ115+BA115)*$BG$10,0)*BV115","v":0},0,0,0,0,0,{"$f":"SUM(BD115:BL115)+AZ115+BA115","v":0},{"$f":"BM115","v":0},null,null,{"$f":"BN115+BO115+BP115","v":0},0,1,0,0,0,{"$f":"IF(Y115=\"No\",0,1)","v":1},0,{"$f":"IF(I115<=0,0,1)","v":1},0,0,""]
["",2202,90,{"$f":"IF(ISNA(VLOOKUP(C116,Master!AQ$61:BC$286,3,FALSE)),\"\",VLOOKUP(C116,Master!AQ$61:BC$286,3,FALSE))","v":""},{"$f":"IF(ISNA(VLOOKUP(C116,Master!AQ$61:BC$286,7,FALSE)),\"\",VLOOKUP(C116,Master!AQ$61:BC$286,7,FALSE))","v":""},{"$f":"IF(ISNA(VLOOKUP(C116,Master!AQ$61:BC$286,8,FALSE)),\"\",VLOOKUP(C116,Master!AQ$61:BC$286,8,FALSE))","v":""},{"$f":"IF(ISNA(VLOOKUP(C116,Master!AQ$61:BC$286,4,FALSE)),\"\",VLOOKUP(C116,Master!AQ$61:BC$286,4,FALSE))","v":""},{"$f":"IF(ISNA(VLOOKUP(C116,Master!AQ$61:BC$286,5,FALSE)),\"\",VLOOKUP(C116,Master!AQ$61:BC$286,5,FALSE))","v":""},{"$f":"IF(ISNA(VLOOKUP(C116,Master!AQ$61:BC$286,6,FALSE)),\"\",VLOOKUP(C116,Master!AQ$61:BC$286,6,FALSE))","v":""},"","","","","",{"$f":"IF(ISNA(VLOOKUP(C116,Master!AQ$61:BC$286,12,FALSE)),\"\",VLOOKUP(C116,Master!AQ$61:BC$286,12,FALSE))","v":""},{"$nulls":4},0,1,{"$f":"IF(ISNA(VLOOKUP(C116,Master!AQ$61:BC$286,10,FALSE)),\"\",VLOOKUP(C116,Master!AQ$61:BC$286,10,FALSE))","v":""},null,null,{"$f":"IF(ISNA(VLOOKUP(C116,Master!AQ$61:BC$286,11,FALSE)),\"\",VLOOKUP(C116,Master!AQ$61:BC$286,11,FALSE))","v":""},{"$f":"IF(ISNA(VLOOKUP(C116,Master!AQ$61:BC$286,9,FALSE)),\"\",VLOOKUP(C116,Master!AQ$61:BC$286,9,FALSE))","v":""},0,0,0,0,0,0,"",{"$f":"IF(AND(I116=\"\"),\"\",$M116*$BR116)","v":""},{"$f":"IF(AND(I116=\"\"),\"\",$M116*$BS116)","v":""},{"$f":"IF(AND(I116=\"\"),\"\",$M116*$BT116)","v":""},{"$f":"IF(AND(I116=\"\"),\"\",$M116*$BU116)","v":""},{"$f":"IF(AND(I116=\"\"),\"\",ROUND((AH116+AI116)*$AL$10,0)*BV116)","v":""},0,0,{"$f":"IF(AND(I116=\"\"),\"\",ROUND((AH116+AI116)*$AO$10,0)*BV116)","v":""},0,0,0,0,0,0,0,null,null,{"$f":"AV116+AW116+AX116","v":0},0,0,0,0,{"$f":"ROUND((AZ116+BA116)*$BD$10,0)*BV116","v":0},0,0,{"$f":"ROUND((AZ116+BA116)*$BG$10,0)*BV116","v":0},0,0,0,0,0,{"$f":"SUM(BD116:BL116)+AZ116+BA116","v":0},{"$f":"BM116","v":0},null,null,{"$f":"BN116+BO116+BP116","v":0},0,1,0,0,0,{"$f":"IF(Y116=\"No\",0,1)","v":1},0,{"$f":"IF(I116<=0,0,1)","v":1},0,0,""]
["",2202,91,{"$f":"IF(ISNA(VLOOKUP(C117,Master!AQ$61:BC$286,3,FALSE)),\"\",VLOOKUP(C117,Master!AQ$61:BC$286,3,FALSE))","v":""},{"$f":"IF(ISNA(VLOOKUP(C117,Master!AQ$61:BC$286,7,FALSE)),\"\",VLOOKUP(C117,Master!AQ$61:BC$286,7,FALSE))","v":""},{"$f":"IF(ISNA(VLOOKUP(C117,Master!AQ$61:BC$286,8,FALSE)),\"\",VLOOKUP(C117,Master!AQ$61:BC$286,8,FALSE))","v":""},{"$f":"IF(ISNA(VLOOKUP(C117,Master!AQ$61:BC$286,4,FALSE)),\"\",VLOOKUP(C117,Master!AQ$61:BC$286,4,FALSE))","v":""},{"$f":"IF(ISNA(VLOOKUP(C117,Master!AQ$61:BC$286,5,FALSE)),\"\",VLOOKUP(C117,Master!AQ$61:BC$286,5,FALSE))","v":""},{"$f":"IF(ISNA(VLOOKUP(C117,Master!AQ$61:BC$286,6,FALSE)),\"\",VLOOKUP(C117,Master!AQ$61:BC$286,6,FALSE))","v":""},"","","","","",{"$f":"IF(ISNA(VLOOKUP(C117,Master!AQ$61:BC$286,12,FALSE)),\"\",VLOOKUP(C117,Master!AQ$61:BC$286,12,FALSE))","v":""},{"$nulls":4},0,1,{"$f":"IF(ISNA(VLOOKUP(C117,Master!AQ$61:BC$286,10,FALSE)),\"\",VLOOKUP(C117,Master!AQ$61:BC$286,10,FALSE))","v":""},null,null,{"$f":"IF(ISNA(VLOOKUP(C117,Master!AQ$61:BC$286,11,FALSE)),\"\",VLOOKUP(C117,Master!AQ$61:BC$286,11,FALSE))","v":""},{"$f":"IF(ISNA(VLOOKUP(C117,Master!AQ$61:BC$286,9,FALSE)),\"\",VLOOKUP(C117,Master!AQ$61:BC$286,9,FALSE))","v":""},0,0,0,0,0,0,"","","","","","",0,0,"",0,0,0,0,0,0,0,null,null,0,0,0,0,0,0,0,0,0,0,0,0,0,0,0,0,null,null,0,0,1,0,0,0,1,0,1,0,0,""]
["",2202,92,{"$f":"IF(ISNA(VLOOKUP(C118,Master!AQ$61:BC$286,3,FALSE)),\"\",VLOOKUP(C118,Master!AQ$61:BC$286,3,FALSE))","v":""},{"$f":"IF(ISNA(VLOOKUP(C118,Master!AQ$61:BC$286,7,FALSE)),\"\",VLOOKUP(C118,Master!AQ$61:BC$286,7,FALSE))","v":""},{"$f":"IF(ISNA(VLOOKUP(C118,Master!AQ$61:BC$286,8,FALSE)),\"\",VLOOKUP(C118,Master!AQ$61:BC$286,8,FALSE))","v":""},{"$f":"IF(ISNA(VLOOKUP(C118,Master!AQ$61:BC$286,4,FALSE)),\"\",VLOOKUP(C118,Master!AQ$61:BC$286,4,FALSE))","v":""},{"$f":"IF(ISNA(VLOOKUP(C118,Master!AQ$61:BC$286,5,FALSE)),\"\",VLOOKUP(C118,Master!AQ$61:BC$286,5,FALSE))","v":""},{"$f":"IF(ISNA(VLOOKUP(C118,Master!AQ$61:BC$286,6,FALSE)),\"\",VLOOKUP(C118,Master!AQ$61:BC$286,6,FALSE))","v":""},"","","","","",{"$f":"IF(ISNA(VLOOKUP(C118,Master!AQ$61:BC$286,12,FALSE)),\"\",VLOOKUP(C118,Master!AQ$61:BC$286,12,FALSE))","v":""},{"$nulls":4},0,1,{"$f":"IF(ISNA(VLOOKUP(C118,Master!AQ$61:BC$286,10,FALSE)),\"\",VLOOKUP(C118,Master!AQ$61:BC$286,10,FALSE))","v":""},null,null,{"$f":"IF(ISNA(VLOOKUP(C118,Master!AQ$61:BC$286,11,FALSE)),\"\",VLOOKUP(C118,Master!AQ$61:BC$286,11,FALSE))","v":""},{"$f":"IF(ISNA(VLOOKUP(C118,Master!AQ$61:BC$286,9,FALSE)),\"\",VLOOKUP(C118,Master!AQ$61:BC$286,9,FALSE))","v":""},0,0,0,0,0,0,"","","","","","",0,0,"",0,0,0,0,0,0,0,null,null,0,0,0,0,0,0,0,0,0,0,0,0,0,0,0,0,null,null,0,0,1,0,0,0,1,0,1,0,0,""]
["",2202,93,{"$f":"IF(ISNA(VLOOKUP(C119,Master!AQ$61:BC$286,3,FALSE)),\"\",VLOOKUP(C119,Master!AQ$61:BC$286,3,FALSE))","v":""},{"$f":"IF(ISNA(VLOOKUP(C119,Master!AQ$61:BC$286,7,FALSE)),\"\",VLOOKUP(C119,Master!AQ$61:BC$286,7,FALSE))","v":""},{"$f":"IF(ISNA(VLOOKUP(C119,Master!AQ$61:BC$286,8,FALSE)),\"\",VLOOKUP(C119,Master!AQ$61:BC$286,8,FALSE))","v":""},{"$f":"IF(ISNA(VLOOKUP(C119,Master!AQ$61:BC$286,4,FALSE)),\"\",VLOOKUP(C119,Master!AQ$61:BC$286,4,FALSE))","v":""},{"$f":"IF(ISNA(VLOOKUP(C119,Master!AQ$61:BC$286,5,FALSE)),\"\",VLOOKUP(C119,Master!AQ$61:BC$286,5,FALSE))","v":""},{"$f":"IF(ISNA(VLOOKUP(C119,Master!AQ$61:BC$286,6,FALSE)),\"\",VLOOKUP(C119,Master!AQ$61:BC$286,6,FALSE))","v":""},"","","","","",{"$f":"IF(ISNA(VLOOKUP(C119,Master!AQ$61:BC$286,12,FALSE)),\"\",VLOOKUP(C119,Master!AQ$61:BC$286,12,FALSE))","v":""},{"$nulls":4},0,1,{"$f":"IF(ISNA(VLOOKUP(C119,Master!AQ$61:BC$286,10,FALSE)),\"\",VLOOKUP(C119,Master!AQ$61:BC$286,10,FALSE))","v":""},null,null,{"$f":"IF(ISNA(VLOOKUP(C119,Master!AQ$61:BC$286,11,FALSE)),\"\",VLOOKUP(C119,Master!AQ$61:BC$286,11,FALSE))","v":""},{"$f":"IF(ISNA(VLOOKUP(C119,Master!AQ$61:BC$286,9,FALSE)),\"\",VLOOKUP(C119,Master!AQ$61:BC$286,9,FALSE))","v":""},0,0,0,0,0,0,"","","","","","",0,0,"",0,0,0,0,0,0,0,null,null,0,0,0,0,0,0,0,0,0,0,0,0,0,0,0,0,null,null,0,0,1,0,0,0,1,0,1,0,0,""]
["",2202,94,{"$f":"IF(ISNA(VLOOKUP(C120,Master!AQ$61:BC$286,3,FALSE)),\"\",VLOOKUP(C120,Master!AQ$61:BC$286,3,FALSE))","v":""},{"$f":"IF(ISNA(VLOOKUP(C120,Master!AQ$61:BC$286,7,FALSE)),\"\",VLOOKUP(C120,Master!AQ$61:BC$286,7,FALSE))","v":""},{"$f":"IF(ISNA(VLOOKUP(C120,Master!AQ$61:BC$286,8,FALSE)),\"\",VLOOKUP(C120,Master!AQ$61:BC$286,8,FALSE))","v":""},{"$f":"IF(ISNA(VLOOKUP(C120,Master!AQ$61:BC$286,4,FALSE)),\"\",VLOOKUP(C120,Master!AQ$61:BC$286,4,FALSE))","v":""},{"$f":"IF(ISNA(VLOOKUP(C120,Master!AQ$61:BC$286,5,FALSE)),\"\",VLOOKUP(C120,Master!AQ$61:BC$286,5,FALSE))","v":""},{"$f":"IF(ISNA(VLOOKUP(C120,Master!AQ$61:BC$286,6,FALSE)),\"\",VLOOKUP(C120,Master!AQ$61:BC$286,6,FALSE))","v":""},"","","","","",{"$f":"IF(ISNA(VLOOKUP(C120,Master!AQ$61:BC$286,12,FALSE)),\"\",VLOOKUP(C120,Master!AQ$61:BC$286,12,FALSE))","v":""},{"$nulls":4},0,1,{"$f":"IF(ISNA(VLOOKUP(C120,Master!AQ$61:BC$286,10,FALSE)),\"\",VLOOKUP(C120,Master!AQ$61:BC$286,10,FALSE))","v":""},null,null,{"$f":"IF(ISNA(VLOOKUP(C120,Master!AQ$61:BC$286,11,FALSE)),\"\",VLOOKUP(C120,Master!AQ$61:BC$286,11,FALSE))","v":""},{"$f":"IF(ISNA(VLOOKUP(C120,Master!AQ$61:BC$286,9,FALSE)),\"\",VLOOKUP(C120,Master!AQ$61:BC$286,9,FALSE))","v":""},0,0,0,0,0,0,"","","","","","",0,0,"",0,0,0,0,0,0,0,null,null,0,0,0,0,0,0,0,0,0,0,0,0,0,0,0,0,null,null,0,0,1,0,0,0,1,0,1,0,0,""]
["",2202,95,{"$f":"IF(ISNA(VLOOKUP(C121,Master!AQ$61:BC$286,3,FALSE)),\"\",VLOOKUP(C121,Master!AQ$61:BC$286,3,FALSE))","v":""},{"$f":"IF(ISNA(VLOOKUP(C121,Master!AQ$61:BC$286,7,FALSE)),\"\",VLOOKUP(C121,Master!AQ$61:BC$286,7,FALSE))","v":""},{"$f":"IF(ISNA(VLOOKUP(C121,Master!AQ$61:BC$286,8,FALSE)),\"\",VLOOKUP(C121,Master!AQ$61:BC$286,8,FALSE))","v":""},{"$f":"IF(ISNA(VLOOKUP(C121,Master!AQ$61:BC$286,4,FALSE)),\"\",VLOOKUP(C121,Master!AQ$61:BC$286,4,FALSE))","v":""},{"$f":"IF(ISNA(VLOOKUP(C121,Master!AQ$61:BC$286,5,FALSE)),\"\",VLOOKUP(C121,Master!AQ$61:BC$286,5,FALSE))","v":""},{"$f":"IF(ISNA(VLOOKUP(C121,Master!AQ$61:BC$286,6,FALSE)),\"\",VLOOKUP(C121,Master!AQ$61:BC$286,6,FALSE))","v":""},"","","","","",{"$f":"IF(ISNA(VLOOKUP(C121,Master!AQ$61:BC$286,12,FALSE)),\"\",VLOOKUP(C121,Master!AQ$61:BC$286,12,FALSE))","v":""},{"$nulls":4},0,1,{"$f":"IF(ISNA(VLOOKUP(C121,Master!AQ$61:BC$286,10,FALSE)),\"\",VLOOKUP(C121,Master!AQ$61:BC$286,10,FALSE))","v":""},null,null,{"$f":"IF(ISNA(VLOOKUP(C121,Master!AQ$61:BC$286,11,FALSE)),\"\",VLOOKUP(C121,Master!AQ$61:BC$286,11,FALSE))","v":""},{"$f":"IF(ISNA(VLOOKUP(C121,Master!AQ$61:BC$286,9,FALSE)),\"\",VLOOKUP(C121,Master!AQ$61:BC$286,9,FALSE))","v":""},0,0,0,0,0,0,"","","","","","",0,0,"",0,0,0,0,0,0,0,null,null,0,0,0,0,0,0,0,0,0,0,0,0,0,0,0,0,null,null,0,0,1,0,0,0,1,0,1,0,0,""]
["",2202,96,{"$f":"IF(ISNA(VLOOKUP(C122,Master!AQ$61:BC$286,3,FALSE)),\"\",VLOOKUP(C122,Master!AQ$61:BC$286,3,FALSE))","v":""},{"$f":"IF(ISNA(VLOOKUP(C122,Master!AQ$61:BC$286,7,FALSE)),\"\",VLOOKUP(C122,Master!AQ$61:BC$286,7,FALSE))","v":""},{"$f":"IF(ISNA(VLOOKUP(C122,Master!AQ$61:BC$286,8,FALSE)),\"\",VLOOKUP(C122,Master!AQ$61:BC$286,8,FALSE))","v":""},{"$f":"IF(ISNA(VLOOKUP(C122,Master!AQ$61:BC$286,4,FALSE)),\"\",VLOOKUP(C122,Master!AQ$61:BC$286,4,FALSE))","v":""},{"$f":"IF(ISNA(VLOOKUP(C122,Master!AQ$61:BC$286,5,FALSE)),\"\",VLOOKUP(C122,Master!AQ$61:BC$286,5,FALSE))","v":""},{"$f":"IF(ISNA(VLOOKUP(C122,Master!AQ$61:BC$286,6,FALSE)),\"\",VLOOKUP(C122,Master!AQ$61:BC$286,6,FALSE))","v":""},"","","","","",{"$f":"IF(ISNA(VLOOKUP(C122,Master!AQ$61:BC$286,12,FALSE)),\"\",VLOOKUP(C122,Master!AQ$61:BC$286,12,FALSE))","v":""},{"$nulls":4},0,1,{"$f":"IF(ISNA(VLOOKUP(C122,Master!AQ$61:BC$286,10,FALSE)),\"\",VLOOKUP(C122,Master!AQ$61:BC$286,10,FALSE))","v":""},null,null,{"$f":"IF(ISNA(VLOOKUP(C122,Master!AQ$61:BC$286,11,FALSE)),\"\",VLOOKUP(C122,Master!AQ$61:BC$286,11,FALSE))","v":""},{"$f":"IF(ISNA(VLOOKUP(C122,Master!AQ$61:BC$286,9,FALSE)),\"\",VLOOKUP(C122,Master!AQ$61:BC$286,9,FALSE))","v":""},0,0,0,0,0,0,"","","","","","",0,0,"",0,0,0,0,0,0,0,null,null,0,0,0,0,0,0,0,0,0,0,0,0,0,0,0,0,null,null,0,0,1,0,0,0,1,0,1,0,0,""]
["",2202,97,{"$f":"IF(ISNA(VLOOKUP(C123,Master!AQ$61:BC$286,3,FALSE)),\"\",VLOOKUP(C123,Master!AQ$61:BC$286,3,FALSE))","v":""},{"$f":"IF(ISNA(VLOOKUP(C123,Master!AQ$61:BC$286,7,FALSE)),\"\",VLOOKUP(C123,Master!AQ$61:BC$286,7,FALSE))","v":""},{"$f":"IF(ISNA(VLOOKUP(C123,Master!AQ$61:BC$286,8,FALSE)),\"\",VLOOKUP(C123,Master!AQ$61:BC$286,8,FALSE))","v":""},{"$f":"IF(ISNA(VLOOKUP(C123,Master!AQ$61:BC$286,4,FALSE)),\"\",VLOOKUP(C123,Master!AQ$61:BC$286,4,FALSE))","v":""},{"$f":"IF(ISNA(VLOOKUP(C123,Master!AQ$61:BC$286,5,FALSE)),\"\",VLOOKUP(C123,Master!AQ$61:BC$286,5,FALSE))","v":""},{"$f":"IF(ISNA(VLOOKUP(C123,Master!AQ$61:BC$286,6,FALSE)),\"\",VLOOKUP(C123,Master!AQ$61:BC$286,6,FALSE))","v":""},"","","","","",{"$f":"IF(ISNA(VLOOKUP(C123,Master!AQ$61:BC$286,12,FALSE)),\"\",VLOOKUP(C123,Master!AQ$61:BC$286,12,FALSE))","v":""},{"$nulls":4},0,1,{"$f":"IF(ISNA(VLOOKUP(C123,Master!AQ$61:BC$286,10,FALSE)),\"\",VLOOKUP(C123,Master!AQ$61:BC$286,10,FALSE))","v":""},null,null,{"$f":"IF(ISNA(VLOOKUP(C123,Master!AQ$61:BC$286,11,FALSE)),\"\",VLOOKUP(C123,Master!AQ$61:BC$286,11,FALSE))","v":""},{"$f":"IF(ISNA(VLOOKUP(C123,Master!AQ$61:BC$286,9,FALSE)),\"\",VLOOKUP(C123,Master!AQ$61:BC$286,9,FALSE))","v":""},0,0,0,0,0,0,"","","","","","",0,0,"",0,0,0,0,0,0,0,null,null,0,0,0,0,0,0,0,0,0,0,0,0,0,0,0,0,null,null,0,0,1,0,0,0,1,{"$f":"IF((ROUND((SUMPRODUCT(MID(0&E123,LARGE(INDEX(ISNUMBER(--MID(E123,ROW($1:$25),1))* ROW($1:$25),0),ROW($1:$25))+1,1)*10^ROW($1:$25)/10)),-8)/100000000)>=2004,1,0)","v":0},1,0,0,{"$f":"IF(AND(E123=\"\"),\"\",IF(AND(E123<=0),\"\",IF((ROUND((SUMPRODUCT(MID(0&E123,LARGE(INDEX(ISNUMBER(--MID(E123,ROW($1:$70),1))* ROW($1:$70),0),ROW($1:$70))+1,1)*10^ROW($1:$70)/10)),-8)/100000000)<2004,1,0)))","v":""}]
["",2202,98,{"$f":"IF(ISNA(VLOOKUP(C124,Master!AQ$61:BC$286,3,FALSE)),\"\",VLOOKUP(C124,Master!AQ$61:BC$286,3,FALSE))","v":""},{"$f":"IF(ISNA(VLOOKUP(C124,Master!AQ$61:BC$286,7,FALSE)),\"\",VLOOKUP(C124,Master!AQ$61:BC$286,7,FALSE))","v":""},{"$f":"IF(ISNA(VLOOKUP(C124,Master!AQ$61:BC$286,8,FALSE)),\"\",VLOOKUP(C124,Master!AQ$61:BC$286,8,FALSE))","v":""},{"$f":"IF(ISNA(VLOOKUP(C124,Master!AQ$61:BC$286,4,FALSE)),\"\",VLOOKUP(C124,Master!AQ$61:BC$286,4,FALSE))","v":""},{"$f":"IF(ISNA(VLOOKUP(C124,Master!AQ$61:BC$286,5,FALSE)),\"\",VLOOKUP(C124,Master!AQ$61:BC$286,5,FALSE))","v":""},{"$f":"IF(ISNA(VLOOKUP(C124,Master!AQ$61:BC$286,6,FALSE)),\"\",VLOOKUP(C124,Master!AQ$61:BC$286,6,FALSE))","v":""},"","","","","",{"$f":"IF(ISNA(VLOOKUP(C124,Master!AQ$61:BC$286,12,FALSE)),\"\",VLOOKUP(C124,Master!AQ$61:BC$286,12,FALSE))","v":""},{"$nulls":4},0,1,{"$f":"IF(ISNA(VLOOKUP(C124,Master!AQ$61:BC$286,10,FALSE)),\"\",VLOOKUP(C124,Master!AQ$61:BC$286,10,FALSE))","v":""},null,null,{"$f":"IF(ISNA(VLOOKUP(C124,Master!AQ$61:BC$286,11,FALSE)),\"\",VLOOKUP(C124,Master!AQ$61:BC$286,11,FALSE))","v":""},{"$f":"IF(ISNA(VLOOKUP(C124,Master!AQ$61:BC$286,9,FALSE)),\"\",VLOOKUP(C124,Master!AQ$61:BC$286,9,FALSE))","v":""},0,0,0,0,0,0,"","","","","","",0,0,"",0,0,0,0,0,0,0,null,null,0,0,0,0,0,0,0,0,0,0,0,0,0,0,0,0,null,null,0,0,1,0,0,0,1,0,1,0,0,""]
["",2202,99,{"$f":"IF(ISNA(VLOOKUP(C125,Master!AQ$61:BC$286,3,FALSE)),\"\",VLOOKUP(C125,Master!AQ$61:BC$286,3,FALSE))","v":""},{"$f":"IF(ISNA(VLOOKUP(C125,Master!AQ$61:BC$286,7,FALSE)),\"\",VLOOKUP(C125,Master!AQ$61:BC$286,7,FALSE))","v":""},{"$f":"IF(ISNA(VLOOKUP(C125,Master!AQ$61:BC$286,8,FALSE)),\"\",VLOOKUP(C125,Master!AQ$61:BC$286,8,FALSE))","v":""},{"$f":"IF(ISNA(VLOOKUP(C125,Master!AQ$61:BC$286,4,FALSE)),\"\",VLOOKUP(C125,Master!AQ$61:BC$286,4,FALSE))","v":""},{"$f":"IF(ISNA(VLOOKUP(C125,Master!AQ$61:BC$286,5,FALSE)),\"\",VLOOKUP(C125,Master!AQ$61:BC$286,5,FALSE))","v":""},{"$f":"IF(ISNA(VLOOKUP(C125,Master!AQ$61:BC$286,6,FALSE)),\"\",VLOOKUP(C125,Master!AQ$61:BC$286,6,FALSE))","v":""},"","","","","",{"$f":"IF(ISNA(VLOOKUP(C125,Master!AQ$61:BC$286,12,FALSE)),\"\",VLOOKUP(C125,Master!AQ$61:BC$286,12,FALSE))","v":""},{"$nulls":4},0,1,{"$f":"IF(ISNA(VLOOKUP(C125,Master!AQ$61:BC$286,10,FALSE)),\"\",VLOOKUP(C125,Master!AQ$61:BC$286,10,FALSE))","v":""},null,null,{"$f":"IF(ISNA(VLOOKUP(C125,Master!AQ$61:BC$286,11,FALSE)),\"\",VLOOKUP(C125,Master!AQ$61:BC$286,11,FALSE))","v":""},{"$f":"IF(ISNA(VLOOKUP(C125,Master!AQ$61:BC$286,9,FALSE)),\"\",VLOOKUP(C125,Master!AQ$61:BC$286,9,FALSE))","v":""},0,0,0,0,0,0,"","","","","","",0,0,"",0,0,0,0,0,0,0,null,null,0,0,0,0,0,0,0,0,0,0,0,0,0,0,0,0,null,null,0,0,1,0,0,0,1,0,1,0,0,""]
["",2202,100,{"$f":"IF(ISNA(VLOOKUP(C126,Master!AQ$61:BC$286,3,FALSE)),\"\",VLOOKUP(C126,Master!AQ$61:BC$286,3,FALSE))","v":""},{"$f":"IF(ISNA(VLOOKUP(C126,Master!AQ$61:BC$286,7,FALSE)),\"\",VLOOKUP(C126,Master!AQ$61:BC$286,7,FALSE))","v":""},{"$f":"IF(ISNA(VLOOKUP(C126,Master!AQ$61:BC$286,8,FALSE)),\"\",VLOOKUP(C126,Master!AQ$61:BC$286,8,FALSE))","v":""},{"$f":"IF(ISNA(VLOOKUP(C126,Master!AQ$61:BC$286,4,FALSE)),\"\",VLOOKUP(C126,Master!AQ$61:BC$286,4,FALSE))","v":""},{"$f":"IF(ISNA(VLOOKUP(C126,Master!AQ$61:BC$286,5,FALSE)),\"\",VLOOKUP(C126,Master!AQ$61:BC$286,5,FALSE))","v":""},{"$f":"IF(ISNA(VLOOKUP(C126,Master!AQ$61:BC$286,6,FALSE)),\"\",VLOOKUP(C126,Master!AQ$61:BC$286,6,FALSE))","v":""},"","","","","",{"$f":"IF(ISNA(VLOOKUP(C126,Master!AQ$61:BC$286,12,FALSE)),\"\",VLOOKUP(C126,Master!AQ$61:BC$286,12,FALSE))","v":""},{"$nulls":4},0,1,{"$f":"IF(ISNA(VLOOKUP(C126,Master!AQ$61:BC$286,10,FALSE)),\"\",VLOOKUP(C126,Master!AQ$61:BC$286,10,FALSE))","v":""},null,null,{"$f":"IF(ISNA(VLOOKUP(C126,Master!AQ$61:BC$286,11,FALSE)),\"\",VLOOKUP(C126,Master!AQ$61:BC$286,11,FALSE))","v":""},{"$f":"IF(ISNA(VLOOKUP(C126,Master!AQ$61:BC$286,9,FALSE)),\"\",VLOOKUP(C126,Master!AQ$61:BC$286,9,FALSE))","v":""},0,0,0,0,0,0,"","","","","","",0,0,"",0,0,0,0,0,0,0,null,null,0,0,0,0,0,0,0,0,0,0,0,0,0,0,0,0,null,null,0,0,1,0,0,0,1,0,1,0,0,""]
["",2202,101,{"$f":"IF(ISNA(VLOOKUP(C127,Master!AQ$61:BC$286,3,FALSE)),\"\",VLOOKUP(C127,Master!AQ$61:BC$286,3,FALSE))","v":""},{"$f":"IF(ISNA(VLOOKUP(C127,Master!AQ$61:BC$286,7,FALSE)),\"\",VLOOKUP(C127,Master!AQ$61:BC$286,7,FALSE))","v":""},{"$f":"IF(ISNA(VLOOKUP(C127,Master!AQ$61:BC$286,8,FALSE)),\"\",VLOOKUP(C127,Master!AQ$61:BC$286,8,FALSE))","v":""},{"$f":"IF(ISNA(VLOOKUP(C127,Master!AQ$61:BC$286,4,FALSE)),\"\",VLOOKUP(C127,Master!AQ$61:BC$286,4,FALSE))","v":""},{"$f":"IF(ISNA(VLOOKUP(C127,Master!AQ$61:BC$286,5,FALSE)),\"\",VLOOKUP(C127,Master!AQ$61:BC$286,5,FALSE))","v":""},{"$f":"IF(ISNA(VLOOKUP(C127,Master!AQ$61:BC$286,6,FALSE)),\"\",VLOOKUP(C127,Master!AQ$61:BC$286,6,FALSE))","v":""},"","","","","",{"$f":"IF(ISNA(VLOOKUP(C127,Master!AQ$61:BC$286,12,FALSE)),\"\",VLOOKUP(C127,Master!AQ$61:BC$286,12,FALSE))","v":""},{"$nulls":4},0,1,{"$f":"IF(ISNA(VLOOKUP(C127,Master!AQ$61:BC$286,10,FALSE)),\"\",VLOOKUP(C127,Master!AQ$61:BC$286,10,FALSE))","v":""},null,null,{"$f":"IF(ISNA(VLOOKUP(C127,Master!AQ$61:BC$286,11,FALSE)),\"\",VLOOKUP(C127,Master!AQ$61:BC$286,11,FALSE))","v":""},{"$f":"IF(ISNA(VLOOKUP(C127,Master!AQ$61:BC$286,9,FALSE)),\"\",VLOOKUP(C127,Master!AQ$61:BC$286,9,FALSE))","v":""},0,0,0,0,0,0,"","","","","","",0,0,"",0,0,0,0,0,0,0,null,null,0,0,0,0,0,0,0,0,0,0,0,0,0,0,0,0,null,null,0,0,1,0,0,0,1,0,1,0,0,""]
["",2202,102,{"$f":"IF(ISNA(VLOOKUP(C128,Master!AQ$61:BC$286,3,FALSE)),\"\",VLOOKUP(C128,Master!AQ$61:BC$286,3,FALSE))","v":""},{"$f":"IF(ISNA(VLOOKUP(C128,Master!AQ$61:BC$286,7,FALSE)),\"\",VLOOKUP(C128,Master!AQ$61:BC$286,7,FALSE))","v":""},{"$f":"IF(ISNA(VLOOKUP(C128,Master!AQ$61:BC$286,8,FALSE)),\"\",VLOOKUP(C128,Master!AQ$61:BC$286,8,FALSE))","v":""},{"$f":"IF(ISNA(VLOOKUP(C128,Master!AQ$61:BC$286,4,FALSE)),\"\",VLOOKUP(C128,Master!AQ$61:BC$286,4,FALSE))","v":""},{"$f":"IF(ISNA(VLOOKUP(C128,Master!AQ$61:BC$286,5,FALSE)),\"\",VLOOKUP(C128,Master!AQ$61:BC$286,5,FALSE))","v":""},{"$f":"IF(ISNA(VLOOKUP(C128,Master!AQ$61:BC$286,6,FALSE)),\"\",VLOOKUP(C128,Master!AQ$61:BC$286,6,FALSE))","v":""},"","","","","",{"$f":"IF(ISNA(VLOOKUP(C128,Master!AQ$61:BC$286,12,FALSE)),\"\",VLOOKUP(C128,Master!AQ$61:BC$286,12,FALSE))","v":""},{"$nulls":4},0,1,{"$f":"IF(ISNA(VLOOKUP(C128,Master!AQ$61:BC$286,10,FALSE)),\"\",VLOOKUP(C128,Master!AQ$61:BC$286,10,FALSE))","v":""},null,null,{"$f":"IF(ISNA(VLOOKUP(C128,Master!AQ$61:BC$286,11,FALSE)),\"\",VLOOKUP(C128,Master!AQ$61:BC$286,11,FALSE))","v":""},{"$f":"IF(ISNA(VLOOKUP(C128,Master!AQ$61:BC$286,9,FALSE)),\"\",VLOOKUP(C128,Master!AQ$61:BC$286,9,FALSE))","v":""},0,0,0,0,0,0,"","","","","","",0,0,"",0,0,0,0,0,0,0,null,null,0,0,0,0,0,0,0,0,0,0,0,0,0,0,0,0,null,null,0,0,1,0,0,0,1,0,1,0,0,""]
["",2202,103,{"$f":"IF(ISNA(VLOOKUP(C129,Master!AQ$61:BC$286,3,FALSE)),\"\",VLOOKUP(C129,Master!AQ$61:BC$286,3,FALSE))","v":""},{"$f":"IF(ISNA(VLOOKUP(C129,Master!AQ$61:BC$286,7,FALSE)),\"\",VLOOKUP(C129,Master!AQ$61:BC$286,7,FALSE))","v":""},{"$f":"IF(ISNA(VLOOKUP(C129,Master!AQ$61:BC$286,8,FALSE)),\"\",VLOOKUP(C129,Master!AQ$61:BC$286,8,FALSE))","v":""},{"$f":"IF(ISNA(VLOOKUP(C129,Master!AQ$61:BC$286,4,FALSE)),\"\",VLOOKUP(C129,Master!AQ$61:BC$286,4,FALSE))","v":""},{"$f":"IF(ISNA(VLOOKUP(C129,Master!AQ$61:BC$286,5,FALSE)),\"\",VLOOKUP(C129,Master!AQ$61:BC$286,5,FALSE))","v":""},{"$f":"IF(ISNA(VLOOKUP(C129,Master!AQ$61:BC$286,6,FALSE)),\"\",VLOOKUP(C129,Master!AQ$61:BC$286,6,FALSE))","v":""},"","","","","",{"$f":"IF(ISNA(VLOOKUP(C129,Master!AQ$61:BC$286,12,FALSE)),\"\",VLOOKUP(C129,Master!AQ$61:BC$286,12,FALSE))","v":""},{"$nulls":4},0,1,{"$f":"IF(ISNA(VLOOKUP(C129,Master!AQ$61:BC$108,10,FALSE)),\"\",VLOOKUP(C129,Master!AQ$61:BC$108,10,FALSE))","v":""},null,null,{"$f":"IF(ISNA(VLOOKUP(C129,Master!AQ$61:BC$108,11,FALSE)),\"\",VLOOKUP(C129,Master!AQ$61:BC$108,11,FALSE))","v":""},{"$f":"IF(ISNA(VLOOKUP(C129,Master!AQ$61:BC$108,9,FALSE)),\"\",VLOOKUP(C129,Master!AQ$61:BC$108,9,FALSE))","v":""},{"$f":"IF(Z129=\"MALE\",1,0)*(IF(G129=\"JAMADAR\",1,0))*(IF(I129<=0,0,1))","v":0},{"$f":"IF(Z129=\"FEMALE\",1,0)*(IF(G129=\"JAMADAR\",1,0))*(IF(I129<=0,0,1))","v":0},{"$f":"IF(Z129=\"MALE\",1,0)*(IF(G129=\"LAB BOY\",1,0))*(IF(I129<=0,0,1))","v":0},{"$f":"IF(Z129=\"FEMALE\",1,0)*(IF(G129=\"LAB BOY\",1,0))*(IF(I129<=0,0,1))","v":0},{"$f":"IF(Z129=\"MALE\",1,0)*(IF(G129=\"PEON\",1,0))*(IF(I129<=0,0,1))","v":0},{"$f":"IF(Z129=\"FEMALE\",1,0)*(IF(G129=\"PEON\",1,0))*(IF(I129<=0,0,1))","v":0},{"$f":"IF(AND(I129=\"\"),\"\",I129-ROUNDUP(ROUND((I129*3%)-(I129*3%)*2.9%,-2),0))","v":""},"","","","","",0,0,"",0,0,0,0,0,0,0,null,null,0,0,0,0,0,0,0,0,0,0,0,0,0,0,0,0,null,null,0,0,1,0,0,0,1,0,1,0,0,""]
["",2202,104,{"$f":"IF(ISNA(VLOOKUP(C130,Master!AQ$61:BC$286,3,FALSE)),\"\",VLOOKUP(C130,Master!AQ$61:BC$286,3,FALSE))","v":""},{"$f":"IF(ISNA(VLOOKUP(C130,Master!AQ$61:BC$286,7,FALSE)),\"\",VLOOKUP(C130,Master!AQ$61:BC$286,7,FALSE))","v":""},{"$f":"IF(ISNA(VLOOKUP(C130,Master!AQ$61:BC$286,8,FALSE)),\"\",VLOOKUP(C130,Master!AQ$61:BC$286,8,FALSE))","v":""},{"$f":"IF(ISNA(VLOOKUP(C130,Master!AQ$61:BC$286,4,FALSE)),\"\",VLOOKUP(C130,Master!AQ$61:BC$286,4,FALSE))","v":""},{"$f":"IF(ISNA(VLOOKUP(C130,Master!AQ$61:BC$286,5,FALSE)),\"\",VLOOKUP(C130,Master!AQ$61:BC$286,5,FALSE))","v":""},{"$f":"IF(ISNA(VLOOKUP(C130,Master!AQ$61:BC$286,6,FALSE)),\"\",VLOOKUP(C130,Master!AQ$61:BC$286,6,FALSE))","v":""},"","","","","",{"$f":"IF(ISNA(VLOOKUP(C130,Master!AQ$61:BC$286,12,FALSE)),\"\",VLOOKUP(C130,Master!AQ$61:BC$286,12,FALSE))","v":""},{"$nulls":4},0,1,{"$f":"IF(ISNA(VLOOKUP(C130,Master!AQ$61:BC$108,10,FALSE)),\"\",VLOOKUP(C130,Master!AQ$61:BC$108,10,FALSE))","v":""},null,null,{"$f":"IF(ISNA(VLOOKUP(C130,Master!AQ$61:BC$108,11,FALSE)),\"\",VLOOKUP(C130,Master!AQ$61:BC$108,11,FALSE))","v":""},{"$f":"IF(ISNA(VLOOKUP(C130,Master!AQ$61:BC$108,9,FALSE)),\"\",VLOOKUP(C130,Master!AQ$61:BC$108,9,FALSE))","v":""},0,0,0,0,0,0,"","","","","","",0,0,"",0,0,0,0,0,0,0,null,null,0,0,0,0,0,0,0,0,0,0,0,0,0,0,0,0,null,null,0,0,1,0,0,0,1,0,1,0,0,""]
["",2202,105,{"$f":"IF(ISNA(VLOOKUP(C131,Master!AQ$61:BC$286,3,FALSE)),\"\",VLOOKUP(C131,Master!AQ$61:BC$286,3,FALSE))","v":""},{"$f":"IF(ISNA(VLOOKUP(C131,Master!AQ$61:BC$286,7,FALSE)),\"\",VLOOKUP(C131,Master!AQ$61:BC$286,7,FALSE))","v":""},{"$f":"IF(ISNA(VLOOKUP(C131,Master!AQ$61:BC$286,8,FALSE)),\"\",VLOOKUP(C131,Master!AQ$61:BC$286,8,FALSE))","v":""},{"$f":"IF(ISNA(VLOOKUP(C131,Master!AQ$61:BC$286,4,FALSE)),\"\",VLOOKUP(C131,Master!AQ$61:BC$286,4,FALSE))","v":""},{"$f":"IF(ISNA(VLOOKUP(C131,Master!AQ$61:BC$286,5,FALSE)),\"\",VLOOKUP(C131,Master!AQ$61:BC$286,5,FALSE))","v":""},{"$f":"IF(ISNA(VLOOKUP(C131,Master!AQ$61:BC$286,6,FALSE)),\"\",VLOOKUP(C131,Master!AQ$61:BC$286,6,FALSE))","v":""},"","","","","",{"$f":"IF(ISNA(VLOOKUP(C131,Master!AQ$61:BC$286,12,FALSE)),\"\",VLOOKUP(C131,Master!AQ$61:BC$286,12,FALSE))","v":""},{"$nulls":4},0,1,{"$f":"IF(ISNA(VLOOKUP(C131,Master!AQ$61:BC$108,10,FALSE)),\"\",VLOOKUP(C131,Master!AQ$61:BC$108,10,FALSE))","v":""},null,null,{"$f":"IF(ISNA(VLOOKUP(C131,Master!AQ$61:BC$108,11,FALSE)),\"\",VLOOKUP(C131,Master!AQ$61:BC$108,11,FALSE))","v":""},{"$f":"IF(ISNA(VLOOKUP(C131,Master!AQ$61:BC$108,9,FALSE)),\"\",VLOOKUP(C131,Master!AQ$61:BC$108,9,FALSE))","v":""},0,0,0,0,0,0,"","","","","","",0,0,"",0,0,0,0,0,0,0,null,null,0,0,0,0,0,0,0,0,0,0,0,0,0,0,0,0,null,null,0,0,1,0,0,0,1,0,1,0,0,""]
["",2202,106,{"$f":"IF(ISNA(VLOOKUP(C132,Master!AQ$61:BC$286,3,FALSE)),\"\",VLOOKUP(C132,Master!AQ$61:BC$286,3,FALSE))","v":""},{"$f":"IF(ISNA(VLOOKUP(C132,Master!AQ$61:BC$286,7,FALSE)),\"\",VLOOKUP(C132,Master!AQ$61:BC$286,7,FALSE))","v":""},{"$f":"IF(ISNA(VLOOKUP(C132,Master!AQ$61:BC$286,8,FALSE)),\"\",VLOOKUP(C132,Master!AQ$61:BC$286,8,FALSE))","v":""},{"$f":"IF(ISNA(VLOOKUP(C132,Master!AQ$61:BC$286,4,FALSE)),\"\",VLOOKUP(C132,Master!AQ$61:BC$286,4,FALSE))","v":""},{"$f":"IF(ISNA(VLOOKUP(C132,Master!AQ$61:BC$286,5,FALSE)),\"\",VLOOKUP(C132,Master!AQ$61:BC$286,5,FALSE))","v":""},{"$f":"IF(ISNA(VLOOKUP(C132,Master!AQ$61:BC$286,6,FALSE)),\"\",VLOOKUP(C132,Master!AQ$61:BC$286,6,FALSE))","v":""},"","","","","",{"$f":"IF(ISNA(VLOOKUP(C132,Master!AQ$61:BC$286,12,FALSE)),\"\",VLOOKUP(C132,Master!AQ$61:BC$286,12,FALSE))","v":""},{"$nulls":4},0,1,{"$f":"IF(ISNA(VLOOKUP(C132,Master!AQ$61:BC$108,10,FALSE)),\"\",VLOOKUP(C132,Master!AQ$61:BC$108,10,FALSE))","v":""},null,null,{"$f":"IF(ISNA(VLOOKUP(C132,Master!AQ$61:BC$108,11,FALSE)),\"\",VLOOKUP(C132,Master!AQ$61:BC$108,11,FALSE))","v":""},{"$f":"IF(ISNA(VLOOKUP(C132,Master!AQ$61:BC$108,9,FALSE)),\"\",VLOOKUP(C132,Master!AQ$61:BC$108,9,FALSE))","v":""},0,0,0,0,0,0,"","","","","","",0,0,"",0,0,0,0,0,0,0,null,null,0,0,0,0,0,0,0,0,0,0,0,0,0,0,0,0,null,null,0,0,1,0,0,0,1,0,1,0,0,""]
["",2202,107,{"$f":"IF(ISNA(VLOOKUP(C133,Master!AQ$61:BC$286,3,FALSE)),\"\",VLOOKUP(C133,Master!AQ$61:BC$286,3,FALSE))","v":""},{"$f":"IF(ISNA(VLOOKUP(C133,Master!AQ$61:BC$286,7,FALSE)),\"\",VLOOKUP(C133,Master!AQ$61:BC$286,7,FALSE))","v":""},{"$f":"IF(ISNA(VLOOKUP(C133,Master!AQ$61:BC$286,8,FALSE)),\"\",VLOOKUP(C133,Master!AQ$61:BC$286,8,FALSE))","v":""},{"$f":"IF(ISNA(VLOOKUP(C133,Master!AQ$61:BC$286,4,FALSE)),\"\",VLOOKUP(C133,Master!AQ$61:BC$286,4,FALSE))","v":""},{"$f":"IF(ISNA(VLOOKUP(C133,Master!AQ$61:BC$286,5,FALSE)),\"\",VLOOKUP(C133,Master!AQ$61:BC$286,5,FALSE))","v":""},{"$f":"IF(ISNA(VLOOKUP(C133,Master!AQ$61:BC$286,6,FALSE)),\"\",VLOOKUP(C133,Master!AQ$61:BC$286,6,FALSE))","v":""},"","","","","",{"$f":"IF(ISNA(VLOOKUP(C133,Master!AQ$61:BC$286,12,FALSE)),\"\",VLOOKUP(C133,Master!AQ$61:BC$286,12,FALSE))","v":""},{"$nulls":4},0,1,{"$f":"IF(ISNA(VLOOKUP(C133,Master!AQ$61:BC$108,10,FALSE)),\"\",VLOOKUP(C133,Master!AQ$61:BC$108,10,FALSE))","v":""},null,null,{"$f":"IF(ISNA(VLOOKUP(C133,Master!AQ$61:BC$108,11,FALSE)),\"\",VLOOKUP(C133,Master!AQ$61:BC$108,11,FALSE))","v":""},{"$f":"IF(ISNA(VLOOKUP(C133,Master!AQ$61:BC$108,9,FALSE)),\"\",VLOOKUP(C133,Master!AQ$61:BC$108,9,FALSE))","v":""},0,0,0,0,0,0,"","","","","","",0,0,"",0,0,0,0,0,0,0,null,null,0,0,0,0,0,0,0,0,0,0,0,0,0,0,0,0,null,null,0,0,1,0,0,0,1,0,1,0,0,""]
["",2202,108,{"$f":"IF(ISNA(VLOOKUP(C134,Master!AQ$61:BC$286,3,FALSE)),\"\",VLOOKUP(C134,Master!AQ$61:BC$286,3,FALSE))","v":""},{"$f":"IF(ISNA(VLOOKUP(C134,Master!AQ$61:BC$286,7,FALSE)),\"\",VLOOKUP(C134,Master!AQ$61:BC$286,7,FALSE))","v":""},{"$f":"IF(ISNA(VLOOKUP(C134,Master!AQ$61:BC$286,8,FALSE)),\"\",VLOOKUP(C134,Master!AQ$61:BC$286,8,FALSE))","v":""},{"$f":"IF(ISNA(VLOOKUP(C134,Master!AQ$61:BC$286,4,FALSE)),\"\",VLOOKUP(C134,Master!AQ$61:BC$286,4,FALSE))","v":""},{"$f":"IF(ISNA(VLOOKUP(C134,Master!AQ$61:BC$286,5,FALSE)),\"\",VLOOKUP(C134,Master!AQ$61:BC$286,5,FALSE))","v":""},{"$f":"IF(ISNA(VLOOKUP(C134,Master!AQ$61:BC$286,6,FALSE)),\"\",VLOOKUP(C134,Master!AQ$61:BC$286,6,FALSE))","v":""},"","","","","",{"$f":"IF(ISNA(VLOOKUP(C134,Master!AQ$61:BC$286,12,FALSE)),\"\",VLOOKUP(C134,Master!AQ$61:BC$286,12,FALSE))","v":""},{"$nulls":4},0,1,{"$f":"IF(ISNA(VLOOKUP(C134,Master!AQ$61:BC$108,10,FALSE)),\"\",VLOOKUP(C134,Master!AQ$61:BC$108,10,FALSE))","v":""},null,null,{"$f":"IF(ISNA(VLOOKUP(C134,Master!AQ$61:BC$108,11,FALSE)),\"\",VLOOKUP(C134,Master!AQ$61:BC$108,11,FALSE))","v":""},{"$f":"IF(ISNA(VLOOKUP(C134,Master!AQ$61:BC$108,9,FALSE)),\"\",VLOOKUP(C134,Master!AQ$61:BC$108,9,FALSE))","v":""},0,0,0,0,0,0,"","","","","","",0,0,"",0,0,0,0,0,0,0,null,null,0,0,0,0,0,0,0,0,0,0,0,0,0,0,0,0,null,null,0,0,1,0,0,0,1,0,1,0,0,""]
["",2202,109,{"$f":"IF(ISNA(VLOOKUP(C135,Master!AQ$61:BC$286,3,FALSE)),\"\",VLOOKUP(C135,Master!AQ$61:BC$286,3,FALSE))","v":""},{"$f":"IF(ISNA(VLOOKUP(C135,Master!AQ$61:BC$286,7,FALSE)),\"\",VLOOKUP(C135,Master!AQ$61:BC$286,7,FALSE))","v":""},{"$f":"IF(ISNA(VLOOKUP(C135,Master!AQ$61:BC$286,8,FALSE)),\"\",VLOOKUP(C135,Master!AQ$61:BC$286,8,FALSE))","v":""},{"$f":"IF(ISNA(VLOOKUP(C135,Master!AQ$61:BC$286,4,FALSE)),\"\",VLOOKUP(C135,Master!AQ$61:BC$286,4,FALSE))","v":""},{"$f":"IF(ISNA(VLOOKUP(C135,Master!AQ$61:BC$286,5,FALSE)),\"\",VLOOKUP(C135,Master!AQ$61:BC$286,5,FALSE))","v":""},{"$f":"IF(ISNA(VLOOKUP(C135,Master!AQ$61:BC$286,6,FALSE)),\"\",VLOOKUP(C135,Master!AQ$61:BC$286,6,FALSE))","v":""},"","","","","",{"$f":"IF(ISNA(VLOOKUP(C135,Master!AQ$61:BC$286,12,FALSE)),\"\",VLOOKUP(C135,Master!AQ$61:BC$286,12,FALSE))","v":""},{"$nulls":4},0,1,{"$f":"IF(ISNA(VLOOKUP(C135,Master!AQ$61:BC$108,10,FALSE)),\"\",VLOOKUP(C135,Master!AQ$61:BC$108,10,FALSE))","v":""},null,null,{"$f":"IF(ISNA(VLOOKUP(C135,Master!AQ$61:BC$108,11,FALSE)),\"\",VLOOKUP(C135,Master!AQ$61:BC$108,11,FALSE))","v":""},{"$f":"IF(ISNA(VLOOKUP(C135,Master!AQ$61:BC$108,9,FALSE)),\"\",VLOOKUP(C135,Master!AQ$61:BC$108,9,FALSE))","v":""},{"$f":"IF(Z135=\"MALE\",1,0)*(IF(G135=\"JAMADAR\",1,0))*(IF(I135<=0,0,1))","v":0},{"$f":"IF(Z135=\"FEMALE\",1,0)*(IF(G135=\"JAMADAR\",1,0))*(IF(I135<=0,0,1))","v":0},{"$f":"IF(Z135=\"MALE\",1,0)*(IF(G135=\"LAB BOY\",1,0))*(IF(I135<=0,0,1))","v":0},{"$f":"IF(Z135=\"FEMALE\",1,0)*(IF(G135=\"LAB BOY\",1,0))*(IF(I135<=0,0,1))","v":0},{"$f":"IF(Z135=\"MALE\",1,0)*(IF(G135=\"PEON\",1,0))*(IF(I135<=0,0,1))","v":0},{"$f":"IF(Z135=\"FEMALE\",1,0)*(IF(G135=\"PEON\",1,0))*(IF(I135<=0,0,1))","v":0},"","","","","","",0,0,"",{"$f":"$G$222*BS135*BV135*(IF(I135<=0,0,1))*(IF(H135<=4800,1,0))","v":0},{"$f":"IF(AND(I135=\"\"),0,ROUND((I135+ROUND(I135*$AL$10,0))/2,0)*(IF(O135=\"FIX PAY\",0,1)))","v":0},{"$f":"IF(G135=\"CLERK GRADE I\",1,IF(G135=\"CLERK GRADE II\",1,0))*75*12*BV135*(IF(I135<=0,0,1))*BW135","v":0},{"$f":"IF(AND(I135=\"\"),0,(IF(G135=\"ASSISTANT\",12,IF(G135=\"CLERK GRADE I\",12,IF(G135=\"CLERK GRADE II\",12,IF(G135=\"FIELDMAN & FIELD REC\",12,IF(G135=\"LAB BOY\",12,IF(G135=\"JAMADAR\",12,IF(G135=\"PEON\",12,10))))))))*(MINA(ROUND(I135*6%,0),600))*(IF($V135=\"yes\",1,0)))","v":0},0,{"$f":"IF(AND(G135=\"\"),0,SUM(AL135:AT135)+AH135+AI135)","v":0},{"$f":"IF(AND(G135=\"\"),0,AU135)","v":0},null,null,0,{"$f":"IF(AND(G135=\"\"),0,N135*BR135)","v":0},{"$f":"IF(AND(G135=\"\"),0,N135*BS135)","v":0},{"$f":"IF(AND(G135=\"\"),0,N135*BT135)","v":0},{"$f":"IF(AND(G135=\"\"),0,N135*BU135)","v":0},0,{"$f":"IF(AND(G135=\"\"),0,ROUND((IF(O135=\"FIX PAY\",0,AG135))*$BE$10*2,0)*BV135)","v":0},0,0,{"$f":"3387*2*BS135*BV135*(IF(I135<=0,0,1))*(IF(H135<=4800,1,0))","v":0},{"$f":"IF(AND(I135=\"\"),0,ROUND((AG135+ROUND(AG135*$AL$10,0))/2,0)*(IF(O135=\"FIX PAY\",0,1)))","v":0},{"$f":"IF(G135=\"CLERK GRADE I\",1,IF(G135=\"CLERK GRADE II\",1,0))*75*12*BV135*(IF(I135<=0,0,1))*BW135","v":0},{"$f":"IF(AND(G135=\"\"),0,(IF(G135=\"ASSISTANT\",12,IF(G135=\"CLERK GRADE I\",12,IF(G135=\"CLERK GRADE II\",12,IF(G135=\"FIELDMAN & FIELD REC\",12,IF(G135=\"LAB BOY\",12,IF(G135=\"JAMADAR\",12,IF(G135=\"PEON\",12,10))))))))*(MINA(ROUND(AG135*6%,0),600))*(IF($V135=\"yes\",1,)))","v":0},{"$f":"(IF(G135=\"LAB BOY\",150,IF(G135=\"JAMADAR\",150,IF(G135=\"PEON\",150,0))))*12*BV135*(IF(I135<=0,0,1))","v":0},0,0,null,null,0,{"$f":"(IF(G135=\"PRINCIPAL\",1,IF(G135=\"H M\",1,IF(G135=\"AGRICULTURE INST\",1,IF(G135=\"TEACHER-1ST\",1,IF(G135=\"PTI  I  (13)\",1,IF(G135=\"AGRICULTURE TEACH\",1,IF(G135=\"INSTRUCTOR\",1,0))))))))+(IF(G135=\"JR TEACHER\",1,IF(G135=\"LIBRARIAN I\",1,0)))*(IF(O135=\"FIX PAY\",0,1))","v":0},{"$f":"IF(BR135<=0,1,0)*(IF(O135=\"FIX PAY\",0,1))","v":1},{"$f":"(IF(G135=\"PRINCIPAL (16)\",1,IF(G135=\"V P (14)\",1,IF(G135=\"H M (14)\",1,IF(G135=\"AGRICULTURE INST (13)\",1,IF(G135=\"TEACHER-1ST (13)\",1,IF(G135=\"PTI  I  (13)\",1,IF(G135=\"AGRICULTURE TEACH (13)\",1,IF(G135=\"INSTRUCTOR (13)\",1,0))))))))+(IF(G135=\"JR TEACHER (13)\",1,IF(G135=\"LIBRARIAN I (13)\",1,0))))*(IF(O135=\"FIX PAY\",1,0))","v":0},{"$f":"IF(BT135<=0,1,0)*(IF(O135=\"FIX PAY\",1,0))","v":0},{"$f":"IF(O135=\"FIX PAY\",1,0)","v":0},1,0,1,{"$f":"IF(O135=\"SANVIDA\",1,0)","v":0},{"$f":"IF(BZ135>0,I135,0)","v":0},""]
["",2202,110,{"$f":"IF(ISNA(VLOOKUP(C136,Master!AQ$61:BC$286,3,FALSE)),\"\",VLOOKUP(C136,Master!AQ$61:BC$286,3,FALSE))","v":""},{"$f":"IF(ISNA(VLOOKUP(C136,Master!AQ$61:BC$286,7,FALSE)),\"\",VLOOKUP(C136,Master!AQ$61:BC$286,7,FALSE))","v":""},{"$f":"IF(ISNA(VLOOKUP(C136,Master!AQ$61:BC$286,8,FALSE)),\"\",VLOOKUP(C136,Master!AQ$61:BC$286,8,FALSE))","v":""},{"$f":"IF(ISNA(VLOOKUP(C136,Master!AQ$61:BC$286,4,FALSE)),\"\",VLOOKUP(C136,Master!AQ$61:BC$286,4,FALSE))","v":""},{"$f":"IF(ISNA(VLOOKUP(C136,Master!AQ$61:BC$286,5,FALSE)),\"\",VLOOKUP(C136,Master!AQ$61:BC$286,5,FALSE))","v":""},{"$f":"IF(ISNA(VLOOKUP(C136,Master!AQ$61:BC$286,6,FALSE)),\"\",VLOOKUP(C136,Master!AQ$61:BC$286,6,FALSE))","v":""},"","","","","",{"$f":"IF(ISNA(VLOOKUP(C136,Master!AQ$61:BC$286,12,FALSE)),\"\",VLOOKUP(C136,Master!AQ$61:BC$286,12,FALSE))","v":""},{"$nulls":4},0,1,{"$f":"IF(ISNA(VLOOKUP(C136,Master!AQ$61:BC$108,10,FALSE)),\"\",VLOOKUP(C136,Master!AQ$61:BC$108,10,FALSE))","v":""},null,null,{"$f":"IF(ISNA(VLOOKUP(C136,Master!AQ$61:BC$108,11,FALSE)),\"\",VLOOKUP(C136,Master!AQ$61:BC$108,11,FALSE))","v":""},{"$f":"IF(ISNA(VLOOKUP(C136,Master!AQ$61:BC$108,9,FALSE)),\"\",VLOOKUP(C136,Master!AQ$61:BC$108,9,FALSE))","v":""},0,0,0,0,0,0,"","","","","","",0,0,"",0,0,0,0,0,0,0,null,null,0,0,0,0,0,0,0,0,0,0,0,0,0,0,0,0,null,null,0,0,1,0,0,0,1,0,1,0,0,""]
["",2202,111,{"$f":"IF(ISNA(VLOOKUP(C137,Master!AQ$61:BC$286,3,FALSE)),\"\",VLOOKUP(C137,Master!AQ$61:BC$286,3,FALSE))","v":""},{"$f":"IF(ISNA(VLOOKUP(C137,Master!AQ$61:BC$286,7,FALSE)),\"\",VLOOKUP(C137,Master!AQ$61:BC$286,7,FALSE))","v":""},{"$f":"IF(ISNA(VLOOKUP(C137,Master!AQ$61:BC$286,8,FALSE)),\"\",VLOOKUP(C137,Master!AQ$61:BC$286,8,FALSE))","v":""},{"$f":"IF(ISNA(VLOOKUP(C137,Master!AQ$61:BC$286,4,FALSE)),\"\",VLOOKUP(C137,Master!AQ$61:BC$286,4,FALSE))","v":""},{"$f":"IF(ISNA(VLOOKUP(C137,Master!AQ$61:BC$286,5,FALSE)),\"\",VLOOKUP(C137,Master!AQ$61:BC$286,5,FALSE))","v":""},{"$f":"IF(ISNA(VLOOKUP(C137,Master!AQ$61:BC$286,6,FALSE)),\"\",VLOOKUP(C137,Master!AQ$61:BC$286,6,FALSE))","v":""},"","","","","",{"$f":"IF(ISNA(VLOOKUP(C137,Master!AQ$61:BC$286,12,FALSE)),\"\",VLOOKUP(C137,Master!AQ$61:BC$286,12,FALSE))","v":""},{"$nulls":4},0,1,{"$f":"IF(ISNA(VLOOKUP(C137,Master!AQ$61:BC$108,10,FALSE)),\"\",VLOOKUP(C137,Master!AQ$61:BC$108,10,FALSE))","v":""},null,null,{"$f":"IF(ISNA(VLOOKUP(C137,Master!AQ$61:BC$108,11,FALSE)),\"\",VLOOKUP(C137,Master!AQ$61:BC$108,11,FALSE))","v":""},{"$f":"IF(ISNA(VLOOKUP(C137,Master!AQ$61:BC$108,9,FALSE)),\"\",VLOOKUP(C137,Master!AQ$61:BC$108,9,FALSE))","v":""},0,0,0,0,0,0,"","","","","","",0,0,"",0,0,0,0,0,0,0,null,null,0,0,0,0,0,0,0,0,0,0,0,0,0,0,0,0,null,null,0,0,1,0,0,0,1,0,1,0,0,""]
["",2202,112,{"$f":"IF(ISNA(VLOOKUP(C138,Master!AQ$61:BC$286,3,FALSE)),\"\",VLOOKUP(C138,Master!AQ$61:BC$286,3,FALSE))","v":""},{"$f":"IF(ISNA(VLOOKUP(C138,Master!AQ$61:BC$286,7,FALSE)),\"\",VLOOKUP(C138,Master!AQ$61:BC$286,7,FALSE))","v":""},{"$f":"IF(ISNA(VLOOKUP(C138,Master!AQ$61:BC$286,8,FALSE)),\"\",VLOOKUP(C138,Master!AQ$61:BC$286,8,FALSE))","v":""},{"$f":"IF(ISNA(VLOOKUP(C138,Master!AQ$61:BC$286,4,FALSE)),\"\",VLOOKUP(C138,Master!AQ$61:BC$286,4,FALSE))","v":""},{"$f":"IF(ISNA(VLOOKUP(C138,Master!AQ$61:BC$286,5,FALSE)),\"\",VLOOKUP(C138,Master!AQ$61:BC$286,5,FALSE))","v":""},{"$f":"IF(ISNA(VLOOKUP(C138,Master!AQ$61:BC$286,6,FALSE)),\"\",VLOOKUP(C138,Master!AQ$61:BC$286,6,FALSE))","v":""},"","","","","",{"$f":"IF(ISNA(VLOOKUP(C138,Master!AQ$61:BC$286,12,FALSE)),\"\",VLOOKUP(C138,Master!AQ$61:BC$286,12,FALSE))","v":""},{"$nulls":4},0,1,{"$f":"IF(ISNA(VLOOKUP(C138,Master!AQ$61:BC$108,10,FALSE)),\"\",VLOOKUP(C138,Master!AQ$61:BC$108,10,FALSE))","v":""},null,null,{"$f":"IF(ISNA(VLOOKUP(C138,Master!AQ$61:BC$108,11,FALSE)),\"\",VLOOKUP(C138,Master!AQ$61:BC$108,11,FALSE))","v":""},{"$f":"IF(ISNA(VLOOKUP(C138,Master!AQ$61:BC$108,9,FALSE)),\"\",VLOOKUP(C138,Master!AQ$61:BC$108,9,FALSE))","v":""},0,0,0,0,0,0,"","","","","","",0,0,"",0,0,0,0,0,0,0,null,null,0,0,0,0,0,0,0,0,0,0,0,0,0,0,0,0,null,null,0,0,1,0,0,0,1,0,1,0,0,""]
["",2202,113,{"$f":"IF(ISNA(VLOOKUP(C139,Master!AQ$61:BC$286,3,FALSE)),\"\",VLOOKUP(C139,Master!AQ$61:BC$286,3,FALSE))","v":""},{"$f":"IF(ISNA(VLOOKUP(C139,Master!AQ$61:BC$286,7,FALSE)),\"\",VLOOKUP(C139,Master!AQ$61:BC$286,7,FALSE))","v":""},{"$f":"IF(ISNA(VLOOKUP(C139,Master!AQ$61:BC$286,8,FALSE)),\"\",VLOOKUP(C139,Master!AQ$61:BC$286,8,FALSE))","v":""},{"$f":"IF(ISNA(VLOOKUP(C139,Master!AQ$61:BC$286,4,FALSE)),\"\",VLOOKUP(C139,Master!AQ$61:BC$286,4,FALSE))","v":""},{"$f":"IF(ISNA(VLOOKUP(C139,Master!AQ$61:BC$286,5,FALSE)),\"\",VLOOKUP(C139,Master!AQ$61:BC$286,5,FALSE))","v":""},{"$f":"IF(ISNA(VLOOKUP(C139,Master!AQ$61:BC$286,6,FALSE)),\"\",VLOOKUP(C139,Master!AQ$61:BC$286,6,FALSE))","v":""},"","","","","",{"$f":"IF(ISNA(VLOOKUP(C139,Master!AQ$61:BC$286,12,FALSE)),\"\",VLOOKUP(C139,Master!AQ$61:BC$286,12,FALSE))","v":""},{"$nulls":4},0,1,{"$f":"IF(ISNA(VLOOKUP(C139,Master!AQ$61:BC$108,10,FALSE)),\"\",VLOOKUP(C139,Master!AQ$61:BC$108,10,FALSE))","v":""},null,null,{"$f":"IF(ISNA(VLOOKUP(C139,Master!AQ$61:BC$108,11,FALSE)),\"\",VLOOKUP(C139,Master!AQ$61:BC$108,11,FALSE))","v":""},{"$f":"IF(ISNA(VLOOKUP(C139,Master!AQ$61:BC$108,9,FALSE)),\"\",VLOOKUP(C139,Master!AQ$61:BC$108,9,FALSE))","v":""},0,0,0,0,0,0,"","","","","","",0,0,"",0,0,0,0,0,0,0,null,null,0,0,0,0,0,0,0,0,0,0,0,0,0,0,0,0,null,null,0,0,1,0,0,0,1,0,1,0,0,""]
["",2202,114,{"$f":"IF(ISNA(VLOOKUP(C140,Master!AQ$61:BC$286,3,FALSE)),\"\",VLOOKUP(C140,Master!AQ$61:BC$286,3,FALSE))","v":""},{"$f":"IF(ISNA(VLOOKUP(C140,Master!AQ$61:BC$286,7,FALSE)),\"\",VLOOKUP(C140,Master!AQ$61:BC$286,7,FALSE))","v":""},{"$f":"IF(ISNA(VLOOKUP(C140,Master!AQ$61:BC$286,8,FALSE)),\"\",VLOOKUP(C140,Master!AQ$61:BC$286,8,FALSE))","v":""},{"$f":"IF(ISNA(VLOOKUP(C140,Master!AQ$61:BC$286,4,FALSE)),\"\",VLOOKUP(C140,Master!AQ$61:BC$286,4,FALSE))","v":""},{"$f":"IF(ISNA(VLOOKUP(C140,Master!AQ$61:BC$286,5,FALSE)),\"\",VLOOKUP(C140,Master!AQ$61:BC$286,5,FALSE))","v":""},{"$f":"IF(ISNA(VLOOKUP(C140,Master!AQ$61:BC$286,6,FALSE)),\"\",VLOOKUP(C140,Master!AQ$61:BC$286,6,FALSE))","v":""},"","","","","",{"$f":"IF(ISNA(VLOOKUP(C140,Master!AQ$61:BC$286,12,FALSE)),\"\",VLOOKUP(C140,Master!AQ$61:BC$286,12,FALSE))","v":""},{"$nulls":4},0,1,{"$f":"IF(ISNA(VLOOKUP(C140,Master!AQ$61:BC$108,10,FALSE)),\"\",VLOOKUP(C140,Master!AQ$61:BC$108,10,FALSE))","v":""},null,null,{"$f":"IF(ISNA(VLOOKUP(C140,Master!AQ$61:BC$108,11,FALSE)),\"\",VLOOKUP(C140,Master!AQ$61:BC$108,11,FALSE))","v":""},{"$f":"IF(ISNA(VLOOKUP(C140,Master!AQ$61:BC$108,9,FALSE)),\"\",VLOOKUP(C140,Master!AQ$61:BC$108,9,FALSE))","v":""},0,0,0,0,0,0,"","","","","","",0,0,"",0,0,0,0,0,0,0,null,null,0,0,0,0,0,0,0,0,0,0,0,0,0,0,0,0,null,null,0,0,1,0,0,0,1,0,1,0,0,""]
["",2202,115,{"$f":"IF(ISNA(VLOOKUP(C141,Master!AQ$61:BC$286,3,FALSE)),\"\",VLOOKUP(C141,Master!AQ$61:BC$286,3,FALSE))","v":""},{"$f":"IF(ISNA(VLOOKUP(C141,Master!AQ$61:BC$286,7,FALSE)),\"\",VLOOKUP(C141,Master!AQ$61:BC$286,7,FALSE))","v":""},{"$f":"IF(ISNA(VLOOKUP(C141,Master!AQ$61:BC$286,8,FALSE)),\"\",VLOOKUP(C141,Master!AQ$61:BC$286,8,FALSE))","v":""},{"$f":"IF(ISNA(VLOOKUP(C141,Master!AQ$61:BC$286,4,FALSE)),\"\",VLOOKUP(C141,Master!AQ$61:BC$286,4,FALSE))","v":""},{"$f":"IF(ISNA(VLOOKUP(C141,Master!AQ$61:BC$286,5,FALSE)),\"\",VLOOKUP(C141,Master!AQ$61:BC$286,5,FALSE))","v":""},{"$f":"IF(ISNA(VLOOKUP(C141,Master!AQ$61:BC$286,6,FALSE)),\"\",VLOOKUP(C141,Master!AQ$61:BC$286,6,FALSE))","v":""},"","","","","",{"$f":"IF(ISNA(VLOOKUP(C141,Master!AQ$61:BC$286,12,FALSE)),\"\",VLOOKUP(C141,Master!AQ$61:BC$286,12,FALSE))","v":""},{"$nulls":4},0,1,{"$f":"IF(ISNA(VLOOKUP(C141,Master!AQ$61:BC$108,10,FALSE)),\"\",VLOOKUP(C141,Master!AQ$61:BC$108,10,FALSE))","v":""},null,null,{"$f":"IF(ISNA(VLOOKUP(C141,Master!AQ$61:BC$108,11,FALSE)),\"\",VLOOKUP(C141,Master!AQ$61:BC$108,11,FALSE))","v":""},{"$f":"IF(ISNA(VLOOKUP(C141,Master!AQ$61:BC$108,9,FALSE)),\"\",VLOOKUP(C141,Master!AQ$61:BC$108,9,FALSE))","v":""},0,0,0,0,0,0,"","","","","","",0,0,"",0,0,0,0,{"$f":"(IF(G141=\"LAB BOY\",180,IF(G141=\"JAMADAR\",180,IF(G141=\"PEON\",180,0))))*12*BV141*(IF(I141<=0,0,1))","v":0},0,0,null,null,0,0,0,0,0,0,0,0,0,0,0,0,0,0,0,0,null,null,0,0,1,0,0,0,1,0,1,0,0,""]
["",2202,116,{"$f":"IF(ISNA(VLOOKUP(C142,Master!AQ$61:BC$286,3,FALSE)),\"\",VLOOKUP(C142,Master!AQ$61:BC$286,3,FALSE))","v":""},{"$f":"IF(ISNA(VLOOKUP(C142,Master!AQ$61:BC$286,7,FALSE)),\"\",VLOOKUP(C142,Master!AQ$61:BC$286,7,FALSE))","v":""},{"$f":"IF(ISNA(VLOOKUP(C142,Master!AQ$61:BC$286,8,FALSE)),\"\",VLOOKUP(C142,Master!AQ$61:BC$286,8,FALSE))","v":""},{"$f":"IF(ISNA(VLOOKUP(C142,Master!AQ$61:BC$286,4,FALSE)),\"\",VLOOKUP(C142,Master!AQ$61:BC$286,4,FALSE))","v":""},{"$f":"IF(ISNA(VLOOKUP(C142,Master!AQ$61:BC$286,5,FALSE)),\"\",VLOOKUP(C142,Master!AQ$61:BC$286,5,FALSE))","v":""},{"$f":"IF(ISNA(VLOOKUP(C142,Master!AQ$61:BC$286,6,FALSE)),\"\",VLOOKUP(C142,Master!AQ$61:BC$286,6,FALSE))","v":""},"","","","","",{"$f":"IF(ISNA(VLOOKUP(C142,Master!AQ$61:BC$286,12,FALSE)),\"\",VLOOKUP(C142,Master!AQ$61:BC$286,12,FALSE))","v":""},{"$nulls":4},0,1,{"$f":"IF(ISNA(VLOOKUP(C142,Master!AQ$61:BC$108,10,FALSE)),\"\",VLOOKUP(C142,Master!AQ$61:BC$108,10,FALSE))","v":""},null,null,{"$f":"IF(ISNA(VLOOKUP(C142,Master!AQ$61:BC$108,11,FALSE)),\"\",VLOOKUP(C142,Master!AQ$61:BC$108,11,FALSE))","v":""},{"$f":"IF(ISNA(VLOOKUP(C142,Master!AQ$61:BC$108,9,FALSE)),\"\",VLOOKUP(C142,Master!AQ$61:BC$108,9,FALSE))","v":""},0,0,0,0,0,0,"","","","","","",0,0,"",0,0,0,0,0,0,0,null,null,0,0,0,0,0,0,0,0,0,0,0,0,0,0,0,0,null,null,0,0,1,0,0,0,1,0,1,0,0,""]
["",2202,117,{"$f":"IF(ISNA(VLOOKUP(C143,Master!AQ$61:BC$286,3,FALSE)),\"\",VLOOKUP(C143,Master!AQ$61:BC$286,3,FALSE))","v":""},{"$f":"IF(ISNA(VLOOKUP(C143,Master!AQ$61:BC$286,7,FALSE)),\"\",VLOOKUP(C143,Master!AQ$61:BC$286,7,FALSE))","v":""},{"$f":"IF(ISNA(VLOOKUP(C143,Master!AQ$61:BC$286,8,FALSE)),\"\",VLOOKUP(C143,Master!AQ$61:BC$286,8,FALSE))","v":""},{"$f":"IF(ISNA(VLOOKUP(C143,Master!AQ$61:BC$286,4,FALSE)),\"\",VLOOKUP(C143,Master!AQ$61:BC$286,4,FALSE))","v":""},{"$f":"IF(ISNA(VLOOKUP(C143,Master!AQ$61:BC$286,5,FALSE)),\"\",VLOOKUP(C143,Master!AQ$61:BC$286,5,FALSE))","v":""},{"$f":"IF(ISNA(VLOOKUP(C143,Master!AQ$61:BC$286,6,FALSE)),\"\",VLOOKUP(C143,Master!AQ$61:BC$286,6,FALSE))","v":""},"","","","","",{"$f":"IF(ISNA(VLOOKUP(C143,Master!AQ$61:BC$286,12,FALSE)),\"\",VLOOKUP(C143,Master!AQ$61:BC$286,12,FALSE))","v":""},{"$nulls":4},0,{"$f":"IF(G143>0,1,0)","v":1},{"$f":"IF(ISNA(VLOOKUP(C143,Master!AQ$61:BC$108,10,FALSE)),\"\",VLOOKUP(C143,Master!AQ$61:BC$108,10,FALSE))","v":""},null,null,{"$f":"IF(ISNA(VLOOKUP(C143,Master!AQ$61:BC$108,11,FALSE)),\"\",VLOOKUP(C143,Master!AQ$61:BC$108,11,FALSE))","v":""},{"$f":"IF(ISNA(VLOOKUP(C143,Master!AQ$61:BC$108,9,FALSE)),\"\",VLOOKUP(C143,Master!AQ$61:BC$108,9,FALSE))","v":""},0,0,0,0,0,0,"","","","","","",0,0,"",0,0,0,0,0,0,0,null,null,0,0,0,0,0,0,0,0,0,0,0,0,0,0,0,0,null,null,0,0,1,0,0,0,1,0,1,0,0,""]
["",2202,118,{"$f":"IF(ISNA(VLOOKUP(C144,Master!AQ$61:BC$286,3,FALSE)),\"\",VLOOKUP(C144,Master!AQ$61:BC$286,3,FALSE))","v":""},{"$f":"IF(ISNA(VLOOKUP(C144,Master!AQ$61:BC$286,7,FALSE)),\"\",VLOOKUP(C144,Master!AQ$61:BC$286,7,FALSE))","v":""},{"$f":"IF(ISNA(VLOOKUP(C144,Master!AQ$61:BC$286,8,FALSE)),\"\",VLOOKUP(C144,Master!AQ$61:BC$286,8,FALSE))","v":""},{"$f":"IF(ISNA(VLOOKUP(C144,Master!AQ$61:BC$286,4,FALSE)),\"\",VLOOKUP(C144,Master!AQ$61:BC$286,4,FALSE))","v":""},{"$f":"IF(ISNA(VLOOKUP(C144,Master!AQ$61:BC$286,5,FALSE)),\"\",VLOOKUP(C144,Master!AQ$61:BC$286,5,FALSE))","v":""},{"$f":"IF(ISNA(VLOOKUP(C144,Master!AQ$61:BC$286,6,FALSE)),\"\",VLOOKUP(C144,Master!AQ$61:BC$286,6,FALSE))","v":""},"","","","","",{"$f":"IF(ISNA(VLOOKUP(C144,Master!AQ$61:BC$286,12,FALSE)),\"\",VLOOKUP(C144,Master!AQ$61:BC$286,12,FALSE))","v":""},{"$nulls":4},0,1,{"$f":"IF(ISNA(VLOOKUP(C144,Master!AQ$61:BC$108,10,FALSE)),\"\",VLOOKUP(C144,Master!AQ$61:BC$108,10,FALSE))","v":""},null,null,{"$f":"IF(ISNA(VLOOKUP(C144,Master!AQ$61:BC$108,11,FALSE)),\"\",VLOOKUP(C144,Master!AQ$61:BC$108,11,FALSE))","v":""},{"$f":"IF(ISNA(VLOOKUP(C144,Master!AQ$61:BC$108,9,FALSE)),\"\",VLOOKUP(C144,Master!AQ$61:BC$108,9,FALSE))","v":""},0,0,0,0,0,0,"","","","","","",0,0,"",0,0,0,0,0,0,0,null,null,0,0,0,0,0,0,0,0,0,0,0,0,0,0,0,0,null,null,0,0,1,0,0,0,1,0,1,0,0,""]
["",2202,119,{"$f":"IF(ISNA(VLOOKUP(C145,Master!AQ$61:BC$286,3,FALSE)),\"\",VLOOKUP(C145,Master!AQ$61:BC$286,3,FALSE))","v":""},{"$f":"IF(ISNA(VLOOKUP(C145,Master!AQ$61:BC$286,7,FALSE)),\"\",VLOOKUP(C145,Master!AQ$61:BC$286,7,FALSE))","v":""},{"$f":"IF(ISNA(VLOOKUP(C145,Master!AQ$61:BC$286,8,FALSE)),\"\",VLOOKUP(C145,Master!AQ$61:BC$286,8,FALSE))","v":""},{"$f":"IF(ISNA(VLOOKUP(C145,Master!AQ$61:BC$286,4,FALSE)),\"\",VLOOKUP(C145,Master!AQ$61:BC$286,4,FALSE))","v":""},{"$f":"IF(ISNA(VLOOKUP(C145,Master!AQ$61:BC$286,5,FALSE)),\"\",VLOOKUP(C145,Master!AQ$61:BC$286,5,FALSE))","v":""},{"$f":"IF(ISNA(VLOOKUP(C145,Master!AQ$61:BC$286,6,FALSE)),\"\",VLOOKUP(C145,Master!AQ$61:BC$286,6,FALSE))","v":""},"","","","","",{"$f":"IF(ISNA(VLOOKUP(C145,Master!AQ$61:BC$286,12,FALSE)),\"\",VLOOKUP(C145,Master!AQ$61:BC$286,12,FALSE))","v":""},{"$nulls":4},0,1,{"$f":"IF(ISNA(VLOOKUP(C145,Master!AQ$61:BC$108,10,FALSE)),\"\",VLOOKUP(C145,Master!AQ$61:BC$108,10,FALSE))","v":""},null,null,{"$f":"IF(ISNA(VLOOKUP(C145,Master!AQ$61:BC$108,11,FALSE)),\"\",VLOOKUP(C145,Master!AQ$61:BC$108,11,FALSE))","v":""},{"$f":"IF(ISNA(VLOOKUP(C145,Master!AQ$61:BC$108,9,FALSE)),\"\",VLOOKUP(C145,Master!AQ$61:BC$108,9,FALSE))","v":""},0,0,0,0,0,0,"","","","","","",0,0,"",0,0,0,0,0,0,0,null,null,0,0,0,0,0,0,0,0,0,0,0,0,0,0,0,0,null,null,0,0,1,0,0,0,1,0,1,0,0,""]
["",2202,120,{"$f":"IF(ISNA(VLOOKUP(C146,Master!AQ$61:BC$286,3,FALSE)),\"\",VLOOKUP(C146,Master!AQ$61:BC$286,3,FALSE))","v":""},{"$f":"IF(ISNA(VLOOKUP(C146,Master!AQ$61:BC$286,7,FALSE)),\"\",VLOOKUP(C146,Master!AQ$61:BC$286,7,FALSE))","v":""},{"$f":"IF(ISNA(VLOOKUP(C146,Master!AQ$61:BC$286,8,FALSE)),\"\",VLOOKUP(C146,Master!AQ$61:BC$286,8,FALSE))","v":""},{"$f":"IF(ISNA(VLOOKUP(C146,Master!AQ$61:BC$286,4,FALSE)),\"\",VLOOKUP(C146,Master!AQ$61:BC$286,4,FALSE))","v":""},{"$f":"IF(ISNA(VLOOKUP(C146,Master!AQ$61:BC$286,5,FALSE)),\"\",VLOOKUP(C146,Master!AQ$61:BC$286,5,FALSE))","v":""},{"$f":"IF(ISNA(VLOOKUP(C146,Master!AQ$61:BC$286,6,FALSE)),\"\",VLOOKUP(C146,Master!AQ$61:BC$286,6,FALSE))","v":""},"","","","","",{"$f":"IF(ISNA(VLOOKUP(C146,Master!AQ$61:BC$286,12,FALSE)),\"\",VLOOKUP(C146,Master!AQ$61:BC$286,12,FALSE))","v":""},{"$nulls":4},0,1,{"$f":"IF(ISNA(VLOOKUP(C146,Master!AQ$61:BC$108,10,FALSE)),\"\",VLOOKUP(C146,Master!AQ$61:BC$108,10,FALSE))","v":""},null,null,{"$f":"IF(ISNA(VLOOKUP(C146,Master!AQ$61:BC$108,11,FALSE)),\"\",VLOOKUP(C146,Master!AQ$61:BC$108,11,FALSE))","v":""},{"$f":"IF(ISNA(VLOOKUP(C146,Master!AQ$61:BC$108,9,FALSE)),\"\",VLOOKUP(C146,Master!AQ$61:BC$108,9,FALSE))","v":""},0,0,0,0,0,0,"","","","","","",0,0,"",0,0,0,0,0,0,0,null,null,0,0,0,0,0,0,0,0,0,0,0,0,0,0,0,0,null,null,0,0,1,0,0,0,1,0,1,0,0,""]
["",2202,121,{"$f":"IF(ISNA(VLOOKUP(C147,Master!AQ$61:BC$286,3,FALSE)),\"\",VLOOKUP(C147,Master!AQ$61:BC$286,3,FALSE))","v":""},{"$f":"IF(ISNA(VLOOKUP(C147,Master!AQ$61:BC$286,7,FALSE)),\"\",VLOOKUP(C147,Master!AQ$61:BC$286,7,FALSE))","v":""},{"$f":"IF(ISNA(VLOOKUP(C147,Master!AQ$61:BC$286,8,FALSE)),\"\",VLOOKUP(C147,Master!AQ$61:BC$286,8,FALSE))","v":""},{"$f":"IF(ISNA(VLOOKUP(C147,Master!AQ$61:BC$286,4,FALSE)),\"\",VLOOKUP(C147,Master!AQ$61:BC$286,4,FALSE))","v":""},{"$f":"IF(ISNA(VLOOKUP(C147,Master!AQ$61:BC$286,5,FALSE)),\"\",VLOOKUP(C147,Master!AQ$61:BC$286,5,FALSE))","v":""},{"$f":"IF(ISNA(VLOOKUP(C147,Master!AQ$61:BC$286,6,FALSE)),\"\",VLOOKUP(C147,Master!AQ$61:BC$286,6,FALSE))","v":""},"","","","","",{"$f":"IF(ISNA(VLOOKUP(C147,Master!AQ$61:BC$286,12,FALSE)),\"\",VLOOKUP(C147,Master!AQ$61:BC$286,12,FALSE))","v":""},{"$nulls":4},0,1,{"$f":"IF(ISNA(VLOOKUP(C147,Master!AQ$61:BC$108,10,FALSE)),\"\",VLOOKUP(C147,Master!AQ$61:BC$108,10,FALSE))","v":""},null,null,{"$f":"IF(ISNA(VLOOKUP(C147,Master!AQ$61:BC$108,11,FALSE)),\"\",VLOOKUP(C147,Master!AQ$61:BC$108,11,FALSE))","v":""},{"$f":"IF(ISNA(VLOOKUP(C147,Master!AQ$61:BC$108,9,FALSE)),\"\",VLOOKUP(C147,Master!AQ$61:BC$108,9,FALSE))","v":""},0,0,0,0,0,0,"","","","","","",0,0,"",0,0,0,0,0,0,0,null,null,0,0,0,0,0,0,0,0,0,0,0,0,0,0,0,0,null,null,0,0,1,0,0,0,1,0,1,0,0,""]
["",2202,122,{"$f":"IF(ISNA(VLOOKUP(C148,Master!AQ$61:BC$286,3,FALSE)),\"\",VLOOKUP(C148,Master!AQ$61:BC$286,3,FALSE))","v":""},{"$f":"IF(ISNA(VLOOKUP(C148,Master!AQ$61:BC$286,7,FALSE)),\"\",VLOOKUP(C148,Master!AQ$61:BC$286,7,FALSE))","v":""},{"$f":"IF(ISNA(VLOOKUP(C148,Master!AQ$61:BC$286,8,FALSE)),\"\",VLOOKUP(C148,Master!AQ$61:BC$286,8,FALSE))","v":""},{"$f":"IF(ISNA(VLOOKUP(C148,Master!AQ$61:BC$286,4,FALSE)),\"\",VLOOKUP(C148,Master!AQ$61:BC$286,4,FALSE))","v":""},{"$f":"IF(ISNA(VLOOKUP(C148,Master!AQ$61:BC$286,5,FALSE)),\"\",VLOOKUP(C148,Master!AQ$61:BC$286,5,FALSE))","v":""},{"$f":"IF(ISNA(VLOOKUP(C148,Master!AQ$61:BC$286,6,FALSE)),\"\",VLOOKUP(C148,Master!AQ$61:BC$286,6,FALSE))","v":""},"","","","","",{"$f":"IF(ISNA(VLOOKUP(C148,Master!AQ$61:BC$286,12,FALSE)),\"\",VLOOKUP(C148,Master!AQ$61:BC$286,12,FALSE))","v":""},{"$nulls":4},0,1,{"$f":"IF(ISNA(VLOOKUP(C148,Master!AQ$61:BC$108,10,FALSE)),\"\",VLOOKUP(C148,Master!AQ$61:BC$108,10,FALSE))","v":""},null,null,{"$f":"IF(ISNA(VLOOKUP(C148,Master!AQ$61:BC$108,11,FALSE)),\"\",VLOOKUP(C148,Master!AQ$61:BC$108,11,FALSE))","v":""},{"$f":"IF(ISNA(VLOOKUP(C148,Master!AQ$61:BC$108,9,FALSE)),\"\",VLOOKUP(C148,Master!AQ$61:BC$108,9,FALSE))","v":""},0,0,0,0,0,0,"","","","","","",0,0,"",0,0,0,0,0,0,0,null,null,0,0,0,0,0,0,0,0,0,0,0,0,0,0,0,0,null,null,0,0,1,0,0,0,1,0,1,0,0,""]
["",2202,123,{"$f":"IF(ISNA(VLOOKUP(C149,Master!AQ$61:BC$286,3,FALSE)),\"\",VLOOKUP(C149,Master!AQ$61:BC$286,3,FALSE))","v":""},{"$f":"IF(ISNA(VLOOKUP(C149,Master!AQ$61:BC$286,7,FALSE)),\"\",VLOOKUP(C149,Master!AQ$61:BC$286,7,FALSE))","v":""},{"$f":"IF(ISNA(VLOOKUP(C149,Master!AQ$61:BC$286,8,FALSE)),\"\",VLOOKUP(C149,Master!AQ$61:BC$286,8,FALSE))","v":""},{"$f":"IF(ISNA(VLOOKUP(C149,Master!AQ$61:BC$286,4,FALSE)),\"\",VLOOKUP(C149,Master!AQ$61:BC$286,4,FALSE))","v":""},{"$f":"IF(ISNA(VLOOKUP(C149,Master!AQ$61:BC$286,5,FALSE)),\"\",VLOOKUP(C149,Master!AQ$61:BC$286,5,FALSE))","v":""},{"$f":"IF(ISNA(VLOOKUP(C149,Master!AQ$61:BC$286,6,FALSE)),\"\",VLOOKUP(C149,Master!AQ$61:BC$286,6,FALSE))","v":""},"","","","","",{"$f":"IF(ISNA(VLOOKUP(C149,Master!AQ$61:BC$286,12,FALSE)),\"\",VLOOKUP(C149,Master!AQ$61:BC$286,12,FALSE))","v":""},{"$nulls":4},0,1,{"$f":"IF(ISNA(VLOOKUP(C149,Master!AQ$61:BC$108,10,FALSE)),\"\",VLOOKUP(C149,Master!AQ$61:BC$108,10,FALSE))","v":""},null,null,{"$f":"IF(ISNA(VLOOKUP(C149,Master!AQ$61:BC$108,11,FALSE)),\"\",VLOOKUP(C149,Master!AQ$61:BC$108,11,FALSE))","v":""},{"$f":"IF(ISNA(VLOOKUP(C149,Master!AQ$61:BC$108,9,FALSE)),\"\",VLOOKUP(C149,Master!AQ$61:BC$108,9,FALSE))","v":""},0,0,0,0,0,0,"","","","","","",0,0,"",0,0,0,0,0,0,0,null,null,0,0,0,0,0,0,0,0,0,0,0,0,0,0,0,0,null,null,0,0,1,0,0,0,1,0,1,0,0,""]
["",2202,124,{"$f":"IF(ISNA(VLOOKUP(C150,Master!AQ$61:BC$286,3,FALSE)),\"\",VLOOKUP(C150,Master!AQ$61:BC$286,3,FALSE))","v":""},{"$f":"IF(ISNA(VLOOKUP(C150,Master!AQ$61:BC$286,7,FALSE)),\"\",VLOOKUP(C150,Master!AQ$61:BC$286,7,FALSE))","v":""},{"$f":"IF(ISNA(VLOOKUP(C150,Master!AQ$61:BC$286,8,FALSE)),\"\",VLOOKUP(C150,Master!AQ$61:BC$286,8,FALSE))","v":""},{"$f":"IF(ISNA(VLOOKUP(C150,Master!AQ$61:BC$286,4,FALSE)),\"\",VLOOKUP(C150,Master!AQ$61:BC$286,4,FALSE))","v":""},{"$f":"IF(ISNA(VLOOKUP(C150,Master!AQ$61:BC$286,5,FALSE)),\"\",VLOOKUP(C150,Master!AQ$61:BC$286,5,FALSE))","v":""},{"$f":"IF(ISNA(VLOOKUP(C150,Master!AQ$61:BC$286,6,FALSE)),\"\",VLOOKUP(C150,Master!AQ$61:BC$286,6,FALSE))","v":""},"","","","","",{"$f":"IF(ISNA(VLOOKUP(C150,Master!AQ$61:BC$286,12,FALSE)),\"\",VLOOKUP(C150,Master!AQ$61:BC$286,12,FALSE))","v":""},{"$nulls":4},0,1,{"$f":"IF(ISNA(VLOOKUP(C150,Master!AQ$61:BC$108,10,FALSE)),\"\",VLOOKUP(C150,Master!AQ$61:BC$108,10,FALSE))","v":""},null,null,{"$f":"IF(ISNA(VLOOKUP(C150,Master!AQ$61:BC$108,11,FALSE)),\"\",VLOOKUP(C150,Master!AQ$61:BC$108,11,FALSE))","v":""},{"$f":"IF(ISNA(VLOOKUP(C150,Master!AQ$61:BC$108,9,FALSE)),\"\",VLOOKUP(C150,Master!AQ$61:BC$108,9,FALSE))","v":""},0,0,0,0,0,0,"","","","","","",0,0,"",0,0,0,0,0,0,0,null,null,0,0,0,0,0,0,0,0,0,0,0,0,0,0,0,0,null,null,0,0,1,0,0,0,1,0,1,0,0,""]
["",2202,125,{"$f":"IF(ISNA(VLOOKUP(C151,Master!AQ$61:BC$286,3,FALSE)),\"\",VLOOKUP(C151,Master!AQ$61:BC$286,3,FALSE))","v":""},{"$f":"IF(ISNA(VLOOKUP(C151,Master!AQ$61:BC$286,7,FALSE)),\"\",VLOOKUP(C151,Master!AQ$61:BC$286,7,FALSE))","v":""},{"$f":"IF(ISNA(VLOOKUP(C151,Master!AQ$61:BC$286,8,FALSE)),\"\",VLOOKUP(C151,Master!AQ$61:BC$286,8,FALSE))","v":""},{"$f":"IF(ISNA(VLOOKUP(C151,Master!AQ$61:BC$286,4,FALSE)),\"\",VLOOKUP(C151,Master!AQ$61:BC$286,4,FALSE))","v":""},{"$f":"IF(ISNA(VLOOKUP(C151,Master!AQ$61:BC$286,5,FALSE)),\"\",VLOOKUP(C151,Master!AQ$61:BC$286,5,FALSE))","v":""},{"$f":"IF(ISNA(VLOOKUP(C151,Master!AQ$61:BC$286,6,FALSE)),\"\",VLOOKUP(C151,Master!AQ$61:BC$286,6,FALSE))","v":""},"","","","","",{"$f":"IF(ISNA(VLOOKUP(C151,Master!AQ$61:BC$286,12,FALSE)),\"\",VLOOKUP(C151,Master!AQ$61:BC$286,12,FALSE))","v":""},{"$nulls":4},0,1,{"$f":"IF(ISNA(VLOOKUP(C151,Master!AQ$61:BC$108,10,FALSE)),\"\",VLOOKUP(C151,Master!AQ$61:BC$108,10,FALSE))","v":""},null,null,{"$f":"IF(ISNA(VLOOKUP(C151,Master!AQ$61:BC$108,11,FALSE)),\"\",VLOOKUP(C151,Master!AQ$61:BC$108,11,FALSE))","v":""},{"$f":"IF(ISNA(VLOOKUP(C151,Master!AQ$61:BC$108,9,FALSE)),\"\",VLOOKUP(C151,Master!AQ$61:BC$108,9,FALSE))","v":""},0,0,0,0,0,0,"","","","","","",0,0,"",0,0,0,0,0,0,0,null,null,0,0,0,0,0,0,0,0,0,0,0,0,0,0,0,0,null,null,0,0,1,0,0,0,1,0,1,0,0,""]
["",2202,126,{"$f":"IF(ISNA(VLOOKUP(C152,Master!AQ$61:BC$286,3,FALSE)),\"\",VLOOKUP(C152,Master!AQ$61:BC$286,3,FALSE))","v":""},{"$f":"IF(ISNA(VLOOKUP(C152,Master!AQ$61:BC$286,7,FALSE)),\"\",VLOOKUP(C152,Master!AQ$61:BC$286,7,FALSE))","v":""},{"$f":"IF(ISNA(VLOOKUP(C152,Master!AQ$61:BC$286,8,FALSE)),\"\",VLOOKUP(C152,Master!AQ$61:BC$286,8,FALSE))","v":""},{"$f":"IF(ISNA(VLOOKUP(C152,Master!AQ$61:BC$286,4,FALSE)),\"\",VLOOKUP(C152,Master!AQ$61:BC$286,4,FALSE))","v":""},{"$f":"IF(ISNA(VLOOKUP(C152,Master!AQ$61:BC$286,5,FALSE)),\"\",VLOOKUP(C152,Master!AQ$61:BC$286,5,FALSE))","v":""},{"$f":"IF(ISNA(VLOOKUP(C152,Master!AQ$61:BC$286,6,FALSE)),\"\",VLOOKUP(C152,Master!AQ$61:BC$286,6,FALSE))","v":""},"","","","","",{"$f":"IF(ISNA(VLOOKUP(C152,Master!AQ$61:BC$286,12,FALSE)),\"\",VLOOKUP(C152,Master!AQ$61:BC$286,12,FALSE))","v":""},{"$nulls":4},0,1,{"$f":"IF(ISNA(VLOOKUP(C152,Master!AQ$61:BC$108,10,FALSE)),\"\",VLOOKUP(C152,Master!AQ$61:BC$108,10,FALSE))","v":""},null,null,{"$f":"IF(ISNA(VLOOKUP(C152,Master!AQ$61:BC$108,11,FALSE)),\"\",VLOOKUP(C152,Master!AQ$61:BC$108,11,FALSE))","v":""},{"$f":"IF(ISNA(VLOOKUP(C152,Master!AQ$61:BC$108,9,FALSE)),\"\",VLOOKUP(C152,Master!AQ$61:BC$108,9,FALSE))","v":""},0,0,0,0,0,0,"","","","","","",0,0,"",0,0,0,0,0,0,0,null,null,0,0,0,0,0,0,0,0,0,0,0,0,0,0,0,0,null,null,0,0,1,0,0,0,1,0,1,0,0,""]
["",2202,127,{"$f":"IF(ISNA(VLOOKUP(C153,Master!AQ$61:BC$286,3,FALSE)),\"\",VLOOKUP(C153,Master!AQ$61:BC$286,3,FALSE))","v":""},{"$f":"IF(ISNA(VLOOKUP(C153,Master!AQ$61:BC$286,7,FALSE)),\"\",VLOOKUP(C153,Master!AQ$61:BC$286,7,FALSE))","v":""},{"$f":"IF(ISNA(VLOOKUP(C153,Master!AQ$61:BC$286,8,FALSE)),\"\",VLOOKUP(C153,Master!AQ$61:BC$286,8,FALSE))","v":""},{"$f":"IF(ISNA(VLOOKUP(C153,Master!AQ$61:BC$286,4,FALSE)),\"\",VLOOKUP(C153,Master!AQ$61:BC$286,4,FALSE))","v":""},{"$f":"IF(ISNA(VLOOKUP(C153,Master!AQ$61:BC$286,5,FALSE)),\"\",VLOOKUP(C153,Master!AQ$61:BC$286,5,FALSE))","v":""},{"$f":"IF(ISNA(VLOOKUP(C153,Master!AQ$61:BC$286,6,FALSE)),\"\",VLOOKUP(C153,Master!AQ$61:BC$286,6,FALSE))","v":""},"","","","","",{"$f":"IF(ISNA(VLOOKUP(C153,Master!AQ$61:BC$286,12,FALSE)),\"\",VLOOKUP(C153,Master!AQ$61:BC$286,12,FALSE))","v":""},{"$nulls":4},0,1,{"$f":"IF(ISNA(VLOOKUP(C153,Master!AQ$61:BC$108,10,FALSE)),\"\",VLOOKUP(C153,Master!AQ$61:BC$108,10,FALSE))","v":""},null,null,{"$f":"IF(ISNA(VLOOKUP(C153,Master!AQ$61:BC$108,11,FALSE)),\"\",VLOOKUP(C153,Master!AQ$61:BC$108,11,FALSE))","v":""},{"$f":"IF(ISNA(VLOOKUP(C153,Master!AQ$61:BC$108,9,FALSE)),\"\",VLOOKUP(C153,Master!AQ$61:BC$108,9,FALSE))","v":""},0,0,0,0,0,0,"","","","","","",0,0,"",0,0,0,0,0,0,0,null,null,0,0,0,0,0,0,0,0,0,0,0,0,0,0,0,0,null,null,0,0,1,0,0,0,1,0,1,0,0,""]
["",2202,128,{"$f":"IF(ISNA(VLOOKUP(C154,Master!AQ$61:BC$286,3,FALSE)),\"\",VLOOKUP(C154,Master!AQ$61:BC$286,3,FALSE))","v":""},{"$f":"IF(ISNA(VLOOKUP(C154,Master!AQ$61:BC$286,7,FALSE)),\"\",VLOOKUP(C154,Master!AQ$61:BC$286,7,FALSE))","v":""},{"$f":"IF(ISNA(VLOOKUP(C154,Master!AQ$61:BC$286,8,FALSE)),\"\",VLOOKUP(C154,Master!AQ$61:BC$286,8,FALSE))","v":""},{"$f":"IF(ISNA(VLOOKUP(C154,Master!AQ$61:BC$286,4,FALSE)),\"\",VLOOKUP(C154,Master!AQ$61:BC$286,4,FALSE))","v":""},{"$f":"IF(ISNA(VLOOKUP(C154,Master!AQ$61:BC$286,5,FALSE)),\"\",VLOOKUP(C154,Master!AQ$61:BC$286,5,FALSE))","v":""},{"$f":"IF(ISNA(VLOOKUP(C154,Master!AQ$61:BC$286,6,FALSE)),\"\",VLOOKUP(C154,Master!AQ$61:BC$286,6,FALSE))","v":""},"","","","","",{"$f":"IF(ISNA(VLOOKUP(C154,Master!AQ$61:BC$286,12,FALSE)),\"\",VLOOKUP(C154,Master!AQ$61:BC$286,12,FALSE))","v":""},{"$nulls":4},0,1,{"$f":"IF(ISNA(VLOOKUP(C154,Master!AQ$61:BC$108,10,FALSE)),\"\",VLOOKUP(C154,Master!AQ$61:BC$108,10,FALSE))","v":""},null,null,{"$f":"IF(ISNA(VLOOKUP(C154,Master!AQ$61:BC$108,11,FALSE)),\"\",VLOOKUP(C154,Master!AQ$61:BC$108,11,FALSE))","v":""},{"$f":"IF(ISNA(VLOOKUP(C154,Master!AQ$61:BC$108,9,FALSE)),\"\",VLOOKUP(C154,Master!AQ$61:BC$108,9,FALSE))","v":""},0,0,0,0,0,0,"","","","","","",0,0,"",0,0,0,0,0,0,0,null,null,0,0,0,0,0,0,0,0,0,0,0,0,0,0,0,0,null,null,0,0,1,0,0,0,1,0,1,0,0,""]
["",2202,129,{"$f":"IF(ISNA(VLOOKUP(C155,Master!AQ$61:BC$286,3,FALSE)),\"\",VLOOKUP(C155,Master!AQ$61:BC$286,3,FALSE))","v":""},{"$f":"IF(ISNA(VLOOKUP(C155,Master!AQ$61:BC$286,7,FALSE)),\"\",VLOOKUP(C155,Master!AQ$61:BC$286,7,FALSE))","v":""},{"$f":"IF(ISNA(VLOOKUP(C155,Master!AQ$61:BC$286,8,FALSE)),\"\",VLOOKUP(C155,Master!AQ$61:BC$286,8,FALSE))","v":""},{"$f":"IF(ISNA(VLOOKUP(C155,Master!AQ$61:BC$286,4,FALSE)),\"\",VLOOKUP(C155,Master!AQ$61:BC$286,4,FALSE))","v":""},{"$f":"IF(ISNA(VLOOKUP(C155,Master!AQ$61:BC$286,5,FALSE)),\"\",VLOOKUP(C155,Master!AQ$61:BC$286,5,FALSE))","v":""},{"$f":"IF(ISNA(VLOOKUP(C155,Master!AQ$61:BC$286,6,FALSE)),\"\",VLOOKUP(C155,Master!AQ$61:BC$286,6,FALSE))","v":""},"","","","","",{"$f":"IF(ISNA(VLOOKUP(C155,Master!AQ$61:BC$286,12,FALSE)),\"\",VLOOKUP(C155,Master!AQ$61:BC$286,12,FALSE))","v":""},{"$nulls":4},{"$f":"IF(H155=\"l-10\",6774,IF(H155=\"l-11\",6774,IF(H155=\"l-12\",6774,0)))","v":0},1,{"$f":"IF(ISNA(VLOOKUP(C155,Master!AQ$61:BC$108,10,FALSE)),\"\",VLOOKUP(C155,Master!AQ$61:BC$108,10,FALSE))","v":""},null,null,{"$f":"IF(ISNA(VLOOKUP(C155,Master!AQ$61:BC$108,11,FALSE)),\"\",VLOOKUP(C155,Master!AQ$61:BC$108,11,FALSE))","v":""},{"$f":"IF(ISNA(VLOOKUP(C155,Master!AQ$61:BC$108,9,FALSE)),\"\",VLOOKUP(C155,Master!AQ$61:BC$108,9,FALSE))","v":""},0,0,0,0,0,0,"","","","","","",0,0,"",0,0,0,0,0,0,0,null,null,0,0,0,0,0,0,0,0,0,0,0,0,0,0,0,0,null,null,0,0,1,0,0,0,1,{"$f":"IF((ROUND((SUMPRODUCT(MID(0&E155,LARGE(INDEX(ISNUMBER(--MID(E155,ROW($1:$25),1))* ROW($1:$25),0),ROW($1:$25))+1,1)*10^ROW($1:$25)/10)),-8)/100000000)>=2004,1,0)","v":0},1,0,0,{"$f":"IF(AND(E155=\"\"),\"\",IF(AND(E155<=0),\"\",IF((ROUND((SUMPRODUCT(MID(0&E155,LARGE(INDEX(ISNUMBER(--MID(E155,ROW($1:$70),1))* ROW($1:$70),0),ROW($1:$70))+1,1)*10^ROW($1:$70)/10)),-8)/100000000)<2004,1,0)))","v":""}]
["",2202,130,{"$f":"IF(ISNA(VLOOKUP(C156,Master!AQ$61:BC$286,3,FALSE)),\"\",VLOOKUP(C156,Master!AQ$61:BC$286,3,FALSE))","v":""},{"$f":"IF(ISNA(VLOOKUP(C156,Master!AQ$61:BC$286,7,FALSE)),\"\",VLOOKUP(C156,Master!AQ$61:BC$286,7,FALSE))","v":""},{"$f":"IF(ISNA(VLOOKUP(C156,Master!AQ$61:BC$286,8,FALSE)),\"\",VLOOKUP(C156,Master!AQ$61:BC$286,8,FALSE))","v":""},{"$f":"IF(ISNA(VLOOKUP(C156,Master!AQ$61:BC$286,4,FALSE)),\"\",VLOOKUP(C156,Master!AQ$61:BC$286,4,FALSE))","v":""},{"$f":"IF(ISNA(VLOOKUP(C156,Master!AQ$61:BC$286,5,FALSE)),\"\",VLOOKUP(C156,Master!AQ$61:BC$286,5,FALSE))","v":""},{"$f":"IF(ISNA(VLOOKUP(C156,Master!AQ$61:BC$286,6,FALSE)),\"\",VLOOKUP(C156,Master!AQ$61:BC$286,6,FALSE))","v":""},{"$f":"IF(AND(I156=\"\"),\"\",I156*12)","v":""},{"$f":"IF(AND(I156=\"\"),\"\",IF(I156<=0,\"\",(CONCATENATE(\"01.07.\",(YEAR(TODAY())+1)))))","v":""},{"$f":"IF(AND(I156=\"\"),\"\",ROUND(ROUND(I156*3%,0),-2)*IF(H156=\"FIX PAY\",0,1)*8)","v":""},{"$f":"IF(AND(I156=\"\"),\"\",J156+L156)","v":""},{"$f":"IF(AND(I156=\"\"),\"\",IF(O156=\"FIX PAY\",M156,((IF(O156=\"FIX PAY\",0,AG156*4+I156*8)))))","v":""},{"$f":"IF(ISNA(VLOOKUP(C156,Master!AQ$61:BC$286,12,FALSE)),\"\",VLOOKUP(C156,Master!AQ$61:BC$286,12,FALSE))","v":""},{"$nulls":4},0,1,{"$f":"IF(ISNA(VLOOKUP(C156,Master!AQ$61:BC$108,10,FALSE)),\"\",VLOOKUP(C156,Master!AQ$61:BC$108,10,FALSE))","v":""},null,null,{"$f":"IF(ISNA(VLOOKUP(C156,Master!AQ$61:BC$108,11,FALSE)),\"\",VLOOKUP(C156,Master!AQ$61:BC$108,11,FALSE))","v":""},{"$f":"IF(ISNA(VLOOKUP(C156,Master!AQ$61:BC$108,9,FALSE)),\"\",VLOOKUP(C156,Master!AQ$61:BC$108,9,FALSE))","v":""},0,0,0,0,0,0,"","","","","","",0,0,"",0,0,0,0,0,0,0,null,null,0,0,0,0,0,0,0,0,0,0,0,0,0,0,0,0,null,null,0,0,1,0,0,0,1,0,1,0,0,""]
[{"$f":"IF(I157=\"\",\"\",IF(I157>0,A156+1,\"\"))","v":""},2202,131,{"$f":"IF(ISNA(VLOOKUP(C157,Master!AQ$61:BC$286,3,FALSE)),\"\",VLOOKUP(C157,Master!AQ$61:BC$286,3,FALSE))","v":""},{"$f":"IF(ISNA(VLOOKUP(C157,Master!AQ$61:BC$286,7,FALSE)),\"\",VLOOKUP(C157,Master!AQ$61:BC$286,7,FALSE))","v":""},{"$f":"IF(ISNA(VLOOKUP(C157,Master!AQ$61:BC$286,8,FALSE)),\"\",VLOOKUP(C157,Master!AQ$61:BC$286,8,FALSE))","v":""},{"$f":"IF(ISNA(VLOOKUP(C157,Master!AQ$61:BC$286,4,FALSE)),\"\",VLOOKUP(C157,Master!AQ$61:BC$286,4,FALSE))","v":""},{"$f":"IF(ISNA(VLOOKUP(C157,Master!AQ$61:BC$286,5,FALSE)),\"\",VLOOKUP(C157,Master!AQ$61:BC$286,5,FALSE))","v":""},{"$f":"IF(ISNA(VLOOKUP(C157,Master!AQ$61:BC$286,6,FALSE)),\"\",VLOOKUP(C157,Master!AQ$61:BC$286,6,FALSE))","v":""},"","","","","",{"$f":"IF(ISNA(VLOOKUP(C157,Master!AQ$61:BC$286,12,FALSE)),\"\",VLOOKUP(C157,Master!AQ$61:BC$286,12,FALSE))","v":""},{"$nulls":4},0,1,{"$f":"IF(ISNA(VLOOKUP(C157,Master!AQ$61:BC$108,10,FALSE)),\"\",VLOOKUP(C157,Master!AQ$61:BC$108,10,FALSE))","v":""},null,null,{"$f":"IF(ISNA(VLOOKUP(C157,Master!AQ$61:BC$108,11,FALSE)),\"\",VLOOKUP(C157,Master!AQ$61:BC$108,11,FALSE))","v":""},{"$f":"IF(ISNA(VLOOKUP(C157,Master!AQ$61:BC$108,9,FALSE)),\"\",VLOOKUP(C157,Master!AQ$61:BC$108,9,FALSE))","v":""},0,0,0,0,0,0,"","","","","","",0,0,"",0,0,0,0,0,0,0,null,null,0,0,0,0,0,0,0,0,0,0,0,0,0,0,0,0,null,null,0,0,1,0,0,0,1,0,1,0,0,""]
["",2202,132,{"$f":"IF(ISNA(VLOOKUP(C158,Master!AQ$61:BC$286,3,FALSE)),\"\",VLOOKUP(C158,Master!AQ$61:BC$286,3,FALSE))","v":""},{"$f":"IF(ISNA(VLOOKUP(C158,Master!AQ$61:BC$286,7,FALSE)),\"\",VLOOKUP(C158,Master!AQ$61:BC$286,7,FALSE))","v":""},{"$f":"IF(ISNA(VLOOKUP(C158,Master!AQ$61:BC$286,8,FALSE)),\"\",VLOOKUP(C158,Master!AQ$61:BC$286,8,FALSE))","v":""},{"$f":"IF(ISNA(VLOOKUP(C158,Master!AQ$61:BC$286,4,FALSE)),\"\",VLOOKUP(C158,Master!AQ$61:BC$286,4,FALSE))","v":""},{"$f":"IF(ISNA(VLOOKUP(C158,Master!AQ$61:BC$286,5,FALSE)),\"\",VLOOKUP(C158,Master!AQ$61:BC$286,5,FALSE))","v":""},{"$f":"IF(ISNA(VLOOKUP(C158,Master!AQ$61:BC$286,6,FALSE)),\"\",VLOOKUP(C158,Master!AQ$61:BC$286,6,FALSE))","v":""},"","","","","",{"$f":"IF(ISNA(VLOOKUP(C158,Master!AQ$61:BC$286,12,FALSE)),\"\",VLOOKUP(C158,Master!AQ$61:BC$286,12,FALSE))","v":""},{"$nulls":4},0,1,{"$f":"IF(ISNA(VLOOKUP(C158,Master!AQ$61:BC$108,10,FALSE)),\"\",VLOOKUP(C158,Master!AQ$61:BC$108,10,FALSE))","v":""},null,null,{"$f":"IF(ISNA(VLOOKUP(C158,Master!AQ$61:BC$108,11,FALSE)),\"\",VLOOKUP(C158,Master!AQ$61:BC$108,11,FALSE))","v":""},{"$f":"IF(ISNA(VLOOKUP(C158,Master!AQ$61:BC$108,9,FALSE)),\"\",VLOOKUP(C158,Master!AQ$61:BC$108,9,FALSE))","v":""},0,0,0,0,0,0,{"$f":"IF(AND(I158=\"\"),\"\",I158-ROUNDUP(ROUND((I158*3%)-(I158*3%)*2.9%,-2),0))","v":""},"","","","","",0,0,"",0,0,0,0,0,0,0,null,null,0,0,0,0,0,0,0,0,0,0,0,0,0,0,0,0,null,null,0,0,1,0,0,0,1,0,1,0,0,""]
["",2202,133,{"$f":"IF(ISNA(VLOOKUP(C159,Master!AQ$61:BC$286,3,FALSE)),\"\",VLOOKUP(C159,Master!AQ$61:BC$286,3,FALSE))","v":""},{"$f":"IF(ISNA(VLOOKUP(C159,Master!AQ$61:BC$286,7,FALSE)),\"\",VLOOKUP(C159,Master!AQ$61:BC$286,7,FALSE))","v":""},{"$f":"IF(ISNA(VLOOKUP(C159,Master!AQ$61:BC$286,8,FALSE)),\"\",VLOOKUP(C159,Master!AQ$61:BC$286,8,FALSE))","v":""},{"$f":"IF(ISNA(VLOOKUP(C159,Master!AQ$61:BC$286,4,FALSE)),\"\",VLOOKUP(C159,Master!AQ$61:BC$286,4,FALSE))","v":""},{"$f":"IF(ISNA(VLOOKUP(C159,Master!AQ$61:BC$286,5,FALSE)),\"\",VLOOKUP(C159,Master!AQ$61:BC$286,5,FALSE))","v":""},{"$f":"IF(ISNA(VLOOKUP(C159,Master!AQ$61:BC$286,6,FALSE)),\"\",VLOOKUP(C159,Master!AQ$61:BC$286,6,FALSE))","v":""},"","","","","",{"$f":"IF(ISNA(VLOOKUP(C159,Master!AQ$61:BC$286,12,FALSE)),\"\",VLOOKUP(C159,Master!AQ$61:BC$286,12,FALSE))","v":""},{"$nulls":4},0,1,{"$f":"IF(ISNA(VLOOKUP(C159,Master!AQ$61:BC$108,10,FALSE)),\"\",VLOOKUP(C159,Master!AQ$61:BC$108,10,FALSE))","v":""},null,null,{"$f":"IF(ISNA(VLOOKUP(C159,Master!AQ$61:BC$108,11,FALSE)),\"\",VLOOKUP(C159,Master!AQ$61:BC$108,11,FALSE))","v":""},{"$f":"IF(ISNA(VLOOKUP(C159,Master!AQ$61:BC$108,9,FALSE)),\"\",VLOOKUP(C159,Master!AQ$61:BC$108,9,FALSE))","v":""},0,0,0,0,0,0,{"$f":"IF(AND(I159=\"\"),\"\",I159-ROUNDUP(ROUND((I159*3%)-(I159*3%)*2.9%,-2),0))","v":""},{"$f":"IF(AND(I159=\"\"),\"\",$M159*$BR159)","v":""},{"$f":"IF(AND(I159=\"\"),\"\",$M159*$BS159)","v":""},{"$f":"IF(AND(I159=\"\"),\"\",$M159*$BT159)","v":""},{"$f":"IF(AND(I159=\"\"),\"\",$M159*$BU159)","v":""},{"$f":"IF(AND(I159=\"\"),\"\",ROUND((AH159+AI159)*$AL$10,0)*BV159)","v":""},0,0,{"$f":"IF(AND(I159=\"\"),\"\",ROUND((AH159+AI159)*$AO$10,0)*BV159)","v":""},0,0,0,0,0,0,0,null,null,{"$f":"AV159+AW159+AX159","v":0},0,0,0,0,{"$f":"ROUND((AZ159+BA159)*$BD$10,0)*BV159","v":0},0,0,{"$f":"ROUND((AZ159+BA159)*$BG$10,0)*BV159","v":0},0,0,0,0,0,{"$f":"SUM(BD159:BL159)+AZ159+BA159","v":0},{"$f":"BM159","v":0},null,null,{"$f":"BN159+BO159+BP159","v":0},0,1,0,0,0,{"$f":"IF(Y159=\"No\",0,1)","v":1},0,{"$f":"IF(I159<=0,0,1)","v":1},0,0,""]
["",2202,134,{"$f":"IF(ISNA(VLOOKUP(C160,Master!AQ$61:BC$286,3,FALSE)),\"\",VLOOKUP(C160,Master!AQ$61:BC$286,3,FALSE))","v":""},{"$f":"IF(ISNA(VLOOKUP(C160,Master!AQ$61:BC$286,7,FALSE)),\"\",VLOOKUP(C160,Master!AQ$61:BC$286,7,FALSE))","v":""},{"$f":"IF(ISNA(VLOOKUP(C160,Master!AQ$61:BC$286,8,FALSE)),\"\",VLOOKUP(C160,Master!AQ$61:BC$286,8,FALSE))","v":""},{"$f":"IF(ISNA(VLOOKUP(C160,Master!AQ$61:BC$286,4,FALSE)),\"\",VLOOKUP(C160,Master!AQ$61:BC$286,4,FALSE))","v":""},{"$f":"IF(ISNA(VLOOKUP(C160,Master!AQ$61:BC$286,5,FALSE)),\"\",VLOOKUP(C160,Master!AQ$61:BC$286,5,FALSE))","v":""},{"$f":"IF(ISNA(VLOOKUP(C160,Master!AQ$61:BC$286,6,FALSE)),\"\",VLOOKUP(C160,Master!AQ$61:BC$286,6,FALSE))","v":""},"","","","","",{"$f":"IF(ISNA(VLOOKUP(C160,Master!AQ$61:BC$286,12,FALSE)),\"\",VLOOKUP(C160,Master!AQ$61:BC$286,12,FALSE))","v":""},{"$nulls":4},0,1,{"$f":"IF(ISNA(VLOOKUP(C160,Master!AQ$61:BC$108,10,FALSE)),\"\",VLOOKUP(C160,Master!AQ$61:BC$108,10,FALSE))","v":""},null,null,{"$f":"IF(ISNA(VLOOKUP(C160,Master!AQ$61:BC$108,11,FALSE)),\"\",VLOOKUP(C160,Master!AQ$61:BC$108,11,FALSE))","v":""},{"$f":"IF(ISNA(VLOOKUP(C160,Master!AQ$61:BC$108,9,FALSE)),\"\",VLOOKUP(C160,Master!AQ$61:BC$108,9,FALSE))","v":""},0,0,0,0,0,0,{"$f":"IF(AND(I160=\"\"),\"\",I160-ROUNDUP(ROUND((I160*3%)-(I160*3%)*2.9%,-2),0))","v":""},{"$f":"IF(AND(I160=\"\"),\"\",$M160*$BR160)","v":""},{"$f":"IF(AND(I160=\"\"),\"\",$M160*$BS160)","v":""},{"$f":"IF(AND(I160=\"\"),\"\",$M160*$BT160)","v":""},{"$f":"IF(AND(I160=\"\"),\"\",$M160*$BU160)","v":""},{"$f":"IF(AND(I160=\"\"),\"\",ROUND((AH160+AI160)*$AL$10,0)*BV160)","v":""},0,0,{"$f":"IF(AND(I160=\"\"),\"\",ROUND((AH160+AI160)*$AO$10,0)*BV160)","v":""},0,0,0,0,0,0,0,null,null,{"$f":"AV160+AW160+AX160","v":0},0,0,0,0,{"$f":"ROUND((AZ160+BA160)*$BD$10,0)*BV160","v":0},0,0,{"$f":"ROUND((AZ160+BA160)*$BG$10,0)*BV160","v":0},0,0,0,0,0,{"$f":"SUM(BD160:BL160)+AZ160+BA160","v":0},{"$f":"BM160","v":0},null,null,{"$f":"BN160+BO160+BP160","v":0},0,1,0,0,0,{"$f":"IF(Y160=\"No\",0,1)","v":1},0,{"$f":"IF(I160<=0,0,1)","v":1},0,0,""]
["",2202,135,{"$f":"IF(ISNA(VLOOKUP(C161,Master!AQ$61:BC$286,3,FALSE)),\"\",VLOOKUP(C161,Master!AQ$61:BC$286,3,FALSE))","v":""},{"$f":"IF(ISNA(VLOOKUP(C161,Master!AQ$61:BC$286,7,FALSE)),\"\",VLOOKUP(C161,Master!AQ$61:BC$286,7,FALSE))","v":""},{"$f":"IF(ISNA(VLOOKUP(C161,Master!AQ$61:BC$286,8,FALSE)),\"\",VLOOKUP(C161,Master!AQ$61:BC$286,8,FALSE))","v":""},{"$f":"IF(ISNA(VLOOKUP(C161,Master!AQ$61:BC$286,4,FALSE)),\"\",VLOOKUP(C161,Master!AQ$61:BC$286,4,FALSE))","v":""},{"$f":"IF(ISNA(VLOOKUP(C161,Master!AQ$61:BC$286,5,FALSE)),\"\",VLOOKUP(C161,Master!AQ$61:BC$286,5,FALSE))","v":""},{"$f":"IF(ISNA(VLOOKUP(C161,Master!AQ$61:BC$286,6,FALSE)),\"\",VLOOKUP(C161,Master!AQ$61:BC$286,6,FALSE))","v":""},"","","","","",{"$f":"IF(ISNA(VLOOKUP(C161,Master!AQ$61:BC$286,12,FALSE)),\"\",VLOOKUP(C161,Master!AQ$61:BC$286,12,FALSE))","v":""},{"$nulls":4},0,1,{"$f":"IF(ISNA(VLOOKUP(C161,Master!AQ$61:BC$108,10,FALSE)),\"\",VLOOKUP(C161,Master!AQ$61:BC$108,10,FALSE))","v":""},null,null,{"$f":"IF(ISNA(VLOOKUP(C161,Master!AQ$61:BC$108,11,FALSE)),\"\",VLOOKUP(C161,Master!AQ$61:BC$108,11,FALSE))","v":""},{"$f":"IF(ISNA(VLOOKUP(C161,Master!AQ$61:BC$108,9,FALSE)),\"\",VLOOKUP(C161,Master!AQ$61:BC$108,9,FALSE))","v":""},0,0,0,0,0,0,"","","","","","",0,0,"",0,0,0,0,0,0,0,null,null,0,0,0,0,0,0,0,0,0,0,0,0,0,0,0,0,null,null,0,0,1,0,0,0,1,0,1,0,0,""]
["",2202,136,{"$f":"IF(ISNA(VLOOKUP(C162,Master!AQ$61:BC$286,3,FALSE)),\"\",VLOOKUP(C162,Master!AQ$61:BC$286,3,FALSE))","v":""},{"$f":"IF(ISNA(VLOOKUP(C162,Master!AQ$61:BC$286,7,FALSE)),\"\",VLOOKUP(C162,Master!AQ$61:BC$286,7,FALSE))","v":""},{"$f":"IF(ISNA(VLOOKUP(C162,Master!AQ$61:BC$286,8,FALSE)),\"\",VLOOKUP(C162,Master!AQ$61:BC$286,8,FALSE))","v":""},{"$f":"IF(ISNA(VLOOKUP(C162,Master!AQ$61:BC$286,4,FALSE)),\"\",VLOOKUP(C162,Master!AQ$61:BC$286,4,FALSE))","v":""},{"$f":"IF(ISNA(VLOOKUP(C162,Master!AQ$61:BC$286,5,FALSE)),\"\",VLOOKUP(C162,Master!AQ$61:BC$286,5,FALSE))","v":""},{"$f":"IF(ISNA(VLOOKUP(C162,Master!AQ$61:BC$286,6,FALSE)),\"\",VLOOKUP(C162,Master!AQ$61:BC$286,6,FALSE))","v":""},"","","","","",{"$f":"IF(ISNA(VLOOKUP(C162,Master!AQ$61:BC$286,12,FALSE)),\"\",VLOOKUP(C162,Master!AQ$61:BC$286,12,FALSE))","v":""},{"$nulls":4},0,1,{"$f":"IF(ISNA(VLOOKUP(C162,Master!AQ$61:BC$108,10,FALSE)),\"\",VLOOKUP(C162,Master!AQ$61:BC$108,10,FALSE))","v":""},null,null,{"$f":"IF(ISNA(VLOOKUP(C162,Master!AQ$61:BC$108,11,FALSE)),\"\",VLOOKUP(C162,Master!AQ$61:BC$108,11,FALSE))","v":""},{"$f":"IF(ISNA(VLOOKUP(C162,Master!AQ$61:BC$108,9,FALSE)),\"\",VLOOKUP(C162,Master!AQ$61:BC$108,9,FALSE))","v":""},0,0,0,0,0,0,"","","","","","",0,0,"",0,0,0,0,0,0,0,null,null,0,0,0,0,0,0,0,0,0,0,0,0,0,0,0,0,null,null,0,0,1,0,0,0,1,0,1,0,0,""]
["",2202,137,{"$f":"IF(ISNA(VLOOKUP(C163,Master!AQ$61:BC$286,3,FALSE)),\"\",VLOOKUP(C163,Master!AQ$61:BC$286,3,FALSE))","v":""},{"$f":"IF(ISNA(VLOOKUP(C163,Master!AQ$61:BC$286,7,FALSE)),\"\",VLOOKUP(C163,Master!AQ$61:BC$286,7,FALSE))","v":""},{"$f":"IF(ISNA(VLOOKUP(C163,Master!AQ$61:BC$286,8,FALSE)),\"\",VLOOKUP(C163,Master!AQ$61:BC$286,8,FALSE))","v":""},{"$f":"IF(ISNA(VLOOKUP(C163,Master!AQ$61:BC$286,4,FALSE)),\"\",VLOOKUP(C163,Master!AQ$61:BC$286,4,FALSE))","v":""},{"$f":"IF(ISNA(VLOOKUP(C163,Master!AQ$61:BC$286,5,FALSE)),\"\",VLOOKUP(C163,Master!AQ$61:BC$286,5,FALSE))","v":""},{"$f":"IF(ISNA(VLOOKUP(C163,Master!AQ$61:BC$286,6,FALSE)),\"\",VLOOKUP(C163,Master!AQ$61:BC$286,6,FALSE))","v":""},"","","","","",{"$f":"IF(ISNA(VLOOKUP(C163,Master!AQ$61:BC$286,12,FALSE)),\"\",VLOOKUP(C163,Master!AQ$61:BC$286,12,FALSE))","v":""},{"$nulls":4},0,1,{"$f":"IF(ISNA(VLOOKUP(C163,Master!AQ$61:BC$108,10,FALSE)),\"\",VLOOKUP(C163,Master!AQ$61:BC$108,10,FALSE))","v":""},null,null,{"$f":"IF(ISNA(VLOOKUP(C163,Master!AQ$61:BC$108,11,FALSE)),\"\",VLOOKUP(C163,Master!AQ$61:BC$108,11,FALSE))","v":""},{"$f":"IF(ISNA(VLOOKUP(C163,Master!AQ$61:BC$108,9,FALSE)),\"\",VLOOKUP(C163,Master!AQ$61:BC$108,9,FALSE))","v":""},0,0,0,0,0,0,"","","","","","",0,0,"",0,0,0,0,0,0,0,null,null,0,0,0,0,0,0,0,0,0,0,0,0,0,0,0,0,null,null,0,0,1,0,0,0,1,0,1,0,0,""]
["",2202,138,{"$f":"IF(ISNA(VLOOKUP(C164,Master!AQ$61:BC$286,3,FALSE)),\"\",VLOOKUP(C164,Master!AQ$61:BC$286,3,FALSE))","v":""},{"$f":"IF(ISNA(VLOOKUP(C164,Master!AQ$61:BC$286,7,FALSE)),\"\",VLOOKUP(C164,Master!AQ$61:BC$286,7,FALSE))","v":""},{"$f":"IF(ISNA(VLOOKUP(C164,Master!AQ$61:BC$286,8,FALSE)),\"\",VLOOKUP(C164,Master!AQ$61:BC$286,8,FALSE))","v":""},{"$f":"IF(ISNA(VLOOKUP(C164,Master!AQ$61:BC$286,4,FALSE)),\"\",VLOOKUP(C164,Master!AQ$61:BC$286,4,FALSE))","v":""},{"$f":"IF(ISNA(VLOOKUP(C164,Master!AQ$61:BC$286,5,FALSE)),\"\",VLOOKUP(C164,Master!AQ$61:BC$286,5,FALSE))","v":""},{"$f":"IF(ISNA(VLOOKUP(C164,Master!AQ$61:BC$286,6,FALSE)),\"\",VLOOKUP(C164,Master!AQ$61:BC$286,6,FALSE))","v":""},"","","","","",{"$f":"IF(ISNA(VLOOKUP(C164,Master!AQ$61:BC$286,12,FALSE)),\"\",VLOOKUP(C164,Master!AQ$61:BC$286,12,FALSE))","v":""},{"$nulls":4},0,1,{"$f":"IF(ISNA(VLOOKUP(C164,Master!AQ$61:BC$108,10,FALSE)),\"\",VLOOKUP(C164,Master!AQ$61:BC$108,10,FALSE))","v":""},null,null,{"$f":"IF(ISNA(VLOOKUP(C164,Master!AQ$61:BC$108,11,FALSE)),\"\",VLOOKUP(C164,Master!AQ$61:BC$108,11,FALSE))","v":""},{"$f":"IF(ISNA(VLOOKUP(C164,Master!AQ$61:BC$108,9,FALSE)),\"\",VLOOKUP(C164,Master!AQ$61:BC$108,9,FALSE))","v":""},0,0,0,0,0,0,"","","","","","",0,0,"",0,0,0,0,0,0,0,null,null,0,0,0,0,0,0,0,0,0,0,0,0,0,0,0,0,null,null,0,0,1,0,0,0,1,0,1,0,0,""]
["",2202,139,{"$f":"IF(ISNA(VLOOKUP(C165,Master!AQ$61:BC$286,3,FALSE)),\"\",VLOOKUP(C165,Master!AQ$61:BC$286,3,FALSE))","v":""},{"$f":"IF(ISNA(VLOOKUP(C165,Master!AQ$61:BC$286,7,FALSE)),\"\",VLOOKUP(C165,Master!AQ$61:BC$286,7,FALSE))","v":""},{"$f":"IF(ISNA(VLOOKUP(C165,Master!AQ$61:BC$286,8,FALSE)),\"\",VLOOKUP(C165,Master!AQ$61:BC$286,8,FALSE))","v":""},{"$f":"IF(ISNA(VLOOKUP(C165,Master!AQ$61:BC$286,4,FALSE)),\"\",VLOOKUP(C165,Master!AQ$61:BC$286,4,FALSE))","v":""},{"$f":"IF(ISNA(VLOOKUP(C165,Master!AQ$61:BC$286,5,FALSE)),\"\",VLOOKUP(C165,Master!AQ$61:BC$286,5,FALSE))","v":""},{"$f":"IF(ISNA(VLOOKUP(C165,Master!AQ$61:BC$286,6,FALSE)),\"\",VLOOKUP(C165,Master!AQ$61:BC$286,6,FALSE))","v":""},"","","","","",{"$f":"IF(ISNA(VLOOKUP(C165,Master!AQ$61:BC$286,12,FALSE)),\"\",VLOOKUP(C165,Master!AQ$61:BC$286,12,FALSE))","v":""},{"$nulls":4},0,1,{"$f":"IF(ISNA(VLOOKUP(C165,Master!AQ$61:BC$108,10,FALSE)),\"\",VLOOKUP(C165,Master!AQ$61:BC$108,10,FALSE))","v":""},null,null,{"$f":"IF(ISNA(VLOOKUP(C165,Master!AQ$61:BC$108,11,FALSE)),\"\",VLOOKUP(C165,Master!AQ$61:BC$108,11,FALSE))","v":""},{"$f":"IF(ISNA(VLOOKUP(C165,Master!AQ$61:BC$108,9,FALSE)),\"\",VLOOKUP(C165,Master!AQ$61:BC$108,9,FALSE))","v":""},0,0,0,0,0,0,"","","","","","",0,0,"",0,0,0,0,0,0,0,null,null,0,0,0,0,0,0,0,0,0,0,0,0,0,0,0,0,null,null,0,0,1,0,0,0,1,0,1,0,0,""]
["",2202,140,{"$f":"IF(ISNA(VLOOKUP(C166,Master!AQ$61:BC$286,3,FALSE)),\"\",VLOOKUP(C166,Master!AQ$61:BC$286,3,FALSE))","v":""},{"$f":"IF(ISNA(VLOOKUP(C166,Master!AQ$61:BC$286,7,FALSE)),\"\",VLOOKUP(C166,Master!AQ$61:BC$286,7,FALSE))","v":""},{"$f":"IF(ISNA(VLOOKUP(C166,Master!AQ$61:BC$286,8,FALSE)),\"\",VLOOKUP(C166,Master!AQ$61:BC$286,8,FALSE))","v":""},{"$f":"IF(ISNA(VLOOKUP(C166,Master!AQ$61:BC$286,4,FALSE)),\"\",VLOOKUP(C166,Master!AQ$61:BC$286,4,FALSE))","v":""},{"$f":"IF(ISNA(VLOOKUP(C166,Master!AQ$61:BC$286,5,FALSE)),\"\",VLOOKUP(C166,Master!AQ$61:BC$286,5,FALSE))","v":""},{"$f":"IF(ISNA(VLOOKUP(C166,Master!AQ$61:BC$286,6,FALSE)),\"\",VLOOKUP(C166,Master!AQ$61:BC$286,6,FALSE))","v":""},"","","","","",{"$f":"IF(ISNA(VLOOKUP(C166,Master!AQ$61:BC$286,12,FALSE)),\"\",VLOOKUP(C166,Master!AQ$61:BC$286,12,FALSE))","v":""},{"$nulls":4},0,1,{"$f":"IF(ISNA(VLOOKUP(C166,Master!AQ$61:BC$108,10,FALSE)),\"\",VLOOKUP(C166,Master!AQ$61:BC$108,10,FALSE))","v":""},null,null,{"$f":"IF(ISNA(VLOOKUP(C166,Master!AQ$61:BC$108,11,FALSE)),\"\",VLOOKUP(C166,Master!AQ$61:BC$108,11,FALSE))","v":""},{"$f":"IF(ISNA(VLOOKUP(C166,Master!AQ$61:BC$108,9,FALSE)),\"\",VLOOKUP(C166,Master!AQ$61:BC$108,9,FALSE))","v":""},0,0,0,0,0,0,"","","","","","",0,0,"",0,0,0,0,0,0,0,null,null,0,0,0,0,0,0,0,0,0,0,0,0,0,0,0,0,null,null,0,0,1,0,0,0,1,0,1,0,0,""]
["",2202,141,{"$f":"IF(ISNA(VLOOKUP(C167,Master!AQ$61:BC$286,3,FALSE)),\"\",VLOOKUP(C167,Master!AQ$61:BC$286,3,FALSE))","v":""},{"$f":"IF(ISNA(VLOOKUP(C167,Master!AQ$61:BC$286,7,FALSE)),\"\",VLOOKUP(C167,Master!AQ$61:BC$286,7,FALSE))","v":""},{"$f":"IF(ISNA(VLOOKUP(C167,Master!AQ$61:BC$286,8,FALSE)),\"\",VLOOKUP(C167,Master!AQ$61:BC$286,8,FALSE))","v":""},{"$f":"IF(ISNA(VLOOKUP(C167,Master!AQ$61:BC$286,4,FALSE)),\"\",VLOOKUP(C167,Master!AQ$61:BC$286,4,FALSE))","v":""},{"$f":"IF(ISNA(VLOOKUP(C167,Master!AQ$61:BC$286,5,FALSE)),\"\",VLOOKUP(C167,Master!AQ$61:BC$286,5,FALSE))","v":""},{"$f":"IF(ISNA(VLOOKUP(C167,Master!AQ$61:BC$286,6,FALSE)),\"\",VLOOKUP(C167,Master!AQ$61:BC$286,6,FALSE))","v":""},"","","","","",{"$f":"IF(ISNA(VLOOKUP(C167,Master!AQ$61:BC$286,12,FALSE)),\"\",VLOOKUP(C167,Master!AQ$61:BC$286,12,FALSE))","v":""},{"$nulls":4},0,1,{"$f":"IF(ISNA(VLOOKUP(C167,Master!AQ$61:BC$108,10,FALSE)),\"\",VLOOKUP(C167,Master!AQ$61:BC$108,10,FALSE))","v":""},null,null,{"$f":"IF(ISNA(VLOOKUP(C167,Master!AQ$61:BC$108,11,FALSE)),\"\",VLOOKUP(C167,Master!AQ$61:BC$108,11,FALSE))","v":""},{"$f":"IF(ISNA(VLOOKUP(C167,Master!AQ$61:BC$108,9,FALSE)),\"\",VLOOKUP(C167,Master!AQ$61:BC$108,9,FALSE))","v":""},0,0,0,0,0,0,"","","","","","",0,0,"",0,0,0,0,0,0,0,null,null,0,0,0,0,0,0,0,0,0,0,0,0,0,0,0,0,null,null,0,0,1,0,0,0,1,0,1,0,0,""]
["",2202,142,{"$f":"IF(ISNA(VLOOKUP(C168,Master!AQ$61:BC$286,3,FALSE)),\"\",VLOOKUP(C168,Master!AQ$61:BC$286,3,FALSE))","v":""},{"$f":"IF(ISNA(VLOOKUP(C168,Master!AQ$61:BC$286,7,FALSE)),\"\",VLOOKUP(C168,Master!AQ$61:BC$286,7,FALSE))","v":""},{"$f":"IF(ISNA(VLOOKUP(C168,Master!AQ$61:BC$286,8,FALSE)),\"\",VLOOKUP(C168,Master!AQ$61:BC$286,8,FALSE))","v":""},{"$f":"IF(ISNA(VLOOKUP(C168,Master!AQ$61:BC$286,4,FALSE)),\"\",VLOOKUP(C168,Master!AQ$61:BC$286,4,FALSE))","v":""},{"$f":"IF(ISNA(VLOOKUP(C168,Master!AQ$61:BC$286,5,FALSE)),\"\",VLOOKUP(C168,Master!AQ$61:BC$286,5,FALSE))","v":""},{"$f":"IF(ISNA(VLOOKUP(C168,Master!AQ$61:BC$286,6,FALSE)),\"\",VLOOKUP(C168,Master!AQ$61:BC$286,6,FALSE))","v":""},"","","","","",{"$f":"IF(ISNA(VLOOKUP(C168,Master!AQ$61:BC$286,12,FALSE)),\"\",VLOOKUP(C168,Master!AQ$61:BC$286,12,FALSE))","v":""},{"$nulls":4},0,1,{"$f":"IF(ISNA(VLOOKUP(C168,Master!AQ$61:BC$108,10,FALSE)),\"\",VLOOKUP(C168,Master!AQ$61:BC$108,10,FALSE))","v":""},null,null,{"$f":"IF(ISNA(VLOOKUP(C168,Master!AQ$61:BC$108,11,FALSE)),\"\",VLOOKUP(C168,Master!AQ$61:BC$108,11,FALSE))","v":""},{"$f":"IF(ISNA(VLOOKUP(C168,Master!AQ$61:BC$108,9,FALSE)),\"\",VLOOKUP(C168,Master!AQ$61:BC$108,9,FALSE))","v":""},0,0,0,0,0,0,"","","","","","",0,0,"",0,0,0,0,0,0,0,null,null,0,0,0,0,0,0,0,0,0,0,0,0,0,0,0,0,null,null,0,0,1,0,0,0,1,0,1,0,0,""]
["",2202,143,{"$f":"IF(ISNA(VLOOKUP(C169,Master!AQ$61:BC$286,3,FALSE)),\"\",VLOOKUP(C169,Master!AQ$61:BC$286,3,FALSE))","v":""},{"$f":"IF(ISNA(VLOOKUP(C169,Master!AQ$61:BC$286,7,FALSE)),\"\",VLOOKUP(C169,Master!AQ$61:BC$286,7,FALSE))","v":""},{"$f":"IF(ISNA(VLOOKUP(C169,Master!AQ$61:BC$286,8,FALSE)),\"\",VLOOKUP(C169,Master!AQ$61:BC$286,8,FALSE))","v":""},{"$f":"IF(ISNA(VLOOKUP(C169,Master!AQ$61:BC$286,4,FALSE)),\"\",VLOOKUP(C169,Master!AQ$61:BC$286,4,FALSE))","v":""},{"$f":"IF(ISNA(VLOOKUP(C169,Master!AQ$61:BC$286,5,FALSE)),\"\",VLOOKUP(C169,Master!AQ$61:BC$286,5,FALSE))","v":""},{"$f":"IF(ISNA(VLOOKUP(C169,Master!AQ$61:BC$286,6,FALSE)),\"\",VLOOKUP(C169,Master!AQ$61:BC$286,6,FALSE))","v":""},"","","","","",{"$f":"IF(ISNA(VLOOKUP(C169,Master!AQ$61:BC$286,12,FALSE)),\"\",VLOOKUP(C169,Master!AQ$61:BC$286,12,FALSE))","v":""},{"$nulls":4},0,1,{"$f":"IF(ISNA(VLOOKUP(C169,Master!AQ$61:BC$108,10,FALSE)),\"\",VLOOKUP(C169,Master!AQ$61:BC$108,10,FALSE))","v":""},null,null,{"$f":"IF(ISNA(VLOOKUP(C169,Master!AQ$61:BC$108,11,FALSE)),\"\",VLOOKUP(C169,Master!AQ$61:BC$108,11,FALSE))","v":""},{"$f":"IF(ISNA(VLOOKUP(C169,Master!AQ$61:BC$108,9,FALSE)),\"\",VLOOKUP(C169,Master!AQ$61:BC$108,9,FALSE))","v":""},0,0,0,0,0,0,"","","","","","",0,0,"",0,0,0,0,0,0,0,null,null,0,0,0,0,0,0,0,0,0,0,0,0,0,0,0,0,null,null,0,0,1,0,0,0,1,0,1,0,0,""]
["",2202,144,{"$f":"IF(ISNA(VLOOKUP(C170,Master!AQ$61:BC$286,3,FALSE)),\"\",VLOOKUP(C170,Master!AQ$61:BC$286,3,FALSE))","v":""},{"$f":"IF(ISNA(VLOOKUP(C170,Master!AQ$61:BC$286,7,FALSE)),\"\",VLOOKUP(C170,Master!AQ$61:BC$286,7,FALSE))","v":""},{"$f":"IF(ISNA(VLOOKUP(C170,Master!AQ$61:BC$286,8,FALSE)),\"\",VLOOKUP(C170,Master!AQ$61:BC$286,8,FALSE))","v":""},{"$f":"IF(ISNA(VLOOKUP(C170,Master!AQ$61:BC$286,4,FALSE)),\"\",VLOOKUP(C170,Master!AQ$61:BC$286,4,FALSE))","v":""},{"$f":"IF(ISNA(VLOOKUP(C170,Master!AQ$61:BC$286,5,FALSE)),\"\",VLOOKUP(C170,Master!AQ$61:BC$286,5,FALSE))","v":""},{"$f":"IF(ISNA(VLOOKUP(C170,Master!AQ$61:BC$286,6,FALSE)),\"\",VLOOKUP(C170,Master!AQ$61:BC$286,6,FALSE))","v":""},"","","","","",{"$f":"IF(ISNA(VLOOKUP(C170,Master!AQ$61:BC$286,12,FALSE)),\"\",VLOOKUP(C170,Master!AQ$61:BC$286,12,FALSE))","v":""},{"$nulls":4},0,1,{"$f":"IF(ISNA(VLOOKUP(C170,Master!AQ$61:BC$108,10,FALSE)),\"\",VLOOKUP(C170,Master!AQ$61:BC$108,10,FALSE))","v":""},null,null,{"$f":"IF(ISNA(VLOOKUP(C170,Master!AQ$61:BC$108,11,FALSE)),\"\",VLOOKUP(C170,Master!AQ$61:BC$108,11,FALSE))","v":""},{"$f":"IF(ISNA(VLOOKUP(C170,Master!AQ$61:BC$108,9,FALSE)),\"\",VLOOKUP(C170,Master!AQ$61:BC$108,9,FALSE))","v":""},0,0,0,0,0,0,"","","","","","",0,0,"",0,0,0,0,0,0,0,null,null,0,0,0,0,0,0,0,0,0,0,0,0,0,0,0,0,null,null,0,0,1,0,0,0,1,0,1,0,0,""]
["",2202,145,{"$f":"IF(ISNA(VLOOKUP(C171,Master!AQ$61:BC$286,3,FALSE)),\"\",VLOOKUP(C171,Master!AQ$61:BC$286,3,FALSE))","v":""},{"$f":"IF(ISNA(VLOOKUP(C171,Master!AQ$61:BC$286,7,FALSE)),\"\",VLOOKUP(C171,Master!AQ$61:BC$286,7,FALSE))","v":""},{"$f":"IF(ISNA(VLOOKUP(C171,Master!AQ$61:BC$286,8,FALSE)),\"\",VLOOKUP(C171,Master!AQ$61:BC$286,8,FALSE))","v":""},{"$f":"IF(ISNA(VLOOKUP(C171,Master!AQ$61:BC$286,4,FALSE)),\"\",VLOOKUP(C171,Master!AQ$61:BC$286,4,FALSE))","v":""},{"$f":"IF(ISNA(VLOOKUP(C171,Master!AQ$61:BC$286,5,FALSE)),\"\",VLOOKUP(C171,Master!AQ$61:BC$286,5,FALSE))","v":""},{"$f":"IF(ISNA(VLOOKUP(C171,Master!AQ$61:BC$286,6,FALSE)),\"\",VLOOKUP(C171,Master!AQ$61:BC$286,6,FALSE))","v":""},"","","","","",{"$f":"IF(ISNA(VLOOKUP(C171,Master!AQ$61:BC$286,12,FALSE)),\"\",VLOOKUP(C171,Master!AQ$61:BC$286,12,FALSE))","v":""},{"$nulls":4},0,1,{"$f":"IF(ISNA(VLOOKUP(C171,Master!AQ$61:BC$108,10,FALSE)),\"\",VLOOKUP(C171,Master!AQ$61:BC$108,10,FALSE))","v":""},null,null,{"$f":"IF(ISNA(VLOOKUP(C171,Master!AQ$61:BC$108,11,FALSE)),\"\",VLOOKUP(C171,Master!AQ$61:BC$108,11,FALSE))","v":""},{"$f":"IF(ISNA(VLOOKUP(C171,Master!AQ$61:BC$108,9,FALSE)),\"\",VLOOKUP(C171,Master!AQ$61:BC$108,9,FALSE))","v":""},0,0,0,0,0,0,"","","","","","",0,0,"",0,0,0,0,0,0,0,null,null,0,0,0,0,0,0,0,0,0,0,0,0,0,0,0,0,null,null,0,0,1,0,0,0,1,0,1,0,0,""]
["",2202,146,{"$f":"IF(ISNA(VLOOKUP(C172,Master!AQ$61:BC$286,3,FALSE)),\"\",VLOOKUP(C172,Master!AQ$61:BC$286,3,FALSE))","v":""},{"$f":"IF(ISNA(VLOOKUP(C172,Master!AQ$61:BC$286,7,FALSE)),\"\",VLOOKUP(C172,Master!AQ$61:BC$286,7,FALSE))","v":""},{"$f":"IF(ISNA(VLOOKUP(C172,Master!AQ$61:BC$286,8,FALSE)),\"\",VLOOKUP(C172,Master!AQ$61:BC$286,8,FALSE))","v":""},{"$f":"IF(ISNA(VLOOKUP(C172,Master!AQ$61:BC$286,4,FALSE)),\"\",VLOOKUP(C172,Master!AQ$61:BC$286,4,FALSE))","v":""},{"$f":"IF(ISNA(VLOOKUP(C172,Master!AQ$61:BC$286,5,FALSE)),\"\",VLOOKUP(C172,Master!AQ$61:BC$286,5,FALSE))","v":""},{"$f":"IF(ISNA(VLOOKUP(C172,Master!AQ$61:BC$286,6,FALSE)),\"\",VLOOKUP(C172,Master!AQ$61:BC$286,6,FALSE))","v":""},"","","","","",{"$f":"IF(ISNA(VLOOKUP(C172,Master!AQ$61:BC$286,12,FALSE)),\"\",VLOOKUP(C172,Master!AQ$61:BC$286,12,FALSE))","v":""},{"$nulls":4},0,1,{"$f":"IF(ISNA(VLOOKUP(C172,Master!AQ$61:BC$108,10,FALSE)),\"\",VLOOKUP(C172,Master!AQ$61:BC$108,10,FALSE))","v":""},null,null,{"$f":"IF(ISNA(VLOOKUP(C172,Master!AQ$61:BC$108,11,FALSE)),\"\",VLOOKUP(C172,Master!AQ$61:BC$108,11,FALSE))","v":""},{"$f":"IF(ISNA(VLOOKUP(C172,Master!AQ$61:BC$108,9,FALSE)),\"\",VLOOKUP(C172,Master!AQ$61:BC$108,9,FALSE))","v":""},0,0,0,0,0,0,"","","","","","",0,0,"",0,0,0,0,0,0,0,null,null,0,0,0,0,0,0,0,0,0,0,0,0,0,0,0,0,null,null,0,0,1,0,0,0,1,0,1,0,0,""]
["",2202,147,{"$f":"IF(ISNA(VLOOKUP(C173,Master!AQ$61:BC$286,3,FALSE)),\"\",VLOOKUP(C173,Master!AQ$61:BC$286,3,FALSE))","v":""},{"$f":"IF(ISNA(VLOOKUP(C173,Master!AQ$61:BC$286,7,FALSE)),\"\",VLOOKUP(C173,Master!AQ$61:BC$286,7,FALSE))","v":""},{"$f":"IF(ISNA(VLOOKUP(C173,Master!AQ$61:BC$286,8,FALSE)),\"\",VLOOKUP(C173,Master!AQ$61:BC$286,8,FALSE))","v":""},{"$f":"IF(ISNA(VLOOKUP(C173,Master!AQ$61:BC$286,4,FALSE)),\"\",VLOOKUP(C173,Master!AQ$61:BC$286,4,FALSE))","v":""},{"$f":"IF(ISNA(VLOOKUP(C173,Master!AQ$61:BC$286,5,FALSE)),\"\",VLOOKUP(C173,Master!AQ$61:BC$286,5,FALSE))","v":""},{"$f":"IF(ISNA(VLOOKUP(C173,Master!AQ$61:BC$286,6,FALSE)),\"\",VLOOKUP(C173,Master!AQ$61:BC$286,6,FALSE))","v":""},"","","","","",{"$f":"IF(ISNA(VLOOKUP(C173,Master!AQ$61:BC$286,12,FALSE)),\"\",VLOOKUP(C173,Master!AQ$61:BC$286,12,FALSE))","v":""},{"$nulls":4},0,1,{"$f":"IF(ISNA(VLOOKUP(C173,Master!AQ$61:BC$108,10,FALSE)),\"\",VLOOKUP(C173,Master!AQ$61:BC$108,10,FALSE))","v":""},null,null,{"$f":"IF(ISNA(VLOOKUP(C173,Master!AQ$61:BC$108,11,FALSE)),\"\",VLOOKUP(C173,Master!AQ$61:BC$108,11,FALSE))","v":""},{"$f":"IF(ISNA(VLOOKUP(C173,Master!AQ$61:BC$108,9,FALSE)),\"\",VLOOKUP(C173,Master!AQ$61:BC$108,9,FALSE))","v":""},0,0,0,0,0,0,"","","","","","",0,0,"",0,0,0,0,0,0,0,null,null,0,0,0,0,0,0,0,0,0,0,0,0,0,0,0,0,null,null,0,0,1,0,0,0,1,0,1,0,0,""]
["",2202,148,{"$f":"IF(ISNA(VLOOKUP(C174,Master!AQ$61:BC$286,3,FALSE)),\"\",VLOOKUP(C174,Master!AQ$61:BC$286,3,FALSE))","v":""},{"$f":"IF(ISNA(VLOOKUP(C174,Master!AQ$61:BC$286,7,FALSE)),\"\",VLOOKUP(C174,Master!AQ$61:BC$286,7,FALSE))","v":""},{"$f":"IF(ISNA(VLOOKUP(C174,Master!AQ$61:BC$286,8,FALSE)),\"\",VLOOKUP(C174,Master!AQ$61:BC$286,8,FALSE))","v":""},{"$f":"IF(ISNA(VLOOKUP(C174,Master!AQ$61:BC$286,4,FALSE)),\"\",VLOOKUP(C174,Master!AQ$61:BC$286,4,FALSE))","v":""},{"$f":"IF(ISNA(VLOOKUP(C174,Master!AQ$61:BC$286,5,FALSE)),\"\",VLOOKUP(C174,Master!AQ$61:BC$286,5,FALSE))","v":""},{"$f":"IF(ISNA(VLOOKUP(C174,Master!AQ$61:BC$286,6,FALSE)),\"\",VLOOKUP(C174,Master!AQ$61:BC$286,6,FALSE))","v":""},"","","","","",{"$f":"IF(ISNA(VLOOKUP(C174,Master!AQ$61:BC$286,12,FALSE)),\"\",VLOOKUP(C174,Master!AQ$61:BC$286,12,FALSE))","v":""},{"$nulls":4},0,1,{"$f":"IF(ISNA(VLOOKUP(C174,Master!AQ$61:BC$108,10,FALSE)),\"\",VLOOKUP(C174,Master!AQ$61:BC$108,10,FALSE))","v":""},null,null,{"$f":"IF(ISNA(VLOOKUP(C174,Master!AQ$61:BC$108,11,FALSE)),\"\",VLOOKUP(C174,Master!AQ$61:BC$108,11,FALSE))","v":""},{"$f":"IF(ISNA(VLOOKUP(C174,Master!AQ$61:BC$108,9,FALSE)),\"\",VLOOKUP(C174,Master!AQ$61:BC$108,9,FALSE))","v":""},0,0,0,0,0,0,"","","","","","",0,0,"",0,0,0,0,0,0,0,null,null,0,0,0,0,0,0,0,0,0,0,0,0,0,0,0,0,null,null,0,0,1,0,0,0,1,0,1,0,0,""]
["",2202,149,{"$f":"IF(ISNA(VLOOKUP(C175,Master!AQ$61:BC$286,3,FALSE)),\"\",VLOOKUP(C175,Master!AQ$61:BC$286,3,FALSE))","v":""},{"$f":"IF(ISNA(VLOOKUP(C175,Master!AQ$61:BC$286,7,FALSE)),\"\",VLOOKUP(C175,Master!AQ$61:BC$286,7,FALSE))","v":""},{"$f":"IF(ISNA(VLOOKUP(C175,Master!AQ$61:BC$286,8,FALSE)),\"\",VLOOKUP(C175,Master!AQ$61:BC$286,8,FALSE))","v":""},{"$f":"IF(ISNA(VLOOKUP(C175,Master!AQ$61:BC$286,4,FALSE)),\"\",VLOOKUP(C175,Master!AQ$61:BC$286,4,FALSE))","v":""},{"$f":"IF(ISNA(VLOOKUP(C175,Master!AQ$61:BC$286,5,FALSE)),\"\",VLOOKUP(C175,Master!AQ$61:BC$286,5,FALSE))","v":""},{"$f":"IF(ISNA(VLOOKUP(C175,Master!AQ$61:BC$286,6,FALSE)),\"\",VLOOKUP(C175,Master!AQ$61:BC$286,6,FALSE))","v":""},"","","","","",{"$f":"IF(ISNA(VLOOKUP(C175,Master!AQ$61:BC$286,12,FALSE)),\"\",VLOOKUP(C175,Master!AQ$61:BC$286,12,FALSE))","v":""},{"$nulls":4},0,1,{"$f":"IF(ISNA(VLOOKUP(C175,Master!AQ$61:BC$108,10,FALSE)),\"\",VLOOKUP(C175,Master!AQ$61:BC$108,10,FALSE))","v":""},null,null,{"$f":"IF(ISNA(VLOOKUP(C175,Master!AQ$61:BC$108,11,FALSE)),\"\",VLOOKUP(C175,Master!AQ$61:BC$108,11,FALSE))","v":""},{"$f":"IF(ISNA(VLOOKUP(C175,Master!AQ$61:BC$108,9,FALSE)),\"\",VLOOKUP(C175,Master!AQ$61:BC$108,9,FALSE))","v":""},0,0,0,0,0,0,"","","","","","",0,0,"",0,0,0,0,0,0,0,null,null,0,0,0,0,0,0,0,0,0,0,0,0,0,0,0,0,null,null,0,0,1,0,0,0,1,0,1,0,0,""]
["",2202,150,{"$f":"IF(ISNA(VLOOKUP(C176,Master!AQ$61:BC$286,3,FALSE)),\"\",VLOOKUP(C176,Master!AQ$61:BC$286,3,FALSE))","v":""},{"$f":"IF(ISNA(VLOOKUP(C176,Master!AQ$61:BC$286,7,FALSE)),\"\",VLOOKUP(C176,Master!AQ$61:BC$286,7,FALSE))","v":""},{"$f":"IF(ISNA(VLOOKUP(C176,Master!AQ$61:BC$286,8,FALSE)),\"\",VLOOKUP(C176,Master!AQ$61:BC$286,8,FALSE))","v":""},{"$f":"IF(ISNA(VLOOKUP(C176,Master!AQ$61:BC$286,4,FALSE)),\"\",VLOOKUP(C176,Master!AQ$61:BC$286,4,FALSE))","v":""},{"$f":"IF(ISNA(VLOOKUP(C176,Master!AQ$61:BC$286,5,FALSE)),\"\",VLOOKUP(C176,Master!AQ$61:BC$286,5,FALSE))","v":""},{"$f":"IF(ISNA(VLOOKUP(C176,Master!AQ$61:BC$286,6,FALSE)),\"\",VLOOKUP(C176,Master!AQ$61:BC$286,6,FALSE))","v":""},"","","","","",{"$f":"IF(ISNA(VLOOKUP(C176,Master!AQ$61:BC$286,12,FALSE)),\"\",VLOOKUP(C176,Master!AQ$61:BC$286,12,FALSE))","v":""},{"$nulls":4},0,1,{"$f":"IF(ISNA(VLOOKUP(C176,Master!AQ$61:BC$108,10,FALSE)),\"\",VLOOKUP(C176,Master!AQ$61:BC$108,10,FALSE))","v":""},null,null,{"$f":"IF(ISNA(VLOOKUP(C176,Master!AQ$61:BC$108,11,FALSE)),\"\",VLOOKUP(C176,Master!AQ$61:BC$108,11,FALSE))","v":""},{"$f":"IF(ISNA(VLOOKUP(C176,Master!AQ$61:BC$108,9,FALSE)),\"\",VLOOKUP(C176,Master!AQ$61:BC$108,9,FALSE))","v":""},0,0,0,0,0,0,"","","","","","",0,0,"",0,0,0,0,0,0,0,null,null,0,0,0,0,0,0,0,0,0,0,0,0,0,0,0,0,null,null,0,0,1,0,0,0,1,0,1,0,0,""]
["",2202,151,{"$f":"IF(ISNA(VLOOKUP(C177,Master!AQ$61:BC$286,3,FALSE)),\"\",VLOOKUP(C177,Master!AQ$61:BC$286,3,FALSE))","v":""},{"$f":"IF(ISNA(VLOOKUP(C177,Master!AQ$61:BC$286,7,FALSE)),\"\",VLOOKUP(C177,Master!AQ$61:BC$286,7,FALSE))","v":""},{"$f":"IF(ISNA(VLOOKUP(C177,Master!AQ$61:BC$286,8,FALSE)),\"\",VLOOKUP(C177,Master!AQ$61:BC$286,8,FALSE))","v":""},{"$f":"IF(ISNA(VLOOKUP(C177,Master!AQ$61:BC$286,4,FALSE)),\"\",VLOOKUP(C177,Master!AQ$61:BC$286,4,FALSE))","v":""},{"$f":"IF(ISNA(VLOOKUP(C177,Master!AQ$61:BC$286,5,FALSE)),\"\",VLOOKUP(C177,Master!AQ$61:BC$286,5,FALSE))","v":""},{"$f":"IF(ISNA(VLOOKUP(C177,Master!AQ$61:BC$286,6,FALSE)),\"\",VLOOKUP(C177,Master!AQ$61:BC$286,6,FALSE))","v":""},"","","","","",{"$f":"IF(ISNA(VLOOKUP(C177,Master!AQ$61:BC$286,12,FALSE)),\"\",VLOOKUP(C177,Master!AQ$61:BC$286,12,FALSE))","v":""},{"$nulls":4},0,1,{"$f":"IF(ISNA(VLOOKUP(C177,Master!AQ$61:BC$108,10,FALSE)),\"\",VLOOKUP(C177,Master!AQ$61:BC$108,10,FALSE))","v":""},null,null,{"$f":"IF(ISNA(VLOOKUP(C177,Master!AQ$61:BC$108,11,FALSE)),\"\",VLOOKUP(C177,Master!AQ$61:BC$108,11,FALSE))","v":""},{"$f":"IF(ISNA(VLOOKUP(C177,Master!AQ$61:BC$108,9,FALSE)),\"\",VLOOKUP(C177,Master!AQ$61:BC$108,9,FALSE))","v":""},0,0,0,0,0,0,"","","","","","",0,0,"",0,0,0,0,0,0,0,null,null,0,0,0,0,0,0,0,0,0,0,0,0,0,0,0,0,null,null,0,0,1,0,0,0,1,0,1,0,0,""]
["",2202,152,{"$f":"IF(ISNA(VLOOKUP(C178,Master!AQ$61:BC$286,3,FALSE)),\"\",VLOOKUP(C178,Master!AQ$61:BC$286,3,FALSE))","v":""},{"$f":"IF(ISNA(VLOOKUP(C178,Master!AQ$61:BC$286,7,FALSE)),\"\",VLOOKUP(C178,Master!AQ$61:BC$286,7,FALSE))","v":""},{"$f":"IF(ISNA(VLOOKUP(C178,Master!AQ$61:BC$286,8,FALSE)),\"\",VLOOKUP(C178,Master!AQ$61:BC$286,8,FALSE))","v":""},{"$f":"IF(ISNA(VLOOKUP(C178,Master!AQ$61:BC$286,4,FALSE)),\"\",VLOOKUP(C178,Master!AQ$61:BC$286,4,FALSE))","v":""},{"$f":"IF(ISNA(VLOOKUP(C178,Master!AQ$61:BC$286,5,FALSE)),\"\",VLOOKUP(C178,Master!AQ$61:BC$286,5,FALSE))","v":""},{"$f":"IF(ISNA(VLOOKUP(C178,Master!AQ$61:BC$286,6,FALSE)),\"\",VLOOKUP(C178,Master!AQ$61:BC$286,6,FALSE))","v":""},"","","","","",{"$f":"IF(ISNA(VLOOKUP(C178,Master!AQ$61:BC$286,12,FALSE)),\"\",VLOOKUP(C178,Master!AQ$61:BC$286,12,FALSE))","v":""},{"$nulls":4},0,1,{"$f":"IF(ISNA(VLOOKUP(C178,Master!AQ$61:BC$108,10,FALSE)),\"\",VLOOKUP(C178,Master!AQ$61:BC$108,10,FALSE))","v":""},null,null,{"$f":"IF(ISNA(VLOOKUP(C178,Master!AQ$61:BC$108,11,FALSE)),\"\",VLOOKUP(C178,Master!AQ$61:BC$108,11,FALSE))","v":""},{"$f":"IF(ISNA(VLOOKUP(C178,Master!AQ$61:BC$108,9,FALSE)),\"\",VLOOKUP(C178,Master!AQ$61:BC$108,9,FALSE))","v":""},0,0,0,0,0,0,"","","","","","",0,0,"",0,0,0,0,0,0,0,null,null,0,0,0,0,0,0,0,0,0,0,0,0,0,0,0,0,null,null,0,0,1,0,0,0,1,0,1,0,0,""]
["",2202,153,{"$f":"IF(ISNA(VLOOKUP(C179,Master!AQ$61:BC$286,3,FALSE)),\"\",VLOOKUP(C179,Master!AQ$61:BC$286,3,FALSE))","v":""},{"$f":"IF(ISNA(VLOOKUP(C179,Master!AQ$61:BC$286,7,FALSE)),\"\",VLOOKUP(C179,Master!AQ$61:BC$286,7,FALSE))","v":""},{"$f":"IF(ISNA(VLOOKUP(C179,Master!AQ$61:BC$286,8,FALSE)),\"\",VLOOKUP(C179,Master!AQ$61:BC$286,8,FALSE))","v":""},{"$f":"IF(ISNA(VLOOKUP(C179,Master!AQ$61:BC$286,4,FALSE)),\"\",VLOOKUP(C179,Master!AQ$61:BC$286,4,FALSE))","v":""},{"$f":"IF(ISNA(VLOOKUP(C179,Master!AQ$61:BC$286,5,FALSE)),\"\",VLOOKUP(C179,Master!AQ$61:BC$286,5,FALSE))","v":""},{"$f":"IF(ISNA(VLOOKUP(C179,Master!AQ$61:BC$286,6,FALSE)),\"\",VLOOKUP(C179,Master!AQ$61:BC$286,6,FALSE))","v":""},"","","","","",{"$f":"IF(ISNA(VLOOKUP(C179,Master!AQ$61:BC$286,12,FALSE)),\"\",VLOOKUP(C179,Master!AQ$61:BC$286,12,FALSE))","v":""},{"$nulls":4},0,1,{"$f":"IF(ISNA(VLOOKUP(C179,Master!AQ$61:BC$108,10,FALSE)),\"\",VLOOKUP(C179,Master!AQ$61:BC$108,10,FALSE))","v":""},null,null,{"$f":"IF(ISNA(VLOOKUP(C179,Master!AQ$61:BC$108,11,FALSE)),\"\",VLOOKUP(C179,Master!AQ$61:BC$108,11,FALSE))","v":""},{"$f":"IF(ISNA(VLOOKUP(C179,Master!AQ$61:BC$108,9,FALSE)),\"\",VLOOKUP(C179,Master!AQ$61:BC$108,9,FALSE))","v":""},0,0,0,0,0,0,"","","","","","",0,0,"",0,0,0,0,0,0,0,null,null,0,0,0,0,0,0,0,0,0,0,0,0,0,0,0,0,null,null,0,0,1,0,0,0,1,0,1,0,0,""]
["",2202,154,{"$f":"IF(ISNA(VLOOKUP(C180,Master!AQ$61:BC$286,3,FALSE)),\"\",VLOOKUP(C180,Master!AQ$61:BC$286,3,FALSE))","v":""},{"$f":"IF(ISNA(VLOOKUP(C180,Master!AQ$61:BC$286,7,FALSE)),\"\",VLOOKUP(C180,Master!AQ$61:BC$286,7,FALSE))","v":""},{"$f":"IF(ISNA(VLOOKUP(C180,Master!AQ$61:BC$286,8,FALSE)),\"\",VLOOKUP(C180,Master!AQ$61:BC$286,8,FALSE))","v":""},{"$f":"IF(ISNA(VLOOKUP(C180,Master!AQ$61:BC$286,4,FALSE)),\"\",VLOOKUP(C180,Master!AQ$61:BC$286,4,FALSE))","v":""},{"$f":"IF(ISNA(VLOOKUP(C180,Master!AQ$61:BC$286,5,FALSE)),\"\",VLOOKUP(C180,Master!AQ$61:BC$286,5,FALSE))","v":""},{"$f":"IF(ISNA(VLOOKUP(C180,Master!AQ$61:BC$286,6,FALSE)),\"\",VLOOKUP(C180,Master!AQ$61:BC$286,6,FALSE))","v":""},"","","","","",{"$f":"IF(ISNA(VLOOKUP(C180,Master!AQ$61:BC$286,12,FALSE)),\"\",VLOOKUP(C180,Master!AQ$61:BC$286,12,FALSE))","v":""},{"$nulls":4},0,1,{"$f":"IF(ISNA(VLOOKUP(C180,Master!AQ$61:BC$108,10,FALSE)),\"\",VLOOKUP(C180,Master!AQ$61:BC$108,10,FALSE))","v":""},null,null,{"$f":"IF(ISNA(VLOOKUP(C180,Master!AQ$61:BC$108,11,FALSE)),\"\",VLOOKUP(C180,Master!AQ$61:BC$108,11,FALSE))","v":""},{"$f":"IF(ISNA(VLOOKUP(C180,Master!AQ$61:BC$108,9,FALSE)),\"\",VLOOKUP(C180,Master!AQ$61:BC$108,9,FALSE))","v":""},0,0,0,0,0,0,"","","","","","",0,0,"",0,0,0,0,0,0,0,null,null,0,0,0,0,0,0,0,0,0,0,0,0,0,0,0,0,null,null,0,0,1,0,0,0,1,0,1,0,0,""]
["",2202,155,{"$f":"IF(ISNA(VLOOKUP(C181,Master!AQ$61:BC$286,3,FALSE)),\"\",VLOOKUP(C181,Master!AQ$61:BC$286,3,FALSE))","v":""},{"$f":"IF(ISNA(VLOOKUP(C181,Master!AQ$61:BC$286,7,FALSE)),\"\",VLOOKUP(C181,Master!AQ$61:BC$286,7,FALSE))","v":""},{"$f":"IF(ISNA(VLOOKUP(C181,Master!AQ$61:BC$286,8,FALSE)),\"\",VLOOKUP(C181,Master!AQ$61:BC$286,8,FALSE))","v":""},{"$f":"IF(ISNA(VLOOKUP(C181,Master!AQ$61:BC$286,4,FALSE)),\"\",VLOOKUP(C181,Master!AQ$61:BC$286,4,FALSE))","v":""},{"$f":"IF(ISNA(VLOOKUP(C181,Master!AQ$61:BC$286,5,FALSE)),\"\",VLOOKUP(C181,Master!AQ$61:BC$286,5,FALSE))","v":""},{"$f":"IF(ISNA(VLOOKUP(C181,Master!AQ$61:BC$286,6,FALSE)),\"\",VLOOKUP(C181,Master!AQ$61:BC$286,6,FALSE))","v":""},"","","","","",{"$f":"IF(ISNA(VLOOKUP(C181,Master!AQ$61:BC$286,12,FALSE)),\"\",VLOOKUP(C181,Master!AQ$61:BC$286,12,FALSE))","v":""},{"$nulls":4},0,1,{"$f":"IF(ISNA(VLOOKUP(C181,Master!AQ$61:BC$108,10,FALSE)),\"\",VLOOKUP(C181,Master!AQ$61:BC$108,10,FALSE))","v":""},null,null,{"$f":"IF(ISNA(VLOOKUP(C181,Master!AQ$61:BC$108,11,FALSE)),\"\",VLOOKUP(C181,Master!AQ$61:BC$108,11,FALSE))","v":""},{"$f":"IF(ISNA(VLOOKUP(C181,Master!AQ$61:BC$108,9,FALSE)),\"\",VLOOKUP(C181,Master!AQ$61:BC$108,9,FALSE))","v":""},0,0,0,0,0,0,"","","","","","",0,0,"",0,0,0,0,0,0,0,null,null,0,0,0,0,0,0,0,0,0,0,0,0,0,0,0,0,null,null,0,0,1,0,0,0,1,0,1,0,0,""]
["",2202,156,{"$f":"IF(ISNA(VLOOKUP(C182,Master!AQ$61:BC$286,3,FALSE)),\"\",VLOOKUP(C182,Master!AQ$61:BC$286,3,FALSE))","v":""},{"$f":"IF(ISNA(VLOOKUP(C182,Master!AQ$61:BC$286,7,FALSE)),\"\",VLOOKUP(C182,Master!AQ$61:BC$286,7,FALSE))","v":""},{"$f":"IF(ISNA(VLOOKUP(C182,Master!AQ$61:BC$286,8,FALSE)),\"\",VLOOKUP(C182,Master!AQ$61:BC$286,8,FALSE))","v":""},{"$f":"IF(ISNA(VLOOKUP(C182,Master!AQ$61:BC$286,4,FALSE)),\"\",VLOOKUP(C182,Master!AQ$61:BC$286,4,FALSE))","v":""},{"$f":"IF(ISNA(VLOOKUP(C182,Master!AQ$61:BC$286,5,FALSE)),\"\",VLOOKUP(C182,Master!AQ$61:BC$286,5,FALSE))","v":""},{"$f":"IF(ISNA(VLOOKUP(C182,Master!AQ$61:BC$286,6,FALSE)),\"\",VLOOKUP(C182,Master!AQ$61:BC$286,6,FALSE))","v":""},"","","","","",{"$f":"IF(ISNA(VLOOKUP(C182,Master!AQ$61:BC$286,12,FALSE)),\"\",VLOOKUP(C182,Master!AQ$61:BC$286,12,FALSE))","v":""},{"$nulls":4},0,1,{"$f":"IF(ISNA(VLOOKUP(C182,Master!AQ$61:BC$108,10,FALSE)),\"\",VLOOKUP(C182,Master!AQ$61:BC$108,10,FALSE))","v":""},null,null,{"$f":"IF(ISNA(VLOOKUP(C182,Master!AQ$61:BC$108,11,FALSE)),\"\",VLOOKUP(C182,Master!AQ$61:BC$108,11,FALSE))","v":""},{"$f":"IF(ISNA(VLOOKUP(C182,Master!AQ$61:BC$108,9,FALSE)),\"\",VLOOKUP(C182,Master!AQ$61:BC$108,9,FALSE))","v":""},0,0,0,0,0,0,"","","","","","",0,0,"",0,0,0,0,0,0,0,null,null,0,0,0,0,0,0,0,0,0,0,0,0,0,0,0,0,null,null,0,0,1,0,0,0,1,0,1,0,0,""]
["",2202,157,{"$f":"IF(ISNA(VLOOKUP(C183,Master!AQ$61:BC$286,3,FALSE)),\"\",VLOOKUP(C183,Master!AQ$61:BC$286,3,FALSE))","v":""},{"$f":"IF(ISNA(VLOOKUP(C183,Master!AQ$61:BC$286,7,FALSE)),\"\",VLOOKUP(C183,Master!AQ$61:BC$286,7,FALSE))","v":""},{"$f":"IF(ISNA(VLOOKUP(C183,Master!AQ$61:BC$286,8,FALSE)),\"\",VLOOKUP(C183,Master!AQ$61:BC$286,8,FALSE))","v":""},{"$f":"IF(ISNA(VLOOKUP(C183,Master!AQ$61:BC$286,4,FALSE)),\"\",VLOOKUP(C183,Master!AQ$61:BC$286,4,FALSE))","v":""},{"$f":"IF(ISNA(VLOOKUP(C183,Master!AQ$61:BC$286,5,FALSE)),\"\",VLOOKUP(C183,Master!AQ$61:BC$286,5,FALSE))","v":""},{"$f":"IF(ISNA(VLOOKUP(C183,Master!AQ$61:BC$286,6,FALSE)),\"\",VLOOKUP(C183,Master!AQ$61:BC$286,6,FALSE))","v":""},"","","","","",{"$f":"IF(ISNA(VLOOKUP(C183,Master!AQ$61:BC$286,12,FALSE)),\"\",VLOOKUP(C183,Master!AQ$61:BC$286,12,FALSE))","v":""},{"$nulls":4},0,1,{"$f":"IF(ISNA(VLOOKUP(C183,Master!AQ$61:BC$108,10,FALSE)),\"\",VLOOKUP(C183,Master!AQ$61:BC$108,10,FALSE))","v":""},null,null,{"$f":"IF(ISNA(VLOOKUP(C183,Master!AQ$61:BC$108,11,FALSE)),\"\",VLOOKUP(C183,Master!AQ$61:BC$108,11,FALSE))","v":""},{"$f":"IF(ISNA(VLOOKUP(C183,Master!AQ$61:BC$108,9,FALSE)),\"\",VLOOKUP(C183,Master!AQ$61:BC$108,9,FALSE))","v":""},0,0,0,0,0,0,"","","","","","",0,0,"",0,0,0,0,0,0,0,null,null,0,0,0,0,0,0,0,0,0,0,0,0,0,0,0,0,null,null,0,0,1,0,0,0,1,0,1,0,0,""]
["",2202,158,{"$f":"IF(ISNA(VLOOKUP(C184,Master!AQ$61:BC$286,3,FALSE)),\"\",VLOOKUP(C184,Master!AQ$61:BC$286,3,FALSE))","v":""},{"$f":"IF(ISNA(VLOOKUP(C184,Master!AQ$61:BC$286,7,FALSE)),\"\",VLOOKUP(C184,Master!AQ$61:BC$286,7,FALSE))","v":""},{"$f":"IF(ISNA(VLOOKUP(C184,Master!AQ$61:BC$286,8,FALSE)),\"\",VLOOKUP(C184,Master!AQ$61:BC$286,8,FALSE))","v":""},{"$f":"IF(ISNA(VLOOKUP(C184,Master!AQ$61:BC$286,4,FALSE)),\"\",VLOOKUP(C184,Master!AQ$61:BC$286,4,FALSE))","v":""},{"$f":"IF(ISNA(VLOOKUP(C184,Master!AQ$61:BC$286,5,FALSE)),\"\",VLOOKUP(C184,Master!AQ$61:BC$286,5,FALSE))","v":""},{"$f":"IF(ISNA(VLOOKUP(C184,Master!AQ$61:BC$286,6,FALSE)),\"\",VLOOKUP(C184,Master!AQ$61:BC$286,6,FALSE))","v":""},"","","","","",{"$f":"IF(ISNA(VLOOKUP(C184,Master!AQ$61:BC$286,12,FALSE)),\"\",VLOOKUP(C184,Master!AQ$61:BC$286,12,FALSE))","v":""},{"$nulls":4},0,1,{"$f":"IF(ISNA(VLOOKUP(C184,Master!AQ$61:BC$108,10,FALSE)),\"\",VLOOKUP(C184,Master!AQ$61:BC$108,10,FALSE))","v":""},null,null,{"$f":"IF(ISNA(VLOOKUP(C184,Master!AQ$61:BC$108,11,FALSE)),\"\",VLOOKUP(C184,Master!AQ$61:BC$108,11,FALSE))","v":""},{"$f":"IF(ISNA(VLOOKUP(C184,Master!AQ$61:BC$108,9,FALSE)),\"\",VLOOKUP(C184,Master!AQ$61:BC$108,9,FALSE))","v":""},0,0,0,0,0,0,"","","","","","",0,0,"",0,0,0,0,0,0,0,null,null,0,0,0,0,0,0,0,0,0,0,0,0,0,0,0,0,null,null,0,0,1,0,0,0,1,0,1,0,0,""]
["",2202,159,{"$f":"IF(ISNA(VLOOKUP(C185,Master!AQ$61:BC$286,3,FALSE)),\"\",VLOOKUP(C185,Master!AQ$61:BC$286,3,FALSE))","v":""},{"$f":"IF(ISNA(VLOOKUP(C185,Master!AQ$61:BC$286,7,FALSE)),\"\",VLOOKUP(C185,Master!AQ$61:BC$286,7,FALSE))","v":""},{"$f":"IF(ISNA(VLOOKUP(C185,Master!AQ$61:BC$286,8,FALSE)),\"\",VLOOKUP(C185,Master!AQ$61:BC$286,8,FALSE))","v":""},{"$f":"IF(ISNA(VLOOKUP(C185,Master!AQ$61:BC$286,4,FALSE)),\"\",VLOOKUP(C185,Master!AQ$61:BC$286,4,FALSE))","v":""},{"$f":"IF(ISNA(VLOOKUP(C185,Master!AQ$61:BC$286,5,FALSE)),\"\",VLOOKUP(C185,Master!AQ$61:BC$286,5,FALSE))","v":""},{"$f":"IF(ISNA(VLOOKUP(C185,Master!AQ$61:BC$286,6,FALSE)),\"\",VLOOKUP(C185,Master!AQ$61:BC$286,6,FALSE))","v":""},"","","","","",{"$f":"IF(ISNA(VLOOKUP(C185,Master!AQ$61:BC$286,12,FALSE)),\"\",VLOOKUP(C185,Master!AQ$61:BC$286,12,FALSE))","v":""},{"$nulls":4},0,1,{"$f":"IF(ISNA(VLOOKUP(C185,Master!AQ$61:BC$108,10,FALSE)),\"\",VLOOKUP(C185,Master!AQ$61:BC$108,10,FALSE))","v":""},null,null,{"$f":"IF(ISNA(VLOOKUP(C185,Master!AQ$61:BC$108,11,FALSE)),\"\",VLOOKUP(C185,Master!AQ$61:BC$108,11,FALSE))","v":""},{"$f":"IF(ISNA(VLOOKUP(C185,Master!AQ$61:BC$108,9,FALSE)),\"\",VLOOKUP(C185,Master!AQ$61:BC$108,9,FALSE))","v":""},0,0,0,0,0,0,"","","","","","",0,0,"",0,0,0,0,0,0,0,null,null,0,0,0,0,0,0,0,0,0,0,0,0,0,0,0,0,null,null,0,0,1,0,0,0,1,0,1,0,0,""]
["",2202,160,{"$f":"IF(ISNA(VLOOKUP(C186,Master!AQ$61:BC$286,3,FALSE)),\"\",VLOOKUP(C186,Master!AQ$61:BC$286,3,FALSE))","v":""},{"$f":"IF(ISNA(VLOOKUP(C186,Master!AQ$61:BC$286,7,FALSE)),\"\",VLOOKUP(C186,Master!AQ$61:BC$286,7,FALSE))","v":""},{"$f":"IF(ISNA(VLOOKUP(C186,Master!AQ$61:BC$286,8,FALSE)),\"\",VLOOKUP(C186,Master!AQ$61:BC$286,8,FALSE))","v":""},{"$f":"IF(ISNA(VLOOKUP(C186,Master!AQ$61:BC$286,4,FALSE)),\"\",VLOOKUP(C186,Master!AQ$61:BC$286,4,FALSE))","v":""},{"$f":"IF(ISNA(VLOOKUP(C186,Master!AQ$61:BC$286,5,FALSE)),\"\",VLOOKUP(C186,Master!AQ$61:BC$286,5,FALSE))","v":""},{"$f":"IF(ISNA(VLOOKUP(C186,Master!AQ$61:BC$286,6,FALSE)),\"\",VLOOKUP(C186,Master!AQ$61:BC$286,6,FALSE))","v":""},"","","","","",{"$f":"IF(ISNA(VLOOKUP(C186,Master!AQ$61:BC$286,12,FALSE)),\"\",VLOOKUP(C186,Master!AQ$61:BC$286,12,FALSE))","v":""},{"$nulls":4},0,1,{"$f":"IF(ISNA(VLOOKUP(C186,Master!AQ$61:BC$108,10,FALSE)),\"\",VLOOKUP(C186,Master!AQ$61:BC$108,10,FALSE))","v":""},null,null,{"$f":"IF(ISNA(VLOOKUP(C186,Master!AQ$61:BC$108,11,FALSE)),\"\",VLOOKUP(C186,Master!AQ$61:BC$108,11,FALSE))","v":""},{"$f":"IF(ISNA(VLOOKUP(C186,Master!AQ$61:BC$108,9,FALSE)),\"\",VLOOKUP(C186,Master!AQ$61:BC$108,9,FALSE))","v":""},0,0,0,0,0,0,"","","","","","",0,0,"",0,0,0,0,0,0,0,null,null,0,0,0,0,0,0,0,0,0,0,0,0,0,0,0,0,null,null,0,0,1,0,0,0,1,0,1,0,0,""]
["",2202,161,{"$f":"IF(ISNA(VLOOKUP(C187,Master!AQ$61:BC$286,3,FALSE)),\"\",VLOOKUP(C187,Master!AQ$61:BC$286,3,FALSE))","v":""},{"$f":"IF(ISNA(VLOOKUP(C187,Master!AQ$61:BC$286,7,FALSE)),\"\",VLOOKUP(C187,Master!AQ$61:BC$286,7,FALSE))","v":""},{"$f":"IF(ISNA(VLOOKUP(C187,Master!AQ$61:BC$286,8,FALSE)),\"\",VLOOKUP(C187,Master!AQ$61:BC$286,8,FALSE))","v":""},{"$f":"IF(ISNA(VLOOKUP(C187,Master!AQ$61:BC$286,4,FALSE)),\"\",VLOOKUP(C187,Master!AQ$61:BC$286,4,FALSE))","v":""},{"$f":"IF(ISNA(VLOOKUP(C187,Master!AQ$61:BC$286,5,FALSE)),\"\",VLOOKUP(C187,Master!AQ$61:BC$286,5,FALSE))","v":""},{"$f":"IF(ISNA(VLOOKUP(C187,Master!AQ$61:BC$286,6,FALSE)),\"\",VLOOKUP(C187,Master!AQ$61:BC$286,6,FALSE))","v":""},"","","","","",{"$f":"IF(ISNA(VLOOKUP(C187,Master!AQ$61:BC$286,12,FALSE)),\"\",VLOOKUP(C187,Master!AQ$61:BC$286,12,FALSE))","v":""},{"$nulls":4},0,1,{"$f":"IF(ISNA(VLOOKUP(C187,Master!AQ$61:BC$108,10,FALSE)),\"\",VLOOKUP(C187,Master!AQ$61:BC$108,10,FALSE))","v":""},null,null,{"$f":"IF(ISNA(VLOOKUP(C187,Master!AQ$61:BC$108,11,FALSE)),\"\",VLOOKUP(C187,Master!AQ$61:BC$108,11,FALSE))","v":""},{"$f":"IF(ISNA(VLOOKUP(C187,Master!AQ$61:BC$108,9,FALSE)),\"\",VLOOKUP(C187,Master!AQ$61:BC$108,9,FALSE))","v":""},0,0,0,0,0,0,"","","","","","",0,0,"",0,0,0,0,0,0,0,null,null,0,0,0,0,0,0,0,0,0,0,0,0,0,0,0,0,null,null,0,0,1,0,0,0,1,{"$f":"IF((ROUND((SUMPRODUCT(MID(0&E187,LARGE(INDEX(ISNUMBER(--MID(E187,ROW($1:$25),1))* ROW($1:$25),0),ROW($1:$25))+1,1)*10^ROW($1:$25)/10)),-8)/100000000)>=2004,1,0)","v":0},1,0,0,{"$f":"IF(AND(E187=\"\"),\"\",IF(AND(E187<=0),\"\",IF((ROUND((SUMPRODUCT(MID(0&E187,LARGE(INDEX(ISNUMBER(--MID(E187,ROW($1:$70),1))* ROW($1:$70),0),ROW($1:$70))+1,1)*10^ROW($1:$70)/10)),-8)/100000000)<2004,1,0)))","v":""}]
["",2202,162,{"$f":"IF(ISNA(VLOOKUP(C188,Master!AQ$61:BC$286,3,FALSE)),\"\",VLOOKUP(C188,Master!AQ$61:BC$286,3,FALSE))","v":""},{"$f":"IF(ISNA(VLOOKUP(C188,Master!AQ$61:BC$286,7,FALSE)),\"\",VLOOKUP(C188,Master!AQ$61:BC$286,7,FALSE))","v":""},{"$f":"IF(ISNA(VLOOKUP(C188,Master!AQ$61:BC$286,8,FALSE)),\"\",VLOOKUP(C188,Master!AQ$61:BC$286,8,FALSE))","v":""},{"$f":"IF(ISNA(VLOOKUP(C188,Master!AQ$61:BC$286,4,FALSE)),\"\",VLOOKUP(C188,Master!AQ$61:BC$286,4,FALSE))","v":""},{"$f":"IF(ISNA(VLOOKUP(C188,Master!AQ$61:BC$286,5,FALSE)),\"\",VLOOKUP(C188,Master!AQ$61:BC$286,5,FALSE))","v":""},{"$f":"IF(ISNA(VLOOKUP(C188,Master!AQ$61:BC$286,6,FALSE)),\"\",VLOOKUP(C188,Master!AQ$61:BC$286,6,FALSE))","v":""},"","","","","",{"$f":"IF(ISNA(VLOOKUP(C188,Master!AQ$61:BC$286,12,FALSE)),\"\",VLOOKUP(C188,Master!AQ$61:BC$286,12,FALSE))","v":""},{"$nulls":4},0,1,{"$f":"IF(ISNA(VLOOKUP(C188,Master!AQ$61:BC$108,10,FALSE)),\"\",VLOOKUP(C188,Master!AQ$61:BC$108,10,FALSE))","v":""},null,null,{"$f":"IF(ISNA(VLOOKUP(C188,Master!AQ$61:BC$108,11,FALSE)),\"\",VLOOKUP(C188,Master!AQ$61:BC$108,11,FALSE))","v":""},{"$f":"IF(ISNA(VLOOKUP(C188,Master!AQ$61:BC$108,9,FALSE)),\"\",VLOOKUP(C188,Master!AQ$61:BC$108,9,FALSE))","v":""},0,0,0,0,0,0,"","","","","","",0,0,"",0,0,0,0,0,0,0,null,null,0,0,0,0,0,0,0,0,0,0,0,0,0,0,0,0,null,null,0,0,1,0,0,0,1,0,1,0,0,""]
["",2202,163,{"$f":"IF(ISNA(VLOOKUP(C189,Master!AQ$61:BC$286,3,FALSE)),\"\",VLOOKUP(C189,Master!AQ$61:BC$286,3,FALSE))","v":""},{"$f":"IF(ISNA(VLOOKUP(C189,Master!AQ$61:BC$286,7,FALSE)),\"\",VLOOKUP(C189,Master!AQ$61:BC$286,7,FALSE))","v":""},{"$f":"IF(ISNA(VLOOKUP(C189,Master!AQ$61:BC$286,8,FALSE)),\"\",VLOOKUP(C189,Master!AQ$61:BC$286,8,FALSE))","v":""},{"$f":"IF(ISNA(VLOOKUP(C189,Master!AQ$61:BC$286,4,FALSE)),\"\",VLOOKUP(C189,Master!AQ$61:BC$286,4,FALSE))","v":""},{"$f":"IF(ISNA(VLOOKUP(C189,Master!AQ$61:BC$286,5,FALSE)),\"\",VLOOKUP(C189,Master!AQ$61:BC$286,5,FALSE))","v":""},{"$f":"IF(ISNA(VLOOKUP(C189,Master!AQ$61:BC$286,6,FALSE)),\"\",VLOOKUP(C189,Master!AQ$61:BC$286,6,FALSE))","v":""},"","","","","",{"$f":"IF(ISNA(VLOOKUP(C189,Master!AQ$61:BC$286,12,FALSE)),\"\",VLOOKUP(C189,Master!AQ$61:BC$286,12,FALSE))","v":""},{"$nulls":4},0,1,{"$f":"IF(ISNA(VLOOKUP(C189,Master!AQ$61:BC$108,10,FALSE)),\"\",VLOOKUP(C189,Master!AQ$61:BC$108,10,FALSE))","v":""},null,null,{"$f":"IF(ISNA(VLOOKUP(C189,Master!AQ$61:BC$108,11,FALSE)),\"\",VLOOKUP(C189,Master!AQ$61:BC$108,11,FALSE))","v":""},{"$f":"IF(ISNA(VLOOKUP(C189,Master!AQ$61:BC$108,9,FALSE)),\"\",VLOOKUP(C189,Master!AQ$61:BC$108,9,FALSE))","v":""},0,0,0,0,0,0,"","","","","","",0,0,"",0,0,0,0,0,0,0,null,null,0,0,0,0,0,0,0,0,0,0,0,0,0,0,0,0,null,null,0,0,1,0,0,0,1,0,1,0,0,""]
["",2202,164,{"$f":"IF(ISNA(VLOOKUP(C190,Master!AQ$61:BC$286,3,FALSE)),\"\",VLOOKUP(C190,Master!AQ$61:BC$286,3,FALSE))","v":""},{"$f":"IF(ISNA(VLOOKUP(C190,Master!AQ$61:BC$286,7,FALSE)),\"\",VLOOKUP(C190,Master!AQ$61:BC$286,7,FALSE))","v":""},{"$f":"IF(ISNA(VLOOKUP(C190,Master!AQ$61:BC$286,8,FALSE)),\"\",VLOOKUP(C190,Master!AQ$61:BC$286,8,FALSE))","v":""},{"$f":"IF(ISNA(VLOOKUP(C190,Master!AQ$61:BC$286,4,FALSE)),\"\",VLOOKUP(C190,Master!AQ$61:BC$286,4,FALSE))","v":""},{"$f":"IF(ISNA(VLOOKUP(C190,Master!AQ$61:BC$286,5,FALSE)),\"\",VLOOKUP(C190,Master!AQ$61:BC$286,5,FALSE))","v":""},{"$f":"IF(ISNA(VLOOKUP(C190,Master!AQ$61:BC$286,6,FALSE)),\"\",VLOOKUP(C190,Master!AQ$61:BC$286,6,FALSE))","v":""},{"$f":"IF(AND(I190=\"\"),\"\",I190*12)","v":""},{"$f":"IF(AND(I190=\"\"),\"\",IF(I190<=0,\"\",(CONCATENATE(\"01.07.\",(YEAR(TODAY())+1)))))","v":""},{"$f":"IF(AND(I190=\"\"),\"\",ROUND(ROUND(I190*3%,0),-2)*IF(H190=\"FIX PAY\",0,1)*8)","v":""},{"$f":"IF(AND(I190=\"\"),\"\",J190+L190)","v":""},{"$f":"IF(AND(I190=\"\"),\"\",IF(O190=\"FIX PAY\",M190,((IF(O190=\"FIX PAY\",0,AG190*4+I190*8)))))","v":""},{"$f":"IF(ISNA(VLOOKUP(C190,Master!AQ$61:BC$286,12,FALSE)),\"\",VLOOKUP(C190,Master!AQ$61:BC$286,12,FALSE))","v":""},{"$nulls":4},0,{"$f":"IF(G190>0,1,0)","v":1},{"$f":"IF(ISNA(VLOOKUP(C190,Master!AQ$61:BC$108,10,FALSE)),\"\",VLOOKUP(C190,Master!AQ$61:BC$108,10,FALSE))","v":""},null,null,{"$f":"IF(ISNA(VLOOKUP(C190,Master!AQ$61:BC$108,11,FALSE)),\"\",VLOOKUP(C190,Master!AQ$61:BC$108,11,FALSE))","v":""},{"$f":"IF(ISNA(VLOOKUP(C190,Master!AQ$61:BC$108,9,FALSE)),\"\",VLOOKUP(C190,Master!AQ$61:BC$108,9,FALSE))","v":""},{"$f":"IF(Z190=\"MALE\",1,0)*(IF(G190=\"JAMADAR\",1,0))*(IF(I190<=0,0,1))","v":0},{"$f":"IF(Z190=\"FEMALE\",1,0)*(IF(G190=\"JAMADAR\",1,0))*(IF(I190<=0,0,1))","v":0},{"$f":"IF(Z190=\"MALE\",1,0)*(IF(G190=\"LAB BOY\",1,0))*(IF(I190<=0,0,1))","v":0},{"$f":"IF(Z190=\"FEMALE\",1,0)*(IF(G190=\"LAB BOY\",1,0))*(IF(I190<=0,0,1))","v":0},{"$f":"IF(Z190=\"MALE\",1,0)*(IF(G190=\"PEON\",1,0))*(IF(I190<=0,0,1))","v":0},{"$f":"IF(Z190=\"FEMALE\",1,0)*(IF(G190=\"PEON\",1,0))*(IF(I190<=0,0,1))","v":0},{"$f":"IF(AND(I190=\"\"),\"\",I190-ROUNDUP(ROUND((I190*3%)-(I190*3%)*2.9%,-2),0))","v":""},{"$f":"IF(AND(I190=\"\"),\"\",$M190*$BR190)","v":""},{"$f":"IF(AND(I190=\"\"),\"\",$M190*$BS190)","v":""},{"$f":"IF(AND(I190=\"\"),\"\",$M190*$BT190)","v":""},{"$f":"IF(AND(I190=\"\"),\"\",$M190*$BU190)","v":""},{"$f":"IF(AND(I190=\"\"),\"\",ROUND((AH190+AI190)*$AL$10,0)*BV190)","v":""},0,0,{"$f":"IF(AND(I190=\"\"),\"\",ROUND((AH190+AI190)*$AO$10,0)*BV190)","v":""},{"$f":"$G$222*BS190*BV190*(IF(I190<=0,0,1))*(IF(H190<=4800,1,0))","v":0},{"$f":"IF(AND(I190=\"\"),0,ROUND((I190+ROUND(I190*$AL$10,0))/2,0)*(IF(O190=\"FIX PAY\",0,1)))","v":0},{"$f":"IF(G190=\"CLERK GRADE I\",1,IF(G190=\"CLERK GRADE II\",1,0))*75*12*BV190*(IF(I190<=0,0,1))*BW190","v":0},{"$f":"IF(AND(I190=\"\"),0,(IF(G190=\"ASSISTANT\",12,IF(G190=\"CLERK GRADE I\",12,IF(G190=\"CLERK GRADE II\",12,IF(G190=\"FIELDMAN & FIELD REC\",12,IF(G190=\"LAB BOY\",12,IF(G190=\"JAMADAR\",12,IF(G190=\"PEON\",12,10))))))))*(MINA(ROUND(I190*6%,0),600))*(IF($V190=\"yes\",1,0)))","v":0},0,{"$f":"IF(AND(G190=\"\"),0,SUM(AL190:AT190)+AH190+AI190)","v":0},{"$f":"IF(AND(G190=\"\"),0,AU190)","v":0},null,null,{"$f":"AV190+AW190+AX190","v":0},{"$f":"IF(AND(G190=\"\"),0,N190*BR190)","v":0},{"$f":"IF(AND(G190=\"\"),0,N190*BS190)","v":0},{"$f":"IF(AND(G190=\"\"),0,N190*BT190)","v":0},{"$f":"IF(AND(G190=\"\"),0,N190*BU190)","v":0},{"$f":"ROUND((AZ190+BA190)*$BD$10,0)*BV190","v":0},{"$f":"IF(AND(G190=\"\"),0,ROUND((IF(O190=\"FIX PAY\",0,AG190))*$BE$10*2,0)*BV190)","v":0},0,{"$f":"ROUND((AZ190+BA190)*$BG$10,0)*BV190","v":0},{"$f":"3387*2*BS190*BV190*(IF(I190<=0,0,1))*(IF(H190<=4800,1,0))","v":0},{"$f":"IF(AND(I190=\"\"),0,ROUND((AG190+ROUND(AG190*$AL$10,0))/2,0)*(IF(O190=\"FIX PAY\",0,1)))","v":0},{"$f":"IF(G190=\"CLERK GRADE I\",1,IF(G190=\"CLERK GRADE II\",1,0))*75*12*BV190*(IF(I190<=0,0,1))*BW190","v":0},{"$f":"IF(AND(G190=\"\"),0,(IF(G190=\"ASSISTANT\",12,IF(G190=\"CLERK GRADE I\",12,IF(G190=\"CLERK GRADE II\",12,IF(G190=\"FIELDMAN & FIELD REC\",12,IF(G190=\"LAB BOY\",12,IF(G190=\"JAMADAR\",12,IF(G190=\"PEON\",12,10))))))))*(MINA(ROUND(AG190*6%,0),600))*(IF($V190=\"yes\",1,)))","v":0},{"$f":"(IF(G190=\"LAB BOY\",150,IF(G190=\"JAMADAR\",150,IF(G190=\"PEON\",150,0))))*12*BV190*(IF(I190<=0,0,1))","v":0},{"$f":"SUM(BD190:BL190)+AZ190+BA190","v":0},{"$f":"BM190","v":0},null,null,{"$f":"BN190+BO190+BP190","v":0},{"$f":"(IF(G190=\"PRINCIPAL\",1,IF(G190=\"H M\",1,IF(G190=\"AGRICULTURE INST\",1,IF(G190=\"TEACHER-1ST\",1,IF(G190=\"PTI  I  (13)\",1,IF(G190=\"AGRICULTURE TEACH\",1,IF(G190=\"INSTRUCTOR\",1,0))))))))+(IF(G190=\"JR TEACHER\",1,IF(G190=\"LIBRARIAN I\",1,0)))*(IF(O190=\"FIX PAY\",0,1))","v":0},{"$f":"IF(BR190<=0,1,0)*(IF(O190=\"FIX PAY\",0,1))","v":1},{"$f":"(IF(G190=\"PRINCIPAL (16)\",1,IF(G190=\"V P (14)\",1,IF(G190=\"H M (14)\",1,IF(G190=\"AGRICULTURE INST (13)\",1,IF(G190=\"TEACHER-1ST (13)\",1,IF(G190=\"PTI  I  (13)\",1,IF(G190=\"AGRICULTURE TEACH (13)\",1,IF(G190=\"INSTRUCTOR (13)\",1,0))))))))+(IF(G190=\"JR TEACHER (13)\",1,IF(G190=\"LIBRARIAN I (13)\",1,0))))*(IF(O190=\"FIX PAY\",1,0))","v":0},{"$f":"IF(BT190<=0,1,0)*(IF(O190=\"FIX PAY\",1,0))","v":0},{"$f":"IF(O190=\"FIX PAY\",1,0)","v":0},{"$f":"IF(Y190=\"No\",0,1)","v":1},0,{"$f":"IF(I190<=0,0,1)","v":1},{"$f":"IF(O190=\"SANVIDA\",1,0)","v":0},{"$f":"IF(BZ190>0,I190,0)","v":0},""]
["",2202,165,{"$f":"IF(ISNA(VLOOKUP(C191,Master!AQ$61:BC$286,3,FALSE)),\"\",VLOOKUP(C191,Master!AQ$61:BC$286,3,FALSE))","v":""},{"$f":"IF(ISNA(VLOOKUP(C191,Master!AQ$61:BC$286,7,FALSE)),\"\",VLOOKUP(C191,Master!AQ$61:BC$286,7,FALSE))","v":""},{"$f":"IF(ISNA(VLOOKUP(C191,Master!AQ$61:BC$286,8,FALSE)),\"\",VLOOKUP(C191,Master!AQ$61:BC$286,8,FALSE))","v":""},{"$f":"IF(ISNA(VLOOKUP(C191,Master!AQ$61:BC$286,4,FALSE)),\"\",VLOOKUP(C191,Master!AQ$61:BC$286,4,FALSE))","v":""},{"$f":"IF(ISNA(VLOOKUP(C191,Master!AQ$61:BC$286,5,FALSE)),\"\",VLOOKUP(C191,Master!AQ$61:BC$286,5,FALSE))","v":""},{"$f":"IF(ISNA(VLOOKUP(C191,Master!AQ$61:BC$286,6,FALSE)),\"\",VLOOKUP(C191,Master!AQ$61:BC$286,6,FALSE))","v":""},"","","","","",{"$f":"IF(ISNA(VLOOKUP(C191,Master!AQ$61:BC$286,12,FALSE)),\"\",VLOOKUP(C191,Master!AQ$61:BC$286,12,FALSE))","v":""},{"$nulls":4},0,1,{"$f":"IF(ISNA(VLOOKUP(C191,Master!AQ$61:BC$108,10,FALSE)),\"\",VLOOKUP(C191,Master!AQ$61:BC$108,10,FALSE))","v":""},null,null,{"$f":"IF(ISNA(VLOOKUP(C191,Master!AQ$61:BC$108,11,FALSE)),\"\",VLOOKUP(C191,Master!AQ$61:BC$108,11,FALSE))","v":""},{"$f":"IF(ISNA(VLOOKUP(C191,Master!AQ$61:BC$108,9,FALSE)),\"\",VLOOKUP(C191,Master!AQ$61:BC$108,9,FALSE))","v":""},0,0,0,0,0,0,"","","","","","",0,0,"",0,0,0,0,0,0,0,null,null,0,0,0,0,0,0,0,0,0,0,0,0,0,0,0,0,null,null,0,0,1,0,0,0,1,0,1,0,0,""]
["",2202,166,{"$f":"IF(ISNA(VLOOKUP(C192,Master!AQ$61:BC$286,3,FALSE)),\"\",VLOOKUP(C192,Master!AQ$61:BC$286,3,FALSE))","v":""},{"$f":"IF(ISNA(VLOOKUP(C192,Master!AQ$61:BC$286,7,FALSE)),\"\",VLOOKUP(C192,Master!AQ$61:BC$286,7,FALSE))","v":""},{"$f":"IF(ISNA(VLOOKUP(C192,Master!AQ$61:BC$286,8,FALSE)),\"\",VLOOKUP(C192,Master!AQ$61:BC$286,8,FALSE))","v":""},{"$f":"IF(ISNA(VLOOKUP(C192,Master!AQ$61:BC$286,4,FALSE)),\"\",VLOOKUP(C192,Master!AQ$61:BC$286,4,FALSE))","v":""},{"$f":"IF(ISNA(VLOOKUP(C192,Master!AQ$61:BC$286,5,FALSE)),\"\",VLOOKUP(C192,Master!AQ$61:BC$286,5,FALSE))","v":""},{"$f":"IF(ISNA(VLOOKUP(C192,Master!AQ$61:BC$286,6,FALSE)),\"\",VLOOKUP(C192,Master!AQ$61:BC$286,6,FALSE))","v":""},"","","","","",{"$f":"IF(ISNA(VLOOKUP(C192,Master!AQ$61:BC$286,12,FALSE)),\"\",VLOOKUP(C192,Master!AQ$61:BC$286,12,FALSE))","v":""},{"$nulls":4},0,1,{"$f":"IF(ISNA(VLOOKUP(C192,Master!AQ$61:BC$108,10,FALSE)),\"\",VLOOKUP(C192,Master!AQ$61:BC$108,10,FALSE))","v":""},null,null,{"$f":"IF(ISNA(VLOOKUP(C192,Master!AQ$61:BC$108,11,FALSE)),\"\",VLOOKUP(C192,Master!AQ$61:BC$108,11,FALSE))","v":""},{"$f":"IF(ISNA(VLOOKUP(C192,Master!AQ$61:BC$108,9,FALSE)),\"\",VLOOKUP(C192,Master!AQ$61:BC$108,9,FALSE))","v":""},0,0,0,0,0,0,"","","","","","",0,0,"",0,0,0,0,0,0,0,null,null,0,0,0,0,0,0,0,0,0,0,0,0,0,0,0,0,null,null,0,0,1,0,0,0,1,0,1,0,0,""]
["",2202,167,{"$f":"IF(ISNA(VLOOKUP(C193,Master!AQ$61:BC$286,3,FALSE)),\"\",VLOOKUP(C193,Master!AQ$61:BC$286,3,FALSE))","v":""},{"$f":"IF(ISNA(VLOOKUP(C193,Master!AQ$61:BC$286,7,FALSE)),\"\",VLOOKUP(C193,Master!AQ$61:BC$286,7,FALSE))","v":""},{"$f":"IF(ISNA(VLOOKUP(C193,Master!AQ$61:BC$286,8,FALSE)),\"\",VLOOKUP(C193,Master!AQ$61:BC$286,8,FALSE))","v":""},{"$f":"IF(ISNA(VLOOKUP(C193,Master!AQ$61:BC$286,4,FALSE)),\"\",VLOOKUP(C193,Master!AQ$61:BC$286,4,FALSE))","v":""},{"$f":"IF(ISNA(VLOOKUP(C193,Master!AQ$61:BC$286,5,FALSE)),\"\",VLOOKUP(C193,Master!AQ$61:BC$286,5,FALSE))","v":""},{"$f":"IF(ISNA(VLOOKUP(C193,Master!AQ$61:BC$286,6,FALSE)),\"\",VLOOKUP(C193,Master!AQ$61:BC$286,6,FALSE))","v":""},"","","","","",{"$f":"IF(ISNA(VLOOKUP(C193,Master!AQ$61:BC$286,12,FALSE)),\"\",VLOOKUP(C193,Master!AQ$61:BC$286,12,FALSE))","v":""},{"$nulls":4},0,1,{"$f":"IF(ISNA(VLOOKUP(C193,Master!AQ$61:BC$108,10,FALSE)),\"\",VLOOKUP(C193,Master!AQ$61:BC$108,10,FALSE))","v":""},null,null,{"$f":"IF(ISNA(VLOOKUP(C193,Master!AQ$61:BC$108,11,FALSE)),\"\",VLOOKUP(C193,Master!AQ$61:BC$108,11,FALSE))","v":""},{"$f":"IF(ISNA(VLOOKUP(C193,Master!AQ$61:BC$108,9,FALSE)),\"\",VLOOKUP(C193,Master!AQ$61:BC$108,9,FALSE))","v":""},0,0,0,0,0,0,"","","","","","",0,0,"",0,0,0,0,0,0,0,null,null,0,0,0,0,0,0,0,0,0,0,0,0,0,0,0,0,null,null,0,0,1,0,0,0,1,0,1,0,0,""]
["",2202,168,{"$f":"IF(ISNA(VLOOKUP(C194,Master!AQ$61:BC$286,3,FALSE)),\"\",VLOOKUP(C194,Master!AQ$61:BC$286,3,FALSE))","v":""},{"$f":"IF(ISNA(VLOOKUP(C194,Master!AQ$61:BC$286,7,FALSE)),\"\",VLOOKUP(C194,Master!AQ$61:BC$286,7,FALSE))","v":""},{"$f":"IF(ISNA(VLOOKUP(C194,Master!AQ$61:BC$286,8,FALSE)),\"\",VLOOKUP(C194,Master!AQ$61:BC$286,8,FALSE))","v":""},{"$f":"IF(ISNA(VLOOKUP(C194,Master!AQ$61:BC$286,4,FALSE)),\"\",VLOOKUP(C194,Master!AQ$61:BC$286,4,FALSE))","v":""},{"$f":"IF(ISNA(VLOOKUP(C194,Master!AQ$61:BC$286,5,FALSE)),\"\",VLOOKUP(C194,Master!AQ$61:BC$286,5,FALSE))","v":""},{"$f":"IF(ISNA(VLOOKUP(C194,Master!AQ$61:BC$286,6,FALSE)),\"\",VLOOKUP(C194,Master!AQ$61:BC$286,6,FALSE))","v":""},"","","","","",{"$f":"IF(ISNA(VLOOKUP(C194,Master!AQ$61:BC$286,12,FALSE)),\"\",VLOOKUP(C194,Master!AQ$61:BC$286,12,FALSE))","v":""},{"$nulls":4},0,1,{"$f":"IF(ISNA(VLOOKUP(C194,Master!AQ$61:BC$108,10,FALSE)),\"\",VLOOKUP(C194,Master!AQ$61:BC$108,10,FALSE))","v":""},null,null,{"$f":"IF(ISNA(VLOOKUP(C194,Master!AQ$61:BC$108,11,FALSE)),\"\",VLOOKUP(C194,Master!AQ$61:BC$108,11,FALSE))","v":""},{"$f":"IF(ISNA(VLOOKUP(C194,Master!AQ$61:BC$108,9,FALSE)),\"\",VLOOKUP(C194,Master!AQ$61:BC$108,9,FALSE))","v":""},0,0,0,0,0,0,"","","","","","",0,0,"",0,0,0,0,0,0,0,null,null,0,0,0,0,0,0,0,0,0,0,0,0,0,0,0,0,null,null,0,0,1,0,0,0,1,0,1,0,0,""]
["",2202,169,{"$f":"IF(ISNA(VLOOKUP(C195,Master!AQ$61:BC$286,3,FALSE)),\"\",VLOOKUP(C195,Master!AQ$61:BC$286,3,FALSE))","v":""},{"$f":"IF(ISNA(VLOOKUP(C195,Master!AQ$61:BC$286,7,FALSE)),\"\",VLOOKUP(C195,Master!AQ$61:BC$286,7,FALSE))","v":""},{"$f":"IF(ISNA(VLOOKUP(C195,Master!AQ$61:BC$286,8,FALSE)),\"\",VLOOKUP(C195,Master!AQ$61:BC$286,8,FALSE))","v":""},{"$f":"IF(ISNA(VLOOKUP(C195,Master!AQ$61:BC$286,4,FALSE)),\"\",VLOOKUP(C195,Master!AQ$61:BC$286,4,FALSE))","v":""},{"$f":"IF(ISNA(VLOOKUP(C195,Master!AQ$61:BC$286,5,FALSE)),\"\",VLOOKUP(C195,Master!AQ$61:BC$286,5,FALSE))","v":""},{"$f":"IF(ISNA(VLOOKUP(C195,Master!AQ$61:BC$286,6,FALSE)),\"\",VLOOKUP(C195,Master!AQ$61:BC$286,6,FALSE))","v":""},"","","","","",{"$f":"IF(ISNA(VLOOKUP(C195,Master!AQ$61:BC$286,12,FALSE)),\"\",VLOOKUP(C195,Master!AQ$61:BC$286,12,FALSE))","v":""},{"$nulls":4},0,1,{"$f":"IF(ISNA(VLOOKUP(C195,Master!AQ$61:BC$108,10,FALSE)),\"\",VLOOKUP(C195,Master!AQ$61:BC$108,10,FALSE))","v":""},null,null,{"$f":"IF(ISNA(VLOOKUP(C195,Master!AQ$61:BC$108,11,FALSE)),\"\",VLOOKUP(C195,Master!AQ$61:BC$108,11,FALSE))","v":""},{"$f":"IF(ISNA(VLOOKUP(C195,Master!AQ$61:BC$108,9,FALSE)),\"\",VLOOKUP(C195,Master!AQ$61:BC$108,9,FALSE))","v":""},0,0,0,0,0,0,"","","","","","",0,0,"",0,0,0,0,0,0,0,null,null,0,0,0,0,0,0,0,0,0,0,0,0,0,0,0,0,null,null,0,0,1,0,0,0,1,0,1,0,0,""]
["",2202,170,{"$f":"IF(ISNA(VLOOKUP(C196,Master!AQ$61:BC$286,3,FALSE)),\"\",VLOOKUP(C196,Master!AQ$61:BC$286,3,FALSE))","v":""},{"$f":"IF(ISNA(VLOOKUP(C196,Master!AQ$61:BC$286,7,FALSE)),\"\",VLOOKUP(C196,Master!AQ$61:BC$286,7,FALSE))","v":""},{"$f":"IF(ISNA(VLOOKUP(C196,Master!AQ$61:BC$286,8,FALSE)),\"\",VLOOKUP(C196,Master!AQ$61:BC$286,8,FALSE))","v":""},{"$f":"IF(ISNA(VLOOKUP(C196,Master!AQ$61:BC$286,4,FALSE)),\"\",VLOOKUP(C196,Master!AQ$61:BC$286,4,FALSE))","v":""},{"$f":"IF(ISNA(VLOOKUP(C196,Master!AQ$61:BC$286,5,FALSE)),\"\",VLOOKUP(C196,Master!AQ$61:BC$286,5,FALSE))","v":""},{"$f":"IF(ISNA(VLOOKUP(C196,Master!AQ$61:BC$286,6,FALSE)),\"\",VLOOKUP(C196,Master!AQ$61:BC$286,6,FALSE))","v":""},"","","","","",{"$f":"IF(ISNA(VLOOKUP(C196,Master!AQ$61:BC$286,12,FALSE)),\"\",VLOOKUP(C196,Master!AQ$61:BC$286,12,FALSE))","v":""},{"$nulls":4},0,1,{"$f":"IF(ISNA(VLOOKUP(C196,Master!AQ$61:BC$108,10,FALSE)),\"\",VLOOKUP(C196,Master!AQ$61:BC$108,10,FALSE))","v":""},null,null,{"$f":"IF(ISNA(VLOOKUP(C196,Master!AQ$61:BC$108,11,FALSE)),\"\",VLOOKUP(C196,Master!AQ$61:BC$108,11,FALSE))","v":""},{"$f":"IF(ISNA(VLOOKUP(C196,Master!AQ$61:BC$108,9,FALSE)),\"\",VLOOKUP(C196,Master!AQ$61:BC$108,9,FALSE))","v":""},0,0,0,0,0,0,"","","","","","",0,0,"",0,0,0,0,0,0,0,null,null,0,0,0,0,0,0,0,0,0,0,0,0,0,0,0,0,null,null,0,0,1,0,0,0,1,0,1,0,0,""]
["",2202,171,{"$f":"IF(ISNA(VLOOKUP(C197,Master!AQ$61:BC$286,3,FALSE)),\"\",VLOOKUP(C197,Master!AQ$61:BC$286,3,FALSE))","v":""},{"$f":"IF(ISNA(VLOOKUP(C197,Master!AQ$61:BC$286,7,FALSE)),\"\",VLOOKUP(C197,Master!AQ$61:BC$286,7,FALSE))","v":""},{"$f":"IF(ISNA(VLOOKUP(C197,Master!AQ$61:BC$286,8,FALSE)),\"\",VLOOKUP(C197,Master!AQ$61:BC$286,8,FALSE))","v":""},{"$f":"IF(ISNA(VLOOKUP(C197,Master!AQ$61:BC$286,4,FALSE)),\"\",VLOOKUP(C197,Master!AQ$61:BC$286,4,FALSE))","v":""},{"$f":"IF(ISNA(VLOOKUP(C197,Master!AQ$61:BC$286,5,FALSE)),\"\",VLOOKUP(C197,Master!AQ$61:BC$286,5,FALSE))","v":""},{"$f":"IF(ISNA(VLOOKUP(C197,Master!AQ$61:BC$286,6,FALSE)),\"\",VLOOKUP(C197,Master!AQ$61:BC$286,6,FALSE))","v":""},"","","","","",{"$f":"IF(ISNA(VLOOKUP(C197,Master!AQ$61:BC$286,12,FALSE)),\"\",VLOOKUP(C197,Master!AQ$61:BC$286,12,FALSE))","v":""},{"$nulls":4},0,1,{"$f":"IF(ISNA(VLOOKUP(C197,Master!AQ$61:BC$108,10,FALSE)),\"\",VLOOKUP(C197,Master!AQ$61:BC$108,10,FALSE))","v":""},null,null,{"$f":"IF(ISNA(VLOOKUP(C197,Master!AQ$61:BC$108,11,FALSE)),\"\",VLOOKUP(C197,Master!AQ$61:BC$108,11,FALSE))","v":""},{"$f":"IF(ISNA(VLOOKUP(C197,Master!AQ$61:BC$108,9,FALSE)),\"\",VLOOKUP(C197,Master!AQ$61:BC$108,9,FALSE))","v":""},0,0,0,0,0,0,"","","","","","",0,0,"",0,0,0,0,0,0,0,null,null,0,0,0,0,0,0,0,0,0,0,0,0,0,0,0,0,null,null,0,0,1,0,0,0,1,0,1,0,0,""]
["",2202,172,{"$f":"IF(ISNA(VLOOKUP(C198,Master!AQ$61:BC$286,3,FALSE)),\"\",VLOOKUP(C198,Master!AQ$61:BC$286,3,FALSE))","v":""},{"$f":"IF(ISNA(VLOOKUP(C198,Master!AQ$61:BC$286,7,FALSE)),\"\",VLOOKUP(C198,Master!AQ$61:BC$286,7,FALSE))","v":""},{"$f":"IF(ISNA(VLOOKUP(C198,Master!AQ$61:BC$286,8,FALSE)),\"\",VLOOKUP(C198,Master!AQ$61:BC$286,8,FALSE))","v":""},{"$f":"IF(ISNA(VLOOKUP(C198,Master!AQ$61:BC$286,4,FALSE)),\"\",VLOOKUP(C198,Master!AQ$61:BC$286,4,FALSE))","v":""},{"$f":"IF(ISNA(VLOOKUP(C198,Master!AQ$61:BC$286,5,FALSE)),\"\",VLOOKUP(C198,Master!AQ$61:BC$286,5,FALSE))","v":""},{"$f":"IF(ISNA(VLOOKUP(C198,Master!AQ$61:BC$286,6,FALSE)),\"\",VLOOKUP(C198,Master!AQ$61:BC$286,6,FALSE))","v":""},"","","","","",{"$f":"IF(ISNA(VLOOKUP(C198,Master!AQ$61:BC$286,12,FALSE)),\"\",VLOOKUP(C198,Master!AQ$61:BC$286,12,FALSE))","v":""},{"$nulls":4},0,1,{"$f":"IF(ISNA(VLOOKUP(C198,Master!AQ$61:BC$108,10,FALSE)),\"\",VLOOKUP(C198,Master!AQ$61:BC$108,10,FALSE))","v":""},null,null,{"$f":"IF(ISNA(VLOOKUP(C198,Master!AQ$61:BC$108,11,FALSE)),\"\",VLOOKUP(C198,Master!AQ$61:BC$108,11,FALSE))","v":""},{"$f":"IF(ISNA(VLOOKUP(C198,Master!AQ$61:BC$108,9,FALSE)),\"\",VLOOKUP(C198,Master!AQ$61:BC$108,9,FALSE))","v":""},0,0,0,0,0,0,"","","","","","",0,0,"",0,0,0,0,0,0,0,null,null,0,0,0,0,0,0,0,0,0,0,0,0,0,0,0,0,null,null,0,0,1,0,0,0,1,0,1,0,0,""]
["",2202,173,{"$f":"IF(ISNA(VLOOKUP(C199,Master!AQ$61:BC$286,3,FALSE)),\"\",VLOOKUP(C199,Master!AQ$61:BC$286,3,FALSE))","v":""},{"$f":"IF(ISNA(VLOOKUP(C199,Master!AQ$61:BC$286,7,FALSE)),\"\",VLOOKUP(C199,Master!AQ$61:BC$286,7,FALSE))","v":""},{"$f":"IF(ISNA(VLOOKUP(C199,Master!AQ$61:BC$286,8,FALSE)),\"\",VLOOKUP(C199,Master!AQ$61:BC$286,8,FALSE))","v":""},{"$f":"IF(ISNA(VLOOKUP(C199,Master!AQ$61:BC$286,4,FALSE)),\"\",VLOOKUP(C199,Master!AQ$61:BC$286,4,FALSE))","v":""},{"$f":"IF(ISNA(VLOOKUP(C199,Master!AQ$61:BC$286,5,FALSE)),\"\",VLOOKUP(C199,Master!AQ$61:BC$286,5,FALSE))","v":""},{"$f":"IF(ISNA(VLOOKUP(C199,Master!AQ$61:BC$286,6,FALSE)),\"\",VLOOKUP(C199,Master!AQ$61:BC$286,6,FALSE))","v":""},"","","","","",{"$f":"IF(ISNA(VLOOKUP(C199,Master!AQ$61:BC$286,12,FALSE)),\"\",VLOOKUP(C199,Master!AQ$61:BC$286,12,FALSE))","v":""},{"$nulls":4},0,1,{"$f":"IF(ISNA(VLOOKUP(C199,Master!AQ$61:BC$108,10,FALSE)),\"\",VLOOKUP(C199,Master!AQ$61:BC$108,10,FALSE))","v":""},null,null,{"$f":"IF(ISNA(VLOOKUP(C199,Master!AQ$61:BC$108,11,FALSE)),\"\",VLOOKUP(C199,Master!AQ$61:BC$108,11,FALSE))","v":""},{"$f":"IF(ISNA(VLOOKUP(C199,Master!AQ$61:BC$108,9,FALSE)),\"\",VLOOKUP(C199,Master!AQ$61:BC$108,9,FALSE))","v":""},0,0,0,0,0,0,"","","","","","",0,0,"",0,0,0,0,0,0,0,null,null,0,0,0,0,0,0,0,0,0,0,0,0,0,0,0,0,null,null,0,0,1,0,0,0,1,0,1,0,0,""]
["",2202,174,{"$f":"IF(ISNA(VLOOKUP(C200,Master!AQ$61:BC$286,3,FALSE)),\"\",VLOOKUP(C200,Master!AQ$61:BC$286,3,FALSE))","v":""},{"$f":"IF(ISNA(VLOOKUP(C200,Master!AQ$61:BC$286,7,FALSE)),\"\",VLOOKUP(C200,Master!AQ$61:BC$286,7,FALSE))","v":""},{"$f":"IF(ISNA(VLOOKUP(C200,Master!AQ$61:BC$286,8,FALSE)),\"\",VLOOKUP(C200,Master!AQ$61:BC$286,8,FALSE))","v":""},{"$f":"IF(ISNA(VLOOKUP(C200,Master!AQ$61:BC$286,4,FALSE)),\"\",VLOOKUP(C200,Master!AQ$61:BC$286,4,FALSE))","v":""},{"$f":"IF(ISNA(VLOOKUP(C200,Master!AQ$61:BC$286,5,FALSE)),\"\",VLOOKUP(C200,Master!AQ$61:BC$286,5,FALSE))","v":""},{"$f":"IF(ISNA(VLOOKUP(C200,Master!AQ$61:BC$286,6,FALSE)),\"\",VLOOKUP(C200,Master!AQ$61:BC$286,6,FALSE))","v":""},"","","","","",{"$f":"IF(ISNA(VLOOKUP(C200,Master!AQ$61:BC$286,12,FALSE)),\"\",VLOOKUP(C200,Master!AQ$61:BC$286,12,FALSE))","v":""},{"$nulls":4},{"$f":"IF(H200=\"l-10\",6774,IF(H200=\"l-11\",6774,IF(H200=\"l-12\",6774,0)))","v":0},1,{"$f":"IF(ISNA(VLOOKUP(C200,Master!AQ$61:BC$108,10,FALSE)),\"\",VLOOKUP(C200,Master!AQ$61:BC$108,10,FALSE))","v":""},null,null,{"$f":"IF(ISNA(VLOOKUP(C200,Master!AQ$61:BC$108,11,FALSE)),\"\",VLOOKUP(C200,Master!AQ$61:BC$108,11,FALSE))","v":""},{"$f":"IF(ISNA(VLOOKUP(C200,Master!AQ$61:BC$108,9,FALSE)),\"\",VLOOKUP(C200,Master!AQ$61:BC$108,9,FALSE))","v":""},0,0,0,0,0,0,"","","","","","",0,0,"",0,0,0,0,0,0,0,null,null,0,0,0,0,0,0,0,0,0,0,0,0,0,0,0,0,null,null,0,0,1,0,0,0,1,0,1,0,0,""]
["",2202,175,{"$f":"IF(ISNA(VLOOKUP(C201,Master!AQ$61:BC$286,3,FALSE)),\"\",VLOOKUP(C201,Master!AQ$61:BC$286,3,FALSE))","v":""},{"$f":"IF(ISNA(VLOOKUP(C201,Master!AQ$61:BC$286,7,FALSE)),\"\",VLOOKUP(C201,Master!AQ$61:BC$286,7,FALSE))","v":""},{"$f":"IF(ISNA(VLOOKUP(C201,Master!AQ$61:BC$286,8,FALSE)),\"\",VLOOKUP(C201,Master!AQ$61:BC$286,8,FALSE))","v":""},{"$f":"IF(ISNA(VLOOKUP(C201,Master!AQ$61:BC$286,4,FALSE)),\"\",VLOOKUP(C201,Master!AQ$61:BC$286,4,FALSE))","v":""},{"$f":"IF(ISNA(VLOOKUP(C201,Master!AQ$61:BC$286,5,FALSE)),\"\",VLOOKUP(C201,Master!AQ$61:BC$286,5,FALSE))","v":""},{"$f":"IF(ISNA(VLOOKUP(C201,Master!AQ$61:BC$286,6,FALSE)),\"\",VLOOKUP(C201,Master!AQ$61:BC$286,6,FALSE))","v":""},"","","","","",{"$f":"IF(ISNA(VLOOKUP(C201,Master!AQ$61:BC$286,12,FALSE)),\"\",VLOOKUP(C201,Master!AQ$61:BC$286,12,FALSE))","v":""},{"$nulls":4},0,1,{"$f":"IF(ISNA(VLOOKUP(C201,Master!AQ$61:BC$108,10,FALSE)),\"\",VLOOKUP(C201,Master!AQ$61:BC$108,10,FALSE))","v":""},null,null,{"$f":"IF(ISNA(VLOOKUP(C201,Master!AQ$61:BC$108,11,FALSE)),\"\",VLOOKUP(C201,Master!AQ$61:BC$108,11,FALSE))","v":""},{"$f":"IF(ISNA(VLOOKUP(C201,Master!AQ$61:BC$108,9,FALSE)),\"\",VLOOKUP(C201,Master!AQ$61:BC$108,9,FALSE))","v":""},0,0,0,0,0,0,"","","","","","",0,0,"",0,0,0,0,0,0,0,null,null,0,0,0,0,0,0,0,0,0,0,0,0,0,0,0,0,null,null,0,0,1,0,0,0,1,0,1,0,0,""]
["",2202,176,{"$f":"IF(ISNA(VLOOKUP(C202,Master!AQ$61:BC$286,3,FALSE)),\"\",VLOOKUP(C202,Master!AQ$61:BC$286,3,FALSE))","v":""},{"$f":"IF(ISNA(VLOOKUP(C202,Master!AQ$61:BC$286,7,FALSE)),\"\",VLOOKUP(C202,Master!AQ$61:BC$286,7,FALSE))","v":""},{"$f":"IF(ISNA(VLOOKUP(C202,Master!AQ$61:BC$286,8,FALSE)),\"\",VLOOKUP(C202,Master!AQ$61:BC$286,8,FALSE))","v":""},{"$f":"IF(ISNA(VLOOKUP(C202,Master!AQ$61:BC$286,4,FALSE)),\"\",VLOOKUP(C202,Master!AQ$61:BC$286,4,FALSE))","v":""},{"$f":"IF(ISNA(VLOOKUP(C202,Master!AQ$61:BC$286,5,FALSE)),\"\",VLOOKUP(C202,Master!AQ$61:BC$286,5,FALSE))","v":""},{"$f":"IF(ISNA(VLOOKUP(C202,Master!AQ$61:BC$286,6,FALSE)),\"\",VLOOKUP(C202,Master!AQ$61:BC$286,6,FALSE))","v":""},"","","","","",{"$f":"IF(ISNA(VLOOKUP(C202,Master!AQ$61:BC$286,12,FALSE)),\"\",VLOOKUP(C202,Master!AQ$61:BC$286,12,FALSE))","v":""},{"$nulls":4},0,1,{"$f":"IF(ISNA(VLOOKUP(C202,Master!AQ$61:BC$108,10,FALSE)),\"\",VLOOKUP(C202,Master!AQ$61:BC$108,10,FALSE))","v":""},null,null,{"$f":"IF(ISNA(VLOOKUP(C202,Master!AQ$61:BC$108,11,FALSE)),\"\",VLOOKUP(C202,Master!AQ$61:BC$108,11,FALSE))","v":""},{"$f":"IF(ISNA(VLOOKUP(C202,Master!AQ$61:BC$108,9,FALSE)),\"\",VLOOKUP(C202,Master!AQ$61:BC$108,9,FALSE))","v":""},0,0,0,0,0,0,"","","","","","",0,0,"",0,0,0,0,0,0,0,null,null,0,0,0,0,0,0,0,0,0,0,0,0,0,0,0,0,null,null,0,0,1,0,0,0,1,0,1,0,0,""]
["",2202,177,{"$f":"IF(ISNA(VLOOKUP(C203,Master!AQ$61:BC$286,3,FALSE)),\"\",VLOOKUP(C203,Master!AQ$61:BC$286,3,FALSE))","v":""},{"$f":"IF(ISNA(VLOOKUP(C203,Master!AQ$61:BC$286,7,FALSE)),\"\",VLOOKUP(C203,Master!AQ$61:BC$286,7,FALSE))","v":""},{"$f":"IF(ISNA(VLOOKUP(C203,Master!AQ$61:BC$286,8,FALSE)),\"\",VLOOKUP(C203,Master!AQ$61:BC$286,8,FALSE))","v":""},{"$f":"IF(ISNA(VLOOKUP(C203,Master!AQ$61:BC$286,4,FALSE)),\"\",VLOOKUP(C203,Master!AQ$61:BC$286,4,FALSE))","v":""},{"$f":"IF(ISNA(VLOOKUP(C203,Master!AQ$61:BC$286,5,FALSE)),\"\",VLOOKUP(C203,Master!AQ$61:BC$286,5,FALSE))","v":""},{"$f":"IF(ISNA(VLOOKUP(C203,Master!AQ$61:BC$286,6,FALSE)),\"\",VLOOKUP(C203,Master!AQ$61:BC$286,6,FALSE))","v":""},"","","","","",{"$f":"IF(ISNA(VLOOKUP(C203,Master!AQ$61:BC$286,12,FALSE)),\"\",VLOOKUP(C203,Master!AQ$61:BC$286,12,FALSE))","v":""},{"$nulls":4},0,1,{"$f":"IF(ISNA(VLOOKUP(C203,Master!AQ$61:BC$108,10,FALSE)),\"\",VLOOKUP(C203,Master!AQ$61:BC$108,10,FALSE))","v":""},null,null,{"$f":"IF(ISNA(VLOOKUP(C203,Master!AQ$61:BC$108,11,FALSE)),\"\",VLOOKUP(C203,Master!AQ$61:BC$108,11,FALSE))","v":""},{"$f":"IF(ISNA(VLOOKUP(C203,Master!AQ$61:BC$108,9,FALSE)),\"\",VLOOKUP(C203,Master!AQ$61:BC$108,9,FALSE))","v":""},0,0,0,0,0,0,"","","","","","",0,0,"",0,0,0,0,0,0,0,null,null,0,0,0,0,0,0,0,0,0,0,0,0,0,0,0,0,null,null,0,0,1,0,0,0,1,0,1,0,0,""]
["",2202,178,{"$f":"IF(ISNA(VLOOKUP(C204,Master!AQ$61:BC$286,3,FALSE)),\"\",VLOOKUP(C204,Master!AQ$61:BC$286,3,FALSE))","v":""},{"$f":"IF(ISNA(VLOOKUP(C204,Master!AQ$61:BC$286,7,FALSE)),\"\",VLOOKUP(C204,Master!AQ$61:BC$286,7,FALSE))","v":""},{"$f":"IF(ISNA(VLOOKUP(C204,Master!AQ$61:BC$286,8,FALSE)),\"\",VLOOKUP(C204,Master!AQ$61:BC$286,8,FALSE))","v":""},{"$f":"IF(ISNA(VLOOKUP(C204,Master!AQ$61:BC$286,4,FALSE)),\"\",VLOOKUP(C204,Master!AQ$61:BC$286,4,FALSE))","v":""},{"$f":"IF(ISNA(VLOOKUP(C204,Master!AQ$61:BC$286,5,FALSE)),\"\",VLOOKUP(C204,Master!AQ$61:BC$286,5,FALSE))","v":""},{"$f":"IF(ISNA(VLOOKUP(C204,Master!AQ$61:BC$286,6,FALSE)),\"\",VLOOKUP(C204,Master!AQ$61:BC$286,6,FALSE))","v":""},"","","","","",{"$f":"IF(ISNA(VLOOKUP(C204,Master!AQ$61:BC$286,12,FALSE)),\"\",VLOOKUP(C204,Master!AQ$61:BC$286,12,FALSE))","v":""},{"$nulls":4},0,1,{"$f":"IF(ISNA(VLOOKUP(C204,Master!AQ$61:BC$108,10,FALSE)),\"\",VLOOKUP(C204,Master!AQ$61:BC$108,10,FALSE))","v":""},null,null,{"$f":"IF(ISNA(VLOOKUP(C204,Master!AQ$61:BC$108,11,FALSE)),\"\",VLOOKUP(C204,Master!AQ$61:BC$108,11,FALSE))","v":""},{"$f":"IF(ISNA(VLOOKUP(C204,Master!AQ$61:BC$108,9,FALSE)),\"\",VLOOKUP(C204,Master!AQ$61:BC$108,9,FALSE))","v":""},0,0,0,0,0,0,"","","","","","",0,0,"",0,0,0,0,0,0,0,null,null,0,0,0,0,0,0,0,0,0,0,0,0,0,0,0,0,null,null,0,0,1,0,0,0,1,0,1,0,0,""]
["",2202,179,{"$f":"IF(ISNA(VLOOKUP(C205,Master!AQ$61:BC$286,3,FALSE)),\"\",VLOOKUP(C205,Master!AQ$61:BC$286,3,FALSE))","v":""},{"$f":"IF(ISNA(VLOOKUP(C205,Master!AQ$61:BC$286,7,FALSE)),\"\",VLOOKUP(C205,Master!AQ$61:BC$286,7,FALSE))","v":""},{"$f":"IF(ISNA(VLOOKUP(C205,Master!AQ$61:BC$286,8,FALSE)),\"\",VLOOKUP(C205,Master!AQ$61:BC$286,8,FALSE))","v":""},{"$f":"IF(ISNA(VLOOKUP(C205,Master!AQ$61:BC$286,4,FALSE)),\"\",VLOOKUP(C205,Master!AQ$61:BC$286,4,FALSE))","v":""},{"$f":"IF(ISNA(VLOOKUP(C205,Master!AQ$61:BC$286,5,FALSE)),\"\",VLOOKUP(C205,Master!AQ$61:BC$286,5,FALSE))","v":""},{"$f":"IF(ISNA(VLOOKUP(C205,Master!AQ$61:BC$286,6,FALSE)),\"\",VLOOKUP(C205,Master!AQ$61:BC$286,6,FALSE))","v":""},"","","","","",{"$f":"IF(ISNA(VLOOKUP(C205,Master!AQ$61:BC$286,12,FALSE)),\"\",VLOOKUP(C205,Master!AQ$61:BC$286,12,FALSE))","v":""},{"$nulls":4},0,1,{"$f":"IF(ISNA(VLOOKUP(C205,Master!AQ$61:BC$108,10,FALSE)),\"\",VLOOKUP(C205,Master!AQ$61:BC$108,10,FALSE))","v":""},null,null,{"$f":"IF(ISNA(VLOOKUP(C205,Master!AQ$61:BC$108,11,FALSE)),\"\",VLOOKUP(C205,Master!AQ$61:BC$108,11,FALSE))","v":""},{"$f":"IF(ISNA(VLOOKUP(C205,Master!AQ$61:BC$108,9,FALSE)),\"\",VLOOKUP(C205,Master!AQ$61:BC$108,9,FALSE))","v":""},0,0,0,0,0,0,"","","","","","",0,0,"",0,0,0,0,{"$f":"(IF(G205=\"LAB BOY\",180,IF(G205=\"JAMADAR\",180,IF(G205=\"PEON\",180,0))))*12*BV205*(IF(I205<=0,0,1))","v":0},0,0,null,null,0,0,0,0,0,0,0,0,0,0,0,0,0,0,0,0,null,null,0,0,1,0,0,0,1,0,1,0,0,""]
["",2202,180,{"$f":"IF(ISNA(VLOOKUP(C206,Master!AQ$61:BC$286,3,FALSE)),\"\",VLOOKUP(C206,Master!AQ$61:BC$286,3,FALSE))","v":""},{"$f":"IF(ISNA(VLOOKUP(C206,Master!AQ$61:BC$286,7,FALSE)),\"\",VLOOKUP(C206,Master!AQ$61:BC$286,7,FALSE))","v":""},{"$f":"IF(ISNA(VLOOKUP(C206,Master!AQ$61:BC$286,8,FALSE)),\"\",VLOOKUP(C206,Master!AQ$61:BC$286,8,FALSE))","v":""},{"$f":"IF(ISNA(VLOOKUP(C206,Master!AQ$61:BC$286,4,FALSE)),\"\",VLOOKUP(C206,Master!AQ$61:BC$286,4,FALSE))","v":""},{"$f":"IF(ISNA(VLOOKUP(C206,Master!AQ$61:BC$286,5,FALSE)),\"\",VLOOKUP(C206,Master!AQ$61:BC$286,5,FALSE))","v":""},{"$f":"IF(ISNA(VLOOKUP(C206,Master!AQ$61:BC$286,6,FALSE)),\"\",VLOOKUP(C206,Master!AQ$61:BC$286,6,FALSE))","v":""},"","","","","",{"$f":"IF(ISNA(VLOOKUP(C206,Master!AQ$61:BC$286,12,FALSE)),\"\",VLOOKUP(C206,Master!AQ$61:BC$286,12,FALSE))","v":""},{"$nulls":4},0,1,{"$f":"IF(ISNA(VLOOKUP(C206,Master!AQ$61:BC$108,10,FALSE)),\"\",VLOOKUP(C206,Master!AQ$61:BC$108,10,FALSE))","v":""},null,null,{"$f":"IF(ISNA(VLOOKUP(C206,Master!AQ$61:BC$108,11,FALSE)),\"\",VLOOKUP(C206,Master!AQ$61:BC$108,11,FALSE))","v":""},{"$f":"IF(ISNA(VLOOKUP(C206,Master!AQ$61:BC$108,9,FALSE)),\"\",VLOOKUP(C206,Master!AQ$61:BC$108,9,FALSE))","v":""},0,0,0,0,0,0,"","","","","","",0,0,"",0,0,0,0,0,0,0,null,null,0,0,0,0,0,0,0,0,0,0,0,0,0,0,0,0,null,null,0,0,1,0,0,0,1,0,1,0,0,""]
["",2202,181,{"$f":"IF(ISNA(VLOOKUP(C207,Master!AQ$61:BC$286,3,FALSE)),\"\",VLOOKUP(C207,Master!AQ$61:BC$286,3,FALSE))","v":""},{"$f":"IF(ISNA(VLOOKUP(C207,Master!AQ$61:BC$286,7,FALSE)),\"\",VLOOKUP(C207,Master!AQ$61:BC$286,7,FALSE))","v":""},{"$f":"IF(ISNA(VLOOKUP(C207,Master!AQ$61:BC$286,8,FALSE)),\"\",VLOOKUP(C207,Master!AQ$61:BC$286,8,FALSE))","v":""},{"$f":"IF(ISNA(VLOOKUP(C207,Master!AQ$61:BC$286,4,FALSE)),\"\",VLOOKUP(C207,Master!AQ$61:BC$286,4,FALSE))","v":""},{"$f":"IF(ISNA(VLOOKUP(C207,Master!AQ$61:BC$286,5,FALSE)),\"\",VLOOKUP(C207,Master!AQ$61:BC$286,5,FALSE))","v":""},{"$f":"IF(ISNA(VLOOKUP(C207,Master!AQ$61:BC$286,6,FALSE)),\"\",VLOOKUP(C207,Master!AQ$61:BC$286,6,FALSE))","v":""},"","","","","",{"$f":"IF(ISNA(VLOOKUP(C207,Master!AQ$61:BC$286,12,FALSE)),\"\",VLOOKUP(C207,Master!AQ$61:BC$286,12,FALSE))","v":""},{"$nulls":4},0,1,{"$f":"IF(ISNA(VLOOKUP(C207,Master!AQ$61:BC$108,10,FALSE)),\"\",VLOOKUP(C207,Master!AQ$61:BC$108,10,FALSE))","v":""},null,null,{"$f":"IF(ISNA(VLOOKUP(C207,Master!AQ$61:BC$108,11,FALSE)),\"\",VLOOKUP(C207,Master!AQ$61:BC$108,11,FALSE))","v":""},{"$f":"IF(ISNA(VLOOKUP(C207,Master!AQ$61:BC$108,9,FALSE)),\"\",VLOOKUP(C207,Master!AQ$61:BC$108,9,FALSE))","v":""},0,0,0,0,0,0,"","","","","","",0,0,"",0,0,0,0,0,0,0,null,null,0,0,0,0,0,0,0,0,0,0,0,0,0,0,0,0,null,null,0,0,1,0,0,0,1,0,1,0,0,""]
["",2202,182,{"$f":"IF(ISNA(VLOOKUP(C208,Master!AQ$61:BC$286,3,FALSE)),\"\",VLOOKUP(C208,Master!AQ$61:BC$286,3,FALSE))","v":""},{"$f":"IF(ISNA(VLOOKUP(C208,Master!AQ$61:BC$286,7,FALSE)),\"\",VLOOKUP(C208,Master!AQ$61:BC$286,7,FALSE))","v":""},{"$f":"IF(ISNA(VLOOKUP(C208,Master!AQ$61:BC$286,8,FALSE)),\"\",VLOOKUP(C208,Master!AQ$61:BC$286,8,FALSE))","v":""},{"$f":"IF(ISNA(VLOOKUP(C208,Master!AQ$61:BC$286,4,FALSE)),\"\",VLOOKUP(C208,Master!AQ$61:BC$286,4,FALSE))","v":""},{"$f":"IF(ISNA(VLOOKUP(C208,Master!AQ$61:BC$286,5,FALSE)),\"\",VLOOKUP(C208,Master!AQ$61:BC$286,5,FALSE))","v":""},{"$f":"IF(ISNA(VLOOKUP(C208,Master!AQ$61:BC$286,6,FALSE)),\"\",VLOOKUP(C208,Master!AQ$61:BC$286,6,FALSE))","v":""},"","","","","",{"$f":"IF(ISNA(VLOOKUP(C208,Master!AQ$61:BC$286,12,FALSE)),\"\",VLOOKUP(C208,Master!AQ$61:BC$286,12,FALSE))","v":""},{"$nulls":4},0,1,{"$f":"IF(ISNA(VLOOKUP(C208,Master!AQ$61:BC$108,10,FALSE)),\"\",VLOOKUP(C208,Master!AQ$61:BC$108,10,FALSE))","v":""},null,null,{"$f":"IF(ISNA(VLOOKUP(C208,Master!AQ$61:BC$108,11,FALSE)),\"\",VLOOKUP(C208,Master!AQ$61:BC$108,11,FALSE))","v":""},{"$f":"IF(ISNA(VLOOKUP(C208,Master!AQ$61:BC$108,9,FALSE)),\"\",VLOOKUP(C208,Master!AQ$61:BC$108,9,FALSE))","v":""},0,0,0,0,0,0,"","","","","","",0,0,"",0,0,0,0,0,0,0,null,null,0,0,0,0,0,0,0,0,0,0,0,0,0,0,0,0,null,null,0,0,1,0,0,0,1,0,1,0,0,""]
["",2202,183,{"$f":"IF(ISNA(VLOOKUP(C209,Master!AQ$61:BC$286,3,FALSE)),\"\",VLOOKUP(C209,Master!AQ$61:BC$286,3,FALSE))","v":""},{"$f":"IF(ISNA(VLOOKUP(C209,Master!AQ$61:BC$286,7,FALSE)),\"\",VLOOKUP(C209,Master!AQ$61:BC$286,7,FALSE))","v":""},{"$f":"IF(ISNA(VLOOKUP(C209,Master!AQ$61:BC$286,8,FALSE)),\"\",VLOOKUP(C209,Master!AQ$61:BC$286,8,FALSE))","v":""},{"$f":"IF(ISNA(VLOOKUP(C209,Master!AQ$61:BC$286,4,FALSE)),\"\",VLOOKUP(C209,Master!AQ$61:BC$286,4,FALSE))","v":""},{"$f":"IF(ISNA(VLOOKUP(C209,Master!AQ$61:BC$286,5,FALSE)),\"\",VLOOKUP(C209,Master!AQ$61:BC$286,5,FALSE))","v":""},{"$f":"IF(ISNA(VLOOKUP(C209,Master!AQ$61:BC$286,6,FALSE)),\"\",VLOOKUP(C209,Master!AQ$61:BC$286,6,FALSE))","v":""},"","","","","",{"$f":"IF(ISNA(VLOOKUP(C209,Master!AQ$61:BC$286,12,FALSE)),\"\",VLOOKUP(C209,Master!AQ$61:BC$286,12,FALSE))","v":""},{"$nulls":4},0,1,{"$f":"IF(ISNA(VLOOKUP(C209,Master!AQ$61:BC$108,10,FALSE)),\"\",VLOOKUP(C209,Master!AQ$61:BC$108,10,FALSE))","v":""},null,null,{"$f":"IF(ISNA(VLOOKUP(C209,Master!AQ$61:BC$108,11,FALSE)),\"\",VLOOKUP(C209,Master!AQ$61:BC$108,11,FALSE))","v":""},{"$f":"IF(ISNA(VLOOKUP(C209,Master!AQ$61:BC$108,9,FALSE)),\"\",VLOOKUP(C209,Master!AQ$61:BC$108,9,FALSE))","v":""},0,0,0,0,0,0,"","","","","","",0,0,"",0,0,0,0,0,0,0,null,null,0,0,0,0,0,0,0,0,0,0,0,0,0,0,0,0,null,null,0,0,1,0,0,0,1,0,1,0,0,""]
["",2202,184,{"$f":"IF(ISNA(VLOOKUP(C210,Master!AQ$61:BC$286,3,FALSE)),\"\",VLOOKUP(C210,Master!AQ$61:BC$286,3,FALSE))","v":""},{"$f":"IF(ISNA(VLOOKUP(C210,Master!AQ$61:BC$286,7,FALSE)),\"\",VLOOKUP(C210,Master!AQ$61:BC$286,7,FALSE))","v":""},{"$f":"IF(ISNA(VLOOKUP(C210,Master!AQ$61:BC$286,8,FALSE)),\"\",VLOOKUP(C210,Master!AQ$61:BC$286,8,FALSE))","v":""},{"$f":"IF(ISNA(VLOOKUP(C210,Master!AQ$61:BC$286,4,FALSE)),\"\",VLOOKUP(C210,Master!AQ$61:BC$286,4,FALSE))","v":""},{"$f":"IF(ISNA(VLOOKUP(C210,Master!AQ$61:BC$286,5,FALSE)),\"\",VLOOKUP(C210,Master!AQ$61:BC$286,5,FALSE))","v":""},{"$f":"IF(ISNA(VLOOKUP(C210,Master!AQ$61:BC$286,6,FALSE)),\"\",VLOOKUP(C210,Master!AQ$61:BC$286,6,FALSE))","v":""},"","","","","",{"$f":"IF(ISNA(VLOOKUP(C210,Master!AQ$61:BC$286,12,FALSE)),\"\",VLOOKUP(C210,Master!AQ$61:BC$286,12,FALSE))","v":""},{"$nulls":4},0,1,{"$f":"IF(ISNA(VLOOKUP(C210,Master!AQ$61:BC$108,10,FALSE)),\"\",VLOOKUP(C210,Master!AQ$61:BC$108,10,FALSE))","v":""},null,null,{"$f":"IF(ISNA(VLOOKUP(C210,Master!AQ$61:BC$108,11,FALSE)),\"\",VLOOKUP(C210,Master!AQ$61:BC$108,11,FALSE))","v":""},{"$f":"IF(ISNA(VLOOKUP(C210,Master!AQ$61:BC$108,9,FALSE)),\"\",VLOOKUP(C210,Master!AQ$61:BC$108,9,FALSE))","v":""},0,0,0,0,0,0,"","","","","","",0,0,"",0,0,0,0,0,0,0,null,null,0,0,0,0,0,0,0,0,0,0,0,0,0,0,0,0,null,null,0,0,1,0,0,0,1,0,1,0,0,""]
["",2202,185,{"$f":"IF(ISNA(VLOOKUP(C211,Master!AQ$61:BC$286,3,FALSE)),\"\",VLOOKUP(C211,Master!AQ$61:BC$286,3,FALSE))","v":""},{"$f":"IF(ISNA(VLOOKUP(C211,Master!AQ$61:BC$286,7,FALSE)),\"\",VLOOKUP(C211,Master!AQ$61:BC$286,7,FALSE))","v":""},{"$f":"IF(ISNA(VLOOKUP(C211,Master!AQ$61:BC$286,8,FALSE)),\"\",VLOOKUP(C211,Master!AQ$61:BC$286,8,FALSE))","v":""},{"$f":"IF(ISNA(VLOOKUP(C211,Master!AQ$61:BC$286,4,FALSE)),\"\",VLOOKUP(C211,Master!AQ$61:BC$286,4,FALSE))","v":""},{"$f":"IF(ISNA(VLOOKUP(C211,Master!AQ$61:BC$286,5,FALSE)),\"\",VLOOKUP(C211,Master!AQ$61:BC$286,5,FALSE))","v":""},{"$f":"IF(ISNA(VLOOKUP(C211,Master!AQ$61:BC$286,6,FALSE)),\"\",VLOOKUP(C211,Master!AQ$61:BC$286,6,FALSE))","v":""},"","","","","",{"$f":"IF(ISNA(VLOOKUP(C211,Master!AQ$61:BC$286,12,FALSE)),\"\",VLOOKUP(C211,Master!AQ$61:BC$286,12,FALSE))","v":""},{"$nulls":4},0,1,{"$f":"IF(ISNA(VLOOKUP(C211,Master!AQ$61:BC$108,10,FALSE)),\"\",VLOOKUP(C211,Master!AQ$61:BC$108,10,FALSE))","v":""},null,null,{"$f":"IF(ISNA(VLOOKUP(C211,Master!AQ$61:BC$108,11,FALSE)),\"\",VLOOKUP(C211,Master!AQ$61:BC$108,11,FALSE))","v":""},{"$f":"IF(ISNA(VLOOKUP(C211,Master!AQ$61:BC$108,9,FALSE)),\"\",VLOOKUP(C211,Master!AQ$61:BC$108,9,FALSE))","v":""},0,0,0,0,0,0,"","","","","","",0,0,"",0,0,0,0,0,0,0,null,null,0,0,0,0,0,0,0,0,0,0,0,0,0,0,0,0,null,null,0,0,1,0,0,0,1,0,1,0,0,""]
["",2202,186,{"$f":"IF(ISNA(VLOOKUP(C212,Master!AQ$61:BC$286,3,FALSE)),\"\",VLOOKUP(C212,Master!AQ$61:BC$286,3,FALSE))","v":""},{"$f":"IF(ISNA(VLOOKUP(C212,Master!AQ$61:BC$286,7,FALSE)),\"\",VLOOKUP(C212,Master!AQ$61:BC$286,7,FALSE))","v":""},{"$f":"IF(ISNA(VLOOKUP(C212,Master!AQ$61:BC$286,8,FALSE)),\"\",VLOOKUP(C212,Master!AQ$61:BC$286,8,FALSE))","v":""},{"$f":"IF(ISNA(VLOOKUP(C212,Master!AQ$61:BC$286,4,FALSE)),\"\",VLOOKUP(C212,Master!AQ$61:BC$286,4,FALSE))","v":""},{"$f":"IF(ISNA(VLOOKUP(C212,Master!AQ$61:BC$286,5,FALSE)),\"\",VLOOKUP(C212,Master!AQ$61:BC$286,5,FALSE))","v":""},{"$f":"IF(ISNA(VLOOKUP(C212,Master!AQ$61:BC$286,6,FALSE)),\"\",VLOOKUP(C212,Master!AQ$61:BC$286,6,FALSE))","v":""},"","","","","",{"$f":"IF(ISNA(VLOOKUP(C212,Master!AQ$61:BC$286,12,FALSE)),\"\",VLOOKUP(C212,Master!AQ$61:BC$286,12,FALSE))","v":""},{"$nulls":4},0,1,{"$f":"IF(ISNA(VLOOKUP(C212,Master!AQ$61:BC$108,10,FALSE)),\"\",VLOOKUP(C212,Master!AQ$61:BC$108,10,FALSE))","v":""},null,null,{"$f":"IF(ISNA(VLOOKUP(C212,Master!AQ$61:BC$108,11,FALSE)),\"\",VLOOKUP(C212,Master!AQ$61:BC$108,11,FALSE))","v":""},{"$f":"IF(ISNA(VLOOKUP(C212,Master!AQ$61:BC$108,9,FALSE)),\"\",VLOOKUP(C212,Master!AQ$61:BC$108,9,FALSE))","v":""},0,0,0,0,0,0,"","","","","","",0,0,"",0,0,0,0,0,0,0,null,null,0,0,0,0,0,0,0,0,0,0,0,0,0,0,0,0,null,null,0,0,1,0,0,0,1,0,1,0,0,""]
["",2202,187,{"$f":"IF(ISNA(VLOOKUP(C213,Master!AQ$61:BC$286,3,FALSE)),\"\",VLOOKUP(C213,Master!AQ$61:BC$286,3,FALSE))","v":""},{"$f":"IF(ISNA(VLOOKUP(C213,Master!AQ$61:BC$286,7,FALSE)),\"\",VLOOKUP(C213,Master!AQ$61:BC$286,7,FALSE))","v":""},{"$f":"IF(ISNA(VLOOKUP(C213,Master!AQ$61:BC$286,8,FALSE)),\"\",VLOOKUP(C213,Master!AQ$61:BC$286,8,FALSE))","v":""},{"$f":"IF(ISNA(VLOOKUP(C213,Master!AQ$61:BC$286,4,FALSE)),\"\",VLOOKUP(C213,Master!AQ$61:BC$286,4,FALSE))","v":""},{"$f":"IF(ISNA(VLOOKUP(C213,Master!AQ$61:BC$286,5,FALSE)),\"\",VLOOKUP(C213,Master!AQ$61:BC$286,5,FALSE))","v":""},{"$f":"IF(ISNA(VLOOKUP(C213,Master!AQ$61:BC$286,6,FALSE)),\"\",VLOOKUP(C213,Master!AQ$61:BC$286,6,FALSE))","v":""},"","","","","",{"$f":"IF(ISNA(VLOOKUP(C213,Master!AQ$61:BC$286,12,FALSE)),\"\",VLOOKUP(C213,Master!AQ$61:BC$286,12,FALSE))","v":""},{"$nulls":4},0,1,{"$f":"IF(ISNA(VLOOKUP(C213,Master!AQ$61:BC$108,10,FALSE)),\"\",VLOOKUP(C213,Master!AQ$61:BC$108,10,FALSE))","v":""},null,null,{"$f":"IF(ISNA(VLOOKUP(C213,Master!AQ$61:BC$108,11,FALSE)),\"\",VLOOKUP(C213,Master!AQ$61:BC$108,11,FALSE))","v":""},{"$f":"IF(ISNA(VLOOKUP(C213,Master!AQ$61:BC$108,9,FALSE)),\"\",VLOOKUP(C213,Master!AQ$61:BC$108,9,FALSE))","v":""},0,0,0,0,0,0,"","","","","","",0,0,"",0,0,0,0,0,0,0,null,null,0,0,0,0,0,0,0,0,0,0,0,0,0,0,0,0,null,null,0,0,1,0,0,0,1,0,1,0,0,""]
[{"$nulls":6},"TOTAL NON GAZETTED REGULAR",null,{"$f":"SUM(I27:I213)","v":0},{"$f":"SUM(J27:J189)","v":0},null,{"$f":"SUM(L27:L189)","v":0},{"$f":"SUM(M27:M189)","v":0},{"$f":"SUM(N27:N189)","v":0},{"$nulls":31},0,{"$nulls":30},{"$f":"MID(E214,5,4)","v":""}]
[{"$nulls":6},"C/F  TOTAL GAZETTED + NON GAZETTED REGULAR",null,{"$f":"I26+I214","v":0},{"$f":"J26+J214","v":0},null,{"$f":"L26+L214","v":0},{"$f":"M26+M214","v":0},{"$f":"N26+N214","v":0},{"$nulls":31},0,{"$nulls":30},""]
[{"$nulls":6},"B/F  TOTAL GAZETTED + NON GAZETTED REGULAR",null,{"$f":"I215","v":0},{"$f":"J215","v":0},null,{"$f":"L215","v":0},{"$f":"M215","v":0},{"$f":"N215","v":0},{"$nulls":31},0,{"$nulls":30},""]
[{"$nulls":6},{"v":0.55,"d":"D.A. @ 55%"},{"$nulls":5},{"$f":"ROUND(M215*G217,0)","v":0},{"$f":"ROUND(N215*G217,0)","v":0},{"$nulls":5},0,{"$nulls":25},0,{"$nulls":30},""]
[{"$nulls":4},{"v":0.04,"d":"D.A. AREAR @ 4%"},{"$nulls":7},{"$f":"'DA AREAR'!G207","v":0},{"$f":"'DA AREAR'!F207","v":0},{"$nulls":5},0,{"$nulls":25},0,{"$nulls":30},""]
[{"$nulls":5},"CCA",{"v":620,"d":"620.00"}]
[{"$nulls":6},"FIXATATION ARREAR",{"$nulls":5},0,0,{"$nulls":5},0,{"$nulls":25},0,{"$nulls":30},""]
[{"$nulls":6},{"v":0.1,"d":"H.R.A. @ 10%"},{"$nulls":5},{"$f":"ROUND(M215*G221,0)","v":0},{"$f":"ROUND(N215*G221,0)","v":0},{"$nulls":5},0,{"$nulls":25},0,{"$nulls":30},""]
[{"$nulls":6},{"v":6774,"d":"BONUS @ 6774/-"},{"$nulls":5},{"$f":"'Bonus Calc.'!I152","v":0},{"$f":"M222","v":0},{"$nulls":5},0,{"$nulls":25},0,{"$nulls":30},""]
[{"$nulls":6},"SURRENDER LEAVE",{"$nulls":5},{"$f":"$AQ$373","v":0},{"$f":"$BI$373","v":0},{"$nulls":5},0,{"$nulls":25},0,{"$nulls":30},""]
[{"$nulls":6},"CASHIER ALLOWANCE @ 75 p.m.",{"$nulls":5},{"$f":"MINA($AR$373,900)","v":0},{"$f":"MINA($BJ$373,900)","v":0},{"$nulls":5},0,{"$nulls":25},0,{"$nulls":30},""]
[{"$nulls":6},"HANDICAP ALLOW. @ 6% &Max 1200/-",{"$nulls":5},{"$f":"$AS$373","v":0},{"$f":"$BK$373","v":0},{"$nulls":5},0,{"$nulls":25},0,{"$nulls":30},""]
[{"$nulls":6},"WASHING ALLOWANCE @180 p.m.",{"$nulls":5},{"$f":"$AT$373","v":0},{"$f":"$BL$373","v":0},{"$nulls":5},0,{"$nulls":25},0,{"$nulls":30},""]
[{"$nulls":3},"TOTAL REGULAR         ",null,null,"TOTAL REGULAR",null,null,{"$f":"SUM(J216:J226)","v":0},null,{"$f":"SUM(L216:L226)","v":0},{"$f":"SUM(M216:M226)","v":0},{"$f":"SUM(N216:N226)","v":0},{"$nulls":31},0,{"$nulls":30},""]
[null,"GAZETTED FIXED",{"$nulls":43},0,{"$nulls":30},""]
[{"$f":"CD229","v":""},2202,1,{"$f":"IF(ISNA(VLOOKUP(C229,Master!BD$61:BP$108,3,FALSE)),\"\",VLOOKUP(C229,Master!BD$61:BP$108,3,FALSE))","v":""},{"$f":"IF(ISNA(VLOOKUP(C229,Master!BD$61:BP$108,7,FALSE)),\"\",VLOOKUP(C229,Master!BD$61:BP$108,7,FALSE))","v":""},{"$f":"IF(ISNA(VLOOKUP(C229,Master!BD$61:BP$108,8,FALSE)),\"\",VLOOKUP(C229,Master!BD$61:BP$108,8,FALSE))","v":""},{"$f":"IF(ISNA(VLOOKUP(C229,Master!BD$61:BP$108,4,FALSE)),\"\",VLOOKUP(C229,Master!BD$61:BP$108,4,FALSE))","v":""},{"$f":"IF(ISNA(VLOOKUP(C229,Master!BD$61:BP$108,5,FALSE)),\"\",VLOOKUP(C229,Master!BD$61:BP$108,5,FALSE))","v":""},{"$f":"IF(H229=\"\",\"\",IF(H229=1,12400,IF(H229=2,12600,IF(H229=3,12800,IF(H229=4,13500,IF(H229=5,14600,IF(H229=6,15100,IF(H229=7,15700,IF(H229=8,18500,IF(H229=9,20100,IF(H229=10,23700,IF(H229=11,26500,IF(H229=12,31100,IF(H229=13,39300,IF(H229=14,42500,IF(H229=15,42500,IF(H229=16,47200,IF(H229=17,49700,IF(H229=18,52800,IF(H229=19,56000,IF(H229=20,62300,IF(H229=21,86200,IF(H229=22,90800,IF(H229=23,102100,IF(H229=24, 104200,0)))))))))))))))))))))))))","v":""},{"$f":"IF(AND(H229=\"\"),\"\",I229*12)","v":""},{"$f":"IF(AND(H229=\"\"),\"\",\"Not Applicable\")","v":""},{"$f":"IF(AND(H229=\"\"),\"\",\"0\")","v":""},{"$f":"IF(AND(H229=\"\"),\"\",VLOOKUP(D229,'Fix Pay'!$B$9:$K$116,10,0))","v":""},{"$f":"IF(AND(H229=\"\"),\"\",VLOOKUP(D229,'Fix Pay'!$B$9:$K$116,9,0))","v":""},{"$f":"IF(AND(H229=\"\"),\"\",\"FIX PAY\")","v":""},{"$nulls":4},0,{"$nulls":5},{"$f":"'[2]Data Entry'!BJ59","v":0},{"$nulls":6},{"$f":"IF(AND(I229=\"\"),\"\",(IF(O229=\"FIX PAY\",0,(I229-ROUNDUP(ROUND((I229*3%)-(I229*3%)*3%,0),-1)))))","v":""},{"$f":"IF(AND(I229=\"\"),\"\",$M229*$BR229)","v":""},{"$f":"IF(AND(I229=\"\"),\"\",$M229*$BS229)","v":""},{"$f":"IF(AND(I229=\"\"),\"\",$M229*$BT229)","v":""},{"$f":"IF(AND(I229=\"\"),\"\",$M229*$BU229)","v":""},{"$f":"IF(AND(I229=\"\"),\"\",ROUND((AH229+AI229)*$AL$10,0)*BV229)","v":""},0,0,{"$f":"IF(AND(I229=\"\"),\"\",ROUND((AH229+AI229)*$AO$10,0)*BV229)","v":""},{"$f":"$G$222*BS229*BV229*(IF(I229<=0,0,1))*(IF(H229<=4800,1,0))","v":0},{"$f":"IF(AND(I229=\"\"),0,ROUND((I229+ROUND(I229*$AL$10,0))/2,0)*(IF(O229=\"FIX PAY\",0,1)))","v":0},{"$f":"IF(G229=\"CLERK GRADE I\",1,IF(G229=\"CLERK GRADE II\",1,0))*75*12*BV229*(IF(I229<=0,0,1))*BW229","v":0},null,0,{"$f":"IF(AND(I229=\"\"),\"\",SUM(AL229:AT229)+AH229+AI229)","v":""},{"$f":"IF(AND(I229=\"\"),\"\",AU229)","v":""},null,null,{"$f":"IF(AND(I229=\"\"),\"\",AV229+AW229+AX229)","v":""},{"$f":"IF(AND(I229=\"\"),\"\",N229*BR229)","v":""},{"$f":"IF(AND(I229=\"\"),\"\",N229*BS229)","v":""},{"$f":"IF(AND(I229=\"\"),\"\",N229*BT229)","v":""},{"$f":"IF(AND(I229=\"\"),\"\",N229*BU229)","v":""},{"$f":"IF(AND(I229=\"\"),\"\",ROUND((AZ229+BA229)*$BD$10,0)*BV229)","v":""},null,0,{"$f":"IF(AND(I229=\"\"),\"\",ROUND((AZ229+BA229)*$BG$10,0)*BV229)","v":""},{"$f":"3387*2*BS229*BV229*(IF(I229<=0,0,1))*(IF(H229<=4800,1,0))","v":0},{"$f":"IF(AND(I229=\"\"),0,ROUND((AG229+ROUND(AG229*$AL$10,0))/2,0)*(IF(O229=\"FIX PAY\",0,1)))","v":0},{"$f":"IF(G229=\"CLERK GRADE I\",1,IF(G229=\"CLERK GRADE II\",1,0))*75*12*BV229*(IF(I229<=0,0,1))*BW229","v":0},{"$f":"IF(AND(G229=\"\"),0,(IF(G229=\"ASSISTANT\",12,IF(G229=\"CLERK GRADE I\",12,IF(G229=\"CLERK GRADE II\",12,IF(G229=\"FIELDMAN & FIELD REC\",12,IF(G229=\"LAB BOY\",12,IF(G229=\"JAMADAR\",12,IF(G229=\"PEON\",12,10))))))))*(MINA(ROUND(AG229*6%,0),600))*(IF($V229=\"yes\",1,)))","v":0},{"$f":"IF(AND(I229=\"\"),\"\",(IF(G229=\"LAB BOY\",150,IF(G229=\"JAMADAR\",150,IF(G229=\"PEON\",150,0))))*12*BV229*(IF(I229<=0,0,1)))","v":""},{"$f":"IF(AND(I229=\"\"),\"\",SUM(BD229:BL229)+AZ229+BA229)","v":""},{"$f":"IF(AND(I229=\"\"),\"\",BM229)","v":""},null,null,{"$f":"IF(AND(I229=\"\"),\"\",BN229+BO229+BP229)","v":""},{"$f":"(IF(G229=\"PRINCIPAL\",1,IF(G229=\"H M\",1,IF(G229=\"AGRICULTURE INST\",1,IF(G229=\"TEACHER-1ST\",1,IF(G229=\"PTI  I  (13)\",1,IF(G229=\"AGRICULTURE TEACH\",1,IF(G229=\"INSTRUCTOR\",1,0))))))))+(IF(G229=\"JR TEACHER\",1,IF(G229=\"LIBRARIAN I\",1,0)))*(IF(O229=\"FIX PAY\",0,1))","v":0},{"$f":"IF(BR229<=0,1,0)*(IF(O229=\"FIX PAY\",0,1))","v":1},{"$f":"(IF(G229=\"PRINCIPAL (16)\",1,IF(G229=\"V P (14)\",1,IF(G229=\"H M (14)\",1,IF(G229=\"AGRICULTURE INST (13)\",1,IF(G229=\"TEACHER-1ST (13)\",1,IF(G229=\"PTI  I  (13)\",1,IF(G229=\"AGRICULTURE TEACH (13)\",1,IF(G229=\"INSTRUCTOR (13)\",1,0))))))))+(IF(G229=\"JR TEACHER (13)\",1,IF(G229=\"LIBRARIAN I (13)\",1,0))))*(IF(O229=\"FIX PAY\",1,0))","v":0},{"$f":"IF(BT229<=0,1,0)*(IF(O229=\"FIX PAY\",1,0))","v":0},{"$f":"IF(O229=\"FIX PAY\",1,0)","v":0},{"$f":"IF(Y229=\"No\",0,1)","v":1},{"$f":"IF((ROUND((SUMPRODUCT(MID(0&E229,LARGE(INDEX(ISNUMBER(--MID(E229,ROW($1:$25),1))* ROW($1:$25),0),ROW($1:$25))+1,1)*10^ROW($1:$25)/10)),-8)/100000000)>=2004,1,0)","v":0},{"$f":"IF(I229<=0,0,1)","v":1},{"$f":"IF(O229=\"SANVIDA\",1,0)","v":0},{"$f":"IF(BZ229>0,I229,0)","v":0},{"$f":"IF(AND(E229=\"\"),\"\",IF(AND(E229<=0),\"\",IF((ROUND((SUMPRODUCT(MID(0&E229,LARGE(INDEX(ISNUMBER(--MID(E229,ROW($1:$70),1))* ROW($1:$70),0),ROW($1:$70))+1,1)*10^ROW($1:$70)/10)),-8)/100000000)<2004,1,0)))","v":""},null,{"$f":"IF(I229=\"\",\"\",1)","v":""}]
[{"$f":"CD230","v":""},2202,2,{"$f":"IF(ISNA(VLOOKUP(C230,Master!BD$61:BP$108,3,FALSE)),\"\",VLOOKUP(C230,Master!BD$61:BP$108,3,FALSE))","v":""},{"$f":"IF(ISNA(VLOOKUP(C230,Master!BD$61:BP$108,7,FALSE)),\"\",VLOOKUP(C230,Master!BD$61:BP$108,7,FALSE))","v":""},{"$f":"IF(ISNA(VLOOKUP(C230,Master!BD$61:BP$108,8,FALSE)),\"\",VLOOKUP(C230,Master!BD$61:BP$108,8,FALSE))","v":""},{"$f":"IF(ISNA(VLOOKUP(C230,Master!BD$61:BP$108,4,FALSE)),\"\",VLOOKUP(C230,Master!BD$61:BP$108,4,FALSE))","v":""},{"$f":"IF(ISNA(VLOOKUP(C230,Master!BD$61:BP$108,5,FALSE)),\"\",VLOOKUP(C230,Master!BD$61:BP$108,5,FALSE))","v":""},"",{"$f":"IF(AND(H230=\"\"),\"\",I230*12)","v":""},{"$f":"IF(AND(H230=\"\"),\"\",\"Not Applicable\")","v":""},{"$f":"IF(AND(H230=\"\"),\"\",\"0\")","v":""},{"$f":"IF(AND(H230=\"\"),\"\",VLOOKUP(D230,'Fix Pay'!$B$9:$K$116,10,0))","v":""},{"$f":"IF(AND(H230=\"\"),\"\",VLOOKUP(D230,'Fix Pay'!$B$9:$K$116,9,0))","v":""},{"$f":"IF(AND(H230=\"\"),\"\",\"FIX PAY\")","v":""},{"$nulls":4},0,{"$nulls":5},{"$f":"'[2]Data Entry'!BJ60","v":0},{"$nulls":6},{"$f":"IF(AND(I230=\"\"),\"\",(IF(O230=\"FIX PAY\",0,(I230-ROUNDUP(ROUND((I230*3%)-(I230*3%)*3%,0),-1)))))","v":""},{"$f":"IF(AND(I230=\"\"),\"\",$M230*$BR230)","v":""},{"$f":"IF(AND(I230=\"\"),\"\",$M230*$BS230)","v":""},{"$f":"IF(AND(I230=\"\"),\"\",$M230*$BT230)","v":""},{"$f":"IF(AND(I230=\"\"),\"\",$M230*$BU230)","v":""},{"$f":"IF(AND(I230=\"\"),\"\",ROUND((AH230+AI230)*$AL$10,0)*BV230)","v":""},0,0,{"$f":"IF(AND(I230=\"\"),\"\",ROUND((AH230+AI230)*$AO$10,0)*BV230)","v":""},0,0,0,null,0,{"$f":"IF(AND(I230=\"\"),\"\",SUM(AL230:AT230)+AH230+AI230)","v":""},{"$f":"IF(AND(I230=\"\"),\"\",AU230)","v":""},null,null,{"$f":"IF(AND(I230=\"\"),\"\",AV230+AW230+AX230)","v":""},{"$f":"IF(AND(I230=\"\"),\"\",N230*BR230)","v":""},{"$f":"IF(AND(I230=\"\"),\"\",N230*BS230)","v":""},{"$f":"IF(AND(I230=\"\"),\"\",N230*BT230)","v":""},{"$f":"IF(AND(I230=\"\"),\"\",N230*BU230)","v":""},{"$f":"IF(AND(I230=\"\"),\"\",ROUND((AZ230+BA230)*$BD$10,0)*BV230)","v":""},null,0,{"$f":"IF(AND(I230=\"\"),\"\",ROUND((AZ230+BA230)*$BG$10,0)*BV230)","v":""},0,{"$f":"IF(AND(I230=\"\"),0,ROUND((AG230+ROUND(AG230*$AL$10,0))/2,0)*(IF(O230=\"FIX PAY\",0,1)))","v":0},0,0,"",{"$f":"IF(AND(I230=\"\"),\"\",SUM(BD230:BL230)+AZ230+BA230)","v":""},{"$f":"IF(AND(I230=\"\"),\"\",BM230)","v":""},null,null,{"$f":"IF(AND(I230=\"\"),\"\",BN230+BO230+BP230)","v":""},0,1,0,0,0,1,0,1,0,0,"",null,{"$f":"IF(I230=\"\",\"\",MAX(CD229)+1)","v":""}]
["",2202,3,{"$f":"IF(ISNA(VLOOKUP(C231,Master!BD$61:BP$108,3,FALSE)),\"\",VLOOKUP(C231,Master!BD$61:BP$108,3,FALSE))","v":""},{"$f":"IF(ISNA(VLOOKUP(C231,Master!BD$61:BP$108,7,FALSE)),\"\",VLOOKUP(C231,Master!BD$61:BP$108,7,FALSE))","v":""},{"$f":"IF(ISNA(VLOOKUP(C231,Master!BD$61:BP$108,8,FALSE)),\"\",VLOOKUP(C231,Master!BD$61:BP$108,8,FALSE))","v":""},{"$f":"IF(ISNA(VLOOKUP(C231,Master!BD$61:BP$108,4,FALSE)),\"\",VLOOKUP(C231,Master!BD$61:BP$108,4,FALSE))","v":""},{"$f":"IF(ISNA(VLOOKUP(C231,Master!BD$61:BP$108,5,FALSE)),\"\",VLOOKUP(C231,Master!BD$61:BP$108,5,FALSE))","v":""},"","","","",{"$f":"IF(AND(H231=\"\"),\"\",VLOOKUP(D231,'Fix Pay'!$B$9:$K$116,10,0))","v":""},{"$f":"IF(AND(H231=\"\"),\"\",VLOOKUP(D231,'Fix Pay'!$B$9:$K$116,9,0))","v":""},"",{"$nulls":4},0,{"$nulls":5},{"$f":"'[2]Data Entry'!BJ61","v":0},{"$nulls":6},"","","","","","",0,0,"",0,0,0,null,0,"","",null,null,"","","","","","",null,0,"",0,0,0,0,"","","",null,null,"",0,1,0,0,0,1,0,1,0,0,"",null,{"$f":"IF(I231=\"\",\"\",MAX($CD$229:CD230)+1)","v":""}]
["",2202,4,{"$f":"IF(ISNA(VLOOKUP(C232,Master!BD$61:BP$108,3,FALSE)),\"\",VLOOKUP(C232,Master!BD$61:BP$108,3,FALSE))","v":""},{"$f":"IF(ISNA(VLOOKUP(C232,Master!BD$61:BP$108,7,FALSE)),\"\",VLOOKUP(C232,Master!BD$61:BP$108,7,FALSE))","v":""},{"$f":"IF(ISNA(VLOOKUP(C232,Master!BD$61:BP$108,8,FALSE)),\"\",VLOOKUP(C232,Master!BD$61:BP$108,8,FALSE))","v":""},{"$f":"IF(ISNA(VLOOKUP(C232,Master!BD$61:BP$108,4,FALSE)),\"\",VLOOKUP(C232,Master!BD$61:BP$108,4,FALSE))","v":""},{"$f":"IF(ISNA(VLOOKUP(C232,Master!BD$61:BP$108,5,FALSE)),\"\",VLOOKUP(C232,Master!BD$61:BP$108,5,FALSE))","v":""},"","","","",{"$f":"IF(AND(H232=\"\"),\"\",VLOOKUP(D232,'Fix Pay'!$B$9:$K$116,10,0))","v":""},{"$f":"IF(AND(H232=\"\"),\"\",VLOOKUP(D232,'Fix Pay'!$B$9:$K$116,9,0))","v":""},"",{"$nulls":4},0,{"$nulls":5},{"$f":"'[2]Data Entry'!BJ62","v":0},{"$nulls":6},"","","","","","",0,0,"",0,0,0,null,0,"","",null,null,"","","","","","",null,0,"",0,0,0,0,"","","",null,null,"",0,1,0,0,0,1,0,1,0,0,"",null,{"$f":"IF(I232=\"\",\"\",MAX($CD$229:CD231)+1)","v":""}]
["",2202,5,{"$f":"IF(ISNA(VLOOKUP(C233,Master!BD$61:BP$108,3,FALSE)),\"\",VLOOKUP(C233,Master!BD$61:BP$108,3,FALSE))","v":""},{"$f":"IF(ISNA(VLOOKUP(C233,Master!BD$61:BP$108,7,FALSE)),\"\",VLOOKUP(C233,Master!BD$61:BP$108,7,FALSE))","v":""},{"$f":"IF(ISNA(VLOOKUP(C233,Master!BD$61:BP$108,8,FALSE)),\"\",VLOOKUP(C233,Master!BD$61:BP$108,8,FALSE))","v":""},{"$f":"IF(ISNA(VLOOKUP(C233,Master!BD$61:BP$108,4,FALSE)),\"\",VLOOKUP(C233,Master!BD$61:BP$108,4,FALSE))","v":""},{"$f":"IF(ISNA(VLOOKUP(C233,Master!BD$61:BP$108,5,FALSE)),\"\",VLOOKUP(C233,Master!BD$61:BP$108,5,FALSE))","v":""},"","","","",{"$f":"IF(AND(H233=\"\"),\"\",VLOOKUP(D233,'Fix Pay'!$B$9:$K$116,10,0))","v":""},{"$f":"IF(AND(H233=\"\"),\"\",VLOOKUP(D233,'Fix Pay'!$B$9:$K$116,9,0))","v":""},"",{"$nulls":4},0,{"$nulls":5},{"$f":"'[2]Data Entry'!BJ63","v":0},{"$nulls":6},"","","","","","",0,0,"",0,0,0,null,0,"","",null,null,"","","","","","",null,0,"",0,0,0,0,"","","",null,null,"",0,1,0,0,0,1,0,1,0,0,"",null,{"$f":"IF(I233=\"\",\"\",MAX($CD$229:CD232)+1)","v":""}]
["",2202,6,{"$f":"IF(ISNA(VLOOKUP(C234,Master!BD$61:BP$108,3,FALSE)),\"\",VLOOKUP(C234,Master!BD$61:BP$108,3,FALSE))","v":""},{"$f":"IF(ISNA(VLOOKUP(C234,Master!BD$61:BP$108,7,FALSE)),\"\",VLOOKUP(C234,Master!BD$61:BP$108,7,FALSE))","v":""},{"$f":"IF(ISNA(VLOOKUP(C234,Master!BD$61:BP$108,8,FALSE)),\"\",VLOOKUP(C234,Master!BD$61:BP$108,8,FALSE))","v":""},{"$f":"IF(ISNA(VLOOKUP(C234,Master!BD$61:BP$108,4,FALSE)),\"\",VLOOKUP(C234,Master!BD$61:BP$108,4,FALSE))","v":""},{"$f":"IF(ISNA(VLOOKUP(C234,Master!BD$61:BP$108,5,FALSE)),\"\",VLOOKUP(C234,Master!BD$61:BP$108,5,FALSE))","v":""},"","","","",{"$f":"IF(AND(H234=\"\"),\"\",VLOOKUP(D234,'Fix Pay'!$B$9:$K$116,10,0))","v":""},{"$f":"IF(AND(H234=\"\"),\"\",VLOOKUP(D234,'Fix Pay'!$B$9:$K$116,9,0))","v":""},"",{"$nulls":4},0,{"$nulls":5},{"$f":"'[2]Data Entry'!BJ64","v":0},{"$nulls":6},"","","","","","",0,0,"",0,0,0,null,0,"","",null,null,"","","","","","",null,0,"",0,0,0,0,"","","",null,null,"",0,1,0,0,0,1,0,1,0,0,"",null,{"$f":"IF(I234=\"\",\"\",MAX($CD$229:CD233)+1)","v":""}]
["",2202,7,{"$f":"IF(ISNA(VLOOKUP(C235,Master!BD$61:BP$108,3,FALSE)),\"\",VLOOKUP(C235,Master!BD$61:BP$108,3,FALSE))","v":""},{"$f":"IF(ISNA(VLOOKUP(C235,Master!BD$61:BP$108,7,FALSE)),\"\",VLOOKUP(C235,Master!BD$61:BP$108,7,FALSE))","v":""},{"$f":"IF(ISNA(VLOOKUP(C235,Master!BD$61:BP$108,8,FALSE)),\"\",VLOOKUP(C235,Master!BD$61:BP$108,8,FALSE))","v":""},{"$f":"IF(ISNA(VLOOKUP(C235,Master!BD$61:BP$108,4,FALSE)),\"\",VLOOKUP(C235,Master!BD$61:BP$108,4,FALSE))","v":""},{"$f":"IF(ISNA(VLOOKUP(C235,Master!BD$61:BP$108,5,FALSE)),\"\",VLOOKUP(C235,Master!BD$61:BP$108,5,FALSE))","v":""},"","","","",{"$f":"IF(AND(H235=\"\"),\"\",VLOOKUP(D235,'Fix Pay'!$B$9:$K$116,10,0))","v":""},{"$f":"IF(AND(H235=\"\"),\"\",VLOOKUP(D235,'Fix Pay'!$B$9:$K$116,9,0))","v":""},"",{"$nulls":4},0,{"$nulls":5},{"$f":"'[2]Data Entry'!BJ65","v":0},{"$nulls":6},"","","","","","",0,0,"",0,0,0,null,0,"","",null,null,"","","","","","",null,0,"",0,0,0,0,"","","",null,null,"",0,1,0,0,0,1,0,1,0,0,"",null,{"$f":"IF(I235=\"\",\"\",MAX($CD$229:CD234)+1)","v":""}]
["",2202,8,{"$f":"IF(ISNA(VLOOKUP(C236,Master!BD$61:BP$108,3,FALSE)),\"\",VLOOKUP(C236,Master!BD$61:BP$108,3,FALSE))","v":""},{"$f":"IF(ISNA(VLOOKUP(C236,Master!BD$61:BP$108,7,FALSE)),\"\",VLOOKUP(C236,Master!BD$61:BP$108,7,FALSE))","v":""},{"$f":"IF(ISNA(VLOOKUP(C236,Master!BD$61:BP$108,8,FALSE)),\"\",VLOOKUP(C236,Master!BD$61:BP$108,8,FALSE))","v":""},{"$f":"IF(ISNA(VLOOKUP(C236,Master!BD$61:BP$108,4,FALSE)),\"\",VLOOKUP(C236,Master!BD$61:BP$108,4,FALSE))","v":""},{"$f":"IF(ISNA(VLOOKUP(C236,Master!BD$61:BP$108,5,FALSE)),\"\",VLOOKUP(C236,Master!BD$61:BP$108,5,FALSE))","v":""},"","","","",{"$f":"IF(AND(H236=\"\"),\"\",VLOOKUP(D236,'Fix Pay'!$B$9:$K$116,10,0))","v":""},{"$f":"IF(AND(H236=\"\"),\"\",VLOOKUP(D236,'Fix Pay'!$B$9:$K$116,9,0))","v":""},"",{"$nulls":4},0,{"$nulls":5},{"$f":"'[2]Data Entry'!BJ66","v":0},{"$nulls":6},"","","","","","",0,0,"",0,0,0,null,0,"","",null,null,"","","","","","",null,0,"",0,0,0,0,"","","",null,null,"",0,1,0,0,0,1,0,1,0,0,"",null,{"$f":"IF(I236=\"\",\"\",MAX($CD$229:CD235)+1)","v":""}]
[0,{"$nulls":5},"TOTAL GAZETTED FIXED",null,null,{"$f":"SUM(J229:J236)","v":0},null,{"$f":"SUM(L229:L236)","v":0},{"$f":"SUM(M229:M236)","v":0},{"$f":"SUM(N229:N236)","v":0},{"$nulls":31},0]
[0,null,"NON GAZETTED FIXED",{"$nulls":42},0]
[1,2202,1,{"$f":"IF(ISNA(VLOOKUP(C239,Master!BQ$61:CC$286,3,FALSE)),\"\",VLOOKUP(C239,Master!BQ$61:CC$286,3,FALSE))","v":"gfdgd"},{"$f":"IF(ISNA(VLOOKUP(C239,Master!BQ$61:CC$286,7,FALSE)),\"\",VLOOKUP(C239,Master!BQ$61:CC$286,7,FALSE))","v":0},{"$f":"IF(ISNA(VLOOKUP(C239,Master!BQ$61:CC$286,8,FALSE)),\"\",VLOOKUP(C239,Master!BQ$61:CC$286,8,FALSE))","v":0},{"$f":"IF(ISNA(VLOOKUP(C239,Master!BQ$61:CC$286,4,FALSE)),\"\",VLOOKUP(C239,Master!BQ$61:CC$286,4,FALSE))","v":0},{"$f":"IF(ISNA(VLOOKUP(C239,Master!BQ$61:CC$286,5,FALSE)),\"\",VLOOKUP(C239,Master!BQ$61:CC$286,5,FALSE))","v":{"v":10,"d":"LP-10"}},{"$f":"IF(H239=\"\",\"\",IF(H239=1,12400,IF(H239=2,12600,IF(H239=3,12800,IF(H239=4,13500,IF(H239=5,14600,IF(H239=6,15100,IF(H239=7,15700,IF(H239=8,18500,IF(H239=9,20100,IF(H239=10,23700,IF(H239=11,26500,IF(H239=12,31100,IF(H239=13,39300,IF(H239=14,42500,IF(H239=15,42500,IF(H239=16,47200,IF(H239=17,49700,IF(H239=18,52800,IF(H239=19,56000,IF(H239=20,62300,IF(H239=21,86200,IF(H239=22,90800,IF(H239=23,102100,IF(H239=24, 104200,0)))))))))))))))))))))))))","v":23700},{"$f":"IF(AND(H239=\"\"),\"\",I239*12)","v":284400},{"$f":"IF(AND(H239=\"\"),\"\",\"Not Applicable\")","v":"Not Applicable"},{"$f":"IF(AND(H239=\"\"),\"\",\"0\")","v":"0"},{"$f":"IF(AND(H239=\"\"),\"\",VLOOKUP(D239,'Fix Pay'!$B$9:$K$116,10,0))","v":405600},{"$f":"IF(AND(H239=\"\"),\"\",VLOOKUP(D239,'Fix Pay'!$B$9:$K$116,9,0))","v":348540},{"$f":"IF(AND(H239=\"\"),\"\",\"FIX PAY\")","v":"FIX PAY"},{"$nulls":4},0,null,{"$f":"IF(ISNA(VLOOKUP(C239,Master!BQ$61:CC$286,10,FALSE)),\"\",VLOOKUP(C239,Master!BQ$61:CC$286,10,FALSE))","v":0},null,null,{"$f":"IF(ISNA(VLOOKUP(C239,Master!BQ$61:CC$286,11,FALSE)),\"\",VLOOKUP(C239,Master!BQ$61:CC$286,11,FALSE))","v":0},{"$f":"IF(ISNA(VLOOKUP(C239,Master!BQ$61:CC$286,9,FALSE)),\"\",VLOOKUP(C239,Master!BQ$61:CC$286,9,FALSE))","v":0},{"$f":"IF(Z239=\"MALE\",1,0)*(IF(G239=\"JAMADAR\",1,0))*(IF(I239<=0,0,1))","v":0},{"$f":"IF(Z239=\"FEMALE\",1,0)*(IF(G239=\"JAMADAR\",1,0))*(IF(I239<=0,0,1))","v":0},{"$f":"IF(Z239=\"MALE\",1,0)*(IF(G239=\"LAB BOY\",1,0))*(IF(I239<=0,0,1))","v":0},{"$f":"IF(Z239=\"FEMALE\",1,0)*(IF(G239=\"LAB BOY\",1,0))*(IF(I239<=0,0,1))","v":0},{"$f":"IF(Z239=\"MALE\",1,0)*(IF(G239=\"PEON\",1,0))*(IF(I239<=0,0,1))","v":0},{"$f":"IF(Z239=\"FEMALE\",1,0)*(IF(G239=\"PEON\",1,0))*(IF(I239<=0,0,1))","v":0},{"$f":"IF(AND(I239=\"\"),\"\",I239-ROUNDUP(ROUND((I239*3%)-(I239*3%)*2.9%,-2),0))","v":23000},{"$f":"IF(AND(I239=\"\"),\"\",$M239*$BR239)","v":0},{"$f":"IF(AND(I239=\"\"),\"\",$M239*$BS239)","v":0},{"$f":"IF(AND(I239=\"\"),\"\",$M239*$BT239)","v":0},{"$f":"IF(AND(I239=\"\"),\"\",$M239*$BU239)","v":405600},{"$f":"IF(AND(I239=\"\"),\"\",ROUND((AH239+AI239)*$AL$10,0)*BV239)","v":0},0,0,{"$f":"IF(AND(I239=\"\"),\"\",ROUND((AH239+AI239)*$AO$10,0)*BV239)","v":0},{"$f":"$G$222*BS239*BV239*(IF(I239<=0,0,1))*(IF(H239<=4800,1,0))","v":0},{"$f":"IF(AND(I239=\"\"),0,ROUND((I239+ROUND(I239*$AL$10,0))/2,0)*(IF(O239=\"FIX PAY\",0,1)))","v":0},{"$f":"IF(G239=\"CLERK GRADE I\",1,IF(G239=\"CLERK GRADE II\",1,0))*75*12*BV239*(IF(I239<=0,0,1))*BW239","v":0},{"$f":"IF(AND(I239=\"\"),0,(IF(G239=\"ASSISTANT\",12,IF(G239=\"CLERK GRADE I\",12,IF(G239=\"CLERK GRADE II\",12,IF(G239=\"FIELDMAN & FIELD REC\",12,IF(G239=\"LAB BOY\",12,IF(G239=\"JAMADAR\",12,IF(G239=\"PEON\",12,10))))))))*(MINA(ROUND(I239*6%,0),600))*(IF($V239=\"yes\",1,0)))","v":0},0,{"$f":"IF(AND(G239=\"\"),0,SUM(AL239:AT239)+AH239+AI239)","v":0},{"$f":"IF(AND(G239=\"\"),0,AU239)","v":0},null,null,{"$f":"AV239+AW239+AX239","v":0},{"$f":"IF(AND(G239=\"\"),0,N239*BR239)","v":0},{"$f":"IF(AND(G239=\"\"),0,N239*BS239)","v":0},{"$f":"IF(AND(G239=\"\"),0,N239*BT239)","v":0},{"$f":"IF(AND(G239=\"\"),0,N239*BU239)","v":348540},{"$f":"ROUND((AZ239+BA239)*$BD$10,0)*BV239","v":0},{"$f":"IF(AND(G239=\"\"),0,ROUND((IF(O239=\"FIX PAY\",0,AG239))*$BE$10*2,0)*BV239)","v":0},0,{"$f":"ROUND((AZ239+BA239)*$BG$10,0)*BV239","v":0},{"$f":"3387*2*BS239*BV239*(IF(I239<=0,0,1))*(IF(H239<=4800,1,0))","v":0},{"$f":"IF(AND(I239=\"\"),0,ROUND((AG239+ROUND(AG239*$AL$10,0))/2,0)*(IF(O239=\"FIX PAY\",0,1)))","v":0},{"$f":"IF(G239=\"CLERK GRADE I\",1,IF(G239=\"CLERK GRADE II\",1,0))*75*12*BV239*(IF(I239<=0,0,1))*BW239","v":0},{"$f":"IF(AND(G239=\"\"),0,(IF(G239=\"ASSISTANT\",12,IF(G239=\"CLERK GRADE I\",12,IF(G239=\"CLERK GRADE II\",12,IF(G239=\"FIELDMAN & FIELD REC\",12,IF(G239=\"LAB BOY\",12,IF(G239=\"JAMADAR\",12,IF(G239=\"PEON\",12,10))))))))*(MINA(ROUND(AG239*6%,0),600))*(IF($V239=\"yes\",1,)))","v":0},{"$f":"(IF(G239=\"LAB BOY\",150,IF(G239=\"JAMADAR\",150,IF(G239=\"PEON\",150,0))))*12*BV239*(IF(I239<=0,0,1))","v":0},{"$f":"SUM(BD239:BL239)+AZ239+BA239","v":0},{"$f":"BM239","v":0},null,null,{"$f":"BN239+BO239+BP239","v":0},{"$f":"(IF(G239=\"PRINCIPAL\",1,IF(G239=\"H M\",1,IF(G239=\"AGRICULTURE INST\",1,IF(G239=\"TEACHER-1ST\",1,IF(G239=\"PTI  I  (13)\",1,IF(G239=\"AGRICULTURE TEACH\",1,IF(G239=\"INSTRUCTOR\",1,0))))))))+(IF(G239=\"JR TEACHER\",1,IF(G239=\"LIBRARIAN I\",1,0)))*(IF(O239=\"FIX PAY\",0,1))","v":0},{"$f":"IF(BR239<=0,1,0)*(IF(O239=\"FIX PAY\",0,1))","v":0},{"$f":"(IF(G239=\"PRINCIPAL (16)\",1,IF(G239=\"V P (14)\",1,IF(G239=\"H M (14)\",1,IF(G239=\"AGRICULTURE INST (13)\",1,IF(G239=\"TEACHER-1ST (13)\",1,IF(G239=\"PTI  I  (13)\",1,IF(G239=\"AGRICULTURE TEACH (13)\",1,IF(G239=\"INSTRUCTOR (13)\",1,0))))))))+(IF(G239=\"JR TEACHER (13)\",1,IF(G239=\"LIBRARIAN I (13)\",1,0))))*(IF(O239=\"FIX PAY\",1,0))","v":0},{"$f":"IF(BT239<=0,1,0)*(IF(O239=\"FIX PAY\",1,0))","v":1},{"$f":"IF(O239=\"FIX PAY\",1,0)","v":1},{"$f":"IF(Y239=\"No\",0,1)","v":1},{"$f":"IF((ROUND((SUMPRODUCT(MID(0&E239,LARGE(INDEX(ISNUMBER(--MID(E239,ROW($1:$25),1))* ROW($1:$25),0),ROW($1:$25))+1,1)*10^ROW($1:$25)/10)),-8)/100000000)>=2004,1,0)","v":0},{"$f":"IF(I239<=0,0,1)","v":1},{"$f":"IF(O239=\"SANVIDA\",1,0)","v":0},{"$f":"IF(BZ239>0,I239,0)","v":0},{"$f":"IF(AND(E239=\"\"),\"\",IF(AND(E239<=0),\"\",IF((ROUND((SUMPRODUCT(MID(0&E239,LARGE(INDEX(ISNUMBER(--MID(E239,ROW($1:$70),1))* ROW($1:$70),0),ROW($1:$70))+1,1)*10^ROW($1:$70)/10)),-8)/100000000)<2004,1,0)))","v":""},null,{"$f":"IF(I239=\"\",\"\",MAX($CD$229:CD236)+1)","v":1}]
["",2202,2,{"$f":"IF(ISNA(VLOOKUP(C240,Master!BQ$61:CC$286,3,FALSE)),\"\",VLOOKUP(C240,Master!BQ$61:CC$286,3,FALSE))","v":""},{"$f":"IF(ISNA(VLOOKUP(C240,Master!BQ$61:CC$286,7,FALSE)),\"\",VLOOKUP(C240,Master!BQ$61:CC$286,7,FALSE))","v":""},{"$f":"IF(ISNA(VLOOKUP(C240,Master!BQ$61:CC$286,8,FALSE)),\"\",VLOOKUP(C240,Master!BQ$61:CC$286,8,FALSE))","v":""},{"$f":"IF(ISNA(VLOOKUP(C240,Master!BQ$61:CC$286,4,FALSE)),\"\",VLOOKUP(C240,Master!BQ$61:CC$286,4,FALSE))","v":""},{"$f":"IF(ISNA(VLOOKUP(C240,Master!BQ$61:CC$286,5,FALSE)),\"\",VLOOKUP(C240,Master!BQ$61:CC$286,5,FALSE))","v":""},"",{"$f":"IF(AND(H240=\"\"),\"\",I240*12)","v":""},{"$f":"IF(AND(H240=\"\"),\"\",\"Not Applicable\")","v":""},{"$f":"IF(AND(H240=\"\"),\"\",\"0\")","v":""},{"$f":"IF(AND(H240=\"\"),\"\",VLOOKUP(D240,'Fix Pay'!$B$9:$K$116,10,0))","v":""},{"$f":"IF(AND(H240=\"\"),\"\",VLOOKUP(D240,'Fix Pay'!$B$9:$K$116,9,0))","v":""},{"$f":"IF(AND(H240=\"\"),\"\",\"FIX PAY\")","v":""},{"$nulls":4},0,null,{"$f":"IF(ISNA(VLOOKUP(C240,Master!BQ$61:CC$286,10,FALSE)),\"\",VLOOKUP(C240,Master!BQ$61:CC$286,10,FALSE))","v":""},null,null,{"$f":"IF(ISNA(VLOOKUP(C240,Master!BQ$61:CC$286,11,FALSE)),\"\",VLOOKUP(C240,Master!BQ$61:CC$286,11,FALSE))","v":""},{"$f":"IF(ISNA(VLOOKUP(C240,Master!BQ$61:CC$286,9,FALSE)),\"\",VLOOKUP(C240,Master!BQ$61:CC$286,9,FALSE))","v":""},{"$f":"IF(Z240=\"MALE\",1,0)*(IF(G240=\"JAMADAR\",1,0))*(IF(I240<=0,0,1))","v":0},{"$f":"IF(Z240=\"FEMALE\",1,0)*(IF(G240=\"JAMADAR\",1,0))*(IF(I240<=0,0,1))","v":0},{"$f":"IF(Z240=\"MALE\",1,0)*(IF(G240=\"LAB BOY\",1,0))*(IF(I240<=0,0,1))","v":0},{"$f":"IF(Z240=\"FEMALE\",1,0)*(IF(G240=\"LAB BOY\",1,0))*(IF(I240<=0,0,1))","v":0},{"$f":"IF(Z240=\"MALE\",1,0)*(IF(G240=\"PEON\",1,0))*(IF(I240<=0,0,1))","v":0},{"$f":"IF(Z240=\"FEMALE\",1,0)*(IF(G240=\"PEON\",1,0))*(IF(I240<=0,0,1))","v":0},{"$f":"IF(AND(I240=\"\"),\"\",I240-ROUNDUP(ROUND((I240*3%)-(I240*3%)*2.9%,-2),0))","v":""},{"$f":"IF(AND(I240=\"\"),\"\",$M240*$BR240)","v":""},{"$f":"IF(AND(I240=\"\"),\"\",$M240*$BS240)","v":""},{"$f":"IF(AND(I240=\"\"),\"\",$M240*$BT240)","v":""},{"$f":"IF(AND(I240=\"\"),\"\",$M240*$BU240)","v":""},{"$f":"IF(AND(I240=\"\"),\"\",ROUND((AH240+AI240)*$AL$10,0)*BV240)","v":""},0,0,{"$f":"IF(AND(I240=\"\"),\"\",ROUND((AH240+AI240)*$AO$10,0)*BV240)","v":""},{"$f":"$G$222*BS240*BV240*(IF(I240<=0,0,1))*(IF(H240<=4800,1,0))","v":0},{"$f":"IF(AND(I240=\"\"),0,ROUND((I240+ROUND(I240*$AL$10,0))/2,0)*(IF(O240=\"FIX PAY\",0,1)))","v":0},{"$f":"IF(G240=\"CLERK GRADE I\",1,IF(G240=\"CLERK GRADE II\",1,0))*75*12*BV240*(IF(I240<=0,0,1))*BW240","v":0},{"$f":"IF(AND(I240=\"\"),0,(IF(G240=\"ASSISTANT\",12,IF(G240=\"CLERK GRADE I\",12,IF(G240=\"CLERK GRADE II\",12,IF(G240=\"FIELDMAN & FIELD REC\",12,IF(G240=\"LAB BOY\",12,IF(G240=\"JAMADAR\",12,IF(G240=\"PEON\",12,10))))))))*(MINA(ROUND(I240*6%,0),600))*(IF($V240=\"yes\",1,0)))","v":0},0,{"$f":"IF(AND(G240=\"\"),0,SUM(AL240:AT240)+AH240+AI240)","v":0},{"$f":"IF(AND(G240=\"\"),0,AU240)","v":0},null,null,{"$f":"AV240+AW240+AX240","v":0},{"$f":"IF(AND(G240=\"\"),0,N240*BR240)","v":0},{"$f":"IF(AND(G240=\"\"),0,N240*BS240)","v":0},{"$f":"IF(AND(G240=\"\"),0,N240*BT240)","v":0},{"$f":"IF(AND(G240=\"\"),0,N240*BU240)","v":0},{"$f":"ROUND((AZ240+BA240)*$BD$10,0)*BV240","v":0},{"$f":"IF(AND(G240=\"\"),0,ROUND((IF(O240=\"FIX PAY\",0,AG240))*$BE$10*2,0)*BV240)","v":0},0,{"$f":"ROUND((AZ240+BA240)*$BG$10,0)*BV240","v":0},{"$f":"3387*2*BS240*BV240*(IF(I240<=0,0,1))*(IF(H240<=4800,1,0))","v":0},{"$f":"IF(AND(I240=\"\"),0,ROUND((AG240+ROUND(AG240*$AL$10,0))/2,0)*(IF(O240=\"FIX PAY\",0,1)))","v":0},{"$f":"IF(G240=\"CLERK GRADE I\",1,IF(G240=\"CLERK GRADE II\",1,0))*75*12*BV240*(IF(I240<=0,0,1))*BW240","v":0},{"$f":"IF(AND(G240=\"\"),0,(IF(G240=\"ASSISTANT\",12,IF(G240=\"CLERK GRADE I\",12,IF(G240=\"CLERK GRADE II\",12,IF(G240=\"FIELDMAN & FIELD REC\",12,IF(G240=\"LAB BOY\",12,IF(G240=\"JAMADAR\",12,IF(G240=\"PEON\",12,10))))))))*(MINA(ROUND(AG240*6%,0),600))*(IF($V240=\"yes\",1,)))","v":0},{"$f":"(IF(G240=\"LAB BOY\",150,IF(G240=\"JAMADAR\",150,IF(G240=\"PEON\",150,0))))*12*BV240*(IF(I240<=0,0,1))","v":0},{"$f":"SUM(BD240:BL240)+AZ240+BA240","v":0},{"$f":"BM240","v":0},null,null,{"$f":"BN240+BO240+BP240","v":0},{"$f":"(IF(G240=\"PRINCIPAL\",1,IF(G240=\"H M\",1,IF(G240=\"AGRICULTURE INST\",1,IF(G240=\"TEACHER-1ST\",1,IF(G240=\"PTI  I  (13)\",1,IF(G240=\"AGRICULTURE TEACH\",1,IF(G240=\"INSTRUCTOR\",1,0))))))))+(IF(G240=\"JR TEACHER\",1,IF(G240=\"LIBRARIAN I\",1,0)))*(IF(O240=\"FIX PAY\",0,1))","v":0},{"$f":"IF(BR240<=0,1,0)*(IF(O240=\"FIX PAY\",0,1))","v":1},{"$f":"(IF(G240=\"PRINCIPAL (16)\",1,IF(G240=\"V P (14)\",1,IF(G240=\"H M (14)\",1,IF(G240=\"AGRICULTURE INST (13)\",1,IF(G240=\"TEACHER-1ST (13)\",1,IF(G240=\"PTI  I  (13)\",1,IF(G240=\"AGRICULTURE TEACH (13)\",1,IF(G240=\"INSTRUCTOR (13)\",1,0))))))))+(IF(G240=\"JR TEACHER (13)\",1,IF(G240=\"LIBRARIAN I (13)\",1,0))))*(IF(O240=\"FIX PAY\",1,0))","v":0},{"$f":"IF(BT240<=0,1,0)*(IF(O240=\"FIX PAY\",1,0))","v":0},{"$f":"IF(O240=\"FIX PAY\",1,0)","v":0},{"$f":"IF(Y240=\"No\",0,1)","v":1},0,{"$f":"IF(I240<=0,0,1)","v":1},{"$f":"IF(O240=\"SANVIDA\",1,0)","v":0},{"$f":"IF(BZ240>0,I240,0)","v":0},"",null,{"$f":"IF(I240=\"\",\"\",MAX($CD$229:$CD$236,CD239)+1)","v":""}]
["",2202,3,{"$f":"IF(ISNA(VLOOKUP(C241,Master!BQ$61:CC$286,3,FALSE)),\"\",VLOOKUP(C241,Master!BQ$61:CC$286,3,FALSE))","v":""},{"$f":"IF(ISNA(VLOOKUP(C241,Master!BQ$61:CC$286,7,FALSE)),\"\",VLOOKUP(C241,Master!BQ$61:CC$286,7,FALSE))","v":""},{"$f":"IF(ISNA(VLOOKUP(C241,Master!BQ$61:CC$286,8,FALSE)),\"\",VLOOKUP(C241,Master!BQ$61:CC$286,8,FALSE))","v":""},{"$f":"IF(ISNA(VLOOKUP(C241,Master!BQ$61:CC$286,4,FALSE)),\"\",VLOOKUP(C241,Master!BQ$61:CC$286,4,FALSE))","v":""},{"$f":"IF(ISNA(VLOOKUP(C241,Master!BQ$61:CC$286,5,FALSE)),\"\",VLOOKUP(C241,Master!BQ$61:CC$286,5,FALSE))","v":""},"","","","",{"$f":"IF(AND(H241=\"\"),\"\",VLOOKUP(D241,'Fix Pay'!$B$9:$K$116,10,0))","v":""},{"$f":"IF(AND(H241=\"\"),\"\",VLOOKUP(D241,'Fix Pay'!$B$9:$K$116,9,0))","v":""},"",{"$nulls":4},0,null,{"$f":"IF(ISNA(VLOOKUP(C241,Master!BQ$61:CC$286,10,FALSE)),\"\",VLOOKUP(C241,Master!BQ$61:CC$286,10,FALSE))","v":""},null,null,{"$f":"IF(ISNA(VLOOKUP(C241,Master!BQ$61:CC$286,11,FALSE)),\"\",VLOOKUP(C241,Master!BQ$61:CC$286,11,FALSE))","v":""},{"$f":"IF(ISNA(VLOOKUP(C241,Master!BQ$61:CC$286,9,FALSE)),\"\",VLOOKUP(C241,Master!BQ$61:CC$286,9,FALSE))","v":""},0,0,0,0,0,0,"","","","","","",0,0,"",0,0,0,0,0,0,0,null,null,0,0,0,0,0,0,0,0,0,0,0,0,0,0,0,0,null,null,0,0,1,0,0,0,1,0,1,0,0,"",null,{"$f":"IF(I241=\"\",\"\",MAX($CD$229:$CD$236,$CD$239:CD240)+1)","v":""}]
["",2202,4,{"$f":"IF(ISNA(VLOOKUP(C242,Master!BQ$61:CC$286,3,FALSE)),\"\",VLOOKUP(C242,Master!BQ$61:CC$286,3,FALSE))","v":""},{"$f":"IF(ISNA(VLOOKUP(C242,Master!BQ$61:CC$286,7,FALSE)),\"\",VLOOKUP(C242,Master!BQ$61:CC$286,7,FALSE))","v":""},{"$f":"IF(ISNA(VLOOKUP(C242,Master!BQ$61:CC$286,8,FALSE)),\"\",VLOOKUP(C242,Master!BQ$61:CC$286,8,FALSE))","v":""},{"$f":"IF(ISNA(VLOOKUP(C242,Master!BQ$61:CC$286,4,FALSE)),\"\",VLOOKUP(C242,Master!BQ$61:CC$286,4,FALSE))","v":""},{"$f":"IF(ISNA(VLOOKUP(C242,Master!BQ$61:CC$286,5,FALSE)),\"\",VLOOKUP(C242,Master!BQ$61:CC$286,5,FALSE))","v":""},"","","","",{"$f":"IF(AND(H242=\"\"),\"\",VLOOKUP(D242,'Fix Pay'!$B$9:$K$116,10,0))","v":""},{"$f":"IF(AND(H242=\"\"),\"\",VLOOKUP(D242,'Fix Pay'!$B$9:$K$116,9,0))","v":""},"",{"$nulls":4},0,null,{"$f":"IF(ISNA(VLOOKUP(C242,Master!BQ$61:CC$286,10,FALSE)),\"\",VLOOKUP(C242,Master!BQ$61:CC$286,10,FALSE))","v":""},null,null,{"$f":"IF(ISNA(VLOOKUP(C242,Master!BQ$61:CC$286,11,FALSE)),\"\",VLOOKUP(C242,Master!BQ$61:CC$286,11,FALSE))","v":""},{"$f":"IF(ISNA(VLOOKUP(C242,Master!BQ$61:CC$286,9,FALSE)),\"\",VLOOKUP(C242,Master!BQ$61:CC$286,9,FALSE))","v":""},0,0,0,0,0,0,"","","","","","",0,0,"",0,0,0,0,0,0,0,null,null,0,0,0,0,0,0,0,0,0,0,0,0,0,0,0,0,null,null,0,0,1,0,0,0,1,0,1,0,0,"",null,{"$f":"IF(I242=\"\",\"\",MAX($CD$229:$CD$236,$CD$239:CD241)+1)","v":""}]
["",2202,5,{"$f":"IF(ISNA(VLOOKUP(C243,Master!BQ$61:CC$286,3,FALSE)),\"\",VLOOKUP(C243,Master!BQ$61:CC$286,3,FALSE))","v":""},{"$f":"IF(ISNA(VLOOKUP(C243,Master!BQ$61:CC$286,7,FALSE)),\"\",VLOOKUP(C243,Master!BQ$61:CC$286,7,FALSE))","v":""},{"$f":"IF(ISNA(VLOOKUP(C243,Master!BQ$61:CC$286,8,FALSE)),\"\",VLOOKUP(C243,Master!BQ$61:CC$286,8,FALSE))","v":""},{"$f":"IF(ISNA(VLOOKUP(C243,Master!BQ$61:CC$286,4,FALSE)),\"\",VLOOKUP(C243,Master!BQ$61:CC$286,4,FALSE))","v":""},{"$f":"IF(ISNA(VLOOKUP(C243,Master!BQ$61:CC$286,5,FALSE)),\"\",VLOOKUP(C243,Master!BQ$61:CC$286,5,FALSE))","v":""},"","","","",{"$f":"IF(AND(H243=\"\"),\"\",VLOOKUP(D243,'Fix Pay'!$B$9:$K$116,10,0))","v":""},{"$f":"IF(AND(H243=\"\"),\"\",VLOOKUP(D243,'Fix Pay'!$B$9:$K$116,9,0))","v":""},"",{"$nulls":4},0,null,{"$f":"IF(ISNA(VLOOKUP(C243,Master!BQ$61:CC$286,10,FALSE)),\"\",VLOOKUP(C243,Master!BQ$61:CC$286,10,FALSE))","v":""},null,null,{"$f":"IF(ISNA(VLOOKUP(C243,Master!BQ$61:CC$286,11,FALSE)),\"\",VLOOKUP(C243,Master!BQ$61:CC$286,11,FALSE))","v":""},{"$f":"IF(ISNA(VLOOKUP(C243,Master!BQ$61:CC$286,9,FALSE)),\"\",VLOOKUP(C243,Master!BQ$61:CC$286,9,FALSE))","v":""},0,0,0,0,0,0,"","","","","","",0,0,"",0,0,0,0,0,0,0,null,null,0,0,0,0,0,0,0,0,0,0,0,0,0,0,0,0,null,null,0,0,1,0,0,0,1,0,1,0,0,"",null,{"$f":"IF(I243=\"\",\"\",MAX($CD$229:$CD$236,$CD$239:CD242)+1)","v":""}]
["",2202,6,{"$f":"IF(ISNA(VLOOKUP(C244,Master!BQ$61:CC$286,3,FALSE)),\"\",VLOOKUP(C244,Master!BQ$61:CC$286,3,FALSE))","v":""},{"$f":"IF(ISNA(VLOOKUP(C244,Master!BQ$61:CC$286,7,FALSE)),\"\",VLOOKUP(C244,Master!BQ$61:CC$286,7,FALSE))","v":""},{"$f":"IF(ISNA(VLOOKUP(C244,Master!BQ$61:CC$286,8,FALSE)),\"\",VLOOKUP(C244,Master!BQ$61:CC$286,8,FALSE))","v":""},{"$f":"IF(ISNA(VLOOKUP(C244,Master!BQ$61:CC$286,4,FALSE)),\"\",VLOOKUP(C244,Master!BQ$61:CC$286,4,FALSE))","v":""},{"$f":"IF(ISNA(VLOOKUP(C244,Master!BQ$61:CC$286,5,FALSE)),\"\",VLOOKUP(C244,Master!BQ$61:CC$286,5,FALSE))","v":""},"","","","",{"$f":"IF(AND(H244=\"\"),\"\",VLOOKUP(D244,'Fix Pay'!$B$9:$K$116,10,0))","v":""},{"$f":"IF(AND(H244=\"\"),\"\",VLOOKUP(D244,'Fix Pay'!$B$9:$K$116,9,0))","v":""},"",{"$nulls":4},0,null,{"$f":"IF(ISNA(VLOOKUP(C244,Master!BQ$61:CC$286,10,FALSE)),\"\",VLOOKUP(C244,Master!BQ$61:CC$286,10,FALSE))","v":""},null,null,{"$f":"IF(ISNA(VLOOKUP(C244,Master!BQ$61:CC$286,11,FALSE)),\"\",VLOOKUP(C244,Master!BQ$61:CC$286,11,FALSE))","v":""},{"$f":"IF(ISNA(VLOOKUP(C244,Master!BQ$61:CC$286,9,FALSE)),\"\",VLOOKUP(C244,Master!BQ$61:CC$286,9,FALSE))","v":""},0,0,0,0,0,0,"","","","","","",0,0,"",0,0,0,0,0,0,0,null,null,0,0,0,0,0,0,0,0,0,0,0,0,0,0,0,0,null,null,0,0,1,0,0,0,1,0,1,0,0,"",null,{"$f":"IF(I244=\"\",\"\",MAX($CD$229:$CD$236,$CD$239:CD243)+1)","v":""}]
["",2202,7,{"$f":"IF(ISNA(VLOOKUP(C245,Master!BQ$61:CC$286,3,FALSE)),\"\",VLOOKUP(C245,Master!BQ$61:CC$286,3,FALSE))","v":""},{"$f":"IF(ISNA(VLOOKUP(C245,Master!BQ$61:CC$286,7,FALSE)),\"\",VLOOKUP(C245,Master!BQ$61:CC$286,7,FALSE))","v":""},{"$f":"IF(ISNA(VLOOKUP(C245,Master!BQ$61:CC$286,8,FALSE)),\"\",VLOOKUP(C245,Master!BQ$61:CC$286,8,FALSE))","v":""},{"$f":"IF(ISNA(VLOOKUP(C245,Master!BQ$61:CC$286,4,FALSE)),\"\",VLOOKUP(C245,Master!BQ$61:CC$286,4,FALSE))","v":""},{"$f":"IF(ISNA(VLOOKUP(C245,Master!BQ$61:CC$286,5,FALSE)),\"\",VLOOKUP(C245,Master!BQ$61:CC$286,5,FALSE))","v":""},"","","","",{"$f":"IF(AND(H245=\"\"),\"\",VLOOKUP(D245,'Fix Pay'!$B$9:$K$116,10,0))","v":""},{"$f":"IF(AND(H245=\"\"),\"\",VLOOKUP(D245,'Fix Pay'!$B$9:$K$116,9,0))","v":""},"",{"$nulls":4},0,null,{"$f":"IF(ISNA(VLOOKUP(C245,Master!BQ$61:CC$286,10,FALSE)),\"\",VLOOKUP(C245,Master!BQ$61:CC$286,10,FALSE))","v":""},null,null,{"$f":"IF(ISNA(VLOOKUP(C245,Master!BQ$61:CC$286,11,FALSE)),\"\",VLOOKUP(C245,Master!BQ$61:CC$286,11,FALSE))","v":""},{"$f":"IF(ISNA(VLOOKUP(C245,Master!BQ$61:CC$286,9,FALSE)),\"\",VLOOKUP(C245,Master!BQ$61:CC$286,9,FALSE))","v":""},0,0,0,0,0,0,"","","","","","",0,0,"",0,0,0,0,0,0,0,null,null,0,0,0,0,0,0,0,0,0,0,0,0,0,0,0,0,null,null,0,0,1,0,0,0,1,0,1,0,0,"",null,{"$f":"IF(I245=\"\",\"\",MAX($CD$229:$CD$236,$CD$239:CD244)+1)","v":""}]
["",2202,8,{"$f":"IF(ISNA(VLOOKUP(C246,Master!BQ$61:CC$286,3,FALSE)),\"\",VLOOKUP(C246,Master!BQ$61:CC$286,3,FALSE))","v":""},{"$f":"IF(ISNA(VLOOKUP(C246,Master!BQ$61:CC$286,7,FALSE)),\"\",VLOOKUP(C246,Master!BQ$61:CC$286,7,FALSE))","v":""},{"$f":"IF(ISNA(VLOOKUP(C246,Master!BQ$61:CC$286,8,FALSE)),\"\",VLOOKUP(C246,Master!BQ$61:CC$286,8,FALSE))","v":""},{"$f":"IF(ISNA(VLOOKUP(C246,Master!BQ$61:CC$286,4,FALSE)),\"\",VLOOKUP(C246,Master!BQ$61:CC$286,4,FALSE))","v":""},{"$f":"IF(ISNA(VLOOKUP(C246,Master!BQ$61:CC$286,5,FALSE)),\"\",VLOOKUP(C246,Master!BQ$61:CC$286,5,FALSE))","v":""},"","","","",{"$f":"IF(AND(H246=\"\"),\"\",VLOOKUP(D246,'Fix Pay'!$B$9:$K$116,10,0))","v":""},{"$f":"IF(AND(H246=\"\"),\"\",VLOOKUP(D246,'Fix Pay'!$B$9:$K$116,9,0))","v":""},"",{"$nulls":4},0,null,{"$f":"IF(ISNA(VLOOKUP(C246,Master!BQ$61:CC$286,10,FALSE)),\"\",VLOOKUP(C246,Master!BQ$61:CC$286,10,FALSE))","v":""},null,null,{"$f":"IF(ISNA(VLOOKUP(C246,Master!BQ$61:CC$286,11,FALSE)),\"\",VLOOKUP(C246,Master!BQ$61:CC$286,11,FALSE))","v":""},{"$f":"IF(ISNA(VLOOKUP(C246,Master!BQ$61:CC$286,9,FALSE)),\"\",VLOOKUP(C246,Master!BQ$61:CC$286,9,FALSE))","v":""},0,0,0,0,0,0,"","","","","","",0,0,"",0,0,0,0,0,0,0,null,null,0,0,0,0,0,0,0,0,0,0,0,0,0,0,0,0,null,null,0,0,1,0,0,0,1,0,1,0,0,"",null,{"$f":"IF(I246=\"\",\"\",MAX($CD$229:$CD$236,$CD$239:CD245)+1)","v":""}]
["",2202,9,{"$f":"IF(ISNA(VLOOKUP(C247,Master!BQ$61:CC$286,3,FALSE)),\"\",VLOOKUP(C247,Master!BQ$61:CC$286,3,FALSE))","v":""},{"$f":"IF(ISNA(VLOOKUP(C247,Master!BQ$61:CC$286,7,FALSE)),\"\",VLOOKUP(C247,Master!BQ$61:CC$286,7,FALSE))","v":""},{"$f":"IF(ISNA(VLOOKUP(C247,Master!BQ$61:CC$286,8,FALSE)),\"\",VLOOKUP(C247,Master!BQ$61:CC$286,8,FALSE))","v":""},{"$f":"IF(ISNA(VLOOKUP(C247,Master!BQ$61:CC$286,4,FALSE)),\"\",VLOOKUP(C247,Master!BQ$61:CC$286,4,FALSE))","v":""},{"$f":"IF(ISNA(VLOOKUP(C247,Master!BQ$61:CC$286,5,FALSE)),\"\",VLOOKUP(C247,Master!BQ$61:CC$286,5,FALSE))","v":""},"","","","",{"$f":"IF(AND(H247=\"\"),\"\",VLOOKUP(D247,'Fix Pay'!$B$9:$K$116,10,0))","v":""},{"$f":"IF(AND(H247=\"\"),\"\",VLOOKUP(D247,'Fix Pay'!$B$9:$K$116,9,0))","v":""},"",{"$nulls":4},0,null,{"$f":"IF(ISNA(VLOOKUP(C247,Master!BQ$61:CC$286,10,FALSE)),\"\",VLOOKUP(C247,Master!BQ$61:CC$286,10,FALSE))","v":""},null,null,{"$f":"IF(ISNA(VLOOKUP(C247,Master!BQ$61:CC$286,11,FALSE)),\"\",VLOOKUP(C247,Master!BQ$61:CC$286,11,FALSE))","v":""},{"$f":"IF(ISNA(VLOOKUP(C247,Master!BQ$61:CC$286,9,FALSE)),\"\",VLOOKUP(C247,Master!BQ$61:CC$286,9,FALSE))","v":""},0,0,0,0,0,0,"","","","","","",0,0,"",0,0,0,0,0,0,0,null,null,0,0,0,0,0,0,0,0,0,0,0,0,0,0,0,0,null,null,0,0,1,0,0,0,1,0,1,0,0,"",null,{"$f":"IF(I247=\"\",\"\",MAX($CD$229:$CD$236,$CD$239:CD246)+1)","v":""}]
["",2202,10,{"$f":"IF(ISNA(VLOOKUP(C248,Master!BQ$61:CC$286,3,FALSE)),\"\",VLOOKUP(C248,Master!BQ$61:CC$286,3,FALSE))","v":""},{"$f":"IF(ISNA(VLOOKUP(C248,Master!BQ$61:CC$286,7,FALSE)),\"\",VLOOKUP(C248,Master!BQ$61:CC$286,7,FALSE))","v":""},{"$f":"IF(ISNA(VLOOKUP(C248,Master!BQ$61:CC$286,8,FALSE)),\"\",VLOOKUP(C248,Master!BQ$61:CC$286,8,FALSE))","v":""},{"$f":"IF(ISNA(VLOOKUP(C248,Master!BQ$61:CC$286,4,FALSE)),\"\",VLOOKUP(C248,Master!BQ$61:CC$286,4,FALSE))","v":""},{"$f":"IF(ISNA(VLOOKUP(C248,Master!BQ$61:CC$286,5,FALSE)),\"\",VLOOKUP(C248,Master!BQ$61:CC$286,5,FALSE))","v":""},"","","","",{"$f":"IF(AND(H248=\"\"),\"\",VLOOKUP(D248,'Fix Pay'!$B$9:$K$116,10,0))","v":""},{"$f":"IF(AND(H248=\"\"),\"\",VLOOKUP(D248,'Fix Pay'!$B$9:$K$116,9,0))","v":""},"",{"$nulls":4},0,null,{"$f":"IF(ISNA(VLOOKUP(C248,Master!BQ$61:CC$286,10,FALSE)),\"\",VLOOKUP(C248,Master!BQ$61:CC$286,10,FALSE))","v":""},null,null,{"$f":"IF(ISNA(VLOOKUP(C248,Master!BQ$61:CC$286,11,FALSE)),\"\",VLOOKUP(C248,Master!BQ$61:CC$286,11,FALSE))","v":""},{"$f":"IF(ISNA(VLOOKUP(C248,Master!BQ$61:CC$286,9,FALSE)),\"\",VLOOKUP(C248,Master!BQ$61:CC$286,9,FALSE))","v":""},0,0,0,0,0,0,"","","","","","",0,0,"",0,0,0,0,0,0,0,null,null,0,0,0,0,0,0,0,0,0,0,0,0,0,0,0,0,null,null,0,0,1,0,0,0,1,0,1,0,0,"",null,{"$f":"IF(I248=\"\",\"\",MAX($CD$229:$CD$236,$CD$239:CD247)+1)","v":""}]
["",2202,11,{"$f":"IF(ISNA(VLOOKUP(C249,Master!BQ$61:CC$286,3,FALSE)),\"\",VLOOKUP(C249,Master!BQ$61:CC$286,3,FALSE))","v":""},{"$f":"IF(ISNA(VLOOKUP(C249,Master!BQ$61:CC$286,7,FALSE)),\"\",VLOOKUP(C249,Master!BQ$61:CC$286,7,FALSE))","v":""},{"$f":"IF(ISNA(VLOOKUP(C249,Master!BQ$61:CC$286,8,FALSE)),\"\",VLOOKUP(C249,Master!BQ$61:CC$286,8,FALSE))","v":""},{"$f":"IF(ISNA(VLOOKUP(C249,Master!BQ$61:CC$286,4,FALSE)),\"\",VLOOKUP(C249,Master!BQ$61:CC$286,4,FALSE))","v":""},{"$f":"IF(ISNA(VLOOKUP(C249,Master!BQ$61:CC$286,5,FALSE)),\"\",VLOOKUP(C249,Master!BQ$61:CC$286,5,FALSE))","v":""},"","","","",{"$f":"IF(AND(H249=\"\"),\"\",VLOOKUP(D249,'Fix Pay'!$B$9:$K$116,10,0))","v":""},{"$f":"IF(AND(H249=\"\"),\"\",VLOOKUP(D249,'Fix Pay'!$B$9:$K$116,9,0))","v":""},"",{"$nulls":4},0,null,{"$f":"IF(ISNA(VLOOKUP(C249,Master!BQ$61:CC$286,10,FALSE)),\"\",VLOOKUP(C249,Master!BQ$61:CC$286,10,FALSE))","v":""},null,null,{"$f":"IF(ISNA(VLOOKUP(C249,Master!BQ$61:CC$286,11,FALSE)),\"\",VLOOKUP(C249,Master!BQ$61:CC$286,11,FALSE))","v":""},{"$f":"IF(ISNA(VLOOKUP(C249,Master!BQ$61:CC$286,9,FALSE)),\"\",VLOOKUP(C249,Master!BQ$61:CC$286,9,FALSE))","v":""},0,0,0,0,0,0,"","","","","","",0,0,"",0,0,0,0,0,0,0,null,null,0,0,0,0,0,0,0,0,0,0,0,0,0,0,0,0,null,null,0,0,1,0,0,0,1,0,1,0,0,"",null,{"$f":"IF(I249=\"\",\"\",MAX($CD$229:$CD$236,$CD$239:CD248)+1)","v":""}]
["",2202,12,{"$f":"IF(ISNA(VLOOKUP(C250,Master!BQ$61:CC$286,3,FALSE)),\"\",VLOOKUP(C250,Master!BQ$61:CC$286,3,FALSE))","v":""},{"$f":"IF(ISNA(VLOOKUP(C250,Master!BQ$61:CC$286,7,FALSE)),\"\",VLOOKUP(C250,Master!BQ$61:CC$286,7,FALSE))","v":""},{"$f":"IF(ISNA(VLOOKUP(C250,Master!BQ$61:CC$286,8,FALSE)),\"\",VLOOKUP(C250,Master!BQ$61:CC$286,8,FALSE))","v":""},{"$f":"IF(ISNA(VLOOKUP(C250,Master!BQ$61:CC$286,4,FALSE)),\"\",VLOOKUP(C250,Master!BQ$61:CC$286,4,FALSE))","v":""},{"$f":"IF(ISNA(VLOOKUP(C250,Master!BQ$61:CC$286,5,FALSE)),\"\",VLOOKUP(C250,Master!BQ$61:CC$286,5,FALSE))","v":""},"","","","",{"$f":"IF(AND(H250=\"\"),\"\",VLOOKUP(D250,'Fix Pay'!$B$9:$K$116,10,0))","v":""},{"$f":"IF(AND(H250=\"\"),\"\",VLOOKUP(D250,'Fix Pay'!$B$9:$K$116,9,0))","v":""},"",{"$nulls":4},0,null,{"$f":"IF(ISNA(VLOOKUP(C250,Master!BQ$61:CC$286,10,FALSE)),\"\",VLOOKUP(C250,Master!BQ$61:CC$286,10,FALSE))","v":""},null,null,{"$f":"IF(ISNA(VLOOKUP(C250,Master!BQ$61:CC$286,11,FALSE)),\"\",VLOOKUP(C250,Master!BQ$61:CC$286,11,FALSE))","v":""},{"$f":"IF(ISNA(VLOOKUP(C250,Master!BQ$61:CC$286,9,FALSE)),\"\",VLOOKUP(C250,Master!BQ$61:CC$286,9,FALSE))","v":""},0,0,0,0,0,0,"","","","","","",0,0,"",0,0,0,0,0,0,0,null,null,0,0,0,0,0,0,0,0,0,0,0,0,0,0,0,0,null,null,0,0,1,0,0,0,1,0,1,0,0,"",null,{"$f":"IF(I250=\"\",\"\",MAX($CD$229:$CD$236,$CD$239:CD249)+1)","v":""}]
["",2202,13,{"$f":"IF(ISNA(VLOOKUP(C251,Master!BQ$61:CC$286,3,FALSE)),\"\",VLOOKUP(C251,Master!BQ$61:CC$286,3,FALSE))","v":""},{"$f":"IF(ISNA(VLOOKUP(C251,Master!BQ$61:CC$286,7,FALSE)),\"\",VLOOKUP(C251,Master!BQ$61:CC$286,7,FALSE))","v":""},{"$f":"IF(ISNA(VLOOKUP(C251,Master!BQ$61:CC$286,8,FALSE)),\"\",VLOOKUP(C251,Master!BQ$61:CC$286,8,FALSE))","v":""},{"$f":"IF(ISNA(VLOOKUP(C251,Master!BQ$61:CC$286,4,FALSE)),\"\",VLOOKUP(C251,Master!BQ$61:CC$286,4,FALSE))","v":""},{"$f":"IF(ISNA(VLOOKUP(C251,Master!BQ$61:CC$286,5,FALSE)),\"\",VLOOKUP(C251,Master!BQ$61:CC$286,5,FALSE))","v":""},"","","","",{"$f":"IF(AND(H251=\"\"),\"\",VLOOKUP(D251,'Fix Pay'!$B$9:$K$116,10,0))","v":""},{"$f":"IF(AND(H251=\"\"),\"\",VLOOKUP(D251,'Fix Pay'!$B$9:$K$116,9,0))","v":""},"",{"$nulls":4},0,null,{"$f":"IF(ISNA(VLOOKUP(C251,Master!BQ$61:CC$286,10,FALSE)),\"\",VLOOKUP(C251,Master!BQ$61:CC$286,10,FALSE))","v":""},null,null,{"$f":"IF(ISNA(VLOOKUP(C251,Master!BQ$61:CC$286,11,FALSE)),\"\",VLOOKUP(C251,Master!BQ$61:CC$286,11,FALSE))","v":""},{"$f":"IF(ISNA(VLOOKUP(C251,Master!BQ$61:CC$286,9,FALSE)),\"\",VLOOKUP(C251,Master!BQ$61:CC$286,9,FALSE))","v":""},0,0,0,0,0,0,"","","","","","",0,0,"",0,0,0,0,0,0,0,null,null,0,0,0,0,0,0,0,0,0,0,0,0,0,0,0,0,null,null,0,0,1,0,0,0,1,0,1,0,0,"",null,{"$f":"IF(I251=\"\",\"\",MAX($CD$229:$CD$236,$CD$239:CD250)+1)","v":""}]
["",2202,14,{"$f":"IF(ISNA(VLOOKUP(C252,Master!BQ$61:CC$286,3,FALSE)),\"\",VLOOKUP(C252,Master!BQ$61:CC$286,3,FALSE))","v":""},{"$f":"IF(ISNA(VLOOKUP(C252,Master!BQ$61:CC$286,7,FALSE)),\"\",VLOOKUP(C252,Master!BQ$61:CC$286,7,FALSE))","v":""},{"$f":"IF(ISNA(VLOOKUP(C252,Master!BQ$61:CC$286,8,FALSE)),\"\",VLOOKUP(C252,Master!BQ$61:CC$286,8,FALSE))","v":""},{"$f":"IF(ISNA(VLOOKUP(C252,Master!BQ$61:CC$286,4,FALSE)),\"\",VLOOKUP(C252,Master!BQ$61:CC$286,4,FALSE))","v":""},{"$f":"IF(ISNA(VLOOKUP(C252,Master!BQ$61:CC$286,5,FALSE)),\"\",VLOOKUP(C252,Master!BQ$61:CC$286,5,FALSE))","v":""},"","","","",{"$f":"IF(AND(H252=\"\"),\"\",VLOOKUP(D252,'Fix Pay'!$B$9:$K$116,10,0))","v":""},{"$f":"IF(AND(H252=\"\"),\"\",VLOOKUP(D252,'Fix Pay'!$B$9:$K$116,9,0))","v":""},"",{"$nulls":4},0,null,{"$f":"IF(ISNA(VLOOKUP(C252,Master!BQ$61:CC$286,10,FALSE)),\"\",VLOOKUP(C252,Master!BQ$61:CC$286,10,FALSE))","v":""},null,null,{"$f":"IF(ISNA(VLOOKUP(C252,Master!BQ$61:CC$286,11,FALSE)),\"\",VLOOKUP(C252,Master!BQ$61:CC$286,11,FALSE))","v":""},{"$f":"IF(ISNA(VLOOKUP(C252,Master!BQ$61:CC$286,9,FALSE)),\"\",VLOOKUP(C252,Master!BQ$61:CC$286,9,FALSE))","v":""},0,0,0,0,0,0,"","","","","","",0,0,"",0,0,0,0,0,0,0,null,null,0,0,0,0,0,0,0,0,0,0,0,0,0,0,0,0,null,null,0,0,1,0,0,0,1,0,1,0,0,"",null,{"$f":"IF(I252=\"\",\"\",MAX($CD$229:$CD$236,$CD$239:CD251)+1)","v":""}]
["",2202,15,{"$f":"IF(ISNA(VLOOKUP(C253,Master!BQ$61:CC$286,3,FALSE)),\"\",VLOOKUP(C253,Master!BQ$61:CC$286,3,FALSE))","v":""},{"$f":"IF(ISNA(VLOOKUP(C253,Master!BQ$61:CC$286,7,FALSE)),\"\",VLOOKUP(C253,Master!BQ$61:CC$286,7,FALSE))","v":""},{"$f":"IF(ISNA(VLOOKUP(C253,Master!BQ$61:CC$286,8,FALSE)),\"\",VLOOKUP(C253,Master!BQ$61:CC$286,8,FALSE))","v":""},{"$f":"IF(ISNA(VLOOKUP(C253,Master!BQ$61:CC$286,4,FALSE)),\"\",VLOOKUP(C253,Master!BQ$61:CC$286,4,FALSE))","v":""},{"$f":"IF(ISNA(VLOOKUP(C253,Master!BQ$61:CC$286,5,FALSE)),\"\",VLOOKUP(C253,Master!BQ$61:CC$286,5,FALSE))","v":""},"","","","",{"$f":"IF(AND(H253=\"\"),\"\",VLOOKUP(D253,'Fix Pay'!$B$9:$K$116,10,0))","v":""},{"$f":"IF(AND(H253=\"\"),\"\",VLOOKUP(D253,'Fix Pay'!$B$9:$K$116,9,0))","v":""},"",{"$nulls":4},0,null,{"$f":"IF(ISNA(VLOOKUP(C253,Master!BQ$61:CC$286,10,FALSE)),\"\",VLOOKUP(C253,Master!BQ$61:CC$286,10,FALSE))","v":""},null,null,{"$f":"IF(ISNA(VLOOKUP(C253,Master!BQ$61:CC$286,11,FALSE)),\"\",VLOOKUP(C253,Master!BQ$61:CC$286,11,FALSE))","v":""},{"$f":"IF(ISNA(VLOOKUP(C253,Master!BQ$61:CC$286,9,FALSE)),\"\",VLOOKUP(C253,Master!BQ$61:CC$286,9,FALSE))","v":""},0,0,0,0,0,0,"","","","","","",0,0,"",0,0,0,0,0,0,0,null,null,0,0,0,0,0,0,0,0,0,0,0,0,0,0,0,0,null,null,0,0,1,0,0,0,1,0,1,0,0,"",null,{"$f":"IF(I253=\"\",\"\",MAX($CD$229:$CD$236,$CD$239:CD252)+1)","v":""}]
["",2202,16,{"$f":"IF(ISNA(VLOOKUP(C254,Master!BQ$61:CC$286,3,FALSE)),\"\",VLOOKUP(C254,Master!BQ$61:CC$286,3,FALSE))","v":""},{"$f":"IF(ISNA(VLOOKUP(C254,Master!BQ$61:CC$286,7,FALSE)),\"\",VLOOKUP(C254,Master!BQ$61:CC$286,7,FALSE))","v":""},{"$f":"IF(ISNA(VLOOKUP(C254,Master!BQ$61:CC$286,8,FALSE)),\"\",VLOOKUP(C254,Master!BQ$61:CC$286,8,FALSE))","v":""},{"$f":"IF(ISNA(VLOOKUP(C254,Master!BQ$61:CC$286,4,FALSE)),\"\",VLOOKUP(C254,Master!BQ$61:CC$286,4,FALSE))","v":""},{"$f":"IF(ISNA(VLOOKUP(C254,Master!BQ$61:CC$286,5,FALSE)),\"\",VLOOKUP(C254,Master!BQ$61:CC$286,5,FALSE))","v":""},"","","","",{"$f":"IF(AND(H254=\"\"),\"\",VLOOKUP(D254,'Fix Pay'!$B$9:$K$116,10,0))","v":""},{"$f":"IF(AND(H254=\"\"),\"\",VLOOKUP(D254,'Fix Pay'!$B$9:$K$116,9,0))","v":""},"",{"$nulls":4},0,null,{"$f":"IF(ISNA(VLOOKUP(C254,Master!BQ$61:CC$286,10,FALSE)),\"\",VLOOKUP(C254,Master!BQ$61:CC$286,10,FALSE))","v":""},null,null,{"$f":"IF(ISNA(VLOOKUP(C254,Master!BQ$61:CC$286,11,FALSE)),\"\",VLOOKUP(C254,Master!BQ$61:CC$286,11,FALSE))","v":""},{"$f":"IF(ISNA(VLOOKUP(C254,Master!BQ$61:CC$286,9,FALSE)),\"\",VLOOKUP(C254,Master!BQ$61:CC$286,9,FALSE))","v":""},0,0,0,0,0,0,"","","","","","",0,0,"",0,0,0,0,0,0,0,null,null,0,0,0,0,0,0,0,0,0,0,0,0,0,0,0,0,null,null,0,0,1,0,0,0,1,0,1,0,0,"",null,{"$f":"IF(I254=\"\",\"\",MAX($CD$229:$CD$236,$CD$239:CD253)+1)","v":""}]
["",2202,17,{"$f":"IF(ISNA(VLOOKUP(C255,Master!BQ$61:CC$286,3,FALSE)),\"\",VLOOKUP(C255,Master!BQ$61:CC$286,3,FALSE))","v":""},{"$f":"IF(ISNA(VLOOKUP(C255,Master!BQ$61:CC$286,7,FALSE)),\"\",VLOOKUP(C255,Master!BQ$61:CC$286,7,FALSE))","v":""},{"$f":"IF(ISNA(VLOOKUP(C255,Master!BQ$61:CC$286,8,FALSE)),\"\",VLOOKUP(C255,Master!BQ$61:CC$286,8,FALSE))","v":""},{"$f":"IF(ISNA(VLOOKUP(C255,Master!BQ$61:CC$286,4,FALSE)),\"\",VLOOKUP(C255,Master!BQ$61:CC$286,4,FALSE))","v":""},{"$f":"IF(ISNA(VLOOKUP(C255,Master!BQ$61:CC$286,5,FALSE)),\"\",VLOOKUP(C255,Master!BQ$61:CC$286,5,FALSE))","v":""},"","","","",{"$f":"IF(AND(H255=\"\"),\"\",VLOOKUP(D255,'Fix Pay'!$B$9:$K$116,10,0))","v":""},{"$f":"IF(AND(H255=\"\"),\"\",VLOOKUP(D255,'Fix Pay'!$B$9:$K$116,9,0))","v":""},"",{"$nulls":4},0,null,{"$f":"IF(ISNA(VLOOKUP(C255,Master!BQ$61:CC$286,10,FALSE)),\"\",VLOOKUP(C255,Master!BQ$61:CC$286,10,FALSE))","v":""},null,null,{"$f":"IF(ISNA(VLOOKUP(C255,Master!BQ$61:CC$286,11,FALSE)),\"\",VLOOKUP(C255,Master!BQ$61:CC$286,11,FALSE))","v":""},{"$f":"IF(ISNA(VLOOKUP(C255,Master!BQ$61:CC$286,9,FALSE)),\"\",VLOOKUP(C255,Master!BQ$61:CC$286,9,FALSE))","v":""},0,0,0,0,0,0,"","","","","","",0,0,"",0,0,0,0,0,0,0,null,null,0,0,0,0,0,0,0,0,0,0,0,0,0,0,0,0,null,null,0,0,1,0,0,0,1,0,1,0,0,"",null,{"$f":"IF(I255=\"\",\"\",MAX($CD$229:$CD$236,$CD$239:CD254)+1)","v":""}]
["",2202,18,{"$f":"IF(ISNA(VLOOKUP(C256,Master!BQ$61:CC$286,3,FALSE)),\"\",VLOOKUP(C256,Master!BQ$61:CC$286,3,FALSE))","v":""},{"$f":"IF(ISNA(VLOOKUP(C256,Master!BQ$61:CC$286,7,FALSE)),\"\",VLOOKUP(C256,Master!BQ$61:CC$286,7,FALSE))","v":""},{"$f":"IF(ISNA(VLOOKUP(C256,Master!BQ$61:CC$286,8,FALSE)),\"\",VLOOKUP(C256,Master!BQ$61:CC$286,8,FALSE))","v":""},{"$f":"IF(ISNA(VLOOKUP(C256,Master!BQ$61:CC$286,4,FALSE)),\"\",VLOOKUP(C256,Master!BQ$61:CC$286,4,FALSE))","v":""},{"$f":"IF(ISNA(VLOOKUP(C256,Master!BQ$61:CC$286,5,FALSE)),\"\",VLOOKUP(C256,Master!BQ$61:CC$286,5,FALSE))","v":""},"","","","",{"$f":"IF(AND(H256=\"\"),\"\",VLOOKUP(D256,'Fix Pay'!$B$9:$K$116,10,0))","v":""},{"$f":"IF(AND(H256=\"\"),\"\",VLOOKUP(D256,'Fix Pay'!$B$9:$K$116,9,0))","v":""},"",{"$nulls":4},0,null,{"$f":"IF(ISNA(VLOOKUP(C256,Master!BQ$61:CC$286,10,FALSE)),\"\",VLOOKUP(C256,Master!BQ$61:CC$286,10,FALSE))","v":""},null,null,{"$f":"IF(ISNA(VLOOKUP(C256,Master!BQ$61:CC$286,11,FALSE)),\"\",VLOOKUP(C256,Master!BQ$61:CC$286,11,FALSE))","v":""},{"$f":"IF(ISNA(VLOOKUP(C256,Master!BQ$61:CC$286,9,FALSE)),\"\",VLOOKUP(C256,Master!BQ$61:CC$286,9,FALSE))","v":""},0,0,0,0,0,0,"","","","","","",0,0,"",0,0,0,0,0,0,0,null,null,0,0,0,0,0,0,0,0,0,0,0,0,0,0,0,0,null,null,0,0,1,0,0,0,1,0,1,0,0,"",null,{"$f":"IF(I256=\"\",\"\",MAX($CD$229:$CD$236,$CD$239:CD255)+1)","v":""}]
["",2202,19,{"$f":"IF(ISNA(VLOOKUP(C257,Master!BQ$61:CC$286,3,FALSE)),\"\",VLOOKUP(C257,Master!BQ$61:CC$286,3,FALSE))","v":""},{"$f":"IF(ISNA(VLOOKUP(C257,Master!BQ$61:CC$286,7,FALSE)),\"\",VLOOKUP(C257,Master!BQ$61:CC$286,7,FALSE))","v":""},{"$f":"IF(ISNA(VLOOKUP(C257,Master!BQ$61:CC$286,8,FALSE)),\"\",VLOOKUP(C257,Master!BQ$61:CC$286,8,FALSE))","v":""},{"$f":"IF(ISNA(VLOOKUP(C257,Master!BQ$61:CC$286,4,FALSE)),\"\",VLOOKUP(C257,Master!BQ$61:CC$286,4,FALSE))","v":""},{"$f":"IF(ISNA(VLOOKUP(C257,Master!BQ$61:CC$286,5,FALSE)),\"\",VLOOKUP(C257,Master!BQ$61:CC$286,5,FALSE))","v":""},"","","","",{"$f":"IF(AND(H257=\"\"),\"\",VLOOKUP(D257,'Fix Pay'!$B$9:$K$116,10,0))","v":""},{"$f":"IF(AND(H257=\"\"),\"\",VLOOKUP(D257,'Fix Pay'!$B$9:$K$116,9,0))","v":""},"",{"$nulls":4},0,null,{"$f":"IF(ISNA(VLOOKUP(C257,Master!BQ$61:CC$286,10,FALSE)),\"\",VLOOKUP(C257,Master!BQ$61:CC$286,10,FALSE))","v":""},null,null,{"$f":"IF(ISNA(VLOOKUP(C257,Master!BQ$61:CC$286,11,FALSE)),\"\",VLOOKUP(C257,Master!BQ$61:CC$286,11,FALSE))","v":""},{"$f":"IF(ISNA(VLOOKUP(C257,Master!BQ$61:CC$286,9,FALSE)),\"\",VLOOKUP(C257,Master!BQ$61:CC$286,9,FALSE))","v":""},0,0,0,0,0,0,"","","","","","",0,0,"",0,0,0,0,0,0,0,null,null,0,0,0,0,0,0,0,0,0,0,0,0,0,0,0,0,null,null,0,0,1,0,0,0,1,0,1,0,0,"",null,{"$f":"IF(I257=\"\",\"\",MAX($CD$229:$CD$236,$CD$239:CD256)+1)","v":""}]
["",2202,20,{"$f":"IF(ISNA(VLOOKUP(C258,Master!BQ$61:CC$286,3,FALSE)),\"\",VLOOKUP(C258,Master!BQ$61:CC$286,3,FALSE))","v":""},{"$f":"IF(ISNA(VLOOKUP(C258,Master!BQ$61:CC$286,7,FALSE)),\"\",VLOOKUP(C258,Master!BQ$61:CC$286,7,FALSE))","v":""},{"$f":"IF(ISNA(VLOOKUP(C258,Master!BQ$61:CC$286,8,FALSE)),\"\",VLOOKUP(C258,Master!BQ$61:CC$286,8,FALSE))","v":""},{"$f":"IF(ISNA(VLOOKUP(C258,Master!BQ$61:CC$286,4,FALSE)),\"\",VLOOKUP(C258,Master!BQ$61:CC$286,4,FALSE))","v":""},{"$f":"IF(ISNA(VLOOKUP(C258,Master!BQ$61:CC$286,5,FALSE)),\"\",VLOOKUP(C258,Master!BQ$61:CC$286,5,FALSE))","v":""},"","","","",{"$f":"IF(AND(H258=\"\"),\"\",VLOOKUP(D258,'Fix Pay'!$B$9:$K$116,10,0))","v":""},{"$f":"IF(AND(H258=\"\"),\"\",VLOOKUP(D258,'Fix Pay'!$B$9:$K$116,9,0))","v":""},"",{"$nulls":4},0,null,{"$f":"IF(ISNA(VLOOKUP(C258,Master!BQ$61:CC$286,10,FALSE)),\"\",VLOOKUP(C258,Master!BQ$61:CC$286,10,FALSE))","v":""},null,null,{"$f":"IF(ISNA(VLOOKUP(C258,Master!BQ$61:CC$286,11,FALSE)),\"\",VLOOKUP(C258,Master!BQ$61:CC$286,11,FALSE))","v":""},{"$f":"IF(ISNA(VLOOKUP(C258,Master!BQ$61:CC$286,9,FALSE)),\"\",VLOOKUP(C258,Master!BQ$61:CC$286,9,FALSE))","v":""},0,0,0,0,0,0,"","","","","","",0,0,"",0,0,0,0,0,0,0,null,null,0,0,0,0,0,0,0,0,0,0,0,0,0,0,0,0,null,null,0,0,1,0,0,0,1,0,1,0,0,"",null,{"$f":"IF(I258=\"\",\"\",MAX($CD$229:$CD$236,$CD$239:CD257)+1)","v":""}]
["",2202,21,{"$f":"IF(ISNA(VLOOKUP(C259,Master!BQ$61:CC$286,3,FALSE)),\"\",VLOOKUP(C259,Master!BQ$61:CC$286,3,FALSE))","v":""},{"$f":"IF(ISNA(VLOOKUP(C259,Master!BQ$61:CC$286,7,FALSE)),\"\",VLOOKUP(C259,Master!BQ$61:CC$286,7,FALSE))","v":""},{"$f":"IF(ISNA(VLOOKUP(C259,Master!BQ$61:CC$286,8,FALSE)),\"\",VLOOKUP(C259,Master!BQ$61:CC$286,8,FALSE))","v":""},{"$f":"IF(ISNA(VLOOKUP(C259,Master!BQ$61:CC$286,4,FALSE)),\"\",VLOOKUP(C259,Master!BQ$61:CC$286,4,FALSE))","v":""},{"$f":"IF(ISNA(VLOOKUP(C259,Master!BQ$61:CC$286,5,FALSE)),\"\",VLOOKUP(C259,Master!BQ$61:CC$286,5,FALSE))","v":""},"","","","",{"$f":"IF(AND(H259=\"\"),\"\",VLOOKUP(D259,'Fix Pay'!$B$9:$K$116,10,0))","v":""},{"$f":"IF(AND(H259=\"\"),\"\",VLOOKUP(D259,'Fix Pay'!$B$9:$K$116,9,0))","v":""},"",{"$nulls":4},0,null,{"$f":"IF(ISNA(VLOOKUP(C259,Master!BQ$61:CC$286,10,FALSE)),\"\",VLOOKUP(C259,Master!BQ$61:CC$286,10,FALSE))","v":""},null,null,{"$f":"IF(ISNA(VLOOKUP(C259,Master!BQ$61:CC$286,11,FALSE)),\"\",VLOOKUP(C259,Master!BQ$61:CC$286,11,FALSE))","v":""},{"$f":"IF(ISNA(VLOOKUP(C259,Master!BQ$61:CC$286,9,FALSE)),\"\",VLOOKUP(C259,Master!BQ$61:CC$286,9,FALSE))","v":""},0,0,0,0,0,0,"","","","","","",0,0,"",0,0,0,0,0,0,0,null,null,0,0,0,0,0,0,0,0,0,0,0,0,0,0,0,0,null,null,0,0,1,0,0,0,1,0,1,0,0,"",null,{"$f":"IF(I259=\"\",\"\",MAX($CD$229:$CD$236,$CD$239:CD258)+1)","v":""}]
["",2202,22,{"$f":"IF(ISNA(VLOOKUP(C260,Master!BQ$61:CC$286,3,FALSE)),\"\",VLOOKUP(C260,Master!BQ$61:CC$286,3,FALSE))","v":""},{"$f":"IF(ISNA(VLOOKUP(C260,Master!BQ$61:CC$286,7,FALSE)),\"\",VLOOKUP(C260,Master!BQ$61:CC$286,7,FALSE))","v":""},{"$f":"IF(ISNA(VLOOKUP(C260,Master!BQ$61:CC$286,8,FALSE)),\"\",VLOOKUP(C260,Master!BQ$61:CC$286,8,FALSE))","v":""},{"$f":"IF(ISNA(VLOOKUP(C260,Master!BQ$61:CC$286,4,FALSE)),\"\",VLOOKUP(C260,Master!BQ$61:CC$286,4,FALSE))","v":""},{"$f":"IF(ISNA(VLOOKUP(C260,Master!BQ$61:CC$286,5,FALSE)),\"\",VLOOKUP(C260,Master!BQ$61:CC$286,5,FALSE))","v":""},"","","","",{"$f":"IF(AND(H260=\"\"),\"\",VLOOKUP(D260,'Fix Pay'!$B$9:$K$116,10,0))","v":""},{"$f":"IF(AND(H260=\"\"),\"\",VLOOKUP(D260,'Fix Pay'!$B$9:$K$116,9,0))","v":""},"",{"$nulls":4},0,null,{"$f":"IF(ISNA(VLOOKUP(C260,Master!BQ$61:CC$286,10,FALSE)),\"\",VLOOKUP(C260,Master!BQ$61:CC$286,10,FALSE))","v":""},null,null,{"$f":"IF(ISNA(VLOOKUP(C260,Master!BQ$61:CC$286,11,FALSE)),\"\",VLOOKUP(C260,Master!BQ$61:CC$286,11,FALSE))","v":""},{"$f":"IF(ISNA(VLOOKUP(C260,Master!BQ$61:CC$286,9,FALSE)),\"\",VLOOKUP(C260,Master!BQ$61:CC$286,9,FALSE))","v":""},0,0,0,0,0,0,"","","","","","",0,0,"",0,0,0,0,0,0,0,null,null,0,0,0,0,0,0,0,0,0,0,0,0,0,0,0,0,null,null,0,0,1,0,0,0,1,0,1,0,0,"",null,{"$f":"IF(I260=\"\",\"\",MAX($CD$229:$CD$236,$CD$239:CD259)+1)","v":""}]
["",2202,23,{"$f":"IF(ISNA(VLOOKUP(C261,Master!BQ$61:CC$286,3,FALSE)),\"\",VLOOKUP(C261,Master!BQ$61:CC$286,3,FALSE))","v":""},{"$f":"IF(ISNA(VLOOKUP(C261,Master!BQ$61:CC$286,7,FALSE)),\"\",VLOOKUP(C261,Master!BQ$61:CC$286,7,FALSE))","v":""},{"$f":"IF(ISNA(VLOOKUP(C261,Master!BQ$61:CC$286,8,FALSE)),\"\",VLOOKUP(C261,Master!BQ$61:CC$286,8,FALSE))","v":""},{"$f":"IF(ISNA(VLOOKUP(C261,Master!BQ$61:CC$286,4,FALSE)),\"\",VLOOKUP(C261,Master!BQ$61:CC$286,4,FALSE))","v":""},{"$f":"IF(ISNA(VLOOKUP(C261,Master!BQ$61:CC$286,5,FALSE)),\"\",VLOOKUP(C261,Master!BQ$61:CC$286,5,FALSE))","v":""},"","","","",{"$f":"IF(AND(H261=\"\"),\"\",VLOOKUP(D261,'Fix Pay'!$B$9:$K$116,10,0))","v":""},{"$f":"IF(AND(H261=\"\"),\"\",VLOOKUP(D261,'Fix Pay'!$B$9:$K$116,9,0))","v":""},"",{"$nulls":4},0,null,{"$f":"IF(ISNA(VLOOKUP(C261,Master!BQ$61:CC$286,10,FALSE)),\"\",VLOOKUP(C261,Master!BQ$61:CC$286,10,FALSE))","v":""},null,null,{"$f":"IF(ISNA(VLOOKUP(C261,Master!BQ$61:CC$286,11,FALSE)),\"\",VLOOKUP(C261,Master!BQ$61:CC$286,11,FALSE))","v":""},{"$f":"IF(ISNA(VLOOKUP(C261,Master!BQ$61:CC$286,9,FALSE)),\"\",VLOOKUP(C261,Master!BQ$61:CC$286,9,FALSE))","v":""},0,0,0,0,0,0,"","","","","","",0,0,"",0,0,0,0,0,0,0,null,null,0,0,0,0,0,0,0,0,0,0,0,0,0,0,0,0,null,null,0,0,1,0,0,0,1,0,1,0,0,"",null,{"$f":"IF(I261=\"\",\"\",MAX($CD$229:$CD$236,$CD$239:CD260)+1)","v":""}]
["",2202,24,{"$f":"IF(ISNA(VLOOKUP(C262,Master!BQ$61:CC$286,3,FALSE)),\"\",VLOOKUP(C262,Master!BQ$61:CC$286,3,FALSE))","v":""},{"$f":"IF(ISNA(VLOOKUP(C262,Master!BQ$61:CC$286,7,FALSE)),\"\",VLOOKUP(C262,Master!BQ$61:CC$286,7,FALSE))","v":""},{"$f":"IF(ISNA(VLOOKUP(C262,Master!BQ$61:CC$286,8,FALSE)),\"\",VLOOKUP(C262,Master!BQ$61:CC$286,8,FALSE))","v":""},{"$f":"IF(ISNA(VLOOKUP(C262,Master!BQ$61:CC$286,4,FALSE)),\"\",VLOOKUP(C262,Master!BQ$61:CC$286,4,FALSE))","v":""},{"$f":"IF(ISNA(VLOOKUP(C262,Master!BQ$61:CC$286,5,FALSE)),\"\",VLOOKUP(C262,Master!BQ$61:CC$286,5,FALSE))","v":""},"","","","",{"$f":"IF(AND(H262=\"\"),\"\",VLOOKUP(D262,'Fix Pay'!$B$9:$K$116,10,0))","v":""},{"$f":"IF(AND(H262=\"\"),\"\",VLOOKUP(D262,'Fix Pay'!$B$9:$K$116,9,0))","v":""},"",{"$nulls":4},0,null,{"$f":"IF(ISNA(VLOOKUP(C262,Master!BQ$61:CC$286,10,FALSE)),\"\",VLOOKUP(C262,Master!BQ$61:CC$286,10,FALSE))","v":""},null,null,{"$f":"IF(ISNA(VLOOKUP(C262,Master!BQ$61:CC$286,11,FALSE)),\"\",VLOOKUP(C262,Master!BQ$61:CC$286,11,FALSE))","v":""},{"$f":"IF(ISNA(VLOOKUP(C262,Master!BQ$61:CC$286,9,FALSE)),\"\",VLOOKUP(C262,Master!BQ$61:CC$286,9,FALSE))","v":""},0,0,0,0,0,0,"","","","","","",0,0,"",0,0,0,0,0,0,0,null,null,0,0,0,0,0,0,0,0,0,0,0,0,0,0,0,0,null,null,0,0,1,0,0,0,1,0,1,0,0,"",null,{"$f":"IF(I262=\"\",\"\",MAX($CD$229:$CD$236,$CD$239:CD261)+1)","v":""}]
["",2202,25,{"$f":"IF(ISNA(VLOOKUP(C263,Master!BQ$61:CC$286,3,FALSE)),\"\",VLOOKUP(C263,Master!BQ$61:CC$286,3,FALSE))","v":""},{"$f":"IF(ISNA(VLOOKUP(C263,Master!BQ$61:CC$286,7,FALSE)),\"\",VLOOKUP(C263,Master!BQ$61:CC$286,7,FALSE))","v":""},{"$f":"IF(ISNA(VLOOKUP(C263,Master!BQ$61:CC$286,8,FALSE)),\"\",VLOOKUP(C263,Master!BQ$61:CC$286,8,FALSE))","v":""},{"$f":"IF(ISNA(VLOOKUP(C263,Master!BQ$61:CC$286,4,FALSE)),\"\",VLOOKUP(C263,Master!BQ$61:CC$286,4,FALSE))","v":""},{"$f":"IF(ISNA(VLOOKUP(C263,Master!BQ$61:CC$286,5,FALSE)),\"\",VLOOKUP(C263,Master!BQ$61:CC$286,5,FALSE))","v":""},"","","","",{"$f":"IF(AND(H263=\"\"),\"\",VLOOKUP(D263,'Fix Pay'!$B$9:$K$116,10,0))","v":""},{"$f":"IF(AND(H263=\"\"),\"\",VLOOKUP(D263,'Fix Pay'!$B$9:$K$116,9,0))","v":""},"",{"$nulls":4},0,null,{"$f":"IF(ISNA(VLOOKUP(C263,Master!BQ$61:CC$286,10,FALSE)),\"\",VLOOKUP(C263,Master!BQ$61:CC$286,10,FALSE))","v":""},null,null,{"$f":"IF(ISNA(VLOOKUP(C263,Master!BQ$61:CC$286,11,FALSE)),\"\",VLOOKUP(C263,Master!BQ$61:CC$286,11,FALSE))","v":""},{"$f":"IF(ISNA(VLOOKUP(C263,Master!BQ$61:CC$286,9,FALSE)),\"\",VLOOKUP(C263,Master!BQ$61:CC$286,9,FALSE))","v":""},0,0,0,0,0,0,"","","","","","",0,0,"",0,0,0,0,0,0,0,null,null,0,0,0,0,0,0,0,0,0,0,0,0,0,0,0,0,null,null,0,0,1,0,0,0,1,0,1,0,0,"",null,{"$f":"IF(I263=\"\",\"\",MAX($CD$229:$CD$236,$CD$239:CD262)+1)","v":""}]
["",2202,26,{"$f":"IF(ISNA(VLOOKUP(C264,Master!BQ$61:CC$286,3,FALSE)),\"\",VLOOKUP(C264,Master!BQ$61:CC$286,3,FALSE))","v":""},{"$f":"IF(ISNA(VLOOKUP(C264,Master!BQ$61:CC$286,7,FALSE)),\"\",VLOOKUP(C264,Master!BQ$61:CC$286,7,FALSE))","v":""},{"$f":"IF(ISNA(VLOOKUP(C264,Master!BQ$61:CC$286,8,FALSE)),\"\",VLOOKUP(C264,Master!BQ$61:CC$286,8,FALSE))","v":""},{"$f":"IF(ISNA(VLOOKUP(C264,Master!BQ$61:CC$286,4,FALSE)),\"\",VLOOKUP(C264,Master!BQ$61:CC$286,4,FALSE))","v":""},{"$f":"IF(ISNA(VLOOKUP(C264,Master!BQ$61:CC$286,5,FALSE)),\"\",VLOOKUP(C264,Master!BQ$61:CC$286,5,FALSE))","v":""},"","","","",{"$f":"IF(AND(H264=\"\"),\"\",VLOOKUP(D264,'Fix Pay'!$B$9:$K$116,10,0))","v":""},{"$f":"IF(AND(H264=\"\"),\"\",VLOOKUP(D264,'Fix Pay'!$B$9:$K$116,9,0))","v":""},"",{"$nulls":4},0,null,{"$f":"IF(ISNA(VLOOKUP(C264,Master!BQ$61:CC$286,10,FALSE)),\"\",VLOOKUP(C264,Master!BQ$61:CC$286,10,FALSE))","v":""},null,null,{"$f":"IF(ISNA(VLOOKUP(C264,Master!BQ$61:CC$286,11,FALSE)),\"\",VLOOKUP(C264,Master!BQ$61:CC$286,11,FALSE))","v":""},{"$f":"IF(ISNA(VLOOKUP(C264,Master!BQ$61:CC$286,9,FALSE)),\"\",VLOOKUP(C264,Master!BQ$61:CC$286,9,FALSE))","v":""},0,0,0,0,0,0,"","","","","","",0,0,"",0,0,0,0,0,0,0,null,null,0,0,0,0,0,0,0,0,0,0,0,0,0,0,0,0,null,null,0,0,1,0,0,0,1,0,1,0,0,"",null,{"$f":"IF(I264=\"\",\"\",MAX($CD$229:$CD$236,$CD$239:CD263)+1)","v":""}]
["",2202,27,{"$f":"IF(ISNA(VLOOKUP(C265,Master!BQ$61:CC$286,3,FALSE)),\"\",VLOOKUP(C265,Master!BQ$61:CC$286,3,FALSE))","v":""},{"$f":"IF(ISNA(VLOOKUP(C265,Master!BQ$61:CC$286,7,FALSE)),\"\",VLOOKUP(C265,Master!BQ$61:CC$286,7,FALSE))","v":""},{"$f":"IF(ISNA(VLOOKUP(C265,Master!BQ$61:CC$286,8,FALSE)),\"\",VLOOKUP(C265,Master!BQ$61:CC$286,8,FALSE))","v":""},{"$f":"IF(ISNA(VLOOKUP(C265,Master!BQ$61:CC$286,4,FALSE)),\"\",VLOOKUP(C265,Master!BQ$61:CC$286,4,FALSE))","v":""},{"$f":"IF(ISNA(VLOOKUP(C265,Master!BQ$61:CC$286,5,FALSE)),\"\",VLOOKUP(C265,Master!BQ$61:CC$286,5,FALSE))","v":""},"","","","",{"$f":"IF(AND(H265=\"\"),\"\",VLOOKUP(D265,'Fix Pay'!$B$9:$K$116,10,0))","v":""},{"$f":"IF(AND(H265=\"\"),\"\",VLOOKUP(D265,'Fix Pay'!$B$9:$K$116,9,0))","v":""},"",{"$nulls":4},0,null,{"$f":"IF(ISNA(VLOOKUP(C265,Master!BQ$61:CC$286,10,FALSE)),\"\",VLOOKUP(C265,Master!BQ$61:CC$286,10,FALSE))","v":""},null,null,{"$f":"IF(ISNA(VLOOKUP(C265,Master!BQ$61:CC$286,11,FALSE)),\"\",VLOOKUP(C265,Master!BQ$61:CC$286,11,FALSE))","v":""},{"$f":"IF(ISNA(VLOOKUP(C265,Master!BQ$61:CC$286,9,FALSE)),\"\",VLOOKUP(C265,Master!BQ$61:CC$286,9,FALSE))","v":""},0,0,0,0,0,0,"","","","","","",0,0,"",0,0,0,0,0,0,0,null,null,0,0,0,0,0,0,0,0,0,0,0,0,0,0,0,0,null,null,0,0,1,0,0,0,1,0,1,0,0,"",null,{"$f":"IF(I265=\"\",\"\",MAX($CD$229:$CD$236,$CD$239:CD264)+1)","v":""}]
["",2202,28,{"$f":"IF(ISNA(VLOOKUP(C266,Master!BQ$61:CC$286,3,FALSE)),\"\",VLOOKUP(C266,Master!BQ$61:CC$286,3,FALSE))","v":""},{"$f":"IF(ISNA(VLOOKUP(C266,Master!BQ$61:CC$286,7,FALSE)),\"\",VLOOKUP(C266,Master!BQ$61:CC$286,7,FALSE))","v":""},{"$f":"IF(ISNA(VLOOKUP(C266,Master!BQ$61:CC$286,8,FALSE)),\"\",VLOOKUP(C266,Master!BQ$61:CC$286,8,FALSE))","v":""},{"$f":"IF(ISNA(VLOOKUP(C266,Master!BQ$61:CC$286,4,FALSE)),\"\",VLOOKUP(C266,Master!BQ$61:CC$286,4,FALSE))","v":""},{"$f":"IF(ISNA(VLOOKUP(C266,Master!BQ$61:CC$286,5,FALSE)),\"\",VLOOKUP(C266,Master!BQ$61:CC$286,5,FALSE))","v":""},"","","","",{"$f":"IF(AND(H266=\"\"),\"\",VLOOKUP(D266,'Fix Pay'!$B$9:$K$116,10,0))","v":""},{"$f":"IF(AND(H266=\"\"),\"\",VLOOKUP(D266,'Fix Pay'!$B$9:$K$116,9,0))","v":""},"",{"$nulls":4},0,null,{"$f":"IF(ISNA(VLOOKUP(C266,Master!BQ$61:CC$286,10,FALSE)),\"\",VLOOKUP(C266,Master!BQ$61:CC$286,10,FALSE))","v":""},null,null,{"$f":"IF(ISNA(VLOOKUP(C266,Master!BQ$61:CC$286,11,FALSE)),\"\",VLOOKUP(C266,Master!BQ$61:CC$286,11,FALSE))","v":""},{"$f":"IF(ISNA(VLOOKUP(C266,Master!BQ$61:CC$286,9,FALSE)),\"\",VLOOKUP(C266,Master!BQ$61:CC$286,9,FALSE))","v":""},0,0,0,0,0,0,"","","","","","",0,0,"",0,0,0,0,0,0,0,null,null,0,0,0,0,0,0,0,0,0,0,0,0,0,0,0,0,null,null,0,0,1,0,0,0,1,0,1,0,0,"",null,{"$f":"IF(I266=\"\",\"\",MAX($CD$229:$CD$236,$CD$239:CD265)+1)","v":""}]
["",2202,29,{"$f":"IF(ISNA(VLOOKUP(C267,Master!BQ$61:CC$286,3,FALSE)),\"\",VLOOKUP(C267,Master!BQ$61:CC$286,3,FALSE))","v":""},{"$f":"IF(ISNA(VLOOKUP(C267,Master!BQ$61:CC$286,7,FALSE)),\"\",VLOOKUP(C267,Master!BQ$61:CC$286,7,FALSE))","v":""},{"$f":"IF(ISNA(VLOOKUP(C267,Master!BQ$61:CC$286,8,FALSE)),\"\",VLOOKUP(C267,Master!BQ$61:CC$286,8,FALSE))","v":""},{"$f":"IF(ISNA(VLOOKUP(C267,Master!BQ$61:CC$286,4,FALSE)),\"\",VLOOKUP(C267,Master!BQ$61:CC$286,4,FALSE))","v":""},{"$f":"IF(ISNA(VLOOKUP(C267,Master!BQ$61:CC$286,5,FALSE)),\"\",VLOOKUP(C267,Master!BQ$61:CC$286,5,FALSE))","v":""},"","","","",{"$f":"IF(AND(H267=\"\"),\"\",VLOOKUP(D267,'Fix Pay'!$B$9:$K$116,10,0))","v":""},{"$f":"IF(AND(H267=\"\"),\"\",VLOOKUP(D267,'Fix Pay'!$B$9:$K$116,9,0))","v":""},"",{"$nulls":4},0,null,{"$f":"IF(ISNA(VLOOKUP(C267,Master!BQ$61:CC$286,10,FALSE)),\"\",VLOOKUP(C267,Master!BQ$61:CC$286,10,FALSE))","v":""},null,null,{"$f":"IF(ISNA(VLOOKUP(C267,Master!BQ$61:CC$286,11,FALSE)),\"\",VLOOKUP(C267,Master!BQ$61:CC$286,11,FALSE))","v":""},{"$f":"IF(ISNA(VLOOKUP(C267,Master!BQ$61:CC$286,9,FALSE)),\"\",VLOOKUP(C267,Master!BQ$61:CC$286,9,FALSE))","v":""},0,0,0,0,0,0,"","","","","","",0,0,"",0,0,0,0,0,0,0,null,null,0,0,0,0,0,0,0,0,0,0,0,0,0,0,0,0,null,null,0,0,1,0,0,0,1,0,1,0,0,"",null,{"$f":"IF(I267=\"\",\"\",MAX($CD$229:$CD$236,$CD$239:CD266)+1)","v":""}]
["",2202,30,{"$f":"IF(ISNA(VLOOKUP(C268,Master!BQ$61:CC$286,3,FALSE)),\"\",VLOOKUP(C268,Master!BQ$61:CC$286,3,FALSE))","v":""},{"$f":"IF(ISNA(VLOOKUP(C268,Master!BQ$61:CC$286,7,FALSE)),\"\",VLOOKUP(C268,Master!BQ$61:CC$286,7,FALSE))","v":""},{"$f":"IF(ISNA(VLOOKUP(C268,Master!BQ$61:CC$286,8,FALSE)),\"\",VLOOKUP(C268,Master!BQ$61:CC$286,8,FALSE))","v":""},{"$f":"IF(ISNA(VLOOKUP(C268,Master!BQ$61:CC$286,4,FALSE)),\"\",VLOOKUP(C268,Master!BQ$61:CC$286,4,FALSE))","v":""},{"$f":"IF(ISNA(VLOOKUP(C268,Master!BQ$61:CC$286,5,FALSE)),\"\",VLOOKUP(C268,Master!BQ$61:CC$286,5,FALSE))","v":""},"","","","",{"$f":"IF(AND(H268=\"\"),\"\",VLOOKUP(D268,'Fix Pay'!$B$9:$K$116,10,0))","v":""},{"$f":"IF(AND(H268=\"\"),\"\",VLOOKUP(D268,'Fix Pay'!$B$9:$K$116,9,0))","v":""},"",{"$nulls":4},0,null,{"$f":"IF(ISNA(VLOOKUP(C268,Master!BQ$61:CC$286,10,FALSE)),\"\",VLOOKUP(C268,Master!BQ$61:CC$286,10,FALSE))","v":""},null,null,{"$f":"IF(ISNA(VLOOKUP(C268,Master!BQ$61:CC$286,11,FALSE)),\"\",VLOOKUP(C268,Master!BQ$61:CC$286,11,FALSE))","v":""},{"$f":"IF(ISNA(VLOOKUP(C268,Master!BQ$61:CC$286,9,FALSE)),\"\",VLOOKUP(C268,Master!BQ$61:CC$286,9,FALSE))","v":""},0,0,0,0,0,0,"","","","","","",0,0,"",0,0,0,0,0,0,0,null,null,0,0,0,0,0,0,0,0,0,0,0,0,0,0,0,0,null,null,0,0,1,0,0,0,1,0,1,0,0,"",null,{"$f":"IF(I268=\"\",\"\",MAX($CD$229:$CD$236,$CD$239:CD267)+1)","v":""}]
["",2202,31,{"$f":"IF(ISNA(VLOOKUP(C269,Master!BQ$61:CC$286,3,FALSE)),\"\",VLOOKUP(C269,Master!BQ$61:CC$286,3,FALSE))","v":""},{"$f":"IF(ISNA(VLOOKUP(C269,Master!BQ$61:CC$286,7,FALSE)),\"\",VLOOKUP(C269,Master!BQ$61:CC$286,7,FALSE))","v":""},{"$f":"IF(ISNA(VLOOKUP(C269,Master!BQ$61:CC$286,8,FALSE)),\"\",VLOOKUP(C269,Master!BQ$61:CC$286,8,FALSE))","v":""},{"$f":"IF(ISNA(VLOOKUP(C269,Master!BQ$61:CC$286,4,FALSE)),\"\",VLOOKUP(C269,Master!BQ$61:CC$286,4,FALSE))","v":""},{"$f":"IF(ISNA(VLOOKUP(C269,Master!BQ$61:CC$286,5,FALSE)),\"\",VLOOKUP(C269,Master!BQ$61:CC$286,5,FALSE))","v":""},"","","","",{"$f":"IF(AND(H269=\"\"),\"\",VLOOKUP(D269,'Fix Pay'!$B$9:$K$116,10,0))","v":""},{"$f":"IF(AND(H269=\"\"),\"\",VLOOKUP(D269,'Fix Pay'!$B$9:$K$116,9,0))","v":""},"",{"$nulls":4},0,null,{"$f":"IF(ISNA(VLOOKUP(C269,Master!BQ$61:CC$286,10,FALSE)),\"\",VLOOKUP(C269,Master!BQ$61:CC$286,10,FALSE))","v":""},null,null,{"$f":"IF(ISNA(VLOOKUP(C269,Master!BQ$61:CC$286,11,FALSE)),\"\",VLOOKUP(C269,Master!BQ$61:CC$286,11,FALSE))","v":""},{"$f":"IF(ISNA(VLOOKUP(C269,Master!BQ$61:CC$286,9,FALSE)),\"\",VLOOKUP(C269,Master!BQ$61:CC$286,9,FALSE))","v":""},0,0,0,0,0,0,"","","","","","",0,0,"",0,0,0,0,0,0,0,null,null,0,0,0,0,0,0,0,0,0,0,0,0,0,0,0,0,null,null,0,0,1,0,0,0,1,0,1,0,0,"",null,{"$f":"IF(I269=\"\",\"\",MAX($CD$229:$CD$236,$CD$239:CD268)+1)","v":""}]
["",2202,32,{"$f":"IF(ISNA(VLOOKUP(C270,Master!BQ$61:CC$286,3,FALSE)),\"\",VLOOKUP(C270,Master!BQ$61:CC$286,3,FALSE))","v":""},{"$f":"IF(ISNA(VLOOKUP(C270,Master!BQ$61:CC$286,7,FALSE)),\"\",VLOOKUP(C270,Master!BQ$61:CC$286,7,FALSE))","v":""},{"$f":"IF(ISNA(VLOOKUP(C270,Master!BQ$61:CC$286,8,FALSE)),\"\",VLOOKUP(C270,Master!BQ$61:CC$286,8,FALSE))","v":""},{"$f":"IF(ISNA(VLOOKUP(C270,Master!BQ$61:CC$286,4,FALSE)),\"\",VLOOKUP(C270,Master!BQ$61:CC$286,4,FALSE))","v":""},{"$f":"IF(ISNA(VLOOKUP(C270,Master!BQ$61:CC$286,5,FALSE)),\"\",VLOOKUP(C270,Master!BQ$61:CC$286,5,FALSE))","v":""},"","","","",{"$f":"IF(AND(H270=\"\"),\"\",VLOOKUP(D270,'Fix Pay'!$B$9:$K$116,10,0))","v":""},{"$f":"IF(AND(H270=\"\"),\"\",VLOOKUP(D270,'Fix Pay'!$B$9:$K$116,9,0))","v":""},"",{"$nulls":4},0,null,{"$f":"IF(ISNA(VLOOKUP(C270,Master!BQ$61:CC$286,10,FALSE)),\"\",VLOOKUP(C270,Master!BQ$61:CC$286,10,FALSE))","v":""},null,null,{"$f":"IF(ISNA(VLOOKUP(C270,Master!BQ$61:CC$286,11,FALSE)),\"\",VLOOKUP(C270,Master!BQ$61:CC$286,11,FALSE))","v":""},{"$f":"IF(ISNA(VLOOKUP(C270,Master!BQ$61:CC$286,9,FALSE)),\"\",VLOOKUP(C270,Master!BQ$61:CC$286,9,FALSE))","v":""},0,0,0,0,0,0,"","","","","","",0,0,"",0,0,0,0,{"$f":"(IF(G270=\"LAB BOY\",180,IF(G270=\"JAMADAR\",180,IF(G270=\"PEON\",180,0))))*12*BV270*(IF(I270<=0,0,1))","v":0},0,0,null,null,0,0,0,0,0,0,0,0,0,0,0,0,0,0,0,0,null,null,0,0,1,0,0,0,1,0,1,0,0,"",null,{"$f":"IF(I270=\"\",\"\",MAX($CD$229:$CD$236,$CD$239:CD269)+1)","v":""}]
["",2202,33,{"$f":"IF(ISNA(VLOOKUP(C271,Master!BQ$61:CC$286,3,FALSE)),\"\",VLOOKUP(C271,Master!BQ$61:CC$286,3,FALSE))","v":""},{"$f":"IF(ISNA(VLOOKUP(C271,Master!BQ$61:CC$286,7,FALSE)),\"\",VLOOKUP(C271,Master!BQ$61:CC$286,7,FALSE))","v":""},{"$f":"IF(ISNA(VLOOKUP(C271,Master!BQ$61:CC$286,8,FALSE)),\"\",VLOOKUP(C271,Master!BQ$61:CC$286,8,FALSE))","v":""},{"$f":"IF(ISNA(VLOOKUP(C271,Master!BQ$61:CC$286,4,FALSE)),\"\",VLOOKUP(C271,Master!BQ$61:CC$286,4,FALSE))","v":""},{"$f":"IF(ISNA(VLOOKUP(C271,Master!BQ$61:CC$286,5,FALSE)),\"\",VLOOKUP(C271,Master!BQ$61:CC$286,5,FALSE))","v":""},"","","","",{"$f":"IF(AND(H271=\"\"),\"\",VLOOKUP(D271,'Fix Pay'!$B$9:$K$116,10,0))","v":""},{"$f":"IF(AND(H271=\"\"),\"\",VLOOKUP(D271,'Fix Pay'!$B$9:$K$116,9,0))","v":""},"",{"$nulls":4},0,null,{"$f":"IF(ISNA(VLOOKUP(C271,Master!BQ$61:CC$286,10,FALSE)),\"\",VLOOKUP(C271,Master!BQ$61:CC$286,10,FALSE))","v":""},null,null,{"$f":"IF(ISNA(VLOOKUP(C271,Master!BQ$61:CC$286,11,FALSE)),\"\",VLOOKUP(C271,Master!BQ$61:CC$286,11,FALSE))","v":""},{"$f":"IF(ISNA(VLOOKUP(C271,Master!BQ$61:CC$286,9,FALSE)),\"\",VLOOKUP(C271,Master!BQ$61:CC$286,9,FALSE))","v":""},0,0,0,0,0,0,"","","","","","",0,0,"",0,0,0,0,0,0,0,null,null,0,0,0,0,0,0,0,0,0,0,0,0,0,0,0,0,null,null,0,0,1,0,0,0,1,{"$f":"IF((ROUND((SUMPRODUCT(MID(0&E271,LARGE(INDEX(ISNUMBER(--MID(E271,ROW($1:$25),1))* ROW($1:$25),0),ROW($1:$25))+1,1)*10^ROW($1:$25)/10)),-8)/100000000)>=2004,1,0)","v":0},1,0,0,{"$f":"IF(AND(E271=\"\"),\"\",IF(AND(E271<=0),\"\",IF((ROUND((SUMPRODUCT(MID(0&E271,LARGE(INDEX(ISNUMBER(--MID(E271,ROW($1:$70),1))* ROW($1:$70),0),ROW($1:$70))+1,1)*10^ROW($1:$70)/10)),-8)/100000000)<2004,1,0)))","v":""},null,{"$f":"IF(I271=\"\",\"\",MAX($CD$229:$CD$236,$CD$239:CD270)+1)","v":""}]
["",2202,34,{"$f":"IF(ISNA(VLOOKUP(C272,Master!BQ$61:CC$286,3,FALSE)),\"\",VLOOKUP(C272,Master!BQ$61:CC$286,3,FALSE))","v":""},{"$f":"IF(ISNA(VLOOKUP(C272,Master!BQ$61:CC$286,7,FALSE)),\"\",VLOOKUP(C272,Master!BQ$61:CC$286,7,FALSE))","v":""},{"$f":"IF(ISNA(VLOOKUP(C272,Master!BQ$61:CC$286,8,FALSE)),\"\",VLOOKUP(C272,Master!BQ$61:CC$286,8,FALSE))","v":""},{"$f":"IF(ISNA(VLOOKUP(C272,Master!BQ$61:CC$286,4,FALSE)),\"\",VLOOKUP(C272,Master!BQ$61:CC$286,4,FALSE))","v":""},{"$f":"IF(ISNA(VLOOKUP(C272,Master!BQ$61:CC$286,5,FALSE)),\"\",VLOOKUP(C272,Master!BQ$61:CC$286,5,FALSE))","v":""},"","","","",{"$f":"IF(AND(H272=\"\"),\"\",VLOOKUP(D272,'Fix Pay'!$B$9:$K$116,10,0))","v":""},{"$f":"IF(AND(H272=\"\"),\"\",VLOOKUP(D272,'Fix Pay'!$B$9:$K$116,9,0))","v":""},"",{"$nulls":4},0,null,{"$f":"IF(ISNA(VLOOKUP(C272,Master!BQ$61:CC$286,10,FALSE)),\"\",VLOOKUP(C272,Master!BQ$61:CC$286,10,FALSE))","v":""},null,null,{"$f":"IF(ISNA(VLOOKUP(C272,Master!BQ$61:CC$286,11,FALSE)),\"\",VLOOKUP(C272,Master!BQ$61:CC$286,11,FALSE))","v":""},{"$f":"IF(ISNA(VLOOKUP(C272,Master!BQ$61:CC$286,9,FALSE)),\"\",VLOOKUP(C272,Master!BQ$61:CC$286,9,FALSE))","v":""},0,0,0,0,0,0,"","","","","","",0,0,"",0,0,0,0,0,0,0,null,null,0,0,0,0,0,0,0,0,0,0,0,0,0,0,0,0,null,null,0,0,1,0,0,0,1,0,1,0,0,"",null,{"$f":"IF(I272=\"\",\"\",MAX($CD$229:$CD$236,$CD$239:CD271)+1)","v":""}]
["",2202,35,{"$f":"IF(ISNA(VLOOKUP(C273,Master!BQ$61:CC$286,3,FALSE)),\"\",VLOOKUP(C273,Master!BQ$61:CC$286,3,FALSE))","v":""},{"$f":"IF(ISNA(VLOOKUP(C273,Master!BQ$61:CC$286,7,FALSE)),\"\",VLOOKUP(C273,Master!BQ$61:CC$286,7,FALSE))","v":""},{"$f":"IF(ISNA(VLOOKUP(C273,Master!BQ$61:CC$286,8,FALSE)),\"\",VLOOKUP(C273,Master!BQ$61:CC$286,8,FALSE))","v":""},{"$f":"IF(ISNA(VLOOKUP(C273,Master!BQ$61:CC$286,4,FALSE)),\"\",VLOOKUP(C273,Master!BQ$61:CC$286,4,FALSE))","v":""},{"$f":"IF(ISNA(VLOOKUP(C273,Master!BQ$61:CC$286,5,FALSE)),\"\",VLOOKUP(C273,Master!BQ$61:CC$286,5,FALSE))","v":""},"","","","",{"$f":"IF(AND(H273=\"\"),\"\",VLOOKUP(D273,'Fix Pay'!$B$9:$K$116,10,0))","v":""},{"$f":"IF(AND(H273=\"\"),\"\",VLOOKUP(D273,'Fix Pay'!$B$9:$K$116,9,0))","v":""},"",{"$nulls":4},0,null,{"$f":"IF(ISNA(VLOOKUP(C273,Master!BQ$61:CC$286,10,FALSE)),\"\",VLOOKUP(C273,Master!BQ$61:CC$286,10,FALSE))","v":""},null,null,{"$f":"IF(ISNA(VLOOKUP(C273,Master!BQ$61:CC$286,11,FALSE)),\"\",VLOOKUP(C273,Master!BQ$61:CC$286,11,FALSE))","v":""},{"$f":"IF(ISNA(VLOOKUP(C273,Master!BQ$61:CC$286,9,FALSE)),\"\",VLOOKUP(C273,Master!BQ$61:CC$286,9,FALSE))","v":""},0,0,0,0,0,0,"","","","","","",0,0,"",0,0,0,0,0,0,0,null,null,0,0,0,0,0,0,0,0,0,0,0,0,0,0,0,0,null,null,0,0,1,0,0,0,1,0,1,0,0,"",null,{"$f":"IF(I273=\"\",\"\",MAX($CD$229:$CD$236,$CD$239:CD272)+1)","v":""}]
["",2202,36,{"$f":"IF(ISNA(VLOOKUP(C274,Master!BQ$61:CC$286,3,FALSE)),\"\",VLOOKUP(C274,Master!BQ$61:CC$286,3,FALSE))","v":""},{"$f":"IF(ISNA(VLOOKUP(C274,Master!BQ$61:CC$286,7,FALSE)),\"\",VLOOKUP(C274,Master!BQ$61:CC$286,7,FALSE))","v":""},{"$f":"IF(ISNA(VLOOKUP(C274,Master!BQ$61:CC$286,8,FALSE)),\"\",VLOOKUP(C274,Master!BQ$61:CC$286,8,FALSE))","v":""},{"$f":"IF(ISNA(VLOOKUP(C274,Master!BQ$61:CC$286,4,FALSE)),\"\",VLOOKUP(C274,Master!BQ$61:CC$286,4,FALSE))","v":""},{"$f":"IF(ISNA(VLOOKUP(C274,Master!BQ$61:CC$286,5,FALSE)),\"\",VLOOKUP(C274,Master!BQ$61:CC$286,5,FALSE))","v":""},"","","","",{"$f":"IF(AND(H274=\"\"),\"\",VLOOKUP(D274,'Fix Pay'!$B$9:$K$116,10,0))","v":""},{"$f":"IF(AND(H274=\"\"),\"\",VLOOKUP(D274,'Fix Pay'!$B$9:$K$116,9,0))","v":""},"",{"$nulls":4},0,null,{"$f":"IF(ISNA(VLOOKUP(C274,Master!BQ$61:CC$286,10,FALSE)),\"\",VLOOKUP(C274,Master!BQ$61:CC$286,10,FALSE))","v":""},null,null,{"$f":"IF(ISNA(VLOOKUP(C274,Master!BQ$61:CC$286,11,FALSE)),\"\",VLOOKUP(C274,Master!BQ$61:CC$286,11,FALSE))","v":""},{"$f":"IF(ISNA(VLOOKUP(C274,Master!BQ$61:CC$286,9,FALSE)),\"\",VLOOKUP(C274,Master!BQ$61:CC$286,9,FALSE))","v":""},0,0,0,0,0,0,"","","","","","",0,0,"",0,0,0,0,0,0,0,null,null,0,0,0,0,0,0,0,0,0,0,0,0,0,0,0,0,null,null,0,0,1,0,0,0,1,0,1,0,0,"",null,{"$f":"IF(I274=\"\",\"\",MAX($CD$229:$CD$236,$CD$239:CD273)+1)","v":""}]
["",2202,37,{"$f":"IF(ISNA(VLOOKUP(C275,Master!BQ$61:CC$286,3,FALSE)),\"\",VLOOKUP(C275,Master!BQ$61:CC$286,3,FALSE))","v":""},{"$f":"IF(ISNA(VLOOKUP(C275,Master!BQ$61:CC$286,7,FALSE)),\"\",VLOOKUP(C275,Master!BQ$61:CC$286,7,FALSE))","v":""},{"$f":"IF(ISNA(VLOOKUP(C275,Master!BQ$61:CC$286,8,FALSE)),\"\",VLOOKUP(C275,Master!BQ$61:CC$286,8,FALSE))","v":""},{"$f":"IF(ISNA(VLOOKUP(C275,Master!BQ$61:CC$286,4,FALSE)),\"\",VLOOKUP(C275,Master!BQ$61:CC$286,4,FALSE))","v":""},{"$f":"IF(ISNA(VLOOKUP(C275,Master!BQ$61:CC$286,5,FALSE)),\"\",VLOOKUP(C275,Master!BQ$61:CC$286,5,FALSE))","v":""},"","","","",{"$f":"IF(AND(H275=\"\"),\"\",VLOOKUP(D275,'Fix Pay'!$B$9:$K$116,10,0))","v":""},{"$f":"IF(AND(H275=\"\"),\"\",VLOOKUP(D275,'Fix Pay'!$B$9:$K$116,9,0))","v":""},"",{"$nulls":4},0,null,{"$f":"IF(ISNA(VLOOKUP(C275,Master!BQ$61:CC$286,10,FALSE)),\"\",VLOOKUP(C275,Master!BQ$61:CC$286,10,FALSE))","v":""},null,null,{"$f":"IF(ISNA(VLOOKUP(C275,Master!BQ$61:CC$286,11,FALSE)),\"\",VLOOKUP(C275,Master!BQ$61:CC$286,11,FALSE))","v":""},{"$f":"IF(ISNA(VLOOKUP(C275,Master!BQ$61:CC$286,9,FALSE)),\"\",VLOOKUP(C275,Master!BQ$61:CC$286,9,FALSE))","v":""},0,0,0,0,0,0,"","","","","","",0,0,"",0,0,0,0,0,0,0,null,null,0,0,0,0,0,0,0,0,0,0,0,0,0,0,0,0,null,null,0,0,1,0,0,0,1,0,1,0,0,"",null,{"$f":"IF(I275=\"\",\"\",MAX($CD$229:$CD$236,$CD$239:CD274)+1)","v":""}]
["",2202,38,{"$f":"IF(ISNA(VLOOKUP(C276,Master!BQ$61:CC$286,3,FALSE)),\"\",VLOOKUP(C276,Master!BQ$61:CC$286,3,FALSE))","v":""},{"$f":"IF(ISNA(VLOOKUP(C276,Master!BQ$61:CC$286,7,FALSE)),\"\",VLOOKUP(C276,Master!BQ$61:CC$286,7,FALSE))","v":""},{"$f":"IF(ISNA(VLOOKUP(C276,Master!BQ$61:CC$286,8,FALSE)),\"\",VLOOKUP(C276,Master!BQ$61:CC$286,8,FALSE))","v":""},{"$f":"IF(ISNA(VLOOKUP(C276,Master!BQ$61:CC$286,4,FALSE)),\"\",VLOOKUP(C276,Master!BQ$61:CC$286,4,FALSE))","v":""},{"$f":"IF(ISNA(VLOOKUP(C276,Master!BQ$61:CC$286,5,FALSE)),\"\",VLOOKUP(C276,Master!BQ$61:CC$286,5,FALSE))","v":""},"","","","",{"$f":"IF(AND(H276=\"\"),\"\",VLOOKUP(D276,'Fix Pay'!$B$9:$K$116,10,0))","v":""},{"$f":"IF(AND(H276=\"\"),\"\",VLOOKUP(D276,'Fix Pay'!$B$9:$K$116,9,0))","v":""},"",{"$nulls":4},0,null,{"$f":"IF(ISNA(VLOOKUP(C276,Master!BQ$61:CC$286,10,FALSE)),\"\",VLOOKUP(C276,Master!BQ$61:CC$286,10,FALSE))","v":""},null,null,{"$f":"IF(ISNA(VLOOKUP(C276,Master!BQ$61:CC$286,11,FALSE)),\"\",VLOOKUP(C276,Master!BQ$61:CC$286,11,FALSE))","v":""},{"$f":"IF(ISNA(VLOOKUP(C276,Master!BQ$61:CC$286,9,FALSE)),\"\",VLOOKUP(C276,Master!BQ$61:CC$286,9,FALSE))","v":""},0,0,0,0,0,0,"","","","","","",0,0,"",0,0,0,0,0,0,0,null,null,0,0,0,0,0,0,0,0,0,0,0,0,0,0,0,0,null,null,0,0,1,0,0,0,1,0,1,0,0,"",null,{"$f":"IF(I276=\"\",\"\",MAX($CD$229:$CD$236,$CD$239:CD275)+1)","v":""}]
["",2202,39,{"$f":"IF(ISNA(VLOOKUP(C277,Master!BQ$61:CC$286,3,FALSE)),\"\",VLOOKUP(C277,Master!BQ$61:CC$286,3,FALSE))","v":""},{"$f":"IF(ISNA(VLOOKUP(C277,Master!BQ$61:CC$286,7,FALSE)),\"\",VLOOKUP(C277,Master!BQ$61:CC$286,7,FALSE))","v":""},{"$f":"IF(ISNA(VLOOKUP(C277,Master!BQ$61:CC$286,8,FALSE)),\"\",VLOOKUP(C277,Master!BQ$61:CC$286,8,FALSE))","v":""},{"$f":"IF(ISNA(VLOOKUP(C277,Master!BQ$61:CC$286,4,FALSE)),\"\",VLOOKUP(C277,Master!BQ$61:CC$286,4,FALSE))","v":""},{"$f":"IF(ISNA(VLOOKUP(C277,Master!BQ$61:CC$286,5,FALSE)),\"\",VLOOKUP(C277,Master!BQ$61:CC$286,5,FALSE))","v":""},"","","","",{"$f":"IF(AND(H277=\"\"),\"\",VLOOKUP(D277,'Fix Pay'!$B$9:$K$116,10,0))","v":""},{"$f":"IF(AND(H277=\"\"),\"\",VLOOKUP(D277,'Fix Pay'!$B$9:$K$116,9,0))","v":""},"",{"$nulls":4},0,null,{"$f":"IF(ISNA(VLOOKUP(C277,Master!BQ$61:CC$286,10,FALSE)),\"\",VLOOKUP(C277,Master!BQ$61:CC$286,10,FALSE))","v":""},null,null,{"$f":"IF(ISNA(VLOOKUP(C277,Master!BQ$61:CC$286,11,FALSE)),\"\",VLOOKUP(C277,Master!BQ$61:CC$286,11,FALSE))","v":""},{"$f":"IF(ISNA(VLOOKUP(C277,Master!BQ$61:CC$286,9,FALSE)),\"\",VLOOKUP(C277,Master!BQ$61:CC$286,9,FALSE))","v":""},0,0,0,0,0,0,"","","","","","",0,0,"",0,0,0,0,0,0,0,null,null,0,0,0,0,0,0,0,0,0,0,0,0,0,0,0,0,null,null,0,0,1,0,0,0,1,0,1,0,0,"",null,{"$f":"IF(I277=\"\",\"\",MAX($CD$229:$CD$236,$CD$239:CD276)+1)","v":""}]
["",2202,40,{"$f":"IF(ISNA(VLOOKUP(C278,Master!BQ$61:CC$286,3,FALSE)),\"\",VLOOKUP(C278,Master!BQ$61:CC$286,3,FALSE))","v":""},{"$f":"IF(ISNA(VLOOKUP(C278,Master!BQ$61:CC$286,7,FALSE)),\"\",VLOOKUP(C278,Master!BQ$61:CC$286,7,FALSE))","v":""},{"$f":"IF(ISNA(VLOOKUP(C278,Master!BQ$61:CC$286,8,FALSE)),\"\",VLOOKUP(C278,Master!BQ$61:CC$286,8,FALSE))","v":""},{"$f":"IF(ISNA(VLOOKUP(C278,Master!BQ$61:CC$286,4,FALSE)),\"\",VLOOKUP(C278,Master!BQ$61:CC$286,4,FALSE))","v":""},{"$f":"IF(ISNA(VLOOKUP(C278,Master!BQ$61:CC$286,5,FALSE)),\"\",VLOOKUP(C278,Master!BQ$61:CC$286,5,FALSE))","v":""},"","","","",{"$f":"IF(AND(H278=\"\"),\"\",VLOOKUP(D278,'Fix Pay'!$B$9:$K$116,10,0))","v":""},{"$f":"IF(AND(H278=\"\"),\"\",VLOOKUP(D278,'Fix Pay'!$B$9:$K$116,9,0))","v":""},"",{"$nulls":4},0,null,{"$f":"IF(ISNA(VLOOKUP(C278,Master!BQ$61:CC$286,10,FALSE)),\"\",VLOOKUP(C278,Master!BQ$61:CC$286,10,FALSE))","v":""},null,null,{"$f":"IF(ISNA(VLOOKUP(C278,Master!BQ$61:CC$286,11,FALSE)),\"\",VLOOKUP(C278,Master!BQ$61:CC$286,11,FALSE))","v":""},{"$f":"IF(ISNA(VLOOKUP(C278,Master!BQ$61:CC$286,9,FALSE)),\"\",VLOOKUP(C278,Master!BQ$61:CC$286,9,FALSE))","v":""},0,0,0,0,0,0,"","","","","","",0,0,"",0,0,0,0,0,0,0,null,null,0,0,0,0,0,0,0,0,0,0,0,0,0,0,0,0,null,null,0,0,1,0,0,0,1,0,1,0,0,"",null,{"$f":"IF(I278=\"\",\"\",MAX($CD$229:$CD$236,$CD$239:CD277)+1)","v":""}]
["",2202,41,{"$f":"IF(ISNA(VLOOKUP(C279,Master!BQ$61:CC$286,3,FALSE)),\"\",VLOOKUP(C279,Master!BQ$61:CC$286,3,FALSE))","v":""},{"$f":"IF(ISNA(VLOOKUP(C279,Master!BQ$61:CC$286,7,FALSE)),\"\",VLOOKUP(C279,Master!BQ$61:CC$286,7,FALSE))","v":""},{"$f":"IF(ISNA(VLOOKUP(C279,Master!BQ$61:CC$286,8,FALSE)),\"\",VLOOKUP(C279,Master!BQ$61:CC$286,8,FALSE))","v":""},{"$f":"IF(ISNA(VLOOKUP(C279,Master!BQ$61:CC$286,4,FALSE)),\"\",VLOOKUP(C279,Master!BQ$61:CC$286,4,FALSE))","v":""},{"$f":"IF(ISNA(VLOOKUP(C279,Master!BQ$61:CC$286,5,FALSE)),\"\",VLOOKUP(C279,Master!BQ$61:CC$286,5,FALSE))","v":""},"","","","",{"$f":"IF(AND(H279=\"\"),\"\",VLOOKUP(D279,'Fix Pay'!$B$9:$K$116,10,0))","v":""},{"$f":"IF(AND(H279=\"\"),\"\",VLOOKUP(D279,'Fix Pay'!$B$9:$K$116,9,0))","v":""},"",{"$nulls":4},0,null,{"$f":"IF(ISNA(VLOOKUP(C279,Master!BQ$61:CC$286,10,FALSE)),\"\",VLOOKUP(C279,Master!BQ$61:CC$286,10,FALSE))","v":""},null,null,{"$f":"IF(ISNA(VLOOKUP(C279,Master!BQ$61:CC$286,11,FALSE)),\"\",VLOOKUP(C279,Master!BQ$61:CC$286,11,FALSE))","v":""},{"$f":"IF(ISNA(VLOOKUP(C279,Master!BQ$61:CC$286,9,FALSE)),\"\",VLOOKUP(C279,Master!BQ$61:CC$286,9,FALSE))","v":""},0,0,0,0,0,0,"","","","","","",0,0,"",0,0,0,0,0,0,0,null,null,0,0,0,0,0,0,0,0,0,0,0,0,0,0,0,0,null,null,0,0,1,0,0,0,1,0,1,0,0,"",null,{"$f":"IF(I279=\"\",\"\",MAX($CD$229:$CD$236,$CD$239:CD278)+1)","v":""}]
["",2202,42,{"$f":"IF(ISNA(VLOOKUP(C280,Master!BQ$61:CC$286,3,FALSE)),\"\",VLOOKUP(C280,Master!BQ$61:CC$286,3,FALSE))","v":""},{"$f":"IF(ISNA(VLOOKUP(C280,Master!BQ$61:CC$286,7,FALSE)),\"\",VLOOKUP(C280,Master!BQ$61:CC$286,7,FALSE))","v":""},{"$f":"IF(ISNA(VLOOKUP(C280,Master!BQ$61:CC$286,8,FALSE)),\"\",VLOOKUP(C280,Master!BQ$61:CC$286,8,FALSE))","v":""},{"$f":"IF(ISNA(VLOOKUP(C280,Master!BQ$61:CC$286,4,FALSE)),\"\",VLOOKUP(C280,Master!BQ$61:CC$286,4,FALSE))","v":""},{"$f":"IF(ISNA(VLOOKUP(C280,Master!BQ$61:CC$286,5,FALSE)),\"\",VLOOKUP(C280,Master!BQ$61:CC$286,5,FALSE))","v":""},"","","","",{"$f":"IF(AND(H280=\"\"),\"\",VLOOKUP(D280,'Fix Pay'!$B$9:$K$116,10,0))","v":""},{"$f":"IF(AND(H280=\"\"),\"\",VLOOKUP(D280,'Fix Pay'!$B$9:$K$116,9,0))","v":""},"",{"$nulls":4},0,null,{"$f":"IF(ISNA(VLOOKUP(C280,Master!BQ$61:CC$286,10,FALSE)),\"\",VLOOKUP(C280,Master!BQ$61:CC$286,10,FALSE))","v":""},null,null,{"$f":"IF(ISNA(VLOOKUP(C280,Master!BQ$61:CC$286,11,FALSE)),\"\",VLOOKUP(C280,Master!BQ$61:CC$286,11,FALSE))","v":""},{"$f":"IF(ISNA(VLOOKUP(C280,Master!BQ$61:CC$286,9,FALSE)),\"\",VLOOKUP(C280,Master!BQ$61:CC$286,9,FALSE))","v":""},0,0,0,0,0,0,"","","","","","",0,0,"",0,0,0,0,0,0,0,null,null,0,0,0,0,0,0,0,0,0,0,0,0,0,0,0,0,null,null,0,0,1,0,0,0,1,0,1,0,0,"",null,{"$f":"IF(I280=\"\",\"\",MAX($CD$229:$CD$236,$CD$239:CD279)+1)","v":""}]
["",2202,43,{"$f":"IF(ISNA(VLOOKUP(C281,Master!BQ$61:CC$286,3,FALSE)),\"\",VLOOKUP(C281,Master!BQ$61:CC$286,3,FALSE))","v":""},{"$f":"IF(ISNA(VLOOKUP(C281,Master!BQ$61:CC$286,7,FALSE)),\"\",VLOOKUP(C281,Master!BQ$61:CC$286,7,FALSE))","v":""},{"$f":"IF(ISNA(VLOOKUP(C281,Master!BQ$61:CC$286,8,FALSE)),\"\",VLOOKUP(C281,Master!BQ$61:CC$286,8,FALSE))","v":""},{"$f":"IF(ISNA(VLOOKUP(C281,Master!BQ$61:CC$286,4,FALSE)),\"\",VLOOKUP(C281,Master!BQ$61:CC$286,4,FALSE))","v":""},{"$f":"IF(ISNA(VLOOKUP(C281,Master!BQ$61:CC$286,5,FALSE)),\"\",VLOOKUP(C281,Master!BQ$61:CC$286,5,FALSE))","v":""},"","","","",{"$f":"IF(AND(H281=\"\"),\"\",VLOOKUP(D281,'Fix Pay'!$B$9:$K$116,10,0))","v":""},{"$f":"IF(AND(H281=\"\"),\"\",VLOOKUP(D281,'Fix Pay'!$B$9:$K$116,9,0))","v":""},"",{"$nulls":4},0,null,{"$f":"IF(ISNA(VLOOKUP(C281,Master!BQ$61:CC$286,10,FALSE)),\"\",VLOOKUP(C281,Master!BQ$61:CC$286,10,FALSE))","v":""},null,null,{"$f":"IF(ISNA(VLOOKUP(C281,Master!BQ$61:CC$286,11,FALSE)),\"\",VLOOKUP(C281,Master!BQ$61:CC$286,11,FALSE))","v":""},{"$f":"IF(ISNA(VLOOKUP(C281,Master!BQ$61:CC$286,9,FALSE)),\"\",VLOOKUP(C281,Master!BQ$61:CC$286,9,FALSE))","v":""},0,0,0,0,0,0,"","","","","","",0,0,"",0,0,0,0,0,0,0,null,null,0,0,0,0,0,0,0,0,0,0,0,0,0,0,0,0,null,null,0,0,1,0,0,0,1,0,1,0,0,"",null,{"$f":"IF(I281=\"\",\"\",MAX($CD$229:$CD$236,$CD$239:CD280)+1)","v":""}]
["",2202,44,{"$f":"IF(ISNA(VLOOKUP(C282,Master!BQ$61:CC$286,3,FALSE)),\"\",VLOOKUP(C282,Master!BQ$61:CC$286,3,FALSE))","v":""},{"$f":"IF(ISNA(VLOOKUP(C282,Master!BQ$61:CC$286,7,FALSE)),\"\",VLOOKUP(C282,Master!BQ$61:CC$286,7,FALSE))","v":""},{"$f":"IF(ISNA(VLOOKUP(C282,Master!BQ$61:CC$286,8,FALSE)),\"\",VLOOKUP(C282,Master!BQ$61:CC$286,8,FALSE))","v":""},{"$f":"IF(ISNA(VLOOKUP(C282,Master!BQ$61:CC$286,4,FALSE)),\"\",VLOOKUP(C282,Master!BQ$61:CC$286,4,FALSE))","v":""},{"$f":"IF(ISNA(VLOOKUP(C282,Master!BQ$61:CC$286,5,FALSE)),\"\",VLOOKUP(C282,Master!BQ$61:CC$286,5,FALSE))","v":""},"","","","",{"$f":"IF(AND(H282=\"\"),\"\",VLOOKUP(D282,'Fix Pay'!$B$9:$K$116,10,0))","v":""},{"$f":"IF(AND(H282=\"\"),\"\",VLOOKUP(D282,'Fix Pay'!$B$9:$K$116,9,0))","v":""},"",{"$nulls":4},0,null,{"$f":"IF(ISNA(VLOOKUP(C282,Master!BQ$61:CC$286,10,FALSE)),\"\",VLOOKUP(C282,Master!BQ$61:CC$286,10,FALSE))","v":""},null,null,{"$f":"IF(ISNA(VLOOKUP(C282,Master!BQ$61:CC$286,11,FALSE)),\"\",VLOOKUP(C282,Master!BQ$61:CC$286,11,FALSE))","v":""},{"$f":"IF(ISNA(VLOOKUP(C282,Master!BQ$61:CC$286,9,FALSE)),\"\",VLOOKUP(C282,Master!BQ$61:CC$286,9,FALSE))","v":""},0,0,0,0,0,0,"","","","","","",0,0,"",0,0,0,0,0,0,0,null,null,0,0,0,0,0,0,0,0,0,0,0,0,0,0,0,0,null,null,0,0,1,0,0,0,1,0,1,0,0,"",null,{"$f":"IF(I282=\"\",\"\",MAX($CD$229:$CD$236,$CD$239:CD281)+1)","v":""}]
["",2202,45,{"$f":"IF(ISNA(VLOOKUP(C283,Master!BQ$61:CC$286,3,FALSE)),\"\",VLOOKUP(C283,Master!BQ$61:CC$286,3,FALSE))","v":""},{"$f":"IF(ISNA(VLOOKUP(C283,Master!BQ$61:CC$286,7,FALSE)),\"\",VLOOKUP(C283,Master!BQ$61:CC$286,7,FALSE))","v":""},{"$f":"IF(ISNA(VLOOKUP(C283,Master!BQ$61:CC$286,8,FALSE)),\"\",VLOOKUP(C283,Master!BQ$61:CC$286,8,FALSE))","v":""},{"$f":"IF(ISNA(VLOOKUP(C283,Master!BQ$61:CC$286,4,FALSE)),\"\",VLOOKUP(C283,Master!BQ$61:CC$286,4,FALSE))","v":""},{"$f":"IF(ISNA(VLOOKUP(C283,Master!BQ$61:CC$286,5,FALSE)),\"\",VLOOKUP(C283,Master!BQ$61:CC$286,5,FALSE))","v":""},"","","","",{"$f":"IF(AND(H283=\"\"),\"\",VLOOKUP(D283,'Fix Pay'!$B$9:$K$116,10,0))","v":""},{"$f":"IF(AND(H283=\"\"),\"\",VLOOKUP(D283,'Fix Pay'!$B$9:$K$116,9,0))","v":""},"",{"$nulls":4},0,null,{"$f":"IF(ISNA(VLOOKUP(C283,Master!BQ$61:CC$286,10,FALSE)),\"\",VLOOKUP(C283,Master!BQ$61:CC$286,10,FALSE))","v":""},null,null,{"$f":"IF(ISNA(VLOOKUP(C283,Master!BQ$61:CC$286,11,FALSE)),\"\",VLOOKUP(C283,Master!BQ$61:CC$286,11,FALSE))","v":""},{"$f":"IF(ISNA(VLOOKUP(C283,Master!BQ$61:CC$286,9,FALSE)),\"\",VLOOKUP(C283,Master!BQ$61:CC$286,9,FALSE))","v":""},0,0,0,0,0,0,"","","","","","",0,0,"",0,0,0,0,0,0,0,null,null,0,0,0,0,0,0,0,0,0,0,0,0,0,0,0,0,null,null,0,0,1,0,0,0,1,0,1,0,0,"",null,{"$f":"IF(I283=\"\",\"\",MAX($CD$229:$CD$236,$CD$239:CD282)+1)","v":""}]
["",2202,46,{"$f":"IF(ISNA(VLOOKUP(C284,Master!BQ$61:CC$286,3,FALSE)),\"\",VLOOKUP(C284,Master!BQ$61:CC$286,3,FALSE))","v":""},{"$f":"IF(ISNA(VLOOKUP(C284,Master!BQ$61:CC$286,7,FALSE)),\"\",VLOOKUP(C284,Master!BQ$61:CC$286,7,FALSE))","v":""},{"$f":"IF(ISNA(VLOOKUP(C284,Master!BQ$61:CC$286,8,FALSE)),\"\",VLOOKUP(C284,Master!BQ$61:CC$286,8,FALSE))","v":""},{"$f":"IF(ISNA(VLOOKUP(C284,Master!BQ$61:CC$286,4,FALSE)),\"\",VLOOKUP(C284,Master!BQ$61:CC$286,4,FALSE))","v":""},{"$f":"IF(ISNA(VLOOKUP(C284,Master!BQ$61:CC$286,5,FALSE)),\"\",VLOOKUP(C284,Master!BQ$61:CC$286,5,FALSE))","v":""},"","","","",{"$f":"IF(AND(H284=\"\"),\"\",VLOOKUP(D284,'Fix Pay'!$B$9:$K$116,10,0))","v":""},{"$f":"IF(AND(H284=\"\"),\"\",VLOOKUP(D284,'Fix Pay'!$B$9:$K$116,9,0))","v":""},"",{"$nulls":4},0,null,{"$f":"IF(ISNA(VLOOKUP(C284,Master!BQ$61:CC$286,10,FALSE)),\"\",VLOOKUP(C284,Master!BQ$61:CC$286,10,FALSE))","v":""},null,null,{"$f":"IF(ISNA(VLOOKUP(C284,Master!BQ$61:CC$286,11,FALSE)),\"\",VLOOKUP(C284,Master!BQ$61:CC$286,11,FALSE))","v":""},{"$f":"IF(ISNA(VLOOKUP(C284,Master!BQ$61:CC$286,9,FALSE)),\"\",VLOOKUP(C284,Master!BQ$61:CC$286,9,FALSE))","v":""},0,0,0,0,0,0,"","","","","","",0,0,"",0,0,0,0,0,0,0,null,null,0,0,0,0,0,0,0,0,0,0,0,0,0,0,0,0,null,null,0,0,1,0,0,0,1,0,1,0,0,"",null,{"$f":"IF(I284=\"\",\"\",MAX($CD$229:$CD$236,$CD$239:CD283)+1)","v":""}]
["",2202,47,{"$f":"IF(ISNA(VLOOKUP(C285,Master!BQ$61:CC$286,3,FALSE)),\"\",VLOOKUP(C285,Master!BQ$61:CC$286,3,FALSE))","v":""},{"$f":"IF(ISNA(VLOOKUP(C285,Master!BQ$61:CC$286,7,FALSE)),\"\",VLOOKUP(C285,Master!BQ$61:CC$286,7,FALSE))","v":""},{"$f":"IF(ISNA(VLOOKUP(C285,Master!BQ$61:CC$286,8,FALSE)),\"\",VLOOKUP(C285,Master!BQ$61:CC$286,8,FALSE))","v":""},{"$f":"IF(ISNA(VLOOKUP(C285,Master!BQ$61:CC$286,4,FALSE)),\"\",VLOOKUP(C285,Master!BQ$61:CC$286,4,FALSE))","v":""},{"$f":"IF(ISNA(VLOOKUP(C285,Master!BQ$61:CC$286,5,FALSE)),\"\",VLOOKUP(C285,Master!BQ$61:CC$286,5,FALSE))","v":""},"","","","",{"$f":"IF(AND(H285=\"\"),\"\",VLOOKUP(D285,'Fix Pay'!$B$9:$K$116,10,0))","v":""},{"$f":"IF(AND(H285=\"\"),\"\",VLOOKUP(D285,'Fix Pay'!$B$9:$K$116,9,0))","v":""},"",{"$nulls":4},0,null,{"$f":"IF(ISNA(VLOOKUP(C285,Master!BQ$61:CC$286,10,FALSE)),\"\",VLOOKUP(C285,Master!BQ$61:CC$286,10,FALSE))","v":""},null,null,{"$f":"IF(ISNA(VLOOKUP(C285,Master!BQ$61:CC$286,11,FALSE)),\"\",VLOOKUP(C285,Master!BQ$61:CC$286,11,FALSE))","v":""},{"$f":"IF(ISNA(VLOOKUP(C285,Master!BQ$61:CC$286,9,FALSE)),\"\",VLOOKUP(C285,Master!BQ$61:CC$286,9,FALSE))","v":""},0,0,0,0,0,0,"","","","","","",0,0,"",0,0,0,0,0,0,0,null,null,0,0,0,0,0,0,0,0,0,0,0,0,0,0,0,0,null,null,0,0,1,0,0,0,1,0,1,0,0,"",null,{"$f":"IF(I285=\"\",\"\",MAX($CD$229:$CD$236,$CD$239:CD284)+1)","v":""}]
["",2202,48,{"$f":"IF(ISNA(VLOOKUP(C286,Master!BQ$61:CC$286,3,FALSE)),\"\",VLOOKUP(C286,Master!BQ$61:CC$286,3,FALSE))","v":""},{"$f":"IF(ISNA(VLOOKUP(C286,Master!BQ$61:CC$286,7,FALSE)),\"\",VLOOKUP(C286,Master!BQ$61:CC$286,7,FALSE))","v":""},{"$f":"IF(ISNA(VLOOKUP(C286,Master!BQ$61:CC$286,8,FALSE)),\"\",VLOOKUP(C286,Master!BQ$61:CC$286,8,FALSE))","v":""},{"$f":"IF(ISNA(VLOOKUP(C286,Master!BQ$61:CC$286,4,FALSE)),\"\",VLOOKUP(C286,Master!BQ$61:CC$286,4,FALSE))","v":""},{"$f":"IF(ISNA(VLOOKUP(C286,Master!BQ$61:CC$286,5,FALSE)),\"\",VLOOKUP(C286,Master!BQ$61:CC$286,5,FALSE))","v":""},"","","","",{"$f":"IF(AND(H286=\"\"),\"\",VLOOKUP(D286,'Fix Pay'!$B$9:$K$116,10,0))","v":""},{"$f":"IF(AND(H286=\"\"),\"\",VLOOKUP(D286,'Fix Pay'!$B$9:$K$116,9,0))","v":""},"",{"$nulls":4},0,null,{"$f":"IF(ISNA(VLOOKUP(C286,Master!BQ$61:CC$286,10,FALSE)),\"\",VLOOKUP(C286,Master!BQ$61:CC$286,10,FALSE))","v":""},null,null,{"$f":"IF(ISNA(VLOOKUP(C286,Master!BQ$61:CC$286,11,FALSE)),\"\",VLOOKUP(C286,Master!BQ$61:CC$286,11,FALSE))","v":""},{"$f":"IF(ISNA(VLOOKUP(C286,Master!BQ$61:CC$286,9,FALSE)),\"\",VLOOKUP(C286,Master!BQ$61:CC$286,9,FALSE))","v":""},0,0,0,0,0,0,"","","","","","",0,0,"",0,0,0,0,0,0,0,null,null,0,0,0,0,0,0,0,0,0,0,0,0,0,0,0,0,null,null,0,0,1,0,0,0,1,0,1,0,0,"",null,{"$f":"IF(I286=\"\",\"\",MAX($CD$229:$CD$236,$CD$239:CD285)+1)","v":""}]
["",2202,49,{"$f":"IF(ISNA(VLOOKUP(C287,Master!BQ$61:CC$286,3,FALSE)),\"\",VLOOKUP(C287,Master!BQ$61:CC$286,3,FALSE))","v":""},{"$f":"IF(ISNA(VLOOKUP(C287,Master!BQ$61:CC$286,7,FALSE)),\"\",VLOOKUP(C287,Master!BQ$61:CC$286,7,FALSE))","v":""},{"$f":"IF(ISNA(VLOOKUP(C287,Master!BQ$61:CC$286,8,FALSE)),\"\",VLOOKUP(C287,Master!BQ$61:CC$286,8,FALSE))","v":""},{"$f":"IF(ISNA(VLOOKUP(C287,Master!BQ$61:CC$286,4,FALSE)),\"\",VLOOKUP(C287,Master!BQ$61:CC$286,4,FALSE))","v":""},{"$f":"IF(ISNA(VLOOKUP(C287,Master!BQ$61:CC$286,5,FALSE)),\"\",VLOOKUP(C287,Master!BQ$61:CC$286,5,FALSE))","v":""},"","","","",{"$f":"IF(AND(H287=\"\"),\"\",VLOOKUP(D287,'Fix Pay'!$B$9:$K$116,10,0))","v":""},{"$f":"IF(AND(H287=\"\"),\"\",VLOOKUP(D287,'Fix Pay'!$B$9:$K$116,9,0))","v":""},"",{"$nulls":4},0,null,{"$f":"IF(ISNA(VLOOKUP(C287,Master!BQ$61:CC$286,10,FALSE)),\"\",VLOOKUP(C287,Master!BQ$61:CC$286,10,FALSE))","v":""},null,null,{"$f":"IF(ISNA(VLOOKUP(C287,Master!BQ$61:CC$286,11,FALSE)),\"\",VLOOKUP(C287,Master!BQ$61:CC$286,11,FALSE))","v":""},{"$f":"IF(ISNA(VLOOKUP(C287,Master!BQ$61:CC$286,9,FALSE)),\"\",VLOOKUP(C287,Master!BQ$61:CC$286,9,FALSE))","v":""},0,0,0,0,0,0,"","","","","","",0,0,"",0,0,0,0,0,0,0,null,null,0,0,0,0,0,0,0,0,0,0,0,0,0,0,0,0,null,null,0,0,1,0,0,0,1,0,1,0,0,"",null,{"$f":"IF(I287=\"\",\"\",MAX($CD$229:$CD$236,$CD$239:CD286)+1)","v":""}]
["",2202,50,{"$f":"IF(ISNA(VLOOKUP(C288,Master!BQ$61:CC$286,3,FALSE)),\"\",VLOOKUP(C288,Master!BQ$61:CC$286,3,FALSE))","v":""},{"$f":"IF(ISNA(VLOOKUP(C288,Master!BQ$61:CC$286,7,FALSE)),\"\",VLOOKUP(C288,Master!BQ$61:CC$286,7,FALSE))","v":""},{"$f":"IF(ISNA(VLOOKUP(C288,Master!BQ$61:CC$286,8,FALSE)),\"\",VLOOKUP(C288,Master!BQ$61:CC$286,8,FALSE))","v":""},{"$f":"IF(ISNA(VLOOKUP(C288,Master!BQ$61:CC$286,4,FALSE)),\"\",VLOOKUP(C288,Master!BQ$61:CC$286,4,FALSE))","v":""},{"$f":"IF(ISNA(VLOOKUP(C288,Master!BQ$61:CC$286,5,FALSE)),\"\",VLOOKUP(C288,Master!BQ$61:CC$286,5,FALSE))","v":""},"","","","",{"$f":"IF(AND(H288=\"\"),\"\",VLOOKUP(D288,'Fix Pay'!$B$9:$K$116,10,0))","v":""},{"$f":"IF(AND(H288=\"\"),\"\",VLOOKUP(D288,'Fix Pay'!$B$9:$K$116,9,0))","v":""},"",{"$nulls":4},0,null,{"$f":"IF(ISNA(VLOOKUP(C288,Master!BQ$61:CC$286,10,FALSE)),\"\",VLOOKUP(C288,Master!BQ$61:CC$286,10,FALSE))","v":""},null,null,{"$f":"IF(ISNA(VLOOKUP(C288,Master!BQ$61:CC$286,11,FALSE)),\"\",VLOOKUP(C288,Master!BQ$61:CC$286,11,FALSE))","v":""},{"$f":"IF(ISNA(VLOOKUP(C288,Master!BQ$61:CC$286,9,FALSE)),\"\",VLOOKUP(C288,Master!BQ$61:CC$286,9,FALSE))","v":""},0,0,0,0,0,0,"","","","","","",0,0,"",0,0,0,0,0,0,0,null,null,0,0,0,0,0,0,0,0,0,0,0,0,0,0,0,0,null,null,0,0,1,0,0,0,1,0,1,0,0,"",null,{"$f":"IF(I288=\"\",\"\",MAX($CD$229:$CD$236,$CD$239:CD287)+1)","v":""}]
["",2202,51,{"$f":"IF(ISNA(VLOOKUP(C289,Master!BQ$61:CC$286,3,FALSE)),\"\",VLOOKUP(C289,Master!BQ$61:CC$286,3,FALSE))","v":""},{"$f":"IF(ISNA(VLOOKUP(C289,Master!BQ$61:CC$286,7,FALSE)),\"\",VLOOKUP(C289,Master!BQ$61:CC$286,7,FALSE))","v":""},{"$f":"IF(ISNA(VLOOKUP(C289,Master!BQ$61:CC$286,8,FALSE)),\"\",VLOOKUP(C289,Master!BQ$61:CC$286,8,FALSE))","v":""},{"$f":"IF(ISNA(VLOOKUP(C289,Master!BQ$61:CC$286,4,FALSE)),\"\",VLOOKUP(C289,Master!BQ$61:CC$286,4,FALSE))","v":""},{"$f":"IF(ISNA(VLOOKUP(C289,Master!BQ$61:CC$286,5,FALSE)),\"\",VLOOKUP(C289,Master!BQ$61:CC$286,5,FALSE))","v":""},"","","","",{"$f":"IF(AND(H289=\"\"),\"\",VLOOKUP(D289,'Fix Pay'!$B$9:$K$116,10,0))","v":""},{"$f":"IF(AND(H289=\"\"),\"\",VLOOKUP(D289,'Fix Pay'!$B$9:$K$116,9,0))","v":""},"",{"$nulls":4},0,null,{"$f":"IF(ISNA(VLOOKUP(C289,Master!BQ$61:CC$286,10,FALSE)),\"\",VLOOKUP(C289,Master!BQ$61:CC$286,10,FALSE))","v":""},null,null,{"$f":"IF(ISNA(VLOOKUP(C289,Master!BQ$61:CC$286,11,FALSE)),\"\",VLOOKUP(C289,Master!BQ$61:CC$286,11,FALSE))","v":""},{"$f":"IF(ISNA(VLOOKUP(C289,Master!BQ$61:CC$286,9,FALSE)),\"\",VLOOKUP(C289,Master!BQ$61:CC$286,9,FALSE))","v":""},0,0,0,0,0,0,"","","","","","",0,0,"",0,0,0,0,0,0,0,null,null,0,0,0,0,0,0,0,0,0,0,0,0,0,0,0,0,null,null,0,0,1,0,0,0,1,0,1,0,0,"",null,{"$f":"IF(I289=\"\",\"\",MAX($CD$229:$CD$236,$CD$239:CD288)+1)","v":""}]
["",2202,52,{"$f":"IF(ISNA(VLOOKUP(C290,Master!BQ$61:CC$286,3,FALSE)),\"\",VLOOKUP(C290,Master!BQ$61:CC$286,3,FALSE))","v":""},{"$f":"IF(ISNA(VLOOKUP(C290,Master!BQ$61:CC$286,7,FALSE)),\"\",VLOOKUP(C290,Master!BQ$61:CC$286,7,FALSE))","v":""},{"$f":"IF(ISNA(VLOOKUP(C290,Master!BQ$61:CC$286,8,FALSE)),\"\",VLOOKUP(C290,Master!BQ$61:CC$286,8,FALSE))","v":""},{"$f":"IF(ISNA(VLOOKUP(C290,Master!BQ$61:CC$286,4,FALSE)),\"\",VLOOKUP(C290,Master!BQ$61:CC$286,4,FALSE))","v":""},{"$f":"IF(ISNA(VLOOKUP(C290,Master!BQ$61:CC$286,5,FALSE)),\"\",VLOOKUP(C290,Master!BQ$61:CC$286,5,FALSE))","v":""},"","","","",{"$f":"IF(AND(H290=\"\"),\"\",VLOOKUP(D290,'Fix Pay'!$B$9:$K$116,10,0))","v":""},{"$f":"IF(AND(H290=\"\"),\"\",VLOOKUP(D290,'Fix Pay'!$B$9:$K$116,9,0))","v":""},"",{"$nulls":4},0,null,{"$f":"IF(ISNA(VLOOKUP(C290,Master!BQ$61:CC$286,10,FALSE)),\"\",VLOOKUP(C290,Master!BQ$61:CC$286,10,FALSE))","v":""},null,null,{"$f":"IF(ISNA(VLOOKUP(C290,Master!BQ$61:CC$286,11,FALSE)),\"\",VLOOKUP(C290,Master!BQ$61:CC$286,11,FALSE))","v":""},{"$f":"IF(ISNA(VLOOKUP(C290,Master!BQ$61:CC$286,9,FALSE)),\"\",VLOOKUP(C290,Master!BQ$61:CC$286,9,FALSE))","v":""},0,0,0,0,0,0,"","","","","","",0,0,"",0,0,0,0,0,0,0,null,null,0,0,0,0,0,0,0,0,0,0,0,0,0,0,0,0,null,null,0,0,1,0,0,0,1,0,1,0,0,"",null,{"$f":"IF(I290=\"\",\"\",MAX($CD$229:$CD$236,$CD$239:CD289)+1)","v":""}]
["",2202,53,{"$f":"IF(ISNA(VLOOKUP(C291,Master!BQ$61:CC$286,3,FALSE)),\"\",VLOOKUP(C291,Master!BQ$61:CC$286,3,FALSE))","v":""},{"$f":"IF(ISNA(VLOOKUP(C291,Master!BQ$61:CC$286,7,FALSE)),\"\",VLOOKUP(C291,Master!BQ$61:CC$286,7,FALSE))","v":""},{"$f":"IF(ISNA(VLOOKUP(C291,Master!BQ$61:CC$286,8,FALSE)),\"\",VLOOKUP(C291,Master!BQ$61:CC$286,8,FALSE))","v":""},{"$f":"IF(ISNA(VLOOKUP(C291,Master!BQ$61:CC$286,4,FALSE)),\"\",VLOOKUP(C291,Master!BQ$61:CC$286,4,FALSE))","v":""},{"$f":"IF(ISNA(VLOOKUP(C291,Master!BQ$61:CC$286,5,FALSE)),\"\",VLOOKUP(C291,Master!BQ$61:CC$286,5,FALSE))","v":""},"","","","",{"$f":"IF(AND(H291=\"\"),\"\",VLOOKUP(D291,'Fix Pay'!$B$9:$K$116,10,0))","v":""},{"$f":"IF(AND(H291=\"\"),\"\",VLOOKUP(D291,'Fix Pay'!$B$9:$K$116,9,0))","v":""},"",{"$nulls":4},0,null,{"$f":"IF(ISNA(VLOOKUP(C291,Master!BQ$61:CC$286,10,FALSE)),\"\",VLOOKUP(C291,Master!BQ$61:CC$286,10,FALSE))","v":""},null,null,{"$f":"IF(ISNA(VLOOKUP(C291,Master!BQ$61:CC$286,11,FALSE)),\"\",VLOOKUP(C291,Master!BQ$61:CC$286,11,FALSE))","v":""},{"$f":"IF(ISNA(VLOOKUP(C291,Master!BQ$61:CC$286,9,FALSE)),\"\",VLOOKUP(C291,Master!BQ$61:CC$286,9,FALSE))","v":""},0,0,0,0,0,0,"","","","","","",0,0,"",0,0,0,0,0,0,0,null,null,0,0,0,0,0,0,0,0,0,0,0,0,0,0,0,0,null,null,0,0,1,0,0,0,1,0,1,0,0,"",null,{"$f":"IF(I291=\"\",\"\",MAX($CD$229:$CD$236,$CD$239:CD290)+1)","v":""}]
["",2202,54,{"$f":"IF(ISNA(VLOOKUP(C292,Master!BQ$61:CC$286,3,FALSE)),\"\",VLOOKUP(C292,Master!BQ$61:CC$286,3,FALSE))","v":""},{"$f":"IF(ISNA(VLOOKUP(C292,Master!BQ$61:CC$286,7,FALSE)),\"\",VLOOKUP(C292,Master!BQ$61:CC$286,7,FALSE))","v":""},{"$f":"IF(ISNA(VLOOKUP(C292,Master!BQ$61:CC$286,8,FALSE)),\"\",VLOOKUP(C292,Master!BQ$61:CC$286,8,FALSE))","v":""},{"$f":"IF(ISNA(VLOOKUP(C292,Master!BQ$61:CC$286,4,FALSE)),\"\",VLOOKUP(C292,Master!BQ$61:CC$286,4,FALSE))","v":""},{"$f":"IF(ISNA(VLOOKUP(C292,Master!BQ$61:CC$286,5,FALSE)),\"\",VLOOKUP(C292,Master!BQ$61:CC$286,5,FALSE))","v":""},"","","","",{"$f":"IF(AND(H292=\"\"),\"\",VLOOKUP(D292,'Fix Pay'!$B$9:$K$116,10,0))","v":""},{"$f":"IF(AND(H292=\"\"),\"\",VLOOKUP(D292,'Fix Pay'!$B$9:$K$116,9,0))","v":""},"",{"$nulls":4},0,null,{"$f":"IF(ISNA(VLOOKUP(C292,Master!BQ$61:CC$286,10,FALSE)),\"\",VLOOKUP(C292,Master!BQ$61:CC$286,10,FALSE))","v":""},null,null,{"$f":"IF(ISNA(VLOOKUP(C292,Master!BQ$61:CC$286,11,FALSE)),\"\",VLOOKUP(C292,Master!BQ$61:CC$286,11,FALSE))","v":""},{"$f":"IF(ISNA(VLOOKUP(C292,Master!BQ$61:CC$286,9,FALSE)),\"\",VLOOKUP(C292,Master!BQ$61:CC$286,9,FALSE))","v":""},0,0,0,0,0,0,"","","","","","",0,0,"",0,0,0,0,0,0,0,null,null,0,0,0,0,0,0,0,0,0,0,0,0,0,0,0,0,null,null,0,0,1,0,0,0,1,0,1,0,0,"",null,{"$f":"IF(I292=\"\",\"\",MAX($CD$229:$CD$236,$CD$239:CD291)+1)","v":""}]
["",2202,55,{"$f":"IF(ISNA(VLOOKUP(C293,Master!BQ$61:CC$286,3,FALSE)),\"\",VLOOKUP(C293,Master!BQ$61:CC$286,3,FALSE))","v":""},{"$f":"IF(ISNA(VLOOKUP(C293,Master!BQ$61:CC$286,7,FALSE)),\"\",VLOOKUP(C293,Master!BQ$61:CC$286,7,FALSE))","v":""},{"$f":"IF(ISNA(VLOOKUP(C293,Master!BQ$61:CC$286,8,FALSE)),\"\",VLOOKUP(C293,Master!BQ$61:CC$286,8,FALSE))","v":""},{"$f":"IF(ISNA(VLOOKUP(C293,Master!BQ$61:CC$286,4,FALSE)),\"\",VLOOKUP(C293,Master!BQ$61:CC$286,4,FALSE))","v":""},{"$f":"IF(ISNA(VLOOKUP(C293,Master!BQ$61:CC$286,5,FALSE)),\"\",VLOOKUP(C293,Master!BQ$61:CC$286,5,FALSE))","v":""},"","","","",{"$f":"IF(AND(H293=\"\"),\"\",VLOOKUP(D293,'Fix Pay'!$B$9:$K$116,10,0))","v":""},{"$f":"IF(AND(H293=\"\"),\"\",VLOOKUP(D293,'Fix Pay'!$B$9:$K$116,9,0))","v":""},"",{"$nulls":4},0,null,{"$f":"IF(ISNA(VLOOKUP(C293,Master!BQ$61:CC$286,10,FALSE)),\"\",VLOOKUP(C293,Master!BQ$61:CC$286,10,FALSE))","v":""},null,null,{"$f":"IF(ISNA(VLOOKUP(C293,Master!BQ$61:CC$286,11,FALSE)),\"\",VLOOKUP(C293,Master!BQ$61:CC$286,11,FALSE))","v":""},{"$f":"IF(ISNA(VLOOKUP(C293,Master!BQ$61:CC$286,9,FALSE)),\"\",VLOOKUP(C293,Master!BQ$61:CC$286,9,FALSE))","v":""},0,0,0,0,0,0,"","","","","","",0,0,"",0,0,0,0,0,0,0,null,null,0,0,0,0,0,0,0,0,0,0,0,0,0,0,0,0,null,null,0,0,1,0,0,0,1,0,1,0,0,"",null,{"$f":"IF(I293=\"\",\"\",MAX($CD$229:$CD$236,$CD$239:CD292)+1)","v":""}]
[{"$f":"CD294","v":""},2202,56,{"$f":"IF(ISNA(VLOOKUP(C294,Master!BQ$61:CC$286,3,FALSE)),\"\",VLOOKUP(C294,Master!BQ$61:CC$286,3,FALSE))","v":""},{"$f":"IF(ISNA(VLOOKUP(C294,Master!BQ$61:CC$286,7,FALSE)),\"\",VLOOKUP(C294,Master!BQ$61:CC$286,7,FALSE))","v":""},{"$f":"IF(ISNA(VLOOKUP(C294,Master!BQ$61:CC$286,8,FALSE)),\"\",VLOOKUP(C294,Master!BQ$61:CC$286,8,FALSE))","v":""},{"$f":"IF(ISNA(VLOOKUP(C294,Master!BQ$61:CC$286,4,FALSE)),\"\",VLOOKUP(C294,Master!BQ$61:CC$286,4,FALSE))","v":""},{"$f":"IF(ISNA(VLOOKUP(C294,Master!BQ$61:CC$286,5,FALSE)),\"\",VLOOKUP(C294,Master!BQ$61:CC$286,5,FALSE))","v":""},"","","","",{"$f":"IF(AND(H294=\"\"),\"\",VLOOKUP(D294,'Fix Pay'!$B$9:$K$116,10,0))","v":""},{"$f":"IF(AND(H294=\"\"),\"\",VLOOKUP(D294,'Fix Pay'!$B$9:$K$116,9,0))","v":""},"",{"$nulls":4},0,null,{"$f":"IF(ISNA(VLOOKUP(C294,Master!BQ$61:CC$286,10,FALSE)),\"\",VLOOKUP(C294,Master!BQ$61:CC$286,10,FALSE))","v":""},null,null,{"$f":"IF(ISNA(VLOOKUP(C294,Master!BQ$61:CC$286,11,FALSE)),\"\",VLOOKUP(C294,Master!BQ$61:CC$286,11,FALSE))","v":""},{"$f":"IF(ISNA(VLOOKUP(C294,Master!BQ$61:CC$286,9,FALSE)),\"\",VLOOKUP(C294,Master!BQ$61:CC$286,9,FALSE))","v":""},0,0,0,0,0,0,"","","","","","",0,0,"",0,0,0,0,0,0,0,null,null,0,0,0,0,0,0,0,0,0,0,0,0,0,0,0,0,null,null,0,0,1,0,0,0,1,0,1,0,0,"",null,{"$f":"IF(I294=\"\",\"\",MAX($CD$229:$CD$236,$CD$239:CD293)+1)","v":""}]
["",2202,57,{"$f":"IF(ISNA(VLOOKUP(C295,Master!BQ$61:CC$286,3,FALSE)),\"\",VLOOKUP(C295,Master!BQ$61:CC$286,3,FALSE))","v":""},{"$f":"IF(ISNA(VLOOKUP(C295,Master!BQ$61:CC$286,7,FALSE)),\"\",VLOOKUP(C295,Master!BQ$61:CC$286,7,FALSE))","v":""},{"$f":"IF(ISNA(VLOOKUP(C295,Master!BQ$61:CC$286,8,FALSE)),\"\",VLOOKUP(C295,Master!BQ$61:CC$286,8,FALSE))","v":""},{"$f":"IF(ISNA(VLOOKUP(C295,Master!BQ$61:CC$286,4,FALSE)),\"\",VLOOKUP(C295,Master!BQ$61:CC$286,4,FALSE))","v":""},{"$f":"IF(ISNA(VLOOKUP(C295,Master!BQ$61:CC$286,5,FALSE)),\"\",VLOOKUP(C295,Master!BQ$61:CC$286,5,FALSE))","v":""},"","","","",{"$f":"IF(AND(H295=\"\"),\"\",VLOOKUP(D295,'Fix Pay'!$B$9:$K$116,10,0))","v":""},{"$f":"IF(AND(H295=\"\"),\"\",VLOOKUP(D295,'Fix Pay'!$B$9:$K$116,9,0))","v":""},"",{"$nulls":4},0,null,{"$f":"IF(ISNA(VLOOKUP(C295,Master!BQ$61:CC$286,10,FALSE)),\"\",VLOOKUP(C295,Master!BQ$61:CC$286,10,FALSE))","v":""},null,null,{"$f":"IF(ISNA(VLOOKUP(C295,Master!BQ$61:CC$286,11,FALSE)),\"\",VLOOKUP(C295,Master!BQ$61:CC$286,11,FALSE))","v":""},{"$f":"IF(ISNA(VLOOKUP(C295,Master!BQ$61:CC$286,9,FALSE)),\"\",VLOOKUP(C295,Master!BQ$61:CC$286,9,FALSE))","v":""},0,0,0,0,0,0,"","","","","","",0,0,"",0,0,0,0,0,0,0,null,null,0,0,0,0,0,0,0,0,0,0,0,0,0,0,0,0,null,null,0,0,1,0,0,0,1,0,1,0,0,"",null,{"$f":"IF(I295=\"\",\"\",MAX($CD$229:$CD$236,$CD$239:CD294)+1)","v":""}]
["",2202,58,{"$f":"IF(ISNA(VLOOKUP(C296,Master!BQ$61:CC$286,3,FALSE)),\"\",VLOOKUP(C296,Master!BQ$61:CC$286,3,FALSE))","v":""},{"$f":"IF(ISNA(VLOOKUP(C296,Master!BQ$61:CC$286,7,FALSE)),\"\",VLOOKUP(C296,Master!BQ$61:CC$286,7,FALSE))","v":""},{"$f":"IF(ISNA(VLOOKUP(C296,Master!BQ$61:CC$286,8,FALSE)),\"\",VLOOKUP(C296,Master!BQ$61:CC$286,8,FALSE))","v":""},{"$f":"IF(ISNA(VLOOKUP(C296,Master!BQ$61:CC$286,4,FALSE)),\"\",VLOOKUP(C296,Master!BQ$61:CC$286,4,FALSE))","v":""},{"$f":"IF(ISNA(VLOOKUP(C296,Master!BQ$61:CC$286,5,FALSE)),\"\",VLOOKUP(C296,Master!BQ$61:CC$286,5,FALSE))","v":""},"","","","",{"$f":"IF(AND(H296=\"\"),\"\",VLOOKUP(D296,'Fix Pay'!$B$9:$K$116,10,0))","v":""},{"$f":"IF(AND(H296=\"\"),\"\",VLOOKUP(D296,'Fix Pay'!$B$9:$K$116,9,0))","v":""},"",{"$nulls":4},0,null,{"$f":"IF(ISNA(VLOOKUP(C296,Master!BQ$61:CC$286,10,FALSE)),\"\",VLOOKUP(C296,Master!BQ$61:CC$286,10,FALSE))","v":""},null,null,{"$f":"IF(ISNA(VLOOKUP(C296,Master!BQ$61:CC$286,11,FALSE)),\"\",VLOOKUP(C296,Master!BQ$61:CC$286,11,FALSE))","v":""},{"$f":"IF(ISNA(VLOOKUP(C296,Master!BQ$61:CC$286,9,FALSE)),\"\",VLOOKUP(C296,Master!BQ$61:CC$286,9,FALSE))","v":""},0,0,0,0,0,0,"","","","","","",0,0,"",0,0,0,0,0,0,0,null,null,0,0,0,0,0,0,0,0,0,0,0,0,0,0,0,0,null,null,0,0,1,0,0,0,1,0,1,0,0,"",null,{"$f":"IF(I296=\"\",\"\",MAX($CD$229:$CD$236,$CD$239:CD295)+1)","v":""}]
["",2202,59,{"$f":"IF(ISNA(VLOOKUP(C297,Master!BQ$61:CC$286,3,FALSE)),\"\",VLOOKUP(C297,Master!BQ$61:CC$286,3,FALSE))","v":""},{"$f":"IF(ISNA(VLOOKUP(C297,Master!BQ$61:CC$286,7,FALSE)),\"\",VLOOKUP(C297,Master!BQ$61:CC$286,7,FALSE))","v":""},{"$f":"IF(ISNA(VLOOKUP(C297,Master!BQ$61:CC$286,8,FALSE)),\"\",VLOOKUP(C297,Master!BQ$61:CC$286,8,FALSE))","v":""},{"$f":"IF(ISNA(VLOOKUP(C297,Master!BQ$61:CC$286,4,FALSE)),\"\",VLOOKUP(C297,Master!BQ$61:CC$286,4,FALSE))","v":""},{"$f":"IF(ISNA(VLOOKUP(C297,Master!BQ$61:CC$286,5,FALSE)),\"\",VLOOKUP(C297,Master!BQ$61:CC$286,5,FALSE))","v":""},"","","","",{"$f":"IF(AND(H297=\"\"),\"\",VLOOKUP(D297,'Fix Pay'!$B$9:$K$116,10,0))","v":""},{"$f":"IF(AND(H297=\"\"),\"\",VLOOKUP(D297,'Fix Pay'!$B$9:$K$116,9,0))","v":""},"",{"$nulls":4},0,null,{"$f":"IF(ISNA(VLOOKUP(C297,Master!BQ$61:CC$286,10,FALSE)),\"\",VLOOKUP(C297,Master!BQ$61:CC$286,10,FALSE))","v":""},null,null,{"$f":"IF(ISNA(VLOOKUP(C297,Master!BQ$61:CC$286,11,FALSE)),\"\",VLOOKUP(C297,Master!BQ$61:CC$286,11,FALSE))","v":""},{"$f":"IF(ISNA(VLOOKUP(C297,Master!BQ$61:CC$286,9,FALSE)),\"\",VLOOKUP(C297,Master!BQ$61:CC$286,9,FALSE))","v":""},0,0,0,0,0,0,"","","","","","",0,0,"",0,0,0,0,0,0,0,null,null,0,0,0,0,0,0,0,0,0,0,0,0,0,0,0,0,null,null,0,0,1,0,0,0,1,0,1,0,0,"",null,{"$f":"IF(I297=\"\",\"\",MAX($CD$229:$CD$236,$CD$239:CD296)+1)","v":""}]
["",2202,60,{"$f":"IF(ISNA(VLOOKUP(C298,Master!BQ$61:CC$286,3,FALSE)),\"\",VLOOKUP(C298,Master!BQ$61:CC$286,3,FALSE))","v":""},{"$f":"IF(ISNA(VLOOKUP(C298,Master!BQ$61:CC$286,7,FALSE)),\"\",VLOOKUP(C298,Master!BQ$61:CC$286,7,FALSE))","v":""},{"$f":"IF(ISNA(VLOOKUP(C298,Master!BQ$61:CC$286,8,FALSE)),\"\",VLOOKUP(C298,Master!BQ$61:CC$286,8,FALSE))","v":""},{"$f":"IF(ISNA(VLOOKUP(C298,Master!BQ$61:CC$286,4,FALSE)),\"\",VLOOKUP(C298,Master!BQ$61:CC$286,4,FALSE))","v":""},{"$f":"IF(ISNA(VLOOKUP(C298,Master!BQ$61:CC$286,5,FALSE)),\"\",VLOOKUP(C298,Master!BQ$61:CC$286,5,FALSE))","v":""},"","","","",{"$f":"IF(AND(H298=\"\"),\"\",VLOOKUP(D298,'Fix Pay'!$B$9:$K$116,10,0))","v":""},{"$f":"IF(AND(H298=\"\"),\"\",VLOOKUP(D298,'Fix Pay'!$B$9:$K$116,9,0))","v":""},"",{"$nulls":4},0,null,{"$f":"IF(ISNA(VLOOKUP(C298,Master!BQ$61:CC$286,10,FALSE)),\"\",VLOOKUP(C298,Master!BQ$61:CC$286,10,FALSE))","v":""},null,null,{"$f":"IF(ISNA(VLOOKUP(C298,Master!BQ$61:CC$286,11,FALSE)),\"\",VLOOKUP(C298,Master!BQ$61:CC$286,11,FALSE))","v":""},{"$f":"IF(ISNA(VLOOKUP(C298,Master!BQ$61:CC$286,9,FALSE)),\"\",VLOOKUP(C298,Master!BQ$61:CC$286,9,FALSE))","v":""},0,0,0,0,0,0,"","","","","","",0,0,"",0,0,0,0,0,0,0,null,null,0,0,0,0,0,0,0,0,0,0,0,0,0,0,0,0,null,null,0,0,1,0,0,0,1,0,1,0,0,"",null,{"$f":"IF(I298=\"\",\"\",MAX($CD$229:$CD$236,$CD$239:CD297)+1)","v":""}]
["",2202,61,{"$f":"IF(ISNA(VLOOKUP(C299,Master!BQ$61:CC$286,3,FALSE)),\"\",VLOOKUP(C299,Master!BQ$61:CC$286,3,FALSE))","v":""},{"$f":"IF(ISNA(VLOOKUP(C299,Master!BQ$61:CC$286,7,FALSE)),\"\",VLOOKUP(C299,Master!BQ$61:CC$286,7,FALSE))","v":""},{"$f":"IF(ISNA(VLOOKUP(C299,Master!BQ$61:CC$286,8,FALSE)),\"\",VLOOKUP(C299,Master!BQ$61:CC$286,8,FALSE))","v":""},{"$f":"IF(ISNA(VLOOKUP(C299,Master!BQ$61:CC$286,4,FALSE)),\"\",VLOOKUP(C299,Master!BQ$61:CC$286,4,FALSE))","v":""},{"$f":"IF(ISNA(VLOOKUP(C299,Master!BQ$61:CC$286,5,FALSE)),\"\",VLOOKUP(C299,Master!BQ$61:CC$286,5,FALSE))","v":""},"","","","",{"$f":"IF(AND(H299=\"\"),\"\",VLOOKUP(D299,'Fix Pay'!$B$9:$K$116,10,0))","v":""},{"$f":"IF(AND(H299=\"\"),\"\",VLOOKUP(D299,'Fix Pay'!$B$9:$K$116,9,0))","v":""},"",{"$nulls":4},0,null,{"$f":"IF(ISNA(VLOOKUP(C299,Master!BQ$61:CC$286,10,FALSE)),\"\",VLOOKUP(C299,Master!BQ$61:CC$286,10,FALSE))","v":""},null,null,{"$f":"IF(ISNA(VLOOKUP(C299,Master!BQ$61:CC$286,11,FALSE)),\"\",VLOOKUP(C299,Master!BQ$61:CC$286,11,FALSE))","v":""},{"$f":"IF(ISNA(VLOOKUP(C299,Master!BQ$61:CC$286,9,FALSE)),\"\",VLOOKUP(C299,Master!BQ$61:CC$286,9,FALSE))","v":""},0,0,0,0,0,0,"","","","","","",0,0,"",0,0,0,0,0,0,0,null,null,0,0,0,0,0,0,0,0,0,0,0,0,0,0,0,0,null,null,0,0,1,0,0,0,1,0,1,0,0,"",null,{"$f":"IF(I299=\"\",\"\",MAX($CD$229:$CD$236,$CD$239:CD298)+1)","v":""}]
["",2202,62,{"$f":"IF(ISNA(VLOOKUP(C300,Master!BQ$61:CC$286,3,FALSE)),\"\",VLOOKUP(C300,Master!BQ$61:CC$286,3,FALSE))","v":""},{"$f":"IF(ISNA(VLOOKUP(C300,Master!BQ$61:CC$286,7,FALSE)),\"\",VLOOKUP(C300,Master!BQ$61:CC$286,7,FALSE))","v":""},{"$f":"IF(ISNA(VLOOKUP(C300,Master!BQ$61:CC$286,8,FALSE)),\"\",VLOOKUP(C300,Master!BQ$61:CC$286,8,FALSE))","v":""},{"$f":"IF(ISNA(VLOOKUP(C300,Master!BQ$61:CC$286,4,FALSE)),\"\",VLOOKUP(C300,Master!BQ$61:CC$286,4,FALSE))","v":""},{"$f":"IF(ISNA(VLOOKUP(C300,Master!BQ$61:CC$286,5,FALSE)),\"\",VLOOKUP(C300,Master!BQ$61:CC$286,5,FALSE))","v":""},"","","","",{"$f":"IF(AND(H300=\"\"),\"\",VLOOKUP(D300,'Fix Pay'!$B$9:$K$116,10,0))","v":""},{"$f":"IF(AND(H300=\"\"),\"\",VLOOKUP(D300,'Fix Pay'!$B$9:$K$116,9,0))","v":""},"",{"$nulls":4},0,null,{"$f":"IF(ISNA(VLOOKUP(C300,Master!BQ$61:CC$286,10,FALSE)),\"\",VLOOKUP(C300,Master!BQ$61:CC$286,10,FALSE))","v":""},null,null,{"$f":"IF(ISNA(VLOOKUP(C300,Master!BQ$61:CC$286,11,FALSE)),\"\",VLOOKUP(C300,Master!BQ$61:CC$286,11,FALSE))","v":""},{"$f":"IF(ISNA(VLOOKUP(C300,Master!BQ$61:CC$286,9,FALSE)),\"\",VLOOKUP(C300,Master!BQ$61:CC$286,9,FALSE))","v":""},0,0,0,0,0,0,"","","","","","",0,0,"",0,0,0,0,0,0,0,null,null,0,0,0,0,0,0,0,0,0,0,0,0,0,0,0,0,null,null,0,0,1,0,0,0,1,0,1,0,0,"",null,{"$f":"IF(I300=\"\",\"\",MAX($CD$229:$CD$236,$CD$239:CD299)+1)","v":""}]
["",2202,63,{"$f":"IF(ISNA(VLOOKUP(C301,Master!BQ$61:CC$286,3,FALSE)),\"\",VLOOKUP(C301,Master!BQ$61:CC$286,3,FALSE))","v":""},{"$f":"IF(ISNA(VLOOKUP(C301,Master!BQ$61:CC$286,7,FALSE)),\"\",VLOOKUP(C301,Master!BQ$61:CC$286,7,FALSE))","v":""},{"$f":"IF(ISNA(VLOOKUP(C301,Master!BQ$61:CC$286,8,FALSE)),\"\",VLOOKUP(C301,Master!BQ$61:CC$286,8,FALSE))","v":""},{"$f":"IF(ISNA(VLOOKUP(C301,Master!BQ$61:CC$286,4,FALSE)),\"\",VLOOKUP(C301,Master!BQ$61:CC$286,4,FALSE))","v":""},{"$f":"IF(ISNA(VLOOKUP(C301,Master!BQ$61:CC$286,5,FALSE)),\"\",VLOOKUP(C301,Master!BQ$61:CC$286,5,FALSE))","v":""},"","","","",{"$f":"IF(AND(H301=\"\"),\"\",VLOOKUP(D301,'Fix Pay'!$B$9:$K$116,10,0))","v":""},{"$f":"IF(AND(H301=\"\"),\"\",VLOOKUP(D301,'Fix Pay'!$B$9:$K$116,9,0))","v":""},"",{"$nulls":4},0,null,{"$f":"IF(ISNA(VLOOKUP(C301,Master!BQ$61:CC$286,10,FALSE)),\"\",VLOOKUP(C301,Master!BQ$61:CC$286,10,FALSE))","v":""},null,null,{"$f":"IF(ISNA(VLOOKUP(C301,Master!BQ$61:CC$286,11,FALSE)),\"\",VLOOKUP(C301,Master!BQ$61:CC$286,11,FALSE))","v":""},{"$f":"IF(ISNA(VLOOKUP(C301,Master!BQ$61:CC$286,9,FALSE)),\"\",VLOOKUP(C301,Master!BQ$61:CC$286,9,FALSE))","v":""},0,0,0,0,0,0,"","","","","","",0,0,"",0,0,0,0,0,0,0,null,null,0,0,0,0,0,0,0,0,0,0,0,0,0,0,0,0,null,null,0,0,1,0,0,0,1,0,1,0,0,"",null,{"$f":"IF(I301=\"\",\"\",MAX($CD$229:$CD$236,$CD$239:CD300)+1)","v":""}]
["",2202,64,{"$f":"IF(ISNA(VLOOKUP(C302,Master!BQ$61:CC$286,3,FALSE)),\"\",VLOOKUP(C302,Master!BQ$61:CC$286,3,FALSE))","v":""},{"$f":"IF(ISNA(VLOOKUP(C302,Master!BQ$61:CC$286,7,FALSE)),\"\",VLOOKUP(C302,Master!BQ$61:CC$286,7,FALSE))","v":""},{"$f":"IF(ISNA(VLOOKUP(C302,Master!BQ$61:CC$286,8,FALSE)),\"\",VLOOKUP(C302,Master!BQ$61:CC$286,8,FALSE))","v":""},{"$f":"IF(ISNA(VLOOKUP(C302,Master!BQ$61:CC$286,4,FALSE)),\"\",VLOOKUP(C302,Master!BQ$61:CC$286,4,FALSE))","v":""},{"$f":"IF(ISNA(VLOOKUP(C302,Master!BQ$61:CC$286,5,FALSE)),\"\",VLOOKUP(C302,Master!BQ$61:CC$286,5,FALSE))","v":""},"","","","",{"$f":"IF(AND(H302=\"\"),\"\",VLOOKUP(D302,'Fix Pay'!$B$9:$K$116,10,0))","v":""},{"$f":"IF(AND(H302=\"\"),\"\",VLOOKUP(D302,'Fix Pay'!$B$9:$K$116,9,0))","v":""},"",{"$nulls":4},0,null,{"$f":"IF(ISNA(VLOOKUP(C302,Master!BQ$61:CC$286,10,FALSE)),\"\",VLOOKUP(C302,Master!BQ$61:CC$286,10,FALSE))","v":""},null,null,{"$f":"IF(ISNA(VLOOKUP(C302,Master!BQ$61:CC$286,11,FALSE)),\"\",VLOOKUP(C302,Master!BQ$61:CC$286,11,FALSE))","v":""},{"$f":"IF(ISNA(VLOOKUP(C302,Master!BQ$61:CC$286,9,FALSE)),\"\",VLOOKUP(C302,Master!BQ$61:CC$286,9,FALSE))","v":""},0,0,0,0,0,0,"","","","","","",0,0,"",0,0,0,0,0,0,0,null,null,0,0,0,0,0,0,0,0,0,0,0,0,0,0,0,0,null,null,0,0,1,0,0,0,1,0,1,0,0,"",null,{"$f":"IF(I302=\"\",\"\",MAX($CD$229:$CD$236,$CD$239:CD301)+1)","v":""}]
["",2202,65,{"$f":"IF(ISNA(VLOOKUP(C303,Master!BQ$61:CC$286,3,FALSE)),\"\",VLOOKUP(C303,Master!BQ$61:CC$286,3,FALSE))","v":""},{"$f":"IF(ISNA(VLOOKUP(C303,Master!BQ$61:CC$286,7,FALSE)),\"\",VLOOKUP(C303,Master!BQ$61:CC$286,7,FALSE))","v":""},{"$f":"IF(ISNA(VLOOKUP(C303,Master!BQ$61:CC$286,8,FALSE)),\"\",VLOOKUP(C303,Master!BQ$61:CC$286,8,FALSE))","v":""},{"$f":"IF(ISNA(VLOOKUP(C303,Master!BQ$61:CC$286,4,FALSE)),\"\",VLOOKUP(C303,Master!BQ$61:CC$286,4,FALSE))","v":""},{"$f":"IF(ISNA(VLOOKUP(C303,Master!BQ$61:CC$286,5,FALSE)),\"\",VLOOKUP(C303,Master!BQ$61:CC$286,5,FALSE))","v":""},{"$f":"IF(H303=\"\",\"\",IF(H303=1,12400,IF(H303=2,12600,IF(H303=3,12800,IF(H303=4,13500,IF(H303=5,14600,IF(H303=6,15100,IF(H303=7,15700,IF(H303=8,18500,IF(H303=9,20100,IF(H303=10,23700,IF(H303=11,26500,IF(H303=12,31100,IF(H303=13,39300,IF(H303=14,42500,IF(H303=15,42500,IF(H303=16,47200,IF(H303=17,49700,IF(H303=18,52800,IF(H303=19,56000,IF(H303=20,62300,IF(H303=21,86200,IF(H303=22,90800,IF(H303=23,102100,IF(H303=24, 104200,0)))))))))))))))))))))))))","v":""},"","","",{"$f":"IF(AND(H303=\"\"),\"\",VLOOKUP(D303,'Fix Pay'!$B$9:$K$116,10,0))","v":""},{"$f":"IF(AND(H303=\"\"),\"\",VLOOKUP(D303,'Fix Pay'!$B$9:$K$116,9,0))","v":""},"",{"$nulls":4},0,null,{"$f":"IF(ISNA(VLOOKUP(C303,Master!BQ$61:CC$286,10,FALSE)),\"\",VLOOKUP(C303,Master!BQ$61:CC$286,10,FALSE))","v":""},null,null,{"$f":"IF(ISNA(VLOOKUP(C303,Master!BQ$61:CC$286,11,FALSE)),\"\",VLOOKUP(C303,Master!BQ$61:CC$286,11,FALSE))","v":""},{"$f":"IF(ISNA(VLOOKUP(C303,Master!BQ$61:CC$286,9,FALSE)),\"\",VLOOKUP(C303,Master!BQ$61:CC$286,9,FALSE))","v":""},0,0,0,0,0,0,"","","","","","",0,0,"",0,0,0,0,0,0,0,null,null,0,0,0,0,0,0,0,0,0,0,0,0,0,0,0,0,null,null,0,0,1,0,0,0,1,{"$f":"IF((ROUND((SUMPRODUCT(MID(0&E303,LARGE(INDEX(ISNUMBER(--MID(E303,ROW($1:$25),1))* ROW($1:$25),0),ROW($1:$25))+1,1)*10^ROW($1:$25)/10)),-8)/100000000)>=2004,1,0)","v":0},1,0,0,{"$f":"IF(AND(E303=\"\"),\"\",IF(AND(E303<=0),\"\",IF((ROUND((SUMPRODUCT(MID(0&E303,LARGE(INDEX(ISNUMBER(--MID(E303,ROW($1:$70),1))* ROW($1:$70),0),ROW($1:$70))+1,1)*10^ROW($1:$70)/10)),-8)/100000000)<2004,1,0)))","v":""},null,{"$f":"IF(I303=\"\",\"\",MAX($CD$229:$CD$236,$CD$239:CD302)+1)","v":""}]
["",2202,66,{"$f":"IF(ISNA(VLOOKUP(C304,Master!BQ$61:CC$286,3,FALSE)),\"\",VLOOKUP(C304,Master!BQ$61:CC$286,3,FALSE))","v":""},{"$f":"IF(ISNA(VLOOKUP(C304,Master!BQ$61:CC$286,7,FALSE)),\"\",VLOOKUP(C304,Master!BQ$61:CC$286,7,FALSE))","v":""},{"$f":"IF(ISNA(VLOOKUP(C304,Master!BQ$61:CC$286,8,FALSE)),\"\",VLOOKUP(C304,Master!BQ$61:CC$286,8,FALSE))","v":""},{"$f":"IF(ISNA(VLOOKUP(C304,Master!BQ$61:CC$286,4,FALSE)),\"\",VLOOKUP(C304,Master!BQ$61:CC$286,4,FALSE))","v":""},{"$f":"IF(ISNA(VLOOKUP(C304,Master!BQ$61:CC$286,5,FALSE)),\"\",VLOOKUP(C304,Master!BQ$61:CC$286,5,FALSE))","v":""},"",{"$f":"IF(AND(H304=\"\"),\"\",I304*12)","v":""},{"$f":"IF(AND(H304=\"\"),\"\",\"Not Applicable\")","v":""},{"$f":"IF(AND(H304=\"\"),\"\",\"0\")","v":""},{"$f":"IF(AND(H304=\"\"),\"\",VLOOKUP(D304,'Fix Pay'!$B$9:$K$116,10,0))","v":""},{"$f":"IF(AND(H304=\"\"),\"\",VLOOKUP(D304,'Fix Pay'!$B$9:$K$116,9,0))","v":""},{"$f":"IF(AND(H304=\"\"),\"\",\"FIX PAY\")","v":""},{"$nulls":4},0,null,{"$f":"IF(ISNA(VLOOKUP(C304,Master!BQ$61:CC$286,10,FALSE)),\"\",VLOOKUP(C304,Master!BQ$61:CC$286,10,FALSE))","v":""},null,null,{"$f":"IF(ISNA(VLOOKUP(C304,Master!BQ$61:CC$286,11,FALSE)),\"\",VLOOKUP(C304,Master!BQ$61:CC$286,11,FALSE))","v":""},{"$f":"IF(ISNA(VLOOKUP(C304,Master!BQ$61:CC$286,9,FALSE)),\"\",VLOOKUP(C304,Master!BQ$61:CC$286,9,FALSE))","v":""},{"$f":"IF(Z304=\"MALE\",1,0)*(IF(G304=\"JAMADAR\",1,0))*(IF(I304<=0,0,1))","v":0},{"$f":"IF(Z304=\"FEMALE\",1,0)*(IF(G304=\"JAMADAR\",1,0))*(IF(I304<=0,0,1))","v":0},{"$f":"IF(Z304=\"MALE\",1,0)*(IF(G304=\"LAB BOY\",1,0))*(IF(I304<=0,0,1))","v":0},{"$f":"IF(Z304=\"FEMALE\",1,0)*(IF(G304=\"LAB BOY\",1,0))*(IF(I304<=0,0,1))","v":0},{"$f":"IF(Z304=\"MALE\",1,0)*(IF(G304=\"PEON\",1,0))*(IF(I304<=0,0,1))","v":0},{"$f":"IF(Z304=\"FEMALE\",1,0)*(IF(G304=\"PEON\",1,0))*(IF(I304<=0,0,1))","v":0},{"$f":"IF(AND(I304=\"\"),\"\",I304-ROUNDUP(ROUND((I304*3%)-(I304*3%)*2.9%,-2),0))","v":""},{"$f":"IF(AND(I304=\"\"),\"\",$M304*$BR304)","v":""},{"$f":"IF(AND(I304=\"\"),\"\",$M304*$BS304)","v":""},{"$f":"IF(AND(I304=\"\"),\"\",$M304*$BT304)","v":""},{"$f":"IF(AND(I304=\"\"),\"\",$M304*$BU304)","v":""},{"$f":"IF(AND(I304=\"\"),\"\",ROUND((AH304+AI304)*$AL$10,0)*BV304)","v":""},0,0,{"$f":"IF(AND(I304=\"\"),\"\",ROUND((AH304+AI304)*$AO$10,0)*BV304)","v":""},{"$f":"$G$222*BS304*BV304*(IF(I304<=0,0,1))*(IF(H304<=4800,1,0))","v":0},{"$f":"IF(AND(I304=\"\"),0,ROUND((I304+ROUND(I304*$AL$10,0))/2,0)*(IF(O304=\"FIX PAY\",0,1)))","v":0},{"$f":"IF(G304=\"CLERK GRADE I\",1,IF(G304=\"CLERK GRADE II\",1,0))*75*12*BV304*(IF(I304<=0,0,1))*BW304","v":0},{"$f":"IF(AND(I304=\"\"),0,(IF(G304=\"ASSISTANT\",12,IF(G304=\"CLERK GRADE I\",12,IF(G304=\"CLERK GRADE II\",12,IF(G304=\"FIELDMAN & FIELD REC\",12,IF(G304=\"LAB BOY\",12,IF(G304=\"JAMADAR\",12,IF(G304=\"PEON\",12,10))))))))*(MINA(ROUND(I304*6%,0),600))*(IF($V304=\"yes\",1,0)))","v":0},0,{"$f":"IF(AND(G304=\"\"),0,SUM(AL304:AT304)+AH304+AI304)","v":0},{"$f":"IF(AND(G304=\"\"),0,AU304)","v":0},null,null,{"$f":"AV304+AW304+AX304","v":0},{"$f":"IF(AND(G304=\"\"),0,N304*BR304)","v":0},{"$f":"IF(AND(G304=\"\"),0,N304*BS304)","v":0},{"$f":"IF(AND(G304=\"\"),0,N304*BT304)","v":0},{"$f":"IF(AND(G304=\"\"),0,N304*BU304)","v":0},{"$f":"ROUND((AZ304+BA304)*$BD$10,0)*BV304","v":0},{"$f":"IF(AND(G304=\"\"),0,ROUND((IF(O304=\"FIX PAY\",0,AG304))*$BE$10*2,0)*BV304)","v":0},0,{"$f":"ROUND((AZ304+BA304)*$BG$10,0)*BV304","v":0},{"$f":"3387*2*BS304*BV304*(IF(I304<=0,0,1))*(IF(H304<=4800,1,0))","v":0},{"$f":"IF(AND(I304=\"\"),0,ROUND((AG304+ROUND(AG304*$AL$10,0))/2,0)*(IF(O304=\"FIX PAY\",0,1)))","v":0},{"$f":"IF(G304=\"CLERK GRADE I\",1,IF(G304=\"CLERK GRADE II\",1,0))*75*12*BV304*(IF(I304<=0,0,1))*BW304","v":0},{"$f":"IF(AND(G304=\"\"),0,(IF(G304=\"ASSISTANT\",12,IF(G304=\"CLERK GRADE I\",12,IF(G304=\"CLERK GRADE II\",12,IF(G304=\"FIELDMAN & FIELD REC\",12,IF(G304=\"LAB BOY\",12,IF(G304=\"JAMADAR\",12,IF(G304=\"PEON\",12,10))))))))*(MINA(ROUND(AG304*6%,0),600))*(IF($V304=\"yes\",1,)))","v":0},{"$f":"(IF(G304=\"LAB BOY\",150,IF(G304=\"JAMADAR\",150,IF(G304=\"PEON\",150,0))))*12*BV304*(IF(I304<=0,0,1))","v":0},{"$f":"SUM(BD304:BL304)+AZ304+BA304","v":0},{"$f":"BM304","v":0},null,null,{"$f":"BN304+BO304+BP304","v":0},{"$f":"(IF(G304=\"PRINCIPAL\",1,IF(G304=\"H M\",1,IF(G304=\"AGRICULTURE INST\",1,IF(G304=\"TEACHER-1ST\",1,IF(G304=\"PTI  I  (13)\",1,IF(G304=\"AGRICULTURE TEACH\",1,IF(G304=\"INSTRUCTOR\",1,0))))))))+(IF(G304=\"JR TEACHER\",1,IF(G304=\"LIBRARIAN I\",1,0)))*(IF(O304=\"FIX PAY\",0,1))","v":0},{"$f":"IF(BR304<=0,1,0)*(IF(O304=\"FIX PAY\",0,1))","v":1},{"$f":"(IF(G304=\"PRINCIPAL (16)\",1,IF(G304=\"V P (14)\",1,IF(G304=\"H M (14)\",1,IF(G304=\"AGRICULTURE INST (13)\",1,IF(G304=\"TEACHER-1ST (13)\",1,IF(G304=\"PTI  I  (13)\",1,IF(G304=\"AGRICULTURE TEACH (13)\",1,IF(G304=\"INSTRUCTOR (13)\",1,0))))))))+(IF(G304=\"JR TEACHER (13)\",1,IF(G304=\"LIBRARIAN I (13)\",1,0))))*(IF(O304=\"FIX PAY\",1,0))","v":0},{"$f":"IF(BT304<=0,1,0)*(IF(O304=\"FIX PAY\",1,0))","v":0},{"$f":"IF(O304=\"FIX PAY\",1,0)","v":0},{"$f":"IF(Y304=\"No\",0,1)","v":1},0,{"$f":"IF(I304<=0,0,1)","v":1},{"$f":"IF(O304=\"SANVIDA\",1,0)","v":0},{"$f":"IF(BZ304>0,I304,0)","v":0},"",null,{"$f":"IF(I304=\"\",\"\",MAX($CD$229:$CD$236,$CD$239:CD303)+1)","v":""}]
["",2202,67,{"$f":"IF(ISNA(VLOOKUP(C305,Master!BQ$61:CC$286,3,FALSE)),\"\",VLOOKUP(C305,Master!BQ$61:CC$286,3,FALSE))","v":""},{"$f":"IF(ISNA(VLOOKUP(C305,Master!BQ$61:CC$286,7,FALSE)),\"\",VLOOKUP(C305,Master!BQ$61:CC$286,7,FALSE))","v":""},{"$f":"IF(ISNA(VLOOKUP(C305,Master!BQ$61:CC$286,8,FALSE)),\"\",VLOOKUP(C305,Master!BQ$61:CC$286,8,FALSE))","v":""},{"$f":"IF(ISNA(VLOOKUP(C305,Master!BQ$61:CC$286,4,FALSE)),\"\",VLOOKUP(C305,Master!BQ$61:CC$286,4,FALSE))","v":""},{"$f":"IF(ISNA(VLOOKUP(C305,Master!BQ$61:CC$286,5,FALSE)),\"\",VLOOKUP(C305,Master!BQ$61:CC$286,5,FALSE))","v":""},"","","","",{"$f":"IF(AND(H305=\"\"),\"\",VLOOKUP(D305,'Fix Pay'!$B$9:$K$116,10,0))","v":""},{"$f":"IF(AND(H305=\"\"),\"\",VLOOKUP(D305,'Fix Pay'!$B$9:$K$116,9,0))","v":""},"",{"$nulls":4},0,null,{"$f":"IF(ISNA(VLOOKUP(C305,Master!BQ$61:CC$286,10,FALSE)),\"\",VLOOKUP(C305,Master!BQ$61:CC$286,10,FALSE))","v":""},null,null,{"$f":"IF(ISNA(VLOOKUP(C305,Master!BQ$61:CC$286,11,FALSE)),\"\",VLOOKUP(C305,Master!BQ$61:CC$286,11,FALSE))","v":""},{"$f":"IF(ISNA(VLOOKUP(C305,Master!BQ$61:CC$286,9,FALSE)),\"\",VLOOKUP(C305,Master!BQ$61:CC$286,9,FALSE))","v":""},{"$f":"IF(Z305=\"MALE\",1,0)*(IF(G305=\"JAMADAR\",1,0))*(IF(I305<=0,0,1))","v":0},{"$f":"IF(Z305=\"FEMALE\",1,0)*(IF(G305=\"JAMADAR\",1,0))*(IF(I305<=0,0,1))","v":0},{"$f":"IF(Z305=\"MALE\",1,0)*(IF(G305=\"LAB BOY\",1,0))*(IF(I305<=0,0,1))","v":0},{"$f":"IF(Z305=\"FEMALE\",1,0)*(IF(G305=\"LAB BOY\",1,0))*(IF(I305<=0,0,1))","v":0},{"$f":"IF(Z305=\"MALE\",1,0)*(IF(G305=\"PEON\",1,0))*(IF(I305<=0,0,1))","v":0},{"$f":"IF(Z305=\"FEMALE\",1,0)*(IF(G305=\"PEON\",1,0))*(IF(I305<=0,0,1))","v":0},{"$f":"IF(AND(I305=\"\"),\"\",I305-ROUNDUP(ROUND((I305*3%)-(I305*3%)*2.9%,-2),0))","v":""},{"$f":"IF(AND(I305=\"\"),\"\",$M305*$BR305)","v":""},{"$f":"IF(AND(I305=\"\"),\"\",$M305*$BS305)","v":""},{"$f":"IF(AND(I305=\"\"),\"\",$M305*$BT305)","v":""},{"$f":"IF(AND(I305=\"\"),\"\",$M305*$BU305)","v":""},{"$f":"IF(AND(I305=\"\"),\"\",ROUND((AH305+AI305)*$AL$10,0)*BV305)","v":""},0,0,{"$f":"IF(AND(I305=\"\"),\"\",ROUND((AH305+AI305)*$AO$10,0)*BV305)","v":""},{"$f":"$G$222*BS305*BV305*(IF(I305<=0,0,1))*(IF(H305<=4800,1,0))","v":0},{"$f":"IF(AND(I305=\"\"),0,ROUND((I305+ROUND(I305*$AL$10,0))/2,0)*(IF(O305=\"FIX PAY\",0,1)))","v":0},{"$f":"IF(G305=\"CLERK GRADE I\",1,IF(G305=\"CLERK GRADE II\",1,0))*75*12*BV305*(IF(I305<=0,0,1))*BW305","v":0},{"$f":"IF(AND(I305=\"\"),0,(IF(G305=\"ASSISTANT\",12,IF(G305=\"CLERK GRADE I\",12,IF(G305=\"CLERK GRADE II\",12,IF(G305=\"FIELDMAN & FIELD REC\",12,IF(G305=\"LAB BOY\",12,IF(G305=\"JAMADAR\",12,IF(G305=\"PEON\",12,10))))))))*(MINA(ROUND(I305*6%,0),600))*(IF($V305=\"yes\",1,0)))","v":0},0,{"$f":"IF(AND(G305=\"\"),0,SUM(AL305:AT305)+AH305+AI305)","v":0},{"$f":"IF(AND(G305=\"\"),0,AU305)","v":0},null,null,{"$f":"AV305+AW305+AX305","v":0},{"$f":"IF(AND(G305=\"\"),0,N305*BR305)","v":0},{"$f":"IF(AND(G305=\"\"),0,N305*BS305)","v":0},{"$f":"IF(AND(G305=\"\"),0,N305*BT305)","v":0},{"$f":"IF(AND(G305=\"\"),0,N305*BU305)","v":0},{"$f":"ROUND((AZ305+BA305)*$BD$10,0)*BV305","v":0},{"$f":"IF(AND(G305=\"\"),0,ROUND((IF(O305=\"FIX PAY\",0,AG305))*$BE$10*2,0)*BV305)","v":0},0,{"$f":"ROUND((AZ305+BA305)*$BG$10,0)*BV305","v":0},{"$f":"3387*2*BS305*BV305*(IF(I305<=0,0,1))*(IF(H305<=4800,1,0))","v":0},{"$f":"IF(AND(I305=\"\"),0,ROUND((AG305+ROUND(AG305*$AL$10,0))/2,0)*(IF(O305=\"FIX PAY\",0,1)))","v":0},{"$f":"IF(G305=\"CLERK GRADE I\",1,IF(G305=\"CLERK GRADE II\",1,0))*75*12*BV305*(IF(I305<=0,0,1))*BW305","v":0},{"$f":"IF(AND(G305=\"\"),0,(IF(G305=\"ASSISTANT\",12,IF(G305=\"CLERK GRADE I\",12,IF(G305=\"CLERK GRADE II\",12,IF(G305=\"FIELDMAN & FIELD REC\",12,IF(G305=\"LAB BOY\",12,IF(G305=\"JAMADAR\",12,IF(G305=\"PEON\",12,10))))))))*(MINA(ROUND(AG305*6%,0),600))*(IF($V305=\"yes\",1,)))","v":0},{"$f":"(IF(G305=\"LAB BOY\",150,IF(G305=\"JAMADAR\",150,IF(G305=\"PEON\",150,0))))*12*BV305*(IF(I305<=0,0,1))","v":0},{"$f":"SUM(BD305:BL305)+AZ305+BA305","v":0},{"$f":"BM305","v":0},null,null,{"$f":"BN305+BO305+BP305","v":0},{"$f":"(IF(G305=\"PRINCIPAL\",1,IF(G305=\"H M\",1,IF(G305=\"AGRICULTURE INST\",1,IF(G305=\"TEACHER-1ST\",1,IF(G305=\"PTI  I  (13)\",1,IF(G305=\"AGRICULTURE TEACH\",1,IF(G305=\"INSTRUCTOR\",1,0))))))))+(IF(G305=\"JR TEACHER\",1,IF(G305=\"LIBRARIAN I\",1,0)))*(IF(O305=\"FIX PAY\",0,1))","v":0},{"$f":"IF(BR305<=0,1,0)*(IF(O305=\"FIX PAY\",0,1))","v":1},{"$f":"(IF(G305=\"PRINCIPAL (16)\",1,IF(G305=\"V P (14)\",1,IF(G305=\"H M (14)\",1,IF(G305=\"AGRICULTURE INST (13)\",1,IF(G305=\"TEACHER-1ST (13)\",1,IF(G305=\"PTI  I  (13)\",1,IF(G305=\"AGRICULTURE TEACH (13)\",1,IF(G305=\"INSTRUCTOR (13)\",1,0))))))))+(IF(G305=\"JR TEACHER (13)\",1,IF(G305=\"LIBRARIAN I (13)\",1,0))))*(IF(O305=\"FIX PAY\",1,0))","v":0},{"$f":"IF(BT305<=0,1,0)*(IF(O305=\"FIX PAY\",1,0))","v":0},{"$f":"IF(O305=\"FIX PAY\",1,0)","v":0},{"$f":"IF(Y305=\"No\",0,1)","v":1},0,{"$f":"IF(I305<=0,0,1)","v":1},{"$f":"IF(O305=\"SANVIDA\",1,0)","v":0},{"$f":"IF(BZ305>0,I305,0)","v":0},"",null,{"$f":"IF(I305=\"\",\"\",MAX($CD$229:$CD$236,$CD$239:CD304)+1)","v":""}]
["",2202,68,{"$f":"IF(ISNA(VLOOKUP(C306,Master!BQ$61:CC$286,3,FALSE)),\"\",VLOOKUP(C306,Master!BQ$61:CC$286,3,FALSE))","v":""},{"$f":"IF(ISNA(VLOOKUP(C306,Master!BQ$61:CC$286,7,FALSE)),\"\",VLOOKUP(C306,Master!BQ$61:CC$286,7,FALSE))","v":""},{"$f":"IF(ISNA(VLOOKUP(C306,Master!BQ$61:CC$286,8,FALSE)),\"\",VLOOKUP(C306,Master!BQ$61:CC$286,8,FALSE))","v":""},{"$f":"IF(ISNA(VLOOKUP(C306,Master!BQ$61:CC$286,4,FALSE)),\"\",VLOOKUP(C306,Master!BQ$61:CC$286,4,FALSE))","v":""},{"$f":"IF(ISNA(VLOOKUP(C306,Master!BQ$61:CC$286,5,FALSE)),\"\",VLOOKUP(C306,Master!BQ$61:CC$286,5,FALSE))","v":""},"","","","",{"$f":"IF(AND(H306=\"\"),\"\",VLOOKUP(D306,'Fix Pay'!$B$9:$K$116,10,0))","v":""},{"$f":"IF(AND(H306=\"\"),\"\",VLOOKUP(D306,'Fix Pay'!$B$9:$K$116,9,0))","v":""},"",{"$nulls":4},0,null,{"$f":"IF(ISNA(VLOOKUP(C306,Master!BQ$61:CC$286,10,FALSE)),\"\",VLOOKUP(C306,Master!BQ$61:CC$286,10,FALSE))","v":""},null,null,{"$f":"IF(ISNA(VLOOKUP(C306,Master!BQ$61:CC$286,11,FALSE)),\"\",VLOOKUP(C306,Master!BQ$61:CC$286,11,FALSE))","v":""},{"$f":"IF(ISNA(VLOOKUP(C306,Master!BQ$61:CC$286,9,FALSE)),\"\",VLOOKUP(C306,Master!BQ$61:CC$286,9,FALSE))","v":""},{"$f":"IF(Z306=\"MALE\",1,0)*(IF(G306=\"JAMADAR\",1,0))*(IF(I306<=0,0,1))","v":0},{"$f":"IF(Z306=\"FEMALE\",1,0)*(IF(G306=\"JAMADAR\",1,0))*(IF(I306<=0,0,1))","v":0},{"$f":"IF(Z306=\"MALE\",1,0)*(IF(G306=\"LAB BOY\",1,0))*(IF(I306<=0,0,1))","v":0},{"$f":"IF(Z306=\"FEMALE\",1,0)*(IF(G306=\"LAB BOY\",1,0))*(IF(I306<=0,0,1))","v":0},{"$f":"IF(Z306=\"MALE\",1,0)*(IF(G306=\"PEON\",1,0))*(IF(I306<=0,0,1))","v":0},{"$f":"IF(Z306=\"FEMALE\",1,0)*(IF(G306=\"PEON\",1,0))*(IF(I306<=0,0,1))","v":0},{"$f":"IF(AND(I306=\"\"),\"\",I306-ROUNDUP(ROUND((I306*3%)-(I306*3%)*2.9%,-2),0))","v":""},{"$f":"IF(AND(I306=\"\"),\"\",$M306*$BR306)","v":""},{"$f":"IF(AND(I306=\"\"),\"\",$M306*$BS306)","v":""},{"$f":"IF(AND(I306=\"\"),\"\",$M306*$BT306)","v":""},{"$f":"IF(AND(I306=\"\"),\"\",$M306*$BU306)","v":""},{"$f":"IF(AND(I306=\"\"),\"\",ROUND((AH306+AI306)*$AL$10,0)*BV306)","v":""},0,0,{"$f":"IF(AND(I306=\"\"),\"\",ROUND((AH306+AI306)*$AO$10,0)*BV306)","v":""},{"$f":"$G$222*BS306*BV306*(IF(I306<=0,0,1))*(IF(H306<=4800,1,0))","v":0},{"$f":"IF(AND(I306=\"\"),0,ROUND((I306+ROUND(I306*$AL$10,0))/2,0)*(IF(O306=\"FIX PAY\",0,1)))","v":0},{"$f":"IF(G306=\"CLERK GRADE I\",1,IF(G306=\"CLERK GRADE II\",1,0))*75*12*BV306*(IF(I306<=0,0,1))*BW306","v":0},{"$f":"IF(AND(I306=\"\"),0,(IF(G306=\"ASSISTANT\",12,IF(G306=\"CLERK GRADE I\",12,IF(G306=\"CLERK GRADE II\",12,IF(G306=\"FIELDMAN & FIELD REC\",12,IF(G306=\"LAB BOY\",12,IF(G306=\"JAMADAR\",12,IF(G306=\"PEON\",12,10))))))))*(MINA(ROUND(I306*6%,0),600))*(IF($V306=\"yes\",1,0)))","v":0},0,{"$f":"IF(AND(G306=\"\"),0,SUM(AL306:AT306)+AH306+AI306)","v":0},{"$f":"IF(AND(G306=\"\"),0,AU306)","v":0},null,null,{"$f":"AV306+AW306+AX306","v":0},{"$f":"IF(AND(G306=\"\"),0,N306*BR306)","v":0},{"$f":"IF(AND(G306=\"\"),0,N306*BS306)","v":0},{"$f":"IF(AND(G306=\"\"),0,N306*BT306)","v":0},{"$f":"IF(AND(G306=\"\"),0,N306*BU306)","v":0},{"$f":"ROUND((AZ306+BA306)*$BD$10,0)*BV306","v":0},{"$f":"IF(AND(G306=\"\"),0,ROUND((IF(O306=\"FIX PAY\",0,AG306))*$BE$10*2,0)*BV306)","v":0},0,{"$f":"ROUND((AZ306+BA306)*$BG$10,0)*BV306","v":0},{"$f":"3387*2*BS306*BV306*(IF(I306<=0,0,1))*(IF(H306<=4800,1,0))","v":0},{"$f":"IF(AND(I306=\"\"),0,ROUND((AG306+ROUND(AG306*$AL$10,0))/2,0)*(IF(O306=\"FIX PAY\",0,1)))","v":0},{"$f":"IF(G306=\"CLERK GRADE I\",1,IF(G306=\"CLERK GRADE II\",1,0))*75*12*BV306*(IF(I306<=0,0,1))*BW306","v":0},{"$f":"IF(AND(G306=\"\"),0,(IF(G306=\"ASSISTANT\",12,IF(G306=\"CLERK GRADE I\",12,IF(G306=\"CLERK GRADE II\",12,IF(G306=\"FIELDMAN & FIELD REC\",12,IF(G306=\"LAB BOY\",12,IF(G306=\"JAMADAR\",12,IF(G306=\"PEON\",12,10))))))))*(MINA(ROUND(AG306*6%,0),600))*(IF($V306=\"yes\",1,)))","v":0},{"$f":"(IF(G306=\"LAB BOY\",150,IF(G306=\"JAMADAR\",150,IF(G306=\"PEON\",150,0))))*12*BV306*(IF(I306<=0,0,1))","v":0},{"$f":"SUM(BD306:BL306)+AZ306+BA306","v":0},{"$f":"BM306","v":0},null,null,{"$f":"BN306+BO306+BP306","v":0},{"$f":"(IF(G306=\"PRINCIPAL\",1,IF(G306=\"H M\",1,IF(G306=\"AGRICULTURE INST\",1,IF(G306=\"TEACHER-1ST\",1,IF(G306=\"PTI  I  (13)\",1,IF(G306=\"AGRICULTURE TEACH\",1,IF(G306=\"INSTRUCTOR\",1,0))))))))+(IF(G306=\"JR TEACHER\",1,IF(G306=\"LIBRARIAN I\",1,0)))*(IF(O306=\"FIX PAY\",0,1))","v":0},{"$f":"IF(BR306<=0,1,0)*(IF(O306=\"FIX PAY\",0,1))","v":1},{"$f":"(IF(G306=\"PRINCIPAL (16)\",1,IF(G306=\"V P (14)\",1,IF(G306=\"H M (14)\",1,IF(G306=\"AGRICULTURE INST (13)\",1,IF(G306=\"TEACHER-1ST (13)\",1,IF(G306=\"PTI  I  (13)\",1,IF(G306=\"AGRICULTURE TEACH (13)\",1,IF(G306=\"INSTRUCTOR (13)\",1,0))))))))+(IF(G306=\"JR TEACHER (13)\",1,IF(G306=\"LIBRARIAN I (13)\",1,0))))*(IF(O306=\"FIX PAY\",1,0))","v":0},{"$f":"IF(BT306<=0,1,0)*(IF(O306=\"FIX PAY\",1,0))","v":0},{"$f":"IF(O306=\"FIX PAY\",1,0)","v":0},{"$f":"IF(Y306=\"No\",0,1)","v":1},0,{"$f":"IF(I306<=0,0,1)","v":1},{"$f":"IF(O306=\"SANVIDA\",1,0)","v":0},{"$f":"IF(BZ306>0,I306,0)","v":0},"",null,{"$f":"IF(I306=\"\",\"\",MAX($CD$229:$CD$236,$CD$239:CD305)+1)","v":""}]
["",2202,69,{"$f":"IF(ISNA(VLOOKUP(C307,Master!BQ$61:CC$286,3,FALSE)),\"\",VLOOKUP(C307,Master!BQ$61:CC$286,3,FALSE))","v":""},{"$f":"IF(ISNA(VLOOKUP(C307,Master!BQ$61:CC$286,7,FALSE)),\"\",VLOOKUP(C307,Master!BQ$61:CC$286,7,FALSE))","v":""},{"$f":"IF(ISNA(VLOOKUP(C307,Master!BQ$61:CC$286,8,FALSE)),\"\",VLOOKUP(C307,Master!BQ$61:CC$286,8,FALSE))","v":""},{"$f":"IF(ISNA(VLOOKUP(C307,Master!BQ$61:CC$286,4,FALSE)),\"\",VLOOKUP(C307,Master!BQ$61:CC$286,4,FALSE))","v":""},{"$f":"IF(ISNA(VLOOKUP(C307,Master!BQ$61:CC$286,5,FALSE)),\"\",VLOOKUP(C307,Master!BQ$61:CC$286,5,FALSE))","v":""},"","","","",{"$f":"IF(AND(H307=\"\"),\"\",VLOOKUP(D307,'Fix Pay'!$B$9:$K$116,10,0))","v":""},{"$f":"IF(AND(H307=\"\"),\"\",VLOOKUP(D307,'Fix Pay'!$B$9:$K$116,9,0))","v":""},"",{"$nulls":4},0,null,{"$f":"IF(ISNA(VLOOKUP(C307,Master!BQ$61:CC$286,10,FALSE)),\"\",VLOOKUP(C307,Master!BQ$61:CC$286,10,FALSE))","v":""},null,null,{"$f":"IF(ISNA(VLOOKUP(C307,Master!BQ$61:CC$286,11,FALSE)),\"\",VLOOKUP(C307,Master!BQ$61:CC$286,11,FALSE))","v":""},{"$f":"IF(ISNA(VLOOKUP(C307,Master!BQ$61:CC$286,9,FALSE)),\"\",VLOOKUP(C307,Master!BQ$61:CC$286,9,FALSE))","v":""},{"$f":"IF(Z307=\"MALE\",1,0)*(IF(G307=\"JAMADAR\",1,0))*(IF(I307<=0,0,1))","v":0},{"$f":"IF(Z307=\"FEMALE\",1,0)*(IF(G307=\"JAMADAR\",1,0))*(IF(I307<=0,0,1))","v":0},{"$f":"IF(Z307=\"MALE\",1,0)*(IF(G307=\"LAB BOY\",1,0))*(IF(I307<=0,0,1))","v":0},{"$f":"IF(Z307=\"FEMALE\",1,0)*(IF(G307=\"LAB BOY\",1,0))*(IF(I307<=0,0,1))","v":0},{"$f":"IF(Z307=\"MALE\",1,0)*(IF(G307=\"PEON\",1,0))*(IF(I307<=0,0,1))","v":0},{"$f":"IF(Z307=\"FEMALE\",1,0)*(IF(G307=\"PEON\",1,0))*(IF(I307<=0,0,1))","v":0},{"$f":"IF(AND(I307=\"\"),\"\",I307-ROUNDUP(ROUND((I307*3%)-(I307*3%)*2.9%,-2),0))","v":""},{"$f":"IF(AND(I307=\"\"),\"\",$M307*$BR307)","v":""},{"$f":"IF(AND(I307=\"\"),\"\",$M307*$BS307)","v":""},{"$f":"IF(AND(I307=\"\"),\"\",$M307*$BT307)","v":""},{"$f":"IF(AND(I307=\"\"),\"\",$M307*$BU307)","v":""},{"$f":"IF(AND(I307=\"\"),\"\",ROUND((AH307+AI307)*$AL$10,0)*BV307)","v":""},0,0,{"$f":"IF(AND(I307=\"\"),\"\",ROUND((AH307+AI307)*$AO$10,0)*BV307)","v":""},{"$f":"$G$222*BS307*BV307*(IF(I307<=0,0,1))*(IF(H307<=4800,1,0))","v":0},{"$f":"IF(AND(I307=\"\"),0,ROUND((I307+ROUND(I307*$AL$10,0))/2,0)*(IF(O307=\"FIX PAY\",0,1)))","v":0},{"$f":"IF(G307=\"CLERK GRADE I\",1,IF(G307=\"CLERK GRADE II\",1,0))*75*12*BV307*(IF(I307<=0,0,1))*BW307","v":0},{"$f":"IF(AND(I307=\"\"),0,(IF(G307=\"ASSISTANT\",12,IF(G307=\"CLERK GRADE I\",12,IF(G307=\"CLERK GRADE II\",12,IF(G307=\"FIELDMAN & FIELD REC\",12,IF(G307=\"LAB BOY\",12,IF(G307=\"JAMADAR\",12,IF(G307=\"PEON\",12,10))))))))*(MINA(ROUND(I307*6%,0),600))*(IF($V307=\"yes\",1,0)))","v":0},0,{"$f":"IF(AND(G307=\"\"),0,SUM(AL307:AT307)+AH307+AI307)","v":0},{"$f":"IF(AND(G307=\"\"),0,AU307)","v":0},null,null,{"$f":"AV307+AW307+AX307","v":0},{"$f":"IF(AND(G307=\"\"),0,N307*BR307)","v":0},{"$f":"IF(AND(G307=\"\"),0,N307*BS307)","v":0},{"$f":"IF(AND(G307=\"\"),0,N307*BT307)","v":0},{"$f":"IF(AND(G307=\"\"),0,N307*BU307)","v":0},{"$f":"ROUND((AZ307+BA307)*$BD$10,0)*BV307","v":0},{"$f":"IF(AND(G307=\"\"),0,ROUND((IF(O307=\"FIX PAY\",0,AG307))*$BE$10*2,0)*BV307)","v":0},0,{"$f":"ROUND((AZ307+BA307)*$BG$10,0)*BV307","v":0},{"$f":"3387*2*BS307*BV307*(IF(I307<=0,0,1))*(IF(H307<=4800,1,0))","v":0},{"$f":"IF(AND(I307=\"\"),0,ROUND((AG307+ROUND(AG307*$AL$10,0))/2,0)*(IF(O307=\"FIX PAY\",0,1)))","v":0},{"$f":"IF(G307=\"CLERK GRADE I\",1,IF(G307=\"CLERK GRADE II\",1,0))*75*12*BV307*(IF(I307<=0,0,1))*BW307","v":0},{"$f":"IF(AND(G307=\"\"),0,(IF(G307=\"ASSISTANT\",12,IF(G307=\"CLERK GRADE I\",12,IF(G307=\"CLERK GRADE II\",12,IF(G307=\"FIELDMAN & FIELD REC\",12,IF(G307=\"LAB BOY\",12,IF(G307=\"JAMADAR\",12,IF(G307=\"PEON\",12,10))))))))*(MINA(ROUND(AG307*6%,0),600))*(IF($V307=\"yes\",1,)))","v":0},{"$f":"(IF(G307=\"LAB BOY\",150,IF(G307=\"JAMADAR\",150,IF(G307=\"PEON\",150,0))))*12*BV307*(IF(I307<=0,0,1))","v":0},{"$f":"SUM(BD307:BL307)+AZ307+BA307","v":0},{"$f":"BM307","v":0},null,null,{"$f":"BN307+BO307+BP307","v":0},{"$f":"(IF(G307=\"PRINCIPAL\",1,IF(G307=\"H M\",1,IF(G307=\"AGRICULTURE INST\",1,IF(G307=\"TEACHER-1ST\",1,IF(G307=\"PTI  I  (13)\",1,IF(G307=\"AGRICULTURE TEACH\",1,IF(G307=\"INSTRUCTOR\",1,0))))))))+(IF(G307=\"JR TEACHER\",1,IF(G307=\"LIBRARIAN I\",1,0)))*(IF(O307=\"FIX PAY\",0,1))","v":0},{"$f":"IF(BR307<=0,1,0)*(IF(O307=\"FIX PAY\",0,1))","v":1},{"$f":"(IF(G307=\"PRINCIPAL (16)\",1,IF(G307=\"V P (14)\",1,IF(G307=\"H M (14)\",1,IF(G307=\"AGRICULTURE INST (13)\",1,IF(G307=\"TEACHER-1ST (13)\",1,IF(G307=\"PTI  I  (13)\",1,IF(G307=\"AGRICULTURE TEACH (13)\",1,IF(G307=\"INSTRUCTOR (13)\",1,0))))))))+(IF(G307=\"JR TEACHER (13)\",1,IF(G307=\"LIBRARIAN I (13)\",1,0))))*(IF(O307=\"FIX PAY\",1,0))","v":0},{"$f":"IF(BT307<=0,1,0)*(IF(O307=\"FIX PAY\",1,0))","v":0},{"$f":"IF(O307=\"FIX PAY\",1,0)","v":0},{"$f":"IF(Y307=\"No\",0,1)","v":1},0,{"$f":"IF(I307<=0,0,1)","v":1},{"$f":"IF(O307=\"SANVIDA\",1,0)","v":0},{"$f":"IF(BZ307>0,I307,0)","v":0},"",null,{"$f":"IF(I307=\"\",\"\",MAX($CD$229:$CD$236,$CD$239:CD306)+1)","v":""}]
["",2202,70,{"$f":"IF(ISNA(VLOOKUP(C308,Master!BQ$61:CC$286,3,FALSE)),\"\",VLOOKUP(C308,Master!BQ$61:CC$286,3,FALSE))","v":""},{"$f":"IF(ISNA(VLOOKUP(C308,Master!BQ$61:CC$286,7,FALSE)),\"\",VLOOKUP(C308,Master!BQ$61:CC$286,7,FALSE))","v":""},{"$f":"IF(ISNA(VLOOKUP(C308,Master!BQ$61:CC$286,8,FALSE)),\"\",VLOOKUP(C308,Master!BQ$61:CC$286,8,FALSE))","v":""},{"$f":"IF(ISNA(VLOOKUP(C308,Master!BQ$61:CC$286,4,FALSE)),\"\",VLOOKUP(C308,Master!BQ$61:CC$286,4,FALSE))","v":""},{"$f":"IF(ISNA(VLOOKUP(C308,Master!BQ$61:CC$286,5,FALSE)),\"\",VLOOKUP(C308,Master!BQ$61:CC$286,5,FALSE))","v":""},"","","","",{"$f":"IF(AND(H308=\"\"),\"\",VLOOKUP(D308,'Fix Pay'!$B$9:$K$116,10,0))","v":""},{"$f":"IF(AND(H308=\"\"),\"\",VLOOKUP(D308,'Fix Pay'!$B$9:$K$116,9,0))","v":""},"",{"$nulls":4},0,null,{"$f":"IF(ISNA(VLOOKUP(C308,Master!BQ$61:CC$286,10,FALSE)),\"\",VLOOKUP(C308,Master!BQ$61:CC$286,10,FALSE))","v":""},null,null,{"$f":"IF(ISNA(VLOOKUP(C308,Master!BQ$61:CC$286,11,FALSE)),\"\",VLOOKUP(C308,Master!BQ$61:CC$286,11,FALSE))","v":""},{"$f":"IF(ISNA(VLOOKUP(C308,Master!BQ$61:CC$286,9,FALSE)),\"\",VLOOKUP(C308,Master!BQ$61:CC$286,9,FALSE))","v":""},{"$f":"IF(Z308=\"MALE\",1,0)*(IF(G308=\"JAMADAR\",1,0))*(IF(I308<=0,0,1))","v":0},{"$f":"IF(Z308=\"FEMALE\",1,0)*(IF(G308=\"JAMADAR\",1,0))*(IF(I308<=0,0,1))","v":0},{"$f":"IF(Z308=\"MALE\",1,0)*(IF(G308=\"LAB BOY\",1,0))*(IF(I308<=0,0,1))","v":0},{"$f":"IF(Z308=\"FEMALE\",1,0)*(IF(G308=\"LAB BOY\",1,0))*(IF(I308<=0,0,1))","v":0},{"$f":"IF(Z308=\"MALE\",1,0)*(IF(G308=\"PEON\",1,0))*(IF(I308<=0,0,1))","v":0},{"$f":"IF(Z308=\"FEMALE\",1,0)*(IF(G308=\"PEON\",1,0))*(IF(I308<=0,0,1))","v":0},{"$f":"IF(AND(I308=\"\"),\"\",I308-ROUNDUP(ROUND((I308*3%)-(I308*3%)*2.9%,-2),0))","v":""},{"$f":"IF(AND(I308=\"\"),\"\",$M308*$BR308)","v":""},{"$f":"IF(AND(I308=\"\"),\"\",$M308*$BS308)","v":""},{"$f":"IF(AND(I308=\"\"),\"\",$M308*$BT308)","v":""},{"$f":"IF(AND(I308=\"\"),\"\",$M308*$BU308)","v":""},{"$f":"IF(AND(I308=\"\"),\"\",ROUND((AH308+AI308)*$AL$10,0)*BV308)","v":""},0,0,{"$f":"IF(AND(I308=\"\"),\"\",ROUND((AH308+AI308)*$AO$10,0)*BV308)","v":""},{"$f":"$G$222*BS308*BV308*(IF(I308<=0,0,1))*(IF(H308<=4800,1,0))","v":0},{"$f":"IF(AND(I308=\"\"),0,ROUND((I308+ROUND(I308*$AL$10,0))/2,0)*(IF(O308=\"FIX PAY\",0,1)))","v":0},{"$f":"IF(G308=\"CLERK GRADE I\",1,IF(G308=\"CLERK GRADE II\",1,0))*75*12*BV308*(IF(I308<=0,0,1))*BW308","v":0},null,0,{"$f":"IF(AND(I308=\"\"),\"\",SUM(AL308:AT308)+AH308+AI308)","v":""},{"$f":"IF(AND(I308=\"\"),\"\",AU308)","v":""},null,null,{"$f":"IF(AND(I308=\"\"),\"\",AV308+AW308+AX308)","v":""},{"$f":"IF(AND(I308=\"\"),\"\",N308*BR308)","v":""},{"$f":"IF(AND(I308=\"\"),\"\",N308*BS308)","v":""},{"$f":"IF(AND(I308=\"\"),\"\",N308*BT308)","v":""},{"$f":"IF(AND(I308=\"\"),\"\",N308*BU308)","v":""},{"$f":"IF(AND(I308=\"\"),\"\",ROUND((AZ308+BA308)*$BD$10,0)*BV308)","v":""},null,0,{"$f":"IF(AND(I308=\"\"),\"\",ROUND((AZ308+BA308)*$BG$10,0)*BV308)","v":""},{"$f":"3387*2*BS308*BV308*(IF(I308<=0,0,1))*(IF(H308<=4800,1,0))","v":0},{"$f":"IF(AND(I308=\"\"),0,ROUND((AG308+ROUND(AG308*$AL$10,0))/2,0)*(IF(O308=\"FIX PAY\",0,1)))","v":0},{"$f":"IF(G308=\"CLERK GRADE I\",1,IF(G308=\"CLERK GRADE II\",1,0))*75*12*BV308*(IF(I308<=0,0,1))*BW308","v":0},{"$f":"IF(AND(G308=\"\"),0,(IF(G308=\"ASSISTANT\",12,IF(G308=\"CLERK GRADE I\",12,IF(G308=\"CLERK GRADE II\",12,IF(G308=\"FIELDMAN & FIELD REC\",12,IF(G308=\"LAB BOY\",12,IF(G308=\"JAMADAR\",12,IF(G308=\"PEON\",12,10))))))))*(MINA(ROUND(AG308*6%,0),600))*(IF($V308=\"yes\",1,)))","v":0},{"$f":"IF(AND(I308=\"\"),\"\",(IF(G308=\"LAB BOY\",150,IF(G308=\"JAMADAR\",150,IF(G308=\"PEON\",150,0))))*12*BV308*(IF(I308<=0,0,1)))","v":""},{"$f":"IF(AND(I308=\"\"),\"\",SUM(BD308:BL308)+AZ308+BA308)","v":""},{"$f":"IF(AND(I308=\"\"),\"\",BM308)","v":""},null,null,{"$f":"IF(AND(I308=\"\"),\"\",BN308+BO308+BP308)","v":""},{"$f":"(IF(G308=\"PRINCIPAL\",1,IF(G308=\"H M\",1,IF(G308=\"AGRICULTURE INST\",1,IF(G308=\"TEACHER-1ST\",1,IF(G308=\"PTI  I  (13)\",1,IF(G308=\"AGRICULTURE TEACH\",1,IF(G308=\"INSTRUCTOR\",1,0))))))))+(IF(G308=\"JR TEACHER\",1,IF(G308=\"LIBRARIAN I\",1,0)))*(IF(O308=\"FIX PAY\",0,1))","v":0},{"$f":"IF(BR308<=0,1,0)*(IF(O308=\"FIX PAY\",0,1))","v":1},{"$f":"(IF(G308=\"PRINCIPAL (16)\",1,IF(G308=\"V P (14)\",1,IF(G308=\"H M (14)\",1,IF(G308=\"AGRICULTURE INST (13)\",1,IF(G308=\"TEACHER-1ST (13)\",1,IF(G308=\"PTI  I  (13)\",1,IF(G308=\"AGRICULTURE TEACH (13)\",1,IF(G308=\"INSTRUCTOR (13)\",1,0))))))))+(IF(G308=\"JR TEACHER (13)\",1,IF(G308=\"LIBRARIAN I (13)\",1,0))))*(IF(O308=\"FIX PAY\",1,0))","v":0},{"$f":"IF(BT308<=0,1,0)*(IF(O308=\"FIX PAY\",1,0))","v":0},{"$f":"IF(O308=\"FIX PAY\",1,0)","v":0},{"$f":"IF(Y308=\"No\",0,1)","v":1},0,{"$f":"IF(I308<=0,0,1)","v":1},{"$f":"IF(O308=\"SANVIDA\",1,0)","v":0},{"$f":"IF(BZ308>0,I308,0)","v":0},"",null,{"$f":"IF(I308=\"\",\"\",MAX($CD$229:$CD$236,$CD$239:CD307)+1)","v":""}]
["",2202,71,{"$f":"IF(ISNA(VLOOKUP(C309,Master!BQ$61:CC$286,3,FALSE)),\"\",VLOOKUP(C309,Master!BQ$61:CC$286,3,FALSE))","v":""},{"$f":"IF(ISNA(VLOOKUP(C309,Master!BQ$61:CC$286,7,FALSE)),\"\",VLOOKUP(C309,Master!BQ$61:CC$286,7,FALSE))","v":""},{"$f":"IF(ISNA(VLOOKUP(C309,Master!BQ$61:CC$286,8,FALSE)),\"\",VLOOKUP(C309,Master!BQ$61:CC$286,8,FALSE))","v":""},{"$f":"IF(ISNA(VLOOKUP(C309,Master!BQ$61:CC$286,4,FALSE)),\"\",VLOOKUP(C309,Master!BQ$61:CC$286,4,FALSE))","v":""},{"$f":"IF(ISNA(VLOOKUP(C309,Master!BQ$61:CC$286,5,FALSE)),\"\",VLOOKUP(C309,Master!BQ$61:CC$286,5,FALSE))","v":""},"","","","",{"$f":"IF(AND(H309=\"\"),\"\",VLOOKUP(D309,'Fix Pay'!$B$9:$K$116,10,0))","v":""},{"$f":"IF(AND(H309=\"\"),\"\",VLOOKUP(D309,'Fix Pay'!$B$9:$K$116,9,0))","v":""},"",{"$nulls":4},0,null,{"$f":"IF(ISNA(VLOOKUP(C309,Master!BQ$61:CC$286,10,FALSE)),\"\",VLOOKUP(C309,Master!BQ$61:CC$286,10,FALSE))","v":""},null,null,{"$f":"IF(ISNA(VLOOKUP(C309,Master!BQ$61:CC$286,11,FALSE)),\"\",VLOOKUP(C309,Master!BQ$61:CC$286,11,FALSE))","v":""},{"$f":"IF(ISNA(VLOOKUP(C309,Master!BQ$61:CC$286,9,FALSE)),\"\",VLOOKUP(C309,Master!BQ$61:CC$286,9,FALSE))","v":""},0,0,0,0,0,0,"","","","","","",0,0,"",0,0,0,null,0,"","",null,null,"","","","","","",null,0,"",0,0,0,0,"","","",null,null,"",0,1,0,0,0,1,0,1,0,0,"",null,{"$f":"IF(I309=\"\",\"\",MAX($CD$229:$CD$236,$CD$239:CD308)+1)","v":""}]
["",2202,72,{"$f":"IF(ISNA(VLOOKUP(C310,Master!BQ$61:CC$286,3,FALSE)),\"\",VLOOKUP(C310,Master!BQ$61:CC$286,3,FALSE))","v":""},{"$f":"IF(ISNA(VLOOKUP(C310,Master!BQ$61:CC$286,7,FALSE)),\"\",VLOOKUP(C310,Master!BQ$61:CC$286,7,FALSE))","v":""},{"$f":"IF(ISNA(VLOOKUP(C310,Master!BQ$61:CC$286,8,FALSE)),\"\",VLOOKUP(C310,Master!BQ$61:CC$286,8,FALSE))","v":""},{"$f":"IF(ISNA(VLOOKUP(C310,Master!BQ$61:CC$286,4,FALSE)),\"\",VLOOKUP(C310,Master!BQ$61:CC$286,4,FALSE))","v":""},{"$f":"IF(ISNA(VLOOKUP(C310,Master!BQ$61:CC$286,5,FALSE)),\"\",VLOOKUP(C310,Master!BQ$61:CC$286,5,FALSE))","v":""},"","","","",{"$f":"IF(AND(H310=\"\"),\"\",VLOOKUP(D310,'Fix Pay'!$B$9:$K$116,10,0))","v":""},{"$f":"IF(AND(H310=\"\"),\"\",VLOOKUP(D310,'Fix Pay'!$B$9:$K$116,9,0))","v":""},"",{"$nulls":4},0,null,{"$f":"IF(ISNA(VLOOKUP(C310,Master!BQ$61:CC$286,10,FALSE)),\"\",VLOOKUP(C310,Master!BQ$61:CC$286,10,FALSE))","v":""},null,null,{"$f":"IF(ISNA(VLOOKUP(C310,Master!BQ$61:CC$286,11,FALSE)),\"\",VLOOKUP(C310,Master!BQ$61:CC$286,11,FALSE))","v":""},{"$f":"IF(ISNA(VLOOKUP(C310,Master!BQ$61:CC$286,9,FALSE)),\"\",VLOOKUP(C310,Master!BQ$61:CC$286,9,FALSE))","v":""},0,0,0,0,0,0,"","","","","","",0,0,"",0,0,0,null,0,"","",null,null,"","","","","","",null,0,"",0,0,0,0,"","","",null,null,"",0,1,0,0,0,1,0,1,0,0,"",null,{"$f":"IF(I310=\"\",\"\",MAX($CD$229:$CD$236,$CD$239:CD309)+1)","v":""}]
["",2202,73,{"$f":"IF(ISNA(VLOOKUP(C311,Master!BQ$61:CC$286,3,FALSE)),\"\",VLOOKUP(C311,Master!BQ$61:CC$286,3,FALSE))","v":""},{"$f":"IF(ISNA(VLOOKUP(C311,Master!BQ$61:CC$286,7,FALSE)),\"\",VLOOKUP(C311,Master!BQ$61:CC$286,7,FALSE))","v":""},{"$f":"IF(ISNA(VLOOKUP(C311,Master!BQ$61:CC$286,8,FALSE)),\"\",VLOOKUP(C311,Master!BQ$61:CC$286,8,FALSE))","v":""},{"$f":"IF(ISNA(VLOOKUP(C311,Master!BQ$61:CC$286,4,FALSE)),\"\",VLOOKUP(C311,Master!BQ$61:CC$286,4,FALSE))","v":""},{"$f":"IF(ISNA(VLOOKUP(C311,Master!BQ$61:CC$286,5,FALSE)),\"\",VLOOKUP(C311,Master!BQ$61:CC$286,5,FALSE))","v":""},"","","","",{"$f":"IF(AND(H311=\"\"),\"\",VLOOKUP(D311,'Fix Pay'!$B$9:$K$116,10,0))","v":""},{"$f":"IF(AND(H311=\"\"),\"\",VLOOKUP(D311,'Fix Pay'!$B$9:$K$116,9,0))","v":""},"",{"$nulls":4},0,null,{"$f":"IF(ISNA(VLOOKUP(C311,Master!BQ$61:CC$286,10,FALSE)),\"\",VLOOKUP(C311,Master!BQ$61:CC$286,10,FALSE))","v":""},null,null,{"$f":"IF(ISNA(VLOOKUP(C311,Master!BQ$61:CC$286,11,FALSE)),\"\",VLOOKUP(C311,Master!BQ$61:CC$286,11,FALSE))","v":""},{"$f":"IF(ISNA(VLOOKUP(C311,Master!BQ$61:CC$286,9,FALSE)),\"\",VLOOKUP(C311,Master!BQ$61:CC$286,9,FALSE))","v":""},0,0,0,0,0,0,"","","","","","",0,0,"",0,0,0,null,0,"","",null,null,"","","","","","",null,0,"",0,0,0,0,"","","",null,null,"",0,1,0,0,0,1,0,1,0,0,"",null,{"$f":"IF(I311=\"\",\"\",MAX($CD$229:$CD$236,$CD$239:CD310)+1)","v":""}]
["",2202,74,{"$f":"IF(ISNA(VLOOKUP(C312,Master!BQ$61:CC$286,3,FALSE)),\"\",VLOOKUP(C312,Master!BQ$61:CC$286,3,FALSE))","v":""},{"$f":"IF(ISNA(VLOOKUP(C312,Master!BQ$61:CC$286,7,FALSE)),\"\",VLOOKUP(C312,Master!BQ$61:CC$286,7,FALSE))","v":""},{"$f":"IF(ISNA(VLOOKUP(C312,Master!BQ$61:CC$286,8,FALSE)),\"\",VLOOKUP(C312,Master!BQ$61:CC$286,8,FALSE))","v":""},{"$f":"IF(ISNA(VLOOKUP(C312,Master!BQ$61:CC$286,4,FALSE)),\"\",VLOOKUP(C312,Master!BQ$61:CC$286,4,FALSE))","v":""},{"$f":"IF(ISNA(VLOOKUP(C312,Master!BQ$61:CC$286,5,FALSE)),\"\",VLOOKUP(C312,Master!BQ$61:CC$286,5,FALSE))","v":""},"","","","",{"$f":"IF(AND(H312=\"\"),\"\",VLOOKUP(D312,'Fix Pay'!$B$9:$K$116,10,0))","v":""},{"$f":"IF(AND(H312=\"\"),\"\",VLOOKUP(D312,'Fix Pay'!$B$9:$K$116,9,0))","v":""},"",{"$nulls":4},0,null,{"$f":"IF(ISNA(VLOOKUP(C312,Master!BQ$61:CC$286,10,FALSE)),\"\",VLOOKUP(C312,Master!BQ$61:CC$286,10,FALSE))","v":""},null,null,{"$f":"IF(ISNA(VLOOKUP(C312,Master!BQ$61:CC$286,11,FALSE)),\"\",VLOOKUP(C312,Master!BQ$61:CC$286,11,FALSE))","v":""},{"$f":"IF(ISNA(VLOOKUP(C312,Master!BQ$61:CC$286,9,FALSE)),\"\",VLOOKUP(C312,Master!BQ$61:CC$286,9,FALSE))","v":""},0,0,0,0,0,0,"","","","","","",0,0,"",0,0,0,null,0,"","",null,null,"","","","","","",null,0,"",0,0,0,0,"","","",null,null,"",0,1,0,0,0,1,0,1,0,0,"",null,{"$f":"IF(I312=\"\",\"\",MAX($CD$229:$CD$236,$CD$239:CD311)+1)","v":""}]
["",2202,75,{"$f":"IF(ISNA(VLOOKUP(C313,Master!BQ$61:CC$286,3,FALSE)),\"\",VLOOKUP(C313,Master!BQ$61:CC$286,3,FALSE))","v":""},{"$f":"IF(ISNA(VLOOKUP(C313,Master!BQ$61:CC$286,7,FALSE)),\"\",VLOOKUP(C313,Master!BQ$61:CC$286,7,FALSE))","v":""},{"$f":"IF(ISNA(VLOOKUP(C313,Master!BQ$61:CC$286,8,FALSE)),\"\",VLOOKUP(C313,Master!BQ$61:CC$286,8,FALSE))","v":""},{"$f":"IF(ISNA(VLOOKUP(C313,Master!BQ$61:CC$286,4,FALSE)),\"\",VLOOKUP(C313,Master!BQ$61:CC$286,4,FALSE))","v":""},{"$f":"IF(ISNA(VLOOKUP(C313,Master!BQ$61:CC$286,5,FALSE)),\"\",VLOOKUP(C313,Master!BQ$61:CC$286,5,FALSE))","v":""},"","","","",{"$f":"IF(AND(H313=\"\"),\"\",VLOOKUP(D313,'Fix Pay'!$B$9:$K$116,10,0))","v":""},{"$f":"IF(AND(H313=\"\"),\"\",VLOOKUP(D313,'Fix Pay'!$B$9:$K$116,9,0))","v":""},"",{"$nulls":4},0,null,{"$f":"IF(ISNA(VLOOKUP(C313,Master!BQ$61:CC$286,10,FALSE)),\"\",VLOOKUP(C313,Master!BQ$61:CC$286,10,FALSE))","v":""},null,null,{"$f":"IF(ISNA(VLOOKUP(C313,Master!BQ$61:CC$286,11,FALSE)),\"\",VLOOKUP(C313,Master!BQ$61:CC$286,11,FALSE))","v":""},{"$f":"IF(ISNA(VLOOKUP(C313,Master!BQ$61:CC$286,9,FALSE)),\"\",VLOOKUP(C313,Master!BQ$61:CC$286,9,FALSE))","v":""},0,0,0,0,0,0,"","","","","","",0,0,"",0,0,0,null,0,"","",null,null,"","","","","","",null,0,"",0,0,0,0,"","","",null,null,"",0,1,0,0,0,1,0,1,0,0,"",null,{"$f":"IF(I313=\"\",\"\",MAX($CD$229:$CD$236,$CD$239:CD312)+1)","v":""}]
["",2202,76,{"$f":"IF(ISNA(VLOOKUP(C314,Master!BQ$61:CC$286,3,FALSE)),\"\",VLOOKUP(C314,Master!BQ$61:CC$286,3,FALSE))","v":""},{"$f":"IF(ISNA(VLOOKUP(C314,Master!BQ$61:CC$286,7,FALSE)),\"\",VLOOKUP(C314,Master!BQ$61:CC$286,7,FALSE))","v":""},{"$f":"IF(ISNA(VLOOKUP(C314,Master!BQ$61:CC$286,8,FALSE)),\"\",VLOOKUP(C314,Master!BQ$61:CC$286,8,FALSE))","v":""},{"$f":"IF(ISNA(VLOOKUP(C314,Master!BQ$61:CC$286,4,FALSE)),\"\",VLOOKUP(C314,Master!BQ$61:CC$286,4,FALSE))","v":""},{"$f":"IF(ISNA(VLOOKUP(C314,Master!BQ$61:CC$286,5,FALSE)),\"\",VLOOKUP(C314,Master!BQ$61:CC$286,5,FALSE))","v":""},"","","","",{"$f":"IF(AND(H314=\"\"),\"\",VLOOKUP(D314,'Fix Pay'!$B$9:$K$116,10,0))","v":""},{"$f":"IF(AND(H314=\"\"),\"\",VLOOKUP(D314,'Fix Pay'!$B$9:$K$116,9,0))","v":""},"",{"$nulls":4},0,null,{"$f":"IF(ISNA(VLOOKUP(C314,Master!BQ$61:CC$286,10,FALSE)),\"\",VLOOKUP(C314,Master!BQ$61:CC$286,10,FALSE))","v":""},null,null,{"$f":"IF(ISNA(VLOOKUP(C314,Master!BQ$61:CC$286,11,FALSE)),\"\",VLOOKUP(C314,Master!BQ$61:CC$286,11,FALSE))","v":""},{"$f":"IF(ISNA(VLOOKUP(C314,Master!BQ$61:CC$286,9,FALSE)),\"\",VLOOKUP(C314,Master!BQ$61:CC$286,9,FALSE))","v":""},0,0,0,0,0,0,"","","","","","",0,0,"",0,0,0,null,0,"","",null,null,"","","","","","",null,0,"",0,0,0,0,"","","",null,null,"",0,1,0,0,0,1,0,1,0,0,"",null,{"$f":"IF(I314=\"\",\"\",MAX($CD$229:$CD$236,$CD$239:CD313)+1)","v":""}]
["",2202,77,{"$f":"IF(ISNA(VLOOKUP(C315,Master!BQ$61:CC$286,3,FALSE)),\"\",VLOOKUP(C315,Master!BQ$61:CC$286,3,FALSE))","v":""},{"$f":"IF(ISNA(VLOOKUP(C315,Master!BQ$61:CC$286,7,FALSE)),\"\",VLOOKUP(C315,Master!BQ$61:CC$286,7,FALSE))","v":""},{"$f":"IF(ISNA(VLOOKUP(C315,Master!BQ$61:CC$286,8,FALSE)),\"\",VLOOKUP(C315,Master!BQ$61:CC$286,8,FALSE))","v":""},{"$f":"IF(ISNA(VLOOKUP(C315,Master!BQ$61:CC$286,4,FALSE)),\"\",VLOOKUP(C315,Master!BQ$61:CC$286,4,FALSE))","v":""},{"$f":"IF(ISNA(VLOOKUP(C315,Master!BQ$61:CC$286,5,FALSE)),\"\",VLOOKUP(C315,Master!BQ$61:CC$286,5,FALSE))","v":""},"","","","",{"$f":"IF(AND(H315=\"\"),\"\",VLOOKUP(D315,'Fix Pay'!$B$9:$K$116,10,0))","v":""},{"$f":"IF(AND(H315=\"\"),\"\",VLOOKUP(D315,'Fix Pay'!$B$9:$K$116,9,0))","v":""},"",{"$nulls":4},0,null,{"$f":"IF(ISNA(VLOOKUP(C315,Master!BQ$61:CC$286,10,FALSE)),\"\",VLOOKUP(C315,Master!BQ$61:CC$286,10,FALSE))","v":""},null,null,{"$f":"IF(ISNA(VLOOKUP(C315,Master!BQ$61:CC$286,11,FALSE)),\"\",VLOOKUP(C315,Master!BQ$61:CC$286,11,FALSE))","v":""},{"$f":"IF(ISNA(VLOOKUP(C315,Master!BQ$61:CC$286,9,FALSE)),\"\",VLOOKUP(C315,Master!BQ$61:CC$286,9,FALSE))","v":""},0,0,0,0,0,0,"","","","","","",0,0,"",0,0,0,null,0,"","",null,null,"","","","","","",null,0,"",0,0,0,0,"","","",null,null,"",0,1,0,0,0,1,0,1,0,0,"",null,{"$f":"IF(I315=\"\",\"\",MAX($CD$229:$CD$236,$CD$239:CD314)+1)","v":""}]
["",2202,78,{"$f":"IF(ISNA(VLOOKUP(C316,Master!BQ$61:CC$286,3,FALSE)),\"\",VLOOKUP(C316,Master!BQ$61:CC$286,3,FALSE))","v":""},{"$f":"IF(ISNA(VLOOKUP(C316,Master!BQ$61:CC$286,7,FALSE)),\"\",VLOOKUP(C316,Master!BQ$61:CC$286,7,FALSE))","v":""},{"$f":"IF(ISNA(VLOOKUP(C316,Master!BQ$61:CC$286,8,FALSE)),\"\",VLOOKUP(C316,Master!BQ$61:CC$286,8,FALSE))","v":""},{"$f":"IF(ISNA(VLOOKUP(C316,Master!BQ$61:CC$286,4,FALSE)),\"\",VLOOKUP(C316,Master!BQ$61:CC$286,4,FALSE))","v":""},{"$f":"IF(ISNA(VLOOKUP(C316,Master!BQ$61:CC$286,5,FALSE)),\"\",VLOOKUP(C316,Master!BQ$61:CC$286,5,FALSE))","v":""},"","","","",{"$f":"IF(AND(H316=\"\"),\"\",VLOOKUP(D316,'Fix Pay'!$B$9:$K$116,10,0))","v":""},{"$f":"IF(AND(H316=\"\"),\"\",VLOOKUP(D316,'Fix Pay'!$B$9:$K$116,9,0))","v":""},"",{"$nulls":4},0,null,{"$f":"IF(ISNA(VLOOKUP(C316,Master!BQ$61:CC$286,10,FALSE)),\"\",VLOOKUP(C316,Master!BQ$61:CC$286,10,FALSE))","v":""},null,null,{"$f":"IF(ISNA(VLOOKUP(C316,Master!BQ$61:CC$286,11,FALSE)),\"\",VLOOKUP(C316,Master!BQ$61:CC$286,11,FALSE))","v":""},{"$f":"IF(ISNA(VLOOKUP(C316,Master!BQ$61:CC$286,9,FALSE)),\"\",VLOOKUP(C316,Master!BQ$61:CC$286,9,FALSE))","v":""},0,0,0,0,0,0,"","","","","","",0,0,"",0,0,0,null,0,"","",null,null,"","","","","","",null,0,"",0,0,0,0,"","","",null,null,"",0,1,0,0,0,1,0,1,0,0,"",null,{"$f":"IF(I316=\"\",\"\",MAX($CD$229:$CD$236,$CD$239:CD315)+1)","v":""}]
["",2202,79,{"$f":"IF(ISNA(VLOOKUP(C317,Master!BQ$61:CC$286,3,FALSE)),\"\",VLOOKUP(C317,Master!BQ$61:CC$286,3,FALSE))","v":""},{"$f":"IF(ISNA(VLOOKUP(C317,Master!BQ$61:CC$286,7,FALSE)),\"\",VLOOKUP(C317,Master!BQ$61:CC$286,7,FALSE))","v":""},{"$f":"IF(ISNA(VLOOKUP(C317,Master!BQ$61:CC$286,8,FALSE)),\"\",VLOOKUP(C317,Master!BQ$61:CC$286,8,FALSE))","v":""},{"$f":"IF(ISNA(VLOOKUP(C317,Master!BQ$61:CC$286,4,FALSE)),\"\",VLOOKUP(C317,Master!BQ$61:CC$286,4,FALSE))","v":""},{"$f":"IF(ISNA(VLOOKUP(C317,Master!BQ$61:CC$286,5,FALSE)),\"\",VLOOKUP(C317,Master!BQ$61:CC$286,5,FALSE))","v":""},"","","","",{"$f":"IF(AND(H317=\"\"),\"\",VLOOKUP(D317,'Fix Pay'!$B$9:$K$116,10,0))","v":""},{"$f":"IF(AND(H317=\"\"),\"\",VLOOKUP(D317,'Fix Pay'!$B$9:$K$116,9,0))","v":""},"",{"$nulls":4},0,null,{"$f":"IF(ISNA(VLOOKUP(C317,Master!BQ$61:CC$286,10,FALSE)),\"\",VLOOKUP(C317,Master!BQ$61:CC$286,10,FALSE))","v":""},null,null,{"$f":"IF(ISNA(VLOOKUP(C317,Master!BQ$61:CC$286,11,FALSE)),\"\",VLOOKUP(C317,Master!BQ$61:CC$286,11,FALSE))","v":""},{"$f":"IF(ISNA(VLOOKUP(C317,Master!BQ$61:CC$286,9,FALSE)),\"\",VLOOKUP(C317,Master!BQ$61:CC$286,9,FALSE))","v":""},0,0,0,0,0,0,"","","","","","",0,0,"",0,0,0,null,0,"","",null,null,"","","","","","",null,0,"",0,0,0,0,"","","",null,null,"",0,1,0,0,0,1,0,1,0,0,"",null,{"$f":"IF(I317=\"\",\"\",MAX($CD$229:$CD$236,$CD$239:CD316)+1)","v":""}]
["",2202,80,{"$f":"IF(ISNA(VLOOKUP(C318,Master!BQ$61:CC$286,3,FALSE)),\"\",VLOOKUP(C318,Master!BQ$61:CC$286,3,FALSE))","v":""},{"$f":"IF(ISNA(VLOOKUP(C318,Master!BQ$61:CC$286,7,FALSE)),\"\",VLOOKUP(C318,Master!BQ$61:CC$286,7,FALSE))","v":""},{"$f":"IF(ISNA(VLOOKUP(C318,Master!BQ$61:CC$286,8,FALSE)),\"\",VLOOKUP(C318,Master!BQ$61:CC$286,8,FALSE))","v":""},{"$f":"IF(ISNA(VLOOKUP(C318,Master!BQ$61:CC$286,4,FALSE)),\"\",VLOOKUP(C318,Master!BQ$61:CC$286,4,FALSE))","v":""},{"$f":"IF(ISNA(VLOOKUP(C318,Master!BQ$61:CC$286,5,FALSE)),\"\",VLOOKUP(C318,Master!BQ$61:CC$286,5,FALSE))","v":""},"","","","",{"$f":"IF(AND(H318=\"\"),\"\",VLOOKUP(D318,'Fix Pay'!$B$9:$K$116,10,0))","v":""},{"$f":"IF(AND(H318=\"\"),\"\",VLOOKUP(D318,'Fix Pay'!$B$9:$K$116,9,0))","v":""},"",{"$nulls":4},0,null,{"$f":"IF(ISNA(VLOOKUP(C318,Master!BQ$61:CC$286,10,FALSE)),\"\",VLOOKUP(C318,Master!BQ$61:CC$286,10,FALSE))","v":""},null,null,{"$f":"IF(ISNA(VLOOKUP(C318,Master!BQ$61:CC$286,11,FALSE)),\"\",VLOOKUP(C318,Master!BQ$61:CC$286,11,FALSE))","v":""},{"$f":"IF(ISNA(VLOOKUP(C318,Master!BQ$61:CC$286,9,FALSE)),\"\",VLOOKUP(C318,Master!BQ$61:CC$286,9,FALSE))","v":""},0,0,0,0,0,0,"","","","","","",0,0,"",0,0,0,null,0,"","",null,null,"","","","","","",null,0,"",0,0,0,0,"","","",null,null,"",0,1,0,0,0,1,0,1,0,0,"",null,{"$f":"IF(I318=\"\",\"\",MAX($CD$229:$CD$236,$CD$239:CD317)+1)","v":""}]
["",2202,81,{"$f":"IF(ISNA(VLOOKUP(C319,Master!BQ$61:CC$286,3,FALSE)),\"\",VLOOKUP(C319,Master!BQ$61:CC$286,3,FALSE))","v":""},{"$f":"IF(ISNA(VLOOKUP(C319,Master!BQ$61:CC$286,7,FALSE)),\"\",VLOOKUP(C319,Master!BQ$61:CC$286,7,FALSE))","v":""},{"$f":"IF(ISNA(VLOOKUP(C319,Master!BQ$61:CC$286,8,FALSE)),\"\",VLOOKUP(C319,Master!BQ$61:CC$286,8,FALSE))","v":""},{"$f":"IF(ISNA(VLOOKUP(C319,Master!BQ$61:CC$286,4,FALSE)),\"\",VLOOKUP(C319,Master!BQ$61:CC$286,4,FALSE))","v":""},{"$f":"IF(ISNA(VLOOKUP(C319,Master!BQ$61:CC$286,5,FALSE)),\"\",VLOOKUP(C319,Master!BQ$61:CC$286,5,FALSE))","v":""},"","","","",{"$f":"IF(AND(H319=\"\"),\"\",VLOOKUP(D319,'Fix Pay'!$B$9:$K$116,10,0))","v":""},{"$f":"IF(AND(H319=\"\"),\"\",VLOOKUP(D319,'Fix Pay'!$B$9:$K$116,9,0))","v":""},"",{"$nulls":4},0,null,{"$f":"IF(ISNA(VLOOKUP(C319,Master!BQ$61:CC$286,10,FALSE)),\"\",VLOOKUP(C319,Master!BQ$61:CC$286,10,FALSE))","v":""},null,null,{"$f":"IF(ISNA(VLOOKUP(C319,Master!BQ$61:CC$286,11,FALSE)),\"\",VLOOKUP(C319,Master!BQ$61:CC$286,11,FALSE))","v":""},{"$f":"IF(ISNA(VLOOKUP(C319,Master!BQ$61:CC$286,9,FALSE)),\"\",VLOOKUP(C319,Master!BQ$61:CC$286,9,FALSE))","v":""},0,0,0,0,0,0,"","","","","","",0,0,"",0,0,0,null,0,"","",null,null,"","","","","","",null,0,"",0,0,0,0,"","","",null,null,"",0,1,0,0,0,1,0,1,0,0,"",null,{"$f":"IF(I319=\"\",\"\",MAX($CD$229:$CD$236,$CD$239:CD318)+1)","v":""}]
["",2202,82,{"$f":"IF(ISNA(VLOOKUP(C320,Master!BQ$61:CC$286,3,FALSE)),\"\",VLOOKUP(C320,Master!BQ$61:CC$286,3,FALSE))","v":""},{"$f":"IF(ISNA(VLOOKUP(C320,Master!BQ$61:CC$286,7,FALSE)),\"\",VLOOKUP(C320,Master!BQ$61:CC$286,7,FALSE))","v":""},{"$f":"IF(ISNA(VLOOKUP(C320,Master!BQ$61:CC$286,8,FALSE)),\"\",VLOOKUP(C320,Master!BQ$61:CC$286,8,FALSE))","v":""},{"$f":"IF(ISNA(VLOOKUP(C320,Master!BQ$61:CC$286,4,FALSE)),\"\",VLOOKUP(C320,Master!BQ$61:CC$286,4,FALSE))","v":""},{"$f":"IF(ISNA(VLOOKUP(C320,Master!BQ$61:CC$286,5,FALSE)),\"\",VLOOKUP(C320,Master!BQ$61:CC$286,5,FALSE))","v":""},"","","","",{"$f":"IF(AND(H320=\"\"),\"\",VLOOKUP(D320,'Fix Pay'!$B$9:$K$116,10,0))","v":""},{"$f":"IF(AND(H320=\"\"),\"\",VLOOKUP(D320,'Fix Pay'!$B$9:$K$116,9,0))","v":""},"",{"$nulls":4},0,null,{"$f":"IF(ISNA(VLOOKUP(C320,Master!BQ$61:CC$286,10,FALSE)),\"\",VLOOKUP(C320,Master!BQ$61:CC$286,10,FALSE))","v":""},null,null,{"$f":"IF(ISNA(VLOOKUP(C320,Master!BQ$61:CC$286,11,FALSE)),\"\",VLOOKUP(C320,Master!BQ$61:CC$286,11,FALSE))","v":""},{"$f":"IF(ISNA(VLOOKUP(C320,Master!BQ$61:CC$286,9,FALSE)),\"\",VLOOKUP(C320,Master!BQ$61:CC$286,9,FALSE))","v":""},0,0,0,0,0,0,"","","","","","",0,0,"",0,0,0,null,0,"","",null,null,"","","","","","",null,0,"",0,0,0,0,"","","",null,null,"",0,1,0,0,0,1,0,1,0,0,"",null,{"$f":"IF(I320=\"\",\"\",MAX($CD$229:$CD$236,$CD$239:CD319)+1)","v":""}]
["",2202,83,{"$f":"IF(ISNA(VLOOKUP(C321,Master!BQ$61:CC$286,3,FALSE)),\"\",VLOOKUP(C321,Master!BQ$61:CC$286,3,FALSE))","v":""},{"$f":"IF(ISNA(VLOOKUP(C321,Master!BQ$61:CC$286,7,FALSE)),\"\",VLOOKUP(C321,Master!BQ$61:CC$286,7,FALSE))","v":""},{"$f":"IF(ISNA(VLOOKUP(C321,Master!BQ$61:CC$286,8,FALSE)),\"\",VLOOKUP(C321,Master!BQ$61:CC$286,8,FALSE))","v":""},{"$f":"IF(ISNA(VLOOKUP(C321,Master!BQ$61:CC$286,4,FALSE)),\"\",VLOOKUP(C321,Master!BQ$61:CC$286,4,FALSE))","v":""},{"$f":"IF(ISNA(VLOOKUP(C321,Master!BQ$61:CC$286,5,FALSE)),\"\",VLOOKUP(C321,Master!BQ$61:CC$286,5,FALSE))","v":""},"","","","",{"$f":"IF(AND(H321=\"\"),\"\",VLOOKUP(D321,'Fix Pay'!$B$9:$K$116,10,0))","v":""},{"$f":"IF(AND(H321=\"\"),\"\",VLOOKUP(D321,'Fix Pay'!$B$9:$K$116,9,0))","v":""},"",{"$nulls":4},0,null,{"$f":"IF(ISNA(VLOOKUP(C321,Master!BQ$61:CC$286,10,FALSE)),\"\",VLOOKUP(C321,Master!BQ$61:CC$286,10,FALSE))","v":""},null,null,{"$f":"IF(ISNA(VLOOKUP(C321,Master!BQ$61:CC$286,11,FALSE)),\"\",VLOOKUP(C321,Master!BQ$61:CC$286,11,FALSE))","v":""},{"$f":"IF(ISNA(VLOOKUP(C321,Master!BQ$61:CC$286,9,FALSE)),\"\",VLOOKUP(C321,Master!BQ$61:CC$286,9,FALSE))","v":""},0,0,0,0,0,0,"","","","","","",0,0,"",0,0,0,null,0,"","",null,null,"","","","","","",null,0,"",0,0,0,0,"","","",null,null,"",0,1,0,0,0,1,0,1,0,0,"",null,{"$f":"IF(I321=\"\",\"\",MAX($CD$229:$CD$236,$CD$239:CD320)+1)","v":""}]
["",2202,84,{"$f":"IF(ISNA(VLOOKUP(C322,Master!BQ$61:CC$286,3,FALSE)),\"\",VLOOKUP(C322,Master!BQ$61:CC$286,3,FALSE))","v":""},{"$f":"IF(ISNA(VLOOKUP(C322,Master!BQ$61:CC$286,7,FALSE)),\"\",VLOOKUP(C322,Master!BQ$61:CC$286,7,FALSE))","v":""},{"$f":"IF(ISNA(VLOOKUP(C322,Master!BQ$61:CC$286,8,FALSE)),\"\",VLOOKUP(C322,Master!BQ$61:CC$286,8,FALSE))","v":""},{"$f":"IF(ISNA(VLOOKUP(C322,Master!BQ$61:CC$286,4,FALSE)),\"\",VLOOKUP(C322,Master!BQ$61:CC$286,4,FALSE))","v":""},{"$f":"IF(ISNA(VLOOKUP(C322,Master!BQ$61:CC$286,5,FALSE)),\"\",VLOOKUP(C322,Master!BQ$61:CC$286,5,FALSE))","v":""},"","","","",{"$f":"IF(AND(H322=\"\"),\"\",VLOOKUP(D322,'Fix Pay'!$B$9:$K$116,10,0))","v":""},{"$f":"IF(AND(H322=\"\"),\"\",VLOOKUP(D322,'Fix Pay'!$B$9:$K$116,9,0))","v":""},"",{"$nulls":4},0,null,{"$f":"IF(ISNA(VLOOKUP(C322,Master!BQ$61:CC$286,10,FALSE)),\"\",VLOOKUP(C322,Master!BQ$61:CC$286,10,FALSE))","v":""},null,null,{"$f":"IF(ISNA(VLOOKUP(C322,Master!BQ$61:CC$286,11,FALSE)),\"\",VLOOKUP(C322,Master!BQ$61:CC$286,11,FALSE))","v":""},{"$f":"IF(ISNA(VLOOKUP(C322,Master!BQ$61:CC$286,9,FALSE)),\"\",VLOOKUP(C322,Master!BQ$61:CC$286,9,FALSE))","v":""},0,0,0,0,0,0,"","","","","","",0,0,"",0,0,0,null,0,"","",null,null,"","","","","","",null,0,"",0,0,0,0,"","","",null,null,"",0,1,0,0,0,1,0,1,0,0,"",null,{"$f":"IF(I322=\"\",\"\",MAX($CD$229:$CD$236,$CD$239:CD321)+1)","v":""}]
["",2202,85,{"$f":"IF(ISNA(VLOOKUP(C323,Master!BQ$61:CC$286,3,FALSE)),\"\",VLOOKUP(C323,Master!BQ$61:CC$286,3,FALSE))","v":""},{"$f":"IF(ISNA(VLOOKUP(C323,Master!BQ$61:CC$286,7,FALSE)),\"\",VLOOKUP(C323,Master!BQ$61:CC$286,7,FALSE))","v":""},{"$f":"IF(ISNA(VLOOKUP(C323,Master!BQ$61:CC$286,8,FALSE)),\"\",VLOOKUP(C323,Master!BQ$61:CC$286,8,FALSE))","v":""},{"$f":"IF(ISNA(VLOOKUP(C323,Master!BQ$61:CC$286,4,FALSE)),\"\",VLOOKUP(C323,Master!BQ$61:CC$286,4,FALSE))","v":""},{"$f":"IF(ISNA(VLOOKUP(C323,Master!BQ$61:CC$286,5,FALSE)),\"\",VLOOKUP(C323,Master!BQ$61:CC$286,5,FALSE))","v":""},"","","","",{"$f":"IF(AND(H323=\"\"),\"\",VLOOKUP(D323,'Fix Pay'!$B$9:$K$116,10,0))","v":""},{"$f":"IF(AND(H323=\"\"),\"\",VLOOKUP(D323,'Fix Pay'!$B$9:$K$116,9,0))","v":""},"",{"$nulls":4},0,null,{"$f":"IF(ISNA(VLOOKUP(C323,Master!BQ$61:CC$286,10,FALSE)),\"\",VLOOKUP(C323,Master!BQ$61:CC$286,10,FALSE))","v":""},null,null,{"$f":"IF(ISNA(VLOOKUP(C323,Master!BQ$61:CC$286,11,FALSE)),\"\",VLOOKUP(C323,Master!BQ$61:CC$286,11,FALSE))","v":""},{"$f":"IF(ISNA(VLOOKUP(C323,Master!BQ$61:CC$286,9,FALSE)),\"\",VLOOKUP(C323,Master!BQ$61:CC$286,9,FALSE))","v":""},0,0,0,0,0,0,"","","","","","",0,0,"",0,0,0,null,0,"","",null,null,"","","","","","",null,0,"",0,0,0,0,"","","",null,null,"",0,1,0,0,0,1,0,1,0,0,"",null,{"$f":"IF(I323=\"\",\"\",MAX($CD$229:$CD$236,$CD$239:CD322)+1)","v":""}]
["",2202,86,{"$f":"IF(ISNA(VLOOKUP(C324,Master!BQ$61:CC$286,3,FALSE)),\"\",VLOOKUP(C324,Master!BQ$61:CC$286,3,FALSE))","v":""},{"$f":"IF(ISNA(VLOOKUP(C324,Master!BQ$61:CC$286,7,FALSE)),\"\",VLOOKUP(C324,Master!BQ$61:CC$286,7,FALSE))","v":""},{"$f":"IF(ISNA(VLOOKUP(C324,Master!BQ$61:CC$286,8,FALSE)),\"\",VLOOKUP(C324,Master!BQ$61:CC$286,8,FALSE))","v":""},{"$f":"IF(ISNA(VLOOKUP(C324,Master!BQ$61:CC$286,4,FALSE)),\"\",VLOOKUP(C324,Master!BQ$61:CC$286,4,FALSE))","v":""},{"$f":"IF(ISNA(VLOOKUP(C324,Master!BQ$61:CC$286,5,FALSE)),\"\",VLOOKUP(C324,Master!BQ$61:CC$286,5,FALSE))","v":""},"","","","",{"$f":"IF(AND(H324=\"\"),\"\",VLOOKUP(D324,'Fix Pay'!$B$9:$K$116,10,0))","v":""},{"$f":"IF(AND(H324=\"\"),\"\",VLOOKUP(D324,'Fix Pay'!$B$9:$K$116,9,0))","v":""},"",{"$nulls":4},0,null,{"$f":"IF(ISNA(VLOOKUP(C324,Master!BQ$61:CC$286,10,FALSE)),\"\",VLOOKUP(C324,Master!BQ$61:CC$286,10,FALSE))","v":""},null,null,{"$f":"IF(ISNA(VLOOKUP(C324,Master!BQ$61:CC$286,11,FALSE)),\"\",VLOOKUP(C324,Master!BQ$61:CC$286,11,FALSE))","v":""},{"$f":"IF(ISNA(VLOOKUP(C324,Master!BQ$61:CC$286,9,FALSE)),\"\",VLOOKUP(C324,Master!BQ$61:CC$286,9,FALSE))","v":""},0,0,0,0,0,0,"","","","","","",0,0,"",0,0,0,null,0,"","",null,null,"","","","","","",null,0,"",0,0,0,0,"","","",null,null,"",0,1,0,0,0,1,0,1,0,0,"",null,{"$f":"IF(I324=\"\",\"\",MAX($CD$229:$CD$236,$CD$239:CD323)+1)","v":""}]
["",2202,87,{"$f":"IF(ISNA(VLOOKUP(C325,Master!BQ$61:CC$286,3,FALSE)),\"\",VLOOKUP(C325,Master!BQ$61:CC$286,3,FALSE))","v":""},{"$f":"IF(ISNA(VLOOKUP(C325,Master!BQ$61:CC$286,7,FALSE)),\"\",VLOOKUP(C325,Master!BQ$61:CC$286,7,FALSE))","v":""},{"$f":"IF(ISNA(VLOOKUP(C325,Master!BQ$61:CC$286,8,FALSE)),\"\",VLOOKUP(C325,Master!BQ$61:CC$286,8,FALSE))","v":""},{"$f":"IF(ISNA(VLOOKUP(C325,Master!BQ$61:CC$286,4,FALSE)),\"\",VLOOKUP(C325,Master!BQ$61:CC$286,4,FALSE))","v":""},{"$f":"IF(ISNA(VLOOKUP(C325,Master!BQ$61:CC$286,5,FALSE)),\"\",VLOOKUP(C325,Master!BQ$61:CC$286,5,FALSE))","v":""},"","","","",{"$f":"IF(AND(H325=\"\"),\"\",VLOOKUP(D325,'Fix Pay'!$B$9:$K$116,10,0))","v":""},{"$f":"IF(AND(H325=\"\"),\"\",VLOOKUP(D325,'Fix Pay'!$B$9:$K$116,9,0))","v":""},"",{"$nulls":4},0,null,{"$f":"IF(ISNA(VLOOKUP(C325,Master!BQ$61:CC$286,10,FALSE)),\"\",VLOOKUP(C325,Master!BQ$61:CC$286,10,FALSE))","v":""},null,null,{"$f":"IF(ISNA(VLOOKUP(C325,Master!BQ$61:CC$286,11,FALSE)),\"\",VLOOKUP(C325,Master!BQ$61:CC$286,11,FALSE))","v":""},{"$f":"IF(ISNA(VLOOKUP(C325,Master!BQ$61:CC$286,9,FALSE)),\"\",VLOOKUP(C325,Master!BQ$61:CC$286,9,FALSE))","v":""},0,0,0,0,0,0,"","","","","","",0,0,"",0,0,0,null,0,"","",null,null,"","","","","","",null,0,"",0,0,0,0,"","","",null,null,"",0,1,0,0,0,1,0,1,0,0,"",null,{"$f":"IF(I325=\"\",\"\",MAX($CD$229:$CD$236,$CD$239:CD324)+1)","v":""}]
["",2202,88,{"$f":"IF(ISNA(VLOOKUP(C326,Master!BQ$61:CC$286,3,FALSE)),\"\",VLOOKUP(C326,Master!BQ$61:CC$286,3,FALSE))","v":""},{"$f":"IF(ISNA(VLOOKUP(C326,Master!BQ$61:CC$286,7,FALSE)),\"\",VLOOKUP(C326,Master!BQ$61:CC$286,7,FALSE))","v":""},{"$f":"IF(ISNA(VLOOKUP(C326,Master!BQ$61:CC$286,8,FALSE)),\"\",VLOOKUP(C326,Master!BQ$61:CC$286,8,FALSE))","v":""},{"$f":"IF(ISNA(VLOOKUP(C326,Master!BQ$61:CC$286,4,FALSE)),\"\",VLOOKUP(C326,Master!BQ$61:CC$286,4,FALSE))","v":""},{"$f":"IF(ISNA(VLOOKUP(C326,Master!BQ$61:CC$286,5,FALSE)),\"\",VLOOKUP(C326,Master!BQ$61:CC$286,5,FALSE))","v":""},"","","","",{"$f":"IF(AND(H326=\"\"),\"\",VLOOKUP(D326,'Fix Pay'!$B$9:$K$116,10,0))","v":""},{"$f":"IF(AND(H326=\"\"),\"\",VLOOKUP(D326,'Fix Pay'!$B$9:$K$116,9,0))","v":""},"",{"$nulls":4},0,null,{"$f":"IF(ISNA(VLOOKUP(C326,Master!BQ$61:CC$286,10,FALSE)),\"\",VLOOKUP(C326,Master!BQ$61:CC$286,10,FALSE))","v":""},null,null,{"$f":"IF(ISNA(VLOOKUP(C326,Master!BQ$61:CC$286,11,FALSE)),\"\",VLOOKUP(C326,Master!BQ$61:CC$286,11,FALSE))","v":""},{"$f":"IF(ISNA(VLOOKUP(C326,Master!BQ$61:CC$286,9,FALSE)),\"\",VLOOKUP(C326,Master!BQ$61:CC$286,9,FALSE))","v":""},0,0,0,0,0,0,"","","","","","",0,0,"",0,0,0,null,0,"","",null,null,"","","","","","",null,0,"",0,0,0,0,"","","",null,null,"",0,1,0,0,0,1,0,1,0,0,"",null,{"$f":"IF(I326=\"\",\"\",MAX($CD$229:$CD$236,$CD$239:CD325)+1)","v":""}]
["",2202,89,{"$f":"IF(ISNA(VLOOKUP(C327,Master!BQ$61:CC$286,3,FALSE)),\"\",VLOOKUP(C327,Master!BQ$61:CC$286,3,FALSE))","v":""},{"$f":"IF(ISNA(VLOOKUP(C327,Master!BQ$61:CC$286,7,FALSE)),\"\",VLOOKUP(C327,Master!BQ$61:CC$286,7,FALSE))","v":""},{"$f":"IF(ISNA(VLOOKUP(C327,Master!BQ$61:CC$286,8,FALSE)),\"\",VLOOKUP(C327,Master!BQ$61:CC$286,8,FALSE))","v":""},{"$f":"IF(ISNA(VLOOKUP(C327,Master!BQ$61:CC$286,4,FALSE)),\"\",VLOOKUP(C327,Master!BQ$61:CC$286,4,FALSE))","v":""},{"$f":"IF(ISNA(VLOOKUP(C327,Master!BQ$61:CC$286,5,FALSE)),\"\",VLOOKUP(C327,Master!BQ$61:CC$286,5,FALSE))","v":""},"","","","",{"$f":"IF(AND(H327=\"\"),\"\",VLOOKUP(D327,'Fix Pay'!$B$9:$K$116,10,0))","v":""},{"$f":"IF(AND(H327=\"\"),\"\",VLOOKUP(D327,'Fix Pay'!$B$9:$K$116,9,0))","v":""},"",{"$nulls":4},0,null,{"$f":"IF(ISNA(VLOOKUP(C327,Master!BQ$61:CC$286,10,FALSE)),\"\",VLOOKUP(C327,Master!BQ$61:CC$286,10,FALSE))","v":""},null,null,{"$f":"IF(ISNA(VLOOKUP(C327,Master!BQ$61:CC$286,11,FALSE)),\"\",VLOOKUP(C327,Master!BQ$61:CC$286,11,FALSE))","v":""},{"$f":"IF(ISNA(VLOOKUP(C327,Master!BQ$61:CC$286,9,FALSE)),\"\",VLOOKUP(C327,Master!BQ$61:CC$286,9,FALSE))","v":""},0,0,0,0,0,0,"","","","","","",0,0,"",0,0,0,null,0,"","",null,null,"","","","","","",null,0,"",0,0,0,0,"","","",null,null,"",0,1,0,0,0,1,0,1,0,0,"",null,{"$f":"IF(I327=\"\",\"\",MAX($CD$229:$CD$236,$CD$239:CD326)+1)","v":""}]
["",2202,90,{"$f":"IF(ISNA(VLOOKUP(C328,Master!BQ$61:CC$286,3,FALSE)),\"\",VLOOKUP(C328,Master!BQ$61:CC$286,3,FALSE))","v":""},{"$f":"IF(ISNA(VLOOKUP(C328,Master!BQ$61:CC$286,7,FALSE)),\"\",VLOOKUP(C328,Master!BQ$61:CC$286,7,FALSE))","v":""},{"$f":"IF(ISNA(VLOOKUP(C328,Master!BQ$61:CC$286,8,FALSE)),\"\",VLOOKUP(C328,Master!BQ$61:CC$286,8,FALSE))","v":""},{"$f":"IF(ISNA(VLOOKUP(C328,Master!BQ$61:CC$286,4,FALSE)),\"\",VLOOKUP(C328,Master!BQ$61:CC$286,4,FALSE))","v":""},{"$f":"IF(ISNA(VLOOKUP(C328,Master!BQ$61:CC$286,5,FALSE)),\"\",VLOOKUP(C328,Master!BQ$61:CC$286,5,FALSE))","v":""},"","","","",{"$f":"IF(AND(H328=\"\"),\"\",VLOOKUP(D328,'Fix Pay'!$B$9:$K$116,10,0))","v":""},{"$f":"IF(AND(H328=\"\"),\"\",VLOOKUP(D328,'Fix Pay'!$B$9:$K$116,9,0))","v":""},"",{"$nulls":4},0,null,{"$f":"IF(ISNA(VLOOKUP(C328,Master!BQ$61:CC$286,10,FALSE)),\"\",VLOOKUP(C328,Master!BQ$61:CC$286,10,FALSE))","v":""},null,null,{"$f":"IF(ISNA(VLOOKUP(C328,Master!BQ$61:CC$286,11,FALSE)),\"\",VLOOKUP(C328,Master!BQ$61:CC$286,11,FALSE))","v":""},{"$f":"IF(ISNA(VLOOKUP(C328,Master!BQ$61:CC$286,9,FALSE)),\"\",VLOOKUP(C328,Master!BQ$61:CC$286,9,FALSE))","v":""},0,0,0,0,0,0,"","","","","","",0,0,"",0,0,0,null,0,"","",null,null,"","","","","","",null,0,"",0,0,0,0,"","","",null,null,"",0,1,0,0,0,1,0,1,0,0,"",null,{"$f":"IF(I328=\"\",\"\",MAX($CD$229:$CD$236,$CD$239:CD327)+1)","v":""}]
["",2202,91,{"$f":"IF(ISNA(VLOOKUP(C329,Master!BQ$61:CC$286,3,FALSE)),\"\",VLOOKUP(C329,Master!BQ$61:CC$286,3,FALSE))","v":""},{"$f":"IF(ISNA(VLOOKUP(C329,Master!BQ$61:CC$286,7,FALSE)),\"\",VLOOKUP(C329,Master!BQ$61:CC$286,7,FALSE))","v":""},{"$f":"IF(ISNA(VLOOKUP(C329,Master!BQ$61:CC$286,8,FALSE)),\"\",VLOOKUP(C329,Master!BQ$61:CC$286,8,FALSE))","v":""},{"$f":"IF(ISNA(VLOOKUP(C329,Master!BQ$61:CC$286,4,FALSE)),\"\",VLOOKUP(C329,Master!BQ$61:CC$286,4,FALSE))","v":""},{"$f":"IF(ISNA(VLOOKUP(C329,Master!BQ$61:CC$286,5,FALSE)),\"\",VLOOKUP(C329,Master!BQ$61:CC$286,5,FALSE))","v":""},"","","","",{"$f":"IF(AND(H329=\"\"),\"\",VLOOKUP(D329,'Fix Pay'!$B$9:$K$116,10,0))","v":""},{"$f":"IF(AND(H329=\"\"),\"\",VLOOKUP(D329,'Fix Pay'!$B$9:$K$116,9,0))","v":""},"",{"$nulls":4},0,null,{"$f":"IF(ISNA(VLOOKUP(C329,Master!BQ$61:CC$286,10,FALSE)),\"\",VLOOKUP(C329,Master!BQ$61:CC$286,10,FALSE))","v":""},null,null,{"$f":"IF(ISNA(VLOOKUP(C329,Master!BQ$61:CC$286,11,FALSE)),\"\",VLOOKUP(C329,Master!BQ$61:CC$286,11,FALSE))","v":""},{"$f":"IF(ISNA(VLOOKUP(C329,Master!BQ$61:CC$286,9,FALSE)),\"\",VLOOKUP(C329,Master!BQ$61:CC$286,9,FALSE))","v":""},0,0,0,0,0,0,"","","","","","",0,0,"",0,0,0,null,0,"","",null,null,"","","","","","",null,0,"",0,0,0,0,"","","",null,null,"",0,1,0,0,0,1,0,1,0,0,"",null,{"$f":"IF(I329=\"\",\"\",MAX($CD$229:$CD$236,$CD$239:CD328)+1)","v":""}]
["",2202,92,{"$f":"IF(ISNA(VLOOKUP(C330,Master!BQ$61:CC$286,3,FALSE)),\"\",VLOOKUP(C330,Master!BQ$61:CC$286,3,FALSE))","v":""},{"$f":"IF(ISNA(VLOOKUP(C330,Master!BQ$61:CC$286,7,FALSE)),\"\",VLOOKUP(C330,Master!BQ$61:CC$286,7,FALSE))","v":""},{"$f":"IF(ISNA(VLOOKUP(C330,Master!BQ$61:CC$286,8,FALSE)),\"\",VLOOKUP(C330,Master!BQ$61:CC$286,8,FALSE))","v":""},{"$f":"IF(ISNA(VLOOKUP(C330,Master!BQ$61:CC$286,4,FALSE)),\"\",VLOOKUP(C330,Master!BQ$61:CC$286,4,FALSE))","v":""},{"$f":"IF(ISNA(VLOOKUP(C330,Master!BQ$61:CC$286,5,FALSE)),\"\",VLOOKUP(C330,Master!BQ$61:CC$286,5,FALSE))","v":""},"","","","",{"$f":"IF(AND(H330=\"\"),\"\",VLOOKUP(D330,'Fix Pay'!$B$9:$K$116,10,0))","v":""},{"$f":"IF(AND(H330=\"\"),\"\",VLOOKUP(D330,'Fix Pay'!$B$9:$K$116,9,0))","v":""},"",{"$nulls":4},0,null,{"$f":"IF(ISNA(VLOOKUP(C330,Master!BQ$61:CC$286,10,FALSE)),\"\",VLOOKUP(C330,Master!BQ$61:CC$286,10,FALSE))","v":""},null,null,{"$f":"IF(ISNA(VLOOKUP(C330,Master!BQ$61:CC$286,11,FALSE)),\"\",VLOOKUP(C330,Master!BQ$61:CC$286,11,FALSE))","v":""},{"$f":"IF(ISNA(VLOOKUP(C330,Master!BQ$61:CC$286,9,FALSE)),\"\",VLOOKUP(C330,Master!BQ$61:CC$286,9,FALSE))","v":""},0,0,0,0,0,0,"","","","","","",0,0,"",0,0,0,null,0,"","",null,null,"","","","","","",null,0,"",0,0,0,0,"","","",null,null,"",0,1,0,0,0,1,0,1,0,0,"",null,{"$f":"IF(I330=\"\",\"\",MAX($CD$229:$CD$236,$CD$239:CD329)+1)","v":""}]
["",2202,93,{"$f":"IF(ISNA(VLOOKUP(C331,Master!BQ$61:CC$286,3,FALSE)),\"\",VLOOKUP(C331,Master!BQ$61:CC$286,3,FALSE))","v":""},{"$f":"IF(ISNA(VLOOKUP(C331,Master!BQ$61:CC$286,7,FALSE)),\"\",VLOOKUP(C331,Master!BQ$61:CC$286,7,FALSE))","v":""},{"$f":"IF(ISNA(VLOOKUP(C331,Master!BQ$61:CC$286,8,FALSE)),\"\",VLOOKUP(C331,Master!BQ$61:CC$286,8,FALSE))","v":""},{"$f":"IF(ISNA(VLOOKUP(C331,Master!BQ$61:CC$286,4,FALSE)),\"\",VLOOKUP(C331,Master!BQ$61:CC$286,4,FALSE))","v":""},{"$f":"IF(ISNA(VLOOKUP(C331,Master!BQ$61:CC$286,5,FALSE)),\"\",VLOOKUP(C331,Master!BQ$61:CC$286,5,FALSE))","v":""},"","","","",{"$f":"IF(AND(H331=\"\"),\"\",VLOOKUP(D331,'Fix Pay'!$B$9:$K$116,10,0))","v":""},{"$f":"IF(AND(H331=\"\"),\"\",VLOOKUP(D331,'Fix Pay'!$B$9:$K$116,9,0))","v":""},"",{"$nulls":4},0,null,{"$f":"IF(ISNA(VLOOKUP(C331,Master!BQ$61:CC$286,10,FALSE)),\"\",VLOOKUP(C331,Master!BQ$61:CC$286,10,FALSE))","v":""},null,null,{"$f":"IF(ISNA(VLOOKUP(C331,Master!BQ$61:CC$286,11,FALSE)),\"\",VLOOKUP(C331,Master!BQ$61:CC$286,11,FALSE))","v":""},{"$f":"IF(ISNA(VLOOKUP(C331,Master!BQ$61:CC$286,9,FALSE)),\"\",VLOOKUP(C331,Master!BQ$61:CC$286,9,FALSE))","v":""},0,0,0,0,0,0,"","","","","","",0,0,"",0,0,0,null,0,"","",null,null,"","","","","","",null,0,"",0,0,0,0,"","","",null,null,"",0,1,0,0,0,1,0,1,0,0,"",null,{"$f":"IF(I331=\"\",\"\",MAX($CD$229:$CD$236,$CD$239:CD330)+1)","v":""}]
["",2202,94,{"$f":"IF(ISNA(VLOOKUP(C332,Master!BQ$61:CC$286,3,FALSE)),\"\",VLOOKUP(C332,Master!BQ$61:CC$286,3,FALSE))","v":""},{"$f":"IF(ISNA(VLOOKUP(C332,Master!BQ$61:CC$286,7,FALSE)),\"\",VLOOKUP(C332,Master!BQ$61:CC$286,7,FALSE))","v":""},{"$f":"IF(ISNA(VLOOKUP(C332,Master!BQ$61:CC$286,8,FALSE)),\"\",VLOOKUP(C332,Master!BQ$61:CC$286,8,FALSE))","v":""},{"$f":"IF(ISNA(VLOOKUP(C332,Master!BQ$61:CC$286,4,FALSE)),\"\",VLOOKUP(C332,Master!BQ$61:CC$286,4,FALSE))","v":""},{"$f":"IF(ISNA(VLOOKUP(C332,Master!BQ$61:CC$286,5,FALSE)),\"\",VLOOKUP(C332,Master!BQ$61:CC$286,5,FALSE))","v":""},"","","","",{"$f":"IF(AND(H332=\"\"),\"\",VLOOKUP(D332,'Fix Pay'!$B$9:$K$116,10,0))","v":""},{"$f":"IF(AND(H332=\"\"),\"\",VLOOKUP(D332,'Fix Pay'!$B$9:$K$116,9,0))","v":""},"",{"$nulls":4},0,null,{"$f":"IF(ISNA(VLOOKUP(C332,Master!BQ$61:CC$286,10,FALSE)),\"\",VLOOKUP(C332,Master!BQ$61:CC$286,10,FALSE))","v":""},null,null,{"$f":"IF(ISNA(VLOOKUP(C332,Master!BQ$61:CC$286,11,FALSE)),\"\",VLOOKUP(C332,Master!BQ$61:CC$286,11,FALSE))","v":""},{"$f":"IF(ISNA(VLOOKUP(C332,Master!BQ$61:CC$286,9,FALSE)),\"\",VLOOKUP(C332,Master!BQ$61:CC$286,9,FALSE))","v":""},0,0,0,0,0,0,"","","","","","",0,0,"",0,0,0,null,0,"","",null,null,"","","","","","",null,0,"",0,0,0,0,"","","",null,null,"",0,1,0,0,0,1,0,1,0,0,"",null,{"$f":"IF(I332=\"\",\"\",MAX($CD$229:$CD$236,$CD$239:CD331)+1)","v":""}]
["",2202,95,{"$f":"IF(ISNA(VLOOKUP(C333,Master!BQ$61:CC$286,3,FALSE)),\"\",VLOOKUP(C333,Master!BQ$61:CC$286,3,FALSE))","v":""},{"$f":"IF(ISNA(VLOOKUP(C333,Master!BQ$61:CC$286,7,FALSE)),\"\",VLOOKUP(C333,Master!BQ$61:CC$286,7,FALSE))","v":""},{"$f":"IF(ISNA(VLOOKUP(C333,Master!BQ$61:CC$286,8,FALSE)),\"\",VLOOKUP(C333,Master!BQ$61:CC$286,8,FALSE))","v":""},{"$f":"IF(ISNA(VLOOKUP(C333,Master!BQ$61:CC$286,4,FALSE)),\"\",VLOOKUP(C333,Master!BQ$61:CC$286,4,FALSE))","v":""},{"$f":"IF(ISNA(VLOOKUP(C333,Master!BQ$61:CC$286,5,FALSE)),\"\",VLOOKUP(C333,Master!BQ$61:CC$286,5,FALSE))","v":""},"","","","",{"$f":"IF(AND(H333=\"\"),\"\",VLOOKUP(D333,'Fix Pay'!$B$9:$K$116,10,0))","v":""},{"$f":"IF(AND(H333=\"\"),\"\",VLOOKUP(D333,'Fix Pay'!$B$9:$K$116,9,0))","v":""},"",{"$nulls":4},0,null,{"$f":"IF(ISNA(VLOOKUP(C333,Master!BQ$61:CC$286,10,FALSE)),\"\",VLOOKUP(C333,Master!BQ$61:CC$286,10,FALSE))","v":""},null,null,{"$f":"IF(ISNA(VLOOKUP(C333,Master!BQ$61:CC$286,11,FALSE)),\"\",VLOOKUP(C333,Master!BQ$61:CC$286,11,FALSE))","v":""},{"$f":"IF(ISNA(VLOOKUP(C333,Master!BQ$61:CC$286,9,FALSE)),\"\",VLOOKUP(C333,Master!BQ$61:CC$286,9,FALSE))","v":""},0,0,0,0,0,0,"","","","","","",0,0,"",0,0,0,null,0,"","",null,null,"","","","","","",null,0,"",0,0,0,0,"","","",null,null,"",0,1,0,0,0,1,0,1,0,0,"",null,{"$f":"IF(I333=\"\",\"\",MAX($CD$229:$CD$236,$CD$239:CD332)+1)","v":""}]
["",2202,96,{"$f":"IF(ISNA(VLOOKUP(C334,Master!BQ$61:CC$286,3,FALSE)),\"\",VLOOKUP(C334,Master!BQ$61:CC$286,3,FALSE))","v":""},{"$f":"IF(ISNA(VLOOKUP(C334,Master!BQ$61:CC$286,7,FALSE)),\"\",VLOOKUP(C334,Master!BQ$61:CC$286,7,FALSE))","v":""},{"$f":"IF(ISNA(VLOOKUP(C334,Master!BQ$61:CC$286,8,FALSE)),\"\",VLOOKUP(C334,Master!BQ$61:CC$286,8,FALSE))","v":""},{"$f":"IF(ISNA(VLOOKUP(C334,Master!BQ$61:CC$286,4,FALSE)),\"\",VLOOKUP(C334,Master!BQ$61:CC$286,4,FALSE))","v":""},{"$f":"IF(ISNA(VLOOKUP(C334,Master!BQ$61:CC$286,5,FALSE)),\"\",VLOOKUP(C334,Master!BQ$61:CC$286,5,FALSE))","v":""},"","","","",{"$f":"IF(AND(H334=\"\"),\"\",VLOOKUP(D334,'Fix Pay'!$B$9:$K$116,10,0))","v":""},{"$f":"IF(AND(H334=\"\"),\"\",VLOOKUP(D334,'Fix Pay'!$B$9:$K$116,9,0))","v":""},"",{"$nulls":4},0,null,{"$f":"IF(ISNA(VLOOKUP(C334,Master!BQ$61:CC$286,10,FALSE)),\"\",VLOOKUP(C334,Master!BQ$61:CC$286,10,FALSE))","v":""},null,null,{"$f":"IF(ISNA(VLOOKUP(C334,Master!BQ$61:CC$286,11,FALSE)),\"\",VLOOKUP(C334,Master!BQ$61:CC$286,11,FALSE))","v":""},{"$f":"IF(ISNA(VLOOKUP(C334,Master!BQ$61:CC$286,9,FALSE)),\"\",VLOOKUP(C334,Master!BQ$61:CC$286,9,FALSE))","v":""},0,0,0,0,0,0,"","","","","","",0,0,"",0,0,0,null,{"$f":"(IF(G334=\"LAB BOY\",180,IF(G334=\"JAMADAR\",180,IF(G334=\"PEON\",180,0))))*12*BV334*(IF(I334<=0,0,1))","v":0},"","",null,null,"","","","","","",null,0,"",0,0,0,0,"","","",null,null,"",0,1,0,0,0,1,0,1,0,0,"",null,{"$f":"IF(I334=\"\",\"\",MAX($CD$229:$CD$236,$CD$239:CD333)+1)","v":""}]
["",2202,97,{"$f":"IF(ISNA(VLOOKUP(C335,Master!BQ$61:CC$286,3,FALSE)),\"\",VLOOKUP(C335,Master!BQ$61:CC$286,3,FALSE))","v":""},{"$f":"IF(ISNA(VLOOKUP(C335,Master!BQ$61:CC$286,7,FALSE)),\"\",VLOOKUP(C335,Master!BQ$61:CC$286,7,FALSE))","v":""},{"$f":"IF(ISNA(VLOOKUP(C335,Master!BQ$61:CC$286,8,FALSE)),\"\",VLOOKUP(C335,Master!BQ$61:CC$286,8,FALSE))","v":""},{"$f":"IF(ISNA(VLOOKUP(C335,Master!BQ$61:CC$286,4,FALSE)),\"\",VLOOKUP(C335,Master!BQ$61:CC$286,4,FALSE))","v":""},{"$f":"IF(ISNA(VLOOKUP(C335,Master!BQ$61:CC$286,5,FALSE)),\"\",VLOOKUP(C335,Master!BQ$61:CC$286,5,FALSE))","v":""},"","","","",{"$f":"IF(AND(H335=\"\"),\"\",VLOOKUP(D335,'Fix Pay'!$B$9:$K$116,10,0))","v":""},{"$f":"IF(AND(H335=\"\"),\"\",VLOOKUP(D335,'Fix Pay'!$B$9:$K$116,9,0))","v":""},"",{"$nulls":4},0,null,{"$f":"IF(ISNA(VLOOKUP(C335,Master!BQ$61:CC$286,10,FALSE)),\"\",VLOOKUP(C335,Master!BQ$61:CC$286,10,FALSE))","v":""},null,null,{"$f":"IF(ISNA(VLOOKUP(C335,Master!BQ$61:CC$286,11,FALSE)),\"\",VLOOKUP(C335,Master!BQ$61:CC$286,11,FALSE))","v":""},{"$f":"IF(ISNA(VLOOKUP(C335,Master!BQ$61:CC$286,9,FALSE)),\"\",VLOOKUP(C335,Master!BQ$61:CC$286,9,FALSE))","v":""},0,0,0,0,0,0,"","","","","","",0,0,"",0,0,0,null,0,"","",null,null,"","","","","","",null,0,"",0,0,0,0,"","","",null,null,"",0,1,0,0,0,1,0,1,0,0,"",null,{"$f":"IF(I335=\"\",\"\",MAX($CD$229:$CD$236,$CD$239:CD334)+1)","v":""}]
["",2202,98,{"$f":"IF(ISNA(VLOOKUP(C336,Master!BQ$61:CC$286,3,FALSE)),\"\",VLOOKUP(C336,Master!BQ$61:CC$286,3,FALSE))","v":""},{"$f":"IF(ISNA(VLOOKUP(C336,Master!BQ$61:CC$286,7,FALSE)),\"\",VLOOKUP(C336,Master!BQ$61:CC$286,7,FALSE))","v":""},{"$f":"IF(ISNA(VLOOKUP(C336,Master!BQ$61:CC$286,8,FALSE)),\"\",VLOOKUP(C336,Master!BQ$61:CC$286,8,FALSE))","v":""},{"$f":"IF(ISNA(VLOOKUP(C336,Master!BQ$61:CC$286,4,FALSE)),\"\",VLOOKUP(C336,Master!BQ$61:CC$286,4,FALSE))","v":""},{"$f":"IF(ISNA(VLOOKUP(C336,Master!BQ$61:CC$286,5,FALSE)),\"\",VLOOKUP(C336,Master!BQ$61:CC$286,5,FALSE))","v":""},"","","","",{"$f":"IF(AND(H336=\"\"),\"\",VLOOKUP(D336,'Fix Pay'!$B$9:$K$116,10,0))","v":""},{"$f":"IF(AND(H336=\"\"),\"\",VLOOKUP(D336,'Fix Pay'!$B$9:$K$116,9,0))","v":""},"",{"$nulls":4},0,null,{"$f":"IF(ISNA(VLOOKUP(C336,Master!BQ$61:CC$286,10,FALSE)),\"\",VLOOKUP(C336,Master!BQ$61:CC$286,10,FALSE))","v":""},null,null,{"$f":"IF(ISNA(VLOOKUP(C336,Master!BQ$61:CC$286,11,FALSE)),\"\",VLOOKUP(C336,Master!BQ$61:CC$286,11,FALSE))","v":""},{"$f":"IF(ISNA(VLOOKUP(C336,Master!BQ$61:CC$286,9,FALSE)),\"\",VLOOKUP(C336,Master!BQ$61:CC$286,9,FALSE))","v":""},0,0,0,0,0,0,"","","","","","",0,0,"",0,0,0,null,0,"","",null,null,"","","","","","",null,0,"",0,0,0,0,"","","",null,null,"",0,1,0,0,0,1,0,1,0,0,"",null,{"$f":"IF(I336=\"\",\"\",MAX($CD$229:$CD$236,$CD$239:CD335)+1)","v":""}]
["",2202,99,{"$f":"IF(ISNA(VLOOKUP(C337,Master!BQ$61:CC$286,3,FALSE)),\"\",VLOOKUP(C337,Master!BQ$61:CC$286,3,FALSE))","v":""},{"$f":"IF(ISNA(VLOOKUP(C337,Master!BQ$61:CC$286,7,FALSE)),\"\",VLOOKUP(C337,Master!BQ$61:CC$286,7,FALSE))","v":""},{"$f":"IF(ISNA(VLOOKUP(C337,Master!BQ$61:CC$286,8,FALSE)),\"\",VLOOKUP(C337,Master!BQ$61:CC$286,8,FALSE))","v":""},{"$f":"IF(ISNA(VLOOKUP(C337,Master!BQ$61:CC$286,4,FALSE)),\"\",VLOOKUP(C337,Master!BQ$61:CC$286,4,FALSE))","v":""},{"$f":"IF(ISNA(VLOOKUP(C337,Master!BQ$61:CC$286,5,FALSE)),\"\",VLOOKUP(C337,Master!BQ$61:CC$286,5,FALSE))","v":""},"","","","",{"$f":"IF(AND(H337=\"\"),\"\",VLOOKUP(D337,'Fix Pay'!$B$9:$K$116,10,0))","v":""},{"$f":"IF(AND(H337=\"\"),\"\",VLOOKUP(D337,'Fix Pay'!$B$9:$K$116,9,0))","v":""},"",{"$nulls":4},0,null,{"$f":"IF(ISNA(VLOOKUP(C337,Master!BQ$61:CC$286,10,FALSE)),\"\",VLOOKUP(C337,Master!BQ$61:CC$286,10,FALSE))","v":""},null,null,{"$f":"IF(ISNA(VLOOKUP(C337,Master!BQ$61:CC$286,11,FALSE)),\"\",VLOOKUP(C337,Master!BQ$61:CC$286,11,FALSE))","v":""},{"$f":"IF(ISNA(VLOOKUP(C337,Master!BQ$61:CC$286,9,FALSE)),\"\",VLOOKUP(C337,Master!BQ$61:CC$286,9,FALSE))","v":""},0,0,0,0,0,0,"","","","","","",0,0,"",0,0,0,null,0,"","",null,null,"","","","","","",null,0,"",0,0,0,0,"","","",null,null,"",0,1,0,0,0,1,0,1,0,0,"",null,{"$f":"IF(I337=\"\",\"\",MAX($CD$229:$CD$236,$CD$239:CD336)+1)","v":""}]
["",2202,100,{"$f":"IF(ISNA(VLOOKUP(C338,Master!BQ$61:CC$286,3,FALSE)),\"\",VLOOKUP(C338,Master!BQ$61:CC$286,3,FALSE))","v":""},{"$f":"IF(ISNA(VLOOKUP(C338,Master!BQ$61:CC$286,7,FALSE)),\"\",VLOOKUP(C338,Master!BQ$61:CC$286,7,FALSE))","v":""},{"$f":"IF(ISNA(VLOOKUP(C338,Master!BQ$61:CC$286,8,FALSE)),\"\",VLOOKUP(C338,Master!BQ$61:CC$286,8,FALSE))","v":""},{"$f":"IF(ISNA(VLOOKUP(C338,Master!BQ$61:CC$286,4,FALSE)),\"\",VLOOKUP(C338,Master!BQ$61:CC$286,4,FALSE))","v":""},{"$f":"IF(ISNA(VLOOKUP(C338,Master!BQ$61:CC$286,5,FALSE)),\"\",VLOOKUP(C338,Master!BQ$61:CC$286,5,FALSE))","v":""},"","","","",{"$f":"IF(AND(H338=\"\"),\"\",VLOOKUP(D338,'Fix Pay'!$B$9:$K$116,10,0))","v":""},{"$f":"IF(AND(H338=\"\"),\"\",VLOOKUP(D338,'Fix Pay'!$B$9:$K$116,9,0))","v":""},"",{"$nulls":4},0,null,{"$f":"IF(ISNA(VLOOKUP(C338,Master!BQ$61:CC$286,10,FALSE)),\"\",VLOOKUP(C338,Master!BQ$61:CC$286,10,FALSE))","v":""},null,null,{"$f":"IF(ISNA(VLOOKUP(C338,Master!BQ$61:CC$286,11,FALSE)),\"\",VLOOKUP(C338,Master!BQ$61:CC$286,11,FALSE))","v":""},{"$f":"IF(ISNA(VLOOKUP(C338,Master!BQ$61:CC$286,9,FALSE)),\"\",VLOOKUP(C338,Master!BQ$61:CC$286,9,FALSE))","v":""},0,0,0,0,0,0,"","","","","","",0,0,"",0,0,0,null,0,"","",null,null,"","","","","","",null,0,"",0,0,0,0,"","","",null,null,"",0,1,0,0,0,1,0,1,0,0,"",null,{"$f":"IF(I338=\"\",\"\",MAX($CD$229:$CD$236,$CD$239:CD337)+1)","v":""}]
[{"$nulls":6},"TOTAL NON GAZETTED FIXED",null,{"$f":"SUM(I239:I338)","v":23700},{"$f":"SUM(J239:J338)","v":284400},null,{"$f":"SUM(L239:L338)","v":0},{"$f":"SUM(M239:M338)","v":405600},{"$f":"SUM(N239:N338)","v":348540},{"$nulls":31},0]
[{"$nulls":6},"TOTAL GAZETTED + NON GAZETTED FIXED",null,null,{"$f":"J237+J339","v":284400},null,{"$f":"L237+L339","v":0},{"$f":"M237+M339","v":405600},{"$f":"N237+N339","v":348540},{"$nulls":31},0]
[null,"GAZETTED SANVIDA",{"$nulls":43},0]
[null,2202,1,{"$f":"IF(ISNA(VLOOKUP(C342,Master!CD$61:CP$108,3,FALSE)),\"\",VLOOKUP(C342,Master!CD$61:CP$108,3,FALSE))","v":""},{"$f":"IF(ISNA(VLOOKUP(C342,Master!CD$61:CP$108,7,FALSE)),\"\",VLOOKUP(C342,Master!CD$61:CP$108,7,FALSE))","v":""},{"$f":"IF(ISNA(VLOOKUP(C342,Master!CD$61:CP$108,8,FALSE)),\"\",VLOOKUP(C342,Master!CD$61:CP$108,8,FALSE))","v":""},{"$f":"IF(ISNA(VLOOKUP(C342,Master!CD$61:CP$108,4,FALSE)),\"\",VLOOKUP(C342,Master!CD$61:CP$108,4,FALSE))","v":""},{"$f":"IF(ISNA(VLOOKUP(C342,Master!CD$61:CP$108,5,FALSE)),\"\",VLOOKUP(C342,Master!CD$61:CP$108,5,FALSE))","v":""},{"$f":"IF(ISNA(VLOOKUP(C342,Master!CD$61:CP$108,6,FALSE)),\"\",VLOOKUP(C342,Master!CD$61:CP$108,6,FALSE))","v":""},{"$f":"IF(AND(H342=\"\"),\"\",I342*12)","v":""},{"$f":"IF(AND(H342=\"\"),\"\",\"Not Applicable\")","v":""},{"$f":"IF(AND(H342=\"\"),\"\",\"0\")","v":""},{"$f":"IF(AND(H342=\"\"),\"\",J342+L342)","v":""},{"$f":"IF(AND(H342=\"\"),\"\",M342)","v":""},{"$f":"IF(AND(H342=\"\"),\"\",\"SANVIDA\")","v":""},{"$nulls":17},{"$f":"IF(AND(I342=\"\"),\"\",(IF(O342=\"FIX PAY\",0,(I342-ROUNDUP(ROUND((I342*3%)-(I342*3%)*3%,0),-1)))))","v":""},{"$f":"IF(AND(I342=\"\"),\"\",$M342*$BR342)","v":""},{"$f":"IF(AND(I342=\"\"),\"\",$M342*$BS342)","v":""},{"$f":"IF(AND(I342=\"\"),\"\",$M342*$BT342)","v":""},{"$f":"IF(AND(I342=\"\"),\"\",$M342*$BU342)","v":""},{"$f":"IF(AND(I342=\"\"),\"\",ROUND((AH342+AI342)*$AL$10,0)*BV342)","v":""},0,0,{"$f":"IF(AND(I342=\"\"),\"\",ROUND((AH342+AI342)*$AO$10,0)*BV342)","v":""},{"$f":"$G$222*BS342*BV342*(IF(I342<=0,0,1))*(IF(H342<=4800,1,0))","v":0},{"$f":"IF(AND(I342=\"\"),0,ROUND((I342+ROUND(I342*$AL$10,0))/2,0)*(IF(O342=\"FIX PAY\",0,1)))","v":0},{"$f":"IF(G342=\"CLERK GRADE I\",1,IF(G342=\"CLERK GRADE II\",1,0))*75*12*BV342*(IF(I342<=0,0,1))*BW342","v":0},null,0,{"$f":"IF(AND(I342=\"\"),\"\",SUM(AL342:AT342)+AH342+AI342)","v":""},{"$f":"IF(AND(I342=\"\"),\"\",AU342)","v":""},null,null,{"$f":"IF(AND(I342=\"\"),\"\",AV342+AW342+AX342)","v":""},{"$f":"IF(AND(I342=\"\"),\"\",N342*BR342)","v":""},{"$f":"IF(AND(I342=\"\"),\"\",N342*BS342)","v":""},{"$f":"IF(AND(I342=\"\"),\"\",N342*BT342)","v":""},{"$f":"IF(AND(I342=\"\"),\"\",N342*BU342)","v":""},{"$f":"IF(AND(I342=\"\"),\"\",ROUND((AZ342+BA342)*$BD$10,0)*BV342)","v":""},null,4,{"$f":"IF(AND(I342=\"\"),\"\",ROUND((AZ342+BA342)*$BG$10,0)*BV342)","v":""},{"$f":"3387*2*BS342*BV342*(IF(I342<=0,0,1))*(IF(H342<=4800,1,0))","v":0},{"$f":"IF(AND(I342=\"\"),0,ROUND((AG342+ROUND(AG342*$AL$10,0))/2,0)*(IF(O342=\"FIX PAY\",0,1)))","v":0},{"$f":"IF(G342=\"CLERK GRADE I\",1,IF(G342=\"CLERK GRADE II\",1,0))*75*12*BV342*(IF(I342<=0,0,1))*BW342","v":0},{"$f":"IF(AND(G342=\"\"),0,(IF(G342=\"ASSISTANT\",12,IF(G342=\"CLERK GRADE I\",12,IF(G342=\"CLERK GRADE II\",12,IF(G342=\"FIELDMAN & FIELD REC\",12,IF(G342=\"LAB BOY\",12,IF(G342=\"JAMADAR\",12,IF(G342=\"PEON\",12,10))))))))*(MINA(ROUND(AG342*6%,0),600))*(IF($V342=\"yes\",1,)))","v":0},{"$f":"IF(AND(I342=\"\"),\"\",(IF(G342=\"LAB BOY\",150,IF(G342=\"JAMADAR\",150,IF(G342=\"PEON\",150,0))))*12*BV342*(IF(I342<=0,0,1)))","v":""},{"$f":"IF(AND(I342=\"\"),\"\",SUM(BD342:BL342)+AZ342+BA342)","v":""},{"$f":"IF(AND(I342=\"\"),\"\",BM342)","v":""},null,null,{"$f":"IF(AND(I342=\"\"),\"\",BN342+BO342+BP342)","v":""},{"$f":"(IF(G342=\"PRINCIPAL\",1,IF(G342=\"H M\",1,IF(G342=\"AGRICULTURE INST\",1,IF(G342=\"TEACHER-1ST\",1,IF(G342=\"PTI  I  (13)\",1,IF(G342=\"AGRICULTURE TEACH\",1,IF(G342=\"INSTRUCTOR\",1,0))))))))+(IF(G342=\"JR TEACHER\",1,IF(G342=\"LIBRARIAN I\",1,0)))*(IF(O342=\"FIX PAY\",0,1))","v":0},{"$f":"IF(BR342<=0,1,0)*(IF(O342=\"FIX PAY\",0,1))","v":1},{"$f":"(IF(G342=\"PRINCIPAL (16)\",1,IF(G342=\"V P (14)\",1,IF(G342=\"H M (14)\",1,IF(G342=\"AGRICULTURE INST (13)\",1,IF(G342=\"TEACHER-1ST (13)\",1,IF(G342=\"PTI  I  (13)\",1,IF(G342=\"AGRICULTURE TEACH (13)\",1,IF(G342=\"INSTRUCTOR (13)\",1,0))))))))+(IF(G342=\"JR TEACHER (13)\",1,IF(G342=\"LIBRARIAN I (13)\",1,0))))*(IF(O342=\"FIX PAY\",1,0))","v":0},{"$f":"IF(BT342<=0,1,0)*(IF(O342=\"FIX PAY\",1,0))","v":0},{"$f":"IF(O342=\"FIX PAY\",1,0)","v":0},{"$f":"IF(Y342=\"No\",0,1)","v":1},{"$f":"IF((ROUND((SUMPRODUCT(MID(0&E342,LARGE(INDEX(ISNUMBER(--MID(E342,ROW($1:$25),1))* ROW($1:$25),0),ROW($1:$25))+1,1)*10^ROW($1:$25)/10)),-8)/100000000)>=2004,1,0)","v":0},{"$f":"IF(I342<=0,0,1)","v":1},{"$f":"IF(O342=\"SANVIDA\",1,0)","v":0},{"$f":"IF(BZ342>0,I342,0)","v":0},{"$f":"IF(AND(E342=\"\"),\"\",IF(AND(E342<=0),\"\",IF((ROUND((SUMPRODUCT(MID(0&E342,LARGE(INDEX(ISNUMBER(--MID(E342,ROW($1:$70),1))* ROW($1:$70),0),ROW($1:$70))+1,1)*10^ROW($1:$70)/10)),-8)/100000000)<2004,1,0)))","v":""}]
[null,2202,2,{"$f":"IF(ISNA(VLOOKUP(C343,Master!CD$61:CP$108,3,FALSE)),\"\",VLOOKUP(C343,Master!CD$61:CP$108,3,FALSE))","v":""},{"$f":"IF(ISNA(VLOOKUP(C343,Master!CD$61:CP$108,7,FALSE)),\"\",VLOOKUP(C343,Master!CD$61:CP$108,7,FALSE))","v":""},{"$f":"IF(ISNA(VLOOKUP(C343,Master!CD$61:CP$108,8,FALSE)),\"\",VLOOKUP(C343,Master!CD$61:CP$108,8,FALSE))","v":""},{"$f":"IF(ISNA(VLOOKUP(C343,Master!CD$61:CP$108,4,FALSE)),\"\",VLOOKUP(C343,Master!CD$61:CP$108,4,FALSE))","v":""},{"$f":"IF(ISNA(VLOOKUP(C343,Master!CD$61:CP$108,5,FALSE)),\"\",VLOOKUP(C343,Master!CD$61:CP$108,5,FALSE))","v":""},{"$f":"IF(ISNA(VLOOKUP(C343,Master!CD$61:CP$108,6,FALSE)),\"\",VLOOKUP(C343,Master!CD$61:CP$108,6,FALSE))","v":""},{"$f":"IF(AND(H343=\"\"),\"\",I343*12)","v":""},{"$f":"IF(AND(H343=\"\"),\"\",\"Not Applicable\")","v":""},{"$f":"IF(AND(H343=\"\"),\"\",\"0\")","v":""},{"$f":"IF(AND(H343=\"\"),\"\",J343+L343)","v":""},{"$f":"IF(AND(H343=\"\"),\"\",M343)","v":""},{"$f":"IF(AND(H343=\"\"),\"\",\"SANVIDA\")","v":""},{"$nulls":17},"","","","","","",0,0,"",0,{"$f":"IF(AND(I343=\"\"),0,ROUND((I343+ROUND(I343*$AL$10,0))/2,0)*(IF(O343=\"FIX PAY\",0,1)))","v":0},{"$f":"IF(G343=\"CLERK GRADE I\",1,IF(G343=\"CLERK GRADE II\",1,0))*75*12*BV343*(IF(I343<=0,0,1))*BW343","v":0},null,0,"","",null,null,"","","","","","",null,5,"",0,0,{"$f":"IF(G343=\"CLERK GRADE I\",1,IF(G343=\"CLERK GRADE II\",1,0))*75*12*BV343*(IF(I343<=0,0,1))*BW343","v":0},{"$f":"IF(AND(G343=\"\"),0,(IF(G343=\"ASSISTANT\",12,IF(G343=\"CLERK GRADE I\",12,IF(G343=\"CLERK GRADE II\",12,IF(G343=\"FIELDMAN & FIELD REC\",12,IF(G343=\"LAB BOY\",12,IF(G343=\"JAMADAR\",12,IF(G343=\"PEON\",12,10))))))))*(MINA(ROUND(AG343*6%,0),600))*(IF($V343=\"yes\",1,)))","v":0},{"$f":"IF(AND(I343=\"\"),\"\",(IF(G343=\"LAB BOY\",150,IF(G343=\"JAMADAR\",150,IF(G343=\"PEON\",150,0))))*12*BV343*(IF(I343<=0,0,1)))","v":""},"","",null,null,"",{"$f":"(IF(G343=\"PRINCIPAL\",1,IF(G343=\"H M\",1,IF(G343=\"AGRICULTURE INST\",1,IF(G343=\"TEACHER-1ST\",1,IF(G343=\"PTI  I  (13)\",1,IF(G343=\"AGRICULTURE TEACH\",1,IF(G343=\"INSTRUCTOR\",1,0))))))))+(IF(G343=\"JR TEACHER\",1,IF(G343=\"LIBRARIAN I\",1,0)))*(IF(O343=\"FIX PAY\",0,1))","v":0},1,{"$f":"(IF(G343=\"PRINCIPAL (16)\",1,IF(G343=\"V P (14)\",1,IF(G343=\"H M (14)\",1,IF(G343=\"AGRICULTURE INST (13)\",1,IF(G343=\"TEACHER-1ST (13)\",1,IF(G343=\"PTI  I  (13)\",1,IF(G343=\"AGRICULTURE TEACH (13)\",1,IF(G343=\"INSTRUCTOR (13)\",1,0))))))))+(IF(G343=\"JR TEACHER (13)\",1,IF(G343=\"LIBRARIAN I (13)\",1,0))))*(IF(O343=\"FIX PAY\",1,0))","v":0},0,{"$f":"IF(O343=\"FIX PAY\",1,0)","v":0},1,{"$f":"IF((ROUND((SUMPRODUCT(MID(0&E343,LARGE(INDEX(ISNUMBER(--MID(E343,ROW($1:$25),1))* ROW($1:$25),0),ROW($1:$25))+1,1)*10^ROW($1:$25)/10)),-8)/100000000)>=2004,1,0)","v":0},1,{"$f":"IF(O343=\"SANVIDA\",1,0)","v":0},{"$f":"IF(BZ343>0,I343,0)","v":0},{"$f":"IF(AND(E343=\"\"),\"\",IF(AND(E343<=0),\"\",IF((ROUND((SUMPRODUCT(MID(0&E343,LARGE(INDEX(ISNUMBER(--MID(E343,ROW($1:$70),1))* ROW($1:$70),0),ROW($1:$70))+1,1)*10^ROW($1:$70)/10)),-8)/100000000)<2004,1,0)))","v":""}]
[null,2202,3,{"$f":"IF(ISNA(VLOOKUP(C344,Master!CD$61:CP$108,3,FALSE)),\"\",VLOOKUP(C344,Master!CD$61:CP$108,3,FALSE))","v":""},{"$f":"IF(ISNA(VLOOKUP(C344,Master!CD$61:CP$108,7,FALSE)),\"\",VLOOKUP(C344,Master!CD$61:CP$108,7,FALSE))","v":""},{"$f":"IF(ISNA(VLOOKUP(C344,Master!CD$61:CP$108,8,FALSE)),\"\",VLOOKUP(C344,Master!CD$61:CP$108,8,FALSE))","v":""},{"$f":"IF(ISNA(VLOOKUP(C344,Master!CD$61:CP$108,4,FALSE)),\"\",VLOOKUP(C344,Master!CD$61:CP$108,4,FALSE))","v":""},{"$f":"IF(ISNA(VLOOKUP(C344,Master!CD$61:CP$108,5,FALSE)),\"\",VLOOKUP(C344,Master!CD$61:CP$108,5,FALSE))","v":""},{"$f":"IF(ISNA(VLOOKUP(C344,Master!CD$61:CP$108,6,FALSE)),\"\",VLOOKUP(C344,Master!CD$61:CP$108,6,FALSE))","v":""},{"$f":"IF(AND(H344=\"\"),\"\",I344*12)","v":""},{"$f":"IF(AND(H344=\"\"),\"\",\"Not Applicable\")","v":""},{"$f":"IF(AND(H344=\"\"),\"\",\"0\")","v":""},{"$f":"IF(AND(H344=\"\"),\"\",J344+L344)","v":""},{"$f":"IF(AND(H344=\"\"),\"\",M344)","v":""},{"$f":"IF(AND(H344=\"\"),\"\",\"SANVIDA\")","v":""},{"$nulls":17},"","","","","","",0,0,"",0,{"$f":"IF(AND(I344=\"\"),0,ROUND((I344+ROUND(I344*$AL$10,0))/2,0)*(IF(O344=\"FIX PAY\",0,1)))","v":0},{"$f":"IF(G344=\"CLERK GRADE I\",1,IF(G344=\"CLERK GRADE II\",1,0))*75*12*BV344*(IF(I344<=0,0,1))*BW344","v":0},null,0,"","",null,null,"","","","","","",null,6,"",0,0,{"$f":"IF(G344=\"CLERK GRADE I\",1,IF(G344=\"CLERK GRADE II\",1,0))*75*12*BV344*(IF(I344<=0,0,1))*BW344","v":0},{"$f":"IF(AND(G344=\"\"),0,(IF(G344=\"ASSISTANT\",12,IF(G344=\"CLERK GRADE I\",12,IF(G344=\"CLERK GRADE II\",12,IF(G344=\"FIELDMAN & FIELD REC\",12,IF(G344=\"LAB BOY\",12,IF(G344=\"JAMADAR\",12,IF(G344=\"PEON\",12,10))))))))*(MINA(ROUND(AG344*6%,0),600))*(IF($V344=\"yes\",1,)))","v":0},{"$f":"IF(AND(I344=\"\"),\"\",(IF(G344=\"LAB BOY\",150,IF(G344=\"JAMADAR\",150,IF(G344=\"PEON\",150,0))))*12*BV344*(IF(I344<=0,0,1)))","v":""},"","",null,null,"",{"$f":"(IF(G344=\"PRINCIPAL\",1,IF(G344=\"H M\",1,IF(G344=\"AGRICULTURE INST\",1,IF(G344=\"TEACHER-1ST\",1,IF(G344=\"PTI  I  (13)\",1,IF(G344=\"AGRICULTURE TEACH\",1,IF(G344=\"INSTRUCTOR\",1,0))))))))+(IF(G344=\"JR TEACHER\",1,IF(G344=\"LIBRARIAN I\",1,0)))*(IF(O344=\"FIX PAY\",0,1))","v":0},1,{"$f":"(IF(G344=\"PRINCIPAL (16)\",1,IF(G344=\"V P (14)\",1,IF(G344=\"H M (14)\",1,IF(G344=\"AGRICULTURE INST (13)\",1,IF(G344=\"TEACHER-1ST (13)\",1,IF(G344=\"PTI  I  (13)\",1,IF(G344=\"AGRICULTURE TEACH (13)\",1,IF(G344=\"INSTRUCTOR (13)\",1,0))))))))+(IF(G344=\"JR TEACHER (13)\",1,IF(G344=\"LIBRARIAN I (13)\",1,0))))*(IF(O344=\"FIX PAY\",1,0))","v":0},0,{"$f":"IF(O344=\"FIX PAY\",1,0)","v":0},1,{"$f":"IF((ROUND((SUMPRODUCT(MID(0&E344,LARGE(INDEX(ISNUMBER(--MID(E344,ROW($1:$25),1))* ROW($1:$25),0),ROW($1:$25))+1,1)*10^ROW($1:$25)/10)),-8)/100000000)>=2004,1,0)","v":0},1,{"$f":"IF(O344=\"SANVIDA\",1,0)","v":0},{"$f":"IF(BZ344>0,I344,0)","v":0},{"$f":"IF(AND(E344=\"\"),\"\",IF(AND(E344<=0),\"\",IF((ROUND((SUMPRODUCT(MID(0&E344,LARGE(INDEX(ISNUMBER(--MID(E344,ROW($1:$70),1))* ROW($1:$70),0),ROW($1:$70))+1,1)*10^ROW($1:$70)/10)),-8)/100000000)<2004,1,0)))","v":""}]
[null,2202,4,{"$f":"IF(ISNA(VLOOKUP(C345,Master!CD$61:CP$108,3,FALSE)),\"\",VLOOKUP(C345,Master!CD$61:CP$108,3,FALSE))","v":""},{"$f":"IF(ISNA(VLOOKUP(C345,Master!CD$61:CP$108,7,FALSE)),\"\",VLOOKUP(C345,Master!CD$61:CP$108,7,FALSE))","v":""},{"$f":"IF(ISNA(VLOOKUP(C345,Master!CD$61:CP$108,8,FALSE)),\"\",VLOOKUP(C345,Master!CD$61:CP$108,8,FALSE))","v":""},{"$f":"IF(ISNA(VLOOKUP(C345,Master!CD$61:CP$108,4,FALSE)),\"\",VLOOKUP(C345,Master!CD$61:CP$108,4,FALSE))","v":""},{"$f":"IF(ISNA(VLOOKUP(C345,Master!CD$61:CP$108,5,FALSE)),\"\",VLOOKUP(C345,Master!CD$61:CP$108,5,FALSE))","v":""},{"$f":"IF(ISNA(VLOOKUP(C345,Master!CD$61:CP$108,6,FALSE)),\"\",VLOOKUP(C345,Master!CD$61:CP$108,6,FALSE))","v":""},{"$f":"IF(AND(H345=\"\"),\"\",I345*12)","v":""},{"$f":"IF(AND(H345=\"\"),\"\",\"Not Applicable\")","v":""},{"$f":"IF(AND(H345=\"\"),\"\",\"0\")","v":""},{"$f":"IF(AND(H345=\"\"),\"\",J345+L345)","v":""},{"$f":"IF(AND(H345=\"\"),\"\",M345)","v":""},{"$f":"IF(AND(H345=\"\"),\"\",\"SANVIDA\")","v":""},{"$nulls":17},"","","","","","",0,0,"",0,{"$f":"IF(AND(I345=\"\"),0,ROUND((I345+ROUND(I345*$AL$10,0))/2,0)*(IF(O345=\"FIX PAY\",0,1)))","v":0},{"$f":"IF(G345=\"CLERK GRADE I\",1,IF(G345=\"CLERK GRADE II\",1,0))*75*12*BV345*(IF(I345<=0,0,1))*BW345","v":0},null,0,"","",null,null,"","","","","","",null,7,"",0,0,{"$f":"IF(G345=\"CLERK GRADE I\",1,IF(G345=\"CLERK GRADE II\",1,0))*75*12*BV345*(IF(I345<=0,0,1))*BW345","v":0},{"$f":"IF(AND(G345=\"\"),0,(IF(G345=\"ASSISTANT\",12,IF(G345=\"CLERK GRADE I\",12,IF(G345=\"CLERK GRADE II\",12,IF(G345=\"FIELDMAN & FIELD REC\",12,IF(G345=\"LAB BOY\",12,IF(G345=\"JAMADAR\",12,IF(G345=\"PEON\",12,10))))))))*(MINA(ROUND(AG345*6%,0),600))*(IF($V345=\"yes\",1,)))","v":0},{"$f":"IF(AND(I345=\"\"),\"\",(IF(G345=\"LAB BOY\",150,IF(G345=\"JAMADAR\",150,IF(G345=\"PEON\",150,0))))*12*BV345*(IF(I345<=0,0,1)))","v":""},"","",null,null,"",{"$f":"(IF(G345=\"PRINCIPAL\",1,IF(G345=\"H M\",1,IF(G345=\"AGRICULTURE INST\",1,IF(G345=\"TEACHER-1ST\",1,IF(G345=\"PTI  I  (13)\",1,IF(G345=\"AGRICULTURE TEACH\",1,IF(G345=\"INSTRUCTOR\",1,0))))))))+(IF(G345=\"JR TEACHER\",1,IF(G345=\"LIBRARIAN I\",1,0)))*(IF(O345=\"FIX PAY\",0,1))","v":0},1,{"$f":"(IF(G345=\"PRINCIPAL (16)\",1,IF(G345=\"V P (14)\",1,IF(G345=\"H M (14)\",1,IF(G345=\"AGRICULTURE INST (13)\",1,IF(G345=\"TEACHER-1ST (13)\",1,IF(G345=\"PTI  I  (13)\",1,IF(G345=\"AGRICULTURE TEACH (13)\",1,IF(G345=\"INSTRUCTOR (13)\",1,0))))))))+(IF(G345=\"JR TEACHER (13)\",1,IF(G345=\"LIBRARIAN I (13)\",1,0))))*(IF(O345=\"FIX PAY\",1,0))","v":0},0,{"$f":"IF(O345=\"FIX PAY\",1,0)","v":0},1,{"$f":"IF((ROUND((SUMPRODUCT(MID(0&E345,LARGE(INDEX(ISNUMBER(--MID(E345,ROW($1:$25),1))* ROW($1:$25),0),ROW($1:$25))+1,1)*10^ROW($1:$25)/10)),-8)/100000000)>=2004,1,0)","v":0},1,{"$f":"IF(O345=\"SANVIDA\",1,0)","v":0},{"$f":"IF(BZ345>0,I345,0)","v":0},{"$f":"IF(AND(E345=\"\"),\"\",IF(AND(E345<=0),\"\",IF((ROUND((SUMPRODUCT(MID(0&E345,LARGE(INDEX(ISNUMBER(--MID(E345,ROW($1:$70),1))* ROW($1:$70),0),ROW($1:$70))+1,1)*10^ROW($1:$70)/10)),-8)/100000000)<2004,1,0)))","v":""}]
[{"$nulls":6},"TOTAL GAZETTED SANVIDA",null,null,{"$f":"SUM(J342:J345)","v":0},null,{"$f":"SUM(L342:L345)","v":0},{"$f":"SUM(M342:M345)","v":0},{"$f":"SUM(N342:N345)","v":0},{"$nulls":31},0]
[null,null,"NON GAZETTED SANVIDA",{"$nulls":42},0]
[null,2202,1,{"$f":"IF(ISNA(VLOOKUP(C348,Master!CQ$61:DC$286,3,FALSE)),\"\",VLOOKUP(C348,Master!CQ$61:DC$286,3,FALSE))","v":""},{"$f":"IF(ISNA(VLOOKUP(C348,Master!CQ$61:DC$286,7,FALSE)),\"\",VLOOKUP(C348,Master!CQ$61:DC$286,7,FALSE))","v":""},{"$f":"IF(ISNA(VLOOKUP(C348,Master!CQ$61:DC$286,8,FALSE)),\"\",VLOOKUP(C348,Master!CQ$61:DC$286,8,FALSE))","v":""},{"$f":"IF(ISNA(VLOOKUP(C348,Master!CQ$61:DC$286,4,FALSE)),\"\",VLOOKUP(C348,Master!CQ$61:DC$286,4,FALSE))","v":""},{"$f":"IF(ISNA(VLOOKUP(C348,Master!CQ$61:DC$286,5,FALSE)),\"\",VLOOKUP(C348,Master!CQ$61:DC$286,5,FALSE))","v":""},{"$f":"IF(ISNA(VLOOKUP(C348,Master!CQ$61:DC$286,6,FALSE)),\"\",VLOOKUP(C348,Master!CQ$61:DC$286,6,FALSE))","v":""},{"$f":"IF(AND(H348=\"\"),\"\",I348*12)","v":""},{"$f":"IF(AND(H348=\"\"),\"\",\"Not Applicable\")","v":""},{"$f":"IF(AND(H348=\"\"),\"\",\"0\")","v":""},{"$f":"IF(AND(H348=\"\"),\"\",J348+L348)","v":""},{"$f":"IF(AND(H348=\"\"),\"\",M348)","v":""},{"$f":"IF(AND(H348=\"\"),\"\",\"SANVIDA\")","v":""},{"$nulls":6},{"$f":"IF(ISNA(VLOOKUP(C348,Master!CQ$61:DD$286,10,FALSE)),\"\",VLOOKUP(C348,Master!CQ$61:DD$286,10,FALSE))","v":""},null,null,{"$f":"IF(ISNA(VLOOKUP(C348,Master!CQ$61:DD$286,11,FALSE)),\"\",VLOOKUP(C348,Master!CQ$61:DD$286,11,FALSE))","v":""},{"$f":"IF(ISNA(VLOOKUP(C348,Master!CQ$61:DD$286,9,FALSE)),\"\",VLOOKUP(C348,Master!CQ$61:DD$286,9,FALSE))","v":""},{"$f":"IF(Z348=\"MALE\",1,0)*(IF(G348=\"JAMADAR\",1,0))*(IF(I348<=0,0,1))","v":0},{"$f":"IF(Z348=\"FEMALE\",1,0)*(IF(G348=\"JAMADAR\",1,0))*(IF(I348<=0,0,1))","v":0},{"$f":"IF(Z348=\"MALE\",1,0)*(IF(G348=\"LAB BOY\",1,0))*(IF(I348<=0,0,1))","v":0},{"$f":"IF(Z348=\"FEMALE\",1,0)*(IF(G348=\"LAB BOY\",1,0))*(IF(I348<=0,0,1))","v":0},{"$f":"IF(Z348=\"MALE\",1,0)*(IF(G348=\"PEON\",1,0))*(IF(I348<=0,0,1))","v":0},{"$f":"IF(Z348=\"FEMALE\",1,0)*(IF(G348=\"PEON\",1,0))*(IF(I348<=0,0,1))","v":0},{"$f":"IF(AND(I348=\"\"),\"\",I348-ROUNDUP(ROUND((I348*3%)-(I348*3%)*2.9%,-2),0))","v":""},{"$f":"IF(AND(I348=\"\"),\"\",$M348*$BR348)","v":""},{"$f":"IF(AND(I348=\"\"),\"\",$M348*$BS348)","v":""},{"$f":"IF(AND(I348=\"\"),\"\",$M348*$BT348)","v":""},{"$f":"IF(AND(I348=\"\"),\"\",$M348*$BU348)","v":""},{"$f":"IF(AND(I348=\"\"),\"\",ROUND((AH348+AI348)*$AL$10,0)*BV348)","v":""},0,0,"",0,{"$f":"IF(AND(I348=\"\"),0,ROUND((I348+ROUND(I348*$AL$10,0))/2,0)*(IF(O348=\"FIX PAY\",0,IF(O348=\"SANVIDA\",0,1))))","v":0},{"$f":"IF(G348=\"CLERK GRADE I\",1,IF(G348=\"CLERK GRADE II\",1,0))*75*12*BV348*(IF(I348<=0,0,1))*BW348","v":0},null,0,"","",null,null,"","","","","","",null,10,"",0,0,{"$f":"IF(G348=\"CLERK GRADE I\",1,IF(G348=\"CLERK GRADE II\",1,0))*75*12*BV348*(IF(I348<=0,0,1))*BW348","v":0},{"$f":"IF(AND(G348=\"\"),0,(IF(G348=\"ASSISTANT\",12,IF(G348=\"CLERK GRADE I\",12,IF(G348=\"CLERK GRADE II\",12,IF(G348=\"FIELDMAN & FIELD REC\",12,IF(G348=\"LAB BOY\",12,IF(G348=\"JAMADAR\",12,IF(G348=\"PEON\",12,10))))))))*(MINA(ROUND(AG348*6%,0),600))*(IF($V348=\"yes\",1,)))","v":0},{"$f":"IF(AND(I348=\"\"),\"\",(IF(G348=\"LAB BOY\",150,IF(G348=\"JAMADAR\",150,IF(G348=\"PEON\",150,0))))*12*BV348*(IF(I348<=0,0,1)))","v":""},"","",null,null,"",{"$f":"(IF(G348=\"PRINCIPAL\",1,IF(G348=\"H M\",1,IF(G348=\"AGRICULTURE INST\",1,IF(G348=\"TEACHER-1ST\",1,IF(G348=\"PTI  I  (13)\",1,IF(G348=\"AGRICULTURE TEACH\",1,IF(G348=\"INSTRUCTOR\",1,0))))))))+(IF(G348=\"JR TEACHER\",1,IF(G348=\"LIBRARIAN I\",1,0)))*(IF(O348=\"FIX PAY\",0,1))","v":0},1,{"$f":"(IF(G348=\"PRINCIPAL (16)\",1,IF(G348=\"V P (14)\",1,IF(G348=\"H M (14)\",1,IF(G348=\"AGRICULTURE INST (13)\",1,IF(G348=\"TEACHER-1ST (13)\",1,IF(G348=\"PTI  I  (13)\",1,IF(G348=\"AGRICULTURE TEACH (13)\",1,IF(G348=\"INSTRUCTOR (13)\",1,0))))))))+(IF(G348=\"JR TEACHER (13)\",1,IF(G348=\"LIBRARIAN I (13)\",1,0))))*(IF(O348=\"FIX PAY\",1,0))","v":0},0,{"$f":"IF(O348=\"FIX PAY\",1,0)","v":0},1,{"$f":"IF((ROUND((SUMPRODUCT(MID(0&E348,LARGE(INDEX(ISNUMBER(--MID(E348,ROW($1:$25),1))* ROW($1:$25),0),ROW($1:$25))+1,1)*10^ROW($1:$25)/10)),-8)/100000000)>=2004,1,0)","v":0},1,{"$f":"IF(O348=\"SANVIDA\",1,0)","v":0},{"$f":"IF(BZ348>0,I348,0)","v":0},{"$f":"IF(AND(E348=\"\"),\"\",IF(AND(E348<=0),\"\",IF((ROUND((SUMPRODUCT(MID(0&E348,LARGE(INDEX(ISNUMBER(--MID(E348,ROW($1:$70),1))* ROW($1:$70),0),ROW($1:$70))+1,1)*10^ROW($1:$70)/10)),-8)/100000000)<2004,1,0)))","v":""}]
[null,2202,2,{"$f":"IF(ISNA(VLOOKUP(C349,Master!CQ$61:DC$286,3,FALSE)),\"\",VLOOKUP(C349,Master!CQ$61:DC$286,3,FALSE))","v":""},{"$f":"IF(ISNA(VLOOKUP(C349,Master!CQ$61:DC$286,7,FALSE)),\"\",VLOOKUP(C349,Master!CQ$61:DC$286,7,FALSE))","v":""},{"$f":"IF(ISNA(VLOOKUP(C349,Master!CQ$61:DC$286,8,FALSE)),\"\",VLOOKUP(C349,Master!CQ$61:DC$286,8,FALSE))","v":""},{"$f":"IF(ISNA(VLOOKUP(C349,Master!CQ$61:DC$286,4,FALSE)),\"\",VLOOKUP(C349,Master!CQ$61:DC$286,4,FALSE))","v":""},{"$f":"IF(ISNA(VLOOKUP(C349,Master!CQ$61:DC$286,5,FALSE)),\"\",VLOOKUP(C349,Master!CQ$61:DC$286,5,FALSE))","v":""},{"$f":"IF(ISNA(VLOOKUP(C349,Master!CQ$61:DC$286,6,FALSE)),\"\",VLOOKUP(C349,Master!CQ$61:DC$286,6,FALSE))","v":""},{"$f":"IF(AND(H349=\"\"),\"\",I349*12)","v":""},{"$f":"IF(AND(H349=\"\"),\"\",\"Not Applicable\")","v":""},{"$f":"IF(AND(H349=\"\"),\"\",\"0\")","v":""},{"$f":"IF(AND(H349=\"\"),\"\",J349+L349)","v":""},{"$f":"IF(AND(H349=\"\"),\"\",M349)","v":""},{"$f":"IF(AND(H349=\"\"),\"\",\"SANVIDA\")","v":""},{"$nulls":6},{"$f":"IF(ISNA(VLOOKUP(C349,Master!CQ$61:DD$286,10,FALSE)),\"\",VLOOKUP(C349,Master!CQ$61:DD$286,10,FALSE))","v":""},null,null,{"$f":"IF(ISNA(VLOOKUP(C349,Master!CQ$61:DD$286,11,FALSE)),\"\",VLOOKUP(C349,Master!CQ$61:DD$286,11,FALSE))","v":""},{"$f":"IF(ISNA(VLOOKUP(C349,Master!CQ$61:DD$286,9,FALSE)),\"\",VLOOKUP(C349,Master!CQ$61:DD$286,9,FALSE))","v":""},{"$f":"IF(Z349=\"MALE\",1,0)*(IF(G349=\"JAMADAR\",1,0))*(IF(I349<=0,0,1))","v":0},{"$f":"IF(Z349=\"FEMALE\",1,0)*(IF(G349=\"JAMADAR\",1,0))*(IF(I349<=0,0,1))","v":0},{"$f":"IF(Z349=\"MALE\",1,0)*(IF(G349=\"LAB BOY\",1,0))*(IF(I349<=0,0,1))","v":0},{"$f":"IF(Z349=\"FEMALE\",1,0)*(IF(G349=\"LAB BOY\",1,0))*(IF(I349<=0,0,1))","v":0},{"$f":"IF(Z349=\"MALE\",1,0)*(IF(G349=\"PEON\",1,0))*(IF(I349<=0,0,1))","v":0},{"$f":"IF(Z349=\"FEMALE\",1,0)*(IF(G349=\"PEON\",1,0))*(IF(I349<=0,0,1))","v":0},{"$f":"IF(AND(I349=\"\"),\"\",I349-ROUNDUP(ROUND((I349*3%)-(I349*3%)*2.9%,-2),0))","v":""},"","","","","",0,0,"",0,{"$f":"IF(AND(I349=\"\"),0,ROUND((I349+ROUND(I349*$AL$10,0))/2,0)*(IF(O349=\"FIX PAY\",0,IF(O349=\"SANVIDA\",0,1))))","v":0},0,null,0,"","",null,null,"","","","","","",null,11,"",0,0,0,0,"","","",null,null,"",0,1,0,0,0,1,0,1,0,0,""]
[null,2202,3,{"$f":"IF(ISNA(VLOOKUP(C350,Master!CQ$61:DC$286,3,FALSE)),\"\",VLOOKUP(C350,Master!CQ$61:DC$286,3,FALSE))","v":""},{"$f":"IF(ISNA(VLOOKUP(C350,Master!CQ$61:DC$286,7,FALSE)),\"\",VLOOKUP(C350,Master!CQ$61:DC$286,7,FALSE))","v":""},{"$f":"IF(ISNA(VLOOKUP(C350,Master!CQ$61:DC$286,8,FALSE)),\"\",VLOOKUP(C350,Master!CQ$61:DC$286,8,FALSE))","v":""},{"$f":"IF(ISNA(VLOOKUP(C350,Master!CQ$61:DC$286,4,FALSE)),\"\",VLOOKUP(C350,Master!CQ$61:DC$286,4,FALSE))","v":""},{"$f":"IF(ISNA(VLOOKUP(C350,Master!CQ$61:DC$286,5,FALSE)),\"\",VLOOKUP(C350,Master!CQ$61:DC$286,5,FALSE))","v":""},{"$f":"IF(ISNA(VLOOKUP(C350,Master!CQ$61:DC$286,6,FALSE)),\"\",VLOOKUP(C350,Master!CQ$61:DC$286,6,FALSE))","v":""},"","","","","","",{"$nulls":6},{"$f":"IF(ISNA(VLOOKUP(C350,Master!CQ$61:DD$286,10,FALSE)),\"\",VLOOKUP(C350,Master!CQ$61:DD$286,10,FALSE))","v":""},null,null,{"$f":"IF(ISNA(VLOOKUP(C350,Master!CQ$61:DD$286,11,FALSE)),\"\",VLOOKUP(C350,Master!CQ$61:DD$286,11,FALSE))","v":""},{"$f":"IF(ISNA(VLOOKUP(C350,Master!CQ$61:DD$286,9,FALSE)),\"\",VLOOKUP(C350,Master!CQ$61:DD$286,9,FALSE))","v":""},0,0,0,0,0,0,"","","","","","",0,0,"",0,0,0,null,0,"","",null,null,"","","","","","",null,12,"",0,0,0,0,"","","",null,null,"",0,1,0,0,0,1,0,1,0,0,""]
[null,2202,4,{"$f":"IF(ISNA(VLOOKUP(C351,Master!CQ$61:DC$286,3,FALSE)),\"\",VLOOKUP(C351,Master!CQ$61:DC$286,3,FALSE))","v":""},{"$f":"IF(ISNA(VLOOKUP(C351,Master!CQ$61:DC$286,7,FALSE)),\"\",VLOOKUP(C351,Master!CQ$61:DC$286,7,FALSE))","v":""},{"$f":"IF(ISNA(VLOOKUP(C351,Master!CQ$61:DC$286,8,FALSE)),\"\",VLOOKUP(C351,Master!CQ$61:DC$286,8,FALSE))","v":""},{"$f":"IF(ISNA(VLOOKUP(C351,Master!CQ$61:DC$286,4,FALSE)),\"\",VLOOKUP(C351,Master!CQ$61:DC$286,4,FALSE))","v":""},{"$f":"IF(ISNA(VLOOKUP(C351,Master!CQ$61:DC$286,5,FALSE)),\"\",VLOOKUP(C351,Master!CQ$61:DC$286,5,FALSE))","v":""},{"$f":"IF(ISNA(VLOOKUP(C351,Master!CQ$61:DC$286,6,FALSE)),\"\",VLOOKUP(C351,Master!CQ$61:DC$286,6,FALSE))","v":""},"","","","","","",{"$nulls":6},{"$f":"IF(ISNA(VLOOKUP(C351,Master!CQ$61:DD$286,10,FALSE)),\"\",VLOOKUP(C351,Master!CQ$61:DD$286,10,FALSE))","v":""},null,null,{"$f":"IF(ISNA(VLOOKUP(C351,Master!CQ$61:DD$286,11,FALSE)),\"\",VLOOKUP(C351,Master!CQ$61:DD$286,11,FALSE))","v":""},{"$f":"IF(ISNA(VLOOKUP(C351,Master!CQ$61:DD$286,9,FALSE)),\"\",VLOOKUP(C351,Master!CQ$61:DD$286,9,FALSE))","v":""},0,0,0,0,0,0,"","","","","","",0,0,"",0,0,0,null,0,"","",null,null,"","","","","","",null,13,"",0,0,0,0,"","","",null,null,"",0,1,0,0,0,1,0,1,0,0,""]
[null,2202,5,{"$f":"IF(ISNA(VLOOKUP(C352,Master!CQ$61:DC$286,3,FALSE)),\"\",VLOOKUP(C352,Master!CQ$61:DC$286,3,FALSE))","v":""},{"$f":"IF(ISNA(VLOOKUP(C352,Master!CQ$61:DC$286,7,FALSE)),\"\",VLOOKUP(C352,Master!CQ$61:DC$286,7,FALSE))","v":""},{"$f":"IF(ISNA(VLOOKUP(C352,Master!CQ$61:DC$286,8,FALSE)),\"\",VLOOKUP(C352,Master!CQ$61:DC$286,8,FALSE))","v":""},{"$f":"IF(ISNA(VLOOKUP(C352,Master!CQ$61:DC$286,4,FALSE)),\"\",VLOOKUP(C352,Master!CQ$61:DC$286,4,FALSE))","v":""},{"$f":"IF(ISNA(VLOOKUP(C352,Master!CQ$61:DC$286,5,FALSE)),\"\",VLOOKUP(C352,Master!CQ$61:DC$286,5,FALSE))","v":""},{"$f":"IF(ISNA(VLOOKUP(C352,Master!CQ$61:DC$286,6,FALSE)),\"\",VLOOKUP(C352,Master!CQ$61:DC$286,6,FALSE))","v":""},"","","","","","",{"$nulls":6},{"$f":"IF(ISNA(VLOOKUP(C352,Master!CQ$61:DD$286,10,FALSE)),\"\",VLOOKUP(C352,Master!CQ$61:DD$286,10,FALSE))","v":""},null,null,{"$f":"IF(ISNA(VLOOKUP(C352,Master!CQ$61:DD$286,11,FALSE)),\"\",VLOOKUP(C352,Master!CQ$61:DD$286,11,FALSE))","v":""},{"$f":"IF(ISNA(VLOOKUP(C352,Master!CQ$61:DD$286,9,FALSE)),\"\",VLOOKUP(C352,Master!CQ$61:DD$286,9,FALSE))","v":""},0,0,0,0,0,0,{"$f":"IF(AND(I352=\"\"),\"\",(IF(O352=\"FIX PAY\",0,(I352-ROUNDUP(ROUND((I352*3%)-(I352*3%)*3%,0),-1)))))","v":""},{"$f":"IF(AND(I352=\"\"),\"\",$M352*$BR352)","v":""},{"$f":"IF(AND(I352=\"\"),\"\",$M352*$BS352)","v":""},{"$f":"IF(AND(I352=\"\"),\"\",$M352*$BT352)","v":""},{"$f":"IF(AND(I352=\"\"),\"\",$M352*$BU352)","v":""},{"$f":"IF(AND(I352=\"\"),\"\",ROUND((AH352+AI352)*$AL$10,0)*BV352)","v":""},0,0,{"$f":"IF(AND(I352=\"\"),\"\",ROUND((AH352+AI352)*$AO$10,0)*BV352)","v":""},{"$f":"$G$222*BS352*BV352*(IF(I352<=0,0,1))*(IF(H352<=4800,1,0))","v":0},0,0,null,0,{"$f":"IF(AND(I352=\"\"),\"\",SUM(AL352:AT352)+AH352+AI352)","v":""},{"$f":"IF(AND(I352=\"\"),\"\",AU352)","v":""},null,null,{"$f":"IF(AND(I352=\"\"),\"\",AV352+AW352+AX352)","v":""},{"$f":"IF(AND(I352=\"\"),\"\",N352*BR352)","v":""},{"$f":"IF(AND(I352=\"\"),\"\",N352*BS352)","v":""},{"$f":"IF(AND(I352=\"\"),\"\",N352*BT352)","v":""},{"$f":"IF(AND(I352=\"\"),\"\",N352*BU352)","v":""},{"$f":"IF(AND(I352=\"\"),\"\",ROUND((AZ352+BA352)*$BD$10,0)*BV352)","v":""},null,10,{"$f":"IF(AND(I352=\"\"),\"\",ROUND((AZ352+BA352)*$BG$10,0)*BV352)","v":""},{"$f":"3387*2*BS352*BV352*(IF(I352<=0,0,1))*(IF(H352<=4800,1,0))","v":0},{"$f":"IF(AND(I352=\"\"),0,ROUND((AG352+ROUND(AG352*$AL$10,0))/2,0)*(IF(O352=\"FIX PAY\",0,1)))","v":0},0,0,"",{"$f":"IF(AND(I352=\"\"),\"\",SUM(BD352:BL352)+AZ352+BA352)","v":""},{"$f":"IF(AND(I352=\"\"),\"\",BM352)","v":""},null,null,{"$f":"IF(AND(I352=\"\"),\"\",BN352+BO352+BP352)","v":""},0,{"$f":"IF(BR352<=0,1,0)*(IF(O352=\"FIX PAY\",0,1))","v":1},0,{"$f":"IF(BT352<=0,1,0)*(IF(O352=\"FIX PAY\",1,0))","v":0},0,{"$f":"IF(Y352=\"No\",0,1)","v":1},0,{"$f":"IF(I352<=0,0,1)","v":1},0,0,""]
[null,2202,6,{"$f":"IF(ISNA(VLOOKUP(C353,Master!CQ$61:DC$286,3,FALSE)),\"\",VLOOKUP(C353,Master!CQ$61:DC$286,3,FALSE))","v":""},{"$f":"IF(ISNA(VLOOKUP(C353,Master!CQ$61:DC$286,7,FALSE)),\"\",VLOOKUP(C353,Master!CQ$61:DC$286,7,FALSE))","v":""},{"$f":"IF(ISNA(VLOOKUP(C353,Master!CQ$61:DC$286,8,FALSE)),\"\",VLOOKUP(C353,Master!CQ$61:DC$286,8,FALSE))","v":""},{"$f":"IF(ISNA(VLOOKUP(C353,Master!CQ$61:DC$286,4,FALSE)),\"\",VLOOKUP(C353,Master!CQ$61:DC$286,4,FALSE))","v":""},{"$f":"IF(ISNA(VLOOKUP(C353,Master!CQ$61:DC$286,5,FALSE)),\"\",VLOOKUP(C353,Master!CQ$61:DC$286,5,FALSE))","v":""},{"$f":"IF(ISNA(VLOOKUP(C353,Master!CQ$61:DC$286,6,FALSE)),\"\",VLOOKUP(C353,Master!CQ$61:DC$286,6,FALSE))","v":""},"","","","","","",{"$nulls":6},{"$f":"IF(ISNA(VLOOKUP(C353,Master!CQ$61:DD$286,10,FALSE)),\"\",VLOOKUP(C353,Master!CQ$61:DD$286,10,FALSE))","v":""},null,null,{"$f":"IF(ISNA(VLOOKUP(C353,Master!CQ$61:DD$286,11,FALSE)),\"\",VLOOKUP(C353,Master!CQ$61:DD$286,11,FALSE))","v":""},{"$f":"IF(ISNA(VLOOKUP(C353,Master!CQ$61:DD$286,9,FALSE)),\"\",VLOOKUP(C353,Master!CQ$61:DD$286,9,FALSE))","v":""},0,0,0,0,0,0,{"$f":"IF(AND(I353=\"\"),\"\",(IF(O353=\"FIX PAY\",0,(I353-ROUNDUP(ROUND((I353*3%)-(I353*3%)*3%,0),-1)))))","v":""},{"$f":"IF(AND(I353=\"\"),\"\",$M353*$BR353)","v":""},{"$f":"IF(AND(I353=\"\"),\"\",$M353*$BS353)","v":""},{"$f":"IF(AND(I353=\"\"),\"\",$M353*$BT353)","v":""},{"$f":"IF(AND(I353=\"\"),\"\",$M353*$BU353)","v":""},{"$f":"IF(AND(I353=\"\"),\"\",ROUND((AH353+AI353)*$AL$10,0)*BV353)","v":""},0,0,{"$f":"IF(AND(I353=\"\"),\"\",ROUND((AH353+AI353)*$AO$10,0)*BV353)","v":""},{"$f":"$G$222*BS353*BV353*(IF(I353<=0,0,1))*(IF(H353<=4800,1,0))","v":0},0,0,null,0,{"$f":"IF(AND(I353=\"\"),\"\",SUM(AL353:AT353)+AH353+AI353)","v":""},{"$f":"IF(AND(I353=\"\"),\"\",AU353)","v":""},null,null,{"$f":"IF(AND(I353=\"\"),\"\",AV353+AW353+AX353)","v":""},{"$f":"IF(AND(I353=\"\"),\"\",N353*BR353)","v":""},{"$f":"IF(AND(I353=\"\"),\"\",N353*BS353)","v":""},{"$f":"IF(AND(I353=\"\"),\"\",N353*BT353)","v":""},{"$f":"IF(AND(I353=\"\"),\"\",N353*BU353)","v":""},{"$f":"IF(AND(I353=\"\"),\"\",ROUND((AZ353+BA353)*$BD$10,0)*BV353)","v":""},null,11,{"$f":"IF(AND(I353=\"\"),\"\",ROUND((AZ353+BA353)*$BG$10,0)*BV353)","v":""},{"$f":"3387*2*BS353*BV353*(IF(I353<=0,0,1))*(IF(H353<=4800,1,0))","v":0},{"$f":"IF(AND(I353=\"\"),0,ROUND((AG353+ROUND(AG353*$AL$10,0))/2,0)*(IF(O353=\"FIX PAY\",0,1)))","v":0},0,0,"",{"$f":"IF(AND(I353=\"\"),\"\",SUM(BD353:BL353)+AZ353+BA353)","v":""},{"$f":"IF(AND(I353=\"\"),\"\",BM353)","v":""},null,null,{"$f":"IF(AND(I353=\"\"),\"\",BN353+BO353+BP353)","v":""},0,{"$f":"IF(BR353<=0,1,0)*(IF(O353=\"FIX PAY\",0,1))","v":1},0,{"$f":"IF(BT353<=0,1,0)*(IF(O353=\"FIX PAY\",1,0))","v":0},0,{"$f":"IF(Y353=\"No\",0,1)","v":1},0,{"$f":"IF(I353<=0,0,1)","v":1},0,0,""]
[null,2202,7,{"$f":"IF(ISNA(VLOOKUP(C354,Master!CQ$61:DC$286,3,FALSE)),\"\",VLOOKUP(C354,Master!CQ$61:DC$286,3,FALSE))","v":""},{"$f":"IF(ISNA(VLOOKUP(C354,Master!CQ$61:DC$286,7,FALSE)),\"\",VLOOKUP(C354,Master!CQ$61:DC$286,7,FALSE))","v":""},{"$f":"IF(ISNA(VLOOKUP(C354,Master!CQ$61:DC$286,8,FALSE)),\"\",VLOOKUP(C354,Master!CQ$61:DC$286,8,FALSE))","v":""},{"$f":"IF(ISNA(VLOOKUP(C354,Master!CQ$61:DC$286,4,FALSE)),\"\",VLOOKUP(C354,Master!CQ$61:DC$286,4,FALSE))","v":""},{"$f":"IF(ISNA(VLOOKUP(C354,Master!CQ$61:DC$286,5,FALSE)),\"\",VLOOKUP(C354,Master!CQ$61:DC$286,5,FALSE))","v":""},{"$f":"IF(ISNA(VLOOKUP(C354,Master!CQ$61:DC$286,6,FALSE)),\"\",VLOOKUP(C354,Master!CQ$61:DC$286,6,FALSE))","v":""},"","","","","","",{"$nulls":6},{"$f":"IF(ISNA(VLOOKUP(C354,Master!CQ$61:DD$286,10,FALSE)),\"\",VLOOKUP(C354,Master!CQ$61:DD$286,10,FALSE))","v":""},null,null,{"$f":"IF(ISNA(VLOOKUP(C354,Master!CQ$61:DD$286,11,FALSE)),\"\",VLOOKUP(C354,Master!CQ$61:DD$286,11,FALSE))","v":""},{"$f":"IF(ISNA(VLOOKUP(C354,Master!CQ$61:DD$286,9,FALSE)),\"\",VLOOKUP(C354,Master!CQ$61:DD$286,9,FALSE))","v":""},0,0,0,0,0,0,{"$f":"IF(AND(I354=\"\"),\"\",(IF(O354=\"FIX PAY\",0,(I354-ROUNDUP(ROUND((I354*3%)-(I354*3%)*3%,0),-1)))))","v":""},{"$f":"IF(AND(I354=\"\"),\"\",$M354*$BR354)","v":""},{"$f":"IF(AND(I354=\"\"),\"\",$M354*$BS354)","v":""},{"$f":"IF(AND(I354=\"\"),\"\",$M354*$BT354)","v":""},{"$f":"IF(AND(I354=\"\"),\"\",$M354*$BU354)","v":""},{"$f":"IF(AND(I354=\"\"),\"\",ROUND((AH354+AI354)*$AL$10,0)*BV354)","v":""},0,0,{"$f":"IF(AND(I354=\"\"),\"\",ROUND((AH354+AI354)*$AO$10,0)*BV354)","v":""},{"$f":"$G$222*BS354*BV354*(IF(I354<=0,0,1))*(IF(H354<=4800,1,0))","v":0},0,0,null,0,{"$f":"IF(AND(I354=\"\"),\"\",SUM(AL354:AT354)+AH354+AI354)","v":""},{"$f":"IF(AND(I354=\"\"),\"\",AU354)","v":""},null,null,{"$f":"IF(AND(I354=\"\"),\"\",AV354+AW354+AX354)","v":""},{"$f":"IF(AND(I354=\"\"),\"\",N354*BR354)","v":""},{"$f":"IF(AND(I354=\"\"),\"\",N354*BS354)","v":""},{"$f":"IF(AND(I354=\"\"),\"\",N354*BT354)","v":""},{"$f":"IF(AND(I354=\"\"),\"\",N354*BU354)","v":""},{"$f":"IF(AND(I354=\"\"),\"\",ROUND((AZ354+BA354)*$BD$10,0)*BV354)","v":""},null,12,{"$f":"IF(AND(I354=\"\"),\"\",ROUND((AZ354+BA354)*$BG$10,0)*BV354)","v":""},{"$f":"3387*2*BS354*BV354*(IF(I354<=0,0,1))*(IF(H354<=4800,1,0))","v":0},{"$f":"IF(AND(I354=\"\"),0,ROUND((AG354+ROUND(AG354*$AL$10,0))/2,0)*(IF(O354=\"FIX PAY\",0,1)))","v":0},0,0,"",{"$f":"IF(AND(I354=\"\"),\"\",SUM(BD354:BL354)+AZ354+BA354)","v":""},{"$f":"IF(AND(I354=\"\"),\"\",BM354)","v":""},null,null,{"$f":"IF(AND(I354=\"\"),\"\",BN354+BO354+BP354)","v":""},0,{"$f":"IF(BR354<=0,1,0)*(IF(O354=\"FIX PAY\",0,1))","v":1},0,{"$f":"IF(BT354<=0,1,0)*(IF(O354=\"FIX PAY\",1,0))","v":0},0,{"$f":"IF(Y354=\"No\",0,1)","v":1},0,{"$f":"IF(I354<=0,0,1)","v":1},0,0,""]
[null,2202,8,{"$f":"IF(ISNA(VLOOKUP(C355,Master!CQ$61:DC$286,3,FALSE)),\"\",VLOOKUP(C355,Master!CQ$61:DC$286,3,FALSE))","v":""},{"$f":"IF(ISNA(VLOOKUP(C355,Master!CQ$61:DC$286,7,FALSE)),\"\",VLOOKUP(C355,Master!CQ$61:DC$286,7,FALSE))","v":""},{"$f":"IF(ISNA(VLOOKUP(C355,Master!CQ$61:DC$286,8,FALSE)),\"\",VLOOKUP(C355,Master!CQ$61:DC$286,8,FALSE))","v":""},{"$f":"IF(ISNA(VLOOKUP(C355,Master!CQ$61:DC$286,4,FALSE)),\"\",VLOOKUP(C355,Master!CQ$61:DC$286,4,FALSE))","v":""},{"$f":"IF(ISNA(VLOOKUP(C355,Master!CQ$61:DC$286,5,FALSE)),\"\",VLOOKUP(C355,Master!CQ$61:DC$286,5,FALSE))","v":""},{"$f":"IF(ISNA(VLOOKUP(C355,Master!CQ$61:DC$286,6,FALSE)),\"\",VLOOKUP(C355,Master!CQ$61:DC$286,6,FALSE))","v":""},"","","","","","",{"$nulls":6},{"$f":"IF(ISNA(VLOOKUP(C355,Master!CQ$61:DD$286,10,FALSE)),\"\",VLOOKUP(C355,Master!CQ$61:DD$286,10,FALSE))","v":""},null,null,{"$f":"IF(ISNA(VLOOKUP(C355,Master!CQ$61:DD$286,11,FALSE)),\"\",VLOOKUP(C355,Master!CQ$61:DD$286,11,FALSE))","v":""},{"$f":"IF(ISNA(VLOOKUP(C355,Master!CQ$61:DD$286,9,FALSE)),\"\",VLOOKUP(C355,Master!CQ$61:DD$286,9,FALSE))","v":""},0,0,0,0,0,0,{"$f":"IF(AND(I355=\"\"),\"\",(IF(O355=\"FIX PAY\",0,(I355-ROUNDUP(ROUND((I355*3%)-(I355*3%)*3%,0),-1)))))","v":""},{"$f":"IF(AND(I355=\"\"),\"\",$M355*$BR355)","v":""},{"$f":"IF(AND(I355=\"\"),\"\",$M355*$BS355)","v":""},{"$f":"IF(AND(I355=\"\"),\"\",$M355*$BT355)","v":""},{"$f":"IF(AND(I355=\"\"),\"\",$M355*$BU355)","v":""},{"$f":"IF(AND(I355=\"\"),\"\",ROUND((AH355+AI355)*$AL$10,0)*BV355)","v":""},0,0,{"$f":"IF(AND(I355=\"\"),\"\",ROUND((AH355+AI355)*$AO$10,0)*BV355)","v":""},{"$f":"$G$222*BS355*BV355*(IF(I355<=0,0,1))*(IF(H355<=4800,1,0))","v":0},0,0,null,0,{"$f":"IF(AND(I355=\"\"),\"\",SUM(AL355:AT355)+AH355+AI355)","v":""},{"$f":"IF(AND(I355=\"\"),\"\",AU355)","v":""},null,null,{"$f":"IF(AND(I355=\"\"),\"\",AV355+AW355+AX355)","v":""},{"$f":"IF(AND(I355=\"\"),\"\",N355*BR355)","v":""},{"$f":"IF(AND(I355=\"\"),\"\",N355*BS355)","v":""},{"$f":"IF(AND(I355=\"\"),\"\",N355*BT355)","v":""},{"$f":"IF(AND(I355=\"\"),\"\",N355*BU355)","v":""},{"$f":"IF(AND(I355=\"\"),\"\",ROUND((AZ355+BA355)*$BD$10,0)*BV355)","v":""},null,13,{"$f":"IF(AND(I355=\"\"),\"\",ROUND((AZ355+BA355)*$BG$10,0)*BV355)","v":""},{"$f":"3387*2*BS355*BV355*(IF(I355<=0,0,1))*(IF(H355<=4800,1,0))","v":0},{"$f":"IF(AND(I355=\"\"),0,ROUND((AG355+ROUND(AG355*$AL$10,0))/2,0)*(IF(O355=\"FIX PAY\",0,1)))","v":0},0,0,"",{"$f":"IF(AND(I355=\"\"),\"\",SUM(BD355:BL355)+AZ355+BA355)","v":""},{"$f":"IF(AND(I355=\"\"),\"\",BM355)","v":""},null,null,{"$f":"IF(AND(I355=\"\"),\"\",BN355+BO355+BP355)","v":""},0,{"$f":"IF(BR355<=0,1,0)*(IF(O355=\"FIX PAY\",0,1))","v":1},0,{"$f":"IF(BT355<=0,1,0)*(IF(O355=\"FIX PAY\",1,0))","v":0},0,{"$f":"IF(Y355=\"No\",0,1)","v":1},0,{"$f":"IF(I355<=0,0,1)","v":1},0,0,""]
[null,2202,9,{"$f":"IF(ISNA(VLOOKUP(C356,Master!CQ$61:DC$286,3,FALSE)),\"\",VLOOKUP(C356,Master!CQ$61:DC$286,3,FALSE))","v":""},{"$f":"IF(ISNA(VLOOKUP(C356,Master!CQ$61:DC$286,7,FALSE)),\"\",VLOOKUP(C356,Master!CQ$61:DC$286,7,FALSE))","v":""},{"$f":"IF(ISNA(VLOOKUP(C356,Master!CQ$61:DC$286,8,FALSE)),\"\",VLOOKUP(C356,Master!CQ$61:DC$286,8,FALSE))","v":""},{"$f":"IF(ISNA(VLOOKUP(C356,Master!CQ$61:DC$286,4,FALSE)),\"\",VLOOKUP(C356,Master!CQ$61:DC$286,4,FALSE))","v":""},{"$f":"IF(ISNA(VLOOKUP(C356,Master!CQ$61:DC$286,5,FALSE)),\"\",VLOOKUP(C356,Master!CQ$61:DC$286,5,FALSE))","v":""},{"$f":"IF(ISNA(VLOOKUP(C356,Master!CQ$61:DC$286,6,FALSE)),\"\",VLOOKUP(C356,Master!CQ$61:DC$286,6,FALSE))","v":""},"","","","","","",{"$nulls":6},{"$f":"IF(ISNA(VLOOKUP(C356,Master!CQ$61:DD$286,10,FALSE)),\"\",VLOOKUP(C356,Master!CQ$61:DD$286,10,FALSE))","v":""},null,null,{"$f":"IF(ISNA(VLOOKUP(C356,Master!CQ$61:DD$286,11,FALSE)),\"\",VLOOKUP(C356,Master!CQ$61:DD$286,11,FALSE))","v":""},{"$f":"IF(ISNA(VLOOKUP(C356,Master!CQ$61:DD$286,9,FALSE)),\"\",VLOOKUP(C356,Master!CQ$61:DD$286,9,FALSE))","v":""},0,0,0,0,0,0,{"$f":"IF(AND(I356=\"\"),\"\",(IF(O356=\"FIX PAY\",0,(I356-ROUNDUP(ROUND((I356*3%)-(I356*3%)*3%,0),-1)))))","v":""},{"$f":"IF(AND(I356=\"\"),\"\",$M356*$BR356)","v":""},{"$f":"IF(AND(I356=\"\"),\"\",$M356*$BS356)","v":""},{"$f":"IF(AND(I356=\"\"),\"\",$M356*$BT356)","v":""},{"$f":"IF(AND(I356=\"\"),\"\",$M356*$BU356)","v":""},{"$f":"IF(AND(I356=\"\"),\"\",ROUND((AH356+AI356)*$AL$10,0)*BV356)","v":""},0,0,{"$f":"IF(AND(I356=\"\"),\"\",ROUND((AH356+AI356)*$AO$10,0)*BV356)","v":""},{"$f":"$G$222*BS356*BV356*(IF(I356<=0,0,1))*(IF(H356<=4800,1,0))","v":0},0,0,null,0,{"$f":"IF(AND(I356=\"\"),\"\",SUM(AL356:AT356)+AH356+AI356)","v":""},{"$f":"IF(AND(I356=\"\"),\"\",AU356)","v":""},null,null,{"$f":"IF(AND(I356=\"\"),\"\",AV356+AW356+AX356)","v":""},{"$f":"IF(AND(I356=\"\"),\"\",N356*BR356)","v":""},{"$f":"IF(AND(I356=\"\"),\"\",N356*BS356)","v":""},{"$f":"IF(AND(I356=\"\"),\"\",N356*BT356)","v":""},{"$f":"IF(AND(I356=\"\"),\"\",N356*BU356)","v":""},{"$f":"IF(AND(I356=\"\"),\"\",ROUND((AZ356+BA356)*$BD$10,0)*BV356)","v":""},null,10,{"$f":"IF(AND(I356=\"\"),\"\",ROUND((AZ356+BA356)*$BG$10,0)*BV356)","v":""},{"$f":"3387*2*BS356*BV356*(IF(I356<=0,0,1))*(IF(H356<=4800,1,0))","v":0},{"$f":"IF(AND(I356=\"\"),0,ROUND((AG356+ROUND(AG356*$AL$10,0))/2,0)*(IF(O356=\"FIX PAY\",0,1)))","v":0},0,0,"",{"$f":"IF(AND(I356=\"\"),\"\",SUM(BD356:BL356)+AZ356+BA356)","v":""},{"$f":"IF(AND(I356=\"\"),\"\",BM356)","v":""},null,null,{"$f":"IF(AND(I356=\"\"),\"\",BN356+BO356+BP356)","v":""},0,{"$f":"IF(BR356<=0,1,0)*(IF(O356=\"FIX PAY\",0,1))","v":1},0,{"$f":"IF(BT356<=0,1,0)*(IF(O356=\"FIX PAY\",1,0))","v":0},{"$f":"IF(O356=\"FIX PAY\",1,0)","v":0},{"$f":"IF(Y356=\"No\",0,1)","v":1},0,{"$f":"IF(I356<=0,0,1)","v":1},{"$f":"IF(O356=\"SANVIDA\",1,0)","v":0},{"$f":"IF(BZ356>0,I356,0)","v":0},""]
[null,2202,10,{"$f":"IF(ISNA(VLOOKUP(C357,Master!CQ$61:DC$286,3,FALSE)),\"\",VLOOKUP(C357,Master!CQ$61:DC$286,3,FALSE))","v":""},{"$f":"IF(ISNA(VLOOKUP(C357,Master!CQ$61:DC$286,7,FALSE)),\"\",VLOOKUP(C357,Master!CQ$61:DC$286,7,FALSE))","v":""},{"$f":"IF(ISNA(VLOOKUP(C357,Master!CQ$61:DC$286,8,FALSE)),\"\",VLOOKUP(C357,Master!CQ$61:DC$286,8,FALSE))","v":""},{"$f":"IF(ISNA(VLOOKUP(C357,Master!CQ$61:DC$286,4,FALSE)),\"\",VLOOKUP(C357,Master!CQ$61:DC$286,4,FALSE))","v":""},{"$f":"IF(ISNA(VLOOKUP(C357,Master!CQ$61:DC$286,5,FALSE)),\"\",VLOOKUP(C357,Master!CQ$61:DC$286,5,FALSE))","v":""},{"$f":"IF(ISNA(VLOOKUP(C357,Master!CQ$61:DC$286,6,FALSE)),\"\",VLOOKUP(C357,Master!CQ$61:DC$286,6,FALSE))","v":""},"","","","","","",{"$nulls":6},{"$f":"IF(ISNA(VLOOKUP(C357,Master!CQ$61:DD$286,10,FALSE)),\"\",VLOOKUP(C357,Master!CQ$61:DD$286,10,FALSE))","v":""},null,null,{"$f":"IF(ISNA(VLOOKUP(C357,Master!CQ$61:DD$286,11,FALSE)),\"\",VLOOKUP(C357,Master!CQ$61:DD$286,11,FALSE))","v":""},{"$f":"IF(ISNA(VLOOKUP(C357,Master!CQ$61:DD$286,9,FALSE)),\"\",VLOOKUP(C357,Master!CQ$61:DD$286,9,FALSE))","v":""},0,0,0,0,0,0,"","","","","","",0,0,"",0,0,0,null,0,"","",null,null,"","","","","","",null,11,"",0,0,0,0,"","","",null,null,"",0,1,0,0,0,1,0,1,0,0,""]
[null,2202,11,{"$f":"IF(ISNA(VLOOKUP(C358,Master!CQ$61:DC$286,3,FALSE)),\"\",VLOOKUP(C358,Master!CQ$61:DC$286,3,FALSE))","v":""},{"$f":"IF(ISNA(VLOOKUP(C358,Master!CQ$61:DC$286,7,FALSE)),\"\",VLOOKUP(C358,Master!CQ$61:DC$286,7,FALSE))","v":""},{"$f":"IF(ISNA(VLOOKUP(C358,Master!CQ$61:DC$286,8,FALSE)),\"\",VLOOKUP(C358,Master!CQ$61:DC$286,8,FALSE))","v":""},{"$f":"IF(ISNA(VLOOKUP(C358,Master!CQ$61:DC$286,4,FALSE)),\"\",VLOOKUP(C358,Master!CQ$61:DC$286,4,FALSE))","v":""},{"$f":"IF(ISNA(VLOOKUP(C358,Master!CQ$61:DC$286,5,FALSE)),\"\",VLOOKUP(C358,Master!CQ$61:DC$286,5,FALSE))","v":""},{"$f":"IF(ISNA(VLOOKUP(C358,Master!CQ$61:DC$286,6,FALSE)),\"\",VLOOKUP(C358,Master!CQ$61:DC$286,6,FALSE))","v":""},"","","","","","",{"$nulls":6},{"$f":"IF(ISNA(VLOOKUP(C358,Master!CQ$61:DD$286,10,FALSE)),\"\",VLOOKUP(C358,Master!CQ$61:DD$286,10,FALSE))","v":""},null,null,{"$f":"IF(ISNA(VLOOKUP(C358,Master!CQ$61:DD$286,11,FALSE)),\"\",VLOOKUP(C358,Master!CQ$61:DD$286,11,FALSE))","v":""},{"$f":"IF(ISNA(VLOOKUP(C358,Master!CQ$61:DD$286,9,FALSE)),\"\",VLOOKUP(C358,Master!CQ$61:DD$286,9,FALSE))","v":""},0,0,0,0,0,0,"","","","","","",0,0,"",0,0,0,null,0,"","",null,null,"","","","","","",null,12,"",0,0,0,0,"","","",null,null,"",0,1,0,0,0,1,0,1,0,0,""]
[null,2202,12,{"$f":"IF(ISNA(VLOOKUP(C359,Master!CQ$61:DC$286,3,FALSE)),\"\",VLOOKUP(C359,Master!CQ$61:DC$286,3,FALSE))","v":""},{"$f":"IF(ISNA(VLOOKUP(C359,Master!CQ$61:DC$286,7,FALSE)),\"\",VLOOKUP(C359,Master!CQ$61:DC$286,7,FALSE))","v":""},{"$f":"IF(ISNA(VLOOKUP(C359,Master!CQ$61:DC$286,8,FALSE)),\"\",VLOOKUP(C359,Master!CQ$61:DC$286,8,FALSE))","v":""},{"$f":"IF(ISNA(VLOOKUP(C359,Master!CQ$61:DC$286,4,FALSE)),\"\",VLOOKUP(C359,Master!CQ$61:DC$286,4,FALSE))","v":""},{"$f":"IF(ISNA(VLOOKUP(C359,Master!CQ$61:DC$286,5,FALSE)),\"\",VLOOKUP(C359,Master!CQ$61:DC$286,5,FALSE))","v":""},{"$f":"IF(ISNA(VLOOKUP(C359,Master!CQ$61:DC$286,6,FALSE)),\"\",VLOOKUP(C359,Master!CQ$61:DC$286,6,FALSE))","v":""},"","","","","","",{"$nulls":6},{"$f":"IF(ISNA(VLOOKUP(C359,Master!CQ$61:DD$286,10,FALSE)),\"\",VLOOKUP(C359,Master!CQ$61:DD$286,10,FALSE))","v":""},null,null,{"$f":"IF(ISNA(VLOOKUP(C359,Master!CQ$61:DD$286,11,FALSE)),\"\",VLOOKUP(C359,Master!CQ$61:DD$286,11,FALSE))","v":""},{"$f":"IF(ISNA(VLOOKUP(C359,Master!CQ$61:DD$286,9,FALSE)),\"\",VLOOKUP(C359,Master!CQ$61:DD$286,9,FALSE))","v":""},0,0,0,0,0,0,"","","","","","",0,0,"",0,0,0,null,0,"","",null,null,"","","","","","",null,13,"",0,0,0,0,"","","",null,null,"",0,1,0,0,0,1,0,1,0,0,""]
[null,2202,13,{"$f":"IF(ISNA(VLOOKUP(C360,Master!CQ$61:DC$286,3,FALSE)),\"\",VLOOKUP(C360,Master!CQ$61:DC$286,3,FALSE))","v":""},{"$f":"IF(ISNA(VLOOKUP(C360,Master!CQ$61:DC$286,7,FALSE)),\"\",VLOOKUP(C360,Master!CQ$61:DC$286,7,FALSE))","v":""},{"$f":"IF(ISNA(VLOOKUP(C360,Master!CQ$61:DC$286,8,FALSE)),\"\",VLOOKUP(C360,Master!CQ$61:DC$286,8,FALSE))","v":""},{"$f":"IF(ISNA(VLOOKUP(C360,Master!CQ$61:DC$286,4,FALSE)),\"\",VLOOKUP(C360,Master!CQ$61:DC$286,4,FALSE))","v":""},{"$f":"IF(ISNA(VLOOKUP(C360,Master!CQ$61:DC$286,5,FALSE)),\"\",VLOOKUP(C360,Master!CQ$61:DC$286,5,FALSE))","v":""},{"$f":"IF(ISNA(VLOOKUP(C360,Master!CQ$61:DC$286,6,FALSE)),\"\",VLOOKUP(C360,Master!CQ$61:DC$286,6,FALSE))","v":""},{"$f":"IF(AND(H360=\"\"),\"\",I360*12)","v":""},{"$f":"IF(AND(H360=\"\"),\"\",\"Not Applicable\")","v":""},{"$f":"IF(AND(H360=\"\"),\"\",\"0\")","v":""},{"$f":"IF(AND(H360=\"\"),\"\",J360+L360)","v":""},{"$f":"IF(AND(H360=\"\"),\"\",M360)","v":""},{"$f":"IF(AND(H360=\"\"),\"\",\"SANVIDA\")","v":""},{"$nulls":6},{"$f":"IF(ISNA(VLOOKUP(C360,Master!CQ$61:DD$286,10,FALSE)),\"\",VLOOKUP(C360,Master!CQ$61:DD$286,10,FALSE))","v":""},null,null,{"$f":"IF(ISNA(VLOOKUP(C360,Master!CQ$61:DD$286,11,FALSE)),\"\",VLOOKUP(C360,Master!CQ$61:DD$286,11,FALSE))","v":""},{"$f":"IF(ISNA(VLOOKUP(C360,Master!CQ$61:DD$286,9,FALSE)),\"\",VLOOKUP(C360,Master!CQ$61:DD$286,9,FALSE))","v":""},0,0,0,0,0,0,"","","","","","",0,0,"",0,0,0,null,0,"","",null,null,"","","","","","",null,10,"",0,0,0,0,"","","",null,null,"",0,1,0,0,0,1,0,1,0,0,""]
[null,2202,14,{"$f":"IF(ISNA(VLOOKUP(C361,Master!CQ$61:DC$286,3,FALSE)),\"\",VLOOKUP(C361,Master!CQ$61:DC$286,3,FALSE))","v":""},{"$f":"IF(ISNA(VLOOKUP(C361,Master!CQ$61:DC$286,7,FALSE)),\"\",VLOOKUP(C361,Master!CQ$61:DC$286,7,FALSE))","v":""},{"$f":"IF(ISNA(VLOOKUP(C361,Master!CQ$61:DC$286,8,FALSE)),\"\",VLOOKUP(C361,Master!CQ$61:DC$286,8,FALSE))","v":""},{"$f":"IF(ISNA(VLOOKUP(C361,Master!CQ$61:DC$286,4,FALSE)),\"\",VLOOKUP(C361,Master!CQ$61:DC$286,4,FALSE))","v":""},{"$f":"IF(ISNA(VLOOKUP(C361,Master!CQ$61:DC$286,5,FALSE)),\"\",VLOOKUP(C361,Master!CQ$61:DC$286,5,FALSE))","v":""},{"$f":"IF(ISNA(VLOOKUP(C361,Master!CQ$61:DC$286,6,FALSE)),\"\",VLOOKUP(C361,Master!CQ$61:DC$286,6,FALSE))","v":""},{"$f":"IF(AND(H361=\"\"),\"\",I361*12)","v":""},{"$f":"IF(AND(H361=\"\"),\"\",\"Not Applicable\")","v":""},{"$f":"IF(AND(H361=\"\"),\"\",\"0\")","v":""},{"$f":"IF(AND(H361=\"\"),\"\",J361+L361)","v":""},{"$f":"IF(AND(H361=\"\"),\"\",M361)","v":""},{"$f":"IF(AND(H361=\"\"),\"\",\"SANVIDA\")","v":""},{"$nulls":6},{"$f":"IF(ISNA(VLOOKUP(C361,Master!CQ$61:DD$286,10,FALSE)),\"\",VLOOKUP(C361,Master!CQ$61:DD$286,10,FALSE))","v":""},null,null,{"$f":"IF(ISNA(VLOOKUP(C361,Master!CQ$61:DD$286,11,FALSE)),\"\",VLOOKUP(C361,Master!CQ$61:DD$286,11,FALSE))","v":""},{"$f":"IF(ISNA(VLOOKUP(C361,Master!CQ$61:DD$286,9,FALSE)),\"\",VLOOKUP(C361,Master!CQ$61:DD$286,9,FALSE))","v":""},0,0,0,0,0,0,"","","","","","",0,0,"",0,0,0,null,0,"","",null,null,"","","","","","",null,11,"",0,0,0,0,"","","",null,null,"",0,1,0,0,0,1,0,1,0,0,""]
[null,2202,15,{"$f":"IF(ISNA(VLOOKUP(C362,Master!CQ$61:DC$286,3,FALSE)),\"\",VLOOKUP(C362,Master!CQ$61:DC$286,3,FALSE))","v":""},{"$f":"IF(ISNA(VLOOKUP(C362,Master!CQ$61:DC$286,7,FALSE)),\"\",VLOOKUP(C362,Master!CQ$61:DC$286,7,FALSE))","v":""},{"$f":"IF(ISNA(VLOOKUP(C362,Master!CQ$61:DC$286,8,FALSE)),\"\",VLOOKUP(C362,Master!CQ$61:DC$286,8,FALSE))","v":""},{"$f":"IF(ISNA(VLOOKUP(C362,Master!CQ$61:DC$286,4,FALSE)),\"\",VLOOKUP(C362,Master!CQ$61:DC$286,4,FALSE))","v":""},{"$f":"IF(ISNA(VLOOKUP(C362,Master!CQ$61:DC$286,5,FALSE)),\"\",VLOOKUP(C362,Master!CQ$61:DC$286,5,FALSE))","v":""},{"$f":"IF(ISNA(VLOOKUP(C362,Master!CQ$61:DC$286,6,FALSE)),\"\",VLOOKUP(C362,Master!CQ$61:DC$286,6,FALSE))","v":""},"","","","","","",{"$nulls":6},{"$f":"IF(ISNA(VLOOKUP(C362,Master!CQ$61:DD$286,10,FALSE)),\"\",VLOOKUP(C362,Master!CQ$61:DD$286,10,FALSE))","v":""},null,null,{"$f":"IF(ISNA(VLOOKUP(C362,Master!CQ$61:DD$286,11,FALSE)),\"\",VLOOKUP(C362,Master!CQ$61:DD$286,11,FALSE))","v":""},{"$f":"IF(ISNA(VLOOKUP(C362,Master!CQ$61:DD$286,9,FALSE)),\"\",VLOOKUP(C362,Master!CQ$61:DD$286,9,FALSE))","v":""},0,0,0,0,0,0,"","","","","","",0,0,"",0,0,0,null,0,"","",null,null,"","","","","","",null,12,"",0,0,0,0,"","","",null,null,"",0,1,0,0,0,1,0,1,0,0,""]
[null,2202,16,{"$f":"IF(ISNA(VLOOKUP(C363,Master!CQ$61:DC$286,3,FALSE)),\"\",VLOOKUP(C363,Master!CQ$61:DC$286,3,FALSE))","v":""},{"$f":"IF(ISNA(VLOOKUP(C363,Master!CQ$61:DC$286,7,FALSE)),\"\",VLOOKUP(C363,Master!CQ$61:DC$286,7,FALSE))","v":""},{"$f":"IF(ISNA(VLOOKUP(C363,Master!CQ$61:DC$286,8,FALSE)),\"\",VLOOKUP(C363,Master!CQ$61:DC$286,8,FALSE))","v":""},{"$f":"IF(ISNA(VLOOKUP(C363,Master!CQ$61:DC$286,4,FALSE)),\"\",VLOOKUP(C363,Master!CQ$61:DC$286,4,FALSE))","v":""},{"$f":"IF(ISNA(VLOOKUP(C363,Master!CQ$61:DC$286,5,FALSE)),\"\",VLOOKUP(C363,Master!CQ$61:DC$286,5,FALSE))","v":""},{"$f":"IF(ISNA(VLOOKUP(C363,Master!CQ$61:DC$286,6,FALSE)),\"\",VLOOKUP(C363,Master!CQ$61:DC$286,6,FALSE))","v":""},{"$f":"IF(AND(H363=\"\"),\"\",I363*12)","v":""},{"$f":"IF(AND(H363=\"\"),\"\",\"Not Applicable\")","v":""},{"$f":"IF(AND(H363=\"\"),\"\",\"0\")","v":""},{"$f":"IF(AND(H363=\"\"),\"\",J363+L363)","v":""},{"$f":"IF(AND(H363=\"\"),\"\",M363)","v":""},{"$f":"IF(AND(H363=\"\"),\"\",\"SANVIDA\")","v":""},{"$nulls":17},"","","","","","",0,0,"",0,{"$f":"IF(AND(I363=\"\"),0,ROUND((I363+ROUND(I363*$AL$10,0))/2,0)*(IF(O363=\"FIX PAY\",0,1)))","v":0},0,null,0,"","",null,null,"","","","","","",null,13,"",0,0,0,0,"","","",null,null,"",0,1,0,0,0,1,0,1,0,0,""]
[null,2202,17,{"$f":"IF(ISNA(VLOOKUP(C364,Master!CQ$61:DC$286,3,FALSE)),\"\",VLOOKUP(C364,Master!CQ$61:DC$286,3,FALSE))","v":""},{"$f":"IF(ISNA(VLOOKUP(C364,Master!CQ$61:DC$286,7,FALSE)),\"\",VLOOKUP(C364,Master!CQ$61:DC$286,7,FALSE))","v":""},{"$f":"IF(ISNA(VLOOKUP(C364,Master!CQ$61:DC$286,8,FALSE)),\"\",VLOOKUP(C364,Master!CQ$61:DC$286,8,FALSE))","v":""},{"$f":"IF(ISNA(VLOOKUP(C364,Master!CQ$61:DC$286,4,FALSE)),\"\",VLOOKUP(C364,Master!CQ$61:DC$286,4,FALSE))","v":""},{"$f":"IF(ISNA(VLOOKUP(C364,Master!CQ$61:DC$286,5,FALSE)),\"\",VLOOKUP(C364,Master!CQ$61:DC$286,5,FALSE))","v":""},{"$f":"IF(ISNA(VLOOKUP(C364,Master!CQ$61:DC$286,6,FALSE)),\"\",VLOOKUP(C364,Master!CQ$61:DC$286,6,FALSE))","v":""},"","","","","","",{"$nulls":17},"","","","","","",0,0,"",0,{"$f":"IF(AND(I364=\"\"),0,ROUND((I364+ROUND(I364*$AL$10,0))/2,0)*(IF(O364=\"FIX PAY\",0,1)))","v":0},0,null,0,"","",null,null,"","","","","","",null,10,"",0,0,0,0,"","","",null,null,"",0,1,0,0,0,1,0,1,0,0,""]
[null,2202,18,{"$f":"IF(ISNA(VLOOKUP(C365,Master!CQ$61:DC$286,3,FALSE)),\"\",VLOOKUP(C365,Master!CQ$61:DC$286,3,FALSE))","v":""},{"$f":"IF(ISNA(VLOOKUP(C365,Master!CQ$61:DC$286,7,FALSE)),\"\",VLOOKUP(C365,Master!CQ$61:DC$286,7,FALSE))","v":""},{"$f":"IF(ISNA(VLOOKUP(C365,Master!CQ$61:DC$286,8,FALSE)),\"\",VLOOKUP(C365,Master!CQ$61:DC$286,8,FALSE))","v":""},{"$f":"IF(ISNA(VLOOKUP(C365,Master!CQ$61:DC$286,4,FALSE)),\"\",VLOOKUP(C365,Master!CQ$61:DC$286,4,FALSE))","v":""},{"$f":"IF(ISNA(VLOOKUP(C365,Master!CQ$61:DC$286,5,FALSE)),\"\",VLOOKUP(C365,Master!CQ$61:DC$286,5,FALSE))","v":""},{"$f":"IF(ISNA(VLOOKUP(C365,Master!CQ$61:DC$286,6,FALSE)),\"\",VLOOKUP(C365,Master!CQ$61:DC$286,6,FALSE))","v":""},"","","","","","",{"$nulls":17},"","","","","","",0,0,"",0,{"$f":"IF(AND(I365=\"\"),0,ROUND((I365+ROUND(I365*$AL$10,0))/2,0)*(IF(O365=\"FIX PAY\",0,1)))","v":0},0,null,0,"","",null,null,"","","","","","",null,11,"",0,0,0,0,"","","",null,null,"",0,1,0,0,0,1,0,1,0,0,""]
[null,2202,19,{"$f":"IF(ISNA(VLOOKUP(C366,Master!CQ$61:DC$286,3,FALSE)),\"\",VLOOKUP(C366,Master!CQ$61:DC$286,3,FALSE))","v":""},{"$f":"IF(ISNA(VLOOKUP(C366,Master!CQ$61:DC$286,7,FALSE)),\"\",VLOOKUP(C366,Master!CQ$61:DC$286,7,FALSE))","v":""},{"$f":"IF(ISNA(VLOOKUP(C366,Master!CQ$61:DC$286,8,FALSE)),\"\",VLOOKUP(C366,Master!CQ$61:DC$286,8,FALSE))","v":""},{"$f":"IF(ISNA(VLOOKUP(C366,Master!CQ$61:DC$286,4,FALSE)),\"\",VLOOKUP(C366,Master!CQ$61:DC$286,4,FALSE))","v":""},{"$f":"IF(ISNA(VLOOKUP(C366,Master!CQ$61:DC$286,5,FALSE)),\"\",VLOOKUP(C366,Master!CQ$61:DC$286,5,FALSE))","v":""},{"$f":"IF(ISNA(VLOOKUP(C366,Master!CQ$61:DC$286,6,FALSE)),\"\",VLOOKUP(C366,Master!CQ$61:DC$286,6,FALSE))","v":""},"","","","","","",{"$nulls":17},"","","","","","",0,0,"",0,{"$f":"IF(AND(I366=\"\"),0,ROUND((I366+ROUND(I366*$AL$10,0))/2,0)*(IF(O366=\"FIX PAY\",0,1)))","v":0},0,null,0,"","",null,null,"","","","","","",null,12,"",0,0,0,0,"","","",null,null,"",0,1,0,0,0,1,0,1,0,0,""]
[null,2202,20,{"$f":"IF(ISNA(VLOOKUP(C367,Master!CQ$61:DC$286,3,FALSE)),\"\",VLOOKUP(C367,Master!CQ$61:DC$286,3,FALSE))","v":""},{"$f":"IF(ISNA(VLOOKUP(C367,Master!CQ$61:DC$286,7,FALSE)),\"\",VLOOKUP(C367,Master!CQ$61:DC$286,7,FALSE))","v":""},{"$f":"IF(ISNA(VLOOKUP(C367,Master!CQ$61:DC$286,8,FALSE)),\"\",VLOOKUP(C367,Master!CQ$61:DC$286,8,FALSE))","v":""},{"$f":"IF(ISNA(VLOOKUP(C367,Master!CQ$61:DC$286,4,FALSE)),\"\",VLOOKUP(C367,Master!CQ$61:DC$286,4,FALSE))","v":""},{"$f":"IF(ISNA(VLOOKUP(C367,Master!CQ$61:DC$286,5,FALSE)),\"\",VLOOKUP(C367,Master!CQ$61:DC$286,5,FALSE))","v":""},{"$f":"IF(ISNA(VLOOKUP(C367,Master!CQ$61:DC$286,6,FALSE)),\"\",VLOOKUP(C367,Master!CQ$61:DC$286,6,FALSE))","v":""},{"$f":"IF(AND(H367=\"\"),\"\",I367*12)","v":""},{"$f":"IF(AND(H367=\"\"),\"\",\"Not Applicable\")","v":""},{"$f":"IF(AND(H367=\"\"),\"\",\"0\")","v":""},{"$f":"IF(AND(H367=\"\"),\"\",J367+L367)","v":""},{"$f":"IF(AND(H367=\"\"),\"\",M367)","v":""},{"$f":"IF(AND(H367=\"\"),\"\",\"SANVIDA\")","v":""},{"$nulls":17},{"$f":"IF(AND(I367=\"\"),\"\",(IF(O367=\"FIX PAY\",0,(I367-ROUNDUP(ROUND((I367*3%)-(I367*3%)*3%,0),-1)))))","v":""},{"$f":"IF(AND(I367=\"\"),\"\",$M367*$BR367)","v":""},{"$f":"IF(AND(I367=\"\"),\"\",$M367*$BS367)","v":""},{"$f":"IF(AND(I367=\"\"),\"\",$M367*$BT367)","v":""},{"$f":"IF(AND(I367=\"\"),\"\",$M367*$BU367)","v":""},{"$f":"IF(AND(I367=\"\"),\"\",ROUND((AH367+AI367)*$AL$10,0)*BV367)","v":""},0,0,{"$f":"IF(AND(I367=\"\"),\"\",ROUND((AH367+AI367)*$AO$10,0)*BV367)","v":""},{"$f":"$G$222*BS367*BV367*(IF(I367<=0,0,1))*(IF(H367<=4800,1,0))","v":0},{"$f":"IF(AND(I367=\"\"),0,ROUND((I367+ROUND(I367*$AL$10,0))/2,0)*(IF(O367=\"FIX PAY\",0,1)))","v":0},{"$f":"IF(G367=\"CLERK GRADE I\",1,IF(G367=\"CLERK GRADE II\",1,0))*75*12*BV367*(IF(I367<=0,0,1))*BW367","v":0},null,{"$f":"(IF(G367=\"LAB BOY\",180,IF(G367=\"JAMADAR\",180,IF(G367=\"PEON\",180,0))))*12*BV367*(IF(I367<=0,0,1))","v":0},{"$f":"IF(AND(I367=\"\"),\"\",SUM(AL367:AT367)+AH367+AI367)","v":""},{"$f":"IF(AND(I367=\"\"),\"\",AU367)","v":""},null,null,{"$f":"IF(AND(I367=\"\"),\"\",AV367+AW367+AX367)","v":""},{"$f":"IF(AND(I367=\"\"),\"\",N367*BR367)","v":""},{"$f":"IF(AND(I367=\"\"),\"\",N367*BS367)","v":""},{"$f":"IF(AND(I367=\"\"),\"\",N367*BT367)","v":""},{"$f":"IF(AND(I367=\"\"),\"\",N367*BU367)","v":""},{"$f":"IF(AND(I367=\"\"),\"\",ROUND((AZ367+BA367)*$BD$10,0)*BV367)","v":""},null,12,{"$f":"IF(AND(I367=\"\"),\"\",ROUND((AZ367+BA367)*$BG$10,0)*BV367)","v":""},{"$f":"3387*2*BS367*BV367*(IF(I367<=0,0,1))*(IF(H367<=4800,1,0))","v":0},{"$f":"IF(AND(I367=\"\"),0,ROUND((AG367+ROUND(AG367*$AL$10,0))/2,0)*(IF(O367=\"FIX PAY\",0,1)))","v":0},{"$f":"IF(G367=\"CLERK GRADE I\",1,IF(G367=\"CLERK GRADE II\",1,0))*75*12*BV367*(IF(I367<=0,0,1))*BW367","v":0},{"$f":"IF(AND(G367=\"\"),0,(IF(G367=\"ASSISTANT\",12,IF(G367=\"CLERK GRADE I\",12,IF(G367=\"CLERK GRADE II\",12,IF(G367=\"FIELDMAN & FIELD REC\",12,IF(G367=\"LAB BOY\",12,IF(G367=\"JAMADAR\",12,IF(G367=\"PEON\",12,10))))))))*(MINA(ROUND(AG367*6%,0),600))*(IF($V367=\"yes\",1,)))","v":0},{"$f":"IF(AND(I367=\"\"),\"\",(IF(G367=\"LAB BOY\",150,IF(G367=\"JAMADAR\",150,IF(G367=\"PEON\",150,0))))*12*BV367*(IF(I367<=0,0,1)))","v":""},{"$f":"IF(AND(I367=\"\"),\"\",SUM(BD367:BL367)+AZ367+BA367)","v":""},{"$f":"IF(AND(I367=\"\"),\"\",BM367)","v":""},null,null,{"$f":"IF(AND(I367=\"\"),\"\",BN367+BO367+BP367)","v":""},{"$f":"(IF(G367=\"PRINCIPAL\",1,IF(G367=\"H M\",1,IF(G367=\"AGRICULTURE INST\",1,IF(G367=\"TEACHER-1ST\",1,IF(G367=\"PTI  I  (13)\",1,IF(G367=\"AGRICULTURE TEACH\",1,IF(G367=\"INSTRUCTOR\",1,0))))))))+(IF(G367=\"JR TEACHER\",1,IF(G367=\"LIBRARIAN I\",1,0)))*(IF(O367=\"FIX PAY\",0,1))","v":0},{"$f":"IF(BR367<=0,1,0)*(IF(O367=\"FIX PAY\",0,1))","v":1},{"$f":"(IF(G367=\"PRINCIPAL (16)\",1,IF(G367=\"V P (14)\",1,IF(G367=\"H M (14)\",1,IF(G367=\"AGRICULTURE INST (13)\",1,IF(G367=\"TEACHER-1ST (13)\",1,IF(G367=\"PTI  I  (13)\",1,IF(G367=\"AGRICULTURE TEACH (13)\",1,IF(G367=\"INSTRUCTOR (13)\",1,0))))))))+(IF(G367=\"JR TEACHER (13)\",1,IF(G367=\"LIBRARIAN I (13)\",1,0))))*(IF(O367=\"FIX PAY\",1,0))","v":0},{"$f":"IF(BT367<=0,1,0)*(IF(O367=\"FIX PAY\",1,0))","v":0},{"$f":"IF(O367=\"FIX PAY\",1,0)","v":0},{"$f":"IF(Y367=\"No\",0,1)","v":1},0,{"$f":"IF(I367<=0,0,1)","v":1},{"$f":"IF(O367=\"SANVIDA\",1,0)","v":0},{"$f":"IF(BZ367>0,I367,0)","v":0},""]
[{"$nulls":6},"TOTAL NON GAZETTED SANVIDA",null,null,{"$f":"SUM(J348:J366)","v":0},null,{"$f":"SUM(L348:L366)","v":0},{"$f":"SUM(M348:M366)","v":0},{"$f":"SUM(N348:N366)","v":0},{"$nulls":31},0]
[{"$nulls":6},"TOTAL GAZETTED + NON GAZETTED SANVIDA",null,null,{"$f":"J346+J368","v":0},null,{"$f":"L346+L368","v":0},{"$f":"M346+M368","v":0},{"$f":"N346+N368","v":0},{"$nulls":31},0]
[{"$nulls":6},"TOTAL REGULAR + FIXED + SANVIDA",null,null,{"$f":"J227+J340+J369","v":284400},null,{"$f":"L227+L340+L369","v":0},{"$f":"M227+M340+M369","v":405600},{"$f":"N227+N340+N369","v":348540},{"$nulls":5},0,{"$nulls":25},0]
[{"$nulls":6},"TRAVELLING ALLOWANCE",{"$nulls":5},{"$f":"'Formet 9'!M12","v":0},{"$f":"'Formet 9'!L12","v":0},{"$nulls":5},0,{"$nulls":25},0]
[{"$nulls":6},"MEDICAL ALLOWANCE",{"$nulls":5},{"$f":"'Formet 9'!M13","v":0},{"$f":"'Formet 9'!L13","v":0},{"$nulls":5},0,{"$nulls":25},0]
[{"$nulls":6},"TOTAL FORMAT 8",null,null,{"$f":"SUM(J370:J372)","v":284400},null,{"$f":"SUM(L370:L372)","v":0},{"$f":"SUM(M370:M372)","v":405600},{"$f":"SUM(N370:N372)","v":348540},{"$nulls":5},{"$f":"SUM(T12:T372)","v":0},{"$nulls":6},{"$f":"SUM(AA12:AA372)","v":0},0,0,0,0,0,{"$f":"SUM(AG12:AG247)","v":23000},0,0,0,405600,0,0,0,0,{"$f":"SUM(AP27:AP247)","v":0},{"$f":"SUM(AQ12:AQ247)","v":0},0,0,0,0,0,0,0,0,0,0,0,348540,0,0,0,0,{"$f":"SUM(BH27:BH247)","v":0},{"$f":"SUM(BI12:BI247)","v":0},0,0,0,0,0,0,0,0,0,217,0,1,1,218,0,218,0]
[]
[{"$nulls":12},{"$f":"Master!E2","v":"ç/kkukpk;Z]"}]
[{"$nulls":12},{"$f":"Master!H2","v":"jkmekfo jk;eyok³k"}]
{"$rows_empty":351}
[{"$nulls":4},"प्रधानाचार्य","PRINCIPAL",6600]
[{"$nulls":4},"प्रधानाध्यापक‌","HEAD MASTER",5400]
[{"$nulls":4},"कृषि शिक्षा प्रभारी","AGRICULTURE INST",4800]
[{"$nulls":4},"कृषि अध्यापक","AGRICULTURE TEACH",4800]
[{"$nulls":4},"प्रशिक्षक","INSTRUCTOR",4800]
[{"$nulls":4},"व्याख्याता (स्कूल शिक्षा)","TEACHER-I",4800]
[{"$nulls":4},"पुस्तकालय अध्यक्ष श्रेणी I","LIBRARIAN I",4800]
[{"$nulls":4},"शारीरिक शिक्षक श्रेणी I","PTI  I",4800]
[{"$nulls":4},"वरिष्ठ अध्यापक","TEACHER-II",4200]
[{"$nulls":4},"शारीरिक शिक्षक श्रेणी II","PTI II",4200]
[{"$nulls":4},"पुस्तकालय अध्यक्ष श्रेणी II","LIBRARIAN II",4200]
[{"$nulls":4},"पुस्तकालय अध्यक्ष श्रेणी III","LIBRARIAN III",3600]
[{"$nulls":4},"अध्यापक","TEACHER-III",3600]
[{"$nulls":4},"शारीरिक शिक्षक श्रेणी III","PTI  III",3600]
[{"$nulls":4},"सहायक कार्यालय अधीक्षक","ASSISTANT",3600]
[{"$nulls":4},"प्रयोगशाला सहायक","LAB ASST",2800]
[{"$nulls":4},"लिपिक ग्रेड I","CLERK GRADE I",2800]
[{"$nulls":4},"फील्ड मैन व फील्ड रिक़ॉर्डर","FIELDMAN & FIELD REC",2400]
[{"$nulls":4},"लिपिक ग्रेड II","CLERK GRADE II",2400]
[{"$nulls":4},"चतुर्थ श्रेणी कर्मचारी","PEON",1700]
[{"$nulls":4},"जमादार","JAMADAR",1700]
[{"$nulls":4},"प्रयोगशाला परिचारक","LAB BOY",1700]

{"sheet":"Formet 9","index":6,"n_rows":36,"n_cols":20,"rows_kept":36,"merged":[[0,15,0,19],[0,20,36,20],[1,0,1,19],[2,0,2,19],[3,0,3,19],[4,7,4,8],[4,10,4,13],[5,0,5,10],[5,11,5,14],[5,15,5,18],[6,0,6,19],[7,0,8,0],[7,1,8,1],[7,2,8,2],[7,3,7,5],[7,7,7,9],[7,10,8,10],[7,11,8,11],[7,12,7,14],[7,15,7,17],[7,18,8,18],[7,19,8,19],[32,1,32,2],[34,15,34,18],[35,15,37,18]]}
[{"$nulls":15},{"$f":"Summary!$C$1","v":{"v":12572,"d":"OFFICE ID : 12572"}}]
[{"$f":"'Cover Page'!A1","v":"ç/kkukpk;Z] jkmekfo jk;eyok³k ¼vkWfQl vkbZ-Mh- la[;k %&12572½"}]
["izi= 9"]
["         O;; ds foLr`r ctV vuqeku ¼e; laosru foLr`r 'kh\"kZ lfgr½"]
[{"$nulls":7},"fofÙk; o\"kZ",null,{"$f":"G9","v":"2025-26"},"¼ 1 vizSy ls 31 ekpZ rd ½ dk"]
[{"$f":"A2","v":"ç/kkukpk;Z] jkmekfo jk;eyok³k ¼vkWfQl vkbZ-Mh- la[;k %&12572½"},{"$nulls":10},"foHkkx dk uke %& f'k{kk foHkkx"]
[{"$f":"Summary!A5","v":"BUDGET HEAD : 2202 -सामान्य शिक्षा-02-109 -राजकीय माध्यमिक विद्यालय-27 -लडकों के विद्यालय-01 -लडकों के विद्यालयों का संचालन व्यय   (STATE FUND)"}]
["Ø-la-","foLr`r ys[kk 'kh\"kZd","nrer @izHk`r","okLrfod O;; vkadM+s ¼xr rhu o\"kksZa ds½",null,null,"vk; O;; vuqeku pkyw o\"kZ","okLrfod O;; vkadM+s ",null,null,"vxLr ls ekpZ rd dk lEHkkfor O;; ¼pkyw o\"kZ½","l'kksf/kr vuqeku ¼pkyw o\"kZ½ ¼09$11½","vk; O;;d vuqeku \n¼vkxkeh o\"kZ½",null,null,"o`f) ¼$½ ;k deh ¼&½",null,null,"uohu vkbZVe gk¡@ugha","fo'ks\"k fooj.k"]
[{"$nulls":3},{"$f":"CONCATENATE((MID(Master!E4,1,4)-3),\"-\",(MID(Master!E4,6,2)-3))","v":"2022-23"},{"$f":"CONCATENATE((MID(Master!E4,1,4)-2),\"-\",(MID(Master!E4,6,2)-2))","v":"2023-24"},{"$f":"CONCATENATE((MID(Master!E4,1,4)-1),\"-\",(MID(Master!E4,6,2)-1))","v":"2024-25"},{"$f":"CONCATENATE((MID(Master!E4,1,4)),\"-\",(MID(Master!E4,6,2)))","v":"2025-26"},"vxLr ls ekpZ rd ¼xr o\"kZ½","vizSy ls tqykbZ rd ¼pkyw o\"kZ½","dkWye 8 o 9 dk ;ksx",null,null,"dfeVsM ¼000000000½","uohu ¼000½","dqy ¼13$14½","dkWye 7 o 12 esa","dkWye 10 o 12 esa","dkWye 12 o 15 esa"]
[1,2,3,4,5,6,7,8,9,10,11,12,13,14,15,16,17,18,19,20]
[1,"laosru",null,{"$f":"Master!F11","v":0},{"$f":"Master!G11","v":0},{"$f":"Master!J11","v":0},{"$f":"Master!E11","v":0},{"$f":"Master!I11","v":0},{"$f":"Master!K11","v":0},{"$f":"H11+I11","v":0},{"$f":"'Formet 8'!N370-'Formet 9'!I11","v":348540},{"$f":"I11+K11","v":348540},{"$f":"'Formet 8'!M370","v":405600},0,{"$f":"SUM(M11:N11)","v":405600},{"$f":"L11-I11","v":348540},{"$f":"L11-J11","v":348540},{"$f":"L11-M11","v":-57060},"ugha"]
[2,";k=k O;;",null,{"$f":"Master!F12","v":0},{"$f":"Master!G12","v":0},{"$f":"Master!J12","v":0},{"$f":"Master!E12","v":0},{"$f":"Master!I12","v":0},{"$f":"Master!K12","v":0},{"$f":"H12+I12","v":0},{"$f":"G12-I12","v":0},{"$f":"I12+K12","v":0},0,0,{"$f":"SUM(M12:N12)","v":0},{"$f":"L12-I12","v":0},{"$f":"L12-J12","v":0},{"$f":"L12-M12","v":0},"ugha"]
[3,"fpfdRlk O;;",null,{"$f":"Master!F13","v":0},{"$f":"Master!G13","v":0},{"$f":"Master!J13","v":0},{"$f":"Master!E13","v":0},{"$f":"Master!I13","v":0},{"$f":"Master!K13","v":0},{"$f":"H13+I13","v":0},{"$f":"G13","v":0},{"$f":"I13+K13","v":0},{"$f":"G13","v":0},0,{"$f":"SUM(M13:N13)","v":0},{"$f":"L13-I13","v":0},{"$f":"L13-J13","v":0},{"$f":"L13-M13","v":0},"ugha"]
[null,"dqy ;ksx izi= 8",null,{"$f":"SUM(D11:D13)","v":0},{"$f":"SUM(E11:E13)","v":0},0,0,0,0,0,348540,348540,405600,0,405600,348540,348540,-57060]
[null,"dk;kZy; O;;",null,{"$f":"Master!F15","v":0},{"$f":"Master!G15","v":0},{"$f":"Master!J15","v":0},{"$f":"Master!E15","v":0},{"$f":"Master!I15","v":0},{"$f":"Master!K15","v":0},0,0,0,0,0,0,0,0,0]
[1,"Mkd fVdV",null,{"$f":"Master!F16","v":0},{"$f":"Master!G16","v":0},{"$f":"Master!J16","v":0},{"$f":"Master!E16","v":0},{"$f":"Master!I16","v":0},{"$f":"Master!K16","v":0},{"$f":"SUM(H16:I16)","v":0},0,{"$f":"I16+K16","v":0},{"$f":"L16","v":0},0,{"$f":"SUM(M16:N16)","v":0},{"$f":"L16-I16","v":0},{"$f":"L16-J16","v":0},{"$f":"L16-M16","v":0},"ugha"]
[2,"nwjHkk\"k",null,{"$f":"Master!F17","v":0},{"$f":"Master!G17","v":0},{"$f":"Master!J17","v":0},{"$f":"Master!E17","v":0},{"$f":"Master!I17","v":0},{"$f":"Master!K17","v":0},0,0,0,{"$f":"L17","v":0},0,0,0,0,0,"ugha"]
[3,"fctyh ikuh",null,{"$f":"Master!F18","v":0},{"$f":"Master!G18","v":0},{"$f":"Master!J18","v":0},{"$f":"Master!E18","v":0},{"$f":"Master!I18","v":0},{"$f":"Master!K18","v":0},0,0,0,0,0,0,0,0,0,"ugha"]
[4,"iqLrdsa o pkVZ~l",null,{"$f":"Master!F19","v":0},{"$f":"Master!G19","v":0},{"$f":"Master!J19","v":0},{"$f":"Master!E19","v":0},{"$f":"Master!I19","v":0},{"$f":"Master!K19","v":0},0,0,0,0,0,0,0,0,0,"ugha"]
[5,"QuhZpj",null,{"$f":"Master!F20","v":0},{"$f":"Master!G20","v":0},{"$f":"Master!J20","v":0},{"$f":"Master!E20","v":0},{"$f":"Master!I20","v":0},{"$f":"Master!K20","v":0},0,0,0,0,0,0,0,0,0,"ugha"]
[6,"vU; O;;",null,{"$f":"Master!F21","v":0},{"$f":"Master!G21","v":0},{"$f":"Master!J21","v":0},{"$f":"Master!E21","v":0},{"$f":"Master!I21","v":0},{"$f":"Master!K21","v":0},0,0,0,0,0,0,0,0,0,"ugha"]
[7,"LVs'kujh",null,{"$f":"Master!F22","v":0},{"$f":"Master!G22","v":0},{"$f":"Master!J22","v":0},{"$f":"Master!E22","v":0},{"$f":"Master!I22","v":0},{"$f":"Master!K22","v":0},0,0,0,0,0,0,0,0,0,"ugha"]
[8,"NikbZ",null,{"$f":"Master!F23","v":0},{"$f":"Master!G23","v":0},{"$f":"Master!J23","v":0},{"$f":"Master!E23","v":0},{"$f":"Master!I23","v":0},{"$f":"Master!K23","v":0},0,0,{"$f":"I23+K23","v":0},0,0,0,0,0,0,"ugha"]
[null,"dqy ;ksx dk;kZy; O;; ¼v½",null,{"$f":"SUM(D15:D23)","v":0},{"$f":"SUM(E15:E23)","v":0},0,0,0,0,0,0,0,0,0,0,0,0,0]
[{"$f":"Master!C25","v":1},{"$f":"Master!D25","v":"28&fofo/k"},null,{"$f":"Master!F25","v":0},{"$f":"Master!G25","v":0},{"$f":"Master!J25","v":0},{"$f":"Master!E25","v":0},{"$f":"Master!I25","v":0},{"$f":"Master!K25","v":0},{"$f":"SUM(H25:I25)","v":0},0,{"$f":"I25+K25","v":0},0,0,{"$f":"SUM(M25:N25)","v":0},{"$f":"L25-I25","v":0},{"$f":"L25-J25","v":0},{"$f":"L25-M25","v":0},"ugha"]
[{"$f":"Master!C26","v":2},{"$f":"Master!D26","v":"31&iqLrdky;"},null,{"$f":"Master!F26","v":0},{"$f":"Master!G26","v":0},{"$f":"Master!J26","v":0},{"$f":"Master!E26","v":0},{"$f":"Master!I26","v":0},{"$f":"Master!K26","v":0},0,0,0,0,0,0,0,0,0,"ugha"]
[{"$f":"Master!C27","v":3},{"$f":"Master!D27","v":"33&iz;ksx'kkyk"},null,{"$f":"Master!F27","v":0},{"$f":"Master!G27","v":0},{"$f":"Master!J27","v":0},{"$f":"Master!E27","v":0},{"$f":"Master!I27","v":0},{"$f":"Master!K27","v":0},0,0,0,0,0,0,0,0,0,"ugha"]
[{"$f":"Master!C28","v":4},{"$f":"Master!D28","v":"57&fof'k\"V lsok,sa"},null,{"$f":"Master!F28","v":0},{"$f":"Master!G28","v":0},{"$f":"Master!J28","v":0},{"$f":"Master!E28","v":0},{"$f":"Master!I28","v":0},{"$f":"Master!K28","v":0},0,0,0,0,0,0,0,0,0,"ugha"]
[{"$f":"Master!C29","v":5},{"$f":"Master!D29","v":"37&ofnZ;ka"},null,{"$f":"Master!F29","v":0},{"$f":"Master!G29","v":0},{"$f":"Master!J29","v":0},{"$f":"Master!E29","v":0},{"$f":"Master!I29","v":0},{"$f":"Master!K29","v":0},0,0,0,0,0,0,0,0,0,"ugha"]
[{"$f":"Master!C30","v":6},{"$f":"Master!D30","v":"41 lafonk O;; ¼e-xka-va-ek-jkfo½"},null,{"$f":"Master!F30","v":0},{"$f":"Master!G30","v":0},{"$f":"Master!J30","v":0},{"$f":"Master!E30","v":0},{"$f":"Master!I30","v":0},{"$f":"Master!K30","v":0},0,0,0,0,0,0,0,0,0,"ugha"]
[null,"dqy ;ksx 1 ls 7 ¼c½",null,{"$f":"SUM(D25:D30)","v":0},{"$f":"SUM(E25:E30)","v":0},0,0,0,0,0,0,0,0,0,0,0,0,0]
[null,"dqy ;ksx ¼v½$¼c½",null,{"$f":"SUM(D24,D31)","v":0},{"$f":"SUM(E24,E31)","v":0},0,0,0,0,0,0,0,0,0,0,0,0,0]
[null,"loZ ;ksx",null,{"$f":"SUM(D32,D14)","v":0},{"$f":"SUM(E32,E14)","v":0},0,0,0,0,0,348540,348540,405600,0,405600,348540,348540,-57060]
[]
[{"$nulls":15},{"$f":"Master!E2","v":"ç/kkukpk;Z]"}]
[{"$nulls":15},{"$f":"Master!H2","v":"jkmekfo jk;eyok³k"}]

{"sheet":"9 (GA-4)","index":7,"n_rows":36,"n_cols":14,"rows_kept":36,"merged":[[0,0,0,8],[0,9,0,11],[0,14,1048575,14],[1,2,1,4],[2,2,2,3],[2,7,2,13],[3,0,3,13],[4,0,5,0],[4,1,5,1],[4,2,4,4],[4,6,4,8],[4,9,5,9],[4,10,5,10],[4,11,4,13],[7,2,7,13],[11,2,11,13],[33,0,35,8],[33,9,33,10],[33,11,34,13],[34,9,34,10],[35,9,35,10],[35,11,1048575,13]]}
["    O;; ds foLr`r ctV vuqeku ¼e; laosru foLr`r 'kh\"kZ lfgr½",{"$nulls":8},"çi=&9 ¼G.A.-4½"]
[null,"fofÙk; o\"kZ%&",{"$f":"F6","v":"2025-26"},null,null,{"$f":"'Formet 9'!K5","v":"¼ 1 vizSy ls 31 ekpZ rd ½ dk"}]
[null,"Office ID:-",{"$f":"'Formet 9'!P1","v":12572},{"$nulls":4},"foHkkx dk uke %& f'k{kk foHkkx"]
[{"$f":"'Cover Page'!A1","v":"ç/kkukpk;Z] jkmekfo jk;eyok³k ¼vkWfQl vkbZ-Mh- la[;k %&12572½"}]
["Ø-la-","foLr`r ys[kk 'kh\"kZd","okLrfod O;; vkadMs ¼xr rhu o\"kksZa ds½",null,null,"vk; O;; vuqeku pkyw o\"kZ","okLrfod O;; vkadM+s ",null,null,"la'kksf/kr vuqeku o\"kZ 2025&26 ","vk; O;;d vuqeku o\"kZ 2026&27","o`f) ¼$½ ;k deh ¼&½"]
[null,null,{"$f":"'Formet 9'!D9","v":"2022-23"},{"$f":"'Formet 9'!E9","v":"2023-24"},{"$f":"'Formet 9'!F9","v":"2024-25"},{"$f":"Master!E4","v":"2025-26"},"vxLr ls ekpZ rd ¼xr o\"kZ½","vizSy ls tqykbZ rd ¼pkyw o\"kZ½","dkWye 7 o 8 dk ;ksx",null,null,"dkWye 6 o 11 esa","dkWye 9 o 10 esa","dkWye 10 o 11 esa"]
[1,2,3,4,5,6,7,8,9,10,11,12,13,14]
[1,"]01 laosru"]
[null,"d- osru jktif=r",0,0,0,0,0,0,{"$f":"G9+H9","v":0},{"$f":"Summary!B8","v":0},{"$f":"Summary!C8","v":0},{"$f":"K9-F9","v":0},{"$f":"J9-I9","v":0},{"$f":"K9-J9","v":0}]
[null,"[k- osru vjktif=r",{"$f":"'Formet 9'!D11","v":0},{"$f":"'Formet 9'!E11","v":0},{"$f":"'Formet 9'!F11","v":0},{"$f":"'Formet 9'!G11","v":0},{"$f":"'Formet 9'!H11","v":0},{"$f":"'Formet 9'!I11","v":0},{"$f":"G10+H10","v":0},{"$f":"Summary!B9","v":0},{"$f":"Summary!C9","v":0},{"$f":"K10-F10","v":0},{"$f":"J10-I10","v":0},{"$f":"K10-J10","v":0}]
[null,";ksx osru & ¼ d ls [k rd ½",{"$f":"SUM(C9:C10)","v":0},{"$f":"SUM(D9:D10)","v":0},0,0,0,0,0,0,0,0,0,0]
[2,"HkRrs ,oa ekuns;&kk "]
[null," 1- eagxkbZ HkRrk",{"$nulls":7},{"$f":"Summary!B12","v":0},{"$f":"Summary!C12","v":0},{"$f":"K13-F13","v":0},{"$f":"J13-I13","v":0},{"$f":"K13-J13","v":0}]
[null," 2- eagxkbZ HkRrk ,fj;j",{"$nulls":7},{"$f":"Summary!B13","v":0},{"$f":"Summary!C13","v":0},0,0,0]
[null," 3- fLFkjhdj.k @ p;fur osru @ vU;",{"$nulls":7},{"$f":"Summary!B14","v":0},{"$f":"Summary!C14","v":0},0,0,0]
[null," 4- edku fdjk;k HkRrk",{"$nulls":7},{"$f":"Summary!B15","v":0},{"$f":"Summary!C15","v":0},0,0,0]
[null," 5- lefiZr vodk'k osru",{"$nulls":7},{"$f":"Summary!B16","v":0},{"$f":"Summary!C16","v":0},0,0,0]
[null," 6- 'kgjh HkRrk@CCA",{"$nulls":7},{"$f":"Summary!B17","v":0},{"$f":"Summary!C17","v":0},0,0,0]
[null," 7- cksul",{"$nulls":7},{"$f":"Summary!B18","v":0},{"$f":"Summary!C18","v":0},0,0,0]
[null," 8- ijhoh{kk/khu dkfeZdksa dks fu;r ikfjJfed",{"$nulls":7},{"$f":"Summary!B19","v":348540},{"$f":"Summary!C19","v":405600},405600,348540,57060]
[null," 9- lafonk dkfeZdksa dks fu;r ikfjJfed",{"$nulls":7},{"$f":"Summary!B20","v":0},{"$f":"Summary!C20","v":0},0,0,0]
[null,"10- iz-v- HkRrk",{"$nulls":7},{"$f":"Summary!B21","v":0},{"$f":"Summary!C21","v":0},0,0,0]
[null,"11- jksdM+ HkRrk",{"$nulls":7},{"$f":"Summary!B22","v":0},{"$f":"Summary!C22","v":0},0,0,0]
[null,"12- /kqykbZ HkRrk",{"$nulls":7},{"$f":"Summary!B23","v":0},{"$f":"Summary!C23","v":0},0,0,0]
[null,"13- lkbZfdy HkRrk",{"$nulls":7},{"$f":"Summary!B24","v":0},{"$f":"Summary!C24","v":0},0,0,0]
[null,"14- fodkykax HkRrk",{"$nulls":7},{"$f":"Summary!B25","v":0},{"$f":"Summary!C25","v":0},0,0,0]
[null,"15- vU; HkRrs",{"$nulls":7},{"$f":"Summary!B26","v":0},{"$f":"Summary!C26","v":0},0,0,0]
[null,";ksx&¼ 1ls 15 ½ HkRrs ,oa ekuns;&kk",{"$f":"SUM(C13:C27)","v":0},{"$f":"SUM(D13:D27)","v":0},0,0,0,0,0,348540,405600,405600,348540,57060]
[null,";ksx laosru   k+++  ,oa kk",{"$f":"SUM(C11,C28)","v":0},{"$f":"SUM(D11,D28)","v":0},0,0,0,0,0,348540,405600,405600,348540,57060]
[3,"89 va'knk;h is'ku ;kstuk esa ljdkj dk va'knku",{"$nulls":7},{"$f":"Summary!B29","v":0},{"$f":"Summary!C29","v":0},0,0,0]
[4,";k=k O;;",{"$nulls":7},{"$f":"Summary!B30","v":0},{"$f":"Summary!C30","v":0},0,0,0]
[5,"fpfdRlk O;;",{"$nulls":7},{"$f":"Summary!B31","v":0},{"$f":"Summary!C31","v":0},0,0,0]
[null,"loZ ;ksx & ¼QkeZ th-,-&4½",{"$f":"SUM(C29,C31:C32)","v":0},{"$f":"SUM(D29,D31:D32)","v":0},0,0,0,0,0,348540,405600]
[{"$nulls":11},{"$f":"Master!E2","v":"ç/kkukpk;Z]"}]
[{"$nulls":9},{"$f":"'GA3'!K17","v":"ç/kkukpk;Z]"}]
[{"$nulls":9},{"$f":"'GA3'!K18","v":"jkmekfo jk;eyok³k"},null,{"$f":"Master!H2","v":"jkmekfo jk;eyok³k"}]

{"sheet":"Summary","index":8,"n_rows":51,"n_cols":3,"rows_kept":51,"merged":[[0,3,1048575,3],[1,0,1,2],[2,0,2,2],[3,0,3,2],[4,0,4,2],[49,1,49,2],[50,1,50,2]]}
[null,null,{"$f":"Master!E3","v":{"v":12572,"d":"OFFICE ID :- 12572"}}]
[{"$f":"'Cover Page'!A1","v":"ç/kkukpk;Z] jkmekfo jk;eyok³k ¼vkWfQl vkbZ-Mh- la[;k %&12572½"}]
[{"$f":"CONCATENATE(Master!E1,Master!H1)","v":"Principal Govt. Sr. Sec. School Raimalwada"}]
["la'kksf/kr vuqeku l= 2024&25 vk;&O;;d vuqeku lkjka'k 2025&26"]
[{"$f":"CONCATENATE(\"BUDGET HEAD : \",VLOOKUP(Master!E5,Master!AI4:AN36,3,FALSE))","v":"BUDGET HEAD : 2202 -सामान्य शिक्षा-02-109 -राजकीय माध्यमिक विद्यालय-27 -लडकों के विद्यालय-01 -लडकों के विद्यालयों का संचालन व्यय   (STATE FUND)"}]
["fooj.k",{"$f":"abc!C5","v":"la'kksf/kr vuqeku\n2025&26"},{"$f":"abc!D5","v":"vk;O;;d vuqeku 2026&27"}]
["01 laosru"]
["d- osru jktif=r",{"$f":"'Formet 8'!N26","v":0},{"$f":"'Formet 8'!M26","v":0}]
["[k- osru vjktif=r",{"$f":"'Formet 8'!N214","v":0},{"$f":"'Formet 8'!M214","v":0}]
["   ;ksx osru ¼d ls [k rd½ ",{"$f":"SUM(B8:B9)","v":0},{"$f":"SUM(C8:C9)","v":0}]
["HkÙks ,oa ekuns;"]
[" 1- eagxkbZ HkRrk",{"$f":"'Formet 8'!N217","v":0},{"$f":"'Formet 8'!M217","v":0}]
[" 2- eagxkbZ HkRrk ,fj;j",{"$f":"'Formet 8'!N218","v":0},{"$f":"'Formet 8'!M218","v":0}]
[" 3- fLFkjhdj.k @ p;fur osru @ vU;",{"$f":"'Formet 8'!N220","v":0},{"$f":"'Formet 8'!M220","v":0}]
[" 4- edku fdjk;k HkRrk",{"$f":"'Formet 8'!N221","v":0},{"$f":"'Formet 8'!M221","v":0}]
[" 5- lefiZr vodk'k osru",{"$f":"'Formet 8'!N223","v":0},{"$f":"'Formet 8'!M223","v":0}]
[" 6- 'kgjh HkRrk@lhlh,",{"$f":"'Formet 8'!N219","v":0},{"$f":"'Formet 8'!M219","v":0}]
[" 7- cksul",{"$f":"'Formet 8'!N222","v":0},{"$f":"'Formet 8'!M222","v":0}]
[" 8- ijhoh{kk/khu dkfeZdksa dks fu;r ikfjJfed ¼e; fQDls'ku ,fj;j½",{"$f":"'Formet 8'!N340","v":348540},{"$f":"'Formet 8'!M340","v":405600}]
[" 9- lafonk dkfeZdksa dks fu;r ikfjJfed",{"$f":"'Formet 8'!N346+'Formet 8'!N368","v":0},{"$f":"'Formet 8'!M368+'Formet 8'!M346","v":0}]
[" 10- iz-v- HkRrk",0,0]
["11- jksdM+ HkRrk",{"$f":"'Formet 8'!N224","v":0},{"$f":"'Formet 8'!M224","v":0}]
["12- /kqykbZ HkRrk",{"$f":"'Formet 8'!N226","v":0},{"$f":"'Formet 8'!M226","v":0}]
["13- lkbZfdy HkRrk",0,0]
["14- fodkykax HkRrk",{"$f":"'Formet 8'!N225","v":0},{"$f":"'Formet 8'!M225","v":0}]
["15- vU; HkRrs",0,0]
[";ksx HkÙks ,osa ekuns; II",{"$f":"SUM(B12:B26)","v":348540},{"$f":"SUM(C12:C26)","v":405600}]
[";ksx laosru ( I + II )",{"$f":"B10+B27","v":348540},{"$f":"C10+C27","v":405600}]
["89 va'knk;h is'ku ;kstuk esa ljdkj dk va'knku",0,0]
["03 ;k=k O;;",{"$f":"'Formet 8'!N371","v":0},{"$f":"'Formet 8'!M371","v":0}]
["04 fpfdRlk O;;",{"$f":"'Formet 8'!N372","v":0},{"$f":"'Formet 8'!M372","v":0}]
[";ksx %& QkeZ th-,- 4",{"$f":"SUM(B28:B31)","v":348540},{"$f":"SUM(C28:C31)","v":405600}]
["05 dk;kZy; O;;",{"$f":"'Formet 9'!L24","v":0},{"$f":"'Formet 9'!M24","v":0}]
["07 dk;kZy; okguksa dk lapkyu ,oa la/kkj.k",0,0]
["08 o`frd ,oa fof'k\"B lsok,sa",0,0]
["09 fdjk;k jsaV dj vkSj jk;YVh",0,0]
["10 izdk'ku",0,0]
["11 foKkiu foØ; izpkj vkSj izlkj O;;",0,0]
["20 dk;Zdyki laca/kh okguksa dk la/kkj.k",0,0]
["28 fofo/k O;;",{"$f":"'Formet 9'!L25","v":0},{"$f":"'Formet 9'!M25","v":0}]
["31 iqLrdky; ,oa i= if=dkvksa ij O;;",{"$f":"'Formet 9'!L26","v":0},{"$f":"'Formet 9'!M26","v":0}]
["33 iz;ksx'kkyk",{"$f":"'Formet 9'!L27","v":0},{"$f":"'Formet 9'!M27","v":0}]
["57 foHkkxksa dh fof'k\"B lsokvksa ij O;;",{"$f":"'Formet 9'!L28","v":0},{"$f":"'Formet 9'!M28","v":0}]
["37 ofnZ;ka",{"$f":"'Formet 9'!L29","v":0},{"$f":"'Formet 9'!M29","v":0}]
["41 lafonk O;;¼e-xka-va-ek-jkfo½",{"$f":"'Formet 9'!L30","v":0},{"$f":"'Formet 9'!M30","v":0}]
[";ksx %& th-,- 5",{"$f":"SUM(B33:B45)","v":0},{"$f":"SUM(C33:C45)","v":0}]
[";ksx %& th-,- 4",{"$f":"B32","v":348540},{"$f":"C32","v":405600}]
["egk;ksx%& ¼th-,- 4 $ th-,- 5½",{"$f":"SUM(B46:B47)","v":348540},{"$f":"SUM(C46:C47)","v":405600}]
[]
[null,{"$f":"Master!E2","v":"ç/kkukpk;Z]"}]
[null,{"$f":"Master!H2","v":"jkmekfo jk;eyok³k"}]

{"sheet":"sharansh","index":9,"n_rows":62,"n_cols":10,"rows_kept":62,"merged":[[0,1,0,9],[0,10,61,10],[1,1,1,9],[2,1,2,9],[3,1,3,6],[3,7,3,8],[4,1,5,1],[4,2,5,2],[4,3,4,5],[4,6,5,6],[4,7,4,8],[5,7,6,7],[7,7,8,7],[9,7,9,8],[10,7,10,8],[11,7,11,8],[12,7,12,8],[13,7,13,8],[14,7,14,8],[15,7,15,8],[16,7,16,8],[17,1,17,2],[17,3,17,5],[17,7,19,9],[18,1,18,6],[19,1,19,2],[19,3,19,5],[20,1,20,2],[20,3,20,5],[20,7,25,9],[21,1,21,2],[21,3,21,5],[22,1,22,6],[23,1,23,2],[23,3,23,5],[24,1,24,2],[24,3,24,5],[25,1,25,2],[25,3,25,5],[26,1,26,2],[26,3,26,5],[26,7,36,9],[27,1,27,2],[27,3,27,5],[28,1,28,2],[28,3,28,5],[29,1,29,2],[29,3,29,5],[30,1,30,2],[30,3,30,5],[31,1,31,2],[31,3,31,5],[32,1,32,2],[32,3,32,5],[33,1,33,2],[33,3,33,5],[34,1,34,2],[34,3,34,5],[35,1,35,2],[35,3,35,5],[36,1,36,2],[36,3,36,5],[37,1,37,2],[37,3,37,5],[37,7,39,9],[38,1,38,2],[38,3,38,5],[39,1,39,2],[39,3,39,5],[40,1,40,2],[40,3,40,5],[40,7,43,9],[41,1,41,2],[41,3,41,5],[42,1,42,2],[42,3,42,5],[43,1,43,2],[43,3,43,5],[44,1,44,2],[44,3,44,5],[44,7,47,9],[45,1,45,2],[45,3,45,5],[46,1,46,2],[46,3,46,5],[47,1,47,2],[47,3,47,5],[48,1,48,2],[48,3,48,5],[48,7,59,9],[49,1,49,2],[49,3,49,5],[50,1,50,2],[50,3,50,5],[51,1,51,2],[51,3,51,5],[52,1,52,2],[52,3,52,5],[53,1,53,2],[53,3,53,5],[54,1,54,2],[54,3,54,5],[55,1,55,2],[55,3,55,5],[56,1,56,2],[56,3,56,5],[57,1,57,2],[57,3,57,5],[58,1,58,2],[58,3,58,5],[59,1,59,2],[59,3,59,5],[60,1,60,9],[61,1,61,6],[61,7,61,9]]}
[null,{"$f":"'P-2'!C4","v":"vk; dk foLr`r ctV vuqeku foÙkh; o\"kZ  ¼ 1 vizSy ls 31 ekpZ rd ½ dk"}]
[null,{"$f":"Summary!A2","v":"ç/kkukpk;Z] jkmekfo jk;eyok³k ¼vkWfQl vkbZ-Mh- la[;k %&12572½"}]
[null,{"$f":"Summary!A5","v":"BUDGET HEAD : 2202 -सामान्य शिक्षा-02-109 -राजकीय माध्यमिक विद्यालय-27 -लडकों के विद्यालय-01 -लडकों के विद्यालयों का संचालन व्यय   (STATE FUND)"}]
[null," lkajk'k ¼nks izfr;ksa esa½",{"$nulls":5},"vkWfQl vkbZMh %",null,{"$f":"Master!E3","v":12572}]
[null,"¼lEcfU/kr ys[kken esa Lohd`r inks vuqlkj leLr½ in uke","Lohd`r","fu;fer dk;Zjr deZpkjh",null,null,"fnukad 31-08-2025 dks fjDr inksa dh la[;k","fooj.k",null,"la[;k"]
[{"$nulls":3},"01-01-2004 ls iwoZ fu;qDr","01-01-2004 ds ckn fu;qDr","dqy",null,"teknkj","iq:\"k",0]
[null,{"$f":"A!D9","v":""},{"$f":"A!F9","v":""},{"$f":"A!G9","v":""},{"$f":"A!H9","v":""},{"$f":"IF(B7=\"\",\"\",SUM(D7:E7))","v":""},{"$f":"IF(B7=\"\",\"\",(C7-F7))","v":""},null,"efgyk",0]
[null,{"$f":"A!D10","v":""},{"$f":"A!F10","v":""},{"$f":"A!G10","v":""},{"$f":"A!H10","v":""},{"$f":"IF(B8=\"\",\"\",SUM(D8:E8))","v":""},{"$f":"IF(B8=\"\",\"\",(C8-F8))","v":""},"p0Js0deZ0","iq:\"k\n\n",0]
[null,{"$f":"A!D11","v":""},{"$f":"A!F11","v":""},{"$f":"A!G11","v":""},{"$f":"A!H11","v":""},"","",null,"efgyk",0]
[null,{"$f":"A!D12","v":""},{"$f":"A!F12","v":""},{"$f":"A!G12","v":""},{"$f":"A!H12","v":""},"","","jktif=r dkfeZd",null,0]
[null,{"$f":"A!D13","v":""},{"$f":"A!F13","v":""},{"$f":"A!G13","v":""},{"$f":"A!H13","v":""},"","","vjktif=r dkfeZd",null,{"$f":"F17","v":0}]
[null,{"$f":"A!D14","v":""},{"$f":"A!F14","v":""},{"$f":"A!G14","v":""},{"$f":"A!H14","v":""},"","","dqy",null,{"$f":"SUM(J10:J11)","v":0}]
[null,{"$f":"A!D15","v":""},{"$f":"A!F15","v":""},{"$f":"A!G15","v":""},{"$f":"A!H15","v":""},"","","fu;fer deZpkjh",null,0]
[null,{"$f":"A!D16","v":""},{"$f":"A!F16","v":""},{"$f":"A!G16","v":""},{"$f":"A!H16","v":""},"","","fQDl osru deZpkjh",null,0]
[null,{"$f":"A!D17","v":""},{"$f":"A!F17","v":""},{"$f":"A!G17","v":""},{"$f":"A!H17","v":""},"","","dk;Zjr fo|kFkhZ fe= ",null,0]
[null,{"$f":"A!D18","v":""},{"$f":"A!F18","v":""},{"$f":"A!G18","v":""},{"$f":"A!H18","v":""},"","","Lohd`r lafonk deZpkjh ;fn gks",null,0]
[null,";ksx",{"$f":"SUM(C7:C16)","v":0},{"$f":"SUM(D7:D16)","v":0},{"$f":"SUM(E7:E16)","v":0},0,{"$f":"SUM(G7:G16)","v":0},"fuyfEcr dkfeZd",null,0]
[null,"fooj.k",null,"la'kksf/kr vuqeku\n2025&26\n¼jkf'k yk[kks esa½",null,null,"vk; O;;d vuqeku\n2026&27\n¼jkf'k yk[kks esa½","1- dk;kZy; nwjHkk\"k \n"]
[null,"01 laaosru"]
[null,"¼d½ osru jktif=r ¼xzsM is $ is cS.M½",null,{"$f":"Summary!B8","v":0},null,null,{"$f":"Summary!C8","v":0}]
[null,"¼[k½ osru vjktif=r ¼xzsM is $ is cS.M½",null,{"$f":"Summary!B9","v":0},null,null,{"$f":"Summary!C9","v":0},{"$f":"Master!I4","v":0}]
[null,{"$f":"Summary!A10","v":"   ;ksx osru ¼d ls [k rd½ "},null,{"$f":"SUM(D20:F21)","v":0},null,null,{"$f":"SUM(G20:G21)","v":0}]
[null,"02 HkRrs ,oa ekuns;"]
[null,{"$f":"Summary!A12","v":" 1- eagxkbZ HkRrk"},null,{"$f":"Summary!B12","v":0},null,null,{"$f":"Summary!C12","v":0}]
[null,{"$f":"Summary!A13","v":" 2- eagxkbZ HkRrk ,fj;j"},null,{"$f":"Summary!B13","v":0},null,null,{"$f":"Summary!C13","v":0}]
[null,{"$f":"Summary!A14","v":" 3- fLFkjhdj.k @ p;fur osru @ vU;"},null,{"$f":"Summary!B14","v":0},null,null,{"$f":"Summary!C14","v":0}]
[null,{"$f":"Summary!A15","v":" 4- edku fdjk;k HkRrk"},null,{"$f":"Summary!B15","v":0},null,null,{"$f":"Summary!C15","v":0},{"$f":"CONCATENATE(\"2-\",\" \",Master!I3,\" \",Master!E2,\"¼\",Master!H2,\"½\",\"eksckbZy ua-\",\"-\",Master!I4)","v":"2-  ç/kkukpk;Z]¼jkmekfo jk;eyok³k½eksckbZy ua--"}]
[null,{"$f":"Summary!A16","v":" 5- lefiZr vodk'k osru"},null,{"$f":"Summary!B16","v":0},null,null,{"$f":"Summary!C16","v":0}]
[null,{"$f":"Summary!A17","v":" 6- 'kgjh HkRrk@lhlh,"},null,{"$f":"Summary!B17","v":0},null,null,{"$f":"Summary!C17","v":0}]
[null,{"$f":"Summary!A18","v":" 7- cksul"},null,{"$f":"Summary!B18","v":0},null,null,{"$f":"Summary!C18","v":0}]
[null,{"$f":"Summary!A19","v":" 8- ijhoh{kk/khu dkfeZdksa dks fu;r ikfjJfed ¼e; fQDls'ku ,fj;j½"},null,{"$f":"Summary!B19","v":348540},null,null,{"$f":"Summary!C19","v":405600}]
[null,{"$f":"Summary!A20","v":" 9- lafonk dkfeZdksa dks fu;r ikfjJfed"},null,{"$f":"Summary!B20","v":0},null,null,{"$f":"Summary!C20","v":0}]
[null,{"$f":"Summary!A21","v":" 10- iz-v- HkRrk"},null,{"$f":"Summary!B21","v":0},null,null,{"$f":"Summary!C21","v":0}]
[null,{"$f":"Summary!A22","v":"11- jksdM+ HkRrk"},null,{"$f":"Summary!B22","v":0},null,null,{"$f":"Summary!C22","v":0}]
[null,{"$f":"Summary!A23","v":"12- /kqykbZ HkRrk"},null,{"$f":"Summary!B23","v":0},null,null,{"$f":"Summary!C23","v":0}]
[null,{"$f":"Summary!A24","v":"13- lkbZfdy HkRrk"},null,{"$f":"Summary!B24","v":0},null,null,{"$f":"Summary!C24","v":0}]
[null,{"$f":"Summary!A25","v":"14- fodkykax HkRrk"},null,{"$f":"Summary!B25","v":0},null,null,{"$f":"Summary!C25","v":0}]
[null,{"$f":"Summary!A26","v":"15- vU; HkRrs"},null,{"$f":"Summary!B26","v":0},null,null,{"$f":"Summary!C26","v":0},"3 laEcfU/kr dkfeZd %&"]
[null,";ksx HkRrs ,oa ekuns;",null,{"$f":"SUM(D24:F38)","v":348540},null,null,{"$f":"SUM(G24:G38)","v":405600}]
[null,"loZ;ksx laosru ¼01$02½ ",null,{"$f":"SUM(D22,D39)","v":348540},null,null,{"$f":"SUM(G22,G39)","v":405600}]
[null,{"$f":"Summary!A29","v":"89 va'knk;h is'ku ;kstuk esa ljdkj dk va'knku"},null,{"$f":"Summary!B29","v":0},null,null,{"$f":"Summary!C29","v":0},{"$f":"CONCATENATE(\"¼d½\",\" \",Master!M2,\"¼\",Master!M3,\"½\")","v":"¼d½ ¼½"}]
[null,{"$f":"Summary!A30","v":"03 ;k=k O;;"},null,{"$f":"Summary!B30","v":0},null,null,{"$f":"Summary!C30","v":0}]
[null,{"$f":"Summary!A31","v":"04 fpfdRlk O;;"},null,{"$f":"Summary!B31","v":0},null,null,{"$f":"Summary!C31","v":0}]
[null,{"$f":"Summary!A32","v":";ksx %& QkeZ th-,- 4"},null,{"$f":"Summary!B32","v":348540},null,null,{"$f":"Summary!C32","v":405600}]
[null,{"$f":"Summary!A33","v":"05 dk;kZy; O;;"},null,{"$f":"Summary!B33","v":0},null,null,{"$f":"Summary!C33","v":0},{"$f":"CONCATENATE(\"¼[k½\",\" \",Master!M4,\"¼\",Master!M5,\"½\")","v":"¼[k½ ¼½"}]
[null,{"$f":"Summary!A34","v":"07 dk;kZy; okguksa dk lapkyu ,oa la/kkj.k"},null,{"$f":"Summary!B34","v":0},null,null,{"$f":"Summary!C34","v":0}]
[null,{"$f":"Summary!A35","v":"08 o`frd ,oa fof'k\"B lsok,sa"},null,{"$f":"Summary!B35","v":0},null,null,{"$f":"Summary!C35","v":0}]
[null,{"$f":"Summary!A36","v":"09 fdjk;k jsaV dj vkSj jk;YVh"},null,{"$f":"Summary!B36","v":0},null,null,{"$f":"Summary!C36","v":0}]
[null,{"$f":"Summary!A37","v":"10 izdk'ku"},null,{"$f":"Summary!B37","v":0},null,null,{"$f":"Summary!C37","v":0}]
[null,{"$f":"Summary!A38","v":"11 foKkiu foØ; izpkj vkSj izlkj O;;"},null,{"$f":"Summary!B38","v":0},null,null,{"$f":"Summary!C38","v":0}]
[null,{"$f":"Summary!A39","v":"20 dk;Zdyki laca/kh okguksa dk la/kkj.k"},null,{"$f":"Summary!B39","v":0},null,null,{"$f":"Summary!C39","v":0}]
[null,{"$f":"Summary!A40","v":"28 fofo/k O;;"},null,{"$f":"Summary!B40","v":0},null,null,{"$f":"Summary!C40","v":0}]
[null,{"$f":"Summary!A41","v":"31 iqLrdky; ,oa i= if=dkvksa ij O;;"},null,{"$f":"Summary!B41","v":0},null,null,{"$f":"Summary!C41","v":0}]
[null,{"$f":"Summary!A42","v":"33 iz;ksx'kkyk"},null,{"$f":"Summary!B42","v":0},null,null,{"$f":"Summary!C42","v":0}]
[null,{"$f":"Summary!A43","v":"57 foHkkxksa dh fof'k\"B lsokvksa ij O;;"},null,{"$f":"Summary!B43","v":0},null,null,{"$f":"Summary!C43","v":0}]
[null,{"$f":"Summary!A44","v":"37 ofnZ;ka"},null,{"$f":"Summary!B44","v":0},null,null,{"$f":"Summary!C44","v":0}]
[null,{"$f":"Summary!A45","v":"41 lafonk O;;¼e-xka-va-ek-jkfo½"},null,{"$f":"Summary!B45","v":0},null,null,{"$f":"Summary!C45","v":0}]
[null,{"$f":"Summary!A46","v":";ksx %& th-,- 5"},null,{"$f":"Summary!B46","v":0},null,null,{"$f":"Summary!C46","v":0}]
[null,{"$f":"Summary!A47","v":";ksx %& th-,- 4"},null,{"$f":"Summary!B47","v":348540},null,null,{"$f":"Summary!C47","v":405600}]
[null,{"$f":"Summary!A48","v":"egk;ksx%& ¼th-,- 4 $ th-,- 5½"},null,{"$f":"Summary!B48","v":348540},null,null,{"$f":"Summary!C48","v":405600}]
[null,"izekf.kr fd;k tkrk gS fd mDr fooj.k dk O;fDrxr ijh{k.k dj fy;k x;k gS rFkk fooj.k iw.kZ #i ls lgh gSA leLr cdk;k nkf;Roksa dk mDr lwpuk esa 'kkfey dj fy;k x;k gS ftrus Hkh cdk;k nkf;Ro gZS mudk foLr`r enokj fooj.k layXu gSA"]
[{"$nulls":7},{"$f":"B2","v":"ç/kkukpk;Z] jkmekfo jk;eyok³k ¼vkWfQl vkbZ-Mh- la[;k %&12572½"}]

{"sheet":"01 Salary","index":10,"n_rows":14,"n_cols":8,"rows_kept":14,"merged":[[0,6,0,7],[0,8,13,8],[1,0,1,7],[2,0,2,7],[3,0,3,7],[4,0,4,7],[6,0,7,0],[6,1,7,1],[6,2,7,2],[6,3,7,3],[6,4,7,4],[6,5,7,5],[9,0,10,0],[9,1,10,1],[9,2,10,2],[12,6,12,7],[13,6,15,7]]}
[{"$nulls":6},{"$f":"Summary!$C$1","v":{"v":12572,"d":"OFFICE ID 12572"}}]
[{"$f":"Summary!A2","v":"ç/kkukpk;Z] jkmekfo jk;eyok³k ¼vkWfQl vkbZ-Mh- la[;k %&12572½"}]
["izi=&01"]
[{"$f":"Summary!A5","v":"BUDGET HEAD : 2202 -सामान्य शिक्षा-02-109 -राजकीय माध्यमिक विद्यालय-27 -लडकों के विद्यालय-01 -लडकों के विद्यालयों का संचालन व्यय   (STATE FUND)"}]
["ys[kk en & 01 laosru dk x.kuk @ ekax izi=       ¼jkf'k yk[kksaa es½ fofr; o\"kZ%2025&26"]
[]
["Ø- la-","vkWfQl vkbZMh","dk;kZy;@fo|ky; dk uke","fofÙk; o\"kZ 2025&26 esa laosru ¼01½ esa vkoafVr jkf'k","07@2025 rd dk okLrfod O;;","08@2025 ls 03@2026 rd gksus okyk vuqekfur O;;","fofÙk; o\"kZ 2025&26 esa gksus okyk dqy O;; ","o\"kZ 2025&26 vfrfjDr ds fy;s vko';drk"]
[{"$nulls":6},";ksx dkWye ¼5$6½",";ksx dkWye ¼4&7½"]
[1,2,3,4,5,6,7,8]
[1,{"$f":"$G$1","v":12572},{"$f":"Master!H2","v":"jkmekfo jk;eyok³k"},{"$f":"'Formet 9'!G11","v":0},{"$f":"'Formet 9'!I11","v":0},{"$f":"'Formet 9'!K11","v":348540},{"$f":"E10+F10","v":348540},{"$f":"G10-D10","v":348540}]
[]
[]
[{"$nulls":6},{"$f":"Master!E2","v":"ç/kkukpk;Z]"}]
[{"$nulls":6},{"$f":"Master!H2","v":"jkmekfo jk;eyok³k"}]

{"sheet":"Format 1A","index":11,"n_rows":36,"n_cols":25,"rows_kept":36,"merged":[[0,13,0,15],[0,16,35,16],[1,0,1,13],[1,14,1,15],[2,0,2,13],[2,14,2,15],[3,0,3,13],[4,0,4,11],[4,12,4,15],[5,0,6,0],[5,1,6,1],[5,2,6,2],[5,3,6,3],[5,4,6,4],[5,5,6,5],[5,6,6,6],[5,7,6,7],[5,8,6,8],[5,9,5,11],[5,14,6,14],[5,15,6,15],[7,12,7,13],[8,12,8,13],[9,12,9,13],[10,12,10,13],[11,12,11,13],[12,12,12,13],[13,12,13,13],[14,12,14,13],[15,12,15,13],[16,12,16,13],[17,12,17,13],[18,12,18,13],[19,12,19,13],[20,12,20,13],[21,12,21,13],[22,12,22,13],[23,12,23,13],[24,12,24,13],[25,12,25,13],[26,12,26,13],[27,12,27,13],[28,12,28,13],[29,12,29,13],[30,12,30,13],[31,12,31,13],[32,12,32,13],[34,11,34,15],[35,11,37,15]]}
[{"$nulls":13},{"$f":"Summary!$C$1","v":{"v":12572,"d":"OFFICE ID : 12572"}}]
[{"$f":"Summary!$A$2","v":"ç/kkukpk;Z] jkmekfo jk;eyok³k ¼vkWfQl vkbZ-Mh- la[;k %&12572½"},{"$nulls":13},{"$f":"Master!$C$4","v":"ctV la'kksf/kr vuqeku fofÙk; o\"kZ %"}]
["izi= & 1",{"$nulls":13},{"$f":"Master!$E$4","v":"2025-26"}]
["¼v½ fu;fer Lohd`r inksa dk fooj.k"]
[{"$f":"'Formet 8'!B7","v":"BUDGET HEAD : 2202 -सामान्य शिक्षा-02-109 -राजकीय माध्यमिक विद्यालय-27 -लडकों के विद्यालय-01 -लडकों के विद्यालयों का संचालन व्यय   (STATE FUND)"},{"$nulls":11},"foHkkx dk uke %& f'k{kk foHkkx"]
["Ø- la-","ys[ks dk 'kh\"kZ nh?kZ 'kh\"kZ@ minh?kZ 'kh\"kZ @ y?kq 'kh\"kZ @ mi'kh\"kZ","ukWu Iyku@ Iyku@ lh-,l-,l-","in uke ","is eSfVªDl ysoy","Lohd`r inksa dh la[;k \n¼fnukad   01-04-25 dh fLFkfr½","pkyw o\"kZ 2025&26 esa Lohd`r inksa dh la[;k","pkyw o\"kZ 2025&26 esa lekIr fd, inksa dh la[;k","orZeku inksa dh la[;k ¼dkWye la[;k 5$6&7½","fu;fer dk;Zjr deZpkjh",{"$nulls":4},"fnukad 31-08-25 dks fjDr inksa dh la[;k","fnukad ftlls in fjDr gS"]
[{"$nulls":9},"01-01-2004 ls iwoZ fu;qDr","01-01-2004 ds ckn fu;qDr",";ksx"]
[1,1,2,3,4,5,6,7,8,9,10,null,10,null,11,12]
[{"$f":"W9","v":0},"2202 lkekU; f'k{kk",{"$f":"'Format 1B'!C8","v":"NON PLAN - BOYS"},"PRINCIPAL","L-16",{"$f":"COUNTIF(Master!$E$61:$E$286,'Format 1A'!D9)","v":0},"-","-",{"$f":"SUM(F9:H9)","v":0},0,{"$f":"COUNTIF(Master!$A$61:$A$286,'Format 1A'!D9)","v":0},{"$f":"SUM(J9:K9)","v":0},{"$f":"SUMIF('Formet 8'!G$12:G$247,'Format 1A'!D9,'Formet 8'!BX$12:BX$247)","v":0},null,{"$f":"I9-L9","v":0},null,null,{"$f":"IF(F9>0,1,0)","v":0},{"$f":"I9","v":0},{"$f":"SUMIF('Formet 8'!G$12:G$247,'Format 1A'!D9,'Formet 8'!CB$12:CB$247)","v":0},{"$f":"SUMIF('Formet 8'!G$12:G$585,'Format 1A'!D9,'Formet 8'!BX$12:BX$585)","v":0},{"$f":"S9-(T9+U9)","v":0},{"$f":"IF(R9=0,0,1)","v":0},null,{"$f":"COUNTIF(Master!$A$61:$A$286,'Format 1A'!D9)","v":0}]
[{"$f":"W10","v":0},"2202 lkekU; f'k{kk",{"$f":"'Format 1B'!C9","v":"NON PLAN - BOYS"},"VICE PRINCIPAL","L-14",{"$f":"COUNTIF(Master!$E$61:$E$286,'Format 1A'!D10)","v":0},"-","-",{"$f":"SUM(F10:H10)","v":0},0,{"$f":"COUNTIF(Master!$A$61:$A$286,'Format 1A'!D10)","v":0},{"$f":"SUM(J10:K10)","v":0},{"$f":"SUMIF('Formet 8'!G$12:G$247,'Format 1A'!D10,'Formet 8'!BX$12:BX$247)","v":0},null,{"$f":"I10-L10","v":0},null,null,{"$f":"IF(F10>0,1,0)","v":0},{"$f":"I10","v":0},{"$f":"SUMIF('Formet 8'!G$12:G$247,'Format 1A'!D10,'Formet 8'!CB$12:CB$247)","v":0},{"$f":"SUMIF('Formet 8'!G$12:G$585,'Format 1A'!D10,'Formet 8'!BX$12:BX$585)","v":0},{"$f":"S10-(T10+U10)","v":0},{"$f":"IF(F10>0,MAX(W9)+1,0)","v":0}]
[0,"2202 lkekU; f'k{kk",{"$f":"'Format 1B'!C10","v":"NON PLAN - BOYS"},"LECTURER","L-12",{"$f":"COUNTIF(Master!$E$61:$E$286,'Format 1A'!D11)","v":0},"-","-",0,0,{"$f":"COUNTIF(Master!$A$61:$A$286,'Format 1A'!D11)","v":0},0,{"$f":"SUMIF('Formet 8'!G$12:G$247,'Format 1A'!D11,'Formet 8'!BX$12:BX$247)","v":0},null,0,null,null,0,0,{"$f":"SUMIF('Formet 8'!G$12:G$247,'Format 1A'!D11,'Formet 8'!CB$12:CB$247)","v":0},{"$f":"SUMIF('Formet 8'!G$12:G$585,'Format 1A'!D11,'Formet 8'!BX$12:BX$585)","v":0},0,{"$f":"IF(F11>0,MAX($W$9:W10)+1,0)","v":0}]
[0,"2202 lkekU; f'k{kk",{"$f":"'Format 1B'!C11","v":"NON PLAN - BOYS"},"Add. Adm. Officer","L-12",{"$f":"COUNTIF(Master!$E$61:$E$286,'Format 1A'!D12)","v":0},"-","-",0,0,{"$f":"COUNTIF(Master!$A$61:$A$286,'Format 1A'!D12)","v":0},0,{"$f":"SUMIF('Formet 8'!G$12:G$247,'Format 1A'!D12,'Formet 8'!BX$12:BX$247)","v":0},null,0,null,null,0,0,{"$f":"SUMIF('Formet 8'!G$12:G$247,'Format 1A'!D12,'Formet 8'!CB$12:CB$247)","v":0},{"$f":"SUMIF('Formet 8'!G$12:G$585,'Format 1A'!D12,'Formet 8'!BX$12:BX$585)","v":0},0,{"$f":"IF(F12>0,MAX($W$9:W11)+1,0)","v":0}]
[0,"2202 lkekU; f'k{kk",{"$f":"'Format 1B'!C12","v":"NON PLAN - BOYS"},"PTI  I","L-12",{"$f":"COUNTIF(Master!$E$61:$E$286,'Format 1A'!D13)","v":0},"-","-",0,0,{"$f":"COUNTIF(Master!$A$61:$A$286,'Format 1A'!D13)","v":0},0,{"$f":"SUMIF('Formet 8'!G$12:G$247,'Format 1A'!D13,'Formet 8'!BX$12:BX$247)","v":0},null,0,null,null,0,0,{"$f":"SUMIF('Formet 8'!G$12:G$247,'Format 1A'!D13,'Formet 8'!CB$12:CB$247)","v":0},{"$f":"SUMIF('Formet 8'!G$12:G$585,'Format 1A'!D13,'Formet 8'!BX$12:BX$585)","v":0},0,{"$f":"IF(F13>0,MAX($W$9:W12)+1,0)","v":0}]
[0,"2202 lkekU; f'k{kk",{"$f":"'Format 1B'!C13","v":"NON PLAN - BOYS"},"AGRICULTURE TEACHER","L-12",{"$f":"COUNTIF(Master!$E$61:$E$286,'Format 1A'!D14)","v":0},"-","-",0,0,{"$f":"COUNTIF(Master!$A$61:$A$286,'Format 1A'!D14)","v":0},0,{"$f":"SUMIF('Formet 8'!G$12:G$247,'Format 1A'!D14,'Formet 8'!BX$12:BX$247)","v":0},null,0,null,null,0,0,{"$f":"SUMIF('Formet 8'!G$12:G$247,'Format 1A'!D14,'Formet 8'!CB$12:CB$247)","v":0},{"$f":"SUMIF('Formet 8'!G$12:G$585,'Format 1A'!D14,'Formet 8'!BX$12:BX$585)","v":0},0,{"$f":"IF(F14>0,MAX($W$9:W13)+1,0)","v":0}]
[0,"2202 lkekU; f'k{kk",{"$f":"'Format 1B'!C14","v":"NON PLAN - BOYS"},"Asst. Adm. Officer","L-12",{"$f":"COUNTIF(Master!$E$61:$E$286,'Format 1A'!D15)","v":0},"-","-",0,0,{"$f":"COUNTIF(Master!$A$61:$A$286,'Format 1A'!D15)","v":0},0,{"$f":"SUMIF('Formet 8'!G$12:G$247,'Format 1A'!D15,'Formet 8'!BX$12:BX$247)","v":0},null,0,null,null,0,0,{"$f":"SUMIF('Formet 8'!G$12:G$247,'Format 1A'!D15,'Formet 8'!CB$12:CB$247)","v":0},{"$f":"SUMIF('Formet 8'!G$12:G$585,'Format 1A'!D15,'Formet 8'!BX$12:BX$585)","v":0},0,{"$f":"IF(F15>0,MAX($W$9:W14)+1,0)","v":0}]
[0,"2202 lkekU; f'k{kk",{"$f":"'Format 1B'!C15","v":"NON PLAN - BOYS"},"LIBRARIAN I","L-12",{"$f":"COUNTIF(Master!$E$61:$E$286,'Format 1A'!D16)","v":0},"-","-",0,0,{"$f":"COUNTIF(Master!$A$61:$A$286,'Format 1A'!D16)","v":0},0,{"$f":"SUMIF('Formet 8'!G$12:G$247,'Format 1A'!D16,'Formet 8'!BX$12:BX$247)","v":0},null,0,null,null,0,0,{"$f":"SUMIF('Formet 8'!G$12:G$247,'Format 1A'!D16,'Formet 8'!CB$12:CB$247)","v":0},{"$f":"SUMIF('Formet 8'!G$12:G$585,'Format 1A'!D16,'Formet 8'!BX$12:BX$585)","v":0},0,{"$f":"IF(F16>0,MAX($W$9:W15)+1,0)","v":0}]
[0,"2202 lkekU; f'k{kk",{"$f":"'Format 1B'!C16","v":"NON PLAN - BOYS"},"BASIC COMPUTER INST.","L-8",{"$f":"COUNTIF(Master!$E$61:$E$286,'Format 1A'!D17)","v":0},"-","-",0,0,{"$f":"COUNTIF(Master!$A$61:$A$286,'Format 1A'!D17)","v":0},0,{"$f":"SUMIF('Formet 8'!G$12:G$247,'Format 1A'!D17,'Formet 8'!BX$12:BX$247)","v":0},null,0,null,null,0,0,{"$f":"SUMIF('Formet 8'!G$12:G$247,'Format 1A'!D17,'Formet 8'!CB$12:CB$247)","v":0},{"$f":"SUMIF('Formet 8'!G$12:G$585,'Format 1A'!D17,'Formet 8'!BX$12:BX$585)","v":0},0,{"$f":"IF(F17>0,MAX($W$9:W16)+1,0)","v":0}]
[0,"2202 lkekU; f'k{kk",{"$f":"'Format 1B'!C17","v":"NON PLAN - BOYS"},"TEACHER-II","L-11",{"$f":"COUNTIF(Master!$E$61:$E$286,'Format 1A'!D18)","v":0},"-","-",0,0,{"$f":"COUNTIF(Master!$A$61:$A$286,'Format 1A'!D18)","v":0},0,0,null,0,null,null,0,0,{"$f":"SUMIF('Formet 8'!G$12:G$247,'Format 1A'!D18,'Formet 8'!CB$12:CB$247)","v":0},{"$f":"SUMIF('Formet 8'!G$12:G$585,'Format 1A'!D18,'Formet 8'!BX$12:BX$585)","v":0},0,{"$f":"IF(F18>0,MAX($W$9:W17)+1,0)","v":0}]
[0,"2202 lkekU; f'k{kk",{"$f":"'Format 1B'!C18","v":"NON PLAN - BOYS"},"PTI II","L-11",{"$f":"COUNTIF(Master!$E$61:$E$286,'Format 1A'!D19)","v":0},"-","-",0,0,{"$f":"COUNTIF(Master!$A$61:$A$286,'Format 1A'!D19)","v":0},0,{"$f":"SUMIF('Formet 8'!G$12:G$247,'Format 1A'!D19,'Formet 8'!BX$12:BX$247)","v":0},null,0,null,null,0,0,{"$f":"SUMIF('Formet 8'!G$12:G$247,'Format 1A'!D19,'Formet 8'!CB$12:CB$247)","v":0},{"$f":"SUMIF('Formet 8'!G$12:G$585,'Format 1A'!D19,'Formet 8'!BX$12:BX$585)","v":0},0,{"$f":"IF(F19>0,MAX($W$9:W18)+1,0)","v":0}]
[0,"2202 lkekU; f'k{kk",{"$f":"'Format 1B'!C19","v":"NON PLAN - BOYS"},"LIBRARIAN II","L-11",{"$f":"COUNTIF(Master!$E$61:$E$286,'Format 1A'!D20)","v":0},"-","-",0,0,{"$f":"COUNTIF(Master!$A$61:$A$286,'Format 1A'!D20)","v":0},0,{"$f":"SUMIF('Formet 8'!G$12:G$247,'Format 1A'!D20,'Formet 8'!BX$12:BX$247)","v":0},null,0,null,null,0,0,{"$f":"SUMIF('Formet 8'!G$12:G$247,'Format 1A'!D20,'Formet 8'!CB$12:CB$247)","v":0},{"$f":"SUMIF('Formet 8'!G$12:G$585,'Format 1A'!D20,'Formet 8'!BX$12:BX$585)","v":0},0,{"$f":"IF(F20>0,MAX($W$9:W19)+1,0)","v":0}]
[0,"2202 lkekU; f'k{kk",{"$f":"'Format 1B'!C20","v":"NON PLAN - BOYS"},"SR. PRABODHAK","L-9",{"$f":"COUNTIF(Master!$E$61:$E$286,'Format 1A'!D21)","v":0},"-","-",0,0,{"$f":"COUNTIF(Master!$A$61:$A$286,'Format 1A'!D21)","v":0},0,{"$f":"SUMIF('Formet 8'!G$12:G$247,'Format 1A'!D21,'Formet 8'!BX$12:BX$247)","v":0},null,0,null,null,0,0,{"$f":"SUMIF('Formet 8'!G$12:G$247,'Format 1A'!D21,'Formet 8'!CB$12:CB$247)","v":0},{"$f":"SUMIF('Formet 8'!G$12:G$585,'Format 1A'!D21,'Formet 8'!BX$12:BX$585)","v":0},0,{"$f":"IF(F21>0,MAX($W$9:W20)+1,0)","v":0}]
[0,"2202 lkekU; f'k{kk",{"$f":"'Format 1B'!C21","v":"NON PLAN - BOYS"},"CLERK GRADE I","L-9",{"$f":"COUNTIF(Master!$E$61:$E$286,'Format 1A'!D22)","v":0},"-","-",0,0,{"$f":"COUNTIF(Master!$A$61:$A$286,'Format 1A'!D22)","v":0},0,{"$f":"SUMIF('Formet 8'!G$12:G$247,'Format 1A'!D22,'Formet 8'!BX$12:BX$247)","v":0},null,0,null,null,0,0,{"$f":"SUMIF('Formet 8'!G$12:G$247,'Format 1A'!D22,'Formet 8'!CB$12:CB$247)","v":0},{"$f":"SUMIF('Formet 8'!G$12:G$585,'Format 1A'!D22,'Formet 8'!BX$12:BX$585)","v":0},0,{"$f":"IF(F22>0,MAX($W$9:W21)+1,0)","v":0}]
[0,"2202 lkekU; f'k{kk",{"$f":"'Format 1B'!C22","v":"NON PLAN - BOYS"},"PTI  III","L-10",{"$f":"COUNTIF(Master!$E$61:$E$286,'Format 1A'!D23)","v":0},"-","-",0,0,{"$f":"COUNTIF(Master!$A$61:$A$286,'Format 1A'!D23)","v":0},0,2,null,0,null,null,0,0,{"$f":"SUMIF('Formet 8'!G$12:G$247,'Format 1A'!D23,'Formet 8'!CB$12:CB$247)","v":0},{"$f":"SUMIF('Formet 8'!G$12:G$585,'Format 1A'!D23,'Formet 8'!BX$12:BX$585)","v":0},0,{"$f":"IF(F23>0,MAX($W$9:W22)+1,0)","v":0}]
[0,"2202 lkekU; f'k{kk",{"$f":"'Format 1B'!C23","v":"NON PLAN - BOYS"},"TEACHER-III","L-10",{"$f":"COUNTIF(Master!$E$61:$E$286,'Format 1A'!D24)","v":0},"-","-",0,0,{"$f":"COUNTIF(Master!$A$61:$A$286,'Format 1A'!D24)","v":0},0,122,null,0,null,null,0,0,{"$f":"SUMIF('Formet 8'!G$12:G$247,'Format 1A'!D24,'Formet 8'!CB$12:CB$247)","v":0},{"$f":"SUMIF('Formet 8'!G$12:G$585,'Format 1A'!D24,'Formet 8'!BX$12:BX$585)","v":0},0,{"$f":"IF(F24>0,MAX($W$9:W23)+1,0)","v":0}]
[0,"2202 lkekU; f'k{kk",{"$f":"'Format 1B'!C24","v":"NON PLAN - BOYS"},"LIBRARIAN III","L-10",{"$f":"COUNTIF(Master!$E$61:$E$286,'Format 1A'!D25)","v":0},"-","-",0,0,{"$f":"COUNTIF(Master!$A$61:$A$286,'Format 1A'!D25)","v":0},0,{"$f":"SUMIF('Formet 8'!G$12:G$247,'Format 1A'!D25,'Formet 8'!BX$12:BX$247)","v":0},null,0,null,null,0,0,{"$f":"SUMIF('Formet 8'!G$12:G$247,'Format 1A'!D25,'Formet 8'!CB$12:CB$247)","v":0},{"$f":"SUMIF('Formet 8'!G$12:G$585,'Format 1A'!D25,'Formet 8'!BX$12:BX$585)","v":0},0,{"$f":"IF(F25>0,MAX($W$9:W24)+1,0)","v":0}]
[0,"2202 lkekU; f'k{kk",{"$f":"'Format 1B'!C25","v":"NON PLAN - BOYS"},"LAB ASST","L-9",{"$f":"COUNTIF(Master!$E$61:$E$286,'Format 1A'!D26)","v":0},"-","-",0,0,{"$f":"COUNTIF(Master!$A$61:$A$286,'Format 1A'!D26)","v":0},0,{"$f":"SUMIF('Formet 8'!G$12:G$247,'Format 1A'!D26,'Formet 8'!BX$12:BX$247)","v":0},null,0,null,null,0,0,{"$f":"SUMIF('Formet 8'!G$12:G$247,'Format 1A'!D26,'Formet 8'!CB$12:CB$247)","v":0},{"$f":"SUMIF('Formet 8'!G$12:G$585,'Format 1A'!D26,'Formet 8'!BX$12:BX$585)","v":0},0,{"$f":"IF(F26>0,MAX($W$9:W25)+1,0)","v":0}]
[0,"2202 lkekU; f'k{kk",{"$f":"'Format 1B'!C26","v":"NON PLAN - BOYS"},"CLERK GRADE II","L-5",{"$f":"COUNTIF(Master!$E$61:$E$286,'Format 1A'!D27)","v":0},"-","-",0,0,{"$f":"COUNTIF(Master!$A$61:$A$286,'Format 1A'!D27)","v":0},0,{"$f":"SUMIF('Formet 8'!G$12:G$247,'Format 1A'!D27,'Formet 8'!BX$12:BX$247)","v":0},null,0,null,null,0,0,{"$f":"SUMIF('Formet 8'!G$12:G$247,'Format 1A'!D27,'Formet 8'!CB$12:CB$247)","v":0},{"$f":"SUMIF('Formet 8'!G$12:G$585,'Format 1A'!D27,'Formet 8'!BX$12:BX$585)","v":0},0,{"$f":"IF(F27>0,MAX($W$9:W26)+1,0)","v":0}]
[0,"2202 lkekU; f'k{kk",{"$f":"'Format 1B'!C27","v":"NON PLAN - BOYS"},"PRABODHAK","L-5",{"$f":"COUNTIF(Master!$E$61:$E$286,'Format 1A'!D28)","v":0},"-","-",0,0,{"$f":"COUNTIF(Master!$A$61:$A$286,'Format 1A'!D28)","v":0},0,{"$f":"SUMIF('Formet 8'!G$12:G$247,'Format 1A'!D28,'Formet 8'!BX$12:BX$247)","v":0},null,0,null,null,0,0,{"$f":"SUMIF('Formet 8'!G$12:G$247,'Format 1A'!D28,'Formet 8'!CB$12:CB$247)","v":0},{"$f":"SUMIF('Formet 8'!G$12:G$585,'Format 1A'!D28,'Formet 8'!BX$12:BX$585)","v":0},0,{"$f":"IF(F28>0,MAX($W$9:W27)+1,0)","v":0}]
[0,"2202 lkekU; f'k{kk",{"$f":"'Format 1B'!C28","v":"NON PLAN - BOYS"},"LAB BOY","L-1",{"$f":"COUNTIF(Master!$E$61:$E$286,'Format 1A'!D29)","v":0},"-","-",0,0,{"$f":"COUNTIF(Master!$A$61:$A$286,'Format 1A'!D29)","v":0},0,{"$f":"SUMIF('Formet 8'!G$12:G$247,'Format 1A'!D29,'Formet 8'!BX$12:BX$247)","v":0},null,0,null,null,0,0,{"$f":"SUMIF('Formet 8'!G$12:G$247,'Format 1A'!D29,'Formet 8'!CB$12:CB$247)","v":0},{"$f":"SUMIF('Formet 8'!G$12:G$585,'Format 1A'!D29,'Formet 8'!BX$12:BX$585)","v":0},0,{"$f":"IF(F29>0,MAX($W$9:W28)+1,0)","v":0}]
[0,"2202 lkekU; f'k{kk",{"$f":"'Format 1B'!C29","v":"NON PLAN - BOYS"},"JAMADAR","L-1",{"$f":"COUNTIF(Master!$E$61:$E$286,'Format 1A'!D30)","v":0},"-","-",0,0,{"$f":"COUNTIF(Master!$A$61:$A$286,'Format 1A'!D30)","v":0},0,{"$f":"SUMIF('Formet 8'!G$12:G$247,'Format 1A'!D30,'Formet 8'!BX$12:BX$247)","v":0},null,0,null,null,0,0,{"$f":"SUMIF('Formet 8'!G$12:G$247,'Format 1A'!D30,'Formet 8'!CB$12:CB$247)","v":0},{"$f":"SUMIF('Formet 8'!G$12:G$585,'Format 1A'!D30,'Formet 8'!BX$12:BX$585)","v":0},0,{"$f":"IF(F30>0,MAX($W$9:W29)+1,0)","v":0}]
[0,"2202 lkekU; f'k{kk",{"$f":"'Format 1B'!C30","v":"NON PLAN - BOYS"},"PEON","L-1",{"$f":"COUNTIF(Master!$E$61:$E$286,'Format 1A'!D31)","v":0},"-","-",0,0,{"$f":"COUNTIF(Master!$A$61:$A$286,'Format 1A'!D31)","v":0},0,{"$f":"SUMIF('Formet 8'!G$12:G$247,'Format 1A'!D31,'Formet 8'!BX$12:BX$247)","v":0},null,0,null,null,0,0,{"$f":"SUMIF('Formet 8'!G$12:G$247,'Format 1A'!D31,'Formet 8'!CB$12:CB$247)","v":0},{"$f":"SUMIF('Formet 8'!G$12:G$585,'Format 1A'!D31,'Formet 8'!BX$12:BX$585)","v":0},0,{"$f":"IF(F31>0,MAX($W$9:W30)+1,0)","v":0}]
[0,"2203 lkekU; f'k{kk",{"$f":"'Format 1B'!C31","v":"NON PLAN - BOYS"},"Sanvida Employee","-",{"$f":"COUNTIF(Master!$E$61:$E$286,'Format 1A'!D32)","v":0},0,0,{"$f":"F32","v":0},0,{"$f":"COUNTIF(Master!$A$61:$A$286,'Format 1A'!D32)","v":0},0,{"$f":"SUMIF('Formet 8'!G$12:G$247,'Format 1A'!D32,'Formet 8'!BX$12:BX$247)","v":0},null,0,null,null,0,{"$nulls":4},{"$f":"IF(F32>0,MAX($W$9:W31)+1,0)","v":0}]
[{"$nulls":3},"Total",null,{"$f":"SUM(F9:F32)","v":0},{"$f":"SUM(G9:G32)","v":0},{"$f":"SUM(H9:H32)","v":0},{"$f":"SUM(I9:I32)","v":0},{"$f":"SUM(J9:J32)","v":0},{"$f":"SUM(K9:K32)","v":0},0,{"$f":"SUM(M9:M32)","v":124},null,{"$f":"SUM(O9:O32)","v":0}]
[]
[{"$nulls":11},{"$f":"Master!E2","v":"ç/kkukpk;Z]"}]
[{"$nulls":11},{"$f":"Master!H2","v":"jkmekfo jk;eyok³k"}]

{"sheet":"A","index":12,"n_rows":22,"n_cols":10,"rows_kept":22,"merged":[[0,0,0,9],[0,10,22,10],[1,0,1,9],[2,0,2,2],[2,3,2,8],[3,0,3,9],[4,0,6,0],[4,1,6,1],[4,2,6,2],[4,3,6,3],[4,4,6,4],[4,5,6,5],[4,6,4,8],[4,9,6,9],[5,6,6,6],[5,7,6,7],[5,8,6,8],[8,1,17,1],[8,2,17,2],[18,1,18,4],[20,0,20,9],[21,0,22,5],[21,8,22,9]]}
["izi= & 1 ¼v½"]
["fu;fer@dk;Z&izHkkfjr Lohd`r inksa dk fooj.k"]
[{"$f":"Master!G5","v":"2202-02-109-(27)-(01) STATE FUND"},null,null,{"$f":"'Cover Page'!A1","v":"ç/kkukpk;Z] jkmekfo jk;eyok³k ¼vkWfQl vkbZ-Mh- la[;k %&12572½"},{"$nulls":5},{"$f":"Master!E3","v":12572}]
[{"$f":"Summary!A5","v":"BUDGET HEAD : 2202 -सामान्य शिक्षा-02-109 -राजकीय माध्यमिक विद्यालय-27 -लडकों के विद्यालय-01 -लडकों के विद्यालयों का संचालन व्यय   (STATE FUND)"}]
["Ø-l-","ys[kksa dk 'kh\"kZ nh?kZ 'kh\"kZ@ minh?kZ 'kh\"kZ@y/kq 'kh\"kZ@mi'kh\"kZ","jkT; fuf/k@dsUnzh; lgk;rk","in uke","is eSfVªDl ysoy","orZeku Lohd`r inksa dh \nla[;k ","fu;fer dk;Zjr deZpkjh",null,null,"fnukad 31-08-2025 dks fjDr inksa dh la[;k [6-9)]"]
[{"$nulls":6},"01-01-2004 ls iwoZ fu;qDr","01-01-2004 ds ckn fu;qDr",";ksx"]
[]
[1,2,3,4,5,6,7,8,9,10]
[1,{"$f":"VLOOKUP(Master!E5,Master!AI4:AN36,3,FALSE)","v":"2202 -सामान्य शिक्षा-02-109 -राजकीय माध्यमिक विद्यालय-27 -लडकों के विद्यालय-01 -लडकों के विद्यालयों का संचालन व्यय   (STATE FUND)"},"jkT; fuf/k@dsUnzh; lgk;rk",{"$f":"IF(MAX('Format 1A'!$A$9:$A$32)<$A9,\"\",VLOOKUP($A9,'Format 1A'!$A$9:$O$32,4,0))","v":""},{"$f":"IF($A9>=MAX('Format 1A'!$A$9:$A$32),\"\",VLOOKUP($A9,'Format 1A'!$A$9:$O$32,5,0))","v":""},{"$f":"IF(D9=\"\",\"\",VLOOKUP($A9,'Format 1A'!$A$9:$O$32,6,0))","v":""},{"$f":"IF(D9=\"\",\"\",VLOOKUP($A9,'Format 1A'!$A$9:$O$32,10,0))","v":""},{"$f":"IF(D9=\"\",\"\",VLOOKUP($A9,'Format 1A'!$A$9:$O$32,11,0))","v":""},{"$f":"IF(D9=\"\",\"\",SUM(G9:H9))","v":""},{"$f":"IF(D9=\"\",\"\",F9-I9)","v":""}]
[2,null,null,{"$f":"IF(MAX('Format 1A'!$A$9:$A$32)<$A10,\"\",VLOOKUP($A10,'Format 1A'!$A$9:$O$32,4,0))","v":""},{"$f":"IF(MAX('Format 1A'!$A$9:$A$32)<$A10,\"\",VLOOKUP($A10,'Format 1A'!$A$9:$O$32,5,0))","v":""},{"$f":"IF(D10=\"\",\"\",VLOOKUP($A10,'Format 1A'!$A$9:$O$32,6,0))","v":""},{"$f":"IF(D10=\"\",\"\",VLOOKUP($A10,'Format 1A'!$A$9:$O$32,10,0))","v":""},{"$f":"IF(D10=\"\",\"\",VLOOKUP($A10,'Format 1A'!$A$9:$O$32,11,0))","v":""},{"$f":"IF(D10=\"\",\"\",SUM(G10:H10))","v":""},{"$f":"IF(D10=\"\",\"\",F10-I10)","v":""}]
[3,null,null,{"$f":"IF(MAX('Format 1A'!$A$9:$A$32)<$A11,\"\",VLOOKUP($A11,'Format 1A'!$A$9:$O$32,4,0))","v":""},{"$f":"IF(MAX('Format 1A'!$A$9:$A$32)<$A11,\"\",VLOOKUP($A11,'Format 1A'!$A$9:$O$32,5,0))","v":""},{"$f":"IF(D11=\"\",\"\",VLOOKUP($A11,'Format 1A'!$A$9:$O$32,6,0))","v":""},{"$f":"IF(D11=\"\",\"\",VLOOKUP($A11,'Format 1A'!$A$9:$O$32,10,0))","v":""},{"$f":"IF(D11=\"\",\"\",VLOOKUP($A11,'Format 1A'!$A$9:$O$32,11,0))","v":""},"",""]
[4,null,null,{"$f":"IF(MAX('Format 1A'!$A$9:$A$32)<$A12,\"\",VLOOKUP($A12,'Format 1A'!$A$9:$O$32,4,0))","v":""},{"$f":"IF(MAX('Format 1A'!$A$9:$A$32)<$A12,\"\",VLOOKUP($A12,'Format 1A'!$A$9:$O$32,5,0))","v":""},{"$f":"IF(D12=\"\",\"\",VLOOKUP($A12,'Format 1A'!$A$9:$O$32,6,0))","v":""},{"$f":"IF(D12=\"\",\"\",VLOOKUP($A12,'Format 1A'!$A$9:$O$32,10,0))","v":""},{"$f":"IF(D12=\"\",\"\",VLOOKUP($A12,'Format 1A'!$A$9:$O$32,11,0))","v":""},"",""]
[5,null,null,{"$f":"IF(MAX('Format 1A'!$A$9:$A$32)<$A13,\"\",VLOOKUP($A13,'Format 1A'!$A$9:$O$32,4,0))","v":""},{"$f":"IF(MAX('Format 1A'!$A$9:$A$32)<$A13,\"\",VLOOKUP($A13,'Format 1A'!$A$9:$O$32,5,0))","v":""},{"$f":"IF(D13=\"\",\"\",VLOOKUP($A13,'Format 1A'!$A$9:$O$32,6,0))","v":""},{"$f":"IF(D13=\"\",\"\",VLOOKUP($A13,'Format 1A'!$A$9:$O$32,10,0))","v":""},{"$f":"IF(D13=\"\",\"\",VLOOKUP($A13,'Format 1A'!$A$9:$O$32,11,0))","v":""},"",""]
[6,null,null,{"$f":"IF(MAX('Format 1A'!$A$9:$A$32)<$A14,\"\",VLOOKUP($A14,'Format 1A'!$A$9:$O$32,4,0))","v":""},{"$f":"IF(MAX('Format 1A'!$A$9:$A$32)<$A14,\"\",VLOOKUP($A14,'Format 1A'!$A$9:$O$32,5,0))","v":""},{"$f":"IF(D14=\"\",\"\",VLOOKUP($A14,'Format 1A'!$A$9:$O$32,6,0))","v":""},{"$f":"IF(D14=\"\",\"\",VLOOKUP($A14,'Format 1A'!$A$9:$O$32,10,0))","v":""},{"$f":"IF(D14=\"\",\"\",VLOOKUP($A14,'Format 1A'!$A$9:$O$32,11,0))","v":""},"",""]
[7,null,null,{"$f":"IF(MAX('Format 1A'!$A$9:$A$32)<$A15,\"\",VLOOKUP($A15,'Format 1A'!$A$9:$O$32,4,0))","v":""},{"$f":"IF(MAX('Format 1A'!$A$9:$A$32)<$A15,\"\",VLOOKUP($A15,'Format 1A'!$A$9:$O$32,5,0))","v":""},{"$f":"IF(D15=\"\",\"\",VLOOKUP($A15,'Format 1A'!$A$9:$O$32,6,0))","v":""},{"$f":"IF(D15=\"\",\"\",VLOOKUP($A15,'Format 1A'!$A$9:$O$32,10,0))","v":""},{"$f":"IF(D15=\"\",\"\",VLOOKUP($A15,'Format 1A'!$A$9:$O$32,11,0))","v":""},"",""]
[8,null,null,{"$f":"IF(MAX('Format 1A'!$A$9:$A$32)<$A16,\"\",VLOOKUP($A16,'Format 1A'!$A$9:$O$32,4,0))","v":""},{"$f":"IF(MAX('Format 1A'!$A$9:$A$32)<$A16,\"\",VLOOKUP($A16,'Format 1A'!$A$9:$O$32,5,0))","v":""},{"$f":"IF(D16=\"\",\"\",VLOOKUP($A16,'Format 1A'!$A$9:$O$32,6,0))","v":""},{"$f":"IF(D16=\"\",\"\",VLOOKUP($A16,'Format 1A'!$A$9:$O$32,10,0))","v":""},{"$f":"IF(D16=\"\",\"\",VLOOKUP($A16,'Format 1A'!$A$9:$O$32,11,0))","v":""},"",""]
[9,null,null,{"$f":"IF(MAX('Format 1A'!$A$9:$A$32)<$A17,\"\",VLOOKUP($A17,'Format 1A'!$A$9:$O$32,4,0))","v":""},{"$f":"IF(MAX('Format 1A'!$A$9:$A$32)<$A17,\"\",VLOOKUP($A17,'Format 1A'!$A$9:$O$32,5,0))","v":""},{"$f":"IF(D17=\"\",\"\",VLOOKUP($A17,'Format 1A'!$A$9:$O$32,6,0))","v":""},{"$f":"IF(D17=\"\",\"\",VLOOKUP($A17,'Format 1A'!$A$9:$O$32,10,0))","v":""},{"$f":"IF(D17=\"\",\"\",VLOOKUP($A17,'Format 1A'!$A$9:$O$32,11,0))","v":""},"",""]
[10,null,null,{"$f":"IF(MAX('Format 1A'!$A$9:$A$32)<$A18,\"\",VLOOKUP($A18,'Format 1A'!$A$9:$O$32,4,0))","v":""},{"$f":"IF(MAX('Format 1A'!$A$9:$A$32)<$A18,\"\",VLOOKUP($A18,'Format 1A'!$A$9:$O$32,5,0))","v":""},{"$f":"IF(D18=\"\",\"\",VLOOKUP($A18,'Format 1A'!$A$9:$O$32,6,0))","v":""},{"$f":"IF(D18=\"\",\"\",VLOOKUP($A18,'Format 1A'!$A$9:$O$32,10,0))","v":""},{"$f":"IF(D18=\"\",\"\",VLOOKUP($A18,'Format 1A'!$A$9:$O$32,11,0))","v":""},"",""]
[null,";ksx",{"$nulls":3},{"$f":"SUM(F9:F18)","v":0},{"$f":"SUM(G9:G18)","v":0},0,0,0]
[]
["izekf.kr fd;k tkrk gS fd inksa ds lanHkZ esa mi;qZä lwpuk dh esjs }kjk O;fäxr :i ls tkap dj yh xbZ gS\n vkSj bls lgh ik;k x;k gSA"]
[{"$nulls":8},{"$f":"CONCATENATE(Master!E2,\"  \",Master!H2)","v":"ç/kkukpk;Z]  jkmekfo jk;eyok³k"}]

{"sheet":"Format 1B","index":13,"n_rows":36,"n_cols":18,"rows_kept":36,"merged":[[0,0,0,13],[0,14,0,17],[0,18,37,18],[1,0,1,17],[2,0,2,17],[3,0,3,17],[4,0,4,14],[4,15,4,17],[32,0,36,12],[32,13,32,17],[33,13,34,17],[35,13,37,17]]}
[{"$f":"'P 4(A)'!E4","v":"vk; dk foLr`r ctV vuqeku foÙkh; o\"kZ  ¼ 1 vizSy ls 31 ekpZ rd ½ dk"},{"$nulls":13},{"$f":"Summary!$C$1","v":{"v":12572,"d":"OFFICE ID 12572"}}]
[{"$f":"Summary!A2","v":"ç/kkukpk;Z] jkmekfo jk;eyok³k ¼vkWfQl vkbZ-Mh- la[;k %&12572½"}]
["izi= & 1"]
["¼c½ Lohd`r fjDr inksa ds fo:) foHkkx esa dk;Zjr vU; dkfeZdksa dk fooj.k"]
[{"$f":"Summary!A5","v":"BUDGET HEAD : 2202 -सामान्य शिक्षा-02-109 -राजकीय माध्यमिक विद्यालय-27 -लडकों के विद्यालय-01 -लडकों के विद्यालयों का संचालन व्यय   (STATE FUND)"},{"$nulls":14},"foHkkx dk uke %& f'k{kk foHkkx"]
["Ø-la-","ys[ks dk 'kh\"kZ nh?kZ 'kh\"kZ@ minh?kZ 'kh\"kZ @ y?kq 'kh\"kZ @ mi'kh\"kZ","vk;kstuk fHkUu @vk;kstuk @ dsUnz izofrZr ;kstuk","in uke ","is eSfVªDl ysoy","fjDr inksa dh la[;k","rnFkZ vLFkkbZ fu;qfDr ¼la[;k½","vkSlr izfr O;fDr izfrekg O;; ¼:i;ksa esa½","iqufuZ;qfDr ¼la[;k½","vkSlr izfr O;fDr izfrekg O;; ¼:i;ksa esa½",",stsUlh ek/;e ls ¼la[;k½","vkSlr izfr O;fDr izfrekg O;; ¼:i;ksa esa½","lsokfuo`r dkfeZd izR;{k lafonk ¼la[;k½","vkSlr izfr O;fDr izfrekg O;; ¼:i;ksa esa½","dfeZd foHkkx ds ifji= ds vuqlkj ¼la[;k½","vkSlr izfr O;fDr izfrekg O;; ¼:i;ksa esa½","vU; ¼la[;k½","vkSlr izfr O;fDr izfrekg O;; ¼:i;ksa esa½"]
[1,2,3,4,5,6,7,8,9,10,11,12,13,14,15,16,17,18]
[{"$f":"'Format 1A'!A9","v":0},"2202 lkekU; f'k{kk",{"$f":"'[2]Data Entry'!C$5","v":"NON PLAN - BOYS"},{"$f":"'Format 1A'!D9","v":"PRINCIPAL"},{"$f":"'Format 1A'!E9","v":"L-16"},{"$f":"'Format 1A'!O9","v":0},"---","---","---","---","---","---",{"$f":"SUMIF('Formet 8'!G$12:G$351,'Format 1A'!D9,'Formet 8'!BZ$12:BZ$351)","v":0},{"$f":"SUMIF('Formet 8'!G$12:G$351,'Format 1A'!D9,'Formet 8'!CA$12:CA$351)","v":0},"---","---","---","---"]
[{"$f":"'Format 1A'!A10","v":0},"2202 lkekU; f'k{kk",{"$f":"'[2]Data Entry'!C$5","v":"NON PLAN - BOYS"},{"$f":"'Format 1A'!D10","v":"VICE PRINCIPAL"},{"$f":"'Format 1A'!E10","v":"L-14"},{"$f":"'Format 1A'!O10","v":0},"---","---","---","---","---","---",{"$f":"SUMIF('Formet 8'!G$12:G$351,'Format 1A'!D10,'Formet 8'!BZ$12:BZ$351)","v":0},{"$f":"SUMIF('Formet 8'!G$12:G$351,'Format 1A'!D10,'Formet 8'!CA$12:CA$351)","v":0},"---","---","---","---"]
[{"$f":"'Format 1A'!A11","v":0},"2202 lkekU; f'k{kk",{"$f":"'[2]Data Entry'!C$5","v":"NON PLAN - BOYS"},{"$f":"'Format 1A'!D11","v":"LECTURER"},{"$f":"'Format 1A'!E11","v":"L-12"},{"$f":"'Format 1A'!O11","v":0},"---","---","---","---","---","---",{"$f":"SUMIF('Formet 8'!G$12:G$351,'Format 1A'!D11,'Formet 8'!BZ$12:BZ$351)","v":0},{"$f":"SUMIF('Formet 8'!G$12:G$351,'Format 1A'!D11,'Formet 8'!CA$12:CA$351)","v":0},"---","---","---","---"]
[{"$f":"'Format 1A'!A12","v":0},"2202 lkekU; f'k{kk",{"$f":"'[2]Data Entry'!C$5","v":"NON PLAN - BOYS"},{"$f":"'Format 1A'!D12","v":"Add. Adm. Officer"},{"$f":"'Format 1A'!E12","v":"L-12"},{"$f":"'Format 1A'!O12","v":0},"---","---","---","---","---","---",{"$f":"SUMIF('Formet 8'!G$12:G$351,'Format 1A'!D12,'Formet 8'!BZ$12:BZ$351)","v":0},{"$f":"SUMIF('Formet 8'!G$12:G$351,'Format 1A'!D12,'Formet 8'!CA$12:CA$351)","v":0},"---","---","---","---"]
[{"$f":"'Format 1A'!A13","v":0},"2202 lkekU; f'k{kk",{"$f":"'[2]Data Entry'!C$5","v":"NON PLAN - BOYS"},{"$f":"'Format 1A'!D13","v":"PTI  I"},{"$f":"'Format 1A'!E13","v":"L-12"},{"$f":"'Format 1A'!O13","v":0},"---","---","---","---","---","---",{"$f":"SUMIF('Formet 8'!G$12:G$351,'Format 1A'!D13,'Formet 8'!BZ$12:BZ$351)","v":0},{"$f":"SUMIF('Formet 8'!G$12:G$351,'Format 1A'!D13,'Formet 8'!CA$12:CA$351)","v":0},"---","---","---","---"]
[{"$f":"'Format 1A'!A14","v":0},"2202 lkekU; f'k{kk",{"$f":"'[2]Data Entry'!C$5","v":"NON PLAN - BOYS"},{"$f":"'Format 1A'!D14","v":"AGRICULTURE TEACHER"},{"$f":"'Format 1A'!E14","v":"L-12"},{"$f":"'Format 1A'!O14","v":0},"---","---","---","---","---","---",{"$f":"SUMIF('Formet 8'!G$12:G$351,'Format 1A'!D14,'Formet 8'!BZ$12:BZ$351)","v":0},{"$f":"SUMIF('Formet 8'!G$12:G$351,'Format 1A'!D14,'Formet 8'!CA$12:CA$351)","v":0},"---","---","---","---"]
[{"$f":"'Format 1A'!A15","v":0},"2202 lkekU; f'k{kk",{"$f":"'[2]Data Entry'!C$5","v":"NON PLAN - BOYS"},{"$f":"'Format 1A'!D15","v":"Asst. Adm. Officer"},{"$f":"'Format 1A'!E15","v":"L-12"},{"$f":"'Format 1A'!O15","v":0},"---","---","---","---","---","---",{"$f":"SUMIF('Formet 8'!G$12:G$351,'Format 1A'!D15,'Formet 8'!BZ$12:BZ$351)","v":0},{"$f":"SUMIF('Formet 8'!G$12:G$351,'Format 1A'!D15,'Formet 8'!CA$12:CA$351)","v":0},"---","---","---","---"]
[{"$f":"'Format 1A'!A16","v":0},"2202 lkekU; f'k{kk",{"$f":"'[2]Data Entry'!C$5","v":"NON PLAN - BOYS"},{"$f":"'Format 1A'!D16","v":"LIBRARIAN I"},{"$f":"'Format 1A'!E16","v":"L-12"},{"$f":"'Format 1A'!O16","v":0},"---","---","---","---","---","---",{"$f":"SUMIF('Formet 8'!G$12:G$351,'Format 1A'!D16,'Formet 8'!BZ$12:BZ$351)","v":0},{"$f":"SUMIF('Formet 8'!G$12:G$351,'Format 1A'!D16,'Formet 8'!CA$12:CA$351)","v":0},"---","---","---","---"]
[{"$f":"'Format 1A'!A17","v":0},"2202 lkekU; f'k{kk",{"$f":"'[2]Data Entry'!C$5","v":"NON PLAN - BOYS"},{"$f":"'Format 1A'!D17","v":"BASIC COMPUTER INST."},{"$f":"'Format 1A'!E17","v":"L-8"},{"$f":"'Format 1A'!O17","v":0},"---","---","---","---","---","---",{"$f":"SUMIF('Formet 8'!G$12:G$351,'Format 1A'!D17,'Formet 8'!BZ$12:BZ$351)","v":0},{"$f":"SUMIF('Formet 8'!G$12:G$351,'Format 1A'!D17,'Formet 8'!CA$12:CA$351)","v":0},"---","---","---","---"]
[{"$f":"'Format 1A'!A18","v":0},"2202 lkekU; f'k{kk",{"$f":"'[2]Data Entry'!C$5","v":"NON PLAN - BOYS"},{"$f":"'Format 1A'!D18","v":"TEACHER-II"},{"$f":"'Format 1A'!E18","v":"L-11"},{"$f":"'Format 1A'!O18","v":0},"---","---","---","---","---","---",{"$f":"SUMIF('Formet 8'!G$12:G$351,'Format 1A'!D18,'Formet 8'!BZ$12:BZ$351)","v":0},{"$f":"SUMIF('Formet 8'!G$12:G$351,'Format 1A'!D18,'Formet 8'!CA$12:CA$351)","v":0},"---","---","---","---"]
[{"$f":"'Format 1A'!A19","v":0},"2202 lkekU; f'k{kk",{"$f":"'[2]Data Entry'!C$5","v":"NON PLAN - BOYS"},{"$f":"'Format 1A'!D19","v":"PTI II"},{"$f":"'Format 1A'!E19","v":"L-11"},{"$f":"'Format 1A'!O19","v":0},"---","---","---","---","---","---",{"$f":"SUMIF('Formet 8'!G$12:G$351,'Format 1A'!D19,'Formet 8'!BZ$12:BZ$351)","v":0},{"$f":"SUMIF('Formet 8'!G$12:G$351,'Format 1A'!D19,'Formet 8'!CA$12:CA$351)","v":0},"---","---","---","---"]
[{"$f":"'Format 1A'!A20","v":0},"2202 lkekU; f'k{kk",{"$f":"'[2]Data Entry'!C$5","v":"NON PLAN - BOYS"},{"$f":"'Format 1A'!D20","v":"LIBRARIAN II"},{"$f":"'Format 1A'!E20","v":"L-11"},{"$f":"'Format 1A'!O20","v":0},"---","---","---","---","---","---",{"$f":"SUMIF('Formet 8'!G$12:G$351,'Format 1A'!D20,'Formet 8'!BZ$12:BZ$351)","v":0},{"$f":"SUMIF('Formet 8'!G$12:G$351,'Format 1A'!D20,'Formet 8'!CA$12:CA$351)","v":0},"---","---","---","---"]
[{"$f":"'Format 1A'!A21","v":0},"2202 lkekU; f'k{kk",{"$f":"'[2]Data Entry'!C$5","v":"NON PLAN - BOYS"},{"$f":"'Format 1A'!D21","v":"SR. PRABODHAK"},{"$f":"'Format 1A'!E21","v":"L-9"},{"$f":"'Format 1A'!O21","v":0},"---","---","---","---","---","---",{"$f":"SUMIF('Formet 8'!G$12:G$351,'Format 1A'!D21,'Formet 8'!BZ$12:BZ$351)","v":0},{"$f":"SUMIF('Formet 8'!G$12:G$351,'Format 1A'!D21,'Formet 8'!CA$12:CA$351)","v":0},"---","---","---","---"]
[{"$f":"'Format 1A'!A22","v":0},"2202 lkekU; f'k{kk",{"$f":"'[2]Data Entry'!C$5","v":"NON PLAN - BOYS"},{"$f":"'Format 1A'!D22","v":"CLERK GRADE I"},{"$f":"'Format 1A'!E22","v":"L-9"},{"$f":"'Format 1A'!O22","v":0},"---","---","---","---","---","---",{"$f":"SUMIF('Formet 8'!G$12:G$351,'Format 1A'!D22,'Formet 8'!BZ$12:BZ$351)","v":0},{"$f":"SUMIF('Formet 8'!G$12:G$351,'Format 1A'!D22,'Formet 8'!CA$12:CA$351)","v":0},"---","---","---","---"]
[{"$f":"'Format 1A'!A23","v":0},"2202 lkekU; f'k{kk",{"$f":"'[2]Data Entry'!C$5","v":"NON PLAN - BOYS"},{"$f":"'Format 1A'!D23","v":"PTI  III"},{"$f":"'Format 1A'!E23","v":"L-10"},{"$f":"'Format 1A'!O23","v":0},"---","---","---","---","---","---",{"$f":"SUMIF('Formet 8'!G$12:G$351,'Format 1A'!D23,'Formet 8'!BZ$12:BZ$351)","v":0},{"$f":"SUMIF('Formet 8'!G$12:G$351,'Format 1A'!D23,'Formet 8'!CA$12:CA$351)","v":0},"---","---","---","---"]
[{"$f":"'Format 1A'!A24","v":0},"2202 lkekU; f'k{kk",{"$f":"'[2]Data Entry'!C$5","v":"NON PLAN - BOYS"},{"$f":"'Format 1A'!D24","v":"TEACHER-III"},{"$f":"'Format 1A'!E24","v":"L-10"},{"$f":"'Format 1A'!O24","v":0},"---","---","---","---","---","---",{"$f":"SUMIF('Formet 8'!G$12:G$351,'Format 1A'!D24,'Formet 8'!BZ$12:BZ$351)","v":0},{"$f":"SUMIF('Formet 8'!G$12:G$351,'Format 1A'!D24,'Formet 8'!CA$12:CA$351)","v":0},"---","---","---","---"]
[{"$f":"'Format 1A'!A25","v":0},"2202 lkekU; f'k{kk",{"$f":"'[2]Data Entry'!C$5","v":"NON PLAN - BOYS"},{"$f":"'Format 1A'!D25","v":"LIBRARIAN III"},{"$f":"'Format 1A'!E25","v":"L-10"},{"$f":"'Format 1A'!O25","v":0},"---","---","---","---","---","---",{"$f":"SUMIF('Formet 8'!G$12:G$351,'Format 1A'!D25,'Formet 8'!BZ$12:BZ$351)","v":0},{"$f":"SUMIF('Formet 8'!G$12:G$351,'Format 1A'!D25,'Formet 8'!CA$12:CA$351)","v":0},"---","---","---","---"]
[{"$f":"'Format 1A'!A26","v":0},"2202 lkekU; f'k{kk",{"$f":"'[2]Data Entry'!C$5","v":"NON PLAN - BOYS"},{"$f":"'Format 1A'!D26","v":"LAB ASST"},{"$f":"'Format 1A'!E26","v":"L-9"},{"$f":"'Format 1A'!O26","v":0},"---","---","---","---","---","---",{"$f":"SUMIF('Formet 8'!G$12:G$351,'Format 1A'!D26,'Formet 8'!BZ$12:BZ$351)","v":0},{"$f":"SUMIF('Formet 8'!G$12:G$351,'Format 1A'!D26,'Formet 8'!CA$12:CA$351)","v":0},"---","---","---","---"]
[{"$f":"'Format 1A'!A27","v":0},"2202 lkekU; f'k{kk",{"$f":"'[2]Data Entry'!C$5","v":"NON PLAN - BOYS"},{"$f":"'Format 1A'!D27","v":"CLERK GRADE II"},{"$f":"'Format 1A'!E27","v":"L-5"},{"$f":"'Format 1A'!O27","v":0},"---","---","---","---","---","---",{"$f":"SUMIF('Formet 8'!G$12:G$351,'Format 1A'!D27,'Formet 8'!BZ$12:BZ$351)","v":0},{"$f":"SUMIF('Formet 8'!G$12:G$351,'Format 1A'!D27,'Formet 8'!CA$12:CA$351)","v":0},"---","---","---","---"]
[{"$f":"'Format 1A'!A28","v":0},"2202 lkekU; f'k{kk",{"$f":"'[2]Data Entry'!C$5","v":"NON PLAN - BOYS"},{"$f":"'Format 1A'!D28","v":"PRABODHAK"},{"$f":"'Format 1A'!E28","v":"L-5"},{"$f":"'Format 1A'!O28","v":0},"---","---","---","---","---","---",{"$f":"SUMIF('Formet 8'!G$12:G$351,'Format 1A'!D28,'Formet 8'!BZ$12:BZ$351)","v":0},{"$f":"SUMIF('Formet 8'!G$12:G$351,'Format 1A'!D28,'Formet 8'!CA$12:CA$351)","v":0},"---","---","---","---"]
[{"$f":"'Format 1A'!A29","v":0},"2202 lkekU; f'k{kk",{"$f":"'[2]Data Entry'!C$5","v":"NON PLAN - BOYS"},{"$f":"'Format 1A'!D29","v":"LAB BOY"},{"$f":"'Format 1A'!E29","v":"L-1"},{"$f":"'Format 1A'!O29","v":0},"---","---","---","---","---","---",{"$f":"SUMIF('Formet 8'!G$12:G$351,'Format 1A'!D29,'Formet 8'!BZ$12:BZ$351)","v":0},{"$f":"SUMIF('Formet 8'!G$12:G$351,'Format 1A'!D29,'Formet 8'!CA$12:CA$351)","v":0},"---","---","---","---"]
[{"$f":"'Format 1A'!A30","v":0},"2202 lkekU; f'k{kk",{"$f":"'[2]Data Entry'!C$5","v":"NON PLAN - BOYS"},{"$f":"'Format 1A'!D30","v":"JAMADAR"},{"$f":"'Format 1A'!E30","v":"L-1"},{"$f":"'Format 1A'!O30","v":0},"---","---","---","---","---","---",{"$f":"SUMIF('Formet 8'!G$12:G$351,'Format 1A'!D30,'Formet 8'!BZ$12:BZ$351)","v":0},{"$f":"SUMIF('Formet 8'!G$12:G$351,'Format 1A'!D30,'Formet 8'!CA$12:CA$351)","v":0},"---","---","---","---"]
[{"$f":"'Format 1A'!A31","v":0},"2202 lkekU; f'k{kk",{"$f":"'[2]Data Entry'!C$5","v":"NON PLAN - BOYS"},{"$f":"'Format 1A'!D31","v":"PEON"},{"$f":"'Format 1A'!E31","v":"L-1"},{"$f":"'Format 1A'!O31","v":0},"---","---","---","---","---","---",{"$f":"SUMIF('Formet 8'!G$12:G$351,'Format 1A'!D31,'Formet 8'!BZ$12:BZ$351)","v":0},{"$f":"SUMIF('Formet 8'!G$12:G$351,'Format 1A'!D31,'Formet 8'!CA$12:CA$351)","v":0},"---","---","---","---"]
[{"$f":"'Format 1A'!A32","v":0},"2203 lkekU; f'k{kk",{"$f":"'[2]Data Entry'!C$5","v":"NON PLAN - BOYS"},{"$f":"'Format 1A'!D32","v":"Sanvida Employee"},{"$f":"'Format 1A'!E32","v":"-"},{"$f":"'Format 1A'!O32","v":0}]
[{"$nulls":3},"Total",null,{"$f":"SUM(F8:F30)","v":0},"---","---","---","---","---","---",{"$f":"SUM(M8:M30)","v":0},{"$f":"SUM(N8:N30)","v":0},"---","---","---","---"]
[]
[{"$nulls":13},{"$f":"Master!E2","v":"ç/kkukpk;Z]"}]
[]
[{"$nulls":13},{"$f":"Master!H2","v":"jkmekfo jk;eyok³k"}]

{"sheet":"Format 1C","index":14,"n_rows":33,"n_cols":11,"rows_kept":33,"merged":[[0,0,0,4],[0,5,0,6],[0,7,33,7],[1,0,1,6],[2,0,2,6],[3,0,3,4],[3,5,3,6],[4,3,4,4],[5,3,5,4],[6,1,28,1],[32,4,32,6]]}
[{"$f":"'Format 1B'!A1","v":"vk; dk foLr`r ctV vuqeku foÙkh; o\"kZ  ¼ 1 vizSy ls 31 ekpZ rd ½ dk"},{"$nulls":4},{"$f":"Summary!$C$1","v":{"v":12572,"d":"OFFICE ID : 12572"}}]
[{"$f":"Summary!A2","v":"ç/kkukpk;Z] jkmekfo jk;eyok³k ¼vkWfQl vkbZ-Mh- la[;k %&12572½"}]
["¼l½ foHkkx esa dk;Zjr vU; dkfeZdksa dk fooj.k ¼Lohd`r inksa ds vfrfjDr½"]
[{"$f":"Summary!A5","v":"BUDGET HEAD : 2202 -सामान्य शिक्षा-02-109 -राजकीय माध्यमिक विद्यालय-27 -लडकों के विद्यालय-01 -लडकों के विद्यालयों का संचालन व्यय   (STATE FUND)"},{"$nulls":4},"foHkkx dk uke %& f'k{kk foHkkx"]
["Ø-la-","ys[ks dk 'kh\"kZ & eq[; 'kh\"kZ @ mi&eq[; 'kh\"kZ @ y?kq 'kh\"kZ @ mi&'ksh\"kZ @ xqzi 'kh\"kZ","vk;kstuk fHkUu @ vk;kstuk @ dsUnz izofrZr ;kstuk","vk;kstuk fHkUu @ vk;kstuk @ dsUnz izofrZr ;kstuk",null,"la[;k","okf\"kZd fofÙk; Hkkj ¼:i;s lgL= esa½"]
[1,2,null,3,null,5,6]
[{"$f":"'Format 1A'!A9","v":0},{"$f":"A4","v":"BUDGET HEAD : 2202 -सामान्य शिक्षा-02-109 -राजकीय माध्यमिक विद्यालय-27 -लडकों के विद्यालय-01 -लडकों के विद्यालयों का संचालन व्यय   (STATE FUND)"},{"$f":"'Format 1A'!C9","v":"NON PLAN - BOYS"},{"$f":"'Format 1A'!D9","v":"PRINCIPAL"},{"$f":"'Format 1A'!E9","v":"L-16"},{"$f":"'Format 1A'!F9","v":0},0,{"$nulls":3},{"$f":"'Format 1A'!F9","v":0}]
[{"$f":"'Format 1A'!A10","v":0},null,{"$f":"'Format 1A'!C10","v":"NON PLAN - BOYS"},{"$f":"'Format 1A'!D10","v":"VICE PRINCIPAL"},{"$f":"'Format 1A'!E10","v":"L-14"},{"$f":"'Format 1A'!F10","v":0},0,{"$nulls":3},{"$f":"'Format 1A'!F10","v":0}]
[{"$f":"'Format 1A'!A11","v":0},null,{"$f":"'Format 1A'!C11","v":"NON PLAN - BOYS"},{"$f":"'Format 1A'!D11","v":"LECTURER"},{"$f":"'Format 1A'!E11","v":"L-12"},{"$f":"'Format 1A'!F11","v":0},0,{"$nulls":3},{"$f":"'Format 1A'!F11","v":0}]
[{"$f":"'Format 1A'!A12","v":0},null,{"$f":"'Format 1A'!C12","v":"NON PLAN - BOYS"},{"$f":"'Format 1A'!D12","v":"Add. Adm. Officer"},{"$f":"'Format 1A'!E12","v":"L-12"},{"$f":"'Format 1A'!F12","v":0},0,{"$nulls":3},{"$f":"'Format 1A'!F12","v":0}]
[{"$f":"'Format 1A'!A13","v":0},null,{"$f":"'Format 1A'!C13","v":"NON PLAN - BOYS"},{"$f":"'Format 1A'!D13","v":"PTI  I"},{"$f":"'Format 1A'!E13","v":"L-12"},{"$f":"'Format 1A'!F13","v":0},0,{"$nulls":3},{"$f":"'Format 1A'!F13","v":0}]
[{"$f":"'Format 1A'!A14","v":0},null,{"$f":"'Format 1A'!C14","v":"NON PLAN - BOYS"},{"$f":"'Format 1A'!D14","v":"AGRICULTURE TEACHER"},{"$f":"'Format 1A'!E14","v":"L-12"},{"$f":"'Format 1A'!F14","v":0},0,{"$nulls":3},{"$f":"'Format 1A'!F14","v":0}]
[{"$f":"'Format 1A'!A15","v":0},null,{"$f":"'Format 1A'!C15","v":"NON PLAN - BOYS"},{"$f":"'Format 1A'!D15","v":"Asst. Adm. Officer"},{"$f":"'Format 1A'!E15","v":"L-12"},{"$f":"'Format 1A'!F15","v":0},0,{"$nulls":3},{"$f":"'Format 1A'!F15","v":0}]
[{"$f":"'Format 1A'!A16","v":0},null,{"$f":"'Format 1A'!C16","v":"NON PLAN - BOYS"},{"$f":"'Format 1A'!D16","v":"LIBRARIAN I"},{"$f":"'Format 1A'!E16","v":"L-12"},{"$f":"'Format 1A'!F16","v":0},0,{"$nulls":3},{"$f":"'Format 1A'!F16","v":0}]
[{"$f":"'Format 1A'!A17","v":0},null,{"$f":"'Format 1A'!C17","v":"NON PLAN - BOYS"},{"$f":"'Format 1A'!D17","v":"BASIC COMPUTER INST."},{"$f":"'Format 1A'!E17","v":"L-8"},{"$f":"'Format 1A'!F17","v":0},0,{"$nulls":3},{"$f":"'Format 1A'!F17","v":0}]
[{"$f":"'Format 1A'!A18","v":0},null,{"$f":"'Format 1A'!C18","v":"NON PLAN - BOYS"},{"$f":"'Format 1A'!D18","v":"TEACHER-II"},{"$f":"'Format 1A'!E18","v":"L-11"},{"$f":"'Format 1A'!F18","v":0},0,{"$nulls":3},{"$f":"'Format 1A'!F18","v":0}]
[{"$f":"'Format 1A'!A19","v":0},null,{"$f":"'Format 1A'!C19","v":"NON PLAN - BOYS"},{"$f":"'Format 1A'!D19","v":"PTI II"},{"$f":"'Format 1A'!E19","v":"L-11"},{"$f":"'Format 1A'!F19","v":0},0,{"$nulls":3},{"$f":"'Format 1A'!F19","v":0}]
[{"$f":"'Format 1A'!A20","v":0},null,{"$f":"'Format 1A'!C20","v":"NON PLAN - BOYS"},{"$f":"'Format 1A'!D20","v":"LIBRARIAN II"},{"$f":"'Format 1A'!E20","v":"L-11"},{"$f":"'Format 1A'!F20","v":0},0,{"$nulls":3},{"$f":"'Format 1A'!F20","v":0}]
[{"$f":"'Format 1A'!A21","v":0},null,{"$f":"'Format 1A'!C21","v":"NON PLAN - BOYS"},{"$f":"'Format 1A'!D21","v":"SR. PRABODHAK"},{"$f":"'Format 1A'!E21","v":"L-9"},{"$f":"'Format 1A'!F21","v":0},0,{"$nulls":3},{"$f":"'Format 1A'!F21","v":0}]
[{"$f":"'Format 1A'!A22","v":0},null,{"$f":"'Format 1A'!C22","v":"NON PLAN - BOYS"},{"$f":"'Format 1A'!D22","v":"CLERK GRADE I"},{"$f":"'Format 1A'!E22","v":"L-9"},{"$f":"'Format 1A'!F22","v":0},0,{"$nulls":3},{"$f":"'Format 1A'!F22","v":0}]
[{"$f":"'Format 1A'!A23","v":0},null,{"$f":"'Format 1A'!C23","v":"NON PLAN - BOYS"},{"$f":"'Format 1A'!D23","v":"PTI  III"},{"$f":"'Format 1A'!E23","v":"L-10"},{"$f":"'Format 1A'!F23","v":0},0,{"$nulls":3},{"$f":"'Format 1A'!F23","v":0}]
[{"$f":"'Format 1A'!A24","v":0},null,{"$f":"'Format 1A'!C24","v":"NON PLAN - BOYS"},{"$f":"'Format 1A'!D24","v":"TEACHER-III"},{"$f":"'Format 1A'!E24","v":"L-10"},{"$f":"'Format 1A'!F24","v":0},0,{"$nulls":3},{"$f":"'Format 1A'!F24","v":0}]
[{"$f":"'Format 1A'!A25","v":0},null,{"$f":"'Format 1A'!C25","v":"NON PLAN - BOYS"},{"$f":"'Format 1A'!D25","v":"LIBRARIAN III"},{"$f":"'Format 1A'!E25","v":"L-10"},{"$f":"'Format 1A'!F25","v":0},0,{"$nulls":3},{"$f":"'Format 1A'!F25","v":0}]
[{"$f":"'Format 1A'!A26","v":0},null,{"$f":"'Format 1A'!C26","v":"NON PLAN - BOYS"},{"$f":"'Format 1A'!D26","v":"LAB ASST"},{"$f":"'Format 1A'!E26","v":"L-9"},{"$f":"'Format 1A'!F26","v":0},0,{"$nulls":3},{"$f":"'Format 1A'!F26","v":0}]
[{"$f":"'Format 1A'!A27","v":0},null,{"$f":"'Format 1A'!C27","v":"NON PLAN - BOYS"},{"$f":"'Format 1A'!D27","v":"CLERK GRADE II"},{"$f":"'Format 1A'!E27","v":"L-5"},{"$f":"'Format 1A'!F27","v":0},0,{"$nulls":3},{"$f":"'Format 1A'!F27","v":0}]
[{"$f":"'Format 1A'!A28","v":0},null,{"$f":"'Format 1A'!C28","v":"NON PLAN - BOYS"},{"$f":"'Format 1A'!D28","v":"PRABODHAK"},{"$f":"'Format 1A'!E28","v":"L-5"},{"$f":"'Format 1A'!F28","v":0},0,{"$nulls":3},{"$f":"'Format 1A'!F28","v":0}]
[{"$f":"'Format 1A'!A29","v":0},null,{"$f":"'Format 1A'!C29","v":"NON PLAN - BOYS"},{"$f":"'Format 1A'!D29","v":"LAB BOY"},{"$f":"'Format 1A'!E29","v":"L-1"},{"$f":"'Format 1A'!F29","v":0},0,{"$nulls":3},{"$f":"'Format 1A'!F29","v":0}]
[{"$f":"'Format 1A'!A30","v":0},null,{"$f":"'Format 1A'!C30","v":"NON PLAN - BOYS"},{"$f":"'Format 1A'!D30","v":"JAMADAR"},{"$f":"'Format 1A'!E30","v":"L-1"},{"$f":"'Format 1A'!F30","v":0},0,{"$nulls":3},{"$f":"'Format 1A'!F30","v":0}]
[{"$f":"'Format 1A'!A31","v":0},null,{"$f":"'Format 1A'!C31","v":"NON PLAN - BOYS"},{"$f":"'Format 1A'!D31","v":"PEON"},{"$f":"'Format 1A'!E31","v":"L-1"},{"$f":"'Format 1A'!F31","v":0},0,{"$nulls":3},{"$f":"'Format 1A'!F31","v":0}]
[{"$f":"'Format 1A'!A32","v":0},null,{"$f":"'Format 1A'!C32","v":"NON PLAN - BOYS"},{"$f":"'Format 1A'!D32","v":"Sanvida Employee"},{"$f":"'Format 1A'!E32","v":"-"},{"$f":"'Format 1A'!F32","v":0},{"$f":"SUM(G7:G29)","v":0},{"$nulls":3},{"$f":"'Format 1A'!F33","v":0}]
[{"$nulls":3},"Total",null,{"$f":"SUM(F7:F30)","v":0},{"$f":"SUM(G7:G30)","v":0}]
[{"$nulls":5},{"$f":"Master!E2","v":"ç/kkukpk;Z]"}]
[{"$nulls":4},{"$f":"Master!H2","v":"jkmekfo jk;eyok³k"}]

{"sheet":"GA2","index":15,"n_rows":23,"n_cols":14,"rows_kept":23,"merged":[[0,0,0,9],[0,10,0,11],[0,12,0,13],[0,14,22,14],[1,0,1,9],[1,10,1,11],[1,12,1,13],[2,0,2,13],[3,0,3,2],[3,3,3,13],[4,0,4,2],[4,3,4,4],[4,5,4,13],[5,0,6,0],[5,1,6,1],[5,2,5,4],[5,6,5,8],[5,9,6,9],[5,10,6,10],[5,11,5,13],[20,0,22,8],[20,10,20,13],[21,9,21,13],[22,9,22,13]]}
["             jktLFkku ljdkj",{"$nulls":9},"izi= 9 ¼th-,-­2½"]
["             ¼ vuqHkkxkf/kdkfj;kas }kjk vius foHkkxk/;{kks dks izsf\"kr djus gsrq½",{"$nulls":9},"ctV esU;wvy"]
["forh; o\"kZ 2024&25 ds fy, fuf'pr O;;ksa¼ vf/kdkfj;ksa ,ao deZpkfj;ksa ds laosru½  dk foLr`r vk;­O;;d vuqeku ¼ vizsy ls ekpZ rd½"]
["eq[; 'kh\"kZd",null,null,{"$f":"Summary!A5","v":"BUDGET HEAD : 2202 -सामान्य शिक्षा-02-109 -राजकीय माध्यमिक विद्यालय-27 -लडकों के विद्यालय-01 -लडकों के विद्यालयों का संचालन व्यय   (STATE FUND)"}]
["y/kq 'kh\"kZd",null,null,"dk;kZy; dk uke %",null,{"$f":"'Cover Page'!A1","v":"ç/kkukpk;Z] jkmekfo jk;eyok³k ¼vkWfQl vkbZ-Mh- la[;k %&12572½"}]
["S.No.","Account Head","Actuals okLrfod vkadMs",null,null,"Budget Estimate for ","Actuals okLrfod O;; vkadMs",null,null,"Revised Estimates for 2025­26","Budget Estimate for 2026­27","Increment¼ $½or decrese¼­½between columns"]
[null,null,{"$f":"Master!F8","v":"2022-23"},{"$f":"Master!G8","v":"2023-24"},{"$f":"Master!H8","v":"2024-25"},{"$f":"Master!K8","v":"2025-26"},"vxLr ls ekpZ rd ¼xr o\"kZ½","vizSy ls tqykbZ rd ¼pkyw o\"kZ½","Total of columns 7 & 8",null,null,"6 and 10","9 and 10","10 and 11"]
[1,2,3,4,5,6,7,8,9,10,11,12,13,14]
[1,"Salary-01",{"$f":"'Formet 9'!D11","v":0},{"$f":"'Formet 9'!E11","v":0},{"$f":"'Formet 9'!F11","v":0},{"$f":"'Formet 9'!G11","v":0},{"$f":"'Formet 9'!H11","v":0},{"$f":"'Formet 9'!I11","v":0},{"$f":"G9+H9","v":0},{"$f":"'Formet 9'!L11","v":348540},{"$f":"'Formet 9'!M11","v":405600},{"$f":"F9-J9","v":-348540},{"$f":"I9-J9","v":-348540},-57060]
[2,"T.E.-03",{"$f":"'Formet 9'!D12","v":0},{"$f":"'Formet 9'!E12","v":0},{"$f":"'Formet 9'!F12","v":0},{"$f":"'Formet 9'!G12","v":0},{"$f":"'Formet 9'!H12","v":0},{"$f":"'Formet 9'!I12","v":0},{"$f":"G10+H10","v":0},{"$f":"'Formet 9'!L12","v":0},{"$f":"'Formet 9'!M12","v":0},{"$f":"F10-J10","v":0},0,0]
[3,"Medical-04",{"$f":"'Formet 9'!D13","v":0},{"$f":"'Formet 9'!E13","v":0},{"$f":"'Formet 9'!F13","v":0},{"$f":"'Formet 9'!G13","v":0},{"$f":"'Formet 9'!H13","v":0},{"$f":"'Formet 9'!I13","v":0},0,{"$f":"F11","v":0},{"$f":"J11","v":0},{"$f":"F11-J11","v":0},0,0]
[4,"O.E.-05",{"$f":"'Formet 9'!D15","v":0},{"$f":"'Formet 9'!E15","v":0},{"$f":"'Formet 9'!F15","v":0},{"$f":"'Formet 9'!G15","v":0},{"$f":"'Formet 9'!H15","v":0},{"$f":"'Formet 9'!I15","v":0},0,{"$f":"'Formet 9'!L15","v":0},{"$f":"'Formet 9'!M15","v":0},{"$f":"'Formet 9'!N15","v":0},{"$f":"'Formet 9'!O15","v":0},{"$f":"'Formet 9'!P15","v":0}]
[5,"Rent - 09",0,0,0,0,0,0,0,0,0,0,0,0]
[6,"Misc.-28",{"$f":"'Formet 9'!D25","v":0},{"$f":"'Formet 9'!E25","v":0},{"$f":"'Formet 9'!F25","v":0},{"$f":"'Formet 9'!G25","v":0},{"$f":"'Formet 9'!H25","v":0},{"$f":"'Formet 9'!I25","v":0},0,{"$f":"'Formet 9'!L25","v":0},{"$f":"'Formet 9'!M25","v":0},{"$f":"'Formet 9'!N25","v":0},{"$f":"'Formet 9'!O25","v":0},{"$f":"'Formet 9'!P25","v":0}]
[7,"Library-31",{"$f":"'Formet 9'!D26","v":0},{"$f":"'Formet 9'!E26","v":0},{"$f":"'Formet 9'!F26","v":0},{"$f":"'Formet 9'!G26","v":0},{"$f":"'Formet 9'!H26","v":0},{"$f":"'Formet 9'!I26","v":0},{"$f":"G15+H15","v":0},{"$f":"'Formet 9'!L26","v":0},{"$f":"'Formet 9'!M26","v":0},{"$f":"'Formet 9'!N26","v":0},{"$f":"'Formet 9'!O26","v":0},{"$f":"'Formet 9'!P26","v":0}]
[8,"Lab-33",{"$f":"'Formet 9'!D27","v":0},{"$f":"'Formet 9'!E27","v":0},{"$f":"'Formet 9'!F27","v":0},{"$f":"'Formet 9'!G27","v":0},{"$f":"'Formet 9'!H27","v":0},{"$f":"'Formet 9'!I27","v":0},0,{"$f":"'Formet 9'!L27","v":0},{"$f":"'Formet 9'!M27","v":0},{"$f":"'Formet 9'!N27","v":0},{"$f":"'Formet 9'!O27","v":0},{"$f":"'Formet 9'!P27","v":0}]
[9,"Spl.Ser-57",{"$f":"'Formet 9'!D28","v":0},{"$f":"'Formet 9'!E28","v":0},{"$f":"'Formet 9'!F28","v":0},{"$f":"'Formet 9'!G28","v":0},{"$f":"'Formet 9'!H28","v":0},{"$f":"'Formet 9'!I28","v":0},0,{"$f":"'Formet 9'!L28","v":0},{"$f":"'Formet 9'!M28","v":0},{"$f":"'Formet 9'!N28","v":0},{"$f":"'Formet 9'!O28","v":0},{"$f":"'Formet 9'!P28","v":0}]
[10,"Liveries-37",{"$f":"'Formet 9'!D29","v":0},{"$f":"'Formet 9'!E29","v":0},{"$f":"'Formet 9'!F29","v":0},{"$f":"'Formet 9'!G29","v":0},{"$f":"'Formet 9'!H29","v":0},{"$f":"'Formet 9'!I29","v":0},0,{"$f":"'Formet 9'!L29","v":0},{"$f":"'Formet 9'!M29","v":0},{"$f":"'Formet 9'!N29","v":0},{"$f":"'Formet 9'!O29","v":0},{"$f":"'Formet 9'!P29","v":0}]
[11,"Contractual FVC (MGGS)-41",{"$f":"'Formet 9'!D30","v":0},{"$f":"'Formet 9'!E30","v":0},{"$f":"'Formet 9'!F30","v":0},{"$f":"'Formet 9'!G30","v":0},{"$f":"'Formet 9'!H30","v":0},{"$f":"'Formet 9'!I30","v":0},0,{"$f":"'Formet 9'!L30","v":0},{"$f":"'Formet 9'!M30","v":0},{"$f":"'Formet 9'!N30","v":0},{"$f":"'Formet 9'!O30","v":0},{"$f":"'Formet 9'!P30","v":0}]
[null,"Total",{"$f":"SUM(C9:C19)","v":0},{"$f":"SUM(D9:D19)","v":0},0,0,0,0,0,348540,405600,-348540,-348540,-57060]
[]
[{"$nulls":9},{"$f":"Master!E2","v":"ç/kkukpk;Z]"}]
[{"$nulls":9},{"$f":"Master!H2","v":"jkmekfo jk;eyok³k"}]

{"sheet":"GA3","index":16,"n_rows":18,"n_cols":14,"rows_kept":18,"merged":[[0,0,0,8],[0,9,0,11],[0,12,0,13],[0,14,18,14],[1,0,1,8],[1,9,1,11],[1,12,1,13],[2,0,2,13],[3,0,3,2],[3,3,3,13],[4,0,4,2],[4,3,4,4],[4,5,4,13],[5,0,6,0],[5,1,6,1],[5,2,5,4],[5,5,6,5],[5,6,5,8],[5,9,6,9],[5,10,6,10],[5,11,5,13],[15,0,18,9],[15,10,15,13],[16,10,16,13],[17,10,18,13]]}
["             jktLFkku ljdkj",{"$nulls":8},"izi= 9 ¼th-,-­3½"]
["             ¼ vuqHkkxkf/kdkfj;kas }kjk vius foHkkxk/;{kks dks izsf\"kr djus gsrq½",{"$nulls":8},"ctV esU;wvy"]
["foÙkh; o\"kZ 2024&25 ds fy, fuf'pr O;;ksa dk foLr`r vk;­O;;d vuqeku ¼vçsy] 2024 ls ekpZ] 2025 rd½"]
["eq[; 'kh\"kZd",null,null,{"$f":"Summary!A5","v":"BUDGET HEAD : 2202 -सामान्य शिक्षा-02-109 -राजकीय माध्यमिक विद्यालय-27 -लडकों के विद्यालय-01 -लडकों के विद्यालयों का संचालन व्यय   (STATE FUND)"}]
["y/kq 'kh\"kZd",null,null,"dk;kZy; dk uke %",null,{"$f":"'Cover Page'!A1","v":"ç/kkukpk;Z] jkmekfo jk;eyok³k ¼vkWfQl vkbZ-Mh- la[;k %&12572½"}]
["S.No.","Account Head","Actuals okLrfod vkadMs",null,null,{"$f":"'GA2'!J6:J7","v":"Revised Estimates for 2025­26"},"Actuals okLrfod O;; vkadMs",null,null,{"$f":"'GA2'!J6:J7","v":"Revised Estimates for 2025­26"},{"$f":"'GA2'!K6:K7","v":"Budget Estimate for 2026­27"},"Increment¼ $½or decrese¼­½between columns"]
[null,null,{"$f":"'GA2'!C7","v":"2022-23"},{"$f":"'GA2'!D7","v":"2023-24"},{"$f":"'GA2'!E7","v":"2024-25"},null,"vxLr ls ekpZ rd ¼xr o\"kZ½","vizSy ls tqykbZ rd ¼pkyw o\"kZ½","dkWye 7 o 8 dk ;ksx",null,null,"6 and 10","9 and 10","10 and 11"]
[1,2,3,4,5,6,7,8,9,10,11,12,13,14]
[1,{"$f":"' Formet 10'!B9","v":"izos'k 'kqYd"},{"$f":"' Formet 10'!C9","v":0},{"$f":"' Formet 10'!D9","v":0},{"$f":"' Formet 10'!E9","v":0},{"$f":"' Formet 10'!F9","v":0},{"$f":"' Formet 10'!G9","v":0},{"$f":"' Formet 10'!H9","v":0},{"$f":"' Formet 10'!I9","v":0},{"$f":"' Formet 10'!K9","v":0},{"$f":"' Formet 10'!L9","v":0},{"$f":"F9-J9","v":0},{"$f":"I9-J9","v":0},{"$f":"J9-K9","v":0}]
[2,{"$f":"' Formet 10'!B10","v":"Vh-lh- 'kqYd"},{"$f":"' Formet 10'!C10","v":0},{"$f":"' Formet 10'!D10","v":0},{"$f":"' Formet 10'!E10","v":0},{"$f":"' Formet 10'!F10","v":0},{"$f":"' Formet 10'!G10","v":0},{"$f":"' Formet 10'!H10","v":0},{"$f":"' Formet 10'!I10","v":0},{"$f":"' Formet 10'!K10","v":0},{"$f":"' Formet 10'!L10","v":0},{"$f":"F10-J10","v":0},{"$f":"I10-J10","v":0},0]
[3,{"$f":"' Formet 10'!B11","v":"uhykeh"},{"$f":"' Formet 10'!C11","v":0},{"$f":"' Formet 10'!D11","v":0},{"$f":"' Formet 10'!E11","v":0},{"$f":"' Formet 10'!F11","v":0},{"$f":"' Formet 10'!G11","v":0},{"$f":"' Formet 10'!H11","v":0},{"$f":"' Formet 10'!I11","v":0},{"$f":"' Formet 10'!K11","v":0},{"$f":"' Formet 10'!L11","v":0},0,0,0]
[4,{"$f":"' Formet 10'!B12","v":"Hkou fdjk;k"},{"$f":"' Formet 10'!C12","v":0},{"$f":"' Formet 10'!D12","v":0},{"$f":"' Formet 10'!E12","v":0},{"$f":"' Formet 10'!F12","v":0},{"$f":"' Formet 10'!G12","v":0},{"$f":"' Formet 10'!H12","v":0},{"$f":"' Formet 10'!I12","v":0},{"$f":"' Formet 10'!K12","v":0},{"$f":"' Formet 10'!L12","v":0},0,0,0]
[5,{"$f":"' Formet 10'!B13","v":"vU; vk; ¼fo|kFkhZ nq/kZ chek½"},{"$f":"' Formet 10'!C13","v":0},{"$f":"' Formet 10'!D13","v":0},{"$f":"' Formet 10'!E13","v":0},{"$f":"' Formet 10'!F13","v":0},{"$f":"' Formet 10'!G13","v":0},{"$f":"' Formet 10'!H13","v":0},{"$f":"' Formet 10'!I13","v":0},{"$f":"' Formet 10'!K13","v":0},{"$f":"' Formet 10'!L13","v":0},0,0,0]
[6,{"$f":"' Formet 10'!B14","v":"va'knku @ o`fRrnku"},{"$f":"' Formet 10'!C14","v":0},{"$f":"' Formet 10'!D14","v":0},{"$f":"' Formet 10'!E14","v":0},{"$f":"' Formet 10'!F14","v":0},{"$f":"' Formet 10'!G14","v":0},{"$f":"' Formet 10'!H14","v":0},{"$f":"' Formet 10'!I14","v":0},{"$f":"' Formet 10'!K14","v":0},{"$f":"' Formet 10'!L14","v":0},0,0,0]
[null,"Total",{"$f":"SUM(C9:C14)","v":0},0,0,0,0,0,0,0,0,0,0,0]
[]
[{"$nulls":10},{"$f":"Master!E2","v":"ç/kkukpk;Z]"}]
[{"$nulls":10},{"$f":"Master!H2","v":"jkmekfo jk;eyok³k"}]

{"sheet":" Formet 10","index":17,"n_rows":19,"n_cols":15,"rows_kept":19,"merged":[[0,9,0,14],[0,15,19,15],[1,0,1,14],[2,0,2,7],[2,8,2,12],[3,0,3,4],[3,5,3,6],[4,0,4,11],[5,0,6,0],[5,1,6,1],[5,2,5,4],[5,6,5,8],[5,9,6,9],[5,10,6,10],[5,11,6,11],[5,12,5,14],[14,0,14,1],[15,0,19,10],[15,11,16,14],[17,11,17,14],[18,11,20,14]]}
[{"$nulls":9},{"$f":"Summary!$C$1","v":{"v":12572,"d":"OFFICE ID 12572"}}]
[{"$f":"'Cover Page'!A1","v":"ç/kkukpk;Z] jkmekfo jk;eyok³k ¼vkWfQl vkbZ-Mh- la[;k %&12572½"}]
["                     izi= 10",{"$nulls":7},"foHkkx dk uke %& f'k{kk foHkkx"]
["vk; dk foLr`r ctV vuqeku foÙkh; o\"kZ",{"$nulls":4},{"$f":"F7","v":"2025-26"},null,"¼ 1 vizSy ls 31 ekpZ rd ½ dk"]
[{"$f":"'Formet 9'!A7","v":"BUDGET HEAD : 2202 -सामान्य शिक्षा-02-109 -राजकीय माध्यमिक विद्यालय-27 -लडकों के विद्यालय-01 -लडकों के विद्यालयों का संचालन व्यय   (STATE FUND)"}]
["Ø-la-","ys[ks dk 'kh\"kZ & eq[; 'kh\"kZ @ mi&eq[; 'kh\"kZ @ y?kq 'kh\"kZ @ mi&'ksh\"kZ @ xqzi 'kh\"kZ","okLrfod vk; vkadM+s \n¼xr rhu o\"kksZa ds½",null,null,"vk; O;; vuqeku pkyw o\"kZ","okLrfod vk; ds vkadM+s ",null,null,"vxLr ls ekpZ rd dk lEHkkfor vk; ¼pkyw o\"kZ½","l'kksf/kr vuqeku ¼pkyw o\"kZ½ ¼08$10½","vk; O;;d vuqeku ¼vkxkeh o\"kZ½","o`f) ¼$½ ;k deh ¼&½"]
[null,null,{"$f":"Master!E37","v":"2022-23"},{"$f":"Master!F37","v":"2023-24"},{"$f":"Master!G37","v":"2024-25"},{"$f":"Master!H37","v":"2025-26"},{"$f":"Master!I37","v":"vxLr 24 ls ekpZ 25 rd"},{"$f":"Master!J37","v":"vizSy 25 ls tqykbZ 25 rd"},{"$f":"Master!K37","v":"dkWye 7 o 8 dk ;ksx"},{"$nulls":3},"dkWye 6 o 11 esa","dkWye 9 o 11 esa","dkWye 11 o 12 esa"]
[1,2,3,4,5,6,7,8,9,10,11,12,13,14,15]
[1,{"$f":"Master!D39","v":"izos'k 'kqYd"},{"$f":"Master!E39","v":0},{"$f":"Master!F39","v":0},{"$f":"Master!G39","v":0},{"$f":"Master!H39","v":0},{"$f":"Master!I39","v":0},{"$f":"Master!J39","v":0},{"$f":"Master!K39","v":0},{"$f":"Master!L39","v":0},{"$f":"Master!M39","v":0},{"$f":"Master!N39","v":0},{"$f":"K9-F9","v":0},{"$f":"K9-I9","v":0},{"$f":"L9-K9","v":0}]
[2,{"$f":"Master!D40","v":"Vh-lh- 'kqYd"},{"$f":"Master!E40","v":0},{"$f":"Master!F40","v":0},{"$f":"Master!G40","v":0},{"$f":"Master!H40","v":0},{"$f":"Master!I40","v":0},{"$f":"Master!J40","v":0},{"$f":"Master!K40","v":0},{"$f":"Master!L40","v":0},{"$f":"Master!M40","v":0},{"$f":"Master!N40","v":0},{"$f":"K10-F10","v":0},{"$f":"K10-I10","v":0},{"$f":"L10-K10","v":0}]
[3,{"$f":"Master!D41","v":"uhykeh"},{"$f":"Master!E41","v":0},{"$f":"Master!F41","v":0},{"$f":"Master!G41","v":0},{"$f":"Master!H41","v":0},{"$f":"Master!I41","v":0},{"$f":"Master!J41","v":0},{"$f":"Master!K41","v":0},{"$f":"Master!L41","v":0},{"$f":"Master!M41","v":0},{"$f":"Master!N41","v":0},{"$f":"K11-F11","v":0},{"$f":"K11-I11","v":0},{"$f":"L11-K11","v":0}]
[4,{"$f":"Master!D42","v":"Hkou fdjk;k"},{"$f":"Master!E42","v":0},{"$f":"Master!F42","v":0},{"$f":"Master!G42","v":0},{"$f":"Master!H42","v":0},{"$f":"Master!I42","v":0},{"$f":"Master!J42","v":0},{"$f":"Master!K42","v":0},{"$f":"Master!L42","v":0},{"$f":"Master!M42","v":0},{"$f":"Master!N42","v":0},{"$f":"K12-F12","v":0},{"$f":"K12-I12","v":0},{"$f":"L12-K12","v":0}]
[5,{"$f":"Master!D43","v":"vU; vk; ¼fo|kFkhZ nq/kZ chek½"},{"$f":"Master!E43","v":0},{"$f":"Master!F43","v":0},{"$f":"Master!G43","v":0},{"$f":"Master!H43","v":0},{"$f":"Master!I43","v":0},{"$f":"Master!J43","v":0},{"$f":"Master!K43","v":0},{"$f":"Master!L43","v":0},{"$f":"Master!M43","v":0},{"$f":"Master!N43","v":0},{"$f":"K13-F13","v":0},{"$f":"K13-I13","v":0},{"$f":"L13-K13","v":0}]
[6,{"$f":"Master!D44","v":"va'knku @ o`fRrnku"},{"$f":"Master!E44","v":0},{"$f":"Master!F44","v":0},{"$f":"Master!G44","v":0},{"$f":"Master!H44","v":0},{"$f":"Master!I44","v":0},{"$f":"Master!J44","v":0},{"$f":"Master!K44","v":0},{"$f":"Master!L44","v":0},{"$f":"Master!M44","v":0},{"$f":"Master!N44","v":0},0,0,0]
["GRAND TOTAL",null,{"$f":"SUM(C9:C14)","v":0},{"$f":"SUM(D9:D14)","v":0},0,0,0,0,0,0,0,0,0,0,0]
[]
[]
[{"$nulls":11},{"$f":"Master!E2","v":"ç/kkukpk;Z]"}]
[{"$nulls":11},{"$f":"Master!H2","v":"jkmekfo jk;eyok³k"}]

{"sheet":"Namankan","index":18,"n_rows":23,"n_cols":23,"rows_kept":23,"merged":[[0,0,0,17],[0,18,0,22],[0,23,24,23],[1,0,1,22],[2,9,2,13],[4,0,5,0],[4,1,5,1],[4,2,4,4],[4,5,4,7],[4,8,4,10],[4,11,4,13],[4,14,4,16],[4,17,4,19],[4,20,4,22],[19,0,1048575,16],[19,17,20,22],[21,17,21,22],[22,17,24,22]]}
[{"$f":"sharansh!B1","v":"vk; dk foLr`r ctV vuqeku foÙkh; o\"kZ  ¼ 1 vizSy ls 31 ekpZ rd ½ dk"},{"$nulls":17},{"$f":"Summary!$C$1","v":{"v":12572,"d":"OFFICE ID : 12572"}}]
[{"$f":"Summary!A2","v":"ç/kkukpk;Z] jkmekfo jk;eyok³k ¼vkWfQl vkbZ-Mh- la[;k %&12572½"}]
[{"$nulls":9}," नामांकन (2025-26)"]
[]
["क्रं.स.","कक्षा","सामान्य",null,null,"एस.टी.",null,null,"एस.सी.",null,null,"ओ.बी.सी.",null,null,"एस.बी.सी.",null,null,"कुल नामांकित",null,null,"अल्पसंख्यक नामांकन"]
[null,null,"बालक","बालिका","कुल","बालक","बालिका","कुल","बालक","बालिका","कुल","बालक","बालिका","कुल","बालक","बालिका","कुल","बालक","बालिका","कुल","बालक","बालिका","कुल"]
[1,"I",0,0,{"$f":"SUM(C7:D7)","v":0},0,0,{"$f":"SUM(F7:G7)","v":0},0,0,{"$f":"SUM(I7:J7)","v":0},0,0,{"$f":"SUM(L7:M7)","v":0},0,0,{"$f":"SUM(O7:P7)","v":0},{"$f":"C7+F7+I7+L7+O7","v":0},{"$f":"D7+G7+J7+M7+P7","v":0},{"$f":"SUM(R7:S7)","v":0},0,0,{"$f":"U7+V7","v":0}]
[2,"II",0,0,{"$f":"SUM(C8:D8)","v":0},0,0,{"$f":"SUM(F8:G8)","v":0},0,0,{"$f":"SUM(I8:J8)","v":0},0,0,{"$f":"SUM(L8:M8)","v":0},0,0,{"$f":"SUM(O8:P8)","v":0},{"$f":"C8+F8+I8+L8+O8","v":0},{"$f":"D8+G8+J8+M8+P8","v":0},{"$f":"SUM(R8:S8)","v":0},0,0,0]
[3,"III",0,0,0,0,0,0,0,0,0,0,0,0,0,0,0,0,0,0,0,0,0]
[4,"IV",0,0,0,0,0,0,0,0,0,0,0,0,0,0,0,0,0,0,0,0,0]
[5,"V",0,0,0,0,0,0,0,0,0,0,0,0,0,0,0,0,0,0,0,0,0]
[6,"VI",0,0,0,0,0,0,0,0,0,0,0,0,0,0,0,0,0,0,0,0,0]
[7,"VII",0,0,0,0,0,0,0,0,0,0,0,0,0,0,0,0,0,0,0,0,0]
[8,"VIII",0,0,0,0,0,0,0,0,0,0,0,0,0,0,0,0,0,0,0,0,0]
[9,"IX",0,0,0,0,0,0,0,0,0,0,0,0,0,0,0,0,0,0,0,0,0]
[10,"X",0,0,0,0,0,0,0,0,0,0,0,0,0,0,0,0,0,0,0,0,0]
[11,"XI",0,0,0,0,0,0,0,0,0,0,0,0,0,0,0,0,0,0,0,0,0]
[12,"XII",0,0,0,0,0,0,0,0,0,0,0,0,0,0,0,0,0,0,0,0,0]
["TOTAL",null,{"$f":"SUM(C7:C18)","v":0},{"$f":"SUM(D7:D18)","v":0},0,0,0,0,0,0,0,0,0,0,0,0,0,0,0,0,0,0,0]
[]
[]
[{"$nulls":17},{"$f":"Master!E2","v":"ç/kkukpk;Z]"}]
[{"$nulls":17},{"$f":"Master!H2","v":"jkmekfo jk;eyok³k"}]

{"sheet":"P-2","index":19,"n_rows":11,"n_cols":8,"rows_kept":11,"merged":[[0,0,0,7],[0,8,10,8],[1,0,1,7],[2,0,2,7],[3,0,3,1],[3,2,3,4],[3,5,3,6],[4,0,4,7],[5,0,6,0],[5,1,6,1],[5,2,6,2],[5,3,6,3],[5,4,6,4],[5,5,5,7],[9,0,9,7],[10,0,10,4],[10,5,10,7]]}
[{"$f":"A!D3","v":"ç/kkukpk;Z] jkmekfo jk;eyok³k ¼vkWfQl vkbZ-Mh- la[;k %&12572½"}]
["çi=&2"]
["foHkkx esa fy, Lohd`r VsfyQksu rFkk eksckbZy dk fooj.k"]
[{"$f":"CONCATENATE(\"Budget Head\",\":-\",Master!G5)","v":"Budget Head:-2202-02-109-(27)-(01) STATE FUND"},null,{"$f":"CONCATENATE(' Formet 10'!A4,\"  \",' Formet 10'!H4)","v":"vk; dk foLr`r ctV vuqeku foÙkh; o\"kZ  ¼ 1 vizSy ls 31 ekpZ rd ½ dk"},null,null,"vkWfQl vkbZMh%&",null,{"$f":"Master!E3","v":12572}]
[{"$f":"A!B9","v":"2202 -सामान्य शिक्षा-02-109 -राजकीय माध्यमिक विद्यालय-27 -लडकों के विद्यालय-01 -लडकों के विद्यालयों का संचालन व्यय   (STATE FUND)"}]
["dza0la0","ys[kksa dk 'kh\"kZ nh?kZ 'kh\"kZ@ minh?kZ 'kh\"kZ@y/kq 'kh\"kZ@mi'kh\"kZ","jkT; fuf/k@dsUnzh; lgk;rk","dk;kZy; dk uke","inuke","VsfyQksuksa dh la[;k"]
[{"$nulls":5},"dk;kZy;","fuokl","eksckbZy"]
[1,2,3,4,5,6,7,8]
[1,{"$f":"VLOOKUP(Master!E5,Master!AI4:AN36,3,FALSE)","v":"2202 -सामान्य शिक्षा-02-109 -राजकीय माध्यमिक विद्यालय-27 -लडकों के विद्यालय-01 -लडकों के विद्यालयों का संचालन व्यय   (STATE FUND)"},"jkT; fuf/k",{"$f":"Master!H2","v":"jkmekfo jk;eyok³k"},{"$f":"Master!E2","v":"ç/kkukpk;Z]"},0,0,0]
["izekf.kr fd;k tkrk gS fd inksa ds lanHkZ esa mi;qZä lwpuk dh esjs }kjk O;fäxr :i ls tkap dj yh xbZ gS\n vkSj bls lgh ik;k x;k gSA"]
[{"$nulls":5},{"$f":"sharansh!B2","v":"ç/kkukpk;Z] jkmekfo jk;eyok³k ¼vkWfQl vkbZ-Mh- la[;k %&12572½"}]

{"sheet":"P 3","index":20,"n_rows":11,"n_cols":10,"rows_kept":11,"merged":[[0,0,0,9],[0,10,10,16383],[1,0,1,9],[2,0,2,9],[3,0,3,2],[3,3,3,6],[3,7,3,8],[4,0,4,9],[5,0,6,0],[5,1,6,1],[5,2,6,2],[5,3,6,3],[5,4,6,4],[5,5,5,6],[5,7,5,9],[9,0,9,9],[10,0,10,6],[10,7,10,9]]}
[{"$f":"'01 Salary'!A2:H2","v":"ç/kkukpk;Z] jkmekfo jk;eyok³k ¼vkWfQl vkbZ-Mh- la[;k %&12572½"}]
["çi=&3"]
["foHkkx esa miyC/k dEI;wVlZ ,oa fdjk, ij fy, x, dEI;wVlZ dh lwpuk"]
[{"$f":"'P-2'!A4:E4","v":"Budget Head:-2202-02-109-(27)-(01) STATE FUND"},null,null,{"$f":"'P-2'!C4","v":"vk; dk foLr`r ctV vuqeku foÙkh; o\"kZ  ¼ 1 vizSy ls 31 ekpZ rd ½ dk"},{"$nulls":3},"vkWfQl vkbZMh%&",null,{"$f":"'P-2'!H4","v":12572}]
[{"$f":"'P-2'!A5:H5","v":"2202 -सामान्य शिक्षा-02-109 -राजकीय माध्यमिक विद्यालय-27 -लडकों के विद्यालय-01 -लडकों के विद्यालयों का संचालन व्यय   (STATE FUND)"}]
["dza0la0","ys[kksa dk 'kh\"kZ nh?kZ 'kh\"kZ@ minh?kZ 'kh\"kZ@y/kq 'kh\"kZ@mi'kh\"kZ","jkT; fuf/k@dsUnzh; lgk;rk","dk;kZy; dk uke","inuke","foHkkxh;",null,"fdjk;s ij fy, x, dEI;wVlZ dh la[;k"]
[{"$nulls":5},"dEI;wVlZ ¼la[;k½","fçaVj ¼la[;k½","e'khu fon esu","dsoy e'khu","okf\"kZd foRrh; Hkkj ¼:- lgL=ksa esa½"]
[1,2,3,4,5,6,7,8,9,10]
[1,{"$f":"'P-2'!B9","v":"2202 -सामान्य शिक्षा-02-109 -राजकीय माध्यमिक विद्यालय-27 -लडकों के विद्यालय-01 -लडकों के विद्यालयों का संचालन व्यय   (STATE FUND)"},{"$f":"'P-2'!C9","v":"jkT; fuf/k"},{"$f":"'P-2'!D9","v":"jkmekfo jk;eyok³k"},{"$f":"'P-2'!E9","v":"ç/kkukpk;Z]"},0,0,0,0,0]
["izekf.kr fd;k tkrk gS fd inksa ds lanHkZ esa mi;qZä lwpuk dh esjs }kjk O;fäxr :i ls tkap dj yh xbZ gS\n vkSj bls lgh ik;k x;k gSA"]
[{"$nulls":7},{"$f":"'P-2'!F11","v":"ç/kkukpk;Z] jkmekfo jk;eyok³k ¼vkWfQl vkbZ-Mh- la[;k %&12572½"}]

{"sheet":"P 4(A)","index":21,"n_rows":12,"n_cols":12,"rows_kept":12,"merged":[[0,0,0,11],[0,12,11,12],[1,0,1,11],[2,0,2,11],[3,0,3,3],[3,4,3,8],[3,9,3,10],[4,0,4,11],[5,0,7,0],[5,1,7,1],[5,2,7,2],[5,3,7,3],[5,4,7,4],[5,5,5,11],[6,5,6,9],[6,10,6,11],[10,0,10,11],[11,0,11,4],[11,5,11,9],[11,10,11,11]]}
[{"$f":"'P-2'!A1:H1","v":"ç/kkukpk;Z] jkmekfo jk;eyok³k ¼vkWfQl vkbZ-Mh- la[;k %&12572½"}]
["çi=&4 ¼v½"]
["foHkkx esa miyC/k okguksa dh lwph"]
[{"$f":"'P-2'!A4:E4","v":"Budget Head:-2202-02-109-(27)-(01) STATE FUND"},{"$nulls":3},{"$f":"'P 3'!D4","v":"vk; dk foLr`r ctV vuqeku foÙkh; o\"kZ  ¼ 1 vizSy ls 31 ekpZ rd ½ dk"},{"$nulls":4},"vkWfQl vkbZMh%&",null,{"$f":"Master!E3","v":12572}]
[{"$f":"'P-2'!A5:H5","v":"2202 -सामान्य शिक्षा-02-109 -राजकीय माध्यमिक विद्यालय-27 -लडकों के विद्यालय-01 -लडकों के विद्यालयों का संचालन व्यय   (STATE FUND)"}]
["dza0la0","ys[kksa dk 'kh\"kZ nh?kZ 'kh\"kZ@ minh?kZ 'kh\"kZ@y/kq 'kh\"kZ@mi'kh\"kZ","jkT; fuf/k@dsUnzh; lgk;rk","dk;kZy; dk uke","inuke","okguksa dk fooj.k"]
[{"$nulls":5},"foHkkxh; okgu",{"$nulls":4},"fdjk;s ij fy, x, okgu"]
[{"$nulls":5},"okgu dk çdkj&thi@ dj@vU;","okgu la[;k","Ø; dk o\"kZ","31-08-2025 rd fdyksehVj pkyu","jftLVªs'ku la[;k","la[;k","fiNys o\"kZ esa O;; dh xbZ jkf'k"]
[1,2,3,4,5,6,7,8,9,10,11,12]
[1,{"$f":"'P-2'!B9","v":"2202 -सामान्य शिक्षा-02-109 -राजकीय माध्यमिक विद्यालय-27 -लडकों के विद्यालय-01 -लडकों के विद्यालयों का संचालन व्यय   (STATE FUND)"},{"$f":"'P-2'!C9","v":"jkT; fuf/k"},{"$f":"'P-2'!D9","v":"jkmekfo jk;eyok³k"},{"$f":"'P-2'!E9","v":"ç/kkukpk;Z]"},0,0,0,0,null,0,0]
["izekf.kr fd;k tkrk gS fd inksa ds lanHkZ esa mi;qZä lwpuk dh esjs }kjk O;fäxr :i ls tkap dj yh xbZ gS\n vkSj bls lgh ik;k x;k gSA"]
[{"$nulls":10},{"$f":"'P 3'!H11","v":"ç/kkukpk;Z] jkmekfo jk;eyok³k ¼vkWfQl vkbZ-Mh- la[;k %&12572½"}]

{"sheet":"(1) Prapatra kh","index":22,"n_rows":17,"n_cols":12,"rows_kept":17,"hidden":true,"merged":[[0,7,0,8],[1,0,1,8],[2,0,2,8],[3,0,3,8],[4,0,6,0],[4,1,4,4],[4,5,4,8],[5,1,5,2],[5,3,5,4],[5,5,5,6],[5,7,5,8],[15,7,15,8],[16,7,18,8]]}
[{"$nulls":7},{"$f":"Summary!$C$1","v":{"v":12572,"d":"OFFICE ID 12572"}}]
[{"$f":"Summary!$A$2","v":"ç/kkukpk;Z] jkmekfo jk;eyok³k ¼vkWfQl vkbZ-Mh- la[;k %&12572½"}]
["vk; izi=k &1 ¼[k½"]
["vk; O;;d vuqeku l= 2019&2020 ,oa la'kksf/kr l= 2018&2019"]
["fooj.k","izos'k 'kqYd @ 10/-",{"$nulls":3},"LFkkukUrj.k 'kqYd @ 5/-"]
[null,"o\"kZ 2019&20 dk la'kksf/kr",null,"o\"kZ 2020&21 dk vuqekfur",null,"o\"kZ 2019&20 dk la'kksf/kr",null,"o\"kZ 2020&21 dk vuqekfur"]
[null,"Nk=k la[;k","jkf'k","Nk=k la[;k","jkf'k","Nk=k la[;k","jkf'k","Nk=k la[;k","jkf'k",null,"RE","BE"]
["d{kk 9",{"$f":"Master!D51","v":0},{"$f":"B8*10","v":0},{"$f":"Master!I51","v":0},{"$f":"D8*10","v":0},{"$f":"Master!F51","v":0},{"$f":"F8*5","v":0},{"$f":"Master!K51","v":0},{"$f":"H8*5","v":0},null,{"$f":"C8+G8","v":0},{"$f":"E8+I8","v":0}]
["d{kk 10",{"$f":"Master!D52","v":0},{"$f":"B9*10","v":0},{"$f":"Master!I52","v":0},{"$f":"D9*10","v":0},{"$f":"Master!F52","v":0},{"$f":"F9*5","v":0},{"$f":"Master!K52","v":0},{"$f":"H9*5","v":0},null,{"$f":"C9+G9","v":0},{"$f":"E9+I9","v":0}]
["d{kk 11",{"$f":"Master!D53","v":0},{"$f":"B10*10","v":0},{"$f":"Master!I53","v":0},{"$f":"D10*10","v":0},{"$f":"Master!F53","v":0},{"$f":"F10*5","v":0},{"$f":"Master!K53","v":0},{"$f":"H10*5","v":0},null,{"$f":"C10+G10","v":0},{"$f":"E10+I10","v":0}]
["d{kk 12",{"$f":"Master!D54","v":0},{"$f":"B11*10","v":0},{"$f":"Master!I54","v":0},{"$f":"D11*10","v":0},{"$f":"Master!F54","v":0},{"$f":"F11*5","v":0},{"$f":"Master!K54","v":0},{"$f":"H11*5","v":0},null,{"$f":"C11+G11","v":0},{"$f":"E11+I11","v":0}]
["dqy ;ksx",{"$f":"SUM(B8:B11)","v":0},0,0,0,0,0,0,0,null,{"$f":"SUM(K8:K11)","v":0},{"$f":"SUM(L8:L11)","v":0}]
[]
[]
[]
[{"$nulls":7},{"$f":"Master!E2","v":"ç/kkukpk;Z]"}]
[{"$nulls":7},{"$f":"Master!F2","v":0}]

{"sheet":"Pending TA-Med List","index":23,"n_rows":53,"n_cols":18,"rows_kept":53,"hidden":true,"merged":[[0,6,0,8],[0,15,0,17],[0,18,53,18],[1,0,1,8],[1,9,1,17],[2,0,2,8],[2,9,2,17],[3,0,3,8],[3,9,3,17],[4,0,4,8],[4,9,4,17],[5,0,6,0],[5,1,6,1],[5,8,6,8],[5,9,6,9],[5,10,6,10],[5,17,6,17],[51,5,51,8],[51,14,51,17],[52,5,54,8],[52,14,54,17]]}
[{"$nulls":6},{"$f":"Summary!$C$1","v":{"v":12572,"d":"OFFICE ID 12572"}},{"$nulls":8},{"$f":"Summary!$C$1","v":{"v":12572,"d":"OFFICE ID 12572"}}]
["GOVERNMENT OF RAJASTHAN ",{"$nulls":8},"GOVERNMENT OF RAJASTHAN "]
[{"$f":"Summary!$A$3","v":"Principal Govt. Sr. Sec. School Raimalwada"},{"$nulls":8},{"$f":"Summary!$A$3","v":"Principal Govt. Sr. Sec. School Raimalwada"}]
["L I S T   O F   P E N D I N G   T. A.   C L A I M S   FOR FY 2024-25",{"$nulls":8},"L I S T   O F   P E N D I N G   M E D I C A L   C L A I M S   FOR FY 2024-25"]
[{"$f":"Summary!A5","v":"BUDGET HEAD : 2202 -सामान्य शिक्षा-02-109 -राजकीय माध्यमिक विद्यालय-27 -लडकों के विद्यालय-01 -लडकों के विद्यालयों का संचालन व्यय   (STATE FUND)"},{"$nulls":8},{"$f":"Summary!A5","v":"BUDGET HEAD : 2202 -सामान्य शिक्षा-02-109 -राजकीय माध्यमिक विद्यालय-27 -लडकों के विद्यालय-01 -लडकों के विद्यालयों का संचालन व्यय   (STATE FUND)"}]
["S.No.","NAME OF EMPLOYEE","UP TO","FY","FY","FY","FY","FY","TOTAL","S.No.","NAME OF EMPLOYEE","UP TO","FY","FY","FY","FY","FY","TOTAL"]
[null,null,{"$f":"Master!G289","v":"2021-03-31"},{"$f":"Master!H289","v":"2021-22"},{"$f":"Master!I289","v":"2022-23"},{"$f":"Master!J289","v":"2023-24"},{"$f":"Master!K289","v":"2024-25"},{"$f":"Master!L289","v":"2025-26"},{"$nulls":3},{"$f":"C7","v":"2021-03-31"},{"$f":"D7","v":"2021-22"},"2022-23","2023-24","2024-25","2025-26"]
[1,{"$f":"IF(Master!D290=\"\",\"\",Master!D290)","v":""},{"$f":"IF(Master!D290=\"\",\"\",Master!G290)","v":""},{"$f":"IF(Master!D290=\"\",\"\",Master!H290)","v":""},{"$f":"IF(Master!D290=\"\",\"\",Master!I290)","v":""},{"$f":"IF(Master!D290=\"\",\"\",Master!J290)","v":""},{"$f":"IF(Master!D290=\"\",\"\",Master!K290)","v":""},{"$f":"IF(Master!D290=\"\",\"\",Master!L290)","v":""},{"$f":"IF(AND(B8=\"\"),\"\",SUM(C8:H8))","v":""},1,{"$f":"IF(Master!D334=\"\",\"\",Master!D334)","v":""},{"$f":"IF(Master!$D334=\"\",\"\",Master!G334)","v":""},{"$f":"IF(Master!$D334=\"\",\"\",Master!H334)","v":""},{"$f":"IF(Master!$D334=\"\",\"\",Master!I334)","v":""},{"$f":"IF(Master!$D334=\"\",\"\",Master!J334)","v":""},{"$f":"IF(Master!$D334=\"\",\"\",Master!K334)","v":""},{"$f":"IF(Master!$D334=\"\",\"\",Master!L334)","v":""},{"$f":"IF(AND(K8=\"\"),\"\",SUM(L8:Q8))","v":""}]
[2,{"$f":"IF(Master!D291=\"\",\"\",Master!D291)","v":""},{"$f":"IF(Master!D291=\"\",\"\",Master!G291)","v":""},{"$f":"IF(Master!D291=\"\",\"\",Master!H291)","v":""},{"$f":"IF(Master!D291=\"\",\"\",Master!I291)","v":""},{"$f":"IF(Master!D291=\"\",\"\",Master!J291)","v":""},{"$f":"IF(Master!D291=\"\",\"\",Master!K291)","v":""},{"$f":"IF(Master!D291=\"\",\"\",Master!L291)","v":""},{"$f":"IF(AND(B9=\"\"),\"\",SUM(C9:H9))","v":""},2,{"$f":"IF(Master!D335=\"\",\"\",Master!D335)","v":""},{"$f":"IF(Master!$D335=\"\",\"\",Master!G335)","v":""},{"$f":"IF(Master!$D335=\"\",\"\",Master!H335)","v":""},{"$f":"IF(Master!$D335=\"\",\"\",Master!I335)","v":""},{"$f":"IF(Master!$D335=\"\",\"\",Master!J335)","v":""},{"$f":"IF(Master!$D335=\"\",\"\",Master!K335)","v":""},{"$f":"IF(Master!$D335=\"\",\"\",Master!L335)","v":""},{"$f":"IF(AND(K9=\"\"),\"\",SUM(L9:Q9))","v":""}]
[3,{"$f":"IF(Master!D292=\"\",\"\",Master!D292)","v":""},{"$f":"IF(Master!D292=\"\",\"\",Master!G292)","v":""},{"$f":"IF(Master!D292=\"\",\"\",Master!H292)","v":""},{"$f":"IF(Master!D292=\"\",\"\",Master!I292)","v":""},{"$f":"IF(Master!D292=\"\",\"\",Master!J292)","v":""},{"$f":"IF(Master!D292=\"\",\"\",Master!K292)","v":""},{"$f":"IF(Master!D292=\"\",\"\",Master!L292)","v":""},"",3,{"$f":"IF(Master!D336=\"\",\"\",Master!D336)","v":""},{"$f":"IF(Master!$D336=\"\",\"\",Master!G336)","v":""},{"$f":"IF(Master!$D336=\"\",\"\",Master!H336)","v":""},{"$f":"IF(Master!$D336=\"\",\"\",Master!I336)","v":""},{"$f":"IF(Master!$D336=\"\",\"\",Master!J336)","v":""},{"$f":"IF(Master!$D336=\"\",\"\",Master!K336)","v":""},{"$f":"IF(Master!$D336=\"\",\"\",Master!L336)","v":""},""]
[4,{"$f":"IF(Master!D293=\"\",\"\",Master!D293)","v":""},{"$f":"IF(Master!D293=\"\",\"\",Master!G293)","v":""},{"$f":"IF(Master!D293=\"\",\"\",Master!H293)","v":""},{"$f":"IF(Master!D293=\"\",\"\",Master!I293)","v":""},{"$f":"IF(Master!D293=\"\",\"\",Master!J293)","v":""},{"$f":"IF(Master!D293=\"\",\"\",Master!K293)","v":""},{"$f":"IF(Master!D293=\"\",\"\",Master!L293)","v":""},"",4,{"$f":"IF(Master!D337=\"\",\"\",Master!D337)","v":""},{"$f":"IF(Master!$D337=\"\",\"\",Master!G337)","v":""},{"$f":"IF(Master!$D337=\"\",\"\",Master!H337)","v":""},{"$f":"IF(Master!$D337=\"\",\"\",Master!I337)","v":""},{"$f":"IF(Master!$D337=\"\",\"\",Master!J337)","v":""},{"$f":"IF(Master!$D337=\"\",\"\",Master!K337)","v":""},{"$f":"IF(Master!$D337=\"\",\"\",Master!L337)","v":""},""]
[5,{"$f":"IF(Master!D294=\"\",\"\",Master!D294)","v":""},{"$f":"IF(Master!D294=\"\",\"\",Master!G294)","v":""},{"$f":"IF(Master!D294=\"\",\"\",Master!H294)","v":""},{"$f":"IF(Master!D294=\"\",\"\",Master!I294)","v":""},{"$f":"IF(Master!D294=\"\",\"\",Master!J294)","v":""},{"$f":"IF(Master!D294=\"\",\"\",Master!K294)","v":""},{"$f":"IF(Master!D294=\"\",\"\",Master!L294)","v":""},"",5,{"$f":"IF(Master!D338=\"\",\"\",Master!D338)","v":""},{"$f":"IF(Master!$D338=\"\",\"\",Master!G338)","v":""},{"$f":"IF(Master!$D338=\"\",\"\",Master!H338)","v":""},{"$f":"IF(Master!$D338=\"\",\"\",Master!I338)","v":""},{"$f":"IF(Master!$D338=\"\",\"\",Master!J338)","v":""},{"$f":"IF(Master!$D338=\"\",\"\",Master!K338)","v":""},{"$f":"IF(Master!$D338=\"\",\"\",Master!L338)","v":""},""]
[6,{"$f":"IF(Master!D295=\"\",\"\",Master!D295)","v":""},{"$f":"IF(Master!D295=\"\",\"\",Master!G295)","v":""},{"$f":"IF(Master!D295=\"\",\"\",Master!H295)","v":""},{"$f":"IF(Master!D295=\"\",\"\",Master!I295)","v":""},{"$f":"IF(Master!D295=\"\",\"\",Master!J295)","v":""},{"$f":"IF(Master!D295=\"\",\"\",Master!K295)","v":""},{"$f":"IF(Master!D295=\"\",\"\",Master!L295)","v":""},"",6,{"$f":"IF(Master!D339=\"\",\"\",Master!D339)","v":""},{"$f":"IF(Master!$D339=\"\",\"\",Master!G339)","v":""},{"$f":"IF(Master!$D339=\"\",\"\",Master!H339)","v":""},{"$f":"IF(Master!$D339=\"\",\"\",Master!I339)","v":""},{"$f":"IF(Master!$D339=\"\",\"\",Master!J339)","v":""},{"$f":"IF(Master!$D339=\"\",\"\",Master!K339)","v":""},{"$f":"IF(Master!$D339=\"\",\"\",Master!L339)","v":""},""]
[7,{"$f":"IF(Master!D296=\"\",\"\",Master!D296)","v":""},{"$f":"IF(Master!D296=\"\",\"\",Master!G296)","v":""},{"$f":"IF(Master!D296=\"\",\"\",Master!H296)","v":""},{"$f":"IF(Master!D296=\"\",\"\",Master!I296)","v":""},{"$f":"IF(Master!D296=\"\",\"\",Master!J296)","v":""},{"$f":"IF(Master!D296=\"\",\"\",Master!K296)","v":""},{"$f":"IF(Master!D296=\"\",\"\",Master!L296)","v":""},"",7,{"$f":"IF(Master!D340=\"\",\"\",Master!D340)","v":""},{"$f":"IF(Master!$D340=\"\",\"\",Master!G340)","v":""},{"$f":"IF(Master!$D340=\"\",\"\",Master!H340)","v":""},{"$f":"IF(Master!$D340=\"\",\"\",Master!I340)","v":""},{"$f":"IF(Master!$D340=\"\",\"\",Master!J340)","v":""},{"$f":"IF(Master!$D340=\"\",\"\",Master!K340)","v":""},{"$f":"IF(Master!$D340=\"\",\"\",Master!L340)","v":""},""]
[8,{"$f":"IF(Master!D297=\"\",\"\",Master!D297)","v":""},{"$f":"IF(Master!D297=\"\",\"\",Master!G297)","v":""},{"$f":"IF(Master!D297=\"\",\"\",Master!H297)","v":""},{"$f":"IF(Master!D297=\"\",\"\",Master!I297)","v":""},{"$f":"IF(Master!D297=\"\",\"\",Master!J297)","v":""},{"$f":"IF(Master!D297=\"\",\"\",Master!K297)","v":""},{"$f":"IF(Master!D297=\"\",\"\",Master!L297)","v":""},"",8,{"$f":"IF(Master!D341=\"\",\"\",Master!D341)","v":""},{"$f":"IF(Master!$D341=\"\",\"\",Master!G341)","v":""},{"$f":"IF(Master!$D341=\"\",\"\",Master!H341)","v":""},{"$f":"IF(Master!$D341=\"\",\"\",Master!I341)","v":""},{"$f":"IF(Master!$D341=\"\",\"\",Master!J341)","v":""},{"$f":"IF(Master!$D341=\"\",\"\",Master!K341)","v":""},{"$f":"IF(Master!$D341=\"\",\"\",Master!L341)","v":""},""]
[9,{"$f":"IF(Master!D298=\"\",\"\",Master!D298)","v":""},{"$f":"IF(Master!D298=\"\",\"\",Master!G298)","v":""},{"$f":"IF(Master!D298=\"\",\"\",Master!H298)","v":""},{"$f":"IF(Master!D298=\"\",\"\",Master!I298)","v":""},{"$f":"IF(Master!D298=\"\",\"\",Master!J298)","v":""},{"$f":"IF(Master!D298=\"\",\"\",Master!K298)","v":""},{"$f":"IF(Master!D298=\"\",\"\",Master!L298)","v":""},"",9,{"$f":"IF(Master!D342=\"\",\"\",Master!D342)","v":""},{"$f":"IF(Master!$D342=\"\",\"\",Master!G342)","v":""},{"$f":"IF(Master!$D342=\"\",\"\",Master!H342)","v":""},{"$f":"IF(Master!$D342=\"\",\"\",Master!I342)","v":""},{"$f":"IF(Master!$D342=\"\",\"\",Master!J342)","v":""},{"$f":"IF(Master!$D342=\"\",\"\",Master!K342)","v":""},{"$f":"IF(Master!$D342=\"\",\"\",Master!L342)","v":""},""]
[10,{"$f":"IF(Master!D299=\"\",\"\",Master!D299)","v":""},{"$f":"IF(Master!D299=\"\",\"\",Master!G299)","v":""},{"$f":"IF(Master!D299=\"\",\"\",Master!H299)","v":""},{"$f":"IF(Master!D299=\"\",\"\",Master!I299)","v":""},{"$f":"IF(Master!D299=\"\",\"\",Master!J299)","v":""},{"$f":"IF(Master!D299=\"\",\"\",Master!K299)","v":""},{"$f":"IF(Master!D299=\"\",\"\",Master!L299)","v":""},"",10,{"$f":"IF(Master!D343=\"\",\"\",Master!D343)","v":""},{"$f":"IF(Master!$D343=\"\",\"\",Master!G343)","v":""},{"$f":"IF(Master!$D343=\"\",\"\",Master!H343)","v":""},{"$f":"IF(Master!$D343=\"\",\"\",Master!I343)","v":""},{"$f":"IF(Master!$D343=\"\",\"\",Master!J343)","v":""},{"$f":"IF(Master!$D343=\"\",\"\",Master!K343)","v":""},{"$f":"IF(Master!$D343=\"\",\"\",Master!L343)","v":""},""]
[11,{"$f":"IF(Master!D300=\"\",\"\",Master!D300)","v":""},{"$f":"IF(Master!D300=\"\",\"\",Master!G300)","v":""},{"$f":"IF(Master!D300=\"\",\"\",Master!H300)","v":""},{"$f":"IF(Master!D300=\"\",\"\",Master!I300)","v":""},{"$f":"IF(Master!D300=\"\",\"\",Master!J300)","v":""},{"$f":"IF(Master!D300=\"\",\"\",Master!K300)","v":""},{"$f":"IF(Master!D300=\"\",\"\",Master!L300)","v":""},"",11,{"$f":"IF(Master!D344=\"\",\"\",Master!D344)","v":""},{"$f":"IF(Master!$D344=\"\",\"\",Master!G344)","v":""},{"$f":"IF(Master!$D344=\"\",\"\",Master!H344)","v":""},{"$f":"IF(Master!$D344=\"\",\"\",Master!I344)","v":""},{"$f":"IF(Master!$D344=\"\",\"\",Master!J344)","v":""},{"$f":"IF(Master!$D344=\"\",\"\",Master!K344)","v":""},{"$f":"IF(Master!$D344=\"\",\"\",Master!L344)","v":""},""]
[12,{"$f":"IF(Master!D301=\"\",\"\",Master!D301)","v":""},{"$f":"IF(Master!D301=\"\",\"\",Master!G301)","v":""},{"$f":"IF(Master!D301=\"\",\"\",Master!H301)","v":""},{"$f":"IF(Master!D301=\"\",\"\",Master!I301)","v":""},{"$f":"IF(Master!D301=\"\",\"\",Master!J301)","v":""},{"$f":"IF(Master!D301=\"\",\"\",Master!K301)","v":""},{"$f":"IF(Master!D301=\"\",\"\",Master!L301)","v":""},"",12,{"$f":"IF(Master!D345=\"\",\"\",Master!D345)","v":""},{"$f":"IF(Master!$D345=\"\",\"\",Master!G345)","v":""},{"$f":"IF(Master!$D345=\"\",\"\",Master!H345)","v":""},{"$f":"IF(Master!$D345=\"\",\"\",Master!I345)","v":""},{"$f":"IF(Master!$D345=\"\",\"\",Master!J345)","v":""},{"$f":"IF(Master!$D345=\"\",\"\",Master!K345)","v":""},{"$f":"IF(Master!$D345=\"\",\"\",Master!L345)","v":""},""]
[13,{"$f":"IF(Master!D302=\"\",\"\",Master!D302)","v":""},{"$f":"IF(Master!D302=\"\",\"\",Master!G302)","v":""},{"$f":"IF(Master!D302=\"\",\"\",Master!H302)","v":""},{"$f":"IF(Master!D302=\"\",\"\",Master!I302)","v":""},{"$f":"IF(Master!D302=\"\",\"\",Master!J302)","v":""},{"$f":"IF(Master!D302=\"\",\"\",Master!K302)","v":""},{"$f":"IF(Master!D302=\"\",\"\",Master!L302)","v":""},"",13,{"$f":"IF(Master!D346=\"\",\"\",Master!D346)","v":""},{"$f":"IF(Master!$D346=\"\",\"\",Master!G346)","v":""},{"$f":"IF(Master!$D346=\"\",\"\",Master!H346)","v":""},{"$f":"IF(Master!$D346=\"\",\"\",Master!I346)","v":""},{"$f":"IF(Master!$D346=\"\",\"\",Master!J346)","v":""},{"$f":"IF(Master!$D346=\"\",\"\",Master!K346)","v":""},{"$f":"IF(Master!$D346=\"\",\"\",Master!L346)","v":""},""]
[14,{"$f":"IF(Master!D303=\"\",\"\",Master!D303)","v":""},{"$f":"IF(Master!D303=\"\",\"\",Master!G303)","v":""},{"$f":"IF(Master!D303=\"\",\"\",Master!H303)","v":""},{"$f":"IF(Master!D303=\"\",\"\",Master!I303)","v":""},{"$f":"IF(Master!D303=\"\",\"\",Master!J303)","v":""},{"$f":"IF(Master!D303=\"\",\"\",Master!K303)","v":""},{"$f":"IF(Master!D303=\"\",\"\",Master!L303)","v":""},"",14,{"$f":"IF(Master!D347=\"\",\"\",Master!D347)","v":""},{"$f":"IF(Master!$D347=\"\",\"\",Master!G347)","v":""},{"$f":"IF(Master!$D347=\"\",\"\",Master!H347)","v":""},{"$f":"IF(Master!$D347=\"\",\"\",Master!I347)","v":""},{"$f":"IF(Master!$D347=\"\",\"\",Master!J347)","v":""},{"$f":"IF(Master!$D347=\"\",\"\",Master!K347)","v":""},{"$f":"IF(Master!$D347=\"\",\"\",Master!L347)","v":""},""]
[15,{"$f":"IF(Master!D304=\"\",\"\",Master!D304)","v":""},{"$f":"IF(Master!D304=\"\",\"\",Master!G304)","v":""},{"$f":"IF(Master!D304=\"\",\"\",Master!H304)","v":""},{"$f":"IF(Master!D304=\"\",\"\",Master!I304)","v":""},{"$f":"IF(Master!D304=\"\",\"\",Master!J304)","v":""},{"$f":"IF(Master!D304=\"\",\"\",Master!K304)","v":""},{"$f":"IF(Master!D304=\"\",\"\",Master!L304)","v":""},"",15,{"$f":"IF(Master!D348=\"\",\"\",Master!D348)","v":""},{"$f":"IF(Master!$D348=\"\",\"\",Master!G348)","v":""},{"$f":"IF(Master!$D348=\"\",\"\",Master!H348)","v":""},{"$f":"IF(Master!$D348=\"\",\"\",Master!I348)","v":""},{"$f":"IF(Master!$D348=\"\",\"\",Master!J348)","v":""},{"$f":"IF(Master!$D348=\"\",\"\",Master!K348)","v":""},{"$f":"IF(Master!$D348=\"\",\"\",Master!L348)","v":""},""]
[16,{"$f":"IF(Master!D305=\"\",\"\",Master!D305)","v":""},{"$f":"IF(Master!D305=\"\",\"\",Master!G305)","v":""},{"$f":"IF(Master!D305=\"\",\"\",Master!H305)","v":""},{"$f":"IF(Master!D305=\"\",\"\",Master!I305)","v":""},{"$f":"IF(Master!D305=\"\",\"\",Master!J305)","v":""},{"$f":"IF(Master!D305=\"\",\"\",Master!K305)","v":""},{"$f":"IF(Master!D305=\"\",\"\",Master!L305)","v":""},"",16,{"$f":"IF(Master!D349=\"\",\"\",Master!D349)","v":""},{"$f":"IF(Master!$D349=\"\",\"\",Master!G349)","v":""},{"$f":"IF(Master!$D349=\"\",\"\",Master!H349)","v":""},{"$f":"IF(Master!$D349=\"\",\"\",Master!I349)","v":""},{"$f":"IF(Master!$D349=\"\",\"\",Master!J349)","v":""},{"$f":"IF(Master!$D349=\"\",\"\",Master!K349)","v":""},{"$f":"IF(Master!$D349=\"\",\"\",Master!L349)","v":""},""]
[17,{"$f":"IF(Master!D306=\"\",\"\",Master!D306)","v":""},{"$f":"IF(Master!D306=\"\",\"\",Master!G306)","v":""},{"$f":"IF(Master!D306=\"\",\"\",Master!H306)","v":""},{"$f":"IF(Master!D306=\"\",\"\",Master!I306)","v":""},{"$f":"IF(Master!D306=\"\",\"\",Master!J306)","v":""},{"$f":"IF(Master!D306=\"\",\"\",Master!K306)","v":""},{"$f":"IF(Master!D306=\"\",\"\",Master!L306)","v":""},"",17,{"$f":"IF(Master!D350=\"\",\"\",Master!D350)","v":""},{"$f":"IF(Master!$D350=\"\",\"\",Master!G350)","v":""},{"$f":"IF(Master!$D350=\"\",\"\",Master!H350)","v":""},{"$f":"IF(Master!$D350=\"\",\"\",Master!I350)","v":""},{"$f":"IF(Master!$D350=\"\",\"\",Master!J350)","v":""},{"$f":"IF(Master!$D350=\"\",\"\",Master!K350)","v":""},{"$f":"IF(Master!$D350=\"\",\"\",Master!L350)","v":""},""]
[18,{"$f":"IF(Master!D307=\"\",\"\",Master!D307)","v":""},{"$f":"IF(Master!D307=\"\",\"\",Master!G307)","v":""},{"$f":"IF(Master!D307=\"\",\"\",Master!H307)","v":""},{"$f":"IF(Master!D307=\"\",\"\",Master!I307)","v":""},{"$f":"IF(Master!D307=\"\",\"\",Master!J307)","v":""},{"$f":"IF(Master!D307=\"\",\"\",Master!K307)","v":""},{"$f":"IF(Master!D307=\"\",\"\",Master!L307)","v":""},"",18,{"$f":"IF(Master!D351=\"\",\"\",Master!D351)","v":""},{"$f":"IF(Master!$D351=\"\",\"\",Master!G351)","v":""},{"$f":"IF(Master!$D351=\"\",\"\",Master!H351)","v":""},{"$f":"IF(Master!$D351=\"\",\"\",Master!I351)","v":""},{"$f":"IF(Master!$D351=\"\",\"\",Master!J351)","v":""},{"$f":"IF(Master!$D351=\"\",\"\",Master!K351)","v":""},{"$f":"IF(Master!$D351=\"\",\"\",Master!L351)","v":""},""]
[19,{"$f":"IF(Master!D308=\"\",\"\",Master!D308)","v":""},{"$f":"IF(Master!D308=\"\",\"\",Master!G308)","v":""},{"$f":"IF(Master!D308=\"\",\"\",Master!H308)","v":""},{"$f":"IF(Master!D308=\"\",\"\",Master!I308)","v":""},{"$f":"IF(Master!D308=\"\",\"\",Master!J308)","v":""},{"$f":"IF(Master!D308=\"\",\"\",Master!K308)","v":""},{"$f":"IF(Master!D308=\"\",\"\",Master!L308)","v":""},"",19,{"$f":"IF(Master!D352=\"\",\"\",Master!D352)","v":""},{"$f":"IF(Master!$D352=\"\",\"\",Master!G352)","v":""},{"$f":"IF(Master!$D352=\"\",\"\",Master!H352)","v":""},{"$f":"IF(Master!$D352=\"\",\"\",Master!I352)","v":""},{"$f":"IF(Master!$D352=\"\",\"\",Master!J352)","v":""},{"$f":"IF(Master!$D352=\"\",\"\",Master!K352)","v":""},{"$f":"IF(Master!$D352=\"\",\"\",Master!L352)","v":""},""]
[20,{"$f":"IF(Master!D309=\"\",\"\",Master!D309)","v":""},{"$f":"IF(Master!D309=\"\",\"\",Master!G309)","v":""},{"$f":"IF(Master!D309=\"\",\"\",Master!H309)","v":""},{"$f":"IF(Master!D309=\"\",\"\",Master!I309)","v":""},{"$f":"IF(Master!D309=\"\",\"\",Master!J309)","v":""},{"$f":"IF(Master!D309=\"\",\"\",Master!K309)","v":""},{"$f":"IF(Master!D309=\"\",\"\",Master!L309)","v":""},"",20,{"$f":"IF(Master!D353=\"\",\"\",Master!D353)","v":""},{"$f":"IF(Master!$D353=\"\",\"\",Master!G353)","v":""},{"$f":"IF(Master!$D353=\"\",\"\",Master!H353)","v":""},{"$f":"IF(Master!$D353=\"\",\"\",Master!I353)","v":""},{"$f":"IF(Master!$D353=\"\",\"\",Master!J353)","v":""},{"$f":"IF(Master!$D353=\"\",\"\",Master!K353)","v":""},{"$f":"IF(Master!$D353=\"\",\"\",Master!L353)","v":""},""]
[21,{"$f":"IF(Master!D310=\"\",\"\",Master!D310)","v":""},{"$f":"IF(Master!D310=\"\",\"\",Master!G310)","v":""},{"$f":"IF(Master!D310=\"\",\"\",Master!H310)","v":""},{"$f":"IF(Master!D310=\"\",\"\",Master!I310)","v":""},{"$f":"IF(Master!D310=\"\",\"\",Master!J310)","v":""},{"$f":"IF(Master!D310=\"\",\"\",Master!K310)","v":""},{"$f":"IF(Master!D310=\"\",\"\",Master!L310)","v":""},"",21,{"$f":"IF(Master!D354=\"\",\"\",Master!D354)","v":""},{"$f":"IF(Master!$D354=\"\",\"\",Master!G354)","v":""},{"$f":"IF(Master!$D354=\"\",\"\",Master!H354)","v":""},{"$f":"IF(Master!$D354=\"\",\"\",Master!I354)","v":""},{"$f":"IF(Master!$D354=\"\",\"\",Master!J354)","v":""},{"$f":"IF(Master!$D354=\"\",\"\",Master!K354)","v":""},{"$f":"IF(Master!$D354=\"\",\"\",Master!L354)","v":""},""]
[22,{"$f":"IF(Master!D311=\"\",\"\",Master!D311)","v":""},{"$f":"IF(Master!D311=\"\",\"\",Master!G311)","v":""},{"$f":"IF(Master!D311=\"\",\"\",Master!H311)","v":""},{"$f":"IF(Master!D311=\"\",\"\",Master!I311)","v":""},{"$f":"IF(Master!D311=\"\",\"\",Master!J311)","v":""},{"$f":"IF(Master!D311=\"\",\"\",Master!K311)","v":""},{"$f":"IF(Master!D311=\"\",\"\",Master!L311)","v":""},"",22,{"$f":"IF(Master!D355=\"\",\"\",Master!D355)","v":""},{"$f":"IF(Master!$D355=\"\",\"\",Master!G355)","v":""},{"$f":"IF(Master!$D355=\"\",\"\",Master!H355)","v":""},{"$f":"IF(Master!$D355=\"\",\"\",Master!I355)","v":""},{"$f":"IF(Master!$D355=\"\",\"\",Master!J355)","v":""},{"$f":"IF(Master!$D355=\"\",\"\",Master!K355)","v":""},{"$f":"IF(Master!$D355=\"\",\"\",Master!L355)","v":""},""]
[23,{"$f":"IF(Master!D312=\"\",\"\",Master!D312)","v":""},{"$f":"IF(Master!D312=\"\",\"\",Master!G312)","v":""},{"$f":"IF(Master!D312=\"\",\"\",Master!H312)","v":""},{"$f":"IF(Master!D312=\"\",\"\",Master!I312)","v":""},{"$f":"IF(Master!D312=\"\",\"\",Master!J312)","v":""},{"$f":"IF(Master!D312=\"\",\"\",Master!K312)","v":""},{"$f":"IF(Master!D312=\"\",\"\",Master!L312)","v":""},"",23,{"$f":"IF(Master!D356=\"\",\"\",Master!D356)","v":""},{"$f":"IF(Master!$D356=\"\",\"\",Master!G356)","v":""},{"$f":"IF(Master!$D356=\"\",\"\",Master!H356)","v":""},{"$f":"IF(Master!$D356=\"\",\"\",Master!I356)","v":""},{"$f":"IF(Master!$D356=\"\",\"\",Master!J356)","v":""},{"$f":"IF(Master!$D356=\"\",\"\",Master!K356)","v":""},{"$f":"IF(Master!$D356=\"\",\"\",Master!L356)","v":""},""]
[24,{"$f":"IF(Master!D313=\"\",\"\",Master!D313)","v":""},{"$f":"IF(Master!D313=\"\",\"\",Master!G313)","v":""},{"$f":"IF(Master!D313=\"\",\"\",Master!H313)","v":""},{"$f":"IF(Master!D313=\"\",\"\",Master!I313)","v":""},{"$f":"IF(Master!D313=\"\",\"\",Master!J313)","v":""},{"$f":"IF(Master!D313=\"\",\"\",Master!K313)","v":""},{"$f":"IF(Master!D313=\"\",\"\",Master!L313)","v":""},"",24,{"$f":"IF(Master!D357=\"\",\"\",Master!D357)","v":""},{"$f":"IF(Master!$D357=\"\",\"\",Master!G357)","v":""},{"$f":"IF(Master!$D357=\"\",\"\",Master!H357)","v":""},{"$f":"IF(Master!$D357=\"\",\"\",Master!I357)","v":""},{"$f":"IF(Master!$D357=\"\",\"\",Master!J357)","v":""},{"$f":"IF(Master!$D357=\"\",\"\",Master!K357)","v":""},{"$f":"IF(Master!$D357=\"\",\"\",Master!L357)","v":""},""]
[25,{"$f":"IF(Master!D314=\"\",\"\",Master!D314)","v":""},{"$f":"IF(Master!D314=\"\",\"\",Master!G314)","v":""},{"$f":"IF(Master!D314=\"\",\"\",Master!H314)","v":""},{"$f":"IF(Master!D314=\"\",\"\",Master!I314)","v":""},{"$f":"IF(Master!D314=\"\",\"\",Master!J314)","v":""},{"$f":"IF(Master!D314=\"\",\"\",Master!K314)","v":""},{"$f":"IF(Master!D314=\"\",\"\",Master!L314)","v":""},"",25,{"$f":"IF(Master!D358=\"\",\"\",Master!D358)","v":""},{"$f":"IF(Master!$D358=\"\",\"\",Master!G358)","v":""},{"$f":"IF(Master!$D358=\"\",\"\",Master!H358)","v":""},{"$f":"IF(Master!$D358=\"\",\"\",Master!I358)","v":""},{"$f":"IF(Master!$D358=\"\",\"\",Master!J358)","v":""},{"$f":"IF(Master!$D358=\"\",\"\",Master!K358)","v":""},{"$f":"IF(Master!$D358=\"\",\"\",Master!L358)","v":""},""]
[26,{"$f":"IF(Master!D315=\"\",\"\",Master!D315)","v":""},{"$f":"IF(Master!D315=\"\",\"\",Master!G315)","v":""},{"$f":"IF(Master!D315=\"\",\"\",Master!H315)","v":""},{"$f":"IF(Master!D315=\"\",\"\",Master!I315)","v":""},{"$f":"IF(Master!D315=\"\",\"\",Master!J315)","v":""},{"$f":"IF(Master!D315=\"\",\"\",Master!K315)","v":""},{"$f":"IF(Master!D315=\"\",\"\",Master!L315)","v":""},"",26,{"$f":"IF(Master!D359=\"\",\"\",Master!D359)","v":""},{"$f":"IF(Master!$D359=\"\",\"\",Master!G359)","v":""},{"$f":"IF(Master!$D359=\"\",\"\",Master!H359)","v":""},{"$f":"IF(Master!$D359=\"\",\"\",Master!I359)","v":""},{"$f":"IF(Master!$D359=\"\",\"\",Master!J359)","v":""},{"$f":"IF(Master!$D359=\"\",\"\",Master!K359)","v":""},{"$f":"IF(Master!$D359=\"\",\"\",Master!L359)","v":""},""]
[27,{"$f":"IF(Master!D316=\"\",\"\",Master!D316)","v":""},{"$f":"IF(Master!D316=\"\",\"\",Master!G316)","v":""},{"$f":"IF(Master!D316=\"\",\"\",Master!H316)","v":""},{"$f":"IF(Master!D316=\"\",\"\",Master!I316)","v":""},{"$f":"IF(Master!D316=\"\",\"\",Master!J316)","v":""},{"$f":"IF(Master!D316=\"\",\"\",Master!K316)","v":""},{"$f":"IF(Master!D316=\"\",\"\",Master!L316)","v":""},"",27,{"$f":"IF(Master!D360=\"\",\"\",Master!D360)","v":""},{"$f":"IF(Master!$D360=\"\",\"\",Master!G360)","v":""},{"$f":"IF(Master!$D360=\"\",\"\",Master!H360)","v":""},{"$f":"IF(Master!$D360=\"\",\"\",Master!I360)","v":""},{"$f":"IF(Master!$D360=\"\",\"\",Master!J360)","v":""},{"$f":"IF(Master!$D360=\"\",\"\",Master!K360)","v":""},{"$f":"IF(Master!$D360=\"\",\"\",Master!L360)","v":""},""]
[28,{"$f":"IF(Master!D317=\"\",\"\",Master!D317)","v":""},{"$f":"IF(Master!D317=\"\",\"\",Master!G317)","v":""},{"$f":"IF(Master!D317=\"\",\"\",Master!H317)","v":""},{"$f":"IF(Master!D317=\"\",\"\",Master!I317)","v":""},{"$f":"IF(Master!D317=\"\",\"\",Master!J317)","v":""},{"$f":"IF(Master!D317=\"\",\"\",Master!K317)","v":""},{"$f":"IF(Master!D317=\"\",\"\",Master!L317)","v":""},"",28,{"$f":"IF(Master!D361=\"\",\"\",Master!D361)","v":""},{"$f":"IF(Master!$D361=\"\",\"\",Master!G361)","v":""},{"$f":"IF(Master!$D361=\"\",\"\",Master!H361)","v":""},{"$f":"IF(Master!$D361=\"\",\"\",Master!I361)","v":""},{"$f":"IF(Master!$D361=\"\",\"\",Master!J361)","v":""},{"$f":"IF(Master!$D361=\"\",\"\",Master!K361)","v":""},{"$f":"IF(Master!$D361=\"\",\"\",Master!L361)","v":""},""]
[29,{"$f":"IF(Master!D318=\"\",\"\",Master!D318)","v":""},{"$f":"IF(Master!D318=\"\",\"\",Master!G318)","v":""},{"$f":"IF(Master!D318=\"\",\"\",Master!H318)","v":""},{"$f":"IF(Master!D318=\"\",\"\",Master!I318)","v":""},{"$f":"IF(Master!D318=\"\",\"\",Master!J318)","v":""},{"$f":"IF(Master!D318=\"\",\"\",Master!K318)","v":""},{"$f":"IF(Master!D318=\"\",\"\",Master!L318)","v":""},"",29,{"$f":"IF(Master!D362=\"\",\"\",Master!D362)","v":""},{"$f":"IF(Master!$D362=\"\",\"\",Master!G362)","v":""},{"$f":"IF(Master!$D362=\"\",\"\",Master!H362)","v":""},{"$f":"IF(Master!$D362=\"\",\"\",Master!I362)","v":""},{"$f":"IF(Master!$D362=\"\",\"\",Master!J362)","v":""},{"$f":"IF(Master!$D362=\"\",\"\",Master!K362)","v":""},{"$f":"IF(Master!$D362=\"\",\"\",Master!L362)","v":""},""]
[30,{"$f":"IF(Master!D319=\"\",\"\",Master!D319)","v":""},{"$f":"IF(Master!D319=\"\",\"\",Master!G319)","v":""},{"$f":"IF(Master!D319=\"\",\"\",Master!H319)","v":""},{"$f":"IF(Master!D319=\"\",\"\",Master!I319)","v":""},{"$f":"IF(Master!D319=\"\",\"\",Master!J319)","v":""},{"$f":"IF(Master!D319=\"\",\"\",Master!K319)","v":""},{"$f":"IF(Master!D319=\"\",\"\",Master!L319)","v":""},"",30,{"$f":"IF(Master!D363=\"\",\"\",Master!D363)","v":""},{"$f":"IF(Master!$D363=\"\",\"\",Master!G363)","v":""},{"$f":"IF(Master!$D363=\"\",\"\",Master!H363)","v":""},{"$f":"IF(Master!$D363=\"\",\"\",Master!I363)","v":""},{"$f":"IF(Master!$D363=\"\",\"\",Master!J363)","v":""},{"$f":"IF(Master!$D363=\"\",\"\",Master!K363)","v":""},{"$f":"IF(Master!$D363=\"\",\"\",Master!L363)","v":""},""]
[31,{"$f":"IF(Master!D320=\"\",\"\",Master!D320)","v":""},{"$f":"IF(Master!D320=\"\",\"\",Master!G320)","v":""},{"$f":"IF(Master!D320=\"\",\"\",Master!H320)","v":""},{"$f":"IF(Master!D320=\"\",\"\",Master!I320)","v":""},{"$f":"IF(Master!D320=\"\",\"\",Master!J320)","v":""},{"$f":"IF(Master!D320=\"\",\"\",Master!K320)","v":""},{"$f":"IF(Master!D320=\"\",\"\",Master!L320)","v":""},"",31,{"$f":"IF(Master!D364=\"\",\"\",Master!D364)","v":""},{"$f":"IF(Master!$D364=\"\",\"\",Master!G364)","v":""},{"$f":"IF(Master!$D364=\"\",\"\",Master!H364)","v":""},{"$f":"IF(Master!$D364=\"\",\"\",Master!I364)","v":""},{"$f":"IF(Master!$D364=\"\",\"\",Master!J364)","v":""},{"$f":"IF(Master!$D364=\"\",\"\",Master!K364)","v":""},{"$f":"IF(Master!$D364=\"\",\"\",Master!L364)","v":""},""]
[32,{"$f":"IF(Master!D321=\"\",\"\",Master!D321)","v":""},{"$f":"IF(Master!D321=\"\",\"\",Master!G321)","v":""},{"$f":"IF(Master!D321=\"\",\"\",Master!H321)","v":""},{"$f":"IF(Master!D321=\"\",\"\",Master!I321)","v":""},{"$f":"IF(Master!D321=\"\",\"\",Master!J321)","v":""},{"$f":"IF(Master!D321=\"\",\"\",Master!K321)","v":""},{"$f":"IF(Master!D321=\"\",\"\",Master!L321)","v":""},"",32,{"$f":"IF(Master!D365=\"\",\"\",Master!D365)","v":""},{"$f":"IF(Master!$D365=\"\",\"\",Master!G365)","v":""},{"$f":"IF(Master!$D365=\"\",\"\",Master!H365)","v":""},{"$f":"IF(Master!$D365=\"\",\"\",Master!I365)","v":""},{"$f":"IF(Master!$D365=\"\",\"\",Master!J365)","v":""},{"$f":"IF(Master!$D365=\"\",\"\",Master!K365)","v":""},{"$f":"IF(Master!$D365=\"\",\"\",Master!L365)","v":""},""]
[33,{"$f":"IF(Master!D322=\"\",\"\",Master!D322)","v":""},{"$f":"IF(Master!D322=\"\",\"\",Master!G322)","v":""},{"$f":"IF(Master!D322=\"\",\"\",Master!H322)","v":""},{"$f":"IF(Master!D322=\"\",\"\",Master!I322)","v":""},{"$f":"IF(Master!D322=\"\",\"\",Master!J322)","v":""},{"$f":"IF(Master!D322=\"\",\"\",Master!K322)","v":""},{"$f":"IF(Master!D322=\"\",\"\",Master!L322)","v":""},"",33,{"$f":"IF(Master!D366=\"\",\"\",Master!D366)","v":""},{"$f":"IF(Master!$D366=\"\",\"\",Master!G366)","v":""},{"$f":"IF(Master!$D366=\"\",\"\",Master!H366)","v":""},{"$f":"IF(Master!$D366=\"\",\"\",Master!I366)","v":""},{"$f":"IF(Master!$D366=\"\",\"\",Master!J366)","v":""},{"$f":"IF(Master!$D366=\"\",\"\",Master!K366)","v":""},{"$f":"IF(Master!$D366=\"\",\"\",Master!L366)","v":""},""]
[34,{"$f":"IF(Master!D323=\"\",\"\",Master!D323)","v":""},{"$f":"IF(Master!D323=\"\",\"\",Master!G323)","v":""},{"$f":"IF(Master!D323=\"\",\"\",Master!H323)","v":""},{"$f":"IF(Master!D323=\"\",\"\",Master!I323)","v":""},{"$f":"IF(Master!D323=\"\",\"\",Master!J323)","v":""},{"$f":"IF(Master!D323=\"\",\"\",Master!K323)","v":""},{"$f":"IF(Master!D323=\"\",\"\",Master!L323)","v":""},"",34,{"$f":"IF(Master!D367=\"\",\"\",Master!D367)","v":""},{"$f":"IF(Master!$D367=\"\",\"\",Master!G367)","v":""},{"$f":"IF(Master!$D367=\"\",\"\",Master!H367)","v":""},{"$f":"IF(Master!$D367=\"\",\"\",Master!I367)","v":""},{"$f":"IF(Master!$D367=\"\",\"\",Master!J367)","v":""},{"$f":"IF(Master!$D367=\"\",\"\",Master!K367)","v":""},{"$f":"IF(Master!$D367=\"\",\"\",Master!L367)","v":""},""]
[35,{"$f":"IF(Master!D324=\"\",\"\",Master!D324)","v":""},{"$f":"IF(Master!D324=\"\",\"\",Master!G324)","v":""},{"$f":"IF(Master!D324=\"\",\"\",Master!H324)","v":""},{"$f":"IF(Master!D324=\"\",\"\",Master!I324)","v":""},{"$f":"IF(Master!D324=\"\",\"\",Master!J324)","v":""},{"$f":"IF(Master!D324=\"\",\"\",Master!K324)","v":""},{"$f":"IF(Master!D324=\"\",\"\",Master!L324)","v":""},"",35,{"$f":"IF(Master!D368=\"\",\"\",Master!D368)","v":""},{"$f":"IF(Master!$D368=\"\",\"\",Master!G368)","v":""},{"$f":"IF(Master!$D368=\"\",\"\",Master!H368)","v":""},{"$f":"IF(Master!$D368=\"\",\"\",Master!I368)","v":""},{"$f":"IF(Master!$D368=\"\",\"\",Master!J368)","v":""},{"$f":"IF(Master!$D368=\"\",\"\",Master!K368)","v":""},{"$f":"IF(Master!$D368=\"\",\"\",Master!L368)","v":""},""]
[36,{"$f":"IF(Master!D325=\"\",\"\",Master!D325)","v":""},{"$f":"IF(Master!D325=\"\",\"\",Master!G325)","v":""},{"$f":"IF(Master!D325=\"\",\"\",Master!H325)","v":""},{"$f":"IF(Master!D325=\"\",\"\",Master!I325)","v":""},{"$f":"IF(Master!D325=\"\",\"\",Master!J325)","v":""},{"$f":"IF(Master!D325=\"\",\"\",Master!K325)","v":""},{"$f":"IF(Master!D325=\"\",\"\",Master!L325)","v":""},"",36,{"$f":"IF(Master!D369=\"\",\"\",Master!D369)","v":""},{"$f":"IF(Master!$D369=\"\",\"\",Master!G369)","v":""},{"$f":"IF(Master!$D369=\"\",\"\",Master!H369)","v":""},{"$f":"IF(Master!$D369=\"\",\"\",Master!I369)","v":""},{"$f":"IF(Master!$D369=\"\",\"\",Master!J369)","v":""},{"$f":"IF(Master!$D369=\"\",\"\",Master!K369)","v":""},{"$f":"IF(Master!$D369=\"\",\"\",Master!L369)","v":""},""]
[37,{"$f":"IF(Master!D326=\"\",\"\",Master!D326)","v":""},{"$f":"IF(Master!D326=\"\",\"\",Master!G326)","v":""},{"$f":"IF(Master!D326=\"\",\"\",Master!H326)","v":""},{"$f":"IF(Master!D326=\"\",\"\",Master!I326)","v":""},{"$f":"IF(Master!D326=\"\",\"\",Master!J326)","v":""},{"$f":"IF(Master!D326=\"\",\"\",Master!K326)","v":""},{"$f":"IF(Master!D326=\"\",\"\",Master!L326)","v":""},"",37,{"$f":"IF(Master!D370=\"\",\"\",Master!D370)","v":""},{"$f":"IF(Master!$D370=\"\",\"\",Master!G370)","v":""},{"$f":"IF(Master!$D370=\"\",\"\",Master!H370)","v":""},{"$f":"IF(Master!$D370=\"\",\"\",Master!I370)","v":""},{"$f":"IF(Master!$D370=\"\",\"\",Master!J370)","v":""},{"$f":"IF(Master!$D370=\"\",\"\",Master!K370)","v":""},{"$f":"IF(Master!$D370=\"\",\"\",Master!L370)","v":""},""]
[38,{"$f":"IF(Master!D327=\"\",\"\",Master!D327)","v":""},{"$f":"IF(Master!D327=\"\",\"\",Master!G327)","v":""},{"$f":"IF(Master!D327=\"\",\"\",Master!H327)","v":""},{"$f":"IF(Master!D327=\"\",\"\",Master!I327)","v":""},{"$f":"IF(Master!D327=\"\",\"\",Master!J327)","v":""},{"$f":"IF(Master!D327=\"\",\"\",Master!K327)","v":""},{"$f":"IF(Master!D327=\"\",\"\",Master!L327)","v":""},"",38,{"$f":"IF(Master!D371=\"\",\"\",Master!D371)","v":""},{"$f":"IF(Master!$D371=\"\",\"\",Master!G371)","v":""},{"$f":"IF(Master!$D371=\"\",\"\",Master!H371)","v":""},{"$f":"IF(Master!$D371=\"\",\"\",Master!I371)","v":""},{"$f":"IF(Master!$D371=\"\",\"\",Master!J371)","v":""},{"$f":"IF(Master!$D371=\"\",\"\",Master!K371)","v":""},{"$f":"IF(Master!$D371=\"\",\"\",Master!L371)","v":""},""]
[39,{"$f":"IF(Master!D328=\"\",\"\",Master!D328)","v":""},{"$f":"IF(Master!D328=\"\",\"\",Master!G328)","v":""},{"$f":"IF(Master!D328=\"\",\"\",Master!H328)","v":""},{"$f":"IF(Master!D328=\"\",\"\",Master!I328)","v":""},{"$f":"IF(Master!D328=\"\",\"\",Master!J328)","v":""},{"$f":"IF(Master!D328=\"\",\"\",Master!K328)","v":""},{"$f":"IF(Master!D328=\"\",\"\",Master!L328)","v":""},"",39,{"$f":"IF(Master!D372=\"\",\"\",Master!D372)","v":""},{"$f":"IF(Master!$D372=\"\",\"\",Master!G372)","v":""},{"$f":"IF(Master!$D372=\"\",\"\",Master!H372)","v":""},{"$f":"IF(Master!$D372=\"\",\"\",Master!I372)","v":""},{"$f":"IF(Master!$D372=\"\",\"\",Master!J372)","v":""},{"$f":"IF(Master!$D372=\"\",\"\",Master!K372)","v":""},{"$f":"IF(Master!$D372=\"\",\"\",Master!L372)","v":""},""]
[40,{"$f":"IF(Master!D329=\"\",\"\",Master!D329)","v":""},{"$f":"IF(Master!D329=\"\",\"\",Master!G329)","v":""},{"$f":"IF(Master!D329=\"\",\"\",Master!H329)","v":""},{"$f":"IF(Master!D329=\"\",\"\",Master!I329)","v":""},{"$f":"IF(Master!D329=\"\",\"\",Master!J329)","v":""},{"$f":"IF(Master!D329=\"\",\"\",Master!K329)","v":""},{"$f":"IF(Master!D329=\"\",\"\",Master!L329)","v":""},"",40,{"$f":"IF(Master!D373=\"\",\"\",Master!D373)","v":""},{"$f":"IF(Master!$D373=\"\",\"\",Master!G373)","v":""},{"$f":"IF(Master!$D373=\"\",\"\",Master!H373)","v":""},{"$f":"IF(Master!$D373=\"\",\"\",Master!I373)","v":""},{"$f":"IF(Master!$D373=\"\",\"\",Master!J373)","v":""},{"$f":"IF(Master!$D373=\"\",\"\",Master!K373)","v":""},{"$f":"IF(Master!$D373=\"\",\"\",Master!L373)","v":""},""]
[null,"Total ",{"$f":"SUM(C8:C47)","v":0},{"$f":"SUM(D8:D47)","v":0},0,0,0,0,0,null,"Total ",{"$f":"SUM(L8:L47)","v":0},{"$f":"SUM(M8:M47)","v":0},0,0,0,0,0]
[null,"Total Rounded ",{"$f":"ROUNDUP(C48,-2)","v":0},0,0,0,0,0,0,null,"Total Rounded",{"$f":"ROUNDUP(L48,-2)","v":0},0,0,0,0,0,0]
[]
[]
[{"$nulls":5},{"$f":"Master!E2","v":"ç/kkukpk;Z]"},{"$nulls":8},{"$f":"F52","v":"ç/kkukpk;Z]"}]
[{"$nulls":5},{"$f":"Master!H2","v":"jkmekfo jk;eyok³k"},{"$nulls":8},{"$f":"Master!H2","v":"jkmekfo jk;eyok³k"}]

{"sheet":"Scholership","index":24,"n_rows":42,"n_cols":21,"rows_kept":42,"hidden":true,"merged":[[0,0,0,20],[1,0,1,20],[2,0,2,20],[3,0,4,0],[3,1,4,2],[3,3,4,3],[3,4,4,10],[3,11,4,17],[3,18,3,20],[5,1,5,2],[5,4,5,10],[5,11,5,17],[6,0,7,0],[8,0,9,0],[10,0,11,0],[12,0,12,3],[13,0,13,20],[14,0,14,20],[15,0,15,20],[16,0,17,0],[16,1,17,2],[16,3,17,3],[16,4,17,10],[16,11,17,17],[16,18,16,20],[18,1,18,2],[18,4,18,10],[18,11,18,17],[19,0,20,0],[21,0,22,0],[23,0,24,0],[25,0,25,3],[26,0,26,20],[27,0,27,20],[28,0,28,20],[29,0,30,0],[29,1,30,2],[29,3,30,3],[29,4,30,10],[29,11,30,17],[29,18,29,20],[31,1,31,2],[31,4,31,10],[31,11,31,17],[32,0,33,0],[34,0,35,0],[36,0,37,0],[38,0,38,3],[40,17,40,20],[41,17,42,20]]}
[{"$f":"Summary!$A$2","v":"ç/kkukpk;Z] jkmekfo jk;eyok³k ¼vkWfQl vkbZ-Mh- la[;k %&12572½"}]
["izi= la[;k 13"]
["vuqlwfpr tkfr ds Nk=k o Nk=kkvksa ds fy, Nk=ko``fRr dk fooj.k"]
["d{kk","Nk= @ Nk=k la[;k",null,"nj","o\"kZ 2019&20 ds fy, \nla'kksf/kr vuqeku\n10 ekg ds fy,",{"$nulls":6},"o\"kZ 2020&21 ds fy, \nvuqekfur jkf'k \n10 ekg ds fy,",{"$nulls":6},"xr o\"kZ dh cdk;k jkf'k"]
[{"$nulls":18},"o\"kZ","jkf'k",";ksx ¼5$7½"]
[1,2,null,3,4,{"$nulls":6},5,{"$nulls":6},6,7,8]
["d{kk 6 ls 8 rd","Nk= ",{"$f":"Namankan!I12+Namankan!I13+Namankan!I14","v":0},75,{"$f":"C7","v":0},"X",{"$f":"D7","v":75},"X",10,"=",{"$f":"E7*G7*I7","v":0},{"$f":"IF(C7<=0,0,(E7+5))","v":0},"X",{"$f":"D7","v":75},"X",10,"=",{"$f":"L7*N7*P7","v":0}]
[null,"Nk=k",{"$f":"Namankan!J12+Namankan!J13+Namankan!J14","v":0},125,0,"X",125,"X",10,"=",0,0,"X",{"$f":"D8","v":125},"X",10,"=",0]
["d{kk 9 ls 10 rd","Nk= ",{"$f":"Namankan!I15+Namankan!I16","v":0},225,0,"X",225,"X",10,"=",0,0,"X",{"$f":"D9","v":225},"X",10,"=",0]
[null,"Nk=k",{"$f":"Namankan!J15+Namankan!J16","v":0},225,0,"X",225,"X",10,"=",0,0,"X",100,"X",10,"=",0]
["d{kk 11 ls 12 rd","Nk= ",{"$f":"Namankan!I17+Namankan!I18","v":0},230,0,"X",230,"X",10,"=",0,0,"X",{"$f":"D11","v":230},"X",10,"=",0]
[null,"Nk=k",{"$f":"Namankan!J17+Namankan!J18","v":0},230,0,"X",230,"X",10,"=",0,0,"X",100,"X",10,"=",0]
["dqy ;ksx",{"$nulls":9},{"$f":"SUM(K7:K12)","v":0},{"$nulls":6},{"$f":"SUM(R7:R12)","v":0}]
[{"$f":"Summary!$A$2","v":"ç/kkukpk;Z] jkmekfo jk;eyok³k ¼vkWfQl vkbZ-Mh- la[;k %&12572½"}]
["izi= la[;k 13"]
["vuqlwfpr tu tkfr ds Nk= o Nk=kvksa ds fy, Nk=o``fRr dk fooj.k"]
["d{kk","Nk= @ Nk=k la[;k",null,"nj","o\"kZ 2019&20 ds fy, \nla'kksf/kr vuqeku\n10 ekg ds fy,",{"$nulls":6},"o\"kZ 2020&21 ds fy, \nvuqekfur jkf'k \n10 ekg ds fy,",{"$nulls":6},"xr o\"kZ dh cdk;k jkf'k"]
[{"$nulls":18},"o\"kZ","jkf'k",";ksx ¼5$7½"]
[1,2,null,3,4,{"$nulls":6},5,{"$nulls":6},6,7,8]
["d{kk 6 ls 8 rd","Nk= ",{"$f":"Namankan!F12+Namankan!F13+Namankan!F14","v":0},75,{"$f":"C20","v":0},"X",{"$f":"D20","v":75},"X",10,"=",{"$f":"E20*G20*I20","v":0},{"$f":"IF(C20<=0,0,(E20+5))","v":0},"X",{"$f":"D20","v":75},"X",10,"=",{"$f":"L20*N20*P20","v":0}]
[null,"Nk=k",{"$f":"Namankan!G12+Namankan!G13+Namankan!G14","v":0},125,0,"X",125,"X",10,"=",0,0,"X",{"$f":"D21","v":125},"X",10,"=",0]
["d{kk 9 ls 10 rd","Nk= ",{"$f":"Namankan!F15+Namankan!F16","v":0},225,0,"X",225,"X",10,"=",0,0,"X",{"$f":"D22","v":225},"X",10,"=",0]
[null,"Nk=k",{"$f":"Namankan!G15+Namankan!G16","v":0},225,0,"X",225,"X",10,"=",0,0,"X",100,"X",10,"=",0]
["d{kk 11 ls 12 rd","Nk= ",{"$f":"Namankan!F17+Namankan!F18","v":0},230,0,"X",230,"X",10,"=",0,0,"X",{"$f":"D24","v":230},"X",10,"=",0]
[null,"Nk=k",{"$f":"Namankan!G17+Namankan!G18","v":0},230,0,"X",230,"X",10,"=",0,0,"X",100,"X",10,"=",0]
["dqy ;ksx",{"$nulls":9},{"$f":"SUM(K20:K25)","v":0},{"$nulls":6},{"$f":"SUM(R20:R25)","v":0}]
[{"$f":"Summary!$A$2","v":"ç/kkukpk;Z] jkmekfo jk;eyok³k ¼vkWfQl vkbZ-Mh- la[;k %&12572½"}]
["izi=k la[;k 13"]
["vU; fiNM+k oxZ ds Nk= o Nk=kvksa ds fy, Nk=o``fRr dk fooj.k"]
["d{kk","Nk= @ Nk=k la[;k",null,"nj","o\"kZ 2019&20 ds fy, \nla'kksf/kr vuqeku\n10 ekg ds fy,",{"$nulls":6},"o\"kZ 2020&21 ds fy, \nvuqekfur jkf'k \n10 ekg ds fy,",{"$nulls":6},"xr o\"kZ dh cdk;k jkf'k"]
[{"$nulls":18},"o\"kZ","jkf'k",";ksx ¼5$7½"]
[1,2,null,3,4,{"$nulls":6},5,{"$nulls":6},6,7,8]
["d{kk 6 ls 8 rd","Nk= ",{"$f":"Namankan!L12+Namankan!L13+Namankan!L14+Namankan!O12+Namankan!O13+Namankan!O14","v":0},40,{"$f":"C33","v":0},"X",{"$f":"D33","v":40},"X",10,"=",{"$f":"E33*G33*I33","v":0},{"$f":"IF(C33<=0,0,(E33+5))","v":0},"X",{"$f":"D33","v":40},"X",10,"=",{"$f":"L33*N33*P33","v":0}]
[null,"Nk=k",{"$f":"Namankan!M12+Namankan!M13+Namankan!M14+Namankan!P12+Namankan!P13+Namankan!P14","v":0},40,0,"X",40,"X",10,"=",0,0,"X",40,"X",10,"=",0]
["d{kk 9 ls 10 rd","Nk= ",{"$f":"Namankan!L15+Namankan!L16+Namankan!O15+Namankan!O16","v":0},50,0,"X",50,"X",10,"=",0,0,"X",50,"X",10,"=",0]
[null,"Nk=k",{"$f":"Namankan!M15+Namankan!M16+Namankan!P15+Namankan!P16","v":0},50,0,"X",50,"X",10,"=",0,0,"X",50,"X",10,"=",0]
["d{kk 11 ls 12 rd","Nk= ",{"$f":"Namankan!L17+Namankan!L18+Namankan!O17+Namankan!O18","v":0},90,0,"X",90,"X",10,"=",0,0,"X",90,"X",10,"=",0]
[null,"Nk=k",{"$f":"Namankan!M17+Namankan!M18+Namankan!P17+Namankan!P18","v":0},90,0,"X",90,"X",10,"=",0,0,"X",90,"X",10,"=",0]
["dqy ;ksx",{"$nulls":9},{"$f":"SUM(K33:K38)","v":0},{"$nulls":6},{"$f":"SUM(R33:R38)","v":0}]
[]
[{"$nulls":17},{"$f":"Master!E2","v":"ç/kkukpk;Z]"}]
[{"$nulls":17},{"$f":"Master!F2","v":0}]

{"sheet":"PL Encash","index":25,"n_rows":15,"n_cols":8,"rows_kept":15,"merged":[[0,5,0,6],[0,8,14,8],[1,0,1,6],[2,0,2,6],[3,0,3,6],[11,7,14,7],[13,5,13,6],[14,5,16,6]]}
[{"$nulls":5},{"$f":"Summary!$C$1","v":{"v":12572,"d":"OFFICE ID 12572"}}]
[{"$f":"Summary!$A$2","v":"ç/kkukpk;Z] jkmekfo jk;eyok³k ¼vkWfQl vkbZ-Mh- la[;k %&12572½"},{"$nulls":6},{"$f":"Master!$C$4","v":"ctV la'kksf/kr vuqeku fofÙk; o\"kZ %"}]
["vodk'k udnhdj.k Hkqxrku fooj.k",{"$nulls":6},{"$f":"Master!$E$4","v":"2025-26"}]
["BUDGET HEAD : 2071 - Pension and other Retirement Benefits  115 - Leave encashment    01 - Civil  104 - Gratuities "]
["Ø- la-","deZpkjh dk uke","in","lsokfuo`fr frfFk","vodk'k dh la[;k","ewy osru","Hkqxrku ;ksX; dqy jkf'k",{"$f":"'Formet 8'!G217","v":{"v":0.55,"d":"DA @55%"}}]
[1,2,3,4,5,6,7]
[1,"&","-","-",0,0,{"$f":"ROUND(E7/30*F7,0)+ROUND(E7/30*H7,0)","v":0},{"$f":"ROUND(F7*H5,0)","v":0}]
[2,"&","-","-",0,0,{"$f":"ROUND(E8/30*F8,0)+ROUND(E8/30*H8,0)","v":0},{"$f":"ROUND(F8*H6,0)","v":0}]
[3,"&","-","-",0,0,{"$f":"ROUND(E9/30*F9,0)+ROUND(E9/30*H9,0)","v":0},{"$f":"ROUND(F9*H7,0)","v":0}]
[4,"&","-","-",0,0,{"$f":"ROUND(E10/30*F10,0)+ROUND(E10/30*H10,0)","v":0},{"$f":"ROUND(F10*H8,0)","v":0}]
[4,"&","-","-",0,0,{"$f":"ROUND(E11/30*F11,0)+ROUND(E11/30*H11,0)","v":0},{"$f":"ROUND(F11*H9,0)","v":0}]
[]
[]
[{"$nulls":5},{"$f":"Master!E2","v":"ç/kkukpk;Z]"}]
[{"$nulls":5},{"$f":"Master!H2","v":"jkmekfo jk;eyok³k"}]

{"sheet":"Liveries","index":26,"n_rows":16,"n_cols":19,"rows_kept":16,"merged":[[0,16,0,18],[0,19,17,19],[1,0,1,18],[2,0,2,18],[3,0,3,18],[4,0,4,18],[5,0,7,0],[5,1,7,1],[5,2,5,5],[5,6,7,6],[5,7,5,16],[5,17,7,17],[5,18,7,18],[6,2,7,2],[6,3,7,3],[6,4,7,4],[6,5,7,5],[6,7,6,9],[6,10,6,12],[6,13,6,15],[6,16,7,16],[14,15,14,18],[15,15,17,18]]}
[{"$nulls":16},{"$f":"Summary!$C$1","v":{"v":12572,"d":"OFFICE ID 12572"}}]
[{"$f":"Summary!$A$2","v":"ç/kkukpk;Z] jkmekfo jk;eyok³k ¼vkWfQl vkbZ-Mh- la[;k %&12572½"}]
["ofnZ;ksa lEcU/kh O;; fooj.k "]
["fofÙk; o\"kZ 2024&25"]
[{"$f":"abc!A4","v":"BUDGET HEAD : 2202 -सामान्य शिक्षा-02-109 -राजकीय माध्यमिक विद्यालय-27 -लडकों के विद्यालय-01 -लडकों के विद्यालयों का संचालन व्यय   (STATE FUND)"}]
["Ø-la-","fo|ky;@dk;kZy; dk uke","Lohd`r in",{"$nulls":3},"ctV vkoaVu","dk;Zjr in",{"$nulls":9},"ofnZ;ksa ij O;; gsrq jkf'k dh vk';drk","cpr ;k vkf/kD;"]
[null,null,"teknkj","iz;ksx'kkyk lsod","prqFkZ Js.kh deZpkjh ",";ksx",null,"teknkj",null,null,"iz;ksx'kkyk lsod",null,null,"prqFkZ Js.kh deZpkjh ",null,null,"dqy ;ksx"]
[{"$nulls":7},"iq:\"k","efgyk",";ksx","iq:\"k","efgyk",";ksx","iq:\"k","efgyk",";ksx"]
[1,2,3,4,5,6,7,8,9,10,11,12,13,14,15,16,17,18,19]
[1,{"$f":"$P$16","v":"jkmekfo jk;eyok³k"},{"$f":"'Format 1A'!F30","v":0},{"$f":"'[2](4) Format 1(A)'!F29","v":0},0,{"$f":"SUM(C10:E10)","v":0},0,{"$f":"'Formet 8'!W585","v":0},{"$f":"'Formet 8'!X585","v":0},{"$f":"SUM(H10:I10)","v":0},{"$f":"'Formet 8'!Y585","v":0},{"$f":"'Formet 8'!Z585","v":0},{"$f":"SUM(K10:L10)","v":0},{"$f":"'Formet 8'!AA585","v":0},{"$f":"'Formet 8'!AB585","v":0},{"$f":"SUM(N10:O10)","v":0},{"$f":"J10+M10+P10","v":0},{"$f":"H10*1800+I10*1800+(K10+N10)*1650+(L10+O10)*1950","v":0},{"$f":"G10-R10","v":0}]
[null,"Total",{"$f":"SUM(C10:C10)","v":0},{"$f":"SUM(D10:D10)","v":0},0,0,0,0,0,0,0,0,0,0,0,0,0,0,0]
[]
[]
[]
[{"$nulls":15},{"$f":"Master!E2","v":"ç/kkukpk;Z]"}]
[{"$nulls":15},{"$f":"Master!H2","v":"jkmekfo jk;eyok³k"}]

{"sheet":"Fix Pay","index":27,"n_rows":120,"n_cols":19,"rows_kept":120,"merged":[[0,8,0,10],[0,11,122,11],[1,0,1,10],[2,0,2,10],[3,0,3,10],[4,0,4,10],[5,0,5,10],[8,13,31,13],[114,12,114,13],[116,0,116,4],[117,0,122,4],[117,5,118,10],[119,5,122,10]]}
[{"$nulls":8},{"$f":"Summary!$C$1","v":{"v":12572,"d":"OFFICE ID 12572"}}]
[{"$f":"Summary!$A$3","v":"Principal Govt. Sr. Sec. School Raimalwada"},{"$nulls":11},"Grade Pay",1300,1400]
["Income-Expenditure Estimate Of Salary",{"$nulls":11},"FIX PAY",4850,5050]
["For FY - 2020-21 (April 2020 to March 2021)"]
["FORM 1-POST WISE SALARY DETAIL - FIXED"]
[{"$f":"Summary!A5","v":"BUDGET HEAD : 2202 -सामान्य शिक्षा-02-109 -राजकीय माध्यमिक विद्यालय-27 -लडकों के विद्यालय-01 -लडकों के विद्यालयों का संचालन व्यय   (STATE FUND)"},{"$nulls":14},"2027-03-31","2026-03-31"]
["S.No.","Name of Employee","Post","Date of Joining","Date Completion of Probatation","Salary on \n1st March 25","Pay Metrix Level","Basic Pay On Fixation Completed","Salary of 12 Month","Revised Estimate For FY \n2025-26","Budget Estimate For FY \n2026-27",{"$nulls":4},"REGULAR MONTH BEFORE 31-03-2027","REGULAR MONTH BEFORE 31-03-2026","Arrear \n2025-26","Arrear \n2026-27"]
[1,2,3,4,5,6,7,8,10,12,13,null,"Level","Cell No.",1]
[1,{"$f":"IF(MAX('Formet 8'!$A$229:$A$338)<'Fix Pay'!$A9,\"\",VLOOKUP($A9,'Formet 8'!$A$229:$O$338,4,0))","v":"gfdgd"},{"$f":"IF(MAX('Formet 8'!$A$229:$A$338)<'Fix Pay'!$A9,\"\",VLOOKUP($A9,'Formet 8'!$A$229:$O$338,7,0))","v":0},"2024-01-31",{"$f":"IF(B9=\"\",\"\",D9+365+365)","v":"2026-01-30"},{"$f":"IF(MAX('Formet 8'!$A$229:$A$338)<'Fix Pay'!$A9,\"\",VLOOKUP($A9,'Formet 8'!$A$229:$O$338,9,0))","v":23700},{"$f":"IF(MAX('Formet 8'!$A$229:$A$338)<'Fix Pay'!$A9,\"\",VLOOKUP($A9,'Formet 8'!$A$229:$O$338,8,0))","v":{"v":10,"d":"L-10"}},{"$f":"IF(F9=\"\",\"\",VLOOKUP(G9,$M$9:$O$32,3,0))","v":33800},{"$f":"IF(B9=\"\",\"\",F9*12)","v":284400},{"$f":"IF(F9=\"\",\"\",IF(OR(Q9=\"\",Q9=0),F9*12,((12-Q9)*F9+(Q9*H9*1.65))))","v":348540},{"$f":"IF(F9=\"\",\"\",IF(OR(P9=\"\",P9=0),H9*12,((12-P9)*F9+(P9*H9*1.7))))","v":405600},null,{"v":1,"d":"L-1"},"Pay Metrix (Amount in Rs.)",17700,{"$f":"IF(OR(E9=\"\",Q9>0),\"\",IF($P$6<E9,0,($P$6-E9)/30))","v":""},{"$f":"IF(E9=\"\",\"\",IF($Q$6<E9,0,($Q$6-E9)/30))","v":2},{"$f":"IF(OR(Q9=0,Q9=\"\"),\"\",(J9-I9))","v":64140},{"$f":"IF(B9=\"\",\"\",IF(AND(P9=0,Q9=0),\"\",(K9-I9)))","v":121200}]
[2,{"$f":"IF(MAX('Formet 8'!$A$229:$A$338)<'Fix Pay'!$A10,\"\",VLOOKUP($A10,'Formet 8'!$A$229:$O$338,4,0))","v":""},{"$f":"IF(MAX('Formet 8'!$A$229:$A$338)<'Fix Pay'!$A10,\"\",VLOOKUP($A10,'Formet 8'!$A$229:$O$338,7,0))","v":""},null,{"$f":"IF(B10=\"\",\"\",D10+365+365)","v":""},{"$f":"IF(MAX('Formet 8'!$A$229:$A$338)<'Fix Pay'!$A10,\"\",VLOOKUP($A10,'Formet 8'!$A$229:$O$338,9,0))","v":""},{"$f":"IF(MAX('Formet 8'!$A$229:$A$338)<'Fix Pay'!$A10,\"\",VLOOKUP($A10,'Formet 8'!$A$229:$O$338,8,0))","v":""},"",{"$f":"IF(B10=\"\",\"\",F10*12)","v":""},{"$f":"IF(F10=\"\",\"\",IF(OR(Q10=\"\",Q10=0),F10*12,((12-Q10)*F10+(Q10*H10*1.65))))","v":""},{"$f":"IF(F10=\"\",\"\",IF(OR(P10=\"\",P10=0),H10*12,((12-P10)*F10+(P10*H10*1.7))))","v":""},null,{"v":2,"d":"L-2"},null,17900,{"$f":"IF(OR(E10=\"\",Q10>0),\"\",IF($P$6<E10,0,($P$6-E10)/30))","v":""},{"$f":"IF(E10=\"\",\"\",IF($Q$6<E10,0,($Q$6-E10)/30))","v":""},{"$f":"IF(OR(Q10=0,Q10=\"\"),\"\",(J10-I10))","v":""},{"$f":"IF(B10=\"\",\"\",IF(AND(P10=0,Q10=0),\"\",(K10-I10)))","v":""}]
[3,{"$f":"IF(MAX('Formet 8'!$A$229:$A$338)<'Fix Pay'!$A11,\"\",VLOOKUP($A11,'Formet 8'!$A$229:$O$338,4,0))","v":""},{"$f":"IF(MAX('Formet 8'!$A$229:$A$338)<'Fix Pay'!$A11,\"\",VLOOKUP($A11,'Formet 8'!$A$229:$O$338,7,0))","v":""},null,"",{"$f":"IF(MAX('Formet 8'!$A$229:$A$338)<'Fix Pay'!$A11,\"\",VLOOKUP($A11,'Formet 8'!$A$229:$O$338,9,0))","v":""},{"$f":"IF(MAX('Formet 8'!$A$229:$A$338)<'Fix Pay'!$A11,\"\",VLOOKUP($A11,'Formet 8'!$A$229:$O$338,8,0))","v":""},"","","","",null,{"v":3,"d":"L-3"},null,18200,"","","",""]
[4,{"$f":"IF(MAX('Formet 8'!$A$229:$A$338)<'Fix Pay'!$A12,\"\",VLOOKUP($A12,'Formet 8'!$A$229:$O$338,4,0))","v":""},{"$f":"IF(MAX('Formet 8'!$A$229:$A$338)<'Fix Pay'!$A12,\"\",VLOOKUP($A12,'Formet 8'!$A$229:$O$338,7,0))","v":""},null,"",{"$f":"IF(MAX('Formet 8'!$A$229:$A$338)<'Fix Pay'!$A12,\"\",VLOOKUP($A12,'Formet 8'!$A$229:$O$338,9,0))","v":""},{"$f":"IF(MAX('Formet 8'!$A$229:$A$338)<'Fix Pay'!$A12,\"\",VLOOKUP($A12,'Formet 8'!$A$229:$O$338,8,0))","v":""},"","","","",null,{"v":4,"d":"L-4"},null,19200,"","","",""]
[5,{"$f":"IF(MAX('Formet 8'!$A$229:$A$338)<'Fix Pay'!$A13,\"\",VLOOKUP($A13,'Formet 8'!$A$229:$O$338,4,0))","v":""},{"$f":"IF(MAX('Formet 8'!$A$229:$A$338)<'Fix Pay'!$A13,\"\",VLOOKUP($A13,'Formet 8'!$A$229:$O$338,7,0))","v":""},null,"",{"$f":"IF(MAX('Formet 8'!$A$229:$A$338)<'Fix Pay'!$A13,\"\",VLOOKUP($A13,'Formet 8'!$A$229:$O$338,9,0))","v":""},{"$f":"IF(MAX('Formet 8'!$A$229:$A$338)<'Fix Pay'!$A13,\"\",VLOOKUP($A13,'Formet 8'!$A$229:$O$338,8,0))","v":""},"","","","",null,{"v":5,"d":"L-5"},null,20800,"","","",""]
[6,{"$f":"IF(MAX('Formet 8'!$A$229:$A$338)<'Fix Pay'!$A14,\"\",VLOOKUP($A14,'Formet 8'!$A$229:$O$338,4,0))","v":""},{"$f":"IF(MAX('Formet 8'!$A$229:$A$338)<'Fix Pay'!$A14,\"\",VLOOKUP($A14,'Formet 8'!$A$229:$O$338,7,0))","v":""},null,"",{"$f":"IF(MAX('Formet 8'!$A$229:$A$338)<'Fix Pay'!$A14,\"\",VLOOKUP($A14,'Formet 8'!$A$229:$O$338,9,0))","v":""},{"$f":"IF(MAX('Formet 8'!$A$229:$A$338)<'Fix Pay'!$A14,\"\",VLOOKUP($A14,'Formet 8'!$A$229:$O$338,8,0))","v":""},"","","","",null,{"v":6,"d":"L-6"},null,21500,"","","",""]
[7,{"$f":"IF(MAX('Formet 8'!$A$229:$A$338)<'Fix Pay'!$A15,\"\",VLOOKUP($A15,'Formet 8'!$A$229:$O$338,4,0))","v":""},{"$f":"IF(MAX('Formet 8'!$A$229:$A$338)<'Fix Pay'!$A15,\"\",VLOOKUP($A15,'Formet 8'!$A$229:$O$338,7,0))","v":""},null,"",{"$f":"IF(MAX('Formet 8'!$A$229:$A$338)<'Fix Pay'!$A15,\"\",VLOOKUP($A15,'Formet 8'!$A$229:$O$338,9,0))","v":""},{"$f":"IF(MAX('Formet 8'!$A$229:$A$338)<'Fix Pay'!$A15,\"\",VLOOKUP($A15,'Formet 8'!$A$229:$O$338,8,0))","v":""},"","","","",null,{"v":7,"d":"L-7"},null,22400,"","","",""]
[8,{"$f":"IF(MAX('Formet 8'!$A$229:$A$338)<'Fix Pay'!$A16,\"\",VLOOKUP($A16,'Formet 8'!$A$229:$O$338,4,0))","v":""},{"$f":"IF(MAX('Formet 8'!$A$229:$A$338)<'Fix Pay'!$A16,\"\",VLOOKUP($A16,'Formet 8'!$A$229:$O$338,7,0))","v":""},null,"",{"$f":"IF(MAX('Formet 8'!$A$229:$A$338)<'Fix Pay'!$A16,\"\",VLOOKUP($A16,'Formet 8'!$A$229:$O$338,9,0))","v":""},{"$f":"IF(MAX('Formet 8'!$A$229:$A$338)<'Fix Pay'!$A16,\"\",VLOOKUP($A16,'Formet 8'!$A$229:$O$338,8,0))","v":""},"","","","",null,{"v":8,"d":"L-8"},null,26300,"","","",""]
[9,{"$f":"IF(MAX('Formet 8'!$A$229:$A$338)<'Fix Pay'!$A17,\"\",VLOOKUP($A17,'Formet 8'!$A$229:$O$338,4,0))","v":""},{"$f":"IF(MAX('Formet 8'!$A$229:$A$338)<'Fix Pay'!$A17,\"\",VLOOKUP($A17,'Formet 8'!$A$229:$O$338,7,0))","v":""},null,"",{"$f":"IF(MAX('Formet 8'!$A$229:$A$338)<'Fix Pay'!$A17,\"\",VLOOKUP($A17,'Formet 8'!$A$229:$O$338,9,0))","v":""},{"$f":"IF(MAX('Formet 8'!$A$229:$A$338)<'Fix Pay'!$A17,\"\",VLOOKUP($A17,'Formet 8'!$A$229:$O$338,8,0))","v":""},"","","","",null,{"v":9,"d":"L-9"},null,28700,"","","",""]
[10,{"$f":"IF(MAX('Formet 8'!$A$229:$A$338)<'Fix Pay'!$A18,\"\",VLOOKUP($A18,'Formet 8'!$A$229:$O$338,4,0))","v":""},{"$f":"IF(MAX('Formet 8'!$A$229:$A$338)<'Fix Pay'!$A18,\"\",VLOOKUP($A18,'Formet 8'!$A$229:$O$338,7,0))","v":""},null,"",{"$f":"IF(MAX('Formet 8'!$A$229:$A$338)<'Fix Pay'!$A18,\"\",VLOOKUP($A18,'Formet 8'!$A$229:$O$338,9,0))","v":""},{"$f":"IF(MAX('Formet 8'!$A$229:$A$338)<'Fix Pay'!$A18,\"\",VLOOKUP($A18,'Formet 8'!$A$229:$O$338,8,0))","v":""},"","","","",null,{"v":10,"d":"L-10"},null,33800,"","","",""]
[11,{"$f":"IF(MAX('Formet 8'!$A$229:$A$338)<'Fix Pay'!$A19,\"\",VLOOKUP($A19,'Formet 8'!$A$229:$O$338,4,0))","v":""},{"$f":"IF(MAX('Formet 8'!$A$229:$A$338)<'Fix Pay'!$A19,\"\",VLOOKUP($A19,'Formet 8'!$A$229:$O$338,7,0))","v":""},null,"",{"$f":"IF(MAX('Formet 8'!$A$229:$A$338)<'Fix Pay'!$A19,\"\",VLOOKUP($A19,'Formet 8'!$A$229:$O$338,9,0))","v":""},{"$f":"IF(MAX('Formet 8'!$A$229:$A$338)<'Fix Pay'!$A19,\"\",VLOOKUP($A19,'Formet 8'!$A$229:$O$338,8,0))","v":""},"","","","",null,{"v":11,"d":"L-11"},null,37800,"","","",""]
[12,{"$f":"IF(MAX('Formet 8'!$A$229:$A$338)<'Fix Pay'!$A20,\"\",VLOOKUP($A20,'Formet 8'!$A$229:$O$338,4,0))","v":""},{"$f":"IF(MAX('Formet 8'!$A$229:$A$338)<'Fix Pay'!$A20,\"\",VLOOKUP($A20,'Formet 8'!$A$229:$O$338,7,0))","v":""},null,"",{"$f":"IF(MAX('Formet 8'!$A$229:$A$338)<'Fix Pay'!$A20,\"\",VLOOKUP($A20,'Formet 8'!$A$229:$O$338,9,0))","v":""},{"$f":"IF(MAX('Formet 8'!$A$229:$A$338)<'Fix Pay'!$A20,\"\",VLOOKUP($A20,'Formet 8'!$A$229:$O$338,8,0))","v":""},"","","","",null,{"v":12,"d":"L-12"},null,44300,"","","",""]
[13,{"$f":"IF(MAX('Formet 8'!$A$229:$A$338)<'Fix Pay'!$A21,\"\",VLOOKUP($A21,'Formet 8'!$A$229:$O$338,4,0))","v":""},{"$f":"IF(MAX('Formet 8'!$A$229:$A$338)<'Fix Pay'!$A21,\"\",VLOOKUP($A21,'Formet 8'!$A$229:$O$338,7,0))","v":""},null,"",{"$f":"IF(MAX('Formet 8'!$A$229:$A$338)<'Fix Pay'!$A21,\"\",VLOOKUP($A21,'Formet 8'!$A$229:$O$338,9,0))","v":""},{"$f":"IF(MAX('Formet 8'!$A$229:$A$338)<'Fix Pay'!$A21,\"\",VLOOKUP($A21,'Formet 8'!$A$229:$O$338,8,0))","v":""},"","","","",null,{"v":13,"d":"L-13"},null,53100,"","","",""]
[14,{"$f":"IF(MAX('Formet 8'!$A$229:$A$338)<'Fix Pay'!$A22,\"\",VLOOKUP($A22,'Formet 8'!$A$229:$O$338,4,0))","v":""},{"$f":"IF(MAX('Formet 8'!$A$229:$A$338)<'Fix Pay'!$A22,\"\",VLOOKUP($A22,'Formet 8'!$A$229:$O$338,7,0))","v":""},null,"",{"$f":"IF(MAX('Formet 8'!$A$229:$A$338)<'Fix Pay'!$A22,\"\",VLOOKUP($A22,'Formet 8'!$A$229:$O$338,9,0))","v":""},{"$f":"IF(MAX('Formet 8'!$A$229:$A$338)<'Fix Pay'!$A22,\"\",VLOOKUP($A22,'Formet 8'!$A$229:$O$338,8,0))","v":""},"","","","",null,{"v":14,"d":"L-14"},null,56100,"","","",""]
[15,{"$f":"IF(MAX('Formet 8'!$A$229:$A$338)<'Fix Pay'!$A23,\"\",VLOOKUP($A23,'Formet 8'!$A$229:$O$338,4,0))","v":""},{"$f":"IF(MAX('Formet 8'!$A$229:$A$338)<'Fix Pay'!$A23,\"\",VLOOKUP($A23,'Formet 8'!$A$229:$O$338,7,0))","v":""},null,"",{"$f":"IF(MAX('Formet 8'!$A$229:$A$338)<'Fix Pay'!$A23,\"\",VLOOKUP($A23,'Formet 8'!$A$229:$O$338,9,0))","v":""},{"$f":"IF(MAX('Formet 8'!$A$229:$A$338)<'Fix Pay'!$A23,\"\",VLOOKUP($A23,'Formet 8'!$A$229:$O$338,8,0))","v":""},"","","","",null,{"v":15,"d":"L-15"},null,60700,"","","",""]
[16,{"$f":"IF(MAX('Formet 8'!$A$229:$A$338)<'Fix Pay'!$A24,\"\",VLOOKUP($A24,'Formet 8'!$A$229:$O$338,4,0))","v":""},{"$f":"IF(MAX('Formet 8'!$A$229:$A$338)<'Fix Pay'!$A24,\"\",VLOOKUP($A24,'Formet 8'!$A$229:$O$338,7,0))","v":""},null,"",{"$f":"IF(MAX('Formet 8'!$A$229:$A$338)<'Fix Pay'!$A24,\"\",VLOOKUP($A24,'Formet 8'!$A$229:$O$338,9,0))","v":""},{"$f":"IF(MAX('Formet 8'!$A$229:$A$338)<'Fix Pay'!$A24,\"\",VLOOKUP($A24,'Formet 8'!$A$229:$O$338,8,0))","v":""},"","","","",null,{"v":16,"d":"L-16"},null,67300,"","","",""]
[17,{"$f":"IF(MAX('Formet 8'!$A$229:$A$338)<'Fix Pay'!$A25,\"\",VLOOKUP($A25,'Formet 8'!$A$229:$O$338,4,0))","v":""},{"$f":"IF(MAX('Formet 8'!$A$229:$A$338)<'Fix Pay'!$A25,\"\",VLOOKUP($A25,'Formet 8'!$A$229:$O$338,7,0))","v":""},null,"",{"$f":"IF(MAX('Formet 8'!$A$229:$A$338)<'Fix Pay'!$A25,\"\",VLOOKUP($A25,'Formet 8'!$A$229:$O$338,9,0))","v":""},{"$f":"IF(MAX('Formet 8'!$A$229:$A$338)<'Fix Pay'!$A25,\"\",VLOOKUP($A25,'Formet 8'!$A$229:$O$338,8,0))","v":""},"","","","",null,{"v":17,"d":"L-17"},null,71000,"","","",""]
[18,{"$f":"IF(MAX('Formet 8'!$A$229:$A$338)<'Fix Pay'!$A26,\"\",VLOOKUP($A26,'Formet 8'!$A$229:$O$338,4,0))","v":""},{"$f":"IF(MAX('Formet 8'!$A$229:$A$338)<'Fix Pay'!$A26,\"\",VLOOKUP($A26,'Formet 8'!$A$229:$O$338,7,0))","v":""},null,"",{"$f":"IF(MAX('Formet 8'!$A$229:$A$338)<'Fix Pay'!$A26,\"\",VLOOKUP($A26,'Formet 8'!$A$229:$O$338,9,0))","v":""},{"$f":"IF(MAX('Formet 8'!$A$229:$A$338)<'Fix Pay'!$A26,\"\",VLOOKUP($A26,'Formet 8'!$A$229:$O$338,8,0))","v":""},"","","","",null,{"v":18,"d":"L-18"},null,75300,"","","",""]
[19,{"$f":"IF(MAX('Formet 8'!$A$229:$A$338)<'Fix Pay'!$A27,\"\",VLOOKUP($A27,'Formet 8'!$A$229:$O$338,4,0))","v":""},{"$f":"IF(MAX('Formet 8'!$A$229:$A$338)<'Fix Pay'!$A27,\"\",VLOOKUP($A27,'Formet 8'!$A$229:$O$338,7,0))","v":""},null,"",{"$f":"IF(MAX('Formet 8'!$A$229:$A$338)<'Fix Pay'!$A27,\"\",VLOOKUP($A27,'Formet 8'!$A$229:$O$338,9,0))","v":""},{"$f":"IF(MAX('Formet 8'!$A$229:$A$338)<'Fix Pay'!$A27,\"\",VLOOKUP($A27,'Formet 8'!$A$229:$O$338,8,0))","v":""},"","","","",null,{"v":19,"d":"L-19"},null,79900,"","","",""]
[20,{"$f":"IF(MAX('Formet 8'!$A$229:$A$338)<'Fix Pay'!$A28,\"\",VLOOKUP($A28,'Formet 8'!$A$229:$O$338,4,0))","v":""},{"$f":"IF(MAX('Formet 8'!$A$229:$A$338)<'Fix Pay'!$A28,\"\",VLOOKUP($A28,'Formet 8'!$A$229:$O$338,7,0))","v":""},null,"",{"$f":"IF(MAX('Formet 8'!$A$229:$A$338)<'Fix Pay'!$A28,\"\",VLOOKUP($A28,'Formet 8'!$A$229:$O$338,9,0))","v":""},{"$f":"IF(MAX('Formet 8'!$A$229:$A$338)<'Fix Pay'!$A28,\"\",VLOOKUP($A28,'Formet 8'!$A$229:$O$338,8,0))","v":""},"","","","",null,{"v":20,"d":"L-20"},null,88900,"","","",""]
[21,{"$f":"IF(MAX('Formet 8'!$A$229:$A$338)<'Fix Pay'!$A29,\"\",VLOOKUP($A29,'Formet 8'!$A$229:$O$338,4,0))","v":""},{"$f":"IF(MAX('Formet 8'!$A$229:$A$338)<'Fix Pay'!$A29,\"\",VLOOKUP($A29,'Formet 8'!$A$229:$O$338,7,0))","v":""},null,"",{"$f":"IF(MAX('Formet 8'!$A$229:$A$338)<'Fix Pay'!$A29,\"\",VLOOKUP($A29,'Formet 8'!$A$229:$O$338,9,0))","v":""},{"$f":"IF(MAX('Formet 8'!$A$229:$A$338)<'Fix Pay'!$A29,\"\",VLOOKUP($A29,'Formet 8'!$A$229:$O$338,8,0))","v":""},"","","","",null,{"v":21,"d":"L-21"},null,123100,"","","",""]
[22,{"$f":"IF(MAX('Formet 8'!$A$229:$A$338)<'Fix Pay'!$A30,\"\",VLOOKUP($A30,'Formet 8'!$A$229:$O$338,4,0))","v":""},{"$f":"IF(MAX('Formet 8'!$A$229:$A$338)<'Fix Pay'!$A30,\"\",VLOOKUP($A30,'Formet 8'!$A$229:$O$338,7,0))","v":""},null,"",{"$f":"IF(MAX('Formet 8'!$A$229:$A$338)<'Fix Pay'!$A30,\"\",VLOOKUP($A30,'Formet 8'!$A$229:$O$338,9,0))","v":""},{"$f":"IF(MAX('Formet 8'!$A$229:$A$338)<'Fix Pay'!$A30,\"\",VLOOKUP($A30,'Formet 8'!$A$229:$O$338,8,0))","v":""},"","","","",null,{"v":22,"d":"L-22"},null,129700,"","","",""]
[23,{"$f":"IF(MAX('Formet 8'!$A$229:$A$338)<'Fix Pay'!$A31,\"\",VLOOKUP($A31,'Formet 8'!$A$229:$O$338,4,0))","v":""},{"$f":"IF(MAX('Formet 8'!$A$229:$A$338)<'Fix Pay'!$A31,\"\",VLOOKUP($A31,'Formet 8'!$A$229:$O$338,7,0))","v":""},null,"",{"$f":"IF(MAX('Formet 8'!$A$229:$A$338)<'Fix Pay'!$A31,\"\",VLOOKUP($A31,'Formet 8'!$A$229:$O$338,9,0))","v":""},{"$f":"IF(MAX('Formet 8'!$A$229:$A$338)<'Fix Pay'!$A31,\"\",VLOOKUP($A31,'Formet 8'!$A$229:$O$338,8,0))","v":""},"","","","",null,{"v":23,"d":"L-23"},null,145800,"","","",""]
[24,{"$f":"IF(MAX('Formet 8'!$A$229:$A$338)<'Fix Pay'!$A32,\"\",VLOOKUP($A32,'Formet 8'!$A$229:$O$338,4,0))","v":""},{"$f":"IF(MAX('Formet 8'!$A$229:$A$338)<'Fix Pay'!$A32,\"\",VLOOKUP($A32,'Formet 8'!$A$229:$O$338,7,0))","v":""},null,"",{"$f":"IF(MAX('Formet 8'!$A$229:$A$338)<'Fix Pay'!$A32,\"\",VLOOKUP($A32,'Formet 8'!$A$229:$O$338,9,0))","v":""},{"$f":"IF(MAX('Formet 8'!$A$229:$A$338)<'Fix Pay'!$A32,\"\",VLOOKUP($A32,'Formet 8'!$A$229:$O$338,8,0))","v":""},"","",{"$f":"IF(F32=\"\",\"\",IF(OR(Q32=\"\",Q32=0),F32*12,((12-Q32)*F32+(Q32*H32*1.65))))","v":""},{"$f":"IF(F32=\"\",\"\",IF(OR(P32=\"\",P32=0),H32*12,((12-P32)*F32+(P32*H32*1.7))))","v":""},null,{"v":24,"d":"L-24"},null,148800,"","","",""]
[25,{"$f":"IF(MAX('Formet 8'!$A$229:$A$338)<'Fix Pay'!$A33,\"\",VLOOKUP($A33,'Formet 8'!$A$229:$O$338,4,0))","v":""},{"$f":"IF(MAX('Formet 8'!$A$229:$A$338)<'Fix Pay'!$A33,\"\",VLOOKUP($A33,'Formet 8'!$A$229:$O$338,7,0))","v":""},null,"",{"$f":"IF(MAX('Formet 8'!$A$229:$A$338)<'Fix Pay'!$A33,\"\",VLOOKUP($A33,'Formet 8'!$A$229:$O$338,9,0))","v":""},{"$f":"IF(MAX('Formet 8'!$A$229:$A$338)<'Fix Pay'!$A33,\"\",VLOOKUP($A33,'Formet 8'!$A$229:$O$338,8,0))","v":""},"","","","",{"$nulls":4},"","","",""]
[26,{"$f":"IF(MAX('Formet 8'!$A$229:$A$338)<'Fix Pay'!$A34,\"\",VLOOKUP($A34,'Formet 8'!$A$229:$O$338,4,0))","v":""},{"$f":"IF(MAX('Formet 8'!$A$229:$A$338)<'Fix Pay'!$A34,\"\",VLOOKUP($A34,'Formet 8'!$A$229:$O$338,7,0))","v":""},null,"",{"$f":"IF(MAX('Formet 8'!$A$229:$A$338)<'Fix Pay'!$A34,\"\",VLOOKUP($A34,'Formet 8'!$A$229:$O$338,9,0))","v":""},{"$f":"IF(MAX('Formet 8'!$A$229:$A$338)<'Fix Pay'!$A34,\"\",VLOOKUP($A34,'Formet 8'!$A$229:$O$338,8,0))","v":""},"","","","",{"$nulls":4},"","","",""]
[27,{"$f":"IF(MAX('Formet 8'!$A$229:$A$338)<'Fix Pay'!$A35,\"\",VLOOKUP($A35,'Formet 8'!$A$229:$O$338,4,0))","v":""},{"$f":"IF(MAX('Formet 8'!$A$229:$A$338)<'Fix Pay'!$A35,\"\",VLOOKUP($A35,'Formet 8'!$A$229:$O$338,7,0))","v":""},null,"",{"$f":"IF(MAX('Formet 8'!$A$229:$A$338)<'Fix Pay'!$A35,\"\",VLOOKUP($A35,'Formet 8'!$A$229:$O$338,9,0))","v":""},{"$f":"IF(MAX('Formet 8'!$A$229:$A$338)<'Fix Pay'!$A35,\"\",VLOOKUP($A35,'Formet 8'!$A$229:$O$338,8,0))","v":""},"","","","",{"$nulls":4},"","","",""]
[28,{"$f":"IF(MAX('Formet 8'!$A$229:$A$338)<'Fix Pay'!$A36,\"\",VLOOKUP($A36,'Formet 8'!$A$229:$O$338,4,0))","v":""},{"$f":"IF(MAX('Formet 8'!$A$229:$A$338)<'Fix Pay'!$A36,\"\",VLOOKUP($A36,'Formet 8'!$A$229:$O$338,7,0))","v":""},null,"",{"$f":"IF(MAX('Formet 8'!$A$229:$A$338)<'Fix Pay'!$A36,\"\",VLOOKUP($A36,'Formet 8'!$A$229:$O$338,9,0))","v":""},{"$f":"IF(MAX('Formet 8'!$A$229:$A$338)<'Fix Pay'!$A36,\"\",VLOOKUP($A36,'Formet 8'!$A$229:$O$338,8,0))","v":""},"","","","",{"$nulls":4},"","","",""]
[29,{"$f":"IF(MAX('Formet 8'!$A$229:$A$338)<'Fix Pay'!$A37,\"\",VLOOKUP($A37,'Formet 8'!$A$229:$O$338,4,0))","v":""},{"$f":"IF(MAX('Formet 8'!$A$229:$A$338)<'Fix Pay'!$A37,\"\",VLOOKUP($A37,'Formet 8'!$A$229:$O$338,7,0))","v":""},null,"",{"$f":"IF(MAX('Formet 8'!$A$229:$A$338)<'Fix Pay'!$A37,\"\",VLOOKUP($A37,'Formet 8'!$A$229:$O$338,9,0))","v":""},{"$f":"IF(MAX('Formet 8'!$A$229:$A$338)<'Fix Pay'!$A37,\"\",VLOOKUP($A37,'Formet 8'!$A$229:$O$338,8,0))","v":""},"","","","",{"$nulls":4},"","","",""]
[30,{"$f":"IF(MAX('Formet 8'!$A$229:$A$338)<'Fix Pay'!$A38,\"\",VLOOKUP($A38,'Formet 8'!$A$229:$O$338,4,0))","v":""},{"$f":"IF(MAX('Formet 8'!$A$229:$A$338)<'Fix Pay'!$A38,\"\",VLOOKUP($A38,'Formet 8'!$A$229:$O$338,7,0))","v":""},null,"",{"$f":"IF(MAX('Formet 8'!$A$229:$A$338)<'Fix Pay'!$A38,\"\",VLOOKUP($A38,'Formet 8'!$A$229:$O$338,9,0))","v":""},{"$f":"IF(MAX('Formet 8'!$A$229:$A$338)<'Fix Pay'!$A38,\"\",VLOOKUP($A38,'Formet 8'!$A$229:$O$338,8,0))","v":""},"","","","",{"$nulls":4},"","","",""]
[31,{"$f":"IF(MAX('Formet 8'!$A$229:$A$338)<'Fix Pay'!$A39,\"\",VLOOKUP($A39,'Formet 8'!$A$229:$O$338,4,0))","v":""},{"$f":"IF(MAX('Formet 8'!$A$229:$A$338)<'Fix Pay'!$A39,\"\",VLOOKUP($A39,'Formet 8'!$A$229:$O$338,7,0))","v":""},null,"",{"$f":"IF(MAX('Formet 8'!$A$229:$A$338)<'Fix Pay'!$A39,\"\",VLOOKUP($A39,'Formet 8'!$A$229:$O$338,9,0))","v":""},{"$f":"IF(MAX('Formet 8'!$A$229:$A$338)<'Fix Pay'!$A39,\"\",VLOOKUP($A39,'Formet 8'!$A$229:$O$338,8,0))","v":""},"","","","",{"$nulls":4},"","","",""]
[32,{"$f":"IF(MAX('Formet 8'!$A$229:$A$338)<'Fix Pay'!$A40,\"\",VLOOKUP($A40,'Formet 8'!$A$229:$O$338,4,0))","v":""},{"$f":"IF(MAX('Formet 8'!$A$229:$A$338)<'Fix Pay'!$A40,\"\",VLOOKUP($A40,'Formet 8'!$A$229:$O$338,7,0))","v":""},null,"",{"$f":"IF(MAX('Formet 8'!$A$229:$A$338)<'Fix Pay'!$A40,\"\",VLOOKUP($A40,'Formet 8'!$A$229:$O$338,9,0))","v":""},{"$f":"IF(MAX('Formet 8'!$A$229:$A$338)<'Fix Pay'!$A40,\"\",VLOOKUP($A40,'Formet 8'!$A$229:$O$338,8,0))","v":""},"","","","",{"$nulls":4},"","","",""]
[33,{"$f":"IF(MAX('Formet 8'!$A$229:$A$338)<'Fix Pay'!$A41,\"\",VLOOKUP($A41,'Formet 8'!$A$229:$O$338,4,0))","v":""},{"$f":"IF(MAX('Formet 8'!$A$229:$A$338)<'Fix Pay'!$A41,\"\",VLOOKUP($A41,'Formet 8'!$A$229:$O$338,7,0))","v":""},null,"",{"$f":"IF(MAX('Formet 8'!$A$229:$A$338)<'Fix Pay'!$A41,\"\",VLOOKUP($A41,'Formet 8'!$A$229:$O$338,9,0))","v":""},{"$f":"IF(MAX('Formet 8'!$A$229:$A$338)<'Fix Pay'!$A41,\"\",VLOOKUP($A41,'Formet 8'!$A$229:$O$338,8,0))","v":""},{"$f":"IF(F41=\"\",\"\",VLOOKUP(G41,$M$9:$O$32,3,0))","v":""},"","","",{"$nulls":4},"","","",""]
[34,{"$f":"IF(MAX('Formet 8'!$A$229:$A$338)<'Fix Pay'!$A42,\"\",VLOOKUP($A42,'Formet 8'!$A$229:$O$338,4,0))","v":""},{"$f":"IF(MAX('Formet 8'!$A$229:$A$338)<'Fix Pay'!$A42,\"\",VLOOKUP($A42,'Formet 8'!$A$229:$O$338,7,0))","v":""},null,"",{"$f":"IF(MAX('Formet 8'!$A$229:$A$338)<'Fix Pay'!$A42,\"\",VLOOKUP($A42,'Formet 8'!$A$229:$O$338,9,0))","v":""},{"$f":"IF(MAX('Formet 8'!$A$229:$A$338)<'Fix Pay'!$A42,\"\",VLOOKUP($A42,'Formet 8'!$A$229:$O$338,8,0))","v":""},"","","","",{"$nulls":4},"","","",""]
[35,{"$f":"IF(MAX('Formet 8'!$A$229:$A$338)<'Fix Pay'!$A43,\"\",VLOOKUP($A43,'Formet 8'!$A$229:$O$338,4,0))","v":""},{"$f":"IF(MAX('Formet 8'!$A$229:$A$338)<'Fix Pay'!$A43,\"\",VLOOKUP($A43,'Formet 8'!$A$229:$O$338,7,0))","v":""},null,"",{"$f":"IF(MAX('Formet 8'!$A$229:$A$338)<'Fix Pay'!$A43,\"\",VLOOKUP($A43,'Formet 8'!$A$229:$O$338,9,0))","v":""},{"$f":"IF(MAX('Formet 8'!$A$229:$A$338)<'Fix Pay'!$A43,\"\",VLOOKUP($A43,'Formet 8'!$A$229:$O$338,8,0))","v":""},"","","","",{"$nulls":4},"","","",""]
[36,{"$f":"IF(MAX('Formet 8'!$A$229:$A$338)<'Fix Pay'!$A44,\"\",VLOOKUP($A44,'Formet 8'!$A$229:$O$338,4,0))","v":""},{"$f":"IF(MAX('Formet 8'!$A$229:$A$338)<'Fix Pay'!$A44,\"\",VLOOKUP($A44,'Formet 8'!$A$229:$O$338,7,0))","v":""},null,"",{"$f":"IF(MAX('Formet 8'!$A$229:$A$338)<'Fix Pay'!$A44,\"\",VLOOKUP($A44,'Formet 8'!$A$229:$O$338,9,0))","v":""},{"$f":"IF(MAX('Formet 8'!$A$229:$A$338)<'Fix Pay'!$A44,\"\",VLOOKUP($A44,'Formet 8'!$A$229:$O$338,8,0))","v":""},"","","","",{"$nulls":4},"","","",""]
[37,{"$f":"IF(MAX('Formet 8'!$A$229:$A$338)<'Fix Pay'!$A45,\"\",VLOOKUP($A45,'Formet 8'!$A$229:$O$338,4,0))","v":""},{"$f":"IF(MAX('Formet 8'!$A$229:$A$338)<'Fix Pay'!$A45,\"\",VLOOKUP($A45,'Formet 8'!$A$229:$O$338,7,0))","v":""},null,"",{"$f":"IF(MAX('Formet 8'!$A$229:$A$338)<'Fix Pay'!$A45,\"\",VLOOKUP($A45,'Formet 8'!$A$229:$O$338,9,0))","v":""},{"$f":"IF(MAX('Formet 8'!$A$229:$A$338)<'Fix Pay'!$A45,\"\",VLOOKUP($A45,'Formet 8'!$A$229:$O$338,8,0))","v":""},"","","","",{"$nulls":4},"","","",""]
[38,{"$f":"IF(MAX('Formet 8'!$A$229:$A$338)<'Fix Pay'!$A46,\"\",VLOOKUP($A46,'Formet 8'!$A$229:$O$338,4,0))","v":""},{"$f":"IF(MAX('Formet 8'!$A$229:$A$338)<'Fix Pay'!$A46,\"\",VLOOKUP($A46,'Formet 8'!$A$229:$O$338,7,0))","v":""},null,"",{"$f":"IF(MAX('Formet 8'!$A$229:$A$338)<'Fix Pay'!$A46,\"\",VLOOKUP($A46,'Formet 8'!$A$229:$O$338,9,0))","v":""},{"$f":"IF(MAX('Formet 8'!$A$229:$A$338)<'Fix Pay'!$A46,\"\",VLOOKUP($A46,'Formet 8'!$A$229:$O$338,8,0))","v":""},"","","","",{"$nulls":4},"","","",""]
[39,{"$f":"IF(MAX('Formet 8'!$A$229:$A$338)<'Fix Pay'!$A47,\"\",VLOOKUP($A47,'Formet 8'!$A$229:$O$338,4,0))","v":""},{"$f":"IF(MAX('Formet 8'!$A$229:$A$338)<'Fix Pay'!$A47,\"\",VLOOKUP($A47,'Formet 8'!$A$229:$O$338,7,0))","v":""},null,"",{"$f":"IF(MAX('Formet 8'!$A$229:$A$338)<'Fix Pay'!$A47,\"\",VLOOKUP($A47,'Formet 8'!$A$229:$O$338,9,0))","v":""},{"$f":"IF(MAX('Formet 8'!$A$229:$A$338)<'Fix Pay'!$A47,\"\",VLOOKUP($A47,'Formet 8'!$A$229:$O$338,8,0))","v":""},"","","","",{"$nulls":4},"","","",""]
[40,{"$f":"IF(MAX('Formet 8'!$A$229:$A$338)<'Fix Pay'!$A48,\"\",VLOOKUP($A48,'Formet 8'!$A$229:$O$338,4,0))","v":""},{"$f":"IF(MAX('Formet 8'!$A$229:$A$338)<'Fix Pay'!$A48,\"\",VLOOKUP($A48,'Formet 8'!$A$229:$O$338,7,0))","v":""},null,"",{"$f":"IF(MAX('Formet 8'!$A$229:$A$338)<'Fix Pay'!$A48,\"\",VLOOKUP($A48,'Formet 8'!$A$229:$O$338,9,0))","v":""},{"$f":"IF(MAX('Formet 8'!$A$229:$A$338)<'Fix Pay'!$A48,\"\",VLOOKUP($A48,'Formet 8'!$A$229:$O$338,8,0))","v":""},"","","","",{"$nulls":4},"","","",""]
[41,{"$f":"IF(MAX('Formet 8'!$A$229:$A$338)<'Fix Pay'!$A49,\"\",VLOOKUP($A49,'Formet 8'!$A$229:$O$338,4,0))","v":""},{"$f":"IF(MAX('Formet 8'!$A$229:$A$338)<'Fix Pay'!$A49,\"\",VLOOKUP($A49,'Formet 8'!$A$229:$O$338,7,0))","v":""},null,"",{"$f":"IF(MAX('Formet 8'!$A$229:$A$338)<'Fix Pay'!$A49,\"\",VLOOKUP($A49,'Formet 8'!$A$229:$O$338,9,0))","v":""},{"$f":"IF(MAX('Formet 8'!$A$229:$A$338)<'Fix Pay'!$A49,\"\",VLOOKUP($A49,'Formet 8'!$A$229:$O$338,8,0))","v":""},"","","","",{"$nulls":4},"","","",""]
[42,{"$f":"IF(MAX('Formet 8'!$A$229:$A$338)<'Fix Pay'!$A50,\"\",VLOOKUP($A50,'Formet 8'!$A$229:$O$338,4,0))","v":""},{"$f":"IF(MAX('Formet 8'!$A$229:$A$338)<'Fix Pay'!$A50,\"\",VLOOKUP($A50,'Formet 8'!$A$229:$O$338,7,0))","v":""},null,"",{"$f":"IF(MAX('Formet 8'!$A$229:$A$338)<'Fix Pay'!$A50,\"\",VLOOKUP($A50,'Formet 8'!$A$229:$O$338,9,0))","v":""},{"$f":"IF(MAX('Formet 8'!$A$229:$A$338)<'Fix Pay'!$A50,\"\",VLOOKUP($A50,'Formet 8'!$A$229:$O$338,8,0))","v":""},"","","","",{"$nulls":4},"","","",""]
[43,{"$f":"IF(MAX('Formet 8'!$A$229:$A$338)<'Fix Pay'!$A51,\"\",VLOOKUP($A51,'Formet 8'!$A$229:$O$338,4,0))","v":""},{"$f":"IF(MAX('Formet 8'!$A$229:$A$338)<'Fix Pay'!$A51,\"\",VLOOKUP($A51,'Formet 8'!$A$229:$O$338,7,0))","v":""},null,"",{"$f":"IF(MAX('Formet 8'!$A$229:$A$338)<'Fix Pay'!$A51,\"\",VLOOKUP($A51,'Formet 8'!$A$229:$O$338,9,0))","v":""},{"$f":"IF(MAX('Formet 8'!$A$229:$A$338)<'Fix Pay'!$A51,\"\",VLOOKUP($A51,'Formet 8'!$A$229:$O$338,8,0))","v":""},"","","","",{"$nulls":4},"","","",""]
[44,{"$f":"IF(MAX('Formet 8'!$A$229:$A$338)<'Fix Pay'!$A52,\"\",VLOOKUP($A52,'Formet 8'!$A$229:$O$338,4,0))","v":""},{"$f":"IF(MAX('Formet 8'!$A$229:$A$338)<'Fix Pay'!$A52,\"\",VLOOKUP($A52,'Formet 8'!$A$229:$O$338,7,0))","v":""},null,"",{"$f":"IF(MAX('Formet 8'!$A$229:$A$338)<'Fix Pay'!$A52,\"\",VLOOKUP($A52,'Formet 8'!$A$229:$O$338,9,0))","v":""},{"$f":"IF(MAX('Formet 8'!$A$229:$A$338)<'Fix Pay'!$A52,\"\",VLOOKUP($A52,'Formet 8'!$A$229:$O$338,8,0))","v":""},"","","","",{"$nulls":4},"","","",""]
[45,{"$f":"IF(MAX('Formet 8'!$A$229:$A$338)<'Fix Pay'!$A53,\"\",VLOOKUP($A53,'Formet 8'!$A$229:$O$338,4,0))","v":""},{"$f":"IF(MAX('Formet 8'!$A$229:$A$338)<'Fix Pay'!$A53,\"\",VLOOKUP($A53,'Formet 8'!$A$229:$O$338,7,0))","v":""},null,"",{"$f":"IF(MAX('Formet 8'!$A$229:$A$338)<'Fix Pay'!$A53,\"\",VLOOKUP($A53,'Formet 8'!$A$229:$O$338,9,0))","v":""},{"$f":"IF(MAX('Formet 8'!$A$229:$A$338)<'Fix Pay'!$A53,\"\",VLOOKUP($A53,'Formet 8'!$A$229:$O$338,8,0))","v":""},"","","","",{"$nulls":4},"","","",""]
[46,{"$f":"IF(MAX('Formet 8'!$A$229:$A$338)<'Fix Pay'!$A54,\"\",VLOOKUP($A54,'Formet 8'!$A$229:$O$338,4,0))","v":""},{"$f":"IF(MAX('Formet 8'!$A$229:$A$338)<'Fix Pay'!$A54,\"\",VLOOKUP($A54,'Formet 8'!$A$229:$O$338,7,0))","v":""},null,"",{"$f":"IF(MAX('Formet 8'!$A$229:$A$338)<'Fix Pay'!$A54,\"\",VLOOKUP($A54,'Formet 8'!$A$229:$O$338,9,0))","v":""},{"$f":"IF(MAX('Formet 8'!$A$229:$A$338)<'Fix Pay'!$A54,\"\",VLOOKUP($A54,'Formet 8'!$A$229:$O$338,8,0))","v":""},"","","","",{"$nulls":4},"","","",""]
[47,{"$f":"IF(MAX('Formet 8'!$A$229:$A$338)<'Fix Pay'!$A55,\"\",VLOOKUP($A55,'Formet 8'!$A$229:$O$338,4,0))","v":""},{"$f":"IF(MAX('Formet 8'!$A$229:$A$338)<'Fix Pay'!$A55,\"\",VLOOKUP($A55,'Formet 8'!$A$229:$O$338,7,0))","v":""},null,"",{"$f":"IF(MAX('Formet 8'!$A$229:$A$338)<'Fix Pay'!$A55,\"\",VLOOKUP($A55,'Formet 8'!$A$229:$O$338,9,0))","v":""},{"$f":"IF(MAX('Formet 8'!$A$229:$A$338)<'Fix Pay'!$A55,\"\",VLOOKUP($A55,'Formet 8'!$A$229:$O$338,8,0))","v":""},"","","","",{"$nulls":4},"","","",""]
[48,{"$f":"IF(MAX('Formet 8'!$A$229:$A$338)<'Fix Pay'!$A56,\"\",VLOOKUP($A56,'Formet 8'!$A$229:$O$338,4,0))","v":""},{"$f":"IF(MAX('Formet 8'!$A$229:$A$338)<'Fix Pay'!$A56,\"\",VLOOKUP($A56,'Formet 8'!$A$229:$O$338,7,0))","v":""},null,"",{"$f":"IF(MAX('Formet 8'!$A$229:$A$338)<'Fix Pay'!$A56,\"\",VLOOKUP($A56,'Formet 8'!$A$229:$O$338,9,0))","v":""},{"$f":"IF(MAX('Formet 8'!$A$229:$A$338)<'Fix Pay'!$A56,\"\",VLOOKUP($A56,'Formet 8'!$A$229:$O$338,8,0))","v":""},"","","","",{"$nulls":4},"","","",""]
[49,{"$f":"IF(MAX('Formet 8'!$A$229:$A$338)<'Fix Pay'!$A57,\"\",VLOOKUP($A57,'Formet 8'!$A$229:$O$338,4,0))","v":""},{"$f":"IF(MAX('Formet 8'!$A$229:$A$338)<'Fix Pay'!$A57,\"\",VLOOKUP($A57,'Formet 8'!$A$229:$O$338,7,0))","v":""},null,"",{"$f":"IF(MAX('Formet 8'!$A$229:$A$338)<'Fix Pay'!$A57,\"\",VLOOKUP($A57,'Formet 8'!$A$229:$O$338,9,0))","v":""},{"$f":"IF(MAX('Formet 8'!$A$229:$A$338)<'Fix Pay'!$A57,\"\",VLOOKUP($A57,'Formet 8'!$A$229:$O$338,8,0))","v":""},"","","","",{"$nulls":4},"","","",""]
[50,{"$f":"IF(MAX('Formet 8'!$A$229:$A$338)<'Fix Pay'!$A58,\"\",VLOOKUP($A58,'Formet 8'!$A$229:$O$338,4,0))","v":""},{"$f":"IF(MAX('Formet 8'!$A$229:$A$338)<'Fix Pay'!$A58,\"\",VLOOKUP($A58,'Formet 8'!$A$229:$O$338,7,0))","v":""},null,"",{"$f":"IF(MAX('Formet 8'!$A$229:$A$338)<'Fix Pay'!$A58,\"\",VLOOKUP($A58,'Formet 8'!$A$229:$O$338,9,0))","v":""},{"$f":"IF(MAX('Formet 8'!$A$229:$A$338)<'Fix Pay'!$A58,\"\",VLOOKUP($A58,'Formet 8'!$A$229:$O$338,8,0))","v":""},"","","","",{"$nulls":4},"","","",""]
[51,{"$f":"IF(MAX('Formet 8'!$A$229:$A$338)<'Fix Pay'!$A59,\"\",VLOOKUP($A59,'Formet 8'!$A$229:$O$338,4,0))","v":""},{"$f":"IF(MAX('Formet 8'!$A$229:$A$338)<'Fix Pay'!$A59,\"\",VLOOKUP($A59,'Formet 8'!$A$229:$O$338,7,0))","v":""},null,"",{"$f":"IF(MAX('Formet 8'!$A$229:$A$338)<'Fix Pay'!$A59,\"\",VLOOKUP($A59,'Formet 8'!$A$229:$O$338,9,0))","v":""},{"$f":"IF(MAX('Formet 8'!$A$229:$A$338)<'Fix Pay'!$A59,\"\",VLOOKUP($A59,'Formet 8'!$A$229:$O$338,8,0))","v":""},"","","","",{"$nulls":4},"","","",""]
[52,{"$f":"IF(MAX('Formet 8'!$A$229:$A$338)<'Fix Pay'!$A60,\"\",VLOOKUP($A60,'Formet 8'!$A$229:$O$338,4,0))","v":""},{"$f":"IF(MAX('Formet 8'!$A$229:$A$338)<'Fix Pay'!$A60,\"\",VLOOKUP($A60,'Formet 8'!$A$229:$O$338,7,0))","v":""},null,"",{"$f":"IF(MAX('Formet 8'!$A$229:$A$338)<'Fix Pay'!$A60,\"\",VLOOKUP($A60,'Formet 8'!$A$229:$O$338,9,0))","v":""},{"$f":"IF(MAX('Formet 8'!$A$229:$A$338)<'Fix Pay'!$A60,\"\",VLOOKUP($A60,'Formet 8'!$A$229:$O$338,8,0))","v":""},"","","","",{"$nulls":4},"","","",""]
[53,{"$f":"IF(MAX('Formet 8'!$A$229:$A$338)<'Fix Pay'!$A61,\"\",VLOOKUP($A61,'Formet 8'!$A$229:$O$338,4,0))","v":""},{"$f":"IF(MAX('Formet 8'!$A$229:$A$338)<'Fix Pay'!$A61,\"\",VLOOKUP($A61,'Formet 8'!$A$229:$O$338,7,0))","v":""},null,"",{"$f":"IF(MAX('Formet 8'!$A$229:$A$338)<'Fix Pay'!$A61,\"\",VLOOKUP($A61,'Formet 8'!$A$229:$O$338,9,0))","v":""},{"$f":"IF(MAX('Formet 8'!$A$229:$A$338)<'Fix Pay'!$A61,\"\",VLOOKUP($A61,'Formet 8'!$A$229:$O$338,8,0))","v":""},"","","","",{"$nulls":4},"","","",""]
[54,{"$f":"IF(MAX('Formet 8'!$A$229:$A$338)<'Fix Pay'!$A62,\"\",VLOOKUP($A62,'Formet 8'!$A$229:$O$338,4,0))","v":""},{"$f":"IF(MAX('Formet 8'!$A$229:$A$338)<'Fix Pay'!$A62,\"\",VLOOKUP($A62,'Formet 8'!$A$229:$O$338,7,0))","v":""},null,"",{"$f":"IF(MAX('Formet 8'!$A$229:$A$338)<'Fix Pay'!$A62,\"\",VLOOKUP($A62,'Formet 8'!$A$229:$O$338,9,0))","v":""},{"$f":"IF(MAX('Formet 8'!$A$229:$A$338)<'Fix Pay'!$A62,\"\",VLOOKUP($A62,'Formet 8'!$A$229:$O$338,8,0))","v":""},"","","","",{"$nulls":4},"","","",""]
[55,{"$f":"IF(MAX('Formet 8'!$A$229:$A$338)<'Fix Pay'!$A63,\"\",VLOOKUP($A63,'Formet 8'!$A$229:$O$338,4,0))","v":""},{"$f":"IF(MAX('Formet 8'!$A$229:$A$338)<'Fix Pay'!$A63,\"\",VLOOKUP($A63,'Formet 8'!$A$229:$O$338,7,0))","v":""},null,"",{"$f":"IF(MAX('Formet 8'!$A$229:$A$338)<'Fix Pay'!$A63,\"\",VLOOKUP($A63,'Formet 8'!$A$229:$O$338,9,0))","v":""},{"$f":"IF(MAX('Formet 8'!$A$229:$A$338)<'Fix Pay'!$A63,\"\",VLOOKUP($A63,'Formet 8'!$A$229:$O$338,8,0))","v":""},"","","","",{"$nulls":4},"","","",""]
[56,{"$f":"IF(MAX('Formet 8'!$A$229:$A$338)<'Fix Pay'!$A64,\"\",VLOOKUP($A64,'Formet 8'!$A$229:$O$338,4,0))","v":""},{"$f":"IF(MAX('Formet 8'!$A$229:$A$338)<'Fix Pay'!$A64,\"\",VLOOKUP($A64,'Formet 8'!$A$229:$O$338,7,0))","v":""},null,"",{"$f":"IF(MAX('Formet 8'!$A$229:$A$338)<'Fix Pay'!$A64,\"\",VLOOKUP($A64,'Formet 8'!$A$229:$O$338,9,0))","v":""},{"$f":"IF(MAX('Formet 8'!$A$229:$A$338)<'Fix Pay'!$A64,\"\",VLOOKUP($A64,'Formet 8'!$A$229:$O$338,8,0))","v":""},"","","","",{"$nulls":4},"","","",""]
[57,{"$f":"IF(MAX('Formet 8'!$A$229:$A$338)<'Fix Pay'!$A65,\"\",VLOOKUP($A65,'Formet 8'!$A$229:$O$338,4,0))","v":""},{"$f":"IF(MAX('Formet 8'!$A$229:$A$338)<'Fix Pay'!$A65,\"\",VLOOKUP($A65,'Formet 8'!$A$229:$O$338,7,0))","v":""},null,"",{"$f":"IF(MAX('Formet 8'!$A$229:$A$338)<'Fix Pay'!$A65,\"\",VLOOKUP($A65,'Formet 8'!$A$229:$O$338,9,0))","v":""},{"$f":"IF(MAX('Formet 8'!$A$229:$A$338)<'Fix Pay'!$A65,\"\",VLOOKUP($A65,'Formet 8'!$A$229:$O$338,8,0))","v":""},"","","","",{"$nulls":4},"","","",""]
[58,{"$f":"IF(MAX('Formet 8'!$A$229:$A$338)<'Fix Pay'!$A66,\"\",VLOOKUP($A66,'Formet 8'!$A$229:$O$338,4,0))","v":""},{"$f":"IF(MAX('Formet 8'!$A$229:$A$338)<'Fix Pay'!$A66,\"\",VLOOKUP($A66,'Formet 8'!$A$229:$O$338,7,0))","v":""},null,"",{"$f":"IF(MAX('Formet 8'!$A$229:$A$338)<'Fix Pay'!$A66,\"\",VLOOKUP($A66,'Formet 8'!$A$229:$O$338,9,0))","v":""},{"$f":"IF(MAX('Formet 8'!$A$229:$A$338)<'Fix Pay'!$A66,\"\",VLOOKUP($A66,'Formet 8'!$A$229:$O$338,8,0))","v":""},"","","","",{"$nulls":4},"","","",""]
[59,{"$f":"IF(MAX('Formet 8'!$A$229:$A$338)<'Fix Pay'!$A67,\"\",VLOOKUP($A67,'Formet 8'!$A$229:$O$338,4,0))","v":""},{"$f":"IF(MAX('Formet 8'!$A$229:$A$338)<'Fix Pay'!$A67,\"\",VLOOKUP($A67,'Formet 8'!$A$229:$O$338,7,0))","v":""},null,"",{"$f":"IF(MAX('Formet 8'!$A$229:$A$338)<'Fix Pay'!$A67,\"\",VLOOKUP($A67,'Formet 8'!$A$229:$O$338,9,0))","v":""},{"$f":"IF(MAX('Formet 8'!$A$229:$A$338)<'Fix Pay'!$A67,\"\",VLOOKUP($A67,'Formet 8'!$A$229:$O$338,8,0))","v":""},"","","","",{"$nulls":4},"","","",""]
[60,{"$f":"IF(MAX('Formet 8'!$A$229:$A$338)<'Fix Pay'!$A68,\"\",VLOOKUP($A68,'Formet 8'!$A$229:$O$338,4,0))","v":""},{"$f":"IF(MAX('Formet 8'!$A$229:$A$338)<'Fix Pay'!$A68,\"\",VLOOKUP($A68,'Formet 8'!$A$229:$O$338,7,0))","v":""},null,"",{"$f":"IF(MAX('Formet 8'!$A$229:$A$338)<'Fix Pay'!$A68,\"\",VLOOKUP($A68,'Formet 8'!$A$229:$O$338,9,0))","v":""},{"$f":"IF(MAX('Formet 8'!$A$229:$A$338)<'Fix Pay'!$A68,\"\",VLOOKUP($A68,'Formet 8'!$A$229:$O$338,8,0))","v":""},"","","","",{"$nulls":4},"","","",""]
[61,{"$f":"IF(MAX('Formet 8'!$A$229:$A$338)<'Fix Pay'!$A69,\"\",VLOOKUP($A69,'Formet 8'!$A$229:$O$338,4,0))","v":""},{"$f":"IF(MAX('Formet 8'!$A$229:$A$338)<'Fix Pay'!$A69,\"\",VLOOKUP($A69,'Formet 8'!$A$229:$O$338,7,0))","v":""},null,"",{"$f":"IF(MAX('Formet 8'!$A$229:$A$338)<'Fix Pay'!$A69,\"\",VLOOKUP($A69,'Formet 8'!$A$229:$O$338,9,0))","v":""},{"$f":"IF(MAX('Formet 8'!$A$229:$A$338)<'Fix Pay'!$A69,\"\",VLOOKUP($A69,'Formet 8'!$A$229:$O$338,8,0))","v":""},"","","","",{"$nulls":4},"","","",""]
[62,{"$f":"IF(MAX('Formet 8'!$A$229:$A$338)<'Fix Pay'!$A70,\"\",VLOOKUP($A70,'Formet 8'!$A$229:$O$338,4,0))","v":""},{"$f":"IF(MAX('Formet 8'!$A$229:$A$338)<'Fix Pay'!$A70,\"\",VLOOKUP($A70,'Formet 8'!$A$229:$O$338,7,0))","v":""},null,"",{"$f":"IF(MAX('Formet 8'!$A$229:$A$338)<'Fix Pay'!$A70,\"\",VLOOKUP($A70,'Formet 8'!$A$229:$O$338,9,0))","v":""},{"$f":"IF(MAX('Formet 8'!$A$229:$A$338)<'Fix Pay'!$A70,\"\",VLOOKUP($A70,'Formet 8'!$A$229:$O$338,8,0))","v":""},"","","","",{"$nulls":4},"","","",""]
[63,{"$f":"IF(MAX('Formet 8'!$A$229:$A$338)<'Fix Pay'!$A71,\"\",VLOOKUP($A71,'Formet 8'!$A$229:$O$338,4,0))","v":""},{"$f":"IF(MAX('Formet 8'!$A$229:$A$338)<'Fix Pay'!$A71,\"\",VLOOKUP($A71,'Formet 8'!$A$229:$O$338,7,0))","v":""},null,"",{"$f":"IF(MAX('Formet 8'!$A$229:$A$338)<'Fix Pay'!$A71,\"\",VLOOKUP($A71,'Formet 8'!$A$229:$O$338,9,0))","v":""},{"$f":"IF(MAX('Formet 8'!$A$229:$A$338)<'Fix Pay'!$A71,\"\",VLOOKUP($A71,'Formet 8'!$A$229:$O$338,8,0))","v":""},"","","","",{"$nulls":4},"","","",""]
[64,{"$f":"IF(MAX('Formet 8'!$A$229:$A$338)<'Fix Pay'!$A72,\"\",VLOOKUP($A72,'Formet 8'!$A$229:$O$338,4,0))","v":""},{"$f":"IF(MAX('Formet 8'!$A$229:$A$338)<'Fix Pay'!$A72,\"\",VLOOKUP($A72,'Formet 8'!$A$229:$O$338,7,0))","v":""},null,"",{"$f":"IF(MAX('Formet 8'!$A$229:$A$338)<'Fix Pay'!$A72,\"\",VLOOKUP($A72,'Formet 8'!$A$229:$O$338,9,0))","v":""},{"$f":"IF(MAX('Formet 8'!$A$229:$A$338)<'Fix Pay'!$A72,\"\",VLOOKUP($A72,'Formet 8'!$A$229:$O$338,8,0))","v":""},"","","","",{"$nulls":4},"","","",""]
[65,{"$f":"IF(MAX('Formet 8'!$A$229:$A$338)<'Fix Pay'!$A73,\"\",VLOOKUP($A73,'Formet 8'!$A$229:$O$338,4,0))","v":""},{"$f":"IF(MAX('Formet 8'!$A$229:$A$338)<'Fix Pay'!$A73,\"\",VLOOKUP($A73,'Formet 8'!$A$229:$O$338,7,0))","v":""},null,"",{"$f":"IF(MAX('Formet 8'!$A$229:$A$338)<'Fix Pay'!$A73,\"\",VLOOKUP($A73,'Formet 8'!$A$229:$O$338,9,0))","v":""},{"$f":"IF(MAX('Formet 8'!$A$229:$A$338)<'Fix Pay'!$A73,\"\",VLOOKUP($A73,'Formet 8'!$A$229:$O$338,8,0))","v":""},{"$f":"IF(F73=\"\",\"\",VLOOKUP(G73,$M$9:$O$32,3,0))","v":""},"","","",{"$nulls":4},"","","",""]
[66,{"$f":"IF(MAX('Formet 8'!$A$229:$A$338)<'Fix Pay'!$A74,\"\",VLOOKUP($A74,'Formet 8'!$A$229:$O$338,4,0))","v":""},{"$f":"IF(MAX('Formet 8'!$A$229:$A$338)<'Fix Pay'!$A74,\"\",VLOOKUP($A74,'Formet 8'!$A$229:$O$338,7,0))","v":""},null,{"$f":"IF(B74=\"\",\"\",D74+365+365)","v":""},{"$f":"IF(MAX('Formet 8'!$A$229:$A$338)<'Fix Pay'!$A74,\"\",VLOOKUP($A74,'Formet 8'!$A$229:$O$338,9,0))","v":""},{"$f":"IF(MAX('Formet 8'!$A$229:$A$338)<'Fix Pay'!$A74,\"\",VLOOKUP($A74,'Formet 8'!$A$229:$O$338,8,0))","v":""},"",{"$f":"IF(B74=\"\",\"\",F74*12)","v":""},"","",{"$nulls":4},{"$f":"IF(OR(E74=\"\",Q74>0),\"\",IF($P$6<E74,0,($P$6-E74)/30))","v":""},{"$f":"IF(E74=\"\",\"\",IF($Q$6<E74,0,($Q$6-E74)/30))","v":""},{"$f":"IF(OR(Q74=0,Q74=\"\"),\"\",(J74-I74))","v":""},{"$f":"IF(B74=\"\",\"\",IF(AND(P74=0,Q74=0),\"\",(K74-I74)))","v":""}]
[67,{"$f":"IF(MAX('Formet 8'!$A$229:$A$338)<'Fix Pay'!$A75,\"\",VLOOKUP($A75,'Formet 8'!$A$229:$O$338,4,0))","v":""},{"$f":"IF(MAX('Formet 8'!$A$229:$A$338)<'Fix Pay'!$A75,\"\",VLOOKUP($A75,'Formet 8'!$A$229:$O$338,7,0))","v":""},null,"",{"$f":"IF(MAX('Formet 8'!$A$229:$A$338)<'Fix Pay'!$A75,\"\",VLOOKUP($A75,'Formet 8'!$A$229:$O$338,9,0))","v":""},{"$f":"IF(MAX('Formet 8'!$A$229:$A$338)<'Fix Pay'!$A75,\"\",VLOOKUP($A75,'Formet 8'!$A$229:$O$338,8,0))","v":""},"","","","",{"$nulls":4},"","","",""]
[68,{"$f":"IF(MAX('Formet 8'!$A$229:$A$338)<'Fix Pay'!$A76,\"\",VLOOKUP($A76,'Formet 8'!$A$229:$O$338,4,0))","v":""},{"$f":"IF(MAX('Formet 8'!$A$229:$A$338)<'Fix Pay'!$A76,\"\",VLOOKUP($A76,'Formet 8'!$A$229:$O$338,7,0))","v":""},null,"",{"$f":"IF(MAX('Formet 8'!$A$229:$A$338)<'Fix Pay'!$A76,\"\",VLOOKUP($A76,'Formet 8'!$A$229:$O$338,9,0))","v":""},{"$f":"IF(MAX('Formet 8'!$A$229:$A$338)<'Fix Pay'!$A76,\"\",VLOOKUP($A76,'Formet 8'!$A$229:$O$338,8,0))","v":""},"","","","",{"$nulls":4},"","","",""]
[69,{"$f":"IF(MAX('Formet 8'!$A$229:$A$338)<'Fix Pay'!$A77,\"\",VLOOKUP($A77,'Formet 8'!$A$229:$O$338,4,0))","v":""},{"$f":"IF(MAX('Formet 8'!$A$229:$A$338)<'Fix Pay'!$A77,\"\",VLOOKUP($A77,'Formet 8'!$A$229:$O$338,7,0))","v":""},null,"",{"$f":"IF(MAX('Formet 8'!$A$229:$A$338)<'Fix Pay'!$A77,\"\",VLOOKUP($A77,'Formet 8'!$A$229:$O$338,9,0))","v":""},{"$f":"IF(MAX('Formet 8'!$A$229:$A$338)<'Fix Pay'!$A77,\"\",VLOOKUP($A77,'Formet 8'!$A$229:$O$338,8,0))","v":""},"","","","",{"$nulls":4},"","","",""]
[70,{"$f":"IF(MAX('Formet 8'!$A$229:$A$338)<'Fix Pay'!$A78,\"\",VLOOKUP($A78,'Formet 8'!$A$229:$O$338,4,0))","v":""},{"$f":"IF(MAX('Formet 8'!$A$229:$A$338)<'Fix Pay'!$A78,\"\",VLOOKUP($A78,'Formet 8'!$A$229:$O$338,7,0))","v":""},null,"",{"$f":"IF(MAX('Formet 8'!$A$229:$A$338)<'Fix Pay'!$A78,\"\",VLOOKUP($A78,'Formet 8'!$A$229:$O$338,9,0))","v":""},{"$f":"IF(MAX('Formet 8'!$A$229:$A$338)<'Fix Pay'!$A78,\"\",VLOOKUP($A78,'Formet 8'!$A$229:$O$338,8,0))","v":""},"","","","",{"$nulls":4},"","","",""]
[71,{"$f":"IF(MAX('Formet 8'!$A$229:$A$338)<'Fix Pay'!$A79,\"\",VLOOKUP($A79,'Formet 8'!$A$229:$O$338,4,0))","v":""},{"$f":"IF(MAX('Formet 8'!$A$229:$A$338)<'Fix Pay'!$A79,\"\",VLOOKUP($A79,'Formet 8'!$A$229:$O$338,7,0))","v":""},null,"",{"$f":"IF(MAX('Formet 8'!$A$229:$A$338)<'Fix Pay'!$A79,\"\",VLOOKUP($A79,'Formet 8'!$A$229:$O$338,9,0))","v":""},{"$f":"IF(MAX('Formet 8'!$A$229:$A$338)<'Fix Pay'!$A79,\"\",VLOOKUP($A79,'Formet 8'!$A$229:$O$338,8,0))","v":""},"","","","",{"$nulls":4},"","","",""]
[72,{"$f":"IF(MAX('Formet 8'!$A$229:$A$338)<'Fix Pay'!$A80,\"\",VLOOKUP($A80,'Formet 8'!$A$229:$O$338,4,0))","v":""},{"$f":"IF(MAX('Formet 8'!$A$229:$A$338)<'Fix Pay'!$A80,\"\",VLOOKUP($A80,'Formet 8'!$A$229:$O$338,7,0))","v":""},null,"",{"$f":"IF(MAX('Formet 8'!$A$229:$A$338)<'Fix Pay'!$A80,\"\",VLOOKUP($A80,'Formet 8'!$A$229:$O$338,9,0))","v":""},{"$f":"IF(MAX('Formet 8'!$A$229:$A$338)<'Fix Pay'!$A80,\"\",VLOOKUP($A80,'Formet 8'!$A$229:$O$338,8,0))","v":""},"","","","",{"$nulls":4},"","","",""]
[73,{"$f":"IF(MAX('Formet 8'!$A$229:$A$338)<'Fix Pay'!$A81,\"\",VLOOKUP($A81,'Formet 8'!$A$229:$O$338,4,0))","v":""},{"$f":"IF(MAX('Formet 8'!$A$229:$A$338)<'Fix Pay'!$A81,\"\",VLOOKUP($A81,'Formet 8'!$A$229:$O$338,7,0))","v":""},null,"",{"$f":"IF(MAX('Formet 8'!$A$229:$A$338)<'Fix Pay'!$A81,\"\",VLOOKUP($A81,'Formet 8'!$A$229:$O$338,9,0))","v":""},{"$f":"IF(MAX('Formet 8'!$A$229:$A$338)<'Fix Pay'!$A81,\"\",VLOOKUP($A81,'Formet 8'!$A$229:$O$338,8,0))","v":""},"","","","",{"$nulls":4},"","","",""]
[74,{"$f":"IF(MAX('Formet 8'!$A$229:$A$338)<'Fix Pay'!$A82,\"\",VLOOKUP($A82,'Formet 8'!$A$229:$O$338,4,0))","v":""},{"$f":"IF(MAX('Formet 8'!$A$229:$A$338)<'Fix Pay'!$A82,\"\",VLOOKUP($A82,'Formet 8'!$A$229:$O$338,7,0))","v":""},null,"",{"$f":"IF(MAX('Formet 8'!$A$229:$A$338)<'Fix Pay'!$A82,\"\",VLOOKUP($A82,'Formet 8'!$A$229:$O$338,9,0))","v":""},{"$f":"IF(MAX('Formet 8'!$A$229:$A$338)<'Fix Pay'!$A82,\"\",VLOOKUP($A82,'Formet 8'!$A$229:$O$338,8,0))","v":""},"","","","",{"$nulls":4},"","","",""]
[75,{"$f":"IF(MAX('Formet 8'!$A$229:$A$338)<'Fix Pay'!$A83,\"\",VLOOKUP($A83,'Formet 8'!$A$229:$O$338,4,0))","v":""},{"$f":"IF(MAX('Formet 8'!$A$229:$A$338)<'Fix Pay'!$A83,\"\",VLOOKUP($A83,'Formet 8'!$A$229:$O$338,7,0))","v":""},null,"",{"$f":"IF(MAX('Formet 8'!$A$229:$A$338)<'Fix Pay'!$A83,\"\",VLOOKUP($A83,'Formet 8'!$A$229:$O$338,9,0))","v":""},{"$f":"IF(MAX('Formet 8'!$A$229:$A$338)<'Fix Pay'!$A83,\"\",VLOOKUP($A83,'Formet 8'!$A$229:$O$338,8,0))","v":""},"","","","",{"$nulls":4},"","","",""]
[76,{"$f":"IF(MAX('Formet 8'!$A$229:$A$338)<'Fix Pay'!$A84,\"\",VLOOKUP($A84,'Formet 8'!$A$229:$O$338,4,0))","v":""},{"$f":"IF(MAX('Formet 8'!$A$229:$A$338)<'Fix Pay'!$A84,\"\",VLOOKUP($A84,'Formet 8'!$A$229:$O$338,7,0))","v":""},null,"",{"$f":"IF(MAX('Formet 8'!$A$229:$A$338)<'Fix Pay'!$A84,\"\",VLOOKUP($A84,'Formet 8'!$A$229:$O$338,9,0))","v":""},{"$f":"IF(MAX('Formet 8'!$A$229:$A$338)<'Fix Pay'!$A84,\"\",VLOOKUP($A84,'Formet 8'!$A$229:$O$338,8,0))","v":""},"","","","",{"$nulls":4},"","","",""]
[77,{"$f":"IF(MAX('Formet 8'!$A$229:$A$338)<'Fix Pay'!$A85,\"\",VLOOKUP($A85,'Formet 8'!$A$229:$O$338,4,0))","v":""},{"$f":"IF(MAX('Formet 8'!$A$229:$A$338)<'Fix Pay'!$A85,\"\",VLOOKUP($A85,'Formet 8'!$A$229:$O$338,7,0))","v":""},null,"",{"$f":"IF(MAX('Formet 8'!$A$229:$A$338)<'Fix Pay'!$A85,\"\",VLOOKUP($A85,'Formet 8'!$A$229:$O$338,9,0))","v":""},{"$f":"IF(MAX('Formet 8'!$A$229:$A$338)<'Fix Pay'!$A85,\"\",VLOOKUP($A85,'Formet 8'!$A$229:$O$338,8,0))","v":""},"","","","",{"$nulls":4},"","","",""]
[78,{"$f":"IF(MAX('Formet 8'!$A$229:$A$338)<'Fix Pay'!$A86,\"\",VLOOKUP($A86,'Formet 8'!$A$229:$O$338,4,0))","v":""},{"$f":"IF(MAX('Formet 8'!$A$229:$A$338)<'Fix Pay'!$A86,\"\",VLOOKUP($A86,'Formet 8'!$A$229:$O$338,7,0))","v":""},null,"",{"$f":"IF(MAX('Formet 8'!$A$229:$A$338)<'Fix Pay'!$A86,\"\",VLOOKUP($A86,'Formet 8'!$A$229:$O$338,9,0))","v":""},{"$f":"IF(MAX('Formet 8'!$A$229:$A$338)<'Fix Pay'!$A86,\"\",VLOOKUP($A86,'Formet 8'!$A$229:$O$338,8,0))","v":""},"","","","",{"$nulls":4},"","","",""]
[79,{"$f":"IF(MAX('Formet 8'!$A$229:$A$338)<'Fix Pay'!$A87,\"\",VLOOKUP($A87,'Formet 8'!$A$229:$O$338,4,0))","v":""},{"$f":"IF(MAX('Formet 8'!$A$229:$A$338)<'Fix Pay'!$A87,\"\",VLOOKUP($A87,'Formet 8'!$A$229:$O$338,7,0))","v":""},null,"",{"$f":"IF(MAX('Formet 8'!$A$229:$A$338)<'Fix Pay'!$A87,\"\",VLOOKUP($A87,'Formet 8'!$A$229:$O$338,9,0))","v":""},{"$f":"IF(MAX('Formet 8'!$A$229:$A$338)<'Fix Pay'!$A87,\"\",VLOOKUP($A87,'Formet 8'!$A$229:$O$338,8,0))","v":""},"","","","",{"$nulls":4},"","","",""]
[80,{"$f":"IF(MAX('Formet 8'!$A$229:$A$338)<'Fix Pay'!$A88,\"\",VLOOKUP($A88,'Formet 8'!$A$229:$O$338,4,0))","v":""},{"$f":"IF(MAX('Formet 8'!$A$229:$A$338)<'Fix Pay'!$A88,\"\",VLOOKUP($A88,'Formet 8'!$A$229:$O$338,7,0))","v":""},null,"",{"$f":"IF(MAX('Formet 8'!$A$229:$A$338)<'Fix Pay'!$A88,\"\",VLOOKUP($A88,'Formet 8'!$A$229:$O$338,9,0))","v":""},{"$f":"IF(MAX('Formet 8'!$A$229:$A$338)<'Fix Pay'!$A88,\"\",VLOOKUP($A88,'Formet 8'!$A$229:$O$338,8,0))","v":""},"","","","",{"$nulls":4},"","","",""]
[81,{"$f":"IF(MAX('Formet 8'!$A$229:$A$338)<'Fix Pay'!$A89,\"\",VLOOKUP($A89,'Formet 8'!$A$229:$O$338,4,0))","v":""},{"$f":"IF(MAX('Formet 8'!$A$229:$A$338)<'Fix Pay'!$A89,\"\",VLOOKUP($A89,'Formet 8'!$A$229:$O$338,7,0))","v":""},null,"",{"$f":"IF(MAX('Formet 8'!$A$229:$A$338)<'Fix Pay'!$A89,\"\",VLOOKUP($A89,'Formet 8'!$A$229:$O$338,9,0))","v":""},{"$f":"IF(MAX('Formet 8'!$A$229:$A$338)<'Fix Pay'!$A89,\"\",VLOOKUP($A89,'Formet 8'!$A$229:$O$338,8,0))","v":""},"","","","",{"$nulls":4},"","","",""]
[82,{"$f":"IF(MAX('Formet 8'!$A$229:$A$338)<'Fix Pay'!$A90,\"\",VLOOKUP($A90,'Formet 8'!$A$229:$O$338,4,0))","v":""},{"$f":"IF(MAX('Formet 8'!$A$229:$A$338)<'Fix Pay'!$A90,\"\",VLOOKUP($A90,'Formet 8'!$A$229:$O$338,7,0))","v":""},null,"",{"$f":"IF(MAX('Formet 8'!$A$229:$A$338)<'Fix Pay'!$A90,\"\",VLOOKUP($A90,'Formet 8'!$A$229:$O$338,9,0))","v":""},{"$f":"IF(MAX('Formet 8'!$A$229:$A$338)<'Fix Pay'!$A90,\"\",VLOOKUP($A90,'Formet 8'!$A$229:$O$338,8,0))","v":""},"","","","",{"$nulls":4},"","","",""]
[83,{"$f":"IF(MAX('Formet 8'!$A$229:$A$338)<'Fix Pay'!$A91,\"\",VLOOKUP($A91,'Formet 8'!$A$229:$O$338,4,0))","v":""},{"$f":"IF(MAX('Formet 8'!$A$229:$A$338)<'Fix Pay'!$A91,\"\",VLOOKUP($A91,'Formet 8'!$A$229:$O$338,7,0))","v":""},null,"",{"$f":"IF(MAX('Formet 8'!$A$229:$A$338)<'Fix Pay'!$A91,\"\",VLOOKUP($A91,'Formet 8'!$A$229:$O$338,9,0))","v":""},{"$f":"IF(MAX('Formet 8'!$A$229:$A$338)<'Fix Pay'!$A91,\"\",VLOOKUP($A91,'Formet 8'!$A$229:$O$338,8,0))","v":""},"","","","",{"$nulls":4},"","","",""]
[84,{"$f":"IF(MAX('Formet 8'!$A$229:$A$338)<'Fix Pay'!$A92,\"\",VLOOKUP($A92,'Formet 8'!$A$229:$O$338,4,0))","v":""},{"$f":"IF(MAX('Formet 8'!$A$229:$A$338)<'Fix Pay'!$A92,\"\",VLOOKUP($A92,'Formet 8'!$A$229:$O$338,7,0))","v":""},null,"",{"$f":"IF(MAX('Formet 8'!$A$229:$A$338)<'Fix Pay'!$A92,\"\",VLOOKUP($A92,'Formet 8'!$A$229:$O$338,9,0))","v":""},{"$f":"IF(MAX('Formet 8'!$A$229:$A$338)<'Fix Pay'!$A92,\"\",VLOOKUP($A92,'Formet 8'!$A$229:$O$338,8,0))","v":""},"","","","",{"$nulls":4},"","","",""]
[85,{"$f":"IF(MAX('Formet 8'!$A$229:$A$338)<'Fix Pay'!$A93,\"\",VLOOKUP($A93,'Formet 8'!$A$229:$O$338,4,0))","v":""},{"$f":"IF(MAX('Formet 8'!$A$229:$A$338)<'Fix Pay'!$A93,\"\",VLOOKUP($A93,'Formet 8'!$A$229:$O$338,7,0))","v":""},null,"",{"$f":"IF(MAX('Formet 8'!$A$229:$A$338)<'Fix Pay'!$A93,\"\",VLOOKUP($A93,'Formet 8'!$A$229:$O$338,9,0))","v":""},{"$f":"IF(MAX('Formet 8'!$A$229:$A$338)<'Fix Pay'!$A93,\"\",VLOOKUP($A93,'Formet 8'!$A$229:$O$338,8,0))","v":""},"","","","",{"$nulls":4},"","","",""]
[86,{"$f":"IF(MAX('Formet 8'!$A$229:$A$338)<'Fix Pay'!$A94,\"\",VLOOKUP($A94,'Formet 8'!$A$229:$O$338,4,0))","v":""},{"$f":"IF(MAX('Formet 8'!$A$229:$A$338)<'Fix Pay'!$A94,\"\",VLOOKUP($A94,'Formet 8'!$A$229:$O$338,7,0))","v":""},null,"",{"$f":"IF(MAX('Formet 8'!$A$229:$A$338)<'Fix Pay'!$A94,\"\",VLOOKUP($A94,'Formet 8'!$A$229:$O$338,9,0))","v":""},{"$f":"IF(MAX('Formet 8'!$A$229:$A$338)<'Fix Pay'!$A94,\"\",VLOOKUP($A94,'Formet 8'!$A$229:$O$338,8,0))","v":""},"","","","",{"$nulls":4},"","","",""]
[87,{"$f":"IF(MAX('Formet 8'!$A$229:$A$338)<'Fix Pay'!$A95,\"\",VLOOKUP($A95,'Formet 8'!$A$229:$O$338,4,0))","v":""},{"$f":"IF(MAX('Formet 8'!$A$229:$A$338)<'Fix Pay'!$A95,\"\",VLOOKUP($A95,'Formet 8'!$A$229:$O$338,7,0))","v":""},null,"",{"$f":"IF(MAX('Formet 8'!$A$229:$A$338)<'Fix Pay'!$A95,\"\",VLOOKUP($A95,'Formet 8'!$A$229:$O$338,9,0))","v":""},{"$f":"IF(MAX('Formet 8'!$A$229:$A$338)<'Fix Pay'!$A95,\"\",VLOOKUP($A95,'Formet 8'!$A$229:$O$338,8,0))","v":""},"","","","",{"$nulls":4},"","","",""]
[88,{"$f":"IF(MAX('Formet 8'!$A$229:$A$338)<'Fix Pay'!$A96,\"\",VLOOKUP($A96,'Formet 8'!$A$229:$O$338,4,0))","v":""},{"$f":"IF(MAX('Formet 8'!$A$229:$A$338)<'Fix Pay'!$A96,\"\",VLOOKUP($A96,'Formet 8'!$A$229:$O$338,7,0))","v":""},null,"",{"$f":"IF(MAX('Formet 8'!$A$229:$A$338)<'Fix Pay'!$A96,\"\",VLOOKUP($A96,'Formet 8'!$A$229:$O$338,9,0))","v":""},{"$f":"IF(MAX('Formet 8'!$A$229:$A$338)<'Fix Pay'!$A96,\"\",VLOOKUP($A96,'Formet 8'!$A$229:$O$338,8,0))","v":""},"","",{"$f":"IF(F96=\"\",\"\",IF(OR(Q96=\"\",Q96=0),F96*12,((12-Q96)*F96+(Q96*H96*1.65))))","v":""},{"$f":"IF(F96=\"\",\"\",IF(OR(P96=\"\",P96=0),H96*12,((12-P96)*F96+(P96*H96*1.7))))","v":""},{"$nulls":4},"","","",""]
[89,{"$f":"IF(MAX('Formet 8'!$A$229:$A$338)<'Fix Pay'!$A97,\"\",VLOOKUP($A97,'Formet 8'!$A$229:$O$338,4,0))","v":""},{"$f":"IF(MAX('Formet 8'!$A$229:$A$338)<'Fix Pay'!$A97,\"\",VLOOKUP($A97,'Formet 8'!$A$229:$O$338,7,0))","v":""},null,"",{"$f":"IF(MAX('Formet 8'!$A$229:$A$338)<'Fix Pay'!$A97,\"\",VLOOKUP($A97,'Formet 8'!$A$229:$O$338,9,0))","v":""},{"$f":"IF(MAX('Formet 8'!$A$229:$A$338)<'Fix Pay'!$A97,\"\",VLOOKUP($A97,'Formet 8'!$A$229:$O$338,8,0))","v":""},"","","","",{"$nulls":4},"","","",""]
[90,{"$f":"IF(MAX('Formet 8'!$A$229:$A$338)<'Fix Pay'!$A98,\"\",VLOOKUP($A98,'Formet 8'!$A$229:$O$338,4,0))","v":""},{"$f":"IF(MAX('Formet 8'!$A$229:$A$338)<'Fix Pay'!$A98,\"\",VLOOKUP($A98,'Formet 8'!$A$229:$O$338,7,0))","v":""},null,"",{"$f":"IF(MAX('Formet 8'!$A$229:$A$338)<'Fix Pay'!$A98,\"\",VLOOKUP($A98,'Formet 8'!$A$229:$O$338,9,0))","v":""},{"$f":"IF(MAX('Formet 8'!$A$229:$A$338)<'Fix Pay'!$A98,\"\",VLOOKUP($A98,'Formet 8'!$A$229:$O$338,8,0))","v":""},"","","","",{"$nulls":4},"","","",""]
[91,{"$f":"IF(MAX('Formet 8'!$A$229:$A$338)<'Fix Pay'!$A99,\"\",VLOOKUP($A99,'Formet 8'!$A$229:$O$338,4,0))","v":""},{"$f":"IF(MAX('Formet 8'!$A$229:$A$338)<'Fix Pay'!$A99,\"\",VLOOKUP($A99,'Formet 8'!$A$229:$O$338,7,0))","v":""},null,"",{"$f":"IF(MAX('Formet 8'!$A$229:$A$338)<'Fix Pay'!$A99,\"\",VLOOKUP($A99,'Formet 8'!$A$229:$O$338,9,0))","v":""},{"$f":"IF(MAX('Formet 8'!$A$229:$A$338)<'Fix Pay'!$A99,\"\",VLOOKUP($A99,'Formet 8'!$A$229:$O$338,8,0))","v":""},"","","","",{"$nulls":4},"","","",""]
[92,{"$f":"IF(MAX('Formet 8'!$A$229:$A$338)<'Fix Pay'!$A100,\"\",VLOOKUP($A100,'Formet 8'!$A$229:$O$338,4,0))","v":""},{"$f":"IF(MAX('Formet 8'!$A$229:$A$338)<'Fix Pay'!$A100,\"\",VLOOKUP($A100,'Formet 8'!$A$229:$O$338,7,0))","v":""},null,"",{"$f":"IF(MAX('Formet 8'!$A$229:$A$338)<'Fix Pay'!$A100,\"\",VLOOKUP($A100,'Formet 8'!$A$229:$O$338,9,0))","v":""},{"$f":"IF(MAX('Formet 8'!$A$229:$A$338)<'Fix Pay'!$A100,\"\",VLOOKUP($A100,'Formet 8'!$A$229:$O$338,8,0))","v":""},"","","","",{"$nulls":4},"","","",""]
[93,{"$f":"IF(MAX('Formet 8'!$A$229:$A$338)<'Fix Pay'!$A101,\"\",VLOOKUP($A101,'Formet 8'!$A$229:$O$338,4,0))","v":""},{"$f":"IF(MAX('Formet 8'!$A$229:$A$338)<'Fix Pay'!$A101,\"\",VLOOKUP($A101,'Formet 8'!$A$229:$O$338,7,0))","v":""},null,"",{"$f":"IF(MAX('Formet 8'!$A$229:$A$338)<'Fix Pay'!$A101,\"\",VLOOKUP($A101,'Formet 8'!$A$229:$O$338,9,0))","v":""},{"$f":"IF(MAX('Formet 8'!$A$229:$A$338)<'Fix Pay'!$A101,\"\",VLOOKUP($A101,'Formet 8'!$A$229:$O$338,8,0))","v":""},"","","","",{"$nulls":4},"","","",""]
[94,{"$f":"IF(MAX('Formet 8'!$A$229:$A$338)<'Fix Pay'!$A102,\"\",VLOOKUP($A102,'Formet 8'!$A$229:$O$338,4,0))","v":""},{"$f":"IF(MAX('Formet 8'!$A$229:$A$338)<'Fix Pay'!$A102,\"\",VLOOKUP($A102,'Formet 8'!$A$229:$O$338,7,0))","v":""},null,"",{"$f":"IF(MAX('Formet 8'!$A$229:$A$338)<'Fix Pay'!$A102,\"\",VLOOKUP($A102,'Formet 8'!$A$229:$O$338,9,0))","v":""},{"$f":"IF(MAX('Formet 8'!$A$229:$A$338)<'Fix Pay'!$A102,\"\",VLOOKUP($A102,'Formet 8'!$A$229:$O$338,8,0))","v":""},"","","","",{"$nulls":4},"","","",""]
[95,{"$f":"IF(MAX('Formet 8'!$A$229:$A$338)<'Fix Pay'!$A103,\"\",VLOOKUP($A103,'Formet 8'!$A$229:$O$338,4,0))","v":""},{"$f":"IF(MAX('Formet 8'!$A$229:$A$338)<'Fix Pay'!$A103,\"\",VLOOKUP($A103,'Formet 8'!$A$229:$O$338,7,0))","v":""},null,"",{"$f":"IF(MAX('Formet 8'!$A$229:$A$338)<'Fix Pay'!$A103,\"\",VLOOKUP($A103,'Formet 8'!$A$229:$O$338,9,0))","v":""},{"$f":"IF(MAX('Formet 8'!$A$229:$A$338)<'Fix Pay'!$A103,\"\",VLOOKUP($A103,'Formet 8'!$A$229:$O$338,8,0))","v":""},"","","","",{"$nulls":4},"","","",""]
[96,{"$f":"IF(MAX('Formet 8'!$A$229:$A$338)<'Fix Pay'!$A104,\"\",VLOOKUP($A104,'Formet 8'!$A$229:$O$338,4,0))","v":""},{"$f":"IF(MAX('Formet 8'!$A$229:$A$338)<'Fix Pay'!$A104,\"\",VLOOKUP($A104,'Formet 8'!$A$229:$O$338,7,0))","v":""},null,"",{"$f":"IF(MAX('Formet 8'!$A$229:$A$338)<'Fix Pay'!$A104,\"\",VLOOKUP($A104,'Formet 8'!$A$229:$O$338,9,0))","v":""},{"$f":"IF(MAX('Formet 8'!$A$229:$A$338)<'Fix Pay'!$A104,\"\",VLOOKUP($A104,'Formet 8'!$A$229:$O$338,8,0))","v":""},"","","","",{"$nulls":4},"","","",""]
[97,{"$f":"IF(MAX('Formet 8'!$A$229:$A$338)<'Fix Pay'!$A105,\"\",VLOOKUP($A105,'Formet 8'!$A$229:$O$338,4,0))","v":""},{"$f":"IF(MAX('Formet 8'!$A$229:$A$338)<'Fix Pay'!$A105,\"\",VLOOKUP($A105,'Formet 8'!$A$229:$O$338,7,0))","v":""},null,"",{"$f":"IF(MAX('Formet 8'!$A$229:$A$338)<'Fix Pay'!$A105,\"\",VLOOKUP($A105,'Formet 8'!$A$229:$O$338,9,0))","v":""},{"$f":"IF(MAX('Formet 8'!$A$229:$A$338)<'Fix Pay'!$A105,\"\",VLOOKUP($A105,'Formet 8'!$A$229:$O$338,8,0))","v":""},{"$f":"IF(F105=\"\",\"\",VLOOKUP(G105,$M$9:$O$32,3,0))","v":""},"","","",{"$nulls":4},"","","",""]
[98,{"$f":"IF(MAX('Formet 8'!$A$229:$A$338)<'Fix Pay'!$A106,\"\",VLOOKUP($A106,'Formet 8'!$A$229:$O$338,4,0))","v":""},{"$f":"IF(MAX('Formet 8'!$A$229:$A$338)<'Fix Pay'!$A106,\"\",VLOOKUP($A106,'Formet 8'!$A$229:$O$338,7,0))","v":""},null,"",{"$f":"IF(MAX('Formet 8'!$A$229:$A$338)<'Fix Pay'!$A106,\"\",VLOOKUP($A106,'Formet 8'!$A$229:$O$338,9,0))","v":""},{"$f":"IF(MAX('Formet 8'!$A$229:$A$338)<'Fix Pay'!$A106,\"\",VLOOKUP($A106,'Formet 8'!$A$229:$O$338,8,0))","v":""},"","","","",{"$nulls":4},"","","",""]
[99,{"$f":"IF(MAX('Formet 8'!$A$229:$A$338)<'Fix Pay'!$A107,\"\",VLOOKUP($A107,'Formet 8'!$A$229:$O$338,4,0))","v":""},{"$f":"IF(MAX('Formet 8'!$A$229:$A$338)<'Fix Pay'!$A107,\"\",VLOOKUP($A107,'Formet 8'!$A$229:$O$338,7,0))","v":""},null,"",{"$f":"IF(MAX('Formet 8'!$A$229:$A$338)<'Fix Pay'!$A107,\"\",VLOOKUP($A107,'Formet 8'!$A$229:$O$338,9,0))","v":""},{"$f":"IF(MAX('Formet 8'!$A$229:$A$338)<'Fix Pay'!$A107,\"\",VLOOKUP($A107,'Formet 8'!$A$229:$O$338,8,0))","v":""},"","","","",{"$nulls":4},"","","",""]
[100,{"$f":"IF(MAX('Formet 8'!$A$229:$A$338)<'Fix Pay'!$A108,\"\",VLOOKUP($A108,'Formet 8'!$A$229:$O$338,4,0))","v":""},{"$f":"IF(MAX('Formet 8'!$A$229:$A$338)<'Fix Pay'!$A108,\"\",VLOOKUP($A108,'Formet 8'!$A$229:$O$338,7,0))","v":""},null,"",{"$f":"IF(MAX('Formet 8'!$A$229:$A$338)<'Fix Pay'!$A108,\"\",VLOOKUP($A108,'Formet 8'!$A$229:$O$338,9,0))","v":""},{"$f":"IF(MAX('Formet 8'!$A$229:$A$338)<'Fix Pay'!$A108,\"\",VLOOKUP($A108,'Formet 8'!$A$229:$O$338,8,0))","v":""},"","","","",{"$nulls":4},"","","",""]
[101,{"$f":"IF(MAX('Formet 8'!$A$229:$A$338)<'Fix Pay'!$A109,\"\",VLOOKUP($A109,'Formet 8'!$A$229:$O$338,4,0))","v":""},{"$f":"IF(MAX('Formet 8'!$A$229:$A$338)<'Fix Pay'!$A109,\"\",VLOOKUP($A109,'Formet 8'!$A$229:$O$338,7,0))","v":""},null,"",{"$f":"IF(MAX('Formet 8'!$A$229:$A$338)<'Fix Pay'!$A109,\"\",VLOOKUP($A109,'Formet 8'!$A$229:$O$338,9,0))","v":""},{"$f":"IF(MAX('Formet 8'!$A$229:$A$338)<'Fix Pay'!$A109,\"\",VLOOKUP($A109,'Formet 8'!$A$229:$O$338,8,0))","v":""},"","","","",{"$nulls":4},"","","",""]
[102,{"$f":"IF(MAX('Formet 8'!$A$229:$A$338)<'Fix Pay'!$A110,\"\",VLOOKUP($A110,'Formet 8'!$A$229:$O$338,4,0))","v":""},{"$f":"IF(MAX('Formet 8'!$A$229:$A$338)<'Fix Pay'!$A110,\"\",VLOOKUP($A110,'Formet 8'!$A$229:$O$338,7,0))","v":""},null,"",{"$f":"IF(MAX('Formet 8'!$A$229:$A$338)<'Fix Pay'!$A110,\"\",VLOOKUP($A110,'Formet 8'!$A$229:$O$338,9,0))","v":""},{"$f":"IF(MAX('Formet 8'!$A$229:$A$338)<'Fix Pay'!$A110,\"\",VLOOKUP($A110,'Formet 8'!$A$229:$O$338,8,0))","v":""},"","","","",{"$nulls":4},"","","",""]
[103,{"$f":"IF(MAX('Formet 8'!$A$229:$A$338)<'Fix Pay'!$A111,\"\",VLOOKUP($A111,'Formet 8'!$A$229:$O$338,4,0))","v":""},{"$f":"IF(MAX('Formet 8'!$A$229:$A$338)<'Fix Pay'!$A111,\"\",VLOOKUP($A111,'Formet 8'!$A$229:$O$338,7,0))","v":""},null,"",{"$f":"IF(MAX('Formet 8'!$A$229:$A$338)<'Fix Pay'!$A111,\"\",VLOOKUP($A111,'Formet 8'!$A$229:$O$338,9,0))","v":""},{"$f":"IF(MAX('Formet 8'!$A$229:$A$338)<'Fix Pay'!$A111,\"\",VLOOKUP($A111,'Formet 8'!$A$229:$O$338,8,0))","v":""},"","","","",{"$nulls":4},"","","",""]
[104,{"$f":"IF(MAX('Formet 8'!$A$229:$A$338)<'Fix Pay'!$A112,\"\",VLOOKUP($A112,'Formet 8'!$A$229:$O$338,4,0))","v":""},{"$f":"IF(MAX('Formet 8'!$A$229:$A$338)<'Fix Pay'!$A112,\"\",VLOOKUP($A112,'Formet 8'!$A$229:$O$338,7,0))","v":""},null,"",{"$f":"IF(MAX('Formet 8'!$A$229:$A$338)<'Fix Pay'!$A112,\"\",VLOOKUP($A112,'Formet 8'!$A$229:$O$338,9,0))","v":""},{"$f":"IF(MAX('Formet 8'!$A$229:$A$338)<'Fix Pay'!$A112,\"\",VLOOKUP($A112,'Formet 8'!$A$229:$O$338,8,0))","v":""},"","","","",{"$nulls":4},"","","",""]
[105,{"$f":"IF(MAX('Formet 8'!$A$229:$A$338)<'Fix Pay'!$A113,\"\",VLOOKUP($A113,'Formet 8'!$A$229:$O$338,4,0))","v":""},{"$f":"IF(MAX('Formet 8'!$A$229:$A$338)<'Fix Pay'!$A113,\"\",VLOOKUP($A113,'Formet 8'!$A$229:$O$338,7,0))","v":""},null,"",{"$f":"IF(MAX('Formet 8'!$A$229:$A$338)<'Fix Pay'!$A113,\"\",VLOOKUP($A113,'Formet 8'!$A$229:$O$338,9,0))","v":""},{"$f":"IF(MAX('Formet 8'!$A$229:$A$338)<'Fix Pay'!$A113,\"\",VLOOKUP($A113,'Formet 8'!$A$229:$O$338,8,0))","v":""},"","","","",{"$nulls":4},"","","",""]
[106,{"$f":"IF(MAX('Formet 8'!$A$229:$A$338)<'Fix Pay'!$A114,\"\",VLOOKUP($A114,'Formet 8'!$A$229:$O$338,4,0))","v":""},{"$f":"IF(MAX('Formet 8'!$A$229:$A$338)<'Fix Pay'!$A114,\"\",VLOOKUP($A114,'Formet 8'!$A$229:$O$338,7,0))","v":""},null,"",{"$f":"IF(MAX('Formet 8'!$A$229:$A$338)<'Fix Pay'!$A114,\"\",VLOOKUP($A114,'Formet 8'!$A$229:$O$338,9,0))","v":""},{"$f":"IF(MAX('Formet 8'!$A$229:$A$338)<'Fix Pay'!$A114,\"\",VLOOKUP($A114,'Formet 8'!$A$229:$O$338,8,0))","v":""},"","","","",{"$nulls":4},"","","",""]
[107,{"$f":"IF(MAX('Formet 8'!$A$229:$A$338)<'Fix Pay'!$A115,\"\",VLOOKUP($A115,'Formet 8'!$A$229:$O$338,4,0))","v":""},{"$f":"IF(MAX('Formet 8'!$A$229:$A$338)<'Fix Pay'!$A115,\"\",VLOOKUP($A115,'Formet 8'!$A$229:$O$338,7,0))","v":""},null,"",{"$f":"IF(MAX('Formet 8'!$A$229:$A$338)<'Fix Pay'!$A115,\"\",VLOOKUP($A115,'Formet 8'!$A$229:$O$338,9,0))","v":""},{"$f":"IF(MAX('Formet 8'!$A$229:$A$338)<'Fix Pay'!$A115,\"\",VLOOKUP($A115,'Formet 8'!$A$229:$O$338,8,0))","v":""},"","","","",null,"Arear",null,null,"","","",""]
[108,{"$f":"IF(MAX('Formet 8'!$A$229:$A$338)<'Fix Pay'!$A116,\"\",VLOOKUP($A116,'Formet 8'!$A$229:$O$338,4,0))","v":""},{"$f":"IF(MAX('Formet 8'!$A$229:$A$338)<'Fix Pay'!$A116,\"\",VLOOKUP($A116,'Formet 8'!$A$229:$O$338,7,0))","v":""},null,"",{"$f":"IF(MAX('Formet 8'!$A$229:$A$338)<'Fix Pay'!$A116,\"\",VLOOKUP($A116,'Formet 8'!$A$229:$O$338,9,0))","v":""},{"$f":"IF(MAX('Formet 8'!$A$229:$A$338)<'Fix Pay'!$A116,\"\",VLOOKUP($A116,'Formet 8'!$A$229:$O$338,8,0))","v":""},"","","","",null,"2025-26","2024-25",null,"","","",""]
["TOTAL",{"$nulls":4},{"$f":"SUM(F9:F33)","v":23700},null,33800,{"$f":"SUM(I9:I33)","v":284400},{"$f":"SUM(J9:J33)","v":348540},{"$f":"SUM(K9:K33)","v":405600},null,{"$f":"J117-(F117*12)","v":64140},{"$f":"K117-(F117*12)","v":121200},null,{"$f":"J117-H117","v":314740},{"$f":"K117-I117","v":121200},{"$f":"SUM(R9:R116)","v":64140},{"$f":"SUM(S9:S116)","v":121200}]
[{"$nulls":12},{"$f":"M117*'Formet 8'!G217+M117*'Formet 8'!G221","v":41691},{"$f":"N117*'Formet 8'!G217+N117*'Formet 8'!G221","v":78780}]
[{"$nulls":12},{"$f":"M117+M118","v":105831},{"$f":"N117+N118","v":199980}]
[{"$nulls":5},{"$f":"'Cover Page'!A1","v":"ç/kkukpk;Z] jkmekfo jk;eyok³k ¼vkWfQl vkbZ-Mh- la[;k %&12572½"}]

{"sheet":"Fix Pay NPS","index":28,"n_rows":156,"n_cols":66,"rows_kept":156,"hidden":true,"merged":[[0,6,0,13],[1,0,1,13],[2,0,2,12],[3,0,3,13],[4,0,4,13],[5,0,5,13],[152,0,152,13],[153,0,153,11],[153,12,153,13],[154,0,154,11],[154,12,154,13],[155,0,155,11],[155,12,155,13]]}
[{"$nulls":6},{"$f":"Summary!$C$1","v":{"v":12572,"d":"OFFICE ID 12572"}}]
[{"$f":"Summary!$A$3","v":"Principal Govt. Sr. Sec. School Raimalwada"},{"$nulls":13},"Grade Pay",1300,1400,1650,1800,1850,1900,2000,2100,2400,2800,3200,3600,4200,4800,5400,6000,6600,6800,7200,7600,8200,8700,8900,10000]
[{"$nulls":14},"FIX PAY",4850,5050,5300,5600,5900,6100,6400,6750,7900,8950,10000,11100,13050,15000,16800,18200,20200,21300,22600,23950,26650,36900,38900,43800,"PRINCIPAL (16)","V P (14)","H M (14)","AGRICULTURE INST (13)","TEACHER-1ST (13)","PTI  I  (13)","AGRICULTURE TEACH (13)","INSTRUCTOR (13)","JR TEACHER (13)","LIBRARIAN I (13)","ASSISTANT (11)","TEACHER-2ND (12)","JR TEACHER (12)","PTI   II  (12)","LIBRARIAN II (12)","LAB ASST (11)","UDC (9)","PTI  III  (10)","TEACHER-3RD (10)","LIBRARIAN III (10)","LAB ASST (9)","LDC (6)","FIELDMAN & FIELD REC (6) ","LAB BOY (2)","JAMADAR (2)","PEON (2)","PEON (1)"]
["For FY - 2020-21 (April 2020 to March 2021)"]
["FORMAT NPS DETAIL (EMP. AFTER 01-01-2004)"]
[{"$f":"Summary!A5","v":"BUDGET HEAD : 2202 -सामान्य शिक्षा-02-109 -राजकीय माध्यमिक विद्यालय-27 -लडकों के विद्यालय-01 -लडकों के विद्यालयों का संचालन व्यय   (STATE FUND)"}]
["S.No.","Name of Employee","Post","Pay Metrix Level","Salary on 1 July, 2020","pkyw o\"kZ ds fy, la'kksf/kr vuqeku","DA (17%)","Total (6+7)","NPS (Basic+DA*10/100)","vkxkeh o\"kZ ds vuqekfur fy;s jde ","DA (17%)","Total (10+11)","NPS (Basic+DA*10/100)","Total NPS (9+12)"]
[1,2,3,4,5,6,7,8,9,10,11,11,12,13]
[1,"vtey jke","TEACHER-III","L-10",33800,401600,{"$f":"ROUND(F9*17/100,0)","v":68272},{"$f":"F9+G9","v":469872},{"$f":"ROUND(H9*0.1,0)","v":46987},413600,{"$f":"ROUND(J9*17/100,0)","v":70312},{"$f":"J9+K9","v":483912},{"$f":"ROUND(L9*0.1,0)","v":48391},{"$f":"I9+M9","v":95378}]
[2,"vkuUn dqekjh 'kekZ","TEACHER-III","L-10",33800,401600,{"$f":"ROUND(F10*17/100,0)","v":68272},{"$f":"F10+G10","v":469872},{"$f":"ROUND(H10*0.1,0)","v":46987},413600,{"$f":"ROUND(J10*17/100,0)","v":70312},{"$f":"J10+K10","v":483912},{"$f":"ROUND(L10*0.1,0)","v":48391},{"$f":"I10+M10","v":95378}]
[3,"vfuy dqekj ehuk","TEACHER-III","L-11",46500,552400,93908,646308,64631,569200,96764,665964,66596,131227]
[4,"vk'kk dqekjh","TEACHER-III","L-10",38000,451600,76772,528372,52837,464800,79016,543816,54382,107219]
[5,"v'kksd dqekj","TEACHER-III","L-10",38000,451600,76772,528372,52837,464800,79016,543816,54382,107219]
[6,"ctjaxx yky","TEACHER-III","L-10",38000,451600,76772,528372,52837,464800,79016,543816,54382,107219]
[7,"HkkxhjFk","TEACHER-III","L-10",40300,478800,81396,560196,56020,493200,83844,577044,57704,113724]
[8,"Hkaojk jke","TEACHER-III","L-10",40300,478800,81396,560196,56020,493200,83844,577044,57704,113724]
[9,"Hkkseflag","TEACHER-III","L-10",40300,478800,81396,560196,56020,493200,83844,577044,57704,113724]
[10,"psruk","TEACHER-III","L-10",40300,478800,81396,560196,56020,493200,83844,577044,57704,113724]
[11,"nhikjke","TEACHER-III","L-10",38000,451600,76772,528372,52837,464800,79016,543816,54382,107219]
[12,"fnfidk HkkVh","TEACHER-III","L-10",34800,413600,70312,483912,48391,425600,72352,497952,49795,98186]
[13,"/keZohj flag","TEACHER-III","L-10",38000,451600,76772,528372,52837,464800,79016,543816,54382,107219]
[14,"/kesZUnz","TEACHER-III","L-10",46500,552400,93908,646308,64631,569200,96764,665964,66596,131227]
[15,"fMEiy dqekjh","TEACHER-III","L-10",34800,413600,70312,483912,48391,425600,72352,497952,49795,98186]
[16,"x.ks'kjke xksnkjk","TEACHER-III","L-11",52300,621600,105672,727272,72727,640400,108868,749268,74927,147654]
[17,"x.ks'kjke","TEACHER-III","L-10",34800,413600,70312,483912,48391,425600,72352,497952,49795,98186]
[18,"xkSjUrh ckbZ ehuk","TEACHER-III","L-10",33800,401600,68272,469872,46987,413600,70312,483912,48391,95378]
[19,"fxj/kkjh yky tkVo","TEACHER-III","L-10",38000,451600,76772,528372,52837,464800,79016,543816,54382,107219]
[20,"gqdek jke","TEACHER-III","L-10",40300,478800,81396,560196,56020,493200,83844,577044,57704,113724]
[21,"t;ukjk;.k","TEACHER-III","L-10",40300,478800,81396,560196,56020,493200,83844,577044,57704,113724]
[22,"ftrsUnz dqekj ehuk","TEACHER-III","L-10",38000,451600,76772,528372,52837,464800,79016,543816,54382,107219]
[23,"dYiuk","TEACHER-III","L-10",34800,413600,70312,483912,48391,425600,72352,497952,49795,98186]
[24,"deys'k ;kno","TEACHER-III","L-10",38000,451600,76772,528372,52837,464800,79016,543816,54382,107219]
[25,"dkuflag","TEACHER-III","L-11",46500,552400,93908,646308,64631,569200,96764,665964,66596,131227]
[26,"[ksyUrh ehuk","TEACHER-III","L-10",38000,451600,76772,528372,52837,464800,79016,543816,54382,107219]
[27,"dqEHkkjke xksnkjk","TEACHER-III","L-11",45100,536000,91120,627120,62712,552400,93908,646308,64631,127343]
[28,"fdj.k HkkVh","TEACHER-III","L-10",38000,451600,76772,528372,52837,464800,79016,543816,54382,107219]
[29,"dqynhi tk[kM","TEACHER-III","L-10",38000,451600,76772,528372,52837,464800,79016,543816,54382,107219]
[30,"dq'k dqekj HknkSfj;k","TEACHER-III","L-10",39100,464800,79016,543816,54382,478800,81396,560196,56020,110402]
[31,"egkohj izlkn ;kno","TEACHER-III","L-10",40300,478800,81396,560196,56020,493200,83844,577044,57704,113724]
[32,"egsUnz dqekj /krjoky","TEACHER-III","L-10",38000,451600,76772,528372,52837,464800,79016,543816,54382,107219]
[33,"ekaxqnku","TEACHER-III","L-10",33800,401600,68272,469872,46987,413600,70312,483912,48391,95378]
[34,"eatw dqekjh","TEACHER-III","L-10",34800,413600,70312,483912,48391,425600,72352,497952,49795,98186]
[35,"ehuk dqekjh dqynhi","TEACHER-III","L-10",38000,451600,76772,528372,52837,464800,79016,543816,54382,107219]
[36,"ewykjke flgkx","Prabodhak","L-11",46500,552400,93908,646308,64631,569200,96764,665964,66596,131227]
[37,"eqds'k xqtZj","TEACHER-III","L-10",38000,451600,76772,528372,52837,464800,79016,543816,54382,107219]
[38,"eqds'k dqekj ehuk","TEACHER-III","L-10",38000,451600,76772,528372,52837,464800,79016,543816,54382,107219]
[39,"eqds'k dqekj ehuk","TEACHER-III","L-10",38000,451600,76772,528372,52837,464800,79016,543816,54382,107219]
[40,"eqUuk jke es?koky","TEACHER-III","L-11",46500,552400,93908,646308,64631,569200,96764,665964,66596,131227]
[41,"ukud pUn","TEACHER-III","L-10",38000,451600,76772,528372,52837,464800,79016,543816,54382,107219]
[42,"ueZnk tk[kM","TEACHER-III","L-10",34800,413600,70312,483912,48391,425600,72352,497952,49795,98186]
[43,"ujs'k dqekj iwfu;ka","TEACHER-III","L-10",38000,451600,76772,528372,52837,464800,79016,543816,54382,107219]
[44,"ukFkwyky oekZ","TEACHER-III","L-10",38000,451600,76772,528372,52837,464800,79016,543816,54382,107219]
[45,"ujs'k dqekj","TEACHER-III","L-10",39100,464800,79016,543816,54382,478800,81396,560196,56020,110402]
[46,"vkse izdk'k","TEACHER-III","L-10",33800,401600,68272,469872,46987,413600,70312,483912,48391,95378]
[47,"d`\".k vorkj cSjok","TEACHER-III","L-10",38000,451600,76772,528372,52837,464800,79016,543816,54382,107219]
[48,"izrki jke tkafxM","TEACHER-III","L-10",38000,451600,76772,528372,52837,464800,79016,543816,54382,107219]
[49,"jQhd","TEACHER-III","L-10",38000,451600,76772,528372,52837,464800,79016,543816,54382,107219]
[50,"jktu","TEACHER-III","L-10",36900,438400,74528,512928,51293,451600,76772,528372,52837,104130]
[51,"jkds'k dqekj","TEACHER-III","L-10",40300,478800,81396,560196,56020,493200,83844,577044,57704,113724]
[52,"jkds'k lSu","TEACHER-III","L-10",38000,451600,76772,528372,52837,464800,79016,543816,54382,107219]
[53,"jkefuokl","TEACHER-III","L-10",22700,269600,45832,315432,31543,278000,47260,325260,32526,64069]
[54,"js'kekjke fo'uksbZ","TEACHER-III","L-10",38000,451600,76772,528372,52837,464800,79016,543816,54382,107219]
[55,"lghjke","TEACHER-III","L-10",33800,401600,68272,469872,46987,413600,70312,483912,48391,95378]
[56,"le> jkt ehuk","TEACHER-III","L-10",40300,478800,81396,560196,56020,493200,83844,577044,57704,113724]
[57,"ljkst nsoh","TEACHER-III","L-10",34800,413600,70312,483912,48391,425600,72352,497952,49795,98186]
[58," 'kSrku flag","TEACHER-III","L-10",33800,401600,68272,469872,46987,413600,70312,483912,48391,95378]
[59," 'kdqUryk nsoh","TEACHER-III","L-10",40300,478800,81396,560196,56020,493200,83844,577044,57704,113724]
[60,"f'keyk ehuk","TEACHER-III","L-10",40300,478800,81396,560196,56020,493200,83844,577044,57704,113724]
[61,"lhrkjke","TEACHER-III","L-10",40300,478800,81396,560196,56020,493200,83844,577044,57704,113724]
[62,"lqeu pkS/kjh","TEACHER-III","L-10",38000,451600,76772,528372,52837,464800,79016,543816,54382,107219]
[63,"lqeu dqekjh","TEACHER-III","L-10",33800,401600,68272,469872,46987,413600,70312,483912,48391,95378]
[64,"lqjs'k pUn cSjok","TEACHER-III","L-10",40300,478800,{"$f":"ROUND(F72*17/100,0)","v":81396},{"$f":"F72+G72","v":560196},{"$f":"ROUND(H72*0.1,0)","v":56020},493200,{"$f":"ROUND(J72*17/100,0)","v":83844},{"$f":"J72+K72","v":577044},{"$f":"ROUND(L72*0.1,0)","v":57704},113724]
[65,"lqjs'k tk;loky","TEACHER-III","L-10",40300,478800,81396,560196,56020,493200,83844,577044,57704,113724]
[66,"lqjs'k dqekj ehuk","TEACHER-III","L-10",22700,269600,45832,315432,31543,278000,47260,325260,32526,{"$f":"I74+M74","v":64069}]
[67,"rkjkpUnz es?koky","TEACHER-III","L-10",40300,478800,81396,560196,56020,493200,83844,577044,57704,113724]
[68,"fotsUnz dqekj","TEACHER-III","L-10",38000,451600,76772,528372,52837,464800,79016,543816,54382,107219]
[69,"foØe tks'kh","TEACHER-III","L-10",40300,478800,81396,560196,56020,493200,83844,577044,57704,113724]
[70,"foey dqekj lSuh","TEACHER-III","L-10",40300,478800,81396,560196,56020,493200,83844,577044,57704,113724]
[71,"foeyk","TEACHER-III","L-10",34800,413600,70312,483912,48391,425600,72352,497952,49795,98186]
[72,"toku jke","TEACHER-III","L-10",38000,451600,76772,528372,52837,464800,79016,543816,54382,107219]
[73,";ksxsUnz flag <kdk","TEACHER-III","L-11",46500,552400,93908,646308,64631,569200,96764,665964,66596,131227]
[74,{"$f":"'Formet 8'!D239","v":"gfdgd"},{"$f":"'Formet 8'!G239","v":0},"LP-10",23700,{"$f":"ROUND(E82*12,0)","v":284400},0,{"$f":"F82+G82","v":284400},28440,{"$f":"H82+I82","v":312840},0,{"$f":"J82+K82","v":312840},31284,59724]
[75,{"$f":"'Formet 8'!D240","v":""},{"$f":"'Formet 8'!G240","v":""},"LP-10",23700,{"$f":"ROUND(E83*12,0)","v":284400},0,{"$f":"F83+G83","v":284400},28440,312840,0,{"$f":"J83+K83","v":312840},31284,59724]
[76,{"$f":"'Formet 8'!D241","v":""},{"$f":"'Formet 8'!G241","v":""},"LP-10",23700,284400,0,284400,28440,312840,0,312840,31284,59724]
[77,{"$f":"'Formet 8'!D242","v":""},{"$f":"'Formet 8'!G242","v":""},"LP-10",23700,284400,0,284400,28440,312840,0,312840,31284,59724]
[78,{"$f":"'Formet 8'!D243","v":""},{"$f":"'Formet 8'!G243","v":""},"LP-10",23700,284400,0,284400,28440,312840,0,312840,31284,59724]
[79,{"$f":"'Formet 8'!D244","v":""},{"$f":"'Formet 8'!G244","v":""},"LP-10",23700,284400,0,284400,28440,312840,0,312840,31284,59724]
[80,{"$f":"'Formet 8'!D245","v":""},{"$f":"'Formet 8'!G245","v":""},"LP-10",23700,284400,0,284400,28440,312840,0,312840,31284,59724]
[81,{"$f":"'Formet 8'!D246","v":""},{"$f":"'Formet 8'!G246","v":""},"LP-10",23700,284400,0,284400,28440,312840,0,312840,31284,59724]
[82,{"$f":"'Formet 8'!D247","v":""},{"$f":"'Formet 8'!G247","v":""},"LP-10",23700,284400,0,284400,28440,312840,0,312840,31284,59724]
[83,{"$f":"'Formet 8'!D248","v":""},{"$f":"'Formet 8'!G248","v":""},"LP-10",23700,284400,0,284400,28440,312840,0,312840,31284,59724]
[84,{"$f":"'Formet 8'!D249","v":""},{"$f":"'Formet 8'!G249","v":""},"LP-10",23700,284400,0,284400,28440,312840,0,312840,31284,59724]
[85,{"$f":"'Formet 8'!D250","v":""},{"$f":"'Formet 8'!G250","v":""},"LP-10",23700,284400,0,284400,28440,312840,0,312840,31284,59724]
[86,{"$f":"'Formet 8'!D251","v":""},{"$f":"'Formet 8'!G251","v":""},"LP-10",23700,284400,0,284400,28440,312840,0,312840,31284,59724]
[87,{"$f":"'Formet 8'!D252","v":""},{"$f":"'Formet 8'!G252","v":""},"LP-10",23700,284400,0,284400,28440,312840,0,312840,31284,59724]
[88,{"$f":"'Formet 8'!D253","v":""},{"$f":"'Formet 8'!G253","v":""},"LP-10",23700,284400,0,284400,28440,312840,0,312840,31284,59724]
[89,{"$f":"'Formet 8'!D254","v":""},{"$f":"'Formet 8'!G254","v":""},"LP-10",23700,284400,0,284400,28440,312840,0,312840,31284,59724]
[90,{"$f":"'Formet 8'!D255","v":""},{"$f":"'Formet 8'!G255","v":""},"LP-10",23700,284400,0,284400,28440,312840,0,312840,31284,59724]
[91,{"$f":"'Formet 8'!D256","v":""},{"$f":"'Formet 8'!G256","v":""},"LP-10",23700,284400,0,284400,28440,312840,0,312840,31284,59724]
[92,{"$f":"'Formet 8'!D257","v":""},{"$f":"'Formet 8'!G257","v":""},"LP-10",23700,284400,0,284400,28440,312840,0,312840,31284,59724]
[93,{"$f":"'Formet 8'!D258","v":""},{"$f":"'Formet 8'!G258","v":""},"LP-10",23700,284400,0,284400,28440,312840,0,312840,31284,59724]
[94,{"$f":"'Formet 8'!D259","v":""},{"$f":"'Formet 8'!G259","v":""},"LP-10",23700,284400,0,284400,28440,312840,0,312840,31284,59724]
[95,{"$f":"'Formet 8'!D260","v":""},{"$f":"'Formet 8'!G260","v":""},"LP-10",23700,284400,0,284400,28440,312840,0,312840,31284,59724]
[96,{"$f":"'Formet 8'!D261","v":""},{"$f":"'Formet 8'!G261","v":""},"LP-10",23700,284400,0,284400,28440,312840,0,312840,31284,59724]
[97,{"$f":"'Formet 8'!D262","v":""},{"$f":"'Formet 8'!G262","v":""},"LP-10",23700,284400,0,284400,28440,312840,0,312840,31284,59724]
[98,{"$f":"'Formet 8'!D263","v":""},{"$f":"'Formet 8'!G263","v":""},"LP-10",23700,284400,0,284400,28440,312840,0,312840,31284,59724]
[99,{"$f":"'Formet 8'!D264","v":""},{"$f":"'Formet 8'!G264","v":""},"LP-10",23700,284400,0,284400,28440,312840,0,312840,31284,59724]
[100,{"$f":"'Formet 8'!D265","v":""},{"$f":"'Formet 8'!G265","v":""},"LP-10",23700,284400,0,284400,28440,312840,0,312840,31284,59724]
[101,{"$f":"'Formet 8'!D266","v":""},{"$f":"'Formet 8'!G266","v":""},"LP-10",23700,284400,0,284400,28440,312840,0,312840,31284,59724]
[104,{"$f":"'Formet 8'!D267","v":""},{"$f":"'Formet 8'!G267","v":""}]
[105,{"$f":"'Formet 8'!D268","v":""},{"$f":"'Formet 8'!G268","v":""}]
[106,{"$f":"'Formet 8'!D269","v":""},{"$f":"'Formet 8'!G269","v":""}]
[107,{"$f":"'Formet 8'!D270","v":""},{"$f":"'Formet 8'!G270","v":""}]
[108,{"$f":"'Formet 8'!D271","v":""},{"$f":"'Formet 8'!G271","v":""}]
[109,{"$f":"'Formet 8'!D272","v":""},{"$f":"'Formet 8'!G272","v":""}]
[110,{"$f":"'Formet 8'!D273","v":""},{"$f":"'Formet 8'!G273","v":""}]
[111]
[112]
[113]
[114]
[115]
[116]
[117]
[118]
[119]
[120]
[121]
[122]
[123]
[124]
[125]
[126]
[127]
[128]
[129]
[130]
[131]
[132]
[133]
[134]
[135]
[136]
[137]
[138]
[139]
[140]
[141]
[142]
[143]
[144]
[145]
[null,"TOTAL",{"$nulls":4},{"$f":"SUM(G82:G151)","v":0},null,{"$f":"SUM(I8:I151)","v":4684660},{"$nulls":3},{"$f":"SUM(M8:M151)","v":4879797},{"$f":"I152+M152","v":9564457}]
[]
["DA Arr. (5%) NPS 2020-21",{"$nulls":11},{"$f":"ROUND('Formet 8'!N218*0.1,0)","v":0}]
["DA Arr. (5%) NPS 2021-22",{"$nulls":11},{"$f":"ROUND('Formet 8'!M218*0.1,0)","v":0}]
["Grand Total Of NPS",{"$nulls":11},{"$f":"N152+M154+M155","v":9564457}]

{"sheet":"DA AREAR","index":29,"n_rows":209,"n_cols":7,"rows_kept":209,"merged":[[0,0,0,6],[0,7,208,7],[1,0,1,6],[2,0,2,6],[3,0,3,6],[206,0,206,4],[207,0,207,6],[208,0,208,4],[208,5,208,6]]}
[{"$f":"Summary!$A$2","v":"ç/kkukpk;Z] jkmekfo jk;eyok³k ¼vkWfQl vkbZ-Mh- la[;k %&12572½"}]
["izi="]
["osru fLFkjhdj.k ,oa eagxkbZ HkRrs dk ,fj;j"]
[{"$f":"'Formet 9'!A7","v":"BUDGET HEAD : 2202 -सामान्य शिक्षा-02-109 -राजकीय माध्यमिक विद्यालय-27 -लडकों के विद्यालय-01 -लडकों के विद्यालयों का संचालन व्यय   (STATE FUND)"}]
["Ø-la-","uke vf/kdkjh@ deZpkjh","inuke","osru","c<s gq,s eagxkbZ HkRrs dh nj","l'kksf/kr vuqeku ¼pkyw o\"kZ½","vk; O;;d vuqeku ¼vkxkeh o\"kZ½"]
["1","2","3","4","5","6","7"]
[1,{"$f":"IF(MAX('Formet 8'!$A$12:$A$213)<$A7,\"\",VLOOKUP($A7,'Formet 8'!$A$12:$O$213,4,0))","v":""},{"$f":"IF(MAX('Formet 8'!$A$12:$A$213)<$A7,\"\",VLOOKUP($A7,'Formet 8'!$A$12:$O$213,7,0))","v":""},{"$f":"IF(MAX('Formet 8'!$A$12:$A$213)<$A7,\"\",VLOOKUP($A7,'Formet 8'!$A$12:$O$213,9,0))","v":""},{"$f":"IF(AND(D7=\"\"),\"\",'Formet 8'!E$218)","v":""},{"$f":"IF(AND(D7=\"\"),\"\",ROUND((D7*E7)*3,0))","v":""},{"$f":"IF(AND(D7=\"\"),\"\",(ROUND(D7*103%,0)*E7*3)+F7)","v":""}]
[2,{"$f":"IF(MAX('Formet 8'!$A$12:$A$213)<$A8,\"\",VLOOKUP($A8,'Formet 8'!$A$12:$O$213,4,0))","v":""},{"$f":"IF(MAX('Formet 8'!$A$12:$A$213)<$A8,\"\",VLOOKUP($A8,'Formet 8'!$A$12:$O$213,7,0))","v":""},{"$f":"IF(MAX('Formet 8'!$A$12:$A$213)<$A8,\"\",VLOOKUP($A8,'Formet 8'!$A$12:$O$213,9,0))","v":""},{"$f":"IF(AND(D8=\"\"),\"\",'Formet 8'!E$218)","v":""},{"$f":"IF(AND(D8=\"\"),\"\",ROUND((D8*E8)*3,0))","v":""},{"$f":"IF(AND(D8=\"\"),\"\",(ROUND(D8*103%,0)*E8*3)+F8)","v":""}]
[3,{"$f":"IF(MAX('Formet 8'!$A$12:$A$213)<$A9,\"\",VLOOKUP($A9,'Formet 8'!$A$12:$O$213,4,0))","v":""},{"$f":"IF(MAX('Formet 8'!$A$12:$A$213)<$A9,\"\",VLOOKUP($A9,'Formet 8'!$A$12:$O$213,7,0))","v":""},{"$f":"IF(MAX('Formet 8'!$A$12:$A$213)<$A9,\"\",VLOOKUP($A9,'Formet 8'!$A$12:$O$213,9,0))","v":""},{"$f":"IF(AND(D9=\"\"),\"\",'Formet 8'!E$218)","v":""},"",""]
[4,{"$f":"IF(MAX('Formet 8'!$A$12:$A$213)<$A10,\"\",VLOOKUP($A10,'Formet 8'!$A$12:$O$213,4,0))","v":""},{"$f":"IF(MAX('Formet 8'!$A$12:$A$213)<$A10,\"\",VLOOKUP($A10,'Formet 8'!$A$12:$O$213,7,0))","v":""},{"$f":"IF(MAX('Formet 8'!$A$12:$A$213)<$A10,\"\",VLOOKUP($A10,'Formet 8'!$A$12:$O$213,9,0))","v":""},{"$f":"IF(AND(D10=\"\"),\"\",'Formet 8'!E$218)","v":""},"",""]
[5,{"$f":"IF(MAX('Formet 8'!$A$12:$A$213)<$A11,\"\",VLOOKUP($A11,'Formet 8'!$A$12:$O$213,4,0))","v":""},{"$f":"IF(MAX('Formet 8'!$A$12:$A$213)<$A11,\"\",VLOOKUP($A11,'Formet 8'!$A$12:$O$213,7,0))","v":""},{"$f":"IF(MAX('Formet 8'!$A$12:$A$213)<$A11,\"\",VLOOKUP($A11,'Formet 8'!$A$12:$O$213,9,0))","v":""},{"$f":"IF(AND(D11=\"\"),\"\",'Formet 8'!E$218)","v":""},{"$f":"IF(AND(D11=\"\"),\"\",ROUND((D11*E11)*3,0))","v":""},""]
[6,{"$f":"IF(MAX('Formet 8'!$A$12:$A$213)<$A12,\"\",VLOOKUP($A12,'Formet 8'!$A$12:$O$213,4,0))","v":""},{"$f":"IF(MAX('Formet 8'!$A$12:$A$213)<$A12,\"\",VLOOKUP($A12,'Formet 8'!$A$12:$O$213,7,0))","v":""},{"$f":"IF(MAX('Formet 8'!$A$12:$A$213)<$A12,\"\",VLOOKUP($A12,'Formet 8'!$A$12:$O$213,9,0))","v":""},{"$f":"IF(AND(D12=\"\"),\"\",'Formet 8'!E$218)","v":""},{"$f":"IF(AND(D12=\"\"),\"\",ROUND((D12*E12)*3,0))","v":""},""]
[7,{"$f":"IF(MAX('Formet 8'!$A$12:$A$213)<$A13,\"\",VLOOKUP($A13,'Formet 8'!$A$12:$O$213,4,0))","v":""},{"$f":"IF(MAX('Formet 8'!$A$12:$A$213)<$A13,\"\",VLOOKUP($A13,'Formet 8'!$A$12:$O$213,7,0))","v":""},{"$f":"IF(MAX('Formet 8'!$A$12:$A$213)<$A13,\"\",VLOOKUP($A13,'Formet 8'!$A$12:$O$213,9,0))","v":""},{"$f":"IF(AND(D13=\"\"),\"\",'Formet 8'!E$218)","v":""},"",""]
[8,{"$f":"IF(MAX('Formet 8'!$A$12:$A$213)<$A14,\"\",VLOOKUP($A14,'Formet 8'!$A$12:$O$213,4,0))","v":""},{"$f":"IF(MAX('Formet 8'!$A$12:$A$213)<$A14,\"\",VLOOKUP($A14,'Formet 8'!$A$12:$O$213,7,0))","v":""},{"$f":"IF(MAX('Formet 8'!$A$12:$A$213)<$A14,\"\",VLOOKUP($A14,'Formet 8'!$A$12:$O$213,9,0))","v":""},{"$f":"IF(AND(D14=\"\"),\"\",'Formet 8'!E$218)","v":""},"",""]
[9,{"$f":"IF(MAX('Formet 8'!$A$12:$A$213)<$A15,\"\",VLOOKUP($A15,'Formet 8'!$A$12:$O$213,4,0))","v":""},{"$f":"IF(MAX('Formet 8'!$A$12:$A$213)<$A15,\"\",VLOOKUP($A15,'Formet 8'!$A$12:$O$213,7,0))","v":""},{"$f":"IF(MAX('Formet 8'!$A$12:$A$213)<$A15,\"\",VLOOKUP($A15,'Formet 8'!$A$12:$O$213,9,0))","v":""},{"$f":"IF(AND(D15=\"\"),\"\",'Formet 8'!E$218)","v":""},"",""]
[10,{"$f":"IF(MAX('Formet 8'!$A$12:$A$213)<$A16,\"\",VLOOKUP($A16,'Formet 8'!$A$12:$O$213,4,0))","v":""},{"$f":"IF(MAX('Formet 8'!$A$12:$A$213)<$A16,\"\",VLOOKUP($A16,'Formet 8'!$A$12:$O$213,7,0))","v":""},{"$f":"IF(MAX('Formet 8'!$A$12:$A$213)<$A16,\"\",VLOOKUP($A16,'Formet 8'!$A$12:$O$213,9,0))","v":""},{"$f":"IF(AND(D16=\"\"),\"\",'Formet 8'!E$218)","v":""},"",""]
[11,{"$f":"IF(MAX('Formet 8'!$A$12:$A$213)<$A17,\"\",VLOOKUP($A17,'Formet 8'!$A$12:$O$213,4,0))","v":""},{"$f":"IF(MAX('Formet 8'!$A$12:$A$213)<$A17,\"\",VLOOKUP($A17,'Formet 8'!$A$12:$O$213,7,0))","v":""},{"$f":"IF(MAX('Formet 8'!$A$12:$A$213)<$A17,\"\",VLOOKUP($A17,'Formet 8'!$A$12:$O$213,9,0))","v":""},{"$f":"IF(AND(D17=\"\"),\"\",'Formet 8'!E$218)","v":""},"",""]
[12,{"$f":"IF(MAX('Formet 8'!$A$12:$A$213)<$A18,\"\",VLOOKUP($A18,'Formet 8'!$A$12:$O$213,4,0))","v":""},{"$f":"IF(MAX('Formet 8'!$A$12:$A$213)<$A18,\"\",VLOOKUP($A18,'Formet 8'!$A$12:$O$213,7,0))","v":""},{"$f":"IF(MAX('Formet 8'!$A$12:$A$213)<$A18,\"\",VLOOKUP($A18,'Formet 8'!$A$12:$O$213,9,0))","v":""},{"$f":"IF(AND(D18=\"\"),\"\",'Formet 8'!E$218)","v":""},"",""]
[13,{"$f":"IF(MAX('Formet 8'!$A$12:$A$213)<$A19,\"\",VLOOKUP($A19,'Formet 8'!$A$12:$O$213,4,0))","v":""},{"$f":"IF(MAX('Formet 8'!$A$12:$A$213)<$A19,\"\",VLOOKUP($A19,'Formet 8'!$A$12:$O$213,7,0))","v":""},{"$f":"IF(MAX('Formet 8'!$A$12:$A$213)<$A19,\"\",VLOOKUP($A19,'Formet 8'!$A$12:$O$213,9,0))","v":""},{"$f":"IF(AND(D19=\"\"),\"\",'Formet 8'!E$218)","v":""},"",""]
[14,{"$f":"IF(MAX('Formet 8'!$A$12:$A$213)<$A20,\"\",VLOOKUP($A20,'Formet 8'!$A$12:$O$213,4,0))","v":""},{"$f":"IF(MAX('Formet 8'!$A$12:$A$213)<$A20,\"\",VLOOKUP($A20,'Formet 8'!$A$12:$O$213,7,0))","v":""},{"$f":"IF(MAX('Formet 8'!$A$12:$A$213)<$A20,\"\",VLOOKUP($A20,'Formet 8'!$A$12:$O$213,9,0))","v":""},{"$f":"IF(AND(D20=\"\"),\"\",'Formet 8'!E$218)","v":""},"",""]
[15,{"$f":"IF(MAX('Formet 8'!$A$12:$A$213)<$A21,\"\",VLOOKUP($A21,'Formet 8'!$A$12:$O$213,4,0))","v":""},{"$f":"IF(MAX('Formet 8'!$A$12:$A$213)<$A21,\"\",VLOOKUP($A21,'Formet 8'!$A$12:$O$213,7,0))","v":""},{"$f":"IF(MAX('Formet 8'!$A$12:$A$213)<$A21,\"\",VLOOKUP($A21,'Formet 8'!$A$12:$O$213,9,0))","v":""},{"$f":"IF(AND(D21=\"\"),\"\",'Formet 8'!E$218)","v":""},"",""]
[16,{"$f":"IF(MAX('Formet 8'!$A$12:$A$213)<$A22,\"\",VLOOKUP($A22,'Formet 8'!$A$12:$O$213,4,0))","v":""},{"$f":"IF(MAX('Formet 8'!$A$12:$A$213)<$A22,\"\",VLOOKUP($A22,'Formet 8'!$A$12:$O$213,7,0))","v":""},{"$f":"IF(MAX('Formet 8'!$A$12:$A$213)<$A22,\"\",VLOOKUP($A22,'Formet 8'!$A$12:$O$213,9,0))","v":""},{"$f":"IF(AND(D22=\"\"),\"\",'Formet 8'!E$218)","v":""},"",""]
[17,{"$f":"IF(MAX('Formet 8'!$A$12:$A$213)<$A23,\"\",VLOOKUP($A23,'Formet 8'!$A$12:$O$213,4,0))","v":""},{"$f":"IF(MAX('Formet 8'!$A$12:$A$213)<$A23,\"\",VLOOKUP($A23,'Formet 8'!$A$12:$O$213,7,0))","v":""},{"$f":"IF(MAX('Formet 8'!$A$12:$A$213)<$A23,\"\",VLOOKUP($A23,'Formet 8'!$A$12:$O$213,9,0))","v":""},{"$f":"IF(AND(D23=\"\"),\"\",'Formet 8'!E$218)","v":""},"",""]
[18,{"$f":"IF(MAX('Formet 8'!$A$12:$A$213)<$A24,\"\",VLOOKUP($A24,'Formet 8'!$A$12:$O$213,4,0))","v":""},{"$f":"IF(MAX('Formet 8'!$A$12:$A$213)<$A24,\"\",VLOOKUP($A24,'Formet 8'!$A$12:$O$213,7,0))","v":""},{"$f":"IF(MAX('Formet 8'!$A$12:$A$213)<$A24,\"\",VLOOKUP($A24,'Formet 8'!$A$12:$O$213,9,0))","v":""},{"$f":"IF(AND(D24=\"\"),\"\",'Formet 8'!E$218)","v":""},"",""]
[19,{"$f":"IF(MAX('Formet 8'!$A$12:$A$213)<$A25,\"\",VLOOKUP($A25,'Formet 8'!$A$12:$O$213,4,0))","v":""},{"$f":"IF(MAX('Formet 8'!$A$12:$A$213)<$A25,\"\",VLOOKUP($A25,'Formet 8'!$A$12:$O$213,7,0))","v":""},{"$f":"IF(MAX('Formet 8'!$A$12:$A$213)<$A25,\"\",VLOOKUP($A25,'Formet 8'!$A$12:$O$213,9,0))","v":""},{"$f":"IF(AND(D25=\"\"),\"\",'Formet 8'!E$218)","v":""},"",""]
[20,{"$f":"IF(MAX('Formet 8'!$A$12:$A$213)<$A26,\"\",VLOOKUP($A26,'Formet 8'!$A$12:$O$213,4,0))","v":""},{"$f":"IF(MAX('Formet 8'!$A$12:$A$213)<$A26,\"\",VLOOKUP($A26,'Formet 8'!$A$12:$O$213,7,0))","v":""},{"$f":"IF(MAX('Formet 8'!$A$12:$A$213)<$A26,\"\",VLOOKUP($A26,'Formet 8'!$A$12:$O$213,9,0))","v":""},{"$f":"IF(AND(D26=\"\"),\"\",'Formet 8'!E$218)","v":""},"",""]
[21,{"$f":"IF(MAX('Formet 8'!$A$12:$A$213)<$A27,\"\",VLOOKUP($A27,'Formet 8'!$A$12:$O$213,4,0))","v":""},{"$f":"IF(MAX('Formet 8'!$A$12:$A$213)<$A27,\"\",VLOOKUP($A27,'Formet 8'!$A$12:$O$213,7,0))","v":""},{"$f":"IF(MAX('Formet 8'!$A$12:$A$213)<$A27,\"\",VLOOKUP($A27,'Formet 8'!$A$12:$O$213,9,0))","v":""},{"$f":"IF(AND(D27=\"\"),\"\",'Formet 8'!E$218)","v":""},"",""]
[22,{"$f":"IF(MAX('Formet 8'!$A$12:$A$213)<$A28,\"\",VLOOKUP($A28,'Formet 8'!$A$12:$O$213,4,0))","v":""},{"$f":"IF(MAX('Formet 8'!$A$12:$A$213)<$A28,\"\",VLOOKUP($A28,'Formet 8'!$A$12:$O$213,7,0))","v":""},{"$f":"IF(MAX('Formet 8'!$A$12:$A$213)<$A28,\"\",VLOOKUP($A28,'Formet 8'!$A$12:$O$213,9,0))","v":""},{"$f":"IF(AND(D28=\"\"),\"\",'Formet 8'!E$218)","v":""},"",""]
[23,{"$f":"IF(MAX('Formet 8'!$A$12:$A$213)<$A29,\"\",VLOOKUP($A29,'Formet 8'!$A$12:$O$213,4,0))","v":""},{"$f":"IF(MAX('Formet 8'!$A$12:$A$213)<$A29,\"\",VLOOKUP($A29,'Formet 8'!$A$12:$O$213,7,0))","v":""},{"$f":"IF(MAX('Formet 8'!$A$12:$A$213)<$A29,\"\",VLOOKUP($A29,'Formet 8'!$A$12:$O$213,9,0))","v":""},{"$f":"IF(AND(D29=\"\"),\"\",'Formet 8'!E$218)","v":""},"",""]
[24,{"$f":"IF(MAX('Formet 8'!$A$12:$A$213)<$A30,\"\",VLOOKUP($A30,'Formet 8'!$A$12:$O$213,4,0))","v":""},{"$f":"IF(MAX('Formet 8'!$A$12:$A$213)<$A30,\"\",VLOOKUP($A30,'Formet 8'!$A$12:$O$213,7,0))","v":""},{"$f":"IF(MAX('Formet 8'!$A$12:$A$213)<$A30,\"\",VLOOKUP($A30,'Formet 8'!$A$12:$O$213,9,0))","v":""},{"$f":"IF(AND(D30=\"\"),\"\",'Formet 8'!E$218)","v":""},"",""]
[25,{"$f":"IF(MAX('Formet 8'!$A$12:$A$213)<$A31,\"\",VLOOKUP($A31,'Formet 8'!$A$12:$O$213,4,0))","v":""},{"$f":"IF(MAX('Formet 8'!$A$12:$A$213)<$A31,\"\",VLOOKUP($A31,'Formet 8'!$A$12:$O$213,7,0))","v":""},{"$f":"IF(MAX('Formet 8'!$A$12:$A$213)<$A31,\"\",VLOOKUP($A31,'Formet 8'!$A$12:$O$213,9,0))","v":""},{"$f":"IF(AND(D31=\"\"),\"\",'Formet 8'!E$218)","v":""},"",""]
[26,{"$f":"IF(MAX('Formet 8'!$A$12:$A$213)<$A32,\"\",VLOOKUP($A32,'Formet 8'!$A$12:$O$213,4,0))","v":""},{"$f":"IF(MAX('Formet 8'!$A$12:$A$213)<$A32,\"\",VLOOKUP($A32,'Formet 8'!$A$12:$O$213,7,0))","v":""},{"$f":"IF(MAX('Formet 8'!$A$12:$A$213)<$A32,\"\",VLOOKUP($A32,'Formet 8'!$A$12:$O$213,9,0))","v":""},{"$f":"IF(AND(D32=\"\"),\"\",'Formet 8'!E$218)","v":""},"",""]
[27,{"$f":"IF(MAX('Formet 8'!$A$12:$A$213)<$A33,\"\",VLOOKUP($A33,'Formet 8'!$A$12:$O$213,4,0))","v":""},{"$f":"IF(MAX('Formet 8'!$A$12:$A$213)<$A33,\"\",VLOOKUP($A33,'Formet 8'!$A$12:$O$213,7,0))","v":""},{"$f":"IF(MAX('Formet 8'!$A$12:$A$213)<$A33,\"\",VLOOKUP($A33,'Formet 8'!$A$12:$O$213,9,0))","v":""},{"$f":"IF(AND(D33=\"\"),\"\",'Formet 8'!E$218)","v":""},"",""]
[28,{"$f":"IF(MAX('Formet 8'!$A$12:$A$213)<$A34,\"\",VLOOKUP($A34,'Formet 8'!$A$12:$O$213,4,0))","v":""},{"$f":"IF(MAX('Formet 8'!$A$12:$A$213)<$A34,\"\",VLOOKUP($A34,'Formet 8'!$A$12:$O$213,7,0))","v":""},{"$f":"IF(MAX('Formet 8'!$A$12:$A$213)<$A34,\"\",VLOOKUP($A34,'Formet 8'!$A$12:$O$213,9,0))","v":""},{"$f":"IF(AND(D34=\"\"),\"\",'Formet 8'!E$218)","v":""},"",""]
[29,{"$f":"IF(MAX('Formet 8'!$A$12:$A$213)<$A35,\"\",VLOOKUP($A35,'Formet 8'!$A$12:$O$213,4,0))","v":""},{"$f":"IF(MAX('Formet 8'!$A$12:$A$213)<$A35,\"\",VLOOKUP($A35,'Formet 8'!$A$12:$O$213,7,0))","v":""},{"$f":"IF(MAX('Formet 8'!$A$12:$A$213)<$A35,\"\",VLOOKUP($A35,'Formet 8'!$A$12:$O$213,9,0))","v":""},{"$f":"IF(AND(D35=\"\"),\"\",'Formet 8'!E$218)","v":""},"",""]
[30,{"$f":"IF(MAX('Formet 8'!$A$12:$A$213)<$A36,\"\",VLOOKUP($A36,'Formet 8'!$A$12:$O$213,4,0))","v":""},{"$f":"IF(MAX('Formet 8'!$A$12:$A$213)<$A36,\"\",VLOOKUP($A36,'Formet 8'!$A$12:$O$213,7,0))","v":""},{"$f":"IF(MAX('Formet 8'!$A$12:$A$213)<$A36,\"\",VLOOKUP($A36,'Formet 8'!$A$12:$O$213,9,0))","v":""},{"$f":"IF(AND(D36=\"\"),\"\",'Formet 8'!E$218)","v":""},"",""]
[31,{"$f":"IF(MAX('Formet 8'!$A$12:$A$213)<$A37,\"\",VLOOKUP($A37,'Formet 8'!$A$12:$O$213,4,0))","v":""},{"$f":"IF(MAX('Formet 8'!$A$12:$A$213)<$A37,\"\",VLOOKUP($A37,'Formet 8'!$A$12:$O$213,7,0))","v":""},{"$f":"IF(MAX('Formet 8'!$A$12:$A$213)<$A37,\"\",VLOOKUP($A37,'Formet 8'!$A$12:$O$213,9,0))","v":""},{"$f":"IF(AND(D37=\"\"),\"\",'Formet 8'!E$218)","v":""},"",""]
[32,{"$f":"IF(MAX('Formet 8'!$A$12:$A$213)<$A38,\"\",VLOOKUP($A38,'Formet 8'!$A$12:$O$213,4,0))","v":""},{"$f":"IF(MAX('Formet 8'!$A$12:$A$213)<$A38,\"\",VLOOKUP($A38,'Formet 8'!$A$12:$O$213,7,0))","v":""},{"$f":"IF(MAX('Formet 8'!$A$12:$A$213)<$A38,\"\",VLOOKUP($A38,'Formet 8'!$A$12:$O$213,9,0))","v":""},{"$f":"IF(AND(D38=\"\"),\"\",'Formet 8'!E$218)","v":""},"",""]
[33,{"$f":"IF(MAX('Formet 8'!$A$12:$A$213)<$A39,\"\",VLOOKUP($A39,'Formet 8'!$A$12:$O$213,4,0))","v":""},{"$f":"IF(MAX('Formet 8'!$A$12:$A$213)<$A39,\"\",VLOOKUP($A39,'Formet 8'!$A$12:$O$213,7,0))","v":""},{"$f":"IF(MAX('Formet 8'!$A$12:$A$213)<$A39,\"\",VLOOKUP($A39,'Formet 8'!$A$12:$O$213,9,0))","v":""},{"$f":"IF(AND(D39=\"\"),\"\",'Formet 8'!E$218)","v":""},"",""]
[34,{"$f":"IF(MAX('Formet 8'!$A$12:$A$213)<$A40,\"\",VLOOKUP($A40,'Formet 8'!$A$12:$O$213,4,0))","v":""},{"$f":"IF(MAX('Formet 8'!$A$12:$A$213)<$A40,\"\",VLOOKUP($A40,'Formet 8'!$A$12:$O$213,7,0))","v":""},{"$f":"IF(MAX('Formet 8'!$A$12:$A$213)<$A40,\"\",VLOOKUP($A40,'Formet 8'!$A$12:$O$213,9,0))","v":""},{"$f":"IF(AND(D40=\"\"),\"\",'Formet 8'!E$218)","v":""},"",""]
[35,{"$f":"IF(MAX('Formet 8'!$A$12:$A$213)<$A41,\"\",VLOOKUP($A41,'Formet 8'!$A$12:$O$213,4,0))","v":""},{"$f":"IF(MAX('Formet 8'!$A$12:$A$213)<$A41,\"\",VLOOKUP($A41,'Formet 8'!$A$12:$O$213,7,0))","v":""},{"$f":"IF(MAX('Formet 8'!$A$12:$A$213)<$A41,\"\",VLOOKUP($A41,'Formet 8'!$A$12:$O$213,9,0))","v":""},{"$f":"IF(AND(D41=\"\"),\"\",'Formet 8'!E$218)","v":""},"",""]
[36,{"$f":"IF(MAX('Formet 8'!$A$12:$A$213)<$A42,\"\",VLOOKUP($A42,'Formet 8'!$A$12:$O$213,4,0))","v":""},{"$f":"IF(MAX('Formet 8'!$A$12:$A$213)<$A42,\"\",VLOOKUP($A42,'Formet 8'!$A$12:$O$213,7,0))","v":""},{"$f":"IF(MAX('Formet 8'!$A$12:$A$213)<$A42,\"\",VLOOKUP($A42,'Formet 8'!$A$12:$O$213,9,0))","v":""},{"$f":"IF(AND(D42=\"\"),\"\",'Formet 8'!E$218)","v":""},"",""]
[37,{"$f":"IF(MAX('Formet 8'!$A$12:$A$213)<$A43,\"\",VLOOKUP($A43,'Formet 8'!$A$12:$O$213,4,0))","v":""},{"$f":"IF(MAX('Formet 8'!$A$12:$A$213)<$A43,\"\",VLOOKUP($A43,'Formet 8'!$A$12:$O$213,7,0))","v":""},{"$f":"IF(MAX('Formet 8'!$A$12:$A$213)<$A43,\"\",VLOOKUP($A43,'Formet 8'!$A$12:$O$213,9,0))","v":""},{"$f":"IF(AND(D43=\"\"),\"\",'Formet 8'!E$218)","v":""},"",""]
[38,{"$f":"IF(MAX('Formet 8'!$A$12:$A$213)<$A44,\"\",VLOOKUP($A44,'Formet 8'!$A$12:$O$213,4,0))","v":""},{"$f":"IF(MAX('Formet 8'!$A$12:$A$213)<$A44,\"\",VLOOKUP($A44,'Formet 8'!$A$12:$O$213,7,0))","v":""},{"$f":"IF(MAX('Formet 8'!$A$12:$A$213)<$A44,\"\",VLOOKUP($A44,'Formet 8'!$A$12:$O$213,9,0))","v":""},{"$f":"IF(AND(D44=\"\"),\"\",'Formet 8'!E$218)","v":""},"",""]
[39,{"$f":"IF(MAX('Formet 8'!$A$12:$A$213)<$A45,\"\",VLOOKUP($A45,'Formet 8'!$A$12:$O$213,4,0))","v":""},{"$f":"IF(MAX('Formet 8'!$A$12:$A$213)<$A45,\"\",VLOOKUP($A45,'Formet 8'!$A$12:$O$213,7,0))","v":""},{"$f":"IF(MAX('Formet 8'!$A$12:$A$213)<$A45,\"\",VLOOKUP($A45,'Formet 8'!$A$12:$O$213,9,0))","v":""},{"$f":"IF(AND(D45=\"\"),\"\",'Formet 8'!E$218)","v":""},"",""]
[40,{"$f":"IF(MAX('Formet 8'!$A$12:$A$213)<$A46,\"\",VLOOKUP($A46,'Formet 8'!$A$12:$O$213,4,0))","v":""},{"$f":"IF(MAX('Formet 8'!$A$12:$A$213)<$A46,\"\",VLOOKUP($A46,'Formet 8'!$A$12:$O$213,7,0))","v":""},{"$f":"IF(MAX('Formet 8'!$A$12:$A$213)<$A46,\"\",VLOOKUP($A46,'Formet 8'!$A$12:$O$213,9,0))","v":""},{"$f":"IF(AND(D46=\"\"),\"\",'Formet 8'!E$218)","v":""},"",""]
[41,{"$f":"IF(MAX('Formet 8'!$A$12:$A$213)<$A47,\"\",VLOOKUP($A47,'Formet 8'!$A$12:$O$213,4,0))","v":""},{"$f":"IF(MAX('Formet 8'!$A$12:$A$213)<$A47,\"\",VLOOKUP($A47,'Formet 8'!$A$12:$O$213,7,0))","v":""},{"$f":"IF(MAX('Formet 8'!$A$12:$A$213)<$A47,\"\",VLOOKUP($A47,'Formet 8'!$A$12:$O$213,9,0))","v":""},{"$f":"IF(AND(D47=\"\"),\"\",'Formet 8'!E$218)","v":""},"",""]
[42,{"$f":"IF(MAX('Formet 8'!$A$12:$A$213)<$A48,\"\",VLOOKUP($A48,'Formet 8'!$A$12:$O$213,4,0))","v":""},{"$f":"IF(MAX('Formet 8'!$A$12:$A$213)<$A48,\"\",VLOOKUP($A48,'Formet 8'!$A$12:$O$213,7,0))","v":""},{"$f":"IF(MAX('Formet 8'!$A$12:$A$213)<$A48,\"\",VLOOKUP($A48,'Formet 8'!$A$12:$O$213,9,0))","v":""},{"$f":"IF(AND(D48=\"\"),\"\",'Formet 8'!E$218)","v":""},"",""]
[43,{"$f":"IF(MAX('Formet 8'!$A$12:$A$213)<$A49,\"\",VLOOKUP($A49,'Formet 8'!$A$12:$O$213,4,0))","v":""},{"$f":"IF(MAX('Formet 8'!$A$12:$A$213)<$A49,\"\",VLOOKUP($A49,'Formet 8'!$A$12:$O$213,7,0))","v":""},{"$f":"IF(MAX('Formet 8'!$A$12:$A$213)<$A49,\"\",VLOOKUP($A49,'Formet 8'!$A$12:$O$213,9,0))","v":""},{"$f":"IF(AND(D49=\"\"),\"\",'Formet 8'!E$218)","v":""},"",""]
[44,{"$f":"IF(MAX('Formet 8'!$A$12:$A$213)<$A50,\"\",VLOOKUP($A50,'Formet 8'!$A$12:$O$213,4,0))","v":""},{"$f":"IF(MAX('Formet 8'!$A$12:$A$213)<$A50,\"\",VLOOKUP($A50,'Formet 8'!$A$12:$O$213,7,0))","v":""},{"$f":"IF(MAX('Formet 8'!$A$12:$A$213)<$A50,\"\",VLOOKUP($A50,'Formet 8'!$A$12:$O$213,9,0))","v":""},{"$f":"IF(AND(D50=\"\"),\"\",'Formet 8'!E$218)","v":""},"",""]
[45,{"$f":"IF(MAX('Formet 8'!$A$12:$A$213)<$A51,\"\",VLOOKUP($A51,'Formet 8'!$A$12:$O$213,4,0))","v":""},{"$f":"IF(MAX('Formet 8'!$A$12:$A$213)<$A51,\"\",VLOOKUP($A51,'Formet 8'!$A$12:$O$213,7,0))","v":""},{"$f":"IF(MAX('Formet 8'!$A$12:$A$213)<$A51,\"\",VLOOKUP($A51,'Formet 8'!$A$12:$O$213,9,0))","v":""},{"$f":"IF(AND(D51=\"\"),\"\",'Formet 8'!E$218)","v":""},"",""]
[46,{"$f":"IF(MAX('Formet 8'!$A$12:$A$213)<$A52,\"\",VLOOKUP($A52,'Formet 8'!$A$12:$O$213,4,0))","v":""},{"$f":"IF(MAX('Formet 8'!$A$12:$A$213)<$A52,\"\",VLOOKUP($A52,'Formet 8'!$A$12:$O$213,7,0))","v":""},{"$f":"IF(MAX('Formet 8'!$A$12:$A$213)<$A52,\"\",VLOOKUP($A52,'Formet 8'!$A$12:$O$213,9,0))","v":""},{"$f":"IF(AND(D52=\"\"),\"\",'Formet 8'!E$218)","v":""},"",""]
[47,{"$f":"IF(MAX('Formet 8'!$A$12:$A$213)<$A53,\"\",VLOOKUP($A53,'Formet 8'!$A$12:$O$213,4,0))","v":""},{"$f":"IF(MAX('Formet 8'!$A$12:$A$213)<$A53,\"\",VLOOKUP($A53,'Formet 8'!$A$12:$O$213,7,0))","v":""},{"$f":"IF(MAX('Formet 8'!$A$12:$A$213)<$A53,\"\",VLOOKUP($A53,'Formet 8'!$A$12:$O$213,9,0))","v":""},{"$f":"IF(AND(D53=\"\"),\"\",'Formet 8'!E$218)","v":""},"",""]
[48,{"$f":"IF(MAX('Formet 8'!$A$12:$A$213)<$A54,\"\",VLOOKUP($A54,'Formet 8'!$A$12:$O$213,4,0))","v":""},{"$f":"IF(MAX('Formet 8'!$A$12:$A$213)<$A54,\"\",VLOOKUP($A54,'Formet 8'!$A$12:$O$213,7,0))","v":""},{"$f":"IF(MAX('Formet 8'!$A$12:$A$213)<$A54,\"\",VLOOKUP($A54,'Formet 8'!$A$12:$O$213,9,0))","v":""},{"$f":"IF(AND(D54=\"\"),\"\",'Formet 8'!E$218)","v":""},"",""]
[49,{"$f":"IF(MAX('Formet 8'!$A$12:$A$213)<$A55,\"\",VLOOKUP($A55,'Formet 8'!$A$12:$O$213,4,0))","v":""},{"$f":"IF(MAX('Formet 8'!$A$12:$A$213)<$A55,\"\",VLOOKUP($A55,'Formet 8'!$A$12:$O$213,7,0))","v":""},{"$f":"IF(MAX('Formet 8'!$A$12:$A$213)<$A55,\"\",VLOOKUP($A55,'Formet 8'!$A$12:$O$213,9,0))","v":""},{"$f":"IF(AND(D55=\"\"),\"\",'Formet 8'!E$218)","v":""},"",""]
[50,{"$f":"IF(MAX('Formet 8'!$A$12:$A$213)<$A56,\"\",VLOOKUP($A56,'Formet 8'!$A$12:$O$213,4,0))","v":""},{"$f":"IF(MAX('Formet 8'!$A$12:$A$213)<$A56,\"\",VLOOKUP($A56,'Formet 8'!$A$12:$O$213,7,0))","v":""},{"$f":"IF(MAX('Formet 8'!$A$12:$A$213)<$A56,\"\",VLOOKUP($A56,'Formet 8'!$A$12:$O$213,9,0))","v":""},{"$f":"IF(AND(D56=\"\"),\"\",'Formet 8'!E$218)","v":""},"",""]
[51,{"$f":"IF(MAX('Formet 8'!$A$12:$A$213)<$A57,\"\",VLOOKUP($A57,'Formet 8'!$A$12:$O$213,4,0))","v":""},{"$f":"IF(MAX('Formet 8'!$A$12:$A$213)<$A57,\"\",VLOOKUP($A57,'Formet 8'!$A$12:$O$213,7,0))","v":""},{"$f":"IF(MAX('Formet 8'!$A$12:$A$213)<$A57,\"\",VLOOKUP($A57,'Formet 8'!$A$12:$O$213,9,0))","v":""},{"$f":"IF(AND(D57=\"\"),\"\",'Formet 8'!E$218)","v":""},"",""]
[52,{"$f":"IF(MAX('Formet 8'!$A$12:$A$213)<$A58,\"\",VLOOKUP($A58,'Formet 8'!$A$12:$O$213,4,0))","v":""},{"$f":"IF(MAX('Formet 8'!$A$12:$A$213)<$A58,\"\",VLOOKUP($A58,'Formet 8'!$A$12:$O$213,7,0))","v":""},{"$f":"IF(MAX('Formet 8'!$A$12:$A$213)<$A58,\"\",VLOOKUP($A58,'Formet 8'!$A$12:$O$213,9,0))","v":""},{"$f":"IF(AND(D58=\"\"),\"\",'Formet 8'!E$218)","v":""},"",""]
[53,{"$f":"IF(MAX('Formet 8'!$A$12:$A$213)<$A59,\"\",VLOOKUP($A59,'Formet 8'!$A$12:$O$213,4,0))","v":""},{"$f":"IF(MAX('Formet 8'!$A$12:$A$213)<$A59,\"\",VLOOKUP($A59,'Formet 8'!$A$12:$O$213,7,0))","v":""},{"$f":"IF(MAX('Formet 8'!$A$12:$A$213)<$A59,\"\",VLOOKUP($A59,'Formet 8'!$A$12:$O$213,9,0))","v":""},{"$f":"IF(AND(D59=\"\"),\"\",'Formet 8'!E$218)","v":""},"",""]
[54,{"$f":"IF(MAX('Formet 8'!$A$12:$A$213)<$A60,\"\",VLOOKUP($A60,'Formet 8'!$A$12:$O$213,4,0))","v":""},{"$f":"IF(MAX('Formet 8'!$A$12:$A$213)<$A60,\"\",VLOOKUP($A60,'Formet 8'!$A$12:$O$213,7,0))","v":""},{"$f":"IF(MAX('Formet 8'!$A$12:$A$213)<$A60,\"\",VLOOKUP($A60,'Formet 8'!$A$12:$O$213,9,0))","v":""},{"$f":"IF(AND(D60=\"\"),\"\",'Formet 8'!E$218)","v":""},"",""]
[55,{"$f":"IF(MAX('Formet 8'!$A$12:$A$213)<$A61,\"\",VLOOKUP($A61,'Formet 8'!$A$12:$O$213,4,0))","v":""},{"$f":"IF(MAX('Formet 8'!$A$12:$A$213)<$A61,\"\",VLOOKUP($A61,'Formet 8'!$A$12:$O$213,7,0))","v":""},{"$f":"IF(MAX('Formet 8'!$A$12:$A$213)<$A61,\"\",VLOOKUP($A61,'Formet 8'!$A$12:$O$213,9,0))","v":""},{"$f":"IF(AND(D61=\"\"),\"\",'Formet 8'!E$218)","v":""},"",""]
[56,{"$f":"IF(MAX('Formet 8'!$A$12:$A$213)<$A62,\"\",VLOOKUP($A62,'Formet 8'!$A$12:$O$213,4,0))","v":""},{"$f":"IF(MAX('Formet 8'!$A$12:$A$213)<$A62,\"\",VLOOKUP($A62,'Formet 8'!$A$12:$O$213,7,0))","v":""},{"$f":"IF(MAX('Formet 8'!$A$12:$A$213)<$A62,\"\",VLOOKUP($A62,'Formet 8'!$A$12:$O$213,9,0))","v":""},{"$f":"IF(AND(D62=\"\"),\"\",'Formet 8'!E$218)","v":""},"",""]
[57,{"$f":"IF(MAX('Formet 8'!$A$12:$A$213)<$A63,\"\",VLOOKUP($A63,'Formet 8'!$A$12:$O$213,4,0))","v":""},{"$f":"IF(MAX('Formet 8'!$A$12:$A$213)<$A63,\"\",VLOOKUP($A63,'Formet 8'!$A$12:$O$213,7,0))","v":""},{"$f":"IF(MAX('Formet 8'!$A$12:$A$213)<$A63,\"\",VLOOKUP($A63,'Formet 8'!$A$12:$O$213,9,0))","v":""},{"$f":"IF(AND(D63=\"\"),\"\",'Formet 8'!E$218)","v":""},"",""]
[58,{"$f":"IF(MAX('Formet 8'!$A$12:$A$213)<$A64,\"\",VLOOKUP($A64,'Formet 8'!$A$12:$O$213,4,0))","v":""},{"$f":"IF(MAX('Formet 8'!$A$12:$A$213)<$A64,\"\",VLOOKUP($A64,'Formet 8'!$A$12:$O$213,7,0))","v":""},{"$f":"IF(MAX('Formet 8'!$A$12:$A$213)<$A64,\"\",VLOOKUP($A64,'Formet 8'!$A$12:$O$213,9,0))","v":""},{"$f":"IF(AND(D64=\"\"),\"\",'Formet 8'!E$218)","v":""},"",""]
[59,{"$f":"IF(MAX('Formet 8'!$A$12:$A$213)<$A65,\"\",VLOOKUP($A65,'Formet 8'!$A$12:$O$213,4,0))","v":""},{"$f":"IF(MAX('Formet 8'!$A$12:$A$213)<$A65,\"\",VLOOKUP($A65,'Formet 8'!$A$12:$O$213,7,0))","v":""},{"$f":"IF(MAX('Formet 8'!$A$12:$A$213)<$A65,\"\",VLOOKUP($A65,'Formet 8'!$A$12:$O$213,9,0))","v":""},{"$f":"IF(AND(D65=\"\"),\"\",'Formet 8'!E$218)","v":""},"",""]
[60,{"$f":"IF(MAX('Formet 8'!$A$12:$A$213)<$A66,\"\",VLOOKUP($A66,'Formet 8'!$A$12:$O$213,4,0))","v":""},{"$f":"IF(MAX('Formet 8'!$A$12:$A$213)<$A66,\"\",VLOOKUP($A66,'Formet 8'!$A$12:$O$213,7,0))","v":""},{"$f":"IF(MAX('Formet 8'!$A$12:$A$213)<$A66,\"\",VLOOKUP($A66,'Formet 8'!$A$12:$O$213,9,0))","v":""},{"$f":"IF(AND(D66=\"\"),\"\",'Formet 8'!E$218)","v":""},"",""]
[61,{"$f":"IF(MAX('Formet 8'!$A$12:$A$213)<$A67,\"\",VLOOKUP($A67,'Formet 8'!$A$12:$O$213,4,0))","v":""},{"$f":"IF(MAX('Formet 8'!$A$12:$A$213)<$A67,\"\",VLOOKUP($A67,'Formet 8'!$A$12:$O$213,7,0))","v":""},{"$f":"IF(MAX('Formet 8'!$A$12:$A$213)<$A67,\"\",VLOOKUP($A67,'Formet 8'!$A$12:$O$213,9,0))","v":""},{"$f":"IF(AND(D67=\"\"),\"\",'Formet 8'!E$218)","v":""},"",""]
[62,{"$f":"IF(MAX('Formet 8'!$A$12:$A$213)<$A68,\"\",VLOOKUP($A68,'Formet 8'!$A$12:$O$213,4,0))","v":""},{"$f":"IF(MAX('Formet 8'!$A$12:$A$213)<$A68,\"\",VLOOKUP($A68,'Formet 8'!$A$12:$O$213,7,0))","v":""},{"$f":"IF(MAX('Formet 8'!$A$12:$A$213)<$A68,\"\",VLOOKUP($A68,'Formet 8'!$A$12:$O$213,9,0))","v":""},{"$f":"IF(AND(D68=\"\"),\"\",'Formet 8'!E$218)","v":""},"",""]
[63,{"$f":"IF(MAX('Formet 8'!$A$12:$A$213)<$A69,\"\",VLOOKUP($A69,'Formet 8'!$A$12:$O$213,4,0))","v":""},{"$f":"IF(MAX('Formet 8'!$A$12:$A$213)<$A69,\"\",VLOOKUP($A69,'Formet 8'!$A$12:$O$213,7,0))","v":""},{"$f":"IF(MAX('Formet 8'!$A$12:$A$213)<$A69,\"\",VLOOKUP($A69,'Formet 8'!$A$12:$O$213,9,0))","v":""},{"$f":"IF(AND(D69=\"\"),\"\",'Formet 8'!E$218)","v":""},"",""]
[64,{"$f":"IF(MAX('Formet 8'!$A$12:$A$213)<$A70,\"\",VLOOKUP($A70,'Formet 8'!$A$12:$O$213,4,0))","v":""},{"$f":"IF(MAX('Formet 8'!$A$12:$A$213)<$A70,\"\",VLOOKUP($A70,'Formet 8'!$A$12:$O$213,7,0))","v":""},{"$f":"IF(MAX('Formet 8'!$A$12:$A$213)<$A70,\"\",VLOOKUP($A70,'Formet 8'!$A$12:$O$213,9,0))","v":""},{"$f":"IF(AND(D70=\"\"),\"\",'Formet 8'!E$218)","v":""},"",""]
[65,{"$f":"IF(MAX('Formet 8'!$A$12:$A$213)<$A71,\"\",VLOOKUP($A71,'Formet 8'!$A$12:$O$213,4,0))","v":""},{"$f":"IF(MAX('Formet 8'!$A$12:$A$213)<$A71,\"\",VLOOKUP($A71,'Formet 8'!$A$12:$O$213,7,0))","v":""},{"$f":"IF(MAX('Formet 8'!$A$12:$A$213)<$A71,\"\",VLOOKUP($A71,'Formet 8'!$A$12:$O$213,9,0))","v":""},{"$f":"IF(AND(D71=\"\"),\"\",'Formet 8'!E$218)","v":""},"",""]
[66,{"$f":"IF(MAX('Formet 8'!$A$12:$A$213)<$A72,\"\",VLOOKUP($A72,'Formet 8'!$A$12:$O$213,4,0))","v":""},{"$f":"IF(MAX('Formet 8'!$A$12:$A$213)<$A72,\"\",VLOOKUP($A72,'Formet 8'!$A$12:$O$213,7,0))","v":""},{"$f":"IF(MAX('Formet 8'!$A$12:$A$213)<$A72,\"\",VLOOKUP($A72,'Formet 8'!$A$12:$O$213,9,0))","v":""},{"$f":"IF(AND(D72=\"\"),\"\",'Formet 8'!E$218)","v":""},"",{"$f":"IF(AND(D72=\"\"),\"\",(ROUND(D72*103%,0)*E72*3)+F72)","v":""}]
[67,{"$f":"IF(MAX('Formet 8'!$A$12:$A$213)<$A73,\"\",VLOOKUP($A73,'Formet 8'!$A$12:$O$213,4,0))","v":""},{"$f":"IF(MAX('Formet 8'!$A$12:$A$213)<$A73,\"\",VLOOKUP($A73,'Formet 8'!$A$12:$O$213,7,0))","v":""},{"$f":"IF(MAX('Formet 8'!$A$12:$A$213)<$A73,\"\",VLOOKUP($A73,'Formet 8'!$A$12:$O$213,9,0))","v":""},{"$f":"IF(AND(D73=\"\"),\"\",'Formet 8'!E$218)","v":""},"",""]
[68,{"$f":"IF(MAX('Formet 8'!$A$12:$A$213)<$A74,\"\",VLOOKUP($A74,'Formet 8'!$A$12:$O$213,4,0))","v":""},{"$f":"IF(MAX('Formet 8'!$A$12:$A$213)<$A74,\"\",VLOOKUP($A74,'Formet 8'!$A$12:$O$213,7,0))","v":""},{"$f":"IF(MAX('Formet 8'!$A$12:$A$213)<$A74,\"\",VLOOKUP($A74,'Formet 8'!$A$12:$O$213,9,0))","v":""},{"$f":"IF(AND(D74=\"\"),\"\",'Formet 8'!E$218)","v":""},"",""]
[69,{"$f":"IF(MAX('Formet 8'!$A$12:$A$213)<$A75,\"\",VLOOKUP($A75,'Formet 8'!$A$12:$O$213,4,0))","v":""},{"$f":"IF(MAX('Formet 8'!$A$12:$A$213)<$A75,\"\",VLOOKUP($A75,'Formet 8'!$A$12:$O$213,7,0))","v":""},{"$f":"IF(MAX('Formet 8'!$A$12:$A$213)<$A75,\"\",VLOOKUP($A75,'Formet 8'!$A$12:$O$213,9,0))","v":""},{"$f":"IF(AND(D75=\"\"),\"\",'Formet 8'!E$218)","v":""},"",""]
[70,{"$f":"IF(MAX('Formet 8'!$A$12:$A$213)<$A76,\"\",VLOOKUP($A76,'Formet 8'!$A$12:$O$213,4,0))","v":""},{"$f":"IF(MAX('Formet 8'!$A$12:$A$213)<$A76,\"\",VLOOKUP($A76,'Formet 8'!$A$12:$O$213,7,0))","v":""},{"$f":"IF(MAX('Formet 8'!$A$12:$A$213)<$A76,\"\",VLOOKUP($A76,'Formet 8'!$A$12:$O$213,9,0))","v":""},{"$f":"IF(AND(D76=\"\"),\"\",'Formet 8'!E$218)","v":""},{"$f":"IF(AND(D76=\"\"),\"\",ROUND((D76*E76)*3,0))","v":""},""]
[71,{"$f":"IF(MAX('Formet 8'!$A$12:$A$213)<$A77,\"\",VLOOKUP($A77,'Formet 8'!$A$12:$O$213,4,0))","v":""},{"$f":"IF(MAX('Formet 8'!$A$12:$A$213)<$A77,\"\",VLOOKUP($A77,'Formet 8'!$A$12:$O$213,7,0))","v":""},{"$f":"IF(MAX('Formet 8'!$A$12:$A$213)<$A77,\"\",VLOOKUP($A77,'Formet 8'!$A$12:$O$213,9,0))","v":""},{"$f":"IF(AND(D77=\"\"),\"\",'Formet 8'!E$218)","v":""},"",""]
[72,{"$f":"IF(MAX('Formet 8'!$A$12:$A$213)<$A78,\"\",VLOOKUP($A78,'Formet 8'!$A$12:$O$213,4,0))","v":""},{"$f":"IF(MAX('Formet 8'!$A$12:$A$213)<$A78,\"\",VLOOKUP($A78,'Formet 8'!$A$12:$O$213,7,0))","v":""},{"$f":"IF(MAX('Formet 8'!$A$12:$A$213)<$A78,\"\",VLOOKUP($A78,'Formet 8'!$A$12:$O$213,9,0))","v":""},{"$f":"IF(AND(D78=\"\"),\"\",'Formet 8'!E$218)","v":""},"",""]
[73,{"$f":"IF(MAX('Formet 8'!$A$12:$A$213)<$A79,\"\",VLOOKUP($A79,'Formet 8'!$A$12:$O$213,4,0))","v":""},{"$f":"IF(MAX('Formet 8'!$A$12:$A$213)<$A79,\"\",VLOOKUP($A79,'Formet 8'!$A$12:$O$213,7,0))","v":""},{"$f":"IF(MAX('Formet 8'!$A$12:$A$213)<$A79,\"\",VLOOKUP($A79,'Formet 8'!$A$12:$O$213,9,0))","v":""},{"$f":"IF(AND(D79=\"\"),\"\",'Formet 8'!E$218)","v":""},"",""]
[74,{"$f":"IF(MAX('Formet 8'!$A$12:$A$213)<$A80,\"\",VLOOKUP($A80,'Formet 8'!$A$12:$O$213,4,0))","v":""},{"$f":"IF(MAX('Formet 8'!$A$12:$A$213)<$A80,\"\",VLOOKUP($A80,'Formet 8'!$A$12:$O$213,7,0))","v":""},{"$f":"IF(MAX('Formet 8'!$A$12:$A$213)<$A80,\"\",VLOOKUP($A80,'Formet 8'!$A$12:$O$213,9,0))","v":""},{"$f":"IF(AND(D80=\"\"),\"\",'Formet 8'!E$218)","v":""},"",""]
[75,{"$f":"IF(MAX('Formet 8'!$A$12:$A$213)<$A81,\"\",VLOOKUP($A81,'Formet 8'!$A$12:$O$213,4,0))","v":""},{"$f":"IF(MAX('Formet 8'!$A$12:$A$213)<$A81,\"\",VLOOKUP($A81,'Formet 8'!$A$12:$O$213,7,0))","v":""},{"$f":"IF(MAX('Formet 8'!$A$12:$A$213)<$A81,\"\",VLOOKUP($A81,'Formet 8'!$A$12:$O$213,9,0))","v":""},{"$f":"IF(AND(D81=\"\"),\"\",'Formet 8'!E$218)","v":""},"",""]
[76,{"$f":"IF(MAX('Formet 8'!$A$12:$A$213)<$A82,\"\",VLOOKUP($A82,'Formet 8'!$A$12:$O$213,4,0))","v":""},{"$f":"IF(MAX('Formet 8'!$A$12:$A$213)<$A82,\"\",VLOOKUP($A82,'Formet 8'!$A$12:$O$213,7,0))","v":""},{"$f":"IF(MAX('Formet 8'!$A$12:$A$213)<$A82,\"\",VLOOKUP($A82,'Formet 8'!$A$12:$O$213,9,0))","v":""},{"$f":"IF(AND(D82=\"\"),\"\",'Formet 8'!E$218)","v":""},"",""]
[77,{"$f":"IF(MAX('Formet 8'!$A$12:$A$213)<$A83,\"\",VLOOKUP($A83,'Formet 8'!$A$12:$O$213,4,0))","v":""},{"$f":"IF(MAX('Formet 8'!$A$12:$A$213)<$A83,\"\",VLOOKUP($A83,'Formet 8'!$A$12:$O$213,7,0))","v":""},{"$f":"IF(MAX('Formet 8'!$A$12:$A$213)<$A83,\"\",VLOOKUP($A83,'Formet 8'!$A$12:$O$213,9,0))","v":""},{"$f":"IF(AND(D83=\"\"),\"\",'Formet 8'!E$218)","v":""},"",""]
[78,{"$f":"IF(MAX('Formet 8'!$A$12:$A$213)<$A84,\"\",VLOOKUP($A84,'Formet 8'!$A$12:$O$213,4,0))","v":""},{"$f":"IF(MAX('Formet 8'!$A$12:$A$213)<$A84,\"\",VLOOKUP($A84,'Formet 8'!$A$12:$O$213,7,0))","v":""},{"$f":"IF(MAX('Formet 8'!$A$12:$A$213)<$A84,\"\",VLOOKUP($A84,'Formet 8'!$A$12:$O$213,9,0))","v":""},{"$f":"IF(AND(D84=\"\"),\"\",'Formet 8'!E$218)","v":""},"",""]
[79,{"$f":"IF(MAX('Formet 8'!$A$12:$A$213)<$A85,\"\",VLOOKUP($A85,'Formet 8'!$A$12:$O$213,4,0))","v":""},{"$f":"IF(MAX('Formet 8'!$A$12:$A$213)<$A85,\"\",VLOOKUP($A85,'Formet 8'!$A$12:$O$213,7,0))","v":""},{"$f":"IF(MAX('Formet 8'!$A$12:$A$213)<$A85,\"\",VLOOKUP($A85,'Formet 8'!$A$12:$O$213,9,0))","v":""},{"$f":"IF(AND(D85=\"\"),\"\",'Formet 8'!E$218)","v":""},"",""]
[80,{"$f":"IF(MAX('Formet 8'!$A$12:$A$213)<$A86,\"\",VLOOKUP($A86,'Formet 8'!$A$12:$O$213,4,0))","v":""},{"$f":"IF(MAX('Formet 8'!$A$12:$A$213)<$A86,\"\",VLOOKUP($A86,'Formet 8'!$A$12:$O$213,7,0))","v":""},{"$f":"IF(MAX('Formet 8'!$A$12:$A$213)<$A86,\"\",VLOOKUP($A86,'Formet 8'!$A$12:$O$213,9,0))","v":""},{"$f":"IF(AND(D86=\"\"),\"\",'Formet 8'!E$218)","v":""},"",""]
[81,{"$f":"IF(MAX('Formet 8'!$A$12:$A$213)<$A87,\"\",VLOOKUP($A87,'Formet 8'!$A$12:$O$213,4,0))","v":""},{"$f":"IF(MAX('Formet 8'!$A$12:$A$213)<$A87,\"\",VLOOKUP($A87,'Formet 8'!$A$12:$O$213,7,0))","v":""},{"$f":"IF(MAX('Formet 8'!$A$12:$A$213)<$A87,\"\",VLOOKUP($A87,'Formet 8'!$A$12:$O$213,9,0))","v":""},{"$f":"IF(AND(D87=\"\"),\"\",'Formet 8'!E$218)","v":""},"",""]
[82,{"$f":"IF(MAX('Formet 8'!$A$12:$A$213)<$A88,\"\",VLOOKUP($A88,'Formet 8'!$A$12:$O$213,4,0))","v":""},{"$f":"IF(MAX('Formet 8'!$A$12:$A$213)<$A88,\"\",VLOOKUP($A88,'Formet 8'!$A$12:$O$213,7,0))","v":""},{"$f":"IF(MAX('Formet 8'!$A$12:$A$213)<$A88,\"\",VLOOKUP($A88,'Formet 8'!$A$12:$O$213,9,0))","v":""},{"$f":"IF(AND(D88=\"\"),\"\",'Formet 8'!E$218)","v":""},"",""]
[83,{"$f":"IF(MAX('Formet 8'!$A$12:$A$213)<$A89,\"\",VLOOKUP($A89,'Formet 8'!$A$12:$O$213,4,0))","v":""},{"$f":"IF(MAX('Formet 8'!$A$12:$A$213)<$A89,\"\",VLOOKUP($A89,'Formet 8'!$A$12:$O$213,7,0))","v":""},{"$f":"IF(MAX('Formet 8'!$A$12:$A$213)<$A89,\"\",VLOOKUP($A89,'Formet 8'!$A$12:$O$213,9,0))","v":""},{"$f":"IF(AND(D89=\"\"),\"\",'Formet 8'!E$218)","v":""},"",""]
[84,{"$f":"IF(MAX('Formet 8'!$A$12:$A$213)<$A90,\"\",VLOOKUP($A90,'Formet 8'!$A$12:$O$213,4,0))","v":""},{"$f":"IF(MAX('Formet 8'!$A$12:$A$213)<$A90,\"\",VLOOKUP($A90,'Formet 8'!$A$12:$O$213,7,0))","v":""},{"$f":"IF(MAX('Formet 8'!$A$12:$A$213)<$A90,\"\",VLOOKUP($A90,'Formet 8'!$A$12:$O$213,9,0))","v":""},{"$f":"IF(AND(D90=\"\"),\"\",'Formet 8'!E$218)","v":""},"",""]
[85,{"$f":"IF(MAX('Formet 8'!$A$12:$A$213)<$A91,\"\",VLOOKUP($A91,'Formet 8'!$A$12:$O$213,4,0))","v":""},{"$f":"IF(MAX('Formet 8'!$A$12:$A$213)<$A91,\"\",VLOOKUP($A91,'Formet 8'!$A$12:$O$213,7,0))","v":""},{"$f":"IF(MAX('Formet 8'!$A$12:$A$213)<$A91,\"\",VLOOKUP($A91,'Formet 8'!$A$12:$O$213,9,0))","v":""},{"$f":"IF(AND(D91=\"\"),\"\",'Formet 8'!E$218)","v":""},"",""]
[86,{"$f":"IF(MAX('Formet 8'!$A$12:$A$213)<$A92,\"\",VLOOKUP($A92,'Formet 8'!$A$12:$O$213,4,0))","v":""},{"$f":"IF(MAX('Formet 8'!$A$12:$A$213)<$A92,\"\",VLOOKUP($A92,'Formet 8'!$A$12:$O$213,7,0))","v":""},{"$f":"IF(MAX('Formet 8'!$A$12:$A$213)<$A92,\"\",VLOOKUP($A92,'Formet 8'!$A$12:$O$213,9,0))","v":""},{"$f":"IF(AND(D92=\"\"),\"\",'Formet 8'!E$218)","v":""},"",""]
[87,{"$f":"IF(MAX('Formet 8'!$A$12:$A$213)<$A93,\"\",VLOOKUP($A93,'Formet 8'!$A$12:$O$213,4,0))","v":""},{"$f":"IF(MAX('Formet 8'!$A$12:$A$213)<$A93,\"\",VLOOKUP($A93,'Formet 8'!$A$12:$O$213,7,0))","v":""},{"$f":"IF(MAX('Formet 8'!$A$12:$A$213)<$A93,\"\",VLOOKUP($A93,'Formet 8'!$A$12:$O$213,9,0))","v":""},{"$f":"IF(AND(D93=\"\"),\"\",'Formet 8'!E$218)","v":""},"",""]
[88,{"$f":"IF(MAX('Formet 8'!$A$12:$A$213)<$A94,\"\",VLOOKUP($A94,'Formet 8'!$A$12:$O$213,4,0))","v":""},{"$f":"IF(MAX('Formet 8'!$A$12:$A$213)<$A94,\"\",VLOOKUP($A94,'Formet 8'!$A$12:$O$213,7,0))","v":""},{"$f":"IF(MAX('Formet 8'!$A$12:$A$213)<$A94,\"\",VLOOKUP($A94,'Formet 8'!$A$12:$O$213,9,0))","v":""},{"$f":"IF(AND(D94=\"\"),\"\",'Formet 8'!E$218)","v":""},"",""]
[89,{"$f":"IF(MAX('Formet 8'!$A$12:$A$213)<$A95,\"\",VLOOKUP($A95,'Formet 8'!$A$12:$O$213,4,0))","v":""},{"$f":"IF(MAX('Formet 8'!$A$12:$A$213)<$A95,\"\",VLOOKUP($A95,'Formet 8'!$A$12:$O$213,7,0))","v":""},{"$f":"IF(MAX('Formet 8'!$A$12:$A$213)<$A95,\"\",VLOOKUP($A95,'Formet 8'!$A$12:$O$213,9,0))","v":""},{"$f":"IF(AND(D95=\"\"),\"\",'Formet 8'!E$218)","v":""},"",""]
[90,{"$f":"IF(MAX('Formet 8'!$A$12:$A$213)<$A96,\"\",VLOOKUP($A96,'Formet 8'!$A$12:$O$213,4,0))","v":""},{"$f":"IF(MAX('Formet 8'!$A$12:$A$213)<$A96,\"\",VLOOKUP($A96,'Formet 8'!$A$12:$O$213,7,0))","v":""},{"$f":"IF(MAX('Formet 8'!$A$12:$A$213)<$A96,\"\",VLOOKUP($A96,'Formet 8'!$A$12:$O$213,9,0))","v":""},{"$f":"IF(AND(D96=\"\"),\"\",'Formet 8'!E$218)","v":""},"",""]
[91,{"$f":"IF(MAX('Formet 8'!$A$12:$A$213)<$A97,\"\",VLOOKUP($A97,'Formet 8'!$A$12:$O$213,4,0))","v":""},{"$f":"IF(MAX('Formet 8'!$A$12:$A$213)<$A97,\"\",VLOOKUP($A97,'Formet 8'!$A$12:$O$213,7,0))","v":""},{"$f":"IF(MAX('Formet 8'!$A$12:$A$213)<$A97,\"\",VLOOKUP($A97,'Formet 8'!$A$12:$O$213,9,0))","v":""},{"$f":"IF(AND(D97=\"\"),\"\",'Formet 8'!E$218)","v":""},"",""]
[92,{"$f":"IF(MAX('Formet 8'!$A$12:$A$213)<$A98,\"\",VLOOKUP($A98,'Formet 8'!$A$12:$O$213,4,0))","v":""},{"$f":"IF(MAX('Formet 8'!$A$12:$A$213)<$A98,\"\",VLOOKUP($A98,'Formet 8'!$A$12:$O$213,7,0))","v":""},{"$f":"IF(MAX('Formet 8'!$A$12:$A$213)<$A98,\"\",VLOOKUP($A98,'Formet 8'!$A$12:$O$213,9,0))","v":""},{"$f":"IF(AND(D98=\"\"),\"\",'Formet 8'!E$218)","v":""},"",""]
[93,{"$f":"IF(MAX('Formet 8'!$A$12:$A$213)<$A99,\"\",VLOOKUP($A99,'Formet 8'!$A$12:$O$213,4,0))","v":""},{"$f":"IF(MAX('Formet 8'!$A$12:$A$213)<$A99,\"\",VLOOKUP($A99,'Formet 8'!$A$12:$O$213,7,0))","v":""},{"$f":"IF(MAX('Formet 8'!$A$12:$A$213)<$A99,\"\",VLOOKUP($A99,'Formet 8'!$A$12:$O$213,9,0))","v":""},{"$f":"IF(AND(D99=\"\"),\"\",'Formet 8'!E$218)","v":""},"",""]
[94,{"$f":"IF(MAX('Formet 8'!$A$12:$A$213)<$A100,\"\",VLOOKUP($A100,'Formet 8'!$A$12:$O$213,4,0))","v":""},{"$f":"IF(MAX('Formet 8'!$A$12:$A$213)<$A100,\"\",VLOOKUP($A100,'Formet 8'!$A$12:$O$213,7,0))","v":""},{"$f":"IF(MAX('Formet 8'!$A$12:$A$213)<$A100,\"\",VLOOKUP($A100,'Formet 8'!$A$12:$O$213,9,0))","v":""},{"$f":"IF(AND(D100=\"\"),\"\",'Formet 8'!E$218)","v":""},"",""]
[95,{"$f":"IF(MAX('Formet 8'!$A$12:$A$213)<$A101,\"\",VLOOKUP($A101,'Formet 8'!$A$12:$O$213,4,0))","v":""},{"$f":"IF(MAX('Formet 8'!$A$12:$A$213)<$A101,\"\",VLOOKUP($A101,'Formet 8'!$A$12:$O$213,7,0))","v":""},{"$f":"IF(MAX('Formet 8'!$A$12:$A$213)<$A101,\"\",VLOOKUP($A101,'Formet 8'!$A$12:$O$213,9,0))","v":""},{"$f":"IF(AND(D101=\"\"),\"\",'Formet 8'!E$218)","v":""},"",""]
[96,{"$f":"IF(MAX('Formet 8'!$A$12:$A$213)<$A102,\"\",VLOOKUP($A102,'Formet 8'!$A$12:$O$213,4,0))","v":""},{"$f":"IF(MAX('Formet 8'!$A$12:$A$213)<$A102,\"\",VLOOKUP($A102,'Formet 8'!$A$12:$O$213,7,0))","v":""},{"$f":"IF(MAX('Formet 8'!$A$12:$A$213)<$A102,\"\",VLOOKUP($A102,'Formet 8'!$A$12:$O$213,9,0))","v":""},{"$f":"IF(AND(D102=\"\"),\"\",'Formet 8'!E$218)","v":""},"",""]
[97,{"$f":"IF(MAX('Formet 8'!$A$12:$A$213)<$A103,\"\",VLOOKUP($A103,'Formet 8'!$A$12:$O$213,4,0))","v":""},{"$f":"IF(MAX('Formet 8'!$A$12:$A$213)<$A103,\"\",VLOOKUP($A103,'Formet 8'!$A$12:$O$213,7,0))","v":""},{"$f":"IF(MAX('Formet 8'!$A$12:$A$213)<$A103,\"\",VLOOKUP($A103,'Formet 8'!$A$12:$O$213,9,0))","v":""},{"$f":"IF(AND(D103=\"\"),\"\",'Formet 8'!E$218)","v":""},"",""]
[98,{"$f":"IF(MAX('Formet 8'!$A$12:$A$213)<$A104,\"\",VLOOKUP($A104,'Formet 8'!$A$12:$O$213,4,0))","v":""},{"$f":"IF(MAX('Formet 8'!$A$12:$A$213)<$A104,\"\",VLOOKUP($A104,'Formet 8'!$A$12:$O$213,7,0))","v":""},{"$f":"IF(MAX('Formet 8'!$A$12:$A$213)<$A104,\"\",VLOOKUP($A104,'Formet 8'!$A$12:$O$213,9,0))","v":""},{"$f":"IF(AND(D104=\"\"),\"\",'Formet 8'!E$218)","v":""},"",""]
[99,{"$f":"IF(MAX('Formet 8'!$A$12:$A$213)<$A105,\"\",VLOOKUP($A105,'Formet 8'!$A$12:$O$213,4,0))","v":""},{"$f":"IF(MAX('Formet 8'!$A$12:$A$213)<$A105,\"\",VLOOKUP($A105,'Formet 8'!$A$12:$O$213,7,0))","v":""},{"$f":"IF(MAX('Formet 8'!$A$12:$A$213)<$A105,\"\",VLOOKUP($A105,'Formet 8'!$A$12:$O$213,9,0))","v":""},{"$f":"IF(AND(D105=\"\"),\"\",'Formet 8'!E$218)","v":""},"",""]
[100,{"$f":"IF(MAX('Formet 8'!$A$12:$A$213)<$A106,\"\",VLOOKUP($A106,'Formet 8'!$A$12:$O$213,4,0))","v":""},{"$f":"IF(MAX('Formet 8'!$A$12:$A$213)<$A106,\"\",VLOOKUP($A106,'Formet 8'!$A$12:$O$213,7,0))","v":""},{"$f":"IF(MAX('Formet 8'!$A$12:$A$213)<$A106,\"\",VLOOKUP($A106,'Formet 8'!$A$12:$O$213,9,0))","v":""},{"$f":"IF(AND(D106=\"\"),\"\",'Formet 8'!E$218)","v":""},"",""]
[101,{"$f":"IF(MAX('Formet 8'!$A$12:$A$213)<$A107,\"\",VLOOKUP($A107,'Formet 8'!$A$12:$O$213,4,0))","v":""},{"$f":"IF(MAX('Formet 8'!$A$12:$A$213)<$A107,\"\",VLOOKUP($A107,'Formet 8'!$A$12:$O$213,7,0))","v":""},{"$f":"IF(MAX('Formet 8'!$A$12:$A$213)<$A107,\"\",VLOOKUP($A107,'Formet 8'!$A$12:$O$213,9,0))","v":""},{"$f":"IF(AND(D107=\"\"),\"\",'Formet 8'!E$218)","v":""},"",""]
[102,{"$f":"IF(MAX('Formet 8'!$A$12:$A$213)<$A108,\"\",VLOOKUP($A108,'Formet 8'!$A$12:$O$213,4,0))","v":""},{"$f":"IF(MAX('Formet 8'!$A$12:$A$213)<$A108,\"\",VLOOKUP($A108,'Formet 8'!$A$12:$O$213,7,0))","v":""},{"$f":"IF(MAX('Formet 8'!$A$12:$A$213)<$A108,\"\",VLOOKUP($A108,'Formet 8'!$A$12:$O$213,9,0))","v":""},{"$f":"IF(AND(D108=\"\"),\"\",'Formet 8'!E$218)","v":""},"",""]
[103,{"$f":"IF(MAX('Formet 8'!$A$12:$A$213)<$A109,\"\",VLOOKUP($A109,'Formet 8'!$A$12:$O$213,4,0))","v":""},{"$f":"IF(MAX('Formet 8'!$A$12:$A$213)<$A109,\"\",VLOOKUP($A109,'Formet 8'!$A$12:$O$213,7,0))","v":""},{"$f":"IF(MAX('Formet 8'!$A$12:$A$213)<$A109,\"\",VLOOKUP($A109,'Formet 8'!$A$12:$O$213,9,0))","v":""},{"$f":"IF(AND(D109=\"\"),\"\",'Formet 8'!E$218)","v":""},"",""]
[104,{"$f":"IF(MAX('Formet 8'!$A$12:$A$213)<$A110,\"\",VLOOKUP($A110,'Formet 8'!$A$12:$O$213,4,0))","v":""},{"$f":"IF(MAX('Formet 8'!$A$12:$A$213)<$A110,\"\",VLOOKUP($A110,'Formet 8'!$A$12:$O$213,7,0))","v":""},{"$f":"IF(MAX('Formet 8'!$A$12:$A$213)<$A110,\"\",VLOOKUP($A110,'Formet 8'!$A$12:$O$213,9,0))","v":""},{"$f":"IF(AND(D110=\"\"),\"\",'Formet 8'!E$218)","v":""},"",""]
[105,{"$f":"IF(MAX('Formet 8'!$A$12:$A$213)<$A111,\"\",VLOOKUP($A111,'Formet 8'!$A$12:$O$213,4,0))","v":""},{"$f":"IF(MAX('Formet 8'!$A$12:$A$213)<$A111,\"\",VLOOKUP($A111,'Formet 8'!$A$12:$O$213,7,0))","v":""},{"$f":"IF(MAX('Formet 8'!$A$12:$A$213)<$A111,\"\",VLOOKUP($A111,'Formet 8'!$A$12:$O$213,9,0))","v":""},{"$f":"IF(AND(D111=\"\"),\"\",'Formet 8'!E$218)","v":""},"",""]
[106,{"$f":"IF(MAX('Formet 8'!$A$12:$A$213)<$A112,\"\",VLOOKUP($A112,'Formet 8'!$A$12:$O$213,4,0))","v":""},{"$f":"IF(MAX('Formet 8'!$A$12:$A$213)<$A112,\"\",VLOOKUP($A112,'Formet 8'!$A$12:$O$213,7,0))","v":""},{"$f":"IF(MAX('Formet 8'!$A$12:$A$213)<$A112,\"\",VLOOKUP($A112,'Formet 8'!$A$12:$O$213,9,0))","v":""},{"$f":"IF(AND(D112=\"\"),\"\",'Formet 8'!E$218)","v":""},"",""]
[107,{"$f":"IF(MAX('Formet 8'!$A$12:$A$213)<$A113,\"\",VLOOKUP($A113,'Formet 8'!$A$12:$O$213,4,0))","v":""},{"$f":"IF(MAX('Formet 8'!$A$12:$A$213)<$A113,\"\",VLOOKUP($A113,'Formet 8'!$A$12:$O$213,7,0))","v":""},{"$f":"IF(MAX('Formet 8'!$A$12:$A$213)<$A113,\"\",VLOOKUP($A113,'Formet 8'!$A$12:$O$213,9,0))","v":""},{"$f":"IF(AND(D113=\"\"),\"\",'Formet 8'!E$218)","v":""},"",""]
[108,{"$f":"IF(MAX('Formet 8'!$A$12:$A$213)<$A114,\"\",VLOOKUP($A114,'Formet 8'!$A$12:$O$213,4,0))","v":""},{"$f":"IF(MAX('Formet 8'!$A$12:$A$213)<$A114,\"\",VLOOKUP($A114,'Formet 8'!$A$12:$O$213,7,0))","v":""},{"$f":"IF(MAX('Formet 8'!$A$12:$A$213)<$A114,\"\",VLOOKUP($A114,'Formet 8'!$A$12:$O$213,9,0))","v":""},{"$f":"IF(AND(D114=\"\"),\"\",'Formet 8'!E$218)","v":""},"",""]
[109,{"$f":"IF(MAX('Formet 8'!$A$12:$A$213)<$A115,\"\",VLOOKUP($A115,'Formet 8'!$A$12:$O$213,4,0))","v":""},{"$f":"IF(MAX('Formet 8'!$A$12:$A$213)<$A115,\"\",VLOOKUP($A115,'Formet 8'!$A$12:$O$213,7,0))","v":""},{"$f":"IF(MAX('Formet 8'!$A$12:$A$213)<$A115,\"\",VLOOKUP($A115,'Formet 8'!$A$12:$O$213,9,0))","v":""},{"$f":"IF(AND(D115=\"\"),\"\",'Formet 8'!E$218)","v":""},"",""]
[110,{"$f":"IF(MAX('Formet 8'!$A$12:$A$213)<$A116,\"\",VLOOKUP($A116,'Formet 8'!$A$12:$O$213,4,0))","v":""},{"$f":"IF(MAX('Formet 8'!$A$12:$A$213)<$A116,\"\",VLOOKUP($A116,'Formet 8'!$A$12:$O$213,7,0))","v":""},{"$f":"IF(MAX('Formet 8'!$A$12:$A$213)<$A116,\"\",VLOOKUP($A116,'Formet 8'!$A$12:$O$213,9,0))","v":""},{"$f":"IF(AND(D116=\"\"),\"\",'Formet 8'!E$218)","v":""},"",""]
[111,{"$f":"IF(MAX('Formet 8'!$A$12:$A$213)<$A117,\"\",VLOOKUP($A117,'Formet 8'!$A$12:$O$213,4,0))","v":""},{"$f":"IF(MAX('Formet 8'!$A$12:$A$213)<$A117,\"\",VLOOKUP($A117,'Formet 8'!$A$12:$O$213,7,0))","v":""},{"$f":"IF(MAX('Formet 8'!$A$12:$A$213)<$A117,\"\",VLOOKUP($A117,'Formet 8'!$A$12:$O$213,9,0))","v":""},{"$f":"IF(AND(D117=\"\"),\"\",'Formet 8'!E$218)","v":""},"",""]
[112,{"$f":"IF(MAX('Formet 8'!$A$12:$A$213)<$A118,\"\",VLOOKUP($A118,'Formet 8'!$A$12:$O$213,4,0))","v":""},{"$f":"IF(MAX('Formet 8'!$A$12:$A$213)<$A118,\"\",VLOOKUP($A118,'Formet 8'!$A$12:$O$213,7,0))","v":""},{"$f":"IF(MAX('Formet 8'!$A$12:$A$213)<$A118,\"\",VLOOKUP($A118,'Formet 8'!$A$12:$O$213,9,0))","v":""},{"$f":"IF(AND(D118=\"\"),\"\",'Formet 8'!E$218)","v":""},"",""]
[113,{"$f":"IF(MAX('Formet 8'!$A$12:$A$213)<$A119,\"\",VLOOKUP($A119,'Formet 8'!$A$12:$O$213,4,0))","v":""},{"$f":"IF(MAX('Formet 8'!$A$12:$A$213)<$A119,\"\",VLOOKUP($A119,'Formet 8'!$A$12:$O$213,7,0))","v":""},{"$f":"IF(MAX('Formet 8'!$A$12:$A$213)<$A119,\"\",VLOOKUP($A119,'Formet 8'!$A$12:$O$213,9,0))","v":""},{"$f":"IF(AND(D119=\"\"),\"\",'Formet 8'!E$218)","v":""},"",""]
[114,{"$f":"IF(MAX('Formet 8'!$A$12:$A$213)<$A120,\"\",VLOOKUP($A120,'Formet 8'!$A$12:$O$213,4,0))","v":""},{"$f":"IF(MAX('Formet 8'!$A$12:$A$213)<$A120,\"\",VLOOKUP($A120,'Formet 8'!$A$12:$O$213,7,0))","v":""},{"$f":"IF(MAX('Formet 8'!$A$12:$A$213)<$A120,\"\",VLOOKUP($A120,'Formet 8'!$A$12:$O$213,9,0))","v":""},{"$f":"IF(AND(D120=\"\"),\"\",'Formet 8'!E$218)","v":""},"",""]
[115,{"$f":"IF(MAX('Formet 8'!$A$12:$A$213)<$A121,\"\",VLOOKUP($A121,'Formet 8'!$A$12:$O$213,4,0))","v":""},{"$f":"IF(MAX('Formet 8'!$A$12:$A$213)<$A121,\"\",VLOOKUP($A121,'Formet 8'!$A$12:$O$213,7,0))","v":""},{"$f":"IF(MAX('Formet 8'!$A$12:$A$213)<$A121,\"\",VLOOKUP($A121,'Formet 8'!$A$12:$O$213,9,0))","v":""},{"$f":"IF(AND(D121=\"\"),\"\",'Formet 8'!E$218)","v":""},"",""]
[116,{"$f":"IF(MAX('Formet 8'!$A$12:$A$213)<$A122,\"\",VLOOKUP($A122,'Formet 8'!$A$12:$O$213,4,0))","v":""},{"$f":"IF(MAX('Formet 8'!$A$12:$A$213)<$A122,\"\",VLOOKUP($A122,'Formet 8'!$A$12:$O$213,7,0))","v":""},{"$f":"IF(MAX('Formet 8'!$A$12:$A$213)<$A122,\"\",VLOOKUP($A122,'Formet 8'!$A$12:$O$213,9,0))","v":""},{"$f":"IF(AND(D122=\"\"),\"\",'Formet 8'!E$218)","v":""},"",""]
[117,{"$f":"IF(MAX('Formet 8'!$A$12:$A$213)<$A123,\"\",VLOOKUP($A123,'Formet 8'!$A$12:$O$213,4,0))","v":""},{"$f":"IF(MAX('Formet 8'!$A$12:$A$213)<$A123,\"\",VLOOKUP($A123,'Formet 8'!$A$12:$O$213,7,0))","v":""},{"$f":"IF(MAX('Formet 8'!$A$12:$A$213)<$A123,\"\",VLOOKUP($A123,'Formet 8'!$A$12:$O$213,9,0))","v":""},{"$f":"IF(AND(D123=\"\"),\"\",'Formet 8'!E$218)","v":""},"",""]
[118,{"$f":"IF(MAX('Formet 8'!$A$12:$A$213)<$A124,\"\",VLOOKUP($A124,'Formet 8'!$A$12:$O$213,4,0))","v":""},{"$f":"IF(MAX('Formet 8'!$A$12:$A$213)<$A124,\"\",VLOOKUP($A124,'Formet 8'!$A$12:$O$213,7,0))","v":""},{"$f":"IF(MAX('Formet 8'!$A$12:$A$213)<$A124,\"\",VLOOKUP($A124,'Formet 8'!$A$12:$O$213,9,0))","v":""},{"$f":"IF(AND(D124=\"\"),\"\",'Formet 8'!E$218)","v":""},"",""]
[119,{"$f":"IF(MAX('Formet 8'!$A$12:$A$213)<$A125,\"\",VLOOKUP($A125,'Formet 8'!$A$12:$O$213,4,0))","v":""},{"$f":"IF(MAX('Formet 8'!$A$12:$A$213)<$A125,\"\",VLOOKUP($A125,'Formet 8'!$A$12:$O$213,7,0))","v":""},{"$f":"IF(MAX('Formet 8'!$A$12:$A$213)<$A125,\"\",VLOOKUP($A125,'Formet 8'!$A$12:$O$213,9,0))","v":""},{"$f":"IF(AND(D125=\"\"),\"\",'Formet 8'!E$218)","v":""},"",""]
[120,{"$f":"IF(MAX('Formet 8'!$A$12:$A$213)<$A126,\"\",VLOOKUP($A126,'Formet 8'!$A$12:$O$213,4,0))","v":""},{"$f":"IF(MAX('Formet 8'!$A$12:$A$213)<$A126,\"\",VLOOKUP($A126,'Formet 8'!$A$12:$O$213,7,0))","v":""},{"$f":"IF(MAX('Formet 8'!$A$12:$A$213)<$A126,\"\",VLOOKUP($A126,'Formet 8'!$A$12:$O$213,9,0))","v":""},{"$f":"IF(AND(D126=\"\"),\"\",'Formet 8'!E$218)","v":""},"",""]
[121,{"$f":"IF(MAX('Formet 8'!$A$12:$A$213)<$A127,\"\",VLOOKUP($A127,'Formet 8'!$A$12:$O$213,4,0))","v":""},{"$f":"IF(MAX('Formet 8'!$A$12:$A$213)<$A127,\"\",VLOOKUP($A127,'Formet 8'!$A$12:$O$213,7,0))","v":""},{"$f":"IF(MAX('Formet 8'!$A$12:$A$213)<$A127,\"\",VLOOKUP($A127,'Formet 8'!$A$12:$O$213,9,0))","v":""},{"$f":"IF(AND(D127=\"\"),\"\",'Formet 8'!E$218)","v":""},"",""]
[122,{"$f":"IF(MAX('Formet 8'!$A$12:$A$213)<$A128,\"\",VLOOKUP($A128,'Formet 8'!$A$12:$O$213,4,0))","v":""},{"$f":"IF(MAX('Formet 8'!$A$12:$A$213)<$A128,\"\",VLOOKUP($A128,'Formet 8'!$A$12:$O$213,7,0))","v":""},{"$f":"IF(MAX('Formet 8'!$A$12:$A$213)<$A128,\"\",VLOOKUP($A128,'Formet 8'!$A$12:$O$213,9,0))","v":""},{"$f":"IF(AND(D128=\"\"),\"\",'Formet 8'!E$218)","v":""},"",""]
[123,{"$f":"IF(MAX('Formet 8'!$A$12:$A$213)<$A129,\"\",VLOOKUP($A129,'Formet 8'!$A$12:$O$213,4,0))","v":""},{"$f":"IF(MAX('Formet 8'!$A$12:$A$213)<$A129,\"\",VLOOKUP($A129,'Formet 8'!$A$12:$O$213,7,0))","v":""},{"$f":"IF(MAX('Formet 8'!$A$12:$A$213)<$A129,\"\",VLOOKUP($A129,'Formet 8'!$A$12:$O$213,9,0))","v":""},{"$f":"IF(AND(D129=\"\"),\"\",'Formet 8'!E$218)","v":""},"",""]
[124,{"$f":"IF(MAX('Formet 8'!$A$12:$A$213)<$A130,\"\",VLOOKUP($A130,'Formet 8'!$A$12:$O$213,4,0))","v":""},{"$f":"IF(MAX('Formet 8'!$A$12:$A$213)<$A130,\"\",VLOOKUP($A130,'Formet 8'!$A$12:$O$213,7,0))","v":""},{"$f":"IF(MAX('Formet 8'!$A$12:$A$213)<$A130,\"\",VLOOKUP($A130,'Formet 8'!$A$12:$O$213,9,0))","v":""},{"$f":"IF(AND(D130=\"\"),\"\",'Formet 8'!E$218)","v":""},"",""]
[125,{"$f":"IF(MAX('Formet 8'!$A$12:$A$213)<$A131,\"\",VLOOKUP($A131,'Formet 8'!$A$12:$O$213,4,0))","v":""},{"$f":"IF(MAX('Formet 8'!$A$12:$A$213)<$A131,\"\",VLOOKUP($A131,'Formet 8'!$A$12:$O$213,7,0))","v":""},{"$f":"IF(MAX('Formet 8'!$A$12:$A$213)<$A131,\"\",VLOOKUP($A131,'Formet 8'!$A$12:$O$213,9,0))","v":""},{"$f":"IF(AND(D131=\"\"),\"\",'Formet 8'!E$218)","v":""},"",""]
[126,{"$f":"IF(MAX('Formet 8'!$A$12:$A$213)<$A132,\"\",VLOOKUP($A132,'Formet 8'!$A$12:$O$213,4,0))","v":""},{"$f":"IF(MAX('Formet 8'!$A$12:$A$213)<$A132,\"\",VLOOKUP($A132,'Formet 8'!$A$12:$O$213,7,0))","v":""},{"$f":"IF(MAX('Formet 8'!$A$12:$A$213)<$A132,\"\",VLOOKUP($A132,'Formet 8'!$A$12:$O$213,9,0))","v":""},{"$f":"IF(AND(D132=\"\"),\"\",'Formet 8'!E$218)","v":""},"",""]
[127,{"$f":"IF(MAX('Formet 8'!$A$12:$A$213)<$A133,\"\",VLOOKUP($A133,'Formet 8'!$A$12:$O$213,4,0))","v":""},{"$f":"IF(MAX('Formet 8'!$A$12:$A$213)<$A133,\"\",VLOOKUP($A133,'Formet 8'!$A$12:$O$213,7,0))","v":""},{"$f":"IF(MAX('Formet 8'!$A$12:$A$213)<$A133,\"\",VLOOKUP($A133,'Formet 8'!$A$12:$O$213,9,0))","v":""},{"$f":"IF(AND(D133=\"\"),\"\",'Formet 8'!E$218)","v":""},"",""]
[128,{"$f":"IF(MAX('Formet 8'!$A$12:$A$213)<$A134,\"\",VLOOKUP($A134,'Formet 8'!$A$12:$O$213,4,0))","v":""},{"$f":"IF(MAX('Formet 8'!$A$12:$A$213)<$A134,\"\",VLOOKUP($A134,'Formet 8'!$A$12:$O$213,7,0))","v":""},{"$f":"IF(MAX('Formet 8'!$A$12:$A$213)<$A134,\"\",VLOOKUP($A134,'Formet 8'!$A$12:$O$213,9,0))","v":""},{"$f":"IF(AND(D134=\"\"),\"\",'Formet 8'!E$218)","v":""},"",""]
[129,{"$f":"IF(MAX('Formet 8'!$A$12:$A$213)<$A135,\"\",VLOOKUP($A135,'Formet 8'!$A$12:$O$213,4,0))","v":""},{"$f":"IF(MAX('Formet 8'!$A$12:$A$213)<$A135,\"\",VLOOKUP($A135,'Formet 8'!$A$12:$O$213,7,0))","v":""},{"$f":"IF(MAX('Formet 8'!$A$12:$A$213)<$A135,\"\",VLOOKUP($A135,'Formet 8'!$A$12:$O$213,9,0))","v":""},{"$f":"IF(AND(D135=\"\"),\"\",'Formet 8'!E$218)","v":""},"",""]
[130,{"$f":"IF(MAX('Formet 8'!$A$12:$A$213)<$A136,\"\",VLOOKUP($A136,'Formet 8'!$A$12:$O$213,4,0))","v":""},{"$f":"IF(MAX('Formet 8'!$A$12:$A$213)<$A136,\"\",VLOOKUP($A136,'Formet 8'!$A$12:$O$213,7,0))","v":""},{"$f":"IF(MAX('Formet 8'!$A$12:$A$213)<$A136,\"\",VLOOKUP($A136,'Formet 8'!$A$12:$O$213,9,0))","v":""},{"$f":"IF(AND(D136=\"\"),\"\",'Formet 8'!E$218)","v":""},"",{"$f":"IF(AND(D136=\"\"),\"\",(ROUND(D136*103%,0)*E136*3)+F136)","v":""}]
[131,{"$f":"IF(MAX('Formet 8'!$A$12:$A$213)<$A137,\"\",VLOOKUP($A137,'Formet 8'!$A$12:$O$213,4,0))","v":""},{"$f":"IF(MAX('Formet 8'!$A$12:$A$213)<$A137,\"\",VLOOKUP($A137,'Formet 8'!$A$12:$O$213,7,0))","v":""},{"$f":"IF(MAX('Formet 8'!$A$12:$A$213)<$A137,\"\",VLOOKUP($A137,'Formet 8'!$A$12:$O$213,9,0))","v":""},{"$f":"IF(AND(D137=\"\"),\"\",'Formet 8'!E$218)","v":""},"",""]
[132,{"$f":"IF(MAX('Formet 8'!$A$12:$A$213)<$A138,\"\",VLOOKUP($A138,'Formet 8'!$A$12:$O$213,4,0))","v":""},{"$f":"IF(MAX('Formet 8'!$A$12:$A$213)<$A138,\"\",VLOOKUP($A138,'Formet 8'!$A$12:$O$213,7,0))","v":""},{"$f":"IF(MAX('Formet 8'!$A$12:$A$213)<$A138,\"\",VLOOKUP($A138,'Formet 8'!$A$12:$O$213,9,0))","v":""},{"$f":"IF(AND(D138=\"\"),\"\",'Formet 8'!E$218)","v":""},"",""]
[133,{"$f":"IF(MAX('Formet 8'!$A$12:$A$213)<$A139,\"\",VLOOKUP($A139,'Formet 8'!$A$12:$O$213,4,0))","v":""},{"$f":"IF(MAX('Formet 8'!$A$12:$A$213)<$A139,\"\",VLOOKUP($A139,'Formet 8'!$A$12:$O$213,7,0))","v":""},{"$f":"IF(MAX('Formet 8'!$A$12:$A$213)<$A139,\"\",VLOOKUP($A139,'Formet 8'!$A$12:$O$213,9,0))","v":""},{"$f":"IF(AND(D139=\"\"),\"\",'Formet 8'!E$218)","v":""},"",""]
[134,{"$f":"IF(MAX('Formet 8'!$A$12:$A$213)<$A140,\"\",VLOOKUP($A140,'Formet 8'!$A$12:$O$213,4,0))","v":""},{"$f":"IF(MAX('Formet 8'!$A$12:$A$213)<$A140,\"\",VLOOKUP($A140,'Formet 8'!$A$12:$O$213,7,0))","v":""},{"$f":"IF(MAX('Formet 8'!$A$12:$A$213)<$A140,\"\",VLOOKUP($A140,'Formet 8'!$A$12:$O$213,9,0))","v":""},{"$f":"IF(AND(D140=\"\"),\"\",'Formet 8'!E$218)","v":""},{"$f":"IF(AND(D140=\"\"),\"\",ROUND((D140*E140)*3,0))","v":""},""]
[135,{"$f":"IF(MAX('Formet 8'!$A$12:$A$213)<$A141,\"\",VLOOKUP($A141,'Formet 8'!$A$12:$O$213,4,0))","v":""},{"$f":"IF(MAX('Formet 8'!$A$12:$A$213)<$A141,\"\",VLOOKUP($A141,'Formet 8'!$A$12:$O$213,7,0))","v":""},{"$f":"IF(MAX('Formet 8'!$A$12:$A$213)<$A141,\"\",VLOOKUP($A141,'Formet 8'!$A$12:$O$213,9,0))","v":""},{"$f":"IF(AND(D141=\"\"),\"\",'Formet 8'!E$218)","v":""},"",""]
[136,{"$f":"IF(MAX('Formet 8'!$A$12:$A$213)<$A142,\"\",VLOOKUP($A142,'Formet 8'!$A$12:$O$213,4,0))","v":""},{"$f":"IF(MAX('Formet 8'!$A$12:$A$213)<$A142,\"\",VLOOKUP($A142,'Formet 8'!$A$12:$O$213,7,0))","v":""},{"$f":"IF(MAX('Formet 8'!$A$12:$A$213)<$A142,\"\",VLOOKUP($A142,'Formet 8'!$A$12:$O$213,9,0))","v":""},{"$f":"IF(AND(D142=\"\"),\"\",'Formet 8'!E$218)","v":""},"",""]
[137,{"$f":"IF(MAX('Formet 8'!$A$12:$A$213)<$A143,\"\",VLOOKUP($A143,'Formet 8'!$A$12:$O$213,4,0))","v":""},{"$f":"IF(MAX('Formet 8'!$A$12:$A$213)<$A143,\"\",VLOOKUP($A143,'Formet 8'!$A$12:$O$213,7,0))","v":""},{"$f":"IF(MAX('Formet 8'!$A$12:$A$213)<$A143,\"\",VLOOKUP($A143,'Formet 8'!$A$12:$O$213,9,0))","v":""},{"$f":"IF(AND(D143=\"\"),\"\",'Formet 8'!E$218)","v":""},"",""]
[138,{"$f":"IF(MAX('Formet 8'!$A$12:$A$213)<$A144,\"\",VLOOKUP($A144,'Formet 8'!$A$12:$O$213,4,0))","v":""},{"$f":"IF(MAX('Formet 8'!$A$12:$A$213)<$A144,\"\",VLOOKUP($A144,'Formet 8'!$A$12:$O$213,7,0))","v":""},{"$f":"IF(MAX('Formet 8'!$A$12:$A$213)<$A144,\"\",VLOOKUP($A144,'Formet 8'!$A$12:$O$213,9,0))","v":""},{"$f":"IF(AND(D144=\"\"),\"\",'Formet 8'!E$218)","v":""},"",""]
[139,{"$f":"IF(MAX('Formet 8'!$A$12:$A$213)<$A145,\"\",VLOOKUP($A145,'Formet 8'!$A$12:$O$213,4,0))","v":""},{"$f":"IF(MAX('Formet 8'!$A$12:$A$213)<$A145,\"\",VLOOKUP($A145,'Formet 8'!$A$12:$O$213,7,0))","v":""},{"$f":"IF(MAX('Formet 8'!$A$12:$A$213)<$A145,\"\",VLOOKUP($A145,'Formet 8'!$A$12:$O$213,9,0))","v":""},{"$f":"IF(AND(D145=\"\"),\"\",'Formet 8'!E$218)","v":""},"",""]
[140,{"$f":"IF(MAX('Formet 8'!$A$12:$A$213)<$A146,\"\",VLOOKUP($A146,'Formet 8'!$A$12:$O$213,4,0))","v":""},{"$f":"IF(MAX('Formet 8'!$A$12:$A$213)<$A146,\"\",VLOOKUP($A146,'Formet 8'!$A$12:$O$213,7,0))","v":""},{"$f":"IF(MAX('Formet 8'!$A$12:$A$213)<$A146,\"\",VLOOKUP($A146,'Formet 8'!$A$12:$O$213,9,0))","v":""},{"$f":"IF(AND(D146=\"\"),\"\",'Formet 8'!E$218)","v":""},"",""]
[141,{"$f":"IF(MAX('Formet 8'!$A$12:$A$213)<$A147,\"\",VLOOKUP($A147,'Formet 8'!$A$12:$O$213,4,0))","v":""},{"$f":"IF(MAX('Formet 8'!$A$12:$A$213)<$A147,\"\",VLOOKUP($A147,'Formet 8'!$A$12:$O$213,7,0))","v":""},{"$f":"IF(MAX('Formet 8'!$A$12:$A$213)<$A147,\"\",VLOOKUP($A147,'Formet 8'!$A$12:$O$213,9,0))","v":""},{"$f":"IF(AND(D147=\"\"),\"\",'Formet 8'!E$218)","v":""},"",""]
[142,{"$f":"IF(MAX('Formet 8'!$A$12:$A$213)<$A148,\"\",VLOOKUP($A148,'Formet 8'!$A$12:$O$213,4,0))","v":""},{"$f":"IF(MAX('Formet 8'!$A$12:$A$213)<$A148,\"\",VLOOKUP($A148,'Formet 8'!$A$12:$O$213,7,0))","v":""},{"$f":"IF(MAX('Formet 8'!$A$12:$A$213)<$A148,\"\",VLOOKUP($A148,'Formet 8'!$A$12:$O$213,9,0))","v":""},{"$f":"IF(AND(D148=\"\"),\"\",'Formet 8'!E$218)","v":""},"",""]
[143,{"$f":"IF(MAX('Formet 8'!$A$12:$A$213)<$A149,\"\",VLOOKUP($A149,'Formet 8'!$A$12:$O$213,4,0))","v":""},{"$f":"IF(MAX('Formet 8'!$A$12:$A$213)<$A149,\"\",VLOOKUP($A149,'Formet 8'!$A$12:$O$213,7,0))","v":""},{"$f":"IF(MAX('Formet 8'!$A$12:$A$213)<$A149,\"\",VLOOKUP($A149,'Formet 8'!$A$12:$O$213,9,0))","v":""},{"$f":"IF(AND(D149=\"\"),\"\",'Formet 8'!E$218)","v":""},"",""]
[144,{"$f":"IF(MAX('Formet 8'!$A$12:$A$213)<$A150,\"\",VLOOKUP($A150,'Formet 8'!$A$12:$O$213,4,0))","v":""},{"$f":"IF(MAX('Formet 8'!$A$12:$A$213)<$A150,\"\",VLOOKUP($A150,'Formet 8'!$A$12:$O$213,7,0))","v":""},{"$f":"IF(MAX('Formet 8'!$A$12:$A$213)<$A150,\"\",VLOOKUP($A150,'Formet 8'!$A$12:$O$213,9,0))","v":""},{"$f":"IF(AND(D150=\"\"),\"\",'Formet 8'!E$218)","v":""},"",""]
[145,{"$f":"IF(MAX('Formet 8'!$A$12:$A$213)<$A151,\"\",VLOOKUP($A151,'Formet 8'!$A$12:$O$213,4,0))","v":""},{"$f":"IF(MAX('Formet 8'!$A$12:$A$213)<$A151,\"\",VLOOKUP($A151,'Formet 8'!$A$12:$O$213,7,0))","v":""},{"$f":"IF(MAX('Formet 8'!$A$12:$A$213)<$A151,\"\",VLOOKUP($A151,'Formet 8'!$A$12:$O$213,9,0))","v":""},{"$f":"IF(AND(D151=\"\"),\"\",'Formet 8'!E$218)","v":""},"",""]
[146,{"$f":"IF(MAX('Formet 8'!$A$12:$A$213)<$A152,\"\",VLOOKUP($A152,'Formet 8'!$A$12:$O$213,4,0))","v":""},{"$f":"IF(MAX('Formet 8'!$A$12:$A$213)<$A152,\"\",VLOOKUP($A152,'Formet 8'!$A$12:$O$213,7,0))","v":""},{"$f":"IF(MAX('Formet 8'!$A$12:$A$213)<$A152,\"\",VLOOKUP($A152,'Formet 8'!$A$12:$O$213,9,0))","v":""},{"$f":"IF(AND(D152=\"\"),\"\",'Formet 8'!E$218)","v":""},"",""]
[147,{"$f":"IF(MAX('Formet 8'!$A$12:$A$213)<$A153,\"\",VLOOKUP($A153,'Formet 8'!$A$12:$O$213,4,0))","v":""},{"$f":"IF(MAX('Formet 8'!$A$12:$A$213)<$A153,\"\",VLOOKUP($A153,'Formet 8'!$A$12:$O$213,7,0))","v":""},{"$f":"IF(MAX('Formet 8'!$A$12:$A$213)<$A153,\"\",VLOOKUP($A153,'Formet 8'!$A$12:$O$213,9,0))","v":""},{"$f":"IF(AND(D153=\"\"),\"\",'Formet 8'!E$218)","v":""},"",""]
[148,{"$f":"IF(MAX('Formet 8'!$A$12:$A$213)<$A154,\"\",VLOOKUP($A154,'Formet 8'!$A$12:$O$213,4,0))","v":""},{"$f":"IF(MAX('Formet 8'!$A$12:$A$213)<$A154,\"\",VLOOKUP($A154,'Formet 8'!$A$12:$O$213,7,0))","v":""},{"$f":"IF(MAX('Formet 8'!$A$12:$A$213)<$A154,\"\",VLOOKUP($A154,'Formet 8'!$A$12:$O$213,9,0))","v":""},{"$f":"IF(AND(D154=\"\"),\"\",'Formet 8'!E$218)","v":""},"",""]
[149,{"$f":"IF(MAX('Formet 8'!$A$12:$A$213)<$A155,\"\",VLOOKUP($A155,'Formet 8'!$A$12:$O$213,4,0))","v":""},{"$f":"IF(MAX('Formet 8'!$A$12:$A$213)<$A155,\"\",VLOOKUP($A155,'Formet 8'!$A$12:$O$213,7,0))","v":""},{"$f":"IF(MAX('Formet 8'!$A$12:$A$213)<$A155,\"\",VLOOKUP($A155,'Formet 8'!$A$12:$O$213,9,0))","v":""},{"$f":"IF(AND(D155=\"\"),\"\",'Formet 8'!E$218)","v":""},"",""]
[150,{"$f":"IF(MAX('Formet 8'!$A$12:$A$213)<$A156,\"\",VLOOKUP($A156,'Formet 8'!$A$12:$O$213,4,0))","v":""},{"$f":"IF(MAX('Formet 8'!$A$12:$A$213)<$A156,\"\",VLOOKUP($A156,'Formet 8'!$A$12:$O$213,7,0))","v":""},{"$f":"IF(MAX('Formet 8'!$A$12:$A$213)<$A156,\"\",VLOOKUP($A156,'Formet 8'!$A$12:$O$213,9,0))","v":""},{"$f":"IF(AND(D156=\"\"),\"\",'Formet 8'!E$218)","v":""},"",""]
[151,{"$f":"IF(MAX('Formet 8'!$A$12:$A$213)<$A157,\"\",VLOOKUP($A157,'Formet 8'!$A$12:$O$213,4,0))","v":""},{"$f":"IF(MAX('Formet 8'!$A$12:$A$213)<$A157,\"\",VLOOKUP($A157,'Formet 8'!$A$12:$O$213,7,0))","v":""},{"$f":"IF(MAX('Formet 8'!$A$12:$A$213)<$A157,\"\",VLOOKUP($A157,'Formet 8'!$A$12:$O$213,9,0))","v":""},{"$f":"IF(AND(D157=\"\"),\"\",'Formet 8'!E$218)","v":""},"",""]
[152,{"$f":"IF(MAX('Formet 8'!$A$12:$A$213)<$A158,\"\",VLOOKUP($A158,'Formet 8'!$A$12:$O$213,4,0))","v":""},{"$f":"IF(MAX('Formet 8'!$A$12:$A$213)<$A158,\"\",VLOOKUP($A158,'Formet 8'!$A$12:$O$213,7,0))","v":""},{"$f":"IF(MAX('Formet 8'!$A$12:$A$213)<$A158,\"\",VLOOKUP($A158,'Formet 8'!$A$12:$O$213,9,0))","v":""},{"$f":"IF(AND(D158=\"\"),\"\",'Formet 8'!E$218)","v":""},"",""]
[153,{"$f":"IF(MAX('Formet 8'!$A$12:$A$213)<$A159,\"\",VLOOKUP($A159,'Formet 8'!$A$12:$O$213,4,0))","v":""},{"$f":"IF(MAX('Formet 8'!$A$12:$A$213)<$A159,\"\",VLOOKUP($A159,'Formet 8'!$A$12:$O$213,7,0))","v":""},{"$f":"IF(MAX('Formet 8'!$A$12:$A$213)<$A159,\"\",VLOOKUP($A159,'Formet 8'!$A$12:$O$213,9,0))","v":""},{"$f":"IF(AND(D159=\"\"),\"\",'Formet 8'!E$218)","v":""},"",""]
[154,{"$f":"IF(MAX('Formet 8'!$A$12:$A$213)<$A160,\"\",VLOOKUP($A160,'Formet 8'!$A$12:$O$213,4,0))","v":""},{"$f":"IF(MAX('Formet 8'!$A$12:$A$213)<$A160,\"\",VLOOKUP($A160,'Formet 8'!$A$12:$O$213,7,0))","v":""},{"$f":"IF(MAX('Formet 8'!$A$12:$A$213)<$A160,\"\",VLOOKUP($A160,'Formet 8'!$A$12:$O$213,9,0))","v":""},{"$f":"IF(AND(D160=\"\"),\"\",'Formet 8'!E$218)","v":""},"",""]
[155,{"$f":"IF(MAX('Formet 8'!$A$12:$A$213)<$A161,\"\",VLOOKUP($A161,'Formet 8'!$A$12:$O$213,4,0))","v":""},{"$f":"IF(MAX('Formet 8'!$A$12:$A$213)<$A161,\"\",VLOOKUP($A161,'Formet 8'!$A$12:$O$213,7,0))","v":""},{"$f":"IF(MAX('Formet 8'!$A$12:$A$213)<$A161,\"\",VLOOKUP($A161,'Formet 8'!$A$12:$O$213,9,0))","v":""},{"$f":"IF(AND(D161=\"\"),\"\",'Formet 8'!E$218)","v":""},"",""]
[156,{"$f":"IF(MAX('Formet 8'!$A$12:$A$213)<$A162,\"\",VLOOKUP($A162,'Formet 8'!$A$12:$O$213,4,0))","v":""},{"$f":"IF(MAX('Formet 8'!$A$12:$A$213)<$A162,\"\",VLOOKUP($A162,'Formet 8'!$A$12:$O$213,7,0))","v":""},{"$f":"IF(MAX('Formet 8'!$A$12:$A$213)<$A162,\"\",VLOOKUP($A162,'Formet 8'!$A$12:$O$213,9,0))","v":""},{"$f":"IF(AND(D162=\"\"),\"\",'Formet 8'!E$218)","v":""},"",""]
[157,{"$f":"IF(MAX('Formet 8'!$A$12:$A$213)<$A163,\"\",VLOOKUP($A163,'Formet 8'!$A$12:$O$213,4,0))","v":""},{"$f":"IF(MAX('Formet 8'!$A$12:$A$213)<$A163,\"\",VLOOKUP($A163,'Formet 8'!$A$12:$O$213,7,0))","v":""},{"$f":"IF(MAX('Formet 8'!$A$12:$A$213)<$A163,\"\",VLOOKUP($A163,'Formet 8'!$A$12:$O$213,9,0))","v":""},{"$f":"IF(AND(D163=\"\"),\"\",'Formet 8'!E$218)","v":""},"",""]
[158,{"$f":"IF(MAX('Formet 8'!$A$12:$A$213)<$A164,\"\",VLOOKUP($A164,'Formet 8'!$A$12:$O$213,4,0))","v":""},{"$f":"IF(MAX('Formet 8'!$A$12:$A$213)<$A164,\"\",VLOOKUP($A164,'Formet 8'!$A$12:$O$213,7,0))","v":""},{"$f":"IF(MAX('Formet 8'!$A$12:$A$213)<$A164,\"\",VLOOKUP($A164,'Formet 8'!$A$12:$O$213,9,0))","v":""},{"$f":"IF(AND(D164=\"\"),\"\",'Formet 8'!E$218)","v":""},"",""]
[159,{"$f":"IF(MAX('Formet 8'!$A$12:$A$213)<$A165,\"\",VLOOKUP($A165,'Formet 8'!$A$12:$O$213,4,0))","v":""},{"$f":"IF(MAX('Formet 8'!$A$12:$A$213)<$A165,\"\",VLOOKUP($A165,'Formet 8'!$A$12:$O$213,7,0))","v":""},{"$f":"IF(MAX('Formet 8'!$A$12:$A$213)<$A165,\"\",VLOOKUP($A165,'Formet 8'!$A$12:$O$213,9,0))","v":""},{"$f":"IF(AND(D165=\"\"),\"\",'Formet 8'!E$218)","v":""},"",""]
[160,{"$f":"IF(MAX('Formet 8'!$A$12:$A$213)<$A166,\"\",VLOOKUP($A166,'Formet 8'!$A$12:$O$213,4,0))","v":""},{"$f":"IF(MAX('Formet 8'!$A$12:$A$213)<$A166,\"\",VLOOKUP($A166,'Formet 8'!$A$12:$O$213,7,0))","v":""},{"$f":"IF(MAX('Formet 8'!$A$12:$A$213)<$A166,\"\",VLOOKUP($A166,'Formet 8'!$A$12:$O$213,9,0))","v":""},{"$f":"IF(AND(D166=\"\"),\"\",'Formet 8'!E$218)","v":""},"",""]
[161,{"$f":"IF(MAX('Formet 8'!$A$12:$A$213)<$A167,\"\",VLOOKUP($A167,'Formet 8'!$A$12:$O$213,4,0))","v":""},{"$f":"IF(MAX('Formet 8'!$A$12:$A$213)<$A167,\"\",VLOOKUP($A167,'Formet 8'!$A$12:$O$213,7,0))","v":""},{"$f":"IF(MAX('Formet 8'!$A$12:$A$213)<$A167,\"\",VLOOKUP($A167,'Formet 8'!$A$12:$O$213,9,0))","v":""},{"$f":"IF(AND(D167=\"\"),\"\",'Formet 8'!E$218)","v":""},"",""]
[162,{"$f":"IF(MAX('Formet 8'!$A$12:$A$213)<$A168,\"\",VLOOKUP($A168,'Formet 8'!$A$12:$O$213,4,0))","v":""},{"$f":"IF(MAX('Formet 8'!$A$12:$A$213)<$A168,\"\",VLOOKUP($A168,'Formet 8'!$A$12:$O$213,7,0))","v":""},{"$f":"IF(MAX('Formet 8'!$A$12:$A$213)<$A168,\"\",VLOOKUP($A168,'Formet 8'!$A$12:$O$213,9,0))","v":""},{"$f":"IF(AND(D168=\"\"),\"\",'Formet 8'!E$218)","v":""},"",""]
[163,{"$f":"IF(MAX('Formet 8'!$A$12:$A$213)<$A169,\"\",VLOOKUP($A169,'Formet 8'!$A$12:$O$213,4,0))","v":""},{"$f":"IF(MAX('Formet 8'!$A$12:$A$213)<$A169,\"\",VLOOKUP($A169,'Formet 8'!$A$12:$O$213,7,0))","v":""},{"$f":"IF(MAX('Formet 8'!$A$12:$A$213)<$A169,\"\",VLOOKUP($A169,'Formet 8'!$A$12:$O$213,9,0))","v":""},{"$f":"IF(AND(D169=\"\"),\"\",'Formet 8'!E$218)","v":""},"",""]
[164,{"$f":"IF(MAX('Formet 8'!$A$12:$A$213)<$A170,\"\",VLOOKUP($A170,'Formet 8'!$A$12:$O$213,4,0))","v":""},{"$f":"IF(MAX('Formet 8'!$A$12:$A$213)<$A170,\"\",VLOOKUP($A170,'Formet 8'!$A$12:$O$213,7,0))","v":""},{"$f":"IF(MAX('Formet 8'!$A$12:$A$213)<$A170,\"\",VLOOKUP($A170,'Formet 8'!$A$12:$O$213,9,0))","v":""},{"$f":"IF(AND(D170=\"\"),\"\",'Formet 8'!E$218)","v":""},"",""]
[165,{"$f":"IF(MAX('Formet 8'!$A$12:$A$213)<$A171,\"\",VLOOKUP($A171,'Formet 8'!$A$12:$O$213,4,0))","v":""},{"$f":"IF(MAX('Formet 8'!$A$12:$A$213)<$A171,\"\",VLOOKUP($A171,'Formet 8'!$A$12:$O$213,7,0))","v":""},{"$f":"IF(MAX('Formet 8'!$A$12:$A$213)<$A171,\"\",VLOOKUP($A171,'Formet 8'!$A$12:$O$213,9,0))","v":""},{"$f":"IF(AND(D171=\"\"),\"\",'Formet 8'!E$218)","v":""},"",""]
[166,{"$f":"IF(MAX('Formet 8'!$A$12:$A$213)<$A172,\"\",VLOOKUP($A172,'Formet 8'!$A$12:$O$213,4,0))","v":""},{"$f":"IF(MAX('Formet 8'!$A$12:$A$213)<$A172,\"\",VLOOKUP($A172,'Formet 8'!$A$12:$O$213,7,0))","v":""},{"$f":"IF(MAX('Formet 8'!$A$12:$A$213)<$A172,\"\",VLOOKUP($A172,'Formet 8'!$A$12:$O$213,9,0))","v":""},{"$f":"IF(AND(D172=\"\"),\"\",'Formet 8'!E$218)","v":""},"",""]
[167,{"$f":"IF(MAX('Formet 8'!$A$12:$A$213)<$A173,\"\",VLOOKUP($A173,'Formet 8'!$A$12:$O$213,4,0))","v":""},{"$f":"IF(MAX('Formet 8'!$A$12:$A$213)<$A173,\"\",VLOOKUP($A173,'Formet 8'!$A$12:$O$213,7,0))","v":""},{"$f":"IF(MAX('Formet 8'!$A$12:$A$213)<$A173,\"\",VLOOKUP($A173,'Formet 8'!$A$12:$O$213,9,0))","v":""},{"$f":"IF(AND(D173=\"\"),\"\",'Formet 8'!E$218)","v":""},"",""]
[168,{"$f":"IF(MAX('Formet 8'!$A$12:$A$213)<$A174,\"\",VLOOKUP($A174,'Formet 8'!$A$12:$O$213,4,0))","v":""},{"$f":"IF(MAX('Formet 8'!$A$12:$A$213)<$A174,\"\",VLOOKUP($A174,'Formet 8'!$A$12:$O$213,7,0))","v":""},{"$f":"IF(MAX('Formet 8'!$A$12:$A$213)<$A174,\"\",VLOOKUP($A174,'Formet 8'!$A$12:$O$213,9,0))","v":""},{"$f":"IF(AND(D174=\"\"),\"\",'Formet 8'!E$218)","v":""},"",""]
[169,{"$f":"IF(MAX('Formet 8'!$A$12:$A$213)<$A175,\"\",VLOOKUP($A175,'Formet 8'!$A$12:$O$213,4,0))","v":""},{"$f":"IF(MAX('Formet 8'!$A$12:$A$213)<$A175,\"\",VLOOKUP($A175,'Formet 8'!$A$12:$O$213,7,0))","v":""},{"$f":"IF(MAX('Formet 8'!$A$12:$A$213)<$A175,\"\",VLOOKUP($A175,'Formet 8'!$A$12:$O$213,9,0))","v":""},{"$f":"IF(AND(D175=\"\"),\"\",'Formet 8'!E$218)","v":""},"",""]
[170,{"$f":"IF(MAX('Formet 8'!$A$12:$A$213)<$A176,\"\",VLOOKUP($A176,'Formet 8'!$A$12:$O$213,4,0))","v":""},{"$f":"IF(MAX('Formet 8'!$A$12:$A$213)<$A176,\"\",VLOOKUP($A176,'Formet 8'!$A$12:$O$213,7,0))","v":""},{"$f":"IF(MAX('Formet 8'!$A$12:$A$213)<$A176,\"\",VLOOKUP($A176,'Formet 8'!$A$12:$O$213,9,0))","v":""},{"$f":"IF(AND(D176=\"\"),\"\",'Formet 8'!E$218)","v":""},"",""]
[171,{"$f":"IF(MAX('Formet 8'!$A$12:$A$213)<$A177,\"\",VLOOKUP($A177,'Formet 8'!$A$12:$O$213,4,0))","v":""},{"$f":"IF(MAX('Formet 8'!$A$12:$A$213)<$A177,\"\",VLOOKUP($A177,'Formet 8'!$A$12:$O$213,7,0))","v":""},{"$f":"IF(MAX('Formet 8'!$A$12:$A$213)<$A177,\"\",VLOOKUP($A177,'Formet 8'!$A$12:$O$213,9,0))","v":""},{"$f":"IF(AND(D177=\"\"),\"\",'Formet 8'!E$218)","v":""},"",""]
[172,{"$f":"IF(MAX('Formet 8'!$A$12:$A$213)<$A178,\"\",VLOOKUP($A178,'Formet 8'!$A$12:$O$213,4,0))","v":""},{"$f":"IF(MAX('Formet 8'!$A$12:$A$213)<$A178,\"\",VLOOKUP($A178,'Formet 8'!$A$12:$O$213,7,0))","v":""},{"$f":"IF(MAX('Formet 8'!$A$12:$A$213)<$A178,\"\",VLOOKUP($A178,'Formet 8'!$A$12:$O$213,9,0))","v":""},{"$f":"IF(AND(D178=\"\"),\"\",'Formet 8'!E$218)","v":""},"",""]
[173,{"$f":"IF(MAX('Formet 8'!$A$12:$A$213)<$A179,\"\",VLOOKUP($A179,'Formet 8'!$A$12:$O$213,4,0))","v":""},{"$f":"IF(MAX('Formet 8'!$A$12:$A$213)<$A179,\"\",VLOOKUP($A179,'Formet 8'!$A$12:$O$213,7,0))","v":""},{"$f":"IF(MAX('Formet 8'!$A$12:$A$213)<$A179,\"\",VLOOKUP($A179,'Formet 8'!$A$12:$O$213,9,0))","v":""},{"$f":"IF(AND(D179=\"\"),\"\",'Formet 8'!E$218)","v":""},"",""]
[174,{"$f":"IF(MAX('Formet 8'!$A$12:$A$213)<$A180,\"\",VLOOKUP($A180,'Formet 8'!$A$12:$O$213,4,0))","v":""},{"$f":"IF(MAX('Formet 8'!$A$12:$A$213)<$A180,\"\",VLOOKUP($A180,'Formet 8'!$A$12:$O$213,7,0))","v":""},{"$f":"IF(MAX('Formet 8'!$A$12:$A$213)<$A180,\"\",VLOOKUP($A180,'Formet 8'!$A$12:$O$213,9,0))","v":""},{"$f":"IF(AND(D180=\"\"),\"\",'Formet 8'!E$218)","v":""},"",""]
[175,{"$f":"IF(MAX('Formet 8'!$A$12:$A$213)<$A181,\"\",VLOOKUP($A181,'Formet 8'!$A$12:$O$213,4,0))","v":""},{"$f":"IF(MAX('Formet 8'!$A$12:$A$213)<$A181,\"\",VLOOKUP($A181,'Formet 8'!$A$12:$O$213,7,0))","v":""},{"$f":"IF(MAX('Formet 8'!$A$12:$A$213)<$A181,\"\",VLOOKUP($A181,'Formet 8'!$A$12:$O$213,9,0))","v":""},{"$f":"IF(AND(D181=\"\"),\"\",'Formet 8'!E$218)","v":""},"",""]
[176,{"$f":"IF(MAX('Formet 8'!$A$12:$A$213)<$A182,\"\",VLOOKUP($A182,'Formet 8'!$A$12:$O$213,4,0))","v":""},{"$f":"IF(MAX('Formet 8'!$A$12:$A$213)<$A182,\"\",VLOOKUP($A182,'Formet 8'!$A$12:$O$213,7,0))","v":""},{"$f":"IF(MAX('Formet 8'!$A$12:$A$213)<$A182,\"\",VLOOKUP($A182,'Formet 8'!$A$12:$O$213,9,0))","v":""},{"$f":"IF(AND(D182=\"\"),\"\",'Formet 8'!E$218)","v":""},"",""]
[177,{"$f":"IF(MAX('Formet 8'!$A$12:$A$213)<$A183,\"\",VLOOKUP($A183,'Formet 8'!$A$12:$O$213,4,0))","v":""},{"$f":"IF(MAX('Formet 8'!$A$12:$A$213)<$A183,\"\",VLOOKUP($A183,'Formet 8'!$A$12:$O$213,7,0))","v":""},{"$f":"IF(MAX('Formet 8'!$A$12:$A$213)<$A183,\"\",VLOOKUP($A183,'Formet 8'!$A$12:$O$213,9,0))","v":""},{"$f":"IF(AND(D183=\"\"),\"\",'Formet 8'!E$218)","v":""},"",""]
[178,{"$f":"IF(MAX('Formet 8'!$A$12:$A$213)<$A184,\"\",VLOOKUP($A184,'Formet 8'!$A$12:$O$213,4,0))","v":""},{"$f":"IF(MAX('Formet 8'!$A$12:$A$213)<$A184,\"\",VLOOKUP($A184,'Formet 8'!$A$12:$O$213,7,0))","v":""},{"$f":"IF(MAX('Formet 8'!$A$12:$A$213)<$A184,\"\",VLOOKUP($A184,'Formet 8'!$A$12:$O$213,9,0))","v":""},{"$f":"IF(AND(D184=\"\"),\"\",'Formet 8'!E$218)","v":""},"",""]
[179,{"$f":"IF(MAX('Formet 8'!$A$12:$A$213)<$A185,\"\",VLOOKUP($A185,'Formet 8'!$A$12:$O$213,4,0))","v":""},{"$f":"IF(MAX('Formet 8'!$A$12:$A$213)<$A185,\"\",VLOOKUP($A185,'Formet 8'!$A$12:$O$213,7,0))","v":""},{"$f":"IF(MAX('Formet 8'!$A$12:$A$213)<$A185,\"\",VLOOKUP($A185,'Formet 8'!$A$12:$O$213,9,0))","v":""},{"$f":"IF(AND(D185=\"\"),\"\",'Formet 8'!E$218)","v":""},"",""]
[180,{"$f":"IF(MAX('Formet 8'!$A$12:$A$213)<$A186,\"\",VLOOKUP($A186,'Formet 8'!$A$12:$O$213,4,0))","v":""},{"$f":"IF(MAX('Formet 8'!$A$12:$A$213)<$A186,\"\",VLOOKUP($A186,'Formet 8'!$A$12:$O$213,7,0))","v":""},{"$f":"IF(MAX('Formet 8'!$A$12:$A$213)<$A186,\"\",VLOOKUP($A186,'Formet 8'!$A$12:$O$213,9,0))","v":""},{"$f":"IF(AND(D186=\"\"),\"\",'Formet 8'!E$218)","v":""},"",""]
[181,{"$f":"IF(MAX('Formet 8'!$A$12:$A$213)<$A187,\"\",VLOOKUP($A187,'Formet 8'!$A$12:$O$213,4,0))","v":""},{"$f":"IF(MAX('Formet 8'!$A$12:$A$213)<$A187,\"\",VLOOKUP($A187,'Formet 8'!$A$12:$O$213,7,0))","v":""},{"$f":"IF(MAX('Formet 8'!$A$12:$A$213)<$A187,\"\",VLOOKUP($A187,'Formet 8'!$A$12:$O$213,9,0))","v":""},{"$f":"IF(AND(D187=\"\"),\"\",'Formet 8'!E$218)","v":""},"",""]
[182,{"$f":"IF(MAX('Formet 8'!$A$12:$A$213)<$A188,\"\",VLOOKUP($A188,'Formet 8'!$A$12:$O$213,4,0))","v":""},{"$f":"IF(MAX('Formet 8'!$A$12:$A$213)<$A188,\"\",VLOOKUP($A188,'Formet 8'!$A$12:$O$213,7,0))","v":""},{"$f":"IF(MAX('Formet 8'!$A$12:$A$213)<$A188,\"\",VLOOKUP($A188,'Formet 8'!$A$12:$O$213,9,0))","v":""},{"$f":"IF(AND(D188=\"\"),\"\",'Formet 8'!E$218)","v":""},"",""]
[183,{"$f":"IF(MAX('Formet 8'!$A$12:$A$213)<$A189,\"\",VLOOKUP($A189,'Formet 8'!$A$12:$O$213,4,0))","v":""},{"$f":"IF(MAX('Formet 8'!$A$12:$A$213)<$A189,\"\",VLOOKUP($A189,'Formet 8'!$A$12:$O$213,7,0))","v":""},{"$f":"IF(MAX('Formet 8'!$A$12:$A$213)<$A189,\"\",VLOOKUP($A189,'Formet 8'!$A$12:$O$213,9,0))","v":""},{"$f":"IF(AND(D189=\"\"),\"\",'Formet 8'!E$218)","v":""},"",""]
[184,{"$f":"IF(MAX('Formet 8'!$A$12:$A$213)<$A190,\"\",VLOOKUP($A190,'Formet 8'!$A$12:$O$213,4,0))","v":""},{"$f":"IF(MAX('Formet 8'!$A$12:$A$213)<$A190,\"\",VLOOKUP($A190,'Formet 8'!$A$12:$O$213,7,0))","v":""},{"$f":"IF(MAX('Formet 8'!$A$12:$A$213)<$A190,\"\",VLOOKUP($A190,'Formet 8'!$A$12:$O$213,9,0))","v":""},{"$f":"IF(AND(D190=\"\"),\"\",'Formet 8'!E$218)","v":""},"",""]
[185,{"$f":"IF(MAX('Formet 8'!$A$12:$A$213)<$A191,\"\",VLOOKUP($A191,'Formet 8'!$A$12:$O$213,4,0))","v":""},{"$f":"IF(MAX('Formet 8'!$A$12:$A$213)<$A191,\"\",VLOOKUP($A191,'Formet 8'!$A$12:$O$213,7,0))","v":""},{"$f":"IF(MAX('Formet 8'!$A$12:$A$213)<$A191,\"\",VLOOKUP($A191,'Formet 8'!$A$12:$O$213,9,0))","v":""},{"$f":"IF(AND(D191=\"\"),\"\",'Formet 8'!E$218)","v":""},"",""]
[186,{"$f":"IF(MAX('Formet 8'!$A$12:$A$213)<$A192,\"\",VLOOKUP($A192,'Formet 8'!$A$12:$O$213,4,0))","v":""},{"$f":"IF(MAX('Formet 8'!$A$12:$A$213)<$A192,\"\",VLOOKUP($A192,'Formet 8'!$A$12:$O$213,7,0))","v":""},{"$f":"IF(MAX('Formet 8'!$A$12:$A$213)<$A192,\"\",VLOOKUP($A192,'Formet 8'!$A$12:$O$213,9,0))","v":""},{"$f":"IF(AND(D192=\"\"),\"\",'Formet 8'!E$218)","v":""},"",""]
[187,{"$f":"IF(MAX('Formet 8'!$A$12:$A$213)<$A193,\"\",VLOOKUP($A193,'Formet 8'!$A$12:$O$213,4,0))","v":""},{"$f":"IF(MAX('Formet 8'!$A$12:$A$213)<$A193,\"\",VLOOKUP($A193,'Formet 8'!$A$12:$O$213,7,0))","v":""},{"$f":"IF(MAX('Formet 8'!$A$12:$A$213)<$A193,\"\",VLOOKUP($A193,'Formet 8'!$A$12:$O$213,9,0))","v":""},{"$f":"IF(AND(D193=\"\"),\"\",'Formet 8'!E$218)","v":""},"",""]
[188,{"$f":"IF(MAX('Formet 8'!$A$12:$A$213)<$A194,\"\",VLOOKUP($A194,'Formet 8'!$A$12:$O$213,4,0))","v":""},{"$f":"IF(MAX('Formet 8'!$A$12:$A$213)<$A194,\"\",VLOOKUP($A194,'Formet 8'!$A$12:$O$213,7,0))","v":""},{"$f":"IF(MAX('Formet 8'!$A$12:$A$213)<$A194,\"\",VLOOKUP($A194,'Formet 8'!$A$12:$O$213,9,0))","v":""},{"$f":"IF(AND(D194=\"\"),\"\",'Formet 8'!E$218)","v":""},"",""]
[189,{"$f":"IF(MAX('Formet 8'!$A$12:$A$213)<$A195,\"\",VLOOKUP($A195,'Formet 8'!$A$12:$O$213,4,0))","v":""},{"$f":"IF(MAX('Formet 8'!$A$12:$A$213)<$A195,\"\",VLOOKUP($A195,'Formet 8'!$A$12:$O$213,7,0))","v":""},{"$f":"IF(MAX('Formet 8'!$A$12:$A$213)<$A195,\"\",VLOOKUP($A195,'Formet 8'!$A$12:$O$213,9,0))","v":""},{"$f":"IF(AND(D195=\"\"),\"\",'Formet 8'!E$218)","v":""},"",""]
[190,{"$f":"IF(MAX('Formet 8'!$A$12:$A$213)<$A196,\"\",VLOOKUP($A196,'Formet 8'!$A$12:$O$213,4,0))","v":""},{"$f":"IF(MAX('Formet 8'!$A$12:$A$213)<$A196,\"\",VLOOKUP($A196,'Formet 8'!$A$12:$O$213,7,0))","v":""},{"$f":"IF(MAX('Formet 8'!$A$12:$A$213)<$A196,\"\",VLOOKUP($A196,'Formet 8'!$A$12:$O$213,9,0))","v":""},{"$f":"IF(AND(D196=\"\"),\"\",'Formet 8'!E$218)","v":""},"",""]
[191,{"$f":"IF(MAX('Formet 8'!$A$12:$A$213)<$A197,\"\",VLOOKUP($A197,'Formet 8'!$A$12:$O$213,4,0))","v":""},{"$f":"IF(MAX('Formet 8'!$A$12:$A$213)<$A197,\"\",VLOOKUP($A197,'Formet 8'!$A$12:$O$213,7,0))","v":""},{"$f":"IF(MAX('Formet 8'!$A$12:$A$213)<$A197,\"\",VLOOKUP($A197,'Formet 8'!$A$12:$O$213,9,0))","v":""},{"$f":"IF(AND(D197=\"\"),\"\",'Formet 8'!E$218)","v":""},"",""]
[192,{"$f":"IF(MAX('Formet 8'!$A$12:$A$213)<$A198,\"\",VLOOKUP($A198,'Formet 8'!$A$12:$O$213,4,0))","v":""},{"$f":"IF(MAX('Formet 8'!$A$12:$A$213)<$A198,\"\",VLOOKUP($A198,'Formet 8'!$A$12:$O$213,7,0))","v":""},{"$f":"IF(MAX('Formet 8'!$A$12:$A$213)<$A198,\"\",VLOOKUP($A198,'Formet 8'!$A$12:$O$213,9,0))","v":""},{"$f":"IF(AND(D198=\"\"),\"\",'Formet 8'!E$218)","v":""},"",""]
[193,{"$f":"IF(MAX('Formet 8'!$A$12:$A$213)<$A199,\"\",VLOOKUP($A199,'Formet 8'!$A$12:$O$213,4,0))","v":""},{"$f":"IF(MAX('Formet 8'!$A$12:$A$213)<$A199,\"\",VLOOKUP($A199,'Formet 8'!$A$12:$O$213,7,0))","v":""},{"$f":"IF(MAX('Formet 8'!$A$12:$A$213)<$A199,\"\",VLOOKUP($A199,'Formet 8'!$A$12:$O$213,9,0))","v":""},{"$f":"IF(AND(D199=\"\"),\"\",'Formet 8'!E$218)","v":""},"",""]
[194,{"$f":"IF(MAX('Formet 8'!$A$12:$A$213)<$A200,\"\",VLOOKUP($A200,'Formet 8'!$A$12:$O$213,4,0))","v":""},{"$f":"IF(MAX('Formet 8'!$A$12:$A$213)<$A200,\"\",VLOOKUP($A200,'Formet 8'!$A$12:$O$213,7,0))","v":""},{"$f":"IF(MAX('Formet 8'!$A$12:$A$213)<$A200,\"\",VLOOKUP($A200,'Formet 8'!$A$12:$O$213,9,0))","v":""},{"$f":"IF(AND(D200=\"\"),\"\",'Formet 8'!E$218)","v":""},"",{"$f":"IF(AND(D200=\"\"),\"\",(ROUND(D200*103%,0)*E200*3)+F200)","v":""}]
[195,{"$f":"IF(MAX('Formet 8'!$A$12:$A$213)<$A201,\"\",VLOOKUP($A201,'Formet 8'!$A$12:$O$213,4,0))","v":""},{"$f":"IF(MAX('Formet 8'!$A$12:$A$213)<$A201,\"\",VLOOKUP($A201,'Formet 8'!$A$12:$O$213,7,0))","v":""},{"$f":"IF(MAX('Formet 8'!$A$12:$A$213)<$A201,\"\",VLOOKUP($A201,'Formet 8'!$A$12:$O$213,9,0))","v":""},{"$f":"IF(AND(D201=\"\"),\"\",'Formet 8'!E$218)","v":""},"",""]
[196,{"$f":"IF(MAX('Formet 8'!$A$12:$A$213)<$A202,\"\",VLOOKUP($A202,'Formet 8'!$A$12:$O$213,4,0))","v":""},{"$f":"IF(MAX('Formet 8'!$A$12:$A$213)<$A202,\"\",VLOOKUP($A202,'Formet 8'!$A$12:$O$213,7,0))","v":""},{"$f":"IF(MAX('Formet 8'!$A$12:$A$213)<$A202,\"\",VLOOKUP($A202,'Formet 8'!$A$12:$O$213,9,0))","v":""},{"$f":"IF(AND(D202=\"\"),\"\",'Formet 8'!E$218)","v":""},"",""]
[197,{"$f":"IF(MAX('Formet 8'!$A$12:$A$213)<$A203,\"\",VLOOKUP($A203,'Formet 8'!$A$12:$O$213,4,0))","v":""},{"$f":"IF(MAX('Formet 8'!$A$12:$A$213)<$A203,\"\",VLOOKUP($A203,'Formet 8'!$A$12:$O$213,7,0))","v":""},{"$f":"IF(MAX('Formet 8'!$A$12:$A$213)<$A203,\"\",VLOOKUP($A203,'Formet 8'!$A$12:$O$213,9,0))","v":""},{"$f":"IF(AND(D203=\"\"),\"\",'Formet 8'!E$218)","v":""},"",""]
[198,{"$f":"IF(MAX('Formet 8'!$A$12:$A$213)<$A204,\"\",VLOOKUP($A204,'Formet 8'!$A$12:$O$213,4,0))","v":""},{"$f":"IF(MAX('Formet 8'!$A$12:$A$213)<$A204,\"\",VLOOKUP($A204,'Formet 8'!$A$12:$O$213,7,0))","v":""},{"$f":"IF(MAX('Formet 8'!$A$12:$A$213)<$A204,\"\",VLOOKUP($A204,'Formet 8'!$A$12:$O$213,9,0))","v":""},{"$f":"IF(AND(D204=\"\"),\"\",'Formet 8'!E$218)","v":""},{"$f":"IF(AND(D204=\"\"),\"\",ROUND((D204*E204)*3,0))","v":""},""]
[199,{"$f":"IF(MAX('Formet 8'!$A$12:$A$213)<$A205,\"\",VLOOKUP($A205,'Formet 8'!$A$12:$O$213,4,0))","v":""},{"$f":"IF(MAX('Formet 8'!$A$12:$A$213)<$A205,\"\",VLOOKUP($A205,'Formet 8'!$A$12:$O$213,7,0))","v":""},{"$f":"IF(MAX('Formet 8'!$A$12:$A$213)<$A205,\"\",VLOOKUP($A205,'Formet 8'!$A$12:$O$213,9,0))","v":""},{"$f":"IF(AND(D205=\"\"),\"\",'Formet 8'!E$218)","v":""},"",""]
[200,{"$f":"IF(MAX('Formet 8'!$A$12:$A$213)<$A206,\"\",VLOOKUP($A206,'Formet 8'!$A$12:$O$213,4,0))","v":""},{"$f":"IF(MAX('Formet 8'!$A$12:$A$213)<$A206,\"\",VLOOKUP($A206,'Formet 8'!$A$12:$O$213,7,0))","v":""},{"$f":"IF(MAX('Formet 8'!$A$12:$A$213)<$A206,\"\",VLOOKUP($A206,'Formet 8'!$A$12:$O$213,9,0))","v":""},{"$f":"IF(AND(D206=\"\"),\"\",'Formet 8'!E$218)","v":""},"",""]
[{"$nulls":5},{"$f":"SUM(F7:F206)","v":0},{"$f":"SUM(G7:G206)","v":0}]
[]
[{"$nulls":5},{"$f":"'Fix Pay'!F120","v":"ç/kkukpk;Z] jkmekfo jk;eyok³k ¼vkWfQl vkbZ-Mh- la[;k %&12572½"}]

{"sheet":"Sanvida","index":30,"n_rows":33,"n_cols":64,"rows_kept":33,"merged":[[0,8,0,10],[0,11,33,11],[1,0,1,10],[2,0,2,10],[3,0,3,10],[4,0,4,10],[5,0,5,10],[28,0,28,7],[29,0,1048575,7],[29,8,29,10],[31,8,31,10],[32,8,33,10]]}
[{"$nulls":8},{"$f":"CONCATENATE(Master!C3,Master!E3)","v":"vkWfQl vkbZ-Mh- la[;k %12572"}]
[{"$f":"Summary!$A$3","v":"Principal Govt. Sr. Sec. School Raimalwada"},{"$nulls":11},"Grade Pay",1300,1400,1650,1800,1850,1900,2000,2100,2400,2800,3200,3600,4200,4800,5400,6000,6600,6800,7200,7600,8200,8700,8900,10000]
["Income-Expenditure Estimate Of Salary",{"$nulls":11},"FIX PAY",4850,5050,5300,5600,5900,6100,6400,6750,7900,8950,10000,11100,13050,15000,16800,18200,20200,21300,22600,23950,26650,36900,38900,43800,"PRINCIPAL (16)","V P (14)","H M (14)","AGRICULTURE INST (13)","TEACHER-1ST (13)","PTI  I  (13)","AGRICULTURE TEACH (13)","INSTRUCTOR (13)","JR TEACHER (13)","LIBRARIAN I (13)","ASSISTANT (11)","TEACHER-2ND (12)","JR TEACHER (12)","PTI   II  (12)","LIBRARIAN II (12)","LAB ASST (11)","UDC (9)","PTI  III  (10)","TEACHER-3RD (10)","LIBRARIAN III (10)","LAB ASST (9)","LDC (6)","FIELDMAN & FIELD REC (6) ","LAB BOY (2)","JAMADAR (2)","PEON (2)","PEON (1)"]
["For FY - 2024-25 (April 2024 to March 2025)"]
["FORM 1-POST WISE SALARY DETAIL - (FIXED -SANVIDA)"]
[{"$f":"abc!A4","v":"BUDGET HEAD : 2202 -सामान्य शिक्षा-02-109 -राजकीय माध्यमिक विद्यालय-27 -लडकों के विद्यालय-01 -लडकों के विद्यालयों का संचालन व्यय   (STATE FUND)"}]
["S.No.","Name of Employee","Post","Date of Joining","Date Completion of Probatation","Pay Band","Grade Pay","Salary on 1st March 25","Salary of 12 Month",{"$f":"'GA2'!K6","v":"Budget Estimate for 2026­27"},{"$f":"'GA2'!J6","v":"Revised Estimates for 2025­26"}]
[1,2,3,4,5,6,7,8,10,12,13]
[1,{"$f":"IF('Formet 8'!D348=\"\",\"\",'Formet 8'!D348)","v":""},{"$f":"IF('Formet 8'!D348=\"\",\"\",'Formet 8'!G348)","v":""},"--","--",{"$f":"IF('Formet 8'!D348=\"\",\"\",'Formet 8'!F348)","v":""},{"$f":"IF('Formet 8'!D348=\"\",\"\",'Formet 8'!H348)","v":""},{"$f":"IF('Formet 8'!D348=\"\",\"\",'Formet 8'!I348)","v":""},{"$f":"IF('Formet 8'!D348=\"\",\"\",H9*12)","v":""},{"$f":"V9","v":""},{"$f":"S9","v":""},null,null,{"$f":"H9","v":""},{"$f":"IF(N9=\"\",\"\",ROUNDUP(N9*1.05,-2))","v":""},{"$f":"IF(N9=\"\",\"\",ROUNDUP(O9*1.05,-2))","v":""},{"$f":"IF(N9=\"\",\"\",N9*6)","v":""},{"$f":"IF(N9=\"\",\"\",O9*6)","v":""},{"$f":"IF(N9=\"\",\"\",Q9+R9)","v":""},{"$f":"IF(N9=\"\",\"\",O9*6)","v":""},{"$f":"IF(N9=\"\",\"\",P9*6)","v":""},{"$f":"IF(N9=\"\",\"\",T9+U9)","v":""}]
[2,{"$f":"IF('Formet 8'!D349=\"\",\"\",'Formet 8'!D349)","v":""},{"$f":"IF('Formet 8'!D349=\"\",\"\",'Formet 8'!G349)","v":""},"--","--",{"$f":"IF('Formet 8'!D349=\"\",\"\",'Formet 8'!F349)","v":""},{"$f":"IF('Formet 8'!D349=\"\",\"\",'Formet 8'!H349)","v":""},{"$f":"IF('Formet 8'!D349=\"\",\"\",'Formet 8'!I349)","v":""},{"$f":"IF('Formet 8'!D349=\"\",\"\",H10*12)","v":""},{"$f":"V10","v":""},{"$f":"S10","v":""},null,null,{"$f":"H10","v":""},{"$f":"IF(N10=\"\",\"\",ROUNDUP(N10*1.05,-2))","v":""},{"$f":"IF(N10=\"\",\"\",ROUNDUP(O10*1.05,-2))","v":""},{"$f":"IF(N10=\"\",\"\",N10*6)","v":""},{"$f":"IF(N10=\"\",\"\",O10*6)","v":""},{"$f":"IF(N10=\"\",\"\",Q10+R10)","v":""},{"$f":"IF(N10=\"\",\"\",O10*6)","v":""},{"$f":"IF(N10=\"\",\"\",P10*6)","v":""},{"$f":"IF(N10=\"\",\"\",T10+U10)","v":""}]
[3,{"$f":"IF('Formet 8'!D350=\"\",\"\",'Formet 8'!D350)","v":""},{"$f":"IF('Formet 8'!D350=\"\",\"\",'Formet 8'!G350)","v":""},"--","--",{"$f":"IF('Formet 8'!D350=\"\",\"\",'Formet 8'!F350)","v":""},{"$f":"IF('Formet 8'!D350=\"\",\"\",'Formet 8'!H350)","v":""},{"$f":"IF('Formet 8'!D350=\"\",\"\",'Formet 8'!I350)","v":""},{"$f":"IF('Formet 8'!D350=\"\",\"\",H11*12)","v":""},"","",null,null,"","","","","","","","",""]
[4,{"$f":"IF('Formet 8'!D351=\"\",\"\",'Formet 8'!D351)","v":""},{"$f":"IF('Formet 8'!D351=\"\",\"\",'Formet 8'!G351)","v":""},"--","--",{"$f":"IF('Formet 8'!D351=\"\",\"\",'Formet 8'!F351)","v":""},{"$f":"IF('Formet 8'!D351=\"\",\"\",'Formet 8'!H351)","v":""},{"$f":"IF('Formet 8'!D351=\"\",\"\",'Formet 8'!I351)","v":""},{"$f":"IF('Formet 8'!D351=\"\",\"\",H12*12)","v":""},"","",null,null,"","","","","","","","",""]
[5,{"$f":"IF('Formet 8'!D352=\"\",\"\",'Formet 8'!D352)","v":""},{"$f":"IF('Formet 8'!D352=\"\",\"\",'Formet 8'!G352)","v":""},"--","--",{"$f":"IF('Formet 8'!D352=\"\",\"\",'Formet 8'!F352)","v":""},{"$f":"IF('Formet 8'!D352=\"\",\"\",'Formet 8'!H352)","v":""},{"$f":"IF('Formet 8'!D352=\"\",\"\",'Formet 8'!I352)","v":""},{"$f":"IF('Formet 8'!D352=\"\",\"\",H13*12)","v":""},"","",null,null,"","","","","","","","",""]
[6,{"$f":"IF('Formet 8'!D353=\"\",\"\",'Formet 8'!D353)","v":""},{"$f":"IF('Formet 8'!D353=\"\",\"\",'Formet 8'!G353)","v":""},"--","--",{"$f":"IF('Formet 8'!D353=\"\",\"\",'Formet 8'!F353)","v":""},{"$f":"IF('Formet 8'!D353=\"\",\"\",'Formet 8'!H353)","v":""},{"$f":"IF('Formet 8'!D353=\"\",\"\",'Formet 8'!I353)","v":""},{"$f":"IF('Formet 8'!D353=\"\",\"\",H14*12)","v":""},"","",null,null,"","","","","","","","",""]
[7,{"$f":"IF('Formet 8'!D354=\"\",\"\",'Formet 8'!D354)","v":""},{"$f":"IF('Formet 8'!D354=\"\",\"\",'Formet 8'!G354)","v":""},"--","--",{"$f":"IF('Formet 8'!D354=\"\",\"\",'Formet 8'!F354)","v":""},{"$f":"IF('Formet 8'!D354=\"\",\"\",'Formet 8'!H354)","v":""},{"$f":"IF('Formet 8'!D354=\"\",\"\",'Formet 8'!I354)","v":""},{"$f":"IF('Formet 8'!D354=\"\",\"\",H15*12)","v":""},"","",null,null,"","","","","","","","",""]
[8,{"$f":"IF('Formet 8'!D355=\"\",\"\",'Formet 8'!D355)","v":""},{"$f":"IF('Formet 8'!D355=\"\",\"\",'Formet 8'!G355)","v":""},"--","--",{"$f":"IF('Formet 8'!D355=\"\",\"\",'Formet 8'!F355)","v":""},{"$f":"IF('Formet 8'!D355=\"\",\"\",'Formet 8'!H355)","v":""},{"$f":"IF('Formet 8'!D355=\"\",\"\",'Formet 8'!I355)","v":""},{"$f":"IF('Formet 8'!D355=\"\",\"\",H16*12)","v":""},"","",null,null,"","","","","","","","",""]
[9,{"$f":"IF('Formet 8'!D356=\"\",\"\",'Formet 8'!D356)","v":""},{"$f":"IF('Formet 8'!D356=\"\",\"\",'Formet 8'!G356)","v":""},"--","--",{"$f":"IF('Formet 8'!D356=\"\",\"\",'Formet 8'!F356)","v":""},{"$f":"IF('Formet 8'!D356=\"\",\"\",'Formet 8'!H356)","v":""},{"$f":"IF('Formet 8'!D356=\"\",\"\",'Formet 8'!I356)","v":""},{"$f":"IF('Formet 8'!D356=\"\",\"\",H17*12)","v":""},"","",null,null,"","","","","","","","",""]
[10,{"$f":"IF('Formet 8'!D357=\"\",\"\",'Formet 8'!D357)","v":""},{"$f":"IF('Formet 8'!D357=\"\",\"\",'Formet 8'!G357)","v":""},"--","--",{"$f":"IF('Formet 8'!D357=\"\",\"\",'Formet 8'!F357)","v":""},{"$f":"IF('Formet 8'!D357=\"\",\"\",'Formet 8'!H357)","v":""},{"$f":"IF('Formet 8'!D357=\"\",\"\",'Formet 8'!I357)","v":""},{"$f":"IF('Formet 8'!D357=\"\",\"\",H18*12)","v":""},"","",null,null,"","","","","","","","",""]
[11,{"$f":"IF('Formet 8'!D358=\"\",\"\",'Formet 8'!D358)","v":""},{"$f":"IF('Formet 8'!D358=\"\",\"\",'Formet 8'!G358)","v":""},"--","--",{"$f":"IF('Formet 8'!D358=\"\",\"\",'Formet 8'!F358)","v":""},{"$f":"IF('Formet 8'!D358=\"\",\"\",'Formet 8'!H358)","v":""},{"$f":"IF('Formet 8'!D358=\"\",\"\",'Formet 8'!I358)","v":""},{"$f":"IF('Formet 8'!D358=\"\",\"\",H19*12)","v":""},"","",null,null,"","","","","","","","",""]
[12,{"$f":"IF('Formet 8'!D359=\"\",\"\",'Formet 8'!D359)","v":""},{"$f":"IF('Formet 8'!D359=\"\",\"\",'Formet 8'!G359)","v":""},"--","--",{"$f":"IF('Formet 8'!D359=\"\",\"\",'Formet 8'!F359)","v":""},{"$f":"IF('Formet 8'!D359=\"\",\"\",'Formet 8'!H359)","v":""},{"$f":"IF('Formet 8'!D359=\"\",\"\",'Formet 8'!I359)","v":""},{"$f":"IF('Formet 8'!D359=\"\",\"\",H20*12)","v":""},"","",null,null,"","","","","","","","",""]
[13,{"$f":"IF('Formet 8'!D360=\"\",\"\",'Formet 8'!D360)","v":""},{"$f":"IF('Formet 8'!D360=\"\",\"\",'Formet 8'!G360)","v":""},"--","--",{"$f":"IF('Formet 8'!D360=\"\",\"\",'Formet 8'!F360)","v":""},{"$f":"IF('Formet 8'!D360=\"\",\"\",'Formet 8'!H360)","v":""},{"$f":"IF('Formet 8'!D360=\"\",\"\",'Formet 8'!I360)","v":""},{"$f":"IF('Formet 8'!D360=\"\",\"\",H21*12)","v":""},"","",null,null,"","","","","","","","",""]
[14,{"$f":"IF('Formet 8'!D361=\"\",\"\",'Formet 8'!D361)","v":""},{"$f":"IF('Formet 8'!D361=\"\",\"\",'Formet 8'!G361)","v":""},"--","--",{"$f":"IF('Formet 8'!D361=\"\",\"\",'Formet 8'!F361)","v":""},{"$f":"IF('Formet 8'!D361=\"\",\"\",'Formet 8'!H361)","v":""},{"$f":"IF('Formet 8'!D361=\"\",\"\",'Formet 8'!I361)","v":""},{"$f":"IF('Formet 8'!D361=\"\",\"\",H22*12)","v":""},"","",null,null,"","","","","","","","",""]
[15,{"$f":"IF('Formet 8'!D362=\"\",\"\",'Formet 8'!D362)","v":""},{"$f":"IF('Formet 8'!D362=\"\",\"\",'Formet 8'!G362)","v":""},"--","--",{"$f":"IF('Formet 8'!D362=\"\",\"\",'Formet 8'!F362)","v":""},{"$f":"IF('Formet 8'!D362=\"\",\"\",'Formet 8'!H362)","v":""},{"$f":"IF('Formet 8'!D362=\"\",\"\",'Formet 8'!I362)","v":""},{"$f":"IF('Formet 8'!D362=\"\",\"\",H23*12)","v":""},"","",null,null,"","","","","","","","",""]
[16,{"$f":"IF('Formet 8'!D363=\"\",\"\",'Formet 8'!D363)","v":""},{"$f":"IF('Formet 8'!D363=\"\",\"\",'Formet 8'!G363)","v":""},"--","--",{"$f":"IF('Formet 8'!D363=\"\",\"\",'Formet 8'!F363)","v":""},{"$f":"IF('Formet 8'!D363=\"\",\"\",'Formet 8'!H363)","v":""},{"$f":"IF('Formet 8'!D363=\"\",\"\",'Formet 8'!I363)","v":""},{"$f":"IF('Formet 8'!D363=\"\",\"\",H24*12)","v":""},"","",null,null,"","","","","","","","",""]
[17,{"$f":"IF('Formet 8'!D364=\"\",\"\",'Formet 8'!D364)","v":""},{"$f":"IF('Formet 8'!D364=\"\",\"\",'Formet 8'!G364)","v":""},"--","--",{"$f":"IF('Formet 8'!D364=\"\",\"\",'Formet 8'!F364)","v":""},{"$f":"IF('Formet 8'!D364=\"\",\"\",'Formet 8'!H364)","v":""},{"$f":"IF('Formet 8'!D364=\"\",\"\",'Formet 8'!I364)","v":""},{"$f":"IF('Formet 8'!D364=\"\",\"\",H25*12)","v":""},"","",null,null,"","","","","","","","",""]
[18,{"$f":"IF('Formet 8'!D365=\"\",\"\",'Formet 8'!D365)","v":""},{"$f":"IF('Formet 8'!D365=\"\",\"\",'Formet 8'!G365)","v":""},"--","--",{"$f":"IF('Formet 8'!D365=\"\",\"\",'Formet 8'!F365)","v":""},{"$f":"IF('Formet 8'!D365=\"\",\"\",'Formet 8'!H365)","v":""},{"$f":"IF('Formet 8'!D365=\"\",\"\",'Formet 8'!I365)","v":""},{"$f":"IF('Formet 8'!D365=\"\",\"\",H26*12)","v":""},"","",null,null,"","","","","","","","",""]
[19,{"$f":"IF('Formet 8'!D366=\"\",\"\",'Formet 8'!D366)","v":""},{"$f":"IF('Formet 8'!D366=\"\",\"\",'Formet 8'!G366)","v":""},"--","--",{"$f":"IF('Formet 8'!D366=\"\",\"\",'Formet 8'!F366)","v":""},{"$f":"IF('Formet 8'!D366=\"\",\"\",'Formet 8'!H366)","v":""},{"$f":"IF('Formet 8'!D366=\"\",\"\",'Formet 8'!I366)","v":""},{"$f":"IF('Formet 8'!D366=\"\",\"\",H27*12)","v":""},"","",null,null,"","","","","","","","",""]
[20,{"$f":"IF('Formet 8'!D367=\"\",\"\",'Formet 8'!D367)","v":""},{"$f":"IF('Formet 8'!D367=\"\",\"\",'Formet 8'!G367)","v":""},"--","--",{"$f":"IF('Formet 8'!D367=\"\",\"\",'Formet 8'!F367)","v":""},{"$f":"IF('Formet 8'!D367=\"\",\"\",'Formet 8'!H367)","v":""},{"$f":"IF('Formet 8'!D367=\"\",\"\",'Formet 8'!I367)","v":""},{"$f":"IF('Formet 8'!D367=\"\",\"\",H28*12)","v":""},"","",null,null,"","","","","","","","",""]
["TOTAL",{"$nulls":7},{"$f":"SUM(I9:I28)","v":0},{"$f":"SUM(J9:J28)","v":0},0]
[]
[]
[{"$nulls":8},{"$f":"Master!E2","v":"ç/kkukpk;Z]"}]
[{"$nulls":8},{"$f":"Master!H2","v":"jkmekfo jk;eyok³k"}]

{"sheet":"Income","index":31,"n_rows":19,"n_cols":6,"rows_kept":19,"hidden":true,"merged":[[0,4,0,5],[1,0,1,5],[2,0,2,5],[3,0,3,3],[3,4,3,5],[4,0,4,3],[5,0,5,3],[6,0,8,0],[6,1,8,1],[9,0,9,3],[10,0,12,0],[10,1,12,1],[13,0,13,3],[17,4,17,5],[18,4,18,5]]}
[{"$nulls":4},{"$f":"Summary!$C$1","v":{"v":12572,"d":"OFFICE ID 12572"}}]
[{"$f":"Summary!$A$2","v":"ç/kkukpk;Z] jkmekfo jk;eyok³k ¼vkWfQl vkbZ-Mh- la[;k %&12572½"}]
["vk; O;;d vuqeku 2018&19 ,oa la'kksf/kr vuqeku 2019&20"]
["ek/;fed fo|ky;ks dh la[;k",{"$nulls":3},"                        ek/;fed f'k{kk                                                       "]
["lhfu;j mPp ek/;fed fo|ky;ks dh la[;k"]
["fooj.k",{"$nulls":3},"o\"kZ 2019&2020 dk la'kksf/kr vuqeku","o\"kZ 2020&2021 dk vk; O;;d vuqeku"]
["1-","va'knku @ o`fRrnku ls vk;","1-","va'knku o`fRrnku nkrk dk uke o iz;kstu"]
[null,null,"¼d½","Jh@Jherh ------------------------------------------------------------",0,0]
[null,null,"¼[k½","Jh@Jherh ------------------------------------------------------------",0,0]
["dqy ;ksx ¼va'knku @ o`fRrnku½",{"$nulls":3},{"$f":"SUM(E7:E9)","v":0},{"$f":"SUM(F7:F9)","v":0}]
["2-","fofo/k vk; dk fooj.k","1-","viz;ksT; lkeku dh uhykeh }kjk vk;",0,0]
[null,null,"2-","'kkyk Hkou dk vU; iz;kstu esa mi;ksx ysus ij 'kqYd ls vk;",0,0]
[null,null,"3-","vU; fofo/k vk;",0,0]
["dqy fofo/k vk;",{"$nulls":3},{"$f":"SUM(E10:E13)","v":0},{"$f":"SUM(F10:F13)","v":0}]
[]
[]
[]
[{"$nulls":4},{"$f":"Master!E2","v":"ç/kkukpk;Z]"}]
[{"$nulls":4},{"$f":"Master!F2","v":0}]

{"sheet":"Vardi","index":32,"n_rows":11,"n_cols":11,"rows_kept":11,"merged":[[0,3,0,4],[0,8,0,10],[0,11,11,11],[1,0,1,10],[2,0,2,10],[3,0,3,10],[7,0,12,7],[7,8,8,10],[9,8,9,10],[10,8,12,10]]}
[{"$nulls":8},{"$f":"Summary!$C$1","v":{"v":12572,"d":"OFFICE ID 12572"}}]
[{"$f":"Summary!$A$2","v":"ç/kkukpk;Z] jkmekfo jk;eyok³k ¼vkWfQl vkbZ-Mh- la[;k %&12572½"}]
["ofnZ;ksa ds O;; dk izi=  "]
[{"$f":"Summary!A5","v":"BUDGET HEAD : 2202 -सामान्य शिक्षा-02-109 -राजकीय माध्यमिक विद्यालय-27 -लडकों के विद्यालय-01 -लडकों के विद्यालयों का संचालन व्यय   (STATE FUND)"}]
["Ø-la0","dkfeZd dh la[;k","efgyk","nj","jkf'k","iq#\"k","nj","jkf'k",";ksx","izkIr ctV vkoaVu 2024&25","vf/kD;@cpr"]
[1,4,5,6,"7(5X6)",8,9,"10(8X9)","11(7+10)",12,"13(11-12)"]
[1,0,0,2350,{"$f":"C7*D7","v":0},0,2000,{"$f":"F7*G7","v":0},{"$f":"E7+H7","v":0},0,0]
[]
[]
[{"$nulls":8},{"$f":"Master!E2","v":"ç/kkukpk;Z]"}]
[{"$nulls":8},{"$f":"Master!H2","v":"jkmekfo jk;eyok³k"}]

{"sheet":"7th pay fix. arr.","index":33,"n_rows":41,"n_cols":9,"rows_kept":41,"hidden":true,"merged":[[0,3,0,4],[0,7,0,8],[1,0,1,8],[2,0,2,8],[3,0,3,8],[4,0,4,8],[39,7,39,8],[40,7,41,8]]}
[{"$nulls":7},{"$f":"Summary!$C$1","v":{"v":12572,"d":"OFFICE ID 12572"}}]
[{"$f":"Summary!$A$2","v":"ç/kkukpk;Z] jkmekfo jk;eyok³k ¼vkWfQl vkbZ-Mh- la[;k %&12572½"}]
["lkrosa osru ds fQDls'ku ,fj;j O;; dk izi=  "]
[{"$f":"Summary!A5","v":"BUDGET HEAD : 2202 -सामान्य शिक्षा-02-109 -राजकीय माध्यमिक विद्यालय-27 -लडकों के विद्यालय-01 -लडकों के विद्यालयों का संचालन व्यय   (STATE FUND)"}]
["7th pay Fixation arrear paid & to be paid  during 2019-20"]
["S.No","Name","Post ","1st 30%","2nd 30%","3rd 40%","01-10-17 to -------","Total","Budget (NP,PLAN etc"]
[1,{"$f":"IF(AND(Master!D61=\"\"),\"\",Master!D61)","v":"gfdgd"},{"$f":"IF(AND(Master!E61=\"\"),\"\",Master!E61)","v":""},{"$nulls":4},{"$f":"IF(AND(B7=\"\"),\"\",D7+E7+F7+G7)","v":0}]
[2,{"$f":"IF(AND(Master!D62=\"\"),\"\",Master!D62)","v":""},{"$f":"IF(AND(Master!E62=\"\"),\"\",Master!E62)","v":""},{"$nulls":4},{"$f":"IF(AND(B8=\"\"),\"\",D8+E8+F8+G8)","v":""}]
[3,{"$f":"IF(AND(Master!D63=\"\"),\"\",Master!D63)","v":""},{"$f":"IF(AND(Master!E63=\"\"),\"\",Master!E63)","v":""},{"$nulls":4},""]
[4,{"$f":"IF(AND(Master!D64=\"\"),\"\",Master!D64)","v":""},{"$f":"IF(AND(Master!E64=\"\"),\"\",Master!E64)","v":""},{"$nulls":4},""]
[5,{"$f":"IF(AND(Master!D65=\"\"),\"\",Master!D65)","v":""},{"$f":"IF(AND(Master!E65=\"\"),\"\",Master!E65)","v":""},{"$nulls":4},""]
[6,{"$f":"IF(AND(Master!D66=\"\"),\"\",Master!D66)","v":""},{"$f":"IF(AND(Master!E66=\"\"),\"\",Master!E66)","v":""},{"$nulls":4},""]
[7,{"$f":"IF(AND(Master!D67=\"\"),\"\",Master!D67)","v":""},{"$f":"IF(AND(Master!E67=\"\"),\"\",Master!E67)","v":""},{"$nulls":4},""]
[8,{"$f":"IF(AND(Master!D68=\"\"),\"\",Master!D68)","v":""},{"$f":"IF(AND(Master!E68=\"\"),\"\",Master!E68)","v":""},{"$nulls":4},""]
[9,{"$f":"IF(AND(Master!D69=\"\"),\"\",Master!D69)","v":""},{"$f":"IF(AND(Master!E69=\"\"),\"\",Master!E69)","v":""},{"$nulls":4},""]
[10,{"$f":"IF(AND(Master!D70=\"\"),\"\",Master!D70)","v":""},{"$f":"IF(AND(Master!E70=\"\"),\"\",Master!E70)","v":""},{"$nulls":4},""]
[11,{"$f":"IF(AND(Master!D71=\"\"),\"\",Master!D71)","v":""},{"$f":"IF(AND(Master!E71=\"\"),\"\",Master!E71)","v":""},{"$nulls":4},""]
[12,{"$f":"IF(AND(Master!D72=\"\"),\"\",Master!D72)","v":""},{"$f":"IF(AND(Master!E72=\"\"),\"\",Master!E72)","v":""},{"$nulls":4},""]
[13,{"$f":"IF(AND(Master!D73=\"\"),\"\",Master!D73)","v":""},{"$f":"IF(AND(Master!E73=\"\"),\"\",Master!E73)","v":""},{"$nulls":4},""]
[14,{"$f":"IF(AND(Master!D74=\"\"),\"\",Master!D74)","v":""},{"$f":"IF(AND(Master!E74=\"\"),\"\",Master!E74)","v":""},{"$nulls":4},""]
[15,{"$f":"IF(AND(Master!D75=\"\"),\"\",Master!D75)","v":""},{"$f":"IF(AND(Master!E75=\"\"),\"\",Master!E75)","v":""},{"$nulls":4},""]
[16,{"$f":"IF(AND(Master!D76=\"\"),\"\",Master!D76)","v":""},{"$f":"IF(AND(Master!E76=\"\"),\"\",Master!E76)","v":""},{"$nulls":4},""]
[17,{"$f":"IF(AND(Master!D77=\"\"),\"\",Master!D77)","v":""},{"$f":"IF(AND(Master!E77=\"\"),\"\",Master!E77)","v":""},{"$nulls":4},""]
[18,{"$f":"IF(AND(Master!D78=\"\"),\"\",Master!D78)","v":""},{"$f":"IF(AND(Master!E78=\"\"),\"\",Master!E78)","v":""},{"$nulls":4},""]
[19,{"$f":"IF(AND(Master!D79=\"\"),\"\",Master!D79)","v":""},{"$f":"IF(AND(Master!E79=\"\"),\"\",Master!E79)","v":""},{"$nulls":4},""]
[20,{"$f":"IF(AND(Master!D80=\"\"),\"\",Master!D80)","v":""},{"$f":"IF(AND(Master!E80=\"\"),\"\",Master!E80)","v":""},{"$nulls":4},""]
[21,{"$f":"IF(AND(Master!D81=\"\"),\"\",Master!D81)","v":""},{"$f":"IF(AND(Master!E81=\"\"),\"\",Master!E81)","v":""},{"$nulls":4},""]
[22,{"$f":"IF(AND(Master!D82=\"\"),\"\",Master!D82)","v":""},{"$f":"IF(AND(Master!E82=\"\"),\"\",Master!E82)","v":""},{"$nulls":4},""]
[23,{"$f":"IF(AND(Master!D83=\"\"),\"\",Master!D83)","v":""},{"$f":"IF(AND(Master!E83=\"\"),\"\",Master!E83)","v":""},{"$nulls":4},""]
[24,{"$f":"IF(AND(Master!D84=\"\"),\"\",Master!D84)","v":""},{"$f":"IF(AND(Master!E84=\"\"),\"\",Master!E84)","v":""},{"$nulls":4},""]
[25,{"$f":"IF(AND(Master!D85=\"\"),\"\",Master!D85)","v":""},{"$f":"IF(AND(Master!E85=\"\"),\"\",Master!E85)","v":""},{"$nulls":4},""]
[26,{"$f":"IF(AND(Master!D86=\"\"),\"\",Master!D86)","v":""},{"$f":"IF(AND(Master!E86=\"\"),\"\",Master!E86)","v":""},{"$nulls":4},""]
[27,{"$f":"IF(AND(Master!D87=\"\"),\"\",Master!D87)","v":""},{"$f":"IF(AND(Master!E87=\"\"),\"\",Master!E87)","v":""},{"$nulls":4},""]
[28,{"$f":"IF(AND(Master!D88=\"\"),\"\",Master!D88)","v":""},{"$f":"IF(AND(Master!E88=\"\"),\"\",Master!E88)","v":""},{"$nulls":4},""]
[29,{"$f":"IF(AND(Master!D89=\"\"),\"\",Master!D89)","v":""},{"$f":"IF(AND(Master!E89=\"\"),\"\",Master!E89)","v":""},{"$nulls":4},""]
[30,{"$f":"IF(AND(Master!D90=\"\"),\"\",Master!D90)","v":""},{"$f":"IF(AND(Master!E90=\"\"),\"\",Master!E90)","v":""},{"$nulls":4},""]
[31,{"$f":"IF(AND(Master!D91=\"\"),\"\",Master!D91)","v":""},{"$f":"IF(AND(Master!E91=\"\"),\"\",Master!E91)","v":""},{"$nulls":4},""]
[]
[]
[{"$nulls":7},{"$f":"Master!E2","v":"ç/kkukpk;Z]"}]
[{"$nulls":7},{"$f":"Master!F2","v":0}]

{"sheet":"vidhyarthimitra","index":34,"n_rows":16,"n_cols":8,"rows_kept":16,"hidden":true,"merged":[[0,0,0,7],[2,0,2,7],[3,0,3,1],[3,2,3,7],[4,0,4,7],[5,0,5,7],[14,5,14,6],[15,5,16,6]]}
[{"$f":"Summary!A2","v":"ç/kkukpk;Z] jkmekfo jk;eyok³k ¼vkWfQl vkbZ-Mh- la[;k %&12572½"}]
[]
["izi= & 4"]
[{"$f":"Summary!$C$1","v":{"v":12572,"d":"OFFICE ID 12572"}},null,{"$f":"Summary!A5","v":"BUDGET HEAD : 2202 -सामान्य शिक्षा-02-109 -राजकीय माध्यमिक विद्यालय-27 -लडकों के विद्यालय-01 -लडकों के विद्यालयों का संचालन व्यय   (STATE FUND)"}]
["lafonk ¼fo|kFkhZ fe= ;kstukUrxZr½ o\"kZ 2019&20 ds O;; dh lwpuk"]
[]
["dza-la-","Iyku@ukWu Iyku","lafonk fo|kFkhZ fe= dk uke","in ftlds fo:} dk;Zjr gS","fo\"k;","fo|ky; esa izFke dk;Zxzg.k frfFk","orZeku l= dh dk;Zxzg.k frfFk","okLrfod O;; 2018&19"]
[1,2,3,4,5,6,7,8]
[]
[{"$nulls":4},"NIL"]
[]
[{"$nulls":6},";ksx",{"$f":"SUM(H9:H11)","v":0}]
[]
[]
[{"$nulls":5},{"$f":"Master!E2","v":"ç/kkukpk;Z]"}]
[{"$nulls":5},{"$f":"Master!F2","v":0}]

{"sheet":"P-14","index":35,"n_rows":26,"n_cols":12,"rows_kept":26,"hidden":true,"merged":[[0,3,0,5],[0,6,0,7],[0,8,28,8],[1,0,1,7],[2,0,2,7],[3,0,3,1],[3,2,3,5],[4,0,4,7],[5,0,6,0],[5,1,6,1],[5,2,5,6],[14,0,14,7],[15,0,16,0],[15,1,16,1],[15,2,15,6],[23,0,23,7],[24,0,1048575,5],[24,6,24,7],[25,6,27,7]]}
[{"$nulls":3},"izi= 14",null,null,{"$f":"[3]Summary!$C$1","v":{"v":32940,"d":"OFFICE ID 32940"}}]
[{"$f":"abc!A2","v":"ç/kkukpk;Z] jkmekfo jk;eyok³k ¼vkWfQl vkbZ-Mh- la[;k %&12572½"}]
["¼ih-Mh- [kkrs ds 'ks\"k dh lwpuk½"]
["ekax la[;k&24 ys[kken%&",null,"2202-01-197-16-(01)",{"$nulls":4},"foHkkx dk uke %& f'k{kk foHkkx"]
[{"$f":"A!A4","v":"BUDGET HEAD : 2202 -सामान्य शिक्षा-02-109 -राजकीय माध्यमिक विद्यालय-27 -लडकों के विद्यालय-01 -लडकों के विद्यालयों का संचालन व्यय   (STATE FUND)"}]
["Ø-la-","fooj.k","12&lgk;rkFkZ xS vuqnku laosru",{"$nulls":4},"92&lgk;rkFkZ vuqnku"]
[null,null,";k=k O;;","fpfdRlk O;;","dk;kZy; O;;","ofnZ;k",";ksx","laosru"]
[1,2,3,4,5,6,7,8]
[1,"01-04-2024 dks 'ks\"k",{"$f":"'P-7'!C13","v":35380},{"$f":"'P-7'!D13","v":50000},{"$f":"'P-7'!E13","v":28260},{"$f":"'P-7'!F13","v":2000},{"$f":"SUM(C9:F9)","v":115640},{"$f":"'P-7'!H13","v":996188}]
[2,"fofr; o\"kZ 2024&25 esa çkIr jkf'k",0,0,0,0,{"$f":"SUM(C10:F10)","v":0},52500000]
[3,";ksx",{"$f":"C9+C10","v":35380},50000,28260,2000,115640,{"$f":"H9+H10","v":53496188}]
[4,"fofr; o\"kZ 2024&25 esa O;; jkf'k ",0,0,0,0,0,{"$f":"'Formet 9'!I11","v":0}]
[5,"31-08-2024 dks 'ks\"k jkf'k ",{"$f":"C11-C12","v":35380},50000,28260,2000,115640,{"$f":"H11-H12","v":53496188}]
[]
["ekax la[;k&30 ys[kken 2202&01&197&15&01 ¼jkT; fuf/k½"]
["Ø-la-","fooj.k","12&lgk;rkFkZ xS vuqnku laosru",{"$nulls":4},"92&lgk;rkFkZ vuqnku"]
[null,null,";k=k O;;","fpfdRlk O;;","dk;kZy; O;;","ofnZ;k",";ksx","laosru"]
[1,2,3,4,5,6,7,8]
[1,"01-04-2024 dks 'ks\"k",0,0,0,0,0,0]
[2,"fofr; o\"kZ 2024&25 esa çkIr jkf'k",0,0,0,0,0,0,{"$nulls":3}," "]
[3,";ksx",{"$f":"C19+C20","v":0},0,0,0,0,0]
[4,"fofr; o\"kZ 2024&25 esa O;; jkf'k ",0,0,0,0,0,0]
[5,"31-08-2024 dks 'ks\"k jkf'k ",{"$f":"C21-C22","v":0},0,0,0,0,0]
["izekf.kr fd;k tkrk gS fd inksa ds lanHkZ esa mi;qZä lwpuk dh esjs }kjk O;fäxr :i ls tkap dj yh xbZ gS\n vkSj bls lgh ik;k x;k gSA"]
[]
[{"$nulls":6},{"$f":"sharansh!B2","v":"ç/kkukpk;Z] jkmekfo jk;eyok³k ¼vkWfQl vkbZ-Mh- la[;k %&12572½"}]

{"sheet":"P-7","index":36,"n_rows":26,"n_cols":8,"rows_kept":26,"hidden":true,"merged":[[0,3,0,5],[0,6,0,7],[0,8,28,16383],[1,0,1,7],[2,0,2,7],[3,0,3,1],[3,2,3,6],[4,0,4,7],[5,0,6,0],[5,1,6,1],[5,2,5,6],[14,0,14,7],[15,0,16,0],[15,1,16,1],[15,2,15,6],[23,0,23,7],[24,0,1048575,5],[24,6,24,7],[25,6,27,7]]}
[{"$nulls":3},"izi= 07",null,null,{"$f":"[3]Summary!$C$1","v":{"v":32940,"d":"OFFICE ID 32940"}}]
[{"$f":"'P-14'!A2:H2","v":"ç/kkukpk;Z] jkmekfo jk;eyok³k ¼vkWfQl vkbZ-Mh- la[;k %&12572½"}]
["¼ih-Mh- [kkrs ds 'ks\"k dh lwpuk½"]
["ekax la[;k&24 ys[kken%&",null,{"$f":"'P-14'!C4","v":"2202-01-197-16-(01)"},{"$nulls":4},"foHkkx dk uke %& f'k{kk foHkkx"]
[{"$f":"A!A4","v":"BUDGET HEAD : 2202 -सामान्य शिक्षा-02-109 -राजकीय माध्यमिक विद्यालय-27 -लडकों के विद्यालय-01 -लडकों के विद्यालयों का संचालन व्यय   (STATE FUND)"}]
["Ø-la-","fooj.k","12&lgk;rkFkZ xS vuqnku laosru",{"$nulls":4},"92&lgk;rkFkZ vuqnku"]
[null,null,";k=k O;;","fpfdRlk O;;","dk;kZy; O;;","ofnZ;k",";ksx","laosru"]
[1,2,3,4,5,6,7,8]
[1,"01-04-2023 dks 'ks\"k",49510,50000,50000,2000,{"$f":"SUM(C9:F9)","v":151510},-452705]
[2,"fofr; o\"kZ 2023&24 esa çkIr jkf'k",0,0,0,0,{"$f":"SUM(C10:F10)","v":0},85000000]
[3,";ksx",{"$f":"C9+C10","v":49510},50000,50000,2000,151510,{"$f":"H9+H10","v":84547295}]
[4,"fofr; o\"kZ 2023&24 esa O;; jkf'k",14130,0,21740,0,0,83551107]
[5,"31-03-2024 dks 'ks\"k jkf'k ",{"$f":"C11-C12","v":35380},50000,28260,2000,151510,{"$f":"H11-H12","v":996188}]
[]
["ekax la[;k&30 ys[kken 2202&01&197&15&01 ¼jkT; fuf/k½"]
["Ø-la-","fooj.k","12&lgk;rkFkZ xS vuqnku laosru",{"$nulls":4},"92&lgk;rkFkZ vuqnku"]
[null,null,";k=k O;;","fpfdRlk O;;","dk;kZy; O;;","ofnZ;k",";ksx","laosru"]
[1,2,3,4,5,6,7,8]
[1,"01-04-2023 dks 'ks\"k",0,0,0,0,0,0]
[2,"fofr; o\"kZ 2023&24 esa çkIr jkf'k",0,0,0,0,0,0]
[3,";ksx",{"$f":"C19+C20","v":0},0,0,0,0,0]
[4,"fofr; o\"kZ 2023&24 esa O;; jkf'k",0,0,0,0,0,0]
[5,"31-03-2024 dks 'ks\"k jkf'k ",{"$f":"C21-C22","v":0},0,0,0,0,0]
["izekf.kr fd;k tkrk gS fd inksa ds lanHkZ esa mi;qZä lwpuk dh esjs }kjk O;fäxr :i ls tkap dj yh xbZ gS\n vkSj bls lgh ik;k x;k gSA"]
[]
[{"$nulls":6},{"$f":"'P-14'!G26","v":"ç/kkukpk;Z] jkmekfo jk;eyok³k ¼vkWfQl vkbZ-Mh- la[;k %&12572½"}]

{"sheet":"P-5","index":37,"n_rows":13,"n_cols":10,"rows_kept":13,"hidden":true,"merged":[[0,8,0,9],[0,10,15,10],[1,0,1,9],[2,0,2,7],[2,8,2,9],[3,0,3,9],[4,0,4,9],[5,0,6,0],[5,1,6,1],[5,2,6,2],[5,3,6,3],[5,4,6,4],[5,5,6,5],[5,6,5,8],[5,9,6,9],[10,0,10,9],[11,0,14,7],[11,8,11,9],[12,8,14,9],[15,0,1048575,9]]}
[{"$nulls":8},{"$f":"[3]Summary!$C$1","v":{"v":32940,"d":"OFFICE ID 32940"}}]
[{"$f":"'P-14'!A2:H2","v":"ç/kkukpk;Z] jkmekfo jk;eyok³k ¼vkWfQl vkbZ-Mh- la[;k %&12572½"}]
["                                   izi= 05¼dsoy iapk;r jkt en gsrq½",{"$nulls":7},"foHkkx dk uke %& f'k{kk foHkkx"]
["v- ih-Mh- [kkrks esa gLrkUrfjr jkf'k ,oa mlds mi;ksx dh faLFkfr dk fooj.k"]
[{"$f":"abc!A4","v":"BUDGET HEAD : 2202 -सामान्य शिक्षा-02-109 -राजकीय माध्यमिक विद्यालय-27 -लडकों के विद्यालय-01 -लडकों के विद्यालयों का संचालन व्यय   (STATE FUND)"}]
["Ø-la-","futh fu{ksi [kkrk la[;k ¼e; laiw.kZ 'kh\"kZ lfgr½ ftlesa jkf'k LFkkukUrfjr  dh tkrh gSa","[kkrs dk uke","midks\"kky; ¼dks\"kky;½ dk uke","foHkkxh;@ xSj fiHkkxh;","01-04-2024 dks çkjfEHkd 'ks\"k jkf'k","2024&25",null,null,"31-08-2024 dks 'ks\"k ¼6$8&9½"]
[{"$nulls":6},"iw.kZ 'kh\"kZ ftlesa jkf'k gLrkUrfjr dh xbZ","gLrkUrfjr jkf'k","fnuksd 31 vxLr] 2024 rd O;; jkf'k"]
[1,2,3,4,5,6,7,8,9,10]
[1,{"$f":"abc!A4","v":"BUDGET HEAD : 2202 -सामान्य शिक्षा-02-109 -राजकीय माध्यमिक विद्यालय-27 -लडकों के विद्यालय-01 -लडकों के विद्यालयों का संचालन व्यय   (STATE FUND)"},"P.D.-6292","Osian (Jodhpur-Rural)","foHkkxh;",{"$f":"'P-14'!H9","v":996188},"00&laosru rFkk vU;",{"$f":"'P-14'!H10","v":52500000},{"$f":"'P-14'!H12","v":0},{"$f":"F9+H9-I9","v":53496188}]
[]
["izekf.kr fd;k tkrk gS fd inksa ds lanHkZ esa mi;qZä lwpuk dh esjs }kjk O;fäxr :i ls tkap dj yh xbZ gS\n vkSj bls lgh ik;k x;k gSA"]
[]
[{"$nulls":8},{"$f":"'P-7'!G26","v":"ç/kkukpk;Z] jkmekfo jk;eyok³k ¼vkWfQl vkbZ-Mh- la[;k %&12572½"}]

{"sheet":"Bonus Calc.","index":38,"n_rows":153,"n_cols":10,"rows_kept":153,"merged":[[0,0,0,9],[0,10,152,10],[1,0,1,9],[2,0,2,9],[3,0,3,9],[4,0,4,9],[5,0,6,0],[5,1,6,1],[5,2,6,2],[5,3,6,3],[5,4,6,4],[5,5,6,5],[5,6,6,6],[5,7,6,7],[5,8,6,8],[5,9,6,9],[151,0,151,7],[151,8,151,9],[152,0,152,6],[152,7,152,9]]}
[{"$f":"CONCATENATE(abc!A2,\"  \",\"¼\",abc!C3,abc!D3,\"½\")","v":"ç/kkukpk;Z] jkmekfo jk;eyok³k ¼vkWfQl vkbZ-Mh- la[;k %&12572½  ¼MhMhvks dksM&12572½"}]
[{"$f":"Master!G5","v":"2202-02-109-(27)-(01) STATE FUND"}]
[{"$f":"abc!A4","v":"BUDGET HEAD : 2202 -सामान्य शिक्षा-02-109 -राजकीय माध्यमिक विद्यालय-27 -लडकों के विद्यालय-01 -लडकों के विद्यालयों का संचालन व्यय   (STATE FUND)"}]
["çi="]
["cksul x.kuk"]
["Ø-la-","deZpkjh dk uke","Post","Pay Matrics Level","Basic Pay","Employee ID No.","GPF/PRAN No.","Gender","Bonus Amount","GAZETTED / NON GAZETTED "]
[]
[1,{"$f":"'Formet 8'!D27","v":""},{"$f":"'Formet 8'!G27","v":""},{"$f":"'Formet 8'!H27","v":""},{"$f":"'Formet 8'!I27","v":""},{"$f":"'Formet 8'!E27","v":""},{"$f":"'Formet 8'!F27","v":""},null,{"$f":"IF(B8=\"\",\"\",IF(D8>=13,0,6774))","v":""},{"$f":"IF(B8=\"\",\"\",\"NON GAZETTED - REGULAR\")","v":""}]
[2,{"$f":"'Formet 8'!D28","v":""},{"$f":"'Formet 8'!G28","v":""},{"$f":"'Formet 8'!H28","v":""},{"$f":"'Formet 8'!I28","v":""},{"$f":"'Formet 8'!E28","v":""},{"$f":"'Formet 8'!F28","v":""},null,{"$f":"IF(B9=\"\",\"\",IF(D9>=13,0,6774))","v":""},{"$f":"IF(B9=\"\",\"\",\"NON GAZETTED - REGULAR\")","v":""}]
[3,{"$f":"'Formet 8'!D29","v":""},{"$f":"'Formet 8'!G29","v":""},{"$f":"'Formet 8'!H29","v":""},{"$f":"'Formet 8'!I29","v":""},{"$f":"'Formet 8'!E29","v":""},{"$f":"'Formet 8'!F29","v":""},null,"",""]
[4,{"$f":"'Formet 8'!D30","v":""},{"$f":"'Formet 8'!G30","v":""},{"$f":"'Formet 8'!H30","v":""},{"$f":"'Formet 8'!I30","v":""},{"$f":"'Formet 8'!E30","v":""},{"$f":"'Formet 8'!F30","v":""},null,"",""]
[5,{"$f":"'Formet 8'!D31","v":""},{"$f":"'Formet 8'!G31","v":""},{"$f":"'Formet 8'!H31","v":""},{"$f":"'Formet 8'!I31","v":""},{"$f":"'Formet 8'!E31","v":""},{"$f":"'Formet 8'!F31","v":""},null,"",""]
[6,{"$f":"'Formet 8'!D32","v":""},{"$f":"'Formet 8'!G32","v":""},{"$f":"'Formet 8'!H32","v":""},{"$f":"'Formet 8'!I32","v":""},{"$f":"'Formet 8'!E32","v":""},{"$f":"'Formet 8'!F32","v":""},null,"",""]
[7,{"$f":"'Formet 8'!D33","v":""},{"$f":"'Formet 8'!G33","v":""},{"$f":"'Formet 8'!H33","v":""},{"$f":"'Formet 8'!I33","v":""},{"$f":"'Formet 8'!E33","v":""},{"$f":"'Formet 8'!F33","v":""},null,"",""]
[8,{"$f":"'Formet 8'!D34","v":""},{"$f":"'Formet 8'!G34","v":""},{"$f":"'Formet 8'!H34","v":""},{"$f":"'Formet 8'!I34","v":""},{"$f":"'Formet 8'!E34","v":""},{"$f":"'Formet 8'!F34","v":""},null,"",""]
[9,{"$f":"'Formet 8'!D35","v":""},{"$f":"'Formet 8'!G35","v":""},{"$f":"'Formet 8'!H35","v":""},{"$f":"'Formet 8'!I35","v":""},{"$f":"'Formet 8'!E35","v":""},{"$f":"'Formet 8'!F35","v":""},null,"",""]
[10,{"$f":"'Formet 8'!D36","v":""},{"$f":"'Formet 8'!G36","v":""},{"$f":"'Formet 8'!H36","v":""},{"$f":"'Formet 8'!I36","v":""},{"$f":"'Formet 8'!E36","v":""},{"$f":"'Formet 8'!F36","v":""},null,"",""]
[11,{"$f":"'Formet 8'!D37","v":""},{"$f":"'Formet 8'!G37","v":""},{"$f":"'Formet 8'!H37","v":""},{"$f":"'Formet 8'!I37","v":""},{"$f":"'Formet 8'!E37","v":""},{"$f":"'Formet 8'!F37","v":""},null,"",""]
[12,{"$f":"'Formet 8'!D38","v":""},{"$f":"'Formet 8'!G38","v":""},{"$f":"'Formet 8'!H38","v":""},{"$f":"'Formet 8'!I38","v":""},{"$f":"'Formet 8'!E38","v":""},{"$f":"'Formet 8'!F38","v":""},null,"",""]
[13,{"$f":"'Formet 8'!D39","v":""},{"$f":"'Formet 8'!G39","v":""},{"$f":"'Formet 8'!H39","v":""},{"$f":"'Formet 8'!I39","v":""},{"$f":"'Formet 8'!E39","v":""},{"$f":"'Formet 8'!F39","v":""},null,"",""]
[14,{"$f":"'Formet 8'!D40","v":""},{"$f":"'Formet 8'!G40","v":""},{"$f":"'Formet 8'!H40","v":""},{"$f":"'Formet 8'!I40","v":""},{"$f":"'Formet 8'!E40","v":""},{"$f":"'Formet 8'!F40","v":""},null,"",""]
[15,{"$f":"'Formet 8'!D41","v":""},{"$f":"'Formet 8'!G41","v":""},{"$f":"'Formet 8'!H41","v":""},{"$f":"'Formet 8'!I41","v":""},{"$f":"'Formet 8'!E41","v":""},{"$f":"'Formet 8'!F41","v":""},null,"",""]
[16,{"$f":"'Formet 8'!D42","v":""},{"$f":"'Formet 8'!G42","v":""},{"$f":"'Formet 8'!H42","v":""},{"$f":"'Formet 8'!I42","v":""},{"$f":"'Formet 8'!E42","v":""},{"$f":"'Formet 8'!F42","v":""},null,"",""]
[17,{"$f":"'Formet 8'!D43","v":""},{"$f":"'Formet 8'!G43","v":""},{"$f":"'Formet 8'!H43","v":""},{"$f":"'Formet 8'!I43","v":""},{"$f":"'Formet 8'!E43","v":""},{"$f":"'Formet 8'!F43","v":""},null,"",""]
[18,{"$f":"'Formet 8'!D44","v":""},{"$f":"'Formet 8'!G44","v":""},{"$f":"'Formet 8'!H44","v":""},{"$f":"'Formet 8'!I44","v":""},{"$f":"'Formet 8'!E44","v":""},{"$f":"'Formet 8'!F44","v":""},null,"",""]
[19,{"$f":"'Formet 8'!D45","v":""},{"$f":"'Formet 8'!G45","v":""},{"$f":"'Formet 8'!H45","v":""},{"$f":"'Formet 8'!I45","v":""},{"$f":"'Formet 8'!E45","v":""},{"$f":"'Formet 8'!F45","v":""},null,"",""]
[20,{"$f":"'Formet 8'!D46","v":""},{"$f":"'Formet 8'!G46","v":""},{"$f":"'Formet 8'!H46","v":""},{"$f":"'Formet 8'!I46","v":""},{"$f":"'Formet 8'!E46","v":""},{"$f":"'Formet 8'!F46","v":""},null,"",""]
[21,{"$f":"'Formet 8'!D47","v":""},{"$f":"'Formet 8'!G47","v":""},{"$f":"'Formet 8'!H47","v":""},{"$f":"'Formet 8'!I47","v":""},{"$f":"'Formet 8'!E47","v":""},{"$f":"'Formet 8'!F47","v":""},null,"",""]
[22,{"$f":"'Formet 8'!D48","v":""},{"$f":"'Formet 8'!G48","v":""},{"$f":"'Formet 8'!H48","v":""},{"$f":"'Formet 8'!I48","v":""},{"$f":"'Formet 8'!E48","v":""},{"$f":"'Formet 8'!F48","v":""},null,"",""]
[23,{"$f":"'Formet 8'!D49","v":""},{"$f":"'Formet 8'!G49","v":""},{"$f":"'Formet 8'!H49","v":""},{"$f":"'Formet 8'!I49","v":""},{"$f":"'Formet 8'!E49","v":""},{"$f":"'Formet 8'!F49","v":""},null,"",""]
[24,{"$f":"'Formet 8'!D50","v":""},{"$f":"'Formet 8'!G50","v":""},{"$f":"'Formet 8'!H50","v":""},{"$f":"'Formet 8'!I50","v":""},{"$f":"'Formet 8'!E50","v":""},{"$f":"'Formet 8'!F50","v":""},null,"",""]
[25,{"$f":"'Formet 8'!D51","v":""},{"$f":"'Formet 8'!G51","v":""},{"$f":"'Formet 8'!H51","v":""},{"$f":"'Formet 8'!I51","v":""},{"$f":"'Formet 8'!E51","v":""},{"$f":"'Formet 8'!F51","v":""},null,"",""]
[26,{"$f":"'Formet 8'!D52","v":""},{"$f":"'Formet 8'!G52","v":""},{"$f":"'Formet 8'!H52","v":""},{"$f":"'Formet 8'!I52","v":""},{"$f":"'Formet 8'!E52","v":""},{"$f":"'Formet 8'!F52","v":""},null,"",""]
[27,{"$f":"'Formet 8'!D53","v":""},{"$f":"'Formet 8'!G53","v":""},{"$f":"'Formet 8'!H53","v":""},{"$f":"'Formet 8'!I53","v":""},{"$f":"'Formet 8'!E53","v":""},{"$f":"'Formet 8'!F53","v":""},null,"",""]
[28,{"$f":"'Formet 8'!D54","v":""},{"$f":"'Formet 8'!G54","v":""},{"$f":"'Formet 8'!H54","v":""},{"$f":"'Formet 8'!I54","v":""},{"$f":"'Formet 8'!E54","v":""},{"$f":"'Formet 8'!F54","v":""},null,"",""]
[29,{"$f":"'Formet 8'!D55","v":""},{"$f":"'Formet 8'!G55","v":""},{"$f":"'Formet 8'!H55","v":""},{"$f":"'Formet 8'!I55","v":""},{"$f":"'Formet 8'!E55","v":""},{"$f":"'Formet 8'!F55","v":""},null,"",""]
[30,{"$f":"'Formet 8'!D56","v":""},{"$f":"'Formet 8'!G56","v":""},{"$f":"'Formet 8'!H56","v":""},{"$f":"'Formet 8'!I56","v":""},{"$f":"'Formet 8'!E56","v":""},{"$f":"'Formet 8'!F56","v":""},null,"",""]
[31,{"$f":"'Formet 8'!D57","v":""},{"$f":"'Formet 8'!G57","v":""},{"$f":"'Formet 8'!H57","v":""},{"$f":"'Formet 8'!I57","v":""},{"$f":"'Formet 8'!E57","v":""},{"$f":"'Formet 8'!F57","v":""},null,"",""]
[32,{"$f":"'Formet 8'!D58","v":""},{"$f":"'Formet 8'!G58","v":""},{"$f":"'Formet 8'!H58","v":""},{"$f":"'Formet 8'!I58","v":""},{"$f":"'Formet 8'!E58","v":""},{"$f":"'Formet 8'!F58","v":""},null,"",""]
[33,{"$f":"'Formet 8'!D59","v":""},{"$f":"'Formet 8'!G59","v":""},{"$f":"'Formet 8'!H59","v":""},{"$f":"'Formet 8'!I59","v":""},{"$f":"'Formet 8'!E59","v":""},{"$f":"'Formet 8'!F59","v":""},null,"",""]
[34,{"$f":"'Formet 8'!D60","v":""},{"$f":"'Formet 8'!G60","v":""},{"$f":"'Formet 8'!H60","v":""},{"$f":"'Formet 8'!I60","v":""},{"$f":"'Formet 8'!E60","v":""},{"$f":"'Formet 8'!F60","v":""},null,"",""]
[35,{"$f":"'Formet 8'!D61","v":""},{"$f":"'Formet 8'!G61","v":""},{"$f":"'Formet 8'!H61","v":""},{"$f":"'Formet 8'!I61","v":""},{"$f":"'Formet 8'!E61","v":""},{"$f":"'Formet 8'!F61","v":""},null,"",""]
[36,{"$f":"'Formet 8'!D62","v":""},{"$f":"'Formet 8'!G62","v":""},{"$f":"'Formet 8'!H62","v":""},{"$f":"'Formet 8'!I62","v":""},{"$f":"'Formet 8'!E62","v":""},{"$f":"'Formet 8'!F62","v":""},null,"",""]
[37,{"$f":"'Formet 8'!D63","v":""},{"$f":"'Formet 8'!G63","v":""},{"$f":"'Formet 8'!H63","v":""},{"$f":"'Formet 8'!I63","v":""},{"$f":"'Formet 8'!E63","v":""},{"$f":"'Formet 8'!F63","v":""},null,"",""]
[38,{"$f":"'Formet 8'!D64","v":""},{"$f":"'Formet 8'!G64","v":""},{"$f":"'Formet 8'!H64","v":""},{"$f":"'Formet 8'!I64","v":""},{"$f":"'Formet 8'!E64","v":""},{"$f":"'Formet 8'!F64","v":""},null,"",""]
[39,{"$f":"'Formet 8'!D65","v":""},{"$f":"'Formet 8'!G65","v":""},{"$f":"'Formet 8'!H65","v":""},{"$f":"'Formet 8'!I65","v":""},{"$f":"'Formet 8'!E65","v":""},{"$f":"'Formet 8'!F65","v":""},null,"",""]
[40,{"$f":"'Formet 8'!D66","v":""},{"$f":"'Formet 8'!G66","v":""},{"$f":"'Formet 8'!H66","v":""},{"$f":"'Formet 8'!I66","v":""},{"$f":"'Formet 8'!E66","v":""},{"$f":"'Formet 8'!F66","v":""},null,"",""]
[41,{"$f":"'Formet 8'!D67","v":""},{"$f":"'Formet 8'!G67","v":""},{"$f":"'Formet 8'!H67","v":""},{"$f":"'Formet 8'!I67","v":""},{"$f":"'Formet 8'!E67","v":""},{"$f":"'Formet 8'!F67","v":""},null,"",""]
[42,{"$f":"'Formet 8'!D68","v":""},{"$f":"'Formet 8'!G68","v":""},{"$f":"'Formet 8'!H68","v":""},{"$f":"'Formet 8'!I68","v":""},{"$f":"'Formet 8'!E68","v":""},{"$f":"'Formet 8'!F68","v":""},null,"",""]
[43,{"$f":"'Formet 8'!D69","v":""},{"$f":"'Formet 8'!G69","v":""},{"$f":"'Formet 8'!H69","v":""},{"$f":"'Formet 8'!I69","v":""},{"$f":"'Formet 8'!E69","v":""},{"$f":"'Formet 8'!F69","v":""},null,"",""]
[44,{"$f":"'Formet 8'!D70","v":""},{"$f":"'Formet 8'!G70","v":""},{"$f":"'Formet 8'!H70","v":""},{"$f":"'Formet 8'!I70","v":""},{"$f":"'Formet 8'!E70","v":""},{"$f":"'Formet 8'!F70","v":""},null,"",""]
[45,{"$f":"'Formet 8'!D71","v":""},{"$f":"'Formet 8'!G71","v":""},{"$f":"'Formet 8'!H71","v":""},{"$f":"'Formet 8'!I71","v":""},{"$f":"'Formet 8'!E71","v":""},{"$f":"'Formet 8'!F71","v":""},null,"",""]
[46,{"$f":"'Formet 8'!D72","v":""},{"$f":"'Formet 8'!G72","v":""},{"$f":"'Formet 8'!H72","v":""},{"$f":"'Formet 8'!I72","v":""},{"$f":"'Formet 8'!E72","v":""},{"$f":"'Formet 8'!F72","v":""},null,"",""]
[47,{"$f":"'Formet 8'!D73","v":""},{"$f":"'Formet 8'!G73","v":""},{"$f":"'Formet 8'!H73","v":""},{"$f":"'Formet 8'!I73","v":""},{"$f":"'Formet 8'!E73","v":""},{"$f":"'Formet 8'!F73","v":""},null,"",""]
[48,{"$f":"'Formet 8'!D74","v":""},{"$f":"'Formet 8'!G74","v":""},{"$f":"'Formet 8'!H74","v":""},{"$f":"'Formet 8'!I74","v":""},{"$f":"'Formet 8'!E74","v":""},{"$f":"'Formet 8'!F74","v":""},null,"",""]
[49,{"$f":"'Formet 8'!D75","v":""},{"$f":"'Formet 8'!G75","v":""},{"$f":"'Formet 8'!H75","v":""},{"$f":"'Formet 8'!I75","v":""},{"$f":"'Formet 8'!E75","v":""},{"$f":"'Formet 8'!F75","v":""},null,"",""]
[50,{"$f":"'Formet 8'!D76","v":""},{"$f":"'Formet 8'!G76","v":""},{"$f":"'Formet 8'!H76","v":""},{"$f":"'Formet 8'!I76","v":""},{"$f":"'Formet 8'!E76","v":""},{"$f":"'Formet 8'!F76","v":""},null,"",""]
[51,{"$f":"'Formet 8'!D77","v":""},{"$f":"'Formet 8'!G77","v":""},{"$f":"'Formet 8'!H77","v":""},{"$f":"'Formet 8'!I77","v":""},{"$f":"'Formet 8'!E77","v":""},{"$f":"'Formet 8'!F77","v":""},null,"",""]
[52,{"$f":"'Formet 8'!D78","v":""},{"$f":"'Formet 8'!G78","v":""},{"$f":"'Formet 8'!H78","v":""},{"$f":"'Formet 8'!I78","v":""},{"$f":"'Formet 8'!E78","v":""},{"$f":"'Formet 8'!F78","v":""},null,"",""]
[53,{"$f":"'Formet 8'!D79","v":""},{"$f":"'Formet 8'!G79","v":""},{"$f":"'Formet 8'!H79","v":""},{"$f":"'Formet 8'!I79","v":""},{"$f":"'Formet 8'!E79","v":""},{"$f":"'Formet 8'!F79","v":""},null,"",""]
[54,{"$f":"'Formet 8'!D80","v":""},{"$f":"'Formet 8'!G80","v":""},{"$f":"'Formet 8'!H80","v":""},{"$f":"'Formet 8'!I80","v":""},{"$f":"'Formet 8'!E80","v":""},{"$f":"'Formet 8'!F80","v":""},null,"",""]
[55,{"$f":"'Formet 8'!D81","v":""},{"$f":"'Formet 8'!G81","v":""},{"$f":"'Formet 8'!H81","v":""},{"$f":"'Formet 8'!I81","v":""},{"$f":"'Formet 8'!E81","v":""},{"$f":"'Formet 8'!F81","v":""},null,"",""]
[56,{"$f":"'Formet 8'!D82","v":""},{"$f":"'Formet 8'!G82","v":""},{"$f":"'Formet 8'!H82","v":""},{"$f":"'Formet 8'!I82","v":""},{"$f":"'Formet 8'!E82","v":""},{"$f":"'Formet 8'!F82","v":""},null,"",""]
[57,{"$f":"'Formet 8'!D83","v":""},{"$f":"'Formet 8'!G83","v":""},{"$f":"'Formet 8'!H83","v":""},{"$f":"'Formet 8'!I83","v":""},{"$f":"'Formet 8'!E83","v":""},{"$f":"'Formet 8'!F83","v":""},null,"",""]
[58,{"$f":"'Formet 8'!D84","v":""},{"$f":"'Formet 8'!G84","v":""},{"$f":"'Formet 8'!H84","v":""},{"$f":"'Formet 8'!I84","v":""},{"$f":"'Formet 8'!E84","v":""},{"$f":"'Formet 8'!F84","v":""},null,"",""]
[59,{"$f":"'Formet 8'!D85","v":""},{"$f":"'Formet 8'!G85","v":""},{"$f":"'Formet 8'!H85","v":""},{"$f":"'Formet 8'!I85","v":""},{"$f":"'Formet 8'!E85","v":""},{"$f":"'Formet 8'!F85","v":""},null,"",""]
[60,{"$f":"'Formet 8'!D86","v":""},{"$f":"'Formet 8'!G86","v":""},{"$f":"'Formet 8'!H86","v":""},{"$f":"'Formet 8'!I86","v":""},{"$f":"'Formet 8'!E86","v":""},{"$f":"'Formet 8'!F86","v":""},null,"",""]
[61,{"$f":"'Formet 8'!D87","v":""},{"$f":"'Formet 8'!G87","v":""},{"$f":"'Formet 8'!H87","v":""},{"$f":"'Formet 8'!I87","v":""},{"$f":"'Formet 8'!E87","v":""},{"$f":"'Formet 8'!F87","v":""},null,"",""]
[62,{"$f":"'Formet 8'!D88","v":""},{"$f":"'Formet 8'!G88","v":""},{"$f":"'Formet 8'!H88","v":""},{"$f":"'Formet 8'!I88","v":""},{"$f":"'Formet 8'!E88","v":""},{"$f":"'Formet 8'!F88","v":""},null,"",""]
[63,{"$f":"'Formet 8'!D89","v":""},{"$f":"'Formet 8'!G89","v":""},{"$f":"'Formet 8'!H89","v":""},{"$f":"'Formet 8'!I89","v":""},{"$f":"'Formet 8'!E89","v":""},{"$f":"'Formet 8'!F89","v":""},null,"",""]
[64,{"$f":"'Formet 8'!D90","v":""},{"$f":"'Formet 8'!G90","v":""},{"$f":"'Formet 8'!H90","v":""},{"$f":"'Formet 8'!I90","v":""},{"$f":"'Formet 8'!E90","v":""},{"$f":"'Formet 8'!F90","v":""},null,"",""]
[65,{"$f":"'Formet 8'!D91","v":""},{"$f":"'Formet 8'!G91","v":""},{"$f":"'Formet 8'!H91","v":""},{"$f":"'Formet 8'!I91","v":""},{"$f":"'Formet 8'!E91","v":""},{"$f":"'Formet 8'!F91","v":""},null,"",""]
[66,{"$f":"'Formet 8'!D92","v":""},{"$f":"'Formet 8'!G92","v":""},{"$f":"'Formet 8'!H92","v":""},{"$f":"'Formet 8'!I92","v":""},{"$f":"'Formet 8'!E92","v":""},{"$f":"'Formet 8'!F92","v":""},null,{"$f":"IF(B73=\"\",\"\",IF(D73>=13,0,6774))","v":""},{"$f":"IF(B73=\"\",\"\",\"NON GAZETTED - REGULAR\")","v":""}]
[67,{"$f":"'Formet 8'!D93","v":""},{"$f":"'Formet 8'!G93","v":""},{"$f":"'Formet 8'!H93","v":""},{"$f":"'Formet 8'!I93","v":""},{"$f":"'Formet 8'!E93","v":""},{"$f":"'Formet 8'!F93","v":""},null,"",""]
[68,{"$f":"'Formet 8'!D94","v":""},{"$f":"'Formet 8'!G94","v":""},{"$f":"'Formet 8'!H94","v":""},{"$f":"'Formet 8'!I94","v":""},{"$f":"'Formet 8'!E94","v":""},{"$f":"'Formet 8'!F94","v":""},null,"",""]
[69,{"$f":"'Formet 8'!D95","v":""},{"$f":"'Formet 8'!G95","v":""},{"$f":"'Formet 8'!H95","v":""},{"$f":"'Formet 8'!I95","v":""},{"$f":"'Formet 8'!E95","v":""},{"$f":"'Formet 8'!F95","v":""},null,"",""]
[70,{"$f":"'Formet 8'!D96","v":""},{"$f":"'Formet 8'!G96","v":""},{"$f":"'Formet 8'!H96","v":""},{"$f":"'Formet 8'!I96","v":""},{"$f":"'Formet 8'!E96","v":""},{"$f":"'Formet 8'!F96","v":""},null,"",""]
[71,{"$f":"'Formet 8'!D97","v":""},{"$f":"'Formet 8'!G97","v":""},{"$f":"'Formet 8'!H97","v":""},{"$f":"'Formet 8'!I97","v":""},{"$f":"'Formet 8'!E97","v":""},{"$f":"'Formet 8'!F97","v":""},null,"",""]
[72,{"$f":"'Formet 8'!D98","v":""},{"$f":"'Formet 8'!G98","v":""},{"$f":"'Formet 8'!H98","v":""},{"$f":"'Formet 8'!I98","v":""},{"$f":"'Formet 8'!E98","v":""},{"$f":"'Formet 8'!F98","v":""},null,"",""]
[73,{"$f":"'Formet 8'!D99","v":""},{"$f":"'Formet 8'!G99","v":""},{"$f":"'Formet 8'!H99","v":""},{"$f":"'Formet 8'!I99","v":""},{"$f":"'Formet 8'!E99","v":""},{"$f":"'Formet 8'!F99","v":""},null,"",""]
[74,{"$f":"'Formet 8'!D100","v":""},{"$f":"'Formet 8'!G100","v":""},{"$f":"'Formet 8'!H100","v":""},{"$f":"'Formet 8'!I100","v":""},{"$f":"'Formet 8'!E100","v":""},{"$f":"'Formet 8'!F100","v":""},null,"",""]
[75,{"$f":"'Formet 8'!D101","v":""},{"$f":"'Formet 8'!G101","v":""},{"$f":"'Formet 8'!H101","v":""},{"$f":"'Formet 8'!I101","v":""},{"$f":"'Formet 8'!E101","v":""},{"$f":"'Formet 8'!F101","v":""},null,"",""]
[76,{"$f":"'Formet 8'!D102","v":""},{"$f":"'Formet 8'!G102","v":""},{"$f":"'Formet 8'!H102","v":""},{"$f":"'Formet 8'!I102","v":""},{"$f":"'Formet 8'!E102","v":""},{"$f":"'Formet 8'!F102","v":""},null,"",""]
[77,{"$f":"'Formet 8'!D103","v":""},{"$f":"'Formet 8'!G103","v":""},{"$f":"'Formet 8'!H103","v":""},{"$f":"'Formet 8'!I103","v":""},{"$f":"'Formet 8'!E103","v":""},{"$f":"'Formet 8'!F103","v":""},null,"",""]
[78,{"$f":"'Formet 8'!D104","v":""},{"$f":"'Formet 8'!G104","v":""},{"$f":"'Formet 8'!H104","v":""},{"$f":"'Formet 8'!I104","v":""},{"$f":"'Formet 8'!E104","v":""},{"$f":"'Formet 8'!F104","v":""},null,"",""]
[79,{"$f":"'Formet 8'!D105","v":""},{"$f":"'Formet 8'!G105","v":""},{"$f":"'Formet 8'!H105","v":""},{"$f":"'Formet 8'!I105","v":""},{"$f":"'Formet 8'!E105","v":""},{"$f":"'Formet 8'!F105","v":""},null,"",""]
[80,{"$f":"'Formet 8'!D106","v":""},{"$f":"'Formet 8'!G106","v":""},{"$f":"'Formet 8'!H106","v":""},{"$f":"'Formet 8'!I106","v":""},{"$f":"'Formet 8'!E106","v":""},{"$f":"'Formet 8'!F106","v":""},null,"",""]
[81,{"$f":"'Formet 8'!D107","v":""},{"$f":"'Formet 8'!G107","v":""},{"$f":"'Formet 8'!H107","v":""},{"$f":"'Formet 8'!I107","v":""},{"$f":"'Formet 8'!E107","v":""},{"$f":"'Formet 8'!F107","v":""},null,"",""]
[82,{"$f":"'Formet 8'!D108","v":""},{"$f":"'Formet 8'!G108","v":""},{"$f":"'Formet 8'!H108","v":""},{"$f":"'Formet 8'!I108","v":""},{"$f":"'Formet 8'!E108","v":""},{"$f":"'Formet 8'!F108","v":""},null,"",""]
[83,{"$f":"'Formet 8'!D109","v":""},{"$f":"'Formet 8'!G109","v":""},{"$f":"'Formet 8'!H109","v":""},{"$f":"'Formet 8'!I109","v":""},{"$f":"'Formet 8'!E109","v":""},{"$f":"'Formet 8'!F109","v":""},null,"",""]
[84,{"$f":"'Formet 8'!D110","v":""},{"$f":"'Formet 8'!G110","v":""},{"$f":"'Formet 8'!H110","v":""},{"$f":"'Formet 8'!I110","v":""},{"$f":"'Formet 8'!E110","v":""},{"$f":"'Formet 8'!F110","v":""},null,"",""]
[85,{"$f":"'Formet 8'!D111","v":""},{"$f":"'Formet 8'!G111","v":""},{"$f":"'Formet 8'!H111","v":""},{"$f":"'Formet 8'!I111","v":""},{"$f":"'Formet 8'!E111","v":""},{"$f":"'Formet 8'!F111","v":""},null,"",""]
[86,{"$f":"'Formet 8'!D112","v":""},{"$f":"'Formet 8'!G112","v":""},{"$f":"'Formet 8'!H112","v":""},{"$f":"'Formet 8'!I112","v":""},{"$f":"'Formet 8'!E112","v":""},{"$f":"'Formet 8'!F112","v":""},null,"",""]
[87,{"$f":"'Formet 8'!D113","v":""},{"$f":"'Formet 8'!G113","v":""},{"$f":"'Formet 8'!H113","v":""},{"$f":"'Formet 8'!I113","v":""},{"$f":"'Formet 8'!E113","v":""},{"$f":"'Formet 8'!F113","v":""},null,"",""]
[88,{"$f":"'Formet 8'!D114","v":""},{"$f":"'Formet 8'!G114","v":""},{"$f":"'Formet 8'!H114","v":""},{"$f":"'Formet 8'!I114","v":""},{"$f":"'Formet 8'!E114","v":""},{"$f":"'Formet 8'!F114","v":""},null,"",""]
[89,{"$f":"'Formet 8'!D115","v":""},{"$f":"'Formet 8'!G115","v":""},{"$f":"'Formet 8'!H115","v":""},{"$f":"'Formet 8'!I115","v":""},{"$f":"'Formet 8'!E115","v":""},{"$f":"'Formet 8'!F115","v":""},null,"",""]
[90,{"$f":"'Formet 8'!D116","v":""},{"$f":"'Formet 8'!G116","v":""},{"$f":"'Formet 8'!H116","v":""},{"$f":"'Formet 8'!I116","v":""},{"$f":"'Formet 8'!E116","v":""},{"$f":"'Formet 8'!F116","v":""},null,"",""]
[91,{"$f":"'Formet 8'!D117","v":""},{"$f":"'Formet 8'!G117","v":""},{"$f":"'Formet 8'!H117","v":""},{"$f":"'Formet 8'!I117","v":""},{"$f":"'Formet 8'!E117","v":""},{"$f":"'Formet 8'!F117","v":""},null,"",""]
[92,{"$f":"'Formet 8'!D118","v":""},{"$f":"'Formet 8'!G118","v":""},{"$f":"'Formet 8'!H118","v":""},{"$f":"'Formet 8'!I118","v":""},{"$f":"'Formet 8'!E118","v":""},{"$f":"'Formet 8'!F118","v":""},null,"",""]
[93,{"$f":"'Formet 8'!D119","v":""},{"$f":"'Formet 8'!G119","v":""},{"$f":"'Formet 8'!H119","v":""},{"$f":"'Formet 8'!I119","v":""},{"$f":"'Formet 8'!E119","v":""},{"$f":"'Formet 8'!F119","v":""},null,"",""]
[94,{"$f":"'Formet 8'!D120","v":""},{"$f":"'Formet 8'!G120","v":""},{"$f":"'Formet 8'!H120","v":""},{"$f":"'Formet 8'!I120","v":""},{"$f":"'Formet 8'!E120","v":""},{"$f":"'Formet 8'!F120","v":""},null,"",""]
[95,{"$f":"'Formet 8'!D121","v":""},{"$f":"'Formet 8'!G121","v":""},{"$f":"'Formet 8'!H121","v":""},{"$f":"'Formet 8'!I121","v":""},{"$f":"'Formet 8'!E121","v":""},{"$f":"'Formet 8'!F121","v":""},null,"",""]
[96,{"$f":"'Formet 8'!D122","v":""},{"$f":"'Formet 8'!G122","v":""},{"$f":"'Formet 8'!H122","v":""},{"$f":"'Formet 8'!I122","v":""},{"$f":"'Formet 8'!E122","v":""},{"$f":"'Formet 8'!F122","v":""},null,"",""]
[97,{"$f":"'Formet 8'!D123","v":""},{"$f":"'Formet 8'!G123","v":""},{"$f":"'Formet 8'!H123","v":""},{"$f":"'Formet 8'!I123","v":""},{"$f":"'Formet 8'!E123","v":""},{"$f":"'Formet 8'!F123","v":""},null,"",""]
[98,{"$f":"'Formet 8'!D124","v":""},{"$f":"'Formet 8'!G124","v":""},{"$f":"'Formet 8'!H124","v":""},{"$f":"'Formet 8'!I124","v":""},{"$f":"'Formet 8'!E124","v":""},{"$f":"'Formet 8'!F124","v":""},null,"",""]
[99,{"$f":"'Formet 8'!D125","v":""},{"$f":"'Formet 8'!G125","v":""},{"$f":"'Formet 8'!H125","v":""},{"$f":"'Formet 8'!I125","v":""},{"$f":"'Formet 8'!E125","v":""},{"$f":"'Formet 8'!F125","v":""},null,"",""]
[100,{"$f":"'Formet 8'!D126","v":""},{"$f":"'Formet 8'!G126","v":""},{"$f":"'Formet 8'!H126","v":""},{"$f":"'Formet 8'!I126","v":""},{"$f":"'Formet 8'!E126","v":""},{"$f":"'Formet 8'!F126","v":""},null,"",""]
[101,{"$f":"'Formet 8'!D127","v":""},{"$f":"'Formet 8'!G127","v":""},{"$f":"'Formet 8'!H127","v":""},{"$f":"'Formet 8'!I127","v":""},{"$f":"'Formet 8'!E127","v":""},{"$f":"'Formet 8'!F127","v":""},null,"",""]
[102,{"$f":"'Formet 8'!D128","v":""},{"$f":"'Formet 8'!G128","v":""},{"$f":"'Formet 8'!H128","v":""},{"$f":"'Formet 8'!I128","v":""},{"$f":"'Formet 8'!E128","v":""},{"$f":"'Formet 8'!F128","v":""},null,"",""]
[103,{"$f":"'Formet 8'!D129","v":""},{"$f":"'Formet 8'!G129","v":""},{"$f":"'Formet 8'!H129","v":""},{"$f":"'Formet 8'!I129","v":""},{"$f":"'Formet 8'!E129","v":""},{"$f":"'Formet 8'!F129","v":""},null,"",""]
[104,{"$f":"'Formet 8'!D130","v":""},{"$f":"'Formet 8'!G130","v":""},{"$f":"'Formet 8'!H130","v":""},{"$f":"'Formet 8'!I130","v":""},{"$f":"'Formet 8'!E130","v":""},{"$f":"'Formet 8'!F130","v":""},null,"",""]
[105,{"$f":"'Formet 8'!D131","v":""},{"$f":"'Formet 8'!G131","v":""},{"$f":"'Formet 8'!H131","v":""},{"$f":"'Formet 8'!I131","v":""},{"$f":"'Formet 8'!E131","v":""},{"$f":"'Formet 8'!F131","v":""},null,"",""]
[106,{"$f":"'Formet 8'!D132","v":""},{"$f":"'Formet 8'!G132","v":""},{"$f":"'Formet 8'!H132","v":""},{"$f":"'Formet 8'!I132","v":""},{"$f":"'Formet 8'!E132","v":""},{"$f":"'Formet 8'!F132","v":""},null,"",""]
[107,{"$f":"'Formet 8'!D133","v":""},{"$f":"'Formet 8'!G133","v":""},{"$f":"'Formet 8'!H133","v":""},{"$f":"'Formet 8'!I133","v":""},{"$f":"'Formet 8'!E133","v":""},{"$f":"'Formet 8'!F133","v":""},null,"",""]
[108,{"$f":"'Formet 8'!D134","v":""},{"$f":"'Formet 8'!G134","v":""},{"$f":"'Formet 8'!H134","v":""},{"$f":"'Formet 8'!I134","v":""},{"$f":"'Formet 8'!E134","v":""},{"$f":"'Formet 8'!F134","v":""},null,"",""]
[109,{"$f":"'Formet 8'!D135","v":""},{"$f":"'Formet 8'!G135","v":""},{"$f":"'Formet 8'!H135","v":""},{"$f":"'Formet 8'!I135","v":""},{"$f":"'Formet 8'!E135","v":""},{"$f":"'Formet 8'!F135","v":""},null,"",""]
[110,{"$f":"'Formet 8'!D136","v":""},{"$f":"'Formet 8'!G136","v":""},{"$f":"'Formet 8'!H136","v":""},{"$f":"'Formet 8'!I136","v":""},{"$f":"'Formet 8'!E136","v":""},{"$f":"'Formet 8'!F136","v":""},null,"",""]
[111,{"$f":"'Formet 8'!D137","v":""},{"$f":"'Formet 8'!G137","v":""},{"$f":"'Formet 8'!H137","v":""},{"$f":"'Formet 8'!I137","v":""},{"$f":"'Formet 8'!E137","v":""},{"$f":"'Formet 8'!F137","v":""},null,"",""]
[112,{"$f":"'Formet 8'!D138","v":""},{"$f":"'Formet 8'!G138","v":""},{"$f":"'Formet 8'!H138","v":""},{"$f":"'Formet 8'!I138","v":""},{"$f":"'Formet 8'!E138","v":""},{"$f":"'Formet 8'!F138","v":""},null,"",""]
[113,{"$f":"'Formet 8'!D139","v":""},{"$f":"'Formet 8'!G139","v":""},{"$f":"'Formet 8'!H139","v":""},{"$f":"'Formet 8'!I139","v":""},{"$f":"'Formet 8'!E139","v":""},{"$f":"'Formet 8'!F139","v":""},null,"",""]
[114,{"$f":"'Formet 8'!D140","v":""},{"$f":"'Formet 8'!G140","v":""},{"$f":"'Formet 8'!H140","v":""},{"$f":"'Formet 8'!I140","v":""},{"$f":"'Formet 8'!E140","v":""},{"$f":"'Formet 8'!F140","v":""},null,"",""]
[115,{"$f":"'Formet 8'!D141","v":""},{"$f":"'Formet 8'!G141","v":""},{"$f":"'Formet 8'!H141","v":""},{"$f":"'Formet 8'!I141","v":""},{"$f":"'Formet 8'!E141","v":""},{"$f":"'Formet 8'!F141","v":""},null,"",""]
[116,{"$f":"'Formet 8'!D142","v":""},{"$f":"'Formet 8'!G142","v":""},{"$f":"'Formet 8'!H142","v":""},{"$f":"'Formet 8'!I142","v":""},{"$f":"'Formet 8'!E142","v":""},{"$f":"'Formet 8'!F142","v":""},null,"",""]
[117,{"$f":"'Formet 8'!D143","v":""},{"$f":"'Formet 8'!G143","v":""},{"$f":"'Formet 8'!H143","v":""},{"$f":"'Formet 8'!I143","v":""},{"$f":"'Formet 8'!E143","v":""},{"$f":"'Formet 8'!F143","v":""},null,"",""]
[118,{"$f":"'Formet 8'!D144","v":""},{"$f":"'Formet 8'!G144","v":""},{"$f":"'Formet 8'!H144","v":""},{"$f":"'Formet 8'!I144","v":""},{"$f":"'Formet 8'!E144","v":""},{"$f":"'Formet 8'!F144","v":""},null,"",""]
[119,{"$f":"'Formet 8'!D145","v":""},{"$f":"'Formet 8'!G145","v":""},{"$f":"'Formet 8'!H145","v":""},{"$f":"'Formet 8'!I145","v":""},{"$f":"'Formet 8'!E145","v":""},{"$f":"'Formet 8'!F145","v":""},null,"",""]
[120,{"$f":"'Formet 8'!D146","v":""},{"$f":"'Formet 8'!G146","v":""},{"$f":"'Formet 8'!H146","v":""},{"$f":"'Formet 8'!I146","v":""},{"$f":"'Formet 8'!E146","v":""},{"$f":"'Formet 8'!F146","v":""},null,"",""]
[121,{"$f":"'Formet 8'!D147","v":""},{"$f":"'Formet 8'!G147","v":""},{"$f":"'Formet 8'!H147","v":""},{"$f":"'Formet 8'!I147","v":""},{"$f":"'Formet 8'!E147","v":""},{"$f":"'Formet 8'!F147","v":""},null,"",""]
[122,{"$f":"'Formet 8'!D148","v":""},{"$f":"'Formet 8'!G148","v":""},{"$f":"'Formet 8'!H148","v":""},{"$f":"'Formet 8'!I148","v":""},{"$f":"'Formet 8'!E148","v":""},{"$f":"'Formet 8'!F148","v":""},null,"",""]
[123,{"$f":"'Formet 8'!D149","v":""},{"$f":"'Formet 8'!G149","v":""},{"$f":"'Formet 8'!H149","v":""},{"$f":"'Formet 8'!I149","v":""},{"$f":"'Formet 8'!E149","v":""},{"$f":"'Formet 8'!F149","v":""},null,"",""]
[124,{"$f":"'Formet 8'!D150","v":""},{"$f":"'Formet 8'!G150","v":""},{"$f":"'Formet 8'!H150","v":""},{"$f":"'Formet 8'!I150","v":""},{"$f":"'Formet 8'!E150","v":""},{"$f":"'Formet 8'!F150","v":""},null,"",""]
[125,{"$f":"'Formet 8'!D151","v":""},{"$f":"'Formet 8'!G151","v":""},{"$f":"'Formet 8'!H151","v":""},{"$f":"'Formet 8'!I151","v":""},{"$f":"'Formet 8'!E151","v":""},{"$f":"'Formet 8'!F151","v":""},null,"",""]
[126,{"$f":"'Formet 8'!D152","v":""},{"$f":"'Formet 8'!G152","v":""},{"$f":"'Formet 8'!H152","v":""},{"$f":"'Formet 8'!I152","v":""},{"$f":"'Formet 8'!E152","v":""},{"$f":"'Formet 8'!F152","v":""},null,"",""]
[127,{"$f":"'Formet 8'!D153","v":""},{"$f":"'Formet 8'!G153","v":""},{"$f":"'Formet 8'!H153","v":""},{"$f":"'Formet 8'!I153","v":""},{"$f":"'Formet 8'!E153","v":""},{"$f":"'Formet 8'!F153","v":""},null,"",""]
[128,{"$f":"'Formet 8'!D154","v":""},{"$f":"'Formet 8'!G154","v":""},{"$f":"'Formet 8'!H154","v":""},{"$f":"'Formet 8'!I154","v":""},{"$f":"'Formet 8'!E154","v":""},{"$f":"'Formet 8'!F154","v":""},null,"",""]
[129,{"$f":"'Formet 8'!D155","v":""},{"$f":"'Formet 8'!G155","v":""},{"$f":"'Formet 8'!H155","v":""},{"$f":"'Formet 8'!I155","v":""},{"$f":"'Formet 8'!E155","v":""},{"$f":"'Formet 8'!F155","v":""},null,"",""]
[130,{"$f":"'Formet 8'!D156","v":""},{"$f":"'Formet 8'!G156","v":""},{"$f":"'Formet 8'!H156","v":""},{"$f":"'Formet 8'!I156","v":""},{"$f":"'Formet 8'!E156","v":""},{"$f":"'Formet 8'!F156","v":""},null,{"$f":"IF(B137=\"\",\"\",IF(D137>=13,0,6774))","v":""},{"$f":"IF(B137=\"\",\"\",\"NON GAZETTED - REGULAR\")","v":""}]
[131,{"$f":"'Formet 8'!D157","v":""},{"$f":"'Formet 8'!G157","v":""},{"$f":"'Formet 8'!H157","v":""},{"$f":"'Formet 8'!I157","v":""},{"$f":"'Formet 8'!E157","v":""},{"$f":"'Formet 8'!F157","v":""},null,"",""]
[132,{"$f":"'Formet 8'!D158","v":""},{"$f":"'Formet 8'!G158","v":""},{"$f":"'Formet 8'!H158","v":""},{"$f":"'Formet 8'!I158","v":""},{"$f":"'Formet 8'!E158","v":""},{"$f":"'Formet 8'!F158","v":""},null,"",""]
[133,{"$nulls":7},"",""]
[134,{"$nulls":7},"",""]
[135,{"$nulls":7},"",""]
[136,{"$nulls":7},"",""]
[137,{"$nulls":7},"",""]
[138,{"$nulls":7},"",""]
[139,{"$nulls":7},"",""]
[140,{"$nulls":7},"",""]
[141,{"$nulls":7},"",""]
[142,{"$nulls":7},"",""]
[143,{"$nulls":7},"",""]
[144,{"$nulls":7},"",""]
["Total Amount (Rs.)=",{"$nulls":7},{"$f":"SUM(I8:I151)","v":0}]
[{"$nulls":7},{"$f":"sharansh!B2","v":"ç/kkukpk;Z] jkmekfo jk;eyok³k ¼vkWfQl vkbZ-Mh- la[;k %&12572½"}]