{"text_format":"3","workbook":"xlsx","n_sheets":7,"sheets":["Help","Master","Marks Entry","Result Sheet","Statics","Report Card With Personal Logo","Blank Report Card"],"not_rendered":{"images":4,"defined_names":4},"read":"whole","date_system":"1900"}

{"sheet":"Help","index":0,"n_rows":8,"n_cols":2,"rows_kept":8,"merged":[[0,0,0,3],[1,0,7,0],[1,1,1,2],[1,3,7,3],[2,1,2,2],[3,1,3,2],[4,1,4,2],[5,1,5,2],[6,1,6,2],[7,1,7,2],[8,0,8,3]]}
[]
[]
[null,"LAST UPDATE :- 10-04-2025"]
[null,"For Help"]
[null,"For Help watch the video on my Youtube Channel"]
[null,"https://youtu.be/QWmVZqxh1yE"]
[null,"OR search the youtube channel \"Learn with ummed tarad\""]
[null,"नोट:-हालाँकि यह प्रोग्राम पूर्णतया सावधानी के साथ बनाया गया है फिर भी किसी त्रुटि की स्थिति में आपके विवेक के साथ विभागीय नियम ही अंतिम रूप से मान्य होंगे, इसे अंतिम रूप देने से पहले अच्छी तरह से अवश्य जाँच लेवें और ज्यादा जानकारी के लिए उपर Click Here बटन पर क्लिक करें. किसी प्रकार की हेल्प हेतु निर्माणकर्त्ता को कॉल नहीं करें."]

{"sheet":"Master","index":1,"n_rows":21,"n_cols":27,"rows_kept":21,"merged":[[0,0,0,21],[1,1,1,5],[1,6,1,12],[1,13,1,15],[1,16,19,16],[1,21,19,21],[2,0,19,0],[2,1,2,15],[3,1,3,9],[3,11,3,14],[4,1,4,8],[4,9,19,9],[4,10,4,11],[4,12,4,15],[5,1,5,2],[5,4,5,8],[6,1,6,8],[7,1,8,2],[7,3,8,3],[7,4,8,8],[9,1,9,8],[9,17,10,20],[10,1,11,2],[10,3,11,3],[10,4,11,8],[11,17,12,20],[12,1,12,8],[13,1,13,2],[13,4,13,8],[13,17,13,20],[14,1,14,8],[14,17,14,20],[15,1,15,2],[15,4,15,8],[15,17,15,20],[16,1,16,8],[16,17,19,20],[17,1,17,2],[17,4,17,8],[18,1,18,8],[19,1,19,2],[19,4,19,8],[20,0,20,21]]}
[]
[null,"t; fgUn",{"$nulls":4},"oUns ekrje~",{"$nulls":6},"t; fgUn"]
[]
[null,"RESULT PREPARATION PROGRAM",{"$nulls":8},108,"School Logo ®",{"$nulls":13},"2019-20","PRIMARY"]
[{"$nulls":10},"Subject Detail",null,"Staff Detail",{"$nulls":12},"2019-21","UPPER PRIMARY"]
[null,"SESSION",null,":-","2024-25",{"$nulls":5},"Sr. No.","Subject's Name","Sr. No.","Teacher's Name","Sr. No.","Teacher's Name",{"$nulls":9},"2019-22","SECONDARY"]
[{"$nulls":10},{"$f":"IF(L7>1,1,0)","v":1},"HINDI",{"$f":"IF(N7>1,1,0)","v":1},"A",{"$f":"IF(P7>1,M20+1,0)","v":0},{"$nulls":10},"2019-21","UPPER PRIMARY"]
[null,"SCHOOL'S FULL NAME",null,":-","Govt. Sr. Secondary School ",{"$nulls":5},{"$f":"IF(L8>1,K7+1,0)","v":2},"ENGLISH",{"$f":"IF(N8>1,M7+1,0)","v":2},"B",{"$f":"IF(P8>1,O7+1,0)","v":0}]
[{"$nulls":10},{"$f":"IF(L9>1,K8+1,0)","v":3},"SANSKRIT",{"$f":"IF(N9>1,M8+1,0)","v":3},"C",{"$f":"IF(P9>1,O8+1,0)","v":0},{"$nulls":10},"2019-22","SECONDARY"]
[{"$nulls":10},{"$f":"IF(L10>1,K9+1,0)","v":4},"SCIENCE",{"$f":"IF(N10>1,M9+1,0)","v":4},"D",0,null,null,"CREATOR:-",{"$nulls":7},"2019-23","SR. SECONDARY"]
[null,"ADDRESS",null,":-","P.S.-Bapini (Jodhpur)",{"$nulls":5},{"$f":"IF(L11>1,K10+1,0)","v":5},"MATHEMATICS",{"$f":"IF(N11>1,M10+1,0)","v":5},"E",0]
[{"$nulls":10},{"$f":"IF(L12>1,K11+1,0)","v":6},"SOCIAL SCIENCE",{"$f":"IF(N12>1,M11+1,0)","v":6},"F",0,null,null,"UMMED TARAD",{"$nulls":7},"2019-24"]
[{"$nulls":10},{"$f":"IF(L13>1,K12+1,0)","v":7},"Work Exp.",7,"G",0,{"$nulls":10},"2019-23","SR. SECONDARY"]
[null,"U-DISE CODE",null,":-",{"v":8151106901,"d":"08151106901"},{"$nulls":5},8,"Art Edu.",0,null,0,null,null,"(GSSS RAIMALWADA)",{"$nulls":7},"2019-24"]
[{"$nulls":10},9,"H&P Edu.",0,null,0,{"$nulls":10},"2019-25"]
[null,"NAME OF PRINCIPAL",null,":-",{"$nulls":6},0,null,0,null,0,null,null,"EMAIL ID-ummedtrdedu@gmail.com",{"$nulls":7},"2019-26"]
[{"$nulls":10},0,null,0,null,0,null,null,"Update On :- 10-04-2025"]
[null,"SCHOOL TYPE",null,":-","Sr. Secondary",{"$nulls":5},0,null,0,null,0]
[{"$nulls":10},0,null,0,null,0,{"$nulls":10},"2019-25"]
[null,"Result Date",null,":-","2024-05-07",{"$nulls":5},0,null,0,null,0,{"$nulls":10},"2019-26"]
[{"$nulls":25},"2019-27"]

{"sheet":"Marks Entry","index":2,"n_rows":133,"n_cols":208,"rows_kept":133,"merged":[[0,2,1,10],[0,11,0,130],[0,131,0,175],[0,181,107,182],[1,11,1,24],[1,26,1,30],[1,31,1,175],[2,2,2,5],[2,6,2,7],[2,9,2,10],[2,11,2,30],[2,31,2,50],[2,51,2,70],[2,71,2,90],[2,91,2,110],[2,111,2,130],[2,131,2,139],[2,140,2,148],[2,149,2,157],[2,158,2,160],[2,161,2,168],[2,169,6,169],[2,170,3,175],[2,176,6,176],[2,177,6,177],[2,178,6,178],[2,179,6,179],[2,180,6,180],[3,2,3,5],[3,6,3,7],[3,9,3,10],[3,11,3,30],[3,31,3,50],[3,51,3,70],[3,71,3,90],[3,91,3,110],[3,111,3,130],[3,131,3,139],[3,140,3,148],[3,149,3,157],[3,158,6,158],[3,159,6,159],[3,160,6,160],[3,161,6,161],[3,162,6,162],[3,163,6,163],[3,164,6,164],[3,165,6,165],[3,166,6,166],[3,168,6,168],[4,2,4,10],[4,11,4,13],[4,14,4,16],[4,17,4,19],[4,20,5,20],[4,21,4,23],[4,24,4,26],[4,27,5,27],[4,28,6,28],[4,31,4,33],[4,34,4,36],[4,37,4,39],[4,40,5,40],[4,41,4,43],[4,44,4,46],[4,47,5,47],[4,48,6,48],[4,51,4,53],[4,54,4,56],[4,57,4,59],[4,60,5,60],[4,61,4,63],[4,64,4,66],[4,67,5,67],[4,68,6,68],[4,71,4,73],[4,74,4,76],[4,77,4,79],[4,80,5,80],[4,81,4,83],[4,84,4,86],[4,87,5,87],[4,88,6,88],[4,91,4,93],[4,94,4,96],[4,97,4,99],[4,100,5,100],[4,101,4,103],[4,104,4,106],[4,107,5,107],[4,108,6,108],[4,111,4,113],[4,114,4,116],[4,117,4,119],[4,120,5,120],[4,121,4,123],[4,124,4,126],[4,127,5,127],[4,128,6,128],[4,131,5,131],[4,132,5,132],[4,133,5,133],[4,134,5,134],[4,135,5,135],[4,136,5,136],[4,137,6,137],[4,140,5,140],[4,141,5,141],[4,142,5,142],[4,143,5,143],[4,144,5,144],[4,145,5,145],[4,146,6,146],[4,149,5,149],[4,150,5,150],[4,151,5,151],[4,152,5,152],[4,153,5,153],[4,154,5,154],[4,155,6,155],[4,170,6,170],[4,171,6,171],[4,172,6,172],[4,173,6,173],[4,174,6,174],[4,175,6,175],[5,2,6,2],[5,3,6,3],[5,4,6,4],[5,5,6,5],[5,6,6,6],[5,7,6,7],[5,8,6,8],[5,9,6,9],[5,10,6,10],[5,30,6,30],[5,50,6,50],[5,70,6,70],[5,90,6,90],[5,110,6,110],[5,130,6,130],[5,139,6,139],[5,148,6,148],[5,157,6,157],[5,202,6,202],[5,203,6,203],[5,204,6,204],[5,205,6,205],[6,183,6,186],[6,187,6,190],[6,191,6,194]]}
[null,null,{"$f":"Master!E8","v":"Govt. Sr. Secondary School "}]
[{"$nulls":11},"Result Date:-",{"$nulls":14},{"$f":"Master!E20","v":"2024-05-07"},{"$nulls":4},"Result Entry"]
[null,null,"School U-Dise Code :-",{"$nulls":3},{"$f":"Master!E14","v":{"v":8151106901,"d":"08151106901"}},null,"Session :-",{"$f":"Master!E6","v":"2024-25"},null,"HINDI",{"$nulls":19},"ENGLISH",{"$nulls":19},"SANSKRIT",{"$nulls":19},"SCIENCE",{"$nulls":19},"MATHEMATICS",{"$nulls":19},"SOCIAL SCIENCE",{"$nulls":19},{"$f":"Master!L13","v":"Work Exp."},{"$nulls":8},{"$f":"Master!L14","v":"Art Edu."},{"$nulls":8},"HEALTH & PHY. EDU.",{"$nulls":8},"Attendance",null,null,"Statics",{"$nulls":7},"Remark","Subject Wise Result",{"$nulls":5},"Total Grd \"A\"","Total Grd \"B\"","Total Grd \"C\"","Total Grd \"D\"","Total Grd \"E\""]
[null,null,"Class -",{"$nulls":3},6,null,"Saction :-","(A)",null,0,{"$nulls":19},0,{"$nulls":19},0,{"$nulls":19},0,{"$nulls":19},0,{"$nulls":19},0,{"$nulls":46},"Total Attendance","Student's Attendance","Attandance %","Total Maximum Marks","Obtained Marks","Percentage","Overall Div.","Overall Grade.","Result",null,"Position in Class"]
[null,null,"Student Related Basic Details",{"$nulls":8},"First Test",null,null,"Second Test",null,null,"No Bag Day Activity",null,null,"Total Tests","Half Yearly",null,null,"Yearly Exam",null,null,"Total Marks","MARKS %",null,"Grd","First Test",null,null,"Second Test",null,null,"No Bag Day Activity",null,null,"Total Tests","Half Yearly",null,null,"Yearly Exam",null,null,"Total Marks","MARKS %",null,"Grd","First Test",null,null,"Second Test",null,null,"No Bag Day Activity",null,null,"Total Tests","Half Yearly",null,null,"Yearly Exam",null,null,"Total Marks","MARKS %",null,"Grd","First Test",null,null,"Second Test",null,null,"No Bag Day Activity",null,null,"Total Tests","Half Yearly",null,null,"Yearly Exam",null,null,"Total Marks","MARKS %",null,"Grd","First Test",null,null,"Second Test",null,null,"No Bag Day Activity",null,null,"Total Tests","Half Yearly",null,null,"Yearly Exam",null,null,"Total Marks","MARKS %",null,"Grd","First Test",null,null,"Second Test",null,null,"No Bag Day Activity",null,null,"Total Tests","Half Yearly",null,null,"Yearly Exam",null,null,"Total Marks","MARKS %",null,"Grd","FIRST EVO.","SECOND EVO.","THIRD EVO.","FOURTH EVO.","FIFTH EVO.","Total","MARKS %",null,"Grd.","FIRST EVO.","SECOND EVO.","THIRD EVO.","FOURTH EVO.","FIFTH EVO.","Total","MARKS %",null,"Grd.","FIRST EVO.","SECOND EVO.","THIRD EVO.","FOURTH EVO.","FIFTH EVO.","Total","MARKS %",null,"Grd.",{"$nulls":12},"Hindi","English","Sanskrit","Math","Science","social Science"]
[null,null,"Sr. No.","Class","Scholar Number","School Adm. Date","Roll Number","Student's Name","Father's Name","Mother's Name","Date Of Birth","Written","Act/Oral","Total","Written","Act/Oral","Total","Activity",null,"Total",null,"Written","Act/Oral","Total H.Y.","Written","Act/Oral","Total Yearly",{"$nulls":3},"A+/A/B/C/D","Written","Act/Oral","Total","Written","Act/Oral","Total","Activity",null,"Total",null,"Written","Act/Oral","Total H.Y.","Written","Act/Oral","Total Yearly",{"$nulls":3},"A+/A/B/C/D","Written","Act/Oral","Total","Written","Act/Oral","Total","Activity",null,"Total",null,"Written","Act/Oral","Total H.Y.","Written","Act/Oral","Total Yearly",{"$nulls":3},"A+/A/B/C/D","Written","Act/Oral","Total","Written","Act/Oral","Total","Activity",null,"Total",null,"Written","Act/Oral","Total H.Y.","Written","Act/Oral","Total Yearly",{"$nulls":3},"A+/A/B/C/D","Written","Act/Oral","Total","Written","Act/Oral","Total","Activity",null,"Total",null,"Written","Act/Oral","Total H.Y.","Written","Act/Oral","Total Yearly",{"$nulls":3},"A+/A/B/C/D","Written","Act/Oral","Total","Written","Act/Oral","Total","Activity",null,"Total",null,"Written","Act/Oral","Total H.Y.","Written","Act/Oral","Total Yearly",{"$nulls":3},"A+/A/B/C/D",{"$nulls":8},"A/B/C/D/E",{"$nulls":8},"A/B/C/D/E",{"$nulls":8},"A/B/C/D/E",{"$nulls":44},"COUNT ABSENT","COUNT ML","COUNT BLANK","COUNT 'E'"]
[{"$nulls":11},5,5,{"$f":"SUM(L7:M7)","v":10},5,5,{"$f":"SUM(O7:P7)","v":10},10,null,{"$f":"SUM(R7:S7)","v":10},{"$f":"SUM(T7,Q7,N7)","v":30},50,20,{"$f":"SUM(V7:W7)","v":70},70,30,{"$f":"SUM(Y7:Z7)","v":100},{"$f":"SUM(U7,X7,AA7)","v":200},{"$nulls":3},5,5,{"$f":"SUM(AF7:AG7)","v":10},5,5,{"$f":"SUM(AI7:AJ7)","v":10},10,null,{"$f":"SUM(AL7:AM7)","v":10},{"$f":"SUM(AN7,AK7,AH7)","v":30},50,20,{"$f":"SUM(AP7:AQ7)","v":70},70,30,{"$f":"SUM(AS7:AT7)","v":100},{"$f":"SUM(AO7,AR7,AU7)","v":200},{"$nulls":3},5,5,{"$f":"SUM(AZ7:BA7)","v":10},5,5,{"$f":"SUM(BC7:BD7)","v":10},10,null,{"$f":"SUM(BF7:BG7)","v":10},{"$f":"SUM(BH7,BE7,BB7)","v":30},50,20,{"$f":"SUM(BJ7:BK7)","v":70},70,30,{"$f":"SUM(BM7:BN7)","v":100},{"$f":"SUM(BI7,BL7,BO7)","v":200},{"$nulls":3},5,5,{"$f":"SUM(BT7:BU7)","v":10},5,5,{"$f":"SUM(BW7:BX7)","v":10},10,null,{"$f":"SUM(BZ7:CA7)","v":10},{"$f":"SUM(CB7,BY7,BV7)","v":30},50,20,{"$f":"SUM(CD7:CE7)","v":70},70,30,{"$f":"SUM(CG7:CH7)","v":100},{"$f":"SUM(CC7,CF7,CI7)","v":200},{"$nulls":3},5,5,{"$f":"SUM(CN7:CO7)","v":10},5,5,{"$f":"SUM(CQ7:CR7)","v":10},10,null,{"$f":"SUM(CT7:CU7)","v":10},{"$f":"SUM(CV7,CS7,CP7)","v":30},50,20,{"$f":"SUM(CX7:CY7)","v":70},70,30,{"$f":"SUM(DA7:DB7)","v":100},{"$f":"SUM(CW7,CZ7,DC7)","v":200},{"$nulls":3},5,5,{"$f":"SUM(DH7:DI7)","v":10},5,5,{"$f":"SUM(DK7:DL7)","v":10},10,null,{"$f":"SUM(DN7:DO7)","v":10},{"$f":"SUM(DP7,DM7,DJ7)","v":30},50,20,{"$f":"SUM(DR7:DS7)","v":70},70,30,{"$f":"SUM(DU7:DV7)","v":100},{"$f":"SUM(DQ7,DT7,DW7)","v":200},{"$nulls":3},20,20,20,20,20,{"$f":"SUM(EB7:EF7)","v":100},{"$nulls":3},20,20,20,20,20,{"$f":"SUM(EK7:EO7)","v":100},{"$nulls":3},20,20,20,20,20,{"$f":"SUM(ET7:EX7)","v":100},{"$nulls":28},"WORK EXP.",{"$nulls":3},"ART",{"$nulls":3},"H & PHY EDU"]
[null,null,0,0,0,0,null,0,0,0,0,{"$nulls":9},{"$f":"SUM(L8:M8)","v":0},0,null,{"$f":"SUM(U8,V8)","v":0},{"$f":"SUM(#REF!,#REF!)","v":{"$error":"#REF!"}},null,0,{"$f":"IF(#REF!=\"NA\",#REF!+#REF!+AA8,#REF!+#REF!+#REF!)","v":{"$error":"#REF!"}},{"$f":"IF(OR(AB8=\"\",$AB$7=\"\"),\"\",ROUNDUP(AB8/$AB$7*100,0))","v":{"$error":"#REF!"}},null,{"$f":"IF(OR(#REF!=\"\",#REF!=0,#REF!=\"S\",#REF!=\"F\",#REF!=\"AB\"),#REF!,IF(AC8>=75,\"D\",IF(AC8>=60,\"I\",IF(AC8>=48,\"II\",IF(AC8>=36,\"III\",#REF!)))))","v":{"$error":"#REF!"}},{"$nulls":9},{"$f":"SUM(AF8:AG8)","v":0},0,null,{"$f":"SUM(AO8,AP8)","v":0},{"$f":"SUM(#REF!,#REF!)","v":{"$error":"#REF!"}},null,0,{"$f":"IF(#REF!=\"NA\",#REF!+#REF!+AU8,#REF!+#REF!+#REF!)","v":{"$error":"#REF!"}},{"$f":"IF(OR(AV8=\"\",$AB$7=\"\"),\"\",ROUNDUP(AV8/$AB$7*100,0))","v":{"$error":"#REF!"}},null,{"$f":"IF(OR(#REF!=\"\",#REF!=0,#REF!=\"S\",#REF!=\"F\",#REF!=\"AB\"),#REF!,IF(AW8>=75,\"D\",IF(AW8>=60,\"I\",IF(AW8>=48,\"II\",IF(AW8>=36,\"III\",#REF!)))))","v":{"$error":"#REF!"}},{"$nulls":9},{"$f":"SUM(AZ8:BA8)","v":0},0,null,{"$f":"SUM(BI8,BJ8)","v":0},{"$f":"SUM(#REF!,#REF!)","v":{"$error":"#REF!"}},null,0,{"$f":"IF(#REF!=\"NA\",#REF!+#REF!+BO8,#REF!+#REF!+#REF!)","v":{"$error":"#REF!"}},{"$f":"IF(OR(BP8=\"\",$AB$7=\"\"),\"\",ROUNDUP(BP8/$AB$7*100,0))","v":{"$error":"#REF!"}},null,{"$f":"IF(OR(#REF!=\"\",#REF!=0,#REF!=\"S\",#REF!=\"F\",#REF!=\"AB\"),#REF!,IF(BQ8>=75,\"D\",IF(BQ8>=60,\"I\",IF(BQ8>=48,\"II\",IF(BQ8>=36,\"III\",#REF!)))))","v":{"$error":"#REF!"}},{"$nulls":9},{"$f":"SUM(BT8:BU8)","v":0},0,null,{"$f":"SUM(CC8,CD8)","v":0},{"$f":"SUM(#REF!,#REF!)","v":{"$error":"#REF!"}},null,0,{"$f":"IF(#REF!=\"NA\",#REF!+#REF!+CI8,#REF!+#REF!+#REF!)","v":{"$error":"#REF!"}},{"$f":"IF(OR(CJ8=\"\",$AB$7=\"\"),\"\",ROUNDUP(CJ8/$AB$7*100,0))","v":{"$error":"#REF!"}},null,{"$f":"IF(OR(#REF!=\"\",#REF!=0,#REF!=\"S\",#REF!=\"F\",#REF!=\"AB\"),#REF!,IF(CK8>=75,\"D\",IF(CK8>=60,\"I\",IF(CK8>=48,\"II\",IF(CK8>=36,\"III\",#REF!)))))","v":{"$error":"#REF!"}},{"$nulls":9},{"$f":"SUM(CN8:CO8)","v":0},0,null,{"$f":"SUM(CW8,CX8)","v":0},{"$f":"SUM(#REF!,#REF!)","v":{"$error":"#REF!"}},null,0,{"$f":"IF(#REF!=\"NA\",#REF!+#REF!+DC8,#REF!+#REF!+#REF!)","v":{"$error":"#REF!"}},{"$f":"IF(OR(DD8=\"\",$AB$7=\"\"),\"\",ROUNDUP(DD8/$AB$7*100,0))","v":{"$error":"#REF!"}},null,{"$f":"IF(OR(#REF!=\"\",#REF!=0,#REF!=\"S\",#REF!=\"F\",#REF!=\"AB\"),#REF!,IF(DE8>=75,\"D\",IF(DE8>=60,\"I\",IF(DE8>=48,\"II\",IF(DE8>=36,\"III\",#REF!)))))","v":{"$error":"#REF!"}},{"$nulls":9},{"$f":"SUM(DH8:DI8)","v":0},0,null,{"$f":"SUM(DQ8,DR8)","v":0},{"$f":"SUM(#REF!,#REF!)","v":{"$error":"#REF!"}},null,0,{"$f":"IF(#REF!=\"NA\",#REF!+#REF!+DW8,#REF!+#REF!+#REF!)","v":{"$error":"#REF!"}},{"$f":"IF(OR(DX8=\"\",$AB$7=\"\"),\"\",ROUNDUP(DX8/$AB$7*100,0))","v":{"$error":"#REF!"}},null,{"$f":"IF(OR(#REF!=\"\",#REF!=0,#REF!=\"S\",#REF!=\"F\",#REF!=\"AB\"),#REF!,IF(DY8>=75,\"D\",IF(DY8>=60,\"I\",IF(DY8>=48,\"II\",IF(DY8>=36,\"III\",#REF!)))))","v":{"$error":"#REF!"}},0,0,0,null,null,0,null,null,0,0,0,0,null,null,0,null,null,0,0,0,0,null,null,0,null,null,0,0,0,0,0,0,0,{"$f":"IF(AND(FH8>=60,FK8=\"Pass\"),\"First\",IF(AND(FH8>=60,FK8=\"Pass With G\"),\"First\",IF(AND(FH8>=48,FK8=\"Pass\"),\"Second;\",IF(AND(FH8>=48,FK8=\"Pass With G\"),\"Second\",IF(OR(FK8=\"Pass\",FK8=\"Pass With G\"),\"Third\",FK8)))))","v":""},null,{"$f":"IF($G8=\"NSO\",\"NSO\",IF(OR($G8=\"\",$G8=0,V8=\"\",AP8=\"\",BJ8=\"\",CD8=\"\",CX8=\"\",DR8=\"\"),\"\",IF(OR(#REF!>0,(#REF!+#REF!+#REF!)>2),\"FAIL\",IF(OR(#REF!>0,#REF!>1),\"SUPP.\",IF(AND(#REF!>0,#REF!>0),\"SUPP.\",IF((#REF!+#REF!),\"PASS With G\",\"PASS\"))))))","v":""},null,0,{"$f":"IF(FH8>81,\"Excellent\",IF(FH8>60,\"Verry Good\",IF(FH8>48,\"Good\",IF(FH8>36,\"Average\",IF(FH8=0,0,\"Need Improvement\")))))","v":0},{"$f":"AE8","v":{"$error":"#REF!"}},{"$f":"AY8","v":{"$error":"#REF!"}},{"$f":"BS8","v":{"$error":"#REF!"}},{"$f":"CM8","v":{"$error":"#REF!"}},{"$f":"DG8","v":{"$error":"#REF!"}},{"$f":"EA8","v":{"$error":"#REF!"}},{"$nulls":26},{"$f":"COUNTIF(FK8:GT8,\"AB\")","v":0},{"$f":"COUNTIF(FK8:GT8,\"ML\")","v":0},{"$f":"COUNTBLANK(FK8:GT8)","v":28},{"$f":"COUNTIF(FK8:GT8,\"E\")","v":0}]
[{"$f":"G9","v":901},1,1,{"$f":"IF(E9>0,$G$4,0)","v":6},793,null,901,"ABHISHEK","RAMU KHAN","SEEPA DEVI","2005-07-22","ml",1,{"$f":"IF(L9=\"AB\",\"AB\",IF(L9=\"ML\",\"ML\",SUM(L9:M9)))","v":"ML"},5,2,{"$f":"IF(O9=\"AB\",\"AB\",IF(O9=\"ML\",\"ML\",SUM(O9:P9)))","v":7},2,null,{"$f":"IF(R9=\"AB\",\"AB\",IF(R9=\"ML\",\"ML\",SUM(R9:S9)))","v":2},{"$f":"SUM(N9,Q9,T9)","v":9},30,5,{"$f":"IF(V9=\"AB\",\"AB\",IF(V9=\"ML\",\"ML\",SUM(V9:W9)))","v":35},40,15,{"$f":"IF(Y9=\"AB\",\"AB\",IF(Y9=\"ML\",\"ML\",SUM(Y9:Z9)))","v":55},{"$f":"SUM(U9,X9,AA9)","v":99},{"$f":"IF(OR(AB9=\"\",AB$7=\"\"),\"\",AB9/AB$7*100)","v":{"v":49.5,"d":"49.50"}},{"$f":"IF(G9=\"\",\"\",IF($G9=\"nso\",\"NSO\",IF(AA9=\"ab\",AA9,IF(AA9=\"ML\",AA9,IF(AC9>=86,\"A\",IF(AC9>=71,\"B\",IF(AC9>=51,\"C\",IF(AC9>=31,\"D\",\"E\"))))))))","v":"D"},{"$f":"IF($G9>0,AD9,$G9)","v":"D"},2,2,{"$f":"IF(AF9=\"AB\",\"AB\",IF(AF9=\"ML\",\"ML\",SUM(AF9:AG9)))","v":4},2,2,{"$f":"IF(AI9=\"AB\",\"AB\",IF(AI9=\"ML\",\"ML\",SUM(AI9:AJ9)))","v":4},2,null,{"$f":"IF(AL9=\"AB\",\"AB\",IF(AL9=\"ML\",\"ML\",SUM(AL9:AM9)))","v":2},{"$f":"SUM(AH9,AK9,AN9)","v":10},30,5,{"$f":"IF(AP9=\"AB\",\"AB\",IF(AP9=\"ML\",\"ML\",SUM(AP9:AQ9)))","v":35},38,15,{"$f":"IF(AS9=\"AB\",\"AB\",IF(AS9=\"ML\",\"ML\",SUM(AS9:AT9)))","v":53},{"$f":"SUM(AO9,AR9,AU9)","v":98},{"$f":"IF(OR(AV9=\"\",AV$7=\"\"),\"\",AV9/AV$7*100)","v":{"v":49,"d":"49.00"}},{"$f":"IF($G9=\"nso\",\"NSO\",IF(AU9=\"ab\",AU9,IF(AU9=\"ML\",AU9,IF(AW9>=86,\"A\",IF(AW9>=71,\"B\",IF(AW9>=51,\"C\",IF(AW9>=31,\"D\",\"E\")))))))","v":"D"},{"$f":"IF($G9>0,AX9,$G9)","v":"D"},2,2,{"$f":"IF(AZ9=\"AB\",\"AB\",IF(AZ9=\"ML\",\"ML\",SUM(AZ9:BA9)))","v":4},2,2,{"$f":"IF(BC9=\"AB\",\"AB\",IF(BC9=\"ML\",\"ML\",SUM(BC9:BD9)))","v":4},2,null,{"$f":"IF(BF9=\"AB\",\"AB\",IF(BF9=\"ML\",\"ML\",SUM(BF9:BG9)))","v":2},{"$f":"SUM(BB9,BE9,BH9)","v":10},30,5,{"$f":"IF(BJ9=\"AB\",\"AB\",IF(BJ9=\"ML\",\"ML\",SUM(BJ9:BK9)))","v":35},38,15,{"$f":"IF(BM9=\"AB\",\"AB\",IF(BM9=\"ML\",\"ML\",SUM(BM9:BN9)))","v":53},{"$f":"SUM(BI9,BL9,BO9)","v":98},{"$f":"IF(OR(BP9=\"\",BP$7=\"\"),\"\",BP9/BP$7*100)","v":{"v":49,"d":"49.00"}},{"$f":"IF($G9=\"nso\",\"NSO\",IF(BO9=\"ab\",BO9,IF(BO9=\"ML\",BO9,IF(BQ9>=86,\"A\",IF(BQ9>=71,\"B\",IF(BQ9>=51,\"C\",IF(BQ9>=31,\"D\",\"E\")))))))","v":"D"},{"$f":"IF($G9>0,BR9,$G9)","v":"D"},2,5,{"$f":"IF(BT9=\"AB\",\"AB\",IF(BT9=\"ML\",\"ML\",SUM(BT9:BU9)))","v":7},2,2,{"$f":"IF(BW9=\"AB\",\"AB\",IF(BW9=\"ML\",\"ML\",SUM(BW9:BX9)))","v":4},2,null,{"$f":"IF(BZ9=\"AB\",\"AB\",IF(BZ9=\"ML\",\"ML\",SUM(BZ9:CA9)))","v":2},{"$f":"SUM(BV9,BY9,CB9)","v":13},30,5,{"$f":"IF(CD9=\"AB\",\"AB\",IF(CD9=\"ML\",\"ML\",SUM(CD9:CE9)))","v":35},38,15,{"$f":"IF(CG9=\"AB\",\"AB\",IF(CG9=\"ML\",\"ML\",SUM(CG9:CH9)))","v":53},{"$f":"SUM(CC9,CF9,CI9)","v":101},{"$f":"IF(OR(CJ9=\"\",CJ$7=\"\"),\"\",CJ9/CJ$7*100)","v":{"v":50.5,"d":"50.50"}},{"$f":"IF($G9=\"nso\",\"NSO\",IF(CI9=\"ab\",CI9,IF(CI9=\"ML\",CI9,IF(CK9>=86,\"A\",IF(CK9>=71,\"B\",IF(CK9>=51,\"C\",IF(CK9>=31,\"D\",\"E\")))))))","v":"D"},{"$f":"IF($G9>0,CL9,$G9)","v":"D"},2,3,{"$f":"IF(CN9=\"AB\",\"AB\",IF(CN9=\"ML\",\"ML\",SUM(CN9:CO9)))","v":5},2,2,{"$f":"IF(CQ9=\"AB\",\"AB\",IF(CQ9=\"ML\",\"ML\",SUM(CQ9:CR9)))","v":4},2,null,{"$f":"IF(CT9=\"AB\",\"AB\",IF(CT9=\"ML\",\"ML\",SUM(CT9:CU9)))","v":2},{"$f":"SUM(CP9,CS9,CV9)","v":11},30,5,{"$f":"IF(CX9=\"AB\",\"AB\",IF(CX9=\"ML\",\"ML\",SUM(CX9:CY9)))","v":35},38,15,{"$f":"IF(DA9=\"AB\",\"AB\",IF(DA9=\"ML\",\"ML\",SUM(DA9:DB9)))","v":53},{"$f":"SUM(CW9,CZ9,DC9)","v":99},{"$f":"IF(OR(DD9=\"\",DD$7=\"\"),\"\",DD9/DD$7*100)","v":{"v":49.5,"d":"49.50"}},{"$f":"IF($G9=\"nso\",\"NSO\",IF(DC9=\"ab\",DC9,IF(DC9=\"ML\",DC9,IF(DE9>=86,\"A\",IF(DE9>=71,\"B\",IF(DE9>=51,\"C\",IF(DE9>=31,\"D\",\"E\")))))))","v":"D"},{"$f":"IF($G9>0,DF9,$G9)","v":"D"},2,2,{"$f":"IF(DH9=\"AB\",\"AB\",IF(DH9=\"ML\",\"ML\",SUM(DH9:DI9)))","v":4},2,2,{"$f":"IF(DK9=\"AB\",\"AB\",IF(DK9=\"ML\",\"ML\",SUM(DK9:DL9)))","v":4},2,null,{"$f":"IF(DN9=\"AB\",\"AB\",IF(DN9=\"ML\",\"ML\",SUM(DN9:DO9)))","v":2},{"$f":"SUM(DJ9,DM9,DP9)","v":10},25,0,{"$f":"IF(DR9=\"AB\",\"AB\",IF(DR9=\"ML\",\"ML\",SUM(DR9:DS9)))","v":25},38,15,{"$f":"IF(DU9=\"AB\",\"AB\",IF(DU9=\"ML\",\"ML\",SUM(DU9:DV9)))","v":53},{"$f":"SUM(DQ9,DT9,DW9)","v":88},{"$f":"IF(OR(DX9=\"\",DX$7=\"\"),\"\",DX9/DX$7*100)","v":{"v":44,"d":"44.00"}},{"$f":"IF($G9=\"nso\",\"NSO\",IF(DW9=\"ab\",DW9,IF(DW9=\"ML\",DW9,IF(DY9>=86,\"A\",IF(DY9>=71,\"B\",IF(DY9>=51,\"C\",IF(DY9>=31,\"D\",\"E\")))))))","v":"D"},{"$f":"IF($G9>0,DZ9,$G9)","v":"D"},15,15,11,20,10,{"$f":"SUM(EB9:EF9)","v":71},{"$f":"IF(OR(EG9=\"\",EG$7=\"\"),\"\",EG9/EG$7*100)","v":{"v":71,"d":"71.00"}},{"$f":"IF($G9=\"nso\",\"NSO\",IF(EF9=\"ab\",EF9,IF(EF9=\"ML\",EF9,IF(EH9>=86,\"A\",IF(EH9>=71,\"B\",IF(EH9>=51,\"C\",IF(EH9>=31,\"D\",\"E\")))))))","v":"B"},{"$f":"IF($G9>0,EI9,$G9)","v":"B"},15,15,11,10,10,{"$f":"SUM(EK9:EO9)","v":61},{"$f":"IF(OR(EP9=\"\",EP$7=\"\"),\"\",EP9/EP$7*100)","v":{"v":61,"d":"61.00"}},{"$f":"IF($G9=\"nso\",\"NSO\",IF(EO9=\"ab\",EO9,IF(EO9=\"ML\",EO9,IF(EQ9>=86,\"A\",IF(EQ9>=71,\"B\",IF(EQ9>=51,\"C\",IF(EQ9>=31,\"D\",\"E\")))))))","v":"C"},{"$f":"IF($G9>0,ER9,$G9)","v":"C"},15,15,11,10,10,{"$f":"SUM(ET9:EX9)","v":61},{"$f":"IF(OR(EY9=\"\",EY$7=\"\"),\"\",EY9/EY$7*100)","v":{"v":61,"d":"61.00"}},{"$f":"IF($G9=\"nso\",\"NSO\",IF(EX9=\"ab\",EX9,IF(EX9=\"ML\",EX9,IF(EZ9>=86,\"A\",IF(EZ9>=71,\"B\",IF(EZ9>=51,\"C\",IF(EZ9>=31,\"D\",\"E\")))))))","v":"C"},{"$f":"IF($G9>0,FA9,$G9)","v":"C"},362,274,{"$f":"IF(OR(FC9=\"\",FD9=\"\"),\"\",FD9/FC9*100)","v":{"v":75.69060773480662,"d":"75.69"}},{"$f":"IF(G9=0,0,SUM($AB$7,$AV$7,$BP$7,$CJ$7,$DD$7,$DX$7))","v":1200},{"$f":"SUM(AB9,AV9,BP9,CJ9,DD9,DX9)","v":583},{"$f":"IF(AND(FK9=\"Passed\",FF9>0),FG9/FF9*100,IF(AND(FK9=\"Promoted\",FF9>0),FG9/FF9*100,\"\"))","v":{"v":48.583333333333336,"d":"48.58"}},{"$f":"IF(AND(FH9>=60,FK9=\"Passed\"),\"First\",IF(AND(FH9>=48,FK9=\"Passed\"),\"Second\",IF(OR(FK9=\"passed\"),\"Third\",\"\")))","v":"Second"},{"$f":"IF(OR(FH9=\"\",FK9<>\"PASSED\"),\"\",IF(FH9>85,\"A\",IF(FH9>70,\"B\",IF(FH9>50,\"C\",IF(FH9>30,\"D\",\"E\")))))","v":"D"},{"$f":"IF(OR(G9=0,G9=\"\"),\"\",IF(G9=\"TC\",\"TRANSFERRED\",IF(G9=\"NSO\",\"NSO\",IF(G9=\"DROP\",\"DROP\",IF(GU9>0,\"ABSENT\",IF(GV9>0,\"LEAVE\",IF(GW9>4,\"\",IF(AND(GX9>0,$G$4=8),\"\",IF(GX9>0,\"PROMOTED\",\"PASSED\")))))))))","v":"PASSED"},{"$f":"IF(FK9=\"Passed\",FH9,\"\")","v":{"v":48.583333333333336,"d":"48.583"}},{"$f":"IF(FL9=\"\",\"\",SUMPRODUCT((FL9<FL$9:FL$108)/COUNTIF(FL$9:FL$108,FL$9:FL$108)))","v":2.999999999999999},{"$f":"IF(FH9=\"\",\"\",IF(FH9>=86,\"Excellent\",IF(FH9>=71,\"Very Good\",IF(FH9>=50,\"Good\",IF(FH9>31,\"Average\",\"Need Improvement\")))))","v":"Average"},{"$f":"AE9","v":"D"},{"$f":"AY9","v":"D"},{"$f":"BS9","v":"D"},{"$f":"CM9","v":"D"},{"$f":"DG9","v":"D"},{"$f":"EA9","v":"D"},{"$f":"COUNTIF($FO9:$FT9,\"A\")","v":0},{"$f":"COUNTIF($FO9:$FT9,\"B\")","v":0},{"$f":"COUNTIF($FO9:$FT9,\"C\")","v":0},{"$f":"COUNTIF($FO9:$FT9,\"D\")","v":6},{"$f":"COUNTIF($FO9:$FT9,\"E\")","v":0},null,null,{"$f":"EG9","v":71},"/",{"$f":"$EG$7","v":100},{"$f":"CONCATENATE(GB9,GC9,GD9)","v":"71/100"},{"$f":"EP9","v":61},"/",{"$f":"$EP$7","v":100},{"$f":"CONCATENATE(GF9,GG9,GH9)","v":"61/100"},{"$f":"EY9","v":61},"/",{"$f":"$EY$7","v":100},{"$f":"CONCATENATE(GJ9,GK9,GL9)","v":"61/100"},null,{"$f":"AE9","v":"D"},{"$f":"AY9","v":"D"},{"$f":"BS9","v":"D"},{"$f":"CM9","v":"D"},{"$f":"DG9","v":"D"},{"$f":"EA9","v":"D"},{"$f":"COUNTIF(GO9:GT9,\"ab\")","v":0},{"$f":"COUNTIF(GO9:GT9,\"ml\")","v":0},{"$f":"COUNTBLANK(GO9:GT9)","v":0},{"$f":"COUNTIF(GO9:GT9,\"e\")","v":0}]
[{"$f":"G10","v":902},2,2,{"$f":"IF(E10>0,$G$4,0)","v":6},1490,null,902,"ACHALA RAM","HEMA RAM","TULACHHI DEVI","2005-07-02",2,2,{"$f":"IF(L10=\"AB\",\"AB\",IF(L10=\"ML\",\"ML\",SUM(L10:M10)))","v":4},3,4,{"$f":"IF(O10=\"AB\",\"AB\",IF(O10=\"ML\",\"ML\",SUM(O10:P10)))","v":7},5,null,{"$f":"IF(R10=\"AB\",\"AB\",IF(R10=\"ML\",\"ML\",SUM(R10:S10)))","v":5},{"$f":"SUM(N10,Q10,T10)","v":16},20,15,{"$f":"IF(V10=\"AB\",\"AB\",IF(V10=\"ML\",\"ML\",SUM(V10:W10)))","v":35},40,25,{"$f":"IF(Y10=\"AB\",\"AB\",IF(Y10=\"ML\",\"ML\",SUM(Y10:Z10)))","v":65},{"$f":"SUM(U10,X10,AA10)","v":116},{"$f":"IF(OR(AB10=\"\",AB$7=\"\"),\"\",AB10/AB$7*100)","v":{"v":57.99999999999999,"d":"58.00"}},{"$f":"IF(G10=\"\",\"\",IF($G10=\"nso\",\"NSO\",IF(AA10=\"ab\",AA10,IF(AA10=\"ML\",AA10,IF(AC10>=86,\"A\",IF(AC10>=71,\"B\",IF(AC10>=51,\"C\",IF(AC10>=31,\"D\",\"E\"))))))))","v":"C"},{"$f":"IF($G10>0,AD10,$G10)","v":"C"},4,5,{"$f":"IF(AF10=\"AB\",\"AB\",IF(AF10=\"ML\",\"ML\",SUM(AF10:AG10)))","v":9},4,5,{"$f":"IF(AI10=\"AB\",\"AB\",IF(AI10=\"ML\",\"ML\",SUM(AI10:AJ10)))","v":9},2,null,{"$f":"IF(AL10=\"AB\",\"AB\",IF(AL10=\"ML\",\"ML\",SUM(AL10:AM10)))","v":2},{"$f":"SUM(AH10,AK10,AN10)","v":20},35,18,{"$f":"IF(AP10=\"AB\",\"AB\",IF(AP10=\"ML\",\"ML\",SUM(AP10:AQ10)))","v":53},45,20,{"$f":"IF(AS10=\"AB\",\"AB\",IF(AS10=\"ML\",\"ML\",SUM(AS10:AT10)))","v":65},{"$f":"SUM(AO10,AR10,AU10)","v":138},{"$f":"IF(OR(AV10=\"\",AV$7=\"\"),\"\",AV10/AV$7*100)","v":{"v":69,"d":"69.00"}},{"$f":"IF($G10=\"nso\",\"NSO\",IF(AU10=\"ab\",AU10,IF(AU10=\"ML\",AU10,IF(AW10>=86,\"A\",IF(AW10>=71,\"B\",IF(AW10>=51,\"C\",IF(AW10>=31,\"D\",\"E\")))))))","v":"C"},{"$f":"IF($G10>0,AX10,$G10)","v":"C"},2,3,{"$f":"IF(AZ10=\"AB\",\"AB\",IF(AZ10=\"ML\",\"ML\",SUM(AZ10:BA10)))","v":5},5,3,{"$f":"IF(BC10=\"AB\",\"AB\",IF(BC10=\"ML\",\"ML\",SUM(BC10:BD10)))","v":8},2,null,{"$f":"IF(BF10=\"AB\",\"AB\",IF(BF10=\"ML\",\"ML\",SUM(BF10:BG10)))","v":2},{"$f":"SUM(BB10,BE10,BH10)","v":15},15,20,{"$f":"IF(BJ10=\"AB\",\"AB\",IF(BJ10=\"ML\",\"ML\",SUM(BJ10:BK10)))","v":35},45,15,{"$f":"IF(BM10=\"AB\",\"AB\",IF(BM10=\"ML\",\"ML\",SUM(BM10:BN10)))","v":60},{"$f":"SUM(BI10,BL10,BO10)","v":110},{"$f":"IF(OR(BP10=\"\",BP$7=\"\"),\"\",BP10/BP$7*100)","v":{"v":55.00000000000001,"d":"55.00"}},{"$f":"IF($G10=\"nso\",\"NSO\",IF(BO10=\"ab\",BO10,IF(BO10=\"ML\",BO10,IF(BQ10>=86,\"A\",IF(BQ10>=71,\"B\",IF(BQ10>=51,\"C\",IF(BQ10>=31,\"D\",\"E\")))))))","v":"C"},{"$f":"IF($G10>0,BR10,$G10)","v":"C"},1,1,{"$f":"IF(BT10=\"AB\",\"AB\",IF(BT10=\"ML\",\"ML\",SUM(BT10:BU10)))","v":2},1,1,{"$f":"IF(BW10=\"AB\",\"AB\",IF(BW10=\"ML\",\"ML\",SUM(BW10:BX10)))","v":2},1,null,{"$f":"IF(BZ10=\"AB\",\"AB\",IF(BZ10=\"ML\",\"ML\",SUM(BZ10:CA10)))","v":1},{"$f":"SUM(BV10,BY10,CB10)","v":5},15,15,{"$f":"IF(CD10=\"AB\",\"AB\",IF(CD10=\"ML\",\"ML\",SUM(CD10:CE10)))","v":30},35,20,{"$f":"IF(CG10=\"AB\",\"AB\",IF(CG10=\"ML\",\"ML\",SUM(CG10:CH10)))","v":55},{"$f":"SUM(CC10,CF10,CI10)","v":90},{"$f":"IF(OR(CJ10=\"\",CJ$7=\"\"),\"\",CJ10/CJ$7*100)","v":{"v":45,"d":"45.00"}},{"$f":"IF($G10=\"nso\",\"NSO\",IF(CI10=\"ab\",CI10,IF(CI10=\"ML\",CI10,IF(CK10>=86,\"A\",IF(CK10>=71,\"B\",IF(CK10>=51,\"C\",IF(CK10>=31,\"D\",\"E\")))))))","v":"D"},{"$f":"IF($G10>0,CL10,$G10)","v":"D"},1,1,{"$f":"IF(CN10=\"AB\",\"AB\",IF(CN10=\"ML\",\"ML\",SUM(CN10:CO10)))","v":2},2,2,{"$f":"IF(CQ10=\"AB\",\"AB\",IF(CQ10=\"ML\",\"ML\",SUM(CQ10:CR10)))","v":4},2,null,{"$f":"IF(CT10=\"AB\",\"AB\",IF(CT10=\"ML\",\"ML\",SUM(CT10:CU10)))","v":2},{"$f":"SUM(CP10,CS10,CV10)","v":8},25,20,{"$f":"IF(CX10=\"AB\",\"AB\",IF(CX10=\"ML\",\"ML\",SUM(CX10:CY10)))","v":45},33,17,{"$f":"IF(DA10=\"AB\",\"AB\",IF(DA10=\"ML\",\"ML\",SUM(DA10:DB10)))","v":50},{"$f":"SUM(CW10,CZ10,DC10)","v":103},{"$f":"IF(OR(DD10=\"\",DD$7=\"\"),\"\",DD10/DD$7*100)","v":{"v":51.5,"d":"51.50"}},{"$f":"IF($G10=\"nso\",\"NSO\",IF(DC10=\"ab\",DC10,IF(DC10=\"ML\",DC10,IF(DE10>=86,\"A\",IF(DE10>=71,\"B\",IF(DE10>=51,\"C\",IF(DE10>=31,\"D\",\"E\")))))))","v":"C"},{"$f":"IF($G10>0,DF10,$G10)","v":"C"},3,3,{"$f":"IF(DH10=\"AB\",\"AB\",IF(DH10=\"ML\",\"ML\",SUM(DH10:DI10)))","v":6},3,3,{"$f":"IF(DK10=\"AB\",\"AB\",IF(DK10=\"ML\",\"ML\",SUM(DK10:DL10)))","v":6},3,null,{"$f":"IF(DN10=\"AB\",\"AB\",IF(DN10=\"ML\",\"ML\",SUM(DN10:DO10)))","v":3},{"$f":"SUM(DJ10,DM10,DP10)","v":15},25,20,{"$f":"IF(DR10=\"AB\",\"AB\",IF(DR10=\"ML\",\"ML\",SUM(DR10:DS10)))","v":45},45,20,{"$f":"IF(DU10=\"AB\",\"AB\",IF(DU10=\"ML\",\"ML\",SUM(DU10:DV10)))","v":65},{"$f":"SUM(DQ10,DT10,DW10)","v":125},{"$f":"IF(OR(DX10=\"\",DX$7=\"\"),\"\",DX10/DX$7*100)","v":{"v":62.5,"d":"62.50"}},{"$f":"IF($G10=\"nso\",\"NSO\",IF(DW10=\"ab\",DW10,IF(DW10=\"ML\",DW10,IF(DY10>=86,\"A\",IF(DY10>=71,\"B\",IF(DY10>=51,\"C\",IF(DY10>=31,\"D\",\"E\")))))))","v":"C"},{"$f":"IF($G10>0,DZ10,$G10)","v":"C"},10,10,10,10,10,{"$f":"SUM(EB10:EF10)","v":50},{"$f":"IF(OR(EG10=\"\",EG$7=\"\"),\"\",EG10/EG$7*100)","v":{"v":50,"d":"50.00"}},{"$f":"IF($G10=\"nso\",\"NSO\",IF(EF10=\"ab\",EF10,IF(EF10=\"ML\",EF10,IF(EH10>=86,\"A\",IF(EH10>=71,\"B\",IF(EH10>=51,\"C\",IF(EH10>=31,\"D\",\"E\")))))))","v":"D"},{"$f":"IF($G10>0,EI10,$G10)","v":"D"},10,15,20,20,15,{"$f":"SUM(EK10:EO10)","v":80},{"$f":"IF(OR(EP10=\"\",EP$7=\"\"),\"\",EP10/EP$7*100)","v":{"v":80,"d":"80.00"}},{"$f":"IF($G10=\"nso\",\"NSO\",IF(EO10=\"ab\",EO10,IF(EO10=\"ML\",EO10,IF(EQ10>=86,\"A\",IF(EQ10>=71,\"B\",IF(EQ10>=51,\"C\",IF(EQ10>=31,\"D\",\"E\")))))))","v":"B"},{"$f":"IF($G10>0,ER10,$G10)","v":"B"},15,15,15,15,15,{"$f":"SUM(ET10:EX10)","v":75},{"$f":"IF(OR(EY10=\"\",EY$7=\"\"),\"\",EY10/EY$7*100)","v":{"v":75,"d":"75.00"}},{"$f":"IF($G10=\"nso\",\"NSO\",IF(EX10=\"ab\",EX10,IF(EX10=\"ML\",EX10,IF(EZ10>=86,\"A\",IF(EZ10>=71,\"B\",IF(EZ10>=51,\"C\",IF(EZ10>=31,\"D\",\"E\")))))))","v":"B"},{"$f":"IF($G10>0,FA10,$G10)","v":"B"},null,null,{"$f":"IF(OR(FC10=\"\",FD10=\"\"),\"\",FD10/FC10*100)","v":""},1200,682,{"$f":"IF(AND(FK10=\"Passed\",FF10>0),FG10/FF10*100,IF(AND(FK10=\"Promoted\",FF10>0),FG10/FF10*100,\"\"))","v":{"v":56.833333333333336,"d":"56.83"}},{"$f":"IF(AND(FH10>=60,FK10=\"Passed\"),\"First\",IF(AND(FH10>=48,FK10=\"Passed\"),\"Second\",IF(OR(FK10=\"passed\"),\"Third\",\"\")))","v":"Second"},{"$f":"IF(OR(FH10=\"\",FK10<>\"PASSED\"),\"\",IF(FH10>85,\"A\",IF(FH10>70,\"B\",IF(FH10>50,\"C\",IF(FH10>30,\"D\",\"E\")))))","v":"C"},{"$f":"IF(OR(G10=0,G10=\"\"),\"\",IF(G10=\"TC\",\"TRANSFERRED\",IF(G10=\"NSO\",\"NSO\",IF(G10=\"DROP\",\"DROP\",IF(GU10>0,\"ABSENT\",IF(GV10>0,\"LEAVE\",IF(GW10>4,\"\",IF(AND(GX10>0,$G$4=8),\"\",IF(GX10>0,\"PROMOTED\",\"PASSED\")))))))))","v":"PASSED"},{"$f":"IF(FK10=\"Passed\",FH10,\"\")","v":56.833333333333336},{"$f":"IF(FL10=\"\",\"\",SUMPRODUCT((FL10<FL$9:FL$108)/COUNTIF(FL$9:FL$108,FL$9:FL$108)))","v":1.9999999999999991},{"$f":"IF(FH10=\"\",\"\",IF(FH10>=86,\"Excellent\",IF(FH10>=71,\"Very Good\",IF(FH10>=50,\"Good\",IF(FH10>31,\"Average\",\"Need Improvement\")))))","v":"Good"},"C","C","C","D","C","C",{"$f":"COUNTIF($FO10:$FT10,\"A\")","v":0},{"$f":"COUNTIF($FO10:$FT10,\"B\")","v":0},{"$f":"COUNTIF($FO10:$FT10,\"C\")","v":5},{"$f":"COUNTIF($FO10:$FT10,\"D\")","v":1},{"$f":"COUNTIF($FO10:$FT10,\"E\")","v":0},null,null,{"$f":"EG10","v":50},"/",{"$f":"$EG$7","v":100},{"$f":"CONCATENATE(GB10,GC10,GD10)","v":"50/100"},{"$f":"EP10","v":80},"/",{"$f":"$EP$7","v":100},{"$f":"CONCATENATE(GF10,GG10,GH10)","v":"80/100"},{"$f":"EY10","v":75},"/",{"$f":"$EY$7","v":100},{"$f":"CONCATENATE(GJ10,GK10,GL10)","v":"75/100"},null,{"$f":"AE10","v":"C"},{"$f":"AY10","v":"C"},{"$f":"BS10","v":"C"},{"$f":"CM10","v":"D"},{"$f":"DG10","v":"C"},{"$f":"EA10","v":"C"},{"$f":"COUNTIF(GO10:GT10,\"ab\")","v":0},{"$f":"COUNTIF(GO10:GT10,\"ml\")","v":0},{"$f":"COUNTBLANK(GO10:GT10)","v":0},{"$f":"COUNTIF(GO10:GT10,\"e\")","v":0}]
[903,3,3,6,1458,null,903,"ANITA ","DUDA RAM ","SUKHI","2006-06-25",5,2,{"$f":"IF(L11=\"AB\",\"AB\",IF(L11=\"ML\",\"ML\",SUM(L11:M11)))","v":7},5,2,7,5,null,5,{"$f":"SUM(N11,Q11,T11)","v":19},15,12,{"$f":"IF(V11=\"AB\",\"AB\",IF(V11=\"ML\",\"ML\",SUM(V11:W11)))","v":27},15,12,{"$f":"IF(Y11=\"AB\",\"AB\",IF(Y11=\"ML\",\"ML\",SUM(Y11:Z11)))","v":27},{"$f":"SUM(U11,X11,AA11)","v":73},{"$f":"IF(OR(AB11=\"\",AB$7=\"\"),\"\",AB11/AB$7*100)","v":{"v":36.5,"d":"36.50"}},"D",{"$f":"IF($G11>0,AD11,$G11)","v":"D"},5,2,7,5,2,7,5,null,5,{"$f":"SUM(AH11,AK11,AN11)","v":19},30,5,{"$f":"IF(AP11=\"AB\",\"AB\",IF(AP11=\"ML\",\"ML\",SUM(AP11:AQ11)))","v":35},30,5,{"$f":"IF(AS11=\"AB\",\"AB\",IF(AS11=\"ML\",\"ML\",SUM(AS11:AT11)))","v":35},{"$f":"SUM(AO11,AR11,AU11)","v":89},{"v":44.5,"d":"44.50"},"D","D",5,2,7,5,2,7,5,null,5,{"$f":"SUM(BB11,BE11,BH11)","v":19},30,5,{"$f":"IF(BJ11=\"AB\",\"AB\",IF(BJ11=\"ML\",\"ML\",SUM(BJ11:BK11)))","v":35},30,5,{"$f":"IF(BM11=\"AB\",\"AB\",IF(BM11=\"ML\",\"ML\",SUM(BM11:BN11)))","v":35},{"$f":"SUM(BI11,BL11,BO11)","v":89},{"v":44.5,"d":"44.50"},"D","D",5,2,7,5,2,7,5,null,5,{"$f":"SUM(BV11,BY11,CB11)","v":19},30,5,{"$f":"IF(CD11=\"AB\",\"AB\",IF(CD11=\"ML\",\"ML\",SUM(CD11:CE11)))","v":35},30,5,{"$f":"IF(CG11=\"AB\",\"AB\",IF(CG11=\"ML\",\"ML\",SUM(CG11:CH11)))","v":35},{"$f":"SUM(CC11,CF11,CI11)","v":89},{"v":44.5,"d":"44.50"},"D","D",5,2,7,5,2,7,5,null,5,{"$f":"SUM(CP11,CS11,CV11)","v":19},30,5,{"$f":"IF(CX11=\"AB\",\"AB\",IF(CX11=\"ML\",\"ML\",SUM(CX11:CY11)))","v":35},30,5,{"$f":"IF(DA11=\"AB\",\"AB\",IF(DA11=\"ML\",\"ML\",SUM(DA11:DB11)))","v":35},{"$f":"SUM(CW11,CZ11,DC11)","v":89},{"v":44.5,"d":"44.50"},"D","D",5,2,7,5,2,7,5,null,5,{"$f":"SUM(DJ11,DM11,DP11)","v":19},30,5,{"$f":"IF(DR11=\"AB\",\"AB\",IF(DR11=\"ML\",\"ML\",SUM(DR11:DS11)))","v":35},30,5,{"$f":"IF(DU11=\"AB\",\"AB\",IF(DU11=\"ML\",\"ML\",SUM(DU11:DV11)))","v":35},{"$f":"SUM(DQ11,DT11,DW11)","v":89},{"v":44.5,"d":"44.50"},"D","D",15,15,11,20,10,71,{"v":71,"d":"71.00"},"B","B",15,15,11,20,10,71,{"v":71,"d":"71.00"},"B","B",15,15,11,20,10,71,{"v":71,"d":"71.00"},"B","B",null,null,"",1200,518,{"v":43.166666666666664,"d":"43.17"},"Third","D","PASSED",43.166666666666664,5.999999999999999,"Average","D","D","D","D","D","D",0,0,0,6,0,null,null,71,"/",100,"71/100",71,"/",100,"71/100",71,"/",100,"71/100",null,"D","D","D","D","D","D",0,0,0,0]
[904,4,4,6,1470,null,904,"ANOPI","HARI RAM","RUKI","2007-08-15",3,4,7,3,4,7,3,null,3,17,20,18,38,20,18,38,93,{"v":46.5,"d":"46.50"},"D","D",3,4,7,3,4,7,3,null,3,17,20,15,35,20,15,35,87,{"v":43.5,"d":"43.50"},"D","D",3,4,7,3,4,7,3,null,3,17,20,15,35,20,15,35,87,{"v":43.5,"d":"43.50"},"D","D",3,4,7,3,4,7,3,null,3,17,20,15,35,20,15,35,87,{"v":43.5,"d":"43.50"},"D","D",3,4,7,3,4,7,3,null,3,17,20,15,35,20,15,35,87,{"v":43.5,"d":"43.50"},"D","D",3,4,7,3,4,7,3,null,3,17,20,15,35,20,15,35,87,{"v":43.5,"d":"43.50"},"D","D",15,15,11,20,10,71,{"v":71,"d":"71.00"},"B","B",15,15,11,20,10,71,{"v":71,"d":"71.00"},"B","B",15,15,11,20,10,71,{"v":71,"d":"71.00"},"B","B",null,null,{"$f":"IF(OR(FC12=\"\",FD12=\"\"),\"\",FD12/FC12*100)","v":""},1200,528,{"v":44,"d":"44.00"},"Third","D","PASSED",44,4.999999999999999,"Average","D","D","D","D","D","D",0,0,0,6,0,null,null,71,"/",100,"71/100",71,"/",100,"71/100",71,"/",100,"71/100",null,"D","D","D","D","D","D",0,0,0,0]
[905,5,5,{"$f":"IF(E13>0,$G$4,0)","v":6},968,null,905,"ANU JANDU","HEERA RAM JANDU","MANU DEVI","2006-08-17",5,2,7,5,2,7,5,null,5,19,15,12,27,15,12,27,73,{"v":36.5,"d":"36.50"},"D","D",5,2,7,5,2,7,5,null,5,19,15,12,27,15,12,27,73,{"v":36.5,"d":"36.50"},"D","D",5,2,7,5,2,7,5,null,5,19,15,12,27,15,12,27,73,{"v":36.5,"d":"36.50"},"D","D",5,2,7,5,2,7,5,null,5,19,15,12,27,15,12,27,73,{"v":36.5,"d":"36.50"},"D","D",5,2,7,5,2,7,5,null,5,19,15,12,27,15,12,27,73,{"v":36.5,"d":"36.50"},"D","D",5,2,7,5,2,7,5,null,5,19,15,12,27,15,12,27,73,{"v":36.5,"d":"36.50"},"D","D",15,15,11,20,10,71,{"v":71,"d":"71.00"},"B","B",15,15,11,20,10,71,{"v":71,"d":"71.00"},"B","B",15,15,11,20,10,71,{"v":71,"d":"71.00"},"B","B",null,null,"",1200,438,{"v":36.5,"d":"36.50"},"Third","D","PASSED",36.5,6.999999999999999,"Average","D","D","D","D","D","D",0,0,0,6,0,null,null,71,"/",100,"71/100",71,"/",100,"71/100",71,"/",100,"71/100",null,"D","D","D","D","D","D",0,0,0,0]
[906,6,6,6,1404,null,906,"ASHOKA SUTHAR","SATYNARYAN","SANTU","2006-06-08",3,4,7,3,4,7,3,null,3,17,20,18,38,20,18,38,93,{"v":46.5,"d":"46.50"},"D","D",3,4,7,3,4,7,3,null,3,17,20,18,38,20,18,38,93,{"v":46.5,"d":"46.50"},"D","D",3,4,7,3,4,7,3,null,3,17,20,18,38,20,18,38,93,{"v":46.5,"d":"46.50"},"D","D",3,4,7,3,4,7,3,null,3,17,20,18,38,20,18,38,93,{"v":46.5,"d":"46.50"},"D","D",3,4,7,3,4,7,3,null,3,17,20,18,38,20,18,38,93,{"v":46.5,"d":"46.50"},"D","D",3,4,7,3,4,7,3,null,3,17,20,18,38,20,18,38,93,{"v":46.5,"d":"46.50"},"D","D",15,15,11,20,10,71,{"v":71,"d":"71.00"},"B","B",15,15,11,20,10,71,{"v":71,"d":"71.00"},"B","B",15,15,11,20,10,71,{"v":71,"d":"71.00"},"B","B",null,null,"",1200,558,{"v":46.5,"d":"46.50"},"Third","D","PASSED",46.5,3.999999999999999,"Average","D","D","D","D","D","D",0,0,0,6,0,null,null,71,"/",100,"71/100",71,"/",100,"71/100",71,"/",100,"71/100",null,"D","D","D","D","D","D",0,0,0,0]
[907,7,7,6,1453,null,907,"BAJRANG VISHNOI","OM PRAKASH VISHNOI","LOONGA DEVI","2006-10-01",2,2,4,2,2,4,2,null,2,10,15,15,30,45,15,60,100,{"v":50,"d":"50.00"},"D","D",3,3,6,3,3,6,3,null,3,15,25,15,40,55,15,70,125,{"v":62.5,"d":"62.50"},"C","C",4,4,8,4,4,8,4,null,4,20,25,20,45,65,15,80,145,{"v":72.5,"d":"72.50"},"B","B",2,2,4,2,2,4,2,null,2,10,30,15,45,45,15,60,115,{"v":57.49999999999999,"d":"57.50"},"C","C",4,4,8,4,4,8,4,null,4,20,15,15,30,45,15,60,110,{"v":55.00000000000001,"d":"55.00"},"C","C",5,5,10,5,5,10,5,null,5,25,25,15,40,65,25,90,155,{"v":77.5,"d":"77.50"},"B","B",15,15,11,20,10,71,{"v":71,"d":"71.00"},"B","B",15,15,11,20,10,71,{"v":71,"d":"71.00"},"B","B",15,15,11,20,10,71,{"v":71,"d":"71.00"},"B","B",null,null,"",1200,750,{"v":62.5,"d":"62.50"},"First","C","PASSED",62.5,0.9999999999999993,"Good","D","C","B","C","C","B",0,2,3,1,0,null,null,71,"/",100,"71/100",71,"/",100,"71/100",71,"/",100,"71/100",null,"D","C","B","C","C","B",0,0,0,0]
[908,8,8,6,1,null,908,{"$nulls":6},0,null,null,0,null,null,0,0,null,null,0,null,null,0,0,{"v":0,"d":"0.00"},"E","E",null,null,0,null,null,0,null,null,0,0,null,null,0,null,null,0,0,{"v":0,"d":"0.00"},"E","E",null,null,0,null,null,0,null,null,0,0,null,null,0,null,null,0,0,{"v":0,"d":"0.00"},"E","E",null,null,0,null,null,0,null,null,0,0,null,null,0,null,null,0,0,{"v":0,"d":"0.00"},"E","E",null,null,0,null,null,0,null,null,0,0,null,null,0,null,null,0,0,{"v":0,"d":"0.00"},"E","E",null,null,0,null,null,0,null,null,0,0,null,null,0,null,null,0,0,{"v":0,"d":"0.00"},"E","E",0,0,0,null,null,0,{"v":0,"d":"0.00"},"E","E",0,0,0,null,null,0,{"v":0,"d":"0.00"},"E","E",0,0,0,null,null,0,{"v":0,"d":"0.00"},"E","E",null,null,"",1200,0,{"v":0,"d":"0.00"},"","","PROMOTED","","","Need Improvement","E","E","E","E","E","E",0,0,0,0,6,null,null,0,"/",100,"0/100",0,"/",100,"0/100",0,"/",100,"0/100",null,"E","E","E","E","E","E",0,0,0,6]
[909,9,9,6,2,null,909,{"$nulls":6},0,null,null,0,null,null,0,0,null,null,0,null,null,0,0,{"v":0,"d":"0.00"},"E","E",null,null,0,null,null,0,null,null,0,0,null,null,0,null,null,0,0,{"v":0,"d":"0.00"},"E","E",null,null,0,null,null,0,null,null,0,0,null,null,0,null,null,0,0,{"v":0,"d":"0.00"},"E","E",null,null,0,null,null,0,null,null,0,0,null,null,0,null,null,0,0,{"v":0,"d":"0.00"},"E","E",null,null,0,null,null,0,null,null,0,0,null,null,0,null,null,0,0,{"v":0,"d":"0.00"},"E","E",null,null,0,null,null,0,null,null,0,0,null,null,0,null,null,0,0,{"v":0,"d":"0.00"},"E","E",0,0,0,null,null,0,{"v":0,"d":"0.00"},"E","E",0,0,0,null,null,0,{"v":0,"d":"0.00"},"E","E",0,0,0,null,null,0,{"v":0,"d":"0.00"},"E","E",null,null,"",1200,0,{"v":0,"d":"0.00"},"","","PROMOTED","","","Need Improvement","E","E","E","E","E","E",0,0,0,0,6,null,null,0,"/",100,"0/100",0,"/",100,"0/100",0,"/",100,"0/100",null,"E","E","E","E","E","E",0,0,0,6]
[0,10,10,0,{"$nulls":9},0,null,null,0,null,null,0,0,null,null,0,null,null,0,0,{"v":0,"d":"0.00"},"",0,null,null,0,null,null,0,null,null,0,0,null,null,0,null,null,0,0,{"v":0,"d":"0.00"},"E",0,null,null,0,null,null,0,null,null,0,0,null,null,0,null,null,0,0,{"v":0,"d":"0.00"},"E",0,null,null,0,null,null,0,null,null,0,0,null,null,0,null,null,0,0,{"v":0,"d":"0.00"},"E",0,null,null,0,null,null,0,null,null,0,0,null,null,0,null,null,0,0,{"v":0,"d":"0.00"},"E",0,null,null,0,null,null,0,null,null,0,0,null,null,0,null,null,0,0,{"v":0,"d":"0.00"},"E",0,0,0,0,null,null,0,{"v":0,"d":"0.00"},"E",0,0,0,0,null,null,0,{"v":0,"d":"0.00"},"E",0,0,0,0,null,null,0,{"v":0,"d":"0.00"},"E",0,null,null,"",0,0,"","","","","","","",0,0,0,0,0,0,0,0,0,0,0,null,null,0,"/",100,"0/100",0,"/",100,"0/100",0,"/",100,"0/100",null,0,0,0,0,0,0,0,0,0,0]
[0,11,11,0,{"$nulls":9},0,null,null,0,null,null,0,0,null,null,0,null,null,0,0,{"v":0,"d":"0.00"},"",0,null,null,0,null,null,0,null,null,0,0,null,null,0,null,null,0,0,{"v":0,"d":"0.00"},"E",0,null,null,0,null,null,0,null,null,0,0,null,null,0,null,null,0,0,{"v":0,"d":"0.00"},"E",0,null,null,0,null,null,0,null,null,0,0,null,null,0,null,null,0,0,{"v":0,"d":"0.00"},"E",0,null,null,0,null,null,0,null,null,0,0,null,null,0,null,null,0,0,{"v":0,"d":"0.00"},"E",0,null,null,0,null,null,0,null,null,0,0,null,null,0,null,null,0,0,{"v":0,"d":"0.00"},"E",0,0,0,0,null,null,0,{"v":0,"d":"0.00"},"E",0,0,0,0,null,null,0,{"v":0,"d":"0.00"},"E",0,0,0,0,null,null,0,{"v":0,"d":"0.00"},"E",0,null,null,"",0,0,"","","","","","","",0,0,0,0,0,0,0,0,0,0,0,null,null,0,"/",100,"0/100",0,"/",100,"0/100",0,"/",100,"0/100",null,0,0,0,0,0,0,0,0,0,0]
[0,12,12,0,{"$nulls":9},0,null,null,0,null,null,0,0,null,null,0,null,null,0,0,{"v":0,"d":"0.00"},"",0,null,null,0,null,null,0,null,null,0,0,null,null,0,null,null,0,0,{"v":0,"d":"0.00"},"E",0,null,null,0,null,null,0,null,null,0,0,null,null,0,null,null,0,0,{"v":0,"d":"0.00"},"E",0,null,null,0,null,null,0,null,null,0,0,null,null,0,null,null,0,0,{"v":0,"d":"0.00"},"E",0,null,null,0,null,null,0,null,null,0,0,null,null,0,null,null,0,0,{"v":0,"d":"0.00"},"E",0,null,null,0,null,null,0,null,null,0,0,null,null,0,null,null,0,0,{"v":0,"d":"0.00"},"E",0,0,0,0,null,null,0,{"v":0,"d":"0.00"},"E",0,0,0,0,null,null,0,{"v":0,"d":"0.00"},"E",0,0,0,0,null,null,0,{"v":0,"d":"0.00"},"E",0,null,null,"",0,0,"","","","","","","",0,0,0,0,0,0,0,0,0,0,0,null,null,0,"/",100,"0/100",0,"/",100,"0/100",0,"/",100,"0/100",null,0,0,0,0,0,0,0,0,0,0]
[0,13,13,0,{"$nulls":9},0,null,null,0,null,null,0,0,null,null,0,null,null,0,0,{"v":0,"d":"0.00"},"",0,null,null,0,null,null,0,null,null,0,0,null,null,0,null,null,0,0,{"v":0,"d":"0.00"},"E",0,null,null,0,null,null,0,null,null,0,0,null,null,0,null,null,0,0,{"v":0,"d":"0.00"},"E",0,null,null,0,null,null,0,null,null,0,0,null,null,0,null,null,0,0,{"v":0,"d":"0.00"},"E",0,null,null,0,null,null,0,null,null,0,0,null,null,0,null,null,0,0,{"v":0,"d":"0.00"},"E",0,null,null,0,null,null,0,null,null,0,0,null,null,0,null,null,0,0,{"v":0,"d":"0.00"},"E",0,0,0,0,null,null,0,{"v":0,"d":"0.00"},"E",0,0,0,0,null,null,0,{"v":0,"d":"0.00"},"E",0,0,0,0,null,null,0,{"v":0,"d":"0.00"},"E",0,null,null,"",0,0,"","","","","","","",0,0,0,0,0,0,0,0,0,0,0,null,null,0,"/",100,"0/100",0,"/",100,"0/100",0,"/",100,"0/100",null,0,0,0,0,0,0,0,0,0,0]
[0,14,14,0,{"$nulls":9},0,null,null,0,null,null,0,0,null,null,0,null,null,0,0,{"v":0,"d":"0.00"},"",0,null,null,0,null,null,0,null,null,0,0,null,null,0,null,null,0,0,{"v":0,"d":"0.00"},"E",0,null,null,0,null,null,0,null,null,0,0,null,null,0,null,null,0,0,{"v":0,"d":"0.00"},"E",0,null,null,0,null,null,0,null,null,0,0,null,null,0,null,null,0,0,{"v":0,"d":"0.00"},"E",0,null,null,0,null,null,0,null,null,0,0,null,null,0,null,null,0,0,{"v":0,"d":"0.00"},"E",0,null,null,0,null,null,0,null,null,0,0,null,null,0,null,null,0,0,{"v":0,"d":"0.00"},"E",0,0,0,0,null,null,0,{"v":0,"d":"0.00"},"E",0,0,0,0,null,null,0,{"v":0,"d":"0.00"},"E",0,0,0,0,null,null,0,{"v":0,"d":"0.00"},"E",0,null,null,"",0,0,"","","","","","","",0,0,0,0,0,0,0,0,0,0,0,null,null,0,"/",100,"0/100",0,"/",100,"0/100",0,"/",100,"0/100",null,0,0,0,0,0,0,0,0,0,0]
[0,15,15,0,{"$nulls":9},0,null,null,0,null,null,0,0,null,null,0,null,null,0,0,{"v":0,"d":"0.00"},"",0,null,null,0,null,null,0,null,null,0,0,null,null,0,null,null,0,0,{"v":0,"d":"0.00"},"E",0,null,null,0,null,null,0,null,null,0,0,null,null,0,null,null,0,0,{"v":0,"d":"0.00"},"E",0,null,null,0,null,null,0,null,null,0,0,null,null,0,null,null,0,0,{"v":0,"d":"0.00"},"E",0,null,null,0,null,null,0,null,null,0,0,null,null,0,null,null,0,0,{"v":0,"d":"0.00"},"E",0,null,null,0,null,null,0,null,null,0,0,null,null,0,null,null,0,0,{"v":0,"d":"0.00"},"E",0,0,0,0,null,null,0,{"v":0,"d":"0.00"},"E",0,0,0,0,null,null,0,{"v":0,"d":"0.00"},"E",0,0,0,0,null,null,0,{"v":0,"d":"0.00"},"E",0,null,null,"",0,0,"","","","","","","",0,0,0,0,0,0,0,0,0,0,0,null,null,0,"/",100,"0/100",0,"/",100,"0/100",0,"/",100,"0/100",null,0,0,0,0,0,0,0,0,0,0]
[0,16,16,0,{"$nulls":9},0,null,null,0,null,null,0,0,null,null,0,null,null,0,0,{"v":0,"d":"0.00"},"",0,null,null,0,null,null,0,null,null,0,0,null,null,0,null,null,0,0,{"v":0,"d":"0.00"},"E",0,null,null,0,null,null,0,null,null,0,0,null,null,0,null,null,0,0,{"v":0,"d":"0.00"},"E",0,null,null,0,null,null,0,null,null,0,0,null,null,0,null,null,0,0,{"v":0,"d":"0.00"},"E",0,null,null,0,null,null,0,null,null,0,0,null,null,0,null,null,0,0,{"v":0,"d":"0.00"},"E",0,null,null,0,null,null,0,null,null,0,0,null,null,0,null,null,0,0,{"v":0,"d":"0.00"},"E",0,0,0,0,null,null,0,{"v":0,"d":"0.00"},"E",0,0,0,0,null,null,0,{"v":0,"d":"0.00"},"E",0,0,0,0,null,null,0,{"v":0,"d":"0.00"},"E",0,null,null,"",0,0,"","","","","","","",0,0,0,0,0,0,0,0,0,0,0,null,null,0,"/",100,"0/100",0,"/",100,"0/100",0,"/",100,"0/100",null,0,0,0,0,0,0,0,0,0,0]
[0,17,17,0,{"$nulls":9},0,null,null,0,null,null,0,0,null,null,0,null,null,0,0,{"v":0,"d":"0.00"},"",0,null,null,0,null,null,0,null,null,0,0,null,null,0,null,null,0,0,{"v":0,"d":"0.00"},"E",0,null,null,0,null,null,0,null,null,0,0,null,null,0,null,null,0,0,{"v":0,"d":"0.00"},"E",0,null,null,0,null,null,0,null,null,0,0,null,null,0,null,null,0,0,{"v":0,"d":"0.00"},"E",0,null,null,0,null,null,0,null,null,0,0,null,null,0,null,null,0,0,{"v":0,"d":"0.00"},"E",0,null,null,0,null,null,0,null,null,0,0,null,null,0,null,null,0,0,{"v":0,"d":"0.00"},"E",0,0,0,0,null,null,0,{"v":0,"d":"0.00"},"E",0,0,0,0,null,null,0,{"v":0,"d":"0.00"},"E",0,0,0,0,null,null,0,{"v":0,"d":"0.00"},"E",0,null,null,"",0,0,"","","","","","","",0,0,0,0,0,0,0,0,0,0,0,null,null,0,"/",100,"0/100",0,"/",100,"0/100",0,"/",100,"0/100",null,0,0,0,0,0,0,0,0,0,0]
[0,18,18,0,{"$nulls":9},0,null,null,0,null,null,0,0,null,null,0,null,null,0,0,{"v":0,"d":"0.00"},"",0,null,null,0,null,null,0,null,null,0,0,null,null,0,null,null,0,0,{"v":0,"d":"0.00"},"E",0,null,null,0,null,null,0,null,null,0,0,null,null,0,null,null,0,0,{"v":0,"d":"0.00"},"E",0,null,null,0,null,null,0,null,null,0,0,null,null,0,null,null,0,0,{"v":0,"d":"0.00"},"E",0,null,null,0,null,null,0,null,null,0,0,null,null,0,null,null,0,0,{"v":0,"d":"0.00"},"E",0,null,null,0,null,null,0,null,null,0,0,null,null,0,null,null,0,0,{"v":0,"d":"0.00"},"E",0,0,0,0,null,null,0,{"v":0,"d":"0.00"},"E",0,0,0,0,null,null,0,{"v":0,"d":"0.00"},"E",0,0,0,0,null,null,0,{"v":0,"d":"0.00"},"E",0,null,null,"",0,0,"","","","","","","",0,0,0,0,0,0,0,0,0,0,0,null,null,0,"/",100,"0/100",0,"/",100,"0/100",0,"/",100,"0/100",null,0,0,0,0,0,0,0,0,0,0]
[0,19,19,0,{"$nulls":9},0,null,null,0,null,null,0,0,null,null,0,null,null,0,0,{"v":0,"d":"0.00"},"",0,null,null,0,null,null,0,null,null,0,0,null,null,0,null,null,0,0,{"v":0,"d":"0.00"},"E",0,null,null,0,null,null,0,null,null,0,0,null,null,0,null,null,0,0,{"v":0,"d":"0.00"},"E",0,null,null,0,null,null,0,null,null,0,0,null,null,0,null,null,0,0,{"v":0,"d":"0.00"},"E",0,null,null,0,null,null,0,null,null,0,0,null,null,0,null,null,0,0,{"v":0,"d":"0.00"},"E",0,null,null,0,null,null,0,null,null,0,0,null,null,0,null,null,0,0,{"v":0,"d":"0.00"},"E",0,0,0,0,null,null,0,{"v":0,"d":"0.00"},"E",0,0,0,0,null,null,0,{"v":0,"d":"0.00"},"E",0,0,0,0,null,null,0,{"v":0,"d":"0.00"},"E",0,null,null,"",0,0,"","","","","","","",0,0,0,0,0,0,0,0,0,0,0,null,null,0,"/",100,"0/100",0,"/",100,"0/100",0,"/",100,"0/100",null,0,0,0,0,0,0,0,0,0,0]
[0,20,20,0,{"$nulls":9},0,null,null,0,null,null,0,0,null,null,0,null,null,0,0,{"v":0,"d":"0.00"},"",0,null,null,0,null,null,0,null,null,0,0,null,null,0,null,null,0,0,{"v":0,"d":"0.00"},"E",0,null,null,0,null,null,0,null,null,0,0,null,null,0,null,null,0,0,{"v":0,"d":"0.00"},"E",0,null,null,0,null,null,0,null,null,0,0,null,null,0,null,null,0,0,{"v":0,"d":"0.00"},"E",0,null,null,0,null,null,0,null,null,0,0,null,null,0,null,null,0,0,{"v":0,"d":"0.00"},"E",0,null,null,0,null,null,0,null,null,0,0,null,null,0,null,null,0,0,{"v":0,"d":"0.00"},"E",0,0,0,0,null,null,0,{"v":0,"d":"0.00"},"E",0,0,0,0,null,null,0,{"v":0,"d":"0.00"},"E",0,0,0,0,null,null,0,{"v":0,"d":"0.00"},"E",0,null,null,"",0,0,"","","","","","","",0,0,0,0,0,0,0,0,0,0,0,null,null,0,"/",100,"0/100",0,"/",100,"0/100",0,"/",100,"0/100",null,0,0,0,0,0,0,0,0,0,0]
[0,21,21,0,{"$nulls":9},0,null,null,0,null,null,0,0,null,null,0,null,null,0,0,{"v":0,"d":"0.00"},"",0,null,null,0,null,null,0,null,null,0,0,null,null,0,null,null,0,0,{"v":0,"d":"0.00"},"E",0,null,null,0,null,null,0,null,null,0,0,null,null,0,null,null,0,0,{"v":0,"d":"0.00"},"E",0,null,null,0,null,null,0,null,null,0,0,null,null,0,null,null,0,0,{"v":0,"d":"0.00"},"E",0,null,null,0,null,null,0,null,null,0,0,null,null,0,null,null,0,0,{"v":0,"d":"0.00"},"E",0,null,null,0,null,null,0,null,null,0,0,null,null,0,null,null,0,0,{"v":0,"d":"0.00"},"E",0,0,0,0,null,null,0,{"v":0,"d":"0.00"},"E",0,0,0,0,null,null,0,{"v":0,"d":"0.00"},"E",0,0,0,0,null,null,0,{"v":0,"d":"0.00"},"E",0,null,null,"",0,0,"","","","","","","",0,0,0,0,0,0,0,0,0,0,0,null,null,0,"/",100,"0/100",0,"/",100,"0/100",0,"/",100,"0/100",null,0,0,0,0,0,0,0,0,0,0]
[0,22,22,0,{"$nulls":9},0,null,null,0,null,null,0,0,null,null,0,null,null,0,0,{"v":0,"d":"0.00"},"",0,null,null,0,null,null,0,null,null,0,0,null,null,0,null,null,0,0,{"v":0,"d":"0.00"},"E",0,null,null,0,null,null,0,null,null,0,0,null,null,0,null,null,0,0,{"v":0,"d":"0.00"},"E",0,null,null,0,null,null,0,null,null,0,0,null,null,0,null,null,0,0,{"v":0,"d":"0.00"},"E",0,null,null,0,null,null,0,null,null,0,0,null,null,0,null,null,0,0,{"v":0,"d":"0.00"},"E",0,null,null,0,null,null,0,null,null,0,0,null,null,0,null,null,0,0,{"v":0,"d":"0.00"},"E",0,0,0,0,null,null,0,{"v":0,"d":"0.00"},"E",0,0,0,0,null,null,0,{"v":0,"d":"0.00"},"E",0,0,0,0,null,null,0,{"v":0,"d":"0.00"},"E",0,null,null,"",0,0,"","","","","","","",0,0,0,0,0,0,0,0,0,0,0,null,null,0,"/",100,"0/100",0,"/",100,"0/100",0,"/",100,"0/100",null,0,0,0,0,0,0,0,0,0,0]
[0,23,23,0,{"$nulls":9},0,null,null,0,null,null,0,0,null,null,0,null,null,0,0,{"v":0,"d":"0.00"},"",0,null,null,0,null,null,0,null,null,0,0,null,null,0,null,null,0,0,{"v":0,"d":"0.00"},"E",0,null,null,0,null,null,0,null,null,0,0,null,null,0,null,null,0,0,{"v":0,"d":"0.00"},"E",0,null,null,0,null,null,0,null,null,0,0,null,null,0,null,null,0,0,{"v":0,"d":"0.00"},"E",0,null,null,0,null,null,0,null,null,0,0,null,null,0,null,null,0,0,{"v":0,"d":"0.00"},"E",0,null,null,0,null,null,0,null,null,0,0,null,null,0,null,null,0,0,{"v":0,"d":"0.00"},"E",0,0,0,0,null,null,0,{"v":0,"d":"0.00"},"E",0,0,0,0,null,null,0,{"v":0,"d":"0.00"},"E",0,0,0,0,null,null,0,{"v":0,"d":"0.00"},"E",0,null,null,"",0,0,"","","","","","","",0,0,0,0,0,0,0,0,0,0,0,null,null,0,"/",100,"0/100",0,"/",100,"0/100",0,"/",100,"0/100",null,0,0,0,0,0,0,0,0,0,0]
[0,24,24,0,{"$nulls":9},0,null,null,0,null,null,0,0,null,null,0,null,null,0,0,{"v":0,"d":"0.00"},"",0,null,null,0,null,null,0,null,null,0,0,null,null,0,null,null,0,0,{"v":0,"d":"0.00"},"E",0,null,null,0,null,null,0,null,null,0,0,null,null,0,null,null,0,0,{"v":0,"d":"0.00"},"E",0,null,null,0,null,null,0,null,null,0,0,null,null,0,null,null,0,0,{"v":0,"d":"0.00"},"E",0,null,null,0,null,null,0,null,null,0,0,null,null,0,null,null,0,0,{"v":0,"d":"0.00"},"E",0,null,null,0,null,null,0,null,null,0,0,null,null,0,null,null,0,0,{"v":0,"d":"0.00"},"E",0,0,0,0,null,null,0,{"v":0,"d":"0.00"},"E",0,0,0,0,null,null,0,{"v":0,"d":"0.00"},"E",0,0,0,0,null,null,0,{"v":0,"d":"0.00"},"E",0,null,null,"",0,0,"","","","","","","",0,0,0,0,0,0,0,0,0,0,0,null,null,0,"/",100,"0/100",0,"/",100,"0/100",0,"/",100,"0/100",null,0,0,0,0,0,0,0,0,0,0]
[0,25,25,0,{"$nulls":9},0,null,null,0,null,null,0,0,null,null,0,null,null,0,0,{"v":0,"d":"0.00"},"",0,null,null,0,null,null,0,null,null,0,0,null,null,0,null,null,0,0,{"v":0,"d":"0.00"},"E",0,null,null,0,null,null,0,null,null,0,0,null,null,0,null,null,0,0,{"v":0,"d":"0.00"},"E",0,null,null,0,null,null,0,null,null,0,0,null,null,0,null,null,0,0,{"v":0,"d":"0.00"},"E",0,null,null,0,null,null,0,null,null,0,0,null,null,0,null,null,0,0,{"v":0,"d":"0.00"},"E",0,null,null,0,null,null,0,null,null,0,0,null,null,0,null,null,0,0,{"v":0,"d":"0.00"},"E",0,0,0,0,null,null,0,{"v":0,"d":"0.00"},"E",0,0,0,0,null,null,0,{"v":0,"d":"0.00"},"E",0,0,0,0,null,null,0,{"v":0,"d":"0.00"},"E",0,null,null,"",0,0,"","","","","","","",0,0,0,0,0,0,0,0,0,0,0,null,null,0,"/",100,"0/100",0,"/",100,"0/100",0,"/",100,"0/100",null,0,0,0,0,0,0,0,0,0,0]
[0,26,26,0,{"$nulls":9},0,null,null,0,null,null,0,0,null,null,0,null,null,0,0,{"v":0,"d":"0.00"},"",0,null,null,0,null,null,0,null,null,0,0,null,null,0,null,null,0,0,{"v":0,"d":"0.00"},"E",0,null,null,0,null,null,0,null,null,0,0,null,null,0,null,null,0,0,{"v":0,"d":"0.00"},"E",0,null,null,0,null,null,0,null,null,0,0,null,null,0,null,null,0,0,{"v":0,"d":"0.00"},"E",0,null,null,0,null,null,0,null,null,0,0,null,null,0,null,null,0,0,{"v":0,"d":"0.00"},"E",0,null,null,0,null,null,0,null,null,0,0,null,null,0,null,null,0,0,{"v":0,"d":"0.00"},"E",0,0,0,0,null,null,0,{"v":0,"d":"0.00"},"E",0,0,0,0,null,null,0,{"v":0,"d":"0.00"},"E",0,0,0,0,null,null,0,{"v":0,"d":"0.00"},"E",0,null,null,"",0,0,"","","","","","","",0,0,0,0,0,0,0,0,0,0,0,null,null,0,"/",100,"0/100",0,"/",100,"0/100",0,"/",100,"0/100",null,0,0,0,0,0,0,0,0,0,0]
[0,27,27,0,{"$nulls":9},0,null,null,0,null,null,0,0,null,null,0,null,null,0,0,{"v":0,"d":"0.00"},"",0,null,null,0,null,null,0,null,null,0,0,null,null,0,null,null,0,0,{"v":0,"d":"0.00"},"E",0,null,null,0,null,null,0,null,null,0,0,null,null,0,null,null,0,0,{"v":0,"d":"0.00"},"E",0,null,null,0,null,null,0,null,null,0,0,null,null,0,null,null,0,0,{"v":0,"d":"0.00"},"E",0,null,null,0,null,null,0,null,null,0,0,null,null,0,null,null,0,0,{"v":0,"d":"0.00"},"E",0,null,null,0,null,null,0,null,null,0,0,null,null,0,null,null,0,0,{"v":0,"d":"0.00"},"E",0,0,0,0,null,null,0,{"v":0,"d":"0.00"},"E",0,0,0,0,null,null,0,{"v":0,"d":"0.00"},"E",0,0,0,0,null,null,0,{"v":0,"d":"0.00"},"E",0,null,null,"",0,0,"","","","","","","",0,0,0,0,0,0,0,0,0,0,0,null,null,0,"/",100,"0/100",0,"/",100,"0/100",0,"/",100,"0/100",null,0,0,0,0,0,0,0,0,0,0]
[0,28,28,0,{"$nulls":9},0,null,null,0,null,null,0,0,null,null,0,null,null,0,0,{"v":0,"d":"0.00"},"",0,null,null,0,null,null,0,null,null,0,0,null,null,0,null,null,0,0,{"v":0,"d":"0.00"},"E",0,null,null,0,null,null,0,null,null,0,0,null,null,0,null,null,0,0,{"v":0,"d":"0.00"},"E",0,null,null,0,null,null,0,null,null,0,0,null,null,0,null,null,0,0,{"v":0,"d":"0.00"},"E",0,null,null,0,null,null,0,null,null,0,0,null,null,0,null,null,0,0,{"v":0,"d":"0.00"},"E",0,null,null,0,null,null,0,null,null,0,0,null,null,0,null,null,0,0,{"v":0,"d":"0.00"},"E",0,0,0,0,null,null,0,{"v":0,"d":"0.00"},"E",0,0,0,0,null,null,0,{"v":0,"d":"0.00"},"E",0,0,0,0,null,null,0,{"v":0,"d":"0.00"},"E",0,null,null,"",0,0,"","","","","","","",0,0,0,0,0,0,0,0,0,0,0,null,null,0,"/",100,"0/100",0,"/",100,"0/100",0,"/",100,"0/100",null,0,0,0,0,0,0,0,0,0,0]
[0,29,29,0,{"$nulls":9},0,null,null,0,null,null,0,0,null,null,0,null,null,0,0,{"v":0,"d":"0.00"},"",0,null,null,0,null,null,0,null,null,0,0,null,null,0,null,null,0,0,{"v":0,"d":"0.00"},"E",0,null,null,0,null,null,0,null,null,0,0,null,null,0,null,null,0,0,{"v":0,"d":"0.00"},"E",0,null,null,0,null,null,0,null,null,0,0,null,null,0,null,null,0,0,{"v":0,"d":"0.00"},"E",0,null,null,0,null,null,0,null,null,0,0,null,null,0,null,null,0,0,{"v":0,"d":"0.00"},"E",0,null,null,0,null,null,0,null,null,0,0,null,null,0,null,null,0,0,{"v":0,"d":"0.00"},"E",0,0,0,0,null,null,0,{"v":0,"d":"0.00"},"E",0,0,0,0,null,null,0,{"v":0,"d":"0.00"},"E",0,0,0,0,null,null,0,{"v":0,"d":"0.00"},"E",0,null,null,"",0,0,"","","","","","","",0,0,0,0,0,0,0,0,0,0,0,null,null,0,"/",100,"0/100",0,"/",100,"0/100",0,"/",100,"0/100",null,0,0,0,0,0,0,0,0,0,0]
[0,30,30,0,{"$nulls":9},0,null,null,0,null,null,0,0,null,null,0,null,null,0,0,{"v":0,"d":"0.00"},"",0,null,null,0,null,null,0,null,null,0,0,null,null,0,null,null,0,0,{"v":0,"d":"0.00"},"E",0,null,null,0,null,null,0,null,null,0,0,null,null,0,null,null,0,0,{"v":0,"d":"0.00"},"E",0,null,null,0,null,null,0,null,null,0,0,null,null,0,null,null,0,0,{"v":0,"d":"0.00"},"E",0,null,null,0,null,null,0,null,null,0,0,null,null,0,null,null,0,0,{"v":0,"d":"0.00"},"E",0,null,null,0,null,null,0,null,null,0,0,null,null,0,null,null,0,0,{"v":0,"d":"0.00"},"E",0,0,0,0,null,null,0,{"v":0,"d":"0.00"},"E",0,0,0,0,null,null,0,{"v":0,"d":"0.00"},"E",0,0,0,0,null,null,0,{"v":0,"d":"0.00"},"E",0,null,null,"",0,0,"","","","","","","",0,0,0,0,0,0,0,0,0,0,0,null,null,0,"/",100,"0/100",0,"/",100,"0/100",0,"/",100,"0/100",null,0,0,0,0,0,0,0,0,0,0]
[0,31,31,0,{"$nulls":9},0,null,null,0,null,null,0,0,null,null,0,null,null,0,0,{"v":0,"d":"0.00"},"",0,null,null,0,null,null,0,null,null,0,0,null,null,0,null,null,0,0,{"v":0,"d":"0.00"},"E",0,null,null,0,null,null,0,null,null,0,0,null,null,0,null,null,0,0,{"v":0,"d":"0.00"},"E",0,null,null,0,null,null,0,null,null,0,0,null,null,0,null,null,0,0,{"v":0,"d":"0.00"},"E",0,null,null,0,null,null,0,null,null,0,0,null,null,0,null,null,0,0,{"v":0,"d":"0.00"},"E",0,null,null,0,null,null,0,null,null,0,0,null,null,0,null,null,0,0,{"v":0,"d":"0.00"},"E",0,0,0,0,null,null,0,{"v":0,"d":"0.00"},"E",0,0,0,0,null,null,0,{"v":0,"d":"0.00"},"E",0,0,0,0,null,null,0,{"v":0,"d":"0.00"},"E",0,null,null,"",0,0,"","","","","","","",0,0,0,0,0,0,0,0,0,0,0,null,null,0,"/",100,"0/100",0,"/",100,"0/100",0,"/",100,"0/100",null,0,0,0,0,0,0,0,0,0,0]
[0,32,32,0,{"$nulls":9},0,null,null,0,null,null,0,0,null,null,0,null,null,0,0,{"v":0,"d":"0.00"},"",0,null,null,0,null,null,0,null,null,0,0,null,null,0,null,null,0,0,{"v":0,"d":"0.00"},"E",0,null,null,0,null,null,0,null,null,0,0,null,null,0,null,null,0,0,{"v":0,"d":"0.00"},"E",0,null,null,0,null,null,0,null,null,0,0,null,null,0,null,null,0,0,{"v":0,"d":"0.00"},"E",0,null,null,0,null,null,0,null,null,0,0,null,null,0,null,null,0,0,{"v":0,"d":"0.00"},"E",0,null,null,0,null,null,0,null,null,0,0,null,null,0,null,null,0,0,{"v":0,"d":"0.00"},"E",0,0,0,0,null,null,0,{"v":0,"d":"0.00"},"E",0,0,0,0,null,null,0,{"v":0,"d":"0.00"},"E",0,0,0,0,null,null,0,{"v":0,"d":"0.00"},"E",0,null,null,"",0,0,"","","","","","","",0,0,0,0,0,0,0,0,0,0,0,null,null,0,"/",100,"0/100",0,"/",100,"0/100",0,"/",100,"0/100",null,0,0,0,0,0,0,0,0,0,0]
[0,33,33,0,{"$nulls":9},0,null,null,0,null,null,0,0,null,null,0,null,null,0,0,{"v":0,"d":"0.00"},"",0,null,null,0,null,null,0,null,null,0,0,null,null,0,null,null,0,0,{"v":0,"d":"0.00"},"E",0,null,null,0,null,null,0,null,null,0,0,null,null,0,null,null,0,0,{"v":0,"d":"0.00"},"E",0,null,null,0,null,null,0,null,null,0,0,null,null,0,null,null,0,0,{"v":0,"d":"0.00"},"E",0,null,null,0,null,null,0,null,null,0,0,null,null,0,null,null,0,0,{"v":0,"d":"0.00"},"E",0,null,null,0,null,null,0,null,null,0,0,null,null,0,null,null,0,0,{"v":0,"d":"0.00"},"E",0,0,0,0,null,null,0,{"v":0,"d":"0.00"},"E",0,0,0,0,null,null,0,{"v":0,"d":"0.00"},"E",0,0,0,0,null,null,0,{"v":0,"d":"0.00"},"E",0,null,null,"",{"$f":"IF(G41=0,0,SUM($AB$7,$AV$7,$BP$7,$CJ$7,$DD$7,$DX$7))","v":0},{"$f":"SUM(AB41,AV41,BP41,CJ41,DD41,DX41)","v":0},"","","","","","","",0,0,0,0,0,0,0,0,0,0,0,null,null,0,"/",100,"0/100",0,"/",100,"0/100",0,"/",100,"0/100",null,0,0,0,0,0,0,0,0,0,0]
[0,34,34,0,{"$nulls":9},0,null,null,0,null,null,0,0,null,null,0,null,null,0,0,{"v":0,"d":"0.00"},"",0,null,null,0,null,null,0,null,null,0,0,null,null,0,null,null,0,0,{"v":0,"d":"0.00"},"E",0,null,null,0,null,null,0,null,null,0,0,null,null,0,null,null,0,0,{"v":0,"d":"0.00"},"E",0,null,null,0,null,null,0,null,null,0,0,null,null,0,null,null,0,0,{"v":0,"d":"0.00"},"E",0,null,null,0,null,null,0,null,null,0,0,null,null,0,null,null,0,0,{"v":0,"d":"0.00"},"E",0,null,null,0,null,null,0,null,null,0,0,null,null,0,null,null,0,0,{"v":0,"d":"0.00"},"E",0,0,0,0,null,null,0,{"v":0,"d":"0.00"},"E",0,0,0,0,null,null,0,{"v":0,"d":"0.00"},"E",0,0,0,0,null,null,0,{"v":0,"d":"0.00"},"E",0,null,null,"",0,0,"","","","","","","",0,0,0,0,0,0,0,0,0,0,0,null,null,0,"/",100,"0/100",0,"/",100,"0/100",0,"/",100,"0/100",null,0,0,0,0,0,0,0,0,0,0]
[0,35,35,0,{"$nulls":9},0,null,null,0,null,null,0,0,null,null,0,null,null,0,0,{"v":0,"d":"0.00"},"",0,null,null,0,null,null,0,null,null,0,0,null,null,0,null,null,0,0,{"v":0,"d":"0.00"},"E",0,null,null,0,null,null,0,null,null,0,0,null,null,0,null,null,0,0,{"v":0,"d":"0.00"},"E",0,null,null,0,null,null,0,null,null,0,0,null,null,0,null,null,0,0,{"v":0,"d":"0.00"},"E",0,null,null,0,null,null,0,null,null,0,0,null,null,0,null,null,0,0,{"v":0,"d":"0.00"},"E",0,null,null,0,null,null,0,null,null,0,0,null,null,0,null,null,0,0,{"v":0,"d":"0.00"},"E",0,0,0,0,null,null,0,{"v":0,"d":"0.00"},"E",0,0,0,0,null,null,0,{"v":0,"d":"0.00"},"E",0,0,0,0,null,null,0,{"v":0,"d":"0.00"},"E",0,null,null,"",0,0,"","","","","","","",0,0,0,0,0,0,0,0,0,0,0,null,null,0,"/",100,"0/100",0,"/",100,"0/100",0,"/",100,"0/100",null,0,0,0,0,0,0,0,0,0,0]
[0,36,36,0,{"$nulls":9},0,null,null,0,null,null,0,0,null,null,0,null,null,0,0,{"v":0,"d":"0.00"},"",0,null,null,0,null,null,0,null,null,0,0,null,null,0,null,null,0,0,{"v":0,"d":"0.00"},"E",0,null,null,0,null,null,0,null,null,0,0,null,null,0,null,null,0,0,{"v":0,"d":"0.00"},"E",0,null,null,0,null,null,0,null,null,0,0,null,null,0,null,null,0,0,{"v":0,"d":"0.00"},"E",0,null,null,0,null,null,0,null,null,0,0,null,null,0,null,null,0,0,{"v":0,"d":"0.00"},"E",0,null,null,0,null,null,0,null,null,0,0,null,null,0,null,null,0,0,{"v":0,"d":"0.00"},"E",0,0,0,0,null,null,0,{"v":0,"d":"0.00"},"E",0,0,0,0,null,null,0,{"v":0,"d":"0.00"},"E",0,0,0,0,null,null,0,{"v":0,"d":"0.00"},"E",0,null,null,"",0,0,"","","","","","","",0,0,0,0,0,0,0,0,0,0,0,null,null,0,"/",100,"0/100",0,"/",100,"0/100",0,"/",100,"0/100",null,0,0,0,0,0,0,0,0,0,0]
[0,37,37,0,{"$nulls":9},0,null,null,0,null,null,0,0,null,null,0,null,null,0,0,{"v":0,"d":"0.00"},"",0,null,null,0,null,null,0,null,null,0,0,null,null,0,null,null,0,0,{"v":0,"d":"0.00"},"E",0,null,null,0,null,null,0,null,null,0,0,null,null,0,null,null,0,0,{"v":0,"d":"0.00"},"E",0,null,null,0,null,null,0,null,null,0,0,null,null,0,null,null,0,0,{"v":0,"d":"0.00"},"E",0,null,null,0,null,null,0,null,null,0,0,null,null,0,null,null,0,0,{"v":0,"d":"0.00"},"E",0,null,null,0,null,null,0,null,null,0,0,null,null,0,null,null,0,0,{"v":0,"d":"0.00"},"E",0,0,0,0,null,null,0,{"v":0,"d":"0.00"},"E",0,0,0,0,null,null,0,{"v":0,"d":"0.00"},"E",0,0,0,0,null,null,0,{"v":0,"d":"0.00"},"E",0,null,null,"",0,0,"","","","","","","",0,0,0,0,0,0,0,0,0,0,0,null,null,0,"/",100,"0/100",0,"/",100,"0/100",0,"/",100,"0/100",null,0,0,0,0,0,0,0,0,0,0]
[0,38,38,0,{"$nulls":9},0,null,null,0,null,null,0,0,null,null,0,null,null,0,0,{"v":0,"d":"0.00"},"",0,null,null,0,null,null,0,null,null,0,0,null,null,0,null,null,0,0,{"v":0,"d":"0.00"},"E",0,null,null,0,null,null,0,null,null,0,0,null,null,0,null,null,0,0,{"v":0,"d":"0.00"},"E",0,null,null,0,null,null,0,null,null,0,0,null,null,0,null,null,0,0,{"v":0,"d":"0.00"},"E",0,null,null,0,null,null,0,null,null,0,0,null,null,0,null,null,0,0,{"v":0,"d":"0.00"},"E",0,null,null,0,null,null,0,null,null,0,0,null,null,0,null,null,0,0,{"v":0,"d":"0.00"},"E",0,0,0,0,null,null,0,{"v":0,"d":"0.00"},"E",0,0,0,0,null,null,0,{"v":0,"d":"0.00"},"E",0,0,0,0,null,null,0,{"v":0,"d":"0.00"},"E",0,null,null,"",0,0,"","","","","","","",0,0,0,0,0,0,0,0,0,0,0,null,null,0,"/",100,"0/100",0,"/",100,"0/100",0,"/",100,"0/100",null,0,0,0,0,0,0,0,0,0,0]
[0,39,39,0,{"$nulls":9},0,null,null,0,null,null,0,0,null,null,0,null,null,0,0,{"v":0,"d":"0.00"},"",0,null,null,0,null,null,0,null,null,0,0,null,null,0,null,null,0,0,{"v":0,"d":"0.00"},"E",0,null,null,0,null,null,0,null,null,0,0,null,null,0,null,null,0,0,{"v":0,"d":"0.00"},"E",0,null,null,0,null,null,0,null,null,0,0,null,null,0,null,null,0,0,{"v":0,"d":"0.00"},"E",0,null,null,0,null,null,0,null,null,0,0,null,null,0,null,null,0,0,{"v":0,"d":"0.00"},"E",0,null,null,0,null,null,0,null,null,0,0,null,null,0,null,null,0,0,{"v":0,"d":"0.00"},"E",0,0,0,0,null,null,0,{"v":0,"d":"0.00"},"E",0,0,0,0,null,null,0,{"v":0,"d":"0.00"},"E",0,0,0,0,null,null,0,{"v":0,"d":"0.00"},"E",0,null,null,"",0,0,"","","","","","","",0,0,0,0,0,0,0,0,0,0,0,null,null,0,"/",100,"0/100",0,"/",100,"0/100",0,"/",100,"0/100",null,0,0,0,0,0,0,0,0,0,0]
[0,40,40,0,{"$nulls":9},0,null,null,0,null,null,0,0,null,null,0,null,null,0,0,{"v":0,"d":"0.00"},"",0,null,null,0,null,null,0,null,null,0,0,null,null,0,null,null,0,0,{"v":0,"d":"0.00"},"E",0,null,null,0,null,null,0,null,null,0,0,null,null,0,null,null,0,0,{"v":0,"d":"0.00"},"E",0,null,null,0,null,null,0,null,null,0,0,null,null,0,null,null,0,0,{"v":0,"d":"0.00"},"E",0,null,null,0,null,null,0,null,null,0,0,null,null,0,null,null,0,0,{"v":0,"d":"0.00"},"E",0,null,null,0,null,null,0,null,null,0,0,null,null,0,null,null,0,0,{"v":0,"d":"0.00"},"E",0,0,0,0,null,null,0,{"v":0,"d":"0.00"},"E",0,0,0,0,null,null,0,{"v":0,"d":"0.00"},"E",0,0,0,0,null,null,0,{"v":0,"d":"0.00"},"E",0,null,null,"",0,0,"","","","","","","",0,0,0,0,0,0,0,0,0,0,0,null,null,0,"/",100,"0/100",0,"/",100,"0/100",0,"/",100,"0/100",null,0,0,0,0,0,0,0,0,0,0]
[0,41,41,0,{"$nulls":9},0,null,null,0,null,null,0,0,null,null,0,null,null,0,0,{"v":0,"d":"0.00"},"",0,null,null,0,null,null,0,null,null,0,0,null,null,0,null,null,0,0,{"v":0,"d":"0.00"},"E",0,null,null,0,null,null,0,null,null,0,0,null,null,0,null,null,0,0,{"v":0,"d":"0.00"},"E",0,null,null,0,null,null,0,null,null,0,0,null,null,0,null,null,0,0,{"v":0,"d":"0.00"},"E",0,null,null,0,null,null,0,null,null,0,0,null,null,0,null,null,0,0,{"v":0,"d":"0.00"},"E",0,null,null,0,null,null,0,null,null,0,0,null,null,0,null,null,0,0,{"v":0,"d":"0.00"},"E",0,0,0,0,null,null,0,{"v":0,"d":"0.00"},"E",0,0,0,0,null,null,0,{"v":0,"d":"0.00"},"E",0,0,0,0,null,null,0,{"v":0,"d":"0.00"},"E",0,null,null,"",0,0,"","","","","","","",0,0,0,0,0,0,0,0,0,0,0,null,null,0,"/",100,"0/100",0,"/",100,"0/100",0,"/",100,"0/100",null,0,0,0,0,0,0,0,0,0,0]
[0,42,42,0,{"$nulls":9},0,null,null,0,null,null,0,0,null,null,0,null,null,0,0,{"v":0,"d":"0.00"},"",0,null,null,0,null,null,0,null,null,0,0,null,null,0,null,null,0,0,{"v":0,"d":"0.00"},"E",0,null,null,0,null,null,0,null,null,0,0,null,null,0,null,null,0,0,{"v":0,"d":"0.00"},"E",0,null,null,0,null,null,0,null,null,0,0,null,null,0,null,null,0,0,{"v":0,"d":"0.00"},"E",0,null,null,0,null,null,0,null,null,0,0,null,null,0,null,null,0,0,{"v":0,"d":"0.00"},"E",0,null,null,0,null,null,0,null,null,0,0,null,null,0,null,null,0,0,{"v":0,"d":"0.00"},"E",0,0,0,0,null,null,0,{"v":0,"d":"0.00"},"E",0,0,0,0,null,null,0,{"v":0,"d":"0.00"},"E",0,0,0,0,null,null,0,{"v":0,"d":"0.00"},"E",0,null,null,{"$f":"IF(OR(FC50=\"\",FD50=\"\"),\"\",FD50/FC50*100)","v":""},0,0,"","","","","","","",0,0,0,0,0,0,0,0,0,0,0,null,null,0,"/",100,"0/100",0,"/",100,"0/100",0,"/",100,"0/100",null,0,0,0,0,0,0,0,0,0,0]
[0,43,43,0,{"$nulls":9},0,null,null,0,null,null,0,0,null,null,0,null,null,0,0,{"v":0,"d":"0.00"},"",0,null,null,0,null,null,0,null,null,0,0,null,null,0,null,null,0,0,{"v":0,"d":"0.00"},"E",0,null,null,0,null,null,0,null,null,0,0,null,null,0,null,null,0,0,{"v":0,"d":"0.00"},"E",0,null,null,0,null,null,0,null,null,0,0,null,null,0,null,null,0,0,{"v":0,"d":"0.00"},"E",0,null,null,0,null,null,0,null,null,0,0,null,null,0,null,null,0,0,{"v":0,"d":"0.00"},"E",0,null,null,0,null,null,0,null,null,0,0,null,null,0,null,null,0,0,{"v":0,"d":"0.00"},"E",0,0,0,0,null,null,0,{"v":0,"d":"0.00"},"E",0,0,0,0,null,null,0,{"v":0,"d":"0.00"},"E",0,0,0,0,null,null,0,{"v":0,"d":"0.00"},"E",0,null,null,"",0,0,"","","","","","","",0,0,0,0,0,0,0,0,0,0,0,null,null,0,"/",100,"0/100",0,"/",100,"0/100",0,"/",100,"0/100",null,0,0,0,0,0,0,0,0,0,0]
[0,44,44,0,{"$nulls":9},0,null,null,0,null,null,0,0,null,null,0,null,null,0,0,{"v":0,"d":"0.00"},"",0,null,null,0,null,null,0,null,null,0,0,null,null,0,null,null,0,0,{"v":0,"d":"0.00"},"E",0,null,null,0,null,null,0,null,null,0,0,null,null,0,null,null,0,0,{"v":0,"d":"0.00"},"E",0,null,null,0,null,null,0,null,null,0,0,null,null,0,null,null,0,0,{"v":0,"d":"0.00"},"E",0,null,null,0,null,null,0,null,null,0,0,null,null,0,null,null,0,0,{"v":0,"d":"0.00"},"E",0,null,null,0,null,null,0,null,null,0,0,null,null,0,null,null,0,0,{"v":0,"d":"0.00"},"E",0,0,0,0,null,null,0,{"v":0,"d":"0.00"},"E",0,0,0,0,null,null,0,{"v":0,"d":"0.00"},"E",0,0,0,0,null,null,0,{"v":0,"d":"0.00"},"E",0,null,null,"",0,0,"","","","","","","",0,0,0,0,0,0,0,0,0,0,0,null,null,0,"/",100,"0/100",0,"/",100,"0/100",0,"/",100,"0/100",null,0,0,0,0,0,0,0,0,0,0]
[0,45,45,0,{"$nulls":9},0,null,null,0,null,null,0,0,null,null,0,null,null,0,0,{"v":0,"d":"0.00"},"",0,null,null,0,null,null,0,null,null,0,0,null,null,0,null,null,0,0,{"v":0,"d":"0.00"},"E",0,null,null,0,null,null,0,null,null,0,0,null,null,0,null,null,0,0,{"v":0,"d":"0.00"},"E",0,null,null,0,null,null,0,null,null,0,0,null,null,0,null,null,0,0,{"v":0,"d":"0.00"},"E",0,null,null,0,null,null,0,null,null,0,0,null,null,0,null,null,0,0,{"v":0,"d":"0.00"},"E",0,null,null,0,null,null,0,null,null,0,0,null,null,0,null,null,0,0,{"v":0,"d":"0.00"},"E",0,0,0,0,null,null,0,{"v":0,"d":"0.00"},"E",0,0,0,0,null,null,0,{"v":0,"d":"0.00"},"E",0,0,0,0,null,null,0,{"v":0,"d":"0.00"},"E",0,null,null,"",0,0,"","","","","","","",0,0,0,0,0,0,0,0,0,0,0,null,null,0,"/",100,"0/100",0,"/",100,"0/100",0,"/",100,"0/100",null,0,0,0,0,0,0,0,0,0,0]
[0,46,46,0,{"$nulls":9},0,null,null,0,null,null,0,0,null,null,0,null,null,0,0,{"v":0,"d":"0.00"},"",0,null,null,0,null,null,0,null,null,0,0,null,null,0,null,null,0,0,{"v":0,"d":"0.00"},"E",0,null,null,0,null,null,0,null,null,0,0,null,null,0,null,null,0,0,{"v":0,"d":"0.00"},"E",0,null,null,0,null,null,0,null,null,0,0,null,null,0,null,null,0,0,{"v":0,"d":"0.00"},"E",0,null,null,0,null,null,0,null,null,0,0,null,null,0,null,null,0,0,{"v":0,"d":"0.00"},"E",0,null,null,0,null,null,0,null,null,0,0,null,null,0,null,null,0,0,{"v":0,"d":"0.00"},"E",0,0,0,0,null,null,0,{"v":0,"d":"0.00"},"E",0,0,0,0,null,null,0,{"v":0,"d":"0.00"},"E",0,0,0,0,null,null,0,{"v":0,"d":"0.00"},"E",0,null,null,"",0,0,"","","","","","","",0,0,0,0,0,0,0,0,0,0,0,null,null,0,"/",100,"0/100",0,"/",100,"0/100",0,"/",100,"0/100",null,0,0,0,0,0,0,0,0,0,0]
[0,47,47,0,{"$nulls":9},0,null,null,0,null,null,0,0,null,null,0,null,null,0,0,{"v":0,"d":"0.00"},"",0,null,null,0,null,null,0,null,null,0,0,null,null,0,null,null,0,0,{"v":0,"d":"0.00"},"E",0,null,null,0,null,null,0,null,null,0,0,null,null,0,null,null,0,0,{"v":0,"d":"0.00"},"E",0,null,null,0,null,null,0,null,null,0,0,null,null,0,null,null,0,0,{"v":0,"d":"0.00"},"E",0,null,null,0,null,null,0,null,null,0,0,null,null,0,null,null,0,0,{"v":0,"d":"0.00"},"E",0,null,null,0,null,null,0,null,null,0,0,null,null,0,null,null,0,0,{"v":0,"d":"0.00"},"E",0,0,0,0,null,null,0,{"v":0,"d":"0.00"},"E",0,0,0,0,null,null,0,{"v":0,"d":"0.00"},"E",0,0,0,0,null,null,0,{"v":0,"d":"0.00"},"E",0,null,null,"",0,0,"","","","","","","",0,0,0,0,0,0,0,0,0,0,0,null,null,0,"/",100,"0/100",0,"/",100,"0/100",0,"/",100,"0/100",null,0,0,0,0,0,0,0,0,0,0]
[0,48,48,0,{"$nulls":9},0,null,null,0,null,null,0,0,null,null,0,null,null,0,0,{"v":0,"d":"0.00"},"",0,null,null,0,null,null,0,null,null,0,0,null,null,0,null,null,0,0,{"v":0,"d":"0.00"},"E",0,null,null,0,null,null,0,null,null,0,0,null,null,0,null,null,0,0,{"v":0,"d":"0.00"},"E",0,null,null,0,null,null,0,null,null,0,0,null,null,0,null,null,0,0,{"v":0,"d":"0.00"},"E",0,null,null,0,null,null,0,null,null,0,0,null,null,0,null,null,0,0,{"v":0,"d":"0.00"},"E",0,null,null,0,null,null,0,null,null,0,0,null,null,0,null,null,0,0,{"v":0,"d":"0.00"},"E",0,0,0,0,null,null,0,{"v":0,"d":"0.00"},"E",0,0,0,0,null,null,0,{"v":0,"d":"0.00"},"E",0,0,0,0,null,null,0,{"v":0,"d":"0.00"},"E",0,null,null,"",0,0,"","","","","","","",0,0,0,0,0,0,0,0,0,0,0,null,null,0,"/",100,"0/100",0,"/",100,"0/100",0,"/",100,"0/100",null,0,0,0,0,0,0,0,0,0,0]
[0,49,49,0,{"$nulls":9},0,null,null,0,null,null,0,0,null,null,0,null,null,0,0,{"v":0,"d":"0.00"},"",0,null,null,0,null,null,0,null,null,0,0,null,null,0,null,null,0,0,{"v":0,"d":"0.00"},"E",0,null,null,0,null,null,0,null,null,0,0,null,null,0,null,null,0,0,{"v":0,"d":"0.00"},"E",0,null,null,0,null,null,0,null,null,0,0,null,null,0,null,null,0,0,{"v":0,"d":"0.00"},"E",0,null,null,0,null,null,0,null,null,0,0,null,null,0,null,null,0,0,{"v":0,"d":"0.00"},"E",0,null,null,0,null,null,0,null,null,0,0,null,null,0,null,null,0,0,{"v":0,"d":"0.00"},"E",0,0,0,0,null,null,0,{"v":0,"d":"0.00"},"E",0,0,0,0,null,null,0,{"v":0,"d":"0.00"},"E",0,0,0,0,null,null,0,{"v":0,"d":"0.00"},"E",0,null,null,"",0,0,"","","","","","","",0,0,0,0,0,0,0,0,0,0,0,null,null,0,"/",100,"0/100",0,"/",100,"0/100",0,"/",100,"0/100",null,0,0,0,0,0,0,0,0,0,0]
[0,50,50,0,{"$nulls":9},0,null,null,0,null,null,0,0,null,null,0,null,null,0,0,{"v":0,"d":"0.00"},"",0,null,null,0,null,null,0,null,null,0,0,null,null,0,null,null,0,0,{"v":0,"d":"0.00"},"E",0,null,null,0,null,null,0,null,null,0,0,null,null,0,null,null,0,0,{"v":0,"d":"0.00"},"E",0,null,null,0,null,null,0,null,null,0,0,null,null,0,null,null,0,0,{"v":0,"d":"0.00"},"E",0,null,null,0,null,null,0,null,null,0,0,null,null,0,null,null,0,0,{"v":0,"d":"0.00"},"E",0,null,null,0,null,null,0,null,null,0,0,null,null,0,null,null,0,0,{"v":0,"d":"0.00"},"E",0,0,0,0,null,null,0,{"v":0,"d":"0.00"},"E",0,0,0,0,null,null,0,{"v":0,"d":"0.00"},"E",0,0,0,0,null,null,0,{"v":0,"d":"0.00"},"E",0,null,null,"",0,0,"","","","","","","",0,0,0,0,0,0,0,0,0,0,0,null,null,0,"/",100,"0/100",0,"/",100,"0/100",0,"/",100,"0/100",null,0,0,0,0,0,0,0,0,0,0]
[0,51,51,0,{"$nulls":9},0,null,null,0,null,null,0,0,null,null,0,null,null,0,0,{"v":0,"d":"0.00"},"",0,null,null,0,null,null,0,null,null,0,0,null,null,0,null,null,0,0,{"v":0,"d":"0.00"},"E",0,null,null,0,null,null,0,null,null,0,0,null,null,0,null,null,0,0,{"v":0,"d":"0.00"},"E",0,null,null,0,null,null,0,null,null,0,0,null,null,0,null,null,0,0,{"v":0,"d":"0.00"},"E",0,null,null,0,null,null,0,null,null,0,0,null,null,0,null,null,0,0,{"v":0,"d":"0.00"},"E",0,null,null,0,null,null,0,null,null,0,0,null,null,0,null,null,0,0,{"v":0,"d":"0.00"},"E",0,0,0,0,null,null,0,{"v":0,"d":"0.00"},"E",0,0,0,0,null,null,0,{"v":0,"d":"0.00"},"E",0,0,0,0,null,null,0,{"v":0,"d":"0.00"},"E",0,null,null,"",0,0,"","","","","","","",0,0,0,0,0,0,0,0,0,0,0,null,null,0,"/",100,"0/100",0,"/",100,"0/100",0,"/",100,"0/100",null,0,0,0,0,0,0,0,0,0,0]
[0,52,52,0,{"$nulls":9},0,null,null,0,null,null,0,0,null,null,0,null,null,0,0,{"v":0,"d":"0.00"},"",0,null,null,0,null,null,0,null,null,0,0,null,null,0,null,null,0,0,{"v":0,"d":"0.00"},"E",0,null,null,0,null,null,0,null,null,0,0,null,null,0,null,null,0,0,{"v":0,"d":"0.00"},"E",0,null,null,0,null,null,0,null,null,0,0,null,null,0,null,null,0,0,{"v":0,"d":"0.00"},"E",0,null,null,0,null,null,0,null,null,0,0,null,null,0,null,null,0,0,{"v":0,"d":"0.00"},"E",0,null,null,0,null,null,0,null,null,0,0,null,null,0,null,null,0,0,{"v":0,"d":"0.00"},"E",0,0,0,0,null,null,0,{"v":0,"d":"0.00"},"E",0,0,0,0,null,null,0,{"v":0,"d":"0.00"},"E",0,0,0,0,null,null,0,{"v":0,"d":"0.00"},"E",0,null,null,"",0,0,"","","","","","","",0,0,0,0,0,0,0,0,0,0,0,null,null,0,"/",100,"0/100",0,"/",100,"0/100",0,"/",100,"0/100",null,0,0,0,0,0,0,0,0,0,0]
[0,53,53,0,{"$nulls":9},0,null,null,0,null,null,0,0,null,null,0,null,null,0,0,{"v":0,"d":"0.00"},"",0,null,null,0,null,null,0,null,null,0,0,null,null,0,null,null,0,0,{"v":0,"d":"0.00"},"E",0,null,null,0,null,null,0,null,null,0,0,null,null,0,null,null,0,0,{"v":0,"d":"0.00"},"E",0,null,null,0,null,null,0,null,null,0,0,null,null,0,null,null,0,0,{"v":0,"d":"0.00"},"E",0,null,null,0,null,null,0,null,null,0,0,null,null,0,null,null,0,0,{"v":0,"d":"0.00"},"E",0,null,null,0,null,null,0,null,null,0,0,null,null,0,null,null,0,0,{"v":0,"d":"0.00"},"E",0,0,0,0,null,null,0,{"v":0,"d":"0.00"},"E",0,0,0,0,null,null,0,{"v":0,"d":"0.00"},"E",0,0,0,0,null,null,0,{"v":0,"d":"0.00"},"E",0,null,null,"",0,0,"","","","","","","",0,0,0,0,0,0,0,0,0,0,0,null,null,0,"/",100,"0/100",0,"/",100,"0/100",0,"/",100,"0/100",null,0,0,0,0,0,0,0,0,0,0]
[0,54,54,0,{"$nulls":9},0,null,null,0,null,null,0,0,null,null,0,null,null,0,0,{"v":0,"d":"0.00"},"",0,null,null,0,null,null,0,null,null,0,0,null,null,0,null,null,0,0,{"v":0,"d":"0.00"},"E",0,null,null,0,null,null,0,null,null,0,0,null,null,0,null,null,0,0,{"v":0,"d":"0.00"},"E",0,null,null,0,null,null,0,null,null,0,0,null,null,0,null,null,0,0,{"v":0,"d":"0.00"},"E",0,null,null,0,null,null,0,null,null,0,0,null,null,0,null,null,0,0,{"v":0,"d":"0.00"},"E",0,null,null,0,null,null,0,null,null,0,0,null,null,0,null,null,0,0,{"v":0,"d":"0.00"},"E",0,0,0,0,null,null,0,{"v":0,"d":"0.00"},"E",0,0,0,0,null,null,0,{"v":0,"d":"0.00"},"E",0,0,0,0,null,null,0,{"v":0,"d":"0.00"},"E",0,null,null,"",0,0,"","","","","","","",0,0,0,0,0,0,0,0,0,0,0,null,null,0,"/",100,"0/100",0,"/",100,"0/100",0,"/",100,"0/100",null,0,0,0,0,0,0,0,0,0,0]
[0,55,55,0,{"$nulls":9},0,null,null,0,null,null,0,0,null,null,0,null,null,0,0,{"v":0,"d":"0.00"},"",0,null,null,0,null,null,0,null,null,0,0,null,null,0,null,null,0,0,{"v":0,"d":"0.00"},"E",0,null,null,0,null,null,0,null,null,0,0,null,null,0,null,null,0,0,{"v":0,"d":"0.00"},"E",0,null,null,0,null,null,0,null,null,0,0,null,null,0,null,null,0,0,{"v":0,"d":"0.00"},"E",0,null,null,0,null,null,0,null,null,0,0,null,null,0,null,null,0,0,{"v":0,"d":"0.00"},"E",0,null,null,0,null,null,0,null,null,0,0,null,null,0,null,null,0,0,{"v":0,"d":"0.00"},"E",0,0,0,0,null,null,0,{"v":0,"d":"0.00"},"E",0,0,0,0,null,null,0,{"v":0,"d":"0.00"},"E",0,0,0,0,null,null,0,{"v":0,"d":"0.00"},"E",0,null,null,"",0,0,"","","","","","","",0,0,0,0,0,0,0,0,0,0,0,null,null,0,"/",100,"0/100",0,"/",100,"0/100",0,"/",100,"0/100",null,0,0,0,0,0,0,0,0,0,0]
[0,56,56,0,{"$nulls":9},0,null,null,0,null,null,0,0,null,null,0,null,null,0,0,{"v":0,"d":"0.00"},"",0,null,null,0,null,null,0,null,null,0,0,null,null,0,null,null,0,0,{"v":0,"d":"0.00"},"E",0,null,null,0,null,null,0,null,null,0,0,null,null,0,null,null,0,0,{"v":0,"d":"0.00"},"E",0,null,null,0,null,null,0,null,null,0,0,null,null,0,null,null,0,0,{"v":0,"d":"0.00"},"E",0,null,null,0,null,null,0,null,null,0,0,null,null,0,null,null,0,0,{"v":0,"d":"0.00"},"E",0,null,null,0,null,null,0,null,null,0,0,null,null,0,null,null,0,0,{"v":0,"d":"0.00"},"E",0,0,0,0,null,null,0,{"v":0,"d":"0.00"},"E",0,0,0,0,null,null,0,{"v":0,"d":"0.00"},"E",0,0,0,0,null,null,0,{"v":0,"d":"0.00"},"E",0,null,null,"",0,0,"","","","","","","",0,0,0,0,0,0,0,0,0,0,0,null,null,0,"/",100,"0/100",0,"/",100,"0/100",0,"/",100,"0/100",null,0,0,0,0,0,0,0,0,0,0]
[0,57,57,0,{"$nulls":9},0,null,null,0,null,null,0,0,null,null,0,null,null,0,0,{"v":0,"d":"0.00"},"",0,null,null,0,null,null,0,null,null,0,0,null,null,0,null,null,0,0,{"v":0,"d":"0.00"},"E",0,null,null,0,null,null,0,null,null,0,0,null,null,0,null,null,0,0,{"v":0,"d":"0.00"},"E",0,null,null,0,null,null,0,null,null,0,0,null,null,0,null,null,0,0,{"v":0,"d":"0.00"},"E",0,null,null,0,null,null,0,null,null,0,0,null,null,0,null,null,0,0,{"v":0,"d":"0.00"},"E",0,null,null,0,null,null,0,null,null,0,0,null,null,0,null,null,0,0,{"v":0,"d":"0.00"},"E",0,0,0,0,null,null,0,{"v":0,"d":"0.00"},"E",0,0,0,0,null,null,0,{"v":0,"d":"0.00"},"E",0,0,0,0,null,null,0,{"v":0,"d":"0.00"},"E",0,null,null,"",0,0,"","","","","","","",0,0,0,0,0,0,0,0,0,0,0,null,null,0,"/",100,"0/100",0,"/",100,"0/100",0,"/",100,"0/100",null,0,0,0,0,0,0,0,0,0,0]
[0,58,58,0,{"$nulls":9},0,null,null,0,null,null,0,0,null,null,0,null,null,0,0,{"v":0,"d":"0.00"},"",0,null,null,0,null,null,0,null,null,0,0,null,null,0,null,null,0,0,{"v":0,"d":"0.00"},"E",0,null,null,0,null,null,0,null,null,0,0,null,null,0,null,null,0,0,{"v":0,"d":"0.00"},"E",0,null,null,0,null,null,0,null,null,0,0,null,null,0,null,null,0,0,{"v":0,"d":"0.00"},"E",0,null,null,0,null,null,0,null,null,0,0,null,null,0,null,null,0,0,{"v":0,"d":"0.00"},"E",0,null,null,0,null,null,0,null,null,0,0,null,null,0,null,null,0,0,{"v":0,"d":"0.00"},"E",0,0,0,0,null,null,0,{"v":0,"d":"0.00"},"E",0,0,0,0,null,null,0,{"v":0,"d":"0.00"},"E",0,0,0,0,null,null,0,{"v":0,"d":"0.00"},"E",0,null,null,"",0,0,"","","","","","","",0,0,0,0,0,0,0,0,0,0,0,null,null,0,"/",100,"0/100",0,"/",100,"0/100",0,"/",100,"0/100",null,0,0,0,0,0,0,0,0,0,0]
[0,59,59,0,{"$nulls":9},0,null,null,0,null,null,0,0,null,null,0,null,null,0,0,{"v":0,"d":"0.00"},"",0,null,null,0,null,null,0,null,null,0,0,null,null,0,null,null,0,0,{"v":0,"d":"0.00"},"E",0,null,null,0,null,null,0,null,null,0,0,null,null,0,null,null,0,0,{"v":0,"d":"0.00"},"E",0,null,null,0,null,null,0,null,null,0,0,null,null,0,null,null,0,0,{"v":0,"d":"0.00"},"E",0,null,null,0,null,null,0,null,null,0,0,null,null,0,null,null,0,0,{"v":0,"d":"0.00"},"E",0,null,null,0,null,null,0,null,null,0,0,null,null,0,null,null,0,0,{"v":0,"d":"0.00"},"E",0,0,0,0,null,null,0,{"v":0,"d":"0.00"},"E",0,0,0,0,null,null,0,{"v":0,"d":"0.00"},"E",0,0,0,0,null,null,0,{"v":0,"d":"0.00"},"E",0,null,null,"",0,0,"","","","","","","",0,0,0,0,0,0,0,0,0,0,0,null,null,0,"/",100,"0/100",0,"/",100,"0/100",0,"/",100,"0/100",null,0,0,0,0,0,0,0,0,0,0]
[0,60,60,0,{"$nulls":9},0,null,null,0,null,null,0,0,null,null,0,null,null,0,0,{"v":0,"d":"0.00"},"",0,null,null,0,null,null,0,null,null,0,0,null,null,0,null,null,0,0,{"v":0,"d":"0.00"},"E",0,null,null,0,null,null,0,null,null,0,0,null,null,0,null,null,0,0,{"v":0,"d":"0.00"},"E",0,null,null,0,null,null,0,null,null,0,0,null,null,0,null,null,0,0,{"v":0,"d":"0.00"},"E",0,null,null,0,null,null,0,null,null,0,0,null,null,0,null,null,0,0,{"v":0,"d":"0.00"},"E",0,null,null,0,null,null,0,null,null,0,0,null,null,0,null,null,0,0,{"v":0,"d":"0.00"},"E",0,0,0,0,null,null,0,{"v":0,"d":"0.00"},"E",0,0,0,0,null,null,0,{"v":0,"d":"0.00"},"E",0,0,0,0,null,null,0,{"v":0,"d":"0.00"},"E",0,null,null,"",0,0,"","","","","","","",0,0,0,0,0,0,0,0,0,0,0,null,null,0,"/",100,"0/100",0,"/",100,"0/100",0,"/",100,"0/100",null,0,0,0,0,0,0,0,0,0,0]
[0,61,61,0,{"$nulls":9},0,null,null,0,null,null,0,0,null,null,0,null,null,0,0,{"v":0,"d":"0.00"},"",0,null,null,0,null,null,0,null,null,0,0,null,null,0,null,null,0,0,{"v":0,"d":"0.00"},"E",0,null,null,0,null,null,0,null,null,0,0,null,null,0,null,null,0,0,{"v":0,"d":"0.00"},"E",0,null,null,0,null,null,0,null,null,0,0,null,null,0,null,null,0,0,{"v":0,"d":"0.00"},"E",0,null,null,0,null,null,0,null,null,0,0,null,null,0,null,null,0,0,{"v":0,"d":"0.00"},"E",0,null,null,0,null,null,0,null,null,0,0,null,null,0,null,null,0,0,{"v":0,"d":"0.00"},"E",0,0,0,0,null,null,0,{"v":0,"d":"0.00"},"E",0,0,0,0,null,null,0,{"v":0,"d":"0.00"},"E",0,0,0,0,null,null,0,{"v":0,"d":"0.00"},"E",0,null,null,"",0,0,"","","","","","","",0,0,0,0,0,0,0,0,0,0,0,null,null,0,"/",100,"0/100",0,"/",100,"0/100",0,"/",100,"0/100",null,0,0,0,0,0,0,0,0,0,0]
[0,62,62,0,{"$nulls":9},0,null,null,0,null,null,0,0,null,null,0,null,null,0,0,{"v":0,"d":"0.00"},"",0,null,null,0,null,null,0,null,null,0,0,null,null,0,null,null,0,0,{"v":0,"d":"0.00"},"E",0,null,null,0,null,null,0,null,null,0,0,null,null,0,null,null,0,0,{"v":0,"d":"0.00"},"E",0,null,null,0,null,null,0,null,null,0,0,null,null,0,null,null,0,0,{"v":0,"d":"0.00"},"E",0,null,null,0,null,null,0,null,null,0,0,null,null,0,null,null,0,0,{"v":0,"d":"0.00"},"E",0,null,null,0,null,null,0,null,null,0,0,null,null,0,null,null,0,0,{"v":0,"d":"0.00"},"E",0,0,0,0,null,null,0,{"v":0,"d":"0.00"},"E",0,0,0,0,null,null,0,{"v":0,"d":"0.00"},"E",0,0,0,0,null,null,0,{"v":0,"d":"0.00"},"E",0,null,null,"",0,0,"","","","","","","",0,0,0,0,0,0,0,0,0,0,0,null,null,0,"/",100,"0/100",0,"/",100,"0/100",0,"/",100,"0/100",null,0,0,0,0,0,0,0,0,0,0]
[0,63,63,0,{"$nulls":9},0,null,null,0,null,null,0,0,null,null,0,null,null,0,0,{"v":0,"d":"0.00"},"",0,null,null,0,null,null,0,null,null,0,0,null,null,0,null,null,0,0,{"v":0,"d":"0.00"},"E",0,null,null,0,null,null,0,null,null,0,0,null,null,0,null,null,0,0,{"v":0,"d":"0.00"},"E",0,null,null,0,null,null,0,null,null,0,0,null,null,0,null,null,0,0,{"v":0,"d":"0.00"},"E",0,null,null,0,null,null,0,null,null,0,0,null,null,0,null,null,0,0,{"v":0,"d":"0.00"},"E",0,null,null,0,null,null,0,null,null,0,0,null,null,0,null,null,0,0,{"v":0,"d":"0.00"},"E",0,0,0,0,null,null,0,{"v":0,"d":"0.00"},"E",0,0,0,0,null,null,0,{"v":0,"d":"0.00"},"E",0,0,0,0,null,null,0,{"v":0,"d":"0.00"},"E",0,null,null,"",0,0,"","","","","","","",0,0,0,0,0,0,0,0,0,0,0,null,null,0,"/",100,"0/100",0,"/",100,"0/100",0,"/",100,"0/100",null,0,0,0,0,0,0,0,0,0,0]
[0,64,64,0,{"$nulls":9},0,null,null,0,null,null,0,0,null,null,0,null,null,0,0,{"v":0,"d":"0.00"},"",0,null,null,0,null,null,0,null,null,0,0,null,null,0,null,null,0,0,{"v":0,"d":"0.00"},"E",0,null,null,0,null,null,0,null,null,0,0,null,null,0,null,null,0,0,{"v":0,"d":"0.00"},"E",0,null,null,0,null,null,0,null,null,0,0,null,null,0,null,null,0,0,{"v":0,"d":"0.00"},"E",0,null,null,0,null,null,0,null,null,0,0,null,null,0,null,null,0,0,{"v":0,"d":"0.00"},"E",0,null,null,0,null,null,0,null,null,0,0,null,null,0,null,null,0,0,{"v":0,"d":"0.00"},"E",0,0,0,0,null,null,0,{"v":0,"d":"0.00"},"E",0,0,0,0,null,null,0,{"v":0,"d":"0.00"},"E",0,0,0,0,null,null,0,{"v":0,"d":"0.00"},"E",0,null,null,"",0,0,"","","","","","","",0,0,0,0,0,0,0,0,0,0,0,null,null,0,"/",100,"0/100",0,"/",100,"0/100",0,"/",100,"0/100",null,0,0,0,0,0,0,0,0,0,0]
[0,65,65,0,{"$nulls":9},0,null,null,0,null,null,0,0,null,null,0,null,null,0,0,{"v":0,"d":"0.00"},"",0,null,null,0,null,null,0,null,null,0,0,null,null,0,null,null,0,0,{"v":0,"d":"0.00"},"E",0,null,null,0,null,null,0,null,null,0,0,null,null,0,null,null,0,0,{"v":0,"d":"0.00"},"E",0,null,null,0,null,null,0,null,null,0,0,null,null,0,null,null,0,0,{"v":0,"d":"0.00"},"E",0,null,null,0,null,null,0,null,null,0,0,null,null,0,null,null,0,0,{"v":0,"d":"0.00"},"E",0,null,null,0,null,null,0,null,null,0,0,null,null,0,null,null,0,0,{"v":0,"d":"0.00"},"E",0,0,0,0,null,null,0,{"v":0,"d":"0.00"},"E",0,0,0,0,null,null,0,{"v":0,"d":"0.00"},"E",0,0,0,0,null,null,0,{"v":0,"d":"0.00"},"E",0,null,null,"",{"$f":"IF(G73=0,0,SUM($AB$7,$AV$7,$BP$7,$CJ$7,$DD$7,$DX$7))","v":0},{"$f":"SUM(AB73,AV73,BP73,CJ73,DD73,DX73)","v":0},"","","","","","","",{"$f":"AE73","v":0},{"$f":"AY73","v":0},{"$f":"BS73","v":0},{"$f":"CM73","v":0},{"$f":"DG73","v":0},{"$f":"EA73","v":0},0,0,0,0,0,null,null,0,"/",100,"0/100",0,"/",100,"0/100",0,"/",100,"0/100",null,0,0,0,0,0,0,0,0,0,0]
[{"$f":"G74","v":0},66,66,{"$f":"IF(E74>0,$G$4,0)","v":0},{"$nulls":9},{"$f":"IF(L74=\"AB\",\"AB\",IF(L74=\"ML\",\"ML\",SUM(L74:M74)))","v":0},null,null,{"$f":"IF(O74=\"AB\",\"AB\",IF(O74=\"ML\",\"ML\",SUM(O74:P74)))","v":0},null,null,{"$f":"IF(R74=\"AB\",\"AB\",IF(R74=\"ML\",\"ML\",SUM(R74:S74)))","v":0},0,null,null,0,null,null,0,0,{"v":0,"d":"0.00"},{"$f":"IF(G74=\"\",\"\",IF($G74=\"nso\",\"NSO\",IF(AA74=\"ab\",AA74,IF(AA74=\"ML\",AA74,IF(AC74>=86,\"A\",IF(AC74>=71,\"B\",IF(AC74>=51,\"C\",IF(AC74>=31,\"D\",\"E\"))))))))","v":""},0,null,null,{"$f":"IF(AF74=\"AB\",\"AB\",IF(AF74=\"ML\",\"ML\",SUM(AF74:AG74)))","v":0},null,null,{"$f":"IF(AI74=\"AB\",\"AB\",IF(AI74=\"ML\",\"ML\",SUM(AI74:AJ74)))","v":0},null,null,{"$f":"IF(AL74=\"AB\",\"AB\",IF(AL74=\"ML\",\"ML\",SUM(AL74:AM74)))","v":0},0,null,null,0,null,null,0,0,{"$f":"IF(OR(AV74=\"\",AV$7=\"\"),\"\",AV74/AV$7*100)","v":{"v":0,"d":"0.00"}},{"$f":"IF($G74=\"nso\",\"NSO\",IF(AU74=\"ab\",AU74,IF(AU74=\"ML\",AU74,IF(AW74>=86,\"A\",IF(AW74>=71,\"B\",IF(AW74>=51,\"C\",IF(AW74>=31,\"D\",\"E\")))))))","v":"E"},{"$f":"IF($G74>0,AX74,$G74)","v":0},null,null,{"$f":"IF(AZ74=\"AB\",\"AB\",IF(AZ74=\"ML\",\"ML\",SUM(AZ74:BA74)))","v":0},null,null,{"$f":"IF(BC74=\"AB\",\"AB\",IF(BC74=\"ML\",\"ML\",SUM(BC74:BD74)))","v":0},null,null,{"$f":"IF(BF74=\"AB\",\"AB\",IF(BF74=\"ML\",\"ML\",SUM(BF74:BG74)))","v":0},0,null,null,0,null,null,0,0,{"$f":"IF(OR(BP74=\"\",BP$7=\"\"),\"\",BP74/BP$7*100)","v":{"v":0,"d":"0.00"}},{"$f":"IF($G74=\"nso\",\"NSO\",IF(BO74=\"ab\",BO74,IF(BO74=\"ML\",BO74,IF(BQ74>=86,\"A\",IF(BQ74>=71,\"B\",IF(BQ74>=51,\"C\",IF(BQ74>=31,\"D\",\"E\")))))))","v":"E"},{"$f":"IF($G74>0,BR74,$G74)","v":0},null,null,{"$f":"IF(BT74=\"AB\",\"AB\",IF(BT74=\"ML\",\"ML\",SUM(BT74:BU74)))","v":0},null,null,{"$f":"IF(BW74=\"AB\",\"AB\",IF(BW74=\"ML\",\"ML\",SUM(BW74:BX74)))","v":0},null,null,{"$f":"IF(BZ74=\"AB\",\"AB\",IF(BZ74=\"ML\",\"ML\",SUM(BZ74:CA74)))","v":0},0,null,null,0,null,null,0,0,{"$f":"IF(OR(CJ74=\"\",CJ$7=\"\"),\"\",CJ74/CJ$7*100)","v":{"v":0,"d":"0.00"}},{"$f":"IF($G74=\"nso\",\"NSO\",IF(CI74=\"ab\",CI74,IF(CI74=\"ML\",CI74,IF(CK74>=86,\"A\",IF(CK74>=71,\"B\",IF(CK74>=51,\"C\",IF(CK74>=31,\"D\",\"E\")))))))","v":"E"},{"$f":"IF($G74>0,CL74,$G74)","v":0},null,null,{"$f":"IF(CN74=\"AB\",\"AB\",IF(CN74=\"ML\",\"ML\",SUM(CN74:CO74)))","v":0},null,null,{"$f":"IF(CQ74=\"AB\",\"AB\",IF(CQ74=\"ML\",\"ML\",SUM(CQ74:CR74)))","v":0},null,null,{"$f":"IF(CT74=\"AB\",\"AB\",IF(CT74=\"ML\",\"ML\",SUM(CT74:CU74)))","v":0},0,null,null,0,null,null,0,0,{"$f":"IF(OR(DD74=\"\",DD$7=\"\"),\"\",DD74/DD$7*100)","v":{"v":0,"d":"0.00"}},{"$f":"IF($G74=\"nso\",\"NSO\",IF(DC74=\"ab\",DC74,IF(DC74=\"ML\",DC74,IF(DE74>=86,\"A\",IF(DE74>=71,\"B\",IF(DE74>=51,\"C\",IF(DE74>=31,\"D\",\"E\")))))))","v":"E"},{"$f":"IF($G74>0,DF74,$G74)","v":0},null,null,{"$f":"IF(DH74=\"AB\",\"AB\",IF(DH74=\"ML\",\"ML\",SUM(DH74:DI74)))","v":0},null,null,{"$f":"IF(DK74=\"AB\",\"AB\",IF(DK74=\"ML\",\"ML\",SUM(DK74:DL74)))","v":0},null,null,{"$f":"IF(DN74=\"AB\",\"AB\",IF(DN74=\"ML\",\"ML\",SUM(DN74:DO74)))","v":0},0,null,null,0,null,null,0,0,{"$f":"IF(OR(DX74=\"\",DX$7=\"\"),\"\",DX74/DX$7*100)","v":{"v":0,"d":"0.00"}},{"$f":"IF($G74=\"nso\",\"NSO\",IF(DW74=\"ab\",DW74,IF(DW74=\"ML\",DW74,IF(DY74>=86,\"A\",IF(DY74>=71,\"B\",IF(DY74>=51,\"C\",IF(DY74>=31,\"D\",\"E\")))))))","v":"E"},{"$f":"IF($G74>0,DZ74,$G74)","v":0},0,0,0,null,null,{"$f":"SUM(EB74:EF74)","v":0},{"$f":"IF(OR(EG74=\"\",EG$7=\"\"),\"\",EG74/EG$7*100)","v":{"v":0,"d":"0.00"}},{"$f":"IF($G74=\"nso\",\"NSO\",IF(EF74=\"ab\",EF74,IF(EF74=\"ML\",EF74,IF(EH74>=86,\"A\",IF(EH74>=71,\"B\",IF(EH74>=51,\"C\",IF(EH74>=31,\"D\",\"E\")))))))","v":"E"},{"$f":"IF($G74>0,EI74,$G74)","v":0},0,0,0,null,null,{"$f":"SUM(EK74:EO74)","v":0},{"$f":"IF(OR(EP74=\"\",EP$7=\"\"),\"\",EP74/EP$7*100)","v":{"v":0,"d":"0.00"}},{"$f":"IF($G74=\"nso\",\"NSO\",IF(EO74=\"ab\",EO74,IF(EO74=\"ML\",EO74,IF(EQ74>=86,\"A\",IF(EQ74>=71,\"B\",IF(EQ74>=51,\"C\",IF(EQ74>=31,\"D\",\"E\")))))))","v":"E"},{"$f":"IF($G74>0,ER74,$G74)","v":0},0,0,0,null,null,{"$f":"SUM(ET74:EX74)","v":0},{"$f":"IF(OR(EY74=\"\",EY$7=\"\"),\"\",EY74/EY$7*100)","v":{"v":0,"d":"0.00"}},{"$f":"IF($G74=\"nso\",\"NSO\",IF(EX74=\"ab\",EX74,IF(EX74=\"ML\",EX74,IF(EZ74>=86,\"A\",IF(EZ74>=71,\"B\",IF(EZ74>=51,\"C\",IF(EZ74>=31,\"D\",\"E\")))))))","v":"E"},{"$f":"IF($G74>0,FA74,$G74)","v":0},null,null,"",0,0,{"$f":"IF(AND(FK74=\"Passed\",FF74>0),FG74/FF74*100,IF(AND(FK74=\"Promoted\",FF74>0),FG74/FF74*100,\"\"))","v":""},{"$f":"IF(AND(FH74>=60,FK74=\"Passed\"),\"First\",IF(AND(FH74>=48,FK74=\"Passed\"),\"Second\",IF(OR(FK74=\"passed\"),\"Third\",\"\")))","v":""},{"$f":"IF(OR(FH74=\"\",FK74<>\"PASSED\"),\"\",IF(FH74>85,\"A\",IF(FH74>70,\"B\",IF(FH74>50,\"C\",IF(FH74>30,\"D\",\"E\")))))","v":""},{"$f":"IF(OR(G74=0,G74=\"\"),\"\",IF(G74=\"TC\",\"TRANSFERRED\",IF(G74=\"NSO\",\"NSO\",IF(G74=\"DROP\",\"DROP\",IF(GU74>0,\"ABSENT\",IF(GV74>0,\"LEAVE\",IF(GW74>4,\"\",IF(AND(GX74>0,$G$4=8),\"\",IF(GX74>0,\"PROMOTED\",\"PASSED\")))))))))","v":""},{"$f":"IF(FK74=\"Passed\",FH74,\"\")","v":""},{"$f":"IF(FL74=\"\",\"\",SUMPRODUCT((FL74<FL$9:FL$108)/COUNTIF(FL$9:FL$108,FL$9:FL$108)))","v":""},{"$f":"IF(FH74=\"\",\"\",IF(FH74>=86,\"Excellent\",IF(FH74>=71,\"Very Good\",IF(FH74>=50,\"Good\",IF(FH74>31,\"Average\",\"Need Improvement\")))))","v":""},0,0,0,0,0,0,{"$f":"COUNTIF($FO74:$FT74,\"A\")","v":0},{"$f":"COUNTIF($FO74:$FT74,\"B\")","v":0},{"$f":"COUNTIF($FO74:$FT74,\"C\")","v":0},{"$f":"COUNTIF($FO74:$FT74,\"D\")","v":0},{"$f":"COUNTIF($FO74:$FT74,\"E\")","v":0},null,null,{"$f":"EG74","v":0},"/",{"$f":"$EG$7","v":100},{"$f":"CONCATENATE(GB74,GC74,GD74)","v":"0/100"},{"$f":"EP74","v":0},"/",{"$f":"$EP$7","v":100},{"$f":"CONCATENATE(GF74,GG74,GH74)","v":"0/100"},{"$f":"EY74","v":0},"/",{"$f":"$EY$7","v":100},{"$f":"CONCATENATE(GJ74,GK74,GL74)","v":"0/100"},null,{"$f":"AE74","v":0},{"$f":"AY74","v":0},{"$f":"BS74","v":0},{"$f":"CM74","v":0},{"$f":"DG74","v":0},{"$f":"EA74","v":0},{"$f":"COUNTIF(GO74:GT74,\"ab\")","v":0},{"$f":"COUNTIF(GO74:GT74,\"ml\")","v":0},{"$f":"COUNTBLANK(GO74:GT74)","v":0},{"$f":"COUNTIF(GO74:GT74,\"e\")","v":0}]
[0,67,67,0,{"$nulls":9},0,null,null,0,null,null,0,{"$f":"SUM(N75,Q75,T75)","v":0},null,null,{"$f":"IF(V75=\"AB\",\"AB\",IF(V75=\"ML\",\"ML\",SUM(V75:W75)))","v":0},null,null,{"$f":"IF(Y75=\"AB\",\"AB\",IF(Y75=\"ML\",\"ML\",SUM(Y75:Z75)))","v":0},{"$f":"SUM(U75,X75,AA75)","v":0},{"$f":"IF(OR(AB75=\"\",AB$7=\"\"),\"\",AB75/AB$7*100)","v":{"v":0,"d":"0.00"}},"",{"$f":"IF($G75>0,AD75,$G75)","v":0},null,null,0,null,null,0,null,null,0,{"$f":"SUM(AH75,AK75,AN75)","v":0},null,null,{"$f":"IF(AP75=\"AB\",\"AB\",IF(AP75=\"ML\",\"ML\",SUM(AP75:AQ75)))","v":0},null,null,{"$f":"IF(AS75=\"AB\",\"AB\",IF(AS75=\"ML\",\"ML\",SUM(AS75:AT75)))","v":0},{"$f":"SUM(AO75,AR75,AU75)","v":0},{"v":0,"d":"0.00"},"E",0,null,null,0,null,null,0,null,null,0,{"$f":"SUM(BB75,BE75,BH75)","v":0},null,null,{"$f":"IF(BJ75=\"AB\",\"AB\",IF(BJ75=\"ML\",\"ML\",SUM(BJ75:BK75)))","v":0},null,null,{"$f":"IF(BM75=\"AB\",\"AB\",IF(BM75=\"ML\",\"ML\",SUM(BM75:BN75)))","v":0},{"$f":"SUM(BI75,BL75,BO75)","v":0},{"v":0,"d":"0.00"},"E",0,null,null,0,null,null,0,null,null,0,{"$f":"SUM(BV75,BY75,CB75)","v":0},null,null,{"$f":"IF(CD75=\"AB\",\"AB\",IF(CD75=\"ML\",\"ML\",SUM(CD75:CE75)))","v":0},null,null,{"$f":"IF(CG75=\"AB\",\"AB\",IF(CG75=\"ML\",\"ML\",SUM(CG75:CH75)))","v":0},{"$f":"SUM(CC75,CF75,CI75)","v":0},{"v":0,"d":"0.00"},"E",0,null,null,0,null,null,0,null,null,0,{"$f":"SUM(CP75,CS75,CV75)","v":0},null,null,{"$f":"IF(CX75=\"AB\",\"AB\",IF(CX75=\"ML\",\"ML\",SUM(CX75:CY75)))","v":0},null,null,{"$f":"IF(DA75=\"AB\",\"AB\",IF(DA75=\"ML\",\"ML\",SUM(DA75:DB75)))","v":0},{"$f":"SUM(CW75,CZ75,DC75)","v":0},{"v":0,"d":"0.00"},"E",0,null,null,0,null,null,0,null,null,0,{"$f":"SUM(DJ75,DM75,DP75)","v":0},null,null,{"$f":"IF(DR75=\"AB\",\"AB\",IF(DR75=\"ML\",\"ML\",SUM(DR75:DS75)))","v":0},null,null,{"$f":"IF(DU75=\"AB\",\"AB\",IF(DU75=\"ML\",\"ML\",SUM(DU75:DV75)))","v":0},{"$f":"SUM(DQ75,DT75,DW75)","v":0},{"v":0,"d":"0.00"},"E",0,0,0,0,null,null,0,{"v":0,"d":"0.00"},"E",0,0,0,0,null,null,0,{"v":0,"d":"0.00"},"E",0,0,0,0,null,null,0,{"v":0,"d":"0.00"},"E",0,null,null,"",0,0,"","","","","","","",0,0,0,0,0,0,0,0,0,0,0,null,null,0,"/",100,"0/100",0,"/",100,"0/100",0,"/",100,"0/100",null,0,0,0,0,0,0,0,0,0,0]
[0,68,68,0,{"$nulls":9},0,null,null,0,null,null,0,0,null,null,0,null,null,0,0,{"v":0,"d":"0.00"},"",0,null,null,0,null,null,0,null,null,0,0,null,null,0,null,null,0,0,{"v":0,"d":"0.00"},"E",0,null,null,0,null,null,0,null,null,0,0,null,null,0,null,null,0,0,{"v":0,"d":"0.00"},"E",0,null,null,0,null,null,0,null,null,0,0,null,null,0,null,null,0,0,{"v":0,"d":"0.00"},"E",0,null,null,0,null,null,0,null,null,0,0,null,null,0,null,null,0,0,{"v":0,"d":"0.00"},"E",0,null,null,0,null,null,0,null,null,0,0,null,null,0,null,null,0,0,{"v":0,"d":"0.00"},"E",0,0,0,0,null,null,0,{"v":0,"d":"0.00"},"E",0,0,0,0,null,null,0,{"v":0,"d":"0.00"},"E",0,0,0,0,null,null,0,{"v":0,"d":"0.00"},"E",0,null,null,"",0,0,"","","","","","","",0,0,0,0,0,0,0,0,0,0,0,null,null,0,"/",100,"0/100",0,"/",100,"0/100",0,"/",100,"0/100",null,0,0,0,0,0,0,0,0,0,0]
[0,69,69,0,{"$nulls":9},0,null,null,0,null,null,0,0,null,null,0,null,null,0,0,{"v":0,"d":"0.00"},"",0,null,null,0,null,null,0,null,null,0,0,null,null,0,null,null,0,0,{"v":0,"d":"0.00"},"E",0,null,null,0,null,null,0,null,null,0,0,null,null,0,null,null,0,0,{"v":0,"d":"0.00"},"E",0,null,null,0,null,null,0,null,null,0,0,null,null,0,null,null,0,0,{"v":0,"d":"0.00"},"E",0,null,null,0,null,null,0,null,null,0,0,null,null,0,null,null,0,0,{"v":0,"d":"0.00"},"E",0,null,null,0,null,null,0,null,null,0,0,null,null,0,null,null,0,0,{"v":0,"d":"0.00"},"E",0,0,0,0,null,null,0,{"v":0,"d":"0.00"},"E",0,0,0,0,null,null,0,{"v":0,"d":"0.00"},"E",0,0,0,0,null,null,0,{"v":0,"d":"0.00"},"E",0,null,null,"",0,0,"","","","","","","",0,0,0,0,0,0,0,0,0,0,0,null,null,0,"/",100,"0/100",0,"/",100,"0/100",0,"/",100,"0/100",null,0,0,0,0,0,0,0,0,0,0]
[0,70,70,0,{"$nulls":9},0,null,null,0,null,null,0,0,null,null,0,null,null,0,0,{"v":0,"d":"0.00"},"",0,null,null,0,null,null,0,null,null,0,0,null,null,0,null,null,0,0,{"v":0,"d":"0.00"},"E",0,null,null,0,null,null,0,null,null,0,0,null,null,0,null,null,0,0,{"v":0,"d":"0.00"},"E",0,null,null,0,null,null,0,null,null,0,0,null,null,0,null,null,0,0,{"v":0,"d":"0.00"},"E",0,null,null,0,null,null,0,null,null,0,0,null,null,0,null,null,0,0,{"v":0,"d":"0.00"},"E",0,null,null,0,null,null,0,null,null,0,0,null,null,0,null,null,0,0,{"v":0,"d":"0.00"},"E",0,0,0,0,null,null,0,{"v":0,"d":"0.00"},"E",0,0,0,0,null,null,0,{"v":0,"d":"0.00"},"E",0,0,0,0,null,null,0,{"v":0,"d":"0.00"},"E",0,null,null,"",0,0,"","","","","","","",0,0,0,0,0,0,0,0,0,0,0,null,null,0,"/",100,"0/100",0,"/",100,"0/100",0,"/",100,"0/100",null,0,0,0,0,0,0,0,0,0,0]
[0,71,71,0,{"$nulls":9},0,null,null,0,null,null,0,0,null,null,0,null,null,0,0,{"v":0,"d":"0.00"},"",0,null,null,0,null,null,0,null,null,0,0,null,null,0,null,null,0,0,{"v":0,"d":"0.00"},"E",0,null,null,0,null,null,0,null,null,0,0,null,null,0,null,null,0,0,{"v":0,"d":"0.00"},"E",0,null,null,0,null,null,0,null,null,0,0,null,null,0,null,null,0,0,{"v":0,"d":"0.00"},"E",0,null,null,0,null,null,0,null,null,0,0,null,null,0,null,null,0,0,{"v":0,"d":"0.00"},"E",0,null,null,0,null,null,0,null,null,0,0,null,null,0,null,null,0,0,{"v":0,"d":"0.00"},"E",0,0,0,0,null,null,0,{"v":0,"d":"0.00"},"E",0,0,0,0,null,null,0,{"v":0,"d":"0.00"},"E",0,0,0,0,null,null,0,{"v":0,"d":"0.00"},"E",0,null,null,"",0,0,"","","","","","","",0,0,0,0,0,0,0,0,0,0,0,null,null,0,"/",100,"0/100",0,"/",100,"0/100",0,"/",100,"0/100",null,0,0,0,0,0,0,0,0,0,0]
[0,72,72,0,{"$nulls":9},0,null,null,0,null,null,0,0,null,null,0,null,null,0,0,{"v":0,"d":"0.00"},"",0,null,null,0,null,null,0,null,null,0,0,null,null,0,null,null,0,0,{"v":0,"d":"0.00"},"E",0,null,null,0,null,null,0,null,null,0,0,null,null,0,null,null,0,0,{"v":0,"d":"0.00"},"E",0,null,null,0,null,null,0,null,null,0,0,null,null,0,null,null,0,0,{"v":0,"d":"0.00"},"E",0,null,null,0,null,null,0,null,null,0,0,null,null,0,null,null,0,0,{"v":0,"d":"0.00"},"E",0,null,null,0,null,null,0,null,null,0,0,null,null,0,null,null,0,0,{"v":0,"d":"0.00"},"E",0,0,0,0,null,null,0,{"v":0,"d":"0.00"},"E",0,0,0,0,null,null,0,{"v":0,"d":"0.00"},"E",0,0,0,0,null,null,0,{"v":0,"d":"0.00"},"E",0,null,null,"",0,0,"","","","","","","",0,0,0,0,0,0,0,0,0,0,0,null,null,0,"/",100,"0/100",0,"/",100,"0/100",0,"/",100,"0/100",null,0,0,0,0,0,0,0,0,0,0]
[0,73,73,0,{"$nulls":9},0,null,null,0,null,null,0,0,null,null,0,null,null,0,0,{"v":0,"d":"0.00"},"",0,null,null,0,null,null,0,null,null,0,0,null,null,0,null,null,0,0,{"v":0,"d":"0.00"},"E",0,null,null,0,null,null,0,null,null,0,0,null,null,0,null,null,0,0,{"v":0,"d":"0.00"},"E",0,null,null,0,null,null,0,null,null,0,0,null,null,0,null,null,0,0,{"v":0,"d":"0.00"},"E",0,null,null,0,null,null,0,null,null,0,0,null,null,0,null,null,0,0,{"v":0,"d":"0.00"},"E",0,null,null,0,null,null,0,null,null,0,0,null,null,0,null,null,0,0,{"v":0,"d":"0.00"},"E",0,0,0,0,null,null,0,{"v":0,"d":"0.00"},"E",0,0,0,0,null,null,0,{"v":0,"d":"0.00"},"E",0,0,0,0,null,null,0,{"v":0,"d":"0.00"},"E",0,null,null,"",0,0,"","","","","","","",0,0,0,0,0,0,0,0,0,0,0,null,null,0,"/",100,"0/100",0,"/",100,"0/100",0,"/",100,"0/100",null,0,0,0,0,0,0,0,0,0,0]
[0,74,74,0,{"$nulls":9},0,null,null,0,null,null,0,0,null,null,0,null,null,0,0,{"v":0,"d":"0.00"},"",0,null,null,0,null,null,0,null,null,0,0,null,null,0,null,null,0,0,{"v":0,"d":"0.00"},"E",0,null,null,0,null,null,0,null,null,0,0,null,null,0,null,null,0,0,{"v":0,"d":"0.00"},"E",0,null,null,0,null,null,0,null,null,0,0,null,null,0,null,null,0,0,{"v":0,"d":"0.00"},"E",0,null,null,0,null,null,0,null,null,0,0,null,null,0,null,null,0,0,{"v":0,"d":"0.00"},"E",0,null,null,0,null,null,0,null,null,0,0,null,null,0,null,null,0,0,{"v":0,"d":"0.00"},"E",0,0,0,0,null,null,0,{"v":0,"d":"0.00"},"E",0,0,0,0,null,null,0,{"v":0,"d":"0.00"},"E",0,0,0,0,null,null,0,{"v":0,"d":"0.00"},"E",0,null,null,"",0,0,"","","","","","","",0,0,0,0,0,0,0,0,0,0,0,null,null,0,"/",100,"0/100",0,"/",100,"0/100",0,"/",100,"0/100",null,0,0,0,0,0,0,0,0,0,0]
[0,75,75,0,{"$nulls":9},0,null,null,0,null,null,0,0,null,null,0,null,null,0,0,{"v":0,"d":"0.00"},"",0,null,null,0,null,null,0,null,null,0,0,null,null,0,null,null,0,0,{"v":0,"d":"0.00"},"E",0,null,null,0,null,null,0,null,null,0,0,null,null,0,null,null,0,0,{"v":0,"d":"0.00"},"E",0,null,null,0,null,null,0,null,null,0,0,null,null,0,null,null,0,0,{"v":0,"d":"0.00"},"E",0,null,null,0,null,null,0,null,null,0,0,null,null,0,null,null,0,0,{"v":0,"d":"0.00"},"E",0,null,null,0,null,null,0,null,null,0,0,null,null,0,null,null,0,0,{"v":0,"d":"0.00"},"E",0,0,0,0,null,null,0,{"v":0,"d":"0.00"},"E",0,0,0,0,null,null,0,{"v":0,"d":"0.00"},"E",0,0,0,0,null,null,0,{"v":0,"d":"0.00"},"E",0,null,null,"",0,0,"","","","","","","",0,0,0,0,0,0,0,0,0,0,0,null,null,0,"/",100,"0/100",0,"/",100,"0/100",0,"/",100,"0/100",null,0,0,0,0,0,0,0,0,0,0]
[0,76,76,0,{"$nulls":9},0,null,null,0,null,null,0,0,null,null,0,null,null,0,0,{"v":0,"d":"0.00"},"",0,null,null,0,null,null,0,null,null,0,0,null,null,0,null,null,0,0,{"v":0,"d":"0.00"},"E",0,null,null,0,null,null,0,null,null,0,0,null,null,0,null,null,0,0,{"v":0,"d":"0.00"},"E",0,null,null,0,null,null,0,null,null,0,0,null,null,0,null,null,0,0,{"v":0,"d":"0.00"},"E",0,null,null,0,null,null,0,null,null,0,0,null,null,0,null,null,0,0,{"v":0,"d":"0.00"},"E",0,null,null,0,null,null,0,null,null,0,0,null,null,0,null,null,0,0,{"v":0,"d":"0.00"},"E",0,0,0,0,null,null,0,{"v":0,"d":"0.00"},"E",0,0,0,0,null,null,0,{"v":0,"d":"0.00"},"E",0,0,0,0,null,null,0,{"v":0,"d":"0.00"},"E",0,null,null,"",0,0,"","","","","","","",0,0,0,0,0,0,0,0,0,0,0,null,null,0,"/",100,"0/100",0,"/",100,"0/100",0,"/",100,"0/100",null,0,0,0,0,0,0,0,0,0,0]
[0,77,77,0,{"$nulls":9},0,null,null,0,null,null,0,0,null,null,0,null,null,0,0,{"v":0,"d":"0.00"},"",0,null,null,0,null,null,0,null,null,0,0,null,null,0,null,null,0,0,{"v":0,"d":"0.00"},"E",0,null,null,0,null,null,0,null,null,0,0,null,null,0,null,null,0,0,{"v":0,"d":"0.00"},"E",0,null,null,0,null,null,0,null,null,0,0,null,null,0,null,null,0,0,{"v":0,"d":"0.00"},"E",0,null,null,0,null,null,0,null,null,0,0,null,null,0,null,null,0,0,{"v":0,"d":"0.00"},"E",0,null,null,0,null,null,0,null,null,0,0,null,null,0,null,null,0,0,{"v":0,"d":"0.00"},"E",0,0,0,0,null,null,0,{"v":0,"d":"0.00"},"E",0,0,0,0,null,null,0,{"v":0,"d":"0.00"},"E",0,0,0,0,null,null,0,{"v":0,"d":"0.00"},"E",0,null,null,"",0,0,"","","","","","","",0,0,0,0,0,0,0,0,0,0,0,null,null,0,"/",100,"0/100",0,"/",100,"0/100",0,"/",100,"0/100",null,0,0,0,0,0,0,0,0,0,0]
[0,78,78,0,{"$nulls":9},0,null,null,0,null,null,0,0,null,null,0,null,null,0,0,{"v":0,"d":"0.00"},"",0,null,null,0,null,null,0,null,null,0,0,null,null,0,null,null,0,0,{"v":0,"d":"0.00"},"E",0,null,null,0,null,null,0,null,null,0,0,null,null,0,null,null,0,0,{"v":0,"d":"0.00"},"E",0,null,null,0,null,null,0,null,null,0,0,null,null,0,null,null,0,0,{"v":0,"d":"0.00"},"E",0,null,null,0,null,null,0,null,null,0,0,null,null,0,null,null,0,0,{"v":0,"d":"0.00"},"E",0,null,null,0,null,null,0,null,null,0,0,null,null,0,null,null,0,0,{"v":0,"d":"0.00"},"E",0,0,0,0,null,null,0,{"v":0,"d":"0.00"},"E",0,0,0,0,null,null,0,{"v":0,"d":"0.00"},"E",0,0,0,0,null,null,0,{"v":0,"d":"0.00"},"E",0,null,null,"",0,0,"","","","","","","",0,0,0,0,0,0,0,0,0,0,0,null,null,0,"/",100,"0/100",0,"/",100,"0/100",0,"/",100,"0/100",null,0,0,0,0,0,0,0,0,0,0]
[0,79,79,0,{"$nulls":9},0,null,null,0,null,null,0,0,null,null,0,null,null,0,0,{"v":0,"d":"0.00"},"",0,null,null,0,null,null,0,null,null,0,0,null,null,0,null,null,0,0,{"v":0,"d":"0.00"},"E",0,null,null,0,null,null,0,null,null,0,0,null,null,0,null,null,0,0,{"v":0,"d":"0.00"},"E",0,null,null,0,null,null,0,null,null,0,0,null,null,0,null,null,0,0,{"v":0,"d":"0.00"},"E",0,null,null,0,null,null,0,null,null,0,0,null,null,0,null,null,0,0,{"v":0,"d":"0.00"},"E",0,null,null,0,null,null,0,null,null,0,0,null,null,0,null,null,0,0,{"v":0,"d":"0.00"},"E",0,0,0,0,null,null,0,{"v":0,"d":"0.00"},"E",0,0,0,0,null,null,0,{"v":0,"d":"0.00"},"E",0,0,0,0,null,null,0,{"v":0,"d":"0.00"},"E",0,null,null,"",0,0,"","","","","","","",0,0,0,0,0,0,0,0,0,0,0,null,null,0,"/",100,"0/100",0,"/",100,"0/100",0,"/",100,"0/100",null,0,0,0,0,0,0,0,0,0,0]
[0,80,80,0,{"$nulls":9},0,null,null,0,null,null,0,0,null,null,0,null,null,0,0,{"v":0,"d":"0.00"},"",0,null,null,0,null,null,0,null,null,0,0,null,null,0,null,null,0,0,{"v":0,"d":"0.00"},"E",0,null,null,0,null,null,0,null,null,0,0,null,null,0,null,null,0,0,{"v":0,"d":"0.00"},"E",0,null,null,0,null,null,0,null,null,0,0,null,null,0,null,null,0,0,{"v":0,"d":"0.00"},"E",0,null,null,0,null,null,0,null,null,0,0,null,null,0,null,null,0,0,{"v":0,"d":"0.00"},"E",0,null,null,0,null,null,0,null,null,0,0,null,null,0,null,null,0,0,{"v":0,"d":"0.00"},"E",0,0,0,0,null,null,0,{"v":0,"d":"0.00"},"E",0,0,0,0,null,null,0,{"v":0,"d":"0.00"},"E",0,0,0,0,null,null,0,{"v":0,"d":"0.00"},"E",0,null,null,"",0,0,"","","","","","","",0,0,0,0,0,0,0,0,0,0,0,null,null,0,"/",100,"0/100",0,"/",100,"0/100",0,"/",100,"0/100",null,0,0,0,0,0,0,0,0,0,0]
[0,81,81,0,{"$nulls":9},0,null,null,0,null,null,0,0,null,null,0,null,null,0,0,{"v":0,"d":"0.00"},"",0,null,null,0,null,null,0,null,null,0,0,null,null,0,null,null,0,0,{"v":0,"d":"0.00"},"E",0,null,null,0,null,null,0,null,null,0,0,null,null,0,null,null,0,0,{"v":0,"d":"0.00"},"E",0,null,null,0,null,null,0,null,null,0,0,null,null,0,null,null,0,0,{"v":0,"d":"0.00"},"E",0,null,null,0,null,null,0,null,null,0,0,null,null,0,null,null,0,0,{"v":0,"d":"0.00"},"E",0,null,null,0,null,null,0,null,null,0,0,null,null,0,null,null,0,0,{"v":0,"d":"0.00"},"E",0,0,0,0,null,null,0,{"v":0,"d":"0.00"},"E",0,0,0,0,null,null,0,{"v":0,"d":"0.00"},"E",0,0,0,0,null,null,0,{"v":0,"d":"0.00"},"E",0,null,null,"",0,0,"","","","","","","",0,0,0,0,0,0,0,0,0,0,0,null,null,0,"/",100,"0/100",0,"/",100,"0/100",0,"/",100,"0/100",null,0,0,0,0,0,0,0,0,0,0]
[0,82,82,0,{"$nulls":9},0,null,null,0,null,null,0,0,null,null,0,null,null,0,0,{"v":0,"d":"0.00"},"",0,null,null,0,null,null,0,null,null,0,0,null,null,0,null,null,0,0,{"v":0,"d":"0.00"},"E",0,null,null,0,null,null,0,null,null,0,0,null,null,0,null,null,0,0,{"v":0,"d":"0.00"},"E",0,null,null,0,null,null,0,null,null,0,0,null,null,0,null,null,0,0,{"v":0,"d":"0.00"},"E",0,null,null,0,null,null,0,null,null,0,0,null,null,0,null,null,0,0,{"v":0,"d":"0.00"},"E",0,null,null,0,null,null,0,null,null,0,0,null,null,0,null,null,0,0,{"v":0,"d":"0.00"},"E",0,0,0,0,null,null,0,{"v":0,"d":"0.00"},"E",0,0,0,0,null,null,0,{"v":0,"d":"0.00"},"E",0,0,0,0,null,null,0,{"v":0,"d":"0.00"},"E",0,null,null,"",0,0,"","","","","","","",0,0,0,0,0,0,0,0,0,0,0,null,null,0,"/",100,"0/100",0,"/",100,"0/100",0,"/",100,"0/100",null,0,0,0,0,0,0,0,0,0,0]
[0,83,83,0,{"$nulls":9},0,null,null,0,null,null,0,0,null,null,0,null,null,0,0,{"v":0,"d":"0.00"},"",0,null,null,0,null,null,0,null,null,0,0,null,null,0,null,null,0,0,{"v":0,"d":"0.00"},"E",0,null,null,0,null,null,0,null,null,0,0,null,null,0,null,null,0,0,{"v":0,"d":"0.00"},"E",0,null,null,0,null,null,0,null,null,0,0,null,null,0,null,null,0,0,{"v":0,"d":"0.00"},"E",0,null,null,0,null,null,0,null,null,0,0,null,null,0,null,null,0,0,{"v":0,"d":"0.00"},"E",0,null,null,0,null,null,0,null,null,0,0,null,null,0,null,null,0,0,{"v":0,"d":"0.00"},"E",0,0,0,0,null,null,0,{"v":0,"d":"0.00"},"E",0,0,0,0,null,null,0,{"v":0,"d":"0.00"},"E",0,0,0,0,null,null,0,{"v":0,"d":"0.00"},"E",0,null,null,"",0,0,"","","","","","","",0,0,0,0,0,0,0,0,0,0,0,null,null,0,"/",100,"0/100",0,"/",100,"0/100",0,"/",100,"0/100",null,0,0,0,0,0,0,0,0,0,0]
[0,84,84,0,{"$nulls":9},0,null,null,0,null,null,0,0,null,null,0,null,null,0,0,{"v":0,"d":"0.00"},"",0,null,null,0,null,null,0,null,null,0,0,null,null,0,null,null,0,0,{"v":0,"d":"0.00"},"E",0,null,null,0,null,null,0,null,null,0,0,null,null,0,null,null,0,0,{"v":0,"d":"0.00"},"E",0,null,null,0,null,null,0,null,null,0,0,null,null,0,null,null,0,0,{"v":0,"d":"0.00"},"E",0,null,null,0,null,null,0,null,null,0,0,null,null,0,null,null,0,0,{"v":0,"d":"0.00"},"E",0,null,null,0,null,null,0,null,null,0,0,null,null,0,null,null,0,0,{"v":0,"d":"0.00"},"E",0,0,0,0,null,null,0,{"v":0,"d":"0.00"},"E",0,0,0,0,null,null,0,{"v":0,"d":"0.00"},"E",0,0,0,0,null,null,0,{"v":0,"d":"0.00"},"E",0,null,null,"",0,0,"","","","","","","",0,0,0,0,0,0,0,0,0,0,0,null,null,0,"/",100,"0/100",0,"/",100,"0/100",0,"/",100,"0/100",null,0,0,0,0,0,0,0,0,0,0]
[0,85,85,0,{"$nulls":9},0,null,null,0,null,null,0,0,null,null,0,null,null,0,0,{"v":0,"d":"0.00"},"",0,null,null,0,null,null,0,null,null,0,0,null,null,0,null,null,0,0,{"v":0,"d":"0.00"},"E",0,null,null,0,null,null,0,null,null,0,0,null,null,0,null,null,0,0,{"v":0,"d":"0.00"},"E",0,null,null,0,null,null,0,null,null,0,0,null,null,0,null,null,0,0,{"v":0,"d":"0.00"},"E",0,null,null,0,null,null,0,null,null,0,0,null,null,0,null,null,0,0,{"v":0,"d":"0.00"},"E",0,null,null,0,null,null,0,null,null,0,0,null,null,0,null,null,0,0,{"v":0,"d":"0.00"},"E",0,0,0,0,null,null,0,{"v":0,"d":"0.00"},"E",0,0,0,0,null,null,0,{"v":0,"d":"0.00"},"E",0,0,0,0,null,null,0,{"v":0,"d":"0.00"},"E",0,null,null,"",0,0,"","","","","","","",0,0,0,0,0,0,0,0,0,0,0,null,null,0,"/",100,"0/100",0,"/",100,"0/100",0,"/",100,"0/100",null,0,0,0,0,0,0,0,0,0,0]
[0,86,86,0,{"$nulls":9},0,null,null,0,null,null,0,0,null,null,0,null,null,0,0,{"v":0,"d":"0.00"},"",0,null,null,0,null,null,0,null,null,0,0,null,null,0,null,null,0,0,{"v":0,"d":"0.00"},"E",0,null,null,0,null,null,0,null,null,0,0,null,null,0,null,null,0,0,{"v":0,"d":"0.00"},"E",0,null,null,0,null,null,0,null,null,0,0,null,null,0,null,null,0,0,{"v":0,"d":"0.00"},"E",0,null,null,0,null,null,0,null,null,0,0,null,null,0,null,null,0,0,{"v":0,"d":"0.00"},"E",0,null,null,0,null,null,0,null,null,0,0,null,null,0,null,null,0,0,{"v":0,"d":"0.00"},"E",0,0,0,0,null,null,0,{"v":0,"d":"0.00"},"E",0,0,0,0,null,null,0,{"v":0,"d":"0.00"},"E",0,0,0,0,null,null,0,{"v":0,"d":"0.00"},"E",0,null,null,"",0,0,"","","","","","","",0,0,0,0,0,0,0,0,0,0,0,null,null,0,"/",100,"0/100",0,"/",100,"0/100",0,"/",100,"0/100",null,0,0,0,0,0,0,0,0,0,0]
[0,87,87,0,{"$nulls":9},0,null,null,0,null,null,0,0,null,null,0,null,null,0,0,{"v":0,"d":"0.00"},"",0,null,null,0,null,null,0,null,null,0,0,null,null,0,null,null,0,0,{"v":0,"d":"0.00"},"E",0,null,null,0,null,null,0,null,null,0,0,null,null,0,null,null,0,0,{"v":0,"d":"0.00"},"E",0,null,null,0,null,null,0,null,null,0,0,null,null,0,null,null,0,0,{"v":0,"d":"0.00"},"E",0,null,null,0,null,null,0,null,null,0,0,null,null,0,null,null,0,0,{"v":0,"d":"0.00"},"E",0,null,null,0,null,null,0,null,null,0,0,null,null,0,null,null,0,0,{"v":0,"d":"0.00"},"E",0,0,0,0,null,null,0,{"v":0,"d":"0.00"},"E",0,0,0,0,null,null,0,{"v":0,"d":"0.00"},"E",0,0,0,0,null,null,0,{"v":0,"d":"0.00"},"E",0,null,null,"",0,0,"","","","","","","",0,0,0,0,0,0,0,0,0,0,0,null,null,0,"/",100,"0/100",0,"/",100,"0/100",0,"/",100,"0/100",null,0,0,0,0,0,0,0,0,0,0]
[0,88,88,0,{"$nulls":9},0,null,null,0,null,null,0,0,null,null,0,null,null,0,0,{"v":0,"d":"0.00"},"",0,null,null,0,null,null,0,null,null,0,0,null,null,0,null,null,0,0,{"v":0,"d":"0.00"},"E",0,null,null,0,null,null,0,null,null,0,0,null,null,0,null,null,0,0,{"v":0,"d":"0.00"},"E",0,null,null,0,null,null,0,null,null,0,0,null,null,0,null,null,0,0,{"v":0,"d":"0.00"},"E",0,null,null,0,null,null,0,null,null,0,0,null,null,0,null,null,0,0,{"v":0,"d":"0.00"},"E",0,null,null,0,null,null,0,null,null,0,0,null,null,0,null,null,0,0,{"v":0,"d":"0.00"},"E",0,0,0,0,null,null,0,{"v":0,"d":"0.00"},"E",0,0,0,0,null,null,0,{"v":0,"d":"0.00"},"E",0,0,0,0,null,null,0,{"v":0,"d":"0.00"},"E",0,null,null,"",0,0,"","","","","","","",0,0,0,0,0,0,0,0,0,0,0,null,null,0,"/",100,"0/100",0,"/",100,"0/100",0,"/",100,"0/100",null,0,0,0,0,0,0,0,0,0,0]
[0,89,89,0,{"$nulls":9},0,null,null,0,null,null,0,0,null,null,0,null,null,0,0,{"v":0,"d":"0.00"},"",0,null,null,0,null,null,0,null,null,0,0,null,null,0,null,null,0,0,{"v":0,"d":"0.00"},"E",0,null,null,0,null,null,0,null,null,0,0,null,null,0,null,null,0,0,{"v":0,"d":"0.00"},"E",0,null,null,0,null,null,0,null,null,0,0,null,null,0,null,null,0,0,{"v":0,"d":"0.00"},"E",0,null,null,0,null,null,0,null,null,0,0,null,null,0,null,null,0,0,{"v":0,"d":"0.00"},"E",0,null,null,0,null,null,0,null,null,0,0,null,null,0,null,null,0,0,{"v":0,"d":"0.00"},"E",0,0,0,0,null,null,0,{"v":0,"d":"0.00"},"E",0,0,0,0,null,null,0,{"v":0,"d":"0.00"},"E",0,0,0,0,null,null,0,{"v":0,"d":"0.00"},"E",0,null,null,"",0,0,"","","","","","","",0,0,0,0,0,0,0,0,0,0,0,null,null,0,"/",100,"0/100",0,"/",100,"0/100",0,"/",100,"0/100",null,0,0,0,0,0,0,0,0,0,0]
[0,90,90,0,{"$nulls":9},0,null,null,0,null,null,0,0,null,null,0,null,null,0,0,{"v":0,"d":"0.00"},"",0,null,null,0,null,null,0,null,null,0,0,null,null,0,null,null,0,0,{"v":0,"d":"0.00"},"E",0,null,null,0,null,null,0,null,null,0,0,null,null,0,null,null,0,0,{"v":0,"d":"0.00"},"E",0,null,null,0,null,null,0,null,null,0,0,null,null,0,null,null,0,0,{"v":0,"d":"0.00"},"E",0,null,null,0,null,null,0,null,null,0,0,null,null,0,null,null,0,0,{"v":0,"d":"0.00"},"E",0,null,null,0,null,null,0,null,null,0,0,null,null,0,null,null,0,0,{"v":0,"d":"0.00"},"E",0,0,0,0,null,null,0,{"v":0,"d":"0.00"},"E",0,0,0,0,null,null,0,{"v":0,"d":"0.00"},"E",0,0,0,0,null,null,0,{"v":0,"d":"0.00"},"E",0,null,null,"",0,0,"","","","","","","",0,0,0,0,0,0,0,0,0,0,0,null,null,0,"/",100,"0/100",0,"/",100,"0/100",0,"/",100,"0/100",null,0,0,0,0,0,0,0,0,0,0]
[0,91,91,0,{"$nulls":9},0,null,null,0,null,null,0,0,null,null,0,null,null,0,0,{"v":0,"d":"0.00"},"",0,null,null,0,null,null,0,null,null,0,0,null,null,0,null,null,0,0,{"v":0,"d":"0.00"},"E",0,null,null,0,null,null,0,null,null,0,0,null,null,0,null,null,0,0,{"v":0,"d":"0.00"},"E",0,null,null,0,null,null,0,null,null,0,0,null,null,0,null,null,0,0,{"v":0,"d":"0.00"},"E",0,null,null,0,null,null,0,null,null,0,0,null,null,0,null,null,0,0,{"v":0,"d":"0.00"},"E",0,null,null,0,null,null,0,null,null,0,0,null,null,0,null,null,0,0,{"v":0,"d":"0.00"},"E",0,0,0,0,null,null,0,{"v":0,"d":"0.00"},"E",0,0,0,0,null,null,0,{"v":0,"d":"0.00"},"E",0,0,0,0,null,null,0,{"v":0,"d":"0.00"},"E",0,null,null,"",0,0,"","","","","","","",0,0,0,0,0,0,0,0,0,0,0,null,null,0,"/",100,"0/100",0,"/",100,"0/100",0,"/",100,"0/100",null,0,0,0,0,0,0,0,0,0,0]
[0,92,92,0,{"$nulls":9},0,null,null,0,null,null,0,0,null,null,0,null,null,0,0,{"v":0,"d":"0.00"},"",0,null,null,0,null,null,0,null,null,0,0,null,null,0,null,null,0,0,{"v":0,"d":"0.00"},"E",0,null,null,0,null,null,0,null,null,0,0,null,null,0,null,null,0,0,{"v":0,"d":"0.00"},"E",0,null,null,0,null,null,0,null,null,0,0,null,null,0,null,null,0,0,{"v":0,"d":"0.00"},"E",0,null,null,0,null,null,0,null,null,0,0,null,null,0,null,null,0,0,{"v":0,"d":"0.00"},"E",0,null,null,0,null,null,0,null,null,0,0,null,null,0,null,null,0,0,{"v":0,"d":"0.00"},"E",0,0,0,0,null,null,0,{"v":0,"d":"0.00"},"E",0,0,0,0,null,null,0,{"v":0,"d":"0.00"},"E",0,0,0,0,null,null,0,{"v":0,"d":"0.00"},"E",0,null,null,"",0,0,"","","","","","","",0,0,0,0,0,0,0,0,0,0,0,null,null,0,"/",100,"0/100",0,"/",100,"0/100",0,"/",100,"0/100",null,0,0,0,0,0,0,0,0,0,0]
[0,93,93,0,{"$nulls":9},0,null,null,0,null,null,0,0,null,null,0,null,null,0,0,{"v":0,"d":"0.00"},"",0,null,null,0,null,null,0,null,null,0,0,null,null,0,null,null,0,0,{"v":0,"d":"0.00"},"E",0,null,null,0,null,null,0,null,null,0,0,null,null,0,null,null,0,0,{"v":0,"d":"0.00"},"E",0,null,null,0,null,null,0,null,null,0,0,null,null,0,null,null,0,0,{"v":0,"d":"0.00"},"E",0,null,null,0,null,null,0,null,null,0,0,null,null,0,null,null,0,0,{"v":0,"d":"0.00"},"E",0,null,null,0,null,null,0,null,null,0,0,null,null,0,null,null,0,0,{"v":0,"d":"0.00"},"E",0,0,0,0,null,null,0,{"v":0,"d":"0.00"},"E",0,0,0,0,null,null,0,{"v":0,"d":"0.00"},"E",0,0,0,0,null,null,0,{"v":0,"d":"0.00"},"E",0,null,null,"",0,0,"","","","","","","",0,0,0,0,0,0,0,0,0,0,0,null,null,0,"/",100,"0/100",0,"/",100,"0/100",0,"/",100,"0/100",null,0,0,0,0,0,0,0,0,0,0]
[0,94,94,0,{"$nulls":9},0,null,null,0,null,null,0,0,null,null,0,null,null,0,0,{"v":0,"d":"0.00"},"",0,null,null,0,null,null,0,null,null,0,0,null,null,0,null,null,0,0,{"v":0,"d":"0.00"},"E",0,null,null,0,null,null,0,null,null,0,0,null,null,0,null,null,0,0,{"v":0,"d":"0.00"},"E",0,null,null,0,null,null,0,null,null,0,0,null,null,0,null,null,0,0,{"v":0,"d":"0.00"},"E",0,null,null,0,null,null,0,null,null,0,0,null,null,0,null,null,0,0,{"v":0,"d":"0.00"},"E",0,null,null,0,null,null,0,null,null,0,0,null,null,0,null,null,0,0,{"v":0,"d":"0.00"},"E",0,0,0,0,null,null,0,{"v":0,"d":"0.00"},"E",0,0,0,0,null,null,0,{"v":0,"d":"0.00"},"E",0,0,0,0,null,null,0,{"v":0,"d":"0.00"},"E",0,null,null,"",0,0,"","","","","","","",0,0,0,0,0,0,0,0,0,0,0,null,null,0,"/",100,"0/100",0,"/",100,"0/100",0,"/",100,"0/100",null,0,0,0,0,0,0,0,0,0,0]
[0,95,95,0,{"$nulls":9},0,null,null,0,null,null,0,0,null,null,0,null,null,0,0,{"v":0,"d":"0.00"},"",0,null,null,0,null,null,0,null,null,0,0,null,null,0,null,null,0,0,{"v":0,"d":"0.00"},"E",0,null,null,0,null,null,0,null,null,0,0,null,null,0,null,null,0,0,{"v":0,"d":"0.00"},"E",0,null,null,0,null,null,0,null,null,0,0,null,null,0,null,null,0,0,{"v":0,"d":"0.00"},"E",0,null,null,0,null,null,0,null,null,0,0,null,null,0,null,null,0,0,{"v":0,"d":"0.00"},"E",0,null,null,0,null,null,0,null,null,0,0,null,null,0,null,null,0,0,{"v":0,"d":"0.00"},"E",0,0,0,0,null,null,0,{"v":0,"d":"0.00"},"E",0,0,0,0,null,null,0,{"v":0,"d":"0.00"},"E",0,0,0,0,null,null,0,{"v":0,"d":"0.00"},"E",0,null,null,"",0,0,"","","","","","","",0,0,0,0,0,0,0,0,0,0,0,null,null,0,"/",100,"0/100",0,"/",100,"0/100",0,"/",100,"0/100",null,0,0,0,0,0,0,0,0,0,0]
[0,96,96,0,{"$nulls":9},0,null,null,0,null,null,0,0,null,null,0,null,null,0,0,{"v":0,"d":"0.00"},"",0,null,null,0,null,null,0,null,null,0,0,null,null,0,null,null,0,0,{"v":0,"d":"0.00"},"E",0,null,null,0,null,null,0,null,null,0,0,null,null,0,null,null,0,0,{"v":0,"d":"0.00"},"E",0,null,null,0,null,null,0,null,null,0,0,null,null,0,null,null,0,0,{"v":0,"d":"0.00"},"E",0,null,null,0,null,null,0,null,null,0,0,null,null,0,null,null,0,0,{"v":0,"d":"0.00"},"E",0,null,null,0,null,null,0,null,null,0,0,null,null,0,null,null,0,0,{"v":0,"d":"0.00"},"E",0,0,0,0,null,null,0,{"v":0,"d":"0.00"},"E",0,0,0,0,null,null,0,{"v":0,"d":"0.00"},"E",0,0,0,0,null,null,0,{"v":0,"d":"0.00"},"E",0,null,null,"",0,0,"","","","","","","",0,0,0,0,0,0,0,0,0,0,0,null,null,0,"/",100,"0/100",0,"/",100,"0/100",0,"/",100,"0/100",null,0,0,0,0,0,0,0,0,0,0]
[0,97,97,0,{"$nulls":9},0,null,null,0,null,null,0,0,null,null,0,null,null,0,0,{"v":0,"d":"0.00"},"",0,null,null,0,null,null,0,null,null,0,0,null,null,0,null,null,0,0,{"v":0,"d":"0.00"},"E",0,null,null,0,null,null,0,null,null,0,0,null,null,0,null,null,0,0,{"v":0,"d":"0.00"},"E",0,null,null,0,null,null,0,null,null,0,0,null,null,0,null,null,0,0,{"v":0,"d":"0.00"},"E",0,null,null,0,null,null,0,null,null,0,0,null,null,0,null,null,0,0,{"v":0,"d":"0.00"},"E",0,null,null,0,null,null,0,null,null,0,0,null,null,0,null,null,0,0,{"v":0,"d":"0.00"},"E",0,0,0,0,null,null,0,{"v":0,"d":"0.00"},"E",0,0,0,0,null,null,0,{"v":0,"d":"0.00"},"E",0,0,0,0,null,null,0,{"v":0,"d":"0.00"},"E",0,null,null,"",0,0,"","","","","","","",0,0,0,0,0,0,0,0,0,0,0,null,null,0,"/",100,"0/100",0,"/",100,"0/100",0,"/",100,"0/100",null,0,0,0,0,0,0,0,0,0,0]
[0,98,98,0,{"$nulls":9},0,null,null,0,null,null,0,0,null,null,0,null,null,0,0,{"v":0,"d":"0.00"},"",0,null,null,0,null,null,0,null,null,0,0,null,null,0,null,null,0,0,{"v":0,"d":"0.00"},"E",0,null,null,0,null,null,0,null,null,0,0,null,null,0,null,null,0,0,{"v":0,"d":"0.00"},"E",0,null,null,0,null,null,0,null,null,0,0,null,null,0,null,null,0,0,{"v":0,"d":"0.00"},"E",0,null,null,0,null,null,0,null,null,0,0,null,null,0,null,null,0,0,{"v":0,"d":"0.00"},"E",0,null,null,0,null,null,0,null,null,0,0,null,null,0,null,null,0,0,{"v":0,"d":"0.00"},"E",0,0,0,0,null,null,0,{"v":0,"d":"0.00"},"E",0,0,0,0,null,null,0,{"v":0,"d":"0.00"},"E",0,0,0,0,null,null,0,{"v":0,"d":"0.00"},"E",0,null,null,"",0,0,"","","","","","","",0,0,0,0,0,0,0,0,0,0,0,null,null,0,"/",100,"0/100",0,"/",100,"0/100",0,"/",100,"0/100",null,0,0,0,0,0,0,0,0,0,0]
[0,99,99,0,{"$nulls":9},0,null,null,0,null,null,0,0,null,null,0,null,null,0,0,{"v":0,"d":"0.00"},"",0,null,null,0,null,null,0,null,null,0,0,null,null,0,null,null,0,0,{"v":0,"d":"0.00"},"E",0,null,null,0,null,null,0,null,null,0,0,null,null,0,null,null,0,0,{"v":0,"d":"0.00"},"E",0,null,null,0,null,null,0,null,null,0,0,null,null,0,null,null,0,0,{"v":0,"d":"0.00"},"E",0,null,null,0,null,null,0,null,null,0,0,null,null,0,null,null,0,0,{"v":0,"d":"0.00"},"E",0,null,null,0,null,null,0,null,null,0,0,null,null,0,null,null,0,0,{"v":0,"d":"0.00"},"E",0,0,0,0,null,null,0,{"v":0,"d":"0.00"},"E",0,0,0,0,null,null,0,{"v":0,"d":"0.00"},"E",0,0,0,0,null,null,0,{"v":0,"d":"0.00"},"E",0,null,null,"",0,0,"","","","","","","",0,0,0,0,0,0,0,0,0,0,0,null,null,0,"/",100,"0/100",0,"/",100,"0/100",0,"/",100,"0/100",null,0,0,0,0,0,0,0,0,0,0]
[0,100,100,0,{"$nulls":9},0,null,null,0,null,null,0,0,null,null,0,null,null,0,0,{"v":0,"d":"0.00"},"",0,null,null,0,null,null,0,null,null,0,0,null,null,0,null,null,0,0,{"v":0,"d":"0.00"},"E",0,null,null,0,null,null,0,null,null,0,0,null,null,0,null,null,0,0,{"v":0,"d":"0.00"},"E",0,null,null,0,null,null,0,null,null,0,0,null,null,0,null,null,0,0,{"v":0,"d":"0.00"},"E",0,null,null,0,null,null,0,null,null,0,0,null,null,0,null,null,0,0,{"v":0,"d":"0.00"},"E",0,null,null,0,null,null,0,null,null,0,0,null,null,0,null,null,0,0,{"v":0,"d":"0.00"},"E",0,0,0,0,null,null,0,{"v":0,"d":"0.00"},"E",0,0,0,0,null,null,0,{"v":0,"d":"0.00"},"E",0,0,0,0,null,null,0,{"v":0,"d":"0.00"},"E",0,null,null,"",0,0,"","","","","","","",0,0,0,0,0,0,0,0,0,0,0,null,null,0,"/",100,"0/100",0,"/",100,"0/100",0,"/",100,"0/100",null,0,0,0,0,0,0,0,0,0,0]
[null,1,2,3,4,5,6,7,8,9,10,11,12,13,14,15,16,17,18,19,20,21,22,23,24,25,26,27,28,29,30,31,32,33,34,35,36,37,38,39,40,41,42,43,44,45,46,47,48,49,50,51,52,53,54,55,56,57,58,59,60,61,62,63,64,65,66,67,68,69,70,71,72,73,74,75,76,77,78,79,80,81,82,83,84,85,86,87,88,89,90,91,92,93,94,95,96,97,98,99,100,101,102,103,104,105,106,107,108,109,110,111,112,113,114,115,116,117,118,119,120,121,122,123,124,125,126,127,128,129,130,131,132,133,134,135,136,137,138,139,140,141,142,143,144,145,146,147,148,149,150,151,152,153,154,155,156,157,158,159,160,161,162,163,164,165,166,167,168,169,170,171,172,173,174,175,176,177,178,179,180,181,182,183,184,185,186,187,188,189,190,191,192,193,194,195,196,197,198,199,200,201,202,203,204,205,206,207]
[{"$nulls":8},{"$f":"Master!L7","v":"HINDI"},{"$f":"Master!N7","v":"A"}]
[{"$nulls":8},{"$f":"Master!L8","v":"ENGLISH"},{"$f":"Master!N8","v":"B"}]
[{"$nulls":8},{"$f":"Master!L9","v":"SANSKRIT"},{"$f":"Master!N9","v":"C"}]
[{"$nulls":8},{"$f":"Master!L10","v":"SCIENCE"},{"$f":"Master!N10","v":"D"}]
[{"$nulls":8},{"$f":"Master!L11","v":"MATHEMATICS"},{"$f":"Master!N11","v":"E"}]
[{"$nulls":8},{"$f":"Master!L12","v":"SOCIAL SCIENCE"},{"$f":"Master!N12","v":"F"}]
[{"$nulls":8},{"$f":"Master!L13","v":"Work Exp."},{"$f":"Master!N13","v":"G"}]
[{"$nulls":8},{"$f":"Master!L14","v":"Art Edu."},{"$f":"Master!N14","v":0}]
[{"$nulls":8},{"$f":"Master!L15","v":"H&P Edu."},{"$f":"Master!N15","v":0}]
[{"$nulls":8},{"$f":"Master!L16","v":0},{"$f":"Master!N16","v":0}]
[{"$nulls":8},{"$f":"Master!L17","v":0},{"$f":"Master!N19","v":0}]
[{"$nulls":8},{"$f":"Master!L18","v":0},{"$f":"Master!N20","v":0}]
[{"$nulls":8},{"$f":"Master!L19","v":0},{"$f":"Master!P7","v":0}]
[{"$nulls":8},{"$f":"Master!L20","v":0},{"$f":"Master!P8","v":0}]
[{"$nulls":9},{"$f":"Master!P9","v":0}]
[{"$nulls":9},{"$f":"Master!P10","v":0}]
[{"$nulls":9},{"$f":"Master!P11","v":0}]
[{"$nulls":9},{"$f":"Master!P12","v":0}]
[{"$nulls":9},{"$f":"Master!P13","v":0}]
[{"$nulls":9},{"$f":"Master!P14","v":0}]
[{"$nulls":9},{"$f":"Master!P15","v":0}]
[{"$nulls":9},{"$f":"Master!P16","v":0}]
[{"$nulls":9},{"$f":"Master!P19","v":0}]
[{"$nulls":9},{"$f":"Master!P20","v":0}]

{"sheet":"Result Sheet","index":3,"n_rows":116,"n_cols":163,"rows_kept":116,"merged":[[1,0,9,0],[1,1,1,9],[1,10,1,29],[1,30,1,49],[1,50,1,69],[1,70,1,89],[1,90,1,109],[1,110,1,129],[1,130,1,136],[1,137,1,143],[1,144,1,150],[1,151,1,153],[1,154,1,161],[1,162,5,162],[2,1,2,4],[2,5,2,9],[2,10,2,29],[2,30,2,49],[2,50,2,69],[2,70,2,89],[2,90,2,109],[2,110,2,129],[2,130,2,136],[2,137,2,143],[2,144,2,150],[2,151,5,151],[2,152,5,152],[2,153,5,153],[2,154,5,154],[2,155,5,155],[2,156,5,156],[2,157,5,157],[2,158,5,158],[2,159,5,159],[2,161,5,161],[3,1,3,3],[3,7,3,9],[3,10,3,12],[3,13,3,15],[3,16,3,18],[3,19,4,19],[3,20,3,22],[3,23,3,25],[3,26,4,26],[3,27,5,27],[3,28,5,28],[3,30,3,32],[3,33,3,35],[3,36,3,38],[3,39,4,39],[3,40,3,42],[3,43,3,45],[3,46,4,46],[3,47,5,47],[3,48,5,48],[3,50,3,52],[3,53,3,55],[3,56,3,58],[3,59,4,59],[3,60,3,62],[3,63,3,65],[3,66,4,66],[3,67,5,67],[3,68,5,68],[3,70,3,72],[3,73,3,75],[3,76,3,78],[3,79,4,79],[3,80,3,82],[3,83,3,85],[3,86,4,86],[3,87,5,87],[3,88,5,88],[3,90,3,92],[3,93,3,95],[3,96,3,98],[3,99,4,99],[3,100,3,102],[3,103,3,105],[3,106,4,106],[3,107,5,107],[3,108,5,108],[3,110,3,112],[3,113,3,115],[3,116,3,118],[3,119,4,119],[3,120,3,122],[3,123,3,125],[3,126,4,126],[3,127,5,127],[3,128,5,128],[3,130,4,130],[3,131,4,131],[3,132,4,132],[3,133,4,133],[3,134,4,134],[3,135,4,135],[3,137,4,137],[3,138,4,138],[3,139,4,139],[3,140,4,140],[3,141,4,141],[3,142,4,142],[3,144,4,144],[3,145,4,145],[3,146,4,146],[3,147,4,147],[3,148,4,148],[3,149,4,149],[4,1,5,1],[4,2,5,2],[4,3,5,3],[4,4,5,4],[4,5,5,5],[4,6,5,6],[4,7,5,7],[4,8,5,8],[4,9,5,9],[4,29,5,29],[4,49,5,49],[4,69,5,69],[4,89,5,89],[4,109,5,109],[4,129,5,129],[4,136,5,136],[4,143,5,143],[4,150,5,150],[10,0,112,0],[106,1,106,9],[106,10,106,29],[106,30,106,49],[106,50,106,69],[106,70,106,89],[106,90,106,109],[106,110,106,129],[106,130,106,136],[106,137,106,143],[106,144,106,150],[106,151,106,161],[107,1,107,9],[107,10,107,29],[107,30,107,49],[107,50,107,69],[107,70,107,89],[107,90,107,109],[107,110,107,129],[107,130,107,136],[107,137,107,143],[107,144,107,150],[107,151,107,152],[108,1,111,9],[108,10,110,13],[108,14,110,15],[108,16,110,17],[108,18,110,19],[108,20,110,21],[108,22,110,23],[108,24,110,25],[108,26,110,29],[108,30,110,33],[108,34,110,35],[108,36,110,37],[108,38,110,39],[108,40,110,41],[108,42,110,43],[108,44,110,45],[108,46,110,49],[108,50,110,53],[108,54,110,55],[108,56,110,57],[108,58,110,59],[108,60,110,61],[108,62,110,63],[108,64,110,65],[108,66,110,69],[108,70,110,73],[108,74,110,75],[108,76,110,77],[108,78,110,79],[108,80,110,81],[108,82,110,83],[108,84,110,85],[108,86,110,89],[108,90,110,93],[108,94,110,95],[108,96,110,97],[108,98,110,99],[108,100,110,101],[108,102,110,103],[108,104,110,105],[108,106,110,109],[108,110,110,113],[108,114,110,115],[108,116,110,117],[108,118,110,119],[108,120,110,121],[108,122,110,123],[108,124,110,125],[108,126,110,129],[108,130,110,130],[108,131,110,131],[108,132,110,132],[108,133,110,133],[108,134,110,134],[108,135,110,136],[108,137,110,137],[108,138,110,138],[108,139,110,139],[108,140,110,140],[108,141,110,141],[108,142,110,143],[108,144,110,144],[108,145,110,145],[108,146,110,146],[108,147,110,147],[108,148,110,148],[108,149,110,150],[108,151,110,152],[108,153,110,153],[108,154,110,154],[108,159,110,159],[108,161,110,161],[111,10,111,13],[111,14,111,15],[111,16,111,17],[111,18,111,19],[111,20,111,21],[111,22,111,23],[111,24,111,25],[111,26,111,29],[111,30,111,33],[111,34,111,35],[111,36,111,37],[111,38,111,39],[111,40,111,41],[111,42,111,43],[111,44,111,45],[111,46,111,49],[111,50,111,53],[111,54,111,55],[111,56,111,57],[111,58,111,59],[111,60,111,61],[111,62,111,63],[111,64,111,65],[111,66,111,69],[111,70,111,73],[111,74,111,75],[111,76,111,77],[111,78,111,79],[111,80,111,81],[111,82,111,83],[111,84,111,85],[111,86,111,89],[111,90,111,93],[111,94,111,95],[111,96,111,97],[111,98,111,99],[111,100,111,101],[111,102,111,103],[111,104,111,105],[111,106,111,109],[111,110,111,113],[111,114,111,115],[111,116,111,117],[111,118,111,119],[111,120,111,121],[111,122,111,123],[111,124,111,125],[111,126,111,129],[111,135,111,136],[111,142,111,143],[111,149,111,150],[111,151,111,154],[111,155,111,161],[112,1,112,9],[112,10,112,29],[112,30,112,49],[112,50,112,69],[112,70,112,89],[112,90,112,109],[112,110,112,129],[112,130,112,136],[112,137,112,143],[112,144,112,150],[112,151,112,154],[112,155,112,161]]}
[]
[null,"Result Sheet",{"$nulls":8},{"$f":"'Marks Entry'!L3","v":"HINDI"},{"$nulls":19},{"$f":"'Marks Entry'!AF3","v":"ENGLISH"},{"$nulls":19},{"$f":"'Marks Entry'!AZ3","v":"SANSKRIT"},{"$nulls":19},{"$f":"'Marks Entry'!BT3","v":"SCIENCE"},{"$nulls":19},{"$f":"'Marks Entry'!CN3","v":"MATHEMATICS"},{"$nulls":19},{"$f":"'Marks Entry'!DH3","v":"SOCIAL SCIENCE"},{"$nulls":19},{"$f":"'Marks Entry'!EB3","v":"Work Exp."},{"$nulls":6},{"$f":"'Marks Entry'!EK3","v":"Art Edu."},{"$nulls":6},{"$f":"'Marks Entry'!ET3","v":"HEALTH & PHY. EDU."},{"$nulls":6},"Attendance",null,null,"Statics",{"$nulls":7},"Remark"]
[null,"School' Name:-",{"$nulls":3},{"$f":"CONCATENATE(Master!E8,Master!E11)","v":"Govt. Sr. Secondary School P.S.-Bapini (Jodhpur)"},{"$nulls":4},{"$f":"'Marks Entry'!L4","v":0},{"$nulls":19},{"$f":"'Marks Entry'!AF4","v":0},{"$nulls":19},{"$f":"'Marks Entry'!AZ4","v":0},{"$nulls":19},{"$f":"'Marks Entry'!BT4","v":0},{"$nulls":19},{"$f":"'Marks Entry'!CN4","v":0},{"$nulls":19},{"$f":"'Marks Entry'!DH4","v":0},{"$nulls":19},{"$f":"'Marks Entry'!EB4","v":0},{"$nulls":6},{"$f":"'Marks Entry'!EK4","v":0},{"$nulls":6},{"$f":"'Marks Entry'!ET4","v":0},{"$nulls":6},"Total Attendance","Student's Attendance","Attandance %","Total Maximum Marks","Obtained Marks","Percentage","Overall Div.","Overall Grade","Result",null,"Position in Class"]
[null,"Class:-",null,null,{"$f":"A7","v":0},{"$f":"CONCATENATE('Marks Entry'!G4,'Marks Entry'!J4)","v":"6(A)"},"Session:-",{"$f":"Master!E6","v":"2024-25"},null,null,{"$f":"'Marks Entry'!L5","v":"First Test"},null,null,{"$f":"'Marks Entry'!O5","v":"Second Test"},null,null,{"$f":"'Marks Entry'!R5","v":"No Bag Day Activity"},null,null,{"$f":"'Marks Entry'!U5","v":"Total Tests"},{"$f":"'Marks Entry'!V5","v":"Half Yearly"},null,null,{"$f":"'Marks Entry'!Y5","v":"Yearly Exam"},null,null,{"$f":"'Marks Entry'!AB5","v":"Total Marks"},{"$f":"'Marks Entry'!AC5:AC7","v":{"$error":"#VALUE!"}},{"$f":"'Marks Entry'!AD5","v":0},{"$f":"'Marks Entry'!AE5","v":"Grd"},{"$f":"'Marks Entry'!AF5","v":"First Test"},null,null,{"$f":"'Marks Entry'!AI5","v":"Second Test"},null,null,{"$f":"'Marks Entry'!AL5","v":"No Bag Day Activity"},null,null,{"$f":"'Marks Entry'!AO5","v":"Total Tests"},{"$f":"'Marks Entry'!AP5","v":"Half Yearly"},null,null,{"$f":"'Marks Entry'!AS5","v":"Yearly Exam"},null,null,{"$f":"'Marks Entry'!AV5","v":"Total Marks"},{"$f":"'Marks Entry'!AW5:AW7","v":{"$error":"#VALUE!"}},{"$f":"'Marks Entry'!AX5","v":0},{"$f":"'Marks Entry'!AY5","v":"Grd"},{"$f":"'Marks Entry'!AZ5","v":"First Test"},null,null,{"$f":"'Marks Entry'!BC5","v":"Second Test"},null,null,{"$f":"'Marks Entry'!BF5","v":"No Bag Day Activity"},null,null,{"$f":"'Marks Entry'!BI5","v":"Total Tests"},{"$f":"'Marks Entry'!BJ5","v":"Half Yearly"},null,null,{"$f":"'Marks Entry'!BM5","v":"Yearly Exam"},null,null,{"$f":"'Marks Entry'!BP5","v":"Total Marks"},{"$f":"'Marks Entry'!BQ5:BQ7","v":{"$error":"#VALUE!"}},{"$f":"'Marks Entry'!BR5","v":0},{"$f":"'Marks Entry'!BS5","v":"Grd"},{"$f":"'Marks Entry'!BT5","v":"First Test"},null,null,{"$f":"'Marks Entry'!BW5","v":"Second Test"},null,null,{"$f":"'Marks Entry'!BZ5","v":"No Bag Day Activity"},null,null,{"$f":"'Marks Entry'!CC5","v":"Total Tests"},{"$f":"'Marks Entry'!CD5","v":"Half Yearly"},null,null,{"$f":"'Marks Entry'!CG5","v":"Yearly Exam"},null,null,{"$f":"'Marks Entry'!CJ5","v":"Total Marks"},{"$f":"'Marks Entry'!CK5:CK7","v":{"$error":"#VALUE!"}},{"$f":"'Marks Entry'!CL5","v":0},{"$f":"'Marks Entry'!CM5","v":"Grd"},{"$f":"'Marks Entry'!CN5","v":"First Test"},null,null,{"$f":"'Marks Entry'!CQ5","v":"Second Test"},null,null,{"$f":"'Marks Entry'!CT5","v":"No Bag Day Activity"},null,null,{"$f":"'Marks Entry'!CW5","v":"Total Tests"},{"$f":"'Marks Entry'!CX5","v":"Half Yearly"},null,null,{"$f":"'Marks Entry'!DA5","v":"Yearly Exam"},null,null,{"$f":"'Marks Entry'!DD5","v":"Total Marks"},{"$f":"'Marks Entry'!DE5:DE7","v":{"$error":"#VALUE!"}},{"$f":"'Marks Entry'!DF5","v":0},{"$f":"'Marks Entry'!DG5","v":"Grd"},{"$f":"'Marks Entry'!DH5","v":"First Test"},null,null,{"$f":"'Marks Entry'!DK5","v":"Second Test"},null,null,{"$f":"'Marks Entry'!DN5","v":"No Bag Day Activity"},null,null,{"$f":"'Marks Entry'!DQ5","v":"Total Tests"},{"$f":"'Marks Entry'!DR5","v":"Half Yearly"},null,null,{"$f":"'Marks Entry'!DU5","v":"Yearly Exam"},null,null,{"$f":"'Marks Entry'!DX5","v":"Total Marks"},{"$f":"'Marks Entry'!DY5:DY7","v":{"$error":"#VALUE!"}},{"$f":"'Marks Entry'!DZ5","v":0},{"$f":"'Marks Entry'!EA5","v":"Grd"},{"$f":"'Marks Entry'!EB5","v":"FIRST EVO."},{"$f":"'Marks Entry'!EC5","v":"SECOND EVO."},{"$f":"'Marks Entry'!ED5","v":"THIRD EVO."},{"$f":"'Marks Entry'!EE5","v":"FOURTH EVO."},{"$f":"'Marks Entry'!EF5","v":"FIFTH EVO."},"Total","Grd.",{"$f":"'Marks Entry'!EK5","v":"FIRST EVO."},{"$f":"'Marks Entry'!EL5","v":"SECOND EVO."},{"$f":"'Marks Entry'!EM5","v":"THIRD EVO."},{"$f":"'Marks Entry'!EN5","v":"FOURTH EVO."},{"$f":"'Marks Entry'!EO5","v":"FIFTH EVO."},"Total","Grd.",{"$f":"'Marks Entry'!ET5","v":"FIRST EVO."},{"$f":"'Marks Entry'!EU5","v":"SECOND EVO."},{"$f":"'Marks Entry'!EV5","v":"THIRD EVO."},{"$f":"'Marks Entry'!EW5","v":"FOURTH EVO."},{"$f":"'Marks Entry'!EX5","v":"FIFTH EVO."},"Total","Grd."]
[null,"Sr. No.","Class","Scholar Number","School Adm. Date","Roll Number","Student's Name","Father's Name","Mother's Name","Date Of Birth",{"$f":"'Marks Entry'!L6","v":"Written"},{"$f":"'Marks Entry'!M6","v":"Act/Oral"},{"$f":"'Marks Entry'!N6","v":"Total"},{"$f":"'Marks Entry'!O6","v":"Written"},{"$f":"'Marks Entry'!P6","v":"Act/Oral"},{"$f":"'Marks Entry'!Q6","v":"Total"},{"$f":"'Marks Entry'!R6","v":"Activity"},{"$f":"'Marks Entry'!S6","v":0},{"$f":"'Marks Entry'!T6","v":"Total"},null,{"$f":"'Marks Entry'!V6","v":"Written"},{"$f":"'Marks Entry'!W6","v":"Act/Oral"},{"$f":"'Marks Entry'!X6","v":"Total H.Y."},{"$f":"'Marks Entry'!Y6","v":"Written"},{"$f":"'Marks Entry'!Z6","v":"Act/Oral"},{"$f":"'Marks Entry'!AA6","v":"Total Yearly"},{"$nulls":3},{"$f":"'Marks Entry'!AE6","v":"A+/A/B/C/D"},{"$f":"'Marks Entry'!AF6","v":"Written"},{"$f":"'Marks Entry'!AG6","v":"Act/Oral"},{"$f":"'Marks Entry'!AH6","v":"Total"},{"$f":"'Marks Entry'!AI6","v":"Written"},{"$f":"'Marks Entry'!AJ6","v":"Act/Oral"},{"$f":"'Marks Entry'!AK6","v":"Total"},{"$f":"'Marks Entry'!AL6","v":"Activity"},{"$f":"'Marks Entry'!AM6","v":0},{"$f":"'Marks Entry'!AN6","v":"Total"},null,{"$f":"'Marks Entry'!AP6","v":"Written"},{"$f":"'Marks Entry'!AQ6","v":"Act/Oral"},{"$f":"'Marks Entry'!AR6","v":"Total H.Y."},{"$f":"'Marks Entry'!AS6","v":"Written"},{"$f":"'Marks Entry'!AT6","v":"Act/Oral"},{"$f":"'Marks Entry'!AU6","v":"Total Yearly"},{"$nulls":3},{"$f":"'Marks Entry'!AY6","v":"A+/A/B/C/D"},{"$f":"'Marks Entry'!AZ6","v":"Written"},{"$f":"'Marks Entry'!BA6","v":"Act/Oral"},{"$f":"'Marks Entry'!BB6","v":"Total"},{"$f":"'Marks Entry'!BC6","v":"Written"},{"$f":"'Marks Entry'!BD6","v":"Act/Oral"},{"$f":"'Marks Entry'!BE6","v":"Total"},{"$f":"'Marks Entry'!BF6","v":"Activity"},{"$f":"'Marks Entry'!BG6","v":0},{"$f":"'Marks Entry'!BH6","v":"Total"},null,{"$f":"'Marks Entry'!BJ6","v":"Written"},{"$f":"'Marks Entry'!BK6","v":"Act/Oral"},{"$f":"'Marks Entry'!BL6","v":"Total H.Y."},{"$f":"'Marks Entry'!BM6","v":"Written"},{"$f":"'Marks Entry'!BN6","v":"Act/Oral"},{"$f":"'Marks Entry'!BO6","v":"Total Yearly"},{"$nulls":3},{"$f":"'Marks Entry'!BS6","v":"A+/A/B/C/D"},{"$f":"'Marks Entry'!BT6","v":"Written"},{"$f":"'Marks Entry'!BU6","v":"Act/Oral"},{"$f":"'Marks Entry'!BV6","v":"Total"},{"$f":"'Marks Entry'!BW6","v":"Written"},{"$f":"'Marks Entry'!BX6","v":"Act/Oral"},{"$f":"'Marks Entry'!BY6","v":"Total"},{"$f":"'Marks Entry'!BZ6","v":"Activity"},{"$f":"'Marks Entry'!CA6","v":0},{"$f":"'Marks Entry'!CB6","v":"Total"},null,{"$f":"'Marks Entry'!CD6","v":"Written"},{"$f":"'Marks Entry'!CE6","v":"Act/Oral"},{"$f":"'Marks Entry'!CF6","v":"Total H.Y."},{"$f":"'Marks Entry'!CG6","v":"Written"},{"$f":"'Marks Entry'!CH6","v":"Act/Oral"},{"$f":"'Marks Entry'!CI6","v":"Total Yearly"},{"$nulls":3},{"$f":"'Marks Entry'!CM6","v":"A+/A/B/C/D"},{"$f":"'Marks Entry'!CN6","v":"Written"},{"$f":"'Marks Entry'!CO6","v":"Act/Oral"},{"$f":"'Marks Entry'!CP6","v":"Total"},{"$f":"'Marks Entry'!CQ6","v":"Written"},{"$f":"'Marks Entry'!CR6","v":"Act/Oral"},{"$f":"'Marks Entry'!CS6","v":"Total"},{"$f":"'Marks Entry'!CT6","v":"Activity"},{"$f":"'Marks Entry'!CU6","v":0},{"$f":"'Marks Entry'!CV6","v":"Total"},null,{"$f":"'Marks Entry'!CX6","v":"Written"},{"$f":"'Marks Entry'!CY6","v":"Act/Oral"},{"$f":"'Marks Entry'!CZ6","v":"Total H.Y."},{"$f":"'Marks Entry'!DA6","v":"Written"},{"$f":"'Marks Entry'!DB6","v":"Act/Oral"},{"$f":"'Marks Entry'!DC6","v":"Total Yearly"},{"$nulls":3},{"$f":"'Marks Entry'!DG6","v":"A+/A/B/C/D"},{"$f":"'Marks Entry'!DH6","v":"Written"},{"$f":"'Marks Entry'!DI6","v":"Act/Oral"},{"$f":"'Marks Entry'!DJ6","v":"Total"},{"$f":"'Marks Entry'!DK6","v":"Written"},{"$f":"'Marks Entry'!DL6","v":"Act/Oral"},{"$f":"'Marks Entry'!DM6","v":"Total"},{"$f":"'Marks Entry'!DN6","v":"Activity"},{"$f":"'Marks Entry'!DO6","v":0},{"$f":"'Marks Entry'!DP6","v":"Total"},null,{"$f":"'Marks Entry'!DR6","v":"Written"},{"$f":"'Marks Entry'!DS6","v":"Act/Oral"},{"$f":"'Marks Entry'!DT6","v":"Total H.Y."},{"$f":"'Marks Entry'!DU6","v":"Written"},{"$f":"'Marks Entry'!DV6","v":"Act/Oral"},{"$f":"'Marks Entry'!DW6","v":"Total Yearly"},{"$nulls":3},{"$f":"'Marks Entry'!EA6","v":"A+/A/B/C/D"},{"$nulls":6},{"$f":"'Marks Entry'!EJ6","v":"A/B/C/D/E"},{"$nulls":6},{"$f":"'Marks Entry'!EJ6","v":"A/B/C/D/E"},{"$nulls":6},{"$f":"'Marks Entry'!EJ6","v":"A/B/C/D/E"}]
[{"$nulls":10},{"$f":"'Marks Entry'!L7","v":5},{"$f":"'Marks Entry'!M7","v":5},{"$f":"'Marks Entry'!N7","v":10},{"$f":"'Marks Entry'!O7","v":5},{"$f":"'Marks Entry'!P7","v":5},{"$f":"'Marks Entry'!Q7","v":10},{"$f":"'Marks Entry'!R7","v":10},{"$f":"'Marks Entry'!S7","v":0},{"$f":"'Marks Entry'!T7","v":10},{"$f":"'Marks Entry'!U7","v":30},{"$f":"'Marks Entry'!V7","v":50},{"$f":"'Marks Entry'!W7","v":20},{"$f":"'Marks Entry'!X7","v":70},{"$f":"'Marks Entry'!Y7","v":70},{"$f":"'Marks Entry'!Z7","v":30},{"$f":"'Marks Entry'!AA7","v":100},{"$f":"'Marks Entry'!AB7","v":200},{"$nulls":3},{"$f":"'Marks Entry'!AF7","v":5},{"$f":"'Marks Entry'!AG7","v":5},{"$f":"'Marks Entry'!AH7","v":10},{"$f":"'Marks Entry'!AI7","v":5},{"$f":"'Marks Entry'!AJ7","v":5},{"$f":"'Marks Entry'!AK7","v":10},{"$f":"'Marks Entry'!AL7","v":10},{"$f":"'Marks Entry'!AM7","v":0},{"$f":"'Marks Entry'!AN7","v":10},{"$f":"'Marks Entry'!AO7","v":30},{"$f":"'Marks Entry'!AP7","v":50},{"$f":"'Marks Entry'!AQ7","v":20},{"$f":"'Marks Entry'!AR7","v":70},{"$f":"'Marks Entry'!AS7","v":70},{"$f":"'Marks Entry'!AT7","v":30},{"$f":"'Marks Entry'!AU7","v":100},{"$f":"'Marks Entry'!AV7","v":200},{"$nulls":3},{"$f":"'Marks Entry'!AZ7","v":5},{"$f":"'Marks Entry'!BA7","v":5},{"$f":"'Marks Entry'!BB7","v":10},{"$f":"'Marks Entry'!BC7","v":5},{"$f":"'Marks Entry'!BD7","v":5},{"$f":"'Marks Entry'!BE7","v":10},{"$f":"'Marks Entry'!BF7","v":10},{"$f":"'Marks Entry'!BG7","v":0},{"$f":"'Marks Entry'!BH7","v":10},{"$f":"'Marks Entry'!BI7","v":30},{"$f":"'Marks Entry'!BJ7","v":50},{"$f":"'Marks Entry'!BK7","v":20},{"$f":"'Marks Entry'!BL7","v":70},{"$f":"'Marks Entry'!BM7","v":70},{"$f":"'Marks Entry'!BN7","v":30},{"$f":"'Marks Entry'!BO7","v":100},{"$f":"'Marks Entry'!BP7","v":200},{"$nulls":3},{"$f":"'Marks Entry'!BT7","v":5},{"$f":"'Marks Entry'!BU7","v":5},{"$f":"'Marks Entry'!BV7","v":10},{"$f":"'Marks Entry'!BW7","v":5},{"$f":"'Marks Entry'!BX7","v":5},{"$f":"'Marks Entry'!BY7","v":10},{"$f":"'Marks Entry'!BZ7","v":10},{"$f":"'Marks Entry'!CA7","v":0},{"$f":"'Marks Entry'!CB7","v":10},{"$f":"'Marks Entry'!CC7","v":30},{"$f":"'Marks Entry'!CD7","v":50},{"$f":"'Marks Entry'!CE7","v":20},{"$f":"'Marks Entry'!CF7","v":70},{"$f":"'Marks Entry'!CG7","v":70},{"$f":"'Marks Entry'!CH7","v":30},{"$f":"'Marks Entry'!CI7","v":100},{"$f":"'Marks Entry'!CJ7","v":200},{"$nulls":3},{"$f":"'Marks Entry'!CN7","v":5},{"$f":"'Marks Entry'!CO7","v":5},{"$f":"'Marks Entry'!CP7","v":10},{"$f":"'Marks Entry'!CQ7","v":5},{"$f":"'Marks Entry'!CR7","v":5},{"$f":"'Marks Entry'!CS7","v":10},{"$f":"'Marks Entry'!CT7","v":10},{"$f":"'Marks Entry'!CU7","v":0},{"$f":"'Marks Entry'!CV7","v":10},{"$f":"'Marks Entry'!CW7","v":30},{"$f":"'Marks Entry'!CX7","v":50},{"$f":"'Marks Entry'!CY7","v":20},{"$f":"'Marks Entry'!CZ7","v":70},{"$f":"'Marks Entry'!DA7","v":70},{"$f":"'Marks Entry'!DB7","v":30},{"$f":"'Marks Entry'!DC7","v":100},{"$f":"'Marks Entry'!DD7","v":200},{"$nulls":3},{"$f":"'Marks Entry'!DH7","v":5},{"$f":"'Marks Entry'!DI7","v":5},{"$f":"'Marks Entry'!DJ7","v":10},{"$f":"'Marks Entry'!DK7","v":5},{"$f":"'Marks Entry'!DL7","v":5},{"$f":"'Marks Entry'!DM7","v":10},{"$f":"'Marks Entry'!DN7","v":10},{"$f":"'Marks Entry'!DO7","v":0},{"$f":"'Marks Entry'!DP7","v":10},{"$f":"'Marks Entry'!DQ7","v":30},{"$f":"'Marks Entry'!DR7","v":50},{"$f":"'Marks Entry'!DS7","v":20},{"$f":"'Marks Entry'!DT7","v":70},{"$f":"'Marks Entry'!DU7","v":70},{"$f":"'Marks Entry'!DV7","v":30},{"$f":"'Marks Entry'!DW7","v":100},{"$f":"'Marks Entry'!DX7","v":200},{"$nulls":3},{"$f":"'Marks Entry'!EB7","v":20},{"$f":"'Marks Entry'!EC7","v":20},{"$f":"'Marks Entry'!ED7","v":20},{"$f":"'Marks Entry'!EE7","v":20},{"$f":"'Marks Entry'!EF7","v":20},{"$f":"'Marks Entry'!EG7","v":100},null,{"$f":"'Marks Entry'!EJ7","v":0},{"$f":"'Marks Entry'!EK7","v":20},{"$f":"'Marks Entry'!EL7","v":20},{"$f":"'Marks Entry'!EM7","v":20},{"$f":"'Marks Entry'!EN7","v":20},{"$f":"'Marks Entry'!EP7","v":100},null,{"$f":"'Marks Entry'!ET7","v":20},{"$f":"'Marks Entry'!EU7","v":20},{"$f":"'Marks Entry'!EV7","v":20},{"$f":"'Marks Entry'!EW7","v":20},{"$f":"'Marks Entry'!EX7","v":20},{"$f":"'Marks Entry'!EY7","v":100}]
[null,{"$f":"IF(F7>0,1,0)","v":1},{"$f":"'Marks Entry'!D9","v":6},{"$f":"'Marks Entry'!E9","v":793},{"$f":"'Marks Entry'!F9","v":0},{"$f":"'Marks Entry'!G9","v":901},{"$f":"'Marks Entry'!H9","v":"ABHISHEK"},{"$f":"'Marks Entry'!I9","v":"RAMU KHAN"},{"$f":"'Marks Entry'!J9","v":"SEEPA DEVI"},{"$f":"'Marks Entry'!K9","v":"2005-07-22"},{"$f":"'Marks Entry'!L9","v":"ml"},{"$f":"'Marks Entry'!M9","v":1},{"$f":"'Marks Entry'!N9","v":"ML"},{"$f":"'Marks Entry'!O9","v":5},{"$f":"'Marks Entry'!P9","v":2},{"$f":"'Marks Entry'!Q9","v":7},{"$f":"'Marks Entry'!R9","v":2},{"$f":"'Marks Entry'!S9","v":0},{"$f":"'Marks Entry'!T9","v":2},{"$f":"'Marks Entry'!U9","v":9},{"$f":"'Marks Entry'!V9","v":30},{"$f":"'Marks Entry'!W9","v":5},{"$f":"'Marks Entry'!X9","v":35},{"$f":"'Marks Entry'!Y9","v":40},{"$f":"'Marks Entry'!Z9","v":15},{"$f":"'Marks Entry'!AA9","v":55},{"$f":"'Marks Entry'!AB9","v":99},{"$f":"'Marks Entry'!AC9","v":{"v":49.5,"d":"49.50"}},{"$f":"'Marks Entry'!AD9","v":"D"},{"$f":"'Marks Entry'!AE9","v":"D"},{"$f":"'Marks Entry'!AF9","v":2},{"$f":"'Marks Entry'!AG9","v":2},{"$f":"'Marks Entry'!AH9","v":4},{"$f":"'Marks Entry'!AI9","v":2},{"$f":"'Marks Entry'!AJ9","v":2},{"$f":"'Marks Entry'!AK9","v":4},{"$f":"'Marks Entry'!AL9","v":2},{"$f":"'Marks Entry'!AM9","v":0},{"$f":"'Marks Entry'!AN9","v":2},{"$f":"'Marks Entry'!AO9","v":10},{"$f":"'Marks Entry'!AP9","v":30},{"$f":"'Marks Entry'!AQ9","v":5},{"$f":"'Marks Entry'!AR9","v":35},{"$f":"'Marks Entry'!AS9","v":38},{"$f":"'Marks Entry'!AT9","v":15},{"$f":"'Marks Entry'!AU9","v":53},{"$f":"'Marks Entry'!AV9","v":98},{"$f":"'Marks Entry'!AW9","v":{"v":49,"d":"49.00"}},{"$f":"'Marks Entry'!AX9","v":"D"},{"$f":"'Marks Entry'!AY9","v":"D"},{"$f":"'Marks Entry'!AZ9","v":2},{"$f":"'Marks Entry'!BA9","v":2},{"$f":"'Marks Entry'!BB9","v":4},{"$f":"'Marks Entry'!BC9","v":2},{"$f":"'Marks Entry'!BD9","v":2},{"$f":"'Marks Entry'!BE9","v":4},{"$f":"'Marks Entry'!BF9","v":2},{"$f":"'Marks Entry'!BG9","v":0},{"$f":"'Marks Entry'!BH9","v":2},{"$f":"'Marks Entry'!BI9","v":10},{"$f":"'Marks Entry'!BJ9","v":30},{"$f":"'Marks Entry'!BK9","v":5},{"$f":"'Marks Entry'!BL9","v":35},{"$f":"'Marks Entry'!BM9","v":38},{"$f":"'Marks Entry'!BN9","v":15},{"$f":"'Marks Entry'!BO9","v":53},{"$f":"'Marks Entry'!BP9","v":98},{"$f":"'Marks Entry'!BQ9","v":{"v":49,"d":"49.00"}},{"$f":"'Marks Entry'!BR9","v":"D"},{"$f":"'Marks Entry'!BS9","v":"D"},{"$f":"'Marks Entry'!BT9","v":2},{"$f":"'Marks Entry'!BU9","v":5},{"$f":"'Marks Entry'!BV9","v":7},{"$f":"'Marks Entry'!BW9","v":2},{"$f":"'Marks Entry'!BX9","v":2},{"$f":"'Marks Entry'!BY9","v":4},{"$f":"'Marks Entry'!BZ9","v":2},{"$f":"'Marks Entry'!CA9","v":0},{"$f":"'Marks Entry'!CB9","v":2},{"$f":"'Marks Entry'!CC9","v":13},{"$f":"'Marks Entry'!CD9","v":30},{"$f":"'Marks Entry'!CE9","v":5},{"$f":"'Marks Entry'!CF9","v":35},{"$f":"'Marks Entry'!CG9","v":38},{"$f":"'Marks Entry'!CH9","v":15},{"$f":"'Marks Entry'!CI9","v":53},{"$f":"'Marks Entry'!CJ9","v":101},{"$f":"'Marks Entry'!CK9","v":{"v":50.5,"d":"50.50"}},{"$f":"'Marks Entry'!CL9","v":"D"},{"$f":"'Marks Entry'!CM9","v":"D"},{"$f":"'Marks Entry'!CN9","v":2},{"$f":"'Marks Entry'!CO9","v":3},{"$f":"'Marks Entry'!CP9","v":5},{"$f":"'Marks Entry'!CQ9","v":2},{"$f":"'Marks Entry'!CR9","v":2},{"$f":"'Marks Entry'!CS9","v":4},{"$f":"'Marks Entry'!CT9","v":2},{"$f":"'Marks Entry'!CU9","v":0},{"$f":"'Marks Entry'!CV9","v":2},{"$f":"'Marks Entry'!CW9","v":11},{"$f":"'Marks Entry'!CX9","v":30},{"$f":"'Marks Entry'!CY9","v":5},{"$f":"'Marks Entry'!CZ9","v":35},{"$f":"'Marks Entry'!DA9","v":38},{"$f":"'Marks Entry'!DB9","v":15},{"$f":"'Marks Entry'!DC9","v":53},{"$f":"'Marks Entry'!DD9","v":99},{"$f":"'Marks Entry'!DE9","v":{"v":49.5,"d":"49.50"}},{"$f":"'Marks Entry'!DF9","v":"D"},{"$f":"'Marks Entry'!DG9","v":"D"},{"$f":"'Marks Entry'!DH9","v":2},{"$f":"'Marks Entry'!DI9","v":2},{"$f":"'Marks Entry'!DJ9","v":4},{"$f":"'Marks Entry'!DK9","v":2},{"$f":"'Marks Entry'!DL9","v":2},{"$f":"'Marks Entry'!DM9","v":4},{"$f":"'Marks Entry'!DN9","v":2},{"$f":"'Marks Entry'!DO9","v":0},{"$f":"'Marks Entry'!DP9","v":2},{"$f":"'Marks Entry'!DQ9","v":10},{"$f":"'Marks Entry'!DR9","v":25},{"$f":"'Marks Entry'!DS9","v":0},{"$f":"'Marks Entry'!DT9","v":25},{"$f":"'Marks Entry'!DU9","v":38},{"$f":"'Marks Entry'!DV9","v":15},{"$f":"'Marks Entry'!DW9","v":53},{"$f":"'Marks Entry'!DX9","v":88},{"$f":"'Marks Entry'!DY9","v":{"v":44,"d":"44.00"}},{"$f":"'Marks Entry'!DZ9","v":"D"},{"$f":"'Marks Entry'!EA9","v":"D"},{"$f":"'Marks Entry'!EB9","v":15},{"$f":"'Marks Entry'!EC9","v":15},{"$f":"'Marks Entry'!ED9","v":11},{"$f":"'Marks Entry'!EE9","v":20},{"$f":"'Marks Entry'!EF9","v":10},{"$f":"'Marks Entry'!EG9","v":71},{"$f":"'Marks Entry'!EJ9","v":"B"},{"$f":"'Marks Entry'!EK9","v":15},{"$f":"'Marks Entry'!EL9","v":15},{"$f":"'Marks Entry'!EM9","v":11},{"$f":"'Marks Entry'!EN9","v":10},{"$f":"'Marks Entry'!EO9","v":10},{"$f":"'Marks Entry'!EP9","v":61},{"$f":"'Marks Entry'!ES9","v":"C"},{"$f":"'Marks Entry'!ET9","v":15},{"$f":"'Marks Entry'!EU9","v":15},{"$f":"'Marks Entry'!EV9","v":11},{"$f":"'Marks Entry'!EW9","v":10},{"$f":"'Marks Entry'!EX9","v":10},{"$f":"'Marks Entry'!EY9","v":61},{"$f":"'Marks Entry'!FB9","v":"C"},{"$f":"'Marks Entry'!FC9","v":362},{"$f":"'Marks Entry'!FD9","v":274},{"$f":"'Marks Entry'!FE9","v":{"v":75.69060773480662,"d":"75.69"}},{"$f":"'Marks Entry'!FF9","v":1200},{"$f":"'Marks Entry'!FG9","v":583},{"$f":"'Marks Entry'!FH9","v":{"v":48.583333333333336,"d":"48.58"}},{"$f":"IF(OR('Marks Entry'!FI9=\"First\",'Marks Entry'!FI9=\"Second\",'Marks Entry'!FI9=\"Third\"),'Marks Entry'!FI9,\"\")","v":"Second"},{"$f":"'Marks Entry'!FJ9","v":"D"},{"$f":"'Marks Entry'!FK9","v":"PASSED"},{"$f":"'Marks Entry'!FL9","v":48.583333333333336},{"$f":"'Marks Entry'!FM9","v":2.999999999999999},{"$f":"'Marks Entry'!FO9","v":"D"}]
[null,{"$f":"IF(F8>0,B7+1,0)","v":2},{"$f":"'Marks Entry'!D10","v":6},{"$f":"'Marks Entry'!E10","v":1490},{"$f":"'Marks Entry'!F10","v":0},{"$f":"'Marks Entry'!G10","v":902},{"$f":"'Marks Entry'!H10","v":"ACHALA RAM"},{"$f":"'Marks Entry'!I10","v":"HEMA RAM"},{"$f":"'Marks Entry'!J10","v":"TULACHHI DEVI"},{"$f":"'Marks Entry'!K10","v":"2005-07-02"},{"$f":"'Marks Entry'!L10","v":2},{"$f":"'Marks Entry'!M10","v":2},{"$f":"'Marks Entry'!N10","v":4},{"$f":"'Marks Entry'!O10","v":3},{"$f":"'Marks Entry'!P10","v":4},{"$f":"'Marks Entry'!Q10","v":7},{"$f":"'Marks Entry'!R10","v":5},{"$f":"'Marks Entry'!S10","v":0},{"$f":"'Marks Entry'!T10","v":5},{"$f":"'Marks Entry'!U10","v":16},{"$f":"'Marks Entry'!V10","v":20},{"$f":"'Marks Entry'!W10","v":15},{"$f":"'Marks Entry'!X10","v":35},{"$f":"'Marks Entry'!Y10","v":40},{"$f":"'Marks Entry'!Z10","v":25},{"$f":"'Marks Entry'!AA10","v":65},{"$f":"'Marks Entry'!AB10","v":116},{"$f":"'Marks Entry'!AC10","v":57.99999999999999},{"$f":"'Marks Entry'!AD10","v":"C"},{"$f":"'Marks Entry'!AE10","v":"C"},{"$f":"'Marks Entry'!AF10","v":4},{"$f":"'Marks Entry'!AG10","v":5},{"$f":"'Marks Entry'!AH10","v":9},{"$f":"'Marks Entry'!AI10","v":4},{"$f":"'Marks Entry'!AJ10","v":5},{"$f":"'Marks Entry'!AK10","v":9},{"$f":"'Marks Entry'!AL10","v":2},{"$f":"'Marks Entry'!AM10","v":0},{"$f":"'Marks Entry'!AN10","v":2},{"$f":"'Marks Entry'!AO10","v":20},{"$f":"'Marks Entry'!AP10","v":35},{"$f":"'Marks Entry'!AQ10","v":18},{"$f":"'Marks Entry'!AR10","v":53},{"$f":"'Marks Entry'!AS10","v":45},{"$f":"'Marks Entry'!AT10","v":20},{"$f":"'Marks Entry'!AU10","v":65},{"$f":"'Marks Entry'!AV10","v":138},{"$f":"'Marks Entry'!AW10","v":69},{"$f":"'Marks Entry'!AX10","v":"C"},{"$f":"'Marks Entry'!AY10","v":"C"},{"$f":"'Marks Entry'!AZ10","v":2},{"$f":"'Marks Entry'!BA10","v":3},{"$f":"'Marks Entry'!BB10","v":5},{"$f":"'Marks Entry'!BC10","v":5},{"$f":"'Marks Entry'!BD10","v":3},{"$f":"'Marks Entry'!BE10","v":8},{"$f":"'Marks Entry'!BF10","v":2},{"$f":"'Marks Entry'!BG10","v":0},{"$f":"'Marks Entry'!BH10","v":2},{"$f":"'Marks Entry'!BI10","v":15},{"$f":"'Marks Entry'!BJ10","v":15},{"$f":"'Marks Entry'!BK10","v":20},{"$f":"'Marks Entry'!BL10","v":35},{"$f":"'Marks Entry'!BM10","v":45},{"$f":"'Marks Entry'!BN10","v":15},{"$f":"'Marks Entry'!BO10","v":60},{"$f":"'Marks Entry'!BP10","v":110},{"$f":"'Marks Entry'!BQ10","v":55.00000000000001},{"$f":"'Marks Entry'!BR10","v":"C"},{"$f":"'Marks Entry'!BS10","v":"C"},{"$f":"'Marks Entry'!BT10","v":1},{"$f":"'Marks Entry'!BU10","v":1},{"$f":"'Marks Entry'!BV10","v":2},{"$f":"'Marks Entry'!BW10","v":1},{"$f":"'Marks Entry'!BX10","v":1},{"$f":"'Marks Entry'!BY10","v":2},{"$f":"'Marks Entry'!BZ10","v":1},{"$f":"'Marks Entry'!CA10","v":0},{"$f":"'Marks Entry'!CB10","v":1},{"$f":"'Marks Entry'!CC10","v":5},{"$f":"'Marks Entry'!CD10","v":15},{"$f":"'Marks Entry'!CE10","v":15},{"$f":"'Marks Entry'!CF10","v":30},{"$f":"'Marks Entry'!CG10","v":35},{"$f":"'Marks Entry'!CH10","v":20},{"$f":"'Marks Entry'!CI10","v":55},{"$f":"'Marks Entry'!CJ10","v":90},{"$f":"'Marks Entry'!CK10","v":45},{"$f":"'Marks Entry'!CL10","v":"D"},{"$f":"'Marks Entry'!CM10","v":"D"},{"$f":"'Marks Entry'!CN10","v":1},{"$f":"'Marks Entry'!CO10","v":1},{"$f":"'Marks Entry'!CP10","v":2},{"$f":"'Marks Entry'!CQ10","v":2},{"$f":"'Marks Entry'!CR10","v":2},{"$f":"'Marks Entry'!CS10","v":4},{"$f":"'Marks Entry'!CT10","v":2},{"$f":"'Marks Entry'!CU10","v":0},{"$f":"'Marks Entry'!CV10","v":2},{"$f":"'Marks Entry'!CW10","v":8},{"$f":"'Marks Entry'!CX10","v":25},{"$f":"'Marks Entry'!CY10","v":20},{"$f":"'Marks Entry'!CZ10","v":45},{"$f":"'Marks Entry'!DA10","v":33},{"$f":"'Marks Entry'!DB10","v":17},{"$f":"'Marks Entry'!DC10","v":50},{"$f":"'Marks Entry'!DD10","v":103},{"$f":"'Marks Entry'!DE10","v":51.5},{"$f":"'Marks Entry'!DF10","v":"C"},{"$f":"'Marks Entry'!DG10","v":"C"},{"$f":"'Marks Entry'!DH10","v":3},{"$f":"'Marks Entry'!DI10","v":3},{"$f":"'Marks Entry'!DJ10","v":6},{"$f":"'Marks Entry'!DK10","v":3},{"$f":"'Marks Entry'!DL10","v":3},{"$f":"'Marks Entry'!DM10","v":6},{"$f":"'Marks Entry'!DN10","v":3},{"$f":"'Marks Entry'!DO10","v":0},{"$f":"'Marks Entry'!DP10","v":3},{"$f":"'Marks Entry'!DQ10","v":15},{"$f":"'Marks Entry'!DR10","v":25},{"$f":"'Marks Entry'!DS10","v":20},{"$f":"'Marks Entry'!DT10","v":45},{"$f":"'Marks Entry'!DU10","v":45},{"$f":"'Marks Entry'!DV10","v":20},{"$f":"'Marks Entry'!DW10","v":65},{"$f":"'Marks Entry'!DX10","v":125},{"$f":"'Marks Entry'!DY10","v":62.5},{"$f":"'Marks Entry'!DZ10","v":"C"},{"$f":"'Marks Entry'!EA10","v":"C"},{"$f":"'Marks Entry'!EB10","v":10},{"$f":"'Marks Entry'!EC10","v":10},{"$f":"'Marks Entry'!ED10","v":10},{"$f":"'Marks Entry'!EE10","v":10},{"$f":"'Marks Entry'!EF10","v":10},{"$f":"'Marks Entry'!EG10","v":50},{"$f":"'Marks Entry'!EJ10","v":"D"},{"$f":"'Marks Entry'!EK10","v":10},{"$f":"'Marks Entry'!EL10","v":15},{"$f":"'Marks Entry'!EM10","v":20},{"$f":"'Marks Entry'!EN10","v":20},{"$f":"'Marks Entry'!EO10","v":15},{"$f":"'Marks Entry'!EP10","v":80},{"$f":"'Marks Entry'!ES10","v":"B"},{"$f":"'Marks Entry'!ET10","v":15},{"$f":"'Marks Entry'!EU10","v":15},{"$f":"'Marks Entry'!EV10","v":15},{"$f":"'Marks Entry'!EW10","v":15},{"$f":"'Marks Entry'!EX10","v":15},{"$f":"'Marks Entry'!EY10","v":75},{"$f":"'Marks Entry'!FB10","v":"B"},{"$f":"'Marks Entry'!FC10","v":0},{"$f":"'Marks Entry'!FD10","v":0},{"$f":"'Marks Entry'!FE10","v":""},{"$f":"'Marks Entry'!FF10","v":1200},{"$f":"'Marks Entry'!FG10","v":682},{"$f":"'Marks Entry'!FH10","v":{"v":56.833333333333336,"d":"56.83"}},{"$f":"IF(OR('Marks Entry'!FI10=\"First\",'Marks Entry'!FI10=\"Second\",'Marks Entry'!FI10=\"Third\"),'Marks Entry'!FI10,\"\")","v":"Second"},{"$f":"'Marks Entry'!FJ10","v":"C"},{"$f":"'Marks Entry'!FK10","v":"PASSED"},{"$f":"'Marks Entry'!FL10","v":56.833333333333336},{"$f":"'Marks Entry'!FM10","v":1.9999999999999991},{"$f":"'Marks Entry'!FO10","v":"C"}]
[null,{"$f":"IF(F9>0,B8+1,0)","v":3},{"$f":"'Marks Entry'!D11","v":6},{"$f":"'Marks Entry'!E11","v":1458},{"$f":"'Marks Entry'!F11","v":0},{"$f":"'Marks Entry'!G11","v":903},{"$f":"'Marks Entry'!H11","v":"ANITA "},{"$f":"'Marks Entry'!I11","v":"DUDA RAM "},{"$f":"'Marks Entry'!J11","v":"SUKHI"},{"$f":"'Marks Entry'!K11","v":"2006-06-25"},{"$f":"'Marks Entry'!L11","v":5},{"$f":"'Marks Entry'!M11","v":2},{"$f":"'Marks Entry'!N11","v":7},{"$f":"'Marks Entry'!O11","v":5},{"$f":"'Marks Entry'!P11","v":2},{"$f":"'Marks Entry'!Q11","v":7},{"$f":"'Marks Entry'!R11","v":5},{"$f":"'Marks Entry'!S11","v":0},{"$f":"'Marks Entry'!T11","v":5},{"$f":"'Marks Entry'!U11","v":19},{"$f":"'Marks Entry'!V11","v":15},{"$f":"'Marks Entry'!W11","v":12},{"$f":"'Marks Entry'!X11","v":27},{"$f":"'Marks Entry'!Y11","v":15},{"$f":"'Marks Entry'!Z11","v":12},{"$f":"'Marks Entry'!AA11","v":27},{"$f":"'Marks Entry'!AB11","v":73},{"$f":"'Marks Entry'!AC11","v":36.5},{"$f":"'Marks Entry'!AD11","v":"D"},{"$f":"'Marks Entry'!AE11","v":"D"},{"$f":"'Marks Entry'!AF11","v":5},{"$f":"'Marks Entry'!AG11","v":2},{"$f":"'Marks Entry'!AH11","v":7},{"$f":"'Marks Entry'!AI11","v":5},{"$f":"'Marks Entry'!AJ11","v":2},{"$f":"'Marks Entry'!AK11","v":7},{"$f":"'Marks Entry'!AL11","v":5},{"$f":"'Marks Entry'!AM11","v":0},{"$f":"'Marks Entry'!AN11","v":5},{"$f":"'Marks Entry'!AO11","v":19},{"$f":"'Marks Entry'!AP11","v":30},{"$f":"'Marks Entry'!AQ11","v":5},{"$f":"'Marks Entry'!AR11","v":35},{"$f":"'Marks Entry'!AS11","v":30},{"$f":"'Marks Entry'!AT11","v":5},{"$f":"'Marks Entry'!AU11","v":35},{"$f":"'Marks Entry'!AV11","v":89},{"$f":"'Marks Entry'!AW11","v":44.5},{"$f":"'Marks Entry'!AX11","v":"D"},{"$f":"'Marks Entry'!AY11","v":"D"},{"$f":"'Marks Entry'!AZ11","v":5},{"$f":"'Marks Entry'!BA11","v":2},{"$f":"'Marks Entry'!BB11","v":7},{"$f":"'Marks Entry'!BC11","v":5},{"$f":"'Marks Entry'!BD11","v":2},{"$f":"'Marks Entry'!BE11","v":7},{"$f":"'Marks Entry'!BF11","v":5},{"$f":"'Marks Entry'!BG11","v":0},{"$f":"'Marks Entry'!BH11","v":5},{"$f":"'Marks Entry'!BI11","v":19},{"$f":"'Marks Entry'!BJ11","v":30},{"$f":"'Marks Entry'!BK11","v":5},{"$f":"'Marks Entry'!BL11","v":35},{"$f":"'Marks Entry'!BM11","v":30},{"$f":"'Marks Entry'!BN11","v":5},{"$f":"'Marks Entry'!BO11","v":35},{"$f":"'Marks Entry'!BP11","v":89},{"$f":"'Marks Entry'!BQ11","v":44.5},{"$f":"'Marks Entry'!BR11","v":"D"},{"$f":"'Marks Entry'!BS11","v":"D"},{"$f":"'Marks Entry'!BT11","v":5},{"$f":"'Marks Entry'!BU11","v":2},{"$f":"'Marks Entry'!BV11","v":7},{"$f":"'Marks Entry'!BW11","v":5},{"$f":"'Marks Entry'!BX11","v":2},{"$f":"'Marks Entry'!BY11","v":7},{"$f":"'Marks Entry'!BZ11","v":5},{"$f":"'Marks Entry'!CA11","v":0},{"$f":"'Marks Entry'!CB11","v":5},{"$f":"'Marks Entry'!CC11","v":19},{"$f":"'Marks Entry'!CD11","v":30},{"$f":"'Marks Entry'!CE11","v":5},{"$f":"'Marks Entry'!CF11","v":35},{"$f":"'Marks Entry'!CG11","v":30},{"$f":"'Marks Entry'!CH11","v":5},{"$f":"'Marks Entry'!CI11","v":35},{"$f":"'Marks Entry'!CJ11","v":89},{"$f":"'Marks Entry'!CK11","v":44.5},{"$f":"'Marks Entry'!CL11","v":"D"},{"$f":"'Marks Entry'!CM11","v":"D"},{"$f":"'Marks Entry'!CN11","v":5},{"$f":"'Marks Entry'!CO11","v":2},{"$f":"'Marks Entry'!CP11","v":7},{"$f":"'Marks Entry'!CQ11","v":5},{"$f":"'Marks Entry'!CR11","v":2},{"$f":"'Marks Entry'!CS11","v":7},{"$f":"'Marks Entry'!CT11","v":5},{"$f":"'Marks Entry'!CU11","v":0},{"$f":"'Marks Entry'!CV11","v":5},{"$f":"'Marks Entry'!CW11","v":19},{"$f":"'Marks Entry'!CX11","v":30},{"$f":"'Marks Entry'!CY11","v":5},{"$f":"'Marks Entry'!CZ11","v":35},{"$f":"'Marks Entry'!DA11","v":30},{"$f":"'Marks Entry'!DB11","v":5},{"$f":"'Marks Entry'!DC11","v":35},{"$f":"'Marks Entry'!DD11","v":89},{"$f":"'Marks Entry'!DE11","v":44.5},{"$f":"'Marks Entry'!DF11","v":"D"},{"$f":"'Marks Entry'!DG11","v":"D"},{"$f":"'Marks Entry'!DH11","v":5},{"$f":"'Marks Entry'!DI11","v":2},{"$f":"'Marks Entry'!DJ11","v":7},{"$f":"'Marks Entry'!DK11","v":5},{"$f":"'Marks Entry'!DL11","v":2},{"$f":"'Marks Entry'!DM11","v":7},{"$f":"'Marks Entry'!DN11","v":5},{"$f":"'Marks Entry'!DO11","v":0},{"$f":"'Marks Entry'!DP11","v":5},{"$f":"'Marks Entry'!DQ11","v":19},{"$f":"'Marks Entry'!DR11","v":30},{"$f":"'Marks Entry'!DS11","v":5},{"$f":"'Marks Entry'!DT11","v":35},{"$f":"'Marks Entry'!DU11","v":30},{"$f":"'Marks Entry'!DV11","v":5},{"$f":"'Marks Entry'!DW11","v":35},{"$f":"'Marks Entry'!DX11","v":89},{"$f":"'Marks Entry'!DY11","v":44.5},{"$f":"'Marks Entry'!DZ11","v":"D"},{"$f":"'Marks Entry'!EA11","v":"D"},{"$f":"'Marks Entry'!EB11","v":15},{"$f":"'Marks Entry'!EC11","v":15},{"$f":"'Marks Entry'!ED11","v":11},{"$f":"'Marks Entry'!EE11","v":20},{"$f":"'Marks Entry'!EF11","v":10},{"$f":"'Marks Entry'!EG11","v":71},{"$f":"'Marks Entry'!EJ11","v":"B"},{"$f":"'Marks Entry'!EK11","v":15},{"$f":"'Marks Entry'!EL11","v":15},{"$f":"'Marks Entry'!EM11","v":11},{"$f":"'Marks Entry'!EN11","v":20},{"$f":"'Marks Entry'!EO11","v":10},{"$f":"'Marks Entry'!EP11","v":71},{"$f":"'Marks Entry'!ES11","v":"B"},{"$f":"'Marks Entry'!ET11","v":15},{"$f":"'Marks Entry'!EU11","v":15},{"$f":"'Marks Entry'!EV11","v":11},{"$f":"'Marks Entry'!EW11","v":20},{"$f":"'Marks Entry'!EX11","v":10},{"$f":"'Marks Entry'!EY11","v":71},{"$f":"'Marks Entry'!FB11","v":"B"},{"$f":"'Marks Entry'!FC11","v":0},{"$f":"'Marks Entry'!FD11","v":0},{"$f":"'Marks Entry'!FE11","v":""},{"$f":"'Marks Entry'!FF11","v":1200},{"$f":"'Marks Entry'!FG11","v":518},{"$f":"'Marks Entry'!FH11","v":{"v":43.166666666666664,"d":"43.17"}},{"$f":"IF(OR('Marks Entry'!FI11=\"First\",'Marks Entry'!FI11=\"Second\",'Marks Entry'!FI11=\"Third\"),'Marks Entry'!FI11,\"\")","v":"Third"},{"$f":"'Marks Entry'!FJ11","v":"D"},{"$f":"'Marks Entry'!FK11","v":"PASSED"},{"$f":"'Marks Entry'!FL11","v":43.166666666666664},{"$f":"'Marks Entry'!FM11","v":5.999999999999999},{"$f":"'Marks Entry'!FO11","v":"D"}]
[null,4,{"$f":"'Marks Entry'!D12","v":6},{"$f":"'Marks Entry'!E12","v":1470},{"$f":"'Marks Entry'!F12","v":0},{"$f":"'Marks Entry'!G12","v":904},{"$f":"'Marks Entry'!H12","v":"ANOPI"},{"$f":"'Marks Entry'!I12","v":"HARI RAM"},{"$f":"'Marks Entry'!J12","v":"RUKI"},{"$f":"'Marks Entry'!K12","v":"2007-08-15"},{"$f":"'Marks Entry'!L12","v":3},{"$f":"'Marks Entry'!M12","v":4},{"$f":"'Marks Entry'!N12","v":7},{"$f":"'Marks Entry'!O12","v":3},{"$f":"'Marks Entry'!P12","v":4},{"$f":"'Marks Entry'!Q12","v":7},{"$f":"'Marks Entry'!R12","v":3},{"$f":"'Marks Entry'!S12","v":0},{"$f":"'Marks Entry'!T12","v":3},{"$f":"'Marks Entry'!U12","v":17},{"$f":"'Marks Entry'!V12","v":20},{"$f":"'Marks Entry'!W12","v":18},{"$f":"'Marks Entry'!X12","v":38},{"$f":"'Marks Entry'!Y12","v":20},{"$f":"'Marks Entry'!Z12","v":18},{"$f":"'Marks Entry'!AA12","v":38},{"$f":"'Marks Entry'!AB12","v":93},{"$f":"'Marks Entry'!AC12","v":46.5},{"$f":"'Marks Entry'!AD12","v":"D"},{"$f":"'Marks Entry'!AE12","v":"D"},{"$f":"'Marks Entry'!AF12","v":3},{"$f":"'Marks Entry'!AG12","v":4},{"$f":"'Marks Entry'!AH12","v":7},{"$f":"'Marks Entry'!AI12","v":3},{"$f":"'Marks Entry'!AJ12","v":4},{"$f":"'Marks Entry'!AK12","v":7},{"$f":"'Marks Entry'!AL12","v":3},{"$f":"'Marks Entry'!AM12","v":0},{"$f":"'Marks Entry'!AN12","v":3},{"$f":"'Marks Entry'!AO12","v":17},{"$f":"'Marks Entry'!AP12","v":20},{"$f":"'Marks Entry'!AQ12","v":15},{"$f":"'Marks Entry'!AR12","v":35},{"$f":"'Marks Entry'!AS12","v":20},{"$f":"'Marks Entry'!AT12","v":15},{"$f":"'Marks Entry'!AU12","v":35},{"$f":"'Marks Entry'!AV12","v":87},{"$f":"'Marks Entry'!AW12","v":43.5},{"$f":"'Marks Entry'!AX12","v":"D"},{"$f":"'Marks Entry'!AY12","v":"D"},{"$f":"'Marks Entry'!AZ12","v":3},{"$f":"'Marks Entry'!BA12","v":4},{"$f":"'Marks Entry'!BB12","v":7},{"$f":"'Marks Entry'!BC12","v":3},{"$f":"'Marks Entry'!BD12","v":4},{"$f":"'Marks Entry'!BE12","v":7},{"$f":"'Marks Entry'!BF12","v":3},{"$f":"'Marks Entry'!BG12","v":0},{"$f":"'Marks Entry'!BH12","v":3},{"$f":"'Marks Entry'!BI12","v":17},{"$f":"'Marks Entry'!BJ12","v":20},{"$f":"'Marks Entry'!BK12","v":15},{"$f":"'Marks Entry'!BL12","v":35},{"$f":"'Marks Entry'!BM12","v":20},{"$f":"'Marks Entry'!BN12","v":15},{"$f":"'Marks Entry'!BO12","v":35},{"$f":"'Marks Entry'!BP12","v":87},{"$f":"'Marks Entry'!BQ12","v":43.5},{"$f":"'Marks Entry'!BR12","v":"D"},{"$f":"'Marks Entry'!BS12","v":"D"},{"$f":"'Marks Entry'!BT12","v":3},{"$f":"'Marks Entry'!BU12","v":4},{"$f":"'Marks Entry'!BV12","v":7},{"$f":"'Marks Entry'!BW12","v":3},{"$f":"'Marks Entry'!BX12","v":4},{"$f":"'Marks Entry'!BY12","v":7},{"$f":"'Marks Entry'!BZ12","v":3},{"$f":"'Marks Entry'!CA12","v":0},{"$f":"'Marks Entry'!CB12","v":3},{"$f":"'Marks Entry'!CC12","v":17},{"$f":"'Marks Entry'!CD12","v":20},{"$f":"'Marks Entry'!CE12","v":15},{"$f":"'Marks Entry'!CF12","v":35},{"$f":"'Marks Entry'!CG12","v":20},{"$f":"'Marks Entry'!CH12","v":15},{"$f":"'Marks Entry'!CI12","v":35},{"$f":"'Marks Entry'!CJ12","v":87},{"$f":"'Marks Entry'!CK12","v":43.5},{"$f":"'Marks Entry'!CL12","v":"D"},{"$f":"'Marks Entry'!CM12","v":"D"},{"$f":"'Marks Entry'!CN12","v":3},{"$f":"'Marks Entry'!CO12","v":4},{"$f":"'Marks Entry'!CP12","v":7},{"$f":"'Marks Entry'!CQ12","v":3},{"$f":"'Marks Entry'!CR12","v":4},{"$f":"'Marks Entry'!CS12","v":7},{"$f":"'Marks Entry'!CT12","v":3},{"$f":"'Marks Entry'!CU12","v":0},{"$f":"'Marks Entry'!CV12","v":3},{"$f":"'Marks Entry'!CW12","v":17},{"$f":"'Marks Entry'!CX12","v":20},{"$f":"'Marks Entry'!CY12","v":15},{"$f":"'Marks Entry'!CZ12","v":35},{"$f":"'Marks Entry'!DA12","v":20},{"$f":"'Marks Entry'!DB12","v":15},{"$f":"'Marks Entry'!DC12","v":35},{"$f":"'Marks Entry'!DD12","v":87},{"$f":"'Marks Entry'!DE12","v":43.5},{"$f":"'Marks Entry'!DF12","v":"D"},{"$f":"'Marks Entry'!DG12","v":"D"},{"$f":"'Marks Entry'!DH12","v":3},{"$f":"'Marks Entry'!DI12","v":4},{"$f":"'Marks Entry'!DJ12","v":7},{"$f":"'Marks Entry'!DK12","v":3},{"$f":"'Marks Entry'!DL12","v":4},{"$f":"'Marks Entry'!DM12","v":7},{"$f":"'Marks Entry'!DN12","v":3},{"$f":"'Marks Entry'!DO12","v":0},{"$f":"'Marks Entry'!DP12","v":3},{"$f":"'Marks Entry'!DQ12","v":17},{"$f":"'Marks Entry'!DR12","v":20},{"$f":"'Marks Entry'!DS12","v":15},{"$f":"'Marks Entry'!DT12","v":35},{"$f":"'Marks Entry'!DU12","v":20},{"$f":"'Marks Entry'!DV12","v":15},{"$f":"'Marks Entry'!DW12","v":35},{"$f":"'Marks Entry'!DX12","v":87},{"$f":"'Marks Entry'!DY12","v":43.5},{"$f":"'Marks Entry'!DZ12","v":"D"},{"$f":"'Marks Entry'!EA12","v":"D"},{"$f":"'Marks Entry'!EB12","v":15},{"$f":"'Marks Entry'!EC12","v":15},{"$f":"'Marks Entry'!ED12","v":11},{"$f":"'Marks Entry'!EE12","v":20},{"$f":"'Marks Entry'!EF12","v":10},{"$f":"'Marks Entry'!EG12","v":71},{"$f":"'Marks Entry'!EJ12","v":"B"},{"$f":"'Marks Entry'!EK12","v":15},{"$f":"'Marks Entry'!EL12","v":15},{"$f":"'Marks Entry'!EM12","v":11},{"$f":"'Marks Entry'!EN12","v":20},{"$f":"'Marks Entry'!EO12","v":10},{"$f":"'Marks Entry'!EP12","v":71},{"$f":"'Marks Entry'!ES12","v":"B"},{"$f":"'Marks Entry'!ET12","v":15},{"$f":"'Marks Entry'!EU12","v":15},{"$f":"'Marks Entry'!EV12","v":11},{"$f":"'Marks Entry'!EW12","v":20},{"$f":"'Marks Entry'!EX12","v":10},{"$f":"'Marks Entry'!EY12","v":71},{"$f":"'Marks Entry'!FB12","v":"B"},{"$f":"'Marks Entry'!FC12","v":0},{"$f":"'Marks Entry'!FD12","v":0},{"$f":"'Marks Entry'!FE12","v":""},{"$f":"'Marks Entry'!FF12","v":1200},{"$f":"'Marks Entry'!FG12","v":528},{"$f":"'Marks Entry'!FH12","v":{"v":44,"d":"44.00"}},{"$f":"IF(OR('Marks Entry'!FI12=\"First\",'Marks Entry'!FI12=\"Second\",'Marks Entry'!FI12=\"Third\"),'Marks Entry'!FI12,\"\")","v":"Third"},{"$f":"'Marks Entry'!FJ12","v":"D"},{"$f":"'Marks Entry'!FK12","v":"PASSED"},{"$f":"'Marks Entry'!FL12","v":44},{"$f":"'Marks Entry'!FM12","v":4.999999999999999},{"$f":"'Marks Entry'!FO12","v":"D"}]
[null,5,{"$f":"'Marks Entry'!D13","v":6},{"$f":"'Marks Entry'!E13","v":968},{"$f":"'Marks Entry'!F13","v":0},{"$f":"'Marks Entry'!G13","v":905},{"$f":"'Marks Entry'!H13","v":"ANU JANDU"},{"$f":"'Marks Entry'!I13","v":"HEERA RAM JANDU"},{"$f":"'Marks Entry'!J13","v":"MANU DEVI"},{"$f":"'Marks Entry'!K13","v":"2006-08-17"},{"$f":"'Marks Entry'!L13","v":5},{"$f":"'Marks Entry'!M13","v":2},{"$f":"'Marks Entry'!N13","v":7},{"$f":"'Marks Entry'!O13","v":5},{"$f":"'Marks Entry'!P13","v":2},{"$f":"'Marks Entry'!Q13","v":7},{"$f":"'Marks Entry'!R13","v":5},{"$f":"'Marks Entry'!S13","v":0},{"$f":"'Marks Entry'!T13","v":5},{"$f":"'Marks Entry'!U13","v":19},{"$f":"'Marks Entry'!V13","v":15},{"$f":"'Marks Entry'!W13","v":12},{"$f":"'Marks Entry'!X13","v":27},{"$f":"'Marks Entry'!Y13","v":15},{"$f":"'Marks Entry'!Z13","v":12},{"$f":"'Marks Entry'!AA13","v":27},{"$f":"'Marks Entry'!AB13","v":73},{"$f":"'Marks Entry'!AC13","v":36.5},{"$f":"'Marks Entry'!AD13","v":"D"},{"$f":"'Marks Entry'!AE13","v":"D"},{"$f":"'Marks Entry'!AF13","v":5},{"$f":"'Marks Entry'!AG13","v":2},{"$f":"'Marks Entry'!AH13","v":7},{"$f":"'Marks Entry'!AI13","v":5},{"$f":"'Marks Entry'!AJ13","v":2},{"$f":"'Marks Entry'!AK13","v":7},{"$f":"'Marks Entry'!AL13","v":5},{"$f":"'Marks Entry'!AM13","v":0},{"$f":"'Marks Entry'!AN13","v":5},{"$f":"'Marks Entry'!AO13","v":19},{"$f":"'Marks Entry'!AP13","v":15},{"$f":"'Marks Entry'!AQ13","v":12},{"$f":"'Marks Entry'!AR13","v":27},{"$f":"'Marks Entry'!AS13","v":15},{"$f":"'Marks Entry'!AT13","v":12},{"$f":"'Marks Entry'!AU13","v":27},{"$f":"'Marks Entry'!AV13","v":73},{"$f":"'Marks Entry'!AW13","v":36.5},{"$f":"'Marks Entry'!AX13","v":"D"},{"$f":"'Marks Entry'!AY13","v":"D"},{"$f":"'Marks Entry'!AZ13","v":5},{"$f":"'Marks Entry'!BA13","v":2},{"$f":"'Marks Entry'!BB13","v":7},{"$f":"'Marks Entry'!BC13","v":5},{"$f":"'Marks Entry'!BD13","v":2},{"$f":"'Marks Entry'!BE13","v":7},{"$f":"'Marks Entry'!BF13","v":5},{"$f":"'Marks Entry'!BG13","v":0},{"$f":"'Marks Entry'!BH13","v":5},{"$f":"'Marks Entry'!BI13","v":19},{"$f":"'Marks Entry'!BJ13","v":15},{"$f":"'Marks Entry'!BK13","v":12},{"$f":"'Marks Entry'!BL13","v":27},{"$f":"'Marks Entry'!BM13","v":15},{"$f":"'Marks Entry'!BN13","v":12},{"$f":"'Marks Entry'!BO13","v":27},{"$f":"'Marks Entry'!BP13","v":73},{"$f":"'Marks Entry'!BQ13","v":36.5},{"$f":"'Marks Entry'!BR13","v":"D"},{"$f":"'Marks Entry'!BS13","v":"D"},{"$f":"'Marks Entry'!BT13","v":5},{"$f":"'Marks Entry'!BU13","v":2},{"$f":"'Marks Entry'!BV13","v":7},{"$f":"'Marks Entry'!BW13","v":5},{"$f":"'Marks Entry'!BX13","v":2},{"$f":"'Marks Entry'!BY13","v":7},{"$f":"'Marks Entry'!BZ13","v":5},{"$f":"'Marks Entry'!CA13","v":0},{"$f":"'Marks Entry'!CB13","v":5},{"$f":"'Marks Entry'!CC13","v":19},{"$f":"'Marks Entry'!CD13","v":15},{"$f":"'Marks Entry'!CE13","v":12},{"$f":"'Marks Entry'!CF13","v":27},{"$f":"'Marks Entry'!CG13","v":15},{"$f":"'Marks Entry'!CH13","v":12},{"$f":"'Marks Entry'!CI13","v":27},{"$f":"'Marks Entry'!CJ13","v":73},{"$f":"'Marks Entry'!CK13","v":36.5},{"$f":"'Marks Entry'!CL13","v":"D"},{"$f":"'Marks Entry'!CM13","v":"D"},{"$f":"'Marks Entry'!CN13","v":5},{"$f":"'Marks Entry'!CO13","v":2},{"$f":"'Marks Entry'!CP13","v":7},{"$f":"'Marks Entry'!CQ13","v":5},{"$f":"'Marks Entry'!CR13","v":2},{"$f":"'Marks Entry'!CS13","v":7},{"$f":"'Marks Entry'!CT13","v":5},{"$f":"'Marks Entry'!CU13","v":0},{"$f":"'Marks Entry'!CV13","v":5},{"$f":"'Marks Entry'!CW13","v":19},{"$f":"'Marks Entry'!CX13","v":15},{"$f":"'Marks Entry'!CY13","v":12},{"$f":"'Marks Entry'!CZ13","v":27},{"$f":"'Marks Entry'!DA13","v":15},{"$f":"'Marks Entry'!DB13","v":12},{"$f":"'Marks Entry'!DC13","v":27},{"$f":"'Marks Entry'!DD13","v":73},{"$f":"'Marks Entry'!DE13","v":36.5},{"$f":"'Marks Entry'!DF13","v":"D"},{"$f":"'Marks Entry'!DG13","v":"D"},{"$f":"'Marks Entry'!DH13","v":5},{"$f":"'Marks Entry'!DI13","v":2},{"$f":"'Marks Entry'!DJ13","v":7},{"$f":"'Marks Entry'!DK13","v":5},{"$f":"'Marks Entry'!DL13","v":2},{"$f":"'Marks Entry'!DM13","v":7},{"$f":"'Marks Entry'!DN13","v":5},{"$f":"'Marks Entry'!DO13","v":0},{"$f":"'Marks Entry'!DP13","v":5},{"$f":"'Marks Entry'!DQ13","v":19},{"$f":"'Marks Entry'!DR13","v":15},{"$f":"'Marks Entry'!DS13","v":12},{"$f":"'Marks Entry'!DT13","v":27},{"$f":"'Marks Entry'!DU13","v":15},{"$f":"'Marks Entry'!DV13","v":12},{"$f":"'Marks Entry'!DW13","v":27},{"$f":"'Marks Entry'!DX13","v":73},{"$f":"'Marks Entry'!DY13","v":36.5},{"$f":"'Marks Entry'!DZ13","v":"D"},{"$f":"'Marks Entry'!EA13","v":"D"},{"$f":"'Marks Entry'!EB13","v":15},{"$f":"'Marks Entry'!EC13","v":15},{"$f":"'Marks Entry'!ED13","v":11},{"$f":"'Marks Entry'!EE13","v":20},{"$f":"'Marks Entry'!EF13","v":10},{"$f":"'Marks Entry'!EG13","v":71},{"$f":"'Marks Entry'!EJ13","v":"B"},{"$f":"'Marks Entry'!EK13","v":15},{"$f":"'Marks Entry'!EL13","v":15},{"$f":"'Marks Entry'!EM13","v":11},{"$f":"'Marks Entry'!EN13","v":20},{"$f":"'Marks Entry'!EO13","v":10},{"$f":"'Marks Entry'!EP13","v":71},{"$f":"'Marks Entry'!ES13","v":"B"},{"$f":"'Marks Entry'!ET13","v":15},{"$f":"'Marks Entry'!EU13","v":15},{"$f":"'Marks Entry'!EV13","v":11},{"$f":"'Marks Entry'!EW13","v":20},{"$f":"'Marks Entry'!EX13","v":10},{"$f":"'Marks Entry'!EY13","v":71},{"$f":"'Marks Entry'!FB13","v":"B"},{"$f":"'Marks Entry'!FC13","v":0},{"$f":"'Marks Entry'!FD13","v":0},{"$f":"'Marks Entry'!FE13","v":""},{"$f":"'Marks Entry'!FF13","v":1200},{"$f":"'Marks Entry'!FG13","v":438},{"$f":"'Marks Entry'!FH13","v":{"v":36.5,"d":"36.50"}},{"$f":"IF(OR('Marks Entry'!FI13=\"First\",'Marks Entry'!FI13=\"Second\",'Marks Entry'!FI13=\"Third\"),'Marks Entry'!FI13,\"\")","v":"Third"},{"$f":"'Marks Entry'!FJ13","v":"D"},{"$f":"'Marks Entry'!FK13","v":"PASSED"},{"$f":"'Marks Entry'!FL13","v":36.5},{"$f":"'Marks Entry'!FM13","v":6.999999999999999},{"$f":"'Marks Entry'!FO13","v":"D"}]
[null,6,{"$f":"'Marks Entry'!D14","v":6},{"$f":"'Marks Entry'!E14","v":1404},{"$f":"'Marks Entry'!F14","v":0},{"$f":"'Marks Entry'!G14","v":906},{"$f":"'Marks Entry'!H14","v":"ASHOKA SUTHAR"},{"$f":"'Marks Entry'!I14","v":"SATYNARYAN"},{"$f":"'Marks Entry'!J14","v":"SANTU"},{"$f":"'Marks Entry'!K14","v":"2006-06-08"},{"$f":"'Marks Entry'!L14","v":3},{"$f":"'Marks Entry'!M14","v":4},{"$f":"'Marks Entry'!N14","v":7},{"$f":"'Marks Entry'!O14","v":3},{"$f":"'Marks Entry'!P14","v":4},{"$f":"'Marks Entry'!Q14","v":7},{"$f":"'Marks Entry'!R14","v":3},{"$f":"'Marks Entry'!S14","v":0},{"$f":"'Marks Entry'!T14","v":3},{"$f":"'Marks Entry'!U14","v":17},{"$f":"'Marks Entry'!V14","v":20},{"$f":"'Marks Entry'!W14","v":18},{"$f":"'Marks Entry'!X14","v":38},{"$f":"'Marks Entry'!Y14","v":20},{"$f":"'Marks Entry'!Z14","v":18},{"$f":"'Marks Entry'!AA14","v":38},{"$f":"'Marks Entry'!AB14","v":93},{"$f":"'Marks Entry'!AC14","v":46.5},{"$f":"'Marks Entry'!AD14","v":"D"},{"$f":"'Marks Entry'!AE14","v":"D"},{"$f":"'Marks Entry'!AF14","v":3},{"$f":"'Marks Entry'!AG14","v":4},{"$f":"'Marks Entry'!AH14","v":7},{"$f":"'Marks Entry'!AI14","v":3},{"$f":"'Marks Entry'!AJ14","v":4},{"$f":"'Marks Entry'!AK14","v":7},{"$f":"'Marks Entry'!AL14","v":3},{"$f":"'Marks Entry'!AM14","v":0},{"$f":"'Marks Entry'!AN14","v":3},{"$f":"'Marks Entry'!AO14","v":17},{"$f":"'Marks Entry'!AP14","v":20},{"$f":"'Marks Entry'!AQ14","v":18},{"$f":"'Marks Entry'!AR14","v":38},{"$f":"'Marks Entry'!AS14","v":20},{"$f":"'Marks Entry'!AT14","v":18},{"$f":"'Marks Entry'!AU14","v":38},{"$f":"'Marks Entry'!AV14","v":93},{"$f":"'Marks Entry'!AW14","v":46.5},{"$f":"'Marks Entry'!AX14","v":"D"},{"$f":"'Marks Entry'!AY14","v":"D"},{"$f":"'Marks Entry'!AZ14","v":3},{"$f":"'Marks Entry'!BA14","v":4},{"$f":"'Marks Entry'!BB14","v":7},{"$f":"'Marks Entry'!BC14","v":3},{"$f":"'Marks Entry'!BD14","v":4},{"$f":"'Marks Entry'!BE14","v":7},{"$f":"'Marks Entry'!BF14","v":3},{"$f":"'Marks Entry'!BG14","v":0},{"$f":"'Marks Entry'!BH14","v":3},{"$f":"'Marks Entry'!BI14","v":17},{"$f":"'Marks Entry'!BJ14","v":20},{"$f":"'Marks Entry'!BK14","v":18},{"$f":"'Marks Entry'!BL14","v":38},{"$f":"'Marks Entry'!BM14","v":20},{"$f":"'Marks Entry'!BN14","v":18},{"$f":"'Marks Entry'!BO14","v":38},{"$f":"'Marks Entry'!BP14","v":93},{"$f":"'Marks Entry'!BQ14","v":46.5},{"$f":"'Marks Entry'!BR14","v":"D"},{"$f":"'Marks Entry'!BS14","v":"D"},{"$f":"'Marks Entry'!BT14","v":3},{"$f":"'Marks Entry'!BU14","v":4},{"$f":"'Marks Entry'!BV14","v":7},{"$f":"'Marks Entry'!BW14","v":3},{"$f":"'Marks Entry'!BX14","v":4},{"$f":"'Marks Entry'!BY14","v":7},{"$f":"'Marks Entry'!BZ14","v":3},{"$f":"'Marks Entry'!CA14","v":0},{"$f":"'Marks Entry'!CB14","v":3},{"$f":"'Marks Entry'!CC14","v":17},{"$f":"'Marks Entry'!CD14","v":20},{"$f":"'Marks Entry'!CE14","v":18},{"$f":"'Marks Entry'!CF14","v":38},{"$f":"'Marks Entry'!CG14","v":20},{"$f":"'Marks Entry'!CH14","v":18},{"$f":"'Marks Entry'!CI14","v":38},{"$f":"'Marks Entry'!CJ14","v":93},{"$f":"'Marks Entry'!CK14","v":46.5},{"$f":"'Marks Entry'!CL14","v":"D"},{"$f":"'Marks Entry'!CM14","v":"D"},{"$f":"'Marks Entry'!CN14","v":3},{"$f":"'Marks Entry'!CO14","v":4},{"$f":"'Marks Entry'!CP14","v":7},{"$f":"'Marks Entry'!CQ14","v":3},{"$f":"'Marks Entry'!CR14","v":4},{"$f":"'Marks Entry'!CS14","v":7},{"$f":"'Marks Entry'!CT14","v":3},{"$f":"'Marks Entry'!CU14","v":0},{"$f":"'Marks Entry'!CV14","v":3},{"$f":"'Marks Entry'!CW14","v":17},{"$f":"'Marks Entry'!CX14","v":20},{"$f":"'Marks Entry'!CY14","v":18},{"$f":"'Marks Entry'!CZ14","v":38},{"$f":"'Marks Entry'!DA14","v":20},{"$f":"'Marks Entry'!DB14","v":18},{"$f":"'Marks Entry'!DC14","v":38},{"$f":"'Marks Entry'!DD14","v":93},{"$f":"'Marks Entry'!DE14","v":46.5},{"$f":"'Marks Entry'!DF14","v":"D"},{"$f":"'Marks Entry'!DG14","v":"D"},{"$f":"'Marks Entry'!DH14","v":3},{"$f":"'Marks Entry'!DI14","v":4},{"$f":"'Marks Entry'!DJ14","v":7},{"$f":"'Marks Entry'!DK14","v":3},{"$f":"'Marks Entry'!DL14","v":4},{"$f":"'Marks Entry'!DM14","v":7},{"$f":"'Marks Entry'!DN14","v":3},{"$f":"'Marks Entry'!DO14","v":0},{"$f":"'Marks Entry'!DP14","v":3},{"$f":"'Marks Entry'!DQ14","v":17},{"$f":"'Marks Entry'!DR14","v":20},{"$f":"'Marks Entry'!DS14","v":18},{"$f":"'Marks Entry'!DT14","v":38},{"$f":"'Marks Entry'!DU14","v":20},{"$f":"'Marks Entry'!DV14","v":18},{"$f":"'Marks Entry'!DW14","v":38},{"$f":"'Marks Entry'!DX14","v":93},{"$f":"'Marks Entry'!DY14","v":46.5},{"$f":"'Marks Entry'!DZ14","v":"D"},{"$f":"'Marks Entry'!EA14","v":"D"},{"$f":"'Marks Entry'!EB14","v":15},{"$f":"'Marks Entry'!EC14","v":15},{"$f":"'Marks Entry'!ED14","v":11},{"$f":"'Marks Entry'!EE14","v":20},{"$f":"'Marks Entry'!EF14","v":10},{"$f":"'Marks Entry'!EG14","v":71},{"$f":"'Marks Entry'!EJ14","v":"B"},{"$f":"'Marks Entry'!EK14","v":15},{"$f":"'Marks Entry'!EL14","v":15},{"$f":"'Marks Entry'!EM14","v":11},{"$f":"'Marks Entry'!EN14","v":20},{"$f":"'Marks Entry'!EO14","v":10},{"$f":"'Marks Entry'!EP14","v":71},{"$f":"'Marks Entry'!ES14","v":"B"},{"$f":"'Marks Entry'!ET14","v":15},{"$f":"'Marks Entry'!EU14","v":15},{"$f":"'Marks Entry'!EV14","v":11},{"$f":"'Marks Entry'!EW14","v":20},{"$f":"'Marks Entry'!EX14","v":10},{"$f":"'Marks Entry'!EY14","v":71},{"$f":"'Marks Entry'!FB14","v":"B"},{"$f":"'Marks Entry'!FC14","v":0},{"$f":"'Marks Entry'!FD14","v":0},{"$f":"'Marks Entry'!FE14","v":""},{"$f":"'Marks Entry'!FF14","v":1200},{"$f":"'Marks Entry'!FG14","v":558},{"$f":"'Marks Entry'!FH14","v":{"v":46.5,"d":"46.50"}},{"$f":"IF(OR('Marks Entry'!FI14=\"First\",'Marks Entry'!FI14=\"Second\",'Marks Entry'!FI14=\"Third\"),'Marks Entry'!FI14,\"\")","v":"Third"},{"$f":"'Marks Entry'!FJ14","v":"D"},{"$f":"'Marks Entry'!FK14","v":"PASSED"},{"$f":"'Marks Entry'!FL14","v":46.5},{"$f":"'Marks Entry'!FM14","v":3.999999999999999},{"$f":"'Marks Entry'!FO14","v":"D"}]
[null,7,{"$f":"'Marks Entry'!D15","v":6},{"$f":"'Marks Entry'!E15","v":1453},{"$f":"'Marks Entry'!F15","v":0},{"$f":"'Marks Entry'!G15","v":907},{"$f":"'Marks Entry'!H15","v":"BAJRANG VISHNOI"},{"$f":"'Marks Entry'!I15","v":"OM PRAKASH VISHNOI"},{"$f":"'Marks Entry'!J15","v":"LOONGA DEVI"},{"$f":"'Marks Entry'!K15","v":"2006-10-01"},{"$f":"'Marks Entry'!L15","v":2},{"$f":"'Marks Entry'!M15","v":2},{"$f":"'Marks Entry'!N15","v":4},{"$f":"'Marks Entry'!O15","v":2},{"$f":"'Marks Entry'!P15","v":2},{"$f":"'Marks Entry'!Q15","v":4},{"$f":"'Marks Entry'!R15","v":2},{"$f":"'Marks Entry'!S15","v":0},{"$f":"'Marks Entry'!T15","v":2},{"$f":"'Marks Entry'!U15","v":10},{"$f":"'Marks Entry'!V15","v":15},{"$f":"'Marks Entry'!W15","v":15},{"$f":"'Marks Entry'!X15","v":30},{"$f":"'Marks Entry'!Y15","v":45},{"$f":"'Marks Entry'!Z15","v":15},{"$f":"'Marks Entry'!AA15","v":60},{"$f":"'Marks Entry'!AB15","v":100},{"$f":"'Marks Entry'!AC15","v":50},{"$f":"'Marks Entry'!AD15","v":"D"},{"$f":"'Marks Entry'!AE15","v":"D"},{"$f":"'Marks Entry'!AF15","v":3},{"$f":"'Marks Entry'!AG15","v":3},{"$f":"'Marks Entry'!AH15","v":6},{"$f":"'Marks Entry'!AI15","v":3},{"$f":"'Marks Entry'!AJ15","v":3},{"$f":"'Marks Entry'!AK15","v":6},{"$f":"'Marks Entry'!AL15","v":3},{"$f":"'Marks Entry'!AM15","v":0},{"$f":"'Marks Entry'!AN15","v":3},{"$f":"'Marks Entry'!AO15","v":15},{"$f":"'Marks Entry'!AP15","v":25},{"$f":"'Marks Entry'!AQ15","v":15},{"$f":"'Marks Entry'!AR15","v":40},{"$f":"'Marks Entry'!AS15","v":55},{"$f":"'Marks Entry'!AT15","v":15},{"$f":"'Marks Entry'!AU15","v":70},{"$f":"'Marks Entry'!AV15","v":125},{"$f":"'Marks Entry'!AW15","v":62.5},{"$f":"'Marks Entry'!AX15","v":"C"},{"$f":"'Marks Entry'!AY15","v":"C"},{"$f":"'Marks Entry'!AZ15","v":4},{"$f":"'Marks Entry'!BA15","v":4},{"$f":"'Marks Entry'!BB15","v":8},{"$f":"'Marks Entry'!BC15","v":4},{"$f":"'Marks Entry'!BD15","v":4},{"$f":"'Marks Entry'!BE15","v":8},{"$f":"'Marks Entry'!BF15","v":4},{"$f":"'Marks Entry'!BG15","v":0},{"$f":"'Marks Entry'!BH15","v":4},{"$f":"'Marks Entry'!BI15","v":20},{"$f":"'Marks Entry'!BJ15","v":25},{"$f":"'Marks Entry'!BK15","v":20},{"$f":"'Marks Entry'!BL15","v":45},{"$f":"'Marks Entry'!BM15","v":65},{"$f":"'Marks Entry'!BN15","v":15},{"$f":"'Marks Entry'!BO15","v":80},{"$f":"'Marks Entry'!BP15","v":145},{"$f":"'Marks Entry'!BQ15","v":72.5},{"$f":"'Marks Entry'!BR15","v":"B"},{"$f":"'Marks Entry'!BS15","v":"B"},{"$f":"'Marks Entry'!BT15","v":2},{"$f":"'Marks Entry'!BU15","v":2},{"$f":"'Marks Entry'!BV15","v":4},{"$f":"'Marks Entry'!BW15","v":2},{"$f":"'Marks Entry'!BX15","v":2},{"$f":"'Marks Entry'!BY15","v":4},{"$f":"'Marks Entry'!BZ15","v":2},{"$f":"'Marks Entry'!CA15","v":0},{"$f":"'Marks Entry'!CB15","v":2},{"$f":"'Marks Entry'!CC15","v":10},{"$f":"'Marks Entry'!CD15","v":30},{"$f":"'Marks Entry'!CE15","v":15},{"$f":"'Marks Entry'!CF15","v":45},{"$f":"'Marks Entry'!CG15","v":45},{"$f":"'Marks Entry'!CH15","v":15},{"$f":"'Marks Entry'!CI15","v":60},{"$f":"'Marks Entry'!CJ15","v":115},{"$f":"'Marks Entry'!CK15","v":57.49999999999999},{"$f":"'Marks Entry'!CL15","v":"C"},{"$f":"'Marks Entry'!CM15","v":"C"},{"$f":"'Marks Entry'!CN15","v":4},{"$f":"'Marks Entry'!CO15","v":4},{"$f":"'Marks Entry'!CP15","v":8},{"$f":"'Marks Entry'!CQ15","v":4},{"$f":"'Marks Entry'!CR15","v":4},{"$f":"'Marks Entry'!CS15","v":8},{"$f":"'Marks Entry'!CT15","v":4},{"$f":"'Marks Entry'!CU15","v":0},{"$f":"'Marks Entry'!CV15","v":4},{"$f":"'Marks Entry'!CW15","v":20},{"$f":"'Marks Entry'!CX15","v":15},{"$f":"'Marks Entry'!CY15","v":15},{"$f":"'Marks Entry'!CZ15","v":30},{"$f":"'Marks Entry'!DA15","v":45},{"$f":"'Marks Entry'!DB15","v":15},{"$f":"'Marks Entry'!DC15","v":60},{"$f":"'Marks Entry'!DD15","v":110},{"$f":"'Marks Entry'!DE15","v":55.00000000000001},{"$f":"'Marks Entry'!DF15","v":"C"},{"$f":"'Marks Entry'!DG15","v":"C"},{"$f":"'Marks Entry'!DH15","v":5},{"$f":"'Marks Entry'!DI15","v":5},{"$f":"'Marks Entry'!DJ15","v":10},{"$f":"'Marks Entry'!DK15","v":5},{"$f":"'Marks Entry'!DL15","v":5},{"$f":"'Marks Entry'!DM15","v":10},{"$f":"'Marks Entry'!DN15","v":5},{"$f":"'Marks Entry'!DO15","v":0},{"$f":"'Marks Entry'!DP15","v":5},{"$f":"'Marks Entry'!DQ15","v":25},{"$f":"'Marks Entry'!DR15","v":25},{"$f":"'Marks Entry'!DS15","v":15},{"$f":"'Marks Entry'!DT15","v":40},{"$f":"'Marks Entry'!DU15","v":65},{"$f":"'Marks Entry'!DV15","v":25},{"$f":"'Marks Entry'!DW15","v":90},{"$f":"'Marks Entry'!DX15","v":155},{"$f":"'Marks Entry'!DY15","v":77.5},{"$f":"'Marks Entry'!DZ15","v":"B"},{"$f":"'Marks Entry'!EA15","v":"B"},{"$f":"'Marks Entry'!EB15","v":15},{"$f":"'Marks Entry'!EC15","v":15},{"$f":"'Marks Entry'!ED15","v":11},{"$f":"'Marks Entry'!EE15","v":20},{"$f":"'Marks Entry'!EF15","v":10},{"$f":"'Marks Entry'!EG15","v":71},{"$f":"'Marks Entry'!EJ15","v":"B"},{"$f":"'Marks Entry'!EK15","v":15},{"$f":"'Marks Entry'!EL15","v":15},{"$f":"'Marks Entry'!EM15","v":11},{"$f":"'Marks Entry'!EN15","v":20},{"$f":"'Marks Entry'!EO15","v":10},{"$f":"'Marks Entry'!EP15","v":71},{"$f":"'Marks Entry'!ES15","v":"B"},{"$f":"'Marks Entry'!ET15","v":15},{"$f":"'Marks Entry'!EU15","v":15},{"$f":"'Marks Entry'!EV15","v":11},{"$f":"'Marks Entry'!EW15","v":20},{"$f":"'Marks Entry'!EX15","v":10},{"$f":"'Marks Entry'!EY15","v":71},{"$f":"'Marks Entry'!FB15","v":"B"},{"$f":"'Marks Entry'!FC15","v":0},{"$f":"'Marks Entry'!FD15","v":0},{"$f":"'Marks Entry'!FE15","v":""},{"$f":"'Marks Entry'!FF15","v":1200},{"$f":"'Marks Entry'!FG15","v":750},{"$f":"'Marks Entry'!FH15","v":{"v":62.5,"d":"62.50"}},{"$f":"IF(OR('Marks Entry'!FI15=\"First\",'Marks Entry'!FI15=\"Second\",'Marks Entry'!FI15=\"Third\"),'Marks Entry'!FI15,\"\")","v":"First"},{"$f":"'Marks Entry'!FJ15","v":"C"},{"$f":"'Marks Entry'!FK15","v":"PASSED"},{"$f":"'Marks Entry'!FL15","v":62.5},{"$f":"'Marks Entry'!FM15","v":0.9999999999999993},{"$f":"'Marks Entry'!FO15","v":"D"}]
[null,8,{"$f":"'Marks Entry'!D16","v":6},{"$f":"'Marks Entry'!E16","v":1},{"$f":"'Marks Entry'!F16","v":0},{"$f":"'Marks Entry'!G16","v":908},{"$f":"'Marks Entry'!H16","v":0},{"$f":"'Marks Entry'!I16","v":0},{"$f":"'Marks Entry'!J16","v":0},{"$f":"'Marks Entry'!K16","v":"00:00:00"},{"$f":"'Marks Entry'!L16","v":0},{"$f":"'Marks Entry'!M16","v":0},{"$f":"'Marks Entry'!N16","v":0},{"$f":"'Marks Entry'!O16","v":0},{"$f":"'Marks Entry'!P16","v":0},{"$f":"'Marks Entry'!Q16","v":0},{"$f":"'Marks Entry'!R16","v":0},{"$f":"'Marks Entry'!S16","v":0},{"$f":"'Marks Entry'!T16","v":0},{"$f":"'Marks Entry'!U16","v":0},{"$f":"'Marks Entry'!V16","v":0},{"$f":"'Marks Entry'!W16","v":0},{"$f":"'Marks Entry'!X16","v":0},{"$f":"'Marks Entry'!Y16","v":0},{"$f":"'Marks Entry'!Z16","v":0},{"$f":"'Marks Entry'!AA16","v":0},{"$f":"'Marks Entry'!AB16","v":0},{"$f":"'Marks Entry'!AC16","v":0},{"$f":"'Marks Entry'!AD16","v":"E"},{"$f":"'Marks Entry'!AE16","v":"E"},{"$f":"'Marks Entry'!AF16","v":0},{"$f":"'Marks Entry'!AG16","v":0},{"$f":"'Marks Entry'!AH16","v":0},{"$f":"'Marks Entry'!AI16","v":0},{"$f":"'Marks Entry'!AJ16","v":0},{"$f":"'Marks Entry'!AK16","v":0},{"$f":"'Marks Entry'!AL16","v":0},{"$f":"'Marks Entry'!AM16","v":0},{"$f":"'Marks Entry'!AN16","v":0},{"$f":"'Marks Entry'!AO16","v":0},{"$f":"'Marks Entry'!AP16","v":0},{"$f":"'Marks Entry'!AQ16","v":0},{"$f":"'Marks Entry'!AR16","v":0},{"$f":"'Marks Entry'!AS16","v":0},{"$f":"'Marks Entry'!AT16","v":0},{"$f":"'Marks Entry'!AU16","v":0},{"$f":"'Marks Entry'!AV16","v":0},{"$f":"'Marks Entry'!AW16","v":0},{"$f":"'Marks Entry'!AX16","v":"E"},{"$f":"'Marks Entry'!AY16","v":"E"},{"$f":"'Marks Entry'!AZ16","v":0},{"$f":"'Marks Entry'!BA16","v":0},{"$f":"'Marks Entry'!BB16","v":0},{"$f":"'Marks Entry'!BC16","v":0},{"$f":"'Marks Entry'!BD16","v":0},{"$f":"'Marks Entry'!BE16","v":0},{"$f":"'Marks Entry'!BF16","v":0},{"$f":"'Marks Entry'!BG16","v":0},{"$f":"'Marks Entry'!BH16","v":0},{"$f":"'Marks Entry'!BI16","v":0},{"$f":"'Marks Entry'!BJ16","v":0},{"$f":"'Marks Entry'!BK16","v":0},{"$f":"'Marks Entry'!BL16","v":0},{"$f":"'Marks Entry'!BM16","v":0},{"$f":"'Marks Entry'!BN16","v":0},{"$f":"'Marks Entry'!BO16","v":0},{"$f":"'Marks Entry'!BP16","v":0},{"$f":"'Marks Entry'!BQ16","v":0},{"$f":"'Marks Entry'!BR16","v":"E"},{"$f":"'Marks Entry'!BS16","v":"E"},{"$f":"'Marks Entry'!BT16","v":0},{"$f":"'Marks Entry'!BU16","v":0},{"$f":"'Marks Entry'!BV16","v":0},{"$f":"'Marks Entry'!BW16","v":0},{"$f":"'Marks Entry'!BX16","v":0},{"$f":"'Marks Entry'!BY16","v":0},{"$f":"'Marks Entry'!BZ16","v":0},{"$f":"'Marks Entry'!CA16","v":0},{"$f":"'Marks Entry'!CB16","v":0},{"$f":"'Marks Entry'!CC16","v":0},{"$f":"'Marks Entry'!CD16","v":0},{"$f":"'Marks Entry'!CE16","v":0},{"$f":"'Marks Entry'!CF16","v":0},{"$f":"'Marks Entry'!CG16","v":0},{"$f":"'Marks Entry'!CH16","v":0},{"$f":"'Marks Entry'!CI16","v":0},{"$f":"'Marks Entry'!CJ16","v":0},{"$f":"'Marks Entry'!CK16","v":0},{"$f":"'Marks Entry'!CL16","v":"E"},{"$f":"'Marks Entry'!CM16","v":"E"},{"$f":"'Marks Entry'!CN16","v":0},{"$f":"'Marks Entry'!CO16","v":0},{"$f":"'Marks Entry'!CP16","v":0},{"$f":"'Marks Entry'!CQ16","v":0},{"$f":"'Marks Entry'!CR16","v":0},{"$f":"'Marks Entry'!CS16","v":0},{"$f":"'Marks Entry'!CT16","v":0},{"$f":"'Marks Entry'!CU16","v":0},{"$f":"'Marks Entry'!CV16","v":0},{"$f":"'Marks Entry'!CW16","v":0},{"$f":"'Marks Entry'!CX16","v":0},{"$f":"'Marks Entry'!CY16","v":0},{"$f":"'Marks Entry'!CZ16","v":0},{"$f":"'Marks Entry'!DA16","v":0},{"$f":"'Marks Entry'!DB16","v":0},{"$f":"'Marks Entry'!DC16","v":0},{"$f":"'Marks Entry'!DD16","v":0},{"$f":"'Marks Entry'!DE16","v":0},{"$f":"'Marks Entry'!DF16","v":"E"},{"$f":"'Marks Entry'!DG16","v":"E"},{"$f":"'Marks Entry'!DH16","v":0},{"$f":"'Marks Entry'!DI16","v":0},{"$f":"'Marks Entry'!DJ16","v":0},{"$f":"'Marks Entry'!DK16","v":0},{"$f":"'Marks Entry'!DL16","v":0},{"$f":"'Marks Entry'!DM16","v":0},{"$f":"'Marks Entry'!DN16","v":0},{"$f":"'Marks Entry'!DO16","v":0},{"$f":"'Marks Entry'!DP16","v":0},{"$f":"'Marks Entry'!DQ16","v":0},{"$f":"'Marks Entry'!DR16","v":0},{"$f":"'Marks Entry'!DS16","v":0},{"$f":"'Marks Entry'!DT16","v":0},{"$f":"'Marks Entry'!DU16","v":0},{"$f":"'Marks Entry'!DV16","v":0},{"$f":"'Marks Entry'!DW16","v":0},{"$f":"'Marks Entry'!DX16","v":0},{"$f":"'Marks Entry'!DY16","v":0},{"$f":"'Marks Entry'!DZ16","v":"E"},{"$f":"'Marks Entry'!EA16","v":"E"},{"$f":"'Marks Entry'!EB16","v":0},{"$f":"'Marks Entry'!EC16","v":0},{"$f":"'Marks Entry'!ED16","v":0},{"$f":"'Marks Entry'!EE16","v":0},{"$f":"'Marks Entry'!EF16","v":0},{"$f":"'Marks Entry'!EG16","v":0},{"$f":"'Marks Entry'!EJ16","v":"E"},{"$f":"'Marks Entry'!EK16","v":0},{"$f":"'Marks Entry'!EL16","v":0},{"$f":"'Marks Entry'!EM16","v":0},{"$f":"'Marks Entry'!EN16","v":0},{"$f":"'Marks Entry'!EO16","v":0},{"$f":"'Marks Entry'!EP16","v":0},{"$f":"'Marks Entry'!ES16","v":"E"},{"$f":"'Marks Entry'!ET16","v":0},{"$f":"'Marks Entry'!EU16","v":0},{"$f":"'Marks Entry'!EV16","v":0},{"$f":"'Marks Entry'!EW16","v":0},{"$f":"'Marks Entry'!EX16","v":0},{"$f":"'Marks Entry'!EY16","v":0},{"$f":"'Marks Entry'!FB16","v":"E"},{"$f":"'Marks Entry'!FC16","v":0},{"$f":"'Marks Entry'!FD16","v":0},{"$f":"'Marks Entry'!FE16","v":""},{"$f":"'Marks Entry'!FF16","v":1200},{"$f":"'Marks Entry'!FG16","v":0},{"$f":"'Marks Entry'!FH16","v":{"v":0,"d":"0.00"}},{"$f":"IF(OR('Marks Entry'!FI16=\"First\",'Marks Entry'!FI16=\"Second\",'Marks Entry'!FI16=\"Third\"),'Marks Entry'!FI16,\"\")","v":""},{"$f":"'Marks Entry'!FJ16","v":""},{"$f":"'Marks Entry'!FK16","v":"PROMOTED"},{"$f":"'Marks Entry'!FL16","v":""},{"$f":"'Marks Entry'!FM16","v":""},{"$f":"'Marks Entry'!FO16","v":"E"}]
[null,9,{"$f":"'Marks Entry'!D17","v":6},{"$f":"'Marks Entry'!E17","v":2},{"$f":"'Marks Entry'!F17","v":0},{"$f":"'Marks Entry'!G17","v":909},{"$f":"'Marks Entry'!H17","v":0},{"$f":"'Marks Entry'!I17","v":0},{"$f":"'Marks Entry'!J17","v":0},{"$f":"'Marks Entry'!K17","v":"00:00:00"},{"$f":"'Marks Entry'!L17","v":0},{"$f":"'Marks Entry'!M17","v":0},{"$f":"'Marks Entry'!N17","v":0},{"$f":"'Marks Entry'!O17","v":0},{"$f":"'Marks Entry'!P17","v":0},{"$f":"'Marks Entry'!Q17","v":0},{"$f":"'Marks Entry'!R17","v":0},{"$f":"'Marks Entry'!S17","v":0},{"$f":"'Marks Entry'!T17","v":0},{"$f":"'Marks Entry'!U17","v":0},{"$f":"'Marks Entry'!V17","v":0},{"$f":"'Marks Entry'!W17","v":0},{"$f":"'Marks Entry'!X17","v":0},{"$f":"'Marks Entry'!Y17","v":0},{"$f":"'Marks Entry'!Z17","v":0},{"$f":"'Marks Entry'!AA17","v":0},{"$f":"'Marks Entry'!AB17","v":0},{"$f":"'Marks Entry'!AC17","v":0},{"$f":"'Marks Entry'!AD17","v":"E"},{"$f":"'Marks Entry'!AE17","v":"E"},{"$f":"'Marks Entry'!AF17","v":0},{"$f":"'Marks Entry'!AG17","v":0},{"$f":"'Marks Entry'!AH17","v":0},{"$f":"'Marks Entry'!AI17","v":0},{"$f":"'Marks Entry'!AJ17","v":0},{"$f":"'Marks Entry'!AK17","v":0},{"$f":"'Marks Entry'!AL17","v":0},{"$f":"'Marks Entry'!AM17","v":0},{"$f":"'Marks Entry'!AN17","v":0},{"$f":"'Marks Entry'!AO17","v":0},{"$f":"'Marks Entry'!AP17","v":0},{"$f":"'Marks Entry'!AQ17","v":0},{"$f":"'Marks Entry'!AR17","v":0},{"$f":"'Marks Entry'!AS17","v":0},{"$f":"'Marks Entry'!AT17","v":0},{"$f":"'Marks Entry'!AU17","v":0},{"$f":"'Marks Entry'!AV17","v":0},{"$f":"'Marks Entry'!AW17","v":0},{"$f":"'Marks Entry'!AX17","v":"E"},{"$f":"'Marks Entry'!AY17","v":"E"},{"$f":"'Marks Entry'!AZ17","v":0},{"$f":"'Marks Entry'!BA17","v":0},{"$f":"'Marks Entry'!BB17","v":0},{"$f":"'Marks Entry'!BC17","v":0},{"$f":"'Marks Entry'!BD17","v":0},{"$f":"'Marks Entry'!BE17","v":0},{"$f":"'Marks Entry'!BF17","v":0},{"$f":"'Marks Entry'!BG17","v":0},{"$f":"'Marks Entry'!BH17","v":0},{"$f":"'Marks Entry'!BI17","v":0},{"$f":"'Marks Entry'!BJ17","v":0},{"$f":"'Marks Entry'!BK17","v":0},{"$f":"'Marks Entry'!BL17","v":0},{"$f":"'Marks Entry'!BM17","v":0},{"$f":"'Marks Entry'!BN17","v":0},{"$f":"'Marks Entry'!BO17","v":0},{"$f":"'Marks Entry'!BP17","v":0},{"$f":"'Marks Entry'!BQ17","v":0},{"$f":"'Marks Entry'!BR17","v":"E"},{"$f":"'Marks Entry'!BS17","v":"E"},{"$f":"'Marks Entry'!BT17","v":0},{"$f":"'Marks Entry'!BU17","v":0},{"$f":"'Marks Entry'!BV17","v":0},{"$f":"'Marks Entry'!BW17","v":0},{"$f":"'Marks Entry'!BX17","v":0},{"$f":"'Marks Entry'!BY17","v":0},{"$f":"'Marks Entry'!BZ17","v":0},{"$f":"'Marks Entry'!CA17","v":0},{"$f":"'Marks Entry'!CB17","v":0},{"$f":"'Marks Entry'!CC17","v":0},{"$f":"'Marks Entry'!CD17","v":0},{"$f":"'Marks Entry'!CE17","v":0},{"$f":"'Marks Entry'!CF17","v":0},{"$f":"'Marks Entry'!CG17","v":0},{"$f":"'Marks Entry'!CH17","v":0},{"$f":"'Marks Entry'!CI17","v":0},{"$f":"'Marks Entry'!CJ17","v":0},{"$f":"'Marks Entry'!CK17","v":0},{"$f":"'Marks Entry'!CL17","v":"E"},{"$f":"'Marks Entry'!CM17","v":"E"},{"$f":"'Marks Entry'!CN17","v":0},{"$f":"'Marks Entry'!CO17","v":0},{"$f":"'Marks Entry'!CP17","v":0},{"$f":"'Marks Entry'!CQ17","v":0},{"$f":"'Marks Entry'!CR17","v":0},{"$f":"'Marks Entry'!CS17","v":0},{"$f":"'Marks Entry'!CT17","v":0},{"$f":"'Marks Entry'!CU17","v":0},{"$f":"'Marks Entry'!CV17","v":0},{"$f":"'Marks Entry'!CW17","v":0},{"$f":"'Marks Entry'!CX17","v":0},{"$f":"'Marks Entry'!CY17","v":0},{"$f":"'Marks Entry'!CZ17","v":0},{"$f":"'Marks Entry'!DA17","v":0},{"$f":"'Marks Entry'!DB17","v":0},{"$f":"'Marks Entry'!DC17","v":0},{"$f":"'Marks Entry'!DD17","v":0},{"$f":"'Marks Entry'!DE17","v":0},{"$f":"'Marks Entry'!DF17","v":"E"},{"$f":"'Marks Entry'!DG17","v":"E"},{"$f":"'Marks Entry'!DH17","v":0},{"$f":"'Marks Entry'!DI17","v":0},{"$f":"'Marks Entry'!DJ17","v":0},{"$f":"'Marks Entry'!DK17","v":0},{"$f":"'Marks Entry'!DL17","v":0},{"$f":"'Marks Entry'!DM17","v":0},{"$f":"'Marks Entry'!DN17","v":0},{"$f":"'Marks Entry'!DO17","v":0},{"$f":"'Marks Entry'!DP17","v":0},{"$f":"'Marks Entry'!DQ17","v":0},{"$f":"'Marks Entry'!DR17","v":0},{"$f":"'Marks Entry'!DS17","v":0},{"$f":"'Marks Entry'!DT17","v":0},{"$f":"'Marks Entry'!DU17","v":0},{"$f":"'Marks Entry'!DV17","v":0},{"$f":"'Marks Entry'!DW17","v":0},{"$f":"'Marks Entry'!DX17","v":0},{"$f":"'Marks Entry'!DY17","v":0},{"$f":"'Marks Entry'!DZ17","v":"E"},{"$f":"'Marks Entry'!EA17","v":"E"},{"$f":"'Marks Entry'!EB17","v":0},{"$f":"'Marks Entry'!EC17","v":0},{"$f":"'Marks Entry'!ED17","v":0},{"$f":"'Marks Entry'!EE17","v":0},{"$f":"'Marks Entry'!EF17","v":0},{"$f":"'Marks Entry'!EG17","v":0},{"$f":"'Marks Entry'!EJ17","v":"E"},{"$f":"'Marks Entry'!EK17","v":0},{"$f":"'Marks Entry'!EL17","v":0},{"$f":"'Marks Entry'!EM17","v":0},{"$f":"'Marks Entry'!EN17","v":0},{"$f":"'Marks Entry'!EO17","v":0},{"$f":"'Marks Entry'!EP17","v":0},{"$f":"'Marks Entry'!ES17","v":"E"},{"$f":"'Marks Entry'!ET17","v":0},{"$f":"'Marks Entry'!EU17","v":0},{"$f":"'Marks Entry'!EV17","v":0},{"$f":"'Marks Entry'!EW17","v":0},{"$f":"'Marks Entry'!EX17","v":0},{"$f":"'Marks Entry'!EY17","v":0},{"$f":"'Marks Entry'!FB17","v":"E"},{"$f":"'Marks Entry'!FC17","v":0},{"$f":"'Marks Entry'!FD17","v":0},{"$f":"'Marks Entry'!FE17","v":""},{"$f":"'Marks Entry'!FF17","v":1200},{"$f":"'Marks Entry'!FG17","v":0},{"$f":"'Marks Entry'!FH17","v":{"v":0,"d":"0.00"}},{"$f":"IF(OR('Marks Entry'!FI17=\"First\",'Marks Entry'!FI17=\"Second\",'Marks Entry'!FI17=\"Third\"),'Marks Entry'!FI17,\"\")","v":""},{"$f":"'Marks Entry'!FJ17","v":""},{"$f":"'Marks Entry'!FK17","v":"PROMOTED"},{"$f":"'Marks Entry'!FL17","v":""},{"$f":"'Marks Entry'!FM17","v":""},{"$f":"'Marks Entry'!FO17","v":"E"}]
[null,0,{"$f":"'Marks Entry'!D18","v":0},{"$f":"'Marks Entry'!E18","v":0},{"$f":"'Marks Entry'!F18","v":0},{"$f":"'Marks Entry'!G18","v":0},{"$f":"'Marks Entry'!H18","v":0},{"$f":"'Marks Entry'!I18","v":0},{"$f":"'Marks Entry'!J18","v":0},{"$f":"'Marks Entry'!K18","v":"00:00:00"},{"$f":"'Marks Entry'!L18","v":0},{"$f":"'Marks Entry'!M18","v":0},{"$f":"'Marks Entry'!N18","v":0},{"$f":"'Marks Entry'!O18","v":0},{"$f":"'Marks Entry'!P18","v":0},{"$f":"'Marks Entry'!Q18","v":0},{"$f":"'Marks Entry'!R18","v":0},{"$f":"'Marks Entry'!S18","v":0},{"$f":"'Marks Entry'!T18","v":0},{"$f":"'Marks Entry'!U18","v":0},{"$f":"'Marks Entry'!V18","v":0},{"$f":"'Marks Entry'!W18","v":0},{"$f":"'Marks Entry'!X18","v":0},{"$f":"'Marks Entry'!Y18","v":0},{"$f":"'Marks Entry'!Z18","v":0},{"$f":"'Marks Entry'!AA18","v":0},{"$f":"'Marks Entry'!AB18","v":0},{"$f":"'Marks Entry'!AC18","v":0},{"$f":"'Marks Entry'!AD18","v":""},{"$f":"'Marks Entry'!AE18","v":0},{"$f":"'Marks Entry'!AF18","v":0},{"$f":"'Marks Entry'!AG18","v":0},{"$f":"'Marks Entry'!AH18","v":0},{"$f":"'Marks Entry'!AI18","v":0},{"$f":"'Marks Entry'!AJ18","v":0},{"$f":"'Marks Entry'!AK18","v":0},{"$f":"'Marks Entry'!AL18","v":0},{"$f":"'Marks Entry'!AM18","v":0},{"$f":"'Marks Entry'!AN18","v":0},{"$f":"'Marks Entry'!AO18","v":0},{"$f":"'Marks Entry'!AP18","v":0},{"$f":"'Marks Entry'!AQ18","v":0},{"$f":"'Marks Entry'!AR18","v":0},{"$f":"'Marks Entry'!AS18","v":0},{"$f":"'Marks Entry'!AT18","v":0},{"$f":"'Marks Entry'!AU18","v":0},{"$f":"'Marks Entry'!AV18","v":0},{"$f":"'Marks Entry'!AW18","v":0},{"$f":"'Marks Entry'!AX18","v":"E"},{"$f":"'Marks Entry'!AY18","v":0},{"$f":"'Marks Entry'!AZ18","v":0},{"$f":"'Marks Entry'!BA18","v":0},{"$f":"'Marks Entry'!BB18","v":0},{"$f":"'Marks Entry'!BC18","v":0},{"$f":"'Marks Entry'!BD18","v":0},{"$f":"'Marks Entry'!BE18","v":0},{"$f":"'Marks Entry'!BF18","v":0},{"$f":"'Marks Entry'!BG18","v":0},{"$f":"'Marks Entry'!BH18","v":0},{"$f":"'Marks Entry'!BI18","v":0},{"$f":"'Marks Entry'!BJ18","v":0},{"$f":"'Marks Entry'!BK18","v":0},{"$f":"'Marks Entry'!BL18","v":0},{"$f":"'Marks Entry'!BM18","v":0},{"$f":"'Marks Entry'!BN18","v":0},{"$f":"'Marks Entry'!BO18","v":0},{"$f":"'Marks Entry'!BP18","v":0},{"$f":"'Marks Entry'!BQ18","v":0},{"$f":"'Marks Entry'!BR18","v":"E"},{"$f":"'Marks Entry'!BS18","v":0},{"$f":"'Marks Entry'!BT18","v":0},{"$f":"'Marks Entry'!BU18","v":0},{"$f":"'Marks Entry'!BV18","v":0},{"$f":"'Marks Entry'!BW18","v":0},{"$f":"'Marks Entry'!BX18","v":0},{"$f":"'Marks Entry'!BY18","v":0},{"$f":"'Marks Entry'!BZ18","v":0},{"$f":"'Marks Entry'!CA18","v":0},{"$f":"'Marks Entry'!CB18","v":0},{"$f":"'Marks Entry'!CC18","v":0},{"$f":"'Marks Entry'!CD18","v":0},{"$f":"'Marks Entry'!CE18","v":0},{"$f":"'Marks Entry'!CF18","v":0},{"$f":"'Marks Entry'!CG18","v":0},{"$f":"'Marks Entry'!CH18","v":0},{"$f":"'Marks Entry'!CI18","v":0},{"$f":"'Marks Entry'!CJ18","v":0},{"$f":"'Marks Entry'!CK18","v":0},{"$f":"'Marks Entry'!CL18","v":"E"},{"$f":"'Marks Entry'!CM18","v":0},{"$f":"'Marks Entry'!CN18","v":0},{"$f":"'Marks Entry'!CO18","v":0},{"$f":"'Marks Entry'!CP18","v":0},{"$f":"'Marks Entry'!CQ18","v":0},{"$f":"'Marks Entry'!CR18","v":0},{"$f":"'Marks Entry'!CS18","v":0},{"$f":"'Marks Entry'!CT18","v":0},{"$f":"'Marks Entry'!CU18","v":0},{"$f":"'Marks Entry'!CV18","v":0},{"$f":"'Marks Entry'!CW18","v":0},{"$f":"'Marks Entry'!CX18","v":0},{"$f":"'Marks Entry'!CY18","v":0},{"$f":"'Marks Entry'!CZ18","v":0},{"$f":"'Marks Entry'!DA18","v":0},{"$f":"'Marks Entry'!DB18","v":0},{"$f":"'Marks Entry'!DC18","v":0},{"$f":"'Marks Entry'!DD18","v":0},{"$f":"'Marks Entry'!DE18","v":0},{"$f":"'Marks Entry'!DF18","v":"E"},{"$f":"'Marks Entry'!DG18","v":0},{"$f":"'Marks Entry'!DH18","v":0},{"$f":"'Marks Entry'!DI18","v":0},{"$f":"'Marks Entry'!DJ18","v":0},{"$f":"'Marks Entry'!DK18","v":0},{"$f":"'Marks Entry'!DL18","v":0},{"$f":"'Marks Entry'!DM18","v":0},{"$f":"'Marks Entry'!DN18","v":0},{"$f":"'Marks Entry'!DO18","v":0},{"$f":"'Marks Entry'!DP18","v":0},{"$f":"'Marks Entry'!DQ18","v":0},{"$f":"'Marks Entry'!DR18","v":0},{"$f":"'Marks Entry'!DS18","v":0},{"$f":"'Marks Entry'!DT18","v":0},{"$f":"'Marks Entry'!DU18","v":0},{"$f":"'Marks Entry'!DV18","v":0},{"$f":"'Marks Entry'!DW18","v":0},{"$f":"'Marks Entry'!DX18","v":0},{"$f":"'Marks Entry'!DY18","v":0},{"$f":"'Marks Entry'!DZ18","v":"E"},{"$f":"'Marks Entry'!EA18","v":0},{"$f":"'Marks Entry'!EB18","v":0},{"$f":"'Marks Entry'!EC18","v":0},{"$f":"'Marks Entry'!ED18","v":0},{"$f":"'Marks Entry'!EE18","v":0},{"$f":"'Marks Entry'!EF18","v":0},{"$f":"'Marks Entry'!EG18","v":0},{"$f":"'Marks Entry'!EJ18","v":0},{"$f":"'Marks Entry'!EK18","v":0},{"$f":"'Marks Entry'!EL18","v":0},{"$f":"'Marks Entry'!EM18","v":0},{"$f":"'Marks Entry'!EN18","v":0},{"$f":"'Marks Entry'!EO18","v":0},{"$f":"'Marks Entry'!EP18","v":0},{"$f":"'Marks Entry'!ES18","v":0},{"$f":"'Marks Entry'!ET18","v":0},{"$f":"'Marks Entry'!EU18","v":0},{"$f":"'Marks Entry'!EV18","v":0},{"$f":"'Marks Entry'!EW18","v":0},{"$f":"'Marks Entry'!EX18","v":0},{"$f":"'Marks Entry'!EY18","v":0},{"$f":"'Marks Entry'!FB18","v":0},{"$f":"'Marks Entry'!FC18","v":0},{"$f":"'Marks Entry'!FD18","v":0},{"$f":"'Marks Entry'!FE18","v":""},{"$f":"'Marks Entry'!FF18","v":0},{"$f":"'Marks Entry'!FG18","v":0},{"$f":"'Marks Entry'!FH18","v":""},{"$f":"IF(OR('Marks Entry'!FI18=\"First\",'Marks Entry'!FI18=\"Second\",'Marks Entry'!FI18=\"Third\"),'Marks Entry'!FI18,\"\")","v":""},{"$f":"'Marks Entry'!FJ18","v":""},{"$f":"'Marks Entry'!FK18","v":""},{"$f":"'Marks Entry'!FL18","v":""},{"$f":"'Marks Entry'!FM18","v":""},{"$f":"'Marks Entry'!FO18","v":0}]
[null,0,{"$f":"'Marks Entry'!D19","v":0},{"$f":"'Marks Entry'!E19","v":0},{"$f":"'Marks Entry'!F19","v":0},{"$f":"'Marks Entry'!G19","v":0},{"$f":"'Marks Entry'!H19","v":0},{"$f":"'Marks Entry'!I19","v":0},{"$f":"'Marks Entry'!J19","v":0},{"$f":"'Marks Entry'!K19","v":"00:00:00"},{"$f":"'Marks Entry'!L19","v":0},{"$f":"'Marks Entry'!M19","v":0},{"$f":"'Marks Entry'!N19","v":0},{"$f":"'Marks Entry'!O19","v":0},{"$f":"'Marks Entry'!P19","v":0},{"$f":"'Marks Entry'!Q19","v":0},{"$f":"'Marks Entry'!R19","v":0},{"$f":"'Marks Entry'!S19","v":0},{"$f":"'Marks Entry'!T19","v":0},{"$f":"'Marks Entry'!U19","v":0},{"$f":"'Marks Entry'!V19","v":0},{"$f":"'Marks Entry'!W19","v":0},{"$f":"'Marks Entry'!X19","v":0},{"$f":"'Marks Entry'!Y19","v":0},{"$f":"'Marks Entry'!Z19","v":0},{"$f":"'Marks Entry'!AA19","v":0},{"$f":"'Marks Entry'!AB19","v":0},{"$f":"'Marks Entry'!AC19","v":0},{"$f":"'Marks Entry'!AD19","v":""},{"$f":"'Marks Entry'!AE19","v":0},{"$f":"'Marks Entry'!AF19","v":0},{"$f":"'Marks Entry'!AG19","v":0},{"$f":"'Marks Entry'!AH19","v":0},{"$f":"'Marks Entry'!AI19","v":0},{"$f":"'Marks Entry'!AJ19","v":0},{"$f":"'Marks Entry'!AK19","v":0},{"$f":"'Marks Entry'!AL19","v":0},{"$f":"'Marks Entry'!AM19","v":0},{"$f":"'Marks Entry'!AN19","v":0},{"$f":"'Marks Entry'!AO19","v":0},{"$f":"'Marks Entry'!AP19","v":0},{"$f":"'Marks Entry'!AQ19","v":0},{"$f":"'Marks Entry'!AR19","v":0},{"$f":"'Marks Entry'!AS19","v":0},{"$f":"'Marks Entry'!AT19","v":0},{"$f":"'Marks Entry'!AU19","v":0},{"$f":"'Marks Entry'!AV19","v":0},{"$f":"'Marks Entry'!AW19","v":0},{"$f":"'Marks Entry'!AX19","v":"E"},{"$f":"'Marks Entry'!AY19","v":0},{"$f":"'Marks Entry'!AZ19","v":0},{"$f":"'Marks Entry'!BA19","v":0},{"$f":"'Marks Entry'!BB19","v":0},{"$f":"'Marks Entry'!BC19","v":0},{"$f":"'Marks Entry'!BD19","v":0},{"$f":"'Marks Entry'!BE19","v":0},{"$f":"'Marks Entry'!BF19","v":0},{"$f":"'Marks Entry'!BG19","v":0},{"$f":"'Marks Entry'!BH19","v":0},{"$f":"'Marks Entry'!BI19","v":0},{"$f":"'Marks Entry'!BJ19","v":0},{"$f":"'Marks Entry'!BK19","v":0},{"$f":"'Marks Entry'!BL19","v":0},{"$f":"'Marks Entry'!BM19","v":0},{"$f":"'Marks Entry'!BN19","v":0},{"$f":"'Marks Entry'!BO19","v":0},{"$f":"'Marks Entry'!BP19","v":0},{"$f":"'Marks Entry'!BQ19","v":0},{"$f":"'Marks Entry'!BR19","v":"E"},{"$f":"'Marks Entry'!BS19","v":0},{"$f":"'Marks Entry'!BT19","v":0},{"$f":"'Marks Entry'!BU19","v":0},{"$f":"'Marks Entry'!BV19","v":0},{"$f":"'Marks Entry'!BW19","v":0},{"$f":"'Marks Entry'!BX19","v":0},{"$f":"'Marks Entry'!BY19","v":0},{"$f":"'Marks Entry'!BZ19","v":0},{"$f":"'Marks Entry'!CA19","v":0},{"$f":"'Marks Entry'!CB19","v":0},{"$f":"'Marks Entry'!CC19","v":0},{"$f":"'Marks Entry'!CD19","v":0},{"$f":"'Marks Entry'!CE19","v":0},{"$f":"'Marks Entry'!CF19","v":0},{"$f":"'Marks Entry'!CG19","v":0},{"$f":"'Marks Entry'!CH19","v":0},{"$f":"'Marks Entry'!CI19","v":0},{"$f":"'Marks Entry'!CJ19","v":0},{"$f":"'Marks Entry'!CK19","v":0},{"$f":"'Marks Entry'!CL19","v":"E"},{"$f":"'Marks Entry'!CM19","v":0},{"$f":"'Marks Entry'!CN19","v":0},{"$f":"'Marks Entry'!CO19","v":0},{"$f":"'Marks Entry'!CP19","v":0},{"$f":"'Marks Entry'!CQ19","v":0},{"$f":"'Marks Entry'!CR19","v":0},{"$f":"'Marks Entry'!CS19","v":0},{"$f":"'Marks Entry'!CT19","v":0},{"$f":"'Marks Entry'!CU19","v":0},{"$f":"'Marks Entry'!CV19","v":0},{"$f":"'Marks Entry'!CW19","v":0},{"$f":"'Marks Entry'!CX19","v":0},{"$f":"'Marks Entry'!CY19","v":0},{"$f":"'Marks Entry'!CZ19","v":0},{"$f":"'Marks Entry'!DA19","v":0},{"$f":"'Marks Entry'!DB19","v":0},{"$f":"'Marks Entry'!DC19","v":0},{"$f":"'Marks Entry'!DD19","v":0},{"$f":"'Marks Entry'!DE19","v":0},{"$f":"'Marks Entry'!DF19","v":"E"},{"$f":"'Marks Entry'!DG19","v":0},{"$f":"'Marks Entry'!DH19","v":0},{"$f":"'Marks Entry'!DI19","v":0},{"$f":"'Marks Entry'!DJ19","v":0},{"$f":"'Marks Entry'!DK19","v":0},{"$f":"'Marks Entry'!DL19","v":0},{"$f":"'Marks Entry'!DM19","v":0},{"$f":"'Marks Entry'!DN19","v":0},{"$f":"'Marks Entry'!DO19","v":0},{"$f":"'Marks Entry'!DP19","v":0},{"$f":"'Marks Entry'!DQ19","v":0},{"$f":"'Marks Entry'!DR19","v":0},{"$f":"'Marks Entry'!DS19","v":0},{"$f":"'Marks Entry'!DT19","v":0},{"$f":"'Marks Entry'!DU19","v":0},{"$f":"'Marks Entry'!DV19","v":0},{"$f":"'Marks Entry'!DW19","v":0},{"$f":"'Marks Entry'!DX19","v":0},{"$f":"'Marks Entry'!DY19","v":0},{"$f":"'Marks Entry'!DZ19","v":"E"},{"$f":"'Marks Entry'!EA19","v":0},{"$f":"'Marks Entry'!EB19","v":0},{"$f":"'Marks Entry'!EC19","v":0},{"$f":"'Marks Entry'!ED19","v":0},{"$f":"'Marks Entry'!EE19","v":0},{"$f":"'Marks Entry'!EF19","v":0},{"$f":"'Marks Entry'!EG19","v":0},{"$f":"'Marks Entry'!EJ19","v":0},{"$f":"'Marks Entry'!EK19","v":0},{"$f":"'Marks Entry'!EL19","v":0},{"$f":"'Marks Entry'!EM19","v":0},{"$f":"'Marks Entry'!EN19","v":0},{"$f":"'Marks Entry'!EO19","v":0},{"$f":"'Marks Entry'!EP19","v":0},{"$f":"'Marks Entry'!ES19","v":0},{"$f":"'Marks Entry'!ET19","v":0},{"$f":"'Marks Entry'!EU19","v":0},{"$f":"'Marks Entry'!EV19","v":0},{"$f":"'Marks Entry'!EW19","v":0},{"$f":"'Marks Entry'!EX19","v":0},{"$f":"'Marks Entry'!EY19","v":0},{"$f":"'Marks Entry'!FB19","v":0},{"$f":"'Marks Entry'!FC19","v":0},{"$f":"'Marks Entry'!FD19","v":0},{"$f":"'Marks Entry'!FE19","v":""},{"$f":"'Marks Entry'!FF19","v":0},{"$f":"'Marks Entry'!FG19","v":0},{"$f":"'Marks Entry'!FH19","v":""},{"$f":"IF(OR('Marks Entry'!FI19=\"First\",'Marks Entry'!FI19=\"Second\",'Marks Entry'!FI19=\"Third\"),'Marks Entry'!FI19,\"\")","v":""},{"$f":"'Marks Entry'!FJ19","v":""},{"$f":"'Marks Entry'!FK19","v":""},{"$f":"'Marks Entry'!FL19","v":""},{"$f":"'Marks Entry'!FM19","v":""},{"$f":"'Marks Entry'!FO19","v":0}]
[null,0,{"$f":"'Marks Entry'!D20","v":0},{"$f":"'Marks Entry'!E20","v":0},{"$f":"'Marks Entry'!F20","v":0},{"$f":"'Marks Entry'!G20","v":0},{"$f":"'Marks Entry'!H20","v":0},{"$f":"'Marks Entry'!I20","v":0},{"$f":"'Marks Entry'!J20","v":0},{"$f":"'Marks Entry'!K20","v":"00:00:00"},{"$f":"'Marks Entry'!L20","v":0},{"$f":"'Marks Entry'!M20","v":0},{"$f":"'Marks Entry'!N20","v":0},{"$f":"'Marks Entry'!O20","v":0},{"$f":"'Marks Entry'!P20","v":0},{"$f":"'Marks Entry'!Q20","v":0},{"$f":"'Marks Entry'!R20","v":0},{"$f":"'Marks Entry'!S20","v":0},{"$f":"'Marks Entry'!T20","v":0},{"$f":"'Marks Entry'!U20","v":0},{"$f":"'Marks Entry'!V20","v":0},{"$f":"'Marks Entry'!W20","v":0},{"$f":"'Marks Entry'!X20","v":0},{"$f":"'Marks Entry'!Y20","v":0},{"$f":"'Marks Entry'!Z20","v":0},{"$f":"'Marks Entry'!AA20","v":0},{"$f":"'Marks Entry'!AB20","v":0},{"$f":"'Marks Entry'!AC20","v":0},{"$f":"'Marks Entry'!AD20","v":""},{"$f":"'Marks Entry'!AE20","v":0},{"$f":"'Marks Entry'!AF20","v":0},{"$f":"'Marks Entry'!AG20","v":0},{"$f":"'Marks Entry'!AH20","v":0},{"$f":"'Marks Entry'!AI20","v":0},{"$f":"'Marks Entry'!AJ20","v":0},{"$f":"'Marks Entry'!AK20","v":0},{"$f":"'Marks Entry'!AL20","v":0},{"$f":"'Marks Entry'!AM20","v":0},{"$f":"'Marks Entry'!AN20","v":0},{"$f":"'Marks Entry'!AO20","v":0},{"$f":"'Marks Entry'!AP20","v":0},{"$f":"'Marks Entry'!AQ20","v":0},{"$f":"'Marks Entry'!AR20","v":0},{"$f":"'Marks Entry'!AS20","v":0},{"$f":"'Marks Entry'!AT20","v":0},{"$f":"'Marks Entry'!AU20","v":0},{"$f":"'Marks Entry'!AV20","v":0},{"$f":"'Marks Entry'!AW20","v":0},{"$f":"'Marks Entry'!AX20","v":"E"},{"$f":"'Marks Entry'!AY20","v":0},{"$f":"'Marks Entry'!AZ20","v":0},{"$f":"'Marks Entry'!BA20","v":0},{"$f":"'Marks Entry'!BB20","v":0},{"$f":"'Marks Entry'!BC20","v":0},{"$f":"'Marks Entry'!BD20","v":0},{"$f":"'Marks Entry'!BE20","v":0},{"$f":"'Marks Entry'!BF20","v":0},{"$f":"'Marks Entry'!BG20","v":0},{"$f":"'Marks Entry'!BH20","v":0},{"$f":"'Marks Entry'!BI20","v":0},{"$f":"'Marks Entry'!BJ20","v":0},{"$f":"'Marks Entry'!BK20","v":0},{"$f":"'Marks Entry'!BL20","v":0},{"$f":"'Marks Entry'!BM20","v":0},{"$f":"'Marks Entry'!BN20","v":0},{"$f":"'Marks Entry'!BO20","v":0},{"$f":"'Marks Entry'!BP20","v":0},{"$f":"'Marks Entry'!BQ20","v":0},{"$f":"'Marks Entry'!BR20","v":"E"},{"$f":"'Marks Entry'!BS20","v":0},{"$f":"'Marks Entry'!BT20","v":0},{"$f":"'Marks Entry'!BU20","v":0},{"$f":"'Marks Entry'!BV20","v":0},{"$f":"'Marks Entry'!BW20","v":0},{"$f":"'Marks Entry'!BX20","v":0},{"$f":"'Marks Entry'!BY20","v":0},{"$f":"'Marks Entry'!BZ20","v":0},{"$f":"'Marks Entry'!CA20","v":0},{"$f":"'Marks Entry'!CB20","v":0},{"$f":"'Marks Entry'!CC20","v":0},{"$f":"'Marks Entry'!CD20","v":0},{"$f":"'Marks Entry'!CE20","v":0},{"$f":"'Marks Entry'!CF20","v":0},{"$f":"'Marks Entry'!CG20","v":0},{"$f":"'Marks Entry'!CH20","v":0},{"$f":"'Marks Entry'!CI20","v":0},{"$f":"'Marks Entry'!CJ20","v":0},{"$f":"'Marks Entry'!CK20","v":0},{"$f":"'Marks Entry'!CL20","v":"E"},{"$f":"'Marks Entry'!CM20","v":0},{"$f":"'Marks Entry'!CN20","v":0},{"$f":"'Marks Entry'!CO20","v":0},{"$f":"'Marks Entry'!CP20","v":0},{"$f":"'Marks Entry'!CQ20","v":0},{"$f":"'Marks Entry'!CR20","v":0},{"$f":"'Marks Entry'!CS20","v":0},{"$f":"'Marks Entry'!CT20","v":0},{"$f":"'Marks Entry'!CU20","v":0},{"$f":"'Marks Entry'!CV20","v":0},{"$f":"'Marks Entry'!CW20","v":0},{"$f":"'Marks Entry'!CX20","v":0},{"$f":"'Marks Entry'!CY20","v":0},{"$f":"'Marks Entry'!CZ20","v":0},{"$f":"'Marks Entry'!DA20","v":0},{"$f":"'Marks Entry'!DB20","v":0},{"$f":"'Marks Entry'!DC20","v":0},{"$f":"'Marks Entry'!DD20","v":0},{"$f":"'Marks Entry'!DE20","v":0},{"$f":"'Marks Entry'!DF20","v":"E"},{"$f":"'Marks Entry'!DG20","v":0},{"$f":"'Marks Entry'!DH20","v":0},{"$f":"'Marks Entry'!DI20","v":0},{"$f":"'Marks Entry'!DJ20","v":0},{"$f":"'Marks Entry'!DK20","v":0},{"$f":"'Marks Entry'!DL20","v":0},{"$f":"'Marks Entry'!DM20","v":0},{"$f":"'Marks Entry'!DN20","v":0},{"$f":"'Marks Entry'!DO20","v":0},{"$f":"'Marks Entry'!DP20","v":0},{"$f":"'Marks Entry'!DQ20","v":0},{"$f":"'Marks Entry'!DR20","v":0},{"$f":"'Marks Entry'!DS20","v":0},{"$f":"'Marks Entry'!DT20","v":0},{"$f":"'Marks Entry'!DU20","v":0},{"$f":"'Marks Entry'!DV20","v":0},{"$f":"'Marks Entry'!DW20","v":0},{"$f":"'Marks Entry'!DX20","v":0},{"$f":"'Marks Entry'!DY20","v":0},{"$f":"'Marks Entry'!DZ20","v":"E"},{"$f":"'Marks Entry'!EA20","v":0},{"$f":"'Marks Entry'!EB20","v":0},{"$f":"'Marks Entry'!EC20","v":0},{"$f":"'Marks Entry'!ED20","v":0},{"$f":"'Marks Entry'!EE20","v":0},{"$f":"'Marks Entry'!EF20","v":0},{"$f":"'Marks Entry'!EG20","v":0},{"$f":"'Marks Entry'!EJ20","v":0},{"$f":"'Marks Entry'!EK20","v":0},{"$f":"'Marks Entry'!EL20","v":0},{"$f":"'Marks Entry'!EM20","v":0},{"$f":"'Marks Entry'!EN20","v":0},{"$f":"'Marks Entry'!EO20","v":0},{"$f":"'Marks Entry'!EP20","v":0},{"$f":"'Marks Entry'!ES20","v":0},{"$f":"'Marks Entry'!ET20","v":0},{"$f":"'Marks Entry'!EU20","v":0},{"$f":"'Marks Entry'!EV20","v":0},{"$f":"'Marks Entry'!EW20","v":0},{"$f":"'Marks Entry'!EX20","v":0},{"$f":"'Marks Entry'!EY20","v":0},{"$f":"'Marks Entry'!FB20","v":0},{"$f":"'Marks Entry'!FC20","v":0},{"$f":"'Marks Entry'!FD20","v":0},{"$f":"'Marks Entry'!FE20","v":""},{"$f":"'Marks Entry'!FF20","v":0},{"$f":"'Marks Entry'!FG20","v":0},{"$f":"'Marks Entry'!FH20","v":""},{"$f":"IF(OR('Marks Entry'!FI20=\"First\",'Marks Entry'!FI20=\"Second\",'Marks Entry'!FI20=\"Third\"),'Marks Entry'!FI20,\"\")","v":""},{"$f":"'Marks Entry'!FJ20","v":""},{"$f":"'Marks Entry'!FK20","v":""},{"$f":"'Marks Entry'!FL20","v":""},{"$f":"'Marks Entry'!FM20","v":""},{"$f":"'Marks Entry'!FO20","v":0}]
[null,0,{"$f":"'Marks Entry'!D21","v":0},{"$f":"'Marks Entry'!E21","v":0},{"$f":"'Marks Entry'!F21","v":0},{"$f":"'Marks Entry'!G21","v":0},{"$f":"'Marks Entry'!H21","v":0},{"$f":"'Marks Entry'!I21","v":0},{"$f":"'Marks Entry'!J21","v":0},{"$f":"'Marks Entry'!K21","v":"00:00:00"},{"$f":"'Marks Entry'!L21","v":0},{"$f":"'Marks Entry'!M21","v":0},{"$f":"'Marks Entry'!N21","v":0},{"$f":"'Marks Entry'!O21","v":0},{"$f":"'Marks Entry'!P21","v":0},{"$f":"'Marks Entry'!Q21","v":0},{"$f":"'Marks Entry'!R21","v":0},{"$f":"'Marks Entry'!S21","v":0},{"$f":"'Marks Entry'!T21","v":0},{"$f":"'Marks Entry'!U21","v":0},{"$f":"'Marks Entry'!V21","v":0},{"$f":"'Marks Entry'!W21","v":0},{"$f":"'Marks Entry'!X21","v":0},{"$f":"'Marks Entry'!Y21","v":0},{"$f":"'Marks Entry'!Z21","v":0},{"$f":"'Marks Entry'!AA21","v":0},{"$f":"'Marks Entry'!AB21","v":0},{"$f":"'Marks Entry'!AC21","v":0},{"$f":"'Marks Entry'!AD21","v":""},{"$f":"'Marks Entry'!AE21","v":0},{"$f":"'Marks Entry'!AF21","v":0},{"$f":"'Marks Entry'!AG21","v":0},{"$f":"'Marks Entry'!AH21","v":0},{"$f":"'Marks Entry'!AI21","v":0},{"$f":"'Marks Entry'!AJ21","v":0},{"$f":"'Marks Entry'!AK21","v":0},{"$f":"'Marks Entry'!AL21","v":0},{"$f":"'Marks Entry'!AM21","v":0},{"$f":"'Marks Entry'!AN21","v":0},{"$f":"'Marks Entry'!AO21","v":0},{"$f":"'Marks Entry'!AP21","v":0},{"$f":"'Marks Entry'!AQ21","v":0},{"$f":"'Marks Entry'!AR21","v":0},{"$f":"'Marks Entry'!AS21","v":0},{"$f":"'Marks Entry'!AT21","v":0},{"$f":"'Marks Entry'!AU21","v":0},{"$f":"'Marks Entry'!AV21","v":0},{"$f":"'Marks Entry'!AW21","v":0},{"$f":"'Marks Entry'!AX21","v":"E"},{"$f":"'Marks Entry'!AY21","v":0},{"$f":"'Marks Entry'!AZ21","v":0},{"$f":"'Marks Entry'!BA21","v":0},{"$f":"'Marks Entry'!BB21","v":0},{"$f":"'Marks Entry'!BC21","v":0},{"$f":"'Marks Entry'!BD21","v":0},{"$f":"'Marks Entry'!BE21","v":0},{"$f":"'Marks Entry'!BF21","v":0},{"$f":"'Marks Entry'!BG21","v":0},{"$f":"'Marks Entry'!BH21","v":0},{"$f":"'Marks Entry'!BI21","v":0},{"$f":"'Marks Entry'!BJ21","v":0},{"$f":"'Marks Entry'!BK21","v":0},{"$f":"'Marks Entry'!BL21","v":0},{"$f":"'Marks Entry'!BM21","v":0},{"$f":"'Marks Entry'!BN21","v":0},{"$f":"'Marks Entry'!BO21","v":0},{"$f":"'Marks Entry'!BP21","v":0},{"$f":"'Marks Entry'!BQ21","v":0},{"$f":"'Marks Entry'!BR21","v":"E"},{"$f":"'Marks Entry'!BS21","v":0},{"$f":"'Marks Entry'!BT21","v":0},{"$f":"'Marks Entry'!BU21","v":0},{"$f":"'Marks Entry'!BV21","v":0},{"$f":"'Marks Entry'!BW21","v":0},{"$f":"'Marks Entry'!BX21","v":0},{"$f":"'Marks Entry'!BY21","v":0},{"$f":"'Marks Entry'!BZ21","v":0},{"$f":"'Marks Entry'!CA21","v":0},{"$f":"'Marks Entry'!CB21","v":0},{"$f":"'Marks Entry'!CC21","v":0},{"$f":"'Marks Entry'!CD21","v":0},{"$f":"'Marks Entry'!CE21","v":0},{"$f":"'Marks Entry'!CF21","v":0},{"$f":"'Marks Entry'!CG21","v":0},{"$f":"'Marks Entry'!CH21","v":0},{"$f":"'Marks Entry'!CI21","v":0},{"$f":"'Marks Entry'!CJ21","v":0},{"$f":"'Marks Entry'!CK21","v":0},{"$f":"'Marks Entry'!CL21","v":"E"},{"$f":"'Marks Entry'!CM21","v":0},{"$f":"'Marks Entry'!CN21","v":0},{"$f":"'Marks Entry'!CO21","v":0},{"$f":"'Marks Entry'!CP21","v":0},{"$f":"'Marks Entry'!CQ21","v":0},{"$f":"'Marks Entry'!CR21","v":0},{"$f":"'Marks Entry'!CS21","v":0},{"$f":"'Marks Entry'!CT21","v":0},{"$f":"'Marks Entry'!CU21","v":0},{"$f":"'Marks Entry'!CV21","v":0},{"$f":"'Marks Entry'!CW21","v":0},{"$f":"'Marks Entry'!CX21","v":0},{"$f":"'Marks Entry'!CY21","v":0},{"$f":"'Marks Entry'!CZ21","v":0},{"$f":"'Marks Entry'!DA21","v":0},{"$f":"'Marks Entry'!DB21","v":0},{"$f":"'Marks Entry'!DC21","v":0},{"$f":"'Marks Entry'!DD21","v":0},{"$f":"'Marks Entry'!DE21","v":0},{"$f":"'Marks Entry'!DF21","v":"E"},{"$f":"'Marks Entry'!DG21","v":0},{"$f":"'Marks Entry'!DH21","v":0},{"$f":"'Marks Entry'!DI21","v":0},{"$f":"'Marks Entry'!DJ21","v":0},{"$f":"'Marks Entry'!DK21","v":0},{"$f":"'Marks Entry'!DL21","v":0},{"$f":"'Marks Entry'!DM21","v":0},{"$f":"'Marks Entry'!DN21","v":0},{"$f":"'Marks Entry'!DO21","v":0},{"$f":"'Marks Entry'!DP21","v":0},{"$f":"'Marks Entry'!DQ21","v":0},{"$f":"'Marks Entry'!DR21","v":0},{"$f":"'Marks Entry'!DS21","v":0},{"$f":"'Marks Entry'!DT21","v":0},{"$f":"'Marks Entry'!DU21","v":0},{"$f":"'Marks Entry'!DV21","v":0},{"$f":"'Marks Entry'!DW21","v":0},{"$f":"'Marks Entry'!DX21","v":0},{"$f":"'Marks Entry'!DY21","v":0},{"$f":"'Marks Entry'!DZ21","v":"E"},{"$f":"'Marks Entry'!EA21","v":0},{"$f":"'Marks Entry'!EB21","v":0},{"$f":"'Marks Entry'!EC21","v":0},{"$f":"'Marks Entry'!ED21","v":0},{"$f":"'Marks Entry'!EE21","v":0},{"$f":"'Marks Entry'!EF21","v":0},{"$f":"'Marks Entry'!EG21","v":0},{"$f":"'Marks Entry'!EJ21","v":0},{"$f":"'Marks Entry'!EK21","v":0},{"$f":"'Marks Entry'!EL21","v":0},{"$f":"'Marks Entry'!EM21","v":0},{"$f":"'Marks Entry'!EN21","v":0},{"$f":"'Marks Entry'!EO21","v":0},{"$f":"'Marks Entry'!EP21","v":0},{"$f":"'Marks Entry'!ES21","v":0},{"$f":"'Marks Entry'!ET21","v":0},{"$f":"'Marks Entry'!EU21","v":0},{"$f":"'Marks Entry'!EV21","v":0},{"$f":"'Marks Entry'!EW21","v":0},{"$f":"'Marks Entry'!EX21","v":0},{"$f":"'Marks Entry'!EY21","v":0},{"$f":"'Marks Entry'!FB21","v":0},{"$f":"'Marks Entry'!FC21","v":0},{"$f":"'Marks Entry'!FD21","v":0},{"$f":"'Marks Entry'!FE21","v":""},{"$f":"'Marks Entry'!FF21","v":0},{"$f":"'Marks Entry'!FG21","v":0},{"$f":"'Marks Entry'!FH21","v":""},{"$f":"IF(OR('Marks Entry'!FI21=\"First\",'Marks Entry'!FI21=\"Second\",'Marks Entry'!FI21=\"Third\"),'Marks Entry'!FI21,\"\")","v":""},{"$f":"'Marks Entry'!FJ21","v":""},{"$f":"'Marks Entry'!FK21","v":""},{"$f":"'Marks Entry'!FL21","v":""},{"$f":"'Marks Entry'!FM21","v":""},{"$f":"'Marks Entry'!FO21","v":0}]
[null,0,{"$f":"'Marks Entry'!D22","v":0},{"$f":"'Marks Entry'!E22","v":0},{"$f":"'Marks Entry'!F22","v":0},{"$f":"'Marks Entry'!G22","v":0},{"$f":"'Marks Entry'!H22","v":0},{"$f":"'Marks Entry'!I22","v":0},{"$f":"'Marks Entry'!J22","v":0},{"$f":"'Marks Entry'!K22","v":"00:00:00"},{"$f":"'Marks Entry'!L22","v":0},{"$f":"'Marks Entry'!M22","v":0},{"$f":"'Marks Entry'!N22","v":0},{"$f":"'Marks Entry'!O22","v":0},{"$f":"'Marks Entry'!P22","v":0},{"$f":"'Marks Entry'!Q22","v":0},{"$f":"'Marks Entry'!R22","v":0},{"$f":"'Marks Entry'!S22","v":0},{"$f":"'Marks Entry'!T22","v":0},{"$f":"'Marks Entry'!U22","v":0},{"$f":"'Marks Entry'!V22","v":0},{"$f":"'Marks Entry'!W22","v":0},{"$f":"'Marks Entry'!X22","v":0},{"$f":"'Marks Entry'!Y22","v":0},{"$f":"'Marks Entry'!Z22","v":0},{"$f":"'Marks Entry'!AA22","v":0},{"$f":"'Marks Entry'!AB22","v":0},{"$f":"'Marks Entry'!AC22","v":0},{"$f":"'Marks Entry'!AD22","v":""},{"$f":"'Marks Entry'!AE22","v":0},{"$f":"'Marks Entry'!AF22","v":0},{"$f":"'Marks Entry'!AG22","v":0},{"$f":"'Marks Entry'!AH22","v":0},{"$f":"'Marks Entry'!AI22","v":0},{"$f":"'Marks Entry'!AJ22","v":0},{"$f":"'Marks Entry'!AK22","v":0},{"$f":"'Marks Entry'!AL22","v":0},{"$f":"'Marks Entry'!AM22","v":0},{"$f":"'Marks Entry'!AN22","v":0},{"$f":"'Marks Entry'!AO22","v":0},{"$f":"'Marks Entry'!AP22","v":0},{"$f":"'Marks Entry'!AQ22","v":0},{"$f":"'Marks Entry'!AR22","v":0},{"$f":"'Marks Entry'!AS22","v":0},{"$f":"'Marks Entry'!AT22","v":0},{"$f":"'Marks Entry'!AU22","v":0},{"$f":"'Marks Entry'!AV22","v":0},{"$f":"'Marks Entry'!AW22","v":0},{"$f":"'Marks Entry'!AX22","v":"E"},{"$f":"'Marks Entry'!AY22","v":0},{"$f":"'Marks Entry'!AZ22","v":0},{"$f":"'Marks Entry'!BA22","v":0},{"$f":"'Marks Entry'!BB22","v":0},{"$f":"'Marks Entry'!BC22","v":0},{"$f":"'Marks Entry'!BD22","v":0},{"$f":"'Marks Entry'!BE22","v":0},{"$f":"'Marks Entry'!BF22","v":0},{"$f":"'Marks Entry'!BG22","v":0},{"$f":"'Marks Entry'!BH22","v":0},{"$f":"'Marks Entry'!BI22","v":0},{"$f":"'Marks Entry'!BJ22","v":0},{"$f":"'Marks Entry'!BK22","v":0},{"$f":"'Marks Entry'!BL22","v":0},{"$f":"'Marks Entry'!BM22","v":0},{"$f":"'Marks Entry'!BN22","v":0},{"$f":"'Marks Entry'!BO22","v":0},{"$f":"'Marks Entry'!BP22","v":0},{"$f":"'Marks Entry'!BQ22","v":0},{"$f":"'Marks Entry'!BR22","v":"E"},{"$f":"'Marks Entry'!BS22","v":0},{"$f":"'Marks Entry'!BT22","v":0},{"$f":"'Marks Entry'!BU22","v":0},{"$f":"'Marks Entry'!BV22","v":0},{"$f":"'Marks Entry'!BW22","v":0},{"$f":"'Marks Entry'!BX22","v":0},{"$f":"'Marks Entry'!BY22","v":0},{"$f":"'Marks Entry'!BZ22","v":0},{"$f":"'Marks Entry'!CA22","v":0},{"$f":"'Marks Entry'!CB22","v":0},{"$f":"'Marks Entry'!CC22","v":0},{"$f":"'Marks Entry'!CD22","v":0},{"$f":"'Marks Entry'!CE22","v":0},{"$f":"'Marks Entry'!CF22","v":0},{"$f":"'Marks Entry'!CG22","v":0},{"$f":"'Marks Entry'!CH22","v":0},{"$f":"'Marks Entry'!CI22","v":0},{"$f":"'Marks Entry'!CJ22","v":0},{"$f":"'Marks Entry'!CK22","v":0},{"$f":"'Marks Entry'!CL22","v":"E"},{"$f":"'Marks Entry'!CM22","v":0},{"$f":"'Marks Entry'!CN22","v":0},{"$f":"'Marks Entry'!CO22","v":0},{"$f":"'Marks Entry'!CP22","v":0},{"$f":"'Marks Entry'!CQ22","v":0},{"$f":"'Marks Entry'!CR22","v":0},{"$f":"'Marks Entry'!CS22","v":0},{"$f":"'Marks Entry'!CT22","v":0},{"$f":"'Marks Entry'!CU22","v":0},{"$f":"'Marks Entry'!CV22","v":0},{"$f":"'Marks Entry'!CW22","v":0},{"$f":"'Marks Entry'!CX22","v":0},{"$f":"'Marks Entry'!CY22","v":0},{"$f":"'Marks Entry'!CZ22","v":0},{"$f":"'Marks Entry'!DA22","v":0},{"$f":"'Marks Entry'!DB22","v":0},{"$f":"'Marks Entry'!DC22","v":0},{"$f":"'Marks Entry'!DD22","v":0},{"$f":"'Marks Entry'!DE22","v":0},{"$f":"'Marks Entry'!DF22","v":"E"},{"$f":"'Marks Entry'!DG22","v":0},{"$f":"'Marks Entry'!DH22","v":0},{"$f":"'Marks Entry'!DI22","v":0},{"$f":"'Marks Entry'!DJ22","v":0},{"$f":"'Marks Entry'!DK22","v":0},{"$f":"'Marks Entry'!DL22","v":0},{"$f":"'Marks Entry'!DM22","v":0},{"$f":"'Marks Entry'!DN22","v":0},{"$f":"'Marks Entry'!DO22","v":0},{"$f":"'Marks Entry'!DP22","v":0},{"$f":"'Marks Entry'!DQ22","v":0},{"$f":"'Marks Entry'!DR22","v":0},{"$f":"'Marks Entry'!DS22","v":0},{"$f":"'Marks Entry'!DT22","v":0},{"$f":"'Marks Entry'!DU22","v":0},{"$f":"'Marks Entry'!DV22","v":0},{"$f":"'Marks Entry'!DW22","v":0},{"$f":"'Marks Entry'!DX22","v":0},{"$f":"'Marks Entry'!DY22","v":0},{"$f":"'Marks Entry'!DZ22","v":"E"},{"$f":"'Marks Entry'!EA22","v":0},{"$f":"'Marks Entry'!EB22","v":0},{"$f":"'Marks Entry'!EC22","v":0},{"$f":"'Marks Entry'!ED22","v":0},{"$f":"'Marks Entry'!EE22","v":0},{"$f":"'Marks Entry'!EF22","v":0},{"$f":"'Marks Entry'!EG22","v":0},{"$f":"'Marks Entry'!EJ22","v":0},{"$f":"'Marks Entry'!EK22","v":0},{"$f":"'Marks Entry'!EL22","v":0},{"$f":"'Marks Entry'!EM22","v":0},{"$f":"'Marks Entry'!EN22","v":0},{"$f":"'Marks Entry'!EO22","v":0},{"$f":"'Marks Entry'!EP22","v":0},{"$f":"'Marks Entry'!ES22","v":0},{"$f":"'Marks Entry'!ET22","v":0},{"$f":"'Marks Entry'!EU22","v":0},{"$f":"'Marks Entry'!EV22","v":0},{"$f":"'Marks Entry'!EW22","v":0},{"$f":"'Marks Entry'!EX22","v":0},{"$f":"'Marks Entry'!EY22","v":0},{"$f":"'Marks Entry'!FB22","v":0},{"$f":"'Marks Entry'!FC22","v":0},{"$f":"'Marks Entry'!FD22","v":0},{"$f":"'Marks Entry'!FE22","v":""},{"$f":"'Marks Entry'!FF22","v":0},{"$f":"'Marks Entry'!FG22","v":0},{"$f":"'Marks Entry'!FH22","v":""},{"$f":"IF(OR('Marks Entry'!FI22=\"First\",'Marks Entry'!FI22=\"Second\",'Marks Entry'!FI22=\"Third\"),'Marks Entry'!FI22,\"\")","v":""},{"$f":"'Marks Entry'!FJ22","v":""},{"$f":"'Marks Entry'!FK22","v":""},{"$f":"'Marks Entry'!FL22","v":""},{"$f":"'Marks Entry'!FM22","v":""},{"$f":"'Marks Entry'!FO22","v":0}]
[null,0,{"$f":"'Marks Entry'!D23","v":0},{"$f":"'Marks Entry'!E23","v":0},{"$f":"'Marks Entry'!F23","v":0},{"$f":"'Marks Entry'!G23","v":0},{"$f":"'Marks Entry'!H23","v":0},{"$f":"'Marks Entry'!I23","v":0},{"$f":"'Marks Entry'!J23","v":0},{"$f":"'Marks Entry'!K23","v":"00:00:00"},{"$f":"'Marks Entry'!L23","v":0},{"$f":"'Marks Entry'!M23","v":0},{"$f":"'Marks Entry'!N23","v":0},{"$f":"'Marks Entry'!O23","v":0},{"$f":"'Marks Entry'!P23","v":0},{"$f":"'Marks Entry'!Q23","v":0},{"$f":"'Marks Entry'!R23","v":0},{"$f":"'Marks Entry'!S23","v":0},{"$f":"'Marks Entry'!T23","v":0},{"$f":"'Marks Entry'!U23","v":0},{"$f":"'Marks Entry'!V23","v":0},{"$f":"'Marks Entry'!W23","v":0},{"$f":"'Marks Entry'!X23","v":0},{"$f":"'Marks Entry'!Y23","v":0},{"$f":"'Marks Entry'!Z23","v":0},{"$f":"'Marks Entry'!AA23","v":0},{"$f":"'Marks Entry'!AB23","v":0},{"$f":"'Marks Entry'!AC23","v":0},{"$f":"'Marks Entry'!AD23","v":""},{"$f":"'Marks Entry'!AE23","v":0},{"$f":"'Marks Entry'!AF23","v":0},{"$f":"'Marks Entry'!AG23","v":0},{"$f":"'Marks Entry'!AH23","v":0},{"$f":"'Marks Entry'!AI23","v":0},{"$f":"'Marks Entry'!AJ23","v":0},{"$f":"'Marks Entry'!AK23","v":0},{"$f":"'Marks Entry'!AL23","v":0},{"$f":"'Marks Entry'!AM23","v":0},{"$f":"'Marks Entry'!AN23","v":0},{"$f":"'Marks Entry'!AO23","v":0},{"$f":"'Marks Entry'!AP23","v":0},{"$f":"'Marks Entry'!AQ23","v":0},{"$f":"'Marks Entry'!AR23","v":0},{"$f":"'Marks Entry'!AS23","v":0},{"$f":"'Marks Entry'!AT23","v":0},{"$f":"'Marks Entry'!AU23","v":0},{"$f":"'Marks Entry'!AV23","v":0},{"$f":"'Marks Entry'!AW23","v":0},{"$f":"'Marks Entry'!AX23","v":"E"},{"$f":"'Marks Entry'!AY23","v":0},{"$f":"'Marks Entry'!AZ23","v":0},{"$f":"'Marks Entry'!BA23","v":0},{"$f":"'Marks Entry'!BB23","v":0},{"$f":"'Marks Entry'!BC23","v":0},{"$f":"'Marks Entry'!BD23","v":0},{"$f":"'Marks Entry'!BE23","v":0},{"$f":"'Marks Entry'!BF23","v":0},{"$f":"'Marks Entry'!BG23","v":0},{"$f":"'Marks Entry'!BH23","v":0},{"$f":"'Marks Entry'!BI23","v":0},{"$f":"'Marks Entry'!BJ23","v":0},{"$f":"'Marks Entry'!BK23","v":0},{"$f":"'Marks Entry'!BL23","v":0},{"$f":"'Marks Entry'!BM23","v":0},{"$f":"'Marks Entry'!BN23","v":0},{"$f":"'Marks Entry'!BO23","v":0},{"$f":"'Marks Entry'!BP23","v":0},{"$f":"'Marks Entry'!BQ23","v":0},{"$f":"'Marks Entry'!BR23","v":"E"},{"$f":"'Marks Entry'!BS23","v":0},{"$f":"'Marks Entry'!BT23","v":0},{"$f":"'Marks Entry'!BU23","v":0},{"$f":"'Marks Entry'!BV23","v":0},{"$f":"'Marks Entry'!BW23","v":0},{"$f":"'Marks Entry'!BX23","v":0},{"$f":"'Marks Entry'!BY23","v":0},{"$f":"'Marks Entry'!BZ23","v":0},{"$f":"'Marks Entry'!CA23","v":0},{"$f":"'Marks Entry'!CB23","v":0},{"$f":"'Marks Entry'!CC23","v":0},{"$f":"'Marks Entry'!CD23","v":0},{"$f":"'Marks Entry'!CE23","v":0},{"$f":"'Marks Entry'!CF23","v":0},{"$f":"'Marks Entry'!CG23","v":0},{"$f":"'Marks Entry'!CH23","v":0},{"$f":"'Marks Entry'!CI23","v":0},{"$f":"'Marks Entry'!CJ23","v":0},{"$f":"'Marks Entry'!CK23","v":0},{"$f":"'Marks Entry'!CL23","v":"E"},{"$f":"'Marks Entry'!CM23","v":0},{"$f":"'Marks Entry'!CN23","v":0},{"$f":"'Marks Entry'!CO23","v":0},{"$f":"'Marks Entry'!CP23","v":0},{"$f":"'Marks Entry'!CQ23","v":0},{"$f":"'Marks Entry'!CR23","v":0},{"$f":"'Marks Entry'!CS23","v":0},{"$f":"'Marks Entry'!CT23","v":0},{"$f":"'Marks Entry'!CU23","v":0},{"$f":"'Marks Entry'!CV23","v":0},{"$f":"'Marks Entry'!CW23","v":0},{"$f":"'Marks Entry'!CX23","v":0},{"$f":"'Marks Entry'!CY23","v":0},{"$f":"'Marks Entry'!CZ23","v":0},{"$f":"'Marks Entry'!DA23","v":0},{"$f":"'Marks Entry'!DB23","v":0},{"$f":"'Marks Entry'!DC23","v":0},{"$f":"'Marks Entry'!DD23","v":0},{"$f":"'Marks Entry'!DE23","v":0},{"$f":"'Marks Entry'!DF23","v":"E"},{"$f":"'Marks Entry'!DG23","v":0},{"$f":"'Marks Entry'!DH23","v":0},{"$f":"'Marks Entry'!DI23","v":0},{"$f":"'Marks Entry'!DJ23","v":0},{"$f":"'Marks Entry'!DK23","v":0},{"$f":"'Marks Entry'!DL23","v":0},{"$f":"'Marks Entry'!DM23","v":0},{"$f":"'Marks Entry'!DN23","v":0},{"$f":"'Marks Entry'!DO23","v":0},{"$f":"'Marks Entry'!DP23","v":0},{"$f":"'Marks Entry'!DQ23","v":0},{"$f":"'Marks Entry'!DR23","v":0},{"$f":"'Marks Entry'!DS23","v":0},{"$f":"'Marks Entry'!DT23","v":0},{"$f":"'Marks Entry'!DU23","v":0},{"$f":"'Marks Entry'!DV23","v":0},{"$f":"'Marks Entry'!DW23","v":0},{"$f":"'Marks Entry'!DX23","v":0},{"$f":"'Marks Entry'!DY23","v":0},{"$f":"'Marks Entry'!DZ23","v":"E"},{"$f":"'Marks Entry'!EA23","v":0},{"$f":"'Marks Entry'!EB23","v":0},{"$f":"'Marks Entry'!EC23","v":0},{"$f":"'Marks Entry'!ED23","v":0},{"$f":"'Marks Entry'!EE23","v":0},{"$f":"'Marks Entry'!EF23","v":0},{"$f":"'Marks Entry'!EG23","v":0},{"$f":"'Marks Entry'!EJ23","v":0},{"$f":"'Marks Entry'!EK23","v":0},{"$f":"'Marks Entry'!EL23","v":0},{"$f":"'Marks Entry'!EM23","v":0},{"$f":"'Marks Entry'!EN23","v":0},{"$f":"'Marks Entry'!EO23","v":0},{"$f":"'Marks Entry'!EP23","v":0},{"$f":"'Marks Entry'!ES23","v":0},{"$f":"'Marks Entry'!ET23","v":0},{"$f":"'Marks Entry'!EU23","v":0},{"$f":"'Marks Entry'!EV23","v":0},{"$f":"'Marks Entry'!EW23","v":0},{"$f":"'Marks Entry'!EX23","v":0},{"$f":"'Marks Entry'!EY23","v":0},{"$f":"'Marks Entry'!FB23","v":0},{"$f":"'Marks Entry'!FC23","v":0},{"$f":"'Marks Entry'!FD23","v":0},{"$f":"'Marks Entry'!FE23","v":""},{"$f":"'Marks Entry'!FF23","v":0},{"$f":"'Marks Entry'!FG23","v":0},{"$f":"'Marks Entry'!FH23","v":""},{"$f":"IF(OR('Marks Entry'!FI23=\"First\",'Marks Entry'!FI23=\"Second\",'Marks Entry'!FI23=\"Third\"),'Marks Entry'!FI23,\"\")","v":""},{"$f":"'Marks Entry'!FJ23","v":""},{"$f":"'Marks Entry'!FK23","v":""},{"$f":"'Marks Entry'!FL23","v":""},{"$f":"'Marks Entry'!FM23","v":""},{"$f":"'Marks Entry'!FO23","v":0}]
[null,0,{"$f":"'Marks Entry'!D24","v":0},{"$f":"'Marks Entry'!E24","v":0},{"$f":"'Marks Entry'!F24","v":0},{"$f":"'Marks Entry'!G24","v":0},{"$f":"'Marks Entry'!H24","v":0},{"$f":"'Marks Entry'!I24","v":0},{"$f":"'Marks Entry'!J24","v":0},{"$f":"'Marks Entry'!K24","v":"00:00:00"},{"$f":"'Marks Entry'!L24","v":0},{"$f":"'Marks Entry'!M24","v":0},{"$f":"'Marks Entry'!N24","v":0},{"$f":"'Marks Entry'!O24","v":0},{"$f":"'Marks Entry'!P24","v":0},{"$f":"'Marks Entry'!Q24","v":0},{"$f":"'Marks Entry'!R24","v":0},{"$f":"'Marks Entry'!S24","v":0},{"$f":"'Marks Entry'!T24","v":0},{"$f":"'Marks Entry'!U24","v":0},{"$f":"'Marks Entry'!V24","v":0},{"$f":"'Marks Entry'!W24","v":0},{"$f":"'Marks Entry'!X24","v":0},{"$f":"'Marks Entry'!Y24","v":0},{"$f":"'Marks Entry'!Z24","v":0},{"$f":"'Marks Entry'!AA24","v":0},{"$f":"'Marks Entry'!AB24","v":0},{"$f":"'Marks Entry'!AC24","v":0},{"$f":"'Marks Entry'!AD24","v":""},{"$f":"'Marks Entry'!AE24","v":0},{"$f":"'Marks Entry'!AF24","v":0},{"$f":"'Marks Entry'!AG24","v":0},{"$f":"'Marks Entry'!AH24","v":0},{"$f":"'Marks Entry'!AI24","v":0},{"$f":"'Marks Entry'!AJ24","v":0},{"$f":"'Marks Entry'!AK24","v":0},{"$f":"'Marks Entry'!AL24","v":0},{"$f":"'Marks Entry'!AM24","v":0},{"$f":"'Marks Entry'!AN24","v":0},{"$f":"'Marks Entry'!AO24","v":0},{"$f":"'Marks Entry'!AP24","v":0},{"$f":"'Marks Entry'!AQ24","v":0},{"$f":"'Marks Entry'!AR24","v":0},{"$f":"'Marks Entry'!AS24","v":0},{"$f":"'Marks Entry'!AT24","v":0},{"$f":"'Marks Entry'!AU24","v":0},{"$f":"'Marks Entry'!AV24","v":0},{"$f":"'Marks Entry'!AW24","v":0},{"$f":"'Marks Entry'!AX24","v":"E"},{"$f":"'Marks Entry'!AY24","v":0},{"$f":"'Marks Entry'!AZ24","v":0},{"$f":"'Marks Entry'!BA24","v":0},{"$f":"'Marks Entry'!BB24","v":0},{"$f":"'Marks Entry'!BC24","v":0},{"$f":"'Marks Entry'!BD24","v":0},{"$f":"'Marks Entry'!BE24","v":0},{"$f":"'Marks Entry'!BF24","v":0},{"$f":"'Marks Entry'!BG24","v":0},{"$f":"'Marks Entry'!BH24","v":0},{"$f":"'Marks Entry'!BI24","v":0},{"$f":"'Marks Entry'!BJ24","v":0},{"$f":"'Marks Entry'!BK24","v":0},{"$f":"'Marks Entry'!BL24","v":0},{"$f":"'Marks Entry'!BM24","v":0},{"$f":"'Marks Entry'!BN24","v":0},{"$f":"'Marks Entry'!BO24","v":0},{"$f":"'Marks Entry'!BP24","v":0},{"$f":"'Marks Entry'!BQ24","v":0},{"$f":"'Marks Entry'!BR24","v":"E"},{"$f":"'Marks Entry'!BS24","v":0},{"$f":"'Marks Entry'!BT24","v":0},{"$f":"'Marks Entry'!BU24","v":0},{"$f":"'Marks Entry'!BV24","v":0},{"$f":"'Marks Entry'!BW24","v":0},{"$f":"'Marks Entry'!BX24","v":0},{"$f":"'Marks Entry'!BY24","v":0},{"$f":"'Marks Entry'!BZ24","v":0},{"$f":"'Marks Entry'!CA24","v":0},{"$f":"'Marks Entry'!CB24","v":0},{"$f":"'Marks Entry'!CC24","v":0},{"$f":"'Marks Entry'!CD24","v":0},{"$f":"'Marks Entry'!CE24","v":0},{"$f":"'Marks Entry'!CF24","v":0},{"$f":"'Marks Entry'!CG24","v":0},{"$f":"'Marks Entry'!CH24","v":0},{"$f":"'Marks Entry'!CI24","v":0},{"$f":"'Marks Entry'!CJ24","v":0},{"$f":"'Marks Entry'!CK24","v":0},{"$f":"'Marks Entry'!CL24","v":"E"},{"$f":"'Marks Entry'!CM24","v":0},{"$f":"'Marks Entry'!CN24","v":0},{"$f":"'Marks Entry'!CO24","v":0},{"$f":"'Marks Entry'!CP24","v":0},{"$f":"'Marks Entry'!CQ24","v":0},{"$f":"'Marks Entry'!CR24","v":0},{"$f":"'Marks Entry'!CS24","v":0},{"$f":"'Marks Entry'!CT24","v":0},{"$f":"'Marks Entry'!CU24","v":0},{"$f":"'Marks Entry'!CV24","v":0},{"$f":"'Marks Entry'!CW24","v":0},{"$f":"'Marks Entry'!CX24","v":0},{"$f":"'Marks Entry'!CY24","v":0},{"$f":"'Marks Entry'!CZ24","v":0},{"$f":"'Marks Entry'!DA24","v":0},{"$f":"'Marks Entry'!DB24","v":0},{"$f":"'Marks Entry'!DC24","v":0},{"$f":"'Marks Entry'!DD24","v":0},{"$f":"'Marks Entry'!DE24","v":0},{"$f":"'Marks Entry'!DF24","v":"E"},{"$f":"'Marks Entry'!DG24","v":0},{"$f":"'Marks Entry'!DH24","v":0},{"$f":"'Marks Entry'!DI24","v":0},{"$f":"'Marks Entry'!DJ24","v":0},{"$f":"'Marks Entry'!DK24","v":0},{"$f":"'Marks Entry'!DL24","v":0},{"$f":"'Marks Entry'!DM24","v":0},{"$f":"'Marks Entry'!DN24","v":0},{"$f":"'Marks Entry'!DO24","v":0},{"$f":"'Marks Entry'!DP24","v":0},{"$f":"'Marks Entry'!DQ24","v":0},{"$f":"'Marks Entry'!DR24","v":0},{"$f":"'Marks Entry'!DS24","v":0},{"$f":"'Marks Entry'!DT24","v":0},{"$f":"'Marks Entry'!DU24","v":0},{"$f":"'Marks Entry'!DV24","v":0},{"$f":"'Marks Entry'!DW24","v":0},{"$f":"'Marks Entry'!DX24","v":0},{"$f":"'Marks Entry'!DY24","v":0},{"$f":"'Marks Entry'!DZ24","v":"E"},{"$f":"'Marks Entry'!EA24","v":0},{"$f":"'Marks Entry'!EB24","v":0},{"$f":"'Marks Entry'!EC24","v":0},{"$f":"'Marks Entry'!ED24","v":0},{"$f":"'Marks Entry'!EE24","v":0},{"$f":"'Marks Entry'!EF24","v":0},{"$f":"'Marks Entry'!EG24","v":0},{"$f":"'Marks Entry'!EJ24","v":0},{"$f":"'Marks Entry'!EK24","v":0},{"$f":"'Marks Entry'!EL24","v":0},{"$f":"'Marks Entry'!EM24","v":0},{"$f":"'Marks Entry'!EN24","v":0},{"$f":"'Marks Entry'!EO24","v":0},{"$f":"'Marks Entry'!EP24","v":0},{"$f":"'Marks Entry'!ES24","v":0},{"$f":"'Marks Entry'!ET24","v":0},{"$f":"'Marks Entry'!EU24","v":0},{"$f":"'Marks Entry'!EV24","v":0},{"$f":"'Marks Entry'!EW24","v":0},{"$f":"'Marks Entry'!EX24","v":0},{"$f":"'Marks Entry'!EY24","v":0},{"$f":"'Marks Entry'!FB24","v":0},{"$f":"'Marks Entry'!FC24","v":0},{"$f":"'Marks Entry'!FD24","v":0},{"$f":"'Marks Entry'!FE24","v":""},{"$f":"'Marks Entry'!FF24","v":0},{"$f":"'Marks Entry'!FG24","v":0},{"$f":"'Marks Entry'!FH24","v":""},{"$f":"IF(OR('Marks Entry'!FI24=\"First\",'Marks Entry'!FI24=\"Second\",'Marks Entry'!FI24=\"Third\"),'Marks Entry'!FI24,\"\")","v":""},{"$f":"'Marks Entry'!FJ24","v":""},{"$f":"'Marks Entry'!FK24","v":""},{"$f":"'Marks Entry'!FL24","v":""},{"$f":"'Marks Entry'!FM24","v":""},{"$f":"'Marks Entry'!FO24","v":0}]
[null,0,{"$f":"'Marks Entry'!D25","v":0},{"$f":"'Marks Entry'!E25","v":0},{"$f":"'Marks Entry'!F25","v":0},{"$f":"'Marks Entry'!G25","v":0},{"$f":"'Marks Entry'!H25","v":0},{"$f":"'Marks Entry'!I25","v":0},{"$f":"'Marks Entry'!J25","v":0},{"$f":"'Marks Entry'!K25","v":"00:00:00"},{"$f":"'Marks Entry'!L25","v":0},{"$f":"'Marks Entry'!M25","v":0},{"$f":"'Marks Entry'!N25","v":0},{"$f":"'Marks Entry'!O25","v":0},{"$f":"'Marks Entry'!P25","v":0},{"$f":"'Marks Entry'!Q25","v":0},{"$f":"'Marks Entry'!R25","v":0},{"$f":"'Marks Entry'!S25","v":0},{"$f":"'Marks Entry'!T25","v":0},{"$f":"'Marks Entry'!U25","v":0},{"$f":"'Marks Entry'!V25","v":0},{"$f":"'Marks Entry'!W25","v":0},{"$f":"'Marks Entry'!X25","v":0},{"$f":"'Marks Entry'!Y25","v":0},{"$f":"'Marks Entry'!Z25","v":0},{"$f":"'Marks Entry'!AA25","v":0},{"$f":"'Marks Entry'!AB25","v":0},{"$f":"'Marks Entry'!AC25","v":0},{"$f":"'Marks Entry'!AD25","v":""},{"$f":"'Marks Entry'!AE25","v":0},{"$f":"'Marks Entry'!AF25","v":0},{"$f":"'Marks Entry'!AG25","v":0},{"$f":"'Marks Entry'!AH25","v":0},{"$f":"'Marks Entry'!AI25","v":0},{"$f":"'Marks Entry'!AJ25","v":0},{"$f":"'Marks Entry'!AK25","v":0},{"$f":"'Marks Entry'!AL25","v":0},{"$f":"'Marks Entry'!AM25","v":0},{"$f":"'Marks Entry'!AN25","v":0},{"$f":"'Marks Entry'!AO25","v":0},{"$f":"'Marks Entry'!AP25","v":0},{"$f":"'Marks Entry'!AQ25","v":0},{"$f":"'Marks Entry'!AR25","v":0},{"$f":"'Marks Entry'!AS25","v":0},{"$f":"'Marks Entry'!AT25","v":0},{"$f":"'Marks Entry'!AU25","v":0},{"$f":"'Marks Entry'!AV25","v":0},{"$f":"'Marks Entry'!AW25","v":0},{"$f":"'Marks Entry'!AX25","v":"E"},{"$f":"'Marks Entry'!AY25","v":0},{"$f":"'Marks Entry'!AZ25","v":0},{"$f":"'Marks Entry'!BA25","v":0},{"$f":"'Marks Entry'!BB25","v":0},{"$f":"'Marks Entry'!BC25","v":0},{"$f":"'Marks Entry'!BD25","v":0},{"$f":"'Marks Entry'!BE25","v":0},{"$f":"'Marks Entry'!BF25","v":0},{"$f":"'Marks Entry'!BG25","v":0},{"$f":"'Marks Entry'!BH25","v":0},{"$f":"'Marks Entry'!BI25","v":0},{"$f":"'Marks Entry'!BJ25","v":0},{"$f":"'Marks Entry'!BK25","v":0},{"$f":"'Marks Entry'!BL25","v":0},{"$f":"'Marks Entry'!BM25","v":0},{"$f":"'Marks Entry'!BN25","v":0},{"$f":"'Marks Entry'!BO25","v":0},{"$f":"'Marks Entry'!BP25","v":0},{"$f":"'Marks Entry'!BQ25","v":0},{"$f":"'Marks Entry'!BR25","v":"E"},{"$f":"'Marks Entry'!BS25","v":0},{"$f":"'Marks Entry'!BT25","v":0},{"$f":"'Marks Entry'!BU25","v":0},{"$f":"'Marks Entry'!BV25","v":0},{"$f":"'Marks Entry'!BW25","v":0},{"$f":"'Marks Entry'!BX25","v":0},{"$f":"'Marks Entry'!BY25","v":0},{"$f":"'Marks Entry'!BZ25","v":0},{"$f":"'Marks Entry'!CA25","v":0},{"$f":"'Marks Entry'!CB25","v":0},{"$f":"'Marks Entry'!CC25","v":0},{"$f":"'Marks Entry'!CD25","v":0},{"$f":"'Marks Entry'!CE25","v":0},{"$f":"'Marks Entry'!CF25","v":0},{"$f":"'Marks Entry'!CG25","v":0},{"$f":"'Marks Entry'!CH25","v":0},{"$f":"'Marks Entry'!CI25","v":0},{"$f":"'Marks Entry'!CJ25","v":0},{"$f":"'Marks Entry'!CK25","v":0},{"$f":"'Marks Entry'!CL25","v":"E"},{"$f":"'Marks Entry'!CM25","v":0},{"$f":"'Marks Entry'!CN25","v":0},{"$f":"'Marks Entry'!CO25","v":0},{"$f":"'Marks Entry'!CP25","v":0},{"$f":"'Marks Entry'!CQ25","v":0},{"$f":"'Marks Entry'!CR25","v":0},{"$f":"'Marks Entry'!CS25","v":0},{"$f":"'Marks Entry'!CT25","v":0},{"$f":"'Marks Entry'!CU25","v":0},{"$f":"'Marks Entry'!CV25","v":0},{"$f":"'Marks Entry'!CW25","v":0},{"$f":"'Marks Entry'!CX25","v":0},{"$f":"'Marks Entry'!CY25","v":0},{"$f":"'Marks Entry'!CZ25","v":0},{"$f":"'Marks Entry'!DA25","v":0},{"$f":"'Marks Entry'!DB25","v":0},{"$f":"'Marks Entry'!DC25","v":0},{"$f":"'Marks Entry'!DD25","v":0},{"$f":"'Marks Entry'!DE25","v":0},{"$f":"'Marks Entry'!DF25","v":"E"},{"$f":"'Marks Entry'!DG25","v":0},{"$f":"'Marks Entry'!DH25","v":0},{"$f":"'Marks Entry'!DI25","v":0},{"$f":"'Marks Entry'!DJ25","v":0},{"$f":"'Marks Entry'!DK25","v":0},{"$f":"'Marks Entry'!DL25","v":0},{"$f":"'Marks Entry'!DM25","v":0},{"$f":"'Marks Entry'!DN25","v":0},{"$f":"'Marks Entry'!DO25","v":0},{"$f":"'Marks Entry'!DP25","v":0},{"$f":"'Marks Entry'!DQ25","v":0},{"$f":"'Marks Entry'!DR25","v":0},{"$f":"'Marks Entry'!DS25","v":0},{"$f":"'Marks Entry'!DT25","v":0},{"$f":"'Marks Entry'!DU25","v":0},{"$f":"'Marks Entry'!DV25","v":0},{"$f":"'Marks Entry'!DW25","v":0},{"$f":"'Marks Entry'!DX25","v":0},{"$f":"'Marks Entry'!DY25","v":0},{"$f":"'Marks Entry'!DZ25","v":"E"},{"$f":"'Marks Entry'!EA25","v":0},{"$f":"'Marks Entry'!EB25","v":0},{"$f":"'Marks Entry'!EC25","v":0},{"$f":"'Marks Entry'!ED25","v":0},{"$f":"'Marks Entry'!EE25","v":0},{"$f":"'Marks Entry'!EF25","v":0},{"$f":"'Marks Entry'!EG25","v":0},{"$f":"'Marks Entry'!EJ25","v":0},{"$f":"'Marks Entry'!EK25","v":0},{"$f":"'Marks Entry'!EL25","v":0},{"$f":"'Marks Entry'!EM25","v":0},{"$f":"'Marks Entry'!EN25","v":0},{"$f":"'Marks Entry'!EO25","v":0},{"$f":"'Marks Entry'!EP25","v":0},{"$f":"'Marks Entry'!ES25","v":0},{"$f":"'Marks Entry'!ET25","v":0},{"$f":"'Marks Entry'!EU25","v":0},{"$f":"'Marks Entry'!EV25","v":0},{"$f":"'Marks Entry'!EW25","v":0},{"$f":"'Marks Entry'!EX25","v":0},{"$f":"'Marks Entry'!EY25","v":0},{"$f":"'Marks Entry'!FB25","v":0},{"$f":"'Marks Entry'!FC25","v":0},{"$f":"'Marks Entry'!FD25","v":0},{"$f":"'Marks Entry'!FE25","v":""},{"$f":"'Marks Entry'!FF25","v":0},{"$f":"'Marks Entry'!FG25","v":0},{"$f":"'Marks Entry'!FH25","v":""},{"$f":"IF(OR('Marks Entry'!FI25=\"First\",'Marks Entry'!FI25=\"Second\",'Marks Entry'!FI25=\"Third\"),'Marks Entry'!FI25,\"\")","v":""},{"$f":"'Marks Entry'!FJ25","v":""},{"$f":"'Marks Entry'!FK25","v":""},{"$f":"'Marks Entry'!FL25","v":""},{"$f":"'Marks Entry'!FM25","v":""},{"$f":"'Marks Entry'!FO25","v":0}]
[null,0,{"$f":"'Marks Entry'!D26","v":0},{"$f":"'Marks Entry'!E26","v":0},{"$f":"'Marks Entry'!F26","v":0},{"$f":"'Marks Entry'!G26","v":0},{"$f":"'Marks Entry'!H26","v":0},{"$f":"'Marks Entry'!I26","v":0},{"$f":"'Marks Entry'!J26","v":0},{"$f":"'Marks Entry'!K26","v":"00:00:00"},{"$f":"'Marks Entry'!L26","v":0},{"$f":"'Marks Entry'!M26","v":0},{"$f":"'Marks Entry'!N26","v":0},{"$f":"'Marks Entry'!O26","v":0},{"$f":"'Marks Entry'!P26","v":0},{"$f":"'Marks Entry'!Q26","v":0},{"$f":"'Marks Entry'!R26","v":0},{"$f":"'Marks Entry'!S26","v":0},{"$f":"'Marks Entry'!T26","v":0},{"$f":"'Marks Entry'!U26","v":0},{"$f":"'Marks Entry'!V26","v":0},{"$f":"'Marks Entry'!W26","v":0},{"$f":"'Marks Entry'!X26","v":0},{"$f":"'Marks Entry'!Y26","v":0},{"$f":"'Marks Entry'!Z26","v":0},{"$f":"'Marks Entry'!AA26","v":0},{"$f":"'Marks Entry'!AB26","v":0},{"$f":"'Marks Entry'!AC26","v":0},{"$f":"'Marks Entry'!AD26","v":""},{"$f":"'Marks Entry'!AE26","v":0},{"$f":"'Marks Entry'!AF26","v":0},{"$f":"'Marks Entry'!AG26","v":0},{"$f":"'Marks Entry'!AH26","v":0},{"$f":"'Marks Entry'!AI26","v":0},{"$f":"'Marks Entry'!AJ26","v":0},{"$f":"'Marks Entry'!AK26","v":0},{"$f":"'Marks Entry'!AL26","v":0},{"$f":"'Marks Entry'!AM26","v":0},{"$f":"'Marks Entry'!AN26","v":0},{"$f":"'Marks Entry'!AO26","v":0},{"$f":"'Marks Entry'!AP26","v":0},{"$f":"'Marks Entry'!AQ26","v":0},{"$f":"'Marks Entry'!AR26","v":0},{"$f":"'Marks Entry'!AS26","v":0},{"$f":"'Marks Entry'!AT26","v":0},{"$f":"'Marks Entry'!AU26","v":0},{"$f":"'Marks Entry'!AV26","v":0},{"$f":"'Marks Entry'!AW26","v":0},{"$f":"'Marks Entry'!AX26","v":"E"},{"$f":"'Marks Entry'!AY26","v":0},{"$f":"'Marks Entry'!AZ26","v":0},{"$f":"'Marks Entry'!BA26","v":0},{"$f":"'Marks Entry'!BB26","v":0},{"$f":"'Marks Entry'!BC26","v":0},{"$f":"'Marks Entry'!BD26","v":0},{"$f":"'Marks Entry'!BE26","v":0},{"$f":"'Marks Entry'!BF26","v":0},{"$f":"'Marks Entry'!BG26","v":0},{"$f":"'Marks Entry'!BH26","v":0},{"$f":"'Marks Entry'!BI26","v":0},{"$f":"'Marks Entry'!BJ26","v":0},{"$f":"'Marks Entry'!BK26","v":0},{"$f":"'Marks Entry'!BL26","v":0},{"$f":"'Marks Entry'!BM26","v":0},{"$f":"'Marks Entry'!BN26","v":0},{"$f":"'Marks Entry'!BO26","v":0},{"$f":"'Marks Entry'!BP26","v":0},{"$f":"'Marks Entry'!BQ26","v":0},{"$f":"'Marks Entry'!BR26","v":"E"},{"$f":"'Marks Entry'!BS26","v":0},{"$f":"'Marks Entry'!BT26","v":0},{"$f":"'Marks Entry'!BU26","v":0},{"$f":"'Marks Entry'!BV26","v":0},{"$f":"'Marks Entry'!BW26","v":0},{"$f":"'Marks Entry'!BX26","v":0},{"$f":"'Marks Entry'!BY26","v":0},{"$f":"'Marks Entry'!BZ26","v":0},{"$f":"'Marks Entry'!CA26","v":0},{"$f":"'Marks Entry'!CB26","v":0},{"$f":"'Marks Entry'!CC26","v":0},{"$f":"'Marks Entry'!CD26","v":0},{"$f":"'Marks Entry'!CE26","v":0},{"$f":"'Marks Entry'!CF26","v":0},{"$f":"'Marks Entry'!CG26","v":0},{"$f":"'Marks Entry'!CH26","v":0},{"$f":"'Marks Entry'!CI26","v":0},{"$f":"'Marks Entry'!CJ26","v":0},{"$f":"'Marks Entry'!CK26","v":0},{"$f":"'Marks Entry'!CL26","v":"E"},{"$f":"'Marks Entry'!CM26","v":0},{"$f":"'Marks Entry'!CN26","v":0},{"$f":"'Marks Entry'!CO26","v":0},{"$f":"'Marks Entry'!CP26","v":0},{"$f":"'Marks Entry'!CQ26","v":0},{"$f":"'Marks Entry'!CR26","v":0},{"$f":"'Marks Entry'!CS26","v":0},{"$f":"'Marks Entry'!CT26","v":0},{"$f":"'Marks Entry'!CU26","v":0},{"$f":"'Marks Entry'!CV26","v":0},{"$f":"'Marks Entry'!CW26","v":0},{"$f":"'Marks Entry'!CX26","v":0},{"$f":"'Marks Entry'!CY26","v":0},{"$f":"'Marks Entry'!CZ26","v":0},{"$f":"'Marks Entry'!DA26","v":0},{"$f":"'Marks Entry'!DB26","v":0},{"$f":"'Marks Entry'!DC26","v":0},{"$f":"'Marks Entry'!DD26","v":0},{"$f":"'Marks Entry'!DE26","v":0},{"$f":"'Marks Entry'!DF26","v":"E"},{"$f":"'Marks Entry'!DG26","v":0},{"$f":"'Marks Entry'!DH26","v":0},{"$f":"'Marks Entry'!DI26","v":0},{"$f":"'Marks Entry'!DJ26","v":0},{"$f":"'Marks Entry'!DK26","v":0},{"$f":"'Marks Entry'!DL26","v":0},{"$f":"'Marks Entry'!DM26","v":0},{"$f":"'Marks Entry'!DN26","v":0},{"$f":"'Marks Entry'!DO26","v":0},{"$f":"'Marks Entry'!DP26","v":0},{"$f":"'Marks Entry'!DQ26","v":0},{"$f":"'Marks Entry'!DR26","v":0},{"$f":"'Marks Entry'!DS26","v":0},{"$f":"'Marks Entry'!DT26","v":0},{"$f":"'Marks Entry'!DU26","v":0},{"$f":"'Marks Entry'!DV26","v":0},{"$f":"'Marks Entry'!DW26","v":0},{"$f":"'Marks Entry'!DX26","v":0},{"$f":"'Marks Entry'!DY26","v":0},{"$f":"'Marks Entry'!DZ26","v":"E"},{"$f":"'Marks Entry'!EA26","v":0},{"$f":"'Marks Entry'!EB26","v":0},{"$f":"'Marks Entry'!EC26","v":0},{"$f":"'Marks Entry'!ED26","v":0},{"$f":"'Marks Entry'!EE26","v":0},{"$f":"'Marks Entry'!EF26","v":0},{"$f":"'Marks Entry'!EG26","v":0},{"$f":"'Marks Entry'!EJ26","v":0},{"$f":"'Marks Entry'!EK26","v":0},{"$f":"'Marks Entry'!EL26","v":0},{"$f":"'Marks Entry'!EM26","v":0},{"$f":"'Marks Entry'!EN26","v":0},{"$f":"'Marks Entry'!EO26","v":0},{"$f":"'Marks Entry'!EP26","v":0},{"$f":"'Marks Entry'!ES26","v":0},{"$f":"'Marks Entry'!ET26","v":0},{"$f":"'Marks Entry'!EU26","v":0},{"$f":"'Marks Entry'!EV26","v":0},{"$f":"'Marks Entry'!EW26","v":0},{"$f":"'Marks Entry'!EX26","v":0},{"$f":"'Marks Entry'!EY26","v":0},{"$f":"'Marks Entry'!FB26","v":0},{"$f":"'Marks Entry'!FC26","v":0},{"$f":"'Marks Entry'!FD26","v":0},{"$f":"'Marks Entry'!FE26","v":""},{"$f":"'Marks Entry'!FF26","v":0},{"$f":"'Marks Entry'!FG26","v":0},{"$f":"'Marks Entry'!FH26","v":""},{"$f":"IF(OR('Marks Entry'!FI26=\"First\",'Marks Entry'!FI26=\"Second\",'Marks Entry'!FI26=\"Third\"),'Marks Entry'!FI26,\"\")","v":""},{"$f":"'Marks Entry'!FJ26","v":""},{"$f":"'Marks Entry'!FK26","v":""},{"$f":"'Marks Entry'!FL26","v":""},{"$f":"'Marks Entry'!FM26","v":""},{"$f":"'Marks Entry'!FO26","v":0}]
[null,0,{"$f":"'Marks Entry'!D27","v":0},{"$f":"'Marks Entry'!E27","v":0},{"$f":"'Marks Entry'!F27","v":0},{"$f":"'Marks Entry'!G27","v":0},{"$f":"'Marks Entry'!H27","v":0},{"$f":"'Marks Entry'!I27","v":0},{"$f":"'Marks Entry'!J27","v":0},{"$f":"'Marks Entry'!K27","v":"00:00:00"},{"$f":"'Marks Entry'!L27","v":0},{"$f":"'Marks Entry'!M27","v":0},{"$f":"'Marks Entry'!N27","v":0},{"$f":"'Marks Entry'!O27","v":0},{"$f":"'Marks Entry'!P27","v":0},{"$f":"'Marks Entry'!Q27","v":0},{"$f":"'Marks Entry'!R27","v":0},{"$f":"'Marks Entry'!S27","v":0},{"$f":"'Marks Entry'!T27","v":0},{"$f":"'Marks Entry'!U27","v":0},{"$f":"'Marks Entry'!V27","v":0},{"$f":"'Marks Entry'!W27","v":0},{"$f":"'Marks Entry'!X27","v":0},{"$f":"'Marks Entry'!Y27","v":0},{"$f":"'Marks Entry'!Z27","v":0},{"$f":"'Marks Entry'!AA27","v":0},{"$f":"'Marks Entry'!AB27","v":0},{"$f":"'Marks Entry'!AC27","v":0},{"$f":"'Marks Entry'!AD27","v":""},{"$f":"'Marks Entry'!AE27","v":0},{"$f":"'Marks Entry'!AF27","v":0},{"$f":"'Marks Entry'!AG27","v":0},{"$f":"'Marks Entry'!AH27","v":0},{"$f":"'Marks Entry'!AI27","v":0},{"$f":"'Marks Entry'!AJ27","v":0},{"$f":"'Marks Entry'!AK27","v":0},{"$f":"'Marks Entry'!AL27","v":0},{"$f":"'Marks Entry'!AM27","v":0},{"$f":"'Marks Entry'!AN27","v":0},{"$f":"'Marks Entry'!AO27","v":0},{"$f":"'Marks Entry'!AP27","v":0},{"$f":"'Marks Entry'!AQ27","v":0},{"$f":"'Marks Entry'!AR27","v":0},{"$f":"'Marks Entry'!AS27","v":0},{"$f":"'Marks Entry'!AT27","v":0},{"$f":"'Marks Entry'!AU27","v":0},{"$f":"'Marks Entry'!AV27","v":0},{"$f":"'Marks Entry'!AW27","v":0},{"$f":"'Marks Entry'!AX27","v":"E"},{"$f":"'Marks Entry'!AY27","v":0},{"$f":"'Marks Entry'!AZ27","v":0},{"$f":"'Marks Entry'!BA27","v":0},{"$f":"'Marks Entry'!BB27","v":0},{"$f":"'Marks Entry'!BC27","v":0},{"$f":"'Marks Entry'!BD27","v":0},{"$f":"'Marks Entry'!BE27","v":0},{"$f":"'Marks Entry'!BF27","v":0},{"$f":"'Marks Entry'!BG27","v":0},{"$f":"'Marks Entry'!BH27","v":0},{"$f":"'Marks Entry'!BI27","v":0},{"$f":"'Marks Entry'!BJ27","v":0},{"$f":"'Marks Entry'!BK27","v":0},{"$f":"'Marks Entry'!BL27","v":0},{"$f":"'Marks Entry'!BM27","v":0},{"$f":"'Marks Entry'!BN27","v":0},{"$f":"'Marks Entry'!BO27","v":0},{"$f":"'Marks Entry'!BP27","v":0},{"$f":"'Marks Entry'!BQ27","v":0},{"$f":"'Marks Entry'!BR27","v":"E"},{"$f":"'Marks Entry'!BS27","v":0},{"$f":"'Marks Entry'!BT27","v":0},{"$f":"'Marks Entry'!BU27","v":0},{"$f":"'Marks Entry'!BV27","v":0},{"$f":"'Marks Entry'!BW27","v":0},{"$f":"'Marks Entry'!BX27","v":0},{"$f":"'Marks Entry'!BY27","v":0},{"$f":"'Marks Entry'!BZ27","v":0},{"$f":"'Marks Entry'!CA27","v":0},{"$f":"'Marks Entry'!CB27","v":0},{"$f":"'Marks Entry'!CC27","v":0},{"$f":"'Marks Entry'!CD27","v":0},{"$f":"'Marks Entry'!CE27","v":0},{"$f":"'Marks Entry'!CF27","v":0},{"$f":"'Marks Entry'!CG27","v":0},{"$f":"'Marks Entry'!CH27","v":0},{"$f":"'Marks Entry'!CI27","v":0},{"$f":"'Marks Entry'!CJ27","v":0},{"$f":"'Marks Entry'!CK27","v":0},{"$f":"'Marks Entry'!CL27","v":"E"},{"$f":"'Marks Entry'!CM27","v":0},{"$f":"'Marks Entry'!CN27","v":0},{"$f":"'Marks Entry'!CO27","v":0},{"$f":"'Marks Entry'!CP27","v":0},{"$f":"'Marks Entry'!CQ27","v":0},{"$f":"'Marks Entry'!CR27","v":0},{"$f":"'Marks Entry'!CS27","v":0},{"$f":"'Marks Entry'!CT27","v":0},{"$f":"'Marks Entry'!CU27","v":0},{"$f":"'Marks Entry'!CV27","v":0},{"$f":"'Marks Entry'!CW27","v":0},{"$f":"'Marks Entry'!CX27","v":0},{"$f":"'Marks Entry'!CY27","v":0},{"$f":"'Marks Entry'!CZ27","v":0},{"$f":"'Marks Entry'!DA27","v":0},{"$f":"'Marks Entry'!DB27","v":0},{"$f":"'Marks Entry'!DC27","v":0},{"$f":"'Marks Entry'!DD27","v":0},{"$f":"'Marks Entry'!DE27","v":0},{"$f":"'Marks Entry'!DF27","v":"E"},{"$f":"'Marks Entry'!DG27","v":0},{"$f":"'Marks Entry'!DH27","v":0},{"$f":"'Marks Entry'!DI27","v":0},{"$f":"'Marks Entry'!DJ27","v":0},{"$f":"'Marks Entry'!DK27","v":0},{"$f":"'Marks Entry'!DL27","v":0},{"$f":"'Marks Entry'!DM27","v":0},{"$f":"'Marks Entry'!DN27","v":0},{"$f":"'Marks Entry'!DO27","v":0},{"$f":"'Marks Entry'!DP27","v":0},{"$f":"'Marks Entry'!DQ27","v":0},{"$f":"'Marks Entry'!DR27","v":0},{"$f":"'Marks Entry'!DS27","v":0},{"$f":"'Marks Entry'!DT27","v":0},{"$f":"'Marks Entry'!DU27","v":0},{"$f":"'Marks Entry'!DV27","v":0},{"$f":"'Marks Entry'!DW27","v":0},{"$f":"'Marks Entry'!DX27","v":0},{"$f":"'Marks Entry'!DY27","v":0},{"$f":"'Marks Entry'!DZ27","v":"E"},{"$f":"'Marks Entry'!EA27","v":0},{"$f":"'Marks Entry'!EB27","v":0},{"$f":"'Marks Entry'!EC27","v":0},{"$f":"'Marks Entry'!ED27","v":0},{"$f":"'Marks Entry'!EE27","v":0},{"$f":"'Marks Entry'!EF27","v":0},{"$f":"'Marks Entry'!EG27","v":0},{"$f":"'Marks Entry'!EJ27","v":0},{"$f":"'Marks Entry'!EK27","v":0},{"$f":"'Marks Entry'!EL27","v":0},{"$f":"'Marks Entry'!EM27","v":0},{"$f":"'Marks Entry'!EN27","v":0},{"$f":"'Marks Entry'!EO27","v":0},{"$f":"'Marks Entry'!EP27","v":0},{"$f":"'Marks Entry'!ES27","v":0},{"$f":"'Marks Entry'!ET27","v":0},{"$f":"'Marks Entry'!EU27","v":0},{"$f":"'Marks Entry'!EV27","v":0},{"$f":"'Marks Entry'!EW27","v":0},{"$f":"'Marks Entry'!EX27","v":0},{"$f":"'Marks Entry'!EY27","v":0},{"$f":"'Marks Entry'!FB27","v":0},{"$f":"'Marks Entry'!FC27","v":0},{"$f":"'Marks Entry'!FD27","v":0},{"$f":"'Marks Entry'!FE27","v":""},{"$f":"'Marks Entry'!FF27","v":0},{"$f":"'Marks Entry'!FG27","v":0},{"$f":"'Marks Entry'!FH27","v":""},{"$f":"IF(OR('Marks Entry'!FI27=\"First\",'Marks Entry'!FI27=\"Second\",'Marks Entry'!FI27=\"Third\"),'Marks Entry'!FI27,\"\")","v":""},{"$f":"'Marks Entry'!FJ27","v":""},{"$f":"'Marks Entry'!FK27","v":""},{"$f":"'Marks Entry'!FL27","v":""},{"$f":"'Marks Entry'!FM27","v":""},{"$f":"'Marks Entry'!FO27","v":0}]
[null,0,{"$f":"'Marks Entry'!D28","v":0},{"$f":"'Marks Entry'!E28","v":0},{"$f":"'Marks Entry'!F28","v":0},{"$f":"'Marks Entry'!G28","v":0},{"$f":"'Marks Entry'!H28","v":0},{"$f":"'Marks Entry'!I28","v":0},{"$f":"'Marks Entry'!J28","v":0},{"$f":"'Marks Entry'!K28","v":"00:00:00"},{"$f":"'Marks Entry'!L28","v":0},{"$f":"'Marks Entry'!M28","v":0},{"$f":"'Marks Entry'!N28","v":0},{"$f":"'Marks Entry'!O28","v":0},{"$f":"'Marks Entry'!P28","v":0},{"$f":"'Marks Entry'!Q28","v":0},{"$f":"'Marks Entry'!R28","v":0},{"$f":"'Marks Entry'!S28","v":0},{"$f":"'Marks Entry'!T28","v":0},{"$f":"'Marks Entry'!U28","v":0},{"$f":"'Marks Entry'!V28","v":0},{"$f":"'Marks Entry'!W28","v":0},{"$f":"'Marks Entry'!X28","v":0},{"$f":"'Marks Entry'!Y28","v":0},{"$f":"'Marks Entry'!Z28","v":0},{"$f":"'Marks Entry'!AA28","v":0},{"$f":"'Marks Entry'!AB28","v":0},{"$f":"'Marks Entry'!AC28","v":0},{"$f":"'Marks Entry'!AD28","v":""},{"$f":"'Marks Entry'!AE28","v":0},{"$f":"'Marks Entry'!AF28","v":0},{"$f":"'Marks Entry'!AG28","v":0},{"$f":"'Marks Entry'!AH28","v":0},{"$f":"'Marks Entry'!AI28","v":0},{"$f":"'Marks Entry'!AJ28","v":0},{"$f":"'Marks Entry'!AK28","v":0},{"$f":"'Marks Entry'!AL28","v":0},{"$f":"'Marks Entry'!AM28","v":0},{"$f":"'Marks Entry'!AN28","v":0},{"$f":"'Marks Entry'!AO28","v":0},{"$f":"'Marks Entry'!AP28","v":0},{"$f":"'Marks Entry'!AQ28","v":0},{"$f":"'Marks Entry'!AR28","v":0},{"$f":"'Marks Entry'!AS28","v":0},{"$f":"'Marks Entry'!AT28","v":0},{"$f":"'Marks Entry'!AU28","v":0},{"$f":"'Marks Entry'!AV28","v":0},{"$f":"'Marks Entry'!AW28","v":0},{"$f":"'Marks Entry'!AX28","v":"E"},{"$f":"'Marks Entry'!AY28","v":0},{"$f":"'Marks Entry'!AZ28","v":0},{"$f":"'Marks Entry'!BA28","v":0},{"$f":"'Marks Entry'!BB28","v":0},{"$f":"'Marks Entry'!BC28","v":0},{"$f":"'Marks Entry'!BD28","v":0},{"$f":"'Marks Entry'!BE28","v":0},{"$f":"'Marks Entry'!BF28","v":0},{"$f":"'Marks Entry'!BG28","v":0},{"$f":"'Marks Entry'!BH28","v":0},{"$f":"'Marks Entry'!BI28","v":0},{"$f":"'Marks Entry'!BJ28","v":0},{"$f":"'Marks Entry'!BK28","v":0},{"$f":"'Marks Entry'!BL28","v":0},{"$f":"'Marks Entry'!BM28","v":0},{"$f":"'Marks Entry'!BN28","v":0},{"$f":"'Marks Entry'!BO28","v":0},{"$f":"'Marks Entry'!BP28","v":0},{"$f":"'Marks Entry'!BQ28","v":0},{"$f":"'Marks Entry'!BR28","v":"E"},{"$f":"'Marks Entry'!BS28","v":0},{"$f":"'Marks Entry'!BT28","v":0},{"$f":"'Marks Entry'!BU28","v":0},{"$f":"'Marks Entry'!BV28","v":0},{"$f":"'Marks Entry'!BW28","v":0},{"$f":"'Marks Entry'!BX28","v":0},{"$f":"'Marks Entry'!BY28","v":0},{"$f":"'Marks Entry'!BZ28","v":0},{"$f":"'Marks Entry'!CA28","v":0},{"$f":"'Marks Entry'!CB28","v":0},{"$f":"'Marks Entry'!CC28","v":0},{"$f":"'Marks Entry'!CD28","v":0},{"$f":"'Marks Entry'!CE28","v":0},{"$f":"'Marks Entry'!CF28","v":0},{"$f":"'Marks Entry'!CG28","v":0},{"$f":"'Marks Entry'!CH28","v":0},{"$f":"'Marks Entry'!CI28","v":0},{"$f":"'Marks Entry'!CJ28","v":0},{"$f":"'Marks Entry'!CK28","v":0},{"$f":"'Marks Entry'!CL28","v":"E"},{"$f":"'Marks Entry'!CM28","v":0},{"$f":"'Marks Entry'!CN28","v":0},{"$f":"'Marks Entry'!CO28","v":0},{"$f":"'Marks Entry'!CP28","v":0},{"$f":"'Marks Entry'!CQ28","v":0},{"$f":"'Marks Entry'!CR28","v":0},{"$f":"'Marks Entry'!CS28","v":0},{"$f":"'Marks Entry'!CT28","v":0},{"$f":"'Marks Entry'!CU28","v":0},{"$f":"'Marks Entry'!CV28","v":0},{"$f":"'Marks Entry'!CW28","v":0},{"$f":"'Marks Entry'!CX28","v":0},{"$f":"'Marks Entry'!CY28","v":0},{"$f":"'Marks Entry'!CZ28","v":0},{"$f":"'Marks Entry'!DA28","v":0},{"$f":"'Marks Entry'!DB28","v":0},{"$f":"'Marks Entry'!DC28","v":0},{"$f":"'Marks Entry'!DD28","v":0},{"$f":"'Marks Entry'!DE28","v":0},{"$f":"'Marks Entry'!DF28","v":"E"},{"$f":"'Marks Entry'!DG28","v":0},{"$f":"'Marks Entry'!DH28","v":0},{"$f":"'Marks Entry'!DI28","v":0},{"$f":"'Marks Entry'!DJ28","v":0},{"$f":"'Marks Entry'!DK28","v":0},{"$f":"'Marks Entry'!DL28","v":0},{"$f":"'Marks Entry'!DM28","v":0},{"$f":"'Marks Entry'!DN28","v":0},{"$f":"'Marks Entry'!DO28","v":0},{"$f":"'Marks Entry'!DP28","v":0},{"$f":"'Marks Entry'!DQ28","v":0},{"$f":"'Marks Entry'!DR28","v":0},{"$f":"'Marks Entry'!DS28","v":0},{"$f":"'Marks Entry'!DT28","v":0},{"$f":"'Marks Entry'!DU28","v":0},{"$f":"'Marks Entry'!DV28","v":0},{"$f":"'Marks Entry'!DW28","v":0},{"$f":"'Marks Entry'!DX28","v":0},{"$f":"'Marks Entry'!DY28","v":0},{"$f":"'Marks Entry'!DZ28","v":"E"},{"$f":"'Marks Entry'!EA28","v":0},{"$f":"'Marks Entry'!EB28","v":0},{"$f":"'Marks Entry'!EC28","v":0},{"$f":"'Marks Entry'!ED28","v":0},{"$f":"'Marks Entry'!EE28","v":0},{"$f":"'Marks Entry'!EF28","v":0},{"$f":"'Marks Entry'!EG28","v":0},{"$f":"'Marks Entry'!EJ28","v":0},{"$f":"'Marks Entry'!EK28","v":0},{"$f":"'Marks Entry'!EL28","v":0},{"$f":"'Marks Entry'!EM28","v":0},{"$f":"'Marks Entry'!EN28","v":0},{"$f":"'Marks Entry'!EO28","v":0},{"$f":"'Marks Entry'!EP28","v":0},{"$f":"'Marks Entry'!ES28","v":0},{"$f":"'Marks Entry'!ET28","v":0},{"$f":"'Marks Entry'!EU28","v":0},{"$f":"'Marks Entry'!EV28","v":0},{"$f":"'Marks Entry'!EW28","v":0},{"$f":"'Marks Entry'!EX28","v":0},{"$f":"'Marks Entry'!EY28","v":0},{"$f":"'Marks Entry'!FB28","v":0},{"$f":"'Marks Entry'!FC28","v":0},{"$f":"'Marks Entry'!FD28","v":0},{"$f":"'Marks Entry'!FE28","v":""},{"$f":"'Marks Entry'!FF28","v":0},{"$f":"'Marks Entry'!FG28","v":0},{"$f":"'Marks Entry'!FH28","v":""},{"$f":"IF(OR('Marks Entry'!FI28=\"First\",'Marks Entry'!FI28=\"Second\",'Marks Entry'!FI28=\"Third\"),'Marks Entry'!FI28,\"\")","v":""},{"$f":"'Marks Entry'!FJ28","v":""},{"$f":"'Marks Entry'!FK28","v":""},{"$f":"'Marks Entry'!FL28","v":""},{"$f":"'Marks Entry'!FM28","v":""},{"$f":"'Marks Entry'!FO28","v":0}]
[null,0,{"$f":"'Marks Entry'!D29","v":0},{"$f":"'Marks Entry'!E29","v":0},{"$f":"'Marks Entry'!F29","v":0},{"$f":"'Marks Entry'!G29","v":0},{"$f":"'Marks Entry'!H29","v":0},{"$f":"'Marks Entry'!I29","v":0},{"$f":"'Marks Entry'!J29","v":0},{"$f":"'Marks Entry'!K29","v":"00:00:00"},{"$f":"'Marks Entry'!L29","v":0},{"$f":"'Marks Entry'!M29","v":0},{"$f":"'Marks Entry'!N29","v":0},{"$f":"'Marks Entry'!O29","v":0},{"$f":"'Marks Entry'!P29","v":0},{"$f":"'Marks Entry'!Q29","v":0},{"$f":"'Marks Entry'!R29","v":0},{"$f":"'Marks Entry'!S29","v":0},{"$f":"'Marks Entry'!T29","v":0},{"$f":"'Marks Entry'!U29","v":0},{"$f":"'Marks Entry'!V29","v":0},{"$f":"'Marks Entry'!W29","v":0},{"$f":"'Marks Entry'!X29","v":0},{"$f":"'Marks Entry'!Y29","v":0},{"$f":"'Marks Entry'!Z29","v":0},{"$f":"'Marks Entry'!AA29","v":0},{"$f":"'Marks Entry'!AB29","v":0},{"$f":"'Marks Entry'!AC29","v":0},{"$f":"'Marks Entry'!AD29","v":""},{"$f":"'Marks Entry'!AE29","v":0},{"$f":"'Marks Entry'!AF29","v":0},{"$f":"'Marks Entry'!AG29","v":0},{"$f":"'Marks Entry'!AH29","v":0},{"$f":"'Marks Entry'!AI29","v":0},{"$f":"'Marks Entry'!AJ29","v":0},{"$f":"'Marks Entry'!AK29","v":0},{"$f":"'Marks Entry'!AL29","v":0},{"$f":"'Marks Entry'!AM29","v":0},{"$f":"'Marks Entry'!AN29","v":0},{"$f":"'Marks Entry'!AO29","v":0},{"$f":"'Marks Entry'!AP29","v":0},{"$f":"'Marks Entry'!AQ29","v":0},{"$f":"'Marks Entry'!AR29","v":0},{"$f":"'Marks Entry'!AS29","v":0},{"$f":"'Marks Entry'!AT29","v":0},{"$f":"'Marks Entry'!AU29","v":0},{"$f":"'Marks Entry'!AV29","v":0},{"$f":"'Marks Entry'!AW29","v":0},{"$f":"'Marks Entry'!AX29","v":"E"},{"$f":"'Marks Entry'!AY29","v":0},{"$f":"'Marks Entry'!AZ29","v":0},{"$f":"'Marks Entry'!BA29","v":0},{"$f":"'Marks Entry'!BB29","v":0},{"$f":"'Marks Entry'!BC29","v":0},{"$f":"'Marks Entry'!BD29","v":0},{"$f":"'Marks Entry'!BE29","v":0},{"$f":"'Marks Entry'!BF29","v":0},{"$f":"'Marks Entry'!BG29","v":0},{"$f":"'Marks Entry'!BH29","v":0},{"$f":"'Marks Entry'!BI29","v":0},{"$f":"'Marks Entry'!BJ29","v":0},{"$f":"'Marks Entry'!BK29","v":0},{"$f":"'Marks Entry'!BL29","v":0},{"$f":"'Marks Entry'!BM29","v":0},{"$f":"'Marks Entry'!BN29","v":0},{"$f":"'Marks Entry'!BO29","v":0},{"$f":"'Marks Entry'!BP29","v":0},{"$f":"'Marks Entry'!BQ29","v":0},{"$f":"'Marks Entry'!BR29","v":"E"},{"$f":"'Marks Entry'!BS29","v":0},{"$f":"'Marks Entry'!BT29","v":0},{"$f":"'Marks Entry'!BU29","v":0},{"$f":"'Marks Entry'!BV29","v":0},{"$f":"'Marks Entry'!BW29","v":0},{"$f":"'Marks Entry'!BX29","v":0},{"$f":"'Marks Entry'!BY29","v":0},{"$f":"'Marks Entry'!BZ29","v":0},{"$f":"'Marks Entry'!CA29","v":0},{"$f":"'Marks Entry'!CB29","v":0},{"$f":"'Marks Entry'!CC29","v":0},{"$f":"'Marks Entry'!CD29","v":0},{"$f":"'Marks Entry'!CE29","v":0},{"$f":"'Marks Entry'!CF29","v":0},{"$f":"'Marks Entry'!CG29","v":0},{"$f":"'Marks Entry'!CH29","v":0},{"$f":"'Marks Entry'!CI29","v":0},{"$f":"'Marks Entry'!CJ29","v":0},{"$f":"'Marks Entry'!CK29","v":0},{"$f":"'Marks Entry'!CL29","v":"E"},{"$f":"'Marks Entry'!CM29","v":0},{"$f":"'Marks Entry'!CN29","v":0},{"$f":"'Marks Entry'!CO29","v":0},{"$f":"'Marks Entry'!CP29","v":0},{"$f":"'Marks Entry'!CQ29","v":0},{"$f":"'Marks Entry'!CR29","v":0},{"$f":"'Marks Entry'!CS29","v":0},{"$f":"'Marks Entry'!CT29","v":0},{"$f":"'Marks Entry'!CU29","v":0},{"$f":"'Marks Entry'!CV29","v":0},{"$f":"'Marks Entry'!CW29","v":0},{"$f":"'Marks Entry'!CX29","v":0},{"$f":"'Marks Entry'!CY29","v":0},{"$f":"'Marks Entry'!CZ29","v":0},{"$f":"'Marks Entry'!DA29","v":0},{"$f":"'Marks Entry'!DB29","v":0},{"$f":"'Marks Entry'!DC29","v":0},{"$f":"'Marks Entry'!DD29","v":0},{"$f":"'Marks Entry'!DE29","v":0},{"$f":"'Marks Entry'!DF29","v":"E"},{"$f":"'Marks Entry'!DG29","v":0},{"$f":"'Marks Entry'!DH29","v":0},{"$f":"'Marks Entry'!DI29","v":0},{"$f":"'Marks Entry'!DJ29","v":0},{"$f":"'Marks Entry'!DK29","v":0},{"$f":"'Marks Entry'!DL29","v":0},{"$f":"'Marks Entry'!DM29","v":0},{"$f":"'Marks Entry'!DN29","v":0},{"$f":"'Marks Entry'!DO29","v":0},{"$f":"'Marks Entry'!DP29","v":0},{"$f":"'Marks Entry'!DQ29","v":0},{"$f":"'Marks Entry'!DR29","v":0},{"$f":"'Marks Entry'!DS29","v":0},{"$f":"'Marks Entry'!DT29","v":0},{"$f":"'Marks Entry'!DU29","v":0},{"$f":"'Marks Entry'!DV29","v":0},{"$f":"'Marks Entry'!DW29","v":0},{"$f":"'Marks Entry'!DX29","v":0},{"$f":"'Marks Entry'!DY29","v":0},{"$f":"'Marks Entry'!DZ29","v":"E"},{"$f":"'Marks Entry'!EA29","v":0},{"$f":"'Marks Entry'!EB29","v":0},{"$f":"'Marks Entry'!EC29","v":0},{"$f":"'Marks Entry'!ED29","v":0},{"$f":"'Marks Entry'!EE29","v":0},{"$f":"'Marks Entry'!EF29","v":0},{"$f":"'Marks Entry'!EG29","v":0},{"$f":"'Marks Entry'!EJ29","v":0},{"$f":"'Marks Entry'!EK29","v":0},{"$f":"'Marks Entry'!EL29","v":0},{"$f":"'Marks Entry'!EM29","v":0},{"$f":"'Marks Entry'!EN29","v":0},{"$f":"'Marks Entry'!EO29","v":0},{"$f":"'Marks Entry'!EP29","v":0},{"$f":"'Marks Entry'!ES29","v":0},{"$f":"'Marks Entry'!ET29","v":0},{"$f":"'Marks Entry'!EU29","v":0},{"$f":"'Marks Entry'!EV29","v":0},{"$f":"'Marks Entry'!EW29","v":0},{"$f":"'Marks Entry'!EX29","v":0},{"$f":"'Marks Entry'!EY29","v":0},{"$f":"'Marks Entry'!FB29","v":0},{"$f":"'Marks Entry'!FC29","v":0},{"$f":"'Marks Entry'!FD29","v":0},{"$f":"'Marks Entry'!FE29","v":""},{"$f":"'Marks Entry'!FF29","v":0},{"$f":"'Marks Entry'!FG29","v":0},{"$f":"'Marks Entry'!FH29","v":""},{"$f":"IF(OR('Marks Entry'!FI29=\"First\",'Marks Entry'!FI29=\"Second\",'Marks Entry'!FI29=\"Third\"),'Marks Entry'!FI29,\"\")","v":""},{"$f":"'Marks Entry'!FJ29","v":""},{"$f":"'Marks Entry'!FK29","v":""},{"$f":"'Marks Entry'!FL29","v":""},{"$f":"'Marks Entry'!FM29","v":""},{"$f":"'Marks Entry'!FO29","v":0}]
[null,0,{"$f":"'Marks Entry'!D30","v":0},{"$f":"'Marks Entry'!E30","v":0},{"$f":"'Marks Entry'!F30","v":0},{"$f":"'Marks Entry'!G30","v":0},{"$f":"'Marks Entry'!H30","v":0},{"$f":"'Marks Entry'!I30","v":0},{"$f":"'Marks Entry'!J30","v":0},{"$f":"'Marks Entry'!K30","v":"00:00:00"},{"$f":"'Marks Entry'!L30","v":0},{"$f":"'Marks Entry'!M30","v":0},{"$f":"'Marks Entry'!N30","v":0},{"$f":"'Marks Entry'!O30","v":0},{"$f":"'Marks Entry'!P30","v":0},{"$f":"'Marks Entry'!Q30","v":0},{"$f":"'Marks Entry'!R30","v":0},{"$f":"'Marks Entry'!S30","v":0},{"$f":"'Marks Entry'!T30","v":0},{"$f":"'Marks Entry'!U30","v":0},{"$f":"'Marks Entry'!V30","v":0},{"$f":"'Marks Entry'!W30","v":0},{"$f":"'Marks Entry'!X30","v":0},{"$f":"'Marks Entry'!Y30","v":0},{"$f":"'Marks Entry'!Z30","v":0},{"$f":"'Marks Entry'!AA30","v":0},{"$f":"'Marks Entry'!AB30","v":0},{"$f":"'Marks Entry'!AC30","v":0},{"$f":"'Marks Entry'!AD30","v":""},{"$f":"'Marks Entry'!AE30","v":0},{"$f":"'Marks Entry'!AF30","v":0},{"$f":"'Marks Entry'!AG30","v":0},{"$f":"'Marks Entry'!AH30","v":0},{"$f":"'Marks Entry'!AI30","v":0},{"$f":"'Marks Entry'!AJ30","v":0},{"$f":"'Marks Entry'!AK30","v":0},{"$f":"'Marks Entry'!AL30","v":0},{"$f":"'Marks Entry'!AM30","v":0},{"$f":"'Marks Entry'!AN30","v":0},{"$f":"'Marks Entry'!AO30","v":0},{"$f":"'Marks Entry'!AP30","v":0},{"$f":"'Marks Entry'!AQ30","v":0},{"$f":"'Marks Entry'!AR30","v":0},{"$f":"'Marks Entry'!AS30","v":0},{"$f":"'Marks Entry'!AT30","v":0},{"$f":"'Marks Entry'!AU30","v":0},{"$f":"'Marks Entry'!AV30","v":0},{"$f":"'Marks Entry'!AW30","v":0},{"$f":"'Marks Entry'!AX30","v":"E"},{"$f":"'Marks Entry'!AY30","v":0},{"$f":"'Marks Entry'!AZ30","v":0},{"$f":"'Marks Entry'!BA30","v":0},{"$f":"'Marks Entry'!BB30","v":0},{"$f":"'Marks Entry'!BC30","v":0},{"$f":"'Marks Entry'!BD30","v":0},{"$f":"'Marks Entry'!BE30","v":0},{"$f":"'Marks Entry'!BF30","v":0},{"$f":"'Marks Entry'!BG30","v":0},{"$f":"'Marks Entry'!BH30","v":0},{"$f":"'Marks Entry'!BI30","v":0},{"$f":"'Marks Entry'!BJ30","v":0},{"$f":"'Marks Entry'!BK30","v":0},{"$f":"'Marks Entry'!BL30","v":0},{"$f":"'Marks Entry'!BM30","v":0},{"$f":"'Marks Entry'!BN30","v":0},{"$f":"'Marks Entry'!BO30","v":0},{"$f":"'Marks Entry'!BP30","v":0},{"$f":"'Marks Entry'!BQ30","v":0},{"$f":"'Marks Entry'!BR30","v":"E"},{"$f":"'Marks Entry'!BS30","v":0},{"$f":"'Marks Entry'!BT30","v":0},{"$f":"'Marks Entry'!BU30","v":0},{"$f":"'Marks Entry'!BV30","v":0},{"$f":"'Marks Entry'!BW30","v":0},{"$f":"'Marks Entry'!BX30","v":0},{"$f":"'Marks Entry'!BY30","v":0},{"$f":"'Marks Entry'!BZ30","v":0},{"$f":"'Marks Entry'!CA30","v":0},{"$f":"'Marks Entry'!CB30","v":0},{"$f":"'Marks Entry'!CC30","v":0},{"$f":"'Marks Entry'!CD30","v":0},{"$f":"'Marks Entry'!CE30","v":0},{"$f":"'Marks Entry'!CF30","v":0},{"$f":"'Marks Entry'!CG30","v":0},{"$f":"'Marks Entry'!CH30","v":0},{"$f":"'Marks Entry'!CI30","v":0},{"$f":"'Marks Entry'!CJ30","v":0},{"$f":"'Marks Entry'!CK30","v":0},{"$f":"'Marks Entry'!CL30","v":"E"},{"$f":"'Marks Entry'!CM30","v":0},{"$f":"'Marks Entry'!CN30","v":0},{"$f":"'Marks Entry'!CO30","v":0},{"$f":"'Marks Entry'!CP30","v":0},{"$f":"'Marks Entry'!CQ30","v":0},{"$f":"'Marks Entry'!CR30","v":0},{"$f":"'Marks Entry'!CS30","v":0},{"$f":"'Marks Entry'!CT30","v":0},{"$f":"'Marks Entry'!CU30","v":0},{"$f":"'Marks Entry'!CV30","v":0},{"$f":"'Marks Entry'!CW30","v":0},{"$f":"'Marks Entry'!CX30","v":0},{"$f":"'Marks Entry'!CY30","v":0},{"$f":"'Marks Entry'!CZ30","v":0},{"$f":"'Marks Entry'!DA30","v":0},{"$f":"'Marks Entry'!DB30","v":0},{"$f":"'Marks Entry'!DC30","v":0},{"$f":"'Marks Entry'!DD30","v":0},{"$f":"'Marks Entry'!DE30","v":0},{"$f":"'Marks Entry'!DF30","v":"E"},{"$f":"'Marks Entry'!DG30","v":0},{"$f":"'Marks Entry'!DH30","v":0},{"$f":"'Marks Entry'!DI30","v":0},{"$f":"'Marks Entry'!DJ30","v":0},{"$f":"'Marks Entry'!DK30","v":0},{"$f":"'Marks Entry'!DL30","v":0},{"$f":"'Marks Entry'!DM30","v":0},{"$f":"'Marks Entry'!DN30","v":0},{"$f":"'Marks Entry'!DO30","v":0},{"$f":"'Marks Entry'!DP30","v":0},{"$f":"'Marks Entry'!DQ30","v":0},{"$f":"'Marks Entry'!DR30","v":0},{"$f":"'Marks Entry'!DS30","v":0},{"$f":"'Marks Entry'!DT30","v":0},{"$f":"'Marks Entry'!DU30","v":0},{"$f":"'Marks Entry'!DV30","v":0},{"$f":"'Marks Entry'!DW30","v":0},{"$f":"'Marks Entry'!DX30","v":0},{"$f":"'Marks Entry'!DY30","v":0},{"$f":"'Marks Entry'!DZ30","v":"E"},{"$f":"'Marks Entry'!EA30","v":0},{"$f":"'Marks Entry'!EB30","v":0},{"$f":"'Marks Entry'!EC30","v":0},{"$f":"'Marks Entry'!ED30","v":0},{"$f":"'Marks Entry'!EE30","v":0},{"$f":"'Marks Entry'!EF30","v":0},{"$f":"'Marks Entry'!EG30","v":0},{"$f":"'Marks Entry'!EJ30","v":0},{"$f":"'Marks Entry'!EK30","v":0},{"$f":"'Marks Entry'!EL30","v":0},{"$f":"'Marks Entry'!EM30","v":0},{"$f":"'Marks Entry'!EN30","v":0},{"$f":"'Marks Entry'!EO30","v":0},{"$f":"'Marks Entry'!EP30","v":0},{"$f":"'Marks Entry'!ES30","v":0},{"$f":"'Marks Entry'!ET30","v":0},{"$f":"'Marks Entry'!EU30","v":0},{"$f":"'Marks Entry'!EV30","v":0},{"$f":"'Marks Entry'!EW30","v":0},{"$f":"'Marks Entry'!EX30","v":0},{"$f":"'Marks Entry'!EY30","v":0},{"$f":"'Marks Entry'!FB30","v":0},{"$f":"'Marks Entry'!FC30","v":0},{"$f":"'Marks Entry'!FD30","v":0},{"$f":"'Marks Entry'!FE30","v":""},{"$f":"'Marks Entry'!FF30","v":0},{"$f":"'Marks Entry'!FG30","v":0},{"$f":"'Marks Entry'!FH30","v":""},{"$f":"IF(OR('Marks Entry'!FI30=\"First\",'Marks Entry'!FI30=\"Second\",'Marks Entry'!FI30=\"Third\"),'Marks Entry'!FI30,\"\")","v":""},{"$f":"'Marks Entry'!FJ30","v":""},{"$f":"'Marks Entry'!FK30","v":""},{"$f":"'Marks Entry'!FL30","v":""},{"$f":"'Marks Entry'!FM30","v":""},{"$f":"'Marks Entry'!FO30","v":0}]
[null,0,{"$f":"'Marks Entry'!D31","v":0},{"$f":"'Marks Entry'!E31","v":0},{"$f":"'Marks Entry'!F31","v":0},{"$f":"'Marks Entry'!G31","v":0},{"$f":"'Marks Entry'!H31","v":0},{"$f":"'Marks Entry'!I31","v":0},{"$f":"'Marks Entry'!J31","v":0},{"$f":"'Marks Entry'!K31","v":"00:00:00"},{"$f":"'Marks Entry'!L31","v":0},{"$f":"'Marks Entry'!M31","v":0},{"$f":"'Marks Entry'!N31","v":0},{"$f":"'Marks Entry'!O31","v":0},{"$f":"'Marks Entry'!P31","v":0},{"$f":"'Marks Entry'!Q31","v":0},{"$f":"'Marks Entry'!R31","v":0},{"$f":"'Marks Entry'!S31","v":0},{"$f":"'Marks Entry'!T31","v":0},{"$f":"'Marks Entry'!U31","v":0},{"$f":"'Marks Entry'!V31","v":0},{"$f":"'Marks Entry'!W31","v":0},{"$f":"'Marks Entry'!X31","v":0},{"$f":"'Marks Entry'!Y31","v":0},{"$f":"'Marks Entry'!Z31","v":0},{"$f":"'Marks Entry'!AA31","v":0},{"$f":"'Marks Entry'!AB31","v":0},{"$f":"'Marks Entry'!AC31","v":0},{"$f":"'Marks Entry'!AD31","v":""},{"$f":"'Marks Entry'!AE31","v":0},{"$f":"'Marks Entry'!AF31","v":0},{"$f":"'Marks Entry'!AG31","v":0},{"$f":"'Marks Entry'!AH31","v":0},{"$f":"'Marks Entry'!AI31","v":0},{"$f":"'Marks Entry'!AJ31","v":0},{"$f":"'Marks Entry'!AK31","v":0},{"$f":"'Marks Entry'!AL31","v":0},{"$f":"'Marks Entry'!AM31","v":0},{"$f":"'Marks Entry'!AN31","v":0},{"$f":"'Marks Entry'!AO31","v":0},{"$f":"'Marks Entry'!AP31","v":0},{"$f":"'Marks Entry'!AQ31","v":0},{"$f":"'Marks Entry'!AR31","v":0},{"$f":"'Marks Entry'!AS31","v":0},{"$f":"'Marks Entry'!AT31","v":0},{"$f":"'Marks Entry'!AU31","v":0},{"$f":"'Marks Entry'!AV31","v":0},{"$f":"'Marks Entry'!AW31","v":0},{"$f":"'Marks Entry'!AX31","v":"E"},{"$f":"'Marks Entry'!AY31","v":0},{"$f":"'Marks Entry'!AZ31","v":0},{"$f":"'Marks Entry'!BA31","v":0},{"$f":"'Marks Entry'!BB31","v":0},{"$f":"'Marks Entry'!BC31","v":0},{"$f":"'Marks Entry'!BD31","v":0},{"$f":"'Marks Entry'!BE31","v":0},{"$f":"'Marks Entry'!BF31","v":0},{"$f":"'Marks Entry'!BG31","v":0},{"$f":"'Marks Entry'!BH31","v":0},{"$f":"'Marks Entry'!BI31","v":0},{"$f":"'Marks Entry'!BJ31","v":0},{"$f":"'Marks Entry'!BK31","v":0},{"$f":"'Marks Entry'!BL31","v":0},{"$f":"'Marks Entry'!BM31","v":0},{"$f":"'Marks Entry'!BN31","v":0},{"$f":"'Marks Entry'!BO31","v":0},{"$f":"'Marks Entry'!BP31","v":0},{"$f":"'Marks Entry'!BQ31","v":0},{"$f":"'Marks Entry'!BR31","v":"E"},{"$f":"'Marks Entry'!BS31","v":0},{"$f":"'Marks Entry'!BT31","v":0},{"$f":"'Marks Entry'!BU31","v":0},{"$f":"'Marks Entry'!BV31","v":0},{"$f":"'Marks Entry'!BW31","v":0},{"$f":"'Marks Entry'!BX31","v":0},{"$f":"'Marks Entry'!BY31","v":0},{"$f":"'Marks Entry'!BZ31","v":0},{"$f":"'Marks Entry'!CA31","v":0},{"$f":"'Marks Entry'!CB31","v":0},{"$f":"'Marks Entry'!CC31","v":0},{"$f":"'Marks Entry'!CD31","v":0},{"$f":"'Marks Entry'!CE31","v":0},{"$f":"'Marks Entry'!CF31","v":0},{"$f":"'Marks Entry'!CG31","v":0},{"$f":"'Marks Entry'!CH31","v":0},{"$f":"'Marks Entry'!CI31","v":0},{"$f":"'Marks Entry'!CJ31","v":0},{"$f":"'Marks Entry'!CK31","v":0},{"$f":"'Marks Entry'!CL31","v":"E"},{"$f":"'Marks Entry'!CM31","v":0},{"$f":"'Marks Entry'!CN31","v":0},{"$f":"'Marks Entry'!CO31","v":0},{"$f":"'Marks Entry'!CP31","v":0},{"$f":"'Marks Entry'!CQ31","v":0},{"$f":"'Marks Entry'!CR31","v":0},{"$f":"'Marks Entry'!CS31","v":0},{"$f":"'Marks Entry'!CT31","v":0},{"$f":"'Marks Entry'!CU31","v":0},{"$f":"'Marks Entry'!CV31","v":0},{"$f":"'Marks Entry'!CW31","v":0},{"$f":"'Marks Entry'!CX31","v":0},{"$f":"'Marks Entry'!CY31","v":0},{"$f":"'Marks Entry'!CZ31","v":0},{"$f":"'Marks Entry'!DA31","v":0},{"$f":"'Marks Entry'!DB31","v":0},{"$f":"'Marks Entry'!DC31","v":0},{"$f":"'Marks Entry'!DD31","v":0},{"$f":"'Marks Entry'!DE31","v":0},{"$f":"'Marks Entry'!DF31","v":"E"},{"$f":"'Marks Entry'!DG31","v":0},{"$f":"'Marks Entry'!DH31","v":0},{"$f":"'Marks Entry'!DI31","v":0},{"$f":"'Marks Entry'!DJ31","v":0},{"$f":"'Marks Entry'!DK31","v":0},{"$f":"'Marks Entry'!DL31","v":0},{"$f":"'Marks Entry'!DM31","v":0},{"$f":"'Marks Entry'!DN31","v":0},{"$f":"'Marks Entry'!DO31","v":0},{"$f":"'Marks Entry'!DP31","v":0},{"$f":"'Marks Entry'!DQ31","v":0},{"$f":"'Marks Entry'!DR31","v":0},{"$f":"'Marks Entry'!DS31","v":0},{"$f":"'Marks Entry'!DT31","v":0},{"$f":"'Marks Entry'!DU31","v":0},{"$f":"'Marks Entry'!DV31","v":0},{"$f":"'Marks Entry'!DW31","v":0},{"$f":"'Marks Entry'!DX31","v":0},{"$f":"'Marks Entry'!DY31","v":0},{"$f":"'Marks Entry'!DZ31","v":"E"},{"$f":"'Marks Entry'!EA31","v":0},{"$f":"'Marks Entry'!EB31","v":0},{"$f":"'Marks Entry'!EC31","v":0},{"$f":"'Marks Entry'!ED31","v":0},{"$f":"'Marks Entry'!EE31","v":0},{"$f":"'Marks Entry'!EF31","v":0},{"$f":"'Marks Entry'!EG31","v":0},{"$f":"'Marks Entry'!EJ31","v":0},{"$f":"'Marks Entry'!EK31","v":0},{"$f":"'Marks Entry'!EL31","v":0},{"$f":"'Marks Entry'!EM31","v":0},{"$f":"'Marks Entry'!EN31","v":0},{"$f":"'Marks Entry'!EO31","v":0},{"$f":"'Marks Entry'!EP31","v":0},{"$f":"'Marks Entry'!ES31","v":0},{"$f":"'Marks Entry'!ET31","v":0},{"$f":"'Marks Entry'!EU31","v":0},{"$f":"'Marks Entry'!EV31","v":0},{"$f":"'Marks Entry'!EW31","v":0},{"$f":"'Marks Entry'!EX31","v":0},{"$f":"'Marks Entry'!EY31","v":0},{"$f":"'Marks Entry'!FB31","v":0},{"$f":"'Marks Entry'!FC31","v":0},{"$f":"'Marks Entry'!FD31","v":0},{"$f":"'Marks Entry'!FE31","v":""},{"$f":"'Marks Entry'!FF31","v":0},{"$f":"'Marks Entry'!FG31","v":0},{"$f":"'Marks Entry'!FH31","v":""},{"$f":"IF(OR('Marks Entry'!FI31=\"First\",'Marks Entry'!FI31=\"Second\",'Marks Entry'!FI31=\"Third\"),'Marks Entry'!FI31,\"\")","v":""},{"$f":"'Marks Entry'!FJ31","v":""},{"$f":"'Marks Entry'!FK31","v":""},{"$f":"'Marks Entry'!FL31","v":""},{"$f":"'Marks Entry'!FM31","v":""},{"$f":"'Marks Entry'!FO31","v":0}]
[null,0,{"$f":"'Marks Entry'!D32","v":0},{"$f":"'Marks Entry'!E32","v":0},{"$f":"'Marks Entry'!F32","v":0},{"$f":"'Marks Entry'!G32","v":0},{"$f":"'Marks Entry'!H32","v":0},{"$f":"'Marks Entry'!I32","v":0},{"$f":"'Marks Entry'!J32","v":0},{"$f":"'Marks Entry'!K32","v":"00:00:00"},{"$f":"'Marks Entry'!L32","v":0},{"$f":"'Marks Entry'!M32","v":0},{"$f":"'Marks Entry'!N32","v":0},{"$f":"'Marks Entry'!O32","v":0},{"$f":"'Marks Entry'!P32","v":0},{"$f":"'Marks Entry'!Q32","v":0},{"$f":"'Marks Entry'!R32","v":0},{"$f":"'Marks Entry'!S32","v":0},{"$f":"'Marks Entry'!T32","v":0},{"$f":"'Marks Entry'!U32","v":0},{"$f":"'Marks Entry'!V32","v":0},{"$f":"'Marks Entry'!W32","v":0},{"$f":"'Marks Entry'!X32","v":0},{"$f":"'Marks Entry'!Y32","v":0},{"$f":"'Marks Entry'!Z32","v":0},{"$f":"'Marks Entry'!AA32","v":0},{"$f":"'Marks Entry'!AB32","v":0},{"$f":"'Marks Entry'!AC32","v":0},{"$f":"'Marks Entry'!AD32","v":""},{"$f":"'Marks Entry'!AE32","v":0},{"$f":"'Marks Entry'!AF32","v":0},{"$f":"'Marks Entry'!AG32","v":0},{"$f":"'Marks Entry'!AH32","v":0},{"$f":"'Marks Entry'!AI32","v":0},{"$f":"'Marks Entry'!AJ32","v":0},{"$f":"'Marks Entry'!AK32","v":0},{"$f":"'Marks Entry'!AL32","v":0},{"$f":"'Marks Entry'!AM32","v":0},{"$f":"'Marks Entry'!AN32","v":0},{"$f":"'Marks Entry'!AO32","v":0},{"$f":"'Marks Entry'!AP32","v":0},{"$f":"'Marks Entry'!AQ32","v":0},{"$f":"'Marks Entry'!AR32","v":0},{"$f":"'Marks Entry'!AS32","v":0},{"$f":"'Marks Entry'!AT32","v":0},{"$f":"'Marks Entry'!AU32","v":0},{"$f":"'Marks Entry'!AV32","v":0},{"$f":"'Marks Entry'!AW32","v":0},{"$f":"'Marks Entry'!AX32","v":"E"},{"$f":"'Marks Entry'!AY32","v":0},{"$f":"'Marks Entry'!AZ32","v":0},{"$f":"'Marks Entry'!BA32","v":0},{"$f":"'Marks Entry'!BB32","v":0},{"$f":"'Marks Entry'!BC32","v":0},{"$f":"'Marks Entry'!BD32","v":0},{"$f":"'Marks Entry'!BE32","v":0},{"$f":"'Marks Entry'!BF32","v":0},{"$f":"'Marks Entry'!BG32","v":0},{"$f":"'Marks Entry'!BH32","v":0},{"$f":"'Marks Entry'!BI32","v":0},{"$f":"'Marks Entry'!BJ32","v":0},{"$f":"'Marks Entry'!BK32","v":0},{"$f":"'Marks Entry'!BL32","v":0},{"$f":"'Marks Entry'!BM32","v":0},{"$f":"'Marks Entry'!BN32","v":0},{"$f":"'Marks Entry'!BO32","v":0},{"$f":"'Marks Entry'!BP32","v":0},{"$f":"'Marks Entry'!BQ32","v":0},{"$f":"'Marks Entry'!BR32","v":"E"},{"$f":"'Marks Entry'!BS32","v":0},{"$f":"'Marks Entry'!BT32","v":0},{"$f":"'Marks Entry'!BU32","v":0},{"$f":"'Marks Entry'!BV32","v":0},{"$f":"'Marks Entry'!BW32","v":0},{"$f":"'Marks Entry'!BX32","v":0},{"$f":"'Marks Entry'!BY32","v":0},{"$f":"'Marks Entry'!BZ32","v":0},{"$f":"'Marks Entry'!CA32","v":0},{"$f":"'Marks Entry'!CB32","v":0},{"$f":"'Marks Entry'!CC32","v":0},{"$f":"'Marks Entry'!CD32","v":0},{"$f":"'Marks Entry'!CE32","v":0},{"$f":"'Marks Entry'!CF32","v":0},{"$f":"'Marks Entry'!CG32","v":0},{"$f":"'Marks Entry'!CH32","v":0},{"$f":"'Marks Entry'!CI32","v":0},{"$f":"'Marks Entry'!CJ32","v":0},{"$f":"'Marks Entry'!CK32","v":0},{"$f":"'Marks Entry'!CL32","v":"E"},{"$f":"'Marks Entry'!CM32","v":0},{"$f":"'Marks Entry'!CN32","v":0},{"$f":"'Marks Entry'!CO32","v":0},{"$f":"'Marks Entry'!CP32","v":0},{"$f":"'Marks Entry'!CQ32","v":0},{"$f":"'Marks Entry'!CR32","v":0},{"$f":"'Marks Entry'!CS32","v":0},{"$f":"'Marks Entry'!CT32","v":0},{"$f":"'Marks Entry'!CU32","v":0},{"$f":"'Marks Entry'!CV32","v":0},{"$f":"'Marks Entry'!CW32","v":0},{"$f":"'Marks Entry'!CX32","v":0},{"$f":"'Marks Entry'!CY32","v":0},{"$f":"'Marks Entry'!CZ32","v":0},{"$f":"'Marks Entry'!DA32","v":0},{"$f":"'Marks Entry'!DB32","v":0},{"$f":"'Marks Entry'!DC32","v":0},{"$f":"'Marks Entry'!DD32","v":0},{"$f":"'Marks Entry'!DE32","v":0},{"$f":"'Marks Entry'!DF32","v":"E"},{"$f":"'Marks Entry'!DG32","v":0},{"$f":"'Marks Entry'!DH32","v":0},{"$f":"'Marks Entry'!DI32","v":0},{"$f":"'Marks Entry'!DJ32","v":0},{"$f":"'Marks Entry'!DK32","v":0},{"$f":"'Marks Entry'!DL32","v":0},{"$f":"'Marks Entry'!DM32","v":0},{"$f":"'Marks Entry'!DN32","v":0},{"$f":"'Marks Entry'!DO32","v":0},{"$f":"'Marks Entry'!DP32","v":0},{"$f":"'Marks Entry'!DQ32","v":0},{"$f":"'Marks Entry'!DR32","v":0},{"$f":"'Marks Entry'!DS32","v":0},{"$f":"'Marks Entry'!DT32","v":0},{"$f":"'Marks Entry'!DU32","v":0},{"$f":"'Marks Entry'!DV32","v":0},{"$f":"'Marks Entry'!DW32","v":0},{"$f":"'Marks Entry'!DX32","v":0},{"$f":"'Marks Entry'!DY32","v":0},{"$f":"'Marks Entry'!DZ32","v":"E"},{"$f":"'Marks Entry'!EA32","v":0},{"$f":"'Marks Entry'!EB32","v":0},{"$f":"'Marks Entry'!EC32","v":0},{"$f":"'Marks Entry'!ED32","v":0},{"$f":"'Marks Entry'!EE32","v":0},{"$f":"'Marks Entry'!EF32","v":0},{"$f":"'Marks Entry'!EG32","v":0},{"$f":"'Marks Entry'!EJ32","v":0},{"$f":"'Marks Entry'!EK32","v":0},{"$f":"'Marks Entry'!EL32","v":0},{"$f":"'Marks Entry'!EM32","v":0},{"$f":"'Marks Entry'!EN32","v":0},{"$f":"'Marks Entry'!EO32","v":0},{"$f":"'Marks Entry'!EP32","v":0},{"$f":"'Marks Entry'!ES32","v":0},{"$f":"'Marks Entry'!ET32","v":0},{"$f":"'Marks Entry'!EU32","v":0},{"$f":"'Marks Entry'!EV32","v":0},{"$f":"'Marks Entry'!EW32","v":0},{"$f":"'Marks Entry'!EX32","v":0},{"$f":"'Marks Entry'!EY32","v":0},{"$f":"'Marks Entry'!FB32","v":0},{"$f":"'Marks Entry'!FC32","v":0},{"$f":"'Marks Entry'!FD32","v":0},{"$f":"'Marks Entry'!FE32","v":""},{"$f":"'Marks Entry'!FF32","v":0},{"$f":"'Marks Entry'!FG32","v":0},{"$f":"'Marks Entry'!FH32","v":""},{"$f":"IF(OR('Marks Entry'!FI32=\"First\",'Marks Entry'!FI32=\"Second\",'Marks Entry'!FI32=\"Third\"),'Marks Entry'!FI32,\"\")","v":""},{"$f":"'Marks Entry'!FJ32","v":""},{"$f":"'Marks Entry'!FK32","v":""},{"$f":"'Marks Entry'!FL32","v":""},{"$f":"'Marks Entry'!FM32","v":""},{"$f":"'Marks Entry'!FO32","v":0}]
[null,0,{"$f":"'Marks Entry'!D33","v":0},{"$f":"'Marks Entry'!E33","v":0},{"$f":"'Marks Entry'!F33","v":0},{"$f":"'Marks Entry'!G33","v":0},{"$f":"'Marks Entry'!H33","v":0},{"$f":"'Marks Entry'!I33","v":0},{"$f":"'Marks Entry'!J33","v":0},{"$f":"'Marks Entry'!K33","v":"00:00:00"},{"$f":"'Marks Entry'!L33","v":0},{"$f":"'Marks Entry'!M33","v":0},{"$f":"'Marks Entry'!N33","v":0},{"$f":"'Marks Entry'!O33","v":0},{"$f":"'Marks Entry'!P33","v":0},{"$f":"'Marks Entry'!Q33","v":0},{"$f":"'Marks Entry'!R33","v":0},{"$f":"'Marks Entry'!S33","v":0},{"$f":"'Marks Entry'!T33","v":0},{"$f":"'Marks Entry'!U33","v":0},{"$f":"'Marks Entry'!V33","v":0},{"$f":"'Marks Entry'!W33","v":0},{"$f":"'Marks Entry'!X33","v":0},{"$f":"'Marks Entry'!Y33","v":0},{"$f":"'Marks Entry'!Z33","v":0},{"$f":"'Marks Entry'!AA33","v":0},{"$f":"'Marks Entry'!AB33","v":0},{"$f":"'Marks Entry'!AC33","v":0},{"$f":"'Marks Entry'!AD33","v":""},{"$f":"'Marks Entry'!AE33","v":0},{"$f":"'Marks Entry'!AF33","v":0},{"$f":"'Marks Entry'!AG33","v":0},{"$f":"'Marks Entry'!AH33","v":0},{"$f":"'Marks Entry'!AI33","v":0},{"$f":"'Marks Entry'!AJ33","v":0},{"$f":"'Marks Entry'!AK33","v":0},{"$f":"'Marks Entry'!AL33","v":0},{"$f":"'Marks Entry'!AM33","v":0},{"$f":"'Marks Entry'!AN33","v":0},{"$f":"'Marks Entry'!AO33","v":0},{"$f":"'Marks Entry'!AP33","v":0},{"$f":"'Marks Entry'!AQ33","v":0},{"$f":"'Marks Entry'!AR33","v":0},{"$f":"'Marks Entry'!AS33","v":0},{"$f":"'Marks Entry'!AT33","v":0},{"$f":"'Marks Entry'!AU33","v":0},{"$f":"'Marks Entry'!AV33","v":0},{"$f":"'Marks Entry'!AW33","v":0},{"$f":"'Marks Entry'!AX33","v":"E"},{"$f":"'Marks Entry'!AY33","v":0},{"$f":"'Marks Entry'!AZ33","v":0},{"$f":"'Marks Entry'!BA33","v":0},{"$f":"'Marks Entry'!BB33","v":0},{"$f":"'Marks Entry'!BC33","v":0},{"$f":"'Marks Entry'!BD33","v":0},{"$f":"'Marks Entry'!BE33","v":0},{"$f":"'Marks Entry'!BF33","v":0},{"$f":"'Marks Entry'!BG33","v":0},{"$f":"'Marks Entry'!BH33","v":0},{"$f":"'Marks Entry'!BI33","v":0},{"$f":"'Marks Entry'!BJ33","v":0},{"$f":"'Marks Entry'!BK33","v":0},{"$f":"'Marks Entry'!BL33","v":0},{"$f":"'Marks Entry'!BM33","v":0},{"$f":"'Marks Entry'!BN33","v":0},{"$f":"'Marks Entry'!BO33","v":0},{"$f":"'Marks Entry'!BP33","v":0},{"$f":"'Marks Entry'!BQ33","v":0},{"$f":"'Marks Entry'!BR33","v":"E"},{"$f":"'Marks Entry'!BS33","v":0},{"$f":"'Marks Entry'!BT33","v":0},{"$f":"'Marks Entry'!BU33","v":0},{"$f":"'Marks Entry'!BV33","v":0},{"$f":"'Marks Entry'!BW33","v":0},{"$f":"'Marks Entry'!BX33","v":0},{"$f":"'Marks Entry'!BY33","v":0},{"$f":"'Marks Entry'!BZ33","v":0},{"$f":"'Marks Entry'!CA33","v":0},{"$f":"'Marks Entry'!CB33","v":0},{"$f":"'Marks Entry'!CC33","v":0},{"$f":"'Marks Entry'!CD33","v":0},{"$f":"'Marks Entry'!CE33","v":0},{"$f":"'Marks Entry'!CF33","v":0},{"$f":"'Marks Entry'!CG33","v":0},{"$f":"'Marks Entry'!CH33","v":0},{"$f":"'Marks Entry'!CI33","v":0},{"$f":"'Marks Entry'!CJ33","v":0},{"$f":"'Marks Entry'!CK33","v":0},{"$f":"'Marks Entry'!CL33","v":"E"},{"$f":"'Marks Entry'!CM33","v":0},{"$f":"'Marks Entry'!CN33","v":0},{"$f":"'Marks Entry'!CO33","v":0},{"$f":"'Marks Entry'!CP33","v":0},{"$f":"'Marks Entry'!CQ33","v":0},{"$f":"'Marks Entry'!CR33","v":0},{"$f":"'Marks Entry'!CS33","v":0},{"$f":"'Marks Entry'!CT33","v":0},{"$f":"'Marks Entry'!CU33","v":0},{"$f":"'Marks Entry'!CV33","v":0},{"$f":"'Marks Entry'!CW33","v":0},{"$f":"'Marks Entry'!CX33","v":0},{"$f":"'Marks Entry'!CY33","v":0},{"$f":"'Marks Entry'!CZ33","v":0},{"$f":"'Marks Entry'!DA33","v":0},{"$f":"'Marks Entry'!DB33","v":0},{"$f":"'Marks Entry'!DC33","v":0},{"$f":"'Marks Entry'!DD33","v":0},{"$f":"'Marks Entry'!DE33","v":0},{"$f":"'Marks Entry'!DF33","v":"E"},{"$f":"'Marks Entry'!DG33","v":0},{"$f":"'Marks Entry'!DH33","v":0},{"$f":"'Marks Entry'!DI33","v":0},{"$f":"'Marks Entry'!DJ33","v":0},{"$f":"'Marks Entry'!DK33","v":0},{"$f":"'Marks Entry'!DL33","v":0},{"$f":"'Marks Entry'!DM33","v":0},{"$f":"'Marks Entry'!DN33","v":0},{"$f":"'Marks Entry'!DO33","v":0},{"$f":"'Marks Entry'!DP33","v":0},{"$f":"'Marks Entry'!DQ33","v":0},{"$f":"'Marks Entry'!DR33","v":0},{"$f":"'Marks Entry'!DS33","v":0},{"$f":"'Marks Entry'!DT33","v":0},{"$f":"'Marks Entry'!DU33","v":0},{"$f":"'Marks Entry'!DV33","v":0},{"$f":"'Marks Entry'!DW33","v":0},{"$f":"'Marks Entry'!DX33","v":0},{"$f":"'Marks Entry'!DY33","v":0},{"$f":"'Marks Entry'!DZ33","v":"E"},{"$f":"'Marks Entry'!EA33","v":0},{"$f":"'Marks Entry'!EB33","v":0},{"$f":"'Marks Entry'!EC33","v":0},{"$f":"'Marks Entry'!ED33","v":0},{"$f":"'Marks Entry'!EE33","v":0},{"$f":"'Marks Entry'!EF33","v":0},{"$f":"'Marks Entry'!EG33","v":0},{"$f":"'Marks Entry'!EJ33","v":0},{"$f":"'Marks Entry'!EK33","v":0},{"$f":"'Marks Entry'!EL33","v":0},{"$f":"'Marks Entry'!EM33","v":0},{"$f":"'Marks Entry'!EN33","v":0},{"$f":"'Marks Entry'!EO33","v":0},{"$f":"'Marks Entry'!EP33","v":0},{"$f":"'Marks Entry'!ES33","v":0},{"$f":"'Marks Entry'!ET33","v":0},{"$f":"'Marks Entry'!EU33","v":0},{"$f":"'Marks Entry'!EV33","v":0},{"$f":"'Marks Entry'!EW33","v":0},{"$f":"'Marks Entry'!EX33","v":0},{"$f":"'Marks Entry'!EY33","v":0},{"$f":"'Marks Entry'!FB33","v":0},{"$f":"'Marks Entry'!FC33","v":0},{"$f":"'Marks Entry'!FD33","v":0},{"$f":"'Marks Entry'!FE33","v":""},{"$f":"'Marks Entry'!FF33","v":0},{"$f":"'Marks Entry'!FG33","v":0},{"$f":"'Marks Entry'!FH33","v":""},{"$f":"IF(OR('Marks Entry'!FI33=\"First\",'Marks Entry'!FI33=\"Second\",'Marks Entry'!FI33=\"Third\"),'Marks Entry'!FI33,\"\")","v":""},{"$f":"'Marks Entry'!FJ33","v":""},{"$f":"'Marks Entry'!FK33","v":""},{"$f":"'Marks Entry'!FL33","v":""},{"$f":"'Marks Entry'!FM33","v":""},{"$f":"'Marks Entry'!FO33","v":0}]
[null,0,{"$f":"'Marks Entry'!D34","v":0},{"$f":"'Marks Entry'!E34","v":0},{"$f":"'Marks Entry'!F34","v":0},{"$f":"'Marks Entry'!G34","v":0},{"$f":"'Marks Entry'!H34","v":0},{"$f":"'Marks Entry'!I34","v":0},{"$f":"'Marks Entry'!J34","v":0},{"$f":"'Marks Entry'!K34","v":"00:00:00"},{"$f":"'Marks Entry'!L34","v":0},{"$f":"'Marks Entry'!M34","v":0},{"$f":"'Marks Entry'!N34","v":0},{"$f":"'Marks Entry'!O34","v":0},{"$f":"'Marks Entry'!P34","v":0},{"$f":"'Marks Entry'!Q34","v":0},{"$f":"'Marks Entry'!R34","v":0},{"$f":"'Marks Entry'!S34","v":0},{"$f":"'Marks Entry'!T34","v":0},{"$f":"'Marks Entry'!U34","v":0},{"$f":"'Marks Entry'!V34","v":0},{"$f":"'Marks Entry'!W34","v":0},{"$f":"'Marks Entry'!X34","v":0},{"$f":"'Marks Entry'!Y34","v":0},{"$f":"'Marks Entry'!Z34","v":0},{"$f":"'Marks Entry'!AA34","v":0},{"$f":"'Marks Entry'!AB34","v":0},{"$f":"'Marks Entry'!AC34","v":0},{"$f":"'Marks Entry'!AD34","v":""},{"$f":"'Marks Entry'!AE34","v":0},{"$f":"'Marks Entry'!AF34","v":0},{"$f":"'Marks Entry'!AG34","v":0},{"$f":"'Marks Entry'!AH34","v":0},{"$f":"'Marks Entry'!AI34","v":0},{"$f":"'Marks Entry'!AJ34","v":0},{"$f":"'Marks Entry'!AK34","v":0},{"$f":"'Marks Entry'!AL34","v":0},{"$f":"'Marks Entry'!AM34","v":0},{"$f":"'Marks Entry'!AN34","v":0},{"$f":"'Marks Entry'!AO34","v":0},{"$f":"'Marks Entry'!AP34","v":0},{"$f":"'Marks Entry'!AQ34","v":0},{"$f":"'Marks Entry'!AR34","v":0},{"$f":"'Marks Entry'!AS34","v":0},{"$f":"'Marks Entry'!AT34","v":0},{"$f":"'Marks Entry'!AU34","v":0},{"$f":"'Marks Entry'!AV34","v":0},{"$f":"'Marks Entry'!AW34","v":0},{"$f":"'Marks Entry'!AX34","v":"E"},{"$f":"'Marks Entry'!AY34","v":0},{"$f":"'Marks Entry'!AZ34","v":0},{"$f":"'Marks Entry'!BA34","v":0},{"$f":"'Marks Entry'!BB34","v":0},{"$f":"'Marks Entry'!BC34","v":0},{"$f":"'Marks Entry'!BD34","v":0},{"$f":"'Marks Entry'!BE34","v":0},{"$f":"'Marks Entry'!BF34","v":0},{"$f":"'Marks Entry'!BG34","v":0},{"$f":"'Marks Entry'!BH34","v":0},{"$f":"'Marks Entry'!BI34","v":0},{"$f":"'Marks Entry'!BJ34","v":0},{"$f":"'Marks Entry'!BK34","v":0},{"$f":"'Marks Entry'!BL34","v":0},{"$f":"'Marks Entry'!BM34","v":0},{"$f":"'Marks Entry'!BN34","v":0},{"$f":"'Marks Entry'!BO34","v":0},{"$f":"'Marks Entry'!BP34","v":0},{"$f":"'Marks Entry'!BQ34","v":0},{"$f":"'Marks Entry'!BR34","v":"E"},{"$f":"'Marks Entry'!BS34","v":0},{"$f":"'Marks Entry'!BT34","v":0},{"$f":"'Marks Entry'!BU34","v":0},{"$f":"'Marks Entry'!BV34","v":0},{"$f":"'Marks Entry'!BW34","v":0},{"$f":"'Marks Entry'!BX34","v":0},{"$f":"'Marks Entry'!BY34","v":0},{"$f":"'Marks Entry'!BZ34","v":0},{"$f":"'Marks Entry'!CA34","v":0},{"$f":"'Marks Entry'!CB34","v":0},{"$f":"'Marks Entry'!CC34","v":0},{"$f":"'Marks Entry'!CD34","v":0},{"$f":"'Marks Entry'!CE34","v":0},{"$f":"'Marks Entry'!CF34","v":0},{"$f":"'Marks Entry'!CG34","v":0},{"$f":"'Marks Entry'!CH34","v":0},{"$f":"'Marks Entry'!CI34","v":0},{"$f":"'Marks Entry'!CJ34","v":0},{"$f":"'Marks Entry'!CK34","v":0},{"$f":"'Marks Entry'!CL34","v":"E"},{"$f":"'Marks Entry'!CM34","v":0},{"$f":"'Marks Entry'!CN34","v":0},{"$f":"'Marks Entry'!CO34","v":0},{"$f":"'Marks Entry'!CP34","v":0},{"$f":"'Marks Entry'!CQ34","v":0},{"$f":"'Marks Entry'!CR34","v":0},{"$f":"'Marks Entry'!CS34","v":0},{"$f":"'Marks Entry'!CT34","v":0},{"$f":"'Marks Entry'!CU34","v":0},{"$f":"'Marks Entry'!CV34","v":0},{"$f":"'Marks Entry'!CW34","v":0},{"$f":"'Marks Entry'!CX34","v":0},{"$f":"'Marks Entry'!CY34","v":0},{"$f":"'Marks Entry'!CZ34","v":0},{"$f":"'Marks Entry'!DA34","v":0},{"$f":"'Marks Entry'!DB34","v":0},{"$f":"'Marks Entry'!DC34","v":0},{"$f":"'Marks Entry'!DD34","v":0},{"$f":"'Marks Entry'!DE34","v":0},{"$f":"'Marks Entry'!DF34","v":"E"},{"$f":"'Marks Entry'!DG34","v":0},{"$f":"'Marks Entry'!DH34","v":0},{"$f":"'Marks Entry'!DI34","v":0},{"$f":"'Marks Entry'!DJ34","v":0},{"$f":"'Marks Entry'!DK34","v":0},{"$f":"'Marks Entry'!DL34","v":0},{"$f":"'Marks Entry'!DM34","v":0},{"$f":"'Marks Entry'!DN34","v":0},{"$f":"'Marks Entry'!DO34","v":0},{"$f":"'Marks Entry'!DP34","v":0},{"$f":"'Marks Entry'!DQ34","v":0},{"$f":"'Marks Entry'!DR34","v":0},{"$f":"'Marks Entry'!DS34","v":0},{"$f":"'Marks Entry'!DT34","v":0},{"$f":"'Marks Entry'!DU34","v":0},{"$f":"'Marks Entry'!DV34","v":0},{"$f":"'Marks Entry'!DW34","v":0},{"$f":"'Marks Entry'!DX34","v":0},{"$f":"'Marks Entry'!DY34","v":0},{"$f":"'Marks Entry'!DZ34","v":"E"},{"$f":"'Marks Entry'!EA34","v":0},{"$f":"'Marks Entry'!EB34","v":0},{"$f":"'Marks Entry'!EC34","v":0},{"$f":"'Marks Entry'!ED34","v":0},{"$f":"'Marks Entry'!EE34","v":0},{"$f":"'Marks Entry'!EF34","v":0},{"$f":"'Marks Entry'!EG34","v":0},{"$f":"'Marks Entry'!EJ34","v":0},{"$f":"'Marks Entry'!EK34","v":0},{"$f":"'Marks Entry'!EL34","v":0},{"$f":"'Marks Entry'!EM34","v":0},{"$f":"'Marks Entry'!EN34","v":0},{"$f":"'Marks Entry'!EO34","v":0},{"$f":"'Marks Entry'!EP34","v":0},{"$f":"'Marks Entry'!ES34","v":0},{"$f":"'Marks Entry'!ET34","v":0},{"$f":"'Marks Entry'!EU34","v":0},{"$f":"'Marks Entry'!EV34","v":0},{"$f":"'Marks Entry'!EW34","v":0},{"$f":"'Marks Entry'!EX34","v":0},{"$f":"'Marks Entry'!EY34","v":0},{"$f":"'Marks Entry'!FB34","v":0},{"$f":"'Marks Entry'!FC34","v":0},{"$f":"'Marks Entry'!FD34","v":0},{"$f":"'Marks Entry'!FE34","v":""},{"$f":"'Marks Entry'!FF34","v":0},{"$f":"'Marks Entry'!FG34","v":0},{"$f":"'Marks Entry'!FH34","v":""},{"$f":"IF(OR('Marks Entry'!FI34=\"First\",'Marks Entry'!FI34=\"Second\",'Marks Entry'!FI34=\"Third\"),'Marks Entry'!FI34,\"\")","v":""},{"$f":"'Marks Entry'!FJ34","v":""},{"$f":"'Marks Entry'!FK34","v":""},{"$f":"'Marks Entry'!FL34","v":""},{"$f":"'Marks Entry'!FM34","v":""},{"$f":"'Marks Entry'!FO34","v":0}]
[null,0,{"$f":"'Marks Entry'!D35","v":0},{"$f":"'Marks Entry'!E35","v":0},{"$f":"'Marks Entry'!F35","v":0},{"$f":"'Marks Entry'!G35","v":0},{"$f":"'Marks Entry'!H35","v":0},{"$f":"'Marks Entry'!I35","v":0},{"$f":"'Marks Entry'!J35","v":0},{"$f":"'Marks Entry'!K35","v":"00:00:00"},{"$f":"'Marks Entry'!L35","v":0},{"$f":"'Marks Entry'!M35","v":0},{"$f":"'Marks Entry'!N35","v":0},{"$f":"'Marks Entry'!O35","v":0},{"$f":"'Marks Entry'!P35","v":0},{"$f":"'Marks Entry'!Q35","v":0},{"$f":"'Marks Entry'!R35","v":0},{"$f":"'Marks Entry'!S35","v":0},{"$f":"'Marks Entry'!T35","v":0},{"$f":"'Marks Entry'!U35","v":0},{"$f":"'Marks Entry'!V35","v":0},{"$f":"'Marks Entry'!W35","v":0},{"$f":"'Marks Entry'!X35","v":0},{"$f":"'Marks Entry'!Y35","v":0},{"$f":"'Marks Entry'!Z35","v":0},{"$f":"'Marks Entry'!AA35","v":0},{"$f":"'Marks Entry'!AB35","v":0},{"$f":"'Marks Entry'!AC35","v":0},{"$f":"'Marks Entry'!AD35","v":""},{"$f":"'Marks Entry'!AE35","v":0},{"$f":"'Marks Entry'!AF35","v":0},{"$f":"'Marks Entry'!AG35","v":0},{"$f":"'Marks Entry'!AH35","v":0},{"$f":"'Marks Entry'!AI35","v":0},{"$f":"'Marks Entry'!AJ35","v":0},{"$f":"'Marks Entry'!AK35","v":0},{"$f":"'Marks Entry'!AL35","v":0},{"$f":"'Marks Entry'!AM35","v":0},{"$f":"'Marks Entry'!AN35","v":0},{"$f":"'Marks Entry'!AO35","v":0},{"$f":"'Marks Entry'!AP35","v":0},{"$f":"'Marks Entry'!AQ35","v":0},{"$f":"'Marks Entry'!AR35","v":0},{"$f":"'Marks Entry'!AS35","v":0},{"$f":"'Marks Entry'!AT35","v":0},{"$f":"'Marks Entry'!AU35","v":0},{"$f":"'Marks Entry'!AV35","v":0},{"$f":"'Marks Entry'!AW35","v":0},{"$f":"'Marks Entry'!AX35","v":"E"},{"$f":"'Marks Entry'!AY35","v":0},{"$f":"'Marks Entry'!AZ35","v":0},{"$f":"'Marks Entry'!BA35","v":0},{"$f":"'Marks Entry'!BB35","v":0},{"$f":"'Marks Entry'!BC35","v":0},{"$f":"'Marks Entry'!BD35","v":0},{"$f":"'Marks Entry'!BE35","v":0},{"$f":"'Marks Entry'!BF35","v":0},{"$f":"'Marks Entry'!BG35","v":0},{"$f":"'Marks Entry'!BH35","v":0},{"$f":"'Marks Entry'!BI35","v":0},{"$f":"'Marks Entry'!BJ35","v":0},{"$f":"'Marks Entry'!BK35","v":0},{"$f":"'Marks Entry'!BL35","v":0},{"$f":"'Marks Entry'!BM35","v":0},{"$f":"'Marks Entry'!BN35","v":0},{"$f":"'Marks Entry'!BO35","v":0},{"$f":"'Marks Entry'!BP35","v":0},{"$f":"'Marks Entry'!BQ35","v":0},{"$f":"'Marks Entry'!BR35","v":"E"},{"$f":"'Marks Entry'!BS35","v":0},{"$f":"'Marks Entry'!BT35","v":0},{"$f":"'Marks Entry'!BU35","v":0},{"$f":"'Marks Entry'!BV35","v":0},{"$f":"'Marks Entry'!BW35","v":0},{"$f":"'Marks Entry'!BX35","v":0},{"$f":"'Marks Entry'!BY35","v":0},{"$f":"'Marks Entry'!BZ35","v":0},{"$f":"'Marks Entry'!CA35","v":0},{"$f":"'Marks Entry'!CB35","v":0},{"$f":"'Marks Entry'!CC35","v":0},{"$f":"'Marks Entry'!CD35","v":0},{"$f":"'Marks Entry'!CE35","v":0},{"$f":"'Marks Entry'!CF35","v":0},{"$f":"'Marks Entry'!CG35","v":0},{"$f":"'Marks Entry'!CH35","v":0},{"$f":"'Marks Entry'!CI35","v":0},{"$f":"'Marks Entry'!CJ35","v":0},{"$f":"'Marks Entry'!CK35","v":0},{"$f":"'Marks Entry'!CL35","v":"E"},{"$f":"'Marks Entry'!CM35","v":0},{"$f":"'Marks Entry'!CN35","v":0},{"$f":"'Marks Entry'!CO35","v":0},{"$f":"'Marks Entry'!CP35","v":0},{"$f":"'Marks Entry'!CQ35","v":0},{"$f":"'Marks Entry'!CR35","v":0},{"$f":"'Marks Entry'!CS35","v":0},{"$f":"'Marks Entry'!CT35","v":0},{"$f":"'Marks Entry'!CU35","v":0},{"$f":"'Marks Entry'!CV35","v":0},{"$f":"'Marks Entry'!CW35","v":0},{"$f":"'Marks Entry'!CX35","v":0},{"$f":"'Marks Entry'!CY35","v":0},{"$f":"'Marks Entry'!CZ35","v":0},{"$f":"'Marks Entry'!DA35","v":0},{"$f":"'Marks Entry'!DB35","v":0},{"$f":"'Marks Entry'!DC35","v":0},{"$f":"'Marks Entry'!DD35","v":0},{"$f":"'Marks Entry'!DE35","v":0},{"$f":"'Marks Entry'!DF35","v":"E"},{"$f":"'Marks Entry'!DG35","v":0},{"$f":"'Marks Entry'!DH35","v":0},{"$f":"'Marks Entry'!DI35","v":0},{"$f":"'Marks Entry'!DJ35","v":0},{"$f":"'Marks Entry'!DK35","v":0},{"$f":"'Marks Entry'!DL35","v":0},{"$f":"'Marks Entry'!DM35","v":0},{"$f":"'Marks Entry'!DN35","v":0},{"$f":"'Marks Entry'!DO35","v":0},{"$f":"'Marks Entry'!DP35","v":0},{"$f":"'Marks Entry'!DQ35","v":0},{"$f":"'Marks Entry'!DR35","v":0},{"$f":"'Marks Entry'!DS35","v":0},{"$f":"'Marks Entry'!DT35","v":0},{"$f":"'Marks Entry'!DU35","v":0},{"$f":"'Marks Entry'!DV35","v":0},{"$f":"'Marks Entry'!DW35","v":0},{"$f":"'Marks Entry'!DX35","v":0},{"$f":"'Marks Entry'!DY35","v":0},{"$f":"'Marks Entry'!DZ35","v":"E"},{"$f":"'Marks Entry'!EA35","v":0},{"$f":"'Marks Entry'!EB35","v":0},{"$f":"'Marks Entry'!EC35","v":0},{"$f":"'Marks Entry'!ED35","v":0},{"$f":"'Marks Entry'!EE35","v":0},{"$f":"'Marks Entry'!EF35","v":0},{"$f":"'Marks Entry'!EG35","v":0},{"$f":"'Marks Entry'!EJ35","v":0},{"$f":"'Marks Entry'!EK35","v":0},{"$f":"'Marks Entry'!EL35","v":0},{"$f":"'Marks Entry'!EM35","v":0},{"$f":"'Marks Entry'!EN35","v":0},{"$f":"'Marks Entry'!EO35","v":0},{"$f":"'Marks Entry'!EP35","v":0},{"$f":"'Marks Entry'!ES35","v":0},{"$f":"'Marks Entry'!ET35","v":0},{"$f":"'Marks Entry'!EU35","v":0},{"$f":"'Marks Entry'!EV35","v":0},{"$f":"'Marks Entry'!EW35","v":0},{"$f":"'Marks Entry'!EX35","v":0},{"$f":"'Marks Entry'!EY35","v":0},{"$f":"'Marks Entry'!FB35","v":0},{"$f":"'Marks Entry'!FC35","v":0},{"$f":"'Marks Entry'!FD35","v":0},{"$f":"'Marks Entry'!FE35","v":""},{"$f":"'Marks Entry'!FF35","v":0},{"$f":"'Marks Entry'!FG35","v":0},{"$f":"'Marks Entry'!FH35","v":""},{"$f":"IF(OR('Marks Entry'!FI35=\"First\",'Marks Entry'!FI35=\"Second\",'Marks Entry'!FI35=\"Third\"),'Marks Entry'!FI35,\"\")","v":""},{"$f":"'Marks Entry'!FJ35","v":""},{"$f":"'Marks Entry'!FK35","v":""},{"$f":"'Marks Entry'!FL35","v":""},{"$f":"'Marks Entry'!FM35","v":""},{"$f":"'Marks Entry'!FO35","v":0}]
[null,0,{"$f":"'Marks Entry'!D36","v":0},{"$f":"'Marks Entry'!E36","v":0},{"$f":"'Marks Entry'!F36","v":0},{"$f":"'Marks Entry'!G36","v":0},{"$f":"'Marks Entry'!H36","v":0},{"$f":"'Marks Entry'!I36","v":0},{"$f":"'Marks Entry'!J36","v":0},{"$f":"'Marks Entry'!K36","v":"00:00:00"},{"$f":"'Marks Entry'!L36","v":0},{"$f":"'Marks Entry'!M36","v":0},{"$f":"'Marks Entry'!N36","v":0},{"$f":"'Marks Entry'!O36","v":0},{"$f":"'Marks Entry'!P36","v":0},{"$f":"'Marks Entry'!Q36","v":0},{"$f":"'Marks Entry'!R36","v":0},{"$f":"'Marks Entry'!S36","v":0},{"$f":"'Marks Entry'!T36","v":0},{"$f":"'Marks Entry'!U36","v":0},{"$f":"'Marks Entry'!V36","v":0},{"$f":"'Marks Entry'!W36","v":0},{"$f":"'Marks Entry'!X36","v":0},{"$f":"'Marks Entry'!Y36","v":0},{"$f":"'Marks Entry'!Z36","v":0},{"$f":"'Marks Entry'!AA36","v":0},{"$f":"'Marks Entry'!AB36","v":0},{"$f":"'Marks Entry'!AC36","v":0},{"$f":"'Marks Entry'!AD36","v":""},{"$f":"'Marks Entry'!AE36","v":0},{"$f":"'Marks Entry'!AF36","v":0},{"$f":"'Marks Entry'!AG36","v":0},{"$f":"'Marks Entry'!AH36","v":0},{"$f":"'Marks Entry'!AI36","v":0},{"$f":"'Marks Entry'!AJ36","v":0},{"$f":"'Marks Entry'!AK36","v":0},{"$f":"'Marks Entry'!AL36","v":0},{"$f":"'Marks Entry'!AM36","v":0},{"$f":"'Marks Entry'!AN36","v":0},{"$f":"'Marks Entry'!AO36","v":0},{"$f":"'Marks Entry'!AP36","v":0},{"$f":"'Marks Entry'!AQ36","v":0},{"$f":"'Marks Entry'!AR36","v":0},{"$f":"'Marks Entry'!AS36","v":0},{"$f":"'Marks Entry'!AT36","v":0},{"$f":"'Marks Entry'!AU36","v":0},{"$f":"'Marks Entry'!AV36","v":0},{"$f":"'Marks Entry'!AW36","v":0},{"$f":"'Marks Entry'!AX36","v":"E"},{"$f":"'Marks Entry'!AY36","v":0},{"$f":"'Marks Entry'!AZ36","v":0},{"$f":"'Marks Entry'!BA36","v":0},{"$f":"'Marks Entry'!BB36","v":0},{"$f":"'Marks Entry'!BC36","v":0},{"$f":"'Marks Entry'!BD36","v":0},{"$f":"'Marks Entry'!BE36","v":0},{"$f":"'Marks Entry'!BF36","v":0},{"$f":"'Marks Entry'!BG36","v":0},{"$f":"'Marks Entry'!BH36","v":0},{"$f":"'Marks Entry'!BI36","v":0},{"$f":"'Marks Entry'!BJ36","v":0},{"$f":"'Marks Entry'!BK36","v":0},{"$f":"'Marks Entry'!BL36","v":0},{"$f":"'Marks Entry'!BM36","v":0},{"$f":"'Marks Entry'!BN36","v":0},{"$f":"'Marks Entry'!BO36","v":0},{"$f":"'Marks Entry'!BP36","v":0},{"$f":"'Marks Entry'!BQ36","v":0},{"$f":"'Marks Entry'!BR36","v":"E"},{"$f":"'Marks Entry'!BS36","v":0},{"$f":"'Marks Entry'!BT36","v":0},{"$f":"'Marks Entry'!BU36","v":0},{"$f":"'Marks Entry'!BV36","v":0},{"$f":"'Marks Entry'!BW36","v":0},{"$f":"'Marks Entry'!BX36","v":0},{"$f":"'Marks Entry'!BY36","v":0},{"$f":"'Marks Entry'!BZ36","v":0},{"$f":"'Marks Entry'!CA36","v":0},{"$f":"'Marks Entry'!CB36","v":0},{"$f":"'Marks Entry'!CC36","v":0},{"$f":"'Marks Entry'!CD36","v":0},{"$f":"'Marks Entry'!CE36","v":0},{"$f":"'Marks Entry'!CF36","v":0},{"$f":"'Marks Entry'!CG36","v":0},{"$f":"'Marks Entry'!CH36","v":0},{"$f":"'Marks Entry'!CI36","v":0},{"$f":"'Marks Entry'!CJ36","v":0},{"$f":"'Marks Entry'!CK36","v":0},{"$f":"'Marks Entry'!CL36","v":"E"},{"$f":"'Marks Entry'!CM36","v":0},{"$f":"'Marks Entry'!CN36","v":0},{"$f":"'Marks Entry'!CO36","v":0},{"$f":"'Marks Entry'!CP36","v":0},{"$f":"'Marks Entry'!CQ36","v":0},{"$f":"'Marks Entry'!CR36","v":0},{"$f":"'Marks Entry'!CS36","v":0},{"$f":"'Marks Entry'!CT36","v":0},{"$f":"'Marks Entry'!CU36","v":0},{"$f":"'Marks Entry'!CV36","v":0},{"$f":"'Marks Entry'!CW36","v":0},{"$f":"'Marks Entry'!CX36","v":0},{"$f":"'Marks Entry'!CY36","v":0},{"$f":"'Marks Entry'!CZ36","v":0},{"$f":"'Marks Entry'!DA36","v":0},{"$f":"'Marks Entry'!DB36","v":0},{"$f":"'Marks Entry'!DC36","v":0},{"$f":"'Marks Entry'!DD36","v":0},{"$f":"'Marks Entry'!DE36","v":0},{"$f":"'Marks Entry'!DF36","v":"E"},{"$f":"'Marks Entry'!DG36","v":0},{"$f":"'Marks Entry'!DH36","v":0},{"$f":"'Marks Entry'!DI36","v":0},{"$f":"'Marks Entry'!DJ36","v":0},{"$f":"'Marks Entry'!DK36","v":0},{"$f":"'Marks Entry'!DL36","v":0},{"$f":"'Marks Entry'!DM36","v":0},{"$f":"'Marks Entry'!DN36","v":0},{"$f":"'Marks Entry'!DO36","v":0},{"$f":"'Marks Entry'!DP36","v":0},{"$f":"'Marks Entry'!DQ36","v":0},{"$f":"'Marks Entry'!DR36","v":0},{"$f":"'Marks Entry'!DS36","v":0},{"$f":"'Marks Entry'!DT36","v":0},{"$f":"'Marks Entry'!DU36","v":0},{"$f":"'Marks Entry'!DV36","v":0},{"$f":"'Marks Entry'!DW36","v":0},{"$f":"'Marks Entry'!DX36","v":0},{"$f":"'Marks Entry'!DY36","v":0},{"$f":"'Marks Entry'!DZ36","v":"E"},{"$f":"'Marks Entry'!EA36","v":0},{"$f":"'Marks Entry'!EB36","v":0},{"$f":"'Marks Entry'!EC36","v":0},{"$f":"'Marks Entry'!ED36","v":0},{"$f":"'Marks Entry'!EE36","v":0},{"$f":"'Marks Entry'!EF36","v":0},{"$f":"'Marks Entry'!EG36","v":0},{"$f":"'Marks Entry'!EJ36","v":0},{"$f":"'Marks Entry'!EK36","v":0},{"$f":"'Marks Entry'!EL36","v":0},{"$f":"'Marks Entry'!EM36","v":0},{"$f":"'Marks Entry'!EN36","v":0},{"$f":"'Marks Entry'!EO36","v":0},{"$f":"'Marks Entry'!EP36","v":0},{"$f":"'Marks Entry'!ES36","v":0},{"$f":"'Marks Entry'!ET36","v":0},{"$f":"'Marks Entry'!EU36","v":0},{"$f":"'Marks Entry'!EV36","v":0},{"$f":"'Marks Entry'!EW36","v":0},{"$f":"'Marks Entry'!EX36","v":0},{"$f":"'Marks Entry'!EY36","v":0},{"$f":"'Marks Entry'!FB36","v":0},{"$f":"'Marks Entry'!FC36","v":0},{"$f":"'Marks Entry'!FD36","v":0},{"$f":"'Marks Entry'!FE36","v":""},{"$f":"'Marks Entry'!FF36","v":0},{"$f":"'Marks Entry'!FG36","v":0},{"$f":"'Marks Entry'!FH36","v":""},{"$f":"IF(OR('Marks Entry'!FI36=\"First\",'Marks Entry'!FI36=\"Second\",'Marks Entry'!FI36=\"Third\"),'Marks Entry'!FI36,\"\")","v":""},{"$f":"'Marks Entry'!FJ36","v":""},{"$f":"'Marks Entry'!FK36","v":""},{"$f":"'Marks Entry'!FL36","v":""},{"$f":"'Marks Entry'!FM36","v":""},{"$f":"'Marks Entry'!FO36","v":0}]
[null,0,{"$f":"'Marks Entry'!D37","v":0},{"$f":"'Marks Entry'!E37","v":0},{"$f":"'Marks Entry'!F37","v":0},{"$f":"'Marks Entry'!G37","v":0},{"$f":"'Marks Entry'!H37","v":0},{"$f":"'Marks Entry'!I37","v":0},{"$f":"'Marks Entry'!J37","v":0},{"$f":"'Marks Entry'!K37","v":"00:00:00"},{"$f":"'Marks Entry'!L37","v":0},{"$f":"'Marks Entry'!M37","v":0},{"$f":"'Marks Entry'!N37","v":0},{"$f":"'Marks Entry'!O37","v":0},{"$f":"'Marks Entry'!P37","v":0},{"$f":"'Marks Entry'!Q37","v":0},{"$f":"'Marks Entry'!R37","v":0},{"$f":"'Marks Entry'!S37","v":0},{"$f":"'Marks Entry'!T37","v":0},{"$f":"'Marks Entry'!U37","v":0},{"$f":"'Marks Entry'!V37","v":0},{"$f":"'Marks Entry'!W37","v":0},{"$f":"'Marks Entry'!X37","v":0},{"$f":"'Marks Entry'!Y37","v":0},{"$f":"'Marks Entry'!Z37","v":0},{"$f":"'Marks Entry'!AA37","v":0},{"$f":"'Marks Entry'!AB37","v":0},{"$f":"'Marks Entry'!AC37","v":0},{"$f":"'Marks Entry'!AD37","v":""},{"$f":"'Marks Entry'!AE37","v":0},{"$f":"'Marks Entry'!AF37","v":0},{"$f":"'Marks Entry'!AG37","v":0},{"$f":"'Marks Entry'!AH37","v":0},{"$f":"'Marks Entry'!AI37","v":0},{"$f":"'Marks Entry'!AJ37","v":0},{"$f":"'Marks Entry'!AK37","v":0},{"$f":"'Marks Entry'!AL37","v":0},{"$f":"'Marks Entry'!AM37","v":0},{"$f":"'Marks Entry'!AN37","v":0},{"$f":"'Marks Entry'!AO37","v":0},{"$f":"'Marks Entry'!AP37","v":0},{"$f":"'Marks Entry'!AQ37","v":0},{"$f":"'Marks Entry'!AR37","v":0},{"$f":"'Marks Entry'!AS37","v":0},{"$f":"'Marks Entry'!AT37","v":0},{"$f":"'Marks Entry'!AU37","v":0},{"$f":"'Marks Entry'!AV37","v":0},{"$f":"'Marks Entry'!AW37","v":0},{"$f":"'Marks Entry'!AX37","v":"E"},{"$f":"'Marks Entry'!AY37","v":0},{"$f":"'Marks Entry'!AZ37","v":0},{"$f":"'Marks Entry'!BA37","v":0},{"$f":"'Marks Entry'!BB37","v":0},{"$f":"'Marks Entry'!BC37","v":0},{"$f":"'Marks Entry'!BD37","v":0},{"$f":"'Marks Entry'!BE37","v":0},{"$f":"'Marks Entry'!BF37","v":0},{"$f":"'Marks Entry'!BG37","v":0},{"$f":"'Marks Entry'!BH37","v":0},{"$f":"'Marks Entry'!BI37","v":0},{"$f":"'Marks Entry'!BJ37","v":0},{"$f":"'Marks Entry'!BK37","v":0},{"$f":"'Marks Entry'!BL37","v":0},{"$f":"'Marks Entry'!BM37","v":0},{"$f":"'Marks Entry'!BN37","v":0},{"$f":"'Marks Entry'!BO37","v":0},{"$f":"'Marks Entry'!BP37","v":0},{"$f":"'Marks Entry'!BQ37","v":0},{"$f":"'Marks Entry'!BR37","v":"E"},{"$f":"'Marks Entry'!BS37","v":0},{"$f":"'Marks Entry'!BT37","v":0},{"$f":"'Marks Entry'!BU37","v":0},{"$f":"'Marks Entry'!BV37","v":0},{"$f":"'Marks Entry'!BW37","v":0},{"$f":"'Marks Entry'!BX37","v":0},{"$f":"'Marks Entry'!BY37","v":0},{"$f":"'Marks Entry'!BZ37","v":0},{"$f":"'Marks Entry'!CA37","v":0},{"$f":"'Marks Entry'!CB37","v":0},{"$f":"'Marks Entry'!CC37","v":0},{"$f":"'Marks Entry'!CD37","v":0},{"$f":"'Marks Entry'!CE37","v":0},{"$f":"'Marks Entry'!CF37","v":0},{"$f":"'Marks Entry'!CG37","v":0},{"$f":"'Marks Entry'!CH37","v":0},{"$f":"'Marks Entry'!CI37","v":0},{"$f":"'Marks Entry'!CJ37","v":0},{"$f":"'Marks Entry'!CK37","v":0},{"$f":"'Marks Entry'!CL37","v":"E"},{"$f":"'Marks Entry'!CM37","v":0},{"$f":"'Marks Entry'!CN37","v":0},{"$f":"'Marks Entry'!CO37","v":0},{"$f":"'Marks Entry'!CP37","v":0},{"$f":"'Marks Entry'!CQ37","v":0},{"$f":"'Marks Entry'!CR37","v":0},{"$f":"'Marks Entry'!CS37","v":0},{"$f":"'Marks Entry'!CT37","v":0},{"$f":"'Marks Entry'!CU37","v":0},{"$f":"'Marks Entry'!CV37","v":0},{"$f":"'Marks Entry'!CW37","v":0},{"$f":"'Marks Entry'!CX37","v":0},{"$f":"'Marks Entry'!CY37","v":0},{"$f":"'Marks Entry'!CZ37","v":0},{"$f":"'Marks Entry'!DA37","v":0},{"$f":"'Marks Entry'!DB37","v":0},{"$f":"'Marks Entry'!DC37","v":0},{"$f":"'Marks Entry'!DD37","v":0},{"$f":"'Marks Entry'!DE37","v":0},{"$f":"'Marks Entry'!DF37","v":"E"},{"$f":"'Marks Entry'!DG37","v":0},{"$f":"'Marks Entry'!DH37","v":0},{"$f":"'Marks Entry'!DI37","v":0},{"$f":"'Marks Entry'!DJ37","v":0},{"$f":"'Marks Entry'!DK37","v":0},{"$f":"'Marks Entry'!DL37","v":0},{"$f":"'Marks Entry'!DM37","v":0},{"$f":"'Marks Entry'!DN37","v":0},{"$f":"'Marks Entry'!DO37","v":0},{"$f":"'Marks Entry'!DP37","v":0},{"$f":"'Marks Entry'!DQ37","v":0},{"$f":"'Marks Entry'!DR37","v":0},{"$f":"'Marks Entry'!DS37","v":0},{"$f":"'Marks Entry'!DT37","v":0},{"$f":"'Marks Entry'!DU37","v":0},{"$f":"'Marks Entry'!DV37","v":0},{"$f":"'Marks Entry'!DW37","v":0},{"$f":"'Marks Entry'!DX37","v":0},{"$f":"'Marks Entry'!DY37","v":0},{"$f":"'Marks Entry'!DZ37","v":"E"},{"$f":"'Marks Entry'!EA37","v":0},{"$f":"'Marks Entry'!EB37","v":0},{"$f":"'Marks Entry'!EC37","v":0},{"$f":"'Marks Entry'!ED37","v":0},{"$f":"'Marks Entry'!EE37","v":0},{"$f":"'Marks Entry'!EF37","v":0},{"$f":"'Marks Entry'!EG37","v":0},{"$f":"'Marks Entry'!EJ37","v":0},{"$f":"'Marks Entry'!EK37","v":0},{"$f":"'Marks Entry'!EL37","v":0},{"$f":"'Marks Entry'!EM37","v":0},{"$f":"'Marks Entry'!EN37","v":0},{"$f":"'Marks Entry'!EO37","v":0},{"$f":"'Marks Entry'!EP37","v":0},{"$f":"'Marks Entry'!ES37","v":0},{"$f":"'Marks Entry'!ET37","v":0},{"$f":"'Marks Entry'!EU37","v":0},{"$f":"'Marks Entry'!EV37","v":0},{"$f":"'Marks Entry'!EW37","v":0},{"$f":"'Marks Entry'!EX37","v":0},{"$f":"'Marks Entry'!EY37","v":0},{"$f":"'Marks Entry'!FB37","v":0},{"$f":"'Marks Entry'!FC37","v":0},{"$f":"'Marks Entry'!FD37","v":0},{"$f":"'Marks Entry'!FE37","v":""},{"$f":"'Marks Entry'!FF37","v":0},{"$f":"'Marks Entry'!FG37","v":0},{"$f":"'Marks Entry'!FH37","v":""},{"$f":"IF(OR('Marks Entry'!FI37=\"First\",'Marks Entry'!FI37=\"Second\",'Marks Entry'!FI37=\"Third\"),'Marks Entry'!FI37,\"\")","v":""},{"$f":"'Marks Entry'!FJ37","v":""},{"$f":"'Marks Entry'!FK37","v":""},{"$f":"'Marks Entry'!FL37","v":""},{"$f":"'Marks Entry'!FM37","v":""},{"$f":"'Marks Entry'!FO37","v":0}]
[null,0,{"$f":"'Marks Entry'!D38","v":0},{"$f":"'Marks Entry'!E38","v":0},{"$f":"'Marks Entry'!F38","v":0},{"$f":"'Marks Entry'!G38","v":0},{"$f":"'Marks Entry'!H38","v":0},{"$f":"'Marks Entry'!I38","v":0},{"$f":"'Marks Entry'!J38","v":0},{"$f":"'Marks Entry'!K38","v":"00:00:00"},{"$f":"'Marks Entry'!L38","v":0},{"$f":"'Marks Entry'!M38","v":0},{"$f":"'Marks Entry'!N38","v":0},{"$f":"'Marks Entry'!O38","v":0},{"$f":"'Marks Entry'!P38","v":0},{"$f":"'Marks Entry'!Q38","v":0},{"$f":"'Marks Entry'!R38","v":0},{"$f":"'Marks Entry'!S38","v":0},{"$f":"'Marks Entry'!T38","v":0},{"$f":"'Marks Entry'!U38","v":0},{"$f":"'Marks Entry'!V38","v":0},{"$f":"'Marks Entry'!W38","v":0},{"$f":"'Marks Entry'!X38","v":0},{"$f":"'Marks Entry'!Y38","v":0},{"$f":"'Marks Entry'!Z38","v":0},{"$f":"'Marks Entry'!AA38","v":0},{"$f":"'Marks Entry'!AB38","v":0},{"$f":"'Marks Entry'!AC38","v":0},{"$f":"'Marks Entry'!AD38","v":""},{"$f":"'Marks Entry'!AE38","v":0},{"$f":"'Marks Entry'!AF38","v":0},{"$f":"'Marks Entry'!AG38","v":0},{"$f":"'Marks Entry'!AH38","v":0},{"$f":"'Marks Entry'!AI38","v":0},{"$f":"'Marks Entry'!AJ38","v":0},{"$f":"'Marks Entry'!AK38","v":0},{"$f":"'Marks Entry'!AL38","v":0},{"$f":"'Marks Entry'!AM38","v":0},{"$f":"'Marks Entry'!AN38","v":0},{"$f":"'Marks Entry'!AO38","v":0},{"$f":"'Marks Entry'!AP38","v":0},{"$f":"'Marks Entry'!AQ38","v":0},{"$f":"'Marks Entry'!AR38","v":0},{"$f":"'Marks Entry'!AS38","v":0},{"$f":"'Marks Entry'!AT38","v":0},{"$f":"'Marks Entry'!AU38","v":0},{"$f":"'Marks Entry'!AV38","v":0},{"$f":"'Marks Entry'!AW38","v":0},{"$f":"'Marks Entry'!AX38","v":"E"},{"$f":"'Marks Entry'!AY38","v":0},{"$f":"'Marks Entry'!AZ38","v":0},{"$f":"'Marks Entry'!BA38","v":0},{"$f":"'Marks Entry'!BB38","v":0},{"$f":"'Marks Entry'!BC38","v":0},{"$f":"'Marks Entry'!BD38","v":0},{"$f":"'Marks Entry'!BE38","v":0},{"$f":"'Marks Entry'!BF38","v":0},{"$f":"'Marks Entry'!BG38","v":0},{"$f":"'Marks Entry'!BH38","v":0},{"$f":"'Marks Entry'!BI38","v":0},{"$f":"'Marks Entry'!BJ38","v":0},{"$f":"'Marks Entry'!BK38","v":0},{"$f":"'Marks Entry'!BL38","v":0},{"$f":"'Marks Entry'!BM38","v":0},{"$f":"'Marks Entry'!BN38","v":0},{"$f":"'Marks Entry'!BO38","v":0},{"$f":"'Marks Entry'!BP38","v":0},{"$f":"'Marks Entry'!BQ38","v":0},{"$f":"'Marks Entry'!BR38","v":"E"},{"$f":"'Marks Entry'!BS38","v":0},{"$f":"'Marks Entry'!BT38","v":0},{"$f":"'Marks Entry'!BU38","v":0},{"$f":"'Marks Entry'!BV38","v":0},{"$f":"'Marks Entry'!BW38","v":0},{"$f":"'Marks Entry'!BX38","v":0},{"$f":"'Marks Entry'!BY38","v":0},{"$f":"'Marks Entry'!BZ38","v":0},{"$f":"'Marks Entry'!CA38","v":0},{"$f":"'Marks Entry'!CB38","v":0},{"$f":"'Marks Entry'!CC38","v":0},{"$f":"'Marks Entry'!CD38","v":0},{"$f":"'Marks Entry'!CE38","v":0},{"$f":"'Marks Entry'!CF38","v":0},{"$f":"'Marks Entry'!CG38","v":0},{"$f":"'Marks Entry'!CH38","v":0},{"$f":"'Marks Entry'!CI38","v":0},{"$f":"'Marks Entry'!CJ38","v":0},{"$f":"'Marks Entry'!CK38","v":0},{"$f":"'Marks Entry'!CL38","v":"E"},{"$f":"'Marks Entry'!CM38","v":0},{"$f":"'Marks Entry'!CN38","v":0},{"$f":"'Marks Entry'!CO38","v":0},{"$f":"'Marks Entry'!CP38","v":0},{"$f":"'Marks Entry'!CQ38","v":0},{"$f":"'Marks Entry'!CR38","v":0},{"$f":"'Marks Entry'!CS38","v":0},{"$f":"'Marks Entry'!CT38","v":0},{"$f":"'Marks Entry'!CU38","v":0},{"$f":"'Marks Entry'!CV38","v":0},{"$f":"'Marks Entry'!CW38","v":0},{"$f":"'Marks Entry'!CX38","v":0},{"$f":"'Marks Entry'!CY38","v":0},{"$f":"'Marks Entry'!CZ38","v":0},{"$f":"'Marks Entry'!DA38","v":0},{"$f":"'Marks Entry'!DB38","v":0},{"$f":"'Marks Entry'!DC38","v":0},{"$f":"'Marks Entry'!DD38","v":0},{"$f":"'Marks Entry'!DE38","v":0},{"$f":"'Marks Entry'!DF38","v":"E"},{"$f":"'Marks Entry'!DG38","v":0},{"$f":"'Marks Entry'!DH38","v":0},{"$f":"'Marks Entry'!DI38","v":0},{"$f":"'Marks Entry'!DJ38","v":0},{"$f":"'Marks Entry'!DK38","v":0},{"$f":"'Marks Entry'!DL38","v":0},{"$f":"'Marks Entry'!DM38","v":0},{"$f":"'Marks Entry'!DN38","v":0},{"$f":"'Marks Entry'!DO38","v":0},{"$f":"'Marks Entry'!DP38","v":0},{"$f":"'Marks Entry'!DQ38","v":0},{"$f":"'Marks Entry'!DR38","v":0},{"$f":"'Marks Entry'!DS38","v":0},{"$f":"'Marks Entry'!DT38","v":0},{"$f":"'Marks Entry'!DU38","v":0},{"$f":"'Marks Entry'!DV38","v":0},{"$f":"'Marks Entry'!DW38","v":0},{"$f":"'Marks Entry'!DX38","v":0},{"$f":"'Marks Entry'!DY38","v":0},{"$f":"'Marks Entry'!DZ38","v":"E"},{"$f":"'Marks Entry'!EA38","v":0},{"$f":"'Marks Entry'!EB38","v":0},{"$f":"'Marks Entry'!EC38","v":0},{"$f":"'Marks Entry'!ED38","v":0},{"$f":"'Marks Entry'!EE38","v":0},{"$f":"'Marks Entry'!EF38","v":0},{"$f":"'Marks Entry'!EG38","v":0},{"$f":"'Marks Entry'!EJ38","v":0},{"$f":"'Marks Entry'!EK38","v":0},{"$f":"'Marks Entry'!EL38","v":0},{"$f":"'Marks Entry'!EM38","v":0},{"$f":"'Marks Entry'!EN38","v":0},{"$f":"'Marks Entry'!EO38","v":0},{"$f":"'Marks Entry'!EP38","v":0},{"$f":"'Marks Entry'!ES38","v":0},{"$f":"'Marks Entry'!ET38","v":0},{"$f":"'Marks Entry'!EU38","v":0},{"$f":"'Marks Entry'!EV38","v":0},{"$f":"'Marks Entry'!EW38","v":0},{"$f":"'Marks Entry'!EX38","v":0},{"$f":"'Marks Entry'!EY38","v":0},{"$f":"'Marks Entry'!FB38","v":0},{"$f":"'Marks Entry'!FC38","v":0},{"$f":"'Marks Entry'!FD38","v":0},{"$f":"'Marks Entry'!FE38","v":""},{"$f":"'Marks Entry'!FF38","v":0},{"$f":"'Marks Entry'!FG38","v":0},{"$f":"'Marks Entry'!FH38","v":""},{"$f":"IF(OR('Marks Entry'!FI38=\"First\",'Marks Entry'!FI38=\"Second\",'Marks Entry'!FI38=\"Third\"),'Marks Entry'!FI38,\"\")","v":""},{"$f":"'Marks Entry'!FJ38","v":""},{"$f":"'Marks Entry'!FK38","v":""},{"$f":"'Marks Entry'!FL38","v":""},{"$f":"'Marks Entry'!FM38","v":""},{"$f":"'Marks Entry'!FO38","v":0}]
[null,0,{"$f":"'Marks Entry'!D39","v":0},{"$f":"'Marks Entry'!E39","v":0},{"$f":"'Marks Entry'!F39","v":0},{"$f":"'Marks Entry'!G39","v":0},{"$f":"'Marks Entry'!H39","v":0},{"$f":"'Marks Entry'!I39","v":0},{"$f":"'Marks Entry'!J39","v":0},{"$f":"'Marks Entry'!K39","v":"00:00:00"},{"$f":"'Marks Entry'!L39","v":0},{"$f":"'Marks Entry'!M39","v":0},{"$f":"'Marks Entry'!N39","v":0},{"$f":"'Marks Entry'!O39","v":0},{"$f":"'Marks Entry'!P39","v":0},{"$f":"'Marks Entry'!Q39","v":0},{"$f":"'Marks Entry'!R39","v":0},{"$f":"'Marks Entry'!S39","v":0},{"$f":"'Marks Entry'!T39","v":0},{"$f":"'Marks Entry'!U39","v":0},{"$f":"'Marks Entry'!V39","v":0},{"$f":"'Marks Entry'!W39","v":0},{"$f":"'Marks Entry'!X39","v":0},{"$f":"'Marks Entry'!Y39","v":0},{"$f":"'Marks Entry'!Z39","v":0},{"$f":"'Marks Entry'!AA39","v":0},{"$f":"'Marks Entry'!AB39","v":0},{"$f":"'Marks Entry'!AC39","v":0},{"$f":"'Marks Entry'!AD39","v":""},{"$f":"'Marks Entry'!AE39","v":0},{"$f":"'Marks Entry'!AF39","v":0},{"$f":"'Marks Entry'!AG39","v":0},{"$f":"'Marks Entry'!AH39","v":0},{"$f":"'Marks Entry'!AI39","v":0},{"$f":"'Marks Entry'!AJ39","v":0},{"$f":"'Marks Entry'!AK39","v":0},{"$f":"'Marks Entry'!AL39","v":0},{"$f":"'Marks Entry'!AM39","v":0},{"$f":"'Marks Entry'!AN39","v":0},{"$f":"'Marks Entry'!AO39","v":0},{"$f":"'Marks Entry'!AP39","v":0},{"$f":"'Marks Entry'!AQ39","v":0},{"$f":"'Marks Entry'!AR39","v":0},{"$f":"'Marks Entry'!AS39","v":0},{"$f":"'Marks Entry'!AT39","v":0},{"$f":"'Marks Entry'!AU39","v":0},{"$f":"'Marks Entry'!AV39","v":0},{"$f":"'Marks Entry'!AW39","v":0},{"$f":"'Marks Entry'!AX39","v":"E"},{"$f":"'Marks Entry'!AY39","v":0},{"$f":"'Marks Entry'!AZ39","v":0},{"$f":"'Marks Entry'!BA39","v":0},{"$f":"'Marks Entry'!BB39","v":0},{"$f":"'Marks Entry'!BC39","v":0},{"$f":"'Marks Entry'!BD39","v":0},{"$f":"'Marks Entry'!BE39","v":0},{"$f":"'Marks Entry'!BF39","v":0},{"$f":"'Marks Entry'!BG39","v":0},{"$f":"'Marks Entry'!BH39","v":0},{"$f":"'Marks Entry'!BI39","v":0},{"$f":"'Marks Entry'!BJ39","v":0},{"$f":"'Marks Entry'!BK39","v":0},{"$f":"'Marks Entry'!BL39","v":0},{"$f":"'Marks Entry'!BM39","v":0},{"$f":"'Marks Entry'!BN39","v":0},{"$f":"'Marks Entry'!BO39","v":0},{"$f":"'Marks Entry'!BP39","v":0},{"$f":"'Marks Entry'!BQ39","v":0},{"$f":"'Marks Entry'!BR39","v":"E"},{"$f":"'Marks Entry'!BS39","v":0},{"$f":"'Marks Entry'!BT39","v":0},{"$f":"'Marks Entry'!BU39","v":0},{"$f":"'Marks Entry'!BV39","v":0},{"$f":"'Marks Entry'!BW39","v":0},{"$f":"'Marks Entry'!BX39","v":0},{"$f":"'Marks Entry'!BY39","v":0},{"$f":"'Marks Entry'!BZ39","v":0},{"$f":"'Marks Entry'!CA39","v":0},{"$f":"'Marks Entry'!CB39","v":0},{"$f":"'Marks Entry'!CC39","v":0},{"$f":"'Marks Entry'!CD39","v":0},{"$f":"'Marks Entry'!CE39","v":0},{"$f":"'Marks Entry'!CF39","v":0},{"$f":"'Marks Entry'!CG39","v":0},{"$f":"'Marks Entry'!CH39","v":0},{"$f":"'Marks Entry'!CI39","v":0},{"$f":"'Marks Entry'!CJ39","v":0},{"$f":"'Marks Entry'!CK39","v":0},{"$f":"'Marks Entry'!CL39","v":"E"},{"$f":"'Marks Entry'!CM39","v":0},{"$f":"'Marks Entry'!CN39","v":0},{"$f":"'Marks Entry'!CO39","v":0},{"$f":"'Marks Entry'!CP39","v":0},{"$f":"'Marks Entry'!CQ39","v":0},{"$f":"'Marks Entry'!CR39","v":0},{"$f":"'Marks Entry'!CS39","v":0},{"$f":"'Marks Entry'!CT39","v":0},{"$f":"'Marks Entry'!CU39","v":0},{"$f":"'Marks Entry'!CV39","v":0},{"$f":"'Marks Entry'!CW39","v":0},{"$f":"'Marks Entry'!CX39","v":0},{"$f":"'Marks Entry'!CY39","v":0},{"$f":"'Marks Entry'!CZ39","v":0},{"$f":"'Marks Entry'!DA39","v":0},{"$f":"'Marks Entry'!DB39","v":0},{"$f":"'Marks Entry'!DC39","v":0},{"$f":"'Marks Entry'!DD39","v":0},{"$f":"'Marks Entry'!DE39","v":0},{"$f":"'Marks Entry'!DF39","v":"E"},{"$f":"'Marks Entry'!DG39","v":0},{"$f":"'Marks Entry'!DH39","v":0},{"$f":"'Marks Entry'!DI39","v":0},{"$f":"'Marks Entry'!DJ39","v":0},{"$f":"'Marks Entry'!DK39","v":0},{"$f":"'Marks Entry'!DL39","v":0},{"$f":"'Marks Entry'!DM39","v":0},{"$f":"'Marks Entry'!DN39","v":0},{"$f":"'Marks Entry'!DO39","v":0},{"$f":"'Marks Entry'!DP39","v":0},{"$f":"'Marks Entry'!DQ39","v":0},{"$f":"'Marks Entry'!DR39","v":0},{"$f":"'Marks Entry'!DS39","v":0},{"$f":"'Marks Entry'!DT39","v":0},{"$f":"'Marks Entry'!DU39","v":0},{"$f":"'Marks Entry'!DV39","v":0},{"$f":"'Marks Entry'!DW39","v":0},{"$f":"'Marks Entry'!DX39","v":0},{"$f":"'Marks Entry'!DY39","v":0},{"$f":"'Marks Entry'!DZ39","v":"E"},{"$f":"'Marks Entry'!EA39","v":0},{"$f":"'Marks Entry'!EB39","v":0},{"$f":"'Marks Entry'!EC39","v":0},{"$f":"'Marks Entry'!ED39","v":0},{"$f":"'Marks Entry'!EE39","v":0},{"$f":"'Marks Entry'!EF39","v":0},{"$f":"'Marks Entry'!EG39","v":0},{"$f":"'Marks Entry'!EJ39","v":0},{"$f":"'Marks Entry'!EK39","v":0},{"$f":"'Marks Entry'!EL39","v":0},{"$f":"'Marks Entry'!EM39","v":0},{"$f":"'Marks Entry'!EN39","v":0},{"$f":"'Marks Entry'!EO39","v":0},{"$f":"'Marks Entry'!EP39","v":0},{"$f":"'Marks Entry'!ES39","v":0},{"$f":"'Marks Entry'!ET39","v":0},{"$f":"'Marks Entry'!EU39","v":0},{"$f":"'Marks Entry'!EV39","v":0},{"$f":"'Marks Entry'!EW39","v":0},{"$f":"'Marks Entry'!EX39","v":0},{"$f":"'Marks Entry'!EY39","v":0},{"$f":"'Marks Entry'!FB39","v":0},{"$f":"'Marks Entry'!FC39","v":0},{"$f":"'Marks Entry'!FD39","v":0},{"$f":"'Marks Entry'!FE39","v":""},{"$f":"'Marks Entry'!FF39","v":0},{"$f":"'Marks Entry'!FG39","v":0},{"$f":"'Marks Entry'!FH39","v":""},{"$f":"IF(OR('Marks Entry'!FI39=\"First\",'Marks Entry'!FI39=\"Second\",'Marks Entry'!FI39=\"Third\"),'Marks Entry'!FI39,\"\")","v":""},{"$f":"'Marks Entry'!FJ39","v":""},{"$f":"'Marks Entry'!FK39","v":""},{"$f":"'Marks Entry'!FL39","v":""},{"$f":"'Marks Entry'!FM39","v":""},{"$f":"'Marks Entry'!FO39","v":0}]
[null,0,{"$f":"'Marks Entry'!D40","v":0},{"$f":"'Marks Entry'!E40","v":0},{"$f":"'Marks Entry'!F40","v":0},{"$f":"'Marks Entry'!G40","v":0},{"$f":"'Marks Entry'!H40","v":0},{"$f":"'Marks Entry'!I40","v":0},{"$f":"'Marks Entry'!J40","v":0},{"$f":"'Marks Entry'!K40","v":"00:00:00"},{"$f":"'Marks Entry'!L40","v":0},{"$f":"'Marks Entry'!M40","v":0},{"$f":"'Marks Entry'!N40","v":0},{"$f":"'Marks Entry'!O40","v":0},{"$f":"'Marks Entry'!P40","v":0},{"$f":"'Marks Entry'!Q40","v":0},{"$f":"'Marks Entry'!R40","v":0},{"$f":"'Marks Entry'!S40","v":0},{"$f":"'Marks Entry'!T40","v":0},{"$f":"'Marks Entry'!U40","v":0},{"$f":"'Marks Entry'!V40","v":0},{"$f":"'Marks Entry'!W40","v":0},{"$f":"'Marks Entry'!X40","v":0},{"$f":"'Marks Entry'!Y40","v":0},{"$f":"'Marks Entry'!Z40","v":0},{"$f":"'Marks Entry'!AA40","v":0},{"$f":"'Marks Entry'!AB40","v":0},{"$f":"'Marks Entry'!AC40","v":0},{"$f":"'Marks Entry'!AD40","v":""},{"$f":"'Marks Entry'!AE40","v":0},{"$f":"'Marks Entry'!AF40","v":0},{"$f":"'Marks Entry'!AG40","v":0},{"$f":"'Marks Entry'!AH40","v":0},{"$f":"'Marks Entry'!AI40","v":0},{"$f":"'Marks Entry'!AJ40","v":0},{"$f":"'Marks Entry'!AK40","v":0},{"$f":"'Marks Entry'!AL40","v":0},{"$f":"'Marks Entry'!AM40","v":0},{"$f":"'Marks Entry'!AN40","v":0},{"$f":"'Marks Entry'!AO40","v":0},{"$f":"'Marks Entry'!AP40","v":0},{"$f":"'Marks Entry'!AQ40","v":0},{"$f":"'Marks Entry'!AR40","v":0},{"$f":"'Marks Entry'!AS40","v":0},{"$f":"'Marks Entry'!AT40","v":0},{"$f":"'Marks Entry'!AU40","v":0},{"$f":"'Marks Entry'!AV40","v":0},{"$f":"'Marks Entry'!AW40","v":0},{"$f":"'Marks Entry'!AX40","v":"E"},{"$f":"'Marks Entry'!AY40","v":0},{"$f":"'Marks Entry'!AZ40","v":0},{"$f":"'Marks Entry'!BA40","v":0},{"$f":"'Marks Entry'!BB40","v":0},{"$f":"'Marks Entry'!BC40","v":0},{"$f":"'Marks Entry'!BD40","v":0},{"$f":"'Marks Entry'!BE40","v":0},{"$f":"'Marks Entry'!BF40","v":0},{"$f":"'Marks Entry'!BG40","v":0},{"$f":"'Marks Entry'!BH40","v":0},{"$f":"'Marks Entry'!BI40","v":0},{"$f":"'Marks Entry'!BJ40","v":0},{"$f":"'Marks Entry'!BK40","v":0},{"$f":"'Marks Entry'!BL40","v":0},{"$f":"'Marks Entry'!BM40","v":0},{"$f":"'Marks Entry'!BN40","v":0},{"$f":"'Marks Entry'!BO40","v":0},{"$f":"'Marks Entry'!BP40","v":0},{"$f":"'Marks Entry'!BQ40","v":0},{"$f":"'Marks Entry'!BR40","v":"E"},{"$f":"'Marks Entry'!BS40","v":0},{"$f":"'Marks Entry'!BT40","v":0},{"$f":"'Marks Entry'!BU40","v":0},{"$f":"'Marks Entry'!BV40","v":0},{"$f":"'Marks Entry'!BW40","v":0},{"$f":"'Marks Entry'!BX40","v":0},{"$f":"'Marks Entry'!BY40","v":0},{"$f":"'Marks Entry'!BZ40","v":0},{"$f":"'Marks Entry'!CA40","v":0},{"$f":"'Marks Entry'!CB40","v":0},{"$f":"'Marks Entry'!CC40","v":0},{"$f":"'Marks Entry'!CD40","v":0},{"$f":"'Marks Entry'!CE40","v":0},{"$f":"'Marks Entry'!CF40","v":0},{"$f":"'Marks Entry'!CG40","v":0},{"$f":"'Marks Entry'!CH40","v":0},{"$f":"'Marks Entry'!CI40","v":0},{"$f":"'Marks Entry'!CJ40","v":0},{"$f":"'Marks Entry'!CK40","v":0},{"$f":"'Marks Entry'!CL40","v":"E"},{"$f":"'Marks Entry'!CM40","v":0},{"$f":"'Marks Entry'!CN40","v":0},{"$f":"'Marks Entry'!CO40","v":0},{"$f":"'Marks Entry'!CP40","v":0},{"$f":"'Marks Entry'!CQ40","v":0},{"$f":"'Marks Entry'!CR40","v":0},{"$f":"'Marks Entry'!CS40","v":0},{"$f":"'Marks Entry'!CT40","v":0},{"$f":"'Marks Entry'!CU40","v":0},{"$f":"'Marks Entry'!CV40","v":0},{"$f":"'Marks Entry'!CW40","v":0},{"$f":"'Marks Entry'!CX40","v":0},{"$f":"'Marks Entry'!CY40","v":0},{"$f":"'Marks Entry'!CZ40","v":0},{"$f":"'Marks Entry'!DA40","v":0},{"$f":"'Marks Entry'!DB40","v":0},{"$f":"'Marks Entry'!DC40","v":0},{"$f":"'Marks Entry'!DD40","v":0},{"$f":"'Marks Entry'!DE40","v":0},{"$f":"'Marks Entry'!DF40","v":"E"},{"$f":"'Marks Entry'!DG40","v":0},{"$f":"'Marks Entry'!DH40","v":0},{"$f":"'Marks Entry'!DI40","v":0},{"$f":"'Marks Entry'!DJ40","v":0},{"$f":"'Marks Entry'!DK40","v":0},{"$f":"'Marks Entry'!DL40","v":0},{"$f":"'Marks Entry'!DM40","v":0},{"$f":"'Marks Entry'!DN40","v":0},{"$f":"'Marks Entry'!DO40","v":0},{"$f":"'Marks Entry'!DP40","v":0},{"$f":"'Marks Entry'!DQ40","v":0},{"$f":"'Marks Entry'!DR40","v":0},{"$f":"'Marks Entry'!DS40","v":0},{"$f":"'Marks Entry'!DT40","v":0},{"$f":"'Marks Entry'!DU40","v":0},{"$f":"'Marks Entry'!DV40","v":0},{"$f":"'Marks Entry'!DW40","v":0},{"$f":"'Marks Entry'!DX40","v":0},{"$f":"'Marks Entry'!DY40","v":0},{"$f":"'Marks Entry'!DZ40","v":"E"},{"$f":"'Marks Entry'!EA40","v":0},{"$f":"'Marks Entry'!EB40","v":0},{"$f":"'Marks Entry'!EC40","v":0},{"$f":"'Marks Entry'!ED40","v":0},{"$f":"'Marks Entry'!EE40","v":0},{"$f":"'Marks Entry'!EF40","v":0},{"$f":"'Marks Entry'!EG40","v":0},{"$f":"'Marks Entry'!EJ40","v":0},{"$f":"'Marks Entry'!EK40","v":0},{"$f":"'Marks Entry'!EL40","v":0},{"$f":"'Marks Entry'!EM40","v":0},{"$f":"'Marks Entry'!EN40","v":0},{"$f":"'Marks Entry'!EO40","v":0},{"$f":"'Marks Entry'!EP40","v":0},{"$f":"'Marks Entry'!ES40","v":0},{"$f":"'Marks Entry'!ET40","v":0},{"$f":"'Marks Entry'!EU40","v":0},{"$f":"'Marks Entry'!EV40","v":0},{"$f":"'Marks Entry'!EW40","v":0},{"$f":"'Marks Entry'!EX40","v":0},{"$f":"'Marks Entry'!EY40","v":0},{"$f":"'Marks Entry'!FB40","v":0},{"$f":"'Marks Entry'!FC40","v":0},{"$f":"'Marks Entry'!FD40","v":0},{"$f":"'Marks Entry'!FE40","v":""},{"$f":"'Marks Entry'!FF40","v":0},{"$f":"'Marks Entry'!FG40","v":0},{"$f":"'Marks Entry'!FH40","v":""},{"$f":"IF(OR('Marks Entry'!FI40=\"First\",'Marks Entry'!FI40=\"Second\",'Marks Entry'!FI40=\"Third\"),'Marks Entry'!FI40,\"\")","v":""},{"$f":"'Marks Entry'!FJ40","v":""},{"$f":"'Marks Entry'!FK40","v":""},{"$f":"'Marks Entry'!FL40","v":""},{"$f":"'Marks Entry'!FM40","v":""},{"$f":"'Marks Entry'!FO40","v":0}]
[null,0,{"$f":"'Marks Entry'!D41","v":0},{"$f":"'Marks Entry'!E41","v":0},{"$f":"'Marks Entry'!F41","v":0},{"$f":"'Marks Entry'!G41","v":0},{"$f":"'Marks Entry'!H41","v":0},{"$f":"'Marks Entry'!I41","v":0},{"$f":"'Marks Entry'!J41","v":0},{"$f":"'Marks Entry'!K41","v":"00:00:00"},{"$f":"'Marks Entry'!L41","v":0},{"$f":"'Marks Entry'!M41","v":0},{"$f":"'Marks Entry'!N41","v":0},{"$f":"'Marks Entry'!O41","v":0},{"$f":"'Marks Entry'!P41","v":0},{"$f":"'Marks Entry'!Q41","v":0},{"$f":"'Marks Entry'!R41","v":0},{"$f":"'Marks Entry'!S41","v":0},{"$f":"'Marks Entry'!T41","v":0},{"$f":"'Marks Entry'!U41","v":0},{"$f":"'Marks Entry'!V41","v":0},{"$f":"'Marks Entry'!W41","v":0},{"$f":"'Marks Entry'!X41","v":0},{"$f":"'Marks Entry'!Y41","v":0},{"$f":"'Marks Entry'!Z41","v":0},{"$f":"'Marks Entry'!AA41","v":0},{"$f":"'Marks Entry'!AB41","v":0},{"$f":"'Marks Entry'!AC41","v":0},{"$f":"'Marks Entry'!AD41","v":""},{"$f":"'Marks Entry'!AE41","v":0},{"$f":"'Marks Entry'!AF41","v":0},{"$f":"'Marks Entry'!AG41","v":0},{"$f":"'Marks Entry'!AH41","v":0},{"$f":"'Marks Entry'!AI41","v":0},{"$f":"'Marks Entry'!AJ41","v":0},{"$f":"'Marks Entry'!AK41","v":0},{"$f":"'Marks Entry'!AL41","v":0},{"$f":"'Marks Entry'!AM41","v":0},{"$f":"'Marks Entry'!AN41","v":0},{"$f":"'Marks Entry'!AO41","v":0},{"$f":"'Marks Entry'!AP41","v":0},{"$f":"'Marks Entry'!AQ41","v":0},{"$f":"'Marks Entry'!AR41","v":0},{"$f":"'Marks Entry'!AS41","v":0},{"$f":"'Marks Entry'!AT41","v":0},{"$f":"'Marks Entry'!AU41","v":0},{"$f":"'Marks Entry'!AV41","v":0},{"$f":"'Marks Entry'!AW41","v":0},{"$f":"'Marks Entry'!AX41","v":"E"},{"$f":"'Marks Entry'!AY41","v":0},{"$f":"'Marks Entry'!AZ41","v":0},{"$f":"'Marks Entry'!BA41","v":0},{"$f":"'Marks Entry'!BB41","v":0},{"$f":"'Marks Entry'!BC41","v":0},{"$f":"'Marks Entry'!BD41","v":0},{"$f":"'Marks Entry'!BE41","v":0},{"$f":"'Marks Entry'!BF41","v":0},{"$f":"'Marks Entry'!BG41","v":0},{"$f":"'Marks Entry'!BH41","v":0},{"$f":"'Marks Entry'!BI41","v":0},{"$f":"'Marks Entry'!BJ41","v":0},{"$f":"'Marks Entry'!BK41","v":0},{"$f":"'Marks Entry'!BL41","v":0},{"$f":"'Marks Entry'!BM41","v":0},{"$f":"'Marks Entry'!BN41","v":0},{"$f":"'Marks Entry'!BO41","v":0},{"$f":"'Marks Entry'!BP41","v":0},{"$f":"'Marks Entry'!BQ41","v":0},{"$f":"'Marks Entry'!BR41","v":"E"},{"$f":"'Marks Entry'!BS41","v":0},{"$f":"'Marks Entry'!BT41","v":0},{"$f":"'Marks Entry'!BU41","v":0},{"$f":"'Marks Entry'!BV41","v":0},{"$f":"'Marks Entry'!BW41","v":0},{"$f":"'Marks Entry'!BX41","v":0},{"$f":"'Marks Entry'!BY41","v":0},{"$f":"'Marks Entry'!BZ41","v":0},{"$f":"'Marks Entry'!CA41","v":0},{"$f":"'Marks Entry'!CB41","v":0},{"$f":"'Marks Entry'!CC41","v":0},{"$f":"'Marks Entry'!CD41","v":0},{"$f":"'Marks Entry'!CE41","v":0},{"$f":"'Marks Entry'!CF41","v":0},{"$f":"'Marks Entry'!CG41","v":0},{"$f":"'Marks Entry'!CH41","v":0},{"$f":"'Marks Entry'!CI41","v":0},{"$f":"'Marks Entry'!CJ41","v":0},{"$f":"'Marks Entry'!CK41","v":0},{"$f":"'Marks Entry'!CL41","v":"E"},{"$f":"'Marks Entry'!CM41","v":0},{"$f":"'Marks Entry'!CN41","v":0},{"$f":"'Marks Entry'!CO41","v":0},{"$f":"'Marks Entry'!CP41","v":0},{"$f":"'Marks Entry'!CQ41","v":0},{"$f":"'Marks Entry'!CR41","v":0},{"$f":"'Marks Entry'!CS41","v":0},{"$f":"'Marks Entry'!CT41","v":0},{"$f":"'Marks Entry'!CU41","v":0},{"$f":"'Marks Entry'!CV41","v":0},{"$f":"'Marks Entry'!CW41","v":0},{"$f":"'Marks Entry'!CX41","v":0},{"$f":"'Marks Entry'!CY41","v":0},{"$f":"'Marks Entry'!CZ41","v":0},{"$f":"'Marks Entry'!DA41","v":0},{"$f":"'Marks Entry'!DB41","v":0},{"$f":"'Marks Entry'!DC41","v":0},{"$f":"'Marks Entry'!DD41","v":0},{"$f":"'Marks Entry'!DE41","v":0},{"$f":"'Marks Entry'!DF41","v":"E"},{"$f":"'Marks Entry'!DG41","v":0},{"$f":"'Marks Entry'!DH41","v":0},{"$f":"'Marks Entry'!DI41","v":0},{"$f":"'Marks Entry'!DJ41","v":0},{"$f":"'Marks Entry'!DK41","v":0},{"$f":"'Marks Entry'!DL41","v":0},{"$f":"'Marks Entry'!DM41","v":0},{"$f":"'Marks Entry'!DN41","v":0},{"$f":"'Marks Entry'!DO41","v":0},{"$f":"'Marks Entry'!DP41","v":0},{"$f":"'Marks Entry'!DQ41","v":0},{"$f":"'Marks Entry'!DR41","v":0},{"$f":"'Marks Entry'!DS41","v":0},{"$f":"'Marks Entry'!DT41","v":0},{"$f":"'Marks Entry'!DU41","v":0},{"$f":"'Marks Entry'!DV41","v":0},{"$f":"'Marks Entry'!DW41","v":0},{"$f":"'Marks Entry'!DX41","v":0},{"$f":"'Marks Entry'!DY41","v":0},{"$f":"'Marks Entry'!DZ41","v":"E"},{"$f":"'Marks Entry'!EA41","v":0},{"$f":"'Marks Entry'!EB41","v":0},{"$f":"'Marks Entry'!EC41","v":0},{"$f":"'Marks Entry'!ED41","v":0},{"$f":"'Marks Entry'!EE41","v":0},{"$f":"'Marks Entry'!EF41","v":0},{"$f":"'Marks Entry'!EG41","v":0},{"$f":"'Marks Entry'!EJ41","v":0},{"$f":"'Marks Entry'!EK41","v":0},{"$f":"'Marks Entry'!EL41","v":0},{"$f":"'Marks Entry'!EM41","v":0},{"$f":"'Marks Entry'!EN41","v":0},{"$f":"'Marks Entry'!EO41","v":0},{"$f":"'Marks Entry'!EP41","v":0},{"$f":"'Marks Entry'!ES41","v":0},{"$f":"'Marks Entry'!ET41","v":0},{"$f":"'Marks Entry'!EU41","v":0},{"$f":"'Marks Entry'!EV41","v":0},{"$f":"'Marks Entry'!EW41","v":0},{"$f":"'Marks Entry'!EX41","v":0},{"$f":"'Marks Entry'!EY41","v":0},{"$f":"'Marks Entry'!FB41","v":0},{"$f":"'Marks Entry'!FC41","v":0},{"$f":"'Marks Entry'!FD41","v":0},{"$f":"'Marks Entry'!FE41","v":""},{"$f":"'Marks Entry'!FF41","v":0},{"$f":"'Marks Entry'!FG41","v":0},{"$f":"'Marks Entry'!FH41","v":""},{"$f":"IF(OR('Marks Entry'!FI41=\"First\",'Marks Entry'!FI41=\"Second\",'Marks Entry'!FI41=\"Third\"),'Marks Entry'!FI41,\"\")","v":""},{"$f":"'Marks Entry'!FJ41","v":""},{"$f":"'Marks Entry'!FK41","v":""},{"$f":"'Marks Entry'!FL41","v":""},{"$f":"'Marks Entry'!FM41","v":""},{"$f":"'Marks Entry'!FO41","v":0}]
[null,0,{"$f":"'Marks Entry'!D42","v":0},{"$f":"'Marks Entry'!E42","v":0},{"$f":"'Marks Entry'!F42","v":0},{"$f":"'Marks Entry'!G42","v":0},{"$f":"'Marks Entry'!H42","v":0},{"$f":"'Marks Entry'!I42","v":0},{"$f":"'Marks Entry'!J42","v":0},{"$f":"'Marks Entry'!K42","v":"00:00:00"},{"$f":"'Marks Entry'!L42","v":0},{"$f":"'Marks Entry'!M42","v":0},{"$f":"'Marks Entry'!N42","v":0},{"$f":"'Marks Entry'!O42","v":0},{"$f":"'Marks Entry'!P42","v":0},{"$f":"'Marks Entry'!Q42","v":0},{"$f":"'Marks Entry'!R42","v":0},{"$f":"'Marks Entry'!S42","v":0},{"$f":"'Marks Entry'!T42","v":0},{"$f":"'Marks Entry'!U42","v":0},{"$f":"'Marks Entry'!V42","v":0},{"$f":"'Marks Entry'!W42","v":0},{"$f":"'Marks Entry'!X42","v":0},{"$f":"'Marks Entry'!Y42","v":0},{"$f":"'Marks Entry'!Z42","v":0},{"$f":"'Marks Entry'!AA42","v":0},{"$f":"'Marks Entry'!AB42","v":0},{"$f":"'Marks Entry'!AC42","v":0},{"$f":"'Marks Entry'!AD42","v":""},{"$f":"'Marks Entry'!AE42","v":0},{"$f":"'Marks Entry'!AF42","v":0},{"$f":"'Marks Entry'!AG42","v":0},{"$f":"'Marks Entry'!AH42","v":0},{"$f":"'Marks Entry'!AI42","v":0},{"$f":"'Marks Entry'!AJ42","v":0},{"$f":"'Marks Entry'!AK42","v":0},{"$f":"'Marks Entry'!AL42","v":0},{"$f":"'Marks Entry'!AM42","v":0},{"$f":"'Marks Entry'!AN42","v":0},{"$f":"'Marks Entry'!AO42","v":0},{"$f":"'Marks Entry'!AP42","v":0},{"$f":"'Marks Entry'!AQ42","v":0},{"$f":"'Marks Entry'!AR42","v":0},{"$f":"'Marks Entry'!AS42","v":0},{"$f":"'Marks Entry'!AT42","v":0},{"$f":"'Marks Entry'!AU42","v":0},{"$f":"'Marks Entry'!AV42","v":0},{"$f":"'Marks Entry'!AW42","v":0},{"$f":"'Marks Entry'!AX42","v":"E"},{"$f":"'Marks Entry'!AY42","v":0},{"$f":"'Marks Entry'!AZ42","v":0},{"$f":"'Marks Entry'!BA42","v":0},{"$f":"'Marks Entry'!BB42","v":0},{"$f":"'Marks Entry'!BC42","v":0},{"$f":"'Marks Entry'!BD42","v":0},{"$f":"'Marks Entry'!BE42","v":0},{"$f":"'Marks Entry'!BF42","v":0},{"$f":"'Marks Entry'!BG42","v":0},{"$f":"'Marks Entry'!BH42","v":0},{"$f":"'Marks Entry'!BI42","v":0},{"$f":"'Marks Entry'!BJ42","v":0},{"$f":"'Marks Entry'!BK42","v":0},{"$f":"'Marks Entry'!BL42","v":0},{"$f":"'Marks Entry'!BM42","v":0},{"$f":"'Marks Entry'!BN42","v":0},{"$f":"'Marks Entry'!BO42","v":0},{"$f":"'Marks Entry'!BP42","v":0},{"$f":"'Marks Entry'!BQ42","v":0},{"$f":"'Marks Entry'!BR42","v":"E"},{"$f":"'Marks Entry'!BS42","v":0},{"$f":"'Marks Entry'!BT42","v":0},{"$f":"'Marks Entry'!BU42","v":0},{"$f":"'Marks Entry'!BV42","v":0},{"$f":"'Marks Entry'!BW42","v":0},{"$f":"'Marks Entry'!BX42","v":0},{"$f":"'Marks Entry'!BY42","v":0},{"$f":"'Marks Entry'!BZ42","v":0},{"$f":"'Marks Entry'!CA42","v":0},{"$f":"'Marks Entry'!CB42","v":0},{"$f":"'Marks Entry'!CC42","v":0},{"$f":"'Marks Entry'!CD42","v":0},{"$f":"'Marks Entry'!CE42","v":0},{"$f":"'Marks Entry'!CF42","v":0},{"$f":"'Marks Entry'!CG42","v":0},{"$f":"'Marks Entry'!CH42","v":0},{"$f":"'Marks Entry'!CI42","v":0},{"$f":"'Marks Entry'!CJ42","v":0},{"$f":"'Marks Entry'!CK42","v":0},{"$f":"'Marks Entry'!CL42","v":"E"},{"$f":"'Marks Entry'!CM42","v":0},{"$f":"'Marks Entry'!CN42","v":0},{"$f":"'Marks Entry'!CO42","v":0},{"$f":"'Marks Entry'!CP42","v":0},{"$f":"'Marks Entry'!CQ42","v":0},{"$f":"'Marks Entry'!CR42","v":0},{"$f":"'Marks Entry'!CS42","v":0},{"$f":"'Marks Entry'!CT42","v":0},{"$f":"'Marks Entry'!CU42","v":0},{"$f":"'Marks Entry'!CV42","v":0},{"$f":"'Marks Entry'!CW42","v":0},{"$f":"'Marks Entry'!CX42","v":0},{"$f":"'Marks Entry'!CY42","v":0},{"$f":"'Marks Entry'!CZ42","v":0},{"$f":"'Marks Entry'!DA42","v":0},{"$f":"'Marks Entry'!DB42","v":0},{"$f":"'Marks Entry'!DC42","v":0},{"$f":"'Marks Entry'!DD42","v":0},{"$f":"'Marks Entry'!DE42","v":0},{"$f":"'Marks Entry'!DF42","v":"E"},{"$f":"'Marks Entry'!DG42","v":0},{"$f":"'Marks Entry'!DH42","v":0},{"$f":"'Marks Entry'!DI42","v":0},{"$f":"'Marks Entry'!DJ42","v":0},{"$f":"'Marks Entry'!DK42","v":0},{"$f":"'Marks Entry'!DL42","v":0},{"$f":"'Marks Entry'!DM42","v":0},{"$f":"'Marks Entry'!DN42","v":0},{"$f":"'Marks Entry'!DO42","v":0},{"$f":"'Marks Entry'!DP42","v":0},{"$f":"'Marks Entry'!DQ42","v":0},{"$f":"'Marks Entry'!DR42","v":0},{"$f":"'Marks Entry'!DS42","v":0},{"$f":"'Marks Entry'!DT42","v":0},{"$f":"'Marks Entry'!DU42","v":0},{"$f":"'Marks Entry'!DV42","v":0},{"$f":"'Marks Entry'!DW42","v":0},{"$f":"'Marks Entry'!DX42","v":0},{"$f":"'Marks Entry'!DY42","v":0},{"$f":"'Marks Entry'!DZ42","v":"E"},{"$f":"'Marks Entry'!EA42","v":0},{"$f":"'Marks Entry'!EB42","v":0},{"$f":"'Marks Entry'!EC42","v":0},{"$f":"'Marks Entry'!ED42","v":0},{"$f":"'Marks Entry'!EE42","v":0},{"$f":"'Marks Entry'!EF42","v":0},{"$f":"'Marks Entry'!EG42","v":0},{"$f":"'Marks Entry'!EJ42","v":0},{"$f":"'Marks Entry'!EK42","v":0},{"$f":"'Marks Entry'!EL42","v":0},{"$f":"'Marks Entry'!EM42","v":0},{"$f":"'Marks Entry'!EN42","v":0},{"$f":"'Marks Entry'!EO42","v":0},{"$f":"'Marks Entry'!EP42","v":0},{"$f":"'Marks Entry'!ES42","v":0},{"$f":"'Marks Entry'!ET42","v":0},{"$f":"'Marks Entry'!EU42","v":0},{"$f":"'Marks Entry'!EV42","v":0},{"$f":"'Marks Entry'!EW42","v":0},{"$f":"'Marks Entry'!EX42","v":0},{"$f":"'Marks Entry'!EY42","v":0},{"$f":"'Marks Entry'!FB42","v":0},{"$f":"'Marks Entry'!FC42","v":0},{"$f":"'Marks Entry'!FD42","v":0},{"$f":"'Marks Entry'!FE42","v":""},{"$f":"'Marks Entry'!FF42","v":0},{"$f":"'Marks Entry'!FG42","v":0},{"$f":"'Marks Entry'!FH42","v":""},{"$f":"IF(OR('Marks Entry'!FI42=\"First\",'Marks Entry'!FI42=\"Second\",'Marks Entry'!FI42=\"Third\"),'Marks Entry'!FI42,\"\")","v":""},{"$f":"'Marks Entry'!FJ42","v":""},{"$f":"'Marks Entry'!FK42","v":""},{"$f":"'Marks Entry'!FL42","v":""},{"$f":"'Marks Entry'!FM42","v":""},{"$f":"'Marks Entry'!FO42","v":0}]
[null,0,{"$f":"'Marks Entry'!D43","v":0},{"$f":"'Marks Entry'!E43","v":0},{"$f":"'Marks Entry'!F43","v":0},{"$f":"'Marks Entry'!G43","v":0},{"$f":"'Marks Entry'!H43","v":0},{"$f":"'Marks Entry'!I43","v":0},{"$f":"'Marks Entry'!J43","v":0},{"$f":"'Marks Entry'!K43","v":"00:00:00"},{"$f":"'Marks Entry'!L43","v":0},{"$f":"'Marks Entry'!M43","v":0},{"$f":"'Marks Entry'!N43","v":0},{"$f":"'Marks Entry'!O43","v":0},{"$f":"'Marks Entry'!P43","v":0},{"$f":"'Marks Entry'!Q43","v":0},{"$f":"'Marks Entry'!R43","v":0},{"$f":"'Marks Entry'!S43","v":0},{"$f":"'Marks Entry'!T43","v":0},{"$f":"'Marks Entry'!U43","v":0},{"$f":"'Marks Entry'!V43","v":0},{"$f":"'Marks Entry'!W43","v":0},{"$f":"'Marks Entry'!X43","v":0},{"$f":"'Marks Entry'!Y43","v":0},{"$f":"'Marks Entry'!Z43","v":0},{"$f":"'Marks Entry'!AA43","v":0},{"$f":"'Marks Entry'!AB43","v":0},{"$f":"'Marks Entry'!AC43","v":0},{"$f":"'Marks Entry'!AD43","v":""},{"$f":"'Marks Entry'!AE43","v":0},{"$f":"'Marks Entry'!AF43","v":0},{"$f":"'Marks Entry'!AG43","v":0},{"$f":"'Marks Entry'!AH43","v":0},{"$f":"'Marks Entry'!AI43","v":0},{"$f":"'Marks Entry'!AJ43","v":0},{"$f":"'Marks Entry'!AK43","v":0},{"$f":"'Marks Entry'!AL43","v":0},{"$f":"'Marks Entry'!AM43","v":0},{"$f":"'Marks Entry'!AN43","v":0},{"$f":"'Marks Entry'!AO43","v":0},{"$f":"'Marks Entry'!AP43","v":0},{"$f":"'Marks Entry'!AQ43","v":0},{"$f":"'Marks Entry'!AR43","v":0},{"$f":"'Marks Entry'!AS43","v":0},{"$f":"'Marks Entry'!AT43","v":0},{"$f":"'Marks Entry'!AU43","v":0},{"$f":"'Marks Entry'!AV43","v":0},{"$f":"'Marks Entry'!AW43","v":0},{"$f":"'Marks Entry'!AX43","v":"E"},{"$f":"'Marks Entry'!AY43","v":0},{"$f":"'Marks Entry'!AZ43","v":0},{"$f":"'Marks Entry'!BA43","v":0},{"$f":"'Marks Entry'!BB43","v":0},{"$f":"'Marks Entry'!BC43","v":0},{"$f":"'Marks Entry'!BD43","v":0},{"$f":"'Marks Entry'!BE43","v":0},{"$f":"'Marks Entry'!BF43","v":0},{"$f":"'Marks Entry'!BG43","v":0},{"$f":"'Marks Entry'!BH43","v":0},{"$f":"'Marks Entry'!BI43","v":0},{"$f":"'Marks Entry'!BJ43","v":0},{"$f":"'Marks Entry'!BK43","v":0},{"$f":"'Marks Entry'!BL43","v":0},{"$f":"'Marks Entry'!BM43","v":0},{"$f":"'Marks Entry'!BN43","v":0},{"$f":"'Marks Entry'!BO43","v":0},{"$f":"'Marks Entry'!BP43","v":0},{"$f":"'Marks Entry'!BQ43","v":0},{"$f":"'Marks Entry'!BR43","v":"E"},{"$f":"'Marks Entry'!BS43","v":0},{"$f":"'Marks Entry'!BT43","v":0},{"$f":"'Marks Entry'!BU43","v":0},{"$f":"'Marks Entry'!BV43","v":0},{"$f":"'Marks Entry'!BW43","v":0},{"$f":"'Marks Entry'!BX43","v":0},{"$f":"'Marks Entry'!BY43","v":0},{"$f":"'Marks Entry'!BZ43","v":0},{"$f":"'Marks Entry'!CA43","v":0},{"$f":"'Marks Entry'!CB43","v":0},{"$f":"'Marks Entry'!CC43","v":0},{"$f":"'Marks Entry'!CD43","v":0},{"$f":"'Marks Entry'!CE43","v":0},{"$f":"'Marks Entry'!CF43","v":0},{"$f":"'Marks Entry'!CG43","v":0},{"$f":"'Marks Entry'!CH43","v":0},{"$f":"'Marks Entry'!CI43","v":0},{"$f":"'Marks Entry'!CJ43","v":0},{"$f":"'Marks Entry'!CK43","v":0},{"$f":"'Marks Entry'!CL43","v":"E"},{"$f":"'Marks Entry'!CM43","v":0},{"$f":"'Marks Entry'!CN43","v":0},{"$f":"'Marks Entry'!CO43","v":0},{"$f":"'Marks Entry'!CP43","v":0},{"$f":"'Marks Entry'!CQ43","v":0},{"$f":"'Marks Entry'!CR43","v":0},{"$f":"'Marks Entry'!CS43","v":0},{"$f":"'Marks Entry'!CT43","v":0},{"$f":"'Marks Entry'!CU43","v":0},{"$f":"'Marks Entry'!CV43","v":0},{"$f":"'Marks Entry'!CW43","v":0},{"$f":"'Marks Entry'!CX43","v":0},{"$f":"'Marks Entry'!CY43","v":0},{"$f":"'Marks Entry'!CZ43","v":0},{"$f":"'Marks Entry'!DA43","v":0},{"$f":"'Marks Entry'!DB43","v":0},{"$f":"'Marks Entry'!DC43","v":0},{"$f":"'Marks Entry'!DD43","v":0},{"$f":"'Marks Entry'!DE43","v":0},{"$f":"'Marks Entry'!DF43","v":"E"},{"$f":"'Marks Entry'!DG43","v":0},{"$f":"'Marks Entry'!DH43","v":0},{"$f":"'Marks Entry'!DI43","v":0},{"$f":"'Marks Entry'!DJ43","v":0},{"$f":"'Marks Entry'!DK43","v":0},{"$f":"'Marks Entry'!DL43","v":0},{"$f":"'Marks Entry'!DM43","v":0},{"$f":"'Marks Entry'!DN43","v":0},{"$f":"'Marks Entry'!DO43","v":0},{"$f":"'Marks Entry'!DP43","v":0},{"$f":"'Marks Entry'!DQ43","v":0},{"$f":"'Marks Entry'!DR43","v":0},{"$f":"'Marks Entry'!DS43","v":0},{"$f":"'Marks Entry'!DT43","v":0},{"$f":"'Marks Entry'!DU43","v":0},{"$f":"'Marks Entry'!DV43","v":0},{"$f":"'Marks Entry'!DW43","v":0},{"$f":"'Marks Entry'!DX43","v":0},{"$f":"'Marks Entry'!DY43","v":0},{"$f":"'Marks Entry'!DZ43","v":"E"},{"$f":"'Marks Entry'!EA43","v":0},{"$f":"'Marks Entry'!EB43","v":0},{"$f":"'Marks Entry'!EC43","v":0},{"$f":"'Marks Entry'!ED43","v":0},{"$f":"'Marks Entry'!EE43","v":0},{"$f":"'Marks Entry'!EF43","v":0},{"$f":"'Marks Entry'!EG43","v":0},{"$f":"'Marks Entry'!EJ43","v":0},{"$f":"'Marks Entry'!EK43","v":0},{"$f":"'Marks Entry'!EL43","v":0},{"$f":"'Marks Entry'!EM43","v":0},{"$f":"'Marks Entry'!EN43","v":0},{"$f":"'Marks Entry'!EO43","v":0},{"$f":"'Marks Entry'!EP43","v":0},{"$f":"'Marks Entry'!ES43","v":0},{"$f":"'Marks Entry'!ET43","v":0},{"$f":"'Marks Entry'!EU43","v":0},{"$f":"'Marks Entry'!EV43","v":0},{"$f":"'Marks Entry'!EW43","v":0},{"$f":"'Marks Entry'!EX43","v":0},{"$f":"'Marks Entry'!EY43","v":0},{"$f":"'Marks Entry'!FB43","v":0},{"$f":"'Marks Entry'!FC43","v":0},{"$f":"'Marks Entry'!FD43","v":0},{"$f":"'Marks Entry'!FE43","v":""},{"$f":"'Marks Entry'!FF43","v":0},{"$f":"'Marks Entry'!FG43","v":0},{"$f":"'Marks Entry'!FH43","v":""},{"$f":"IF(OR('Marks Entry'!FI43=\"First\",'Marks Entry'!FI43=\"Second\",'Marks Entry'!FI43=\"Third\"),'Marks Entry'!FI43,\"\")","v":""},{"$f":"'Marks Entry'!FJ43","v":""},{"$f":"'Marks Entry'!FK43","v":""},{"$f":"'Marks Entry'!FL43","v":""},{"$f":"'Marks Entry'!FM43","v":""},{"$f":"'Marks Entry'!FO43","v":0}]
[null,0,{"$f":"'Marks Entry'!D44","v":0},{"$f":"'Marks Entry'!E44","v":0},{"$f":"'Marks Entry'!F44","v":0},{"$f":"'Marks Entry'!G44","v":0},{"$f":"'Marks Entry'!H44","v":0},{"$f":"'Marks Entry'!I44","v":0},{"$f":"'Marks Entry'!J44","v":0},{"$f":"'Marks Entry'!K44","v":"00:00:00"},{"$f":"'Marks Entry'!L44","v":0},{"$f":"'Marks Entry'!M44","v":0},{"$f":"'Marks Entry'!N44","v":0},{"$f":"'Marks Entry'!O44","v":0},{"$f":"'Marks Entry'!P44","v":0},{"$f":"'Marks Entry'!Q44","v":0},{"$f":"'Marks Entry'!R44","v":0},{"$f":"'Marks Entry'!S44","v":0},{"$f":"'Marks Entry'!T44","v":0},{"$f":"'Marks Entry'!U44","v":0},{"$f":"'Marks Entry'!V44","v":0},{"$f":"'Marks Entry'!W44","v":0},{"$f":"'Marks Entry'!X44","v":0},{"$f":"'Marks Entry'!Y44","v":0},{"$f":"'Marks Entry'!Z44","v":0},{"$f":"'Marks Entry'!AA44","v":0},{"$f":"'Marks Entry'!AB44","v":0},{"$f":"'Marks Entry'!AC44","v":0},{"$f":"'Marks Entry'!AD44","v":""},{"$f":"'Marks Entry'!AE44","v":0},{"$f":"'Marks Entry'!AF44","v":0},{"$f":"'Marks Entry'!AG44","v":0},{"$f":"'Marks Entry'!AH44","v":0},{"$f":"'Marks Entry'!AI44","v":0},{"$f":"'Marks Entry'!AJ44","v":0},{"$f":"'Marks Entry'!AK44","v":0},{"$f":"'Marks Entry'!AL44","v":0},{"$f":"'Marks Entry'!AM44","v":0},{"$f":"'Marks Entry'!AN44","v":0},{"$f":"'Marks Entry'!AO44","v":0},{"$f":"'Marks Entry'!AP44","v":0},{"$f":"'Marks Entry'!AQ44","v":0},{"$f":"'Marks Entry'!AR44","v":0},{"$f":"'Marks Entry'!AS44","v":0},{"$f":"'Marks Entry'!AT44","v":0},{"$f":"'Marks Entry'!AU44","v":0},{"$f":"'Marks Entry'!AV44","v":0},{"$f":"'Marks Entry'!AW44","v":0},{"$f":"'Marks Entry'!AX44","v":"E"},{"$f":"'Marks Entry'!AY44","v":0},{"$f":"'Marks Entry'!AZ44","v":0},{"$f":"'Marks Entry'!BA44","v":0},{"$f":"'Marks Entry'!BB44","v":0},{"$f":"'Marks Entry'!BC44","v":0},{"$f":"'Marks Entry'!BD44","v":0},{"$f":"'Marks Entry'!BE44","v":0},{"$f":"'Marks Entry'!BF44","v":0},{"$f":"'Marks Entry'!BG44","v":0},{"$f":"'Marks Entry'!BH44","v":0},{"$f":"'Marks Entry'!BI44","v":0},{"$f":"'Marks Entry'!BJ44","v":0},{"$f":"'Marks Entry'!BK44","v":0},{"$f":"'Marks Entry'!BL44","v":0},{"$f":"'Marks Entry'!BM44","v":0},{"$f":"'Marks Entry'!BN44","v":0},{"$f":"'Marks Entry'!BO44","v":0},{"$f":"'Marks Entry'!BP44","v":0},{"$f":"'Marks Entry'!BQ44","v":0},{"$f":"'Marks Entry'!BR44","v":"E"},{"$f":"'Marks Entry'!BS44","v":0},{"$f":"'Marks Entry'!BT44","v":0},{"$f":"'Marks Entry'!BU44","v":0},{"$f":"'Marks Entry'!BV44","v":0},{"$f":"'Marks Entry'!BW44","v":0},{"$f":"'Marks Entry'!BX44","v":0},{"$f":"'Marks Entry'!BY44","v":0},{"$f":"'Marks Entry'!BZ44","v":0},{"$f":"'Marks Entry'!CA44","v":0},{"$f":"'Marks Entry'!CB44","v":0},{"$f":"'Marks Entry'!CC44","v":0},{"$f":"'Marks Entry'!CD44","v":0},{"$f":"'Marks Entry'!CE44","v":0},{"$f":"'Marks Entry'!CF44","v":0},{"$f":"'Marks Entry'!CG44","v":0},{"$f":"'Marks Entry'!CH44","v":0},{"$f":"'Marks Entry'!CI44","v":0},{"$f":"'Marks Entry'!CJ44","v":0},{"$f":"'Marks Entry'!CK44","v":0},{"$f":"'Marks Entry'!CL44","v":"E"},{"$f":"'Marks Entry'!CM44","v":0},{"$f":"'Marks Entry'!CN44","v":0},{"$f":"'Marks Entry'!CO44","v":0},{"$f":"'Marks Entry'!CP44","v":0},{"$f":"'Marks Entry'!CQ44","v":0},{"$f":"'Marks Entry'!CR44","v":0},{"$f":"'Marks Entry'!CS44","v":0},{"$f":"'Marks Entry'!CT44","v":0},{"$f":"'Marks Entry'!CU44","v":0},{"$f":"'Marks Entry'!CV44","v":0},{"$f":"'Marks Entry'!CW44","v":0},{"$f":"'Marks Entry'!CX44","v":0},{"$f":"'Marks Entry'!CY44","v":0},{"$f":"'Marks Entry'!CZ44","v":0},{"$f":"'Marks Entry'!DA44","v":0},{"$f":"'Marks Entry'!DB44","v":0},{"$f":"'Marks Entry'!DC44","v":0},{"$f":"'Marks Entry'!DD44","v":0},{"$f":"'Marks Entry'!DE44","v":0},{"$f":"'Marks Entry'!DF44","v":"E"},{"$f":"'Marks Entry'!DG44","v":0},{"$f":"'Marks Entry'!DH44","v":0},{"$f":"'Marks Entry'!DI44","v":0},{"$f":"'Marks Entry'!DJ44","v":0},{"$f":"'Marks Entry'!DK44","v":0},{"$f":"'Marks Entry'!DL44","v":0},{"$f":"'Marks Entry'!DM44","v":0},{"$f":"'Marks Entry'!DN44","v":0},{"$f":"'Marks Entry'!DO44","v":0},{"$f":"'Marks Entry'!DP44","v":0},{"$f":"'Marks Entry'!DQ44","v":0},{"$f":"'Marks Entry'!DR44","v":0},{"$f":"'Marks Entry'!DS44","v":0},{"$f":"'Marks Entry'!DT44","v":0},{"$f":"'Marks Entry'!DU44","v":0},{"$f":"'Marks Entry'!DV44","v":0},{"$f":"'Marks Entry'!DW44","v":0},{"$f":"'Marks Entry'!DX44","v":0},{"$f":"'Marks Entry'!DY44","v":0},{"$f":"'Marks Entry'!DZ44","v":"E"},{"$f":"'Marks Entry'!EA44","v":0},{"$f":"'Marks Entry'!EB44","v":0},{"$f":"'Marks Entry'!EC44","v":0},{"$f":"'Marks Entry'!ED44","v":0},{"$f":"'Marks Entry'!EE44","v":0},{"$f":"'Marks Entry'!EF44","v":0},{"$f":"'Marks Entry'!EG44","v":0},{"$f":"'Marks Entry'!EJ44","v":0},{"$f":"'Marks Entry'!EK44","v":0},{"$f":"'Marks Entry'!EL44","v":0},{"$f":"'Marks Entry'!EM44","v":0},{"$f":"'Marks Entry'!EN44","v":0},{"$f":"'Marks Entry'!EO44","v":0},{"$f":"'Marks Entry'!EP44","v":0},{"$f":"'Marks Entry'!ES44","v":0},{"$f":"'Marks Entry'!ET44","v":0},{"$f":"'Marks Entry'!EU44","v":0},{"$f":"'Marks Entry'!EV44","v":0},{"$f":"'Marks Entry'!EW44","v":0},{"$f":"'Marks Entry'!EX44","v":0},{"$f":"'Marks Entry'!EY44","v":0},{"$f":"'Marks Entry'!FB44","v":0},{"$f":"'Marks Entry'!FC44","v":0},{"$f":"'Marks Entry'!FD44","v":0},{"$f":"'Marks Entry'!FE44","v":""},{"$f":"'Marks Entry'!FF44","v":0},{"$f":"'Marks Entry'!FG44","v":0},{"$f":"'Marks Entry'!FH44","v":""},{"$f":"IF(OR('Marks Entry'!FI44=\"First\",'Marks Entry'!FI44=\"Second\",'Marks Entry'!FI44=\"Third\"),'Marks Entry'!FI44,\"\")","v":""},{"$f":"'Marks Entry'!FJ44","v":""},{"$f":"'Marks Entry'!FK44","v":""},{"$f":"'Marks Entry'!FL44","v":""},{"$f":"'Marks Entry'!FM44","v":""},{"$f":"'Marks Entry'!FO44","v":0}]
[null,0,{"$f":"'Marks Entry'!D45","v":0},{"$f":"'Marks Entry'!E45","v":0},{"$f":"'Marks Entry'!F45","v":0},{"$f":"'Marks Entry'!G45","v":0},{"$f":"'Marks Entry'!H45","v":0},{"$f":"'Marks Entry'!I45","v":0},{"$f":"'Marks Entry'!J45","v":0},{"$f":"'Marks Entry'!K45","v":"00:00:00"},{"$f":"'Marks Entry'!L45","v":0},{"$f":"'Marks Entry'!M45","v":0},{"$f":"'Marks Entry'!N45","v":0},{"$f":"'Marks Entry'!O45","v":0},{"$f":"'Marks Entry'!P45","v":0},{"$f":"'Marks Entry'!Q45","v":0},{"$f":"'Marks Entry'!R45","v":0},{"$f":"'Marks Entry'!S45","v":0},{"$f":"'Marks Entry'!T45","v":0},{"$f":"'Marks Entry'!U45","v":0},{"$f":"'Marks Entry'!V45","v":0},{"$f":"'Marks Entry'!W45","v":0},{"$f":"'Marks Entry'!X45","v":0},{"$f":"'Marks Entry'!Y45","v":0},{"$f":"'Marks Entry'!Z45","v":0},{"$f":"'Marks Entry'!AA45","v":0},{"$f":"'Marks Entry'!AB45","v":0},{"$f":"'Marks Entry'!AC45","v":0},{"$f":"'Marks Entry'!AD45","v":""},{"$f":"'Marks Entry'!AE45","v":0},{"$f":"'Marks Entry'!AF45","v":0},{"$f":"'Marks Entry'!AG45","v":0},{"$f":"'Marks Entry'!AH45","v":0},{"$f":"'Marks Entry'!AI45","v":0},{"$f":"'Marks Entry'!AJ45","v":0},{"$f":"'Marks Entry'!AK45","v":0},{"$f":"'Marks Entry'!AL45","v":0},{"$f":"'Marks Entry'!AM45","v":0},{"$f":"'Marks Entry'!AN45","v":0},{"$f":"'Marks Entry'!AO45","v":0},{"$f":"'Marks Entry'!AP45","v":0},{"$f":"'Marks Entry'!AQ45","v":0},{"$f":"'Marks Entry'!AR45","v":0},{"$f":"'Marks Entry'!AS45","v":0},{"$f":"'Marks Entry'!AT45","v":0},{"$f":"'Marks Entry'!AU45","v":0},{"$f":"'Marks Entry'!AV45","v":0},{"$f":"'Marks Entry'!AW45","v":0},{"$f":"'Marks Entry'!AX45","v":"E"},{"$f":"'Marks Entry'!AY45","v":0},{"$f":"'Marks Entry'!AZ45","v":0},{"$f":"'Marks Entry'!BA45","v":0},{"$f":"'Marks Entry'!BB45","v":0},{"$f":"'Marks Entry'!BC45","v":0},{"$f":"'Marks Entry'!BD45","v":0},{"$f":"'Marks Entry'!BE45","v":0},{"$f":"'Marks Entry'!BF45","v":0},{"$f":"'Marks Entry'!BG45","v":0},{"$f":"'Marks Entry'!BH45","v":0},{"$f":"'Marks Entry'!BI45","v":0},{"$f":"'Marks Entry'!BJ45","v":0},{"$f":"'Marks Entry'!BK45","v":0},{"$f":"'Marks Entry'!BL45","v":0},{"$f":"'Marks Entry'!BM45","v":0},{"$f":"'Marks Entry'!BN45","v":0},{"$f":"'Marks Entry'!BO45","v":0},{"$f":"'Marks Entry'!BP45","v":0},{"$f":"'Marks Entry'!BQ45","v":0},{"$f":"'Marks Entry'!BR45","v":"E"},{"$f":"'Marks Entry'!BS45","v":0},{"$f":"'Marks Entry'!BT45","v":0},{"$f":"'Marks Entry'!BU45","v":0},{"$f":"'Marks Entry'!BV45","v":0},{"$f":"'Marks Entry'!BW45","v":0},{"$f":"'Marks Entry'!BX45","v":0},{"$f":"'Marks Entry'!BY45","v":0},{"$f":"'Marks Entry'!BZ45","v":0},{"$f":"'Marks Entry'!CA45","v":0},{"$f":"'Marks Entry'!CB45","v":0},{"$f":"'Marks Entry'!CC45","v":0},{"$f":"'Marks Entry'!CD45","v":0},{"$f":"'Marks Entry'!CE45","v":0},{"$f":"'Marks Entry'!CF45","v":0},{"$f":"'Marks Entry'!CG45","v":0},{"$f":"'Marks Entry'!CH45","v":0},{"$f":"'Marks Entry'!CI45","v":0},{"$f":"'Marks Entry'!CJ45","v":0},{"$f":"'Marks Entry'!CK45","v":0},{"$f":"'Marks Entry'!CL45","v":"E"},{"$f":"'Marks Entry'!CM45","v":0},{"$f":"'Marks Entry'!CN45","v":0},{"$f":"'Marks Entry'!CO45","v":0},{"$f":"'Marks Entry'!CP45","v":0},{"$f":"'Marks Entry'!CQ45","v":0},{"$f":"'Marks Entry'!CR45","v":0},{"$f":"'Marks Entry'!CS45","v":0},{"$f":"'Marks Entry'!CT45","v":0},{"$f":"'Marks Entry'!CU45","v":0},{"$f":"'Marks Entry'!CV45","v":0},{"$f":"'Marks Entry'!CW45","v":0},{"$f":"'Marks Entry'!CX45","v":0},{"$f":"'Marks Entry'!CY45","v":0},{"$f":"'Marks Entry'!CZ45","v":0},{"$f":"'Marks Entry'!DA45","v":0},{"$f":"'Marks Entry'!DB45","v":0},{"$f":"'Marks Entry'!DC45","v":0},{"$f":"'Marks Entry'!DD45","v":0},{"$f":"'Marks Entry'!DE45","v":0},{"$f":"'Marks Entry'!DF45","v":"E"},{"$f":"'Marks Entry'!DG45","v":0},{"$f":"'Marks Entry'!DH45","v":0},{"$f":"'Marks Entry'!DI45","v":0},{"$f":"'Marks Entry'!DJ45","v":0},{"$f":"'Marks Entry'!DK45","v":0},{"$f":"'Marks Entry'!DL45","v":0},{"$f":"'Marks Entry'!DM45","v":0},{"$f":"'Marks Entry'!DN45","v":0},{"$f":"'Marks Entry'!DO45","v":0},{"$f":"'Marks Entry'!DP45","v":0},{"$f":"'Marks Entry'!DQ45","v":0},{"$f":"'Marks Entry'!DR45","v":0},{"$f":"'Marks Entry'!DS45","v":0},{"$f":"'Marks Entry'!DT45","v":0},{"$f":"'Marks Entry'!DU45","v":0},{"$f":"'Marks Entry'!DV45","v":0},{"$f":"'Marks Entry'!DW45","v":0},{"$f":"'Marks Entry'!DX45","v":0},{"$f":"'Marks Entry'!DY45","v":0},{"$f":"'Marks Entry'!DZ45","v":"E"},{"$f":"'Marks Entry'!EA45","v":0},{"$f":"'Marks Entry'!EB45","v":0},{"$f":"'Marks Entry'!EC45","v":0},{"$f":"'Marks Entry'!ED45","v":0},{"$f":"'Marks Entry'!EE45","v":0},{"$f":"'Marks Entry'!EF45","v":0},{"$f":"'Marks Entry'!EG45","v":0},{"$f":"'Marks Entry'!EJ45","v":0},{"$f":"'Marks Entry'!EK45","v":0},{"$f":"'Marks Entry'!EL45","v":0},{"$f":"'Marks Entry'!EM45","v":0},{"$f":"'Marks Entry'!EN45","v":0},{"$f":"'Marks Entry'!EO45","v":0},{"$f":"'Marks Entry'!EP45","v":0},{"$f":"'Marks Entry'!ES45","v":0},{"$f":"'Marks Entry'!ET45","v":0},{"$f":"'Marks Entry'!EU45","v":0},{"$f":"'Marks Entry'!EV45","v":0},{"$f":"'Marks Entry'!EW45","v":0},{"$f":"'Marks Entry'!EX45","v":0},{"$f":"'Marks Entry'!EY45","v":0},{"$f":"'Marks Entry'!FB45","v":0},{"$f":"'Marks Entry'!FC45","v":0},{"$f":"'Marks Entry'!FD45","v":0},{"$f":"'Marks Entry'!FE45","v":""},{"$f":"'Marks Entry'!FF45","v":0},{"$f":"'Marks Entry'!FG45","v":0},{"$f":"'Marks Entry'!FH45","v":""},{"$f":"IF(OR('Marks Entry'!FI45=\"First\",'Marks Entry'!FI45=\"Second\",'Marks Entry'!FI45=\"Third\"),'Marks Entry'!FI45,\"\")","v":""},{"$f":"'Marks Entry'!FJ45","v":""},{"$f":"'Marks Entry'!FK45","v":""},{"$f":"'Marks Entry'!FL45","v":""},{"$f":"'Marks Entry'!FM45","v":""},{"$f":"'Marks Entry'!FO45","v":0}]
[null,0,{"$f":"'Marks Entry'!D46","v":0},{"$f":"'Marks Entry'!E46","v":0},{"$f":"'Marks Entry'!F46","v":0},{"$f":"'Marks Entry'!G46","v":0},{"$f":"'Marks Entry'!H46","v":0},{"$f":"'Marks Entry'!I46","v":0},{"$f":"'Marks Entry'!J46","v":0},{"$f":"'Marks Entry'!K46","v":"00:00:00"},{"$f":"'Marks Entry'!L46","v":0},{"$f":"'Marks Entry'!M46","v":0},{"$f":"'Marks Entry'!N46","v":0},{"$f":"'Marks Entry'!O46","v":0},{"$f":"'Marks Entry'!P46","v":0},{"$f":"'Marks Entry'!Q46","v":0},{"$f":"'Marks Entry'!R46","v":0},{"$f":"'Marks Entry'!S46","v":0},{"$f":"'Marks Entry'!T46","v":0},{"$f":"'Marks Entry'!U46","v":0},{"$f":"'Marks Entry'!V46","v":0},{"$f":"'Marks Entry'!W46","v":0},{"$f":"'Marks Entry'!X46","v":0},{"$f":"'Marks Entry'!Y46","v":0},{"$f":"'Marks Entry'!Z46","v":0},{"$f":"'Marks Entry'!AA46","v":0},{"$f":"'Marks Entry'!AB46","v":0},{"$f":"'Marks Entry'!AC46","v":0},{"$f":"'Marks Entry'!AD46","v":""},{"$f":"'Marks Entry'!AE46","v":0},{"$f":"'Marks Entry'!AF46","v":0},{"$f":"'Marks Entry'!AG46","v":0},{"$f":"'Marks Entry'!AH46","v":0},{"$f":"'Marks Entry'!AI46","v":0},{"$f":"'Marks Entry'!AJ46","v":0},{"$f":"'Marks Entry'!AK46","v":0},{"$f":"'Marks Entry'!AL46","v":0},{"$f":"'Marks Entry'!AM46","v":0},{"$f":"'Marks Entry'!AN46","v":0},{"$f":"'Marks Entry'!AO46","v":0},{"$f":"'Marks Entry'!AP46","v":0},{"$f":"'Marks Entry'!AQ46","v":0},{"$f":"'Marks Entry'!AR46","v":0},{"$f":"'Marks Entry'!AS46","v":0},{"$f":"'Marks Entry'!AT46","v":0},{"$f":"'Marks Entry'!AU46","v":0},{"$f":"'Marks Entry'!AV46","v":0},{"$f":"'Marks Entry'!AW46","v":0},{"$f":"'Marks Entry'!AX46","v":"E"},{"$f":"'Marks Entry'!AY46","v":0},{"$f":"'Marks Entry'!AZ46","v":0},{"$f":"'Marks Entry'!BA46","v":0},{"$f":"'Marks Entry'!BB46","v":0},{"$f":"'Marks Entry'!BC46","v":0},{"$f":"'Marks Entry'!BD46","v":0},{"$f":"'Marks Entry'!BE46","v":0},{"$f":"'Marks Entry'!BF46","v":0},{"$f":"'Marks Entry'!BG46","v":0},{"$f":"'Marks Entry'!BH46","v":0},{"$f":"'Marks Entry'!BI46","v":0},{"$f":"'Marks Entry'!BJ46","v":0},{"$f":"'Marks Entry'!BK46","v":0},{"$f":"'Marks Entry'!BL46","v":0},{"$f":"'Marks Entry'!BM46","v":0},{"$f":"'Marks Entry'!BN46","v":0},{"$f":"'Marks Entry'!BO46","v":0},{"$f":"'Marks Entry'!BP46","v":0},{"$f":"'Marks Entry'!BQ46","v":0},{"$f":"'Marks Entry'!BR46","v":"E"},{"$f":"'Marks Entry'!BS46","v":0},{"$f":"'Marks Entry'!BT46","v":0},{"$f":"'Marks Entry'!BU46","v":0},{"$f":"'Marks Entry'!BV46","v":0},{"$f":"'Marks Entry'!BW46","v":0},{"$f":"'Marks Entry'!BX46","v":0},{"$f":"'Marks Entry'!BY46","v":0},{"$f":"'Marks Entry'!BZ46","v":0},{"$f":"'Marks Entry'!CA46","v":0},{"$f":"'Marks Entry'!CB46","v":0},{"$f":"'Marks Entry'!CC46","v":0},{"$f":"'Marks Entry'!CD46","v":0},{"$f":"'Marks Entry'!CE46","v":0},{"$f":"'Marks Entry'!CF46","v":0},{"$f":"'Marks Entry'!CG46","v":0},{"$f":"'Marks Entry'!CH46","v":0},{"$f":"'Marks Entry'!CI46","v":0},{"$f":"'Marks Entry'!CJ46","v":0},{"$f":"'Marks Entry'!CK46","v":0},{"$f":"'Marks Entry'!CL46","v":"E"},{"$f":"'Marks Entry'!CM46","v":0},{"$f":"'Marks Entry'!CN46","v":0},{"$f":"'Marks Entry'!CO46","v":0},{"$f":"'Marks Entry'!CP46","v":0},{"$f":"'Marks Entry'!CQ46","v":0},{"$f":"'Marks Entry'!CR46","v":0},{"$f":"'Marks Entry'!CS46","v":0},{"$f":"'Marks Entry'!CT46","v":0},{"$f":"'Marks Entry'!CU46","v":0},{"$f":"'Marks Entry'!CV46","v":0},{"$f":"'Marks Entry'!CW46","v":0},{"$f":"'Marks Entry'!CX46","v":0},{"$f":"'Marks Entry'!CY46","v":0},{"$f":"'Marks Entry'!CZ46","v":0},{"$f":"'Marks Entry'!DA46","v":0},{"$f":"'Marks Entry'!DB46","v":0},{"$f":"'Marks Entry'!DC46","v":0},{"$f":"'Marks Entry'!DD46","v":0},{"$f":"'Marks Entry'!DE46","v":0},{"$f":"'Marks Entry'!DF46","v":"E"},{"$f":"'Marks Entry'!DG46","v":0},{"$f":"'Marks Entry'!DH46","v":0},{"$f":"'Marks Entry'!DI46","v":0},{"$f":"'Marks Entry'!DJ46","v":0},{"$f":"'Marks Entry'!DK46","v":0},{"$f":"'Marks Entry'!DL46","v":0},{"$f":"'Marks Entry'!DM46","v":0},{"$f":"'Marks Entry'!DN46","v":0},{"$f":"'Marks Entry'!DO46","v":0},{"$f":"'Marks Entry'!DP46","v":0},{"$f":"'Marks Entry'!DQ46","v":0},{"$f":"'Marks Entry'!DR46","v":0},{"$f":"'Marks Entry'!DS46","v":0},{"$f":"'Marks Entry'!DT46","v":0},{"$f":"'Marks Entry'!DU46","v":0},{"$f":"'Marks Entry'!DV46","v":0},{"$f":"'Marks Entry'!DW46","v":0},{"$f":"'Marks Entry'!DX46","v":0},{"$f":"'Marks Entry'!DY46","v":0},{"$f":"'Marks Entry'!DZ46","v":"E"},{"$f":"'Marks Entry'!EA46","v":0},{"$f":"'Marks Entry'!EB46","v":0},{"$f":"'Marks Entry'!EC46","v":0},{"$f":"'Marks Entry'!ED46","v":0},{"$f":"'Marks Entry'!EE46","v":0},{"$f":"'Marks Entry'!EF46","v":0},{"$f":"'Marks Entry'!EG46","v":0},{"$f":"'Marks Entry'!EJ46","v":0},{"$f":"'Marks Entry'!EK46","v":0},{"$f":"'Marks Entry'!EL46","v":0},{"$f":"'Marks Entry'!EM46","v":0},{"$f":"'Marks Entry'!EN46","v":0},{"$f":"'Marks Entry'!EO46","v":0},{"$f":"'Marks Entry'!EP46","v":0},{"$f":"'Marks Entry'!ES46","v":0},{"$f":"'Marks Entry'!ET46","v":0},{"$f":"'Marks Entry'!EU46","v":0},{"$f":"'Marks Entry'!EV46","v":0},{"$f":"'Marks Entry'!EW46","v":0},{"$f":"'Marks Entry'!EX46","v":0},{"$f":"'Marks Entry'!EY46","v":0},{"$f":"'Marks Entry'!FB46","v":0},{"$f":"'Marks Entry'!FC46","v":0},{"$f":"'Marks Entry'!FD46","v":0},{"$f":"'Marks Entry'!FE46","v":""},{"$f":"'Marks Entry'!FF46","v":0},{"$f":"'Marks Entry'!FG46","v":0},{"$f":"'Marks Entry'!FH46","v":""},{"$f":"IF(OR('Marks Entry'!FI46=\"First\",'Marks Entry'!FI46=\"Second\",'Marks Entry'!FI46=\"Third\"),'Marks Entry'!FI46,\"\")","v":""},{"$f":"'Marks Entry'!FJ46","v":""},{"$f":"'Marks Entry'!FK46","v":""},{"$f":"'Marks Entry'!FL46","v":""},{"$f":"'Marks Entry'!FM46","v":""},{"$f":"'Marks Entry'!FO46","v":0}]
[null,0,{"$f":"'Marks Entry'!D47","v":0},{"$f":"'Marks Entry'!E47","v":0},{"$f":"'Marks Entry'!F47","v":0},{"$f":"'Marks Entry'!G47","v":0},{"$f":"'Marks Entry'!H47","v":0},{"$f":"'Marks Entry'!I47","v":0},{"$f":"'Marks Entry'!J47","v":0},{"$f":"'Marks Entry'!K47","v":"00:00:00"},{"$f":"'Marks Entry'!L47","v":0},{"$f":"'Marks Entry'!M47","v":0},{"$f":"'Marks Entry'!N47","v":0},{"$f":"'Marks Entry'!O47","v":0},{"$f":"'Marks Entry'!P47","v":0},{"$f":"'Marks Entry'!Q47","v":0},{"$f":"'Marks Entry'!R47","v":0},{"$f":"'Marks Entry'!S47","v":0},{"$f":"'Marks Entry'!T47","v":0},{"$f":"'Marks Entry'!U47","v":0},{"$f":"'Marks Entry'!V47","v":0},{"$f":"'Marks Entry'!W47","v":0},{"$f":"'Marks Entry'!X47","v":0},{"$f":"'Marks Entry'!Y47","v":0},{"$f":"'Marks Entry'!Z47","v":0},{"$f":"'Marks Entry'!AA47","v":0},{"$f":"'Marks Entry'!AB47","v":0},{"$f":"'Marks Entry'!AC47","v":0},{"$f":"'Marks Entry'!AD47","v":""},{"$f":"'Marks Entry'!AE47","v":0},{"$f":"'Marks Entry'!AF47","v":0},{"$f":"'Marks Entry'!AG47","v":0},{"$f":"'Marks Entry'!AH47","v":0},{"$f":"'Marks Entry'!AI47","v":0},{"$f":"'Marks Entry'!AJ47","v":0},{"$f":"'Marks Entry'!AK47","v":0},{"$f":"'Marks Entry'!AL47","v":0},{"$f":"'Marks Entry'!AM47","v":0},{"$f":"'Marks Entry'!AN47","v":0},{"$f":"'Marks Entry'!AO47","v":0},{"$f":"'Marks Entry'!AP47","v":0},{"$f":"'Marks Entry'!AQ47","v":0},{"$f":"'Marks Entry'!AR47","v":0},{"$f":"'Marks Entry'!AS47","v":0},{"$f":"'Marks Entry'!AT47","v":0},{"$f":"'Marks Entry'!AU47","v":0},{"$f":"'Marks Entry'!AV47","v":0},{"$f":"'Marks Entry'!AW47","v":0},{"$f":"'Marks Entry'!AX47","v":"E"},{"$f":"'Marks Entry'!AY47","v":0},{"$f":"'Marks Entry'!AZ47","v":0},{"$f":"'Marks Entry'!BA47","v":0},{"$f":"'Marks Entry'!BB47","v":0},{"$f":"'Marks Entry'!BC47","v":0},{"$f":"'Marks Entry'!BD47","v":0},{"$f":"'Marks Entry'!BE47","v":0},{"$f":"'Marks Entry'!BF47","v":0},{"$f":"'Marks Entry'!BG47","v":0},{"$f":"'Marks Entry'!BH47","v":0},{"$f":"'Marks Entry'!BI47","v":0},{"$f":"'Marks Entry'!BJ47","v":0},{"$f":"'Marks Entry'!BK47","v":0},{"$f":"'Marks Entry'!BL47","v":0},{"$f":"'Marks Entry'!BM47","v":0},{"$f":"'Marks Entry'!BN47","v":0},{"$f":"'Marks Entry'!BO47","v":0},{"$f":"'Marks Entry'!BP47","v":0},{"$f":"'Marks Entry'!BQ47","v":0},{"$f":"'Marks Entry'!BR47","v":"E"},{"$f":"'Marks Entry'!BS47","v":0},{"$f":"'Marks Entry'!BT47","v":0},{"$f":"'Marks Entry'!BU47","v":0},{"$f":"'Marks Entry'!BV47","v":0},{"$f":"'Marks Entry'!BW47","v":0},{"$f":"'Marks Entry'!BX47","v":0},{"$f":"'Marks Entry'!BY47","v":0},{"$f":"'Marks Entry'!BZ47","v":0},{"$f":"'Marks Entry'!CA47","v":0},{"$f":"'Marks Entry'!CB47","v":0},{"$f":"'Marks Entry'!CC47","v":0},{"$f":"'Marks Entry'!CD47","v":0},{"$f":"'Marks Entry'!CE47","v":0},{"$f":"'Marks Entry'!CF47","v":0},{"$f":"'Marks Entry'!CG47","v":0},{"$f":"'Marks Entry'!CH47","v":0},{"$f":"'Marks Entry'!CI47","v":0},{"$f":"'Marks Entry'!CJ47","v":0},{"$f":"'Marks Entry'!CK47","v":0},{"$f":"'Marks Entry'!CL47","v":"E"},{"$f":"'Marks Entry'!CM47","v":0},{"$f":"'Marks Entry'!CN47","v":0},{"$f":"'Marks Entry'!CO47","v":0},{"$f":"'Marks Entry'!CP47","v":0},{"$f":"'Marks Entry'!CQ47","v":0},{"$f":"'Marks Entry'!CR47","v":0},{"$f":"'Marks Entry'!CS47","v":0},{"$f":"'Marks Entry'!CT47","v":0},{"$f":"'Marks Entry'!CU47","v":0},{"$f":"'Marks Entry'!CV47","v":0},{"$f":"'Marks Entry'!CW47","v":0},{"$f":"'Marks Entry'!CX47","v":0},{"$f":"'Marks Entry'!CY47","v":0},{"$f":"'Marks Entry'!CZ47","v":0},{"$f":"'Marks Entry'!DA47","v":0},{"$f":"'Marks Entry'!DB47","v":0},{"$f":"'Marks Entry'!DC47","v":0},{"$f":"'Marks Entry'!DD47","v":0},{"$f":"'Marks Entry'!DE47","v":0},{"$f":"'Marks Entry'!DF47","v":"E"},{"$f":"'Marks Entry'!DG47","v":0},{"$f":"'Marks Entry'!DH47","v":0},{"$f":"'Marks Entry'!DI47","v":0},{"$f":"'Marks Entry'!DJ47","v":0},{"$f":"'Marks Entry'!DK47","v":0},{"$f":"'Marks Entry'!DL47","v":0},{"$f":"'Marks Entry'!DM47","v":0},{"$f":"'Marks Entry'!DN47","v":0},{"$f":"'Marks Entry'!DO47","v":0},{"$f":"'Marks Entry'!DP47","v":0},{"$f":"'Marks Entry'!DQ47","v":0},{"$f":"'Marks Entry'!DR47","v":0},{"$f":"'Marks Entry'!DS47","v":0},{"$f":"'Marks Entry'!DT47","v":0},{"$f":"'Marks Entry'!DU47","v":0},{"$f":"'Marks Entry'!DV47","v":0},{"$f":"'Marks Entry'!DW47","v":0},{"$f":"'Marks Entry'!DX47","v":0},{"$f":"'Marks Entry'!DY47","v":0},{"$f":"'Marks Entry'!DZ47","v":"E"},{"$f":"'Marks Entry'!EA47","v":0},{"$f":"'Marks Entry'!EB47","v":0},{"$f":"'Marks Entry'!EC47","v":0},{"$f":"'Marks Entry'!ED47","v":0},{"$f":"'Marks Entry'!EE47","v":0},{"$f":"'Marks Entry'!EF47","v":0},{"$f":"'Marks Entry'!EG47","v":0},{"$f":"'Marks Entry'!EJ47","v":0},{"$f":"'Marks Entry'!EK47","v":0},{"$f":"'Marks Entry'!EL47","v":0},{"$f":"'Marks Entry'!EM47","v":0},{"$f":"'Marks Entry'!EN47","v":0},{"$f":"'Marks Entry'!EO47","v":0},{"$f":"'Marks Entry'!EP47","v":0},{"$f":"'Marks Entry'!ES47","v":0},{"$f":"'Marks Entry'!ET47","v":0},{"$f":"'Marks Entry'!EU47","v":0},{"$f":"'Marks Entry'!EV47","v":0},{"$f":"'Marks Entry'!EW47","v":0},{"$f":"'Marks Entry'!EX47","v":0},{"$f":"'Marks Entry'!EY47","v":0},{"$f":"'Marks Entry'!FB47","v":0},{"$f":"'Marks Entry'!FC47","v":0},{"$f":"'Marks Entry'!FD47","v":0},{"$f":"'Marks Entry'!FE47","v":""},{"$f":"'Marks Entry'!FF47","v":0},{"$f":"'Marks Entry'!FG47","v":0},{"$f":"'Marks Entry'!FH47","v":""},{"$f":"IF(OR('Marks Entry'!FI47=\"First\",'Marks Entry'!FI47=\"Second\",'Marks Entry'!FI47=\"Third\"),'Marks Entry'!FI47,\"\")","v":""},{"$f":"'Marks Entry'!FJ47","v":""},{"$f":"'Marks Entry'!FK47","v":""},{"$f":"'Marks Entry'!FL47","v":""},{"$f":"'Marks Entry'!FM47","v":""},{"$f":"'Marks Entry'!FO47","v":0}]
[null,0,{"$f":"'Marks Entry'!D48","v":0},{"$f":"'Marks Entry'!E48","v":0},{"$f":"'Marks Entry'!F48","v":0},{"$f":"'Marks Entry'!G48","v":0},{"$f":"'Marks Entry'!H48","v":0},{"$f":"'Marks Entry'!I48","v":0},{"$f":"'Marks Entry'!J48","v":0},{"$f":"'Marks Entry'!K48","v":"00:00:00"},{"$f":"'Marks Entry'!L48","v":0},{"$f":"'Marks Entry'!M48","v":0},{"$f":"'Marks Entry'!N48","v":0},{"$f":"'Marks Entry'!O48","v":0},{"$f":"'Marks Entry'!P48","v":0},{"$f":"'Marks Entry'!Q48","v":0},{"$f":"'Marks Entry'!R48","v":0},{"$f":"'Marks Entry'!S48","v":0},{"$f":"'Marks Entry'!T48","v":0},{"$f":"'Marks Entry'!U48","v":0},{"$f":"'Marks Entry'!V48","v":0},{"$f":"'Marks Entry'!W48","v":0},{"$f":"'Marks Entry'!X48","v":0},{"$f":"'Marks Entry'!Y48","v":0},{"$f":"'Marks Entry'!Z48","v":0},{"$f":"'Marks Entry'!AA48","v":0},{"$f":"'Marks Entry'!AB48","v":0},{"$f":"'Marks Entry'!AC48","v":0},{"$f":"'Marks Entry'!AD48","v":""},{"$f":"'Marks Entry'!AE48","v":0},{"$f":"'Marks Entry'!AF48","v":0},{"$f":"'Marks Entry'!AG48","v":0},{"$f":"'Marks Entry'!AH48","v":0},{"$f":"'Marks Entry'!AI48","v":0},{"$f":"'Marks Entry'!AJ48","v":0},{"$f":"'Marks Entry'!AK48","v":0},{"$f":"'Marks Entry'!AL48","v":0},{"$f":"'Marks Entry'!AM48","v":0},{"$f":"'Marks Entry'!AN48","v":0},{"$f":"'Marks Entry'!AO48","v":0},{"$f":"'Marks Entry'!AP48","v":0},{"$f":"'Marks Entry'!AQ48","v":0},{"$f":"'Marks Entry'!AR48","v":0},{"$f":"'Marks Entry'!AS48","v":0},{"$f":"'Marks Entry'!AT48","v":0},{"$f":"'Marks Entry'!AU48","v":0},{"$f":"'Marks Entry'!AV48","v":0},{"$f":"'Marks Entry'!AW48","v":0},{"$f":"'Marks Entry'!AX48","v":"E"},{"$f":"'Marks Entry'!AY48","v":0},{"$f":"'Marks Entry'!AZ48","v":0},{"$f":"'Marks Entry'!BA48","v":0},{"$f":"'Marks Entry'!BB48","v":0},{"$f":"'Marks Entry'!BC48","v":0},{"$f":"'Marks Entry'!BD48","v":0},{"$f":"'Marks Entry'!BE48","v":0},{"$f":"'Marks Entry'!BF48","v":0},{"$f":"'Marks Entry'!BG48","v":0},{"$f":"'Marks Entry'!BH48","v":0},{"$f":"'Marks Entry'!BI48","v":0},{"$f":"'Marks Entry'!BJ48","v":0},{"$f":"'Marks Entry'!BK48","v":0},{"$f":"'Marks Entry'!BL48","v":0},{"$f":"'Marks Entry'!BM48","v":0},{"$f":"'Marks Entry'!BN48","v":0},{"$f":"'Marks Entry'!BO48","v":0},{"$f":"'Marks Entry'!BP48","v":0},{"$f":"'Marks Entry'!BQ48","v":0},{"$f":"'Marks Entry'!BR48","v":"E"},{"$f":"'Marks Entry'!BS48","v":0},{"$f":"'Marks Entry'!BT48","v":0},{"$f":"'Marks Entry'!BU48","v":0},{"$f":"'Marks Entry'!BV48","v":0},{"$f":"'Marks Entry'!BW48","v":0},{"$f":"'Marks Entry'!BX48","v":0},{"$f":"'Marks Entry'!BY48","v":0},{"$f":"'Marks Entry'!BZ48","v":0},{"$f":"'Marks Entry'!CA48","v":0},{"$f":"'Marks Entry'!CB48","v":0},{"$f":"'Marks Entry'!CC48","v":0},{"$f":"'Marks Entry'!CD48","v":0},{"$f":"'Marks Entry'!CE48","v":0},{"$f":"'Marks Entry'!CF48","v":0},{"$f":"'Marks Entry'!CG48","v":0},{"$f":"'Marks Entry'!CH48","v":0},{"$f":"'Marks Entry'!CI48","v":0},{"$f":"'Marks Entry'!CJ48","v":0},{"$f":"'Marks Entry'!CK48","v":0},{"$f":"'Marks Entry'!CL48","v":"E"},{"$f":"'Marks Entry'!CM48","v":0},{"$f":"'Marks Entry'!CN48","v":0},{"$f":"'Marks Entry'!CO48","v":0},{"$f":"'Marks Entry'!CP48","v":0},{"$f":"'Marks Entry'!CQ48","v":0},{"$f":"'Marks Entry'!CR48","v":0},{"$f":"'Marks Entry'!CS48","v":0},{"$f":"'Marks Entry'!CT48","v":0},{"$f":"'Marks Entry'!CU48","v":0},{"$f":"'Marks Entry'!CV48","v":0},{"$f":"'Marks Entry'!CW48","v":0},{"$f":"'Marks Entry'!CX48","v":0},{"$f":"'Marks Entry'!CY48","v":0},{"$f":"'Marks Entry'!CZ48","v":0},{"$f":"'Marks Entry'!DA48","v":0},{"$f":"'Marks Entry'!DB48","v":0},{"$f":"'Marks Entry'!DC48","v":0},{"$f":"'Marks Entry'!DD48","v":0},{"$f":"'Marks Entry'!DE48","v":0},{"$f":"'Marks Entry'!DF48","v":"E"},{"$f":"'Marks Entry'!DG48","v":0},{"$f":"'Marks Entry'!DH48","v":0},{"$f":"'Marks Entry'!DI48","v":0},{"$f":"'Marks Entry'!DJ48","v":0},{"$f":"'Marks Entry'!DK48","v":0},{"$f":"'Marks Entry'!DL48","v":0},{"$f":"'Marks Entry'!DM48","v":0},{"$f":"'Marks Entry'!DN48","v":0},{"$f":"'Marks Entry'!DO48","v":0},{"$f":"'Marks Entry'!DP48","v":0},{"$f":"'Marks Entry'!DQ48","v":0},{"$f":"'Marks Entry'!DR48","v":0},{"$f":"'Marks Entry'!DS48","v":0},{"$f":"'Marks Entry'!DT48","v":0},{"$f":"'Marks Entry'!DU48","v":0},{"$f":"'Marks Entry'!DV48","v":0},{"$f":"'Marks Entry'!DW48","v":0},{"$f":"'Marks Entry'!DX48","v":0},{"$f":"'Marks Entry'!DY48","v":0},{"$f":"'Marks Entry'!DZ48","v":"E"},{"$f":"'Marks Entry'!EA48","v":0},{"$f":"'Marks Entry'!EB48","v":0},{"$f":"'Marks Entry'!EC48","v":0},{"$f":"'Marks Entry'!ED48","v":0},{"$f":"'Marks Entry'!EE48","v":0},{"$f":"'Marks Entry'!EF48","v":0},{"$f":"'Marks Entry'!EG48","v":0},{"$f":"'Marks Entry'!EJ48","v":0},{"$f":"'Marks Entry'!EK48","v":0},{"$f":"'Marks Entry'!EL48","v":0},{"$f":"'Marks Entry'!EM48","v":0},{"$f":"'Marks Entry'!EN48","v":0},{"$f":"'Marks Entry'!EO48","v":0},{"$f":"'Marks Entry'!EP48","v":0},{"$f":"'Marks Entry'!ES48","v":0},{"$f":"'Marks Entry'!ET48","v":0},{"$f":"'Marks Entry'!EU48","v":0},{"$f":"'Marks Entry'!EV48","v":0},{"$f":"'Marks Entry'!EW48","v":0},{"$f":"'Marks Entry'!EX48","v":0},{"$f":"'Marks Entry'!EY48","v":0},{"$f":"'Marks Entry'!FB48","v":0},{"$f":"'Marks Entry'!FC48","v":0},{"$f":"'Marks Entry'!FD48","v":0},{"$f":"'Marks Entry'!FE48","v":""},{"$f":"'Marks Entry'!FF48","v":0},{"$f":"'Marks Entry'!FG48","v":0},{"$f":"'Marks Entry'!FH48","v":""},{"$f":"IF(OR('Marks Entry'!FI48=\"First\",'Marks Entry'!FI48=\"Second\",'Marks Entry'!FI48=\"Third\"),'Marks Entry'!FI48,\"\")","v":""},{"$f":"'Marks Entry'!FJ48","v":""},{"$f":"'Marks Entry'!FK48","v":""},{"$f":"'Marks Entry'!FL48","v":""},{"$f":"'Marks Entry'!FM48","v":""},{"$f":"'Marks Entry'!FO48","v":0}]
[null,0,{"$f":"'Marks Entry'!D49","v":0},{"$f":"'Marks Entry'!E49","v":0},{"$f":"'Marks Entry'!F49","v":0},{"$f":"'Marks Entry'!G49","v":0},{"$f":"'Marks Entry'!H49","v":0},{"$f":"'Marks Entry'!I49","v":0},{"$f":"'Marks Entry'!J49","v":0},{"$f":"'Marks Entry'!K49","v":"00:00:00"},{"$f":"'Marks Entry'!L49","v":0},{"$f":"'Marks Entry'!M49","v":0},{"$f":"'Marks Entry'!N49","v":0},{"$f":"'Marks Entry'!O49","v":0},{"$f":"'Marks Entry'!P49","v":0},{"$f":"'Marks Entry'!Q49","v":0},{"$f":"'Marks Entry'!R49","v":0},{"$f":"'Marks Entry'!S49","v":0},{"$f":"'Marks Entry'!T49","v":0},{"$f":"'Marks Entry'!U49","v":0},{"$f":"'Marks Entry'!V49","v":0},{"$f":"'Marks Entry'!W49","v":0},{"$f":"'Marks Entry'!X49","v":0},{"$f":"'Marks Entry'!Y49","v":0},{"$f":"'Marks Entry'!Z49","v":0},{"$f":"'Marks Entry'!AA49","v":0},{"$f":"'Marks Entry'!AB49","v":0},{"$f":"'Marks Entry'!AC49","v":0},{"$f":"'Marks Entry'!AD49","v":""},{"$f":"'Marks Entry'!AE49","v":0},{"$f":"'Marks Entry'!AF49","v":0},{"$f":"'Marks Entry'!AG49","v":0},{"$f":"'Marks Entry'!AH49","v":0},{"$f":"'Marks Entry'!AI49","v":0},{"$f":"'Marks Entry'!AJ49","v":0},{"$f":"'Marks Entry'!AK49","v":0},{"$f":"'Marks Entry'!AL49","v":0},{"$f":"'Marks Entry'!AM49","v":0},{"$f":"'Marks Entry'!AN49","v":0},{"$f":"'Marks Entry'!AO49","v":0},{"$f":"'Marks Entry'!AP49","v":0},{"$f":"'Marks Entry'!AQ49","v":0},{"$f":"'Marks Entry'!AR49","v":0},{"$f":"'Marks Entry'!AS49","v":0},{"$f":"'Marks Entry'!AT49","v":0},{"$f":"'Marks Entry'!AU49","v":0},{"$f":"'Marks Entry'!AV49","v":0},{"$f":"'Marks Entry'!AW49","v":0},{"$f":"'Marks Entry'!AX49","v":"E"},{"$f":"'Marks Entry'!AY49","v":0},{"$f":"'Marks Entry'!AZ49","v":0},{"$f":"'Marks Entry'!BA49","v":0},{"$f":"'Marks Entry'!BB49","v":0},{"$f":"'Marks Entry'!BC49","v":0},{"$f":"'Marks Entry'!BD49","v":0},{"$f":"'Marks Entry'!BE49","v":0},{"$f":"'Marks Entry'!BF49","v":0},{"$f":"'Marks Entry'!BG49","v":0},{"$f":"'Marks Entry'!BH49","v":0},{"$f":"'Marks Entry'!BI49","v":0},{"$f":"'Marks Entry'!BJ49","v":0},{"$f":"'Marks Entry'!BK49","v":0},{"$f":"'Marks Entry'!BL49","v":0},{"$f":"'Marks Entry'!BM49","v":0},{"$f":"'Marks Entry'!BN49","v":0},{"$f":"'Marks Entry'!BO49","v":0},{"$f":"'Marks Entry'!BP49","v":0},{"$f":"'Marks Entry'!BQ49","v":0},{"$f":"'Marks Entry'!BR49","v":"E"},{"$f":"'Marks Entry'!BS49","v":0},{"$f":"'Marks Entry'!BT49","v":0},{"$f":"'Marks Entry'!BU49","v":0},{"$f":"'Marks Entry'!BV49","v":0},{"$f":"'Marks Entry'!BW49","v":0},{"$f":"'Marks Entry'!BX49","v":0},{"$f":"'Marks Entry'!BY49","v":0},{"$f":"'Marks Entry'!BZ49","v":0},{"$f":"'Marks Entry'!CA49","v":0},{"$f":"'Marks Entry'!CB49","v":0},{"$f":"'Marks Entry'!CC49","v":0},{"$f":"'Marks Entry'!CD49","v":0},{"$f":"'Marks Entry'!CE49","v":0},{"$f":"'Marks Entry'!CF49","v":0},{"$f":"'Marks Entry'!CG49","v":0},{"$f":"'Marks Entry'!CH49","v":0},{"$f":"'Marks Entry'!CI49","v":0},{"$f":"'Marks Entry'!CJ49","v":0},{"$f":"'Marks Entry'!CK49","v":0},{"$f":"'Marks Entry'!CL49","v":"E"},{"$f":"'Marks Entry'!CM49","v":0},{"$f":"'Marks Entry'!CN49","v":0},{"$f":"'Marks Entry'!CO49","v":0},{"$f":"'Marks Entry'!CP49","v":0},{"$f":"'Marks Entry'!CQ49","v":0},{"$f":"'Marks Entry'!CR49","v":0},{"$f":"'Marks Entry'!CS49","v":0},{"$f":"'Marks Entry'!CT49","v":0},{"$f":"'Marks Entry'!CU49","v":0},{"$f":"'Marks Entry'!CV49","v":0},{"$f":"'Marks Entry'!CW49","v":0},{"$f":"'Marks Entry'!CX49","v":0},{"$f":"'Marks Entry'!CY49","v":0},{"$f":"'Marks Entry'!CZ49","v":0},{"$f":"'Marks Entry'!DA49","v":0},{"$f":"'Marks Entry'!DB49","v":0},{"$f":"'Marks Entry'!DC49","v":0},{"$f":"'Marks Entry'!DD49","v":0},{"$f":"'Marks Entry'!DE49","v":0},{"$f":"'Marks Entry'!DF49","v":"E"},{"$f":"'Marks Entry'!DG49","v":0},{"$f":"'Marks Entry'!DH49","v":0},{"$f":"'Marks Entry'!DI49","v":0},{"$f":"'Marks Entry'!DJ49","v":0},{"$f":"'Marks Entry'!DK49","v":0},{"$f":"'Marks Entry'!DL49","v":0},{"$f":"'Marks Entry'!DM49","v":0},{"$f":"'Marks Entry'!DN49","v":0},{"$f":"'Marks Entry'!DO49","v":0},{"$f":"'Marks Entry'!DP49","v":0},{"$f":"'Marks Entry'!DQ49","v":0},{"$f":"'Marks Entry'!DR49","v":0},{"$f":"'Marks Entry'!DS49","v":0},{"$f":"'Marks Entry'!DT49","v":0},{"$f":"'Marks Entry'!DU49","v":0},{"$f":"'Marks Entry'!DV49","v":0},{"$f":"'Marks Entry'!DW49","v":0},{"$f":"'Marks Entry'!DX49","v":0},{"$f":"'Marks Entry'!DY49","v":0},{"$f":"'Marks Entry'!DZ49","v":"E"},{"$f":"'Marks Entry'!EA49","v":0},{"$f":"'Marks Entry'!EB49","v":0},{"$f":"'Marks Entry'!EC49","v":0},{"$f":"'Marks Entry'!ED49","v":0},{"$f":"'Marks Entry'!EE49","v":0},{"$f":"'Marks Entry'!EF49","v":0},{"$f":"'Marks Entry'!EG49","v":0},{"$f":"'Marks Entry'!EJ49","v":0},{"$f":"'Marks Entry'!EK49","v":0},{"$f":"'Marks Entry'!EL49","v":0},{"$f":"'Marks Entry'!EM49","v":0},{"$f":"'Marks Entry'!EN49","v":0},{"$f":"'Marks Entry'!EO49","v":0},{"$f":"'Marks Entry'!EP49","v":0},{"$f":"'Marks Entry'!ES49","v":0},{"$f":"'Marks Entry'!ET49","v":0},{"$f":"'Marks Entry'!EU49","v":0},{"$f":"'Marks Entry'!EV49","v":0},{"$f":"'Marks Entry'!EW49","v":0},{"$f":"'Marks Entry'!EX49","v":0},{"$f":"'Marks Entry'!EY49","v":0},{"$f":"'Marks Entry'!FB49","v":0},{"$f":"'Marks Entry'!FC49","v":0},{"$f":"'Marks Entry'!FD49","v":0},{"$f":"'Marks Entry'!FE49","v":""},{"$f":"'Marks Entry'!FF49","v":0},{"$f":"'Marks Entry'!FG49","v":0},{"$f":"'Marks Entry'!FH49","v":""},{"$f":"IF(OR('Marks Entry'!FI49=\"First\",'Marks Entry'!FI49=\"Second\",'Marks Entry'!FI49=\"Third\"),'Marks Entry'!FI49,\"\")","v":""},{"$f":"'Marks Entry'!FJ49","v":""},{"$f":"'Marks Entry'!FK49","v":""},{"$f":"'Marks Entry'!FL49","v":""},{"$f":"'Marks Entry'!FM49","v":""},{"$f":"'Marks Entry'!FO49","v":0}]
[null,0,{"$f":"'Marks Entry'!D50","v":0},{"$f":"'Marks Entry'!E50","v":0},{"$f":"'Marks Entry'!F50","v":0},{"$f":"'Marks Entry'!G50","v":0},{"$f":"'Marks Entry'!H50","v":0},{"$f":"'Marks Entry'!I50","v":0},{"$f":"'Marks Entry'!J50","v":0},{"$f":"'Marks Entry'!K50","v":"00:00:00"},{"$f":"'Marks Entry'!L50","v":0},{"$f":"'Marks Entry'!M50","v":0},{"$f":"'Marks Entry'!N50","v":0},{"$f":"'Marks Entry'!O50","v":0},{"$f":"'Marks Entry'!P50","v":0},{"$f":"'Marks Entry'!Q50","v":0},{"$f":"'Marks Entry'!R50","v":0},{"$f":"'Marks Entry'!S50","v":0},{"$f":"'Marks Entry'!T50","v":0},{"$f":"'Marks Entry'!U50","v":0},{"$f":"'Marks Entry'!V50","v":0},{"$f":"'Marks Entry'!W50","v":0},{"$f":"'Marks Entry'!X50","v":0},{"$f":"'Marks Entry'!Y50","v":0},{"$f":"'Marks Entry'!Z50","v":0},{"$f":"'Marks Entry'!AA50","v":0},{"$f":"'Marks Entry'!AB50","v":0},{"$f":"'Marks Entry'!AC50","v":0},{"$f":"'Marks Entry'!AD50","v":""},{"$f":"'Marks Entry'!AE50","v":0},{"$f":"'Marks Entry'!AF50","v":0},{"$f":"'Marks Entry'!AG50","v":0},{"$f":"'Marks Entry'!AH50","v":0},{"$f":"'Marks Entry'!AI50","v":0},{"$f":"'Marks Entry'!AJ50","v":0},{"$f":"'Marks Entry'!AK50","v":0},{"$f":"'Marks Entry'!AL50","v":0},{"$f":"'Marks Entry'!AM50","v":0},{"$f":"'Marks Entry'!AN50","v":0},{"$f":"'Marks Entry'!AO50","v":0},{"$f":"'Marks Entry'!AP50","v":0},{"$f":"'Marks Entry'!AQ50","v":0},{"$f":"'Marks Entry'!AR50","v":0},{"$f":"'Marks Entry'!AS50","v":0},{"$f":"'Marks Entry'!AT50","v":0},{"$f":"'Marks Entry'!AU50","v":0},{"$f":"'Marks Entry'!AV50","v":0},{"$f":"'Marks Entry'!AW50","v":0},{"$f":"'Marks Entry'!AX50","v":"E"},{"$f":"'Marks Entry'!AY50","v":0},{"$f":"'Marks Entry'!AZ50","v":0},{"$f":"'Marks Entry'!BA50","v":0},{"$f":"'Marks Entry'!BB50","v":0},{"$f":"'Marks Entry'!BC50","v":0},{"$f":"'Marks Entry'!BD50","v":0},{"$f":"'Marks Entry'!BE50","v":0},{"$f":"'Marks Entry'!BF50","v":0},{"$f":"'Marks Entry'!BG50","v":0},{"$f":"'Marks Entry'!BH50","v":0},{"$f":"'Marks Entry'!BI50","v":0},{"$f":"'Marks Entry'!BJ50","v":0},{"$f":"'Marks Entry'!BK50","v":0},{"$f":"'Marks Entry'!BL50","v":0},{"$f":"'Marks Entry'!BM50","v":0},{"$f":"'Marks Entry'!BN50","v":0},{"$f":"'Marks Entry'!BO50","v":0},{"$f":"'Marks Entry'!BP50","v":0},{"$f":"'Marks Entry'!BQ50","v":0},{"$f":"'Marks Entry'!BR50","v":"E"},{"$f":"'Marks Entry'!BS50","v":0},{"$f":"'Marks Entry'!BT50","v":0},{"$f":"'Marks Entry'!BU50","v":0},{"$f":"'Marks Entry'!BV50","v":0},{"$f":"'Marks Entry'!BW50","v":0},{"$f":"'Marks Entry'!BX50","v":0},{"$f":"'Marks Entry'!BY50","v":0},{"$f":"'Marks Entry'!BZ50","v":0},{"$f":"'Marks Entry'!CA50","v":0},{"$f":"'Marks Entry'!CB50","v":0},{"$f":"'Marks Entry'!CC50","v":0},{"$f":"'Marks Entry'!CD50","v":0},{"$f":"'Marks Entry'!CE50","v":0},{"$f":"'Marks Entry'!CF50","v":0},{"$f":"'Marks Entry'!CG50","v":0},{"$f":"'Marks Entry'!CH50","v":0},{"$f":"'Marks Entry'!CI50","v":0},{"$f":"'Marks Entry'!CJ50","v":0},{"$f":"'Marks Entry'!CK50","v":0},{"$f":"'Marks Entry'!CL50","v":"E"},{"$f":"'Marks Entry'!CM50","v":0},{"$f":"'Marks Entry'!CN50","v":0},{"$f":"'Marks Entry'!CO50","v":0},{"$f":"'Marks Entry'!CP50","v":0},{"$f":"'Marks Entry'!CQ50","v":0},{"$f":"'Marks Entry'!CR50","v":0},{"$f":"'Marks Entry'!CS50","v":0},{"$f":"'Marks Entry'!CT50","v":0},{"$f":"'Marks Entry'!CU50","v":0},{"$f":"'Marks Entry'!CV50","v":0},{"$f":"'Marks Entry'!CW50","v":0},{"$f":"'Marks Entry'!CX50","v":0},{"$f":"'Marks Entry'!CY50","v":0},{"$f":"'Marks Entry'!CZ50","v":0},{"$f":"'Marks Entry'!DA50","v":0},{"$f":"'Marks Entry'!DB50","v":0},{"$f":"'Marks Entry'!DC50","v":0},{"$f":"'Marks Entry'!DD50","v":0},{"$f":"'Marks Entry'!DE50","v":0},{"$f":"'Marks Entry'!DF50","v":"E"},{"$f":"'Marks Entry'!DG50","v":0},{"$f":"'Marks Entry'!DH50","v":0},{"$f":"'Marks Entry'!DI50","v":0},{"$f":"'Marks Entry'!DJ50","v":0},{"$f":"'Marks Entry'!DK50","v":0},{"$f":"'Marks Entry'!DL50","v":0},{"$f":"'Marks Entry'!DM50","v":0},{"$f":"'Marks Entry'!DN50","v":0},{"$f":"'Marks Entry'!DO50","v":0},{"$f":"'Marks Entry'!DP50","v":0},{"$f":"'Marks Entry'!DQ50","v":0},{"$f":"'Marks Entry'!DR50","v":0},{"$f":"'Marks Entry'!DS50","v":0},{"$f":"'Marks Entry'!DT50","v":0},{"$f":"'Marks Entry'!DU50","v":0},{"$f":"'Marks Entry'!DV50","v":0},{"$f":"'Marks Entry'!DW50","v":0},{"$f":"'Marks Entry'!DX50","v":0},{"$f":"'Marks Entry'!DY50","v":0},{"$f":"'Marks Entry'!DZ50","v":"E"},{"$f":"'Marks Entry'!EA50","v":0},{"$f":"'Marks Entry'!EB50","v":0},{"$f":"'Marks Entry'!EC50","v":0},{"$f":"'Marks Entry'!ED50","v":0},{"$f":"'Marks Entry'!EE50","v":0},{"$f":"'Marks Entry'!EF50","v":0},{"$f":"'Marks Entry'!EG50","v":0},{"$f":"'Marks Entry'!EJ50","v":0},{"$f":"'Marks Entry'!EK50","v":0},{"$f":"'Marks Entry'!EL50","v":0},{"$f":"'Marks Entry'!EM50","v":0},{"$f":"'Marks Entry'!EN50","v":0},{"$f":"'Marks Entry'!EO50","v":0},{"$f":"'Marks Entry'!EP50","v":0},{"$f":"'Marks Entry'!ES50","v":0},{"$f":"'Marks Entry'!ET50","v":0},{"$f":"'Marks Entry'!EU50","v":0},{"$f":"'Marks Entry'!EV50","v":0},{"$f":"'Marks Entry'!EW50","v":0},{"$f":"'Marks Entry'!EX50","v":0},{"$f":"'Marks Entry'!EY50","v":0},{"$f":"'Marks Entry'!FB50","v":0},{"$f":"'Marks Entry'!FC50","v":0},{"$f":"'Marks Entry'!FD50","v":0},{"$f":"'Marks Entry'!FE50","v":""},{"$f":"'Marks Entry'!FF50","v":0},{"$f":"'Marks Entry'!FG50","v":0},{"$f":"'Marks Entry'!FH50","v":""},{"$f":"IF(OR('Marks Entry'!FI50=\"First\",'Marks Entry'!FI50=\"Second\",'Marks Entry'!FI50=\"Third\"),'Marks Entry'!FI50,\"\")","v":""},{"$f":"'Marks Entry'!FJ50","v":""},{"$f":"'Marks Entry'!FK50","v":""},{"$f":"'Marks Entry'!FL50","v":""},{"$f":"'Marks Entry'!FM50","v":""},{"$f":"'Marks Entry'!FO50","v":0}]
[null,0,{"$f":"'Marks Entry'!D51","v":0},{"$f":"'Marks Entry'!E51","v":0},{"$f":"'Marks Entry'!F51","v":0},{"$f":"'Marks Entry'!G51","v":0},{"$f":"'Marks Entry'!H51","v":0},{"$f":"'Marks Entry'!I51","v":0},{"$f":"'Marks Entry'!J51","v":0},{"$f":"'Marks Entry'!K51","v":"00:00:00"},{"$f":"'Marks Entry'!L51","v":0},{"$f":"'Marks Entry'!M51","v":0},{"$f":"'Marks Entry'!N51","v":0},{"$f":"'Marks Entry'!O51","v":0},{"$f":"'Marks Entry'!P51","v":0},{"$f":"'Marks Entry'!Q51","v":0},{"$f":"'Marks Entry'!R51","v":0},{"$f":"'Marks Entry'!S51","v":0},{"$f":"'Marks Entry'!T51","v":0},{"$f":"'Marks Entry'!U51","v":0},{"$f":"'Marks Entry'!V51","v":0},{"$f":"'Marks Entry'!W51","v":0},{"$f":"'Marks Entry'!X51","v":0},{"$f":"'Marks Entry'!Y51","v":0},{"$f":"'Marks Entry'!Z51","v":0},{"$f":"'Marks Entry'!AA51","v":0},{"$f":"'Marks Entry'!AB51","v":0},{"$f":"'Marks Entry'!AC51","v":0},{"$f":"'Marks Entry'!AD51","v":""},{"$f":"'Marks Entry'!AE51","v":0},{"$f":"'Marks Entry'!AF51","v":0},{"$f":"'Marks Entry'!AG51","v":0},{"$f":"'Marks Entry'!AH51","v":0},{"$f":"'Marks Entry'!AI51","v":0},{"$f":"'Marks Entry'!AJ51","v":0},{"$f":"'Marks Entry'!AK51","v":0},{"$f":"'Marks Entry'!AL51","v":0},{"$f":"'Marks Entry'!AM51","v":0},{"$f":"'Marks Entry'!AN51","v":0},{"$f":"'Marks Entry'!AO51","v":0},{"$f":"'Marks Entry'!AP51","v":0},{"$f":"'Marks Entry'!AQ51","v":0},{"$f":"'Marks Entry'!AR51","v":0},{"$f":"'Marks Entry'!AS51","v":0},{"$f":"'Marks Entry'!AT51","v":0},{"$f":"'Marks Entry'!AU51","v":0},{"$f":"'Marks Entry'!AV51","v":0},{"$f":"'Marks Entry'!AW51","v":0},{"$f":"'Marks Entry'!AX51","v":"E"},{"$f":"'Marks Entry'!AY51","v":0},{"$f":"'Marks Entry'!AZ51","v":0},{"$f":"'Marks Entry'!BA51","v":0},{"$f":"'Marks Entry'!BB51","v":0},{"$f":"'Marks Entry'!BC51","v":0},{"$f":"'Marks Entry'!BD51","v":0},{"$f":"'Marks Entry'!BE51","v":0},{"$f":"'Marks Entry'!BF51","v":0},{"$f":"'Marks Entry'!BG51","v":0},{"$f":"'Marks Entry'!BH51","v":0},{"$f":"'Marks Entry'!BI51","v":0},{"$f":"'Marks Entry'!BJ51","v":0},{"$f":"'Marks Entry'!BK51","v":0},{"$f":"'Marks Entry'!BL51","v":0},{"$f":"'Marks Entry'!BM51","v":0},{"$f":"'Marks Entry'!BN51","v":0},{"$f":"'Marks Entry'!BO51","v":0},{"$f":"'Marks Entry'!BP51","v":0},{"$f":"'Marks Entry'!BQ51","v":0},{"$f":"'Marks Entry'!BR51","v":"E"},{"$f":"'Marks Entry'!BS51","v":0},{"$f":"'Marks Entry'!BT51","v":0},{"$f":"'Marks Entry'!BU51","v":0},{"$f":"'Marks Entry'!BV51","v":0},{"$f":"'Marks Entry'!BW51","v":0},{"$f":"'Marks Entry'!BX51","v":0},{"$f":"'Marks Entry'!BY51","v":0},{"$f":"'Marks Entry'!BZ51","v":0},{"$f":"'Marks Entry'!CA51","v":0},{"$f":"'Marks Entry'!CB51","v":0},{"$f":"'Marks Entry'!CC51","v":0},{"$f":"'Marks Entry'!CD51","v":0},{"$f":"'Marks Entry'!CE51","v":0},{"$f":"'Marks Entry'!CF51","v":0},{"$f":"'Marks Entry'!CG51","v":0},{"$f":"'Marks Entry'!CH51","v":0},{"$f":"'Marks Entry'!CI51","v":0},{"$f":"'Marks Entry'!CJ51","v":0},{"$f":"'Marks Entry'!CK51","v":0},{"$f":"'Marks Entry'!CL51","v":"E"},{"$f":"'Marks Entry'!CM51","v":0},{"$f":"'Marks Entry'!CN51","v":0},{"$f":"'Marks Entry'!CO51","v":0},{"$f":"'Marks Entry'!CP51","v":0},{"$f":"'Marks Entry'!CQ51","v":0},{"$f":"'Marks Entry'!CR51","v":0},{"$f":"'Marks Entry'!CS51","v":0},{"$f":"'Marks Entry'!CT51","v":0},{"$f":"'Marks Entry'!CU51","v":0},{"$f":"'Marks Entry'!CV51","v":0},{"$f":"'Marks Entry'!CW51","v":0},{"$f":"'Marks Entry'!CX51","v":0},{"$f":"'Marks Entry'!CY51","v":0},{"$f":"'Marks Entry'!CZ51","v":0},{"$f":"'Marks Entry'!DA51","v":0},{"$f":"'Marks Entry'!DB51","v":0},{"$f":"'Marks Entry'!DC51","v":0},{"$f":"'Marks Entry'!DD51","v":0},{"$f":"'Marks Entry'!DE51","v":0},{"$f":"'Marks Entry'!DF51","v":"E"},{"$f":"'Marks Entry'!DG51","v":0},{"$f":"'Marks Entry'!DH51","v":0},{"$f":"'Marks Entry'!DI51","v":0},{"$f":"'Marks Entry'!DJ51","v":0},{"$f":"'Marks Entry'!DK51","v":0},{"$f":"'Marks Entry'!DL51","v":0},{"$f":"'Marks Entry'!DM51","v":0},{"$f":"'Marks Entry'!DN51","v":0},{"$f":"'Marks Entry'!DO51","v":0},{"$f":"'Marks Entry'!DP51","v":0},{"$f":"'Marks Entry'!DQ51","v":0},{"$f":"'Marks Entry'!DR51","v":0},{"$f":"'Marks Entry'!DS51","v":0},{"$f":"'Marks Entry'!DT51","v":0},{"$f":"'Marks Entry'!DU51","v":0},{"$f":"'Marks Entry'!DV51","v":0},{"$f":"'Marks Entry'!DW51","v":0},{"$f":"'Marks Entry'!DX51","v":0},{"$f":"'Marks Entry'!DY51","v":0},{"$f":"'Marks Entry'!DZ51","v":"E"},{"$f":"'Marks Entry'!EA51","v":0},{"$f":"'Marks Entry'!EB51","v":0},{"$f":"'Marks Entry'!EC51","v":0},{"$f":"'Marks Entry'!ED51","v":0},{"$f":"'Marks Entry'!EE51","v":0},{"$f":"'Marks Entry'!EF51","v":0},{"$f":"'Marks Entry'!EG51","v":0},{"$f":"'Marks Entry'!EJ51","v":0},{"$f":"'Marks Entry'!EK51","v":0},{"$f":"'Marks Entry'!EL51","v":0},{"$f":"'Marks Entry'!EM51","v":0},{"$f":"'Marks Entry'!EN51","v":0},{"$f":"'Marks Entry'!EO51","v":0},{"$f":"'Marks Entry'!EP51","v":0},{"$f":"'Marks Entry'!ES51","v":0},{"$f":"'Marks Entry'!ET51","v":0},{"$f":"'Marks Entry'!EU51","v":0},{"$f":"'Marks Entry'!EV51","v":0},{"$f":"'Marks Entry'!EW51","v":0},{"$f":"'Marks Entry'!EX51","v":0},{"$f":"'Marks Entry'!EY51","v":0},{"$f":"'Marks Entry'!FB51","v":0},{"$f":"'Marks Entry'!FC51","v":0},{"$f":"'Marks Entry'!FD51","v":0},{"$f":"'Marks Entry'!FE51","v":""},{"$f":"'Marks Entry'!FF51","v":0},{"$f":"'Marks Entry'!FG51","v":0},{"$f":"'Marks Entry'!FH51","v":""},{"$f":"IF(OR('Marks Entry'!FI51=\"First\",'Marks Entry'!FI51=\"Second\",'Marks Entry'!FI51=\"Third\"),'Marks Entry'!FI51,\"\")","v":""},{"$f":"'Marks Entry'!FJ51","v":""},{"$f":"'Marks Entry'!FK51","v":""},{"$f":"'Marks Entry'!FL51","v":""},{"$f":"'Marks Entry'!FM51","v":""},{"$f":"'Marks Entry'!FO51","v":0}]
[null,0,{"$f":"'Marks Entry'!D52","v":0},{"$f":"'Marks Entry'!E52","v":0},{"$f":"'Marks Entry'!F52","v":0},{"$f":"'Marks Entry'!G52","v":0},{"$f":"'Marks Entry'!H52","v":0},{"$f":"'Marks Entry'!I52","v":0},{"$f":"'Marks Entry'!J52","v":0},{"$f":"'Marks Entry'!K52","v":"00:00:00"},{"$f":"'Marks Entry'!L52","v":0},{"$f":"'Marks Entry'!M52","v":0},{"$f":"'Marks Entry'!N52","v":0},{"$f":"'Marks Entry'!O52","v":0},{"$f":"'Marks Entry'!P52","v":0},{"$f":"'Marks Entry'!Q52","v":0},{"$f":"'Marks Entry'!R52","v":0},{"$f":"'Marks Entry'!S52","v":0},{"$f":"'Marks Entry'!T52","v":0},{"$f":"'Marks Entry'!U52","v":0},{"$f":"'Marks Entry'!V52","v":0},{"$f":"'Marks Entry'!W52","v":0},{"$f":"'Marks Entry'!X52","v":0},{"$f":"'Marks Entry'!Y52","v":0},{"$f":"'Marks Entry'!Z52","v":0},{"$f":"'Marks Entry'!AA52","v":0},{"$f":"'Marks Entry'!AB52","v":0},{"$f":"'Marks Entry'!AC52","v":0},{"$f":"'Marks Entry'!AD52","v":""},{"$f":"'Marks Entry'!AE52","v":0},{"$f":"'Marks Entry'!AF52","v":0},{"$f":"'Marks Entry'!AG52","v":0},{"$f":"'Marks Entry'!AH52","v":0},{"$f":"'Marks Entry'!AI52","v":0},{"$f":"'Marks Entry'!AJ52","v":0},{"$f":"'Marks Entry'!AK52","v":0},{"$f":"'Marks Entry'!AL52","v":0},{"$f":"'Marks Entry'!AM52","v":0},{"$f":"'Marks Entry'!AN52","v":0},{"$f":"'Marks Entry'!AO52","v":0},{"$f":"'Marks Entry'!AP52","v":0},{"$f":"'Marks Entry'!AQ52","v":0},{"$f":"'Marks Entry'!AR52","v":0},{"$f":"'Marks Entry'!AS52","v":0},{"$f":"'Marks Entry'!AT52","v":0},{"$f":"'Marks Entry'!AU52","v":0},{"$f":"'Marks Entry'!AV52","v":0},{"$f":"'Marks Entry'!AW52","v":0},{"$f":"'Marks Entry'!AX52","v":"E"},{"$f":"'Marks Entry'!AY52","v":0},{"$f":"'Marks Entry'!AZ52","v":0},{"$f":"'Marks Entry'!BA52","v":0},{"$f":"'Marks Entry'!BB52","v":0},{"$f":"'Marks Entry'!BC52","v":0},{"$f":"'Marks Entry'!BD52","v":0},{"$f":"'Marks Entry'!BE52","v":0},{"$f":"'Marks Entry'!BF52","v":0},{"$f":"'Marks Entry'!BG52","v":0},{"$f":"'Marks Entry'!BH52","v":0},{"$f":"'Marks Entry'!BI52","v":0},{"$f":"'Marks Entry'!BJ52","v":0},{"$f":"'Marks Entry'!BK52","v":0},{"$f":"'Marks Entry'!BL52","v":0},{"$f":"'Marks Entry'!BM52","v":0},{"$f":"'Marks Entry'!BN52","v":0},{"$f":"'Marks Entry'!BO52","v":0},{"$f":"'Marks Entry'!BP52","v":0},{"$f":"'Marks Entry'!BQ52","v":0},{"$f":"'Marks Entry'!BR52","v":"E"},{"$f":"'Marks Entry'!BS52","v":0},{"$f":"'Marks Entry'!BT52","v":0},{"$f":"'Marks Entry'!BU52","v":0},{"$f":"'Marks Entry'!BV52","v":0},{"$f":"'Marks Entry'!BW52","v":0},{"$f":"'Marks Entry'!BX52","v":0},{"$f":"'Marks Entry'!BY52","v":0},{"$f":"'Marks Entry'!BZ52","v":0},{"$f":"'Marks Entry'!CA52","v":0},{"$f":"'Marks Entry'!CB52","v":0},{"$f":"'Marks Entry'!CC52","v":0},{"$f":"'Marks Entry'!CD52","v":0},{"$f":"'Marks Entry'!CE52","v":0},{"$f":"'Marks Entry'!CF52","v":0},{"$f":"'Marks Entry'!CG52","v":0},{"$f":"'Marks Entry'!CH52","v":0},{"$f":"'Marks Entry'!CI52","v":0},{"$f":"'Marks Entry'!CJ52","v":0},{"$f":"'Marks Entry'!CK52","v":0},{"$f":"'Marks Entry'!CL52","v":"E"},{"$f":"'Marks Entry'!CM52","v":0},{"$f":"'Marks Entry'!CN52","v":0},{"$f":"'Marks Entry'!CO52","v":0},{"$f":"'Marks Entry'!CP52","v":0},{"$f":"'Marks Entry'!CQ52","v":0},{"$f":"'Marks Entry'!CR52","v":0},{"$f":"'Marks Entry'!CS52","v":0},{"$f":"'Marks Entry'!CT52","v":0},{"$f":"'Marks Entry'!CU52","v":0},{"$f":"'Marks Entry'!CV52","v":0},{"$f":"'Marks Entry'!CW52","v":0},{"$f":"'Marks Entry'!CX52","v":0},{"$f":"'Marks Entry'!CY52","v":0},{"$f":"'Marks Entry'!CZ52","v":0},{"$f":"'Marks Entry'!DA52","v":0},{"$f":"'Marks Entry'!DB52","v":0},{"$f":"'Marks Entry'!DC52","v":0},{"$f":"'Marks Entry'!DD52","v":0},{"$f":"'Marks Entry'!DE52","v":0},{"$f":"'Marks Entry'!DF52","v":"E"},{"$f":"'Marks Entry'!DG52","v":0},{"$f":"'Marks Entry'!DH52","v":0},{"$f":"'Marks Entry'!DI52","v":0},{"$f":"'Marks Entry'!DJ52","v":0},{"$f":"'Marks Entry'!DK52","v":0},{"$f":"'Marks Entry'!DL52","v":0},{"$f":"'Marks Entry'!DM52","v":0},{"$f":"'Marks Entry'!DN52","v":0},{"$f":"'Marks Entry'!DO52","v":0},{"$f":"'Marks Entry'!DP52","v":0},{"$f":"'Marks Entry'!DQ52","v":0},{"$f":"'Marks Entry'!DR52","v":0},{"$f":"'Marks Entry'!DS52","v":0},{"$f":"'Marks Entry'!DT52","v":0},{"$f":"'Marks Entry'!DU52","v":0},{"$f":"'Marks Entry'!DV52","v":0},{"$f":"'Marks Entry'!DW52","v":0},{"$f":"'Marks Entry'!DX52","v":0},{"$f":"'Marks Entry'!DY52","v":0},{"$f":"'Marks Entry'!DZ52","v":"E"},{"$f":"'Marks Entry'!EA52","v":0},{"$f":"'Marks Entry'!EB52","v":0},{"$f":"'Marks Entry'!EC52","v":0},{"$f":"'Marks Entry'!ED52","v":0},{"$f":"'Marks Entry'!EE52","v":0},{"$f":"'Marks Entry'!EF52","v":0},{"$f":"'Marks Entry'!EG52","v":0},{"$f":"'Marks Entry'!EJ52","v":0},{"$f":"'Marks Entry'!EK52","v":0},{"$f":"'Marks Entry'!EL52","v":0},{"$f":"'Marks Entry'!EM52","v":0},{"$f":"'Marks Entry'!EN52","v":0},{"$f":"'Marks Entry'!EO52","v":0},{"$f":"'Marks Entry'!EP52","v":0},{"$f":"'Marks Entry'!ES52","v":0},{"$f":"'Marks Entry'!ET52","v":0},{"$f":"'Marks Entry'!EU52","v":0},{"$f":"'Marks Entry'!EV52","v":0},{"$f":"'Marks Entry'!EW52","v":0},{"$f":"'Marks Entry'!EX52","v":0},{"$f":"'Marks Entry'!EY52","v":0},{"$f":"'Marks Entry'!FB52","v":0},{"$f":"'Marks Entry'!FC52","v":0},{"$f":"'Marks Entry'!FD52","v":0},{"$f":"'Marks Entry'!FE52","v":""},{"$f":"'Marks Entry'!FF52","v":0},{"$f":"'Marks Entry'!FG52","v":0},{"$f":"'Marks Entry'!FH52","v":""},{"$f":"IF(OR('Marks Entry'!FI52=\"First\",'Marks Entry'!FI52=\"Second\",'Marks Entry'!FI52=\"Third\"),'Marks Entry'!FI52,\"\")","v":""},{"$f":"'Marks Entry'!FJ52","v":""},{"$f":"'Marks Entry'!FK52","v":""},{"$f":"'Marks Entry'!FL52","v":""},{"$f":"'Marks Entry'!FM52","v":""},{"$f":"'Marks Entry'!FO52","v":0}]
[null,0,{"$f":"'Marks Entry'!D53","v":0},{"$f":"'Marks Entry'!E53","v":0},{"$f":"'Marks Entry'!F53","v":0},{"$f":"'Marks Entry'!G53","v":0},{"$f":"'Marks Entry'!H53","v":0},{"$f":"'Marks Entry'!I53","v":0},{"$f":"'Marks Entry'!J53","v":0},{"$f":"'Marks Entry'!K53","v":"00:00:00"},{"$f":"'Marks Entry'!L53","v":0},{"$f":"'Marks Entry'!M53","v":0},{"$f":"'Marks Entry'!N53","v":0},{"$f":"'Marks Entry'!O53","v":0},{"$f":"'Marks Entry'!P53","v":0},{"$f":"'Marks Entry'!Q53","v":0},{"$f":"'Marks Entry'!R53","v":0},{"$f":"'Marks Entry'!S53","v":0},{"$f":"'Marks Entry'!T53","v":0},{"$f":"'Marks Entry'!U53","v":0},{"$f":"'Marks Entry'!V53","v":0},{"$f":"'Marks Entry'!W53","v":0},{"$f":"'Marks Entry'!X53","v":0},{"$f":"'Marks Entry'!Y53","v":0},{"$f":"'Marks Entry'!Z53","v":0},{"$f":"'Marks Entry'!AA53","v":0},{"$f":"'Marks Entry'!AB53","v":0},{"$f":"'Marks Entry'!AC53","v":0},{"$f":"'Marks Entry'!AD53","v":""},{"$f":"'Marks Entry'!AE53","v":0},{"$f":"'Marks Entry'!AF53","v":0},{"$f":"'Marks Entry'!AG53","v":0},{"$f":"'Marks Entry'!AH53","v":0},{"$f":"'Marks Entry'!AI53","v":0},{"$f":"'Marks Entry'!AJ53","v":0},{"$f":"'Marks Entry'!AK53","v":0},{"$f":"'Marks Entry'!AL53","v":0},{"$f":"'Marks Entry'!AM53","v":0},{"$f":"'Marks Entry'!AN53","v":0},{"$f":"'Marks Entry'!AO53","v":0},{"$f":"'Marks Entry'!AP53","v":0},{"$f":"'Marks Entry'!AQ53","v":0},{"$f":"'Marks Entry'!AR53","v":0},{"$f":"'Marks Entry'!AS53","v":0},{"$f":"'Marks Entry'!AT53","v":0},{"$f":"'Marks Entry'!AU53","v":0},{"$f":"'Marks Entry'!AV53","v":0},{"$f":"'Marks Entry'!AW53","v":0},{"$f":"'Marks Entry'!AX53","v":"E"},{"$f":"'Marks Entry'!AY53","v":0},{"$f":"'Marks Entry'!AZ53","v":0},{"$f":"'Marks Entry'!BA53","v":0},{"$f":"'Marks Entry'!BB53","v":0},{"$f":"'Marks Entry'!BC53","v":0},{"$f":"'Marks Entry'!BD53","v":0},{"$f":"'Marks Entry'!BE53","v":0},{"$f":"'Marks Entry'!BF53","v":0},{"$f":"'Marks Entry'!BG53","v":0},{"$f":"'Marks Entry'!BH53","v":0},{"$f":"'Marks Entry'!BI53","v":0},{"$f":"'Marks Entry'!BJ53","v":0},{"$f":"'Marks Entry'!BK53","v":0},{"$f":"'Marks Entry'!BL53","v":0},{"$f":"'Marks Entry'!BM53","v":0},{"$f":"'Marks Entry'!BN53","v":0},{"$f":"'Marks Entry'!BO53","v":0},{"$f":"'Marks Entry'!BP53","v":0},{"$f":"'Marks Entry'!BQ53","v":0},{"$f":"'Marks Entry'!BR53","v":"E"},{"$f":"'Marks Entry'!BS53","v":0},{"$f":"'Marks Entry'!BT53","v":0},{"$f":"'Marks Entry'!BU53","v":0},{"$f":"'Marks Entry'!BV53","v":0},{"$f":"'Marks Entry'!BW53","v":0},{"$f":"'Marks Entry'!BX53","v":0},{"$f":"'Marks Entry'!BY53","v":0},{"$f":"'Marks Entry'!BZ53","v":0},{"$f":"'Marks Entry'!CA53","v":0},{"$f":"'Marks Entry'!CB53","v":0},{"$f":"'Marks Entry'!CC53","v":0},{"$f":"'Marks Entry'!CD53","v":0},{"$f":"'Marks Entry'!CE53","v":0},{"$f":"'Marks Entry'!CF53","v":0},{"$f":"'Marks Entry'!CG53","v":0},{"$f":"'Marks Entry'!CH53","v":0},{"$f":"'Marks Entry'!CI53","v":0},{"$f":"'Marks Entry'!CJ53","v":0},{"$f":"'Marks Entry'!CK53","v":0},{"$f":"'Marks Entry'!CL53","v":"E"},{"$f":"'Marks Entry'!CM53","v":0},{"$f":"'Marks Entry'!CN53","v":0},{"$f":"'Marks Entry'!CO53","v":0},{"$f":"'Marks Entry'!CP53","v":0},{"$f":"'Marks Entry'!CQ53","v":0},{"$f":"'Marks Entry'!CR53","v":0},{"$f":"'Marks Entry'!CS53","v":0},{"$f":"'Marks Entry'!CT53","v":0},{"$f":"'Marks Entry'!CU53","v":0},{"$f":"'Marks Entry'!CV53","v":0},{"$f":"'Marks Entry'!CW53","v":0},{"$f":"'Marks Entry'!CX53","v":0},{"$f":"'Marks Entry'!CY53","v":0},{"$f":"'Marks Entry'!CZ53","v":0},{"$f":"'Marks Entry'!DA53","v":0},{"$f":"'Marks Entry'!DB53","v":0},{"$f":"'Marks Entry'!DC53","v":0},{"$f":"'Marks Entry'!DD53","v":0},{"$f":"'Marks Entry'!DE53","v":0},{"$f":"'Marks Entry'!DF53","v":"E"},{"$f":"'Marks Entry'!DG53","v":0},{"$f":"'Marks Entry'!DH53","v":0},{"$f":"'Marks Entry'!DI53","v":0},{"$f":"'Marks Entry'!DJ53","v":0},{"$f":"'Marks Entry'!DK53","v":0},{"$f":"'Marks Entry'!DL53","v":0},{"$f":"'Marks Entry'!DM53","v":0},{"$f":"'Marks Entry'!DN53","v":0},{"$f":"'Marks Entry'!DO53","v":0},{"$f":"'Marks Entry'!DP53","v":0},{"$f":"'Marks Entry'!DQ53","v":0},{"$f":"'Marks Entry'!DR53","v":0},{"$f":"'Marks Entry'!DS53","v":0},{"$f":"'Marks Entry'!DT53","v":0},{"$f":"'Marks Entry'!DU53","v":0},{"$f":"'Marks Entry'!DV53","v":0},{"$f":"'Marks Entry'!DW53","v":0},{"$f":"'Marks Entry'!DX53","v":0},{"$f":"'Marks Entry'!DY53","v":0},{"$f":"'Marks Entry'!DZ53","v":"E"},{"$f":"'Marks Entry'!EA53","v":0},{"$f":"'Marks Entry'!EB53","v":0},{"$f":"'Marks Entry'!EC53","v":0},{"$f":"'Marks Entry'!ED53","v":0},{"$f":"'Marks Entry'!EE53","v":0},{"$f":"'Marks Entry'!EF53","v":0},{"$f":"'Marks Entry'!EG53","v":0},{"$f":"'Marks Entry'!EJ53","v":0},{"$f":"'Marks Entry'!EK53","v":0},{"$f":"'Marks Entry'!EL53","v":0},{"$f":"'Marks Entry'!EM53","v":0},{"$f":"'Marks Entry'!EN53","v":0},{"$f":"'Marks Entry'!EO53","v":0},{"$f":"'Marks Entry'!EP53","v":0},{"$f":"'Marks Entry'!ES53","v":0},{"$f":"'Marks Entry'!ET53","v":0},{"$f":"'Marks Entry'!EU53","v":0},{"$f":"'Marks Entry'!EV53","v":0},{"$f":"'Marks Entry'!EW53","v":0},{"$f":"'Marks Entry'!EX53","v":0},{"$f":"'Marks Entry'!EY53","v":0},{"$f":"'Marks Entry'!FB53","v":0},{"$f":"'Marks Entry'!FC53","v":0},{"$f":"'Marks Entry'!FD53","v":0},{"$f":"'Marks Entry'!FE53","v":""},{"$f":"'Marks Entry'!FF53","v":0},{"$f":"'Marks Entry'!FG53","v":0},{"$f":"'Marks Entry'!FH53","v":""},{"$f":"IF(OR('Marks Entry'!FI53=\"First\",'Marks Entry'!FI53=\"Second\",'Marks Entry'!FI53=\"Third\"),'Marks Entry'!FI53,\"\")","v":""},{"$f":"'Marks Entry'!FJ53","v":""},{"$f":"'Marks Entry'!FK53","v":""},{"$f":"'Marks Entry'!FL53","v":""},{"$f":"'Marks Entry'!FM53","v":""},{"$f":"'Marks Entry'!FO53","v":0}]
[null,0,{"$f":"'Marks Entry'!D54","v":0},{"$f":"'Marks Entry'!E54","v":0},{"$f":"'Marks Entry'!F54","v":0},{"$f":"'Marks Entry'!G54","v":0},{"$f":"'Marks Entry'!H54","v":0},{"$f":"'Marks Entry'!I54","v":0},{"$f":"'Marks Entry'!J54","v":0},{"$f":"'Marks Entry'!K54","v":"00:00:00"},{"$f":"'Marks Entry'!L54","v":0},{"$f":"'Marks Entry'!M54","v":0},{"$f":"'Marks Entry'!N54","v":0},{"$f":"'Marks Entry'!O54","v":0},{"$f":"'Marks Entry'!P54","v":0},{"$f":"'Marks Entry'!Q54","v":0},{"$f":"'Marks Entry'!R54","v":0},{"$f":"'Marks Entry'!S54","v":0},{"$f":"'Marks Entry'!T54","v":0},{"$f":"'Marks Entry'!U54","v":0},{"$f":"'Marks Entry'!V54","v":0},{"$f":"'Marks Entry'!W54","v":0},{"$f":"'Marks Entry'!X54","v":0},{"$f":"'Marks Entry'!Y54","v":0},{"$f":"'Marks Entry'!Z54","v":0},{"$f":"'Marks Entry'!AA54","v":0},{"$f":"'Marks Entry'!AB54","v":0},{"$f":"'Marks Entry'!AC54","v":0},{"$f":"'Marks Entry'!AD54","v":""},{"$f":"'Marks Entry'!AE54","v":0},{"$f":"'Marks Entry'!AF54","v":0},{"$f":"'Marks Entry'!AG54","v":0},{"$f":"'Marks Entry'!AH54","v":0},{"$f":"'Marks Entry'!AI54","v":0},{"$f":"'Marks Entry'!AJ54","v":0},{"$f":"'Marks Entry'!AK54","v":0},{"$f":"'Marks Entry'!AL54","v":0},{"$f":"'Marks Entry'!AM54","v":0},{"$f":"'Marks Entry'!AN54","v":0},{"$f":"'Marks Entry'!AO54","v":0},{"$f":"'Marks Entry'!AP54","v":0},{"$f":"'Marks Entry'!AQ54","v":0},{"$f":"'Marks Entry'!AR54","v":0},{"$f":"'Marks Entry'!AS54","v":0},{"$f":"'Marks Entry'!AT54","v":0},{"$f":"'Marks Entry'!AU54","v":0},{"$f":"'Marks Entry'!AV54","v":0},{"$f":"'Marks Entry'!AW54","v":0},{"$f":"'Marks Entry'!AX54","v":"E"},{"$f":"'Marks Entry'!AY54","v":0},{"$f":"'Marks Entry'!AZ54","v":0},{"$f":"'Marks Entry'!BA54","v":0},{"$f":"'Marks Entry'!BB54","v":0},{"$f":"'Marks Entry'!BC54","v":0},{"$f":"'Marks Entry'!BD54","v":0},{"$f":"'Marks Entry'!BE54","v":0},{"$f":"'Marks Entry'!BF54","v":0},{"$f":"'Marks Entry'!BG54","v":0},{"$f":"'Marks Entry'!BH54","v":0},{"$f":"'Marks Entry'!BI54","v":0},{"$f":"'Marks Entry'!BJ54","v":0},{"$f":"'Marks Entry'!BK54","v":0},{"$f":"'Marks Entry'!BL54","v":0},{"$f":"'Marks Entry'!BM54","v":0},{"$f":"'Marks Entry'!BN54","v":0},{"$f":"'Marks Entry'!BO54","v":0},{"$f":"'Marks Entry'!BP54","v":0},{"$f":"'Marks Entry'!BQ54","v":0},{"$f":"'Marks Entry'!BR54","v":"E"},{"$f":"'Marks Entry'!BS54","v":0},{"$f":"'Marks Entry'!BT54","v":0},{"$f":"'Marks Entry'!BU54","v":0},{"$f":"'Marks Entry'!BV54","v":0},{"$f":"'Marks Entry'!BW54","v":0},{"$f":"'Marks Entry'!BX54","v":0},{"$f":"'Marks Entry'!BY54","v":0},{"$f":"'Marks Entry'!BZ54","v":0},{"$f":"'Marks Entry'!CA54","v":0},{"$f":"'Marks Entry'!CB54","v":0},{"$f":"'Marks Entry'!CC54","v":0},{"$f":"'Marks Entry'!CD54","v":0},{"$f":"'Marks Entry'!CE54","v":0},{"$f":"'Marks Entry'!CF54","v":0},{"$f":"'Marks Entry'!CG54","v":0},{"$f":"'Marks Entry'!CH54","v":0},{"$f":"'Marks Entry'!CI54","v":0},{"$f":"'Marks Entry'!CJ54","v":0},{"$f":"'Marks Entry'!CK54","v":0},{"$f":"'Marks Entry'!CL54","v":"E"},{"$f":"'Marks Entry'!CM54","v":0},{"$f":"'Marks Entry'!CN54","v":0},{"$f":"'Marks Entry'!CO54","v":0},{"$f":"'Marks Entry'!CP54","v":0},{"$f":"'Marks Entry'!CQ54","v":0},{"$f":"'Marks Entry'!CR54","v":0},{"$f":"'Marks Entry'!CS54","v":0},{"$f":"'Marks Entry'!CT54","v":0},{"$f":"'Marks Entry'!CU54","v":0},{"$f":"'Marks Entry'!CV54","v":0},{"$f":"'Marks Entry'!CW54","v":0},{"$f":"'Marks Entry'!CX54","v":0},{"$f":"'Marks Entry'!CY54","v":0},{"$f":"'Marks Entry'!CZ54","v":0},{"$f":"'Marks Entry'!DA54","v":0},{"$f":"'Marks Entry'!DB54","v":0},{"$f":"'Marks Entry'!DC54","v":0},{"$f":"'Marks Entry'!DD54","v":0},{"$f":"'Marks Entry'!DE54","v":0},{"$f":"'Marks Entry'!DF54","v":"E"},{"$f":"'Marks Entry'!DG54","v":0},{"$f":"'Marks Entry'!DH54","v":0},{"$f":"'Marks Entry'!DI54","v":0},{"$f":"'Marks Entry'!DJ54","v":0},{"$f":"'Marks Entry'!DK54","v":0},{"$f":"'Marks Entry'!DL54","v":0},{"$f":"'Marks Entry'!DM54","v":0},{"$f":"'Marks Entry'!DN54","v":0},{"$f":"'Marks Entry'!DO54","v":0},{"$f":"'Marks Entry'!DP54","v":0},{"$f":"'Marks Entry'!DQ54","v":0},{"$f":"'Marks Entry'!DR54","v":0},{"$f":"'Marks Entry'!DS54","v":0},{"$f":"'Marks Entry'!DT54","v":0},{"$f":"'Marks Entry'!DU54","v":0},{"$f":"'Marks Entry'!DV54","v":0},{"$f":"'Marks Entry'!DW54","v":0},{"$f":"'Marks Entry'!DX54","v":0},{"$f":"'Marks Entry'!DY54","v":0},{"$f":"'Marks Entry'!DZ54","v":"E"},{"$f":"'Marks Entry'!EA54","v":0},{"$f":"'Marks Entry'!EB54","v":0},{"$f":"'Marks Entry'!EC54","v":0},{"$f":"'Marks Entry'!ED54","v":0},{"$f":"'Marks Entry'!EE54","v":0},{"$f":"'Marks Entry'!EF54","v":0},{"$f":"'Marks Entry'!EG54","v":0},{"$f":"'Marks Entry'!EJ54","v":0},{"$f":"'Marks Entry'!EK54","v":0},{"$f":"'Marks Entry'!EL54","v":0},{"$f":"'Marks Entry'!EM54","v":0},{"$f":"'Marks Entry'!EN54","v":0},{"$f":"'Marks Entry'!EO54","v":0},{"$f":"'Marks Entry'!EP54","v":0},{"$f":"'Marks Entry'!ES54","v":0},{"$f":"'Marks Entry'!ET54","v":0},{"$f":"'Marks Entry'!EU54","v":0},{"$f":"'Marks Entry'!EV54","v":0},{"$f":"'Marks Entry'!EW54","v":0},{"$f":"'Marks Entry'!EX54","v":0},{"$f":"'Marks Entry'!EY54","v":0},{"$f":"'Marks Entry'!FB54","v":0},{"$f":"'Marks Entry'!FC54","v":0},{"$f":"'Marks Entry'!FD54","v":0},{"$f":"'Marks Entry'!FE54","v":""},{"$f":"'Marks Entry'!FF54","v":0},{"$f":"'Marks Entry'!FG54","v":0},{"$f":"'Marks Entry'!FH54","v":""},{"$f":"IF(OR('Marks Entry'!FI54=\"First\",'Marks Entry'!FI54=\"Second\",'Marks Entry'!FI54=\"Third\"),'Marks Entry'!FI54,\"\")","v":""},{"$f":"'Marks Entry'!FJ54","v":""},{"$f":"'Marks Entry'!FK54","v":""},{"$f":"'Marks Entry'!FL54","v":""},{"$f":"'Marks Entry'!FM54","v":""},{"$f":"'Marks Entry'!FO54","v":0}]
[null,0,{"$f":"'Marks Entry'!D55","v":0},{"$f":"'Marks Entry'!E55","v":0},{"$f":"'Marks Entry'!F55","v":0},{"$f":"'Marks Entry'!G55","v":0},{"$f":"'Marks Entry'!H55","v":0},{"$f":"'Marks Entry'!I55","v":0},{"$f":"'Marks Entry'!J55","v":0},{"$f":"'Marks Entry'!K55","v":"00:00:00"},{"$f":"'Marks Entry'!L55","v":0},{"$f":"'Marks Entry'!M55","v":0},{"$f":"'Marks Entry'!N55","v":0},{"$f":"'Marks Entry'!O55","v":0},{"$f":"'Marks Entry'!P55","v":0},{"$f":"'Marks Entry'!Q55","v":0},{"$f":"'Marks Entry'!R55","v":0},{"$f":"'Marks Entry'!S55","v":0},{"$f":"'Marks Entry'!T55","v":0},{"$f":"'Marks Entry'!U55","v":0},{"$f":"'Marks Entry'!V55","v":0},{"$f":"'Marks Entry'!W55","v":0},{"$f":"'Marks Entry'!X55","v":0},{"$f":"'Marks Entry'!Y55","v":0},{"$f":"'Marks Entry'!Z55","v":0},{"$f":"'Marks Entry'!AA55","v":0},{"$f":"'Marks Entry'!AB55","v":0},{"$f":"'Marks Entry'!AC55","v":0},{"$f":"'Marks Entry'!AD55","v":""},{"$f":"'Marks Entry'!AE55","v":0},{"$f":"'Marks Entry'!AF55","v":0},{"$f":"'Marks Entry'!AG55","v":0},{"$f":"'Marks Entry'!AH55","v":0},{"$f":"'Marks Entry'!AI55","v":0},{"$f":"'Marks Entry'!AJ55","v":0},{"$f":"'Marks Entry'!AK55","v":0},{"$f":"'Marks Entry'!AL55","v":0},{"$f":"'Marks Entry'!AM55","v":0},{"$f":"'Marks Entry'!AN55","v":0},{"$f":"'Marks Entry'!AO55","v":0},{"$f":"'Marks Entry'!AP55","v":0},{"$f":"'Marks Entry'!AQ55","v":0},{"$f":"'Marks Entry'!AR55","v":0},{"$f":"'Marks Entry'!AS55","v":0},{"$f":"'Marks Entry'!AT55","v":0},{"$f":"'Marks Entry'!AU55","v":0},{"$f":"'Marks Entry'!AV55","v":0},{"$f":"'Marks Entry'!AW55","v":0},{"$f":"'Marks Entry'!AX55","v":"E"},{"$f":"'Marks Entry'!AY55","v":0},{"$f":"'Marks Entry'!AZ55","v":0},{"$f":"'Marks Entry'!BA55","v":0},{"$f":"'Marks Entry'!BB55","v":0},{"$f":"'Marks Entry'!BC55","v":0},{"$f":"'Marks Entry'!BD55","v":0},{"$f":"'Marks Entry'!BE55","v":0},{"$f":"'Marks Entry'!BF55","v":0},{"$f":"'Marks Entry'!BG55","v":0},{"$f":"'Marks Entry'!BH55","v":0},{"$f":"'Marks Entry'!BI55","v":0},{"$f":"'Marks Entry'!BJ55","v":0},{"$f":"'Marks Entry'!BK55","v":0},{"$f":"'Marks Entry'!BL55","v":0},{"$f":"'Marks Entry'!BM55","v":0},{"$f":"'Marks Entry'!BN55","v":0},{"$f":"'Marks Entry'!BO55","v":0},{"$f":"'Marks Entry'!BP55","v":0},{"$f":"'Marks Entry'!BQ55","v":0},{"$f":"'Marks Entry'!BR55","v":"E"},{"$f":"'Marks Entry'!BS55","v":0},{"$f":"'Marks Entry'!BT55","v":0},{"$f":"'Marks Entry'!BU55","v":0},{"$f":"'Marks Entry'!BV55","v":0},{"$f":"'Marks Entry'!BW55","v":0},{"$f":"'Marks Entry'!BX55","v":0},{"$f":"'Marks Entry'!BY55","v":0},{"$f":"'Marks Entry'!BZ55","v":0},{"$f":"'Marks Entry'!CA55","v":0},{"$f":"'Marks Entry'!CB55","v":0},{"$f":"'Marks Entry'!CC55","v":0},{"$f":"'Marks Entry'!CD55","v":0},{"$f":"'Marks Entry'!CE55","v":0},{"$f":"'Marks Entry'!CF55","v":0},{"$f":"'Marks Entry'!CG55","v":0},{"$f":"'Marks Entry'!CH55","v":0},{"$f":"'Marks Entry'!CI55","v":0},{"$f":"'Marks Entry'!CJ55","v":0},{"$f":"'Marks Entry'!CK55","v":0},{"$f":"'Marks Entry'!CL55","v":"E"},{"$f":"'Marks Entry'!CM55","v":0},{"$f":"'Marks Entry'!CN55","v":0},{"$f":"'Marks Entry'!CO55","v":0},{"$f":"'Marks Entry'!CP55","v":0},{"$f":"'Marks Entry'!CQ55","v":0},{"$f":"'Marks Entry'!CR55","v":0},{"$f":"'Marks Entry'!CS55","v":0},{"$f":"'Marks Entry'!CT55","v":0},{"$f":"'Marks Entry'!CU55","v":0},{"$f":"'Marks Entry'!CV55","v":0},{"$f":"'Marks Entry'!CW55","v":0},{"$f":"'Marks Entry'!CX55","v":0},{"$f":"'Marks Entry'!CY55","v":0},{"$f":"'Marks Entry'!CZ55","v":0},{"$f":"'Marks Entry'!DA55","v":0},{"$f":"'Marks Entry'!DB55","v":0},{"$f":"'Marks Entry'!DC55","v":0},{"$f":"'Marks Entry'!DD55","v":0},{"$f":"'Marks Entry'!DE55","v":0},{"$f":"'Marks Entry'!DF55","v":"E"},{"$f":"'Marks Entry'!DG55","v":0},{"$f":"'Marks Entry'!DH55","v":0},{"$f":"'Marks Entry'!DI55","v":0},{"$f":"'Marks Entry'!DJ55","v":0},{"$f":"'Marks Entry'!DK55","v":0},{"$f":"'Marks Entry'!DL55","v":0},{"$f":"'Marks Entry'!DM55","v":0},{"$f":"'Marks Entry'!DN55","v":0},{"$f":"'Marks Entry'!DO55","v":0},{"$f":"'Marks Entry'!DP55","v":0},{"$f":"'Marks Entry'!DQ55","v":0},{"$f":"'Marks Entry'!DR55","v":0},{"$f":"'Marks Entry'!DS55","v":0},{"$f":"'Marks Entry'!DT55","v":0},{"$f":"'Marks Entry'!DU55","v":0},{"$f":"'Marks Entry'!DV55","v":0},{"$f":"'Marks Entry'!DW55","v":0},{"$f":"'Marks Entry'!DX55","v":0},{"$f":"'Marks Entry'!DY55","v":0},{"$f":"'Marks Entry'!DZ55","v":"E"},{"$f":"'Marks Entry'!EA55","v":0},{"$f":"'Marks Entry'!EB55","v":0},{"$f":"'Marks Entry'!EC55","v":0},{"$f":"'Marks Entry'!ED55","v":0},{"$f":"'Marks Entry'!EE55","v":0},{"$f":"'Marks Entry'!EF55","v":0},{"$f":"'Marks Entry'!EG55","v":0},{"$f":"'Marks Entry'!EJ55","v":0},{"$f":"'Marks Entry'!EK55","v":0},{"$f":"'Marks Entry'!EL55","v":0},{"$f":"'Marks Entry'!EM55","v":0},{"$f":"'Marks Entry'!EN55","v":0},{"$f":"'Marks Entry'!EO55","v":0},{"$f":"'Marks Entry'!EP55","v":0},{"$f":"'Marks Entry'!ES55","v":0},{"$f":"'Marks Entry'!ET55","v":0},{"$f":"'Marks Entry'!EU55","v":0},{"$f":"'Marks Entry'!EV55","v":0},{"$f":"'Marks Entry'!EW55","v":0},{"$f":"'Marks Entry'!EX55","v":0},{"$f":"'Marks Entry'!EY55","v":0},{"$f":"'Marks Entry'!FB55","v":0},{"$f":"'Marks Entry'!FC55","v":0},{"$f":"'Marks Entry'!FD55","v":0},{"$f":"'Marks Entry'!FE55","v":""},{"$f":"'Marks Entry'!FF55","v":0},{"$f":"'Marks Entry'!FG55","v":0},{"$f":"'Marks Entry'!FH55","v":""},{"$f":"IF(OR('Marks Entry'!FI55=\"First\",'Marks Entry'!FI55=\"Second\",'Marks Entry'!FI55=\"Third\"),'Marks Entry'!FI55,\"\")","v":""},{"$f":"'Marks Entry'!FJ55","v":""},{"$f":"'Marks Entry'!FK55","v":""},{"$f":"'Marks Entry'!FL55","v":""},{"$f":"'Marks Entry'!FM55","v":""},{"$f":"'Marks Entry'!FO55","v":0}]
[null,0,{"$f":"'Marks Entry'!D56","v":0},{"$f":"'Marks Entry'!E56","v":0},{"$f":"'Marks Entry'!F56","v":0},{"$f":"'Marks Entry'!G56","v":0},{"$f":"'Marks Entry'!H56","v":0},{"$f":"'Marks Entry'!I56","v":0},{"$f":"'Marks Entry'!J56","v":0},{"$f":"'Marks Entry'!K56","v":"00:00:00"},{"$f":"'Marks Entry'!L56","v":0},{"$f":"'Marks Entry'!M56","v":0},{"$f":"'Marks Entry'!N56","v":0},{"$f":"'Marks Entry'!O56","v":0},{"$f":"'Marks Entry'!P56","v":0},{"$f":"'Marks Entry'!Q56","v":0},{"$f":"'Marks Entry'!R56","v":0},{"$f":"'Marks Entry'!S56","v":0},{"$f":"'Marks Entry'!T56","v":0},{"$f":"'Marks Entry'!U56","v":0},{"$f":"'Marks Entry'!V56","v":0},{"$f":"'Marks Entry'!W56","v":0},{"$f":"'Marks Entry'!X56","v":0},{"$f":"'Marks Entry'!Y56","v":0},{"$f":"'Marks Entry'!Z56","v":0},{"$f":"'Marks Entry'!AA56","v":0},{"$f":"'Marks Entry'!AB56","v":0},{"$f":"'Marks Entry'!AC56","v":0},{"$f":"'Marks Entry'!AD56","v":""},{"$f":"'Marks Entry'!AE56","v":0},{"$f":"'Marks Entry'!AF56","v":0},{"$f":"'Marks Entry'!AG56","v":0},{"$f":"'Marks Entry'!AH56","v":0},{"$f":"'Marks Entry'!AI56","v":0},{"$f":"'Marks Entry'!AJ56","v":0},{"$f":"'Marks Entry'!AK56","v":0},{"$f":"'Marks Entry'!AL56","v":0},{"$f":"'Marks Entry'!AM56","v":0},{"$f":"'Marks Entry'!AN56","v":0},{"$f":"'Marks Entry'!AO56","v":0},{"$f":"'Marks Entry'!AP56","v":0},{"$f":"'Marks Entry'!AQ56","v":0},{"$f":"'Marks Entry'!AR56","v":0},{"$f":"'Marks Entry'!AS56","v":0},{"$f":"'Marks Entry'!AT56","v":0},{"$f":"'Marks Entry'!AU56","v":0},{"$f":"'Marks Entry'!AV56","v":0},{"$f":"'Marks Entry'!AW56","v":0},{"$f":"'Marks Entry'!AX56","v":"E"},{"$f":"'Marks Entry'!AY56","v":0},{"$f":"'Marks Entry'!AZ56","v":0},{"$f":"'Marks Entry'!BA56","v":0},{"$f":"'Marks Entry'!BB56","v":0},{"$f":"'Marks Entry'!BC56","v":0},{"$f":"'Marks Entry'!BD56","v":0},{"$f":"'Marks Entry'!BE56","v":0},{"$f":"'Marks Entry'!BF56","v":0},{"$f":"'Marks Entry'!BG56","v":0},{"$f":"'Marks Entry'!BH56","v":0},{"$f":"'Marks Entry'!BI56","v":0},{"$f":"'Marks Entry'!BJ56","v":0},{"$f":"'Marks Entry'!BK56","v":0},{"$f":"'Marks Entry'!BL56","v":0},{"$f":"'Marks Entry'!BM56","v":0},{"$f":"'Marks Entry'!BN56","v":0},{"$f":"'Marks Entry'!BO56","v":0},{"$f":"'Marks Entry'!BP56","v":0},{"$f":"'Marks Entry'!BQ56","v":0},{"$f":"'Marks Entry'!BR56","v":"E"},{"$f":"'Marks Entry'!BS56","v":0},{"$f":"'Marks Entry'!BT56","v":0},{"$f":"'Marks Entry'!BU56","v":0},{"$f":"'Marks Entry'!BV56","v":0},{"$f":"'Marks Entry'!BW56","v":0},{"$f":"'Marks Entry'!BX56","v":0},{"$f":"'Marks Entry'!BY56","v":0},{"$f":"'Marks Entry'!BZ56","v":0},{"$f":"'Marks Entry'!CA56","v":0},{"$f":"'Marks Entry'!CB56","v":0},{"$f":"'Marks Entry'!CC56","v":0},{"$f":"'Marks Entry'!CD56","v":0},{"$f":"'Marks Entry'!CE56","v":0},{"$f":"'Marks Entry'!CF56","v":0},{"$f":"'Marks Entry'!CG56","v":0},{"$f":"'Marks Entry'!CH56","v":0},{"$f":"'Marks Entry'!CI56","v":0},{"$f":"'Marks Entry'!CJ56","v":0},{"$f":"'Marks Entry'!CK56","v":0},{"$f":"'Marks Entry'!CL56","v":"E"},{"$f":"'Marks Entry'!CM56","v":0},{"$f":"'Marks Entry'!CN56","v":0},{"$f":"'Marks Entry'!CO56","v":0},{"$f":"'Marks Entry'!CP56","v":0},{"$f":"'Marks Entry'!CQ56","v":0},{"$f":"'Marks Entry'!CR56","v":0},{"$f":"'Marks Entry'!CS56","v":0},{"$f":"'Marks Entry'!CT56","v":0},{"$f":"'Marks Entry'!CU56","v":0},{"$f":"'Marks Entry'!CV56","v":0},{"$f":"'Marks Entry'!CW56","v":0},{"$f":"'Marks Entry'!CX56","v":0},{"$f":"'Marks Entry'!CY56","v":0},{"$f":"'Marks Entry'!CZ56","v":0},{"$f":"'Marks Entry'!DA56","v":0},{"$f":"'Marks Entry'!DB56","v":0},{"$f":"'Marks Entry'!DC56","v":0},{"$f":"'Marks Entry'!DD56","v":0},{"$f":"'Marks Entry'!DE56","v":0},{"$f":"'Marks Entry'!DF56","v":"E"},{"$f":"'Marks Entry'!DG56","v":0},{"$f":"'Marks Entry'!DH56","v":0},{"$f":"'Marks Entry'!DI56","v":0},{"$f":"'Marks Entry'!DJ56","v":0},{"$f":"'Marks Entry'!DK56","v":0},{"$f":"'Marks Entry'!DL56","v":0},{"$f":"'Marks Entry'!DM56","v":0},{"$f":"'Marks Entry'!DN56","v":0},{"$f":"'Marks Entry'!DO56","v":0},{"$f":"'Marks Entry'!DP56","v":0},{"$f":"'Marks Entry'!DQ56","v":0},{"$f":"'Marks Entry'!DR56","v":0},{"$f":"'Marks Entry'!DS56","v":0},{"$f":"'Marks Entry'!DT56","v":0},{"$f":"'Marks Entry'!DU56","v":0},{"$f":"'Marks Entry'!DV56","v":0},{"$f":"'Marks Entry'!DW56","v":0},{"$f":"'Marks Entry'!DX56","v":0},{"$f":"'Marks Entry'!DY56","v":0},{"$f":"'Marks Entry'!DZ56","v":"E"},{"$f":"'Marks Entry'!EA56","v":0},{"$f":"'Marks Entry'!EB56","v":0},{"$f":"'Marks Entry'!EC56","v":0},{"$f":"'Marks Entry'!ED56","v":0},{"$f":"'Marks Entry'!EE56","v":0},{"$f":"'Marks Entry'!EF56","v":0},{"$f":"'Marks Entry'!EG56","v":0},{"$f":"'Marks Entry'!EJ56","v":0},{"$f":"'Marks Entry'!EK56","v":0},{"$f":"'Marks Entry'!EL56","v":0},{"$f":"'Marks Entry'!EM56","v":0},{"$f":"'Marks Entry'!EN56","v":0},{"$f":"'Marks Entry'!EO56","v":0},{"$f":"'Marks Entry'!EP56","v":0},{"$f":"'Marks Entry'!ES56","v":0},{"$f":"'Marks Entry'!ET56","v":0},{"$f":"'Marks Entry'!EU56","v":0},{"$f":"'Marks Entry'!EV56","v":0},{"$f":"'Marks Entry'!EW56","v":0},{"$f":"'Marks Entry'!EX56","v":0},{"$f":"'Marks Entry'!EY56","v":0},{"$f":"'Marks Entry'!FB56","v":0},{"$f":"'Marks Entry'!FC56","v":0},{"$f":"'Marks Entry'!FD56","v":0},{"$f":"'Marks Entry'!FE56","v":""},{"$f":"'Marks Entry'!FF56","v":0},{"$f":"'Marks Entry'!FG56","v":0},{"$f":"'Marks Entry'!FH56","v":""},{"$f":"IF(OR('Marks Entry'!FI56=\"First\",'Marks Entry'!FI56=\"Second\",'Marks Entry'!FI56=\"Third\"),'Marks Entry'!FI56,\"\")","v":""},{"$f":"'Marks Entry'!FJ56","v":""},{"$f":"'Marks Entry'!FK56","v":""},{"$f":"'Marks Entry'!FL56","v":""},{"$f":"'Marks Entry'!FM56","v":""},{"$f":"'Marks Entry'!FO56","v":0}]
[null,0,{"$f":"'Marks Entry'!D57","v":0},{"$f":"'Marks Entry'!E57","v":0},{"$f":"'Marks Entry'!F57","v":0},{"$f":"'Marks Entry'!G57","v":0},{"$f":"'Marks Entry'!H57","v":0},{"$f":"'Marks Entry'!I57","v":0},{"$f":"'Marks Entry'!J57","v":0},{"$f":"'Marks Entry'!K57","v":"00:00:00"},{"$f":"'Marks Entry'!L57","v":0},{"$f":"'Marks Entry'!M57","v":0},{"$f":"'Marks Entry'!N57","v":0},{"$f":"'Marks Entry'!O57","v":0},{"$f":"'Marks Entry'!P57","v":0},{"$f":"'Marks Entry'!Q57","v":0},{"$f":"'Marks Entry'!R57","v":0},{"$f":"'Marks Entry'!S57","v":0},{"$f":"'Marks Entry'!T57","v":0},{"$f":"'Marks Entry'!U57","v":0},{"$f":"'Marks Entry'!V57","v":0},{"$f":"'Marks Entry'!W57","v":0},{"$f":"'Marks Entry'!X57","v":0},{"$f":"'Marks Entry'!Y57","v":0},{"$f":"'Marks Entry'!Z57","v":0},{"$f":"'Marks Entry'!AA57","v":0},{"$f":"'Marks Entry'!AB57","v":0},{"$f":"'Marks Entry'!AC57","v":0},{"$f":"'Marks Entry'!AD57","v":""},{"$f":"'Marks Entry'!AE57","v":0},{"$f":"'Marks Entry'!AF57","v":0},{"$f":"'Marks Entry'!AG57","v":0},{"$f":"'Marks Entry'!AH57","v":0},{"$f":"'Marks Entry'!AI57","v":0},{"$f":"'Marks Entry'!AJ57","v":0},{"$f":"'Marks Entry'!AK57","v":0},{"$f":"'Marks Entry'!AL57","v":0},{"$f":"'Marks Entry'!AM57","v":0},{"$f":"'Marks Entry'!AN57","v":0},{"$f":"'Marks Entry'!AO57","v":0},{"$f":"'Marks Entry'!AP57","v":0},{"$f":"'Marks Entry'!AQ57","v":0},{"$f":"'Marks Entry'!AR57","v":0},{"$f":"'Marks Entry'!AS57","v":0},{"$f":"'Marks Entry'!AT57","v":0},{"$f":"'Marks Entry'!AU57","v":0},{"$f":"'Marks Entry'!AV57","v":0},{"$f":"'Marks Entry'!AW57","v":0},{"$f":"'Marks Entry'!AX57","v":"E"},{"$f":"'Marks Entry'!AY57","v":0},{"$f":"'Marks Entry'!AZ57","v":0},{"$f":"'Marks Entry'!BA57","v":0},{"$f":"'Marks Entry'!BB57","v":0},{"$f":"'Marks Entry'!BC57","v":0},{"$f":"'Marks Entry'!BD57","v":0},{"$f":"'Marks Entry'!BE57","v":0},{"$f":"'Marks Entry'!BF57","v":0},{"$f":"'Marks Entry'!BG57","v":0},{"$f":"'Marks Entry'!BH57","v":0},{"$f":"'Marks Entry'!BI57","v":0},{"$f":"'Marks Entry'!BJ57","v":0},{"$f":"'Marks Entry'!BK57","v":0},{"$f":"'Marks Entry'!BL57","v":0},{"$f":"'Marks Entry'!BM57","v":0},{"$f":"'Marks Entry'!BN57","v":0},{"$f":"'Marks Entry'!BO57","v":0},{"$f":"'Marks Entry'!BP57","v":0},{"$f":"'Marks Entry'!BQ57","v":0},{"$f":"'Marks Entry'!BR57","v":"E"},{"$f":"'Marks Entry'!BS57","v":0},{"$f":"'Marks Entry'!BT57","v":0},{"$f":"'Marks Entry'!BU57","v":0},{"$f":"'Marks Entry'!BV57","v":0},{"$f":"'Marks Entry'!BW57","v":0},{"$f":"'Marks Entry'!BX57","v":0},{"$f":"'Marks Entry'!BY57","v":0},{"$f":"'Marks Entry'!BZ57","v":0},{"$f":"'Marks Entry'!CA57","v":0},{"$f":"'Marks Entry'!CB57","v":0},{"$f":"'Marks Entry'!CC57","v":0},{"$f":"'Marks Entry'!CD57","v":0},{"$f":"'Marks Entry'!CE57","v":0},{"$f":"'Marks Entry'!CF57","v":0},{"$f":"'Marks Entry'!CG57","v":0},{"$f":"'Marks Entry'!CH57","v":0},{"$f":"'Marks Entry'!CI57","v":0},{"$f":"'Marks Entry'!CJ57","v":0},{"$f":"'Marks Entry'!CK57","v":0},{"$f":"'Marks Entry'!CL57","v":"E"},{"$f":"'Marks Entry'!CM57","v":0},{"$f":"'Marks Entry'!CN57","v":0},{"$f":"'Marks Entry'!CO57","v":0},{"$f":"'Marks Entry'!CP57","v":0},{"$f":"'Marks Entry'!CQ57","v":0},{"$f":"'Marks Entry'!CR57","v":0},{"$f":"'Marks Entry'!CS57","v":0},{"$f":"'Marks Entry'!CT57","v":0},{"$f":"'Marks Entry'!CU57","v":0},{"$f":"'Marks Entry'!CV57","v":0},{"$f":"'Marks Entry'!CW57","v":0},{"$f":"'Marks Entry'!CX57","v":0},{"$f":"'Marks Entry'!CY57","v":0},{"$f":"'Marks Entry'!CZ57","v":0},{"$f":"'Marks Entry'!DA57","v":0},{"$f":"'Marks Entry'!DB57","v":0},{"$f":"'Marks Entry'!DC57","v":0},{"$f":"'Marks Entry'!DD57","v":0},{"$f":"'Marks Entry'!DE57","v":0},{"$f":"'Marks Entry'!DF57","v":"E"},{"$f":"'Marks Entry'!DG57","v":0},{"$f":"'Marks Entry'!DH57","v":0},{"$f":"'Marks Entry'!DI57","v":0},{"$f":"'Marks Entry'!DJ57","v":0},{"$f":"'Marks Entry'!DK57","v":0},{"$f":"'Marks Entry'!DL57","v":0},{"$f":"'Marks Entry'!DM57","v":0},{"$f":"'Marks Entry'!DN57","v":0},{"$f":"'Marks Entry'!DO57","v":0},{"$f":"'Marks Entry'!DP57","v":0},{"$f":"'Marks Entry'!DQ57","v":0},{"$f":"'Marks Entry'!DR57","v":0},{"$f":"'Marks Entry'!DS57","v":0},{"$f":"'Marks Entry'!DT57","v":0},{"$f":"'Marks Entry'!DU57","v":0},{"$f":"'Marks Entry'!DV57","v":0},{"$f":"'Marks Entry'!DW57","v":0},{"$f":"'Marks Entry'!DX57","v":0},{"$f":"'Marks Entry'!DY57","v":0},{"$f":"'Marks Entry'!DZ57","v":"E"},{"$f":"'Marks Entry'!EA57","v":0},{"$f":"'Marks Entry'!EB57","v":0},{"$f":"'Marks Entry'!EC57","v":0},{"$f":"'Marks Entry'!ED57","v":0},{"$f":"'Marks Entry'!EE57","v":0},{"$f":"'Marks Entry'!EF57","v":0},{"$f":"'Marks Entry'!EG57","v":0},{"$f":"'Marks Entry'!EJ57","v":0},{"$f":"'Marks Entry'!EK57","v":0},{"$f":"'Marks Entry'!EL57","v":0},{"$f":"'Marks Entry'!EM57","v":0},{"$f":"'Marks Entry'!EN57","v":0},{"$f":"'Marks Entry'!EO57","v":0},{"$f":"'Marks Entry'!EP57","v":0},{"$f":"'Marks Entry'!ES57","v":0},{"$f":"'Marks Entry'!ET57","v":0},{"$f":"'Marks Entry'!EU57","v":0},{"$f":"'Marks Entry'!EV57","v":0},{"$f":"'Marks Entry'!EW57","v":0},{"$f":"'Marks Entry'!EX57","v":0},{"$f":"'Marks Entry'!EY57","v":0},{"$f":"'Marks Entry'!FB57","v":0},{"$f":"'Marks Entry'!FC57","v":0},{"$f":"'Marks Entry'!FD57","v":0},{"$f":"'Marks Entry'!FE57","v":""},{"$f":"'Marks Entry'!FF57","v":0},{"$f":"'Marks Entry'!FG57","v":0},{"$f":"'Marks Entry'!FH57","v":""},{"$f":"IF(OR('Marks Entry'!FI57=\"First\",'Marks Entry'!FI57=\"Second\",'Marks Entry'!FI57=\"Third\"),'Marks Entry'!FI57,\"\")","v":""},{"$f":"'Marks Entry'!FJ57","v":""},{"$f":"'Marks Entry'!FK57","v":""},{"$f":"'Marks Entry'!FL57","v":""},{"$f":"'Marks Entry'!FM57","v":""},{"$f":"'Marks Entry'!FO57","v":0}]
[null,0,{"$f":"'Marks Entry'!D58","v":0},{"$f":"'Marks Entry'!E58","v":0},{"$f":"'Marks Entry'!F58","v":0},{"$f":"'Marks Entry'!G58","v":0},{"$f":"'Marks Entry'!H58","v":0},{"$f":"'Marks Entry'!I58","v":0},{"$f":"'Marks Entry'!J58","v":0},{"$f":"'Marks Entry'!K58","v":"00:00:00"},{"$f":"'Marks Entry'!L58","v":0},{"$f":"'Marks Entry'!M58","v":0},{"$f":"'Marks Entry'!N58","v":0},{"$f":"'Marks Entry'!O58","v":0},{"$f":"'Marks Entry'!P58","v":0},{"$f":"'Marks Entry'!Q58","v":0},{"$f":"'Marks Entry'!R58","v":0},{"$f":"'Marks Entry'!S58","v":0},{"$f":"'Marks Entry'!T58","v":0},{"$f":"'Marks Entry'!U58","v":0},{"$f":"'Marks Entry'!V58","v":0},{"$f":"'Marks Entry'!W58","v":0},{"$f":"'Marks Entry'!X58","v":0},{"$f":"'Marks Entry'!Y58","v":0},{"$f":"'Marks Entry'!Z58","v":0},{"$f":"'Marks Entry'!AA58","v":0},{"$f":"'Marks Entry'!AB58","v":0},{"$f":"'Marks Entry'!AC58","v":0},{"$f":"'Marks Entry'!AD58","v":""},{"$f":"'Marks Entry'!AE58","v":0},{"$f":"'Marks Entry'!AF58","v":0},{"$f":"'Marks Entry'!AG58","v":0},{"$f":"'Marks Entry'!AH58","v":0},{"$f":"'Marks Entry'!AI58","v":0},{"$f":"'Marks Entry'!AJ58","v":0},{"$f":"'Marks Entry'!AK58","v":0},{"$f":"'Marks Entry'!AL58","v":0},{"$f":"'Marks Entry'!AM58","v":0},{"$f":"'Marks Entry'!AN58","v":0},{"$f":"'Marks Entry'!AO58","v":0},{"$f":"'Marks Entry'!AP58","v":0},{"$f":"'Marks Entry'!AQ58","v":0},{"$f":"'Marks Entry'!AR58","v":0},{"$f":"'Marks Entry'!AS58","v":0},{"$f":"'Marks Entry'!AT58","v":0},{"$f":"'Marks Entry'!AU58","v":0},{"$f":"'Marks Entry'!AV58","v":0},{"$f":"'Marks Entry'!AW58","v":0},{"$f":"'Marks Entry'!AX58","v":"E"},{"$f":"'Marks Entry'!AY58","v":0},{"$f":"'Marks Entry'!AZ58","v":0},{"$f":"'Marks Entry'!BA58","v":0},{"$f":"'Marks Entry'!BB58","v":0},{"$f":"'Marks Entry'!BC58","v":0},{"$f":"'Marks Entry'!BD58","v":0},{"$f":"'Marks Entry'!BE58","v":0},{"$f":"'Marks Entry'!BF58","v":0},{"$f":"'Marks Entry'!BG58","v":0},{"$f":"'Marks Entry'!BH58","v":0},{"$f":"'Marks Entry'!BI58","v":0},{"$f":"'Marks Entry'!BJ58","v":0},{"$f":"'Marks Entry'!BK58","v":0},{"$f":"'Marks Entry'!BL58","v":0},{"$f":"'Marks Entry'!BM58","v":0},{"$f":"'Marks Entry'!BN58","v":0},{"$f":"'Marks Entry'!BO58","v":0},{"$f":"'Marks Entry'!BP58","v":0},{"$f":"'Marks Entry'!BQ58","v":0},{"$f":"'Marks Entry'!BR58","v":"E"},{"$f":"'Marks Entry'!BS58","v":0},{"$f":"'Marks Entry'!BT58","v":0},{"$f":"'Marks Entry'!BU58","v":0},{"$f":"'Marks Entry'!BV58","v":0},{"$f":"'Marks Entry'!BW58","v":0},{"$f":"'Marks Entry'!BX58","v":0},{"$f":"'Marks Entry'!BY58","v":0},{"$f":"'Marks Entry'!BZ58","v":0},{"$f":"'Marks Entry'!CA58","v":0},{"$f":"'Marks Entry'!CB58","v":0},{"$f":"'Marks Entry'!CC58","v":0},{"$f":"'Marks Entry'!CD58","v":0},{"$f":"'Marks Entry'!CE58","v":0},{"$f":"'Marks Entry'!CF58","v":0},{"$f":"'Marks Entry'!CG58","v":0},{"$f":"'Marks Entry'!CH58","v":0},{"$f":"'Marks Entry'!CI58","v":0},{"$f":"'Marks Entry'!CJ58","v":0},{"$f":"'Marks Entry'!CK58","v":0},{"$f":"'Marks Entry'!CL58","v":"E"},{"$f":"'Marks Entry'!CM58","v":0},{"$f":"'Marks Entry'!CN58","v":0},{"$f":"'Marks Entry'!CO58","v":0},{"$f":"'Marks Entry'!CP58","v":0},{"$f":"'Marks Entry'!CQ58","v":0},{"$f":"'Marks Entry'!CR58","v":0},{"$f":"'Marks Entry'!CS58","v":0},{"$f":"'Marks Entry'!CT58","v":0},{"$f":"'Marks Entry'!CU58","v":0},{"$f":"'Marks Entry'!CV58","v":0},{"$f":"'Marks Entry'!CW58","v":0},{"$f":"'Marks Entry'!CX58","v":0},{"$f":"'Marks Entry'!CY58","v":0},{"$f":"'Marks Entry'!CZ58","v":0},{"$f":"'Marks Entry'!DA58","v":0},{"$f":"'Marks Entry'!DB58","v":0},{"$f":"'Marks Entry'!DC58","v":0},{"$f":"'Marks Entry'!DD58","v":0},{"$f":"'Marks Entry'!DE58","v":0},{"$f":"'Marks Entry'!DF58","v":"E"},{"$f":"'Marks Entry'!DG58","v":0},{"$f":"'Marks Entry'!DH58","v":0},{"$f":"'Marks Entry'!DI58","v":0},{"$f":"'Marks Entry'!DJ58","v":0},{"$f":"'Marks Entry'!DK58","v":0},{"$f":"'Marks Entry'!DL58","v":0},{"$f":"'Marks Entry'!DM58","v":0},{"$f":"'Marks Entry'!DN58","v":0},{"$f":"'Marks Entry'!DO58","v":0},{"$f":"'Marks Entry'!DP58","v":0},{"$f":"'Marks Entry'!DQ58","v":0},{"$f":"'Marks Entry'!DR58","v":0},{"$f":"'Marks Entry'!DS58","v":0},{"$f":"'Marks Entry'!DT58","v":0},{"$f":"'Marks Entry'!DU58","v":0},{"$f":"'Marks Entry'!DV58","v":0},{"$f":"'Marks Entry'!DW58","v":0},{"$f":"'Marks Entry'!DX58","v":0},{"$f":"'Marks Entry'!DY58","v":0},{"$f":"'Marks Entry'!DZ58","v":"E"},{"$f":"'Marks Entry'!EA58","v":0},{"$f":"'Marks Entry'!EB58","v":0},{"$f":"'Marks Entry'!EC58","v":0},{"$f":"'Marks Entry'!ED58","v":0},{"$f":"'Marks Entry'!EE58","v":0},{"$f":"'Marks Entry'!EF58","v":0},{"$f":"'Marks Entry'!EG58","v":0},{"$f":"'Marks Entry'!EJ58","v":0},{"$f":"'Marks Entry'!EK58","v":0},{"$f":"'Marks Entry'!EL58","v":0},{"$f":"'Marks Entry'!EM58","v":0},{"$f":"'Marks Entry'!EN58","v":0},{"$f":"'Marks Entry'!EO58","v":0},{"$f":"'Marks Entry'!EP58","v":0},{"$f":"'Marks Entry'!ES58","v":0},{"$f":"'Marks Entry'!ET58","v":0},{"$f":"'Marks Entry'!EU58","v":0},{"$f":"'Marks Entry'!EV58","v":0},{"$f":"'Marks Entry'!EW58","v":0},{"$f":"'Marks Entry'!EX58","v":0},{"$f":"'Marks Entry'!EY58","v":0},{"$f":"'Marks Entry'!FB58","v":0},{"$f":"'Marks Entry'!FC58","v":0},{"$f":"'Marks Entry'!FD58","v":0},{"$f":"'Marks Entry'!FE58","v":""},{"$f":"'Marks Entry'!FF58","v":0},{"$f":"'Marks Entry'!FG58","v":0},{"$f":"'Marks Entry'!FH58","v":""},{"$f":"IF(OR('Marks Entry'!FI58=\"First\",'Marks Entry'!FI58=\"Second\",'Marks Entry'!FI58=\"Third\"),'Marks Entry'!FI58,\"\")","v":""},{"$f":"'Marks Entry'!FJ58","v":""},{"$f":"'Marks Entry'!FK58","v":""},{"$f":"'Marks Entry'!FL58","v":""},{"$f":"'Marks Entry'!FM58","v":""},{"$f":"'Marks Entry'!FO58","v":0}]
[null,0,{"$f":"'Marks Entry'!D59","v":0},{"$f":"'Marks Entry'!E59","v":0},{"$f":"'Marks Entry'!F59","v":0},{"$f":"'Marks Entry'!G59","v":0},{"$f":"'Marks Entry'!H59","v":0},{"$f":"'Marks Entry'!I59","v":0},{"$f":"'Marks Entry'!J59","v":0},{"$f":"'Marks Entry'!K59","v":"00:00:00"},{"$f":"'Marks Entry'!L59","v":0},{"$f":"'Marks Entry'!M59","v":0},{"$f":"'Marks Entry'!N59","v":0},{"$f":"'Marks Entry'!O59","v":0},{"$f":"'Marks Entry'!P59","v":0},{"$f":"'Marks Entry'!Q59","v":0},{"$f":"'Marks Entry'!R59","v":0},{"$f":"'Marks Entry'!S59","v":0},{"$f":"'Marks Entry'!T59","v":0},{"$f":"'Marks Entry'!U59","v":0},{"$f":"'Marks Entry'!V59","v":0},{"$f":"'Marks Entry'!W59","v":0},{"$f":"'Marks Entry'!X59","v":0},{"$f":"'Marks Entry'!Y59","v":0},{"$f":"'Marks Entry'!Z59","v":0},{"$f":"'Marks Entry'!AA59","v":0},{"$f":"'Marks Entry'!AB59","v":0},{"$f":"'Marks Entry'!AC59","v":0},{"$f":"'Marks Entry'!AD59","v":""},{"$f":"'Marks Entry'!AE59","v":0},{"$f":"'Marks Entry'!AF59","v":0},{"$f":"'Marks Entry'!AG59","v":0},{"$f":"'Marks Entry'!AH59","v":0},{"$f":"'Marks Entry'!AI59","v":0},{"$f":"'Marks Entry'!AJ59","v":0},{"$f":"'Marks Entry'!AK59","v":0},{"$f":"'Marks Entry'!AL59","v":0},{"$f":"'Marks Entry'!AM59","v":0},{"$f":"'Marks Entry'!AN59","v":0},{"$f":"'Marks Entry'!AO59","v":0},{"$f":"'Marks Entry'!AP59","v":0},{"$f":"'Marks Entry'!AQ59","v":0},{"$f":"'Marks Entry'!AR59","v":0},{"$f":"'Marks Entry'!AS59","v":0},{"$f":"'Marks Entry'!AT59","v":0},{"$f":"'Marks Entry'!AU59","v":0},{"$f":"'Marks Entry'!AV59","v":0},{"$f":"'Marks Entry'!AW59","v":0},{"$f":"'Marks Entry'!AX59","v":"E"},{"$f":"'Marks Entry'!AY59","v":0},{"$f":"'Marks Entry'!AZ59","v":0},{"$f":"'Marks Entry'!BA59","v":0},{"$f":"'Marks Entry'!BB59","v":0},{"$f":"'Marks Entry'!BC59","v":0},{"$f":"'Marks Entry'!BD59","v":0},{"$f":"'Marks Entry'!BE59","v":0},{"$f":"'Marks Entry'!BF59","v":0},{"$f":"'Marks Entry'!BG59","v":0},{"$f":"'Marks Entry'!BH59","v":0},{"$f":"'Marks Entry'!BI59","v":0},{"$f":"'Marks Entry'!BJ59","v":0},{"$f":"'Marks Entry'!BK59","v":0},{"$f":"'Marks Entry'!BL59","v":0},{"$f":"'Marks Entry'!BM59","v":0},{"$f":"'Marks Entry'!BN59","v":0},{"$f":"'Marks Entry'!BO59","v":0},{"$f":"'Marks Entry'!BP59","v":0},{"$f":"'Marks Entry'!BQ59","v":0},{"$f":"'Marks Entry'!BR59","v":"E"},{"$f":"'Marks Entry'!BS59","v":0},{"$f":"'Marks Entry'!BT59","v":0},{"$f":"'Marks Entry'!BU59","v":0},{"$f":"'Marks Entry'!BV59","v":0},{"$f":"'Marks Entry'!BW59","v":0},{"$f":"'Marks Entry'!BX59","v":0},{"$f":"'Marks Entry'!BY59","v":0},{"$f":"'Marks Entry'!BZ59","v":0},{"$f":"'Marks Entry'!CA59","v":0},{"$f":"'Marks Entry'!CB59","v":0},{"$f":"'Marks Entry'!CC59","v":0},{"$f":"'Marks Entry'!CD59","v":0},{"$f":"'Marks Entry'!CE59","v":0},{"$f":"'Marks Entry'!CF59","v":0},{"$f":"'Marks Entry'!CG59","v":0},{"$f":"'Marks Entry'!CH59","v":0},{"$f":"'Marks Entry'!CI59","v":0},{"$f":"'Marks Entry'!CJ59","v":0},{"$f":"'Marks Entry'!CK59","v":0},{"$f":"'Marks Entry'!CL59","v":"E"},{"$f":"'Marks Entry'!CM59","v":0},{"$f":"'Marks Entry'!CN59","v":0},{"$f":"'Marks Entry'!CO59","v":0},{"$f":"'Marks Entry'!CP59","v":0},{"$f":"'Marks Entry'!CQ59","v":0},{"$f":"'Marks Entry'!CR59","v":0},{"$f":"'Marks Entry'!CS59","v":0},{"$f":"'Marks Entry'!CT59","v":0},{"$f":"'Marks Entry'!CU59","v":0},{"$f":"'Marks Entry'!CV59","v":0},{"$f":"'Marks Entry'!CW59","v":0},{"$f":"'Marks Entry'!CX59","v":0},{"$f":"'Marks Entry'!CY59","v":0},{"$f":"'Marks Entry'!CZ59","v":0},{"$f":"'Marks Entry'!DA59","v":0},{"$f":"'Marks Entry'!DB59","v":0},{"$f":"'Marks Entry'!DC59","v":0},{"$f":"'Marks Entry'!DD59","v":0},{"$f":"'Marks Entry'!DE59","v":0},{"$f":"'Marks Entry'!DF59","v":"E"},{"$f":"'Marks Entry'!DG59","v":0},{"$f":"'Marks Entry'!DH59","v":0},{"$f":"'Marks Entry'!DI59","v":0},{"$f":"'Marks Entry'!DJ59","v":0},{"$f":"'Marks Entry'!DK59","v":0},{"$f":"'Marks Entry'!DL59","v":0},{"$f":"'Marks Entry'!DM59","v":0},{"$f":"'Marks Entry'!DN59","v":0},{"$f":"'Marks Entry'!DO59","v":0},{"$f":"'Marks Entry'!DP59","v":0},{"$f":"'Marks Entry'!DQ59","v":0},{"$f":"'Marks Entry'!DR59","v":0},{"$f":"'Marks Entry'!DS59","v":0},{"$f":"'Marks Entry'!DT59","v":0},{"$f":"'Marks Entry'!DU59","v":0},{"$f":"'Marks Entry'!DV59","v":0},{"$f":"'Marks Entry'!DW59","v":0},{"$f":"'Marks Entry'!DX59","v":0},{"$f":"'Marks Entry'!DY59","v":0},{"$f":"'Marks Entry'!DZ59","v":"E"},{"$f":"'Marks Entry'!EA59","v":0},{"$f":"'Marks Entry'!EB59","v":0},{"$f":"'Marks Entry'!EC59","v":0},{"$f":"'Marks Entry'!ED59","v":0},{"$f":"'Marks Entry'!EE59","v":0},{"$f":"'Marks Entry'!EF59","v":0},{"$f":"'Marks Entry'!EG59","v":0},{"$f":"'Marks Entry'!EJ59","v":0},{"$f":"'Marks Entry'!EK59","v":0},{"$f":"'Marks Entry'!EL59","v":0},{"$f":"'Marks Entry'!EM59","v":0},{"$f":"'Marks Entry'!EN59","v":0},{"$f":"'Marks Entry'!EO59","v":0},{"$f":"'Marks Entry'!EP59","v":0},{"$f":"'Marks Entry'!ES59","v":0},{"$f":"'Marks Entry'!ET59","v":0},{"$f":"'Marks Entry'!EU59","v":0},{"$f":"'Marks Entry'!EV59","v":0},{"$f":"'Marks Entry'!EW59","v":0},{"$f":"'Marks Entry'!EX59","v":0},{"$f":"'Marks Entry'!EY59","v":0},{"$f":"'Marks Entry'!FB59","v":0},{"$f":"'Marks Entry'!FC59","v":0},{"$f":"'Marks Entry'!FD59","v":0},{"$f":"'Marks Entry'!FE59","v":""},{"$f":"'Marks Entry'!FF59","v":0},{"$f":"'Marks Entry'!FG59","v":0},{"$f":"'Marks Entry'!FH59","v":""},{"$f":"IF(OR('Marks Entry'!FI59=\"First\",'Marks Entry'!FI59=\"Second\",'Marks Entry'!FI59=\"Third\"),'Marks Entry'!FI59,\"\")","v":""},{"$f":"'Marks Entry'!FJ59","v":""},{"$f":"'Marks Entry'!FK59","v":""},{"$f":"'Marks Entry'!FL59","v":""},{"$f":"'Marks Entry'!FM59","v":""},{"$f":"'Marks Entry'!FO59","v":0}]
[null,0,{"$f":"'Marks Entry'!D60","v":0},{"$f":"'Marks Entry'!E60","v":0},{"$f":"'Marks Entry'!F60","v":0},{"$f":"'Marks Entry'!G60","v":0},{"$f":"'Marks Entry'!H60","v":0},{"$f":"'Marks Entry'!I60","v":0},{"$f":"'Marks Entry'!J60","v":0},{"$f":"'Marks Entry'!K60","v":"00:00:00"},{"$f":"'Marks Entry'!L60","v":0},{"$f":"'Marks Entry'!M60","v":0},{"$f":"'Marks Entry'!N60","v":0},{"$f":"'Marks Entry'!O60","v":0},{"$f":"'Marks Entry'!P60","v":0},{"$f":"'Marks Entry'!Q60","v":0},{"$f":"'Marks Entry'!R60","v":0},{"$f":"'Marks Entry'!S60","v":0},{"$f":"'Marks Entry'!T60","v":0},{"$f":"'Marks Entry'!U60","v":0},{"$f":"'Marks Entry'!V60","v":0},{"$f":"'Marks Entry'!W60","v":0},{"$f":"'Marks Entry'!X60","v":0},{"$f":"'Marks Entry'!Y60","v":0},{"$f":"'Marks Entry'!Z60","v":0},{"$f":"'Marks Entry'!AA60","v":0},{"$f":"'Marks Entry'!AB60","v":0},{"$f":"'Marks Entry'!AC60","v":0},{"$f":"'Marks Entry'!AD60","v":""},{"$f":"'Marks Entry'!AE60","v":0},{"$f":"'Marks Entry'!AF60","v":0},{"$f":"'Marks Entry'!AG60","v":0},{"$f":"'Marks Entry'!AH60","v":0},{"$f":"'Marks Entry'!AI60","v":0},{"$f":"'Marks Entry'!AJ60","v":0},{"$f":"'Marks Entry'!AK60","v":0},{"$f":"'Marks Entry'!AL60","v":0},{"$f":"'Marks Entry'!AM60","v":0},{"$f":"'Marks Entry'!AN60","v":0},{"$f":"'Marks Entry'!AO60","v":0},{"$f":"'Marks Entry'!AP60","v":0},{"$f":"'Marks Entry'!AQ60","v":0},{"$f":"'Marks Entry'!AR60","v":0},{"$f":"'Marks Entry'!AS60","v":0},{"$f":"'Marks Entry'!AT60","v":0},{"$f":"'Marks Entry'!AU60","v":0},{"$f":"'Marks Entry'!AV60","v":0},{"$f":"'Marks Entry'!AW60","v":0},{"$f":"'Marks Entry'!AX60","v":"E"},{"$f":"'Marks Entry'!AY60","v":0},{"$f":"'Marks Entry'!AZ60","v":0},{"$f":"'Marks Entry'!BA60","v":0},{"$f":"'Marks Entry'!BB60","v":0},{"$f":"'Marks Entry'!BC60","v":0},{"$f":"'Marks Entry'!BD60","v":0},{"$f":"'Marks Entry'!BE60","v":0},{"$f":"'Marks Entry'!BF60","v":0},{"$f":"'Marks Entry'!BG60","v":0},{"$f":"'Marks Entry'!BH60","v":0},{"$f":"'Marks Entry'!BI60","v":0},{"$f":"'Marks Entry'!BJ60","v":0},{"$f":"'Marks Entry'!BK60","v":0},{"$f":"'Marks Entry'!BL60","v":0},{"$f":"'Marks Entry'!BM60","v":0},{"$f":"'Marks Entry'!BN60","v":0},{"$f":"'Marks Entry'!BO60","v":0},{"$f":"'Marks Entry'!BP60","v":0},{"$f":"'Marks Entry'!BQ60","v":0},{"$f":"'Marks Entry'!BR60","v":"E"},{"$f":"'Marks Entry'!BS60","v":0},{"$f":"'Marks Entry'!BT60","v":0},{"$f":"'Marks Entry'!BU60","v":0},{"$f":"'Marks Entry'!BV60","v":0},{"$f":"'Marks Entry'!BW60","v":0},{"$f":"'Marks Entry'!BX60","v":0},{"$f":"'Marks Entry'!BY60","v":0},{"$f":"'Marks Entry'!BZ60","v":0},{"$f":"'Marks Entry'!CA60","v":0},{"$f":"'Marks Entry'!CB60","v":0},{"$f":"'Marks Entry'!CC60","v":0},{"$f":"'Marks Entry'!CD60","v":0},{"$f":"'Marks Entry'!CE60","v":0},{"$f":"'Marks Entry'!CF60","v":0},{"$f":"'Marks Entry'!CG60","v":0},{"$f":"'Marks Entry'!CH60","v":0},{"$f":"'Marks Entry'!CI60","v":0},{"$f":"'Marks Entry'!CJ60","v":0},{"$f":"'Marks Entry'!CK60","v":0},{"$f":"'Marks Entry'!CL60","v":"E"},{"$f":"'Marks Entry'!CM60","v":0},{"$f":"'Marks Entry'!CN60","v":0},{"$f":"'Marks Entry'!CO60","v":0},{"$f":"'Marks Entry'!CP60","v":0},{"$f":"'Marks Entry'!CQ60","v":0},{"$f":"'Marks Entry'!CR60","v":0},{"$f":"'Marks Entry'!CS60","v":0},{"$f":"'Marks Entry'!CT60","v":0},{"$f":"'Marks Entry'!CU60","v":0},{"$f":"'Marks Entry'!CV60","v":0},{"$f":"'Marks Entry'!CW60","v":0},{"$f":"'Marks Entry'!CX60","v":0},{"$f":"'Marks Entry'!CY60","v":0},{"$f":"'Marks Entry'!CZ60","v":0},{"$f":"'Marks Entry'!DA60","v":0},{"$f":"'Marks Entry'!DB60","v":0},{"$f":"'Marks Entry'!DC60","v":0},{"$f":"'Marks Entry'!DD60","v":0},{"$f":"'Marks Entry'!DE60","v":0},{"$f":"'Marks Entry'!DF60","v":"E"},{"$f":"'Marks Entry'!DG60","v":0},{"$f":"'Marks Entry'!DH60","v":0},{"$f":"'Marks Entry'!DI60","v":0},{"$f":"'Marks Entry'!DJ60","v":0},{"$f":"'Marks Entry'!DK60","v":0},{"$f":"'Marks Entry'!DL60","v":0},{"$f":"'Marks Entry'!DM60","v":0},{"$f":"'Marks Entry'!DN60","v":0},{"$f":"'Marks Entry'!DO60","v":0},{"$f":"'Marks Entry'!DP60","v":0},{"$f":"'Marks Entry'!DQ60","v":0},{"$f":"'Marks Entry'!DR60","v":0},{"$f":"'Marks Entry'!DS60","v":0},{"$f":"'Marks Entry'!DT60","v":0},{"$f":"'Marks Entry'!DU60","v":0},{"$f":"'Marks Entry'!DV60","v":0},{"$f":"'Marks Entry'!DW60","v":0},{"$f":"'Marks Entry'!DX60","v":0},{"$f":"'Marks Entry'!DY60","v":0},{"$f":"'Marks Entry'!DZ60","v":"E"},{"$f":"'Marks Entry'!EA60","v":0},{"$f":"'Marks Entry'!EB60","v":0},{"$f":"'Marks Entry'!EC60","v":0},{"$f":"'Marks Entry'!ED60","v":0},{"$f":"'Marks Entry'!EE60","v":0},{"$f":"'Marks Entry'!EF60","v":0},{"$f":"'Marks Entry'!EG60","v":0},{"$f":"'Marks Entry'!EJ60","v":0},{"$f":"'Marks Entry'!EK60","v":0},{"$f":"'Marks Entry'!EL60","v":0},{"$f":"'Marks Entry'!EM60","v":0},{"$f":"'Marks Entry'!EN60","v":0},{"$f":"'Marks Entry'!EO60","v":0},{"$f":"'Marks Entry'!EP60","v":0},{"$f":"'Marks Entry'!ES60","v":0},{"$f":"'Marks Entry'!ET60","v":0},{"$f":"'Marks Entry'!EU60","v":0},{"$f":"'Marks Entry'!EV60","v":0},{"$f":"'Marks Entry'!EW60","v":0},{"$f":"'Marks Entry'!EX60","v":0},{"$f":"'Marks Entry'!EY60","v":0},{"$f":"'Marks Entry'!FB60","v":0},{"$f":"'Marks Entry'!FC60","v":0},{"$f":"'Marks Entry'!FD60","v":0},{"$f":"'Marks Entry'!FE60","v":""},{"$f":"'Marks Entry'!FF60","v":0},{"$f":"'Marks Entry'!FG60","v":0},{"$f":"'Marks Entry'!FH60","v":""},{"$f":"IF(OR('Marks Entry'!FI60=\"First\",'Marks Entry'!FI60=\"Second\",'Marks Entry'!FI60=\"Third\"),'Marks Entry'!FI60,\"\")","v":""},{"$f":"'Marks Entry'!FJ60","v":""},{"$f":"'Marks Entry'!FK60","v":""},{"$f":"'Marks Entry'!FL60","v":""},{"$f":"'Marks Entry'!FM60","v":""},{"$f":"'Marks Entry'!FO60","v":0}]
[null,0,{"$f":"'Marks Entry'!D61","v":0},{"$f":"'Marks Entry'!E61","v":0},{"$f":"'Marks Entry'!F61","v":0},{"$f":"'Marks Entry'!G61","v":0},{"$f":"'Marks Entry'!H61","v":0},{"$f":"'Marks Entry'!I61","v":0},{"$f":"'Marks Entry'!J61","v":0},{"$f":"'Marks Entry'!K61","v":"00:00:00"},{"$f":"'Marks Entry'!L61","v":0},{"$f":"'Marks Entry'!M61","v":0},{"$f":"'Marks Entry'!N61","v":0},{"$f":"'Marks Entry'!O61","v":0},{"$f":"'Marks Entry'!P61","v":0},{"$f":"'Marks Entry'!Q61","v":0},{"$f":"'Marks Entry'!R61","v":0},{"$f":"'Marks Entry'!S61","v":0},{"$f":"'Marks Entry'!T61","v":0},{"$f":"'Marks Entry'!U61","v":0},{"$f":"'Marks Entry'!V61","v":0},{"$f":"'Marks Entry'!W61","v":0},{"$f":"'Marks Entry'!X61","v":0},{"$f":"'Marks Entry'!Y61","v":0},{"$f":"'Marks Entry'!Z61","v":0},{"$f":"'Marks Entry'!AA61","v":0},{"$f":"'Marks Entry'!AB61","v":0},{"$f":"'Marks Entry'!AC61","v":0},{"$f":"'Marks Entry'!AD61","v":""},{"$f":"'Marks Entry'!AE61","v":0},{"$f":"'Marks Entry'!AF61","v":0},{"$f":"'Marks Entry'!AG61","v":0},{"$f":"'Marks Entry'!AH61","v":0},{"$f":"'Marks Entry'!AI61","v":0},{"$f":"'Marks Entry'!AJ61","v":0},{"$f":"'Marks Entry'!AK61","v":0},{"$f":"'Marks Entry'!AL61","v":0},{"$f":"'Marks Entry'!AM61","v":0},{"$f":"'Marks Entry'!AN61","v":0},{"$f":"'Marks Entry'!AO61","v":0},{"$f":"'Marks Entry'!AP61","v":0},{"$f":"'Marks Entry'!AQ61","v":0},{"$f":"'Marks Entry'!AR61","v":0},{"$f":"'Marks Entry'!AS61","v":0},{"$f":"'Marks Entry'!AT61","v":0},{"$f":"'Marks Entry'!AU61","v":0},{"$f":"'Marks Entry'!AV61","v":0},{"$f":"'Marks Entry'!AW61","v":0},{"$f":"'Marks Entry'!AX61","v":"E"},{"$f":"'Marks Entry'!AY61","v":0},{"$f":"'Marks Entry'!AZ61","v":0},{"$f":"'Marks Entry'!BA61","v":0},{"$f":"'Marks Entry'!BB61","v":0},{"$f":"'Marks Entry'!BC61","v":0},{"$f":"'Marks Entry'!BD61","v":0},{"$f":"'Marks Entry'!BE61","v":0},{"$f":"'Marks Entry'!BF61","v":0},{"$f":"'Marks Entry'!BG61","v":0},{"$f":"'Marks Entry'!BH61","v":0},{"$f":"'Marks Entry'!BI61","v":0},{"$f":"'Marks Entry'!BJ61","v":0},{"$f":"'Marks Entry'!BK61","v":0},{"$f":"'Marks Entry'!BL61","v":0},{"$f":"'Marks Entry'!BM61","v":0},{"$f":"'Marks Entry'!BN61","v":0},{"$f":"'Marks Entry'!BO61","v":0},{"$f":"'Marks Entry'!BP61","v":0},{"$f":"'Marks Entry'!BQ61","v":0},{"$f":"'Marks Entry'!BR61","v":"E"},{"$f":"'Marks Entry'!BS61","v":0},{"$f":"'Marks Entry'!BT61","v":0},{"$f":"'Marks Entry'!BU61","v":0},{"$f":"'Marks Entry'!BV61","v":0},{"$f":"'Marks Entry'!BW61","v":0},{"$f":"'Marks Entry'!BX61","v":0},{"$f":"'Marks Entry'!BY61","v":0},{"$f":"'Marks Entry'!BZ61","v":0},{"$f":"'Marks Entry'!CA61","v":0},{"$f":"'Marks Entry'!CB61","v":0},{"$f":"'Marks Entry'!CC61","v":0},{"$f":"'Marks Entry'!CD61","v":0},{"$f":"'Marks Entry'!CE61","v":0},{"$f":"'Marks Entry'!CF61","v":0},{"$f":"'Marks Entry'!CG61","v":0},{"$f":"'Marks Entry'!CH61","v":0},{"$f":"'Marks Entry'!CI61","v":0},{"$f":"'Marks Entry'!CJ61","v":0},{"$f":"'Marks Entry'!CK61","v":0},{"$f":"'Marks Entry'!CL61","v":"E"},{"$f":"'Marks Entry'!CM61","v":0},{"$f":"'Marks Entry'!CN61","v":0},{"$f":"'Marks Entry'!CO61","v":0},{"$f":"'Marks Entry'!CP61","v":0},{"$f":"'Marks Entry'!CQ61","v":0},{"$f":"'Marks Entry'!CR61","v":0},{"$f":"'Marks Entry'!CS61","v":0},{"$f":"'Marks Entry'!CT61","v":0},{"$f":"'Marks Entry'!CU61","v":0},{"$f":"'Marks Entry'!CV61","v":0},{"$f":"'Marks Entry'!CW61","v":0},{"$f":"'Marks Entry'!CX61","v":0},{"$f":"'Marks Entry'!CY61","v":0},{"$f":"'Marks Entry'!CZ61","v":0},{"$f":"'Marks Entry'!DA61","v":0},{"$f":"'Marks Entry'!DB61","v":0},{"$f":"'Marks Entry'!DC61","v":0},{"$f":"'Marks Entry'!DD61","v":0},{"$f":"'Marks Entry'!DE61","v":0},{"$f":"'Marks Entry'!DF61","v":"E"},{"$f":"'Marks Entry'!DG61","v":0},{"$f":"'Marks Entry'!DH61","v":0},{"$f":"'Marks Entry'!DI61","v":0},{"$f":"'Marks Entry'!DJ61","v":0},{"$f":"'Marks Entry'!DK61","v":0},{"$f":"'Marks Entry'!DL61","v":0},{"$f":"'Marks Entry'!DM61","v":0},{"$f":"'Marks Entry'!DN61","v":0},{"$f":"'Marks Entry'!DO61","v":0},{"$f":"'Marks Entry'!DP61","v":0},{"$f":"'Marks Entry'!DQ61","v":0},{"$f":"'Marks Entry'!DR61","v":0},{"$f":"'Marks Entry'!DS61","v":0},{"$f":"'Marks Entry'!DT61","v":0},{"$f":"'Marks Entry'!DU61","v":0},{"$f":"'Marks Entry'!DV61","v":0},{"$f":"'Marks Entry'!DW61","v":0},{"$f":"'Marks Entry'!DX61","v":0},{"$f":"'Marks Entry'!DY61","v":0},{"$f":"'Marks Entry'!DZ61","v":"E"},{"$f":"'Marks Entry'!EA61","v":0},{"$f":"'Marks Entry'!EB61","v":0},{"$f":"'Marks Entry'!EC61","v":0},{"$f":"'Marks Entry'!ED61","v":0},{"$f":"'Marks Entry'!EE61","v":0},{"$f":"'Marks Entry'!EF61","v":0},{"$f":"'Marks Entry'!EG61","v":0},{"$f":"'Marks Entry'!EJ61","v":0},{"$f":"'Marks Entry'!EK61","v":0},{"$f":"'Marks Entry'!EL61","v":0},{"$f":"'Marks Entry'!EM61","v":0},{"$f":"'Marks Entry'!EN61","v":0},{"$f":"'Marks Entry'!EO61","v":0},{"$f":"'Marks Entry'!EP61","v":0},{"$f":"'Marks Entry'!ES61","v":0},{"$f":"'Marks Entry'!ET61","v":0},{"$f":"'Marks Entry'!EU61","v":0},{"$f":"'Marks Entry'!EV61","v":0},{"$f":"'Marks Entry'!EW61","v":0},{"$f":"'Marks Entry'!EX61","v":0},{"$f":"'Marks Entry'!EY61","v":0},{"$f":"'Marks Entry'!FB61","v":0},{"$f":"'Marks Entry'!FC61","v":0},{"$f":"'Marks Entry'!FD61","v":0},{"$f":"'Marks Entry'!FE61","v":""},{"$f":"'Marks Entry'!FF61","v":0},{"$f":"'Marks Entry'!FG61","v":0},{"$f":"'Marks Entry'!FH61","v":""},{"$f":"IF(OR('Marks Entry'!FI61=\"First\",'Marks Entry'!FI61=\"Second\",'Marks Entry'!FI61=\"Third\"),'Marks Entry'!FI61,\"\")","v":""},{"$f":"'Marks Entry'!FJ61","v":""},{"$f":"'Marks Entry'!FK61","v":""},{"$f":"'Marks Entry'!FL61","v":""},{"$f":"'Marks Entry'!FM61","v":""},{"$f":"'Marks Entry'!FO61","v":0}]
[null,0,{"$f":"'Marks Entry'!D62","v":0},{"$f":"'Marks Entry'!E62","v":0},{"$f":"'Marks Entry'!F62","v":0},{"$f":"'Marks Entry'!G62","v":0},{"$f":"'Marks Entry'!H62","v":0},{"$f":"'Marks Entry'!I62","v":0},{"$f":"'Marks Entry'!J62","v":0},{"$f":"'Marks Entry'!K62","v":"00:00:00"},{"$f":"'Marks Entry'!L62","v":0},{"$f":"'Marks Entry'!M62","v":0},{"$f":"'Marks Entry'!N62","v":0},{"$f":"'Marks Entry'!O62","v":0},{"$f":"'Marks Entry'!P62","v":0},{"$f":"'Marks Entry'!Q62","v":0},{"$f":"'Marks Entry'!R62","v":0},{"$f":"'Marks Entry'!S62","v":0},{"$f":"'Marks Entry'!T62","v":0},{"$f":"'Marks Entry'!U62","v":0},{"$f":"'Marks Entry'!V62","v":0},{"$f":"'Marks Entry'!W62","v":0},{"$f":"'Marks Entry'!X62","v":0},{"$f":"'Marks Entry'!Y62","v":0},{"$f":"'Marks Entry'!Z62","v":0},{"$f":"'Marks Entry'!AA62","v":0},{"$f":"'Marks Entry'!AB62","v":0},{"$f":"'Marks Entry'!AC62","v":0},{"$f":"'Marks Entry'!AD62","v":""},{"$f":"'Marks Entry'!AE62","v":0},{"$f":"'Marks Entry'!AF62","v":0},{"$f":"'Marks Entry'!AG62","v":0},{"$f":"'Marks Entry'!AH62","v":0},{"$f":"'Marks Entry'!AI62","v":0},{"$f":"'Marks Entry'!AJ62","v":0},{"$f":"'Marks Entry'!AK62","v":0},{"$f":"'Marks Entry'!AL62","v":0},{"$f":"'Marks Entry'!AM62","v":0},{"$f":"'Marks Entry'!AN62","v":0},{"$f":"'Marks Entry'!AO62","v":0},{"$f":"'Marks Entry'!AP62","v":0},{"$f":"'Marks Entry'!AQ62","v":0},{"$f":"'Marks Entry'!AR62","v":0},{"$f":"'Marks Entry'!AS62","v":0},{"$f":"'Marks Entry'!AT62","v":0},{"$f":"'Marks Entry'!AU62","v":0},{"$f":"'Marks Entry'!AV62","v":0},{"$f":"'Marks Entry'!AW62","v":0},{"$f":"'Marks Entry'!AX62","v":"E"},{"$f":"'Marks Entry'!AY62","v":0},{"$f":"'Marks Entry'!AZ62","v":0},{"$f":"'Marks Entry'!BA62","v":0},{"$f":"'Marks Entry'!BB62","v":0},{"$f":"'Marks Entry'!BC62","v":0},{"$f":"'Marks Entry'!BD62","v":0},{"$f":"'Marks Entry'!BE62","v":0},{"$f":"'Marks Entry'!BF62","v":0},{"$f":"'Marks Entry'!BG62","v":0},{"$f":"'Marks Entry'!BH62","v":0},{"$f":"'Marks Entry'!BI62","v":0},{"$f":"'Marks Entry'!BJ62","v":0},{"$f":"'Marks Entry'!BK62","v":0},{"$f":"'Marks Entry'!BL62","v":0},{"$f":"'Marks Entry'!BM62","v":0},{"$f":"'Marks Entry'!BN62","v":0},{"$f":"'Marks Entry'!BO62","v":0},{"$f":"'Marks Entry'!BP62","v":0},{"$f":"'Marks Entry'!BQ62","v":0},{"$f":"'Marks Entry'!BR62","v":"E"},{"$f":"'Marks Entry'!BS62","v":0},{"$f":"'Marks Entry'!BT62","v":0},{"$f":"'Marks Entry'!BU62","v":0},{"$f":"'Marks Entry'!BV62","v":0},{"$f":"'Marks Entry'!BW62","v":0},{"$f":"'Marks Entry'!BX62","v":0},{"$f":"'Marks Entry'!BY62","v":0},{"$f":"'Marks Entry'!BZ62","v":0},{"$f":"'Marks Entry'!CA62","v":0},{"$f":"'Marks Entry'!CB62","v":0},{"$f":"'Marks Entry'!CC62","v":0},{"$f":"'Marks Entry'!CD62","v":0},{"$f":"'Marks Entry'!CE62","v":0},{"$f":"'Marks Entry'!CF62","v":0},{"$f":"'Marks Entry'!CG62","v":0},{"$f":"'Marks Entry'!CH62","v":0},{"$f":"'Marks Entry'!CI62","v":0},{"$f":"'Marks Entry'!CJ62","v":0},{"$f":"'Marks Entry'!CK62","v":0},{"$f":"'Marks Entry'!CL62","v":"E"},{"$f":"'Marks Entry'!CM62","v":0},{"$f":"'Marks Entry'!CN62","v":0},{"$f":"'Marks Entry'!CO62","v":0},{"$f":"'Marks Entry'!CP62","v":0},{"$f":"'Marks Entry'!CQ62","v":0},{"$f":"'Marks Entry'!CR62","v":0},{"$f":"'Marks Entry'!CS62","v":0},{"$f":"'Marks Entry'!CT62","v":0},{"$f":"'Marks Entry'!CU62","v":0},{"$f":"'Marks Entry'!CV62","v":0},{"$f":"'Marks Entry'!CW62","v":0},{"$f":"'Marks Entry'!CX62","v":0},{"$f":"'Marks Entry'!CY62","v":0},{"$f":"'Marks Entry'!CZ62","v":0},{"$f":"'Marks Entry'!DA62","v":0},{"$f":"'Marks Entry'!DB62","v":0},{"$f":"'Marks Entry'!DC62","v":0},{"$f":"'Marks Entry'!DD62","v":0},{"$f":"'Marks Entry'!DE62","v":0},{"$f":"'Marks Entry'!DF62","v":"E"},{"$f":"'Marks Entry'!DG62","v":0},{"$f":"'Marks Entry'!DH62","v":0},{"$f":"'Marks Entry'!DI62","v":0},{"$f":"'Marks Entry'!DJ62","v":0},{"$f":"'Marks Entry'!DK62","v":0},{"$f":"'Marks Entry'!DL62","v":0},{"$f":"'Marks Entry'!DM62","v":0},{"$f":"'Marks Entry'!DN62","v":0},{"$f":"'Marks Entry'!DO62","v":0},{"$f":"'Marks Entry'!DP62","v":0},{"$f":"'Marks Entry'!DQ62","v":0},{"$f":"'Marks Entry'!DR62","v":0},{"$f":"'Marks Entry'!DS62","v":0},{"$f":"'Marks Entry'!DT62","v":0},{"$f":"'Marks Entry'!DU62","v":0},{"$f":"'Marks Entry'!DV62","v":0},{"$f":"'Marks Entry'!DW62","v":0},{"$f":"'Marks Entry'!DX62","v":0},{"$f":"'Marks Entry'!DY62","v":0},{"$f":"'Marks Entry'!DZ62","v":"E"},{"$f":"'Marks Entry'!EA62","v":0},{"$f":"'Marks Entry'!EB62","v":0},{"$f":"'Marks Entry'!EC62","v":0},{"$f":"'Marks Entry'!ED62","v":0},{"$f":"'Marks Entry'!EE62","v":0},{"$f":"'Marks Entry'!EF62","v":0},{"$f":"'Marks Entry'!EG62","v":0},{"$f":"'Marks Entry'!EJ62","v":0},{"$f":"'Marks Entry'!EK62","v":0},{"$f":"'Marks Entry'!EL62","v":0},{"$f":"'Marks Entry'!EM62","v":0},{"$f":"'Marks Entry'!EN62","v":0},{"$f":"'Marks Entry'!EO62","v":0},{"$f":"'Marks Entry'!EP62","v":0},{"$f":"'Marks Entry'!ES62","v":0},{"$f":"'Marks Entry'!ET62","v":0},{"$f":"'Marks Entry'!EU62","v":0},{"$f":"'Marks Entry'!EV62","v":0},{"$f":"'Marks Entry'!EW62","v":0},{"$f":"'Marks Entry'!EX62","v":0},{"$f":"'Marks Entry'!EY62","v":0},{"$f":"'Marks Entry'!FB62","v":0},{"$f":"'Marks Entry'!FC62","v":0},{"$f":"'Marks Entry'!FD62","v":0},{"$f":"'Marks Entry'!FE62","v":""},{"$f":"'Marks Entry'!FF62","v":0},{"$f":"'Marks Entry'!FG62","v":0},{"$f":"'Marks Entry'!FH62","v":""},{"$f":"IF(OR('Marks Entry'!FI62=\"First\",'Marks Entry'!FI62=\"Second\",'Marks Entry'!FI62=\"Third\"),'Marks Entry'!FI62,\"\")","v":""},{"$f":"'Marks Entry'!FJ62","v":""},{"$f":"'Marks Entry'!FK62","v":""},{"$f":"'Marks Entry'!FL62","v":""},{"$f":"'Marks Entry'!FM62","v":""},{"$f":"'Marks Entry'!FO62","v":0}]
[null,0,{"$f":"'Marks Entry'!D63","v":0},{"$f":"'Marks Entry'!E63","v":0},{"$f":"'Marks Entry'!F63","v":0},{"$f":"'Marks Entry'!G63","v":0},{"$f":"'Marks Entry'!H63","v":0},{"$f":"'Marks Entry'!I63","v":0},{"$f":"'Marks Entry'!J63","v":0},{"$f":"'Marks Entry'!K63","v":"00:00:00"},{"$f":"'Marks Entry'!L63","v":0},{"$f":"'Marks Entry'!M63","v":0},{"$f":"'Marks Entry'!N63","v":0},{"$f":"'Marks Entry'!O63","v":0},{"$f":"'Marks Entry'!P63","v":0},{"$f":"'Marks Entry'!Q63","v":0},{"$f":"'Marks Entry'!R63","v":0},{"$f":"'Marks Entry'!S63","v":0},{"$f":"'Marks Entry'!T63","v":0},{"$f":"'Marks Entry'!U63","v":0},{"$f":"'Marks Entry'!V63","v":0},{"$f":"'Marks Entry'!W63","v":0},{"$f":"'Marks Entry'!X63","v":0},{"$f":"'Marks Entry'!Y63","v":0},{"$f":"'Marks Entry'!Z63","v":0},{"$f":"'Marks Entry'!AA63","v":0},{"$f":"'Marks Entry'!AB63","v":0},{"$f":"'Marks Entry'!AC63","v":0},{"$f":"'Marks Entry'!AD63","v":""},{"$f":"'Marks Entry'!AE63","v":0},{"$f":"'Marks Entry'!AF63","v":0},{"$f":"'Marks Entry'!AG63","v":0},{"$f":"'Marks Entry'!AH63","v":0},{"$f":"'Marks Entry'!AI63","v":0},{"$f":"'Marks Entry'!AJ63","v":0},{"$f":"'Marks Entry'!AK63","v":0},{"$f":"'Marks Entry'!AL63","v":0},{"$f":"'Marks Entry'!AM63","v":0},{"$f":"'Marks Entry'!AN63","v":0},{"$f":"'Marks Entry'!AO63","v":0},{"$f":"'Marks Entry'!AP63","v":0},{"$f":"'Marks Entry'!AQ63","v":0},{"$f":"'Marks Entry'!AR63","v":0},{"$f":"'Marks Entry'!AS63","v":0},{"$f":"'Marks Entry'!AT63","v":0},{"$f":"'Marks Entry'!AU63","v":0},{"$f":"'Marks Entry'!AV63","v":0},{"$f":"'Marks Entry'!AW63","v":0},{"$f":"'Marks Entry'!AX63","v":"E"},{"$f":"'Marks Entry'!AY63","v":0},{"$f":"'Marks Entry'!AZ63","v":0},{"$f":"'Marks Entry'!BA63","v":0},{"$f":"'Marks Entry'!BB63","v":0},{"$f":"'Marks Entry'!BC63","v":0},{"$f":"'Marks Entry'!BD63","v":0},{"$f":"'Marks Entry'!BE63","v":0},{"$f":"'Marks Entry'!BF63","v":0},{"$f":"'Marks Entry'!BG63","v":0},{"$f":"'Marks Entry'!BH63","v":0},{"$f":"'Marks Entry'!BI63","v":0},{"$f":"'Marks Entry'!BJ63","v":0},{"$f":"'Marks Entry'!BK63","v":0},{"$f":"'Marks Entry'!BL63","v":0},{"$f":"'Marks Entry'!BM63","v":0},{"$f":"'Marks Entry'!BN63","v":0},{"$f":"'Marks Entry'!BO63","v":0},{"$f":"'Marks Entry'!BP63","v":0},{"$f":"'Marks Entry'!BQ63","v":0},{"$f":"'Marks Entry'!BR63","v":"E"},{"$f":"'Marks Entry'!BS63","v":0},{"$f":"'Marks Entry'!BT63","v":0},{"$f":"'Marks Entry'!BU63","v":0},{"$f":"'Marks Entry'!BV63","v":0},{"$f":"'Marks Entry'!BW63","v":0},{"$f":"'Marks Entry'!BX63","v":0},{"$f":"'Marks Entry'!BY63","v":0},{"$f":"'Marks Entry'!BZ63","v":0},{"$f":"'Marks Entry'!CA63","v":0},{"$f":"'Marks Entry'!CB63","v":0},{"$f":"'Marks Entry'!CC63","v":0},{"$f":"'Marks Entry'!CD63","v":0},{"$f":"'Marks Entry'!CE63","v":0},{"$f":"'Marks Entry'!CF63","v":0},{"$f":"'Marks Entry'!CG63","v":0},{"$f":"'Marks Entry'!CH63","v":0},{"$f":"'Marks Entry'!CI63","v":0},{"$f":"'Marks Entry'!CJ63","v":0},{"$f":"'Marks Entry'!CK63","v":0},{"$f":"'Marks Entry'!CL63","v":"E"},{"$f":"'Marks Entry'!CM63","v":0},{"$f":"'Marks Entry'!CN63","v":0},{"$f":"'Marks Entry'!CO63","v":0},{"$f":"'Marks Entry'!CP63","v":0},{"$f":"'Marks Entry'!CQ63","v":0},{"$f":"'Marks Entry'!CR63","v":0},{"$f":"'Marks Entry'!CS63","v":0},{"$f":"'Marks Entry'!CT63","v":0},{"$f":"'Marks Entry'!CU63","v":0},{"$f":"'Marks Entry'!CV63","v":0},{"$f":"'Marks Entry'!CW63","v":0},{"$f":"'Marks Entry'!CX63","v":0},{"$f":"'Marks Entry'!CY63","v":0},{"$f":"'Marks Entry'!CZ63","v":0},{"$f":"'Marks Entry'!DA63","v":0},{"$f":"'Marks Entry'!DB63","v":0},{"$f":"'Marks Entry'!DC63","v":0},{"$f":"'Marks Entry'!DD63","v":0},{"$f":"'Marks Entry'!DE63","v":0},{"$f":"'Marks Entry'!DF63","v":"E"},{"$f":"'Marks Entry'!DG63","v":0},{"$f":"'Marks Entry'!DH63","v":0},{"$f":"'Marks Entry'!DI63","v":0},{"$f":"'Marks Entry'!DJ63","v":0},{"$f":"'Marks Entry'!DK63","v":0},{"$f":"'Marks Entry'!DL63","v":0},{"$f":"'Marks Entry'!DM63","v":0},{"$f":"'Marks Entry'!DN63","v":0},{"$f":"'Marks Entry'!DO63","v":0},{"$f":"'Marks Entry'!DP63","v":0},{"$f":"'Marks Entry'!DQ63","v":0},{"$f":"'Marks Entry'!DR63","v":0},{"$f":"'Marks Entry'!DS63","v":0},{"$f":"'Marks Entry'!DT63","v":0},{"$f":"'Marks Entry'!DU63","v":0},{"$f":"'Marks Entry'!DV63","v":0},{"$f":"'Marks Entry'!DW63","v":0},{"$f":"'Marks Entry'!DX63","v":0},{"$f":"'Marks Entry'!DY63","v":0},{"$f":"'Marks Entry'!DZ63","v":"E"},{"$f":"'Marks Entry'!EA63","v":0},{"$f":"'Marks Entry'!EB63","v":0},{"$f":"'Marks Entry'!EC63","v":0},{"$f":"'Marks Entry'!ED63","v":0},{"$f":"'Marks Entry'!EE63","v":0},{"$f":"'Marks Entry'!EF63","v":0},{"$f":"'Marks Entry'!EG63","v":0},{"$f":"'Marks Entry'!EJ63","v":0},{"$f":"'Marks Entry'!EK63","v":0},{"$f":"'Marks Entry'!EL63","v":0},{"$f":"'Marks Entry'!EM63","v":0},{"$f":"'Marks Entry'!EN63","v":0},{"$f":"'Marks Entry'!EO63","v":0},{"$f":"'Marks Entry'!EP63","v":0},{"$f":"'Marks Entry'!ES63","v":0},{"$f":"'Marks Entry'!ET63","v":0},{"$f":"'Marks Entry'!EU63","v":0},{"$f":"'Marks Entry'!EV63","v":0},{"$f":"'Marks Entry'!EW63","v":0},{"$f":"'Marks Entry'!EX63","v":0},{"$f":"'Marks Entry'!EY63","v":0},{"$f":"'Marks Entry'!FB63","v":0},{"$f":"'Marks Entry'!FC63","v":0},{"$f":"'Marks Entry'!FD63","v":0},{"$f":"'Marks Entry'!FE63","v":""},{"$f":"'Marks Entry'!FF63","v":0},{"$f":"'Marks Entry'!FG63","v":0},{"$f":"'Marks Entry'!FH63","v":""},{"$f":"IF(OR('Marks Entry'!FI63=\"First\",'Marks Entry'!FI63=\"Second\",'Marks Entry'!FI63=\"Third\"),'Marks Entry'!FI63,\"\")","v":""},{"$f":"'Marks Entry'!FJ63","v":""},{"$f":"'Marks Entry'!FK63","v":""},{"$f":"'Marks Entry'!FL63","v":""},{"$f":"'Marks Entry'!FM63","v":""},{"$f":"'Marks Entry'!FO63","v":0}]
[null,0,{"$f":"'Marks Entry'!D64","v":0},{"$f":"'Marks Entry'!E64","v":0},{"$f":"'Marks Entry'!F64","v":0},{"$f":"'Marks Entry'!G64","v":0},{"$f":"'Marks Entry'!H64","v":0},{"$f":"'Marks Entry'!I64","v":0},{"$f":"'Marks Entry'!J64","v":0},{"$f":"'Marks Entry'!K64","v":"00:00:00"},{"$f":"'Marks Entry'!L64","v":0},{"$f":"'Marks Entry'!M64","v":0},{"$f":"'Marks Entry'!N64","v":0},{"$f":"'Marks Entry'!O64","v":0},{"$f":"'Marks Entry'!P64","v":0},{"$f":"'Marks Entry'!Q64","v":0},{"$f":"'Marks Entry'!R64","v":0},{"$f":"'Marks Entry'!S64","v":0},{"$f":"'Marks Entry'!T64","v":0},{"$f":"'Marks Entry'!U64","v":0},{"$f":"'Marks Entry'!V64","v":0},{"$f":"'Marks Entry'!W64","v":0},{"$f":"'Marks Entry'!X64","v":0},{"$f":"'Marks Entry'!Y64","v":0},{"$f":"'Marks Entry'!Z64","v":0},{"$f":"'Marks Entry'!AA64","v":0},{"$f":"'Marks Entry'!AB64","v":0},{"$f":"'Marks Entry'!AC64","v":0},{"$f":"'Marks Entry'!AD64","v":""},{"$f":"'Marks Entry'!AE64","v":0},{"$f":"'Marks Entry'!AF64","v":0},{"$f":"'Marks Entry'!AG64","v":0},{"$f":"'Marks Entry'!AH64","v":0},{"$f":"'Marks Entry'!AI64","v":0},{"$f":"'Marks Entry'!AJ64","v":0},{"$f":"'Marks Entry'!AK64","v":0},{"$f":"'Marks Entry'!AL64","v":0},{"$f":"'Marks Entry'!AM64","v":0},{"$f":"'Marks Entry'!AN64","v":0},{"$f":"'Marks Entry'!AO64","v":0},{"$f":"'Marks Entry'!AP64","v":0},{"$f":"'Marks Entry'!AQ64","v":0},{"$f":"'Marks Entry'!AR64","v":0},{"$f":"'Marks Entry'!AS64","v":0},{"$f":"'Marks Entry'!AT64","v":0},{"$f":"'Marks Entry'!AU64","v":0},{"$f":"'Marks Entry'!AV64","v":0},{"$f":"'Marks Entry'!AW64","v":0},{"$f":"'Marks Entry'!AX64","v":"E"},{"$f":"'Marks Entry'!AY64","v":0},{"$f":"'Marks Entry'!AZ64","v":0},{"$f":"'Marks Entry'!BA64","v":0},{"$f":"'Marks Entry'!BB64","v":0},{"$f":"'Marks Entry'!BC64","v":0},{"$f":"'Marks Entry'!BD64","v":0},{"$f":"'Marks Entry'!BE64","v":0},{"$f":"'Marks Entry'!BF64","v":0},{"$f":"'Marks Entry'!BG64","v":0},{"$f":"'Marks Entry'!BH64","v":0},{"$f":"'Marks Entry'!BI64","v":0},{"$f":"'Marks Entry'!BJ64","v":0},{"$f":"'Marks Entry'!BK64","v":0},{"$f":"'Marks Entry'!BL64","v":0},{"$f":"'Marks Entry'!BM64","v":0},{"$f":"'Marks Entry'!BN64","v":0},{"$f":"'Marks Entry'!BO64","v":0},{"$f":"'Marks Entry'!BP64","v":0},{"$f":"'Marks Entry'!BQ64","v":0},{"$f":"'Marks Entry'!BR64","v":"E"},{"$f":"'Marks Entry'!BS64","v":0},{"$f":"'Marks Entry'!BT64","v":0},{"$f":"'Marks Entry'!BU64","v":0},{"$f":"'Marks Entry'!BV64","v":0},{"$f":"'Marks Entry'!BW64","v":0},{"$f":"'Marks Entry'!BX64","v":0},{"$f":"'Marks Entry'!BY64","v":0},{"$f":"'Marks Entry'!BZ64","v":0},{"$f":"'Marks Entry'!CA64","v":0},{"$f":"'Marks Entry'!CB64","v":0},{"$f":"'Marks Entry'!CC64","v":0},{"$f":"'Marks Entry'!CD64","v":0},{"$f":"'Marks Entry'!CE64","v":0},{"$f":"'Marks Entry'!CF64","v":0},{"$f":"'Marks Entry'!CG64","v":0},{"$f":"'Marks Entry'!CH64","v":0},{"$f":"'Marks Entry'!CI64","v":0},{"$f":"'Marks Entry'!CJ64","v":0},{"$f":"'Marks Entry'!CK64","v":0},{"$f":"'Marks Entry'!CL64","v":"E"},{"$f":"'Marks Entry'!CM64","v":0},{"$f":"'Marks Entry'!CN64","v":0},{"$f":"'Marks Entry'!CO64","v":0},{"$f":"'Marks Entry'!CP64","v":0},{"$f":"'Marks Entry'!CQ64","v":0},{"$f":"'Marks Entry'!CR64","v":0},{"$f":"'Marks Entry'!CS64","v":0},{"$f":"'Marks Entry'!CT64","v":0},{"$f":"'Marks Entry'!CU64","v":0},{"$f":"'Marks Entry'!CV64","v":0},{"$f":"'Marks Entry'!CW64","v":0},{"$f":"'Marks Entry'!CX64","v":0},{"$f":"'Marks Entry'!CY64","v":0},{"$f":"'Marks Entry'!CZ64","v":0},{"$f":"'Marks Entry'!DA64","v":0},{"$f":"'Marks Entry'!DB64","v":0},{"$f":"'Marks Entry'!DC64","v":0},{"$f":"'Marks Entry'!DD64","v":0},{"$f":"'Marks Entry'!DE64","v":0},{"$f":"'Marks Entry'!DF64","v":"E"},{"$f":"'Marks Entry'!DG64","v":0},{"$f":"'Marks Entry'!DH64","v":0},{"$f":"'Marks Entry'!DI64","v":0},{"$f":"'Marks Entry'!DJ64","v":0},{"$f":"'Marks Entry'!DK64","v":0},{"$f":"'Marks Entry'!DL64","v":0},{"$f":"'Marks Entry'!DM64","v":0},{"$f":"'Marks Entry'!DN64","v":0},{"$f":"'Marks Entry'!DO64","v":0},{"$f":"'Marks Entry'!DP64","v":0},{"$f":"'Marks Entry'!DQ64","v":0},{"$f":"'Marks Entry'!DR64","v":0},{"$f":"'Marks Entry'!DS64","v":0},{"$f":"'Marks Entry'!DT64","v":0},{"$f":"'Marks Entry'!DU64","v":0},{"$f":"'Marks Entry'!DV64","v":0},{"$f":"'Marks Entry'!DW64","v":0},{"$f":"'Marks Entry'!DX64","v":0},{"$f":"'Marks Entry'!DY64","v":0},{"$f":"'Marks Entry'!DZ64","v":"E"},{"$f":"'Marks Entry'!EA64","v":0},{"$f":"'Marks Entry'!EB64","v":0},{"$f":"'Marks Entry'!EC64","v":0},{"$f":"'Marks Entry'!ED64","v":0},{"$f":"'Marks Entry'!EE64","v":0},{"$f":"'Marks Entry'!EF64","v":0},{"$f":"'Marks Entry'!EG64","v":0},{"$f":"'Marks Entry'!EJ64","v":0},{"$f":"'Marks Entry'!EK64","v":0},{"$f":"'Marks Entry'!EL64","v":0},{"$f":"'Marks Entry'!EM64","v":0},{"$f":"'Marks Entry'!EN64","v":0},{"$f":"'Marks Entry'!EO64","v":0},{"$f":"'Marks Entry'!EP64","v":0},{"$f":"'Marks Entry'!ES64","v":0},{"$f":"'Marks Entry'!ET64","v":0},{"$f":"'Marks Entry'!EU64","v":0},{"$f":"'Marks Entry'!EV64","v":0},{"$f":"'Marks Entry'!EW64","v":0},{"$f":"'Marks Entry'!EX64","v":0},{"$f":"'Marks Entry'!EY64","v":0},{"$f":"'Marks Entry'!FB64","v":0},{"$f":"'Marks Entry'!FC64","v":0},{"$f":"'Marks Entry'!FD64","v":0},{"$f":"'Marks Entry'!FE64","v":""},{"$f":"'Marks Entry'!FF64","v":0},{"$f":"'Marks Entry'!FG64","v":0},{"$f":"'Marks Entry'!FH64","v":""},{"$f":"IF(OR('Marks Entry'!FI64=\"First\",'Marks Entry'!FI64=\"Second\",'Marks Entry'!FI64=\"Third\"),'Marks Entry'!FI64,\"\")","v":""},{"$f":"'Marks Entry'!FJ64","v":""},{"$f":"'Marks Entry'!FK64","v":""},{"$f":"'Marks Entry'!FL64","v":""},{"$f":"'Marks Entry'!FM64","v":""},{"$f":"'Marks Entry'!FO64","v":0}]
[null,0,{"$f":"'Marks Entry'!D65","v":0},{"$f":"'Marks Entry'!E65","v":0},{"$f":"'Marks Entry'!F65","v":0},{"$f":"'Marks Entry'!G65","v":0},{"$f":"'Marks Entry'!H65","v":0},{"$f":"'Marks Entry'!I65","v":0},{"$f":"'Marks Entry'!J65","v":0},{"$f":"'Marks Entry'!K65","v":"00:00:00"},{"$f":"'Marks Entry'!L65","v":0},{"$f":"'Marks Entry'!M65","v":0},{"$f":"'Marks Entry'!N65","v":0},{"$f":"'Marks Entry'!O65","v":0},{"$f":"'Marks Entry'!P65","v":0},{"$f":"'Marks Entry'!Q65","v":0},{"$f":"'Marks Entry'!R65","v":0},{"$f":"'Marks Entry'!S65","v":0},{"$f":"'Marks Entry'!T65","v":0},{"$f":"'Marks Entry'!U65","v":0},{"$f":"'Marks Entry'!V65","v":0},{"$f":"'Marks Entry'!W65","v":0},{"$f":"'Marks Entry'!X65","v":0},{"$f":"'Marks Entry'!Y65","v":0},{"$f":"'Marks Entry'!Z65","v":0},{"$f":"'Marks Entry'!AA65","v":0},{"$f":"'Marks Entry'!AB65","v":0},{"$f":"'Marks Entry'!AC65","v":0},{"$f":"'Marks Entry'!AD65","v":""},{"$f":"'Marks Entry'!AE65","v":0},{"$f":"'Marks Entry'!AF65","v":0},{"$f":"'Marks Entry'!AG65","v":0},{"$f":"'Marks Entry'!AH65","v":0},{"$f":"'Marks Entry'!AI65","v":0},{"$f":"'Marks Entry'!AJ65","v":0},{"$f":"'Marks Entry'!AK65","v":0},{"$f":"'Marks Entry'!AL65","v":0},{"$f":"'Marks Entry'!AM65","v":0},{"$f":"'Marks Entry'!AN65","v":0},{"$f":"'Marks Entry'!AO65","v":0},{"$f":"'Marks Entry'!AP65","v":0},{"$f":"'Marks Entry'!AQ65","v":0},{"$f":"'Marks Entry'!AR65","v":0},{"$f":"'Marks Entry'!AS65","v":0},{"$f":"'Marks Entry'!AT65","v":0},{"$f":"'Marks Entry'!AU65","v":0},{"$f":"'Marks Entry'!AV65","v":0},{"$f":"'Marks Entry'!AW65","v":0},{"$f":"'Marks Entry'!AX65","v":"E"},{"$f":"'Marks Entry'!AY65","v":0},{"$f":"'Marks Entry'!AZ65","v":0},{"$f":"'Marks Entry'!BA65","v":0},{"$f":"'Marks Entry'!BB65","v":0},{"$f":"'Marks Entry'!BC65","v":0},{"$f":"'Marks Entry'!BD65","v":0},{"$f":"'Marks Entry'!BE65","v":0},{"$f":"'Marks Entry'!BF65","v":0},{"$f":"'Marks Entry'!BG65","v":0},{"$f":"'Marks Entry'!BH65","v":0},{"$f":"'Marks Entry'!BI65","v":0},{"$f":"'Marks Entry'!BJ65","v":0},{"$f":"'Marks Entry'!BK65","v":0},{"$f":"'Marks Entry'!BL65","v":0},{"$f":"'Marks Entry'!BM65","v":0},{"$f":"'Marks Entry'!BN65","v":0},{"$f":"'Marks Entry'!BO65","v":0},{"$f":"'Marks Entry'!BP65","v":0},{"$f":"'Marks Entry'!BQ65","v":0},{"$f":"'Marks Entry'!BR65","v":"E"},{"$f":"'Marks Entry'!BS65","v":0},{"$f":"'Marks Entry'!BT65","v":0},{"$f":"'Marks Entry'!BU65","v":0},{"$f":"'Marks Entry'!BV65","v":0},{"$f":"'Marks Entry'!BW65","v":0},{"$f":"'Marks Entry'!BX65","v":0},{"$f":"'Marks Entry'!BY65","v":0},{"$f":"'Marks Entry'!BZ65","v":0},{"$f":"'Marks Entry'!CA65","v":0},{"$f":"'Marks Entry'!CB65","v":0},{"$f":"'Marks Entry'!CC65","v":0},{"$f":"'Marks Entry'!CD65","v":0},{"$f":"'Marks Entry'!CE65","v":0},{"$f":"'Marks Entry'!CF65","v":0},{"$f":"'Marks Entry'!CG65","v":0},{"$f":"'Marks Entry'!CH65","v":0},{"$f":"'Marks Entry'!CI65","v":0},{"$f":"'Marks Entry'!CJ65","v":0},{"$f":"'Marks Entry'!CK65","v":0},{"$f":"'Marks Entry'!CL65","v":"E"},{"$f":"'Marks Entry'!CM65","v":0},{"$f":"'Marks Entry'!CN65","v":0},{"$f":"'Marks Entry'!CO65","v":0},{"$f":"'Marks Entry'!CP65","v":0},{"$f":"'Marks Entry'!CQ65","v":0},{"$f":"'Marks Entry'!CR65","v":0},{"$f":"'Marks Entry'!CS65","v":0},{"$f":"'Marks Entry'!CT65","v":0},{"$f":"'Marks Entry'!CU65","v":0},{"$f":"'Marks Entry'!CV65","v":0},{"$f":"'Marks Entry'!CW65","v":0},{"$f":"'Marks Entry'!CX65","v":0},{"$f":"'Marks Entry'!CY65","v":0},{"$f":"'Marks Entry'!CZ65","v":0},{"$f":"'Marks Entry'!DA65","v":0},{"$f":"'Marks Entry'!DB65","v":0},{"$f":"'Marks Entry'!DC65","v":0},{"$f":"'Marks Entry'!DD65","v":0},{"$f":"'Marks Entry'!DE65","v":0},{"$f":"'Marks Entry'!DF65","v":"E"},{"$f":"'Marks Entry'!DG65","v":0},{"$f":"'Marks Entry'!DH65","v":0},{"$f":"'Marks Entry'!DI65","v":0},{"$f":"'Marks Entry'!DJ65","v":0},{"$f":"'Marks Entry'!DK65","v":0},{"$f":"'Marks Entry'!DL65","v":0},{"$f":"'Marks Entry'!DM65","v":0},{"$f":"'Marks Entry'!DN65","v":0},{"$f":"'Marks Entry'!DO65","v":0},{"$f":"'Marks Entry'!DP65","v":0},{"$f":"'Marks Entry'!DQ65","v":0},{"$f":"'Marks Entry'!DR65","v":0},{"$f":"'Marks Entry'!DS65","v":0},{"$f":"'Marks Entry'!DT65","v":0},{"$f":"'Marks Entry'!DU65","v":0},{"$f":"'Marks Entry'!DV65","v":0},{"$f":"'Marks Entry'!DW65","v":0},{"$f":"'Marks Entry'!DX65","v":0},{"$f":"'Marks Entry'!DY65","v":0},{"$f":"'Marks Entry'!DZ65","v":"E"},{"$f":"'Marks Entry'!EA65","v":0},{"$f":"'Marks Entry'!EB65","v":0},{"$f":"'Marks Entry'!EC65","v":0},{"$f":"'Marks Entry'!ED65","v":0},{"$f":"'Marks Entry'!EE65","v":0},{"$f":"'Marks Entry'!EF65","v":0},{"$f":"'Marks Entry'!EG65","v":0},{"$f":"'Marks Entry'!EJ65","v":0},{"$f":"'Marks Entry'!EK65","v":0},{"$f":"'Marks Entry'!EL65","v":0},{"$f":"'Marks Entry'!EM65","v":0},{"$f":"'Marks Entry'!EN65","v":0},{"$f":"'Marks Entry'!EO65","v":0},{"$f":"'Marks Entry'!EP65","v":0},{"$f":"'Marks Entry'!ES65","v":0},{"$f":"'Marks Entry'!ET65","v":0},{"$f":"'Marks Entry'!EU65","v":0},{"$f":"'Marks Entry'!EV65","v":0},{"$f":"'Marks Entry'!EW65","v":0},{"$f":"'Marks Entry'!EX65","v":0},{"$f":"'Marks Entry'!EY65","v":0},{"$f":"'Marks Entry'!FB65","v":0},{"$f":"'Marks Entry'!FC65","v":0},{"$f":"'Marks Entry'!FD65","v":0},{"$f":"'Marks Entry'!FE65","v":""},{"$f":"'Marks Entry'!FF65","v":0},{"$f":"'Marks Entry'!FG65","v":0},{"$f":"'Marks Entry'!FH65","v":""},{"$f":"IF(OR('Marks Entry'!FI65=\"First\",'Marks Entry'!FI65=\"Second\",'Marks Entry'!FI65=\"Third\"),'Marks Entry'!FI65,\"\")","v":""},{"$f":"'Marks Entry'!FJ65","v":""},{"$f":"'Marks Entry'!FK65","v":""},{"$f":"'Marks Entry'!FL65","v":""},{"$f":"'Marks Entry'!FM65","v":""},{"$f":"'Marks Entry'!FO65","v":0}]
[null,0,{"$f":"'Marks Entry'!D66","v":0},{"$f":"'Marks Entry'!E66","v":0},{"$f":"'Marks Entry'!F66","v":0},{"$f":"'Marks Entry'!G66","v":0},{"$f":"'Marks Entry'!H66","v":0},{"$f":"'Marks Entry'!I66","v":0},{"$f":"'Marks Entry'!J66","v":0},{"$f":"'Marks Entry'!K66","v":"00:00:00"},{"$f":"'Marks Entry'!L66","v":0},{"$f":"'Marks Entry'!M66","v":0},{"$f":"'Marks Entry'!N66","v":0},{"$f":"'Marks Entry'!O66","v":0},{"$f":"'Marks Entry'!P66","v":0},{"$f":"'Marks Entry'!Q66","v":0},{"$f":"'Marks Entry'!R66","v":0},{"$f":"'Marks Entry'!S66","v":0},{"$f":"'Marks Entry'!T66","v":0},{"$f":"'Marks Entry'!U66","v":0},{"$f":"'Marks Entry'!V66","v":0},{"$f":"'Marks Entry'!W66","v":0},{"$f":"'Marks Entry'!X66","v":0},{"$f":"'Marks Entry'!Y66","v":0},{"$f":"'Marks Entry'!Z66","v":0},{"$f":"'Marks Entry'!AA66","v":0},{"$f":"'Marks Entry'!AB66","v":0},{"$f":"'Marks Entry'!AC66","v":0},{"$f":"'Marks Entry'!AD66","v":""},{"$f":"'Marks Entry'!AE66","v":0},{"$f":"'Marks Entry'!AF66","v":0},{"$f":"'Marks Entry'!AG66","v":0},{"$f":"'Marks Entry'!AH66","v":0},{"$f":"'Marks Entry'!AI66","v":0},{"$f":"'Marks Entry'!AJ66","v":0},{"$f":"'Marks Entry'!AK66","v":0},{"$f":"'Marks Entry'!AL66","v":0},{"$f":"'Marks Entry'!AM66","v":0},{"$f":"'Marks Entry'!AN66","v":0},{"$f":"'Marks Entry'!AO66","v":0},{"$f":"'Marks Entry'!AP66","v":0},{"$f":"'Marks Entry'!AQ66","v":0},{"$f":"'Marks Entry'!AR66","v":0},{"$f":"'Marks Entry'!AS66","v":0},{"$f":"'Marks Entry'!AT66","v":0},{"$f":"'Marks Entry'!AU66","v":0},{"$f":"'Marks Entry'!AV66","v":0},{"$f":"'Marks Entry'!AW66","v":0},{"$f":"'Marks Entry'!AX66","v":"E"},{"$f":"'Marks Entry'!AY66","v":0},{"$f":"'Marks Entry'!AZ66","v":0},{"$f":"'Marks Entry'!BA66","v":0},{"$f":"'Marks Entry'!BB66","v":0},{"$f":"'Marks Entry'!BC66","v":0},{"$f":"'Marks Entry'!BD66","v":0},{"$f":"'Marks Entry'!BE66","v":0},{"$f":"'Marks Entry'!BF66","v":0},{"$f":"'Marks Entry'!BG66","v":0},{"$f":"'Marks Entry'!BH66","v":0},{"$f":"'Marks Entry'!BI66","v":0},{"$f":"'Marks Entry'!BJ66","v":0},{"$f":"'Marks Entry'!BK66","v":0},{"$f":"'Marks Entry'!BL66","v":0},{"$f":"'Marks Entry'!BM66","v":0},{"$f":"'Marks Entry'!BN66","v":0},{"$f":"'Marks Entry'!BO66","v":0},{"$f":"'Marks Entry'!BP66","v":0},{"$f":"'Marks Entry'!BQ66","v":0},{"$f":"'Marks Entry'!BR66","v":"E"},{"$f":"'Marks Entry'!BS66","v":0},{"$f":"'Marks Entry'!BT66","v":0},{"$f":"'Marks Entry'!BU66","v":0},{"$f":"'Marks Entry'!BV66","v":0},{"$f":"'Marks Entry'!BW66","v":0},{"$f":"'Marks Entry'!BX66","v":0},{"$f":"'Marks Entry'!BY66","v":0},{"$f":"'Marks Entry'!BZ66","v":0},{"$f":"'Marks Entry'!CA66","v":0},{"$f":"'Marks Entry'!CB66","v":0},{"$f":"'Marks Entry'!CC66","v":0},{"$f":"'Marks Entry'!CD66","v":0},{"$f":"'Marks Entry'!CE66","v":0},{"$f":"'Marks Entry'!CF66","v":0},{"$f":"'Marks Entry'!CG66","v":0},{"$f":"'Marks Entry'!CH66","v":0},{"$f":"'Marks Entry'!CI66","v":0},{"$f":"'Marks Entry'!CJ66","v":0},{"$f":"'Marks Entry'!CK66","v":0},{"$f":"'Marks Entry'!CL66","v":"E"},{"$f":"'Marks Entry'!CM66","v":0},{"$f":"'Marks Entry'!CN66","v":0},{"$f":"'Marks Entry'!CO66","v":0},{"$f":"'Marks Entry'!CP66","v":0},{"$f":"'Marks Entry'!CQ66","v":0},{"$f":"'Marks Entry'!CR66","v":0},{"$f":"'Marks Entry'!CS66","v":0},{"$f":"'Marks Entry'!CT66","v":0},{"$f":"'Marks Entry'!CU66","v":0},{"$f":"'Marks Entry'!CV66","v":0},{"$f":"'Marks Entry'!CW66","v":0},{"$f":"'Marks Entry'!CX66","v":0},{"$f":"'Marks Entry'!CY66","v":0},{"$f":"'Marks Entry'!CZ66","v":0},{"$f":"'Marks Entry'!DA66","v":0},{"$f":"'Marks Entry'!DB66","v":0},{"$f":"'Marks Entry'!DC66","v":0},{"$f":"'Marks Entry'!DD66","v":0},{"$f":"'Marks Entry'!DE66","v":0},{"$f":"'Marks Entry'!DF66","v":"E"},{"$f":"'Marks Entry'!DG66","v":0},{"$f":"'Marks Entry'!DH66","v":0},{"$f":"'Marks Entry'!DI66","v":0},{"$f":"'Marks Entry'!DJ66","v":0},{"$f":"'Marks Entry'!DK66","v":0},{"$f":"'Marks Entry'!DL66","v":0},{"$f":"'Marks Entry'!DM66","v":0},{"$f":"'Marks Entry'!DN66","v":0},{"$f":"'Marks Entry'!DO66","v":0},{"$f":"'Marks Entry'!DP66","v":0},{"$f":"'Marks Entry'!DQ66","v":0},{"$f":"'Marks Entry'!DR66","v":0},{"$f":"'Marks Entry'!DS66","v":0},{"$f":"'Marks Entry'!DT66","v":0},{"$f":"'Marks Entry'!DU66","v":0},{"$f":"'Marks Entry'!DV66","v":0},{"$f":"'Marks Entry'!DW66","v":0},{"$f":"'Marks Entry'!DX66","v":0},{"$f":"'Marks Entry'!DY66","v":0},{"$f":"'Marks Entry'!DZ66","v":"E"},{"$f":"'Marks Entry'!EA66","v":0},{"$f":"'Marks Entry'!EB66","v":0},{"$f":"'Marks Entry'!EC66","v":0},{"$f":"'Marks Entry'!ED66","v":0},{"$f":"'Marks Entry'!EE66","v":0},{"$f":"'Marks Entry'!EF66","v":0},{"$f":"'Marks Entry'!EG66","v":0},{"$f":"'Marks Entry'!EJ66","v":0},{"$f":"'Marks Entry'!EK66","v":0},{"$f":"'Marks Entry'!EL66","v":0},{"$f":"'Marks Entry'!EM66","v":0},{"$f":"'Marks Entry'!EN66","v":0},{"$f":"'Marks Entry'!EO66","v":0},{"$f":"'Marks Entry'!EP66","v":0},{"$f":"'Marks Entry'!ES66","v":0},{"$f":"'Marks Entry'!ET66","v":0},{"$f":"'Marks Entry'!EU66","v":0},{"$f":"'Marks Entry'!EV66","v":0},{"$f":"'Marks Entry'!EW66","v":0},{"$f":"'Marks Entry'!EX66","v":0},{"$f":"'Marks Entry'!EY66","v":0},{"$f":"'Marks Entry'!FB66","v":0},{"$f":"'Marks Entry'!FC66","v":0},{"$f":"'Marks Entry'!FD66","v":0},{"$f":"'Marks Entry'!FE66","v":""},{"$f":"'Marks Entry'!FF66","v":0},{"$f":"'Marks Entry'!FG66","v":0},{"$f":"'Marks Entry'!FH66","v":""},{"$f":"IF(OR('Marks Entry'!FI66=\"First\",'Marks Entry'!FI66=\"Second\",'Marks Entry'!FI66=\"Third\"),'Marks Entry'!FI66,\"\")","v":""},{"$f":"'Marks Entry'!FJ66","v":""},{"$f":"'Marks Entry'!FK66","v":""},{"$f":"'Marks Entry'!FL66","v":""},{"$f":"'Marks Entry'!FM66","v":""},{"$f":"'Marks Entry'!FO66","v":0}]
[null,0,{"$f":"'Marks Entry'!D67","v":0},{"$f":"'Marks Entry'!E67","v":0},{"$f":"'Marks Entry'!F67","v":0},{"$f":"'Marks Entry'!G67","v":0},{"$f":"'Marks Entry'!H67","v":0},{"$f":"'Marks Entry'!I67","v":0},{"$f":"'Marks Entry'!J67","v":0},{"$f":"'Marks Entry'!K67","v":"00:00:00"},{"$f":"'Marks Entry'!L67","v":0},{"$f":"'Marks Entry'!M67","v":0},{"$f":"'Marks Entry'!N67","v":0},{"$f":"'Marks Entry'!O67","v":0},{"$f":"'Marks Entry'!P67","v":0},{"$f":"'Marks Entry'!Q67","v":0},{"$f":"'Marks Entry'!R67","v":0},{"$f":"'Marks Entry'!S67","v":0},{"$f":"'Marks Entry'!T67","v":0},{"$f":"'Marks Entry'!U67","v":0},{"$f":"'Marks Entry'!V67","v":0},{"$f":"'Marks Entry'!W67","v":0},{"$f":"'Marks Entry'!X67","v":0},{"$f":"'Marks Entry'!Y67","v":0},{"$f":"'Marks Entry'!Z67","v":0},{"$f":"'Marks Entry'!AA67","v":0},{"$f":"'Marks Entry'!AB67","v":0},{"$f":"'Marks Entry'!AC67","v":0},{"$f":"'Marks Entry'!AD67","v":""},{"$f":"'Marks Entry'!AE67","v":0},{"$f":"'Marks Entry'!AF67","v":0},{"$f":"'Marks Entry'!AG67","v":0},{"$f":"'Marks Entry'!AH67","v":0},{"$f":"'Marks Entry'!AI67","v":0},{"$f":"'Marks Entry'!AJ67","v":0},{"$f":"'Marks Entry'!AK67","v":0},{"$f":"'Marks Entry'!AL67","v":0},{"$f":"'Marks Entry'!AM67","v":0},{"$f":"'Marks Entry'!AN67","v":0},{"$f":"'Marks Entry'!AO67","v":0},{"$f":"'Marks Entry'!AP67","v":0},{"$f":"'Marks Entry'!AQ67","v":0},{"$f":"'Marks Entry'!AR67","v":0},{"$f":"'Marks Entry'!AS67","v":0},{"$f":"'Marks Entry'!AT67","v":0},{"$f":"'Marks Entry'!AU67","v":0},{"$f":"'Marks Entry'!AV67","v":0},{"$f":"'Marks Entry'!AW67","v":0},{"$f":"'Marks Entry'!AX67","v":"E"},{"$f":"'Marks Entry'!AY67","v":0},{"$f":"'Marks Entry'!AZ67","v":0},{"$f":"'Marks Entry'!BA67","v":0},{"$f":"'Marks Entry'!BB67","v":0},{"$f":"'Marks Entry'!BC67","v":0},{"$f":"'Marks Entry'!BD67","v":0},{"$f":"'Marks Entry'!BE67","v":0},{"$f":"'Marks Entry'!BF67","v":0},{"$f":"'Marks Entry'!BG67","v":0},{"$f":"'Marks Entry'!BH67","v":0},{"$f":"'Marks Entry'!BI67","v":0},{"$f":"'Marks Entry'!BJ67","v":0},{"$f":"'Marks Entry'!BK67","v":0},{"$f":"'Marks Entry'!BL67","v":0},{"$f":"'Marks Entry'!BM67","v":0},{"$f":"'Marks Entry'!BN67","v":0},{"$f":"'Marks Entry'!BO67","v":0},{"$f":"'Marks Entry'!BP67","v":0},{"$f":"'Marks Entry'!BQ67","v":0},{"$f":"'Marks Entry'!BR67","v":"E"},{"$f":"'Marks Entry'!BS67","v":0},{"$f":"'Marks Entry'!BT67","v":0},{"$f":"'Marks Entry'!BU67","v":0},{"$f":"'Marks Entry'!BV67","v":0},{"$f":"'Marks Entry'!BW67","v":0},{"$f":"'Marks Entry'!BX67","v":0},{"$f":"'Marks Entry'!BY67","v":0},{"$f":"'Marks Entry'!BZ67","v":0},{"$f":"'Marks Entry'!CA67","v":0},{"$f":"'Marks Entry'!CB67","v":0},{"$f":"'Marks Entry'!CC67","v":0},{"$f":"'Marks Entry'!CD67","v":0},{"$f":"'Marks Entry'!CE67","v":0},{"$f":"'Marks Entry'!CF67","v":0},{"$f":"'Marks Entry'!CG67","v":0},{"$f":"'Marks Entry'!CH67","v":0},{"$f":"'Marks Entry'!CI67","v":0},{"$f":"'Marks Entry'!CJ67","v":0},{"$f":"'Marks Entry'!CK67","v":0},{"$f":"'Marks Entry'!CL67","v":"E"},{"$f":"'Marks Entry'!CM67","v":0},{"$f":"'Marks Entry'!CN67","v":0},{"$f":"'Marks Entry'!CO67","v":0},{"$f":"'Marks Entry'!CP67","v":0},{"$f":"'Marks Entry'!CQ67","v":0},{"$f":"'Marks Entry'!CR67","v":0},{"$f":"'Marks Entry'!CS67","v":0},{"$f":"'Marks Entry'!CT67","v":0},{"$f":"'Marks Entry'!CU67","v":0},{"$f":"'Marks Entry'!CV67","v":0},{"$f":"'Marks Entry'!CW67","v":0},{"$f":"'Marks Entry'!CX67","v":0},{"$f":"'Marks Entry'!CY67","v":0},{"$f":"'Marks Entry'!CZ67","v":0},{"$f":"'Marks Entry'!DA67","v":0},{"$f":"'Marks Entry'!DB67","v":0},{"$f":"'Marks Entry'!DC67","v":0},{"$f":"'Marks Entry'!DD67","v":0},{"$f":"'Marks Entry'!DE67","v":0},{"$f":"'Marks Entry'!DF67","v":"E"},{"$f":"'Marks Entry'!DG67","v":0},{"$f":"'Marks Entry'!DH67","v":0},{"$f":"'Marks Entry'!DI67","v":0},{"$f":"'Marks Entry'!DJ67","v":0},{"$f":"'Marks Entry'!DK67","v":0},{"$f":"'Marks Entry'!DL67","v":0},{"$f":"'Marks Entry'!DM67","v":0},{"$f":"'Marks Entry'!DN67","v":0},{"$f":"'Marks Entry'!DO67","v":0},{"$f":"'Marks Entry'!DP67","v":0},{"$f":"'Marks Entry'!DQ67","v":0},{"$f":"'Marks Entry'!DR67","v":0},{"$f":"'Marks Entry'!DS67","v":0},{"$f":"'Marks Entry'!DT67","v":0},{"$f":"'Marks Entry'!DU67","v":0},{"$f":"'Marks Entry'!DV67","v":0},{"$f":"'Marks Entry'!DW67","v":0},{"$f":"'Marks Entry'!DX67","v":0},{"$f":"'Marks Entry'!DY67","v":0},{"$f":"'Marks Entry'!DZ67","v":"E"},{"$f":"'Marks Entry'!EA67","v":0},{"$f":"'Marks Entry'!EB67","v":0},{"$f":"'Marks Entry'!EC67","v":0},{"$f":"'Marks Entry'!ED67","v":0},{"$f":"'Marks Entry'!EE67","v":0},{"$f":"'Marks Entry'!EF67","v":0},{"$f":"'Marks Entry'!EG67","v":0},{"$f":"'Marks Entry'!EJ67","v":0},{"$f":"'Marks Entry'!EK67","v":0},{"$f":"'Marks Entry'!EL67","v":0},{"$f":"'Marks Entry'!EM67","v":0},{"$f":"'Marks Entry'!EN67","v":0},{"$f":"'Marks Entry'!EO67","v":0},{"$f":"'Marks Entry'!EP67","v":0},{"$f":"'Marks Entry'!ES67","v":0},{"$f":"'Marks Entry'!ET67","v":0},{"$f":"'Marks Entry'!EU67","v":0},{"$f":"'Marks Entry'!EV67","v":0},{"$f":"'Marks Entry'!EW67","v":0},{"$f":"'Marks Entry'!EX67","v":0},{"$f":"'Marks Entry'!EY67","v":0},{"$f":"'Marks Entry'!FB67","v":0},{"$f":"'Marks Entry'!FC67","v":0},{"$f":"'Marks Entry'!FD67","v":0},{"$f":"'Marks Entry'!FE67","v":""},{"$f":"'Marks Entry'!FF67","v":0},{"$f":"'Marks Entry'!FG67","v":0},{"$f":"'Marks Entry'!FH67","v":""},{"$f":"IF(OR('Marks Entry'!FI67=\"First\",'Marks Entry'!FI67=\"Second\",'Marks Entry'!FI67=\"Third\"),'Marks Entry'!FI67,\"\")","v":""},{"$f":"'Marks Entry'!FJ67","v":""},{"$f":"'Marks Entry'!FK67","v":""},{"$f":"'Marks Entry'!FL67","v":""},{"$f":"'Marks Entry'!FM67","v":""},{"$f":"'Marks Entry'!FO67","v":0}]
[null,0,{"$f":"'Marks Entry'!D68","v":0},{"$f":"'Marks Entry'!E68","v":0},{"$f":"'Marks Entry'!F68","v":0},{"$f":"'Marks Entry'!G68","v":0},{"$f":"'Marks Entry'!H68","v":0},{"$f":"'Marks Entry'!I68","v":0},{"$f":"'Marks Entry'!J68","v":0},{"$f":"'Marks Entry'!K68","v":"00:00:00"},{"$f":"'Marks Entry'!L68","v":0},{"$f":"'Marks Entry'!M68","v":0},{"$f":"'Marks Entry'!N68","v":0},{"$f":"'Marks Entry'!O68","v":0},{"$f":"'Marks Entry'!P68","v":0},{"$f":"'Marks Entry'!Q68","v":0},{"$f":"'Marks Entry'!R68","v":0},{"$f":"'Marks Entry'!S68","v":0},{"$f":"'Marks Entry'!T68","v":0},{"$f":"'Marks Entry'!U68","v":0},{"$f":"'Marks Entry'!V68","v":0},{"$f":"'Marks Entry'!W68","v":0},{"$f":"'Marks Entry'!X68","v":0},{"$f":"'Marks Entry'!Y68","v":0},{"$f":"'Marks Entry'!Z68","v":0},{"$f":"'Marks Entry'!AA68","v":0},{"$f":"'Marks Entry'!AB68","v":0},{"$f":"'Marks Entry'!AC68","v":0},{"$f":"'Marks Entry'!AD68","v":""},{"$f":"'Marks Entry'!AE68","v":0},{"$f":"'Marks Entry'!AF68","v":0},{"$f":"'Marks Entry'!AG68","v":0},{"$f":"'Marks Entry'!AH68","v":0},{"$f":"'Marks Entry'!AI68","v":0},{"$f":"'Marks Entry'!AJ68","v":0},{"$f":"'Marks Entry'!AK68","v":0},{"$f":"'Marks Entry'!AL68","v":0},{"$f":"'Marks Entry'!AM68","v":0},{"$f":"'Marks Entry'!AN68","v":0},{"$f":"'Marks Entry'!AO68","v":0},{"$f":"'Marks Entry'!AP68","v":0},{"$f":"'Marks Entry'!AQ68","v":0},{"$f":"'Marks Entry'!AR68","v":0},{"$f":"'Marks Entry'!AS68","v":0},{"$f":"'Marks Entry'!AT68","v":0},{"$f":"'Marks Entry'!AU68","v":0},{"$f":"'Marks Entry'!AV68","v":0},{"$f":"'Marks Entry'!AW68","v":0},{"$f":"'Marks Entry'!AX68","v":"E"},{"$f":"'Marks Entry'!AY68","v":0},{"$f":"'Marks Entry'!AZ68","v":0},{"$f":"'Marks Entry'!BA68","v":0},{"$f":"'Marks Entry'!BB68","v":0},{"$f":"'Marks Entry'!BC68","v":0},{"$f":"'Marks Entry'!BD68","v":0},{"$f":"'Marks Entry'!BE68","v":0},{"$f":"'Marks Entry'!BF68","v":0},{"$f":"'Marks Entry'!BG68","v":0},{"$f":"'Marks Entry'!BH68","v":0},{"$f":"'Marks Entry'!BI68","v":0},{"$f":"'Marks Entry'!BJ68","v":0},{"$f":"'Marks Entry'!BK68","v":0},{"$f":"'Marks Entry'!BL68","v":0},{"$f":"'Marks Entry'!BM68","v":0},{"$f":"'Marks Entry'!BN68","v":0},{"$f":"'Marks Entry'!BO68","v":0},{"$f":"'Marks Entry'!BP68","v":0},{"$f":"'Marks Entry'!BQ68","v":0},{"$f":"'Marks Entry'!BR68","v":"E"},{"$f":"'Marks Entry'!BS68","v":0},{"$f":"'Marks Entry'!BT68","v":0},{"$f":"'Marks Entry'!BU68","v":0},{"$f":"'Marks Entry'!BV68","v":0},{"$f":"'Marks Entry'!BW68","v":0},{"$f":"'Marks Entry'!BX68","v":0},{"$f":"'Marks Entry'!BY68","v":0},{"$f":"'Marks Entry'!BZ68","v":0},{"$f":"'Marks Entry'!CA68","v":0},{"$f":"'Marks Entry'!CB68","v":0},{"$f":"'Marks Entry'!CC68","v":0},{"$f":"'Marks Entry'!CD68","v":0},{"$f":"'Marks Entry'!CE68","v":0},{"$f":"'Marks Entry'!CF68","v":0},{"$f":"'Marks Entry'!CG68","v":0},{"$f":"'Marks Entry'!CH68","v":0},{"$f":"'Marks Entry'!CI68","v":0},{"$f":"'Marks Entry'!CJ68","v":0},{"$f":"'Marks Entry'!CK68","v":0},{"$f":"'Marks Entry'!CL68","v":"E"},{"$f":"'Marks Entry'!CM68","v":0},{"$f":"'Marks Entry'!CN68","v":0},{"$f":"'Marks Entry'!CO68","v":0},{"$f":"'Marks Entry'!CP68","v":0},{"$f":"'Marks Entry'!CQ68","v":0},{"$f":"'Marks Entry'!CR68","v":0},{"$f":"'Marks Entry'!CS68","v":0},{"$f":"'Marks Entry'!CT68","v":0},{"$f":"'Marks Entry'!CU68","v":0},{"$f":"'Marks Entry'!CV68","v":0},{"$f":"'Marks Entry'!CW68","v":0},{"$f":"'Marks Entry'!CX68","v":0},{"$f":"'Marks Entry'!CY68","v":0},{"$f":"'Marks Entry'!CZ68","v":0},{"$f":"'Marks Entry'!DA68","v":0},{"$f":"'Marks Entry'!DB68","v":0},{"$f":"'Marks Entry'!DC68","v":0},{"$f":"'Marks Entry'!DD68","v":0},{"$f":"'Marks Entry'!DE68","v":0},{"$f":"'Marks Entry'!DF68","v":"E"},{"$f":"'Marks Entry'!DG68","v":0},{"$f":"'Marks Entry'!DH68","v":0},{"$f":"'Marks Entry'!DI68","v":0},{"$f":"'Marks Entry'!DJ68","v":0},{"$f":"'Marks Entry'!DK68","v":0},{"$f":"'Marks Entry'!DL68","v":0},{"$f":"'Marks Entry'!DM68","v":0},{"$f":"'Marks Entry'!DN68","v":0},{"$f":"'Marks Entry'!DO68","v":0},{"$f":"'Marks Entry'!DP68","v":0},{"$f":"'Marks Entry'!DQ68","v":0},{"$f":"'Marks Entry'!DR68","v":0},{"$f":"'Marks Entry'!DS68","v":0},{"$f":"'Marks Entry'!DT68","v":0},{"$f":"'Marks Entry'!DU68","v":0},{"$f":"'Marks Entry'!DV68","v":0},{"$f":"'Marks Entry'!DW68","v":0},{"$f":"'Marks Entry'!DX68","v":0},{"$f":"'Marks Entry'!DY68","v":0},{"$f":"'Marks Entry'!DZ68","v":"E"},{"$f":"'Marks Entry'!EA68","v":0},{"$f":"'Marks Entry'!EB68","v":0},{"$f":"'Marks Entry'!EC68","v":0},{"$f":"'Marks Entry'!ED68","v":0},{"$f":"'Marks Entry'!EE68","v":0},{"$f":"'Marks Entry'!EF68","v":0},{"$f":"'Marks Entry'!EG68","v":0},{"$f":"'Marks Entry'!EJ68","v":0},{"$f":"'Marks Entry'!EK68","v":0},{"$f":"'Marks Entry'!EL68","v":0},{"$f":"'Marks Entry'!EM68","v":0},{"$f":"'Marks Entry'!EN68","v":0},{"$f":"'Marks Entry'!EO68","v":0},{"$f":"'Marks Entry'!EP68","v":0},{"$f":"'Marks Entry'!ES68","v":0},{"$f":"'Marks Entry'!ET68","v":0},{"$f":"'Marks Entry'!EU68","v":0},{"$f":"'Marks Entry'!EV68","v":0},{"$f":"'Marks Entry'!EW68","v":0},{"$f":"'Marks Entry'!EX68","v":0},{"$f":"'Marks Entry'!EY68","v":0},{"$f":"'Marks Entry'!FB68","v":0},{"$f":"'Marks Entry'!FC68","v":0},{"$f":"'Marks Entry'!FD68","v":0},{"$f":"'Marks Entry'!FE68","v":""},{"$f":"'Marks Entry'!FF68","v":0},{"$f":"'Marks Entry'!FG68","v":0},{"$f":"'Marks Entry'!FH68","v":""},{"$f":"IF(OR('Marks Entry'!FI68=\"First\",'Marks Entry'!FI68=\"Second\",'Marks Entry'!FI68=\"Third\"),'Marks Entry'!FI68,\"\")","v":""},{"$f":"'Marks Entry'!FJ68","v":""},{"$f":"'Marks Entry'!FK68","v":""},{"$f":"'Marks Entry'!FL68","v":""},{"$f":"'Marks Entry'!FM68","v":""},{"$f":"'Marks Entry'!FO68","v":0}]
[null,0,{"$f":"'Marks Entry'!D69","v":0},{"$f":"'Marks Entry'!E69","v":0},{"$f":"'Marks Entry'!F69","v":0},{"$f":"'Marks Entry'!G69","v":0},{"$f":"'Marks Entry'!H69","v":0},{"$f":"'Marks Entry'!I69","v":0},{"$f":"'Marks Entry'!J69","v":0},{"$f":"'Marks Entry'!K69","v":"00:00:00"},{"$f":"'Marks Entry'!L69","v":0},{"$f":"'Marks Entry'!M69","v":0},{"$f":"'Marks Entry'!N69","v":0},{"$f":"'Marks Entry'!O69","v":0},{"$f":"'Marks Entry'!P69","v":0},{"$f":"'Marks Entry'!Q69","v":0},{"$f":"'Marks Entry'!R69","v":0},{"$f":"'Marks Entry'!S69","v":0},{"$f":"'Marks Entry'!T69","v":0},{"$f":"'Marks Entry'!U69","v":0},{"$f":"'Marks Entry'!V69","v":0},{"$f":"'Marks Entry'!W69","v":0},{"$f":"'Marks Entry'!X69","v":0},{"$f":"'Marks Entry'!Y69","v":0},{"$f":"'Marks Entry'!Z69","v":0},{"$f":"'Marks Entry'!AA69","v":0},{"$f":"'Marks Entry'!AB69","v":0},{"$f":"'Marks Entry'!AC69","v":0},{"$f":"'Marks Entry'!AD69","v":""},{"$f":"'Marks Entry'!AE69","v":0},{"$f":"'Marks Entry'!AF69","v":0},{"$f":"'Marks Entry'!AG69","v":0},{"$f":"'Marks Entry'!AH69","v":0},{"$f":"'Marks Entry'!AI69","v":0},{"$f":"'Marks Entry'!AJ69","v":0},{"$f":"'Marks Entry'!AK69","v":0},{"$f":"'Marks Entry'!AL69","v":0},{"$f":"'Marks Entry'!AM69","v":0},{"$f":"'Marks Entry'!AN69","v":0},{"$f":"'Marks Entry'!AO69","v":0},{"$f":"'Marks Entry'!AP69","v":0},{"$f":"'Marks Entry'!AQ69","v":0},{"$f":"'Marks Entry'!AR69","v":0},{"$f":"'Marks Entry'!AS69","v":0},{"$f":"'Marks Entry'!AT69","v":0},{"$f":"'Marks Entry'!AU69","v":0},{"$f":"'Marks Entry'!AV69","v":0},{"$f":"'Marks Entry'!AW69","v":0},{"$f":"'Marks Entry'!AX69","v":"E"},{"$f":"'Marks Entry'!AY69","v":0},{"$f":"'Marks Entry'!AZ69","v":0},{"$f":"'Marks Entry'!BA69","v":0},{"$f":"'Marks Entry'!BB69","v":0},{"$f":"'Marks Entry'!BC69","v":0},{"$f":"'Marks Entry'!BD69","v":0},{"$f":"'Marks Entry'!BE69","v":0},{"$f":"'Marks Entry'!BF69","v":0},{"$f":"'Marks Entry'!BG69","v":0},{"$f":"'Marks Entry'!BH69","v":0},{"$f":"'Marks Entry'!BI69","v":0},{"$f":"'Marks Entry'!BJ69","v":0},{"$f":"'Marks Entry'!BK69","v":0},{"$f":"'Marks Entry'!BL69","v":0},{"$f":"'Marks Entry'!BM69","v":0},{"$f":"'Marks Entry'!BN69","v":0},{"$f":"'Marks Entry'!BO69","v":0},{"$f":"'Marks Entry'!BP69","v":0},{"$f":"'Marks Entry'!BQ69","v":0},{"$f":"'Marks Entry'!BR69","v":"E"},{"$f":"'Marks Entry'!BS69","v":0},{"$f":"'Marks Entry'!BT69","v":0},{"$f":"'Marks Entry'!BU69","v":0},{"$f":"'Marks Entry'!BV69","v":0},{"$f":"'Marks Entry'!BW69","v":0},{"$f":"'Marks Entry'!BX69","v":0},{"$f":"'Marks Entry'!BY69","v":0},{"$f":"'Marks Entry'!BZ69","v":0},{"$f":"'Marks Entry'!CA69","v":0},{"$f":"'Marks Entry'!CB69","v":0},{"$f":"'Marks Entry'!CC69","v":0},{"$f":"'Marks Entry'!CD69","v":0},{"$f":"'Marks Entry'!CE69","v":0},{"$f":"'Marks Entry'!CF69","v":0},{"$f":"'Marks Entry'!CG69","v":0},{"$f":"'Marks Entry'!CH69","v":0},{"$f":"'Marks Entry'!CI69","v":0},{"$f":"'Marks Entry'!CJ69","v":0},{"$f":"'Marks Entry'!CK69","v":0},{"$f":"'Marks Entry'!CL69","v":"E"},{"$f":"'Marks Entry'!CM69","v":0},{"$f":"'Marks Entry'!CN69","v":0},{"$f":"'Marks Entry'!CO69","v":0},{"$f":"'Marks Entry'!CP69","v":0},{"$f":"'Marks Entry'!CQ69","v":0},{"$f":"'Marks Entry'!CR69","v":0},{"$f":"'Marks Entry'!CS69","v":0},{"$f":"'Marks Entry'!CT69","v":0},{"$f":"'Marks Entry'!CU69","v":0},{"$f":"'Marks Entry'!CV69","v":0},{"$f":"'Marks Entry'!CW69","v":0},{"$f":"'Marks Entry'!CX69","v":0},{"$f":"'Marks Entry'!CY69","v":0},{"$f":"'Marks Entry'!CZ69","v":0},{"$f":"'Marks Entry'!DA69","v":0},{"$f":"'Marks Entry'!DB69","v":0},{"$f":"'Marks Entry'!DC69","v":0},{"$f":"'Marks Entry'!DD69","v":0},{"$f":"'Marks Entry'!DE69","v":0},{"$f":"'Marks Entry'!DF69","v":"E"},{"$f":"'Marks Entry'!DG69","v":0},{"$f":"'Marks Entry'!DH69","v":0},{"$f":"'Marks Entry'!DI69","v":0},{"$f":"'Marks Entry'!DJ69","v":0},{"$f":"'Marks Entry'!DK69","v":0},{"$f":"'Marks Entry'!DL69","v":0},{"$f":"'Marks Entry'!DM69","v":0},{"$f":"'Marks Entry'!DN69","v":0},{"$f":"'Marks Entry'!DO69","v":0},{"$f":"'Marks Entry'!DP69","v":0},{"$f":"'Marks Entry'!DQ69","v":0},{"$f":"'Marks Entry'!DR69","v":0},{"$f":"'Marks Entry'!DS69","v":0},{"$f":"'Marks Entry'!DT69","v":0},{"$f":"'Marks Entry'!DU69","v":0},{"$f":"'Marks Entry'!DV69","v":0},{"$f":"'Marks Entry'!DW69","v":0},{"$f":"'Marks Entry'!DX69","v":0},{"$f":"'Marks Entry'!DY69","v":0},{"$f":"'Marks Entry'!DZ69","v":"E"},{"$f":"'Marks Entry'!EA69","v":0},{"$f":"'Marks Entry'!EB69","v":0},{"$f":"'Marks Entry'!EC69","v":0},{"$f":"'Marks Entry'!ED69","v":0},{"$f":"'Marks Entry'!EE69","v":0},{"$f":"'Marks Entry'!EF69","v":0},{"$f":"'Marks Entry'!EG69","v":0},{"$f":"'Marks Entry'!EJ69","v":0},{"$f":"'Marks Entry'!EK69","v":0},{"$f":"'Marks Entry'!EL69","v":0},{"$f":"'Marks Entry'!EM69","v":0},{"$f":"'Marks Entry'!EN69","v":0},{"$f":"'Marks Entry'!EO69","v":0},{"$f":"'Marks Entry'!EP69","v":0},{"$f":"'Marks Entry'!ES69","v":0},{"$f":"'Marks Entry'!ET69","v":0},{"$f":"'Marks Entry'!EU69","v":0},{"$f":"'Marks Entry'!EV69","v":0},{"$f":"'Marks Entry'!EW69","v":0},{"$f":"'Marks Entry'!EX69","v":0},{"$f":"'Marks Entry'!EY69","v":0},{"$f":"'Marks Entry'!FB69","v":0},{"$f":"'Marks Entry'!FC69","v":0},{"$f":"'Marks Entry'!FD69","v":0},{"$f":"'Marks Entry'!FE69","v":""},{"$f":"'Marks Entry'!FF69","v":0},{"$f":"'Marks Entry'!FG69","v":0},{"$f":"'Marks Entry'!FH69","v":""},{"$f":"IF(OR('Marks Entry'!FI69=\"First\",'Marks Entry'!FI69=\"Second\",'Marks Entry'!FI69=\"Third\"),'Marks Entry'!FI69,\"\")","v":""},{"$f":"'Marks Entry'!FJ69","v":""},{"$f":"'Marks Entry'!FK69","v":""},{"$f":"'Marks Entry'!FL69","v":""},{"$f":"'Marks Entry'!FM69","v":""},{"$f":"'Marks Entry'!FO69","v":0}]
[null,0,{"$f":"'Marks Entry'!D70","v":0},{"$f":"'Marks Entry'!E70","v":0},{"$f":"'Marks Entry'!F70","v":0},{"$f":"'Marks Entry'!G70","v":0},{"$f":"'Marks Entry'!H70","v":0},{"$f":"'Marks Entry'!I70","v":0},{"$f":"'Marks Entry'!J70","v":0},{"$f":"'Marks Entry'!K70","v":"00:00:00"},{"$f":"'Marks Entry'!L70","v":0},{"$f":"'Marks Entry'!M70","v":0},{"$f":"'Marks Entry'!N70","v":0},{"$f":"'Marks Entry'!O70","v":0},{"$f":"'Marks Entry'!P70","v":0},{"$f":"'Marks Entry'!Q70","v":0},{"$f":"'Marks Entry'!R70","v":0},{"$f":"'Marks Entry'!S70","v":0},{"$f":"'Marks Entry'!T70","v":0},{"$f":"'Marks Entry'!U70","v":0},{"$f":"'Marks Entry'!V70","v":0},{"$f":"'Marks Entry'!W70","v":0},{"$f":"'Marks Entry'!X70","v":0},{"$f":"'Marks Entry'!Y70","v":0},{"$f":"'Marks Entry'!Z70","v":0},{"$f":"'Marks Entry'!AA70","v":0},{"$f":"'Marks Entry'!AB70","v":0},{"$f":"'Marks Entry'!AC70","v":0},{"$f":"'Marks Entry'!AD70","v":""},{"$f":"'Marks Entry'!AE70","v":0},{"$f":"'Marks Entry'!AF70","v":0},{"$f":"'Marks Entry'!AG70","v":0},{"$f":"'Marks Entry'!AH70","v":0},{"$f":"'Marks Entry'!AI70","v":0},{"$f":"'Marks Entry'!AJ70","v":0},{"$f":"'Marks Entry'!AK70","v":0},{"$f":"'Marks Entry'!AL70","v":0},{"$f":"'Marks Entry'!AM70","v":0},{"$f":"'Marks Entry'!AN70","v":0},{"$f":"'Marks Entry'!AO70","v":0},{"$f":"'Marks Entry'!AP70","v":0},{"$f":"'Marks Entry'!AQ70","v":0},{"$f":"'Marks Entry'!AR70","v":0},{"$f":"'Marks Entry'!AS70","v":0},{"$f":"'Marks Entry'!AT70","v":0},{"$f":"'Marks Entry'!AU70","v":0},{"$f":"'Marks Entry'!AV70","v":0},{"$f":"'Marks Entry'!AW70","v":0},{"$f":"'Marks Entry'!AX70","v":"E"},{"$f":"'Marks Entry'!AY70","v":0},{"$f":"'Marks Entry'!AZ70","v":0},{"$f":"'Marks Entry'!BA70","v":0},{"$f":"'Marks Entry'!BB70","v":0},{"$f":"'Marks Entry'!BC70","v":0},{"$f":"'Marks Entry'!BD70","v":0},{"$f":"'Marks Entry'!BE70","v":0},{"$f":"'Marks Entry'!BF70","v":0},{"$f":"'Marks Entry'!BG70","v":0},{"$f":"'Marks Entry'!BH70","v":0},{"$f":"'Marks Entry'!BI70","v":0},{"$f":"'Marks Entry'!BJ70","v":0},{"$f":"'Marks Entry'!BK70","v":0},{"$f":"'Marks Entry'!BL70","v":0},{"$f":"'Marks Entry'!BM70","v":0},{"$f":"'Marks Entry'!BN70","v":0},{"$f":"'Marks Entry'!BO70","v":0},{"$f":"'Marks Entry'!BP70","v":0},{"$f":"'Marks Entry'!BQ70","v":0},{"$f":"'Marks Entry'!BR70","v":"E"},{"$f":"'Marks Entry'!BS70","v":0},{"$f":"'Marks Entry'!BT70","v":0},{"$f":"'Marks Entry'!BU70","v":0},{"$f":"'Marks Entry'!BV70","v":0},{"$f":"'Marks Entry'!BW70","v":0},{"$f":"'Marks Entry'!BX70","v":0},{"$f":"'Marks Entry'!BY70","v":0},{"$f":"'Marks Entry'!BZ70","v":0},{"$f":"'Marks Entry'!CA70","v":0},{"$f":"'Marks Entry'!CB70","v":0},{"$f":"'Marks Entry'!CC70","v":0},{"$f":"'Marks Entry'!CD70","v":0},{"$f":"'Marks Entry'!CE70","v":0},{"$f":"'Marks Entry'!CF70","v":0},{"$f":"'Marks Entry'!CG70","v":0},{"$f":"'Marks Entry'!CH70","v":0},{"$f":"'Marks Entry'!CI70","v":0},{"$f":"'Marks Entry'!CJ70","v":0},{"$f":"'Marks Entry'!CK70","v":0},{"$f":"'Marks Entry'!CL70","v":"E"},{"$f":"'Marks Entry'!CM70","v":0},{"$f":"'Marks Entry'!CN70","v":0},{"$f":"'Marks Entry'!CO70","v":0},{"$f":"'Marks Entry'!CP70","v":0},{"$f":"'Marks Entry'!CQ70","v":0},{"$f":"'Marks Entry'!CR70","v":0},{"$f":"'Marks Entry'!CS70","v":0},{"$f":"'Marks Entry'!CT70","v":0},{"$f":"'Marks Entry'!CU70","v":0},{"$f":"'Marks Entry'!CV70","v":0},{"$f":"'Marks Entry'!CW70","v":0},{"$f":"'Marks Entry'!CX70","v":0},{"$f":"'Marks Entry'!CY70","v":0},{"$f":"'Marks Entry'!CZ70","v":0},{"$f":"'Marks Entry'!DA70","v":0},{"$f":"'Marks Entry'!DB70","v":0},{"$f":"'Marks Entry'!DC70","v":0},{"$f":"'Marks Entry'!DD70","v":0},{"$f":"'Marks Entry'!DE70","v":0},{"$f":"'Marks Entry'!DF70","v":"E"},{"$f":"'Marks Entry'!DG70","v":0},{"$f":"'Marks Entry'!DH70","v":0},{"$f":"'Marks Entry'!DI70","v":0},{"$f":"'Marks Entry'!DJ70","v":0},{"$f":"'Marks Entry'!DK70","v":0},{"$f":"'Marks Entry'!DL70","v":0},{"$f":"'Marks Entry'!DM70","v":0},{"$f":"'Marks Entry'!DN70","v":0},{"$f":"'Marks Entry'!DO70","v":0},{"$f":"'Marks Entry'!DP70","v":0},{"$f":"'Marks Entry'!DQ70","v":0},{"$f":"'Marks Entry'!DR70","v":0},{"$f":"'Marks Entry'!DS70","v":0},{"$f":"'Marks Entry'!DT70","v":0},{"$f":"'Marks Entry'!DU70","v":0},{"$f":"'Marks Entry'!DV70","v":0},{"$f":"'Marks Entry'!DW70","v":0},{"$f":"'Marks Entry'!DX70","v":0},{"$f":"'Marks Entry'!DY70","v":0},{"$f":"'Marks Entry'!DZ70","v":"E"},{"$f":"'Marks Entry'!EA70","v":0},{"$f":"'Marks Entry'!EB70","v":0},{"$f":"'Marks Entry'!EC70","v":0},{"$f":"'Marks Entry'!ED70","v":0},{"$f":"'Marks Entry'!EE70","v":0},{"$f":"'Marks Entry'!EF70","v":0},{"$f":"'Marks Entry'!EG70","v":0},{"$f":"'Marks Entry'!EJ70","v":0},{"$f":"'Marks Entry'!EK70","v":0},{"$f":"'Marks Entry'!EL70","v":0},{"$f":"'Marks Entry'!EM70","v":0},{"$f":"'Marks Entry'!EN70","v":0},{"$f":"'Marks Entry'!EO70","v":0},{"$f":"'Marks Entry'!EP70","v":0},{"$f":"'Marks Entry'!ES70","v":0},{"$f":"'Marks Entry'!ET70","v":0},{"$f":"'Marks Entry'!EU70","v":0},{"$f":"'Marks Entry'!EV70","v":0},{"$f":"'Marks Entry'!EW70","v":0},{"$f":"'Marks Entry'!EX70","v":0},{"$f":"'Marks Entry'!EY70","v":0},{"$f":"'Marks Entry'!FB70","v":0},{"$f":"'Marks Entry'!FC70","v":0},{"$f":"'Marks Entry'!FD70","v":0},{"$f":"'Marks Entry'!FE70","v":""},{"$f":"'Marks Entry'!FF70","v":0},{"$f":"'Marks Entry'!FG70","v":0},{"$f":"'Marks Entry'!FH70","v":""},{"$f":"IF(OR('Marks Entry'!FI70=\"First\",'Marks Entry'!FI70=\"Second\",'Marks Entry'!FI70=\"Third\"),'Marks Entry'!FI70,\"\")","v":""},{"$f":"'Marks Entry'!FJ70","v":""},{"$f":"'Marks Entry'!FK70","v":""},{"$f":"'Marks Entry'!FL70","v":""},{"$f":"'Marks Entry'!FM70","v":""},{"$f":"'Marks Entry'!FO70","v":0}]
[null,0,{"$f":"'Marks Entry'!D71","v":0},{"$f":"'Marks Entry'!E71","v":0},{"$f":"'Marks Entry'!F71","v":0},{"$f":"'Marks Entry'!G71","v":0},{"$f":"'Marks Entry'!H71","v":0},{"$f":"'Marks Entry'!I71","v":0},{"$f":"'Marks Entry'!J71","v":0},{"$f":"'Marks Entry'!K71","v":"00:00:00"},{"$f":"'Marks Entry'!L71","v":0},{"$f":"'Marks Entry'!M71","v":0},{"$f":"'Marks Entry'!N71","v":0},{"$f":"'Marks Entry'!O71","v":0},{"$f":"'Marks Entry'!P71","v":0},{"$f":"'Marks Entry'!Q71","v":0},{"$f":"'Marks Entry'!R71","v":0},{"$f":"'Marks Entry'!S71","v":0},{"$f":"'Marks Entry'!T71","v":0},{"$f":"'Marks Entry'!U71","v":0},{"$f":"'Marks Entry'!V71","v":0},{"$f":"'Marks Entry'!W71","v":0},{"$f":"'Marks Entry'!X71","v":0},{"$f":"'Marks Entry'!Y71","v":0},{"$f":"'Marks Entry'!Z71","v":0},{"$f":"'Marks Entry'!AA71","v":0},{"$f":"'Marks Entry'!AB71","v":0},{"$f":"'Marks Entry'!AC71","v":0},{"$f":"'Marks Entry'!AD71","v":""},{"$f":"'Marks Entry'!AE71","v":0},{"$f":"'Marks Entry'!AF71","v":0},{"$f":"'Marks Entry'!AG71","v":0},{"$f":"'Marks Entry'!AH71","v":0},{"$f":"'Marks Entry'!AI71","v":0},{"$f":"'Marks Entry'!AJ71","v":0},{"$f":"'Marks Entry'!AK71","v":0},{"$f":"'Marks Entry'!AL71","v":0},{"$f":"'Marks Entry'!AM71","v":0},{"$f":"'Marks Entry'!AN71","v":0},{"$f":"'Marks Entry'!AO71","v":0},{"$f":"'Marks Entry'!AP71","v":0},{"$f":"'Marks Entry'!AQ71","v":0},{"$f":"'Marks Entry'!AR71","v":0},{"$f":"'Marks Entry'!AS71","v":0},{"$f":"'Marks Entry'!AT71","v":0},{"$f":"'Marks Entry'!AU71","v":0},{"$f":"'Marks Entry'!AV71","v":0},{"$f":"'Marks Entry'!AW71","v":0},{"$f":"'Marks Entry'!AX71","v":"E"},{"$f":"'Marks Entry'!AY71","v":0},{"$f":"'Marks Entry'!AZ71","v":0},{"$f":"'Marks Entry'!BA71","v":0},{"$f":"'Marks Entry'!BB71","v":0},{"$f":"'Marks Entry'!BC71","v":0},{"$f":"'Marks Entry'!BD71","v":0},{"$f":"'Marks Entry'!BE71","v":0},{"$f":"'Marks Entry'!BF71","v":0},{"$f":"'Marks Entry'!BG71","v":0},{"$f":"'Marks Entry'!BH71","v":0},{"$f":"'Marks Entry'!BI71","v":0},{"$f":"'Marks Entry'!BJ71","v":0},{"$f":"'Marks Entry'!BK71","v":0},{"$f":"'Marks Entry'!BL71","v":0},{"$f":"'Marks Entry'!BM71","v":0},{"$f":"'Marks Entry'!BN71","v":0},{"$f":"'Marks Entry'!BO71","v":0},{"$f":"'Marks Entry'!BP71","v":0},{"$f":"'Marks Entry'!BQ71","v":0},{"$f":"'Marks Entry'!BR71","v":"E"},{"$f":"'Marks Entry'!BS71","v":0},{"$f":"'Marks Entry'!BT71","v":0},{"$f":"'Marks Entry'!BU71","v":0},{"$f":"'Marks Entry'!BV71","v":0},{"$f":"'Marks Entry'!BW71","v":0},{"$f":"'Marks Entry'!BX71","v":0},{"$f":"'Marks Entry'!BY71","v":0},{"$f":"'Marks Entry'!BZ71","v":0},{"$f":"'Marks Entry'!CA71","v":0},{"$f":"'Marks Entry'!CB71","v":0},{"$f":"'Marks Entry'!CC71","v":0},{"$f":"'Marks Entry'!CD71","v":0},{"$f":"'Marks Entry'!CE71","v":0},{"$f":"'Marks Entry'!CF71","v":0},{"$f":"'Marks Entry'!CG71","v":0},{"$f":"'Marks Entry'!CH71","v":0},{"$f":"'Marks Entry'!CI71","v":0},{"$f":"'Marks Entry'!CJ71","v":0},{"$f":"'Marks Entry'!CK71","v":0},{"$f":"'Marks Entry'!CL71","v":"E"},{"$f":"'Marks Entry'!CM71","v":0},{"$f":"'Marks Entry'!CN71","v":0},{"$f":"'Marks Entry'!CO71","v":0},{"$f":"'Marks Entry'!CP71","v":0},{"$f":"'Marks Entry'!CQ71","v":0},{"$f":"'Marks Entry'!CR71","v":0},{"$f":"'Marks Entry'!CS71","v":0},{"$f":"'Marks Entry'!CT71","v":0},{"$f":"'Marks Entry'!CU71","v":0},{"$f":"'Marks Entry'!CV71","v":0},{"$f":"'Marks Entry'!CW71","v":0},{"$f":"'Marks Entry'!CX71","v":0},{"$f":"'Marks Entry'!CY71","v":0},{"$f":"'Marks Entry'!CZ71","v":0},{"$f":"'Marks Entry'!DA71","v":0},{"$f":"'Marks Entry'!DB71","v":0},{"$f":"'Marks Entry'!DC71","v":0},{"$f":"'Marks Entry'!DD71","v":0},{"$f":"'Marks Entry'!DE71","v":0},{"$f":"'Marks Entry'!DF71","v":"E"},{"$f":"'Marks Entry'!DG71","v":0},{"$f":"'Marks Entry'!DH71","v":0},{"$f":"'Marks Entry'!DI71","v":0},{"$f":"'Marks Entry'!DJ71","v":0},{"$f":"'Marks Entry'!DK71","v":0},{"$f":"'Marks Entry'!DL71","v":0},{"$f":"'Marks Entry'!DM71","v":0},{"$f":"'Marks Entry'!DN71","v":0},{"$f":"'Marks Entry'!DO71","v":0},{"$f":"'Marks Entry'!DP71","v":0},{"$f":"'Marks Entry'!DQ71","v":0},{"$f":"'Marks Entry'!DR71","v":0},{"$f":"'Marks Entry'!DS71","v":0},{"$f":"'Marks Entry'!DT71","v":0},{"$f":"'Marks Entry'!DU71","v":0},{"$f":"'Marks Entry'!DV71","v":0},{"$f":"'Marks Entry'!DW71","v":0},{"$f":"'Marks Entry'!DX71","v":0},{"$f":"'Marks Entry'!DY71","v":0},{"$f":"'Marks Entry'!DZ71","v":"E"},{"$f":"'Marks Entry'!EA71","v":0},{"$f":"'Marks Entry'!EB71","v":0},{"$f":"'Marks Entry'!EC71","v":0},{"$f":"'Marks Entry'!ED71","v":0},{"$f":"'Marks Entry'!EE71","v":0},{"$f":"'Marks Entry'!EF71","v":0},{"$f":"'Marks Entry'!EG71","v":0},{"$f":"'Marks Entry'!EJ71","v":0},{"$f":"'Marks Entry'!EK71","v":0},{"$f":"'Marks Entry'!EL71","v":0},{"$f":"'Marks Entry'!EM71","v":0},{"$f":"'Marks Entry'!EN71","v":0},{"$f":"'Marks Entry'!EO71","v":0},{"$f":"'Marks Entry'!EP71","v":0},{"$f":"'Marks Entry'!ES71","v":0},{"$f":"'Marks Entry'!ET71","v":0},{"$f":"'Marks Entry'!EU71","v":0},{"$f":"'Marks Entry'!EV71","v":0},{"$f":"'Marks Entry'!EW71","v":0},{"$f":"'Marks Entry'!EX71","v":0},{"$f":"'Marks Entry'!EY71","v":0},{"$f":"'Marks Entry'!FB71","v":0},{"$f":"'Marks Entry'!FC71","v":0},{"$f":"'Marks Entry'!FD71","v":0},{"$f":"'Marks Entry'!FE71","v":""},{"$f":"'Marks Entry'!FF71","v":0},{"$f":"'Marks Entry'!FG71","v":0},{"$f":"'Marks Entry'!FH71","v":""},{"$f":"IF(OR('Marks Entry'!FI71=\"First\",'Marks Entry'!FI71=\"Second\",'Marks Entry'!FI71=\"Third\"),'Marks Entry'!FI71,\"\")","v":""},{"$f":"'Marks Entry'!FJ71","v":""},{"$f":"'Marks Entry'!FK71","v":""},{"$f":"'Marks Entry'!FL71","v":""},{"$f":"'Marks Entry'!FM71","v":""},{"$f":"'Marks Entry'!FO71","v":0}]
[null,0,{"$f":"'Marks Entry'!D72","v":0},{"$f":"'Marks Entry'!E72","v":0},{"$f":"'Marks Entry'!F72","v":0},{"$f":"'Marks Entry'!G72","v":0},{"$f":"'Marks Entry'!H72","v":0},{"$f":"'Marks Entry'!I72","v":0},{"$f":"'Marks Entry'!J72","v":0},{"$f":"'Marks Entry'!K72","v":"00:00:00"},{"$f":"'Marks Entry'!L72","v":0},{"$f":"'Marks Entry'!M72","v":0},{"$f":"'Marks Entry'!N72","v":0},{"$f":"'Marks Entry'!O72","v":0},{"$f":"'Marks Entry'!P72","v":0},{"$f":"'Marks Entry'!Q72","v":0},{"$f":"'Marks Entry'!R72","v":0},{"$f":"'Marks Entry'!S72","v":0},{"$f":"'Marks Entry'!T72","v":0},{"$f":"'Marks Entry'!U72","v":0},{"$f":"'Marks Entry'!V72","v":0},{"$f":"'Marks Entry'!W72","v":0},{"$f":"'Marks Entry'!X72","v":0},{"$f":"'Marks Entry'!Y72","v":0},{"$f":"'Marks Entry'!Z72","v":0},{"$f":"'Marks Entry'!AA72","v":0},{"$f":"'Marks Entry'!AB72","v":0},{"$f":"'Marks Entry'!AC72","v":0},{"$f":"'Marks Entry'!AD72","v":""},{"$f":"'Marks Entry'!AE72","v":0},{"$f":"'Marks Entry'!AF72","v":0},{"$f":"'Marks Entry'!AG72","v":0},{"$f":"'Marks Entry'!AH72","v":0},{"$f":"'Marks Entry'!AI72","v":0},{"$f":"'Marks Entry'!AJ72","v":0},{"$f":"'Marks Entry'!AK72","v":0},{"$f":"'Marks Entry'!AL72","v":0},{"$f":"'Marks Entry'!AM72","v":0},{"$f":"'Marks Entry'!AN72","v":0},{"$f":"'Marks Entry'!AO72","v":0},{"$f":"'Marks Entry'!AP72","v":0},{"$f":"'Marks Entry'!AQ72","v":0},{"$f":"'Marks Entry'!AR72","v":0},{"$f":"'Marks Entry'!AS72","v":0},{"$f":"'Marks Entry'!AT72","v":0},{"$f":"'Marks Entry'!AU72","v":0},{"$f":"'Marks Entry'!AV72","v":0},{"$f":"'Marks Entry'!AW72","v":0},{"$f":"'Marks Entry'!AX72","v":"E"},{"$f":"'Marks Entry'!AY72","v":0},{"$f":"'Marks Entry'!AZ72","v":0},{"$f":"'Marks Entry'!BA72","v":0},{"$f":"'Marks Entry'!BB72","v":0},{"$f":"'Marks Entry'!BC72","v":0},{"$f":"'Marks Entry'!BD72","v":0},{"$f":"'Marks Entry'!BE72","v":0},{"$f":"'Marks Entry'!BF72","v":0},{"$f":"'Marks Entry'!BG72","v":0},{"$f":"'Marks Entry'!BH72","v":0},{"$f":"'Marks Entry'!BI72","v":0},{"$f":"'Marks Entry'!BJ72","v":0},{"$f":"'Marks Entry'!BK72","v":0},{"$f":"'Marks Entry'!BL72","v":0},{"$f":"'Marks Entry'!BM72","v":0},{"$f":"'Marks Entry'!BN72","v":0},{"$f":"'Marks Entry'!BO72","v":0},{"$f":"'Marks Entry'!BP72","v":0},{"$f":"'Marks Entry'!BQ72","v":0},{"$f":"'Marks Entry'!BR72","v":"E"},{"$f":"'Marks Entry'!BS72","v":0},{"$f":"'Marks Entry'!BT72","v":0},{"$f":"'Marks Entry'!BU72","v":0},{"$f":"'Marks Entry'!BV72","v":0},{"$f":"'Marks Entry'!BW72","v":0},{"$f":"'Marks Entry'!BX72","v":0},{"$f":"'Marks Entry'!BY72","v":0},{"$f":"'Marks Entry'!BZ72","v":0},{"$f":"'Marks Entry'!CA72","v":0},{"$f":"'Marks Entry'!CB72","v":0},{"$f":"'Marks Entry'!CC72","v":0},{"$f":"'Marks Entry'!CD72","v":0},{"$f":"'Marks Entry'!CE72","v":0},{"$f":"'Marks Entry'!CF72","v":0},{"$f":"'Marks Entry'!CG72","v":0},{"$f":"'Marks Entry'!CH72","v":0},{"$f":"'Marks Entry'!CI72","v":0},{"$f":"'Marks Entry'!CJ72","v":0},{"$f":"'Marks Entry'!CK72","v":0},{"$f":"'Marks Entry'!CL72","v":"E"},{"$f":"'Marks Entry'!CM72","v":0},{"$f":"'Marks Entry'!CN72","v":0},{"$f":"'Marks Entry'!CO72","v":0},{"$f":"'Marks Entry'!CP72","v":0},{"$f":"'Marks Entry'!CQ72","v":0},{"$f":"'Marks Entry'!CR72","v":0},{"$f":"'Marks Entry'!CS72","v":0},{"$f":"'Marks Entry'!CT72","v":0},{"$f":"'Marks Entry'!CU72","v":0},{"$f":"'Marks Entry'!CV72","v":0},{"$f":"'Marks Entry'!CW72","v":0},{"$f":"'Marks Entry'!CX72","v":0},{"$f":"'Marks Entry'!CY72","v":0},{"$f":"'Marks Entry'!CZ72","v":0},{"$f":"'Marks Entry'!DA72","v":0},{"$f":"'Marks Entry'!DB72","v":0},{"$f":"'Marks Entry'!DC72","v":0},{"$f":"'Marks Entry'!DD72","v":0},{"$f":"'Marks Entry'!DE72","v":0},{"$f":"'Marks Entry'!DF72","v":"E"},{"$f":"'Marks Entry'!DG72","v":0},{"$f":"'Marks Entry'!DH72","v":0},{"$f":"'Marks Entry'!DI72","v":0},{"$f":"'Marks Entry'!DJ72","v":0},{"$f":"'Marks Entry'!DK72","v":0},{"$f":"'Marks Entry'!DL72","v":0},{"$f":"'Marks Entry'!DM72","v":0},{"$f":"'Marks Entry'!DN72","v":0},{"$f":"'Marks Entry'!DO72","v":0},{"$f":"'Marks Entry'!DP72","v":0},{"$f":"'Marks Entry'!DQ72","v":0},{"$f":"'Marks Entry'!DR72","v":0},{"$f":"'Marks Entry'!DS72","v":0},{"$f":"'Marks Entry'!DT72","v":0},{"$f":"'Marks Entry'!DU72","v":0},{"$f":"'Marks Entry'!DV72","v":0},{"$f":"'Marks Entry'!DW72","v":0},{"$f":"'Marks Entry'!DX72","v":0},{"$f":"'Marks Entry'!DY72","v":0},{"$f":"'Marks Entry'!DZ72","v":"E"},{"$f":"'Marks Entry'!EA72","v":0},{"$f":"'Marks Entry'!EB72","v":0},{"$f":"'Marks Entry'!EC72","v":0},{"$f":"'Marks Entry'!ED72","v":0},{"$f":"'Marks Entry'!EE72","v":0},{"$f":"'Marks Entry'!EF72","v":0},{"$f":"'Marks Entry'!EG72","v":0},{"$f":"'Marks Entry'!EJ72","v":0},{"$f":"'Marks Entry'!EK72","v":0},{"$f":"'Marks Entry'!EL72","v":0},{"$f":"'Marks Entry'!EM72","v":0},{"$f":"'Marks Entry'!EN72","v":0},{"$f":"'Marks Entry'!EO72","v":0},{"$f":"'Marks Entry'!EP72","v":0},{"$f":"'Marks Entry'!ES72","v":0},{"$f":"'Marks Entry'!ET72","v":0},{"$f":"'Marks Entry'!EU72","v":0},{"$f":"'Marks Entry'!EV72","v":0},{"$f":"'Marks Entry'!EW72","v":0},{"$f":"'Marks Entry'!EX72","v":0},{"$f":"'Marks Entry'!EY72","v":0},{"$f":"'Marks Entry'!FB72","v":0},{"$f":"'Marks Entry'!FC72","v":0},{"$f":"'Marks Entry'!FD72","v":0},{"$f":"'Marks Entry'!FE72","v":""},{"$f":"'Marks Entry'!FF72","v":0},{"$f":"'Marks Entry'!FG72","v":0},{"$f":"'Marks Entry'!FH72","v":""},{"$f":"IF(OR('Marks Entry'!FI72=\"First\",'Marks Entry'!FI72=\"Second\",'Marks Entry'!FI72=\"Third\"),'Marks Entry'!FI72,\"\")","v":""},{"$f":"'Marks Entry'!FJ72","v":""},{"$f":"'Marks Entry'!FK72","v":""},{"$f":"'Marks Entry'!FL72","v":""},{"$f":"'Marks Entry'!FM72","v":""},{"$f":"'Marks Entry'!FO72","v":0}]
[null,0,{"$f":"'Marks Entry'!D73","v":0},{"$f":"'Marks Entry'!E73","v":0},{"$f":"'Marks Entry'!F73","v":0},{"$f":"'Marks Entry'!G73","v":0},{"$f":"'Marks Entry'!H73","v":0},{"$f":"'Marks Entry'!I73","v":0},{"$f":"'Marks Entry'!J73","v":0},{"$f":"'Marks Entry'!K73","v":"00:00:00"},{"$f":"'Marks Entry'!L73","v":0},{"$f":"'Marks Entry'!M73","v":0},{"$f":"'Marks Entry'!N73","v":0},{"$f":"'Marks Entry'!O73","v":0},{"$f":"'Marks Entry'!P73","v":0},{"$f":"'Marks Entry'!Q73","v":0},{"$f":"'Marks Entry'!R73","v":0},{"$f":"'Marks Entry'!S73","v":0},{"$f":"'Marks Entry'!T73","v":0},{"$f":"'Marks Entry'!U73","v":0},{"$f":"'Marks Entry'!V73","v":0},{"$f":"'Marks Entry'!W73","v":0},{"$f":"'Marks Entry'!X73","v":0},{"$f":"'Marks Entry'!Y73","v":0},{"$f":"'Marks Entry'!Z73","v":0},{"$f":"'Marks Entry'!AA73","v":0},{"$f":"'Marks Entry'!AB73","v":0},{"$f":"'Marks Entry'!AC73","v":0},{"$f":"'Marks Entry'!AD73","v":""},{"$f":"'Marks Entry'!AE73","v":0},{"$f":"'Marks Entry'!AF73","v":0},{"$f":"'Marks Entry'!AG73","v":0},{"$f":"'Marks Entry'!AH73","v":0},{"$f":"'Marks Entry'!AI73","v":0},{"$f":"'Marks Entry'!AJ73","v":0},{"$f":"'Marks Entry'!AK73","v":0},{"$f":"'Marks Entry'!AL73","v":0},{"$f":"'Marks Entry'!AM73","v":0},{"$f":"'Marks Entry'!AN73","v":0},{"$f":"'Marks Entry'!AO73","v":0},{"$f":"'Marks Entry'!AP73","v":0},{"$f":"'Marks Entry'!AQ73","v":0},{"$f":"'Marks Entry'!AR73","v":0},{"$f":"'Marks Entry'!AS73","v":0},{"$f":"'Marks Entry'!AT73","v":0},{"$f":"'Marks Entry'!AU73","v":0},{"$f":"'Marks Entry'!AV73","v":0},{"$f":"'Marks Entry'!AW73","v":0},{"$f":"'Marks Entry'!AX73","v":"E"},{"$f":"'Marks Entry'!AY73","v":0},{"$f":"'Marks Entry'!AZ73","v":0},{"$f":"'Marks Entry'!BA73","v":0},{"$f":"'Marks Entry'!BB73","v":0},{"$f":"'Marks Entry'!BC73","v":0},{"$f":"'Marks Entry'!BD73","v":0},{"$f":"'Marks Entry'!BE73","v":0},{"$f":"'Marks Entry'!BF73","v":0},{"$f":"'Marks Entry'!BG73","v":0},{"$f":"'Marks Entry'!BH73","v":0},{"$f":"'Marks Entry'!BI73","v":0},{"$f":"'Marks Entry'!BJ73","v":0},{"$f":"'Marks Entry'!BK73","v":0},{"$f":"'Marks Entry'!BL73","v":0},{"$f":"'Marks Entry'!BM73","v":0},{"$f":"'Marks Entry'!BN73","v":0},{"$f":"'Marks Entry'!BO73","v":0},{"$f":"'Marks Entry'!BP73","v":0},{"$f":"'Marks Entry'!BQ73","v":0},{"$f":"'Marks Entry'!BR73","v":"E"},{"$f":"'Marks Entry'!BS73","v":0},{"$f":"'Marks Entry'!BT73","v":0},{"$f":"'Marks Entry'!BU73","v":0},{"$f":"'Marks Entry'!BV73","v":0},{"$f":"'Marks Entry'!BW73","v":0},{"$f":"'Marks Entry'!BX73","v":0},{"$f":"'Marks Entry'!BY73","v":0},{"$f":"'Marks Entry'!BZ73","v":0},{"$f":"'Marks Entry'!CA73","v":0},{"$f":"'Marks Entry'!CB73","v":0},{"$f":"'Marks Entry'!CC73","v":0},{"$f":"'Marks Entry'!CD73","v":0},{"$f":"'Marks Entry'!CE73","v":0},{"$f":"'Marks Entry'!CF73","v":0},{"$f":"'Marks Entry'!CG73","v":0},{"$f":"'Marks Entry'!CH73","v":0},{"$f":"'Marks Entry'!CI73","v":0},{"$f":"'Marks Entry'!CJ73","v":0},{"$f":"'Marks Entry'!CK73","v":0},{"$f":"'Marks Entry'!CL73","v":"E"},{"$f":"'Marks Entry'!CM73","v":0},{"$f":"'Marks Entry'!CN73","v":0},{"$f":"'Marks Entry'!CO73","v":0},{"$f":"'Marks Entry'!CP73","v":0},{"$f":"'Marks Entry'!CQ73","v":0},{"$f":"'Marks Entry'!CR73","v":0},{"$f":"'Marks Entry'!CS73","v":0},{"$f":"'Marks Entry'!CT73","v":0},{"$f":"'Marks Entry'!CU73","v":0},{"$f":"'Marks Entry'!CV73","v":0},{"$f":"'Marks Entry'!CW73","v":0},{"$f":"'Marks Entry'!CX73","v":0},{"$f":"'Marks Entry'!CY73","v":0},{"$f":"'Marks Entry'!CZ73","v":0},{"$f":"'Marks Entry'!DA73","v":0},{"$f":"'Marks Entry'!DB73","v":0},{"$f":"'Marks Entry'!DC73","v":0},{"$f":"'Marks Entry'!DD73","v":0},{"$f":"'Marks Entry'!DE73","v":0},{"$f":"'Marks Entry'!DF73","v":"E"},{"$f":"'Marks Entry'!DG73","v":0},{"$f":"'Marks Entry'!DH73","v":0},{"$f":"'Marks Entry'!DI73","v":0},{"$f":"'Marks Entry'!DJ73","v":0},{"$f":"'Marks Entry'!DK73","v":0},{"$f":"'Marks Entry'!DL73","v":0},{"$f":"'Marks Entry'!DM73","v":0},{"$f":"'Marks Entry'!DN73","v":0},{"$f":"'Marks Entry'!DO73","v":0},{"$f":"'Marks Entry'!DP73","v":0},{"$f":"'Marks Entry'!DQ73","v":0},{"$f":"'Marks Entry'!DR73","v":0},{"$f":"'Marks Entry'!DS73","v":0},{"$f":"'Marks Entry'!DT73","v":0},{"$f":"'Marks Entry'!DU73","v":0},{"$f":"'Marks Entry'!DV73","v":0},{"$f":"'Marks Entry'!DW73","v":0},{"$f":"'Marks Entry'!DX73","v":0},{"$f":"'Marks Entry'!DY73","v":0},{"$f":"'Marks Entry'!DZ73","v":"E"},{"$f":"'Marks Entry'!EA73","v":0},{"$f":"'Marks Entry'!EB73","v":0},{"$f":"'Marks Entry'!EC73","v":0},{"$f":"'Marks Entry'!ED73","v":0},{"$f":"'Marks Entry'!EE73","v":0},{"$f":"'Marks Entry'!EF73","v":0},{"$f":"'Marks Entry'!EG73","v":0},{"$f":"'Marks Entry'!EJ73","v":0},{"$f":"'Marks Entry'!EK73","v":0},{"$f":"'Marks Entry'!EL73","v":0},{"$f":"'Marks Entry'!EM73","v":0},{"$f":"'Marks Entry'!EN73","v":0},{"$f":"'Marks Entry'!EO73","v":0},{"$f":"'Marks Entry'!EP73","v":0},{"$f":"'Marks Entry'!ES73","v":0},{"$f":"'Marks Entry'!ET73","v":0},{"$f":"'Marks Entry'!EU73","v":0},{"$f":"'Marks Entry'!EV73","v":0},{"$f":"'Marks Entry'!EW73","v":0},{"$f":"'Marks Entry'!EX73","v":0},{"$f":"'Marks Entry'!EY73","v":0},{"$f":"'Marks Entry'!FB73","v":0},{"$f":"'Marks Entry'!FC73","v":0},{"$f":"'Marks Entry'!FD73","v":0},{"$f":"'Marks Entry'!FE73","v":""},{"$f":"'Marks Entry'!FF73","v":0},{"$f":"'Marks Entry'!FG73","v":0},{"$f":"'Marks Entry'!FH73","v":""},{"$f":"IF(OR('Marks Entry'!FI73=\"First\",'Marks Entry'!FI73=\"Second\",'Marks Entry'!FI73=\"Third\"),'Marks Entry'!FI73,\"\")","v":""},{"$f":"'Marks Entry'!FJ73","v":""},{"$f":"'Marks Entry'!FK73","v":""},{"$f":"'Marks Entry'!FL73","v":""},{"$f":"'Marks Entry'!FM73","v":""},{"$f":"'Marks Entry'!FO73","v":0}]
[null,0,{"$f":"'Marks Entry'!D74","v":0},{"$f":"'Marks Entry'!E74","v":0},{"$f":"'Marks Entry'!F74","v":0},{"$f":"'Marks Entry'!G74","v":0},{"$f":"'Marks Entry'!H74","v":0},{"$f":"'Marks Entry'!I74","v":0},{"$f":"'Marks Entry'!J74","v":0},{"$f":"'Marks Entry'!K74","v":"00:00:00"},{"$f":"'Marks Entry'!L74","v":0},{"$f":"'Marks Entry'!M74","v":0},{"$f":"'Marks Entry'!N74","v":0},{"$f":"'Marks Entry'!O74","v":0},{"$f":"'Marks Entry'!P74","v":0},{"$f":"'Marks Entry'!Q74","v":0},{"$f":"'Marks Entry'!R74","v":0},{"$f":"'Marks Entry'!S74","v":0},{"$f":"'Marks Entry'!T74","v":0},{"$f":"'Marks Entry'!U74","v":0},{"$f":"'Marks Entry'!V74","v":0},{"$f":"'Marks Entry'!W74","v":0},{"$f":"'Marks Entry'!X74","v":0},{"$f":"'Marks Entry'!Y74","v":0},{"$f":"'Marks Entry'!Z74","v":0},{"$f":"'Marks Entry'!AA74","v":0},{"$f":"'Marks Entry'!AB74","v":0},{"$f":"'Marks Entry'!AC74","v":0},{"$f":"'Marks Entry'!AD74","v":""},{"$f":"'Marks Entry'!AE74","v":0},{"$f":"'Marks Entry'!AF74","v":0},{"$f":"'Marks Entry'!AG74","v":0},{"$f":"'Marks Entry'!AH74","v":0},{"$f":"'Marks Entry'!AI74","v":0},{"$f":"'Marks Entry'!AJ74","v":0},{"$f":"'Marks Entry'!AK74","v":0},{"$f":"'Marks Entry'!AL74","v":0},{"$f":"'Marks Entry'!AM74","v":0},{"$f":"'Marks Entry'!AN74","v":0},{"$f":"'Marks Entry'!AO74","v":0},{"$f":"'Marks Entry'!AP74","v":0},{"$f":"'Marks Entry'!AQ74","v":0},{"$f":"'Marks Entry'!AR74","v":0},{"$f":"'Marks Entry'!AS74","v":0},{"$f":"'Marks Entry'!AT74","v":0},{"$f":"'Marks Entry'!AU74","v":0},{"$f":"'Marks Entry'!AV74","v":0},{"$f":"'Marks Entry'!AW74","v":0},{"$f":"'Marks Entry'!AX74","v":"E"},{"$f":"'Marks Entry'!AY74","v":0},{"$f":"'Marks Entry'!AZ74","v":0},{"$f":"'Marks Entry'!BA74","v":0},{"$f":"'Marks Entry'!BB74","v":0},{"$f":"'Marks Entry'!BC74","v":0},{"$f":"'Marks Entry'!BD74","v":0},{"$f":"'Marks Entry'!BE74","v":0},{"$f":"'Marks Entry'!BF74","v":0},{"$f":"'Marks Entry'!BG74","v":0},{"$f":"'Marks Entry'!BH74","v":0},{"$f":"'Marks Entry'!BI74","v":0},{"$f":"'Marks Entry'!BJ74","v":0},{"$f":"'Marks Entry'!BK74","v":0},{"$f":"'Marks Entry'!BL74","v":0},{"$f":"'Marks Entry'!BM74","v":0},{"$f":"'Marks Entry'!BN74","v":0},{"$f":"'Marks Entry'!BO74","v":0},{"$f":"'Marks Entry'!BP74","v":0},{"$f":"'Marks Entry'!BQ74","v":0},{"$f":"'Marks Entry'!BR74","v":"E"},{"$f":"'Marks Entry'!BS74","v":0},{"$f":"'Marks Entry'!BT74","v":0},{"$f":"'Marks Entry'!BU74","v":0},{"$f":"'Marks Entry'!BV74","v":0},{"$f":"'Marks Entry'!BW74","v":0},{"$f":"'Marks Entry'!BX74","v":0},{"$f":"'Marks Entry'!BY74","v":0},{"$f":"'Marks Entry'!BZ74","v":0},{"$f":"'Marks Entry'!CA74","v":0},{"$f":"'Marks Entry'!CB74","v":0},{"$f":"'Marks Entry'!CC74","v":0},{"$f":"'Marks Entry'!CD74","v":0},{"$f":"'Marks Entry'!CE74","v":0},{"$f":"'Marks Entry'!CF74","v":0},{"$f":"'Marks Entry'!CG74","v":0},{"$f":"'Marks Entry'!CH74","v":0},{"$f":"'Marks Entry'!CI74","v":0},{"$f":"'Marks Entry'!CJ74","v":0},{"$f":"'Marks Entry'!CK74","v":0},{"$f":"'Marks Entry'!CL74","v":"E"},{"$f":"'Marks Entry'!CM74","v":0},{"$f":"'Marks Entry'!CN74","v":0},{"$f":"'Marks Entry'!CO74","v":0},{"$f":"'Marks Entry'!CP74","v":0},{"$f":"'Marks Entry'!CQ74","v":0},{"$f":"'Marks Entry'!CR74","v":0},{"$f":"'Marks Entry'!CS74","v":0},{"$f":"'Marks Entry'!CT74","v":0},{"$f":"'Marks Entry'!CU74","v":0},{"$f":"'Marks Entry'!CV74","v":0},{"$f":"'Marks Entry'!CW74","v":0},{"$f":"'Marks Entry'!CX74","v":0},{"$f":"'Marks Entry'!CY74","v":0},{"$f":"'Marks Entry'!CZ74","v":0},{"$f":"'Marks Entry'!DA74","v":0},{"$f":"'Marks Entry'!DB74","v":0},{"$f":"'Marks Entry'!DC74","v":0},{"$f":"'Marks Entry'!DD74","v":0},{"$f":"'Marks Entry'!DE74","v":0},{"$f":"'Marks Entry'!DF74","v":"E"},{"$f":"'Marks Entry'!DG74","v":0},{"$f":"'Marks Entry'!DH74","v":0},{"$f":"'Marks Entry'!DI74","v":0},{"$f":"'Marks Entry'!DJ74","v":0},{"$f":"'Marks Entry'!DK74","v":0},{"$f":"'Marks Entry'!DL74","v":0},{"$f":"'Marks Entry'!DM74","v":0},{"$f":"'Marks Entry'!DN74","v":0},{"$f":"'Marks Entry'!DO74","v":0},{"$f":"'Marks Entry'!DP74","v":0},{"$f":"'Marks Entry'!DQ74","v":0},{"$f":"'Marks Entry'!DR74","v":0},{"$f":"'Marks Entry'!DS74","v":0},{"$f":"'Marks Entry'!DT74","v":0},{"$f":"'Marks Entry'!DU74","v":0},{"$f":"'Marks Entry'!DV74","v":0},{"$f":"'Marks Entry'!DW74","v":0},{"$f":"'Marks Entry'!DX74","v":0},{"$f":"'Marks Entry'!DY74","v":0},{"$f":"'Marks Entry'!DZ74","v":"E"},{"$f":"'Marks Entry'!EA74","v":0},{"$f":"'Marks Entry'!EB74","v":0},{"$f":"'Marks Entry'!EC74","v":0},{"$f":"'Marks Entry'!ED74","v":0},{"$f":"'Marks Entry'!EE74","v":0},{"$f":"'Marks Entry'!EF74","v":0},{"$f":"'Marks Entry'!EG74","v":0},{"$f":"'Marks Entry'!EJ74","v":0},{"$f":"'Marks Entry'!EK74","v":0},{"$f":"'Marks Entry'!EL74","v":0},{"$f":"'Marks Entry'!EM74","v":0},{"$f":"'Marks Entry'!EN74","v":0},{"$f":"'Marks Entry'!EO74","v":0},{"$f":"'Marks Entry'!EP74","v":0},{"$f":"'Marks Entry'!ES74","v":0},{"$f":"'Marks Entry'!ET74","v":0},{"$f":"'Marks Entry'!EU74","v":0},{"$f":"'Marks Entry'!EV74","v":0},{"$f":"'Marks Entry'!EW74","v":0},{"$f":"'Marks Entry'!EX74","v":0},{"$f":"'Marks Entry'!EY74","v":0},{"$f":"'Marks Entry'!FB74","v":0},{"$f":"'Marks Entry'!FC74","v":0},{"$f":"'Marks Entry'!FD74","v":0},{"$f":"'Marks Entry'!FE74","v":""},{"$f":"'Marks Entry'!FF74","v":0},{"$f":"'Marks Entry'!FG74","v":0},{"$f":"'Marks Entry'!FH74","v":""},{"$f":"IF(OR('Marks Entry'!FI74=\"First\",'Marks Entry'!FI74=\"Second\",'Marks Entry'!FI74=\"Third\"),'Marks Entry'!FI74,\"\")","v":""},{"$f":"'Marks Entry'!FJ74","v":""},{"$f":"'Marks Entry'!FK74","v":""},{"$f":"'Marks Entry'!FL74","v":""},{"$f":"'Marks Entry'!FM74","v":""},{"$f":"'Marks Entry'!FO74","v":0}]
[null,{"$f":"IF(F73>0,B72+1,0)","v":0},{"$f":"'Marks Entry'!D75","v":0},{"$f":"'Marks Entry'!E75","v":0},{"$f":"'Marks Entry'!F75","v":0},{"$f":"'Marks Entry'!G75","v":0},{"$f":"'Marks Entry'!H75","v":0},{"$f":"'Marks Entry'!I75","v":0},{"$f":"'Marks Entry'!J75","v":0},{"$f":"'Marks Entry'!K75","v":"00:00:00"},{"$f":"'Marks Entry'!L75","v":0},{"$f":"'Marks Entry'!M75","v":0},{"$f":"'Marks Entry'!N75","v":0},{"$f":"'Marks Entry'!O75","v":0},{"$f":"'Marks Entry'!P75","v":0},{"$f":"'Marks Entry'!Q75","v":0},{"$f":"'Marks Entry'!R75","v":0},{"$f":"'Marks Entry'!S75","v":0},{"$f":"'Marks Entry'!T75","v":0},{"$f":"'Marks Entry'!U75","v":0},{"$f":"'Marks Entry'!V75","v":0},{"$f":"'Marks Entry'!W75","v":0},{"$f":"'Marks Entry'!X75","v":0},{"$f":"'Marks Entry'!Y75","v":0},{"$f":"'Marks Entry'!Z75","v":0},{"$f":"'Marks Entry'!AA75","v":0},{"$f":"'Marks Entry'!AB75","v":0},{"$f":"'Marks Entry'!AC75","v":0},{"$f":"'Marks Entry'!AD75","v":""},{"$f":"'Marks Entry'!AE75","v":0},{"$f":"'Marks Entry'!AF75","v":0},{"$f":"'Marks Entry'!AG75","v":0},{"$f":"'Marks Entry'!AH75","v":0},{"$f":"'Marks Entry'!AI75","v":0},{"$f":"'Marks Entry'!AJ75","v":0},{"$f":"'Marks Entry'!AK75","v":0},{"$f":"'Marks Entry'!AL75","v":0},{"$f":"'Marks Entry'!AM75","v":0},{"$f":"'Marks Entry'!AN75","v":0},{"$f":"'Marks Entry'!AO75","v":0},{"$f":"'Marks Entry'!AP75","v":0},{"$f":"'Marks Entry'!AQ75","v":0},{"$f":"'Marks Entry'!AR75","v":0},{"$f":"'Marks Entry'!AS75","v":0},{"$f":"'Marks Entry'!AT75","v":0},{"$f":"'Marks Entry'!AU75","v":0},{"$f":"'Marks Entry'!AV75","v":0},{"$f":"'Marks Entry'!AW75","v":0},{"$f":"'Marks Entry'!AX75","v":"E"},{"$f":"'Marks Entry'!AY75","v":0},{"$f":"'Marks Entry'!AZ75","v":0},{"$f":"'Marks Entry'!BA75","v":0},{"$f":"'Marks Entry'!BB75","v":0},{"$f":"'Marks Entry'!BC75","v":0},{"$f":"'Marks Entry'!BD75","v":0},{"$f":"'Marks Entry'!BE75","v":0},{"$f":"'Marks Entry'!BF75","v":0},{"$f":"'Marks Entry'!BG75","v":0},{"$f":"'Marks Entry'!BH75","v":0},{"$f":"'Marks Entry'!BI75","v":0},{"$f":"'Marks Entry'!BJ75","v":0},{"$f":"'Marks Entry'!BK75","v":0},{"$f":"'Marks Entry'!BL75","v":0},{"$f":"'Marks Entry'!BM75","v":0},{"$f":"'Marks Entry'!BN75","v":0},{"$f":"'Marks Entry'!BO75","v":0},{"$f":"'Marks Entry'!BP75","v":0},{"$f":"'Marks Entry'!BQ75","v":0},{"$f":"'Marks Entry'!BR75","v":"E"},{"$f":"'Marks Entry'!BS75","v":0},{"$f":"'Marks Entry'!BT75","v":0},{"$f":"'Marks Entry'!BU75","v":0},{"$f":"'Marks Entry'!BV75","v":0},{"$f":"'Marks Entry'!BW75","v":0},{"$f":"'Marks Entry'!BX75","v":0},{"$f":"'Marks Entry'!BY75","v":0},{"$f":"'Marks Entry'!BZ75","v":0},{"$f":"'Marks Entry'!CA75","v":0},{"$f":"'Marks Entry'!CB75","v":0},{"$f":"'Marks Entry'!CC75","v":0},{"$f":"'Marks Entry'!CD75","v":0},{"$f":"'Marks Entry'!CE75","v":0},{"$f":"'Marks Entry'!CF75","v":0},{"$f":"'Marks Entry'!CG75","v":0},{"$f":"'Marks Entry'!CH75","v":0},{"$f":"'Marks Entry'!CI75","v":0},{"$f":"'Marks Entry'!CJ75","v":0},{"$f":"'Marks Entry'!CK75","v":0},{"$f":"'Marks Entry'!CL75","v":"E"},{"$f":"'Marks Entry'!CM75","v":0},{"$f":"'Marks Entry'!CN75","v":0},{"$f":"'Marks Entry'!CO75","v":0},{"$f":"'Marks Entry'!CP75","v":0},{"$f":"'Marks Entry'!CQ75","v":0},{"$f":"'Marks Entry'!CR75","v":0},{"$f":"'Marks Entry'!CS75","v":0},{"$f":"'Marks Entry'!CT75","v":0},{"$f":"'Marks Entry'!CU75","v":0},{"$f":"'Marks Entry'!CV75","v":0},{"$f":"'Marks Entry'!CW75","v":0},{"$f":"'Marks Entry'!CX75","v":0},{"$f":"'Marks Entry'!CY75","v":0},{"$f":"'Marks Entry'!CZ75","v":0},{"$f":"'Marks Entry'!DA75","v":0},{"$f":"'Marks Entry'!DB75","v":0},{"$f":"'Marks Entry'!DC75","v":0},{"$f":"'Marks Entry'!DD75","v":0},{"$f":"'Marks Entry'!DE75","v":0},{"$f":"'Marks Entry'!DF75","v":"E"},{"$f":"'Marks Entry'!DG75","v":0},{"$f":"'Marks Entry'!DH75","v":0},{"$f":"'Marks Entry'!DI75","v":0},{"$f":"'Marks Entry'!DJ75","v":0},{"$f":"'Marks Entry'!DK75","v":0},{"$f":"'Marks Entry'!DL75","v":0},{"$f":"'Marks Entry'!DM75","v":0},{"$f":"'Marks Entry'!DN75","v":0},{"$f":"'Marks Entry'!DO75","v":0},{"$f":"'Marks Entry'!DP75","v":0},{"$f":"'Marks Entry'!DQ75","v":0},{"$f":"'Marks Entry'!DR75","v":0},{"$f":"'Marks Entry'!DS75","v":0},{"$f":"'Marks Entry'!DT75","v":0},{"$f":"'Marks Entry'!DU75","v":0},{"$f":"'Marks Entry'!DV75","v":0},{"$f":"'Marks Entry'!DW75","v":0},{"$f":"'Marks Entry'!DX75","v":0},{"$f":"'Marks Entry'!DY75","v":0},{"$f":"'Marks Entry'!DZ75","v":"E"},{"$f":"'Marks Entry'!EA75","v":0},{"$f":"'Marks Entry'!EB75","v":0},{"$f":"'Marks Entry'!EC75","v":0},{"$f":"'Marks Entry'!ED75","v":0},{"$f":"'Marks Entry'!EE75","v":0},{"$f":"'Marks Entry'!EF75","v":0},{"$f":"'Marks Entry'!EG75","v":0},{"$f":"'Marks Entry'!EJ75","v":0},{"$f":"'Marks Entry'!EK75","v":0},{"$f":"'Marks Entry'!EL75","v":0},{"$f":"'Marks Entry'!EM75","v":0},{"$f":"'Marks Entry'!EN75","v":0},{"$f":"'Marks Entry'!EO75","v":0},{"$f":"'Marks Entry'!EP75","v":0},{"$f":"'Marks Entry'!ES75","v":0},{"$f":"'Marks Entry'!ET75","v":0},{"$f":"'Marks Entry'!EU75","v":0},{"$f":"'Marks Entry'!EV75","v":0},{"$f":"'Marks Entry'!EW75","v":0},{"$f":"'Marks Entry'!EX75","v":0},{"$f":"'Marks Entry'!EY75","v":0},{"$f":"'Marks Entry'!FB75","v":0},{"$f":"'Marks Entry'!FC75","v":0},{"$f":"'Marks Entry'!FD75","v":0},{"$f":"'Marks Entry'!FE75","v":""},{"$f":"'Marks Entry'!FF75","v":0},{"$f":"'Marks Entry'!FG75","v":0},{"$f":"'Marks Entry'!FH75","v":""},{"$f":"IF(OR('Marks Entry'!FI75=\"First\",'Marks Entry'!FI75=\"Second\",'Marks Entry'!FI75=\"Third\"),'Marks Entry'!FI75,\"\")","v":""},{"$f":"'Marks Entry'!FJ75","v":""},{"$f":"'Marks Entry'!FK75","v":""},{"$f":"'Marks Entry'!FL75","v":""},{"$f":"'Marks Entry'!FM75","v":""},{"$f":"'Marks Entry'!FO75","v":0}]
[null,0,{"$f":"'Marks Entry'!D76","v":0},{"$f":"'Marks Entry'!E76","v":0},{"$f":"'Marks Entry'!F76","v":0},{"$f":"'Marks Entry'!G76","v":0},{"$f":"'Marks Entry'!H76","v":0},{"$f":"'Marks Entry'!I76","v":0},{"$f":"'Marks Entry'!J76","v":0},{"$f":"'Marks Entry'!K76","v":"00:00:00"},{"$f":"'Marks Entry'!L76","v":0},{"$f":"'Marks Entry'!M76","v":0},{"$f":"'Marks Entry'!N76","v":0},{"$f":"'Marks Entry'!O76","v":0},{"$f":"'Marks Entry'!P76","v":0},{"$f":"'Marks Entry'!Q76","v":0},{"$f":"'Marks Entry'!R76","v":0},{"$f":"'Marks Entry'!S76","v":0},{"$f":"'Marks Entry'!T76","v":0},{"$f":"'Marks Entry'!U76","v":0},{"$f":"'Marks Entry'!V76","v":0},{"$f":"'Marks Entry'!W76","v":0},{"$f":"'Marks Entry'!X76","v":0},{"$f":"'Marks Entry'!Y76","v":0},{"$f":"'Marks Entry'!Z76","v":0},{"$f":"'Marks Entry'!AA76","v":0},{"$f":"'Marks Entry'!AB76","v":0},{"$f":"'Marks Entry'!AC76","v":0},{"$f":"'Marks Entry'!AD76","v":""},{"$f":"'Marks Entry'!AE76","v":0},{"$f":"'Marks Entry'!AF76","v":0},{"$f":"'Marks Entry'!AG76","v":0},{"$f":"'Marks Entry'!AH76","v":0},{"$f":"'Marks Entry'!AI76","v":0},{"$f":"'Marks Entry'!AJ76","v":0},{"$f":"'Marks Entry'!AK76","v":0},{"$f":"'Marks Entry'!AL76","v":0},{"$f":"'Marks Entry'!AM76","v":0},{"$f":"'Marks Entry'!AN76","v":0},{"$f":"'Marks Entry'!AO76","v":0},{"$f":"'Marks Entry'!AP76","v":0},{"$f":"'Marks Entry'!AQ76","v":0},{"$f":"'Marks Entry'!AR76","v":0},{"$f":"'Marks Entry'!AS76","v":0},{"$f":"'Marks Entry'!AT76","v":0},{"$f":"'Marks Entry'!AU76","v":0},{"$f":"'Marks Entry'!AV76","v":0},{"$f":"'Marks Entry'!AW76","v":0},{"$f":"'Marks Entry'!AX76","v":"E"},{"$f":"'Marks Entry'!AY76","v":0},{"$f":"'Marks Entry'!AZ76","v":0},{"$f":"'Marks Entry'!BA76","v":0},{"$f":"'Marks Entry'!BB76","v":0},{"$f":"'Marks Entry'!BC76","v":0},{"$f":"'Marks Entry'!BD76","v":0},{"$f":"'Marks Entry'!BE76","v":0},{"$f":"'Marks Entry'!BF76","v":0},{"$f":"'Marks Entry'!BG76","v":0},{"$f":"'Marks Entry'!BH76","v":0},{"$f":"'Marks Entry'!BI76","v":0},{"$f":"'Marks Entry'!BJ76","v":0},{"$f":"'Marks Entry'!BK76","v":0},{"$f":"'Marks Entry'!BL76","v":0},{"$f":"'Marks Entry'!BM76","v":0},{"$f":"'Marks Entry'!BN76","v":0},{"$f":"'Marks Entry'!BO76","v":0},{"$f":"'Marks Entry'!BP76","v":0},{"$f":"'Marks Entry'!BQ76","v":0},{"$f":"'Marks Entry'!BR76","v":"E"},{"$f":"'Marks Entry'!BS76","v":0},{"$f":"'Marks Entry'!BT76","v":0},{"$f":"'Marks Entry'!BU76","v":0},{"$f":"'Marks Entry'!BV76","v":0},{"$f":"'Marks Entry'!BW76","v":0},{"$f":"'Marks Entry'!BX76","v":0},{"$f":"'Marks Entry'!BY76","v":0},{"$f":"'Marks Entry'!BZ76","v":0},{"$f":"'Marks Entry'!CA76","v":0},{"$f":"'Marks Entry'!CB76","v":0},{"$f":"'Marks Entry'!CC76","v":0},{"$f":"'Marks Entry'!CD76","v":0},{"$f":"'Marks Entry'!CE76","v":0},{"$f":"'Marks Entry'!CF76","v":0},{"$f":"'Marks Entry'!CG76","v":0},{"$f":"'Marks Entry'!CH76","v":0},{"$f":"'Marks Entry'!CI76","v":0},{"$f":"'Marks Entry'!CJ76","v":0},{"$f":"'Marks Entry'!CK76","v":0},{"$f":"'Marks Entry'!CL76","v":"E"},{"$f":"'Marks Entry'!CM76","v":0},{"$f":"'Marks Entry'!CN76","v":0},{"$f":"'Marks Entry'!CO76","v":0},{"$f":"'Marks Entry'!CP76","v":0},{"$f":"'Marks Entry'!CQ76","v":0},{"$f":"'Marks Entry'!CR76","v":0},{"$f":"'Marks Entry'!CS76","v":0},{"$f":"'Marks Entry'!CT76","v":0},{"$f":"'Marks Entry'!CU76","v":0},{"$f":"'Marks Entry'!CV76","v":0},{"$f":"'Marks Entry'!CW76","v":0},{"$f":"'Marks Entry'!CX76","v":0},{"$f":"'Marks Entry'!CY76","v":0},{"$f":"'Marks Entry'!CZ76","v":0},{"$f":"'Marks Entry'!DA76","v":0},{"$f":"'Marks Entry'!DB76","v":0},{"$f":"'Marks Entry'!DC76","v":0},{"$f":"'Marks Entry'!DD76","v":0},{"$f":"'Marks Entry'!DE76","v":0},{"$f":"'Marks Entry'!DF76","v":"E"},{"$f":"'Marks Entry'!DG76","v":0},{"$f":"'Marks Entry'!DH76","v":0},{"$f":"'Marks Entry'!DI76","v":0},{"$f":"'Marks Entry'!DJ76","v":0},{"$f":"'Marks Entry'!DK76","v":0},{"$f":"'Marks Entry'!DL76","v":0},{"$f":"'Marks Entry'!DM76","v":0},{"$f":"'Marks Entry'!DN76","v":0},{"$f":"'Marks Entry'!DO76","v":0},{"$f":"'Marks Entry'!DP76","v":0},{"$f":"'Marks Entry'!DQ76","v":0},{"$f":"'Marks Entry'!DR76","v":0},{"$f":"'Marks Entry'!DS76","v":0},{"$f":"'Marks Entry'!DT76","v":0},{"$f":"'Marks Entry'!DU76","v":0},{"$f":"'Marks Entry'!DV76","v":0},{"$f":"'Marks Entry'!DW76","v":0},{"$f":"'Marks Entry'!DX76","v":0},{"$f":"'Marks Entry'!DY76","v":0},{"$f":"'Marks Entry'!DZ76","v":"E"},{"$f":"'Marks Entry'!EA76","v":0},{"$f":"'Marks Entry'!EB76","v":0},{"$f":"'Marks Entry'!EC76","v":0},{"$f":"'Marks Entry'!ED76","v":0},{"$f":"'Marks Entry'!EE76","v":0},{"$f":"'Marks Entry'!EF76","v":0},{"$f":"'Marks Entry'!EG76","v":0},{"$f":"'Marks Entry'!EJ76","v":0},{"$f":"'Marks Entry'!EK76","v":0},{"$f":"'Marks Entry'!EL76","v":0},{"$f":"'Marks Entry'!EM76","v":0},{"$f":"'Marks Entry'!EN76","v":0},{"$f":"'Marks Entry'!EO76","v":0},{"$f":"'Marks Entry'!EP76","v":0},{"$f":"'Marks Entry'!ES76","v":0},{"$f":"'Marks Entry'!ET76","v":0},{"$f":"'Marks Entry'!EU76","v":0},{"$f":"'Marks Entry'!EV76","v":0},{"$f":"'Marks Entry'!EW76","v":0},{"$f":"'Marks Entry'!EX76","v":0},{"$f":"'Marks Entry'!EY76","v":0},{"$f":"'Marks Entry'!FB76","v":0},{"$f":"'Marks Entry'!FC76","v":0},{"$f":"'Marks Entry'!FD76","v":0},{"$f":"'Marks Entry'!FE76","v":""},{"$f":"'Marks Entry'!FF76","v":0},{"$f":"'Marks Entry'!FG76","v":0},{"$f":"'Marks Entry'!FH76","v":""},{"$f":"IF(OR('Marks Entry'!FI76=\"First\",'Marks Entry'!FI76=\"Second\",'Marks Entry'!FI76=\"Third\"),'Marks Entry'!FI76,\"\")","v":""},{"$f":"'Marks Entry'!FJ76","v":""},{"$f":"'Marks Entry'!FK76","v":""},{"$f":"'Marks Entry'!FL76","v":""},{"$f":"'Marks Entry'!FM76","v":""},{"$f":"'Marks Entry'!FO76","v":0}]
[null,0,{"$f":"'Marks Entry'!D77","v":0},{"$f":"'Marks Entry'!E77","v":0},{"$f":"'Marks Entry'!F77","v":0},{"$f":"'Marks Entry'!G77","v":0},{"$f":"'Marks Entry'!H77","v":0},{"$f":"'Marks Entry'!I77","v":0},{"$f":"'Marks Entry'!J77","v":0},{"$f":"'Marks Entry'!K77","v":"00:00:00"},{"$f":"'Marks Entry'!L77","v":0},{"$f":"'Marks Entry'!M77","v":0},{"$f":"'Marks Entry'!N77","v":0},{"$f":"'Marks Entry'!O77","v":0},{"$f":"'Marks Entry'!P77","v":0},{"$f":"'Marks Entry'!Q77","v":0},{"$f":"'Marks Entry'!R77","v":0},{"$f":"'Marks Entry'!S77","v":0},{"$f":"'Marks Entry'!T77","v":0},{"$f":"'Marks Entry'!U77","v":0},{"$f":"'Marks Entry'!V77","v":0},{"$f":"'Marks Entry'!W77","v":0},{"$f":"'Marks Entry'!X77","v":0},{"$f":"'Marks Entry'!Y77","v":0},{"$f":"'Marks Entry'!Z77","v":0},{"$f":"'Marks Entry'!AA77","v":0},{"$f":"'Marks Entry'!AB77","v":0},{"$f":"'Marks Entry'!AC77","v":0},{"$f":"'Marks Entry'!AD77","v":""},{"$f":"'Marks Entry'!AE77","v":0},{"$f":"'Marks Entry'!AF77","v":0},{"$f":"'Marks Entry'!AG77","v":0},{"$f":"'Marks Entry'!AH77","v":0},{"$f":"'Marks Entry'!AI77","v":0},{"$f":"'Marks Entry'!AJ77","v":0},{"$f":"'Marks Entry'!AK77","v":0},{"$f":"'Marks Entry'!AL77","v":0},{"$f":"'Marks Entry'!AM77","v":0},{"$f":"'Marks Entry'!AN77","v":0},{"$f":"'Marks Entry'!AO77","v":0},{"$f":"'Marks Entry'!AP77","v":0},{"$f":"'Marks Entry'!AQ77","v":0},{"$f":"'Marks Entry'!AR77","v":0},{"$f":"'Marks Entry'!AS77","v":0},{"$f":"'Marks Entry'!AT77","v":0},{"$f":"'Marks Entry'!AU77","v":0},{"$f":"'Marks Entry'!AV77","v":0},{"$f":"'Marks Entry'!AW77","v":0},{"$f":"'Marks Entry'!AX77","v":"E"},{"$f":"'Marks Entry'!AY77","v":0},{"$f":"'Marks Entry'!AZ77","v":0},{"$f":"'Marks Entry'!BA77","v":0},{"$f":"'Marks Entry'!BB77","v":0},{"$f":"'Marks Entry'!BC77","v":0},{"$f":"'Marks Entry'!BD77","v":0},{"$f":"'Marks Entry'!BE77","v":0},{"$f":"'Marks Entry'!BF77","v":0},{"$f":"'Marks Entry'!BG77","v":0},{"$f":"'Marks Entry'!BH77","v":0},{"$f":"'Marks Entry'!BI77","v":0},{"$f":"'Marks Entry'!BJ77","v":0},{"$f":"'Marks Entry'!BK77","v":0},{"$f":"'Marks Entry'!BL77","v":0},{"$f":"'Marks Entry'!BM77","v":0},{"$f":"'Marks Entry'!BN77","v":0},{"$f":"'Marks Entry'!BO77","v":0},{"$f":"'Marks Entry'!BP77","v":0},{"$f":"'Marks Entry'!BQ77","v":0},{"$f":"'Marks Entry'!BR77","v":"E"},{"$f":"'Marks Entry'!BS77","v":0},{"$f":"'Marks Entry'!BT77","v":0},{"$f":"'Marks Entry'!BU77","v":0},{"$f":"'Marks Entry'!BV77","v":0},{"$f":"'Marks Entry'!BW77","v":0},{"$f":"'Marks Entry'!BX77","v":0},{"$f":"'Marks Entry'!BY77","v":0},{"$f":"'Marks Entry'!BZ77","v":0},{"$f":"'Marks Entry'!CA77","v":0},{"$f":"'Marks Entry'!CB77","v":0},{"$f":"'Marks Entry'!CC77","v":0},{"$f":"'Marks Entry'!CD77","v":0},{"$f":"'Marks Entry'!CE77","v":0},{"$f":"'Marks Entry'!CF77","v":0},{"$f":"'Marks Entry'!CG77","v":0},{"$f":"'Marks Entry'!CH77","v":0},{"$f":"'Marks Entry'!CI77","v":0},{"$f":"'Marks Entry'!CJ77","v":0},{"$f":"'Marks Entry'!CK77","v":0},{"$f":"'Marks Entry'!CL77","v":"E"},{"$f":"'Marks Entry'!CM77","v":0},{"$f":"'Marks Entry'!CN77","v":0},{"$f":"'Marks Entry'!CO77","v":0},{"$f":"'Marks Entry'!CP77","v":0},{"$f":"'Marks Entry'!CQ77","v":0},{"$f":"'Marks Entry'!CR77","v":0},{"$f":"'Marks Entry'!CS77","v":0},{"$f":"'Marks Entry'!CT77","v":0},{"$f":"'Marks Entry'!CU77","v":0},{"$f":"'Marks Entry'!CV77","v":0},{"$f":"'Marks Entry'!CW77","v":0},{"$f":"'Marks Entry'!CX77","v":0},{"$f":"'Marks Entry'!CY77","v":0},{"$f":"'Marks Entry'!CZ77","v":0},{"$f":"'Marks Entry'!DA77","v":0},{"$f":"'Marks Entry'!DB77","v":0},{"$f":"'Marks Entry'!DC77","v":0},{"$f":"'Marks Entry'!DD77","v":0},{"$f":"'Marks Entry'!DE77","v":0},{"$f":"'Marks Entry'!DF77","v":"E"},{"$f":"'Marks Entry'!DG77","v":0},{"$f":"'Marks Entry'!DH77","v":0},{"$f":"'Marks Entry'!DI77","v":0},{"$f":"'Marks Entry'!DJ77","v":0},{"$f":"'Marks Entry'!DK77","v":0},{"$f":"'Marks Entry'!DL77","v":0},{"$f":"'Marks Entry'!DM77","v":0},{"$f":"'Marks Entry'!DN77","v":0},{"$f":"'Marks Entry'!DO77","v":0},{"$f":"'Marks Entry'!DP77","v":0},{"$f":"'Marks Entry'!DQ77","v":0},{"$f":"'Marks Entry'!DR77","v":0},{"$f":"'Marks Entry'!DS77","v":0},{"$f":"'Marks Entry'!DT77","v":0},{"$f":"'Marks Entry'!DU77","v":0},{"$f":"'Marks Entry'!DV77","v":0},{"$f":"'Marks Entry'!DW77","v":0},{"$f":"'Marks Entry'!DX77","v":0},{"$f":"'Marks Entry'!DY77","v":0},{"$f":"'Marks Entry'!DZ77","v":"E"},{"$f":"'Marks Entry'!EA77","v":0},{"$f":"'Marks Entry'!EB77","v":0},{"$f":"'Marks Entry'!EC77","v":0},{"$f":"'Marks Entry'!ED77","v":0},{"$f":"'Marks Entry'!EE77","v":0},{"$f":"'Marks Entry'!EF77","v":0},{"$f":"'Marks Entry'!EG77","v":0},{"$f":"'Marks Entry'!EJ77","v":0},{"$f":"'Marks Entry'!EK77","v":0},{"$f":"'Marks Entry'!EL77","v":0},{"$f":"'Marks Entry'!EM77","v":0},{"$f":"'Marks Entry'!EN77","v":0},{"$f":"'Marks Entry'!EO77","v":0},{"$f":"'Marks Entry'!EP77","v":0},{"$f":"'Marks Entry'!ES77","v":0},{"$f":"'Marks Entry'!ET77","v":0},{"$f":"'Marks Entry'!EU77","v":0},{"$f":"'Marks Entry'!EV77","v":0},{"$f":"'Marks Entry'!EW77","v":0},{"$f":"'Marks Entry'!EX77","v":0},{"$f":"'Marks Entry'!EY77","v":0},{"$f":"'Marks Entry'!FB77","v":0},{"$f":"'Marks Entry'!FC77","v":0},{"$f":"'Marks Entry'!FD77","v":0},{"$f":"'Marks Entry'!FE77","v":""},{"$f":"'Marks Entry'!FF77","v":0},{"$f":"'Marks Entry'!FG77","v":0},{"$f":"'Marks Entry'!FH77","v":""},{"$f":"IF(OR('Marks Entry'!FI77=\"First\",'Marks Entry'!FI77=\"Second\",'Marks Entry'!FI77=\"Third\"),'Marks Entry'!FI77,\"\")","v":""},{"$f":"'Marks Entry'!FJ77","v":""},{"$f":"'Marks Entry'!FK77","v":""},{"$f":"'Marks Entry'!FL77","v":""},{"$f":"'Marks Entry'!FM77","v":""},{"$f":"'Marks Entry'!FO77","v":0}]
[null,0,{"$f":"'Marks Entry'!D78","v":0},{"$f":"'Marks Entry'!E78","v":0},{"$f":"'Marks Entry'!F78","v":0},{"$f":"'Marks Entry'!G78","v":0},{"$f":"'Marks Entry'!H78","v":0},{"$f":"'Marks Entry'!I78","v":0},{"$f":"'Marks Entry'!J78","v":0},{"$f":"'Marks Entry'!K78","v":"00:00:00"},{"$f":"'Marks Entry'!L78","v":0},{"$f":"'Marks Entry'!M78","v":0},{"$f":"'Marks Entry'!N78","v":0},{"$f":"'Marks Entry'!O78","v":0},{"$f":"'Marks Entry'!P78","v":0},{"$f":"'Marks Entry'!Q78","v":0},{"$f":"'Marks Entry'!R78","v":0},{"$f":"'Marks Entry'!S78","v":0},{"$f":"'Marks Entry'!T78","v":0},{"$f":"'Marks Entry'!U78","v":0},{"$f":"'Marks Entry'!V78","v":0},{"$f":"'Marks Entry'!W78","v":0},{"$f":"'Marks Entry'!X78","v":0},{"$f":"'Marks Entry'!Y78","v":0},{"$f":"'Marks Entry'!Z78","v":0},{"$f":"'Marks Entry'!AA78","v":0},{"$f":"'Marks Entry'!AB78","v":0},{"$f":"'Marks Entry'!AC78","v":0},{"$f":"'Marks Entry'!AD78","v":""},{"$f":"'Marks Entry'!AE78","v":0},{"$f":"'Marks Entry'!AF78","v":0},{"$f":"'Marks Entry'!AG78","v":0},{"$f":"'Marks Entry'!AH78","v":0},{"$f":"'Marks Entry'!AI78","v":0},{"$f":"'Marks Entry'!AJ78","v":0},{"$f":"'Marks Entry'!AK78","v":0},{"$f":"'Marks Entry'!AL78","v":0},{"$f":"'Marks Entry'!AM78","v":0},{"$f":"'Marks Entry'!AN78","v":0},{"$f":"'Marks Entry'!AO78","v":0},{"$f":"'Marks Entry'!AP78","v":0},{"$f":"'Marks Entry'!AQ78","v":0},{"$f":"'Marks Entry'!AR78","v":0},{"$f":"'Marks Entry'!AS78","v":0},{"$f":"'Marks Entry'!AT78","v":0},{"$f":"'Marks Entry'!AU78","v":0},{"$f":"'Marks Entry'!AV78","v":0},{"$f":"'Marks Entry'!AW78","v":0},{"$f":"'Marks Entry'!AX78","v":"E"},{"$f":"'Marks Entry'!AY78","v":0},{"$f":"'Marks Entry'!AZ78","v":0},{"$f":"'Marks Entry'!BA78","v":0},{"$f":"'Marks Entry'!BB78","v":0},{"$f":"'Marks Entry'!BC78","v":0},{"$f":"'Marks Entry'!BD78","v":0},{"$f":"'Marks Entry'!BE78","v":0},{"$f":"'Marks Entry'!BF78","v":0},{"$f":"'Marks Entry'!BG78","v":0},{"$f":"'Marks Entry'!BH78","v":0},{"$f":"'Marks Entry'!BI78","v":0},{"$f":"'Marks Entry'!BJ78","v":0},{"$f":"'Marks Entry'!BK78","v":0},{"$f":"'Marks Entry'!BL78","v":0},{"$f":"'Marks Entry'!BM78","v":0},{"$f":"'Marks Entry'!BN78","v":0},{"$f":"'Marks Entry'!BO78","v":0},{"$f":"'Marks Entry'!BP78","v":0},{"$f":"'Marks Entry'!BQ78","v":0},{"$f":"'Marks Entry'!BR78","v":"E"},{"$f":"'Marks Entry'!BS78","v":0},{"$f":"'Marks Entry'!BT78","v":0},{"$f":"'Marks Entry'!BU78","v":0},{"$f":"'Marks Entry'!BV78","v":0},{"$f":"'Marks Entry'!BW78","v":0},{"$f":"'Marks Entry'!BX78","v":0},{"$f":"'Marks Entry'!BY78","v":0},{"$f":"'Marks Entry'!BZ78","v":0},{"$f":"'Marks Entry'!CA78","v":0},{"$f":"'Marks Entry'!CB78","v":0},{"$f":"'Marks Entry'!CC78","v":0},{"$f":"'Marks Entry'!CD78","v":0},{"$f":"'Marks Entry'!CE78","v":0},{"$f":"'Marks Entry'!CF78","v":0},{"$f":"'Marks Entry'!CG78","v":0},{"$f":"'Marks Entry'!CH78","v":0},{"$f":"'Marks Entry'!CI78","v":0},{"$f":"'Marks Entry'!CJ78","v":0},{"$f":"'Marks Entry'!CK78","v":0},{"$f":"'Marks Entry'!CL78","v":"E"},{"$f":"'Marks Entry'!CM78","v":0},{"$f":"'Marks Entry'!CN78","v":0},{"$f":"'Marks Entry'!CO78","v":0},{"$f":"'Marks Entry'!CP78","v":0},{"$f":"'Marks Entry'!CQ78","v":0},{"$f":"'Marks Entry'!CR78","v":0},{"$f":"'Marks Entry'!CS78","v":0},{"$f":"'Marks Entry'!CT78","v":0},{"$f":"'Marks Entry'!CU78","v":0},{"$f":"'Marks Entry'!CV78","v":0},{"$f":"'Marks Entry'!CW78","v":0},{"$f":"'Marks Entry'!CX78","v":0},{"$f":"'Marks Entry'!CY78","v":0},{"$f":"'Marks Entry'!CZ78","v":0},{"$f":"'Marks Entry'!DA78","v":0},{"$f":"'Marks Entry'!DB78","v":0},{"$f":"'Marks Entry'!DC78","v":0},{"$f":"'Marks Entry'!DD78","v":0},{"$f":"'Marks Entry'!DE78","v":0},{"$f":"'Marks Entry'!DF78","v":"E"},{"$f":"'Marks Entry'!DG78","v":0},{"$f":"'Marks Entry'!DH78","v":0},{"$f":"'Marks Entry'!DI78","v":0},{"$f":"'Marks Entry'!DJ78","v":0},{"$f":"'Marks Entry'!DK78","v":0},{"$f":"'Marks Entry'!DL78","v":0},{"$f":"'Marks Entry'!DM78","v":0},{"$f":"'Marks Entry'!DN78","v":0},{"$f":"'Marks Entry'!DO78","v":0},{"$f":"'Marks Entry'!DP78","v":0},{"$f":"'Marks Entry'!DQ78","v":0},{"$f":"'Marks Entry'!DR78","v":0},{"$f":"'Marks Entry'!DS78","v":0},{"$f":"'Marks Entry'!DT78","v":0},{"$f":"'Marks Entry'!DU78","v":0},{"$f":"'Marks Entry'!DV78","v":0},{"$f":"'Marks Entry'!DW78","v":0},{"$f":"'Marks Entry'!DX78","v":0},{"$f":"'Marks Entry'!DY78","v":0},{"$f":"'Marks Entry'!DZ78","v":"E"},{"$f":"'Marks Entry'!EA78","v":0},{"$f":"'Marks Entry'!EB78","v":0},{"$f":"'Marks Entry'!EC78","v":0},{"$f":"'Marks Entry'!ED78","v":0},{"$f":"'Marks Entry'!EE78","v":0},{"$f":"'Marks Entry'!EF78","v":0},{"$f":"'Marks Entry'!EG78","v":0},{"$f":"'Marks Entry'!EJ78","v":0},{"$f":"'Marks Entry'!EK78","v":0},{"$f":"'Marks Entry'!EL78","v":0},{"$f":"'Marks Entry'!EM78","v":0},{"$f":"'Marks Entry'!EN78","v":0},{"$f":"'Marks Entry'!EO78","v":0},{"$f":"'Marks Entry'!EP78","v":0},{"$f":"'Marks Entry'!ES78","v":0},{"$f":"'Marks Entry'!ET78","v":0},{"$f":"'Marks Entry'!EU78","v":0},{"$f":"'Marks Entry'!EV78","v":0},{"$f":"'Marks Entry'!EW78","v":0},{"$f":"'Marks Entry'!EX78","v":0},{"$f":"'Marks Entry'!EY78","v":0},{"$f":"'Marks Entry'!FB78","v":0},{"$f":"'Marks Entry'!FC78","v":0},{"$f":"'Marks Entry'!FD78","v":0},{"$f":"'Marks Entry'!FE78","v":""},{"$f":"'Marks Entry'!FF78","v":0},{"$f":"'Marks Entry'!FG78","v":0},{"$f":"'Marks Entry'!FH78","v":""},{"$f":"IF(OR('Marks Entry'!FI78=\"First\",'Marks Entry'!FI78=\"Second\",'Marks Entry'!FI78=\"Third\"),'Marks Entry'!FI78,\"\")","v":""},{"$f":"'Marks Entry'!FJ78","v":""},{"$f":"'Marks Entry'!FK78","v":""},{"$f":"'Marks Entry'!FL78","v":""},{"$f":"'Marks Entry'!FM78","v":""},{"$f":"'Marks Entry'!FO78","v":0}]
[null,0,{"$f":"'Marks Entry'!D79","v":0},{"$f":"'Marks Entry'!E79","v":0},{"$f":"'Marks Entry'!F79","v":0},{"$f":"'Marks Entry'!G79","v":0},{"$f":"'Marks Entry'!H79","v":0},{"$f":"'Marks Entry'!I79","v":0},{"$f":"'Marks Entry'!J79","v":0},{"$f":"'Marks Entry'!K79","v":"00:00:00"},{"$f":"'Marks Entry'!L79","v":0},{"$f":"'Marks Entry'!M79","v":0},{"$f":"'Marks Entry'!N79","v":0},{"$f":"'Marks Entry'!O79","v":0},{"$f":"'Marks Entry'!P79","v":0},{"$f":"'Marks Entry'!Q79","v":0},{"$f":"'Marks Entry'!R79","v":0},{"$f":"'Marks Entry'!S79","v":0},{"$f":"'Marks Entry'!T79","v":0},{"$f":"'Marks Entry'!U79","v":0},{"$f":"'Marks Entry'!V79","v":0},{"$f":"'Marks Entry'!W79","v":0},{"$f":"'Marks Entry'!X79","v":0},{"$f":"'Marks Entry'!Y79","v":0},{"$f":"'Marks Entry'!Z79","v":0},{"$f":"'Marks Entry'!AA79","v":0},{"$f":"'Marks Entry'!AB79","v":0},{"$f":"'Marks Entry'!AC79","v":0},{"$f":"'Marks Entry'!AD79","v":""},{"$f":"'Marks Entry'!AE79","v":0},{"$f":"'Marks Entry'!AF79","v":0},{"$f":"'Marks Entry'!AG79","v":0},{"$f":"'Marks Entry'!AH79","v":0},{"$f":"'Marks Entry'!AI79","v":0},{"$f":"'Marks Entry'!AJ79","v":0},{"$f":"'Marks Entry'!AK79","v":0},{"$f":"'Marks Entry'!AL79","v":0},{"$f":"'Marks Entry'!AM79","v":0},{"$f":"'Marks Entry'!AN79","v":0},{"$f":"'Marks Entry'!AO79","v":0},{"$f":"'Marks Entry'!AP79","v":0},{"$f":"'Marks Entry'!AQ79","v":0},{"$f":"'Marks Entry'!AR79","v":0},{"$f":"'Marks Entry'!AS79","v":0},{"$f":"'Marks Entry'!AT79","v":0},{"$f":"'Marks Entry'!AU79","v":0},{"$f":"'Marks Entry'!AV79","v":0},{"$f":"'Marks Entry'!AW79","v":0},{"$f":"'Marks Entry'!AX79","v":"E"},{"$f":"'Marks Entry'!AY79","v":0},{"$f":"'Marks Entry'!AZ79","v":0},{"$f":"'Marks Entry'!BA79","v":0},{"$f":"'Marks Entry'!BB79","v":0},{"$f":"'Marks Entry'!BC79","v":0},{"$f":"'Marks Entry'!BD79","v":0},{"$f":"'Marks Entry'!BE79","v":0},{"$f":"'Marks Entry'!BF79","v":0},{"$f":"'Marks Entry'!BG79","v":0},{"$f":"'Marks Entry'!BH79","v":0},{"$f":"'Marks Entry'!BI79","v":0},{"$f":"'Marks Entry'!BJ79","v":0},{"$f":"'Marks Entry'!BK79","v":0},{"$f":"'Marks Entry'!BL79","v":0},{"$f":"'Marks Entry'!BM79","v":0},{"$f":"'Marks Entry'!BN79","v":0},{"$f":"'Marks Entry'!BO79","v":0},{"$f":"'Marks Entry'!BP79","v":0},{"$f":"'Marks Entry'!BQ79","v":0},{"$f":"'Marks Entry'!BR79","v":"E"},{"$f":"'Marks Entry'!BS79","v":0},{"$f":"'Marks Entry'!BT79","v":0},{"$f":"'Marks Entry'!BU79","v":0},{"$f":"'Marks Entry'!BV79","v":0},{"$f":"'Marks Entry'!BW79","v":0},{"$f":"'Marks Entry'!BX79","v":0},{"$f":"'Marks Entry'!BY79","v":0},{"$f":"'Marks Entry'!BZ79","v":0},{"$f":"'Marks Entry'!CA79","v":0},{"$f":"'Marks Entry'!CB79","v":0},{"$f":"'Marks Entry'!CC79","v":0},{"$f":"'Marks Entry'!CD79","v":0},{"$f":"'Marks Entry'!CE79","v":0},{"$f":"'Marks Entry'!CF79","v":0},{"$f":"'Marks Entry'!CG79","v":0},{"$f":"'Marks Entry'!CH79","v":0},{"$f":"'Marks Entry'!CI79","v":0},{"$f":"'Marks Entry'!CJ79","v":0},{"$f":"'Marks Entry'!CK79","v":0},{"$f":"'Marks Entry'!CL79","v":"E"},{"$f":"'Marks Entry'!CM79","v":0},{"$f":"'Marks Entry'!CN79","v":0},{"$f":"'Marks Entry'!CO79","v":0},{"$f":"'Marks Entry'!CP79","v":0},{"$f":"'Marks Entry'!CQ79","v":0},{"$f":"'Marks Entry'!CR79","v":0},{"$f":"'Marks Entry'!CS79","v":0},{"$f":"'Marks Entry'!CT79","v":0},{"$f":"'Marks Entry'!CU79","v":0},{"$f":"'Marks Entry'!CV79","v":0},{"$f":"'Marks Entry'!CW79","v":0},{"$f":"'Marks Entry'!CX79","v":0},{"$f":"'Marks Entry'!CY79","v":0},{"$f":"'Marks Entry'!CZ79","v":0},{"$f":"'Marks Entry'!DA79","v":0},{"$f":"'Marks Entry'!DB79","v":0},{"$f":"'Marks Entry'!DC79","v":0},{"$f":"'Marks Entry'!DD79","v":0},{"$f":"'Marks Entry'!DE79","v":0},{"$f":"'Marks Entry'!DF79","v":"E"},{"$f":"'Marks Entry'!DG79","v":0},{"$f":"'Marks Entry'!DH79","v":0},{"$f":"'Marks Entry'!DI79","v":0},{"$f":"'Marks Entry'!DJ79","v":0},{"$f":"'Marks Entry'!DK79","v":0},{"$f":"'Marks Entry'!DL79","v":0},{"$f":"'Marks Entry'!DM79","v":0},{"$f":"'Marks Entry'!DN79","v":0},{"$f":"'Marks Entry'!DO79","v":0},{"$f":"'Marks Entry'!DP79","v":0},{"$f":"'Marks Entry'!DQ79","v":0},{"$f":"'Marks Entry'!DR79","v":0},{"$f":"'Marks Entry'!DS79","v":0},{"$f":"'Marks Entry'!DT79","v":0},{"$f":"'Marks Entry'!DU79","v":0},{"$f":"'Marks Entry'!DV79","v":0},{"$f":"'Marks Entry'!DW79","v":0},{"$f":"'Marks Entry'!DX79","v":0},{"$f":"'Marks Entry'!DY79","v":0},{"$f":"'Marks Entry'!DZ79","v":"E"},{"$f":"'Marks Entry'!EA79","v":0},{"$f":"'Marks Entry'!EB79","v":0},{"$f":"'Marks Entry'!EC79","v":0},{"$f":"'Marks Entry'!ED79","v":0},{"$f":"'Marks Entry'!EE79","v":0},{"$f":"'Marks Entry'!EF79","v":0},{"$f":"'Marks Entry'!EG79","v":0},{"$f":"'Marks Entry'!EJ79","v":0},{"$f":"'Marks Entry'!EK79","v":0},{"$f":"'Marks Entry'!EL79","v":0},{"$f":"'Marks Entry'!EM79","v":0},{"$f":"'Marks Entry'!EN79","v":0},{"$f":"'Marks Entry'!EO79","v":0},{"$f":"'Marks Entry'!EP79","v":0},{"$f":"'Marks Entry'!ES79","v":0},{"$f":"'Marks Entry'!ET79","v":0},{"$f":"'Marks Entry'!EU79","v":0},{"$f":"'Marks Entry'!EV79","v":0},{"$f":"'Marks Entry'!EW79","v":0},{"$f":"'Marks Entry'!EX79","v":0},{"$f":"'Marks Entry'!EY79","v":0},{"$f":"'Marks Entry'!FB79","v":0},{"$f":"'Marks Entry'!FC79","v":0},{"$f":"'Marks Entry'!FD79","v":0},{"$f":"'Marks Entry'!FE79","v":""},{"$f":"'Marks Entry'!FF79","v":0},{"$f":"'Marks Entry'!FG79","v":0},{"$f":"'Marks Entry'!FH79","v":""},{"$f":"IF(OR('Marks Entry'!FI79=\"First\",'Marks Entry'!FI79=\"Second\",'Marks Entry'!FI79=\"Third\"),'Marks Entry'!FI79,\"\")","v":""},{"$f":"'Marks Entry'!FJ79","v":""},{"$f":"'Marks Entry'!FK79","v":""},{"$f":"'Marks Entry'!FL79","v":""},{"$f":"'Marks Entry'!FM79","v":""},{"$f":"'Marks Entry'!FO79","v":0}]
[null,0,{"$f":"'Marks Entry'!D80","v":0},{"$f":"'Marks Entry'!E80","v":0},{"$f":"'Marks Entry'!F80","v":0},{"$f":"'Marks Entry'!G80","v":0},{"$f":"'Marks Entry'!H80","v":0},{"$f":"'Marks Entry'!I80","v":0},{"$f":"'Marks Entry'!J80","v":0},{"$f":"'Marks Entry'!K80","v":"00:00:00"},{"$f":"'Marks Entry'!L80","v":0},{"$f":"'Marks Entry'!M80","v":0},{"$f":"'Marks Entry'!N80","v":0},{"$f":"'Marks Entry'!O80","v":0},{"$f":"'Marks Entry'!P80","v":0},{"$f":"'Marks Entry'!Q80","v":0},{"$f":"'Marks Entry'!R80","v":0},{"$f":"'Marks Entry'!S80","v":0},{"$f":"'Marks Entry'!T80","v":0},{"$f":"'Marks Entry'!U80","v":0},{"$f":"'Marks Entry'!V80","v":0},{"$f":"'Marks Entry'!W80","v":0},{"$f":"'Marks Entry'!X80","v":0},{"$f":"'Marks Entry'!Y80","v":0},{"$f":"'Marks Entry'!Z80","v":0},{"$f":"'Marks Entry'!AA80","v":0},{"$f":"'Marks Entry'!AB80","v":0},{"$f":"'Marks Entry'!AC80","v":0},{"$f":"'Marks Entry'!AD80","v":""},{"$f":"'Marks Entry'!AE80","v":0},{"$f":"'Marks Entry'!AF80","v":0},{"$f":"'Marks Entry'!AG80","v":0},{"$f":"'Marks Entry'!AH80","v":0},{"$f":"'Marks Entry'!AI80","v":0},{"$f":"'Marks Entry'!AJ80","v":0},{"$f":"'Marks Entry'!AK80","v":0},{"$f":"'Marks Entry'!AL80","v":0},{"$f":"'Marks Entry'!AM80","v":0},{"$f":"'Marks Entry'!AN80","v":0},{"$f":"'Marks Entry'!AO80","v":0},{"$f":"'Marks Entry'!AP80","v":0},{"$f":"'Marks Entry'!AQ80","v":0},{"$f":"'Marks Entry'!AR80","v":0},{"$f":"'Marks Entry'!AS80","v":0},{"$f":"'Marks Entry'!AT80","v":0},{"$f":"'Marks Entry'!AU80","v":0},{"$f":"'Marks Entry'!AV80","v":0},{"$f":"'Marks Entry'!AW80","v":0},{"$f":"'Marks Entry'!AX80","v":"E"},{"$f":"'Marks Entry'!AY80","v":0},{"$f":"'Marks Entry'!AZ80","v":0},{"$f":"'Marks Entry'!BA80","v":0},{"$f":"'Marks Entry'!BB80","v":0},{"$f":"'Marks Entry'!BC80","v":0},{"$f":"'Marks Entry'!BD80","v":0},{"$f":"'Marks Entry'!BE80","v":0},{"$f":"'Marks Entry'!BF80","v":0},{"$f":"'Marks Entry'!BG80","v":0},{"$f":"'Marks Entry'!BH80","v":0},{"$f":"'Marks Entry'!BI80","v":0},{"$f":"'Marks Entry'!BJ80","v":0},{"$f":"'Marks Entry'!BK80","v":0},{"$f":"'Marks Entry'!BL80","v":0},{"$f":"'Marks Entry'!BM80","v":0},{"$f":"'Marks Entry'!BN80","v":0},{"$f":"'Marks Entry'!BO80","v":0},{"$f":"'Marks Entry'!BP80","v":0},{"$f":"'Marks Entry'!BQ80","v":0},{"$f":"'Marks Entry'!BR80","v":"E"},{"$f":"'Marks Entry'!BS80","v":0},{"$f":"'Marks Entry'!BT80","v":0},{"$f":"'Marks Entry'!BU80","v":0},{"$f":"'Marks Entry'!BV80","v":0},{"$f":"'Marks Entry'!BW80","v":0},{"$f":"'Marks Entry'!BX80","v":0},{"$f":"'Marks Entry'!BY80","v":0},{"$f":"'Marks Entry'!BZ80","v":0},{"$f":"'Marks Entry'!CA80","v":0},{"$f":"'Marks Entry'!CB80","v":0},{"$f":"'Marks Entry'!CC80","v":0},{"$f":"'Marks Entry'!CD80","v":0},{"$f":"'Marks Entry'!CE80","v":0},{"$f":"'Marks Entry'!CF80","v":0},{"$f":"'Marks Entry'!CG80","v":0},{"$f":"'Marks Entry'!CH80","v":0},{"$f":"'Marks Entry'!CI80","v":0},{"$f":"'Marks Entry'!CJ80","v":0},{"$f":"'Marks Entry'!CK80","v":0},{"$f":"'Marks Entry'!CL80","v":"E"},{"$f":"'Marks Entry'!CM80","v":0},{"$f":"'Marks Entry'!CN80","v":0},{"$f":"'Marks Entry'!CO80","v":0},{"$f":"'Marks Entry'!CP80","v":0},{"$f":"'Marks Entry'!CQ80","v":0},{"$f":"'Marks Entry'!CR80","v":0},{"$f":"'Marks Entry'!CS80","v":0},{"$f":"'Marks Entry'!CT80","v":0},{"$f":"'Marks Entry'!CU80","v":0},{"$f":"'Marks Entry'!CV80","v":0},{"$f":"'Marks Entry'!CW80","v":0},{"$f":"'Marks Entry'!CX80","v":0},{"$f":"'Marks Entry'!CY80","v":0},{"$f":"'Marks Entry'!CZ80","v":0},{"$f":"'Marks Entry'!DA80","v":0},{"$f":"'Marks Entry'!DB80","v":0},{"$f":"'Marks Entry'!DC80","v":0},{"$f":"'Marks Entry'!DD80","v":0},{"$f":"'Marks Entry'!DE80","v":0},{"$f":"'Marks Entry'!DF80","v":"E"},{"$f":"'Marks Entry'!DG80","v":0},{"$f":"'Marks Entry'!DH80","v":0},{"$f":"'Marks Entry'!DI80","v":0},{"$f":"'Marks Entry'!DJ80","v":0},{"$f":"'Marks Entry'!DK80","v":0},{"$f":"'Marks Entry'!DL80","v":0},{"$f":"'Marks Entry'!DM80","v":0},{"$f":"'Marks Entry'!DN80","v":0},{"$f":"'Marks Entry'!DO80","v":0},{"$f":"'Marks Entry'!DP80","v":0},{"$f":"'Marks Entry'!DQ80","v":0},{"$f":"'Marks Entry'!DR80","v":0},{"$f":"'Marks Entry'!DS80","v":0},{"$f":"'Marks Entry'!DT80","v":0},{"$f":"'Marks Entry'!DU80","v":0},{"$f":"'Marks Entry'!DV80","v":0},{"$f":"'Marks Entry'!DW80","v":0},{"$f":"'Marks Entry'!DX80","v":0},{"$f":"'Marks Entry'!DY80","v":0},{"$f":"'Marks Entry'!DZ80","v":"E"},{"$f":"'Marks Entry'!EA80","v":0},{"$f":"'Marks Entry'!EB80","v":0},{"$f":"'Marks Entry'!EC80","v":0},{"$f":"'Marks Entry'!ED80","v":0},{"$f":"'Marks Entry'!EE80","v":0},{"$f":"'Marks Entry'!EF80","v":0},{"$f":"'Marks Entry'!EG80","v":0},{"$f":"'Marks Entry'!EJ80","v":0},{"$f":"'Marks Entry'!EK80","v":0},{"$f":"'Marks Entry'!EL80","v":0},{"$f":"'Marks Entry'!EM80","v":0},{"$f":"'Marks Entry'!EN80","v":0},{"$f":"'Marks Entry'!EO80","v":0},{"$f":"'Marks Entry'!EP80","v":0},{"$f":"'Marks Entry'!ES80","v":0},{"$f":"'Marks Entry'!ET80","v":0},{"$f":"'Marks Entry'!EU80","v":0},{"$f":"'Marks Entry'!EV80","v":0},{"$f":"'Marks Entry'!EW80","v":0},{"$f":"'Marks Entry'!EX80","v":0},{"$f":"'Marks Entry'!EY80","v":0},{"$f":"'Marks Entry'!FB80","v":0},{"$f":"'Marks Entry'!FC80","v":0},{"$f":"'Marks Entry'!FD80","v":0},{"$f":"'Marks Entry'!FE80","v":""},{"$f":"'Marks Entry'!FF80","v":0},{"$f":"'Marks Entry'!FG80","v":0},{"$f":"'Marks Entry'!FH80","v":""},{"$f":"IF(OR('Marks Entry'!FI80=\"First\",'Marks Entry'!FI80=\"Second\",'Marks Entry'!FI80=\"Third\"),'Marks Entry'!FI80,\"\")","v":""},{"$f":"'Marks Entry'!FJ80","v":""},{"$f":"'Marks Entry'!FK80","v":""},{"$f":"'Marks Entry'!FL80","v":""},{"$f":"'Marks Entry'!FM80","v":""},{"$f":"'Marks Entry'!FO80","v":0}]
[null,0,{"$f":"'Marks Entry'!D81","v":0},{"$f":"'Marks Entry'!E81","v":0},{"$f":"'Marks Entry'!F81","v":0},{"$f":"'Marks Entry'!G81","v":0},{"$f":"'Marks Entry'!H81","v":0},{"$f":"'Marks Entry'!I81","v":0},{"$f":"'Marks Entry'!J81","v":0},{"$f":"'Marks Entry'!K81","v":"00:00:00"},{"$f":"'Marks Entry'!L81","v":0},{"$f":"'Marks Entry'!M81","v":0},{"$f":"'Marks Entry'!N81","v":0},{"$f":"'Marks Entry'!O81","v":0},{"$f":"'Marks Entry'!P81","v":0},{"$f":"'Marks Entry'!Q81","v":0},{"$f":"'Marks Entry'!R81","v":0},{"$f":"'Marks Entry'!S81","v":0},{"$f":"'Marks Entry'!T81","v":0},{"$f":"'Marks Entry'!U81","v":0},{"$f":"'Marks Entry'!V81","v":0},{"$f":"'Marks Entry'!W81","v":0},{"$f":"'Marks Entry'!X81","v":0},{"$f":"'Marks Entry'!Y81","v":0},{"$f":"'Marks Entry'!Z81","v":0},{"$f":"'Marks Entry'!AA81","v":0},{"$f":"'Marks Entry'!AB81","v":0},{"$f":"'Marks Entry'!AC81","v":0},{"$f":"'Marks Entry'!AD81","v":""},{"$f":"'Marks Entry'!AE81","v":0},{"$f":"'Marks Entry'!AF81","v":0},{"$f":"'Marks Entry'!AG81","v":0},{"$f":"'Marks Entry'!AH81","v":0},{"$f":"'Marks Entry'!AI81","v":0},{"$f":"'Marks Entry'!AJ81","v":0},{"$f":"'Marks Entry'!AK81","v":0},{"$f":"'Marks Entry'!AL81","v":0},{"$f":"'Marks Entry'!AM81","v":0},{"$f":"'Marks Entry'!AN81","v":0},{"$f":"'Marks Entry'!AO81","v":0},{"$f":"'Marks Entry'!AP81","v":0},{"$f":"'Marks Entry'!AQ81","v":0},{"$f":"'Marks Entry'!AR81","v":0},{"$f":"'Marks Entry'!AS81","v":0},{"$f":"'Marks Entry'!AT81","v":0},{"$f":"'Marks Entry'!AU81","v":0},{"$f":"'Marks Entry'!AV81","v":0},{"$f":"'Marks Entry'!AW81","v":0},{"$f":"'Marks Entry'!AX81","v":"E"},{"$f":"'Marks Entry'!AY81","v":0},{"$f":"'Marks Entry'!AZ81","v":0},{"$f":"'Marks Entry'!BA81","v":0},{"$f":"'Marks Entry'!BB81","v":0},{"$f":"'Marks Entry'!BC81","v":0},{"$f":"'Marks Entry'!BD81","v":0},{"$f":"'Marks Entry'!BE81","v":0},{"$f":"'Marks Entry'!BF81","v":0},{"$f":"'Marks Entry'!BG81","v":0},{"$f":"'Marks Entry'!BH81","v":0},{"$f":"'Marks Entry'!BI81","v":0},{"$f":"'Marks Entry'!BJ81","v":0},{"$f":"'Marks Entry'!BK81","v":0},{"$f":"'Marks Entry'!BL81","v":0},{"$f":"'Marks Entry'!BM81","v":0},{"$f":"'Marks Entry'!BN81","v":0},{"$f":"'Marks Entry'!BO81","v":0},{"$f":"'Marks Entry'!BP81","v":0},{"$f":"'Marks Entry'!BQ81","v":0},{"$f":"'Marks Entry'!BR81","v":"E"},{"$f":"'Marks Entry'!BS81","v":0},{"$f":"'Marks Entry'!BT81","v":0},{"$f":"'Marks Entry'!BU81","v":0},{"$f":"'Marks Entry'!BV81","v":0},{"$f":"'Marks Entry'!BW81","v":0},{"$f":"'Marks Entry'!BX81","v":0},{"$f":"'Marks Entry'!BY81","v":0},{"$f":"'Marks Entry'!BZ81","v":0},{"$f":"'Marks Entry'!CA81","v":0},{"$f":"'Marks Entry'!CB81","v":0},{"$f":"'Marks Entry'!CC81","v":0},{"$f":"'Marks Entry'!CD81","v":0},{"$f":"'Marks Entry'!CE81","v":0},{"$f":"'Marks Entry'!CF81","v":0},{"$f":"'Marks Entry'!CG81","v":0},{"$f":"'Marks Entry'!CH81","v":0},{"$f":"'Marks Entry'!CI81","v":0},{"$f":"'Marks Entry'!CJ81","v":0},{"$f":"'Marks Entry'!CK81","v":0},{"$f":"'Marks Entry'!CL81","v":"E"},{"$f":"'Marks Entry'!CM81","v":0},{"$f":"'Marks Entry'!CN81","v":0},{"$f":"'Marks Entry'!CO81","v":0},{"$f":"'Marks Entry'!CP81","v":0},{"$f":"'Marks Entry'!CQ81","v":0},{"$f":"'Marks Entry'!CR81","v":0},{"$f":"'Marks Entry'!CS81","v":0},{"$f":"'Marks Entry'!CT81","v":0},{"$f":"'Marks Entry'!CU81","v":0},{"$f":"'Marks Entry'!CV81","v":0},{"$f":"'Marks Entry'!CW81","v":0},{"$f":"'Marks Entry'!CX81","v":0},{"$f":"'Marks Entry'!CY81","v":0},{"$f":"'Marks Entry'!CZ81","v":0},{"$f":"'Marks Entry'!DA81","v":0},{"$f":"'Marks Entry'!DB81","v":0},{"$f":"'Marks Entry'!DC81","v":0},{"$f":"'Marks Entry'!DD81","v":0},{"$f":"'Marks Entry'!DE81","v":0},{"$f":"'Marks Entry'!DF81","v":"E"},{"$f":"'Marks Entry'!DG81","v":0},{"$f":"'Marks Entry'!DH81","v":0},{"$f":"'Marks Entry'!DI81","v":0},{"$f":"'Marks Entry'!DJ81","v":0},{"$f":"'Marks Entry'!DK81","v":0},{"$f":"'Marks Entry'!DL81","v":0},{"$f":"'Marks Entry'!DM81","v":0},{"$f":"'Marks Entry'!DN81","v":0},{"$f":"'Marks Entry'!DO81","v":0},{"$f":"'Marks Entry'!DP81","v":0},{"$f":"'Marks Entry'!DQ81","v":0},{"$f":"'Marks Entry'!DR81","v":0},{"$f":"'Marks Entry'!DS81","v":0},{"$f":"'Marks Entry'!DT81","v":0},{"$f":"'Marks Entry'!DU81","v":0},{"$f":"'Marks Entry'!DV81","v":0},{"$f":"'Marks Entry'!DW81","v":0},{"$f":"'Marks Entry'!DX81","v":0},{"$f":"'Marks Entry'!DY81","v":0},{"$f":"'Marks Entry'!DZ81","v":"E"},{"$f":"'Marks Entry'!EA81","v":0},{"$f":"'Marks Entry'!EB81","v":0},{"$f":"'Marks Entry'!EC81","v":0},{"$f":"'Marks Entry'!ED81","v":0},{"$f":"'Marks Entry'!EE81","v":0},{"$f":"'Marks Entry'!EF81","v":0},{"$f":"'Marks Entry'!EG81","v":0},{"$f":"'Marks Entry'!EJ81","v":0},{"$f":"'Marks Entry'!EK81","v":0},{"$f":"'Marks Entry'!EL81","v":0},{"$f":"'Marks Entry'!EM81","v":0},{"$f":"'Marks Entry'!EN81","v":0},{"$f":"'Marks Entry'!EO81","v":0},{"$f":"'Marks Entry'!EP81","v":0},{"$f":"'Marks Entry'!ES81","v":0},{"$f":"'Marks Entry'!ET81","v":0},{"$f":"'Marks Entry'!EU81","v":0},{"$f":"'Marks Entry'!EV81","v":0},{"$f":"'Marks Entry'!EW81","v":0},{"$f":"'Marks Entry'!EX81","v":0},{"$f":"'Marks Entry'!EY81","v":0},{"$f":"'Marks Entry'!FB81","v":0},{"$f":"'Marks Entry'!FC81","v":0},{"$f":"'Marks Entry'!FD81","v":0},{"$f":"'Marks Entry'!FE81","v":""},{"$f":"'Marks Entry'!FF81","v":0},{"$f":"'Marks Entry'!FG81","v":0},{"$f":"'Marks Entry'!FH81","v":""},{"$f":"IF(OR('Marks Entry'!FI81=\"First\",'Marks Entry'!FI81=\"Second\",'Marks Entry'!FI81=\"Third\"),'Marks Entry'!FI81,\"\")","v":""},{"$f":"'Marks Entry'!FJ81","v":""},{"$f":"'Marks Entry'!FK81","v":""},{"$f":"'Marks Entry'!FL81","v":""},{"$f":"'Marks Entry'!FM81","v":""},{"$f":"'Marks Entry'!FO81","v":0}]
[null,0,{"$f":"'Marks Entry'!D82","v":0},{"$f":"'Marks Entry'!E82","v":0},{"$f":"'Marks Entry'!F82","v":0},{"$f":"'Marks Entry'!G82","v":0},{"$f":"'Marks Entry'!H82","v":0},{"$f":"'Marks Entry'!I82","v":0},{"$f":"'Marks Entry'!J82","v":0},{"$f":"'Marks Entry'!K82","v":"00:00:00"},{"$f":"'Marks Entry'!L82","v":0},{"$f":"'Marks Entry'!M82","v":0},{"$f":"'Marks Entry'!N82","v":0},{"$f":"'Marks Entry'!O82","v":0},{"$f":"'Marks Entry'!P82","v":0},{"$f":"'Marks Entry'!Q82","v":0},{"$f":"'Marks Entry'!R82","v":0},{"$f":"'Marks Entry'!S82","v":0},{"$f":"'Marks Entry'!T82","v":0},{"$f":"'Marks Entry'!U82","v":0},{"$f":"'Marks Entry'!V82","v":0},{"$f":"'Marks Entry'!W82","v":0},{"$f":"'Marks Entry'!X82","v":0},{"$f":"'Marks Entry'!Y82","v":0},{"$f":"'Marks Entry'!Z82","v":0},{"$f":"'Marks Entry'!AA82","v":0},{"$f":"'Marks Entry'!AB82","v":0},{"$f":"'Marks Entry'!AC82","v":0},{"$f":"'Marks Entry'!AD82","v":""},{"$f":"'Marks Entry'!AE82","v":0},{"$f":"'Marks Entry'!AF82","v":0},{"$f":"'Marks Entry'!AG82","v":0},{"$f":"'Marks Entry'!AH82","v":0},{"$f":"'Marks Entry'!AI82","v":0},{"$f":"'Marks Entry'!AJ82","v":0},{"$f":"'Marks Entry'!AK82","v":0},{"$f":"'Marks Entry'!AL82","v":0},{"$f":"'Marks Entry'!AM82","v":0},{"$f":"'Marks Entry'!AN82","v":0},{"$f":"'Marks Entry'!AO82","v":0},{"$f":"'Marks Entry'!AP82","v":0},{"$f":"'Marks Entry'!AQ82","v":0},{"$f":"'Marks Entry'!AR82","v":0},{"$f":"'Marks Entry'!AS82","v":0},{"$f":"'Marks Entry'!AT82","v":0},{"$f":"'Marks Entry'!AU82","v":0},{"$f":"'Marks Entry'!AV82","v":0},{"$f":"'Marks Entry'!AW82","v":0},{"$f":"'Marks Entry'!AX82","v":"E"},{"$f":"'Marks Entry'!AY82","v":0},{"$f":"'Marks Entry'!AZ82","v":0},{"$f":"'Marks Entry'!BA82","v":0},{"$f":"'Marks Entry'!BB82","v":0},{"$f":"'Marks Entry'!BC82","v":0},{"$f":"'Marks Entry'!BD82","v":0},{"$f":"'Marks Entry'!BE82","v":0},{"$f":"'Marks Entry'!BF82","v":0},{"$f":"'Marks Entry'!BG82","v":0},{"$f":"'Marks Entry'!BH82","v":0},{"$f":"'Marks Entry'!BI82","v":0},{"$f":"'Marks Entry'!BJ82","v":0},{"$f":"'Marks Entry'!BK82","v":0},{"$f":"'Marks Entry'!BL82","v":0},{"$f":"'Marks Entry'!BM82","v":0},{"$f":"'Marks Entry'!BN82","v":0},{"$f":"'Marks Entry'!BO82","v":0},{"$f":"'Marks Entry'!BP82","v":0},{"$f":"'Marks Entry'!BQ82","v":0},{"$f":"'Marks Entry'!BR82","v":"E"},{"$f":"'Marks Entry'!BS82","v":0},{"$f":"'Marks Entry'!BT82","v":0},{"$f":"'Marks Entry'!BU82","v":0},{"$f":"'Marks Entry'!BV82","v":0},{"$f":"'Marks Entry'!BW82","v":0},{"$f":"'Marks Entry'!BX82","v":0},{"$f":"'Marks Entry'!BY82","v":0},{"$f":"'Marks Entry'!BZ82","v":0},{"$f":"'Marks Entry'!CA82","v":0},{"$f":"'Marks Entry'!CB82","v":0},{"$f":"'Marks Entry'!CC82","v":0},{"$f":"'Marks Entry'!CD82","v":0},{"$f":"'Marks Entry'!CE82","v":0},{"$f":"'Marks Entry'!CF82","v":0},{"$f":"'Marks Entry'!CG82","v":0},{"$f":"'Marks Entry'!CH82","v":0},{"$f":"'Marks Entry'!CI82","v":0},{"$f":"'Marks Entry'!CJ82","v":0},{"$f":"'Marks Entry'!CK82","v":0},{"$f":"'Marks Entry'!CL82","v":"E"},{"$f":"'Marks Entry'!CM82","v":0},{"$f":"'Marks Entry'!CN82","v":0},{"$f":"'Marks Entry'!CO82","v":0},{"$f":"'Marks Entry'!CP82","v":0},{"$f":"'Marks Entry'!CQ82","v":0},{"$f":"'Marks Entry'!CR82","v":0},{"$f":"'Marks Entry'!CS82","v":0},{"$f":"'Marks Entry'!CT82","v":0},{"$f":"'Marks Entry'!CU82","v":0},{"$f":"'Marks Entry'!CV82","v":0},{"$f":"'Marks Entry'!CW82","v":0},{"$f":"'Marks Entry'!CX82","v":0},{"$f":"'Marks Entry'!CY82","v":0},{"$f":"'Marks Entry'!CZ82","v":0},{"$f":"'Marks Entry'!DA82","v":0},{"$f":"'Marks Entry'!DB82","v":0},{"$f":"'Marks Entry'!DC82","v":0},{"$f":"'Marks Entry'!DD82","v":0},{"$f":"'Marks Entry'!DE82","v":0},{"$f":"'Marks Entry'!DF82","v":"E"},{"$f":"'Marks Entry'!DG82","v":0},{"$f":"'Marks Entry'!DH82","v":0},{"$f":"'Marks Entry'!DI82","v":0},{"$f":"'Marks Entry'!DJ82","v":0},{"$f":"'Marks Entry'!DK82","v":0},{"$f":"'Marks Entry'!DL82","v":0},{"$f":"'Marks Entry'!DM82","v":0},{"$f":"'Marks Entry'!DN82","v":0},{"$f":"'Marks Entry'!DO82","v":0},{"$f":"'Marks Entry'!DP82","v":0},{"$f":"'Marks Entry'!DQ82","v":0},{"$f":"'Marks Entry'!DR82","v":0},{"$f":"'Marks Entry'!DS82","v":0},{"$f":"'Marks Entry'!DT82","v":0},{"$f":"'Marks Entry'!DU82","v":0},{"$f":"'Marks Entry'!DV82","v":0},{"$f":"'Marks Entry'!DW82","v":0},{"$f":"'Marks Entry'!DX82","v":0},{"$f":"'Marks Entry'!DY82","v":0},{"$f":"'Marks Entry'!DZ82","v":"E"},{"$f":"'Marks Entry'!EA82","v":0},{"$f":"'Marks Entry'!EB82","v":0},{"$f":"'Marks Entry'!EC82","v":0},{"$f":"'Marks Entry'!ED82","v":0},{"$f":"'Marks Entry'!EE82","v":0},{"$f":"'Marks Entry'!EF82","v":0},{"$f":"'Marks Entry'!EG82","v":0},{"$f":"'Marks Entry'!EJ82","v":0},{"$f":"'Marks Entry'!EK82","v":0},{"$f":"'Marks Entry'!EL82","v":0},{"$f":"'Marks Entry'!EM82","v":0},{"$f":"'Marks Entry'!EN82","v":0},{"$f":"'Marks Entry'!EO82","v":0},{"$f":"'Marks Entry'!EP82","v":0},{"$f":"'Marks Entry'!ES82","v":0},{"$f":"'Marks Entry'!ET82","v":0},{"$f":"'Marks Entry'!EU82","v":0},{"$f":"'Marks Entry'!EV82","v":0},{"$f":"'Marks Entry'!EW82","v":0},{"$f":"'Marks Entry'!EX82","v":0},{"$f":"'Marks Entry'!EY82","v":0},{"$f":"'Marks Entry'!FB82","v":0},{"$f":"'Marks Entry'!FC82","v":0},{"$f":"'Marks Entry'!FD82","v":0},{"$f":"'Marks Entry'!FE82","v":""},{"$f":"'Marks Entry'!FF82","v":0},{"$f":"'Marks Entry'!FG82","v":0},{"$f":"'Marks Entry'!FH82","v":""},{"$f":"IF(OR('Marks Entry'!FI82=\"First\",'Marks Entry'!FI82=\"Second\",'Marks Entry'!FI82=\"Third\"),'Marks Entry'!FI82,\"\")","v":""},{"$f":"'Marks Entry'!FJ82","v":""},{"$f":"'Marks Entry'!FK82","v":""},{"$f":"'Marks Entry'!FL82","v":""},{"$f":"'Marks Entry'!FM82","v":""},{"$f":"'Marks Entry'!FO82","v":0}]
[null,0,{"$f":"'Marks Entry'!D83","v":0},{"$f":"'Marks Entry'!E83","v":0},{"$f":"'Marks Entry'!F83","v":0},{"$f":"'Marks Entry'!G83","v":0},{"$f":"'Marks Entry'!H83","v":0},{"$f":"'Marks Entry'!I83","v":0},{"$f":"'Marks Entry'!J83","v":0},{"$f":"'Marks Entry'!K83","v":"00:00:00"},{"$f":"'Marks Entry'!L83","v":0},{"$f":"'Marks Entry'!M83","v":0},{"$f":"'Marks Entry'!N83","v":0},{"$f":"'Marks Entry'!O83","v":0},{"$f":"'Marks Entry'!P83","v":0},{"$f":"'Marks Entry'!Q83","v":0},{"$f":"'Marks Entry'!R83","v":0},{"$f":"'Marks Entry'!S83","v":0},{"$f":"'Marks Entry'!T83","v":0},{"$f":"'Marks Entry'!U83","v":0},{"$f":"'Marks Entry'!V83","v":0},{"$f":"'Marks Entry'!W83","v":0},{"$f":"'Marks Entry'!X83","v":0},{"$f":"'Marks Entry'!Y83","v":0},{"$f":"'Marks Entry'!Z83","v":0},{"$f":"'Marks Entry'!AA83","v":0},{"$f":"'Marks Entry'!AB83","v":0},{"$f":"'Marks Entry'!AC83","v":0},{"$f":"'Marks Entry'!AD83","v":""},{"$f":"'Marks Entry'!AE83","v":0},{"$f":"'Marks Entry'!AF83","v":0},{"$f":"'Marks Entry'!AG83","v":0},{"$f":"'Marks Entry'!AH83","v":0},{"$f":"'Marks Entry'!AI83","v":0},{"$f":"'Marks Entry'!AJ83","v":0},{"$f":"'Marks Entry'!AK83","v":0},{"$f":"'Marks Entry'!AL83","v":0},{"$f":"'Marks Entry'!AM83","v":0},{"$f":"'Marks Entry'!AN83","v":0},{"$f":"'Marks Entry'!AO83","v":0},{"$f":"'Marks Entry'!AP83","v":0},{"$f":"'Marks Entry'!AQ83","v":0},{"$f":"'Marks Entry'!AR83","v":0},{"$f":"'Marks Entry'!AS83","v":0},{"$f":"'Marks Entry'!AT83","v":0},{"$f":"'Marks Entry'!AU83","v":0},{"$f":"'Marks Entry'!AV83","v":0},{"$f":"'Marks Entry'!AW83","v":0},{"$f":"'Marks Entry'!AX83","v":"E"},{"$f":"'Marks Entry'!AY83","v":0},{"$f":"'Marks Entry'!AZ83","v":0},{"$f":"'Marks Entry'!BA83","v":0},{"$f":"'Marks Entry'!BB83","v":0},{"$f":"'Marks Entry'!BC83","v":0},{"$f":"'Marks Entry'!BD83","v":0},{"$f":"'Marks Entry'!BE83","v":0},{"$f":"'Marks Entry'!BF83","v":0},{"$f":"'Marks Entry'!BG83","v":0},{"$f":"'Marks Entry'!BH83","v":0},{"$f":"'Marks Entry'!BI83","v":0},{"$f":"'Marks Entry'!BJ83","v":0},{"$f":"'Marks Entry'!BK83","v":0},{"$f":"'Marks Entry'!BL83","v":0},{"$f":"'Marks Entry'!BM83","v":0},{"$f":"'Marks Entry'!BN83","v":0},{"$f":"'Marks Entry'!BO83","v":0},{"$f":"'Marks Entry'!BP83","v":0},{"$f":"'Marks Entry'!BQ83","v":0},{"$f":"'Marks Entry'!BR83","v":"E"},{"$f":"'Marks Entry'!BS83","v":0},{"$f":"'Marks Entry'!BT83","v":0},{"$f":"'Marks Entry'!BU83","v":0},{"$f":"'Marks Entry'!BV83","v":0},{"$f":"'Marks Entry'!BW83","v":0},{"$f":"'Marks Entry'!BX83","v":0},{"$f":"'Marks Entry'!BY83","v":0},{"$f":"'Marks Entry'!BZ83","v":0},{"$f":"'Marks Entry'!CA83","v":0},{"$f":"'Marks Entry'!CB83","v":0},{"$f":"'Marks Entry'!CC83","v":0},{"$f":"'Marks Entry'!CD83","v":0},{"$f":"'Marks Entry'!CE83","v":0},{"$f":"'Marks Entry'!CF83","v":0},{"$f":"'Marks Entry'!CG83","v":0},{"$f":"'Marks Entry'!CH83","v":0},{"$f":"'Marks Entry'!CI83","v":0},{"$f":"'Marks Entry'!CJ83","v":0},{"$f":"'Marks Entry'!CK83","v":0},{"$f":"'Marks Entry'!CL83","v":"E"},{"$f":"'Marks Entry'!CM83","v":0},{"$f":"'Marks Entry'!CN83","v":0},{"$f":"'Marks Entry'!CO83","v":0},{"$f":"'Marks Entry'!CP83","v":0},{"$f":"'Marks Entry'!CQ83","v":0},{"$f":"'Marks Entry'!CR83","v":0},{"$f":"'Marks Entry'!CS83","v":0},{"$f":"'Marks Entry'!CT83","v":0},{"$f":"'Marks Entry'!CU83","v":0},{"$f":"'Marks Entry'!CV83","v":0},{"$f":"'Marks Entry'!CW83","v":0},{"$f":"'Marks Entry'!CX83","v":0},{"$f":"'Marks Entry'!CY83","v":0},{"$f":"'Marks Entry'!CZ83","v":0},{"$f":"'Marks Entry'!DA83","v":0},{"$f":"'Marks Entry'!DB83","v":0},{"$f":"'Marks Entry'!DC83","v":0},{"$f":"'Marks Entry'!DD83","v":0},{"$f":"'Marks Entry'!DE83","v":0},{"$f":"'Marks Entry'!DF83","v":"E"},{"$f":"'Marks Entry'!DG83","v":0},{"$f":"'Marks Entry'!DH83","v":0},{"$f":"'Marks Entry'!DI83","v":0},{"$f":"'Marks Entry'!DJ83","v":0},{"$f":"'Marks Entry'!DK83","v":0},{"$f":"'Marks Entry'!DL83","v":0},{"$f":"'Marks Entry'!DM83","v":0},{"$f":"'Marks Entry'!DN83","v":0},{"$f":"'Marks Entry'!DO83","v":0},{"$f":"'Marks Entry'!DP83","v":0},{"$f":"'Marks Entry'!DQ83","v":0},{"$f":"'Marks Entry'!DR83","v":0},{"$f":"'Marks Entry'!DS83","v":0},{"$f":"'Marks Entry'!DT83","v":0},{"$f":"'Marks Entry'!DU83","v":0},{"$f":"'Marks Entry'!DV83","v":0},{"$f":"'Marks Entry'!DW83","v":0},{"$f":"'Marks Entry'!DX83","v":0},{"$f":"'Marks Entry'!DY83","v":0},{"$f":"'Marks Entry'!DZ83","v":"E"},{"$f":"'Marks Entry'!EA83","v":0},{"$f":"'Marks Entry'!EB83","v":0},{"$f":"'Marks Entry'!EC83","v":0},{"$f":"'Marks Entry'!ED83","v":0},{"$f":"'Marks Entry'!EE83","v":0},{"$f":"'Marks Entry'!EF83","v":0},{"$f":"'Marks Entry'!EG83","v":0},{"$f":"'Marks Entry'!EJ83","v":0},{"$f":"'Marks Entry'!EK83","v":0},{"$f":"'Marks Entry'!EL83","v":0},{"$f":"'Marks Entry'!EM83","v":0},{"$f":"'Marks Entry'!EN83","v":0},{"$f":"'Marks Entry'!EO83","v":0},{"$f":"'Marks Entry'!EP83","v":0},{"$f":"'Marks Entry'!ES83","v":0},{"$f":"'Marks Entry'!ET83","v":0},{"$f":"'Marks Entry'!EU83","v":0},{"$f":"'Marks Entry'!EV83","v":0},{"$f":"'Marks Entry'!EW83","v":0},{"$f":"'Marks Entry'!EX83","v":0},{"$f":"'Marks Entry'!EY83","v":0},{"$f":"'Marks Entry'!FB83","v":0},{"$f":"'Marks Entry'!FC83","v":0},{"$f":"'Marks Entry'!FD83","v":0},{"$f":"'Marks Entry'!FE83","v":""},{"$f":"'Marks Entry'!FF83","v":0},{"$f":"'Marks Entry'!FG83","v":0},{"$f":"'Marks Entry'!FH83","v":""},{"$f":"IF(OR('Marks Entry'!FI83=\"First\",'Marks Entry'!FI83=\"Second\",'Marks Entry'!FI83=\"Third\"),'Marks Entry'!FI83,\"\")","v":""},{"$f":"'Marks Entry'!FJ83","v":""},{"$f":"'Marks Entry'!FK83","v":""},{"$f":"'Marks Entry'!FL83","v":""},{"$f":"'Marks Entry'!FM83","v":""},{"$f":"'Marks Entry'!FO83","v":0}]
[null,0,{"$f":"'Marks Entry'!D84","v":0},{"$f":"'Marks Entry'!E84","v":0},{"$f":"'Marks Entry'!F84","v":0},{"$f":"'Marks Entry'!G84","v":0},{"$f":"'Marks Entry'!H84","v":0},{"$f":"'Marks Entry'!I84","v":0},{"$f":"'Marks Entry'!J84","v":0},{"$f":"'Marks Entry'!K84","v":"00:00:00"},{"$f":"'Marks Entry'!L84","v":0},{"$f":"'Marks Entry'!M84","v":0},{"$f":"'Marks Entry'!N84","v":0},{"$f":"'Marks Entry'!O84","v":0},{"$f":"'Marks Entry'!P84","v":0},{"$f":"'Marks Entry'!Q84","v":0},{"$f":"'Marks Entry'!R84","v":0},{"$f":"'Marks Entry'!S84","v":0},{"$f":"'Marks Entry'!T84","v":0},{"$f":"'Marks Entry'!U84","v":0},{"$f":"'Marks Entry'!V84","v":0},{"$f":"'Marks Entry'!W84","v":0},{"$f":"'Marks Entry'!X84","v":0},{"$f":"'Marks Entry'!Y84","v":0},{"$f":"'Marks Entry'!Z84","v":0},{"$f":"'Marks Entry'!AA84","v":0},{"$f":"'Marks Entry'!AB84","v":0},{"$f":"'Marks Entry'!AC84","v":0},{"$f":"'Marks Entry'!AD84","v":""},{"$f":"'Marks Entry'!AE84","v":0},{"$f":"'Marks Entry'!AF84","v":0},{"$f":"'Marks Entry'!AG84","v":0},{"$f":"'Marks Entry'!AH84","v":0},{"$f":"'Marks Entry'!AI84","v":0},{"$f":"'Marks Entry'!AJ84","v":0},{"$f":"'Marks Entry'!AK84","v":0},{"$f":"'Marks Entry'!AL84","v":0},{"$f":"'Marks Entry'!AM84","v":0},{"$f":"'Marks Entry'!AN84","v":0},{"$f":"'Marks Entry'!AO84","v":0},{"$f":"'Marks Entry'!AP84","v":0},{"$f":"'Marks Entry'!AQ84","v":0},{"$f":"'Marks Entry'!AR84","v":0},{"$f":"'Marks Entry'!AS84","v":0},{"$f":"'Marks Entry'!AT84","v":0},{"$f":"'Marks Entry'!AU84","v":0},{"$f":"'Marks Entry'!AV84","v":0},{"$f":"'Marks Entry'!AW84","v":0},{"$f":"'Marks Entry'!AX84","v":"E"},{"$f":"'Marks Entry'!AY84","v":0},{"$f":"'Marks Entry'!AZ84","v":0},{"$f":"'Marks Entry'!BA84","v":0},{"$f":"'Marks Entry'!BB84","v":0},{"$f":"'Marks Entry'!BC84","v":0},{"$f":"'Marks Entry'!BD84","v":0},{"$f":"'Marks Entry'!BE84","v":0},{"$f":"'Marks Entry'!BF84","v":0},{"$f":"'Marks Entry'!BG84","v":0},{"$f":"'Marks Entry'!BH84","v":0},{"$f":"'Marks Entry'!BI84","v":0},{"$f":"'Marks Entry'!BJ84","v":0},{"$f":"'Marks Entry'!BK84","v":0},{"$f":"'Marks Entry'!BL84","v":0},{"$f":"'Marks Entry'!BM84","v":0},{"$f":"'Marks Entry'!BN84","v":0},{"$f":"'Marks Entry'!BO84","v":0},{"$f":"'Marks Entry'!BP84","v":0},{"$f":"'Marks Entry'!BQ84","v":0},{"$f":"'Marks Entry'!BR84","v":"E"},{"$f":"'Marks Entry'!BS84","v":0},{"$f":"'Marks Entry'!BT84","v":0},{"$f":"'Marks Entry'!BU84","v":0},{"$f":"'Marks Entry'!BV84","v":0},{"$f":"'Marks Entry'!BW84","v":0},{"$f":"'Marks Entry'!BX84","v":0},{"$f":"'Marks Entry'!BY84","v":0},{"$f":"'Marks Entry'!BZ84","v":0},{"$f":"'Marks Entry'!CA84","v":0},{"$f":"'Marks Entry'!CB84","v":0},{"$f":"'Marks Entry'!CC84","v":0},{"$f":"'Marks Entry'!CD84","v":0},{"$f":"'Marks Entry'!CE84","v":0},{"$f":"'Marks Entry'!CF84","v":0},{"$f":"'Marks Entry'!CG84","v":0},{"$f":"'Marks Entry'!CH84","v":0},{"$f":"'Marks Entry'!CI84","v":0},{"$f":"'Marks Entry'!CJ84","v":0},{"$f":"'Marks Entry'!CK84","v":0},{"$f":"'Marks Entry'!CL84","v":"E"},{"$f":"'Marks Entry'!CM84","v":0},{"$f":"'Marks Entry'!CN84","v":0},{"$f":"'Marks Entry'!CO84","v":0},{"$f":"'Marks Entry'!CP84","v":0},{"$f":"'Marks Entry'!CQ84","v":0},{"$f":"'Marks Entry'!CR84","v":0},{"$f":"'Marks Entry'!CS84","v":0},{"$f":"'Marks Entry'!CT84","v":0},{"$f":"'Marks Entry'!CU84","v":0},{"$f":"'Marks Entry'!CV84","v":0},{"$f":"'Marks Entry'!CW84","v":0},{"$f":"'Marks Entry'!CX84","v":0},{"$f":"'Marks Entry'!CY84","v":0},{"$f":"'Marks Entry'!CZ84","v":0},{"$f":"'Marks Entry'!DA84","v":0},{"$f":"'Marks Entry'!DB84","v":0},{"$f":"'Marks Entry'!DC84","v":0},{"$f":"'Marks Entry'!DD84","v":0},{"$f":"'Marks Entry'!DE84","v":0},{"$f":"'Marks Entry'!DF84","v":"E"},{"$f":"'Marks Entry'!DG84","v":0},{"$f":"'Marks Entry'!DH84","v":0},{"$f":"'Marks Entry'!DI84","v":0},{"$f":"'Marks Entry'!DJ84","v":0},{"$f":"'Marks Entry'!DK84","v":0},{"$f":"'Marks Entry'!DL84","v":0},{"$f":"'Marks Entry'!DM84","v":0},{"$f":"'Marks Entry'!DN84","v":0},{"$f":"'Marks Entry'!DO84","v":0},{"$f":"'Marks Entry'!DP84","v":0},{"$f":"'Marks Entry'!DQ84","v":0},{"$f":"'Marks Entry'!DR84","v":0},{"$f":"'Marks Entry'!DS84","v":0},{"$f":"'Marks Entry'!DT84","v":0},{"$f":"'Marks Entry'!DU84","v":0},{"$f":"'Marks Entry'!DV84","v":0},{"$f":"'Marks Entry'!DW84","v":0},{"$f":"'Marks Entry'!DX84","v":0},{"$f":"'Marks Entry'!DY84","v":0},{"$f":"'Marks Entry'!DZ84","v":"E"},{"$f":"'Marks Entry'!EA84","v":0},{"$f":"'Marks Entry'!EB84","v":0},{"$f":"'Marks Entry'!EC84","v":0},{"$f":"'Marks Entry'!ED84","v":0},{"$f":"'Marks Entry'!EE84","v":0},{"$f":"'Marks Entry'!EF84","v":0},{"$f":"'Marks Entry'!EG84","v":0},{"$f":"'Marks Entry'!EJ84","v":0},{"$f":"'Marks Entry'!EK84","v":0},{"$f":"'Marks Entry'!EL84","v":0},{"$f":"'Marks Entry'!EM84","v":0},{"$f":"'Marks Entry'!EN84","v":0},{"$f":"'Marks Entry'!EO84","v":0},{"$f":"'Marks Entry'!EP84","v":0},{"$f":"'Marks Entry'!ES84","v":0},{"$f":"'Marks Entry'!ET84","v":0},{"$f":"'Marks Entry'!EU84","v":0},{"$f":"'Marks Entry'!EV84","v":0},{"$f":"'Marks Entry'!EW84","v":0},{"$f":"'Marks Entry'!EX84","v":0},{"$f":"'Marks Entry'!EY84","v":0},{"$f":"'Marks Entry'!FB84","v":0},{"$f":"'Marks Entry'!FC84","v":0},{"$f":"'Marks Entry'!FD84","v":0},{"$f":"'Marks Entry'!FE84","v":""},{"$f":"'Marks Entry'!FF84","v":0},{"$f":"'Marks Entry'!FG84","v":0},{"$f":"'Marks Entry'!FH84","v":""},{"$f":"IF(OR('Marks Entry'!FI84=\"First\",'Marks Entry'!FI84=\"Second\",'Marks Entry'!FI84=\"Third\"),'Marks Entry'!FI84,\"\")","v":""},{"$f":"'Marks Entry'!FJ84","v":""},{"$f":"'Marks Entry'!FK84","v":""},{"$f":"'Marks Entry'!FL84","v":""},{"$f":"'Marks Entry'!FM84","v":""},{"$f":"'Marks Entry'!FO84","v":0}]
[null,0,{"$f":"'Marks Entry'!D85","v":0},{"$f":"'Marks Entry'!E85","v":0},{"$f":"'Marks Entry'!F85","v":0},{"$f":"'Marks Entry'!G85","v":0},{"$f":"'Marks Entry'!H85","v":0},{"$f":"'Marks Entry'!I85","v":0},{"$f":"'Marks Entry'!J85","v":0},{"$f":"'Marks Entry'!K85","v":"00:00:00"},{"$f":"'Marks Entry'!L85","v":0},{"$f":"'Marks Entry'!M85","v":0},{"$f":"'Marks Entry'!N85","v":0},{"$f":"'Marks Entry'!O85","v":0},{"$f":"'Marks Entry'!P85","v":0},{"$f":"'Marks Entry'!Q85","v":0},{"$f":"'Marks Entry'!R85","v":0},{"$f":"'Marks Entry'!S85","v":0},{"$f":"'Marks Entry'!T85","v":0},{"$f":"'Marks Entry'!U85","v":0},{"$f":"'Marks Entry'!V85","v":0},{"$f":"'Marks Entry'!W85","v":0},{"$f":"'Marks Entry'!X85","v":0},{"$f":"'Marks Entry'!Y85","v":0},{"$f":"'Marks Entry'!Z85","v":0},{"$f":"'Marks Entry'!AA85","v":0},{"$f":"'Marks Entry'!AB85","v":0},{"$f":"'Marks Entry'!AC85","v":0},{"$f":"'Marks Entry'!AD85","v":""},{"$f":"'Marks Entry'!AE85","v":0},{"$f":"'Marks Entry'!AF85","v":0},{"$f":"'Marks Entry'!AG85","v":0},{"$f":"'Marks Entry'!AH85","v":0},{"$f":"'Marks Entry'!AI85","v":0},{"$f":"'Marks Entry'!AJ85","v":0},{"$f":"'Marks Entry'!AK85","v":0},{"$f":"'Marks Entry'!AL85","v":0},{"$f":"'Marks Entry'!AM85","v":0},{"$f":"'Marks Entry'!AN85","v":0},{"$f":"'Marks Entry'!AO85","v":0},{"$f":"'Marks Entry'!AP85","v":0},{"$f":"'Marks Entry'!AQ85","v":0},{"$f":"'Marks Entry'!AR85","v":0},{"$f":"'Marks Entry'!AS85","v":0},{"$f":"'Marks Entry'!AT85","v":0},{"$f":"'Marks Entry'!AU85","v":0},{"$f":"'Marks Entry'!AV85","v":0},{"$f":"'Marks Entry'!AW85","v":0},{"$f":"'Marks Entry'!AX85","v":"E"},{"$f":"'Marks Entry'!AY85","v":0},{"$f":"'Marks Entry'!AZ85","v":0},{"$f":"'Marks Entry'!BA85","v":0},{"$f":"'Marks Entry'!BB85","v":0},{"$f":"'Marks Entry'!BC85","v":0},{"$f":"'Marks Entry'!BD85","v":0},{"$f":"'Marks Entry'!BE85","v":0},{"$f":"'Marks Entry'!BF85","v":0},{"$f":"'Marks Entry'!BG85","v":0},{"$f":"'Marks Entry'!BH85","v":0},{"$f":"'Marks Entry'!BI85","v":0},{"$f":"'Marks Entry'!BJ85","v":0},{"$f":"'Marks Entry'!BK85","v":0},{"$f":"'Marks Entry'!BL85","v":0},{"$f":"'Marks Entry'!BM85","v":0},{"$f":"'Marks Entry'!BN85","v":0},{"$f":"'Marks Entry'!BO85","v":0},{"$f":"'Marks Entry'!BP85","v":0},{"$f":"'Marks Entry'!BQ85","v":0},{"$f":"'Marks Entry'!BR85","v":"E"},{"$f":"'Marks Entry'!BS85","v":0},{"$f":"'Marks Entry'!BT85","v":0},{"$f":"'Marks Entry'!BU85","v":0},{"$f":"'Marks Entry'!BV85","v":0},{"$f":"'Marks Entry'!BW85","v":0},{"$f":"'Marks Entry'!BX85","v":0},{"$f":"'Marks Entry'!BY85","v":0},{"$f":"'Marks Entry'!BZ85","v":0},{"$f":"'Marks Entry'!CA85","v":0},{"$f":"'Marks Entry'!CB85","v":0},{"$f":"'Marks Entry'!CC85","v":0},{"$f":"'Marks Entry'!CD85","v":0},{"$f":"'Marks Entry'!CE85","v":0},{"$f":"'Marks Entry'!CF85","v":0},{"$f":"'Marks Entry'!CG85","v":0},{"$f":"'Marks Entry'!CH85","v":0},{"$f":"'Marks Entry'!CI85","v":0},{"$f":"'Marks Entry'!CJ85","v":0},{"$f":"'Marks Entry'!CK85","v":0},{"$f":"'Marks Entry'!CL85","v":"E"},{"$f":"'Marks Entry'!CM85","v":0},{"$f":"'Marks Entry'!CN85","v":0},{"$f":"'Marks Entry'!CO85","v":0},{"$f":"'Marks Entry'!CP85","v":0},{"$f":"'Marks Entry'!CQ85","v":0},{"$f":"'Marks Entry'!CR85","v":0},{"$f":"'Marks Entry'!CS85","v":0},{"$f":"'Marks Entry'!CT85","v":0},{"$f":"'Marks Entry'!CU85","v":0},{"$f":"'Marks Entry'!CV85","v":0},{"$f":"'Marks Entry'!CW85","v":0},{"$f":"'Marks Entry'!CX85","v":0},{"$f":"'Marks Entry'!CY85","v":0},{"$f":"'Marks Entry'!CZ85","v":0},{"$f":"'Marks Entry'!DA85","v":0},{"$f":"'Marks Entry'!DB85","v":0},{"$f":"'Marks Entry'!DC85","v":0},{"$f":"'Marks Entry'!DD85","v":0},{"$f":"'Marks Entry'!DE85","v":0},{"$f":"'Marks Entry'!DF85","v":"E"},{"$f":"'Marks Entry'!DG85","v":0},{"$f":"'Marks Entry'!DH85","v":0},{"$f":"'Marks Entry'!DI85","v":0},{"$f":"'Marks Entry'!DJ85","v":0},{"$f":"'Marks Entry'!DK85","v":0},{"$f":"'Marks Entry'!DL85","v":0},{"$f":"'Marks Entry'!DM85","v":0},{"$f":"'Marks Entry'!DN85","v":0},{"$f":"'Marks Entry'!DO85","v":0},{"$f":"'Marks Entry'!DP85","v":0},{"$f":"'Marks Entry'!DQ85","v":0},{"$f":"'Marks Entry'!DR85","v":0},{"$f":"'Marks Entry'!DS85","v":0},{"$f":"'Marks Entry'!DT85","v":0},{"$f":"'Marks Entry'!DU85","v":0},{"$f":"'Marks Entry'!DV85","v":0},{"$f":"'Marks Entry'!DW85","v":0},{"$f":"'Marks Entry'!DX85","v":0},{"$f":"'Marks Entry'!DY85","v":0},{"$f":"'Marks Entry'!DZ85","v":"E"},{"$f":"'Marks Entry'!EA85","v":0},{"$f":"'Marks Entry'!EB85","v":0},{"$f":"'Marks Entry'!EC85","v":0},{"$f":"'Marks Entry'!ED85","v":0},{"$f":"'Marks Entry'!EE85","v":0},{"$f":"'Marks Entry'!EF85","v":0},{"$f":"'Marks Entry'!EG85","v":0},{"$f":"'Marks Entry'!EJ85","v":0},{"$f":"'Marks Entry'!EK85","v":0},{"$f":"'Marks Entry'!EL85","v":0},{"$f":"'Marks Entry'!EM85","v":0},{"$f":"'Marks Entry'!EN85","v":0},{"$f":"'Marks Entry'!EO85","v":0},{"$f":"'Marks Entry'!EP85","v":0},{"$f":"'Marks Entry'!ES85","v":0},{"$f":"'Marks Entry'!ET85","v":0},{"$f":"'Marks Entry'!EU85","v":0},{"$f":"'Marks Entry'!EV85","v":0},{"$f":"'Marks Entry'!EW85","v":0},{"$f":"'Marks Entry'!EX85","v":0},{"$f":"'Marks Entry'!EY85","v":0},{"$f":"'Marks Entry'!FB85","v":0},{"$f":"'Marks Entry'!FC85","v":0},{"$f":"'Marks Entry'!FD85","v":0},{"$f":"'Marks Entry'!FE85","v":""},{"$f":"'Marks Entry'!FF85","v":0},{"$f":"'Marks Entry'!FG85","v":0},{"$f":"'Marks Entry'!FH85","v":""},{"$f":"IF(OR('Marks Entry'!FI85=\"First\",'Marks Entry'!FI85=\"Second\",'Marks Entry'!FI85=\"Third\"),'Marks Entry'!FI85,\"\")","v":""},{"$f":"'Marks Entry'!FJ85","v":""},{"$f":"'Marks Entry'!FK85","v":""},{"$f":"'Marks Entry'!FL85","v":""},{"$f":"'Marks Entry'!FM85","v":""},{"$f":"'Marks Entry'!FO85","v":0}]
[null,0,{"$f":"'Marks Entry'!D86","v":0},{"$f":"'Marks Entry'!E86","v":0},{"$f":"'Marks Entry'!F86","v":0},{"$f":"'Marks Entry'!G86","v":0},{"$f":"'Marks Entry'!H86","v":0},{"$f":"'Marks Entry'!I86","v":0},{"$f":"'Marks Entry'!J86","v":0},{"$f":"'Marks Entry'!K86","v":"00:00:00"},{"$f":"'Marks Entry'!L86","v":0},{"$f":"'Marks Entry'!M86","v":0},{"$f":"'Marks Entry'!N86","v":0},{"$f":"'Marks Entry'!O86","v":0},{"$f":"'Marks Entry'!P86","v":0},{"$f":"'Marks Entry'!Q86","v":0},{"$f":"'Marks Entry'!R86","v":0},{"$f":"'Marks Entry'!S86","v":0},{"$f":"'Marks Entry'!T86","v":0},{"$f":"'Marks Entry'!U86","v":0},{"$f":"'Marks Entry'!V86","v":0},{"$f":"'Marks Entry'!W86","v":0},{"$f":"'Marks Entry'!X86","v":0},{"$f":"'Marks Entry'!Y86","v":0},{"$f":"'Marks Entry'!Z86","v":0},{"$f":"'Marks Entry'!AA86","v":0},{"$f":"'Marks Entry'!AB86","v":0},{"$f":"'Marks Entry'!AC86","v":0},{"$f":"'Marks Entry'!AD86","v":""},{"$f":"'Marks Entry'!AE86","v":0},{"$f":"'Marks Entry'!AF86","v":0},{"$f":"'Marks Entry'!AG86","v":0},{"$f":"'Marks Entry'!AH86","v":0},{"$f":"'Marks Entry'!AI86","v":0},{"$f":"'Marks Entry'!AJ86","v":0},{"$f":"'Marks Entry'!AK86","v":0},{"$f":"'Marks Entry'!AL86","v":0},{"$f":"'Marks Entry'!AM86","v":0},{"$f":"'Marks Entry'!AN86","v":0},{"$f":"'Marks Entry'!AO86","v":0},{"$f":"'Marks Entry'!AP86","v":0},{"$f":"'Marks Entry'!AQ86","v":0},{"$f":"'Marks Entry'!AR86","v":0},{"$f":"'Marks Entry'!AS86","v":0},{"$f":"'Marks Entry'!AT86","v":0},{"$f":"'Marks Entry'!AU86","v":0},{"$f":"'Marks Entry'!AV86","v":0},{"$f":"'Marks Entry'!AW86","v":0},{"$f":"'Marks Entry'!AX86","v":"E"},{"$f":"'Marks Entry'!AY86","v":0},{"$f":"'Marks Entry'!AZ86","v":0},{"$f":"'Marks Entry'!BA86","v":0},{"$f":"'Marks Entry'!BB86","v":0},{"$f":"'Marks Entry'!BC86","v":0},{"$f":"'Marks Entry'!BD86","v":0},{"$f":"'Marks Entry'!BE86","v":0},{"$f":"'Marks Entry'!BF86","v":0},{"$f":"'Marks Entry'!BG86","v":0},{"$f":"'Marks Entry'!BH86","v":0},{"$f":"'Marks Entry'!BI86","v":0},{"$f":"'Marks Entry'!BJ86","v":0},{"$f":"'Marks Entry'!BK86","v":0},{"$f":"'Marks Entry'!BL86","v":0},{"$f":"'Marks Entry'!BM86","v":0},{"$f":"'Marks Entry'!BN86","v":0},{"$f":"'Marks Entry'!BO86","v":0},{"$f":"'Marks Entry'!BP86","v":0},{"$f":"'Marks Entry'!BQ86","v":0},{"$f":"'Marks Entry'!BR86","v":"E"},{"$f":"'Marks Entry'!BS86","v":0},{"$f":"'Marks Entry'!BT86","v":0},{"$f":"'Marks Entry'!BU86","v":0},{"$f":"'Marks Entry'!BV86","v":0},{"$f":"'Marks Entry'!BW86","v":0},{"$f":"'Marks Entry'!BX86","v":0},{"$f":"'Marks Entry'!BY86","v":0},{"$f":"'Marks Entry'!BZ86","v":0},{"$f":"'Marks Entry'!CA86","v":0},{"$f":"'Marks Entry'!CB86","v":0},{"$f":"'Marks Entry'!CC86","v":0},{"$f":"'Marks Entry'!CD86","v":0},{"$f":"'Marks Entry'!CE86","v":0},{"$f":"'Marks Entry'!CF86","v":0},{"$f":"'Marks Entry'!CG86","v":0},{"$f":"'Marks Entry'!CH86","v":0},{"$f":"'Marks Entry'!CI86","v":0},{"$f":"'Marks Entry'!CJ86","v":0},{"$f":"'Marks Entry'!CK86","v":0},{"$f":"'Marks Entry'!CL86","v":"E"},{"$f":"'Marks Entry'!CM86","v":0},{"$f":"'Marks Entry'!CN86","v":0},{"$f":"'Marks Entry'!CO86","v":0},{"$f":"'Marks Entry'!CP86","v":0},{"$f":"'Marks Entry'!CQ86","v":0},{"$f":"'Marks Entry'!CR86","v":0},{"$f":"'Marks Entry'!CS86","v":0},{"$f":"'Marks Entry'!CT86","v":0},{"$f":"'Marks Entry'!CU86","v":0},{"$f":"'Marks Entry'!CV86","v":0},{"$f":"'Marks Entry'!CW86","v":0},{"$f":"'Marks Entry'!CX86","v":0},{"$f":"'Marks Entry'!CY86","v":0},{"$f":"'Marks Entry'!CZ86","v":0},{"$f":"'Marks Entry'!DA86","v":0},{"$f":"'Marks Entry'!DB86","v":0},{"$f":"'Marks Entry'!DC86","v":0},{"$f":"'Marks Entry'!DD86","v":0},{"$f":"'Marks Entry'!DE86","v":0},{"$f":"'Marks Entry'!DF86","v":"E"},{"$f":"'Marks Entry'!DG86","v":0},{"$f":"'Marks Entry'!DH86","v":0},{"$f":"'Marks Entry'!DI86","v":0},{"$f":"'Marks Entry'!DJ86","v":0},{"$f":"'Marks Entry'!DK86","v":0},{"$f":"'Marks Entry'!DL86","v":0},{"$f":"'Marks Entry'!DM86","v":0},{"$f":"'Marks Entry'!DN86","v":0},{"$f":"'Marks Entry'!DO86","v":0},{"$f":"'Marks Entry'!DP86","v":0},{"$f":"'Marks Entry'!DQ86","v":0},{"$f":"'Marks Entry'!DR86","v":0},{"$f":"'Marks Entry'!DS86","v":0},{"$f":"'Marks Entry'!DT86","v":0},{"$f":"'Marks Entry'!DU86","v":0},{"$f":"'Marks Entry'!DV86","v":0},{"$f":"'Marks Entry'!DW86","v":0},{"$f":"'Marks Entry'!DX86","v":0},{"$f":"'Marks Entry'!DY86","v":0},{"$f":"'Marks Entry'!DZ86","v":"E"},{"$f":"'Marks Entry'!EA86","v":0},{"$f":"'Marks Entry'!EB86","v":0},{"$f":"'Marks Entry'!EC86","v":0},{"$f":"'Marks Entry'!ED86","v":0},{"$f":"'Marks Entry'!EE86","v":0},{"$f":"'Marks Entry'!EF86","v":0},{"$f":"'Marks Entry'!EG86","v":0},{"$f":"'Marks Entry'!EJ86","v":0},{"$f":"'Marks Entry'!EK86","v":0},{"$f":"'Marks Entry'!EL86","v":0},{"$f":"'Marks Entry'!EM86","v":0},{"$f":"'Marks Entry'!EN86","v":0},{"$f":"'Marks Entry'!EO86","v":0},{"$f":"'Marks Entry'!EP86","v":0},{"$f":"'Marks Entry'!ES86","v":0},{"$f":"'Marks Entry'!ET86","v":0},{"$f":"'Marks Entry'!EU86","v":0},{"$f":"'Marks Entry'!EV86","v":0},{"$f":"'Marks Entry'!EW86","v":0},{"$f":"'Marks Entry'!EX86","v":0},{"$f":"'Marks Entry'!EY86","v":0},{"$f":"'Marks Entry'!FB86","v":0},{"$f":"'Marks Entry'!FC86","v":0},{"$f":"'Marks Entry'!FD86","v":0},{"$f":"'Marks Entry'!FE86","v":""},{"$f":"'Marks Entry'!FF86","v":0},{"$f":"'Marks Entry'!FG86","v":0},{"$f":"'Marks Entry'!FH86","v":""},{"$f":"IF(OR('Marks Entry'!FI86=\"First\",'Marks Entry'!FI86=\"Second\",'Marks Entry'!FI86=\"Third\"),'Marks Entry'!FI86,\"\")","v":""},{"$f":"'Marks Entry'!FJ86","v":""},{"$f":"'Marks Entry'!FK86","v":""},{"$f":"'Marks Entry'!FL86","v":""},{"$f":"'Marks Entry'!FM86","v":""},{"$f":"'Marks Entry'!FO86","v":0}]
[null,0,{"$f":"'Marks Entry'!D87","v":0},{"$f":"'Marks Entry'!E87","v":0},{"$f":"'Marks Entry'!F87","v":0},{"$f":"'Marks Entry'!G87","v":0},{"$f":"'Marks Entry'!H87","v":0},{"$f":"'Marks Entry'!I87","v":0},{"$f":"'Marks Entry'!J87","v":0},{"$f":"'Marks Entry'!K87","v":"00:00:00"},{"$f":"'Marks Entry'!L87","v":0},{"$f":"'Marks Entry'!M87","v":0},{"$f":"'Marks Entry'!N87","v":0},{"$f":"'Marks Entry'!O87","v":0},{"$f":"'Marks Entry'!P87","v":0},{"$f":"'Marks Entry'!Q87","v":0},{"$f":"'Marks Entry'!R87","v":0},{"$f":"'Marks Entry'!S87","v":0},{"$f":"'Marks Entry'!T87","v":0},{"$f":"'Marks Entry'!U87","v":0},{"$f":"'Marks Entry'!V87","v":0},{"$f":"'Marks Entry'!W87","v":0},{"$f":"'Marks Entry'!X87","v":0},{"$f":"'Marks Entry'!Y87","v":0},{"$f":"'Marks Entry'!Z87","v":0},{"$f":"'Marks Entry'!AA87","v":0},{"$f":"'Marks Entry'!AB87","v":0},{"$f":"'Marks Entry'!AC87","v":0},{"$f":"'Marks Entry'!AD87","v":""},{"$f":"'Marks Entry'!AE87","v":0},{"$f":"'Marks Entry'!AF87","v":0},{"$f":"'Marks Entry'!AG87","v":0},{"$f":"'Marks Entry'!AH87","v":0},{"$f":"'Marks Entry'!AI87","v":0},{"$f":"'Marks Entry'!AJ87","v":0},{"$f":"'Marks Entry'!AK87","v":0},{"$f":"'Marks Entry'!AL87","v":0},{"$f":"'Marks Entry'!AM87","v":0},{"$f":"'Marks Entry'!AN87","v":0},{"$f":"'Marks Entry'!AO87","v":0},{"$f":"'Marks Entry'!AP87","v":0},{"$f":"'Marks Entry'!AQ87","v":0},{"$f":"'Marks Entry'!AR87","v":0},{"$f":"'Marks Entry'!AS87","v":0},{"$f":"'Marks Entry'!AT87","v":0},{"$f":"'Marks Entry'!AU87","v":0},{"$f":"'Marks Entry'!AV87","v":0},{"$f":"'Marks Entry'!AW87","v":0},{"$f":"'Marks Entry'!AX87","v":"E"},{"$f":"'Marks Entry'!AY87","v":0},{"$f":"'Marks Entry'!AZ87","v":0},{"$f":"'Marks Entry'!BA87","v":0},{"$f":"'Marks Entry'!BB87","v":0},{"$f":"'Marks Entry'!BC87","v":0},{"$f":"'Marks Entry'!BD87","v":0},{"$f":"'Marks Entry'!BE87","v":0},{"$f":"'Marks Entry'!BF87","v":0},{"$f":"'Marks Entry'!BG87","v":0},{"$f":"'Marks Entry'!BH87","v":0},{"$f":"'Marks Entry'!BI87","v":0},{"$f":"'Marks Entry'!BJ87","v":0},{"$f":"'Marks Entry'!BK87","v":0},{"$f":"'Marks Entry'!BL87","v":0},{"$f":"'Marks Entry'!BM87","v":0},{"$f":"'Marks Entry'!BN87","v":0},{"$f":"'Marks Entry'!BO87","v":0},{"$f":"'Marks Entry'!BP87","v":0},{"$f":"'Marks Entry'!BQ87","v":0},{"$f":"'Marks Entry'!BR87","v":"E"},{"$f":"'Marks Entry'!BS87","v":0},{"$f":"'Marks Entry'!BT87","v":0},{"$f":"'Marks Entry'!BU87","v":0},{"$f":"'Marks Entry'!BV87","v":0},{"$f":"'Marks Entry'!BW87","v":0},{"$f":"'Marks Entry'!BX87","v":0},{"$f":"'Marks Entry'!BY87","v":0},{"$f":"'Marks Entry'!BZ87","v":0},{"$f":"'Marks Entry'!CA87","v":0},{"$f":"'Marks Entry'!CB87","v":0},{"$f":"'Marks Entry'!CC87","v":0},{"$f":"'Marks Entry'!CD87","v":0},{"$f":"'Marks Entry'!CE87","v":0},{"$f":"'Marks Entry'!CF87","v":0},{"$f":"'Marks Entry'!CG87","v":0},{"$f":"'Marks Entry'!CH87","v":0},{"$f":"'Marks Entry'!CI87","v":0},{"$f":"'Marks Entry'!CJ87","v":0},{"$f":"'Marks Entry'!CK87","v":0},{"$f":"'Marks Entry'!CL87","v":"E"},{"$f":"'Marks Entry'!CM87","v":0},{"$f":"'Marks Entry'!CN87","v":0},{"$f":"'Marks Entry'!CO87","v":0},{"$f":"'Marks Entry'!CP87","v":0},{"$f":"'Marks Entry'!CQ87","v":0},{"$f":"'Marks Entry'!CR87","v":0},{"$f":"'Marks Entry'!CS87","v":0},{"$f":"'Marks Entry'!CT87","v":0},{"$f":"'Marks Entry'!CU87","v":0},{"$f":"'Marks Entry'!CV87","v":0},{"$f":"'Marks Entry'!CW87","v":0},{"$f":"'Marks Entry'!CX87","v":0},{"$f":"'Marks Entry'!CY87","v":0},{"$f":"'Marks Entry'!CZ87","v":0},{"$f":"'Marks Entry'!DA87","v":0},{"$f":"'Marks Entry'!DB87","v":0},{"$f":"'Marks Entry'!DC87","v":0},{"$f":"'Marks Entry'!DD87","v":0},{"$f":"'Marks Entry'!DE87","v":0},{"$f":"'Marks Entry'!DF87","v":"E"},{"$f":"'Marks Entry'!DG87","v":0},{"$f":"'Marks Entry'!DH87","v":0},{"$f":"'Marks Entry'!DI87","v":0},{"$f":"'Marks Entry'!DJ87","v":0},{"$f":"'Marks Entry'!DK87","v":0},{"$f":"'Marks Entry'!DL87","v":0},{"$f":"'Marks Entry'!DM87","v":0},{"$f":"'Marks Entry'!DN87","v":0},{"$f":"'Marks Entry'!DO87","v":0},{"$f":"'Marks Entry'!DP87","v":0},{"$f":"'Marks Entry'!DQ87","v":0},{"$f":"'Marks Entry'!DR87","v":0},{"$f":"'Marks Entry'!DS87","v":0},{"$f":"'Marks Entry'!DT87","v":0},{"$f":"'Marks Entry'!DU87","v":0},{"$f":"'Marks Entry'!DV87","v":0},{"$f":"'Marks Entry'!DW87","v":0},{"$f":"'Marks Entry'!DX87","v":0},{"$f":"'Marks Entry'!DY87","v":0},{"$f":"'Marks Entry'!DZ87","v":"E"},{"$f":"'Marks Entry'!EA87","v":0},{"$f":"'Marks Entry'!EB87","v":0},{"$f":"'Marks Entry'!EC87","v":0},{"$f":"'Marks Entry'!ED87","v":0},{"$f":"'Marks Entry'!EE87","v":0},{"$f":"'Marks Entry'!EF87","v":0},{"$f":"'Marks Entry'!EG87","v":0},{"$f":"'Marks Entry'!EJ87","v":0},{"$f":"'Marks Entry'!EK87","v":0},{"$f":"'Marks Entry'!EL87","v":0},{"$f":"'Marks Entry'!EM87","v":0},{"$f":"'Marks Entry'!EN87","v":0},{"$f":"'Marks Entry'!EO87","v":0},{"$f":"'Marks Entry'!EP87","v":0},{"$f":"'Marks Entry'!ES87","v":0},{"$f":"'Marks Entry'!ET87","v":0},{"$f":"'Marks Entry'!EU87","v":0},{"$f":"'Marks Entry'!EV87","v":0},{"$f":"'Marks Entry'!EW87","v":0},{"$f":"'Marks Entry'!EX87","v":0},{"$f":"'Marks Entry'!EY87","v":0},{"$f":"'Marks Entry'!FB87","v":0},{"$f":"'Marks Entry'!FC87","v":0},{"$f":"'Marks Entry'!FD87","v":0},{"$f":"'Marks Entry'!FE87","v":""},{"$f":"'Marks Entry'!FF87","v":0},{"$f":"'Marks Entry'!FG87","v":0},{"$f":"'Marks Entry'!FH87","v":""},{"$f":"IF(OR('Marks Entry'!FI87=\"First\",'Marks Entry'!FI87=\"Second\",'Marks Entry'!FI87=\"Third\"),'Marks Entry'!FI87,\"\")","v":""},{"$f":"'Marks Entry'!FJ87","v":""},{"$f":"'Marks Entry'!FK87","v":""},{"$f":"'Marks Entry'!FL87","v":""},{"$f":"'Marks Entry'!FM87","v":""},{"$f":"'Marks Entry'!FO87","v":0}]
[null,0,{"$f":"'Marks Entry'!D88","v":0},{"$f":"'Marks Entry'!E88","v":0},{"$f":"'Marks Entry'!F88","v":0},{"$f":"'Marks Entry'!G88","v":0},{"$f":"'Marks Entry'!H88","v":0},{"$f":"'Marks Entry'!I88","v":0},{"$f":"'Marks Entry'!J88","v":0},{"$f":"'Marks Entry'!K88","v":"00:00:00"},{"$f":"'Marks Entry'!L88","v":0},{"$f":"'Marks Entry'!M88","v":0},{"$f":"'Marks Entry'!N88","v":0},{"$f":"'Marks Entry'!O88","v":0},{"$f":"'Marks Entry'!P88","v":0},{"$f":"'Marks Entry'!Q88","v":0},{"$f":"'Marks Entry'!R88","v":0},{"$f":"'Marks Entry'!S88","v":0},{"$f":"'Marks Entry'!T88","v":0},{"$f":"'Marks Entry'!U88","v":0},{"$f":"'Marks Entry'!V88","v":0},{"$f":"'Marks Entry'!W88","v":0},{"$f":"'Marks Entry'!X88","v":0},{"$f":"'Marks Entry'!Y88","v":0},{"$f":"'Marks Entry'!Z88","v":0},{"$f":"'Marks Entry'!AA88","v":0},{"$f":"'Marks Entry'!AB88","v":0},{"$f":"'Marks Entry'!AC88","v":0},{"$f":"'Marks Entry'!AD88","v":""},{"$f":"'Marks Entry'!AE88","v":0},{"$f":"'Marks Entry'!AF88","v":0},{"$f":"'Marks Entry'!AG88","v":0},{"$f":"'Marks Entry'!AH88","v":0},{"$f":"'Marks Entry'!AI88","v":0},{"$f":"'Marks Entry'!AJ88","v":0},{"$f":"'Marks Entry'!AK88","v":0},{"$f":"'Marks Entry'!AL88","v":0},{"$f":"'Marks Entry'!AM88","v":0},{"$f":"'Marks Entry'!AN88","v":0},{"$f":"'Marks Entry'!AO88","v":0},{"$f":"'Marks Entry'!AP88","v":0},{"$f":"'Marks Entry'!AQ88","v":0},{"$f":"'Marks Entry'!AR88","v":0},{"$f":"'Marks Entry'!AS88","v":0},{"$f":"'Marks Entry'!AT88","v":0},{"$f":"'Marks Entry'!AU88","v":0},{"$f":"'Marks Entry'!AV88","v":0},{"$f":"'Marks Entry'!AW88","v":0},{"$f":"'Marks Entry'!AX88","v":"E"},{"$f":"'Marks Entry'!AY88","v":0},{"$f":"'Marks Entry'!AZ88","v":0},{"$f":"'Marks Entry'!BA88","v":0},{"$f":"'Marks Entry'!BB88","v":0},{"$f":"'Marks Entry'!BC88","v":0},{"$f":"'Marks Entry'!BD88","v":0},{"$f":"'Marks Entry'!BE88","v":0},{"$f":"'Marks Entry'!BF88","v":0},{"$f":"'Marks Entry'!BG88","v":0},{"$f":"'Marks Entry'!BH88","v":0},{"$f":"'Marks Entry'!BI88","v":0},{"$f":"'Marks Entry'!BJ88","v":0},{"$f":"'Marks Entry'!BK88","v":0},{"$f":"'Marks Entry'!BL88","v":0},{"$f":"'Marks Entry'!BM88","v":0},{"$f":"'Marks Entry'!BN88","v":0},{"$f":"'Marks Entry'!BO88","v":0},{"$f":"'Marks Entry'!BP88","v":0},{"$f":"'Marks Entry'!BQ88","v":0},{"$f":"'Marks Entry'!BR88","v":"E"},{"$f":"'Marks Entry'!BS88","v":0},{"$f":"'Marks Entry'!BT88","v":0},{"$f":"'Marks Entry'!BU88","v":0},{"$f":"'Marks Entry'!BV88","v":0},{"$f":"'Marks Entry'!BW88","v":0},{"$f":"'Marks Entry'!BX88","v":0},{"$f":"'Marks Entry'!BY88","v":0},{"$f":"'Marks Entry'!BZ88","v":0},{"$f":"'Marks Entry'!CA88","v":0},{"$f":"'Marks Entry'!CB88","v":0},{"$f":"'Marks Entry'!CC88","v":0},{"$f":"'Marks Entry'!CD88","v":0},{"$f":"'Marks Entry'!CE88","v":0},{"$f":"'Marks Entry'!CF88","v":0},{"$f":"'Marks Entry'!CG88","v":0},{"$f":"'Marks Entry'!CH88","v":0},{"$f":"'Marks Entry'!CI88","v":0},{"$f":"'Marks Entry'!CJ88","v":0},{"$f":"'Marks Entry'!CK88","v":0},{"$f":"'Marks Entry'!CL88","v":"E"},{"$f":"'Marks Entry'!CM88","v":0},{"$f":"'Marks Entry'!CN88","v":0},{"$f":"'Marks Entry'!CO88","v":0},{"$f":"'Marks Entry'!CP88","v":0},{"$f":"'Marks Entry'!CQ88","v":0},{"$f":"'Marks Entry'!CR88","v":0},{"$f":"'Marks Entry'!CS88","v":0},{"$f":"'Marks Entry'!CT88","v":0},{"$f":"'Marks Entry'!CU88","v":0},{"$f":"'Marks Entry'!CV88","v":0},{"$f":"'Marks Entry'!CW88","v":0},{"$f":"'Marks Entry'!CX88","v":0},{"$f":"'Marks Entry'!CY88","v":0},{"$f":"'Marks Entry'!CZ88","v":0},{"$f":"'Marks Entry'!DA88","v":0},{"$f":"'Marks Entry'!DB88","v":0},{"$f":"'Marks Entry'!DC88","v":0},{"$f":"'Marks Entry'!DD88","v":0},{"$f":"'Marks Entry'!DE88","v":0},{"$f":"'Marks Entry'!DF88","v":"E"},{"$f":"'Marks Entry'!DG88","v":0},{"$f":"'Marks Entry'!DH88","v":0},{"$f":"'Marks Entry'!DI88","v":0},{"$f":"'Marks Entry'!DJ88","v":0},{"$f":"'Marks Entry'!DK88","v":0},{"$f":"'Marks Entry'!DL88","v":0},{"$f":"'Marks Entry'!DM88","v":0},{"$f":"'Marks Entry'!DN88","v":0},{"$f":"'Marks Entry'!DO88","v":0},{"$f":"'Marks Entry'!DP88","v":0},{"$f":"'Marks Entry'!DQ88","v":0},{"$f":"'Marks Entry'!DR88","v":0},{"$f":"'Marks Entry'!DS88","v":0},{"$f":"'Marks Entry'!DT88","v":0},{"$f":"'Marks Entry'!DU88","v":0},{"$f":"'Marks Entry'!DV88","v":0},{"$f":"'Marks Entry'!DW88","v":0},{"$f":"'Marks Entry'!DX88","v":0},{"$f":"'Marks Entry'!DY88","v":0},{"$f":"'Marks Entry'!DZ88","v":"E"},{"$f":"'Marks Entry'!EA88","v":0},{"$f":"'Marks Entry'!EB88","v":0},{"$f":"'Marks Entry'!EC88","v":0},{"$f":"'Marks Entry'!ED88","v":0},{"$f":"'Marks Entry'!EE88","v":0},{"$f":"'Marks Entry'!EF88","v":0},{"$f":"'Marks Entry'!EG88","v":0},{"$f":"'Marks Entry'!EJ88","v":0},{"$f":"'Marks Entry'!EK88","v":0},{"$f":"'Marks Entry'!EL88","v":0},{"$f":"'Marks Entry'!EM88","v":0},{"$f":"'Marks Entry'!EN88","v":0},{"$f":"'Marks Entry'!EO88","v":0},{"$f":"'Marks Entry'!EP88","v":0},{"$f":"'Marks Entry'!ES88","v":0},{"$f":"'Marks Entry'!ET88","v":0},{"$f":"'Marks Entry'!EU88","v":0},{"$f":"'Marks Entry'!EV88","v":0},{"$f":"'Marks Entry'!EW88","v":0},{"$f":"'Marks Entry'!EX88","v":0},{"$f":"'Marks Entry'!EY88","v":0},{"$f":"'Marks Entry'!FB88","v":0},{"$f":"'Marks Entry'!FC88","v":0},{"$f":"'Marks Entry'!FD88","v":0},{"$f":"'Marks Entry'!FE88","v":""},{"$f":"'Marks Entry'!FF88","v":0},{"$f":"'Marks Entry'!FG88","v":0},{"$f":"'Marks Entry'!FH88","v":""},{"$f":"IF(OR('Marks Entry'!FI88=\"First\",'Marks Entry'!FI88=\"Second\",'Marks Entry'!FI88=\"Third\"),'Marks Entry'!FI88,\"\")","v":""},{"$f":"'Marks Entry'!FJ88","v":""},{"$f":"'Marks Entry'!FK88","v":""},{"$f":"'Marks Entry'!FL88","v":""},{"$f":"'Marks Entry'!FM88","v":""},{"$f":"'Marks Entry'!FO88","v":0}]
[null,0,{"$f":"'Marks Entry'!D89","v":0},{"$f":"'Marks Entry'!E89","v":0},{"$f":"'Marks Entry'!F89","v":0},{"$f":"'Marks Entry'!G89","v":0},{"$f":"'Marks Entry'!H89","v":0},{"$f":"'Marks Entry'!I89","v":0},{"$f":"'Marks Entry'!J89","v":0},{"$f":"'Marks Entry'!K89","v":"00:00:00"},{"$f":"'Marks Entry'!L89","v":0},{"$f":"'Marks Entry'!M89","v":0},{"$f":"'Marks Entry'!N89","v":0},{"$f":"'Marks Entry'!O89","v":0},{"$f":"'Marks Entry'!P89","v":0},{"$f":"'Marks Entry'!Q89","v":0},{"$f":"'Marks Entry'!R89","v":0},{"$f":"'Marks Entry'!S89","v":0},{"$f":"'Marks Entry'!T89","v":0},{"$f":"'Marks Entry'!U89","v":0},{"$f":"'Marks Entry'!V89","v":0},{"$f":"'Marks Entry'!W89","v":0},{"$f":"'Marks Entry'!X89","v":0},{"$f":"'Marks Entry'!Y89","v":0},{"$f":"'Marks Entry'!Z89","v":0},{"$f":"'Marks Entry'!AA89","v":0},{"$f":"'Marks Entry'!AB89","v":0},{"$f":"'Marks Entry'!AC89","v":0},{"$f":"'Marks Entry'!AD89","v":""},{"$f":"'Marks Entry'!AE89","v":0},{"$f":"'Marks Entry'!AF89","v":0},{"$f":"'Marks Entry'!AG89","v":0},{"$f":"'Marks Entry'!AH89","v":0},{"$f":"'Marks Entry'!AI89","v":0},{"$f":"'Marks Entry'!AJ89","v":0},{"$f":"'Marks Entry'!AK89","v":0},{"$f":"'Marks Entry'!AL89","v":0},{"$f":"'Marks Entry'!AM89","v":0},{"$f":"'Marks Entry'!AN89","v":0},{"$f":"'Marks Entry'!AO89","v":0},{"$f":"'Marks Entry'!AP89","v":0},{"$f":"'Marks Entry'!AQ89","v":0},{"$f":"'Marks Entry'!AR89","v":0},{"$f":"'Marks Entry'!AS89","v":0},{"$f":"'Marks Entry'!AT89","v":0},{"$f":"'Marks Entry'!AU89","v":0},{"$f":"'Marks Entry'!AV89","v":0},{"$f":"'Marks Entry'!AW89","v":0},{"$f":"'Marks Entry'!AX89","v":"E"},{"$f":"'Marks Entry'!AY89","v":0},{"$f":"'Marks Entry'!AZ89","v":0},{"$f":"'Marks Entry'!BA89","v":0},{"$f":"'Marks Entry'!BB89","v":0},{"$f":"'Marks Entry'!BC89","v":0},{"$f":"'Marks Entry'!BD89","v":0},{"$f":"'Marks Entry'!BE89","v":0},{"$f":"'Marks Entry'!BF89","v":0},{"$f":"'Marks Entry'!BG89","v":0},{"$f":"'Marks Entry'!BH89","v":0},{"$f":"'Marks Entry'!BI89","v":0},{"$f":"'Marks Entry'!BJ89","v":0},{"$f":"'Marks Entry'!BK89","v":0},{"$f":"'Marks Entry'!BL89","v":0},{"$f":"'Marks Entry'!BM89","v":0},{"$f":"'Marks Entry'!BN89","v":0},{"$f":"'Marks Entry'!BO89","v":0},{"$f":"'Marks Entry'!BP89","v":0},{"$f":"'Marks Entry'!BQ89","v":0},{"$f":"'Marks Entry'!BR89","v":"E"},{"$f":"'Marks Entry'!BS89","v":0},{"$f":"'Marks Entry'!BT89","v":0},{"$f":"'Marks Entry'!BU89","v":0},{"$f":"'Marks Entry'!BV89","v":0},{"$f":"'Marks Entry'!BW89","v":0},{"$f":"'Marks Entry'!BX89","v":0},{"$f":"'Marks Entry'!BY89","v":0},{"$f":"'Marks Entry'!BZ89","v":0},{"$f":"'Marks Entry'!CA89","v":0},{"$f":"'Marks Entry'!CB89","v":0},{"$f":"'Marks Entry'!CC89","v":0},{"$f":"'Marks Entry'!CD89","v":0},{"$f":"'Marks Entry'!CE89","v":0},{"$f":"'Marks Entry'!CF89","v":0},{"$f":"'Marks Entry'!CG89","v":0},{"$f":"'Marks Entry'!CH89","v":0},{"$f":"'Marks Entry'!CI89","v":0},{"$f":"'Marks Entry'!CJ89","v":0},{"$f":"'Marks Entry'!CK89","v":0},{"$f":"'Marks Entry'!CL89","v":"E"},{"$f":"'Marks Entry'!CM89","v":0},{"$f":"'Marks Entry'!CN89","v":0},{"$f":"'Marks Entry'!CO89","v":0},{"$f":"'Marks Entry'!CP89","v":0},{"$f":"'Marks Entry'!CQ89","v":0},{"$f":"'Marks Entry'!CR89","v":0},{"$f":"'Marks Entry'!CS89","v":0},{"$f":"'Marks Entry'!CT89","v":0},{"$f":"'Marks Entry'!CU89","v":0},{"$f":"'Marks Entry'!CV89","v":0},{"$f":"'Marks Entry'!CW89","v":0},{"$f":"'Marks Entry'!CX89","v":0},{"$f":"'Marks Entry'!CY89","v":0},{"$f":"'Marks Entry'!CZ89","v":0},{"$f":"'Marks Entry'!DA89","v":0},{"$f":"'Marks Entry'!DB89","v":0},{"$f":"'Marks Entry'!DC89","v":0},{"$f":"'Marks Entry'!DD89","v":0},{"$f":"'Marks Entry'!DE89","v":0},{"$f":"'Marks Entry'!DF89","v":"E"},{"$f":"'Marks Entry'!DG89","v":0},{"$f":"'Marks Entry'!DH89","v":0},{"$f":"'Marks Entry'!DI89","v":0},{"$f":"'Marks Entry'!DJ89","v":0},{"$f":"'Marks Entry'!DK89","v":0},{"$f":"'Marks Entry'!DL89","v":0},{"$f":"'Marks Entry'!DM89","v":0},{"$f":"'Marks Entry'!DN89","v":0},{"$f":"'Marks Entry'!DO89","v":0},{"$f":"'Marks Entry'!DP89","v":0},{"$f":"'Marks Entry'!DQ89","v":0},{"$f":"'Marks Entry'!DR89","v":0},{"$f":"'Marks Entry'!DS89","v":0},{"$f":"'Marks Entry'!DT89","v":0},{"$f":"'Marks Entry'!DU89","v":0},{"$f":"'Marks Entry'!DV89","v":0},{"$f":"'Marks Entry'!DW89","v":0},{"$f":"'Marks Entry'!DX89","v":0},{"$f":"'Marks Entry'!DY89","v":0},{"$f":"'Marks Entry'!DZ89","v":"E"},{"$f":"'Marks Entry'!EA89","v":0},{"$f":"'Marks Entry'!EB89","v":0},{"$f":"'Marks Entry'!EC89","v":0},{"$f":"'Marks Entry'!ED89","v":0},{"$f":"'Marks Entry'!EE89","v":0},{"$f":"'Marks Entry'!EF89","v":0},{"$f":"'Marks Entry'!EG89","v":0},{"$f":"'Marks Entry'!EJ89","v":0},{"$f":"'Marks Entry'!EK89","v":0},{"$f":"'Marks Entry'!EL89","v":0},{"$f":"'Marks Entry'!EM89","v":0},{"$f":"'Marks Entry'!EN89","v":0},{"$f":"'Marks Entry'!EO89","v":0},{"$f":"'Marks Entry'!EP89","v":0},{"$f":"'Marks Entry'!ES89","v":0},{"$f":"'Marks Entry'!ET89","v":0},{"$f":"'Marks Entry'!EU89","v":0},{"$f":"'Marks Entry'!EV89","v":0},{"$f":"'Marks Entry'!EW89","v":0},{"$f":"'Marks Entry'!EX89","v":0},{"$f":"'Marks Entry'!EY89","v":0},{"$f":"'Marks Entry'!FB89","v":0},{"$f":"'Marks Entry'!FC89","v":0},{"$f":"'Marks Entry'!FD89","v":0},{"$f":"'Marks Entry'!FE89","v":""},{"$f":"'Marks Entry'!FF89","v":0},{"$f":"'Marks Entry'!FG89","v":0},{"$f":"'Marks Entry'!FH89","v":""},{"$f":"IF(OR('Marks Entry'!FI89=\"First\",'Marks Entry'!FI89=\"Second\",'Marks Entry'!FI89=\"Third\"),'Marks Entry'!FI89,\"\")","v":""},{"$f":"'Marks Entry'!FJ89","v":""},{"$f":"'Marks Entry'!FK89","v":""},{"$f":"'Marks Entry'!FL89","v":""},{"$f":"'Marks Entry'!FM89","v":""},{"$f":"'Marks Entry'!FO89","v":0}]
[null,0,{"$f":"'Marks Entry'!D90","v":0},{"$f":"'Marks Entry'!E90","v":0},{"$f":"'Marks Entry'!F90","v":0},{"$f":"'Marks Entry'!G90","v":0},{"$f":"'Marks Entry'!H90","v":0},{"$f":"'Marks Entry'!I90","v":0},{"$f":"'Marks Entry'!J90","v":0},{"$f":"'Marks Entry'!K90","v":"00:00:00"},{"$f":"'Marks Entry'!L90","v":0},{"$f":"'Marks Entry'!M90","v":0},{"$f":"'Marks Entry'!N90","v":0},{"$f":"'Marks Entry'!O90","v":0},{"$f":"'Marks Entry'!P90","v":0},{"$f":"'Marks Entry'!Q90","v":0},{"$f":"'Marks Entry'!R90","v":0},{"$f":"'Marks Entry'!S90","v":0},{"$f":"'Marks Entry'!T90","v":0},{"$f":"'Marks Entry'!U90","v":0},{"$f":"'Marks Entry'!V90","v":0},{"$f":"'Marks Entry'!W90","v":0},{"$f":"'Marks Entry'!X90","v":0},{"$f":"'Marks Entry'!Y90","v":0},{"$f":"'Marks Entry'!Z90","v":0},{"$f":"'Marks Entry'!AA90","v":0},{"$f":"'Marks Entry'!AB90","v":0},{"$f":"'Marks Entry'!AC90","v":0},{"$f":"'Marks Entry'!AD90","v":""},{"$f":"'Marks Entry'!AE90","v":0},{"$f":"'Marks Entry'!AF90","v":0},{"$f":"'Marks Entry'!AG90","v":0},{"$f":"'Marks Entry'!AH90","v":0},{"$f":"'Marks Entry'!AI90","v":0},{"$f":"'Marks Entry'!AJ90","v":0},{"$f":"'Marks Entry'!AK90","v":0},{"$f":"'Marks Entry'!AL90","v":0},{"$f":"'Marks Entry'!AM90","v":0},{"$f":"'Marks Entry'!AN90","v":0},{"$f":"'Marks Entry'!AO90","v":0},{"$f":"'Marks Entry'!AP90","v":0},{"$f":"'Marks Entry'!AQ90","v":0},{"$f":"'Marks Entry'!AR90","v":0},{"$f":"'Marks Entry'!AS90","v":0},{"$f":"'Marks Entry'!AT90","v":0},{"$f":"'Marks Entry'!AU90","v":0},{"$f":"'Marks Entry'!AV90","v":0},{"$f":"'Marks Entry'!AW90","v":0},{"$f":"'Marks Entry'!AX90","v":"E"},{"$f":"'Marks Entry'!AY90","v":0},{"$f":"'Marks Entry'!AZ90","v":0},{"$f":"'Marks Entry'!BA90","v":0},{"$f":"'Marks Entry'!BB90","v":0},{"$f":"'Marks Entry'!BC90","v":0},{"$f":"'Marks Entry'!BD90","v":0},{"$f":"'Marks Entry'!BE90","v":0},{"$f":"'Marks Entry'!BF90","v":0},{"$f":"'Marks Entry'!BG90","v":0},{"$f":"'Marks Entry'!BH90","v":0},{"$f":"'Marks Entry'!BI90","v":0},{"$f":"'Marks Entry'!BJ90","v":0},{"$f":"'Marks Entry'!BK90","v":0},{"$f":"'Marks Entry'!BL90","v":0},{"$f":"'Marks Entry'!BM90","v":0},{"$f":"'Marks Entry'!BN90","v":0},{"$f":"'Marks Entry'!BO90","v":0},{"$f":"'Marks Entry'!BP90","v":0},{"$f":"'Marks Entry'!BQ90","v":0},{"$f":"'Marks Entry'!BR90","v":"E"},{"$f":"'Marks Entry'!BS90","v":0},{"$f":"'Marks Entry'!BT90","v":0},{"$f":"'Marks Entry'!BU90","v":0},{"$f":"'Marks Entry'!BV90","v":0},{"$f":"'Marks Entry'!BW90","v":0},{"$f":"'Marks Entry'!BX90","v":0},{"$f":"'Marks Entry'!BY90","v":0},{"$f":"'Marks Entry'!BZ90","v":0},{"$f":"'Marks Entry'!CA90","v":0},{"$f":"'Marks Entry'!CB90","v":0},{"$f":"'Marks Entry'!CC90","v":0},{"$f":"'Marks Entry'!CD90","v":0},{"$f":"'Marks Entry'!CE90","v":0},{"$f":"'Marks Entry'!CF90","v":0},{"$f":"'Marks Entry'!CG90","v":0},{"$f":"'Marks Entry'!CH90","v":0},{"$f":"'Marks Entry'!CI90","v":0},{"$f":"'Marks Entry'!CJ90","v":0},{"$f":"'Marks Entry'!CK90","v":0},{"$f":"'Marks Entry'!CL90","v":"E"},{"$f":"'Marks Entry'!CM90","v":0},{"$f":"'Marks Entry'!CN90","v":0},{"$f":"'Marks Entry'!CO90","v":0},{"$f":"'Marks Entry'!CP90","v":0},{"$f":"'Marks Entry'!CQ90","v":0},{"$f":"'Marks Entry'!CR90","v":0},{"$f":"'Marks Entry'!CS90","v":0},{"$f":"'Marks Entry'!CT90","v":0},{"$f":"'Marks Entry'!CU90","v":0},{"$f":"'Marks Entry'!CV90","v":0},{"$f":"'Marks Entry'!CW90","v":0},{"$f":"'Marks Entry'!CX90","v":0},{"$f":"'Marks Entry'!CY90","v":0},{"$f":"'Marks Entry'!CZ90","v":0},{"$f":"'Marks Entry'!DA90","v":0},{"$f":"'Marks Entry'!DB90","v":0},{"$f":"'Marks Entry'!DC90","v":0},{"$f":"'Marks Entry'!DD90","v":0},{"$f":"'Marks Entry'!DE90","v":0},{"$f":"'Marks Entry'!DF90","v":"E"},{"$f":"'Marks Entry'!DG90","v":0},{"$f":"'Marks Entry'!DH90","v":0},{"$f":"'Marks Entry'!DI90","v":0},{"$f":"'Marks Entry'!DJ90","v":0},{"$f":"'Marks Entry'!DK90","v":0},{"$f":"'Marks Entry'!DL90","v":0},{"$f":"'Marks Entry'!DM90","v":0},{"$f":"'Marks Entry'!DN90","v":0},{"$f":"'Marks Entry'!DO90","v":0},{"$f":"'Marks Entry'!DP90","v":0},{"$f":"'Marks Entry'!DQ90","v":0},{"$f":"'Marks Entry'!DR90","v":0},{"$f":"'Marks Entry'!DS90","v":0},{"$f":"'Marks Entry'!DT90","v":0},{"$f":"'Marks Entry'!DU90","v":0},{"$f":"'Marks Entry'!DV90","v":0},{"$f":"'Marks Entry'!DW90","v":0},{"$f":"'Marks Entry'!DX90","v":0},{"$f":"'Marks Entry'!DY90","v":0},{"$f":"'Marks Entry'!DZ90","v":"E"},{"$f":"'Marks Entry'!EA90","v":0},{"$f":"'Marks Entry'!EB90","v":0},{"$f":"'Marks Entry'!EC90","v":0},{"$f":"'Marks Entry'!ED90","v":0},{"$f":"'Marks Entry'!EE90","v":0},{"$f":"'Marks Entry'!EF90","v":0},{"$f":"'Marks Entry'!EG90","v":0},{"$f":"'Marks Entry'!EJ90","v":0},{"$f":"'Marks Entry'!EK90","v":0},{"$f":"'Marks Entry'!EL90","v":0},{"$f":"'Marks Entry'!EM90","v":0},{"$f":"'Marks Entry'!EN90","v":0},{"$f":"'Marks Entry'!EO90","v":0},{"$f":"'Marks Entry'!EP90","v":0},{"$f":"'Marks Entry'!ES90","v":0},{"$f":"'Marks Entry'!ET90","v":0},{"$f":"'Marks Entry'!EU90","v":0},{"$f":"'Marks Entry'!EV90","v":0},{"$f":"'Marks Entry'!EW90","v":0},{"$f":"'Marks Entry'!EX90","v":0},{"$f":"'Marks Entry'!EY90","v":0},{"$f":"'Marks Entry'!FB90","v":0},{"$f":"'Marks Entry'!FC90","v":0},{"$f":"'Marks Entry'!FD90","v":0},{"$f":"'Marks Entry'!FE90","v":""},{"$f":"'Marks Entry'!FF90","v":0},{"$f":"'Marks Entry'!FG90","v":0},{"$f":"'Marks Entry'!FH90","v":""},{"$f":"IF(OR('Marks Entry'!FI90=\"First\",'Marks Entry'!FI90=\"Second\",'Marks Entry'!FI90=\"Third\"),'Marks Entry'!FI90,\"\")","v":""},{"$f":"'Marks Entry'!FJ90","v":""},{"$f":"'Marks Entry'!FK90","v":""},{"$f":"'Marks Entry'!FL90","v":""},{"$f":"'Marks Entry'!FM90","v":""},{"$f":"'Marks Entry'!FO90","v":0}]
[null,0,{"$f":"'Marks Entry'!D91","v":0},{"$f":"'Marks Entry'!E91","v":0},{"$f":"'Marks Entry'!F91","v":0},{"$f":"'Marks Entry'!G91","v":0},{"$f":"'Marks Entry'!H91","v":0},{"$f":"'Marks Entry'!I91","v":0},{"$f":"'Marks Entry'!J91","v":0},{"$f":"'Marks Entry'!K91","v":"00:00:00"},{"$f":"'Marks Entry'!L91","v":0},{"$f":"'Marks Entry'!M91","v":0},{"$f":"'Marks Entry'!N91","v":0},{"$f":"'Marks Entry'!O91","v":0},{"$f":"'Marks Entry'!P91","v":0},{"$f":"'Marks Entry'!Q91","v":0},{"$f":"'Marks Entry'!R91","v":0},{"$f":"'Marks Entry'!S91","v":0},{"$f":"'Marks Entry'!T91","v":0},{"$f":"'Marks Entry'!U91","v":0},{"$f":"'Marks Entry'!V91","v":0},{"$f":"'Marks Entry'!W91","v":0},{"$f":"'Marks Entry'!X91","v":0},{"$f":"'Marks Entry'!Y91","v":0},{"$f":"'Marks Entry'!Z91","v":0},{"$f":"'Marks Entry'!AA91","v":0},{"$f":"'Marks Entry'!AB91","v":0},{"$f":"'Marks Entry'!AC91","v":0},{"$f":"'Marks Entry'!AD91","v":""},{"$f":"'Marks Entry'!AE91","v":0},{"$f":"'Marks Entry'!AF91","v":0},{"$f":"'Marks Entry'!AG91","v":0},{"$f":"'Marks Entry'!AH91","v":0},{"$f":"'Marks Entry'!AI91","v":0},{"$f":"'Marks Entry'!AJ91","v":0},{"$f":"'Marks Entry'!AK91","v":0},{"$f":"'Marks Entry'!AL91","v":0},{"$f":"'Marks Entry'!AM91","v":0},{"$f":"'Marks Entry'!AN91","v":0},{"$f":"'Marks Entry'!AO91","v":0},{"$f":"'Marks Entry'!AP91","v":0},{"$f":"'Marks Entry'!AQ91","v":0},{"$f":"'Marks Entry'!AR91","v":0},{"$f":"'Marks Entry'!AS91","v":0},{"$f":"'Marks Entry'!AT91","v":0},{"$f":"'Marks Entry'!AU91","v":0},{"$f":"'Marks Entry'!AV91","v":0},{"$f":"'Marks Entry'!AW91","v":0},{"$f":"'Marks Entry'!AX91","v":"E"},{"$f":"'Marks Entry'!AY91","v":0},{"$f":"'Marks Entry'!AZ91","v":0},{"$f":"'Marks Entry'!BA91","v":0},{"$f":"'Marks Entry'!BB91","v":0},{"$f":"'Marks Entry'!BC91","v":0},{"$f":"'Marks Entry'!BD91","v":0},{"$f":"'Marks Entry'!BE91","v":0},{"$f":"'Marks Entry'!BF91","v":0},{"$f":"'Marks Entry'!BG91","v":0},{"$f":"'Marks Entry'!BH91","v":0},{"$f":"'Marks Entry'!BI91","v":0},{"$f":"'Marks Entry'!BJ91","v":0},{"$f":"'Marks Entry'!BK91","v":0},{"$f":"'Marks Entry'!BL91","v":0},{"$f":"'Marks Entry'!BM91","v":0},{"$f":"'Marks Entry'!BN91","v":0},{"$f":"'Marks Entry'!BO91","v":0},{"$f":"'Marks Entry'!BP91","v":0},{"$f":"'Marks Entry'!BQ91","v":0},{"$f":"'Marks Entry'!BR91","v":"E"},{"$f":"'Marks Entry'!BS91","v":0},{"$f":"'Marks Entry'!BT91","v":0},{"$f":"'Marks Entry'!BU91","v":0},{"$f":"'Marks Entry'!BV91","v":0},{"$f":"'Marks Entry'!BW91","v":0},{"$f":"'Marks Entry'!BX91","v":0},{"$f":"'Marks Entry'!BY91","v":0},{"$f":"'Marks Entry'!BZ91","v":0},{"$f":"'Marks Entry'!CA91","v":0},{"$f":"'Marks Entry'!CB91","v":0},{"$f":"'Marks Entry'!CC91","v":0},{"$f":"'Marks Entry'!CD91","v":0},{"$f":"'Marks Entry'!CE91","v":0},{"$f":"'Marks Entry'!CF91","v":0},{"$f":"'Marks Entry'!CG91","v":0},{"$f":"'Marks Entry'!CH91","v":0},{"$f":"'Marks Entry'!CI91","v":0},{"$f":"'Marks Entry'!CJ91","v":0},{"$f":"'Marks Entry'!CK91","v":0},{"$f":"'Marks Entry'!CL91","v":"E"},{"$f":"'Marks Entry'!CM91","v":0},{"$f":"'Marks Entry'!CN91","v":0},{"$f":"'Marks Entry'!CO91","v":0},{"$f":"'Marks Entry'!CP91","v":0},{"$f":"'Marks Entry'!CQ91","v":0},{"$f":"'Marks Entry'!CR91","v":0},{"$f":"'Marks Entry'!CS91","v":0},{"$f":"'Marks Entry'!CT91","v":0},{"$f":"'Marks Entry'!CU91","v":0},{"$f":"'Marks Entry'!CV91","v":0},{"$f":"'Marks Entry'!CW91","v":0},{"$f":"'Marks Entry'!CX91","v":0},{"$f":"'Marks Entry'!CY91","v":0},{"$f":"'Marks Entry'!CZ91","v":0},{"$f":"'Marks Entry'!DA91","v":0},{"$f":"'Marks Entry'!DB91","v":0},{"$f":"'Marks Entry'!DC91","v":0},{"$f":"'Marks Entry'!DD91","v":0},{"$f":"'Marks Entry'!DE91","v":0},{"$f":"'Marks Entry'!DF91","v":"E"},{"$f":"'Marks Entry'!DG91","v":0},{"$f":"'Marks Entry'!DH91","v":0},{"$f":"'Marks Entry'!DI91","v":0},{"$f":"'Marks Entry'!DJ91","v":0},{"$f":"'Marks Entry'!DK91","v":0},{"$f":"'Marks Entry'!DL91","v":0},{"$f":"'Marks Entry'!DM91","v":0},{"$f":"'Marks Entry'!DN91","v":0},{"$f":"'Marks Entry'!DO91","v":0},{"$f":"'Marks Entry'!DP91","v":0},{"$f":"'Marks Entry'!DQ91","v":0},{"$f":"'Marks Entry'!DR91","v":0},{"$f":"'Marks Entry'!DS91","v":0},{"$f":"'Marks Entry'!DT91","v":0},{"$f":"'Marks Entry'!DU91","v":0},{"$f":"'Marks Entry'!DV91","v":0},{"$f":"'Marks Entry'!DW91","v":0},{"$f":"'Marks Entry'!DX91","v":0},{"$f":"'Marks Entry'!DY91","v":0},{"$f":"'Marks Entry'!DZ91","v":"E"},{"$f":"'Marks Entry'!EA91","v":0},{"$f":"'Marks Entry'!EB91","v":0},{"$f":"'Marks Entry'!EC91","v":0},{"$f":"'Marks Entry'!ED91","v":0},{"$f":"'Marks Entry'!EE91","v":0},{"$f":"'Marks Entry'!EF91","v":0},{"$f":"'Marks Entry'!EG91","v":0},{"$f":"'Marks Entry'!EJ91","v":0},{"$f":"'Marks Entry'!EK91","v":0},{"$f":"'Marks Entry'!EL91","v":0},{"$f":"'Marks Entry'!EM91","v":0},{"$f":"'Marks Entry'!EN91","v":0},{"$f":"'Marks Entry'!EO91","v":0},{"$f":"'Marks Entry'!EP91","v":0},{"$f":"'Marks Entry'!ES91","v":0},{"$f":"'Marks Entry'!ET91","v":0},{"$f":"'Marks Entry'!EU91","v":0},{"$f":"'Marks Entry'!EV91","v":0},{"$f":"'Marks Entry'!EW91","v":0},{"$f":"'Marks Entry'!EX91","v":0},{"$f":"'Marks Entry'!EY91","v":0},{"$f":"'Marks Entry'!FB91","v":0},{"$f":"'Marks Entry'!FC91","v":0},{"$f":"'Marks Entry'!FD91","v":0},{"$f":"'Marks Entry'!FE91","v":""},{"$f":"'Marks Entry'!FF91","v":0},{"$f":"'Marks Entry'!FG91","v":0},{"$f":"'Marks Entry'!FH91","v":""},{"$f":"IF(OR('Marks Entry'!FI91=\"First\",'Marks Entry'!FI91=\"Second\",'Marks Entry'!FI91=\"Third\"),'Marks Entry'!FI91,\"\")","v":""},{"$f":"'Marks Entry'!FJ91","v":""},{"$f":"'Marks Entry'!FK91","v":""},{"$f":"'Marks Entry'!FL91","v":""},{"$f":"'Marks Entry'!FM91","v":""},{"$f":"'Marks Entry'!FO91","v":0}]
[null,0,{"$f":"'Marks Entry'!D92","v":0},{"$f":"'Marks Entry'!E92","v":0},{"$f":"'Marks Entry'!F92","v":0},{"$f":"'Marks Entry'!G92","v":0},{"$f":"'Marks Entry'!H92","v":0},{"$f":"'Marks Entry'!I92","v":0},{"$f":"'Marks Entry'!J92","v":0},{"$f":"'Marks Entry'!K92","v":"00:00:00"},{"$f":"'Marks Entry'!L92","v":0},{"$f":"'Marks Entry'!M92","v":0},{"$f":"'Marks Entry'!N92","v":0},{"$f":"'Marks Entry'!O92","v":0},{"$f":"'Marks Entry'!P92","v":0},{"$f":"'Marks Entry'!Q92","v":0},{"$f":"'Marks Entry'!R92","v":0},{"$f":"'Marks Entry'!S92","v":0},{"$f":"'Marks Entry'!T92","v":0},{"$f":"'Marks Entry'!U92","v":0},{"$f":"'Marks Entry'!V92","v":0},{"$f":"'Marks Entry'!W92","v":0},{"$f":"'Marks Entry'!X92","v":0},{"$f":"'Marks Entry'!Y92","v":0},{"$f":"'Marks Entry'!Z92","v":0},{"$f":"'Marks Entry'!AA92","v":0},{"$f":"'Marks Entry'!AB92","v":0},{"$f":"'Marks Entry'!AC92","v":0},{"$f":"'Marks Entry'!AD92","v":""},{"$f":"'Marks Entry'!AE92","v":0},{"$f":"'Marks Entry'!AF92","v":0},{"$f":"'Marks Entry'!AG92","v":0},{"$f":"'Marks Entry'!AH92","v":0},{"$f":"'Marks Entry'!AI92","v":0},{"$f":"'Marks Entry'!AJ92","v":0},{"$f":"'Marks Entry'!AK92","v":0},{"$f":"'Marks Entry'!AL92","v":0},{"$f":"'Marks Entry'!AM92","v":0},{"$f":"'Marks Entry'!AN92","v":0},{"$f":"'Marks Entry'!AO92","v":0},{"$f":"'Marks Entry'!AP92","v":0},{"$f":"'Marks Entry'!AQ92","v":0},{"$f":"'Marks Entry'!AR92","v":0},{"$f":"'Marks Entry'!AS92","v":0},{"$f":"'Marks Entry'!AT92","v":0},{"$f":"'Marks Entry'!AU92","v":0},{"$f":"'Marks Entry'!AV92","v":0},{"$f":"'Marks Entry'!AW92","v":0},{"$f":"'Marks Entry'!AX92","v":"E"},{"$f":"'Marks Entry'!AY92","v":0},{"$f":"'Marks Entry'!AZ92","v":0},{"$f":"'Marks Entry'!BA92","v":0},{"$f":"'Marks Entry'!BB92","v":0},{"$f":"'Marks Entry'!BC92","v":0},{"$f":"'Marks Entry'!BD92","v":0},{"$f":"'Marks Entry'!BE92","v":0},{"$f":"'Marks Entry'!BF92","v":0},{"$f":"'Marks Entry'!BG92","v":0},{"$f":"'Marks Entry'!BH92","v":0},{"$f":"'Marks Entry'!BI92","v":0},{"$f":"'Marks Entry'!BJ92","v":0},{"$f":"'Marks Entry'!BK92","v":0},{"$f":"'Marks Entry'!BL92","v":0},{"$f":"'Marks Entry'!BM92","v":0},{"$f":"'Marks Entry'!BN92","v":0},{"$f":"'Marks Entry'!BO92","v":0},{"$f":"'Marks Entry'!BP92","v":0},{"$f":"'Marks Entry'!BQ92","v":0},{"$f":"'Marks Entry'!BR92","v":"E"},{"$f":"'Marks Entry'!BS92","v":0},{"$f":"'Marks Entry'!BT92","v":0},{"$f":"'Marks Entry'!BU92","v":0},{"$f":"'Marks Entry'!BV92","v":0},{"$f":"'Marks Entry'!BW92","v":0},{"$f":"'Marks Entry'!BX92","v":0},{"$f":"'Marks Entry'!BY92","v":0},{"$f":"'Marks Entry'!BZ92","v":0},{"$f":"'Marks Entry'!CA92","v":0},{"$f":"'Marks Entry'!CB92","v":0},{"$f":"'Marks Entry'!CC92","v":0},{"$f":"'Marks Entry'!CD92","v":0},{"$f":"'Marks Entry'!CE92","v":0},{"$f":"'Marks Entry'!CF92","v":0},{"$f":"'Marks Entry'!CG92","v":0},{"$f":"'Marks Entry'!CH92","v":0},{"$f":"'Marks Entry'!CI92","v":0},{"$f":"'Marks Entry'!CJ92","v":0},{"$f":"'Marks Entry'!CK92","v":0},{"$f":"'Marks Entry'!CL92","v":"E"},{"$f":"'Marks Entry'!CM92","v":0},{"$f":"'Marks Entry'!CN92","v":0},{"$f":"'Marks Entry'!CO92","v":0},{"$f":"'Marks Entry'!CP92","v":0},{"$f":"'Marks Entry'!CQ92","v":0},{"$f":"'Marks Entry'!CR92","v":0},{"$f":"'Marks Entry'!CS92","v":0},{"$f":"'Marks Entry'!CT92","v":0},{"$f":"'Marks Entry'!CU92","v":0},{"$f":"'Marks Entry'!CV92","v":0},{"$f":"'Marks Entry'!CW92","v":0},{"$f":"'Marks Entry'!CX92","v":0},{"$f":"'Marks Entry'!CY92","v":0},{"$f":"'Marks Entry'!CZ92","v":0},{"$f":"'Marks Entry'!DA92","v":0},{"$f":"'Marks Entry'!DB92","v":0},{"$f":"'Marks Entry'!DC92","v":0},{"$f":"'Marks Entry'!DD92","v":0},{"$f":"'Marks Entry'!DE92","v":0},{"$f":"'Marks Entry'!DF92","v":"E"},{"$f":"'Marks Entry'!DG92","v":0},{"$f":"'Marks Entry'!DH92","v":0},{"$f":"'Marks Entry'!DI92","v":0},{"$f":"'Marks Entry'!DJ92","v":0},{"$f":"'Marks Entry'!DK92","v":0},{"$f":"'Marks Entry'!DL92","v":0},{"$f":"'Marks Entry'!DM92","v":0},{"$f":"'Marks Entry'!DN92","v":0},{"$f":"'Marks Entry'!DO92","v":0},{"$f":"'Marks Entry'!DP92","v":0},{"$f":"'Marks Entry'!DQ92","v":0},{"$f":"'Marks Entry'!DR92","v":0},{"$f":"'Marks Entry'!DS92","v":0},{"$f":"'Marks Entry'!DT92","v":0},{"$f":"'Marks Entry'!DU92","v":0},{"$f":"'Marks Entry'!DV92","v":0},{"$f":"'Marks Entry'!DW92","v":0},{"$f":"'Marks Entry'!DX92","v":0},{"$f":"'Marks Entry'!DY92","v":0},{"$f":"'Marks Entry'!DZ92","v":"E"},{"$f":"'Marks Entry'!EA92","v":0},{"$f":"'Marks Entry'!EB92","v":0},{"$f":"'Marks Entry'!EC92","v":0},{"$f":"'Marks Entry'!ED92","v":0},{"$f":"'Marks Entry'!EE92","v":0},{"$f":"'Marks Entry'!EF92","v":0},{"$f":"'Marks Entry'!EG92","v":0},{"$f":"'Marks Entry'!EJ92","v":0},{"$f":"'Marks Entry'!EK92","v":0},{"$f":"'Marks Entry'!EL92","v":0},{"$f":"'Marks Entry'!EM92","v":0},{"$f":"'Marks Entry'!EN92","v":0},{"$f":"'Marks Entry'!EO92","v":0},{"$f":"'Marks Entry'!EP92","v":0},{"$f":"'Marks Entry'!ES92","v":0},{"$f":"'Marks Entry'!ET92","v":0},{"$f":"'Marks Entry'!EU92","v":0},{"$f":"'Marks Entry'!EV92","v":0},{"$f":"'Marks Entry'!EW92","v":0},{"$f":"'Marks Entry'!EX92","v":0},{"$f":"'Marks Entry'!EY92","v":0},{"$f":"'Marks Entry'!FB92","v":0},{"$f":"'Marks Entry'!FC92","v":0},{"$f":"'Marks Entry'!FD92","v":0},{"$f":"'Marks Entry'!FE92","v":""},{"$f":"'Marks Entry'!FF92","v":0},{"$f":"'Marks Entry'!FG92","v":0},{"$f":"'Marks Entry'!FH92","v":""},{"$f":"IF(OR('Marks Entry'!FI92=\"First\",'Marks Entry'!FI92=\"Second\",'Marks Entry'!FI92=\"Third\"),'Marks Entry'!FI92,\"\")","v":""},{"$f":"'Marks Entry'!FJ92","v":""},{"$f":"'Marks Entry'!FK92","v":""},{"$f":"'Marks Entry'!FL92","v":""},{"$f":"'Marks Entry'!FM92","v":""},{"$f":"'Marks Entry'!FO92","v":0}]
[null,0,{"$f":"'Marks Entry'!D93","v":0},{"$f":"'Marks Entry'!E93","v":0},{"$f":"'Marks Entry'!F93","v":0},{"$f":"'Marks Entry'!G93","v":0},{"$f":"'Marks Entry'!H93","v":0},{"$f":"'Marks Entry'!I93","v":0},{"$f":"'Marks Entry'!J93","v":0},{"$f":"'Marks Entry'!K93","v":"00:00:00"},{"$f":"'Marks Entry'!L93","v":0},{"$f":"'Marks Entry'!M93","v":0},{"$f":"'Marks Entry'!N93","v":0},{"$f":"'Marks Entry'!O93","v":0},{"$f":"'Marks Entry'!P93","v":0},{"$f":"'Marks Entry'!Q93","v":0},{"$f":"'Marks Entry'!R93","v":0},{"$f":"'Marks Entry'!S93","v":0},{"$f":"'Marks Entry'!T93","v":0},{"$f":"'Marks Entry'!U93","v":0},{"$f":"'Marks Entry'!V93","v":0},{"$f":"'Marks Entry'!W93","v":0},{"$f":"'Marks Entry'!X93","v":0},{"$f":"'Marks Entry'!Y93","v":0},{"$f":"'Marks Entry'!Z93","v":0},{"$f":"'Marks Entry'!AA93","v":0},{"$f":"'Marks Entry'!AB93","v":0},{"$f":"'Marks Entry'!AC93","v":0},{"$f":"'Marks Entry'!AD93","v":""},{"$f":"'Marks Entry'!AE93","v":0},{"$f":"'Marks Entry'!AF93","v":0},{"$f":"'Marks Entry'!AG93","v":0},{"$f":"'Marks Entry'!AH93","v":0},{"$f":"'Marks Entry'!AI93","v":0},{"$f":"'Marks Entry'!AJ93","v":0},{"$f":"'Marks Entry'!AK93","v":0},{"$f":"'Marks Entry'!AL93","v":0},{"$f":"'Marks Entry'!AM93","v":0},{"$f":"'Marks Entry'!AN93","v":0},{"$f":"'Marks Entry'!AO93","v":0},{"$f":"'Marks Entry'!AP93","v":0},{"$f":"'Marks Entry'!AQ93","v":0},{"$f":"'Marks Entry'!AR93","v":0},{"$f":"'Marks Entry'!AS93","v":0},{"$f":"'Marks Entry'!AT93","v":0},{"$f":"'Marks Entry'!AU93","v":0},{"$f":"'Marks Entry'!AV93","v":0},{"$f":"'Marks Entry'!AW93","v":0},{"$f":"'Marks Entry'!AX93","v":"E"},{"$f":"'Marks Entry'!AY93","v":0},{"$f":"'Marks Entry'!AZ93","v":0},{"$f":"'Marks Entry'!BA93","v":0},{"$f":"'Marks Entry'!BB93","v":0},{"$f":"'Marks Entry'!BC93","v":0},{"$f":"'Marks Entry'!BD93","v":0},{"$f":"'Marks Entry'!BE93","v":0},{"$f":"'Marks Entry'!BF93","v":0},{"$f":"'Marks Entry'!BG93","v":0},{"$f":"'Marks Entry'!BH93","v":0},{"$f":"'Marks Entry'!BI93","v":0},{"$f":"'Marks Entry'!BJ93","v":0},{"$f":"'Marks Entry'!BK93","v":0},{"$f":"'Marks Entry'!BL93","v":0},{"$f":"'Marks Entry'!BM93","v":0},{"$f":"'Marks Entry'!BN93","v":0},{"$f":"'Marks Entry'!BO93","v":0},{"$f":"'Marks Entry'!BP93","v":0},{"$f":"'Marks Entry'!BQ93","v":0},{"$f":"'Marks Entry'!BR93","v":"E"},{"$f":"'Marks Entry'!BS93","v":0},{"$f":"'Marks Entry'!BT93","v":0},{"$f":"'Marks Entry'!BU93","v":0},{"$f":"'Marks Entry'!BV93","v":0},{"$f":"'Marks Entry'!BW93","v":0},{"$f":"'Marks Entry'!BX93","v":0},{"$f":"'Marks Entry'!BY93","v":0},{"$f":"'Marks Entry'!BZ93","v":0},{"$f":"'Marks Entry'!CA93","v":0},{"$f":"'Marks Entry'!CB93","v":0},{"$f":"'Marks Entry'!CC93","v":0},{"$f":"'Marks Entry'!CD93","v":0},{"$f":"'Marks Entry'!CE93","v":0},{"$f":"'Marks Entry'!CF93","v":0},{"$f":"'Marks Entry'!CG93","v":0},{"$f":"'Marks Entry'!CH93","v":0},{"$f":"'Marks Entry'!CI93","v":0},{"$f":"'Marks Entry'!CJ93","v":0},{"$f":"'Marks Entry'!CK93","v":0},{"$f":"'Marks Entry'!CL93","v":"E"},{"$f":"'Marks Entry'!CM93","v":0},{"$f":"'Marks Entry'!CN93","v":0},{"$f":"'Marks Entry'!CO93","v":0},{"$f":"'Marks Entry'!CP93","v":0},{"$f":"'Marks Entry'!CQ93","v":0},{"$f":"'Marks Entry'!CR93","v":0},{"$f":"'Marks Entry'!CS93","v":0},{"$f":"'Marks Entry'!CT93","v":0},{"$f":"'Marks Entry'!CU93","v":0},{"$f":"'Marks Entry'!CV93","v":0},{"$f":"'Marks Entry'!CW93","v":0},{"$f":"'Marks Entry'!CX93","v":0},{"$f":"'Marks Entry'!CY93","v":0},{"$f":"'Marks Entry'!CZ93","v":0},{"$f":"'Marks Entry'!DA93","v":0},{"$f":"'Marks Entry'!DB93","v":0},{"$f":"'Marks Entry'!DC93","v":0},{"$f":"'Marks Entry'!DD93","v":0},{"$f":"'Marks Entry'!DE93","v":0},{"$f":"'Marks Entry'!DF93","v":"E"},{"$f":"'Marks Entry'!DG93","v":0},{"$f":"'Marks Entry'!DH93","v":0},{"$f":"'Marks Entry'!DI93","v":0},{"$f":"'Marks Entry'!DJ93","v":0},{"$f":"'Marks Entry'!DK93","v":0},{"$f":"'Marks Entry'!DL93","v":0},{"$f":"'Marks Entry'!DM93","v":0},{"$f":"'Marks Entry'!DN93","v":0},{"$f":"'Marks Entry'!DO93","v":0},{"$f":"'Marks Entry'!DP93","v":0},{"$f":"'Marks Entry'!DQ93","v":0},{"$f":"'Marks Entry'!DR93","v":0},{"$f":"'Marks Entry'!DS93","v":0},{"$f":"'Marks Entry'!DT93","v":0},{"$f":"'Marks Entry'!DU93","v":0},{"$f":"'Marks Entry'!DV93","v":0},{"$f":"'Marks Entry'!DW93","v":0},{"$f":"'Marks Entry'!DX93","v":0},{"$f":"'Marks Entry'!DY93","v":0},{"$f":"'Marks Entry'!DZ93","v":"E"},{"$f":"'Marks Entry'!EA93","v":0},{"$f":"'Marks Entry'!EB93","v":0},{"$f":"'Marks Entry'!EC93","v":0},{"$f":"'Marks Entry'!ED93","v":0},{"$f":"'Marks Entry'!EE93","v":0},{"$f":"'Marks Entry'!EF93","v":0},{"$f":"'Marks Entry'!EG93","v":0},{"$f":"'Marks Entry'!EJ93","v":0},{"$f":"'Marks Entry'!EK93","v":0},{"$f":"'Marks Entry'!EL93","v":0},{"$f":"'Marks Entry'!EM93","v":0},{"$f":"'Marks Entry'!EN93","v":0},{"$f":"'Marks Entry'!EO93","v":0},{"$f":"'Marks Entry'!EP93","v":0},{"$f":"'Marks Entry'!ES93","v":0},{"$f":"'Marks Entry'!ET93","v":0},{"$f":"'Marks Entry'!EU93","v":0},{"$f":"'Marks Entry'!EV93","v":0},{"$f":"'Marks Entry'!EW93","v":0},{"$f":"'Marks Entry'!EX93","v":0},{"$f":"'Marks Entry'!EY93","v":0},{"$f":"'Marks Entry'!FB93","v":0},{"$f":"'Marks Entry'!FC93","v":0},{"$f":"'Marks Entry'!FD93","v":0},{"$f":"'Marks Entry'!FE93","v":""},{"$f":"'Marks Entry'!FF93","v":0},{"$f":"'Marks Entry'!FG93","v":0},{"$f":"'Marks Entry'!FH93","v":""},{"$f":"IF(OR('Marks Entry'!FI93=\"First\",'Marks Entry'!FI93=\"Second\",'Marks Entry'!FI93=\"Third\"),'Marks Entry'!FI93,\"\")","v":""},{"$f":"'Marks Entry'!FJ93","v":""},{"$f":"'Marks Entry'!FK93","v":""},{"$f":"'Marks Entry'!FL93","v":""},{"$f":"'Marks Entry'!FM93","v":""},{"$f":"'Marks Entry'!FO93","v":0}]
[null,0,{"$f":"'Marks Entry'!D94","v":0},{"$f":"'Marks Entry'!E94","v":0},{"$f":"'Marks Entry'!F94","v":0},{"$f":"'Marks Entry'!G94","v":0},{"$f":"'Marks Entry'!H94","v":0},{"$f":"'Marks Entry'!I94","v":0},{"$f":"'Marks Entry'!J94","v":0},{"$f":"'Marks Entry'!K94","v":"00:00:00"},{"$f":"'Marks Entry'!L94","v":0},{"$f":"'Marks Entry'!M94","v":0},{"$f":"'Marks Entry'!N94","v":0},{"$f":"'Marks Entry'!O94","v":0},{"$f":"'Marks Entry'!P94","v":0},{"$f":"'Marks Entry'!Q94","v":0},{"$f":"'Marks Entry'!R94","v":0},{"$f":"'Marks Entry'!S94","v":0},{"$f":"'Marks Entry'!T94","v":0},{"$f":"'Marks Entry'!U94","v":0},{"$f":"'Marks Entry'!V94","v":0},{"$f":"'Marks Entry'!W94","v":0},{"$f":"'Marks Entry'!X94","v":0},{"$f":"'Marks Entry'!Y94","v":0},{"$f":"'Marks Entry'!Z94","v":0},{"$f":"'Marks Entry'!AA94","v":0},{"$f":"'Marks Entry'!AB94","v":0},{"$f":"'Marks Entry'!AC94","v":0},{"$f":"'Marks Entry'!AD94","v":""},{"$f":"'Marks Entry'!AE94","v":0},{"$f":"'Marks Entry'!AF94","v":0},{"$f":"'Marks Entry'!AG94","v":0},{"$f":"'Marks Entry'!AH94","v":0},{"$f":"'Marks Entry'!AI94","v":0},{"$f":"'Marks Entry'!AJ94","v":0},{"$f":"'Marks Entry'!AK94","v":0},{"$f":"'Marks Entry'!AL94","v":0},{"$f":"'Marks Entry'!AM94","v":0},{"$f":"'Marks Entry'!AN94","v":0},{"$f":"'Marks Entry'!AO94","v":0},{"$f":"'Marks Entry'!AP94","v":0},{"$f":"'Marks Entry'!AQ94","v":0},{"$f":"'Marks Entry'!AR94","v":0},{"$f":"'Marks Entry'!AS94","v":0},{"$f":"'Marks Entry'!AT94","v":0},{"$f":"'Marks Entry'!AU94","v":0},{"$f":"'Marks Entry'!AV94","v":0},{"$f":"'Marks Entry'!AW94","v":0},{"$f":"'Marks Entry'!AX94","v":"E"},{"$f":"'Marks Entry'!AY94","v":0},{"$f":"'Marks Entry'!AZ94","v":0},{"$f":"'Marks Entry'!BA94","v":0},{"$f":"'Marks Entry'!BB94","v":0},{"$f":"'Marks Entry'!BC94","v":0},{"$f":"'Marks Entry'!BD94","v":0},{"$f":"'Marks Entry'!BE94","v":0},{"$f":"'Marks Entry'!BF94","v":0},{"$f":"'Marks Entry'!BG94","v":0},{"$f":"'Marks Entry'!BH94","v":0},{"$f":"'Marks Entry'!BI94","v":0},{"$f":"'Marks Entry'!BJ94","v":0},{"$f":"'Marks Entry'!BK94","v":0},{"$f":"'Marks Entry'!BL94","v":0},{"$f":"'Marks Entry'!BM94","v":0},{"$f":"'Marks Entry'!BN94","v":0},{"$f":"'Marks Entry'!BO94","v":0},{"$f":"'Marks Entry'!BP94","v":0},{"$f":"'Marks Entry'!BQ94","v":0},{"$f":"'Marks Entry'!BR94","v":"E"},{"$f":"'Marks Entry'!BS94","v":0},{"$f":"'Marks Entry'!BT94","v":0},{"$f":"'Marks Entry'!BU94","v":0},{"$f":"'Marks Entry'!BV94","v":0},{"$f":"'Marks Entry'!BW94","v":0},{"$f":"'Marks Entry'!BX94","v":0},{"$f":"'Marks Entry'!BY94","v":0},{"$f":"'Marks Entry'!BZ94","v":0},{"$f":"'Marks Entry'!CA94","v":0},{"$f":"'Marks Entry'!CB94","v":0},{"$f":"'Marks Entry'!CC94","v":0},{"$f":"'Marks Entry'!CD94","v":0},{"$f":"'Marks Entry'!CE94","v":0},{"$f":"'Marks Entry'!CF94","v":0},{"$f":"'Marks Entry'!CG94","v":0},{"$f":"'Marks Entry'!CH94","v":0},{"$f":"'Marks Entry'!CI94","v":0},{"$f":"'Marks Entry'!CJ94","v":0},{"$f":"'Marks Entry'!CK94","v":0},{"$f":"'Marks Entry'!CL94","v":"E"},{"$f":"'Marks Entry'!CM94","v":0},{"$f":"'Marks Entry'!CN94","v":0},{"$f":"'Marks Entry'!CO94","v":0},{"$f":"'Marks Entry'!CP94","v":0},{"$f":"'Marks Entry'!CQ94","v":0},{"$f":"'Marks Entry'!CR94","v":0},{"$f":"'Marks Entry'!CS94","v":0},{"$f":"'Marks Entry'!CT94","v":0},{"$f":"'Marks Entry'!CU94","v":0},{"$f":"'Marks Entry'!CV94","v":0},{"$f":"'Marks Entry'!CW94","v":0},{"$f":"'Marks Entry'!CX94","v":0},{"$f":"'Marks Entry'!CY94","v":0},{"$f":"'Marks Entry'!CZ94","v":0},{"$f":"'Marks Entry'!DA94","v":0},{"$f":"'Marks Entry'!DB94","v":0},{"$f":"'Marks Entry'!DC94","v":0},{"$f":"'Marks Entry'!DD94","v":0},{"$f":"'Marks Entry'!DE94","v":0},{"$f":"'Marks Entry'!DF94","v":"E"},{"$f":"'Marks Entry'!DG94","v":0},{"$f":"'Marks Entry'!DH94","v":0},{"$f":"'Marks Entry'!DI94","v":0},{"$f":"'Marks Entry'!DJ94","v":0},{"$f":"'Marks Entry'!DK94","v":0},{"$f":"'Marks Entry'!DL94","v":0},{"$f":"'Marks Entry'!DM94","v":0},{"$f":"'Marks Entry'!DN94","v":0},{"$f":"'Marks Entry'!DO94","v":0},{"$f":"'Marks Entry'!DP94","v":0},{"$f":"'Marks Entry'!DQ94","v":0},{"$f":"'Marks Entry'!DR94","v":0},{"$f":"'Marks Entry'!DS94","v":0},{"$f":"'Marks Entry'!DT94","v":0},{"$f":"'Marks Entry'!DU94","v":0},{"$f":"'Marks Entry'!DV94","v":0},{"$f":"'Marks Entry'!DW94","v":0},{"$f":"'Marks Entry'!DX94","v":0},{"$f":"'Marks Entry'!DY94","v":0},{"$f":"'Marks Entry'!DZ94","v":"E"},{"$f":"'Marks Entry'!EA94","v":0},{"$f":"'Marks Entry'!EB94","v":0},{"$f":"'Marks Entry'!EC94","v":0},{"$f":"'Marks Entry'!ED94","v":0},{"$f":"'Marks Entry'!EE94","v":0},{"$f":"'Marks Entry'!EF94","v":0},{"$f":"'Marks Entry'!EG94","v":0},{"$f":"'Marks Entry'!EJ94","v":0},{"$f":"'Marks Entry'!EK94","v":0},{"$f":"'Marks Entry'!EL94","v":0},{"$f":"'Marks Entry'!EM94","v":0},{"$f":"'Marks Entry'!EN94","v":0},{"$f":"'Marks Entry'!EO94","v":0},{"$f":"'Marks Entry'!EP94","v":0},{"$f":"'Marks Entry'!ES94","v":0},{"$f":"'Marks Entry'!ET94","v":0},{"$f":"'Marks Entry'!EU94","v":0},{"$f":"'Marks Entry'!EV94","v":0},{"$f":"'Marks Entry'!EW94","v":0},{"$f":"'Marks Entry'!EX94","v":0},{"$f":"'Marks Entry'!EY94","v":0},{"$f":"'Marks Entry'!FB94","v":0},{"$f":"'Marks Entry'!FC94","v":0},{"$f":"'Marks Entry'!FD94","v":0},{"$f":"'Marks Entry'!FE94","v":""},{"$f":"'Marks Entry'!FF94","v":0},{"$f":"'Marks Entry'!FG94","v":0},{"$f":"'Marks Entry'!FH94","v":""},{"$f":"IF(OR('Marks Entry'!FI94=\"First\",'Marks Entry'!FI94=\"Second\",'Marks Entry'!FI94=\"Third\"),'Marks Entry'!FI94,\"\")","v":""},{"$f":"'Marks Entry'!FJ94","v":""},{"$f":"'Marks Entry'!FK94","v":""},{"$f":"'Marks Entry'!FL94","v":""},{"$f":"'Marks Entry'!FM94","v":""},{"$f":"'Marks Entry'!FO94","v":0}]
[null,0,{"$f":"'Marks Entry'!D95","v":0},{"$f":"'Marks Entry'!E95","v":0},{"$f":"'Marks Entry'!F95","v":0},{"$f":"'Marks Entry'!G95","v":0},{"$f":"'Marks Entry'!H95","v":0},{"$f":"'Marks Entry'!I95","v":0},{"$f":"'Marks Entry'!J95","v":0},{"$f":"'Marks Entry'!K95","v":"00:00:00"},{"$f":"'Marks Entry'!L95","v":0},{"$f":"'Marks Entry'!M95","v":0},{"$f":"'Marks Entry'!N95","v":0},{"$f":"'Marks Entry'!O95","v":0},{"$f":"'Marks Entry'!P95","v":0},{"$f":"'Marks Entry'!Q95","v":0},{"$f":"'Marks Entry'!R95","v":0},{"$f":"'Marks Entry'!S95","v":0},{"$f":"'Marks Entry'!T95","v":0},{"$f":"'Marks Entry'!U95","v":0},{"$f":"'Marks Entry'!V95","v":0},{"$f":"'Marks Entry'!W95","v":0},{"$f":"'Marks Entry'!X95","v":0},{"$f":"'Marks Entry'!Y95","v":0},{"$f":"'Marks Entry'!Z95","v":0},{"$f":"'Marks Entry'!AA95","v":0},{"$f":"'Marks Entry'!AB95","v":0},{"$f":"'Marks Entry'!AC95","v":0},{"$f":"'Marks Entry'!AD95","v":""},{"$f":"'Marks Entry'!AE95","v":0},{"$f":"'Marks Entry'!AF95","v":0},{"$f":"'Marks Entry'!AG95","v":0},{"$f":"'Marks Entry'!AH95","v":0},{"$f":"'Marks Entry'!AI95","v":0},{"$f":"'Marks Entry'!AJ95","v":0},{"$f":"'Marks Entry'!AK95","v":0},{"$f":"'Marks Entry'!AL95","v":0},{"$f":"'Marks Entry'!AM95","v":0},{"$f":"'Marks Entry'!AN95","v":0},{"$f":"'Marks Entry'!AO95","v":0},{"$f":"'Marks Entry'!AP95","v":0},{"$f":"'Marks Entry'!AQ95","v":0},{"$f":"'Marks Entry'!AR95","v":0},{"$f":"'Marks Entry'!AS95","v":0},{"$f":"'Marks Entry'!AT95","v":0},{"$f":"'Marks Entry'!AU95","v":0},{"$f":"'Marks Entry'!AV95","v":0},{"$f":"'Marks Entry'!AW95","v":0},{"$f":"'Marks Entry'!AX95","v":"E"},{"$f":"'Marks Entry'!AY95","v":0},{"$f":"'Marks Entry'!AZ95","v":0},{"$f":"'Marks Entry'!BA95","v":0},{"$f":"'Marks Entry'!BB95","v":0},{"$f":"'Marks Entry'!BC95","v":0},{"$f":"'Marks Entry'!BD95","v":0},{"$f":"'Marks Entry'!BE95","v":0},{"$f":"'Marks Entry'!BF95","v":0},{"$f":"'Marks Entry'!BG95","v":0},{"$f":"'Marks Entry'!BH95","v":0},{"$f":"'Marks Entry'!BI95","v":0},{"$f":"'Marks Entry'!BJ95","v":0},{"$f":"'Marks Entry'!BK95","v":0},{"$f":"'Marks Entry'!BL95","v":0},{"$f":"'Marks Entry'!BM95","v":0},{"$f":"'Marks Entry'!BN95","v":0},{"$f":"'Marks Entry'!BO95","v":0},{"$f":"'Marks Entry'!BP95","v":0},{"$f":"'Marks Entry'!BQ95","v":0},{"$f":"'Marks Entry'!BR95","v":"E"},{"$f":"'Marks Entry'!BS95","v":0},{"$f":"'Marks Entry'!BT95","v":0},{"$f":"'Marks Entry'!BU95","v":0},{"$f":"'Marks Entry'!BV95","v":0},{"$f":"'Marks Entry'!BW95","v":0},{"$f":"'Marks Entry'!BX95","v":0},{"$f":"'Marks Entry'!BY95","v":0},{"$f":"'Marks Entry'!BZ95","v":0},{"$f":"'Marks Entry'!CA95","v":0},{"$f":"'Marks Entry'!CB95","v":0},{"$f":"'Marks Entry'!CC95","v":0},{"$f":"'Marks Entry'!CD95","v":0},{"$f":"'Marks Entry'!CE95","v":0},{"$f":"'Marks Entry'!CF95","v":0},{"$f":"'Marks Entry'!CG95","v":0},{"$f":"'Marks Entry'!CH95","v":0},{"$f":"'Marks Entry'!CI95","v":0},{"$f":"'Marks Entry'!CJ95","v":0},{"$f":"'Marks Entry'!CK95","v":0},{"$f":"'Marks Entry'!CL95","v":"E"},{"$f":"'Marks Entry'!CM95","v":0},{"$f":"'Marks Entry'!CN95","v":0},{"$f":"'Marks Entry'!CO95","v":0},{"$f":"'Marks Entry'!CP95","v":0},{"$f":"'Marks Entry'!CQ95","v":0},{"$f":"'Marks Entry'!CR95","v":0},{"$f":"'Marks Entry'!CS95","v":0},{"$f":"'Marks Entry'!CT95","v":0},{"$f":"'Marks Entry'!CU95","v":0},{"$f":"'Marks Entry'!CV95","v":0},{"$f":"'Marks Entry'!CW95","v":0},{"$f":"'Marks Entry'!CX95","v":0},{"$f":"'Marks Entry'!CY95","v":0},{"$f":"'Marks Entry'!CZ95","v":0},{"$f":"'Marks Entry'!DA95","v":0},{"$f":"'Marks Entry'!DB95","v":0},{"$f":"'Marks Entry'!DC95","v":0},{"$f":"'Marks Entry'!DD95","v":0},{"$f":"'Marks Entry'!DE95","v":0},{"$f":"'Marks Entry'!DF95","v":"E"},{"$f":"'Marks Entry'!DG95","v":0},{"$f":"'Marks Entry'!DH95","v":0},{"$f":"'Marks Entry'!DI95","v":0},{"$f":"'Marks Entry'!DJ95","v":0},{"$f":"'Marks Entry'!DK95","v":0},{"$f":"'Marks Entry'!DL95","v":0},{"$f":"'Marks Entry'!DM95","v":0},{"$f":"'Marks Entry'!DN95","v":0},{"$f":"'Marks Entry'!DO95","v":0},{"$f":"'Marks Entry'!DP95","v":0},{"$f":"'Marks Entry'!DQ95","v":0},{"$f":"'Marks Entry'!DR95","v":0},{"$f":"'Marks Entry'!DS95","v":0},{"$f":"'Marks Entry'!DT95","v":0},{"$f":"'Marks Entry'!DU95","v":0},{"$f":"'Marks Entry'!DV95","v":0},{"$f":"'Marks Entry'!DW95","v":0},{"$f":"'Marks Entry'!DX95","v":0},{"$f":"'Marks Entry'!DY95","v":0},{"$f":"'Marks Entry'!DZ95","v":"E"},{"$f":"'Marks Entry'!EA95","v":0},{"$f":"'Marks Entry'!EB95","v":0},{"$f":"'Marks Entry'!EC95","v":0},{"$f":"'Marks Entry'!ED95","v":0},{"$f":"'Marks Entry'!EE95","v":0},{"$f":"'Marks Entry'!EF95","v":0},{"$f":"'Marks Entry'!EG95","v":0},{"$f":"'Marks Entry'!EJ95","v":0},{"$f":"'Marks Entry'!EK95","v":0},{"$f":"'Marks Entry'!EL95","v":0},{"$f":"'Marks Entry'!EM95","v":0},{"$f":"'Marks Entry'!EN95","v":0},{"$f":"'Marks Entry'!EO95","v":0},{"$f":"'Marks Entry'!EP95","v":0},{"$f":"'Marks Entry'!ES95","v":0},{"$f":"'Marks Entry'!ET95","v":0},{"$f":"'Marks Entry'!EU95","v":0},{"$f":"'Marks Entry'!EV95","v":0},{"$f":"'Marks Entry'!EW95","v":0},{"$f":"'Marks Entry'!EX95","v":0},{"$f":"'Marks Entry'!EY95","v":0},{"$f":"'Marks Entry'!FB95","v":0},{"$f":"'Marks Entry'!FC95","v":0},{"$f":"'Marks Entry'!FD95","v":0},{"$f":"'Marks Entry'!FE95","v":""},{"$f":"'Marks Entry'!FF95","v":0},{"$f":"'Marks Entry'!FG95","v":0},{"$f":"'Marks Entry'!FH95","v":""},{"$f":"IF(OR('Marks Entry'!FI95=\"First\",'Marks Entry'!FI95=\"Second\",'Marks Entry'!FI95=\"Third\"),'Marks Entry'!FI95,\"\")","v":""},{"$f":"'Marks Entry'!FJ95","v":""},{"$f":"'Marks Entry'!FK95","v":""},{"$f":"'Marks Entry'!FL95","v":""},{"$f":"'Marks Entry'!FM95","v":""},{"$f":"'Marks Entry'!FO95","v":0}]
[null,0,{"$f":"'Marks Entry'!D96","v":0},{"$f":"'Marks Entry'!E96","v":0},{"$f":"'Marks Entry'!F96","v":0},{"$f":"'Marks Entry'!G96","v":0},{"$f":"'Marks Entry'!H96","v":0},{"$f":"'Marks Entry'!I96","v":0},{"$f":"'Marks Entry'!J96","v":0},{"$f":"'Marks Entry'!K96","v":"00:00:00"},{"$f":"'Marks Entry'!L96","v":0},{"$f":"'Marks Entry'!M96","v":0},{"$f":"'Marks Entry'!N96","v":0},{"$f":"'Marks Entry'!O96","v":0},{"$f":"'Marks Entry'!P96","v":0},{"$f":"'Marks Entry'!Q96","v":0},{"$f":"'Marks Entry'!R96","v":0},{"$f":"'Marks Entry'!S96","v":0},{"$f":"'Marks Entry'!T96","v":0},{"$f":"'Marks Entry'!U96","v":0},{"$f":"'Marks Entry'!V96","v":0},{"$f":"'Marks Entry'!W96","v":0},{"$f":"'Marks Entry'!X96","v":0},{"$f":"'Marks Entry'!Y96","v":0},{"$f":"'Marks Entry'!Z96","v":0},{"$f":"'Marks Entry'!AA96","v":0},{"$f":"'Marks Entry'!AB96","v":0},{"$f":"'Marks Entry'!AC96","v":0},{"$f":"'Marks Entry'!AD96","v":""},{"$f":"'Marks Entry'!AE96","v":0},{"$f":"'Marks Entry'!AF96","v":0},{"$f":"'Marks Entry'!AG96","v":0},{"$f":"'Marks Entry'!AH96","v":0},{"$f":"'Marks Entry'!AI96","v":0},{"$f":"'Marks Entry'!AJ96","v":0},{"$f":"'Marks Entry'!AK96","v":0},{"$f":"'Marks Entry'!AL96","v":0},{"$f":"'Marks Entry'!AM96","v":0},{"$f":"'Marks Entry'!AN96","v":0},{"$f":"'Marks Entry'!AO96","v":0},{"$f":"'Marks Entry'!AP96","v":0},{"$f":"'Marks Entry'!AQ96","v":0},{"$f":"'Marks Entry'!AR96","v":0},{"$f":"'Marks Entry'!AS96","v":0},{"$f":"'Marks Entry'!AT96","v":0},{"$f":"'Marks Entry'!AU96","v":0},{"$f":"'Marks Entry'!AV96","v":0},{"$f":"'Marks Entry'!AW96","v":0},{"$f":"'Marks Entry'!AX96","v":"E"},{"$f":"'Marks Entry'!AY96","v":0},{"$f":"'Marks Entry'!AZ96","v":0},{"$f":"'Marks Entry'!BA96","v":0},{"$f":"'Marks Entry'!BB96","v":0},{"$f":"'Marks Entry'!BC96","v":0},{"$f":"'Marks Entry'!BD96","v":0},{"$f":"'Marks Entry'!BE96","v":0},{"$f":"'Marks Entry'!BF96","v":0},{"$f":"'Marks Entry'!BG96","v":0},{"$f":"'Marks Entry'!BH96","v":0},{"$f":"'Marks Entry'!BI96","v":0},{"$f":"'Marks Entry'!BJ96","v":0},{"$f":"'Marks Entry'!BK96","v":0},{"$f":"'Marks Entry'!BL96","v":0},{"$f":"'Marks Entry'!BM96","v":0},{"$f":"'Marks Entry'!BN96","v":0},{"$f":"'Marks Entry'!BO96","v":0},{"$f":"'Marks Entry'!BP96","v":0},{"$f":"'Marks Entry'!BQ96","v":0},{"$f":"'Marks Entry'!BR96","v":"E"},{"$f":"'Marks Entry'!BS96","v":0},{"$f":"'Marks Entry'!BT96","v":0},{"$f":"'Marks Entry'!BU96","v":0},{"$f":"'Marks Entry'!BV96","v":0},{"$f":"'Marks Entry'!BW96","v":0},{"$f":"'Marks Entry'!BX96","v":0},{"$f":"'Marks Entry'!BY96","v":0},{"$f":"'Marks Entry'!BZ96","v":0},{"$f":"'Marks Entry'!CA96","v":0},{"$f":"'Marks Entry'!CB96","v":0},{"$f":"'Marks Entry'!CC96","v":0},{"$f":"'Marks Entry'!CD96","v":0},{"$f":"'Marks Entry'!CE96","v":0},{"$f":"'Marks Entry'!CF96","v":0},{"$f":"'Marks Entry'!CG96","v":0},{"$f":"'Marks Entry'!CH96","v":0},{"$f":"'Marks Entry'!CI96","v":0},{"$f":"'Marks Entry'!CJ96","v":0},{"$f":"'Marks Entry'!CK96","v":0},{"$f":"'Marks Entry'!CL96","v":"E"},{"$f":"'Marks Entry'!CM96","v":0},{"$f":"'Marks Entry'!CN96","v":0},{"$f":"'Marks Entry'!CO96","v":0},{"$f":"'Marks Entry'!CP96","v":0},{"$f":"'Marks Entry'!CQ96","v":0},{"$f":"'Marks Entry'!CR96","v":0},{"$f":"'Marks Entry'!CS96","v":0},{"$f":"'Marks Entry'!CT96","v":0},{"$f":"'Marks Entry'!CU96","v":0},{"$f":"'Marks Entry'!CV96","v":0},{"$f":"'Marks Entry'!CW96","v":0},{"$f":"'Marks Entry'!CX96","v":0},{"$f":"'Marks Entry'!CY96","v":0},{"$f":"'Marks Entry'!CZ96","v":0},{"$f":"'Marks Entry'!DA96","v":0},{"$f":"'Marks Entry'!DB96","v":0},{"$f":"'Marks Entry'!DC96","v":0},{"$f":"'Marks Entry'!DD96","v":0},{"$f":"'Marks Entry'!DE96","v":0},{"$f":"'Marks Entry'!DF96","v":"E"},{"$f":"'Marks Entry'!DG96","v":0},{"$f":"'Marks Entry'!DH96","v":0},{"$f":"'Marks Entry'!DI96","v":0},{"$f":"'Marks Entry'!DJ96","v":0},{"$f":"'Marks Entry'!DK96","v":0},{"$f":"'Marks Entry'!DL96","v":0},{"$f":"'Marks Entry'!DM96","v":0},{"$f":"'Marks Entry'!DN96","v":0},{"$f":"'Marks Entry'!DO96","v":0},{"$f":"'Marks Entry'!DP96","v":0},{"$f":"'Marks Entry'!DQ96","v":0},{"$f":"'Marks Entry'!DR96","v":0},{"$f":"'Marks Entry'!DS96","v":0},{"$f":"'Marks Entry'!DT96","v":0},{"$f":"'Marks Entry'!DU96","v":0},{"$f":"'Marks Entry'!DV96","v":0},{"$f":"'Marks Entry'!DW96","v":0},{"$f":"'Marks Entry'!DX96","v":0},{"$f":"'Marks Entry'!DY96","v":0},{"$f":"'Marks Entry'!DZ96","v":"E"},{"$f":"'Marks Entry'!EA96","v":0},{"$f":"'Marks Entry'!EB96","v":0},{"$f":"'Marks Entry'!EC96","v":0},{"$f":"'Marks Entry'!ED96","v":0},{"$f":"'Marks Entry'!EE96","v":0},{"$f":"'Marks Entry'!EF96","v":0},{"$f":"'Marks Entry'!EG96","v":0},{"$f":"'Marks Entry'!EJ96","v":0},{"$f":"'Marks Entry'!EK96","v":0},{"$f":"'Marks Entry'!EL96","v":0},{"$f":"'Marks Entry'!EM96","v":0},{"$f":"'Marks Entry'!EN96","v":0},{"$f":"'Marks Entry'!EO96","v":0},{"$f":"'Marks Entry'!EP96","v":0},{"$f":"'Marks Entry'!ES96","v":0},{"$f":"'Marks Entry'!ET96","v":0},{"$f":"'Marks Entry'!EU96","v":0},{"$f":"'Marks Entry'!EV96","v":0},{"$f":"'Marks Entry'!EW96","v":0},{"$f":"'Marks Entry'!EX96","v":0},{"$f":"'Marks Entry'!EY96","v":0},{"$f":"'Marks Entry'!FB96","v":0},{"$f":"'Marks Entry'!FC96","v":0},{"$f":"'Marks Entry'!FD96","v":0},{"$f":"'Marks Entry'!FE96","v":""},{"$f":"'Marks Entry'!FF96","v":0},{"$f":"'Marks Entry'!FG96","v":0},{"$f":"'Marks Entry'!FH96","v":""},{"$f":"IF(OR('Marks Entry'!FI96=\"First\",'Marks Entry'!FI96=\"Second\",'Marks Entry'!FI96=\"Third\"),'Marks Entry'!FI96,\"\")","v":""},{"$f":"'Marks Entry'!FJ96","v":""},{"$f":"'Marks Entry'!FK96","v":""},{"$f":"'Marks Entry'!FL96","v":""},{"$f":"'Marks Entry'!FM96","v":""},{"$f":"'Marks Entry'!FO96","v":0}]
[null,0,{"$f":"'Marks Entry'!D97","v":0},{"$f":"'Marks Entry'!E97","v":0},{"$f":"'Marks Entry'!F97","v":0},{"$f":"'Marks Entry'!G97","v":0},{"$f":"'Marks Entry'!H97","v":0},{"$f":"'Marks Entry'!I97","v":0},{"$f":"'Marks Entry'!J97","v":0},{"$f":"'Marks Entry'!K97","v":"00:00:00"},{"$f":"'Marks Entry'!L97","v":0},{"$f":"'Marks Entry'!M97","v":0},{"$f":"'Marks Entry'!N97","v":0},{"$f":"'Marks Entry'!O97","v":0},{"$f":"'Marks Entry'!P97","v":0},{"$f":"'Marks Entry'!Q97","v":0},{"$f":"'Marks Entry'!R97","v":0},{"$f":"'Marks Entry'!S97","v":0},{"$f":"'Marks Entry'!T97","v":0},{"$f":"'Marks Entry'!U97","v":0},{"$f":"'Marks Entry'!V97","v":0},{"$f":"'Marks Entry'!W97","v":0},{"$f":"'Marks Entry'!X97","v":0},{"$f":"'Marks Entry'!Y97","v":0},{"$f":"'Marks Entry'!Z97","v":0},{"$f":"'Marks Entry'!AA97","v":0},{"$f":"'Marks Entry'!AB97","v":0},{"$f":"'Marks Entry'!AC97","v":0},{"$f":"'Marks Entry'!AD97","v":""},{"$f":"'Marks Entry'!AE97","v":0},{"$f":"'Marks Entry'!AF97","v":0},{"$f":"'Marks Entry'!AG97","v":0},{"$f":"'Marks Entry'!AH97","v":0},{"$f":"'Marks Entry'!AI97","v":0},{"$f":"'Marks Entry'!AJ97","v":0},{"$f":"'Marks Entry'!AK97","v":0},{"$f":"'Marks Entry'!AL97","v":0},{"$f":"'Marks Entry'!AM97","v":0},{"$f":"'Marks Entry'!AN97","v":0},{"$f":"'Marks Entry'!AO97","v":0},{"$f":"'Marks Entry'!AP97","v":0},{"$f":"'Marks Entry'!AQ97","v":0},{"$f":"'Marks Entry'!AR97","v":0},{"$f":"'Marks Entry'!AS97","v":0},{"$f":"'Marks Entry'!AT97","v":0},{"$f":"'Marks Entry'!AU97","v":0},{"$f":"'Marks Entry'!AV97","v":0},{"$f":"'Marks Entry'!AW97","v":0},{"$f":"'Marks Entry'!AX97","v":"E"},{"$f":"'Marks Entry'!AY97","v":0},{"$f":"'Marks Entry'!AZ97","v":0},{"$f":"'Marks Entry'!BA97","v":0},{"$f":"'Marks Entry'!BB97","v":0},{"$f":"'Marks Entry'!BC97","v":0},{"$f":"'Marks Entry'!BD97","v":0},{"$f":"'Marks Entry'!BE97","v":0},{"$f":"'Marks Entry'!BF97","v":0},{"$f":"'Marks Entry'!BG97","v":0},{"$f":"'Marks Entry'!BH97","v":0},{"$f":"'Marks Entry'!BI97","v":0},{"$f":"'Marks Entry'!BJ97","v":0},{"$f":"'Marks Entry'!BK97","v":0},{"$f":"'Marks Entry'!BL97","v":0},{"$f":"'Marks Entry'!BM97","v":0},{"$f":"'Marks Entry'!BN97","v":0},{"$f":"'Marks Entry'!BO97","v":0},{"$f":"'Marks Entry'!BP97","v":0},{"$f":"'Marks Entry'!BQ97","v":0},{"$f":"'Marks Entry'!BR97","v":"E"},{"$f":"'Marks Entry'!BS97","v":0},{"$f":"'Marks Entry'!BT97","v":0},{"$f":"'Marks Entry'!BU97","v":0},{"$f":"'Marks Entry'!BV97","v":0},{"$f":"'Marks Entry'!BW97","v":0},{"$f":"'Marks Entry'!BX97","v":0},{"$f":"'Marks Entry'!BY97","v":0},{"$f":"'Marks Entry'!BZ97","v":0},{"$f":"'Marks Entry'!CA97","v":0},{"$f":"'Marks Entry'!CB97","v":0},{"$f":"'Marks Entry'!CC97","v":0},{"$f":"'Marks Entry'!CD97","v":0},{"$f":"'Marks Entry'!CE97","v":0},{"$f":"'Marks Entry'!CF97","v":0},{"$f":"'Marks Entry'!CG97","v":0},{"$f":"'Marks Entry'!CH97","v":0},{"$f":"'Marks Entry'!CI97","v":0},{"$f":"'Marks Entry'!CJ97","v":0},{"$f":"'Marks Entry'!CK97","v":0},{"$f":"'Marks Entry'!CL97","v":"E"},{"$f":"'Marks Entry'!CM97","v":0},{"$f":"'Marks Entry'!CN97","v":0},{"$f":"'Marks Entry'!CO97","v":0},{"$f":"'Marks Entry'!CP97","v":0},{"$f":"'Marks Entry'!CQ97","v":0},{"$f":"'Marks Entry'!CR97","v":0},{"$f":"'Marks Entry'!CS97","v":0},{"$f":"'Marks Entry'!CT97","v":0},{"$f":"'Marks Entry'!CU97","v":0},{"$f":"'Marks Entry'!CV97","v":0},{"$f":"'Marks Entry'!CW97","v":0},{"$f":"'Marks Entry'!CX97","v":0},{"$f":"'Marks Entry'!CY97","v":0},{"$f":"'Marks Entry'!CZ97","v":0},{"$f":"'Marks Entry'!DA97","v":0},{"$f":"'Marks Entry'!DB97","v":0},{"$f":"'Marks Entry'!DC97","v":0},{"$f":"'Marks Entry'!DD97","v":0},{"$f":"'Marks Entry'!DE97","v":0},{"$f":"'Marks Entry'!DF97","v":"E"},{"$f":"'Marks Entry'!DG97","v":0},{"$f":"'Marks Entry'!DH97","v":0},{"$f":"'Marks Entry'!DI97","v":0},{"$f":"'Marks Entry'!DJ97","v":0},{"$f":"'Marks Entry'!DK97","v":0},{"$f":"'Marks Entry'!DL97","v":0},{"$f":"'Marks Entry'!DM97","v":0},{"$f":"'Marks Entry'!DN97","v":0},{"$f":"'Marks Entry'!DO97","v":0},{"$f":"'Marks Entry'!DP97","v":0},{"$f":"'Marks Entry'!DQ97","v":0},{"$f":"'Marks Entry'!DR97","v":0},{"$f":"'Marks Entry'!DS97","v":0},{"$f":"'Marks Entry'!DT97","v":0},{"$f":"'Marks Entry'!DU97","v":0},{"$f":"'Marks Entry'!DV97","v":0},{"$f":"'Marks Entry'!DW97","v":0},{"$f":"'Marks Entry'!DX97","v":0},{"$f":"'Marks Entry'!DY97","v":0},{"$f":"'Marks Entry'!DZ97","v":"E"},{"$f":"'Marks Entry'!EA97","v":0},{"$f":"'Marks Entry'!EB97","v":0},{"$f":"'Marks Entry'!EC97","v":0},{"$f":"'Marks Entry'!ED97","v":0},{"$f":"'Marks Entry'!EE97","v":0},{"$f":"'Marks Entry'!EF97","v":0},{"$f":"'Marks Entry'!EG97","v":0},{"$f":"'Marks Entry'!EJ97","v":0},{"$f":"'Marks Entry'!EK97","v":0},{"$f":"'Marks Entry'!EL97","v":0},{"$f":"'Marks Entry'!EM97","v":0},{"$f":"'Marks Entry'!EN97","v":0},{"$f":"'Marks Entry'!EO97","v":0},{"$f":"'Marks Entry'!EP97","v":0},{"$f":"'Marks Entry'!ES97","v":0},{"$f":"'Marks Entry'!ET97","v":0},{"$f":"'Marks Entry'!EU97","v":0},{"$f":"'Marks Entry'!EV97","v":0},{"$f":"'Marks Entry'!EW97","v":0},{"$f":"'Marks Entry'!EX97","v":0},{"$f":"'Marks Entry'!EY97","v":0},{"$f":"'Marks Entry'!FB97","v":0},{"$f":"'Marks Entry'!FC97","v":0},{"$f":"'Marks Entry'!FD97","v":0},{"$f":"'Marks Entry'!FE97","v":""},{"$f":"'Marks Entry'!FF97","v":0},{"$f":"'Marks Entry'!FG97","v":0},{"$f":"'Marks Entry'!FH97","v":""},{"$f":"IF(OR('Marks Entry'!FI97=\"First\",'Marks Entry'!FI97=\"Second\",'Marks Entry'!FI97=\"Third\"),'Marks Entry'!FI97,\"\")","v":""},{"$f":"'Marks Entry'!FJ97","v":""},{"$f":"'Marks Entry'!FK97","v":""},{"$f":"'Marks Entry'!FL97","v":""},{"$f":"'Marks Entry'!FM97","v":""},{"$f":"'Marks Entry'!FO97","v":0}]
[null,0,{"$f":"'Marks Entry'!D98","v":0},{"$f":"'Marks Entry'!E98","v":0},{"$f":"'Marks Entry'!F98","v":0},{"$f":"'Marks Entry'!G98","v":0},{"$f":"'Marks Entry'!H98","v":0},{"$f":"'Marks Entry'!I98","v":0},{"$f":"'Marks Entry'!J98","v":0},{"$f":"'Marks Entry'!K98","v":"00:00:00"},{"$f":"'Marks Entry'!L98","v":0},{"$f":"'Marks Entry'!M98","v":0},{"$f":"'Marks Entry'!N98","v":0},{"$f":"'Marks Entry'!O98","v":0},{"$f":"'Marks Entry'!P98","v":0},{"$f":"'Marks Entry'!Q98","v":0},{"$f":"'Marks Entry'!R98","v":0},{"$f":"'Marks Entry'!S98","v":0},{"$f":"'Marks Entry'!T98","v":0},{"$f":"'Marks Entry'!U98","v":0},{"$f":"'Marks Entry'!V98","v":0},{"$f":"'Marks Entry'!W98","v":0},{"$f":"'Marks Entry'!X98","v":0},{"$f":"'Marks Entry'!Y98","v":0},{"$f":"'Marks Entry'!Z98","v":0},{"$f":"'Marks Entry'!AA98","v":0},{"$f":"'Marks Entry'!AB98","v":0},{"$f":"'Marks Entry'!AC98","v":0},{"$f":"'Marks Entry'!AD98","v":""},{"$f":"'Marks Entry'!AE98","v":0},{"$f":"'Marks Entry'!AF98","v":0},{"$f":"'Marks Entry'!AG98","v":0},{"$f":"'Marks Entry'!AH98","v":0},{"$f":"'Marks Entry'!AI98","v":0},{"$f":"'Marks Entry'!AJ98","v":0},{"$f":"'Marks Entry'!AK98","v":0},{"$f":"'Marks Entry'!AL98","v":0},{"$f":"'Marks Entry'!AM98","v":0},{"$f":"'Marks Entry'!AN98","v":0},{"$f":"'Marks Entry'!AO98","v":0},{"$f":"'Marks Entry'!AP98","v":0},{"$f":"'Marks Entry'!AQ98","v":0},{"$f":"'Marks Entry'!AR98","v":0},{"$f":"'Marks Entry'!AS98","v":0},{"$f":"'Marks Entry'!AT98","v":0},{"$f":"'Marks Entry'!AU98","v":0},{"$f":"'Marks Entry'!AV98","v":0},{"$f":"'Marks Entry'!AW98","v":0},{"$f":"'Marks Entry'!AX98","v":"E"},{"$f":"'Marks Entry'!AY98","v":0},{"$f":"'Marks Entry'!AZ98","v":0},{"$f":"'Marks Entry'!BA98","v":0},{"$f":"'Marks Entry'!BB98","v":0},{"$f":"'Marks Entry'!BC98","v":0},{"$f":"'Marks Entry'!BD98","v":0},{"$f":"'Marks Entry'!BE98","v":0},{"$f":"'Marks Entry'!BF98","v":0},{"$f":"'Marks Entry'!BG98","v":0},{"$f":"'Marks Entry'!BH98","v":0},{"$f":"'Marks Entry'!BI98","v":0},{"$f":"'Marks Entry'!BJ98","v":0},{"$f":"'Marks Entry'!BK98","v":0},{"$f":"'Marks Entry'!BL98","v":0},{"$f":"'Marks Entry'!BM98","v":0},{"$f":"'Marks Entry'!BN98","v":0},{"$f":"'Marks Entry'!BO98","v":0},{"$f":"'Marks Entry'!BP98","v":0},{"$f":"'Marks Entry'!BQ98","v":0},{"$f":"'Marks Entry'!BR98","v":"E"},{"$f":"'Marks Entry'!BS98","v":0},{"$f":"'Marks Entry'!BT98","v":0},{"$f":"'Marks Entry'!BU98","v":0},{"$f":"'Marks Entry'!BV98","v":0},{"$f":"'Marks Entry'!BW98","v":0},{"$f":"'Marks Entry'!BX98","v":0},{"$f":"'Marks Entry'!BY98","v":0},{"$f":"'Marks Entry'!BZ98","v":0},{"$f":"'Marks Entry'!CA98","v":0},{"$f":"'Marks Entry'!CB98","v":0},{"$f":"'Marks Entry'!CC98","v":0},{"$f":"'Marks Entry'!CD98","v":0},{"$f":"'Marks Entry'!CE98","v":0},{"$f":"'Marks Entry'!CF98","v":0},{"$f":"'Marks Entry'!CG98","v":0},{"$f":"'Marks Entry'!CH98","v":0},{"$f":"'Marks Entry'!CI98","v":0},{"$f":"'Marks Entry'!CJ98","v":0},{"$f":"'Marks Entry'!CK98","v":0},{"$f":"'Marks Entry'!CL98","v":"E"},{"$f":"'Marks Entry'!CM98","v":0},{"$f":"'Marks Entry'!CN98","v":0},{"$f":"'Marks Entry'!CO98","v":0},{"$f":"'Marks Entry'!CP98","v":0},{"$f":"'Marks Entry'!CQ98","v":0},{"$f":"'Marks Entry'!CR98","v":0},{"$f":"'Marks Entry'!CS98","v":0},{"$f":"'Marks Entry'!CT98","v":0},{"$f":"'Marks Entry'!CU98","v":0},{"$f":"'Marks Entry'!CV98","v":0},{"$f":"'Marks Entry'!CW98","v":0},{"$f":"'Marks Entry'!CX98","v":0},{"$f":"'Marks Entry'!CY98","v":0},{"$f":"'Marks Entry'!CZ98","v":0},{"$f":"'Marks Entry'!DA98","v":0},{"$f":"'Marks Entry'!DB98","v":0},{"$f":"'Marks Entry'!DC98","v":0},{"$f":"'Marks Entry'!DD98","v":0},{"$f":"'Marks Entry'!DE98","v":0},{"$f":"'Marks Entry'!DF98","v":"E"},{"$f":"'Marks Entry'!DG98","v":0},{"$f":"'Marks Entry'!DH98","v":0},{"$f":"'Marks Entry'!DI98","v":0},{"$f":"'Marks Entry'!DJ98","v":0},{"$f":"'Marks Entry'!DK98","v":0},{"$f":"'Marks Entry'!DL98","v":0},{"$f":"'Marks Entry'!DM98","v":0},{"$f":"'Marks Entry'!DN98","v":0},{"$f":"'Marks Entry'!DO98","v":0},{"$f":"'Marks Entry'!DP98","v":0},{"$f":"'Marks Entry'!DQ98","v":0},{"$f":"'Marks Entry'!DR98","v":0},{"$f":"'Marks Entry'!DS98","v":0},{"$f":"'Marks Entry'!DT98","v":0},{"$f":"'Marks Entry'!DU98","v":0},{"$f":"'Marks Entry'!DV98","v":0},{"$f":"'Marks Entry'!DW98","v":0},{"$f":"'Marks Entry'!DX98","v":0},{"$f":"'Marks Entry'!DY98","v":0},{"$f":"'Marks Entry'!DZ98","v":"E"},{"$f":"'Marks Entry'!EA98","v":0},{"$f":"'Marks Entry'!EB98","v":0},{"$f":"'Marks Entry'!EC98","v":0},{"$f":"'Marks Entry'!ED98","v":0},{"$f":"'Marks Entry'!EE98","v":0},{"$f":"'Marks Entry'!EF98","v":0},{"$f":"'Marks Entry'!EG98","v":0},{"$f":"'Marks Entry'!EJ98","v":0},{"$f":"'Marks Entry'!EK98","v":0},{"$f":"'Marks Entry'!EL98","v":0},{"$f":"'Marks Entry'!EM98","v":0},{"$f":"'Marks Entry'!EN98","v":0},{"$f":"'Marks Entry'!EO98","v":0},{"$f":"'Marks Entry'!EP98","v":0},{"$f":"'Marks Entry'!ES98","v":0},{"$f":"'Marks Entry'!ET98","v":0},{"$f":"'Marks Entry'!EU98","v":0},{"$f":"'Marks Entry'!EV98","v":0},{"$f":"'Marks Entry'!EW98","v":0},{"$f":"'Marks Entry'!EX98","v":0},{"$f":"'Marks Entry'!EY98","v":0},{"$f":"'Marks Entry'!FB98","v":0},{"$f":"'Marks Entry'!FC98","v":0},{"$f":"'Marks Entry'!FD98","v":0},{"$f":"'Marks Entry'!FE98","v":""},{"$f":"'Marks Entry'!FF98","v":0},{"$f":"'Marks Entry'!FG98","v":0},{"$f":"'Marks Entry'!FH98","v":""},{"$f":"IF(OR('Marks Entry'!FI98=\"First\",'Marks Entry'!FI98=\"Second\",'Marks Entry'!FI98=\"Third\"),'Marks Entry'!FI98,\"\")","v":""},{"$f":"'Marks Entry'!FJ98","v":""},{"$f":"'Marks Entry'!FK98","v":""},{"$f":"'Marks Entry'!FL98","v":""},{"$f":"'Marks Entry'!FM98","v":""},{"$f":"'Marks Entry'!FO98","v":0}]
[null,0,{"$f":"'Marks Entry'!D99","v":0},{"$f":"'Marks Entry'!E99","v":0},{"$f":"'Marks Entry'!F99","v":0},{"$f":"'Marks Entry'!G99","v":0},{"$f":"'Marks Entry'!H99","v":0},{"$f":"'Marks Entry'!I99","v":0},{"$f":"'Marks Entry'!J99","v":0},{"$f":"'Marks Entry'!K99","v":"00:00:00"},{"$f":"'Marks Entry'!L99","v":0},{"$f":"'Marks Entry'!M99","v":0},{"$f":"'Marks Entry'!N99","v":0},{"$f":"'Marks Entry'!O99","v":0},{"$f":"'Marks Entry'!P99","v":0},{"$f":"'Marks Entry'!Q99","v":0},{"$f":"'Marks Entry'!R99","v":0},{"$f":"'Marks Entry'!S99","v":0},{"$f":"'Marks Entry'!T99","v":0},{"$f":"'Marks Entry'!U99","v":0},{"$f":"'Marks Entry'!V99","v":0},{"$f":"'Marks Entry'!W99","v":0},{"$f":"'Marks Entry'!X99","v":0},{"$f":"'Marks Entry'!Y99","v":0},{"$f":"'Marks Entry'!Z99","v":0},{"$f":"'Marks Entry'!AA99","v":0},{"$f":"'Marks Entry'!AB99","v":0},{"$f":"'Marks Entry'!AC99","v":0},{"$f":"'Marks Entry'!AD99","v":""},{"$f":"'Marks Entry'!AE99","v":0},{"$f":"'Marks Entry'!AF99","v":0},{"$f":"'Marks Entry'!AG99","v":0},{"$f":"'Marks Entry'!AH99","v":0},{"$f":"'Marks Entry'!AI99","v":0},{"$f":"'Marks Entry'!AJ99","v":0},{"$f":"'Marks Entry'!AK99","v":0},{"$f":"'Marks Entry'!AL99","v":0},{"$f":"'Marks Entry'!AM99","v":0},{"$f":"'Marks Entry'!AN99","v":0},{"$f":"'Marks Entry'!AO99","v":0},{"$f":"'Marks Entry'!AP99","v":0},{"$f":"'Marks Entry'!AQ99","v":0},{"$f":"'Marks Entry'!AR99","v":0},{"$f":"'Marks Entry'!AS99","v":0},{"$f":"'Marks Entry'!AT99","v":0},{"$f":"'Marks Entry'!AU99","v":0},{"$f":"'Marks Entry'!AV99","v":0},{"$f":"'Marks Entry'!AW99","v":0},{"$f":"'Marks Entry'!AX99","v":"E"},{"$f":"'Marks Entry'!AY99","v":0},{"$f":"'Marks Entry'!AZ99","v":0},{"$f":"'Marks Entry'!BA99","v":0},{"$f":"'Marks Entry'!BB99","v":0},{"$f":"'Marks Entry'!BC99","v":0},{"$f":"'Marks Entry'!BD99","v":0},{"$f":"'Marks Entry'!BE99","v":0},{"$f":"'Marks Entry'!BF99","v":0},{"$f":"'Marks Entry'!BG99","v":0},{"$f":"'Marks Entry'!BH99","v":0},{"$f":"'Marks Entry'!BI99","v":0},{"$f":"'Marks Entry'!BJ99","v":0},{"$f":"'Marks Entry'!BK99","v":0},{"$f":"'Marks Entry'!BL99","v":0},{"$f":"'Marks Entry'!BM99","v":0},{"$f":"'Marks Entry'!BN99","v":0},{"$f":"'Marks Entry'!BO99","v":0},{"$f":"'Marks Entry'!BP99","v":0},{"$f":"'Marks Entry'!BQ99","v":0},{"$f":"'Marks Entry'!BR99","v":"E"},{"$f":"'Marks Entry'!BS99","v":0},{"$f":"'Marks Entry'!BT99","v":0},{"$f":"'Marks Entry'!BU99","v":0},{"$f":"'Marks Entry'!BV99","v":0},{"$f":"'Marks Entry'!BW99","v":0},{"$f":"'Marks Entry'!BX99","v":0},{"$f":"'Marks Entry'!BY99","v":0},{"$f":"'Marks Entry'!BZ99","v":0},{"$f":"'Marks Entry'!CA99","v":0},{"$f":"'Marks Entry'!CB99","v":0},{"$f":"'Marks Entry'!CC99","v":0},{"$f":"'Marks Entry'!CD99","v":0},{"$f":"'Marks Entry'!CE99","v":0},{"$f":"'Marks Entry'!CF99","v":0},{"$f":"'Marks Entry'!CG99","v":0},{"$f":"'Marks Entry'!CH99","v":0},{"$f":"'Marks Entry'!CI99","v":0},{"$f":"'Marks Entry'!CJ99","v":0},{"$f":"'Marks Entry'!CK99","v":0},{"$f":"'Marks Entry'!CL99","v":"E"},{"$f":"'Marks Entry'!CM99","v":0},{"$f":"'Marks Entry'!CN99","v":0},{"$f":"'Marks Entry'!CO99","v":0},{"$f":"'Marks Entry'!CP99","v":0},{"$f":"'Marks Entry'!CQ99","v":0},{"$f":"'Marks Entry'!CR99","v":0},{"$f":"'Marks Entry'!CS99","v":0},{"$f":"'Marks Entry'!CT99","v":0},{"$f":"'Marks Entry'!CU99","v":0},{"$f":"'Marks Entry'!CV99","v":0},{"$f":"'Marks Entry'!CW99","v":0},{"$f":"'Marks Entry'!CX99","v":0},{"$f":"'Marks Entry'!CY99","v":0},{"$f":"'Marks Entry'!CZ99","v":0},{"$f":"'Marks Entry'!DA99","v":0},{"$f":"'Marks Entry'!DB99","v":0},{"$f":"'Marks Entry'!DC99","v":0},{"$f":"'Marks Entry'!DD99","v":0},{"$f":"'Marks Entry'!DE99","v":0},{"$f":"'Marks Entry'!DF99","v":"E"},{"$f":"'Marks Entry'!DG99","v":0},{"$f":"'Marks Entry'!DH99","v":0},{"$f":"'Marks Entry'!DI99","v":0},{"$f":"'Marks Entry'!DJ99","v":0},{"$f":"'Marks Entry'!DK99","v":0},{"$f":"'Marks Entry'!DL99","v":0},{"$f":"'Marks Entry'!DM99","v":0},{"$f":"'Marks Entry'!DN99","v":0},{"$f":"'Marks Entry'!DO99","v":0},{"$f":"'Marks Entry'!DP99","v":0},{"$f":"'Marks Entry'!DQ99","v":0},{"$f":"'Marks Entry'!DR99","v":0},{"$f":"'Marks Entry'!DS99","v":0},{"$f":"'Marks Entry'!DT99","v":0},{"$f":"'Marks Entry'!DU99","v":0},{"$f":"'Marks Entry'!DV99","v":0},{"$f":"'Marks Entry'!DW99","v":0},{"$f":"'Marks Entry'!DX99","v":0},{"$f":"'Marks Entry'!DY99","v":0},{"$f":"'Marks Entry'!DZ99","v":"E"},{"$f":"'Marks Entry'!EA99","v":0},{"$f":"'Marks Entry'!EB99","v":0},{"$f":"'Marks Entry'!EC99","v":0},{"$f":"'Marks Entry'!ED99","v":0},{"$f":"'Marks Entry'!EE99","v":0},{"$f":"'Marks Entry'!EF99","v":0},{"$f":"'Marks Entry'!EG99","v":0},{"$f":"'Marks Entry'!EJ99","v":0},{"$f":"'Marks Entry'!EK99","v":0},{"$f":"'Marks Entry'!EL99","v":0},{"$f":"'Marks Entry'!EM99","v":0},{"$f":"'Marks Entry'!EN99","v":0},{"$f":"'Marks Entry'!EO99","v":0},{"$f":"'Marks Entry'!EP99","v":0},{"$f":"'Marks Entry'!ES99","v":0},{"$f":"'Marks Entry'!ET99","v":0},{"$f":"'Marks Entry'!EU99","v":0},{"$f":"'Marks Entry'!EV99","v":0},{"$f":"'Marks Entry'!EW99","v":0},{"$f":"'Marks Entry'!EX99","v":0},{"$f":"'Marks Entry'!EY99","v":0},{"$f":"'Marks Entry'!FB99","v":0},{"$f":"'Marks Entry'!FC99","v":0},{"$f":"'Marks Entry'!FD99","v":0},{"$f":"'Marks Entry'!FE99","v":""},{"$f":"'Marks Entry'!FF99","v":0},{"$f":"'Marks Entry'!FG99","v":0},{"$f":"'Marks Entry'!FH99","v":""},{"$f":"IF(OR('Marks Entry'!FI99=\"First\",'Marks Entry'!FI99=\"Second\",'Marks Entry'!FI99=\"Third\"),'Marks Entry'!FI99,\"\")","v":""},{"$f":"'Marks Entry'!FJ99","v":""},{"$f":"'Marks Entry'!FK99","v":""},{"$f":"'Marks Entry'!FL99","v":""},{"$f":"'Marks Entry'!FM99","v":""},{"$f":"'Marks Entry'!FO99","v":0}]
[null,0,{"$f":"'Marks Entry'!D100","v":0},{"$f":"'Marks Entry'!E100","v":0},{"$f":"'Marks Entry'!F100","v":0},{"$f":"'Marks Entry'!G100","v":0},{"$f":"'Marks Entry'!H100","v":0},{"$f":"'Marks Entry'!I100","v":0},{"$f":"'Marks Entry'!J100","v":0},{"$f":"'Marks Entry'!K100","v":"00:00:00"},{"$f":"'Marks Entry'!L100","v":0},{"$f":"'Marks Entry'!M100","v":0},{"$f":"'Marks Entry'!N100","v":0},{"$f":"'Marks Entry'!O100","v":0},{"$f":"'Marks Entry'!P100","v":0},{"$f":"'Marks Entry'!Q100","v":0},{"$f":"'Marks Entry'!R100","v":0},{"$f":"'Marks Entry'!S100","v":0},{"$f":"'Marks Entry'!T100","v":0},{"$f":"'Marks Entry'!U100","v":0},{"$f":"'Marks Entry'!V100","v":0},{"$f":"'Marks Entry'!W100","v":0},{"$f":"'Marks Entry'!X100","v":0},{"$f":"'Marks Entry'!Y100","v":0},{"$f":"'Marks Entry'!Z100","v":0},{"$f":"'Marks Entry'!AA100","v":0},{"$f":"'Marks Entry'!AB100","v":0},{"$f":"'Marks Entry'!AC100","v":0},{"$f":"'Marks Entry'!AD100","v":""},{"$f":"'Marks Entry'!AE100","v":0},{"$f":"'Marks Entry'!AF100","v":0},{"$f":"'Marks Entry'!AG100","v":0},{"$f":"'Marks Entry'!AH100","v":0},{"$f":"'Marks Entry'!AI100","v":0},{"$f":"'Marks Entry'!AJ100","v":0},{"$f":"'Marks Entry'!AK100","v":0},{"$f":"'Marks Entry'!AL100","v":0},{"$f":"'Marks Entry'!AM100","v":0},{"$f":"'Marks Entry'!AN100","v":0},{"$f":"'Marks Entry'!AO100","v":0},{"$f":"'Marks Entry'!AP100","v":0},{"$f":"'Marks Entry'!AQ100","v":0},{"$f":"'Marks Entry'!AR100","v":0},{"$f":"'Marks Entry'!AS100","v":0},{"$f":"'Marks Entry'!AT100","v":0},{"$f":"'Marks Entry'!AU100","v":0},{"$f":"'Marks Entry'!AV100","v":0},{"$f":"'Marks Entry'!AW100","v":0},{"$f":"'Marks Entry'!AX100","v":"E"},{"$f":"'Marks Entry'!AY100","v":0},{"$f":"'Marks Entry'!AZ100","v":0},{"$f":"'Marks Entry'!BA100","v":0},{"$f":"'Marks Entry'!BB100","v":0},{"$f":"'Marks Entry'!BC100","v":0},{"$f":"'Marks Entry'!BD100","v":0},{"$f":"'Marks Entry'!BE100","v":0},{"$f":"'Marks Entry'!BF100","v":0},{"$f":"'Marks Entry'!BG100","v":0},{"$f":"'Marks Entry'!BH100","v":0},{"$f":"'Marks Entry'!BI100","v":0},{"$f":"'Marks Entry'!BJ100","v":0},{"$f":"'Marks Entry'!BK100","v":0},{"$f":"'Marks Entry'!BL100","v":0},{"$f":"'Marks Entry'!BM100","v":0},{"$f":"'Marks Entry'!BN100","v":0},{"$f":"'Marks Entry'!BO100","v":0},{"$f":"'Marks Entry'!BP100","v":0},{"$f":"'Marks Entry'!BQ100","v":0},{"$f":"'Marks Entry'!BR100","v":"E"},{"$f":"'Marks Entry'!BS100","v":0},{"$f":"'Marks Entry'!BT100","v":0},{"$f":"'Marks Entry'!BU100","v":0},{"$f":"'Marks Entry'!BV100","v":0},{"$f":"'Marks Entry'!BW100","v":0},{"$f":"'Marks Entry'!BX100","v":0},{"$f":"'Marks Entry'!BY100","v":0},{"$f":"'Marks Entry'!BZ100","v":0},{"$f":"'Marks Entry'!CA100","v":0},{"$f":"'Marks Entry'!CB100","v":0},{"$f":"'Marks Entry'!CC100","v":0},{"$f":"'Marks Entry'!CD100","v":0},{"$f":"'Marks Entry'!CE100","v":0},{"$f":"'Marks Entry'!CF100","v":0},{"$f":"'Marks Entry'!CG100","v":0},{"$f":"'Marks Entry'!CH100","v":0},{"$f":"'Marks Entry'!CI100","v":0},{"$f":"'Marks Entry'!CJ100","v":0},{"$f":"'Marks Entry'!CK100","v":0},{"$f":"'Marks Entry'!CL100","v":"E"},{"$f":"'Marks Entry'!CM100","v":0},{"$f":"'Marks Entry'!CN100","v":0},{"$f":"'Marks Entry'!CO100","v":0},{"$f":"'Marks Entry'!CP100","v":0},{"$f":"'Marks Entry'!CQ100","v":0},{"$f":"'Marks Entry'!CR100","v":0},{"$f":"'Marks Entry'!CS100","v":0},{"$f":"'Marks Entry'!CT100","v":0},{"$f":"'Marks Entry'!CU100","v":0},{"$f":"'Marks Entry'!CV100","v":0},{"$f":"'Marks Entry'!CW100","v":0},{"$f":"'Marks Entry'!CX100","v":0},{"$f":"'Marks Entry'!CY100","v":0},{"$f":"'Marks Entry'!CZ100","v":0},{"$f":"'Marks Entry'!DA100","v":0},{"$f":"'Marks Entry'!DB100","v":0},{"$f":"'Marks Entry'!DC100","v":0},{"$f":"'Marks Entry'!DD100","v":0},{"$f":"'Marks Entry'!DE100","v":0},{"$f":"'Marks Entry'!DF100","v":"E"},{"$f":"'Marks Entry'!DG100","v":0},{"$f":"'Marks Entry'!DH100","v":0},{"$f":"'Marks Entry'!DI100","v":0},{"$f":"'Marks Entry'!DJ100","v":0},{"$f":"'Marks Entry'!DK100","v":0},{"$f":"'Marks Entry'!DL100","v":0},{"$f":"'Marks Entry'!DM100","v":0},{"$f":"'Marks Entry'!DN100","v":0},{"$f":"'Marks Entry'!DO100","v":0},{"$f":"'Marks Entry'!DP100","v":0},{"$f":"'Marks Entry'!DQ100","v":0},{"$f":"'Marks Entry'!DR100","v":0},{"$f":"'Marks Entry'!DS100","v":0},{"$f":"'Marks Entry'!DT100","v":0},{"$f":"'Marks Entry'!DU100","v":0},{"$f":"'Marks Entry'!DV100","v":0},{"$f":"'Marks Entry'!DW100","v":0},{"$f":"'Marks Entry'!DX100","v":0},{"$f":"'Marks Entry'!DY100","v":0},{"$f":"'Marks Entry'!DZ100","v":"E"},{"$f":"'Marks Entry'!EA100","v":0},{"$f":"'Marks Entry'!EB100","v":0},{"$f":"'Marks Entry'!EC100","v":0},{"$f":"'Marks Entry'!ED100","v":0},{"$f":"'Marks Entry'!EE100","v":0},{"$f":"'Marks Entry'!EF100","v":0},{"$f":"'Marks Entry'!EG100","v":0},{"$f":"'Marks Entry'!EJ100","v":0},{"$f":"'Marks Entry'!EK100","v":0},{"$f":"'Marks Entry'!EL100","v":0},{"$f":"'Marks Entry'!EM100","v":0},{"$f":"'Marks Entry'!EN100","v":0},{"$f":"'Marks Entry'!EO100","v":0},{"$f":"'Marks Entry'!EP100","v":0},{"$f":"'Marks Entry'!ES100","v":0},{"$f":"'Marks Entry'!ET100","v":0},{"$f":"'Marks Entry'!EU100","v":0},{"$f":"'Marks Entry'!EV100","v":0},{"$f":"'Marks Entry'!EW100","v":0},{"$f":"'Marks Entry'!EX100","v":0},{"$f":"'Marks Entry'!EY100","v":0},{"$f":"'Marks Entry'!FB100","v":0},{"$f":"'Marks Entry'!FC100","v":0},{"$f":"'Marks Entry'!FD100","v":0},{"$f":"'Marks Entry'!FE100","v":""},{"$f":"'Marks Entry'!FF100","v":0},{"$f":"'Marks Entry'!FG100","v":0},{"$f":"'Marks Entry'!FH100","v":""},{"$f":"IF(OR('Marks Entry'!FI100=\"First\",'Marks Entry'!FI100=\"Second\",'Marks Entry'!FI100=\"Third\"),'Marks Entry'!FI100,\"\")","v":""},{"$f":"'Marks Entry'!FJ100","v":""},{"$f":"'Marks Entry'!FK100","v":""},{"$f":"'Marks Entry'!FL100","v":""},{"$f":"'Marks Entry'!FM100","v":""},{"$f":"'Marks Entry'!FO100","v":0}]
[null,0,{"$f":"'Marks Entry'!D101","v":0},{"$f":"'Marks Entry'!E101","v":0},{"$f":"'Marks Entry'!F101","v":0},{"$f":"'Marks Entry'!G101","v":0},{"$f":"'Marks Entry'!H101","v":0},{"$f":"'Marks Entry'!I101","v":0},{"$f":"'Marks Entry'!J101","v":0},{"$f":"'Marks Entry'!K101","v":"00:00:00"},{"$f":"'Marks Entry'!L101","v":0},{"$f":"'Marks Entry'!M101","v":0},{"$f":"'Marks Entry'!N101","v":0},{"$f":"'Marks Entry'!O101","v":0},{"$f":"'Marks Entry'!P101","v":0},{"$f":"'Marks Entry'!Q101","v":0},{"$f":"'Marks Entry'!R101","v":0},{"$f":"'Marks Entry'!S101","v":0},{"$f":"'Marks Entry'!T101","v":0},{"$f":"'Marks Entry'!U101","v":0},{"$f":"'Marks Entry'!V101","v":0},{"$f":"'Marks Entry'!W101","v":0},{"$f":"'Marks Entry'!X101","v":0},{"$f":"'Marks Entry'!Y101","v":0},{"$f":"'Marks Entry'!Z101","v":0},{"$f":"'Marks Entry'!AA101","v":0},{"$f":"'Marks Entry'!AB101","v":0},{"$f":"'Marks Entry'!AC101","v":0},{"$f":"'Marks Entry'!AD101","v":""},{"$f":"'Marks Entry'!AE101","v":0},{"$f":"'Marks Entry'!AF101","v":0},{"$f":"'Marks Entry'!AG101","v":0},{"$f":"'Marks Entry'!AH101","v":0},{"$f":"'Marks Entry'!AI101","v":0},{"$f":"'Marks Entry'!AJ101","v":0},{"$f":"'Marks Entry'!AK101","v":0},{"$f":"'Marks Entry'!AL101","v":0},{"$f":"'Marks Entry'!AM101","v":0},{"$f":"'Marks Entry'!AN101","v":0},{"$f":"'Marks Entry'!AO101","v":0},{"$f":"'Marks Entry'!AP101","v":0},{"$f":"'Marks Entry'!AQ101","v":0},{"$f":"'Marks Entry'!AR101","v":0},{"$f":"'Marks Entry'!AS101","v":0},{"$f":"'Marks Entry'!AT101","v":0},{"$f":"'Marks Entry'!AU101","v":0},{"$f":"'Marks Entry'!AV101","v":0},{"$f":"'Marks Entry'!AW101","v":0},{"$f":"'Marks Entry'!AX101","v":"E"},{"$f":"'Marks Entry'!AY101","v":0},{"$f":"'Marks Entry'!AZ101","v":0},{"$f":"'Marks Entry'!BA101","v":0},{"$f":"'Marks Entry'!BB101","v":0},{"$f":"'Marks Entry'!BC101","v":0},{"$f":"'Marks Entry'!BD101","v":0},{"$f":"'Marks Entry'!BE101","v":0},{"$f":"'Marks Entry'!BF101","v":0},{"$f":"'Marks Entry'!BG101","v":0},{"$f":"'Marks Entry'!BH101","v":0},{"$f":"'Marks Entry'!BI101","v":0},{"$f":"'Marks Entry'!BJ101","v":0},{"$f":"'Marks Entry'!BK101","v":0},{"$f":"'Marks Entry'!BL101","v":0},{"$f":"'Marks Entry'!BM101","v":0},{"$f":"'Marks Entry'!BN101","v":0},{"$f":"'Marks Entry'!BO101","v":0},{"$f":"'Marks Entry'!BP101","v":0},{"$f":"'Marks Entry'!BQ101","v":0},{"$f":"'Marks Entry'!BR101","v":"E"},{"$f":"'Marks Entry'!BS101","v":0},{"$f":"'Marks Entry'!BT101","v":0},{"$f":"'Marks Entry'!BU101","v":0},{"$f":"'Marks Entry'!BV101","v":0},{"$f":"'Marks Entry'!BW101","v":0},{"$f":"'Marks Entry'!BX101","v":0},{"$f":"'Marks Entry'!BY101","v":0},{"$f":"'Marks Entry'!BZ101","v":0},{"$f":"'Marks Entry'!CA101","v":0},{"$f":"'Marks Entry'!CB101","v":0},{"$f":"'Marks Entry'!CC101","v":0},{"$f":"'Marks Entry'!CD101","v":0},{"$f":"'Marks Entry'!CE101","v":0},{"$f":"'Marks Entry'!CF101","v":0},{"$f":"'Marks Entry'!CG101","v":0},{"$f":"'Marks Entry'!CH101","v":0},{"$f":"'Marks Entry'!CI101","v":0},{"$f":"'Marks Entry'!CJ101","v":0},{"$f":"'Marks Entry'!CK101","v":0},{"$f":"'Marks Entry'!CL101","v":"E"},{"$f":"'Marks Entry'!CM101","v":0},{"$f":"'Marks Entry'!CN101","v":0},{"$f":"'Marks Entry'!CO101","v":0},{"$f":"'Marks Entry'!CP101","v":0},{"$f":"'Marks Entry'!CQ101","v":0},{"$f":"'Marks Entry'!CR101","v":0},{"$f":"'Marks Entry'!CS101","v":0},{"$f":"'Marks Entry'!CT101","v":0},{"$f":"'Marks Entry'!CU101","v":0},{"$f":"'Marks Entry'!CV101","v":0},{"$f":"'Marks Entry'!CW101","v":0},{"$f":"'Marks Entry'!CX101","v":0},{"$f":"'Marks Entry'!CY101","v":0},{"$f":"'Marks Entry'!CZ101","v":0},{"$f":"'Marks Entry'!DA101","v":0},{"$f":"'Marks Entry'!DB101","v":0},{"$f":"'Marks Entry'!DC101","v":0},{"$f":"'Marks Entry'!DD101","v":0},{"$f":"'Marks Entry'!DE101","v":0},{"$f":"'Marks Entry'!DF101","v":"E"},{"$f":"'Marks Entry'!DG101","v":0},{"$f":"'Marks Entry'!DH101","v":0},{"$f":"'Marks Entry'!DI101","v":0},{"$f":"'Marks Entry'!DJ101","v":0},{"$f":"'Marks Entry'!DK101","v":0},{"$f":"'Marks Entry'!DL101","v":0},{"$f":"'Marks Entry'!DM101","v":0},{"$f":"'Marks Entry'!DN101","v":0},{"$f":"'Marks Entry'!DO101","v":0},{"$f":"'Marks Entry'!DP101","v":0},{"$f":"'Marks Entry'!DQ101","v":0},{"$f":"'Marks Entry'!DR101","v":0},{"$f":"'Marks Entry'!DS101","v":0},{"$f":"'Marks Entry'!DT101","v":0},{"$f":"'Marks Entry'!DU101","v":0},{"$f":"'Marks Entry'!DV101","v":0},{"$f":"'Marks Entry'!DW101","v":0},{"$f":"'Marks Entry'!DX101","v":0},{"$f":"'Marks Entry'!DY101","v":0},{"$f":"'Marks Entry'!DZ101","v":"E"},{"$f":"'Marks Entry'!EA101","v":0},{"$f":"'Marks Entry'!EB101","v":0},{"$f":"'Marks Entry'!EC101","v":0},{"$f":"'Marks Entry'!ED101","v":0},{"$f":"'Marks Entry'!EE101","v":0},{"$f":"'Marks Entry'!EF101","v":0},{"$f":"'Marks Entry'!EG101","v":0},{"$f":"'Marks Entry'!EJ101","v":0},{"$f":"'Marks Entry'!EK101","v":0},{"$f":"'Marks Entry'!EL101","v":0},{"$f":"'Marks Entry'!EM101","v":0},{"$f":"'Marks Entry'!EN101","v":0},{"$f":"'Marks Entry'!EO101","v":0},{"$f":"'Marks Entry'!EP101","v":0},{"$f":"'Marks Entry'!ES101","v":0},{"$f":"'Marks Entry'!ET101","v":0},{"$f":"'Marks Entry'!EU101","v":0},{"$f":"'Marks Entry'!EV101","v":0},{"$f":"'Marks Entry'!EW101","v":0},{"$f":"'Marks Entry'!EX101","v":0},{"$f":"'Marks Entry'!EY101","v":0},{"$f":"'Marks Entry'!FB101","v":0},{"$f":"'Marks Entry'!FC101","v":0},{"$f":"'Marks Entry'!FD101","v":0},{"$f":"'Marks Entry'!FE101","v":""},{"$f":"'Marks Entry'!FF101","v":0},{"$f":"'Marks Entry'!FG101","v":0},{"$f":"'Marks Entry'!FH101","v":""},{"$f":"IF(OR('Marks Entry'!FI101=\"First\",'Marks Entry'!FI101=\"Second\",'Marks Entry'!FI101=\"Third\"),'Marks Entry'!FI101,\"\")","v":""},{"$f":"'Marks Entry'!FJ101","v":""},{"$f":"'Marks Entry'!FK101","v":""},{"$f":"'Marks Entry'!FL101","v":""},{"$f":"'Marks Entry'!FM101","v":""},{"$f":"'Marks Entry'!FO101","v":0}]
[null,0,{"$f":"'Marks Entry'!D102","v":0},{"$f":"'Marks Entry'!E102","v":0},{"$f":"'Marks Entry'!F102","v":0},{"$f":"'Marks Entry'!G102","v":0},{"$f":"'Marks Entry'!H102","v":0},{"$f":"'Marks Entry'!I102","v":0},{"$f":"'Marks Entry'!J102","v":0},{"$f":"'Marks Entry'!K102","v":"00:00:00"},{"$f":"'Marks Entry'!L102","v":0},{"$f":"'Marks Entry'!M102","v":0},{"$f":"'Marks Entry'!N102","v":0},{"$f":"'Marks Entry'!O102","v":0},{"$f":"'Marks Entry'!P102","v":0},{"$f":"'Marks Entry'!Q102","v":0},{"$f":"'Marks Entry'!R102","v":0},{"$f":"'Marks Entry'!S102","v":0},{"$f":"'Marks Entry'!T102","v":0},{"$f":"'Marks Entry'!U102","v":0},{"$f":"'Marks Entry'!V102","v":0},{"$f":"'Marks Entry'!W102","v":0},{"$f":"'Marks Entry'!X102","v":0},{"$f":"'Marks Entry'!Y102","v":0},{"$f":"'Marks Entry'!Z102","v":0},{"$f":"'Marks Entry'!AA102","v":0},{"$f":"'Marks Entry'!AB102","v":0},{"$f":"'Marks Entry'!AC102","v":0},{"$f":"'Marks Entry'!AD102","v":""},{"$f":"'Marks Entry'!AE102","v":0},{"$f":"'Marks Entry'!AF102","v":0},{"$f":"'Marks Entry'!AG102","v":0},{"$f":"'Marks Entry'!AH102","v":0},{"$f":"'Marks Entry'!AI102","v":0},{"$f":"'Marks Entry'!AJ102","v":0},{"$f":"'Marks Entry'!AK102","v":0},{"$f":"'Marks Entry'!AL102","v":0},{"$f":"'Marks Entry'!AM102","v":0},{"$f":"'Marks Entry'!AN102","v":0},{"$f":"'Marks Entry'!AO102","v":0},{"$f":"'Marks Entry'!AP102","v":0},{"$f":"'Marks Entry'!AQ102","v":0},{"$f":"'Marks Entry'!AR102","v":0},{"$f":"'Marks Entry'!AS102","v":0},{"$f":"'Marks Entry'!AT102","v":0},{"$f":"'Marks Entry'!AU102","v":0},{"$f":"'Marks Entry'!AV102","v":0},{"$f":"'Marks Entry'!AW102","v":0},{"$f":"'Marks Entry'!AX102","v":"E"},{"$f":"'Marks Entry'!AY102","v":0},{"$f":"'Marks Entry'!AZ102","v":0},{"$f":"'Marks Entry'!BA102","v":0},{"$f":"'Marks Entry'!BB102","v":0},{"$f":"'Marks Entry'!BC102","v":0},{"$f":"'Marks Entry'!BD102","v":0},{"$f":"'Marks Entry'!BE102","v":0},{"$f":"'Marks Entry'!BF102","v":0},{"$f":"'Marks Entry'!BG102","v":0},{"$f":"'Marks Entry'!BH102","v":0},{"$f":"'Marks Entry'!BI102","v":0},{"$f":"'Marks Entry'!BJ102","v":0},{"$f":"'Marks Entry'!BK102","v":0},{"$f":"'Marks Entry'!BL102","v":0},{"$f":"'Marks Entry'!BM102","v":0},{"$f":"'Marks Entry'!BN102","v":0},{"$f":"'Marks Entry'!BO102","v":0},{"$f":"'Marks Entry'!BP102","v":0},{"$f":"'Marks Entry'!BQ102","v":0},{"$f":"'Marks Entry'!BR102","v":"E"},{"$f":"'Marks Entry'!BS102","v":0},{"$f":"'Marks Entry'!BT102","v":0},{"$f":"'Marks Entry'!BU102","v":0},{"$f":"'Marks Entry'!BV102","v":0},{"$f":"'Marks Entry'!BW102","v":0},{"$f":"'Marks Entry'!BX102","v":0},{"$f":"'Marks Entry'!BY102","v":0},{"$f":"'Marks Entry'!BZ102","v":0},{"$f":"'Marks Entry'!CA102","v":0},{"$f":"'Marks Entry'!CB102","v":0},{"$f":"'Marks Entry'!CC102","v":0},{"$f":"'Marks Entry'!CD102","v":0},{"$f":"'Marks Entry'!CE102","v":0},{"$f":"'Marks Entry'!CF102","v":0},{"$f":"'Marks Entry'!CG102","v":0},{"$f":"'Marks Entry'!CH102","v":0},{"$f":"'Marks Entry'!CI102","v":0},{"$f":"'Marks Entry'!CJ102","v":0},{"$f":"'Marks Entry'!CK102","v":0},{"$f":"'Marks Entry'!CL102","v":"E"},{"$f":"'Marks Entry'!CM102","v":0},{"$f":"'Marks Entry'!CN102","v":0},{"$f":"'Marks Entry'!CO102","v":0},{"$f":"'Marks Entry'!CP102","v":0},{"$f":"'Marks Entry'!CQ102","v":0},{"$f":"'Marks Entry'!CR102","v":0},{"$f":"'Marks Entry'!CS102","v":0},{"$f":"'Marks Entry'!CT102","v":0},{"$f":"'Marks Entry'!CU102","v":0},{"$f":"'Marks Entry'!CV102","v":0},{"$f":"'Marks Entry'!CW102","v":0},{"$f":"'Marks Entry'!CX102","v":0},{"$f":"'Marks Entry'!CY102","v":0},{"$f":"'Marks Entry'!CZ102","v":0},{"$f":"'Marks Entry'!DA102","v":0},{"$f":"'Marks Entry'!DB102","v":0},{"$f":"'Marks Entry'!DC102","v":0},{"$f":"'Marks Entry'!DD102","v":0},{"$f":"'Marks Entry'!DE102","v":0},{"$f":"'Marks Entry'!DF102","v":"E"},{"$f":"'Marks Entry'!DG102","v":0},{"$f":"'Marks Entry'!DH102","v":0},{"$f":"'Marks Entry'!DI102","v":0},{"$f":"'Marks Entry'!DJ102","v":0},{"$f":"'Marks Entry'!DK102","v":0},{"$f":"'Marks Entry'!DL102","v":0},{"$f":"'Marks Entry'!DM102","v":0},{"$f":"'Marks Entry'!DN102","v":0},{"$f":"'Marks Entry'!DO102","v":0},{"$f":"'Marks Entry'!DP102","v":0},{"$f":"'Marks Entry'!DQ102","v":0},{"$f":"'Marks Entry'!DR102","v":0},{"$f":"'Marks Entry'!DS102","v":0},{"$f":"'Marks Entry'!DT102","v":0},{"$f":"'Marks Entry'!DU102","v":0},{"$f":"'Marks Entry'!DV102","v":0},{"$f":"'Marks Entry'!DW102","v":0},{"$f":"'Marks Entry'!DX102","v":0},{"$f":"'Marks Entry'!DY102","v":0},{"$f":"'Marks Entry'!DZ102","v":"E"},{"$f":"'Marks Entry'!EA102","v":0},{"$f":"'Marks Entry'!EB102","v":0},{"$f":"'Marks Entry'!EC102","v":0},{"$f":"'Marks Entry'!ED102","v":0},{"$f":"'Marks Entry'!EE102","v":0},{"$f":"'Marks Entry'!EF102","v":0},{"$f":"'Marks Entry'!EG102","v":0},{"$f":"'Marks Entry'!EJ102","v":0},{"$f":"'Marks Entry'!EK102","v":0},{"$f":"'Marks Entry'!EL102","v":0},{"$f":"'Marks Entry'!EM102","v":0},{"$f":"'Marks Entry'!EN102","v":0},{"$f":"'Marks Entry'!EO102","v":0},{"$f":"'Marks Entry'!EP102","v":0},{"$f":"'Marks Entry'!ES102","v":0},{"$f":"'Marks Entry'!ET102","v":0},{"$f":"'Marks Entry'!EU102","v":0},{"$f":"'Marks Entry'!EV102","v":0},{"$f":"'Marks Entry'!EW102","v":0},{"$f":"'Marks Entry'!EX102","v":0},{"$f":"'Marks Entry'!EY102","v":0},{"$f":"'Marks Entry'!FB102","v":0},{"$f":"'Marks Entry'!FC102","v":0},{"$f":"'Marks Entry'!FD102","v":0},{"$f":"'Marks Entry'!FE102","v":""},{"$f":"'Marks Entry'!FF102","v":0},{"$f":"'Marks Entry'!FG102","v":0},{"$f":"'Marks Entry'!FH102","v":""},{"$f":"IF(OR('Marks Entry'!FI102=\"First\",'Marks Entry'!FI102=\"Second\",'Marks Entry'!FI102=\"Third\"),'Marks Entry'!FI102,\"\")","v":""},{"$f":"'Marks Entry'!FJ102","v":""},{"$f":"'Marks Entry'!FK102","v":""},{"$f":"'Marks Entry'!FL102","v":""},{"$f":"'Marks Entry'!FM102","v":""},{"$f":"'Marks Entry'!FO102","v":0}]
[null,0,{"$f":"'Marks Entry'!D103","v":0},{"$f":"'Marks Entry'!E103","v":0},{"$f":"'Marks Entry'!F103","v":0},{"$f":"'Marks Entry'!G103","v":0},{"$f":"'Marks Entry'!H103","v":0},{"$f":"'Marks Entry'!I103","v":0},{"$f":"'Marks Entry'!J103","v":0},{"$f":"'Marks Entry'!K103","v":"00:00:00"},{"$f":"'Marks Entry'!L103","v":0},{"$f":"'Marks Entry'!M103","v":0},{"$f":"'Marks Entry'!N103","v":0},{"$f":"'Marks Entry'!O103","v":0},{"$f":"'Marks Entry'!P103","v":0},{"$f":"'Marks Entry'!Q103","v":0},{"$f":"'Marks Entry'!R103","v":0},{"$f":"'Marks Entry'!S103","v":0},{"$f":"'Marks Entry'!T103","v":0},{"$f":"'Marks Entry'!U103","v":0},{"$f":"'Marks Entry'!V103","v":0},{"$f":"'Marks Entry'!W103","v":0},{"$f":"'Marks Entry'!X103","v":0},{"$f":"'Marks Entry'!Y103","v":0},{"$f":"'Marks Entry'!Z103","v":0},{"$f":"'Marks Entry'!AA103","v":0},{"$f":"'Marks Entry'!AB103","v":0},{"$f":"'Marks Entry'!AC103","v":0},{"$f":"'Marks Entry'!AD103","v":""},{"$f":"'Marks Entry'!AE103","v":0},{"$f":"'Marks Entry'!AF103","v":0},{"$f":"'Marks Entry'!AG103","v":0},{"$f":"'Marks Entry'!AH103","v":0},{"$f":"'Marks Entry'!AI103","v":0},{"$f":"'Marks Entry'!AJ103","v":0},{"$f":"'Marks Entry'!AK103","v":0},{"$f":"'Marks Entry'!AL103","v":0},{"$f":"'Marks Entry'!AM103","v":0},{"$f":"'Marks Entry'!AN103","v":0},{"$f":"'Marks Entry'!AO103","v":0},{"$f":"'Marks Entry'!AP103","v":0},{"$f":"'Marks Entry'!AQ103","v":0},{"$f":"'Marks Entry'!AR103","v":0},{"$f":"'Marks Entry'!AS103","v":0},{"$f":"'Marks Entry'!AT103","v":0},{"$f":"'Marks Entry'!AU103","v":0},{"$f":"'Marks Entry'!AV103","v":0},{"$f":"'Marks Entry'!AW103","v":0},{"$f":"'Marks Entry'!AX103","v":"E"},{"$f":"'Marks Entry'!AY103","v":0},{"$f":"'Marks Entry'!AZ103","v":0},{"$f":"'Marks Entry'!BA103","v":0},{"$f":"'Marks Entry'!BB103","v":0},{"$f":"'Marks Entry'!BC103","v":0},{"$f":"'Marks Entry'!BD103","v":0},{"$f":"'Marks Entry'!BE103","v":0},{"$f":"'Marks Entry'!BF103","v":0},{"$f":"'Marks Entry'!BG103","v":0},{"$f":"'Marks Entry'!BH103","v":0},{"$f":"'Marks Entry'!BI103","v":0},{"$f":"'Marks Entry'!BJ103","v":0},{"$f":"'Marks Entry'!BK103","v":0},{"$f":"'Marks Entry'!BL103","v":0},{"$f":"'Marks Entry'!BM103","v":0},{"$f":"'Marks Entry'!BN103","v":0},{"$f":"'Marks Entry'!BO103","v":0},{"$f":"'Marks Entry'!BP103","v":0},{"$f":"'Marks Entry'!BQ103","v":0},{"$f":"'Marks Entry'!BR103","v":"E"},{"$f":"'Marks Entry'!BS103","v":0},{"$f":"'Marks Entry'!BT103","v":0},{"$f":"'Marks Entry'!BU103","v":0},{"$f":"'Marks Entry'!BV103","v":0},{"$f":"'Marks Entry'!BW103","v":0},{"$f":"'Marks Entry'!BX103","v":0},{"$f":"'Marks Entry'!BY103","v":0},{"$f":"'Marks Entry'!BZ103","v":0},{"$f":"'Marks Entry'!CA103","v":0},{"$f":"'Marks Entry'!CB103","v":0},{"$f":"'Marks Entry'!CC103","v":0},{"$f":"'Marks Entry'!CD103","v":0},{"$f":"'Marks Entry'!CE103","v":0},{"$f":"'Marks Entry'!CF103","v":0},{"$f":"'Marks Entry'!CG103","v":0},{"$f":"'Marks Entry'!CH103","v":0},{"$f":"'Marks Entry'!CI103","v":0},{"$f":"'Marks Entry'!CJ103","v":0},{"$f":"'Marks Entry'!CK103","v":0},{"$f":"'Marks Entry'!CL103","v":"E"},{"$f":"'Marks Entry'!CM103","v":0},{"$f":"'Marks Entry'!CN103","v":0},{"$f":"'Marks Entry'!CO103","v":0},{"$f":"'Marks Entry'!CP103","v":0},{"$f":"'Marks Entry'!CQ103","v":0},{"$f":"'Marks Entry'!CR103","v":0},{"$f":"'Marks Entry'!CS103","v":0},{"$f":"'Marks Entry'!CT103","v":0},{"$f":"'Marks Entry'!CU103","v":0},{"$f":"'Marks Entry'!CV103","v":0},{"$f":"'Marks Entry'!CW103","v":0},{"$f":"'Marks Entry'!CX103","v":0},{"$f":"'Marks Entry'!CY103","v":0},{"$f":"'Marks Entry'!CZ103","v":0},{"$f":"'Marks Entry'!DA103","v":0},{"$f":"'Marks Entry'!DB103","v":0},{"$f":"'Marks Entry'!DC103","v":0},{"$f":"'Marks Entry'!DD103","v":0},{"$f":"'Marks Entry'!DE103","v":0},{"$f":"'Marks Entry'!DF103","v":"E"},{"$f":"'Marks Entry'!DG103","v":0},{"$f":"'Marks Entry'!DH103","v":0},{"$f":"'Marks Entry'!DI103","v":0},{"$f":"'Marks Entry'!DJ103","v":0},{"$f":"'Marks Entry'!DK103","v":0},{"$f":"'Marks Entry'!DL103","v":0},{"$f":"'Marks Entry'!DM103","v":0},{"$f":"'Marks Entry'!DN103","v":0},{"$f":"'Marks Entry'!DO103","v":0},{"$f":"'Marks Entry'!DP103","v":0},{"$f":"'Marks Entry'!DQ103","v":0},{"$f":"'Marks Entry'!DR103","v":0},{"$f":"'Marks Entry'!DS103","v":0},{"$f":"'Marks Entry'!DT103","v":0},{"$f":"'Marks Entry'!DU103","v":0},{"$f":"'Marks Entry'!DV103","v":0},{"$f":"'Marks Entry'!DW103","v":0},{"$f":"'Marks Entry'!DX103","v":0},{"$f":"'Marks Entry'!DY103","v":0},{"$f":"'Marks Entry'!DZ103","v":"E"},{"$f":"'Marks Entry'!EA103","v":0},{"$f":"'Marks Entry'!EB103","v":0},{"$f":"'Marks Entry'!EC103","v":0},{"$f":"'Marks Entry'!ED103","v":0},{"$f":"'Marks Entry'!EE103","v":0},{"$f":"'Marks Entry'!EF103","v":0},{"$f":"'Marks Entry'!EG103","v":0},{"$f":"'Marks Entry'!EJ103","v":0},{"$f":"'Marks Entry'!EK103","v":0},{"$f":"'Marks Entry'!EL103","v":0},{"$f":"'Marks Entry'!EM103","v":0},{"$f":"'Marks Entry'!EN103","v":0},{"$f":"'Marks Entry'!EO103","v":0},{"$f":"'Marks Entry'!EP103","v":0},{"$f":"'Marks Entry'!ES103","v":0},{"$f":"'Marks Entry'!ET103","v":0},{"$f":"'Marks Entry'!EU103","v":0},{"$f":"'Marks Entry'!EV103","v":0},{"$f":"'Marks Entry'!EW103","v":0},{"$f":"'Marks Entry'!EX103","v":0},{"$f":"'Marks Entry'!EY103","v":0},{"$f":"'Marks Entry'!FB103","v":0},{"$f":"'Marks Entry'!FC103","v":0},{"$f":"'Marks Entry'!FD103","v":0},{"$f":"'Marks Entry'!FE103","v":""},{"$f":"'Marks Entry'!FF103","v":0},{"$f":"'Marks Entry'!FG103","v":0},{"$f":"'Marks Entry'!FH103","v":""},{"$f":"IF(OR('Marks Entry'!FI103=\"First\",'Marks Entry'!FI103=\"Second\",'Marks Entry'!FI103=\"Third\"),'Marks Entry'!FI103,\"\")","v":""},{"$f":"'Marks Entry'!FJ103","v":""},{"$f":"'Marks Entry'!FK103","v":""},{"$f":"'Marks Entry'!FL103","v":""},{"$f":"'Marks Entry'!FM103","v":""},{"$f":"'Marks Entry'!FO103","v":0}]
[null,0,{"$f":"'Marks Entry'!D104","v":0},{"$f":"'Marks Entry'!E104","v":0},{"$f":"'Marks Entry'!F104","v":0},{"$f":"'Marks Entry'!G104","v":0},{"$f":"'Marks Entry'!H104","v":0},{"$f":"'Marks Entry'!I104","v":0},{"$f":"'Marks Entry'!J104","v":0},{"$f":"'Marks Entry'!K104","v":"00:00:00"},{"$f":"'Marks Entry'!L104","v":0},{"$f":"'Marks Entry'!M104","v":0},{"$f":"'Marks Entry'!N104","v":0},{"$f":"'Marks Entry'!O104","v":0},{"$f":"'Marks Entry'!P104","v":0},{"$f":"'Marks Entry'!Q104","v":0},{"$f":"'Marks Entry'!R104","v":0},{"$f":"'Marks Entry'!S104","v":0},{"$f":"'Marks Entry'!T104","v":0},{"$f":"'Marks Entry'!U104","v":0},{"$f":"'Marks Entry'!V104","v":0},{"$f":"'Marks Entry'!W104","v":0},{"$f":"'Marks Entry'!X104","v":0},{"$f":"'Marks Entry'!Y104","v":0},{"$f":"'Marks Entry'!Z104","v":0},{"$f":"'Marks Entry'!AA104","v":0},{"$f":"'Marks Entry'!AB104","v":0},{"$f":"'Marks Entry'!AC104","v":0},{"$f":"'Marks Entry'!AD104","v":""},{"$f":"'Marks Entry'!AE104","v":0},{"$f":"'Marks Entry'!AF104","v":0},{"$f":"'Marks Entry'!AG104","v":0},{"$f":"'Marks Entry'!AH104","v":0},{"$f":"'Marks Entry'!AI104","v":0},{"$f":"'Marks Entry'!AJ104","v":0},{"$f":"'Marks Entry'!AK104","v":0},{"$f":"'Marks Entry'!AL104","v":0},{"$f":"'Marks Entry'!AM104","v":0},{"$f":"'Marks Entry'!AN104","v":0},{"$f":"'Marks Entry'!AO104","v":0},{"$f":"'Marks Entry'!AP104","v":0},{"$f":"'Marks Entry'!AQ104","v":0},{"$f":"'Marks Entry'!AR104","v":0},{"$f":"'Marks Entry'!AS104","v":0},{"$f":"'Marks Entry'!AT104","v":0},{"$f":"'Marks Entry'!AU104","v":0},{"$f":"'Marks Entry'!AV104","v":0},{"$f":"'Marks Entry'!AW104","v":0},{"$f":"'Marks Entry'!AX104","v":"E"},{"$f":"'Marks Entry'!AY104","v":0},{"$f":"'Marks Entry'!AZ104","v":0},{"$f":"'Marks Entry'!BA104","v":0},{"$f":"'Marks Entry'!BB104","v":0},{"$f":"'Marks Entry'!BC104","v":0},{"$f":"'Marks Entry'!BD104","v":0},{"$f":"'Marks Entry'!BE104","v":0},{"$f":"'Marks Entry'!BF104","v":0},{"$f":"'Marks Entry'!BG104","v":0},{"$f":"'Marks Entry'!BH104","v":0},{"$f":"'Marks Entry'!BI104","v":0},{"$f":"'Marks Entry'!BJ104","v":0},{"$f":"'Marks Entry'!BK104","v":0},{"$f":"'Marks Entry'!BL104","v":0},{"$f":"'Marks Entry'!BM104","v":0},{"$f":"'Marks Entry'!BN104","v":0},{"$f":"'Marks Entry'!BO104","v":0},{"$f":"'Marks Entry'!BP104","v":0},{"$f":"'Marks Entry'!BQ104","v":0},{"$f":"'Marks Entry'!BR104","v":"E"},{"$f":"'Marks Entry'!BS104","v":0},{"$f":"'Marks Entry'!BT104","v":0},{"$f":"'Marks Entry'!BU104","v":0},{"$f":"'Marks Entry'!BV104","v":0},{"$f":"'Marks Entry'!BW104","v":0},{"$f":"'Marks Entry'!BX104","v":0},{"$f":"'Marks Entry'!BY104","v":0},{"$f":"'Marks Entry'!BZ104","v":0},{"$f":"'Marks Entry'!CA104","v":0},{"$f":"'Marks Entry'!CB104","v":0},{"$f":"'Marks Entry'!CC104","v":0},{"$f":"'Marks Entry'!CD104","v":0},{"$f":"'Marks Entry'!CE104","v":0},{"$f":"'Marks Entry'!CF104","v":0},{"$f":"'Marks Entry'!CG104","v":0},{"$f":"'Marks Entry'!CH104","v":0},{"$f":"'Marks Entry'!CI104","v":0},{"$f":"'Marks Entry'!CJ104","v":0},{"$f":"'Marks Entry'!CK104","v":0},{"$f":"'Marks Entry'!CL104","v":"E"},{"$f":"'Marks Entry'!CM104","v":0},{"$f":"'Marks Entry'!CN104","v":0},{"$f":"'Marks Entry'!CO104","v":0},{"$f":"'Marks Entry'!CP104","v":0},{"$f":"'Marks Entry'!CQ104","v":0},{"$f":"'Marks Entry'!CR104","v":0},{"$f":"'Marks Entry'!CS104","v":0},{"$f":"'Marks Entry'!CT104","v":0},{"$f":"'Marks Entry'!CU104","v":0},{"$f":"'Marks Entry'!CV104","v":0},{"$f":"'Marks Entry'!CW104","v":0},{"$f":"'Marks Entry'!CX104","v":0},{"$f":"'Marks Entry'!CY104","v":0},{"$f":"'Marks Entry'!CZ104","v":0},{"$f":"'Marks Entry'!DA104","v":0},{"$f":"'Marks Entry'!DB104","v":0},{"$f":"'Marks Entry'!DC104","v":0},{"$f":"'Marks Entry'!DD104","v":0},{"$f":"'Marks Entry'!DE104","v":0},{"$f":"'Marks Entry'!DF104","v":"E"},{"$f":"'Marks Entry'!DG104","v":0},{"$f":"'Marks Entry'!DH104","v":0},{"$f":"'Marks Entry'!DI104","v":0},{"$f":"'Marks Entry'!DJ104","v":0},{"$f":"'Marks Entry'!DK104","v":0},{"$f":"'Marks Entry'!DL104","v":0},{"$f":"'Marks Entry'!DM104","v":0},{"$f":"'Marks Entry'!DN104","v":0},{"$f":"'Marks Entry'!DO104","v":0},{"$f":"'Marks Entry'!DP104","v":0},{"$f":"'Marks Entry'!DQ104","v":0},{"$f":"'Marks Entry'!DR104","v":0},{"$f":"'Marks Entry'!DS104","v":0},{"$f":"'Marks Entry'!DT104","v":0},{"$f":"'Marks Entry'!DU104","v":0},{"$f":"'Marks Entry'!DV104","v":0},{"$f":"'Marks Entry'!DW104","v":0},{"$f":"'Marks Entry'!DX104","v":0},{"$f":"'Marks Entry'!DY104","v":0},{"$f":"'Marks Entry'!DZ104","v":"E"},{"$f":"'Marks Entry'!EA104","v":0},{"$f":"'Marks Entry'!EB104","v":0},{"$f":"'Marks Entry'!EC104","v":0},{"$f":"'Marks Entry'!ED104","v":0},{"$f":"'Marks Entry'!EE104","v":0},{"$f":"'Marks Entry'!EF104","v":0},{"$f":"'Marks Entry'!EG104","v":0},{"$f":"'Marks Entry'!EJ104","v":0},{"$f":"'Marks Entry'!EK104","v":0},{"$f":"'Marks Entry'!EL104","v":0},{"$f":"'Marks Entry'!EM104","v":0},{"$f":"'Marks Entry'!EN104","v":0},{"$f":"'Marks Entry'!EO104","v":0},{"$f":"'Marks Entry'!EP104","v":0},{"$f":"'Marks Entry'!ES104","v":0},{"$f":"'Marks Entry'!ET104","v":0},{"$f":"'Marks Entry'!EU104","v":0},{"$f":"'Marks Entry'!EV104","v":0},{"$f":"'Marks Entry'!EW104","v":0},{"$f":"'Marks Entry'!EX104","v":0},{"$f":"'Marks Entry'!EY104","v":0},{"$f":"'Marks Entry'!FB104","v":0},{"$f":"'Marks Entry'!FC104","v":0},{"$f":"'Marks Entry'!FD104","v":0},{"$f":"'Marks Entry'!FE104","v":""},{"$f":"'Marks Entry'!FF104","v":0},{"$f":"'Marks Entry'!FG104","v":0},{"$f":"'Marks Entry'!FH104","v":""},{"$f":"IF(OR('Marks Entry'!FI104=\"First\",'Marks Entry'!FI104=\"Second\",'Marks Entry'!FI104=\"Third\"),'Marks Entry'!FI104,\"\")","v":""},{"$f":"'Marks Entry'!FJ104","v":""},{"$f":"'Marks Entry'!FK104","v":""},{"$f":"'Marks Entry'!FL104","v":""},{"$f":"'Marks Entry'!FM104","v":""},{"$f":"'Marks Entry'!FO104","v":0}]
[null,0,{"$f":"'Marks Entry'!D105","v":0},{"$f":"'Marks Entry'!E105","v":0},{"$f":"'Marks Entry'!F105","v":0},{"$f":"'Marks Entry'!G105","v":0},{"$f":"'Marks Entry'!H105","v":0},{"$f":"'Marks Entry'!I105","v":0},{"$f":"'Marks Entry'!J105","v":0},{"$f":"'Marks Entry'!K105","v":"00:00:00"},{"$f":"'Marks Entry'!L105","v":0},{"$f":"'Marks Entry'!M105","v":0},{"$f":"'Marks Entry'!N105","v":0},{"$f":"'Marks Entry'!O105","v":0},{"$f":"'Marks Entry'!P105","v":0},{"$f":"'Marks Entry'!Q105","v":0},{"$f":"'Marks Entry'!R105","v":0},{"$f":"'Marks Entry'!S105","v":0},{"$f":"'Marks Entry'!T105","v":0},{"$f":"'Marks Entry'!U105","v":0},{"$f":"'Marks Entry'!V105","v":0},{"$f":"'Marks Entry'!W105","v":0},{"$f":"'Marks Entry'!X105","v":0},{"$f":"'Marks Entry'!Y105","v":0},{"$f":"'Marks Entry'!Z105","v":0},{"$f":"'Marks Entry'!AA105","v":0},{"$f":"'Marks Entry'!AB105","v":0},{"$f":"'Marks Entry'!AC105","v":0},{"$f":"'Marks Entry'!AD105","v":""},{"$f":"'Marks Entry'!AE105","v":0},{"$f":"'Marks Entry'!AF105","v":0},{"$f":"'Marks Entry'!AG105","v":0},{"$f":"'Marks Entry'!AH105","v":0},{"$f":"'Marks Entry'!AI105","v":0},{"$f":"'Marks Entry'!AJ105","v":0},{"$f":"'Marks Entry'!AK105","v":0},{"$f":"'Marks Entry'!AL105","v":0},{"$f":"'Marks Entry'!AM105","v":0},{"$f":"'Marks Entry'!AN105","v":0},{"$f":"'Marks Entry'!AO105","v":0},{"$f":"'Marks Entry'!AP105","v":0},{"$f":"'Marks Entry'!AQ105","v":0},{"$f":"'Marks Entry'!AR105","v":0},{"$f":"'Marks Entry'!AS105","v":0},{"$f":"'Marks Entry'!AT105","v":0},{"$f":"'Marks Entry'!AU105","v":0},{"$f":"'Marks Entry'!AV105","v":0},{"$f":"'Marks Entry'!AW105","v":0},{"$f":"'Marks Entry'!AX105","v":"E"},{"$f":"'Marks Entry'!AY105","v":0},{"$f":"'Marks Entry'!AZ105","v":0},{"$f":"'Marks Entry'!BA105","v":0},{"$f":"'Marks Entry'!BB105","v":0},{"$f":"'Marks Entry'!BC105","v":0},{"$f":"'Marks Entry'!BD105","v":0},{"$f":"'Marks Entry'!BE105","v":0},{"$f":"'Marks Entry'!BF105","v":0},{"$f":"'Marks Entry'!BG105","v":0},{"$f":"'Marks Entry'!BH105","v":0},{"$f":"'Marks Entry'!BI105","v":0},{"$f":"'Marks Entry'!BJ105","v":0},{"$f":"'Marks Entry'!BK105","v":0},{"$f":"'Marks Entry'!BL105","v":0},{"$f":"'Marks Entry'!BM105","v":0},{"$f":"'Marks Entry'!BN105","v":0},{"$f":"'Marks Entry'!BO105","v":0},{"$f":"'Marks Entry'!BP105","v":0},{"$f":"'Marks Entry'!BQ105","v":0},{"$f":"'Marks Entry'!BR105","v":"E"},{"$f":"'Marks Entry'!BS105","v":0},{"$f":"'Marks Entry'!BT105","v":0},{"$f":"'Marks Entry'!BU105","v":0},{"$f":"'Marks Entry'!BV105","v":0},{"$f":"'Marks Entry'!BW105","v":0},{"$f":"'Marks Entry'!BX105","v":0},{"$f":"'Marks Entry'!BY105","v":0},{"$f":"'Marks Entry'!BZ105","v":0},{"$f":"'Marks Entry'!CA105","v":0},{"$f":"'Marks Entry'!CB105","v":0},{"$f":"'Marks Entry'!CC105","v":0},{"$f":"'Marks Entry'!CD105","v":0},{"$f":"'Marks Entry'!CE105","v":0},{"$f":"'Marks Entry'!CF105","v":0},{"$f":"'Marks Entry'!CG105","v":0},{"$f":"'Marks Entry'!CH105","v":0},{"$f":"'Marks Entry'!CI105","v":0},{"$f":"'Marks Entry'!CJ105","v":0},{"$f":"'Marks Entry'!CK105","v":0},{"$f":"'Marks Entry'!CL105","v":"E"},{"$f":"'Marks Entry'!CM105","v":0},{"$f":"'Marks Entry'!CN105","v":0},{"$f":"'Marks Entry'!CO105","v":0},{"$f":"'Marks Entry'!CP105","v":0},{"$f":"'Marks Entry'!CQ105","v":0},{"$f":"'Marks Entry'!CR105","v":0},{"$f":"'Marks Entry'!CS105","v":0},{"$f":"'Marks Entry'!CT105","v":0},{"$f":"'Marks Entry'!CU105","v":0},{"$f":"'Marks Entry'!CV105","v":0},{"$f":"'Marks Entry'!CW105","v":0},{"$f":"'Marks Entry'!CX105","v":0},{"$f":"'Marks Entry'!CY105","v":0},{"$f":"'Marks Entry'!CZ105","v":0},{"$f":"'Marks Entry'!DA105","v":0},{"$f":"'Marks Entry'!DB105","v":0},{"$f":"'Marks Entry'!DC105","v":0},{"$f":"'Marks Entry'!DD105","v":0},{"$f":"'Marks Entry'!DE105","v":0},{"$f":"'Marks Entry'!DF105","v":"E"},{"$f":"'Marks Entry'!DG105","v":0},{"$f":"'Marks Entry'!DH105","v":0},{"$f":"'Marks Entry'!DI105","v":0},{"$f":"'Marks Entry'!DJ105","v":0},{"$f":"'Marks Entry'!DK105","v":0},{"$f":"'Marks Entry'!DL105","v":0},{"$f":"'Marks Entry'!DM105","v":0},{"$f":"'Marks Entry'!DN105","v":0},{"$f":"'Marks Entry'!DO105","v":0},{"$f":"'Marks Entry'!DP105","v":0},{"$f":"'Marks Entry'!DQ105","v":0},{"$f":"'Marks Entry'!DR105","v":0},{"$f":"'Marks Entry'!DS105","v":0},{"$f":"'Marks Entry'!DT105","v":0},{"$f":"'Marks Entry'!DU105","v":0},{"$f":"'Marks Entry'!DV105","v":0},{"$f":"'Marks Entry'!DW105","v":0},{"$f":"'Marks Entry'!DX105","v":0},{"$f":"'Marks Entry'!DY105","v":0},{"$f":"'Marks Entry'!DZ105","v":"E"},{"$f":"'Marks Entry'!EA105","v":0},{"$f":"'Marks Entry'!EB105","v":0},{"$f":"'Marks Entry'!EC105","v":0},{"$f":"'Marks Entry'!ED105","v":0},{"$f":"'Marks Entry'!EE105","v":0},{"$f":"'Marks Entry'!EF105","v":0},{"$f":"'Marks Entry'!EG105","v":0},{"$f":"'Marks Entry'!EJ105","v":0},{"$f":"'Marks Entry'!EK105","v":0},{"$f":"'Marks Entry'!EL105","v":0},{"$f":"'Marks Entry'!EM105","v":0},{"$f":"'Marks Entry'!EN105","v":0},{"$f":"'Marks Entry'!EO105","v":0},{"$f":"'Marks Entry'!EP105","v":0},{"$f":"'Marks Entry'!ES105","v":0},{"$f":"'Marks Entry'!ET105","v":0},{"$f":"'Marks Entry'!EU105","v":0},{"$f":"'Marks Entry'!EV105","v":0},{"$f":"'Marks Entry'!EW105","v":0},{"$f":"'Marks Entry'!EX105","v":0},{"$f":"'Marks Entry'!EY105","v":0},{"$f":"'Marks Entry'!FB105","v":0},{"$f":"'Marks Entry'!FC105","v":0},{"$f":"'Marks Entry'!FD105","v":0},{"$f":"'Marks Entry'!FE105","v":""},{"$f":"'Marks Entry'!FF105","v":0},{"$f":"'Marks Entry'!FG105","v":0},{"$f":"'Marks Entry'!FH105","v":""},{"$f":"IF(OR('Marks Entry'!FI105=\"First\",'Marks Entry'!FI105=\"Second\",'Marks Entry'!FI105=\"Third\"),'Marks Entry'!FI105,\"\")","v":""},{"$f":"'Marks Entry'!FJ105","v":""},{"$f":"'Marks Entry'!FK105","v":""},{"$f":"'Marks Entry'!FL105","v":""},{"$f":"'Marks Entry'!FM105","v":""},{"$f":"'Marks Entry'!FO105","v":0}]
[null,0,{"$f":"'Marks Entry'!D106","v":0},{"$f":"'Marks Entry'!E106","v":0},{"$f":"'Marks Entry'!F106","v":0},{"$f":"'Marks Entry'!G106","v":0},{"$f":"'Marks Entry'!H106","v":0},{"$f":"'Marks Entry'!I106","v":0},{"$f":"'Marks Entry'!J106","v":0},{"$f":"'Marks Entry'!K106","v":"00:00:00"},{"$f":"'Marks Entry'!L106","v":0},{"$f":"'Marks Entry'!M106","v":0},{"$f":"'Marks Entry'!N106","v":0},{"$f":"'Marks Entry'!O106","v":0},{"$f":"'Marks Entry'!P106","v":0},{"$f":"'Marks Entry'!Q106","v":0},{"$f":"'Marks Entry'!R106","v":0},{"$f":"'Marks Entry'!S106","v":0},{"$f":"'Marks Entry'!T106","v":0},{"$f":"'Marks Entry'!U106","v":0},{"$f":"'Marks Entry'!V106","v":0},{"$f":"'Marks Entry'!W106","v":0},{"$f":"'Marks Entry'!X106","v":0},{"$f":"'Marks Entry'!Y106","v":0},{"$f":"'Marks Entry'!Z106","v":0},{"$f":"'Marks Entry'!AA106","v":0},{"$f":"'Marks Entry'!AB106","v":0},{"$f":"'Marks Entry'!AC106","v":0},{"$f":"'Marks Entry'!AD106","v":""},{"$f":"'Marks Entry'!AE106","v":0},{"$f":"'Marks Entry'!AF106","v":0},{"$f":"'Marks Entry'!AG106","v":0},{"$f":"'Marks Entry'!AH106","v":0},{"$f":"'Marks Entry'!AI106","v":0},{"$f":"'Marks Entry'!AJ106","v":0},{"$f":"'Marks Entry'!AK106","v":0},{"$f":"'Marks Entry'!AL106","v":0},{"$f":"'Marks Entry'!AM106","v":0},{"$f":"'Marks Entry'!AN106","v":0},{"$f":"'Marks Entry'!AO106","v":0},{"$f":"'Marks Entry'!AP106","v":0},{"$f":"'Marks Entry'!AQ106","v":0},{"$f":"'Marks Entry'!AR106","v":0},{"$f":"'Marks Entry'!AS106","v":0},{"$f":"'Marks Entry'!AT106","v":0},{"$f":"'Marks Entry'!AU106","v":0},{"$f":"'Marks Entry'!AV106","v":0},{"$f":"'Marks Entry'!AW106","v":0},{"$f":"'Marks Entry'!AX106","v":"E"},{"$f":"'Marks Entry'!AY106","v":0},{"$f":"'Marks Entry'!AZ106","v":0},{"$f":"'Marks Entry'!BA106","v":0},{"$f":"'Marks Entry'!BB106","v":0},{"$f":"'Marks Entry'!BC106","v":0},{"$f":"'Marks Entry'!BD106","v":0},{"$f":"'Marks Entry'!BE106","v":0},{"$f":"'Marks Entry'!BF106","v":0},{"$f":"'Marks Entry'!BG106","v":0},{"$f":"'Marks Entry'!BH106","v":0},{"$f":"'Marks Entry'!BI106","v":0},{"$f":"'Marks Entry'!BJ106","v":0},{"$f":"'Marks Entry'!BK106","v":0},{"$f":"'Marks Entry'!BL106","v":0},{"$f":"'Marks Entry'!BM106","v":0},{"$f":"'Marks Entry'!BN106","v":0},{"$f":"'Marks Entry'!BO106","v":0},{"$f":"'Marks Entry'!BP106","v":0},{"$f":"'Marks Entry'!BQ106","v":0},{"$f":"'Marks Entry'!BR106","v":"E"},{"$f":"'Marks Entry'!BS106","v":0},{"$f":"'Marks Entry'!BT106","v":0},{"$f":"'Marks Entry'!BU106","v":0},{"$f":"'Marks Entry'!BV106","v":0},{"$f":"'Marks Entry'!BW106","v":0},{"$f":"'Marks Entry'!BX106","v":0},{"$f":"'Marks Entry'!BY106","v":0},{"$f":"'Marks Entry'!BZ106","v":0},{"$f":"'Marks Entry'!CA106","v":0},{"$f":"'Marks Entry'!CB106","v":0},{"$f":"'Marks Entry'!CC106","v":0},{"$f":"'Marks Entry'!CD106","v":0},{"$f":"'Marks Entry'!CE106","v":0},{"$f":"'Marks Entry'!CF106","v":0},{"$f":"'Marks Entry'!CG106","v":0},{"$f":"'Marks Entry'!CH106","v":0},{"$f":"'Marks Entry'!CI106","v":0},{"$f":"'Marks Entry'!CJ106","v":0},{"$f":"'Marks Entry'!CK106","v":0},{"$f":"'Marks Entry'!CL106","v":"E"},{"$f":"'Marks Entry'!CM106","v":0},{"$f":"'Marks Entry'!CN106","v":0},{"$f":"'Marks Entry'!CO106","v":0},{"$f":"'Marks Entry'!CP106","v":0},{"$f":"'Marks Entry'!CQ106","v":0},{"$f":"'Marks Entry'!CR106","v":0},{"$f":"'Marks Entry'!CS106","v":0},{"$f":"'Marks Entry'!CT106","v":0},{"$f":"'Marks Entry'!CU106","v":0},{"$f":"'Marks Entry'!CV106","v":0},{"$f":"'Marks Entry'!CW106","v":0},{"$f":"'Marks Entry'!CX106","v":0},{"$f":"'Marks Entry'!CY106","v":0},{"$f":"'Marks Entry'!CZ106","v":0},{"$f":"'Marks Entry'!DA106","v":0},{"$f":"'Marks Entry'!DB106","v":0},{"$f":"'Marks Entry'!DC106","v":0},{"$f":"'Marks Entry'!DD106","v":0},{"$f":"'Marks Entry'!DE106","v":0},{"$f":"'Marks Entry'!DF106","v":"E"},{"$f":"'Marks Entry'!DG106","v":0},{"$f":"'Marks Entry'!DH106","v":0},{"$f":"'Marks Entry'!DI106","v":0},{"$f":"'Marks Entry'!DJ106","v":0},{"$f":"'Marks Entry'!DK106","v":0},{"$f":"'Marks Entry'!DL106","v":0},{"$f":"'Marks Entry'!DM106","v":0},{"$f":"'Marks Entry'!DN106","v":0},{"$f":"'Marks Entry'!DO106","v":0},{"$f":"'Marks Entry'!DP106","v":0},{"$f":"'Marks Entry'!DQ106","v":0},{"$f":"'Marks Entry'!DR106","v":0},{"$f":"'Marks Entry'!DS106","v":0},{"$f":"'Marks Entry'!DT106","v":0},{"$f":"'Marks Entry'!DU106","v":0},{"$f":"'Marks Entry'!DV106","v":0},{"$f":"'Marks Entry'!DW106","v":0},{"$f":"'Marks Entry'!DX106","v":0},{"$f":"'Marks Entry'!DY106","v":0},{"$f":"'Marks Entry'!DZ106","v":"E"},{"$f":"'Marks Entry'!EA106","v":0},{"$f":"'Marks Entry'!EB106","v":0},{"$f":"'Marks Entry'!EC106","v":0},{"$f":"'Marks Entry'!ED106","v":0},{"$f":"'Marks Entry'!EE106","v":0},{"$f":"'Marks Entry'!EF106","v":0},{"$f":"'Marks Entry'!EG106","v":0},{"$f":"'Marks Entry'!EJ106","v":0},{"$f":"'Marks Entry'!EK106","v":0},{"$f":"'Marks Entry'!EL106","v":0},{"$f":"'Marks Entry'!EM106","v":0},{"$f":"'Marks Entry'!EN106","v":0},{"$f":"'Marks Entry'!EO106","v":0},{"$f":"'Marks Entry'!EP106","v":0},{"$f":"'Marks Entry'!ES106","v":0},{"$f":"'Marks Entry'!ET106","v":0},{"$f":"'Marks Entry'!EU106","v":0},{"$f":"'Marks Entry'!EV106","v":0},{"$f":"'Marks Entry'!EW106","v":0},{"$f":"'Marks Entry'!EX106","v":0},{"$f":"'Marks Entry'!EY106","v":0},{"$f":"'Marks Entry'!FB106","v":0},{"$f":"'Marks Entry'!FC106","v":0},{"$f":"'Marks Entry'!FD106","v":0},{"$f":"'Marks Entry'!FE106","v":""},{"$f":"'Marks Entry'!FF106","v":0},{"$f":"'Marks Entry'!FG106","v":0},{"$f":"'Marks Entry'!FH106","v":""},{"$f":"IF(OR('Marks Entry'!FI106=\"First\",'Marks Entry'!FI106=\"Second\",'Marks Entry'!FI106=\"Third\"),'Marks Entry'!FI106,\"\")","v":""},{"$f":"'Marks Entry'!FJ106","v":""},{"$f":"'Marks Entry'!FK106","v":""},{"$f":"'Marks Entry'!FL106","v":""},{"$f":"'Marks Entry'!FM106","v":""},{"$f":"'Marks Entry'!FO106","v":0}]
[null,0,{"$f":"'Marks Entry'!D107","v":0},{"$f":"'Marks Entry'!E107","v":0},{"$f":"'Marks Entry'!F107","v":0},{"$f":"'Marks Entry'!G107","v":0},{"$f":"'Marks Entry'!H107","v":0},{"$f":"'Marks Entry'!I107","v":0},{"$f":"'Marks Entry'!J107","v":0},{"$f":"'Marks Entry'!K107","v":"00:00:00"},{"$f":"'Marks Entry'!L107","v":0},{"$f":"'Marks Entry'!M107","v":0},{"$f":"'Marks Entry'!N107","v":0},{"$f":"'Marks Entry'!O107","v":0},{"$f":"'Marks Entry'!P107","v":0},{"$f":"'Marks Entry'!Q107","v":0},{"$f":"'Marks Entry'!R107","v":0},{"$f":"'Marks Entry'!S107","v":0},{"$f":"'Marks Entry'!T107","v":0},{"$f":"'Marks Entry'!U107","v":0},{"$f":"'Marks Entry'!V107","v":0},{"$f":"'Marks Entry'!W107","v":0},{"$f":"'Marks Entry'!X107","v":0},{"$f":"'Marks Entry'!Y107","v":0},{"$f":"'Marks Entry'!Z107","v":0},{"$f":"'Marks Entry'!AA107","v":0},{"$f":"'Marks Entry'!AB107","v":0},{"$f":"'Marks Entry'!AC107","v":0},{"$f":"'Marks Entry'!AD107","v":""},{"$f":"'Marks Entry'!AE107","v":0},{"$f":"'Marks Entry'!AF107","v":0},{"$f":"'Marks Entry'!AG107","v":0},{"$f":"'Marks Entry'!AH107","v":0},{"$f":"'Marks Entry'!AI107","v":0},{"$f":"'Marks Entry'!AJ107","v":0},{"$f":"'Marks Entry'!AK107","v":0},{"$f":"'Marks Entry'!AL107","v":0},{"$f":"'Marks Entry'!AM107","v":0},{"$f":"'Marks Entry'!AN107","v":0},{"$f":"'Marks Entry'!AO107","v":0},{"$f":"'Marks Entry'!AP107","v":0},{"$f":"'Marks Entry'!AQ107","v":0},{"$f":"'Marks Entry'!AR107","v":0},{"$f":"'Marks Entry'!AS107","v":0},{"$f":"'Marks Entry'!AT107","v":0},{"$f":"'Marks Entry'!AU107","v":0},{"$f":"'Marks Entry'!AV107","v":0},{"$f":"'Marks Entry'!AW107","v":0},{"$f":"'Marks Entry'!AX107","v":"E"},{"$f":"'Marks Entry'!AY107","v":0},{"$f":"'Marks Entry'!AZ107","v":0},{"$f":"'Marks Entry'!BA107","v":0},{"$f":"'Marks Entry'!BB107","v":0},{"$f":"'Marks Entry'!BC107","v":0},{"$f":"'Marks Entry'!BD107","v":0},{"$f":"'Marks Entry'!BE107","v":0},{"$f":"'Marks Entry'!BF107","v":0},{"$f":"'Marks Entry'!BG107","v":0},{"$f":"'Marks Entry'!BH107","v":0},{"$f":"'Marks Entry'!BI107","v":0},{"$f":"'Marks Entry'!BJ107","v":0},{"$f":"'Marks Entry'!BK107","v":0},{"$f":"'Marks Entry'!BL107","v":0},{"$f":"'Marks Entry'!BM107","v":0},{"$f":"'Marks Entry'!BN107","v":0},{"$f":"'Marks Entry'!BO107","v":0},{"$f":"'Marks Entry'!BP107","v":0},{"$f":"'Marks Entry'!BQ107","v":0},{"$f":"'Marks Entry'!BR107","v":"E"},{"$f":"'Marks Entry'!BS107","v":0},{"$f":"'Marks Entry'!BT107","v":0},{"$f":"'Marks Entry'!BU107","v":0},{"$f":"'Marks Entry'!BV107","v":0},{"$f":"'Marks Entry'!BW107","v":0},{"$f":"'Marks Entry'!BX107","v":0},{"$f":"'Marks Entry'!BY107","v":0},{"$f":"'Marks Entry'!BZ107","v":0},{"$f":"'Marks Entry'!CA107","v":0},{"$f":"'Marks Entry'!CB107","v":0},{"$f":"'Marks Entry'!CC107","v":0},{"$f":"'Marks Entry'!CD107","v":0},{"$f":"'Marks Entry'!CE107","v":0},{"$f":"'Marks Entry'!CF107","v":0},{"$f":"'Marks Entry'!CG107","v":0},{"$f":"'Marks Entry'!CH107","v":0},{"$f":"'Marks Entry'!CI107","v":0},{"$f":"'Marks Entry'!CJ107","v":0},{"$f":"'Marks Entry'!CK107","v":0},{"$f":"'Marks Entry'!CL107","v":"E"},{"$f":"'Marks Entry'!CM107","v":0},{"$f":"'Marks Entry'!CN107","v":0},{"$f":"'Marks Entry'!CO107","v":0},{"$f":"'Marks Entry'!CP107","v":0},{"$f":"'Marks Entry'!CQ107","v":0},{"$f":"'Marks Entry'!CR107","v":0},{"$f":"'Marks Entry'!CS107","v":0},{"$f":"'Marks Entry'!CT107","v":0},{"$f":"'Marks Entry'!CU107","v":0},{"$f":"'Marks Entry'!CV107","v":0},{"$f":"'Marks Entry'!CW107","v":0},{"$f":"'Marks Entry'!CX107","v":0},{"$f":"'Marks Entry'!CY107","v":0},{"$f":"'Marks Entry'!CZ107","v":0},{"$f":"'Marks Entry'!DA107","v":0},{"$f":"'Marks Entry'!DB107","v":0},{"$f":"'Marks Entry'!DC107","v":0},{"$f":"'Marks Entry'!DD107","v":0},{"$f":"'Marks Entry'!DE107","v":0},{"$f":"'Marks Entry'!DF107","v":"E"},{"$f":"'Marks Entry'!DG107","v":0},{"$f":"'Marks Entry'!DH107","v":0},{"$f":"'Marks Entry'!DI107","v":0},{"$f":"'Marks Entry'!DJ107","v":0},{"$f":"'Marks Entry'!DK107","v":0},{"$f":"'Marks Entry'!DL107","v":0},{"$f":"'Marks Entry'!DM107","v":0},{"$f":"'Marks Entry'!DN107","v":0},{"$f":"'Marks Entry'!DO107","v":0},{"$f":"'Marks Entry'!DP107","v":0},{"$f":"'Marks Entry'!DQ107","v":0},{"$f":"'Marks Entry'!DR107","v":0},{"$f":"'Marks Entry'!DS107","v":0},{"$f":"'Marks Entry'!DT107","v":0},{"$f":"'Marks Entry'!DU107","v":0},{"$f":"'Marks Entry'!DV107","v":0},{"$f":"'Marks Entry'!DW107","v":0},{"$f":"'Marks Entry'!DX107","v":0},{"$f":"'Marks Entry'!DY107","v":0},{"$f":"'Marks Entry'!DZ107","v":"E"},{"$f":"'Marks Entry'!EA107","v":0},{"$f":"'Marks Entry'!EB107","v":0},{"$f":"'Marks Entry'!EC107","v":0},{"$f":"'Marks Entry'!ED107","v":0},{"$f":"'Marks Entry'!EE107","v":0},{"$f":"'Marks Entry'!EF107","v":0},{"$f":"'Marks Entry'!EG107","v":0},{"$f":"'Marks Entry'!EJ107","v":0},{"$f":"'Marks Entry'!EK107","v":0},{"$f":"'Marks Entry'!EL107","v":0},{"$f":"'Marks Entry'!EM107","v":0},{"$f":"'Marks Entry'!EN107","v":0},{"$f":"'Marks Entry'!EO107","v":0},{"$f":"'Marks Entry'!EP107","v":0},{"$f":"'Marks Entry'!ES107","v":0},{"$f":"'Marks Entry'!ET107","v":0},{"$f":"'Marks Entry'!EU107","v":0},{"$f":"'Marks Entry'!EV107","v":0},{"$f":"'Marks Entry'!EW107","v":0},{"$f":"'Marks Entry'!EX107","v":0},{"$f":"'Marks Entry'!EY107","v":0},{"$f":"'Marks Entry'!FB107","v":0},{"$f":"'Marks Entry'!FC107","v":0},{"$f":"'Marks Entry'!FD107","v":0},{"$f":"'Marks Entry'!FE107","v":""},{"$f":"'Marks Entry'!FF107","v":0},{"$f":"'Marks Entry'!FG107","v":0},{"$f":"'Marks Entry'!FH107","v":""},{"$f":"IF(OR('Marks Entry'!FI107=\"First\",'Marks Entry'!FI107=\"Second\",'Marks Entry'!FI107=\"Third\"),'Marks Entry'!FI107,\"\")","v":""},{"$f":"'Marks Entry'!FJ107","v":""},{"$f":"'Marks Entry'!FK107","v":""},{"$f":"'Marks Entry'!FL107","v":""},{"$f":"'Marks Entry'!FM107","v":""},{"$f":"'Marks Entry'!FO107","v":0}]
[null,0,{"$f":"'Marks Entry'!D108","v":0},{"$f":"'Marks Entry'!E108","v":0},{"$f":"'Marks Entry'!F108","v":0},{"$f":"'Marks Entry'!G108","v":0},{"$f":"'Marks Entry'!H108","v":0},{"$f":"'Marks Entry'!I108","v":0},{"$f":"'Marks Entry'!J108","v":0},{"$f":"'Marks Entry'!K108","v":"00:00:00"},{"$f":"'Marks Entry'!L108","v":0},{"$f":"'Marks Entry'!M108","v":0},{"$f":"'Marks Entry'!N108","v":0},{"$f":"'Marks Entry'!O108","v":0},{"$f":"'Marks Entry'!P108","v":0},{"$f":"'Marks Entry'!Q108","v":0},{"$f":"'Marks Entry'!R108","v":0},{"$f":"'Marks Entry'!S108","v":0},{"$f":"'Marks Entry'!T108","v":0},{"$f":"'Marks Entry'!U108","v":0},{"$f":"'Marks Entry'!V108","v":0},{"$f":"'Marks Entry'!W108","v":0},{"$f":"'Marks Entry'!X108","v":0},{"$f":"'Marks Entry'!Y108","v":0},{"$f":"'Marks Entry'!Z108","v":0},{"$f":"'Marks Entry'!AA108","v":0},{"$f":"'Marks Entry'!AB108","v":0},{"$f":"'Marks Entry'!AC108","v":0},{"$f":"'Marks Entry'!AD108","v":""},{"$f":"'Marks Entry'!AE108","v":0},{"$f":"'Marks Entry'!AF108","v":0},{"$f":"'Marks Entry'!AG108","v":0},{"$f":"'Marks Entry'!AH108","v":0},{"$f":"'Marks Entry'!AI108","v":0},{"$f":"'Marks Entry'!AJ108","v":0},{"$f":"'Marks Entry'!AK108","v":0},{"$f":"'Marks Entry'!AL108","v":0},{"$f":"'Marks Entry'!AM108","v":0},{"$f":"'Marks Entry'!AN108","v":0},{"$f":"'Marks Entry'!AO108","v":0},{"$f":"'Marks Entry'!AP108","v":0},{"$f":"'Marks Entry'!AQ108","v":0},{"$f":"'Marks Entry'!AR108","v":0},{"$f":"'Marks Entry'!AS108","v":0},{"$f":"'Marks Entry'!AT108","v":0},{"$f":"'Marks Entry'!AU108","v":0},{"$f":"'Marks Entry'!AV108","v":0},{"$f":"'Marks Entry'!AW108","v":0},{"$f":"'Marks Entry'!AX108","v":"E"},{"$f":"'Marks Entry'!AY108","v":0},{"$f":"'Marks Entry'!AZ108","v":0},{"$f":"'Marks Entry'!BA108","v":0},{"$f":"'Marks Entry'!BB108","v":0},{"$f":"'Marks Entry'!BC108","v":0},{"$f":"'Marks Entry'!BD108","v":0},{"$f":"'Marks Entry'!BE108","v":0},{"$f":"'Marks Entry'!BF108","v":0},{"$f":"'Marks Entry'!BG108","v":0},{"$f":"'Marks Entry'!BH108","v":0},{"$f":"'Marks Entry'!BI108","v":0},{"$f":"'Marks Entry'!BJ108","v":0},{"$f":"'Marks Entry'!BK108","v":0},{"$f":"'Marks Entry'!BL108","v":0},{"$f":"'Marks Entry'!BM108","v":0},{"$f":"'Marks Entry'!BN108","v":0},{"$f":"'Marks Entry'!BO108","v":0},{"$f":"'Marks Entry'!BP108","v":0},{"$f":"'Marks Entry'!BQ108","v":0},{"$f":"'Marks Entry'!BR108","v":"E"},{"$f":"'Marks Entry'!BS108","v":0},{"$f":"'Marks Entry'!BT108","v":0},{"$f":"'Marks Entry'!BU108","v":0},{"$f":"'Marks Entry'!BV108","v":0},{"$f":"'Marks Entry'!BW108","v":0},{"$f":"'Marks Entry'!BX108","v":0},{"$f":"'Marks Entry'!BY108","v":0},{"$f":"'Marks Entry'!BZ108","v":0},{"$f":"'Marks Entry'!CA108","v":0},{"$f":"'Marks Entry'!CB108","v":0},{"$f":"'Marks Entry'!CC108","v":0},{"$f":"'Marks Entry'!CD108","v":0},{"$f":"'Marks Entry'!CE108","v":0},{"$f":"'Marks Entry'!CF108","v":0},{"$f":"'Marks Entry'!CG108","v":0},{"$f":"'Marks Entry'!CH108","v":0},{"$f":"'Marks Entry'!CI108","v":0},{"$f":"'Marks Entry'!CJ108","v":0},{"$f":"'Marks Entry'!CK108","v":0},{"$f":"'Marks Entry'!CL108","v":"E"},{"$f":"'Marks Entry'!CM108","v":0},{"$f":"'Marks Entry'!CN108","v":0},{"$f":"'Marks Entry'!CO108","v":0},{"$f":"'Marks Entry'!CP108","v":0},{"$f":"'Marks Entry'!CQ108","v":0},{"$f":"'Marks Entry'!CR108","v":0},{"$f":"'Marks Entry'!CS108","v":0},{"$f":"'Marks Entry'!CT108","v":0},{"$f":"'Marks Entry'!CU108","v":0},{"$f":"'Marks Entry'!CV108","v":0},{"$f":"'Marks Entry'!CW108","v":0},{"$f":"'Marks Entry'!CX108","v":0},{"$f":"'Marks Entry'!CY108","v":0},{"$f":"'Marks Entry'!CZ108","v":0},{"$f":"'Marks Entry'!DA108","v":0},{"$f":"'Marks Entry'!DB108","v":0},{"$f":"'Marks Entry'!DC108","v":0},{"$f":"'Marks Entry'!DD108","v":0},{"$f":"'Marks Entry'!DE108","v":0},{"$f":"'Marks Entry'!DF108","v":"E"},{"$f":"'Marks Entry'!DG108","v":0},{"$f":"'Marks Entry'!DH108","v":0},{"$f":"'Marks Entry'!DI108","v":0},{"$f":"'Marks Entry'!DJ108","v":0},{"$f":"'Marks Entry'!DK108","v":0},{"$f":"'Marks Entry'!DL108","v":0},{"$f":"'Marks Entry'!DM108","v":0},{"$f":"'Marks Entry'!DN108","v":0},{"$f":"'Marks Entry'!DO108","v":0},{"$f":"'Marks Entry'!DP108","v":0},{"$f":"'Marks Entry'!DQ108","v":0},{"$f":"'Marks Entry'!DR108","v":0},{"$f":"'Marks Entry'!DS108","v":0},{"$f":"'Marks Entry'!DT108","v":0},{"$f":"'Marks Entry'!DU108","v":0},{"$f":"'Marks Entry'!DV108","v":0},{"$f":"'Marks Entry'!DW108","v":0},{"$f":"'Marks Entry'!DX108","v":0},{"$f":"'Marks Entry'!DY108","v":0},{"$f":"'Marks Entry'!DZ108","v":"E"},{"$f":"'Marks Entry'!EA108","v":0},{"$f":"'Marks Entry'!EB108","v":0},{"$f":"'Marks Entry'!EC108","v":0},{"$f":"'Marks Entry'!ED108","v":0},{"$f":"'Marks Entry'!EE108","v":0},{"$f":"'Marks Entry'!EF108","v":0},{"$f":"'Marks Entry'!EG108","v":0},{"$f":"'Marks Entry'!EJ108","v":0},{"$f":"'Marks Entry'!EK108","v":0},{"$f":"'Marks Entry'!EL108","v":0},{"$f":"'Marks Entry'!EM108","v":0},{"$f":"'Marks Entry'!EN108","v":0},{"$f":"'Marks Entry'!EO108","v":0},{"$f":"'Marks Entry'!EP108","v":0},{"$f":"'Marks Entry'!ES108","v":0},{"$f":"'Marks Entry'!ET108","v":0},{"$f":"'Marks Entry'!EU108","v":0},{"$f":"'Marks Entry'!EV108","v":0},{"$f":"'Marks Entry'!EW108","v":0},{"$f":"'Marks Entry'!EX108","v":0},{"$f":"'Marks Entry'!EY108","v":0},{"$f":"'Marks Entry'!FB108","v":0},{"$f":"'Marks Entry'!FC108","v":0},{"$f":"'Marks Entry'!FD108","v":0},{"$f":"'Marks Entry'!FE108","v":""},{"$f":"'Marks Entry'!FF108","v":0},{"$f":"'Marks Entry'!FG108","v":0},{"$f":"'Marks Entry'!FH108","v":""},{"$f":"IF(OR('Marks Entry'!FI108=\"First\",'Marks Entry'!FI108=\"Second\",'Marks Entry'!FI108=\"Third\"),'Marks Entry'!FI108,\"\")","v":""},{"$f":"'Marks Entry'!FJ108","v":""},{"$f":"'Marks Entry'!FK108","v":""},{"$f":"'Marks Entry'!FL108","v":""},{"$f":"'Marks Entry'!FM108","v":""},{"$f":"'Marks Entry'!FO108","v":0}]
[null,"SUBJECT ↠",{"$nulls":8},{"$f":"K2","v":"HINDI"},{"$nulls":19},{"$f":"AE2","v":"ENGLISH"},{"$nulls":19},{"$f":"AY2","v":"SANSKRIT"},{"$nulls":19},{"$f":"BS2","v":"SCIENCE"},{"$nulls":19},{"$f":"CM2","v":"MATHEMATICS"},{"$nulls":19},{"$f":"DG2","v":"SOCIAL SCIENCE"},{"$nulls":19},{"$f":"EA2","v":"Work Exp."},{"$nulls":6},{"$f":"EH2","v":"Art Edu."},{"$nulls":6},{"$f":"EO2","v":"HEALTH & PHY. EDU."},{"$nulls":6},"OVERALL RESULT"]
[null,"SUBJECT TEACHER ↠",{"$nulls":8},{"$f":"K3","v":0},{"$nulls":19},{"$f":"AE3","v":0},{"$nulls":19},{"$f":"AY3","v":0},{"$nulls":19},{"$f":"BS3","v":0},{"$nulls":19},{"$f":"CM3","v":0},{"$nulls":19},{"$f":"DG3","v":0},{"$nulls":19},{"$f":"EA3","v":0},{"$nulls":6},{"$f":"EH3","v":0},{"$nulls":6},{"$f":"EO3","v":0},{"$nulls":6},"TOTAL ENROLLED",null,"NSO","TOTAL ENT.","1st Div.","2nd Div.","3rd Div.","Promoted","Absent",null,"Total"]
[null,"RESULT SUMMARY ↠",{"$nulls":8},"TOTAL ENROLLED",{"$nulls":3},"NSO",null,"A",null,"B",null,"C",null,"D",null,"E",null,"TOTAL",{"$nulls":3},"TOTAL ENROLLED",{"$nulls":3},"NSO",null,"A",null,"B",null,"C",null,"D",null,"E",null,"TOTAL",{"$nulls":3},"TOTAL ENROLLED",{"$nulls":3},"NSO",null,"A",null,"B",null,"C",null,"D",null,"E",null,"TOTAL",{"$nulls":3},"TOTAL ENROLLED",{"$nulls":3},"NSO",null,"A",null,"B",null,"C",null,"D",null,"E",null,"TOTAL",{"$nulls":3},"TOTAL ENROLLED",{"$nulls":3},"NSO",null,"A",null,"B",null,"C",null,"D",null,"E",null,"TOTAL",{"$nulls":3},"TOTAL ENROLLED",{"$nulls":3},"NSO",null,"A",null,"B",null,"C",null,"D",null,"E",null,"TOTAL",{"$nulls":3},"A","B","C","D","E","TOTAL",null,"A","B","C","D","E","TOTAL",null,"A","B","C","D","E","TOTAL",null,{"$f":"MAX($B$7:$B$106)","v":9},null,{"$f":"COUNTIF($F$7:$F$106,\"NSO\")","v":0},{"$f":"EV109-EX109","v":9},{"$f":"COUNTIF($FB$7:$FB$106,\"First\")","v":1},{"$f":"COUNTIF($FB$7:$FB$106,\"Second\")","v":2},{"$f":"COUNTIF($FB$7:$FB$106,\"tHIRD\")","v":4},{"$f":"COUNTIF($FD$7:$FD$106,\"Promoted\")","v":2},{"$f":"COUNTIF($FD$7:$FD$106,\"Absent\")","v":0},null,{"$f":"SUM(EZ109:FC109,FD109)","v":9}]
[{"$nulls":155},"A","B","C","D"]
[{"$nulls":155},{"$f":"COUNTIF($FC$7:$FC$106,\"A\")","v":0},{"$f":"COUNTIF($FC$7:$FC$106,\"B\")","v":0},{"$f":"COUNTIF($FC$7:$FC$106,\"C\")","v":2},{"$f":"COUNTIF($FC$7:$FC$106,\"D\")","v":5}]
[{"$nulls":10},{"$f":"MAX($B$7:$B$107)","v":9},{"$nulls":3},{"$f":"COUNTIF($F$7:$F$107,\"NSO\")","v":0},null,{"$f":"COUNTIF(AD7:AD106,\"A\")","v":0},null,{"$f":"COUNTIF(AD7:AD106,\"B\")","v":0},null,{"$f":"COUNTIF(AD7:AD106,\"C\")","v":1},null,{"$f":"COUNTIF(AD7:AD106,\"D\")","v":6},null,{"$f":"COUNTIF(AD7:AD106,\"E\")","v":2},null,{"$f":"SUM(Q112:Z112)","v":9},{"$nulls":3},{"$f":"MAX($B$7:$B$107)","v":9},{"$nulls":3},{"$f":"COUNTIF($F$7:$F$107,\"NSO\")","v":0},null,{"$f":"COUNTIF(AX7:AX106,\"A\")","v":0},null,{"$f":"COUNTIF(AX7:AX106,\"B\")","v":0},null,{"$f":"COUNTIF(AX7:AX106,\"C\")","v":2},null,{"$f":"COUNTIF(AX7:AX106,\"D\")","v":5},null,{"$f":"COUNTIF(AX7:AX106,\"E\")","v":2},null,{"$f":"SUM(AK112:AT112)","v":9},{"$nulls":3},{"$f":"MAX($B$7:$B$107)","v":9},{"$nulls":3},{"$f":"COUNTIF($F$7:$F$107,\"NSO\")","v":0},null,{"$f":"COUNTIF(BR7:BR106,\"A\")","v":0},null,{"$f":"COUNTIF(BR7:BR106,\"B\")","v":1},null,{"$f":"COUNTIF(BR7:BR106,\"C\")","v":1},null,{"$f":"COUNTIF(BR7:BR106,\"D\")","v":5},null,{"$f":"COUNTIF(BR7:BR106,\"E\")","v":2},null,{"$f":"SUM(BE112:BN112)","v":9},{"$nulls":3},{"$f":"MAX($B$7:$B$107)","v":9},{"$nulls":3},{"$f":"COUNTIF($F$7:$F$107,\"NSO\")","v":0},null,{"$f":"COUNTIF(CL7:CL106,\"A\")","v":0},null,{"$f":"COUNTIF(CL7:CL106,\"B\")","v":0},null,{"$f":"COUNTIF(CL7:CL106,\"C\")","v":1},null,{"$f":"COUNTIF(CL7:CL106,\"D\")","v":6},null,{"$f":"COUNTIF(CL7:CL106,\"E\")","v":2},null,{"$f":"SUM(BY112:CH112)","v":9},{"$nulls":3},{"$f":"MAX($B$7:$B$107)","v":9},{"$nulls":3},{"$f":"COUNTIF($F$7:$F$107,\"NSO\")","v":0},null,{"$f":"COUNTIF(DF7:DF106,\"A\")","v":0},null,{"$f":"COUNTIF(DF7:DF106,\"B\")","v":0},null,{"$f":"COUNTIF(DF7:DF106,\"C\")","v":2},null,{"$f":"COUNTIF(DF7:DF106,\"D\")","v":5},null,{"$f":"COUNTIF(DF7:DF106,\"E\")","v":2},null,{"$f":"SUM(CS112:DB112)","v":9},{"$nulls":3},{"$f":"MAX($B$7:$B$107)","v":9},{"$nulls":3},{"$f":"COUNTIF($F$7:$F$107,\"NSO\")","v":0},null,{"$f":"COUNTIF(DZ7:DZ106,\"A\")","v":0},null,{"$f":"COUNTIF(DZ7:DZ106,\"B\")","v":1},null,{"$f":"COUNTIF(DZ7:DZ106,\"C\")","v":1},null,{"$f":"COUNTIF(DZ7:DZ106,\"D\")","v":5},null,{"$f":"COUNTIF(DZ7:DZ106,\"E\")","v":2},null,{"$f":"SUM(DM112:DV112)","v":9},{"$nulls":3},{"$f":"COUNTIF($EG$7:$EG$206,\"a\")","v":0},{"$f":"COUNTIF($EG$7:$EG$206,\"B\")","v":6},{"$f":"COUNTIF($EG$7:$EG$206,\"C\")","v":0},{"$f":"COUNTIF($EG$7:$EG$206,\"D\")","v":1},{"$f":"COUNTIF($EG$7:$EG$206,\"E\")","v":2},{"$f":"SUM(EA112:EE112)","v":9},null,{"$f":"COUNTIF($EN$7:$EN$206,\"a\")","v":0},{"$f":"COUNTIF($EN$7:$EN$206,\"B\")","v":6},{"$f":"COUNTIF($EN$7:$EN$206,\"C\")","v":1},{"$f":"COUNTIF($EN$7:$EN$206,\"D\")","v":0},{"$f":"COUNTIF($EN$7:$EN$206,\"E\")","v":2},{"$f":"SUM(EH112:EL112)","v":9},null,{"$f":"COUNTIF($EU$7:$EU$206,\"a\")","v":0},{"$f":"COUNTIF($EU$7:$EU$206,\"B\")","v":6},{"$f":"COUNTIF($EU$7:$EU$206,\"C\")","v":1},{"$f":"COUNTIF($EU$7:$EU$206,\"D\")","v":0},{"$f":"COUNTIF($EU$7:$EU$206,\"E\")","v":2},{"$f":"SUM(EO112:ES112)","v":9},null,"Signature Of Exam Incharge"]
[null,"SIGNATURE OF SUBJECT TEACHER ↠",{"$nulls":149},"Signature Of HM/Principal"]
[]
[]
[{"$nulls":10},{"$f":"COUNTIF(AD7:AD107,\"G1\")","v":0},{"$f":"COUNTIF(AD7:AD107,\"G2\")","v":0},{"$nulls":18},{"$f":"COUNTIF(AX7:AX107,\"G1\")","v":0},{"$f":"COUNTIF(AX7:AX107,\"G2\")","v":0},{"$nulls":18},{"$f":"COUNTIF(BR7:BR107,\"G1\")","v":0},{"$f":"COUNTIF(BR7:BR107,\"G2\")","v":0},{"$nulls":18},{"$f":"COUNTIF(CL7:CL107,\"G1\")","v":0},{"$f":"COUNTIF(CL7:CL107,\"G2\")","v":0},{"$nulls":18},{"$f":"COUNTIF(DF7:DF107,\"G1\")","v":0},{"$f":"COUNTIF(DF7:DF107,\"G2\")","v":0},{"$nulls":18},{"$f":"COUNTIF(DZ7:DZ107,\"G1\")","v":0},{"$f":"COUNTIF(DZ7:DZ107,\"G2\")","v":0}]

{"sheet":"Statics","index":4,"n_rows":15,"n_cols":44,"rows_kept":15,"merged":[[0,1,0,44],[1,1,1,44],[2,1,2,16],[2,17,2,25],[2,31,2,44],[3,1,4,1],[3,2,4,2],[3,3,3,16],[3,17,3,30],[3,31,3,44],[4,13,4,14],[4,15,4,16],[4,27,4,28],[4,29,4,30],[4,41,4,42],[4,43,4,44],[5,1,9,1],[5,2,9,2],[5,3,6,3],[5,4,6,4],[5,5,6,5],[5,6,6,6],[5,7,6,7],[5,8,6,8],[5,9,6,9],[5,10,6,10],[5,11,6,11],[5,12,6,12],[5,13,6,14],[5,15,6,16],[5,17,6,17],[5,18,6,18],[5,19,6,19],[5,20,6,20],[5,21,6,21],[5,22,6,22],[5,23,6,23],[5,24,6,24],[5,25,6,25],[5,26,6,26],[5,27,6,28],[5,29,6,30],[5,31,6,31],[5,32,6,32],[5,33,6,33],[5,34,6,34],[5,35,6,35],[5,36,6,36],[5,37,6,37],[5,38,6,38],[5,39,6,39],[5,40,6,40],[5,41,6,42],[5,43,6,44],[7,3,7,16],[7,17,7,30],[7,31,7,44],[8,13,8,14],[8,15,8,16],[8,27,8,28],[8,29,8,30],[8,41,8,42],[8,43,8,44],[9,13,9,14],[9,15,9,16],[9,27,9,28],[9,29,9,30],[9,41,9,42],[9,43,9,44],[10,1,10,44],[11,1,11,14],[11,15,11,17],[11,20,11,21],[11,25,11,44],[12,1,12,2],[12,3,12,6],[12,7,12,8],[12,11,12,13],[12,14,12,16],[12,17,12,21],[12,22,12,27],[12,28,12,30],[12,31,12,35],[12,36,12,41],[12,42,12,44],[13,1,13,2],[13,3,13,6],[13,7,13,8],[13,11,13,13],[13,14,13,16],[13,17,13,21],[13,22,13,27],[13,28,13,30],[13,31,13,35],[13,36,13,41],[13,42,13,44],[14,1,14,2],[14,3,14,6],[14,7,14,8],[14,11,14,13],[14,14,14,16],[14,17,14,21],[14,22,14,27],[14,28,14,30],[14,31,14,35],[14,36,14,41],[14,42,14,44],[15,1,15,44]]}
[null,{"$f":"CONCATENATE(Master!B8,Master!D8,Master!E8,Master!E11)","v":"SCHOOL'S FULL NAME:-Govt. Sr. Secondary School P.S.-Bapini (Jodhpur)"}]
[null,{"$f":"CONCATENATE(,Master!B14,Master!D14,\"0\",Master!E14)","v":"U-DISE CODE:-08151106901"}]
[null,"Subject wise Result Summary",{"$nulls":15},{"$f":"CONCATENATE(P12,U12)","v":"Class:-6(A)"},{"$nulls":13},{"$f":"CONCATENATE(Master!B6,Master!D6,Master!E6)","v":"SESSION:-2024-25"}]
[null,"Sr. No.","Class",{"$f":"'Marks Entry'!L3","v":"HINDI"},{"$nulls":13},{"$f":"'Result Sheet'!AE107","v":"ENGLISH"},{"$nulls":13},{"$f":"'Result Sheet'!AY107","v":"SANSKRIT"}]
[{"$nulls":3},"Total Enrolled","D","I","A","B","C","G1","G2","D","E","NSO",null,"Total",null,"Total Enrolled","D","I","A","B","C","G1","G2","D","E","NSO",null,"Total",null,"Total Enrolled","D","I","A","B","C","G1","G2","D","E","NSO",null,"Total"]
[null,1,{"$f":"CONCATENATE(P12,U12)","v":"Class:-6(A)"},{"$f":"'Result Sheet'!K112","v":9},{"$f":"COUNTIF('Marks Entry'!$AE$9:$AE$108,\"D\")","v":6},{"$f":"COUNTIF('Marks Entry'!$AE$9:$AE$108,\"I\")","v":0},{"$f":"'Result Sheet'!Q112","v":0},{"$f":"'Result Sheet'!S112","v":0},{"$f":"'Result Sheet'!U112","v":1},{"$f":"COUNTIF('Marks Entry'!$AE$9:$AE$108,\"G1\")","v":0},{"$f":"COUNTIF('Marks Entry'!$AE$9:$AE$108,\"G2\")","v":0},{"$f":"'Result Sheet'!W112","v":6},{"$f":"'Result Sheet'!Y112","v":2},{"$f":"'Result Sheet'!O112","v":0},null,{"$f":"SUM(G6:O7)","v":9},null,{"$f":"'Result Sheet'!AE112","v":9},{"$f":"COUNTIF('Marks Entry'!$AY$9:$AY$108,\"D\")","v":5},{"$f":"COUNTIF('Marks Entry'!$AY$9:$AY$108,\"I\")","v":0},{"$f":"'Result Sheet'!AK112","v":0},{"$f":"'Result Sheet'!AM112","v":0},{"$f":"'Result Sheet'!AO112","v":2},{"$f":"COUNTIF('Marks Entry'!$AE$9:$AE$108,\"G1\")","v":0},{"$f":"COUNTIF('Marks Entry'!$AE$9:$AE$108,\"G2\")","v":0},{"$f":"'Result Sheet'!AQ112","v":5},{"$f":"'Result Sheet'!AS112","v":2},{"$f":"'Result Sheet'!AI112","v":0},null,{"$f":"SUM(U6:AC7)","v":9},null,{"$f":"'Result Sheet'!AY112","v":9},{"$f":"COUNTIF('Marks Entry'!$BS$9:$BS$108,\"D\")","v":5},{"$f":"COUNTIF('Marks Entry'!$BS$9:$BS$108,\"I\")","v":0},{"$f":"'Result Sheet'!BE112","v":0},{"$f":"'Result Sheet'!BG112","v":1},{"$f":"'Result Sheet'!BI112","v":1},{"$f":"COUNTIF('Marks Entry'!$AE$9:$AE$108,\"G1\")","v":0},{"$f":"COUNTIF('Marks Entry'!$AE$9:$AE$108,\"G2\")","v":0},{"$f":"'Result Sheet'!BK112","v":5},{"$f":"'Result Sheet'!BM112","v":2},{"$f":"'Result Sheet'!BC112","v":0},null,{"$f":"SUM(AI6:AQ7)","v":9}]
[]
[{"$nulls":3},{"$f":"'Result Sheet'!BS107","v":"SCIENCE"},{"$nulls":13},{"$f":"'Result Sheet'!CM107","v":"MATHEMATICS"},{"$nulls":13},{"$f":"'Result Sheet'!DG107","v":"SOCIAL SCIENCE"}]
[{"$nulls":3},"Total Enrolled","D","I","A","B","C","G1","G2","D","E","NSO",null,"Total",null,"Total Enrolled","D","I","A","B","C","G1","G2","D","E","NSO",null,"Total",null,"Total Enrolled","D","I","A","B","C","G1","G2","D","E","NSO",null,"Total"]
[{"$nulls":3},{"$f":"'Result Sheet'!BS112","v":9},{"$f":"COUNTIF('Marks Entry'!$CM$9:$CM$108,\"D\")","v":6},{"$f":"COUNTIF('Marks Entry'!$CM$9:$CM$108,\"I\")","v":0},{"$f":"'Result Sheet'!BW112","v":0},{"$f":"'Result Sheet'!CA112","v":0},{"$f":"'Result Sheet'!CC112","v":1},{"$f":"COUNTIF('Marks Entry'!$CM$9:$CM$108,\"G1\")","v":0},{"$f":"COUNTIF('Marks Entry'!$CM$9:$CM$108,\"G2\")","v":0},{"$f":"'Result Sheet'!CE112","v":6},{"$f":"'Result Sheet'!CG112","v":2},{"$f":"'Result Sheet'!BY112","v":0},null,{"$f":"SUM(G10:O10)","v":9},null,{"$f":"'Result Sheet'!CM112","v":9},{"$f":"COUNTIF('Marks Entry'!$DG$9:$DG$108,\"D\")","v":5},{"$f":"COUNTIF('Marks Entry'!$DG$9:$DG$108,\"I\")","v":0},{"$f":"'Result Sheet'!CS112","v":0},{"$f":"'Result Sheet'!CU112","v":0},{"$f":"'Result Sheet'!CW112","v":2},{"$f":"COUNTIF('Marks Entry'!$CM$9:$CM$108,\"G1\")","v":0},{"$f":"COUNTIF('Marks Entry'!$CM$9:$CM$108,\"G2\")","v":0},{"$f":"'Result Sheet'!CY112","v":5},{"$f":"'Result Sheet'!DA112","v":2},{"$f":"'Result Sheet'!CQ112","v":0},null,{"$f":"SUM(U10:AC10)","v":9},null,{"$f":"'Result Sheet'!DG112","v":9},{"$f":"COUNTIF('Marks Entry'!$EA$9:$EA$108,\"D\")","v":5},{"$f":"COUNTIF('Marks Entry'!$EA$9:$EA$108,\"I\")","v":0},{"$f":"'Result Sheet'!DM112","v":0},{"$f":"'Result Sheet'!DO112","v":1},{"$f":"'Result Sheet'!DQ112","v":1},{"$f":"COUNTIF('Marks Entry'!$CM$9:$CM$108,\"G1\")","v":0},{"$f":"COUNTIF('Marks Entry'!$CM$9:$CM$108,\"G2\")","v":0},{"$f":"'Result Sheet'!DS112","v":5},{"$f":"'Result Sheet'!DU112","v":2},{"$f":"'Result Sheet'!DK112","v":0},null,{"$f":"SUM(AI10:AQ10)","v":9}]
[]
[null,"Overall Result Summary ",{"$nulls":13},"Class:-",{"$nulls":4},{"$f":"CONCATENATE('Marks Entry'!G4,'Marks Entry'!J4)","v":"6(A)"},{"$nulls":4},{"$f":"CONCATENATE(Master!B6,Master!D6,Master!E6)","v":"SESSION:-2024-25"}]
[null,"Sr. No.",null,"Class",{"$nulls":3},"Total Enro.",{"$nulls":3},"First Div",null,null,"Second Div",null,null,"Third Div",{"$nulls":4},"Total Pass (3+4+5)",{"$nulls":5},"Absent",null,null,"NSO",{"$nulls":4}," Total (8+9)",{"$nulls":5},"Grand Total (7+10)"]
[null,1,null,2,{"$nulls":3},3,{"$nulls":3},4,null,null,5,null,null,6,{"$nulls":4},7,{"$nulls":5},8,null,null,9,{"$nulls":4},10,{"$nulls":5},11]
[null,1,null,{"$f":"U12","v":"6(A)"},{"$nulls":3},{"$f":"'Result Sheet'!EV109","v":9},{"$nulls":3},{"$f":"'Result Sheet'!EZ109","v":1},null,null,{"$f":"'Result Sheet'!FA109","v":2},null,null,{"$f":"'Result Sheet'!FB109","v":4},{"$nulls":4},{"$f":"SUM(L15:V15)","v":7},{"$nulls":5},{"$f":"COUNTIF('Marks Entry'!$FI$9:$FI$108,\"AB\")","v":0},null,null,{"$f":"COUNTIF('Marks Entry'!$FI$9:$FI$108,\"NSO\")","v":0},{"$nulls":4},{"$f":"AC15+AF15","v":0},{"$nulls":5},{"$f":"W15+AK15","v":7}]

{"sheet":"Report Card With Personal Logo","index":5,"n_rows":359,"n_cols":18,"rows_kept":359,"merged":[[0,1,0,14],[0,15,34,15],[0,16,0,19],[1,0,34,0],[1,1,2,1],[1,2,2,2],[1,3,1,14],[1,16,35,16],[1,17,5,18],[1,19,35,19],[2,3,2,14],[3,1,5,1],[3,2,5,7],[3,8,5,10],[3,11,5,11],[3,12,3,14],[4,12,5,14],[6,2,6,6],[6,8,6,14],[6,17,8,18],[7,2,7,6],[7,8,7,14],[8,2,8,6],[8,8,8,14],[9,2,9,6],[9,8,9,14],[9,17,9,18],[10,2,10,6],[10,8,10,14],[10,17,12,18],[11,2,11,6],[11,8,11,14],[12,2,12,3],[12,8,12,9],[12,11,12,12],[12,14,13,14],[13,2,13,3],[13,8,13,9],[13,11,13,12],[13,17,35,18],[14,2,14,3],[14,8,14,9],[14,11,14,12],[15,2,15,3],[15,8,15,9],[15,11,15,12],[16,2,16,3],[16,8,16,9],[16,11,16,12],[17,2,17,3],[17,8,17,9],[17,11,17,12],[18,2,18,3],[18,8,18,9],[18,11,18,12],[19,2,19,3],[19,8,19,9],[19,11,19,12],[20,2,21,4],[20,5,20,6],[20,7,20,8],[20,9,20,10],[21,5,21,6],[21,7,21,8],[21,9,21,10],[22,2,22,8],[22,9,22,11],[22,13,22,14],[23,2,24,4],[23,5,24,7],[23,9,23,11],[23,13,23,14],[24,9,24,11],[24,12,24,14],[25,2,25,4],[25,5,25,7],[25,9,25,11],[25,12,25,14],[26,2,26,4],[26,5,26,7],[26,9,26,14],[27,2,27,4],[27,5,27,7],[27,9,28,11],[27,12,28,14],[28,2,28,8],[29,3,29,4],[29,5,29,8],[29,9,31,14],[30,3,30,4],[30,5,30,8],[31,3,31,4],[31,5,31,8],[32,3,32,4],[32,5,32,8],[32,9,34,14],[33,3,33,4],[33,5,33,8],[34,3,34,4],[34,5,34,8],[35,0,35,15],[36,1,36,14],[36,15,70,15],[37,0,70,0],[37,1,38,1],[37,2,38,2],[37,3,37,14],[38,3,38,14],[39,1,41,1],[39,2,41,7],[39,8,41,10],[39,11,41,11],[39,12,39,14],[40,12,41,14],[42,2,42,6],[42,8,42,14],[43,2,43,6],[43,8,43,14],[44,2,44,6],[44,8,44,14],[45,2,45,6],[45,8,45,14],[46,2,46,6],[46,8,46,14],[47,2,47,6],[47,8,47,14],[48,2,48,3],[48,8,48,9],[48,11,48,12],[48,14,49,14],[49,2,49,3],[49,8,49,9],[49,11,49,12],[50,2,50,3],[50,8,50,9],[50,11,50,12],[51,2,51,3],[51,8,51,9],[51,11,51,12],[52,2,52,3],[52,8,52,9],[52,11,52,12],[53,2,53,3],[53,8,53,9],[53,11,53,12],[54,2,54,3],[54,8,54,9],[54,11,54,12],[55,2,55,3],[55,8,55,9],[55,11,55,12],[56,2,57,4],[56,5,56,6],[56,7,56,8],[56,9,56,10],[57,5,57,6],[57,7,57,8],[57,9,57,10],[58,2,58,8],[58,9,58,11],[58,13,58,14],[59,2,60,4],[59,5,60,7],[59,9,59,11],[59,13,59,14],[60,9,60,11],[60,12,60,14],[61,2,61,4],[61,5,61,7],[61,9,61,11],[61,12,61,14],[62,2,62,4],[62,5,62,7],[62,9,62,14],[63,2,63,4],[63,5,63,7],[63,9,64,11],[63,12,64,14],[64,2,64,8],[65,3,65,4],[65,5,65,8],[65,9,67,14],[66,3,66,4],[66,5,66,8],[67,3,67,4],[67,5,67,8],[68,3,68,4],[68,5,68,8],[68,9,70,14],[69,3,69,4],[69,5,69,8],[70,3,70,4],[70,5,70,8],[71,0,71,15],[72,1,72,14],[72,15,106,15],[73,0,106,0],[73,1,74,1],[73,2,74,2],[73,3,73,14],[74,3,74,14],[75,1,77,1],[75,2,77,7],[75,8,77,10],[75,11,77,11],[75,12,75,14],[76,12,77,14],[78,2,78,6],[78,8,78,14],[79,2,79,6],[79,8,79,14],[80,2,80,6],[80,8,80,14],[81,2,81,6],[81,8,81,14],[82,2,82,6],[82,8,82,14],[83,2,83,6],[83,8,83,14],[84,2,84,3],[84,8,84,9],[84,11,84,12],[84,14,85,14],[85,2,85,3],[85,8,85,9],[85,11,85,12],[86,2,86,3],[86,8,86,9],[86,11,86,12],[87,2,87,3],[87,8,87,9],[87,11,87,12],[88,2,88,3],[88,8,88,9],[88,11,88,12],[89,2,89,3],[89,8,89,9],[89,11,89,12],[90,2,90,3],[90,8,90,9],[90,11,90,12],[91,2,91,3],[91,8,91,9],[91,11,91,12],[92,2,93,4],[92,5,92,6],[92,7,92,8],[92,9,92,10],[93,5,93,6],[93,7,93,8],[93,9,93,10],[94,2,94,8],[94,9,94,11],[94,13,94,14],[95,2,96,4],[95,5,96,7],[95,9,95,11],[95,13,95,14],[96,9,96,11],[96,12,96,14],[97,2,97,4],[97,5,97,7],[97,9,97,11],[97,12,97,14],[98,2,98,4],[98,5,98,7],[98,9,98,14],[99,2,99,4],[99,5,99,7],[99,9,100,11],[99,12,100,14],[100,2,100,8],[101,3,101,4],[101,5,101,8],[101,9,103,14],[102,3,102,4],[102,5,102,8],[103,3,103,4],[103,5,103,8],[104,3,104,4],[104,5,104,8],[104,9,106,14],[105,3,105,4],[105,5,105,8],[106,3,106,4],[106,5,106,8],[107,0,107,15],[108,1,108,14],[108,15,142,15],[109,0,142,0],[109,1,110,1],[109,2,110,2],[109,3,109,14],[110,3,110,14],[111,1,113,1],[111,2,113,7],[111,8,113,10],[111,11,113,11],[111,12,111,14],[112,12,113,14],[114,2,114,6],[114,8,114,14],[115,2,115,6],[115,8,115,14],[116,2,116,6],[116,8,116,14],[117,2,117,6],[117,8,117,14],[118,2,118,6],[118,8,118,14],[119,2,119,6],[119,8,119,14],[120,2,120,3],[120,8,120,9],[120,11,120,12],[120,14,121,14],[121,2,121,3],[121,8,121,9],[121,11,121,12],[122,2,122,3],[122,8,122,9],[122,11,122,12],[123,2,123,3],[123,8,123,9],[123,11,123,12],[124,2,124,3],[124,8,124,9],[124,11,124,12],[125,2,125,3],[125,8,125,9],[125,11,125,12],[126,2,126,3],[126,8,126,9],[126,11,126,12],[127,2,127,3],[127,8,127,9],[127,11,127,12],[128,2,129,4],[128,5,128,6],[128,7,128,8],[128,9,128,10],[129,5,129,6],[129,7,129,8],[129,9,129,10],[130,2,130,8],[130,9,130,11],[130,13,130,14],[131,2,132,4],[131,5,132,7],[131,9,131,11],[131,13,131,14],[132,9,132,11],[132,12,132,14],[133,2,133,4],[133,5,133,7],[133,9,133,11],[133,12,133,14],[134,2,134,4],[134,5,134,7],[134,9,134,14],[135,2,135,4],[135,5,135,7],[135,9,136,11],[135,12,136,14],[136,2,136,8],[137,3,137,4],[137,5,137,8],[137,9,139,14],[138,3,138,4],[138,5,138,8],[139,3,139,4],[139,5,139,8],[140,3,140,4],[140,5,140,8],[140,9,142,14],[141,3,141,4],[141,5,141,8],[142,3,142,4],[142,5,142,8],[143,0,143,15],[144,1,144,14],[144,15,178,15],[145,0,178,0],[145,1,146,1],[145,2,146,2],[145,3,145,14],[146,3,146,14],[147,1,149,1],[147,2,149,7],[147,8,149,10],[147,11,149,11],[147,12,147,14],[148,12,149,14],[150,2,150,6],[150,8,150,14],[151,2,151,6],[151,8,151,14],[152,2,152,6],[152,8,152,14],[153,2,153,6],[153,8,153,14],[154,2,154,6],[154,8,154,14],[155,2,155,6],[155,8,155,14],[156,2,156,3],[156,8,156,9],[156,11,156,12],[156,14,157,14],[157,2,157,3],[157,8,157,9],[157,11,157,12],[158,2,158,3],[158,8,158,9],[158,11,158,12],[159,2,159,3],[159,8,159,9],[159,11,159,12],[160,2,160,3],[160,8,160,9],[160,11,160,12],[161,2,161,3],[161,8,161,9],[161,11,161,12],[162,2,162,3],[162,8,162,9],[162,11,162,12],[163,2,163,3],[163,8,163,9],[163,11,163,12],[164,2,165,4],[164,5,164,6],[164,7,164,8],[164,9,164,10],[165,5,165,6],[165,7,165,8],[165,9,165,10],[166,2,166,8],[166,9,166,11],[166,13,166,14],[167,2,168,4],[167,5,168,7],[167,9,167,11],[167,13,167,14],[168,9,168,11],[168,12,168,14],[169,2,169,4],[169,5,169,7],[169,9,169,11],[169,12,169,14],[170,2,170,4],[170,5,170,7],[170,9,170,14],[171,2,171,4],[171,5,171,7],[171,9,172,11],[171,12,172,14],[172,2,172,8],[173,3,173,4],[173,5,173,8],[173,9,175,14],[174,3,174,4],[174,5,174,8],[175,3,175,4],[175,5,175,8],[176,3,176,4],[176,5,176,8],[176,9,178,14],[177,3,177,4],[177,5,177,8],[178,3,178,4],[178,5,178,8],[179,0,179,15],[180,1,180,14],[180,15,214,15],[181,0,214,0],[181,1,182,1],[181,2,182,2],[181,3,181,14],[182,3,182,14],[183,1,185,1],[183,2,185,7],[183,8,185,10],[183,11,185,11],[183,12,183,14],[184,12,185,14],[186,2,186,6],[186,8,186,14],[187,2,187,6],[187,8,187,14],[188,2,188,6],[188,8,188,14],[189,2,189,6],[189,8,189,14],[190,2,190,6],[190,8,190,14],[191,2,191,6],[191,8,191,14],[192,2,192,3],[192,8,192,9],[192,11,192,12],[192,14,193,14],[193,2,193,3],[193,8,193,9],[193,11,193,12],[194,2,194,3],[194,8,194,9],[194,11,194,12],[195,2,195,3],[195,8,195,9],[195,11,195,12],[196,2,196,3],[196,8,196,9],[196,11,196,12],[197,2,197,3],[197,8,197,9],[197,11,197,12],[198,2,198,3],[198,8,198,9],[198,11,198,12],[199,2,199,3],[199,8,199,9],[199,11,199,12],[200,2,201,4],[200,5,200,6],[200,7,200,8],[200,9,200,10],[201,5,201,6],[201,7,201,8],[201,9,201,10],[202,2,202,8],[202,9,202,11],[202,13,202,14],[203,2,204,4],[203,5,204,7],[203,9,203,11],[203,13,203,14],[204,9,204,11],[204,12,204,14],[205,2,205,4],[205,5,205,7],[205,9,205,11],[205,12,205,14],[206,2,206,4],[206,5,206,7],[206,9,206,14],[207,2,207,4],[207,5,207,7],[207,9,208,11],[207,12,208,14],[208,2,208,8],[209,3,209,4],[209,5,209,8],[209,9,211,14],[210,3,210,4],[210,5,210,8],[211,3,211,4],[211,5,211,8],[212,3,212,4],[212,5,212,8],[212,9,214,14],[213,3,213,4],[213,5,213,8],[214,3,214,4],[214,5,214,8],[215,0,215,15],[216,1,216,14],[216,15,250,15],[217,0,250,0],[217,1,218,1],[217,2,218,2],[217,3,217,14],[218,3,218,14],[219,1,221,1],[219,2,221,7],[219,8,221,10],[219,11,221,11],[219,12,219,14],[220,12,221,14],[222,2,222,6],[222,8,222,14],[223,2,223,6],[223,8,223,14],[224,2,224,6],[224,8,224,14],[225,2,225,6],[225,8,225,14],[226,2,226,6],[226,8,226,14],[227,2,227,6],[227,8,227,14],[228,2,228,3],[228,8,228,9],[228,11,228,12],[228,14,229,14],[229,2,229,3],[229,8,229,9],[229,11,229,12],[230,2,230,3],[230,8,230,9],[230,11,230,12],[231,2,231,3],[231,8,231,9],[231,11,231,12],[232,2,232,3],[232,8,232,9],[232,11,232,12],[233,2,233,3],[233,8,233,9],[233,11,233,12],[234,2,234,3],[234,8,234,9],[234,11,234,12],[235,2,235,3],[235,8,235,9],[235,11,235,12],[236,2,237,4],[236,5,236,6],[236,7,236,8],[236,9,236,10],[237,5,237,6],[237,7,237,8],[237,9,237,10],[238,2,238,8],[238,9,238,11],[238,13,238,14],[239,2,240,4],[239,5,240,7],[239,9,239,11],[239,13,239,14],[240,9,240,11],[240,12,240,14],[241,2,241,4],[241,5,241,7],[241,9,241,11],[241,12,241,14],[242,2,242,4],[242,5,242,7],[242,9,242,14],[243,2,243,4],[243,5,243,7],[243,9,244,11],[243,12,244,14],[244,2,244,8],[245,3,245,4],[245,5,245,8],[245,9,247,14],[246,3,246,4],[246,5,246,8],[247,3,247,4],[247,5,247,8],[248,3,248,4],[248,5,248,8],[248,9,250,14],[249,3,249,4],[249,5,249,8],[250,3,250,4],[250,5,250,8],[251,0,251,15],[252,1,252,14],[252,15,286,15],[253,0,286,0],[253,1,254,1],[253,2,254,2],[253,3,253,14],[254,3,254,14],[255,1,257,1],[255,2,257,7],[255,8,257,10],[255,11,257,11],[255,12,255,14],[256,12,257,14],[258,2,258,6],[258,8,258,14],[259,2,259,6],[259,8,259,14],[260,2,260,6],[260,8,260,14],[261,2,261,6],[261,8,261,14],[262,2,262,6],[262,8,262,14],[263,2,263,6],[263,8,263,14],[264,2,264,3],[264,8,264,9],[264,11,264,12],[264,14,265,14],[265,2,265,3],[265,8,265,9],[265,11,265,12],[266,2,266,3],[266,8,266,9],[266,11,266,12],[267,2,267,3],[267,8,267,9],[267,11,267,12],[268,2,268,3],[268,8,268,9],[268,11,268,12],[269,2,269,3],[269,8,269,9],[269,11,269,12],[270,2,270,3],[270,8,270,9],[270,11,270,12],[271,2,271,3],[271,8,271,9],[271,11,271,12],[272,2,273,4],[272,5,272,6],[272,7,272,8],[272,9,272,10],[273,5,273,6],[273,7,273,8],[273,9,273,10],[274,2,274,8],[274,9,274,11],[274,13,274,14],[275,2,276,4],[275,5,276,7],[275,9,275,11],[275,13,275,14],[276,9,276,11],[276,12,276,14],[277,2,277,4],[277,5,277,7],[277,9,277,11],[277,12,277,14],[278,2,278,4],[278,5,278,7],[278,9,278,14],[279,2,279,4],[279,5,279,7],[279,9,280,11],[279,12,280,14],[280,2,280,8],[281,3,281,4],[281,5,281,8],[281,9,283,14],[282,3,282,4],[282,5,282,8],[283,3,283,4],[283,5,283,8],[284,3,284,4],[284,5,284,8],[284,9,286,14],[285,3,285,4],[285,5,285,8],[286,3,286,4],[286,5,286,8],[287,0,287,15],[288,1,288,14],[288,15,322,15],[289,0,322,0],[289,1,290,1],[289,2,290,2],[289,3,289,14],[290,3,290,14],[291,1,293,1],[291,2,293,7],[291,8,293,10],[291,11,293,11],[291,12,291,14],[292,12,293,14],[294,2,294,6],[294,8,294,14],[295,2,295,6],[295,8,295,14],[296,2,296,6],[296,8,296,14],[297,2,297,6],[297,8,297,14],[298,2,298,6],[298,8,298,14],[299,2,299,6],[299,8,299,14],[300,2,300,3],[300,8,300,9],[300,11,300,12],[300,14,301,14],[301,2,301,3],[301,8,301,9],[301,11,301,12],[302,2,302,3],[302,8,302,9],[302,11,302,12],[303,2,303,3],[303,8,303,9],[303,11,303,12],[304,2,304,3],[304,8,304,9],[304,11,304,12],[305,2,305,3],[305,8,305,9],[305,11,305,12],[306,2,306,3],[306,8,306,9],[306,11,306,12],[307,2,307,3],[307,8,307,9],[307,11,307,12],[308,2,309,4],[308,5,308,6],[308,7,308,8],[308,9,308,10],[309,5,309,6],[309,7,309,8],[309,9,309,10],[310,2,310,8],[310,9,310,11],[310,13,310,14],[311,2,312,4],[311,5,312,7],[311,9,311,11],[311,13,311,14],[312,9,312,11],[312,12,312,14],[313,2,313,4],[313,5,313,7],[313,9,313,11],[313,12,313,14],[314,2,314,4],[314,5,314,7],[314,9,314,14],[315,2,315,4],[315,5,315,7],[315,9,316,11],[315,12,316,14],[316,2,316,8],[317,3,317,4],[317,5,317,8],[317,9,319,14],[318,3,318,4],[318,5,318,8],[319,3,319,4],[319,5,319,8],[320,3,320,4],[320,5,320,8],[320,9,322,14],[321,3,321,4],[321,5,321,8],[322,3,322,4],[322,5,322,8],[323,0,323,15],[324,1,324,14],[324,15,358,15],[325,0,358,0],[325,1,326,1],[325,2,326,2],[325,3,325,14],[326,3,326,14],[327,1,329,1],[327,2,329,7],[327,8,329,10],[327,11,329,11],[327,12,327,14],[328,12,329,14],[330,2,330,6],[330,8,330,14],[331,2,331,6],[331,8,331,14],[332,2,332,6],[332,8,332,14],[333,2,333,6],[333,8,333,14],[334,2,334,6],[334,8,334,14],[335,2,335,6],[335,8,335,14],[336,2,336,3],[336,8,336,9],[336,11,336,12],[336,14,337,14],[337,2,337,3],[337,8,337,9],[337,11,337,12],[338,2,338,3],[338,8,338,9],[338,11,338,12],[339,2,339,3],[339,8,339,9],[339,11,339,12],[340,2,340,3],[340,8,340,9],[340,11,340,12],[341,2,341,3],[341,8,341,9],[341,11,341,12],[342,2,342,3],[342,8,342,9],[342,11,342,12],[343,2,343,3],[343,8,343,9],[343,11,343,12],[344,2,345,4],[344,5,344,6],[344,7,344,8],[344,9,344,10],[345,5,345,6],[345,7,345,8],[345,9,345,10],[346,2,346,8],[346,9,346,11],[346,13,346,14],[347,2,348,4],[347,5,348,7],[347,9,347,11],[347,13,347,14],[348,9,348,11],[348,12,348,14],[349,2,349,4],[349,5,349,7],[349,9,349,11],[349,12,349,14],[350,2,350,4],[350,5,350,7],[350,9,350,14],[351,2,351,4],[351,5,351,7],[351,9,352,11],[351,12,352,14],[352,2,352,8],[353,3,353,4],[353,5,353,8],[353,9,355,14],[354,3,354,4],[354,5,354,8],[355,3,355,4],[355,5,355,8],[356,3,356,4],[356,5,356,8],[356,9,358,14],[357,3,357,4],[357,5,357,8],[358,3,358,4],[358,5,358,8],[359,0,359,15]]}
[{"$f":"R7","v":1},"Department Of Education, Rajasthan"]
[null,108,{"$f":"logo","v":{"$error":"#REF!"}},{"$f":"Master!$E$8","v":"Govt. Sr. Secondary School "},{"$nulls":13},"Plz Enter the range to print marksheet"]
[{"$nulls":3},{"$f":"Master!$E$11","v":"P.S.-Bapini (Jodhpur)"}]
[null,null,"Final Report Card",{"$nulls":5},"Roll No.:-",null,null,{"$f":"IF(OR(A1=0,A1=\"\"),0,VLOOKUP(A1,'Marks Entry'!$B$9:$G$108,6))","v":901},{"$f":"CONCATENATE('Marks Entry'!$C$3,\"0\",'Marks Entry'!$G$3)","v":"School U-Dise Code :-08151106901"}]
[{"$nulls":12},{"$f":"CONCATENATE('Marks Entry'!$I$3,'Marks Entry'!$J$3)","v":"Session :-2024-25"}]
[]
[null,"◘","Scholar Number",{"$nulls":4},"●→",{"$f":"IF(OR(A1=0,A1=\"\"),\"\",VLOOKUP($A1,'Marks Entry'!$B$9:$FN$108,4,0))","v":793},{"$nulls":8},1]
[null,"◘","Student's Name",{"$nulls":4},"●→",{"$f":"IF(OR(A1=0,A1=\"\"),\"\",VLOOKUP($A1,'Marks Entry'!$B$9:$FN$108,7,0))","v":"ABHISHEK"}]
[null,"◘","Father's Name",{"$nulls":4},"●→",{"$f":"IF(OR(A1=0,A1=\"\"),\"\",VLOOKUP($A1,'Marks Entry'!$B$9:$FN$108,8,0))","v":"RAMU KHAN"}]
[null,"◘","Mother's Name ",{"$nulls":4},"●→",{"$f":"IF(OR(A1=0,A1=\"\"),\"\",VLOOKUP($A1,'Marks Entry'!$B$9:$FN$108,9,0))","v":"SEEPA DEVI"},{"$nulls":8},"To"]
[null,"◘","Class & Section",{"$nulls":4},"●→",{"$f":"IF(OR(A1=0,A1=\"\"),\"\",CONCATENATE('Marks Entry'!$G$4,'Marks Entry'!$J$4))","v":"6(A)"},{"$nulls":8},{"$f":"IF(R7=0,0,R7+9)","v":10}]
[null,"◘","Date Of Birth",{"$nulls":4},"●→",{"$f":"IF(OR(A1=0,A1=\"\"),\"\",VLOOKUP($A1,'Marks Entry'!$B$9:$FN$108,10,0))","v":"2005-07-22"}]
[null,"◘","Subject",null,"First Test","Second Test",{"$f":"'Marks Entry'!$R$5","v":"No Bag Day Activity"},"Total","Half Yearly",null,"Total (Test+H.Y.)","Yearly Exam",null,"Grand Total","Subject Div Or Description"]
[null,"◘","Max. Marks",null,{"$f":"'Marks Entry'!$N$7","v":10},{"$f":"'Marks Entry'!$Q$7","v":10},{"$f":"'Marks Entry'!$T$7","v":10},{"$f":"SUM(E14:G14)","v":30},{"$f":"'Marks Entry'!$X$7","v":70},null,{"$f":"SUM(H14,I14)","v":100},{"$f":"'Marks Entry'!$AA$7","v":100},null,{"$f":"H14+I14+L14","v":200}]
[null,"◘",{"$f":"'Marks Entry'!$L$3","v":"HINDI"},null,{"$f":"IF(OR(A1=0,A1=\"\"),\"\",IF($L4=\"TC\",0,IF($L4=\"Nso\",0,VLOOKUP($A1,'Marks Entry'!$B$9:$FN$108,13,0))))","v":"ML"},{"$f":"IF(OR(A1=0,A1=\"\"),\"\",IF($L4=\"TC\",0,IF($L4=\"Nso\",0,VLOOKUP($A1,'Marks Entry'!$B$9:$FN$108,16,0))))","v":7},{"$f":"IF(OR(A1=0,A1=\"\"),\"\",IF($L4=\"TC\",0,IF($L4=\"Nso\",0,VLOOKUP($A1,'Marks Entry'!$B$9:$FN$108,19,0))))","v":2},{"$f":"SUM(E15:G15)","v":9},{"$f":"IF(OR(A1=0,A1=\"\"),\"\",IF($L4=\"TC\",0,IF($L4=\"Nso\",0,VLOOKUP($A1,'Marks Entry'!$B$9:$FN$108,23,0))))","v":35},null,{"$f":"SUM(H15,I15)","v":44},{"$f":"IF(OR(A1=0,A1=\"\"),\"\",IF($L4=\"TC\",0,IF($L4=\"Nso\",0,VLOOKUP($A1,'Marks Entry'!$B$9:$FN$108,26,0))))","v":55},null,{"$f":"SUM(H15,I15,L15)","v":99},{"$f":"IF(OR(A1=0,A1=\"\"),\"\",IF($L4=\"TC\",0,IF($L4=\"Nso\",0,VLOOKUP($A1,'Marks Entry'!$B$9:$FN$108,30,0))))","v":"D"}]
[null,"◘",{"$f":"'Marks Entry'!$AF$3","v":"ENGLISH"},null,{"$f":"IF(OR(A1=0,A1=\"\"),\"\",IF($L4=\"TC\",0,IF($L4=\"Nso\",0,VLOOKUP($A1,'Marks Entry'!$B$9:$FN$108,33,0))))","v":4},{"$f":"IF(OR(A1=0,A1=\"\"),\"\",IF($L4=\"TC\",0,IF($L4=\"Nso\",0,VLOOKUP($A1,'Marks Entry'!$B$9:$FN$108,36,0))))","v":4},{"$f":"IF(OR(A1=0,A1=\"\"),\"\",IF($L4=\"TC\",0,IF($L4=\"Nso\",0,VLOOKUP($A1,'Marks Entry'!$B$9:$FN$108,39,0))))","v":2},{"$f":"SUM(E16:G16)","v":10},{"$f":"IF(OR(A1=0,A1=\"\"),\"\",IF($L4=\"TC\",0,IF($L4=\"Nso\",0,VLOOKUP($A1,'Marks Entry'!$B$9:$FN$108,43,0))))","v":35},null,{"$f":"SUM(H16,I16)","v":45},{"$f":"IF(OR(A1=0,A1=\"\"),\"\",IF($L4=\"TC\",0,IF($L4=\"Nso\",0,VLOOKUP($A1,'Marks Entry'!$B$9:$FN$108,46,0))))","v":53},null,{"$f":"SUM(H16,I16,L16)","v":98},{"$f":"IF(OR(A1=0,A1=\"\"),\"\",IF($L4=\"TC\",0,IF($L4=\"Nso\",0,VLOOKUP($A1,'Marks Entry'!$B$9:$FN$108,50,0))))","v":"D"}]
[null,"◘",{"$f":"'Marks Entry'!$AZ$3","v":"SANSKRIT"},null,{"$f":"IF(OR(A1=0,A1=\"\"),\"\",IF($L4=\"TC\",0,IF($L4=\"Nso\",0,VLOOKUP($A1,'Marks Entry'!$B$9:$FN$108,53,0))))","v":4},{"$f":"IF(OR(A1=0,A1=\"\"),\"\",IF($L4=\"TC\",0,IF($L4=\"TC\",0,IF($L4=\"Nso\",0,VLOOKUP($A1,'Marks Entry'!$B$9:$FN$108,56,0)))))","v":4},{"$f":"IF(OR(A1=0,A1=\"\"),\"\",IF($L4=\"TC\",0,IF($L4=\"TC\",0,IF($L4=\"Nso\",0,VLOOKUP($A1,'Marks Entry'!$B$9:$FN$108,59,0)))))","v":2},10,{"$f":"IF(OR(A1=0,A1=\"\"),\"\",IF($L4=\"TC\",0,IF($L4=\"Nso\",0,VLOOKUP($A1,'Marks Entry'!$B$9:$FN$108,63,0))))","v":35},null,45,{"$f":"IF(OR(A1=0,A1=\"\"),\"\",IF($L4=\"TC\",0,IF($L4=\"Nso\",0,VLOOKUP($A1,'Marks Entry'!$B$9:$FN$108,66,0))))","v":53},null,98,{"$f":"IF(OR(A1=0,A1=\"\"),\"\",IF($L4=\"TC\",0,IF($L4=\"Nso\",0,VLOOKUP($A1,'Marks Entry'!$B$9:$FN$108,70,0))))","v":"D"}]
[null,"◘",{"$f":"'Marks Entry'!$BT$3","v":"SCIENCE"},null,{"$f":"IF(OR(A1=0,A1=\"\"),\"\",IF($L4=\"TC\",0,IF($L4=\"Nso\",0,VLOOKUP($A1,'Marks Entry'!$B$9:$FN$108,73,0))))","v":7},{"$f":"IF(OR(A1=0,A1=\"\"),\"\",IF($L4=\"TC\",0,IF($L4=\"Nso\",0,VLOOKUP($A1,'Marks Entry'!$B$9:$FN$108,76,0))))","v":4},{"$f":"IF(OR(A1=0,A1=\"\"),\"\",IF($L4=\"TC\",0,IF($L4=\"Nso\",0,VLOOKUP($A1,'Marks Entry'!$B$9:$FN$108,79,0))))","v":2},13,{"$f":"IF(OR(A1=0,A1=\"\"),\"\",IF($L4=\"TC\",0,IF($L4=\"Nso\",0,VLOOKUP($A1,'Marks Entry'!$B$9:$FN$108,83,0))))","v":35},null,48,{"$f":"IF(OR(A1=0,A1=\"\"),\"\",IF($L4=\"TC\",0,IF($L4=\"Nso\",0,VLOOKUP($A1,'Marks Entry'!$B$9:$FN$108,86,0))))","v":53},null,101,{"$f":"IF(OR(A1=0,A1=\"\"),\"\",IF($L4=\"TC\",0,IF($L4=\"Nso\",0,VLOOKUP($A1,'Marks Entry'!$B$9:$FN$108,90,0))))","v":"D"}]
[null,"◘",{"$f":"'Marks Entry'!$CN$3","v":"MATHEMATICS"},null,{"$f":"IF(OR(A1=0,A1=\"\"),\"\",IF($L4=\"TC\",0,IF($L4=\"Nso\",0,VLOOKUP($A1,'Marks Entry'!$B$9:$FN$108,93,0))))","v":5},{"$f":"IF(OR(A1=0,A1=\"\"),\"\",IF($L4=\"TC\",0,IF($L4=\"Nso\",0,VLOOKUP($A1,'Marks Entry'!$B$9:$FN$108,96,0))))","v":4},{"$f":"IF(OR(A1=0,A1=\"\"),\"\",IF($L4=\"TC\",0,IF($L4=\"Nso\",0,VLOOKUP($A1,'Marks Entry'!$B$9:$FN$108,99,0))))","v":2},11,{"$f":"IF(OR(A1=0,A1=\"\"),\"\",IF($L4=\"TC\",0,IF($L4=\"Nso\",0,VLOOKUP($A1,'Marks Entry'!$B$9:$FN$108,103,0))))","v":35},null,46,{"$f":"IF(OR(A1=0,A1=\"\"),\"\",IF($L4=\"TC\",0,IF($L4=\"Nso\",0,VLOOKUP($A1,'Marks Entry'!$B$9:$FN$108,106,0))))","v":53},null,99,{"$f":"IF(OR(A1=0,A1=\"\"),\"\",IF($L4=\"TC\",0,IF($L4=\"Nso\",0,VLOOKUP($A1,'Marks Entry'!$B$9:$FN$108,110,0))))","v":"D"}]
[null,"◘",{"$f":"'Marks Entry'!$DH$3","v":"SOCIAL SCIENCE"},null,{"$f":"IF(OR(A1=0,A1=\"\"),\"\",IF($L4=\"TC\",0,IF($L4=\"Nso\",0,VLOOKUP($A1,'Marks Entry'!$B$9:$FN$108,113,0))))","v":4},{"$f":"IF(OR(A1=0,A1=\"\"),\"\",IF($L4=\"TC\",0,IF($L4=\"Nso\",0,VLOOKUP($A1,'Marks Entry'!$B$9:$FN$108,116,0))))","v":4},{"$f":"IF(OR(A1=0,A1=\"\"),\"\",IF($L4=\"TC\",0,IF($L4=\"Nso\",0,VLOOKUP($A1,'Marks Entry'!$B$9:$FN$108,119,0))))","v":2},10,{"$f":"IF(OR(A1=0,A1=\"\"),\"\",IF($L4=\"TC\",0,IF($L4=\"Nso\",0,VLOOKUP($A1,'Marks Entry'!$B$9:$FN$108,123,0))))","v":25},null,35,{"$f":"IF(OR(A1=0,A1=\"\"),\"\",IF($L4=\"TC\",0,IF($L4=\"Nso\",0,VLOOKUP($A1,'Marks Entry'!$B$9:$FN$108,126,0))))","v":53},null,88,{"$f":"IF(OR(A1=0,A1=\"\"),\"\",IF($L4=\"TC\",0,IF($L4=\"Nso\",0,VLOOKUP($A1,'Marks Entry'!$B$9:$FN$108,130,0))))","v":"D"}]
[null,"◘","Overall Result",null,null,"Total Max. Marks",null,"Total Obtained Marks",null,"Percentage",null,"Overall Div.","Overall Grade","Result","Position in Class"]
[null,"◘",{"$nulls":3},{"$f":"IF(OR(A1=0,A1=\"\"),\"\",IF($L4=\"TC\",0,IF($L4=\"Nso\",0,VLOOKUP($A1,'Marks Entry'!$B$9:$FN$108,161,0))))","v":1200},null,{"$f":"IF(OR(A1=0,A1=\"\"),\"\",IF($L4=\"TC\",0,IF($L4=\"Nso\",0,VLOOKUP($A1,'Marks Entry'!$B$9:$FN$108,162,0))))","v":583},null,{"$f":"IF(OR(A1=0,A1=\"\"),\"\",IF($L4=\"TC\",0,IF($L4=\"Nso\",0,VLOOKUP($A1,'Marks Entry'!$B$9:$FN$108,163,0))))","v":{"v":48.583333333333336,"d":"48.58"}},null,{"$f":"IF(OR(A1=0,A1=\"\"),\"\",IF($L4=\"TC\",0,IF($L4=\"Nso\",0,VLOOKUP($A1,'Marks Entry'!$B$9:$FN$108,164,0))))","v":"Second"},{"$f":"IF(OR(A1=0,A1=\"\"),\"\",IF($L4=\"TC\",0,IF($L4=\"Nso\",0,VLOOKUP($A1,'Marks Entry'!$B$9:$FN$108,165,0))))","v":"D"},{"$f":"IF(OR(A1=0,A1=\"\"),\"\",IF($L4=\"TC\",\"TC\",IF($L4=\"Nso\",\"NSO\",VLOOKUP($A1,'Marks Entry'!$B$9:$FN$108,166,0))))","v":"PASSED"},{"$f":"IF(OR(A1=0,A1=\"\"),\"\",IF($L4=\"Nso\",0,VLOOKUP($A1,'Marks Entry'!$B$9:$FN$108,168,0)))","v":2.999999999999999}]
[null,"◘","Extra Subjects",{"$nulls":6},"Total Meetings :-",null,null,{"$f":"IF(OR(A1=0,A1=\"\"),\"\",IF($L4=\"TC\",0,IF($L4=\"Nso\",0,VLOOKUP($A1,'Marks Entry'!$B$9:$FN$108,158,0))))","v":362},"Attendance Percentage"]
[null,"◘","Subject",null,null,"Obtained/Total Marks",null,null,"GRADE","Student's Meetings :-",null,null,{"$f":"IF(OR(A1=0,A1=\"\"),\"\",IF($L4=\"TC\",0,IF($L4=\"Nso\",0,VLOOKUP($A1,'Marks Entry'!$B$9:$FN$108,159,0))))","v":274},{"$f":"IF(OR(A1=0,A1=\"\"),\"\",IF($L4=\"TC\",0,IF($L4=\"Nso\",0,VLOOKUP($A1,'Marks Entry'!$B$9:$FN$108,160,0))))","v":{"v":75.69060773480662,"d":"75.69"}}]
[null,"◘",{"$nulls":6},"A/B/C/D","Remark :-",null,null,{"$f":"IF(OR(A1=0,A1=\"\"),\"\",IF($L4=\"TC\",0,IF($L4=\"Nso\",0,VLOOKUP($A1,'Marks Entry'!$B$9:$FN$108,169,0))))","v":"Average"}]
[null,"◘",{"$f":"'Marks Entry'!$EB$3","v":"Work Exp."},null,null,{"$f":"IF(OR(A1=0,A1=\"\"),\"\",IF($L4=\"TC\",0,IF($L4=\"Nso\",0,VLOOKUP($A1,'Marks Entry'!$B$9:$GM$108,186,0))))","v":"71/100"},null,null,{"$f":"IF(OR(A1=0,A1=\"\"),\"\",IF($L4=\"TC\",0,IF($L4=\"Nso\",0,VLOOKUP($A1,'Marks Entry'!$B$9:$GM$108,139,0))))","v":"B"},"Result Date :-",null,null,{"$f":"IF(OR(A1=0,A1=\"\"),\"\",'Marks Entry'!$AA$2)","v":"2024-05-07"}]
[null,"◘",{"$f":"'Marks Entry'!$EK$3","v":"Art Edu."},null,null,{"$f":"IF(OR(A1=0,A1=\"\"),\"\",IF($L4=\"TC\",0,IF($L4=\"Nso\",0,VLOOKUP($A1,'Marks Entry'!$B$9:$GM$108,190,0))))","v":"61/100"},null,null,{"$f":"IF(OR(A1=0,A1=\"\"),\"\",IF($L4=\"TC\",0,IF($L4=\"Nso\",0,VLOOKUP($A1,'Marks Entry'!$B$9:$GM$108,148,0))))","v":"C"}]
[null,"◘",{"$f":"'Marks Entry'!$ET$3","v":"HEALTH & PHY. EDU."},null,null,{"$f":"IF(OR(A1=0,A1=\"\"),\"\",IF($L4=\"TC\",0,IF($L4=\"Nso\",0,VLOOKUP($A1,'Marks Entry'!$B$9:$GM$108,194,0))))","v":"61/100"},null,null,{"$f":"IF(OR(A1=0,A1=\"\"),\"\",IF($L4=\"TC\",0,IF($L4=\"Nso\",0,VLOOKUP($A1,'Marks Entry'!$B$9:$GM$108,157,0))))","v":"C"},"Signature Of The Class Teacher"]
[null,"◘","Grading System"]
[null,"◘","Grade","% Range",null,"Description",{"$nulls":3},"Signature And Seal Of Principal/H.M."]
[null,"◘","A","86-100",null,"Excellent"]
[null,"◘","B","71-85",null,"Very Good"]
[null,"◘","C","51-70",null,"Good",{"$nulls":3},"Wish bright future"]
[null,"◘","D","31-50",null,"Average"]
[null,"◘","E","0-30",null,"Need Improvement"]
[]
[{"$f":"IF(A1=0,0,A1+1)","v":2},"Department Of Education, Rajasthan"]
[null,108,{"$f":"logo","v":{"$error":"#REF!"}},{"$f":"Master!$E$8","v":"Govt. Sr. Secondary School "}]
[{"$nulls":3},{"$f":"Master!$E$11","v":"P.S.-Bapini (Jodhpur)"}]
[null,null,"Final Report Card",{"$nulls":5},"Roll No.:-",null,null,{"$f":"IF(OR(A37=0,A37=\"\"),0,VLOOKUP(A37,'Marks Entry'!$B$9:$G$108,6))","v":902},{"$f":"CONCATENATE('Marks Entry'!$C$3,\"0\",'Marks Entry'!$G$3)","v":"School U-Dise Code :-08151106901"}]
[{"$nulls":12},{"$f":"CONCATENATE('Marks Entry'!$I$3,'Marks Entry'!$J$3)","v":"Session :-2024-25"}]
[]
[null,"◘","Scholar Number",{"$nulls":4},"●→",{"$f":"IF(OR(A37=0,A37=\"\"),\"\",VLOOKUP($A37,'Marks Entry'!$B$9:$FN$108,4,0))","v":1490}]
[null,"◘","Student's Name",{"$nulls":4},"●→",{"$f":"IF(OR(A37=0,A37=\"\"),\"\",VLOOKUP($A37,'Marks Entry'!$B$9:$FN$108,7,0))","v":"ACHALA RAM"}]
[null,"◘","Father's Name",{"$nulls":4},"●→",{"$f":"IF(OR(A37=0,A37=\"\"),\"\",VLOOKUP($A37,'Marks Entry'!$B$9:$FN$108,8,0))","v":"HEMA RAM"}]
[null,"◘","Mother's Name ",{"$nulls":4},"●→",{"$f":"IF(OR(A37=0,A37=\"\"),\"\",VLOOKUP($A37,'Marks Entry'!$B$9:$FN$108,9,0))","v":"TULACHHI DEVI"}]
[null,"◘","Class & Section",{"$nulls":4},"●→",{"$f":"IF(OR(A37=0,A37=\"\"),\"\",CONCATENATE('Marks Entry'!$G$4,'Marks Entry'!$J$4))","v":"6(A)"}]
[null,"◘","Date Of Birth",{"$nulls":4},"●→",{"$f":"IF(OR(A37=0,A37=\"\"),\"\",VLOOKUP($A37,'Marks Entry'!$B$9:$FN$108,10,0))","v":"2005-07-02"}]
[null,"◘","Subject",null,"First Test","Second Test",{"$f":"'Marks Entry'!$R$5","v":"No Bag Day Activity"},"Total","Half Yearly",null,"Total (Test+H.Y.)","Yearly Exam",null,"Grand Total","Subject Div Or Description"]
[null,"◘","Max. Marks",null,{"$f":"'Marks Entry'!$N$7","v":10},{"$f":"'Marks Entry'!$Q$7","v":10},{"$f":"'Marks Entry'!$T$7","v":10},{"$f":"SUM(E50:G50)","v":30},{"$f":"'Marks Entry'!$X$7","v":70},null,{"$f":"SUM(H50,I50)","v":100},{"$f":"'Marks Entry'!$AA$7","v":100},null,{"$f":"H50+I50+L50","v":200}]
[null,"◘",{"$f":"'Marks Entry'!$L$3","v":"HINDI"},null,{"$f":"IF(OR(A37=0,A37=\"\"),\"\",IF($L40=\"TC\",0,IF($L40=\"Nso\",0,VLOOKUP($A37,'Marks Entry'!$B$9:$FN$108,13,0))))","v":4},{"$f":"IF(OR(A37=0,A37=\"\"),\"\",IF($L40=\"TC\",0,IF($L40=\"Nso\",0,VLOOKUP($A37,'Marks Entry'!$B$9:$FN$108,16,0))))","v":7},{"$f":"IF(OR(A37=0,A37=\"\"),\"\",IF($L40=\"TC\",0,IF($L40=\"Nso\",0,VLOOKUP($A37,'Marks Entry'!$B$9:$FN$108,19,0))))","v":5},{"$f":"SUM(E51:G51)","v":16},{"$f":"IF(OR(A37=0,A37=\"\"),\"\",IF($L40=\"TC\",0,IF($L40=\"Nso\",0,VLOOKUP($A37,'Marks Entry'!$B$9:$FN$108,23,0))))","v":35},null,{"$f":"SUM(H51,I51)","v":51},{"$f":"IF(OR(A37=0,A37=\"\"),\"\",IF($L40=\"TC\",0,IF($L40=\"Nso\",0,VLOOKUP($A37,'Marks Entry'!$B$9:$FN$108,26,0))))","v":65},null,{"$f":"SUM(H51,I51,L51)","v":116},{"$f":"IF(OR(A37=0,A37=\"\"),\"\",IF($L40=\"TC\",0,IF($L40=\"Nso\",0,VLOOKUP($A37,'Marks Entry'!$B$9:$FN$108,30,0))))","v":"C"}]
[null,"◘",{"$f":"'Marks Entry'!$AF$3","v":"ENGLISH"},null,{"$f":"IF(OR(A37=0,A37=\"\"),\"\",IF($L40=\"TC\",0,IF($L40=\"Nso\",0,VLOOKUP($A37,'Marks Entry'!$B$9:$FN$108,33,0))))","v":9},{"$f":"IF(OR(A37=0,A37=\"\"),\"\",IF($L40=\"TC\",0,IF($L40=\"Nso\",0,VLOOKUP($A37,'Marks Entry'!$B$9:$FN$108,36,0))))","v":9},{"$f":"IF(OR(A37=0,A37=\"\"),\"\",IF($L40=\"TC\",0,IF($L40=\"Nso\",0,VLOOKUP($A37,'Marks Entry'!$B$9:$FN$108,39,0))))","v":2},{"$f":"SUM(E52:G52)","v":20},{"$f":"IF(OR(A37=0,A37=\"\"),\"\",IF($L40=\"TC\",0,IF($L40=\"Nso\",0,VLOOKUP($A37,'Marks Entry'!$B$9:$FN$108,43,0))))","v":53},null,{"$f":"SUM(H52,I52)","v":73},{"$f":"IF(OR(A37=0,A37=\"\"),\"\",IF($L40=\"TC\",0,IF($L40=\"Nso\",0,VLOOKUP($A37,'Marks Entry'!$B$9:$FN$108,46,0))))","v":65},null,{"$f":"SUM(H52,I52,L52)","v":138},{"$f":"IF(OR(A37=0,A37=\"\"),\"\",IF($L40=\"TC\",0,IF($L40=\"Nso\",0,VLOOKUP($A37,'Marks Entry'!$B$9:$FN$108,50,0))))","v":"C"}]
[null,"◘",{"$f":"'Marks Entry'!$AZ$3","v":"SANSKRIT"},null,{"$f":"IF(OR(A37=0,A37=\"\"),\"\",IF($L40=\"TC\",0,IF($L40=\"Nso\",0,VLOOKUP($A37,'Marks Entry'!$B$9:$FN$108,53,0))))","v":5},{"$f":"IF(OR(A37=0,A37=\"\"),\"\",IF($L40=\"TC\",0,IF($L40=\"TC\",0,IF($L40=\"Nso\",0,VLOOKUP($A37,'Marks Entry'!$B$9:$FN$108,56,0)))))","v":8},{"$f":"IF(OR(A37=0,A37=\"\"),\"\",IF($L40=\"TC\",0,IF($L40=\"TC\",0,IF($L40=\"Nso\",0,VLOOKUP($A37,'Marks Entry'!$B$9:$FN$108,59,0)))))","v":2},15,{"$f":"IF(OR(A37=0,A37=\"\"),\"\",IF($L40=\"TC\",0,IF($L40=\"Nso\",0,VLOOKUP($A37,'Marks Entry'!$B$9:$FN$108,63,0))))","v":35},null,50,{"$f":"IF(OR(A37=0,A37=\"\"),\"\",IF($L40=\"TC\",0,IF($L40=\"Nso\",0,VLOOKUP($A37,'Marks Entry'!$B$9:$FN$108,66,0))))","v":60},null,110,{"$f":"IF(OR(A37=0,A37=\"\"),\"\",IF($L40=\"TC\",0,IF($L40=\"Nso\",0,VLOOKUP($A37,'Marks Entry'!$B$9:$FN$108,70,0))))","v":"C"}]
[null,"◘",{"$f":"'Marks Entry'!$BT$3","v":"SCIENCE"},null,{"$f":"IF(OR(A37=0,A37=\"\"),\"\",IF($L40=\"TC\",0,IF($L40=\"Nso\",0,VLOOKUP($A37,'Marks Entry'!$B$9:$FN$108,73,0))))","v":2},{"$f":"IF(OR(A37=0,A37=\"\"),\"\",IF($L40=\"TC\",0,IF($L40=\"Nso\",0,VLOOKUP($A37,'Marks Entry'!$B$9:$FN$108,76,0))))","v":2},{"$f":"IF(OR(A37=0,A37=\"\"),\"\",IF($L40=\"TC\",0,IF($L40=\"Nso\",0,VLOOKUP($A37,'Marks Entry'!$B$9:$FN$108,79,0))))","v":1},5,{"$f":"IF(OR(A37=0,A37=\"\"),\"\",IF($L40=\"TC\",0,IF($L40=\"Nso\",0,VLOOKUP($A37,'Marks Entry'!$B$9:$FN$108,83,0))))","v":30},null,35,{"$f":"IF(OR(A37=0,A37=\"\"),\"\",IF($L40=\"TC\",0,IF($L40=\"Nso\",0,VLOOKUP($A37,'Marks Entry'!$B$9:$FN$108,86,0))))","v":55},null,90,{"$f":"IF(OR(A37=0,A37=\"\"),\"\",IF($L40=\"TC\",0,IF($L40=\"Nso\",0,VLOOKUP($A37,'Marks Entry'!$B$9:$FN$108,90,0))))","v":"D"}]
[null,"◘",{"$f":"'Marks Entry'!$CN$3","v":"MATHEMATICS"},null,{"$f":"IF(OR(A37=0,A37=\"\"),\"\",IF($L40=\"TC\",0,IF($L40=\"Nso\",0,VLOOKUP($A37,'Marks Entry'!$B$9:$FN$108,93,0))))","v":2},{"$f":"IF(OR(A37=0,A37=\"\"),\"\",IF($L40=\"TC\",0,IF($L40=\"Nso\",0,VLOOKUP($A37,'Marks Entry'!$B$9:$FN$108,96,0))))","v":4},{"$f":"IF(OR(A37=0,A37=\"\"),\"\",IF($L40=\"TC\",0,IF($L40=\"Nso\",0,VLOOKUP($A37,'Marks Entry'!$B$9:$FN$108,99,0))))","v":2},8,{"$f":"IF(OR(A37=0,A37=\"\"),\"\",IF($L40=\"TC\",0,IF($L40=\"Nso\",0,VLOOKUP($A37,'Marks Entry'!$B$9:$FN$108,103,0))))","v":45},null,53,{"$f":"IF(OR(A37=0,A37=\"\"),\"\",IF($L40=\"TC\",0,IF($L40=\"Nso\",0,VLOOKUP($A37,'Marks Entry'!$B$9:$FN$108,106,0))))","v":50},null,103,{"$f":"IF(OR(A37=0,A37=\"\"),\"\",IF($L40=\"TC\",0,IF($L40=\"Nso\",0,VLOOKUP($A37,'Marks Entry'!$B$9:$FN$108,110,0))))","v":"C"}]
[null,"◘",{"$f":"'Marks Entry'!$DH$3","v":"SOCIAL SCIENCE"},null,{"$f":"IF(OR(A37=0,A37=\"\"),\"\",IF($L40=\"TC\",0,IF($L40=\"Nso\",0,VLOOKUP($A37,'Marks Entry'!$B$9:$FN$108,113,0))))","v":6},{"$f":"IF(OR(A37=0,A37=\"\"),\"\",IF($L40=\"TC\",0,IF($L40=\"Nso\",0,VLOOKUP($A37,'Marks Entry'!$B$9:$FN$108,116,0))))","v":6},{"$f":"IF(OR(A37=0,A37=\"\"),\"\",IF($L40=\"TC\",0,IF($L40=\"Nso\",0,VLOOKUP($A37,'Marks Entry'!$B$9:$FN$108,119,0))))","v":3},15,{"$f":"IF(OR(A37=0,A37=\"\"),\"\",IF($L40=\"TC\",0,IF($L40=\"Nso\",0,VLOOKUP($A37,'Marks Entry'!$B$9:$FN$108,123,0))))","v":45},null,60,{"$f":"IF(OR(A37=0,A37=\"\"),\"\",IF($L40=\"TC\",0,IF($L40=\"Nso\",0,VLOOKUP($A37,'Marks Entry'!$B$9:$FN$108,126,0))))","v":65},null,125,{"$f":"IF(OR(A37=0,A37=\"\"),\"\",IF($L40=\"TC\",0,IF($L40=\"Nso\",0,VLOOKUP($A37,'Marks Entry'!$B$9:$FN$108,130,0))))","v":"C"}]
[null,"◘","Overall Result",null,null,"Total Max. Marks",null,"Total Obtained Marks",null,"Percentage",null,"Overall Div.","Overall Grade","Result","Position in Class"]
[null,"◘",{"$nulls":3},{"$f":"IF(OR(A37=0,A37=\"\"),\"\",IF($L40=\"TC\",0,IF($L40=\"Nso\",0,VLOOKUP($A37,'Marks Entry'!$B$9:$FN$108,161,0))))","v":1200},null,{"$f":"IF(OR(A37=0,A37=\"\"),\"\",IF($L40=\"TC\",0,IF($L40=\"Nso\",0,VLOOKUP($A37,'Marks Entry'!$B$9:$FN$108,162,0))))","v":682},null,{"$f":"IF(OR(A37=0,A37=\"\"),\"\",IF($L40=\"TC\",0,IF($L40=\"Nso\",0,VLOOKUP($A37,'Marks Entry'!$B$9:$FN$108,163,0))))","v":{"v":56.833333333333336,"d":"56.83"}},null,{"$f":"IF(OR(A37=0,A37=\"\"),\"\",IF($L40=\"TC\",0,IF($L40=\"Nso\",0,VLOOKUP($A37,'Marks Entry'!$B$9:$FN$108,164,0))))","v":"Second"},{"$f":"IF(OR(A37=0,A37=\"\"),\"\",IF($L40=\"TC\",0,IF($L40=\"Nso\",0,VLOOKUP($A37,'Marks Entry'!$B$9:$FN$108,165,0))))","v":"C"},{"$f":"IF(OR(A37=0,A37=\"\"),\"\",IF($L40=\"TC\",\"TC\",IF($L40=\"Nso\",\"NSO\",VLOOKUP($A37,'Marks Entry'!$B$9:$FN$108,166,0))))","v":"PASSED"},{"$f":"IF(OR(A37=0,A37=\"\"),\"\",IF($L40=\"Nso\",0,VLOOKUP($A37,'Marks Entry'!$B$9:$FN$108,168,0)))","v":1.9999999999999991}]
[null,"◘","Extra Subjects",{"$nulls":6},"Total Meetings :-",null,null,{"$f":"IF(OR(A37=0,A37=\"\"),\"\",IF($L40=\"TC\",0,IF($L40=\"Nso\",0,VLOOKUP($A37,'Marks Entry'!$B$9:$FN$108,158,0))))","v":0},"Attendance Percentage"]
[null,"◘","Subject",null,null,"Obtained/Total Marks",null,null,"GRADE","Student's Meetings :-",null,null,{"$f":"IF(OR(A37=0,A37=\"\"),\"\",IF($L40=\"TC\",0,IF($L40=\"Nso\",0,VLOOKUP($A37,'Marks Entry'!$B$9:$FN$108,159,0))))","v":0},{"$f":"IF(OR(A37=0,A37=\"\"),\"\",IF($L40=\"TC\",0,IF($L40=\"Nso\",0,VLOOKUP($A37,'Marks Entry'!$B$9:$FN$108,160,0))))","v":""}]
[null,"◘",{"$nulls":6},"A/B/C/D","Remark :-",null,null,{"$f":"IF(OR(A37=0,A37=\"\"),\"\",IF($L40=\"TC\",0,IF($L40=\"Nso\",0,VLOOKUP($A37,'Marks Entry'!$B$9:$FN$108,169,0))))","v":"Good"}]
[null,"◘",{"$f":"'Marks Entry'!$EB$3","v":"Work Exp."},null,null,{"$f":"IF(OR(A37=0,A37=\"\"),\"\",IF($L40=\"TC\",0,IF($L40=\"Nso\",0,VLOOKUP($A37,'Marks Entry'!$B$9:$GM$108,186,0))))","v":"50/100"},null,null,{"$f":"IF(OR(A37=0,A37=\"\"),\"\",IF($L40=\"TC\",0,IF($L40=\"Nso\",0,VLOOKUP($A37,'Marks Entry'!$B$9:$GM$108,139,0))))","v":"D"},"Result Date :-",null,null,{"$f":"IF(OR(A37=0,A37=\"\"),\"\",'Marks Entry'!$AA$2)","v":"2024-05-07"}]
[null,"◘",{"$f":"'Marks Entry'!$EK$3","v":"Art Edu."},null,null,{"$f":"IF(OR(A37=0,A37=\"\"),\"\",IF($L40=\"TC\",0,IF($L40=\"Nso\",0,VLOOKUP($A37,'Marks Entry'!$B$9:$GM$108,190,0))))","v":"80/100"},null,null,{"$f":"IF(OR(A37=0,A37=\"\"),\"\",IF($L40=\"TC\",0,IF($L40=\"Nso\",0,VLOOKUP($A37,'Marks Entry'!$B$9:$GM$108,148,0))))","v":"B"}]
[null,"◘",{"$f":"'Marks Entry'!$ET$3","v":"HEALTH & PHY. EDU."},null,null,{"$f":"IF(OR(A37=0,A37=\"\"),\"\",IF($L40=\"TC\",0,IF($L40=\"Nso\",0,VLOOKUP($A37,'Marks Entry'!$B$9:$GM$108,194,0))))","v":"75/100"},null,null,{"$f":"IF(OR(A37=0,A37=\"\"),\"\",IF($L40=\"TC\",0,IF($L40=\"Nso\",0,VLOOKUP($A37,'Marks Entry'!$B$9:$GM$108,157,0))))","v":"B"},"Signature Of The Class Teacher"]
[null,"◘","Grading System"]
[null,"◘","Grade","% Range",null,"Description",{"$nulls":3},"Signature And Seal Of Principal/H.M."]
[null,"◘","A","86-100",null,"Excellent"]
[null,"◘","B","71-85",null,"Very Good"]
[null,"◘","C","51-70",null,"Good",{"$nulls":3},"Wish bright future"]
[null,"◘","D","31-50",null,"Average"]
[null,"◘","E","0-30",null,"Need Improvement"]
[]
[{"$f":"IF(A37=0,0,A37+1)","v":3},"Department Of Education, Rajasthan"]
[null,108,{"$f":"logo","v":{"$error":"#REF!"}},{"$f":"Master!$E$8","v":"Govt. Sr. Secondary School "}]
[{"$nulls":3},{"$f":"Master!$E$11","v":"P.S.-Bapini (Jodhpur)"}]
[null,null,"Final Report Card",{"$nulls":5},"Roll No.:-",null,null,{"$f":"IF(OR(A73=0,A73=\"\"),0,VLOOKUP(A73,'Marks Entry'!$B$9:$G$108,6))","v":903},{"$f":"CONCATENATE('Marks Entry'!$C$3,\"0\",'Marks Entry'!$G$3)","v":"School U-Dise Code :-08151106901"}]
[{"$nulls":12},{"$f":"CONCATENATE('Marks Entry'!$I$3,'Marks Entry'!$J$3)","v":"Session :-2024-25"}]
[]
[null,"◘","Scholar Number",{"$nulls":4},"●→",{"$f":"IF(OR(A73=0,A73=\"\"),\"\",VLOOKUP($A73,'Marks Entry'!$B$9:$FN$108,4,0))","v":1458}]
[null,"◘","Student's Name",{"$nulls":4},"●→",{"$f":"IF(OR(A73=0,A73=\"\"),\"\",VLOOKUP($A73,'Marks Entry'!$B$9:$FN$108,7,0))","v":"ANITA "}]
[null,"◘","Father's Name",{"$nulls":4},"●→",{"$f":"IF(OR(A73=0,A73=\"\"),\"\",VLOOKUP($A73,'Marks Entry'!$B$9:$FN$108,8,0))","v":"DUDA RAM "}]
[null,"◘","Mother's Name ",{"$nulls":4},"●→",{"$f":"IF(OR(A73=0,A73=\"\"),\"\",VLOOKUP($A73,'Marks Entry'!$B$9:$FN$108,9,0))","v":"SUKHI"}]
[null,"◘","Class & Section",{"$nulls":4},"●→",{"$f":"IF(OR(A73=0,A73=\"\"),\"\",CONCATENATE('Marks Entry'!$G$4,'Marks Entry'!$J$4))","v":"6(A)"}]
[null,"◘","Date Of Birth",{"$nulls":4},"●→",{"$f":"IF(OR(A73=0,A73=\"\"),\"\",VLOOKUP($A73,'Marks Entry'!$B$9:$FN$108,10,0))","v":"2006-06-25"}]
[null,"◘","Subject",null,"First Test","Second Test",{"$f":"'Marks Entry'!$R$5","v":"No Bag Day Activity"},"Total","Half Yearly",null,"Total (Test+H.Y.)","Yearly Exam",null,"Grand Total","Subject Div Or Description"]
[null,"◘","Max. Marks",null,{"$f":"'Marks Entry'!$N$7","v":10},{"$f":"'Marks Entry'!$Q$7","v":10},{"$f":"'Marks Entry'!$T$7","v":10},{"$f":"SUM(E86:G86)","v":30},{"$f":"'Marks Entry'!$X$7","v":70},null,{"$f":"SUM(H86,I86)","v":100},{"$f":"'Marks Entry'!$AA$7","v":100},null,{"$f":"H86+I86+L86","v":200}]
[null,"◘",{"$f":"'Marks Entry'!$L$3","v":"HINDI"},null,{"$f":"IF(OR(A73=0,A73=\"\"),\"\",IF($L76=\"TC\",0,IF($L76=\"Nso\",0,VLOOKUP($A73,'Marks Entry'!$B$9:$FN$108,13,0))))","v":7},{"$f":"IF(OR(A73=0,A73=\"\"),\"\",IF($L76=\"TC\",0,IF($L76=\"Nso\",0,VLOOKUP($A73,'Marks Entry'!$B$9:$FN$108,16,0))))","v":7},{"$f":"IF(OR(A73=0,A73=\"\"),\"\",IF($L76=\"TC\",0,IF($L76=\"Nso\",0,VLOOKUP($A73,'Marks Entry'!$B$9:$FN$108,19,0))))","v":5},{"$f":"SUM(E87:G87)","v":19},{"$f":"IF(OR(A73=0,A73=\"\"),\"\",IF($L76=\"TC\",0,IF($L76=\"Nso\",0,VLOOKUP($A73,'Marks Entry'!$B$9:$FN$108,23,0))))","v":27},null,{"$f":"SUM(H87,I87)","v":46},{"$f":"IF(OR(A73=0,A73=\"\"),\"\",IF($L76=\"TC\",0,IF($L76=\"Nso\",0,VLOOKUP($A73,'Marks Entry'!$B$9:$FN$108,26,0))))","v":27},null,{"$f":"SUM(H87,I87,L87)","v":73},{"$f":"IF(OR(A73=0,A73=\"\"),\"\",IF($L76=\"TC\",0,IF($L76=\"Nso\",0,VLOOKUP($A73,'Marks Entry'!$B$9:$FN$108,30,0))))","v":"D"}]
[null,"◘",{"$f":"'Marks Entry'!$AF$3","v":"ENGLISH"},null,{"$f":"IF(OR(A73=0,A73=\"\"),\"\",IF($L76=\"TC\",0,IF($L76=\"Nso\",0,VLOOKUP($A73,'Marks Entry'!$B$9:$FN$108,33,0))))","v":7},{"$f":"IF(OR(A73=0,A73=\"\"),\"\",IF($L76=\"TC\",0,IF($L76=\"Nso\",0,VLOOKUP($A73,'Marks Entry'!$B$9:$FN$108,36,0))))","v":7},{"$f":"IF(OR(A73=0,A73=\"\"),\"\",IF($L76=\"TC\",0,IF($L76=\"Nso\",0,VLOOKUP($A73,'Marks Entry'!$B$9:$FN$108,39,0))))","v":5},{"$f":"SUM(E88:G88)","v":19},{"$f":"IF(OR(A73=0,A73=\"\"),\"\",IF($L76=\"TC\",0,IF($L76=\"Nso\",0,VLOOKUP($A73,'Marks Entry'!$B$9:$FN$108,43,0))))","v":35},null,{"$f":"SUM(H88,I88)","v":54},{"$f":"IF(OR(A73=0,A73=\"\"),\"\",IF($L76=\"TC\",0,IF($L76=\"Nso\",0,VLOOKUP($A73,'Marks Entry'!$B$9:$FN$108,46,0))))","v":35},null,{"$f":"SUM(H88,I88,L88)","v":89},{"$f":"IF(OR(A73=0,A73=\"\"),\"\",IF($L76=\"TC\",0,IF($L76=\"Nso\",0,VLOOKUP($A73,'Marks Entry'!$B$9:$FN$108,50,0))))","v":"D"}]
[null,"◘",{"$f":"'Marks Entry'!$AZ$3","v":"SANSKRIT"},null,{"$f":"IF(OR(A73=0,A73=\"\"),\"\",IF($L76=\"TC\",0,IF($L76=\"Nso\",0,VLOOKUP($A73,'Marks Entry'!$B$9:$FN$108,53,0))))","v":7},{"$f":"IF(OR(A73=0,A73=\"\"),\"\",IF($L76=\"TC\",0,IF($L76=\"TC\",0,IF($L76=\"Nso\",0,VLOOKUP($A73,'Marks Entry'!$B$9:$FN$108,56,0)))))","v":7},{"$f":"IF(OR(A73=0,A73=\"\"),\"\",IF($L76=\"TC\",0,IF($L76=\"TC\",0,IF($L76=\"Nso\",0,VLOOKUP($A73,'Marks Entry'!$B$9:$FN$108,59,0)))))","v":5},19,{"$f":"IF(OR(A73=0,A73=\"\"),\"\",IF($L76=\"TC\",0,IF($L76=\"Nso\",0,VLOOKUP($A73,'Marks Entry'!$B$9:$FN$108,63,0))))","v":35},null,54,{"$f":"IF(OR(A73=0,A73=\"\"),\"\",IF($L76=\"TC\",0,IF($L76=\"Nso\",0,VLOOKUP($A73,'Marks Entry'!$B$9:$FN$108,66,0))))","v":35},null,89,{"$f":"IF(OR(A73=0,A73=\"\"),\"\",IF($L76=\"TC\",0,IF($L76=\"Nso\",0,VLOOKUP($A73,'Marks Entry'!$B$9:$FN$108,70,0))))","v":"D"}]
[null,"◘",{"$f":"'Marks Entry'!$BT$3","v":"SCIENCE"},null,{"$f":"IF(OR(A73=0,A73=\"\"),\"\",IF($L76=\"TC\",0,IF($L76=\"Nso\",0,VLOOKUP($A73,'Marks Entry'!$B$9:$FN$108,73,0))))","v":7},{"$f":"IF(OR(A73=0,A73=\"\"),\"\",IF($L76=\"TC\",0,IF($L76=\"Nso\",0,VLOOKUP($A73,'Marks Entry'!$B$9:$FN$108,76,0))))","v":7},{"$f":"IF(OR(A73=0,A73=\"\"),\"\",IF($L76=\"TC\",0,IF($L76=\"Nso\",0,VLOOKUP($A73,'Marks Entry'!$B$9:$FN$108,79,0))))","v":5},19,{"$f":"IF(OR(A73=0,A73=\"\"),\"\",IF($L76=\"TC\",0,IF($L76=\"Nso\",0,VLOOKUP($A73,'Marks Entry'!$B$9:$FN$108,83,0))))","v":35},null,54,{"$f":"IF(OR(A73=0,A73=\"\"),\"\",IF($L76=\"TC\",0,IF($L76=\"Nso\",0,VLOOKUP($A73,'Marks Entry'!$B$9:$FN$108,86,0))))","v":35},null,89,{"$f":"IF(OR(A73=0,A73=\"\"),\"\",IF($L76=\"TC\",0,IF($L76=\"Nso\",0,VLOOKUP($A73,'Marks Entry'!$B$9:$FN$108,90,0))))","v":"D"}]
[null,"◘",{"$f":"'Marks Entry'!$CN$3","v":"MATHEMATICS"},null,{"$f":"IF(OR(A73=0,A73=\"\"),\"\",IF($L76=\"TC\",0,IF($L76=\"Nso\",0,VLOOKUP($A73,'Marks Entry'!$B$9:$FN$108,93,0))))","v":7},{"$f":"IF(OR(A73=0,A73=\"\"),\"\",IF($L76=\"TC\",0,IF($L76=\"Nso\",0,VLOOKUP($A73,'Marks Entry'!$B$9:$FN$108,96,0))))","v":7},{"$f":"IF(OR(A73=0,A73=\"\"),\"\",IF($L76=\"TC\",0,IF($L76=\"Nso\",0,VLOOKUP($A73,'Marks Entry'!$B$9:$FN$108,99,0))))","v":5},19,{"$f":"IF(OR(A73=0,A73=\"\"),\"\",IF($L76=\"TC\",0,IF($L76=\"Nso\",0,VLOOKUP($A73,'Marks Entry'!$B$9:$FN$108,103,0))))","v":35},null,54,{"$f":"IF(OR(A73=0,A73=\"\"),\"\",IF($L76=\"TC\",0,IF($L76=\"Nso\",0,VLOOKUP($A73,'Marks Entry'!$B$9:$FN$108,106,0))))","v":35},null,89,{"$f":"IF(OR(A73=0,A73=\"\"),\"\",IF($L76=\"TC\",0,IF($L76=\"Nso\",0,VLOOKUP($A73,'Marks Entry'!$B$9:$FN$108,110,0))))","v":"D"}]
[null,"◘",{"$f":"'Marks Entry'!$DH$3","v":"SOCIAL SCIENCE"},null,{"$f":"IF(OR(A73=0,A73=\"\"),\"\",IF($L76=\"TC\",0,IF($L76=\"Nso\",0,VLOOKUP($A73,'Marks Entry'!$B$9:$FN$108,113,0))))","v":7},{"$f":"IF(OR(A73=0,A73=\"\"),\"\",IF($L76=\"TC\",0,IF($L76=\"Nso\",0,VLOOKUP($A73,'Marks Entry'!$B$9:$FN$108,116,0))))","v":7},{"$f":"IF(OR(A73=0,A73=\"\"),\"\",IF($L76=\"TC\",0,IF($L76=\"Nso\",0,VLOOKUP($A73,'Marks Entry'!$B$9:$FN$108,119,0))))","v":5},19,{"$f":"IF(OR(A73=0,A73=\"\"),\"\",IF($L76=\"TC\",0,IF($L76=\"Nso\",0,VLOOKUP($A73,'Marks Entry'!$B$9:$FN$108,123,0))))","v":35},null,54,{"$f":"IF(OR(A73=0,A73=\"\"),\"\",IF($L76=\"TC\",0,IF($L76=\"Nso\",0,VLOOKUP($A73,'Marks Entry'!$B$9:$FN$108,126,0))))","v":35},null,89,{"$f":"IF(OR(A73=0,A73=\"\"),\"\",IF($L76=\"TC\",0,IF($L76=\"Nso\",0,VLOOKUP($A73,'Marks Entry'!$B$9:$FN$108,130,0))))","v":"D"}]
[null,"◘","Overall Result",null,null,"Total Max. Marks",null,"Total Obtained Marks",null,"Percentage",null,"Overall Div.","Overall Grade","Result","Position in Class"]
[null,"◘",{"$nulls":3},{"$f":"IF(OR(A73=0,A73=\"\"),\"\",IF($L76=\"TC\",0,IF($L76=\"Nso\",0,VLOOKUP($A73,'Marks Entry'!$B$9:$FN$108,161,0))))","v":1200},null,{"$f":"IF(OR(A73=0,A73=\"\"),\"\",IF($L76=\"TC\",0,IF($L76=\"Nso\",0,VLOOKUP($A73,'Marks Entry'!$B$9:$FN$108,162,0))))","v":518},null,{"$f":"IF(OR(A73=0,A73=\"\"),\"\",IF($L76=\"TC\",0,IF($L76=\"Nso\",0,VLOOKUP($A73,'Marks Entry'!$B$9:$FN$108,163,0))))","v":{"v":43.166666666666664,"d":"43.17"}},null,{"$f":"IF(OR(A73=0,A73=\"\"),\"\",IF($L76=\"TC\",0,IF($L76=\"Nso\",0,VLOOKUP($A73,'Marks Entry'!$B$9:$FN$108,164,0))))","v":"Third"},{"$f":"IF(OR(A73=0,A73=\"\"),\"\",IF($L76=\"TC\",0,IF($L76=\"Nso\",0,VLOOKUP($A73,'Marks Entry'!$B$9:$FN$108,165,0))))","v":"D"},{"$f":"IF(OR(A73=0,A73=\"\"),\"\",IF($L76=\"TC\",\"TC\",IF($L76=\"Nso\",\"NSO\",VLOOKUP($A73,'Marks Entry'!$B$9:$FN$108,166,0))))","v":"PASSED"},{"$f":"IF(OR(A73=0,A73=\"\"),\"\",IF($L76=\"Nso\",0,VLOOKUP($A73,'Marks Entry'!$B$9:$FN$108,168,0)))","v":5.999999999999999}]
[null,"◘","Extra Subjects",{"$nulls":6},"Total Meetings :-",null,null,{"$f":"IF(OR(A73=0,A73=\"\"),\"\",IF($L76=\"TC\",0,IF($L76=\"Nso\",0,VLOOKUP($A73,'Marks Entry'!$B$9:$FN$108,158,0))))","v":0},"Attendance Percentage"]
[null,"◘","Subject",null,null,"Obtained/Total Marks",null,null,"GRADE","Student's Meetings :-",null,null,{"$f":"IF(OR(A73=0,A73=\"\"),\"\",IF($L76=\"TC\",0,IF($L76=\"Nso\",0,VLOOKUP($A73,'Marks Entry'!$B$9:$FN$108,159,0))))","v":0},{"$f":"IF(OR(A73=0,A73=\"\"),\"\",IF($L76=\"TC\",0,IF($L76=\"Nso\",0,VLOOKUP($A73,'Marks Entry'!$B$9:$FN$108,160,0))))","v":""}]
[null,"◘",{"$nulls":6},"A/B/C/D","Remark :-",null,null,{"$f":"IF(OR(A73=0,A73=\"\"),\"\",IF($L76=\"TC\",0,IF($L76=\"Nso\",0,VLOOKUP($A73,'Marks Entry'!$B$9:$FN$108,169,0))))","v":"Average"}]
[null,"◘",{"$f":"'Marks Entry'!$EB$3","v":"Work Exp."},null,null,{"$f":"IF(OR(A73=0,A73=\"\"),\"\",IF($L76=\"TC\",0,IF($L76=\"Nso\",0,VLOOKUP($A73,'Marks Entry'!$B$9:$GM$108,186,0))))","v":"71/100"},null,null,{"$f":"IF(OR(A73=0,A73=\"\"),\"\",IF($L76=\"TC\",0,IF($L76=\"Nso\",0,VLOOKUP($A73,'Marks Entry'!$B$9:$GM$108,139,0))))","v":"B"},"Result Date :-",null,null,{"$f":"IF(OR(A73=0,A73=\"\"),\"\",'Marks Entry'!$AA$2)","v":"2024-05-07"}]
[null,"◘",{"$f":"'Marks Entry'!$EK$3","v":"Art Edu."},null,null,{"$f":"IF(OR(A73=0,A73=\"\"),\"\",IF($L76=\"TC\",0,IF($L76=\"Nso\",0,VLOOKUP($A73,'Marks Entry'!$B$9:$GM$108,190,0))))","v":"71/100"},null,null,{"$f":"IF(OR(A73=0,A73=\"\"),\"\",IF($L76=\"TC\",0,IF($L76=\"Nso\",0,VLOOKUP($A73,'Marks Entry'!$B$9:$GM$108,148,0))))","v":"B"}]
[null,"◘",{"$f":"'Marks Entry'!$ET$3","v":"HEALTH & PHY. EDU."},null,null,{"$f":"IF(OR(A73=0,A73=\"\"),\"\",IF($L76=\"TC\",0,IF($L76=\"Nso\",0,VLOOKUP($A73,'Marks Entry'!$B$9:$GM$108,194,0))))","v":"71/100"},null,null,{"$f":"IF(OR(A73=0,A73=\"\"),\"\",IF($L76=\"TC\",0,IF($L76=\"Nso\",0,VLOOKUP($A73,'Marks Entry'!$B$9:$GM$108,157,0))))","v":"B"},"Signature Of The Class Teacher"]
[null,"◘","Grading System"]
[null,"◘","Grade","% Range",null,"Description",{"$nulls":3},"Signature And Seal Of Principal/H.M."]
[null,"◘","A","86-100",null,"Excellent"]
[null,"◘","B","71-85",null,"Very Good"]
[null,"◘","C","51-70",null,"Good",{"$nulls":3},"Wish bright future"]
[null,"◘","D","31-50",null,"Average"]
[null,"◘","E","0-30",null,"Need Improvement"]
[]
[{"$f":"IF(A73=0,0,A73+1)","v":4},"Department Of Education, Rajasthan"]
[null,108,{"$f":"logo","v":{"$error":"#REF!"}},{"$f":"Master!$E$8","v":"Govt. Sr. Secondary School "}]
[{"$nulls":3},{"$f":"Master!$E$11","v":"P.S.-Bapini (Jodhpur)"}]
[null,null,"Final Report Card",{"$nulls":5},"Roll No.:-",null,null,{"$f":"IF(OR(A109=0,A109=\"\"),0,VLOOKUP(A109,'Marks Entry'!$B$9:$G$108,6))","v":904},{"$f":"CONCATENATE('Marks Entry'!$C$3,\"0\",'Marks Entry'!$G$3)","v":"School U-Dise Code :-08151106901"}]
[{"$nulls":12},{"$f":"CONCATENATE('Marks Entry'!$I$3,'Marks Entry'!$J$3)","v":"Session :-2024-25"}]
[]
[null,"◘","Scholar Number",{"$nulls":4},"●→",{"$f":"IF(OR(A109=0,A109=\"\"),\"\",VLOOKUP($A109,'Marks Entry'!$B$9:$FN$108,4,0))","v":1470}]
[null,"◘","Student's Name",{"$nulls":4},"●→",{"$f":"IF(OR(A109=0,A109=\"\"),\"\",VLOOKUP($A109,'Marks Entry'!$B$9:$FN$108,7,0))","v":"ANOPI"}]
[null,"◘","Father's Name",{"$nulls":4},"●→",{"$f":"IF(OR(A109=0,A109=\"\"),\"\",VLOOKUP($A109,'Marks Entry'!$B$9:$FN$108,8,0))","v":"HARI RAM"}]
[null,"◘","Mother's Name ",{"$nulls":4},"●→",{"$f":"IF(OR(A109=0,A109=\"\"),\"\",VLOOKUP($A109,'Marks Entry'!$B$9:$FN$108,9,0))","v":"RUKI"}]
[null,"◘","Class & Section",{"$nulls":4},"●→",{"$f":"IF(OR(A109=0,A109=\"\"),\"\",CONCATENATE('Marks Entry'!$G$4,'Marks Entry'!$J$4))","v":"6(A)"}]
[null,"◘","Date Of Birth",{"$nulls":4},"●→",{"$f":"IF(OR(A109=0,A109=\"\"),\"\",VLOOKUP($A109,'Marks Entry'!$B$9:$FN$108,10,0))","v":"2007-08-15"}]
[null,"◘","Subject",null,"First Test","Second Test",{"$f":"'Marks Entry'!$R$5","v":"No Bag Day Activity"},"Total","Half Yearly",null,"Total (Test+H.Y.)","Yearly Exam",null,"Grand Total","Subject Div Or Description"]
[null,"◘","Max. Marks",null,{"$f":"'Marks Entry'!$N$7","v":10},{"$f":"'Marks Entry'!$Q$7","v":10},{"$f":"'Marks Entry'!$T$7","v":10},{"$f":"SUM(E122:G122)","v":30},{"$f":"'Marks Entry'!$X$7","v":70},null,{"$f":"SUM(H122,I122)","v":100},{"$f":"'Marks Entry'!$AA$7","v":100},null,{"$f":"H122+I122+L122","v":200}]
[null,"◘",{"$f":"'Marks Entry'!$L$3","v":"HINDI"},null,{"$f":"IF(OR(A109=0,A109=\"\"),\"\",IF($L112=\"TC\",0,IF($L112=\"Nso\",0,VLOOKUP($A109,'Marks Entry'!$B$9:$FN$108,13,0))))","v":7},{"$f":"IF(OR(A109=0,A109=\"\"),\"\",IF($L112=\"TC\",0,IF($L112=\"Nso\",0,VLOOKUP($A109,'Marks Entry'!$B$9:$FN$108,16,0))))","v":7},{"$f":"IF(OR(A109=0,A109=\"\"),\"\",IF($L112=\"TC\",0,IF($L112=\"Nso\",0,VLOOKUP($A109,'Marks Entry'!$B$9:$FN$108,19,0))))","v":3},{"$f":"SUM(E123:G123)","v":17},{"$f":"IF(OR(A109=0,A109=\"\"),\"\",IF($L112=\"TC\",0,IF($L112=\"Nso\",0,VLOOKUP($A109,'Marks Entry'!$B$9:$FN$108,23,0))))","v":38},null,{"$f":"SUM(H123,I123)","v":55},{"$f":"IF(OR(A109=0,A109=\"\"),\"\",IF($L112=\"TC\",0,IF($L112=\"Nso\",0,VLOOKUP($A109,'Marks Entry'!$B$9:$FN$108,26,0))))","v":38},null,{"$f":"SUM(H123,I123,L123)","v":93},{"$f":"IF(OR(A109=0,A109=\"\"),\"\",IF($L112=\"TC\",0,IF($L112=\"Nso\",0,VLOOKUP($A109,'Marks Entry'!$B$9:$FN$108,30,0))))","v":"D"}]
[null,"◘",{"$f":"'Marks Entry'!$AF$3","v":"ENGLISH"},null,{"$f":"IF(OR(A109=0,A109=\"\"),\"\",IF($L112=\"TC\",0,IF($L112=\"Nso\",0,VLOOKUP($A109,'Marks Entry'!$B$9:$FN$108,33,0))))","v":7},{"$f":"IF(OR(A109=0,A109=\"\"),\"\",IF($L112=\"TC\",0,IF($L112=\"Nso\",0,VLOOKUP($A109,'Marks Entry'!$B$9:$FN$108,36,0))))","v":7},{"$f":"IF(OR(A109=0,A109=\"\"),\"\",IF($L112=\"TC\",0,IF($L112=\"Nso\",0,VLOOKUP($A109,'Marks Entry'!$B$9:$FN$108,39,0))))","v":3},{"$f":"SUM(E124:G124)","v":17},{"$f":"IF(OR(A109=0,A109=\"\"),\"\",IF($L112=\"TC\",0,IF($L112=\"Nso\",0,VLOOKUP($A109,'Marks Entry'!$B$9:$FN$108,43,0))))","v":35},null,{"$f":"SUM(H124,I124)","v":52},{"$f":"IF(OR(A109=0,A109=\"\"),\"\",IF($L112=\"TC\",0,IF($L112=\"Nso\",0,VLOOKUP($A109,'Marks Entry'!$B$9:$FN$108,46,0))))","v":35},null,{"$f":"SUM(H124,I124,L124)","v":87},{"$f":"IF(OR(A109=0,A109=\"\"),\"\",IF($L112=\"TC\",0,IF($L112=\"Nso\",0,VLOOKUP($A109,'Marks Entry'!$B$9:$FN$108,50,0))))","v":"D"}]
[null,"◘",{"$f":"'Marks Entry'!$AZ$3","v":"SANSKRIT"},null,{"$f":"IF(OR(A109=0,A109=\"\"),\"\",IF($L112=\"TC\",0,IF($L112=\"Nso\",0,VLOOKUP($A109,'Marks Entry'!$B$9:$FN$108,53,0))))","v":7},{"$f":"IF(OR(A109=0,A109=\"\"),\"\",IF($L112=\"TC\",0,IF($L112=\"TC\",0,IF($L112=\"Nso\",0,VLOOKUP($A109,'Marks Entry'!$B$9:$FN$108,56,0)))))","v":7},{"$f":"IF(OR(A109=0,A109=\"\"),\"\",IF($L112=\"TC\",0,IF($L112=\"TC\",0,IF($L112=\"Nso\",0,VLOOKUP($A109,'Marks Entry'!$B$9:$FN$108,59,0)))))","v":3},17,{"$f":"IF(OR(A109=0,A109=\"\"),\"\",IF($L112=\"TC\",0,IF($L112=\"Nso\",0,VLOOKUP($A109,'Marks Entry'!$B$9:$FN$108,63,0))))","v":35},null,52,{"$f":"IF(OR(A109=0,A109=\"\"),\"\",IF($L112=\"TC\",0,IF($L112=\"Nso\",0,VLOOKUP($A109,'Marks Entry'!$B$9:$FN$108,66,0))))","v":35},null,87,{"$f":"IF(OR(A109=0,A109=\"\"),\"\",IF($L112=\"TC\",0,IF($L112=\"Nso\",0,VLOOKUP($A109,'Marks Entry'!$B$9:$FN$108,70,0))))","v":"D"}]
[null,"◘",{"$f":"'Marks Entry'!$BT$3","v":"SCIENCE"},null,{"$f":"IF(OR(A109=0,A109=\"\"),\"\",IF($L112=\"TC\",0,IF($L112=\"Nso\",0,VLOOKUP($A109,'Marks Entry'!$B$9:$FN$108,73,0))))","v":7},{"$f":"IF(OR(A109=0,A109=\"\"),\"\",IF($L112=\"TC\",0,IF($L112=\"Nso\",0,VLOOKUP($A109,'Marks Entry'!$B$9:$FN$108,76,0))))","v":7},{"$f":"IF(OR(A109=0,A109=\"\"),\"\",IF($L112=\"TC\",0,IF($L112=\"Nso\",0,VLOOKUP($A109,'Marks Entry'!$B$9:$FN$108,79,0))))","v":3},17,{"$f":"IF(OR(A109=0,A109=\"\"),\"\",IF($L112=\"TC\",0,IF($L112=\"Nso\",0,VLOOKUP($A109,'Marks Entry'!$B$9:$FN$108,83,0))))","v":35},null,52,{"$f":"IF(OR(A109=0,A109=\"\"),\"\",IF($L112=\"TC\",0,IF($L112=\"Nso\",0,VLOOKUP($A109,'Marks Entry'!$B$9:$FN$108,86,0))))","v":35},null,87,{"$f":"IF(OR(A109=0,A109=\"\"),\"\",IF($L112=\"TC\",0,IF($L112=\"Nso\",0,VLOOKUP($A109,'Marks Entry'!$B$9:$FN$108,90,0))))","v":"D"}]
[null,"◘",{"$f":"'Marks Entry'!$CN$3","v":"MATHEMATICS"},null,{"$f":"IF(OR(A109=0,A109=\"\"),\"\",IF($L112=\"TC\",0,IF($L112=\"Nso\",0,VLOOKUP($A109,'Marks Entry'!$B$9:$FN$108,93,0))))","v":7},{"$f":"IF(OR(A109=0,A109=\"\"),\"\",IF($L112=\"TC\",0,IF($L112=\"Nso\",0,VLOOKUP($A109,'Marks Entry'!$B$9:$FN$108,96,0))))","v":7},{"$f":"IF(OR(A109=0,A109=\"\"),\"\",IF($L112=\"TC\",0,IF($L112=\"Nso\",0,VLOOKUP($A109,'Marks Entry'!$B$9:$FN$108,99,0))))","v":3},17,{"$f":"IF(OR(A109=0,A109=\"\"),\"\",IF($L112=\"TC\",0,IF($L112=\"Nso\",0,VLOOKUP($A109,'Marks Entry'!$B$9:$FN$108,103,0))))","v":35},null,52,{"$f":"IF(OR(A109=0,A109=\"\"),\"\",IF($L112=\"TC\",0,IF($L112=\"Nso\",0,VLOOKUP($A109,'Marks Entry'!$B$9:$FN$108,106,0))))","v":35},null,87,{"$f":"IF(OR(A109=0,A109=\"\"),\"\",IF($L112=\"TC\",0,IF($L112=\"Nso\",0,VLOOKUP($A109,'Marks Entry'!$B$9:$FN$108,110,0))))","v":"D"}]
[null,"◘",{"$f":"'Marks Entry'!$DH$3","v":"SOCIAL SCIENCE"},null,{"$f":"IF(OR(A109=0,A109=\"\"),\"\",IF($L112=\"TC\",0,IF($L112=\"Nso\",0,VLOOKUP($A109,'Marks Entry'!$B$9:$FN$108,113,0))))","v":7},{"$f":"IF(OR(A109=0,A109=\"\"),\"\",IF($L112=\"TC\",0,IF($L112=\"Nso\",0,VLOOKUP($A109,'Marks Entry'!$B$9:$FN$108,116,0))))","v":7},{"$f":"IF(OR(A109=0,A109=\"\"),\"\",IF($L112=\"TC\",0,IF($L112=\"Nso\",0,VLOOKUP($A109,'Marks Entry'!$B$9:$FN$108,119,0))))","v":3},17,{"$f":"IF(OR(A109=0,A109=\"\"),\"\",IF($L112=\"TC\",0,IF($L112=\"Nso\",0,VLOOKUP($A109,'Marks Entry'!$B$9:$FN$108,123,0))))","v":35},null,52,{"$f":"IF(OR(A109=0,A109=\"\"),\"\",IF($L112=\"TC\",0,IF($L112=\"Nso\",0,VLOOKUP($A109,'Marks Entry'!$B$9:$FN$108,126,0))))","v":35},null,87,{"$f":"IF(OR(A109=0,A109=\"\"),\"\",IF($L112=\"TC\",0,IF($L112=\"Nso\",0,VLOOKUP($A109,'Marks Entry'!$B$9:$FN$108,130,0))))","v":"D"}]
[null,"◘","Overall Result",null,null,"Total Max. Marks",null,"Total Obtained Marks",null,"Percentage",null,"Overall Div.","Overall Grade","Result","Position in Class"]
[null,"◘",{"$nulls":3},{"$f":"IF(OR(A109=0,A109=\"\"),\"\",IF($L112=\"TC\",0,IF($L112=\"Nso\",0,VLOOKUP($A109,'Marks Entry'!$B$9:$FN$108,161,0))))","v":1200},null,{"$f":"IF(OR(A109=0,A109=\"\"),\"\",IF($L112=\"TC\",0,IF($L112=\"Nso\",0,VLOOKUP($A109,'Marks Entry'!$B$9:$FN$108,162,0))))","v":528},null,{"$f":"IF(OR(A109=0,A109=\"\"),\"\",IF($L112=\"TC\",0,IF($L112=\"Nso\",0,VLOOKUP($A109,'Marks Entry'!$B$9:$FN$108,163,0))))","v":{"v":44,"d":"44.00"}},null,{"$f":"IF(OR(A109=0,A109=\"\"),\"\",IF($L112=\"TC\",0,IF($L112=\"Nso\",0,VLOOKUP($A109,'Marks Entry'!$B$9:$FN$108,164,0))))","v":"Third"},{"$f":"IF(OR(A109=0,A109=\"\"),\"\",IF($L112=\"TC\",0,IF($L112=\"Nso\",0,VLOOKUP($A109,'Marks Entry'!$B$9:$FN$108,165,0))))","v":"D"},{"$f":"IF(OR(A109=0,A109=\"\"),\"\",IF($L112=\"TC\",\"TC\",IF($L112=\"Nso\",\"NSO\",VLOOKUP($A109,'Marks Entry'!$B$9:$FN$108,166,0))))","v":"PASSED"},{"$f":"IF(OR(A109=0,A109=\"\"),\"\",IF($L112=\"Nso\",0,VLOOKUP($A109,'Marks Entry'!$B$9:$FN$108,168,0)))","v":4.999999999999999}]
[null,"◘","Extra Subjects",{"$nulls":6},"Total Meetings :-",null,null,{"$f":"IF(OR(A109=0,A109=\"\"),\"\",IF($L112=\"TC\",0,IF($L112=\"Nso\",0,VLOOKUP($A109,'Marks Entry'!$B$9:$FN$108,158,0))))","v":0},"Attendance Percentage"]
[null,"◘","Subject",null,null,"Obtained/Total Marks",null,null,"GRADE","Student's Meetings :-",null,null,{"$f":"IF(OR(A109=0,A109=\"\"),\"\",IF($L112=\"TC\",0,IF($L112=\"Nso\",0,VLOOKUP($A109,'Marks Entry'!$B$9:$FN$108,159,0))))","v":0},{"$f":"IF(OR(A109=0,A109=\"\"),\"\",IF($L112=\"TC\",0,IF($L112=\"Nso\",0,VLOOKUP($A109,'Marks Entry'!$B$9:$FN$108,160,0))))","v":""}]
[null,"◘",{"$nulls":6},"A/B/C/D","Remark :-",null,null,{"$f":"IF(OR(A109=0,A109=\"\"),\"\",IF($L112=\"TC\",0,IF($L112=\"Nso\",0,VLOOKUP($A109,'Marks Entry'!$B$9:$FN$108,169,0))))","v":"Average"}]
[null,"◘",{"$f":"'Marks Entry'!$EB$3","v":"Work Exp."},null,null,{"$f":"IF(OR(A109=0,A109=\"\"),\"\",IF($L112=\"TC\",0,IF($L112=\"Nso\",0,VLOOKUP($A109,'Marks Entry'!$B$9:$GM$108,186,0))))","v":"71/100"},null,null,{"$f":"IF(OR(A109=0,A109=\"\"),\"\",IF($L112=\"TC\",0,IF($L112=\"Nso\",0,VLOOKUP($A109,'Marks Entry'!$B$9:$GM$108,139,0))))","v":"B"},"Result Date :-",null,null,{"$f":"IF(OR(A109=0,A109=\"\"),\"\",'Marks Entry'!$AA$2)","v":"2024-05-07"}]
[null,"◘",{"$f":"'Marks Entry'!$EK$3","v":"Art Edu."},null,null,{"$f":"IF(OR(A109=0,A109=\"\"),\"\",IF($L112=\"TC\",0,IF($L112=\"Nso\",0,VLOOKUP($A109,'Marks Entry'!$B$9:$GM$108,190,0))))","v":"71/100"},null,null,{"$f":"IF(OR(A109=0,A109=\"\"),\"\",IF($L112=\"TC\",0,IF($L112=\"Nso\",0,VLOOKUP($A109,'Marks Entry'!$B$9:$GM$108,148,0))))","v":"B"}]
[null,"◘",{"$f":"'Marks Entry'!$ET$3","v":"HEALTH & PHY. EDU."},null,null,{"$f":"IF(OR(A109=0,A109=\"\"),\"\",IF($L112=\"TC\",0,IF($L112=\"Nso\",0,VLOOKUP($A109,'Marks Entry'!$B$9:$GM$108,194,0))))","v":"71/100"},null,null,{"$f":"IF(OR(A109=0,A109=\"\"),\"\",IF($L112=\"TC\",0,IF($L112=\"Nso\",0,VLOOKUP($A109,'Marks Entry'!$B$9:$GM$108,157,0))))","v":"B"},"Signature Of The Class Teacher"]
[null,"◘","Grading System"]
[null,"◘","Grade","% Range",null,"Description",{"$nulls":3},"Signature And Seal Of Principal/H.M."]
[null,"◘","A","86-100",null,"Excellent"]
[null,"◘","B","71-85",null,"Very Good"]
[null,"◘","C","51-70",null,"Good",{"$nulls":3},"Wish bright future"]
[null,"◘","D","31-50",null,"Average"]
[null,"◘","E","0-30",null,"Need Improvement"]
[]
[{"$f":"IF(A109=0,0,A109+1)","v":5},"Department Of Education, Rajasthan"]
[null,108,{"$f":"logo","v":{"$error":"#REF!"}},{"$f":"Master!$E$8","v":"Govt. Sr. Secondary School "}]
[{"$nulls":3},{"$f":"Master!$E$11","v":"P.S.-Bapini (Jodhpur)"}]
[null,null,"Final Report Card",{"$nulls":5},"Roll No.:-",null,null,{"$f":"IF(OR(A145=0,A145=\"\"),0,VLOOKUP(A145,'Marks Entry'!$B$9:$G$108,6))","v":905},{"$f":"CONCATENATE('Marks Entry'!$C$3,\"0\",'Marks Entry'!$G$3)","v":"School U-Dise Code :-08151106901"}]
[{"$nulls":12},{"$f":"CONCATENATE('Marks Entry'!$I$3,'Marks Entry'!$J$3)","v":"Session :-2024-25"}]
[]
[null,"◘","Scholar Number",{"$nulls":4},"●→",{"$f":"IF(OR(A145=0,A145=\"\"),\"\",VLOOKUP($A145,'Marks Entry'!$B$9:$FN$108,4,0))","v":968}]
[null,"◘","Student's Name",{"$nulls":4},"●→",{"$f":"IF(OR(A145=0,A145=\"\"),\"\",VLOOKUP($A145,'Marks Entry'!$B$9:$FN$108,7,0))","v":"ANU JANDU"}]
[null,"◘","Father's Name",{"$nulls":4},"●→",{"$f":"IF(OR(A145=0,A145=\"\"),\"\",VLOOKUP($A145,'Marks Entry'!$B$9:$FN$108,8,0))","v":"HEERA RAM JANDU"}]
[null,"◘","Mother's Name ",{"$nulls":4},"●→",{"$f":"IF(OR(A145=0,A145=\"\"),\"\",VLOOKUP($A145,'Marks Entry'!$B$9:$FN$108,9,0))","v":"MANU DEVI"}]
[null,"◘","Class & Section",{"$nulls":4},"●→",{"$f":"IF(OR(A145=0,A145=\"\"),\"\",CONCATENATE('Marks Entry'!$G$4,'Marks Entry'!$J$4))","v":"6(A)"}]
[null,"◘","Date Of Birth",{"$nulls":4},"●→",{"$f":"IF(OR(A145=0,A145=\"\"),\"\",VLOOKUP($A145,'Marks Entry'!$B$9:$FN$108,10,0))","v":"2006-08-17"}]
[null,"◘","Subject",null,"First Test","Second Test",{"$f":"'Marks Entry'!$R$5","v":"No Bag Day Activity"},"Total","Half Yearly",null,"Total (Test+H.Y.)","Yearly Exam",null,"Grand Total","Subject Div Or Description"]
[null,"◘","Max. Marks",null,{"$f":"'Marks Entry'!$N$7","v":10},{"$f":"'Marks Entry'!$Q$7","v":10},{"$f":"'Marks Entry'!$T$7","v":10},{"$f":"SUM(E158:G158)","v":30},{"$f":"'Marks Entry'!$X$7","v":70},null,{"$f":"SUM(H158,I158)","v":100},{"$f":"'Marks Entry'!$AA$7","v":100},null,{"$f":"H158+I158+L158","v":200}]
[null,"◘",{"$f":"'Marks Entry'!$L$3","v":"HINDI"},null,{"$f":"IF(OR(A145=0,A145=\"\"),\"\",IF($L148=\"TC\",0,IF($L148=\"Nso\",0,VLOOKUP($A145,'Marks Entry'!$B$9:$FN$108,13,0))))","v":7},{"$f":"IF(OR(A145=0,A145=\"\"),\"\",IF($L148=\"TC\",0,IF($L148=\"Nso\",0,VLOOKUP($A145,'Marks Entry'!$B$9:$FN$108,16,0))))","v":7},{"$f":"IF(OR(A145=0,A145=\"\"),\"\",IF($L148=\"TC\",0,IF($L148=\"Nso\",0,VLOOKUP($A145,'Marks Entry'!$B$9:$FN$108,19,0))))","v":5},{"$f":"SUM(E159:G159)","v":19},{"$f":"IF(OR(A145=0,A145=\"\"),\"\",IF($L148=\"TC\",0,IF($L148=\"Nso\",0,VLOOKUP($A145,'Marks Entry'!$B$9:$FN$108,23,0))))","v":27},null,{"$f":"SUM(H159,I159)","v":46},{"$f":"IF(OR(A145=0,A145=\"\"),\"\",IF($L148=\"TC\",0,IF($L148=\"Nso\",0,VLOOKUP($A145,'Marks Entry'!$B$9:$FN$108,26,0))))","v":27},null,{"$f":"SUM(H159,I159,L159)","v":73},{"$f":"IF(OR(A145=0,A145=\"\"),\"\",IF($L148=\"TC\",0,IF($L148=\"Nso\",0,VLOOKUP($A145,'Marks Entry'!$B$9:$FN$108,30,0))))","v":"D"}]
[null,"◘",{"$f":"'Marks Entry'!$AF$3","v":"ENGLISH"},null,{"$f":"IF(OR(A145=0,A145=\"\"),\"\",IF($L148=\"TC\",0,IF($L148=\"Nso\",0,VLOOKUP($A145,'Marks Entry'!$B$9:$FN$108,33,0))))","v":7},{"$f":"IF(OR(A145=0,A145=\"\"),\"\",IF($L148=\"TC\",0,IF($L148=\"Nso\",0,VLOOKUP($A145,'Marks Entry'!$B$9:$FN$108,36,0))))","v":7},{"$f":"IF(OR(A145=0,A145=\"\"),\"\",IF($L148=\"TC\",0,IF($L148=\"Nso\",0,VLOOKUP($A145,'Marks Entry'!$B$9:$FN$108,39,0))))","v":5},{"$f":"SUM(E160:G160)","v":19},{"$f":"IF(OR(A145=0,A145=\"\"),\"\",IF($L148=\"TC\",0,IF($L148=\"Nso\",0,VLOOKUP($A145,'Marks Entry'!$B$9:$FN$108,43,0))))","v":27},null,{"$f":"SUM(H160,I160)","v":46},{"$f":"IF(OR(A145=0,A145=\"\"),\"\",IF($L148=\"TC\",0,IF($L148=\"Nso\",0,VLOOKUP($A145,'Marks Entry'!$B$9:$FN$108,46,0))))","v":27},null,{"$f":"SUM(H160,I160,L160)","v":73},{"$f":"IF(OR(A145=0,A145=\"\"),\"\",IF($L148=\"TC\",0,IF($L148=\"Nso\",0,VLOOKUP($A145,'Marks Entry'!$B$9:$FN$108,50,0))))","v":"D"}]
[null,"◘",{"$f":"'Marks Entry'!$AZ$3","v":"SANSKRIT"},null,{"$f":"IF(OR(A145=0,A145=\"\"),\"\",IF($L148=\"TC\",0,IF($L148=\"Nso\",0,VLOOKUP($A145,'Marks Entry'!$B$9:$FN$108,53,0))))","v":7},{"$f":"IF(OR(A145=0,A145=\"\"),\"\",IF($L148=\"TC\",0,IF($L148=\"TC\",0,IF($L148=\"Nso\",0,VLOOKUP($A145,'Marks Entry'!$B$9:$FN$108,56,0)))))","v":7},{"$f":"IF(OR(A145=0,A145=\"\"),\"\",IF($L148=\"TC\",0,IF($L148=\"TC\",0,IF($L148=\"Nso\",0,VLOOKUP($A145,'Marks Entry'!$B$9:$FN$108,59,0)))))","v":5},19,{"$f":"IF(OR(A145=0,A145=\"\"),\"\",IF($L148=\"TC\",0,IF($L148=\"Nso\",0,VLOOKUP($A145,'Marks Entry'!$B$9:$FN$108,63,0))))","v":27},null,46,{"$f":"IF(OR(A145=0,A145=\"\"),\"\",IF($L148=\"TC\",0,IF($L148=\"Nso\",0,VLOOKUP($A145,'Marks Entry'!$B$9:$FN$108,66,0))))","v":27},null,73,{"$f":"IF(OR(A145=0,A145=\"\"),\"\",IF($L148=\"TC\",0,IF($L148=\"Nso\",0,VLOOKUP($A145,'Marks Entry'!$B$9:$FN$108,70,0))))","v":"D"}]
[null,"◘",{"$f":"'Marks Entry'!$BT$3","v":"SCIENCE"},null,{"$f":"IF(OR(A145=0,A145=\"\"),\"\",IF($L148=\"TC\",0,IF($L148=\"Nso\",0,VLOOKUP($A145,'Marks Entry'!$B$9:$FN$108,73,0))))","v":7},{"$f":"IF(OR(A145=0,A145=\"\"),\"\",IF($L148=\"TC\",0,IF($L148=\"Nso\",0,VLOOKUP($A145,'Marks Entry'!$B$9:$FN$108,76,0))))","v":7},{"$f":"IF(OR(A145=0,A145=\"\"),\"\",IF($L148=\"TC\",0,IF($L148=\"Nso\",0,VLOOKUP($A145,'Marks Entry'!$B$9:$FN$108,79,0))))","v":5},19,{"$f":"IF(OR(A145=0,A145=\"\"),\"\",IF($L148=\"TC\",0,IF($L148=\"Nso\",0,VLOOKUP($A145,'Marks Entry'!$B$9:$FN$108,83,0))))","v":27},null,46,{"$f":"IF(OR(A145=0,A145=\"\"),\"\",IF($L148=\"TC\",0,IF($L148=\"Nso\",0,VLOOKUP($A145,'Marks Entry'!$B$9:$FN$108,86,0))))","v":27},null,73,{"$f":"IF(OR(A145=0,A145=\"\"),\"\",IF($L148=\"TC\",0,IF($L148=\"Nso\",0,VLOOKUP($A145,'Marks Entry'!$B$9:$FN$108,90,0))))","v":"D"}]
[null,"◘",{"$f":"'Marks Entry'!$CN$3","v":"MATHEMATICS"},null,{"$f":"IF(OR(A145=0,A145=\"\"),\"\",IF($L148=\"TC\",0,IF($L148=\"Nso\",0,VLOOKUP($A145,'Marks Entry'!$B$9:$FN$108,93,0))))","v":7},{"$f":"IF(OR(A145=0,A145=\"\"),\"\",IF($L148=\"TC\",0,IF($L148=\"Nso\",0,VLOOKUP($A145,'Marks Entry'!$B$9:$FN$108,96,0))))","v":7},{"$f":"IF(OR(A145=0,A145=\"\"),\"\",IF($L148=\"TC\",0,IF($L148=\"Nso\",0,VLOOKUP($A145,'Marks Entry'!$B$9:$FN$108,99,0))))","v":5},19,{"$f":"IF(OR(A145=0,A145=\"\"),\"\",IF($L148=\"TC\",0,IF($L148=\"Nso\",0,VLOOKUP($A145,'Marks Entry'!$B$9:$FN$108,103,0))))","v":27},null,46,{"$f":"IF(OR(A145=0,A145=\"\"),\"\",IF($L148=\"TC\",0,IF($L148=\"Nso\",0,VLOOKUP($A145,'Marks Entry'!$B$9:$FN$108,106,0))))","v":27},null,73,{"$f":"IF(OR(A145=0,A145=\"\"),\"\",IF($L148=\"TC\",0,IF($L148=\"Nso\",0,VLOOKUP($A145,'Marks Entry'!$B$9:$FN$108,110,0))))","v":"D"}]
[null,"◘",{"$f":"'Marks Entry'!$DH$3","v":"SOCIAL SCIENCE"},null,{"$f":"IF(OR(A145=0,A145=\"\"),\"\",IF($L148=\"TC\",0,IF($L148=\"Nso\",0,VLOOKUP($A145,'Marks Entry'!$B$9:$FN$108,113,0))))","v":7},{"$f":"IF(OR(A145=0,A145=\"\"),\"\",IF($L148=\"TC\",0,IF($L148=\"Nso\",0,VLOOKUP($A145,'Marks Entry'!$B$9:$FN$108,116,0))))","v":7},{"$f":"IF(OR(A145=0,A145=\"\"),\"\",IF($L148=\"TC\",0,IF($L148=\"Nso\",0,VLOOKUP($A145,'Marks Entry'!$B$9:$FN$108,119,0))))","v":5},19,{"$f":"IF(OR(A145=0,A145=\"\"),\"\",IF($L148=\"TC\",0,IF($L148=\"Nso\",0,VLOOKUP($A145,'Marks Entry'!$B$9:$FN$108,123,0))))","v":27},null,46,{"$f":"IF(OR(A145=0,A145=\"\"),\"\",IF($L148=\"TC\",0,IF($L148=\"Nso\",0,VLOOKUP($A145,'Marks Entry'!$B$9:$FN$108,126,0))))","v":27},null,73,{"$f":"IF(OR(A145=0,A145=\"\"),\"\",IF($L148=\"TC\",0,IF($L148=\"Nso\",0,VLOOKUP($A145,'Marks Entry'!$B$9:$FN$108,130,0))))","v":"D"}]
[null,"◘","Overall Result",null,null,"Total Max. Marks",null,"Total Obtained Marks",null,"Percentage",null,"Overall Div.","Overall Grade","Result","Position in Class"]
[null,"◘",{"$nulls":3},{"$f":"IF(OR(A145=0,A145=\"\"),\"\",IF($L148=\"TC\",0,IF($L148=\"Nso\",0,VLOOKUP($A145,'Marks Entry'!$B$9:$FN$108,161,0))))","v":1200},null,{"$f":"IF(OR(A145=0,A145=\"\"),\"\",IF($L148=\"TC\",0,IF($L148=\"Nso\",0,VLOOKUP($A145,'Marks Entry'!$B$9:$FN$108,162,0))))","v":438},null,{"$f":"IF(OR(A145=0,A145=\"\"),\"\",IF($L148=\"TC\",0,IF($L148=\"Nso\",0,VLOOKUP($A145,'Marks Entry'!$B$9:$FN$108,163,0))))","v":{"v":36.5,"d":"36.50"}},null,{"$f":"IF(OR(A145=0,A145=\"\"),\"\",IF($L148=\"TC\",0,IF($L148=\"Nso\",0,VLOOKUP($A145,'Marks Entry'!$B$9:$FN$108,164,0))))","v":"Third"},{"$f":"IF(OR(A145=0,A145=\"\"),\"\",IF($L148=\"TC\",0,IF($L148=\"Nso\",0,VLOOKUP($A145,'Marks Entry'!$B$9:$FN$108,165,0))))","v":"D"},{"$f":"IF(OR(A145=0,A145=\"\"),\"\",IF($L148=\"TC\",\"TC\",IF($L148=\"Nso\",\"NSO\",VLOOKUP($A145,'Marks Entry'!$B$9:$FN$108,166,0))))","v":"PASSED"},{"$f":"IF(OR(A145=0,A145=\"\"),\"\",IF($L148=\"Nso\",0,VLOOKUP($A145,'Marks Entry'!$B$9:$FN$108,168,0)))","v":6.999999999999999}]
[null,"◘","Extra Subjects",{"$nulls":6},"Total Meetings :-",null,null,{"$f":"IF(OR(A145=0,A145=\"\"),\"\",IF($L148=\"TC\",0,IF($L148=\"Nso\",0,VLOOKUP($A145,'Marks Entry'!$B$9:$FN$108,158,0))))","v":0},"Attendance Percentage"]
[null,"◘","Subject",null,null,"Obtained/Total Marks",null,null,"GRADE","Student's Meetings :-",null,null,{"$f":"IF(OR(A145=0,A145=\"\"),\"\",IF($L148=\"TC\",0,IF($L148=\"Nso\",0,VLOOKUP($A145,'Marks Entry'!$B$9:$FN$108,159,0))))","v":0},{"$f":"IF(OR(A145=0,A145=\"\"),\"\",IF($L148=\"TC\",0,IF($L148=\"Nso\",0,VLOOKUP($A145,'Marks Entry'!$B$9:$FN$108,160,0))))","v":""}]
[null,"◘",{"$nulls":6},"A/B/C/D","Remark :-",null,null,{"$f":"IF(OR(A145=0,A145=\"\"),\"\",IF($L148=\"TC\",0,IF($L148=\"Nso\",0,VLOOKUP($A145,'Marks Entry'!$B$9:$FN$108,169,0))))","v":"Average"}]
[null,"◘",{"$f":"'Marks Entry'!$EB$3","v":"Work Exp."},null,null,{"$f":"IF(OR(A145=0,A145=\"\"),\"\",IF($L148=\"TC\",0,IF($L148=\"Nso\",0,VLOOKUP($A145,'Marks Entry'!$B$9:$GM$108,186,0))))","v":"71/100"},null,null,{"$f":"IF(OR(A145=0,A145=\"\"),\"\",IF($L148=\"TC\",0,IF($L148=\"Nso\",0,VLOOKUP($A145,'Marks Entry'!$B$9:$GM$108,139,0))))","v":"B"},"Result Date :-",null,null,{"$f":"IF(OR(A145=0,A145=\"\"),\"\",'Marks Entry'!$AA$2)","v":"2024-05-07"}]
[null,"◘",{"$f":"'Marks Entry'!$EK$3","v":"Art Edu."},null,null,{"$f":"IF(OR(A145=0,A145=\"\"),\"\",IF($L148=\"TC\",0,IF($L148=\"Nso\",0,VLOOKUP($A145,'Marks Entry'!$B$9:$GM$108,190,0))))","v":"71/100"},null,null,{"$f":"IF(OR(A145=0,A145=\"\"),\"\",IF($L148=\"TC\",0,IF($L148=\"Nso\",0,VLOOKUP($A145,'Marks Entry'!$B$9:$GM$108,148,0))))","v":"B"}]
[null,"◘",{"$f":"'Marks Entry'!$ET$3","v":"HEALTH & PHY. EDU."},null,null,{"$f":"IF(OR(A145=0,A145=\"\"),\"\",IF($L148=\"TC\",0,IF($L148=\"Nso\",0,VLOOKUP($A145,'Marks Entry'!$B$9:$GM$108,194,0))))","v":"71/100"},null,null,{"$f":"IF(OR(A145=0,A145=\"\"),\"\",IF($L148=\"TC\",0,IF($L148=\"Nso\",0,VLOOKUP($A145,'Marks Entry'!$B$9:$GM$108,157,0))))","v":"B"},"Signature Of The Class Teacher"]
[null,"◘","Grading System"]
[null,"◘","Grade","% Range",null,"Description",{"$nulls":3},"Signature And Seal Of Principal/H.M."]
[null,"◘","A","86-100",null,"Excellent"]
[null,"◘","B","71-85",null,"Very Good"]
[null,"◘","C","51-70",null,"Good",{"$nulls":3},"Wish bright future"]
[null,"◘","D","31-50",null,"Average"]
[null,"◘","E","0-30",null,"Need Improvement"]
[]
[{"$f":"IF(A145=0,0,A145+1)","v":6},"Department Of Education, Rajasthan"]
[null,108,{"$f":"logo","v":{"$error":"#REF!"}},{"$f":"Master!$E$8","v":"Govt. Sr. Secondary School "}]
[{"$nulls":3},{"$f":"Master!$E$11","v":"P.S.-Bapini (Jodhpur)"}]
[null,null,"Final Report Card",{"$nulls":5},"Roll No.:-",null,null,{"$f":"IF(OR(A181=0,A181=\"\"),0,VLOOKUP(A181,'Marks Entry'!$B$9:$G$108,6))","v":906},{"$f":"CONCATENATE('Marks Entry'!$C$3,\"0\",'Marks Entry'!$G$3)","v":"School U-Dise Code :-08151106901"}]
[{"$nulls":12},{"$f":"CONCATENATE('Marks Entry'!$I$3,'Marks Entry'!$J$3)","v":"Session :-2024-25"}]
[]
[null,"◘","Scholar Number",{"$nulls":4},"●→",{"$f":"IF(OR(A181=0,A181=\"\"),\"\",VLOOKUP($A181,'Marks Entry'!$B$9:$FN$108,4,0))","v":1404}]
[null,"◘","Student's Name",{"$nulls":4},"●→",{"$f":"IF(OR(A181=0,A181=\"\"),\"\",VLOOKUP($A181,'Marks Entry'!$B$9:$FN$108,7,0))","v":"ASHOKA SUTHAR"}]
[null,"◘","Father's Name",{"$nulls":4},"●→",{"$f":"IF(OR(A181=0,A181=\"\"),\"\",VLOOKUP($A181,'Marks Entry'!$B$9:$FN$108,8,0))","v":"SATYNARYAN"}]
[null,"◘","Mother's Name ",{"$nulls":4},"●→",{"$f":"IF(OR(A181=0,A181=\"\"),\"\",VLOOKUP($A181,'Marks Entry'!$B$9:$FN$108,9,0))","v":"SANTU"}]
[null,"◘","Class & Section",{"$nulls":4},"●→",{"$f":"IF(OR(A181=0,A181=\"\"),\"\",CONCATENATE('Marks Entry'!$G$4,'Marks Entry'!$J$4))","v":"6(A)"}]
[null,"◘","Date Of Birth",{"$nulls":4},"●→",{"$f":"IF(OR(A181=0,A181=\"\"),\"\",VLOOKUP($A181,'Marks Entry'!$B$9:$FN$108,10,0))","v":"2006-06-08"}]
[null,"◘","Subject",null,"First Test","Second Test",{"$f":"'Marks Entry'!$R$5","v":"No Bag Day Activity"},"Total","Half Yearly",null,"Total (Test+H.Y.)","Yearly Exam",null,"Grand Total","Subject Div Or Description"]
[null,"◘","Max. Marks",null,{"$f":"'Marks Entry'!$N$7","v":10},{"$f":"'Marks Entry'!$Q$7","v":10},{"$f":"'Marks Entry'!$T$7","v":10},{"$f":"SUM(E194:G194)","v":30},{"$f":"'Marks Entry'!$X$7","v":70},null,{"$f":"SUM(H194,I194)","v":100},{"$f":"'Marks Entry'!$AA$7","v":100},null,{"$f":"H194+I194+L194","v":200}]
[null,"◘",{"$f":"'Marks Entry'!$L$3","v":"HINDI"},null,{"$f":"IF(OR(A181=0,A181=\"\"),\"\",IF($L184=\"TC\",0,IF($L184=\"Nso\",0,VLOOKUP($A181,'Marks Entry'!$B$9:$FN$108,13,0))))","v":7},{"$f":"IF(OR(A181=0,A181=\"\"),\"\",IF($L184=\"TC\",0,IF($L184=\"Nso\",0,VLOOKUP($A181,'Marks Entry'!$B$9:$FN$108,16,0))))","v":7},{"$f":"IF(OR(A181=0,A181=\"\"),\"\",IF($L184=\"TC\",0,IF($L184=\"Nso\",0,VLOOKUP($A181,'Marks Entry'!$B$9:$FN$108,19,0))))","v":3},{"$f":"SUM(E195:G195)","v":17},{"$f":"IF(OR(A181=0,A181=\"\"),\"\",IF($L184=\"TC\",0,IF($L184=\"Nso\",0,VLOOKUP($A181,'Marks Entry'!$B$9:$FN$108,23,0))))","v":38},null,{"$f":"SUM(H195,I195)","v":55},{"$f":"IF(OR(A181=0,A181=\"\"),\"\",IF($L184=\"TC\",0,IF($L184=\"Nso\",0,VLOOKUP($A181,'Marks Entry'!$B$9:$FN$108,26,0))))","v":38},null,{"$f":"SUM(H195,I195,L195)","v":93},{"$f":"IF(OR(A181=0,A181=\"\"),\"\",IF($L184=\"TC\",0,IF($L184=\"Nso\",0,VLOOKUP($A181,'Marks Entry'!$B$9:$FN$108,30,0))))","v":"D"}]
[null,"◘",{"$f":"'Marks Entry'!$AF$3","v":"ENGLISH"},null,{"$f":"IF(OR(A181=0,A181=\"\"),\"\",IF($L184=\"TC\",0,IF($L184=\"Nso\",0,VLOOKUP($A181,'Marks Entry'!$B$9:$FN$108,33,0))))","v":7},{"$f":"IF(OR(A181=0,A181=\"\"),\"\",IF($L184=\"TC\",0,IF($L184=\"Nso\",0,VLOOKUP($A181,'Marks Entry'!$B$9:$FN$108,36,0))))","v":7},{"$f":"IF(OR(A181=0,A181=\"\"),\"\",IF($L184=\"TC\",0,IF($L184=\"Nso\",0,VLOOKUP($A181,'Marks Entry'!$B$9:$FN$108,39,0))))","v":3},{"$f":"SUM(E196:G196)","v":17},{"$f":"IF(OR(A181=0,A181=\"\"),\"\",IF($L184=\"TC\",0,IF($L184=\"Nso\",0,VLOOKUP($A181,'Marks Entry'!$B$9:$FN$108,43,0))))","v":38},null,{"$f":"SUM(H196,I196)","v":55},{"$f":"IF(OR(A181=0,A181=\"\"),\"\",IF($L184=\"TC\",0,IF($L184=\"Nso\",0,VLOOKUP($A181,'Marks Entry'!$B$9:$FN$108,46,0))))","v":38},null,{"$f":"SUM(H196,I196,L196)","v":93},{"$f":"IF(OR(A181=0,A181=\"\"),\"\",IF($L184=\"TC\",0,IF($L184=\"Nso\",0,VLOOKUP($A181,'Marks Entry'!$B$9:$FN$108,50,0))))","v":"D"}]
[null,"◘",{"$f":"'Marks Entry'!$AZ$3","v":"SANSKRIT"},null,{"$f":"IF(OR(A181=0,A181=\"\"),\"\",IF($L184=\"TC\",0,IF($L184=\"Nso\",0,VLOOKUP($A181,'Marks Entry'!$B$9:$FN$108,53,0))))","v":7},{"$f":"IF(OR(A181=0,A181=\"\"),\"\",IF($L184=\"TC\",0,IF($L184=\"TC\",0,IF($L184=\"Nso\",0,VLOOKUP($A181,'Marks Entry'!$B$9:$FN$108,56,0)))))","v":7},{"$f":"IF(OR(A181=0,A181=\"\"),\"\",IF($L184=\"TC\",0,IF($L184=\"TC\",0,IF($L184=\"Nso\",0,VLOOKUP($A181,'Marks Entry'!$B$9:$FN$108,59,0)))))","v":3},17,{"$f":"IF(OR(A181=0,A181=\"\"),\"\",IF($L184=\"TC\",0,IF($L184=\"Nso\",0,VLOOKUP($A181,'Marks Entry'!$B$9:$FN$108,63,0))))","v":38},null,55,{"$f":"IF(OR(A181=0,A181=\"\"),\"\",IF($L184=\"TC\",0,IF($L184=\"Nso\",0,VLOOKUP($A181,'Marks Entry'!$B$9:$FN$108,66,0))))","v":38},null,93,{"$f":"IF(OR(A181=0,A181=\"\"),\"\",IF($L184=\"TC\",0,IF($L184=\"Nso\",0,VLOOKUP($A181,'Marks Entry'!$B$9:$FN$108,70,0))))","v":"D"}]
[null,"◘",{"$f":"'Marks Entry'!$BT$3","v":"SCIENCE"},null,{"$f":"IF(OR(A181=0,A181=\"\"),\"\",IF($L184=\"TC\",0,IF($L184=\"Nso\",0,VLOOKUP($A181,'Marks Entry'!$B$9:$FN$108,73,0))))","v":7},{"$f":"IF(OR(A181=0,A181=\"\"),\"\",IF($L184=\"TC\",0,IF($L184=\"Nso\",0,VLOOKUP($A181,'Marks Entry'!$B$9:$FN$108,76,0))))","v":7},{"$f":"IF(OR(A181=0,A181=\"\"),\"\",IF($L184=\"TC\",0,IF($L184=\"Nso\",0,VLOOKUP($A181,'Marks Entry'!$B$9:$FN$108,79,0))))","v":3},17,{"$f":"IF(OR(A181=0,A181=\"\"),\"\",IF($L184=\"TC\",0,IF($L184=\"Nso\",0,VLOOKUP($A181,'Marks Entry'!$B$9:$FN$108,83,0))))","v":38},null,55,{"$f":"IF(OR(A181=0,A181=\"\"),\"\",IF($L184=\"TC\",0,IF($L184=\"Nso\",0,VLOOKUP($A181,'Marks Entry'!$B$9:$FN$108,86,0))))","v":38},null,93,{"$f":"IF(OR(A181=0,A181=\"\"),\"\",IF($L184=\"TC\",0,IF($L184=\"Nso\",0,VLOOKUP($A181,'Marks Entry'!$B$9:$FN$108,90,0))))","v":"D"}]
[null,"◘",{"$f":"'Marks Entry'!$CN$3","v":"MATHEMATICS"},null,{"$f":"IF(OR(A181=0,A181=\"\"),\"\",IF($L184=\"TC\",0,IF($L184=\"Nso\",0,VLOOKUP($A181,'Marks Entry'!$B$9:$FN$108,93,0))))","v":7},{"$f":"IF(OR(A181=0,A181=\"\"),\"\",IF($L184=\"TC\",0,IF($L184=\"Nso\",0,VLOOKUP($A181,'Marks Entry'!$B$9:$FN$108,96,0))))","v":7},{"$f":"IF(OR(A181=0,A181=\"\"),\"\",IF($L184=\"TC\",0,IF($L184=\"Nso\",0,VLOOKUP($A181,'Marks Entry'!$B$9:$FN$108,99,0))))","v":3},17,{"$f":"IF(OR(A181=0,A181=\"\"),\"\",IF($L184=\"TC\",0,IF($L184=\"Nso\",0,VLOOKUP($A181,'Marks Entry'!$B$9:$FN$108,103,0))))","v":38},null,55,{"$f":"IF(OR(A181=0,A181=\"\"),\"\",IF($L184=\"TC\",0,IF($L184=\"Nso\",0,VLOOKUP($A181,'Marks Entry'!$B$9:$FN$108,106,0))))","v":38},null,93,{"$f":"IF(OR(A181=0,A181=\"\"),\"\",IF($L184=\"TC\",0,IF($L184=\"Nso\",0,VLOOKUP($A181,'Marks Entry'!$B$9:$FN$108,110,0))))","v":"D"}]
[null,"◘",{"$f":"'Marks Entry'!$DH$3","v":"SOCIAL SCIENCE"},null,{"$f":"IF(OR(A181=0,A181=\"\"),\"\",IF($L184=\"TC\",0,IF($L184=\"Nso\",0,VLOOKUP($A181,'Marks Entry'!$B$9:$FN$108,113,0))))","v":7},{"$f":"IF(OR(A181=0,A181=\"\"),\"\",IF($L184=\"TC\",0,IF($L184=\"Nso\",0,VLOOKUP($A181,'Marks Entry'!$B$9:$FN$108,116,0))))","v":7},{"$f":"IF(OR(A181=0,A181=\"\"),\"\",IF($L184=\"TC\",0,IF($L184=\"Nso\",0,VLOOKUP($A181,'Marks Entry'!$B$9:$FN$108,119,0))))","v":3},17,{"$f":"IF(OR(A181=0,A181=\"\"),\"\",IF($L184=\"TC\",0,IF($L184=\"Nso\",0,VLOOKUP($A181,'Marks Entry'!$B$9:$FN$108,123,0))))","v":38},null,55,{"$f":"IF(OR(A181=0,A181=\"\"),\"\",IF($L184=\"TC\",0,IF($L184=\"Nso\",0,VLOOKUP($A181,'Marks Entry'!$B$9:$FN$108,126,0))))","v":38},null,93,{"$f":"IF(OR(A181=0,A181=\"\"),\"\",IF($L184=\"TC\",0,IF($L184=\"Nso\",0,VLOOKUP($A181,'Marks Entry'!$B$9:$FN$108,130,0))))","v":"D"}]
[null,"◘","Overall Result",null,null,"Total Max. Marks",null,"Total Obtained Marks",null,"Percentage",null,"Overall Div.","Overall Grade","Result","Position in Class"]
[null,"◘",{"$nulls":3},{"$f":"IF(OR(A181=0,A181=\"\"),\"\",IF($L184=\"TC\",0,IF($L184=\"Nso\",0,VLOOKUP($A181,'Marks Entry'!$B$9:$FN$108,161,0))))","v":1200},null,{"$f":"IF(OR(A181=0,A181=\"\"),\"\",IF($L184=\"TC\",0,IF($L184=\"Nso\",0,VLOOKUP($A181,'Marks Entry'!$B$9:$FN$108,162,0))))","v":558},null,{"$f":"IF(OR(A181=0,A181=\"\"),\"\",IF($L184=\"TC\",0,IF($L184=\"Nso\",0,VLOOKUP($A181,'Marks Entry'!$B$9:$FN$108,163,0))))","v":{"v":46.5,"d":"46.50"}},null,{"$f":"IF(OR(A181=0,A181=\"\"),\"\",IF($L184=\"TC\",0,IF($L184=\"Nso\",0,VLOOKUP($A181,'Marks Entry'!$B$9:$FN$108,164,0))))","v":"Third"},{"$f":"IF(OR(A181=0,A181=\"\"),\"\",IF($L184=\"TC\",0,IF($L184=\"Nso\",0,VLOOKUP($A181,'Marks Entry'!$B$9:$FN$108,165,0))))","v":"D"},{"$f":"IF(OR(A181=0,A181=\"\"),\"\",IF($L184=\"TC\",\"TC\",IF($L184=\"Nso\",\"NSO\",VLOOKUP($A181,'Marks Entry'!$B$9:$FN$108,166,0))))","v":"PASSED"},{"$f":"IF(OR(A181=0,A181=\"\"),\"\",IF($L184=\"Nso\",0,VLOOKUP($A181,'Marks Entry'!$B$9:$FN$108,168,0)))","v":3.999999999999999}]
[null,"◘","Extra Subjects",{"$nulls":6},"Total Meetings :-",null,null,{"$f":"IF(OR(A181=0,A181=\"\"),\"\",IF($L184=\"TC\",0,IF($L184=\"Nso\",0,VLOOKUP($A181,'Marks Entry'!$B$9:$FN$108,158,0))))","v":0},"Attendance Percentage"]
[null,"◘","Subject",null,null,"Obtained/Total Marks",null,null,"GRADE","Student's Meetings :-",null,null,{"$f":"IF(OR(A181=0,A181=\"\"),\"\",IF($L184=\"TC\",0,IF($L184=\"Nso\",0,VLOOKUP($A181,'Marks Entry'!$B$9:$FN$108,159,0))))","v":0},{"$f":"IF(OR(A181=0,A181=\"\"),\"\",IF($L184=\"TC\",0,IF($L184=\"Nso\",0,VLOOKUP($A181,'Marks Entry'!$B$9:$FN$108,160,0))))","v":""}]
[null,"◘",{"$nulls":6},"A/B/C/D","Remark :-",null,null,{"$f":"IF(OR(A181=0,A181=\"\"),\"\",IF($L184=\"TC\",0,IF($L184=\"Nso\",0,VLOOKUP($A181,'Marks Entry'!$B$9:$FN$108,169,0))))","v":"Average"}]
[null,"◘",{"$f":"'Marks Entry'!$EB$3","v":"Work Exp."},null,null,{"$f":"IF(OR(A181=0,A181=\"\"),\"\",IF($L184=\"TC\",0,IF($L184=\"Nso\",0,VLOOKUP($A181,'Marks Entry'!$B$9:$GM$108,186,0))))","v":"71/100"},null,null,{"$f":"IF(OR(A181=0,A181=\"\"),\"\",IF($L184=\"TC\",0,IF($L184=\"Nso\",0,VLOOKUP($A181,'Marks Entry'!$B$9:$GM$108,139,0))))","v":"B"},"Result Date :-",null,null,{"$f":"IF(OR(A181=0,A181=\"\"),\"\",'Marks Entry'!$AA$2)","v":"2024-05-07"}]
[null,"◘",{"$f":"'Marks Entry'!$EK$3","v":"Art Edu."},null,null,{"$f":"IF(OR(A181=0,A181=\"\"),\"\",IF($L184=\"TC\",0,IF($L184=\"Nso\",0,VLOOKUP($A181,'Marks Entry'!$B$9:$GM$108,190,0))))","v":"71/100"},null,null,{"$f":"IF(OR(A181=0,A181=\"\"),\"\",IF($L184=\"TC\",0,IF($L184=\"Nso\",0,VLOOKUP($A181,'Marks Entry'!$B$9:$GM$108,148,0))))","v":"B"}]
[null,"◘",{"$f":"'Marks Entry'!$ET$3","v":"HEALTH & PHY. EDU."},null,null,{"$f":"IF(OR(A181=0,A181=\"\"),\"\",IF($L184=\"TC\",0,IF($L184=\"Nso\",0,VLOOKUP($A181,'Marks Entry'!$B$9:$GM$108,194,0))))","v":"71/100"},null,null,{"$f":"IF(OR(A181=0,A181=\"\"),\"\",IF($L184=\"TC\",0,IF($L184=\"Nso\",0,VLOOKUP($A181,'Marks Entry'!$B$9:$GM$108,157,0))))","v":"B"},"Signature Of The Class Teacher"]
[null,"◘","Grading System"]
[null,"◘","Grade","% Range",null,"Description",{"$nulls":3},"Signature And Seal Of Principal/H.M."]
[null,"◘","A","86-100",null,"Excellent"]
[null,"◘","B","71-85",null,"Very Good"]
[null,"◘","C","51-70",null,"Good",{"$nulls":3},"Wish bright future"]
[null,"◘","D","31-50",null,"Average"]
[null,"◘","E","0-30",null,"Need Improvement"]
[]
[{"$f":"IF(A181=0,0,A181+1)","v":7},"Department Of Education, Rajasthan"]
[null,108,{"$f":"logo","v":{"$error":"#REF!"}},{"$f":"Master!$E$8","v":"Govt. Sr. Secondary School "}]
[{"$nulls":3},{"$f":"Master!$E$11","v":"P.S.-Bapini (Jodhpur)"}]
[null,null,"Final Report Card",{"$nulls":5},"Roll No.:-",null,null,{"$f":"IF(OR(A217=0,A217=\"\"),0,VLOOKUP(A217,'Marks Entry'!$B$9:$G$108,6))","v":907},{"$f":"CONCATENATE('Marks Entry'!$C$3,\"0\",'Marks Entry'!$G$3)","v":"School U-Dise Code :-08151106901"}]
[{"$nulls":12},{"$f":"CONCATENATE('Marks Entry'!$I$3,'Marks Entry'!$J$3)","v":"Session :-2024-25"}]
[]
[null,"◘","Scholar Number",{"$nulls":4},"●→",{"$f":"IF(OR(A217=0,A217=\"\"),\"\",VLOOKUP($A217,'Marks Entry'!$B$9:$FN$108,4,0))","v":1453}]
[null,"◘","Student's Name",{"$nulls":4},"●→",{"$f":"IF(OR(A217=0,A217=\"\"),\"\",VLOOKUP($A217,'Marks Entry'!$B$9:$FN$108,7,0))","v":"BAJRANG VISHNOI"}]
[null,"◘","Father's Name",{"$nulls":4},"●→",{"$f":"IF(OR(A217=0,A217=\"\"),\"\",VLOOKUP($A217,'Marks Entry'!$B$9:$FN$108,8,0))","v":"OM PRAKASH VISHNOI"}]
[null,"◘","Mother's Name ",{"$nulls":4},"●→",{"$f":"IF(OR(A217=0,A217=\"\"),\"\",VLOOKUP($A217,'Marks Entry'!$B$9:$FN$108,9,0))","v":"LOONGA DEVI"}]
[null,"◘","Class & Section",{"$nulls":4},"●→",{"$f":"IF(OR(A217=0,A217=\"\"),\"\",CONCATENATE('Marks Entry'!$G$4,'Marks Entry'!$J$4))","v":"6(A)"}]
[null,"◘","Date Of Birth",{"$nulls":4},"●→",{"$f":"IF(OR(A217=0,A217=\"\"),\"\",VLOOKUP($A217,'Marks Entry'!$B$9:$FN$108,10,0))","v":"2006-10-01"}]
[null,"◘","Subject",null,"First Test","Second Test",{"$f":"'Marks Entry'!$R$5","v":"No Bag Day Activity"},"Total","Half Yearly",null,"Total (Test+H.Y.)","Yearly Exam",null,"Grand Total","Subject Div Or Description"]
[null,"◘","Max. Marks",null,{"$f":"'Marks Entry'!$N$7","v":10},{"$f":"'Marks Entry'!$Q$7","v":10},{"$f":"'Marks Entry'!$T$7","v":10},{"$f":"SUM(E230:G230)","v":30},{"$f":"'Marks Entry'!$X$7","v":70},null,{"$f":"SUM(H230,I230)","v":100},{"$f":"'Marks Entry'!$AA$7","v":100},null,{"$f":"H230+I230+L230","v":200}]
[null,"◘",{"$f":"'Marks Entry'!$L$3","v":"HINDI"},null,{"$f":"IF(OR(A217=0,A217=\"\"),\"\",IF($L220=\"TC\",0,IF($L220=\"Nso\",0,VLOOKUP($A217,'Marks Entry'!$B$9:$FN$108,13,0))))","v":4},{"$f":"IF(OR(A217=0,A217=\"\"),\"\",IF($L220=\"TC\",0,IF($L220=\"Nso\",0,VLOOKUP($A217,'Marks Entry'!$B$9:$FN$108,16,0))))","v":4},{"$f":"IF(OR(A217=0,A217=\"\"),\"\",IF($L220=\"TC\",0,IF($L220=\"Nso\",0,VLOOKUP($A217,'Marks Entry'!$B$9:$FN$108,19,0))))","v":2},{"$f":"SUM(E231:G231)","v":10},{"$f":"IF(OR(A217=0,A217=\"\"),\"\",IF($L220=\"TC\",0,IF($L220=\"Nso\",0,VLOOKUP($A217,'Marks Entry'!$B$9:$FN$108,23,0))))","v":30},null,{"$f":"SUM(H231,I231)","v":40},{"$f":"IF(OR(A217=0,A217=\"\"),\"\",IF($L220=\"TC\",0,IF($L220=\"Nso\",0,VLOOKUP($A217,'Marks Entry'!$B$9:$FN$108,26,0))))","v":60},null,{"$f":"SUM(H231,I231,L231)","v":100},{"$f":"IF(OR(A217=0,A217=\"\"),\"\",IF($L220=\"TC\",0,IF($L220=\"Nso\",0,VLOOKUP($A217,'Marks Entry'!$B$9:$FN$108,30,0))))","v":"D"}]
[null,"◘",{"$f":"'Marks Entry'!$AF$3","v":"ENGLISH"},null,{"$f":"IF(OR(A217=0,A217=\"\"),\"\",IF($L220=\"TC\",0,IF($L220=\"Nso\",0,VLOOKUP($A217,'Marks Entry'!$B$9:$FN$108,33,0))))","v":6},{"$f":"IF(OR(A217=0,A217=\"\"),\"\",IF($L220=\"TC\",0,IF($L220=\"Nso\",0,VLOOKUP($A217,'Marks Entry'!$B$9:$FN$108,36,0))))","v":6},{"$f":"IF(OR(A217=0,A217=\"\"),\"\",IF($L220=\"TC\",0,IF($L220=\"Nso\",0,VLOOKUP($A217,'Marks Entry'!$B$9:$FN$108,39,0))))","v":3},{"$f":"SUM(E232:G232)","v":15},{"$f":"IF(OR(A217=0,A217=\"\"),\"\",IF($L220=\"TC\",0,IF($L220=\"Nso\",0,VLOOKUP($A217,'Marks Entry'!$B$9:$FN$108,43,0))))","v":40},null,{"$f":"SUM(H232,I232)","v":55},{"$f":"IF(OR(A217=0,A217=\"\"),\"\",IF($L220=\"TC\",0,IF($L220=\"Nso\",0,VLOOKUP($A217,'Marks Entry'!$B$9:$FN$108,46,0))))","v":70},null,{"$f":"SUM(H232,I232,L232)","v":125},{"$f":"IF(OR(A217=0,A217=\"\"),\"\",IF($L220=\"TC\",0,IF($L220=\"Nso\",0,VLOOKUP($A217,'Marks Entry'!$B$9:$FN$108,50,0))))","v":"C"}]
[null,"◘",{"$f":"'Marks Entry'!$AZ$3","v":"SANSKRIT"},null,{"$f":"IF(OR(A217=0,A217=\"\"),\"\",IF($L220=\"TC\",0,IF($L220=\"Nso\",0,VLOOKUP($A217,'Marks Entry'!$B$9:$FN$108,53,0))))","v":8},{"$f":"IF(OR(A217=0,A217=\"\"),\"\",IF($L220=\"TC\",0,IF($L220=\"TC\",0,IF($L220=\"Nso\",0,VLOOKUP($A217,'Marks Entry'!$B$9:$FN$108,56,0)))))","v":8},{"$f":"IF(OR(A217=0,A217=\"\"),\"\",IF($L220=\"TC\",0,IF($L220=\"TC\",0,IF($L220=\"Nso\",0,VLOOKUP($A217,'Marks Entry'!$B$9:$FN$108,59,0)))))","v":4},20,{"$f":"IF(OR(A217=0,A217=\"\"),\"\",IF($L220=\"TC\",0,IF($L220=\"Nso\",0,VLOOKUP($A217,'Marks Entry'!$B$9:$FN$108,63,0))))","v":45},null,65,{"$f":"IF(OR(A217=0,A217=\"\"),\"\",IF($L220=\"TC\",0,IF($L220=\"Nso\",0,VLOOKUP($A217,'Marks Entry'!$B$9:$FN$108,66,0))))","v":80},null,145,{"$f":"IF(OR(A217=0,A217=\"\"),\"\",IF($L220=\"TC\",0,IF($L220=\"Nso\",0,VLOOKUP($A217,'Marks Entry'!$B$9:$FN$108,70,0))))","v":"B"}]
[null,"◘",{"$f":"'Marks Entry'!$BT$3","v":"SCIENCE"},null,{"$f":"IF(OR(A217=0,A217=\"\"),\"\",IF($L220=\"TC\",0,IF($L220=\"Nso\",0,VLOOKUP($A217,'Marks Entry'!$B$9:$FN$108,73,0))))","v":4},{"$f":"IF(OR(A217=0,A217=\"\"),\"\",IF($L220=\"TC\",0,IF($L220=\"Nso\",0,VLOOKUP($A217,'Marks Entry'!$B$9:$FN$108,76,0))))","v":4},{"$f":"IF(OR(A217=0,A217=\"\"),\"\",IF($L220=\"TC\",0,IF($L220=\"Nso\",0,VLOOKUP($A217,'Marks Entry'!$B$9:$FN$108,79,0))))","v":2},10,{"$f":"IF(OR(A217=0,A217=\"\"),\"\",IF($L220=\"TC\",0,IF($L220=\"Nso\",0,VLOOKUP($A217,'Marks Entry'!$B$9:$FN$108,83,0))))","v":45},null,55,{"$f":"IF(OR(A217=0,A217=\"\"),\"\",IF($L220=\"TC\",0,IF($L220=\"Nso\",0,VLOOKUP($A217,'Marks Entry'!$B$9:$FN$108,86,0))))","v":60},null,115,{"$f":"IF(OR(A217=0,A217=\"\"),\"\",IF($L220=\"TC\",0,IF($L220=\"Nso\",0,VLOOKUP($A217,'Marks Entry'!$B$9:$FN$108,90,0))))","v":"C"}]
[null,"◘",{"$f":"'Marks Entry'!$CN$3","v":"MATHEMATICS"},null,{"$f":"IF(OR(A217=0,A217=\"\"),\"\",IF($L220=\"TC\",0,IF($L220=\"Nso\",0,VLOOKUP($A217,'Marks Entry'!$B$9:$FN$108,93,0))))","v":8},{"$f":"IF(OR(A217=0,A217=\"\"),\"\",IF($L220=\"TC\",0,IF($L220=\"Nso\",0,VLOOKUP($A217,'Marks Entry'!$B$9:$FN$108,96,0))))","v":8},{"$f":"IF(OR(A217=0,A217=\"\"),\"\",IF($L220=\"TC\",0,IF($L220=\"Nso\",0,VLOOKUP($A217,'Marks Entry'!$B$9:$FN$108,99,0))))","v":4},20,{"$f":"IF(OR(A217=0,A217=\"\"),\"\",IF($L220=\"TC\",0,IF($L220=\"Nso\",0,VLOOKUP($A217,'Marks Entry'!$B$9:$FN$108,103,0))))","v":30},null,50,{"$f":"IF(OR(A217=0,A217=\"\"),\"\",IF($L220=\"TC\",0,IF($L220=\"Nso\",0,VLOOKUP($A217,'Marks Entry'!$B$9:$FN$108,106,0))))","v":60},null,110,{"$f":"IF(OR(A217=0,A217=\"\"),\"\",IF($L220=\"TC\",0,IF($L220=\"Nso\",0,VLOOKUP($A217,'Marks Entry'!$B$9:$FN$108,110,0))))","v":"C"}]
[null,"◘",{"$f":"'Marks Entry'!$DH$3","v":"SOCIAL SCIENCE"},null,{"$f":"IF(OR(A217=0,A217=\"\"),\"\",IF($L220=\"TC\",0,IF($L220=\"Nso\",0,VLOOKUP($A217,'Marks Entry'!$B$9:$FN$108,113,0))))","v":10},{"$f":"IF(OR(A217=0,A217=\"\"),\"\",IF($L220=\"TC\",0,IF($L220=\"Nso\",0,VLOOKUP($A217,'Marks Entry'!$B$9:$FN$108,116,0))))","v":10},{"$f":"IF(OR(A217=0,A217=\"\"),\"\",IF($L220=\"TC\",0,IF($L220=\"Nso\",0,VLOOKUP($A217,'Marks Entry'!$B$9:$FN$108,119,0))))","v":5},25,{"$f":"IF(OR(A217=0,A217=\"\"),\"\",IF($L220=\"TC\",0,IF($L220=\"Nso\",0,VLOOKUP($A217,'Marks Entry'!$B$9:$FN$108,123,0))))","v":40},null,65,{"$f":"IF(OR(A217=0,A217=\"\"),\"\",IF($L220=\"TC\",0,IF($L220=\"Nso\",0,VLOOKUP($A217,'Marks Entry'!$B$9:$FN$108,126,0))))","v":90},null,155,{"$f":"IF(OR(A217=0,A217=\"\"),\"\",IF($L220=\"TC\",0,IF($L220=\"Nso\",0,VLOOKUP($A217,'Marks Entry'!$B$9:$FN$108,130,0))))","v":"B"}]
[null,"◘","Overall Result",null,null,"Total Max. Marks",null,"Total Obtained Marks",null,"Percentage",null,"Overall Div.","Overall Grade","Result","Position in Class"]
[null,"◘",{"$nulls":3},{"$f":"IF(OR(A217=0,A217=\"\"),\"\",IF($L220=\"TC\",0,IF($L220=\"Nso\",0,VLOOKUP($A217,'Marks Entry'!$B$9:$FN$108,161,0))))","v":1200},null,{"$f":"IF(OR(A217=0,A217=\"\"),\"\",IF($L220=\"TC\",0,IF($L220=\"Nso\",0,VLOOKUP($A217,'Marks Entry'!$B$9:$FN$108,162,0))))","v":750},null,{"$f":"IF(OR(A217=0,A217=\"\"),\"\",IF($L220=\"TC\",0,IF($L220=\"Nso\",0,VLOOKUP($A217,'Marks Entry'!$B$9:$FN$108,163,0))))","v":{"v":62.5,"d":"62.50"}},null,{"$f":"IF(OR(A217=0,A217=\"\"),\"\",IF($L220=\"TC\",0,IF($L220=\"Nso\",0,VLOOKUP($A217,'Marks Entry'!$B$9:$FN$108,164,0))))","v":"First"},{"$f":"IF(OR(A217=0,A217=\"\"),\"\",IF($L220=\"TC\",0,IF($L220=\"Nso\",0,VLOOKUP($A217,'Marks Entry'!$B$9:$FN$108,165,0))))","v":"C"},{"$f":"IF(OR(A217=0,A217=\"\"),\"\",IF($L220=\"TC\",\"TC\",IF($L220=\"Nso\",\"NSO\",VLOOKUP($A217,'Marks Entry'!$B$9:$FN$108,166,0))))","v":"PASSED"},{"$f":"IF(OR(A217=0,A217=\"\"),\"\",IF($L220=\"Nso\",0,VLOOKUP($A217,'Marks Entry'!$B$9:$FN$108,168,0)))","v":0.9999999999999993}]
[null,"◘","Extra Subjects",{"$nulls":6},"Total Meetings :-",null,null,{"$f":"IF(OR(A217=0,A217=\"\"),\"\",IF($L220=\"TC\",0,IF($L220=\"Nso\",0,VLOOKUP($A217,'Marks Entry'!$B$9:$FN$108,158,0))))","v":0},"Attendance Percentage"]
[null,"◘","Subject",null,null,"Obtained/Total Marks",null,null,"GRADE","Student's Meetings :-",null,null,{"$f":"IF(OR(A217=0,A217=\"\"),\"\",IF($L220=\"TC\",0,IF($L220=\"Nso\",0,VLOOKUP($A217,'Marks Entry'!$B$9:$FN$108,159,0))))","v":0},{"$f":"IF(OR(A217=0,A217=\"\"),\"\",IF($L220=\"TC\",0,IF($L220=\"Nso\",0,VLOOKUP($A217,'Marks Entry'!$B$9:$FN$108,160,0))))","v":""}]
[null,"◘",{"$nulls":6},"A/B/C/D","Remark :-",null,null,{"$f":"IF(OR(A217=0,A217=\"\"),\"\",IF($L220=\"TC\",0,IF($L220=\"Nso\",0,VLOOKUP($A217,'Marks Entry'!$B$9:$FN$108,169,0))))","v":"Good"}]
[null,"◘",{"$f":"'Marks Entry'!$EB$3","v":"Work Exp."},null,null,{"$f":"IF(OR(A217=0,A217=\"\"),\"\",IF($L220=\"TC\",0,IF($L220=\"Nso\",0,VLOOKUP($A217,'Marks Entry'!$B$9:$GM$108,186,0))))","v":"71/100"},null,null,{"$f":"IF(OR(A217=0,A217=\"\"),\"\",IF($L220=\"TC\",0,IF($L220=\"Nso\",0,VLOOKUP($A217,'Marks Entry'!$B$9:$GM$108,139,0))))","v":"B"},"Result Date :-",null,null,{"$f":"IF(OR(A217=0,A217=\"\"),\"\",'Marks Entry'!$AA$2)","v":"2024-05-07"}]
[null,"◘",{"$f":"'Marks Entry'!$EK$3","v":"Art Edu."},null,null,{"$f":"IF(OR(A217=0,A217=\"\"),\"\",IF($L220=\"TC\",0,IF($L220=\"Nso\",0,VLOOKUP($A217,'Marks Entry'!$B$9:$GM$108,190,0))))","v":"71/100"},null,null,{"$f":"IF(OR(A217=0,A217=\"\"),\"\",IF($L220=\"TC\",0,IF($L220=\"Nso\",0,VLOOKUP($A217,'Marks Entry'!$B$9:$GM$108,148,0))))","v":"B"}]
[null,"◘",{"$f":"'Marks Entry'!$ET$3","v":"HEALTH & PHY. EDU."},null,null,{"$f":"IF(OR(A217=0,A217=\"\"),\"\",IF($L220=\"TC\",0,IF($L220=\"Nso\",0,VLOOKUP($A217,'Marks Entry'!$B$9:$GM$108,194,0))))","v":"71/100"},null,null,{"$f":"IF(OR(A217=0,A217=\"\"),\"\",IF($L220=\"TC\",0,IF($L220=\"Nso\",0,VLOOKUP($A217,'Marks Entry'!$B$9:$GM$108,157,0))))","v":"B"},"Signature Of The Class Teacher"]
[null,"◘","Grading System"]
[null,"◘","Grade","% Range",null,"Description",{"$nulls":3},"Signature And Seal Of Principal/H.M."]
[null,"◘","A","86-100",null,"Excellent"]
[null,"◘","B","71-85",null,"Very Good"]
[null,"◘","C","51-70",null,"Good",{"$nulls":3},"Wish bright future"]
[null,"◘","D","31-50",null,"Average"]
[null,"◘","E","0-30",null,"Need Improvement"]
[]
[{"$f":"IF(A217=0,0,A217+1)","v":8},"Department Of Education, Rajasthan"]
[null,108,{"$f":"logo","v":{"$error":"#REF!"}},{"$f":"Master!$E$8","v":"Govt. Sr. Secondary School "}]
[{"$nulls":3},{"$f":"Master!$E$11","v":"P.S.-Bapini (Jodhpur)"}]
[null,null,"Final Report Card",{"$nulls":5},"Roll No.:-",null,null,{"$f":"IF(OR(A253=0,A253=\"\"),0,VLOOKUP(A253,'Marks Entry'!$B$9:$G$108,6))","v":908},{"$f":"CONCATENATE('Marks Entry'!$C$3,\"0\",'Marks Entry'!$G$3)","v":"School U-Dise Code :-08151106901"}]
[{"$nulls":12},{"$f":"CONCATENATE('Marks Entry'!$I$3,'Marks Entry'!$J$3)","v":"Session :-2024-25"}]
[]
[null,"◘","Scholar Number",{"$nulls":4},"●→",{"$f":"IF(OR(A253=0,A253=\"\"),\"\",VLOOKUP($A253,'Marks Entry'!$B$9:$FN$108,4,0))","v":1}]
[null,"◘","Student's Name",{"$nulls":4},"●→",{"$f":"IF(OR(A253=0,A253=\"\"),\"\",VLOOKUP($A253,'Marks Entry'!$B$9:$FN$108,7,0))","v":0}]
[null,"◘","Father's Name",{"$nulls":4},"●→",{"$f":"IF(OR(A253=0,A253=\"\"),\"\",VLOOKUP($A253,'Marks Entry'!$B$9:$FN$108,8,0))","v":0}]
[null,"◘","Mother's Name ",{"$nulls":4},"●→",{"$f":"IF(OR(A253=0,A253=\"\"),\"\",VLOOKUP($A253,'Marks Entry'!$B$9:$FN$108,9,0))","v":0}]
[null,"◘","Class & Section",{"$nulls":4},"●→",{"$f":"IF(OR(A253=0,A253=\"\"),\"\",CONCATENATE('Marks Entry'!$G$4,'Marks Entry'!$J$4))","v":"6(A)"}]
[null,"◘","Date Of Birth",{"$nulls":4},"●→",{"$f":"IF(OR(A253=0,A253=\"\"),\"\",VLOOKUP($A253,'Marks Entry'!$B$9:$FN$108,10,0))","v":"00:00:00"}]
[null,"◘","Subject",null,"First Test","Second Test",{"$f":"'Marks Entry'!$R$5","v":"No Bag Day Activity"},"Total","Half Yearly",null,"Total (Test+H.Y.)","Yearly Exam",null,"Grand Total","Subject Div Or Description"]
[null,"◘","Max. Marks",null,{"$f":"'Marks Entry'!$N$7","v":10},{"$f":"'Marks Entry'!$Q$7","v":10},{"$f":"'Marks Entry'!$T$7","v":10},{"$f":"SUM(E266:G266)","v":30},{"$f":"'Marks Entry'!$X$7","v":70},null,{"$f":"SUM(H266,I266)","v":100},{"$f":"'Marks Entry'!$AA$7","v":100},null,{"$f":"H266+I266+L266","v":200}]
[null,"◘",{"$f":"'Marks Entry'!$L$3","v":"HINDI"},null,{"$f":"IF(OR(A253=0,A253=\"\"),\"\",IF($L256=\"TC\",0,IF($L256=\"Nso\",0,VLOOKUP($A253,'Marks Entry'!$B$9:$FN$108,13,0))))","v":0},{"$f":"IF(OR(A253=0,A253=\"\"),\"\",IF($L256=\"TC\",0,IF($L256=\"Nso\",0,VLOOKUP($A253,'Marks Entry'!$B$9:$FN$108,16,0))))","v":0},{"$f":"IF(OR(A253=0,A253=\"\"),\"\",IF($L256=\"TC\",0,IF($L256=\"Nso\",0,VLOOKUP($A253,'Marks Entry'!$B$9:$FN$108,19,0))))","v":0},{"$f":"SUM(E267:G267)","v":0},{"$f":"IF(OR(A253=0,A253=\"\"),\"\",IF($L256=\"TC\",0,IF($L256=\"Nso\",0,VLOOKUP($A253,'Marks Entry'!$B$9:$FN$108,23,0))))","v":0},null,{"$f":"SUM(H267,I267)","v":0},{"$f":"IF(OR(A253=0,A253=\"\"),\"\",IF($L256=\"TC\",0,IF($L256=\"Nso\",0,VLOOKUP($A253,'Marks Entry'!$B$9:$FN$108,26,0))))","v":0},null,{"$f":"SUM(H267,I267,L267)","v":0},{"$f":"IF(OR(A253=0,A253=\"\"),\"\",IF($L256=\"TC\",0,IF($L256=\"Nso\",0,VLOOKUP($A253,'Marks Entry'!$B$9:$FN$108,30,0))))","v":"E"}]
[null,"◘",{"$f":"'Marks Entry'!$AF$3","v":"ENGLISH"},null,{"$f":"IF(OR(A253=0,A253=\"\"),\"\",IF($L256=\"TC\",0,IF($L256=\"Nso\",0,VLOOKUP($A253,'Marks Entry'!$B$9:$FN$108,33,0))))","v":0},{"$f":"IF(OR(A253=0,A253=\"\"),\"\",IF($L256=\"TC\",0,IF($L256=\"Nso\",0,VLOOKUP($A253,'Marks Entry'!$B$9:$FN$108,36,0))))","v":0},{"$f":"IF(OR(A253=0,A253=\"\"),\"\",IF($L256=\"TC\",0,IF($L256=\"Nso\",0,VLOOKUP($A253,'Marks Entry'!$B$9:$FN$108,39,0))))","v":0},{"$f":"SUM(E268:G268)","v":0},{"$f":"IF(OR(A253=0,A253=\"\"),\"\",IF($L256=\"TC\",0,IF($L256=\"Nso\",0,VLOOKUP($A253,'Marks Entry'!$B$9:$FN$108,43,0))))","v":0},null,{"$f":"SUM(H268,I268)","v":0},{"$f":"IF(OR(A253=0,A253=\"\"),\"\",IF($L256=\"TC\",0,IF($L256=\"Nso\",0,VLOOKUP($A253,'Marks Entry'!$B$9:$FN$108,46,0))))","v":0},null,{"$f":"SUM(H268,I268,L268)","v":0},{"$f":"IF(OR(A253=0,A253=\"\"),\"\",IF($L256=\"TC\",0,IF($L256=\"Nso\",0,VLOOKUP($A253,'Marks Entry'!$B$9:$FN$108,50,0))))","v":"E"}]
[null,"◘",{"$f":"'Marks Entry'!$AZ$3","v":"SANSKRIT"},null,{"$f":"IF(OR(A253=0,A253=\"\"),\"\",IF($L256=\"TC\",0,IF($L256=\"Nso\",0,VLOOKUP($A253,'Marks Entry'!$B$9:$FN$108,53,0))))","v":0},{"$f":"IF(OR(A253=0,A253=\"\"),\"\",IF($L256=\"TC\",0,IF($L256=\"TC\",0,IF($L256=\"Nso\",0,VLOOKUP($A253,'Marks Entry'!$B$9:$FN$108,56,0)))))","v":0},{"$f":"IF(OR(A253=0,A253=\"\"),\"\",IF($L256=\"TC\",0,IF($L256=\"TC\",0,IF($L256=\"Nso\",0,VLOOKUP($A253,'Marks Entry'!$B$9:$FN$108,59,0)))))","v":0},0,{"$f":"IF(OR(A253=0,A253=\"\"),\"\",IF($L256=\"TC\",0,IF($L256=\"Nso\",0,VLOOKUP($A253,'Marks Entry'!$B$9:$FN$108,63,0))))","v":0},null,0,{"$f":"IF(OR(A253=0,A253=\"\"),\"\",IF($L256=\"TC\",0,IF($L256=\"Nso\",0,VLOOKUP($A253,'Marks Entry'!$B$9:$FN$108,66,0))))","v":0},null,0,{"$f":"IF(OR(A253=0,A253=\"\"),\"\",IF($L256=\"TC\",0,IF($L256=\"Nso\",0,VLOOKUP($A253,'Marks Entry'!$B$9:$FN$108,70,0))))","v":"E"}]
[null,"◘",{"$f":"'Marks Entry'!$BT$3","v":"SCIENCE"},null,{"$f":"IF(OR(A253=0,A253=\"\"),\"\",IF($L256=\"TC\",0,IF($L256=\"Nso\",0,VLOOKUP($A253,'Marks Entry'!$B$9:$FN$108,73,0))))","v":0},{"$f":"IF(OR(A253=0,A253=\"\"),\"\",IF($L256=\"TC\",0,IF($L256=\"Nso\",0,VLOOKUP($A253,'Marks Entry'!$B$9:$FN$108,76,0))))","v":0},{"$f":"IF(OR(A253=0,A253=\"\"),\"\",IF($L256=\"TC\",0,IF($L256=\"Nso\",0,VLOOKUP($A253,'Marks Entry'!$B$9:$FN$108,79,0))))","v":0},0,{"$f":"IF(OR(A253=0,A253=\"\"),\"\",IF($L256=\"TC\",0,IF($L256=\"Nso\",0,VLOOKUP($A253,'Marks Entry'!$B$9:$FN$108,83,0))))","v":0},null,0,{"$f":"IF(OR(A253=0,A253=\"\"),\"\",IF($L256=\"TC\",0,IF($L256=\"Nso\",0,VLOOKUP($A253,'Marks Entry'!$B$9:$FN$108,86,0))))","v":0},null,0,{"$f":"IF(OR(A253=0,A253=\"\"),\"\",IF($L256=\"TC\",0,IF($L256=\"Nso\",0,VLOOKUP($A253,'Marks Entry'!$B$9:$FN$108,90,0))))","v":"E"}]
[null,"◘",{"$f":"'Marks Entry'!$CN$3","v":"MATHEMATICS"},null,{"$f":"IF(OR(A253=0,A253=\"\"),\"\",IF($L256=\"TC\",0,IF($L256=\"Nso\",0,VLOOKUP($A253,'Marks Entry'!$B$9:$FN$108,93,0))))","v":0},{"$f":"IF(OR(A253=0,A253=\"\"),\"\",IF($L256=\"TC\",0,IF($L256=\"Nso\",0,VLOOKUP($A253,'Marks Entry'!$B$9:$FN$108,96,0))))","v":0},{"$f":"IF(OR(A253=0,A253=\"\"),\"\",IF($L256=\"TC\",0,IF($L256=\"Nso\",0,VLOOKUP($A253,'Marks Entry'!$B$9:$FN$108,99,0))))","v":0},0,{"$f":"IF(OR(A253=0,A253=\"\"),\"\",IF($L256=\"TC\",0,IF($L256=\"Nso\",0,VLOOKUP($A253,'Marks Entry'!$B$9:$FN$108,103,0))))","v":0},null,0,{"$f":"IF(OR(A253=0,A253=\"\"),\"\",IF($L256=\"TC\",0,IF($L256=\"Nso\",0,VLOOKUP($A253,'Marks Entry'!$B$9:$FN$108,106,0))))","v":0},null,0,{"$f":"IF(OR(A253=0,A253=\"\"),\"\",IF($L256=\"TC\",0,IF($L256=\"Nso\",0,VLOOKUP($A253,'Marks Entry'!$B$9:$FN$108,110,0))))","v":"E"}]
[null,"◘",{"$f":"'Marks Entry'!$DH$3","v":"SOCIAL SCIENCE"},null,{"$f":"IF(OR(A253=0,A253=\"\"),\"\",IF($L256=\"TC\",0,IF($L256=\"Nso\",0,VLOOKUP($A253,'Marks Entry'!$B$9:$FN$108,113,0))))","v":0},{"$f":"IF(OR(A253=0,A253=\"\"),\"\",IF($L256=\"TC\",0,IF($L256=\"Nso\",0,VLOOKUP($A253,'Marks Entry'!$B$9:$FN$108,116,0))))","v":0},{"$f":"IF(OR(A253=0,A253=\"\"),\"\",IF($L256=\"TC\",0,IF($L256=\"Nso\",0,VLOOKUP($A253,'Marks Entry'!$B$9:$FN$108,119,0))))","v":0},0,{"$f":"IF(OR(A253=0,A253=\"\"),\"\",IF($L256=\"TC\",0,IF($L256=\"Nso\",0,VLOOKUP($A253,'Marks Entry'!$B$9:$FN$108,123,0))))","v":0},null,0,{"$f":"IF(OR(A253=0,A253=\"\"),\"\",IF($L256=\"TC\",0,IF($L256=\"Nso\",0,VLOOKUP($A253,'Marks Entry'!$B$9:$FN$108,126,0))))","v":0},null,0,{"$f":"IF(OR(A253=0,A253=\"\"),\"\",IF($L256=\"TC\",0,IF($L256=\"Nso\",0,VLOOKUP($A253,'Marks Entry'!$B$9:$FN$108,130,0))))","v":"E"}]
[null,"◘","Overall Result",null,null,"Total Max. Marks",null,"Total Obtained Marks",null,"Percentage",null,"Overall Div.","Overall Grade","Result","Position in Class"]
[null,"◘",{"$nulls":3},{"$f":"IF(OR(A253=0,A253=\"\"),\"\",IF($L256=\"TC\",0,IF($L256=\"Nso\",0,VLOOKUP($A253,'Marks Entry'!$B$9:$FN$108,161,0))))","v":1200},null,{"$f":"IF(OR(A253=0,A253=\"\"),\"\",IF($L256=\"TC\",0,IF($L256=\"Nso\",0,VLOOKUP($A253,'Marks Entry'!$B$9:$FN$108,162,0))))","v":0},null,{"$f":"IF(OR(A253=0,A253=\"\"),\"\",IF($L256=\"TC\",0,IF($L256=\"Nso\",0,VLOOKUP($A253,'Marks Entry'!$B$9:$FN$108,163,0))))","v":{"v":0,"d":"0.00"}},null,{"$f":"IF(OR(A253=0,A253=\"\"),\"\",IF($L256=\"TC\",0,IF($L256=\"Nso\",0,VLOOKUP($A253,'Marks Entry'!$B$9:$FN$108,164,0))))","v":""},{"$f":"IF(OR(A253=0,A253=\"\"),\"\",IF($L256=\"TC\",0,IF($L256=\"Nso\",0,VLOOKUP($A253,'Marks Entry'!$B$9:$FN$108,165,0))))","v":""},{"$f":"IF(OR(A253=0,A253=\"\"),\"\",IF($L256=\"TC\",\"TC\",IF($L256=\"Nso\",\"NSO\",VLOOKUP($A253,'Marks Entry'!$B$9:$FN$108,166,0))))","v":"PROMOTED"},{"$f":"IF(OR(A253=0,A253=\"\"),\"\",IF($L256=\"Nso\",0,VLOOKUP($A253,'Marks Entry'!$B$9:$FN$108,168,0)))","v":""}]
[null,"◘","Extra Subjects",{"$nulls":6},"Total Meetings :-",null,null,{"$f":"IF(OR(A253=0,A253=\"\"),\"\",IF($L256=\"TC\",0,IF($L256=\"Nso\",0,VLOOKUP($A253,'Marks Entry'!$B$9:$FN$108,158,0))))","v":0},"Attendance Percentage"]
[null,"◘","Subject",null,null,"Obtained/Total Marks",null,null,"GRADE","Student's Meetings :-",null,null,{"$f":"IF(OR(A253=0,A253=\"\"),\"\",IF($L256=\"TC\",0,IF($L256=\"Nso\",0,VLOOKUP($A253,'Marks Entry'!$B$9:$FN$108,159,0))))","v":0},{"$f":"IF(OR(A253=0,A253=\"\"),\"\",IF($L256=\"TC\",0,IF($L256=\"Nso\",0,VLOOKUP($A253,'Marks Entry'!$B$9:$FN$108,160,0))))","v":""}]
[null,"◘",{"$nulls":6},"A/B/C/D","Remark :-",null,null,{"$f":"IF(OR(A253=0,A253=\"\"),\"\",IF($L256=\"TC\",0,IF($L256=\"Nso\",0,VLOOKUP($A253,'Marks Entry'!$B$9:$FN$108,169,0))))","v":"Need Improvement"}]
[null,"◘",{"$f":"'Marks Entry'!$EB$3","v":"Work Exp."},null,null,{"$f":"IF(OR(A253=0,A253=\"\"),\"\",IF($L256=\"TC\",0,IF($L256=\"Nso\",0,VLOOKUP($A253,'Marks Entry'!$B$9:$GM$108,186,0))))","v":"0/100"},null,null,{"$f":"IF(OR(A253=0,A253=\"\"),\"\",IF($L256=\"TC\",0,IF($L256=\"Nso\",0,VLOOKUP($A253,'Marks Entry'!$B$9:$GM$108,139,0))))","v":"E"},"Result Date :-",null,null,{"$f":"IF(OR(A253=0,A253=\"\"),\"\",'Marks Entry'!$AA$2)","v":"2024-05-07"}]
[null,"◘",{"$f":"'Marks Entry'!$EK$3","v":"Art Edu."},null,null,{"$f":"IF(OR(A253=0,A253=\"\"),\"\",IF($L256=\"TC\",0,IF($L256=\"Nso\",0,VLOOKUP($A253,'Marks Entry'!$B$9:$GM$108,190,0))))","v":"0/100"},null,null,{"$f":"IF(OR(A253=0,A253=\"\"),\"\",IF($L256=\"TC\",0,IF($L256=\"Nso\",0,VLOOKUP($A253,'Marks Entry'!$B$9:$GM$108,148,0))))","v":"E"}]
[null,"◘",{"$f":"'Marks Entry'!$ET$3","v":"HEALTH & PHY. EDU."},null,null,{"$f":"IF(OR(A253=0,A253=\"\"),\"\",IF($L256=\"TC\",0,IF($L256=\"Nso\",0,VLOOKUP($A253,'Marks Entry'!$B$9:$GM$108,194,0))))","v":"0/100"},null,null,{"$f":"IF(OR(A253=0,A253=\"\"),\"\",IF($L256=\"TC\",0,IF($L256=\"Nso\",0,VLOOKUP($A253,'Marks Entry'!$B$9:$GM$108,157,0))))","v":"E"},"Signature Of The Class Teacher"]
[null,"◘","Grading System"]
[null,"◘","Grade","% Range",null,"Description",{"$nulls":3},"Signature And Seal Of Principal/H.M."]
[null,"◘","A","86-100",null,"Excellent"]
[null,"◘","B","71-85",null,"Very Good"]
[null,"◘","C","51-70",null,"Good",{"$nulls":3},"Wish bright future"]
[null,"◘","D","31-50",null,"Average"]
[null,"◘","E","0-30",null,"Need Improvement"]
[]
[{"$f":"IF(A253=0,0,A253+1)","v":9},"Department Of Education, Rajasthan"]
[null,108,{"$f":"logo","v":{"$error":"#REF!"}},{"$f":"Master!$E$8","v":"Govt. Sr. Secondary School "}]
[{"$nulls":3},{"$f":"Master!$E$11","v":"P.S.-Bapini (Jodhpur)"}]
[null,null,"Final Report Card",{"$nulls":5},"Roll No.:-",null,null,{"$f":"IF(OR(A289=0,A289=\"\"),0,VLOOKUP(A289,'Marks Entry'!$B$9:$G$108,6))","v":909},{"$f":"CONCATENATE('Marks Entry'!$C$3,\"0\",'Marks Entry'!$G$3)","v":"School U-Dise Code :-08151106901"}]
[{"$nulls":12},{"$f":"CONCATENATE('Marks Entry'!$I$3,'Marks Entry'!$J$3)","v":"Session :-2024-25"}]
[]
[null,"◘","Scholar Number",{"$nulls":4},"●→",{"$f":"IF(OR(A289=0,A289=\"\"),\"\",VLOOKUP($A289,'Marks Entry'!$B$9:$FN$108,4,0))","v":2}]
[null,"◘","Student's Name",{"$nulls":4},"●→",{"$f":"IF(OR(A289=0,A289=\"\"),\"\",VLOOKUP($A289,'Marks Entry'!$B$9:$FN$108,7,0))","v":0}]
[null,"◘","Father's Name",{"$nulls":4},"●→",{"$f":"IF(OR(A289=0,A289=\"\"),\"\",VLOOKUP($A289,'Marks Entry'!$B$9:$FN$108,8,0))","v":0}]
[null,"◘","Mother's Name ",{"$nulls":4},"●→",{"$f":"IF(OR(A289=0,A289=\"\"),\"\",VLOOKUP($A289,'Marks Entry'!$B$9:$FN$108,9,0))","v":0}]
[null,"◘","Class & Section",{"$nulls":4},"●→",{"$f":"IF(OR(A289=0,A289=\"\"),\"\",CONCATENATE('Marks Entry'!$G$4,'Marks Entry'!$J$4))","v":"6(A)"}]
[null,"◘","Date Of Birth",{"$nulls":4},"●→",{"$f":"IF(OR(A289=0,A289=\"\"),\"\",VLOOKUP($A289,'Marks Entry'!$B$9:$FN$108,10,0))","v":"00:00:00"}]
[null,"◘","Subject",null,"First Test","Second Test",{"$f":"'Marks Entry'!$R$5","v":"No Bag Day Activity"},"Total","Half Yearly",null,"Total (Test+H.Y.)","Yearly Exam",null,"Grand Total","Subject Div Or Description"]
[null,"◘","Max. Marks",null,{"$f":"'Marks Entry'!$N$7","v":10},{"$f":"'Marks Entry'!$Q$7","v":10},{"$f":"'Marks Entry'!$T$7","v":10},{"$f":"SUM(E302:G302)","v":30},{"$f":"'Marks Entry'!$X$7","v":70},null,{"$f":"SUM(H302,I302)","v":100},{"$f":"'Marks Entry'!$AA$7","v":100},null,{"$f":"H302+I302+L302","v":200}]
[null,"◘",{"$f":"'Marks Entry'!$L$3","v":"HINDI"},null,{"$f":"IF(OR(A289=0,A289=\"\"),\"\",IF($L292=\"TC\",0,IF($L292=\"Nso\",0,VLOOKUP($A289,'Marks Entry'!$B$9:$FN$108,13,0))))","v":0},{"$f":"IF(OR(A289=0,A289=\"\"),\"\",IF($L292=\"TC\",0,IF($L292=\"Nso\",0,VLOOKUP($A289,'Marks Entry'!$B$9:$FN$108,16,0))))","v":0},{"$f":"IF(OR(A289=0,A289=\"\"),\"\",IF($L292=\"TC\",0,IF($L292=\"Nso\",0,VLOOKUP($A289,'Marks Entry'!$B$9:$FN$108,19,0))))","v":0},{"$f":"SUM(E303:G303)","v":0},{"$f":"IF(OR(A289=0,A289=\"\"),\"\",IF($L292=\"TC\",0,IF($L292=\"Nso\",0,VLOOKUP($A289,'Marks Entry'!$B$9:$FN$108,23,0))))","v":0},null,{"$f":"SUM(H303,I303)","v":0},{"$f":"IF(OR(A289=0,A289=\"\"),\"\",IF($L292=\"TC\",0,IF($L292=\"Nso\",0,VLOOKUP($A289,'Marks Entry'!$B$9:$FN$108,26,0))))","v":0},null,{"$f":"SUM(H303,I303,L303)","v":0},{"$f":"IF(OR(A289=0,A289=\"\"),\"\",IF($L292=\"TC\",0,IF($L292=\"Nso\",0,VLOOKUP($A289,'Marks Entry'!$B$9:$FN$108,30,0))))","v":"E"}]
[null,"◘",{"$f":"'Marks Entry'!$AF$3","v":"ENGLISH"},null,{"$f":"IF(OR(A289=0,A289=\"\"),\"\",IF($L292=\"TC\",0,IF($L292=\"Nso\",0,VLOOKUP($A289,'Marks Entry'!$B$9:$FN$108,33,0))))","v":0},{"$f":"IF(OR(A289=0,A289=\"\"),\"\",IF($L292=\"TC\",0,IF($L292=\"Nso\",0,VLOOKUP($A289,'Marks Entry'!$B$9:$FN$108,36,0))))","v":0},{"$f":"IF(OR(A289=0,A289=\"\"),\"\",IF($L292=\"TC\",0,IF($L292=\"Nso\",0,VLOOKUP($A289,'Marks Entry'!$B$9:$FN$108,39,0))))","v":0},{"$f":"SUM(E304:G304)","v":0},{"$f":"IF(OR(A289=0,A289=\"\"),\"\",IF($L292=\"TC\",0,IF($L292=\"Nso\",0,VLOOKUP($A289,'Marks Entry'!$B$9:$FN$108,43,0))))","v":0},null,{"$f":"SUM(H304,I304)","v":0},{"$f":"IF(OR(A289=0,A289=\"\"),\"\",IF($L292=\"TC\",0,IF($L292=\"Nso\",0,VLOOKUP($A289,'Marks Entry'!$B$9:$FN$108,46,0))))","v":0},null,{"$f":"SUM(H304,I304,L304)","v":0},{"$f":"IF(OR(A289=0,A289=\"\"),\"\",IF($L292=\"TC\",0,IF($L292=\"Nso\",0,VLOOKUP($A289,'Marks Entry'!$B$9:$FN$108,50,0))))","v":"E"}]
[null,"◘",{"$f":"'Marks Entry'!$AZ$3","v":"SANSKRIT"},null,{"$f":"IF(OR(A289=0,A289=\"\"),\"\",IF($L292=\"TC\",0,IF($L292=\"Nso\",0,VLOOKUP($A289,'Marks Entry'!$B$9:$FN$108,53,0))))","v":0},{"$f":"IF(OR(A289=0,A289=\"\"),\"\",IF($L292=\"TC\",0,IF($L292=\"TC\",0,IF($L292=\"Nso\",0,VLOOKUP($A289,'Marks Entry'!$B$9:$FN$108,56,0)))))","v":0},{"$f":"IF(OR(A289=0,A289=\"\"),\"\",IF($L292=\"TC\",0,IF($L292=\"TC\",0,IF($L292=\"Nso\",0,VLOOKUP($A289,'Marks Entry'!$B$9:$FN$108,59,0)))))","v":0},0,{"$f":"IF(OR(A289=0,A289=\"\"),\"\",IF($L292=\"TC\",0,IF($L292=\"Nso\",0,VLOOKUP($A289,'Marks Entry'!$B$9:$FN$108,63,0))))","v":0},null,0,{"$f":"IF(OR(A289=0,A289=\"\"),\"\",IF($L292=\"TC\",0,IF($L292=\"Nso\",0,VLOOKUP($A289,'Marks Entry'!$B$9:$FN$108,66,0))))","v":0},null,0,{"$f":"IF(OR(A289=0,A289=\"\"),\"\",IF($L292=\"TC\",0,IF($L292=\"Nso\",0,VLOOKUP($A289,'Marks Entry'!$B$9:$FN$108,70,0))))","v":"E"}]
[null,"◘",{"$f":"'Marks Entry'!$BT$3","v":"SCIENCE"},null,{"$f":"IF(OR(A289=0,A289=\"\"),\"\",IF($L292=\"TC\",0,IF($L292=\"Nso\",0,VLOOKUP($A289,'Marks Entry'!$B$9:$FN$108,73,0))))","v":0},{"$f":"IF(OR(A289=0,A289=\"\"),\"\",IF($L292=\"TC\",0,IF($L292=\"Nso\",0,VLOOKUP($A289,'Marks Entry'!$B$9:$FN$108,76,0))))","v":0},{"$f":"IF(OR(A289=0,A289=\"\"),\"\",IF($L292=\"TC\",0,IF($L292=\"Nso\",0,VLOOKUP($A289,'Marks Entry'!$B$9:$FN$108,79,0))))","v":0},0,{"$f":"IF(OR(A289=0,A289=\"\"),\"\",IF($L292=\"TC\",0,IF($L292=\"Nso\",0,VLOOKUP($A289,'Marks Entry'!$B$9:$FN$108,83,0))))","v":0},null,0,{"$f":"IF(OR(A289=0,A289=\"\"),\"\",IF($L292=\"TC\",0,IF($L292=\"Nso\",0,VLOOKUP($A289,'Marks Entry'!$B$9:$FN$108,86,0))))","v":0},null,0,{"$f":"IF(OR(A289=0,A289=\"\"),\"\",IF($L292=\"TC\",0,IF($L292=\"Nso\",0,VLOOKUP($A289,'Marks Entry'!$B$9:$FN$108,90,0))))","v":"E"}]
[null,"◘",{"$f":"'Marks Entry'!$CN$3","v":"MATHEMATICS"},null,{"$f":"IF(OR(A289=0,A289=\"\"),\"\",IF($L292=\"TC\",0,IF($L292=\"Nso\",0,VLOOKUP($A289,'Marks Entry'!$B$9:$FN$108,93,0))))","v":0},{"$f":"IF(OR(A289=0,A289=\"\"),\"\",IF($L292=\"TC\",0,IF($L292=\"Nso\",0,VLOOKUP($A289,'Marks Entry'!$B$9:$FN$108,96,0))))","v":0},{"$f":"IF(OR(A289=0,A289=\"\"),\"\",IF($L292=\"TC\",0,IF($L292=\"Nso\",0,VLOOKUP($A289,'Marks Entry'!$B$9:$FN$108,99,0))))","v":0},0,{"$f":"IF(OR(A289=0,A289=\"\"),\"\",IF($L292=\"TC\",0,IF($L292=\"Nso\",0,VLOOKUP($A289,'Marks Entry'!$B$9:$FN$108,103,0))))","v":0},null,0,{"$f":"IF(OR(A289=0,A289=\"\"),\"\",IF($L292=\"TC\",0,IF($L292=\"Nso\",0,VLOOKUP($A289,'Marks Entry'!$B$9:$FN$108,106,0))))","v":0},null,0,{"$f":"IF(OR(A289=0,A289=\"\"),\"\",IF($L292=\"TC\",0,IF($L292=\"Nso\",0,VLOOKUP($A289,'Marks Entry'!$B$9:$FN$108,110,0))))","v":"E"}]
[null,"◘",{"$f":"'Marks Entry'!$DH$3","v":"SOCIAL SCIENCE"},null,{"$f":"IF(OR(A289=0,A289=\"\"),\"\",IF($L292=\"TC\",0,IF($L292=\"Nso\",0,VLOOKUP($A289,'Marks Entry'!$B$9:$FN$108,113,0))))","v":0},{"$f":"IF(OR(A289=0,A289=\"\"),\"\",IF($L292=\"TC\",0,IF($L292=\"Nso\",0,VLOOKUP($A289,'Marks Entry'!$B$9:$FN$108,116,0))))","v":0},{"$f":"IF(OR(A289=0,A289=\"\"),\"\",IF($L292=\"TC\",0,IF($L292=\"Nso\",0,VLOOKUP($A289,'Marks Entry'!$B$9:$FN$108,119,0))))","v":0},0,{"$f":"IF(OR(A289=0,A289=\"\"),\"\",IF($L292=\"TC\",0,IF($L292=\"Nso\",0,VLOOKUP($A289,'Marks Entry'!$B$9:$FN$108,123,0))))","v":0},null,0,{"$f":"IF(OR(A289=0,A289=\"\"),\"\",IF($L292=\"TC\",0,IF($L292=\"Nso\",0,VLOOKUP($A289,'Marks Entry'!$B$9:$FN$108,126,0))))","v":0},null,0,{"$f":"IF(OR(A289=0,A289=\"\"),\"\",IF($L292=\"TC\",0,IF($L292=\"Nso\",0,VLOOKUP($A289,'Marks Entry'!$B$9:$FN$108,130,0))))","v":"E"}]
[null,"◘","Overall Result",null,null,"Total Max. Marks",null,"Total Obtained Marks",null,"Percentage",null,"Overall Div.","Overall Grade","Result","Position in Class"]
[null,"◘",{"$nulls":3},{"$f":"IF(OR(A289=0,A289=\"\"),\"\",IF($L292=\"TC\",0,IF($L292=\"Nso\",0,VLOOKUP($A289,'Marks Entry'!$B$9:$FN$108,161,0))))","v":1200},null,{"$f":"IF(OR(A289=0,A289=\"\"),\"\",IF($L292=\"TC\",0,IF($L292=\"Nso\",0,VLOOKUP($A289,'Marks Entry'!$B$9:$FN$108,162,0))))","v":0},null,{"$f":"IF(OR(A289=0,A289=\"\"),\"\",IF($L292=\"TC\",0,IF($L292=\"Nso\",0,VLOOKUP($A289,'Marks Entry'!$B$9:$FN$108,163,0))))","v":{"v":0,"d":"0.00"}},null,{"$f":"IF(OR(A289=0,A289=\"\"),\"\",IF($L292=\"TC\",0,IF($L292=\"Nso\",0,VLOOKUP($A289,'Marks Entry'!$B$9:$FN$108,164,0))))","v":""},{"$f":"IF(OR(A289=0,A289=\"\"),\"\",IF($L292=\"TC\",0,IF($L292=\"Nso\",0,VLOOKUP($A289,'Marks Entry'!$B$9:$FN$108,165,0))))","v":""},{"$f":"IF(OR(A289=0,A289=\"\"),\"\",IF($L292=\"TC\",\"TC\",IF($L292=\"Nso\",\"NSO\",VLOOKUP($A289,'Marks Entry'!$B$9:$FN$108,166,0))))","v":"PROMOTED"},{"$f":"IF(OR(A289=0,A289=\"\"),\"\",IF($L292=\"Nso\",0,VLOOKUP($A289,'Marks Entry'!$B$9:$FN$108,168,0)))","v":""}]
[null,"◘","Extra Subjects",{"$nulls":6},"Total Meetings :-",null,null,{"$f":"IF(OR(A289=0,A289=\"\"),\"\",IF($L292=\"TC\",0,IF($L292=\"Nso\",0,VLOOKUP($A289,'Marks Entry'!$B$9:$FN$108,158,0))))","v":0},"Attendance Percentage"]
[null,"◘","Subject",null,null,"Obtained/Total Marks",null,null,"GRADE","Student's Meetings :-",null,null,{"$f":"IF(OR(A289=0,A289=\"\"),\"\",IF($L292=\"TC\",0,IF($L292=\"Nso\",0,VLOOKUP($A289,'Marks Entry'!$B$9:$FN$108,159,0))))","v":0},{"$f":"IF(OR(A289=0,A289=\"\"),\"\",IF($L292=\"TC\",0,IF($L292=\"Nso\",0,VLOOKUP($A289,'Marks Entry'!$B$9:$FN$108,160,0))))","v":""}]
[null,"◘",{"$nulls":6},"A/B/C/D","Remark :-",null,null,{"$f":"IF(OR(A289=0,A289=\"\"),\"\",IF($L292=\"TC\",0,IF($L292=\"Nso\",0,VLOOKUP($A289,'Marks Entry'!$B$9:$FN$108,169,0))))","v":"Need Improvement"}]
[null,"◘",{"$f":"'Marks Entry'!$EB$3","v":"Work Exp."},null,null,{"$f":"IF(OR(A289=0,A289=\"\"),\"\",IF($L292=\"TC\",0,IF($L292=\"Nso\",0,VLOOKUP($A289,'Marks Entry'!$B$9:$GM$108,186,0))))","v":"0/100"},null,null,{"$f":"IF(OR(A289=0,A289=\"\"),\"\",IF($L292=\"TC\",0,IF($L292=\"Nso\",0,VLOOKUP($A289,'Marks Entry'!$B$9:$GM$108,139,0))))","v":"E"},"Result Date :-",null,null,{"$f":"IF(OR(A289=0,A289=\"\"),\"\",'Marks Entry'!$AA$2)","v":"2024-05-07"}]
[null,"◘",{"$f":"'Marks Entry'!$EK$3","v":"Art Edu."},null,null,{"$f":"IF(OR(A289=0,A289=\"\"),\"\",IF($L292=\"TC\",0,IF($L292=\"Nso\",0,VLOOKUP($A289,'Marks Entry'!$B$9:$GM$108,190,0))))","v":"0/100"},null,null,{"$f":"IF(OR(A289=0,A289=\"\"),\"\",IF($L292=\"TC\",0,IF($L292=\"Nso\",0,VLOOKUP($A289,'Marks Entry'!$B$9:$GM$108,148,0))))","v":"E"}]
[null,"◘",{"$f":"'Marks Entry'!$ET$3","v":"HEALTH & PHY. EDU."},null,null,{"$f":"IF(OR(A289=0,A289=\"\"),\"\",IF($L292=\"TC\",0,IF($L292=\"Nso\",0,VLOOKUP($A289,'Marks Entry'!$B$9:$GM$108,194,0))))","v":"0/100"},null,null,{"$f":"IF(OR(A289=0,A289=\"\"),\"\",IF($L292=\"TC\",0,IF($L292=\"Nso\",0,VLOOKUP($A289,'Marks Entry'!$B$9:$GM$108,157,0))))","v":"E"},"Signature Of The Class Teacher"]
[null,"◘","Grading System"]
[null,"◘","Grade","% Range",null,"Description",{"$nulls":3},"Signature And Seal Of Principal/H.M."]
[null,"◘","A","86-100",null,"Excellent"]
[null,"◘","B","71-85",null,"Very Good"]
[null,"◘","C","51-70",null,"Good",{"$nulls":3},"Wish bright future"]
[null,"◘","D","31-50",null,"Average"]
[null,"◘","E","0-30",null,"Need Improvement"]
[]
[{"$f":"IF(A289=0,0,A289+1)","v":10},"Department Of Education, Rajasthan"]
[null,108,{"$f":"logo","v":{"$error":"#REF!"}},{"$f":"Master!$E$8","v":"Govt. Sr. Secondary School "}]
[{"$nulls":3},{"$f":"Master!$E$11","v":"P.S.-Bapini (Jodhpur)"}]
[null,null,"Final Report Card",{"$nulls":5},"Roll No.:-",null,null,{"$f":"IF(OR(A325=0,A325=\"\"),0,VLOOKUP(A325,'Marks Entry'!$B$9:$G$108,6))","v":0},{"$f":"CONCATENATE('Marks Entry'!$C$3,\"0\",'Marks Entry'!$G$3)","v":"School U-Dise Code :-08151106901"}]
[{"$nulls":12},{"$f":"CONCATENATE('Marks Entry'!$I$3,'Marks Entry'!$J$3)","v":"Session :-2024-25"}]
[]
[null,"◘","Scholar Number",{"$nulls":4},"●→",{"$f":"IF(OR(A325=0,A325=\"\"),\"\",VLOOKUP($A325,'Marks Entry'!$B$9:$FN$108,4,0))","v":0}]
[null,"◘","Student's Name",{"$nulls":4},"●→",{"$f":"IF(OR(A325=0,A325=\"\"),\"\",VLOOKUP($A325,'Marks Entry'!$B$9:$FN$108,7,0))","v":0}]
[null,"◘","Father's Name",{"$nulls":4},"●→",{"$f":"IF(OR(A325=0,A325=\"\"),\"\",VLOOKUP($A325,'Marks Entry'!$B$9:$FN$108,8,0))","v":0}]
[null,"◘","Mother's Name ",{"$nulls":4},"●→",{"$f":"IF(OR(A325=0,A325=\"\"),\"\",VLOOKUP($A325,'Marks Entry'!$B$9:$FN$108,9,0))","v":0}]
[null,"◘","Class & Section",{"$nulls":4},"●→",{"$f":"IF(OR(A325=0,A325=\"\"),\"\",CONCATENATE('Marks Entry'!$G$4,'Marks Entry'!$J$4))","v":"6(A)"}]
[null,"◘","Date Of Birth",{"$nulls":4},"●→",{"$f":"IF(OR(A325=0,A325=\"\"),\"\",VLOOKUP($A325,'Marks Entry'!$B$9:$FN$108,10,0))","v":"00:00:00"}]
[null,"◘","Subject",null,"First Test","Second Test",{"$f":"'Marks Entry'!$R$5","v":"No Bag Day Activity"},"Total","Half Yearly",null,"Total (Test+H.Y.)","Yearly Exam",null,"Grand Total","Subject Div Or Description"]
[null,"◘","Max. Marks",null,{"$f":"'Marks Entry'!$N$7","v":10},{"$f":"'Marks Entry'!$Q$7","v":10},{"$f":"'Marks Entry'!$T$7","v":10},{"$f":"SUM(E338:G338)","v":30},{"$f":"'Marks Entry'!$X$7","v":70},null,{"$f":"SUM(H338,I338)","v":100},{"$f":"'Marks Entry'!$AA$7","v":100},null,{"$f":"H338+I338+L338","v":200}]
[null,"◘",{"$f":"'Marks Entry'!$L$3","v":"HINDI"},null,{"$f":"IF(OR(A325=0,A325=\"\"),\"\",IF($L328=\"TC\",0,IF($L328=\"Nso\",0,VLOOKUP($A325,'Marks Entry'!$B$9:$FN$108,13,0))))","v":0},{"$f":"IF(OR(A325=0,A325=\"\"),\"\",IF($L328=\"TC\",0,IF($L328=\"Nso\",0,VLOOKUP($A325,'Marks Entry'!$B$9:$FN$108,16,0))))","v":0},{"$f":"IF(OR(A325=0,A325=\"\"),\"\",IF($L328=\"TC\",0,IF($L328=\"Nso\",0,VLOOKUP($A325,'Marks Entry'!$B$9:$FN$108,19,0))))","v":0},{"$f":"SUM(E339:G339)","v":0},{"$f":"IF(OR(A325=0,A325=\"\"),\"\",IF($L328=\"TC\",0,IF($L328=\"Nso\",0,VLOOKUP($A325,'Marks Entry'!$B$9:$FN$108,23,0))))","v":0},null,{"$f":"SUM(H339,I339)","v":0},{"$f":"IF(OR(A325=0,A325=\"\"),\"\",IF($L328=\"TC\",0,IF($L328=\"Nso\",0,VLOOKUP($A325,'Marks Entry'!$B$9:$FN$108,26,0))))","v":0},null,{"$f":"SUM(H339,I339,L339)","v":0},{"$f":"IF(OR(A325=0,A325=\"\"),\"\",IF($L328=\"TC\",0,IF($L328=\"Nso\",0,VLOOKUP($A325,'Marks Entry'!$B$9:$FN$108,30,0))))","v":0}]
[null,"◘",{"$f":"'Marks Entry'!$AF$3","v":"ENGLISH"},null,{"$f":"IF(OR(A325=0,A325=\"\"),\"\",IF($L328=\"TC\",0,IF($L328=\"Nso\",0,VLOOKUP($A325,'Marks Entry'!$B$9:$FN$108,33,0))))","v":0},{"$f":"IF(OR(A325=0,A325=\"\"),\"\",IF($L328=\"TC\",0,IF($L328=\"Nso\",0,VLOOKUP($A325,'Marks Entry'!$B$9:$FN$108,36,0))))","v":0},{"$f":"IF(OR(A325=0,A325=\"\"),\"\",IF($L328=\"TC\",0,IF($L328=\"Nso\",0,VLOOKUP($A325,'Marks Entry'!$B$9:$FN$108,39,0))))","v":0},{"$f":"SUM(E340:G340)","v":0},{"$f":"IF(OR(A325=0,A325=\"\"),\"\",IF($L328=\"TC\",0,IF($L328=\"Nso\",0,VLOOKUP($A325,'Marks Entry'!$B$9:$FN$108,43,0))))","v":0},null,{"$f":"SUM(H340,I340)","v":0},{"$f":"IF(OR(A325=0,A325=\"\"),\"\",IF($L328=\"TC\",0,IF($L328=\"Nso\",0,VLOOKUP($A325,'Marks Entry'!$B$9:$FN$108,46,0))))","v":0},null,{"$f":"SUM(H340,I340,L340)","v":0},{"$f":"IF(OR(A325=0,A325=\"\"),\"\",IF($L328=\"TC\",0,IF($L328=\"Nso\",0,VLOOKUP($A325,'Marks Entry'!$B$9:$FN$108,50,0))))","v":0}]
[null,"◘",{"$f":"'Marks Entry'!$AZ$3","v":"SANSKRIT"},null,{"$f":"IF(OR(A325=0,A325=\"\"),\"\",IF($L328=\"TC\",0,IF($L328=\"Nso\",0,VLOOKUP($A325,'Marks Entry'!$B$9:$FN$108,53,0))))","v":0},{"$f":"IF(OR(A325=0,A325=\"\"),\"\",IF($L328=\"TC\",0,IF($L328=\"TC\",0,IF($L328=\"Nso\",0,VLOOKUP($A325,'Marks Entry'!$B$9:$FN$108,56,0)))))","v":0},{"$f":"IF(OR(A325=0,A325=\"\"),\"\",IF($L328=\"TC\",0,IF($L328=\"TC\",0,IF($L328=\"Nso\",0,VLOOKUP($A325,'Marks Entry'!$B$9:$FN$108,59,0)))))","v":0},0,{"$f":"IF(OR(A325=0,A325=\"\"),\"\",IF($L328=\"TC\",0,IF($L328=\"Nso\",0,VLOOKUP($A325,'Marks Entry'!$B$9:$FN$108,63,0))))","v":0},null,0,{"$f":"IF(OR(A325=0,A325=\"\"),\"\",IF($L328=\"TC\",0,IF($L328=\"Nso\",0,VLOOKUP($A325,'Marks Entry'!$B$9:$FN$108,66,0))))","v":0},null,0,{"$f":"IF(OR(A325=0,A325=\"\"),\"\",IF($L328=\"TC\",0,IF($L328=\"Nso\",0,VLOOKUP($A325,'Marks Entry'!$B$9:$FN$108,70,0))))","v":0}]
[null,"◘",{"$f":"'Marks Entry'!$BT$3","v":"SCIENCE"},null,{"$f":"IF(OR(A325=0,A325=\"\"),\"\",IF($L328=\"TC\",0,IF($L328=\"Nso\",0,VLOOKUP($A325,'Marks Entry'!$B$9:$FN$108,73,0))))","v":0},{"$f":"IF(OR(A325=0,A325=\"\"),\"\",IF($L328=\"TC\",0,IF($L328=\"Nso\",0,VLOOKUP($A325,'Marks Entry'!$B$9:$FN$108,76,0))))","v":0},{"$f":"IF(OR(A325=0,A325=\"\"),\"\",IF($L328=\"TC\",0,IF($L328=\"Nso\",0,VLOOKUP($A325,'Marks Entry'!$B$9:$FN$108,79,0))))","v":0},0,{"$f":"IF(OR(A325=0,A325=\"\"),\"\",IF($L328=\"TC\",0,IF($L328=\"Nso\",0,VLOOKUP($A325,'Marks Entry'!$B$9:$FN$108,83,0))))","v":0},null,0,{"$f":"IF(OR(A325=0,A325=\"\"),\"\",IF($L328=\"TC\",0,IF($L328=\"Nso\",0,VLOOKUP($A325,'Marks Entry'!$B$9:$FN$108,86,0))))","v":0},null,0,{"$f":"IF(OR(A325=0,A325=\"\"),\"\",IF($L328=\"TC\",0,IF($L328=\"Nso\",0,VLOOKUP($A325,'Marks Entry'!$B$9:$FN$108,90,0))))","v":0}]
[null,"◘",{"$f":"'Marks Entry'!$CN$3","v":"MATHEMATICS"},null,{"$f":"IF(OR(A325=0,A325=\"\"),\"\",IF($L328=\"TC\",0,IF($L328=\"Nso\",0,VLOOKUP($A325,'Marks Entry'!$B$9:$FN$108,93,0))))","v":0},{"$f":"IF(OR(A325=0,A325=\"\"),\"\",IF($L328=\"TC\",0,IF($L328=\"Nso\",0,VLOOKUP($A325,'Marks Entry'!$B$9:$FN$108,96,0))))","v":0},{"$f":"IF(OR(A325=0,A325=\"\"),\"\",IF($L328=\"TC\",0,IF($L328=\"Nso\",0,VLOOKUP($A325,'Marks Entry'!$B$9:$FN$108,99,0))))","v":0},0,{"$f":"IF(OR(A325=0,A325=\"\"),\"\",IF($L328=\"TC\",0,IF($L328=\"Nso\",0,VLOOKUP($A325,'Marks Entry'!$B$9:$FN$108,103,0))))","v":0},null,0,{"$f":"IF(OR(A325=0,A325=\"\"),\"\",IF($L328=\"TC\",0,IF($L328=\"Nso\",0,VLOOKUP($A325,'Marks Entry'!$B$9:$FN$108,106,0))))","v":0},null,0,{"$f":"IF(OR(A325=0,A325=\"\"),\"\",IF($L328=\"TC\",0,IF($L328=\"Nso\",0,VLOOKUP($A325,'Marks Entry'!$B$9:$FN$108,110,0))))","v":0}]
[null,"◘",{"$f":"'Marks Entry'!$DH$3","v":"SOCIAL SCIENCE"},null,{"$f":"IF(OR(A325=0,A325=\"\"),\"\",IF($L328=\"TC\",0,IF($L328=\"Nso\",0,VLOOKUP($A325,'Marks Entry'!$B$9:$FN$108,113,0))))","v":0},{"$f":"IF(OR(A325=0,A325=\"\"),\"\",IF($L328=\"TC\",0,IF($L328=\"Nso\",0,VLOOKUP($A325,'Marks Entry'!$B$9:$FN$108,116,0))))","v":0},{"$f":"IF(OR(A325=0,A325=\"\"),\"\",IF($L328=\"TC\",0,IF($L328=\"Nso\",0,VLOOKUP($A325,'Marks Entry'!$B$9:$FN$108,119,0))))","v":0},0,{"$f":"IF(OR(A325=0,A325=\"\"),\"\",IF($L328=\"TC\",0,IF($L328=\"Nso\",0,VLOOKUP($A325,'Marks Entry'!$B$9:$FN$108,123,0))))","v":0},null,0,{"$f":"IF(OR(A325=0,A325=\"\"),\"\",IF($L328=\"TC\",0,IF($L328=\"Nso\",0,VLOOKUP($A325,'Marks Entry'!$B$9:$FN$108,126,0))))","v":0},null,0,{"$f":"IF(OR(A325=0,A325=\"\"),\"\",IF($L328=\"TC\",0,IF($L328=\"Nso\",0,VLOOKUP($A325,'Marks Entry'!$B$9:$FN$108,130,0))))","v":0}]
[null,"◘","Overall Result",null,null,"Total Max. Marks",null,"Total Obtained Marks",null,"Percentage",null,"Overall Div.","Overall Grade","Result","Position in Class"]
[null,"◘",{"$nulls":3},{"$f":"IF(OR(A325=0,A325=\"\"),\"\",IF($L328=\"TC\",0,IF($L328=\"Nso\",0,VLOOKUP($A325,'Marks Entry'!$B$9:$FN$108,161,0))))","v":0},null,{"$f":"IF(OR(A325=0,A325=\"\"),\"\",IF($L328=\"TC\",0,IF($L328=\"Nso\",0,VLOOKUP($A325,'Marks Entry'!$B$9:$FN$108,162,0))))","v":0},null,{"$f":"IF(OR(A325=0,A325=\"\"),\"\",IF($L328=\"TC\",0,IF($L328=\"Nso\",0,VLOOKUP($A325,'Marks Entry'!$B$9:$FN$108,163,0))))","v":""},null,{"$f":"IF(OR(A325=0,A325=\"\"),\"\",IF($L328=\"TC\",0,IF($L328=\"Nso\",0,VLOOKUP($A325,'Marks Entry'!$B$9:$FN$108,164,0))))","v":""},{"$f":"IF(OR(A325=0,A325=\"\"),\"\",IF($L328=\"TC\",0,IF($L328=\"Nso\",0,VLOOKUP($A325,'Marks Entry'!$B$9:$FN$108,165,0))))","v":""},{"$f":"IF(OR(A325=0,A325=\"\"),\"\",IF($L328=\"TC\",\"TC\",IF($L328=\"Nso\",\"NSO\",VLOOKUP($A325,'Marks Entry'!$B$9:$FN$108,166,0))))","v":""},{"$f":"IF(OR(A325=0,A325=\"\"),\"\",IF($L328=\"Nso\",0,VLOOKUP($A325,'Marks Entry'!$B$9:$FN$108,168,0)))","v":""}]
[null,"◘","Extra Subjects",{"$nulls":6},"Total Meetings :-",null,null,{"$f":"IF(OR(A325=0,A325=\"\"),\"\",IF($L328=\"TC\",0,IF($L328=\"Nso\",0,VLOOKUP($A325,'Marks Entry'!$B$9:$FN$108,158,0))))","v":0},"Attendance Percentage"]
[null,"◘","Subject",null,null,"Obtained/Total Marks",null,null,"GRADE","Student's Meetings :-",null,null,{"$f":"IF(OR(A325=0,A325=\"\"),\"\",IF($L328=\"TC\",0,IF($L328=\"Nso\",0,VLOOKUP($A325,'Marks Entry'!$B$9:$FN$108,159,0))))","v":0},{"$f":"IF(OR(A325=0,A325=\"\"),\"\",IF($L328=\"TC\",0,IF($L328=\"Nso\",0,VLOOKUP($A325,'Marks Entry'!$B$9:$FN$108,160,0))))","v":""}]
[null,"◘",{"$nulls":6},"A/B/C/D","Remark :-",null,null,{"$f":"IF(OR(A325=0,A325=\"\"),\"\",IF($L328=\"TC\",0,IF($L328=\"Nso\",0,VLOOKUP($A325,'Marks Entry'!$B$9:$FN$108,169,0))))","v":""}]
[null,"◘",{"$f":"'Marks Entry'!$EB$3","v":"Work Exp."},null,null,{"$f":"IF(OR(A325=0,A325=\"\"),\"\",IF($L328=\"TC\",0,IF($L328=\"Nso\",0,VLOOKUP($A325,'Marks Entry'!$B$9:$GM$108,186,0))))","v":"0/100"},null,null,{"$f":"IF(OR(A325=0,A325=\"\"),\"\",IF($L328=\"TC\",0,IF($L328=\"Nso\",0,VLOOKUP($A325,'Marks Entry'!$B$9:$GM$108,139,0))))","v":0},"Result Date :-",null,null,{"$f":"IF(OR(A325=0,A325=\"\"),\"\",'Marks Entry'!$AA$2)","v":"2024-05-07"}]
[null,"◘",{"$f":"'Marks Entry'!$EK$3","v":"Art Edu."},null,null,{"$f":"IF(OR(A325=0,A325=\"\"),\"\",IF($L328=\"TC\",0,IF($L328=\"Nso\",0,VLOOKUP($A325,'Marks Entry'!$B$9:$GM$108,190,0))))","v":"0/100"},null,null,{"$f":"IF(OR(A325=0,A325=\"\"),\"\",IF($L328=\"TC\",0,IF($L328=\"Nso\",0,VLOOKUP($A325,'Marks Entry'!$B$9:$GM$108,148,0))))","v":0}]
[null,"◘",{"$f":"'Marks Entry'!$ET$3","v":"HEALTH & PHY. EDU."},null,null,{"$f":"IF(OR(A325=0,A325=\"\"),\"\",IF($L328=\"TC\",0,IF($L328=\"Nso\",0,VLOOKUP($A325,'Marks Entry'!$B$9:$GM$108,194,0))))","v":"0/100"},null,null,{"$f":"IF(OR(A325=0,A325=\"\"),\"\",IF($L328=\"TC\",0,IF($L328=\"Nso\",0,VLOOKUP($A325,'Marks Entry'!$B$9:$GM$108,157,0))))","v":0},"Signature Of The Class Teacher"]
[null,"◘","Grading System"]
[null,"◘","Grade","% Range",null,"Description",{"$nulls":3},"Signature And Seal Of Principal/H.M."]
[null,"◘","A","86-100",null,"Excellent"]
[null,"◘","B","71-85",null,"Very Good"]
[null,"◘","C","51-70",null,"Good",{"$nulls":3},"Wish bright future"]
[null,"◘","D","31-50",null,"Average"]
[null,"◘","E","0-30",null,"Need Improvement"]

{"sheet":"Blank Report Card","index":6,"n_rows":35,"n_cols":15,"rows_kept":35,"merged":[[0,1,0,14],[0,15,34,15],[1,0,34,0],[1,1,2,2],[1,3,1,14],[2,3,2,14],[3,1,5,1],[3,2,5,7],[3,8,5,10],[3,11,5,11],[3,12,3,13],[4,12,5,13],[4,14,5,14],[6,2,6,6],[6,8,6,14],[7,2,7,6],[7,8,7,14],[8,2,8,6],[8,8,8,14],[9,2,9,6],[9,8,9,14],[10,2,10,6],[10,8,10,14],[11,2,11,6],[11,8,11,14],[12,2,12,3],[12,8,12,9],[12,11,12,12],[12,14,13,14],[13,2,13,3],[13,8,13,9],[13,11,13,12],[14,2,14,3],[14,8,14,9],[14,11,14,12],[15,2,15,3],[15,8,15,9],[15,11,15,12],[16,2,16,3],[16,8,16,9],[16,11,16,12],[17,2,17,3],[17,8,17,9],[17,11,17,12],[18,2,18,3],[18,8,18,9],[18,11,18,12],[19,2,19,3],[19,8,19,9],[19,11,19,12],[20,2,21,4],[20,5,20,6],[20,7,20,8],[20,9,20,10],[21,5,21,6],[21,7,21,8],[21,9,21,10],[22,2,22,8],[22,9,22,11],[22,13,22,14],[23,2,24,4],[23,5,24,7],[23,9,23,11],[23,13,23,14],[24,9,24,11],[24,12,24,14],[25,2,25,4],[25,5,25,7],[25,9,25,11],[25,12,25,14],[26,2,26,4],[26,5,26,7],[26,9,26,14],[27,2,27,4],[27,5,27,7],[27,9,28,11],[27,12,28,14],[28,2,28,8],[29,3,29,4],[29,5,29,8],[29,9,31,14],[30,3,30,4],[30,5,30,8],[31,3,31,4],[31,5,31,8],[32,3,32,4],[32,5,32,8],[32,9,34,14],[33,3,33,4],[33,5,33,8],[34,3,34,4],[34,5,34,8],[35,0,35,15]]}
[1,"Department Of Education, Rajasthan"]
[{"$nulls":3},{"$f":"Master!$E$8","v":"Govt. Sr. Secondary School "}]
[{"$nulls":3},{"$f":"Master!$E$11","v":"P.S.-Bapini (Jodhpur)"}]
[null,null,"Final Report Card",{"$nulls":5},"Roll No.:-",{"$nulls":3},"School U-Dise Code:-",null,{"$f":"Master!E14","v":{"v":8151106901,"d":"08151106901"}}]
[{"$nulls":12},"Session:-",null,{"$f":"Master!E6","v":"2024-25"}]
[]
[null,"◘","Scholar Number",{"$nulls":4},"●→"]
[null,"◘","Student's Name",{"$nulls":4},"●→"]
[null,"◘","Father's Name",{"$nulls":4},"●→"]
[null,"◘","Mother's Name ",{"$nulls":4},"●→"]
[null,"◘","Class & Section",{"$nulls":4},"●→"]
[null,"◘","Date Of Birth",{"$nulls":4},"●→"]
[null,"◘","Subject",null,"First Test","Second Test",{"$f":"'Marks Entry'!R5","v":"No Bag Day Activity"},"Total","Half Yearly",null,"Total (Test+H.Y.)","Yearly Exam",null,"Grand Total","Subject Div Or Description"]
[null,"◘","Max. Marks",null,{"$f":"'Marks Entry'!$N$7","v":10},{"$f":"'Marks Entry'!$Q$7","v":10},{"$f":"'Marks Entry'!$T$7","v":10},{"$f":"SUM(E14:G14)","v":30},{"$f":"'Marks Entry'!$X$7","v":70},null,{"$f":"SUM(H14,I14)","v":100},{"$f":"'Marks Entry'!$AA$7","v":100},null,{"$f":"H14+I14+L14","v":200}]
[null,"◘",{"$f":"'Marks Entry'!$L$3","v":"HINDI"},{"$nulls":4},{"$f":"SUM(E15,G15)","v":0},null,null,{"$f":"SUM(H15,I15)","v":0},null,null,{"$f":"SUM(H15,I15,L15)","v":0}]
[null,"◘",{"$f":"'Marks Entry'!$AF$3","v":"ENGLISH"},{"$nulls":4},{"$f":"SUM(E16,G16)","v":0},null,null,{"$f":"SUM(H16,I16)","v":0},null,null,{"$f":"SUM(H16,I16,L16)","v":0}]
[null,"◘",{"$f":"'Marks Entry'!$AZ$3","v":"SANSKRIT"},{"$nulls":4},0,null,null,0,null,null,0]
[null,"◘",{"$f":"'Marks Entry'!$BT$3","v":"SCIENCE"},{"$nulls":4},0,null,null,0,null,null,0]
[null,"◘",{"$f":"'Marks Entry'!$CN$3","v":"MATHEMATICS"},{"$nulls":4},0,null,null,0,null,null,0]
[null,"◘",{"$f":"'Marks Entry'!$DH$3","v":"SOCIAL SCIENCE"},{"$nulls":4},0,null,null,0,null,null,0]
[null,"◘","Overall Result",null,null,"Total Max. Marks",null,"Total Obtained Marks",null,"Percentage",null,"Overall Div.","Overall Grade","Result","Position in Class"]
[null,"◘"]
[null,"◘","Extra Subjects",{"$nulls":6},"Total Meetings :-",{"$nulls":3},"Attendance Percentage"]
[null,"◘","Subject",null,null,"Obtained/Total Marks",null,null,"GRADE","Student's Meetings :-"]
[null,"◘",{"$nulls":6},"A/B/C/D","Remark :-"]
[null,"◘",{"$f":"'Marks Entry'!$EB$3","v":"Work Exp."},{"$nulls":6},"Result Date :-",null,null,{"$f":"'Marks Entry'!$AA$2","v":"2024-05-07"}]
[null,"◘",{"$f":"'Marks Entry'!$EK$3","v":"Art Edu."}]
[null,"◘",{"$f":"'Marks Entry'!$ET$3","v":"HEALTH & PHY. EDU."},{"$nulls":6},"Signature Of The Class Teacher"]
[null,"◘","Grading System"]
[null,"◘","Grade","% Range",null,"Description",{"$nulls":3},"Signature And Seal Of Principal/H.M."]
[null,"◘","A","86-100",null,"Excellent"]
[null,"◘","B","71-85",null,"Very Good"]
[null,"◘","C","51-70",null,"Good",{"$nulls":3},"Wish bright future"]
[null,"◘","D","31-50",null,"Average"]
[null,"◘","E","0-30",null,"Need Improvement"]