{"text_format":"3","workbook":"xlsx","n_sheets":6,"sheets":["Help","Master","Result Entry","Result Sheet","Statics","Mark Sheet 1X1"],"not_rendered":{"images":3,"defined_names":2},"read":"whole","date_system":"1900"}

{"sheet":"Help","index":0,"n_rows":6,"n_cols":2,"rows_kept":6,"merged":[[0,0,0,3],[1,0,5,0],[1,1,1,2],[1,3,5,3],[2,1,2,2],[3,1,3,2],[4,1,4,2],[5,1,5,2],[6,0,6,3]]}
[]
[null,"For Help"]
[null,"For Help watch the video on my Youtube Channel"]
[null,"https://youtu.be/QWmVZqxh1yE"]
[null,"OR search the youtube channel \"Learn with ummed tarad\""]
[null,"नोट:-हालाँकि यह प्रोग्राम पूर्णतया सावधानी के साथ बनाया गया है फिर भी किसी त्रुटि की स्थिति में आपके विवेक के साथ विभागीय नियम ही अंतिम रूप से मान्य होंगे, इसे अंतिम रूप देने से पहले अच्छी तरह से अवश्य जाँच लेवें और ज्यादा जानकारी के लिए उपर Click Here बटन पर क्लिक करें. किसी प्रकार की हेल्प हेतु निर्माणकर्त्ता को कॉल नहीं करें."]

{"sheet":"Master","index":1,"n_rows":21,"n_cols":28,"rows_kept":21,"merged":[[0,0,0,22],[1,1,1,4],[1,5,1,8],[1,9,1,16],[1,17,17,17],[1,18,10,19],[1,20,10,21],[1,22,17,22],[2,0,19,0],[2,1,2,16],[3,1,3,16],[4,1,4,8],[4,9,17,9],[4,10,4,11],[4,12,19,12],[4,13,4,16],[5,1,5,2],[5,4,5,8],[6,1,6,8],[7,1,8,2],[7,3,8,3],[7,4,8,8],[9,1,9,8],[10,1,11,2],[10,3,11,3],[10,4,11,8],[11,18,12,21],[12,1,12,8],[13,1,13,2],[13,4,13,8],[13,18,14,21],[14,1,14,8],[15,1,15,2],[15,4,15,8],[15,18,15,21],[16,1,16,8],[17,1,17,2],[17,4,17,8],[17,18,18,21],[18,1,18,8],[19,1,19,2],[19,4,19,8],[19,18,19,21],[20,0,20,22]]}
[]
[null,"t; fgUn",{"$nulls":3},"oUns ekrje~",{"$nulls":3},"t; fgUn"]
[]
[null,"RESULT PREPARATION PROGRAM",{"$nulls":24},"2019-20","PRIMARY"]
[{"$nulls":10},"Subject Detail",null,null,"Staff Detail",{"$nulls":12},"2019-21","UPPER PRIMARY"]
[null,"SESSION",null,":-","2023-24",{"$nulls":5},"Sr. No.","Subject's Name",null,"Sr. No.","Name","Sr. No.","Name",{"$nulls":9},"2019-22","SECONDARY"]
[{"$nulls":10},{"$f":"IF(L7>1,1,0)","v":1},"Hindi",null,{"$f":"IF(O7>1,1,0)","v":1},"A",{"$f":"IF(Q7>1,N18+1,0)","v":0},{"$nulls":10},"2019-21","UPPER PRIMARY"]
[null,"SCHOOL'S FULL NAME",null,":-","Govt.Sr.Sec.Sch.",{"$nulls":5},{"$f":"IF(L8>1,K7+1,0)","v":2},"English",null,{"$f":"IF(O8>1,N7+1,0)","v":2},"B",{"$f":"IF(Q8>1,P7+1,0)","v":0}]
[{"$nulls":10},{"$f":"IF(L9>1,K8+1,0)","v":3},"Mathematics",null,{"$f":"IF(O9>1,N8+1,0)","v":3},"C",{"$f":"IF(Q9>1,P8+1,0)","v":0},{"$nulls":10},"2019-22","SECONDARY"]
[{"$nulls":10},{"$f":"IF(L10>1,K9+1,0)","v":4},"Env. Study",null,{"$f":"IF(O10>1,N9+1,0)","v":4},"D",0,{"$nulls":10},"2019-23","SR. SECONDARY"]
[null,"ADDRESS",null,":-","P.S.-Bapini (Jodhpur)",{"$nulls":5},{"$f":"IF(L11>1,K10+1,0)","v":5},"Sanskrit/Urdu",null,{"$f":"IF(O11>1,N10+1,0)","v":5},"E",0]
[{"$nulls":10},{"$f":"IF(L12>1,K11+1,0)","v":6},"ART EDU.",null,{"$f":"IF(O12>1,N11+1,0)","v":0},null,0,null,null,"CREATOR:-",{"$nulls":7},"2019-24"]
[{"$nulls":10},{"$f":"IF(L13>1,K12+1,0)","v":7},"H&P. EDU.",null,0,null,0,{"$nulls":10},"2019-23","SR. SECONDARY"]
[null,"U-DISE CODE",null,":-",{"v":810000000,"d":"0810000000"},{"$nulls":5},8,"WORK EXP.",null,0,null,0,null,null,"UMMED TARAD",{"$nulls":7},"2019-24"]
[{"$nulls":10},0,null,null,0,null,0,{"$nulls":10},"2019-25"]
[null,"NAME OF PRINCIPAL",null,":-",{"$nulls":6},0,null,null,0,null,0,null,null,"(GSSS RAIMALWADA)",{"$nulls":7},"2019-26"]
[{"$nulls":10},0,null,null,0,null,0,{"$nulls":10},"2019-25"]
[null,"SCHOOL TYPE",null,":-","Sr. Secondary",{"$nulls":5},{"$f":"IF(L18>1,K17+1,0)","v":0},null,null,{"$f":"IF(O18>1,N17+1,0)","v":0},null,{"$f":"IF(Q18>1,P17+1,0)","v":0},{"$nulls":10},"2019-26"]
[{"$nulls":10},0,null,null,0,null,0]
[null,"Result Date",null,":-","2024-05-07",{"$nulls":5},0,null,null,0,null,0,null,null,"EMAIL ID-ummedtrdedu@gmail.com"]
["Update On :- 06-04-2024",{"$nulls":25},"2019-27"]

{"sheet":"Result Entry","index":2,"n_rows":138,"n_cols":147,"rows_kept":138,"merged":[[0,1,1,9],[0,10,0,24],[0,25,0,39],[0,40,0,54],[0,55,0,69],[0,70,0,84],[0,85,0,127],[0,128,107,129],[1,10,1,18],[1,20,1,24],[1,25,1,127],[2,1,2,4],[2,5,2,6],[2,8,2,9],[2,10,2,24],[2,25,2,39],[2,40,2,54],[2,55,2,69],[2,70,2,84],[2,85,2,92],[2,93,2,100],[2,101,2,108],[2,109,2,116],[2,117,2,119],[2,120,2,126],[2,127,6,127],[3,1,3,4],[3,5,3,6],[3,8,3,9],[3,10,3,24],[3,25,3,39],[3,40,3,54],[3,55,3,69],[3,70,3,84],[3,85,3,92],[3,93,3,100],[3,101,3,108],[3,109,3,116],[3,117,6,117],[3,118,6,118],[3,119,6,119],[3,120,6,120],[3,121,6,121],[3,122,6,122],[3,123,6,123],[3,124,6,124],[3,126,6,126],[4,1,4,9],[4,10,4,13],[4,14,4,17],[4,18,4,20],[4,22,5,22],[4,23,6,23],[4,25,4,28],[4,29,4,32],[4,33,4,35],[4,37,5,37],[4,38,6,38],[4,40,4,43],[4,44,4,47],[4,48,4,50],[4,52,5,52],[4,53,6,53],[4,55,4,58],[4,59,4,62],[4,63,4,65],[4,67,5,67],[4,68,6,68],[4,70,4,73],[4,74,4,77],[4,78,4,80],[4,82,5,82],[4,83,6,83],[4,85,5,85],[4,86,5,86],[4,87,5,87],[4,88,5,88],[4,89,5,89],[4,90,5,90],[4,91,6,91],[4,93,5,93],[4,94,5,94],[4,95,5,95],[4,96,5,96],[4,97,5,97],[4,98,5,98],[4,99,6,99],[4,101,5,101],[4,102,5,102],[4,103,5,103],[4,104,5,104],[4,105,5,105],[4,106,5,106],[4,107,6,107],[4,109,5,109],[4,110,5,110],[4,111,5,111],[4,112,5,112],[4,113,5,113],[4,114,5,114],[4,115,6,115],[5,1,6,1],[5,2,6,2],[5,3,6,3],[5,4,6,4],[5,5,6,5],[5,6,6,6],[5,7,6,7],[5,8,6,8],[5,9,6,9],[5,24,6,24],[5,39,6,39],[5,54,6,54],[5,69,6,69],[5,84,6,84],[5,92,6,92],[5,100,6,100],[5,108,6,108],[5,116,6,116],[6,131,6,134],[6,135,6,138],[6,139,6,142],[6,143,6,146]]}
[null,{"$f":"Master!E8","v":"Govt.Sr.Sec.Sch."},{"$nulls":8},{"$f":"Master!E8","v":"Govt.Sr.Sec.Sch."},{"$nulls":14},{"$f":"$K$1","v":"Govt.Sr.Sec.Sch."},{"$nulls":14},{"$f":"$K$1","v":"Govt.Sr.Sec.Sch."},{"$nulls":14},{"$f":"$K$1","v":"Govt.Sr.Sec.Sch."},{"$nulls":14},{"$f":"$K$1","v":"Govt.Sr.Sec.Sch."},{"$nulls":14},{"$f":"Master!E8","v":"Govt.Sr.Sec.Sch."}]
[{"$nulls":10},"Result Date:-",{"$nulls":9},{"$f":"Master!E20","v":"2024-05-07"},{"$nulls":4},"Result Entry"]
[null,"School U-Dise Code :-",{"$nulls":3},{"$f":"Master!E14","v":{"v":810000000,"d":"0810000000"}},null,"Session :-",{"$f":"Master!E6","v":"2023-24"},null,"Hindi",{"$nulls":14},"Mathematics",{"$nulls":14},"English",{"$nulls":14},"Env. Study",{"$nulls":14},"Sanskrit/Urdu",{"$nulls":14},"WORK EXP.",{"$nulls":7},"ART EDU.",{"$nulls":7},"H&P. EDU.",{"$nulls":15},"Attendance",null,null,"Statics",{"$nulls":6},"Remark"]
[null,"Class -",{"$nulls":3},2,null,"Saction :-","(A)",{"$nulls":108},"Total Attendance","Student's Attendance","Attandance %","Grad Total","Obtained Marks","Percentage","Whole Grade (A/B/C/D/E)","Result",null,"Position in Class"]
[null,"Student Related Basic Details",{"$nulls":8},"Test",{"$nulls":3},"Half Yeary",{"$nulls":3},"Yearly",{"$nulls":3},"Total","MARKS %","Grd.","Test",{"$nulls":3},"Half Yeary",{"$nulls":3},"Yearly",{"$nulls":3},"Total","MARKS %","Grd.","Test",{"$nulls":3},"Half Yeary",{"$nulls":3},"Yearly",{"$nulls":3},"Total","MARKS %","Grd.","Test",{"$nulls":3},"Half Yeary",{"$nulls":3},"Yearly",{"$nulls":3},"Total","MARKS %","Grd.","Test",{"$nulls":3},"Half Yeary",{"$nulls":3},"Yearly",{"$nulls":3},"Total","MARKS %","Grd.","1st Ev.","2nd Ev.","3rd Ev.","4th Ev.","5th Ev.","Total","MARKS %","Grd.","1st Ev.","2nd Ev.","3rd Ev.","4th Ev.","5th Ev.","Total","MARKS %","Grd.","1st Ev.","2nd Ev.","3rd Ev.","4th Ev.","5th Ev.","Total","MARKS %","Grd.","Half Yearly","Yeary","3rd Ev.","4th Ev.","5th Ev.","Total","MARKS %","Grd."]
[null,"Sr. No.","Class","Scholar Number","School Adm. Date","Roll Number","Student's Name","Father's Name","Mother's Name","Date Of Birth","First Test","Second Test","Third Test","Total Test","Oral","Internal Evo.","Written","Total","Oral","Internal Evo.","Written","Total",null,null,"A+/A/B/C/D","First Test","Second Test","Third Test","Total Test","Oral","Internal Evo.","Written","Total","Oral","Internal Evo.","Written","Total",null,null,"A+/A/B/C/D","First Test","Second Test","Third Test","Total Test","Oral","Internal Evo.","Written","Total","Oral","Internal Evo.","Written","Total",null,null,"A+/A/B/C/D","First Test","Second Test","Third Test","Total Test","Oral","Internal Evo.","Written","Total","Oral","Internal Evo.","Written","Total",null,null,"A/B/C/D/E","First Test","Second Test","Third Test","Total Test","Oral","Internal Evo.","Written","Total","Oral","Internal Evo.","Written","Total",null,null,"A+/A/B/C/D",{"$nulls":7},"A/B/C/D/E",{"$nulls":7},"A/B/C/D/E",{"$nulls":7},"A/B/C/D/E",{"$nulls":7},"A+/A/B/C/D"]
[{"$nulls":10},10,10,10,{"$f":"SUM(K7:M7)","v":30},20,0,50,{"$f":"SUM(O7:Q7)","v":70},40,0,60,{"$f":"SUM(S7:U7)","v":100},{"$f":"N7+R7+V7","v":200},null,null,10,10,10,{"$f":"SUM(Z7:AB7)","v":30},20,0,50,{"$f":"SUM(AD7:AF7)","v":70},40,0,60,{"$f":"SUM(AH7:AJ7)","v":100},{"$f":"AC7+AG7+AK7","v":200},null,null,5,5,5,{"$f":"SUM(AO7:AQ7)","v":15},10,0,25,{"$f":"SUM(AS7:AU7)","v":35},20,0,30,{"$f":"SUM(AW7:AY7)","v":50},{"$f":"AR7+AV7+AZ7","v":100},null,null,10,10,10,{"$f":"SUM(BD7:BF7)","v":30},20,0,50,{"$f":"SUM(BH7:BJ7)","v":70},40,0,60,{"$f":"SUM(BL7:BN7)","v":100},{"$f":"BG7+BK7+BO7","v":200},null,null,10,10,10,{"$f":"SUM(BS7:BU7)","v":30},20,0,50,{"$f":"SUM(BW7:BY7)","v":70},40,0,60,{"$f":"SUM(CA7:CC7)","v":100},{"$f":"BV7+BZ7+CD7","v":200},null,null,20,20,20,20,20,{"$f":"SUM(CH7:CL7)","v":100},null,null,20,20,20,20,20,{"$f":"SUM(CP7:CT7)","v":100},null,null,20,20,20,20,20,{"$f":"SUM(CX7:DB7)","v":100},null,null,0,0,0,0,0,{"$f":"SUM(DF7:DJ7)","v":0},{"$nulls":16},{"$f":"CH3","v":"WORK EXP."},{"$nulls":3},{"$f":"CP3","v":"ART EDU."},{"$nulls":3},{"$f":"CX3","v":"H&P. EDU."},{"$nulls":3},{"$f":"DF3","v":0}]
[null,0,0,0,0,0,0,0,0,0,0,{"$nulls":5},0,{"$f":"SUM(K8:Q8)","v":0},0,null,0,{"$f":"SUM(S8:U8)","v":0},0,null,0,0,{"$nulls":5},0,{"$f":"SUM(Z8:AF8)","v":0},0,null,0,{"$f":"SUM(AH8:AJ8)","v":0},0,null,0,0,{"$nulls":5},0,{"$f":"SUM(AO8:AU8)","v":0},0,null,0,{"$f":"SUM(AW8:AY8)","v":0},0,null,0,0,{"$nulls":5},0,{"$f":"SUM(BD8:BJ8)","v":0},0,null,0,{"$f":"SUM(BL8:BN8)","v":0},0,null,0,0,{"$nulls":5},0,{"$f":"SUM(BS8:BY8)","v":0},0,null,0,{"$f":"SUM(CA8:CC8)","v":0},0,null,0,0,{"$nulls":4},0,null,0,0,{"$nulls":4},0,null,0,0,{"$nulls":4},0,null,0,0,{"$nulls":4},0,null,0,0,0,0,0,0,0,0,0,null,0,0]
[{"$f":"F9","v":301},1,{"$f":"IF(D9>0,$F$4,0)","v":2},1,null,301,"a","b","c","2200-05-04",5,5,5,{"$f":"SUM(K9:M9)","v":15},15,null,45,{"$f":"SUM(O9:Q9)","v":60},20,null,45,{"$f":"SUM(S9:U9)","v":65},{"$f":"N9+R9+V9","v":140},{"$f":"IF(OR(W9=\"\",W$7=\"\"),\"\",W9/W$7*100)","v":{"v":70,"d":"70.00"}},{"$f":"IF(OR(X9=\"\",$F9=\"\",$F9=\"ab\",$F9=\"ml\"),\"\",IF(X9>=86,\"A\",IF(X9>=71,\"B\",IF(X9>=51,\"C\",IF(X9>=31,\"D\",IF(X9=0,0,\"E\"))))))","v":"C"},5,7,8,{"$f":"SUM(Z9:AB9)","v":20},15,null,20,{"$f":"SUM(AD9:AF9)","v":35},10,null,20,{"$f":"SUM(AH9:AJ9)","v":30},{"$f":"AC9+AG9+AK9","v":85},{"$f":"IF(OR(AL9=\"\",AL$7=\"\"),\"\",AL9/AL$7*100)","v":{"v":42.5,"d":"42.50"}},{"$f":"IF(OR(AM9=\"\",$F9=\"\",$F9=\"ab\",$F9=\"ml\"),\"\",IF(AM9>=86,\"A\",IF(AM9>=71,\"B\",IF(AM9>=51,\"C\",IF(AM9>=31,\"D\",IF(AM9=0,0,\"E\"))))))","v":"D"},{"$nulls":3},{"$f":"SUM(AO9:AQ9)","v":0},{"$nulls":3},{"$f":"SUM(AS9:AU9)","v":0},{"$nulls":3},{"$f":"SUM(AW9:AY9)","v":0},{"$f":"AR9+AV9+AZ9","v":0},{"$f":"IF(OR(BA9=\"\",BA$7=\"\"),\"\",BA9/BA$7*100)","v":{"v":0,"d":"0.00"}},{"$f":"IF(OR(BB9=\"\",$F9=\"\",$F9=\"ab\",$F9=\"ml\"),\"\",IF(BB9>=86,\"A\",IF(BB9>=71,\"B\",IF(BB9>=51,\"C\",IF(BB9>=31,\"D\",IF(BB9=0,0,\"E\"))))))","v":0},{"$nulls":3},{"$f":"SUM(BD9:BF9)","v":0},null,0,null,{"$f":"SUM(BH9:BJ9)","v":0},null,0,null,{"$f":"SUM(BL9:BN9)","v":0},{"$f":"BG9+BK9+BO9","v":0},{"$f":"IF(OR(BP$7=0,0),\"\",ROUNDUP(BP9/BP$7*100,0))","v":0},{"$f":"IF(OR(BQ9=\"\",$F9=\"\",$F9=\"ab\",$F9=\"ml\"),\"\",IF(BQ9>85,\"A\",IF(BQ9>70,\"B\",IF(BQ9>50,\"C\",IF(BQ9>30,\"D\",IF(BQ9=0,0,\"E\"))))))","v":0},{"$nulls":3},{"$f":"SUM(BS9:BU9)","v":0},{"$nulls":3},{"$f":"SUM(BW9:BY9)","v":0},{"$nulls":3},{"$f":"SUM(CA9:CC9)","v":0},{"$f":"BV9+BZ9+CD9","v":0},{"$f":"IF(OR(CE9=\"\",CE$7=\"\"),\"\",CE9/CE$7*100)","v":{"v":0,"d":"0.00"}},{"$f":"IF(OR(CF9=\"\",$F9=\"\",$F9=\"ab\",$F9=\"ml\"),\"\",IF(CF9>=86,\"A\",IF(CF9>=71,\"B\",IF(CF9>=51,\"C\",IF(CF9>=31,\"D\",IF(CF9=0,0,\"E\"))))))","v":0},{"$nulls":5},{"$f":"SUM(CH9:CL9)","v":0},{"$f":"IF(OR(CM9=\"\",CM$7=\"\"),\"\",CM9/CM$7*100)","v":{"v":0,"d":"0.00"}},{"$f":"IF(OR(CN9=\"\",$F9=\"\",$F9=\"ab\",$F9=\"ml\"),\"\",IF(CN9>=86,\"A\",IF(CN9>=71,\"B\",IF(CN9>=51,\"C\",IF(CN9>=31,\"D\",IF(CN9=0,0,\"E\"))))))","v":0},{"$nulls":5},{"$f":"SUM(CP9:CT9)","v":0},{"$f":"IF(OR(CU9=\"\",CU$7=\"\"),\"\",CU9/CU$7*100)","v":{"v":0,"d":"0.00"}},{"$f":"IF(OR(CV9=\"\",$F9=\"\",$F9=\"ab\",$F9=\"ml\"),\"\",IF(CV9>=86,\"A\",IF(CV9>=71,\"B\",IF(CV9>=51,\"C\",IF(CV9>=31,\"D\",IF(CV9=0,0,\"E\"))))))","v":0},{"$nulls":5},{"$f":"SUM(CX9:DB9)","v":0},{"$f":"IF(OR(DC9=\"\",DC$7=\"\"),\"\",DC9/DC$7*100)","v":0},{"$f":"IF(OR(DD9=\"\",$F9=\"\",$F9=\"ab\",$F9=\"ml\"),\"\",IF(DD9>=86,\"A\",IF(DD9>=71,\"B\",IF(DD9>=51,\"C\",IF(DD9>=31,\"D\",IF(DD9=0,0,\"E\"))))))","v":0},{"$nulls":5},{"$f":"SUM(DF9:DJ9)","v":0},{"$f":"IF(OR(DK9=0,DK$7=0),\"\",DK9/DK$7*100)","v":""},{"$f":"IF(OR(DL9=\"\",$F9=\"\",$F9=\"ab\",$F9=\"ml\"),\"\",IF(DL9>=91,\"A+\",IF(DL9>=76,\"A\",IF(DL9>=61,\"B\",IF(DL9>=41,\"C\",IF(DL9=0,0,\"D\"))))))","v":""},null,null,{"$f":"IF(OR(DN9=0,DO9=0),\"\",DO9/DN9*100)","v":""},{"$f":"IF(OR($W$7=\"\",$AL$7=\"\",$BA$7=\"\",$BP$7=\"\",$CE$7=\"\"),\"\",SUM($W$7,$AL$7,$BA$7,$BP$7,$CE$7))","v":900},{"$f":"IF(OR(W9=\"\",AL9=\"\",BA9=\"\",BP9=\"\",CE9=\"\"),\"\",SUM(W9,AL9,BA9,BP9,CE9))","v":225},{"$f":"IF(DQ9>0,DR9/DQ9*100)","v":{"v":25,"d":"25.00"}},{"$f":"IF(OR($F9=\"\",$F9=\"ab\",$F9=\"ml\"),\"\",IF(DS9>=86,\"A\",IF(DS9>=71,\"B\",IF(DS9>=51,\"C\",IF(DS9>=31,\"D\",IF(DS9=0,0,\"E\"))))))","v":"E"},{"$f":"IF(F9=\"TC\",\"Transfered\",IF(OR(F9=\"\",F9=\"DROP\",Y9=\"\",AN9=\"\",BC9=\"\"),\"\",IF(DS9<33,\"Promoted\",\"Passed\")))","v":"Promoted"},{"$f":"IF(DU9=\"Passed\",DS9,\"\")","v":""},{"$f":"IF(DV9=\"\",\"\",SUMPRODUCT((DV9<DV$9:DV$108)/COUNTIF(DV$9:DV$108,DV$9:DV$108)))","v":""},{"$f":"IF(DT9=\"A+\",\"Excellent\",IF(DT9=\"A\",\"Excellent\",IF(DT9=\"B\",\"Very Good\",IF(DT9=\"C\",\"Good\",IF(DT9=\"D\",\"Average\",IF(DT9=\"E\",\"Needs Improvement\",0))))))","v":"Needs Improvement"},{"$nulls":3},{"$f":"CM9","v":0},"/",{"$f":"$CM$7","v":100},{"$f":"CONCATENATE(EB9,EC9,ED9)","v":"0/100"},{"$f":"CU9","v":0},"/",{"$f":"$CU$7","v":100},{"$f":"CONCATENATE(EF9,EG9,EH9)","v":"0/100"},{"$f":"DC9","v":0},"/",{"$f":"$DC$7","v":100},{"$f":"CONCATENATE(EJ9,EK9,EL9)","v":"0/100"},{"$f":"DK9","v":0},"/",{"$f":"$DK$7","v":0},{"$f":"CONCATENATE(EN9,EO9,EP9)","v":"0/0"}]
[{"$f":"F10","v":302},2,{"$f":"IF(D10>0,$F$4,0)","v":2},2,null,302,"f","Father's Name","f","1998-08-05",10,null,null,{"$f":"SUM(K10:M10)","v":10},{"$nulls":3},{"$f":"SUM(O10:Q10)","v":0},{"$nulls":3},{"$f":"SUM(S10:U10)","v":0},{"$f":"N10+R10+V10","v":10},{"$f":"IF(OR(W10=\"\",W$7=\"\"),\"\",W10/W$7*100)","v":{"v":5,"d":"5.00"}},{"$f":"IF(OR(X10=\"\",$F10=\"\",$F10=\"ab\",$F10=\"ml\"),\"\",IF(X10>=86,\"A\",IF(X10>=71,\"B\",IF(X10>=51,\"C\",IF(X10>=31,\"D\",IF(X10=0,0,\"E\"))))))","v":"E"},{"$nulls":3},{"$f":"SUM(Z10:AB10)","v":0},{"$nulls":3},{"$f":"SUM(AD10:AF10)","v":0},{"$nulls":3},{"$f":"SUM(AH10:AJ10)","v":0},{"$f":"AC10+AG10+AK10","v":0},{"$f":"IF(OR(AL10=\"\",AL$7=\"\"),\"\",AL10/AL$7*100)","v":{"v":0,"d":"0.00"}},{"$f":"IF(OR(AM10=\"\",$F10=\"\",$F10=\"ab\",$F10=\"ml\"),\"\",IF(AM10>=86,\"A\",IF(AM10>=71,\"B\",IF(AM10>=51,\"C\",IF(AM10>=31,\"D\",IF(AM10=0,0,\"E\"))))))","v":0},{"$nulls":3},{"$f":"SUM(AO10:AQ10)","v":0},{"$nulls":3},{"$f":"SUM(AS10:AU10)","v":0},{"$nulls":3},{"$f":"SUM(AW10:AY10)","v":0},{"$f":"AR10+AV10+AZ10","v":0},{"$f":"IF(OR(BA10=\"\",BA$7=\"\"),\"\",BA10/BA$7*100)","v":{"v":0,"d":"0.00"}},{"$f":"IF(OR(BB10=\"\",$F10=\"\",$F10=\"ab\",$F10=\"ml\"),\"\",IF(BB10>=86,\"A\",IF(BB10>=71,\"B\",IF(BB10>=51,\"C\",IF(BB10>=31,\"D\",IF(BB10=0,0,\"E\"))))))","v":0},0,0,null,{"$f":"SUM(BD10:BF10)","v":0},0,0,0,{"$f":"SUM(BH10:BJ10)","v":0},0,0,0,{"$f":"SUM(BL10:BN10)","v":0},{"$f":"BG10+BK10+BO10","v":0},{"$f":"IF(OR(BP$7=0,0),\"\",ROUNDUP(BP10/BP$7*100,0))","v":0},{"$f":"IF(OR(BQ10=\"\",$F10=\"\",$F10=\"ab\",$F10=\"ml\"),\"\",IF(BQ10>85,\"A\",IF(BQ10>70,\"B\",IF(BQ10>50,\"C\",IF(BQ10>30,\"D\",IF(BQ10=0,0,\"E\"))))))","v":0},{"$nulls":3},{"$f":"SUM(BS10:BU10)","v":0},{"$nulls":3},{"$f":"SUM(BW10:BY10)","v":0},{"$nulls":3},{"$f":"SUM(CA10:CC10)","v":0},{"$f":"BV10+BZ10+CD10","v":0},{"$f":"IF(OR(CE10=\"\",CE$7=\"\"),\"\",CE10/CE$7*100)","v":{"v":0,"d":"0.00"}},{"$f":"IF(OR(CF10=\"\",$F10=\"\",$F10=\"ab\",$F10=\"ml\"),\"\",IF(CF10>=86,\"A\",IF(CF10>=71,\"B\",IF(CF10>=51,\"C\",IF(CF10>=31,\"D\",IF(CF10=0,0,\"E\"))))))","v":0},{"$nulls":5},0,{"$f":"IF(OR(CM10=\"\",CM$7=\"\"),\"\",CM10/CM$7*100)","v":{"v":0,"d":"0.00"}},{"$f":"IF(OR(CN10=\"\",$F10=\"\",$F10=\"ab\",$F10=\"ml\"),\"\",IF(CN10>=86,\"A\",IF(CN10>=71,\"B\",IF(CN10>=51,\"C\",IF(CN10>=31,\"D\",IF(CN10=0,0,\"E\"))))))","v":0},{"$nulls":5},0,{"$f":"IF(OR(CU10=\"\",CU$7=\"\"),\"\",CU10/CU$7*100)","v":{"v":0,"d":"0.00"}},{"$f":"IF(OR(CV10=\"\",$F10=\"\",$F10=\"ab\",$F10=\"ml\"),\"\",IF(CV10>=86,\"A\",IF(CV10>=71,\"B\",IF(CV10>=51,\"C\",IF(CV10>=31,\"D\",IF(CV10=0,0,\"E\"))))))","v":0},{"$nulls":5},0,{"$f":"IF(OR(DC10=\"\",DC$7=\"\"),\"\",DC10/DC$7*100)","v":0},{"$f":"IF(OR(DD10=\"\",$F10=\"\",$F10=\"ab\",$F10=\"ml\"),\"\",IF(DD10>=86,\"A\",IF(DD10>=71,\"B\",IF(DD10>=51,\"C\",IF(DD10>=31,\"D\",IF(DD10=0,0,\"E\"))))))","v":0},{"$nulls":5},0,{"$f":"IF(OR(DK10=0,DK$7=0),\"\",DK10/DK$7*100)","v":""},{"$f":"IF(OR(DL10=\"\",$F10=\"\",$F10=\"ab\",$F10=\"ml\"),\"\",IF(DL10>=91,\"A+\",IF(DL10>=76,\"A\",IF(DL10>=61,\"B\",IF(DL10>=41,\"C\",IF(DL10=0,0,\"D\"))))))","v":""},null,null,{"$f":"IF(OR(DN10=\"\",DO10=\"\"),\"\",DO10/DN10*100)","v":""},{"$f":"IF(OR($W$7=\"\",$AL$7=\"\",$BA$7=\"\",$BP$7=\"\",$CE$7=\"\"),\"\",SUM($W$7,$AL$7,$BA$7,$BP$7,$CE$7))","v":900},{"$f":"IF(OR(W10=\"\",AL10=\"\",BA10=\"\",BP10=\"\",CE10=\"\"),\"\",SUM(W10,AL10,BA10,BP10,CE10))","v":10},{"$f":"IF(DQ10>0,DR10/DQ10*100)","v":{"v":1.1111111111111112,"d":"1.11"}},{"$f":"IF(OR($F10=\"\",$F10=\"ab\",$F10=\"ml\"),\"\",IF(DS10>=86,\"A\",IF(DS10>=71,\"B\",IF(DS10>=51,\"C\",IF(DS10>=31,\"D\",IF(DS10=0,0,\"E\"))))))","v":"E"},{"$f":"IF(F10=\"TC\",\"Transfered\",IF(OR(F10=\"\",F10=\"DROP\",Y10=\"\",AN10=\"\",BC10=\"\"),\"\",IF(DS10<33,\"Promoted\",\"Passed\")))","v":"Promoted"},{"$f":"IF(DU10=\"Passed\",DS10,\"\")","v":""},{"$f":"IF(DV10=\"\",\"\",SUMPRODUCT((DV10<DV$9:DV$108)/COUNTIF(DV$9:DV$108,DV$9:DV$108)))","v":""},{"$f":"IF(DT10=\"A+\",\"Excellent\",IF(DT10=\"A\",\"Excellent\",IF(DT10=\"B\",\"Very Good\",IF(DT10=\"C\",\"Good\",IF(DT10=\"D\",\"Average\",IF(DT10=\"E\",\"Needs Improvement\",0))))))","v":"Needs Improvement"},{"$nulls":3},{"$f":"CM10","v":0},"/",{"$f":"$CM$7","v":100},{"$f":"CONCATENATE(EB10,EC10,ED10)","v":"0/100"},{"$f":"CU10","v":0},"/",{"$f":"$CU$7","v":100},{"$f":"CONCATENATE(EF10,EG10,EH10)","v":"0/100"},{"$f":"DC10","v":0},"/",{"$f":"$DC$7","v":100},{"$f":"CONCATENATE(EJ10,EK10,EL10)","v":"0/100"},{"$f":"DK10","v":0},"/",{"$f":"$DK$7","v":0},{"$f":"CONCATENATE(EN10,EO10,EP10)","v":"0/0"}]
[0,3,0,{"$nulls":7},0,0,null,0,0,0,0,0,0,0,0,0,0,{"v":0,"d":"0.00"},"",0,0,null,0,0,0,0,0,0,0,0,0,{"$f":"AC11+AG11+AK11","v":0},{"v":0,"d":"0.00"},"",0,0,null,0,0,0,0,0,0,0,0,0,0,{"v":0,"d":"0.00"},"",0,0,null,0,0,0,0,0,0,0,0,0,0,0,"",0,0,null,0,0,0,0,0,0,0,0,0,0,{"v":0,"d":"0.00"},"",{"$nulls":5},0,{"v":0,"d":"0.00"},{"$f":"IF(OR(CN11=\"\",$F11=\"\",$F11=\"ab\",$F11=\"ml\"),\"\",IF(CN11>=86,\"A\",IF(CN11>=71,\"B\",IF(CN11>=51,\"C\",IF(CN11>=31,\"D\",IF(CN11=0,0,\"E\"))))))","v":""},{"$nulls":5},0,{"v":0,"d":"0.00"},{"$f":"IF(OR(CV11=\"\",$F11=\"\",$F11=\"ab\",$F11=\"ml\"),\"\",IF(CV11>=86,\"A\",IF(CV11>=71,\"B\",IF(CV11>=51,\"C\",IF(CV11>=31,\"D\",IF(CV11=0,0,\"E\"))))))","v":""},{"$nulls":5},0,0,{"$f":"IF(OR(DD11=\"\",$F11=\"\",$F11=\"ab\",$F11=\"ml\"),\"\",IF(DD11>=86,\"A\",IF(DD11>=71,\"B\",IF(DD11>=51,\"C\",IF(DD11>=31,\"D\",IF(DD11=0,0,\"E\"))))))","v":""},{"$nulls":5},0,"","",null,null,"",900,0,{"v":0,"d":"0.00"},"","","","",0,{"$nulls":3},0,"/",100,"0/100",0,"/",100,"0/100",0,"/",100,"0/100",0,"/",0,"0/0"]
[0,4,0,{"$nulls":7},0,0,null,0,0,0,0,0,0,0,0,0,0,{"v":0,"d":"0.00"},"",0,0,null,0,0,0,0,0,0,0,0,0,0,{"v":0,"d":"0.00"},"",0,0,null,0,0,0,0,0,0,0,0,0,0,{"v":0,"d":"0.00"},"",0,0,null,0,0,0,0,0,0,0,0,0,0,0,"",0,0,null,0,0,0,0,0,0,0,0,0,0,{"v":0,"d":"0.00"},"",{"$nulls":5},0,{"v":0,"d":"0.00"},"",{"$nulls":5},0,{"v":0,"d":"0.00"},"",{"$nulls":5},0,0,"",{"$nulls":5},0,"","",null,null,"",900,0,{"v":0,"d":"0.00"},"","","","",0,{"$nulls":3},0,"/",100,"0/100",0,"/",100,"0/100",0,"/",100,"0/100",0,"/",0,"0/0"]
[0,5,{"$f":"IF(D13>0,$F$4,0)","v":0},{"$nulls":7},0,0,null,0,0,0,0,{"$f":"SUM(O13:Q13)","v":0},0,0,0,{"$f":"SUM(S13:U13)","v":0},{"$f":"N13+R13+V13","v":0},{"v":0,"d":"0.00"},"",0,0,null,0,0,0,0,0,0,0,0,0,0,{"v":0,"d":"0.00"},"",0,0,null,0,0,0,0,0,0,0,0,0,0,{"v":0,"d":"0.00"},"",0,0,null,0,0,0,0,0,0,0,0,0,0,0,"",0,0,null,0,0,0,0,0,0,0,0,0,0,{"v":0,"d":"0.00"},"",{"$nulls":5},0,{"v":0,"d":"0.00"},"",{"$nulls":5},0,{"v":0,"d":"0.00"},"",{"$nulls":5},0,0,"",{"$nulls":5},0,"","",null,null,"",900,0,{"v":0,"d":"0.00"},"","","","",0,{"$nulls":3},0,"/",100,"0/100",0,"/",100,"0/100",0,"/",100,"0/100",0,"/",0,"0/0"]
[0,6,0,{"$nulls":7},0,0,null,0,0,0,0,0,0,0,0,0,0,{"v":0,"d":"0.00"},"",0,0,null,0,0,0,0,0,0,0,0,0,0,{"v":0,"d":"0.00"},"",0,0,null,0,0,0,0,0,0,0,0,0,0,{"v":0,"d":"0.00"},"",0,0,null,0,0,0,0,0,0,0,0,0,0,0,"",0,0,null,0,0,0,0,0,0,0,0,0,0,{"v":0,"d":"0.00"},"",{"$nulls":5},0,{"v":0,"d":"0.00"},"",{"$nulls":5},0,{"v":0,"d":"0.00"},"",{"$nulls":5},0,0,"",{"$nulls":5},0,"","",null,null,"",900,0,{"v":0,"d":"0.00"},"","","","",0,{"$nulls":3},0,"/",100,"0/100",0,"/",100,"0/100",0,"/",100,"0/100",0,"/",0,"0/0"]
[0,7,0,{"$nulls":7},0,0,null,0,0,0,0,0,0,0,0,0,0,{"v":0,"d":"0.00"},"",0,0,null,0,0,0,0,0,0,0,0,0,0,{"v":0,"d":"0.00"},"",0,0,null,0,0,0,0,0,0,0,0,0,0,{"v":0,"d":"0.00"},"",0,0,null,0,0,0,0,0,0,0,0,0,0,0,"",0,0,null,0,0,0,0,0,0,0,0,0,0,{"v":0,"d":"0.00"},"",{"$nulls":5},0,{"v":0,"d":"0.00"},"",{"$nulls":5},0,{"v":0,"d":"0.00"},"",{"$nulls":5},0,0,"",{"$nulls":5},0,"","",null,null,"",900,0,{"v":0,"d":"0.00"},"","","","",0,{"$nulls":3},0,"/",100,"0/100",0,"/",100,"0/100",0,"/",100,"0/100",0,"/",0,"0/0"]
[0,8,0,{"$nulls":7},0,0,null,0,0,0,0,0,0,0,0,0,0,{"v":0,"d":"0.00"},"",0,0,null,0,0,0,0,0,0,0,0,0,0,{"v":0,"d":"0.00"},"",0,0,null,0,0,0,0,0,0,0,0,0,0,{"v":0,"d":"0.00"},"",0,0,null,0,0,0,0,0,0,0,0,0,0,0,"",0,0,null,0,0,0,0,0,0,0,0,0,0,{"v":0,"d":"0.00"},"",{"$nulls":5},0,{"v":0,"d":"0.00"},"",{"$nulls":5},0,{"v":0,"d":"0.00"},"",{"$nulls":5},0,0,"",{"$nulls":5},0,"","",null,null,"",900,0,{"v":0,"d":"0.00"},"","","","",0,{"$nulls":3},0,"/",100,"0/100",0,"/",100,"0/100",0,"/",100,"0/100",0,"/",0,"0/0"]
[0,9,0,{"$nulls":7},0,0,null,0,0,0,0,0,0,0,0,0,0,{"v":0,"d":"0.00"},"",0,0,null,0,0,0,0,0,0,0,0,0,0,{"v":0,"d":"0.00"},"",0,0,null,0,0,0,0,0,0,0,0,0,0,{"v":0,"d":"0.00"},"",0,0,null,0,0,0,0,0,0,0,0,0,0,0,"",0,0,null,0,0,0,0,0,0,0,0,0,0,{"v":0,"d":"0.00"},"",{"$nulls":5},0,{"v":0,"d":"0.00"},"",{"$nulls":5},0,{"v":0,"d":"0.00"},"",{"$nulls":5},0,0,"",{"$nulls":5},0,"","",null,null,"",900,0,{"v":0,"d":"0.00"},"","","","",0,{"$nulls":3},0,"/",100,"0/100",0,"/",100,"0/100",0,"/",100,"0/100",0,"/",0,"0/0"]
[0,10,0,{"$nulls":7},0,0,null,0,0,0,0,0,0,0,0,0,0,{"v":0,"d":"0.00"},"",0,0,null,0,0,0,0,0,0,0,0,0,0,{"v":0,"d":"0.00"},"",0,0,null,0,0,0,0,0,0,0,0,0,0,{"v":0,"d":"0.00"},"",0,0,null,0,0,0,0,0,0,0,0,0,0,0,"",0,0,null,0,0,0,0,0,0,0,0,0,0,{"v":0,"d":"0.00"},"",{"$nulls":5},0,{"v":0,"d":"0.00"},"",{"$nulls":5},0,{"v":0,"d":"0.00"},"",{"$nulls":5},0,0,"",{"$nulls":5},0,"","",null,null,"",900,0,{"v":0,"d":"0.00"},"","","","",0,{"$nulls":3},0,"/",100,"0/100",0,"/",100,"0/100",0,"/",100,"0/100",0,"/",0,"0/0"]
[0,11,0,{"$nulls":7},0,0,null,0,0,0,0,0,0,0,0,0,0,{"v":0,"d":"0.00"},"",0,0,null,0,0,0,0,0,0,0,0,0,0,{"v":0,"d":"0.00"},"",0,0,null,0,0,0,0,0,0,0,0,0,0,{"v":0,"d":"0.00"},"",0,0,null,0,0,0,0,0,0,0,0,0,0,0,"",0,0,null,0,0,0,0,0,0,0,0,0,0,{"v":0,"d":"0.00"},"",{"$nulls":5},0,{"v":0,"d":"0.00"},"",{"$nulls":5},0,{"v":0,"d":"0.00"},"",{"$nulls":5},0,0,"",{"$nulls":5},0,"","",null,null,"",900,0,{"v":0,"d":"0.00"},"","","","",0,{"$nulls":3},0,"/",100,"0/100",0,"/",100,"0/100",0,"/",100,"0/100",0,"/",0,"0/0"]
[0,12,0,{"$nulls":7},0,0,null,0,0,0,0,0,0,0,0,0,0,{"v":0,"d":"0.00"},"",0,0,null,0,0,0,0,0,0,0,0,0,0,{"v":0,"d":"0.00"},"",0,0,null,0,0,0,0,0,0,0,0,0,0,{"v":0,"d":"0.00"},"",0,0,null,0,0,0,0,0,0,0,0,0,0,0,"",0,0,null,0,0,0,0,0,0,0,0,0,0,{"v":0,"d":"0.00"},"",{"$nulls":5},0,{"v":0,"d":"0.00"},"",{"$nulls":5},0,{"v":0,"d":"0.00"},"",{"$nulls":5},0,0,"",{"$nulls":5},0,"","",null,null,"",900,0,{"v":0,"d":"0.00"},"","","","",0,{"$nulls":3},0,"/",100,"0/100",0,"/",100,"0/100",0,"/",100,"0/100",0,"/",0,"0/0"]
[0,13,0,{"$nulls":7},0,0,null,0,0,0,0,0,0,0,0,0,0,{"v":0,"d":"0.00"},"",0,0,null,0,0,0,0,0,0,0,0,0,0,{"v":0,"d":"0.00"},"",0,0,null,0,0,0,0,0,0,0,0,0,0,{"v":0,"d":"0.00"},"",0,0,null,0,0,0,0,0,0,0,0,0,0,0,"",0,0,null,0,0,0,0,0,0,0,0,0,0,{"v":0,"d":"0.00"},"",{"$nulls":5},0,{"v":0,"d":"0.00"},"",{"$nulls":5},0,{"v":0,"d":"0.00"},"",{"$nulls":5},0,0,"",{"$nulls":5},0,"","",null,null,"",900,0,{"v":0,"d":"0.00"},"","","","",0,{"$nulls":3},0,"/",100,"0/100",0,"/",100,"0/100",0,"/",100,"0/100",0,"/",0,"0/0"]
[0,14,0,{"$nulls":7},0,0,null,0,0,0,0,0,0,0,0,0,0,{"v":0,"d":"0.00"},"",0,0,null,0,0,0,0,0,0,0,0,0,0,{"v":0,"d":"0.00"},"",0,0,null,0,0,0,0,0,0,0,0,0,0,{"v":0,"d":"0.00"},"",0,0,null,0,0,0,0,0,0,0,0,0,0,0,"",0,0,null,0,0,0,0,0,0,0,0,0,0,{"v":0,"d":"0.00"},"",{"$nulls":5},0,{"v":0,"d":"0.00"},"",{"$nulls":5},0,{"v":0,"d":"0.00"},"",{"$nulls":5},0,0,"",{"$nulls":5},0,"","",null,null,"",900,0,{"v":0,"d":"0.00"},"","","","",0,{"$nulls":3},0,"/",100,"0/100",0,"/",100,"0/100",0,"/",100,"0/100",0,"/",0,"0/0"]
[0,15,0,{"$nulls":7},0,0,null,0,0,0,0,0,0,0,0,0,0,{"v":0,"d":"0.00"},"",0,0,null,0,0,0,0,0,0,0,0,0,0,{"v":0,"d":"0.00"},"",0,0,null,0,0,0,0,0,0,0,0,0,0,{"v":0,"d":"0.00"},"",0,0,null,0,0,0,0,0,0,0,0,0,0,0,"",0,0,null,0,0,0,0,0,0,0,0,0,0,{"v":0,"d":"0.00"},"",{"$nulls":5},0,{"v":0,"d":"0.00"},"",{"$nulls":5},0,{"v":0,"d":"0.00"},"",{"$nulls":5},0,0,"",{"$nulls":5},0,"","",null,null,"",900,0,{"v":0,"d":"0.00"},"","","","",0,{"$nulls":3},0,"/",100,"0/100",0,"/",100,"0/100",0,"/",100,"0/100",0,"/",0,"0/0"]
[0,16,0,{"$nulls":7},0,0,null,0,0,0,0,0,0,0,0,0,0,{"v":0,"d":"0.00"},"",0,0,null,0,0,0,0,0,0,0,0,0,0,{"v":0,"d":"0.00"},"",0,0,null,0,0,0,0,0,0,0,0,0,0,{"v":0,"d":"0.00"},"",0,0,null,0,0,0,0,0,0,0,0,0,0,0,"",0,0,null,0,0,0,0,0,0,0,0,0,0,{"v":0,"d":"0.00"},"",{"$nulls":5},0,{"v":0,"d":"0.00"},"",{"$nulls":5},0,{"v":0,"d":"0.00"},"",{"$nulls":5},0,0,"",{"$nulls":5},0,"","",null,null,"",900,0,{"v":0,"d":"0.00"},"","","","",0,{"$nulls":3},0,"/",100,"0/100",0,"/",100,"0/100",0,"/",100,"0/100",0,"/",0,"0/0"]
[0,17,0,{"$nulls":7},0,0,null,0,0,0,0,0,0,0,0,0,0,{"v":0,"d":"0.00"},"",0,0,null,0,0,0,0,0,0,0,0,0,0,{"v":0,"d":"0.00"},"",0,0,null,0,0,0,0,0,0,0,0,0,0,{"v":0,"d":"0.00"},"",0,0,null,0,0,0,0,0,0,0,0,0,0,0,"",0,0,null,0,0,0,0,0,0,0,0,0,0,{"v":0,"d":"0.00"},"",{"$nulls":5},0,{"v":0,"d":"0.00"},"",{"$nulls":5},0,{"v":0,"d":"0.00"},"",{"$nulls":5},0,0,"",{"$nulls":5},0,"","",null,null,"",900,0,{"v":0,"d":"0.00"},"","","","",0,{"$nulls":3},0,"/",100,"0/100",0,"/",100,"0/100",0,"/",100,"0/100",0,"/",0,"0/0"]
[0,18,0,{"$nulls":7},0,0,null,0,0,0,0,0,0,0,0,0,0,{"v":0,"d":"0.00"},"",0,0,null,0,0,0,0,0,0,0,0,0,0,{"v":0,"d":"0.00"},"",0,0,null,0,0,0,0,0,0,0,0,0,0,{"v":0,"d":"0.00"},"",0,0,null,0,0,0,0,0,0,0,0,0,0,0,"",0,0,null,0,0,0,0,0,0,0,0,0,0,{"v":0,"d":"0.00"},"",{"$nulls":5},0,{"v":0,"d":"0.00"},"",{"$nulls":5},0,{"v":0,"d":"0.00"},"",{"$nulls":5},0,0,"",{"$nulls":5},0,"","",null,null,"",900,0,{"v":0,"d":"0.00"},"","","","",0,{"$nulls":3},0,"/",100,"0/100",0,"/",100,"0/100",0,"/",100,"0/100",0,"/",0,"0/0"]
[0,19,0,{"$nulls":7},0,0,null,0,0,0,0,0,0,0,0,0,0,{"v":0,"d":"0.00"},"",0,0,null,0,0,0,0,0,0,0,0,0,0,{"v":0,"d":"0.00"},"",0,0,null,0,0,0,0,0,0,0,0,0,0,{"v":0,"d":"0.00"},"",0,0,null,0,0,0,0,0,0,0,0,0,0,0,"",0,0,null,0,0,0,0,0,0,0,0,0,0,{"v":0,"d":"0.00"},"",{"$nulls":5},0,{"v":0,"d":"0.00"},"",{"$nulls":5},0,{"v":0,"d":"0.00"},"",{"$nulls":5},0,0,"",{"$nulls":5},0,"","",null,null,"",900,0,{"v":0,"d":"0.00"},"","","","",0,{"$nulls":3},0,"/",100,"0/100",0,"/",100,"0/100",0,"/",100,"0/100",0,"/",0,"0/0"]
[0,20,0,{"$nulls":7},0,0,null,0,0,0,0,0,0,0,0,0,0,{"v":0,"d":"0.00"},"",0,0,null,0,0,0,0,0,0,0,0,0,0,{"v":0,"d":"0.00"},"",0,0,null,0,0,0,0,0,0,0,0,0,0,{"v":0,"d":"0.00"},"",0,0,null,0,0,0,0,0,0,0,0,0,0,0,"",0,0,null,0,0,0,0,0,0,0,0,0,0,{"v":0,"d":"0.00"},"",{"$nulls":5},0,{"v":0,"d":"0.00"},"",{"$nulls":5},0,{"v":0,"d":"0.00"},"",{"$nulls":5},0,0,"",{"$nulls":5},0,"","",null,null,"",900,0,{"v":0,"d":"0.00"},"","","","",0,{"$nulls":3},0,"/",100,"0/100",0,"/",100,"0/100",0,"/",100,"0/100",0,"/",0,"0/0"]
[0,21,0,{"$nulls":7},0,0,null,0,0,0,0,0,0,0,0,0,0,{"v":0,"d":"0.00"},"",0,0,null,0,0,0,0,0,0,0,0,0,0,{"v":0,"d":"0.00"},"",0,0,null,0,0,0,0,0,0,0,0,0,0,{"v":0,"d":"0.00"},"",0,0,null,0,0,0,0,0,0,0,0,0,0,0,"",0,0,null,0,0,0,0,0,0,0,0,0,0,{"v":0,"d":"0.00"},"",{"$nulls":5},0,{"v":0,"d":"0.00"},"",{"$nulls":5},0,{"v":0,"d":"0.00"},"",{"$nulls":5},0,0,"",{"$nulls":5},0,"","",null,null,"",900,0,{"v":0,"d":"0.00"},"","","","",0,{"$nulls":3},0,"/",100,"0/100",0,"/",100,"0/100",0,"/",100,"0/100",0,"/",0,"0/0"]
[0,22,0,{"$nulls":7},0,0,null,0,0,0,0,0,0,0,0,0,0,{"v":0,"d":"0.00"},"",0,0,null,0,0,0,0,0,0,0,0,0,0,{"v":0,"d":"0.00"},"",0,0,null,0,0,0,0,0,0,0,0,0,0,{"v":0,"d":"0.00"},"",0,0,null,0,0,0,0,0,0,0,0,0,0,0,"",0,0,null,0,0,0,0,0,0,0,0,0,0,{"v":0,"d":"0.00"},"",{"$nulls":5},0,{"v":0,"d":"0.00"},"",{"$nulls":5},0,{"v":0,"d":"0.00"},"",{"$nulls":5},0,0,"",{"$nulls":5},0,"","",null,null,"",900,0,{"v":0,"d":"0.00"},"","","","",0,{"$nulls":3},0,"/",100,"0/100",0,"/",100,"0/100",0,"/",100,"0/100",0,"/",0,"0/0"]
[0,23,0,{"$nulls":7},0,0,null,0,0,0,0,0,0,0,0,0,0,{"v":0,"d":"0.00"},"",0,0,null,0,0,0,0,0,0,0,0,0,0,{"v":0,"d":"0.00"},"",0,0,null,0,0,0,0,0,0,0,0,0,0,{"v":0,"d":"0.00"},"",0,0,null,0,0,0,0,0,0,0,0,0,0,0,"",0,0,null,0,0,0,0,0,0,0,0,0,0,{"v":0,"d":"0.00"},"",{"$nulls":5},0,{"v":0,"d":"0.00"},"",{"$nulls":5},0,{"v":0,"d":"0.00"},"",{"$nulls":5},0,0,"",{"$nulls":5},0,"","",null,null,"",900,0,{"v":0,"d":"0.00"},"","","","",0,{"$nulls":3},0,"/",100,"0/100",0,"/",100,"0/100",0,"/",100,"0/100",0,"/",0,"0/0"]
[0,24,0,{"$nulls":7},0,0,null,0,0,0,0,0,0,0,0,0,0,{"v":0,"d":"0.00"},"",0,0,null,0,0,0,0,0,0,0,0,0,0,{"v":0,"d":"0.00"},"",0,0,null,0,0,0,0,0,0,0,0,0,0,{"v":0,"d":"0.00"},"",0,0,null,0,0,0,0,0,0,0,0,0,0,0,"",0,0,null,0,0,0,0,0,0,0,0,0,0,{"v":0,"d":"0.00"},"",{"$nulls":5},0,{"v":0,"d":"0.00"},"",{"$nulls":5},0,{"v":0,"d":"0.00"},"",{"$nulls":5},0,0,"",{"$nulls":5},0,"","",null,null,"",900,0,{"v":0,"d":"0.00"},"","","","",0,{"$nulls":3},0,"/",100,"0/100",0,"/",100,"0/100",0,"/",100,"0/100",0,"/",0,"0/0"]
[0,25,0,{"$nulls":7},0,0,null,0,0,0,0,0,0,0,0,0,0,{"v":0,"d":"0.00"},"",0,0,null,0,0,0,0,0,0,0,0,0,0,{"v":0,"d":"0.00"},"",0,0,null,0,0,0,0,0,0,0,0,0,0,{"v":0,"d":"0.00"},"",0,0,null,0,0,0,0,0,0,0,0,0,0,0,"",0,0,null,0,0,0,0,0,0,0,0,0,0,{"v":0,"d":"0.00"},"",{"$nulls":5},0,{"v":0,"d":"0.00"},"",{"$nulls":5},0,{"v":0,"d":"0.00"},"",{"$nulls":5},0,0,"",{"$nulls":5},0,"","",null,null,"",900,0,{"v":0,"d":"0.00"},"","","","",0,{"$nulls":3},0,"/",100,"0/100",0,"/",100,"0/100",0,"/",100,"0/100",0,"/",0,"0/0"]
[0,26,0,{"$nulls":7},0,0,null,0,0,0,0,0,0,0,0,0,0,{"v":0,"d":"0.00"},"",0,0,null,0,0,0,0,0,0,0,0,0,0,{"v":0,"d":"0.00"},"",0,0,null,0,0,0,0,0,0,0,0,0,0,{"v":0,"d":"0.00"},"",0,0,null,0,0,0,0,0,0,0,0,0,0,0,"",0,0,null,0,0,0,0,0,0,0,0,0,0,{"v":0,"d":"0.00"},"",{"$nulls":5},0,{"v":0,"d":"0.00"},"",{"$nulls":5},0,{"v":0,"d":"0.00"},"",{"$nulls":5},0,0,"",{"$nulls":5},0,"","",null,null,"",900,0,{"v":0,"d":"0.00"},"","","","",0,{"$nulls":3},0,"/",100,"0/100",0,"/",100,"0/100",0,"/",100,"0/100",0,"/",0,"0/0"]
[0,27,0,{"$nulls":7},0,0,null,0,0,0,0,0,0,0,0,0,0,{"v":0,"d":"0.00"},"",0,0,null,0,0,0,0,0,0,0,0,0,0,{"v":0,"d":"0.00"},"",0,0,null,0,0,0,0,0,0,0,0,0,0,{"v":0,"d":"0.00"},"",0,0,null,0,0,0,0,0,0,0,0,0,0,0,"",0,0,null,0,0,0,0,0,0,0,0,0,0,{"v":0,"d":"0.00"},"",{"$nulls":5},0,{"v":0,"d":"0.00"},"",{"$nulls":5},0,{"v":0,"d":"0.00"},"",{"$nulls":5},0,0,"",{"$nulls":5},0,"","",null,null,"",900,0,{"v":0,"d":"0.00"},"","","","",0,{"$nulls":3},0,"/",100,"0/100",0,"/",100,"0/100",0,"/",100,"0/100",0,"/",0,"0/0"]
[0,28,0,{"$nulls":7},0,0,null,0,0,0,0,0,0,0,0,0,0,{"v":0,"d":"0.00"},"",0,0,null,0,0,0,0,0,0,0,0,0,0,{"v":0,"d":"0.00"},"",0,0,null,0,0,0,0,0,0,0,0,0,0,{"v":0,"d":"0.00"},"",0,0,null,0,0,0,0,0,0,0,0,0,0,0,"",0,0,null,0,0,0,0,0,0,0,0,0,0,{"v":0,"d":"0.00"},"",{"$nulls":5},0,{"v":0,"d":"0.00"},"",{"$nulls":5},0,{"v":0,"d":"0.00"},"",{"$nulls":5},0,0,"",{"$nulls":5},0,"","",null,null,"",900,0,{"v":0,"d":"0.00"},"","","","",0,{"$nulls":3},0,"/",100,"0/100",0,"/",100,"0/100",0,"/",100,"0/100",0,"/",0,"0/0"]
[0,29,0,{"$nulls":7},0,0,null,0,0,0,0,0,0,0,0,0,0,{"v":0,"d":"0.00"},"",0,0,null,0,0,0,0,0,0,0,0,0,0,{"v":0,"d":"0.00"},"",0,0,null,0,0,0,0,0,0,0,0,0,0,{"v":0,"d":"0.00"},"",0,0,null,0,0,0,0,0,0,0,0,0,0,0,"",0,0,null,0,0,0,0,0,0,0,0,0,0,{"v":0,"d":"0.00"},"",{"$nulls":5},0,{"v":0,"d":"0.00"},"",{"$nulls":5},0,{"v":0,"d":"0.00"},"",{"$nulls":5},0,0,"",{"$nulls":5},0,"","",null,null,"",900,0,{"v":0,"d":"0.00"},"","","","",0,{"$nulls":3},0,"/",100,"0/100",0,"/",100,"0/100",0,"/",100,"0/100",0,"/",0,"0/0"]
[0,30,0,{"$nulls":7},0,0,null,0,0,0,0,0,0,0,0,0,0,{"v":0,"d":"0.00"},"",0,0,null,0,0,0,0,0,0,0,0,0,0,{"v":0,"d":"0.00"},"",0,0,null,0,0,0,0,0,0,0,0,0,0,{"v":0,"d":"0.00"},"",0,0,null,0,0,0,0,0,0,0,0,0,0,0,"",0,0,null,0,0,0,0,0,0,0,0,0,0,{"v":0,"d":"0.00"},"",{"$nulls":5},0,{"v":0,"d":"0.00"},"",{"$nulls":5},0,{"v":0,"d":"0.00"},"",{"$nulls":5},0,0,"",{"$nulls":5},0,"","",null,null,"",900,0,{"v":0,"d":"0.00"},"","","","",0,{"$nulls":3},0,"/",100,"0/100",0,"/",100,"0/100",0,"/",100,"0/100",0,"/",0,"0/0"]
[0,31,0,{"$nulls":7},0,0,null,0,0,0,0,0,0,0,0,0,0,{"v":0,"d":"0.00"},"",0,0,null,0,0,0,0,0,0,0,0,0,0,{"v":0,"d":"0.00"},"",0,0,null,0,0,0,0,0,0,0,0,0,0,{"v":0,"d":"0.00"},"",0,0,null,0,0,0,0,0,0,0,0,0,0,0,"",0,0,null,0,0,0,0,0,0,0,0,0,0,{"v":0,"d":"0.00"},"",{"$nulls":5},0,{"v":0,"d":"0.00"},"",{"$nulls":5},0,{"v":0,"d":"0.00"},"",{"$nulls":5},0,0,"",{"$nulls":5},0,"","",null,null,"",900,0,{"v":0,"d":"0.00"},"","","","",0,{"$nulls":3},0,"/",100,"0/100",0,"/",100,"0/100",0,"/",100,"0/100",0,"/",0,"0/0"]
[0,32,0,{"$nulls":7},0,0,null,0,0,0,0,0,0,0,0,0,0,{"v":0,"d":"0.00"},"",0,0,null,0,0,0,0,0,0,0,0,0,0,{"v":0,"d":"0.00"},"",0,0,null,0,0,0,0,0,0,0,0,0,0,{"v":0,"d":"0.00"},"",0,0,null,0,0,0,0,0,0,0,0,0,0,0,"",0,0,null,0,0,0,0,0,0,0,0,0,0,{"v":0,"d":"0.00"},"",{"$nulls":5},0,{"v":0,"d":"0.00"},"",{"$nulls":5},0,{"v":0,"d":"0.00"},"",{"$nulls":5},0,0,"",{"$nulls":5},0,"","",null,null,"",900,0,{"v":0,"d":"0.00"},"","","","",0,{"$nulls":3},0,"/",100,"0/100",0,"/",100,"0/100",0,"/",100,"0/100",0,"/",0,"0/0"]
[0,33,0,{"$nulls":7},0,0,null,0,0,0,0,0,0,0,0,0,0,{"v":0,"d":"0.00"},"",0,0,null,0,0,0,0,0,0,0,0,0,0,{"v":0,"d":"0.00"},"",0,0,null,0,0,0,0,0,0,0,0,0,0,{"v":0,"d":"0.00"},"",0,0,null,0,0,0,0,0,0,0,0,0,0,0,"",0,0,null,0,0,0,0,0,0,0,0,0,0,{"v":0,"d":"0.00"},"",{"$nulls":5},{"$f":"SUM(CH41:CL41)","v":0},{"v":0,"d":"0.00"},"",{"$nulls":5},{"$f":"SUM(CP41:CT41)","v":0},{"v":0,"d":"0.00"},"",{"$nulls":5},{"$f":"SUM(CX41:DB41)","v":0},0,"",{"$nulls":5},{"$f":"SUM(DF41:DJ41)","v":0},"","",null,null,"",900,0,{"v":0,"d":"0.00"},"","","","",0,{"$nulls":3},0,"/",100,"0/100",0,"/",100,"0/100",0,"/",100,"0/100",0,"/",0,"0/0"]
[0,34,0,{"$nulls":7},0,0,null,0,0,0,0,0,0,0,0,0,0,{"v":0,"d":"0.00"},"",0,0,null,0,0,0,0,0,0,0,0,0,0,{"v":0,"d":"0.00"},"",0,0,null,0,0,0,0,0,0,0,0,0,0,{"v":0,"d":"0.00"},"",0,0,null,0,0,0,0,0,0,0,0,0,0,0,"",0,0,null,0,0,0,0,0,0,0,0,0,0,{"v":0,"d":"0.00"},"",{"$nulls":5},0,{"v":0,"d":"0.00"},"",{"$nulls":5},0,{"v":0,"d":"0.00"},"",{"$nulls":5},0,0,"",{"$nulls":5},0,"","",null,null,"",900,0,{"v":0,"d":"0.00"},"","","","",0,{"$nulls":3},0,"/",100,"0/100",0,"/",100,"0/100",0,"/",100,"0/100",0,"/",0,"0/0"]
[0,35,0,{"$nulls":7},0,0,null,0,0,0,0,0,0,0,0,0,0,{"v":0,"d":"0.00"},"",0,0,null,0,0,0,0,0,0,0,0,0,0,{"v":0,"d":"0.00"},"",0,0,null,0,0,0,0,0,0,0,0,0,0,{"v":0,"d":"0.00"},"",0,0,null,0,0,0,0,0,0,0,0,0,0,0,"",0,0,null,0,0,0,0,0,0,0,0,0,0,{"v":0,"d":"0.00"},"",{"$nulls":5},0,{"v":0,"d":"0.00"},"",{"$nulls":5},0,{"v":0,"d":"0.00"},"",{"$nulls":5},0,0,"",{"$nulls":5},0,"","",null,null,"",900,0,{"v":0,"d":"0.00"},"","","","",0,{"$nulls":3},0,"/",100,"0/100",0,"/",100,"0/100",0,"/",100,"0/100",0,"/",0,"0/0"]
[0,36,0,{"$nulls":7},0,0,null,0,0,0,0,0,0,0,0,0,0,{"v":0,"d":"0.00"},"",0,0,null,0,0,0,0,0,0,0,0,0,0,{"v":0,"d":"0.00"},"",0,0,null,0,0,0,0,0,0,0,0,0,0,{"v":0,"d":"0.00"},"",0,0,null,0,0,0,0,0,0,0,0,0,0,0,"",0,0,null,0,0,0,0,0,0,0,0,0,0,{"v":0,"d":"0.00"},"",{"$nulls":5},0,{"v":0,"d":"0.00"},"",{"$nulls":5},0,{"v":0,"d":"0.00"},"",{"$nulls":5},0,0,"",{"$nulls":5},0,"","",null,null,"",900,0,{"v":0,"d":"0.00"},"","","","",0,{"$nulls":3},0,"/",100,"0/100",0,"/",100,"0/100",0,"/",100,"0/100",0,"/",0,"0/0"]
[0,37,0,{"$nulls":7},0,0,null,0,0,0,0,0,0,0,0,0,0,{"v":0,"d":"0.00"},"",0,0,null,0,0,0,0,0,0,0,0,0,0,{"v":0,"d":"0.00"},"",0,0,null,0,0,0,0,0,0,0,0,0,0,{"v":0,"d":"0.00"},"",0,0,null,0,0,0,0,0,0,0,0,0,0,0,"",0,0,null,0,0,0,0,0,0,0,0,0,0,{"v":0,"d":"0.00"},"",{"$nulls":5},0,{"v":0,"d":"0.00"},"",{"$nulls":5},0,{"v":0,"d":"0.00"},"",{"$nulls":5},0,0,"",{"$nulls":5},0,"","",null,null,"",900,0,{"v":0,"d":"0.00"},"","","","",0,{"$nulls":3},0,"/",100,"0/100",0,"/",100,"0/100",0,"/",100,"0/100",0,"/",0,"0/0"]
[0,38,0,{"$nulls":7},0,0,null,0,0,0,0,0,0,0,0,0,0,{"v":0,"d":"0.00"},"",0,0,null,0,0,0,0,0,0,0,0,0,0,{"v":0,"d":"0.00"},"",0,0,null,0,0,0,0,0,0,0,0,0,0,{"v":0,"d":"0.00"},"",0,0,null,0,0,0,0,0,0,0,0,0,0,0,"",0,0,null,0,0,0,0,0,0,0,0,0,0,{"v":0,"d":"0.00"},"",{"$nulls":5},0,{"v":0,"d":"0.00"},"",{"$nulls":5},0,{"v":0,"d":"0.00"},"",{"$nulls":5},0,0,"",{"$nulls":5},0,"","",null,null,"",900,0,{"v":0,"d":"0.00"},"","","","",0,{"$nulls":3},0,"/",100,"0/100",0,"/",100,"0/100",0,"/",100,"0/100",0,"/",0,"0/0"]
[0,39,0,{"$nulls":7},0,0,null,0,0,0,0,0,0,0,0,0,0,{"v":0,"d":"0.00"},"",0,0,null,0,0,0,0,0,0,0,0,0,0,{"v":0,"d":"0.00"},"",0,0,null,0,0,0,0,0,0,0,0,0,0,{"v":0,"d":"0.00"},"",0,0,null,0,0,0,0,0,0,0,0,0,0,0,"",0,0,null,0,0,0,0,0,0,0,0,0,0,{"v":0,"d":"0.00"},"",{"$nulls":5},0,{"v":0,"d":"0.00"},"",{"$nulls":5},0,{"v":0,"d":"0.00"},"",{"$nulls":5},0,0,"",{"$nulls":5},0,"","",null,null,"",900,0,{"v":0,"d":"0.00"},"","","","",0,{"$nulls":3},0,"/",100,"0/100",0,"/",100,"0/100",0,"/",100,"0/100",0,"/",0,"0/0"]
[0,40,0,{"$nulls":7},0,0,null,0,0,0,0,0,0,0,0,0,0,{"v":0,"d":"0.00"},"",0,0,null,0,0,0,0,0,0,0,0,0,0,{"v":0,"d":"0.00"},"",0,0,null,0,0,0,0,0,0,0,0,0,0,{"v":0,"d":"0.00"},"",0,0,null,0,0,0,0,0,0,0,0,0,0,0,"",0,0,null,0,0,0,0,0,0,0,0,0,0,{"v":0,"d":"0.00"},"",{"$nulls":5},0,{"v":0,"d":"0.00"},"",{"$nulls":5},0,{"v":0,"d":"0.00"},"",{"$nulls":5},0,0,"",{"$nulls":5},0,"","",null,null,"",900,0,{"v":0,"d":"0.00"},"","","","",0,{"$nulls":3},0,"/",100,"0/100",0,"/",100,"0/100",0,"/",100,"0/100",0,"/",0,"0/0"]
[0,41,0,{"$nulls":7},0,0,null,0,0,0,0,0,0,0,0,0,0,{"v":0,"d":"0.00"},"",0,0,null,0,0,0,0,0,0,0,0,0,0,{"v":0,"d":"0.00"},"",0,0,null,0,0,0,0,0,0,0,0,0,0,{"v":0,"d":"0.00"},"",0,0,null,0,0,0,0,0,0,0,0,0,0,0,"",0,0,null,0,0,0,0,0,0,0,0,0,0,{"v":0,"d":"0.00"},"",{"$nulls":5},0,{"v":0,"d":"0.00"},"",{"$nulls":5},0,{"v":0,"d":"0.00"},"",{"$nulls":5},0,0,"",{"$nulls":5},0,"","",null,null,"",900,0,{"v":0,"d":"0.00"},"","","","",0,{"$nulls":3},0,"/",100,"0/100",0,"/",100,"0/100",0,"/",100,"0/100",0,"/",0,"0/0"]
[0,42,0,{"$nulls":7},0,0,null,0,0,0,0,0,0,0,0,0,0,{"v":0,"d":"0.00"},"",0,0,null,0,0,0,0,0,0,0,0,0,0,{"v":0,"d":"0.00"},"",0,0,null,0,0,0,0,0,0,0,0,0,0,{"v":0,"d":"0.00"},"",0,0,null,0,0,0,0,0,0,0,0,0,0,0,"",0,0,null,0,0,0,0,0,0,0,0,0,0,{"v":0,"d":"0.00"},"",{"$nulls":5},0,{"v":0,"d":"0.00"},"",{"$nulls":5},0,{"v":0,"d":"0.00"},"",{"$nulls":5},0,0,"",{"$nulls":5},0,"","",null,null,"",900,0,{"v":0,"d":"0.00"},"","","","",0,{"$nulls":3},0,"/",100,"0/100",0,"/",100,"0/100",0,"/",100,"0/100",0,"/",0,"0/0"]
[0,43,0,{"$nulls":7},0,0,null,0,0,0,0,0,0,0,0,0,0,{"v":0,"d":"0.00"},"",0,0,null,0,0,0,0,0,0,0,0,0,0,{"v":0,"d":"0.00"},"",0,0,null,0,0,0,0,0,0,0,0,0,0,{"v":0,"d":"0.00"},"",0,0,null,0,0,0,0,0,0,0,0,0,0,0,"",0,0,null,0,0,0,0,0,0,0,0,0,0,{"v":0,"d":"0.00"},"",{"$nulls":5},0,{"v":0,"d":"0.00"},"",{"$nulls":5},0,{"v":0,"d":"0.00"},"",{"$nulls":5},0,0,"",{"$nulls":5},0,"","",null,null,"",900,0,{"v":0,"d":"0.00"},"","","","",0,{"$nulls":3},0,"/",100,"0/100",0,"/",100,"0/100",0,"/",100,"0/100",0,"/",0,"0/0"]
[0,44,0,{"$nulls":7},0,0,null,0,0,0,0,0,0,0,0,0,0,{"v":0,"d":"0.00"},"",0,0,null,0,0,0,0,0,0,0,0,0,0,{"v":0,"d":"0.00"},"",0,0,null,0,0,0,0,0,0,0,0,0,0,{"v":0,"d":"0.00"},"",0,0,null,0,0,0,0,0,0,0,0,0,0,0,"",0,0,null,0,0,0,0,0,0,0,0,0,0,{"v":0,"d":"0.00"},"",{"$nulls":5},0,{"v":0,"d":"0.00"},"",{"$nulls":5},0,{"v":0,"d":"0.00"},"",{"$nulls":5},0,0,"",{"$nulls":5},0,"","",null,null,"",900,0,{"v":0,"d":"0.00"},"","","","",0,{"$nulls":3},0,"/",100,"0/100",0,"/",100,"0/100",0,"/",100,"0/100",0,"/",0,"0/0"]
[0,45,0,{"$nulls":7},0,0,null,0,0,0,0,0,0,0,0,0,0,{"v":0,"d":"0.00"},"",0,0,null,0,0,0,0,0,0,0,0,0,0,{"v":0,"d":"0.00"},"",0,0,null,0,0,0,0,0,0,0,0,0,0,{"v":0,"d":"0.00"},"",0,0,null,0,0,0,0,0,0,0,0,0,0,0,"",0,0,null,0,0,0,0,0,0,0,0,0,0,{"v":0,"d":"0.00"},"",{"$nulls":5},0,{"v":0,"d":"0.00"},"",{"$nulls":5},0,{"v":0,"d":"0.00"},"",{"$nulls":5},0,0,"",{"$nulls":5},0,"","",null,null,"",900,0,{"v":0,"d":"0.00"},"","","","",0,{"$nulls":3},0,"/",100,"0/100",0,"/",100,"0/100",0,"/",100,"0/100",0,"/",0,"0/0"]
[0,46,0,{"$nulls":7},0,0,null,0,0,0,0,0,0,0,0,0,0,{"v":0,"d":"0.00"},"",0,0,null,0,0,0,0,0,0,0,0,0,0,{"v":0,"d":"0.00"},"",0,0,null,0,0,0,0,0,0,0,0,0,0,{"v":0,"d":"0.00"},"",0,0,null,0,0,0,0,0,0,0,0,0,0,0,"",0,0,null,0,0,0,0,0,0,0,0,0,0,{"v":0,"d":"0.00"},"",{"$nulls":5},0,{"v":0,"d":"0.00"},"",{"$nulls":5},0,{"v":0,"d":"0.00"},"",{"$nulls":5},0,0,"",{"$nulls":5},0,"","",null,null,"",900,0,{"v":0,"d":"0.00"},"","","","",0,{"$nulls":3},0,"/",100,"0/100",0,"/",100,"0/100",0,"/",100,"0/100",0,"/",0,"0/0"]
[0,47,0,{"$nulls":7},0,0,null,0,0,0,0,0,0,0,0,0,0,{"v":0,"d":"0.00"},"",0,0,null,0,0,0,0,0,0,0,0,0,0,{"v":0,"d":"0.00"},"",0,0,null,0,0,0,0,0,0,0,0,0,0,{"v":0,"d":"0.00"},"",0,0,null,0,0,0,0,0,0,0,0,0,0,0,"",0,0,null,0,0,0,0,0,0,0,0,0,0,{"v":0,"d":"0.00"},"",{"$nulls":5},0,{"v":0,"d":"0.00"},"",{"$nulls":5},0,{"v":0,"d":"0.00"},"",{"$nulls":5},0,0,"",{"$nulls":5},0,"","",null,null,"",900,0,{"v":0,"d":"0.00"},"","","","",0,{"$nulls":3},0,"/",100,"0/100",0,"/",100,"0/100",0,"/",100,"0/100",0,"/",0,"0/0"]
[0,48,0,{"$nulls":7},0,0,null,0,0,0,0,0,0,0,0,0,0,{"v":0,"d":"0.00"},"",0,0,null,0,0,0,0,0,0,0,0,0,0,{"v":0,"d":"0.00"},"",0,0,null,0,0,0,0,0,0,0,0,0,0,{"v":0,"d":"0.00"},"",0,0,null,0,0,0,0,0,0,0,0,0,0,0,"",0,0,null,0,0,0,0,0,0,0,0,0,0,{"v":0,"d":"0.00"},"",{"$nulls":5},0,{"v":0,"d":"0.00"},"",{"$nulls":5},0,{"v":0,"d":"0.00"},"",{"$nulls":5},0,0,"",{"$nulls":5},0,"","",null,null,"",900,0,{"v":0,"d":"0.00"},"","","","",0,{"$nulls":3},0,"/",100,"0/100",0,"/",100,"0/100",0,"/",100,"0/100",0,"/",0,"0/0"]
[0,49,0,{"$nulls":7},0,0,null,0,0,0,0,0,0,0,0,0,0,{"v":0,"d":"0.00"},"",0,0,null,0,0,0,0,0,0,0,0,0,0,{"v":0,"d":"0.00"},"",0,0,null,0,0,0,0,0,0,0,0,0,0,{"v":0,"d":"0.00"},"",0,0,null,0,0,0,0,0,0,0,0,0,0,0,"",0,0,null,0,0,0,0,0,0,0,0,0,0,{"v":0,"d":"0.00"},"",{"$nulls":5},0,{"v":0,"d":"0.00"},"",{"$nulls":5},0,{"v":0,"d":"0.00"},"",{"$nulls":5},0,0,"",{"$nulls":5},0,"","",null,null,"",900,0,{"v":0,"d":"0.00"},"","","","",0,{"$nulls":3},0,"/",100,"0/100",0,"/",100,"0/100",0,"/",100,"0/100",0,"/",0,"0/0"]
[0,50,0,{"$nulls":7},0,0,null,0,0,0,0,0,0,0,0,0,0,{"v":0,"d":"0.00"},"",0,0,null,0,0,0,0,0,0,0,0,0,0,{"v":0,"d":"0.00"},"",0,0,null,0,0,0,0,0,0,0,0,0,0,{"v":0,"d":"0.00"},"",0,0,null,0,0,0,0,0,0,0,0,0,0,0,"",0,0,null,0,0,0,0,0,0,0,0,0,0,{"v":0,"d":"0.00"},"",{"$nulls":5},0,{"v":0,"d":"0.00"},"",{"$nulls":5},0,{"v":0,"d":"0.00"},"",{"$nulls":5},0,0,"",{"$nulls":5},0,"","",null,null,"",900,0,{"v":0,"d":"0.00"},"","","","",0,{"$nulls":3},0,"/",100,"0/100",0,"/",100,"0/100",0,"/",100,"0/100",0,"/",0,"0/0"]
[0,51,0,{"$nulls":7},0,0,null,0,0,0,0,0,0,0,0,0,0,{"v":0,"d":"0.00"},"",0,0,null,0,0,0,0,0,0,0,0,0,0,{"v":0,"d":"0.00"},"",0,0,null,0,0,0,0,0,0,0,0,0,0,{"v":0,"d":"0.00"},"",0,0,null,0,0,0,0,0,0,0,0,0,0,0,"",0,0,null,0,0,0,0,0,0,0,0,0,0,{"v":0,"d":"0.00"},"",{"$nulls":5},0,{"v":0,"d":"0.00"},"",{"$nulls":5},0,{"v":0,"d":"0.00"},"",{"$nulls":5},0,0,"",{"$nulls":5},0,"","",null,null,"",900,0,{"v":0,"d":"0.00"},"","","","",0,{"$nulls":3},0,"/",100,"0/100",0,"/",100,"0/100",0,"/",100,"0/100",0,"/",0,"0/0"]
[0,52,0,{"$nulls":7},0,0,null,0,0,0,0,0,0,0,0,0,0,{"v":0,"d":"0.00"},"",0,0,null,0,0,0,0,0,0,0,0,0,0,{"v":0,"d":"0.00"},"",0,0,null,0,0,0,0,0,0,0,0,0,0,{"v":0,"d":"0.00"},"",0,0,null,0,0,0,0,0,0,0,0,0,0,0,"",0,0,null,0,0,0,0,0,0,0,0,0,0,{"v":0,"d":"0.00"},"",{"$nulls":5},0,{"v":0,"d":"0.00"},"",{"$nulls":5},0,{"v":0,"d":"0.00"},"",{"$nulls":5},0,0,"",{"$nulls":5},0,"","",null,null,"",900,0,{"v":0,"d":"0.00"},"","","","",0,{"$nulls":3},0,"/",100,"0/100",0,"/",100,"0/100",0,"/",100,"0/100",0,"/",0,"0/0"]
[0,53,0,{"$nulls":7},0,0,null,0,0,0,0,0,0,0,0,0,0,{"v":0,"d":"0.00"},"",0,0,null,0,0,0,0,0,0,0,0,0,0,{"v":0,"d":"0.00"},"",0,0,null,0,0,0,0,0,0,0,0,0,0,{"v":0,"d":"0.00"},"",0,0,null,0,0,0,0,0,0,0,0,0,0,0,"",0,0,null,0,0,0,0,0,0,0,0,0,0,{"v":0,"d":"0.00"},"",{"$nulls":5},0,{"v":0,"d":"0.00"},"",{"$nulls":5},0,{"v":0,"d":"0.00"},"",{"$nulls":5},0,0,"",{"$nulls":5},0,"","",null,null,"",900,0,{"v":0,"d":"0.00"},"","","","",0,{"$nulls":3},0,"/",100,"0/100",0,"/",100,"0/100",0,"/",100,"0/100",0,"/",0,"0/0"]
[0,54,0,{"$nulls":7},0,0,null,0,0,0,0,0,0,0,0,0,0,{"v":0,"d":"0.00"},"",0,0,null,0,0,0,0,0,0,0,0,0,0,{"v":0,"d":"0.00"},"",0,0,null,0,0,0,0,0,0,0,0,0,0,{"v":0,"d":"0.00"},"",0,0,null,0,0,0,0,0,0,0,0,0,0,0,"",0,0,null,0,0,0,0,0,0,0,0,0,0,{"v":0,"d":"0.00"},"",{"$nulls":5},0,{"v":0,"d":"0.00"},"",{"$nulls":5},0,{"v":0,"d":"0.00"},"",{"$nulls":5},0,0,"",{"$nulls":5},0,"","",null,null,"",900,0,{"v":0,"d":"0.00"},"","","","",0,{"$nulls":3},0,"/",100,"0/100",0,"/",100,"0/100",0,"/",100,"0/100",0,"/",0,"0/0"]
[0,55,0,{"$nulls":7},0,0,null,0,0,0,0,0,0,0,0,0,0,{"v":0,"d":"0.00"},"",0,0,null,0,0,0,0,0,0,0,0,0,0,{"v":0,"d":"0.00"},"",0,0,null,0,0,0,0,0,0,0,0,0,0,{"v":0,"d":"0.00"},"",0,0,null,0,0,0,0,0,0,0,0,0,0,0,"",0,0,null,0,0,0,0,0,0,0,0,0,0,{"v":0,"d":"0.00"},"",{"$nulls":5},0,{"v":0,"d":"0.00"},"",{"$nulls":5},0,{"v":0,"d":"0.00"},"",{"$nulls":5},0,0,"",{"$nulls":5},0,"","",null,null,"",900,0,{"v":0,"d":"0.00"},"","","","",0,{"$nulls":3},0,"/",100,"0/100",0,"/",100,"0/100",0,"/",100,"0/100",0,"/",0,"0/0"]
[0,56,0,{"$nulls":7},0,0,null,0,0,0,0,0,0,0,0,0,0,{"v":0,"d":"0.00"},"",0,0,null,0,0,0,0,0,0,0,0,0,0,{"v":0,"d":"0.00"},"",0,0,null,0,0,0,0,0,0,0,0,0,0,{"v":0,"d":"0.00"},"",0,0,null,0,0,0,0,0,0,0,0,0,0,0,"",0,0,null,0,0,0,0,0,0,0,0,0,0,{"v":0,"d":"0.00"},"",{"$nulls":5},0,{"v":0,"d":"0.00"},"",{"$nulls":5},0,{"v":0,"d":"0.00"},"",{"$nulls":5},0,0,"",{"$nulls":5},0,"","",null,null,"",900,0,{"v":0,"d":"0.00"},"","","","",0,{"$nulls":3},0,"/",100,"0/100",0,"/",100,"0/100",0,"/",100,"0/100",0,"/",0,"0/0"]
[0,57,0,{"$nulls":7},0,0,null,0,0,0,0,0,0,0,0,0,0,{"v":0,"d":"0.00"},"",0,0,null,0,0,0,0,0,0,0,0,0,0,{"v":0,"d":"0.00"},"",0,0,null,0,0,0,0,0,0,0,0,0,0,{"v":0,"d":"0.00"},"",0,0,null,0,0,0,0,0,0,0,0,0,0,0,"",0,0,null,0,0,0,0,0,0,0,0,0,0,{"v":0,"d":"0.00"},"",{"$nulls":5},0,{"v":0,"d":"0.00"},"",{"$nulls":5},0,{"v":0,"d":"0.00"},"",{"$nulls":5},0,0,"",{"$nulls":5},0,"","",null,null,"",900,0,{"v":0,"d":"0.00"},"","","","",0,{"$nulls":3},0,"/",100,"0/100",0,"/",100,"0/100",0,"/",100,"0/100",0,"/",0,"0/0"]
[0,58,0,{"$nulls":7},0,0,null,0,0,0,0,0,0,0,0,0,0,{"v":0,"d":"0.00"},"",0,0,null,0,0,0,0,0,0,0,0,0,0,{"v":0,"d":"0.00"},"",0,0,null,0,0,0,0,0,0,0,0,0,0,{"v":0,"d":"0.00"},"",0,0,null,0,0,0,0,0,0,0,0,0,0,0,"",0,0,null,0,0,0,0,0,0,0,0,0,0,{"v":0,"d":"0.00"},"",{"$nulls":5},0,{"v":0,"d":"0.00"},"",{"$nulls":5},0,{"v":0,"d":"0.00"},"",{"$nulls":5},0,0,"",{"$nulls":5},0,"","",null,null,"",900,0,{"v":0,"d":"0.00"},"","","","",0,{"$nulls":3},0,"/",100,"0/100",0,"/",100,"0/100",0,"/",100,"0/100",0,"/",0,"0/0"]
[0,59,0,{"$nulls":7},0,0,null,0,0,0,0,0,0,0,0,0,0,{"v":0,"d":"0.00"},"",0,0,null,0,0,0,0,0,0,0,0,0,0,{"v":0,"d":"0.00"},"",0,0,null,0,0,0,0,0,0,0,0,0,0,{"v":0,"d":"0.00"},"",0,0,null,0,0,0,0,0,0,0,0,0,0,0,"",0,0,null,0,0,0,0,0,0,0,0,0,0,{"v":0,"d":"0.00"},"",{"$nulls":5},0,{"v":0,"d":"0.00"},"",{"$nulls":5},0,{"v":0,"d":"0.00"},"",{"$nulls":5},0,0,"",{"$nulls":5},0,"","",null,null,"",900,0,{"v":0,"d":"0.00"},"","","","",0,{"$nulls":3},0,"/",100,"0/100",0,"/",100,"0/100",0,"/",100,"0/100",0,"/",0,"0/0"]
[0,60,0,{"$nulls":7},0,0,null,0,0,0,0,0,0,0,0,0,0,{"v":0,"d":"0.00"},"",0,0,null,0,0,0,0,0,0,0,0,0,0,{"v":0,"d":"0.00"},"",0,0,null,0,0,0,0,0,0,0,0,0,0,{"v":0,"d":"0.00"},"",0,0,null,0,0,0,0,0,0,0,0,0,0,0,"",0,0,null,0,0,0,0,0,0,0,0,0,0,{"v":0,"d":"0.00"},"",{"$nulls":5},0,{"v":0,"d":"0.00"},"",{"$nulls":5},0,{"v":0,"d":"0.00"},"",{"$nulls":5},0,0,"",{"$nulls":5},0,"","",null,null,"",900,0,{"v":0,"d":"0.00"},"","","","",0,{"$nulls":3},0,"/",100,"0/100",0,"/",100,"0/100",0,"/",100,"0/100",0,"/",0,"0/0"]
[0,61,0,{"$nulls":7},0,0,null,0,0,0,0,0,0,0,0,0,0,{"v":0,"d":"0.00"},"",0,0,null,0,0,0,0,0,0,0,0,0,0,{"v":0,"d":"0.00"},"",0,0,null,0,0,0,0,0,0,0,0,0,0,{"v":0,"d":"0.00"},"",0,0,null,0,0,0,0,0,0,0,0,0,0,0,"",0,0,null,0,0,0,0,0,0,0,0,0,0,{"v":0,"d":"0.00"},"",{"$nulls":5},0,{"v":0,"d":"0.00"},"",{"$nulls":5},0,{"v":0,"d":"0.00"},"",{"$nulls":5},0,0,"",{"$nulls":5},0,"","",null,null,"",900,0,{"v":0,"d":"0.00"},"","","","",0,{"$nulls":3},0,"/",100,"0/100",0,"/",100,"0/100",0,"/",100,"0/100",0,"/",0,"0/0"]
[0,62,0,{"$nulls":7},0,0,null,0,0,0,0,0,0,0,0,0,0,{"v":0,"d":"0.00"},"",0,0,null,0,0,0,0,0,0,0,0,0,0,{"v":0,"d":"0.00"},"",0,0,null,0,0,0,0,0,0,0,0,0,0,{"v":0,"d":"0.00"},"",0,0,null,0,0,0,0,0,0,0,0,0,0,0,"",0,0,null,0,0,0,0,0,0,0,0,0,0,{"v":0,"d":"0.00"},"",{"$nulls":5},0,{"v":0,"d":"0.00"},"",{"$nulls":5},0,{"v":0,"d":"0.00"},"",{"$nulls":5},0,0,"",{"$nulls":5},0,"","",null,null,"",900,0,{"v":0,"d":"0.00"},"","","","",0,{"$nulls":3},0,"/",100,"0/100",0,"/",100,"0/100",0,"/",100,"0/100",0,"/",0,"0/0"]
[0,63,0,{"$nulls":7},0,0,null,0,0,0,0,0,0,0,0,0,0,{"v":0,"d":"0.00"},"",0,0,null,0,0,0,0,0,0,0,0,0,0,{"v":0,"d":"0.00"},"",0,0,null,0,0,0,0,0,0,0,0,0,0,{"v":0,"d":"0.00"},"",0,0,null,0,0,0,0,0,0,0,0,0,0,0,"",0,0,null,0,0,0,0,0,0,0,0,0,0,{"v":0,"d":"0.00"},"",{"$nulls":5},0,{"v":0,"d":"0.00"},"",{"$nulls":5},0,{"v":0,"d":"0.00"},"",{"$nulls":5},0,0,"",{"$nulls":5},0,"","",null,null,"",900,0,{"v":0,"d":"0.00"},"","","","",0,{"$nulls":3},0,"/",100,"0/100",0,"/",100,"0/100",0,"/",100,"0/100",0,"/",0,"0/0"]
[0,64,0,{"$nulls":7},0,0,null,0,0,0,0,0,0,0,0,0,0,{"v":0,"d":"0.00"},"",0,0,null,0,0,0,0,0,0,0,0,0,0,{"v":0,"d":"0.00"},"",0,0,null,0,0,0,0,0,0,0,0,0,0,{"v":0,"d":"0.00"},"",0,0,null,0,0,0,0,0,0,0,0,0,0,0,"",0,0,null,0,0,0,0,0,0,0,0,0,0,{"v":0,"d":"0.00"},"",{"$nulls":5},0,{"v":0,"d":"0.00"},"",{"$nulls":5},0,{"v":0,"d":"0.00"},"",{"$nulls":5},0,0,"",{"$nulls":5},0,"","",null,null,"",900,0,{"v":0,"d":"0.00"},"","","","",0,{"$nulls":3},0,"/",100,"0/100",0,"/",100,"0/100",0,"/",100,"0/100",0,"/",0,"0/0"]
[0,65,0,{"$nulls":7},0,0,null,0,0,0,0,0,0,0,0,0,0,{"v":0,"d":"0.00"},"",0,0,null,0,0,0,0,0,0,0,0,0,0,{"v":0,"d":"0.00"},"",0,0,null,0,0,0,0,0,0,0,0,0,0,{"v":0,"d":"0.00"},"",0,0,null,0,0,0,0,0,0,0,0,0,0,0,"",0,0,null,0,0,0,0,0,0,0,0,0,0,{"v":0,"d":"0.00"},"",{"$nulls":5},{"$f":"SUM(CH73:CL73)","v":0},{"v":0,"d":"0.00"},"",{"$nulls":5},{"$f":"SUM(CP73:CT73)","v":0},{"v":0,"d":"0.00"},"",{"$nulls":5},{"$f":"SUM(CX73:DB73)","v":0},0,"",{"$nulls":5},{"$f":"SUM(DF73:DJ73)","v":0},"","",null,null,"",900,0,{"v":0,"d":"0.00"},"","","","",0,{"$nulls":3},0,"/",100,"0/100",0,"/",100,"0/100",0,"/",100,"0/100",0,"/",0,"0/0"]
[{"$f":"F74","v":0},66,{"$f":"IF(D74>0,$F$4,0)","v":0},{"$nulls":7},0,0,null,{"$f":"SUM(K74:M74)","v":0},0,0,0,0,0,0,0,0,0,{"$f":"IF(OR(W74=\"\",W$7=\"\"),\"\",W74/W$7*100)","v":{"v":0,"d":"0.00"}},{"$f":"IF(OR(X74=\"\",$F74=\"\",$F74=\"ab\",$F74=\"ml\"),\"\",IF(X74>=86,\"A\",IF(X74>=71,\"B\",IF(X74>=51,\"C\",IF(X74>=31,\"D\",IF(X74=0,0,\"E\"))))))","v":""},0,0,null,{"$f":"SUM(Z74:AB74)","v":0},0,0,0,{"$f":"SUM(AD74:AF74)","v":0},0,0,0,{"$f":"SUM(AH74:AJ74)","v":0},{"$f":"AC74+AG74+AK74","v":0},{"$f":"IF(OR(AL74=\"\",AL$7=\"\"),\"\",AL74/AL$7*100)","v":{"v":0,"d":"0.00"}},{"$f":"IF(OR(AM74=\"\",$F74=\"\",$F74=\"ab\",$F74=\"ml\"),\"\",IF(AM74>=86,\"A\",IF(AM74>=71,\"B\",IF(AM74>=51,\"C\",IF(AM74>=31,\"D\",IF(AM74=0,0,\"E\"))))))","v":""},0,0,null,{"$f":"SUM(AO74:AQ74)","v":0},0,0,0,{"$f":"SUM(AS74:AU74)","v":0},0,0,0,{"$f":"SUM(AW74:AY74)","v":0},{"$f":"AR74+AV74+AZ74","v":0},{"$f":"IF(OR(BA74=\"\",BA$7=\"\"),\"\",BA74/BA$7*100)","v":{"v":0,"d":"0.00"}},{"$f":"IF(OR(BB74=\"\",$F74=\"\",$F74=\"ab\",$F74=\"ml\"),\"\",IF(BB74>=86,\"A\",IF(BB74>=71,\"B\",IF(BB74>=51,\"C\",IF(BB74>=31,\"D\",IF(BB74=0,0,\"E\"))))))","v":""},0,0,null,{"$f":"SUM(BD74:BF74)","v":0},0,0,0,{"$f":"SUM(BH74:BJ74)","v":0},0,0,0,{"$f":"SUM(BL74:BN74)","v":0},{"$f":"BG74+BK74+BO74","v":0},{"$f":"IF(OR(BP$7=0,0),\"\",ROUNDUP(BP74/BP$7*100,0))","v":0},{"$f":"IF(OR(BQ74=\"\",$F74=\"\",$F74=\"ab\",$F74=\"ml\"),\"\",IF(BQ74>85,\"A\",IF(BQ74>70,\"B\",IF(BQ74>50,\"C\",IF(BQ74>30,\"D\",IF(BQ74=0,0,\"E\"))))))","v":""},0,0,null,{"$f":"SUM(BS74:BU74)","v":0},0,0,0,{"$f":"SUM(BW74:BY74)","v":0},0,0,0,{"$f":"SUM(CA74:CC74)","v":0},{"$f":"BV74+BZ74+CD74","v":0},{"$f":"IF(OR(CE74=\"\",CE$7=\"\"),\"\",CE74/CE$7*100)","v":{"v":0,"d":"0.00"}},{"$f":"IF(OR(CF74=\"\",$F74=\"\",$F74=\"ab\",$F74=\"ml\"),\"\",IF(CF74>=86,\"A\",IF(CF74>=71,\"B\",IF(CF74>=51,\"C\",IF(CF74>=31,\"D\",IF(CF74=0,0,\"E\"))))))","v":""},{"$nulls":5},0,{"$f":"IF(OR(CM74=\"\",CM$7=\"\"),\"\",CM74/CM$7*100)","v":{"v":0,"d":"0.00"}},"",{"$nulls":5},0,{"$f":"IF(OR(CU74=\"\",CU$7=\"\"),\"\",CU74/CU$7*100)","v":{"v":0,"d":"0.00"}},"",{"$nulls":5},0,{"$f":"IF(OR(DC74=\"\",DC$7=\"\"),\"\",DC74/DC$7*100)","v":0},"",{"$nulls":5},0,{"$f":"IF(OR(DK74=0,DK$7=0),\"\",DK74/DK$7*100)","v":""},{"$f":"IF(OR(DL74=\"\",$F74=\"\",$F74=\"ab\",$F74=\"ml\"),\"\",IF(DL74>=91,\"A+\",IF(DL74>=76,\"A\",IF(DL74>=61,\"B\",IF(DL74>=41,\"C\",IF(DL74=0,0,\"D\"))))))","v":""},null,null,{"$f":"IF(OR(DN74=\"\",DO74=\"\"),\"\",DO74/DN74*100)","v":""},{"$f":"IF(OR($W$7=\"\",$AL$7=\"\",$BA$7=\"\",$BP$7=\"\",$CE$7=\"\"),\"\",SUM($W$7,$AL$7,$BA$7,$BP$7,$CE$7))","v":900},{"$f":"IF(OR(W74=\"\",AL74=\"\",BA74=\"\",BP74=\"\",CE74=\"\"),\"\",SUM(W74,AL74,BA74,BP74,CE74))","v":0},{"$f":"IF(DQ74>0,DR74/DQ74*100)","v":{"v":0,"d":"0.00"}},{"$f":"IF(OR($F74=\"\",$F74=\"ab\",$F74=\"ml\"),\"\",IF(DS74>=86,\"A\",IF(DS74>=71,\"B\",IF(DS74>=51,\"C\",IF(DS74>=31,\"D\",IF(DS74=0,0,\"E\"))))))","v":""},{"$f":"IF(F74=\"TC\",\"Transfered\",IF(OR(F74=\"\",F74=\"DROP\",Y74=\"\",AN74=\"\",BC74=\"\"),\"\",IF(DS74<33,\"Promoted\",\"Passed\")))","v":""},{"$f":"IF(DU74=\"Passed\",DS74,\"\")","v":""},{"$f":"IF(DV74=\"\",\"\",SUMPRODUCT((DV74<DV$9:DV$108)/COUNTIF(DV$9:DV$108,DV$9:DV$108)))","v":""},{"$f":"IF(DT74=\"A+\",\"Excellent\",IF(DT74=\"A\",\"Excellent\",IF(DT74=\"B\",\"Very Good\",IF(DT74=\"C\",\"Good\",IF(DT74=\"D\",\"Average\",IF(DT74=\"E\",\"Needs Improvement\",0))))))","v":0},{"$nulls":3},{"$f":"CM74","v":0},"/",{"$f":"$CM$7","v":100},{"$f":"CONCATENATE(EB74,EC74,ED74)","v":"0/100"},{"$f":"CU74","v":0},"/",{"$f":"$CU$7","v":100},{"$f":"CONCATENATE(EF74,EG74,EH74)","v":"0/100"},{"$f":"DC74","v":0},"/",{"$f":"$DC$7","v":100},{"$f":"CONCATENATE(EJ74,EK74,EL74)","v":"0/100"},{"$f":"DK74","v":0},"/",{"$f":"$DK$7","v":0},{"$f":"CONCATENATE(EN74,EO74,EP74)","v":"0/0"}]
[0,67,0,{"$nulls":7},0,0,null,0,0,0,0,0,0,0,0,0,0,{"v":0,"d":"0.00"},"",0,0,null,0,0,0,0,0,0,0,0,0,0,{"v":0,"d":"0.00"},"",0,0,null,0,0,0,0,0,0,0,0,0,0,{"v":0,"d":"0.00"},"",0,0,null,0,0,0,0,0,0,0,0,0,0,0,"",0,0,null,0,0,0,0,0,0,0,0,0,0,{"v":0,"d":"0.00"},"",{"$nulls":5},0,{"v":0,"d":"0.00"},{"$f":"IF(OR(CN75=\"\",$F75=\"\",$F75=\"ab\",$F75=\"ml\"),\"\",IF(CN75>=86,\"A\",IF(CN75>=71,\"B\",IF(CN75>=51,\"C\",IF(CN75>=31,\"D\",IF(CN75=0,0,\"E\"))))))","v":""},{"$nulls":5},0,{"v":0,"d":"0.00"},{"$f":"IF(OR(CV75=\"\",$F75=\"\",$F75=\"ab\",$F75=\"ml\"),\"\",IF(CV75>=86,\"A\",IF(CV75>=71,\"B\",IF(CV75>=51,\"C\",IF(CV75>=31,\"D\",IF(CV75=0,0,\"E\"))))))","v":""},{"$nulls":5},0,0,{"$f":"IF(OR(DD75=\"\",$F75=\"\",$F75=\"ab\",$F75=\"ml\"),\"\",IF(DD75>=86,\"A\",IF(DD75>=71,\"B\",IF(DD75>=51,\"C\",IF(DD75>=31,\"D\",IF(DD75=0,0,\"E\"))))))","v":""},{"$nulls":5},0,"","",null,null,"",900,0,{"v":0,"d":"0.00"},"","","","",0,{"$nulls":3},0,"/",100,"0/100",0,"/",100,"0/100",0,"/",100,"0/100",0,"/",0,"0/0"]
[0,68,0,{"$nulls":7},0,0,null,0,0,0,0,0,0,0,0,0,0,{"v":0,"d":"0.00"},"",0,0,null,0,0,0,0,0,0,0,0,0,0,{"v":0,"d":"0.00"},"",0,0,null,0,0,0,0,0,0,0,0,0,0,{"v":0,"d":"0.00"},"",0,0,null,0,0,0,0,0,0,0,0,0,0,0,"",0,0,null,0,0,0,0,0,0,0,0,0,0,{"v":0,"d":"0.00"},"",{"$nulls":5},0,{"v":0,"d":"0.00"},"",{"$nulls":5},0,{"v":0,"d":"0.00"},"",{"$nulls":5},0,0,"",{"$nulls":5},0,"","",null,null,"",900,0,{"v":0,"d":"0.00"},"","","","",0,{"$nulls":3},0,"/",100,"0/100",0,"/",100,"0/100",0,"/",100,"0/100",0,"/",0,"0/0"]
[0,69,0,{"$nulls":7},0,0,null,0,0,0,0,{"$f":"SUM(O77:Q77)","v":0},0,0,0,{"$f":"SUM(S77:U77)","v":0},{"$f":"N77+R77+V77","v":0},{"v":0,"d":"0.00"},"",0,0,null,0,0,0,0,0,0,0,0,0,0,{"v":0,"d":"0.00"},"",0,0,null,0,0,0,0,0,0,0,0,0,0,{"v":0,"d":"0.00"},"",0,0,null,0,0,0,0,0,0,0,0,0,0,0,"",0,0,null,0,0,0,0,0,0,0,0,0,0,{"v":0,"d":"0.00"},"",{"$nulls":5},0,{"v":0,"d":"0.00"},"",{"$nulls":5},0,{"v":0,"d":"0.00"},"",{"$nulls":5},0,0,"",{"$nulls":5},0,"","",null,null,"",900,0,{"v":0,"d":"0.00"},"","","","",0,{"$nulls":3},0,"/",100,"0/100",0,"/",100,"0/100",0,"/",100,"0/100",0,"/",0,"0/0"]
[0,70,0,{"$nulls":7},0,0,null,0,0,0,0,0,0,0,0,0,0,{"v":0,"d":"0.00"},"",0,0,null,0,0,0,0,0,0,0,0,0,0,{"v":0,"d":"0.00"},"",0,0,null,0,0,0,0,0,0,0,0,0,0,{"v":0,"d":"0.00"},"",0,0,null,0,0,0,0,0,0,0,0,0,0,0,"",0,0,null,0,0,0,0,0,0,0,0,0,0,{"v":0,"d":"0.00"},"",{"$nulls":5},0,{"v":0,"d":"0.00"},"",{"$nulls":5},0,{"v":0,"d":"0.00"},"",{"$nulls":5},0,0,"",{"$nulls":5},0,"","",null,null,"",900,0,{"v":0,"d":"0.00"},"","","","",0,{"$nulls":3},0,"/",100,"0/100",0,"/",100,"0/100",0,"/",100,"0/100",0,"/",0,"0/0"]
[0,71,0,{"$nulls":7},0,0,null,0,0,0,0,0,0,0,0,0,0,{"v":0,"d":"0.00"},"",0,0,null,0,0,0,0,0,0,0,0,0,0,{"v":0,"d":"0.00"},"",0,0,null,0,0,0,0,0,0,0,0,0,0,{"v":0,"d":"0.00"},"",0,0,null,0,0,0,0,0,0,0,0,0,0,0,"",0,0,null,0,0,0,0,0,0,0,0,0,0,{"v":0,"d":"0.00"},"",{"$nulls":5},0,{"v":0,"d":"0.00"},"",{"$nulls":5},0,{"v":0,"d":"0.00"},"",{"$nulls":5},0,0,"",{"$nulls":5},0,"","",null,null,"",900,0,{"v":0,"d":"0.00"},"","","","",0,{"$nulls":3},0,"/",100,"0/100",0,"/",100,"0/100",0,"/",100,"0/100",0,"/",0,"0/0"]
[0,72,0,{"$nulls":7},0,0,null,0,0,0,0,0,0,0,0,0,0,{"v":0,"d":"0.00"},"",0,0,null,0,0,0,0,0,0,0,0,0,0,{"v":0,"d":"0.00"},"",0,0,null,0,0,0,0,0,0,0,0,0,0,{"v":0,"d":"0.00"},"",0,0,null,0,0,0,0,0,0,0,0,0,0,0,"",0,0,null,0,0,0,0,0,0,0,0,0,0,{"v":0,"d":"0.00"},"",{"$nulls":5},0,{"v":0,"d":"0.00"},"",{"$nulls":5},0,{"v":0,"d":"0.00"},"",{"$nulls":5},0,0,"",{"$nulls":5},0,"","",null,null,"",900,0,{"v":0,"d":"0.00"},"","","","",0,{"$nulls":3},0,"/",100,"0/100",0,"/",100,"0/100",0,"/",100,"0/100",0,"/",0,"0/0"]
[0,73,0,{"$nulls":7},0,0,null,0,0,0,0,0,0,0,0,0,0,{"v":0,"d":"0.00"},"",0,0,null,0,0,0,0,0,0,0,0,0,0,{"v":0,"d":"0.00"},"",0,0,null,0,0,0,0,0,0,0,0,0,0,{"v":0,"d":"0.00"},"",0,0,null,0,0,0,0,0,0,0,0,0,0,0,"",0,0,null,0,0,0,0,0,0,0,0,0,0,{"v":0,"d":"0.00"},"",{"$nulls":5},0,{"v":0,"d":"0.00"},"",{"$nulls":5},0,{"v":0,"d":"0.00"},"",{"$nulls":5},0,0,"",{"$nulls":5},0,"","",null,null,"",900,0,{"v":0,"d":"0.00"},"","","","",0,{"$nulls":3},0,"/",100,"0/100",0,"/",100,"0/100",0,"/",100,"0/100",0,"/",0,"0/0"]
[0,74,0,{"$nulls":7},0,0,null,0,0,0,0,0,0,0,0,0,0,{"v":0,"d":"0.00"},"",0,0,null,0,0,0,0,0,0,0,0,0,0,{"v":0,"d":"0.00"},"",0,0,null,0,0,0,0,0,0,0,0,0,0,{"v":0,"d":"0.00"},"",0,0,null,0,0,0,0,0,0,0,0,0,0,0,"",0,0,null,0,0,0,0,0,0,0,0,0,0,{"v":0,"d":"0.00"},"",{"$nulls":5},0,{"v":0,"d":"0.00"},"",{"$nulls":5},0,{"v":0,"d":"0.00"},"",{"$nulls":5},0,0,"",{"$nulls":5},0,"","",null,null,"",900,0,{"v":0,"d":"0.00"},"","","","",0,{"$nulls":3},0,"/",100,"0/100",0,"/",100,"0/100",0,"/",100,"0/100",0,"/",0,"0/0"]
[0,75,0,{"$nulls":7},0,0,null,0,0,0,0,0,0,0,0,0,0,{"v":0,"d":"0.00"},"",0,0,null,0,0,0,0,0,0,0,0,0,0,{"v":0,"d":"0.00"},"",0,0,null,0,0,0,0,0,0,0,0,0,0,{"v":0,"d":"0.00"},"",0,0,null,0,0,0,0,0,0,0,0,0,0,0,"",0,0,null,0,0,0,0,0,0,0,0,0,0,{"v":0,"d":"0.00"},"",{"$nulls":5},0,{"v":0,"d":"0.00"},"",{"$nulls":5},0,{"v":0,"d":"0.00"},"",{"$nulls":5},0,0,"",{"$nulls":5},0,"","",null,null,"",900,0,{"v":0,"d":"0.00"},"","","","",0,{"$nulls":3},0,"/",100,"0/100",0,"/",100,"0/100",0,"/",100,"0/100",0,"/",0,"0/0"]
[0,76,0,{"$nulls":7},0,0,null,0,0,0,0,0,0,0,0,0,0,{"v":0,"d":"0.00"},"",0,0,null,0,0,0,0,0,0,0,0,0,0,{"v":0,"d":"0.00"},"",0,0,null,0,0,0,0,0,0,0,0,0,0,{"v":0,"d":"0.00"},"",0,0,null,0,0,0,0,0,0,0,0,0,0,0,"",0,0,null,0,0,0,0,0,0,0,0,0,0,{"v":0,"d":"0.00"},"",{"$nulls":5},0,{"v":0,"d":"0.00"},"",{"$nulls":5},0,{"v":0,"d":"0.00"},"",{"$nulls":5},0,0,"",{"$nulls":5},0,"","",null,null,"",900,0,{"v":0,"d":"0.00"},"","","","",0,{"$nulls":3},0,"/",100,"0/100",0,"/",100,"0/100",0,"/",100,"0/100",0,"/",0,"0/0"]
[0,77,0,{"$nulls":7},0,0,null,0,0,0,0,0,0,0,0,0,0,{"v":0,"d":"0.00"},"",0,0,null,0,0,0,0,0,0,0,0,0,0,{"v":0,"d":"0.00"},"",0,0,null,0,0,0,0,0,0,0,0,0,0,{"v":0,"d":"0.00"},"",0,0,null,0,0,0,0,0,0,0,0,0,0,0,"",0,0,null,0,0,0,0,0,0,0,0,0,0,{"v":0,"d":"0.00"},"",{"$nulls":5},0,{"v":0,"d":"0.00"},"",{"$nulls":5},0,{"v":0,"d":"0.00"},"",{"$nulls":5},0,0,"",{"$nulls":5},0,"","",null,null,"",900,0,{"v":0,"d":"0.00"},"","","","",0,{"$nulls":3},0,"/",100,"0/100",0,"/",100,"0/100",0,"/",100,"0/100",0,"/",0,"0/0"]
[0,78,0,{"$nulls":7},0,0,null,0,0,0,0,0,0,0,0,0,0,{"v":0,"d":"0.00"},"",0,0,null,0,0,0,0,0,0,0,0,0,0,{"v":0,"d":"0.00"},"",0,0,null,0,0,0,0,0,0,0,0,0,0,{"v":0,"d":"0.00"},"",0,0,null,0,0,0,0,0,0,0,0,0,0,0,"",0,0,null,0,0,0,0,0,0,0,0,0,0,{"v":0,"d":"0.00"},"",{"$nulls":5},0,{"v":0,"d":"0.00"},"",{"$nulls":5},0,{"v":0,"d":"0.00"},"",{"$nulls":5},0,0,"",{"$nulls":5},0,"","",null,null,"",900,0,{"v":0,"d":"0.00"},"","","","",0,{"$nulls":3},0,"/",100,"0/100",0,"/",100,"0/100",0,"/",100,"0/100",0,"/",0,"0/0"]
[0,79,0,{"$nulls":7},0,0,null,0,0,0,0,0,0,0,0,0,0,{"v":0,"d":"0.00"},"",0,0,null,0,0,0,0,0,0,0,0,0,0,{"v":0,"d":"0.00"},"",0,0,null,0,0,0,0,0,0,0,0,0,0,{"v":0,"d":"0.00"},"",0,0,null,0,0,0,0,0,0,0,0,0,0,0,"",0,0,null,0,0,0,0,0,0,0,0,0,0,{"v":0,"d":"0.00"},"",{"$nulls":5},0,{"v":0,"d":"0.00"},"",{"$nulls":5},0,{"v":0,"d":"0.00"},"",{"$nulls":5},0,0,"",{"$nulls":5},0,"","",null,null,"",900,0,{"v":0,"d":"0.00"},"","","","",0,{"$nulls":3},0,"/",100,"0/100",0,"/",100,"0/100",0,"/",100,"0/100",0,"/",0,"0/0"]
[0,80,0,{"$nulls":7},0,0,null,0,0,0,0,0,0,0,0,0,0,{"v":0,"d":"0.00"},"",0,0,null,0,0,0,0,0,0,0,0,0,0,{"v":0,"d":"0.00"},"",0,0,null,0,0,0,0,0,0,0,0,0,0,{"v":0,"d":"0.00"},"",0,0,null,0,0,0,0,0,0,0,0,0,0,0,"",0,0,null,0,0,0,0,0,0,0,0,0,0,{"v":0,"d":"0.00"},"",{"$nulls":5},0,{"v":0,"d":"0.00"},"",{"$nulls":5},0,{"v":0,"d":"0.00"},"",{"$nulls":5},0,0,"",{"$nulls":5},0,"","",null,null,"",900,0,{"v":0,"d":"0.00"},"","","","",0,{"$nulls":3},0,"/",100,"0/100",0,"/",100,"0/100",0,"/",100,"0/100",0,"/",0,"0/0"]
[0,81,0,{"$nulls":7},0,0,null,0,0,0,0,0,0,0,0,0,0,{"v":0,"d":"0.00"},"",0,0,null,0,0,0,0,0,0,0,0,0,0,{"v":0,"d":"0.00"},"",0,0,null,0,0,0,0,0,0,0,0,0,0,{"v":0,"d":"0.00"},"",0,0,null,0,0,0,0,0,0,0,0,0,0,0,"",0,0,null,0,0,0,0,0,0,0,0,0,0,{"v":0,"d":"0.00"},"",{"$nulls":5},0,{"v":0,"d":"0.00"},"",{"$nulls":5},0,{"v":0,"d":"0.00"},"",{"$nulls":5},0,0,"",{"$nulls":5},0,"","",null,null,"",900,0,{"v":0,"d":"0.00"},"","","","",0,{"$nulls":3},0,"/",100,"0/100",0,"/",100,"0/100",0,"/",100,"0/100",0,"/",0,"0/0"]
[0,82,0,{"$nulls":7},0,0,null,0,0,0,0,0,0,0,0,0,0,{"v":0,"d":"0.00"},"",0,0,null,0,0,0,0,0,0,0,0,0,0,{"v":0,"d":"0.00"},"",0,0,null,0,0,0,0,0,0,0,0,0,0,{"v":0,"d":"0.00"},"",0,0,null,0,0,0,0,0,0,0,0,0,0,0,"",0,0,null,0,0,0,0,0,0,0,0,0,0,{"v":0,"d":"0.00"},"",{"$nulls":5},0,{"v":0,"d":"0.00"},"",{"$nulls":5},0,{"v":0,"d":"0.00"},"",{"$nulls":5},0,0,"",{"$nulls":5},0,"","",null,null,"",900,0,{"v":0,"d":"0.00"},"","","","",0,{"$nulls":3},0,"/",100,"0/100",0,"/",100,"0/100",0,"/",100,"0/100",0,"/",0,"0/0"]
[0,83,0,{"$nulls":7},0,0,null,0,0,0,0,0,0,0,0,0,0,{"v":0,"d":"0.00"},"",0,0,null,0,0,0,0,0,0,0,0,0,0,{"v":0,"d":"0.00"},"",0,0,null,0,0,0,0,0,0,0,0,0,0,{"v":0,"d":"0.00"},"",0,0,null,0,0,0,0,0,0,0,0,0,0,0,"",0,0,null,0,0,0,0,0,0,0,0,0,0,{"v":0,"d":"0.00"},"",{"$nulls":5},0,{"v":0,"d":"0.00"},"",{"$nulls":5},0,{"v":0,"d":"0.00"},"",{"$nulls":5},0,0,"",{"$nulls":5},0,"","",null,null,"",900,0,{"v":0,"d":"0.00"},"","","","",0,{"$nulls":3},0,"/",100,"0/100",0,"/",100,"0/100",0,"/",100,"0/100",0,"/",0,"0/0"]
[0,84,0,{"$nulls":7},0,0,null,0,0,0,0,0,0,0,0,0,0,{"v":0,"d":"0.00"},"",0,0,null,0,0,0,0,0,0,0,0,0,0,{"v":0,"d":"0.00"},"",0,0,null,0,0,0,0,0,0,0,0,0,0,{"v":0,"d":"0.00"},"",0,0,null,0,0,0,0,0,0,0,0,0,0,0,"",0,0,null,0,0,0,0,0,0,0,0,0,0,{"v":0,"d":"0.00"},"",{"$nulls":5},0,{"v":0,"d":"0.00"},"",{"$nulls":5},0,{"v":0,"d":"0.00"},"",{"$nulls":5},0,0,"",{"$nulls":5},0,"","",null,null,"",900,0,{"v":0,"d":"0.00"},"","","","",0,{"$nulls":3},0,"/",100,"0/100",0,"/",100,"0/100",0,"/",100,"0/100",0,"/",0,"0/0"]
[0,85,0,{"$nulls":7},0,0,null,0,0,0,0,0,0,0,0,0,0,{"v":0,"d":"0.00"},"",0,0,null,0,0,0,0,0,0,0,0,0,0,{"v":0,"d":"0.00"},"",0,0,null,0,0,0,0,0,0,0,0,0,0,{"v":0,"d":"0.00"},"",0,0,null,0,0,0,0,0,0,0,0,0,0,0,"",0,0,null,0,0,0,0,0,0,0,0,0,0,{"v":0,"d":"0.00"},"",{"$nulls":5},0,{"v":0,"d":"0.00"},"",{"$nulls":5},0,{"v":0,"d":"0.00"},"",{"$nulls":5},0,0,"",{"$nulls":5},0,"","",null,null,"",900,0,{"v":0,"d":"0.00"},"","","","",0,{"$nulls":3},0,"/",100,"0/100",0,"/",100,"0/100",0,"/",100,"0/100",0,"/",0,"0/0"]
[0,86,0,{"$nulls":7},0,0,null,0,0,0,0,0,0,0,0,0,0,{"v":0,"d":"0.00"},"",0,0,null,0,0,0,0,0,0,0,0,0,0,{"v":0,"d":"0.00"},"",0,0,null,0,0,0,0,0,0,0,0,0,0,{"v":0,"d":"0.00"},"",0,0,null,0,0,0,0,0,0,0,0,0,0,0,"",0,0,null,0,0,0,0,0,0,0,0,0,0,{"v":0,"d":"0.00"},"",{"$nulls":5},0,{"v":0,"d":"0.00"},"",{"$nulls":5},0,{"v":0,"d":"0.00"},"",{"$nulls":5},0,0,"",{"$nulls":5},0,"","",null,null,"",900,0,{"v":0,"d":"0.00"},"","","","",0,{"$nulls":3},0,"/",100,"0/100",0,"/",100,"0/100",0,"/",100,"0/100",0,"/",0,"0/0"]
[0,87,0,{"$nulls":7},0,0,null,0,0,0,0,0,0,0,0,0,0,{"v":0,"d":"0.00"},"",0,0,null,0,0,0,0,0,0,0,0,0,0,{"v":0,"d":"0.00"},"",0,0,null,0,0,0,0,0,0,0,0,0,0,{"v":0,"d":"0.00"},"",0,0,null,0,0,0,0,0,0,0,0,0,0,0,"",0,0,null,0,0,0,0,0,0,0,0,0,0,{"v":0,"d":"0.00"},"",{"$nulls":5},0,{"v":0,"d":"0.00"},"",{"$nulls":5},0,{"v":0,"d":"0.00"},"",{"$nulls":5},0,0,"",{"$nulls":5},0,"","",null,null,"",900,0,{"v":0,"d":"0.00"},"","","","",0,{"$nulls":3},0,"/",100,"0/100",0,"/",100,"0/100",0,"/",100,"0/100",0,"/",0,"0/0"]
[0,88,0,{"$nulls":7},0,0,null,0,0,0,0,0,0,0,0,0,0,{"v":0,"d":"0.00"},"",0,0,null,0,0,0,0,0,0,0,0,0,0,{"v":0,"d":"0.00"},"",0,0,null,0,0,0,0,0,0,0,0,0,0,{"v":0,"d":"0.00"},"",0,0,null,0,0,0,0,0,0,0,0,0,0,0,"",0,0,null,0,0,0,0,0,0,0,0,0,0,{"v":0,"d":"0.00"},"",{"$nulls":5},0,{"v":0,"d":"0.00"},"",{"$nulls":5},0,{"v":0,"d":"0.00"},"",{"$nulls":5},0,0,"",{"$nulls":5},0,"","",null,null,"",900,0,{"v":0,"d":"0.00"},"","","","",0,{"$nulls":3},0,"/",100,"0/100",0,"/",100,"0/100",0,"/",100,"0/100",0,"/",0,"0/0"]
[0,89,0,{"$nulls":7},0,0,null,0,0,0,0,0,0,0,0,0,0,{"v":0,"d":"0.00"},"",0,0,null,0,0,0,0,0,0,0,0,0,0,{"v":0,"d":"0.00"},"",0,0,null,0,0,0,0,0,0,0,0,0,0,{"v":0,"d":"0.00"},"",0,0,null,0,0,0,0,0,0,0,0,0,0,0,"",0,0,null,0,0,0,0,0,0,0,0,0,0,{"v":0,"d":"0.00"},"",{"$nulls":5},0,{"v":0,"d":"0.00"},"",{"$nulls":5},0,{"v":0,"d":"0.00"},"",{"$nulls":5},0,0,"",{"$nulls":5},0,"","",null,null,"",900,0,{"v":0,"d":"0.00"},"","","","",0,{"$nulls":3},0,"/",100,"0/100",0,"/",100,"0/100",0,"/",100,"0/100",0,"/",0,"0/0"]
[0,90,0,{"$nulls":7},0,0,null,0,0,0,0,0,0,0,0,0,0,{"v":0,"d":"0.00"},"",0,0,null,0,0,0,0,0,0,0,0,0,0,{"v":0,"d":"0.00"},"",0,0,null,0,0,0,0,0,0,0,0,0,0,{"v":0,"d":"0.00"},"",0,0,null,0,0,0,0,0,0,0,0,0,0,0,"",0,0,null,0,0,0,0,0,0,0,0,0,0,{"v":0,"d":"0.00"},"",{"$nulls":5},0,{"v":0,"d":"0.00"},"",{"$nulls":5},0,{"v":0,"d":"0.00"},"",{"$nulls":5},0,0,"",{"$nulls":5},0,"","",null,null,"",900,0,{"v":0,"d":"0.00"},"","","","",0,{"$nulls":3},0,"/",100,"0/100",0,"/",100,"0/100",0,"/",100,"0/100",0,"/",0,"0/0"]
[0,91,0,{"$nulls":7},0,0,null,0,0,0,0,0,0,0,0,0,0,{"v":0,"d":"0.00"},"",0,0,null,0,0,0,0,0,0,0,0,0,0,{"v":0,"d":"0.00"},"",0,0,null,0,0,0,0,0,0,0,0,0,0,{"v":0,"d":"0.00"},"",0,0,null,0,0,0,0,0,0,0,0,0,0,0,"",0,0,null,0,0,0,0,0,0,0,0,0,0,{"v":0,"d":"0.00"},"",{"$nulls":5},0,{"v":0,"d":"0.00"},"",{"$nulls":5},0,{"v":0,"d":"0.00"},"",{"$nulls":5},0,0,"",{"$nulls":5},0,"","",null,null,"",900,0,{"v":0,"d":"0.00"},"","","","",0,{"$nulls":3},0,"/",100,"0/100",0,"/",100,"0/100",0,"/",100,"0/100",0,"/",0,"0/0"]
[0,92,0,{"$nulls":7},0,0,null,0,0,0,0,0,0,0,0,0,0,{"v":0,"d":"0.00"},"",0,0,null,0,0,0,0,0,0,0,0,0,0,{"v":0,"d":"0.00"},"",0,0,null,0,0,0,0,0,0,0,0,0,0,{"v":0,"d":"0.00"},"",0,0,null,0,0,0,0,0,0,0,0,0,0,0,"",0,0,null,0,0,0,0,0,0,0,0,0,0,{"v":0,"d":"0.00"},"",{"$nulls":5},0,{"v":0,"d":"0.00"},"",{"$nulls":5},0,{"v":0,"d":"0.00"},"",{"$nulls":5},0,0,"",{"$nulls":5},0,"","",null,null,"",900,0,{"v":0,"d":"0.00"},"","","","",0,{"$nulls":3},0,"/",100,"0/100",0,"/",100,"0/100",0,"/",100,"0/100",0,"/",0,"0/0"]
[0,93,0,{"$nulls":7},0,0,null,0,0,0,0,0,0,0,0,0,0,{"v":0,"d":"0.00"},"",0,0,null,0,0,0,0,0,0,0,0,0,0,{"v":0,"d":"0.00"},"",0,0,null,0,0,0,0,0,0,0,0,0,0,{"v":0,"d":"0.00"},"",0,0,null,0,0,0,0,0,0,0,0,0,0,0,"",0,0,null,0,0,0,0,0,0,0,0,0,0,{"v":0,"d":"0.00"},"",{"$nulls":5},0,{"v":0,"d":"0.00"},"",{"$nulls":5},0,{"v":0,"d":"0.00"},"",{"$nulls":5},0,0,"",{"$nulls":5},0,"","",null,null,"",900,0,{"v":0,"d":"0.00"},"","","","",0,{"$nulls":3},0,"/",100,"0/100",0,"/",100,"0/100",0,"/",100,"0/100",0,"/",0,"0/0"]
[0,94,0,{"$nulls":7},0,0,null,0,0,0,0,0,0,0,0,0,0,{"v":0,"d":"0.00"},"",0,0,null,0,0,0,0,0,0,0,0,0,0,{"v":0,"d":"0.00"},"",0,0,null,0,0,0,0,0,0,0,0,0,0,{"v":0,"d":"0.00"},"",0,0,null,0,0,0,0,0,0,0,0,0,0,0,"",0,0,null,0,0,0,0,0,0,0,0,0,0,{"v":0,"d":"0.00"},"",{"$nulls":5},0,{"v":0,"d":"0.00"},"",{"$nulls":5},0,{"v":0,"d":"0.00"},"",{"$nulls":5},0,0,"",{"$nulls":5},0,"","",null,null,"",900,0,{"v":0,"d":"0.00"},"","","","",0,{"$nulls":3},0,"/",100,"0/100",0,"/",100,"0/100",0,"/",100,"0/100",0,"/",0,"0/0"]
[0,95,0,{"$nulls":7},0,0,null,0,0,0,0,0,0,0,0,0,0,{"v":0,"d":"0.00"},"",0,0,null,0,0,0,0,0,0,0,0,0,0,{"v":0,"d":"0.00"},"",0,0,null,0,0,0,0,0,0,0,0,0,0,{"v":0,"d":"0.00"},"",0,0,null,0,0,0,0,0,0,0,0,0,0,0,"",0,0,null,0,0,0,0,0,0,0,0,0,0,{"v":0,"d":"0.00"},"",{"$nulls":5},0,{"v":0,"d":"0.00"},"",{"$nulls":5},0,{"v":0,"d":"0.00"},"",{"$nulls":5},0,0,"",{"$nulls":5},0,"","",null,null,"",900,0,{"v":0,"d":"0.00"},"","","","",0,{"$nulls":3},0,"/",100,"0/100",0,"/",100,"0/100",0,"/",100,"0/100",0,"/",0,"0/0"]
[0,96,0,{"$nulls":7},0,0,null,0,0,0,0,0,0,0,0,0,0,{"v":0,"d":"0.00"},"",0,0,null,0,0,0,0,0,0,0,0,0,0,{"v":0,"d":"0.00"},"",0,0,null,0,0,0,0,0,0,0,0,0,0,{"v":0,"d":"0.00"},"",0,0,null,0,0,0,0,0,0,0,0,0,0,0,"",0,0,null,0,0,0,0,0,0,0,0,0,0,{"v":0,"d":"0.00"},"",{"$nulls":5},0,{"v":0,"d":"0.00"},"",{"$nulls":5},0,{"v":0,"d":"0.00"},"",{"$nulls":5},0,0,"",{"$nulls":5},0,"","",null,null,"",900,0,{"v":0,"d":"0.00"},"","","","",0,{"$nulls":3},0,"/",100,"0/100",0,"/",100,"0/100",0,"/",100,"0/100",0,"/",0,"0/0"]
[0,97,0,{"$nulls":7},0,0,null,0,0,0,0,0,0,0,0,0,0,{"v":0,"d":"0.00"},"",0,0,null,0,0,0,0,0,0,0,0,0,0,{"v":0,"d":"0.00"},"",0,0,null,0,0,0,0,0,0,0,0,0,0,{"v":0,"d":"0.00"},"",0,0,null,0,0,0,0,0,0,0,0,0,0,0,"",0,0,null,0,0,0,0,0,0,0,0,0,0,{"v":0,"d":"0.00"},"",{"$nulls":5},{"$f":"SUM(CH105:CL105)","v":0},{"v":0,"d":"0.00"},"",{"$nulls":5},{"$f":"SUM(CP105:CT105)","v":0},{"v":0,"d":"0.00"},"",{"$nulls":5},{"$f":"SUM(CX105:DB105)","v":0},0,"",{"$nulls":5},{"$f":"SUM(DF105:DJ105)","v":0},"","",null,null,"",900,0,{"v":0,"d":"0.00"},"","","","",0,{"$nulls":3},0,"/",100,"0/100",0,"/",100,"0/100",0,"/",100,"0/100",0,"/",0,"0/0"]
[0,98,0,{"$nulls":7},0,0,null,0,0,0,0,0,0,0,0,0,0,{"v":0,"d":"0.00"},"",0,0,null,0,0,0,0,0,0,0,0,0,0,{"v":0,"d":"0.00"},"",0,0,null,0,0,0,0,0,0,0,0,0,0,{"v":0,"d":"0.00"},"",0,0,null,0,0,0,0,0,0,0,0,0,0,0,"",0,0,null,0,0,0,0,0,0,0,0,0,0,{"v":0,"d":"0.00"},"",{"$nulls":5},0,{"v":0,"d":"0.00"},"",{"$nulls":5},0,{"v":0,"d":"0.00"},"",{"$nulls":5},0,0,"",{"$nulls":5},0,"","",null,null,"",900,0,{"v":0,"d":"0.00"},"","","","",0,{"$nulls":3},0,"/",100,"0/100",0,"/",100,"0/100",0,"/",100,"0/100",0,"/",0,"0/0"]
[0,99,0,{"$nulls":7},0,0,null,0,0,0,0,0,0,0,0,0,0,{"v":0,"d":"0.00"},"",0,0,null,0,0,0,0,0,0,0,0,0,0,{"v":0,"d":"0.00"},"",0,0,null,0,0,0,0,0,0,0,0,0,0,{"v":0,"d":"0.00"},"",0,0,null,0,0,0,0,0,0,0,0,0,0,0,"",0,0,null,0,0,0,0,0,0,0,0,0,0,{"v":0,"d":"0.00"},"",{"$nulls":5},0,{"v":0,"d":"0.00"},"",{"$nulls":5},0,{"v":0,"d":"0.00"},"",{"$nulls":5},0,0,"",{"$nulls":5},0,"","",null,null,"",900,0,{"v":0,"d":"0.00"},"","","","",0,{"$nulls":3},0,"/",100,"0/100",0,"/",100,"0/100",0,"/",100,"0/100",0,"/",0,"0/0"]
[0,100,0,{"$nulls":7},0,0,null,0,0,0,0,0,0,0,0,0,0,{"v":0,"d":"0.00"},"",0,0,null,0,0,0,0,0,0,0,0,0,0,{"v":0,"d":"0.00"},"",0,0,null,0,0,0,0,0,0,0,0,0,0,{"v":0,"d":"0.00"},"",0,0,null,0,0,0,0,0,0,0,0,0,0,0,"",0,0,null,0,0,0,0,0,0,0,0,0,0,{"v":0,"d":"0.00"},"",{"$nulls":5},0,{"v":0,"d":"0.00"},"",{"$nulls":5},0,{"v":0,"d":"0.00"},"",{"$nulls":5},0,0,"",{"$nulls":5},0,"","",null,null,"",900,0,{"v":0,"d":"0.00"},"","","","",0,{"$nulls":3},0,"/",100,"0/100",0,"/",100,"0/100",0,"/",100,"0/100",0,"/",0,"0/0"]
[null,1,2,3,4,5,6,7,8,9,10,11,12,13,14,15,16,17,18,19,20,21,22,23,24,25,26,27,28,29,30,31,32,33,34,35,36,37,38,39,40,41,42,43,44,45,46,47,48,49,50,51,52,53,54,55,56,57,58,59,60,61,62,63,64,65,66,67,68,69,70,71,72,73,74,75,76,77,78,79,80,81,82,83,84,85,86,87,88,89,90,91,92,93,94,95,96,97,98,99,100,101,102,103,104,105,106,107,108,109,110,111,112,113,114,115,116,117,118,119,120,121,122,123,124,125,126,127,128,129,130,131,132,133,134,135,136,137,138,139,140,141,142,143,144,145,146]
[]
[{"$nulls":7},{"$f":"Master!L7","v":"Hindi"},{"$f":"Master!O7","v":"A"}]
[{"$nulls":7},{"$f":"Master!L8","v":"English"},{"$f":"Master!O8","v":"B"}]
[{"$nulls":7},{"$f":"Master!L9","v":"Mathematics"},{"$f":"Master!O9","v":"C"}]
[{"$nulls":7},{"$f":"Master!L10","v":"Env. Study"},{"$f":"Master!O10","v":"D"}]
[{"$nulls":7},{"$f":"Master!L11","v":"Sanskrit/Urdu"},{"$f":"Master!O11","v":"E"}]
[{"$nulls":7},{"$f":"Master!L12","v":"ART EDU."},{"$f":"Master!O12","v":0}]
[{"$nulls":7},{"$f":"Master!L13","v":"H&P. EDU."},{"$f":"Master!O13","v":0}]
[{"$nulls":7},{"$f":"Master!L14","v":"WORK EXP."},{"$f":"Master!O14","v":0}]
[{"$nulls":7},{"$f":"Master!L15","v":0},{"$f":"Master!O15","v":0}]
[{"$nulls":7},{"$f":"Master!L16","v":0},{"$f":"Master!O16","v":0}]
[{"$nulls":7},{"$f":"Master!L17","v":0},{"$f":"Master!O17","v":0}]
[{"$nulls":7},{"$f":"Master!L18","v":0},{"$f":"Master!O18","v":0}]
[{"$nulls":7},{"$f":"Master!L19","v":0},{"$f":"Master!O19","v":0}]
[{"$nulls":7},{"$f":"Master!L20","v":0},{"$f":"Master!O20","v":0}]
[{"$nulls":8},{"$f":"Master!Q7","v":0}]
[{"$nulls":8},{"$f":"Master!Q8","v":0}]
[{"$nulls":8},{"$f":"Master!Q9","v":0}]
[{"$nulls":8},{"$f":"Master!Q10","v":0}]
[{"$nulls":8},{"$f":"Master!Q11","v":0}]
[{"$nulls":8},{"$f":"Master!Q12","v":0}]
[{"$nulls":8},{"$f":"Master!Q13","v":0}]
[{"$nulls":8},{"$f":"Master!Q14","v":0}]
[{"$nulls":8},{"$f":"Master!Q15","v":0}]
[{"$nulls":8},{"$f":"Master!Q16","v":0}]
[{"$nulls":8},{"$f":"Master!Q17","v":0}]
[{"$nulls":8},{"$f":"Master!Q18","v":0}]
[{"$nulls":8},{"$f":"Master!Q19","v":0}]
[{"$nulls":8},{"$f":"Master!Q20","v":0}]

{"sheet":"Result Sheet","index":3,"n_rows":111,"n_cols":126,"rows_kept":111,"merged":[[0,0,0,125],[1,0,110,0],[1,1,1,5],[1,9,1,23],[1,24,1,38],[1,39,1,53],[1,54,1,68],[1,69,1,83],[1,84,1,91],[1,92,1,99],[1,100,1,107],[1,108,1,115],[1,116,1,118],[1,119,1,125],[2,1,2,4],[2,5,2,8],[2,9,2,23],[2,24,2,38],[2,39,2,53],[2,54,2,68],[2,69,2,83],[2,84,2,91],[2,92,2,99],[2,100,2,107],[2,108,2,115],[2,116,5,116],[2,117,5,117],[2,118,5,118],[2,119,5,119],[2,120,5,120],[2,121,5,121],[2,122,5,122],[2,123,5,123],[2,125,5,125],[3,1,3,3],[3,4,3,5],[3,7,3,8],[3,9,3,12],[3,13,3,16],[3,17,3,19],[3,20,4,20],[3,21,4,21],[3,22,5,22],[3,24,3,27],[3,28,3,31],[3,32,3,34],[3,35,4,35],[3,36,4,36],[3,37,5,37],[3,39,3,42],[3,43,3,46],[3,47,3,49],[3,50,4,50],[3,51,4,51],[3,52,5,52],[3,54,3,57],[3,58,3,61],[3,62,3,64],[3,65,4,65],[3,66,4,66],[3,67,5,67],[3,69,3,72],[3,73,3,76],[3,77,3,79],[3,80,4,80],[3,81,4,81],[3,82,5,82],[3,84,4,84],[3,85,4,85],[3,86,4,86],[3,87,4,87],[3,88,4,88],[3,89,4,89],[3,90,5,90],[3,92,4,92],[3,93,4,93],[3,94,4,94],[3,95,4,95],[3,96,4,96],[3,97,4,97],[3,98,5,98],[3,100,4,100],[3,101,4,101],[3,102,4,102],[3,103,4,103],[3,104,4,104],[3,105,4,105],[3,106,5,106],[3,108,4,108],[3,109,4,109],[3,110,4,110],[3,111,4,111],[3,112,4,112],[3,113,4,113],[3,114,5,114],[4,1,5,1],[4,2,5,2],[4,3,5,3],[4,4,5,4],[4,5,5,5],[4,6,5,6],[4,7,5,7],[4,8,5,8],[4,23,5,23],[4,38,5,38],[4,53,5,53],[4,68,5,68],[4,83,5,83],[4,91,5,91],[4,99,5,99],[4,107,5,107],[4,115,5,115],[106,1,106,8],[106,9,106,23],[106,24,106,38],[106,39,106,53],[106,54,106,68],[106,69,106,83],[106,84,106,125],[107,1,107,8],[107,9,107,23],[107,24,107,38],[107,39,107,53],[107,54,107,68],[107,69,107,83],[107,84,107,91],[107,92,107,96],[107,97,107,101],[107,103,107,105],[107,107,107,117],[107,118,107,120],[107,121,107,122],[107,123,107,124],[108,1,109,8],[108,9,108,12],[108,14,108,15],[108,21,108,23],[108,24,108,27],[108,29,108,30],[108,36,108,38],[108,39,108,42],[108,44,108,45],[108,51,108,53],[108,54,108,57],[108,59,108,60],[108,66,108,68],[108,69,108,72],[108,74,108,75],[108,81,108,83],[108,84,108,91],[108,92,108,96],[108,97,108,101],[108,103,108,105],[108,107,108,117],[108,118,108,120],[108,121,108,122],[108,123,108,124],[109,9,109,12],[109,14,109,15],[109,21,109,23],[109,24,109,27],[109,29,109,30],[109,36,109,38],[109,39,109,42],[109,44,109,45],[109,51,109,53],[109,54,109,57],[109,59,109,60],[109,66,109,68],[109,69,109,72],[109,74,109,75],[109,81,109,83],[109,84,109,101],[109,103,109,125],[110,1,110,8],[110,9,110,23],[110,24,110,38],[110,39,110,53],[110,54,110,68],[110,69,110,83],[110,84,110,101],[110,103,110,125]]}
[]
[null,"Result Sheet",{"$nulls":7},{"$f":"'Result Entry'!K3","v":"Hindi"},{"$nulls":14},{"$f":"'Result Entry'!Z3","v":"Mathematics"},{"$nulls":14},{"$f":"'Result Entry'!AO3","v":"English"},{"$nulls":14},{"$f":"'Result Entry'!BD3","v":"Env. Study"},{"$nulls":14},{"$f":"'Result Entry'!BS3","v":"Sanskrit/Urdu"},{"$nulls":14},{"$f":"'Result Entry'!CH3","v":"WORK EXP."},{"$nulls":7},{"$f":"'Result Entry'!CP3","v":"ART EDU."},{"$nulls":7},{"$f":"'Result Entry'!CX3","v":"H&P. EDU."},{"$nulls":7},{"$f":"'Result Entry'!DF3","v":0},{"$nulls":7},"Attendance",null,null,"Statics"]
[null,"School' Name:-",{"$nulls":3},{"$f":"Master!E8","v":"Govt.Sr.Sec.Sch."},{"$nulls":3},{"$f":"'Result Entry'!K4","v":0},{"$nulls":14},{"$f":"'Result Entry'!Z4","v":0},{"$nulls":14},{"$f":"'Result Entry'!AO4","v":0},{"$nulls":14},{"$f":"'Result Entry'!BD4","v":0},{"$nulls":14},{"$f":"'Result Entry'!BS4","v":0},{"$nulls":14},{"$f":"'Result Entry'!CH4","v":0},{"$nulls":7},{"$f":"'Result Entry'!CP4","v":0},{"$nulls":7},{"$f":"'Result Entry'!CX4","v":0},{"$nulls":7},{"$f":"'Result Entry'!DF4","v":0},{"$nulls":7},"Total Attendance","Student's Attendance","Attandance %","Grad Total","Obtained Marks","Percentage",{"$f":"'Result Entry'!DT4","v":"Whole Grade (A/B/C/D/E)"},"Result",null,"Position in Class"]
[null,"Class:-",null,null,{"$f":"CONCATENATE('Result Entry'!F4,'Result Entry'!I4)","v":"2(A)"},null,"Session:-",{"$f":"Master!$E$6","v":"2023-24"},null,{"$f":"'Result Entry'!K5","v":"Test"},{"$f":"'Result Entry'!L5","v":0},{"$f":"'Result Entry'!M5","v":0},{"$f":"'Result Entry'!N5","v":0},{"$f":"'Result Entry'!O5","v":"Half Yeary"},{"$f":"'Result Entry'!P5","v":0},{"$f":"'Result Entry'!Q5","v":0},{"$f":"'Result Entry'!R5","v":0},{"$f":"'Result Entry'!S5","v":"Yearly"},{"$f":"'Result Entry'!T5","v":0},{"$f":"'Result Entry'!U5","v":0},{"$f":"'Result Entry'!V6","v":"Total"},{"$f":"'Result Entry'!W5","v":"Total"},{"$f":"'Result Entry'!X5","v":"MARKS %"},{"$f":"'Result Entry'!Y5","v":"Grd."},{"$f":"'Result Entry'!Z5","v":"Test"},{"$f":"'Result Entry'!AA5","v":0},{"$f":"'Result Entry'!AB5","v":0},{"$f":"'Result Entry'!AC5","v":0},{"$f":"'Result Entry'!AD5","v":"Half Yeary"},{"$f":"'Result Entry'!AE5","v":0},{"$f":"'Result Entry'!AF5","v":0},{"$f":"'Result Entry'!AG5","v":0},{"$f":"'Result Entry'!AH5","v":"Yearly"},{"$f":"'Result Entry'!AI5","v":0},{"$f":"'Result Entry'!AJ5","v":0},{"$f":"'Result Entry'!AK6","v":"Total"},{"$f":"'Result Entry'!AL5","v":"Total"},{"$f":"'Result Entry'!AM5","v":"MARKS %"},{"$f":"'Result Entry'!AN5","v":"Grd."},{"$f":"'Result Entry'!AO5","v":"Test"},{"$f":"'Result Entry'!AP5","v":0},{"$f":"'Result Entry'!AQ5","v":0},{"$f":"'Result Entry'!AR5","v":0},{"$f":"'Result Entry'!AS5","v":"Half Yeary"},{"$f":"'Result Entry'!AT5","v":0},{"$f":"'Result Entry'!AU5","v":0},{"$f":"'Result Entry'!AV5","v":0},{"$f":"'Result Entry'!AW5","v":"Yearly"},{"$f":"'Result Entry'!AX5","v":0},{"$f":"'Result Entry'!AY5","v":0},{"$f":"'Result Entry'!AZ6","v":"Total"},{"$f":"'Result Entry'!BA5","v":"Total"},{"$f":"'Result Entry'!BB5","v":"MARKS %"},{"$f":"'Result Entry'!BC5","v":"Grd."},{"$f":"'Result Entry'!BD5","v":"Test"},{"$f":"'Result Entry'!BE5","v":0},{"$f":"'Result Entry'!BF5","v":0},{"$f":"'Result Entry'!BG5","v":0},{"$f":"'Result Entry'!BH5","v":"Half Yeary"},{"$f":"'Result Entry'!BI5","v":0},{"$f":"'Result Entry'!BJ5","v":0},{"$f":"'Result Entry'!BK5","v":0},{"$f":"'Result Entry'!BL5","v":"Yearly"},{"$f":"'Result Entry'!BM5","v":0},{"$f":"'Result Entry'!BN5","v":0},{"$f":"'Result Entry'!BO6","v":"Total"},{"$f":"'Result Entry'!BP5","v":"Total"},{"$f":"'Result Entry'!BQ5","v":"MARKS %"},{"$f":"'Result Entry'!BR5","v":"Grd."},{"$f":"'Result Entry'!BS5","v":"Test"},{"$f":"'Result Entry'!BT5","v":0},{"$f":"'Result Entry'!BU5","v":0},{"$f":"'Result Entry'!BV5","v":0},{"$f":"'Result Entry'!BW5","v":"Half Yeary"},{"$f":"'Result Entry'!BX5","v":0},{"$f":"'Result Entry'!BY5","v":0},{"$f":"'Result Entry'!BZ5","v":0},{"$f":"'Result Entry'!CA5","v":"Yearly"},{"$f":"'Result Entry'!CB5","v":0},{"$f":"'Result Entry'!CC5","v":0},{"$f":"'Result Entry'!CD6","v":"Total"},{"$f":"'Result Entry'!CE5","v":"Total"},{"$f":"'Result Entry'!CF5","v":"MARKS %"},{"$f":"'Result Entry'!CG5","v":"Grd."},{"$f":"'Result Entry'!CH5","v":"1st Ev."},{"$f":"'Result Entry'!CI5","v":"2nd Ev."},{"$f":"'Result Entry'!CJ5","v":"3rd Ev."},{"$f":"'Result Entry'!CK5","v":"4th Ev."},{"$f":"'Result Entry'!CL5","v":"5th Ev."},"Total","MARKS %","Grd.",{"$f":"'Result Entry'!CP5","v":"1st Ev."},{"$f":"'Result Entry'!CQ5","v":"2nd Ev."},{"$f":"'Result Entry'!CR5","v":"3rd Ev."},{"$f":"'Result Entry'!CS5","v":"4th Ev."},{"$f":"'Result Entry'!CT5","v":"5th Ev."},"Total","MARKS %","Grd.",{"$f":"'Result Entry'!CX5","v":"1st Ev."},{"$f":"'Result Entry'!CY5","v":"2nd Ev."},{"$f":"'Result Entry'!CZ5","v":"3rd Ev."},{"$f":"'Result Entry'!DA5","v":"4th Ev."},{"$f":"'Result Entry'!DB5","v":"5th Ev."},"Total","MARKS %","Grd.",{"$f":"'Result Entry'!DF5","v":"Half Yearly"},{"$f":"'Result Entry'!DG5","v":"Yeary"},{"$f":"'Result Entry'!DH5","v":"3rd Ev."},{"$f":"'Result Entry'!DI5","v":"4th Ev."},{"$f":"'Result Entry'!DJ5","v":"5th Ev."},"Total","MARKS %","Grd."]
[null,"Sr. No.","Scholar Number","School Adm. Date","Roll Number","Student's Name","Father's Name","Mother's Name","Date Of Birth",{"$f":"'Result Entry'!K6","v":"First Test"},{"$f":"'Result Entry'!L6","v":"Second Test"},{"$f":"'Result Entry'!M6","v":"Third Test"},{"$f":"'Result Entry'!N6","v":"Total Test"},{"$f":"'Result Entry'!O6","v":"Oral"},{"$f":"'Result Entry'!P6","v":"Internal Evo."},{"$f":"'Result Entry'!Q6","v":"Written"},{"$f":"'Result Entry'!R6","v":"Total"},{"$f":"'Result Entry'!S6","v":"Oral"},{"$f":"'Result Entry'!T6","v":"Internal Evo."},{"$f":"'Result Entry'!U6","v":"Written"},null,{"$f":"'Result Entry'!W6","v":0},{"$f":"'Result Entry'!X6","v":0},{"$f":"'Result Entry'!Y6","v":"A+/A/B/C/D"},{"$f":"'Result Entry'!Z6","v":"First Test"},{"$f":"'Result Entry'!AA6","v":"Second Test"},{"$f":"'Result Entry'!AB6","v":"Third Test"},{"$f":"'Result Entry'!AC6","v":"Total Test"},{"$f":"'Result Entry'!AD6","v":"Oral"},{"$f":"'Result Entry'!AE6","v":"Internal Evo."},{"$f":"'Result Entry'!AF6","v":"Written"},{"$f":"'Result Entry'!AG6","v":"Total"},{"$f":"'Result Entry'!AH6","v":"Oral"},{"$f":"'Result Entry'!AI6","v":"Internal Evo."},{"$f":"'Result Entry'!AJ6","v":"Written"},null,{"$f":"'Result Entry'!AL6","v":0},{"$f":"'Result Entry'!AM6","v":0},{"$f":"'Result Entry'!AN6","v":"A+/A/B/C/D"},{"$f":"'Result Entry'!AO6","v":"First Test"},{"$f":"'Result Entry'!AP6","v":"Second Test"},{"$f":"'Result Entry'!AQ6","v":"Third Test"},{"$f":"'Result Entry'!AR6","v":"Total Test"},{"$f":"'Result Entry'!AS6","v":"Oral"},{"$f":"'Result Entry'!AT6","v":"Internal Evo."},{"$f":"'Result Entry'!AU6","v":"Written"},{"$f":"'Result Entry'!AV6","v":"Total"},{"$f":"'Result Entry'!AW6","v":"Oral"},{"$f":"'Result Entry'!AX6","v":"Internal Evo."},{"$f":"'Result Entry'!AY6","v":"Written"},null,{"$f":"'Result Entry'!BA6","v":0},{"$f":"'Result Entry'!BB6","v":0},{"$f":"'Result Entry'!BC6","v":"A+/A/B/C/D"},{"$f":"'Result Entry'!BD6","v":"First Test"},{"$f":"'Result Entry'!BE6","v":"Second Test"},{"$f":"'Result Entry'!BF6","v":"Third Test"},{"$f":"'Result Entry'!BG6","v":"Total Test"},{"$f":"'Result Entry'!BH6","v":"Oral"},{"$f":"'Result Entry'!BI6","v":"Internal Evo."},{"$f":"'Result Entry'!BJ6","v":"Written"},{"$f":"'Result Entry'!BK6","v":"Total"},{"$f":"'Result Entry'!BL6","v":"Oral"},{"$f":"'Result Entry'!BM6","v":"Internal Evo."},{"$f":"'Result Entry'!BN6","v":"Written"},null,{"$f":"'Result Entry'!BP6","v":0},{"$f":"'Result Entry'!BQ6","v":0},{"$f":"'Result Entry'!BR6","v":"A/B/C/D/E"},{"$f":"'Result Entry'!BS6","v":"First Test"},{"$f":"'Result Entry'!BT6","v":"Second Test"},{"$f":"'Result Entry'!BU6","v":"Third Test"},{"$f":"'Result Entry'!BV6","v":"Total Test"},{"$f":"'Result Entry'!BW6","v":"Oral"},{"$f":"'Result Entry'!BX6","v":"Internal Evo."},{"$f":"'Result Entry'!BY6","v":"Written"},{"$f":"'Result Entry'!BZ6","v":"Total"},{"$f":"'Result Entry'!CA6","v":"Oral"},{"$f":"'Result Entry'!CB6","v":"Internal Evo."},{"$f":"'Result Entry'!CC6","v":"Written"},null,{"$f":"'Result Entry'!CE6","v":0},{"$f":"'Result Entry'!CF6","v":0},{"$f":"'Result Entry'!CG6","v":"A+/A/B/C/D"},{"$nulls":7},{"$f":"'Result Entry'!CO6","v":"A/B/C/D/E"},{"$nulls":7},{"$f":"'Result Entry'!CW6","v":"A/B/C/D/E"},{"$nulls":7},{"$f":"'Result Entry'!DE6","v":"A/B/C/D/E"},{"$nulls":7},{"$f":"'Result Entry'!DM6","v":"A+/A/B/C/D"}]
[{"$nulls":9},{"$f":"'Result Entry'!K7","v":10},{"$f":"'Result Entry'!L7","v":10},{"$f":"'Result Entry'!M7","v":10},{"$f":"'Result Entry'!N7","v":30},{"$f":"'Result Entry'!O7","v":20},{"$f":"'Result Entry'!P7","v":0},{"$f":"'Result Entry'!Q7","v":50},{"$f":"'Result Entry'!R7","v":70},{"$f":"'Result Entry'!S7","v":40},{"$f":"'Result Entry'!T7","v":0},{"$f":"'Result Entry'!U7","v":60},{"$f":"'Result Entry'!V7","v":100},{"$f":"'Result Entry'!W7","v":200},{"$f":"'Result Entry'!X7","v":0},{"$f":"'Result Entry'!Y7","v":0},{"$f":"'Result Entry'!Z7","v":10},{"$f":"'Result Entry'!AA7","v":10},{"$f":"'Result Entry'!AB7","v":10},{"$f":"'Result Entry'!AC7","v":30},{"$f":"'Result Entry'!AD7","v":20},{"$f":"'Result Entry'!AE7","v":0},{"$f":"'Result Entry'!AF7","v":50},{"$f":"'Result Entry'!AG7","v":70},{"$f":"'Result Entry'!AH7","v":40},{"$f":"'Result Entry'!AI7","v":0},{"$f":"'Result Entry'!AJ7","v":60},{"$f":"'Result Entry'!AK7","v":100},{"$f":"'Result Entry'!AL7","v":200},{"$f":"'Result Entry'!AM7","v":0},{"$f":"'Result Entry'!AN7","v":0},{"$f":"'Result Entry'!AO7","v":5},{"$f":"'Result Entry'!AP7","v":5},{"$f":"'Result Entry'!AQ7","v":5},{"$f":"'Result Entry'!AR7","v":15},{"$f":"'Result Entry'!AS7","v":10},{"$f":"'Result Entry'!AT7","v":0},{"$f":"'Result Entry'!AU7","v":25},{"$f":"'Result Entry'!AV7","v":35},{"$f":"'Result Entry'!AW7","v":20},{"$f":"'Result Entry'!AX7","v":0},{"$f":"'Result Entry'!AY7","v":30},{"$f":"'Result Entry'!AZ7","v":50},{"$f":"'Result Entry'!BA7","v":100},{"$f":"'Result Entry'!BB7","v":0},{"$f":"'Result Entry'!BC7","v":0},{"$f":"'Result Entry'!BD7","v":10},{"$f":"'Result Entry'!BE7","v":10},{"$f":"'Result Entry'!BF7","v":10},{"$f":"'Result Entry'!BG7","v":30},{"$f":"'Result Entry'!BH7","v":20},{"$f":"'Result Entry'!BI7","v":0},{"$f":"'Result Entry'!BJ7","v":50},{"$f":"'Result Entry'!BK7","v":70},{"$f":"'Result Entry'!BL7","v":40},{"$f":"'Result Entry'!BM7","v":0},{"$f":"'Result Entry'!BN7","v":60},{"$f":"'Result Entry'!BO7","v":100},{"$f":"'Result Entry'!BP7","v":200},{"$f":"'Result Entry'!BQ7","v":0},{"$f":"'Result Entry'!BR7","v":0},{"$f":"'Result Entry'!BS7","v":10},{"$f":"'Result Entry'!BT7","v":10},{"$f":"'Result Entry'!BU7","v":10},{"$f":"'Result Entry'!BV7","v":30},{"$f":"'Result Entry'!BW7","v":20},{"$f":"'Result Entry'!BX7","v":0},{"$f":"'Result Entry'!BY7","v":50},{"$f":"'Result Entry'!BZ7","v":70},{"$f":"'Result Entry'!CA7","v":40},{"$f":"'Result Entry'!CB7","v":0},{"$f":"'Result Entry'!CC7","v":60},{"$f":"'Result Entry'!CD7","v":100},{"$f":"'Result Entry'!CE7","v":200},{"$f":"'Result Entry'!CF7","v":0},{"$f":"'Result Entry'!CG7","v":0},{"$f":"'Result Entry'!CH7","v":20},{"$f":"'Result Entry'!CI7","v":20},{"$f":"'Result Entry'!CJ7","v":20},{"$f":"'Result Entry'!CK7","v":20},{"$f":"'Result Entry'!CL7","v":20},{"$f":"'Result Entry'!CM7","v":100},null,null,{"$f":"'Result Entry'!CP7","v":20},{"$f":"'Result Entry'!CQ7","v":20},{"$f":"'Result Entry'!CR7","v":20},{"$f":"'Result Entry'!CS7","v":20},{"$f":"'Result Entry'!CT7","v":20},{"$f":"'Result Entry'!CU7","v":100},null,null,{"$f":"'Result Entry'!CX7","v":20},{"$f":"'Result Entry'!CY7","v":20},{"$f":"'Result Entry'!CZ7","v":20},{"$f":"'Result Entry'!DA7","v":20},{"$f":"'Result Entry'!DB7","v":20},{"$f":"'Result Entry'!DC7","v":100},null,null,{"$f":"'Result Entry'!DF7","v":0},{"$f":"'Result Entry'!DG7","v":0},{"$f":"'Result Entry'!DH7","v":0},{"$f":"'Result Entry'!DI7","v":0},{"$f":"'Result Entry'!DJ7","v":0},{"$f":"'Result Entry'!DK7","v":0}]
[null,{"$f":"IF(C7>0,1,0)","v":1},{"$f":"'Result Entry'!D9","v":1},{"$f":"'Result Entry'!E9","v":0},{"$f":"'Result Entry'!F9","v":301},{"$f":"'Result Entry'!G9","v":"a"},{"$f":"'Result Entry'!H9","v":"b"},{"$f":"'Result Entry'!I9","v":"c"},{"$f":"'Result Entry'!J9","v":"2200-05-04"},{"$f":"'Result Entry'!K9","v":5},{"$f":"'Result Entry'!L9","v":5},{"$f":"'Result Entry'!M9","v":5},{"$f":"'Result Entry'!N9","v":15},{"$f":"'Result Entry'!O9","v":15},{"$f":"'Result Entry'!P9","v":0},{"$f":"'Result Entry'!Q9","v":45},{"$f":"'Result Entry'!R9","v":60},{"$f":"'Result Entry'!S9","v":20},{"$f":"'Result Entry'!T9","v":0},{"$f":"'Result Entry'!U9","v":45},{"$f":"'Result Entry'!V9","v":65},{"$f":"'Result Entry'!W9","v":140},{"$f":"'Result Entry'!X9","v":70},{"$f":"'Result Entry'!Y9","v":"C"},{"$f":"'Result Entry'!Z9","v":5},{"$f":"'Result Entry'!AA9","v":7},{"$f":"'Result Entry'!AB9","v":8},{"$f":"'Result Entry'!AC9","v":20},{"$f":"'Result Entry'!AD9","v":15},{"$f":"'Result Entry'!AE9","v":0},{"$f":"'Result Entry'!AF9","v":20},{"$f":"'Result Entry'!AG9","v":35},{"$f":"'Result Entry'!AH9","v":10},{"$f":"'Result Entry'!AI9","v":0},{"$f":"'Result Entry'!AJ9","v":20},{"$f":"'Result Entry'!AK9","v":30},{"$f":"'Result Entry'!AL9","v":85},{"$f":"'Result Entry'!AM9","v":42.5},{"$f":"'Result Entry'!AN9","v":"D"},{"$f":"'Result Entry'!AO9","v":0},{"$f":"'Result Entry'!AP9","v":0},{"$f":"'Result Entry'!AQ9","v":0},{"$f":"'Result Entry'!AR9","v":0},{"$f":"'Result Entry'!AS9","v":0},{"$f":"'Result Entry'!AT9","v":0},{"$f":"'Result Entry'!AU9","v":0},{"$f":"'Result Entry'!AV9","v":0},{"$f":"'Result Entry'!AW9","v":0},{"$f":"'Result Entry'!AX9","v":0},{"$f":"'Result Entry'!AY9","v":0},{"$f":"'Result Entry'!AZ9","v":0},{"$f":"'Result Entry'!BA9","v":0},{"$f":"'Result Entry'!BB9","v":0},{"$f":"'Result Entry'!BC9","v":0},{"$f":"'Result Entry'!BD9","v":0},{"$f":"'Result Entry'!BE9","v":0},{"$f":"'Result Entry'!BF9","v":0},{"$f":"'Result Entry'!BG9","v":0},{"$f":"'Result Entry'!BH9","v":0},{"$f":"'Result Entry'!BI9","v":0},{"$f":"'Result Entry'!BJ9","v":0},{"$f":"'Result Entry'!BK9","v":0},{"$f":"'Result Entry'!BL9","v":0},{"$f":"'Result Entry'!BM9","v":0},{"$f":"'Result Entry'!BN9","v":0},{"$f":"'Result Entry'!BO9","v":0},{"$f":"'Result Entry'!BP9","v":0},{"$f":"'Result Entry'!BQ9","v":0},{"$f":"'Result Entry'!BR9","v":0},{"$f":"'Result Entry'!BS9","v":0},{"$f":"'Result Entry'!BT9","v":0},{"$f":"'Result Entry'!BU9","v":0},{"$f":"'Result Entry'!BV9","v":0},{"$f":"'Result Entry'!BW9","v":0},{"$f":"'Result Entry'!BX9","v":0},{"$f":"'Result Entry'!BY9","v":0},{"$f":"'Result Entry'!BZ9","v":0},{"$f":"'Result Entry'!CA9","v":0},{"$f":"'Result Entry'!CB9","v":0},{"$f":"'Result Entry'!CC9","v":0},{"$f":"'Result Entry'!CD9","v":0},{"$f":"'Result Entry'!CE9","v":0},{"$f":"'Result Entry'!CF9","v":0},{"$f":"'Result Entry'!CG9","v":0},{"$f":"'Result Entry'!CH9","v":0},{"$f":"'Result Entry'!CI9","v":0},{"$f":"'Result Entry'!CJ9","v":0},{"$f":"'Result Entry'!CK9","v":0},{"$f":"'Result Entry'!CL9","v":0},{"$f":"'Result Entry'!CM9","v":0},{"$f":"'Result Entry'!CN9","v":0},{"$f":"'Result Entry'!CO9","v":0},{"$f":"'Result Entry'!CP9","v":0},{"$f":"'Result Entry'!CQ9","v":0},{"$f":"'Result Entry'!CR9","v":0},{"$f":"'Result Entry'!CS9","v":0},{"$f":"'Result Entry'!CT9","v":0},{"$f":"'Result Entry'!CU9","v":0},{"$f":"'Result Entry'!CV9","v":0},{"$f":"'Result Entry'!CW9","v":0},{"$f":"'Result Entry'!CX9","v":0},{"$f":"'Result Entry'!CY9","v":0},{"$f":"'Result Entry'!CZ9","v":0},{"$f":"'Result Entry'!DA9","v":0},{"$f":"'Result Entry'!DB9","v":0},{"$f":"'Result Entry'!DC9","v":0},{"$f":"'Result Entry'!DD9","v":0},{"$f":"'Result Entry'!DE9","v":0},{"$f":"'Result Entry'!DF9","v":0},{"$f":"'Result Entry'!DG9","v":0},{"$f":"'Result Entry'!DH9","v":0},{"$f":"'Result Entry'!DI9","v":0},{"$f":"'Result Entry'!DJ9","v":0},{"$f":"'Result Entry'!DK9","v":0},{"$f":"'Result Entry'!DL9","v":""},{"$f":"'Result Entry'!DM9","v":""},{"$f":"'Result Entry'!DN9","v":0},{"$f":"'Result Entry'!DO9","v":0},{"$f":"'Result Entry'!DP9","v":""},{"$f":"'Result Entry'!DQ9","v":900},{"$f":"'Result Entry'!DR9","v":225},{"$f":"'Result Entry'!DS9","v":{"v":25,"d":"25.00"}},{"$f":"'Result Entry'!DT9","v":"E"},{"$f":"'Result Entry'!DU9","v":"Promoted"},{"$f":"'Result Entry'!DV9","v":""},{"$f":"'Result Entry'!DW9","v":""}]
[null,{"$f":"IF(C8>0,B7+1,0)","v":2},{"$f":"'Result Entry'!D10","v":2},{"$f":"'Result Entry'!E10","v":0},{"$f":"'Result Entry'!F10","v":302},{"$f":"'Result Entry'!G10","v":"f"},{"$f":"'Result Entry'!H10","v":"Father's Name"},{"$f":"'Result Entry'!I10","v":"f"},{"$f":"'Result Entry'!J10","v":"1998-08-05"},{"$f":"'Result Entry'!K10","v":10},{"$f":"'Result Entry'!L10","v":0},{"$f":"'Result Entry'!M10","v":0},{"$f":"'Result Entry'!N10","v":10},{"$f":"'Result Entry'!O10","v":0},{"$f":"'Result Entry'!P10","v":0},{"$f":"'Result Entry'!Q10","v":0},{"$f":"'Result Entry'!R10","v":0},{"$f":"'Result Entry'!S10","v":0},{"$f":"'Result Entry'!T10","v":0},{"$f":"'Result Entry'!U10","v":0},{"$f":"'Result Entry'!V10","v":0},{"$f":"'Result Entry'!W10","v":10},{"$f":"'Result Entry'!X10","v":5},{"$f":"'Result Entry'!Y10","v":"E"},{"$f":"'Result Entry'!Z10","v":0},{"$f":"'Result Entry'!AA10","v":0},{"$f":"'Result Entry'!AB10","v":0},{"$f":"'Result Entry'!AC10","v":0},{"$f":"'Result Entry'!AD10","v":0},{"$f":"'Result Entry'!AE10","v":0},{"$f":"'Result Entry'!AF10","v":0},{"$f":"'Result Entry'!AG10","v":0},{"$f":"'Result Entry'!AH10","v":0},{"$f":"'Result Entry'!AI10","v":0},{"$f":"'Result Entry'!AJ10","v":0},{"$f":"'Result Entry'!AK10","v":0},{"$f":"'Result Entry'!AL10","v":0},{"$f":"'Result Entry'!AM10","v":0},{"$f":"'Result Entry'!AN10","v":0},{"$f":"'Result Entry'!AO10","v":0},{"$f":"'Result Entry'!AP10","v":0},{"$f":"'Result Entry'!AQ10","v":0},{"$f":"'Result Entry'!AR10","v":0},{"$f":"'Result Entry'!AS10","v":0},{"$f":"'Result Entry'!AT10","v":0},{"$f":"'Result Entry'!AU10","v":0},{"$f":"'Result Entry'!AV10","v":0},{"$f":"'Result Entry'!AW10","v":0},{"$f":"'Result Entry'!AX10","v":0},{"$f":"'Result Entry'!AY10","v":0},{"$f":"'Result Entry'!AZ10","v":0},{"$f":"'Result Entry'!BA10","v":0},{"$f":"'Result Entry'!BB10","v":0},{"$f":"'Result Entry'!BC10","v":0},{"$f":"'Result Entry'!BD10","v":0},{"$f":"'Result Entry'!BE10","v":0},{"$f":"'Result Entry'!BF10","v":0},{"$f":"'Result Entry'!BG10","v":0},{"$f":"'Result Entry'!BH10","v":0},{"$f":"'Result Entry'!BI10","v":0},{"$f":"'Result Entry'!BJ10","v":0},{"$f":"'Result Entry'!BK10","v":0},{"$f":"'Result Entry'!BL10","v":0},{"$f":"'Result Entry'!BM10","v":0},{"$f":"'Result Entry'!BN10","v":0},{"$f":"'Result Entry'!BO10","v":0},{"$f":"'Result Entry'!BP10","v":0},{"$f":"'Result Entry'!BQ10","v":0},{"$f":"'Result Entry'!BR10","v":0},{"$f":"'Result Entry'!BS10","v":0},{"$f":"'Result Entry'!BT10","v":0},{"$f":"'Result Entry'!BU10","v":0},{"$f":"'Result Entry'!BV10","v":0},{"$f":"'Result Entry'!BW10","v":0},{"$f":"'Result Entry'!BX10","v":0},{"$f":"'Result Entry'!BY10","v":0},{"$f":"'Result Entry'!BZ10","v":0},{"$f":"'Result Entry'!CA10","v":0},{"$f":"'Result Entry'!CB10","v":0},{"$f":"'Result Entry'!CC10","v":0},{"$f":"'Result Entry'!CD10","v":0},{"$f":"'Result Entry'!CE10","v":0},{"$f":"'Result Entry'!CF10","v":0},{"$f":"'Result Entry'!CG10","v":0},{"$f":"'Result Entry'!CH10","v":0},{"$f":"'Result Entry'!CI10","v":0},{"$f":"'Result Entry'!CJ10","v":0},{"$f":"'Result Entry'!CK10","v":0},{"$f":"'Result Entry'!CL10","v":0},{"$f":"'Result Entry'!CM10","v":0},{"$f":"'Result Entry'!CN10","v":0},{"$f":"'Result Entry'!CO10","v":0},{"$f":"'Result Entry'!CP10","v":0},{"$f":"'Result Entry'!CQ10","v":0},{"$f":"'Result Entry'!CR10","v":0},{"$f":"'Result Entry'!CS10","v":0},{"$f":"'Result Entry'!CT10","v":0},{"$f":"'Result Entry'!CU10","v":0},{"$f":"'Result Entry'!CV10","v":0},{"$f":"'Result Entry'!CW10","v":0},{"$f":"'Result Entry'!CX10","v":0},{"$f":"'Result Entry'!CY10","v":0},{"$f":"'Result Entry'!CZ10","v":0},{"$f":"'Result Entry'!DA10","v":0},{"$f":"'Result Entry'!DB10","v":0},{"$f":"'Result Entry'!DC10","v":0},{"$f":"'Result Entry'!DD10","v":0},{"$f":"'Result Entry'!DE10","v":0},{"$f":"'Result Entry'!DF10","v":0},{"$f":"'Result Entry'!DG10","v":0},{"$f":"'Result Entry'!DH10","v":0},{"$f":"'Result Entry'!DI10","v":0},{"$f":"'Result Entry'!DJ10","v":0},{"$f":"'Result Entry'!DK10","v":0},{"$f":"'Result Entry'!DL10","v":""},{"$f":"'Result Entry'!DM10","v":""},{"$f":"'Result Entry'!DN10","v":0},{"$f":"'Result Entry'!DO10","v":0},{"$f":"'Result Entry'!DP10","v":""},{"$f":"'Result Entry'!DQ10","v":900},{"$f":"'Result Entry'!DR10","v":10},{"$f":"'Result Entry'!DS10","v":{"v":1.1111111111111112,"d":"1.11"}},{"$f":"'Result Entry'!DT10","v":"E"},{"$f":"'Result Entry'!DU10","v":"Promoted"},{"$f":"'Result Entry'!DV10","v":""},{"$f":"'Result Entry'!DW10","v":""}]
[null,{"$f":"IF(C9>0,B8+1,0)","v":0},{"$f":"'Result Entry'!D11","v":0},{"$f":"'Result Entry'!E11","v":0},{"$f":"'Result Entry'!F11","v":0},{"$f":"'Result Entry'!G11","v":0},{"$f":"'Result Entry'!H11","v":0},{"$f":"'Result Entry'!I11","v":0},{"$f":"'Result Entry'!J11","v":"00:00:00"},{"$f":"'Result Entry'!K11","v":0},{"$f":"'Result Entry'!L11","v":0},{"$f":"'Result Entry'!M11","v":0},{"$f":"'Result Entry'!N11","v":0},{"$f":"'Result Entry'!O11","v":0},{"$f":"'Result Entry'!P11","v":0},{"$f":"'Result Entry'!Q11","v":0},{"$f":"'Result Entry'!R11","v":0},{"$f":"'Result Entry'!S11","v":0},{"$f":"'Result Entry'!T11","v":0},{"$f":"'Result Entry'!U11","v":0},{"$f":"'Result Entry'!V11","v":0},{"$f":"'Result Entry'!W11","v":0},{"$f":"'Result Entry'!X11","v":0},{"$f":"'Result Entry'!Y11","v":""},{"$f":"'Result Entry'!Z11","v":0},{"$f":"'Result Entry'!AA11","v":0},{"$f":"'Result Entry'!AB11","v":0},{"$f":"'Result Entry'!AC11","v":0},{"$f":"'Result Entry'!AD11","v":0},{"$f":"'Result Entry'!AE11","v":0},{"$f":"'Result Entry'!AF11","v":0},{"$f":"'Result Entry'!AG11","v":0},{"$f":"'Result Entry'!AH11","v":0},{"$f":"'Result Entry'!AI11","v":0},{"$f":"'Result Entry'!AJ11","v":0},{"$f":"'Result Entry'!AK11","v":0},{"$f":"'Result Entry'!AL11","v":0},{"$f":"'Result Entry'!AM11","v":0},{"$f":"'Result Entry'!AN11","v":""},{"$f":"'Result Entry'!AO11","v":0},{"$f":"'Result Entry'!AP11","v":0},{"$f":"'Result Entry'!AQ11","v":0},{"$f":"'Result Entry'!AR11","v":0},{"$f":"'Result Entry'!AS11","v":0},{"$f":"'Result Entry'!AT11","v":0},{"$f":"'Result Entry'!AU11","v":0},{"$f":"'Result Entry'!AV11","v":0},{"$f":"'Result Entry'!AW11","v":0},{"$f":"'Result Entry'!AX11","v":0},{"$f":"'Result Entry'!AY11","v":0},{"$f":"'Result Entry'!AZ11","v":0},{"$f":"'Result Entry'!BA11","v":0},{"$f":"'Result Entry'!BB11","v":0},{"$f":"'Result Entry'!BC11","v":""},{"$f":"'Result Entry'!BD11","v":0},{"$f":"'Result Entry'!BE11","v":0},{"$f":"'Result Entry'!BF11","v":0},{"$f":"'Result Entry'!BG11","v":0},{"$f":"'Result Entry'!BH11","v":0},{"$f":"'Result Entry'!BI11","v":0},{"$f":"'Result Entry'!BJ11","v":0},{"$f":"'Result Entry'!BK11","v":0},{"$f":"'Result Entry'!BL11","v":0},{"$f":"'Result Entry'!BM11","v":0},{"$f":"'Result Entry'!BN11","v":0},{"$f":"'Result Entry'!BO11","v":0},{"$f":"'Result Entry'!BP11","v":0},{"$f":"'Result Entry'!BQ11","v":0},{"$f":"'Result Entry'!BR11","v":""},{"$f":"'Result Entry'!BS11","v":0},{"$f":"'Result Entry'!BT11","v":0},{"$f":"'Result Entry'!BU11","v":0},{"$f":"'Result Entry'!BV11","v":0},{"$f":"'Result Entry'!BW11","v":0},{"$f":"'Result Entry'!BX11","v":0},{"$f":"'Result Entry'!BY11","v":0},{"$f":"'Result Entry'!BZ11","v":0},{"$f":"'Result Entry'!CA11","v":0},{"$f":"'Result Entry'!CB11","v":0},{"$f":"'Result Entry'!CC11","v":0},{"$f":"'Result Entry'!CD11","v":0},{"$f":"'Result Entry'!CE11","v":0},{"$f":"'Result Entry'!CF11","v":0},{"$f":"'Result Entry'!CG11","v":""},{"$f":"'Result Entry'!CH11","v":0},{"$f":"'Result Entry'!CI11","v":0},{"$f":"'Result Entry'!CJ11","v":0},{"$f":"'Result Entry'!CK11","v":0},{"$f":"'Result Entry'!CL11","v":0},{"$f":"'Result Entry'!CM11","v":0},{"$f":"'Result Entry'!CN11","v":0},{"$f":"'Result Entry'!CO11","v":""},{"$f":"'Result Entry'!CP11","v":0},{"$f":"'Result Entry'!CQ11","v":0},{"$f":"'Result Entry'!CR11","v":0},{"$f":"'Result Entry'!CS11","v":0},{"$f":"'Result Entry'!CT11","v":0},{"$f":"'Result Entry'!CU11","v":0},{"$f":"'Result Entry'!CV11","v":0},{"$f":"'Result Entry'!CW11","v":""},{"$f":"'Result Entry'!CX11","v":0},{"$f":"'Result Entry'!CY11","v":0},{"$f":"'Result Entry'!CZ11","v":0},{"$f":"'Result Entry'!DA11","v":0},{"$f":"'Result Entry'!DB11","v":0},{"$f":"'Result Entry'!DC11","v":0},{"$f":"'Result Entry'!DD11","v":0},{"$f":"'Result Entry'!DE11","v":""},{"$f":"'Result Entry'!DF11","v":0},{"$f":"'Result Entry'!DG11","v":0},{"$f":"'Result Entry'!DH11","v":0},{"$f":"'Result Entry'!DI11","v":0},{"$f":"'Result Entry'!DJ11","v":0},{"$f":"'Result Entry'!DK11","v":0},{"$f":"'Result Entry'!DL11","v":""},{"$f":"'Result Entry'!DM11","v":""},{"$f":"'Result Entry'!DN11","v":0},{"$f":"'Result Entry'!DO11","v":0},{"$f":"'Result Entry'!DP11","v":""},{"$f":"'Result Entry'!DQ11","v":900},{"$f":"'Result Entry'!DR11","v":0},{"$f":"'Result Entry'!DS11","v":{"v":0,"d":"0.00"}},{"$f":"'Result Entry'!DT11","v":""},{"$f":"'Result Entry'!DU11","v":""},{"$f":"'Result Entry'!DV11","v":""},{"$f":"'Result Entry'!DW11","v":""}]
[null,0,{"$f":"'Result Entry'!D12","v":0},{"$f":"'Result Entry'!E12","v":0},{"$f":"'Result Entry'!F12","v":0},{"$f":"'Result Entry'!G12","v":0},{"$f":"'Result Entry'!H12","v":0},{"$f":"'Result Entry'!I12","v":0},{"$f":"'Result Entry'!J12","v":"00:00:00"},{"$f":"'Result Entry'!K12","v":0},{"$f":"'Result Entry'!L12","v":0},{"$f":"'Result Entry'!M12","v":0},{"$f":"'Result Entry'!N12","v":0},{"$f":"'Result Entry'!O12","v":0},{"$f":"'Result Entry'!P12","v":0},{"$f":"'Result Entry'!Q12","v":0},{"$f":"'Result Entry'!R12","v":0},{"$f":"'Result Entry'!S12","v":0},{"$f":"'Result Entry'!T12","v":0},{"$f":"'Result Entry'!U12","v":0},{"$f":"'Result Entry'!V12","v":0},{"$f":"'Result Entry'!W12","v":0},{"$f":"'Result Entry'!X12","v":0},{"$f":"'Result Entry'!Y12","v":""},{"$f":"'Result Entry'!Z12","v":0},{"$f":"'Result Entry'!AA12","v":0},{"$f":"'Result Entry'!AB12","v":0},{"$f":"'Result Entry'!AC12","v":0},{"$f":"'Result Entry'!AD12","v":0},{"$f":"'Result Entry'!AE12","v":0},{"$f":"'Result Entry'!AF12","v":0},{"$f":"'Result Entry'!AG12","v":0},{"$f":"'Result Entry'!AH12","v":0},{"$f":"'Result Entry'!AI12","v":0},{"$f":"'Result Entry'!AJ12","v":0},{"$f":"'Result Entry'!AK12","v":0},{"$f":"'Result Entry'!AL12","v":0},{"$f":"'Result Entry'!AM12","v":0},{"$f":"'Result Entry'!AN12","v":""},{"$f":"'Result Entry'!AO12","v":0},{"$f":"'Result Entry'!AP12","v":0},{"$f":"'Result Entry'!AQ12","v":0},{"$f":"'Result Entry'!AR12","v":0},{"$f":"'Result Entry'!AS12","v":0},{"$f":"'Result Entry'!AT12","v":0},{"$f":"'Result Entry'!AU12","v":0},{"$f":"'Result Entry'!AV12","v":0},{"$f":"'Result Entry'!AW12","v":0},{"$f":"'Result Entry'!AX12","v":0},{"$f":"'Result Entry'!AY12","v":0},{"$f":"'Result Entry'!AZ12","v":0},{"$f":"'Result Entry'!BA12","v":0},{"$f":"'Result Entry'!BB12","v":0},{"$f":"'Result Entry'!BC12","v":""},{"$f":"'Result Entry'!BD12","v":0},{"$f":"'Result Entry'!BE12","v":0},{"$f":"'Result Entry'!BF12","v":0},{"$f":"'Result Entry'!BG12","v":0},{"$f":"'Result Entry'!BH12","v":0},{"$f":"'Result Entry'!BI12","v":0},{"$f":"'Result Entry'!BJ12","v":0},{"$f":"'Result Entry'!BK12","v":0},{"$f":"'Result Entry'!BL12","v":0},{"$f":"'Result Entry'!BM12","v":0},{"$f":"'Result Entry'!BN12","v":0},{"$f":"'Result Entry'!BO12","v":0},{"$f":"'Result Entry'!BP12","v":0},{"$f":"'Result Entry'!BQ12","v":0},{"$f":"'Result Entry'!BR12","v":""},{"$f":"'Result Entry'!BS12","v":0},{"$f":"'Result Entry'!BT12","v":0},{"$f":"'Result Entry'!BU12","v":0},{"$f":"'Result Entry'!BV12","v":0},{"$f":"'Result Entry'!BW12","v":0},{"$f":"'Result Entry'!BX12","v":0},{"$f":"'Result Entry'!BY12","v":0},{"$f":"'Result Entry'!BZ12","v":0},{"$f":"'Result Entry'!CA12","v":0},{"$f":"'Result Entry'!CB12","v":0},{"$f":"'Result Entry'!CC12","v":0},{"$f":"'Result Entry'!CD12","v":0},{"$f":"'Result Entry'!CE12","v":0},{"$f":"'Result Entry'!CF12","v":0},{"$f":"'Result Entry'!CG12","v":""},{"$f":"'Result Entry'!CH12","v":0},{"$f":"'Result Entry'!CI12","v":0},{"$f":"'Result Entry'!CJ12","v":0},{"$f":"'Result Entry'!CK12","v":0},{"$f":"'Result Entry'!CL12","v":0},{"$f":"'Result Entry'!CM12","v":0},{"$f":"'Result Entry'!CN12","v":0},{"$f":"'Result Entry'!CO12","v":""},{"$f":"'Result Entry'!CP12","v":0},{"$f":"'Result Entry'!CQ12","v":0},{"$f":"'Result Entry'!CR12","v":0},{"$f":"'Result Entry'!CS12","v":0},{"$f":"'Result Entry'!CT12","v":0},{"$f":"'Result Entry'!CU12","v":0},{"$f":"'Result Entry'!CV12","v":0},{"$f":"'Result Entry'!CW12","v":""},{"$f":"'Result Entry'!CX12","v":0},{"$f":"'Result Entry'!CY12","v":0},{"$f":"'Result Entry'!CZ12","v":0},{"$f":"'Result Entry'!DA12","v":0},{"$f":"'Result Entry'!DB12","v":0},{"$f":"'Result Entry'!DC12","v":0},{"$f":"'Result Entry'!DD12","v":0},{"$f":"'Result Entry'!DE12","v":""},{"$f":"'Result Entry'!DF12","v":0},{"$f":"'Result Entry'!DG12","v":0},{"$f":"'Result Entry'!DH12","v":0},{"$f":"'Result Entry'!DI12","v":0},{"$f":"'Result Entry'!DJ12","v":0},{"$f":"'Result Entry'!DK12","v":0},{"$f":"'Result Entry'!DL12","v":""},{"$f":"'Result Entry'!DM12","v":""},{"$f":"'Result Entry'!DN12","v":0},{"$f":"'Result Entry'!DO12","v":0},{"$f":"'Result Entry'!DP12","v":""},{"$f":"'Result Entry'!DQ12","v":900},{"$f":"'Result Entry'!DR12","v":0},{"$f":"'Result Entry'!DS12","v":{"v":0,"d":"0.00"}},{"$f":"'Result Entry'!DT12","v":""},{"$f":"'Result Entry'!DU12","v":""},{"$f":"'Result Entry'!DV12","v":""},{"$f":"'Result Entry'!DW12","v":""}]
[null,0,{"$f":"'Result Entry'!D13","v":0},{"$f":"'Result Entry'!E13","v":0},{"$f":"'Result Entry'!F13","v":0},{"$f":"'Result Entry'!G13","v":0},{"$f":"'Result Entry'!H13","v":0},{"$f":"'Result Entry'!I13","v":0},{"$f":"'Result Entry'!J13","v":"00:00:00"},{"$f":"'Result Entry'!K13","v":0},{"$f":"'Result Entry'!L13","v":0},{"$f":"'Result Entry'!M13","v":0},{"$f":"'Result Entry'!N13","v":0},{"$f":"'Result Entry'!O13","v":0},{"$f":"'Result Entry'!P13","v":0},{"$f":"'Result Entry'!Q13","v":0},{"$f":"'Result Entry'!R13","v":0},{"$f":"'Result Entry'!S13","v":0},{"$f":"'Result Entry'!T13","v":0},{"$f":"'Result Entry'!U13","v":0},{"$f":"'Result Entry'!V13","v":0},{"$f":"'Result Entry'!W13","v":0},{"$f":"'Result Entry'!X13","v":0},{"$f":"'Result Entry'!Y13","v":""},{"$f":"'Result Entry'!Z13","v":0},{"$f":"'Result Entry'!AA13","v":0},{"$f":"'Result Entry'!AB13","v":0},{"$f":"'Result Entry'!AC13","v":0},{"$f":"'Result Entry'!AD13","v":0},{"$f":"'Result Entry'!AE13","v":0},{"$f":"'Result Entry'!AF13","v":0},{"$f":"'Result Entry'!AG13","v":0},{"$f":"'Result Entry'!AH13","v":0},{"$f":"'Result Entry'!AI13","v":0},{"$f":"'Result Entry'!AJ13","v":0},{"$f":"'Result Entry'!AK13","v":0},{"$f":"'Result Entry'!AL13","v":0},{"$f":"'Result Entry'!AM13","v":0},{"$f":"'Result Entry'!AN13","v":""},{"$f":"'Result Entry'!AO13","v":0},{"$f":"'Result Entry'!AP13","v":0},{"$f":"'Result Entry'!AQ13","v":0},{"$f":"'Result Entry'!AR13","v":0},{"$f":"'Result Entry'!AS13","v":0},{"$f":"'Result Entry'!AT13","v":0},{"$f":"'Result Entry'!AU13","v":0},{"$f":"'Result Entry'!AV13","v":0},{"$f":"'Result Entry'!AW13","v":0},{"$f":"'Result Entry'!AX13","v":0},{"$f":"'Result Entry'!AY13","v":0},{"$f":"'Result Entry'!AZ13","v":0},{"$f":"'Result Entry'!BA13","v":0},{"$f":"'Result Entry'!BB13","v":0},{"$f":"'Result Entry'!BC13","v":""},{"$f":"'Result Entry'!BD13","v":0},{"$f":"'Result Entry'!BE13","v":0},{"$f":"'Result Entry'!BF13","v":0},{"$f":"'Result Entry'!BG13","v":0},{"$f":"'Result Entry'!BH13","v":0},{"$f":"'Result Entry'!BI13","v":0},{"$f":"'Result Entry'!BJ13","v":0},{"$f":"'Result Entry'!BK13","v":0},{"$f":"'Result Entry'!BL13","v":0},{"$f":"'Result Entry'!BM13","v":0},{"$f":"'Result Entry'!BN13","v":0},{"$f":"'Result Entry'!BO13","v":0},{"$f":"'Result Entry'!BP13","v":0},{"$f":"'Result Entry'!BQ13","v":0},{"$f":"'Result Entry'!BR13","v":""},{"$f":"'Result Entry'!BS13","v":0},{"$f":"'Result Entry'!BT13","v":0},{"$f":"'Result Entry'!BU13","v":0},{"$f":"'Result Entry'!BV13","v":0},{"$f":"'Result Entry'!BW13","v":0},{"$f":"'Result Entry'!BX13","v":0},{"$f":"'Result Entry'!BY13","v":0},{"$f":"'Result Entry'!BZ13","v":0},{"$f":"'Result Entry'!CA13","v":0},{"$f":"'Result Entry'!CB13","v":0},{"$f":"'Result Entry'!CC13","v":0},{"$f":"'Result Entry'!CD13","v":0},{"$f":"'Result Entry'!CE13","v":0},{"$f":"'Result Entry'!CF13","v":0},{"$f":"'Result Entry'!CG13","v":""},{"$f":"'Result Entry'!CH13","v":0},{"$f":"'Result Entry'!CI13","v":0},{"$f":"'Result Entry'!CJ13","v":0},{"$f":"'Result Entry'!CK13","v":0},{"$f":"'Result Entry'!CL13","v":0},{"$f":"'Result Entry'!CM13","v":0},{"$f":"'Result Entry'!CN13","v":0},{"$f":"'Result Entry'!CO13","v":""},{"$f":"'Result Entry'!CP13","v":0},{"$f":"'Result Entry'!CQ13","v":0},{"$f":"'Result Entry'!CR13","v":0},{"$f":"'Result Entry'!CS13","v":0},{"$f":"'Result Entry'!CT13","v":0},{"$f":"'Result Entry'!CU13","v":0},{"$f":"'Result Entry'!CV13","v":0},{"$f":"'Result Entry'!CW13","v":""},{"$f":"'Result Entry'!CX13","v":0},{"$f":"'Result Entry'!CY13","v":0},{"$f":"'Result Entry'!CZ13","v":0},{"$f":"'Result Entry'!DA13","v":0},{"$f":"'Result Entry'!DB13","v":0},{"$f":"'Result Entry'!DC13","v":0},{"$f":"'Result Entry'!DD13","v":0},{"$f":"'Result Entry'!DE13","v":""},{"$f":"'Result Entry'!DF13","v":0},{"$f":"'Result Entry'!DG13","v":0},{"$f":"'Result Entry'!DH13","v":0},{"$f":"'Result Entry'!DI13","v":0},{"$f":"'Result Entry'!DJ13","v":0},{"$f":"'Result Entry'!DK13","v":0},{"$f":"'Result Entry'!DL13","v":""},{"$f":"'Result Entry'!DM13","v":""},{"$f":"'Result Entry'!DN13","v":0},{"$f":"'Result Entry'!DO13","v":0},{"$f":"'Result Entry'!DP13","v":""},{"$f":"'Result Entry'!DQ13","v":900},{"$f":"'Result Entry'!DR13","v":0},{"$f":"'Result Entry'!DS13","v":{"v":0,"d":"0.00"}},{"$f":"'Result Entry'!DT13","v":""},{"$f":"'Result Entry'!DU13","v":""},{"$f":"'Result Entry'!DV13","v":""},{"$f":"'Result Entry'!DW13","v":""}]
[null,0,{"$f":"'Result Entry'!D14","v":0},{"$f":"'Result Entry'!E14","v":0},{"$f":"'Result Entry'!F14","v":0},{"$f":"'Result Entry'!G14","v":0},{"$f":"'Result Entry'!H14","v":0},{"$f":"'Result Entry'!I14","v":0},{"$f":"'Result Entry'!J14","v":"00:00:00"},{"$f":"'Result Entry'!K14","v":0},{"$f":"'Result Entry'!L14","v":0},{"$f":"'Result Entry'!M14","v":0},{"$f":"'Result Entry'!N14","v":0},{"$f":"'Result Entry'!O14","v":0},{"$f":"'Result Entry'!P14","v":0},{"$f":"'Result Entry'!Q14","v":0},{"$f":"'Result Entry'!R14","v":0},{"$f":"'Result Entry'!S14","v":0},{"$f":"'Result Entry'!T14","v":0},{"$f":"'Result Entry'!U14","v":0},{"$f":"'Result Entry'!V14","v":0},{"$f":"'Result Entry'!W14","v":0},{"$f":"'Result Entry'!X14","v":0},{"$f":"'Result Entry'!Y14","v":""},{"$f":"'Result Entry'!Z14","v":0},{"$f":"'Result Entry'!AA14","v":0},{"$f":"'Result Entry'!AB14","v":0},{"$f":"'Result Entry'!AC14","v":0},{"$f":"'Result Entry'!AD14","v":0},{"$f":"'Result Entry'!AE14","v":0},{"$f":"'Result Entry'!AF14","v":0},{"$f":"'Result Entry'!AG14","v":0},{"$f":"'Result Entry'!AH14","v":0},{"$f":"'Result Entry'!AI14","v":0},{"$f":"'Result Entry'!AJ14","v":0},{"$f":"'Result Entry'!AK14","v":0},{"$f":"'Result Entry'!AL14","v":0},{"$f":"'Result Entry'!AM14","v":0},{"$f":"'Result Entry'!AN14","v":""},{"$f":"'Result Entry'!AO14","v":0},{"$f":"'Result Entry'!AP14","v":0},{"$f":"'Result Entry'!AQ14","v":0},{"$f":"'Result Entry'!AR14","v":0},{"$f":"'Result Entry'!AS14","v":0},{"$f":"'Result Entry'!AT14","v":0},{"$f":"'Result Entry'!AU14","v":0},{"$f":"'Result Entry'!AV14","v":0},{"$f":"'Result Entry'!AW14","v":0},{"$f":"'Result Entry'!AX14","v":0},{"$f":"'Result Entry'!AY14","v":0},{"$f":"'Result Entry'!AZ14","v":0},{"$f":"'Result Entry'!BA14","v":0},{"$f":"'Result Entry'!BB14","v":0},{"$f":"'Result Entry'!BC14","v":""},{"$f":"'Result Entry'!BD14","v":0},{"$f":"'Result Entry'!BE14","v":0},{"$f":"'Result Entry'!BF14","v":0},{"$f":"'Result Entry'!BG14","v":0},{"$f":"'Result Entry'!BH14","v":0},{"$f":"'Result Entry'!BI14","v":0},{"$f":"'Result Entry'!BJ14","v":0},{"$f":"'Result Entry'!BK14","v":0},{"$f":"'Result Entry'!BL14","v":0},{"$f":"'Result Entry'!BM14","v":0},{"$f":"'Result Entry'!BN14","v":0},{"$f":"'Result Entry'!BO14","v":0},{"$f":"'Result Entry'!BP14","v":0},{"$f":"'Result Entry'!BQ14","v":0},{"$f":"'Result Entry'!BR14","v":""},{"$f":"'Result Entry'!BS14","v":0},{"$f":"'Result Entry'!BT14","v":0},{"$f":"'Result Entry'!BU14","v":0},{"$f":"'Result Entry'!BV14","v":0},{"$f":"'Result Entry'!BW14","v":0},{"$f":"'Result Entry'!BX14","v":0},{"$f":"'Result Entry'!BY14","v":0},{"$f":"'Result Entry'!BZ14","v":0},{"$f":"'Result Entry'!CA14","v":0},{"$f":"'Result Entry'!CB14","v":0},{"$f":"'Result Entry'!CC14","v":0},{"$f":"'Result Entry'!CD14","v":0},{"$f":"'Result Entry'!CE14","v":0},{"$f":"'Result Entry'!CF14","v":0},{"$f":"'Result Entry'!CG14","v":""},{"$f":"'Result Entry'!CH14","v":0},{"$f":"'Result Entry'!CI14","v":0},{"$f":"'Result Entry'!CJ14","v":0},{"$f":"'Result Entry'!CK14","v":0},{"$f":"'Result Entry'!CL14","v":0},{"$f":"'Result Entry'!CM14","v":0},{"$f":"'Result Entry'!CN14","v":0},{"$f":"'Result Entry'!CO14","v":""},{"$f":"'Result Entry'!CP14","v":0},{"$f":"'Result Entry'!CQ14","v":0},{"$f":"'Result Entry'!CR14","v":0},{"$f":"'Result Entry'!CS14","v":0},{"$f":"'Result Entry'!CT14","v":0},{"$f":"'Result Entry'!CU14","v":0},{"$f":"'Result Entry'!CV14","v":0},{"$f":"'Result Entry'!CW14","v":""},{"$f":"'Result Entry'!CX14","v":0},{"$f":"'Result Entry'!CY14","v":0},{"$f":"'Result Entry'!CZ14","v":0},{"$f":"'Result Entry'!DA14","v":0},{"$f":"'Result Entry'!DB14","v":0},{"$f":"'Result Entry'!DC14","v":0},{"$f":"'Result Entry'!DD14","v":0},{"$f":"'Result Entry'!DE14","v":""},{"$f":"'Result Entry'!DF14","v":0},{"$f":"'Result Entry'!DG14","v":0},{"$f":"'Result Entry'!DH14","v":0},{"$f":"'Result Entry'!DI14","v":0},{"$f":"'Result Entry'!DJ14","v":0},{"$f":"'Result Entry'!DK14","v":0},{"$f":"'Result Entry'!DL14","v":""},{"$f":"'Result Entry'!DM14","v":""},{"$f":"'Result Entry'!DN14","v":0},{"$f":"'Result Entry'!DO14","v":0},{"$f":"'Result Entry'!DP14","v":""},{"$f":"'Result Entry'!DQ14","v":900},{"$f":"'Result Entry'!DR14","v":0},{"$f":"'Result Entry'!DS14","v":{"v":0,"d":"0.00"}},{"$f":"'Result Entry'!DT14","v":""},{"$f":"'Result Entry'!DU14","v":""},{"$f":"'Result Entry'!DV14","v":""},{"$f":"'Result Entry'!DW14","v":""}]
[null,0,{"$f":"'Result Entry'!D15","v":0},{"$f":"'Result Entry'!E15","v":0},{"$f":"'Result Entry'!F15","v":0},{"$f":"'Result Entry'!G15","v":0},{"$f":"'Result Entry'!H15","v":0},{"$f":"'Result Entry'!I15","v":0},{"$f":"'Result Entry'!J15","v":"00:00:00"},{"$f":"'Result Entry'!K15","v":0},{"$f":"'Result Entry'!L15","v":0},{"$f":"'Result Entry'!M15","v":0},{"$f":"'Result Entry'!N15","v":0},{"$f":"'Result Entry'!O15","v":0},{"$f":"'Result Entry'!P15","v":0},{"$f":"'Result Entry'!Q15","v":0},{"$f":"'Result Entry'!R15","v":0},{"$f":"'Result Entry'!S15","v":0},{"$f":"'Result Entry'!T15","v":0},{"$f":"'Result Entry'!U15","v":0},{"$f":"'Result Entry'!V15","v":0},{"$f":"'Result Entry'!W15","v":0},{"$f":"'Result Entry'!X15","v":0},{"$f":"'Result Entry'!Y15","v":""},{"$f":"'Result Entry'!Z15","v":0},{"$f":"'Result Entry'!AA15","v":0},{"$f":"'Result Entry'!AB15","v":0},{"$f":"'Result Entry'!AC15","v":0},{"$f":"'Result Entry'!AD15","v":0},{"$f":"'Result Entry'!AE15","v":0},{"$f":"'Result Entry'!AF15","v":0},{"$f":"'Result Entry'!AG15","v":0},{"$f":"'Result Entry'!AH15","v":0},{"$f":"'Result Entry'!AI15","v":0},{"$f":"'Result Entry'!AJ15","v":0},{"$f":"'Result Entry'!AK15","v":0},{"$f":"'Result Entry'!AL15","v":0},{"$f":"'Result Entry'!AM15","v":0},{"$f":"'Result Entry'!AN15","v":""},{"$f":"'Result Entry'!AO15","v":0},{"$f":"'Result Entry'!AP15","v":0},{"$f":"'Result Entry'!AQ15","v":0},{"$f":"'Result Entry'!AR15","v":0},{"$f":"'Result Entry'!AS15","v":0},{"$f":"'Result Entry'!AT15","v":0},{"$f":"'Result Entry'!AU15","v":0},{"$f":"'Result Entry'!AV15","v":0},{"$f":"'Result Entry'!AW15","v":0},{"$f":"'Result Entry'!AX15","v":0},{"$f":"'Result Entry'!AY15","v":0},{"$f":"'Result Entry'!AZ15","v":0},{"$f":"'Result Entry'!BA15","v":0},{"$f":"'Result Entry'!BB15","v":0},{"$f":"'Result Entry'!BC15","v":""},{"$f":"'Result Entry'!BD15","v":0},{"$f":"'Result Entry'!BE15","v":0},{"$f":"'Result Entry'!BF15","v":0},{"$f":"'Result Entry'!BG15","v":0},{"$f":"'Result Entry'!BH15","v":0},{"$f":"'Result Entry'!BI15","v":0},{"$f":"'Result Entry'!BJ15","v":0},{"$f":"'Result Entry'!BK15","v":0},{"$f":"'Result Entry'!BL15","v":0},{"$f":"'Result Entry'!BM15","v":0},{"$f":"'Result Entry'!BN15","v":0},{"$f":"'Result Entry'!BO15","v":0},{"$f":"'Result Entry'!BP15","v":0},{"$f":"'Result Entry'!BQ15","v":0},{"$f":"'Result Entry'!BR15","v":""},{"$f":"'Result Entry'!BS15","v":0},{"$f":"'Result Entry'!BT15","v":0},{"$f":"'Result Entry'!BU15","v":0},{"$f":"'Result Entry'!BV15","v":0},{"$f":"'Result Entry'!BW15","v":0},{"$f":"'Result Entry'!BX15","v":0},{"$f":"'Result Entry'!BY15","v":0},{"$f":"'Result Entry'!BZ15","v":0},{"$f":"'Result Entry'!CA15","v":0},{"$f":"'Result Entry'!CB15","v":0},{"$f":"'Result Entry'!CC15","v":0},{"$f":"'Result Entry'!CD15","v":0},{"$f":"'Result Entry'!CE15","v":0},{"$f":"'Result Entry'!CF15","v":0},{"$f":"'Result Entry'!CG15","v":""},{"$f":"'Result Entry'!CH15","v":0},{"$f":"'Result Entry'!CI15","v":0},{"$f":"'Result Entry'!CJ15","v":0},{"$f":"'Result Entry'!CK15","v":0},{"$f":"'Result Entry'!CL15","v":0},{"$f":"'Result Entry'!CM15","v":0},{"$f":"'Result Entry'!CN15","v":0},{"$f":"'Result Entry'!CO15","v":""},{"$f":"'Result Entry'!CP15","v":0},{"$f":"'Result Entry'!CQ15","v":0},{"$f":"'Result Entry'!CR15","v":0},{"$f":"'Result Entry'!CS15","v":0},{"$f":"'Result Entry'!CT15","v":0},{"$f":"'Result Entry'!CU15","v":0},{"$f":"'Result Entry'!CV15","v":0},{"$f":"'Result Entry'!CW15","v":""},{"$f":"'Result Entry'!CX15","v":0},{"$f":"'Result Entry'!CY15","v":0},{"$f":"'Result Entry'!CZ15","v":0},{"$f":"'Result Entry'!DA15","v":0},{"$f":"'Result Entry'!DB15","v":0},{"$f":"'Result Entry'!DC15","v":0},{"$f":"'Result Entry'!DD15","v":0},{"$f":"'Result Entry'!DE15","v":""},{"$f":"'Result Entry'!DF15","v":0},{"$f":"'Result Entry'!DG15","v":0},{"$f":"'Result Entry'!DH15","v":0},{"$f":"'Result Entry'!DI15","v":0},{"$f":"'Result Entry'!DJ15","v":0},{"$f":"'Result Entry'!DK15","v":0},{"$f":"'Result Entry'!DL15","v":""},{"$f":"'Result Entry'!DM15","v":""},{"$f":"'Result Entry'!DN15","v":0},{"$f":"'Result Entry'!DO15","v":0},{"$f":"'Result Entry'!DP15","v":""},{"$f":"'Result Entry'!DQ15","v":900},{"$f":"'Result Entry'!DR15","v":0},{"$f":"'Result Entry'!DS15","v":{"v":0,"d":"0.00"}},{"$f":"'Result Entry'!DT15","v":""},{"$f":"'Result Entry'!DU15","v":""},{"$f":"'Result Entry'!DV15","v":""},{"$f":"'Result Entry'!DW15","v":""}]
[null,0,{"$f":"'Result Entry'!D16","v":0},{"$f":"'Result Entry'!E16","v":0},{"$f":"'Result Entry'!F16","v":0},{"$f":"'Result Entry'!G16","v":0},{"$f":"'Result Entry'!H16","v":0},{"$f":"'Result Entry'!I16","v":0},{"$f":"'Result Entry'!J16","v":"00:00:00"},{"$f":"'Result Entry'!K16","v":0},{"$f":"'Result Entry'!L16","v":0},{"$f":"'Result Entry'!M16","v":0},{"$f":"'Result Entry'!N16","v":0},{"$f":"'Result Entry'!O16","v":0},{"$f":"'Result Entry'!P16","v":0},{"$f":"'Result Entry'!Q16","v":0},{"$f":"'Result Entry'!R16","v":0},{"$f":"'Result Entry'!S16","v":0},{"$f":"'Result Entry'!T16","v":0},{"$f":"'Result Entry'!U16","v":0},{"$f":"'Result Entry'!V16","v":0},{"$f":"'Result Entry'!W16","v":0},{"$f":"'Result Entry'!X16","v":0},{"$f":"'Result Entry'!Y16","v":""},{"$f":"'Result Entry'!Z16","v":0},{"$f":"'Result Entry'!AA16","v":0},{"$f":"'Result Entry'!AB16","v":0},{"$f":"'Result Entry'!AC16","v":0},{"$f":"'Result Entry'!AD16","v":0},{"$f":"'Result Entry'!AE16","v":0},{"$f":"'Result Entry'!AF16","v":0},{"$f":"'Result Entry'!AG16","v":0},{"$f":"'Result Entry'!AH16","v":0},{"$f":"'Result Entry'!AI16","v":0},{"$f":"'Result Entry'!AJ16","v":0},{"$f":"'Result Entry'!AK16","v":0},{"$f":"'Result Entry'!AL16","v":0},{"$f":"'Result Entry'!AM16","v":0},{"$f":"'Result Entry'!AN16","v":""},{"$f":"'Result Entry'!AO16","v":0},{"$f":"'Result Entry'!AP16","v":0},{"$f":"'Result Entry'!AQ16","v":0},{"$f":"'Result Entry'!AR16","v":0},{"$f":"'Result Entry'!AS16","v":0},{"$f":"'Result Entry'!AT16","v":0},{"$f":"'Result Entry'!AU16","v":0},{"$f":"'Result Entry'!AV16","v":0},{"$f":"'Result Entry'!AW16","v":0},{"$f":"'Result Entry'!AX16","v":0},{"$f":"'Result Entry'!AY16","v":0},{"$f":"'Result Entry'!AZ16","v":0},{"$f":"'Result Entry'!BA16","v":0},{"$f":"'Result Entry'!BB16","v":0},{"$f":"'Result Entry'!BC16","v":""},{"$f":"'Result Entry'!BD16","v":0},{"$f":"'Result Entry'!BE16","v":0},{"$f":"'Result Entry'!BF16","v":0},{"$f":"'Result Entry'!BG16","v":0},{"$f":"'Result Entry'!BH16","v":0},{"$f":"'Result Entry'!BI16","v":0},{"$f":"'Result Entry'!BJ16","v":0},{"$f":"'Result Entry'!BK16","v":0},{"$f":"'Result Entry'!BL16","v":0},{"$f":"'Result Entry'!BM16","v":0},{"$f":"'Result Entry'!BN16","v":0},{"$f":"'Result Entry'!BO16","v":0},{"$f":"'Result Entry'!BP16","v":0},{"$f":"'Result Entry'!BQ16","v":0},{"$f":"'Result Entry'!BR16","v":""},{"$f":"'Result Entry'!BS16","v":0},{"$f":"'Result Entry'!BT16","v":0},{"$f":"'Result Entry'!BU16","v":0},{"$f":"'Result Entry'!BV16","v":0},{"$f":"'Result Entry'!BW16","v":0},{"$f":"'Result Entry'!BX16","v":0},{"$f":"'Result Entry'!BY16","v":0},{"$f":"'Result Entry'!BZ16","v":0},{"$f":"'Result Entry'!CA16","v":0},{"$f":"'Result Entry'!CB16","v":0},{"$f":"'Result Entry'!CC16","v":0},{"$f":"'Result Entry'!CD16","v":0},{"$f":"'Result Entry'!CE16","v":0},{"$f":"'Result Entry'!CF16","v":0},{"$f":"'Result Entry'!CG16","v":""},{"$f":"'Result Entry'!CH16","v":0},{"$f":"'Result Entry'!CI16","v":0},{"$f":"'Result Entry'!CJ16","v":0},{"$f":"'Result Entry'!CK16","v":0},{"$f":"'Result Entry'!CL16","v":0},{"$f":"'Result Entry'!CM16","v":0},{"$f":"'Result Entry'!CN16","v":0},{"$f":"'Result Entry'!CO16","v":""},{"$f":"'Result Entry'!CP16","v":0},{"$f":"'Result Entry'!CQ16","v":0},{"$f":"'Result Entry'!CR16","v":0},{"$f":"'Result Entry'!CS16","v":0},{"$f":"'Result Entry'!CT16","v":0},{"$f":"'Result Entry'!CU16","v":0},{"$f":"'Result Entry'!CV16","v":0},{"$f":"'Result Entry'!CW16","v":""},{"$f":"'Result Entry'!CX16","v":0},{"$f":"'Result Entry'!CY16","v":0},{"$f":"'Result Entry'!CZ16","v":0},{"$f":"'Result Entry'!DA16","v":0},{"$f":"'Result Entry'!DB16","v":0},{"$f":"'Result Entry'!DC16","v":0},{"$f":"'Result Entry'!DD16","v":0},{"$f":"'Result Entry'!DE16","v":""},{"$f":"'Result Entry'!DF16","v":0},{"$f":"'Result Entry'!DG16","v":0},{"$f":"'Result Entry'!DH16","v":0},{"$f":"'Result Entry'!DI16","v":0},{"$f":"'Result Entry'!DJ16","v":0},{"$f":"'Result Entry'!DK16","v":0},{"$f":"'Result Entry'!DL16","v":""},{"$f":"'Result Entry'!DM16","v":""},{"$f":"'Result Entry'!DN16","v":0},{"$f":"'Result Entry'!DO16","v":0},{"$f":"'Result Entry'!DP16","v":""},{"$f":"'Result Entry'!DQ16","v":900},{"$f":"'Result Entry'!DR16","v":0},{"$f":"'Result Entry'!DS16","v":{"v":0,"d":"0.00"}},{"$f":"'Result Entry'!DT16","v":""},{"$f":"'Result Entry'!DU16","v":""},{"$f":"'Result Entry'!DV16","v":""},{"$f":"'Result Entry'!DW16","v":""}]
[null,0,{"$f":"'Result Entry'!D17","v":0},{"$f":"'Result Entry'!E17","v":0},{"$f":"'Result Entry'!F17","v":0},{"$f":"'Result Entry'!G17","v":0},{"$f":"'Result Entry'!H17","v":0},{"$f":"'Result Entry'!I17","v":0},{"$f":"'Result Entry'!J17","v":"00:00:00"},{"$f":"'Result Entry'!K17","v":0},{"$f":"'Result Entry'!L17","v":0},{"$f":"'Result Entry'!M17","v":0},{"$f":"'Result Entry'!N17","v":0},{"$f":"'Result Entry'!O17","v":0},{"$f":"'Result Entry'!P17","v":0},{"$f":"'Result Entry'!Q17","v":0},{"$f":"'Result Entry'!R17","v":0},{"$f":"'Result Entry'!S17","v":0},{"$f":"'Result Entry'!T17","v":0},{"$f":"'Result Entry'!U17","v":0},{"$f":"'Result Entry'!V17","v":0},{"$f":"'Result Entry'!W17","v":0},{"$f":"'Result Entry'!X17","v":0},{"$f":"'Result Entry'!Y17","v":""},{"$f":"'Result Entry'!Z17","v":0},{"$f":"'Result Entry'!AA17","v":0},{"$f":"'Result Entry'!AB17","v":0},{"$f":"'Result Entry'!AC17","v":0},{"$f":"'Result Entry'!AD17","v":0},{"$f":"'Result Entry'!AE17","v":0},{"$f":"'Result Entry'!AF17","v":0},{"$f":"'Result Entry'!AG17","v":0},{"$f":"'Result Entry'!AH17","v":0},{"$f":"'Result Entry'!AI17","v":0},{"$f":"'Result Entry'!AJ17","v":0},{"$f":"'Result Entry'!AK17","v":0},{"$f":"'Result Entry'!AL17","v":0},{"$f":"'Result Entry'!AM17","v":0},{"$f":"'Result Entry'!AN17","v":""},{"$f":"'Result Entry'!AO17","v":0},{"$f":"'Result Entry'!AP17","v":0},{"$f":"'Result Entry'!AQ17","v":0},{"$f":"'Result Entry'!AR17","v":0},{"$f":"'Result Entry'!AS17","v":0},{"$f":"'Result Entry'!AT17","v":0},{"$f":"'Result Entry'!AU17","v":0},{"$f":"'Result Entry'!AV17","v":0},{"$f":"'Result Entry'!AW17","v":0},{"$f":"'Result Entry'!AX17","v":0},{"$f":"'Result Entry'!AY17","v":0},{"$f":"'Result Entry'!AZ17","v":0},{"$f":"'Result Entry'!BA17","v":0},{"$f":"'Result Entry'!BB17","v":0},{"$f":"'Result Entry'!BC17","v":""},{"$f":"'Result Entry'!BD17","v":0},{"$f":"'Result Entry'!BE17","v":0},{"$f":"'Result Entry'!BF17","v":0},{"$f":"'Result Entry'!BG17","v":0},{"$f":"'Result Entry'!BH17","v":0},{"$f":"'Result Entry'!BI17","v":0},{"$f":"'Result Entry'!BJ17","v":0},{"$f":"'Result Entry'!BK17","v":0},{"$f":"'Result Entry'!BL17","v":0},{"$f":"'Result Entry'!BM17","v":0},{"$f":"'Result Entry'!BN17","v":0},{"$f":"'Result Entry'!BO17","v":0},{"$f":"'Result Entry'!BP17","v":0},{"$f":"'Result Entry'!BQ17","v":0},{"$f":"'Result Entry'!BR17","v":""},{"$f":"'Result Entry'!BS17","v":0},{"$f":"'Result Entry'!BT17","v":0},{"$f":"'Result Entry'!BU17","v":0},{"$f":"'Result Entry'!BV17","v":0},{"$f":"'Result Entry'!BW17","v":0},{"$f":"'Result Entry'!BX17","v":0},{"$f":"'Result Entry'!BY17","v":0},{"$f":"'Result Entry'!BZ17","v":0},{"$f":"'Result Entry'!CA17","v":0},{"$f":"'Result Entry'!CB17","v":0},{"$f":"'Result Entry'!CC17","v":0},{"$f":"'Result Entry'!CD17","v":0},{"$f":"'Result Entry'!CE17","v":0},{"$f":"'Result Entry'!CF17","v":0},{"$f":"'Result Entry'!CG17","v":""},{"$f":"'Result Entry'!CH17","v":0},{"$f":"'Result Entry'!CI17","v":0},{"$f":"'Result Entry'!CJ17","v":0},{"$f":"'Result Entry'!CK17","v":0},{"$f":"'Result Entry'!CL17","v":0},{"$f":"'Result Entry'!CM17","v":0},{"$f":"'Result Entry'!CN17","v":0},{"$f":"'Result Entry'!CO17","v":""},{"$f":"'Result Entry'!CP17","v":0},{"$f":"'Result Entry'!CQ17","v":0},{"$f":"'Result Entry'!CR17","v":0},{"$f":"'Result Entry'!CS17","v":0},{"$f":"'Result Entry'!CT17","v":0},{"$f":"'Result Entry'!CU17","v":0},{"$f":"'Result Entry'!CV17","v":0},{"$f":"'Result Entry'!CW17","v":""},{"$f":"'Result Entry'!CX17","v":0},{"$f":"'Result Entry'!CY17","v":0},{"$f":"'Result Entry'!CZ17","v":0},{"$f":"'Result Entry'!DA17","v":0},{"$f":"'Result Entry'!DB17","v":0},{"$f":"'Result Entry'!DC17","v":0},{"$f":"'Result Entry'!DD17","v":0},{"$f":"'Result Entry'!DE17","v":""},{"$f":"'Result Entry'!DF17","v":0},{"$f":"'Result Entry'!DG17","v":0},{"$f":"'Result Entry'!DH17","v":0},{"$f":"'Result Entry'!DI17","v":0},{"$f":"'Result Entry'!DJ17","v":0},{"$f":"'Result Entry'!DK17","v":0},{"$f":"'Result Entry'!DL17","v":""},{"$f":"'Result Entry'!DM17","v":""},{"$f":"'Result Entry'!DN17","v":0},{"$f":"'Result Entry'!DO17","v":0},{"$f":"'Result Entry'!DP17","v":""},{"$f":"'Result Entry'!DQ17","v":900},{"$f":"'Result Entry'!DR17","v":0},{"$f":"'Result Entry'!DS17","v":{"v":0,"d":"0.00"}},{"$f":"'Result Entry'!DT17","v":""},{"$f":"'Result Entry'!DU17","v":""},{"$f":"'Result Entry'!DV17","v":""},{"$f":"'Result Entry'!DW17","v":""}]
[null,0,{"$f":"'Result Entry'!D18","v":0},{"$f":"'Result Entry'!E18","v":0},{"$f":"'Result Entry'!F18","v":0},{"$f":"'Result Entry'!G18","v":0},{"$f":"'Result Entry'!H18","v":0},{"$f":"'Result Entry'!I18","v":0},{"$f":"'Result Entry'!J18","v":"00:00:00"},{"$f":"'Result Entry'!K18","v":0},{"$f":"'Result Entry'!L18","v":0},{"$f":"'Result Entry'!M18","v":0},{"$f":"'Result Entry'!N18","v":0},{"$f":"'Result Entry'!O18","v":0},{"$f":"'Result Entry'!P18","v":0},{"$f":"'Result Entry'!Q18","v":0},{"$f":"'Result Entry'!R18","v":0},{"$f":"'Result Entry'!S18","v":0},{"$f":"'Result Entry'!T18","v":0},{"$f":"'Result Entry'!U18","v":0},{"$f":"'Result Entry'!V18","v":0},{"$f":"'Result Entry'!W18","v":0},{"$f":"'Result Entry'!X18","v":0},{"$f":"'Result Entry'!Y18","v":""},{"$f":"'Result Entry'!Z18","v":0},{"$f":"'Result Entry'!AA18","v":0},{"$f":"'Result Entry'!AB18","v":0},{"$f":"'Result Entry'!AC18","v":0},{"$f":"'Result Entry'!AD18","v":0},{"$f":"'Result Entry'!AE18","v":0},{"$f":"'Result Entry'!AF18","v":0},{"$f":"'Result Entry'!AG18","v":0},{"$f":"'Result Entry'!AH18","v":0},{"$f":"'Result Entry'!AI18","v":0},{"$f":"'Result Entry'!AJ18","v":0},{"$f":"'Result Entry'!AK18","v":0},{"$f":"'Result Entry'!AL18","v":0},{"$f":"'Result Entry'!AM18","v":0},{"$f":"'Result Entry'!AN18","v":""},{"$f":"'Result Entry'!AO18","v":0},{"$f":"'Result Entry'!AP18","v":0},{"$f":"'Result Entry'!AQ18","v":0},{"$f":"'Result Entry'!AR18","v":0},{"$f":"'Result Entry'!AS18","v":0},{"$f":"'Result Entry'!AT18","v":0},{"$f":"'Result Entry'!AU18","v":0},{"$f":"'Result Entry'!AV18","v":0},{"$f":"'Result Entry'!AW18","v":0},{"$f":"'Result Entry'!AX18","v":0},{"$f":"'Result Entry'!AY18","v":0},{"$f":"'Result Entry'!AZ18","v":0},{"$f":"'Result Entry'!BA18","v":0},{"$f":"'Result Entry'!BB18","v":0},{"$f":"'Result Entry'!BC18","v":""},{"$f":"'Result Entry'!BD18","v":0},{"$f":"'Result Entry'!BE18","v":0},{"$f":"'Result Entry'!BF18","v":0},{"$f":"'Result Entry'!BG18","v":0},{"$f":"'Result Entry'!BH18","v":0},{"$f":"'Result Entry'!BI18","v":0},{"$f":"'Result Entry'!BJ18","v":0},{"$f":"'Result Entry'!BK18","v":0},{"$f":"'Result Entry'!BL18","v":0},{"$f":"'Result Entry'!BM18","v":0},{"$f":"'Result Entry'!BN18","v":0},{"$f":"'Result Entry'!BO18","v":0},{"$f":"'Result Entry'!BP18","v":0},{"$f":"'Result Entry'!BQ18","v":0},{"$f":"'Result Entry'!BR18","v":""},{"$f":"'Result Entry'!BS18","v":0},{"$f":"'Result Entry'!BT18","v":0},{"$f":"'Result Entry'!BU18","v":0},{"$f":"'Result Entry'!BV18","v":0},{"$f":"'Result Entry'!BW18","v":0},{"$f":"'Result Entry'!BX18","v":0},{"$f":"'Result Entry'!BY18","v":0},{"$f":"'Result Entry'!BZ18","v":0},{"$f":"'Result Entry'!CA18","v":0},{"$f":"'Result Entry'!CB18","v":0},{"$f":"'Result Entry'!CC18","v":0},{"$f":"'Result Entry'!CD18","v":0},{"$f":"'Result Entry'!CE18","v":0},{"$f":"'Result Entry'!CF18","v":0},{"$f":"'Result Entry'!CG18","v":""},{"$f":"'Result Entry'!CH18","v":0},{"$f":"'Result Entry'!CI18","v":0},{"$f":"'Result Entry'!CJ18","v":0},{"$f":"'Result Entry'!CK18","v":0},{"$f":"'Result Entry'!CL18","v":0},{"$f":"'Result Entry'!CM18","v":0},{"$f":"'Result Entry'!CN18","v":0},{"$f":"'Result Entry'!CO18","v":""},{"$f":"'Result Entry'!CP18","v":0},{"$f":"'Result Entry'!CQ18","v":0},{"$f":"'Result Entry'!CR18","v":0},{"$f":"'Result Entry'!CS18","v":0},{"$f":"'Result Entry'!CT18","v":0},{"$f":"'Result Entry'!CU18","v":0},{"$f":"'Result Entry'!CV18","v":0},{"$f":"'Result Entry'!CW18","v":""},{"$f":"'Result Entry'!CX18","v":0},{"$f":"'Result Entry'!CY18","v":0},{"$f":"'Result Entry'!CZ18","v":0},{"$f":"'Result Entry'!DA18","v":0},{"$f":"'Result Entry'!DB18","v":0},{"$f":"'Result Entry'!DC18","v":0},{"$f":"'Result Entry'!DD18","v":0},{"$f":"'Result Entry'!DE18","v":""},{"$f":"'Result Entry'!DF18","v":0},{"$f":"'Result Entry'!DG18","v":0},{"$f":"'Result Entry'!DH18","v":0},{"$f":"'Result Entry'!DI18","v":0},{"$f":"'Result Entry'!DJ18","v":0},{"$f":"'Result Entry'!DK18","v":0},{"$f":"'Result Entry'!DL18","v":""},{"$f":"'Result Entry'!DM18","v":""},{"$f":"'Result Entry'!DN18","v":0},{"$f":"'Result Entry'!DO18","v":0},{"$f":"'Result Entry'!DP18","v":""},{"$f":"'Result Entry'!DQ18","v":900},{"$f":"'Result Entry'!DR18","v":0},{"$f":"'Result Entry'!DS18","v":{"v":0,"d":"0.00"}},{"$f":"'Result Entry'!DT18","v":""},{"$f":"'Result Entry'!DU18","v":""},{"$f":"'Result Entry'!DV18","v":""},{"$f":"'Result Entry'!DW18","v":""}]
[null,0,{"$f":"'Result Entry'!D19","v":0},{"$f":"'Result Entry'!E19","v":0},{"$f":"'Result Entry'!F19","v":0},{"$f":"'Result Entry'!G19","v":0},{"$f":"'Result Entry'!H19","v":0},{"$f":"'Result Entry'!I19","v":0},{"$f":"'Result Entry'!J19","v":"00:00:00"},{"$f":"'Result Entry'!K19","v":0},{"$f":"'Result Entry'!L19","v":0},{"$f":"'Result Entry'!M19","v":0},{"$f":"'Result Entry'!N19","v":0},{"$f":"'Result Entry'!O19","v":0},{"$f":"'Result Entry'!P19","v":0},{"$f":"'Result Entry'!Q19","v":0},{"$f":"'Result Entry'!R19","v":0},{"$f":"'Result Entry'!S19","v":0},{"$f":"'Result Entry'!T19","v":0},{"$f":"'Result Entry'!U19","v":0},{"$f":"'Result Entry'!V19","v":0},{"$f":"'Result Entry'!W19","v":0},{"$f":"'Result Entry'!X19","v":0},{"$f":"'Result Entry'!Y19","v":""},{"$f":"'Result Entry'!Z19","v":0},{"$f":"'Result Entry'!AA19","v":0},{"$f":"'Result Entry'!AB19","v":0},{"$f":"'Result Entry'!AC19","v":0},{"$f":"'Result Entry'!AD19","v":0},{"$f":"'Result Entry'!AE19","v":0},{"$f":"'Result Entry'!AF19","v":0},{"$f":"'Result Entry'!AG19","v":0},{"$f":"'Result Entry'!AH19","v":0},{"$f":"'Result Entry'!AI19","v":0},{"$f":"'Result Entry'!AJ19","v":0},{"$f":"'Result Entry'!AK19","v":0},{"$f":"'Result Entry'!AL19","v":0},{"$f":"'Result Entry'!AM19","v":0},{"$f":"'Result Entry'!AN19","v":""},{"$f":"'Result Entry'!AO19","v":0},{"$f":"'Result Entry'!AP19","v":0},{"$f":"'Result Entry'!AQ19","v":0},{"$f":"'Result Entry'!AR19","v":0},{"$f":"'Result Entry'!AS19","v":0},{"$f":"'Result Entry'!AT19","v":0},{"$f":"'Result Entry'!AU19","v":0},{"$f":"'Result Entry'!AV19","v":0},{"$f":"'Result Entry'!AW19","v":0},{"$f":"'Result Entry'!AX19","v":0},{"$f":"'Result Entry'!AY19","v":0},{"$f":"'Result Entry'!AZ19","v":0},{"$f":"'Result Entry'!BA19","v":0},{"$f":"'Result Entry'!BB19","v":0},{"$f":"'Result Entry'!BC19","v":""},{"$f":"'Result Entry'!BD19","v":0},{"$f":"'Result Entry'!BE19","v":0},{"$f":"'Result Entry'!BF19","v":0},{"$f":"'Result Entry'!BG19","v":0},{"$f":"'Result Entry'!BH19","v":0},{"$f":"'Result Entry'!BI19","v":0},{"$f":"'Result Entry'!BJ19","v":0},{"$f":"'Result Entry'!BK19","v":0},{"$f":"'Result Entry'!BL19","v":0},{"$f":"'Result Entry'!BM19","v":0},{"$f":"'Result Entry'!BN19","v":0},{"$f":"'Result Entry'!BO19","v":0},{"$f":"'Result Entry'!BP19","v":0},{"$f":"'Result Entry'!BQ19","v":0},{"$f":"'Result Entry'!BR19","v":""},{"$f":"'Result Entry'!BS19","v":0},{"$f":"'Result Entry'!BT19","v":0},{"$f":"'Result Entry'!BU19","v":0},{"$f":"'Result Entry'!BV19","v":0},{"$f":"'Result Entry'!BW19","v":0},{"$f":"'Result Entry'!BX19","v":0},{"$f":"'Result Entry'!BY19","v":0},{"$f":"'Result Entry'!BZ19","v":0},{"$f":"'Result Entry'!CA19","v":0},{"$f":"'Result Entry'!CB19","v":0},{"$f":"'Result Entry'!CC19","v":0},{"$f":"'Result Entry'!CD19","v":0},{"$f":"'Result Entry'!CE19","v":0},{"$f":"'Result Entry'!CF19","v":0},{"$f":"'Result Entry'!CG19","v":""},{"$f":"'Result Entry'!CH19","v":0},{"$f":"'Result Entry'!CI19","v":0},{"$f":"'Result Entry'!CJ19","v":0},{"$f":"'Result Entry'!CK19","v":0},{"$f":"'Result Entry'!CL19","v":0},{"$f":"'Result Entry'!CM19","v":0},{"$f":"'Result Entry'!CN19","v":0},{"$f":"'Result Entry'!CO19","v":""},{"$f":"'Result Entry'!CP19","v":0},{"$f":"'Result Entry'!CQ19","v":0},{"$f":"'Result Entry'!CR19","v":0},{"$f":"'Result Entry'!CS19","v":0},{"$f":"'Result Entry'!CT19","v":0},{"$f":"'Result Entry'!CU19","v":0},{"$f":"'Result Entry'!CV19","v":0},{"$f":"'Result Entry'!CW19","v":""},{"$f":"'Result Entry'!CX19","v":0},{"$f":"'Result Entry'!CY19","v":0},{"$f":"'Result Entry'!CZ19","v":0},{"$f":"'Result Entry'!DA19","v":0},{"$f":"'Result Entry'!DB19","v":0},{"$f":"'Result Entry'!DC19","v":0},{"$f":"'Result Entry'!DD19","v":0},{"$f":"'Result Entry'!DE19","v":""},{"$f":"'Result Entry'!DF19","v":0},{"$f":"'Result Entry'!DG19","v":0},{"$f":"'Result Entry'!DH19","v":0},{"$f":"'Result Entry'!DI19","v":0},{"$f":"'Result Entry'!DJ19","v":0},{"$f":"'Result Entry'!DK19","v":0},{"$f":"'Result Entry'!DL19","v":""},{"$f":"'Result Entry'!DM19","v":""},{"$f":"'Result Entry'!DN19","v":0},{"$f":"'Result Entry'!DO19","v":0},{"$f":"'Result Entry'!DP19","v":""},{"$f":"'Result Entry'!DQ19","v":900},{"$f":"'Result Entry'!DR19","v":0},{"$f":"'Result Entry'!DS19","v":{"v":0,"d":"0.00"}},{"$f":"'Result Entry'!DT19","v":""},{"$f":"'Result Entry'!DU19","v":""},{"$f":"'Result Entry'!DV19","v":""},{"$f":"'Result Entry'!DW19","v":""}]
[null,0,{"$f":"'Result Entry'!D20","v":0},{"$f":"'Result Entry'!E20","v":0},{"$f":"'Result Entry'!F20","v":0},{"$f":"'Result Entry'!G20","v":0},{"$f":"'Result Entry'!H20","v":0},{"$f":"'Result Entry'!I20","v":0},{"$f":"'Result Entry'!J20","v":"00:00:00"},{"$f":"'Result Entry'!K20","v":0},{"$f":"'Result Entry'!L20","v":0},{"$f":"'Result Entry'!M20","v":0},{"$f":"'Result Entry'!N20","v":0},{"$f":"'Result Entry'!O20","v":0},{"$f":"'Result Entry'!P20","v":0},{"$f":"'Result Entry'!Q20","v":0},{"$f":"'Result Entry'!R20","v":0},{"$f":"'Result Entry'!S20","v":0},{"$f":"'Result Entry'!T20","v":0},{"$f":"'Result Entry'!U20","v":0},{"$f":"'Result Entry'!V20","v":0},{"$f":"'Result Entry'!W20","v":0},{"$f":"'Result Entry'!X20","v":0},{"$f":"'Result Entry'!Y20","v":""},{"$f":"'Result Entry'!Z20","v":0},{"$f":"'Result Entry'!AA20","v":0},{"$f":"'Result Entry'!AB20","v":0},{"$f":"'Result Entry'!AC20","v":0},{"$f":"'Result Entry'!AD20","v":0},{"$f":"'Result Entry'!AE20","v":0},{"$f":"'Result Entry'!AF20","v":0},{"$f":"'Result Entry'!AG20","v":0},{"$f":"'Result Entry'!AH20","v":0},{"$f":"'Result Entry'!AI20","v":0},{"$f":"'Result Entry'!AJ20","v":0},{"$f":"'Result Entry'!AK20","v":0},{"$f":"'Result Entry'!AL20","v":0},{"$f":"'Result Entry'!AM20","v":0},{"$f":"'Result Entry'!AN20","v":""},{"$f":"'Result Entry'!AO20","v":0},{"$f":"'Result Entry'!AP20","v":0},{"$f":"'Result Entry'!AQ20","v":0},{"$f":"'Result Entry'!AR20","v":0},{"$f":"'Result Entry'!AS20","v":0},{"$f":"'Result Entry'!AT20","v":0},{"$f":"'Result Entry'!AU20","v":0},{"$f":"'Result Entry'!AV20","v":0},{"$f":"'Result Entry'!AW20","v":0},{"$f":"'Result Entry'!AX20","v":0},{"$f":"'Result Entry'!AY20","v":0},{"$f":"'Result Entry'!AZ20","v":0},{"$f":"'Result Entry'!BA20","v":0},{"$f":"'Result Entry'!BB20","v":0},{"$f":"'Result Entry'!BC20","v":""},{"$f":"'Result Entry'!BD20","v":0},{"$f":"'Result Entry'!BE20","v":0},{"$f":"'Result Entry'!BF20","v":0},{"$f":"'Result Entry'!BG20","v":0},{"$f":"'Result Entry'!BH20","v":0},{"$f":"'Result Entry'!BI20","v":0},{"$f":"'Result Entry'!BJ20","v":0},{"$f":"'Result Entry'!BK20","v":0},{"$f":"'Result Entry'!BL20","v":0},{"$f":"'Result Entry'!BM20","v":0},{"$f":"'Result Entry'!BN20","v":0},{"$f":"'Result Entry'!BO20","v":0},{"$f":"'Result Entry'!BP20","v":0},{"$f":"'Result Entry'!BQ20","v":0},{"$f":"'Result Entry'!BR20","v":""},{"$f":"'Result Entry'!BS20","v":0},{"$f":"'Result Entry'!BT20","v":0},{"$f":"'Result Entry'!BU20","v":0},{"$f":"'Result Entry'!BV20","v":0},{"$f":"'Result Entry'!BW20","v":0},{"$f":"'Result Entry'!BX20","v":0},{"$f":"'Result Entry'!BY20","v":0},{"$f":"'Result Entry'!BZ20","v":0},{"$f":"'Result Entry'!CA20","v":0},{"$f":"'Result Entry'!CB20","v":0},{"$f":"'Result Entry'!CC20","v":0},{"$f":"'Result Entry'!CD20","v":0},{"$f":"'Result Entry'!CE20","v":0},{"$f":"'Result Entry'!CF20","v":0},{"$f":"'Result Entry'!CG20","v":""},{"$f":"'Result Entry'!CH20","v":0},{"$f":"'Result Entry'!CI20","v":0},{"$f":"'Result Entry'!CJ20","v":0},{"$f":"'Result Entry'!CK20","v":0},{"$f":"'Result Entry'!CL20","v":0},{"$f":"'Result Entry'!CM20","v":0},{"$f":"'Result Entry'!CN20","v":0},{"$f":"'Result Entry'!CO20","v":""},{"$f":"'Result Entry'!CP20","v":0},{"$f":"'Result Entry'!CQ20","v":0},{"$f":"'Result Entry'!CR20","v":0},{"$f":"'Result Entry'!CS20","v":0},{"$f":"'Result Entry'!CT20","v":0},{"$f":"'Result Entry'!CU20","v":0},{"$f":"'Result Entry'!CV20","v":0},{"$f":"'Result Entry'!CW20","v":""},{"$f":"'Result Entry'!CX20","v":0},{"$f":"'Result Entry'!CY20","v":0},{"$f":"'Result Entry'!CZ20","v":0},{"$f":"'Result Entry'!DA20","v":0},{"$f":"'Result Entry'!DB20","v":0},{"$f":"'Result Entry'!DC20","v":0},{"$f":"'Result Entry'!DD20","v":0},{"$f":"'Result Entry'!DE20","v":""},{"$f":"'Result Entry'!DF20","v":0},{"$f":"'Result Entry'!DG20","v":0},{"$f":"'Result Entry'!DH20","v":0},{"$f":"'Result Entry'!DI20","v":0},{"$f":"'Result Entry'!DJ20","v":0},{"$f":"'Result Entry'!DK20","v":0},{"$f":"'Result Entry'!DL20","v":""},{"$f":"'Result Entry'!DM20","v":""},{"$f":"'Result Entry'!DN20","v":0},{"$f":"'Result Entry'!DO20","v":0},{"$f":"'Result Entry'!DP20","v":""},{"$f":"'Result Entry'!DQ20","v":900},{"$f":"'Result Entry'!DR20","v":0},{"$f":"'Result Entry'!DS20","v":{"v":0,"d":"0.00"}},{"$f":"'Result Entry'!DT20","v":""},{"$f":"'Result Entry'!DU20","v":""},{"$f":"'Result Entry'!DV20","v":""},{"$f":"'Result Entry'!DW20","v":""}]
[null,0,{"$f":"'Result Entry'!D21","v":0},{"$f":"'Result Entry'!E21","v":0},{"$f":"'Result Entry'!F21","v":0},{"$f":"'Result Entry'!G21","v":0},{"$f":"'Result Entry'!H21","v":0},{"$f":"'Result Entry'!I21","v":0},{"$f":"'Result Entry'!J21","v":"00:00:00"},{"$f":"'Result Entry'!K21","v":0},{"$f":"'Result Entry'!L21","v":0},{"$f":"'Result Entry'!M21","v":0},{"$f":"'Result Entry'!N21","v":0},{"$f":"'Result Entry'!O21","v":0},{"$f":"'Result Entry'!P21","v":0},{"$f":"'Result Entry'!Q21","v":0},{"$f":"'Result Entry'!R21","v":0},{"$f":"'Result Entry'!S21","v":0},{"$f":"'Result Entry'!T21","v":0},{"$f":"'Result Entry'!U21","v":0},{"$f":"'Result Entry'!V21","v":0},{"$f":"'Result Entry'!W21","v":0},{"$f":"'Result Entry'!X21","v":0},{"$f":"'Result Entry'!Y21","v":""},{"$f":"'Result Entry'!Z21","v":0},{"$f":"'Result Entry'!AA21","v":0},{"$f":"'Result Entry'!AB21","v":0},{"$f":"'Result Entry'!AC21","v":0},{"$f":"'Result Entry'!AD21","v":0},{"$f":"'Result Entry'!AE21","v":0},{"$f":"'Result Entry'!AF21","v":0},{"$f":"'Result Entry'!AG21","v":0},{"$f":"'Result Entry'!AH21","v":0},{"$f":"'Result Entry'!AI21","v":0},{"$f":"'Result Entry'!AJ21","v":0},{"$f":"'Result Entry'!AK21","v":0},{"$f":"'Result Entry'!AL21","v":0},{"$f":"'Result Entry'!AM21","v":0},{"$f":"'Result Entry'!AN21","v":""},{"$f":"'Result Entry'!AO21","v":0},{"$f":"'Result Entry'!AP21","v":0},{"$f":"'Result Entry'!AQ21","v":0},{"$f":"'Result Entry'!AR21","v":0},{"$f":"'Result Entry'!AS21","v":0},{"$f":"'Result Entry'!AT21","v":0},{"$f":"'Result Entry'!AU21","v":0},{"$f":"'Result Entry'!AV21","v":0},{"$f":"'Result Entry'!AW21","v":0},{"$f":"'Result Entry'!AX21","v":0},{"$f":"'Result Entry'!AY21","v":0},{"$f":"'Result Entry'!AZ21","v":0},{"$f":"'Result Entry'!BA21","v":0},{"$f":"'Result Entry'!BB21","v":0},{"$f":"'Result Entry'!BC21","v":""},{"$f":"'Result Entry'!BD21","v":0},{"$f":"'Result Entry'!BE21","v":0},{"$f":"'Result Entry'!BF21","v":0},{"$f":"'Result Entry'!BG21","v":0},{"$f":"'Result Entry'!BH21","v":0},{"$f":"'Result Entry'!BI21","v":0},{"$f":"'Result Entry'!BJ21","v":0},{"$f":"'Result Entry'!BK21","v":0},{"$f":"'Result Entry'!BL21","v":0},{"$f":"'Result Entry'!BM21","v":0},{"$f":"'Result Entry'!BN21","v":0},{"$f":"'Result Entry'!BO21","v":0},{"$f":"'Result Entry'!BP21","v":0},{"$f":"'Result Entry'!BQ21","v":0},{"$f":"'Result Entry'!BR21","v":""},{"$f":"'Result Entry'!BS21","v":0},{"$f":"'Result Entry'!BT21","v":0},{"$f":"'Result Entry'!BU21","v":0},{"$f":"'Result Entry'!BV21","v":0},{"$f":"'Result Entry'!BW21","v":0},{"$f":"'Result Entry'!BX21","v":0},{"$f":"'Result Entry'!BY21","v":0},{"$f":"'Result Entry'!BZ21","v":0},{"$f":"'Result Entry'!CA21","v":0},{"$f":"'Result Entry'!CB21","v":0},{"$f":"'Result Entry'!CC21","v":0},{"$f":"'Result Entry'!CD21","v":0},{"$f":"'Result Entry'!CE21","v":0},{"$f":"'Result Entry'!CF21","v":0},{"$f":"'Result Entry'!CG21","v":""},{"$f":"'Result Entry'!CH21","v":0},{"$f":"'Result Entry'!CI21","v":0},{"$f":"'Result Entry'!CJ21","v":0},{"$f":"'Result Entry'!CK21","v":0},{"$f":"'Result Entry'!CL21","v":0},{"$f":"'Result Entry'!CM21","v":0},{"$f":"'Result Entry'!CN21","v":0},{"$f":"'Result Entry'!CO21","v":""},{"$f":"'Result Entry'!CP21","v":0},{"$f":"'Result Entry'!CQ21","v":0},{"$f":"'Result Entry'!CR21","v":0},{"$f":"'Result Entry'!CS21","v":0},{"$f":"'Result Entry'!CT21","v":0},{"$f":"'Result Entry'!CU21","v":0},{"$f":"'Result Entry'!CV21","v":0},{"$f":"'Result Entry'!CW21","v":""},{"$f":"'Result Entry'!CX21","v":0},{"$f":"'Result Entry'!CY21","v":0},{"$f":"'Result Entry'!CZ21","v":0},{"$f":"'Result Entry'!DA21","v":0},{"$f":"'Result Entry'!DB21","v":0},{"$f":"'Result Entry'!DC21","v":0},{"$f":"'Result Entry'!DD21","v":0},{"$f":"'Result Entry'!DE21","v":""},{"$f":"'Result Entry'!DF21","v":0},{"$f":"'Result Entry'!DG21","v":0},{"$f":"'Result Entry'!DH21","v":0},{"$f":"'Result Entry'!DI21","v":0},{"$f":"'Result Entry'!DJ21","v":0},{"$f":"'Result Entry'!DK21","v":0},{"$f":"'Result Entry'!DL21","v":""},{"$f":"'Result Entry'!DM21","v":""},{"$f":"'Result Entry'!DN21","v":0},{"$f":"'Result Entry'!DO21","v":0},{"$f":"'Result Entry'!DP21","v":""},{"$f":"'Result Entry'!DQ21","v":900},{"$f":"'Result Entry'!DR21","v":0},{"$f":"'Result Entry'!DS21","v":{"v":0,"d":"0.00"}},{"$f":"'Result Entry'!DT21","v":""},{"$f":"'Result Entry'!DU21","v":""},{"$f":"'Result Entry'!DV21","v":""},{"$f":"'Result Entry'!DW21","v":""}]
[null,0,{"$f":"'Result Entry'!D22","v":0},{"$f":"'Result Entry'!E22","v":0},{"$f":"'Result Entry'!F22","v":0},{"$f":"'Result Entry'!G22","v":0},{"$f":"'Result Entry'!H22","v":0},{"$f":"'Result Entry'!I22","v":0},{"$f":"'Result Entry'!J22","v":"00:00:00"},{"$f":"'Result Entry'!K22","v":0},{"$f":"'Result Entry'!L22","v":0},{"$f":"'Result Entry'!M22","v":0},{"$f":"'Result Entry'!N22","v":0},{"$f":"'Result Entry'!O22","v":0},{"$f":"'Result Entry'!P22","v":0},{"$f":"'Result Entry'!Q22","v":0},{"$f":"'Result Entry'!R22","v":0},{"$f":"'Result Entry'!S22","v":0},{"$f":"'Result Entry'!T22","v":0},{"$f":"'Result Entry'!U22","v":0},{"$f":"'Result Entry'!V22","v":0},{"$f":"'Result Entry'!W22","v":0},{"$f":"'Result Entry'!X22","v":0},{"$f":"'Result Entry'!Y22","v":""},{"$f":"'Result Entry'!Z22","v":0},{"$f":"'Result Entry'!AA22","v":0},{"$f":"'Result Entry'!AB22","v":0},{"$f":"'Result Entry'!AC22","v":0},{"$f":"'Result Entry'!AD22","v":0},{"$f":"'Result Entry'!AE22","v":0},{"$f":"'Result Entry'!AF22","v":0},{"$f":"'Result Entry'!AG22","v":0},{"$f":"'Result Entry'!AH22","v":0},{"$f":"'Result Entry'!AI22","v":0},{"$f":"'Result Entry'!AJ22","v":0},{"$f":"'Result Entry'!AK22","v":0},{"$f":"'Result Entry'!AL22","v":0},{"$f":"'Result Entry'!AM22","v":0},{"$f":"'Result Entry'!AN22","v":""},{"$f":"'Result Entry'!AO22","v":0},{"$f":"'Result Entry'!AP22","v":0},{"$f":"'Result Entry'!AQ22","v":0},{"$f":"'Result Entry'!AR22","v":0},{"$f":"'Result Entry'!AS22","v":0},{"$f":"'Result Entry'!AT22","v":0},{"$f":"'Result Entry'!AU22","v":0},{"$f":"'Result Entry'!AV22","v":0},{"$f":"'Result Entry'!AW22","v":0},{"$f":"'Result Entry'!AX22","v":0},{"$f":"'Result Entry'!AY22","v":0},{"$f":"'Result Entry'!AZ22","v":0},{"$f":"'Result Entry'!BA22","v":0},{"$f":"'Result Entry'!BB22","v":0},{"$f":"'Result Entry'!BC22","v":""},{"$f":"'Result Entry'!BD22","v":0},{"$f":"'Result Entry'!BE22","v":0},{"$f":"'Result Entry'!BF22","v":0},{"$f":"'Result Entry'!BG22","v":0},{"$f":"'Result Entry'!BH22","v":0},{"$f":"'Result Entry'!BI22","v":0},{"$f":"'Result Entry'!BJ22","v":0},{"$f":"'Result Entry'!BK22","v":0},{"$f":"'Result Entry'!BL22","v":0},{"$f":"'Result Entry'!BM22","v":0},{"$f":"'Result Entry'!BN22","v":0},{"$f":"'Result Entry'!BO22","v":0},{"$f":"'Result Entry'!BP22","v":0},{"$f":"'Result Entry'!BQ22","v":0},{"$f":"'Result Entry'!BR22","v":""},{"$f":"'Result Entry'!BS22","v":0},{"$f":"'Result Entry'!BT22","v":0},{"$f":"'Result Entry'!BU22","v":0},{"$f":"'Result Entry'!BV22","v":0},{"$f":"'Result Entry'!BW22","v":0},{"$f":"'Result Entry'!BX22","v":0},{"$f":"'Result Entry'!BY22","v":0},{"$f":"'Result Entry'!BZ22","v":0},{"$f":"'Result Entry'!CA22","v":0},{"$f":"'Result Entry'!CB22","v":0},{"$f":"'Result Entry'!CC22","v":0},{"$f":"'Result Entry'!CD22","v":0},{"$f":"'Result Entry'!CE22","v":0},{"$f":"'Result Entry'!CF22","v":0},{"$f":"'Result Entry'!CG22","v":""},{"$f":"'Result Entry'!CH22","v":0},{"$f":"'Result Entry'!CI22","v":0},{"$f":"'Result Entry'!CJ22","v":0},{"$f":"'Result Entry'!CK22","v":0},{"$f":"'Result Entry'!CL22","v":0},{"$f":"'Result Entry'!CM22","v":0},{"$f":"'Result Entry'!CN22","v":0},{"$f":"'Result Entry'!CO22","v":""},{"$f":"'Result Entry'!CP22","v":0},{"$f":"'Result Entry'!CQ22","v":0},{"$f":"'Result Entry'!CR22","v":0},{"$f":"'Result Entry'!CS22","v":0},{"$f":"'Result Entry'!CT22","v":0},{"$f":"'Result Entry'!CU22","v":0},{"$f":"'Result Entry'!CV22","v":0},{"$f":"'Result Entry'!CW22","v":""},{"$f":"'Result Entry'!CX22","v":0},{"$f":"'Result Entry'!CY22","v":0},{"$f":"'Result Entry'!CZ22","v":0},{"$f":"'Result Entry'!DA22","v":0},{"$f":"'Result Entry'!DB22","v":0},{"$f":"'Result Entry'!DC22","v":0},{"$f":"'Result Entry'!DD22","v":0},{"$f":"'Result Entry'!DE22","v":""},{"$f":"'Result Entry'!DF22","v":0},{"$f":"'Result Entry'!DG22","v":0},{"$f":"'Result Entry'!DH22","v":0},{"$f":"'Result Entry'!DI22","v":0},{"$f":"'Result Entry'!DJ22","v":0},{"$f":"'Result Entry'!DK22","v":0},{"$f":"'Result Entry'!DL22","v":""},{"$f":"'Result Entry'!DM22","v":""},{"$f":"'Result Entry'!DN22","v":0},{"$f":"'Result Entry'!DO22","v":0},{"$f":"'Result Entry'!DP22","v":""},{"$f":"'Result Entry'!DQ22","v":900},{"$f":"'Result Entry'!DR22","v":0},{"$f":"'Result Entry'!DS22","v":{"v":0,"d":"0.00"}},{"$f":"'Result Entry'!DT22","v":""},{"$f":"'Result Entry'!DU22","v":""},{"$f":"'Result Entry'!DV22","v":""},{"$f":"'Result Entry'!DW22","v":""}]
[null,0,{"$f":"'Result Entry'!D23","v":0},{"$f":"'Result Entry'!E23","v":0},{"$f":"'Result Entry'!F23","v":0},{"$f":"'Result Entry'!G23","v":0},{"$f":"'Result Entry'!H23","v":0},{"$f":"'Result Entry'!I23","v":0},{"$f":"'Result Entry'!J23","v":"00:00:00"},{"$f":"'Result Entry'!K23","v":0},{"$f":"'Result Entry'!L23","v":0},{"$f":"'Result Entry'!M23","v":0},{"$f":"'Result Entry'!N23","v":0},{"$f":"'Result Entry'!O23","v":0},{"$f":"'Result Entry'!P23","v":0},{"$f":"'Result Entry'!Q23","v":0},{"$f":"'Result Entry'!R23","v":0},{"$f":"'Result Entry'!S23","v":0},{"$f":"'Result Entry'!T23","v":0},{"$f":"'Result Entry'!U23","v":0},{"$f":"'Result Entry'!V23","v":0},{"$f":"'Result Entry'!W23","v":0},{"$f":"'Result Entry'!X23","v":0},{"$f":"'Result Entry'!Y23","v":""},{"$f":"'Result Entry'!Z23","v":0},{"$f":"'Result Entry'!AA23","v":0},{"$f":"'Result Entry'!AB23","v":0},{"$f":"'Result Entry'!AC23","v":0},{"$f":"'Result Entry'!AD23","v":0},{"$f":"'Result Entry'!AE23","v":0},{"$f":"'Result Entry'!AF23","v":0},{"$f":"'Result Entry'!AG23","v":0},{"$f":"'Result Entry'!AH23","v":0},{"$f":"'Result Entry'!AI23","v":0},{"$f":"'Result Entry'!AJ23","v":0},{"$f":"'Result Entry'!AK23","v":0},{"$f":"'Result Entry'!AL23","v":0},{"$f":"'Result Entry'!AM23","v":0},{"$f":"'Result Entry'!AN23","v":""},{"$f":"'Result Entry'!AO23","v":0},{"$f":"'Result Entry'!AP23","v":0},{"$f":"'Result Entry'!AQ23","v":0},{"$f":"'Result Entry'!AR23","v":0},{"$f":"'Result Entry'!AS23","v":0},{"$f":"'Result Entry'!AT23","v":0},{"$f":"'Result Entry'!AU23","v":0},{"$f":"'Result Entry'!AV23","v":0},{"$f":"'Result Entry'!AW23","v":0},{"$f":"'Result Entry'!AX23","v":0},{"$f":"'Result Entry'!AY23","v":0},{"$f":"'Result Entry'!AZ23","v":0},{"$f":"'Result Entry'!BA23","v":0},{"$f":"'Result Entry'!BB23","v":0},{"$f":"'Result Entry'!BC23","v":""},{"$f":"'Result Entry'!BD23","v":0},{"$f":"'Result Entry'!BE23","v":0},{"$f":"'Result Entry'!BF23","v":0},{"$f":"'Result Entry'!BG23","v":0},{"$f":"'Result Entry'!BH23","v":0},{"$f":"'Result Entry'!BI23","v":0},{"$f":"'Result Entry'!BJ23","v":0},{"$f":"'Result Entry'!BK23","v":0},{"$f":"'Result Entry'!BL23","v":0},{"$f":"'Result Entry'!BM23","v":0},{"$f":"'Result Entry'!BN23","v":0},{"$f":"'Result Entry'!BO23","v":0},{"$f":"'Result Entry'!BP23","v":0},{"$f":"'Result Entry'!BQ23","v":0},{"$f":"'Result Entry'!BR23","v":""},{"$f":"'Result Entry'!BS23","v":0},{"$f":"'Result Entry'!BT23","v":0},{"$f":"'Result Entry'!BU23","v":0},{"$f":"'Result Entry'!BV23","v":0},{"$f":"'Result Entry'!BW23","v":0},{"$f":"'Result Entry'!BX23","v":0},{"$f":"'Result Entry'!BY23","v":0},{"$f":"'Result Entry'!BZ23","v":0},{"$f":"'Result Entry'!CA23","v":0},{"$f":"'Result Entry'!CB23","v":0},{"$f":"'Result Entry'!CC23","v":0},{"$f":"'Result Entry'!CD23","v":0},{"$f":"'Result Entry'!CE23","v":0},{"$f":"'Result Entry'!CF23","v":0},{"$f":"'Result Entry'!CG23","v":""},{"$f":"'Result Entry'!CH23","v":0},{"$f":"'Result Entry'!CI23","v":0},{"$f":"'Result Entry'!CJ23","v":0},{"$f":"'Result Entry'!CK23","v":0},{"$f":"'Result Entry'!CL23","v":0},{"$f":"'Result Entry'!CM23","v":0},{"$f":"'Result Entry'!CN23","v":0},{"$f":"'Result Entry'!CO23","v":""},{"$f":"'Result Entry'!CP23","v":0},{"$f":"'Result Entry'!CQ23","v":0},{"$f":"'Result Entry'!CR23","v":0},{"$f":"'Result Entry'!CS23","v":0},{"$f":"'Result Entry'!CT23","v":0},{"$f":"'Result Entry'!CU23","v":0},{"$f":"'Result Entry'!CV23","v":0},{"$f":"'Result Entry'!CW23","v":""},{"$f":"'Result Entry'!CX23","v":0},{"$f":"'Result Entry'!CY23","v":0},{"$f":"'Result Entry'!CZ23","v":0},{"$f":"'Result Entry'!DA23","v":0},{"$f":"'Result Entry'!DB23","v":0},{"$f":"'Result Entry'!DC23","v":0},{"$f":"'Result Entry'!DD23","v":0},{"$f":"'Result Entry'!DE23","v":""},{"$f":"'Result Entry'!DF23","v":0},{"$f":"'Result Entry'!DG23","v":0},{"$f":"'Result Entry'!DH23","v":0},{"$f":"'Result Entry'!DI23","v":0},{"$f":"'Result Entry'!DJ23","v":0},{"$f":"'Result Entry'!DK23","v":0},{"$f":"'Result Entry'!DL23","v":""},{"$f":"'Result Entry'!DM23","v":""},{"$f":"'Result Entry'!DN23","v":0},{"$f":"'Result Entry'!DO23","v":0},{"$f":"'Result Entry'!DP23","v":""},{"$f":"'Result Entry'!DQ23","v":900},{"$f":"'Result Entry'!DR23","v":0},{"$f":"'Result Entry'!DS23","v":{"v":0,"d":"0.00"}},{"$f":"'Result Entry'!DT23","v":""},{"$f":"'Result Entry'!DU23","v":""},{"$f":"'Result Entry'!DV23","v":""},{"$f":"'Result Entry'!DW23","v":""}]
[null,0,{"$f":"'Result Entry'!D24","v":0},{"$f":"'Result Entry'!E24","v":0},{"$f":"'Result Entry'!F24","v":0},{"$f":"'Result Entry'!G24","v":0},{"$f":"'Result Entry'!H24","v":0},{"$f":"'Result Entry'!I24","v":0},{"$f":"'Result Entry'!J24","v":"00:00:00"},{"$f":"'Result Entry'!K24","v":0},{"$f":"'Result Entry'!L24","v":0},{"$f":"'Result Entry'!M24","v":0},{"$f":"'Result Entry'!N24","v":0},{"$f":"'Result Entry'!O24","v":0},{"$f":"'Result Entry'!P24","v":0},{"$f":"'Result Entry'!Q24","v":0},{"$f":"'Result Entry'!R24","v":0},{"$f":"'Result Entry'!S24","v":0},{"$f":"'Result Entry'!T24","v":0},{"$f":"'Result Entry'!U24","v":0},{"$f":"'Result Entry'!V24","v":0},{"$f":"'Result Entry'!W24","v":0},{"$f":"'Result Entry'!X24","v":0},{"$f":"'Result Entry'!Y24","v":""},{"$f":"'Result Entry'!Z24","v":0},{"$f":"'Result Entry'!AA24","v":0},{"$f":"'Result Entry'!AB24","v":0},{"$f":"'Result Entry'!AC24","v":0},{"$f":"'Result Entry'!AD24","v":0},{"$f":"'Result Entry'!AE24","v":0},{"$f":"'Result Entry'!AF24","v":0},{"$f":"'Result Entry'!AG24","v":0},{"$f":"'Result Entry'!AH24","v":0},{"$f":"'Result Entry'!AI24","v":0},{"$f":"'Result Entry'!AJ24","v":0},{"$f":"'Result Entry'!AK24","v":0},{"$f":"'Result Entry'!AL24","v":0},{"$f":"'Result Entry'!AM24","v":0},{"$f":"'Result Entry'!AN24","v":""},{"$f":"'Result Entry'!AO24","v":0},{"$f":"'Result Entry'!AP24","v":0},{"$f":"'Result Entry'!AQ24","v":0},{"$f":"'Result Entry'!AR24","v":0},{"$f":"'Result Entry'!AS24","v":0},{"$f":"'Result Entry'!AT24","v":0},{"$f":"'Result Entry'!AU24","v":0},{"$f":"'Result Entry'!AV24","v":0},{"$f":"'Result Entry'!AW24","v":0},{"$f":"'Result Entry'!AX24","v":0},{"$f":"'Result Entry'!AY24","v":0},{"$f":"'Result Entry'!AZ24","v":0},{"$f":"'Result Entry'!BA24","v":0},{"$f":"'Result Entry'!BB24","v":0},{"$f":"'Result Entry'!BC24","v":""},{"$f":"'Result Entry'!BD24","v":0},{"$f":"'Result Entry'!BE24","v":0},{"$f":"'Result Entry'!BF24","v":0},{"$f":"'Result Entry'!BG24","v":0},{"$f":"'Result Entry'!BH24","v":0},{"$f":"'Result Entry'!BI24","v":0},{"$f":"'Result Entry'!BJ24","v":0},{"$f":"'Result Entry'!BK24","v":0},{"$f":"'Result Entry'!BL24","v":0},{"$f":"'Result Entry'!BM24","v":0},{"$f":"'Result Entry'!BN24","v":0},{"$f":"'Result Entry'!BO24","v":0},{"$f":"'Result Entry'!BP24","v":0},{"$f":"'Result Entry'!BQ24","v":0},{"$f":"'Result Entry'!BR24","v":""},{"$f":"'Result Entry'!BS24","v":0},{"$f":"'Result Entry'!BT24","v":0},{"$f":"'Result Entry'!BU24","v":0},{"$f":"'Result Entry'!BV24","v":0},{"$f":"'Result Entry'!BW24","v":0},{"$f":"'Result Entry'!BX24","v":0},{"$f":"'Result Entry'!BY24","v":0},{"$f":"'Result Entry'!BZ24","v":0},{"$f":"'Result Entry'!CA24","v":0},{"$f":"'Result Entry'!CB24","v":0},{"$f":"'Result Entry'!CC24","v":0},{"$f":"'Result Entry'!CD24","v":0},{"$f":"'Result Entry'!CE24","v":0},{"$f":"'Result Entry'!CF24","v":0},{"$f":"'Result Entry'!CG24","v":""},{"$f":"'Result Entry'!CH24","v":0},{"$f":"'Result Entry'!CI24","v":0},{"$f":"'Result Entry'!CJ24","v":0},{"$f":"'Result Entry'!CK24","v":0},{"$f":"'Result Entry'!CL24","v":0},{"$f":"'Result Entry'!CM24","v":0},{"$f":"'Result Entry'!CN24","v":0},{"$f":"'Result Entry'!CO24","v":""},{"$f":"'Result Entry'!CP24","v":0},{"$f":"'Result Entry'!CQ24","v":0},{"$f":"'Result Entry'!CR24","v":0},{"$f":"'Result Entry'!CS24","v":0},{"$f":"'Result Entry'!CT24","v":0},{"$f":"'Result Entry'!CU24","v":0},{"$f":"'Result Entry'!CV24","v":0},{"$f":"'Result Entry'!CW24","v":""},{"$f":"'Result Entry'!CX24","v":0},{"$f":"'Result Entry'!CY24","v":0},{"$f":"'Result Entry'!CZ24","v":0},{"$f":"'Result Entry'!DA24","v":0},{"$f":"'Result Entry'!DB24","v":0},{"$f":"'Result Entry'!DC24","v":0},{"$f":"'Result Entry'!DD24","v":0},{"$f":"'Result Entry'!DE24","v":""},{"$f":"'Result Entry'!DF24","v":0},{"$f":"'Result Entry'!DG24","v":0},{"$f":"'Result Entry'!DH24","v":0},{"$f":"'Result Entry'!DI24","v":0},{"$f":"'Result Entry'!DJ24","v":0},{"$f":"'Result Entry'!DK24","v":0},{"$f":"'Result Entry'!DL24","v":""},{"$f":"'Result Entry'!DM24","v":""},{"$f":"'Result Entry'!DN24","v":0},{"$f":"'Result Entry'!DO24","v":0},{"$f":"'Result Entry'!DP24","v":""},{"$f":"'Result Entry'!DQ24","v":900},{"$f":"'Result Entry'!DR24","v":0},{"$f":"'Result Entry'!DS24","v":{"v":0,"d":"0.00"}},{"$f":"'Result Entry'!DT24","v":""},{"$f":"'Result Entry'!DU24","v":""},{"$f":"'Result Entry'!DV24","v":""},{"$f":"'Result Entry'!DW24","v":""}]
[null,0,{"$f":"'Result Entry'!D25","v":0},{"$f":"'Result Entry'!E25","v":0},{"$f":"'Result Entry'!F25","v":0},{"$f":"'Result Entry'!G25","v":0},{"$f":"'Result Entry'!H25","v":0},{"$f":"'Result Entry'!I25","v":0},{"$f":"'Result Entry'!J25","v":"00:00:00"},{"$f":"'Result Entry'!K25","v":0},{"$f":"'Result Entry'!L25","v":0},{"$f":"'Result Entry'!M25","v":0},{"$f":"'Result Entry'!N25","v":0},{"$f":"'Result Entry'!O25","v":0},{"$f":"'Result Entry'!P25","v":0},{"$f":"'Result Entry'!Q25","v":0},{"$f":"'Result Entry'!R25","v":0},{"$f":"'Result Entry'!S25","v":0},{"$f":"'Result Entry'!T25","v":0},{"$f":"'Result Entry'!U25","v":0},{"$f":"'Result Entry'!V25","v":0},{"$f":"'Result Entry'!W25","v":0},{"$f":"'Result Entry'!X25","v":0},{"$f":"'Result Entry'!Y25","v":""},{"$f":"'Result Entry'!Z25","v":0},{"$f":"'Result Entry'!AA25","v":0},{"$f":"'Result Entry'!AB25","v":0},{"$f":"'Result Entry'!AC25","v":0},{"$f":"'Result Entry'!AD25","v":0},{"$f":"'Result Entry'!AE25","v":0},{"$f":"'Result Entry'!AF25","v":0},{"$f":"'Result Entry'!AG25","v":0},{"$f":"'Result Entry'!AH25","v":0},{"$f":"'Result Entry'!AI25","v":0},{"$f":"'Result Entry'!AJ25","v":0},{"$f":"'Result Entry'!AK25","v":0},{"$f":"'Result Entry'!AL25","v":0},{"$f":"'Result Entry'!AM25","v":0},{"$f":"'Result Entry'!AN25","v":""},{"$f":"'Result Entry'!AO25","v":0},{"$f":"'Result Entry'!AP25","v":0},{"$f":"'Result Entry'!AQ25","v":0},{"$f":"'Result Entry'!AR25","v":0},{"$f":"'Result Entry'!AS25","v":0},{"$f":"'Result Entry'!AT25","v":0},{"$f":"'Result Entry'!AU25","v":0},{"$f":"'Result Entry'!AV25","v":0},{"$f":"'Result Entry'!AW25","v":0},{"$f":"'Result Entry'!AX25","v":0},{"$f":"'Result Entry'!AY25","v":0},{"$f":"'Result Entry'!AZ25","v":0},{"$f":"'Result Entry'!BA25","v":0},{"$f":"'Result Entry'!BB25","v":0},{"$f":"'Result Entry'!BC25","v":""},{"$f":"'Result Entry'!BD25","v":0},{"$f":"'Result Entry'!BE25","v":0},{"$f":"'Result Entry'!BF25","v":0},{"$f":"'Result Entry'!BG25","v":0},{"$f":"'Result Entry'!BH25","v":0},{"$f":"'Result Entry'!BI25","v":0},{"$f":"'Result Entry'!BJ25","v":0},{"$f":"'Result Entry'!BK25","v":0},{"$f":"'Result Entry'!BL25","v":0},{"$f":"'Result Entry'!BM25","v":0},{"$f":"'Result Entry'!BN25","v":0},{"$f":"'Result Entry'!BO25","v":0},{"$f":"'Result Entry'!BP25","v":0},{"$f":"'Result Entry'!BQ25","v":0},{"$f":"'Result Entry'!BR25","v":""},{"$f":"'Result Entry'!BS25","v":0},{"$f":"'Result Entry'!BT25","v":0},{"$f":"'Result Entry'!BU25","v":0},{"$f":"'Result Entry'!BV25","v":0},{"$f":"'Result Entry'!BW25","v":0},{"$f":"'Result Entry'!BX25","v":0},{"$f":"'Result Entry'!BY25","v":0},{"$f":"'Result Entry'!BZ25","v":0},{"$f":"'Result Entry'!CA25","v":0},{"$f":"'Result Entry'!CB25","v":0},{"$f":"'Result Entry'!CC25","v":0},{"$f":"'Result Entry'!CD25","v":0},{"$f":"'Result Entry'!CE25","v":0},{"$f":"'Result Entry'!CF25","v":0},{"$f":"'Result Entry'!CG25","v":""},{"$f":"'Result Entry'!CH25","v":0},{"$f":"'Result Entry'!CI25","v":0},{"$f":"'Result Entry'!CJ25","v":0},{"$f":"'Result Entry'!CK25","v":0},{"$f":"'Result Entry'!CL25","v":0},{"$f":"'Result Entry'!CM25","v":0},{"$f":"'Result Entry'!CN25","v":0},{"$f":"'Result Entry'!CO25","v":""},{"$f":"'Result Entry'!CP25","v":0},{"$f":"'Result Entry'!CQ25","v":0},{"$f":"'Result Entry'!CR25","v":0},{"$f":"'Result Entry'!CS25","v":0},{"$f":"'Result Entry'!CT25","v":0},{"$f":"'Result Entry'!CU25","v":0},{"$f":"'Result Entry'!CV25","v":0},{"$f":"'Result Entry'!CW25","v":""},{"$f":"'Result Entry'!CX25","v":0},{"$f":"'Result Entry'!CY25","v":0},{"$f":"'Result Entry'!CZ25","v":0},{"$f":"'Result Entry'!DA25","v":0},{"$f":"'Result Entry'!DB25","v":0},{"$f":"'Result Entry'!DC25","v":0},{"$f":"'Result Entry'!DD25","v":0},{"$f":"'Result Entry'!DE25","v":""},{"$f":"'Result Entry'!DF25","v":0},{"$f":"'Result Entry'!DG25","v":0},{"$f":"'Result Entry'!DH25","v":0},{"$f":"'Result Entry'!DI25","v":0},{"$f":"'Result Entry'!DJ25","v":0},{"$f":"'Result Entry'!DK25","v":0},{"$f":"'Result Entry'!DL25","v":""},{"$f":"'Result Entry'!DM25","v":""},{"$f":"'Result Entry'!DN25","v":0},{"$f":"'Result Entry'!DO25","v":0},{"$f":"'Result Entry'!DP25","v":""},{"$f":"'Result Entry'!DQ25","v":900},{"$f":"'Result Entry'!DR25","v":0},{"$f":"'Result Entry'!DS25","v":{"v":0,"d":"0.00"}},{"$f":"'Result Entry'!DT25","v":""},{"$f":"'Result Entry'!DU25","v":""},{"$f":"'Result Entry'!DV25","v":""},{"$f":"'Result Entry'!DW25","v":""}]
[null,0,{"$f":"'Result Entry'!D26","v":0},{"$f":"'Result Entry'!E26","v":0},{"$f":"'Result Entry'!F26","v":0},{"$f":"'Result Entry'!G26","v":0},{"$f":"'Result Entry'!H26","v":0},{"$f":"'Result Entry'!I26","v":0},{"$f":"'Result Entry'!J26","v":"00:00:00"},{"$f":"'Result Entry'!K26","v":0},{"$f":"'Result Entry'!L26","v":0},{"$f":"'Result Entry'!M26","v":0},{"$f":"'Result Entry'!N26","v":0},{"$f":"'Result Entry'!O26","v":0},{"$f":"'Result Entry'!P26","v":0},{"$f":"'Result Entry'!Q26","v":0},{"$f":"'Result Entry'!R26","v":0},{"$f":"'Result Entry'!S26","v":0},{"$f":"'Result Entry'!T26","v":0},{"$f":"'Result Entry'!U26","v":0},{"$f":"'Result Entry'!V26","v":0},{"$f":"'Result Entry'!W26","v":0},{"$f":"'Result Entry'!X26","v":0},{"$f":"'Result Entry'!Y26","v":""},{"$f":"'Result Entry'!Z26","v":0},{"$f":"'Result Entry'!AA26","v":0},{"$f":"'Result Entry'!AB26","v":0},{"$f":"'Result Entry'!AC26","v":0},{"$f":"'Result Entry'!AD26","v":0},{"$f":"'Result Entry'!AE26","v":0},{"$f":"'Result Entry'!AF26","v":0},{"$f":"'Result Entry'!AG26","v":0},{"$f":"'Result Entry'!AH26","v":0},{"$f":"'Result Entry'!AI26","v":0},{"$f":"'Result Entry'!AJ26","v":0},{"$f":"'Result Entry'!AK26","v":0},{"$f":"'Result Entry'!AL26","v":0},{"$f":"'Result Entry'!AM26","v":0},{"$f":"'Result Entry'!AN26","v":""},{"$f":"'Result Entry'!AO26","v":0},{"$f":"'Result Entry'!AP26","v":0},{"$f":"'Result Entry'!AQ26","v":0},{"$f":"'Result Entry'!AR26","v":0},{"$f":"'Result Entry'!AS26","v":0},{"$f":"'Result Entry'!AT26","v":0},{"$f":"'Result Entry'!AU26","v":0},{"$f":"'Result Entry'!AV26","v":0},{"$f":"'Result Entry'!AW26","v":0},{"$f":"'Result Entry'!AX26","v":0},{"$f":"'Result Entry'!AY26","v":0},{"$f":"'Result Entry'!AZ26","v":0},{"$f":"'Result Entry'!BA26","v":0},{"$f":"'Result Entry'!BB26","v":0},{"$f":"'Result Entry'!BC26","v":""},{"$f":"'Result Entry'!BD26","v":0},{"$f":"'Result Entry'!BE26","v":0},{"$f":"'Result Entry'!BF26","v":0},{"$f":"'Result Entry'!BG26","v":0},{"$f":"'Result Entry'!BH26","v":0},{"$f":"'Result Entry'!BI26","v":0},{"$f":"'Result Entry'!BJ26","v":0},{"$f":"'Result Entry'!BK26","v":0},{"$f":"'Result Entry'!BL26","v":0},{"$f":"'Result Entry'!BM26","v":0},{"$f":"'Result Entry'!BN26","v":0},{"$f":"'Result Entry'!BO26","v":0},{"$f":"'Result Entry'!BP26","v":0},{"$f":"'Result Entry'!BQ26","v":0},{"$f":"'Result Entry'!BR26","v":""},{"$f":"'Result Entry'!BS26","v":0},{"$f":"'Result Entry'!BT26","v":0},{"$f":"'Result Entry'!BU26","v":0},{"$f":"'Result Entry'!BV26","v":0},{"$f":"'Result Entry'!BW26","v":0},{"$f":"'Result Entry'!BX26","v":0},{"$f":"'Result Entry'!BY26","v":0},{"$f":"'Result Entry'!BZ26","v":0},{"$f":"'Result Entry'!CA26","v":0},{"$f":"'Result Entry'!CB26","v":0},{"$f":"'Result Entry'!CC26","v":0},{"$f":"'Result Entry'!CD26","v":0},{"$f":"'Result Entry'!CE26","v":0},{"$f":"'Result Entry'!CF26","v":0},{"$f":"'Result Entry'!CG26","v":""},{"$f":"'Result Entry'!CH26","v":0},{"$f":"'Result Entry'!CI26","v":0},{"$f":"'Result Entry'!CJ26","v":0},{"$f":"'Result Entry'!CK26","v":0},{"$f":"'Result Entry'!CL26","v":0},{"$f":"'Result Entry'!CM26","v":0},{"$f":"'Result Entry'!CN26","v":0},{"$f":"'Result Entry'!CO26","v":""},{"$f":"'Result Entry'!CP26","v":0},{"$f":"'Result Entry'!CQ26","v":0},{"$f":"'Result Entry'!CR26","v":0},{"$f":"'Result Entry'!CS26","v":0},{"$f":"'Result Entry'!CT26","v":0},{"$f":"'Result Entry'!CU26","v":0},{"$f":"'Result Entry'!CV26","v":0},{"$f":"'Result Entry'!CW26","v":""},{"$f":"'Result Entry'!CX26","v":0},{"$f":"'Result Entry'!CY26","v":0},{"$f":"'Result Entry'!CZ26","v":0},{"$f":"'Result Entry'!DA26","v":0},{"$f":"'Result Entry'!DB26","v":0},{"$f":"'Result Entry'!DC26","v":0},{"$f":"'Result Entry'!DD26","v":0},{"$f":"'Result Entry'!DE26","v":""},{"$f":"'Result Entry'!DF26","v":0},{"$f":"'Result Entry'!DG26","v":0},{"$f":"'Result Entry'!DH26","v":0},{"$f":"'Result Entry'!DI26","v":0},{"$f":"'Result Entry'!DJ26","v":0},{"$f":"'Result Entry'!DK26","v":0},{"$f":"'Result Entry'!DL26","v":""},{"$f":"'Result Entry'!DM26","v":""},{"$f":"'Result Entry'!DN26","v":0},{"$f":"'Result Entry'!DO26","v":0},{"$f":"'Result Entry'!DP26","v":""},{"$f":"'Result Entry'!DQ26","v":900},{"$f":"'Result Entry'!DR26","v":0},{"$f":"'Result Entry'!DS26","v":{"v":0,"d":"0.00"}},{"$f":"'Result Entry'!DT26","v":""},{"$f":"'Result Entry'!DU26","v":""},{"$f":"'Result Entry'!DV26","v":""},{"$f":"'Result Entry'!DW26","v":""}]
[null,0,{"$f":"'Result Entry'!D27","v":0},{"$f":"'Result Entry'!E27","v":0},{"$f":"'Result Entry'!F27","v":0},{"$f":"'Result Entry'!G27","v":0},{"$f":"'Result Entry'!H27","v":0},{"$f":"'Result Entry'!I27","v":0},{"$f":"'Result Entry'!J27","v":"00:00:00"},{"$f":"'Result Entry'!K27","v":0},{"$f":"'Result Entry'!L27","v":0},{"$f":"'Result Entry'!M27","v":0},{"$f":"'Result Entry'!N27","v":0},{"$f":"'Result Entry'!O27","v":0},{"$f":"'Result Entry'!P27","v":0},{"$f":"'Result Entry'!Q27","v":0},{"$f":"'Result Entry'!R27","v":0},{"$f":"'Result Entry'!S27","v":0},{"$f":"'Result Entry'!T27","v":0},{"$f":"'Result Entry'!U27","v":0},{"$f":"'Result Entry'!V27","v":0},{"$f":"'Result Entry'!W27","v":0},{"$f":"'Result Entry'!X27","v":0},{"$f":"'Result Entry'!Y27","v":""},{"$f":"'Result Entry'!Z27","v":0},{"$f":"'Result Entry'!AA27","v":0},{"$f":"'Result Entry'!AB27","v":0},{"$f":"'Result Entry'!AC27","v":0},{"$f":"'Result Entry'!AD27","v":0},{"$f":"'Result Entry'!AE27","v":0},{"$f":"'Result Entry'!AF27","v":0},{"$f":"'Result Entry'!AG27","v":0},{"$f":"'Result Entry'!AH27","v":0},{"$f":"'Result Entry'!AI27","v":0},{"$f":"'Result Entry'!AJ27","v":0},{"$f":"'Result Entry'!AK27","v":0},{"$f":"'Result Entry'!AL27","v":0},{"$f":"'Result Entry'!AM27","v":0},{"$f":"'Result Entry'!AN27","v":""},{"$f":"'Result Entry'!AO27","v":0},{"$f":"'Result Entry'!AP27","v":0},{"$f":"'Result Entry'!AQ27","v":0},{"$f":"'Result Entry'!AR27","v":0},{"$f":"'Result Entry'!AS27","v":0},{"$f":"'Result Entry'!AT27","v":0},{"$f":"'Result Entry'!AU27","v":0},{"$f":"'Result Entry'!AV27","v":0},{"$f":"'Result Entry'!AW27","v":0},{"$f":"'Result Entry'!AX27","v":0},{"$f":"'Result Entry'!AY27","v":0},{"$f":"'Result Entry'!AZ27","v":0},{"$f":"'Result Entry'!BA27","v":0},{"$f":"'Result Entry'!BB27","v":0},{"$f":"'Result Entry'!BC27","v":""},{"$f":"'Result Entry'!BD27","v":0},{"$f":"'Result Entry'!BE27","v":0},{"$f":"'Result Entry'!BF27","v":0},{"$f":"'Result Entry'!BG27","v":0},{"$f":"'Result Entry'!BH27","v":0},{"$f":"'Result Entry'!BI27","v":0},{"$f":"'Result Entry'!BJ27","v":0},{"$f":"'Result Entry'!BK27","v":0},{"$f":"'Result Entry'!BL27","v":0},{"$f":"'Result Entry'!BM27","v":0},{"$f":"'Result Entry'!BN27","v":0},{"$f":"'Result Entry'!BO27","v":0},{"$f":"'Result Entry'!BP27","v":0},{"$f":"'Result Entry'!BQ27","v":0},{"$f":"'Result Entry'!BR27","v":""},{"$f":"'Result Entry'!BS27","v":0},{"$f":"'Result Entry'!BT27","v":0},{"$f":"'Result Entry'!BU27","v":0},{"$f":"'Result Entry'!BV27","v":0},{"$f":"'Result Entry'!BW27","v":0},{"$f":"'Result Entry'!BX27","v":0},{"$f":"'Result Entry'!BY27","v":0},{"$f":"'Result Entry'!BZ27","v":0},{"$f":"'Result Entry'!CA27","v":0},{"$f":"'Result Entry'!CB27","v":0},{"$f":"'Result Entry'!CC27","v":0},{"$f":"'Result Entry'!CD27","v":0},{"$f":"'Result Entry'!CE27","v":0},{"$f":"'Result Entry'!CF27","v":0},{"$f":"'Result Entry'!CG27","v":""},{"$f":"'Result Entry'!CH27","v":0},{"$f":"'Result Entry'!CI27","v":0},{"$f":"'Result Entry'!CJ27","v":0},{"$f":"'Result Entry'!CK27","v":0},{"$f":"'Result Entry'!CL27","v":0},{"$f":"'Result Entry'!CM27","v":0},{"$f":"'Result Entry'!CN27","v":0},{"$f":"'Result Entry'!CO27","v":""},{"$f":"'Result Entry'!CP27","v":0},{"$f":"'Result Entry'!CQ27","v":0},{"$f":"'Result Entry'!CR27","v":0},{"$f":"'Result Entry'!CS27","v":0},{"$f":"'Result Entry'!CT27","v":0},{"$f":"'Result Entry'!CU27","v":0},{"$f":"'Result Entry'!CV27","v":0},{"$f":"'Result Entry'!CW27","v":""},{"$f":"'Result Entry'!CX27","v":0},{"$f":"'Result Entry'!CY27","v":0},{"$f":"'Result Entry'!CZ27","v":0},{"$f":"'Result Entry'!DA27","v":0},{"$f":"'Result Entry'!DB27","v":0},{"$f":"'Result Entry'!DC27","v":0},{"$f":"'Result Entry'!DD27","v":0},{"$f":"'Result Entry'!DE27","v":""},{"$f":"'Result Entry'!DF27","v":0},{"$f":"'Result Entry'!DG27","v":0},{"$f":"'Result Entry'!DH27","v":0},{"$f":"'Result Entry'!DI27","v":0},{"$f":"'Result Entry'!DJ27","v":0},{"$f":"'Result Entry'!DK27","v":0},{"$f":"'Result Entry'!DL27","v":""},{"$f":"'Result Entry'!DM27","v":""},{"$f":"'Result Entry'!DN27","v":0},{"$f":"'Result Entry'!DO27","v":0},{"$f":"'Result Entry'!DP27","v":""},{"$f":"'Result Entry'!DQ27","v":900},{"$f":"'Result Entry'!DR27","v":0},{"$f":"'Result Entry'!DS27","v":{"v":0,"d":"0.00"}},{"$f":"'Result Entry'!DT27","v":""},{"$f":"'Result Entry'!DU27","v":""},{"$f":"'Result Entry'!DV27","v":""},{"$f":"'Result Entry'!DW27","v":""}]
[null,0,{"$f":"'Result Entry'!D28","v":0},{"$f":"'Result Entry'!E28","v":0},{"$f":"'Result Entry'!F28","v":0},{"$f":"'Result Entry'!G28","v":0},{"$f":"'Result Entry'!H28","v":0},{"$f":"'Result Entry'!I28","v":0},{"$f":"'Result Entry'!J28","v":"00:00:00"},{"$f":"'Result Entry'!K28","v":0},{"$f":"'Result Entry'!L28","v":0},{"$f":"'Result Entry'!M28","v":0},{"$f":"'Result Entry'!N28","v":0},{"$f":"'Result Entry'!O28","v":0},{"$f":"'Result Entry'!P28","v":0},{"$f":"'Result Entry'!Q28","v":0},{"$f":"'Result Entry'!R28","v":0},{"$f":"'Result Entry'!S28","v":0},{"$f":"'Result Entry'!T28","v":0},{"$f":"'Result Entry'!U28","v":0},{"$f":"'Result Entry'!V28","v":0},{"$f":"'Result Entry'!W28","v":0},{"$f":"'Result Entry'!X28","v":0},{"$f":"'Result Entry'!Y28","v":""},{"$f":"'Result Entry'!Z28","v":0},{"$f":"'Result Entry'!AA28","v":0},{"$f":"'Result Entry'!AB28","v":0},{"$f":"'Result Entry'!AC28","v":0},{"$f":"'Result Entry'!AD28","v":0},{"$f":"'Result Entry'!AE28","v":0},{"$f":"'Result Entry'!AF28","v":0},{"$f":"'Result Entry'!AG28","v":0},{"$f":"'Result Entry'!AH28","v":0},{"$f":"'Result Entry'!AI28","v":0},{"$f":"'Result Entry'!AJ28","v":0},{"$f":"'Result Entry'!AK28","v":0},{"$f":"'Result Entry'!AL28","v":0},{"$f":"'Result Entry'!AM28","v":0},{"$f":"'Result Entry'!AN28","v":""},{"$f":"'Result Entry'!AO28","v":0},{"$f":"'Result Entry'!AP28","v":0},{"$f":"'Result Entry'!AQ28","v":0},{"$f":"'Result Entry'!AR28","v":0},{"$f":"'Result Entry'!AS28","v":0},{"$f":"'Result Entry'!AT28","v":0},{"$f":"'Result Entry'!AU28","v":0},{"$f":"'Result Entry'!AV28","v":0},{"$f":"'Result Entry'!AW28","v":0},{"$f":"'Result Entry'!AX28","v":0},{"$f":"'Result Entry'!AY28","v":0},{"$f":"'Result Entry'!AZ28","v":0},{"$f":"'Result Entry'!BA28","v":0},{"$f":"'Result Entry'!BB28","v":0},{"$f":"'Result Entry'!BC28","v":""},{"$f":"'Result Entry'!BD28","v":0},{"$f":"'Result Entry'!BE28","v":0},{"$f":"'Result Entry'!BF28","v":0},{"$f":"'Result Entry'!BG28","v":0},{"$f":"'Result Entry'!BH28","v":0},{"$f":"'Result Entry'!BI28","v":0},{"$f":"'Result Entry'!BJ28","v":0},{"$f":"'Result Entry'!BK28","v":0},{"$f":"'Result Entry'!BL28","v":0},{"$f":"'Result Entry'!BM28","v":0},{"$f":"'Result Entry'!BN28","v":0},{"$f":"'Result Entry'!BO28","v":0},{"$f":"'Result Entry'!BP28","v":0},{"$f":"'Result Entry'!BQ28","v":0},{"$f":"'Result Entry'!BR28","v":""},{"$f":"'Result Entry'!BS28","v":0},{"$f":"'Result Entry'!BT28","v":0},{"$f":"'Result Entry'!BU28","v":0},{"$f":"'Result Entry'!BV28","v":0},{"$f":"'Result Entry'!BW28","v":0},{"$f":"'Result Entry'!BX28","v":0},{"$f":"'Result Entry'!BY28","v":0},{"$f":"'Result Entry'!BZ28","v":0},{"$f":"'Result Entry'!CA28","v":0},{"$f":"'Result Entry'!CB28","v":0},{"$f":"'Result Entry'!CC28","v":0},{"$f":"'Result Entry'!CD28","v":0},{"$f":"'Result Entry'!CE28","v":0},{"$f":"'Result Entry'!CF28","v":0},{"$f":"'Result Entry'!CG28","v":""},{"$f":"'Result Entry'!CH28","v":0},{"$f":"'Result Entry'!CI28","v":0},{"$f":"'Result Entry'!CJ28","v":0},{"$f":"'Result Entry'!CK28","v":0},{"$f":"'Result Entry'!CL28","v":0},{"$f":"'Result Entry'!CM28","v":0},{"$f":"'Result Entry'!CN28","v":0},{"$f":"'Result Entry'!CO28","v":""},{"$f":"'Result Entry'!CP28","v":0},{"$f":"'Result Entry'!CQ28","v":0},{"$f":"'Result Entry'!CR28","v":0},{"$f":"'Result Entry'!CS28","v":0},{"$f":"'Result Entry'!CT28","v":0},{"$f":"'Result Entry'!CU28","v":0},{"$f":"'Result Entry'!CV28","v":0},{"$f":"'Result Entry'!CW28","v":""},{"$f":"'Result Entry'!CX28","v":0},{"$f":"'Result Entry'!CY28","v":0},{"$f":"'Result Entry'!CZ28","v":0},{"$f":"'Result Entry'!DA28","v":0},{"$f":"'Result Entry'!DB28","v":0},{"$f":"'Result Entry'!DC28","v":0},{"$f":"'Result Entry'!DD28","v":0},{"$f":"'Result Entry'!DE28","v":""},{"$f":"'Result Entry'!DF28","v":0},{"$f":"'Result Entry'!DG28","v":0},{"$f":"'Result Entry'!DH28","v":0},{"$f":"'Result Entry'!DI28","v":0},{"$f":"'Result Entry'!DJ28","v":0},{"$f":"'Result Entry'!DK28","v":0},{"$f":"'Result Entry'!DL28","v":""},{"$f":"'Result Entry'!DM28","v":""},{"$f":"'Result Entry'!DN28","v":0},{"$f":"'Result Entry'!DO28","v":0},{"$f":"'Result Entry'!DP28","v":""},{"$f":"'Result Entry'!DQ28","v":900},{"$f":"'Result Entry'!DR28","v":0},{"$f":"'Result Entry'!DS28","v":{"v":0,"d":"0.00"}},{"$f":"'Result Entry'!DT28","v":""},{"$f":"'Result Entry'!DU28","v":""},{"$f":"'Result Entry'!DV28","v":""},{"$f":"'Result Entry'!DW28","v":""}]
[null,0,{"$f":"'Result Entry'!D29","v":0},{"$f":"'Result Entry'!E29","v":0},{"$f":"'Result Entry'!F29","v":0},{"$f":"'Result Entry'!G29","v":0},{"$f":"'Result Entry'!H29","v":0},{"$f":"'Result Entry'!I29","v":0},{"$f":"'Result Entry'!J29","v":"00:00:00"},{"$f":"'Result Entry'!K29","v":0},{"$f":"'Result Entry'!L29","v":0},{"$f":"'Result Entry'!M29","v":0},{"$f":"'Result Entry'!N29","v":0},{"$f":"'Result Entry'!O29","v":0},{"$f":"'Result Entry'!P29","v":0},{"$f":"'Result Entry'!Q29","v":0},{"$f":"'Result Entry'!R29","v":0},{"$f":"'Result Entry'!S29","v":0},{"$f":"'Result Entry'!T29","v":0},{"$f":"'Result Entry'!U29","v":0},{"$f":"'Result Entry'!V29","v":0},{"$f":"'Result Entry'!W29","v":0},{"$f":"'Result Entry'!X29","v":0},{"$f":"'Result Entry'!Y29","v":""},{"$f":"'Result Entry'!Z29","v":0},{"$f":"'Result Entry'!AA29","v":0},{"$f":"'Result Entry'!AB29","v":0},{"$f":"'Result Entry'!AC29","v":0},{"$f":"'Result Entry'!AD29","v":0},{"$f":"'Result Entry'!AE29","v":0},{"$f":"'Result Entry'!AF29","v":0},{"$f":"'Result Entry'!AG29","v":0},{"$f":"'Result Entry'!AH29","v":0},{"$f":"'Result Entry'!AI29","v":0},{"$f":"'Result Entry'!AJ29","v":0},{"$f":"'Result Entry'!AK29","v":0},{"$f":"'Result Entry'!AL29","v":0},{"$f":"'Result Entry'!AM29","v":0},{"$f":"'Result Entry'!AN29","v":""},{"$f":"'Result Entry'!AO29","v":0},{"$f":"'Result Entry'!AP29","v":0},{"$f":"'Result Entry'!AQ29","v":0},{"$f":"'Result Entry'!AR29","v":0},{"$f":"'Result Entry'!AS29","v":0},{"$f":"'Result Entry'!AT29","v":0},{"$f":"'Result Entry'!AU29","v":0},{"$f":"'Result Entry'!AV29","v":0},{"$f":"'Result Entry'!AW29","v":0},{"$f":"'Result Entry'!AX29","v":0},{"$f":"'Result Entry'!AY29","v":0},{"$f":"'Result Entry'!AZ29","v":0},{"$f":"'Result Entry'!BA29","v":0},{"$f":"'Result Entry'!BB29","v":0},{"$f":"'Result Entry'!BC29","v":""},{"$f":"'Result Entry'!BD29","v":0},{"$f":"'Result Entry'!BE29","v":0},{"$f":"'Result Entry'!BF29","v":0},{"$f":"'Result Entry'!BG29","v":0},{"$f":"'Result Entry'!BH29","v":0},{"$f":"'Result Entry'!BI29","v":0},{"$f":"'Result Entry'!BJ29","v":0},{"$f":"'Result Entry'!BK29","v":0},{"$f":"'Result Entry'!BL29","v":0},{"$f":"'Result Entry'!BM29","v":0},{"$f":"'Result Entry'!BN29","v":0},{"$f":"'Result Entry'!BO29","v":0},{"$f":"'Result Entry'!BP29","v":0},{"$f":"'Result Entry'!BQ29","v":0},{"$f":"'Result Entry'!BR29","v":""},{"$f":"'Result Entry'!BS29","v":0},{"$f":"'Result Entry'!BT29","v":0},{"$f":"'Result Entry'!BU29","v":0},{"$f":"'Result Entry'!BV29","v":0},{"$f":"'Result Entry'!BW29","v":0},{"$f":"'Result Entry'!BX29","v":0},{"$f":"'Result Entry'!BY29","v":0},{"$f":"'Result Entry'!BZ29","v":0},{"$f":"'Result Entry'!CA29","v":0},{"$f":"'Result Entry'!CB29","v":0},{"$f":"'Result Entry'!CC29","v":0},{"$f":"'Result Entry'!CD29","v":0},{"$f":"'Result Entry'!CE29","v":0},{"$f":"'Result Entry'!CF29","v":0},{"$f":"'Result Entry'!CG29","v":""},{"$f":"'Result Entry'!CH29","v":0},{"$f":"'Result Entry'!CI29","v":0},{"$f":"'Result Entry'!CJ29","v":0},{"$f":"'Result Entry'!CK29","v":0},{"$f":"'Result Entry'!CL29","v":0},{"$f":"'Result Entry'!CM29","v":0},{"$f":"'Result Entry'!CN29","v":0},{"$f":"'Result Entry'!CO29","v":""},{"$f":"'Result Entry'!CP29","v":0},{"$f":"'Result Entry'!CQ29","v":0},{"$f":"'Result Entry'!CR29","v":0},{"$f":"'Result Entry'!CS29","v":0},{"$f":"'Result Entry'!CT29","v":0},{"$f":"'Result Entry'!CU29","v":0},{"$f":"'Result Entry'!CV29","v":0},{"$f":"'Result Entry'!CW29","v":""},{"$f":"'Result Entry'!CX29","v":0},{"$f":"'Result Entry'!CY29","v":0},{"$f":"'Result Entry'!CZ29","v":0},{"$f":"'Result Entry'!DA29","v":0},{"$f":"'Result Entry'!DB29","v":0},{"$f":"'Result Entry'!DC29","v":0},{"$f":"'Result Entry'!DD29","v":0},{"$f":"'Result Entry'!DE29","v":""},{"$f":"'Result Entry'!DF29","v":0},{"$f":"'Result Entry'!DG29","v":0},{"$f":"'Result Entry'!DH29","v":0},{"$f":"'Result Entry'!DI29","v":0},{"$f":"'Result Entry'!DJ29","v":0},{"$f":"'Result Entry'!DK29","v":0},{"$f":"'Result Entry'!DL29","v":""},{"$f":"'Result Entry'!DM29","v":""},{"$f":"'Result Entry'!DN29","v":0},{"$f":"'Result Entry'!DO29","v":0},{"$f":"'Result Entry'!DP29","v":""},{"$f":"'Result Entry'!DQ29","v":900},{"$f":"'Result Entry'!DR29","v":0},{"$f":"'Result Entry'!DS29","v":{"v":0,"d":"0.00"}},{"$f":"'Result Entry'!DT29","v":""},{"$f":"'Result Entry'!DU29","v":""},{"$f":"'Result Entry'!DV29","v":""},{"$f":"'Result Entry'!DW29","v":""}]
[null,0,{"$f":"'Result Entry'!D30","v":0},{"$f":"'Result Entry'!E30","v":0},{"$f":"'Result Entry'!F30","v":0},{"$f":"'Result Entry'!G30","v":0},{"$f":"'Result Entry'!H30","v":0},{"$f":"'Result Entry'!I30","v":0},{"$f":"'Result Entry'!J30","v":"00:00:00"},{"$f":"'Result Entry'!K30","v":0},{"$f":"'Result Entry'!L30","v":0},{"$f":"'Result Entry'!M30","v":0},{"$f":"'Result Entry'!N30","v":0},{"$f":"'Result Entry'!O30","v":0},{"$f":"'Result Entry'!P30","v":0},{"$f":"'Result Entry'!Q30","v":0},{"$f":"'Result Entry'!R30","v":0},{"$f":"'Result Entry'!S30","v":0},{"$f":"'Result Entry'!T30","v":0},{"$f":"'Result Entry'!U30","v":0},{"$f":"'Result Entry'!V30","v":0},{"$f":"'Result Entry'!W30","v":0},{"$f":"'Result Entry'!X30","v":0},{"$f":"'Result Entry'!Y30","v":""},{"$f":"'Result Entry'!Z30","v":0},{"$f":"'Result Entry'!AA30","v":0},{"$f":"'Result Entry'!AB30","v":0},{"$f":"'Result Entry'!AC30","v":0},{"$f":"'Result Entry'!AD30","v":0},{"$f":"'Result Entry'!AE30","v":0},{"$f":"'Result Entry'!AF30","v":0},{"$f":"'Result Entry'!AG30","v":0},{"$f":"'Result Entry'!AH30","v":0},{"$f":"'Result Entry'!AI30","v":0},{"$f":"'Result Entry'!AJ30","v":0},{"$f":"'Result Entry'!AK30","v":0},{"$f":"'Result Entry'!AL30","v":0},{"$f":"'Result Entry'!AM30","v":0},{"$f":"'Result Entry'!AN30","v":""},{"$f":"'Result Entry'!AO30","v":0},{"$f":"'Result Entry'!AP30","v":0},{"$f":"'Result Entry'!AQ30","v":0},{"$f":"'Result Entry'!AR30","v":0},{"$f":"'Result Entry'!AS30","v":0},{"$f":"'Result Entry'!AT30","v":0},{"$f":"'Result Entry'!AU30","v":0},{"$f":"'Result Entry'!AV30","v":0},{"$f":"'Result Entry'!AW30","v":0},{"$f":"'Result Entry'!AX30","v":0},{"$f":"'Result Entry'!AY30","v":0},{"$f":"'Result Entry'!AZ30","v":0},{"$f":"'Result Entry'!BA30","v":0},{"$f":"'Result Entry'!BB30","v":0},{"$f":"'Result Entry'!BC30","v":""},{"$f":"'Result Entry'!BD30","v":0},{"$f":"'Result Entry'!BE30","v":0},{"$f":"'Result Entry'!BF30","v":0},{"$f":"'Result Entry'!BG30","v":0},{"$f":"'Result Entry'!BH30","v":0},{"$f":"'Result Entry'!BI30","v":0},{"$f":"'Result Entry'!BJ30","v":0},{"$f":"'Result Entry'!BK30","v":0},{"$f":"'Result Entry'!BL30","v":0},{"$f":"'Result Entry'!BM30","v":0},{"$f":"'Result Entry'!BN30","v":0},{"$f":"'Result Entry'!BO30","v":0},{"$f":"'Result Entry'!BP30","v":0},{"$f":"'Result Entry'!BQ30","v":0},{"$f":"'Result Entry'!BR30","v":""},{"$f":"'Result Entry'!BS30","v":0},{"$f":"'Result Entry'!BT30","v":0},{"$f":"'Result Entry'!BU30","v":0},{"$f":"'Result Entry'!BV30","v":0},{"$f":"'Result Entry'!BW30","v":0},{"$f":"'Result Entry'!BX30","v":0},{"$f":"'Result Entry'!BY30","v":0},{"$f":"'Result Entry'!BZ30","v":0},{"$f":"'Result Entry'!CA30","v":0},{"$f":"'Result Entry'!CB30","v":0},{"$f":"'Result Entry'!CC30","v":0},{"$f":"'Result Entry'!CD30","v":0},{"$f":"'Result Entry'!CE30","v":0},{"$f":"'Result Entry'!CF30","v":0},{"$f":"'Result Entry'!CG30","v":""},{"$f":"'Result Entry'!CH30","v":0},{"$f":"'Result Entry'!CI30","v":0},{"$f":"'Result Entry'!CJ30","v":0},{"$f":"'Result Entry'!CK30","v":0},{"$f":"'Result Entry'!CL30","v":0},{"$f":"'Result Entry'!CM30","v":0},{"$f":"'Result Entry'!CN30","v":0},{"$f":"'Result Entry'!CO30","v":""},{"$f":"'Result Entry'!CP30","v":0},{"$f":"'Result Entry'!CQ30","v":0},{"$f":"'Result Entry'!CR30","v":0},{"$f":"'Result Entry'!CS30","v":0},{"$f":"'Result Entry'!CT30","v":0},{"$f":"'Result Entry'!CU30","v":0},{"$f":"'Result Entry'!CV30","v":0},{"$f":"'Result Entry'!CW30","v":""},{"$f":"'Result Entry'!CX30","v":0},{"$f":"'Result Entry'!CY30","v":0},{"$f":"'Result Entry'!CZ30","v":0},{"$f":"'Result Entry'!DA30","v":0},{"$f":"'Result Entry'!DB30","v":0},{"$f":"'Result Entry'!DC30","v":0},{"$f":"'Result Entry'!DD30","v":0},{"$f":"'Result Entry'!DE30","v":""},{"$f":"'Result Entry'!DF30","v":0},{"$f":"'Result Entry'!DG30","v":0},{"$f":"'Result Entry'!DH30","v":0},{"$f":"'Result Entry'!DI30","v":0},{"$f":"'Result Entry'!DJ30","v":0},{"$f":"'Result Entry'!DK30","v":0},{"$f":"'Result Entry'!DL30","v":""},{"$f":"'Result Entry'!DM30","v":""},{"$f":"'Result Entry'!DN30","v":0},{"$f":"'Result Entry'!DO30","v":0},{"$f":"'Result Entry'!DP30","v":""},{"$f":"'Result Entry'!DQ30","v":900},{"$f":"'Result Entry'!DR30","v":0},{"$f":"'Result Entry'!DS30","v":{"v":0,"d":"0.00"}},{"$f":"'Result Entry'!DT30","v":""},{"$f":"'Result Entry'!DU30","v":""},{"$f":"'Result Entry'!DV30","v":""},{"$f":"'Result Entry'!DW30","v":""}]
[null,0,{"$f":"'Result Entry'!D31","v":0},{"$f":"'Result Entry'!E31","v":0},{"$f":"'Result Entry'!F31","v":0},{"$f":"'Result Entry'!G31","v":0},{"$f":"'Result Entry'!H31","v":0},{"$f":"'Result Entry'!I31","v":0},{"$f":"'Result Entry'!J31","v":"00:00:00"},{"$f":"'Result Entry'!K31","v":0},{"$f":"'Result Entry'!L31","v":0},{"$f":"'Result Entry'!M31","v":0},{"$f":"'Result Entry'!N31","v":0},{"$f":"'Result Entry'!O31","v":0},{"$f":"'Result Entry'!P31","v":0},{"$f":"'Result Entry'!Q31","v":0},{"$f":"'Result Entry'!R31","v":0},{"$f":"'Result Entry'!S31","v":0},{"$f":"'Result Entry'!T31","v":0},{"$f":"'Result Entry'!U31","v":0},{"$f":"'Result Entry'!V31","v":0},{"$f":"'Result Entry'!W31","v":0},{"$f":"'Result Entry'!X31","v":0},{"$f":"'Result Entry'!Y31","v":""},{"$f":"'Result Entry'!Z31","v":0},{"$f":"'Result Entry'!AA31","v":0},{"$f":"'Result Entry'!AB31","v":0},{"$f":"'Result Entry'!AC31","v":0},{"$f":"'Result Entry'!AD31","v":0},{"$f":"'Result Entry'!AE31","v":0},{"$f":"'Result Entry'!AF31","v":0},{"$f":"'Result Entry'!AG31","v":0},{"$f":"'Result Entry'!AH31","v":0},{"$f":"'Result Entry'!AI31","v":0},{"$f":"'Result Entry'!AJ31","v":0},{"$f":"'Result Entry'!AK31","v":0},{"$f":"'Result Entry'!AL31","v":0},{"$f":"'Result Entry'!AM31","v":0},{"$f":"'Result Entry'!AN31","v":""},{"$f":"'Result Entry'!AO31","v":0},{"$f":"'Result Entry'!AP31","v":0},{"$f":"'Result Entry'!AQ31","v":0},{"$f":"'Result Entry'!AR31","v":0},{"$f":"'Result Entry'!AS31","v":0},{"$f":"'Result Entry'!AT31","v":0},{"$f":"'Result Entry'!AU31","v":0},{"$f":"'Result Entry'!AV31","v":0},{"$f":"'Result Entry'!AW31","v":0},{"$f":"'Result Entry'!AX31","v":0},{"$f":"'Result Entry'!AY31","v":0},{"$f":"'Result Entry'!AZ31","v":0},{"$f":"'Result Entry'!BA31","v":0},{"$f":"'Result Entry'!BB31","v":0},{"$f":"'Result Entry'!BC31","v":""},{"$f":"'Result Entry'!BD31","v":0},{"$f":"'Result Entry'!BE31","v":0},{"$f":"'Result Entry'!BF31","v":0},{"$f":"'Result Entry'!BG31","v":0},{"$f":"'Result Entry'!BH31","v":0},{"$f":"'Result Entry'!BI31","v":0},{"$f":"'Result Entry'!BJ31","v":0},{"$f":"'Result Entry'!BK31","v":0},{"$f":"'Result Entry'!BL31","v":0},{"$f":"'Result Entry'!BM31","v":0},{"$f":"'Result Entry'!BN31","v":0},{"$f":"'Result Entry'!BO31","v":0},{"$f":"'Result Entry'!BP31","v":0},{"$f":"'Result Entry'!BQ31","v":0},{"$f":"'Result Entry'!BR31","v":""},{"$f":"'Result Entry'!BS31","v":0},{"$f":"'Result Entry'!BT31","v":0},{"$f":"'Result Entry'!BU31","v":0},{"$f":"'Result Entry'!BV31","v":0},{"$f":"'Result Entry'!BW31","v":0},{"$f":"'Result Entry'!BX31","v":0},{"$f":"'Result Entry'!BY31","v":0},{"$f":"'Result Entry'!BZ31","v":0},{"$f":"'Result Entry'!CA31","v":0},{"$f":"'Result Entry'!CB31","v":0},{"$f":"'Result Entry'!CC31","v":0},{"$f":"'Result Entry'!CD31","v":0},{"$f":"'Result Entry'!CE31","v":0},{"$f":"'Result Entry'!CF31","v":0},{"$f":"'Result Entry'!CG31","v":""},{"$f":"'Result Entry'!CH31","v":0},{"$f":"'Result Entry'!CI31","v":0},{"$f":"'Result Entry'!CJ31","v":0},{"$f":"'Result Entry'!CK31","v":0},{"$f":"'Result Entry'!CL31","v":0},{"$f":"'Result Entry'!CM31","v":0},{"$f":"'Result Entry'!CN31","v":0},{"$f":"'Result Entry'!CO31","v":""},{"$f":"'Result Entry'!CP31","v":0},{"$f":"'Result Entry'!CQ31","v":0},{"$f":"'Result Entry'!CR31","v":0},{"$f":"'Result Entry'!CS31","v":0},{"$f":"'Result Entry'!CT31","v":0},{"$f":"'Result Entry'!CU31","v":0},{"$f":"'Result Entry'!CV31","v":0},{"$f":"'Result Entry'!CW31","v":""},{"$f":"'Result Entry'!CX31","v":0},{"$f":"'Result Entry'!CY31","v":0},{"$f":"'Result Entry'!CZ31","v":0},{"$f":"'Result Entry'!DA31","v":0},{"$f":"'Result Entry'!DB31","v":0},{"$f":"'Result Entry'!DC31","v":0},{"$f":"'Result Entry'!DD31","v":0},{"$f":"'Result Entry'!DE31","v":""},{"$f":"'Result Entry'!DF31","v":0},{"$f":"'Result Entry'!DG31","v":0},{"$f":"'Result Entry'!DH31","v":0},{"$f":"'Result Entry'!DI31","v":0},{"$f":"'Result Entry'!DJ31","v":0},{"$f":"'Result Entry'!DK31","v":0},{"$f":"'Result Entry'!DL31","v":""},{"$f":"'Result Entry'!DM31","v":""},{"$f":"'Result Entry'!DN31","v":0},{"$f":"'Result Entry'!DO31","v":0},{"$f":"'Result Entry'!DP31","v":""},{"$f":"'Result Entry'!DQ31","v":900},{"$f":"'Result Entry'!DR31","v":0},{"$f":"'Result Entry'!DS31","v":{"v":0,"d":"0.00"}},{"$f":"'Result Entry'!DT31","v":""},{"$f":"'Result Entry'!DU31","v":""},{"$f":"'Result Entry'!DV31","v":""},{"$f":"'Result Entry'!DW31","v":""}]
[null,0,{"$f":"'Result Entry'!D32","v":0},{"$f":"'Result Entry'!E32","v":0},{"$f":"'Result Entry'!F32","v":0},{"$f":"'Result Entry'!G32","v":0},{"$f":"'Result Entry'!H32","v":0},{"$f":"'Result Entry'!I32","v":0},{"$f":"'Result Entry'!J32","v":"00:00:00"},{"$f":"'Result Entry'!K32","v":0},{"$f":"'Result Entry'!L32","v":0},{"$f":"'Result Entry'!M32","v":0},{"$f":"'Result Entry'!N32","v":0},{"$f":"'Result Entry'!O32","v":0},{"$f":"'Result Entry'!P32","v":0},{"$f":"'Result Entry'!Q32","v":0},{"$f":"'Result Entry'!R32","v":0},{"$f":"'Result Entry'!S32","v":0},{"$f":"'Result Entry'!T32","v":0},{"$f":"'Result Entry'!U32","v":0},{"$f":"'Result Entry'!V32","v":0},{"$f":"'Result Entry'!W32","v":0},{"$f":"'Result Entry'!X32","v":0},{"$f":"'Result Entry'!Y32","v":""},{"$f":"'Result Entry'!Z32","v":0},{"$f":"'Result Entry'!AA32","v":0},{"$f":"'Result Entry'!AB32","v":0},{"$f":"'Result Entry'!AC32","v":0},{"$f":"'Result Entry'!AD32","v":0},{"$f":"'Result Entry'!AE32","v":0},{"$f":"'Result Entry'!AF32","v":0},{"$f":"'Result Entry'!AG32","v":0},{"$f":"'Result Entry'!AH32","v":0},{"$f":"'Result Entry'!AI32","v":0},{"$f":"'Result Entry'!AJ32","v":0},{"$f":"'Result Entry'!AK32","v":0},{"$f":"'Result Entry'!AL32","v":0},{"$f":"'Result Entry'!AM32","v":0},{"$f":"'Result Entry'!AN32","v":""},{"$f":"'Result Entry'!AO32","v":0},{"$f":"'Result Entry'!AP32","v":0},{"$f":"'Result Entry'!AQ32","v":0},{"$f":"'Result Entry'!AR32","v":0},{"$f":"'Result Entry'!AS32","v":0},{"$f":"'Result Entry'!AT32","v":0},{"$f":"'Result Entry'!AU32","v":0},{"$f":"'Result Entry'!AV32","v":0},{"$f":"'Result Entry'!AW32","v":0},{"$f":"'Result Entry'!AX32","v":0},{"$f":"'Result Entry'!AY32","v":0},{"$f":"'Result Entry'!AZ32","v":0},{"$f":"'Result Entry'!BA32","v":0},{"$f":"'Result Entry'!BB32","v":0},{"$f":"'Result Entry'!BC32","v":""},{"$f":"'Result Entry'!BD32","v":0},{"$f":"'Result Entry'!BE32","v":0},{"$f":"'Result Entry'!BF32","v":0},{"$f":"'Result Entry'!BG32","v":0},{"$f":"'Result Entry'!BH32","v":0},{"$f":"'Result Entry'!BI32","v":0},{"$f":"'Result Entry'!BJ32","v":0},{"$f":"'Result Entry'!BK32","v":0},{"$f":"'Result Entry'!BL32","v":0},{"$f":"'Result Entry'!BM32","v":0},{"$f":"'Result Entry'!BN32","v":0},{"$f":"'Result Entry'!BO32","v":0},{"$f":"'Result Entry'!BP32","v":0},{"$f":"'Result Entry'!BQ32","v":0},{"$f":"'Result Entry'!BR32","v":""},{"$f":"'Result Entry'!BS32","v":0},{"$f":"'Result Entry'!BT32","v":0},{"$f":"'Result Entry'!BU32","v":0},{"$f":"'Result Entry'!BV32","v":0},{"$f":"'Result Entry'!BW32","v":0},{"$f":"'Result Entry'!BX32","v":0},{"$f":"'Result Entry'!BY32","v":0},{"$f":"'Result Entry'!BZ32","v":0},{"$f":"'Result Entry'!CA32","v":0},{"$f":"'Result Entry'!CB32","v":0},{"$f":"'Result Entry'!CC32","v":0},{"$f":"'Result Entry'!CD32","v":0},{"$f":"'Result Entry'!CE32","v":0},{"$f":"'Result Entry'!CF32","v":0},{"$f":"'Result Entry'!CG32","v":""},{"$f":"'Result Entry'!CH32","v":0},{"$f":"'Result Entry'!CI32","v":0},{"$f":"'Result Entry'!CJ32","v":0},{"$f":"'Result Entry'!CK32","v":0},{"$f":"'Result Entry'!CL32","v":0},{"$f":"'Result Entry'!CM32","v":0},{"$f":"'Result Entry'!CN32","v":0},{"$f":"'Result Entry'!CO32","v":""},{"$f":"'Result Entry'!CP32","v":0},{"$f":"'Result Entry'!CQ32","v":0},{"$f":"'Result Entry'!CR32","v":0},{"$f":"'Result Entry'!CS32","v":0},{"$f":"'Result Entry'!CT32","v":0},{"$f":"'Result Entry'!CU32","v":0},{"$f":"'Result Entry'!CV32","v":0},{"$f":"'Result Entry'!CW32","v":""},{"$f":"'Result Entry'!CX32","v":0},{"$f":"'Result Entry'!CY32","v":0},{"$f":"'Result Entry'!CZ32","v":0},{"$f":"'Result Entry'!DA32","v":0},{"$f":"'Result Entry'!DB32","v":0},{"$f":"'Result Entry'!DC32","v":0},{"$f":"'Result Entry'!DD32","v":0},{"$f":"'Result Entry'!DE32","v":""},{"$f":"'Result Entry'!DF32","v":0},{"$f":"'Result Entry'!DG32","v":0},{"$f":"'Result Entry'!DH32","v":0},{"$f":"'Result Entry'!DI32","v":0},{"$f":"'Result Entry'!DJ32","v":0},{"$f":"'Result Entry'!DK32","v":0},{"$f":"'Result Entry'!DL32","v":""},{"$f":"'Result Entry'!DM32","v":""},{"$f":"'Result Entry'!DN32","v":0},{"$f":"'Result Entry'!DO32","v":0},{"$f":"'Result Entry'!DP32","v":""},{"$f":"'Result Entry'!DQ32","v":900},{"$f":"'Result Entry'!DR32","v":0},{"$f":"'Result Entry'!DS32","v":{"v":0,"d":"0.00"}},{"$f":"'Result Entry'!DT32","v":""},{"$f":"'Result Entry'!DU32","v":""},{"$f":"'Result Entry'!DV32","v":""},{"$f":"'Result Entry'!DW32","v":""}]
[null,0,{"$f":"'Result Entry'!D33","v":0},{"$f":"'Result Entry'!E33","v":0},{"$f":"'Result Entry'!F33","v":0},{"$f":"'Result Entry'!G33","v":0},{"$f":"'Result Entry'!H33","v":0},{"$f":"'Result Entry'!I33","v":0},{"$f":"'Result Entry'!J33","v":"00:00:00"},{"$f":"'Result Entry'!K33","v":0},{"$f":"'Result Entry'!L33","v":0},{"$f":"'Result Entry'!M33","v":0},{"$f":"'Result Entry'!N33","v":0},{"$f":"'Result Entry'!O33","v":0},{"$f":"'Result Entry'!P33","v":0},{"$f":"'Result Entry'!Q33","v":0},{"$f":"'Result Entry'!R33","v":0},{"$f":"'Result Entry'!S33","v":0},{"$f":"'Result Entry'!T33","v":0},{"$f":"'Result Entry'!U33","v":0},{"$f":"'Result Entry'!V33","v":0},{"$f":"'Result Entry'!W33","v":0},{"$f":"'Result Entry'!X33","v":0},{"$f":"'Result Entry'!Y33","v":""},{"$f":"'Result Entry'!Z33","v":0},{"$f":"'Result Entry'!AA33","v":0},{"$f":"'Result Entry'!AB33","v":0},{"$f":"'Result Entry'!AC33","v":0},{"$f":"'Result Entry'!AD33","v":0},{"$f":"'Result Entry'!AE33","v":0},{"$f":"'Result Entry'!AF33","v":0},{"$f":"'Result Entry'!AG33","v":0},{"$f":"'Result Entry'!AH33","v":0},{"$f":"'Result Entry'!AI33","v":0},{"$f":"'Result Entry'!AJ33","v":0},{"$f":"'Result Entry'!AK33","v":0},{"$f":"'Result Entry'!AL33","v":0},{"$f":"'Result Entry'!AM33","v":0},{"$f":"'Result Entry'!AN33","v":""},{"$f":"'Result Entry'!AO33","v":0},{"$f":"'Result Entry'!AP33","v":0},{"$f":"'Result Entry'!AQ33","v":0},{"$f":"'Result Entry'!AR33","v":0},{"$f":"'Result Entry'!AS33","v":0},{"$f":"'Result Entry'!AT33","v":0},{"$f":"'Result Entry'!AU33","v":0},{"$f":"'Result Entry'!AV33","v":0},{"$f":"'Result Entry'!AW33","v":0},{"$f":"'Result Entry'!AX33","v":0},{"$f":"'Result Entry'!AY33","v":0},{"$f":"'Result Entry'!AZ33","v":0},{"$f":"'Result Entry'!BA33","v":0},{"$f":"'Result Entry'!BB33","v":0},{"$f":"'Result Entry'!BC33","v":""},{"$f":"'Result Entry'!BD33","v":0},{"$f":"'Result Entry'!BE33","v":0},{"$f":"'Result Entry'!BF33","v":0},{"$f":"'Result Entry'!BG33","v":0},{"$f":"'Result Entry'!BH33","v":0},{"$f":"'Result Entry'!BI33","v":0},{"$f":"'Result Entry'!BJ33","v":0},{"$f":"'Result Entry'!BK33","v":0},{"$f":"'Result Entry'!BL33","v":0},{"$f":"'Result Entry'!BM33","v":0},{"$f":"'Result Entry'!BN33","v":0},{"$f":"'Result Entry'!BO33","v":0},{"$f":"'Result Entry'!BP33","v":0},{"$f":"'Result Entry'!BQ33","v":0},{"$f":"'Result Entry'!BR33","v":""},{"$f":"'Result Entry'!BS33","v":0},{"$f":"'Result Entry'!BT33","v":0},{"$f":"'Result Entry'!BU33","v":0},{"$f":"'Result Entry'!BV33","v":0},{"$f":"'Result Entry'!BW33","v":0},{"$f":"'Result Entry'!BX33","v":0},{"$f":"'Result Entry'!BY33","v":0},{"$f":"'Result Entry'!BZ33","v":0},{"$f":"'Result Entry'!CA33","v":0},{"$f":"'Result Entry'!CB33","v":0},{"$f":"'Result Entry'!CC33","v":0},{"$f":"'Result Entry'!CD33","v":0},{"$f":"'Result Entry'!CE33","v":0},{"$f":"'Result Entry'!CF33","v":0},{"$f":"'Result Entry'!CG33","v":""},{"$f":"'Result Entry'!CH33","v":0},{"$f":"'Result Entry'!CI33","v":0},{"$f":"'Result Entry'!CJ33","v":0},{"$f":"'Result Entry'!CK33","v":0},{"$f":"'Result Entry'!CL33","v":0},{"$f":"'Result Entry'!CM33","v":0},{"$f":"'Result Entry'!CN33","v":0},{"$f":"'Result Entry'!CO33","v":""},{"$f":"'Result Entry'!CP33","v":0},{"$f":"'Result Entry'!CQ33","v":0},{"$f":"'Result Entry'!CR33","v":0},{"$f":"'Result Entry'!CS33","v":0},{"$f":"'Result Entry'!CT33","v":0},{"$f":"'Result Entry'!CU33","v":0},{"$f":"'Result Entry'!CV33","v":0},{"$f":"'Result Entry'!CW33","v":""},{"$f":"'Result Entry'!CX33","v":0},{"$f":"'Result Entry'!CY33","v":0},{"$f":"'Result Entry'!CZ33","v":0},{"$f":"'Result Entry'!DA33","v":0},{"$f":"'Result Entry'!DB33","v":0},{"$f":"'Result Entry'!DC33","v":0},{"$f":"'Result Entry'!DD33","v":0},{"$f":"'Result Entry'!DE33","v":""},{"$f":"'Result Entry'!DF33","v":0},{"$f":"'Result Entry'!DG33","v":0},{"$f":"'Result Entry'!DH33","v":0},{"$f":"'Result Entry'!DI33","v":0},{"$f":"'Result Entry'!DJ33","v":0},{"$f":"'Result Entry'!DK33","v":0},{"$f":"'Result Entry'!DL33","v":""},{"$f":"'Result Entry'!DM33","v":""},{"$f":"'Result Entry'!DN33","v":0},{"$f":"'Result Entry'!DO33","v":0},{"$f":"'Result Entry'!DP33","v":""},{"$f":"'Result Entry'!DQ33","v":900},{"$f":"'Result Entry'!DR33","v":0},{"$f":"'Result Entry'!DS33","v":{"v":0,"d":"0.00"}},{"$f":"'Result Entry'!DT33","v":""},{"$f":"'Result Entry'!DU33","v":""},{"$f":"'Result Entry'!DV33","v":""},{"$f":"'Result Entry'!DW33","v":""}]
[null,0,{"$f":"'Result Entry'!D34","v":0},{"$f":"'Result Entry'!E34","v":0},{"$f":"'Result Entry'!F34","v":0},{"$f":"'Result Entry'!G34","v":0},{"$f":"'Result Entry'!H34","v":0},{"$f":"'Result Entry'!I34","v":0},{"$f":"'Result Entry'!J34","v":"00:00:00"},{"$f":"'Result Entry'!K34","v":0},{"$f":"'Result Entry'!L34","v":0},{"$f":"'Result Entry'!M34","v":0},{"$f":"'Result Entry'!N34","v":0},{"$f":"'Result Entry'!O34","v":0},{"$f":"'Result Entry'!P34","v":0},{"$f":"'Result Entry'!Q34","v":0},{"$f":"'Result Entry'!R34","v":0},{"$f":"'Result Entry'!S34","v":0},{"$f":"'Result Entry'!T34","v":0},{"$f":"'Result Entry'!U34","v":0},{"$f":"'Result Entry'!V34","v":0},{"$f":"'Result Entry'!W34","v":0},{"$f":"'Result Entry'!X34","v":0},{"$f":"'Result Entry'!Y34","v":""},{"$f":"'Result Entry'!Z34","v":0},{"$f":"'Result Entry'!AA34","v":0},{"$f":"'Result Entry'!AB34","v":0},{"$f":"'Result Entry'!AC34","v":0},{"$f":"'Result Entry'!AD34","v":0},{"$f":"'Result Entry'!AE34","v":0},{"$f":"'Result Entry'!AF34","v":0},{"$f":"'Result Entry'!AG34","v":0},{"$f":"'Result Entry'!AH34","v":0},{"$f":"'Result Entry'!AI34","v":0},{"$f":"'Result Entry'!AJ34","v":0},{"$f":"'Result Entry'!AK34","v":0},{"$f":"'Result Entry'!AL34","v":0},{"$f":"'Result Entry'!AM34","v":0},{"$f":"'Result Entry'!AN34","v":""},{"$f":"'Result Entry'!AO34","v":0},{"$f":"'Result Entry'!AP34","v":0},{"$f":"'Result Entry'!AQ34","v":0},{"$f":"'Result Entry'!AR34","v":0},{"$f":"'Result Entry'!AS34","v":0},{"$f":"'Result Entry'!AT34","v":0},{"$f":"'Result Entry'!AU34","v":0},{"$f":"'Result Entry'!AV34","v":0},{"$f":"'Result Entry'!AW34","v":0},{"$f":"'Result Entry'!AX34","v":0},{"$f":"'Result Entry'!AY34","v":0},{"$f":"'Result Entry'!AZ34","v":0},{"$f":"'Result Entry'!BA34","v":0},{"$f":"'Result Entry'!BB34","v":0},{"$f":"'Result Entry'!BC34","v":""},{"$f":"'Result Entry'!BD34","v":0},{"$f":"'Result Entry'!BE34","v":0},{"$f":"'Result Entry'!BF34","v":0},{"$f":"'Result Entry'!BG34","v":0},{"$f":"'Result Entry'!BH34","v":0},{"$f":"'Result Entry'!BI34","v":0},{"$f":"'Result Entry'!BJ34","v":0},{"$f":"'Result Entry'!BK34","v":0},{"$f":"'Result Entry'!BL34","v":0},{"$f":"'Result Entry'!BM34","v":0},{"$f":"'Result Entry'!BN34","v":0},{"$f":"'Result Entry'!BO34","v":0},{"$f":"'Result Entry'!BP34","v":0},{"$f":"'Result Entry'!BQ34","v":0},{"$f":"'Result Entry'!BR34","v":""},{"$f":"'Result Entry'!BS34","v":0},{"$f":"'Result Entry'!BT34","v":0},{"$f":"'Result Entry'!BU34","v":0},{"$f":"'Result Entry'!BV34","v":0},{"$f":"'Result Entry'!BW34","v":0},{"$f":"'Result Entry'!BX34","v":0},{"$f":"'Result Entry'!BY34","v":0},{"$f":"'Result Entry'!BZ34","v":0},{"$f":"'Result Entry'!CA34","v":0},{"$f":"'Result Entry'!CB34","v":0},{"$f":"'Result Entry'!CC34","v":0},{"$f":"'Result Entry'!CD34","v":0},{"$f":"'Result Entry'!CE34","v":0},{"$f":"'Result Entry'!CF34","v":0},{"$f":"'Result Entry'!CG34","v":""},{"$f":"'Result Entry'!CH34","v":0},{"$f":"'Result Entry'!CI34","v":0},{"$f":"'Result Entry'!CJ34","v":0},{"$f":"'Result Entry'!CK34","v":0},{"$f":"'Result Entry'!CL34","v":0},{"$f":"'Result Entry'!CM34","v":0},{"$f":"'Result Entry'!CN34","v":0},{"$f":"'Result Entry'!CO34","v":""},{"$f":"'Result Entry'!CP34","v":0},{"$f":"'Result Entry'!CQ34","v":0},{"$f":"'Result Entry'!CR34","v":0},{"$f":"'Result Entry'!CS34","v":0},{"$f":"'Result Entry'!CT34","v":0},{"$f":"'Result Entry'!CU34","v":0},{"$f":"'Result Entry'!CV34","v":0},{"$f":"'Result Entry'!CW34","v":""},{"$f":"'Result Entry'!CX34","v":0},{"$f":"'Result Entry'!CY34","v":0},{"$f":"'Result Entry'!CZ34","v":0},{"$f":"'Result Entry'!DA34","v":0},{"$f":"'Result Entry'!DB34","v":0},{"$f":"'Result Entry'!DC34","v":0},{"$f":"'Result Entry'!DD34","v":0},{"$f":"'Result Entry'!DE34","v":""},{"$f":"'Result Entry'!DF34","v":0},{"$f":"'Result Entry'!DG34","v":0},{"$f":"'Result Entry'!DH34","v":0},{"$f":"'Result Entry'!DI34","v":0},{"$f":"'Result Entry'!DJ34","v":0},{"$f":"'Result Entry'!DK34","v":0},{"$f":"'Result Entry'!DL34","v":""},{"$f":"'Result Entry'!DM34","v":""},{"$f":"'Result Entry'!DN34","v":0},{"$f":"'Result Entry'!DO34","v":0},{"$f":"'Result Entry'!DP34","v":""},{"$f":"'Result Entry'!DQ34","v":900},{"$f":"'Result Entry'!DR34","v":0},{"$f":"'Result Entry'!DS34","v":{"v":0,"d":"0.00"}},{"$f":"'Result Entry'!DT34","v":""},{"$f":"'Result Entry'!DU34","v":""},{"$f":"'Result Entry'!DV34","v":""},{"$f":"'Result Entry'!DW34","v":""}]
[null,0,{"$f":"'Result Entry'!D35","v":0},{"$f":"'Result Entry'!E35","v":0},{"$f":"'Result Entry'!F35","v":0},{"$f":"'Result Entry'!G35","v":0},{"$f":"'Result Entry'!H35","v":0},{"$f":"'Result Entry'!I35","v":0},{"$f":"'Result Entry'!J35","v":"00:00:00"},{"$f":"'Result Entry'!K35","v":0},{"$f":"'Result Entry'!L35","v":0},{"$f":"'Result Entry'!M35","v":0},{"$f":"'Result Entry'!N35","v":0},{"$f":"'Result Entry'!O35","v":0},{"$f":"'Result Entry'!P35","v":0},{"$f":"'Result Entry'!Q35","v":0},{"$f":"'Result Entry'!R35","v":0},{"$f":"'Result Entry'!S35","v":0},{"$f":"'Result Entry'!T35","v":0},{"$f":"'Result Entry'!U35","v":0},{"$f":"'Result Entry'!V35","v":0},{"$f":"'Result Entry'!W35","v":0},{"$f":"'Result Entry'!X35","v":0},{"$f":"'Result Entry'!Y35","v":""},{"$f":"'Result Entry'!Z35","v":0},{"$f":"'Result Entry'!AA35","v":0},{"$f":"'Result Entry'!AB35","v":0},{"$f":"'Result Entry'!AC35","v":0},{"$f":"'Result Entry'!AD35","v":0},{"$f":"'Result Entry'!AE35","v":0},{"$f":"'Result Entry'!AF35","v":0},{"$f":"'Result Entry'!AG35","v":0},{"$f":"'Result Entry'!AH35","v":0},{"$f":"'Result Entry'!AI35","v":0},{"$f":"'Result Entry'!AJ35","v":0},{"$f":"'Result Entry'!AK35","v":0},{"$f":"'Result Entry'!AL35","v":0},{"$f":"'Result Entry'!AM35","v":0},{"$f":"'Result Entry'!AN35","v":""},{"$f":"'Result Entry'!AO35","v":0},{"$f":"'Result Entry'!AP35","v":0},{"$f":"'Result Entry'!AQ35","v":0},{"$f":"'Result Entry'!AR35","v":0},{"$f":"'Result Entry'!AS35","v":0},{"$f":"'Result Entry'!AT35","v":0},{"$f":"'Result Entry'!AU35","v":0},{"$f":"'Result Entry'!AV35","v":0},{"$f":"'Result Entry'!AW35","v":0},{"$f":"'Result Entry'!AX35","v":0},{"$f":"'Result Entry'!AY35","v":0},{"$f":"'Result Entry'!AZ35","v":0},{"$f":"'Result Entry'!BA35","v":0},{"$f":"'Result Entry'!BB35","v":0},{"$f":"'Result Entry'!BC35","v":""},{"$f":"'Result Entry'!BD35","v":0},{"$f":"'Result Entry'!BE35","v":0},{"$f":"'Result Entry'!BF35","v":0},{"$f":"'Result Entry'!BG35","v":0},{"$f":"'Result Entry'!BH35","v":0},{"$f":"'Result Entry'!BI35","v":0},{"$f":"'Result Entry'!BJ35","v":0},{"$f":"'Result Entry'!BK35","v":0},{"$f":"'Result Entry'!BL35","v":0},{"$f":"'Result Entry'!BM35","v":0},{"$f":"'Result Entry'!BN35","v":0},{"$f":"'Result Entry'!BO35","v":0},{"$f":"'Result Entry'!BP35","v":0},{"$f":"'Result Entry'!BQ35","v":0},{"$f":"'Result Entry'!BR35","v":""},{"$f":"'Result Entry'!BS35","v":0},{"$f":"'Result Entry'!BT35","v":0},{"$f":"'Result Entry'!BU35","v":0},{"$f":"'Result Entry'!BV35","v":0},{"$f":"'Result Entry'!BW35","v":0},{"$f":"'Result Entry'!BX35","v":0},{"$f":"'Result Entry'!BY35","v":0},{"$f":"'Result Entry'!BZ35","v":0},{"$f":"'Result Entry'!CA35","v":0},{"$f":"'Result Entry'!CB35","v":0},{"$f":"'Result Entry'!CC35","v":0},{"$f":"'Result Entry'!CD35","v":0},{"$f":"'Result Entry'!CE35","v":0},{"$f":"'Result Entry'!CF35","v":0},{"$f":"'Result Entry'!CG35","v":""},{"$f":"'Result Entry'!CH35","v":0},{"$f":"'Result Entry'!CI35","v":0},{"$f":"'Result Entry'!CJ35","v":0},{"$f":"'Result Entry'!CK35","v":0},{"$f":"'Result Entry'!CL35","v":0},{"$f":"'Result Entry'!CM35","v":0},{"$f":"'Result Entry'!CN35","v":0},{"$f":"'Result Entry'!CO35","v":""},{"$f":"'Result Entry'!CP35","v":0},{"$f":"'Result Entry'!CQ35","v":0},{"$f":"'Result Entry'!CR35","v":0},{"$f":"'Result Entry'!CS35","v":0},{"$f":"'Result Entry'!CT35","v":0},{"$f":"'Result Entry'!CU35","v":0},{"$f":"'Result Entry'!CV35","v":0},{"$f":"'Result Entry'!CW35","v":""},{"$f":"'Result Entry'!CX35","v":0},{"$f":"'Result Entry'!CY35","v":0},{"$f":"'Result Entry'!CZ35","v":0},{"$f":"'Result Entry'!DA35","v":0},{"$f":"'Result Entry'!DB35","v":0},{"$f":"'Result Entry'!DC35","v":0},{"$f":"'Result Entry'!DD35","v":0},{"$f":"'Result Entry'!DE35","v":""},{"$f":"'Result Entry'!DF35","v":0},{"$f":"'Result Entry'!DG35","v":0},{"$f":"'Result Entry'!DH35","v":0},{"$f":"'Result Entry'!DI35","v":0},{"$f":"'Result Entry'!DJ35","v":0},{"$f":"'Result Entry'!DK35","v":0},{"$f":"'Result Entry'!DL35","v":""},{"$f":"'Result Entry'!DM35","v":""},{"$f":"'Result Entry'!DN35","v":0},{"$f":"'Result Entry'!DO35","v":0},{"$f":"'Result Entry'!DP35","v":""},{"$f":"'Result Entry'!DQ35","v":900},{"$f":"'Result Entry'!DR35","v":0},{"$f":"'Result Entry'!DS35","v":{"v":0,"d":"0.00"}},{"$f":"'Result Entry'!DT35","v":""},{"$f":"'Result Entry'!DU35","v":""},{"$f":"'Result Entry'!DV35","v":""},{"$f":"'Result Entry'!DW35","v":""}]
[null,0,{"$f":"'Result Entry'!D36","v":0},{"$f":"'Result Entry'!E36","v":0},{"$f":"'Result Entry'!F36","v":0},{"$f":"'Result Entry'!G36","v":0},{"$f":"'Result Entry'!H36","v":0},{"$f":"'Result Entry'!I36","v":0},{"$f":"'Result Entry'!J36","v":"00:00:00"},{"$f":"'Result Entry'!K36","v":0},{"$f":"'Result Entry'!L36","v":0},{"$f":"'Result Entry'!M36","v":0},{"$f":"'Result Entry'!N36","v":0},{"$f":"'Result Entry'!O36","v":0},{"$f":"'Result Entry'!P36","v":0},{"$f":"'Result Entry'!Q36","v":0},{"$f":"'Result Entry'!R36","v":0},{"$f":"'Result Entry'!S36","v":0},{"$f":"'Result Entry'!T36","v":0},{"$f":"'Result Entry'!U36","v":0},{"$f":"'Result Entry'!V36","v":0},{"$f":"'Result Entry'!W36","v":0},{"$f":"'Result Entry'!X36","v":0},{"$f":"'Result Entry'!Y36","v":""},{"$f":"'Result Entry'!Z36","v":0},{"$f":"'Result Entry'!AA36","v":0},{"$f":"'Result Entry'!AB36","v":0},{"$f":"'Result Entry'!AC36","v":0},{"$f":"'Result Entry'!AD36","v":0},{"$f":"'Result Entry'!AE36","v":0},{"$f":"'Result Entry'!AF36","v":0},{"$f":"'Result Entry'!AG36","v":0},{"$f":"'Result Entry'!AH36","v":0},{"$f":"'Result Entry'!AI36","v":0},{"$f":"'Result Entry'!AJ36","v":0},{"$f":"'Result Entry'!AK36","v":0},{"$f":"'Result Entry'!AL36","v":0},{"$f":"'Result Entry'!AM36","v":0},{"$f":"'Result Entry'!AN36","v":""},{"$f":"'Result Entry'!AO36","v":0},{"$f":"'Result Entry'!AP36","v":0},{"$f":"'Result Entry'!AQ36","v":0},{"$f":"'Result Entry'!AR36","v":0},{"$f":"'Result Entry'!AS36","v":0},{"$f":"'Result Entry'!AT36","v":0},{"$f":"'Result Entry'!AU36","v":0},{"$f":"'Result Entry'!AV36","v":0},{"$f":"'Result Entry'!AW36","v":0},{"$f":"'Result Entry'!AX36","v":0},{"$f":"'Result Entry'!AY36","v":0},{"$f":"'Result Entry'!AZ36","v":0},{"$f":"'Result Entry'!BA36","v":0},{"$f":"'Result Entry'!BB36","v":0},{"$f":"'Result Entry'!BC36","v":""},{"$f":"'Result Entry'!BD36","v":0},{"$f":"'Result Entry'!BE36","v":0},{"$f":"'Result Entry'!BF36","v":0},{"$f":"'Result Entry'!BG36","v":0},{"$f":"'Result Entry'!BH36","v":0},{"$f":"'Result Entry'!BI36","v":0},{"$f":"'Result Entry'!BJ36","v":0},{"$f":"'Result Entry'!BK36","v":0},{"$f":"'Result Entry'!BL36","v":0},{"$f":"'Result Entry'!BM36","v":0},{"$f":"'Result Entry'!BN36","v":0},{"$f":"'Result Entry'!BO36","v":0},{"$f":"'Result Entry'!BP36","v":0},{"$f":"'Result Entry'!BQ36","v":0},{"$f":"'Result Entry'!BR36","v":""},{"$f":"'Result Entry'!BS36","v":0},{"$f":"'Result Entry'!BT36","v":0},{"$f":"'Result Entry'!BU36","v":0},{"$f":"'Result Entry'!BV36","v":0},{"$f":"'Result Entry'!BW36","v":0},{"$f":"'Result Entry'!BX36","v":0},{"$f":"'Result Entry'!BY36","v":0},{"$f":"'Result Entry'!BZ36","v":0},{"$f":"'Result Entry'!CA36","v":0},{"$f":"'Result Entry'!CB36","v":0},{"$f":"'Result Entry'!CC36","v":0},{"$f":"'Result Entry'!CD36","v":0},{"$f":"'Result Entry'!CE36","v":0},{"$f":"'Result Entry'!CF36","v":0},{"$f":"'Result Entry'!CG36","v":""},{"$f":"'Result Entry'!CH36","v":0},{"$f":"'Result Entry'!CI36","v":0},{"$f":"'Result Entry'!CJ36","v":0},{"$f":"'Result Entry'!CK36","v":0},{"$f":"'Result Entry'!CL36","v":0},{"$f":"'Result Entry'!CM36","v":0},{"$f":"'Result Entry'!CN36","v":0},{"$f":"'Result Entry'!CO36","v":""},{"$f":"'Result Entry'!CP36","v":0},{"$f":"'Result Entry'!CQ36","v":0},{"$f":"'Result Entry'!CR36","v":0},{"$f":"'Result Entry'!CS36","v":0},{"$f":"'Result Entry'!CT36","v":0},{"$f":"'Result Entry'!CU36","v":0},{"$f":"'Result Entry'!CV36","v":0},{"$f":"'Result Entry'!CW36","v":""},{"$f":"'Result Entry'!CX36","v":0},{"$f":"'Result Entry'!CY36","v":0},{"$f":"'Result Entry'!CZ36","v":0},{"$f":"'Result Entry'!DA36","v":0},{"$f":"'Result Entry'!DB36","v":0},{"$f":"'Result Entry'!DC36","v":0},{"$f":"'Result Entry'!DD36","v":0},{"$f":"'Result Entry'!DE36","v":""},{"$f":"'Result Entry'!DF36","v":0},{"$f":"'Result Entry'!DG36","v":0},{"$f":"'Result Entry'!DH36","v":0},{"$f":"'Result Entry'!DI36","v":0},{"$f":"'Result Entry'!DJ36","v":0},{"$f":"'Result Entry'!DK36","v":0},{"$f":"'Result Entry'!DL36","v":""},{"$f":"'Result Entry'!DM36","v":""},{"$f":"'Result Entry'!DN36","v":0},{"$f":"'Result Entry'!DO36","v":0},{"$f":"'Result Entry'!DP36","v":""},{"$f":"'Result Entry'!DQ36","v":900},{"$f":"'Result Entry'!DR36","v":0},{"$f":"'Result Entry'!DS36","v":{"v":0,"d":"0.00"}},{"$f":"'Result Entry'!DT36","v":""},{"$f":"'Result Entry'!DU36","v":""},{"$f":"'Result Entry'!DV36","v":""},{"$f":"'Result Entry'!DW36","v":""}]
[null,0,{"$f":"'Result Entry'!D37","v":0},{"$f":"'Result Entry'!E37","v":0},{"$f":"'Result Entry'!F37","v":0},{"$f":"'Result Entry'!G37","v":0},{"$f":"'Result Entry'!H37","v":0},{"$f":"'Result Entry'!I37","v":0},{"$f":"'Result Entry'!J37","v":"00:00:00"},{"$f":"'Result Entry'!K37","v":0},{"$f":"'Result Entry'!L37","v":0},{"$f":"'Result Entry'!M37","v":0},{"$f":"'Result Entry'!N37","v":0},{"$f":"'Result Entry'!O37","v":0},{"$f":"'Result Entry'!P37","v":0},{"$f":"'Result Entry'!Q37","v":0},{"$f":"'Result Entry'!R37","v":0},{"$f":"'Result Entry'!S37","v":0},{"$f":"'Result Entry'!T37","v":0},{"$f":"'Result Entry'!U37","v":0},{"$f":"'Result Entry'!V37","v":0},{"$f":"'Result Entry'!W37","v":0},{"$f":"'Result Entry'!X37","v":0},{"$f":"'Result Entry'!Y37","v":""},{"$f":"'Result Entry'!Z37","v":0},{"$f":"'Result Entry'!AA37","v":0},{"$f":"'Result Entry'!AB37","v":0},{"$f":"'Result Entry'!AC37","v":0},{"$f":"'Result Entry'!AD37","v":0},{"$f":"'Result Entry'!AE37","v":0},{"$f":"'Result Entry'!AF37","v":0},{"$f":"'Result Entry'!AG37","v":0},{"$f":"'Result Entry'!AH37","v":0},{"$f":"'Result Entry'!AI37","v":0},{"$f":"'Result Entry'!AJ37","v":0},{"$f":"'Result Entry'!AK37","v":0},{"$f":"'Result Entry'!AL37","v":0},{"$f":"'Result Entry'!AM37","v":0},{"$f":"'Result Entry'!AN37","v":""},{"$f":"'Result Entry'!AO37","v":0},{"$f":"'Result Entry'!AP37","v":0},{"$f":"'Result Entry'!AQ37","v":0},{"$f":"'Result Entry'!AR37","v":0},{"$f":"'Result Entry'!AS37","v":0},{"$f":"'Result Entry'!AT37","v":0},{"$f":"'Result Entry'!AU37","v":0},{"$f":"'Result Entry'!AV37","v":0},{"$f":"'Result Entry'!AW37","v":0},{"$f":"'Result Entry'!AX37","v":0},{"$f":"'Result Entry'!AY37","v":0},{"$f":"'Result Entry'!AZ37","v":0},{"$f":"'Result Entry'!BA37","v":0},{"$f":"'Result Entry'!BB37","v":0},{"$f":"'Result Entry'!BC37","v":""},{"$f":"'Result Entry'!BD37","v":0},{"$f":"'Result Entry'!BE37","v":0},{"$f":"'Result Entry'!BF37","v":0},{"$f":"'Result Entry'!BG37","v":0},{"$f":"'Result Entry'!BH37","v":0},{"$f":"'Result Entry'!BI37","v":0},{"$f":"'Result Entry'!BJ37","v":0},{"$f":"'Result Entry'!BK37","v":0},{"$f":"'Result Entry'!BL37","v":0},{"$f":"'Result Entry'!BM37","v":0},{"$f":"'Result Entry'!BN37","v":0},{"$f":"'Result Entry'!BO37","v":0},{"$f":"'Result Entry'!BP37","v":0},{"$f":"'Result Entry'!BQ37","v":0},{"$f":"'Result Entry'!BR37","v":""},{"$f":"'Result Entry'!BS37","v":0},{"$f":"'Result Entry'!BT37","v":0},{"$f":"'Result Entry'!BU37","v":0},{"$f":"'Result Entry'!BV37","v":0},{"$f":"'Result Entry'!BW37","v":0},{"$f":"'Result Entry'!BX37","v":0},{"$f":"'Result Entry'!BY37","v":0},{"$f":"'Result Entry'!BZ37","v":0},{"$f":"'Result Entry'!CA37","v":0},{"$f":"'Result Entry'!CB37","v":0},{"$f":"'Result Entry'!CC37","v":0},{"$f":"'Result Entry'!CD37","v":0},{"$f":"'Result Entry'!CE37","v":0},{"$f":"'Result Entry'!CF37","v":0},{"$f":"'Result Entry'!CG37","v":""},{"$f":"'Result Entry'!CH37","v":0},{"$f":"'Result Entry'!CI37","v":0},{"$f":"'Result Entry'!CJ37","v":0},{"$f":"'Result Entry'!CK37","v":0},{"$f":"'Result Entry'!CL37","v":0},{"$f":"'Result Entry'!CM37","v":0},{"$f":"'Result Entry'!CN37","v":0},{"$f":"'Result Entry'!CO37","v":""},{"$f":"'Result Entry'!CP37","v":0},{"$f":"'Result Entry'!CQ37","v":0},{"$f":"'Result Entry'!CR37","v":0},{"$f":"'Result Entry'!CS37","v":0},{"$f":"'Result Entry'!CT37","v":0},{"$f":"'Result Entry'!CU37","v":0},{"$f":"'Result Entry'!CV37","v":0},{"$f":"'Result Entry'!CW37","v":""},{"$f":"'Result Entry'!CX37","v":0},{"$f":"'Result Entry'!CY37","v":0},{"$f":"'Result Entry'!CZ37","v":0},{"$f":"'Result Entry'!DA37","v":0},{"$f":"'Result Entry'!DB37","v":0},{"$f":"'Result Entry'!DC37","v":0},{"$f":"'Result Entry'!DD37","v":0},{"$f":"'Result Entry'!DE37","v":""},{"$f":"'Result Entry'!DF37","v":0},{"$f":"'Result Entry'!DG37","v":0},{"$f":"'Result Entry'!DH37","v":0},{"$f":"'Result Entry'!DI37","v":0},{"$f":"'Result Entry'!DJ37","v":0},{"$f":"'Result Entry'!DK37","v":0},{"$f":"'Result Entry'!DL37","v":""},{"$f":"'Result Entry'!DM37","v":""},{"$f":"'Result Entry'!DN37","v":0},{"$f":"'Result Entry'!DO37","v":0},{"$f":"'Result Entry'!DP37","v":""},{"$f":"'Result Entry'!DQ37","v":900},{"$f":"'Result Entry'!DR37","v":0},{"$f":"'Result Entry'!DS37","v":{"v":0,"d":"0.00"}},{"$f":"'Result Entry'!DT37","v":""},{"$f":"'Result Entry'!DU37","v":""},{"$f":"'Result Entry'!DV37","v":""},{"$f":"'Result Entry'!DW37","v":""}]
[null,0,{"$f":"'Result Entry'!D38","v":0},{"$f":"'Result Entry'!E38","v":0},{"$f":"'Result Entry'!F38","v":0},{"$f":"'Result Entry'!G38","v":0},{"$f":"'Result Entry'!H38","v":0},{"$f":"'Result Entry'!I38","v":0},{"$f":"'Result Entry'!J38","v":"00:00:00"},{"$f":"'Result Entry'!K38","v":0},{"$f":"'Result Entry'!L38","v":0},{"$f":"'Result Entry'!M38","v":0},{"$f":"'Result Entry'!N38","v":0},{"$f":"'Result Entry'!O38","v":0},{"$f":"'Result Entry'!P38","v":0},{"$f":"'Result Entry'!Q38","v":0},{"$f":"'Result Entry'!R38","v":0},{"$f":"'Result Entry'!S38","v":0},{"$f":"'Result Entry'!T38","v":0},{"$f":"'Result Entry'!U38","v":0},{"$f":"'Result Entry'!V38","v":0},{"$f":"'Result Entry'!W38","v":0},{"$f":"'Result Entry'!X38","v":0},{"$f":"'Result Entry'!Y38","v":""},{"$f":"'Result Entry'!Z38","v":0},{"$f":"'Result Entry'!AA38","v":0},{"$f":"'Result Entry'!AB38","v":0},{"$f":"'Result Entry'!AC38","v":0},{"$f":"'Result Entry'!AD38","v":0},{"$f":"'Result Entry'!AE38","v":0},{"$f":"'Result Entry'!AF38","v":0},{"$f":"'Result Entry'!AG38","v":0},{"$f":"'Result Entry'!AH38","v":0},{"$f":"'Result Entry'!AI38","v":0},{"$f":"'Result Entry'!AJ38","v":0},{"$f":"'Result Entry'!AK38","v":0},{"$f":"'Result Entry'!AL38","v":0},{"$f":"'Result Entry'!AM38","v":0},{"$f":"'Result Entry'!AN38","v":""},{"$f":"'Result Entry'!AO38","v":0},{"$f":"'Result Entry'!AP38","v":0},{"$f":"'Result Entry'!AQ38","v":0},{"$f":"'Result Entry'!AR38","v":0},{"$f":"'Result Entry'!AS38","v":0},{"$f":"'Result Entry'!AT38","v":0},{"$f":"'Result Entry'!AU38","v":0},{"$f":"'Result Entry'!AV38","v":0},{"$f":"'Result Entry'!AW38","v":0},{"$f":"'Result Entry'!AX38","v":0},{"$f":"'Result Entry'!AY38","v":0},{"$f":"'Result Entry'!AZ38","v":0},{"$f":"'Result Entry'!BA38","v":0},{"$f":"'Result Entry'!BB38","v":0},{"$f":"'Result Entry'!BC38","v":""},{"$f":"'Result Entry'!BD38","v":0},{"$f":"'Result Entry'!BE38","v":0},{"$f":"'Result Entry'!BF38","v":0},{"$f":"'Result Entry'!BG38","v":0},{"$f":"'Result Entry'!BH38","v":0},{"$f":"'Result Entry'!BI38","v":0},{"$f":"'Result Entry'!BJ38","v":0},{"$f":"'Result Entry'!BK38","v":0},{"$f":"'Result Entry'!BL38","v":0},{"$f":"'Result Entry'!BM38","v":0},{"$f":"'Result Entry'!BN38","v":0},{"$f":"'Result Entry'!BO38","v":0},{"$f":"'Result Entry'!BP38","v":0},{"$f":"'Result Entry'!BQ38","v":0},{"$f":"'Result Entry'!BR38","v":""},{"$f":"'Result Entry'!BS38","v":0},{"$f":"'Result Entry'!BT38","v":0},{"$f":"'Result Entry'!BU38","v":0},{"$f":"'Result Entry'!BV38","v":0},{"$f":"'Result Entry'!BW38","v":0},{"$f":"'Result Entry'!BX38","v":0},{"$f":"'Result Entry'!BY38","v":0},{"$f":"'Result Entry'!BZ38","v":0},{"$f":"'Result Entry'!CA38","v":0},{"$f":"'Result Entry'!CB38","v":0},{"$f":"'Result Entry'!CC38","v":0},{"$f":"'Result Entry'!CD38","v":0},{"$f":"'Result Entry'!CE38","v":0},{"$f":"'Result Entry'!CF38","v":0},{"$f":"'Result Entry'!CG38","v":""},{"$f":"'Result Entry'!CH38","v":0},{"$f":"'Result Entry'!CI38","v":0},{"$f":"'Result Entry'!CJ38","v":0},{"$f":"'Result Entry'!CK38","v":0},{"$f":"'Result Entry'!CL38","v":0},{"$f":"'Result Entry'!CM38","v":0},{"$f":"'Result Entry'!CN38","v":0},{"$f":"'Result Entry'!CO38","v":""},{"$f":"'Result Entry'!CP38","v":0},{"$f":"'Result Entry'!CQ38","v":0},{"$f":"'Result Entry'!CR38","v":0},{"$f":"'Result Entry'!CS38","v":0},{"$f":"'Result Entry'!CT38","v":0},{"$f":"'Result Entry'!CU38","v":0},{"$f":"'Result Entry'!CV38","v":0},{"$f":"'Result Entry'!CW38","v":""},{"$f":"'Result Entry'!CX38","v":0},{"$f":"'Result Entry'!CY38","v":0},{"$f":"'Result Entry'!CZ38","v":0},{"$f":"'Result Entry'!DA38","v":0},{"$f":"'Result Entry'!DB38","v":0},{"$f":"'Result Entry'!DC38","v":0},{"$f":"'Result Entry'!DD38","v":0},{"$f":"'Result Entry'!DE38","v":""},{"$f":"'Result Entry'!DF38","v":0},{"$f":"'Result Entry'!DG38","v":0},{"$f":"'Result Entry'!DH38","v":0},{"$f":"'Result Entry'!DI38","v":0},{"$f":"'Result Entry'!DJ38","v":0},{"$f":"'Result Entry'!DK38","v":0},{"$f":"'Result Entry'!DL38","v":""},{"$f":"'Result Entry'!DM38","v":""},{"$f":"'Result Entry'!DN38","v":0},{"$f":"'Result Entry'!DO38","v":0},{"$f":"'Result Entry'!DP38","v":""},{"$f":"'Result Entry'!DQ38","v":900},{"$f":"'Result Entry'!DR38","v":0},{"$f":"'Result Entry'!DS38","v":{"v":0,"d":"0.00"}},{"$f":"'Result Entry'!DT38","v":""},{"$f":"'Result Entry'!DU38","v":""},{"$f":"'Result Entry'!DV38","v":""},{"$f":"'Result Entry'!DW38","v":""}]
[null,0,{"$f":"'Result Entry'!D39","v":0},{"$f":"'Result Entry'!E39","v":0},{"$f":"'Result Entry'!F39","v":0},{"$f":"'Result Entry'!G39","v":0},{"$f":"'Result Entry'!H39","v":0},{"$f":"'Result Entry'!I39","v":0},{"$f":"'Result Entry'!J39","v":"00:00:00"},{"$f":"'Result Entry'!K39","v":0},{"$f":"'Result Entry'!L39","v":0},{"$f":"'Result Entry'!M39","v":0},{"$f":"'Result Entry'!N39","v":0},{"$f":"'Result Entry'!O39","v":0},{"$f":"'Result Entry'!P39","v":0},{"$f":"'Result Entry'!Q39","v":0},{"$f":"'Result Entry'!R39","v":0},{"$f":"'Result Entry'!S39","v":0},{"$f":"'Result Entry'!T39","v":0},{"$f":"'Result Entry'!U39","v":0},{"$f":"'Result Entry'!V39","v":0},{"$f":"'Result Entry'!W39","v":0},{"$f":"'Result Entry'!X39","v":0},{"$f":"'Result Entry'!Y39","v":""},{"$f":"'Result Entry'!Z39","v":0},{"$f":"'Result Entry'!AA39","v":0},{"$f":"'Result Entry'!AB39","v":0},{"$f":"'Result Entry'!AC39","v":0},{"$f":"'Result Entry'!AD39","v":0},{"$f":"'Result Entry'!AE39","v":0},{"$f":"'Result Entry'!AF39","v":0},{"$f":"'Result Entry'!AG39","v":0},{"$f":"'Result Entry'!AH39","v":0},{"$f":"'Result Entry'!AI39","v":0},{"$f":"'Result Entry'!AJ39","v":0},{"$f":"'Result Entry'!AK39","v":0},{"$f":"'Result Entry'!AL39","v":0},{"$f":"'Result Entry'!AM39","v":0},{"$f":"'Result Entry'!AN39","v":""},{"$f":"'Result Entry'!AO39","v":0},{"$f":"'Result Entry'!AP39","v":0},{"$f":"'Result Entry'!AQ39","v":0},{"$f":"'Result Entry'!AR39","v":0},{"$f":"'Result Entry'!AS39","v":0},{"$f":"'Result Entry'!AT39","v":0},{"$f":"'Result Entry'!AU39","v":0},{"$f":"'Result Entry'!AV39","v":0},{"$f":"'Result Entry'!AW39","v":0},{"$f":"'Result Entry'!AX39","v":0},{"$f":"'Result Entry'!AY39","v":0},{"$f":"'Result Entry'!AZ39","v":0},{"$f":"'Result Entry'!BA39","v":0},{"$f":"'Result Entry'!BB39","v":0},{"$f":"'Result Entry'!BC39","v":""},{"$f":"'Result Entry'!BD39","v":0},{"$f":"'Result Entry'!BE39","v":0},{"$f":"'Result Entry'!BF39","v":0},{"$f":"'Result Entry'!BG39","v":0},{"$f":"'Result Entry'!BH39","v":0},{"$f":"'Result Entry'!BI39","v":0},{"$f":"'Result Entry'!BJ39","v":0},{"$f":"'Result Entry'!BK39","v":0},{"$f":"'Result Entry'!BL39","v":0},{"$f":"'Result Entry'!BM39","v":0},{"$f":"'Result Entry'!BN39","v":0},{"$f":"'Result Entry'!BO39","v":0},{"$f":"'Result Entry'!BP39","v":0},{"$f":"'Result Entry'!BQ39","v":0},{"$f":"'Result Entry'!BR39","v":""},{"$f":"'Result Entry'!BS39","v":0},{"$f":"'Result Entry'!BT39","v":0},{"$f":"'Result Entry'!BU39","v":0},{"$f":"'Result Entry'!BV39","v":0},{"$f":"'Result Entry'!BW39","v":0},{"$f":"'Result Entry'!BX39","v":0},{"$f":"'Result Entry'!BY39","v":0},{"$f":"'Result Entry'!BZ39","v":0},{"$f":"'Result Entry'!CA39","v":0},{"$f":"'Result Entry'!CB39","v":0},{"$f":"'Result Entry'!CC39","v":0},{"$f":"'Result Entry'!CD39","v":0},{"$f":"'Result Entry'!CE39","v":0},{"$f":"'Result Entry'!CF39","v":0},{"$f":"'Result Entry'!CG39","v":""},{"$f":"'Result Entry'!CH39","v":0},{"$f":"'Result Entry'!CI39","v":0},{"$f":"'Result Entry'!CJ39","v":0},{"$f":"'Result Entry'!CK39","v":0},{"$f":"'Result Entry'!CL39","v":0},{"$f":"'Result Entry'!CM39","v":0},{"$f":"'Result Entry'!CN39","v":0},{"$f":"'Result Entry'!CO39","v":""},{"$f":"'Result Entry'!CP39","v":0},{"$f":"'Result Entry'!CQ39","v":0},{"$f":"'Result Entry'!CR39","v":0},{"$f":"'Result Entry'!CS39","v":0},{"$f":"'Result Entry'!CT39","v":0},{"$f":"'Result Entry'!CU39","v":0},{"$f":"'Result Entry'!CV39","v":0},{"$f":"'Result Entry'!CW39","v":""},{"$f":"'Result Entry'!CX39","v":0},{"$f":"'Result Entry'!CY39","v":0},{"$f":"'Result Entry'!CZ39","v":0},{"$f":"'Result Entry'!DA39","v":0},{"$f":"'Result Entry'!DB39","v":0},{"$f":"'Result Entry'!DC39","v":0},{"$f":"'Result Entry'!DD39","v":0},{"$f":"'Result Entry'!DE39","v":""},{"$f":"'Result Entry'!DF39","v":0},{"$f":"'Result Entry'!DG39","v":0},{"$f":"'Result Entry'!DH39","v":0},{"$f":"'Result Entry'!DI39","v":0},{"$f":"'Result Entry'!DJ39","v":0},{"$f":"'Result Entry'!DK39","v":0},{"$f":"'Result Entry'!DL39","v":""},{"$f":"'Result Entry'!DM39","v":""},{"$f":"'Result Entry'!DN39","v":0},{"$f":"'Result Entry'!DO39","v":0},{"$f":"'Result Entry'!DP39","v":""},{"$f":"'Result Entry'!DQ39","v":900},{"$f":"'Result Entry'!DR39","v":0},{"$f":"'Result Entry'!DS39","v":{"v":0,"d":"0.00"}},{"$f":"'Result Entry'!DT39","v":""},{"$f":"'Result Entry'!DU39","v":""},{"$f":"'Result Entry'!DV39","v":""},{"$f":"'Result Entry'!DW39","v":""}]
[null,0,{"$f":"'Result Entry'!D40","v":0},{"$f":"'Result Entry'!E40","v":0},{"$f":"'Result Entry'!F40","v":0},{"$f":"'Result Entry'!G40","v":0},{"$f":"'Result Entry'!H40","v":0},{"$f":"'Result Entry'!I40","v":0},{"$f":"'Result Entry'!J40","v":"00:00:00"},{"$f":"'Result Entry'!K40","v":0},{"$f":"'Result Entry'!L40","v":0},{"$f":"'Result Entry'!M40","v":0},{"$f":"'Result Entry'!N40","v":0},{"$f":"'Result Entry'!O40","v":0},{"$f":"'Result Entry'!P40","v":0},{"$f":"'Result Entry'!Q40","v":0},{"$f":"'Result Entry'!R40","v":0},{"$f":"'Result Entry'!S40","v":0},{"$f":"'Result Entry'!T40","v":0},{"$f":"'Result Entry'!U40","v":0},{"$f":"'Result Entry'!V40","v":0},{"$f":"'Result Entry'!W40","v":0},{"$f":"'Result Entry'!X40","v":0},{"$f":"'Result Entry'!Y40","v":""},{"$f":"'Result Entry'!Z40","v":0},{"$f":"'Result Entry'!AA40","v":0},{"$f":"'Result Entry'!AB40","v":0},{"$f":"'Result Entry'!AC40","v":0},{"$f":"'Result Entry'!AD40","v":0},{"$f":"'Result Entry'!AE40","v":0},{"$f":"'Result Entry'!AF40","v":0},{"$f":"'Result Entry'!AG40","v":0},{"$f":"'Result Entry'!AH40","v":0},{"$f":"'Result Entry'!AI40","v":0},{"$f":"'Result Entry'!AJ40","v":0},{"$f":"'Result Entry'!AK40","v":0},{"$f":"'Result Entry'!AL40","v":0},{"$f":"'Result Entry'!AM40","v":0},{"$f":"'Result Entry'!AN40","v":""},{"$f":"'Result Entry'!AO40","v":0},{"$f":"'Result Entry'!AP40","v":0},{"$f":"'Result Entry'!AQ40","v":0},{"$f":"'Result Entry'!AR40","v":0},{"$f":"'Result Entry'!AS40","v":0},{"$f":"'Result Entry'!AT40","v":0},{"$f":"'Result Entry'!AU40","v":0},{"$f":"'Result Entry'!AV40","v":0},{"$f":"'Result Entry'!AW40","v":0},{"$f":"'Result Entry'!AX40","v":0},{"$f":"'Result Entry'!AY40","v":0},{"$f":"'Result Entry'!AZ40","v":0},{"$f":"'Result Entry'!BA40","v":0},{"$f":"'Result Entry'!BB40","v":0},{"$f":"'Result Entry'!BC40","v":""},{"$f":"'Result Entry'!BD40","v":0},{"$f":"'Result Entry'!BE40","v":0},{"$f":"'Result Entry'!BF40","v":0},{"$f":"'Result Entry'!BG40","v":0},{"$f":"'Result Entry'!BH40","v":0},{"$f":"'Result Entry'!BI40","v":0},{"$f":"'Result Entry'!BJ40","v":0},{"$f":"'Result Entry'!BK40","v":0},{"$f":"'Result Entry'!BL40","v":0},{"$f":"'Result Entry'!BM40","v":0},{"$f":"'Result Entry'!BN40","v":0},{"$f":"'Result Entry'!BO40","v":0},{"$f":"'Result Entry'!BP40","v":0},{"$f":"'Result Entry'!BQ40","v":0},{"$f":"'Result Entry'!BR40","v":""},{"$f":"'Result Entry'!BS40","v":0},{"$f":"'Result Entry'!BT40","v":0},{"$f":"'Result Entry'!BU40","v":0},{"$f":"'Result Entry'!BV40","v":0},{"$f":"'Result Entry'!BW40","v":0},{"$f":"'Result Entry'!BX40","v":0},{"$f":"'Result Entry'!BY40","v":0},{"$f":"'Result Entry'!BZ40","v":0},{"$f":"'Result Entry'!CA40","v":0},{"$f":"'Result Entry'!CB40","v":0},{"$f":"'Result Entry'!CC40","v":0},{"$f":"'Result Entry'!CD40","v":0},{"$f":"'Result Entry'!CE40","v":0},{"$f":"'Result Entry'!CF40","v":0},{"$f":"'Result Entry'!CG40","v":""},{"$f":"'Result Entry'!CH40","v":0},{"$f":"'Result Entry'!CI40","v":0},{"$f":"'Result Entry'!CJ40","v":0},{"$f":"'Result Entry'!CK40","v":0},{"$f":"'Result Entry'!CL40","v":0},{"$f":"'Result Entry'!CM40","v":0},{"$f":"'Result Entry'!CN40","v":0},{"$f":"'Result Entry'!CO40","v":""},{"$f":"'Result Entry'!CP40","v":0},{"$f":"'Result Entry'!CQ40","v":0},{"$f":"'Result Entry'!CR40","v":0},{"$f":"'Result Entry'!CS40","v":0},{"$f":"'Result Entry'!CT40","v":0},{"$f":"'Result Entry'!CU40","v":0},{"$f":"'Result Entry'!CV40","v":0},{"$f":"'Result Entry'!CW40","v":""},{"$f":"'Result Entry'!CX40","v":0},{"$f":"'Result Entry'!CY40","v":0},{"$f":"'Result Entry'!CZ40","v":0},{"$f":"'Result Entry'!DA40","v":0},{"$f":"'Result Entry'!DB40","v":0},{"$f":"'Result Entry'!DC40","v":0},{"$f":"'Result Entry'!DD40","v":0},{"$f":"'Result Entry'!DE40","v":""},{"$f":"'Result Entry'!DF40","v":0},{"$f":"'Result Entry'!DG40","v":0},{"$f":"'Result Entry'!DH40","v":0},{"$f":"'Result Entry'!DI40","v":0},{"$f":"'Result Entry'!DJ40","v":0},{"$f":"'Result Entry'!DK40","v":0},{"$f":"'Result Entry'!DL40","v":""},{"$f":"'Result Entry'!DM40","v":""},{"$f":"'Result Entry'!DN40","v":0},{"$f":"'Result Entry'!DO40","v":0},{"$f":"'Result Entry'!DP40","v":""},{"$f":"'Result Entry'!DQ40","v":900},{"$f":"'Result Entry'!DR40","v":0},{"$f":"'Result Entry'!DS40","v":{"v":0,"d":"0.00"}},{"$f":"'Result Entry'!DT40","v":""},{"$f":"'Result Entry'!DU40","v":""},{"$f":"'Result Entry'!DV40","v":""},{"$f":"'Result Entry'!DW40","v":""}]
[null,0,{"$f":"'Result Entry'!D41","v":0},{"$f":"'Result Entry'!E41","v":0},{"$f":"'Result Entry'!F41","v":0},{"$f":"'Result Entry'!G41","v":0},{"$f":"'Result Entry'!H41","v":0},{"$f":"'Result Entry'!I41","v":0},{"$f":"'Result Entry'!J41","v":"00:00:00"},{"$f":"'Result Entry'!K41","v":0},{"$f":"'Result Entry'!L41","v":0},{"$f":"'Result Entry'!M41","v":0},{"$f":"'Result Entry'!N41","v":0},{"$f":"'Result Entry'!O41","v":0},{"$f":"'Result Entry'!P41","v":0},{"$f":"'Result Entry'!Q41","v":0},{"$f":"'Result Entry'!R41","v":0},{"$f":"'Result Entry'!S41","v":0},{"$f":"'Result Entry'!T41","v":0},{"$f":"'Result Entry'!U41","v":0},{"$f":"'Result Entry'!V41","v":0},{"$f":"'Result Entry'!W41","v":0},{"$f":"'Result Entry'!X41","v":0},{"$f":"'Result Entry'!Y41","v":""},{"$f":"'Result Entry'!Z41","v":0},{"$f":"'Result Entry'!AA41","v":0},{"$f":"'Result Entry'!AB41","v":0},{"$f":"'Result Entry'!AC41","v":0},{"$f":"'Result Entry'!AD41","v":0},{"$f":"'Result Entry'!AE41","v":0},{"$f":"'Result Entry'!AF41","v":0},{"$f":"'Result Entry'!AG41","v":0},{"$f":"'Result Entry'!AH41","v":0},{"$f":"'Result Entry'!AI41","v":0},{"$f":"'Result Entry'!AJ41","v":0},{"$f":"'Result Entry'!AK41","v":0},{"$f":"'Result Entry'!AL41","v":0},{"$f":"'Result Entry'!AM41","v":0},{"$f":"'Result Entry'!AN41","v":""},{"$f":"'Result Entry'!AO41","v":0},{"$f":"'Result Entry'!AP41","v":0},{"$f":"'Result Entry'!AQ41","v":0},{"$f":"'Result Entry'!AR41","v":0},{"$f":"'Result Entry'!AS41","v":0},{"$f":"'Result Entry'!AT41","v":0},{"$f":"'Result Entry'!AU41","v":0},{"$f":"'Result Entry'!AV41","v":0},{"$f":"'Result Entry'!AW41","v":0},{"$f":"'Result Entry'!AX41","v":0},{"$f":"'Result Entry'!AY41","v":0},{"$f":"'Result Entry'!AZ41","v":0},{"$f":"'Result Entry'!BA41","v":0},{"$f":"'Result Entry'!BB41","v":0},{"$f":"'Result Entry'!BC41","v":""},{"$f":"'Result Entry'!BD41","v":0},{"$f":"'Result Entry'!BE41","v":0},{"$f":"'Result Entry'!BF41","v":0},{"$f":"'Result Entry'!BG41","v":0},{"$f":"'Result Entry'!BH41","v":0},{"$f":"'Result Entry'!BI41","v":0},{"$f":"'Result Entry'!BJ41","v":0},{"$f":"'Result Entry'!BK41","v":0},{"$f":"'Result Entry'!BL41","v":0},{"$f":"'Result Entry'!BM41","v":0},{"$f":"'Result Entry'!BN41","v":0},{"$f":"'Result Entry'!BO41","v":0},{"$f":"'Result Entry'!BP41","v":0},{"$f":"'Result Entry'!BQ41","v":0},{"$f":"'Result Entry'!BR41","v":""},{"$f":"'Result Entry'!BS41","v":0},{"$f":"'Result Entry'!BT41","v":0},{"$f":"'Result Entry'!BU41","v":0},{"$f":"'Result Entry'!BV41","v":0},{"$f":"'Result Entry'!BW41","v":0},{"$f":"'Result Entry'!BX41","v":0},{"$f":"'Result Entry'!BY41","v":0},{"$f":"'Result Entry'!BZ41","v":0},{"$f":"'Result Entry'!CA41","v":0},{"$f":"'Result Entry'!CB41","v":0},{"$f":"'Result Entry'!CC41","v":0},{"$f":"'Result Entry'!CD41","v":0},{"$f":"'Result Entry'!CE41","v":0},{"$f":"'Result Entry'!CF41","v":0},{"$f":"'Result Entry'!CG41","v":""},{"$f":"'Result Entry'!CH41","v":0},{"$f":"'Result Entry'!CI41","v":0},{"$f":"'Result Entry'!CJ41","v":0},{"$f":"'Result Entry'!CK41","v":0},{"$f":"'Result Entry'!CL41","v":0},{"$f":"'Result Entry'!CM41","v":0},{"$f":"'Result Entry'!CN41","v":0},{"$f":"'Result Entry'!CO41","v":""},{"$f":"'Result Entry'!CP41","v":0},{"$f":"'Result Entry'!CQ41","v":0},{"$f":"'Result Entry'!CR41","v":0},{"$f":"'Result Entry'!CS41","v":0},{"$f":"'Result Entry'!CT41","v":0},{"$f":"'Result Entry'!CU41","v":0},{"$f":"'Result Entry'!CV41","v":0},{"$f":"'Result Entry'!CW41","v":""},{"$f":"'Result Entry'!CX41","v":0},{"$f":"'Result Entry'!CY41","v":0},{"$f":"'Result Entry'!CZ41","v":0},{"$f":"'Result Entry'!DA41","v":0},{"$f":"'Result Entry'!DB41","v":0},{"$f":"'Result Entry'!DC41","v":0},{"$f":"'Result Entry'!DD41","v":0},{"$f":"'Result Entry'!DE41","v":""},{"$f":"'Result Entry'!DF41","v":0},{"$f":"'Result Entry'!DG41","v":0},{"$f":"'Result Entry'!DH41","v":0},{"$f":"'Result Entry'!DI41","v":0},{"$f":"'Result Entry'!DJ41","v":0},{"$f":"'Result Entry'!DK41","v":0},{"$f":"'Result Entry'!DL41","v":""},{"$f":"'Result Entry'!DM41","v":""},{"$f":"'Result Entry'!DN41","v":0},{"$f":"'Result Entry'!DO41","v":0},{"$f":"'Result Entry'!DP41","v":""},{"$f":"'Result Entry'!DQ41","v":900},{"$f":"'Result Entry'!DR41","v":0},{"$f":"'Result Entry'!DS41","v":{"v":0,"d":"0.00"}},{"$f":"'Result Entry'!DT41","v":""},{"$f":"'Result Entry'!DU41","v":""},{"$f":"'Result Entry'!DV41","v":""},{"$f":"'Result Entry'!DW41","v":""}]
[null,0,{"$f":"'Result Entry'!D42","v":0},{"$f":"'Result Entry'!E42","v":0},{"$f":"'Result Entry'!F42","v":0},{"$f":"'Result Entry'!G42","v":0},{"$f":"'Result Entry'!H42","v":0},{"$f":"'Result Entry'!I42","v":0},{"$f":"'Result Entry'!J42","v":"00:00:00"},{"$f":"'Result Entry'!K42","v":0},{"$f":"'Result Entry'!L42","v":0},{"$f":"'Result Entry'!M42","v":0},{"$f":"'Result Entry'!N42","v":0},{"$f":"'Result Entry'!O42","v":0},{"$f":"'Result Entry'!P42","v":0},{"$f":"'Result Entry'!Q42","v":0},{"$f":"'Result Entry'!R42","v":0},{"$f":"'Result Entry'!S42","v":0},{"$f":"'Result Entry'!T42","v":0},{"$f":"'Result Entry'!U42","v":0},{"$f":"'Result Entry'!V42","v":0},{"$f":"'Result Entry'!W42","v":0},{"$f":"'Result Entry'!X42","v":0},{"$f":"'Result Entry'!Y42","v":""},{"$f":"'Result Entry'!Z42","v":0},{"$f":"'Result Entry'!AA42","v":0},{"$f":"'Result Entry'!AB42","v":0},{"$f":"'Result Entry'!AC42","v":0},{"$f":"'Result Entry'!AD42","v":0},{"$f":"'Result Entry'!AE42","v":0},{"$f":"'Result Entry'!AF42","v":0},{"$f":"'Result Entry'!AG42","v":0},{"$f":"'Result Entry'!AH42","v":0},{"$f":"'Result Entry'!AI42","v":0},{"$f":"'Result Entry'!AJ42","v":0},{"$f":"'Result Entry'!AK42","v":0},{"$f":"'Result Entry'!AL42","v":0},{"$f":"'Result Entry'!AM42","v":0},{"$f":"'Result Entry'!AN42","v":""},{"$f":"'Result Entry'!AO42","v":0},{"$f":"'Result Entry'!AP42","v":0},{"$f":"'Result Entry'!AQ42","v":0},{"$f":"'Result Entry'!AR42","v":0},{"$f":"'Result Entry'!AS42","v":0},{"$f":"'Result Entry'!AT42","v":0},{"$f":"'Result Entry'!AU42","v":0},{"$f":"'Result Entry'!AV42","v":0},{"$f":"'Result Entry'!AW42","v":0},{"$f":"'Result Entry'!AX42","v":0},{"$f":"'Result Entry'!AY42","v":0},{"$f":"'Result Entry'!AZ42","v":0},{"$f":"'Result Entry'!BA42","v":0},{"$f":"'Result Entry'!BB42","v":0},{"$f":"'Result Entry'!BC42","v":""},{"$f":"'Result Entry'!BD42","v":0},{"$f":"'Result Entry'!BE42","v":0},{"$f":"'Result Entry'!BF42","v":0},{"$f":"'Result Entry'!BG42","v":0},{"$f":"'Result Entry'!BH42","v":0},{"$f":"'Result Entry'!BI42","v":0},{"$f":"'Result Entry'!BJ42","v":0},{"$f":"'Result Entry'!BK42","v":0},{"$f":"'Result Entry'!BL42","v":0},{"$f":"'Result Entry'!BM42","v":0},{"$f":"'Result Entry'!BN42","v":0},{"$f":"'Result Entry'!BO42","v":0},{"$f":"'Result Entry'!BP42","v":0},{"$f":"'Result Entry'!BQ42","v":0},{"$f":"'Result Entry'!BR42","v":""},{"$f":"'Result Entry'!BS42","v":0},{"$f":"'Result Entry'!BT42","v":0},{"$f":"'Result Entry'!BU42","v":0},{"$f":"'Result Entry'!BV42","v":0},{"$f":"'Result Entry'!BW42","v":0},{"$f":"'Result Entry'!BX42","v":0},{"$f":"'Result Entry'!BY42","v":0},{"$f":"'Result Entry'!BZ42","v":0},{"$f":"'Result Entry'!CA42","v":0},{"$f":"'Result Entry'!CB42","v":0},{"$f":"'Result Entry'!CC42","v":0},{"$f":"'Result Entry'!CD42","v":0},{"$f":"'Result Entry'!CE42","v":0},{"$f":"'Result Entry'!CF42","v":0},{"$f":"'Result Entry'!CG42","v":""},{"$f":"'Result Entry'!CH42","v":0},{"$f":"'Result Entry'!CI42","v":0},{"$f":"'Result Entry'!CJ42","v":0},{"$f":"'Result Entry'!CK42","v":0},{"$f":"'Result Entry'!CL42","v":0},{"$f":"'Result Entry'!CM42","v":0},{"$f":"'Result Entry'!CN42","v":0},{"$f":"'Result Entry'!CO42","v":""},{"$f":"'Result Entry'!CP42","v":0},{"$f":"'Result Entry'!CQ42","v":0},{"$f":"'Result Entry'!CR42","v":0},{"$f":"'Result Entry'!CS42","v":0},{"$f":"'Result Entry'!CT42","v":0},{"$f":"'Result Entry'!CU42","v":0},{"$f":"'Result Entry'!CV42","v":0},{"$f":"'Result Entry'!CW42","v":""},{"$f":"'Result Entry'!CX42","v":0},{"$f":"'Result Entry'!CY42","v":0},{"$f":"'Result Entry'!CZ42","v":0},{"$f":"'Result Entry'!DA42","v":0},{"$f":"'Result Entry'!DB42","v":0},{"$f":"'Result Entry'!DC42","v":0},{"$f":"'Result Entry'!DD42","v":0},{"$f":"'Result Entry'!DE42","v":""},{"$f":"'Result Entry'!DF42","v":0},{"$f":"'Result Entry'!DG42","v":0},{"$f":"'Result Entry'!DH42","v":0},{"$f":"'Result Entry'!DI42","v":0},{"$f":"'Result Entry'!DJ42","v":0},{"$f":"'Result Entry'!DK42","v":0},{"$f":"'Result Entry'!DL42","v":""},{"$f":"'Result Entry'!DM42","v":""},{"$f":"'Result Entry'!DN42","v":0},{"$f":"'Result Entry'!DO42","v":0},{"$f":"'Result Entry'!DP42","v":""},{"$f":"'Result Entry'!DQ42","v":900},{"$f":"'Result Entry'!DR42","v":0},{"$f":"'Result Entry'!DS42","v":{"v":0,"d":"0.00"}},{"$f":"'Result Entry'!DT42","v":""},{"$f":"'Result Entry'!DU42","v":""},{"$f":"'Result Entry'!DV42","v":""},{"$f":"'Result Entry'!DW42","v":""}]
[null,0,{"$f":"'Result Entry'!D43","v":0},{"$f":"'Result Entry'!E43","v":0},{"$f":"'Result Entry'!F43","v":0},{"$f":"'Result Entry'!G43","v":0},{"$f":"'Result Entry'!H43","v":0},{"$f":"'Result Entry'!I43","v":0},{"$f":"'Result Entry'!J43","v":"00:00:00"},{"$f":"'Result Entry'!K43","v":0},{"$f":"'Result Entry'!L43","v":0},{"$f":"'Result Entry'!M43","v":0},{"$f":"'Result Entry'!N43","v":0},{"$f":"'Result Entry'!O43","v":0},{"$f":"'Result Entry'!P43","v":0},{"$f":"'Result Entry'!Q43","v":0},{"$f":"'Result Entry'!R43","v":0},{"$f":"'Result Entry'!S43","v":0},{"$f":"'Result Entry'!T43","v":0},{"$f":"'Result Entry'!U43","v":0},{"$f":"'Result Entry'!V43","v":0},{"$f":"'Result Entry'!W43","v":0},{"$f":"'Result Entry'!X43","v":0},{"$f":"'Result Entry'!Y43","v":""},{"$f":"'Result Entry'!Z43","v":0},{"$f":"'Result Entry'!AA43","v":0},{"$f":"'Result Entry'!AB43","v":0},{"$f":"'Result Entry'!AC43","v":0},{"$f":"'Result Entry'!AD43","v":0},{"$f":"'Result Entry'!AE43","v":0},{"$f":"'Result Entry'!AF43","v":0},{"$f":"'Result Entry'!AG43","v":0},{"$f":"'Result Entry'!AH43","v":0},{"$f":"'Result Entry'!AI43","v":0},{"$f":"'Result Entry'!AJ43","v":0},{"$f":"'Result Entry'!AK43","v":0},{"$f":"'Result Entry'!AL43","v":0},{"$f":"'Result Entry'!AM43","v":0},{"$f":"'Result Entry'!AN43","v":""},{"$f":"'Result Entry'!AO43","v":0},{"$f":"'Result Entry'!AP43","v":0},{"$f":"'Result Entry'!AQ43","v":0},{"$f":"'Result Entry'!AR43","v":0},{"$f":"'Result Entry'!AS43","v":0},{"$f":"'Result Entry'!AT43","v":0},{"$f":"'Result Entry'!AU43","v":0},{"$f":"'Result Entry'!AV43","v":0},{"$f":"'Result Entry'!AW43","v":0},{"$f":"'Result Entry'!AX43","v":0},{"$f":"'Result Entry'!AY43","v":0},{"$f":"'Result Entry'!AZ43","v":0},{"$f":"'Result Entry'!BA43","v":0},{"$f":"'Result Entry'!BB43","v":0},{"$f":"'Result Entry'!BC43","v":""},{"$f":"'Result Entry'!BD43","v":0},{"$f":"'Result Entry'!BE43","v":0},{"$f":"'Result Entry'!BF43","v":0},{"$f":"'Result Entry'!BG43","v":0},{"$f":"'Result Entry'!BH43","v":0},{"$f":"'Result Entry'!BI43","v":0},{"$f":"'Result Entry'!BJ43","v":0},{"$f":"'Result Entry'!BK43","v":0},{"$f":"'Result Entry'!BL43","v":0},{"$f":"'Result Entry'!BM43","v":0},{"$f":"'Result Entry'!BN43","v":0},{"$f":"'Result Entry'!BO43","v":0},{"$f":"'Result Entry'!BP43","v":0},{"$f":"'Result Entry'!BQ43","v":0},{"$f":"'Result Entry'!BR43","v":""},{"$f":"'Result Entry'!BS43","v":0},{"$f":"'Result Entry'!BT43","v":0},{"$f":"'Result Entry'!BU43","v":0},{"$f":"'Result Entry'!BV43","v":0},{"$f":"'Result Entry'!BW43","v":0},{"$f":"'Result Entry'!BX43","v":0},{"$f":"'Result Entry'!BY43","v":0},{"$f":"'Result Entry'!BZ43","v":0},{"$f":"'Result Entry'!CA43","v":0},{"$f":"'Result Entry'!CB43","v":0},{"$f":"'Result Entry'!CC43","v":0},{"$f":"'Result Entry'!CD43","v":0},{"$f":"'Result Entry'!CE43","v":0},{"$f":"'Result Entry'!CF43","v":0},{"$f":"'Result Entry'!CG43","v":""},{"$f":"'Result Entry'!CH43","v":0},{"$f":"'Result Entry'!CI43","v":0},{"$f":"'Result Entry'!CJ43","v":0},{"$f":"'Result Entry'!CK43","v":0},{"$f":"'Result Entry'!CL43","v":0},{"$f":"'Result Entry'!CM43","v":0},{"$f":"'Result Entry'!CN43","v":0},{"$f":"'Result Entry'!CO43","v":""},{"$f":"'Result Entry'!CP43","v":0},{"$f":"'Result Entry'!CQ43","v":0},{"$f":"'Result Entry'!CR43","v":0},{"$f":"'Result Entry'!CS43","v":0},{"$f":"'Result Entry'!CT43","v":0},{"$f":"'Result Entry'!CU43","v":0},{"$f":"'Result Entry'!CV43","v":0},{"$f":"'Result Entry'!CW43","v":""},{"$f":"'Result Entry'!CX43","v":0},{"$f":"'Result Entry'!CY43","v":0},{"$f":"'Result Entry'!CZ43","v":0},{"$f":"'Result Entry'!DA43","v":0},{"$f":"'Result Entry'!DB43","v":0},{"$f":"'Result Entry'!DC43","v":0},{"$f":"'Result Entry'!DD43","v":0},{"$f":"'Result Entry'!DE43","v":""},{"$f":"'Result Entry'!DF43","v":0},{"$f":"'Result Entry'!DG43","v":0},{"$f":"'Result Entry'!DH43","v":0},{"$f":"'Result Entry'!DI43","v":0},{"$f":"'Result Entry'!DJ43","v":0},{"$f":"'Result Entry'!DK43","v":0},{"$f":"'Result Entry'!DL43","v":""},{"$f":"'Result Entry'!DM43","v":""},{"$f":"'Result Entry'!DN43","v":0},{"$f":"'Result Entry'!DO43","v":0},{"$f":"'Result Entry'!DP43","v":""},{"$f":"'Result Entry'!DQ43","v":900},{"$f":"'Result Entry'!DR43","v":0},{"$f":"'Result Entry'!DS43","v":{"v":0,"d":"0.00"}},{"$f":"'Result Entry'!DT43","v":""},{"$f":"'Result Entry'!DU43","v":""},{"$f":"'Result Entry'!DV43","v":""},{"$f":"'Result Entry'!DW43","v":""}]
[null,0,{"$f":"'Result Entry'!D44","v":0},{"$f":"'Result Entry'!E44","v":0},{"$f":"'Result Entry'!F44","v":0},{"$f":"'Result Entry'!G44","v":0},{"$f":"'Result Entry'!H44","v":0},{"$f":"'Result Entry'!I44","v":0},{"$f":"'Result Entry'!J44","v":"00:00:00"},{"$f":"'Result Entry'!K44","v":0},{"$f":"'Result Entry'!L44","v":0},{"$f":"'Result Entry'!M44","v":0},{"$f":"'Result Entry'!N44","v":0},{"$f":"'Result Entry'!O44","v":0},{"$f":"'Result Entry'!P44","v":0},{"$f":"'Result Entry'!Q44","v":0},{"$f":"'Result Entry'!R44","v":0},{"$f":"'Result Entry'!S44","v":0},{"$f":"'Result Entry'!T44","v":0},{"$f":"'Result Entry'!U44","v":0},{"$f":"'Result Entry'!V44","v":0},{"$f":"'Result Entry'!W44","v":0},{"$f":"'Result Entry'!X44","v":0},{"$f":"'Result Entry'!Y44","v":""},{"$f":"'Result Entry'!Z44","v":0},{"$f":"'Result Entry'!AA44","v":0},{"$f":"'Result Entry'!AB44","v":0},{"$f":"'Result Entry'!AC44","v":0},{"$f":"'Result Entry'!AD44","v":0},{"$f":"'Result Entry'!AE44","v":0},{"$f":"'Result Entry'!AF44","v":0},{"$f":"'Result Entry'!AG44","v":0},{"$f":"'Result Entry'!AH44","v":0},{"$f":"'Result Entry'!AI44","v":0},{"$f":"'Result Entry'!AJ44","v":0},{"$f":"'Result Entry'!AK44","v":0},{"$f":"'Result Entry'!AL44","v":0},{"$f":"'Result Entry'!AM44","v":0},{"$f":"'Result Entry'!AN44","v":""},{"$f":"'Result Entry'!AO44","v":0},{"$f":"'Result Entry'!AP44","v":0},{"$f":"'Result Entry'!AQ44","v":0},{"$f":"'Result Entry'!AR44","v":0},{"$f":"'Result Entry'!AS44","v":0},{"$f":"'Result Entry'!AT44","v":0},{"$f":"'Result Entry'!AU44","v":0},{"$f":"'Result Entry'!AV44","v":0},{"$f":"'Result Entry'!AW44","v":0},{"$f":"'Result Entry'!AX44","v":0},{"$f":"'Result Entry'!AY44","v":0},{"$f":"'Result Entry'!AZ44","v":0},{"$f":"'Result Entry'!BA44","v":0},{"$f":"'Result Entry'!BB44","v":0},{"$f":"'Result Entry'!BC44","v":""},{"$f":"'Result Entry'!BD44","v":0},{"$f":"'Result Entry'!BE44","v":0},{"$f":"'Result Entry'!BF44","v":0},{"$f":"'Result Entry'!BG44","v":0},{"$f":"'Result Entry'!BH44","v":0},{"$f":"'Result Entry'!BI44","v":0},{"$f":"'Result Entry'!BJ44","v":0},{"$f":"'Result Entry'!BK44","v":0},{"$f":"'Result Entry'!BL44","v":0},{"$f":"'Result Entry'!BM44","v":0},{"$f":"'Result Entry'!BN44","v":0},{"$f":"'Result Entry'!BO44","v":0},{"$f":"'Result Entry'!BP44","v":0},{"$f":"'Result Entry'!BQ44","v":0},{"$f":"'Result Entry'!BR44","v":""},{"$f":"'Result Entry'!BS44","v":0},{"$f":"'Result Entry'!BT44","v":0},{"$f":"'Result Entry'!BU44","v":0},{"$f":"'Result Entry'!BV44","v":0},{"$f":"'Result Entry'!BW44","v":0},{"$f":"'Result Entry'!BX44","v":0},{"$f":"'Result Entry'!BY44","v":0},{"$f":"'Result Entry'!BZ44","v":0},{"$f":"'Result Entry'!CA44","v":0},{"$f":"'Result Entry'!CB44","v":0},{"$f":"'Result Entry'!CC44","v":0},{"$f":"'Result Entry'!CD44","v":0},{"$f":"'Result Entry'!CE44","v":0},{"$f":"'Result Entry'!CF44","v":0},{"$f":"'Result Entry'!CG44","v":""},{"$f":"'Result Entry'!CH44","v":0},{"$f":"'Result Entry'!CI44","v":0},{"$f":"'Result Entry'!CJ44","v":0},{"$f":"'Result Entry'!CK44","v":0},{"$f":"'Result Entry'!CL44","v":0},{"$f":"'Result Entry'!CM44","v":0},{"$f":"'Result Entry'!CN44","v":0},{"$f":"'Result Entry'!CO44","v":""},{"$f":"'Result Entry'!CP44","v":0},{"$f":"'Result Entry'!CQ44","v":0},{"$f":"'Result Entry'!CR44","v":0},{"$f":"'Result Entry'!CS44","v":0},{"$f":"'Result Entry'!CT44","v":0},{"$f":"'Result Entry'!CU44","v":0},{"$f":"'Result Entry'!CV44","v":0},{"$f":"'Result Entry'!CW44","v":""},{"$f":"'Result Entry'!CX44","v":0},{"$f":"'Result Entry'!CY44","v":0},{"$f":"'Result Entry'!CZ44","v":0},{"$f":"'Result Entry'!DA44","v":0},{"$f":"'Result Entry'!DB44","v":0},{"$f":"'Result Entry'!DC44","v":0},{"$f":"'Result Entry'!DD44","v":0},{"$f":"'Result Entry'!DE44","v":""},{"$f":"'Result Entry'!DF44","v":0},{"$f":"'Result Entry'!DG44","v":0},{"$f":"'Result Entry'!DH44","v":0},{"$f":"'Result Entry'!DI44","v":0},{"$f":"'Result Entry'!DJ44","v":0},{"$f":"'Result Entry'!DK44","v":0},{"$f":"'Result Entry'!DL44","v":""},{"$f":"'Result Entry'!DM44","v":""},{"$f":"'Result Entry'!DN44","v":0},{"$f":"'Result Entry'!DO44","v":0},{"$f":"'Result Entry'!DP44","v":""},{"$f":"'Result Entry'!DQ44","v":900},{"$f":"'Result Entry'!DR44","v":0},{"$f":"'Result Entry'!DS44","v":{"v":0,"d":"0.00"}},{"$f":"'Result Entry'!DT44","v":""},{"$f":"'Result Entry'!DU44","v":""},{"$f":"'Result Entry'!DV44","v":""},{"$f":"'Result Entry'!DW44","v":""}]
[null,0,{"$f":"'Result Entry'!D45","v":0},{"$f":"'Result Entry'!E45","v":0},{"$f":"'Result Entry'!F45","v":0},{"$f":"'Result Entry'!G45","v":0},{"$f":"'Result Entry'!H45","v":0},{"$f":"'Result Entry'!I45","v":0},{"$f":"'Result Entry'!J45","v":"00:00:00"},{"$f":"'Result Entry'!K45","v":0},{"$f":"'Result Entry'!L45","v":0},{"$f":"'Result Entry'!M45","v":0},{"$f":"'Result Entry'!N45","v":0},{"$f":"'Result Entry'!O45","v":0},{"$f":"'Result Entry'!P45","v":0},{"$f":"'Result Entry'!Q45","v":0},{"$f":"'Result Entry'!R45","v":0},{"$f":"'Result Entry'!S45","v":0},{"$f":"'Result Entry'!T45","v":0},{"$f":"'Result Entry'!U45","v":0},{"$f":"'Result Entry'!V45","v":0},{"$f":"'Result Entry'!W45","v":0},{"$f":"'Result Entry'!X45","v":0},{"$f":"'Result Entry'!Y45","v":""},{"$f":"'Result Entry'!Z45","v":0},{"$f":"'Result Entry'!AA45","v":0},{"$f":"'Result Entry'!AB45","v":0},{"$f":"'Result Entry'!AC45","v":0},{"$f":"'Result Entry'!AD45","v":0},{"$f":"'Result Entry'!AE45","v":0},{"$f":"'Result Entry'!AF45","v":0},{"$f":"'Result Entry'!AG45","v":0},{"$f":"'Result Entry'!AH45","v":0},{"$f":"'Result Entry'!AI45","v":0},{"$f":"'Result Entry'!AJ45","v":0},{"$f":"'Result Entry'!AK45","v":0},{"$f":"'Result Entry'!AL45","v":0},{"$f":"'Result Entry'!AM45","v":0},{"$f":"'Result Entry'!AN45","v":""},{"$f":"'Result Entry'!AO45","v":0},{"$f":"'Result Entry'!AP45","v":0},{"$f":"'Result Entry'!AQ45","v":0},{"$f":"'Result Entry'!AR45","v":0},{"$f":"'Result Entry'!AS45","v":0},{"$f":"'Result Entry'!AT45","v":0},{"$f":"'Result Entry'!AU45","v":0},{"$f":"'Result Entry'!AV45","v":0},{"$f":"'Result Entry'!AW45","v":0},{"$f":"'Result Entry'!AX45","v":0},{"$f":"'Result Entry'!AY45","v":0},{"$f":"'Result Entry'!AZ45","v":0},{"$f":"'Result Entry'!BA45","v":0},{"$f":"'Result Entry'!BB45","v":0},{"$f":"'Result Entry'!BC45","v":""},{"$f":"'Result Entry'!BD45","v":0},{"$f":"'Result Entry'!BE45","v":0},{"$f":"'Result Entry'!BF45","v":0},{"$f":"'Result Entry'!BG45","v":0},{"$f":"'Result Entry'!BH45","v":0},{"$f":"'Result Entry'!BI45","v":0},{"$f":"'Result Entry'!BJ45","v":0},{"$f":"'Result Entry'!BK45","v":0},{"$f":"'Result Entry'!BL45","v":0},{"$f":"'Result Entry'!BM45","v":0},{"$f":"'Result Entry'!BN45","v":0},{"$f":"'Result Entry'!BO45","v":0},{"$f":"'Result Entry'!BP45","v":0},{"$f":"'Result Entry'!BQ45","v":0},{"$f":"'Result Entry'!BR45","v":""},{"$f":"'Result Entry'!BS45","v":0},{"$f":"'Result Entry'!BT45","v":0},{"$f":"'Result Entry'!BU45","v":0},{"$f":"'Result Entry'!BV45","v":0},{"$f":"'Result Entry'!BW45","v":0},{"$f":"'Result Entry'!BX45","v":0},{"$f":"'Result Entry'!BY45","v":0},{"$f":"'Result Entry'!BZ45","v":0},{"$f":"'Result Entry'!CA45","v":0},{"$f":"'Result Entry'!CB45","v":0},{"$f":"'Result Entry'!CC45","v":0},{"$f":"'Result Entry'!CD45","v":0},{"$f":"'Result Entry'!CE45","v":0},{"$f":"'Result Entry'!CF45","v":0},{"$f":"'Result Entry'!CG45","v":""},{"$f":"'Result Entry'!CH45","v":0},{"$f":"'Result Entry'!CI45","v":0},{"$f":"'Result Entry'!CJ45","v":0},{"$f":"'Result Entry'!CK45","v":0},{"$f":"'Result Entry'!CL45","v":0},{"$f":"'Result Entry'!CM45","v":0},{"$f":"'Result Entry'!CN45","v":0},{"$f":"'Result Entry'!CO45","v":""},{"$f":"'Result Entry'!CP45","v":0},{"$f":"'Result Entry'!CQ45","v":0},{"$f":"'Result Entry'!CR45","v":0},{"$f":"'Result Entry'!CS45","v":0},{"$f":"'Result Entry'!CT45","v":0},{"$f":"'Result Entry'!CU45","v":0},{"$f":"'Result Entry'!CV45","v":0},{"$f":"'Result Entry'!CW45","v":""},{"$f":"'Result Entry'!CX45","v":0},{"$f":"'Result Entry'!CY45","v":0},{"$f":"'Result Entry'!CZ45","v":0},{"$f":"'Result Entry'!DA45","v":0},{"$f":"'Result Entry'!DB45","v":0},{"$f":"'Result Entry'!DC45","v":0},{"$f":"'Result Entry'!DD45","v":0},{"$f":"'Result Entry'!DE45","v":""},{"$f":"'Result Entry'!DF45","v":0},{"$f":"'Result Entry'!DG45","v":0},{"$f":"'Result Entry'!DH45","v":0},{"$f":"'Result Entry'!DI45","v":0},{"$f":"'Result Entry'!DJ45","v":0},{"$f":"'Result Entry'!DK45","v":0},{"$f":"'Result Entry'!DL45","v":""},{"$f":"'Result Entry'!DM45","v":""},{"$f":"'Result Entry'!DN45","v":0},{"$f":"'Result Entry'!DO45","v":0},{"$f":"'Result Entry'!DP45","v":""},{"$f":"'Result Entry'!DQ45","v":900},{"$f":"'Result Entry'!DR45","v":0},{"$f":"'Result Entry'!DS45","v":{"v":0,"d":"0.00"}},{"$f":"'Result Entry'!DT45","v":""},{"$f":"'Result Entry'!DU45","v":""},{"$f":"'Result Entry'!DV45","v":""},{"$f":"'Result Entry'!DW45","v":""}]
[null,0,{"$f":"'Result Entry'!D46","v":0},{"$f":"'Result Entry'!E46","v":0},{"$f":"'Result Entry'!F46","v":0},{"$f":"'Result Entry'!G46","v":0},{"$f":"'Result Entry'!H46","v":0},{"$f":"'Result Entry'!I46","v":0},{"$f":"'Result Entry'!J46","v":"00:00:00"},{"$f":"'Result Entry'!K46","v":0},{"$f":"'Result Entry'!L46","v":0},{"$f":"'Result Entry'!M46","v":0},{"$f":"'Result Entry'!N46","v":0},{"$f":"'Result Entry'!O46","v":0},{"$f":"'Result Entry'!P46","v":0},{"$f":"'Result Entry'!Q46","v":0},{"$f":"'Result Entry'!R46","v":0},{"$f":"'Result Entry'!S46","v":0},{"$f":"'Result Entry'!T46","v":0},{"$f":"'Result Entry'!U46","v":0},{"$f":"'Result Entry'!V46","v":0},{"$f":"'Result Entry'!W46","v":0},{"$f":"'Result Entry'!X46","v":0},{"$f":"'Result Entry'!Y46","v":""},{"$f":"'Result Entry'!Z46","v":0},{"$f":"'Result Entry'!AA46","v":0},{"$f":"'Result Entry'!AB46","v":0},{"$f":"'Result Entry'!AC46","v":0},{"$f":"'Result Entry'!AD46","v":0},{"$f":"'Result Entry'!AE46","v":0},{"$f":"'Result Entry'!AF46","v":0},{"$f":"'Result Entry'!AG46","v":0},{"$f":"'Result Entry'!AH46","v":0},{"$f":"'Result Entry'!AI46","v":0},{"$f":"'Result Entry'!AJ46","v":0},{"$f":"'Result Entry'!AK46","v":0},{"$f":"'Result Entry'!AL46","v":0},{"$f":"'Result Entry'!AM46","v":0},{"$f":"'Result Entry'!AN46","v":""},{"$f":"'Result Entry'!AO46","v":0},{"$f":"'Result Entry'!AP46","v":0},{"$f":"'Result Entry'!AQ46","v":0},{"$f":"'Result Entry'!AR46","v":0},{"$f":"'Result Entry'!AS46","v":0},{"$f":"'Result Entry'!AT46","v":0},{"$f":"'Result Entry'!AU46","v":0},{"$f":"'Result Entry'!AV46","v":0},{"$f":"'Result Entry'!AW46","v":0},{"$f":"'Result Entry'!AX46","v":0},{"$f":"'Result Entry'!AY46","v":0},{"$f":"'Result Entry'!AZ46","v":0},{"$f":"'Result Entry'!BA46","v":0},{"$f":"'Result Entry'!BB46","v":0},{"$f":"'Result Entry'!BC46","v":""},{"$f":"'Result Entry'!BD46","v":0},{"$f":"'Result Entry'!BE46","v":0},{"$f":"'Result Entry'!BF46","v":0},{"$f":"'Result Entry'!BG46","v":0},{"$f":"'Result Entry'!BH46","v":0},{"$f":"'Result Entry'!BI46","v":0},{"$f":"'Result Entry'!BJ46","v":0},{"$f":"'Result Entry'!BK46","v":0},{"$f":"'Result Entry'!BL46","v":0},{"$f":"'Result Entry'!BM46","v":0},{"$f":"'Result Entry'!BN46","v":0},{"$f":"'Result Entry'!BO46","v":0},{"$f":"'Result Entry'!BP46","v":0},{"$f":"'Result Entry'!BQ46","v":0},{"$f":"'Result Entry'!BR46","v":""},{"$f":"'Result Entry'!BS46","v":0},{"$f":"'Result Entry'!BT46","v":0},{"$f":"'Result Entry'!BU46","v":0},{"$f":"'Result Entry'!BV46","v":0},{"$f":"'Result Entry'!BW46","v":0},{"$f":"'Result Entry'!BX46","v":0},{"$f":"'Result Entry'!BY46","v":0},{"$f":"'Result Entry'!BZ46","v":0},{"$f":"'Result Entry'!CA46","v":0},{"$f":"'Result Entry'!CB46","v":0},{"$f":"'Result Entry'!CC46","v":0},{"$f":"'Result Entry'!CD46","v":0},{"$f":"'Result Entry'!CE46","v":0},{"$f":"'Result Entry'!CF46","v":0},{"$f":"'Result Entry'!CG46","v":""},{"$f":"'Result Entry'!CH46","v":0},{"$f":"'Result Entry'!CI46","v":0},{"$f":"'Result Entry'!CJ46","v":0},{"$f":"'Result Entry'!CK46","v":0},{"$f":"'Result Entry'!CL46","v":0},{"$f":"'Result Entry'!CM46","v":0},{"$f":"'Result Entry'!CN46","v":0},{"$f":"'Result Entry'!CO46","v":""},{"$f":"'Result Entry'!CP46","v":0},{"$f":"'Result Entry'!CQ46","v":0},{"$f":"'Result Entry'!CR46","v":0},{"$f":"'Result Entry'!CS46","v":0},{"$f":"'Result Entry'!CT46","v":0},{"$f":"'Result Entry'!CU46","v":0},{"$f":"'Result Entry'!CV46","v":0},{"$f":"'Result Entry'!CW46","v":""},{"$f":"'Result Entry'!CX46","v":0},{"$f":"'Result Entry'!CY46","v":0},{"$f":"'Result Entry'!CZ46","v":0},{"$f":"'Result Entry'!DA46","v":0},{"$f":"'Result Entry'!DB46","v":0},{"$f":"'Result Entry'!DC46","v":0},{"$f":"'Result Entry'!DD46","v":0},{"$f":"'Result Entry'!DE46","v":""},{"$f":"'Result Entry'!DF46","v":0},{"$f":"'Result Entry'!DG46","v":0},{"$f":"'Result Entry'!DH46","v":0},{"$f":"'Result Entry'!DI46","v":0},{"$f":"'Result Entry'!DJ46","v":0},{"$f":"'Result Entry'!DK46","v":0},{"$f":"'Result Entry'!DL46","v":""},{"$f":"'Result Entry'!DM46","v":""},{"$f":"'Result Entry'!DN46","v":0},{"$f":"'Result Entry'!DO46","v":0},{"$f":"'Result Entry'!DP46","v":""},{"$f":"'Result Entry'!DQ46","v":900},{"$f":"'Result Entry'!DR46","v":0},{"$f":"'Result Entry'!DS46","v":{"v":0,"d":"0.00"}},{"$f":"'Result Entry'!DT46","v":""},{"$f":"'Result Entry'!DU46","v":""},{"$f":"'Result Entry'!DV46","v":""},{"$f":"'Result Entry'!DW46","v":""}]
[null,0,{"$f":"'Result Entry'!D47","v":0},{"$f":"'Result Entry'!E47","v":0},{"$f":"'Result Entry'!F47","v":0},{"$f":"'Result Entry'!G47","v":0},{"$f":"'Result Entry'!H47","v":0},{"$f":"'Result Entry'!I47","v":0},{"$f":"'Result Entry'!J47","v":"00:00:00"},{"$f":"'Result Entry'!K47","v":0},{"$f":"'Result Entry'!L47","v":0},{"$f":"'Result Entry'!M47","v":0},{"$f":"'Result Entry'!N47","v":0},{"$f":"'Result Entry'!O47","v":0},{"$f":"'Result Entry'!P47","v":0},{"$f":"'Result Entry'!Q47","v":0},{"$f":"'Result Entry'!R47","v":0},{"$f":"'Result Entry'!S47","v":0},{"$f":"'Result Entry'!T47","v":0},{"$f":"'Result Entry'!U47","v":0},{"$f":"'Result Entry'!V47","v":0},{"$f":"'Result Entry'!W47","v":0},{"$f":"'Result Entry'!X47","v":0},{"$f":"'Result Entry'!Y47","v":""},{"$f":"'Result Entry'!Z47","v":0},{"$f":"'Result Entry'!AA47","v":0},{"$f":"'Result Entry'!AB47","v":0},{"$f":"'Result Entry'!AC47","v":0},{"$f":"'Result Entry'!AD47","v":0},{"$f":"'Result Entry'!AE47","v":0},{"$f":"'Result Entry'!AF47","v":0},{"$f":"'Result Entry'!AG47","v":0},{"$f":"'Result Entry'!AH47","v":0},{"$f":"'Result Entry'!AI47","v":0},{"$f":"'Result Entry'!AJ47","v":0},{"$f":"'Result Entry'!AK47","v":0},{"$f":"'Result Entry'!AL47","v":0},{"$f":"'Result Entry'!AM47","v":0},{"$f":"'Result Entry'!AN47","v":""},{"$f":"'Result Entry'!AO47","v":0},{"$f":"'Result Entry'!AP47","v":0},{"$f":"'Result Entry'!AQ47","v":0},{"$f":"'Result Entry'!AR47","v":0},{"$f":"'Result Entry'!AS47","v":0},{"$f":"'Result Entry'!AT47","v":0},{"$f":"'Result Entry'!AU47","v":0},{"$f":"'Result Entry'!AV47","v":0},{"$f":"'Result Entry'!AW47","v":0},{"$f":"'Result Entry'!AX47","v":0},{"$f":"'Result Entry'!AY47","v":0},{"$f":"'Result Entry'!AZ47","v":0},{"$f":"'Result Entry'!BA47","v":0},{"$f":"'Result Entry'!BB47","v":0},{"$f":"'Result Entry'!BC47","v":""},{"$f":"'Result Entry'!BD47","v":0},{"$f":"'Result Entry'!BE47","v":0},{"$f":"'Result Entry'!BF47","v":0},{"$f":"'Result Entry'!BG47","v":0},{"$f":"'Result Entry'!BH47","v":0},{"$f":"'Result Entry'!BI47","v":0},{"$f":"'Result Entry'!BJ47","v":0},{"$f":"'Result Entry'!BK47","v":0},{"$f":"'Result Entry'!BL47","v":0},{"$f":"'Result Entry'!BM47","v":0},{"$f":"'Result Entry'!BN47","v":0},{"$f":"'Result Entry'!BO47","v":0},{"$f":"'Result Entry'!BP47","v":0},{"$f":"'Result Entry'!BQ47","v":0},{"$f":"'Result Entry'!BR47","v":""},{"$f":"'Result Entry'!BS47","v":0},{"$f":"'Result Entry'!BT47","v":0},{"$f":"'Result Entry'!BU47","v":0},{"$f":"'Result Entry'!BV47","v":0},{"$f":"'Result Entry'!BW47","v":0},{"$f":"'Result Entry'!BX47","v":0},{"$f":"'Result Entry'!BY47","v":0},{"$f":"'Result Entry'!BZ47","v":0},{"$f":"'Result Entry'!CA47","v":0},{"$f":"'Result Entry'!CB47","v":0},{"$f":"'Result Entry'!CC47","v":0},{"$f":"'Result Entry'!CD47","v":0},{"$f":"'Result Entry'!CE47","v":0},{"$f":"'Result Entry'!CF47","v":0},{"$f":"'Result Entry'!CG47","v":""},{"$f":"'Result Entry'!CH47","v":0},{"$f":"'Result Entry'!CI47","v":0},{"$f":"'Result Entry'!CJ47","v":0},{"$f":"'Result Entry'!CK47","v":0},{"$f":"'Result Entry'!CL47","v":0},{"$f":"'Result Entry'!CM47","v":0},{"$f":"'Result Entry'!CN47","v":0},{"$f":"'Result Entry'!CO47","v":""},{"$f":"'Result Entry'!CP47","v":0},{"$f":"'Result Entry'!CQ47","v":0},{"$f":"'Result Entry'!CR47","v":0},{"$f":"'Result Entry'!CS47","v":0},{"$f":"'Result Entry'!CT47","v":0},{"$f":"'Result Entry'!CU47","v":0},{"$f":"'Result Entry'!CV47","v":0},{"$f":"'Result Entry'!CW47","v":""},{"$f":"'Result Entry'!CX47","v":0},{"$f":"'Result Entry'!CY47","v":0},{"$f":"'Result Entry'!CZ47","v":0},{"$f":"'Result Entry'!DA47","v":0},{"$f":"'Result Entry'!DB47","v":0},{"$f":"'Result Entry'!DC47","v":0},{"$f":"'Result Entry'!DD47","v":0},{"$f":"'Result Entry'!DE47","v":""},{"$f":"'Result Entry'!DF47","v":0},{"$f":"'Result Entry'!DG47","v":0},{"$f":"'Result Entry'!DH47","v":0},{"$f":"'Result Entry'!DI47","v":0},{"$f":"'Result Entry'!DJ47","v":0},{"$f":"'Result Entry'!DK47","v":0},{"$f":"'Result Entry'!DL47","v":""},{"$f":"'Result Entry'!DM47","v":""},{"$f":"'Result Entry'!DN47","v":0},{"$f":"'Result Entry'!DO47","v":0},{"$f":"'Result Entry'!DP47","v":""},{"$f":"'Result Entry'!DQ47","v":900},{"$f":"'Result Entry'!DR47","v":0},{"$f":"'Result Entry'!DS47","v":{"v":0,"d":"0.00"}},{"$f":"'Result Entry'!DT47","v":""},{"$f":"'Result Entry'!DU47","v":""},{"$f":"'Result Entry'!DV47","v":""},{"$f":"'Result Entry'!DW47","v":""}]
[null,0,{"$f":"'Result Entry'!D48","v":0},{"$f":"'Result Entry'!E48","v":0},{"$f":"'Result Entry'!F48","v":0},{"$f":"'Result Entry'!G48","v":0},{"$f":"'Result Entry'!H48","v":0},{"$f":"'Result Entry'!I48","v":0},{"$f":"'Result Entry'!J48","v":"00:00:00"},{"$f":"'Result Entry'!K48","v":0},{"$f":"'Result Entry'!L48","v":0},{"$f":"'Result Entry'!M48","v":0},{"$f":"'Result Entry'!N48","v":0},{"$f":"'Result Entry'!O48","v":0},{"$f":"'Result Entry'!P48","v":0},{"$f":"'Result Entry'!Q48","v":0},{"$f":"'Result Entry'!R48","v":0},{"$f":"'Result Entry'!S48","v":0},{"$f":"'Result Entry'!T48","v":0},{"$f":"'Result Entry'!U48","v":0},{"$f":"'Result Entry'!V48","v":0},{"$f":"'Result Entry'!W48","v":0},{"$f":"'Result Entry'!X48","v":0},{"$f":"'Result Entry'!Y48","v":""},{"$f":"'Result Entry'!Z48","v":0},{"$f":"'Result Entry'!AA48","v":0},{"$f":"'Result Entry'!AB48","v":0},{"$f":"'Result Entry'!AC48","v":0},{"$f":"'Result Entry'!AD48","v":0},{"$f":"'Result Entry'!AE48","v":0},{"$f":"'Result Entry'!AF48","v":0},{"$f":"'Result Entry'!AG48","v":0},{"$f":"'Result Entry'!AH48","v":0},{"$f":"'Result Entry'!AI48","v":0},{"$f":"'Result Entry'!AJ48","v":0},{"$f":"'Result Entry'!AK48","v":0},{"$f":"'Result Entry'!AL48","v":0},{"$f":"'Result Entry'!AM48","v":0},{"$f":"'Result Entry'!AN48","v":""},{"$f":"'Result Entry'!AO48","v":0},{"$f":"'Result Entry'!AP48","v":0},{"$f":"'Result Entry'!AQ48","v":0},{"$f":"'Result Entry'!AR48","v":0},{"$f":"'Result Entry'!AS48","v":0},{"$f":"'Result Entry'!AT48","v":0},{"$f":"'Result Entry'!AU48","v":0},{"$f":"'Result Entry'!AV48","v":0},{"$f":"'Result Entry'!AW48","v":0},{"$f":"'Result Entry'!AX48","v":0},{"$f":"'Result Entry'!AY48","v":0},{"$f":"'Result Entry'!AZ48","v":0},{"$f":"'Result Entry'!BA48","v":0},{"$f":"'Result Entry'!BB48","v":0},{"$f":"'Result Entry'!BC48","v":""},{"$f":"'Result Entry'!BD48","v":0},{"$f":"'Result Entry'!BE48","v":0},{"$f":"'Result Entry'!BF48","v":0},{"$f":"'Result Entry'!BG48","v":0},{"$f":"'Result Entry'!BH48","v":0},{"$f":"'Result Entry'!BI48","v":0},{"$f":"'Result Entry'!BJ48","v":0},{"$f":"'Result Entry'!BK48","v":0},{"$f":"'Result Entry'!BL48","v":0},{"$f":"'Result Entry'!BM48","v":0},{"$f":"'Result Entry'!BN48","v":0},{"$f":"'Result Entry'!BO48","v":0},{"$f":"'Result Entry'!BP48","v":0},{"$f":"'Result Entry'!BQ48","v":0},{"$f":"'Result Entry'!BR48","v":""},{"$f":"'Result Entry'!BS48","v":0},{"$f":"'Result Entry'!BT48","v":0},{"$f":"'Result Entry'!BU48","v":0},{"$f":"'Result Entry'!BV48","v":0},{"$f":"'Result Entry'!BW48","v":0},{"$f":"'Result Entry'!BX48","v":0},{"$f":"'Result Entry'!BY48","v":0},{"$f":"'Result Entry'!BZ48","v":0},{"$f":"'Result Entry'!CA48","v":0},{"$f":"'Result Entry'!CB48","v":0},{"$f":"'Result Entry'!CC48","v":0},{"$f":"'Result Entry'!CD48","v":0},{"$f":"'Result Entry'!CE48","v":0},{"$f":"'Result Entry'!CF48","v":0},{"$f":"'Result Entry'!CG48","v":""},{"$f":"'Result Entry'!CH48","v":0},{"$f":"'Result Entry'!CI48","v":0},{"$f":"'Result Entry'!CJ48","v":0},{"$f":"'Result Entry'!CK48","v":0},{"$f":"'Result Entry'!CL48","v":0},{"$f":"'Result Entry'!CM48","v":0},{"$f":"'Result Entry'!CN48","v":0},{"$f":"'Result Entry'!CO48","v":""},{"$f":"'Result Entry'!CP48","v":0},{"$f":"'Result Entry'!CQ48","v":0},{"$f":"'Result Entry'!CR48","v":0},{"$f":"'Result Entry'!CS48","v":0},{"$f":"'Result Entry'!CT48","v":0},{"$f":"'Result Entry'!CU48","v":0},{"$f":"'Result Entry'!CV48","v":0},{"$f":"'Result Entry'!CW48","v":""},{"$f":"'Result Entry'!CX48","v":0},{"$f":"'Result Entry'!CY48","v":0},{"$f":"'Result Entry'!CZ48","v":0},{"$f":"'Result Entry'!DA48","v":0},{"$f":"'Result Entry'!DB48","v":0},{"$f":"'Result Entry'!DC48","v":0},{"$f":"'Result Entry'!DD48","v":0},{"$f":"'Result Entry'!DE48","v":""},{"$f":"'Result Entry'!DF48","v":0},{"$f":"'Result Entry'!DG48","v":0},{"$f":"'Result Entry'!DH48","v":0},{"$f":"'Result Entry'!DI48","v":0},{"$f":"'Result Entry'!DJ48","v":0},{"$f":"'Result Entry'!DK48","v":0},{"$f":"'Result Entry'!DL48","v":""},{"$f":"'Result Entry'!DM48","v":""},{"$f":"'Result Entry'!DN48","v":0},{"$f":"'Result Entry'!DO48","v":0},{"$f":"'Result Entry'!DP48","v":""},{"$f":"'Result Entry'!DQ48","v":900},{"$f":"'Result Entry'!DR48","v":0},{"$f":"'Result Entry'!DS48","v":{"v":0,"d":"0.00"}},{"$f":"'Result Entry'!DT48","v":""},{"$f":"'Result Entry'!DU48","v":""},{"$f":"'Result Entry'!DV48","v":""},{"$f":"'Result Entry'!DW48","v":""}]
[null,0,{"$f":"'Result Entry'!D49","v":0},{"$f":"'Result Entry'!E49","v":0},{"$f":"'Result Entry'!F49","v":0},{"$f":"'Result Entry'!G49","v":0},{"$f":"'Result Entry'!H49","v":0},{"$f":"'Result Entry'!I49","v":0},{"$f":"'Result Entry'!J49","v":"00:00:00"},{"$f":"'Result Entry'!K49","v":0},{"$f":"'Result Entry'!L49","v":0},{"$f":"'Result Entry'!M49","v":0},{"$f":"'Result Entry'!N49","v":0},{"$f":"'Result Entry'!O49","v":0},{"$f":"'Result Entry'!P49","v":0},{"$f":"'Result Entry'!Q49","v":0},{"$f":"'Result Entry'!R49","v":0},{"$f":"'Result Entry'!S49","v":0},{"$f":"'Result Entry'!T49","v":0},{"$f":"'Result Entry'!U49","v":0},{"$f":"'Result Entry'!V49","v":0},{"$f":"'Result Entry'!W49","v":0},{"$f":"'Result Entry'!X49","v":0},{"$f":"'Result Entry'!Y49","v":""},{"$f":"'Result Entry'!Z49","v":0},{"$f":"'Result Entry'!AA49","v":0},{"$f":"'Result Entry'!AB49","v":0},{"$f":"'Result Entry'!AC49","v":0},{"$f":"'Result Entry'!AD49","v":0},{"$f":"'Result Entry'!AE49","v":0},{"$f":"'Result Entry'!AF49","v":0},{"$f":"'Result Entry'!AG49","v":0},{"$f":"'Result Entry'!AH49","v":0},{"$f":"'Result Entry'!AI49","v":0},{"$f":"'Result Entry'!AJ49","v":0},{"$f":"'Result Entry'!AK49","v":0},{"$f":"'Result Entry'!AL49","v":0},{"$f":"'Result Entry'!AM49","v":0},{"$f":"'Result Entry'!AN49","v":""},{"$f":"'Result Entry'!AO49","v":0},{"$f":"'Result Entry'!AP49","v":0},{"$f":"'Result Entry'!AQ49","v":0},{"$f":"'Result Entry'!AR49","v":0},{"$f":"'Result Entry'!AS49","v":0},{"$f":"'Result Entry'!AT49","v":0},{"$f":"'Result Entry'!AU49","v":0},{"$f":"'Result Entry'!AV49","v":0},{"$f":"'Result Entry'!AW49","v":0},{"$f":"'Result Entry'!AX49","v":0},{"$f":"'Result Entry'!AY49","v":0},{"$f":"'Result Entry'!AZ49","v":0},{"$f":"'Result Entry'!BA49","v":0},{"$f":"'Result Entry'!BB49","v":0},{"$f":"'Result Entry'!BC49","v":""},{"$f":"'Result Entry'!BD49","v":0},{"$f":"'Result Entry'!BE49","v":0},{"$f":"'Result Entry'!BF49","v":0},{"$f":"'Result Entry'!BG49","v":0},{"$f":"'Result Entry'!BH49","v":0},{"$f":"'Result Entry'!BI49","v":0},{"$f":"'Result Entry'!BJ49","v":0},{"$f":"'Result Entry'!BK49","v":0},{"$f":"'Result Entry'!BL49","v":0},{"$f":"'Result Entry'!BM49","v":0},{"$f":"'Result Entry'!BN49","v":0},{"$f":"'Result Entry'!BO49","v":0},{"$f":"'Result Entry'!BP49","v":0},{"$f":"'Result Entry'!BQ49","v":0},{"$f":"'Result Entry'!BR49","v":""},{"$f":"'Result Entry'!BS49","v":0},{"$f":"'Result Entry'!BT49","v":0},{"$f":"'Result Entry'!BU49","v":0},{"$f":"'Result Entry'!BV49","v":0},{"$f":"'Result Entry'!BW49","v":0},{"$f":"'Result Entry'!BX49","v":0},{"$f":"'Result Entry'!BY49","v":0},{"$f":"'Result Entry'!BZ49","v":0},{"$f":"'Result Entry'!CA49","v":0},{"$f":"'Result Entry'!CB49","v":0},{"$f":"'Result Entry'!CC49","v":0},{"$f":"'Result Entry'!CD49","v":0},{"$f":"'Result Entry'!CE49","v":0},{"$f":"'Result Entry'!CF49","v":0},{"$f":"'Result Entry'!CG49","v":""},{"$f":"'Result Entry'!CH49","v":0},{"$f":"'Result Entry'!CI49","v":0},{"$f":"'Result Entry'!CJ49","v":0},{"$f":"'Result Entry'!CK49","v":0},{"$f":"'Result Entry'!CL49","v":0},{"$f":"'Result Entry'!CM49","v":0},{"$f":"'Result Entry'!CN49","v":0},{"$f":"'Result Entry'!CO49","v":""},{"$f":"'Result Entry'!CP49","v":0},{"$f":"'Result Entry'!CQ49","v":0},{"$f":"'Result Entry'!CR49","v":0},{"$f":"'Result Entry'!CS49","v":0},{"$f":"'Result Entry'!CT49","v":0},{"$f":"'Result Entry'!CU49","v":0},{"$f":"'Result Entry'!CV49","v":0},{"$f":"'Result Entry'!CW49","v":""},{"$f":"'Result Entry'!CX49","v":0},{"$f":"'Result Entry'!CY49","v":0},{"$f":"'Result Entry'!CZ49","v":0},{"$f":"'Result Entry'!DA49","v":0},{"$f":"'Result Entry'!DB49","v":0},{"$f":"'Result Entry'!DC49","v":0},{"$f":"'Result Entry'!DD49","v":0},{"$f":"'Result Entry'!DE49","v":""},{"$f":"'Result Entry'!DF49","v":0},{"$f":"'Result Entry'!DG49","v":0},{"$f":"'Result Entry'!DH49","v":0},{"$f":"'Result Entry'!DI49","v":0},{"$f":"'Result Entry'!DJ49","v":0},{"$f":"'Result Entry'!DK49","v":0},{"$f":"'Result Entry'!DL49","v":""},{"$f":"'Result Entry'!DM49","v":""},{"$f":"'Result Entry'!DN49","v":0},{"$f":"'Result Entry'!DO49","v":0},{"$f":"'Result Entry'!DP49","v":""},{"$f":"'Result Entry'!DQ49","v":900},{"$f":"'Result Entry'!DR49","v":0},{"$f":"'Result Entry'!DS49","v":{"v":0,"d":"0.00"}},{"$f":"'Result Entry'!DT49","v":""},{"$f":"'Result Entry'!DU49","v":""},{"$f":"'Result Entry'!DV49","v":""},{"$f":"'Result Entry'!DW49","v":""}]
[null,0,{"$f":"'Result Entry'!D50","v":0},{"$f":"'Result Entry'!E50","v":0},{"$f":"'Result Entry'!F50","v":0},{"$f":"'Result Entry'!G50","v":0},{"$f":"'Result Entry'!H50","v":0},{"$f":"'Result Entry'!I50","v":0},{"$f":"'Result Entry'!J50","v":"00:00:00"},{"$f":"'Result Entry'!K50","v":0},{"$f":"'Result Entry'!L50","v":0},{"$f":"'Result Entry'!M50","v":0},{"$f":"'Result Entry'!N50","v":0},{"$f":"'Result Entry'!O50","v":0},{"$f":"'Result Entry'!P50","v":0},{"$f":"'Result Entry'!Q50","v":0},{"$f":"'Result Entry'!R50","v":0},{"$f":"'Result Entry'!S50","v":0},{"$f":"'Result Entry'!T50","v":0},{"$f":"'Result Entry'!U50","v":0},{"$f":"'Result Entry'!V50","v":0},{"$f":"'Result Entry'!W50","v":0},{"$f":"'Result Entry'!X50","v":0},{"$f":"'Result Entry'!Y50","v":""},{"$f":"'Result Entry'!Z50","v":0},{"$f":"'Result Entry'!AA50","v":0},{"$f":"'Result Entry'!AB50","v":0},{"$f":"'Result Entry'!AC50","v":0},{"$f":"'Result Entry'!AD50","v":0},{"$f":"'Result Entry'!AE50","v":0},{"$f":"'Result Entry'!AF50","v":0},{"$f":"'Result Entry'!AG50","v":0},{"$f":"'Result Entry'!AH50","v":0},{"$f":"'Result Entry'!AI50","v":0},{"$f":"'Result Entry'!AJ50","v":0},{"$f":"'Result Entry'!AK50","v":0},{"$f":"'Result Entry'!AL50","v":0},{"$f":"'Result Entry'!AM50","v":0},{"$f":"'Result Entry'!AN50","v":""},{"$f":"'Result Entry'!AO50","v":0},{"$f":"'Result Entry'!AP50","v":0},{"$f":"'Result Entry'!AQ50","v":0},{"$f":"'Result Entry'!AR50","v":0},{"$f":"'Result Entry'!AS50","v":0},{"$f":"'Result Entry'!AT50","v":0},{"$f":"'Result Entry'!AU50","v":0},{"$f":"'Result Entry'!AV50","v":0},{"$f":"'Result Entry'!AW50","v":0},{"$f":"'Result Entry'!AX50","v":0},{"$f":"'Result Entry'!AY50","v":0},{"$f":"'Result Entry'!AZ50","v":0},{"$f":"'Result Entry'!BA50","v":0},{"$f":"'Result Entry'!BB50","v":0},{"$f":"'Result Entry'!BC50","v":""},{"$f":"'Result Entry'!BD50","v":0},{"$f":"'Result Entry'!BE50","v":0},{"$f":"'Result Entry'!BF50","v":0},{"$f":"'Result Entry'!BG50","v":0},{"$f":"'Result Entry'!BH50","v":0},{"$f":"'Result Entry'!BI50","v":0},{"$f":"'Result Entry'!BJ50","v":0},{"$f":"'Result Entry'!BK50","v":0},{"$f":"'Result Entry'!BL50","v":0},{"$f":"'Result Entry'!BM50","v":0},{"$f":"'Result Entry'!BN50","v":0},{"$f":"'Result Entry'!BO50","v":0},{"$f":"'Result Entry'!BP50","v":0},{"$f":"'Result Entry'!BQ50","v":0},{"$f":"'Result Entry'!BR50","v":""},{"$f":"'Result Entry'!BS50","v":0},{"$f":"'Result Entry'!BT50","v":0},{"$f":"'Result Entry'!BU50","v":0},{"$f":"'Result Entry'!BV50","v":0},{"$f":"'Result Entry'!BW50","v":0},{"$f":"'Result Entry'!BX50","v":0},{"$f":"'Result Entry'!BY50","v":0},{"$f":"'Result Entry'!BZ50","v":0},{"$f":"'Result Entry'!CA50","v":0},{"$f":"'Result Entry'!CB50","v":0},{"$f":"'Result Entry'!CC50","v":0},{"$f":"'Result Entry'!CD50","v":0},{"$f":"'Result Entry'!CE50","v":0},{"$f":"'Result Entry'!CF50","v":0},{"$f":"'Result Entry'!CG50","v":""},{"$f":"'Result Entry'!CH50","v":0},{"$f":"'Result Entry'!CI50","v":0},{"$f":"'Result Entry'!CJ50","v":0},{"$f":"'Result Entry'!CK50","v":0},{"$f":"'Result Entry'!CL50","v":0},{"$f":"'Result Entry'!CM50","v":0},{"$f":"'Result Entry'!CN50","v":0},{"$f":"'Result Entry'!CO50","v":""},{"$f":"'Result Entry'!CP50","v":0},{"$f":"'Result Entry'!CQ50","v":0},{"$f":"'Result Entry'!CR50","v":0},{"$f":"'Result Entry'!CS50","v":0},{"$f":"'Result Entry'!CT50","v":0},{"$f":"'Result Entry'!CU50","v":0},{"$f":"'Result Entry'!CV50","v":0},{"$f":"'Result Entry'!CW50","v":""},{"$f":"'Result Entry'!CX50","v":0},{"$f":"'Result Entry'!CY50","v":0},{"$f":"'Result Entry'!CZ50","v":0},{"$f":"'Result Entry'!DA50","v":0},{"$f":"'Result Entry'!DB50","v":0},{"$f":"'Result Entry'!DC50","v":0},{"$f":"'Result Entry'!DD50","v":0},{"$f":"'Result Entry'!DE50","v":""},{"$f":"'Result Entry'!DF50","v":0},{"$f":"'Result Entry'!DG50","v":0},{"$f":"'Result Entry'!DH50","v":0},{"$f":"'Result Entry'!DI50","v":0},{"$f":"'Result Entry'!DJ50","v":0},{"$f":"'Result Entry'!DK50","v":0},{"$f":"'Result Entry'!DL50","v":""},{"$f":"'Result Entry'!DM50","v":""},{"$f":"'Result Entry'!DN50","v":0},{"$f":"'Result Entry'!DO50","v":0},{"$f":"'Result Entry'!DP50","v":""},{"$f":"'Result Entry'!DQ50","v":900},{"$f":"'Result Entry'!DR50","v":0},{"$f":"'Result Entry'!DS50","v":{"v":0,"d":"0.00"}},{"$f":"'Result Entry'!DT50","v":""},{"$f":"'Result Entry'!DU50","v":""},{"$f":"'Result Entry'!DV50","v":""},{"$f":"'Result Entry'!DW50","v":""}]
[null,0,{"$f":"'Result Entry'!D51","v":0},{"$f":"'Result Entry'!E51","v":0},{"$f":"'Result Entry'!F51","v":0},{"$f":"'Result Entry'!G51","v":0},{"$f":"'Result Entry'!H51","v":0},{"$f":"'Result Entry'!I51","v":0},{"$f":"'Result Entry'!J51","v":"00:00:00"},{"$f":"'Result Entry'!K51","v":0},{"$f":"'Result Entry'!L51","v":0},{"$f":"'Result Entry'!M51","v":0},{"$f":"'Result Entry'!N51","v":0},{"$f":"'Result Entry'!O51","v":0},{"$f":"'Result Entry'!P51","v":0},{"$f":"'Result Entry'!Q51","v":0},{"$f":"'Result Entry'!R51","v":0},{"$f":"'Result Entry'!S51","v":0},{"$f":"'Result Entry'!T51","v":0},{"$f":"'Result Entry'!U51","v":0},{"$f":"'Result Entry'!V51","v":0},{"$f":"'Result Entry'!W51","v":0},{"$f":"'Result Entry'!X51","v":0},{"$f":"'Result Entry'!Y51","v":""},{"$f":"'Result Entry'!Z51","v":0},{"$f":"'Result Entry'!AA51","v":0},{"$f":"'Result Entry'!AB51","v":0},{"$f":"'Result Entry'!AC51","v":0},{"$f":"'Result Entry'!AD51","v":0},{"$f":"'Result Entry'!AE51","v":0},{"$f":"'Result Entry'!AF51","v":0},{"$f":"'Result Entry'!AG51","v":0},{"$f":"'Result Entry'!AH51","v":0},{"$f":"'Result Entry'!AI51","v":0},{"$f":"'Result Entry'!AJ51","v":0},{"$f":"'Result Entry'!AK51","v":0},{"$f":"'Result Entry'!AL51","v":0},{"$f":"'Result Entry'!AM51","v":0},{"$f":"'Result Entry'!AN51","v":""},{"$f":"'Result Entry'!AO51","v":0},{"$f":"'Result Entry'!AP51","v":0},{"$f":"'Result Entry'!AQ51","v":0},{"$f":"'Result Entry'!AR51","v":0},{"$f":"'Result Entry'!AS51","v":0},{"$f":"'Result Entry'!AT51","v":0},{"$f":"'Result Entry'!AU51","v":0},{"$f":"'Result Entry'!AV51","v":0},{"$f":"'Result Entry'!AW51","v":0},{"$f":"'Result Entry'!AX51","v":0},{"$f":"'Result Entry'!AY51","v":0},{"$f":"'Result Entry'!AZ51","v":0},{"$f":"'Result Entry'!BA51","v":0},{"$f":"'Result Entry'!BB51","v":0},{"$f":"'Result Entry'!BC51","v":""},{"$f":"'Result Entry'!BD51","v":0},{"$f":"'Result Entry'!BE51","v":0},{"$f":"'Result Entry'!BF51","v":0},{"$f":"'Result Entry'!BG51","v":0},{"$f":"'Result Entry'!BH51","v":0},{"$f":"'Result Entry'!BI51","v":0},{"$f":"'Result Entry'!BJ51","v":0},{"$f":"'Result Entry'!BK51","v":0},{"$f":"'Result Entry'!BL51","v":0},{"$f":"'Result Entry'!BM51","v":0},{"$f":"'Result Entry'!BN51","v":0},{"$f":"'Result Entry'!BO51","v":0},{"$f":"'Result Entry'!BP51","v":0},{"$f":"'Result Entry'!BQ51","v":0},{"$f":"'Result Entry'!BR51","v":""},{"$f":"'Result Entry'!BS51","v":0},{"$f":"'Result Entry'!BT51","v":0},{"$f":"'Result Entry'!BU51","v":0},{"$f":"'Result Entry'!BV51","v":0},{"$f":"'Result Entry'!BW51","v":0},{"$f":"'Result Entry'!BX51","v":0},{"$f":"'Result Entry'!BY51","v":0},{"$f":"'Result Entry'!BZ51","v":0},{"$f":"'Result Entry'!CA51","v":0},{"$f":"'Result Entry'!CB51","v":0},{"$f":"'Result Entry'!CC51","v":0},{"$f":"'Result Entry'!CD51","v":0},{"$f":"'Result Entry'!CE51","v":0},{"$f":"'Result Entry'!CF51","v":0},{"$f":"'Result Entry'!CG51","v":""},{"$f":"'Result Entry'!CH51","v":0},{"$f":"'Result Entry'!CI51","v":0},{"$f":"'Result Entry'!CJ51","v":0},{"$f":"'Result Entry'!CK51","v":0},{"$f":"'Result Entry'!CL51","v":0},{"$f":"'Result Entry'!CM51","v":0},{"$f":"'Result Entry'!CN51","v":0},{"$f":"'Result Entry'!CO51","v":""},{"$f":"'Result Entry'!CP51","v":0},{"$f":"'Result Entry'!CQ51","v":0},{"$f":"'Result Entry'!CR51","v":0},{"$f":"'Result Entry'!CS51","v":0},{"$f":"'Result Entry'!CT51","v":0},{"$f":"'Result Entry'!CU51","v":0},{"$f":"'Result Entry'!CV51","v":0},{"$f":"'Result Entry'!CW51","v":""},{"$f":"'Result Entry'!CX51","v":0},{"$f":"'Result Entry'!CY51","v":0},{"$f":"'Result Entry'!CZ51","v":0},{"$f":"'Result Entry'!DA51","v":0},{"$f":"'Result Entry'!DB51","v":0},{"$f":"'Result Entry'!DC51","v":0},{"$f":"'Result Entry'!DD51","v":0},{"$f":"'Result Entry'!DE51","v":""},{"$f":"'Result Entry'!DF51","v":0},{"$f":"'Result Entry'!DG51","v":0},{"$f":"'Result Entry'!DH51","v":0},{"$f":"'Result Entry'!DI51","v":0},{"$f":"'Result Entry'!DJ51","v":0},{"$f":"'Result Entry'!DK51","v":0},{"$f":"'Result Entry'!DL51","v":""},{"$f":"'Result Entry'!DM51","v":""},{"$f":"'Result Entry'!DN51","v":0},{"$f":"'Result Entry'!DO51","v":0},{"$f":"'Result Entry'!DP51","v":""},{"$f":"'Result Entry'!DQ51","v":900},{"$f":"'Result Entry'!DR51","v":0},{"$f":"'Result Entry'!DS51","v":{"v":0,"d":"0.00"}},{"$f":"'Result Entry'!DT51","v":""},{"$f":"'Result Entry'!DU51","v":""},{"$f":"'Result Entry'!DV51","v":""},{"$f":"'Result Entry'!DW51","v":""}]
[null,0,{"$f":"'Result Entry'!D52","v":0},{"$f":"'Result Entry'!E52","v":0},{"$f":"'Result Entry'!F52","v":0},{"$f":"'Result Entry'!G52","v":0},{"$f":"'Result Entry'!H52","v":0},{"$f":"'Result Entry'!I52","v":0},{"$f":"'Result Entry'!J52","v":"00:00:00"},{"$f":"'Result Entry'!K52","v":0},{"$f":"'Result Entry'!L52","v":0},{"$f":"'Result Entry'!M52","v":0},{"$f":"'Result Entry'!N52","v":0},{"$f":"'Result Entry'!O52","v":0},{"$f":"'Result Entry'!P52","v":0},{"$f":"'Result Entry'!Q52","v":0},{"$f":"'Result Entry'!R52","v":0},{"$f":"'Result Entry'!S52","v":0},{"$f":"'Result Entry'!T52","v":0},{"$f":"'Result Entry'!U52","v":0},{"$f":"'Result Entry'!V52","v":0},{"$f":"'Result Entry'!W52","v":0},{"$f":"'Result Entry'!X52","v":0},{"$f":"'Result Entry'!Y52","v":""},{"$f":"'Result Entry'!Z52","v":0},{"$f":"'Result Entry'!AA52","v":0},{"$f":"'Result Entry'!AB52","v":0},{"$f":"'Result Entry'!AC52","v":0},{"$f":"'Result Entry'!AD52","v":0},{"$f":"'Result Entry'!AE52","v":0},{"$f":"'Result Entry'!AF52","v":0},{"$f":"'Result Entry'!AG52","v":0},{"$f":"'Result Entry'!AH52","v":0},{"$f":"'Result Entry'!AI52","v":0},{"$f":"'Result Entry'!AJ52","v":0},{"$f":"'Result Entry'!AK52","v":0},{"$f":"'Result Entry'!AL52","v":0},{"$f":"'Result Entry'!AM52","v":0},{"$f":"'Result Entry'!AN52","v":""},{"$f":"'Result Entry'!AO52","v":0},{"$f":"'Result Entry'!AP52","v":0},{"$f":"'Result Entry'!AQ52","v":0},{"$f":"'Result Entry'!AR52","v":0},{"$f":"'Result Entry'!AS52","v":0},{"$f":"'Result Entry'!AT52","v":0},{"$f":"'Result Entry'!AU52","v":0},{"$f":"'Result Entry'!AV52","v":0},{"$f":"'Result Entry'!AW52","v":0},{"$f":"'Result Entry'!AX52","v":0},{"$f":"'Result Entry'!AY52","v":0},{"$f":"'Result Entry'!AZ52","v":0},{"$f":"'Result Entry'!BA52","v":0},{"$f":"'Result Entry'!BB52","v":0},{"$f":"'Result Entry'!BC52","v":""},{"$f":"'Result Entry'!BD52","v":0},{"$f":"'Result Entry'!BE52","v":0},{"$f":"'Result Entry'!BF52","v":0},{"$f":"'Result Entry'!BG52","v":0},{"$f":"'Result Entry'!BH52","v":0},{"$f":"'Result Entry'!BI52","v":0},{"$f":"'Result Entry'!BJ52","v":0},{"$f":"'Result Entry'!BK52","v":0},{"$f":"'Result Entry'!BL52","v":0},{"$f":"'Result Entry'!BM52","v":0},{"$f":"'Result Entry'!BN52","v":0},{"$f":"'Result Entry'!BO52","v":0},{"$f":"'Result Entry'!BP52","v":0},{"$f":"'Result Entry'!BQ52","v":0},{"$f":"'Result Entry'!BR52","v":""},{"$f":"'Result Entry'!BS52","v":0},{"$f":"'Result Entry'!BT52","v":0},{"$f":"'Result Entry'!BU52","v":0},{"$f":"'Result Entry'!BV52","v":0},{"$f":"'Result Entry'!BW52","v":0},{"$f":"'Result Entry'!BX52","v":0},{"$f":"'Result Entry'!BY52","v":0},{"$f":"'Result Entry'!BZ52","v":0},{"$f":"'Result Entry'!CA52","v":0},{"$f":"'Result Entry'!CB52","v":0},{"$f":"'Result Entry'!CC52","v":0},{"$f":"'Result Entry'!CD52","v":0},{"$f":"'Result Entry'!CE52","v":0},{"$f":"'Result Entry'!CF52","v":0},{"$f":"'Result Entry'!CG52","v":""},{"$f":"'Result Entry'!CH52","v":0},{"$f":"'Result Entry'!CI52","v":0},{"$f":"'Result Entry'!CJ52","v":0},{"$f":"'Result Entry'!CK52","v":0},{"$f":"'Result Entry'!CL52","v":0},{"$f":"'Result Entry'!CM52","v":0},{"$f":"'Result Entry'!CN52","v":0},{"$f":"'Result Entry'!CO52","v":""},{"$f":"'Result Entry'!CP52","v":0},{"$f":"'Result Entry'!CQ52","v":0},{"$f":"'Result Entry'!CR52","v":0},{"$f":"'Result Entry'!CS52","v":0},{"$f":"'Result Entry'!CT52","v":0},{"$f":"'Result Entry'!CU52","v":0},{"$f":"'Result Entry'!CV52","v":0},{"$f":"'Result Entry'!CW52","v":""},{"$f":"'Result Entry'!CX52","v":0},{"$f":"'Result Entry'!CY52","v":0},{"$f":"'Result Entry'!CZ52","v":0},{"$f":"'Result Entry'!DA52","v":0},{"$f":"'Result Entry'!DB52","v":0},{"$f":"'Result Entry'!DC52","v":0},{"$f":"'Result Entry'!DD52","v":0},{"$f":"'Result Entry'!DE52","v":""},{"$f":"'Result Entry'!DF52","v":0},{"$f":"'Result Entry'!DG52","v":0},{"$f":"'Result Entry'!DH52","v":0},{"$f":"'Result Entry'!DI52","v":0},{"$f":"'Result Entry'!DJ52","v":0},{"$f":"'Result Entry'!DK52","v":0},{"$f":"'Result Entry'!DL52","v":""},{"$f":"'Result Entry'!DM52","v":""},{"$f":"'Result Entry'!DN52","v":0},{"$f":"'Result Entry'!DO52","v":0},{"$f":"'Result Entry'!DP52","v":""},{"$f":"'Result Entry'!DQ52","v":900},{"$f":"'Result Entry'!DR52","v":0},{"$f":"'Result Entry'!DS52","v":{"v":0,"d":"0.00"}},{"$f":"'Result Entry'!DT52","v":""},{"$f":"'Result Entry'!DU52","v":""},{"$f":"'Result Entry'!DV52","v":""},{"$f":"'Result Entry'!DW52","v":""}]
[null,0,{"$f":"'Result Entry'!D53","v":0},{"$f":"'Result Entry'!E53","v":0},{"$f":"'Result Entry'!F53","v":0},{"$f":"'Result Entry'!G53","v":0},{"$f":"'Result Entry'!H53","v":0},{"$f":"'Result Entry'!I53","v":0},{"$f":"'Result Entry'!J53","v":"00:00:00"},{"$f":"'Result Entry'!K53","v":0},{"$f":"'Result Entry'!L53","v":0},{"$f":"'Result Entry'!M53","v":0},{"$f":"'Result Entry'!N53","v":0},{"$f":"'Result Entry'!O53","v":0},{"$f":"'Result Entry'!P53","v":0},{"$f":"'Result Entry'!Q53","v":0},{"$f":"'Result Entry'!R53","v":0},{"$f":"'Result Entry'!S53","v":0},{"$f":"'Result Entry'!T53","v":0},{"$f":"'Result Entry'!U53","v":0},{"$f":"'Result Entry'!V53","v":0},{"$f":"'Result Entry'!W53","v":0},{"$f":"'Result Entry'!X53","v":0},{"$f":"'Result Entry'!Y53","v":""},{"$f":"'Result Entry'!Z53","v":0},{"$f":"'Result Entry'!AA53","v":0},{"$f":"'Result Entry'!AB53","v":0},{"$f":"'Result Entry'!AC53","v":0},{"$f":"'Result Entry'!AD53","v":0},{"$f":"'Result Entry'!AE53","v":0},{"$f":"'Result Entry'!AF53","v":0},{"$f":"'Result Entry'!AG53","v":0},{"$f":"'Result Entry'!AH53","v":0},{"$f":"'Result Entry'!AI53","v":0},{"$f":"'Result Entry'!AJ53","v":0},{"$f":"'Result Entry'!AK53","v":0},{"$f":"'Result Entry'!AL53","v":0},{"$f":"'Result Entry'!AM53","v":0},{"$f":"'Result Entry'!AN53","v":""},{"$f":"'Result Entry'!AO53","v":0},{"$f":"'Result Entry'!AP53","v":0},{"$f":"'Result Entry'!AQ53","v":0},{"$f":"'Result Entry'!AR53","v":0},{"$f":"'Result Entry'!AS53","v":0},{"$f":"'Result Entry'!AT53","v":0},{"$f":"'Result Entry'!AU53","v":0},{"$f":"'Result Entry'!AV53","v":0},{"$f":"'Result Entry'!AW53","v":0},{"$f":"'Result Entry'!AX53","v":0},{"$f":"'Result Entry'!AY53","v":0},{"$f":"'Result Entry'!AZ53","v":0},{"$f":"'Result Entry'!BA53","v":0},{"$f":"'Result Entry'!BB53","v":0},{"$f":"'Result Entry'!BC53","v":""},{"$f":"'Result Entry'!BD53","v":0},{"$f":"'Result Entry'!BE53","v":0},{"$f":"'Result Entry'!BF53","v":0},{"$f":"'Result Entry'!BG53","v":0},{"$f":"'Result Entry'!BH53","v":0},{"$f":"'Result Entry'!BI53","v":0},{"$f":"'Result Entry'!BJ53","v":0},{"$f":"'Result Entry'!BK53","v":0},{"$f":"'Result Entry'!BL53","v":0},{"$f":"'Result Entry'!BM53","v":0},{"$f":"'Result Entry'!BN53","v":0},{"$f":"'Result Entry'!BO53","v":0},{"$f":"'Result Entry'!BP53","v":0},{"$f":"'Result Entry'!BQ53","v":0},{"$f":"'Result Entry'!BR53","v":""},{"$f":"'Result Entry'!BS53","v":0},{"$f":"'Result Entry'!BT53","v":0},{"$f":"'Result Entry'!BU53","v":0},{"$f":"'Result Entry'!BV53","v":0},{"$f":"'Result Entry'!BW53","v":0},{"$f":"'Result Entry'!BX53","v":0},{"$f":"'Result Entry'!BY53","v":0},{"$f":"'Result Entry'!BZ53","v":0},{"$f":"'Result Entry'!CA53","v":0},{"$f":"'Result Entry'!CB53","v":0},{"$f":"'Result Entry'!CC53","v":0},{"$f":"'Result Entry'!CD53","v":0},{"$f":"'Result Entry'!CE53","v":0},{"$f":"'Result Entry'!CF53","v":0},{"$f":"'Result Entry'!CG53","v":""},{"$f":"'Result Entry'!CH53","v":0},{"$f":"'Result Entry'!CI53","v":0},{"$f":"'Result Entry'!CJ53","v":0},{"$f":"'Result Entry'!CK53","v":0},{"$f":"'Result Entry'!CL53","v":0},{"$f":"'Result Entry'!CM53","v":0},{"$f":"'Result Entry'!CN53","v":0},{"$f":"'Result Entry'!CO53","v":""},{"$f":"'Result Entry'!CP53","v":0},{"$f":"'Result Entry'!CQ53","v":0},{"$f":"'Result Entry'!CR53","v":0},{"$f":"'Result Entry'!CS53","v":0},{"$f":"'Result Entry'!CT53","v":0},{"$f":"'Result Entry'!CU53","v":0},{"$f":"'Result Entry'!CV53","v":0},{"$f":"'Result Entry'!CW53","v":""},{"$f":"'Result Entry'!CX53","v":0},{"$f":"'Result Entry'!CY53","v":0},{"$f":"'Result Entry'!CZ53","v":0},{"$f":"'Result Entry'!DA53","v":0},{"$f":"'Result Entry'!DB53","v":0},{"$f":"'Result Entry'!DC53","v":0},{"$f":"'Result Entry'!DD53","v":0},{"$f":"'Result Entry'!DE53","v":""},{"$f":"'Result Entry'!DF53","v":0},{"$f":"'Result Entry'!DG53","v":0},{"$f":"'Result Entry'!DH53","v":0},{"$f":"'Result Entry'!DI53","v":0},{"$f":"'Result Entry'!DJ53","v":0},{"$f":"'Result Entry'!DK53","v":0},{"$f":"'Result Entry'!DL53","v":""},{"$f":"'Result Entry'!DM53","v":""},{"$f":"'Result Entry'!DN53","v":0},{"$f":"'Result Entry'!DO53","v":0},{"$f":"'Result Entry'!DP53","v":""},{"$f":"'Result Entry'!DQ53","v":900},{"$f":"'Result Entry'!DR53","v":0},{"$f":"'Result Entry'!DS53","v":{"v":0,"d":"0.00"}},{"$f":"'Result Entry'!DT53","v":""},{"$f":"'Result Entry'!DU53","v":""},{"$f":"'Result Entry'!DV53","v":""},{"$f":"'Result Entry'!DW53","v":""}]
[null,0,{"$f":"'Result Entry'!D54","v":0},{"$f":"'Result Entry'!E54","v":0},{"$f":"'Result Entry'!F54","v":0},{"$f":"'Result Entry'!G54","v":0},{"$f":"'Result Entry'!H54","v":0},{"$f":"'Result Entry'!I54","v":0},{"$f":"'Result Entry'!J54","v":"00:00:00"},{"$f":"'Result Entry'!K54","v":0},{"$f":"'Result Entry'!L54","v":0},{"$f":"'Result Entry'!M54","v":0},{"$f":"'Result Entry'!N54","v":0},{"$f":"'Result Entry'!O54","v":0},{"$f":"'Result Entry'!P54","v":0},{"$f":"'Result Entry'!Q54","v":0},{"$f":"'Result Entry'!R54","v":0},{"$f":"'Result Entry'!S54","v":0},{"$f":"'Result Entry'!T54","v":0},{"$f":"'Result Entry'!U54","v":0},{"$f":"'Result Entry'!V54","v":0},{"$f":"'Result Entry'!W54","v":0},{"$f":"'Result Entry'!X54","v":0},{"$f":"'Result Entry'!Y54","v":""},{"$f":"'Result Entry'!Z54","v":0},{"$f":"'Result Entry'!AA54","v":0},{"$f":"'Result Entry'!AB54","v":0},{"$f":"'Result Entry'!AC54","v":0},{"$f":"'Result Entry'!AD54","v":0},{"$f":"'Result Entry'!AE54","v":0},{"$f":"'Result Entry'!AF54","v":0},{"$f":"'Result Entry'!AG54","v":0},{"$f":"'Result Entry'!AH54","v":0},{"$f":"'Result Entry'!AI54","v":0},{"$f":"'Result Entry'!AJ54","v":0},{"$f":"'Result Entry'!AK54","v":0},{"$f":"'Result Entry'!AL54","v":0},{"$f":"'Result Entry'!AM54","v":0},{"$f":"'Result Entry'!AN54","v":""},{"$f":"'Result Entry'!AO54","v":0},{"$f":"'Result Entry'!AP54","v":0},{"$f":"'Result Entry'!AQ54","v":0},{"$f":"'Result Entry'!AR54","v":0},{"$f":"'Result Entry'!AS54","v":0},{"$f":"'Result Entry'!AT54","v":0},{"$f":"'Result Entry'!AU54","v":0},{"$f":"'Result Entry'!AV54","v":0},{"$f":"'Result Entry'!AW54","v":0},{"$f":"'Result Entry'!AX54","v":0},{"$f":"'Result Entry'!AY54","v":0},{"$f":"'Result Entry'!AZ54","v":0},{"$f":"'Result Entry'!BA54","v":0},{"$f":"'Result Entry'!BB54","v":0},{"$f":"'Result Entry'!BC54","v":""},{"$f":"'Result Entry'!BD54","v":0},{"$f":"'Result Entry'!BE54","v":0},{"$f":"'Result Entry'!BF54","v":0},{"$f":"'Result Entry'!BG54","v":0},{"$f":"'Result Entry'!BH54","v":0},{"$f":"'Result Entry'!BI54","v":0},{"$f":"'Result Entry'!BJ54","v":0},{"$f":"'Result Entry'!BK54","v":0},{"$f":"'Result Entry'!BL54","v":0},{"$f":"'Result Entry'!BM54","v":0},{"$f":"'Result Entry'!BN54","v":0},{"$f":"'Result Entry'!BO54","v":0},{"$f":"'Result Entry'!BP54","v":0},{"$f":"'Result Entry'!BQ54","v":0},{"$f":"'Result Entry'!BR54","v":""},{"$f":"'Result Entry'!BS54","v":0},{"$f":"'Result Entry'!BT54","v":0},{"$f":"'Result Entry'!BU54","v":0},{"$f":"'Result Entry'!BV54","v":0},{"$f":"'Result Entry'!BW54","v":0},{"$f":"'Result Entry'!BX54","v":0},{"$f":"'Result Entry'!BY54","v":0},{"$f":"'Result Entry'!BZ54","v":0},{"$f":"'Result Entry'!CA54","v":0},{"$f":"'Result Entry'!CB54","v":0},{"$f":"'Result Entry'!CC54","v":0},{"$f":"'Result Entry'!CD54","v":0},{"$f":"'Result Entry'!CE54","v":0},{"$f":"'Result Entry'!CF54","v":0},{"$f":"'Result Entry'!CG54","v":""},{"$f":"'Result Entry'!CH54","v":0},{"$f":"'Result Entry'!CI54","v":0},{"$f":"'Result Entry'!CJ54","v":0},{"$f":"'Result Entry'!CK54","v":0},{"$f":"'Result Entry'!CL54","v":0},{"$f":"'Result Entry'!CM54","v":0},{"$f":"'Result Entry'!CN54","v":0},{"$f":"'Result Entry'!CO54","v":""},{"$f":"'Result Entry'!CP54","v":0},{"$f":"'Result Entry'!CQ54","v":0},{"$f":"'Result Entry'!CR54","v":0},{"$f":"'Result Entry'!CS54","v":0},{"$f":"'Result Entry'!CT54","v":0},{"$f":"'Result Entry'!CU54","v":0},{"$f":"'Result Entry'!CV54","v":0},{"$f":"'Result Entry'!CW54","v":""},{"$f":"'Result Entry'!CX54","v":0},{"$f":"'Result Entry'!CY54","v":0},{"$f":"'Result Entry'!CZ54","v":0},{"$f":"'Result Entry'!DA54","v":0},{"$f":"'Result Entry'!DB54","v":0},{"$f":"'Result Entry'!DC54","v":0},{"$f":"'Result Entry'!DD54","v":0},{"$f":"'Result Entry'!DE54","v":""},{"$f":"'Result Entry'!DF54","v":0},{"$f":"'Result Entry'!DG54","v":0},{"$f":"'Result Entry'!DH54","v":0},{"$f":"'Result Entry'!DI54","v":0},{"$f":"'Result Entry'!DJ54","v":0},{"$f":"'Result Entry'!DK54","v":0},{"$f":"'Result Entry'!DL54","v":""},{"$f":"'Result Entry'!DM54","v":""},{"$f":"'Result Entry'!DN54","v":0},{"$f":"'Result Entry'!DO54","v":0},{"$f":"'Result Entry'!DP54","v":""},{"$f":"'Result Entry'!DQ54","v":900},{"$f":"'Result Entry'!DR54","v":0},{"$f":"'Result Entry'!DS54","v":{"v":0,"d":"0.00"}},{"$f":"'Result Entry'!DT54","v":""},{"$f":"'Result Entry'!DU54","v":""},{"$f":"'Result Entry'!DV54","v":""},{"$f":"'Result Entry'!DW54","v":""}]
[null,0,{"$f":"'Result Entry'!D55","v":0},{"$f":"'Result Entry'!E55","v":0},{"$f":"'Result Entry'!F55","v":0},{"$f":"'Result Entry'!G55","v":0},{"$f":"'Result Entry'!H55","v":0},{"$f":"'Result Entry'!I55","v":0},{"$f":"'Result Entry'!J55","v":"00:00:00"},{"$f":"'Result Entry'!K55","v":0},{"$f":"'Result Entry'!L55","v":0},{"$f":"'Result Entry'!M55","v":0},{"$f":"'Result Entry'!N55","v":0},{"$f":"'Result Entry'!O55","v":0},{"$f":"'Result Entry'!P55","v":0},{"$f":"'Result Entry'!Q55","v":0},{"$f":"'Result Entry'!R55","v":0},{"$f":"'Result Entry'!S55","v":0},{"$f":"'Result Entry'!T55","v":0},{"$f":"'Result Entry'!U55","v":0},{"$f":"'Result Entry'!V55","v":0},{"$f":"'Result Entry'!W55","v":0},{"$f":"'Result Entry'!X55","v":0},{"$f":"'Result Entry'!Y55","v":""},{"$f":"'Result Entry'!Z55","v":0},{"$f":"'Result Entry'!AA55","v":0},{"$f":"'Result Entry'!AB55","v":0},{"$f":"'Result Entry'!AC55","v":0},{"$f":"'Result Entry'!AD55","v":0},{"$f":"'Result Entry'!AE55","v":0},{"$f":"'Result Entry'!AF55","v":0},{"$f":"'Result Entry'!AG55","v":0},{"$f":"'Result Entry'!AH55","v":0},{"$f":"'Result Entry'!AI55","v":0},{"$f":"'Result Entry'!AJ55","v":0},{"$f":"'Result Entry'!AK55","v":0},{"$f":"'Result Entry'!AL55","v":0},{"$f":"'Result Entry'!AM55","v":0},{"$f":"'Result Entry'!AN55","v":""},{"$f":"'Result Entry'!AO55","v":0},{"$f":"'Result Entry'!AP55","v":0},{"$f":"'Result Entry'!AQ55","v":0},{"$f":"'Result Entry'!AR55","v":0},{"$f":"'Result Entry'!AS55","v":0},{"$f":"'Result Entry'!AT55","v":0},{"$f":"'Result Entry'!AU55","v":0},{"$f":"'Result Entry'!AV55","v":0},{"$f":"'Result Entry'!AW55","v":0},{"$f":"'Result Entry'!AX55","v":0},{"$f":"'Result Entry'!AY55","v":0},{"$f":"'Result Entry'!AZ55","v":0},{"$f":"'Result Entry'!BA55","v":0},{"$f":"'Result Entry'!BB55","v":0},{"$f":"'Result Entry'!BC55","v":""},{"$f":"'Result Entry'!BD55","v":0},{"$f":"'Result Entry'!BE55","v":0},{"$f":"'Result Entry'!BF55","v":0},{"$f":"'Result Entry'!BG55","v":0},{"$f":"'Result Entry'!BH55","v":0},{"$f":"'Result Entry'!BI55","v":0},{"$f":"'Result Entry'!BJ55","v":0},{"$f":"'Result Entry'!BK55","v":0},{"$f":"'Result Entry'!BL55","v":0},{"$f":"'Result Entry'!BM55","v":0},{"$f":"'Result Entry'!BN55","v":0},{"$f":"'Result Entry'!BO55","v":0},{"$f":"'Result Entry'!BP55","v":0},{"$f":"'Result Entry'!BQ55","v":0},{"$f":"'Result Entry'!BR55","v":""},{"$f":"'Result Entry'!BS55","v":0},{"$f":"'Result Entry'!BT55","v":0},{"$f":"'Result Entry'!BU55","v":0},{"$f":"'Result Entry'!BV55","v":0},{"$f":"'Result Entry'!BW55","v":0},{"$f":"'Result Entry'!BX55","v":0},{"$f":"'Result Entry'!BY55","v":0},{"$f":"'Result Entry'!BZ55","v":0},{"$f":"'Result Entry'!CA55","v":0},{"$f":"'Result Entry'!CB55","v":0},{"$f":"'Result Entry'!CC55","v":0},{"$f":"'Result Entry'!CD55","v":0},{"$f":"'Result Entry'!CE55","v":0},{"$f":"'Result Entry'!CF55","v":0},{"$f":"'Result Entry'!CG55","v":""},{"$f":"'Result Entry'!CH55","v":0},{"$f":"'Result Entry'!CI55","v":0},{"$f":"'Result Entry'!CJ55","v":0},{"$f":"'Result Entry'!CK55","v":0},{"$f":"'Result Entry'!CL55","v":0},{"$f":"'Result Entry'!CM55","v":0},{"$f":"'Result Entry'!CN55","v":0},{"$f":"'Result Entry'!CO55","v":""},{"$f":"'Result Entry'!CP55","v":0},{"$f":"'Result Entry'!CQ55","v":0},{"$f":"'Result Entry'!CR55","v":0},{"$f":"'Result Entry'!CS55","v":0},{"$f":"'Result Entry'!CT55","v":0},{"$f":"'Result Entry'!CU55","v":0},{"$f":"'Result Entry'!CV55","v":0},{"$f":"'Result Entry'!CW55","v":""},{"$f":"'Result Entry'!CX55","v":0},{"$f":"'Result Entry'!CY55","v":0},{"$f":"'Result Entry'!CZ55","v":0},{"$f":"'Result Entry'!DA55","v":0},{"$f":"'Result Entry'!DB55","v":0},{"$f":"'Result Entry'!DC55","v":0},{"$f":"'Result Entry'!DD55","v":0},{"$f":"'Result Entry'!DE55","v":""},{"$f":"'Result Entry'!DF55","v":0},{"$f":"'Result Entry'!DG55","v":0},{"$f":"'Result Entry'!DH55","v":0},{"$f":"'Result Entry'!DI55","v":0},{"$f":"'Result Entry'!DJ55","v":0},{"$f":"'Result Entry'!DK55","v":0},{"$f":"'Result Entry'!DL55","v":""},{"$f":"'Result Entry'!DM55","v":""},{"$f":"'Result Entry'!DN55","v":0},{"$f":"'Result Entry'!DO55","v":0},{"$f":"'Result Entry'!DP55","v":""},{"$f":"'Result Entry'!DQ55","v":900},{"$f":"'Result Entry'!DR55","v":0},{"$f":"'Result Entry'!DS55","v":{"v":0,"d":"0.00"}},{"$f":"'Result Entry'!DT55","v":""},{"$f":"'Result Entry'!DU55","v":""},{"$f":"'Result Entry'!DV55","v":""},{"$f":"'Result Entry'!DW55","v":""}]
[null,0,{"$f":"'Result Entry'!D56","v":0},{"$f":"'Result Entry'!E56","v":0},{"$f":"'Result Entry'!F56","v":0},{"$f":"'Result Entry'!G56","v":0},{"$f":"'Result Entry'!H56","v":0},{"$f":"'Result Entry'!I56","v":0},{"$f":"'Result Entry'!J56","v":"00:00:00"},{"$f":"'Result Entry'!K56","v":0},{"$f":"'Result Entry'!L56","v":0},{"$f":"'Result Entry'!M56","v":0},{"$f":"'Result Entry'!N56","v":0},{"$f":"'Result Entry'!O56","v":0},{"$f":"'Result Entry'!P56","v":0},{"$f":"'Result Entry'!Q56","v":0},{"$f":"'Result Entry'!R56","v":0},{"$f":"'Result Entry'!S56","v":0},{"$f":"'Result Entry'!T56","v":0},{"$f":"'Result Entry'!U56","v":0},{"$f":"'Result Entry'!V56","v":0},{"$f":"'Result Entry'!W56","v":0},{"$f":"'Result Entry'!X56","v":0},{"$f":"'Result Entry'!Y56","v":""},{"$f":"'Result Entry'!Z56","v":0},{"$f":"'Result Entry'!AA56","v":0},{"$f":"'Result Entry'!AB56","v":0},{"$f":"'Result Entry'!AC56","v":0},{"$f":"'Result Entry'!AD56","v":0},{"$f":"'Result Entry'!AE56","v":0},{"$f":"'Result Entry'!AF56","v":0},{"$f":"'Result Entry'!AG56","v":0},{"$f":"'Result Entry'!AH56","v":0},{"$f":"'Result Entry'!AI56","v":0},{"$f":"'Result Entry'!AJ56","v":0},{"$f":"'Result Entry'!AK56","v":0},{"$f":"'Result Entry'!AL56","v":0},{"$f":"'Result Entry'!AM56","v":0},{"$f":"'Result Entry'!AN56","v":""},{"$f":"'Result Entry'!AO56","v":0},{"$f":"'Result Entry'!AP56","v":0},{"$f":"'Result Entry'!AQ56","v":0},{"$f":"'Result Entry'!AR56","v":0},{"$f":"'Result Entry'!AS56","v":0},{"$f":"'Result Entry'!AT56","v":0},{"$f":"'Result Entry'!AU56","v":0},{"$f":"'Result Entry'!AV56","v":0},{"$f":"'Result Entry'!AW56","v":0},{"$f":"'Result Entry'!AX56","v":0},{"$f":"'Result Entry'!AY56","v":0},{"$f":"'Result Entry'!AZ56","v":0},{"$f":"'Result Entry'!BA56","v":0},{"$f":"'Result Entry'!BB56","v":0},{"$f":"'Result Entry'!BC56","v":""},{"$f":"'Result Entry'!BD56","v":0},{"$f":"'Result Entry'!BE56","v":0},{"$f":"'Result Entry'!BF56","v":0},{"$f":"'Result Entry'!BG56","v":0},{"$f":"'Result Entry'!BH56","v":0},{"$f":"'Result Entry'!BI56","v":0},{"$f":"'Result Entry'!BJ56","v":0},{"$f":"'Result Entry'!BK56","v":0},{"$f":"'Result Entry'!BL56","v":0},{"$f":"'Result Entry'!BM56","v":0},{"$f":"'Result Entry'!BN56","v":0},{"$f":"'Result Entry'!BO56","v":0},{"$f":"'Result Entry'!BP56","v":0},{"$f":"'Result Entry'!BQ56","v":0},{"$f":"'Result Entry'!BR56","v":""},{"$f":"'Result Entry'!BS56","v":0},{"$f":"'Result Entry'!BT56","v":0},{"$f":"'Result Entry'!BU56","v":0},{"$f":"'Result Entry'!BV56","v":0},{"$f":"'Result Entry'!BW56","v":0},{"$f":"'Result Entry'!BX56","v":0},{"$f":"'Result Entry'!BY56","v":0},{"$f":"'Result Entry'!BZ56","v":0},{"$f":"'Result Entry'!CA56","v":0},{"$f":"'Result Entry'!CB56","v":0},{"$f":"'Result Entry'!CC56","v":0},{"$f":"'Result Entry'!CD56","v":0},{"$f":"'Result Entry'!CE56","v":0},{"$f":"'Result Entry'!CF56","v":0},{"$f":"'Result Entry'!CG56","v":""},{"$f":"'Result Entry'!CH56","v":0},{"$f":"'Result Entry'!CI56","v":0},{"$f":"'Result Entry'!CJ56","v":0},{"$f":"'Result Entry'!CK56","v":0},{"$f":"'Result Entry'!CL56","v":0},{"$f":"'Result Entry'!CM56","v":0},{"$f":"'Result Entry'!CN56","v":0},{"$f":"'Result Entry'!CO56","v":""},{"$f":"'Result Entry'!CP56","v":0},{"$f":"'Result Entry'!CQ56","v":0},{"$f":"'Result Entry'!CR56","v":0},{"$f":"'Result Entry'!CS56","v":0},{"$f":"'Result Entry'!CT56","v":0},{"$f":"'Result Entry'!CU56","v":0},{"$f":"'Result Entry'!CV56","v":0},{"$f":"'Result Entry'!CW56","v":""},{"$f":"'Result Entry'!CX56","v":0},{"$f":"'Result Entry'!CY56","v":0},{"$f":"'Result Entry'!CZ56","v":0},{"$f":"'Result Entry'!DA56","v":0},{"$f":"'Result Entry'!DB56","v":0},{"$f":"'Result Entry'!DC56","v":0},{"$f":"'Result Entry'!DD56","v":0},{"$f":"'Result Entry'!DE56","v":""},{"$f":"'Result Entry'!DF56","v":0},{"$f":"'Result Entry'!DG56","v":0},{"$f":"'Result Entry'!DH56","v":0},{"$f":"'Result Entry'!DI56","v":0},{"$f":"'Result Entry'!DJ56","v":0},{"$f":"'Result Entry'!DK56","v":0},{"$f":"'Result Entry'!DL56","v":""},{"$f":"'Result Entry'!DM56","v":""},{"$f":"'Result Entry'!DN56","v":0},{"$f":"'Result Entry'!DO56","v":0},{"$f":"'Result Entry'!DP56","v":""},{"$f":"'Result Entry'!DQ56","v":900},{"$f":"'Result Entry'!DR56","v":0},{"$f":"'Result Entry'!DS56","v":{"v":0,"d":"0.00"}},{"$f":"'Result Entry'!DT56","v":""},{"$f":"'Result Entry'!DU56","v":""},{"$f":"'Result Entry'!DV56","v":""},{"$f":"'Result Entry'!DW56","v":""}]
[null,0,{"$f":"'Result Entry'!D57","v":0},{"$f":"'Result Entry'!E57","v":0},{"$f":"'Result Entry'!F57","v":0},{"$f":"'Result Entry'!G57","v":0},{"$f":"'Result Entry'!H57","v":0},{"$f":"'Result Entry'!I57","v":0},{"$f":"'Result Entry'!J57","v":"00:00:00"},{"$f":"'Result Entry'!K57","v":0},{"$f":"'Result Entry'!L57","v":0},{"$f":"'Result Entry'!M57","v":0},{"$f":"'Result Entry'!N57","v":0},{"$f":"'Result Entry'!O57","v":0},{"$f":"'Result Entry'!P57","v":0},{"$f":"'Result Entry'!Q57","v":0},{"$f":"'Result Entry'!R57","v":0},{"$f":"'Result Entry'!S57","v":0},{"$f":"'Result Entry'!T57","v":0},{"$f":"'Result Entry'!U57","v":0},{"$f":"'Result Entry'!V57","v":0},{"$f":"'Result Entry'!W57","v":0},{"$f":"'Result Entry'!X57","v":0},{"$f":"'Result Entry'!Y57","v":""},{"$f":"'Result Entry'!Z57","v":0},{"$f":"'Result Entry'!AA57","v":0},{"$f":"'Result Entry'!AB57","v":0},{"$f":"'Result Entry'!AC57","v":0},{"$f":"'Result Entry'!AD57","v":0},{"$f":"'Result Entry'!AE57","v":0},{"$f":"'Result Entry'!AF57","v":0},{"$f":"'Result Entry'!AG57","v":0},{"$f":"'Result Entry'!AH57","v":0},{"$f":"'Result Entry'!AI57","v":0},{"$f":"'Result Entry'!AJ57","v":0},{"$f":"'Result Entry'!AK57","v":0},{"$f":"'Result Entry'!AL57","v":0},{"$f":"'Result Entry'!AM57","v":0},{"$f":"'Result Entry'!AN57","v":""},{"$f":"'Result Entry'!AO57","v":0},{"$f":"'Result Entry'!AP57","v":0},{"$f":"'Result Entry'!AQ57","v":0},{"$f":"'Result Entry'!AR57","v":0},{"$f":"'Result Entry'!AS57","v":0},{"$f":"'Result Entry'!AT57","v":0},{"$f":"'Result Entry'!AU57","v":0},{"$f":"'Result Entry'!AV57","v":0},{"$f":"'Result Entry'!AW57","v":0},{"$f":"'Result Entry'!AX57","v":0},{"$f":"'Result Entry'!AY57","v":0},{"$f":"'Result Entry'!AZ57","v":0},{"$f":"'Result Entry'!BA57","v":0},{"$f":"'Result Entry'!BB57","v":0},{"$f":"'Result Entry'!BC57","v":""},{"$f":"'Result Entry'!BD57","v":0},{"$f":"'Result Entry'!BE57","v":0},{"$f":"'Result Entry'!BF57","v":0},{"$f":"'Result Entry'!BG57","v":0},{"$f":"'Result Entry'!BH57","v":0},{"$f":"'Result Entry'!BI57","v":0},{"$f":"'Result Entry'!BJ57","v":0},{"$f":"'Result Entry'!BK57","v":0},{"$f":"'Result Entry'!BL57","v":0},{"$f":"'Result Entry'!BM57","v":0},{"$f":"'Result Entry'!BN57","v":0},{"$f":"'Result Entry'!BO57","v":0},{"$f":"'Result Entry'!BP57","v":0},{"$f":"'Result Entry'!BQ57","v":0},{"$f":"'Result Entry'!BR57","v":""},{"$f":"'Result Entry'!BS57","v":0},{"$f":"'Result Entry'!BT57","v":0},{"$f":"'Result Entry'!BU57","v":0},{"$f":"'Result Entry'!BV57","v":0},{"$f":"'Result Entry'!BW57","v":0},{"$f":"'Result Entry'!BX57","v":0},{"$f":"'Result Entry'!BY57","v":0},{"$f":"'Result Entry'!BZ57","v":0},{"$f":"'Result Entry'!CA57","v":0},{"$f":"'Result Entry'!CB57","v":0},{"$f":"'Result Entry'!CC57","v":0},{"$f":"'Result Entry'!CD57","v":0},{"$f":"'Result Entry'!CE57","v":0},{"$f":"'Result Entry'!CF57","v":0},{"$f":"'Result Entry'!CG57","v":""},{"$f":"'Result Entry'!CH57","v":0},{"$f":"'Result Entry'!CI57","v":0},{"$f":"'Result Entry'!CJ57","v":0},{"$f":"'Result Entry'!CK57","v":0},{"$f":"'Result Entry'!CL57","v":0},{"$f":"'Result Entry'!CM57","v":0},{"$f":"'Result Entry'!CN57","v":0},{"$f":"'Result Entry'!CO57","v":""},{"$f":"'Result Entry'!CP57","v":0},{"$f":"'Result Entry'!CQ57","v":0},{"$f":"'Result Entry'!CR57","v":0},{"$f":"'Result Entry'!CS57","v":0},{"$f":"'Result Entry'!CT57","v":0},{"$f":"'Result Entry'!CU57","v":0},{"$f":"'Result Entry'!CV57","v":0},{"$f":"'Result Entry'!CW57","v":""},{"$f":"'Result Entry'!CX57","v":0},{"$f":"'Result Entry'!CY57","v":0},{"$f":"'Result Entry'!CZ57","v":0},{"$f":"'Result Entry'!DA57","v":0},{"$f":"'Result Entry'!DB57","v":0},{"$f":"'Result Entry'!DC57","v":0},{"$f":"'Result Entry'!DD57","v":0},{"$f":"'Result Entry'!DE57","v":""},{"$f":"'Result Entry'!DF57","v":0},{"$f":"'Result Entry'!DG57","v":0},{"$f":"'Result Entry'!DH57","v":0},{"$f":"'Result Entry'!DI57","v":0},{"$f":"'Result Entry'!DJ57","v":0},{"$f":"'Result Entry'!DK57","v":0},{"$f":"'Result Entry'!DL57","v":""},{"$f":"'Result Entry'!DM57","v":""},{"$f":"'Result Entry'!DN57","v":0},{"$f":"'Result Entry'!DO57","v":0},{"$f":"'Result Entry'!DP57","v":""},{"$f":"'Result Entry'!DQ57","v":900},{"$f":"'Result Entry'!DR57","v":0},{"$f":"'Result Entry'!DS57","v":{"v":0,"d":"0.00"}},{"$f":"'Result Entry'!DT57","v":""},{"$f":"'Result Entry'!DU57","v":""},{"$f":"'Result Entry'!DV57","v":""},{"$f":"'Result Entry'!DW57","v":""}]
[null,0,{"$f":"'Result Entry'!D58","v":0},{"$f":"'Result Entry'!E58","v":0},{"$f":"'Result Entry'!F58","v":0},{"$f":"'Result Entry'!G58","v":0},{"$f":"'Result Entry'!H58","v":0},{"$f":"'Result Entry'!I58","v":0},{"$f":"'Result Entry'!J58","v":"00:00:00"},{"$f":"'Result Entry'!K58","v":0},{"$f":"'Result Entry'!L58","v":0},{"$f":"'Result Entry'!M58","v":0},{"$f":"'Result Entry'!N58","v":0},{"$f":"'Result Entry'!O58","v":0},{"$f":"'Result Entry'!P58","v":0},{"$f":"'Result Entry'!Q58","v":0},{"$f":"'Result Entry'!R58","v":0},{"$f":"'Result Entry'!S58","v":0},{"$f":"'Result Entry'!T58","v":0},{"$f":"'Result Entry'!U58","v":0},{"$f":"'Result Entry'!V58","v":0},{"$f":"'Result Entry'!W58","v":0},{"$f":"'Result Entry'!X58","v":0},{"$f":"'Result Entry'!Y58","v":""},{"$f":"'Result Entry'!Z58","v":0},{"$f":"'Result Entry'!AA58","v":0},{"$f":"'Result Entry'!AB58","v":0},{"$f":"'Result Entry'!AC58","v":0},{"$f":"'Result Entry'!AD58","v":0},{"$f":"'Result Entry'!AE58","v":0},{"$f":"'Result Entry'!AF58","v":0},{"$f":"'Result Entry'!AG58","v":0},{"$f":"'Result Entry'!AH58","v":0},{"$f":"'Result Entry'!AI58","v":0},{"$f":"'Result Entry'!AJ58","v":0},{"$f":"'Result Entry'!AK58","v":0},{"$f":"'Result Entry'!AL58","v":0},{"$f":"'Result Entry'!AM58","v":0},{"$f":"'Result Entry'!AN58","v":""},{"$f":"'Result Entry'!AO58","v":0},{"$f":"'Result Entry'!AP58","v":0},{"$f":"'Result Entry'!AQ58","v":0},{"$f":"'Result Entry'!AR58","v":0},{"$f":"'Result Entry'!AS58","v":0},{"$f":"'Result Entry'!AT58","v":0},{"$f":"'Result Entry'!AU58","v":0},{"$f":"'Result Entry'!AV58","v":0},{"$f":"'Result Entry'!AW58","v":0},{"$f":"'Result Entry'!AX58","v":0},{"$f":"'Result Entry'!AY58","v":0},{"$f":"'Result Entry'!AZ58","v":0},{"$f":"'Result Entry'!BA58","v":0},{"$f":"'Result Entry'!BB58","v":0},{"$f":"'Result Entry'!BC58","v":""},{"$f":"'Result Entry'!BD58","v":0},{"$f":"'Result Entry'!BE58","v":0},{"$f":"'Result Entry'!BF58","v":0},{"$f":"'Result Entry'!BG58","v":0},{"$f":"'Result Entry'!BH58","v":0},{"$f":"'Result Entry'!BI58","v":0},{"$f":"'Result Entry'!BJ58","v":0},{"$f":"'Result Entry'!BK58","v":0},{"$f":"'Result Entry'!BL58","v":0},{"$f":"'Result Entry'!BM58","v":0},{"$f":"'Result Entry'!BN58","v":0},{"$f":"'Result Entry'!BO58","v":0},{"$f":"'Result Entry'!BP58","v":0},{"$f":"'Result Entry'!BQ58","v":0},{"$f":"'Result Entry'!BR58","v":""},{"$f":"'Result Entry'!BS58","v":0},{"$f":"'Result Entry'!BT58","v":0},{"$f":"'Result Entry'!BU58","v":0},{"$f":"'Result Entry'!BV58","v":0},{"$f":"'Result Entry'!BW58","v":0},{"$f":"'Result Entry'!BX58","v":0},{"$f":"'Result Entry'!BY58","v":0},{"$f":"'Result Entry'!BZ58","v":0},{"$f":"'Result Entry'!CA58","v":0},{"$f":"'Result Entry'!CB58","v":0},{"$f":"'Result Entry'!CC58","v":0},{"$f":"'Result Entry'!CD58","v":0},{"$f":"'Result Entry'!CE58","v":0},{"$f":"'Result Entry'!CF58","v":0},{"$f":"'Result Entry'!CG58","v":""},{"$f":"'Result Entry'!CH58","v":0},{"$f":"'Result Entry'!CI58","v":0},{"$f":"'Result Entry'!CJ58","v":0},{"$f":"'Result Entry'!CK58","v":0},{"$f":"'Result Entry'!CL58","v":0},{"$f":"'Result Entry'!CM58","v":0},{"$f":"'Result Entry'!CN58","v":0},{"$f":"'Result Entry'!CO58","v":""},{"$f":"'Result Entry'!CP58","v":0},{"$f":"'Result Entry'!CQ58","v":0},{"$f":"'Result Entry'!CR58","v":0},{"$f":"'Result Entry'!CS58","v":0},{"$f":"'Result Entry'!CT58","v":0},{"$f":"'Result Entry'!CU58","v":0},{"$f":"'Result Entry'!CV58","v":0},{"$f":"'Result Entry'!CW58","v":""},{"$f":"'Result Entry'!CX58","v":0},{"$f":"'Result Entry'!CY58","v":0},{"$f":"'Result Entry'!CZ58","v":0},{"$f":"'Result Entry'!DA58","v":0},{"$f":"'Result Entry'!DB58","v":0},{"$f":"'Result Entry'!DC58","v":0},{"$f":"'Result Entry'!DD58","v":0},{"$f":"'Result Entry'!DE58","v":""},{"$f":"'Result Entry'!DF58","v":0},{"$f":"'Result Entry'!DG58","v":0},{"$f":"'Result Entry'!DH58","v":0},{"$f":"'Result Entry'!DI58","v":0},{"$f":"'Result Entry'!DJ58","v":0},{"$f":"'Result Entry'!DK58","v":0},{"$f":"'Result Entry'!DL58","v":""},{"$f":"'Result Entry'!DM58","v":""},{"$f":"'Result Entry'!DN58","v":0},{"$f":"'Result Entry'!DO58","v":0},{"$f":"'Result Entry'!DP58","v":""},{"$f":"'Result Entry'!DQ58","v":900},{"$f":"'Result Entry'!DR58","v":0},{"$f":"'Result Entry'!DS58","v":{"v":0,"d":"0.00"}},{"$f":"'Result Entry'!DT58","v":""},{"$f":"'Result Entry'!DU58","v":""},{"$f":"'Result Entry'!DV58","v":""},{"$f":"'Result Entry'!DW58","v":""}]
[null,0,{"$f":"'Result Entry'!D59","v":0},{"$f":"'Result Entry'!E59","v":0},{"$f":"'Result Entry'!F59","v":0},{"$f":"'Result Entry'!G59","v":0},{"$f":"'Result Entry'!H59","v":0},{"$f":"'Result Entry'!I59","v":0},{"$f":"'Result Entry'!J59","v":"00:00:00"},{"$f":"'Result Entry'!K59","v":0},{"$f":"'Result Entry'!L59","v":0},{"$f":"'Result Entry'!M59","v":0},{"$f":"'Result Entry'!N59","v":0},{"$f":"'Result Entry'!O59","v":0},{"$f":"'Result Entry'!P59","v":0},{"$f":"'Result Entry'!Q59","v":0},{"$f":"'Result Entry'!R59","v":0},{"$f":"'Result Entry'!S59","v":0},{"$f":"'Result Entry'!T59","v":0},{"$f":"'Result Entry'!U59","v":0},{"$f":"'Result Entry'!V59","v":0},{"$f":"'Result Entry'!W59","v":0},{"$f":"'Result Entry'!X59","v":0},{"$f":"'Result Entry'!Y59","v":""},{"$f":"'Result Entry'!Z59","v":0},{"$f":"'Result Entry'!AA59","v":0},{"$f":"'Result Entry'!AB59","v":0},{"$f":"'Result Entry'!AC59","v":0},{"$f":"'Result Entry'!AD59","v":0},{"$f":"'Result Entry'!AE59","v":0},{"$f":"'Result Entry'!AF59","v":0},{"$f":"'Result Entry'!AG59","v":0},{"$f":"'Result Entry'!AH59","v":0},{"$f":"'Result Entry'!AI59","v":0},{"$f":"'Result Entry'!AJ59","v":0},{"$f":"'Result Entry'!AK59","v":0},{"$f":"'Result Entry'!AL59","v":0},{"$f":"'Result Entry'!AM59","v":0},{"$f":"'Result Entry'!AN59","v":""},{"$f":"'Result Entry'!AO59","v":0},{"$f":"'Result Entry'!AP59","v":0},{"$f":"'Result Entry'!AQ59","v":0},{"$f":"'Result Entry'!AR59","v":0},{"$f":"'Result Entry'!AS59","v":0},{"$f":"'Result Entry'!AT59","v":0},{"$f":"'Result Entry'!AU59","v":0},{"$f":"'Result Entry'!AV59","v":0},{"$f":"'Result Entry'!AW59","v":0},{"$f":"'Result Entry'!AX59","v":0},{"$f":"'Result Entry'!AY59","v":0},{"$f":"'Result Entry'!AZ59","v":0},{"$f":"'Result Entry'!BA59","v":0},{"$f":"'Result Entry'!BB59","v":0},{"$f":"'Result Entry'!BC59","v":""},{"$f":"'Result Entry'!BD59","v":0},{"$f":"'Result Entry'!BE59","v":0},{"$f":"'Result Entry'!BF59","v":0},{"$f":"'Result Entry'!BG59","v":0},{"$f":"'Result Entry'!BH59","v":0},{"$f":"'Result Entry'!BI59","v":0},{"$f":"'Result Entry'!BJ59","v":0},{"$f":"'Result Entry'!BK59","v":0},{"$f":"'Result Entry'!BL59","v":0},{"$f":"'Result Entry'!BM59","v":0},{"$f":"'Result Entry'!BN59","v":0},{"$f":"'Result Entry'!BO59","v":0},{"$f":"'Result Entry'!BP59","v":0},{"$f":"'Result Entry'!BQ59","v":0},{"$f":"'Result Entry'!BR59","v":""},{"$f":"'Result Entry'!BS59","v":0},{"$f":"'Result Entry'!BT59","v":0},{"$f":"'Result Entry'!BU59","v":0},{"$f":"'Result Entry'!BV59","v":0},{"$f":"'Result Entry'!BW59","v":0},{"$f":"'Result Entry'!BX59","v":0},{"$f":"'Result Entry'!BY59","v":0},{"$f":"'Result Entry'!BZ59","v":0},{"$f":"'Result Entry'!CA59","v":0},{"$f":"'Result Entry'!CB59","v":0},{"$f":"'Result Entry'!CC59","v":0},{"$f":"'Result Entry'!CD59","v":0},{"$f":"'Result Entry'!CE59","v":0},{"$f":"'Result Entry'!CF59","v":0},{"$f":"'Result Entry'!CG59","v":""},{"$f":"'Result Entry'!CH59","v":0},{"$f":"'Result Entry'!CI59","v":0},{"$f":"'Result Entry'!CJ59","v":0},{"$f":"'Result Entry'!CK59","v":0},{"$f":"'Result Entry'!CL59","v":0},{"$f":"'Result Entry'!CM59","v":0},{"$f":"'Result Entry'!CN59","v":0},{"$f":"'Result Entry'!CO59","v":""},{"$f":"'Result Entry'!CP59","v":0},{"$f":"'Result Entry'!CQ59","v":0},{"$f":"'Result Entry'!CR59","v":0},{"$f":"'Result Entry'!CS59","v":0},{"$f":"'Result Entry'!CT59","v":0},{"$f":"'Result Entry'!CU59","v":0},{"$f":"'Result Entry'!CV59","v":0},{"$f":"'Result Entry'!CW59","v":""},{"$f":"'Result Entry'!CX59","v":0},{"$f":"'Result Entry'!CY59","v":0},{"$f":"'Result Entry'!CZ59","v":0},{"$f":"'Result Entry'!DA59","v":0},{"$f":"'Result Entry'!DB59","v":0},{"$f":"'Result Entry'!DC59","v":0},{"$f":"'Result Entry'!DD59","v":0},{"$f":"'Result Entry'!DE59","v":""},{"$f":"'Result Entry'!DF59","v":0},{"$f":"'Result Entry'!DG59","v":0},{"$f":"'Result Entry'!DH59","v":0},{"$f":"'Result Entry'!DI59","v":0},{"$f":"'Result Entry'!DJ59","v":0},{"$f":"'Result Entry'!DK59","v":0},{"$f":"'Result Entry'!DL59","v":""},{"$f":"'Result Entry'!DM59","v":""},{"$f":"'Result Entry'!DN59","v":0},{"$f":"'Result Entry'!DO59","v":0},{"$f":"'Result Entry'!DP59","v":""},{"$f":"'Result Entry'!DQ59","v":900},{"$f":"'Result Entry'!DR59","v":0},{"$f":"'Result Entry'!DS59","v":{"v":0,"d":"0.00"}},{"$f":"'Result Entry'!DT59","v":""},{"$f":"'Result Entry'!DU59","v":""},{"$f":"'Result Entry'!DV59","v":""},{"$f":"'Result Entry'!DW59","v":""}]
[null,0,{"$f":"'Result Entry'!D60","v":0},{"$f":"'Result Entry'!E60","v":0},{"$f":"'Result Entry'!F60","v":0},{"$f":"'Result Entry'!G60","v":0},{"$f":"'Result Entry'!H60","v":0},{"$f":"'Result Entry'!I60","v":0},{"$f":"'Result Entry'!J60","v":"00:00:00"},{"$f":"'Result Entry'!K60","v":0},{"$f":"'Result Entry'!L60","v":0},{"$f":"'Result Entry'!M60","v":0},{"$f":"'Result Entry'!N60","v":0},{"$f":"'Result Entry'!O60","v":0},{"$f":"'Result Entry'!P60","v":0},{"$f":"'Result Entry'!Q60","v":0},{"$f":"'Result Entry'!R60","v":0},{"$f":"'Result Entry'!S60","v":0},{"$f":"'Result Entry'!T60","v":0},{"$f":"'Result Entry'!U60","v":0},{"$f":"'Result Entry'!V60","v":0},{"$f":"'Result Entry'!W60","v":0},{"$f":"'Result Entry'!X60","v":0},{"$f":"'Result Entry'!Y60","v":""},{"$f":"'Result Entry'!Z60","v":0},{"$f":"'Result Entry'!AA60","v":0},{"$f":"'Result Entry'!AB60","v":0},{"$f":"'Result Entry'!AC60","v":0},{"$f":"'Result Entry'!AD60","v":0},{"$f":"'Result Entry'!AE60","v":0},{"$f":"'Result Entry'!AF60","v":0},{"$f":"'Result Entry'!AG60","v":0},{"$f":"'Result Entry'!AH60","v":0},{"$f":"'Result Entry'!AI60","v":0},{"$f":"'Result Entry'!AJ60","v":0},{"$f":"'Result Entry'!AK60","v":0},{"$f":"'Result Entry'!AL60","v":0},{"$f":"'Result Entry'!AM60","v":0},{"$f":"'Result Entry'!AN60","v":""},{"$f":"'Result Entry'!AO60","v":0},{"$f":"'Result Entry'!AP60","v":0},{"$f":"'Result Entry'!AQ60","v":0},{"$f":"'Result Entry'!AR60","v":0},{"$f":"'Result Entry'!AS60","v":0},{"$f":"'Result Entry'!AT60","v":0},{"$f":"'Result Entry'!AU60","v":0},{"$f":"'Result Entry'!AV60","v":0},{"$f":"'Result Entry'!AW60","v":0},{"$f":"'Result Entry'!AX60","v":0},{"$f":"'Result Entry'!AY60","v":0},{"$f":"'Result Entry'!AZ60","v":0},{"$f":"'Result Entry'!BA60","v":0},{"$f":"'Result Entry'!BB60","v":0},{"$f":"'Result Entry'!BC60","v":""},{"$f":"'Result Entry'!BD60","v":0},{"$f":"'Result Entry'!BE60","v":0},{"$f":"'Result Entry'!BF60","v":0},{"$f":"'Result Entry'!BG60","v":0},{"$f":"'Result Entry'!BH60","v":0},{"$f":"'Result Entry'!BI60","v":0},{"$f":"'Result Entry'!BJ60","v":0},{"$f":"'Result Entry'!BK60","v":0},{"$f":"'Result Entry'!BL60","v":0},{"$f":"'Result Entry'!BM60","v":0},{"$f":"'Result Entry'!BN60","v":0},{"$f":"'Result Entry'!BO60","v":0},{"$f":"'Result Entry'!BP60","v":0},{"$f":"'Result Entry'!BQ60","v":0},{"$f":"'Result Entry'!BR60","v":""},{"$f":"'Result Entry'!BS60","v":0},{"$f":"'Result Entry'!BT60","v":0},{"$f":"'Result Entry'!BU60","v":0},{"$f":"'Result Entry'!BV60","v":0},{"$f":"'Result Entry'!BW60","v":0},{"$f":"'Result Entry'!BX60","v":0},{"$f":"'Result Entry'!BY60","v":0},{"$f":"'Result Entry'!BZ60","v":0},{"$f":"'Result Entry'!CA60","v":0},{"$f":"'Result Entry'!CB60","v":0},{"$f":"'Result Entry'!CC60","v":0},{"$f":"'Result Entry'!CD60","v":0},{"$f":"'Result Entry'!CE60","v":0},{"$f":"'Result Entry'!CF60","v":0},{"$f":"'Result Entry'!CG60","v":""},{"$f":"'Result Entry'!CH60","v":0},{"$f":"'Result Entry'!CI60","v":0},{"$f":"'Result Entry'!CJ60","v":0},{"$f":"'Result Entry'!CK60","v":0},{"$f":"'Result Entry'!CL60","v":0},{"$f":"'Result Entry'!CM60","v":0},{"$f":"'Result Entry'!CN60","v":0},{"$f":"'Result Entry'!CO60","v":""},{"$f":"'Result Entry'!CP60","v":0},{"$f":"'Result Entry'!CQ60","v":0},{"$f":"'Result Entry'!CR60","v":0},{"$f":"'Result Entry'!CS60","v":0},{"$f":"'Result Entry'!CT60","v":0},{"$f":"'Result Entry'!CU60","v":0},{"$f":"'Result Entry'!CV60","v":0},{"$f":"'Result Entry'!CW60","v":""},{"$f":"'Result Entry'!CX60","v":0},{"$f":"'Result Entry'!CY60","v":0},{"$f":"'Result Entry'!CZ60","v":0},{"$f":"'Result Entry'!DA60","v":0},{"$f":"'Result Entry'!DB60","v":0},{"$f":"'Result Entry'!DC60","v":0},{"$f":"'Result Entry'!DD60","v":0},{"$f":"'Result Entry'!DE60","v":""},{"$f":"'Result Entry'!DF60","v":0},{"$f":"'Result Entry'!DG60","v":0},{"$f":"'Result Entry'!DH60","v":0},{"$f":"'Result Entry'!DI60","v":0},{"$f":"'Result Entry'!DJ60","v":0},{"$f":"'Result Entry'!DK60","v":0},{"$f":"'Result Entry'!DL60","v":""},{"$f":"'Result Entry'!DM60","v":""},{"$f":"'Result Entry'!DN60","v":0},{"$f":"'Result Entry'!DO60","v":0},{"$f":"'Result Entry'!DP60","v":""},{"$f":"'Result Entry'!DQ60","v":900},{"$f":"'Result Entry'!DR60","v":0},{"$f":"'Result Entry'!DS60","v":{"v":0,"d":"0.00"}},{"$f":"'Result Entry'!DT60","v":""},{"$f":"'Result Entry'!DU60","v":""},{"$f":"'Result Entry'!DV60","v":""},{"$f":"'Result Entry'!DW60","v":""}]
[null,0,{"$f":"'Result Entry'!D61","v":0},{"$f":"'Result Entry'!E61","v":0},{"$f":"'Result Entry'!F61","v":0},{"$f":"'Result Entry'!G61","v":0},{"$f":"'Result Entry'!H61","v":0},{"$f":"'Result Entry'!I61","v":0},{"$f":"'Result Entry'!J61","v":"00:00:00"},{"$f":"'Result Entry'!K61","v":0},{"$f":"'Result Entry'!L61","v":0},{"$f":"'Result Entry'!M61","v":0},{"$f":"'Result Entry'!N61","v":0},{"$f":"'Result Entry'!O61","v":0},{"$f":"'Result Entry'!P61","v":0},{"$f":"'Result Entry'!Q61","v":0},{"$f":"'Result Entry'!R61","v":0},{"$f":"'Result Entry'!S61","v":0},{"$f":"'Result Entry'!T61","v":0},{"$f":"'Result Entry'!U61","v":0},{"$f":"'Result Entry'!V61","v":0},{"$f":"'Result Entry'!W61","v":0},{"$f":"'Result Entry'!X61","v":0},{"$f":"'Result Entry'!Y61","v":""},{"$f":"'Result Entry'!Z61","v":0},{"$f":"'Result Entry'!AA61","v":0},{"$f":"'Result Entry'!AB61","v":0},{"$f":"'Result Entry'!AC61","v":0},{"$f":"'Result Entry'!AD61","v":0},{"$f":"'Result Entry'!AE61","v":0},{"$f":"'Result Entry'!AF61","v":0},{"$f":"'Result Entry'!AG61","v":0},{"$f":"'Result Entry'!AH61","v":0},{"$f":"'Result Entry'!AI61","v":0},{"$f":"'Result Entry'!AJ61","v":0},{"$f":"'Result Entry'!AK61","v":0},{"$f":"'Result Entry'!AL61","v":0},{"$f":"'Result Entry'!AM61","v":0},{"$f":"'Result Entry'!AN61","v":""},{"$f":"'Result Entry'!AO61","v":0},{"$f":"'Result Entry'!AP61","v":0},{"$f":"'Result Entry'!AQ61","v":0},{"$f":"'Result Entry'!AR61","v":0},{"$f":"'Result Entry'!AS61","v":0},{"$f":"'Result Entry'!AT61","v":0},{"$f":"'Result Entry'!AU61","v":0},{"$f":"'Result Entry'!AV61","v":0},{"$f":"'Result Entry'!AW61","v":0},{"$f":"'Result Entry'!AX61","v":0},{"$f":"'Result Entry'!AY61","v":0},{"$f":"'Result Entry'!AZ61","v":0},{"$f":"'Result Entry'!BA61","v":0},{"$f":"'Result Entry'!BB61","v":0},{"$f":"'Result Entry'!BC61","v":""},{"$f":"'Result Entry'!BD61","v":0},{"$f":"'Result Entry'!BE61","v":0},{"$f":"'Result Entry'!BF61","v":0},{"$f":"'Result Entry'!BG61","v":0},{"$f":"'Result Entry'!BH61","v":0},{"$f":"'Result Entry'!BI61","v":0},{"$f":"'Result Entry'!BJ61","v":0},{"$f":"'Result Entry'!BK61","v":0},{"$f":"'Result Entry'!BL61","v":0},{"$f":"'Result Entry'!BM61","v":0},{"$f":"'Result Entry'!BN61","v":0},{"$f":"'Result Entry'!BO61","v":0},{"$f":"'Result Entry'!BP61","v":0},{"$f":"'Result Entry'!BQ61","v":0},{"$f":"'Result Entry'!BR61","v":""},{"$f":"'Result Entry'!BS61","v":0},{"$f":"'Result Entry'!BT61","v":0},{"$f":"'Result Entry'!BU61","v":0},{"$f":"'Result Entry'!BV61","v":0},{"$f":"'Result Entry'!BW61","v":0},{"$f":"'Result Entry'!BX61","v":0},{"$f":"'Result Entry'!BY61","v":0},{"$f":"'Result Entry'!BZ61","v":0},{"$f":"'Result Entry'!CA61","v":0},{"$f":"'Result Entry'!CB61","v":0},{"$f":"'Result Entry'!CC61","v":0},{"$f":"'Result Entry'!CD61","v":0},{"$f":"'Result Entry'!CE61","v":0},{"$f":"'Result Entry'!CF61","v":0},{"$f":"'Result Entry'!CG61","v":""},{"$f":"'Result Entry'!CH61","v":0},{"$f":"'Result Entry'!CI61","v":0},{"$f":"'Result Entry'!CJ61","v":0},{"$f":"'Result Entry'!CK61","v":0},{"$f":"'Result Entry'!CL61","v":0},{"$f":"'Result Entry'!CM61","v":0},{"$f":"'Result Entry'!CN61","v":0},{"$f":"'Result Entry'!CO61","v":""},{"$f":"'Result Entry'!CP61","v":0},{"$f":"'Result Entry'!CQ61","v":0},{"$f":"'Result Entry'!CR61","v":0},{"$f":"'Result Entry'!CS61","v":0},{"$f":"'Result Entry'!CT61","v":0},{"$f":"'Result Entry'!CU61","v":0},{"$f":"'Result Entry'!CV61","v":0},{"$f":"'Result Entry'!CW61","v":""},{"$f":"'Result Entry'!CX61","v":0},{"$f":"'Result Entry'!CY61","v":0},{"$f":"'Result Entry'!CZ61","v":0},{"$f":"'Result Entry'!DA61","v":0},{"$f":"'Result Entry'!DB61","v":0},{"$f":"'Result Entry'!DC61","v":0},{"$f":"'Result Entry'!DD61","v":0},{"$f":"'Result Entry'!DE61","v":""},{"$f":"'Result Entry'!DF61","v":0},{"$f":"'Result Entry'!DG61","v":0},{"$f":"'Result Entry'!DH61","v":0},{"$f":"'Result Entry'!DI61","v":0},{"$f":"'Result Entry'!DJ61","v":0},{"$f":"'Result Entry'!DK61","v":0},{"$f":"'Result Entry'!DL61","v":""},{"$f":"'Result Entry'!DM61","v":""},{"$f":"'Result Entry'!DN61","v":0},{"$f":"'Result Entry'!DO61","v":0},{"$f":"'Result Entry'!DP61","v":""},{"$f":"'Result Entry'!DQ61","v":900},{"$f":"'Result Entry'!DR61","v":0},{"$f":"'Result Entry'!DS61","v":{"v":0,"d":"0.00"}},{"$f":"'Result Entry'!DT61","v":""},{"$f":"'Result Entry'!DU61","v":""},{"$f":"'Result Entry'!DV61","v":""},{"$f":"'Result Entry'!DW61","v":""}]
[null,0,{"$f":"'Result Entry'!D62","v":0},{"$f":"'Result Entry'!E62","v":0},{"$f":"'Result Entry'!F62","v":0},{"$f":"'Result Entry'!G62","v":0},{"$f":"'Result Entry'!H62","v":0},{"$f":"'Result Entry'!I62","v":0},{"$f":"'Result Entry'!J62","v":"00:00:00"},{"$f":"'Result Entry'!K62","v":0},{"$f":"'Result Entry'!L62","v":0},{"$f":"'Result Entry'!M62","v":0},{"$f":"'Result Entry'!N62","v":0},{"$f":"'Result Entry'!O62","v":0},{"$f":"'Result Entry'!P62","v":0},{"$f":"'Result Entry'!Q62","v":0},{"$f":"'Result Entry'!R62","v":0},{"$f":"'Result Entry'!S62","v":0},{"$f":"'Result Entry'!T62","v":0},{"$f":"'Result Entry'!U62","v":0},{"$f":"'Result Entry'!V62","v":0},{"$f":"'Result Entry'!W62","v":0},{"$f":"'Result Entry'!X62","v":0},{"$f":"'Result Entry'!Y62","v":""},{"$f":"'Result Entry'!Z62","v":0},{"$f":"'Result Entry'!AA62","v":0},{"$f":"'Result Entry'!AB62","v":0},{"$f":"'Result Entry'!AC62","v":0},{"$f":"'Result Entry'!AD62","v":0},{"$f":"'Result Entry'!AE62","v":0},{"$f":"'Result Entry'!AF62","v":0},{"$f":"'Result Entry'!AG62","v":0},{"$f":"'Result Entry'!AH62","v":0},{"$f":"'Result Entry'!AI62","v":0},{"$f":"'Result Entry'!AJ62","v":0},{"$f":"'Result Entry'!AK62","v":0},{"$f":"'Result Entry'!AL62","v":0},{"$f":"'Result Entry'!AM62","v":0},{"$f":"'Result Entry'!AN62","v":""},{"$f":"'Result Entry'!AO62","v":0},{"$f":"'Result Entry'!AP62","v":0},{"$f":"'Result Entry'!AQ62","v":0},{"$f":"'Result Entry'!AR62","v":0},{"$f":"'Result Entry'!AS62","v":0},{"$f":"'Result Entry'!AT62","v":0},{"$f":"'Result Entry'!AU62","v":0},{"$f":"'Result Entry'!AV62","v":0},{"$f":"'Result Entry'!AW62","v":0},{"$f":"'Result Entry'!AX62","v":0},{"$f":"'Result Entry'!AY62","v":0},{"$f":"'Result Entry'!AZ62","v":0},{"$f":"'Result Entry'!BA62","v":0},{"$f":"'Result Entry'!BB62","v":0},{"$f":"'Result Entry'!BC62","v":""},{"$f":"'Result Entry'!BD62","v":0},{"$f":"'Result Entry'!BE62","v":0},{"$f":"'Result Entry'!BF62","v":0},{"$f":"'Result Entry'!BG62","v":0},{"$f":"'Result Entry'!BH62","v":0},{"$f":"'Result Entry'!BI62","v":0},{"$f":"'Result Entry'!BJ62","v":0},{"$f":"'Result Entry'!BK62","v":0},{"$f":"'Result Entry'!BL62","v":0},{"$f":"'Result Entry'!BM62","v":0},{"$f":"'Result Entry'!BN62","v":0},{"$f":"'Result Entry'!BO62","v":0},{"$f":"'Result Entry'!BP62","v":0},{"$f":"'Result Entry'!BQ62","v":0},{"$f":"'Result Entry'!BR62","v":""},{"$f":"'Result Entry'!BS62","v":0},{"$f":"'Result Entry'!BT62","v":0},{"$f":"'Result Entry'!BU62","v":0},{"$f":"'Result Entry'!BV62","v":0},{"$f":"'Result Entry'!BW62","v":0},{"$f":"'Result Entry'!BX62","v":0},{"$f":"'Result Entry'!BY62","v":0},{"$f":"'Result Entry'!BZ62","v":0},{"$f":"'Result Entry'!CA62","v":0},{"$f":"'Result Entry'!CB62","v":0},{"$f":"'Result Entry'!CC62","v":0},{"$f":"'Result Entry'!CD62","v":0},{"$f":"'Result Entry'!CE62","v":0},{"$f":"'Result Entry'!CF62","v":0},{"$f":"'Result Entry'!CG62","v":""},{"$f":"'Result Entry'!CH62","v":0},{"$f":"'Result Entry'!CI62","v":0},{"$f":"'Result Entry'!CJ62","v":0},{"$f":"'Result Entry'!CK62","v":0},{"$f":"'Result Entry'!CL62","v":0},{"$f":"'Result Entry'!CM62","v":0},{"$f":"'Result Entry'!CN62","v":0},{"$f":"'Result Entry'!CO62","v":""},{"$f":"'Result Entry'!CP62","v":0},{"$f":"'Result Entry'!CQ62","v":0},{"$f":"'Result Entry'!CR62","v":0},{"$f":"'Result Entry'!CS62","v":0},{"$f":"'Result Entry'!CT62","v":0},{"$f":"'Result Entry'!CU62","v":0},{"$f":"'Result Entry'!CV62","v":0},{"$f":"'Result Entry'!CW62","v":""},{"$f":"'Result Entry'!CX62","v":0},{"$f":"'Result Entry'!CY62","v":0},{"$f":"'Result Entry'!CZ62","v":0},{"$f":"'Result Entry'!DA62","v":0},{"$f":"'Result Entry'!DB62","v":0},{"$f":"'Result Entry'!DC62","v":0},{"$f":"'Result Entry'!DD62","v":0},{"$f":"'Result Entry'!DE62","v":""},{"$f":"'Result Entry'!DF62","v":0},{"$f":"'Result Entry'!DG62","v":0},{"$f":"'Result Entry'!DH62","v":0},{"$f":"'Result Entry'!DI62","v":0},{"$f":"'Result Entry'!DJ62","v":0},{"$f":"'Result Entry'!DK62","v":0},{"$f":"'Result Entry'!DL62","v":""},{"$f":"'Result Entry'!DM62","v":""},{"$f":"'Result Entry'!DN62","v":0},{"$f":"'Result Entry'!DO62","v":0},{"$f":"'Result Entry'!DP62","v":""},{"$f":"'Result Entry'!DQ62","v":900},{"$f":"'Result Entry'!DR62","v":0},{"$f":"'Result Entry'!DS62","v":{"v":0,"d":"0.00"}},{"$f":"'Result Entry'!DT62","v":""},{"$f":"'Result Entry'!DU62","v":""},{"$f":"'Result Entry'!DV62","v":""},{"$f":"'Result Entry'!DW62","v":""}]
[null,0,{"$f":"'Result Entry'!D63","v":0},{"$f":"'Result Entry'!E63","v":0},{"$f":"'Result Entry'!F63","v":0},{"$f":"'Result Entry'!G63","v":0},{"$f":"'Result Entry'!H63","v":0},{"$f":"'Result Entry'!I63","v":0},{"$f":"'Result Entry'!J63","v":"00:00:00"},{"$f":"'Result Entry'!K63","v":0},{"$f":"'Result Entry'!L63","v":0},{"$f":"'Result Entry'!M63","v":0},{"$f":"'Result Entry'!N63","v":0},{"$f":"'Result Entry'!O63","v":0},{"$f":"'Result Entry'!P63","v":0},{"$f":"'Result Entry'!Q63","v":0},{"$f":"'Result Entry'!R63","v":0},{"$f":"'Result Entry'!S63","v":0},{"$f":"'Result Entry'!T63","v":0},{"$f":"'Result Entry'!U63","v":0},{"$f":"'Result Entry'!V63","v":0},{"$f":"'Result Entry'!W63","v":0},{"$f":"'Result Entry'!X63","v":0},{"$f":"'Result Entry'!Y63","v":""},{"$f":"'Result Entry'!Z63","v":0},{"$f":"'Result Entry'!AA63","v":0},{"$f":"'Result Entry'!AB63","v":0},{"$f":"'Result Entry'!AC63","v":0},{"$f":"'Result Entry'!AD63","v":0},{"$f":"'Result Entry'!AE63","v":0},{"$f":"'Result Entry'!AF63","v":0},{"$f":"'Result Entry'!AG63","v":0},{"$f":"'Result Entry'!AH63","v":0},{"$f":"'Result Entry'!AI63","v":0},{"$f":"'Result Entry'!AJ63","v":0},{"$f":"'Result Entry'!AK63","v":0},{"$f":"'Result Entry'!AL63","v":0},{"$f":"'Result Entry'!AM63","v":0},{"$f":"'Result Entry'!AN63","v":""},{"$f":"'Result Entry'!AO63","v":0},{"$f":"'Result Entry'!AP63","v":0},{"$f":"'Result Entry'!AQ63","v":0},{"$f":"'Result Entry'!AR63","v":0},{"$f":"'Result Entry'!AS63","v":0},{"$f":"'Result Entry'!AT63","v":0},{"$f":"'Result Entry'!AU63","v":0},{"$f":"'Result Entry'!AV63","v":0},{"$f":"'Result Entry'!AW63","v":0},{"$f":"'Result Entry'!AX63","v":0},{"$f":"'Result Entry'!AY63","v":0},{"$f":"'Result Entry'!AZ63","v":0},{"$f":"'Result Entry'!BA63","v":0},{"$f":"'Result Entry'!BB63","v":0},{"$f":"'Result Entry'!BC63","v":""},{"$f":"'Result Entry'!BD63","v":0},{"$f":"'Result Entry'!BE63","v":0},{"$f":"'Result Entry'!BF63","v":0},{"$f":"'Result Entry'!BG63","v":0},{"$f":"'Result Entry'!BH63","v":0},{"$f":"'Result Entry'!BI63","v":0},{"$f":"'Result Entry'!BJ63","v":0},{"$f":"'Result Entry'!BK63","v":0},{"$f":"'Result Entry'!BL63","v":0},{"$f":"'Result Entry'!BM63","v":0},{"$f":"'Result Entry'!BN63","v":0},{"$f":"'Result Entry'!BO63","v":0},{"$f":"'Result Entry'!BP63","v":0},{"$f":"'Result Entry'!BQ63","v":0},{"$f":"'Result Entry'!BR63","v":""},{"$f":"'Result Entry'!BS63","v":0},{"$f":"'Result Entry'!BT63","v":0},{"$f":"'Result Entry'!BU63","v":0},{"$f":"'Result Entry'!BV63","v":0},{"$f":"'Result Entry'!BW63","v":0},{"$f":"'Result Entry'!BX63","v":0},{"$f":"'Result Entry'!BY63","v":0},{"$f":"'Result Entry'!BZ63","v":0},{"$f":"'Result Entry'!CA63","v":0},{"$f":"'Result Entry'!CB63","v":0},{"$f":"'Result Entry'!CC63","v":0},{"$f":"'Result Entry'!CD63","v":0},{"$f":"'Result Entry'!CE63","v":0},{"$f":"'Result Entry'!CF63","v":0},{"$f":"'Result Entry'!CG63","v":""},{"$f":"'Result Entry'!CH63","v":0},{"$f":"'Result Entry'!CI63","v":0},{"$f":"'Result Entry'!CJ63","v":0},{"$f":"'Result Entry'!CK63","v":0},{"$f":"'Result Entry'!CL63","v":0},{"$f":"'Result Entry'!CM63","v":0},{"$f":"'Result Entry'!CN63","v":0},{"$f":"'Result Entry'!CO63","v":""},{"$f":"'Result Entry'!CP63","v":0},{"$f":"'Result Entry'!CQ63","v":0},{"$f":"'Result Entry'!CR63","v":0},{"$f":"'Result Entry'!CS63","v":0},{"$f":"'Result Entry'!CT63","v":0},{"$f":"'Result Entry'!CU63","v":0},{"$f":"'Result Entry'!CV63","v":0},{"$f":"'Result Entry'!CW63","v":""},{"$f":"'Result Entry'!CX63","v":0},{"$f":"'Result Entry'!CY63","v":0},{"$f":"'Result Entry'!CZ63","v":0},{"$f":"'Result Entry'!DA63","v":0},{"$f":"'Result Entry'!DB63","v":0},{"$f":"'Result Entry'!DC63","v":0},{"$f":"'Result Entry'!DD63","v":0},{"$f":"'Result Entry'!DE63","v":""},{"$f":"'Result Entry'!DF63","v":0},{"$f":"'Result Entry'!DG63","v":0},{"$f":"'Result Entry'!DH63","v":0},{"$f":"'Result Entry'!DI63","v":0},{"$f":"'Result Entry'!DJ63","v":0},{"$f":"'Result Entry'!DK63","v":0},{"$f":"'Result Entry'!DL63","v":""},{"$f":"'Result Entry'!DM63","v":""},{"$f":"'Result Entry'!DN63","v":0},{"$f":"'Result Entry'!DO63","v":0},{"$f":"'Result Entry'!DP63","v":""},{"$f":"'Result Entry'!DQ63","v":900},{"$f":"'Result Entry'!DR63","v":0},{"$f":"'Result Entry'!DS63","v":{"v":0,"d":"0.00"}},{"$f":"'Result Entry'!DT63","v":""},{"$f":"'Result Entry'!DU63","v":""},{"$f":"'Result Entry'!DV63","v":""},{"$f":"'Result Entry'!DW63","v":""}]
[null,0,{"$f":"'Result Entry'!D64","v":0},{"$f":"'Result Entry'!E64","v":0},{"$f":"'Result Entry'!F64","v":0},{"$f":"'Result Entry'!G64","v":0},{"$f":"'Result Entry'!H64","v":0},{"$f":"'Result Entry'!I64","v":0},{"$f":"'Result Entry'!J64","v":"00:00:00"},{"$f":"'Result Entry'!K64","v":0},{"$f":"'Result Entry'!L64","v":0},{"$f":"'Result Entry'!M64","v":0},{"$f":"'Result Entry'!N64","v":0},{"$f":"'Result Entry'!O64","v":0},{"$f":"'Result Entry'!P64","v":0},{"$f":"'Result Entry'!Q64","v":0},{"$f":"'Result Entry'!R64","v":0},{"$f":"'Result Entry'!S64","v":0},{"$f":"'Result Entry'!T64","v":0},{"$f":"'Result Entry'!U64","v":0},{"$f":"'Result Entry'!V64","v":0},{"$f":"'Result Entry'!W64","v":0},{"$f":"'Result Entry'!X64","v":0},{"$f":"'Result Entry'!Y64","v":""},{"$f":"'Result Entry'!Z64","v":0},{"$f":"'Result Entry'!AA64","v":0},{"$f":"'Result Entry'!AB64","v":0},{"$f":"'Result Entry'!AC64","v":0},{"$f":"'Result Entry'!AD64","v":0},{"$f":"'Result Entry'!AE64","v":0},{"$f":"'Result Entry'!AF64","v":0},{"$f":"'Result Entry'!AG64","v":0},{"$f":"'Result Entry'!AH64","v":0},{"$f":"'Result Entry'!AI64","v":0},{"$f":"'Result Entry'!AJ64","v":0},{"$f":"'Result Entry'!AK64","v":0},{"$f":"'Result Entry'!AL64","v":0},{"$f":"'Result Entry'!AM64","v":0},{"$f":"'Result Entry'!AN64","v":""},{"$f":"'Result Entry'!AO64","v":0},{"$f":"'Result Entry'!AP64","v":0},{"$f":"'Result Entry'!AQ64","v":0},{"$f":"'Result Entry'!AR64","v":0},{"$f":"'Result Entry'!AS64","v":0},{"$f":"'Result Entry'!AT64","v":0},{"$f":"'Result Entry'!AU64","v":0},{"$f":"'Result Entry'!AV64","v":0},{"$f":"'Result Entry'!AW64","v":0},{"$f":"'Result Entry'!AX64","v":0},{"$f":"'Result Entry'!AY64","v":0},{"$f":"'Result Entry'!AZ64","v":0},{"$f":"'Result Entry'!BA64","v":0},{"$f":"'Result Entry'!BB64","v":0},{"$f":"'Result Entry'!BC64","v":""},{"$f":"'Result Entry'!BD64","v":0},{"$f":"'Result Entry'!BE64","v":0},{"$f":"'Result Entry'!BF64","v":0},{"$f":"'Result Entry'!BG64","v":0},{"$f":"'Result Entry'!BH64","v":0},{"$f":"'Result Entry'!BI64","v":0},{"$f":"'Result Entry'!BJ64","v":0},{"$f":"'Result Entry'!BK64","v":0},{"$f":"'Result Entry'!BL64","v":0},{"$f":"'Result Entry'!BM64","v":0},{"$f":"'Result Entry'!BN64","v":0},{"$f":"'Result Entry'!BO64","v":0},{"$f":"'Result Entry'!BP64","v":0},{"$f":"'Result Entry'!BQ64","v":0},{"$f":"'Result Entry'!BR64","v":""},{"$f":"'Result Entry'!BS64","v":0},{"$f":"'Result Entry'!BT64","v":0},{"$f":"'Result Entry'!BU64","v":0},{"$f":"'Result Entry'!BV64","v":0},{"$f":"'Result Entry'!BW64","v":0},{"$f":"'Result Entry'!BX64","v":0},{"$f":"'Result Entry'!BY64","v":0},{"$f":"'Result Entry'!BZ64","v":0},{"$f":"'Result Entry'!CA64","v":0},{"$f":"'Result Entry'!CB64","v":0},{"$f":"'Result Entry'!CC64","v":0},{"$f":"'Result Entry'!CD64","v":0},{"$f":"'Result Entry'!CE64","v":0},{"$f":"'Result Entry'!CF64","v":0},{"$f":"'Result Entry'!CG64","v":""},{"$f":"'Result Entry'!CH64","v":0},{"$f":"'Result Entry'!CI64","v":0},{"$f":"'Result Entry'!CJ64","v":0},{"$f":"'Result Entry'!CK64","v":0},{"$f":"'Result Entry'!CL64","v":0},{"$f":"'Result Entry'!CM64","v":0},{"$f":"'Result Entry'!CN64","v":0},{"$f":"'Result Entry'!CO64","v":""},{"$f":"'Result Entry'!CP64","v":0},{"$f":"'Result Entry'!CQ64","v":0},{"$f":"'Result Entry'!CR64","v":0},{"$f":"'Result Entry'!CS64","v":0},{"$f":"'Result Entry'!CT64","v":0},{"$f":"'Result Entry'!CU64","v":0},{"$f":"'Result Entry'!CV64","v":0},{"$f":"'Result Entry'!CW64","v":""},{"$f":"'Result Entry'!CX64","v":0},{"$f":"'Result Entry'!CY64","v":0},{"$f":"'Result Entry'!CZ64","v":0},{"$f":"'Result Entry'!DA64","v":0},{"$f":"'Result Entry'!DB64","v":0},{"$f":"'Result Entry'!DC64","v":0},{"$f":"'Result Entry'!DD64","v":0},{"$f":"'Result Entry'!DE64","v":""},{"$f":"'Result Entry'!DF64","v":0},{"$f":"'Result Entry'!DG64","v":0},{"$f":"'Result Entry'!DH64","v":0},{"$f":"'Result Entry'!DI64","v":0},{"$f":"'Result Entry'!DJ64","v":0},{"$f":"'Result Entry'!DK64","v":0},{"$f":"'Result Entry'!DL64","v":""},{"$f":"'Result Entry'!DM64","v":""},{"$f":"'Result Entry'!DN64","v":0},{"$f":"'Result Entry'!DO64","v":0},{"$f":"'Result Entry'!DP64","v":""},{"$f":"'Result Entry'!DQ64","v":900},{"$f":"'Result Entry'!DR64","v":0},{"$f":"'Result Entry'!DS64","v":{"v":0,"d":"0.00"}},{"$f":"'Result Entry'!DT64","v":""},{"$f":"'Result Entry'!DU64","v":""},{"$f":"'Result Entry'!DV64","v":""},{"$f":"'Result Entry'!DW64","v":""}]
[null,0,{"$f":"'Result Entry'!D65","v":0},{"$f":"'Result Entry'!E65","v":0},{"$f":"'Result Entry'!F65","v":0},{"$f":"'Result Entry'!G65","v":0},{"$f":"'Result Entry'!H65","v":0},{"$f":"'Result Entry'!I65","v":0},{"$f":"'Result Entry'!J65","v":"00:00:00"},{"$f":"'Result Entry'!K65","v":0},{"$f":"'Result Entry'!L65","v":0},{"$f":"'Result Entry'!M65","v":0},{"$f":"'Result Entry'!N65","v":0},{"$f":"'Result Entry'!O65","v":0},{"$f":"'Result Entry'!P65","v":0},{"$f":"'Result Entry'!Q65","v":0},{"$f":"'Result Entry'!R65","v":0},{"$f":"'Result Entry'!S65","v":0},{"$f":"'Result Entry'!T65","v":0},{"$f":"'Result Entry'!U65","v":0},{"$f":"'Result Entry'!V65","v":0},{"$f":"'Result Entry'!W65","v":0},{"$f":"'Result Entry'!X65","v":0},{"$f":"'Result Entry'!Y65","v":""},{"$f":"'Result Entry'!Z65","v":0},{"$f":"'Result Entry'!AA65","v":0},{"$f":"'Result Entry'!AB65","v":0},{"$f":"'Result Entry'!AC65","v":0},{"$f":"'Result Entry'!AD65","v":0},{"$f":"'Result Entry'!AE65","v":0},{"$f":"'Result Entry'!AF65","v":0},{"$f":"'Result Entry'!AG65","v":0},{"$f":"'Result Entry'!AH65","v":0},{"$f":"'Result Entry'!AI65","v":0},{"$f":"'Result Entry'!AJ65","v":0},{"$f":"'Result Entry'!AK65","v":0},{"$f":"'Result Entry'!AL65","v":0},{"$f":"'Result Entry'!AM65","v":0},{"$f":"'Result Entry'!AN65","v":""},{"$f":"'Result Entry'!AO65","v":0},{"$f":"'Result Entry'!AP65","v":0},{"$f":"'Result Entry'!AQ65","v":0},{"$f":"'Result Entry'!AR65","v":0},{"$f":"'Result Entry'!AS65","v":0},{"$f":"'Result Entry'!AT65","v":0},{"$f":"'Result Entry'!AU65","v":0},{"$f":"'Result Entry'!AV65","v":0},{"$f":"'Result Entry'!AW65","v":0},{"$f":"'Result Entry'!AX65","v":0},{"$f":"'Result Entry'!AY65","v":0},{"$f":"'Result Entry'!AZ65","v":0},{"$f":"'Result Entry'!BA65","v":0},{"$f":"'Result Entry'!BB65","v":0},{"$f":"'Result Entry'!BC65","v":""},{"$f":"'Result Entry'!BD65","v":0},{"$f":"'Result Entry'!BE65","v":0},{"$f":"'Result Entry'!BF65","v":0},{"$f":"'Result Entry'!BG65","v":0},{"$f":"'Result Entry'!BH65","v":0},{"$f":"'Result Entry'!BI65","v":0},{"$f":"'Result Entry'!BJ65","v":0},{"$f":"'Result Entry'!BK65","v":0},{"$f":"'Result Entry'!BL65","v":0},{"$f":"'Result Entry'!BM65","v":0},{"$f":"'Result Entry'!BN65","v":0},{"$f":"'Result Entry'!BO65","v":0},{"$f":"'Result Entry'!BP65","v":0},{"$f":"'Result Entry'!BQ65","v":0},{"$f":"'Result Entry'!BR65","v":""},{"$f":"'Result Entry'!BS65","v":0},{"$f":"'Result Entry'!BT65","v":0},{"$f":"'Result Entry'!BU65","v":0},{"$f":"'Result Entry'!BV65","v":0},{"$f":"'Result Entry'!BW65","v":0},{"$f":"'Result Entry'!BX65","v":0},{"$f":"'Result Entry'!BY65","v":0},{"$f":"'Result Entry'!BZ65","v":0},{"$f":"'Result Entry'!CA65","v":0},{"$f":"'Result Entry'!CB65","v":0},{"$f":"'Result Entry'!CC65","v":0},{"$f":"'Result Entry'!CD65","v":0},{"$f":"'Result Entry'!CE65","v":0},{"$f":"'Result Entry'!CF65","v":0},{"$f":"'Result Entry'!CG65","v":""},{"$f":"'Result Entry'!CH65","v":0},{"$f":"'Result Entry'!CI65","v":0},{"$f":"'Result Entry'!CJ65","v":0},{"$f":"'Result Entry'!CK65","v":0},{"$f":"'Result Entry'!CL65","v":0},{"$f":"'Result Entry'!CM65","v":0},{"$f":"'Result Entry'!CN65","v":0},{"$f":"'Result Entry'!CO65","v":""},{"$f":"'Result Entry'!CP65","v":0},{"$f":"'Result Entry'!CQ65","v":0},{"$f":"'Result Entry'!CR65","v":0},{"$f":"'Result Entry'!CS65","v":0},{"$f":"'Result Entry'!CT65","v":0},{"$f":"'Result Entry'!CU65","v":0},{"$f":"'Result Entry'!CV65","v":0},{"$f":"'Result Entry'!CW65","v":""},{"$f":"'Result Entry'!CX65","v":0},{"$f":"'Result Entry'!CY65","v":0},{"$f":"'Result Entry'!CZ65","v":0},{"$f":"'Result Entry'!DA65","v":0},{"$f":"'Result Entry'!DB65","v":0},{"$f":"'Result Entry'!DC65","v":0},{"$f":"'Result Entry'!DD65","v":0},{"$f":"'Result Entry'!DE65","v":""},{"$f":"'Result Entry'!DF65","v":0},{"$f":"'Result Entry'!DG65","v":0},{"$f":"'Result Entry'!DH65","v":0},{"$f":"'Result Entry'!DI65","v":0},{"$f":"'Result Entry'!DJ65","v":0},{"$f":"'Result Entry'!DK65","v":0},{"$f":"'Result Entry'!DL65","v":""},{"$f":"'Result Entry'!DM65","v":""},{"$f":"'Result Entry'!DN65","v":0},{"$f":"'Result Entry'!DO65","v":0},{"$f":"'Result Entry'!DP65","v":""},{"$f":"'Result Entry'!DQ65","v":900},{"$f":"'Result Entry'!DR65","v":0},{"$f":"'Result Entry'!DS65","v":{"v":0,"d":"0.00"}},{"$f":"'Result Entry'!DT65","v":""},{"$f":"'Result Entry'!DU65","v":""},{"$f":"'Result Entry'!DV65","v":""},{"$f":"'Result Entry'!DW65","v":""}]
[null,0,{"$f":"'Result Entry'!D66","v":0},{"$f":"'Result Entry'!E66","v":0},{"$f":"'Result Entry'!F66","v":0},{"$f":"'Result Entry'!G66","v":0},{"$f":"'Result Entry'!H66","v":0},{"$f":"'Result Entry'!I66","v":0},{"$f":"'Result Entry'!J66","v":"00:00:00"},{"$f":"'Result Entry'!K66","v":0},{"$f":"'Result Entry'!L66","v":0},{"$f":"'Result Entry'!M66","v":0},{"$f":"'Result Entry'!N66","v":0},{"$f":"'Result Entry'!O66","v":0},{"$f":"'Result Entry'!P66","v":0},{"$f":"'Result Entry'!Q66","v":0},{"$f":"'Result Entry'!R66","v":0},{"$f":"'Result Entry'!S66","v":0},{"$f":"'Result Entry'!T66","v":0},{"$f":"'Result Entry'!U66","v":0},{"$f":"'Result Entry'!V66","v":0},{"$f":"'Result Entry'!W66","v":0},{"$f":"'Result Entry'!X66","v":0},{"$f":"'Result Entry'!Y66","v":""},{"$f":"'Result Entry'!Z66","v":0},{"$f":"'Result Entry'!AA66","v":0},{"$f":"'Result Entry'!AB66","v":0},{"$f":"'Result Entry'!AC66","v":0},{"$f":"'Result Entry'!AD66","v":0},{"$f":"'Result Entry'!AE66","v":0},{"$f":"'Result Entry'!AF66","v":0},{"$f":"'Result Entry'!AG66","v":0},{"$f":"'Result Entry'!AH66","v":0},{"$f":"'Result Entry'!AI66","v":0},{"$f":"'Result Entry'!AJ66","v":0},{"$f":"'Result Entry'!AK66","v":0},{"$f":"'Result Entry'!AL66","v":0},{"$f":"'Result Entry'!AM66","v":0},{"$f":"'Result Entry'!AN66","v":""},{"$f":"'Result Entry'!AO66","v":0},{"$f":"'Result Entry'!AP66","v":0},{"$f":"'Result Entry'!AQ66","v":0},{"$f":"'Result Entry'!AR66","v":0},{"$f":"'Result Entry'!AS66","v":0},{"$f":"'Result Entry'!AT66","v":0},{"$f":"'Result Entry'!AU66","v":0},{"$f":"'Result Entry'!AV66","v":0},{"$f":"'Result Entry'!AW66","v":0},{"$f":"'Result Entry'!AX66","v":0},{"$f":"'Result Entry'!AY66","v":0},{"$f":"'Result Entry'!AZ66","v":0},{"$f":"'Result Entry'!BA66","v":0},{"$f":"'Result Entry'!BB66","v":0},{"$f":"'Result Entry'!BC66","v":""},{"$f":"'Result Entry'!BD66","v":0},{"$f":"'Result Entry'!BE66","v":0},{"$f":"'Result Entry'!BF66","v":0},{"$f":"'Result Entry'!BG66","v":0},{"$f":"'Result Entry'!BH66","v":0},{"$f":"'Result Entry'!BI66","v":0},{"$f":"'Result Entry'!BJ66","v":0},{"$f":"'Result Entry'!BK66","v":0},{"$f":"'Result Entry'!BL66","v":0},{"$f":"'Result Entry'!BM66","v":0},{"$f":"'Result Entry'!BN66","v":0},{"$f":"'Result Entry'!BO66","v":0},{"$f":"'Result Entry'!BP66","v":0},{"$f":"'Result Entry'!BQ66","v":0},{"$f":"'Result Entry'!BR66","v":""},{"$f":"'Result Entry'!BS66","v":0},{"$f":"'Result Entry'!BT66","v":0},{"$f":"'Result Entry'!BU66","v":0},{"$f":"'Result Entry'!BV66","v":0},{"$f":"'Result Entry'!BW66","v":0},{"$f":"'Result Entry'!BX66","v":0},{"$f":"'Result Entry'!BY66","v":0},{"$f":"'Result Entry'!BZ66","v":0},{"$f":"'Result Entry'!CA66","v":0},{"$f":"'Result Entry'!CB66","v":0},{"$f":"'Result Entry'!CC66","v":0},{"$f":"'Result Entry'!CD66","v":0},{"$f":"'Result Entry'!CE66","v":0},{"$f":"'Result Entry'!CF66","v":0},{"$f":"'Result Entry'!CG66","v":""},{"$f":"'Result Entry'!CH66","v":0},{"$f":"'Result Entry'!CI66","v":0},{"$f":"'Result Entry'!CJ66","v":0},{"$f":"'Result Entry'!CK66","v":0},{"$f":"'Result Entry'!CL66","v":0},{"$f":"'Result Entry'!CM66","v":0},{"$f":"'Result Entry'!CN66","v":0},{"$f":"'Result Entry'!CO66","v":""},{"$f":"'Result Entry'!CP66","v":0},{"$f":"'Result Entry'!CQ66","v":0},{"$f":"'Result Entry'!CR66","v":0},{"$f":"'Result Entry'!CS66","v":0},{"$f":"'Result Entry'!CT66","v":0},{"$f":"'Result Entry'!CU66","v":0},{"$f":"'Result Entry'!CV66","v":0},{"$f":"'Result Entry'!CW66","v":""},{"$f":"'Result Entry'!CX66","v":0},{"$f":"'Result Entry'!CY66","v":0},{"$f":"'Result Entry'!CZ66","v":0},{"$f":"'Result Entry'!DA66","v":0},{"$f":"'Result Entry'!DB66","v":0},{"$f":"'Result Entry'!DC66","v":0},{"$f":"'Result Entry'!DD66","v":0},{"$f":"'Result Entry'!DE66","v":""},{"$f":"'Result Entry'!DF66","v":0},{"$f":"'Result Entry'!DG66","v":0},{"$f":"'Result Entry'!DH66","v":0},{"$f":"'Result Entry'!DI66","v":0},{"$f":"'Result Entry'!DJ66","v":0},{"$f":"'Result Entry'!DK66","v":0},{"$f":"'Result Entry'!DL66","v":""},{"$f":"'Result Entry'!DM66","v":""},{"$f":"'Result Entry'!DN66","v":0},{"$f":"'Result Entry'!DO66","v":0},{"$f":"'Result Entry'!DP66","v":""},{"$f":"'Result Entry'!DQ66","v":900},{"$f":"'Result Entry'!DR66","v":0},{"$f":"'Result Entry'!DS66","v":{"v":0,"d":"0.00"}},{"$f":"'Result Entry'!DT66","v":""},{"$f":"'Result Entry'!DU66","v":""},{"$f":"'Result Entry'!DV66","v":""},{"$f":"'Result Entry'!DW66","v":""}]
[null,0,{"$f":"'Result Entry'!D67","v":0},{"$f":"'Result Entry'!E67","v":0},{"$f":"'Result Entry'!F67","v":0},{"$f":"'Result Entry'!G67","v":0},{"$f":"'Result Entry'!H67","v":0},{"$f":"'Result Entry'!I67","v":0},{"$f":"'Result Entry'!J67","v":"00:00:00"},{"$f":"'Result Entry'!K67","v":0},{"$f":"'Result Entry'!L67","v":0},{"$f":"'Result Entry'!M67","v":0},{"$f":"'Result Entry'!N67","v":0},{"$f":"'Result Entry'!O67","v":0},{"$f":"'Result Entry'!P67","v":0},{"$f":"'Result Entry'!Q67","v":0},{"$f":"'Result Entry'!R67","v":0},{"$f":"'Result Entry'!S67","v":0},{"$f":"'Result Entry'!T67","v":0},{"$f":"'Result Entry'!U67","v":0},{"$f":"'Result Entry'!V67","v":0},{"$f":"'Result Entry'!W67","v":0},{"$f":"'Result Entry'!X67","v":0},{"$f":"'Result Entry'!Y67","v":""},{"$f":"'Result Entry'!Z67","v":0},{"$f":"'Result Entry'!AA67","v":0},{"$f":"'Result Entry'!AB67","v":0},{"$f":"'Result Entry'!AC67","v":0},{"$f":"'Result Entry'!AD67","v":0},{"$f":"'Result Entry'!AE67","v":0},{"$f":"'Result Entry'!AF67","v":0},{"$f":"'Result Entry'!AG67","v":0},{"$f":"'Result Entry'!AH67","v":0},{"$f":"'Result Entry'!AI67","v":0},{"$f":"'Result Entry'!AJ67","v":0},{"$f":"'Result Entry'!AK67","v":0},{"$f":"'Result Entry'!AL67","v":0},{"$f":"'Result Entry'!AM67","v":0},{"$f":"'Result Entry'!AN67","v":""},{"$f":"'Result Entry'!AO67","v":0},{"$f":"'Result Entry'!AP67","v":0},{"$f":"'Result Entry'!AQ67","v":0},{"$f":"'Result Entry'!AR67","v":0},{"$f":"'Result Entry'!AS67","v":0},{"$f":"'Result Entry'!AT67","v":0},{"$f":"'Result Entry'!AU67","v":0},{"$f":"'Result Entry'!AV67","v":0},{"$f":"'Result Entry'!AW67","v":0},{"$f":"'Result Entry'!AX67","v":0},{"$f":"'Result Entry'!AY67","v":0},{"$f":"'Result Entry'!AZ67","v":0},{"$f":"'Result Entry'!BA67","v":0},{"$f":"'Result Entry'!BB67","v":0},{"$f":"'Result Entry'!BC67","v":""},{"$f":"'Result Entry'!BD67","v":0},{"$f":"'Result Entry'!BE67","v":0},{"$f":"'Result Entry'!BF67","v":0},{"$f":"'Result Entry'!BG67","v":0},{"$f":"'Result Entry'!BH67","v":0},{"$f":"'Result Entry'!BI67","v":0},{"$f":"'Result Entry'!BJ67","v":0},{"$f":"'Result Entry'!BK67","v":0},{"$f":"'Result Entry'!BL67","v":0},{"$f":"'Result Entry'!BM67","v":0},{"$f":"'Result Entry'!BN67","v":0},{"$f":"'Result Entry'!BO67","v":0},{"$f":"'Result Entry'!BP67","v":0},{"$f":"'Result Entry'!BQ67","v":0},{"$f":"'Result Entry'!BR67","v":""},{"$f":"'Result Entry'!BS67","v":0},{"$f":"'Result Entry'!BT67","v":0},{"$f":"'Result Entry'!BU67","v":0},{"$f":"'Result Entry'!BV67","v":0},{"$f":"'Result Entry'!BW67","v":0},{"$f":"'Result Entry'!BX67","v":0},{"$f":"'Result Entry'!BY67","v":0},{"$f":"'Result Entry'!BZ67","v":0},{"$f":"'Result Entry'!CA67","v":0},{"$f":"'Result Entry'!CB67","v":0},{"$f":"'Result Entry'!CC67","v":0},{"$f":"'Result Entry'!CD67","v":0},{"$f":"'Result Entry'!CE67","v":0},{"$f":"'Result Entry'!CF67","v":0},{"$f":"'Result Entry'!CG67","v":""},{"$f":"'Result Entry'!CH67","v":0},{"$f":"'Result Entry'!CI67","v":0},{"$f":"'Result Entry'!CJ67","v":0},{"$f":"'Result Entry'!CK67","v":0},{"$f":"'Result Entry'!CL67","v":0},{"$f":"'Result Entry'!CM67","v":0},{"$f":"'Result Entry'!CN67","v":0},{"$f":"'Result Entry'!CO67","v":""},{"$f":"'Result Entry'!CP67","v":0},{"$f":"'Result Entry'!CQ67","v":0},{"$f":"'Result Entry'!CR67","v":0},{"$f":"'Result Entry'!CS67","v":0},{"$f":"'Result Entry'!CT67","v":0},{"$f":"'Result Entry'!CU67","v":0},{"$f":"'Result Entry'!CV67","v":0},{"$f":"'Result Entry'!CW67","v":""},{"$f":"'Result Entry'!CX67","v":0},{"$f":"'Result Entry'!CY67","v":0},{"$f":"'Result Entry'!CZ67","v":0},{"$f":"'Result Entry'!DA67","v":0},{"$f":"'Result Entry'!DB67","v":0},{"$f":"'Result Entry'!DC67","v":0},{"$f":"'Result Entry'!DD67","v":0},{"$f":"'Result Entry'!DE67","v":""},{"$f":"'Result Entry'!DF67","v":0},{"$f":"'Result Entry'!DG67","v":0},{"$f":"'Result Entry'!DH67","v":0},{"$f":"'Result Entry'!DI67","v":0},{"$f":"'Result Entry'!DJ67","v":0},{"$f":"'Result Entry'!DK67","v":0},{"$f":"'Result Entry'!DL67","v":""},{"$f":"'Result Entry'!DM67","v":""},{"$f":"'Result Entry'!DN67","v":0},{"$f":"'Result Entry'!DO67","v":0},{"$f":"'Result Entry'!DP67","v":""},{"$f":"'Result Entry'!DQ67","v":900},{"$f":"'Result Entry'!DR67","v":0},{"$f":"'Result Entry'!DS67","v":{"v":0,"d":"0.00"}},{"$f":"'Result Entry'!DT67","v":""},{"$f":"'Result Entry'!DU67","v":""},{"$f":"'Result Entry'!DV67","v":""},{"$f":"'Result Entry'!DW67","v":""}]
[null,0,{"$f":"'Result Entry'!D68","v":0},{"$f":"'Result Entry'!E68","v":0},{"$f":"'Result Entry'!F68","v":0},{"$f":"'Result Entry'!G68","v":0},{"$f":"'Result Entry'!H68","v":0},{"$f":"'Result Entry'!I68","v":0},{"$f":"'Result Entry'!J68","v":"00:00:00"},{"$f":"'Result Entry'!K68","v":0},{"$f":"'Result Entry'!L68","v":0},{"$f":"'Result Entry'!M68","v":0},{"$f":"'Result Entry'!N68","v":0},{"$f":"'Result Entry'!O68","v":0},{"$f":"'Result Entry'!P68","v":0},{"$f":"'Result Entry'!Q68","v":0},{"$f":"'Result Entry'!R68","v":0},{"$f":"'Result Entry'!S68","v":0},{"$f":"'Result Entry'!T68","v":0},{"$f":"'Result Entry'!U68","v":0},{"$f":"'Result Entry'!V68","v":0},{"$f":"'Result Entry'!W68","v":0},{"$f":"'Result Entry'!X68","v":0},{"$f":"'Result Entry'!Y68","v":""},{"$f":"'Result Entry'!Z68","v":0},{"$f":"'Result Entry'!AA68","v":0},{"$f":"'Result Entry'!AB68","v":0},{"$f":"'Result Entry'!AC68","v":0},{"$f":"'Result Entry'!AD68","v":0},{"$f":"'Result Entry'!AE68","v":0},{"$f":"'Result Entry'!AF68","v":0},{"$f":"'Result Entry'!AG68","v":0},{"$f":"'Result Entry'!AH68","v":0},{"$f":"'Result Entry'!AI68","v":0},{"$f":"'Result Entry'!AJ68","v":0},{"$f":"'Result Entry'!AK68","v":0},{"$f":"'Result Entry'!AL68","v":0},{"$f":"'Result Entry'!AM68","v":0},{"$f":"'Result Entry'!AN68","v":""},{"$f":"'Result Entry'!AO68","v":0},{"$f":"'Result Entry'!AP68","v":0},{"$f":"'Result Entry'!AQ68","v":0},{"$f":"'Result Entry'!AR68","v":0},{"$f":"'Result Entry'!AS68","v":0},{"$f":"'Result Entry'!AT68","v":0},{"$f":"'Result Entry'!AU68","v":0},{"$f":"'Result Entry'!AV68","v":0},{"$f":"'Result Entry'!AW68","v":0},{"$f":"'Result Entry'!AX68","v":0},{"$f":"'Result Entry'!AY68","v":0},{"$f":"'Result Entry'!AZ68","v":0},{"$f":"'Result Entry'!BA68","v":0},{"$f":"'Result Entry'!BB68","v":0},{"$f":"'Result Entry'!BC68","v":""},{"$f":"'Result Entry'!BD68","v":0},{"$f":"'Result Entry'!BE68","v":0},{"$f":"'Result Entry'!BF68","v":0},{"$f":"'Result Entry'!BG68","v":0},{"$f":"'Result Entry'!BH68","v":0},{"$f":"'Result Entry'!BI68","v":0},{"$f":"'Result Entry'!BJ68","v":0},{"$f":"'Result Entry'!BK68","v":0},{"$f":"'Result Entry'!BL68","v":0},{"$f":"'Result Entry'!BM68","v":0},{"$f":"'Result Entry'!BN68","v":0},{"$f":"'Result Entry'!BO68","v":0},{"$f":"'Result Entry'!BP68","v":0},{"$f":"'Result Entry'!BQ68","v":0},{"$f":"'Result Entry'!BR68","v":""},{"$f":"'Result Entry'!BS68","v":0},{"$f":"'Result Entry'!BT68","v":0},{"$f":"'Result Entry'!BU68","v":0},{"$f":"'Result Entry'!BV68","v":0},{"$f":"'Result Entry'!BW68","v":0},{"$f":"'Result Entry'!BX68","v":0},{"$f":"'Result Entry'!BY68","v":0},{"$f":"'Result Entry'!BZ68","v":0},{"$f":"'Result Entry'!CA68","v":0},{"$f":"'Result Entry'!CB68","v":0},{"$f":"'Result Entry'!CC68","v":0},{"$f":"'Result Entry'!CD68","v":0},{"$f":"'Result Entry'!CE68","v":0},{"$f":"'Result Entry'!CF68","v":0},{"$f":"'Result Entry'!CG68","v":""},{"$f":"'Result Entry'!CH68","v":0},{"$f":"'Result Entry'!CI68","v":0},{"$f":"'Result Entry'!CJ68","v":0},{"$f":"'Result Entry'!CK68","v":0},{"$f":"'Result Entry'!CL68","v":0},{"$f":"'Result Entry'!CM68","v":0},{"$f":"'Result Entry'!CN68","v":0},{"$f":"'Result Entry'!CO68","v":""},{"$f":"'Result Entry'!CP68","v":0},{"$f":"'Result Entry'!CQ68","v":0},{"$f":"'Result Entry'!CR68","v":0},{"$f":"'Result Entry'!CS68","v":0},{"$f":"'Result Entry'!CT68","v":0},{"$f":"'Result Entry'!CU68","v":0},{"$f":"'Result Entry'!CV68","v":0},{"$f":"'Result Entry'!CW68","v":""},{"$f":"'Result Entry'!CX68","v":0},{"$f":"'Result Entry'!CY68","v":0},{"$f":"'Result Entry'!CZ68","v":0},{"$f":"'Result Entry'!DA68","v":0},{"$f":"'Result Entry'!DB68","v":0},{"$f":"'Result Entry'!DC68","v":0},{"$f":"'Result Entry'!DD68","v":0},{"$f":"'Result Entry'!DE68","v":""},{"$f":"'Result Entry'!DF68","v":0},{"$f":"'Result Entry'!DG68","v":0},{"$f":"'Result Entry'!DH68","v":0},{"$f":"'Result Entry'!DI68","v":0},{"$f":"'Result Entry'!DJ68","v":0},{"$f":"'Result Entry'!DK68","v":0},{"$f":"'Result Entry'!DL68","v":""},{"$f":"'Result Entry'!DM68","v":""},{"$f":"'Result Entry'!DN68","v":0},{"$f":"'Result Entry'!DO68","v":0},{"$f":"'Result Entry'!DP68","v":""},{"$f":"'Result Entry'!DQ68","v":900},{"$f":"'Result Entry'!DR68","v":0},{"$f":"'Result Entry'!DS68","v":{"v":0,"d":"0.00"}},{"$f":"'Result Entry'!DT68","v":""},{"$f":"'Result Entry'!DU68","v":""},{"$f":"'Result Entry'!DV68","v":""},{"$f":"'Result Entry'!DW68","v":""}]
[null,0,{"$f":"'Result Entry'!D69","v":0},{"$f":"'Result Entry'!E69","v":0},{"$f":"'Result Entry'!F69","v":0},{"$f":"'Result Entry'!G69","v":0},{"$f":"'Result Entry'!H69","v":0},{"$f":"'Result Entry'!I69","v":0},{"$f":"'Result Entry'!J69","v":"00:00:00"},{"$f":"'Result Entry'!K69","v":0},{"$f":"'Result Entry'!L69","v":0},{"$f":"'Result Entry'!M69","v":0},{"$f":"'Result Entry'!N69","v":0},{"$f":"'Result Entry'!O69","v":0},{"$f":"'Result Entry'!P69","v":0},{"$f":"'Result Entry'!Q69","v":0},{"$f":"'Result Entry'!R69","v":0},{"$f":"'Result Entry'!S69","v":0},{"$f":"'Result Entry'!T69","v":0},{"$f":"'Result Entry'!U69","v":0},{"$f":"'Result Entry'!V69","v":0},{"$f":"'Result Entry'!W69","v":0},{"$f":"'Result Entry'!X69","v":0},{"$f":"'Result Entry'!Y69","v":""},{"$f":"'Result Entry'!Z69","v":0},{"$f":"'Result Entry'!AA69","v":0},{"$f":"'Result Entry'!AB69","v":0},{"$f":"'Result Entry'!AC69","v":0},{"$f":"'Result Entry'!AD69","v":0},{"$f":"'Result Entry'!AE69","v":0},{"$f":"'Result Entry'!AF69","v":0},{"$f":"'Result Entry'!AG69","v":0},{"$f":"'Result Entry'!AH69","v":0},{"$f":"'Result Entry'!AI69","v":0},{"$f":"'Result Entry'!AJ69","v":0},{"$f":"'Result Entry'!AK69","v":0},{"$f":"'Result Entry'!AL69","v":0},{"$f":"'Result Entry'!AM69","v":0},{"$f":"'Result Entry'!AN69","v":""},{"$f":"'Result Entry'!AO69","v":0},{"$f":"'Result Entry'!AP69","v":0},{"$f":"'Result Entry'!AQ69","v":0},{"$f":"'Result Entry'!AR69","v":0},{"$f":"'Result Entry'!AS69","v":0},{"$f":"'Result Entry'!AT69","v":0},{"$f":"'Result Entry'!AU69","v":0},{"$f":"'Result Entry'!AV69","v":0},{"$f":"'Result Entry'!AW69","v":0},{"$f":"'Result Entry'!AX69","v":0},{"$f":"'Result Entry'!AY69","v":0},{"$f":"'Result Entry'!AZ69","v":0},{"$f":"'Result Entry'!BA69","v":0},{"$f":"'Result Entry'!BB69","v":0},{"$f":"'Result Entry'!BC69","v":""},{"$f":"'Result Entry'!BD69","v":0},{"$f":"'Result Entry'!BE69","v":0},{"$f":"'Result Entry'!BF69","v":0},{"$f":"'Result Entry'!BG69","v":0},{"$f":"'Result Entry'!BH69","v":0},{"$f":"'Result Entry'!BI69","v":0},{"$f":"'Result Entry'!BJ69","v":0},{"$f":"'Result Entry'!BK69","v":0},{"$f":"'Result Entry'!BL69","v":0},{"$f":"'Result Entry'!BM69","v":0},{"$f":"'Result Entry'!BN69","v":0},{"$f":"'Result Entry'!BO69","v":0},{"$f":"'Result Entry'!BP69","v":0},{"$f":"'Result Entry'!BQ69","v":0},{"$f":"'Result Entry'!BR69","v":""},{"$f":"'Result Entry'!BS69","v":0},{"$f":"'Result Entry'!BT69","v":0},{"$f":"'Result Entry'!BU69","v":0},{"$f":"'Result Entry'!BV69","v":0},{"$f":"'Result Entry'!BW69","v":0},{"$f":"'Result Entry'!BX69","v":0},{"$f":"'Result Entry'!BY69","v":0},{"$f":"'Result Entry'!BZ69","v":0},{"$f":"'Result Entry'!CA69","v":0},{"$f":"'Result Entry'!CB69","v":0},{"$f":"'Result Entry'!CC69","v":0},{"$f":"'Result Entry'!CD69","v":0},{"$f":"'Result Entry'!CE69","v":0},{"$f":"'Result Entry'!CF69","v":0},{"$f":"'Result Entry'!CG69","v":""},{"$f":"'Result Entry'!CH69","v":0},{"$f":"'Result Entry'!CI69","v":0},{"$f":"'Result Entry'!CJ69","v":0},{"$f":"'Result Entry'!CK69","v":0},{"$f":"'Result Entry'!CL69","v":0},{"$f":"'Result Entry'!CM69","v":0},{"$f":"'Result Entry'!CN69","v":0},{"$f":"'Result Entry'!CO69","v":""},{"$f":"'Result Entry'!CP69","v":0},{"$f":"'Result Entry'!CQ69","v":0},{"$f":"'Result Entry'!CR69","v":0},{"$f":"'Result Entry'!CS69","v":0},{"$f":"'Result Entry'!CT69","v":0},{"$f":"'Result Entry'!CU69","v":0},{"$f":"'Result Entry'!CV69","v":0},{"$f":"'Result Entry'!CW69","v":""},{"$f":"'Result Entry'!CX69","v":0},{"$f":"'Result Entry'!CY69","v":0},{"$f":"'Result Entry'!CZ69","v":0},{"$f":"'Result Entry'!DA69","v":0},{"$f":"'Result Entry'!DB69","v":0},{"$f":"'Result Entry'!DC69","v":0},{"$f":"'Result Entry'!DD69","v":0},{"$f":"'Result Entry'!DE69","v":""},{"$f":"'Result Entry'!DF69","v":0},{"$f":"'Result Entry'!DG69","v":0},{"$f":"'Result Entry'!DH69","v":0},{"$f":"'Result Entry'!DI69","v":0},{"$f":"'Result Entry'!DJ69","v":0},{"$f":"'Result Entry'!DK69","v":0},{"$f":"'Result Entry'!DL69","v":""},{"$f":"'Result Entry'!DM69","v":""},{"$f":"'Result Entry'!DN69","v":0},{"$f":"'Result Entry'!DO69","v":0},{"$f":"'Result Entry'!DP69","v":""},{"$f":"'Result Entry'!DQ69","v":900},{"$f":"'Result Entry'!DR69","v":0},{"$f":"'Result Entry'!DS69","v":{"v":0,"d":"0.00"}},{"$f":"'Result Entry'!DT69","v":""},{"$f":"'Result Entry'!DU69","v":""},{"$f":"'Result Entry'!DV69","v":""},{"$f":"'Result Entry'!DW69","v":""}]
[null,0,{"$f":"'Result Entry'!D70","v":0},{"$f":"'Result Entry'!E70","v":0},{"$f":"'Result Entry'!F70","v":0},{"$f":"'Result Entry'!G70","v":0},{"$f":"'Result Entry'!H70","v":0},{"$f":"'Result Entry'!I70","v":0},{"$f":"'Result Entry'!J70","v":"00:00:00"},{"$f":"'Result Entry'!K70","v":0},{"$f":"'Result Entry'!L70","v":0},{"$f":"'Result Entry'!M70","v":0},{"$f":"'Result Entry'!N70","v":0},{"$f":"'Result Entry'!O70","v":0},{"$f":"'Result Entry'!P70","v":0},{"$f":"'Result Entry'!Q70","v":0},{"$f":"'Result Entry'!R70","v":0},{"$f":"'Result Entry'!S70","v":0},{"$f":"'Result Entry'!T70","v":0},{"$f":"'Result Entry'!U70","v":0},{"$f":"'Result Entry'!V70","v":0},{"$f":"'Result Entry'!W70","v":0},{"$f":"'Result Entry'!X70","v":0},{"$f":"'Result Entry'!Y70","v":""},{"$f":"'Result Entry'!Z70","v":0},{"$f":"'Result Entry'!AA70","v":0},{"$f":"'Result Entry'!AB70","v":0},{"$f":"'Result Entry'!AC70","v":0},{"$f":"'Result Entry'!AD70","v":0},{"$f":"'Result Entry'!AE70","v":0},{"$f":"'Result Entry'!AF70","v":0},{"$f":"'Result Entry'!AG70","v":0},{"$f":"'Result Entry'!AH70","v":0},{"$f":"'Result Entry'!AI70","v":0},{"$f":"'Result Entry'!AJ70","v":0},{"$f":"'Result Entry'!AK70","v":0},{"$f":"'Result Entry'!AL70","v":0},{"$f":"'Result Entry'!AM70","v":0},{"$f":"'Result Entry'!AN70","v":""},{"$f":"'Result Entry'!AO70","v":0},{"$f":"'Result Entry'!AP70","v":0},{"$f":"'Result Entry'!AQ70","v":0},{"$f":"'Result Entry'!AR70","v":0},{"$f":"'Result Entry'!AS70","v":0},{"$f":"'Result Entry'!AT70","v":0},{"$f":"'Result Entry'!AU70","v":0},{"$f":"'Result Entry'!AV70","v":0},{"$f":"'Result Entry'!AW70","v":0},{"$f":"'Result Entry'!AX70","v":0},{"$f":"'Result Entry'!AY70","v":0},{"$f":"'Result Entry'!AZ70","v":0},{"$f":"'Result Entry'!BA70","v":0},{"$f":"'Result Entry'!BB70","v":0},{"$f":"'Result Entry'!BC70","v":""},{"$f":"'Result Entry'!BD70","v":0},{"$f":"'Result Entry'!BE70","v":0},{"$f":"'Result Entry'!BF70","v":0},{"$f":"'Result Entry'!BG70","v":0},{"$f":"'Result Entry'!BH70","v":0},{"$f":"'Result Entry'!BI70","v":0},{"$f":"'Result Entry'!BJ70","v":0},{"$f":"'Result Entry'!BK70","v":0},{"$f":"'Result Entry'!BL70","v":0},{"$f":"'Result Entry'!BM70","v":0},{"$f":"'Result Entry'!BN70","v":0},{"$f":"'Result Entry'!BO70","v":0},{"$f":"'Result Entry'!BP70","v":0},{"$f":"'Result Entry'!BQ70","v":0},{"$f":"'Result Entry'!BR70","v":""},{"$f":"'Result Entry'!BS70","v":0},{"$f":"'Result Entry'!BT70","v":0},{"$f":"'Result Entry'!BU70","v":0},{"$f":"'Result Entry'!BV70","v":0},{"$f":"'Result Entry'!BW70","v":0},{"$f":"'Result Entry'!BX70","v":0},{"$f":"'Result Entry'!BY70","v":0},{"$f":"'Result Entry'!BZ70","v":0},{"$f":"'Result Entry'!CA70","v":0},{"$f":"'Result Entry'!CB70","v":0},{"$f":"'Result Entry'!CC70","v":0},{"$f":"'Result Entry'!CD70","v":0},{"$f":"'Result Entry'!CE70","v":0},{"$f":"'Result Entry'!CF70","v":0},{"$f":"'Result Entry'!CG70","v":""},{"$f":"'Result Entry'!CH70","v":0},{"$f":"'Result Entry'!CI70","v":0},{"$f":"'Result Entry'!CJ70","v":0},{"$f":"'Result Entry'!CK70","v":0},{"$f":"'Result Entry'!CL70","v":0},{"$f":"'Result Entry'!CM70","v":0},{"$f":"'Result Entry'!CN70","v":0},{"$f":"'Result Entry'!CO70","v":""},{"$f":"'Result Entry'!CP70","v":0},{"$f":"'Result Entry'!CQ70","v":0},{"$f":"'Result Entry'!CR70","v":0},{"$f":"'Result Entry'!CS70","v":0},{"$f":"'Result Entry'!CT70","v":0},{"$f":"'Result Entry'!CU70","v":0},{"$f":"'Result Entry'!CV70","v":0},{"$f":"'Result Entry'!CW70","v":""},{"$f":"'Result Entry'!CX70","v":0},{"$f":"'Result Entry'!CY70","v":0},{"$f":"'Result Entry'!CZ70","v":0},{"$f":"'Result Entry'!DA70","v":0},{"$f":"'Result Entry'!DB70","v":0},{"$f":"'Result Entry'!DC70","v":0},{"$f":"'Result Entry'!DD70","v":0},{"$f":"'Result Entry'!DE70","v":""},{"$f":"'Result Entry'!DF70","v":0},{"$f":"'Result Entry'!DG70","v":0},{"$f":"'Result Entry'!DH70","v":0},{"$f":"'Result Entry'!DI70","v":0},{"$f":"'Result Entry'!DJ70","v":0},{"$f":"'Result Entry'!DK70","v":0},{"$f":"'Result Entry'!DL70","v":""},{"$f":"'Result Entry'!DM70","v":""},{"$f":"'Result Entry'!DN70","v":0},{"$f":"'Result Entry'!DO70","v":0},{"$f":"'Result Entry'!DP70","v":""},{"$f":"'Result Entry'!DQ70","v":900},{"$f":"'Result Entry'!DR70","v":0},{"$f":"'Result Entry'!DS70","v":{"v":0,"d":"0.00"}},{"$f":"'Result Entry'!DT70","v":""},{"$f":"'Result Entry'!DU70","v":""},{"$f":"'Result Entry'!DV70","v":""},{"$f":"'Result Entry'!DW70","v":""}]
[null,0,{"$f":"'Result Entry'!D71","v":0},{"$f":"'Result Entry'!E71","v":0},{"$f":"'Result Entry'!F71","v":0},{"$f":"'Result Entry'!G71","v":0},{"$f":"'Result Entry'!H71","v":0},{"$f":"'Result Entry'!I71","v":0},{"$f":"'Result Entry'!J71","v":"00:00:00"},{"$f":"'Result Entry'!K71","v":0},{"$f":"'Result Entry'!L71","v":0},{"$f":"'Result Entry'!M71","v":0},{"$f":"'Result Entry'!N71","v":0},{"$f":"'Result Entry'!O71","v":0},{"$f":"'Result Entry'!P71","v":0},{"$f":"'Result Entry'!Q71","v":0},{"$f":"'Result Entry'!R71","v":0},{"$f":"'Result Entry'!S71","v":0},{"$f":"'Result Entry'!T71","v":0},{"$f":"'Result Entry'!U71","v":0},{"$f":"'Result Entry'!V71","v":0},{"$f":"'Result Entry'!W71","v":0},{"$f":"'Result Entry'!X71","v":0},{"$f":"'Result Entry'!Y71","v":""},{"$f":"'Result Entry'!Z71","v":0},{"$f":"'Result Entry'!AA71","v":0},{"$f":"'Result Entry'!AB71","v":0},{"$f":"'Result Entry'!AC71","v":0},{"$f":"'Result Entry'!AD71","v":0},{"$f":"'Result Entry'!AE71","v":0},{"$f":"'Result Entry'!AF71","v":0},{"$f":"'Result Entry'!AG71","v":0},{"$f":"'Result Entry'!AH71","v":0},{"$f":"'Result Entry'!AI71","v":0},{"$f":"'Result Entry'!AJ71","v":0},{"$f":"'Result Entry'!AK71","v":0},{"$f":"'Result Entry'!AL71","v":0},{"$f":"'Result Entry'!AM71","v":0},{"$f":"'Result Entry'!AN71","v":""},{"$f":"'Result Entry'!AO71","v":0},{"$f":"'Result Entry'!AP71","v":0},{"$f":"'Result Entry'!AQ71","v":0},{"$f":"'Result Entry'!AR71","v":0},{"$f":"'Result Entry'!AS71","v":0},{"$f":"'Result Entry'!AT71","v":0},{"$f":"'Result Entry'!AU71","v":0},{"$f":"'Result Entry'!AV71","v":0},{"$f":"'Result Entry'!AW71","v":0},{"$f":"'Result Entry'!AX71","v":0},{"$f":"'Result Entry'!AY71","v":0},{"$f":"'Result Entry'!AZ71","v":0},{"$f":"'Result Entry'!BA71","v":0},{"$f":"'Result Entry'!BB71","v":0},{"$f":"'Result Entry'!BC71","v":""},{"$f":"'Result Entry'!BD71","v":0},{"$f":"'Result Entry'!BE71","v":0},{"$f":"'Result Entry'!BF71","v":0},{"$f":"'Result Entry'!BG71","v":0},{"$f":"'Result Entry'!BH71","v":0},{"$f":"'Result Entry'!BI71","v":0},{"$f":"'Result Entry'!BJ71","v":0},{"$f":"'Result Entry'!BK71","v":0},{"$f":"'Result Entry'!BL71","v":0},{"$f":"'Result Entry'!BM71","v":0},{"$f":"'Result Entry'!BN71","v":0},{"$f":"'Result Entry'!BO71","v":0},{"$f":"'Result Entry'!BP71","v":0},{"$f":"'Result Entry'!BQ71","v":0},{"$f":"'Result Entry'!BR71","v":""},{"$f":"'Result Entry'!BS71","v":0},{"$f":"'Result Entry'!BT71","v":0},{"$f":"'Result Entry'!BU71","v":0},{"$f":"'Result Entry'!BV71","v":0},{"$f":"'Result Entry'!BW71","v":0},{"$f":"'Result Entry'!BX71","v":0},{"$f":"'Result Entry'!BY71","v":0},{"$f":"'Result Entry'!BZ71","v":0},{"$f":"'Result Entry'!CA71","v":0},{"$f":"'Result Entry'!CB71","v":0},{"$f":"'Result Entry'!CC71","v":0},{"$f":"'Result Entry'!CD71","v":0},{"$f":"'Result Entry'!CE71","v":0},{"$f":"'Result Entry'!CF71","v":0},{"$f":"'Result Entry'!CG71","v":""},{"$f":"'Result Entry'!CH71","v":0},{"$f":"'Result Entry'!CI71","v":0},{"$f":"'Result Entry'!CJ71","v":0},{"$f":"'Result Entry'!CK71","v":0},{"$f":"'Result Entry'!CL71","v":0},{"$f":"'Result Entry'!CM71","v":0},{"$f":"'Result Entry'!CN71","v":0},{"$f":"'Result Entry'!CO71","v":""},{"$f":"'Result Entry'!CP71","v":0},{"$f":"'Result Entry'!CQ71","v":0},{"$f":"'Result Entry'!CR71","v":0},{"$f":"'Result Entry'!CS71","v":0},{"$f":"'Result Entry'!CT71","v":0},{"$f":"'Result Entry'!CU71","v":0},{"$f":"'Result Entry'!CV71","v":0},{"$f":"'Result Entry'!CW71","v":""},{"$f":"'Result Entry'!CX71","v":0},{"$f":"'Result Entry'!CY71","v":0},{"$f":"'Result Entry'!CZ71","v":0},{"$f":"'Result Entry'!DA71","v":0},{"$f":"'Result Entry'!DB71","v":0},{"$f":"'Result Entry'!DC71","v":0},{"$f":"'Result Entry'!DD71","v":0},{"$f":"'Result Entry'!DE71","v":""},{"$f":"'Result Entry'!DF71","v":0},{"$f":"'Result Entry'!DG71","v":0},{"$f":"'Result Entry'!DH71","v":0},{"$f":"'Result Entry'!DI71","v":0},{"$f":"'Result Entry'!DJ71","v":0},{"$f":"'Result Entry'!DK71","v":0},{"$f":"'Result Entry'!DL71","v":""},{"$f":"'Result Entry'!DM71","v":""},{"$f":"'Result Entry'!DN71","v":0},{"$f":"'Result Entry'!DO71","v":0},{"$f":"'Result Entry'!DP71","v":""},{"$f":"'Result Entry'!DQ71","v":900},{"$f":"'Result Entry'!DR71","v":0},{"$f":"'Result Entry'!DS71","v":{"v":0,"d":"0.00"}},{"$f":"'Result Entry'!DT71","v":""},{"$f":"'Result Entry'!DU71","v":""},{"$f":"'Result Entry'!DV71","v":""},{"$f":"'Result Entry'!DW71","v":""}]
[null,0,{"$f":"'Result Entry'!D72","v":0},{"$f":"'Result Entry'!E72","v":0},{"$f":"'Result Entry'!F72","v":0},{"$f":"'Result Entry'!G72","v":0},{"$f":"'Result Entry'!H72","v":0},{"$f":"'Result Entry'!I72","v":0},{"$f":"'Result Entry'!J72","v":"00:00:00"},{"$f":"'Result Entry'!K72","v":0},{"$f":"'Result Entry'!L72","v":0},{"$f":"'Result Entry'!M72","v":0},{"$f":"'Result Entry'!N72","v":0},{"$f":"'Result Entry'!O72","v":0},{"$f":"'Result Entry'!P72","v":0},{"$f":"'Result Entry'!Q72","v":0},{"$f":"'Result Entry'!R72","v":0},{"$f":"'Result Entry'!S72","v":0},{"$f":"'Result Entry'!T72","v":0},{"$f":"'Result Entry'!U72","v":0},{"$f":"'Result Entry'!V72","v":0},{"$f":"'Result Entry'!W72","v":0},{"$f":"'Result Entry'!X72","v":0},{"$f":"'Result Entry'!Y72","v":""},{"$f":"'Result Entry'!Z72","v":0},{"$f":"'Result Entry'!AA72","v":0},{"$f":"'Result Entry'!AB72","v":0},{"$f":"'Result Entry'!AC72","v":0},{"$f":"'Result Entry'!AD72","v":0},{"$f":"'Result Entry'!AE72","v":0},{"$f":"'Result Entry'!AF72","v":0},{"$f":"'Result Entry'!AG72","v":0},{"$f":"'Result Entry'!AH72","v":0},{"$f":"'Result Entry'!AI72","v":0},{"$f":"'Result Entry'!AJ72","v":0},{"$f":"'Result Entry'!AK72","v":0},{"$f":"'Result Entry'!AL72","v":0},{"$f":"'Result Entry'!AM72","v":0},{"$f":"'Result Entry'!AN72","v":""},{"$f":"'Result Entry'!AO72","v":0},{"$f":"'Result Entry'!AP72","v":0},{"$f":"'Result Entry'!AQ72","v":0},{"$f":"'Result Entry'!AR72","v":0},{"$f":"'Result Entry'!AS72","v":0},{"$f":"'Result Entry'!AT72","v":0},{"$f":"'Result Entry'!AU72","v":0},{"$f":"'Result Entry'!AV72","v":0},{"$f":"'Result Entry'!AW72","v":0},{"$f":"'Result Entry'!AX72","v":0},{"$f":"'Result Entry'!AY72","v":0},{"$f":"'Result Entry'!AZ72","v":0},{"$f":"'Result Entry'!BA72","v":0},{"$f":"'Result Entry'!BB72","v":0},{"$f":"'Result Entry'!BC72","v":""},{"$f":"'Result Entry'!BD72","v":0},{"$f":"'Result Entry'!BE72","v":0},{"$f":"'Result Entry'!BF72","v":0},{"$f":"'Result Entry'!BG72","v":0},{"$f":"'Result Entry'!BH72","v":0},{"$f":"'Result Entry'!BI72","v":0},{"$f":"'Result Entry'!BJ72","v":0},{"$f":"'Result Entry'!BK72","v":0},{"$f":"'Result Entry'!BL72","v":0},{"$f":"'Result Entry'!BM72","v":0},{"$f":"'Result Entry'!BN72","v":0},{"$f":"'Result Entry'!BO72","v":0},{"$f":"'Result Entry'!BP72","v":0},{"$f":"'Result Entry'!BQ72","v":0},{"$f":"'Result Entry'!BR72","v":""},{"$f":"'Result Entry'!BS72","v":0},{"$f":"'Result Entry'!BT72","v":0},{"$f":"'Result Entry'!BU72","v":0},{"$f":"'Result Entry'!BV72","v":0},{"$f":"'Result Entry'!BW72","v":0},{"$f":"'Result Entry'!BX72","v":0},{"$f":"'Result Entry'!BY72","v":0},{"$f":"'Result Entry'!BZ72","v":0},{"$f":"'Result Entry'!CA72","v":0},{"$f":"'Result Entry'!CB72","v":0},{"$f":"'Result Entry'!CC72","v":0},{"$f":"'Result Entry'!CD72","v":0},{"$f":"'Result Entry'!CE72","v":0},{"$f":"'Result Entry'!CF72","v":0},{"$f":"'Result Entry'!CG72","v":""},{"$f":"'Result Entry'!CH72","v":0},{"$f":"'Result Entry'!CI72","v":0},{"$f":"'Result Entry'!CJ72","v":0},{"$f":"'Result Entry'!CK72","v":0},{"$f":"'Result Entry'!CL72","v":0},{"$f":"'Result Entry'!CM72","v":0},{"$f":"'Result Entry'!CN72","v":0},{"$f":"'Result Entry'!CO72","v":""},{"$f":"'Result Entry'!CP72","v":0},{"$f":"'Result Entry'!CQ72","v":0},{"$f":"'Result Entry'!CR72","v":0},{"$f":"'Result Entry'!CS72","v":0},{"$f":"'Result Entry'!CT72","v":0},{"$f":"'Result Entry'!CU72","v":0},{"$f":"'Result Entry'!CV72","v":0},{"$f":"'Result Entry'!CW72","v":""},{"$f":"'Result Entry'!CX72","v":0},{"$f":"'Result Entry'!CY72","v":0},{"$f":"'Result Entry'!CZ72","v":0},{"$f":"'Result Entry'!DA72","v":0},{"$f":"'Result Entry'!DB72","v":0},{"$f":"'Result Entry'!DC72","v":0},{"$f":"'Result Entry'!DD72","v":0},{"$f":"'Result Entry'!DE72","v":""},{"$f":"'Result Entry'!DF72","v":0},{"$f":"'Result Entry'!DG72","v":0},{"$f":"'Result Entry'!DH72","v":0},{"$f":"'Result Entry'!DI72","v":0},{"$f":"'Result Entry'!DJ72","v":0},{"$f":"'Result Entry'!DK72","v":0},{"$f":"'Result Entry'!DL72","v":""},{"$f":"'Result Entry'!DM72","v":""},{"$f":"'Result Entry'!DN72","v":0},{"$f":"'Result Entry'!DO72","v":0},{"$f":"'Result Entry'!DP72","v":""},{"$f":"'Result Entry'!DQ72","v":900},{"$f":"'Result Entry'!DR72","v":0},{"$f":"'Result Entry'!DS72","v":{"v":0,"d":"0.00"}},{"$f":"'Result Entry'!DT72","v":""},{"$f":"'Result Entry'!DU72","v":""},{"$f":"'Result Entry'!DV72","v":""},{"$f":"'Result Entry'!DW72","v":""}]
[null,0,{"$f":"'Result Entry'!D73","v":0},{"$f":"'Result Entry'!E73","v":0},{"$f":"'Result Entry'!F73","v":0},{"$f":"'Result Entry'!G73","v":0},{"$f":"'Result Entry'!H73","v":0},{"$f":"'Result Entry'!I73","v":0},{"$f":"'Result Entry'!J73","v":"00:00:00"},{"$f":"'Result Entry'!K73","v":0},{"$f":"'Result Entry'!L73","v":0},{"$f":"'Result Entry'!M73","v":0},{"$f":"'Result Entry'!N73","v":0},{"$f":"'Result Entry'!O73","v":0},{"$f":"'Result Entry'!P73","v":0},{"$f":"'Result Entry'!Q73","v":0},{"$f":"'Result Entry'!R73","v":0},{"$f":"'Result Entry'!S73","v":0},{"$f":"'Result Entry'!T73","v":0},{"$f":"'Result Entry'!U73","v":0},{"$f":"'Result Entry'!V73","v":0},{"$f":"'Result Entry'!W73","v":0},{"$f":"'Result Entry'!X73","v":0},{"$f":"'Result Entry'!Y73","v":""},{"$f":"'Result Entry'!Z73","v":0},{"$f":"'Result Entry'!AA73","v":0},{"$f":"'Result Entry'!AB73","v":0},{"$f":"'Result Entry'!AC73","v":0},{"$f":"'Result Entry'!AD73","v":0},{"$f":"'Result Entry'!AE73","v":0},{"$f":"'Result Entry'!AF73","v":0},{"$f":"'Result Entry'!AG73","v":0},{"$f":"'Result Entry'!AH73","v":0},{"$f":"'Result Entry'!AI73","v":0},{"$f":"'Result Entry'!AJ73","v":0},{"$f":"'Result Entry'!AK73","v":0},{"$f":"'Result Entry'!AL73","v":0},{"$f":"'Result Entry'!AM73","v":0},{"$f":"'Result Entry'!AN73","v":""},{"$f":"'Result Entry'!AO73","v":0},{"$f":"'Result Entry'!AP73","v":0},{"$f":"'Result Entry'!AQ73","v":0},{"$f":"'Result Entry'!AR73","v":0},{"$f":"'Result Entry'!AS73","v":0},{"$f":"'Result Entry'!AT73","v":0},{"$f":"'Result Entry'!AU73","v":0},{"$f":"'Result Entry'!AV73","v":0},{"$f":"'Result Entry'!AW73","v":0},{"$f":"'Result Entry'!AX73","v":0},{"$f":"'Result Entry'!AY73","v":0},{"$f":"'Result Entry'!AZ73","v":0},{"$f":"'Result Entry'!BA73","v":0},{"$f":"'Result Entry'!BB73","v":0},{"$f":"'Result Entry'!BC73","v":""},{"$f":"'Result Entry'!BD73","v":0},{"$f":"'Result Entry'!BE73","v":0},{"$f":"'Result Entry'!BF73","v":0},{"$f":"'Result Entry'!BG73","v":0},{"$f":"'Result Entry'!BH73","v":0},{"$f":"'Result Entry'!BI73","v":0},{"$f":"'Result Entry'!BJ73","v":0},{"$f":"'Result Entry'!BK73","v":0},{"$f":"'Result Entry'!BL73","v":0},{"$f":"'Result Entry'!BM73","v":0},{"$f":"'Result Entry'!BN73","v":0},{"$f":"'Result Entry'!BO73","v":0},{"$f":"'Result Entry'!BP73","v":0},{"$f":"'Result Entry'!BQ73","v":0},{"$f":"'Result Entry'!BR73","v":""},{"$f":"'Result Entry'!BS73","v":0},{"$f":"'Result Entry'!BT73","v":0},{"$f":"'Result Entry'!BU73","v":0},{"$f":"'Result Entry'!BV73","v":0},{"$f":"'Result Entry'!BW73","v":0},{"$f":"'Result Entry'!BX73","v":0},{"$f":"'Result Entry'!BY73","v":0},{"$f":"'Result Entry'!BZ73","v":0},{"$f":"'Result Entry'!CA73","v":0},{"$f":"'Result Entry'!CB73","v":0},{"$f":"'Result Entry'!CC73","v":0},{"$f":"'Result Entry'!CD73","v":0},{"$f":"'Result Entry'!CE73","v":0},{"$f":"'Result Entry'!CF73","v":0},{"$f":"'Result Entry'!CG73","v":""},{"$f":"'Result Entry'!CH73","v":0},{"$f":"'Result Entry'!CI73","v":0},{"$f":"'Result Entry'!CJ73","v":0},{"$f":"'Result Entry'!CK73","v":0},{"$f":"'Result Entry'!CL73","v":0},{"$f":"'Result Entry'!CM73","v":0},{"$f":"'Result Entry'!CN73","v":0},{"$f":"'Result Entry'!CO73","v":""},{"$f":"'Result Entry'!CP73","v":0},{"$f":"'Result Entry'!CQ73","v":0},{"$f":"'Result Entry'!CR73","v":0},{"$f":"'Result Entry'!CS73","v":0},{"$f":"'Result Entry'!CT73","v":0},{"$f":"'Result Entry'!CU73","v":0},{"$f":"'Result Entry'!CV73","v":0},{"$f":"'Result Entry'!CW73","v":""},{"$f":"'Result Entry'!CX73","v":0},{"$f":"'Result Entry'!CY73","v":0},{"$f":"'Result Entry'!CZ73","v":0},{"$f":"'Result Entry'!DA73","v":0},{"$f":"'Result Entry'!DB73","v":0},{"$f":"'Result Entry'!DC73","v":0},{"$f":"'Result Entry'!DD73","v":0},{"$f":"'Result Entry'!DE73","v":""},{"$f":"'Result Entry'!DF73","v":0},{"$f":"'Result Entry'!DG73","v":0},{"$f":"'Result Entry'!DH73","v":0},{"$f":"'Result Entry'!DI73","v":0},{"$f":"'Result Entry'!DJ73","v":0},{"$f":"'Result Entry'!DK73","v":0},{"$f":"'Result Entry'!DL73","v":""},{"$f":"'Result Entry'!DM73","v":""},{"$f":"'Result Entry'!DN73","v":0},{"$f":"'Result Entry'!DO73","v":0},{"$f":"'Result Entry'!DP73","v":""},{"$f":"'Result Entry'!DQ73","v":900},{"$f":"'Result Entry'!DR73","v":0},{"$f":"'Result Entry'!DS73","v":{"v":0,"d":"0.00"}},{"$f":"'Result Entry'!DT73","v":""},{"$f":"'Result Entry'!DU73","v":""},{"$f":"'Result Entry'!DV73","v":""},{"$f":"'Result Entry'!DW73","v":""}]
[null,0,{"$f":"'Result Entry'!D74","v":0},{"$f":"'Result Entry'!E74","v":0},{"$f":"'Result Entry'!F74","v":0},{"$f":"'Result Entry'!G74","v":0},{"$f":"'Result Entry'!H74","v":0},{"$f":"'Result Entry'!I74","v":0},{"$f":"'Result Entry'!J74","v":"00:00:00"},{"$f":"'Result Entry'!K74","v":0},{"$f":"'Result Entry'!L74","v":0},{"$f":"'Result Entry'!M74","v":0},{"$f":"'Result Entry'!N74","v":0},{"$f":"'Result Entry'!O74","v":0},{"$f":"'Result Entry'!P74","v":0},{"$f":"'Result Entry'!Q74","v":0},{"$f":"'Result Entry'!R74","v":0},{"$f":"'Result Entry'!S74","v":0},{"$f":"'Result Entry'!T74","v":0},{"$f":"'Result Entry'!U74","v":0},{"$f":"'Result Entry'!V74","v":0},{"$f":"'Result Entry'!W74","v":0},{"$f":"'Result Entry'!X74","v":0},{"$f":"'Result Entry'!Y74","v":""},{"$f":"'Result Entry'!Z74","v":0},{"$f":"'Result Entry'!AA74","v":0},{"$f":"'Result Entry'!AB74","v":0},{"$f":"'Result Entry'!AC74","v":0},{"$f":"'Result Entry'!AD74","v":0},{"$f":"'Result Entry'!AE74","v":0},{"$f":"'Result Entry'!AF74","v":0},{"$f":"'Result Entry'!AG74","v":0},{"$f":"'Result Entry'!AH74","v":0},{"$f":"'Result Entry'!AI74","v":0},{"$f":"'Result Entry'!AJ74","v":0},{"$f":"'Result Entry'!AK74","v":0},{"$f":"'Result Entry'!AL74","v":0},{"$f":"'Result Entry'!AM74","v":0},{"$f":"'Result Entry'!AN74","v":""},{"$f":"'Result Entry'!AO74","v":0},{"$f":"'Result Entry'!AP74","v":0},{"$f":"'Result Entry'!AQ74","v":0},{"$f":"'Result Entry'!AR74","v":0},{"$f":"'Result Entry'!AS74","v":0},{"$f":"'Result Entry'!AT74","v":0},{"$f":"'Result Entry'!AU74","v":0},{"$f":"'Result Entry'!AV74","v":0},{"$f":"'Result Entry'!AW74","v":0},{"$f":"'Result Entry'!AX74","v":0},{"$f":"'Result Entry'!AY74","v":0},{"$f":"'Result Entry'!AZ74","v":0},{"$f":"'Result Entry'!BA74","v":0},{"$f":"'Result Entry'!BB74","v":0},{"$f":"'Result Entry'!BC74","v":""},{"$f":"'Result Entry'!BD74","v":0},{"$f":"'Result Entry'!BE74","v":0},{"$f":"'Result Entry'!BF74","v":0},{"$f":"'Result Entry'!BG74","v":0},{"$f":"'Result Entry'!BH74","v":0},{"$f":"'Result Entry'!BI74","v":0},{"$f":"'Result Entry'!BJ74","v":0},{"$f":"'Result Entry'!BK74","v":0},{"$f":"'Result Entry'!BL74","v":0},{"$f":"'Result Entry'!BM74","v":0},{"$f":"'Result Entry'!BN74","v":0},{"$f":"'Result Entry'!BO74","v":0},{"$f":"'Result Entry'!BP74","v":0},{"$f":"'Result Entry'!BQ74","v":0},{"$f":"'Result Entry'!BR74","v":""},{"$f":"'Result Entry'!BS74","v":0},{"$f":"'Result Entry'!BT74","v":0},{"$f":"'Result Entry'!BU74","v":0},{"$f":"'Result Entry'!BV74","v":0},{"$f":"'Result Entry'!BW74","v":0},{"$f":"'Result Entry'!BX74","v":0},{"$f":"'Result Entry'!BY74","v":0},{"$f":"'Result Entry'!BZ74","v":0},{"$f":"'Result Entry'!CA74","v":0},{"$f":"'Result Entry'!CB74","v":0},{"$f":"'Result Entry'!CC74","v":0},{"$f":"'Result Entry'!CD74","v":0},{"$f":"'Result Entry'!CE74","v":0},{"$f":"'Result Entry'!CF74","v":0},{"$f":"'Result Entry'!CG74","v":""},{"$f":"'Result Entry'!CH74","v":0},{"$f":"'Result Entry'!CI74","v":0},{"$f":"'Result Entry'!CJ74","v":0},{"$f":"'Result Entry'!CK74","v":0},{"$f":"'Result Entry'!CL74","v":0},{"$f":"'Result Entry'!CM74","v":0},{"$f":"'Result Entry'!CN74","v":0},{"$f":"'Result Entry'!CO74","v":""},{"$f":"'Result Entry'!CP74","v":0},{"$f":"'Result Entry'!CQ74","v":0},{"$f":"'Result Entry'!CR74","v":0},{"$f":"'Result Entry'!CS74","v":0},{"$f":"'Result Entry'!CT74","v":0},{"$f":"'Result Entry'!CU74","v":0},{"$f":"'Result Entry'!CV74","v":0},{"$f":"'Result Entry'!CW74","v":""},{"$f":"'Result Entry'!CX74","v":0},{"$f":"'Result Entry'!CY74","v":0},{"$f":"'Result Entry'!CZ74","v":0},{"$f":"'Result Entry'!DA74","v":0},{"$f":"'Result Entry'!DB74","v":0},{"$f":"'Result Entry'!DC74","v":0},{"$f":"'Result Entry'!DD74","v":0},{"$f":"'Result Entry'!DE74","v":""},{"$f":"'Result Entry'!DF74","v":0},{"$f":"'Result Entry'!DG74","v":0},{"$f":"'Result Entry'!DH74","v":0},{"$f":"'Result Entry'!DI74","v":0},{"$f":"'Result Entry'!DJ74","v":0},{"$f":"'Result Entry'!DK74","v":0},{"$f":"'Result Entry'!DL74","v":""},{"$f":"'Result Entry'!DM74","v":""},{"$f":"'Result Entry'!DN74","v":0},{"$f":"'Result Entry'!DO74","v":0},{"$f":"'Result Entry'!DP74","v":""},{"$f":"'Result Entry'!DQ74","v":900},{"$f":"'Result Entry'!DR74","v":0},{"$f":"'Result Entry'!DS74","v":{"v":0,"d":"0.00"}},{"$f":"'Result Entry'!DT74","v":""},{"$f":"'Result Entry'!DU74","v":""},{"$f":"'Result Entry'!DV74","v":""},{"$f":"'Result Entry'!DW74","v":""}]
[null,{"$f":"IF(C73>0,B72+1,0)","v":0},{"$f":"'Result Entry'!D75","v":0},{"$f":"'Result Entry'!E75","v":0},{"$f":"'Result Entry'!F75","v":0},{"$f":"'Result Entry'!G75","v":0},{"$f":"'Result Entry'!H75","v":0},{"$f":"'Result Entry'!I75","v":0},{"$f":"'Result Entry'!J75","v":"00:00:00"},{"$f":"'Result Entry'!K75","v":0},{"$f":"'Result Entry'!L75","v":0},{"$f":"'Result Entry'!M75","v":0},{"$f":"'Result Entry'!N75","v":0},{"$f":"'Result Entry'!O75","v":0},{"$f":"'Result Entry'!P75","v":0},{"$f":"'Result Entry'!Q75","v":0},{"$f":"'Result Entry'!R75","v":0},{"$f":"'Result Entry'!S75","v":0},{"$f":"'Result Entry'!T75","v":0},{"$f":"'Result Entry'!U75","v":0},{"$f":"'Result Entry'!V75","v":0},{"$f":"'Result Entry'!W75","v":0},{"$f":"'Result Entry'!X75","v":0},{"$f":"'Result Entry'!Y75","v":""},{"$f":"'Result Entry'!Z75","v":0},{"$f":"'Result Entry'!AA75","v":0},{"$f":"'Result Entry'!AB75","v":0},{"$f":"'Result Entry'!AC75","v":0},{"$f":"'Result Entry'!AD75","v":0},{"$f":"'Result Entry'!AE75","v":0},{"$f":"'Result Entry'!AF75","v":0},{"$f":"'Result Entry'!AG75","v":0},{"$f":"'Result Entry'!AH75","v":0},{"$f":"'Result Entry'!AI75","v":0},{"$f":"'Result Entry'!AJ75","v":0},{"$f":"'Result Entry'!AK75","v":0},{"$f":"'Result Entry'!AL75","v":0},{"$f":"'Result Entry'!AM75","v":0},{"$f":"'Result Entry'!AN75","v":""},{"$f":"'Result Entry'!AO75","v":0},{"$f":"'Result Entry'!AP75","v":0},{"$f":"'Result Entry'!AQ75","v":0},{"$f":"'Result Entry'!AR75","v":0},{"$f":"'Result Entry'!AS75","v":0},{"$f":"'Result Entry'!AT75","v":0},{"$f":"'Result Entry'!AU75","v":0},{"$f":"'Result Entry'!AV75","v":0},{"$f":"'Result Entry'!AW75","v":0},{"$f":"'Result Entry'!AX75","v":0},{"$f":"'Result Entry'!AY75","v":0},{"$f":"'Result Entry'!AZ75","v":0},{"$f":"'Result Entry'!BA75","v":0},{"$f":"'Result Entry'!BB75","v":0},{"$f":"'Result Entry'!BC75","v":""},{"$f":"'Result Entry'!BD75","v":0},{"$f":"'Result Entry'!BE75","v":0},{"$f":"'Result Entry'!BF75","v":0},{"$f":"'Result Entry'!BG75","v":0},{"$f":"'Result Entry'!BH75","v":0},{"$f":"'Result Entry'!BI75","v":0},{"$f":"'Result Entry'!BJ75","v":0},{"$f":"'Result Entry'!BK75","v":0},{"$f":"'Result Entry'!BL75","v":0},{"$f":"'Result Entry'!BM75","v":0},{"$f":"'Result Entry'!BN75","v":0},{"$f":"'Result Entry'!BO75","v":0},{"$f":"'Result Entry'!BP75","v":0},{"$f":"'Result Entry'!BQ75","v":0},{"$f":"'Result Entry'!BR75","v":""},{"$f":"'Result Entry'!BS75","v":0},{"$f":"'Result Entry'!BT75","v":0},{"$f":"'Result Entry'!BU75","v":0},{"$f":"'Result Entry'!BV75","v":0},{"$f":"'Result Entry'!BW75","v":0},{"$f":"'Result Entry'!BX75","v":0},{"$f":"'Result Entry'!BY75","v":0},{"$f":"'Result Entry'!BZ75","v":0},{"$f":"'Result Entry'!CA75","v":0},{"$f":"'Result Entry'!CB75","v":0},{"$f":"'Result Entry'!CC75","v":0},{"$f":"'Result Entry'!CD75","v":0},{"$f":"'Result Entry'!CE75","v":0},{"$f":"'Result Entry'!CF75","v":0},{"$f":"'Result Entry'!CG75","v":""},{"$f":"'Result Entry'!CH75","v":0},{"$f":"'Result Entry'!CI75","v":0},{"$f":"'Result Entry'!CJ75","v":0},{"$f":"'Result Entry'!CK75","v":0},{"$f":"'Result Entry'!CL75","v":0},{"$f":"'Result Entry'!CM75","v":0},{"$f":"'Result Entry'!CN75","v":0},{"$f":"'Result Entry'!CO75","v":""},{"$f":"'Result Entry'!CP75","v":0},{"$f":"'Result Entry'!CQ75","v":0},{"$f":"'Result Entry'!CR75","v":0},{"$f":"'Result Entry'!CS75","v":0},{"$f":"'Result Entry'!CT75","v":0},{"$f":"'Result Entry'!CU75","v":0},{"$f":"'Result Entry'!CV75","v":0},{"$f":"'Result Entry'!CW75","v":""},{"$f":"'Result Entry'!CX75","v":0},{"$f":"'Result Entry'!CY75","v":0},{"$f":"'Result Entry'!CZ75","v":0},{"$f":"'Result Entry'!DA75","v":0},{"$f":"'Result Entry'!DB75","v":0},{"$f":"'Result Entry'!DC75","v":0},{"$f":"'Result Entry'!DD75","v":0},{"$f":"'Result Entry'!DE75","v":""},{"$f":"'Result Entry'!DF75","v":0},{"$f":"'Result Entry'!DG75","v":0},{"$f":"'Result Entry'!DH75","v":0},{"$f":"'Result Entry'!DI75","v":0},{"$f":"'Result Entry'!DJ75","v":0},{"$f":"'Result Entry'!DK75","v":0},{"$f":"'Result Entry'!DL75","v":""},{"$f":"'Result Entry'!DM75","v":""},{"$f":"'Result Entry'!DN75","v":0},{"$f":"'Result Entry'!DO75","v":0},{"$f":"'Result Entry'!DP75","v":""},{"$f":"'Result Entry'!DQ75","v":900},{"$f":"'Result Entry'!DR75","v":0},{"$f":"'Result Entry'!DS75","v":{"v":0,"d":"0.00"}},{"$f":"'Result Entry'!DT75","v":""},{"$f":"'Result Entry'!DU75","v":""},{"$f":"'Result Entry'!DV75","v":""},{"$f":"'Result Entry'!DW75","v":""}]
[null,0,{"$f":"'Result Entry'!D76","v":0},{"$f":"'Result Entry'!E76","v":0},{"$f":"'Result Entry'!F76","v":0},{"$f":"'Result Entry'!G76","v":0},{"$f":"'Result Entry'!H76","v":0},{"$f":"'Result Entry'!I76","v":0},{"$f":"'Result Entry'!J76","v":"00:00:00"},{"$f":"'Result Entry'!K76","v":0},{"$f":"'Result Entry'!L76","v":0},{"$f":"'Result Entry'!M76","v":0},{"$f":"'Result Entry'!N76","v":0},{"$f":"'Result Entry'!O76","v":0},{"$f":"'Result Entry'!P76","v":0},{"$f":"'Result Entry'!Q76","v":0},{"$f":"'Result Entry'!R76","v":0},{"$f":"'Result Entry'!S76","v":0},{"$f":"'Result Entry'!T76","v":0},{"$f":"'Result Entry'!U76","v":0},{"$f":"'Result Entry'!V76","v":0},{"$f":"'Result Entry'!W76","v":0},{"$f":"'Result Entry'!X76","v":0},{"$f":"'Result Entry'!Y76","v":""},{"$f":"'Result Entry'!Z76","v":0},{"$f":"'Result Entry'!AA76","v":0},{"$f":"'Result Entry'!AB76","v":0},{"$f":"'Result Entry'!AC76","v":0},{"$f":"'Result Entry'!AD76","v":0},{"$f":"'Result Entry'!AE76","v":0},{"$f":"'Result Entry'!AF76","v":0},{"$f":"'Result Entry'!AG76","v":0},{"$f":"'Result Entry'!AH76","v":0},{"$f":"'Result Entry'!AI76","v":0},{"$f":"'Result Entry'!AJ76","v":0},{"$f":"'Result Entry'!AK76","v":0},{"$f":"'Result Entry'!AL76","v":0},{"$f":"'Result Entry'!AM76","v":0},{"$f":"'Result Entry'!AN76","v":""},{"$f":"'Result Entry'!AO76","v":0},{"$f":"'Result Entry'!AP76","v":0},{"$f":"'Result Entry'!AQ76","v":0},{"$f":"'Result Entry'!AR76","v":0},{"$f":"'Result Entry'!AS76","v":0},{"$f":"'Result Entry'!AT76","v":0},{"$f":"'Result Entry'!AU76","v":0},{"$f":"'Result Entry'!AV76","v":0},{"$f":"'Result Entry'!AW76","v":0},{"$f":"'Result Entry'!AX76","v":0},{"$f":"'Result Entry'!AY76","v":0},{"$f":"'Result Entry'!AZ76","v":0},{"$f":"'Result Entry'!BA76","v":0},{"$f":"'Result Entry'!BB76","v":0},{"$f":"'Result Entry'!BC76","v":""},{"$f":"'Result Entry'!BD76","v":0},{"$f":"'Result Entry'!BE76","v":0},{"$f":"'Result Entry'!BF76","v":0},{"$f":"'Result Entry'!BG76","v":0},{"$f":"'Result Entry'!BH76","v":0},{"$f":"'Result Entry'!BI76","v":0},{"$f":"'Result Entry'!BJ76","v":0},{"$f":"'Result Entry'!BK76","v":0},{"$f":"'Result Entry'!BL76","v":0},{"$f":"'Result Entry'!BM76","v":0},{"$f":"'Result Entry'!BN76","v":0},{"$f":"'Result Entry'!BO76","v":0},{"$f":"'Result Entry'!BP76","v":0},{"$f":"'Result Entry'!BQ76","v":0},{"$f":"'Result Entry'!BR76","v":""},{"$f":"'Result Entry'!BS76","v":0},{"$f":"'Result Entry'!BT76","v":0},{"$f":"'Result Entry'!BU76","v":0},{"$f":"'Result Entry'!BV76","v":0},{"$f":"'Result Entry'!BW76","v":0},{"$f":"'Result Entry'!BX76","v":0},{"$f":"'Result Entry'!BY76","v":0},{"$f":"'Result Entry'!BZ76","v":0},{"$f":"'Result Entry'!CA76","v":0},{"$f":"'Result Entry'!CB76","v":0},{"$f":"'Result Entry'!CC76","v":0},{"$f":"'Result Entry'!CD76","v":0},{"$f":"'Result Entry'!CE76","v":0},{"$f":"'Result Entry'!CF76","v":0},{"$f":"'Result Entry'!CG76","v":""},{"$f":"'Result Entry'!CH76","v":0},{"$f":"'Result Entry'!CI76","v":0},{"$f":"'Result Entry'!CJ76","v":0},{"$f":"'Result Entry'!CK76","v":0},{"$f":"'Result Entry'!CL76","v":0},{"$f":"'Result Entry'!CM76","v":0},{"$f":"'Result Entry'!CN76","v":0},{"$f":"'Result Entry'!CO76","v":""},{"$f":"'Result Entry'!CP76","v":0},{"$f":"'Result Entry'!CQ76","v":0},{"$f":"'Result Entry'!CR76","v":0},{"$f":"'Result Entry'!CS76","v":0},{"$f":"'Result Entry'!CT76","v":0},{"$f":"'Result Entry'!CU76","v":0},{"$f":"'Result Entry'!CV76","v":0},{"$f":"'Result Entry'!CW76","v":""},{"$f":"'Result Entry'!CX76","v":0},{"$f":"'Result Entry'!CY76","v":0},{"$f":"'Result Entry'!CZ76","v":0},{"$f":"'Result Entry'!DA76","v":0},{"$f":"'Result Entry'!DB76","v":0},{"$f":"'Result Entry'!DC76","v":0},{"$f":"'Result Entry'!DD76","v":0},{"$f":"'Result Entry'!DE76","v":""},{"$f":"'Result Entry'!DF76","v":0},{"$f":"'Result Entry'!DG76","v":0},{"$f":"'Result Entry'!DH76","v":0},{"$f":"'Result Entry'!DI76","v":0},{"$f":"'Result Entry'!DJ76","v":0},{"$f":"'Result Entry'!DK76","v":0},{"$f":"'Result Entry'!DL76","v":""},{"$f":"'Result Entry'!DM76","v":""},{"$f":"'Result Entry'!DN76","v":0},{"$f":"'Result Entry'!DO76","v":0},{"$f":"'Result Entry'!DP76","v":""},{"$f":"'Result Entry'!DQ76","v":900},{"$f":"'Result Entry'!DR76","v":0},{"$f":"'Result Entry'!DS76","v":{"v":0,"d":"0.00"}},{"$f":"'Result Entry'!DT76","v":""},{"$f":"'Result Entry'!DU76","v":""},{"$f":"'Result Entry'!DV76","v":""},{"$f":"'Result Entry'!DW76","v":""}]
[null,0,{"$f":"'Result Entry'!D77","v":0},{"$f":"'Result Entry'!E77","v":0},{"$f":"'Result Entry'!F77","v":0},{"$f":"'Result Entry'!G77","v":0},{"$f":"'Result Entry'!H77","v":0},{"$f":"'Result Entry'!I77","v":0},{"$f":"'Result Entry'!J77","v":"00:00:00"},{"$f":"'Result Entry'!K77","v":0},{"$f":"'Result Entry'!L77","v":0},{"$f":"'Result Entry'!M77","v":0},{"$f":"'Result Entry'!N77","v":0},{"$f":"'Result Entry'!O77","v":0},{"$f":"'Result Entry'!P77","v":0},{"$f":"'Result Entry'!Q77","v":0},{"$f":"'Result Entry'!R77","v":0},{"$f":"'Result Entry'!S77","v":0},{"$f":"'Result Entry'!T77","v":0},{"$f":"'Result Entry'!U77","v":0},{"$f":"'Result Entry'!V77","v":0},{"$f":"'Result Entry'!W77","v":0},{"$f":"'Result Entry'!X77","v":0},{"$f":"'Result Entry'!Y77","v":""},{"$f":"'Result Entry'!Z77","v":0},{"$f":"'Result Entry'!AA77","v":0},{"$f":"'Result Entry'!AB77","v":0},{"$f":"'Result Entry'!AC77","v":0},{"$f":"'Result Entry'!AD77","v":0},{"$f":"'Result Entry'!AE77","v":0},{"$f":"'Result Entry'!AF77","v":0},{"$f":"'Result Entry'!AG77","v":0},{"$f":"'Result Entry'!AH77","v":0},{"$f":"'Result Entry'!AI77","v":0},{"$f":"'Result Entry'!AJ77","v":0},{"$f":"'Result Entry'!AK77","v":0},{"$f":"'Result Entry'!AL77","v":0},{"$f":"'Result Entry'!AM77","v":0},{"$f":"'Result Entry'!AN77","v":""},{"$f":"'Result Entry'!AO77","v":0},{"$f":"'Result Entry'!AP77","v":0},{"$f":"'Result Entry'!AQ77","v":0},{"$f":"'Result Entry'!AR77","v":0},{"$f":"'Result Entry'!AS77","v":0},{"$f":"'Result Entry'!AT77","v":0},{"$f":"'Result Entry'!AU77","v":0},{"$f":"'Result Entry'!AV77","v":0},{"$f":"'Result Entry'!AW77","v":0},{"$f":"'Result Entry'!AX77","v":0},{"$f":"'Result Entry'!AY77","v":0},{"$f":"'Result Entry'!AZ77","v":0},{"$f":"'Result Entry'!BA77","v":0},{"$f":"'Result Entry'!BB77","v":0},{"$f":"'Result Entry'!BC77","v":""},{"$f":"'Result Entry'!BD77","v":0},{"$f":"'Result Entry'!BE77","v":0},{"$f":"'Result Entry'!BF77","v":0},{"$f":"'Result Entry'!BG77","v":0},{"$f":"'Result Entry'!BH77","v":0},{"$f":"'Result Entry'!BI77","v":0},{"$f":"'Result Entry'!BJ77","v":0},{"$f":"'Result Entry'!BK77","v":0},{"$f":"'Result Entry'!BL77","v":0},{"$f":"'Result Entry'!BM77","v":0},{"$f":"'Result Entry'!BN77","v":0},{"$f":"'Result Entry'!BO77","v":0},{"$f":"'Result Entry'!BP77","v":0},{"$f":"'Result Entry'!BQ77","v":0},{"$f":"'Result Entry'!BR77","v":""},{"$f":"'Result Entry'!BS77","v":0},{"$f":"'Result Entry'!BT77","v":0},{"$f":"'Result Entry'!BU77","v":0},{"$f":"'Result Entry'!BV77","v":0},{"$f":"'Result Entry'!BW77","v":0},{"$f":"'Result Entry'!BX77","v":0},{"$f":"'Result Entry'!BY77","v":0},{"$f":"'Result Entry'!BZ77","v":0},{"$f":"'Result Entry'!CA77","v":0},{"$f":"'Result Entry'!CB77","v":0},{"$f":"'Result Entry'!CC77","v":0},{"$f":"'Result Entry'!CD77","v":0},{"$f":"'Result Entry'!CE77","v":0},{"$f":"'Result Entry'!CF77","v":0},{"$f":"'Result Entry'!CG77","v":""},{"$f":"'Result Entry'!CH77","v":0},{"$f":"'Result Entry'!CI77","v":0},{"$f":"'Result Entry'!CJ77","v":0},{"$f":"'Result Entry'!CK77","v":0},{"$f":"'Result Entry'!CL77","v":0},{"$f":"'Result Entry'!CM77","v":0},{"$f":"'Result Entry'!CN77","v":0},{"$f":"'Result Entry'!CO77","v":""},{"$f":"'Result Entry'!CP77","v":0},{"$f":"'Result Entry'!CQ77","v":0},{"$f":"'Result Entry'!CR77","v":0},{"$f":"'Result Entry'!CS77","v":0},{"$f":"'Result Entry'!CT77","v":0},{"$f":"'Result Entry'!CU77","v":0},{"$f":"'Result Entry'!CV77","v":0},{"$f":"'Result Entry'!CW77","v":""},{"$f":"'Result Entry'!CX77","v":0},{"$f":"'Result Entry'!CY77","v":0},{"$f":"'Result Entry'!CZ77","v":0},{"$f":"'Result Entry'!DA77","v":0},{"$f":"'Result Entry'!DB77","v":0},{"$f":"'Result Entry'!DC77","v":0},{"$f":"'Result Entry'!DD77","v":0},{"$f":"'Result Entry'!DE77","v":""},{"$f":"'Result Entry'!DF77","v":0},{"$f":"'Result Entry'!DG77","v":0},{"$f":"'Result Entry'!DH77","v":0},{"$f":"'Result Entry'!DI77","v":0},{"$f":"'Result Entry'!DJ77","v":0},{"$f":"'Result Entry'!DK77","v":0},{"$f":"'Result Entry'!DL77","v":""},{"$f":"'Result Entry'!DM77","v":""},{"$f":"'Result Entry'!DN77","v":0},{"$f":"'Result Entry'!DO77","v":0},{"$f":"'Result Entry'!DP77","v":""},{"$f":"'Result Entry'!DQ77","v":900},{"$f":"'Result Entry'!DR77","v":0},{"$f":"'Result Entry'!DS77","v":{"v":0,"d":"0.00"}},{"$f":"'Result Entry'!DT77","v":""},{"$f":"'Result Entry'!DU77","v":""},{"$f":"'Result Entry'!DV77","v":""},{"$f":"'Result Entry'!DW77","v":""}]
[null,0,{"$f":"'Result Entry'!D78","v":0},{"$f":"'Result Entry'!E78","v":0},{"$f":"'Result Entry'!F78","v":0},{"$f":"'Result Entry'!G78","v":0},{"$f":"'Result Entry'!H78","v":0},{"$f":"'Result Entry'!I78","v":0},{"$f":"'Result Entry'!J78","v":"00:00:00"},{"$f":"'Result Entry'!K78","v":0},{"$f":"'Result Entry'!L78","v":0},{"$f":"'Result Entry'!M78","v":0},{"$f":"'Result Entry'!N78","v":0},{"$f":"'Result Entry'!O78","v":0},{"$f":"'Result Entry'!P78","v":0},{"$f":"'Result Entry'!Q78","v":0},{"$f":"'Result Entry'!R78","v":0},{"$f":"'Result Entry'!S78","v":0},{"$f":"'Result Entry'!T78","v":0},{"$f":"'Result Entry'!U78","v":0},{"$f":"'Result Entry'!V78","v":0},{"$f":"'Result Entry'!W78","v":0},{"$f":"'Result Entry'!X78","v":0},{"$f":"'Result Entry'!Y78","v":""},{"$f":"'Result Entry'!Z78","v":0},{"$f":"'Result Entry'!AA78","v":0},{"$f":"'Result Entry'!AB78","v":0},{"$f":"'Result Entry'!AC78","v":0},{"$f":"'Result Entry'!AD78","v":0},{"$f":"'Result Entry'!AE78","v":0},{"$f":"'Result Entry'!AF78","v":0},{"$f":"'Result Entry'!AG78","v":0},{"$f":"'Result Entry'!AH78","v":0},{"$f":"'Result Entry'!AI78","v":0},{"$f":"'Result Entry'!AJ78","v":0},{"$f":"'Result Entry'!AK78","v":0},{"$f":"'Result Entry'!AL78","v":0},{"$f":"'Result Entry'!AM78","v":0},{"$f":"'Result Entry'!AN78","v":""},{"$f":"'Result Entry'!AO78","v":0},{"$f":"'Result Entry'!AP78","v":0},{"$f":"'Result Entry'!AQ78","v":0},{"$f":"'Result Entry'!AR78","v":0},{"$f":"'Result Entry'!AS78","v":0},{"$f":"'Result Entry'!AT78","v":0},{"$f":"'Result Entry'!AU78","v":0},{"$f":"'Result Entry'!AV78","v":0},{"$f":"'Result Entry'!AW78","v":0},{"$f":"'Result Entry'!AX78","v":0},{"$f":"'Result Entry'!AY78","v":0},{"$f":"'Result Entry'!AZ78","v":0},{"$f":"'Result Entry'!BA78","v":0},{"$f":"'Result Entry'!BB78","v":0},{"$f":"'Result Entry'!BC78","v":""},{"$f":"'Result Entry'!BD78","v":0},{"$f":"'Result Entry'!BE78","v":0},{"$f":"'Result Entry'!BF78","v":0},{"$f":"'Result Entry'!BG78","v":0},{"$f":"'Result Entry'!BH78","v":0},{"$f":"'Result Entry'!BI78","v":0},{"$f":"'Result Entry'!BJ78","v":0},{"$f":"'Result Entry'!BK78","v":0},{"$f":"'Result Entry'!BL78","v":0},{"$f":"'Result Entry'!BM78","v":0},{"$f":"'Result Entry'!BN78","v":0},{"$f":"'Result Entry'!BO78","v":0},{"$f":"'Result Entry'!BP78","v":0},{"$f":"'Result Entry'!BQ78","v":0},{"$f":"'Result Entry'!BR78","v":""},{"$f":"'Result Entry'!BS78","v":0},{"$f":"'Result Entry'!BT78","v":0},{"$f":"'Result Entry'!BU78","v":0},{"$f":"'Result Entry'!BV78","v":0},{"$f":"'Result Entry'!BW78","v":0},{"$f":"'Result Entry'!BX78","v":0},{"$f":"'Result Entry'!BY78","v":0},{"$f":"'Result Entry'!BZ78","v":0},{"$f":"'Result Entry'!CA78","v":0},{"$f":"'Result Entry'!CB78","v":0},{"$f":"'Result Entry'!CC78","v":0},{"$f":"'Result Entry'!CD78","v":0},{"$f":"'Result Entry'!CE78","v":0},{"$f":"'Result Entry'!CF78","v":0},{"$f":"'Result Entry'!CG78","v":""},{"$f":"'Result Entry'!CH78","v":0},{"$f":"'Result Entry'!CI78","v":0},{"$f":"'Result Entry'!CJ78","v":0},{"$f":"'Result Entry'!CK78","v":0},{"$f":"'Result Entry'!CL78","v":0},{"$f":"'Result Entry'!CM78","v":0},{"$f":"'Result Entry'!CN78","v":0},{"$f":"'Result Entry'!CO78","v":""},{"$f":"'Result Entry'!CP78","v":0},{"$f":"'Result Entry'!CQ78","v":0},{"$f":"'Result Entry'!CR78","v":0},{"$f":"'Result Entry'!CS78","v":0},{"$f":"'Result Entry'!CT78","v":0},{"$f":"'Result Entry'!CU78","v":0},{"$f":"'Result Entry'!CV78","v":0},{"$f":"'Result Entry'!CW78","v":""},{"$f":"'Result Entry'!CX78","v":0},{"$f":"'Result Entry'!CY78","v":0},{"$f":"'Result Entry'!CZ78","v":0},{"$f":"'Result Entry'!DA78","v":0},{"$f":"'Result Entry'!DB78","v":0},{"$f":"'Result Entry'!DC78","v":0},{"$f":"'Result Entry'!DD78","v":0},{"$f":"'Result Entry'!DE78","v":""},{"$f":"'Result Entry'!DF78","v":0},{"$f":"'Result Entry'!DG78","v":0},{"$f":"'Result Entry'!DH78","v":0},{"$f":"'Result Entry'!DI78","v":0},{"$f":"'Result Entry'!DJ78","v":0},{"$f":"'Result Entry'!DK78","v":0},{"$f":"'Result Entry'!DL78","v":""},{"$f":"'Result Entry'!DM78","v":""},{"$f":"'Result Entry'!DN78","v":0},{"$f":"'Result Entry'!DO78","v":0},{"$f":"'Result Entry'!DP78","v":""},{"$f":"'Result Entry'!DQ78","v":900},{"$f":"'Result Entry'!DR78","v":0},{"$f":"'Result Entry'!DS78","v":{"v":0,"d":"0.00"}},{"$f":"'Result Entry'!DT78","v":""},{"$f":"'Result Entry'!DU78","v":""},{"$f":"'Result Entry'!DV78","v":""},{"$f":"'Result Entry'!DW78","v":""}]
[null,0,{"$f":"'Result Entry'!D79","v":0},{"$f":"'Result Entry'!E79","v":0},{"$f":"'Result Entry'!F79","v":0},{"$f":"'Result Entry'!G79","v":0},{"$f":"'Result Entry'!H79","v":0},{"$f":"'Result Entry'!I79","v":0},{"$f":"'Result Entry'!J79","v":"00:00:00"},{"$f":"'Result Entry'!K79","v":0},{"$f":"'Result Entry'!L79","v":0},{"$f":"'Result Entry'!M79","v":0},{"$f":"'Result Entry'!N79","v":0},{"$f":"'Result Entry'!O79","v":0},{"$f":"'Result Entry'!P79","v":0},{"$f":"'Result Entry'!Q79","v":0},{"$f":"'Result Entry'!R79","v":0},{"$f":"'Result Entry'!S79","v":0},{"$f":"'Result Entry'!T79","v":0},{"$f":"'Result Entry'!U79","v":0},{"$f":"'Result Entry'!V79","v":0},{"$f":"'Result Entry'!W79","v":0},{"$f":"'Result Entry'!X79","v":0},{"$f":"'Result Entry'!Y79","v":""},{"$f":"'Result Entry'!Z79","v":0},{"$f":"'Result Entry'!AA79","v":0},{"$f":"'Result Entry'!AB79","v":0},{"$f":"'Result Entry'!AC79","v":0},{"$f":"'Result Entry'!AD79","v":0},{"$f":"'Result Entry'!AE79","v":0},{"$f":"'Result Entry'!AF79","v":0},{"$f":"'Result Entry'!AG79","v":0},{"$f":"'Result Entry'!AH79","v":0},{"$f":"'Result Entry'!AI79","v":0},{"$f":"'Result Entry'!AJ79","v":0},{"$f":"'Result Entry'!AK79","v":0},{"$f":"'Result Entry'!AL79","v":0},{"$f":"'Result Entry'!AM79","v":0},{"$f":"'Result Entry'!AN79","v":""},{"$f":"'Result Entry'!AO79","v":0},{"$f":"'Result Entry'!AP79","v":0},{"$f":"'Result Entry'!AQ79","v":0},{"$f":"'Result Entry'!AR79","v":0},{"$f":"'Result Entry'!AS79","v":0},{"$f":"'Result Entry'!AT79","v":0},{"$f":"'Result Entry'!AU79","v":0},{"$f":"'Result Entry'!AV79","v":0},{"$f":"'Result Entry'!AW79","v":0},{"$f":"'Result Entry'!AX79","v":0},{"$f":"'Result Entry'!AY79","v":0},{"$f":"'Result Entry'!AZ79","v":0},{"$f":"'Result Entry'!BA79","v":0},{"$f":"'Result Entry'!BB79","v":0},{"$f":"'Result Entry'!BC79","v":""},{"$f":"'Result Entry'!BD79","v":0},{"$f":"'Result Entry'!BE79","v":0},{"$f":"'Result Entry'!BF79","v":0},{"$f":"'Result Entry'!BG79","v":0},{"$f":"'Result Entry'!BH79","v":0},{"$f":"'Result Entry'!BI79","v":0},{"$f":"'Result Entry'!BJ79","v":0},{"$f":"'Result Entry'!BK79","v":0},{"$f":"'Result Entry'!BL79","v":0},{"$f":"'Result Entry'!BM79","v":0},{"$f":"'Result Entry'!BN79","v":0},{"$f":"'Result Entry'!BO79","v":0},{"$f":"'Result Entry'!BP79","v":0},{"$f":"'Result Entry'!BQ79","v":0},{"$f":"'Result Entry'!BR79","v":""},{"$f":"'Result Entry'!BS79","v":0},{"$f":"'Result Entry'!BT79","v":0},{"$f":"'Result Entry'!BU79","v":0},{"$f":"'Result Entry'!BV79","v":0},{"$f":"'Result Entry'!BW79","v":0},{"$f":"'Result Entry'!BX79","v":0},{"$f":"'Result Entry'!BY79","v":0},{"$f":"'Result Entry'!BZ79","v":0},{"$f":"'Result Entry'!CA79","v":0},{"$f":"'Result Entry'!CB79","v":0},{"$f":"'Result Entry'!CC79","v":0},{"$f":"'Result Entry'!CD79","v":0},{"$f":"'Result Entry'!CE79","v":0},{"$f":"'Result Entry'!CF79","v":0},{"$f":"'Result Entry'!CG79","v":""},{"$f":"'Result Entry'!CH79","v":0},{"$f":"'Result Entry'!CI79","v":0},{"$f":"'Result Entry'!CJ79","v":0},{"$f":"'Result Entry'!CK79","v":0},{"$f":"'Result Entry'!CL79","v":0},{"$f":"'Result Entry'!CM79","v":0},{"$f":"'Result Entry'!CN79","v":0},{"$f":"'Result Entry'!CO79","v":""},{"$f":"'Result Entry'!CP79","v":0},{"$f":"'Result Entry'!CQ79","v":0},{"$f":"'Result Entry'!CR79","v":0},{"$f":"'Result Entry'!CS79","v":0},{"$f":"'Result Entry'!CT79","v":0},{"$f":"'Result Entry'!CU79","v":0},{"$f":"'Result Entry'!CV79","v":0},{"$f":"'Result Entry'!CW79","v":""},{"$f":"'Result Entry'!CX79","v":0},{"$f":"'Result Entry'!CY79","v":0},{"$f":"'Result Entry'!CZ79","v":0},{"$f":"'Result Entry'!DA79","v":0},{"$f":"'Result Entry'!DB79","v":0},{"$f":"'Result Entry'!DC79","v":0},{"$f":"'Result Entry'!DD79","v":0},{"$f":"'Result Entry'!DE79","v":""},{"$f":"'Result Entry'!DF79","v":0},{"$f":"'Result Entry'!DG79","v":0},{"$f":"'Result Entry'!DH79","v":0},{"$f":"'Result Entry'!DI79","v":0},{"$f":"'Result Entry'!DJ79","v":0},{"$f":"'Result Entry'!DK79","v":0},{"$f":"'Result Entry'!DL79","v":""},{"$f":"'Result Entry'!DM79","v":""},{"$f":"'Result Entry'!DN79","v":0},{"$f":"'Result Entry'!DO79","v":0},{"$f":"'Result Entry'!DP79","v":""},{"$f":"'Result Entry'!DQ79","v":900},{"$f":"'Result Entry'!DR79","v":0},{"$f":"'Result Entry'!DS79","v":{"v":0,"d":"0.00"}},{"$f":"'Result Entry'!DT79","v":""},{"$f":"'Result Entry'!DU79","v":""},{"$f":"'Result Entry'!DV79","v":""},{"$f":"'Result Entry'!DW79","v":""}]
[null,0,{"$f":"'Result Entry'!D80","v":0},{"$f":"'Result Entry'!E80","v":0},{"$f":"'Result Entry'!F80","v":0},{"$f":"'Result Entry'!G80","v":0},{"$f":"'Result Entry'!H80","v":0},{"$f":"'Result Entry'!I80","v":0},{"$f":"'Result Entry'!J80","v":"00:00:00"},{"$f":"'Result Entry'!K80","v":0},{"$f":"'Result Entry'!L80","v":0},{"$f":"'Result Entry'!M80","v":0},{"$f":"'Result Entry'!N80","v":0},{"$f":"'Result Entry'!O80","v":0},{"$f":"'Result Entry'!P80","v":0},{"$f":"'Result Entry'!Q80","v":0},{"$f":"'Result Entry'!R80","v":0},{"$f":"'Result Entry'!S80","v":0},{"$f":"'Result Entry'!T80","v":0},{"$f":"'Result Entry'!U80","v":0},{"$f":"'Result Entry'!V80","v":0},{"$f":"'Result Entry'!W80","v":0},{"$f":"'Result Entry'!X80","v":0},{"$f":"'Result Entry'!Y80","v":""},{"$f":"'Result Entry'!Z80","v":0},{"$f":"'Result Entry'!AA80","v":0},{"$f":"'Result Entry'!AB80","v":0},{"$f":"'Result Entry'!AC80","v":0},{"$f":"'Result Entry'!AD80","v":0},{"$f":"'Result Entry'!AE80","v":0},{"$f":"'Result Entry'!AF80","v":0},{"$f":"'Result Entry'!AG80","v":0},{"$f":"'Result Entry'!AH80","v":0},{"$f":"'Result Entry'!AI80","v":0},{"$f":"'Result Entry'!AJ80","v":0},{"$f":"'Result Entry'!AK80","v":0},{"$f":"'Result Entry'!AL80","v":0},{"$f":"'Result Entry'!AM80","v":0},{"$f":"'Result Entry'!AN80","v":""},{"$f":"'Result Entry'!AO80","v":0},{"$f":"'Result Entry'!AP80","v":0},{"$f":"'Result Entry'!AQ80","v":0},{"$f":"'Result Entry'!AR80","v":0},{"$f":"'Result Entry'!AS80","v":0},{"$f":"'Result Entry'!AT80","v":0},{"$f":"'Result Entry'!AU80","v":0},{"$f":"'Result Entry'!AV80","v":0},{"$f":"'Result Entry'!AW80","v":0},{"$f":"'Result Entry'!AX80","v":0},{"$f":"'Result Entry'!AY80","v":0},{"$f":"'Result Entry'!AZ80","v":0},{"$f":"'Result Entry'!BA80","v":0},{"$f":"'Result Entry'!BB80","v":0},{"$f":"'Result Entry'!BC80","v":""},{"$f":"'Result Entry'!BD80","v":0},{"$f":"'Result Entry'!BE80","v":0},{"$f":"'Result Entry'!BF80","v":0},{"$f":"'Result Entry'!BG80","v":0},{"$f":"'Result Entry'!BH80","v":0},{"$f":"'Result Entry'!BI80","v":0},{"$f":"'Result Entry'!BJ80","v":0},{"$f":"'Result Entry'!BK80","v":0},{"$f":"'Result Entry'!BL80","v":0},{"$f":"'Result Entry'!BM80","v":0},{"$f":"'Result Entry'!BN80","v":0},{"$f":"'Result Entry'!BO80","v":0},{"$f":"'Result Entry'!BP80","v":0},{"$f":"'Result Entry'!BQ80","v":0},{"$f":"'Result Entry'!BR80","v":""},{"$f":"'Result Entry'!BS80","v":0},{"$f":"'Result Entry'!BT80","v":0},{"$f":"'Result Entry'!BU80","v":0},{"$f":"'Result Entry'!BV80","v":0},{"$f":"'Result Entry'!BW80","v":0},{"$f":"'Result Entry'!BX80","v":0},{"$f":"'Result Entry'!BY80","v":0},{"$f":"'Result Entry'!BZ80","v":0},{"$f":"'Result Entry'!CA80","v":0},{"$f":"'Result Entry'!CB80","v":0},{"$f":"'Result Entry'!CC80","v":0},{"$f":"'Result Entry'!CD80","v":0},{"$f":"'Result Entry'!CE80","v":0},{"$f":"'Result Entry'!CF80","v":0},{"$f":"'Result Entry'!CG80","v":""},{"$f":"'Result Entry'!CH80","v":0},{"$f":"'Result Entry'!CI80","v":0},{"$f":"'Result Entry'!CJ80","v":0},{"$f":"'Result Entry'!CK80","v":0},{"$f":"'Result Entry'!CL80","v":0},{"$f":"'Result Entry'!CM80","v":0},{"$f":"'Result Entry'!CN80","v":0},{"$f":"'Result Entry'!CO80","v":""},{"$f":"'Result Entry'!CP80","v":0},{"$f":"'Result Entry'!CQ80","v":0},{"$f":"'Result Entry'!CR80","v":0},{"$f":"'Result Entry'!CS80","v":0},{"$f":"'Result Entry'!CT80","v":0},{"$f":"'Result Entry'!CU80","v":0},{"$f":"'Result Entry'!CV80","v":0},{"$f":"'Result Entry'!CW80","v":""},{"$f":"'Result Entry'!CX80","v":0},{"$f":"'Result Entry'!CY80","v":0},{"$f":"'Result Entry'!CZ80","v":0},{"$f":"'Result Entry'!DA80","v":0},{"$f":"'Result Entry'!DB80","v":0},{"$f":"'Result Entry'!DC80","v":0},{"$f":"'Result Entry'!DD80","v":0},{"$f":"'Result Entry'!DE80","v":""},{"$f":"'Result Entry'!DF80","v":0},{"$f":"'Result Entry'!DG80","v":0},{"$f":"'Result Entry'!DH80","v":0},{"$f":"'Result Entry'!DI80","v":0},{"$f":"'Result Entry'!DJ80","v":0},{"$f":"'Result Entry'!DK80","v":0},{"$f":"'Result Entry'!DL80","v":""},{"$f":"'Result Entry'!DM80","v":""},{"$f":"'Result Entry'!DN80","v":0},{"$f":"'Result Entry'!DO80","v":0},{"$f":"'Result Entry'!DP80","v":""},{"$f":"'Result Entry'!DQ80","v":900},{"$f":"'Result Entry'!DR80","v":0},{"$f":"'Result Entry'!DS80","v":{"v":0,"d":"0.00"}},{"$f":"'Result Entry'!DT80","v":""},{"$f":"'Result Entry'!DU80","v":""},{"$f":"'Result Entry'!DV80","v":""},{"$f":"'Result Entry'!DW80","v":""}]
[null,0,{"$f":"'Result Entry'!D81","v":0},{"$f":"'Result Entry'!E81","v":0},{"$f":"'Result Entry'!F81","v":0},{"$f":"'Result Entry'!G81","v":0},{"$f":"'Result Entry'!H81","v":0},{"$f":"'Result Entry'!I81","v":0},{"$f":"'Result Entry'!J81","v":"00:00:00"},{"$f":"'Result Entry'!K81","v":0},{"$f":"'Result Entry'!L81","v":0},{"$f":"'Result Entry'!M81","v":0},{"$f":"'Result Entry'!N81","v":0},{"$f":"'Result Entry'!O81","v":0},{"$f":"'Result Entry'!P81","v":0},{"$f":"'Result Entry'!Q81","v":0},{"$f":"'Result Entry'!R81","v":0},{"$f":"'Result Entry'!S81","v":0},{"$f":"'Result Entry'!T81","v":0},{"$f":"'Result Entry'!U81","v":0},{"$f":"'Result Entry'!V81","v":0},{"$f":"'Result Entry'!W81","v":0},{"$f":"'Result Entry'!X81","v":0},{"$f":"'Result Entry'!Y81","v":""},{"$f":"'Result Entry'!Z81","v":0},{"$f":"'Result Entry'!AA81","v":0},{"$f":"'Result Entry'!AB81","v":0},{"$f":"'Result Entry'!AC81","v":0},{"$f":"'Result Entry'!AD81","v":0},{"$f":"'Result Entry'!AE81","v":0},{"$f":"'Result Entry'!AF81","v":0},{"$f":"'Result Entry'!AG81","v":0},{"$f":"'Result Entry'!AH81","v":0},{"$f":"'Result Entry'!AI81","v":0},{"$f":"'Result Entry'!AJ81","v":0},{"$f":"'Result Entry'!AK81","v":0},{"$f":"'Result Entry'!AL81","v":0},{"$f":"'Result Entry'!AM81","v":0},{"$f":"'Result Entry'!AN81","v":""},{"$f":"'Result Entry'!AO81","v":0},{"$f":"'Result Entry'!AP81","v":0},{"$f":"'Result Entry'!AQ81","v":0},{"$f":"'Result Entry'!AR81","v":0},{"$f":"'Result Entry'!AS81","v":0},{"$f":"'Result Entry'!AT81","v":0},{"$f":"'Result Entry'!AU81","v":0},{"$f":"'Result Entry'!AV81","v":0},{"$f":"'Result Entry'!AW81","v":0},{"$f":"'Result Entry'!AX81","v":0},{"$f":"'Result Entry'!AY81","v":0},{"$f":"'Result Entry'!AZ81","v":0},{"$f":"'Result Entry'!BA81","v":0},{"$f":"'Result Entry'!BB81","v":0},{"$f":"'Result Entry'!BC81","v":""},{"$f":"'Result Entry'!BD81","v":0},{"$f":"'Result Entry'!BE81","v":0},{"$f":"'Result Entry'!BF81","v":0},{"$f":"'Result Entry'!BG81","v":0},{"$f":"'Result Entry'!BH81","v":0},{"$f":"'Result Entry'!BI81","v":0},{"$f":"'Result Entry'!BJ81","v":0},{"$f":"'Result Entry'!BK81","v":0},{"$f":"'Result Entry'!BL81","v":0},{"$f":"'Result Entry'!BM81","v":0},{"$f":"'Result Entry'!BN81","v":0},{"$f":"'Result Entry'!BO81","v":0},{"$f":"'Result Entry'!BP81","v":0},{"$f":"'Result Entry'!BQ81","v":0},{"$f":"'Result Entry'!BR81","v":""},{"$f":"'Result Entry'!BS81","v":0},{"$f":"'Result Entry'!BT81","v":0},{"$f":"'Result Entry'!BU81","v":0},{"$f":"'Result Entry'!BV81","v":0},{"$f":"'Result Entry'!BW81","v":0},{"$f":"'Result Entry'!BX81","v":0},{"$f":"'Result Entry'!BY81","v":0},{"$f":"'Result Entry'!BZ81","v":0},{"$f":"'Result Entry'!CA81","v":0},{"$f":"'Result Entry'!CB81","v":0},{"$f":"'Result Entry'!CC81","v":0},{"$f":"'Result Entry'!CD81","v":0},{"$f":"'Result Entry'!CE81","v":0},{"$f":"'Result Entry'!CF81","v":0},{"$f":"'Result Entry'!CG81","v":""},{"$f":"'Result Entry'!CH81","v":0},{"$f":"'Result Entry'!CI81","v":0},{"$f":"'Result Entry'!CJ81","v":0},{"$f":"'Result Entry'!CK81","v":0},{"$f":"'Result Entry'!CL81","v":0},{"$f":"'Result Entry'!CM81","v":0},{"$f":"'Result Entry'!CN81","v":0},{"$f":"'Result Entry'!CO81","v":""},{"$f":"'Result Entry'!CP81","v":0},{"$f":"'Result Entry'!CQ81","v":0},{"$f":"'Result Entry'!CR81","v":0},{"$f":"'Result Entry'!CS81","v":0},{"$f":"'Result Entry'!CT81","v":0},{"$f":"'Result Entry'!CU81","v":0},{"$f":"'Result Entry'!CV81","v":0},{"$f":"'Result Entry'!CW81","v":""},{"$f":"'Result Entry'!CX81","v":0},{"$f":"'Result Entry'!CY81","v":0},{"$f":"'Result Entry'!CZ81","v":0},{"$f":"'Result Entry'!DA81","v":0},{"$f":"'Result Entry'!DB81","v":0},{"$f":"'Result Entry'!DC81","v":0},{"$f":"'Result Entry'!DD81","v":0},{"$f":"'Result Entry'!DE81","v":""},{"$f":"'Result Entry'!DF81","v":0},{"$f":"'Result Entry'!DG81","v":0},{"$f":"'Result Entry'!DH81","v":0},{"$f":"'Result Entry'!DI81","v":0},{"$f":"'Result Entry'!DJ81","v":0},{"$f":"'Result Entry'!DK81","v":0},{"$f":"'Result Entry'!DL81","v":""},{"$f":"'Result Entry'!DM81","v":""},{"$f":"'Result Entry'!DN81","v":0},{"$f":"'Result Entry'!DO81","v":0},{"$f":"'Result Entry'!DP81","v":""},{"$f":"'Result Entry'!DQ81","v":900},{"$f":"'Result Entry'!DR81","v":0},{"$f":"'Result Entry'!DS81","v":{"v":0,"d":"0.00"}},{"$f":"'Result Entry'!DT81","v":""},{"$f":"'Result Entry'!DU81","v":""},{"$f":"'Result Entry'!DV81","v":""},{"$f":"'Result Entry'!DW81","v":""}]
[null,0,{"$f":"'Result Entry'!D82","v":0},{"$f":"'Result Entry'!E82","v":0},{"$f":"'Result Entry'!F82","v":0},{"$f":"'Result Entry'!G82","v":0},{"$f":"'Result Entry'!H82","v":0},{"$f":"'Result Entry'!I82","v":0},{"$f":"'Result Entry'!J82","v":"00:00:00"},{"$f":"'Result Entry'!K82","v":0},{"$f":"'Result Entry'!L82","v":0},{"$f":"'Result Entry'!M82","v":0},{"$f":"'Result Entry'!N82","v":0},{"$f":"'Result Entry'!O82","v":0},{"$f":"'Result Entry'!P82","v":0},{"$f":"'Result Entry'!Q82","v":0},{"$f":"'Result Entry'!R82","v":0},{"$f":"'Result Entry'!S82","v":0},{"$f":"'Result Entry'!T82","v":0},{"$f":"'Result Entry'!U82","v":0},{"$f":"'Result Entry'!V82","v":0},{"$f":"'Result Entry'!W82","v":0},{"$f":"'Result Entry'!X82","v":0},{"$f":"'Result Entry'!Y82","v":""},{"$f":"'Result Entry'!Z82","v":0},{"$f":"'Result Entry'!AA82","v":0},{"$f":"'Result Entry'!AB82","v":0},{"$f":"'Result Entry'!AC82","v":0},{"$f":"'Result Entry'!AD82","v":0},{"$f":"'Result Entry'!AE82","v":0},{"$f":"'Result Entry'!AF82","v":0},{"$f":"'Result Entry'!AG82","v":0},{"$f":"'Result Entry'!AH82","v":0},{"$f":"'Result Entry'!AI82","v":0},{"$f":"'Result Entry'!AJ82","v":0},{"$f":"'Result Entry'!AK82","v":0},{"$f":"'Result Entry'!AL82","v":0},{"$f":"'Result Entry'!AM82","v":0},{"$f":"'Result Entry'!AN82","v":""},{"$f":"'Result Entry'!AO82","v":0},{"$f":"'Result Entry'!AP82","v":0},{"$f":"'Result Entry'!AQ82","v":0},{"$f":"'Result Entry'!AR82","v":0},{"$f":"'Result Entry'!AS82","v":0},{"$f":"'Result Entry'!AT82","v":0},{"$f":"'Result Entry'!AU82","v":0},{"$f":"'Result Entry'!AV82","v":0},{"$f":"'Result Entry'!AW82","v":0},{"$f":"'Result Entry'!AX82","v":0},{"$f":"'Result Entry'!AY82","v":0},{"$f":"'Result Entry'!AZ82","v":0},{"$f":"'Result Entry'!BA82","v":0},{"$f":"'Result Entry'!BB82","v":0},{"$f":"'Result Entry'!BC82","v":""},{"$f":"'Result Entry'!BD82","v":0},{"$f":"'Result Entry'!BE82","v":0},{"$f":"'Result Entry'!BF82","v":0},{"$f":"'Result Entry'!BG82","v":0},{"$f":"'Result Entry'!BH82","v":0},{"$f":"'Result Entry'!BI82","v":0},{"$f":"'Result Entry'!BJ82","v":0},{"$f":"'Result Entry'!BK82","v":0},{"$f":"'Result Entry'!BL82","v":0},{"$f":"'Result Entry'!BM82","v":0},{"$f":"'Result Entry'!BN82","v":0},{"$f":"'Result Entry'!BO82","v":0},{"$f":"'Result Entry'!BP82","v":0},{"$f":"'Result Entry'!BQ82","v":0},{"$f":"'Result Entry'!BR82","v":""},{"$f":"'Result Entry'!BS82","v":0},{"$f":"'Result Entry'!BT82","v":0},{"$f":"'Result Entry'!BU82","v":0},{"$f":"'Result Entry'!BV82","v":0},{"$f":"'Result Entry'!BW82","v":0},{"$f":"'Result Entry'!BX82","v":0},{"$f":"'Result Entry'!BY82","v":0},{"$f":"'Result Entry'!BZ82","v":0},{"$f":"'Result Entry'!CA82","v":0},{"$f":"'Result Entry'!CB82","v":0},{"$f":"'Result Entry'!CC82","v":0},{"$f":"'Result Entry'!CD82","v":0},{"$f":"'Result Entry'!CE82","v":0},{"$f":"'Result Entry'!CF82","v":0},{"$f":"'Result Entry'!CG82","v":""},{"$f":"'Result Entry'!CH82","v":0},{"$f":"'Result Entry'!CI82","v":0},{"$f":"'Result Entry'!CJ82","v":0},{"$f":"'Result Entry'!CK82","v":0},{"$f":"'Result Entry'!CL82","v":0},{"$f":"'Result Entry'!CM82","v":0},{"$f":"'Result Entry'!CN82","v":0},{"$f":"'Result Entry'!CO82","v":""},{"$f":"'Result Entry'!CP82","v":0},{"$f":"'Result Entry'!CQ82","v":0},{"$f":"'Result Entry'!CR82","v":0},{"$f":"'Result Entry'!CS82","v":0},{"$f":"'Result Entry'!CT82","v":0},{"$f":"'Result Entry'!CU82","v":0},{"$f":"'Result Entry'!CV82","v":0},{"$f":"'Result Entry'!CW82","v":""},{"$f":"'Result Entry'!CX82","v":0},{"$f":"'Result Entry'!CY82","v":0},{"$f":"'Result Entry'!CZ82","v":0},{"$f":"'Result Entry'!DA82","v":0},{"$f":"'Result Entry'!DB82","v":0},{"$f":"'Result Entry'!DC82","v":0},{"$f":"'Result Entry'!DD82","v":0},{"$f":"'Result Entry'!DE82","v":""},{"$f":"'Result Entry'!DF82","v":0},{"$f":"'Result Entry'!DG82","v":0},{"$f":"'Result Entry'!DH82","v":0},{"$f":"'Result Entry'!DI82","v":0},{"$f":"'Result Entry'!DJ82","v":0},{"$f":"'Result Entry'!DK82","v":0},{"$f":"'Result Entry'!DL82","v":""},{"$f":"'Result Entry'!DM82","v":""},{"$f":"'Result Entry'!DN82","v":0},{"$f":"'Result Entry'!DO82","v":0},{"$f":"'Result Entry'!DP82","v":""},{"$f":"'Result Entry'!DQ82","v":900},{"$f":"'Result Entry'!DR82","v":0},{"$f":"'Result Entry'!DS82","v":{"v":0,"d":"0.00"}},{"$f":"'Result Entry'!DT82","v":""},{"$f":"'Result Entry'!DU82","v":""},{"$f":"'Result Entry'!DV82","v":""},{"$f":"'Result Entry'!DW82","v":""}]
[null,0,{"$f":"'Result Entry'!D83","v":0},{"$f":"'Result Entry'!E83","v":0},{"$f":"'Result Entry'!F83","v":0},{"$f":"'Result Entry'!G83","v":0},{"$f":"'Result Entry'!H83","v":0},{"$f":"'Result Entry'!I83","v":0},{"$f":"'Result Entry'!J83","v":"00:00:00"},{"$f":"'Result Entry'!K83","v":0},{"$f":"'Result Entry'!L83","v":0},{"$f":"'Result Entry'!M83","v":0},{"$f":"'Result Entry'!N83","v":0},{"$f":"'Result Entry'!O83","v":0},{"$f":"'Result Entry'!P83","v":0},{"$f":"'Result Entry'!Q83","v":0},{"$f":"'Result Entry'!R83","v":0},{"$f":"'Result Entry'!S83","v":0},{"$f":"'Result Entry'!T83","v":0},{"$f":"'Result Entry'!U83","v":0},{"$f":"'Result Entry'!V83","v":0},{"$f":"'Result Entry'!W83","v":0},{"$f":"'Result Entry'!X83","v":0},{"$f":"'Result Entry'!Y83","v":""},{"$f":"'Result Entry'!Z83","v":0},{"$f":"'Result Entry'!AA83","v":0},{"$f":"'Result Entry'!AB83","v":0},{"$f":"'Result Entry'!AC83","v":0},{"$f":"'Result Entry'!AD83","v":0},{"$f":"'Result Entry'!AE83","v":0},{"$f":"'Result Entry'!AF83","v":0},{"$f":"'Result Entry'!AG83","v":0},{"$f":"'Result Entry'!AH83","v":0},{"$f":"'Result Entry'!AI83","v":0},{"$f":"'Result Entry'!AJ83","v":0},{"$f":"'Result Entry'!AK83","v":0},{"$f":"'Result Entry'!AL83","v":0},{"$f":"'Result Entry'!AM83","v":0},{"$f":"'Result Entry'!AN83","v":""},{"$f":"'Result Entry'!AO83","v":0},{"$f":"'Result Entry'!AP83","v":0},{"$f":"'Result Entry'!AQ83","v":0},{"$f":"'Result Entry'!AR83","v":0},{"$f":"'Result Entry'!AS83","v":0},{"$f":"'Result Entry'!AT83","v":0},{"$f":"'Result Entry'!AU83","v":0},{"$f":"'Result Entry'!AV83","v":0},{"$f":"'Result Entry'!AW83","v":0},{"$f":"'Result Entry'!AX83","v":0},{"$f":"'Result Entry'!AY83","v":0},{"$f":"'Result Entry'!AZ83","v":0},{"$f":"'Result Entry'!BA83","v":0},{"$f":"'Result Entry'!BB83","v":0},{"$f":"'Result Entry'!BC83","v":""},{"$f":"'Result Entry'!BD83","v":0},{"$f":"'Result Entry'!BE83","v":0},{"$f":"'Result Entry'!BF83","v":0},{"$f":"'Result Entry'!BG83","v":0},{"$f":"'Result Entry'!BH83","v":0},{"$f":"'Result Entry'!BI83","v":0},{"$f":"'Result Entry'!BJ83","v":0},{"$f":"'Result Entry'!BK83","v":0},{"$f":"'Result Entry'!BL83","v":0},{"$f":"'Result Entry'!BM83","v":0},{"$f":"'Result Entry'!BN83","v":0},{"$f":"'Result Entry'!BO83","v":0},{"$f":"'Result Entry'!BP83","v":0},{"$f":"'Result Entry'!BQ83","v":0},{"$f":"'Result Entry'!BR83","v":""},{"$f":"'Result Entry'!BS83","v":0},{"$f":"'Result Entry'!BT83","v":0},{"$f":"'Result Entry'!BU83","v":0},{"$f":"'Result Entry'!BV83","v":0},{"$f":"'Result Entry'!BW83","v":0},{"$f":"'Result Entry'!BX83","v":0},{"$f":"'Result Entry'!BY83","v":0},{"$f":"'Result Entry'!BZ83","v":0},{"$f":"'Result Entry'!CA83","v":0},{"$f":"'Result Entry'!CB83","v":0},{"$f":"'Result Entry'!CC83","v":0},{"$f":"'Result Entry'!CD83","v":0},{"$f":"'Result Entry'!CE83","v":0},{"$f":"'Result Entry'!CF83","v":0},{"$f":"'Result Entry'!CG83","v":""},{"$f":"'Result Entry'!CH83","v":0},{"$f":"'Result Entry'!CI83","v":0},{"$f":"'Result Entry'!CJ83","v":0},{"$f":"'Result Entry'!CK83","v":0},{"$f":"'Result Entry'!CL83","v":0},{"$f":"'Result Entry'!CM83","v":0},{"$f":"'Result Entry'!CN83","v":0},{"$f":"'Result Entry'!CO83","v":""},{"$f":"'Result Entry'!CP83","v":0},{"$f":"'Result Entry'!CQ83","v":0},{"$f":"'Result Entry'!CR83","v":0},{"$f":"'Result Entry'!CS83","v":0},{"$f":"'Result Entry'!CT83","v":0},{"$f":"'Result Entry'!CU83","v":0},{"$f":"'Result Entry'!CV83","v":0},{"$f":"'Result Entry'!CW83","v":""},{"$f":"'Result Entry'!CX83","v":0},{"$f":"'Result Entry'!CY83","v":0},{"$f":"'Result Entry'!CZ83","v":0},{"$f":"'Result Entry'!DA83","v":0},{"$f":"'Result Entry'!DB83","v":0},{"$f":"'Result Entry'!DC83","v":0},{"$f":"'Result Entry'!DD83","v":0},{"$f":"'Result Entry'!DE83","v":""},{"$f":"'Result Entry'!DF83","v":0},{"$f":"'Result Entry'!DG83","v":0},{"$f":"'Result Entry'!DH83","v":0},{"$f":"'Result Entry'!DI83","v":0},{"$f":"'Result Entry'!DJ83","v":0},{"$f":"'Result Entry'!DK83","v":0},{"$f":"'Result Entry'!DL83","v":""},{"$f":"'Result Entry'!DM83","v":""},{"$f":"'Result Entry'!DN83","v":0},{"$f":"'Result Entry'!DO83","v":0},{"$f":"'Result Entry'!DP83","v":""},{"$f":"'Result Entry'!DQ83","v":900},{"$f":"'Result Entry'!DR83","v":0},{"$f":"'Result Entry'!DS83","v":{"v":0,"d":"0.00"}},{"$f":"'Result Entry'!DT83","v":""},{"$f":"'Result Entry'!DU83","v":""},{"$f":"'Result Entry'!DV83","v":""},{"$f":"'Result Entry'!DW83","v":""}]
[null,0,{"$f":"'Result Entry'!D84","v":0},{"$f":"'Result Entry'!E84","v":0},{"$f":"'Result Entry'!F84","v":0},{"$f":"'Result Entry'!G84","v":0},{"$f":"'Result Entry'!H84","v":0},{"$f":"'Result Entry'!I84","v":0},{"$f":"'Result Entry'!J84","v":"00:00:00"},{"$f":"'Result Entry'!K84","v":0},{"$f":"'Result Entry'!L84","v":0},{"$f":"'Result Entry'!M84","v":0},{"$f":"'Result Entry'!N84","v":0},{"$f":"'Result Entry'!O84","v":0},{"$f":"'Result Entry'!P84","v":0},{"$f":"'Result Entry'!Q84","v":0},{"$f":"'Result Entry'!R84","v":0},{"$f":"'Result Entry'!S84","v":0},{"$f":"'Result Entry'!T84","v":0},{"$f":"'Result Entry'!U84","v":0},{"$f":"'Result Entry'!V84","v":0},{"$f":"'Result Entry'!W84","v":0},{"$f":"'Result Entry'!X84","v":0},{"$f":"'Result Entry'!Y84","v":""},{"$f":"'Result Entry'!Z84","v":0},{"$f":"'Result Entry'!AA84","v":0},{"$f":"'Result Entry'!AB84","v":0},{"$f":"'Result Entry'!AC84","v":0},{"$f":"'Result Entry'!AD84","v":0},{"$f":"'Result Entry'!AE84","v":0},{"$f":"'Result Entry'!AF84","v":0},{"$f":"'Result Entry'!AG84","v":0},{"$f":"'Result Entry'!AH84","v":0},{"$f":"'Result Entry'!AI84","v":0},{"$f":"'Result Entry'!AJ84","v":0},{"$f":"'Result Entry'!AK84","v":0},{"$f":"'Result Entry'!AL84","v":0},{"$f":"'Result Entry'!AM84","v":0},{"$f":"'Result Entry'!AN84","v":""},{"$f":"'Result Entry'!AO84","v":0},{"$f":"'Result Entry'!AP84","v":0},{"$f":"'Result Entry'!AQ84","v":0},{"$f":"'Result Entry'!AR84","v":0},{"$f":"'Result Entry'!AS84","v":0},{"$f":"'Result Entry'!AT84","v":0},{"$f":"'Result Entry'!AU84","v":0},{"$f":"'Result Entry'!AV84","v":0},{"$f":"'Result Entry'!AW84","v":0},{"$f":"'Result Entry'!AX84","v":0},{"$f":"'Result Entry'!AY84","v":0},{"$f":"'Result Entry'!AZ84","v":0},{"$f":"'Result Entry'!BA84","v":0},{"$f":"'Result Entry'!BB84","v":0},{"$f":"'Result Entry'!BC84","v":""},{"$f":"'Result Entry'!BD84","v":0},{"$f":"'Result Entry'!BE84","v":0},{"$f":"'Result Entry'!BF84","v":0},{"$f":"'Result Entry'!BG84","v":0},{"$f":"'Result Entry'!BH84","v":0},{"$f":"'Result Entry'!BI84","v":0},{"$f":"'Result Entry'!BJ84","v":0},{"$f":"'Result Entry'!BK84","v":0},{"$f":"'Result Entry'!BL84","v":0},{"$f":"'Result Entry'!BM84","v":0},{"$f":"'Result Entry'!BN84","v":0},{"$f":"'Result Entry'!BO84","v":0},{"$f":"'Result Entry'!BP84","v":0},{"$f":"'Result Entry'!BQ84","v":0},{"$f":"'Result Entry'!BR84","v":""},{"$f":"'Result Entry'!BS84","v":0},{"$f":"'Result Entry'!BT84","v":0},{"$f":"'Result Entry'!BU84","v":0},{"$f":"'Result Entry'!BV84","v":0},{"$f":"'Result Entry'!BW84","v":0},{"$f":"'Result Entry'!BX84","v":0},{"$f":"'Result Entry'!BY84","v":0},{"$f":"'Result Entry'!BZ84","v":0},{"$f":"'Result Entry'!CA84","v":0},{"$f":"'Result Entry'!CB84","v":0},{"$f":"'Result Entry'!CC84","v":0},{"$f":"'Result Entry'!CD84","v":0},{"$f":"'Result Entry'!CE84","v":0},{"$f":"'Result Entry'!CF84","v":0},{"$f":"'Result Entry'!CG84","v":""},{"$f":"'Result Entry'!CH84","v":0},{"$f":"'Result Entry'!CI84","v":0},{"$f":"'Result Entry'!CJ84","v":0},{"$f":"'Result Entry'!CK84","v":0},{"$f":"'Result Entry'!CL84","v":0},{"$f":"'Result Entry'!CM84","v":0},{"$f":"'Result Entry'!CN84","v":0},{"$f":"'Result Entry'!CO84","v":""},{"$f":"'Result Entry'!CP84","v":0},{"$f":"'Result Entry'!CQ84","v":0},{"$f":"'Result Entry'!CR84","v":0},{"$f":"'Result Entry'!CS84","v":0},{"$f":"'Result Entry'!CT84","v":0},{"$f":"'Result Entry'!CU84","v":0},{"$f":"'Result Entry'!CV84","v":0},{"$f":"'Result Entry'!CW84","v":""},{"$f":"'Result Entry'!CX84","v":0},{"$f":"'Result Entry'!CY84","v":0},{"$f":"'Result Entry'!CZ84","v":0},{"$f":"'Result Entry'!DA84","v":0},{"$f":"'Result Entry'!DB84","v":0},{"$f":"'Result Entry'!DC84","v":0},{"$f":"'Result Entry'!DD84","v":0},{"$f":"'Result Entry'!DE84","v":""},{"$f":"'Result Entry'!DF84","v":0},{"$f":"'Result Entry'!DG84","v":0},{"$f":"'Result Entry'!DH84","v":0},{"$f":"'Result Entry'!DI84","v":0},{"$f":"'Result Entry'!DJ84","v":0},{"$f":"'Result Entry'!DK84","v":0},{"$f":"'Result Entry'!DL84","v":""},{"$f":"'Result Entry'!DM84","v":""},{"$f":"'Result Entry'!DN84","v":0},{"$f":"'Result Entry'!DO84","v":0},{"$f":"'Result Entry'!DP84","v":""},{"$f":"'Result Entry'!DQ84","v":900},{"$f":"'Result Entry'!DR84","v":0},{"$f":"'Result Entry'!DS84","v":{"v":0,"d":"0.00"}},{"$f":"'Result Entry'!DT84","v":""},{"$f":"'Result Entry'!DU84","v":""},{"$f":"'Result Entry'!DV84","v":""},{"$f":"'Result Entry'!DW84","v":""}]
[null,0,{"$f":"'Result Entry'!D85","v":0},{"$f":"'Result Entry'!E85","v":0},{"$f":"'Result Entry'!F85","v":0},{"$f":"'Result Entry'!G85","v":0},{"$f":"'Result Entry'!H85","v":0},{"$f":"'Result Entry'!I85","v":0},{"$f":"'Result Entry'!J85","v":"00:00:00"},{"$f":"'Result Entry'!K85","v":0},{"$f":"'Result Entry'!L85","v":0},{"$f":"'Result Entry'!M85","v":0},{"$f":"'Result Entry'!N85","v":0},{"$f":"'Result Entry'!O85","v":0},{"$f":"'Result Entry'!P85","v":0},{"$f":"'Result Entry'!Q85","v":0},{"$f":"'Result Entry'!R85","v":0},{"$f":"'Result Entry'!S85","v":0},{"$f":"'Result Entry'!T85","v":0},{"$f":"'Result Entry'!U85","v":0},{"$f":"'Result Entry'!V85","v":0},{"$f":"'Result Entry'!W85","v":0},{"$f":"'Result Entry'!X85","v":0},{"$f":"'Result Entry'!Y85","v":""},{"$f":"'Result Entry'!Z85","v":0},{"$f":"'Result Entry'!AA85","v":0},{"$f":"'Result Entry'!AB85","v":0},{"$f":"'Result Entry'!AC85","v":0},{"$f":"'Result Entry'!AD85","v":0},{"$f":"'Result Entry'!AE85","v":0},{"$f":"'Result Entry'!AF85","v":0},{"$f":"'Result Entry'!AG85","v":0},{"$f":"'Result Entry'!AH85","v":0},{"$f":"'Result Entry'!AI85","v":0},{"$f":"'Result Entry'!AJ85","v":0},{"$f":"'Result Entry'!AK85","v":0},{"$f":"'Result Entry'!AL85","v":0},{"$f":"'Result Entry'!AM85","v":0},{"$f":"'Result Entry'!AN85","v":""},{"$f":"'Result Entry'!AO85","v":0},{"$f":"'Result Entry'!AP85","v":0},{"$f":"'Result Entry'!AQ85","v":0},{"$f":"'Result Entry'!AR85","v":0},{"$f":"'Result Entry'!AS85","v":0},{"$f":"'Result Entry'!AT85","v":0},{"$f":"'Result Entry'!AU85","v":0},{"$f":"'Result Entry'!AV85","v":0},{"$f":"'Result Entry'!AW85","v":0},{"$f":"'Result Entry'!AX85","v":0},{"$f":"'Result Entry'!AY85","v":0},{"$f":"'Result Entry'!AZ85","v":0},{"$f":"'Result Entry'!BA85","v":0},{"$f":"'Result Entry'!BB85","v":0},{"$f":"'Result Entry'!BC85","v":""},{"$f":"'Result Entry'!BD85","v":0},{"$f":"'Result Entry'!BE85","v":0},{"$f":"'Result Entry'!BF85","v":0},{"$f":"'Result Entry'!BG85","v":0},{"$f":"'Result Entry'!BH85","v":0},{"$f":"'Result Entry'!BI85","v":0},{"$f":"'Result Entry'!BJ85","v":0},{"$f":"'Result Entry'!BK85","v":0},{"$f":"'Result Entry'!BL85","v":0},{"$f":"'Result Entry'!BM85","v":0},{"$f":"'Result Entry'!BN85","v":0},{"$f":"'Result Entry'!BO85","v":0},{"$f":"'Result Entry'!BP85","v":0},{"$f":"'Result Entry'!BQ85","v":0},{"$f":"'Result Entry'!BR85","v":""},{"$f":"'Result Entry'!BS85","v":0},{"$f":"'Result Entry'!BT85","v":0},{"$f":"'Result Entry'!BU85","v":0},{"$f":"'Result Entry'!BV85","v":0},{"$f":"'Result Entry'!BW85","v":0},{"$f":"'Result Entry'!BX85","v":0},{"$f":"'Result Entry'!BY85","v":0},{"$f":"'Result Entry'!BZ85","v":0},{"$f":"'Result Entry'!CA85","v":0},{"$f":"'Result Entry'!CB85","v":0},{"$f":"'Result Entry'!CC85","v":0},{"$f":"'Result Entry'!CD85","v":0},{"$f":"'Result Entry'!CE85","v":0},{"$f":"'Result Entry'!CF85","v":0},{"$f":"'Result Entry'!CG85","v":""},{"$f":"'Result Entry'!CH85","v":0},{"$f":"'Result Entry'!CI85","v":0},{"$f":"'Result Entry'!CJ85","v":0},{"$f":"'Result Entry'!CK85","v":0},{"$f":"'Result Entry'!CL85","v":0},{"$f":"'Result Entry'!CM85","v":0},{"$f":"'Result Entry'!CN85","v":0},{"$f":"'Result Entry'!CO85","v":""},{"$f":"'Result Entry'!CP85","v":0},{"$f":"'Result Entry'!CQ85","v":0},{"$f":"'Result Entry'!CR85","v":0},{"$f":"'Result Entry'!CS85","v":0},{"$f":"'Result Entry'!CT85","v":0},{"$f":"'Result Entry'!CU85","v":0},{"$f":"'Result Entry'!CV85","v":0},{"$f":"'Result Entry'!CW85","v":""},{"$f":"'Result Entry'!CX85","v":0},{"$f":"'Result Entry'!CY85","v":0},{"$f":"'Result Entry'!CZ85","v":0},{"$f":"'Result Entry'!DA85","v":0},{"$f":"'Result Entry'!DB85","v":0},{"$f":"'Result Entry'!DC85","v":0},{"$f":"'Result Entry'!DD85","v":0},{"$f":"'Result Entry'!DE85","v":""},{"$f":"'Result Entry'!DF85","v":0},{"$f":"'Result Entry'!DG85","v":0},{"$f":"'Result Entry'!DH85","v":0},{"$f":"'Result Entry'!DI85","v":0},{"$f":"'Result Entry'!DJ85","v":0},{"$f":"'Result Entry'!DK85","v":0},{"$f":"'Result Entry'!DL85","v":""},{"$f":"'Result Entry'!DM85","v":""},{"$f":"'Result Entry'!DN85","v":0},{"$f":"'Result Entry'!DO85","v":0},{"$f":"'Result Entry'!DP85","v":""},{"$f":"'Result Entry'!DQ85","v":900},{"$f":"'Result Entry'!DR85","v":0},{"$f":"'Result Entry'!DS85","v":{"v":0,"d":"0.00"}},{"$f":"'Result Entry'!DT85","v":""},{"$f":"'Result Entry'!DU85","v":""},{"$f":"'Result Entry'!DV85","v":""},{"$f":"'Result Entry'!DW85","v":""}]
[null,0,{"$f":"'Result Entry'!D86","v":0},{"$f":"'Result Entry'!E86","v":0},{"$f":"'Result Entry'!F86","v":0},{"$f":"'Result Entry'!G86","v":0},{"$f":"'Result Entry'!H86","v":0},{"$f":"'Result Entry'!I86","v":0},{"$f":"'Result Entry'!J86","v":"00:00:00"},{"$f":"'Result Entry'!K86","v":0},{"$f":"'Result Entry'!L86","v":0},{"$f":"'Result Entry'!M86","v":0},{"$f":"'Result Entry'!N86","v":0},{"$f":"'Result Entry'!O86","v":0},{"$f":"'Result Entry'!P86","v":0},{"$f":"'Result Entry'!Q86","v":0},{"$f":"'Result Entry'!R86","v":0},{"$f":"'Result Entry'!S86","v":0},{"$f":"'Result Entry'!T86","v":0},{"$f":"'Result Entry'!U86","v":0},{"$f":"'Result Entry'!V86","v":0},{"$f":"'Result Entry'!W86","v":0},{"$f":"'Result Entry'!X86","v":0},{"$f":"'Result Entry'!Y86","v":""},{"$f":"'Result Entry'!Z86","v":0},{"$f":"'Result Entry'!AA86","v":0},{"$f":"'Result Entry'!AB86","v":0},{"$f":"'Result Entry'!AC86","v":0},{"$f":"'Result Entry'!AD86","v":0},{"$f":"'Result Entry'!AE86","v":0},{"$f":"'Result Entry'!AF86","v":0},{"$f":"'Result Entry'!AG86","v":0},{"$f":"'Result Entry'!AH86","v":0},{"$f":"'Result Entry'!AI86","v":0},{"$f":"'Result Entry'!AJ86","v":0},{"$f":"'Result Entry'!AK86","v":0},{"$f":"'Result Entry'!AL86","v":0},{"$f":"'Result Entry'!AM86","v":0},{"$f":"'Result Entry'!AN86","v":""},{"$f":"'Result Entry'!AO86","v":0},{"$f":"'Result Entry'!AP86","v":0},{"$f":"'Result Entry'!AQ86","v":0},{"$f":"'Result Entry'!AR86","v":0},{"$f":"'Result Entry'!AS86","v":0},{"$f":"'Result Entry'!AT86","v":0},{"$f":"'Result Entry'!AU86","v":0},{"$f":"'Result Entry'!AV86","v":0},{"$f":"'Result Entry'!AW86","v":0},{"$f":"'Result Entry'!AX86","v":0},{"$f":"'Result Entry'!AY86","v":0},{"$f":"'Result Entry'!AZ86","v":0},{"$f":"'Result Entry'!BA86","v":0},{"$f":"'Result Entry'!BB86","v":0},{"$f":"'Result Entry'!BC86","v":""},{"$f":"'Result Entry'!BD86","v":0},{"$f":"'Result Entry'!BE86","v":0},{"$f":"'Result Entry'!BF86","v":0},{"$f":"'Result Entry'!BG86","v":0},{"$f":"'Result Entry'!BH86","v":0},{"$f":"'Result Entry'!BI86","v":0},{"$f":"'Result Entry'!BJ86","v":0},{"$f":"'Result Entry'!BK86","v":0},{"$f":"'Result Entry'!BL86","v":0},{"$f":"'Result Entry'!BM86","v":0},{"$f":"'Result Entry'!BN86","v":0},{"$f":"'Result Entry'!BO86","v":0},{"$f":"'Result Entry'!BP86","v":0},{"$f":"'Result Entry'!BQ86","v":0},{"$f":"'Result Entry'!BR86","v":""},{"$f":"'Result Entry'!BS86","v":0},{"$f":"'Result Entry'!BT86","v":0},{"$f":"'Result Entry'!BU86","v":0},{"$f":"'Result Entry'!BV86","v":0},{"$f":"'Result Entry'!BW86","v":0},{"$f":"'Result Entry'!BX86","v":0},{"$f":"'Result Entry'!BY86","v":0},{"$f":"'Result Entry'!BZ86","v":0},{"$f":"'Result Entry'!CA86","v":0},{"$f":"'Result Entry'!CB86","v":0},{"$f":"'Result Entry'!CC86","v":0},{"$f":"'Result Entry'!CD86","v":0},{"$f":"'Result Entry'!CE86","v":0},{"$f":"'Result Entry'!CF86","v":0},{"$f":"'Result Entry'!CG86","v":""},{"$f":"'Result Entry'!CH86","v":0},{"$f":"'Result Entry'!CI86","v":0},{"$f":"'Result Entry'!CJ86","v":0},{"$f":"'Result Entry'!CK86","v":0},{"$f":"'Result Entry'!CL86","v":0},{"$f":"'Result Entry'!CM86","v":0},{"$f":"'Result Entry'!CN86","v":0},{"$f":"'Result Entry'!CO86","v":""},{"$f":"'Result Entry'!CP86","v":0},{"$f":"'Result Entry'!CQ86","v":0},{"$f":"'Result Entry'!CR86","v":0},{"$f":"'Result Entry'!CS86","v":0},{"$f":"'Result Entry'!CT86","v":0},{"$f":"'Result Entry'!CU86","v":0},{"$f":"'Result Entry'!CV86","v":0},{"$f":"'Result Entry'!CW86","v":""},{"$f":"'Result Entry'!CX86","v":0},{"$f":"'Result Entry'!CY86","v":0},{"$f":"'Result Entry'!CZ86","v":0},{"$f":"'Result Entry'!DA86","v":0},{"$f":"'Result Entry'!DB86","v":0},{"$f":"'Result Entry'!DC86","v":0},{"$f":"'Result Entry'!DD86","v":0},{"$f":"'Result Entry'!DE86","v":""},{"$f":"'Result Entry'!DF86","v":0},{"$f":"'Result Entry'!DG86","v":0},{"$f":"'Result Entry'!DH86","v":0},{"$f":"'Result Entry'!DI86","v":0},{"$f":"'Result Entry'!DJ86","v":0},{"$f":"'Result Entry'!DK86","v":0},{"$f":"'Result Entry'!DL86","v":""},{"$f":"'Result Entry'!DM86","v":""},{"$f":"'Result Entry'!DN86","v":0},{"$f":"'Result Entry'!DO86","v":0},{"$f":"'Result Entry'!DP86","v":""},{"$f":"'Result Entry'!DQ86","v":900},{"$f":"'Result Entry'!DR86","v":0},{"$f":"'Result Entry'!DS86","v":{"v":0,"d":"0.00"}},{"$f":"'Result Entry'!DT86","v":""},{"$f":"'Result Entry'!DU86","v":""},{"$f":"'Result Entry'!DV86","v":""},{"$f":"'Result Entry'!DW86","v":""}]
[null,0,{"$f":"'Result Entry'!D87","v":0},{"$f":"'Result Entry'!E87","v":0},{"$f":"'Result Entry'!F87","v":0},{"$f":"'Result Entry'!G87","v":0},{"$f":"'Result Entry'!H87","v":0},{"$f":"'Result Entry'!I87","v":0},{"$f":"'Result Entry'!J87","v":"00:00:00"},{"$f":"'Result Entry'!K87","v":0},{"$f":"'Result Entry'!L87","v":0},{"$f":"'Result Entry'!M87","v":0},{"$f":"'Result Entry'!N87","v":0},{"$f":"'Result Entry'!O87","v":0},{"$f":"'Result Entry'!P87","v":0},{"$f":"'Result Entry'!Q87","v":0},{"$f":"'Result Entry'!R87","v":0},{"$f":"'Result Entry'!S87","v":0},{"$f":"'Result Entry'!T87","v":0},{"$f":"'Result Entry'!U87","v":0},{"$f":"'Result Entry'!V87","v":0},{"$f":"'Result Entry'!W87","v":0},{"$f":"'Result Entry'!X87","v":0},{"$f":"'Result Entry'!Y87","v":""},{"$f":"'Result Entry'!Z87","v":0},{"$f":"'Result Entry'!AA87","v":0},{"$f":"'Result Entry'!AB87","v":0},{"$f":"'Result Entry'!AC87","v":0},{"$f":"'Result Entry'!AD87","v":0},{"$f":"'Result Entry'!AE87","v":0},{"$f":"'Result Entry'!AF87","v":0},{"$f":"'Result Entry'!AG87","v":0},{"$f":"'Result Entry'!AH87","v":0},{"$f":"'Result Entry'!AI87","v":0},{"$f":"'Result Entry'!AJ87","v":0},{"$f":"'Result Entry'!AK87","v":0},{"$f":"'Result Entry'!AL87","v":0},{"$f":"'Result Entry'!AM87","v":0},{"$f":"'Result Entry'!AN87","v":""},{"$f":"'Result Entry'!AO87","v":0},{"$f":"'Result Entry'!AP87","v":0},{"$f":"'Result Entry'!AQ87","v":0},{"$f":"'Result Entry'!AR87","v":0},{"$f":"'Result Entry'!AS87","v":0},{"$f":"'Result Entry'!AT87","v":0},{"$f":"'Result Entry'!AU87","v":0},{"$f":"'Result Entry'!AV87","v":0},{"$f":"'Result Entry'!AW87","v":0},{"$f":"'Result Entry'!AX87","v":0},{"$f":"'Result Entry'!AY87","v":0},{"$f":"'Result Entry'!AZ87","v":0},{"$f":"'Result Entry'!BA87","v":0},{"$f":"'Result Entry'!BB87","v":0},{"$f":"'Result Entry'!BC87","v":""},{"$f":"'Result Entry'!BD87","v":0},{"$f":"'Result Entry'!BE87","v":0},{"$f":"'Result Entry'!BF87","v":0},{"$f":"'Result Entry'!BG87","v":0},{"$f":"'Result Entry'!BH87","v":0},{"$f":"'Result Entry'!BI87","v":0},{"$f":"'Result Entry'!BJ87","v":0},{"$f":"'Result Entry'!BK87","v":0},{"$f":"'Result Entry'!BL87","v":0},{"$f":"'Result Entry'!BM87","v":0},{"$f":"'Result Entry'!BN87","v":0},{"$f":"'Result Entry'!BO87","v":0},{"$f":"'Result Entry'!BP87","v":0},{"$f":"'Result Entry'!BQ87","v":0},{"$f":"'Result Entry'!BR87","v":""},{"$f":"'Result Entry'!BS87","v":0},{"$f":"'Result Entry'!BT87","v":0},{"$f":"'Result Entry'!BU87","v":0},{"$f":"'Result Entry'!BV87","v":0},{"$f":"'Result Entry'!BW87","v":0},{"$f":"'Result Entry'!BX87","v":0},{"$f":"'Result Entry'!BY87","v":0},{"$f":"'Result Entry'!BZ87","v":0},{"$f":"'Result Entry'!CA87","v":0},{"$f":"'Result Entry'!CB87","v":0},{"$f":"'Result Entry'!CC87","v":0},{"$f":"'Result Entry'!CD87","v":0},{"$f":"'Result Entry'!CE87","v":0},{"$f":"'Result Entry'!CF87","v":0},{"$f":"'Result Entry'!CG87","v":""},{"$f":"'Result Entry'!CH87","v":0},{"$f":"'Result Entry'!CI87","v":0},{"$f":"'Result Entry'!CJ87","v":0},{"$f":"'Result Entry'!CK87","v":0},{"$f":"'Result Entry'!CL87","v":0},{"$f":"'Result Entry'!CM87","v":0},{"$f":"'Result Entry'!CN87","v":0},{"$f":"'Result Entry'!CO87","v":""},{"$f":"'Result Entry'!CP87","v":0},{"$f":"'Result Entry'!CQ87","v":0},{"$f":"'Result Entry'!CR87","v":0},{"$f":"'Result Entry'!CS87","v":0},{"$f":"'Result Entry'!CT87","v":0},{"$f":"'Result Entry'!CU87","v":0},{"$f":"'Result Entry'!CV87","v":0},{"$f":"'Result Entry'!CW87","v":""},{"$f":"'Result Entry'!CX87","v":0},{"$f":"'Result Entry'!CY87","v":0},{"$f":"'Result Entry'!CZ87","v":0},{"$f":"'Result Entry'!DA87","v":0},{"$f":"'Result Entry'!DB87","v":0},{"$f":"'Result Entry'!DC87","v":0},{"$f":"'Result Entry'!DD87","v":0},{"$f":"'Result Entry'!DE87","v":""},{"$f":"'Result Entry'!DF87","v":0},{"$f":"'Result Entry'!DG87","v":0},{"$f":"'Result Entry'!DH87","v":0},{"$f":"'Result Entry'!DI87","v":0},{"$f":"'Result Entry'!DJ87","v":0},{"$f":"'Result Entry'!DK87","v":0},{"$f":"'Result Entry'!DL87","v":""},{"$f":"'Result Entry'!DM87","v":""},{"$f":"'Result Entry'!DN87","v":0},{"$f":"'Result Entry'!DO87","v":0},{"$f":"'Result Entry'!DP87","v":""},{"$f":"'Result Entry'!DQ87","v":900},{"$f":"'Result Entry'!DR87","v":0},{"$f":"'Result Entry'!DS87","v":{"v":0,"d":"0.00"}},{"$f":"'Result Entry'!DT87","v":""},{"$f":"'Result Entry'!DU87","v":""},{"$f":"'Result Entry'!DV87","v":""},{"$f":"'Result Entry'!DW87","v":""}]
[null,0,{"$f":"'Result Entry'!D88","v":0},{"$f":"'Result Entry'!E88","v":0},{"$f":"'Result Entry'!F88","v":0},{"$f":"'Result Entry'!G88","v":0},{"$f":"'Result Entry'!H88","v":0},{"$f":"'Result Entry'!I88","v":0},{"$f":"'Result Entry'!J88","v":"00:00:00"},{"$f":"'Result Entry'!K88","v":0},{"$f":"'Result Entry'!L88","v":0},{"$f":"'Result Entry'!M88","v":0},{"$f":"'Result Entry'!N88","v":0},{"$f":"'Result Entry'!O88","v":0},{"$f":"'Result Entry'!P88","v":0},{"$f":"'Result Entry'!Q88","v":0},{"$f":"'Result Entry'!R88","v":0},{"$f":"'Result Entry'!S88","v":0},{"$f":"'Result Entry'!T88","v":0},{"$f":"'Result Entry'!U88","v":0},{"$f":"'Result Entry'!V88","v":0},{"$f":"'Result Entry'!W88","v":0},{"$f":"'Result Entry'!X88","v":0},{"$f":"'Result Entry'!Y88","v":""},{"$f":"'Result Entry'!Z88","v":0},{"$f":"'Result Entry'!AA88","v":0},{"$f":"'Result Entry'!AB88","v":0},{"$f":"'Result Entry'!AC88","v":0},{"$f":"'Result Entry'!AD88","v":0},{"$f":"'Result Entry'!AE88","v":0},{"$f":"'Result Entry'!AF88","v":0},{"$f":"'Result Entry'!AG88","v":0},{"$f":"'Result Entry'!AH88","v":0},{"$f":"'Result Entry'!AI88","v":0},{"$f":"'Result Entry'!AJ88","v":0},{"$f":"'Result Entry'!AK88","v":0},{"$f":"'Result Entry'!AL88","v":0},{"$f":"'Result Entry'!AM88","v":0},{"$f":"'Result Entry'!AN88","v":""},{"$f":"'Result Entry'!AO88","v":0},{"$f":"'Result Entry'!AP88","v":0},{"$f":"'Result Entry'!AQ88","v":0},{"$f":"'Result Entry'!AR88","v":0},{"$f":"'Result Entry'!AS88","v":0},{"$f":"'Result Entry'!AT88","v":0},{"$f":"'Result Entry'!AU88","v":0},{"$f":"'Result Entry'!AV88","v":0},{"$f":"'Result Entry'!AW88","v":0},{"$f":"'Result Entry'!AX88","v":0},{"$f":"'Result Entry'!AY88","v":0},{"$f":"'Result Entry'!AZ88","v":0},{"$f":"'Result Entry'!BA88","v":0},{"$f":"'Result Entry'!BB88","v":0},{"$f":"'Result Entry'!BC88","v":""},{"$f":"'Result Entry'!BD88","v":0},{"$f":"'Result Entry'!BE88","v":0},{"$f":"'Result Entry'!BF88","v":0},{"$f":"'Result Entry'!BG88","v":0},{"$f":"'Result Entry'!BH88","v":0},{"$f":"'Result Entry'!BI88","v":0},{"$f":"'Result Entry'!BJ88","v":0},{"$f":"'Result Entry'!BK88","v":0},{"$f":"'Result Entry'!BL88","v":0},{"$f":"'Result Entry'!BM88","v":0},{"$f":"'Result Entry'!BN88","v":0},{"$f":"'Result Entry'!BO88","v":0},{"$f":"'Result Entry'!BP88","v":0},{"$f":"'Result Entry'!BQ88","v":0},{"$f":"'Result Entry'!BR88","v":""},{"$f":"'Result Entry'!BS88","v":0},{"$f":"'Result Entry'!BT88","v":0},{"$f":"'Result Entry'!BU88","v":0},{"$f":"'Result Entry'!BV88","v":0},{"$f":"'Result Entry'!BW88","v":0},{"$f":"'Result Entry'!BX88","v":0},{"$f":"'Result Entry'!BY88","v":0},{"$f":"'Result Entry'!BZ88","v":0},{"$f":"'Result Entry'!CA88","v":0},{"$f":"'Result Entry'!CB88","v":0},{"$f":"'Result Entry'!CC88","v":0},{"$f":"'Result Entry'!CD88","v":0},{"$f":"'Result Entry'!CE88","v":0},{"$f":"'Result Entry'!CF88","v":0},{"$f":"'Result Entry'!CG88","v":""},{"$f":"'Result Entry'!CH88","v":0},{"$f":"'Result Entry'!CI88","v":0},{"$f":"'Result Entry'!CJ88","v":0},{"$f":"'Result Entry'!CK88","v":0},{"$f":"'Result Entry'!CL88","v":0},{"$f":"'Result Entry'!CM88","v":0},{"$f":"'Result Entry'!CN88","v":0},{"$f":"'Result Entry'!CO88","v":""},{"$f":"'Result Entry'!CP88","v":0},{"$f":"'Result Entry'!CQ88","v":0},{"$f":"'Result Entry'!CR88","v":0},{"$f":"'Result Entry'!CS88","v":0},{"$f":"'Result Entry'!CT88","v":0},{"$f":"'Result Entry'!CU88","v":0},{"$f":"'Result Entry'!CV88","v":0},{"$f":"'Result Entry'!CW88","v":""},{"$f":"'Result Entry'!CX88","v":0},{"$f":"'Result Entry'!CY88","v":0},{"$f":"'Result Entry'!CZ88","v":0},{"$f":"'Result Entry'!DA88","v":0},{"$f":"'Result Entry'!DB88","v":0},{"$f":"'Result Entry'!DC88","v":0},{"$f":"'Result Entry'!DD88","v":0},{"$f":"'Result Entry'!DE88","v":""},{"$f":"'Result Entry'!DF88","v":0},{"$f":"'Result Entry'!DG88","v":0},{"$f":"'Result Entry'!DH88","v":0},{"$f":"'Result Entry'!DI88","v":0},{"$f":"'Result Entry'!DJ88","v":0},{"$f":"'Result Entry'!DK88","v":0},{"$f":"'Result Entry'!DL88","v":""},{"$f":"'Result Entry'!DM88","v":""},{"$f":"'Result Entry'!DN88","v":0},{"$f":"'Result Entry'!DO88","v":0},{"$f":"'Result Entry'!DP88","v":""},{"$f":"'Result Entry'!DQ88","v":900},{"$f":"'Result Entry'!DR88","v":0},{"$f":"'Result Entry'!DS88","v":{"v":0,"d":"0.00"}},{"$f":"'Result Entry'!DT88","v":""},{"$f":"'Result Entry'!DU88","v":""},{"$f":"'Result Entry'!DV88","v":""},{"$f":"'Result Entry'!DW88","v":""}]
[null,0,{"$f":"'Result Entry'!D89","v":0},{"$f":"'Result Entry'!E89","v":0},{"$f":"'Result Entry'!F89","v":0},{"$f":"'Result Entry'!G89","v":0},{"$f":"'Result Entry'!H89","v":0},{"$f":"'Result Entry'!I89","v":0},{"$f":"'Result Entry'!J89","v":"00:00:00"},{"$f":"'Result Entry'!K89","v":0},{"$f":"'Result Entry'!L89","v":0},{"$f":"'Result Entry'!M89","v":0},{"$f":"'Result Entry'!N89","v":0},{"$f":"'Result Entry'!O89","v":0},{"$f":"'Result Entry'!P89","v":0},{"$f":"'Result Entry'!Q89","v":0},{"$f":"'Result Entry'!R89","v":0},{"$f":"'Result Entry'!S89","v":0},{"$f":"'Result Entry'!T89","v":0},{"$f":"'Result Entry'!U89","v":0},{"$f":"'Result Entry'!V89","v":0},{"$f":"'Result Entry'!W89","v":0},{"$f":"'Result Entry'!X89","v":0},{"$f":"'Result Entry'!Y89","v":""},{"$f":"'Result Entry'!Z89","v":0},{"$f":"'Result Entry'!AA89","v":0},{"$f":"'Result Entry'!AB89","v":0},{"$f":"'Result Entry'!AC89","v":0},{"$f":"'Result Entry'!AD89","v":0},{"$f":"'Result Entry'!AE89","v":0},{"$f":"'Result Entry'!AF89","v":0},{"$f":"'Result Entry'!AG89","v":0},{"$f":"'Result Entry'!AH89","v":0},{"$f":"'Result Entry'!AI89","v":0},{"$f":"'Result Entry'!AJ89","v":0},{"$f":"'Result Entry'!AK89","v":0},{"$f":"'Result Entry'!AL89","v":0},{"$f":"'Result Entry'!AM89","v":0},{"$f":"'Result Entry'!AN89","v":""},{"$f":"'Result Entry'!AO89","v":0},{"$f":"'Result Entry'!AP89","v":0},{"$f":"'Result Entry'!AQ89","v":0},{"$f":"'Result Entry'!AR89","v":0},{"$f":"'Result Entry'!AS89","v":0},{"$f":"'Result Entry'!AT89","v":0},{"$f":"'Result Entry'!AU89","v":0},{"$f":"'Result Entry'!AV89","v":0},{"$f":"'Result Entry'!AW89","v":0},{"$f":"'Result Entry'!AX89","v":0},{"$f":"'Result Entry'!AY89","v":0},{"$f":"'Result Entry'!AZ89","v":0},{"$f":"'Result Entry'!BA89","v":0},{"$f":"'Result Entry'!BB89","v":0},{"$f":"'Result Entry'!BC89","v":""},{"$f":"'Result Entry'!BD89","v":0},{"$f":"'Result Entry'!BE89","v":0},{"$f":"'Result Entry'!BF89","v":0},{"$f":"'Result Entry'!BG89","v":0},{"$f":"'Result Entry'!BH89","v":0},{"$f":"'Result Entry'!BI89","v":0},{"$f":"'Result Entry'!BJ89","v":0},{"$f":"'Result Entry'!BK89","v":0},{"$f":"'Result Entry'!BL89","v":0},{"$f":"'Result Entry'!BM89","v":0},{"$f":"'Result Entry'!BN89","v":0},{"$f":"'Result Entry'!BO89","v":0},{"$f":"'Result Entry'!BP89","v":0},{"$f":"'Result Entry'!BQ89","v":0},{"$f":"'Result Entry'!BR89","v":""},{"$f":"'Result Entry'!BS89","v":0},{"$f":"'Result Entry'!BT89","v":0},{"$f":"'Result Entry'!BU89","v":0},{"$f":"'Result Entry'!BV89","v":0},{"$f":"'Result Entry'!BW89","v":0},{"$f":"'Result Entry'!BX89","v":0},{"$f":"'Result Entry'!BY89","v":0},{"$f":"'Result Entry'!BZ89","v":0},{"$f":"'Result Entry'!CA89","v":0},{"$f":"'Result Entry'!CB89","v":0},{"$f":"'Result Entry'!CC89","v":0},{"$f":"'Result Entry'!CD89","v":0},{"$f":"'Result Entry'!CE89","v":0},{"$f":"'Result Entry'!CF89","v":0},{"$f":"'Result Entry'!CG89","v":""},{"$f":"'Result Entry'!CH89","v":0},{"$f":"'Result Entry'!CI89","v":0},{"$f":"'Result Entry'!CJ89","v":0},{"$f":"'Result Entry'!CK89","v":0},{"$f":"'Result Entry'!CL89","v":0},{"$f":"'Result Entry'!CM89","v":0},{"$f":"'Result Entry'!CN89","v":0},{"$f":"'Result Entry'!CO89","v":""},{"$f":"'Result Entry'!CP89","v":0},{"$f":"'Result Entry'!CQ89","v":0},{"$f":"'Result Entry'!CR89","v":0},{"$f":"'Result Entry'!CS89","v":0},{"$f":"'Result Entry'!CT89","v":0},{"$f":"'Result Entry'!CU89","v":0},{"$f":"'Result Entry'!CV89","v":0},{"$f":"'Result Entry'!CW89","v":""},{"$f":"'Result Entry'!CX89","v":0},{"$f":"'Result Entry'!CY89","v":0},{"$f":"'Result Entry'!CZ89","v":0},{"$f":"'Result Entry'!DA89","v":0},{"$f":"'Result Entry'!DB89","v":0},{"$f":"'Result Entry'!DC89","v":0},{"$f":"'Result Entry'!DD89","v":0},{"$f":"'Result Entry'!DE89","v":""},{"$f":"'Result Entry'!DF89","v":0},{"$f":"'Result Entry'!DG89","v":0},{"$f":"'Result Entry'!DH89","v":0},{"$f":"'Result Entry'!DI89","v":0},{"$f":"'Result Entry'!DJ89","v":0},{"$f":"'Result Entry'!DK89","v":0},{"$f":"'Result Entry'!DL89","v":""},{"$f":"'Result Entry'!DM89","v":""},{"$f":"'Result Entry'!DN89","v":0},{"$f":"'Result Entry'!DO89","v":0},{"$f":"'Result Entry'!DP89","v":""},{"$f":"'Result Entry'!DQ89","v":900},{"$f":"'Result Entry'!DR89","v":0},{"$f":"'Result Entry'!DS89","v":{"v":0,"d":"0.00"}},{"$f":"'Result Entry'!DT89","v":""},{"$f":"'Result Entry'!DU89","v":""},{"$f":"'Result Entry'!DV89","v":""},{"$f":"'Result Entry'!DW89","v":""}]
[null,0,{"$f":"'Result Entry'!D90","v":0},{"$f":"'Result Entry'!E90","v":0},{"$f":"'Result Entry'!F90","v":0},{"$f":"'Result Entry'!G90","v":0},{"$f":"'Result Entry'!H90","v":0},{"$f":"'Result Entry'!I90","v":0},{"$f":"'Result Entry'!J90","v":"00:00:00"},{"$f":"'Result Entry'!K90","v":0},{"$f":"'Result Entry'!L90","v":0},{"$f":"'Result Entry'!M90","v":0},{"$f":"'Result Entry'!N90","v":0},{"$f":"'Result Entry'!O90","v":0},{"$f":"'Result Entry'!P90","v":0},{"$f":"'Result Entry'!Q90","v":0},{"$f":"'Result Entry'!R90","v":0},{"$f":"'Result Entry'!S90","v":0},{"$f":"'Result Entry'!T90","v":0},{"$f":"'Result Entry'!U90","v":0},{"$f":"'Result Entry'!V90","v":0},{"$f":"'Result Entry'!W90","v":0},{"$f":"'Result Entry'!X90","v":0},{"$f":"'Result Entry'!Y90","v":""},{"$f":"'Result Entry'!Z90","v":0},{"$f":"'Result Entry'!AA90","v":0},{"$f":"'Result Entry'!AB90","v":0},{"$f":"'Result Entry'!AC90","v":0},{"$f":"'Result Entry'!AD90","v":0},{"$f":"'Result Entry'!AE90","v":0},{"$f":"'Result Entry'!AF90","v":0},{"$f":"'Result Entry'!AG90","v":0},{"$f":"'Result Entry'!AH90","v":0},{"$f":"'Result Entry'!AI90","v":0},{"$f":"'Result Entry'!AJ90","v":0},{"$f":"'Result Entry'!AK90","v":0},{"$f":"'Result Entry'!AL90","v":0},{"$f":"'Result Entry'!AM90","v":0},{"$f":"'Result Entry'!AN90","v":""},{"$f":"'Result Entry'!AO90","v":0},{"$f":"'Result Entry'!AP90","v":0},{"$f":"'Result Entry'!AQ90","v":0},{"$f":"'Result Entry'!AR90","v":0},{"$f":"'Result Entry'!AS90","v":0},{"$f":"'Result Entry'!AT90","v":0},{"$f":"'Result Entry'!AU90","v":0},{"$f":"'Result Entry'!AV90","v":0},{"$f":"'Result Entry'!AW90","v":0},{"$f":"'Result Entry'!AX90","v":0},{"$f":"'Result Entry'!AY90","v":0},{"$f":"'Result Entry'!AZ90","v":0},{"$f":"'Result Entry'!BA90","v":0},{"$f":"'Result Entry'!BB90","v":0},{"$f":"'Result Entry'!BC90","v":""},{"$f":"'Result Entry'!BD90","v":0},{"$f":"'Result Entry'!BE90","v":0},{"$f":"'Result Entry'!BF90","v":0},{"$f":"'Result Entry'!BG90","v":0},{"$f":"'Result Entry'!BH90","v":0},{"$f":"'Result Entry'!BI90","v":0},{"$f":"'Result Entry'!BJ90","v":0},{"$f":"'Result Entry'!BK90","v":0},{"$f":"'Result Entry'!BL90","v":0},{"$f":"'Result Entry'!BM90","v":0},{"$f":"'Result Entry'!BN90","v":0},{"$f":"'Result Entry'!BO90","v":0},{"$f":"'Result Entry'!BP90","v":0},{"$f":"'Result Entry'!BQ90","v":0},{"$f":"'Result Entry'!BR90","v":""},{"$f":"'Result Entry'!BS90","v":0},{"$f":"'Result Entry'!BT90","v":0},{"$f":"'Result Entry'!BU90","v":0},{"$f":"'Result Entry'!BV90","v":0},{"$f":"'Result Entry'!BW90","v":0},{"$f":"'Result Entry'!BX90","v":0},{"$f":"'Result Entry'!BY90","v":0},{"$f":"'Result Entry'!BZ90","v":0},{"$f":"'Result Entry'!CA90","v":0},{"$f":"'Result Entry'!CB90","v":0},{"$f":"'Result Entry'!CC90","v":0},{"$f":"'Result Entry'!CD90","v":0},{"$f":"'Result Entry'!CE90","v":0},{"$f":"'Result Entry'!CF90","v":0},{"$f":"'Result Entry'!CG90","v":""},{"$f":"'Result Entry'!CH90","v":0},{"$f":"'Result Entry'!CI90","v":0},{"$f":"'Result Entry'!CJ90","v":0},{"$f":"'Result Entry'!CK90","v":0},{"$f":"'Result Entry'!CL90","v":0},{"$f":"'Result Entry'!CM90","v":0},{"$f":"'Result Entry'!CN90","v":0},{"$f":"'Result Entry'!CO90","v":""},{"$f":"'Result Entry'!CP90","v":0},{"$f":"'Result Entry'!CQ90","v":0},{"$f":"'Result Entry'!CR90","v":0},{"$f":"'Result Entry'!CS90","v":0},{"$f":"'Result Entry'!CT90","v":0},{"$f":"'Result Entry'!CU90","v":0},{"$f":"'Result Entry'!CV90","v":0},{"$f":"'Result Entry'!CW90","v":""},{"$f":"'Result Entry'!CX90","v":0},{"$f":"'Result Entry'!CY90","v":0},{"$f":"'Result Entry'!CZ90","v":0},{"$f":"'Result Entry'!DA90","v":0},{"$f":"'Result Entry'!DB90","v":0},{"$f":"'Result Entry'!DC90","v":0},{"$f":"'Result Entry'!DD90","v":0},{"$f":"'Result Entry'!DE90","v":""},{"$f":"'Result Entry'!DF90","v":0},{"$f":"'Result Entry'!DG90","v":0},{"$f":"'Result Entry'!DH90","v":0},{"$f":"'Result Entry'!DI90","v":0},{"$f":"'Result Entry'!DJ90","v":0},{"$f":"'Result Entry'!DK90","v":0},{"$f":"'Result Entry'!DL90","v":""},{"$f":"'Result Entry'!DM90","v":""},{"$f":"'Result Entry'!DN90","v":0},{"$f":"'Result Entry'!DO90","v":0},{"$f":"'Result Entry'!DP90","v":""},{"$f":"'Result Entry'!DQ90","v":900},{"$f":"'Result Entry'!DR90","v":0},{"$f":"'Result Entry'!DS90","v":{"v":0,"d":"0.00"}},{"$f":"'Result Entry'!DT90","v":""},{"$f":"'Result Entry'!DU90","v":""},{"$f":"'Result Entry'!DV90","v":""},{"$f":"'Result Entry'!DW90","v":""}]
[null,0,{"$f":"'Result Entry'!D91","v":0},{"$f":"'Result Entry'!E91","v":0},{"$f":"'Result Entry'!F91","v":0},{"$f":"'Result Entry'!G91","v":0},{"$f":"'Result Entry'!H91","v":0},{"$f":"'Result Entry'!I91","v":0},{"$f":"'Result Entry'!J91","v":"00:00:00"},{"$f":"'Result Entry'!K91","v":0},{"$f":"'Result Entry'!L91","v":0},{"$f":"'Result Entry'!M91","v":0},{"$f":"'Result Entry'!N91","v":0},{"$f":"'Result Entry'!O91","v":0},{"$f":"'Result Entry'!P91","v":0},{"$f":"'Result Entry'!Q91","v":0},{"$f":"'Result Entry'!R91","v":0},{"$f":"'Result Entry'!S91","v":0},{"$f":"'Result Entry'!T91","v":0},{"$f":"'Result Entry'!U91","v":0},{"$f":"'Result Entry'!V91","v":0},{"$f":"'Result Entry'!W91","v":0},{"$f":"'Result Entry'!X91","v":0},{"$f":"'Result Entry'!Y91","v":""},{"$f":"'Result Entry'!Z91","v":0},{"$f":"'Result Entry'!AA91","v":0},{"$f":"'Result Entry'!AB91","v":0},{"$f":"'Result Entry'!AC91","v":0},{"$f":"'Result Entry'!AD91","v":0},{"$f":"'Result Entry'!AE91","v":0},{"$f":"'Result Entry'!AF91","v":0},{"$f":"'Result Entry'!AG91","v":0},{"$f":"'Result Entry'!AH91","v":0},{"$f":"'Result Entry'!AI91","v":0},{"$f":"'Result Entry'!AJ91","v":0},{"$f":"'Result Entry'!AK91","v":0},{"$f":"'Result Entry'!AL91","v":0},{"$f":"'Result Entry'!AM91","v":0},{"$f":"'Result Entry'!AN91","v":""},{"$f":"'Result Entry'!AO91","v":0},{"$f":"'Result Entry'!AP91","v":0},{"$f":"'Result Entry'!AQ91","v":0},{"$f":"'Result Entry'!AR91","v":0},{"$f":"'Result Entry'!AS91","v":0},{"$f":"'Result Entry'!AT91","v":0},{"$f":"'Result Entry'!AU91","v":0},{"$f":"'Result Entry'!AV91","v":0},{"$f":"'Result Entry'!AW91","v":0},{"$f":"'Result Entry'!AX91","v":0},{"$f":"'Result Entry'!AY91","v":0},{"$f":"'Result Entry'!AZ91","v":0},{"$f":"'Result Entry'!BA91","v":0},{"$f":"'Result Entry'!BB91","v":0},{"$f":"'Result Entry'!BC91","v":""},{"$f":"'Result Entry'!BD91","v":0},{"$f":"'Result Entry'!BE91","v":0},{"$f":"'Result Entry'!BF91","v":0},{"$f":"'Result Entry'!BG91","v":0},{"$f":"'Result Entry'!BH91","v":0},{"$f":"'Result Entry'!BI91","v":0},{"$f":"'Result Entry'!BJ91","v":0},{"$f":"'Result Entry'!BK91","v":0},{"$f":"'Result Entry'!BL91","v":0},{"$f":"'Result Entry'!BM91","v":0},{"$f":"'Result Entry'!BN91","v":0},{"$f":"'Result Entry'!BO91","v":0},{"$f":"'Result Entry'!BP91","v":0},{"$f":"'Result Entry'!BQ91","v":0},{"$f":"'Result Entry'!BR91","v":""},{"$f":"'Result Entry'!BS91","v":0},{"$f":"'Result Entry'!BT91","v":0},{"$f":"'Result Entry'!BU91","v":0},{"$f":"'Result Entry'!BV91","v":0},{"$f":"'Result Entry'!BW91","v":0},{"$f":"'Result Entry'!BX91","v":0},{"$f":"'Result Entry'!BY91","v":0},{"$f":"'Result Entry'!BZ91","v":0},{"$f":"'Result Entry'!CA91","v":0},{"$f":"'Result Entry'!CB91","v":0},{"$f":"'Result Entry'!CC91","v":0},{"$f":"'Result Entry'!CD91","v":0},{"$f":"'Result Entry'!CE91","v":0},{"$f":"'Result Entry'!CF91","v":0},{"$f":"'Result Entry'!CG91","v":""},{"$f":"'Result Entry'!CH91","v":0},{"$f":"'Result Entry'!CI91","v":0},{"$f":"'Result Entry'!CJ91","v":0},{"$f":"'Result Entry'!CK91","v":0},{"$f":"'Result Entry'!CL91","v":0},{"$f":"'Result Entry'!CM91","v":0},{"$f":"'Result Entry'!CN91","v":0},{"$f":"'Result Entry'!CO91","v":""},{"$f":"'Result Entry'!CP91","v":0},{"$f":"'Result Entry'!CQ91","v":0},{"$f":"'Result Entry'!CR91","v":0},{"$f":"'Result Entry'!CS91","v":0},{"$f":"'Result Entry'!CT91","v":0},{"$f":"'Result Entry'!CU91","v":0},{"$f":"'Result Entry'!CV91","v":0},{"$f":"'Result Entry'!CW91","v":""},{"$f":"'Result Entry'!CX91","v":0},{"$f":"'Result Entry'!CY91","v":0},{"$f":"'Result Entry'!CZ91","v":0},{"$f":"'Result Entry'!DA91","v":0},{"$f":"'Result Entry'!DB91","v":0},{"$f":"'Result Entry'!DC91","v":0},{"$f":"'Result Entry'!DD91","v":0},{"$f":"'Result Entry'!DE91","v":""},{"$f":"'Result Entry'!DF91","v":0},{"$f":"'Result Entry'!DG91","v":0},{"$f":"'Result Entry'!DH91","v":0},{"$f":"'Result Entry'!DI91","v":0},{"$f":"'Result Entry'!DJ91","v":0},{"$f":"'Result Entry'!DK91","v":0},{"$f":"'Result Entry'!DL91","v":""},{"$f":"'Result Entry'!DM91","v":""},{"$f":"'Result Entry'!DN91","v":0},{"$f":"'Result Entry'!DO91","v":0},{"$f":"'Result Entry'!DP91","v":""},{"$f":"'Result Entry'!DQ91","v":900},{"$f":"'Result Entry'!DR91","v":0},{"$f":"'Result Entry'!DS91","v":{"v":0,"d":"0.00"}},{"$f":"'Result Entry'!DT91","v":""},{"$f":"'Result Entry'!DU91","v":""},{"$f":"'Result Entry'!DV91","v":""},{"$f":"'Result Entry'!DW91","v":""}]
[null,0,{"$f":"'Result Entry'!D92","v":0},{"$f":"'Result Entry'!E92","v":0},{"$f":"'Result Entry'!F92","v":0},{"$f":"'Result Entry'!G92","v":0},{"$f":"'Result Entry'!H92","v":0},{"$f":"'Result Entry'!I92","v":0},{"$f":"'Result Entry'!J92","v":"00:00:00"},{"$f":"'Result Entry'!K92","v":0},{"$f":"'Result Entry'!L92","v":0},{"$f":"'Result Entry'!M92","v":0},{"$f":"'Result Entry'!N92","v":0},{"$f":"'Result Entry'!O92","v":0},{"$f":"'Result Entry'!P92","v":0},{"$f":"'Result Entry'!Q92","v":0},{"$f":"'Result Entry'!R92","v":0},{"$f":"'Result Entry'!S92","v":0},{"$f":"'Result Entry'!T92","v":0},{"$f":"'Result Entry'!U92","v":0},{"$f":"'Result Entry'!V92","v":0},{"$f":"'Result Entry'!W92","v":0},{"$f":"'Result Entry'!X92","v":0},{"$f":"'Result Entry'!Y92","v":""},{"$f":"'Result Entry'!Z92","v":0},{"$f":"'Result Entry'!AA92","v":0},{"$f":"'Result Entry'!AB92","v":0},{"$f":"'Result Entry'!AC92","v":0},{"$f":"'Result Entry'!AD92","v":0},{"$f":"'Result Entry'!AE92","v":0},{"$f":"'Result Entry'!AF92","v":0},{"$f":"'Result Entry'!AG92","v":0},{"$f":"'Result Entry'!AH92","v":0},{"$f":"'Result Entry'!AI92","v":0},{"$f":"'Result Entry'!AJ92","v":0},{"$f":"'Result Entry'!AK92","v":0},{"$f":"'Result Entry'!AL92","v":0},{"$f":"'Result Entry'!AM92","v":0},{"$f":"'Result Entry'!AN92","v":""},{"$f":"'Result Entry'!AO92","v":0},{"$f":"'Result Entry'!AP92","v":0},{"$f":"'Result Entry'!AQ92","v":0},{"$f":"'Result Entry'!AR92","v":0},{"$f":"'Result Entry'!AS92","v":0},{"$f":"'Result Entry'!AT92","v":0},{"$f":"'Result Entry'!AU92","v":0},{"$f":"'Result Entry'!AV92","v":0},{"$f":"'Result Entry'!AW92","v":0},{"$f":"'Result Entry'!AX92","v":0},{"$f":"'Result Entry'!AY92","v":0},{"$f":"'Result Entry'!AZ92","v":0},{"$f":"'Result Entry'!BA92","v":0},{"$f":"'Result Entry'!BB92","v":0},{"$f":"'Result Entry'!BC92","v":""},{"$f":"'Result Entry'!BD92","v":0},{"$f":"'Result Entry'!BE92","v":0},{"$f":"'Result Entry'!BF92","v":0},{"$f":"'Result Entry'!BG92","v":0},{"$f":"'Result Entry'!BH92","v":0},{"$f":"'Result Entry'!BI92","v":0},{"$f":"'Result Entry'!BJ92","v":0},{"$f":"'Result Entry'!BK92","v":0},{"$f":"'Result Entry'!BL92","v":0},{"$f":"'Result Entry'!BM92","v":0},{"$f":"'Result Entry'!BN92","v":0},{"$f":"'Result Entry'!BO92","v":0},{"$f":"'Result Entry'!BP92","v":0},{"$f":"'Result Entry'!BQ92","v":0},{"$f":"'Result Entry'!BR92","v":""},{"$f":"'Result Entry'!BS92","v":0},{"$f":"'Result Entry'!BT92","v":0},{"$f":"'Result Entry'!BU92","v":0},{"$f":"'Result Entry'!BV92","v":0},{"$f":"'Result Entry'!BW92","v":0},{"$f":"'Result Entry'!BX92","v":0},{"$f":"'Result Entry'!BY92","v":0},{"$f":"'Result Entry'!BZ92","v":0},{"$f":"'Result Entry'!CA92","v":0},{"$f":"'Result Entry'!CB92","v":0},{"$f":"'Result Entry'!CC92","v":0},{"$f":"'Result Entry'!CD92","v":0},{"$f":"'Result Entry'!CE92","v":0},{"$f":"'Result Entry'!CF92","v":0},{"$f":"'Result Entry'!CG92","v":""},{"$f":"'Result Entry'!CH92","v":0},{"$f":"'Result Entry'!CI92","v":0},{"$f":"'Result Entry'!CJ92","v":0},{"$f":"'Result Entry'!CK92","v":0},{"$f":"'Result Entry'!CL92","v":0},{"$f":"'Result Entry'!CM92","v":0},{"$f":"'Result Entry'!CN92","v":0},{"$f":"'Result Entry'!CO92","v":""},{"$f":"'Result Entry'!CP92","v":0},{"$f":"'Result Entry'!CQ92","v":0},{"$f":"'Result Entry'!CR92","v":0},{"$f":"'Result Entry'!CS92","v":0},{"$f":"'Result Entry'!CT92","v":0},{"$f":"'Result Entry'!CU92","v":0},{"$f":"'Result Entry'!CV92","v":0},{"$f":"'Result Entry'!CW92","v":""},{"$f":"'Result Entry'!CX92","v":0},{"$f":"'Result Entry'!CY92","v":0},{"$f":"'Result Entry'!CZ92","v":0},{"$f":"'Result Entry'!DA92","v":0},{"$f":"'Result Entry'!DB92","v":0},{"$f":"'Result Entry'!DC92","v":0},{"$f":"'Result Entry'!DD92","v":0},{"$f":"'Result Entry'!DE92","v":""},{"$f":"'Result Entry'!DF92","v":0},{"$f":"'Result Entry'!DG92","v":0},{"$f":"'Result Entry'!DH92","v":0},{"$f":"'Result Entry'!DI92","v":0},{"$f":"'Result Entry'!DJ92","v":0},{"$f":"'Result Entry'!DK92","v":0},{"$f":"'Result Entry'!DL92","v":""},{"$f":"'Result Entry'!DM92","v":""},{"$f":"'Result Entry'!DN92","v":0},{"$f":"'Result Entry'!DO92","v":0},{"$f":"'Result Entry'!DP92","v":""},{"$f":"'Result Entry'!DQ92","v":900},{"$f":"'Result Entry'!DR92","v":0},{"$f":"'Result Entry'!DS92","v":{"v":0,"d":"0.00"}},{"$f":"'Result Entry'!DT92","v":""},{"$f":"'Result Entry'!DU92","v":""},{"$f":"'Result Entry'!DV92","v":""},{"$f":"'Result Entry'!DW92","v":""}]
[null,0,{"$f":"'Result Entry'!D93","v":0},{"$f":"'Result Entry'!E93","v":0},{"$f":"'Result Entry'!F93","v":0},{"$f":"'Result Entry'!G93","v":0},{"$f":"'Result Entry'!H93","v":0},{"$f":"'Result Entry'!I93","v":0},{"$f":"'Result Entry'!J93","v":"00:00:00"},{"$f":"'Result Entry'!K93","v":0},{"$f":"'Result Entry'!L93","v":0},{"$f":"'Result Entry'!M93","v":0},{"$f":"'Result Entry'!N93","v":0},{"$f":"'Result Entry'!O93","v":0},{"$f":"'Result Entry'!P93","v":0},{"$f":"'Result Entry'!Q93","v":0},{"$f":"'Result Entry'!R93","v":0},{"$f":"'Result Entry'!S93","v":0},{"$f":"'Result Entry'!T93","v":0},{"$f":"'Result Entry'!U93","v":0},{"$f":"'Result Entry'!V93","v":0},{"$f":"'Result Entry'!W93","v":0},{"$f":"'Result Entry'!X93","v":0},{"$f":"'Result Entry'!Y93","v":""},{"$f":"'Result Entry'!Z93","v":0},{"$f":"'Result Entry'!AA93","v":0},{"$f":"'Result Entry'!AB93","v":0},{"$f":"'Result Entry'!AC93","v":0},{"$f":"'Result Entry'!AD93","v":0},{"$f":"'Result Entry'!AE93","v":0},{"$f":"'Result Entry'!AF93","v":0},{"$f":"'Result Entry'!AG93","v":0},{"$f":"'Result Entry'!AH93","v":0},{"$f":"'Result Entry'!AI93","v":0},{"$f":"'Result Entry'!AJ93","v":0},{"$f":"'Result Entry'!AK93","v":0},{"$f":"'Result Entry'!AL93","v":0},{"$f":"'Result Entry'!AM93","v":0},{"$f":"'Result Entry'!AN93","v":""},{"$f":"'Result Entry'!AO93","v":0},{"$f":"'Result Entry'!AP93","v":0},{"$f":"'Result Entry'!AQ93","v":0},{"$f":"'Result Entry'!AR93","v":0},{"$f":"'Result Entry'!AS93","v":0},{"$f":"'Result Entry'!AT93","v":0},{"$f":"'Result Entry'!AU93","v":0},{"$f":"'Result Entry'!AV93","v":0},{"$f":"'Result Entry'!AW93","v":0},{"$f":"'Result Entry'!AX93","v":0},{"$f":"'Result Entry'!AY93","v":0},{"$f":"'Result Entry'!AZ93","v":0},{"$f":"'Result Entry'!BA93","v":0},{"$f":"'Result Entry'!BB93","v":0},{"$f":"'Result Entry'!BC93","v":""},{"$f":"'Result Entry'!BD93","v":0},{"$f":"'Result Entry'!BE93","v":0},{"$f":"'Result Entry'!BF93","v":0},{"$f":"'Result Entry'!BG93","v":0},{"$f":"'Result Entry'!BH93","v":0},{"$f":"'Result Entry'!BI93","v":0},{"$f":"'Result Entry'!BJ93","v":0},{"$f":"'Result Entry'!BK93","v":0},{"$f":"'Result Entry'!BL93","v":0},{"$f":"'Result Entry'!BM93","v":0},{"$f":"'Result Entry'!BN93","v":0},{"$f":"'Result Entry'!BO93","v":0},{"$f":"'Result Entry'!BP93","v":0},{"$f":"'Result Entry'!BQ93","v":0},{"$f":"'Result Entry'!BR93","v":""},{"$f":"'Result Entry'!BS93","v":0},{"$f":"'Result Entry'!BT93","v":0},{"$f":"'Result Entry'!BU93","v":0},{"$f":"'Result Entry'!BV93","v":0},{"$f":"'Result Entry'!BW93","v":0},{"$f":"'Result Entry'!BX93","v":0},{"$f":"'Result Entry'!BY93","v":0},{"$f":"'Result Entry'!BZ93","v":0},{"$f":"'Result Entry'!CA93","v":0},{"$f":"'Result Entry'!CB93","v":0},{"$f":"'Result Entry'!CC93","v":0},{"$f":"'Result Entry'!CD93","v":0},{"$f":"'Result Entry'!CE93","v":0},{"$f":"'Result Entry'!CF93","v":0},{"$f":"'Result Entry'!CG93","v":""},{"$f":"'Result Entry'!CH93","v":0},{"$f":"'Result Entry'!CI93","v":0},{"$f":"'Result Entry'!CJ93","v":0},{"$f":"'Result Entry'!CK93","v":0},{"$f":"'Result Entry'!CL93","v":0},{"$f":"'Result Entry'!CM93","v":0},{"$f":"'Result Entry'!CN93","v":0},{"$f":"'Result Entry'!CO93","v":""},{"$f":"'Result Entry'!CP93","v":0},{"$f":"'Result Entry'!CQ93","v":0},{"$f":"'Result Entry'!CR93","v":0},{"$f":"'Result Entry'!CS93","v":0},{"$f":"'Result Entry'!CT93","v":0},{"$f":"'Result Entry'!CU93","v":0},{"$f":"'Result Entry'!CV93","v":0},{"$f":"'Result Entry'!CW93","v":""},{"$f":"'Result Entry'!CX93","v":0},{"$f":"'Result Entry'!CY93","v":0},{"$f":"'Result Entry'!CZ93","v":0},{"$f":"'Result Entry'!DA93","v":0},{"$f":"'Result Entry'!DB93","v":0},{"$f":"'Result Entry'!DC93","v":0},{"$f":"'Result Entry'!DD93","v":0},{"$f":"'Result Entry'!DE93","v":""},{"$f":"'Result Entry'!DF93","v":0},{"$f":"'Result Entry'!DG93","v":0},{"$f":"'Result Entry'!DH93","v":0},{"$f":"'Result Entry'!DI93","v":0},{"$f":"'Result Entry'!DJ93","v":0},{"$f":"'Result Entry'!DK93","v":0},{"$f":"'Result Entry'!DL93","v":""},{"$f":"'Result Entry'!DM93","v":""},{"$f":"'Result Entry'!DN93","v":0},{"$f":"'Result Entry'!DO93","v":0},{"$f":"'Result Entry'!DP93","v":""},{"$f":"'Result Entry'!DQ93","v":900},{"$f":"'Result Entry'!DR93","v":0},{"$f":"'Result Entry'!DS93","v":{"v":0,"d":"0.00"}},{"$f":"'Result Entry'!DT93","v":""},{"$f":"'Result Entry'!DU93","v":""},{"$f":"'Result Entry'!DV93","v":""},{"$f":"'Result Entry'!DW93","v":""}]
[null,0,{"$f":"'Result Entry'!D94","v":0},{"$f":"'Result Entry'!E94","v":0},{"$f":"'Result Entry'!F94","v":0},{"$f":"'Result Entry'!G94","v":0},{"$f":"'Result Entry'!H94","v":0},{"$f":"'Result Entry'!I94","v":0},{"$f":"'Result Entry'!J94","v":"00:00:00"},{"$f":"'Result Entry'!K94","v":0},{"$f":"'Result Entry'!L94","v":0},{"$f":"'Result Entry'!M94","v":0},{"$f":"'Result Entry'!N94","v":0},{"$f":"'Result Entry'!O94","v":0},{"$f":"'Result Entry'!P94","v":0},{"$f":"'Result Entry'!Q94","v":0},{"$f":"'Result Entry'!R94","v":0},{"$f":"'Result Entry'!S94","v":0},{"$f":"'Result Entry'!T94","v":0},{"$f":"'Result Entry'!U94","v":0},{"$f":"'Result Entry'!V94","v":0},{"$f":"'Result Entry'!W94","v":0},{"$f":"'Result Entry'!X94","v":0},{"$f":"'Result Entry'!Y94","v":""},{"$f":"'Result Entry'!Z94","v":0},{"$f":"'Result Entry'!AA94","v":0},{"$f":"'Result Entry'!AB94","v":0},{"$f":"'Result Entry'!AC94","v":0},{"$f":"'Result Entry'!AD94","v":0},{"$f":"'Result Entry'!AE94","v":0},{"$f":"'Result Entry'!AF94","v":0},{"$f":"'Result Entry'!AG94","v":0},{"$f":"'Result Entry'!AH94","v":0},{"$f":"'Result Entry'!AI94","v":0},{"$f":"'Result Entry'!AJ94","v":0},{"$f":"'Result Entry'!AK94","v":0},{"$f":"'Result Entry'!AL94","v":0},{"$f":"'Result Entry'!AM94","v":0},{"$f":"'Result Entry'!AN94","v":""},{"$f":"'Result Entry'!AO94","v":0},{"$f":"'Result Entry'!AP94","v":0},{"$f":"'Result Entry'!AQ94","v":0},{"$f":"'Result Entry'!AR94","v":0},{"$f":"'Result Entry'!AS94","v":0},{"$f":"'Result Entry'!AT94","v":0},{"$f":"'Result Entry'!AU94","v":0},{"$f":"'Result Entry'!AV94","v":0},{"$f":"'Result Entry'!AW94","v":0},{"$f":"'Result Entry'!AX94","v":0},{"$f":"'Result Entry'!AY94","v":0},{"$f":"'Result Entry'!AZ94","v":0},{"$f":"'Result Entry'!BA94","v":0},{"$f":"'Result Entry'!BB94","v":0},{"$f":"'Result Entry'!BC94","v":""},{"$f":"'Result Entry'!BD94","v":0},{"$f":"'Result Entry'!BE94","v":0},{"$f":"'Result Entry'!BF94","v":0},{"$f":"'Result Entry'!BG94","v":0},{"$f":"'Result Entry'!BH94","v":0},{"$f":"'Result Entry'!BI94","v":0},{"$f":"'Result Entry'!BJ94","v":0},{"$f":"'Result Entry'!BK94","v":0},{"$f":"'Result Entry'!BL94","v":0},{"$f":"'Result Entry'!BM94","v":0},{"$f":"'Result Entry'!BN94","v":0},{"$f":"'Result Entry'!BO94","v":0},{"$f":"'Result Entry'!BP94","v":0},{"$f":"'Result Entry'!BQ94","v":0},{"$f":"'Result Entry'!BR94","v":""},{"$f":"'Result Entry'!BS94","v":0},{"$f":"'Result Entry'!BT94","v":0},{"$f":"'Result Entry'!BU94","v":0},{"$f":"'Result Entry'!BV94","v":0},{"$f":"'Result Entry'!BW94","v":0},{"$f":"'Result Entry'!BX94","v":0},{"$f":"'Result Entry'!BY94","v":0},{"$f":"'Result Entry'!BZ94","v":0},{"$f":"'Result Entry'!CA94","v":0},{"$f":"'Result Entry'!CB94","v":0},{"$f":"'Result Entry'!CC94","v":0},{"$f":"'Result Entry'!CD94","v":0},{"$f":"'Result Entry'!CE94","v":0},{"$f":"'Result Entry'!CF94","v":0},{"$f":"'Result Entry'!CG94","v":""},{"$f":"'Result Entry'!CH94","v":0},{"$f":"'Result Entry'!CI94","v":0},{"$f":"'Result Entry'!CJ94","v":0},{"$f":"'Result Entry'!CK94","v":0},{"$f":"'Result Entry'!CL94","v":0},{"$f":"'Result Entry'!CM94","v":0},{"$f":"'Result Entry'!CN94","v":0},{"$f":"'Result Entry'!CO94","v":""},{"$f":"'Result Entry'!CP94","v":0},{"$f":"'Result Entry'!CQ94","v":0},{"$f":"'Result Entry'!CR94","v":0},{"$f":"'Result Entry'!CS94","v":0},{"$f":"'Result Entry'!CT94","v":0},{"$f":"'Result Entry'!CU94","v":0},{"$f":"'Result Entry'!CV94","v":0},{"$f":"'Result Entry'!CW94","v":""},{"$f":"'Result Entry'!CX94","v":0},{"$f":"'Result Entry'!CY94","v":0},{"$f":"'Result Entry'!CZ94","v":0},{"$f":"'Result Entry'!DA94","v":0},{"$f":"'Result Entry'!DB94","v":0},{"$f":"'Result Entry'!DC94","v":0},{"$f":"'Result Entry'!DD94","v":0},{"$f":"'Result Entry'!DE94","v":""},{"$f":"'Result Entry'!DF94","v":0},{"$f":"'Result Entry'!DG94","v":0},{"$f":"'Result Entry'!DH94","v":0},{"$f":"'Result Entry'!DI94","v":0},{"$f":"'Result Entry'!DJ94","v":0},{"$f":"'Result Entry'!DK94","v":0},{"$f":"'Result Entry'!DL94","v":""},{"$f":"'Result Entry'!DM94","v":""},{"$f":"'Result Entry'!DN94","v":0},{"$f":"'Result Entry'!DO94","v":0},{"$f":"'Result Entry'!DP94","v":""},{"$f":"'Result Entry'!DQ94","v":900},{"$f":"'Result Entry'!DR94","v":0},{"$f":"'Result Entry'!DS94","v":{"v":0,"d":"0.00"}},{"$f":"'Result Entry'!DT94","v":""},{"$f":"'Result Entry'!DU94","v":""},{"$f":"'Result Entry'!DV94","v":""},{"$f":"'Result Entry'!DW94","v":""}]
[null,0,{"$f":"'Result Entry'!D95","v":0},{"$f":"'Result Entry'!E95","v":0},{"$f":"'Result Entry'!F95","v":0},{"$f":"'Result Entry'!G95","v":0},{"$f":"'Result Entry'!H95","v":0},{"$f":"'Result Entry'!I95","v":0},{"$f":"'Result Entry'!J95","v":"00:00:00"},{"$f":"'Result Entry'!K95","v":0},{"$f":"'Result Entry'!L95","v":0},{"$f":"'Result Entry'!M95","v":0},{"$f":"'Result Entry'!N95","v":0},{"$f":"'Result Entry'!O95","v":0},{"$f":"'Result Entry'!P95","v":0},{"$f":"'Result Entry'!Q95","v":0},{"$f":"'Result Entry'!R95","v":0},{"$f":"'Result Entry'!S95","v":0},{"$f":"'Result Entry'!T95","v":0},{"$f":"'Result Entry'!U95","v":0},{"$f":"'Result Entry'!V95","v":0},{"$f":"'Result Entry'!W95","v":0},{"$f":"'Result Entry'!X95","v":0},{"$f":"'Result Entry'!Y95","v":""},{"$f":"'Result Entry'!Z95","v":0},{"$f":"'Result Entry'!AA95","v":0},{"$f":"'Result Entry'!AB95","v":0},{"$f":"'Result Entry'!AC95","v":0},{"$f":"'Result Entry'!AD95","v":0},{"$f":"'Result Entry'!AE95","v":0},{"$f":"'Result Entry'!AF95","v":0},{"$f":"'Result Entry'!AG95","v":0},{"$f":"'Result Entry'!AH95","v":0},{"$f":"'Result Entry'!AI95","v":0},{"$f":"'Result Entry'!AJ95","v":0},{"$f":"'Result Entry'!AK95","v":0},{"$f":"'Result Entry'!AL95","v":0},{"$f":"'Result Entry'!AM95","v":0},{"$f":"'Result Entry'!AN95","v":""},{"$f":"'Result Entry'!AO95","v":0},{"$f":"'Result Entry'!AP95","v":0},{"$f":"'Result Entry'!AQ95","v":0},{"$f":"'Result Entry'!AR95","v":0},{"$f":"'Result Entry'!AS95","v":0},{"$f":"'Result Entry'!AT95","v":0},{"$f":"'Result Entry'!AU95","v":0},{"$f":"'Result Entry'!AV95","v":0},{"$f":"'Result Entry'!AW95","v":0},{"$f":"'Result Entry'!AX95","v":0},{"$f":"'Result Entry'!AY95","v":0},{"$f":"'Result Entry'!AZ95","v":0},{"$f":"'Result Entry'!BA95","v":0},{"$f":"'Result Entry'!BB95","v":0},{"$f":"'Result Entry'!BC95","v":""},{"$f":"'Result Entry'!BD95","v":0},{"$f":"'Result Entry'!BE95","v":0},{"$f":"'Result Entry'!BF95","v":0},{"$f":"'Result Entry'!BG95","v":0},{"$f":"'Result Entry'!BH95","v":0},{"$f":"'Result Entry'!BI95","v":0},{"$f":"'Result Entry'!BJ95","v":0},{"$f":"'Result Entry'!BK95","v":0},{"$f":"'Result Entry'!BL95","v":0},{"$f":"'Result Entry'!BM95","v":0},{"$f":"'Result Entry'!BN95","v":0},{"$f":"'Result Entry'!BO95","v":0},{"$f":"'Result Entry'!BP95","v":0},{"$f":"'Result Entry'!BQ95","v":0},{"$f":"'Result Entry'!BR95","v":""},{"$f":"'Result Entry'!BS95","v":0},{"$f":"'Result Entry'!BT95","v":0},{"$f":"'Result Entry'!BU95","v":0},{"$f":"'Result Entry'!BV95","v":0},{"$f":"'Result Entry'!BW95","v":0},{"$f":"'Result Entry'!BX95","v":0},{"$f":"'Result Entry'!BY95","v":0},{"$f":"'Result Entry'!BZ95","v":0},{"$f":"'Result Entry'!CA95","v":0},{"$f":"'Result Entry'!CB95","v":0},{"$f":"'Result Entry'!CC95","v":0},{"$f":"'Result Entry'!CD95","v":0},{"$f":"'Result Entry'!CE95","v":0},{"$f":"'Result Entry'!CF95","v":0},{"$f":"'Result Entry'!CG95","v":""},{"$f":"'Result Entry'!CH95","v":0},{"$f":"'Result Entry'!CI95","v":0},{"$f":"'Result Entry'!CJ95","v":0},{"$f":"'Result Entry'!CK95","v":0},{"$f":"'Result Entry'!CL95","v":0},{"$f":"'Result Entry'!CM95","v":0},{"$f":"'Result Entry'!CN95","v":0},{"$f":"'Result Entry'!CO95","v":""},{"$f":"'Result Entry'!CP95","v":0},{"$f":"'Result Entry'!CQ95","v":0},{"$f":"'Result Entry'!CR95","v":0},{"$f":"'Result Entry'!CS95","v":0},{"$f":"'Result Entry'!CT95","v":0},{"$f":"'Result Entry'!CU95","v":0},{"$f":"'Result Entry'!CV95","v":0},{"$f":"'Result Entry'!CW95","v":""},{"$f":"'Result Entry'!CX95","v":0},{"$f":"'Result Entry'!CY95","v":0},{"$f":"'Result Entry'!CZ95","v":0},{"$f":"'Result Entry'!DA95","v":0},{"$f":"'Result Entry'!DB95","v":0},{"$f":"'Result Entry'!DC95","v":0},{"$f":"'Result Entry'!DD95","v":0},{"$f":"'Result Entry'!DE95","v":""},{"$f":"'Result Entry'!DF95","v":0},{"$f":"'Result Entry'!DG95","v":0},{"$f":"'Result Entry'!DH95","v":0},{"$f":"'Result Entry'!DI95","v":0},{"$f":"'Result Entry'!DJ95","v":0},{"$f":"'Result Entry'!DK95","v":0},{"$f":"'Result Entry'!DL95","v":""},{"$f":"'Result Entry'!DM95","v":""},{"$f":"'Result Entry'!DN95","v":0},{"$f":"'Result Entry'!DO95","v":0},{"$f":"'Result Entry'!DP95","v":""},{"$f":"'Result Entry'!DQ95","v":900},{"$f":"'Result Entry'!DR95","v":0},{"$f":"'Result Entry'!DS95","v":{"v":0,"d":"0.00"}},{"$f":"'Result Entry'!DT95","v":""},{"$f":"'Result Entry'!DU95","v":""},{"$f":"'Result Entry'!DV95","v":""},{"$f":"'Result Entry'!DW95","v":""}]
[null,0,{"$f":"'Result Entry'!D96","v":0},{"$f":"'Result Entry'!E96","v":0},{"$f":"'Result Entry'!F96","v":0},{"$f":"'Result Entry'!G96","v":0},{"$f":"'Result Entry'!H96","v":0},{"$f":"'Result Entry'!I96","v":0},{"$f":"'Result Entry'!J96","v":"00:00:00"},{"$f":"'Result Entry'!K96","v":0},{"$f":"'Result Entry'!L96","v":0},{"$f":"'Result Entry'!M96","v":0},{"$f":"'Result Entry'!N96","v":0},{"$f":"'Result Entry'!O96","v":0},{"$f":"'Result Entry'!P96","v":0},{"$f":"'Result Entry'!Q96","v":0},{"$f":"'Result Entry'!R96","v":0},{"$f":"'Result Entry'!S96","v":0},{"$f":"'Result Entry'!T96","v":0},{"$f":"'Result Entry'!U96","v":0},{"$f":"'Result Entry'!V96","v":0},{"$f":"'Result Entry'!W96","v":0},{"$f":"'Result Entry'!X96","v":0},{"$f":"'Result Entry'!Y96","v":""},{"$f":"'Result Entry'!Z96","v":0},{"$f":"'Result Entry'!AA96","v":0},{"$f":"'Result Entry'!AB96","v":0},{"$f":"'Result Entry'!AC96","v":0},{"$f":"'Result Entry'!AD96","v":0},{"$f":"'Result Entry'!AE96","v":0},{"$f":"'Result Entry'!AF96","v":0},{"$f":"'Result Entry'!AG96","v":0},{"$f":"'Result Entry'!AH96","v":0},{"$f":"'Result Entry'!AI96","v":0},{"$f":"'Result Entry'!AJ96","v":0},{"$f":"'Result Entry'!AK96","v":0},{"$f":"'Result Entry'!AL96","v":0},{"$f":"'Result Entry'!AM96","v":0},{"$f":"'Result Entry'!AN96","v":""},{"$f":"'Result Entry'!AO96","v":0},{"$f":"'Result Entry'!AP96","v":0},{"$f":"'Result Entry'!AQ96","v":0},{"$f":"'Result Entry'!AR96","v":0},{"$f":"'Result Entry'!AS96","v":0},{"$f":"'Result Entry'!AT96","v":0},{"$f":"'Result Entry'!AU96","v":0},{"$f":"'Result Entry'!AV96","v":0},{"$f":"'Result Entry'!AW96","v":0},{"$f":"'Result Entry'!AX96","v":0},{"$f":"'Result Entry'!AY96","v":0},{"$f":"'Result Entry'!AZ96","v":0},{"$f":"'Result Entry'!BA96","v":0},{"$f":"'Result Entry'!BB96","v":0},{"$f":"'Result Entry'!BC96","v":""},{"$f":"'Result Entry'!BD96","v":0},{"$f":"'Result Entry'!BE96","v":0},{"$f":"'Result Entry'!BF96","v":0},{"$f":"'Result Entry'!BG96","v":0},{"$f":"'Result Entry'!BH96","v":0},{"$f":"'Result Entry'!BI96","v":0},{"$f":"'Result Entry'!BJ96","v":0},{"$f":"'Result Entry'!BK96","v":0},{"$f":"'Result Entry'!BL96","v":0},{"$f":"'Result Entry'!BM96","v":0},{"$f":"'Result Entry'!BN96","v":0},{"$f":"'Result Entry'!BO96","v":0},{"$f":"'Result Entry'!BP96","v":0},{"$f":"'Result Entry'!BQ96","v":0},{"$f":"'Result Entry'!BR96","v":""},{"$f":"'Result Entry'!BS96","v":0},{"$f":"'Result Entry'!BT96","v":0},{"$f":"'Result Entry'!BU96","v":0},{"$f":"'Result Entry'!BV96","v":0},{"$f":"'Result Entry'!BW96","v":0},{"$f":"'Result Entry'!BX96","v":0},{"$f":"'Result Entry'!BY96","v":0},{"$f":"'Result Entry'!BZ96","v":0},{"$f":"'Result Entry'!CA96","v":0},{"$f":"'Result Entry'!CB96","v":0},{"$f":"'Result Entry'!CC96","v":0},{"$f":"'Result Entry'!CD96","v":0},{"$f":"'Result Entry'!CE96","v":0},{"$f":"'Result Entry'!CF96","v":0},{"$f":"'Result Entry'!CG96","v":""},{"$f":"'Result Entry'!CH96","v":0},{"$f":"'Result Entry'!CI96","v":0},{"$f":"'Result Entry'!CJ96","v":0},{"$f":"'Result Entry'!CK96","v":0},{"$f":"'Result Entry'!CL96","v":0},{"$f":"'Result Entry'!CM96","v":0},{"$f":"'Result Entry'!CN96","v":0},{"$f":"'Result Entry'!CO96","v":""},{"$f":"'Result Entry'!CP96","v":0},{"$f":"'Result Entry'!CQ96","v":0},{"$f":"'Result Entry'!CR96","v":0},{"$f":"'Result Entry'!CS96","v":0},{"$f":"'Result Entry'!CT96","v":0},{"$f":"'Result Entry'!CU96","v":0},{"$f":"'Result Entry'!CV96","v":0},{"$f":"'Result Entry'!CW96","v":""},{"$f":"'Result Entry'!CX96","v":0},{"$f":"'Result Entry'!CY96","v":0},{"$f":"'Result Entry'!CZ96","v":0},{"$f":"'Result Entry'!DA96","v":0},{"$f":"'Result Entry'!DB96","v":0},{"$f":"'Result Entry'!DC96","v":0},{"$f":"'Result Entry'!DD96","v":0},{"$f":"'Result Entry'!DE96","v":""},{"$f":"'Result Entry'!DF96","v":0},{"$f":"'Result Entry'!DG96","v":0},{"$f":"'Result Entry'!DH96","v":0},{"$f":"'Result Entry'!DI96","v":0},{"$f":"'Result Entry'!DJ96","v":0},{"$f":"'Result Entry'!DK96","v":0},{"$f":"'Result Entry'!DL96","v":""},{"$f":"'Result Entry'!DM96","v":""},{"$f":"'Result Entry'!DN96","v":0},{"$f":"'Result Entry'!DO96","v":0},{"$f":"'Result Entry'!DP96","v":""},{"$f":"'Result Entry'!DQ96","v":900},{"$f":"'Result Entry'!DR96","v":0},{"$f":"'Result Entry'!DS96","v":{"v":0,"d":"0.00"}},{"$f":"'Result Entry'!DT96","v":""},{"$f":"'Result Entry'!DU96","v":""},{"$f":"'Result Entry'!DV96","v":""},{"$f":"'Result Entry'!DW96","v":""}]
[null,0,{"$f":"'Result Entry'!D97","v":0},{"$f":"'Result Entry'!E97","v":0},{"$f":"'Result Entry'!F97","v":0},{"$f":"'Result Entry'!G97","v":0},{"$f":"'Result Entry'!H97","v":0},{"$f":"'Result Entry'!I97","v":0},{"$f":"'Result Entry'!J97","v":"00:00:00"},{"$f":"'Result Entry'!K97","v":0},{"$f":"'Result Entry'!L97","v":0},{"$f":"'Result Entry'!M97","v":0},{"$f":"'Result Entry'!N97","v":0},{"$f":"'Result Entry'!O97","v":0},{"$f":"'Result Entry'!P97","v":0},{"$f":"'Result Entry'!Q97","v":0},{"$f":"'Result Entry'!R97","v":0},{"$f":"'Result Entry'!S97","v":0},{"$f":"'Result Entry'!T97","v":0},{"$f":"'Result Entry'!U97","v":0},{"$f":"'Result Entry'!V97","v":0},{"$f":"'Result Entry'!W97","v":0},{"$f":"'Result Entry'!X97","v":0},{"$f":"'Result Entry'!Y97","v":""},{"$f":"'Result Entry'!Z97","v":0},{"$f":"'Result Entry'!AA97","v":0},{"$f":"'Result Entry'!AB97","v":0},{"$f":"'Result Entry'!AC97","v":0},{"$f":"'Result Entry'!AD97","v":0},{"$f":"'Result Entry'!AE97","v":0},{"$f":"'Result Entry'!AF97","v":0},{"$f":"'Result Entry'!AG97","v":0},{"$f":"'Result Entry'!AH97","v":0},{"$f":"'Result Entry'!AI97","v":0},{"$f":"'Result Entry'!AJ97","v":0},{"$f":"'Result Entry'!AK97","v":0},{"$f":"'Result Entry'!AL97","v":0},{"$f":"'Result Entry'!AM97","v":0},{"$f":"'Result Entry'!AN97","v":""},{"$f":"'Result Entry'!AO97","v":0},{"$f":"'Result Entry'!AP97","v":0},{"$f":"'Result Entry'!AQ97","v":0},{"$f":"'Result Entry'!AR97","v":0},{"$f":"'Result Entry'!AS97","v":0},{"$f":"'Result Entry'!AT97","v":0},{"$f":"'Result Entry'!AU97","v":0},{"$f":"'Result Entry'!AV97","v":0},{"$f":"'Result Entry'!AW97","v":0},{"$f":"'Result Entry'!AX97","v":0},{"$f":"'Result Entry'!AY97","v":0},{"$f":"'Result Entry'!AZ97","v":0},{"$f":"'Result Entry'!BA97","v":0},{"$f":"'Result Entry'!BB97","v":0},{"$f":"'Result Entry'!BC97","v":""},{"$f":"'Result Entry'!BD97","v":0},{"$f":"'Result Entry'!BE97","v":0},{"$f":"'Result Entry'!BF97","v":0},{"$f":"'Result Entry'!BG97","v":0},{"$f":"'Result Entry'!BH97","v":0},{"$f":"'Result Entry'!BI97","v":0},{"$f":"'Result Entry'!BJ97","v":0},{"$f":"'Result Entry'!BK97","v":0},{"$f":"'Result Entry'!BL97","v":0},{"$f":"'Result Entry'!BM97","v":0},{"$f":"'Result Entry'!BN97","v":0},{"$f":"'Result Entry'!BO97","v":0},{"$f":"'Result Entry'!BP97","v":0},{"$f":"'Result Entry'!BQ97","v":0},{"$f":"'Result Entry'!BR97","v":""},{"$f":"'Result Entry'!BS97","v":0},{"$f":"'Result Entry'!BT97","v":0},{"$f":"'Result Entry'!BU97","v":0},{"$f":"'Result Entry'!BV97","v":0},{"$f":"'Result Entry'!BW97","v":0},{"$f":"'Result Entry'!BX97","v":0},{"$f":"'Result Entry'!BY97","v":0},{"$f":"'Result Entry'!BZ97","v":0},{"$f":"'Result Entry'!CA97","v":0},{"$f":"'Result Entry'!CB97","v":0},{"$f":"'Result Entry'!CC97","v":0},{"$f":"'Result Entry'!CD97","v":0},{"$f":"'Result Entry'!CE97","v":0},{"$f":"'Result Entry'!CF97","v":0},{"$f":"'Result Entry'!CG97","v":""},{"$f":"'Result Entry'!CH97","v":0},{"$f":"'Result Entry'!CI97","v":0},{"$f":"'Result Entry'!CJ97","v":0},{"$f":"'Result Entry'!CK97","v":0},{"$f":"'Result Entry'!CL97","v":0},{"$f":"'Result Entry'!CM97","v":0},{"$f":"'Result Entry'!CN97","v":0},{"$f":"'Result Entry'!CO97","v":""},{"$f":"'Result Entry'!CP97","v":0},{"$f":"'Result Entry'!CQ97","v":0},{"$f":"'Result Entry'!CR97","v":0},{"$f":"'Result Entry'!CS97","v":0},{"$f":"'Result Entry'!CT97","v":0},{"$f":"'Result Entry'!CU97","v":0},{"$f":"'Result Entry'!CV97","v":0},{"$f":"'Result Entry'!CW97","v":""},{"$f":"'Result Entry'!CX97","v":0},{"$f":"'Result Entry'!CY97","v":0},{"$f":"'Result Entry'!CZ97","v":0},{"$f":"'Result Entry'!DA97","v":0},{"$f":"'Result Entry'!DB97","v":0},{"$f":"'Result Entry'!DC97","v":0},{"$f":"'Result Entry'!DD97","v":0},{"$f":"'Result Entry'!DE97","v":""},{"$f":"'Result Entry'!DF97","v":0},{"$f":"'Result Entry'!DG97","v":0},{"$f":"'Result Entry'!DH97","v":0},{"$f":"'Result Entry'!DI97","v":0},{"$f":"'Result Entry'!DJ97","v":0},{"$f":"'Result Entry'!DK97","v":0},{"$f":"'Result Entry'!DL97","v":""},{"$f":"'Result Entry'!DM97","v":""},{"$f":"'Result Entry'!DN97","v":0},{"$f":"'Result Entry'!DO97","v":0},{"$f":"'Result Entry'!DP97","v":""},{"$f":"'Result Entry'!DQ97","v":900},{"$f":"'Result Entry'!DR97","v":0},{"$f":"'Result Entry'!DS97","v":{"v":0,"d":"0.00"}},{"$f":"'Result Entry'!DT97","v":""},{"$f":"'Result Entry'!DU97","v":""},{"$f":"'Result Entry'!DV97","v":""},{"$f":"'Result Entry'!DW97","v":""}]
[null,0,{"$f":"'Result Entry'!D98","v":0},{"$f":"'Result Entry'!E98","v":0},{"$f":"'Result Entry'!F98","v":0},{"$f":"'Result Entry'!G98","v":0},{"$f":"'Result Entry'!H98","v":0},{"$f":"'Result Entry'!I98","v":0},{"$f":"'Result Entry'!J98","v":"00:00:00"},{"$f":"'Result Entry'!K98","v":0},{"$f":"'Result Entry'!L98","v":0},{"$f":"'Result Entry'!M98","v":0},{"$f":"'Result Entry'!N98","v":0},{"$f":"'Result Entry'!O98","v":0},{"$f":"'Result Entry'!P98","v":0},{"$f":"'Result Entry'!Q98","v":0},{"$f":"'Result Entry'!R98","v":0},{"$f":"'Result Entry'!S98","v":0},{"$f":"'Result Entry'!T98","v":0},{"$f":"'Result Entry'!U98","v":0},{"$f":"'Result Entry'!V98","v":0},{"$f":"'Result Entry'!W98","v":0},{"$f":"'Result Entry'!X98","v":0},{"$f":"'Result Entry'!Y98","v":""},{"$f":"'Result Entry'!Z98","v":0},{"$f":"'Result Entry'!AA98","v":0},{"$f":"'Result Entry'!AB98","v":0},{"$f":"'Result Entry'!AC98","v":0},{"$f":"'Result Entry'!AD98","v":0},{"$f":"'Result Entry'!AE98","v":0},{"$f":"'Result Entry'!AF98","v":0},{"$f":"'Result Entry'!AG98","v":0},{"$f":"'Result Entry'!AH98","v":0},{"$f":"'Result Entry'!AI98","v":0},{"$f":"'Result Entry'!AJ98","v":0},{"$f":"'Result Entry'!AK98","v":0},{"$f":"'Result Entry'!AL98","v":0},{"$f":"'Result Entry'!AM98","v":0},{"$f":"'Result Entry'!AN98","v":""},{"$f":"'Result Entry'!AO98","v":0},{"$f":"'Result Entry'!AP98","v":0},{"$f":"'Result Entry'!AQ98","v":0},{"$f":"'Result Entry'!AR98","v":0},{"$f":"'Result Entry'!AS98","v":0},{"$f":"'Result Entry'!AT98","v":0},{"$f":"'Result Entry'!AU98","v":0},{"$f":"'Result Entry'!AV98","v":0},{"$f":"'Result Entry'!AW98","v":0},{"$f":"'Result Entry'!AX98","v":0},{"$f":"'Result Entry'!AY98","v":0},{"$f":"'Result Entry'!AZ98","v":0},{"$f":"'Result Entry'!BA98","v":0},{"$f":"'Result Entry'!BB98","v":0},{"$f":"'Result Entry'!BC98","v":""},{"$f":"'Result Entry'!BD98","v":0},{"$f":"'Result Entry'!BE98","v":0},{"$f":"'Result Entry'!BF98","v":0},{"$f":"'Result Entry'!BG98","v":0},{"$f":"'Result Entry'!BH98","v":0},{"$f":"'Result Entry'!BI98","v":0},{"$f":"'Result Entry'!BJ98","v":0},{"$f":"'Result Entry'!BK98","v":0},{"$f":"'Result Entry'!BL98","v":0},{"$f":"'Result Entry'!BM98","v":0},{"$f":"'Result Entry'!BN98","v":0},{"$f":"'Result Entry'!BO98","v":0},{"$f":"'Result Entry'!BP98","v":0},{"$f":"'Result Entry'!BQ98","v":0},{"$f":"'Result Entry'!BR98","v":""},{"$f":"'Result Entry'!BS98","v":0},{"$f":"'Result Entry'!BT98","v":0},{"$f":"'Result Entry'!BU98","v":0},{"$f":"'Result Entry'!BV98","v":0},{"$f":"'Result Entry'!BW98","v":0},{"$f":"'Result Entry'!BX98","v":0},{"$f":"'Result Entry'!BY98","v":0},{"$f":"'Result Entry'!BZ98","v":0},{"$f":"'Result Entry'!CA98","v":0},{"$f":"'Result Entry'!CB98","v":0},{"$f":"'Result Entry'!CC98","v":0},{"$f":"'Result Entry'!CD98","v":0},{"$f":"'Result Entry'!CE98","v":0},{"$f":"'Result Entry'!CF98","v":0},{"$f":"'Result Entry'!CG98","v":""},{"$f":"'Result Entry'!CH98","v":0},{"$f":"'Result Entry'!CI98","v":0},{"$f":"'Result Entry'!CJ98","v":0},{"$f":"'Result Entry'!CK98","v":0},{"$f":"'Result Entry'!CL98","v":0},{"$f":"'Result Entry'!CM98","v":0},{"$f":"'Result Entry'!CN98","v":0},{"$f":"'Result Entry'!CO98","v":""},{"$f":"'Result Entry'!CP98","v":0},{"$f":"'Result Entry'!CQ98","v":0},{"$f":"'Result Entry'!CR98","v":0},{"$f":"'Result Entry'!CS98","v":0},{"$f":"'Result Entry'!CT98","v":0},{"$f":"'Result Entry'!CU98","v":0},{"$f":"'Result Entry'!CV98","v":0},{"$f":"'Result Entry'!CW98","v":""},{"$f":"'Result Entry'!CX98","v":0},{"$f":"'Result Entry'!CY98","v":0},{"$f":"'Result Entry'!CZ98","v":0},{"$f":"'Result Entry'!DA98","v":0},{"$f":"'Result Entry'!DB98","v":0},{"$f":"'Result Entry'!DC98","v":0},{"$f":"'Result Entry'!DD98","v":0},{"$f":"'Result Entry'!DE98","v":""},{"$f":"'Result Entry'!DF98","v":0},{"$f":"'Result Entry'!DG98","v":0},{"$f":"'Result Entry'!DH98","v":0},{"$f":"'Result Entry'!DI98","v":0},{"$f":"'Result Entry'!DJ98","v":0},{"$f":"'Result Entry'!DK98","v":0},{"$f":"'Result Entry'!DL98","v":""},{"$f":"'Result Entry'!DM98","v":""},{"$f":"'Result Entry'!DN98","v":0},{"$f":"'Result Entry'!DO98","v":0},{"$f":"'Result Entry'!DP98","v":""},{"$f":"'Result Entry'!DQ98","v":900},{"$f":"'Result Entry'!DR98","v":0},{"$f":"'Result Entry'!DS98","v":{"v":0,"d":"0.00"}},{"$f":"'Result Entry'!DT98","v":""},{"$f":"'Result Entry'!DU98","v":""},{"$f":"'Result Entry'!DV98","v":""},{"$f":"'Result Entry'!DW98","v":""}]
[null,0,{"$f":"'Result Entry'!D99","v":0},{"$f":"'Result Entry'!E99","v":0},{"$f":"'Result Entry'!F99","v":0},{"$f":"'Result Entry'!G99","v":0},{"$f":"'Result Entry'!H99","v":0},{"$f":"'Result Entry'!I99","v":0},{"$f":"'Result Entry'!J99","v":"00:00:00"},{"$f":"'Result Entry'!K99","v":0},{"$f":"'Result Entry'!L99","v":0},{"$f":"'Result Entry'!M99","v":0},{"$f":"'Result Entry'!N99","v":0},{"$f":"'Result Entry'!O99","v":0},{"$f":"'Result Entry'!P99","v":0},{"$f":"'Result Entry'!Q99","v":0},{"$f":"'Result Entry'!R99","v":0},{"$f":"'Result Entry'!S99","v":0},{"$f":"'Result Entry'!T99","v":0},{"$f":"'Result Entry'!U99","v":0},{"$f":"'Result Entry'!V99","v":0},{"$f":"'Result Entry'!W99","v":0},{"$f":"'Result Entry'!X99","v":0},{"$f":"'Result Entry'!Y99","v":""},{"$f":"'Result Entry'!Z99","v":0},{"$f":"'Result Entry'!AA99","v":0},{"$f":"'Result Entry'!AB99","v":0},{"$f":"'Result Entry'!AC99","v":0},{"$f":"'Result Entry'!AD99","v":0},{"$f":"'Result Entry'!AE99","v":0},{"$f":"'Result Entry'!AF99","v":0},{"$f":"'Result Entry'!AG99","v":0},{"$f":"'Result Entry'!AH99","v":0},{"$f":"'Result Entry'!AI99","v":0},{"$f":"'Result Entry'!AJ99","v":0},{"$f":"'Result Entry'!AK99","v":0},{"$f":"'Result Entry'!AL99","v":0},{"$f":"'Result Entry'!AM99","v":0},{"$f":"'Result Entry'!AN99","v":""},{"$f":"'Result Entry'!AO99","v":0},{"$f":"'Result Entry'!AP99","v":0},{"$f":"'Result Entry'!AQ99","v":0},{"$f":"'Result Entry'!AR99","v":0},{"$f":"'Result Entry'!AS99","v":0},{"$f":"'Result Entry'!AT99","v":0},{"$f":"'Result Entry'!AU99","v":0},{"$f":"'Result Entry'!AV99","v":0},{"$f":"'Result Entry'!AW99","v":0},{"$f":"'Result Entry'!AX99","v":0},{"$f":"'Result Entry'!AY99","v":0},{"$f":"'Result Entry'!AZ99","v":0},{"$f":"'Result Entry'!BA99","v":0},{"$f":"'Result Entry'!BB99","v":0},{"$f":"'Result Entry'!BC99","v":""},{"$f":"'Result Entry'!BD99","v":0},{"$f":"'Result Entry'!BE99","v":0},{"$f":"'Result Entry'!BF99","v":0},{"$f":"'Result Entry'!BG99","v":0},{"$f":"'Result Entry'!BH99","v":0},{"$f":"'Result Entry'!BI99","v":0},{"$f":"'Result Entry'!BJ99","v":0},{"$f":"'Result Entry'!BK99","v":0},{"$f":"'Result Entry'!BL99","v":0},{"$f":"'Result Entry'!BM99","v":0},{"$f":"'Result Entry'!BN99","v":0},{"$f":"'Result Entry'!BO99","v":0},{"$f":"'Result Entry'!BP99","v":0},{"$f":"'Result Entry'!BQ99","v":0},{"$f":"'Result Entry'!BR99","v":""},{"$f":"'Result Entry'!BS99","v":0},{"$f":"'Result Entry'!BT99","v":0},{"$f":"'Result Entry'!BU99","v":0},{"$f":"'Result Entry'!BV99","v":0},{"$f":"'Result Entry'!BW99","v":0},{"$f":"'Result Entry'!BX99","v":0},{"$f":"'Result Entry'!BY99","v":0},{"$f":"'Result Entry'!BZ99","v":0},{"$f":"'Result Entry'!CA99","v":0},{"$f":"'Result Entry'!CB99","v":0},{"$f":"'Result Entry'!CC99","v":0},{"$f":"'Result Entry'!CD99","v":0},{"$f":"'Result Entry'!CE99","v":0},{"$f":"'Result Entry'!CF99","v":0},{"$f":"'Result Entry'!CG99","v":""},{"$f":"'Result Entry'!CH99","v":0},{"$f":"'Result Entry'!CI99","v":0},{"$f":"'Result Entry'!CJ99","v":0},{"$f":"'Result Entry'!CK99","v":0},{"$f":"'Result Entry'!CL99","v":0},{"$f":"'Result Entry'!CM99","v":0},{"$f":"'Result Entry'!CN99","v":0},{"$f":"'Result Entry'!CO99","v":""},{"$f":"'Result Entry'!CP99","v":0},{"$f":"'Result Entry'!CQ99","v":0},{"$f":"'Result Entry'!CR99","v":0},{"$f":"'Result Entry'!CS99","v":0},{"$f":"'Result Entry'!CT99","v":0},{"$f":"'Result Entry'!CU99","v":0},{"$f":"'Result Entry'!CV99","v":0},{"$f":"'Result Entry'!CW99","v":""},{"$f":"'Result Entry'!CX99","v":0},{"$f":"'Result Entry'!CY99","v":0},{"$f":"'Result Entry'!CZ99","v":0},{"$f":"'Result Entry'!DA99","v":0},{"$f":"'Result Entry'!DB99","v":0},{"$f":"'Result Entry'!DC99","v":0},{"$f":"'Result Entry'!DD99","v":0},{"$f":"'Result Entry'!DE99","v":""},{"$f":"'Result Entry'!DF99","v":0},{"$f":"'Result Entry'!DG99","v":0},{"$f":"'Result Entry'!DH99","v":0},{"$f":"'Result Entry'!DI99","v":0},{"$f":"'Result Entry'!DJ99","v":0},{"$f":"'Result Entry'!DK99","v":0},{"$f":"'Result Entry'!DL99","v":""},{"$f":"'Result Entry'!DM99","v":""},{"$f":"'Result Entry'!DN99","v":0},{"$f":"'Result Entry'!DO99","v":0},{"$f":"'Result Entry'!DP99","v":""},{"$f":"'Result Entry'!DQ99","v":900},{"$f":"'Result Entry'!DR99","v":0},{"$f":"'Result Entry'!DS99","v":{"v":0,"d":"0.00"}},{"$f":"'Result Entry'!DT99","v":""},{"$f":"'Result Entry'!DU99","v":""},{"$f":"'Result Entry'!DV99","v":""},{"$f":"'Result Entry'!DW99","v":""}]
[null,0,{"$f":"'Result Entry'!D100","v":0},{"$f":"'Result Entry'!E100","v":0},{"$f":"'Result Entry'!F100","v":0},{"$f":"'Result Entry'!G100","v":0},{"$f":"'Result Entry'!H100","v":0},{"$f":"'Result Entry'!I100","v":0},{"$f":"'Result Entry'!J100","v":"00:00:00"},{"$f":"'Result Entry'!K100","v":0},{"$f":"'Result Entry'!L100","v":0},{"$f":"'Result Entry'!M100","v":0},{"$f":"'Result Entry'!N100","v":0},{"$f":"'Result Entry'!O100","v":0},{"$f":"'Result Entry'!P100","v":0},{"$f":"'Result Entry'!Q100","v":0},{"$f":"'Result Entry'!R100","v":0},{"$f":"'Result Entry'!S100","v":0},{"$f":"'Result Entry'!T100","v":0},{"$f":"'Result Entry'!U100","v":0},{"$f":"'Result Entry'!V100","v":0},{"$f":"'Result Entry'!W100","v":0},{"$f":"'Result Entry'!X100","v":0},{"$f":"'Result Entry'!Y100","v":""},{"$f":"'Result Entry'!Z100","v":0},{"$f":"'Result Entry'!AA100","v":0},{"$f":"'Result Entry'!AB100","v":0},{"$f":"'Result Entry'!AC100","v":0},{"$f":"'Result Entry'!AD100","v":0},{"$f":"'Result Entry'!AE100","v":0},{"$f":"'Result Entry'!AF100","v":0},{"$f":"'Result Entry'!AG100","v":0},{"$f":"'Result Entry'!AH100","v":0},{"$f":"'Result Entry'!AI100","v":0},{"$f":"'Result Entry'!AJ100","v":0},{"$f":"'Result Entry'!AK100","v":0},{"$f":"'Result Entry'!AL100","v":0},{"$f":"'Result Entry'!AM100","v":0},{"$f":"'Result Entry'!AN100","v":""},{"$f":"'Result Entry'!AO100","v":0},{"$f":"'Result Entry'!AP100","v":0},{"$f":"'Result Entry'!AQ100","v":0},{"$f":"'Result Entry'!AR100","v":0},{"$f":"'Result Entry'!AS100","v":0},{"$f":"'Result Entry'!AT100","v":0},{"$f":"'Result Entry'!AU100","v":0},{"$f":"'Result Entry'!AV100","v":0},{"$f":"'Result Entry'!AW100","v":0},{"$f":"'Result Entry'!AX100","v":0},{"$f":"'Result Entry'!AY100","v":0},{"$f":"'Result Entry'!AZ100","v":0},{"$f":"'Result Entry'!BA100","v":0},{"$f":"'Result Entry'!BB100","v":0},{"$f":"'Result Entry'!BC100","v":""},{"$f":"'Result Entry'!BD100","v":0},{"$f":"'Result Entry'!BE100","v":0},{"$f":"'Result Entry'!BF100","v":0},{"$f":"'Result Entry'!BG100","v":0},{"$f":"'Result Entry'!BH100","v":0},{"$f":"'Result Entry'!BI100","v":0},{"$f":"'Result Entry'!BJ100","v":0},{"$f":"'Result Entry'!BK100","v":0},{"$f":"'Result Entry'!BL100","v":0},{"$f":"'Result Entry'!BM100","v":0},{"$f":"'Result Entry'!BN100","v":0},{"$f":"'Result Entry'!BO100","v":0},{"$f":"'Result Entry'!BP100","v":0},{"$f":"'Result Entry'!BQ100","v":0},{"$f":"'Result Entry'!BR100","v":""},{"$f":"'Result Entry'!BS100","v":0},{"$f":"'Result Entry'!BT100","v":0},{"$f":"'Result Entry'!BU100","v":0},{"$f":"'Result Entry'!BV100","v":0},{"$f":"'Result Entry'!BW100","v":0},{"$f":"'Result Entry'!BX100","v":0},{"$f":"'Result Entry'!BY100","v":0},{"$f":"'Result Entry'!BZ100","v":0},{"$f":"'Result Entry'!CA100","v":0},{"$f":"'Result Entry'!CB100","v":0},{"$f":"'Result Entry'!CC100","v":0},{"$f":"'Result Entry'!CD100","v":0},{"$f":"'Result Entry'!CE100","v":0},{"$f":"'Result Entry'!CF100","v":0},{"$f":"'Result Entry'!CG100","v":""},{"$f":"'Result Entry'!CH100","v":0},{"$f":"'Result Entry'!CI100","v":0},{"$f":"'Result Entry'!CJ100","v":0},{"$f":"'Result Entry'!CK100","v":0},{"$f":"'Result Entry'!CL100","v":0},{"$f":"'Result Entry'!CM100","v":0},{"$f":"'Result Entry'!CN100","v":0},{"$f":"'Result Entry'!CO100","v":""},{"$f":"'Result Entry'!CP100","v":0},{"$f":"'Result Entry'!CQ100","v":0},{"$f":"'Result Entry'!CR100","v":0},{"$f":"'Result Entry'!CS100","v":0},{"$f":"'Result Entry'!CT100","v":0},{"$f":"'Result Entry'!CU100","v":0},{"$f":"'Result Entry'!CV100","v":0},{"$f":"'Result Entry'!CW100","v":""},{"$f":"'Result Entry'!CX100","v":0},{"$f":"'Result Entry'!CY100","v":0},{"$f":"'Result Entry'!CZ100","v":0},{"$f":"'Result Entry'!DA100","v":0},{"$f":"'Result Entry'!DB100","v":0},{"$f":"'Result Entry'!DC100","v":0},{"$f":"'Result Entry'!DD100","v":0},{"$f":"'Result Entry'!DE100","v":""},{"$f":"'Result Entry'!DF100","v":0},{"$f":"'Result Entry'!DG100","v":0},{"$f":"'Result Entry'!DH100","v":0},{"$f":"'Result Entry'!DI100","v":0},{"$f":"'Result Entry'!DJ100","v":0},{"$f":"'Result Entry'!DK100","v":0},{"$f":"'Result Entry'!DL100","v":""},{"$f":"'Result Entry'!DM100","v":""},{"$f":"'Result Entry'!DN100","v":0},{"$f":"'Result Entry'!DO100","v":0},{"$f":"'Result Entry'!DP100","v":""},{"$f":"'Result Entry'!DQ100","v":900},{"$f":"'Result Entry'!DR100","v":0},{"$f":"'Result Entry'!DS100","v":{"v":0,"d":"0.00"}},{"$f":"'Result Entry'!DT100","v":""},{"$f":"'Result Entry'!DU100","v":""},{"$f":"'Result Entry'!DV100","v":""},{"$f":"'Result Entry'!DW100","v":""}]
[null,0,{"$f":"'Result Entry'!D101","v":0},{"$f":"'Result Entry'!E101","v":0},{"$f":"'Result Entry'!F101","v":0},{"$f":"'Result Entry'!G101","v":0},{"$f":"'Result Entry'!H101","v":0},{"$f":"'Result Entry'!I101","v":0},{"$f":"'Result Entry'!J101","v":"00:00:00"},{"$f":"'Result Entry'!K101","v":0},{"$f":"'Result Entry'!L101","v":0},{"$f":"'Result Entry'!M101","v":0},{"$f":"'Result Entry'!N101","v":0},{"$f":"'Result Entry'!O101","v":0},{"$f":"'Result Entry'!P101","v":0},{"$f":"'Result Entry'!Q101","v":0},{"$f":"'Result Entry'!R101","v":0},{"$f":"'Result Entry'!S101","v":0},{"$f":"'Result Entry'!T101","v":0},{"$f":"'Result Entry'!U101","v":0},{"$f":"'Result Entry'!V101","v":0},{"$f":"'Result Entry'!W101","v":0},{"$f":"'Result Entry'!X101","v":0},{"$f":"'Result Entry'!Y101","v":""},{"$f":"'Result Entry'!Z101","v":0},{"$f":"'Result Entry'!AA101","v":0},{"$f":"'Result Entry'!AB101","v":0},{"$f":"'Result Entry'!AC101","v":0},{"$f":"'Result Entry'!AD101","v":0},{"$f":"'Result Entry'!AE101","v":0},{"$f":"'Result Entry'!AF101","v":0},{"$f":"'Result Entry'!AG101","v":0},{"$f":"'Result Entry'!AH101","v":0},{"$f":"'Result Entry'!AI101","v":0},{"$f":"'Result Entry'!AJ101","v":0},{"$f":"'Result Entry'!AK101","v":0},{"$f":"'Result Entry'!AL101","v":0},{"$f":"'Result Entry'!AM101","v":0},{"$f":"'Result Entry'!AN101","v":""},{"$f":"'Result Entry'!AO101","v":0},{"$f":"'Result Entry'!AP101","v":0},{"$f":"'Result Entry'!AQ101","v":0},{"$f":"'Result Entry'!AR101","v":0},{"$f":"'Result Entry'!AS101","v":0},{"$f":"'Result Entry'!AT101","v":0},{"$f":"'Result Entry'!AU101","v":0},{"$f":"'Result Entry'!AV101","v":0},{"$f":"'Result Entry'!AW101","v":0},{"$f":"'Result Entry'!AX101","v":0},{"$f":"'Result Entry'!AY101","v":0},{"$f":"'Result Entry'!AZ101","v":0},{"$f":"'Result Entry'!BA101","v":0},{"$f":"'Result Entry'!BB101","v":0},{"$f":"'Result Entry'!BC101","v":""},{"$f":"'Result Entry'!BD101","v":0},{"$f":"'Result Entry'!BE101","v":0},{"$f":"'Result Entry'!BF101","v":0},{"$f":"'Result Entry'!BG101","v":0},{"$f":"'Result Entry'!BH101","v":0},{"$f":"'Result Entry'!BI101","v":0},{"$f":"'Result Entry'!BJ101","v":0},{"$f":"'Result Entry'!BK101","v":0},{"$f":"'Result Entry'!BL101","v":0},{"$f":"'Result Entry'!BM101","v":0},{"$f":"'Result Entry'!BN101","v":0},{"$f":"'Result Entry'!BO101","v":0},{"$f":"'Result Entry'!BP101","v":0},{"$f":"'Result Entry'!BQ101","v":0},{"$f":"'Result Entry'!BR101","v":""},{"$f":"'Result Entry'!BS101","v":0},{"$f":"'Result Entry'!BT101","v":0},{"$f":"'Result Entry'!BU101","v":0},{"$f":"'Result Entry'!BV101","v":0},{"$f":"'Result Entry'!BW101","v":0},{"$f":"'Result Entry'!BX101","v":0},{"$f":"'Result Entry'!BY101","v":0},{"$f":"'Result Entry'!BZ101","v":0},{"$f":"'Result Entry'!CA101","v":0},{"$f":"'Result Entry'!CB101","v":0},{"$f":"'Result Entry'!CC101","v":0},{"$f":"'Result Entry'!CD101","v":0},{"$f":"'Result Entry'!CE101","v":0},{"$f":"'Result Entry'!CF101","v":0},{"$f":"'Result Entry'!CG101","v":""},{"$f":"'Result Entry'!CH101","v":0},{"$f":"'Result Entry'!CI101","v":0},{"$f":"'Result Entry'!CJ101","v":0},{"$f":"'Result Entry'!CK101","v":0},{"$f":"'Result Entry'!CL101","v":0},{"$f":"'Result Entry'!CM101","v":0},{"$f":"'Result Entry'!CN101","v":0},{"$f":"'Result Entry'!CO101","v":""},{"$f":"'Result Entry'!CP101","v":0},{"$f":"'Result Entry'!CQ101","v":0},{"$f":"'Result Entry'!CR101","v":0},{"$f":"'Result Entry'!CS101","v":0},{"$f":"'Result Entry'!CT101","v":0},{"$f":"'Result Entry'!CU101","v":0},{"$f":"'Result Entry'!CV101","v":0},{"$f":"'Result Entry'!CW101","v":""},{"$f":"'Result Entry'!CX101","v":0},{"$f":"'Result Entry'!CY101","v":0},{"$f":"'Result Entry'!CZ101","v":0},{"$f":"'Result Entry'!DA101","v":0},{"$f":"'Result Entry'!DB101","v":0},{"$f":"'Result Entry'!DC101","v":0},{"$f":"'Result Entry'!DD101","v":0},{"$f":"'Result Entry'!DE101","v":""},{"$f":"'Result Entry'!DF101","v":0},{"$f":"'Result Entry'!DG101","v":0},{"$f":"'Result Entry'!DH101","v":0},{"$f":"'Result Entry'!DI101","v":0},{"$f":"'Result Entry'!DJ101","v":0},{"$f":"'Result Entry'!DK101","v":0},{"$f":"'Result Entry'!DL101","v":""},{"$f":"'Result Entry'!DM101","v":""},{"$f":"'Result Entry'!DN101","v":0},{"$f":"'Result Entry'!DO101","v":0},{"$f":"'Result Entry'!DP101","v":""},{"$f":"'Result Entry'!DQ101","v":900},{"$f":"'Result Entry'!DR101","v":0},{"$f":"'Result Entry'!DS101","v":{"v":0,"d":"0.00"}},{"$f":"'Result Entry'!DT101","v":""},{"$f":"'Result Entry'!DU101","v":""},{"$f":"'Result Entry'!DV101","v":""},{"$f":"'Result Entry'!DW101","v":""}]
[null,0,{"$f":"'Result Entry'!D102","v":0},{"$f":"'Result Entry'!E102","v":0},{"$f":"'Result Entry'!F102","v":0},{"$f":"'Result Entry'!G102","v":0},{"$f":"'Result Entry'!H102","v":0},{"$f":"'Result Entry'!I102","v":0},{"$f":"'Result Entry'!J102","v":"00:00:00"},{"$f":"'Result Entry'!K102","v":0},{"$f":"'Result Entry'!L102","v":0},{"$f":"'Result Entry'!M102","v":0},{"$f":"'Result Entry'!N102","v":0},{"$f":"'Result Entry'!O102","v":0},{"$f":"'Result Entry'!P102","v":0},{"$f":"'Result Entry'!Q102","v":0},{"$f":"'Result Entry'!R102","v":0},{"$f":"'Result Entry'!S102","v":0},{"$f":"'Result Entry'!T102","v":0},{"$f":"'Result Entry'!U102","v":0},{"$f":"'Result Entry'!V102","v":0},{"$f":"'Result Entry'!W102","v":0},{"$f":"'Result Entry'!X102","v":0},{"$f":"'Result Entry'!Y102","v":""},{"$f":"'Result Entry'!Z102","v":0},{"$f":"'Result Entry'!AA102","v":0},{"$f":"'Result Entry'!AB102","v":0},{"$f":"'Result Entry'!AC102","v":0},{"$f":"'Result Entry'!AD102","v":0},{"$f":"'Result Entry'!AE102","v":0},{"$f":"'Result Entry'!AF102","v":0},{"$f":"'Result Entry'!AG102","v":0},{"$f":"'Result Entry'!AH102","v":0},{"$f":"'Result Entry'!AI102","v":0},{"$f":"'Result Entry'!AJ102","v":0},{"$f":"'Result Entry'!AK102","v":0},{"$f":"'Result Entry'!AL102","v":0},{"$f":"'Result Entry'!AM102","v":0},{"$f":"'Result Entry'!AN102","v":""},{"$f":"'Result Entry'!AO102","v":0},{"$f":"'Result Entry'!AP102","v":0},{"$f":"'Result Entry'!AQ102","v":0},{"$f":"'Result Entry'!AR102","v":0},{"$f":"'Result Entry'!AS102","v":0},{"$f":"'Result Entry'!AT102","v":0},{"$f":"'Result Entry'!AU102","v":0},{"$f":"'Result Entry'!AV102","v":0},{"$f":"'Result Entry'!AW102","v":0},{"$f":"'Result Entry'!AX102","v":0},{"$f":"'Result Entry'!AY102","v":0},{"$f":"'Result Entry'!AZ102","v":0},{"$f":"'Result Entry'!BA102","v":0},{"$f":"'Result Entry'!BB102","v":0},{"$f":"'Result Entry'!BC102","v":""},{"$f":"'Result Entry'!BD102","v":0},{"$f":"'Result Entry'!BE102","v":0},{"$f":"'Result Entry'!BF102","v":0},{"$f":"'Result Entry'!BG102","v":0},{"$f":"'Result Entry'!BH102","v":0},{"$f":"'Result Entry'!BI102","v":0},{"$f":"'Result Entry'!BJ102","v":0},{"$f":"'Result Entry'!BK102","v":0},{"$f":"'Result Entry'!BL102","v":0},{"$f":"'Result Entry'!BM102","v":0},{"$f":"'Result Entry'!BN102","v":0},{"$f":"'Result Entry'!BO102","v":0},{"$f":"'Result Entry'!BP102","v":0},{"$f":"'Result Entry'!BQ102","v":0},{"$f":"'Result Entry'!BR102","v":""},{"$f":"'Result Entry'!BS102","v":0},{"$f":"'Result Entry'!BT102","v":0},{"$f":"'Result Entry'!BU102","v":0},{"$f":"'Result Entry'!BV102","v":0},{"$f":"'Result Entry'!BW102","v":0},{"$f":"'Result Entry'!BX102","v":0},{"$f":"'Result Entry'!BY102","v":0},{"$f":"'Result Entry'!BZ102","v":0},{"$f":"'Result Entry'!CA102","v":0},{"$f":"'Result Entry'!CB102","v":0},{"$f":"'Result Entry'!CC102","v":0},{"$f":"'Result Entry'!CD102","v":0},{"$f":"'Result Entry'!CE102","v":0},{"$f":"'Result Entry'!CF102","v":0},{"$f":"'Result Entry'!CG102","v":""},{"$f":"'Result Entry'!CH102","v":0},{"$f":"'Result Entry'!CI102","v":0},{"$f":"'Result Entry'!CJ102","v":0},{"$f":"'Result Entry'!CK102","v":0},{"$f":"'Result Entry'!CL102","v":0},{"$f":"'Result Entry'!CM102","v":0},{"$f":"'Result Entry'!CN102","v":0},{"$f":"'Result Entry'!CO102","v":""},{"$f":"'Result Entry'!CP102","v":0},{"$f":"'Result Entry'!CQ102","v":0},{"$f":"'Result Entry'!CR102","v":0},{"$f":"'Result Entry'!CS102","v":0},{"$f":"'Result Entry'!CT102","v":0},{"$f":"'Result Entry'!CU102","v":0},{"$f":"'Result Entry'!CV102","v":0},{"$f":"'Result Entry'!CW102","v":""},{"$f":"'Result Entry'!CX102","v":0},{"$f":"'Result Entry'!CY102","v":0},{"$f":"'Result Entry'!CZ102","v":0},{"$f":"'Result Entry'!DA102","v":0},{"$f":"'Result Entry'!DB102","v":0},{"$f":"'Result Entry'!DC102","v":0},{"$f":"'Result Entry'!DD102","v":0},{"$f":"'Result Entry'!DE102","v":""},{"$f":"'Result Entry'!DF102","v":0},{"$f":"'Result Entry'!DG102","v":0},{"$f":"'Result Entry'!DH102","v":0},{"$f":"'Result Entry'!DI102","v":0},{"$f":"'Result Entry'!DJ102","v":0},{"$f":"'Result Entry'!DK102","v":0},{"$f":"'Result Entry'!DL102","v":""},{"$f":"'Result Entry'!DM102","v":""},{"$f":"'Result Entry'!DN102","v":0},{"$f":"'Result Entry'!DO102","v":0},{"$f":"'Result Entry'!DP102","v":""},{"$f":"'Result Entry'!DQ102","v":900},{"$f":"'Result Entry'!DR102","v":0},{"$f":"'Result Entry'!DS102","v":{"v":0,"d":"0.00"}},{"$f":"'Result Entry'!DT102","v":""},{"$f":"'Result Entry'!DU102","v":""},{"$f":"'Result Entry'!DV102","v":""},{"$f":"'Result Entry'!DW102","v":""}]
[null,0,{"$f":"'Result Entry'!D103","v":0},{"$f":"'Result Entry'!E103","v":0},{"$f":"'Result Entry'!F103","v":0},{"$f":"'Result Entry'!G103","v":0},{"$f":"'Result Entry'!H103","v":0},{"$f":"'Result Entry'!I103","v":0},{"$f":"'Result Entry'!J103","v":"00:00:00"},{"$f":"'Result Entry'!K103","v":0},{"$f":"'Result Entry'!L103","v":0},{"$f":"'Result Entry'!M103","v":0},{"$f":"'Result Entry'!N103","v":0},{"$f":"'Result Entry'!O103","v":0},{"$f":"'Result Entry'!P103","v":0},{"$f":"'Result Entry'!Q103","v":0},{"$f":"'Result Entry'!R103","v":0},{"$f":"'Result Entry'!S103","v":0},{"$f":"'Result Entry'!T103","v":0},{"$f":"'Result Entry'!U103","v":0},{"$f":"'Result Entry'!V103","v":0},{"$f":"'Result Entry'!W103","v":0},{"$f":"'Result Entry'!X103","v":0},{"$f":"'Result Entry'!Y103","v":""},{"$f":"'Result Entry'!Z103","v":0},{"$f":"'Result Entry'!AA103","v":0},{"$f":"'Result Entry'!AB103","v":0},{"$f":"'Result Entry'!AC103","v":0},{"$f":"'Result Entry'!AD103","v":0},{"$f":"'Result Entry'!AE103","v":0},{"$f":"'Result Entry'!AF103","v":0},{"$f":"'Result Entry'!AG103","v":0},{"$f":"'Result Entry'!AH103","v":0},{"$f":"'Result Entry'!AI103","v":0},{"$f":"'Result Entry'!AJ103","v":0},{"$f":"'Result Entry'!AK103","v":0},{"$f":"'Result Entry'!AL103","v":0},{"$f":"'Result Entry'!AM103","v":0},{"$f":"'Result Entry'!AN103","v":""},{"$f":"'Result Entry'!AO103","v":0},{"$f":"'Result Entry'!AP103","v":0},{"$f":"'Result Entry'!AQ103","v":0},{"$f":"'Result Entry'!AR103","v":0},{"$f":"'Result Entry'!AS103","v":0},{"$f":"'Result Entry'!AT103","v":0},{"$f":"'Result Entry'!AU103","v":0},{"$f":"'Result Entry'!AV103","v":0},{"$f":"'Result Entry'!AW103","v":0},{"$f":"'Result Entry'!AX103","v":0},{"$f":"'Result Entry'!AY103","v":0},{"$f":"'Result Entry'!AZ103","v":0},{"$f":"'Result Entry'!BA103","v":0},{"$f":"'Result Entry'!BB103","v":0},{"$f":"'Result Entry'!BC103","v":""},{"$f":"'Result Entry'!BD103","v":0},{"$f":"'Result Entry'!BE103","v":0},{"$f":"'Result Entry'!BF103","v":0},{"$f":"'Result Entry'!BG103","v":0},{"$f":"'Result Entry'!BH103","v":0},{"$f":"'Result Entry'!BI103","v":0},{"$f":"'Result Entry'!BJ103","v":0},{"$f":"'Result Entry'!BK103","v":0},{"$f":"'Result Entry'!BL103","v":0},{"$f":"'Result Entry'!BM103","v":0},{"$f":"'Result Entry'!BN103","v":0},{"$f":"'Result Entry'!BO103","v":0},{"$f":"'Result Entry'!BP103","v":0},{"$f":"'Result Entry'!BQ103","v":0},{"$f":"'Result Entry'!BR103","v":""},{"$f":"'Result Entry'!BS103","v":0},{"$f":"'Result Entry'!BT103","v":0},{"$f":"'Result Entry'!BU103","v":0},{"$f":"'Result Entry'!BV103","v":0},{"$f":"'Result Entry'!BW103","v":0},{"$f":"'Result Entry'!BX103","v":0},{"$f":"'Result Entry'!BY103","v":0},{"$f":"'Result Entry'!BZ103","v":0},{"$f":"'Result Entry'!CA103","v":0},{"$f":"'Result Entry'!CB103","v":0},{"$f":"'Result Entry'!CC103","v":0},{"$f":"'Result Entry'!CD103","v":0},{"$f":"'Result Entry'!CE103","v":0},{"$f":"'Result Entry'!CF103","v":0},{"$f":"'Result Entry'!CG103","v":""},{"$f":"'Result Entry'!CH103","v":0},{"$f":"'Result Entry'!CI103","v":0},{"$f":"'Result Entry'!CJ103","v":0},{"$f":"'Result Entry'!CK103","v":0},{"$f":"'Result Entry'!CL103","v":0},{"$f":"'Result Entry'!CM103","v":0},{"$f":"'Result Entry'!CN103","v":0},{"$f":"'Result Entry'!CO103","v":""},{"$f":"'Result Entry'!CP103","v":0},{"$f":"'Result Entry'!CQ103","v":0},{"$f":"'Result Entry'!CR103","v":0},{"$f":"'Result Entry'!CS103","v":0},{"$f":"'Result Entry'!CT103","v":0},{"$f":"'Result Entry'!CU103","v":0},{"$f":"'Result Entry'!CV103","v":0},{"$f":"'Result Entry'!CW103","v":""},{"$f":"'Result Entry'!CX103","v":0},{"$f":"'Result Entry'!CY103","v":0},{"$f":"'Result Entry'!CZ103","v":0},{"$f":"'Result Entry'!DA103","v":0},{"$f":"'Result Entry'!DB103","v":0},{"$f":"'Result Entry'!DC103","v":0},{"$f":"'Result Entry'!DD103","v":0},{"$f":"'Result Entry'!DE103","v":""},{"$f":"'Result Entry'!DF103","v":0},{"$f":"'Result Entry'!DG103","v":0},{"$f":"'Result Entry'!DH103","v":0},{"$f":"'Result Entry'!DI103","v":0},{"$f":"'Result Entry'!DJ103","v":0},{"$f":"'Result Entry'!DK103","v":0},{"$f":"'Result Entry'!DL103","v":""},{"$f":"'Result Entry'!DM103","v":""},{"$f":"'Result Entry'!DN103","v":0},{"$f":"'Result Entry'!DO103","v":0},{"$f":"'Result Entry'!DP103","v":""},{"$f":"'Result Entry'!DQ103","v":900},{"$f":"'Result Entry'!DR103","v":0},{"$f":"'Result Entry'!DS103","v":{"v":0,"d":"0.00"}},{"$f":"'Result Entry'!DT103","v":""},{"$f":"'Result Entry'!DU103","v":""},{"$f":"'Result Entry'!DV103","v":""},{"$f":"'Result Entry'!DW103","v":""}]
[null,0,{"$f":"'Result Entry'!D104","v":0},{"$f":"'Result Entry'!E104","v":0},{"$f":"'Result Entry'!F104","v":0},{"$f":"'Result Entry'!G104","v":0},{"$f":"'Result Entry'!H104","v":0},{"$f":"'Result Entry'!I104","v":0},{"$f":"'Result Entry'!J104","v":"00:00:00"},{"$f":"'Result Entry'!K104","v":0},{"$f":"'Result Entry'!L104","v":0},{"$f":"'Result Entry'!M104","v":0},{"$f":"'Result Entry'!N104","v":0},{"$f":"'Result Entry'!O104","v":0},{"$f":"'Result Entry'!P104","v":0},{"$f":"'Result Entry'!Q104","v":0},{"$f":"'Result Entry'!R104","v":0},{"$f":"'Result Entry'!S104","v":0},{"$f":"'Result Entry'!T104","v":0},{"$f":"'Result Entry'!U104","v":0},{"$f":"'Result Entry'!V104","v":0},{"$f":"'Result Entry'!W104","v":0},{"$f":"'Result Entry'!X104","v":0},{"$f":"'Result Entry'!Y104","v":""},{"$f":"'Result Entry'!Z104","v":0},{"$f":"'Result Entry'!AA104","v":0},{"$f":"'Result Entry'!AB104","v":0},{"$f":"'Result Entry'!AC104","v":0},{"$f":"'Result Entry'!AD104","v":0},{"$f":"'Result Entry'!AE104","v":0},{"$f":"'Result Entry'!AF104","v":0},{"$f":"'Result Entry'!AG104","v":0},{"$f":"'Result Entry'!AH104","v":0},{"$f":"'Result Entry'!AI104","v":0},{"$f":"'Result Entry'!AJ104","v":0},{"$f":"'Result Entry'!AK104","v":0},{"$f":"'Result Entry'!AL104","v":0},{"$f":"'Result Entry'!AM104","v":0},{"$f":"'Result Entry'!AN104","v":""},{"$f":"'Result Entry'!AO104","v":0},{"$f":"'Result Entry'!AP104","v":0},{"$f":"'Result Entry'!AQ104","v":0},{"$f":"'Result Entry'!AR104","v":0},{"$f":"'Result Entry'!AS104","v":0},{"$f":"'Result Entry'!AT104","v":0},{"$f":"'Result Entry'!AU104","v":0},{"$f":"'Result Entry'!AV104","v":0},{"$f":"'Result Entry'!AW104","v":0},{"$f":"'Result Entry'!AX104","v":0},{"$f":"'Result Entry'!AY104","v":0},{"$f":"'Result Entry'!AZ104","v":0},{"$f":"'Result Entry'!BA104","v":0},{"$f":"'Result Entry'!BB104","v":0},{"$f":"'Result Entry'!BC104","v":""},{"$f":"'Result Entry'!BD104","v":0},{"$f":"'Result Entry'!BE104","v":0},{"$f":"'Result Entry'!BF104","v":0},{"$f":"'Result Entry'!BG104","v":0},{"$f":"'Result Entry'!BH104","v":0},{"$f":"'Result Entry'!BI104","v":0},{"$f":"'Result Entry'!BJ104","v":0},{"$f":"'Result Entry'!BK104","v":0},{"$f":"'Result Entry'!BL104","v":0},{"$f":"'Result Entry'!BM104","v":0},{"$f":"'Result Entry'!BN104","v":0},{"$f":"'Result Entry'!BO104","v":0},{"$f":"'Result Entry'!BP104","v":0},{"$f":"'Result Entry'!BQ104","v":0},{"$f":"'Result Entry'!BR104","v":""},{"$f":"'Result Entry'!BS104","v":0},{"$f":"'Result Entry'!BT104","v":0},{"$f":"'Result Entry'!BU104","v":0},{"$f":"'Result Entry'!BV104","v":0},{"$f":"'Result Entry'!BW104","v":0},{"$f":"'Result Entry'!BX104","v":0},{"$f":"'Result Entry'!BY104","v":0},{"$f":"'Result Entry'!BZ104","v":0},{"$f":"'Result Entry'!CA104","v":0},{"$f":"'Result Entry'!CB104","v":0},{"$f":"'Result Entry'!CC104","v":0},{"$f":"'Result Entry'!CD104","v":0},{"$f":"'Result Entry'!CE104","v":0},{"$f":"'Result Entry'!CF104","v":0},{"$f":"'Result Entry'!CG104","v":""},{"$f":"'Result Entry'!CH104","v":0},{"$f":"'Result Entry'!CI104","v":0},{"$f":"'Result Entry'!CJ104","v":0},{"$f":"'Result Entry'!CK104","v":0},{"$f":"'Result Entry'!CL104","v":0},{"$f":"'Result Entry'!CM104","v":0},{"$f":"'Result Entry'!CN104","v":0},{"$f":"'Result Entry'!CO104","v":""},{"$f":"'Result Entry'!CP104","v":0},{"$f":"'Result Entry'!CQ104","v":0},{"$f":"'Result Entry'!CR104","v":0},{"$f":"'Result Entry'!CS104","v":0},{"$f":"'Result Entry'!CT104","v":0},{"$f":"'Result Entry'!CU104","v":0},{"$f":"'Result Entry'!CV104","v":0},{"$f":"'Result Entry'!CW104","v":""},{"$f":"'Result Entry'!CX104","v":0},{"$f":"'Result Entry'!CY104","v":0},{"$f":"'Result Entry'!CZ104","v":0},{"$f":"'Result Entry'!DA104","v":0},{"$f":"'Result Entry'!DB104","v":0},{"$f":"'Result Entry'!DC104","v":0},{"$f":"'Result Entry'!DD104","v":0},{"$f":"'Result Entry'!DE104","v":""},{"$f":"'Result Entry'!DF104","v":0},{"$f":"'Result Entry'!DG104","v":0},{"$f":"'Result Entry'!DH104","v":0},{"$f":"'Result Entry'!DI104","v":0},{"$f":"'Result Entry'!DJ104","v":0},{"$f":"'Result Entry'!DK104","v":0},{"$f":"'Result Entry'!DL104","v":""},{"$f":"'Result Entry'!DM104","v":""},{"$f":"'Result Entry'!DN104","v":0},{"$f":"'Result Entry'!DO104","v":0},{"$f":"'Result Entry'!DP104","v":""},{"$f":"'Result Entry'!DQ104","v":900},{"$f":"'Result Entry'!DR104","v":0},{"$f":"'Result Entry'!DS104","v":{"v":0,"d":"0.00"}},{"$f":"'Result Entry'!DT104","v":""},{"$f":"'Result Entry'!DU104","v":""},{"$f":"'Result Entry'!DV104","v":""},{"$f":"'Result Entry'!DW104","v":""}]
[null,0,{"$f":"'Result Entry'!D105","v":0},{"$f":"'Result Entry'!E105","v":0},{"$f":"'Result Entry'!F105","v":0},{"$f":"'Result Entry'!G105","v":0},{"$f":"'Result Entry'!H105","v":0},{"$f":"'Result Entry'!I105","v":0},{"$f":"'Result Entry'!J105","v":"00:00:00"},{"$f":"'Result Entry'!K105","v":0},{"$f":"'Result Entry'!L105","v":0},{"$f":"'Result Entry'!M105","v":0},{"$f":"'Result Entry'!N105","v":0},{"$f":"'Result Entry'!O105","v":0},{"$f":"'Result Entry'!P105","v":0},{"$f":"'Result Entry'!Q105","v":0},{"$f":"'Result Entry'!R105","v":0},{"$f":"'Result Entry'!S105","v":0},{"$f":"'Result Entry'!T105","v":0},{"$f":"'Result Entry'!U105","v":0},{"$f":"'Result Entry'!V105","v":0},{"$f":"'Result Entry'!W105","v":0},{"$f":"'Result Entry'!X105","v":0},{"$f":"'Result Entry'!Y105","v":""},{"$f":"'Result Entry'!Z105","v":0},{"$f":"'Result Entry'!AA105","v":0},{"$f":"'Result Entry'!AB105","v":0},{"$f":"'Result Entry'!AC105","v":0},{"$f":"'Result Entry'!AD105","v":0},{"$f":"'Result Entry'!AE105","v":0},{"$f":"'Result Entry'!AF105","v":0},{"$f":"'Result Entry'!AG105","v":0},{"$f":"'Result Entry'!AH105","v":0},{"$f":"'Result Entry'!AI105","v":0},{"$f":"'Result Entry'!AJ105","v":0},{"$f":"'Result Entry'!AK105","v":0},{"$f":"'Result Entry'!AL105","v":0},{"$f":"'Result Entry'!AM105","v":0},{"$f":"'Result Entry'!AN105","v":""},{"$f":"'Result Entry'!AO105","v":0},{"$f":"'Result Entry'!AP105","v":0},{"$f":"'Result Entry'!AQ105","v":0},{"$f":"'Result Entry'!AR105","v":0},{"$f":"'Result Entry'!AS105","v":0},{"$f":"'Result Entry'!AT105","v":0},{"$f":"'Result Entry'!AU105","v":0},{"$f":"'Result Entry'!AV105","v":0},{"$f":"'Result Entry'!AW105","v":0},{"$f":"'Result Entry'!AX105","v":0},{"$f":"'Result Entry'!AY105","v":0},{"$f":"'Result Entry'!AZ105","v":0},{"$f":"'Result Entry'!BA105","v":0},{"$f":"'Result Entry'!BB105","v":0},{"$f":"'Result Entry'!BC105","v":""},{"$f":"'Result Entry'!BD105","v":0},{"$f":"'Result Entry'!BE105","v":0},{"$f":"'Result Entry'!BF105","v":0},{"$f":"'Result Entry'!BG105","v":0},{"$f":"'Result Entry'!BH105","v":0},{"$f":"'Result Entry'!BI105","v":0},{"$f":"'Result Entry'!BJ105","v":0},{"$f":"'Result Entry'!BK105","v":0},{"$f":"'Result Entry'!BL105","v":0},{"$f":"'Result Entry'!BM105","v":0},{"$f":"'Result Entry'!BN105","v":0},{"$f":"'Result Entry'!BO105","v":0},{"$f":"'Result Entry'!BP105","v":0},{"$f":"'Result Entry'!BQ105","v":0},{"$f":"'Result Entry'!BR105","v":""},{"$f":"'Result Entry'!BS105","v":0},{"$f":"'Result Entry'!BT105","v":0},{"$f":"'Result Entry'!BU105","v":0},{"$f":"'Result Entry'!BV105","v":0},{"$f":"'Result Entry'!BW105","v":0},{"$f":"'Result Entry'!BX105","v":0},{"$f":"'Result Entry'!BY105","v":0},{"$f":"'Result Entry'!BZ105","v":0},{"$f":"'Result Entry'!CA105","v":0},{"$f":"'Result Entry'!CB105","v":0},{"$f":"'Result Entry'!CC105","v":0},{"$f":"'Result Entry'!CD105","v":0},{"$f":"'Result Entry'!CE105","v":0},{"$f":"'Result Entry'!CF105","v":0},{"$f":"'Result Entry'!CG105","v":""},{"$f":"'Result Entry'!CH105","v":0},{"$f":"'Result Entry'!CI105","v":0},{"$f":"'Result Entry'!CJ105","v":0},{"$f":"'Result Entry'!CK105","v":0},{"$f":"'Result Entry'!CL105","v":0},{"$f":"'Result Entry'!CM105","v":0},{"$f":"'Result Entry'!CN105","v":0},{"$f":"'Result Entry'!CO105","v":""},{"$f":"'Result Entry'!CP105","v":0},{"$f":"'Result Entry'!CQ105","v":0},{"$f":"'Result Entry'!CR105","v":0},{"$f":"'Result Entry'!CS105","v":0},{"$f":"'Result Entry'!CT105","v":0},{"$f":"'Result Entry'!CU105","v":0},{"$f":"'Result Entry'!CV105","v":0},{"$f":"'Result Entry'!CW105","v":""},{"$f":"'Result Entry'!CX105","v":0},{"$f":"'Result Entry'!CY105","v":0},{"$f":"'Result Entry'!CZ105","v":0},{"$f":"'Result Entry'!DA105","v":0},{"$f":"'Result Entry'!DB105","v":0},{"$f":"'Result Entry'!DC105","v":0},{"$f":"'Result Entry'!DD105","v":0},{"$f":"'Result Entry'!DE105","v":""},{"$f":"'Result Entry'!DF105","v":0},{"$f":"'Result Entry'!DG105","v":0},{"$f":"'Result Entry'!DH105","v":0},{"$f":"'Result Entry'!DI105","v":0},{"$f":"'Result Entry'!DJ105","v":0},{"$f":"'Result Entry'!DK105","v":0},{"$f":"'Result Entry'!DL105","v":""},{"$f":"'Result Entry'!DM105","v":""},{"$f":"'Result Entry'!DN105","v":0},{"$f":"'Result Entry'!DO105","v":0},{"$f":"'Result Entry'!DP105","v":""},{"$f":"'Result Entry'!DQ105","v":900},{"$f":"'Result Entry'!DR105","v":0},{"$f":"'Result Entry'!DS105","v":{"v":0,"d":"0.00"}},{"$f":"'Result Entry'!DT105","v":""},{"$f":"'Result Entry'!DU105","v":""},{"$f":"'Result Entry'!DV105","v":""},{"$f":"'Result Entry'!DW105","v":""}]
[null,0,{"$f":"'Result Entry'!D106","v":0},{"$f":"'Result Entry'!E106","v":0},{"$f":"'Result Entry'!F106","v":0},{"$f":"'Result Entry'!G106","v":0},{"$f":"'Result Entry'!H106","v":0},{"$f":"'Result Entry'!I106","v":0},{"$f":"'Result Entry'!J106","v":"00:00:00"},{"$f":"'Result Entry'!K106","v":0},{"$f":"'Result Entry'!L106","v":0},{"$f":"'Result Entry'!M106","v":0},{"$f":"'Result Entry'!N106","v":0},{"$f":"'Result Entry'!O106","v":0},{"$f":"'Result Entry'!P106","v":0},{"$f":"'Result Entry'!Q106","v":0},{"$f":"'Result Entry'!R106","v":0},{"$f":"'Result Entry'!S106","v":0},{"$f":"'Result Entry'!T106","v":0},{"$f":"'Result Entry'!U106","v":0},{"$f":"'Result Entry'!V106","v":0},{"$f":"'Result Entry'!W106","v":0},{"$f":"'Result Entry'!X106","v":0},{"$f":"'Result Entry'!Y106","v":""},{"$f":"'Result Entry'!Z106","v":0},{"$f":"'Result Entry'!AA106","v":0},{"$f":"'Result Entry'!AB106","v":0},{"$f":"'Result Entry'!AC106","v":0},{"$f":"'Result Entry'!AD106","v":0},{"$f":"'Result Entry'!AE106","v":0},{"$f":"'Result Entry'!AF106","v":0},{"$f":"'Result Entry'!AG106","v":0},{"$f":"'Result Entry'!AH106","v":0},{"$f":"'Result Entry'!AI106","v":0},{"$f":"'Result Entry'!AJ106","v":0},{"$f":"'Result Entry'!AK106","v":0},{"$f":"'Result Entry'!AL106","v":0},{"$f":"'Result Entry'!AM106","v":0},{"$f":"'Result Entry'!AN106","v":""},{"$f":"'Result Entry'!AO106","v":0},{"$f":"'Result Entry'!AP106","v":0},{"$f":"'Result Entry'!AQ106","v":0},{"$f":"'Result Entry'!AR106","v":0},{"$f":"'Result Entry'!AS106","v":0},{"$f":"'Result Entry'!AT106","v":0},{"$f":"'Result Entry'!AU106","v":0},{"$f":"'Result Entry'!AV106","v":0},{"$f":"'Result Entry'!AW106","v":0},{"$f":"'Result Entry'!AX106","v":0},{"$f":"'Result Entry'!AY106","v":0},{"$f":"'Result Entry'!AZ106","v":0},{"$f":"'Result Entry'!BA106","v":0},{"$f":"'Result Entry'!BB106","v":0},{"$f":"'Result Entry'!BC106","v":""},{"$f":"'Result Entry'!BD106","v":0},{"$f":"'Result Entry'!BE106","v":0},{"$f":"'Result Entry'!BF106","v":0},{"$f":"'Result Entry'!BG106","v":0},{"$f":"'Result Entry'!BH106","v":0},{"$f":"'Result Entry'!BI106","v":0},{"$f":"'Result Entry'!BJ106","v":0},{"$f":"'Result Entry'!BK106","v":0},{"$f":"'Result Entry'!BL106","v":0},{"$f":"'Result Entry'!BM106","v":0},{"$f":"'Result Entry'!BN106","v":0},{"$f":"'Result Entry'!BO106","v":0},{"$f":"'Result Entry'!BP106","v":0},{"$f":"'Result Entry'!BQ106","v":0},{"$f":"'Result Entry'!BR106","v":""},{"$f":"'Result Entry'!BS106","v":0},{"$f":"'Result Entry'!BT106","v":0},{"$f":"'Result Entry'!BU106","v":0},{"$f":"'Result Entry'!BV106","v":0},{"$f":"'Result Entry'!BW106","v":0},{"$f":"'Result Entry'!BX106","v":0},{"$f":"'Result Entry'!BY106","v":0},{"$f":"'Result Entry'!BZ106","v":0},{"$f":"'Result Entry'!CA106","v":0},{"$f":"'Result Entry'!CB106","v":0},{"$f":"'Result Entry'!CC106","v":0},{"$f":"'Result Entry'!CD106","v":0},{"$f":"'Result Entry'!CE106","v":0},{"$f":"'Result Entry'!CF106","v":0},{"$f":"'Result Entry'!CG106","v":""},{"$f":"'Result Entry'!CH106","v":0},{"$f":"'Result Entry'!CI106","v":0},{"$f":"'Result Entry'!CJ106","v":0},{"$f":"'Result Entry'!CK106","v":0},{"$f":"'Result Entry'!CL106","v":0},{"$f":"'Result Entry'!CM106","v":0},{"$f":"'Result Entry'!CN106","v":0},{"$f":"'Result Entry'!CO106","v":""},{"$f":"'Result Entry'!CP106","v":0},{"$f":"'Result Entry'!CQ106","v":0},{"$f":"'Result Entry'!CR106","v":0},{"$f":"'Result Entry'!CS106","v":0},{"$f":"'Result Entry'!CT106","v":0},{"$f":"'Result Entry'!CU106","v":0},{"$f":"'Result Entry'!CV106","v":0},{"$f":"'Result Entry'!CW106","v":""},{"$f":"'Result Entry'!CX106","v":0},{"$f":"'Result Entry'!CY106","v":0},{"$f":"'Result Entry'!CZ106","v":0},{"$f":"'Result Entry'!DA106","v":0},{"$f":"'Result Entry'!DB106","v":0},{"$f":"'Result Entry'!DC106","v":0},{"$f":"'Result Entry'!DD106","v":0},{"$f":"'Result Entry'!DE106","v":""},{"$f":"'Result Entry'!DF106","v":0},{"$f":"'Result Entry'!DG106","v":0},{"$f":"'Result Entry'!DH106","v":0},{"$f":"'Result Entry'!DI106","v":0},{"$f":"'Result Entry'!DJ106","v":0},{"$f":"'Result Entry'!DK106","v":0},{"$f":"'Result Entry'!DL106","v":""},{"$f":"'Result Entry'!DM106","v":""},{"$f":"'Result Entry'!DN106","v":0},{"$f":"'Result Entry'!DO106","v":0},{"$f":"'Result Entry'!DP106","v":""},{"$f":"'Result Entry'!DQ106","v":900},{"$f":"'Result Entry'!DR106","v":0},{"$f":"'Result Entry'!DS106","v":{"v":0,"d":"0.00"}},{"$f":"'Result Entry'!DT106","v":""},{"$f":"'Result Entry'!DU106","v":""},{"$f":"'Result Entry'!DV106","v":""},{"$f":"'Result Entry'!DW106","v":""}]
[null,0,{"$f":"'Result Entry'!D107","v":0},{"$f":"'Result Entry'!E107","v":0},{"$f":"'Result Entry'!F107","v":0},{"$f":"'Result Entry'!G107","v":0},{"$f":"'Result Entry'!H107","v":0},{"$f":"'Result Entry'!I107","v":0},{"$f":"'Result Entry'!J107","v":"00:00:00"},{"$f":"'Result Entry'!K107","v":0},{"$f":"'Result Entry'!L107","v":0},{"$f":"'Result Entry'!M107","v":0},{"$f":"'Result Entry'!N107","v":0},{"$f":"'Result Entry'!O107","v":0},{"$f":"'Result Entry'!P107","v":0},{"$f":"'Result Entry'!Q107","v":0},{"$f":"'Result Entry'!R107","v":0},{"$f":"'Result Entry'!S107","v":0},{"$f":"'Result Entry'!T107","v":0},{"$f":"'Result Entry'!U107","v":0},{"$f":"'Result Entry'!V107","v":0},{"$f":"'Result Entry'!W107","v":0},{"$f":"'Result Entry'!X107","v":0},{"$f":"'Result Entry'!Y107","v":""},{"$f":"'Result Entry'!Z107","v":0},{"$f":"'Result Entry'!AA107","v":0},{"$f":"'Result Entry'!AB107","v":0},{"$f":"'Result Entry'!AC107","v":0},{"$f":"'Result Entry'!AD107","v":0},{"$f":"'Result Entry'!AE107","v":0},{"$f":"'Result Entry'!AF107","v":0},{"$f":"'Result Entry'!AG107","v":0},{"$f":"'Result Entry'!AH107","v":0},{"$f":"'Result Entry'!AI107","v":0},{"$f":"'Result Entry'!AJ107","v":0},{"$f":"'Result Entry'!AK107","v":0},{"$f":"'Result Entry'!AL107","v":0},{"$f":"'Result Entry'!AM107","v":0},{"$f":"'Result Entry'!AN107","v":""},{"$f":"'Result Entry'!AO107","v":0},{"$f":"'Result Entry'!AP107","v":0},{"$f":"'Result Entry'!AQ107","v":0},{"$f":"'Result Entry'!AR107","v":0},{"$f":"'Result Entry'!AS107","v":0},{"$f":"'Result Entry'!AT107","v":0},{"$f":"'Result Entry'!AU107","v":0},{"$f":"'Result Entry'!AV107","v":0},{"$f":"'Result Entry'!AW107","v":0},{"$f":"'Result Entry'!AX107","v":0},{"$f":"'Result Entry'!AY107","v":0},{"$f":"'Result Entry'!AZ107","v":0},{"$f":"'Result Entry'!BA107","v":0},{"$f":"'Result Entry'!BB107","v":0},{"$f":"'Result Entry'!BC107","v":""},{"$f":"'Result Entry'!BD107","v":0},{"$f":"'Result Entry'!BE107","v":0},{"$f":"'Result Entry'!BF107","v":0},{"$f":"'Result Entry'!BG107","v":0},{"$f":"'Result Entry'!BH107","v":0},{"$f":"'Result Entry'!BI107","v":0},{"$f":"'Result Entry'!BJ107","v":0},{"$f":"'Result Entry'!BK107","v":0},{"$f":"'Result Entry'!BL107","v":0},{"$f":"'Result Entry'!BM107","v":0},{"$f":"'Result Entry'!BN107","v":0},{"$f":"'Result Entry'!BO107","v":0},{"$f":"'Result Entry'!BP107","v":0},{"$f":"'Result Entry'!BQ107","v":0},{"$f":"'Result Entry'!BR107","v":""},{"$f":"'Result Entry'!BS107","v":0},{"$f":"'Result Entry'!BT107","v":0},{"$f":"'Result Entry'!BU107","v":0},{"$f":"'Result Entry'!BV107","v":0},{"$f":"'Result Entry'!BW107","v":0},{"$f":"'Result Entry'!BX107","v":0},{"$f":"'Result Entry'!BY107","v":0},{"$f":"'Result Entry'!BZ107","v":0},{"$f":"'Result Entry'!CA107","v":0},{"$f":"'Result Entry'!CB107","v":0},{"$f":"'Result Entry'!CC107","v":0},{"$f":"'Result Entry'!CD107","v":0},{"$f":"'Result Entry'!CE107","v":0},{"$f":"'Result Entry'!CF107","v":0},{"$f":"'Result Entry'!CG107","v":""},{"$f":"'Result Entry'!CH107","v":0},{"$f":"'Result Entry'!CI107","v":0},{"$f":"'Result Entry'!CJ107","v":0},{"$f":"'Result Entry'!CK107","v":0},{"$f":"'Result Entry'!CL107","v":0},{"$f":"'Result Entry'!CM107","v":0},{"$f":"'Result Entry'!CN107","v":0},{"$f":"'Result Entry'!CO107","v":""},{"$f":"'Result Entry'!CP107","v":0},{"$f":"'Result Entry'!CQ107","v":0},{"$f":"'Result Entry'!CR107","v":0},{"$f":"'Result Entry'!CS107","v":0},{"$f":"'Result Entry'!CT107","v":0},{"$f":"'Result Entry'!CU107","v":0},{"$f":"'Result Entry'!CV107","v":0},{"$f":"'Result Entry'!CW107","v":""},{"$f":"'Result Entry'!CX107","v":0},{"$f":"'Result Entry'!CY107","v":0},{"$f":"'Result Entry'!CZ107","v":0},{"$f":"'Result Entry'!DA107","v":0},{"$f":"'Result Entry'!DB107","v":0},{"$f":"'Result Entry'!DC107","v":0},{"$f":"'Result Entry'!DD107","v":0},{"$f":"'Result Entry'!DE107","v":""},{"$f":"'Result Entry'!DF107","v":0},{"$f":"'Result Entry'!DG107","v":0},{"$f":"'Result Entry'!DH107","v":0},{"$f":"'Result Entry'!DI107","v":0},{"$f":"'Result Entry'!DJ107","v":0},{"$f":"'Result Entry'!DK107","v":0},{"$f":"'Result Entry'!DL107","v":""},{"$f":"'Result Entry'!DM107","v":""},{"$f":"'Result Entry'!DN107","v":0},{"$f":"'Result Entry'!DO107","v":0},{"$f":"'Result Entry'!DP107","v":""},{"$f":"'Result Entry'!DQ107","v":900},{"$f":"'Result Entry'!DR107","v":0},{"$f":"'Result Entry'!DS107","v":{"v":0,"d":"0.00"}},{"$f":"'Result Entry'!DT107","v":""},{"$f":"'Result Entry'!DU107","v":""},{"$f":"'Result Entry'!DV107","v":""},{"$f":"'Result Entry'!DW107","v":""}]
[null,0,{"$f":"'Result Entry'!D108","v":0},{"$f":"'Result Entry'!E108","v":0},{"$f":"'Result Entry'!F108","v":0},{"$f":"'Result Entry'!G108","v":0},{"$f":"'Result Entry'!H108","v":0},{"$f":"'Result Entry'!I108","v":0},{"$f":"'Result Entry'!J108","v":"00:00:00"},{"$f":"'Result Entry'!K108","v":0},{"$f":"'Result Entry'!L108","v":0},{"$f":"'Result Entry'!M108","v":0},{"$f":"'Result Entry'!N108","v":0},{"$f":"'Result Entry'!O108","v":0},{"$f":"'Result Entry'!P108","v":0},{"$f":"'Result Entry'!Q108","v":0},{"$f":"'Result Entry'!R108","v":0},{"$f":"'Result Entry'!S108","v":0},{"$f":"'Result Entry'!T108","v":0},{"$f":"'Result Entry'!U108","v":0},{"$f":"'Result Entry'!V108","v":0},{"$f":"'Result Entry'!W108","v":0},{"$f":"'Result Entry'!X108","v":0},{"$f":"'Result Entry'!Y108","v":""},{"$f":"'Result Entry'!Z108","v":0},{"$f":"'Result Entry'!AA108","v":0},{"$f":"'Result Entry'!AB108","v":0},{"$f":"'Result Entry'!AC108","v":0},{"$f":"'Result Entry'!AD108","v":0},{"$f":"'Result Entry'!AE108","v":0},{"$f":"'Result Entry'!AF108","v":0},{"$f":"'Result Entry'!AG108","v":0},{"$f":"'Result Entry'!AH108","v":0},{"$f":"'Result Entry'!AI108","v":0},{"$f":"'Result Entry'!AJ108","v":0},{"$f":"'Result Entry'!AK108","v":0},{"$f":"'Result Entry'!AL108","v":0},{"$f":"'Result Entry'!AM108","v":0},{"$f":"'Result Entry'!AN108","v":""},{"$f":"'Result Entry'!AO108","v":0},{"$f":"'Result Entry'!AP108","v":0},{"$f":"'Result Entry'!AQ108","v":0},{"$f":"'Result Entry'!AR108","v":0},{"$f":"'Result Entry'!AS108","v":0},{"$f":"'Result Entry'!AT108","v":0},{"$f":"'Result Entry'!AU108","v":0},{"$f":"'Result Entry'!AV108","v":0},{"$f":"'Result Entry'!AW108","v":0},{"$f":"'Result Entry'!AX108","v":0},{"$f":"'Result Entry'!AY108","v":0},{"$f":"'Result Entry'!AZ108","v":0},{"$f":"'Result Entry'!BA108","v":0},{"$f":"'Result Entry'!BB108","v":0},{"$f":"'Result Entry'!BC108","v":""},{"$f":"'Result Entry'!BD108","v":0},{"$f":"'Result Entry'!BE108","v":0},{"$f":"'Result Entry'!BF108","v":0},{"$f":"'Result Entry'!BG108","v":0},{"$f":"'Result Entry'!BH108","v":0},{"$f":"'Result Entry'!BI108","v":0},{"$f":"'Result Entry'!BJ108","v":0},{"$f":"'Result Entry'!BK108","v":0},{"$f":"'Result Entry'!BL108","v":0},{"$f":"'Result Entry'!BM108","v":0},{"$f":"'Result Entry'!BN108","v":0},{"$f":"'Result Entry'!BO108","v":0},{"$f":"'Result Entry'!BP108","v":0},{"$f":"'Result Entry'!BQ108","v":0},{"$f":"'Result Entry'!BR108","v":""},{"$f":"'Result Entry'!BS108","v":0},{"$f":"'Result Entry'!BT108","v":0},{"$f":"'Result Entry'!BU108","v":0},{"$f":"'Result Entry'!BV108","v":0},{"$f":"'Result Entry'!BW108","v":0},{"$f":"'Result Entry'!BX108","v":0},{"$f":"'Result Entry'!BY108","v":0},{"$f":"'Result Entry'!BZ108","v":0},{"$f":"'Result Entry'!CA108","v":0},{"$f":"'Result Entry'!CB108","v":0},{"$f":"'Result Entry'!CC108","v":0},{"$f":"'Result Entry'!CD108","v":0},{"$f":"'Result Entry'!CE108","v":0},{"$f":"'Result Entry'!CF108","v":0},{"$f":"'Result Entry'!CG108","v":""},{"$f":"'Result Entry'!CH108","v":0},{"$f":"'Result Entry'!CI108","v":0},{"$f":"'Result Entry'!CJ108","v":0},{"$f":"'Result Entry'!CK108","v":0},{"$f":"'Result Entry'!CL108","v":0},{"$f":"'Result Entry'!CM108","v":0},{"$f":"'Result Entry'!CN108","v":0},{"$f":"'Result Entry'!CO108","v":""},{"$f":"'Result Entry'!CP108","v":0},{"$f":"'Result Entry'!CQ108","v":0},{"$f":"'Result Entry'!CR108","v":0},{"$f":"'Result Entry'!CS108","v":0},{"$f":"'Result Entry'!CT108","v":0},{"$f":"'Result Entry'!CU108","v":0},{"$f":"'Result Entry'!CV108","v":0},{"$f":"'Result Entry'!CW108","v":""},{"$f":"'Result Entry'!CX108","v":0},{"$f":"'Result Entry'!CY108","v":0},{"$f":"'Result Entry'!CZ108","v":0},{"$f":"'Result Entry'!DA108","v":0},{"$f":"'Result Entry'!DB108","v":0},{"$f":"'Result Entry'!DC108","v":0},{"$f":"'Result Entry'!DD108","v":0},{"$f":"'Result Entry'!DE108","v":""},{"$f":"'Result Entry'!DF108","v":0},{"$f":"'Result Entry'!DG108","v":0},{"$f":"'Result Entry'!DH108","v":0},{"$f":"'Result Entry'!DI108","v":0},{"$f":"'Result Entry'!DJ108","v":0},{"$f":"'Result Entry'!DK108","v":0},{"$f":"'Result Entry'!DL108","v":""},{"$f":"'Result Entry'!DM108","v":""},{"$f":"'Result Entry'!DN108","v":0},{"$f":"'Result Entry'!DO108","v":0},{"$f":"'Result Entry'!DP108","v":""},{"$f":"'Result Entry'!DQ108","v":900},{"$f":"'Result Entry'!DR108","v":0},{"$f":"'Result Entry'!DS108","v":{"v":0,"d":"0.00"}},{"$f":"'Result Entry'!DT108","v":""},{"$f":"'Result Entry'!DU108","v":""},{"$f":"'Result Entry'!DV108","v":""},{"$f":"'Result Entry'!DW108","v":""}]
[null,"SUBJECT ↠",{"$nulls":7},{"$f":"J2","v":"Hindi"},{"$nulls":14},{"$f":"Y2","v":"Mathematics"},{"$nulls":14},{"$f":"AN2","v":"English"},{"$nulls":14},{"$f":"BC2","v":"Env. Study"},{"$nulls":14},{"$f":"BR2","v":"Sanskrit/Urdu"},{"$nulls":14},"OVERALL RESULT"]
[null,"SUBJECT TEACHER ↠",{"$nulls":7},{"$f":"J3","v":0},{"$nulls":14},{"$f":"Y3","v":0},{"$nulls":14},{"$f":"AN3","v":0},{"$nulls":14},{"$f":"BC3","v":0},{"$nulls":14},{"$f":"BR3","v":0},{"$nulls":14},"TOTAL ENROLLED",{"$nulls":7},"NSO",{"$nulls":4},"Total Entered",{"$nulls":5},"Overall Grd \"A\"",{"$nulls":3},"Overall Grd \"B\"",{"$nulls":10},"Overall Grd \"C\"",null,null,"Overall Grd \"D\"",null,"Overall Grd \"E\"",null,"Total"]
[null,"RESULT SUMMARY ↠",{"$nulls":7},"TOTAL ENROLLED",{"$nulls":3},"NSO","TOTAL ENTERED",null,"A","B","C","D","E","TOTAL",null,null,"TOTAL ENROLLED",{"$nulls":3},"NSO","TOTAL ENTERED",null,"A","B","C","D","E","TOTAL",null,null,"TOTAL ENROLLED",{"$nulls":3},"NSO","TOTAL ENTERED",null,"A","B","C","D","E","TOTAL",null,null,"TOTAL ENROLLED",{"$nulls":3},"NSO","TOTAL ENTERED",null,"A","B","C","D","E","TOTAL",null,null,"TOTAL ENROLLED",{"$nulls":3},"NSO","TOTAL ENTERED",null,"A","B","C","D","E","TOTAL",null,null,{"$f":"MAX($B$7:$B$106)","v":2},{"$nulls":7},{"$f":"COUNTIF($E$7:$E$107,\"NSO\")","v":0},{"$nulls":4},{"$f":"CG109-CO109","v":2},{"$nulls":5},{"$f":"COUNTIF($DS$8:$DS$106,\"A\")","v":0},{"$nulls":3},{"$f":"COUNTIF($DS$8:$DS$106,\"B\")","v":0},{"$nulls":10},{"$f":"COUNTIF($DS$8:$DS$106,\"C\")","v":0},null,null,{"$f":"COUNTIF($DS$8:$DS$106,\"D\")","v":0},null,{"$f":"COUNTIF($DS$8:$DS$106,\"E\")","v":1},null,{"$f":"SUM(CZ109:DU109)","v":1}]
[{"$nulls":9},{"$f":"IF(J$2=0,0,MAX($B$7:$B$107))","v":2},{"$nulls":3},{"$f":"COUNTIF($E$7:$E$107,\"NSO\")","v":0},{"$f":"J110-N100","v":2},null,{"$f":"COUNTIF(X7:X106,\"A\")","v":0},{"$f":"COUNTIF(X7:X106,\"B\")","v":0},{"$f":"COUNTIF(X7:X106,\"C\")","v":1},{"$f":"COUNTIF(X7:X106,\"D\")","v":0},{"$f":"COUNTIF(X7:X106,\"E\")","v":1},{"$f":"Q110+R110+S110+T110+U110","v":2},null,null,{"$f":"IF(Y$2=0,0,MAX($B$7:$B$107))","v":2},{"$nulls":3},{"$f":"COUNTIF($E$7:$E$107,\"NSO\")","v":0},{"$f":"Y110-AC100","v":2},null,{"$f":"COUNTIF(AM7:AM106,\"A\")","v":0},{"$f":"COUNTIF(AM7:AM106,\"B\")","v":0},{"$f":"COUNTIF(AM7:AM106,\"C\")","v":0},{"$f":"COUNTIF(AM7:AM106,\"D\")","v":1},{"$f":"COUNTIF(AM7:AM106,\"E\")","v":0},{"$f":"AF110+AG110+AH110+AI110+AJ110","v":1},null,null,{"$f":"IF(AN$2=0,0,MAX($B$7:$B$107))","v":2},{"$nulls":3},{"$f":"COUNTIF($E$7:$E$107,\"NSO\")","v":0},{"$f":"AN110-AR100","v":2},null,{"$f":"COUNTIF(BB7:BB106,\"A\")","v":0},{"$f":"COUNTIF(BB7:BB106,\"B\")","v":0},{"$f":"COUNTIF(BB7:BB106,\"C\")","v":0},{"$f":"COUNTIF(BB7:BB106,\"D\")","v":0},{"$f":"COUNTIF(BB7:BB106,\"E\")","v":0},{"$f":"AU110+AV110+AW110+AX110+AY110","v":0},null,null,{"$f":"IF(BC$2=0,0,MAX($B$7:$B$107))","v":2},{"$nulls":3},{"$f":"COUNTIF($E$7:$E$107,\"NSO\")","v":0},{"$f":"BC110-BG100","v":2},null,{"$f":"COUNTIF(BQ7:BQ106,\"A\")","v":0},{"$f":"COUNTIF(BQ7:BQ106,\"B\")","v":0},{"$f":"COUNTIF(BQ7:BQ106,\"C\")","v":0},{"$f":"COUNTIF(BQ7:BQ106,\"D\")","v":0},{"$f":"COUNTIF(BQ7:BQ106,\"E\")","v":0},{"$f":"BJ110+BK110+BL110+BM110+BN110","v":0},null,null,{"$f":"IF(BR$2=0,0,MAX($B$7:$B$107))","v":2},{"$nulls":3},{"$f":"COUNTIF($E$7:$E$107,\"NSO\")","v":0},{"$f":"BR110-BV100","v":2},null,{"$f":"COUNTIF(CF7:CF106,\"A\")","v":0},{"$f":"COUNTIF(CF7:CF106,\"B\")","v":0},{"$f":"COUNTIF(CF7:CF106,\"C\")","v":0},{"$f":"COUNTIF(CF7:CF106,\"D\")","v":0},{"$f":"COUNTIF(CF7:CF106,\"E\")","v":0},{"$f":"BY110+BZ110+CA110+CB110+CC110","v":0},null,null,"Signature Of Exam Incharge :-"]
[null,"SIGNATURE OF SUBJECT TEACHER ↠",{"$nulls":82},"Signature Of HM/Principal :-"]

{"sheet":"Statics","index":4,"n_rows":6,"n_cols":37,"rows_kept":6,"merged":[[0,0,0,36],[1,0,1,36],[2,0,2,10],[2,11,2,15],[2,16,2,36],[3,0,4,0],[3,1,4,1],[3,2,3,8],[3,9,3,15],[3,16,3,22],[3,23,3,29],[3,30,3,36]]}
[{"$f":"CONCATENATE(Master!B8,Master!D8,Master!E8,Master!E11)","v":"SCHOOL'S FULL NAME:-Govt.Sr.Sec.Sch.P.S.-Bapini (Jodhpur)"}]
[{"$f":"CONCATENATE(,Master!B14,Master!D14,0,Master!E14)","v":"U-DISE CODE:-0810000000"}]
["Subject wise Result Summary ",{"$nulls":10},{"$f":"CONCATENATE('Result Entry'!B4,'Result Entry'!F4,'Result Entry'!I4)","v":"Class -2(A)"},{"$nulls":4},{"$f":"CONCATENATE(Master!B6,Master!D6,Master!E6)","v":"SESSION:-2023-24"}]
["Sr. No.","Class",{"$f":"'Result Sheet'!J107","v":"Hindi"},{"$nulls":6},{"$f":"'Result Sheet'!Y107","v":"Mathematics"},{"$nulls":6},{"$f":"'Result Sheet'!AN107","v":"English"},{"$nulls":6},{"$f":"'Result Sheet'!BC107","v":"Env. Study"},{"$nulls":6},{"$f":"'Result Sheet'!BR107","v":"Sanskrit/Urdu"}]
[null,null,"Total Entered","Grd-A","Grd-B","Grd-C","Grd-D","Grd-E","Total","Total Entered","Grd-A","Grd-B","Grd-C","Grd-D","Grd-E","Total","Total Entered","Grd-A","Grd-B","Grd-C","Grd-D","Grd-E","Total","Total Entered","Grd-A","Grd-B","Grd-C","Grd-D","Grd-E","Total","Total Entered","Grd-A","Grd-B","Grd-C","Grd-D","Grd-E","Total"]
[1,{"$f":"L3","v":"Class -2(A)"},{"$f":"'Result Sheet'!O110","v":2},{"$f":"'Result Sheet'!Q110","v":0},{"$f":"'Result Sheet'!R110","v":0},{"$f":"'Result Sheet'!S110","v":1},{"$f":"'Result Sheet'!T110","v":0},{"$f":"'Result Sheet'!U110","v":1},{"$f":"SUM(D6:H6)","v":2},{"$f":"'Result Sheet'!AD110","v":2},{"$f":"'Result Sheet'!AF110","v":0},{"$f":"'Result Sheet'!AG110","v":0},{"$f":"'Result Sheet'!AH110","v":0},{"$f":"'Result Sheet'!AI110","v":1},{"$f":"'Result Sheet'!AJ110","v":0},{"$f":"SUM(K6:O6)","v":1},{"$f":"'Result Sheet'!AS110","v":2},{"$f":"'Result Sheet'!AU110","v":0},{"$f":"'Result Sheet'!AV110","v":0},{"$f":"'Result Sheet'!AW110","v":0},{"$f":"'Result Sheet'!AX110","v":0},{"$f":"'Result Sheet'!AY110","v":0},{"$f":"SUM(R6:V6)","v":0},{"$f":"'Result Sheet'!BH110","v":2},{"$f":"'Result Sheet'!BJ110","v":0},{"$f":"'Result Sheet'!BK110","v":0},{"$f":"'Result Sheet'!BL110","v":0},{"$f":"'Result Sheet'!BM110","v":0},{"$f":"'Result Sheet'!BN110","v":0},{"$f":"SUM(Y6:AC6)","v":0},{"$f":"'Result Sheet'!BW110","v":2},{"$f":"'Result Sheet'!BY110","v":0},{"$f":"'Result Sheet'!BZ110","v":0},{"$f":"'Result Sheet'!CA110","v":0},{"$f":"'Result Sheet'!CB110","v":0},{"$f":"'Result Sheet'!CC110","v":0},{"$f":"'Result Sheet'!CD110","v":0}]

{"sheet":"Mark Sheet 1X1","index":5,"n_rows":3899,"n_cols":13,"rows_kept":3899,"merged":[[3306,2,3306,4],[3306,5,3306,6],[3306,8,3308,9],[3306,10,3308,12],[3307,2,3307,7],[3308,3,3308,4],[3308,5,3308,7],[3309,8,3312,12],[3310,3,3310,4],[3310,5,3310,7],[3314,0,3314,12],[3315,1,3315,12],[3315,13,3353,13],[3316,1,3317,1],[3316,2,3317,2],[3316,3,3316,12],[3317,3,3317,12],[3318,2,3319,8],[3318,9,3318,10],[3318,11,3318,12],[3319,9,3320,10],[3319,11,3320,12],[3320,2,3320,7],[3321,2,3321,5],[3321,7,3321,12],[3322,2,3322,5],[3322,7,3322,12],[3323,2,3323,5],[3323,7,3323,12],[3324,2,3324,5],[3324,7,3324,12],[3325,2,3325,5],[3331,2,3331,3],[3331,10,3331,11],[3332,2,3332,3],[3332,10,3332,11],[3333,2,3333,3],[3333,10,3333,11],[3334,2,3334,3],[3334,10,3334,11],[3335,2,3335,3],[3335,10,3335,11],[3341,2,3341,4],[3341,5,3341,6],[3341,8,3341,9],[3341,10,3341,12],[3342,2,3342,4],[3342,5,3342,6],[3342,8,3342,9],[3342,10,3342,12],[3343,2,3343,4],[3343,5,3343,6],[3343,8,3344,12],[3344,2,3344,4],[3344,5,3344,6],[3345,2,3345,4],[3345,5,3345,6],[3345,8,3347,9],[3345,10,3347,12],[3346,2,3346,7],[3347,3,3347,4],[3347,5,3347,7],[3348,8,3351,12],[3349,3,3349,4],[3349,5,3349,7],[3350,3,3350,4],[3350,5,3350,7],[3351,3,3351,4],[3351,5,3351,7],[3352,3,3352,4],[3352,5,3352,7],[3352,8,3352,12],[3353,0,3353,12],[3354,1,3354,12],[3354,13,3392,13],[3355,1,3356,1],[3355,2,3356,2],[3355,3,3355,12],[3356,3,3356,12],[3357,2,3358,8],[3357,9,3357,10],[3357,11,3357,12],[3358,9,3359,10],[3358,11,3359,12],[3360,2,3360,5],[3360,7,3360,12],[3361,2,3361,5],[3361,7,3361,12],[3362,2,3362,5],[3362,7,3362,12],[3363,2,3363,5],[3363,7,3363,12],[3364,2,3364,5],[3364,7,3364,12],[3368,2,3368,3],[3368,10,3368,11],[3369,2,3369,3],[3369,10,3369,11],[3370,2,3370,3],[3370,10,3370,11],[3371,2,3371,3],[3371,10,3371,11],[3372,2,3372,3],[3372,10,3372,11],[3373,2,3373,3],[3373,10,3373,11],[3374,2,3374,3],[3374,10,3374,11],[3375,2,3375,12],[3376,2,3377,4],[3376,5,3376,6],[3376,7,3376,8],[3377,5,3377,6],[3377,7,3377,8],[3378,2,3378,7],[3378,8,3378,9],[3378,11,3378,12],[3379,2,3379,7],[3379,8,3379,9],[3379,11,3379,12],[3380,2,3380,4],[3380,5,3380,6],[3380,8,3380,9],[3380,10,3380,12],[3381,2,3381,4],[3381,5,3381,6],[3381,8,3381,9],[3381,10,3381,12],[3382,2,3382,4],[3382,5,3382,6],[3382,8,3383,12],[3383,2,3383,4],[3383,5,3383,6],[3384,2,3384,4],[3384,5,3384,6],[3384,8,3386,9],[3384,10,3386,12],[3385,2,3385,7],[3386,3,3386,4],[3386,5,3386,7],[3387,3,3387,4],[3387,5,3387,7],[3387,8,3390,12],[3388,3,3388,4],[3388,5,3388,7],[3389,3,3389,4],[3389,5,3389,7],[3390,3,3390,4],[3390,5,3390,7],[3391,3,3391,4],[3391,5,3391,7],[3391,8,3391,12],[3392,0,3392,12],[3393,1,3393,12],[3393,13,3431,13],[3394,1,3395,1],[3394,2,3395,2],[3394,3,3394,12],[3395,3,3395,12],[3396,2,3397,8],[3396,9,3396,10],[3396,11,3396,12],[3397,9,3398,10],[3397,11,3398,12],[3398,2,3398,7],[3399,2,3399,5],[3399,7,3399,12],[3400,2,3400,5],[3400,7,3400,12],[3401,2,3401,5],[3401,7,3401,12],[3402,2,3402,5],[3402,7,3402,12],[3403,2,3403,5],[3403,7,3403,12],[3404,2,3404,5],[3404,7,3404,12],[3405,2,3405,3],[3405,10,3405,11],[3406,2,3406,3],[3406,10,3406,11],[3407,2,3407,3],[3407,10,3407,11],[3408,2,3408,3],[3408,10,3408,11],[3409,2,3409,3],[3409,10,3409,11],[3410,2,3410,3],[3410,10,3410,11],[3411,2,3411,3],[3411,10,3411,11],[3412,2,3412,3],[3412,10,3412,11],[3413,2,3413,3],[3413,10,3413,11],[3414,2,3414,12],[3415,2,3416,4],[3415,5,3415,6],[3415,7,3415,8],[3416,5,3416,6],[3416,7,3416,8],[3417,2,3417,7],[3417,8,3417,9],[3417,11,3417,12],[3418,2,3418,7],[3418,8,3418,9],[3418,11,3418,12],[3419,2,3419,4],[3419,5,3419,6],[3419,8,3419,9],[3419,10,3419,12],[3420,2,3420,4],[3420,5,3420,6],[3420,8,3420,9],[3420,10,3420,12],[3421,2,3421,4],[3421,5,3421,6],[3421,8,3422,12],[3422,2,3422,4],[3422,5,3422,6],[3423,2,3423,4],[3423,5,3423,6],[3423,8,3425,9],[3423,10,3425,12],[3424,2,3424,7],[3425,3,3425,4],[3425,5,3425,7],[3426,3,3426,4],[3426,5,3426,7],[3426,8,3429,12],[3427,3,3427,4],[3427,5,3427,7],[3428,3,3428,4],[3428,5,3428,7],[3429,3,3429,4],[3429,5,3429,7],[3430,3,3430,4],[3430,5,3430,7],[3430,8,3430,12],[3431,0,3431,12],[3432,1,3432,12],[3432,13,3470,13],[3433,1,3434,1],[3433,2,3434,2],[3433,3,3433,12],[3434,3,3434,12],[3435,2,3436,8],[3435,9,3435,10],[3435,11,3435,12],[3436,9,3437,10],[3436,11,3437,12],[3437,2,3437,7],[3438,2,3438,5],[3438,7,3438,12],[3439,2,3439,5],[3439,7,3439,12],[3440,2,3440,5],[3440,7,3440,12],[3441,2,3441,5],[3441,7,3441,12],[3442,2,3442,5],[3442,7,3442,12],[3443,2,3443,5],[3443,7,3443,12],[3444,2,3444,3],[3444,10,3444,11],[3445,2,3445,3],[3445,10,3445,11],[3446,2,3446,3],[3446,10,3446,11],[3447,2,3447,3],[3447,10,3447,11],[3448,2,3448,3],[3448,10,3448,11],[3449,2,3449,3],[3449,10,3449,11],[3450,2,3450,3],[3450,10,3450,11],[3451,2,3451,3],[3451,10,3451,11],[3452,2,3452,3],[3452,10,3452,11],[3453,2,3453,12],[3454,2,3455,4],[3454,5,3454,6],[3454,7,3454,8],[3455,5,3455,6],[3455,7,3455,8],[3460,8,3461,12],[3461,2,3461,4],[3462,2,3462,4],[3462,8,3464,9],[3462,10,3464,12],[3464,3,3464,4],[3464,5,3464,7],[3465,3,3465,4],[3465,5,3465,7],[3465,8,3468,12],[3466,3,3466,4],[3466,5,3466,7],[3467,3,3467,4],[3467,5,3467,7],[3468,3,3468,4],[3468,5,3468,7],[3469,3,3469,4],[3469,5,3469,7],[3469,8,3469,12],[3470,0,3470,12],[3471,1,3471,12],[3471,13,3509,13],[3472,1,3473,1],[3472,2,3473,2],[3472,3,3472,12],[3473,3,3473,12],[3474,2,3475,8],[3474,9,3474,10],[3474,11,3474,12],[3475,9,3476,10],[3475,11,3476,12],[3476,2,3476,7],[3477,2,3477,5],[3477,7,3477,12],[3478,2,3478,5],[3478,7,3478,12],[3479,2,3479,5],[3479,7,3479,12],[3480,2,3480,5],[3480,7,3480,12],[3481,2,3481,5],[3481,7,3481,12],[3482,2,3482,5],[3482,7,3482,12],[3483,2,3483,3],[3483,10,3483,11],[3484,2,3484,3],[3484,10,3484,11],[3485,2,3485,3],[3485,10,3485,11],[3486,2,3486,3],[3486,10,3486,11],[3487,2,3487,3],[3487,10,3487,11],[3488,2,3488,3],[3488,10,3488,11],[3492,2,3492,12],[3493,2,3494,4],[3493,5,3493,6],[3493,7,3493,8],[3494,5,3494,6],[3494,7,3494,8],[3495,2,3495,7],[3495,8,3495,9],[3495,11,3495,12],[3496,2,3496,7],[3496,8,3496,9],[3496,11,3496,12],[3497,2,3497,4],[3497,5,3497,6],[3497,8,3497,9],[3497,10,3497,12],[3498,2,3498,4],[3498,8,3498,9],[3498,10,3498,12],[3499,2,3499,4],[3499,8,3500,12],[3500,2,3500,4],[3500,5,3500,6],[3501,2,3501,4],[3501,5,3501,6],[3501,8,3503,9],[3501,10,3503,12],[3502,2,3502,7],[3503,3,3503,4],[3503,5,3503,7],[3504,3,3504,4],[3504,5,3504,7],[3504,8,3507,12],[3505,3,3505,4],[3505,5,3505,7],[3506,3,3506,4],[3506,5,3506,7],[3507,3,3507,4],[3507,5,3507,7],[3510,13,3548,13],[3511,1,3512,1],[3511,2,3512,2],[3511,3,3511,12],[3512,3,3512,12],[3513,2,3514,8],[3513,9,3513,10],[3513,11,3513,12],[3514,9,3515,10],[3514,11,3515,12],[3515,2,3515,7],[3516,2,3516,5],[3516,7,3516,12],[3517,2,3517,5],[3517,7,3517,12],[3518,2,3518,5],[3518,7,3518,12],[3519,2,3519,5],[3519,7,3519,12],[3520,2,3520,5],[3520,7,3520,12],[3522,2,3522,3],[3522,10,3522,11],[3534,11,3534,12],[3535,2,3535,7],[3535,8,3535,9],[3535,11,3535,12],[3536,2,3536,4],[3536,8,3536,9],[3536,10,3536,12],[3537,2,3537,4],[3537,5,3537,6],[3537,10,3537,12],[3538,2,3538,4],[3538,5,3538,6],[3538,8,3539,12],[3540,8,3542,9],[3540,10,3542,12],[3541,2,3541,7],[3542,3,3542,4],[3542,5,3542,7],[3543,3,3543,4],[3543,5,3543,7],[3543,8,3546,12],[3544,3,3544,4],[3544,5,3544,7],[3547,8,3547,12],[3548,0,3548,12],[3549,1,3549,12],[3549,13,3587,13],[3550,1,3551,1],[3550,2,3551,2],[3550,3,3550,12],[3551,3,3551,12],[3552,2,3553,8],[3552,9,3552,10],[3552,11,3552,12],[3553,9,3554,10],[3553,11,3554,12],[3554,2,3554,7],[3555,2,3555,5],[3555,7,3555,12],[3556,2,3556,5],[3556,7,3556,12],[3557,2,3557,5],[3557,7,3557,12],[3561,2,3561,3],[3561,10,3561,11],[3562,2,3562,3],[3562,10,3562,11],[3563,2,3563,3],[3563,10,3563,11],[3570,2,3570,12],[3573,2,3573,7],[3573,8,3573,9],[3573,11,3573,12],[3575,2,3575,4],[3575,5,3575,6],[3575,10,3575,12],[3577,8,3578,12],[3579,8,3581,9],[3579,10,3581,12],[3580,2,3580,7],[3581,3,3581,4],[3581,5,3581,7],[3588,13,3626,13],[3589,1,3590,1],[3589,2,3590,2],[3589,3,3589,12],[3591,2,3592,8],[3591,9,3591,10],[3591,11,3591,12],[3592,9,3593,10],[3592,11,3593,12],[3593,2,3593,7],[3594,2,3594,5],[3594,7,3594,12],[3600,2,3600,3],[3600,10,3600,11],[3608,2,3608,3],[3608,10,3608,11],[3609,2,3609,12],[3610,2,3611,4],[3611,5,3611,6],[3611,7,3611,8],[3627,1,3627,12],[3627,13,3665,13],[3628,1,3629,1],[3628,2,3629,2],[3629,3,3629,12],[3630,2,3631,8],[3630,9,3630,10],[3630,11,3630,12],[3631,9,3632,10],[3631,11,3632,12],[3632,2,3632,7],[3638,2,3638,5],[3638,7,3638,12],[3645,2,3645,3],[3645,10,3645,11],[3646,2,3646,3],[3646,10,3646,11],[3647,2,3647,3],[3647,10,3647,11],[3648,2,3648,12],[3649,2,3650,4],[3649,5,3649,6],[3649,7,3649,8],[3650,7,3650,8],[3651,2,3651,7],[3651,11,3651,12],[3652,2,3652,7],[3652,8,3652,9],[3652,11,3652,12],[3653,8,3653,9],[3653,10,3653,12],[3654,8,3654,9],[3666,13,3704,13],[3667,1,3668,1],[3667,2,3668,2],[3667,3,3667,12],[3668,3,3668,12],[3669,2,3670,8],[3669,9,3669,10],[3669,11,3669,12],[3670,9,3671,10],[3670,11,3671,12],[3671,2,3671,7],[3675,2,3675,5],[3675,7,3675,12],[3676,2,3676,5],[3676,7,3676,12],[3677,2,3677,5],[3677,7,3677,12],[3682,2,3682,3],[3682,10,3682,11],[3683,2,3683,3],[3683,10,3683,11],[3684,2,3684,3],[3685,10,3685,11],[3686,2,3686,3],[3686,10,3686,11],[3687,2,3687,12],[3688,2,3689,4],[3688,7,3688,8],[3689,7,3689,8],[3690,2,3690,7],[3690,8,3690,9],[3690,11,3690,12],[3699,3,3699,4],[3699,5,3699,7],[3699,8,3702,12],[3700,3,3700,4],[3700,5,3700,7],[3701,3,3701,4],[3701,5,3701,7],[3702,3,3702,4],[3702,5,3702,7],[3703,3,3703,4],[3703,5,3703,7],[3703,8,3703,12],[3704,0,3704,12],[3705,1,3705,12],[3705,13,3743,13],[3706,1,3707,1],[3706,2,3707,2],[3706,3,3706,12],[3707,3,3707,12],[3708,2,3709,8],[3708,9,3708,10],[3708,11,3708,12],[3709,9,3710,10],[3709,11,3710,12],[3710,2,3710,7],[3711,2,3711,5],[3711,7,3711,12],[3712,2,3712,5],[3712,7,3712,12],[3713,2,3713,5],[3713,7,3713,12],[3714,2,3714,5],[3714,7,3714,12],[3715,2,3715,5],[3715,7,3715,12],[3716,2,3716,5],[3716,7,3716,12],[3717,2,3717,3],[3717,10,3717,11],[3718,2,3718,3],[3718,10,3718,11],[3719,2,3719,3],[3719,10,3719,11],[3720,2,3720,3],[3720,10,3720,11],[3721,2,3721,3],[3721,10,3721,11],[3722,2,3722,3],[3722,10,3722,11],[3723,2,3723,3],[3723,10,3723,11],[3724,2,3724,3],[3724,10,3724,11],[3725,2,3725,3],[3725,10,3725,11],[3726,2,3726,12],[3727,2,3728,4],[3727,5,3727,6],[3727,7,3727,8],[3728,5,3728,6],[3728,7,3728,8],[3729,2,3729,7],[3729,8,3729,9],[3729,11,3729,12],[3730,2,3730,7],[3730,8,3730,9],[3730,11,3730,12],[3731,2,3731,4],[3731,5,3731,6],[3731,8,3731,9],[3731,10,3731,12],[3732,2,3732,4],[3732,5,3732,6],[3732,8,3732,9],[3732,10,3732,12],[3733,2,3733,4],[3733,5,3733,6],[3733,8,3734,12],[3734,2,3734,4],[3734,5,3734,6],[3735,2,3735,4],[3735,5,3735,6],[3735,8,3737,9],[3735,10,3737,12],[3736,2,3736,7],[3737,3,3737,4],[3737,5,3737,7],[3738,3,3738,4],[3738,5,3738,7],[3738,8,3741,12],[3739,3,3739,4],[3739,5,3739,7],[3740,3,3740,4],[3740,5,3740,7],[3741,3,3741,4],[3741,5,3741,7],[3742,3,3742,4],[3742,5,3742,7],[3742,8,3742,12],[3743,0,3743,12],[3744,1,3744,12],[3744,13,3782,13],[3745,1,3746,1],[3745,2,3746,2],[3745,3,3745,12],[3746,3,3746,12],[3747,2,3748,8],[3747,9,3747,10],[3747,11,3747,12],[3748,9,3749,10],[3748,11,3749,12],[3749,2,3749,7],[3750,2,3750,5],[3750,7,3750,12],[3751,2,3751,5],[3751,7,3751,12],[3752,2,3752,5],[3752,7,3752,12],[3753,2,3753,5],[3753,7,3753,12],[3754,2,3754,5],[3754,7,3754,12],[3755,2,3755,5],[3755,7,3755,12],[3756,2,3756,3],[3756,10,3756,11],[3757,2,3757,3],[3757,10,3757,11],[3758,2,3758,3],[3758,10,3758,11],[3759,2,3759,3],[3759,10,3759,11],[3760,2,3760,3],[3760,10,3760,11],[3761,2,3761,3],[3761,10,3761,11],[3762,2,3762,3],[3762,10,3762,11],[3763,2,3763,3],[3763,10,3763,11],[3764,2,3764,3],[3764,10,3764,11],[3765,2,3765,12],[3766,2,3767,4],[3766,5,3766,6],[3766,7,3766,8],[3767,5,3767,6],[3767,7,3767,8],[3768,2,3768,7],[3768,8,3768,9],[3768,11,3768,12],[3769,2,3769,7],[3769,8,3769,9],[3769,11,3769,12],[3770,2,3770,4],[3770,5,3770,6],[3770,8,3770,9],[3770,10,3770,12],[3771,2,3771,4],[3771,5,3771,6],[3771,8,3771,9],[3771,10,3771,12],[3772,2,3772,4],[3772,5,3772,6],[3772,8,3773,12],[3773,2,3773,4],[3773,5,3773,6],[3774,2,3774,4],[3774,5,3774,6],[3774,8,3776,9],[3774,10,3776,12],[3775,2,3775,7],[3776,3,3776,4],[3776,5,3776,7],[3777,3,3777,4],[3777,5,3777,7],[3777,8,3780,12],[3778,3,3778,4],[3778,5,3778,7],[3779,3,3779,4],[3779,5,3779,7],[3780,3,3780,4],[3780,5,3780,7],[3781,3,3781,4],[3781,5,3781,7],[3781,8,3781,12],[3782,0,3782,12],[3783,1,3783,12],[3783,13,3821,13],[3784,1,3785,1],[3784,2,3785,2],[3784,3,3784,12],[3785,3,3785,12],[3786,2,3787,8],[3786,9,3786,10],[3786,11,3786,12],[3787,9,3788,10],[3787,11,3788,12],[3788,2,3788,7],[3789,2,3789,5],[3789,7,3789,12],[3790,2,3790,5],[3790,7,3790,12],[3791,2,3791,5],[3791,7,3791,12],[3792,2,3792,5],[3792,7,3792,12],[3793,2,3793,5],[3793,7,3793,12],[3794,2,3794,5],[3794,7,3794,12],[3795,2,3795,3],[3795,10,3795,11],[3796,2,3796,3],[3796,10,3796,11],[3797,2,3797,3],[3797,10,3797,11],[3798,2,3798,3],[3798,10,3798,11],[3799,2,3799,3],[3799,10,3799,11],[3800,2,3800,3],[3800,10,3800,11],[3801,2,3801,3],[3801,10,3801,11],[3802,2,3802,3],[3802,10,3802,11],[3803,2,3803,3],[3803,10,3803,11],[3804,2,3804,12],[3805,2,3806,4],[3805,5,3805,6],[3805,7,3805,8],[3806,5,3806,6],[3806,7,3806,8],[3807,2,3807,7],[3807,8,3807,9],[3807,11,3807,12],[3808,2,3808,7],[3808,8,3808,9],[3808,11,3808,12],[3809,2,3809,4],[3809,5,3809,6],[3809,8,3809,9],[3809,10,3809,12],[3810,2,3810,4],[3810,5,3810,6],[3810,8,3810,9],[3810,10,3810,12],[3811,2,3811,4],[3811,5,3811,6],[3811,8,3812,12],[3812,2,3812,4],[3812,5,3812,6],[3813,2,3813,4],[3813,5,3813,6],[3813,8,3815,9],[3813,10,3815,12],[3814,2,3814,7],[3815,3,3815,4],[3815,5,3815,7],[3816,3,3816,4],[3816,5,3816,7],[3816,8,3819,12],[3817,3,3817,4],[3817,5,3817,7],[3818,3,3818,4],[3818,5,3818,7],[3819,3,3819,4],[3819,5,3819,7],[3820,3,3820,4],[3820,5,3820,7],[3820,8,3820,12],[3821,0,3821,12],[3822,1,3822,12],[3822,13,3860,13],[3823,1,3824,1],[3823,2,3824,2],[3823,3,3823,12],[3824,3,3824,12],[3825,2,3826,8],[3825,9,3825,10],[3825,11,3825,12],[3826,9,3827,10],[3826,11,3827,12],[3827,2,3827,7],[3828,2,3828,5],[3828,7,3828,12],[3829,2,3829,5],[3829,7,3829,12],[3830,2,3830,5],[3830,7,3830,12],[3831,2,3831,5],[3831,7,3831,12],[3832,2,3832,5],[3832,7,3832,12],[3833,2,3833,5],[3833,7,3833,12],[3834,2,3834,3],[3834,10,3834,11],[3835,2,3835,3],[3835,10,3835,11],[3836,2,3836,3],[3836,10,3836,11],[3837,2,3837,3],[3837,10,3837,11],[3838,2,3838,3],[3838,10,3838,11],[3839,2,3839,3],[3839,10,3839,11],[3840,2,3840,3],[3840,10,3840,11],[3841,2,3841,3],[3841,10,3841,11],[3842,2,3842,3],[3842,10,3842,11],[3843,2,3843,12],[3844,2,3845,4],[3844,5,3844,6],[3844,7,3844,8],[3845,5,3845,6],[3845,7,3845,8],[3846,2,3846,7],[3846,8,3846,9],[3846,11,3846,12],[3847,2,3847,7],[3847,8,3847,9],[3847,11,3847,12],[3848,2,3848,4],[3848,5,3848,6],[3848,8,3848,9],[3848,10,3848,12],[3849,2,3849,4],[3849,5,3849,6],[3849,8,3849,9],[3849,10,3849,12],[3850,2,3850,4],[3850,5,3850,6],[3850,8,3851,12],[3851,2,3851,4],[3851,5,3851,6],[3852,2,3852,4],[3852,5,3852,6],[3852,8,3854,9],[3852,10,3854,12],[3853,2,3853,7],[3854,3,3854,4],[3854,5,3854,7],[3855,3,3855,4],[3855,5,3855,7],[3855,8,3858,12],[3856,3,3856,4],[3856,5,3856,7],[3857,3,3857,4],[3857,5,3857,7],[3858,3,3858,4],[3858,5,3858,7],[3859,3,3859,4],[3859,5,3859,7],[3859,8,3859,12],[3860,0,3860,12],[3861,1,3861,12],[3861,13,3899,13],[3862,1,3863,1],[3862,2,3863,2],[3862,3,3862,12],[3863,3,3863,12],[3864,2,3865,8],[3864,9,3864,10],[3864,11,3864,12],[3865,9,3866,10],[3865,11,3866,12],[3866,2,3866,7],[3867,2,3867,5],[3867,7,3867,12],[3868,2,3868,5],[3868,7,3868,12],[3869,2,3869,5],[3869,7,3869,12],[3870,2,3870,5],[3870,7,3870,12],[3871,2,3871,5],[3871,7,3871,12],[3872,2,3872,5],[3872,7,3872,12],[3873,2,3873,3],[3873,10,3873,11],[3874,2,3874,3],[3874,10,3874,11],[3875,2,3875,3],[3875,10,3875,11],[3876,2,3876,3],[3876,10,3876,11],[3877,2,3877,3],[3877,10,3877,11],[3878,2,3878,3],[3878,10,3878,11],[3879,2,3879,3],[3879,10,3879,11],[3880,2,3880,3],[3880,10,3880,11],[3881,2,3881,3],[3881,10,3881,11],[3882,2,3882,12],[3883,2,3884,4],[3883,5,3883,6],[3883,7,3883,8],[3884,5,3884,6],[3884,7,3884,8],[3885,2,3885,7],[3885,8,3885,9],[3885,11,3885,12],[3886,2,3886,7],[3886,8,3886,9],[3886,11,3886,12],[3887,2,3887,4],[3887,5,3887,6],[3887,8,3887,9],[3887,10,3887,12],[3888,2,3888,4],[3888,5,3888,6],[3888,8,3888,9],[3888,10,3888,12],[3889,2,3889,4],[3889,5,3889,6],[3889,8,3890,12],[3890,2,3890,4],[3890,5,3890,6],[3891,2,3891,4],[3891,5,3891,6],[3891,8,3893,9],[3891,10,3893,12],[3892,2,3892,7],[3893,3,3893,4],[3893,5,3893,7],[3894,3,3894,4],[3894,5,3894,7],[3894,8,3897,12],[3895,3,3895,4],[3895,5,3895,7],[3896,3,3896,4],[3896,5,3896,7],[3897,3,3897,4],[3897,5,3897,7],[3898,3,3898,4],[3898,5,3898,7],[3898,8,3898,12],[3899,0,3899,12]],"merged_total":8700,"flags":["merged_cut"]}
[1,"Department Of Education, Rajasthan"]
[null,{"$f":"IF(I6>0,CONCATENATE(C6,I6),0)","v":"Roll No.:-301"},null,{"$f":"Master!$E$8","v":"Govt.Sr.Sec.Sch."}]
[{"$nulls":3},{"$f":"Master!$E$11","v":"P.S.-Bapini (Jodhpur)"}]
[null,null,"Report Card",{"$nulls":6},"U-DISE Code:-",null,{"$f":"Master!$E$14","v":{"v":810000000,"d":"0810000000"}}]
[{"$nulls":9},"Session:-",null,{"$f":"Master!$E$6","v":"2023-24"}]
[null,null,"Roll No.:-",{"$nulls":5},{"$f":"VLOOKUP($A1,'Result Entry'!$B$9:$F$108,5,0)","v":301}]
[null,"◐","Scholar Number",{"$nulls":3},"↠",{"$f":"VLOOKUP($A1,'Result Entry'!$B$9:$EQ$108,3,0)","v":1}]
[null,"◐","Student's Name",{"$nulls":3},"↠",{"$f":"VLOOKUP($A1,'Result Entry'!$B$9:$EQ$108,6,0)","v":"a"}]
[null,"◐","Father's Name",{"$nulls":3},"↠",{"$f":"VLOOKUP($A1,'Result Entry'!$B$9:$EQ$108,7,0)","v":"b"}]
[null,"◐","Mother's Name ",{"$nulls":3},"↠",{"$f":"VLOOKUP($A1,'Result Entry'!$B$9:$EQ$108,8,0)","v":"c"}]
[null,"◐","Class & Section",{"$nulls":3},"↠",{"$f":"CONCATENATE('Result Entry'!$F$4,'Result Entry'!$I$4)","v":"2(A)"}]
[null,"◐","Date Of Birth",{"$nulls":3},"↠",{"$f":"VLOOKUP($A1,'Result Entry'!$B$9:$EQ$108,9,0)","v":"2200-05-04"}]
[null,"◐","Subject",null,{"$f":"'Result Entry'!$K$6","v":"First Test"},{"$f":"'Result Entry'!$L$6","v":"Second Test"},{"$f":"'Result Entry'!$M$6","v":"Third Test"},"Half Yearly","Total (Test+H.Y.)","Yearly","Grand Total",null,"Subject Grade"]
[null,"◐","Max. Marks",null,{"$f":"'Result Entry'!$K$7","v":10},{"$f":"'Result Entry'!$L$7","v":10},{"$f":"'Result Entry'!$M$7","v":10},{"$f":"'Result Entry'!$R$7","v":70},{"$f":"SUM(E14:H14)","v":100},{"$f":"'Result Entry'!$V$7","v":100},{"$f":"I14+J14","v":200},null,"A+/A/B/C/D"]
[null,"◐",{"$f":"'Result Entry'!$K$3","v":"Hindi"},null,{"$f":"IF(OR(C15=\"\",$I6=\"NSO\"),\"\",VLOOKUP($A1,'Result Entry'!$B$9:$EQ$108,10,0))","v":5},{"$f":"IF(OR(C15=\"\",$I6=\"NSO\"),\"\",VLOOKUP($A1,'Result Entry'!$B$9:$EQ$108,11,0))","v":5},{"$f":"IF(OR(C15=\"\",$I6=\"NSO\"),\"\",VLOOKUP($A1,'Result Entry'!$B$9:$EQ$108,12,0))","v":5},{"$f":"IF(OR(C15=\"\",$I6=\"NSO\"),\"\",VLOOKUP($A1,'Result Entry'!$B$9:$EQ$108,17,0))","v":60},{"$f":"SUM(E15:H15)","v":75},{"$f":"IF(OR(C15=\"\",$I6=\"NSO\"),\"\",VLOOKUP($A1,'Result Entry'!$B$9:$EQ$108,21,0))","v":65},{"$f":"SUM(I15,J15)","v":140},null,{"$f":"IF(OR(C15=\"\",$I6=\"NSO\"),\"\",VLOOKUP($A1,'Result Entry'!$B$9:$EQ$108,24,0))","v":"C"}]
[null,"◐",{"$f":"'Result Entry'!$Z$3","v":"Mathematics"},null,{"$f":"IF(OR(C16=\"\",$I6=\"NSO\"),\"\",VLOOKUP($A1,'Result Entry'!$B$9:$EQ$108,25,0))","v":5},{"$f":"IF(OR(C16=\"\",$I6=\"NSO\"),\"\",VLOOKUP($A1,'Result Entry'!$B$9:$EQ$108,26,0))","v":7},{"$f":"IF(OR(C16=\"\",$I6=\"NSO\"),\"\",VLOOKUP($A1,'Result Entry'!$B$9:$EQ$108,27,0))","v":8},{"$f":"IF(OR(C16=\"\",$I6=\"NSO\"),\"\",VLOOKUP($A1,'Result Entry'!$B$9:$EQ$108,32,0))","v":35},55,{"$f":"IF(OR(C16=\"\",$I6=\"NSO\"),\"\",VLOOKUP($A1,'Result Entry'!$B$9:$EQ$108,36,0))","v":30},{"$f":"SUM(I16,J16)","v":85},null,{"$f":"IF(OR(C16=\"\",$I6=\"NSO\"),\"\",VLOOKUP($A1,'Result Entry'!$B$9:$EQ$108,39,0))","v":"D"}]
[null,"◐",{"$f":"'Result Entry'!$BD$3","v":"Env. Study"},null,{"$f":"IF(OR(C17=\"\",$I6=\"NSO\"),\"\",VLOOKUP($A1,'Result Entry'!$B$9:$EQ$108,55,0))","v":0},{"$f":"IF(OR(C17=\"\",$I6=\"NSO\"),\"\",VLOOKUP($A1,'Result Entry'!$B$9:$EQ$108,56,0))","v":0},{"$f":"IF(OR(C17=\"\",$I6=\"NSO\"),\"\",VLOOKUP($A1,'Result Entry'!$B$9:$EQ$108,57,0))","v":0},{"$f":"IF(OR(C15=\"\",$I6=\"NSO\"),\"\",VLOOKUP($A1,'Result Entry'!$B$9:$EQ$108,62,0))","v":0},0,{"$f":"IF(OR(C16=\"\",$I6=\"NSO\"),\"\",VLOOKUP($A1,'Result Entry'!$B$9:$EQ$108,66,0))","v":0},0,null,{"$f":"IF(OR(C16=\"\",$I6=\"NSO\"),\"\",VLOOKUP($A1,'Result Entry'!$B$9:$EQ$108,69,0))","v":0}]
[null,"◐","Max. Marks",null,{"$f":"'Result Entry'!$AO$7","v":5},{"$f":"'Result Entry'!$AP$7","v":5},{"$f":"'Result Entry'!$AQ$7","v":5},{"$f":"'Result Entry'!$AV$7","v":35},50,{"$f":"'Result Entry'!$AZ$7","v":50},100,null,"A+/A/B/C/D"]
[null,"◐",{"$f":"'Result Entry'!$AO$3","v":"English"},null,{"$f":"IF(OR(C19=\"\",$I6=\"NSO\"),\"\",VLOOKUP($A1,'Result Entry'!$B$9:$EQ$108,40,0))","v":0},{"$f":"IF(OR(C19=\"\",$I6=\"NSO\"),\"\",VLOOKUP($A1,'Result Entry'!$B$9:$EQ$108,41,0))","v":0},{"$f":"IF(OR(C19=\"\",$I6=\"NSO\"),\"\",VLOOKUP($A1,'Result Entry'!$B$9:$EQ$108,42,0))","v":0},{"$f":"IF(OR(C19=\"\",$I6=\"NSO\"),\"\",VLOOKUP($A1,'Result Entry'!$B$9:$EQ$108,47,0))","v":0},0,{"$f":"IF(OR(C19=\"\",$I6=\"NSO\"),\"\",VLOOKUP($A1,'Result Entry'!$B$9:$EQ$108,51,0))","v":0},0,null,{"$f":"IF(OR(C19=\"\",$I6=\"NSO\"),\"\",VLOOKUP($A1,'Result Entry'!$B$9:$EQ$108,54,0))","v":0}]
[null,"◐","Max. Marks",null,{"$f":"'Result Entry'!$BS$7","v":10},{"$f":"'Result Entry'!$BT$7","v":10},{"$f":"'Result Entry'!$BU$7","v":10},{"$f":"'Result Entry'!$BZ$7","v":70},{"$f":"SUM(E20:H20)","v":100},{"$f":"'Result Entry'!$CD$7","v":100},{"$f":"SUM(I20,J20)","v":200},null,"A+/A/B/C/D"]
[null,"◐",{"$f":"'Result Entry'!$BS$3","v":"Sanskrit/Urdu"},null,{"$f":"IF(OR(C21=\"\",$I6=\"NSO\"),\"\",VLOOKUP($A1,'Result Entry'!$B$9:$EQ$108,70,0))","v":0},{"$f":"IF(OR(C21=\"\",$I6=\"NSO\"),\"\",VLOOKUP($A1,'Result Entry'!$B$9:$EQ$108,71,0))","v":0},{"$f":"IF(OR(C21=\"\",$I6=\"NSO\"),\"\",VLOOKUP($A1,'Result Entry'!$B$9:$EQ$108,72,0))","v":0},{"$f":"IF(OR(C21=\"\",$I6=\"NSO\"),\"\",VLOOKUP($A1,'Result Entry'!$B$9:$EQ$108,77,0))","v":0},{"$f":"SUM(E21:H21)","v":0},{"$f":"IF(OR(C21=\"\",$I6=\"NSO\"),\"\",VLOOKUP($A1,'Result Entry'!$B$9:$EQ$108,81,0))","v":0},0,null,{"$f":"IF(OR(C21=\"\",$I6=\"NSO\"),\"\",VLOOKUP($A1,'Result Entry'!$B$9:$EQ$108,84,0))","v":0}]
[null,"◐"]
[null,"◐","Overall Result",null,null,"Total Max. Marks",null,"Total Obtained Marks",null,"Percentage","Overall Grade","Result","Position in Class"]
[null,"◐",{"$nulls":3},{"$f":"IF(OR($I6=\"\",$I6=\"NSO\"),\"\",VLOOKUP($A1,'Result Entry'!$B$9:$EQ$108,120,0))","v":900},null,{"$f":"IF(OR($I6=\"\",$I6=\"NSO\"),\"\",VLOOKUP($A1,'Result Entry'!$B$9:$EQ$108,121,0))","v":225},null,{"$f":"IF(OR($I6=\"\",$I6=\"NSO\"),\"\",VLOOKUP($A1,'Result Entry'!$B$9:$EQ$108,122,0))","v":{"v":25,"d":"25.00"}},{"$f":"IF(OR($I6=\"\",$I6=\"NSO\"),\"\",VLOOKUP($A1,'Result Entry'!$B$9:$EQ$108,123,0))","v":"E"},{"$f":"IF(OR($I6=\"\",$I6=\"NSO\"),\"\",VLOOKUP($A1,'Result Entry'!$B$9:$EQ$108,124,0))","v":"Promoted"},{"$f":"IF(OR($I6=\"\",$I6=\"NSO\"),\"\",VLOOKUP($A1,'Result Entry'!$B$9:$EQ$108,126,0))","v":""}]
[null,"◐",{"$nulls":6},"Total Meetings :-",null,{"$f":"IF(OR($I6=\"\",$I6=\"NSO\"),\"\",VLOOKUP($A1,'Result Entry'!$B$9:$EQ$108,117,0))","v":0},"Attedance %"]
[null,"◐","Extra Subjects",{"$nulls":5},"Student's Meetings :-",null,{"$f":"IF(OR($I6=\"\",$I6=\"NSO\"),\"\",VLOOKUP($A1,'Result Entry'!$B$9:$EQ$108,118,0))","v":0},{"$f":"IF(OR($I6=\"\",$I6=\"NSO\"),\"\",VLOOKUP($A1,'Result Entry'!$B$9:$EQ$108,119,0))","v":""}]
[null,"◐","Subject",null,null,"Total Marks",null,"GRADE","Remark :-",null,{"$f":"IF(OR($I6=\"\",$I6=\"NSO\"),\"\",VLOOKUP($A1,'Result Entry'!$B$9:$EQ$108,127,0))","v":"Needs Improvement"}]
[null,"◐",{"$f":"'Result Entry'!$CH$3","v":"WORK EXP."},null,null,{"$f":"IF(OR(C28=\"\",$I6=\"NSO\"),\"\",VLOOKUP($A1,'Result Entry'!$B$9:$EQ$108,138,0))","v":"0/100"},null,{"$f":"IF(OR(C28=\"\",$I6=\"NSO\"),\"\",VLOOKUP($A1,'Result Entry'!$B$9:$EQ$108,92,0))","v":0},"Result Date :-",null,{"$f":"'Result Entry'!$U$2","v":"2024-05-07"}]
[null,"◐",{"$f":"'Result Entry'!$CP$3","v":"ART EDU."},null,null,{"$f":"IF(OR(C29=\"\",$I6=\"NSO\"),\"\",VLOOKUP($A1,'Result Entry'!$B$9:$EQ$108,142,0))","v":"0/100"},null,{"$f":"IF(OR(C29=\"\",$I6=\"NSO\"),\"\",VLOOKUP($A1,'Result Entry'!$B$9:$EQ$108,100,0))","v":0}]
[null,null,{"$f":"'Result Entry'!$CX$3","v":"H&P. EDU."},null,null,{"$f":"IF(OR(C30=\"\",$I6=\"NSO\"),\"\",VLOOKUP($A1,'Result Entry'!$B$9:$EQ$108,146,0))","v":"0/0"},null,{"$f":"IF(OR(C30=\"\",$I6=\"NSO\"),\"\",VLOOKUP($A1,'Result Entry'!$B$9:$EQ$108,108,0))","v":0}]
[null,"◐",{"$f":"'Result Entry'!$DF$3","v":0},null,null,{"$f":"IF(OR(C31=\"\",$I6=\"NSO\"),\"\",VLOOKUP($A1,'Result Entry'!$B$9:$EQ$108,131,0))","v":0},null,{"$f":"IF(OR(C31=\"\",$I6=\"NSO\"),\"\",VLOOKUP($A1,'Result Entry'!$B$9:$EQ$108,97,0))","v":0},"Signature Of The Class Teacher"]
[null,"◐","Grading System"]
[null,"◐","Grd.","% Range",null,"Description"]
[null,"◐","A","86-100",null,"Excellent",null,null,"Signature And Seal Of Principal/H.M."]
[null,"◐","B","71-85",null,"Very Good"]
[null,"◐","C","51-70",null,"Good"]
[null,"◐","D","31-50",null,"Average"]
[null,"◐","E","0-30",null,"Needs Improvement",null,null,"Wish bright future"]
[]
[{"$f":"A1+1","v":2},"Department Of Education, Rajasthan"]
[null,{"$f":"IF(I45>0,CONCATENATE(C45,I45),0)","v":"Roll No.:-302"},null,{"$f":"Master!$E$8","v":"Govt.Sr.Sec.Sch."}]
[{"$nulls":3},{"$f":"Master!$E$11","v":"P.S.-Bapini (Jodhpur)"}]
[null,null,"Report Card",{"$nulls":6},"U-DISE Code:-",null,{"$f":"Master!$E$14","v":{"v":810000000,"d":"0810000000"}}]
[{"$nulls":9},"Session:-",null,{"$f":"Master!$E$6","v":"2023-24"}]
[null,null,"Roll No.:-",{"$nulls":5},{"$f":"VLOOKUP($A40,'Result Entry'!$B$9:$F$108,5,0)","v":302}]
[null,"◐","Scholar Number",{"$nulls":3},"↠",{"$f":"VLOOKUP($A40,'Result Entry'!$B$9:$EQ$108,3,0)","v":2}]
[null,"◐","Student's Name",{"$nulls":3},"↠",{"$f":"VLOOKUP($A40,'Result Entry'!$B$9:$EQ$108,6,0)","v":"f"}]
[null,"◐","Father's Name",{"$nulls":3},"↠",{"$f":"VLOOKUP($A40,'Result Entry'!$B$9:$EQ$108,7,0)","v":"Father's Name"}]
[null,"◐","Mother's Name ",{"$nulls":3},"↠",{"$f":"VLOOKUP($A40,'Result Entry'!$B$9:$EQ$108,8,0)","v":"f"}]
[null,"◐","Class & Section",{"$nulls":3},"↠",{"$f":"CONCATENATE('Result Entry'!$F$4,'Result Entry'!$I$4)","v":"2(A)"}]
[null,"◐","Date Of Birth",{"$nulls":3},"↠",{"$f":"VLOOKUP($A40,'Result Entry'!$B$9:$EQ$108,9,0)","v":"1998-08-05"}]
[null,"◐","Subject",null,{"$f":"'Result Entry'!$K$6","v":"First Test"},{"$f":"'Result Entry'!$L$6","v":"Second Test"},{"$f":"'Result Entry'!$M$6","v":"Third Test"},"Half Yearly","Total (Test+H.Y.)","Yearly","Grand Total",null,"Subject Grade"]
[null,"◐","Max. Marks",null,{"$f":"'Result Entry'!$K$7","v":10},{"$f":"'Result Entry'!$L$7","v":10},{"$f":"'Result Entry'!$M$7","v":10},{"$f":"'Result Entry'!$R$7","v":70},{"$f":"SUM(E53:H53)","v":100},{"$f":"'Result Entry'!$V$7","v":100},{"$f":"I53+J53","v":200},null,"A+/A/B/C/D"]
[null,"◐",{"$f":"'Result Entry'!$K$3","v":"Hindi"},null,{"$f":"IF(OR(C54=\"\",$I45=\"NSO\"),\"\",VLOOKUP($A40,'Result Entry'!$B$9:$EQ$108,10,0))","v":10},{"$f":"IF(OR(C54=\"\",$I45=\"NSO\"),\"\",VLOOKUP($A40,'Result Entry'!$B$9:$EQ$108,11,0))","v":0},{"$f":"IF(OR(C54=\"\",$I45=\"NSO\"),\"\",VLOOKUP($A40,'Result Entry'!$B$9:$EQ$108,12,0))","v":0},{"$f":"IF(OR(C54=\"\",$I45=\"NSO\"),\"\",VLOOKUP($A40,'Result Entry'!$B$9:$EQ$108,17,0))","v":0},{"$f":"SUM(E54:H54)","v":10},{"$f":"IF(OR(C54=\"\",$I45=\"NSO\"),\"\",VLOOKUP($A40,'Result Entry'!$B$9:$EQ$108,21,0))","v":0},{"$f":"SUM(I54,J54)","v":10},null,{"$f":"IF(OR(C54=\"\",$I45=\"NSO\"),\"\",VLOOKUP($A40,'Result Entry'!$B$9:$EQ$108,24,0))","v":"E"}]
[null,"◐",{"$f":"'Result Entry'!$Z$3","v":"Mathematics"},null,{"$f":"IF(OR(C55=\"\",$I45=\"NSO\"),\"\",VLOOKUP($A40,'Result Entry'!$B$9:$EQ$108,25,0))","v":0},{"$f":"IF(OR(C55=\"\",$I45=\"NSO\"),\"\",VLOOKUP($A40,'Result Entry'!$B$9:$EQ$108,26,0))","v":0},{"$f":"IF(OR(C55=\"\",$I45=\"NSO\"),\"\",VLOOKUP($A40,'Result Entry'!$B$9:$EQ$108,27,0))","v":0},{"$f":"IF(OR(C55=\"\",$I45=\"NSO\"),\"\",VLOOKUP($A40,'Result Entry'!$B$9:$EQ$108,32,0))","v":0},0,{"$f":"IF(OR(C55=\"\",$I45=\"NSO\"),\"\",VLOOKUP($A40,'Result Entry'!$B$9:$EQ$108,36,0))","v":0},{"$f":"SUM(I55,J55)","v":0},null,{"$f":"IF(OR(C55=\"\",$I45=\"NSO\"),\"\",VLOOKUP($A40,'Result Entry'!$B$9:$EQ$108,39,0))","v":0}]
[null,"◐",{"$f":"'Result Entry'!$BD$3","v":"Env. Study"},null,{"$f":"IF(OR(C56=\"\",$I45=\"NSO\"),\"\",VLOOKUP($A40,'Result Entry'!$B$9:$EQ$108,55,0))","v":0},{"$f":"IF(OR(C56=\"\",$I45=\"NSO\"),\"\",VLOOKUP($A40,'Result Entry'!$B$9:$EQ$108,56,0))","v":0},{"$f":"IF(OR(C56=\"\",$I45=\"NSO\"),\"\",VLOOKUP($A40,'Result Entry'!$B$9:$EQ$108,57,0))","v":0},{"$f":"IF(OR(C54=\"\",$I45=\"NSO\"),\"\",VLOOKUP($A40,'Result Entry'!$B$9:$EQ$108,62,0))","v":0},0,{"$f":"IF(OR(C55=\"\",$I45=\"NSO\"),\"\",VLOOKUP($A40,'Result Entry'!$B$9:$EQ$108,66,0))","v":0},0,null,{"$f":"IF(OR(C55=\"\",$I45=\"NSO\"),\"\",VLOOKUP($A40,'Result Entry'!$B$9:$EQ$108,69,0))","v":0}]
[null,"◐","Max. Marks",null,{"$f":"'Result Entry'!$AO$7","v":5},{"$f":"'Result Entry'!$AP$7","v":5},{"$f":"'Result Entry'!$AQ$7","v":5},{"$f":"'Result Entry'!$AV$7","v":35},50,{"$f":"'Result Entry'!$AZ$7","v":50},100,null,"A+/A/B/C/D"]
[null,"◐",{"$f":"'Result Entry'!$AO$3","v":"English"},null,{"$f":"IF(OR(C58=\"\",$I45=\"NSO\"),\"\",VLOOKUP($A40,'Result Entry'!$B$9:$EQ$108,40,0))","v":0},{"$f":"IF(OR(C58=\"\",$I45=\"NSO\"),\"\",VLOOKUP($A40,'Result Entry'!$B$9:$EQ$108,41,0))","v":0},{"$f":"IF(OR(C58=\"\",$I45=\"NSO\"),\"\",VLOOKUP($A40,'Result Entry'!$B$9:$EQ$108,42,0))","v":0},{"$f":"IF(OR(C58=\"\",$I45=\"NSO\"),\"\",VLOOKUP($A40,'Result Entry'!$B$9:$EQ$108,47,0))","v":0},0,{"$f":"IF(OR(C58=\"\",$I45=\"NSO\"),\"\",VLOOKUP($A40,'Result Entry'!$B$9:$EQ$108,51,0))","v":0},0,null,{"$f":"IF(OR(C58=\"\",$I45=\"NSO\"),\"\",VLOOKUP($A40,'Result Entry'!$B$9:$EQ$108,54,0))","v":0}]
[null,"◐","Max. Marks",null,{"$f":"'Result Entry'!$BS$7","v":10},{"$f":"'Result Entry'!$BT$7","v":10},{"$f":"'Result Entry'!$BU$7","v":10},{"$f":"'Result Entry'!$BZ$7","v":70},{"$f":"SUM(E59:H59)","v":100},{"$f":"'Result Entry'!$CD$7","v":100},200,null,"A+/A/B/C/D"]
[null,"◐",{"$f":"'Result Entry'!$BS$3","v":"Sanskrit/Urdu"},null,{"$f":"IF(OR(C60=\"\",$I45=\"NSO\"),\"\",VLOOKUP($A40,'Result Entry'!$B$9:$EQ$108,70,0))","v":0},{"$f":"IF(OR(C60=\"\",$I45=\"NSO\"),\"\",VLOOKUP($A40,'Result Entry'!$B$9:$EQ$108,71,0))","v":0},{"$f":"IF(OR(C60=\"\",$I45=\"NSO\"),\"\",VLOOKUP($A40,'Result Entry'!$B$9:$EQ$108,72,0))","v":0},{"$f":"IF(OR(C60=\"\",$I45=\"NSO\"),\"\",VLOOKUP($A40,'Result Entry'!$B$9:$EQ$108,77,0))","v":0},{"$f":"SUM(E60:H60)","v":0},{"$f":"IF(OR(C60=\"\",$I45=\"NSO\"),\"\",VLOOKUP($A40,'Result Entry'!$B$9:$EQ$108,81,0))","v":0},0,null,{"$f":"IF(OR(C60=\"\",$I45=\"NSO\"),\"\",VLOOKUP($A40,'Result Entry'!$B$9:$EQ$108,84,0))","v":0}]
[null,"◐"]
[null,"◐","Overall Result",null,null,"Total Max. Marks",null,"Total Obtained Marks",null,"Percentage","Overall Grade","Result","Position in Class"]
[null,"◐",{"$nulls":3},{"$f":"IF(OR($I45=\"\",$I45=\"NSO\"),\"\",VLOOKUP($A40,'Result Entry'!$B$9:$EQ$108,120,0))","v":900},null,{"$f":"IF(OR($I45=\"\",$I45=\"NSO\"),\"\",VLOOKUP($A40,'Result Entry'!$B$9:$EQ$108,121,0))","v":10},null,{"$f":"IF(OR($I45=\"\",$I45=\"NSO\"),\"\",VLOOKUP($A40,'Result Entry'!$B$9:$EQ$108,122,0))","v":{"v":1.1111111111111112,"d":"1.11"}},{"$f":"IF(OR($I45=\"\",$I45=\"NSO\"),\"\",VLOOKUP($A40,'Result Entry'!$B$9:$EQ$108,123,0))","v":"E"},{"$f":"IF(OR($I45=\"\",$I45=\"NSO\"),\"\",VLOOKUP($A40,'Result Entry'!$B$9:$EQ$108,124,0))","v":"Promoted"},{"$f":"IF(OR($I45=\"\",$I45=\"NSO\"),\"\",VLOOKUP($A40,'Result Entry'!$B$9:$EQ$108,126,0))","v":""}]
[null,"◐",{"$nulls":6},"Total Meetings :-",null,{"$f":"IF(OR($I45=\"\",$I45=\"NSO\"),\"\",VLOOKUP($A40,'Result Entry'!$B$9:$EQ$108,117,0))","v":0},"Attedance %"]
[null,"◐","Extra Subjects",{"$nulls":5},"Student's Meetings :-",null,{"$f":"IF(OR($I45=\"\",$I45=\"NSO\"),\"\",VLOOKUP($A40,'Result Entry'!$B$9:$EQ$108,118,0))","v":0},{"$f":"IF(OR($I45=\"\",$I45=\"NSO\"),\"\",VLOOKUP($A40,'Result Entry'!$B$9:$EQ$108,119,0))","v":""}]
[null,"◐","Subject",null,null,"Total Marks",null,"GRADE","Remark :-",null,{"$f":"IF(OR($I45=\"\",$I45=\"NSO\"),\"\",VLOOKUP($A40,'Result Entry'!$B$9:$EQ$108,127,0))","v":"Needs Improvement"}]
[null,"◐",{"$f":"'Result Entry'!$CH$3","v":"WORK EXP."},null,null,{"$f":"IF(OR(C67=\"\",$I45=\"NSO\"),\"\",VLOOKUP($A40,'Result Entry'!$B$9:$EQ$108,138,0))","v":"0/100"},null,{"$f":"IF(OR(C67=\"\",$I45=\"NSO\"),\"\",VLOOKUP($A40,'Result Entry'!$B$9:$EQ$108,92,0))","v":0},"Result Date :-",null,{"$f":"'Result Entry'!$U$2","v":"2024-05-07"}]
[null,"◐",{"$f":"'Result Entry'!$CP$3","v":"ART EDU."},null,null,{"$f":"IF(OR(C68=\"\",$I45=\"NSO\"),\"\",VLOOKUP($A40,'Result Entry'!$B$9:$EQ$108,142,0))","v":"0/100"},null,{"$f":"IF(OR(C68=\"\",$I45=\"NSO\"),\"\",VLOOKUP($A40,'Result Entry'!$B$9:$EQ$108,100,0))","v":0}]
[null,null,{"$f":"'Result Entry'!$CX$3","v":"H&P. EDU."},null,null,{"$f":"IF(OR(C69=\"\",$I45=\"NSO\"),\"\",VLOOKUP($A40,'Result Entry'!$B$9:$EQ$108,146,0))","v":"0/0"},null,{"$f":"IF(OR(C69=\"\",$I45=\"NSO\"),\"\",VLOOKUP($A40,'Result Entry'!$B$9:$EQ$108,108,0))","v":0}]
[null,"◐",{"$f":"'Result Entry'!$DF$3","v":0},null,null,{"$f":"IF(OR(C70=\"\",$I45=\"NSO\"),\"\",VLOOKUP($A40,'Result Entry'!$B$9:$EQ$108,131,0))","v":0},null,{"$f":"IF(OR(C70=\"\",$I45=\"NSO\"),\"\",VLOOKUP($A40,'Result Entry'!$B$9:$EQ$108,97,0))","v":0},"Signature Of The Class Teacher"]
[null,"◐","Grading System"]
[null,"◐","Grd.","% Range",null,"Description"]
[null,"◐","A","86-100",null,"Excellent",null,null,"Signature And Seal Of Principal/H.M."]
[null,"◐","B","71-85",null,"Very Good"]
[null,"◐","C","51-70",null,"Good"]
[null,"◐","D","31-50",null,"Average"]
[null,"◐","E","0-30",null,"Needs Improvement",null,null,"Wish bright future"]
[]
[{"$f":"A40+1","v":3},"Department Of Education, Rajasthan"]
[null,{"$f":"IF(I84>0,CONCATENATE(C84,I84),0)","v":0},null,{"$f":"Master!$E$8","v":"Govt.Sr.Sec.Sch."}]
[{"$nulls":3},{"$f":"Master!$E$11","v":"P.S.-Bapini (Jodhpur)"}]
[null,null,"Report Card",{"$nulls":6},"U-DISE Code:-",null,{"$f":"Master!$E$14","v":{"v":810000000,"d":"0810000000"}}]
[{"$nulls":9},"Session:-",null,{"$f":"Master!$E$6","v":"2023-24"}]
[null,null,"Roll No.:-",{"$nulls":5},{"$f":"VLOOKUP($A79,'Result Entry'!$B$9:$F$108,5,0)","v":0}]
[null,"◐","Scholar Number",{"$nulls":3},"↠",{"$f":"VLOOKUP($A79,'Result Entry'!$B$9:$EQ$108,3,0)","v":0}]
[null,"◐","Student's Name",{"$nulls":3},"↠",{"$f":"VLOOKUP($A79,'Result Entry'!$B$9:$EQ$108,6,0)","v":0}]
[null,"◐","Father's Name",{"$nulls":3},"↠",{"$f":"VLOOKUP($A79,'Result Entry'!$B$9:$EQ$108,7,0)","v":0}]
[null,"◐","Mother's Name ",{"$nulls":3},"↠",{"$f":"VLOOKUP($A79,'Result Entry'!$B$9:$EQ$108,8,0)","v":0}]
[null,"◐","Class & Section",{"$nulls":3},"↠",{"$f":"CONCATENATE('Result Entry'!$F$4,'Result Entry'!$I$4)","v":"2(A)"}]
[null,"◐","Date Of Birth",{"$nulls":3},"↠",{"$f":"VLOOKUP($A79,'Result Entry'!$B$9:$EQ$108,9,0)","v":"00:00:00"}]
[null,"◐","Subject",null,{"$f":"'Result Entry'!$K$6","v":"First Test"},{"$f":"'Result Entry'!$L$6","v":"Second Test"},{"$f":"'Result Entry'!$M$6","v":"Third Test"},"Half Yearly","Total (Test+H.Y.)","Yearly","Grand Total",null,"Subject Grade"]
[null,"◐","Max. Marks",null,{"$f":"'Result Entry'!$K$7","v":10},{"$f":"'Result Entry'!$L$7","v":10},{"$f":"'Result Entry'!$M$7","v":10},{"$f":"'Result Entry'!$R$7","v":70},{"$f":"SUM(E92:H92)","v":100},{"$f":"'Result Entry'!$V$7","v":100},{"$f":"I92+J92","v":200},null,"A+/A/B/C/D"]
[null,"◐",{"$f":"'Result Entry'!$K$3","v":"Hindi"},null,{"$f":"IF(OR(C93=\"\",$I84=\"NSO\"),\"\",VLOOKUP($A79,'Result Entry'!$B$9:$EQ$108,10,0))","v":0},{"$f":"IF(OR(C93=\"\",$I84=\"NSO\"),\"\",VLOOKUP($A79,'Result Entry'!$B$9:$EQ$108,11,0))","v":0},{"$f":"IF(OR(C93=\"\",$I84=\"NSO\"),\"\",VLOOKUP($A79,'Result Entry'!$B$9:$EQ$108,12,0))","v":0},{"$f":"IF(OR(C93=\"\",$I84=\"NSO\"),\"\",VLOOKUP($A79,'Result Entry'!$B$9:$EQ$108,17,0))","v":0},{"$f":"SUM(E93:H93)","v":0},{"$f":"IF(OR(C93=\"\",$I84=\"NSO\"),\"\",VLOOKUP($A79,'Result Entry'!$B$9:$EQ$108,21,0))","v":0},{"$f":"SUM(I93,J93)","v":0},null,{"$f":"IF(OR(C93=\"\",$I84=\"NSO\"),\"\",VLOOKUP($A79,'Result Entry'!$B$9:$EQ$108,24,0))","v":""}]
[null,"◐",{"$f":"'Result Entry'!$Z$3","v":"Mathematics"},null,{"$f":"IF(OR(C94=\"\",$I84=\"NSO\"),\"\",VLOOKUP($A79,'Result Entry'!$B$9:$EQ$108,25,0))","v":0},{"$f":"IF(OR(C94=\"\",$I84=\"NSO\"),\"\",VLOOKUP($A79,'Result Entry'!$B$9:$EQ$108,26,0))","v":0},{"$f":"IF(OR(C94=\"\",$I84=\"NSO\"),\"\",VLOOKUP($A79,'Result Entry'!$B$9:$EQ$108,27,0))","v":0},{"$f":"IF(OR(C94=\"\",$I84=\"NSO\"),\"\",VLOOKUP($A79,'Result Entry'!$B$9:$EQ$108,32,0))","v":0},0,{"$f":"IF(OR(C94=\"\",$I84=\"NSO\"),\"\",VLOOKUP($A79,'Result Entry'!$B$9:$EQ$108,36,0))","v":0},{"$f":"SUM(I94,J94)","v":0},null,{"$f":"IF(OR(C94=\"\",$I84=\"NSO\"),\"\",VLOOKUP($A79,'Result Entry'!$B$9:$EQ$108,39,0))","v":""}]
[null,"◐",{"$f":"'Result Entry'!$BD$3","v":"Env. Study"},null,{"$f":"IF(OR(C95=\"\",$I84=\"NSO\"),\"\",VLOOKUP($A79,'Result Entry'!$B$9:$EQ$108,55,0))","v":0},{"$f":"IF(OR(C95=\"\",$I84=\"NSO\"),\"\",VLOOKUP($A79,'Result Entry'!$B$9:$EQ$108,56,0))","v":0},{"$f":"IF(OR(C95=\"\",$I84=\"NSO\"),\"\",VLOOKUP($A79,'Result Entry'!$B$9:$EQ$108,57,0))","v":0},{"$f":"IF(OR(C93=\"\",$I84=\"NSO\"),\"\",VLOOKUP($A79,'Result Entry'!$B$9:$EQ$108,62,0))","v":0},0,{"$f":"IF(OR(C94=\"\",$I84=\"NSO\"),\"\",VLOOKUP($A79,'Result Entry'!$B$9:$EQ$108,66,0))","v":0},0,null,{"$f":"IF(OR(C94=\"\",$I84=\"NSO\"),\"\",VLOOKUP($A79,'Result Entry'!$B$9:$EQ$108,69,0))","v":""}]
[null,"◐","Max. Marks",null,{"$f":"'Result Entry'!$AO$7","v":5},{"$f":"'Result Entry'!$AP$7","v":5},{"$f":"'Result Entry'!$AQ$7","v":5},{"$f":"'Result Entry'!$AV$7","v":35},50,{"$f":"'Result Entry'!$AZ$7","v":50},100,null,"A+/A/B/C/D"]
[null,"◐",{"$f":"'Result Entry'!$AO$3","v":"English"},null,{"$f":"IF(OR(C97=\"\",$I84=\"NSO\"),\"\",VLOOKUP($A79,'Result Entry'!$B$9:$EQ$108,40,0))","v":0},{"$f":"IF(OR(C97=\"\",$I84=\"NSO\"),\"\",VLOOKUP($A79,'Result Entry'!$B$9:$EQ$108,41,0))","v":0},{"$f":"IF(OR(C97=\"\",$I84=\"NSO\"),\"\",VLOOKUP($A79,'Result Entry'!$B$9:$EQ$108,42,0))","v":0},{"$f":"IF(OR(C97=\"\",$I84=\"NSO\"),\"\",VLOOKUP($A79,'Result Entry'!$B$9:$EQ$108,47,0))","v":0},0,{"$f":"IF(OR(C97=\"\",$I84=\"NSO\"),\"\",VLOOKUP($A79,'Result Entry'!$B$9:$EQ$108,51,0))","v":0},0,null,{"$f":"IF(OR(C97=\"\",$I84=\"NSO\"),\"\",VLOOKUP($A79,'Result Entry'!$B$9:$EQ$108,54,0))","v":""}]
[null,"◐","Max. Marks",null,{"$f":"'Result Entry'!$BS$7","v":10},{"$f":"'Result Entry'!$BT$7","v":10},{"$f":"'Result Entry'!$BU$7","v":10},{"$f":"'Result Entry'!$BZ$7","v":70},{"$f":"SUM(E98:H98)","v":100},{"$f":"'Result Entry'!$CD$7","v":100},200,null,"A+/A/B/C/D"]
[null,"◐",{"$f":"'Result Entry'!$BS$3","v":"Sanskrit/Urdu"},null,{"$f":"IF(OR(C99=\"\",$I84=\"NSO\"),\"\",VLOOKUP($A79,'Result Entry'!$B$9:$EQ$108,70,0))","v":0},{"$f":"IF(OR(C99=\"\",$I84=\"NSO\"),\"\",VLOOKUP($A79,'Result Entry'!$B$9:$EQ$108,71,0))","v":0},{"$f":"IF(OR(C99=\"\",$I84=\"NSO\"),\"\",VLOOKUP($A79,'Result Entry'!$B$9:$EQ$108,72,0))","v":0},{"$f":"IF(OR(C99=\"\",$I84=\"NSO\"),\"\",VLOOKUP($A79,'Result Entry'!$B$9:$EQ$108,77,0))","v":0},{"$f":"SUM(E99:H99)","v":0},{"$f":"IF(OR(C99=\"\",$I84=\"NSO\"),\"\",VLOOKUP($A79,'Result Entry'!$B$9:$EQ$108,81,0))","v":0},0,null,{"$f":"IF(OR(C99=\"\",$I84=\"NSO\"),\"\",VLOOKUP($A79,'Result Entry'!$B$9:$EQ$108,84,0))","v":""}]
[null,"◐"]
[null,"◐","Overall Result",null,null,"Total Max. Marks",null,"Total Obtained Marks",null,"Percentage","Overall Grade","Result","Position in Class"]
[null,"◐",{"$nulls":3},{"$f":"IF(OR($I84=\"\",$I84=\"NSO\"),\"\",VLOOKUP($A79,'Result Entry'!$B$9:$EQ$108,120,0))","v":900},null,{"$f":"IF(OR($I84=\"\",$I84=\"NSO\"),\"\",VLOOKUP($A79,'Result Entry'!$B$9:$EQ$108,121,0))","v":0},null,{"$f":"IF(OR($I84=\"\",$I84=\"NSO\"),\"\",VLOOKUP($A79,'Result Entry'!$B$9:$EQ$108,122,0))","v":{"v":0,"d":"0.00"}},{"$f":"IF(OR($I84=\"\",$I84=\"NSO\"),\"\",VLOOKUP($A79,'Result Entry'!$B$9:$EQ$108,123,0))","v":""},{"$f":"IF(OR($I84=\"\",$I84=\"NSO\"),\"\",VLOOKUP($A79,'Result Entry'!$B$9:$EQ$108,124,0))","v":""},{"$f":"IF(OR($I84=\"\",$I84=\"NSO\"),\"\",VLOOKUP($A79,'Result Entry'!$B$9:$EQ$108,126,0))","v":""}]
[null,"◐",{"$nulls":6},"Total Meetings :-",null,{"$f":"IF(OR($I84=\"\",$I84=\"NSO\"),\"\",VLOOKUP($A79,'Result Entry'!$B$9:$EQ$108,117,0))","v":0},"Attedance %"]
[null,"◐","Extra Subjects",{"$nulls":5},"Student's Meetings :-",null,{"$f":"IF(OR($I84=\"\",$I84=\"NSO\"),\"\",VLOOKUP($A79,'Result Entry'!$B$9:$EQ$108,118,0))","v":0},{"$f":"IF(OR($I84=\"\",$I84=\"NSO\"),\"\",VLOOKUP($A79,'Result Entry'!$B$9:$EQ$108,119,0))","v":""}]
[null,"◐","Subject",null,null,"Total Marks",null,"GRADE","Remark :-",null,{"$f":"IF(OR($I84=\"\",$I84=\"NSO\"),\"\",VLOOKUP($A79,'Result Entry'!$B$9:$EQ$108,127,0))","v":0}]
[null,"◐",{"$f":"'Result Entry'!$CH$3","v":"WORK EXP."},null,null,{"$f":"IF(OR(C106=\"\",$I84=\"NSO\"),\"\",VLOOKUP($A79,'Result Entry'!$B$9:$EQ$108,138,0))","v":"0/100"},null,{"$f":"IF(OR(C106=\"\",$I84=\"NSO\"),\"\",VLOOKUP($A79,'Result Entry'!$B$9:$EQ$108,92,0))","v":""},"Result Date :-",null,{"$f":"'Result Entry'!$U$2","v":"2024-05-07"}]
[null,"◐",{"$f":"'Result Entry'!$CP$3","v":"ART EDU."},null,null,{"$f":"IF(OR(C107=\"\",$I84=\"NSO\"),\"\",VLOOKUP($A79,'Result Entry'!$B$9:$EQ$108,142,0))","v":"0/100"},null,{"$f":"IF(OR(C107=\"\",$I84=\"NSO\"),\"\",VLOOKUP($A79,'Result Entry'!$B$9:$EQ$108,100,0))","v":""}]
[null,null,{"$f":"'Result Entry'!$CX$3","v":"H&P. EDU."},null,null,{"$f":"IF(OR(C108=\"\",$I84=\"NSO\"),\"\",VLOOKUP($A79,'Result Entry'!$B$9:$EQ$108,146,0))","v":"0/0"},null,{"$f":"IF(OR(C108=\"\",$I84=\"NSO\"),\"\",VLOOKUP($A79,'Result Entry'!$B$9:$EQ$108,108,0))","v":""}]
[null,"◐",{"$f":"'Result Entry'!$DF$3","v":0},null,null,{"$f":"IF(OR(C109=\"\",$I84=\"NSO\"),\"\",VLOOKUP($A79,'Result Entry'!$B$9:$EQ$108,131,0))","v":0},null,{"$f":"IF(OR(C109=\"\",$I84=\"NSO\"),\"\",VLOOKUP($A79,'Result Entry'!$B$9:$EQ$108,97,0))","v":0},"Signature Of The Class Teacher"]
[null,"◐","Grading System"]
[null,"◐","Grd.","% Range",null,"Description"]
[null,"◐","A","86-100",null,"Excellent",null,null,"Signature And Seal Of Principal/H.M."]
[null,"◐","B","71-85",null,"Very Good"]
[null,"◐","C","51-70",null,"Good"]
[null,"◐","D","31-50",null,"Average"]
[null,"◐","E","0-30",null,"Needs Improvement",null,null,"Wish bright future"]
[]
[{"$f":"A79+1","v":4},"Department Of Education, Rajasthan"]
[null,{"$f":"IF(I123>0,CONCATENATE(C123,I123),0)","v":0},null,{"$f":"Master!$E$8","v":"Govt.Sr.Sec.Sch."}]
[{"$nulls":3},{"$f":"Master!$E$11","v":"P.S.-Bapini (Jodhpur)"}]
[null,null,"Report Card",{"$nulls":6},"U-DISE Code:-",null,{"$f":"Master!$E$14","v":{"v":810000000,"d":"0810000000"}}]
[{"$nulls":9},"Session:-",null,{"$f":"Master!$E$6","v":"2023-24"}]
[null,null,"Roll No.:-",{"$nulls":5},{"$f":"VLOOKUP($A118,'Result Entry'!$B$9:$F$108,5,0)","v":0}]
[null,"◐","Scholar Number",{"$nulls":3},"↠",{"$f":"VLOOKUP($A118,'Result Entry'!$B$9:$EQ$108,3,0)","v":0}]
[null,"◐","Student's Name",{"$nulls":3},"↠",{"$f":"VLOOKUP($A118,'Result Entry'!$B$9:$EQ$108,6,0)","v":0}]
[null,"◐","Father's Name",{"$nulls":3},"↠",{"$f":"VLOOKUP($A118,'Result Entry'!$B$9:$EQ$108,7,0)","v":0}]
[null,"◐","Mother's Name ",{"$nulls":3},"↠",{"$f":"VLOOKUP($A118,'Result Entry'!$B$9:$EQ$108,8,0)","v":0}]
[null,"◐","Class & Section",{"$nulls":3},"↠",{"$f":"CONCATENATE('Result Entry'!$F$4,'Result Entry'!$I$4)","v":"2(A)"}]
[null,"◐","Date Of Birth",{"$nulls":3},"↠",{"$f":"VLOOKUP($A118,'Result Entry'!$B$9:$EQ$108,9,0)","v":"00:00:00"}]
[null,"◐","Subject",null,{"$f":"'Result Entry'!$K$6","v":"First Test"},{"$f":"'Result Entry'!$L$6","v":"Second Test"},{"$f":"'Result Entry'!$M$6","v":"Third Test"},"Half Yearly","Total (Test+H.Y.)","Yearly","Grand Total",null,"Subject Grade"]
[null,"◐","Max. Marks",null,{"$f":"'Result Entry'!$K$7","v":10},{"$f":"'Result Entry'!$L$7","v":10},{"$f":"'Result Entry'!$M$7","v":10},{"$f":"'Result Entry'!$R$7","v":70},{"$f":"SUM(E131:H131)","v":100},{"$f":"'Result Entry'!$V$7","v":100},{"$f":"I131+J131","v":200},null,"A+/A/B/C/D"]
[null,"◐",{"$f":"'Result Entry'!$K$3","v":"Hindi"},null,{"$f":"IF(OR(C132=\"\",$I123=\"NSO\"),\"\",VLOOKUP($A118,'Result Entry'!$B$9:$EQ$108,10,0))","v":0},{"$f":"IF(OR(C132=\"\",$I123=\"NSO\"),\"\",VLOOKUP($A118,'Result Entry'!$B$9:$EQ$108,11,0))","v":0},{"$f":"IF(OR(C132=\"\",$I123=\"NSO\"),\"\",VLOOKUP($A118,'Result Entry'!$B$9:$EQ$108,12,0))","v":0},{"$f":"IF(OR(C132=\"\",$I123=\"NSO\"),\"\",VLOOKUP($A118,'Result Entry'!$B$9:$EQ$108,17,0))","v":0},{"$f":"SUM(E132:H132)","v":0},{"$f":"IF(OR(C132=\"\",$I123=\"NSO\"),\"\",VLOOKUP($A118,'Result Entry'!$B$9:$EQ$108,21,0))","v":0},{"$f":"SUM(I132,J132)","v":0},null,{"$f":"IF(OR(C132=\"\",$I123=\"NSO\"),\"\",VLOOKUP($A118,'Result Entry'!$B$9:$EQ$108,24,0))","v":""}]
[null,"◐",{"$f":"'Result Entry'!$Z$3","v":"Mathematics"},null,{"$f":"IF(OR(C133=\"\",$I123=\"NSO\"),\"\",VLOOKUP($A118,'Result Entry'!$B$9:$EQ$108,25,0))","v":0},{"$f":"IF(OR(C133=\"\",$I123=\"NSO\"),\"\",VLOOKUP($A118,'Result Entry'!$B$9:$EQ$108,26,0))","v":0},{"$f":"IF(OR(C133=\"\",$I123=\"NSO\"),\"\",VLOOKUP($A118,'Result Entry'!$B$9:$EQ$108,27,0))","v":0},{"$f":"IF(OR(C133=\"\",$I123=\"NSO\"),\"\",VLOOKUP($A118,'Result Entry'!$B$9:$EQ$108,32,0))","v":0},0,{"$f":"IF(OR(C133=\"\",$I123=\"NSO\"),\"\",VLOOKUP($A118,'Result Entry'!$B$9:$EQ$108,36,0))","v":0},{"$f":"SUM(I133,J133)","v":0},null,{"$f":"IF(OR(C133=\"\",$I123=\"NSO\"),\"\",VLOOKUP($A118,'Result Entry'!$B$9:$EQ$108,39,0))","v":""}]
[null,"◐",{"$f":"'Result Entry'!$BD$3","v":"Env. Study"},null,{"$f":"IF(OR(C134=\"\",$I123=\"NSO\"),\"\",VLOOKUP($A118,'Result Entry'!$B$9:$EQ$108,55,0))","v":0},{"$f":"IF(OR(C134=\"\",$I123=\"NSO\"),\"\",VLOOKUP($A118,'Result Entry'!$B$9:$EQ$108,56,0))","v":0},{"$f":"IF(OR(C134=\"\",$I123=\"NSO\"),\"\",VLOOKUP($A118,'Result Entry'!$B$9:$EQ$108,57,0))","v":0},{"$f":"IF(OR(C132=\"\",$I123=\"NSO\"),\"\",VLOOKUP($A118,'Result Entry'!$B$9:$EQ$108,62,0))","v":0},0,{"$f":"IF(OR(C133=\"\",$I123=\"NSO\"),\"\",VLOOKUP($A118,'Result Entry'!$B$9:$EQ$108,66,0))","v":0},0,null,{"$f":"IF(OR(C133=\"\",$I123=\"NSO\"),\"\",VLOOKUP($A118,'Result Entry'!$B$9:$EQ$108,69,0))","v":""}]
[null,"◐","Max. Marks",null,{"$f":"'Result Entry'!$AO$7","v":5},{"$f":"'Result Entry'!$AP$7","v":5},{"$f":"'Result Entry'!$AQ$7","v":5},{"$f":"'Result Entry'!$AV$7","v":35},50,{"$f":"'Result Entry'!$AZ$7","v":50},100,null,"A+/A/B/C/D"]
[null,"◐",{"$f":"'Result Entry'!$AO$3","v":"English"},null,{"$f":"IF(OR(C136=\"\",$I123=\"NSO\"),\"\",VLOOKUP($A118,'Result Entry'!$B$9:$EQ$108,40,0))","v":0},{"$f":"IF(OR(C136=\"\",$I123=\"NSO\"),\"\",VLOOKUP($A118,'Result Entry'!$B$9:$EQ$108,41,0))","v":0},{"$f":"IF(OR(C136=\"\",$I123=\"NSO\"),\"\",VLOOKUP($A118,'Result Entry'!$B$9:$EQ$108,42,0))","v":0},{"$f":"IF(OR(C136=\"\",$I123=\"NSO\"),\"\",VLOOKUP($A118,'Result Entry'!$B$9:$EQ$108,47,0))","v":0},0,{"$f":"IF(OR(C136=\"\",$I123=\"NSO\"),\"\",VLOOKUP($A118,'Result Entry'!$B$9:$EQ$108,51,0))","v":0},0,null,{"$f":"IF(OR(C136=\"\",$I123=\"NSO\"),\"\",VLOOKUP($A118,'Result Entry'!$B$9:$EQ$108,54,0))","v":""}]
[null,"◐","Max. Marks",null,{"$f":"'Result Entry'!$BS$7","v":10},{"$f":"'Result Entry'!$BT$7","v":10},{"$f":"'Result Entry'!$BU$7","v":10},{"$f":"'Result Entry'!$BZ$7","v":70},{"$f":"SUM(E137:H137)","v":100},{"$f":"'Result Entry'!$CD$7","v":100},200,null,"A+/A/B/C/D"]
[null,"◐",{"$f":"'Result Entry'!$BS$3","v":"Sanskrit/Urdu"},null,{"$f":"IF(OR(C138=\"\",$I123=\"NSO\"),\"\",VLOOKUP($A118,'Result Entry'!$B$9:$EQ$108,70,0))","v":0},{"$f":"IF(OR(C138=\"\",$I123=\"NSO\"),\"\",VLOOKUP($A118,'Result Entry'!$B$9:$EQ$108,71,0))","v":0},{"$f":"IF(OR(C138=\"\",$I123=\"NSO\"),\"\",VLOOKUP($A118,'Result Entry'!$B$9:$EQ$108,72,0))","v":0},{"$f":"IF(OR(C138=\"\",$I123=\"NSO\"),\"\",VLOOKUP($A118,'Result Entry'!$B$9:$EQ$108,77,0))","v":0},{"$f":"SUM(E138:H138)","v":0},{"$f":"IF(OR(C138=\"\",$I123=\"NSO\"),\"\",VLOOKUP($A118,'Result Entry'!$B$9:$EQ$108,81,0))","v":0},0,null,{"$f":"IF(OR(C138=\"\",$I123=\"NSO\"),\"\",VLOOKUP($A118,'Result Entry'!$B$9:$EQ$108,84,0))","v":""}]
[null,"◐"]
[null,"◐","Overall Result",null,null,"Total Max. Marks",null,"Total Obtained Marks",null,"Percentage","Overall Grade","Result","Position in Class"]
[null,"◐",{"$nulls":3},{"$f":"IF(OR($I123=\"\",$I123=\"NSO\"),\"\",VLOOKUP($A118,'Result Entry'!$B$9:$EQ$108,120,0))","v":900},null,{"$f":"IF(OR($I123=\"\",$I123=\"NSO\"),\"\",VLOOKUP($A118,'Result Entry'!$B$9:$EQ$108,121,0))","v":0},null,{"$f":"IF(OR($I123=\"\",$I123=\"NSO\"),\"\",VLOOKUP($A118,'Result Entry'!$B$9:$EQ$108,122,0))","v":{"v":0,"d":"0.00"}},{"$f":"IF(OR($I123=\"\",$I123=\"NSO\"),\"\",VLOOKUP($A118,'Result Entry'!$B$9:$EQ$108,123,0))","v":""},{"$f":"IF(OR($I123=\"\",$I123=\"NSO\"),\"\",VLOOKUP($A118,'Result Entry'!$B$9:$EQ$108,124,0))","v":""},{"$f":"IF(OR($I123=\"\",$I123=\"NSO\"),\"\",VLOOKUP($A118,'Result Entry'!$B$9:$EQ$108,126,0))","v":""}]
[null,"◐",{"$nulls":6},"Total Meetings :-",null,{"$f":"IF(OR($I123=\"\",$I123=\"NSO\"),\"\",VLOOKUP($A118,'Result Entry'!$B$9:$EQ$108,117,0))","v":0},"Attedance %"]
[null,"◐","Extra Subjects",{"$nulls":5},"Student's Meetings :-",null,{"$f":"IF(OR($I123=\"\",$I123=\"NSO\"),\"\",VLOOKUP($A118,'Result Entry'!$B$9:$EQ$108,118,0))","v":0},{"$f":"IF(OR($I123=\"\",$I123=\"NSO\"),\"\",VLOOKUP($A118,'Result Entry'!$B$9:$EQ$108,119,0))","v":""}]
[null,"◐","Subject",null,null,"Total Marks",null,"GRADE","Remark :-",null,{"$f":"IF(OR($I123=\"\",$I123=\"NSO\"),\"\",VLOOKUP($A118,'Result Entry'!$B$9:$EQ$108,127,0))","v":0}]
[null,"◐",{"$f":"'Result Entry'!$CH$3","v":"WORK EXP."},null,null,{"$f":"IF(OR(C145=\"\",$I123=\"NSO\"),\"\",VLOOKUP($A118,'Result Entry'!$B$9:$EQ$108,138,0))","v":"0/100"},null,{"$f":"IF(OR(C145=\"\",$I123=\"NSO\"),\"\",VLOOKUP($A118,'Result Entry'!$B$9:$EQ$108,92,0))","v":""},"Result Date :-",null,{"$f":"'Result Entry'!$U$2","v":"2024-05-07"}]
[null,"◐",{"$f":"'Result Entry'!$CP$3","v":"ART EDU."},null,null,{"$f":"IF(OR(C146=\"\",$I123=\"NSO\"),\"\",VLOOKUP($A118,'Result Entry'!$B$9:$EQ$108,142,0))","v":"0/100"},null,{"$f":"IF(OR(C146=\"\",$I123=\"NSO\"),\"\",VLOOKUP($A118,'Result Entry'!$B$9:$EQ$108,100,0))","v":""}]
[null,null,{"$f":"'Result Entry'!$CX$3","v":"H&P. EDU."},null,null,{"$f":"IF(OR(C147=\"\",$I123=\"NSO\"),\"\",VLOOKUP($A118,'Result Entry'!$B$9:$EQ$108,146,0))","v":"0/0"},null,{"$f":"IF(OR(C147=\"\",$I123=\"NSO\"),\"\",VLOOKUP($A118,'Result Entry'!$B$9:$EQ$108,108,0))","v":""}]
[null,"◐",{"$f":"'Result Entry'!$DF$3","v":0},null,null,{"$f":"IF(OR(C148=\"\",$I123=\"NSO\"),\"\",VLOOKUP($A118,'Result Entry'!$B$9:$EQ$108,131,0))","v":0},null,{"$f":"IF(OR(C148=\"\",$I123=\"NSO\"),\"\",VLOOKUP($A118,'Result Entry'!$B$9:$EQ$108,97,0))","v":0},"Signature Of The Class Teacher"]
[null,"◐","Grading System"]
[null,"◐","Grd.","% Range",null,"Description"]
[null,"◐","A","86-100",null,"Excellent",null,null,"Signature And Seal Of Principal/H.M."]
[null,"◐","B","71-85",null,"Very Good"]
[null,"◐","C","51-70",null,"Good"]
[null,"◐","D","31-50",null,"Average"]
[null,"◐","E","0-30",null,"Needs Improvement",null,null,"Wish bright future"]
[]
[{"$f":"A118+1","v":5},"Department Of Education, Rajasthan"]
[null,{"$f":"IF(I162>0,CONCATENATE(C162,I162),0)","v":0},null,{"$f":"Master!$E$8","v":"Govt.Sr.Sec.Sch."}]
[{"$nulls":3},{"$f":"Master!$E$11","v":"P.S.-Bapini (Jodhpur)"}]
[null,null,"Report Card",{"$nulls":6},"U-DISE Code:-",null,{"$f":"Master!$E$14","v":{"v":810000000,"d":"0810000000"}}]
[{"$nulls":9},"Session:-",null,{"$f":"Master!$E$6","v":"2023-24"}]
[null,null,"Roll No.:-",{"$nulls":5},{"$f":"VLOOKUP($A157,'Result Entry'!$B$9:$F$108,5,0)","v":0}]
[null,"◐","Scholar Number",{"$nulls":3},"↠",{"$f":"VLOOKUP($A157,'Result Entry'!$B$9:$EQ$108,3,0)","v":0}]
[null,"◐","Student's Name",{"$nulls":3},"↠",{"$f":"VLOOKUP($A157,'Result Entry'!$B$9:$EQ$108,6,0)","v":0}]
[null,"◐","Father's Name",{"$nulls":3},"↠",{"$f":"VLOOKUP($A157,'Result Entry'!$B$9:$EQ$108,7,0)","v":0}]
[null,"◐","Mother's Name ",{"$nulls":3},"↠",{"$f":"VLOOKUP($A157,'Result Entry'!$B$9:$EQ$108,8,0)","v":0}]
[null,"◐","Class & Section",{"$nulls":3},"↠",{"$f":"CONCATENATE('Result Entry'!$F$4,'Result Entry'!$I$4)","v":"2(A)"}]
[null,"◐","Date Of Birth",{"$nulls":3},"↠",{"$f":"VLOOKUP($A157,'Result Entry'!$B$9:$EQ$108,9,0)","v":"00:00:00"}]
[null,"◐","Subject",null,{"$f":"'Result Entry'!$K$6","v":"First Test"},{"$f":"'Result Entry'!$L$6","v":"Second Test"},{"$f":"'Result Entry'!$M$6","v":"Third Test"},"Half Yearly","Total (Test+H.Y.)","Yearly","Grand Total",null,"Subject Grade"]
[null,"◐","Max. Marks",null,{"$f":"'Result Entry'!$K$7","v":10},{"$f":"'Result Entry'!$L$7","v":10},{"$f":"'Result Entry'!$M$7","v":10},{"$f":"'Result Entry'!$R$7","v":70},{"$f":"SUM(E170:H170)","v":100},{"$f":"'Result Entry'!$V$7","v":100},{"$f":"I170+J170","v":200},null,"A+/A/B/C/D"]
[null,"◐",{"$f":"'Result Entry'!$K$3","v":"Hindi"},null,{"$f":"IF(OR(C171=\"\",$I162=\"NSO\"),\"\",VLOOKUP($A157,'Result Entry'!$B$9:$EQ$108,10,0))","v":0},{"$f":"IF(OR(C171=\"\",$I162=\"NSO\"),\"\",VLOOKUP($A157,'Result Entry'!$B$9:$EQ$108,11,0))","v":0},{"$f":"IF(OR(C171=\"\",$I162=\"NSO\"),\"\",VLOOKUP($A157,'Result Entry'!$B$9:$EQ$108,12,0))","v":0},{"$f":"IF(OR(C171=\"\",$I162=\"NSO\"),\"\",VLOOKUP($A157,'Result Entry'!$B$9:$EQ$108,17,0))","v":0},{"$f":"SUM(E171:H171)","v":0},{"$f":"IF(OR(C171=\"\",$I162=\"NSO\"),\"\",VLOOKUP($A157,'Result Entry'!$B$9:$EQ$108,21,0))","v":0},{"$f":"SUM(I171,J171)","v":0},null,{"$f":"IF(OR(C171=\"\",$I162=\"NSO\"),\"\",VLOOKUP($A157,'Result Entry'!$B$9:$EQ$108,24,0))","v":""}]
[null,"◐",{"$f":"'Result Entry'!$Z$3","v":"Mathematics"},null,{"$f":"IF(OR(C172=\"\",$I162=\"NSO\"),\"\",VLOOKUP($A157,'Result Entry'!$B$9:$EQ$108,25,0))","v":0},{"$f":"IF(OR(C172=\"\",$I162=\"NSO\"),\"\",VLOOKUP($A157,'Result Entry'!$B$9:$EQ$108,26,0))","v":0},{"$f":"IF(OR(C172=\"\",$I162=\"NSO\"),\"\",VLOOKUP($A157,'Result Entry'!$B$9:$EQ$108,27,0))","v":0},{"$f":"IF(OR(C172=\"\",$I162=\"NSO\"),\"\",VLOOKUP($A157,'Result Entry'!$B$9:$EQ$108,32,0))","v":0},0,{"$f":"IF(OR(C172=\"\",$I162=\"NSO\"),\"\",VLOOKUP($A157,'Result Entry'!$B$9:$EQ$108,36,0))","v":0},{"$f":"SUM(I172,J172)","v":0},null,{"$f":"IF(OR(C172=\"\",$I162=\"NSO\"),\"\",VLOOKUP($A157,'Result Entry'!$B$9:$EQ$108,39,0))","v":""}]
[null,"◐",{"$f":"'Result Entry'!$BD$3","v":"Env. Study"},null,{"$f":"IF(OR(C173=\"\",$I162=\"NSO\"),\"\",VLOOKUP($A157,'Result Entry'!$B$9:$EQ$108,55,0))","v":0},{"$f":"IF(OR(C173=\"\",$I162=\"NSO\"),\"\",VLOOKUP($A157,'Result Entry'!$B$9:$EQ$108,56,0))","v":0},{"$f":"IF(OR(C173=\"\",$I162=\"NSO\"),\"\",VLOOKUP($A157,'Result Entry'!$B$9:$EQ$108,57,0))","v":0},{"$f":"IF(OR(C171=\"\",$I162=\"NSO\"),\"\",VLOOKUP($A157,'Result Entry'!$B$9:$EQ$108,62,0))","v":0},0,{"$f":"IF(OR(C172=\"\",$I162=\"NSO\"),\"\",VLOOKUP($A157,'Result Entry'!$B$9:$EQ$108,66,0))","v":0},0,null,{"$f":"IF(OR(C172=\"\",$I162=\"NSO\"),\"\",VLOOKUP($A157,'Result Entry'!$B$9:$EQ$108,69,0))","v":""}]
[null,"◐","Max. Marks",null,{"$f":"'Result Entry'!$AO$7","v":5},{"$f":"'Result Entry'!$AP$7","v":5},{"$f":"'Result Entry'!$AQ$7","v":5},{"$f":"'Result Entry'!$AV$7","v":35},50,{"$f":"'Result Entry'!$AZ$7","v":50},100,null,"A+/A/B/C/D"]
[null,"◐",{"$f":"'Result Entry'!$AO$3","v":"English"},null,{"$f":"IF(OR(C175=\"\",$I162=\"NSO\"),\"\",VLOOKUP($A157,'Result Entry'!$B$9:$EQ$108,40,0))","v":0},{"$f":"IF(OR(C175=\"\",$I162=\"NSO\"),\"\",VLOOKUP($A157,'Result Entry'!$B$9:$EQ$108,41,0))","v":0},{"$f":"IF(OR(C175=\"\",$I162=\"NSO\"),\"\",VLOOKUP($A157,'Result Entry'!$B$9:$EQ$108,42,0))","v":0},{"$f":"IF(OR(C175=\"\",$I162=\"NSO\"),\"\",VLOOKUP($A157,'Result Entry'!$B$9:$EQ$108,47,0))","v":0},0,{"$f":"IF(OR(C175=\"\",$I162=\"NSO\"),\"\",VLOOKUP($A157,'Result Entry'!$B$9:$EQ$108,51,0))","v":0},0,null,{"$f":"IF(OR(C175=\"\",$I162=\"NSO\"),\"\",VLOOKUP($A157,'Result Entry'!$B$9:$EQ$108,54,0))","v":""}]
[null,"◐","Max. Marks",null,{"$f":"'Result Entry'!$BS$7","v":10},{"$f":"'Result Entry'!$BT$7","v":10},{"$f":"'Result Entry'!$BU$7","v":10},{"$f":"'Result Entry'!$BZ$7","v":70},{"$f":"SUM(E176:H176)","v":100},{"$f":"'Result Entry'!$CD$7","v":100},200,null,"A+/A/B/C/D"]
[null,"◐",{"$f":"'Result Entry'!$BS$3","v":"Sanskrit/Urdu"},null,{"$f":"IF(OR(C177=\"\",$I162=\"NSO\"),\"\",VLOOKUP($A157,'Result Entry'!$B$9:$EQ$108,70,0))","v":0},{"$f":"IF(OR(C177=\"\",$I162=\"NSO\"),\"\",VLOOKUP($A157,'Result Entry'!$B$9:$EQ$108,71,0))","v":0},{"$f":"IF(OR(C177=\"\",$I162=\"NSO\"),\"\",VLOOKUP($A157,'Result Entry'!$B$9:$EQ$108,72,0))","v":0},{"$f":"IF(OR(C177=\"\",$I162=\"NSO\"),\"\",VLOOKUP($A157,'Result Entry'!$B$9:$EQ$108,77,0))","v":0},{"$f":"SUM(E177:H177)","v":0},{"$f":"IF(OR(C177=\"\",$I162=\"NSO\"),\"\",VLOOKUP($A157,'Result Entry'!$B$9:$EQ$108,81,0))","v":0},0,null,{"$f":"IF(OR(C177=\"\",$I162=\"NSO\"),\"\",VLOOKUP($A157,'Result Entry'!$B$9:$EQ$108,84,0))","v":""}]
[null,"◐"]
[null,"◐","Overall Result",null,null,"Total Max. Marks",null,"Total Obtained Marks",null,"Percentage","Overall Grade","Result","Position in Class"]
[null,"◐",{"$nulls":3},{"$f":"IF(OR($I162=\"\",$I162=\"NSO\"),\"\",VLOOKUP($A157,'Result Entry'!$B$9:$EQ$108,120,0))","v":900},null,{"$f":"IF(OR($I162=\"\",$I162=\"NSO\"),\"\",VLOOKUP($A157,'Result Entry'!$B$9:$EQ$108,121,0))","v":0},null,{"$f":"IF(OR($I162=\"\",$I162=\"NSO\"),\"\",VLOOKUP($A157,'Result Entry'!$B$9:$EQ$108,122,0))","v":{"v":0,"d":"0.00"}},{"$f":"IF(OR($I162=\"\",$I162=\"NSO\"),\"\",VLOOKUP($A157,'Result Entry'!$B$9:$EQ$108,123,0))","v":""},{"$f":"IF(OR($I162=\"\",$I162=\"NSO\"),\"\",VLOOKUP($A157,'Result Entry'!$B$9:$EQ$108,124,0))","v":""},{"$f":"IF(OR($I162=\"\",$I162=\"NSO\"),\"\",VLOOKUP($A157,'Result Entry'!$B$9:$EQ$108,126,0))","v":""}]
[null,"◐",{"$nulls":6},"Total Meetings :-",null,{"$f":"IF(OR($I162=\"\",$I162=\"NSO\"),\"\",VLOOKUP($A157,'Result Entry'!$B$9:$EQ$108,117,0))","v":0},"Attedance %"]
[null,"◐","Extra Subjects",{"$nulls":5},"Student's Meetings :-",null,{"$f":"IF(OR($I162=\"\",$I162=\"NSO\"),\"\",VLOOKUP($A157,'Result Entry'!$B$9:$EQ$108,118,0))","v":0},{"$f":"IF(OR($I162=\"\",$I162=\"NSO\"),\"\",VLOOKUP($A157,'Result Entry'!$B$9:$EQ$108,119,0))","v":""}]
[null,"◐","Subject",null,null,"Total Marks",null,"GRADE","Remark :-",null,{"$f":"IF(OR($I162=\"\",$I162=\"NSO\"),\"\",VLOOKUP($A157,'Result Entry'!$B$9:$EQ$108,127,0))","v":0}]
[null,"◐",{"$f":"'Result Entry'!$CH$3","v":"WORK EXP."},null,null,{"$f":"IF(OR(C184=\"\",$I162=\"NSO\"),\"\",VLOOKUP($A157,'Result Entry'!$B$9:$EQ$108,138,0))","v":"0/100"},null,{"$f":"IF(OR(C184=\"\",$I162=\"NSO\"),\"\",VLOOKUP($A157,'Result Entry'!$B$9:$EQ$108,92,0))","v":""},"Result Date :-",null,{"$f":"'Result Entry'!$U$2","v":"2024-05-07"}]
[null,"◐",{"$f":"'Result Entry'!$CP$3","v":"ART EDU."},null,null,{"$f":"IF(OR(C185=\"\",$I162=\"NSO\"),\"\",VLOOKUP($A157,'Result Entry'!$B$9:$EQ$108,142,0))","v":"0/100"},null,{"$f":"IF(OR(C185=\"\",$I162=\"NSO\"),\"\",VLOOKUP($A157,'Result Entry'!$B$9:$EQ$108,100,0))","v":""}]
[null,null,{"$f":"'Result Entry'!$CX$3","v":"H&P. EDU."},null,null,{"$f":"IF(OR(C186=\"\",$I162=\"NSO\"),\"\",VLOOKUP($A157,'Result Entry'!$B$9:$EQ$108,146,0))","v":"0/0"},null,{"$f":"IF(OR(C186=\"\",$I162=\"NSO\"),\"\",VLOOKUP($A157,'Result Entry'!$B$9:$EQ$108,108,0))","v":""}]
[null,"◐",{"$f":"'Result Entry'!$DF$3","v":0},null,null,{"$f":"IF(OR(C187=\"\",$I162=\"NSO\"),\"\",VLOOKUP($A157,'Result Entry'!$B$9:$EQ$108,131,0))","v":0},null,{"$f":"IF(OR(C187=\"\",$I162=\"NSO\"),\"\",VLOOKUP($A157,'Result Entry'!$B$9:$EQ$108,97,0))","v":0},"Signature Of The Class Teacher"]
[null,"◐","Grading System"]
[null,"◐","Grd.","% Range",null,"Description"]
[null,"◐","A","86-100",null,"Excellent",null,null,"Signature And Seal Of Principal/H.M."]
[null,"◐","B","71-85",null,"Very Good"]
[null,"◐","C","51-70",null,"Good"]
[null,"◐","D","31-50",null,"Average"]
[null,"◐","E","0-30",null,"Needs Improvement",null,null,"Wish bright future"]
[]
[{"$f":"A157+1","v":6},"Department Of Education, Rajasthan"]
[null,{"$f":"IF(I201>0,CONCATENATE(C201,I201),0)","v":0},null,{"$f":"Master!$E$8","v":"Govt.Sr.Sec.Sch."}]
[{"$nulls":3},{"$f":"Master!$E$11","v":"P.S.-Bapini (Jodhpur)"}]
[null,null,"Report Card",{"$nulls":6},"U-DISE Code:-",null,{"$f":"Master!$E$14","v":{"v":810000000,"d":"0810000000"}}]
[{"$nulls":9},"Session:-",null,{"$f":"Master!$E$6","v":"2023-24"}]
[null,null,"Roll No.:-",{"$nulls":5},{"$f":"VLOOKUP($A196,'Result Entry'!$B$9:$F$108,5,0)","v":0}]
[null,"◐","Scholar Number",{"$nulls":3},"↠",{"$f":"VLOOKUP($A196,'Result Entry'!$B$9:$EQ$108,3,0)","v":0}]
[null,"◐","Student's Name",{"$nulls":3},"↠",{"$f":"VLOOKUP($A196,'Result Entry'!$B$9:$EQ$108,6,0)","v":0}]
[null,"◐","Father's Name",{"$nulls":3},"↠",{"$f":"VLOOKUP($A196,'Result Entry'!$B$9:$EQ$108,7,0)","v":0}]
[null,"◐","Mother's Name ",{"$nulls":3},"↠",{"$f":"VLOOKUP($A196,'Result Entry'!$B$9:$EQ$108,8,0)","v":0}]
[null,"◐","Class & Section",{"$nulls":3},"↠",{"$f":"CONCATENATE('Result Entry'!$F$4,'Result Entry'!$I$4)","v":"2(A)"}]
[null,"◐","Date Of Birth",{"$nulls":3},"↠",{"$f":"VLOOKUP($A196,'Result Entry'!$B$9:$EQ$108,9,0)","v":"00:00:00"}]
[null,"◐","Subject",null,{"$f":"'Result Entry'!$K$6","v":"First Test"},{"$f":"'Result Entry'!$L$6","v":"Second Test"},{"$f":"'Result Entry'!$M$6","v":"Third Test"},"Half Yearly","Total (Test+H.Y.)","Yearly","Grand Total",null,"Subject Grade"]
[null,"◐","Max. Marks",null,{"$f":"'Result Entry'!$K$7","v":10},{"$f":"'Result Entry'!$L$7","v":10},{"$f":"'Result Entry'!$M$7","v":10},{"$f":"'Result Entry'!$R$7","v":70},{"$f":"SUM(E209:H209)","v":100},{"$f":"'Result Entry'!$V$7","v":100},{"$f":"I209+J209","v":200},null,"A+/A/B/C/D"]
[null,"◐",{"$f":"'Result Entry'!$K$3","v":"Hindi"},null,{"$f":"IF(OR(C210=\"\",$I201=\"NSO\"),\"\",VLOOKUP($A196,'Result Entry'!$B$9:$EQ$108,10,0))","v":0},{"$f":"IF(OR(C210=\"\",$I201=\"NSO\"),\"\",VLOOKUP($A196,'Result Entry'!$B$9:$EQ$108,11,0))","v":0},{"$f":"IF(OR(C210=\"\",$I201=\"NSO\"),\"\",VLOOKUP($A196,'Result Entry'!$B$9:$EQ$108,12,0))","v":0},{"$f":"IF(OR(C210=\"\",$I201=\"NSO\"),\"\",VLOOKUP($A196,'Result Entry'!$B$9:$EQ$108,17,0))","v":0},{"$f":"SUM(E210:H210)","v":0},{"$f":"IF(OR(C210=\"\",$I201=\"NSO\"),\"\",VLOOKUP($A196,'Result Entry'!$B$9:$EQ$108,21,0))","v":0},{"$f":"SUM(I210,J210)","v":0},null,{"$f":"IF(OR(C210=\"\",$I201=\"NSO\"),\"\",VLOOKUP($A196,'Result Entry'!$B$9:$EQ$108,24,0))","v":""}]
[null,"◐",{"$f":"'Result Entry'!$Z$3","v":"Mathematics"},null,{"$f":"IF(OR(C211=\"\",$I201=\"NSO\"),\"\",VLOOKUP($A196,'Result Entry'!$B$9:$EQ$108,25,0))","v":0},{"$f":"IF(OR(C211=\"\",$I201=\"NSO\"),\"\",VLOOKUP($A196,'Result Entry'!$B$9:$EQ$108,26,0))","v":0},{"$f":"IF(OR(C211=\"\",$I201=\"NSO\"),\"\",VLOOKUP($A196,'Result Entry'!$B$9:$EQ$108,27,0))","v":0},{"$f":"IF(OR(C211=\"\",$I201=\"NSO\"),\"\",VLOOKUP($A196,'Result Entry'!$B$9:$EQ$108,32,0))","v":0},0,{"$f":"IF(OR(C211=\"\",$I201=\"NSO\"),\"\",VLOOKUP($A196,'Result Entry'!$B$9:$EQ$108,36,0))","v":0},{"$f":"SUM(I211,J211)","v":0},null,{"$f":"IF(OR(C211=\"\",$I201=\"NSO\"),\"\",VLOOKUP($A196,'Result Entry'!$B$9:$EQ$108,39,0))","v":""}]
[null,"◐",{"$f":"'Result Entry'!$BD$3","v":"Env. Study"},null,{"$f":"IF(OR(C212=\"\",$I201=\"NSO\"),\"\",VLOOKUP($A196,'Result Entry'!$B$9:$EQ$108,55,0))","v":0},{"$f":"IF(OR(C212=\"\",$I201=\"NSO\"),\"\",VLOOKUP($A196,'Result Entry'!$B$9:$EQ$108,56,0))","v":0},{"$f":"IF(OR(C212=\"\",$I201=\"NSO\"),\"\",VLOOKUP($A196,'Result Entry'!$B$9:$EQ$108,57,0))","v":0},{"$f":"IF(OR(C210=\"\",$I201=\"NSO\"),\"\",VLOOKUP($A196,'Result Entry'!$B$9:$EQ$108,62,0))","v":0},0,{"$f":"IF(OR(C211=\"\",$I201=\"NSO\"),\"\",VLOOKUP($A196,'Result Entry'!$B$9:$EQ$108,66,0))","v":0},0,null,{"$f":"IF(OR(C211=\"\",$I201=\"NSO\"),\"\",VLOOKUP($A196,'Result Entry'!$B$9:$EQ$108,69,0))","v":""}]
[null,"◐","Max. Marks",null,{"$f":"'Result Entry'!$AO$7","v":5},{"$f":"'Result Entry'!$AP$7","v":5},{"$f":"'Result Entry'!$AQ$7","v":5},{"$f":"'Result Entry'!$AV$7","v":35},50,{"$f":"'Result Entry'!$AZ$7","v":50},100,null,"A+/A/B/C/D"]
[null,"◐",{"$f":"'Result Entry'!$AO$3","v":"English"},null,{"$f":"IF(OR(C214=\"\",$I201=\"NSO\"),\"\",VLOOKUP($A196,'Result Entry'!$B$9:$EQ$108,40,0))","v":0},{"$f":"IF(OR(C214=\"\",$I201=\"NSO\"),\"\",VLOOKUP($A196,'Result Entry'!$B$9:$EQ$108,41,0))","v":0},{"$f":"IF(OR(C214=\"\",$I201=\"NSO\"),\"\",VLOOKUP($A196,'Result Entry'!$B$9:$EQ$108,42,0))","v":0},{"$f":"IF(OR(C214=\"\",$I201=\"NSO\"),\"\",VLOOKUP($A196,'Result Entry'!$B$9:$EQ$108,47,0))","v":0},0,{"$f":"IF(OR(C214=\"\",$I201=\"NSO\"),\"\",VLOOKUP($A196,'Result Entry'!$B$9:$EQ$108,51,0))","v":0},0,null,{"$f":"IF(OR(C214=\"\",$I201=\"NSO\"),\"\",VLOOKUP($A196,'Result Entry'!$B$9:$EQ$108,54,0))","v":""}]
[null,"◐","Max. Marks",null,{"$f":"'Result Entry'!$BS$7","v":10},{"$f":"'Result Entry'!$BT$7","v":10},{"$f":"'Result Entry'!$BU$7","v":10},{"$f":"'Result Entry'!$BZ$7","v":70},{"$f":"SUM(E215:H215)","v":100},{"$f":"'Result Entry'!$CD$7","v":100},200,null,"A+/A/B/C/D"]
[null,"◐",{"$f":"'Result Entry'!$BS$3","v":"Sanskrit/Urdu"},null,{"$f":"IF(OR(C216=\"\",$I201=\"NSO\"),\"\",VLOOKUP($A196,'Result Entry'!$B$9:$EQ$108,70,0))","v":0},{"$f":"IF(OR(C216=\"\",$I201=\"NSO\"),\"\",VLOOKUP($A196,'Result Entry'!$B$9:$EQ$108,71,0))","v":0},{"$f":"IF(OR(C216=\"\",$I201=\"NSO\"),\"\",VLOOKUP($A196,'Result Entry'!$B$9:$EQ$108,72,0))","v":0},{"$f":"IF(OR(C216=\"\",$I201=\"NSO\"),\"\",VLOOKUP($A196,'Result Entry'!$B$9:$EQ$108,77,0))","v":0},{"$f":"SUM(E216:H216)","v":0},{"$f":"IF(OR(C216=\"\",$I201=\"NSO\"),\"\",VLOOKUP($A196,'Result Entry'!$B$9:$EQ$108,81,0))","v":0},0,null,{"$f":"IF(OR(C216=\"\",$I201=\"NSO\"),\"\",VLOOKUP($A196,'Result Entry'!$B$9:$EQ$108,84,0))","v":""}]
[null,"◐"]
[null,"◐","Overall Result",null,null,"Total Max. Marks",null,"Total Obtained Marks",null,"Percentage","Overall Grade","Result","Position in Class"]
[null,"◐",{"$nulls":3},{"$f":"IF(OR($I201=\"\",$I201=\"NSO\"),\"\",VLOOKUP($A196,'Result Entry'!$B$9:$EQ$108,120,0))","v":900},null,{"$f":"IF(OR($I201=\"\",$I201=\"NSO\"),\"\",VLOOKUP($A196,'Result Entry'!$B$9:$EQ$108,121,0))","v":0},null,{"$f":"IF(OR($I201=\"\",$I201=\"NSO\"),\"\",VLOOKUP($A196,'Result Entry'!$B$9:$EQ$108,122,0))","v":{"v":0,"d":"0.00"}},{"$f":"IF(OR($I201=\"\",$I201=\"NSO\"),\"\",VLOOKUP($A196,'Result Entry'!$B$9:$EQ$108,123,0))","v":""},{"$f":"IF(OR($I201=\"\",$I201=\"NSO\"),\"\",VLOOKUP($A196,'Result Entry'!$B$9:$EQ$108,124,0))","v":""},{"$f":"IF(OR($I201=\"\",$I201=\"NSO\"),\"\",VLOOKUP($A196,'Result Entry'!$B$9:$EQ$108,126,0))","v":""}]
[null,"◐",{"$nulls":6},"Total Meetings :-",null,{"$f":"IF(OR($I201=\"\",$I201=\"NSO\"),\"\",VLOOKUP($A196,'Result Entry'!$B$9:$EQ$108,117,0))","v":0},"Attedance %"]
[null,"◐","Extra Subjects",{"$nulls":5},"Student's Meetings :-",null,{"$f":"IF(OR($I201=\"\",$I201=\"NSO\"),\"\",VLOOKUP($A196,'Result Entry'!$B$9:$EQ$108,118,0))","v":0},{"$f":"IF(OR($I201=\"\",$I201=\"NSO\"),\"\",VLOOKUP($A196,'Result Entry'!$B$9:$EQ$108,119,0))","v":""}]
[null,"◐","Subject",null,null,"Total Marks",null,"GRADE","Remark :-",null,{"$f":"IF(OR($I201=\"\",$I201=\"NSO\"),\"\",VLOOKUP($A196,'Result Entry'!$B$9:$EQ$108,127,0))","v":0}]
[null,"◐",{"$f":"'Result Entry'!$CH$3","v":"WORK EXP."},null,null,{"$f":"IF(OR(C223=\"\",$I201=\"NSO\"),\"\",VLOOKUP($A196,'Result Entry'!$B$9:$EQ$108,138,0))","v":"0/100"},null,{"$f":"IF(OR(C223=\"\",$I201=\"NSO\"),\"\",VLOOKUP($A196,'Result Entry'!$B$9:$EQ$108,92,0))","v":""},"Result Date :-",null,{"$f":"'Result Entry'!$U$2","v":"2024-05-07"}]
[null,"◐",{"$f":"'Result Entry'!$CP$3","v":"ART EDU."},null,null,{"$f":"IF(OR(C224=\"\",$I201=\"NSO\"),\"\",VLOOKUP($A196,'Result Entry'!$B$9:$EQ$108,142,0))","v":"0/100"},null,{"$f":"IF(OR(C224=\"\",$I201=\"NSO\"),\"\",VLOOKUP($A196,'Result Entry'!$B$9:$EQ$108,100,0))","v":""}]
[null,null,{"$f":"'Result Entry'!$CX$3","v":"H&P. EDU."},null,null,{"$f":"IF(OR(C225=\"\",$I201=\"NSO\"),\"\",VLOOKUP($A196,'Result Entry'!$B$9:$EQ$108,146,0))","v":"0/0"},null,{"$f":"IF(OR(C225=\"\",$I201=\"NSO\"),\"\",VLOOKUP($A196,'Result Entry'!$B$9:$EQ$108,108,0))","v":""}]
[null,"◐",{"$f":"'Result Entry'!$DF$3","v":0},null,null,{"$f":"IF(OR(C226=\"\",$I201=\"NSO\"),\"\",VLOOKUP($A196,'Result Entry'!$B$9:$EQ$108,131,0))","v":0},null,{"$f":"IF(OR(C226=\"\",$I201=\"NSO\"),\"\",VLOOKUP($A196,'Result Entry'!$B$9:$EQ$108,97,0))","v":0},"Signature Of The Class Teacher"]
[null,"◐","Grading System"]
[null,"◐","Grd.","% Range",null,"Description"]
[null,"◐","A","86-100",null,"Excellent",null,null,"Signature And Seal Of Principal/H.M."]
[null,"◐","B","71-85",null,"Very Good"]
[null,"◐","C","51-70",null,"Good"]
[null,"◐","D","31-50",null,"Average"]
[null,"◐","E","0-30",null,"Needs Improvement",null,null,"Wish bright future"]
[]
[{"$f":"A196+1","v":7},"Department Of Education, Rajasthan"]
[null,{"$f":"IF(I240>0,CONCATENATE(C240,I240),0)","v":0},null,{"$f":"Master!$E$8","v":"Govt.Sr.Sec.Sch."}]
[{"$nulls":3},{"$f":"Master!$E$11","v":"P.S.-Bapini (Jodhpur)"}]
[null,null,"Report Card",{"$nulls":6},"U-DISE Code:-",null,{"$f":"Master!$E$14","v":{"v":810000000,"d":"0810000000"}}]
[{"$nulls":9},"Session:-",null,{"$f":"Master!$E$6","v":"2023-24"}]
[null,null,"Roll No.:-",{"$nulls":5},{"$f":"VLOOKUP($A235,'Result Entry'!$B$9:$F$108,5,0)","v":0}]
[null,"◐","Scholar Number",{"$nulls":3},"↠",{"$f":"VLOOKUP($A235,'Result Entry'!$B$9:$EQ$108,3,0)","v":0}]
[null,"◐","Student's Name",{"$nulls":3},"↠",{"$f":"VLOOKUP($A235,'Result Entry'!$B$9:$EQ$108,6,0)","v":0}]
[null,"◐","Father's Name",{"$nulls":3},"↠",{"$f":"VLOOKUP($A235,'Result Entry'!$B$9:$EQ$108,7,0)","v":0}]
[null,"◐","Mother's Name ",{"$nulls":3},"↠",{"$f":"VLOOKUP($A235,'Result Entry'!$B$9:$EQ$108,8,0)","v":0}]
[null,"◐","Class & Section",{"$nulls":3},"↠",{"$f":"CONCATENATE('Result Entry'!$F$4,'Result Entry'!$I$4)","v":"2(A)"}]
[null,"◐","Date Of Birth",{"$nulls":3},"↠",{"$f":"VLOOKUP($A235,'Result Entry'!$B$9:$EQ$108,9,0)","v":"00:00:00"}]
[null,"◐","Subject",null,{"$f":"'Result Entry'!$K$6","v":"First Test"},{"$f":"'Result Entry'!$L$6","v":"Second Test"},{"$f":"'Result Entry'!$M$6","v":"Third Test"},"Half Yearly","Total (Test+H.Y.)","Yearly","Grand Total",null,"Subject Grade"]
[null,"◐","Max. Marks",null,{"$f":"'Result Entry'!$K$7","v":10},{"$f":"'Result Entry'!$L$7","v":10},{"$f":"'Result Entry'!$M$7","v":10},{"$f":"'Result Entry'!$R$7","v":70},{"$f":"SUM(E248:H248)","v":100},{"$f":"'Result Entry'!$V$7","v":100},{"$f":"I248+J248","v":200},null,"A+/A/B/C/D"]
[null,"◐",{"$f":"'Result Entry'!$K$3","v":"Hindi"},null,{"$f":"IF(OR(C249=\"\",$I240=\"NSO\"),\"\",VLOOKUP($A235,'Result Entry'!$B$9:$EQ$108,10,0))","v":0},{"$f":"IF(OR(C249=\"\",$I240=\"NSO\"),\"\",VLOOKUP($A235,'Result Entry'!$B$9:$EQ$108,11,0))","v":0},{"$f":"IF(OR(C249=\"\",$I240=\"NSO\"),\"\",VLOOKUP($A235,'Result Entry'!$B$9:$EQ$108,12,0))","v":0},{"$f":"IF(OR(C249=\"\",$I240=\"NSO\"),\"\",VLOOKUP($A235,'Result Entry'!$B$9:$EQ$108,17,0))","v":0},{"$f":"SUM(E249:H249)","v":0},{"$f":"IF(OR(C249=\"\",$I240=\"NSO\"),\"\",VLOOKUP($A235,'Result Entry'!$B$9:$EQ$108,21,0))","v":0},{"$f":"SUM(I249,J249)","v":0},null,{"$f":"IF(OR(C249=\"\",$I240=\"NSO\"),\"\",VLOOKUP($A235,'Result Entry'!$B$9:$EQ$108,24,0))","v":""}]
[null,"◐",{"$f":"'Result Entry'!$Z$3","v":"Mathematics"},null,{"$f":"IF(OR(C250=\"\",$I240=\"NSO\"),\"\",VLOOKUP($A235,'Result Entry'!$B$9:$EQ$108,25,0))","v":0},{"$f":"IF(OR(C250=\"\",$I240=\"NSO\"),\"\",VLOOKUP($A235,'Result Entry'!$B$9:$EQ$108,26,0))","v":0},{"$f":"IF(OR(C250=\"\",$I240=\"NSO\"),\"\",VLOOKUP($A235,'Result Entry'!$B$9:$EQ$108,27,0))","v":0},{"$f":"IF(OR(C250=\"\",$I240=\"NSO\"),\"\",VLOOKUP($A235,'Result Entry'!$B$9:$EQ$108,32,0))","v":0},0,{"$f":"IF(OR(C250=\"\",$I240=\"NSO\"),\"\",VLOOKUP($A235,'Result Entry'!$B$9:$EQ$108,36,0))","v":0},{"$f":"SUM(I250,J250)","v":0},null,{"$f":"IF(OR(C250=\"\",$I240=\"NSO\"),\"\",VLOOKUP($A235,'Result Entry'!$B$9:$EQ$108,39,0))","v":""}]
[null,"◐",{"$f":"'Result Entry'!$BD$3","v":"Env. Study"},null,{"$f":"IF(OR(C251=\"\",$I240=\"NSO\"),\"\",VLOOKUP($A235,'Result Entry'!$B$9:$EQ$108,55,0))","v":0},{"$f":"IF(OR(C251=\"\",$I240=\"NSO\"),\"\",VLOOKUP($A235,'Result Entry'!$B$9:$EQ$108,56,0))","v":0},{"$f":"IF(OR(C251=\"\",$I240=\"NSO\"),\"\",VLOOKUP($A235,'Result Entry'!$B$9:$EQ$108,57,0))","v":0},{"$f":"IF(OR(C249=\"\",$I240=\"NSO\"),\"\",VLOOKUP($A235,'Result Entry'!$B$9:$EQ$108,62,0))","v":0},0,{"$f":"IF(OR(C250=\"\",$I240=\"NSO\"),\"\",VLOOKUP($A235,'Result Entry'!$B$9:$EQ$108,66,0))","v":0},0,null,{"$f":"IF(OR(C250=\"\",$I240=\"NSO\"),\"\",VLOOKUP($A235,'Result Entry'!$B$9:$EQ$108,69,0))","v":""}]
[null,"◐","Max. Marks",null,{"$f":"'Result Entry'!$AO$7","v":5},{"$f":"'Result Entry'!$AP$7","v":5},{"$f":"'Result Entry'!$AQ$7","v":5},{"$f":"'Result Entry'!$AV$7","v":35},50,{"$f":"'Result Entry'!$AZ$7","v":50},100,null,"A+/A/B/C/D"]
[null,"◐",{"$f":"'Result Entry'!$AO$3","v":"English"},null,{"$f":"IF(OR(C253=\"\",$I240=\"NSO\"),\"\",VLOOKUP($A235,'Result Entry'!$B$9:$EQ$108,40,0))","v":0},{"$f":"IF(OR(C253=\"\",$I240=\"NSO\"),\"\",VLOOKUP($A235,'Result Entry'!$B$9:$EQ$108,41,0))","v":0},{"$f":"IF(OR(C253=\"\",$I240=\"NSO\"),\"\",VLOOKUP($A235,'Result Entry'!$B$9:$EQ$108,42,0))","v":0},{"$f":"IF(OR(C253=\"\",$I240=\"NSO\"),\"\",VLOOKUP($A235,'Result Entry'!$B$9:$EQ$108,47,0))","v":0},0,{"$f":"IF(OR(C253=\"\",$I240=\"NSO\"),\"\",VLOOKUP($A235,'Result Entry'!$B$9:$EQ$108,51,0))","v":0},0,null,{"$f":"IF(OR(C253=\"\",$I240=\"NSO\"),\"\",VLOOKUP($A235,'Result Entry'!$B$9:$EQ$108,54,0))","v":""}]
[null,"◐","Max. Marks",null,{"$f":"'Result Entry'!$BS$7","v":10},{"$f":"'Result Entry'!$BT$7","v":10},{"$f":"'Result Entry'!$BU$7","v":10},{"$f":"'Result Entry'!$BZ$7","v":70},{"$f":"SUM(E254:H254)","v":100},{"$f":"'Result Entry'!$CD$7","v":100},200,null,"A+/A/B/C/D"]
[null,"◐",{"$f":"'Result Entry'!$BS$3","v":"Sanskrit/Urdu"},null,{"$f":"IF(OR(C255=\"\",$I240=\"NSO\"),\"\",VLOOKUP($A235,'Result Entry'!$B$9:$EQ$108,70,0))","v":0},{"$f":"IF(OR(C255=\"\",$I240=\"NSO\"),\"\",VLOOKUP($A235,'Result Entry'!$B$9:$EQ$108,71,0))","v":0},{"$f":"IF(OR(C255=\"\",$I240=\"NSO\"),\"\",VLOOKUP($A235,'Result Entry'!$B$9:$EQ$108,72,0))","v":0},{"$f":"IF(OR(C255=\"\",$I240=\"NSO\"),\"\",VLOOKUP($A235,'Result Entry'!$B$9:$EQ$108,77,0))","v":0},{"$f":"SUM(E255:H255)","v":0},{"$f":"IF(OR(C255=\"\",$I240=\"NSO\"),\"\",VLOOKUP($A235,'Result Entry'!$B$9:$EQ$108,81,0))","v":0},0,null,{"$f":"IF(OR(C255=\"\",$I240=\"NSO\"),\"\",VLOOKUP($A235,'Result Entry'!$B$9:$EQ$108,84,0))","v":""}]
[null,"◐"]
[null,"◐","Overall Result",null,null,"Total Max. Marks",null,"Total Obtained Marks",null,"Percentage","Overall Grade","Result","Position in Class"]
[null,"◐",{"$nulls":3},{"$f":"IF(OR($I240=\"\",$I240=\"NSO\"),\"\",VLOOKUP($A235,'Result Entry'!$B$9:$EQ$108,120,0))","v":900},null,{"$f":"IF(OR($I240=\"\",$I240=\"NSO\"),\"\",VLOOKUP($A235,'Result Entry'!$B$9:$EQ$108,121,0))","v":0},null,{"$f":"IF(OR($I240=\"\",$I240=\"NSO\"),\"\",VLOOKUP($A235,'Result Entry'!$B$9:$EQ$108,122,0))","v":{"v":0,"d":"0.00"}},{"$f":"IF(OR($I240=\"\",$I240=\"NSO\"),\"\",VLOOKUP($A235,'Result Entry'!$B$9:$EQ$108,123,0))","v":""},{"$f":"IF(OR($I240=\"\",$I240=\"NSO\"),\"\",VLOOKUP($A235,'Result Entry'!$B$9:$EQ$108,124,0))","v":""},{"$f":"IF(OR($I240=\"\",$I240=\"NSO\"),\"\",VLOOKUP($A235,'Result Entry'!$B$9:$EQ$108,126,0))","v":""}]
[null,"◐",{"$nulls":6},"Total Meetings :-",null,{"$f":"IF(OR($I240=\"\",$I240=\"NSO\"),\"\",VLOOKUP($A235,'Result Entry'!$B$9:$EQ$108,117,0))","v":0},"Attedance %"]
[null,"◐","Extra Subjects",{"$nulls":5},"Student's Meetings :-",null,{"$f":"IF(OR($I240=\"\",$I240=\"NSO\"),\"\",VLOOKUP($A235,'Result Entry'!$B$9:$EQ$108,118,0))","v":0},{"$f":"IF(OR($I240=\"\",$I240=\"NSO\"),\"\",VLOOKUP($A235,'Result Entry'!$B$9:$EQ$108,119,0))","v":""}]
[null,"◐","Subject",null,null,"Total Marks",null,"GRADE","Remark :-",null,{"$f":"IF(OR($I240=\"\",$I240=\"NSO\"),\"\",VLOOKUP($A235,'Result Entry'!$B$9:$EQ$108,127,0))","v":0}]
[null,"◐",{"$f":"'Result Entry'!$CH$3","v":"WORK EXP."},null,null,{"$f":"IF(OR(C262=\"\",$I240=\"NSO\"),\"\",VLOOKUP($A235,'Result Entry'!$B$9:$EQ$108,138,0))","v":"0/100"},null,{"$f":"IF(OR(C262=\"\",$I240=\"NSO\"),\"\",VLOOKUP($A235,'Result Entry'!$B$9:$EQ$108,92,0))","v":""},"Result Date :-",null,{"$f":"'Result Entry'!$U$2","v":"2024-05-07"}]
[null,"◐",{"$f":"'Result Entry'!$CP$3","v":"ART EDU."},null,null,{"$f":"IF(OR(C263=\"\",$I240=\"NSO\"),\"\",VLOOKUP($A235,'Result Entry'!$B$9:$EQ$108,142,0))","v":"0/100"},null,{"$f":"IF(OR(C263=\"\",$I240=\"NSO\"),\"\",VLOOKUP($A235,'Result Entry'!$B$9:$EQ$108,100,0))","v":""}]
[null,null,{"$f":"'Result Entry'!$CX$3","v":"H&P. EDU."},null,null,{"$f":"IF(OR(C264=\"\",$I240=\"NSO\"),\"\",VLOOKUP($A235,'Result Entry'!$B$9:$EQ$108,146,0))","v":"0/0"},null,{"$f":"IF(OR(C264=\"\",$I240=\"NSO\"),\"\",VLOOKUP($A235,'Result Entry'!$B$9:$EQ$108,108,0))","v":""}]
[null,"◐",{"$f":"'Result Entry'!$DF$3","v":0},null,null,{"$f":"IF(OR(C265=\"\",$I240=\"NSO\"),\"\",VLOOKUP($A235,'Result Entry'!$B$9:$EQ$108,131,0))","v":0},null,{"$f":"IF(OR(C265=\"\",$I240=\"NSO\"),\"\",VLOOKUP($A235,'Result Entry'!$B$9:$EQ$108,97,0))","v":0},"Signature Of The Class Teacher"]
[null,"◐","Grading System"]
[null,"◐","Grd.","% Range",null,"Description"]
[null,"◐","A","86-100",null,"Excellent",null,null,"Signature And Seal Of Principal/H.M."]
[null,"◐","B","71-85",null,"Very Good"]
[null,"◐","C","51-70",null,"Good"]
[null,"◐","D","31-50",null,"Average"]
[null,"◐","E","0-30",null,"Needs Improvement",null,null,"Wish bright future"]
[]
[{"$f":"A235+1","v":8},"Department Of Education, Rajasthan"]
[null,{"$f":"IF(I279>0,CONCATENATE(C279,I279),0)","v":0},null,{"$f":"Master!$E$8","v":"Govt.Sr.Sec.Sch."}]
[{"$nulls":3},{"$f":"Master!$E$11","v":"P.S.-Bapini (Jodhpur)"}]
[null,null,"Report Card",{"$nulls":6},"U-DISE Code:-",null,{"$f":"Master!$E$14","v":{"v":810000000,"d":"0810000000"}}]
[{"$nulls":9},"Session:-",null,{"$f":"Master!$E$6","v":"2023-24"}]
[null,null,"Roll No.:-",{"$nulls":5},{"$f":"VLOOKUP($A274,'Result Entry'!$B$9:$F$108,5,0)","v":0}]
[null,"◐","Scholar Number",{"$nulls":3},"↠",{"$f":"VLOOKUP($A274,'Result Entry'!$B$9:$EQ$108,3,0)","v":0}]
[null,"◐","Student's Name",{"$nulls":3},"↠",{"$f":"VLOOKUP($A274,'Result Entry'!$B$9:$EQ$108,6,0)","v":0}]
[null,"◐","Father's Name",{"$nulls":3},"↠",{"$f":"VLOOKUP($A274,'Result Entry'!$B$9:$EQ$108,7,0)","v":0}]
[null,"◐","Mother's Name ",{"$nulls":3},"↠",{"$f":"VLOOKUP($A274,'Result Entry'!$B$9:$EQ$108,8,0)","v":0}]
[null,"◐","Class & Section",{"$nulls":3},"↠",{"$f":"CONCATENATE('Result Entry'!$F$4,'Result Entry'!$I$4)","v":"2(A)"}]
[null,"◐","Date Of Birth",{"$nulls":3},"↠",{"$f":"VLOOKUP($A274,'Result Entry'!$B$9:$EQ$108,9,0)","v":"00:00:00"}]
[null,"◐","Subject",null,{"$f":"'Result Entry'!$K$6","v":"First Test"},{"$f":"'Result Entry'!$L$6","v":"Second Test"},{"$f":"'Result Entry'!$M$6","v":"Third Test"},"Half Yearly","Total (Test+H.Y.)","Yearly","Grand Total",null,"Subject Grade"]
[null,"◐","Max. Marks",null,{"$f":"'Result Entry'!$K$7","v":10},{"$f":"'Result Entry'!$L$7","v":10},{"$f":"'Result Entry'!$M$7","v":10},{"$f":"'Result Entry'!$R$7","v":70},{"$f":"SUM(E287:H287)","v":100},{"$f":"'Result Entry'!$V$7","v":100},{"$f":"I287+J287","v":200},null,"A+/A/B/C/D"]
[null,"◐",{"$f":"'Result Entry'!$K$3","v":"Hindi"},null,{"$f":"IF(OR(C288=\"\",$I279=\"NSO\"),\"\",VLOOKUP($A274,'Result Entry'!$B$9:$EQ$108,10,0))","v":0},{"$f":"IF(OR(C288=\"\",$I279=\"NSO\"),\"\",VLOOKUP($A274,'Result Entry'!$B$9:$EQ$108,11,0))","v":0},{"$f":"IF(OR(C288=\"\",$I279=\"NSO\"),\"\",VLOOKUP($A274,'Result Entry'!$B$9:$EQ$108,12,0))","v":0},{"$f":"IF(OR(C288=\"\",$I279=\"NSO\"),\"\",VLOOKUP($A274,'Result Entry'!$B$9:$EQ$108,17,0))","v":0},{"$f":"SUM(E288:H288)","v":0},{"$f":"IF(OR(C288=\"\",$I279=\"NSO\"),\"\",VLOOKUP($A274,'Result Entry'!$B$9:$EQ$108,21,0))","v":0},{"$f":"SUM(I288,J288)","v":0},null,{"$f":"IF(OR(C288=\"\",$I279=\"NSO\"),\"\",VLOOKUP($A274,'Result Entry'!$B$9:$EQ$108,24,0))","v":""}]
[null,"◐",{"$f":"'Result Entry'!$Z$3","v":"Mathematics"},null,{"$f":"IF(OR(C289=\"\",$I279=\"NSO\"),\"\",VLOOKUP($A274,'Result Entry'!$B$9:$EQ$108,25,0))","v":0},{"$f":"IF(OR(C289=\"\",$I279=\"NSO\"),\"\",VLOOKUP($A274,'Result Entry'!$B$9:$EQ$108,26,0))","v":0},{"$f":"IF(OR(C289=\"\",$I279=\"NSO\"),\"\",VLOOKUP($A274,'Result Entry'!$B$9:$EQ$108,27,0))","v":0},{"$f":"IF(OR(C289=\"\",$I279=\"NSO\"),\"\",VLOOKUP($A274,'Result Entry'!$B$9:$EQ$108,32,0))","v":0},0,{"$f":"IF(OR(C289=\"\",$I279=\"NSO\"),\"\",VLOOKUP($A274,'Result Entry'!$B$9:$EQ$108,36,0))","v":0},{"$f":"SUM(I289,J289)","v":0},null,{"$f":"IF(OR(C289=\"\",$I279=\"NSO\"),\"\",VLOOKUP($A274,'Result Entry'!$B$9:$EQ$108,39,0))","v":""}]
[null,"◐",{"$f":"'Result Entry'!$BD$3","v":"Env. Study"},null,{"$f":"IF(OR(C290=\"\",$I279=\"NSO\"),\"\",VLOOKUP($A274,'Result Entry'!$B$9:$EQ$108,55,0))","v":0},{"$f":"IF(OR(C290=\"\",$I279=\"NSO\"),\"\",VLOOKUP($A274,'Result Entry'!$B$9:$EQ$108,56,0))","v":0},{"$f":"IF(OR(C290=\"\",$I279=\"NSO\"),\"\",VLOOKUP($A274,'Result Entry'!$B$9:$EQ$108,57,0))","v":0},{"$f":"IF(OR(C288=\"\",$I279=\"NSO\"),\"\",VLOOKUP($A274,'Result Entry'!$B$9:$EQ$108,62,0))","v":0},0,{"$f":"IF(OR(C289=\"\",$I279=\"NSO\"),\"\",VLOOKUP($A274,'Result Entry'!$B$9:$EQ$108,66,0))","v":0},0,null,{"$f":"IF(OR(C289=\"\",$I279=\"NSO\"),\"\",VLOOKUP($A274,'Result Entry'!$B$9:$EQ$108,69,0))","v":""}]
[null,"◐","Max. Marks",null,{"$f":"'Result Entry'!$AO$7","v":5},{"$f":"'Result Entry'!$AP$7","v":5},{"$f":"'Result Entry'!$AQ$7","v":5},{"$f":"'Result Entry'!$AV$7","v":35},50,{"$f":"'Result Entry'!$AZ$7","v":50},100,null,"A+/A/B/C/D"]
[null,"◐",{"$f":"'Result Entry'!$AO$3","v":"English"},null,{"$f":"IF(OR(C292=\"\",$I279=\"NSO\"),\"\",VLOOKUP($A274,'Result Entry'!$B$9:$EQ$108,40,0))","v":0},{"$f":"IF(OR(C292=\"\",$I279=\"NSO\"),\"\",VLOOKUP($A274,'Result Entry'!$B$9:$EQ$108,41,0))","v":0},{"$f":"IF(OR(C292=\"\",$I279=\"NSO\"),\"\",VLOOKUP($A274,'Result Entry'!$B$9:$EQ$108,42,0))","v":0},{"$f":"IF(OR(C292=\"\",$I279=\"NSO\"),\"\",VLOOKUP($A274,'Result Entry'!$B$9:$EQ$108,47,0))","v":0},0,{"$f":"IF(OR(C292=\"\",$I279=\"NSO\"),\"\",VLOOKUP($A274,'Result Entry'!$B$9:$EQ$108,51,0))","v":0},0,null,{"$f":"IF(OR(C292=\"\",$I279=\"NSO\"),\"\",VLOOKUP($A274,'Result Entry'!$B$9:$EQ$108,54,0))","v":""}]
[null,"◐","Max. Marks",null,{"$f":"'Result Entry'!$BS$7","v":10},{"$f":"'Result Entry'!$BT$7","v":10},{"$f":"'Result Entry'!$BU$7","v":10},{"$f":"'Result Entry'!$BZ$7","v":70},{"$f":"SUM(E293:H293)","v":100},{"$f":"'Result Entry'!$CD$7","v":100},200,null,"A+/A/B/C/D"]
[null,"◐",{"$f":"'Result Entry'!$BS$3","v":"Sanskrit/Urdu"},null,{"$f":"IF(OR(C294=\"\",$I279=\"NSO\"),\"\",VLOOKUP($A274,'Result Entry'!$B$9:$EQ$108,70,0))","v":0},{"$f":"IF(OR(C294=\"\",$I279=\"NSO\"),\"\",VLOOKUP($A274,'Result Entry'!$B$9:$EQ$108,71,0))","v":0},{"$f":"IF(OR(C294=\"\",$I279=\"NSO\"),\"\",VLOOKUP($A274,'Result Entry'!$B$9:$EQ$108,72,0))","v":0},{"$f":"IF(OR(C294=\"\",$I279=\"NSO\"),\"\",VLOOKUP($A274,'Result Entry'!$B$9:$EQ$108,77,0))","v":0},{"$f":"SUM(E294:H294)","v":0},{"$f":"IF(OR(C294=\"\",$I279=\"NSO\"),\"\",VLOOKUP($A274,'Result Entry'!$B$9:$EQ$108,81,0))","v":0},0,null,{"$f":"IF(OR(C294=\"\",$I279=\"NSO\"),\"\",VLOOKUP($A274,'Result Entry'!$B$9:$EQ$108,84,0))","v":""}]
[null,"◐"]
[null,"◐","Overall Result",null,null,"Total Max. Marks",null,"Total Obtained Marks",null,"Percentage","Overall Grade","Result","Position in Class"]
[null,"◐",{"$nulls":3},{"$f":"IF(OR($I279=\"\",$I279=\"NSO\"),\"\",VLOOKUP($A274,'Result Entry'!$B$9:$EQ$108,120,0))","v":900},null,{"$f":"IF(OR($I279=\"\",$I279=\"NSO\"),\"\",VLOOKUP($A274,'Result Entry'!$B$9:$EQ$108,121,0))","v":0},null,{"$f":"IF(OR($I279=\"\",$I279=\"NSO\"),\"\",VLOOKUP($A274,'Result Entry'!$B$9:$EQ$108,122,0))","v":{"v":0,"d":"0.00"}},{"$f":"IF(OR($I279=\"\",$I279=\"NSO\"),\"\",VLOOKUP($A274,'Result Entry'!$B$9:$EQ$108,123,0))","v":""},{"$f":"IF(OR($I279=\"\",$I279=\"NSO\"),\"\",VLOOKUP($A274,'Result Entry'!$B$9:$EQ$108,124,0))","v":""},{"$f":"IF(OR($I279=\"\",$I279=\"NSO\"),\"\",VLOOKUP($A274,'Result Entry'!$B$9:$EQ$108,126,0))","v":""}]
[null,"◐",{"$nulls":6},"Total Meetings :-",null,{"$f":"IF(OR($I279=\"\",$I279=\"NSO\"),\"\",VLOOKUP($A274,'Result Entry'!$B$9:$EQ$108,117,0))","v":0},"Attedance %"]
[null,"◐","Extra Subjects",{"$nulls":5},"Student's Meetings :-",null,{"$f":"IF(OR($I279=\"\",$I279=\"NSO\"),\"\",VLOOKUP($A274,'Result Entry'!$B$9:$EQ$108,118,0))","v":0},{"$f":"IF(OR($I279=\"\",$I279=\"NSO\"),\"\",VLOOKUP($A274,'Result Entry'!$B$9:$EQ$108,119,0))","v":""}]
[null,"◐","Subject",null,null,"Total Marks",null,"GRADE","Remark :-",null,{"$f":"IF(OR($I279=\"\",$I279=\"NSO\"),\"\",VLOOKUP($A274,'Result Entry'!$B$9:$EQ$108,127,0))","v":0}]
[null,"◐",{"$f":"'Result Entry'!$CH$3","v":"WORK EXP."},null,null,{"$f":"IF(OR(C301=\"\",$I279=\"NSO\"),\"\",VLOOKUP($A274,'Result Entry'!$B$9:$EQ$108,138,0))","v":"0/100"},null,{"$f":"IF(OR(C301=\"\",$I279=\"NSO\"),\"\",VLOOKUP($A274,'Result Entry'!$B$9:$EQ$108,92,0))","v":""},"Result Date :-",null,{"$f":"'Result Entry'!$U$2","v":"2024-05-07"}]
[null,"◐",{"$f":"'Result Entry'!$CP$3","v":"ART EDU."},null,null,{"$f":"IF(OR(C302=\"\",$I279=\"NSO\"),\"\",VLOOKUP($A274,'Result Entry'!$B$9:$EQ$108,142,0))","v":"0/100"},null,{"$f":"IF(OR(C302=\"\",$I279=\"NSO\"),\"\",VLOOKUP($A274,'Result Entry'!$B$9:$EQ$108,100,0))","v":""}]
[null,null,{"$f":"'Result Entry'!$CX$3","v":"H&P. EDU."},null,null,{"$f":"IF(OR(C303=\"\",$I279=\"NSO\"),\"\",VLOOKUP($A274,'Result Entry'!$B$9:$EQ$108,146,0))","v":"0/0"},null,{"$f":"IF(OR(C303=\"\",$I279=\"NSO\"),\"\",VLOOKUP($A274,'Result Entry'!$B$9:$EQ$108,108,0))","v":""}]
[null,"◐",{"$f":"'Result Entry'!$DF$3","v":0},null,null,{"$f":"IF(OR(C304=\"\",$I279=\"NSO\"),\"\",VLOOKUP($A274,'Result Entry'!$B$9:$EQ$108,131,0))","v":0},null,{"$f":"IF(OR(C304=\"\",$I279=\"NSO\"),\"\",VLOOKUP($A274,'Result Entry'!$B$9:$EQ$108,97,0))","v":0},"Signature Of The Class Teacher"]
[null,"◐","Grading System"]
[null,"◐","Grd.","% Range",null,"Description"]
[null,"◐","A","86-100",null,"Excellent",null,null,"Signature And Seal Of Principal/H.M."]
[null,"◐","B","71-85",null,"Very Good"]
[null,"◐","C","51-70",null,"Good"]
[null,"◐","D","31-50",null,"Average"]
[null,"◐","E","0-30",null,"Needs Improvement",null,null,"Wish bright future"]
[]
[{"$f":"A274+1","v":9},"Department Of Education, Rajasthan"]
[null,{"$f":"IF(I318>0,CONCATENATE(C318,I318),0)","v":0},null,{"$f":"Master!$E$8","v":"Govt.Sr.Sec.Sch."}]
[{"$nulls":3},{"$f":"Master!$E$11","v":"P.S.-Bapini (Jodhpur)"}]
[null,null,"Report Card",{"$nulls":6},"U-DISE Code:-",null,{"$f":"Master!$E$14","v":{"v":810000000,"d":"0810000000"}}]
[{"$nulls":9},"Session:-",null,{"$f":"Master!$E$6","v":"2023-24"}]
[null,null,"Roll No.:-",{"$nulls":5},{"$f":"VLOOKUP($A313,'Result Entry'!$B$9:$F$108,5,0)","v":0}]
[null,"◐","Scholar Number",{"$nulls":3},"↠",{"$f":"VLOOKUP($A313,'Result Entry'!$B$9:$EQ$108,3,0)","v":0}]
[null,"◐","Student's Name",{"$nulls":3},"↠",{"$f":"VLOOKUP($A313,'Result Entry'!$B$9:$EQ$108,6,0)","v":0}]
[null,"◐","Father's Name",{"$nulls":3},"↠",{"$f":"VLOOKUP($A313,'Result Entry'!$B$9:$EQ$108,7,0)","v":0}]
[null,"◐","Mother's Name ",{"$nulls":3},"↠",{"$f":"VLOOKUP($A313,'Result Entry'!$B$9:$EQ$108,8,0)","v":0}]
[null,"◐","Class & Section",{"$nulls":3},"↠",{"$f":"CONCATENATE('Result Entry'!$F$4,'Result Entry'!$I$4)","v":"2(A)"}]
[null,"◐","Date Of Birth",{"$nulls":3},"↠",{"$f":"VLOOKUP($A313,'Result Entry'!$B$9:$EQ$108,9,0)","v":"00:00:00"}]
[null,"◐","Subject",null,{"$f":"'Result Entry'!$K$6","v":"First Test"},{"$f":"'Result Entry'!$L$6","v":"Second Test"},{"$f":"'Result Entry'!$M$6","v":"Third Test"},"Half Yearly","Total (Test+H.Y.)","Yearly","Grand Total",null,"Subject Grade"]
[null,"◐","Max. Marks",null,{"$f":"'Result Entry'!$K$7","v":10},{"$f":"'Result Entry'!$L$7","v":10},{"$f":"'Result Entry'!$M$7","v":10},{"$f":"'Result Entry'!$R$7","v":70},{"$f":"SUM(E326:H326)","v":100},{"$f":"'Result Entry'!$V$7","v":100},{"$f":"I326+J326","v":200},null,"A+/A/B/C/D"]
[null,"◐",{"$f":"'Result Entry'!$K$3","v":"Hindi"},null,{"$f":"IF(OR(C327=\"\",$I318=\"NSO\"),\"\",VLOOKUP($A313,'Result Entry'!$B$9:$EQ$108,10,0))","v":0},{"$f":"IF(OR(C327=\"\",$I318=\"NSO\"),\"\",VLOOKUP($A313,'Result Entry'!$B$9:$EQ$108,11,0))","v":0},{"$f":"IF(OR(C327=\"\",$I318=\"NSO\"),\"\",VLOOKUP($A313,'Result Entry'!$B$9:$EQ$108,12,0))","v":0},{"$f":"IF(OR(C327=\"\",$I318=\"NSO\"),\"\",VLOOKUP($A313,'Result Entry'!$B$9:$EQ$108,17,0))","v":0},{"$f":"SUM(E327:H327)","v":0},{"$f":"IF(OR(C327=\"\",$I318=\"NSO\"),\"\",VLOOKUP($A313,'Result Entry'!$B$9:$EQ$108,21,0))","v":0},{"$f":"SUM(I327,J327)","v":0},null,{"$f":"IF(OR(C327=\"\",$I318=\"NSO\"),\"\",VLOOKUP($A313,'Result Entry'!$B$9:$EQ$108,24,0))","v":""}]
[null,"◐",{"$f":"'Result Entry'!$Z$3","v":"Mathematics"},null,{"$f":"IF(OR(C328=\"\",$I318=\"NSO\"),\"\",VLOOKUP($A313,'Result Entry'!$B$9:$EQ$108,25,0))","v":0},{"$f":"IF(OR(C328=\"\",$I318=\"NSO\"),\"\",VLOOKUP($A313,'Result Entry'!$B$9:$EQ$108,26,0))","v":0},{"$f":"IF(OR(C328=\"\",$I318=\"NSO\"),\"\",VLOOKUP($A313,'Result Entry'!$B$9:$EQ$108,27,0))","v":0},{"$f":"IF(OR(C328=\"\",$I318=\"NSO\"),\"\",VLOOKUP($A313,'Result Entry'!$B$9:$EQ$108,32,0))","v":0},0,{"$f":"IF(OR(C328=\"\",$I318=\"NSO\"),\"\",VLOOKUP($A313,'Result Entry'!$B$9:$EQ$108,36,0))","v":0},{"$f":"SUM(I328,J328)","v":0},null,{"$f":"IF(OR(C328=\"\",$I318=\"NSO\"),\"\",VLOOKUP($A313,'Result Entry'!$B$9:$EQ$108,39,0))","v":""}]
[null,"◐",{"$f":"'Result Entry'!$BD$3","v":"Env. Study"},null,{"$f":"IF(OR(C329=\"\",$I318=\"NSO\"),\"\",VLOOKUP($A313,'Result Entry'!$B$9:$EQ$108,55,0))","v":0},{"$f":"IF(OR(C329=\"\",$I318=\"NSO\"),\"\",VLOOKUP($A313,'Result Entry'!$B$9:$EQ$108,56,0))","v":0},{"$f":"IF(OR(C329=\"\",$I318=\"NSO\"),\"\",VLOOKUP($A313,'Result Entry'!$B$9:$EQ$108,57,0))","v":0},{"$f":"IF(OR(C327=\"\",$I318=\"NSO\"),\"\",VLOOKUP($A313,'Result Entry'!$B$9:$EQ$108,62,0))","v":0},0,{"$f":"IF(OR(C328=\"\",$I318=\"NSO\"),\"\",VLOOKUP($A313,'Result Entry'!$B$9:$EQ$108,66,0))","v":0},0,null,{"$f":"IF(OR(C328=\"\",$I318=\"NSO\"),\"\",VLOOKUP($A313,'Result Entry'!$B$9:$EQ$108,69,0))","v":""}]
[null,"◐","Max. Marks",null,{"$f":"'Result Entry'!$AO$7","v":5},{"$f":"'Result Entry'!$AP$7","v":5},{"$f":"'Result Entry'!$AQ$7","v":5},{"$f":"'Result Entry'!$AV$7","v":35},50,{"$f":"'Result Entry'!$AZ$7","v":50},100,null,"A+/A/B/C/D"]
[null,"◐",{"$f":"'Result Entry'!$AO$3","v":"English"},null,{"$f":"IF(OR(C331=\"\",$I318=\"NSO\"),\"\",VLOOKUP($A313,'Result Entry'!$B$9:$EQ$108,40,0))","v":0},{"$f":"IF(OR(C331=\"\",$I318=\"NSO\"),\"\",VLOOKUP($A313,'Result Entry'!$B$9:$EQ$108,41,0))","v":0},{"$f":"IF(OR(C331=\"\",$I318=\"NSO\"),\"\",VLOOKUP($A313,'Result Entry'!$B$9:$EQ$108,42,0))","v":0},{"$f":"IF(OR(C331=\"\",$I318=\"NSO\"),\"\",VLOOKUP($A313,'Result Entry'!$B$9:$EQ$108,47,0))","v":0},0,{"$f":"IF(OR(C331=\"\",$I318=\"NSO\"),\"\",VLOOKUP($A313,'Result Entry'!$B$9:$EQ$108,51,0))","v":0},0,null,{"$f":"IF(OR(C331=\"\",$I318=\"NSO\"),\"\",VLOOKUP($A313,'Result Entry'!$B$9:$EQ$108,54,0))","v":""}]
[null,"◐","Max. Marks",null,{"$f":"'Result Entry'!$BS$7","v":10},{"$f":"'Result Entry'!$BT$7","v":10},{"$f":"'Result Entry'!$BU$7","v":10},{"$f":"'Result Entry'!$BZ$7","v":70},{"$f":"SUM(E332:H332)","v":100},{"$f":"'Result Entry'!$CD$7","v":100},200,null,"A+/A/B/C/D"]
[null,"◐",{"$f":"'Result Entry'!$BS$3","v":"Sanskrit/Urdu"},null,{"$f":"IF(OR(C333=\"\",$I318=\"NSO\"),\"\",VLOOKUP($A313,'Result Entry'!$B$9:$EQ$108,70,0))","v":0},{"$f":"IF(OR(C333=\"\",$I318=\"NSO\"),\"\",VLOOKUP($A313,'Result Entry'!$B$9:$EQ$108,71,0))","v":0},{"$f":"IF(OR(C333=\"\",$I318=\"NSO\"),\"\",VLOOKUP($A313,'Result Entry'!$B$9:$EQ$108,72,0))","v":0},{"$f":"IF(OR(C333=\"\",$I318=\"NSO\"),\"\",VLOOKUP($A313,'Result Entry'!$B$9:$EQ$108,77,0))","v":0},{"$f":"SUM(E333:H333)","v":0},{"$f":"IF(OR(C333=\"\",$I318=\"NSO\"),\"\",VLOOKUP($A313,'Result Entry'!$B$9:$EQ$108,81,0))","v":0},0,null,{"$f":"IF(OR(C333=\"\",$I318=\"NSO\"),\"\",VLOOKUP($A313,'Result Entry'!$B$9:$EQ$108,84,0))","v":""}]
[null,"◐"]
[null,"◐","Overall Result",null,null,"Total Max. Marks",null,"Total Obtained Marks",null,"Percentage","Overall Grade","Result","Position in Class"]
[null,"◐",{"$nulls":3},{"$f":"IF(OR($I318=\"\",$I318=\"NSO\"),\"\",VLOOKUP($A313,'Result Entry'!$B$9:$EQ$108,120,0))","v":900},null,{"$f":"IF(OR($I318=\"\",$I318=\"NSO\"),\"\",VLOOKUP($A313,'Result Entry'!$B$9:$EQ$108,121,0))","v":0},null,{"$f":"IF(OR($I318=\"\",$I318=\"NSO\"),\"\",VLOOKUP($A313,'Result Entry'!$B$9:$EQ$108,122,0))","v":{"v":0,"d":"0.00"}},{"$f":"IF(OR($I318=\"\",$I318=\"NSO\"),\"\",VLOOKUP($A313,'Result Entry'!$B$9:$EQ$108,123,0))","v":""},{"$f":"IF(OR($I318=\"\",$I318=\"NSO\"),\"\",VLOOKUP($A313,'Result Entry'!$B$9:$EQ$108,124,0))","v":""},{"$f":"IF(OR($I318=\"\",$I318=\"NSO\"),\"\",VLOOKUP($A313,'Result Entry'!$B$9:$EQ$108,126,0))","v":""}]
[null,"◐",{"$nulls":6},"Total Meetings :-",null,{"$f":"IF(OR($I318=\"\",$I318=\"NSO\"),\"\",VLOOKUP($A313,'Result Entry'!$B$9:$EQ$108,117,0))","v":0},"Attedance %"]
[null,"◐","Extra Subjects",{"$nulls":5},"Student's Meetings :-",null,{"$f":"IF(OR($I318=\"\",$I318=\"NSO\"),\"\",VLOOKUP($A313,'Result Entry'!$B$9:$EQ$108,118,0))","v":0},{"$f":"IF(OR($I318=\"\",$I318=\"NSO\"),\"\",VLOOKUP($A313,'Result Entry'!$B$9:$EQ$108,119,0))","v":""}]
[null,"◐","Subject",null,null,"Total Marks",null,"GRADE","Remark :-",null,{"$f":"IF(OR($I318=\"\",$I318=\"NSO\"),\"\",VLOOKUP($A313,'Result Entry'!$B$9:$EQ$108,127,0))","v":0}]
[null,"◐",{"$f":"'Result Entry'!$CH$3","v":"WORK EXP."},null,null,{"$f":"IF(OR(C340=\"\",$I318=\"NSO\"),\"\",VLOOKUP($A313,'Result Entry'!$B$9:$EQ$108,138,0))","v":"0/100"},null,{"$f":"IF(OR(C340=\"\",$I318=\"NSO\"),\"\",VLOOKUP($A313,'Result Entry'!$B$9:$EQ$108,92,0))","v":""},"Result Date :-",null,{"$f":"'Result Entry'!$U$2","v":"2024-05-07"}]
[null,"◐",{"$f":"'Result Entry'!$CP$3","v":"ART EDU."},null,null,{"$f":"IF(OR(C341=\"\",$I318=\"NSO\"),\"\",VLOOKUP($A313,'Result Entry'!$B$9:$EQ$108,142,0))","v":"0/100"},null,{"$f":"IF(OR(C341=\"\",$I318=\"NSO\"),\"\",VLOOKUP($A313,'Result Entry'!$B$9:$EQ$108,100,0))","v":""}]
[null,null,{"$f":"'Result Entry'!$CX$3","v":"H&P. EDU."},null,null,{"$f":"IF(OR(C342=\"\",$I318=\"NSO\"),\"\",VLOOKUP($A313,'Result Entry'!$B$9:$EQ$108,146,0))","v":"0/0"},null,{"$f":"IF(OR(C342=\"\",$I318=\"NSO\"),\"\",VLOOKUP($A313,'Result Entry'!$B$9:$EQ$108,108,0))","v":""}]
[null,"◐",{"$f":"'Result Entry'!$DF$3","v":0},null,null,{"$f":"IF(OR(C343=\"\",$I318=\"NSO\"),\"\",VLOOKUP($A313,'Result Entry'!$B$9:$EQ$108,131,0))","v":0},null,{"$f":"IF(OR(C343=\"\",$I318=\"NSO\"),\"\",VLOOKUP($A313,'Result Entry'!$B$9:$EQ$108,97,0))","v":0},"Signature Of The Class Teacher"]
[null,"◐","Grading System"]
[null,"◐","Grd.","% Range",null,"Description"]
[null,"◐","A","86-100",null,"Excellent",null,null,"Signature And Seal Of Principal/H.M."]
[null,"◐","B","71-85",null,"Very Good"]
[null,"◐","C","51-70",null,"Good"]
[null,"◐","D","31-50",null,"Average"]
[null,"◐","E","0-30",null,"Needs Improvement",null,null,"Wish bright future"]
[]
[{"$f":"A313+1","v":10},"Department Of Education, Rajasthan"]
[null,{"$f":"IF(I357>0,CONCATENATE(C357,I357),0)","v":0},null,{"$f":"Master!$E$8","v":"Govt.Sr.Sec.Sch."}]
[{"$nulls":3},{"$f":"Master!$E$11","v":"P.S.-Bapini (Jodhpur)"}]
[null,null,"Report Card",{"$nulls":6},"U-DISE Code:-",null,{"$f":"Master!$E$14","v":{"v":810000000,"d":"0810000000"}}]
[{"$nulls":9},"Session:-",null,{"$f":"Master!$E$6","v":"2023-24"}]
[null,null,"Roll No.:-",{"$nulls":5},{"$f":"VLOOKUP($A352,'Result Entry'!$B$9:$F$108,5,0)","v":0}]
[null,"◐","Scholar Number",{"$nulls":3},"↠",{"$f":"VLOOKUP($A352,'Result Entry'!$B$9:$EQ$108,3,0)","v":0}]
[null,"◐","Student's Name",{"$nulls":3},"↠",{"$f":"VLOOKUP($A352,'Result Entry'!$B$9:$EQ$108,6,0)","v":0}]
[null,"◐","Father's Name",{"$nulls":3},"↠",{"$f":"VLOOKUP($A352,'Result Entry'!$B$9:$EQ$108,7,0)","v":0}]
[null,"◐","Mother's Name ",{"$nulls":3},"↠",{"$f":"VLOOKUP($A352,'Result Entry'!$B$9:$EQ$108,8,0)","v":0}]
[null,"◐","Class & Section",{"$nulls":3},"↠",{"$f":"CONCATENATE('Result Entry'!$F$4,'Result Entry'!$I$4)","v":"2(A)"}]
[null,"◐","Date Of Birth",{"$nulls":3},"↠",{"$f":"VLOOKUP($A352,'Result Entry'!$B$9:$EQ$108,9,0)","v":"00:00:00"}]
[null,"◐","Subject",null,{"$f":"'Result Entry'!$K$6","v":"First Test"},{"$f":"'Result Entry'!$L$6","v":"Second Test"},{"$f":"'Result Entry'!$M$6","v":"Third Test"},"Half Yearly","Total (Test+H.Y.)","Yearly","Grand Total",null,"Subject Grade"]
[null,"◐","Max. Marks",null,{"$f":"'Result Entry'!$K$7","v":10},{"$f":"'Result Entry'!$L$7","v":10},{"$f":"'Result Entry'!$M$7","v":10},{"$f":"'Result Entry'!$R$7","v":70},{"$f":"SUM(E365:H365)","v":100},{"$f":"'Result Entry'!$V$7","v":100},{"$f":"I365+J365","v":200},null,"A+/A/B/C/D"]
[null,"◐",{"$f":"'Result Entry'!$K$3","v":"Hindi"},null,{"$f":"IF(OR(C366=\"\",$I357=\"NSO\"),\"\",VLOOKUP($A352,'Result Entry'!$B$9:$EQ$108,10,0))","v":0},{"$f":"IF(OR(C366=\"\",$I357=\"NSO\"),\"\",VLOOKUP($A352,'Result Entry'!$B$9:$EQ$108,11,0))","v":0},{"$f":"IF(OR(C366=\"\",$I357=\"NSO\"),\"\",VLOOKUP($A352,'Result Entry'!$B$9:$EQ$108,12,0))","v":0},{"$f":"IF(OR(C366=\"\",$I357=\"NSO\"),\"\",VLOOKUP($A352,'Result Entry'!$B$9:$EQ$108,17,0))","v":0},{"$f":"SUM(E366:H366)","v":0},{"$f":"IF(OR(C366=\"\",$I357=\"NSO\"),\"\",VLOOKUP($A352,'Result Entry'!$B$9:$EQ$108,21,0))","v":0},{"$f":"SUM(I366,J366)","v":0},null,{"$f":"IF(OR(C366=\"\",$I357=\"NSO\"),\"\",VLOOKUP($A352,'Result Entry'!$B$9:$EQ$108,24,0))","v":""}]
[null,"◐",{"$f":"'Result Entry'!$Z$3","v":"Mathematics"},null,{"$f":"IF(OR(C367=\"\",$I357=\"NSO\"),\"\",VLOOKUP($A352,'Result Entry'!$B$9:$EQ$108,25,0))","v":0},{"$f":"IF(OR(C367=\"\",$I357=\"NSO\"),\"\",VLOOKUP($A352,'Result Entry'!$B$9:$EQ$108,26,0))","v":0},{"$f":"IF(OR(C367=\"\",$I357=\"NSO\"),\"\",VLOOKUP($A352,'Result Entry'!$B$9:$EQ$108,27,0))","v":0},{"$f":"IF(OR(C367=\"\",$I357=\"NSO\"),\"\",VLOOKUP($A352,'Result Entry'!$B$9:$EQ$108,32,0))","v":0},0,{"$f":"IF(OR(C367=\"\",$I357=\"NSO\"),\"\",VLOOKUP($A352,'Result Entry'!$B$9:$EQ$108,36,0))","v":0},{"$f":"SUM(I367,J367)","v":0},null,{"$f":"IF(OR(C367=\"\",$I357=\"NSO\"),\"\",VLOOKUP($A352,'Result Entry'!$B$9:$EQ$108,39,0))","v":""}]
[null,"◐",{"$f":"'Result Entry'!$BD$3","v":"Env. Study"},null,{"$f":"IF(OR(C368=\"\",$I357=\"NSO\"),\"\",VLOOKUP($A352,'Result Entry'!$B$9:$EQ$108,55,0))","v":0},{"$f":"IF(OR(C368=\"\",$I357=\"NSO\"),\"\",VLOOKUP($A352,'Result Entry'!$B$9:$EQ$108,56,0))","v":0},{"$f":"IF(OR(C368=\"\",$I357=\"NSO\"),\"\",VLOOKUP($A352,'Result Entry'!$B$9:$EQ$108,57,0))","v":0},{"$f":"IF(OR(C366=\"\",$I357=\"NSO\"),\"\",VLOOKUP($A352,'Result Entry'!$B$9:$EQ$108,62,0))","v":0},0,{"$f":"IF(OR(C367=\"\",$I357=\"NSO\"),\"\",VLOOKUP($A352,'Result Entry'!$B$9:$EQ$108,66,0))","v":0},0,null,{"$f":"IF(OR(C367=\"\",$I357=\"NSO\"),\"\",VLOOKUP($A352,'Result Entry'!$B$9:$EQ$108,69,0))","v":""}]
[null,"◐","Max. Marks",null,{"$f":"'Result Entry'!$AO$7","v":5},{"$f":"'Result Entry'!$AP$7","v":5},{"$f":"'Result Entry'!$AQ$7","v":5},{"$f":"'Result Entry'!$AV$7","v":35},50,{"$f":"'Result Entry'!$AZ$7","v":50},100,null,"A+/A/B/C/D"]
[null,"◐",{"$f":"'Result Entry'!$AO$3","v":"English"},null,{"$f":"IF(OR(C370=\"\",$I357=\"NSO\"),\"\",VLOOKUP($A352,'Result Entry'!$B$9:$EQ$108,40,0))","v":0},{"$f":"IF(OR(C370=\"\",$I357=\"NSO\"),\"\",VLOOKUP($A352,'Result Entry'!$B$9:$EQ$108,41,0))","v":0},{"$f":"IF(OR(C370=\"\",$I357=\"NSO\"),\"\",VLOOKUP($A352,'Result Entry'!$B$9:$EQ$108,42,0))","v":0},{"$f":"IF(OR(C370=\"\",$I357=\"NSO\"),\"\",VLOOKUP($A352,'Result Entry'!$B$9:$EQ$108,47,0))","v":0},0,{"$f":"IF(OR(C370=\"\",$I357=\"NSO\"),\"\",VLOOKUP($A352,'Result Entry'!$B$9:$EQ$108,51,0))","v":0},0,null,{"$f":"IF(OR(C370=\"\",$I357=\"NSO\"),\"\",VLOOKUP($A352,'Result Entry'!$B$9:$EQ$108,54,0))","v":""}]
[null,"◐","Max. Marks",null,{"$f":"'Result Entry'!$BS$7","v":10},{"$f":"'Result Entry'!$BT$7","v":10},{"$f":"'Result Entry'!$BU$7","v":10},{"$f":"'Result Entry'!$BZ$7","v":70},{"$f":"SUM(E371:H371)","v":100},{"$f":"'Result Entry'!$CD$7","v":100},200,null,"A+/A/B/C/D"]
[null,"◐",{"$f":"'Result Entry'!$BS$3","v":"Sanskrit/Urdu"},null,{"$f":"IF(OR(C372=\"\",$I357=\"NSO\"),\"\",VLOOKUP($A352,'Result Entry'!$B$9:$EQ$108,70,0))","v":0},{"$f":"IF(OR(C372=\"\",$I357=\"NSO\"),\"\",VLOOKUP($A352,'Result Entry'!$B$9:$EQ$108,71,0))","v":0},{"$f":"IF(OR(C372=\"\",$I357=\"NSO\"),\"\",VLOOKUP($A352,'Result Entry'!$B$9:$EQ$108,72,0))","v":0},{"$f":"IF(OR(C372=\"\",$I357=\"NSO\"),\"\",VLOOKUP($A352,'Result Entry'!$B$9:$EQ$108,77,0))","v":0},{"$f":"SUM(E372:H372)","v":0},{"$f":"IF(OR(C372=\"\",$I357=\"NSO\"),\"\",VLOOKUP($A352,'Result Entry'!$B$9:$EQ$108,81,0))","v":0},0,null,{"$f":"IF(OR(C372=\"\",$I357=\"NSO\"),\"\",VLOOKUP($A352,'Result Entry'!$B$9:$EQ$108,84,0))","v":""}]
[null,"◐"]
[null,"◐","Overall Result",null,null,"Total Max. Marks",null,"Total Obtained Marks",null,"Percentage","Overall Grade","Result","Position in Class"]
[null,"◐",{"$nulls":3},{"$f":"IF(OR($I357=\"\",$I357=\"NSO\"),\"\",VLOOKUP($A352,'Result Entry'!$B$9:$EQ$108,120,0))","v":900},null,{"$f":"IF(OR($I357=\"\",$I357=\"NSO\"),\"\",VLOOKUP($A352,'Result Entry'!$B$9:$EQ$108,121,0))","v":0},null,{"$f":"IF(OR($I357=\"\",$I357=\"NSO\"),\"\",VLOOKUP($A352,'Result Entry'!$B$9:$EQ$108,122,0))","v":{"v":0,"d":"0.00"}},{"$f":"IF(OR($I357=\"\",$I357=\"NSO\"),\"\",VLOOKUP($A352,'Result Entry'!$B$9:$EQ$108,123,0))","v":""},{"$f":"IF(OR($I357=\"\",$I357=\"NSO\"),\"\",VLOOKUP($A352,'Result Entry'!$B$9:$EQ$108,124,0))","v":""},{"$f":"IF(OR($I357=\"\",$I357=\"NSO\"),\"\",VLOOKUP($A352,'Result Entry'!$B$9:$EQ$108,126,0))","v":""}]
[null,"◐",{"$nulls":6},"Total Meetings :-",null,{"$f":"IF(OR($I357=\"\",$I357=\"NSO\"),\"\",VLOOKUP($A352,'Result Entry'!$B$9:$EQ$108,117,0))","v":0},"Attedance %"]
[null,"◐","Extra Subjects",{"$nulls":5},"Student's Meetings :-",null,{"$f":"IF(OR($I357=\"\",$I357=\"NSO\"),\"\",VLOOKUP($A352,'Result Entry'!$B$9:$EQ$108,118,0))","v":0},{"$f":"IF(OR($I357=\"\",$I357=\"NSO\"),\"\",VLOOKUP($A352,'Result Entry'!$B$9:$EQ$108,119,0))","v":""}]
[null,"◐","Subject",null,null,"Total Marks",null,"GRADE","Remark :-",null,{"$f":"IF(OR($I357=\"\",$I357=\"NSO\"),\"\",VLOOKUP($A352,'Result Entry'!$B$9:$EQ$108,127,0))","v":0}]
[null,"◐",{"$f":"'Result Entry'!$CH$3","v":"WORK EXP."},null,null,{"$f":"IF(OR(C379=\"\",$I357=\"NSO\"),\"\",VLOOKUP($A352,'Result Entry'!$B$9:$EQ$108,138,0))","v":"0/100"},null,{"$f":"IF(OR(C379=\"\",$I357=\"NSO\"),\"\",VLOOKUP($A352,'Result Entry'!$B$9:$EQ$108,92,0))","v":""},"Result Date :-",null,{"$f":"'Result Entry'!$U$2","v":"2024-05-07"}]
[null,"◐",{"$f":"'Result Entry'!$CP$3","v":"ART EDU."},null,null,{"$f":"IF(OR(C380=\"\",$I357=\"NSO\"),\"\",VLOOKUP($A352,'Result Entry'!$B$9:$EQ$108,142,0))","v":"0/100"},null,{"$f":"IF(OR(C380=\"\",$I357=\"NSO\"),\"\",VLOOKUP($A352,'Result Entry'!$B$9:$EQ$108,100,0))","v":""}]
[null,null,{"$f":"'Result Entry'!$CX$3","v":"H&P. EDU."},null,null,{"$f":"IF(OR(C381=\"\",$I357=\"NSO\"),\"\",VLOOKUP($A352,'Result Entry'!$B$9:$EQ$108,146,0))","v":"0/0"},null,{"$f":"IF(OR(C381=\"\",$I357=\"NSO\"),\"\",VLOOKUP($A352,'Result Entry'!$B$9:$EQ$108,108,0))","v":""}]
[null,"◐",{"$f":"'Result Entry'!$DF$3","v":0},null,null,{"$f":"IF(OR(C382=\"\",$I357=\"NSO\"),\"\",VLOOKUP($A352,'Result Entry'!$B$9:$EQ$108,131,0))","v":0},null,{"$f":"IF(OR(C382=\"\",$I357=\"NSO\"),\"\",VLOOKUP($A352,'Result Entry'!$B$9:$EQ$108,97,0))","v":0},"Signature Of The Class Teacher"]
[null,"◐","Grading System"]
[null,"◐","Grd.","% Range",null,"Description"]
[null,"◐","A","86-100",null,"Excellent",null,null,"Signature And Seal Of Principal/H.M."]
[null,"◐","B","71-85",null,"Very Good"]
[null,"◐","C","51-70",null,"Good"]
[null,"◐","D","31-50",null,"Average"]
[null,"◐","E","0-30",null,"Needs Improvement",null,null,"Wish bright future"]
[]
[{"$f":"A352+1","v":11},"Department Of Education, Rajasthan"]
[null,{"$f":"IF(I396>0,CONCATENATE(C396,I396),0)","v":0},null,{"$f":"Master!$E$8","v":"Govt.Sr.Sec.Sch."}]
[{"$nulls":3},{"$f":"Master!$E$11","v":"P.S.-Bapini (Jodhpur)"}]
[null,null,"Report Card",{"$nulls":6},"U-DISE Code:-",null,{"$f":"Master!$E$14","v":{"v":810000000,"d":"0810000000"}}]
[{"$nulls":9},"Session:-",null,{"$f":"Master!$E$6","v":"2023-24"}]
[null,null,"Roll No.:-",{"$nulls":5},{"$f":"VLOOKUP($A391,'Result Entry'!$B$9:$F$108,5,0)","v":0}]
[null,"◐","Scholar Number",{"$nulls":3},"↠",{"$f":"VLOOKUP($A391,'Result Entry'!$B$9:$EQ$108,3,0)","v":0}]
[null,"◐","Student's Name",{"$nulls":3},"↠",{"$f":"VLOOKUP($A391,'Result Entry'!$B$9:$EQ$108,6,0)","v":0}]
[null,"◐","Father's Name",{"$nulls":3},"↠",{"$f":"VLOOKUP($A391,'Result Entry'!$B$9:$EQ$108,7,0)","v":0}]
[null,"◐","Mother's Name ",{"$nulls":3},"↠",{"$f":"VLOOKUP($A391,'Result Entry'!$B$9:$EQ$108,8,0)","v":0}]
[null,"◐","Class & Section",{"$nulls":3},"↠",{"$f":"CONCATENATE('Result Entry'!$F$4,'Result Entry'!$I$4)","v":"2(A)"}]
[null,"◐","Date Of Birth",{"$nulls":3},"↠",{"$f":"VLOOKUP($A391,'Result Entry'!$B$9:$EQ$108,9,0)","v":"00:00:00"}]
[null,"◐","Subject",null,{"$f":"'Result Entry'!$K$6","v":"First Test"},{"$f":"'Result Entry'!$L$6","v":"Second Test"},{"$f":"'Result Entry'!$M$6","v":"Third Test"},"Half Yearly","Total (Test+H.Y.)","Yearly","Grand Total",null,"Subject Grade"]
[null,"◐","Max. Marks",null,{"$f":"'Result Entry'!$K$7","v":10},{"$f":"'Result Entry'!$L$7","v":10},{"$f":"'Result Entry'!$M$7","v":10},{"$f":"'Result Entry'!$R$7","v":70},{"$f":"SUM(E404:H404)","v":100},{"$f":"'Result Entry'!$V$7","v":100},{"$f":"I404+J404","v":200},null,"A+/A/B/C/D"]
[null,"◐",{"$f":"'Result Entry'!$K$3","v":"Hindi"},null,{"$f":"IF(OR(C405=\"\",$I396=\"NSO\"),\"\",VLOOKUP($A391,'Result Entry'!$B$9:$EQ$108,10,0))","v":0},{"$f":"IF(OR(C405=\"\",$I396=\"NSO\"),\"\",VLOOKUP($A391,'Result Entry'!$B$9:$EQ$108,11,0))","v":0},{"$f":"IF(OR(C405=\"\",$I396=\"NSO\"),\"\",VLOOKUP($A391,'Result Entry'!$B$9:$EQ$108,12,0))","v":0},{"$f":"IF(OR(C405=\"\",$I396=\"NSO\"),\"\",VLOOKUP($A391,'Result Entry'!$B$9:$EQ$108,17,0))","v":0},{"$f":"SUM(E405:H405)","v":0},{"$f":"IF(OR(C405=\"\",$I396=\"NSO\"),\"\",VLOOKUP($A391,'Result Entry'!$B$9:$EQ$108,21,0))","v":0},{"$f":"SUM(I405,J405)","v":0},null,{"$f":"IF(OR(C405=\"\",$I396=\"NSO\"),\"\",VLOOKUP($A391,'Result Entry'!$B$9:$EQ$108,24,0))","v":""}]
[null,"◐",{"$f":"'Result Entry'!$Z$3","v":"Mathematics"},null,{"$f":"IF(OR(C406=\"\",$I396=\"NSO\"),\"\",VLOOKUP($A391,'Result Entry'!$B$9:$EQ$108,25,0))","v":0},{"$f":"IF(OR(C406=\"\",$I396=\"NSO\"),\"\",VLOOKUP($A391,'Result Entry'!$B$9:$EQ$108,26,0))","v":0},{"$f":"IF(OR(C406=\"\",$I396=\"NSO\"),\"\",VLOOKUP($A391,'Result Entry'!$B$9:$EQ$108,27,0))","v":0},{"$f":"IF(OR(C406=\"\",$I396=\"NSO\"),\"\",VLOOKUP($A391,'Result Entry'!$B$9:$EQ$108,32,0))","v":0},0,{"$f":"IF(OR(C406=\"\",$I396=\"NSO\"),\"\",VLOOKUP($A391,'Result Entry'!$B$9:$EQ$108,36,0))","v":0},{"$f":"SUM(I406,J406)","v":0},null,{"$f":"IF(OR(C406=\"\",$I396=\"NSO\"),\"\",VLOOKUP($A391,'Result Entry'!$B$9:$EQ$108,39,0))","v":""}]
[null,"◐",{"$f":"'Result Entry'!$BD$3","v":"Env. Study"},null,{"$f":"IF(OR(C407=\"\",$I396=\"NSO\"),\"\",VLOOKUP($A391,'Result Entry'!$B$9:$EQ$108,55,0))","v":0},{"$f":"IF(OR(C407=\"\",$I396=\"NSO\"),\"\",VLOOKUP($A391,'Result Entry'!$B$9:$EQ$108,56,0))","v":0},{"$f":"IF(OR(C407=\"\",$I396=\"NSO\"),\"\",VLOOKUP($A391,'Result Entry'!$B$9:$EQ$108,57,0))","v":0},{"$f":"IF(OR(C405=\"\",$I396=\"NSO\"),\"\",VLOOKUP($A391,'Result Entry'!$B$9:$EQ$108,62,0))","v":0},0,{"$f":"IF(OR(C406=\"\",$I396=\"NSO\"),\"\",VLOOKUP($A391,'Result Entry'!$B$9:$EQ$108,66,0))","v":0},0,null,{"$f":"IF(OR(C406=\"\",$I396=\"NSO\"),\"\",VLOOKUP($A391,'Result Entry'!$B$9:$EQ$108,69,0))","v":""}]
[null,"◐","Max. Marks",null,{"$f":"'Result Entry'!$AO$7","v":5},{"$f":"'Result Entry'!$AP$7","v":5},{"$f":"'Result Entry'!$AQ$7","v":5},{"$f":"'Result Entry'!$AV$7","v":35},50,{"$f":"'Result Entry'!$AZ$7","v":50},100,null,"A+/A/B/C/D"]
[null,"◐",{"$f":"'Result Entry'!$AO$3","v":"English"},null,{"$f":"IF(OR(C409=\"\",$I396=\"NSO\"),\"\",VLOOKUP($A391,'Result Entry'!$B$9:$EQ$108,40,0))","v":0},{"$f":"IF(OR(C409=\"\",$I396=\"NSO\"),\"\",VLOOKUP($A391,'Result Entry'!$B$9:$EQ$108,41,0))","v":0},{"$f":"IF(OR(C409=\"\",$I396=\"NSO\"),\"\",VLOOKUP($A391,'Result Entry'!$B$9:$EQ$108,42,0))","v":0},{"$f":"IF(OR(C409=\"\",$I396=\"NSO\"),\"\",VLOOKUP($A391,'Result Entry'!$B$9:$EQ$108,47,0))","v":0},0,{"$f":"IF(OR(C409=\"\",$I396=\"NSO\"),\"\",VLOOKUP($A391,'Result Entry'!$B$9:$EQ$108,51,0))","v":0},0,null,{"$f":"IF(OR(C409=\"\",$I396=\"NSO\"),\"\",VLOOKUP($A391,'Result Entry'!$B$9:$EQ$108,54,0))","v":""}]
[null,"◐","Max. Marks",null,{"$f":"'Result Entry'!$BS$7","v":10},{"$f":"'Result Entry'!$BT$7","v":10},{"$f":"'Result Entry'!$BU$7","v":10},{"$f":"'Result Entry'!$BZ$7","v":70},{"$f":"SUM(E410:H410)","v":100},{"$f":"'Result Entry'!$CD$7","v":100},200,null,"A+/A/B/C/D"]
[null,"◐",{"$f":"'Result Entry'!$BS$3","v":"Sanskrit/Urdu"},null,{"$f":"IF(OR(C411=\"\",$I396=\"NSO\"),\"\",VLOOKUP($A391,'Result Entry'!$B$9:$EQ$108,70,0))","v":0},{"$f":"IF(OR(C411=\"\",$I396=\"NSO\"),\"\",VLOOKUP($A391,'Result Entry'!$B$9:$EQ$108,71,0))","v":0},{"$f":"IF(OR(C411=\"\",$I396=\"NSO\"),\"\",VLOOKUP($A391,'Result Entry'!$B$9:$EQ$108,72,0))","v":0},{"$f":"IF(OR(C411=\"\",$I396=\"NSO\"),\"\",VLOOKUP($A391,'Result Entry'!$B$9:$EQ$108,77,0))","v":0},{"$f":"SUM(E411:H411)","v":0},{"$f":"IF(OR(C411=\"\",$I396=\"NSO\"),\"\",VLOOKUP($A391,'Result Entry'!$B$9:$EQ$108,81,0))","v":0},0,null,{"$f":"IF(OR(C411=\"\",$I396=\"NSO\"),\"\",VLOOKUP($A391,'Result Entry'!$B$9:$EQ$108,84,0))","v":""}]
[null,"◐"]
[null,"◐","Overall Result",null,null,"Total Max. Marks",null,"Total Obtained Marks",null,"Percentage","Overall Grade","Result","Position in Class"]
[null,"◐",{"$nulls":3},{"$f":"IF(OR($I396=\"\",$I396=\"NSO\"),\"\",VLOOKUP($A391,'Result Entry'!$B$9:$EQ$108,120,0))","v":900},null,{"$f":"IF(OR($I396=\"\",$I396=\"NSO\"),\"\",VLOOKUP($A391,'Result Entry'!$B$9:$EQ$108,121,0))","v":0},null,{"$f":"IF(OR($I396=\"\",$I396=\"NSO\"),\"\",VLOOKUP($A391,'Result Entry'!$B$9:$EQ$108,122,0))","v":{"v":0,"d":"0.00"}},{"$f":"IF(OR($I396=\"\",$I396=\"NSO\"),\"\",VLOOKUP($A391,'Result Entry'!$B$9:$EQ$108,123,0))","v":""},{"$f":"IF(OR($I396=\"\",$I396=\"NSO\"),\"\",VLOOKUP($A391,'Result Entry'!$B$9:$EQ$108,124,0))","v":""},{"$f":"IF(OR($I396=\"\",$I396=\"NSO\"),\"\",VLOOKUP($A391,'Result Entry'!$B$9:$EQ$108,126,0))","v":""}]
[null,"◐",{"$nulls":6},"Total Meetings :-",null,{"$f":"IF(OR($I396=\"\",$I396=\"NSO\"),\"\",VLOOKUP($A391,'Result Entry'!$B$9:$EQ$108,117,0))","v":0},"Attedance %"]
[null,"◐","Extra Subjects",{"$nulls":5},"Student's Meetings :-",null,{"$f":"IF(OR($I396=\"\",$I396=\"NSO\"),\"\",VLOOKUP($A391,'Result Entry'!$B$9:$EQ$108,118,0))","v":0},{"$f":"IF(OR($I396=\"\",$I396=\"NSO\"),\"\",VLOOKUP($A391,'Result Entry'!$B$9:$EQ$108,119,0))","v":""}]
[null,"◐","Subject",null,null,"Total Marks",null,"GRADE","Remark :-",null,{"$f":"IF(OR($I396=\"\",$I396=\"NSO\"),\"\",VLOOKUP($A391,'Result Entry'!$B$9:$EQ$108,127,0))","v":0}]
[null,"◐",{"$f":"'Result Entry'!$CH$3","v":"WORK EXP."},null,null,{"$f":"IF(OR(C418=\"\",$I396=\"NSO\"),\"\",VLOOKUP($A391,'Result Entry'!$B$9:$EQ$108,138,0))","v":"0/100"},null,{"$f":"IF(OR(C418=\"\",$I396=\"NSO\"),\"\",VLOOKUP($A391,'Result Entry'!$B$9:$EQ$108,92,0))","v":""},"Result Date :-",null,{"$f":"'Result Entry'!$U$2","v":"2024-05-07"}]
[null,"◐",{"$f":"'Result Entry'!$CP$3","v":"ART EDU."},null,null,{"$f":"IF(OR(C419=\"\",$I396=\"NSO\"),\"\",VLOOKUP($A391,'Result Entry'!$B$9:$EQ$108,142,0))","v":"0/100"},null,{"$f":"IF(OR(C419=\"\",$I396=\"NSO\"),\"\",VLOOKUP($A391,'Result Entry'!$B$9:$EQ$108,100,0))","v":""}]
[null,null,{"$f":"'Result Entry'!$CX$3","v":"H&P. EDU."},null,null,{"$f":"IF(OR(C420=\"\",$I396=\"NSO\"),\"\",VLOOKUP($A391,'Result Entry'!$B$9:$EQ$108,146,0))","v":"0/0"},null,{"$f":"IF(OR(C420=\"\",$I396=\"NSO\"),\"\",VLOOKUP($A391,'Result Entry'!$B$9:$EQ$108,108,0))","v":""}]
[null,"◐",{"$f":"'Result Entry'!$DF$3","v":0},null,null,{"$f":"IF(OR(C421=\"\",$I396=\"NSO\"),\"\",VLOOKUP($A391,'Result Entry'!$B$9:$EQ$108,131,0))","v":0},null,{"$f":"IF(OR(C421=\"\",$I396=\"NSO\"),\"\",VLOOKUP($A391,'Result Entry'!$B$9:$EQ$108,97,0))","v":0},"Signature Of The Class Teacher"]
[null,"◐","Grading System"]
[null,"◐","Grd.","% Range",null,"Description"]
[null,"◐","A","86-100",null,"Excellent",null,null,"Signature And Seal Of Principal/H.M."]
[null,"◐","B","71-85",null,"Very Good"]
[null,"◐","C","51-70",null,"Good"]
[null,"◐","D","31-50",null,"Average"]
[null,"◐","E","0-30",null,"Needs Improvement",null,null,"Wish bright future"]
[]
[{"$f":"A391+1","v":12},"Department Of Education, Rajasthan"]
[null,{"$f":"IF(I435>0,CONCATENATE(C435,I435),0)","v":0},null,{"$f":"Master!$E$8","v":"Govt.Sr.Sec.Sch."}]
[{"$nulls":3},{"$f":"Master!$E$11","v":"P.S.-Bapini (Jodhpur)"}]
[null,null,"Report Card",{"$nulls":6},"U-DISE Code:-",null,{"$f":"Master!$E$14","v":{"v":810000000,"d":"0810000000"}}]
[{"$nulls":9},"Session:-",null,{"$f":"Master!$E$6","v":"2023-24"}]
[null,null,"Roll No.:-",{"$nulls":5},{"$f":"VLOOKUP($A430,'Result Entry'!$B$9:$F$108,5,0)","v":0}]
[null,"◐","Scholar Number",{"$nulls":3},"↠",{"$f":"VLOOKUP($A430,'Result Entry'!$B$9:$EQ$108,3,0)","v":0}]
[null,"◐","Student's Name",{"$nulls":3},"↠",{"$f":"VLOOKUP($A430,'Result Entry'!$B$9:$EQ$108,6,0)","v":0}]
[null,"◐","Father's Name",{"$nulls":3},"↠",{"$f":"VLOOKUP($A430,'Result Entry'!$B$9:$EQ$108,7,0)","v":0}]
[null,"◐","Mother's Name ",{"$nulls":3},"↠",{"$f":"VLOOKUP($A430,'Result Entry'!$B$9:$EQ$108,8,0)","v":0}]
[null,"◐","Class & Section",{"$nulls":3},"↠",{"$f":"CONCATENATE('Result Entry'!$F$4,'Result Entry'!$I$4)","v":"2(A)"}]
[null,"◐","Date Of Birth",{"$nulls":3},"↠",{"$f":"VLOOKUP($A430,'Result Entry'!$B$9:$EQ$108,9,0)","v":"00:00:00"}]
[null,"◐","Subject",null,{"$f":"'Result Entry'!$K$6","v":"First Test"},{"$f":"'Result Entry'!$L$6","v":"Second Test"},{"$f":"'Result Entry'!$M$6","v":"Third Test"},"Half Yearly","Total (Test+H.Y.)","Yearly","Grand Total",null,"Subject Grade"]
[null,"◐","Max. Marks",null,{"$f":"'Result Entry'!$K$7","v":10},{"$f":"'Result Entry'!$L$7","v":10},{"$f":"'Result Entry'!$M$7","v":10},{"$f":"'Result Entry'!$R$7","v":70},{"$f":"SUM(E443:H443)","v":100},{"$f":"'Result Entry'!$V$7","v":100},{"$f":"I443+J443","v":200},null,"A+/A/B/C/D"]
[null,"◐",{"$f":"'Result Entry'!$K$3","v":"Hindi"},null,{"$f":"IF(OR(C444=\"\",$I435=\"NSO\"),\"\",VLOOKUP($A430,'Result Entry'!$B$9:$EQ$108,10,0))","v":0},{"$f":"IF(OR(C444=\"\",$I435=\"NSO\"),\"\",VLOOKUP($A430,'Result Entry'!$B$9:$EQ$108,11,0))","v":0},{"$f":"IF(OR(C444=\"\",$I435=\"NSO\"),\"\",VLOOKUP($A430,'Result Entry'!$B$9:$EQ$108,12,0))","v":0},{"$f":"IF(OR(C444=\"\",$I435=\"NSO\"),\"\",VLOOKUP($A430,'Result Entry'!$B$9:$EQ$108,17,0))","v":0},{"$f":"SUM(E444:H444)","v":0},{"$f":"IF(OR(C444=\"\",$I435=\"NSO\"),\"\",VLOOKUP($A430,'Result Entry'!$B$9:$EQ$108,21,0))","v":0},{"$f":"SUM(I444,J444)","v":0},null,{"$f":"IF(OR(C444=\"\",$I435=\"NSO\"),\"\",VLOOKUP($A430,'Result Entry'!$B$9:$EQ$108,24,0))","v":""}]
[null,"◐",{"$f":"'Result Entry'!$Z$3","v":"Mathematics"},null,{"$f":"IF(OR(C445=\"\",$I435=\"NSO\"),\"\",VLOOKUP($A430,'Result Entry'!$B$9:$EQ$108,25,0))","v":0},{"$f":"IF(OR(C445=\"\",$I435=\"NSO\"),\"\",VLOOKUP($A430,'Result Entry'!$B$9:$EQ$108,26,0))","v":0},{"$f":"IF(OR(C445=\"\",$I435=\"NSO\"),\"\",VLOOKUP($A430,'Result Entry'!$B$9:$EQ$108,27,0))","v":0},{"$f":"IF(OR(C445=\"\",$I435=\"NSO\"),\"\",VLOOKUP($A430,'Result Entry'!$B$9:$EQ$108,32,0))","v":0},0,{"$f":"IF(OR(C445=\"\",$I435=\"NSO\"),\"\",VLOOKUP($A430,'Result Entry'!$B$9:$EQ$108,36,0))","v":0},{"$f":"SUM(I445,J445)","v":0},null,{"$f":"IF(OR(C445=\"\",$I435=\"NSO\"),\"\",VLOOKUP($A430,'Result Entry'!$B$9:$EQ$108,39,0))","v":""}]
[null,"◐",{"$f":"'Result Entry'!$BD$3","v":"Env. Study"},null,{"$f":"IF(OR(C446=\"\",$I435=\"NSO\"),\"\",VLOOKUP($A430,'Result Entry'!$B$9:$EQ$108,55,0))","v":0},{"$f":"IF(OR(C446=\"\",$I435=\"NSO\"),\"\",VLOOKUP($A430,'Result Entry'!$B$9:$EQ$108,56,0))","v":0},{"$f":"IF(OR(C446=\"\",$I435=\"NSO\"),\"\",VLOOKUP($A430,'Result Entry'!$B$9:$EQ$108,57,0))","v":0},{"$f":"IF(OR(C444=\"\",$I435=\"NSO\"),\"\",VLOOKUP($A430,'Result Entry'!$B$9:$EQ$108,62,0))","v":0},0,{"$f":"IF(OR(C445=\"\",$I435=\"NSO\"),\"\",VLOOKUP($A430,'Result Entry'!$B$9:$EQ$108,66,0))","v":0},0,null,{"$f":"IF(OR(C445=\"\",$I435=\"NSO\"),\"\",VLOOKUP($A430,'Result Entry'!$B$9:$EQ$108,69,0))","v":""}]
[null,"◐","Max. Marks",null,{"$f":"'Result Entry'!$AO$7","v":5},{"$f":"'Result Entry'!$AP$7","v":5},{"$f":"'Result Entry'!$AQ$7","v":5},{"$f":"'Result Entry'!$AV$7","v":35},50,{"$f":"'Result Entry'!$AZ$7","v":50},100,null,"A+/A/B/C/D"]
[null,"◐",{"$f":"'Result Entry'!$AO$3","v":"English"},null,{"$f":"IF(OR(C448=\"\",$I435=\"NSO\"),\"\",VLOOKUP($A430,'Result Entry'!$B$9:$EQ$108,40,0))","v":0},{"$f":"IF(OR(C448=\"\",$I435=\"NSO\"),\"\",VLOOKUP($A430,'Result Entry'!$B$9:$EQ$108,41,0))","v":0},{"$f":"IF(OR(C448=\"\",$I435=\"NSO\"),\"\",VLOOKUP($A430,'Result Entry'!$B$9:$EQ$108,42,0))","v":0},{"$f":"IF(OR(C448=\"\",$I435=\"NSO\"),\"\",VLOOKUP($A430,'Result Entry'!$B$9:$EQ$108,47,0))","v":0},0,{"$f":"IF(OR(C448=\"\",$I435=\"NSO\"),\"\",VLOOKUP($A430,'Result Entry'!$B$9:$EQ$108,51,0))","v":0},0,null,{"$f":"IF(OR(C448=\"\",$I435=\"NSO\"),\"\",VLOOKUP($A430,'Result Entry'!$B$9:$EQ$108,54,0))","v":""}]
[null,"◐","Max. Marks",null,{"$f":"'Result Entry'!$BS$7","v":10},{"$f":"'Result Entry'!$BT$7","v":10},{"$f":"'Result Entry'!$BU$7","v":10},{"$f":"'Result Entry'!$BZ$7","v":70},{"$f":"SUM(E449:H449)","v":100},{"$f":"'Result Entry'!$CD$7","v":100},200,null,"A+/A/B/C/D"]
[null,"◐",{"$f":"'Result Entry'!$BS$3","v":"Sanskrit/Urdu"},null,{"$f":"IF(OR(C450=\"\",$I435=\"NSO\"),\"\",VLOOKUP($A430,'Result Entry'!$B$9:$EQ$108,70,0))","v":0},{"$f":"IF(OR(C450=\"\",$I435=\"NSO\"),\"\",VLOOKUP($A430,'Result Entry'!$B$9:$EQ$108,71,0))","v":0},{"$f":"IF(OR(C450=\"\",$I435=\"NSO\"),\"\",VLOOKUP($A430,'Result Entry'!$B$9:$EQ$108,72,0))","v":0},{"$f":"IF(OR(C450=\"\",$I435=\"NSO\"),\"\",VLOOKUP($A430,'Result Entry'!$B$9:$EQ$108,77,0))","v":0},{"$f":"SUM(E450:H450)","v":0},{"$f":"IF(OR(C450=\"\",$I435=\"NSO\"),\"\",VLOOKUP($A430,'Result Entry'!$B$9:$EQ$108,81,0))","v":0},0,null,{"$f":"IF(OR(C450=\"\",$I435=\"NSO\"),\"\",VLOOKUP($A430,'Result Entry'!$B$9:$EQ$108,84,0))","v":""}]
[null,"◐"]
[null,"◐","Overall Result",null,null,"Total Max. Marks",null,"Total Obtained Marks",null,"Percentage","Overall Grade","Result","Position in Class"]
[null,"◐",{"$nulls":3},{"$f":"IF(OR($I435=\"\",$I435=\"NSO\"),\"\",VLOOKUP($A430,'Result Entry'!$B$9:$EQ$108,120,0))","v":900},null,{"$f":"IF(OR($I435=\"\",$I435=\"NSO\"),\"\",VLOOKUP($A430,'Result Entry'!$B$9:$EQ$108,121,0))","v":0},null,{"$f":"IF(OR($I435=\"\",$I435=\"NSO\"),\"\",VLOOKUP($A430,'Result Entry'!$B$9:$EQ$108,122,0))","v":{"v":0,"d":"0.00"}},{"$f":"IF(OR($I435=\"\",$I435=\"NSO\"),\"\",VLOOKUP($A430,'Result Entry'!$B$9:$EQ$108,123,0))","v":""},{"$f":"IF(OR($I435=\"\",$I435=\"NSO\"),\"\",VLOOKUP($A430,'Result Entry'!$B$9:$EQ$108,124,0))","v":""},{"$f":"IF(OR($I435=\"\",$I435=\"NSO\"),\"\",VLOOKUP($A430,'Result Entry'!$B$9:$EQ$108,126,0))","v":""}]
[null,"◐",{"$nulls":6},"Total Meetings :-",null,{"$f":"IF(OR($I435=\"\",$I435=\"NSO\"),\"\",VLOOKUP($A430,'Result Entry'!$B$9:$EQ$108,117,0))","v":0},"Attedance %"]
[null,"◐","Extra Subjects",{"$nulls":5},"Student's Meetings :-",null,{"$f":"IF(OR($I435=\"\",$I435=\"NSO\"),\"\",VLOOKUP($A430,'Result Entry'!$B$9:$EQ$108,118,0))","v":0},{"$f":"IF(OR($I435=\"\",$I435=\"NSO\"),\"\",VLOOKUP($A430,'Result Entry'!$B$9:$EQ$108,119,0))","v":""}]
[null,"◐","Subject",null,null,"Total Marks",null,"GRADE","Remark :-",null,{"$f":"IF(OR($I435=\"\",$I435=\"NSO\"),\"\",VLOOKUP($A430,'Result Entry'!$B$9:$EQ$108,127,0))","v":0}]
[null,"◐",{"$f":"'Result Entry'!$CH$3","v":"WORK EXP."},null,null,{"$f":"IF(OR(C457=\"\",$I435=\"NSO\"),\"\",VLOOKUP($A430,'Result Entry'!$B$9:$EQ$108,138,0))","v":"0/100"},null,{"$f":"IF(OR(C457=\"\",$I435=\"NSO\"),\"\",VLOOKUP($A430,'Result Entry'!$B$9:$EQ$108,92,0))","v":""},"Result Date :-",null,{"$f":"'Result Entry'!$U$2","v":"2024-05-07"}]
[null,"◐",{"$f":"'Result Entry'!$CP$3","v":"ART EDU."},null,null,{"$f":"IF(OR(C458=\"\",$I435=\"NSO\"),\"\",VLOOKUP($A430,'Result Entry'!$B$9:$EQ$108,142,0))","v":"0/100"},null,{"$f":"IF(OR(C458=\"\",$I435=\"NSO\"),\"\",VLOOKUP($A430,'Result Entry'!$B$9:$EQ$108,100,0))","v":""}]
[null,null,{"$f":"'Result Entry'!$CX$3","v":"H&P. EDU."},null,null,{"$f":"IF(OR(C459=\"\",$I435=\"NSO\"),\"\",VLOOKUP($A430,'Result Entry'!$B$9:$EQ$108,146,0))","v":"0/0"},null,{"$f":"IF(OR(C459=\"\",$I435=\"NSO\"),\"\",VLOOKUP($A430,'Result Entry'!$B$9:$EQ$108,108,0))","v":""}]
[null,"◐",{"$f":"'Result Entry'!$DF$3","v":0},null,null,{"$f":"IF(OR(C460=\"\",$I435=\"NSO\"),\"\",VLOOKUP($A430,'Result Entry'!$B$9:$EQ$108,131,0))","v":0},null,{"$f":"IF(OR(C460=\"\",$I435=\"NSO\"),\"\",VLOOKUP($A430,'Result Entry'!$B$9:$EQ$108,97,0))","v":0},"Signature Of The Class Teacher"]
[null,"◐","Grading System"]
[null,"◐","Grd.","% Range",null,"Description"]
[null,"◐","A","86-100",null,"Excellent",null,null,"Signature And Seal Of Principal/H.M."]
[null,"◐","B","71-85",null,"Very Good"]
[null,"◐","C","51-70",null,"Good"]
[null,"◐","D","31-50",null,"Average"]
[null,"◐","E","0-30",null,"Needs Improvement",null,null,"Wish bright future"]
[]
[{"$f":"A430+1","v":13},"Department Of Education, Rajasthan"]
[null,{"$f":"IF(I474>0,CONCATENATE(C474,I474),0)","v":0},null,{"$f":"Master!$E$8","v":"Govt.Sr.Sec.Sch."}]
[{"$nulls":3},{"$f":"Master!$E$11","v":"P.S.-Bapini (Jodhpur)"}]
[null,null,"Report Card",{"$nulls":6},"U-DISE Code:-",null,{"$f":"Master!$E$14","v":{"v":810000000,"d":"0810000000"}}]
[{"$nulls":9},"Session:-",null,{"$f":"Master!$E$6","v":"2023-24"}]
[null,null,"Roll No.:-",{"$nulls":5},{"$f":"VLOOKUP($A469,'Result Entry'!$B$9:$F$108,5,0)","v":0}]
[null,"◐","Scholar Number",{"$nulls":3},"↠",{"$f":"VLOOKUP($A469,'Result Entry'!$B$9:$EQ$108,3,0)","v":0}]
[null,"◐","Student's Name",{"$nulls":3},"↠",{"$f":"VLOOKUP($A469,'Result Entry'!$B$9:$EQ$108,6,0)","v":0}]
[null,"◐","Father's Name",{"$nulls":3},"↠",{"$f":"VLOOKUP($A469,'Result Entry'!$B$9:$EQ$108,7,0)","v":0}]
[null,"◐","Mother's Name ",{"$nulls":3},"↠",{"$f":"VLOOKUP($A469,'Result Entry'!$B$9:$EQ$108,8,0)","v":0}]
[null,"◐","Class & Section",{"$nulls":3},"↠",{"$f":"CONCATENATE('Result Entry'!$F$4,'Result Entry'!$I$4)","v":"2(A)"}]
[null,"◐","Date Of Birth",{"$nulls":3},"↠",{"$f":"VLOOKUP($A469,'Result Entry'!$B$9:$EQ$108,9,0)","v":"00:00:00"}]
[null,"◐","Subject",null,{"$f":"'Result Entry'!$K$6","v":"First Test"},{"$f":"'Result Entry'!$L$6","v":"Second Test"},{"$f":"'Result Entry'!$M$6","v":"Third Test"},"Half Yearly","Total (Test+H.Y.)","Yearly","Grand Total",null,"Subject Grade"]
[null,"◐","Max. Marks",null,{"$f":"'Result Entry'!$K$7","v":10},{"$f":"'Result Entry'!$L$7","v":10},{"$f":"'Result Entry'!$M$7","v":10},{"$f":"'Result Entry'!$R$7","v":70},{"$f":"SUM(E482:H482)","v":100},{"$f":"'Result Entry'!$V$7","v":100},{"$f":"I482+J482","v":200},null,"A+/A/B/C/D"]
[null,"◐",{"$f":"'Result Entry'!$K$3","v":"Hindi"},null,{"$f":"IF(OR(C483=\"\",$I474=\"NSO\"),\"\",VLOOKUP($A469,'Result Entry'!$B$9:$EQ$108,10,0))","v":0},{"$f":"IF(OR(C483=\"\",$I474=\"NSO\"),\"\",VLOOKUP($A469,'Result Entry'!$B$9:$EQ$108,11,0))","v":0},{"$f":"IF(OR(C483=\"\",$I474=\"NSO\"),\"\",VLOOKUP($A469,'Result Entry'!$B$9:$EQ$108,12,0))","v":0},{"$f":"IF(OR(C483=\"\",$I474=\"NSO\"),\"\",VLOOKUP($A469,'Result Entry'!$B$9:$EQ$108,17,0))","v":0},{"$f":"SUM(E483:H483)","v":0},{"$f":"IF(OR(C483=\"\",$I474=\"NSO\"),\"\",VLOOKUP($A469,'Result Entry'!$B$9:$EQ$108,21,0))","v":0},{"$f":"SUM(I483,J483)","v":0},null,{"$f":"IF(OR(C483=\"\",$I474=\"NSO\"),\"\",VLOOKUP($A469,'Result Entry'!$B$9:$EQ$108,24,0))","v":""}]
[null,"◐",{"$f":"'Result Entry'!$Z$3","v":"Mathematics"},null,{"$f":"IF(OR(C484=\"\",$I474=\"NSO\"),\"\",VLOOKUP($A469,'Result Entry'!$B$9:$EQ$108,25,0))","v":0},{"$f":"IF(OR(C484=\"\",$I474=\"NSO\"),\"\",VLOOKUP($A469,'Result Entry'!$B$9:$EQ$108,26,0))","v":0},{"$f":"IF(OR(C484=\"\",$I474=\"NSO\"),\"\",VLOOKUP($A469,'Result Entry'!$B$9:$EQ$108,27,0))","v":0},{"$f":"IF(OR(C484=\"\",$I474=\"NSO\"),\"\",VLOOKUP($A469,'Result Entry'!$B$9:$EQ$108,32,0))","v":0},0,{"$f":"IF(OR(C484=\"\",$I474=\"NSO\"),\"\",VLOOKUP($A469,'Result Entry'!$B$9:$EQ$108,36,0))","v":0},{"$f":"SUM(I484,J484)","v":0},null,{"$f":"IF(OR(C484=\"\",$I474=\"NSO\"),\"\",VLOOKUP($A469,'Result Entry'!$B$9:$EQ$108,39,0))","v":""}]
[null,"◐",{"$f":"'Result Entry'!$BD$3","v":"Env. Study"},null,{"$f":"IF(OR(C485=\"\",$I474=\"NSO\"),\"\",VLOOKUP($A469,'Result Entry'!$B$9:$EQ$108,55,0))","v":0},{"$f":"IF(OR(C485=\"\",$I474=\"NSO\"),\"\",VLOOKUP($A469,'Result Entry'!$B$9:$EQ$108,56,0))","v":0},{"$f":"IF(OR(C485=\"\",$I474=\"NSO\"),\"\",VLOOKUP($A469,'Result Entry'!$B$9:$EQ$108,57,0))","v":0},{"$f":"IF(OR(C483=\"\",$I474=\"NSO\"),\"\",VLOOKUP($A469,'Result Entry'!$B$9:$EQ$108,62,0))","v":0},0,{"$f":"IF(OR(C484=\"\",$I474=\"NSO\"),\"\",VLOOKUP($A469,'Result Entry'!$B$9:$EQ$108,66,0))","v":0},0,null,{"$f":"IF(OR(C484=\"\",$I474=\"NSO\"),\"\",VLOOKUP($A469,'Result Entry'!$B$9:$EQ$108,69,0))","v":""}]
[null,"◐","Max. Marks",null,{"$f":"'Result Entry'!$AO$7","v":5},{"$f":"'Result Entry'!$AP$7","v":5},{"$f":"'Result Entry'!$AQ$7","v":5},{"$f":"'Result Entry'!$AV$7","v":35},50,{"$f":"'Result Entry'!$AZ$7","v":50},100,null,"A+/A/B/C/D"]
[null,"◐",{"$f":"'Result Entry'!$AO$3","v":"English"},null,{"$f":"IF(OR(C487=\"\",$I474=\"NSO\"),\"\",VLOOKUP($A469,'Result Entry'!$B$9:$EQ$108,40,0))","v":0},{"$f":"IF(OR(C487=\"\",$I474=\"NSO\"),\"\",VLOOKUP($A469,'Result Entry'!$B$9:$EQ$108,41,0))","v":0},{"$f":"IF(OR(C487=\"\",$I474=\"NSO\"),\"\",VLOOKUP($A469,'Result Entry'!$B$9:$EQ$108,42,0))","v":0},{"$f":"IF(OR(C487=\"\",$I474=\"NSO\"),\"\",VLOOKUP($A469,'Result Entry'!$B$9:$EQ$108,47,0))","v":0},0,{"$f":"IF(OR(C487=\"\",$I474=\"NSO\"),\"\",VLOOKUP($A469,'Result Entry'!$B$9:$EQ$108,51,0))","v":0},0,null,{"$f":"IF(OR(C487=\"\",$I474=\"NSO\"),\"\",VLOOKUP($A469,'Result Entry'!$B$9:$EQ$108,54,0))","v":""}]
[null,"◐","Max. Marks",null,{"$f":"'Result Entry'!$BS$7","v":10},{"$f":"'Result Entry'!$BT$7","v":10},{"$f":"'Result Entry'!$BU$7","v":10},{"$f":"'Result Entry'!$BZ$7","v":70},{"$f":"SUM(E488:H488)","v":100},{"$f":"'Result Entry'!$CD$7","v":100},200,null,"A+/A/B/C/D"]
[null,"◐",{"$f":"'Result Entry'!$BS$3","v":"Sanskrit/Urdu"},null,{"$f":"IF(OR(C489=\"\",$I474=\"NSO\"),\"\",VLOOKUP($A469,'Result Entry'!$B$9:$EQ$108,70,0))","v":0},{"$f":"IF(OR(C489=\"\",$I474=\"NSO\"),\"\",VLOOKUP($A469,'Result Entry'!$B$9:$EQ$108,71,0))","v":0},{"$f":"IF(OR(C489=\"\",$I474=\"NSO\"),\"\",VLOOKUP($A469,'Result Entry'!$B$9:$EQ$108,72,0))","v":0},{"$f":"IF(OR(C489=\"\",$I474=\"NSO\"),\"\",VLOOKUP($A469,'Result Entry'!$B$9:$EQ$108,77,0))","v":0},{"$f":"SUM(E489:H489)","v":0},{"$f":"IF(OR(C489=\"\",$I474=\"NSO\"),\"\",VLOOKUP($A469,'Result Entry'!$B$9:$EQ$108,81,0))","v":0},0,null,{"$f":"IF(OR(C489=\"\",$I474=\"NSO\"),\"\",VLOOKUP($A469,'Result Entry'!$B$9:$EQ$108,84,0))","v":""}]
[null,"◐"]
[null,"◐","Overall Result",null,null,"Total Max. Marks",null,"Total Obtained Marks",null,"Percentage","Overall Grade","Result","Position in Class"]
[null,"◐",{"$nulls":3},{"$f":"IF(OR($I474=\"\",$I474=\"NSO\"),\"\",VLOOKUP($A469,'Result Entry'!$B$9:$EQ$108,120,0))","v":900},null,{"$f":"IF(OR($I474=\"\",$I474=\"NSO\"),\"\",VLOOKUP($A469,'Result Entry'!$B$9:$EQ$108,121,0))","v":0},null,{"$f":"IF(OR($I474=\"\",$I474=\"NSO\"),\"\",VLOOKUP($A469,'Result Entry'!$B$9:$EQ$108,122,0))","v":{"v":0,"d":"0.00"}},{"$f":"IF(OR($I474=\"\",$I474=\"NSO\"),\"\",VLOOKUP($A469,'Result Entry'!$B$9:$EQ$108,123,0))","v":""},{"$f":"IF(OR($I474=\"\",$I474=\"NSO\"),\"\",VLOOKUP($A469,'Result Entry'!$B$9:$EQ$108,124,0))","v":""},{"$f":"IF(OR($I474=\"\",$I474=\"NSO\"),\"\",VLOOKUP($A469,'Result Entry'!$B$9:$EQ$108,126,0))","v":""}]
[null,"◐",{"$nulls":6},"Total Meetings :-",null,{"$f":"IF(OR($I474=\"\",$I474=\"NSO\"),\"\",VLOOKUP($A469,'Result Entry'!$B$9:$EQ$108,117,0))","v":0},"Attedance %"]
[null,"◐","Extra Subjects",{"$nulls":5},"Student's Meetings :-",null,{"$f":"IF(OR($I474=\"\",$I474=\"NSO\"),\"\",VLOOKUP($A469,'Result Entry'!$B$9:$EQ$108,118,0))","v":0},{"$f":"IF(OR($I474=\"\",$I474=\"NSO\"),\"\",VLOOKUP($A469,'Result Entry'!$B$9:$EQ$108,119,0))","v":""}]
[null,"◐","Subject",null,null,"Total Marks",null,"GRADE","Remark :-",null,{"$f":"IF(OR($I474=\"\",$I474=\"NSO\"),\"\",VLOOKUP($A469,'Result Entry'!$B$9:$EQ$108,127,0))","v":0}]
[null,"◐",{"$f":"'Result Entry'!$CH$3","v":"WORK EXP."},null,null,{"$f":"IF(OR(C496=\"\",$I474=\"NSO\"),\"\",VLOOKUP($A469,'Result Entry'!$B$9:$EQ$108,138,0))","v":"0/100"},null,{"$f":"IF(OR(C496=\"\",$I474=\"NSO\"),\"\",VLOOKUP($A469,'Result Entry'!$B$9:$EQ$108,92,0))","v":""},"Result Date :-",null,{"$f":"'Result Entry'!$U$2","v":"2024-05-07"}]
[null,"◐",{"$f":"'Result Entry'!$CP$3","v":"ART EDU."},null,null,{"$f":"IF(OR(C497=\"\",$I474=\"NSO\"),\"\",VLOOKUP($A469,'Result Entry'!$B$9:$EQ$108,142,0))","v":"0/100"},null,{"$f":"IF(OR(C497=\"\",$I474=\"NSO\"),\"\",VLOOKUP($A469,'Result Entry'!$B$9:$EQ$108,100,0))","v":""}]
[null,null,{"$f":"'Result Entry'!$CX$3","v":"H&P. EDU."},null,null,{"$f":"IF(OR(C498=\"\",$I474=\"NSO\"),\"\",VLOOKUP($A469,'Result Entry'!$B$9:$EQ$108,146,0))","v":"0/0"},null,{"$f":"IF(OR(C498=\"\",$I474=\"NSO\"),\"\",VLOOKUP($A469,'Result Entry'!$B$9:$EQ$108,108,0))","v":""}]
[null,"◐",{"$f":"'Result Entry'!$DF$3","v":0},null,null,{"$f":"IF(OR(C499=\"\",$I474=\"NSO\"),\"\",VLOOKUP($A469,'Result Entry'!$B$9:$EQ$108,131,0))","v":0},null,{"$f":"IF(OR(C499=\"\",$I474=\"NSO\"),\"\",VLOOKUP($A469,'Result Entry'!$B$9:$EQ$108,97,0))","v":0},"Signature Of The Class Teacher"]
[null,"◐","Grading System"]
[null,"◐","Grd.","% Range",null,"Description"]
[null,"◐","A","86-100",null,"Excellent",null,null,"Signature And Seal Of Principal/H.M."]
[null,"◐","B","71-85",null,"Very Good"]
[null,"◐","C","51-70",null,"Good"]
[null,"◐","D","31-50",null,"Average"]
[null,"◐","E","0-30",null,"Needs Improvement",null,null,"Wish bright future"]
[]
[{"$f":"A469+1","v":14},"Department Of Education, Rajasthan"]
[null,{"$f":"IF(I513>0,CONCATENATE(C513,I513),0)","v":0},null,{"$f":"Master!$E$8","v":"Govt.Sr.Sec.Sch."}]
[{"$nulls":3},{"$f":"Master!$E$11","v":"P.S.-Bapini (Jodhpur)"}]
[null,null,"Report Card",{"$nulls":6},"U-DISE Code:-",null,{"$f":"Master!$E$14","v":{"v":810000000,"d":"0810000000"}}]
[{"$nulls":9},"Session:-",null,{"$f":"Master!$E$6","v":"2023-24"}]
[null,null,"Roll No.:-",{"$nulls":5},{"$f":"VLOOKUP($A508,'Result Entry'!$B$9:$F$108,5,0)","v":0}]
[null,"◐","Scholar Number",{"$nulls":3},"↠",{"$f":"VLOOKUP($A508,'Result Entry'!$B$9:$EQ$108,3,0)","v":0}]
[null,"◐","Student's Name",{"$nulls":3},"↠",{"$f":"VLOOKUP($A508,'Result Entry'!$B$9:$EQ$108,6,0)","v":0}]
[null,"◐","Father's Name",{"$nulls":3},"↠",{"$f":"VLOOKUP($A508,'Result Entry'!$B$9:$EQ$108,7,0)","v":0}]
[null,"◐","Mother's Name ",{"$nulls":3},"↠",{"$f":"VLOOKUP($A508,'Result Entry'!$B$9:$EQ$108,8,0)","v":0}]
[null,"◐","Class & Section",{"$nulls":3},"↠",{"$f":"CONCATENATE('Result Entry'!$F$4,'Result Entry'!$I$4)","v":"2(A)"}]
[null,"◐","Date Of Birth",{"$nulls":3},"↠",{"$f":"VLOOKUP($A508,'Result Entry'!$B$9:$EQ$108,9,0)","v":"00:00:00"}]
[null,"◐","Subject",null,{"$f":"'Result Entry'!$K$6","v":"First Test"},{"$f":"'Result Entry'!$L$6","v":"Second Test"},{"$f":"'Result Entry'!$M$6","v":"Third Test"},"Half Yearly","Total (Test+H.Y.)","Yearly","Grand Total",null,"Subject Grade"]
[null,"◐","Max. Marks",null,{"$f":"'Result Entry'!$K$7","v":10},{"$f":"'Result Entry'!$L$7","v":10},{"$f":"'Result Entry'!$M$7","v":10},{"$f":"'Result Entry'!$R$7","v":70},{"$f":"SUM(E521:H521)","v":100},{"$f":"'Result Entry'!$V$7","v":100},{"$f":"I521+J521","v":200},null,"A+/A/B/C/D"]
[null,"◐",{"$f":"'Result Entry'!$K$3","v":"Hindi"},null,{"$f":"IF(OR(C522=\"\",$I513=\"NSO\"),\"\",VLOOKUP($A508,'Result Entry'!$B$9:$EQ$108,10,0))","v":0},{"$f":"IF(OR(C522=\"\",$I513=\"NSO\"),\"\",VLOOKUP($A508,'Result Entry'!$B$9:$EQ$108,11,0))","v":0},{"$f":"IF(OR(C522=\"\",$I513=\"NSO\"),\"\",VLOOKUP($A508,'Result Entry'!$B$9:$EQ$108,12,0))","v":0},{"$f":"IF(OR(C522=\"\",$I513=\"NSO\"),\"\",VLOOKUP($A508,'Result Entry'!$B$9:$EQ$108,17,0))","v":0},{"$f":"SUM(E522:H522)","v":0},{"$f":"IF(OR(C522=\"\",$I513=\"NSO\"),\"\",VLOOKUP($A508,'Result Entry'!$B$9:$EQ$108,21,0))","v":0},{"$f":"SUM(I522,J522)","v":0},null,{"$f":"IF(OR(C522=\"\",$I513=\"NSO\"),\"\",VLOOKUP($A508,'Result Entry'!$B$9:$EQ$108,24,0))","v":""}]
[null,"◐",{"$f":"'Result Entry'!$Z$3","v":"Mathematics"},null,{"$f":"IF(OR(C523=\"\",$I513=\"NSO\"),\"\",VLOOKUP($A508,'Result Entry'!$B$9:$EQ$108,25,0))","v":0},{"$f":"IF(OR(C523=\"\",$I513=\"NSO\"),\"\",VLOOKUP($A508,'Result Entry'!$B$9:$EQ$108,26,0))","v":0},{"$f":"IF(OR(C523=\"\",$I513=\"NSO\"),\"\",VLOOKUP($A508,'Result Entry'!$B$9:$EQ$108,27,0))","v":0},{"$f":"IF(OR(C523=\"\",$I513=\"NSO\"),\"\",VLOOKUP($A508,'Result Entry'!$B$9:$EQ$108,32,0))","v":0},0,{"$f":"IF(OR(C523=\"\",$I513=\"NSO\"),\"\",VLOOKUP($A508,'Result Entry'!$B$9:$EQ$108,36,0))","v":0},{"$f":"SUM(I523,J523)","v":0},null,{"$f":"IF(OR(C523=\"\",$I513=\"NSO\"),\"\",VLOOKUP($A508,'Result Entry'!$B$9:$EQ$108,39,0))","v":""}]
[null,"◐",{"$f":"'Result Entry'!$BD$3","v":"Env. Study"},null,{"$f":"IF(OR(C524=\"\",$I513=\"NSO\"),\"\",VLOOKUP($A508,'Result Entry'!$B$9:$EQ$108,55,0))","v":0},{"$f":"IF(OR(C524=\"\",$I513=\"NSO\"),\"\",VLOOKUP($A508,'Result Entry'!$B$9:$EQ$108,56,0))","v":0},{"$f":"IF(OR(C524=\"\",$I513=\"NSO\"),\"\",VLOOKUP($A508,'Result Entry'!$B$9:$EQ$108,57,0))","v":0},{"$f":"IF(OR(C522=\"\",$I513=\"NSO\"),\"\",VLOOKUP($A508,'Result Entry'!$B$9:$EQ$108,62,0))","v":0},0,{"$f":"IF(OR(C523=\"\",$I513=\"NSO\"),\"\",VLOOKUP($A508,'Result Entry'!$B$9:$EQ$108,66,0))","v":0},0,null,{"$f":"IF(OR(C523=\"\",$I513=\"NSO\"),\"\",VLOOKUP($A508,'Result Entry'!$B$9:$EQ$108,69,0))","v":""}]
[null,"◐","Max. Marks",null,{"$f":"'Result Entry'!$AO$7","v":5},{"$f":"'Result Entry'!$AP$7","v":5},{"$f":"'Result Entry'!$AQ$7","v":5},{"$f":"'Result Entry'!$AV$7","v":35},50,{"$f":"'Result Entry'!$AZ$7","v":50},100,null,"A+/A/B/C/D"]
[null,"◐",{"$f":"'Result Entry'!$AO$3","v":"English"},null,{"$f":"IF(OR(C526=\"\",$I513=\"NSO\"),\"\",VLOOKUP($A508,'Result Entry'!$B$9:$EQ$108,40,0))","v":0},{"$f":"IF(OR(C526=\"\",$I513=\"NSO\"),\"\",VLOOKUP($A508,'Result Entry'!$B$9:$EQ$108,41,0))","v":0},{"$f":"IF(OR(C526=\"\",$I513=\"NSO\"),\"\",VLOOKUP($A508,'Result Entry'!$B$9:$EQ$108,42,0))","v":0},{"$f":"IF(OR(C526=\"\",$I513=\"NSO\"),\"\",VLOOKUP($A508,'Result Entry'!$B$9:$EQ$108,47,0))","v":0},0,{"$f":"IF(OR(C526=\"\",$I513=\"NSO\"),\"\",VLOOKUP($A508,'Result Entry'!$B$9:$EQ$108,51,0))","v":0},0,null,{"$f":"IF(OR(C526=\"\",$I513=\"NSO\"),\"\",VLOOKUP($A508,'Result Entry'!$B$9:$EQ$108,54,0))","v":""}]
[null,"◐","Max. Marks",null,{"$f":"'Result Entry'!$BS$7","v":10},{"$f":"'Result Entry'!$BT$7","v":10},{"$f":"'Result Entry'!$BU$7","v":10},{"$f":"'Result Entry'!$BZ$7","v":70},{"$f":"SUM(E527:H527)","v":100},{"$f":"'Result Entry'!$CD$7","v":100},200,null,"A+/A/B/C/D"]
[null,"◐",{"$f":"'Result Entry'!$BS$3","v":"Sanskrit/Urdu"},null,{"$f":"IF(OR(C528=\"\",$I513=\"NSO\"),\"\",VLOOKUP($A508,'Result Entry'!$B$9:$EQ$108,70,0))","v":0},{"$f":"IF(OR(C528=\"\",$I513=\"NSO\"),\"\",VLOOKUP($A508,'Result Entry'!$B$9:$EQ$108,71,0))","v":0},{"$f":"IF(OR(C528=\"\",$I513=\"NSO\"),\"\",VLOOKUP($A508,'Result Entry'!$B$9:$EQ$108,72,0))","v":0},{"$f":"IF(OR(C528=\"\",$I513=\"NSO\"),\"\",VLOOKUP($A508,'Result Entry'!$B$9:$EQ$108,77,0))","v":0},{"$f":"SUM(E528:H528)","v":0},{"$f":"IF(OR(C528=\"\",$I513=\"NSO\"),\"\",VLOOKUP($A508,'Result Entry'!$B$9:$EQ$108,81,0))","v":0},0,null,{"$f":"IF(OR(C528=\"\",$I513=\"NSO\"),\"\",VLOOKUP($A508,'Result Entry'!$B$9:$EQ$108,84,0))","v":""}]
[null,"◐"]
[null,"◐","Overall Result",null,null,"Total Max. Marks",null,"Total Obtained Marks",null,"Percentage","Overall Grade","Result","Position in Class"]
[null,"◐",{"$nulls":3},{"$f":"IF(OR($I513=\"\",$I513=\"NSO\"),\"\",VLOOKUP($A508,'Result Entry'!$B$9:$EQ$108,120,0))","v":900},null,{"$f":"IF(OR($I513=\"\",$I513=\"NSO\"),\"\",VLOOKUP($A508,'Result Entry'!$B$9:$EQ$108,121,0))","v":0},null,{"$f":"IF(OR($I513=\"\",$I513=\"NSO\"),\"\",VLOOKUP($A508,'Result Entry'!$B$9:$EQ$108,122,0))","v":{"v":0,"d":"0.00"}},{"$f":"IF(OR($I513=\"\",$I513=\"NSO\"),\"\",VLOOKUP($A508,'Result Entry'!$B$9:$EQ$108,123,0))","v":""},{"$f":"IF(OR($I513=\"\",$I513=\"NSO\"),\"\",VLOOKUP($A508,'Result Entry'!$B$9:$EQ$108,124,0))","v":""},{"$f":"IF(OR($I513=\"\",$I513=\"NSO\"),\"\",VLOOKUP($A508,'Result Entry'!$B$9:$EQ$108,126,0))","v":""}]
[null,"◐",{"$nulls":6},"Total Meetings :-",null,{"$f":"IF(OR($I513=\"\",$I513=\"NSO\"),\"\",VLOOKUP($A508,'Result Entry'!$B$9:$EQ$108,117,0))","v":0},"Attedance %"]
[null,"◐","Extra Subjects",{"$nulls":5},"Student's Meetings :-",null,{"$f":"IF(OR($I513=\"\",$I513=\"NSO\"),\"\",VLOOKUP($A508,'Result Entry'!$B$9:$EQ$108,118,0))","v":0},{"$f":"IF(OR($I513=\"\",$I513=\"NSO\"),\"\",VLOOKUP($A508,'Result Entry'!$B$9:$EQ$108,119,0))","v":""}]
[null,"◐","Subject",null,null,"Total Marks",null,"GRADE","Remark :-",null,{"$f":"IF(OR($I513=\"\",$I513=\"NSO\"),\"\",VLOOKUP($A508,'Result Entry'!$B$9:$EQ$108,127,0))","v":0}]
[null,"◐",{"$f":"'Result Entry'!$CH$3","v":"WORK EXP."},null,null,{"$f":"IF(OR(C535=\"\",$I513=\"NSO\"),\"\",VLOOKUP($A508,'Result Entry'!$B$9:$EQ$108,138,0))","v":"0/100"},null,{"$f":"IF(OR(C535=\"\",$I513=\"NSO\"),\"\",VLOOKUP($A508,'Result Entry'!$B$9:$EQ$108,92,0))","v":""},"Result Date :-",null,{"$f":"'Result Entry'!$U$2","v":"2024-05-07"}]
[null,"◐",{"$f":"'Result Entry'!$CP$3","v":"ART EDU."},null,null,{"$f":"IF(OR(C536=\"\",$I513=\"NSO\"),\"\",VLOOKUP($A508,'Result Entry'!$B$9:$EQ$108,142,0))","v":"0/100"},null,{"$f":"IF(OR(C536=\"\",$I513=\"NSO\"),\"\",VLOOKUP($A508,'Result Entry'!$B$9:$EQ$108,100,0))","v":""}]
[null,null,{"$f":"'Result Entry'!$CX$3","v":"H&P. EDU."},null,null,{"$f":"IF(OR(C537=\"\",$I513=\"NSO\"),\"\",VLOOKUP($A508,'Result Entry'!$B$9:$EQ$108,146,0))","v":"0/0"},null,{"$f":"IF(OR(C537=\"\",$I513=\"NSO\"),\"\",VLOOKUP($A508,'Result Entry'!$B$9:$EQ$108,108,0))","v":""}]
[null,"◐",{"$f":"'Result Entry'!$DF$3","v":0},null,null,{"$f":"IF(OR(C538=\"\",$I513=\"NSO\"),\"\",VLOOKUP($A508,'Result Entry'!$B$9:$EQ$108,131,0))","v":0},null,{"$f":"IF(OR(C538=\"\",$I513=\"NSO\"),\"\",VLOOKUP($A508,'Result Entry'!$B$9:$EQ$108,97,0))","v":0},"Signature Of The Class Teacher"]
[null,"◐","Grading System"]
[null,"◐","Grd.","% Range",null,"Description"]
[null,"◐","A","86-100",null,"Excellent",null,null,"Signature And Seal Of Principal/H.M."]
[null,"◐","B","71-85",null,"Very Good"]
[null,"◐","C","51-70",null,"Good"]
[null,"◐","D","31-50",null,"Average"]
[null,"◐","E","0-30",null,"Needs Improvement",null,null,"Wish bright future"]
[]
[{"$f":"A508+1","v":15},"Department Of Education, Rajasthan"]
[null,{"$f":"IF(I552>0,CONCATENATE(C552,I552),0)","v":0},null,{"$f":"Master!$E$8","v":"Govt.Sr.Sec.Sch."}]
[{"$nulls":3},{"$f":"Master!$E$11","v":"P.S.-Bapini (Jodhpur)"}]
[null,null,"Report Card",{"$nulls":6},"U-DISE Code:-",null,{"$f":"Master!$E$14","v":{"v":810000000,"d":"0810000000"}}]
[{"$nulls":9},"Session:-",null,{"$f":"Master!$E$6","v":"2023-24"}]
[null,null,"Roll No.:-",{"$nulls":5},{"$f":"VLOOKUP($A547,'Result Entry'!$B$9:$F$108,5,0)","v":0}]
[null,"◐","Scholar Number",{"$nulls":3},"↠",{"$f":"VLOOKUP($A547,'Result Entry'!$B$9:$EQ$108,3,0)","v":0}]
[null,"◐","Student's Name",{"$nulls":3},"↠",{"$f":"VLOOKUP($A547,'Result Entry'!$B$9:$EQ$108,6,0)","v":0}]
[null,"◐","Father's Name",{"$nulls":3},"↠",{"$f":"VLOOKUP($A547,'Result Entry'!$B$9:$EQ$108,7,0)","v":0}]
[null,"◐","Mother's Name ",{"$nulls":3},"↠",{"$f":"VLOOKUP($A547,'Result Entry'!$B$9:$EQ$108,8,0)","v":0}]
[null,"◐","Class & Section",{"$nulls":3},"↠",{"$f":"CONCATENATE('Result Entry'!$F$4,'Result Entry'!$I$4)","v":"2(A)"}]
[null,"◐","Date Of Birth",{"$nulls":3},"↠",{"$f":"VLOOKUP($A547,'Result Entry'!$B$9:$EQ$108,9,0)","v":"00:00:00"}]
[null,"◐","Subject",null,{"$f":"'Result Entry'!$K$6","v":"First Test"},{"$f":"'Result Entry'!$L$6","v":"Second Test"},{"$f":"'Result Entry'!$M$6","v":"Third Test"},"Half Yearly","Total (Test+H.Y.)","Yearly","Grand Total",null,"Subject Grade"]
[null,"◐","Max. Marks",null,{"$f":"'Result Entry'!$K$7","v":10},{"$f":"'Result Entry'!$L$7","v":10},{"$f":"'Result Entry'!$M$7","v":10},{"$f":"'Result Entry'!$R$7","v":70},{"$f":"SUM(E560:H560)","v":100},{"$f":"'Result Entry'!$V$7","v":100},{"$f":"I560+J560","v":200},null,"A+/A/B/C/D"]
[null,"◐",{"$f":"'Result Entry'!$K$3","v":"Hindi"},null,{"$f":"IF(OR(C561=\"\",$I552=\"NSO\"),\"\",VLOOKUP($A547,'Result Entry'!$B$9:$EQ$108,10,0))","v":0},{"$f":"IF(OR(C561=\"\",$I552=\"NSO\"),\"\",VLOOKUP($A547,'Result Entry'!$B$9:$EQ$108,11,0))","v":0},{"$f":"IF(OR(C561=\"\",$I552=\"NSO\"),\"\",VLOOKUP($A547,'Result Entry'!$B$9:$EQ$108,12,0))","v":0},{"$f":"IF(OR(C561=\"\",$I552=\"NSO\"),\"\",VLOOKUP($A547,'Result Entry'!$B$9:$EQ$108,17,0))","v":0},{"$f":"SUM(E561:H561)","v":0},{"$f":"IF(OR(C561=\"\",$I552=\"NSO\"),\"\",VLOOKUP($A547,'Result Entry'!$B$9:$EQ$108,21,0))","v":0},{"$f":"SUM(I561,J561)","v":0},null,{"$f":"IF(OR(C561=\"\",$I552=\"NSO\"),\"\",VLOOKUP($A547,'Result Entry'!$B$9:$EQ$108,24,0))","v":""}]
[null,"◐",{"$f":"'Result Entry'!$Z$3","v":"Mathematics"},null,{"$f":"IF(OR(C562=\"\",$I552=\"NSO\"),\"\",VLOOKUP($A547,'Result Entry'!$B$9:$EQ$108,25,0))","v":0},{"$f":"IF(OR(C562=\"\",$I552=\"NSO\"),\"\",VLOOKUP($A547,'Result Entry'!$B$9:$EQ$108,26,0))","v":0},{"$f":"IF(OR(C562=\"\",$I552=\"NSO\"),\"\",VLOOKUP($A547,'Result Entry'!$B$9:$EQ$108,27,0))","v":0},{"$f":"IF(OR(C562=\"\",$I552=\"NSO\"),\"\",VLOOKUP($A547,'Result Entry'!$B$9:$EQ$108,32,0))","v":0},0,{"$f":"IF(OR(C562=\"\",$I552=\"NSO\"),\"\",VLOOKUP($A547,'Result Entry'!$B$9:$EQ$108,36,0))","v":0},{"$f":"SUM(I562,J562)","v":0},null,{"$f":"IF(OR(C562=\"\",$I552=\"NSO\"),\"\",VLOOKUP($A547,'Result Entry'!$B$9:$EQ$108,39,0))","v":""}]
[null,"◐",{"$f":"'Result Entry'!$BD$3","v":"Env. Study"},null,{"$f":"IF(OR(C563=\"\",$I552=\"NSO\"),\"\",VLOOKUP($A547,'Result Entry'!$B$9:$EQ$108,55,0))","v":0},{"$f":"IF(OR(C563=\"\",$I552=\"NSO\"),\"\",VLOOKUP($A547,'Result Entry'!$B$9:$EQ$108,56,0))","v":0},{"$f":"IF(OR(C563=\"\",$I552=\"NSO\"),\"\",VLOOKUP($A547,'Result Entry'!$B$9:$EQ$108,57,0))","v":0},{"$f":"IF(OR(C561=\"\",$I552=\"NSO\"),\"\",VLOOKUP($A547,'Result Entry'!$B$9:$EQ$108,62,0))","v":0},0,{"$f":"IF(OR(C562=\"\",$I552=\"NSO\"),\"\",VLOOKUP($A547,'Result Entry'!$B$9:$EQ$108,66,0))","v":0},0,null,{"$f":"IF(OR(C562=\"\",$I552=\"NSO\"),\"\",VLOOKUP($A547,'Result Entry'!$B$9:$EQ$108,69,0))","v":""}]
[null,"◐","Max. Marks",null,{"$f":"'Result Entry'!$AO$7","v":5},{"$f":"'Result Entry'!$AP$7","v":5},{"$f":"'Result Entry'!$AQ$7","v":5},{"$f":"'Result Entry'!$AV$7","v":35},50,{"$f":"'Result Entry'!$AZ$7","v":50},100,null,"A+/A/B/C/D"]
[null,"◐",{"$f":"'Result Entry'!$AO$3","v":"English"},null,{"$f":"IF(OR(C565=\"\",$I552=\"NSO\"),\"\",VLOOKUP($A547,'Result Entry'!$B$9:$EQ$108,40,0))","v":0},{"$f":"IF(OR(C565=\"\",$I552=\"NSO\"),\"\",VLOOKUP($A547,'Result Entry'!$B$9:$EQ$108,41,0))","v":0},{"$f":"IF(OR(C565=\"\",$I552=\"NSO\"),\"\",VLOOKUP($A547,'Result Entry'!$B$9:$EQ$108,42,0))","v":0},{"$f":"IF(OR(C565=\"\",$I552=\"NSO\"),\"\",VLOOKUP($A547,'Result Entry'!$B$9:$EQ$108,47,0))","v":0},0,{"$f":"IF(OR(C565=\"\",$I552=\"NSO\"),\"\",VLOOKUP($A547,'Result Entry'!$B$9:$EQ$108,51,0))","v":0},0,null,{"$f":"IF(OR(C565=\"\",$I552=\"NSO\"),\"\",VLOOKUP($A547,'Result Entry'!$B$9:$EQ$108,54,0))","v":""}]
[null,"◐","Max. Marks",null,{"$f":"'Result Entry'!$BS$7","v":10},{"$f":"'Result Entry'!$BT$7","v":10},{"$f":"'Result Entry'!$BU$7","v":10},{"$f":"'Result Entry'!$BZ$7","v":70},{"$f":"SUM(E566:H566)","v":100},{"$f":"'Result Entry'!$CD$7","v":100},200,null,"A+/A/B/C/D"]
[null,"◐",{"$f":"'Result Entry'!$BS$3","v":"Sanskrit/Urdu"},null,{"$f":"IF(OR(C567=\"\",$I552=\"NSO\"),\"\",VLOOKUP($A547,'Result Entry'!$B$9:$EQ$108,70,0))","v":0},{"$f":"IF(OR(C567=\"\",$I552=\"NSO\"),\"\",VLOOKUP($A547,'Result Entry'!$B$9:$EQ$108,71,0))","v":0},{"$f":"IF(OR(C567=\"\",$I552=\"NSO\"),\"\",VLOOKUP($A547,'Result Entry'!$B$9:$EQ$108,72,0))","v":0},{"$f":"IF(OR(C567=\"\",$I552=\"NSO\"),\"\",VLOOKUP($A547,'Result Entry'!$B$9:$EQ$108,77,0))","v":0},{"$f":"SUM(E567:H567)","v":0},{"$f":"IF(OR(C567=\"\",$I552=\"NSO\"),\"\",VLOOKUP($A547,'Result Entry'!$B$9:$EQ$108,81,0))","v":0},0,null,{"$f":"IF(OR(C567=\"\",$I552=\"NSO\"),\"\",VLOOKUP($A547,'Result Entry'!$B$9:$EQ$108,84,0))","v":""}]
[null,"◐"]
[null,"◐","Overall Result",null,null,"Total Max. Marks",null,"Total Obtained Marks",null,"Percentage","Overall Grade","Result","Position in Class"]
[null,"◐",{"$nulls":3},{"$f":"IF(OR($I552=\"\",$I552=\"NSO\"),\"\",VLOOKUP($A547,'Result Entry'!$B$9:$EQ$108,120,0))","v":900},null,{"$f":"IF(OR($I552=\"\",$I552=\"NSO\"),\"\",VLOOKUP($A547,'Result Entry'!$B$9:$EQ$108,121,0))","v":0},null,{"$f":"IF(OR($I552=\"\",$I552=\"NSO\"),\"\",VLOOKUP($A547,'Result Entry'!$B$9:$EQ$108,122,0))","v":{"v":0,"d":"0.00"}},{"$f":"IF(OR($I552=\"\",$I552=\"NSO\"),\"\",VLOOKUP($A547,'Result Entry'!$B$9:$EQ$108,123,0))","v":""},{"$f":"IF(OR($I552=\"\",$I552=\"NSO\"),\"\",VLOOKUP($A547,'Result Entry'!$B$9:$EQ$108,124,0))","v":""},{"$f":"IF(OR($I552=\"\",$I552=\"NSO\"),\"\",VLOOKUP($A547,'Result Entry'!$B$9:$EQ$108,126,0))","v":""}]
[null,"◐",{"$nulls":6},"Total Meetings :-",null,{"$f":"IF(OR($I552=\"\",$I552=\"NSO\"),\"\",VLOOKUP($A547,'Result Entry'!$B$9:$EQ$108,117,0))","v":0},"Attedance %"]
[null,"◐","Extra Subjects",{"$nulls":5},"Student's Meetings :-",null,{"$f":"IF(OR($I552=\"\",$I552=\"NSO\"),\"\",VLOOKUP($A547,'Result Entry'!$B$9:$EQ$108,118,0))","v":0},{"$f":"IF(OR($I552=\"\",$I552=\"NSO\"),\"\",VLOOKUP($A547,'Result Entry'!$B$9:$EQ$108,119,0))","v":""}]
[null,"◐","Subject",null,null,"Total Marks",null,"GRADE","Remark :-",null,{"$f":"IF(OR($I552=\"\",$I552=\"NSO\"),\"\",VLOOKUP($A547,'Result Entry'!$B$9:$EQ$108,127,0))","v":0}]
[null,"◐",{"$f":"'Result Entry'!$CH$3","v":"WORK EXP."},null,null,{"$f":"IF(OR(C574=\"\",$I552=\"NSO\"),\"\",VLOOKUP($A547,'Result Entry'!$B$9:$EQ$108,138,0))","v":"0/100"},null,{"$f":"IF(OR(C574=\"\",$I552=\"NSO\"),\"\",VLOOKUP($A547,'Result Entry'!$B$9:$EQ$108,92,0))","v":""},"Result Date :-",null,{"$f":"'Result Entry'!$U$2","v":"2024-05-07"}]
[null,"◐",{"$f":"'Result Entry'!$CP$3","v":"ART EDU."},null,null,{"$f":"IF(OR(C575=\"\",$I552=\"NSO\"),\"\",VLOOKUP($A547,'Result Entry'!$B$9:$EQ$108,142,0))","v":"0/100"},null,{"$f":"IF(OR(C575=\"\",$I552=\"NSO\"),\"\",VLOOKUP($A547,'Result Entry'!$B$9:$EQ$108,100,0))","v":""}]
[null,null,{"$f":"'Result Entry'!$CX$3","v":"H&P. EDU."},null,null,{"$f":"IF(OR(C576=\"\",$I552=\"NSO\"),\"\",VLOOKUP($A547,'Result Entry'!$B$9:$EQ$108,146,0))","v":"0/0"},null,{"$f":"IF(OR(C576=\"\",$I552=\"NSO\"),\"\",VLOOKUP($A547,'Result Entry'!$B$9:$EQ$108,108,0))","v":""}]
[null,"◐",{"$f":"'Result Entry'!$DF$3","v":0},null,null,{"$f":"IF(OR(C577=\"\",$I552=\"NSO\"),\"\",VLOOKUP($A547,'Result Entry'!$B$9:$EQ$108,131,0))","v":0},null,{"$f":"IF(OR(C577=\"\",$I552=\"NSO\"),\"\",VLOOKUP($A547,'Result Entry'!$B$9:$EQ$108,97,0))","v":0},"Signature Of The Class Teacher"]
[null,"◐","Grading System"]
[null,"◐","Grd.","% Range",null,"Description"]
[null,"◐","A","86-100",null,"Excellent",null,null,"Signature And Seal Of Principal/H.M."]
[null,"◐","B","71-85",null,"Very Good"]
[null,"◐","C","51-70",null,"Good"]
[null,"◐","D","31-50",null,"Average"]
[null,"◐","E","0-30",null,"Needs Improvement",null,null,"Wish bright future"]
[]
[{"$f":"A547+1","v":16},"Department Of Education, Rajasthan"]
[null,{"$f":"IF(I591>0,CONCATENATE(C591,I591),0)","v":0},null,{"$f":"Master!$E$8","v":"Govt.Sr.Sec.Sch."}]
[{"$nulls":3},{"$f":"Master!$E$11","v":"P.S.-Bapini (Jodhpur)"}]
[null,null,"Report Card",{"$nulls":6},"U-DISE Code:-",null,{"$f":"Master!$E$14","v":{"v":810000000,"d":"0810000000"}}]
[{"$nulls":9},"Session:-",null,{"$f":"Master!$E$6","v":"2023-24"}]
[null,null,"Roll No.:-",{"$nulls":5},{"$f":"VLOOKUP($A586,'Result Entry'!$B$9:$F$108,5,0)","v":0}]
[null,"◐","Scholar Number",{"$nulls":3},"↠",{"$f":"VLOOKUP($A586,'Result Entry'!$B$9:$EQ$108,3,0)","v":0}]
[null,"◐","Student's Name",{"$nulls":3},"↠",{"$f":"VLOOKUP($A586,'Result Entry'!$B$9:$EQ$108,6,0)","v":0}]
[null,"◐","Father's Name",{"$nulls":3},"↠",{"$f":"VLOOKUP($A586,'Result Entry'!$B$9:$EQ$108,7,0)","v":0}]
[null,"◐","Mother's Name ",{"$nulls":3},"↠",{"$f":"VLOOKUP($A586,'Result Entry'!$B$9:$EQ$108,8,0)","v":0}]
[null,"◐","Class & Section",{"$nulls":3},"↠",{"$f":"CONCATENATE('Result Entry'!$F$4,'Result Entry'!$I$4)","v":"2(A)"}]
[null,"◐","Date Of Birth",{"$nulls":3},"↠",{"$f":"VLOOKUP($A586,'Result Entry'!$B$9:$EQ$108,9,0)","v":"00:00:00"}]
[null,"◐","Subject",null,{"$f":"'Result Entry'!$K$6","v":"First Test"},{"$f":"'Result Entry'!$L$6","v":"Second Test"},{"$f":"'Result Entry'!$M$6","v":"Third Test"},"Half Yearly","Total (Test+H.Y.)","Yearly","Grand Total",null,"Subject Grade"]
[null,"◐","Max. Marks",null,{"$f":"'Result Entry'!$K$7","v":10},{"$f":"'Result Entry'!$L$7","v":10},{"$f":"'Result Entry'!$M$7","v":10},{"$f":"'Result Entry'!$R$7","v":70},{"$f":"SUM(E599:H599)","v":100},{"$f":"'Result Entry'!$V$7","v":100},{"$f":"I599+J599","v":200},null,"A+/A/B/C/D"]
[null,"◐",{"$f":"'Result Entry'!$K$3","v":"Hindi"},null,{"$f":"IF(OR(C600=\"\",$I591=\"NSO\"),\"\",VLOOKUP($A586,'Result Entry'!$B$9:$EQ$108,10,0))","v":0},{"$f":"IF(OR(C600=\"\",$I591=\"NSO\"),\"\",VLOOKUP($A586,'Result Entry'!$B$9:$EQ$108,11,0))","v":0},{"$f":"IF(OR(C600=\"\",$I591=\"NSO\"),\"\",VLOOKUP($A586,'Result Entry'!$B$9:$EQ$108,12,0))","v":0},{"$f":"IF(OR(C600=\"\",$I591=\"NSO\"),\"\",VLOOKUP($A586,'Result Entry'!$B$9:$EQ$108,17,0))","v":0},{"$f":"SUM(E600:H600)","v":0},{"$f":"IF(OR(C600=\"\",$I591=\"NSO\"),\"\",VLOOKUP($A586,'Result Entry'!$B$9:$EQ$108,21,0))","v":0},{"$f":"SUM(I600,J600)","v":0},null,{"$f":"IF(OR(C600=\"\",$I591=\"NSO\"),\"\",VLOOKUP($A586,'Result Entry'!$B$9:$EQ$108,24,0))","v":""}]
[null,"◐",{"$f":"'Result Entry'!$Z$3","v":"Mathematics"},null,{"$f":"IF(OR(C601=\"\",$I591=\"NSO\"),\"\",VLOOKUP($A586,'Result Entry'!$B$9:$EQ$108,25,0))","v":0},{"$f":"IF(OR(C601=\"\",$I591=\"NSO\"),\"\",VLOOKUP($A586,'Result Entry'!$B$9:$EQ$108,26,0))","v":0},{"$f":"IF(OR(C601=\"\",$I591=\"NSO\"),\"\",VLOOKUP($A586,'Result Entry'!$B$9:$EQ$108,27,0))","v":0},{"$f":"IF(OR(C601=\"\",$I591=\"NSO\"),\"\",VLOOKUP($A586,'Result Entry'!$B$9:$EQ$108,32,0))","v":0},0,{"$f":"IF(OR(C601=\"\",$I591=\"NSO\"),\"\",VLOOKUP($A586,'Result Entry'!$B$9:$EQ$108,36,0))","v":0},{"$f":"SUM(I601,J601)","v":0},null,{"$f":"IF(OR(C601=\"\",$I591=\"NSO\"),\"\",VLOOKUP($A586,'Result Entry'!$B$9:$EQ$108,39,0))","v":""}]
[null,"◐",{"$f":"'Result Entry'!$BD$3","v":"Env. Study"},null,{"$f":"IF(OR(C602=\"\",$I591=\"NSO\"),\"\",VLOOKUP($A586,'Result Entry'!$B$9:$EQ$108,55,0))","v":0},{"$f":"IF(OR(C602=\"\",$I591=\"NSO\"),\"\",VLOOKUP($A586,'Result Entry'!$B$9:$EQ$108,56,0))","v":0},{"$f":"IF(OR(C602=\"\",$I591=\"NSO\"),\"\",VLOOKUP($A586,'Result Entry'!$B$9:$EQ$108,57,0))","v":0},{"$f":"IF(OR(C600=\"\",$I591=\"NSO\"),\"\",VLOOKUP($A586,'Result Entry'!$B$9:$EQ$108,62,0))","v":0},0,{"$f":"IF(OR(C601=\"\",$I591=\"NSO\"),\"\",VLOOKUP($A586,'Result Entry'!$B$9:$EQ$108,66,0))","v":0},0,null,{"$f":"IF(OR(C601=\"\",$I591=\"NSO\"),\"\",VLOOKUP($A586,'Result Entry'!$B$9:$EQ$108,69,0))","v":""}]
[null,"◐","Max. Marks",null,{"$f":"'Result Entry'!$AO$7","v":5},{"$f":"'Result Entry'!$AP$7","v":5},{"$f":"'Result Entry'!$AQ$7","v":5},{"$f":"'Result Entry'!$AV$7","v":35},50,{"$f":"'Result Entry'!$AZ$7","v":50},100,null,"A+/A/B/C/D"]
[null,"◐",{"$f":"'Result Entry'!$AO$3","v":"English"},null,{"$f":"IF(OR(C604=\"\",$I591=\"NSO\"),\"\",VLOOKUP($A586,'Result Entry'!$B$9:$EQ$108,40,0))","v":0},{"$f":"IF(OR(C604=\"\",$I591=\"NSO\"),\"\",VLOOKUP($A586,'Result Entry'!$B$9:$EQ$108,41,0))","v":0},{"$f":"IF(OR(C604=\"\",$I591=\"NSO\"),\"\",VLOOKUP($A586,'Result Entry'!$B$9:$EQ$108,42,0))","v":0},{"$f":"IF(OR(C604=\"\",$I591=\"NSO\"),\"\",VLOOKUP($A586,'Result Entry'!$B$9:$EQ$108,47,0))","v":0},0,{"$f":"IF(OR(C604=\"\",$I591=\"NSO\"),\"\",VLOOKUP($A586,'Result Entry'!$B$9:$EQ$108,51,0))","v":0},0,null,{"$f":"IF(OR(C604=\"\",$I591=\"NSO\"),\"\",VLOOKUP($A586,'Result Entry'!$B$9:$EQ$108,54,0))","v":""}]
[null,"◐","Max. Marks",null,{"$f":"'Result Entry'!$BS$7","v":10},{"$f":"'Result Entry'!$BT$7","v":10},{"$f":"'Result Entry'!$BU$7","v":10},{"$f":"'Result Entry'!$BZ$7","v":70},{"$f":"SUM(E605:H605)","v":100},{"$f":"'Result Entry'!$CD$7","v":100},200,null,"A+/A/B/C/D"]
[null,"◐",{"$f":"'Result Entry'!$BS$3","v":"Sanskrit/Urdu"},null,{"$f":"IF(OR(C606=\"\",$I591=\"NSO\"),\"\",VLOOKUP($A586,'Result Entry'!$B$9:$EQ$108,70,0))","v":0},{"$f":"IF(OR(C606=\"\",$I591=\"NSO\"),\"\",VLOOKUP($A586,'Result Entry'!$B$9:$EQ$108,71,0))","v":0},{"$f":"IF(OR(C606=\"\",$I591=\"NSO\"),\"\",VLOOKUP($A586,'Result Entry'!$B$9:$EQ$108,72,0))","v":0},{"$f":"IF(OR(C606=\"\",$I591=\"NSO\"),\"\",VLOOKUP($A586,'Result Entry'!$B$9:$EQ$108,77,0))","v":0},{"$f":"SUM(E606:H606)","v":0},{"$f":"IF(OR(C606=\"\",$I591=\"NSO\"),\"\",VLOOKUP($A586,'Result Entry'!$B$9:$EQ$108,81,0))","v":0},0,null,{"$f":"IF(OR(C606=\"\",$I591=\"NSO\"),\"\",VLOOKUP($A586,'Result Entry'!$B$9:$EQ$108,84,0))","v":""}]
[null,"◐"]
[null,"◐","Overall Result",null,null,"Total Max. Marks",null,"Total Obtained Marks",null,"Percentage","Overall Grade","Result","Position in Class"]
[null,"◐",{"$nulls":3},{"$f":"IF(OR($I591=\"\",$I591=\"NSO\"),\"\",VLOOKUP($A586,'Result Entry'!$B$9:$EQ$108,120,0))","v":900},null,{"$f":"IF(OR($I591=\"\",$I591=\"NSO\"),\"\",VLOOKUP($A586,'Result Entry'!$B$9:$EQ$108,121,0))","v":0},null,{"$f":"IF(OR($I591=\"\",$I591=\"NSO\"),\"\",VLOOKUP($A586,'Result Entry'!$B$9:$EQ$108,122,0))","v":{"v":0,"d":"0.00"}},{"$f":"IF(OR($I591=\"\",$I591=\"NSO\"),\"\",VLOOKUP($A586,'Result Entry'!$B$9:$EQ$108,123,0))","v":""},{"$f":"IF(OR($I591=\"\",$I591=\"NSO\"),\"\",VLOOKUP($A586,'Result Entry'!$B$9:$EQ$108,124,0))","v":""},{"$f":"IF(OR($I591=\"\",$I591=\"NSO\"),\"\",VLOOKUP($A586,'Result Entry'!$B$9:$EQ$108,126,0))","v":""}]
[null,"◐",{"$nulls":6},"Total Meetings :-",null,{"$f":"IF(OR($I591=\"\",$I591=\"NSO\"),\"\",VLOOKUP($A586,'Result Entry'!$B$9:$EQ$108,117,0))","v":0},"Attedance %"]
[null,"◐","Extra Subjects",{"$nulls":5},"Student's Meetings :-",null,{"$f":"IF(OR($I591=\"\",$I591=\"NSO\"),\"\",VLOOKUP($A586,'Result Entry'!$B$9:$EQ$108,118,0))","v":0},{"$f":"IF(OR($I591=\"\",$I591=\"NSO\"),\"\",VLOOKUP($A586,'Result Entry'!$B$9:$EQ$108,119,0))","v":""}]
[null,"◐","Subject",null,null,"Total Marks",null,"GRADE","Remark :-",null,{"$f":"IF(OR($I591=\"\",$I591=\"NSO\"),\"\",VLOOKUP($A586,'Result Entry'!$B$9:$EQ$108,127,0))","v":0}]
[null,"◐",{"$f":"'Result Entry'!$CH$3","v":"WORK EXP."},null,null,{"$f":"IF(OR(C613=\"\",$I591=\"NSO\"),\"\",VLOOKUP($A586,'Result Entry'!$B$9:$EQ$108,138,0))","v":"0/100"},null,{"$f":"IF(OR(C613=\"\",$I591=\"NSO\"),\"\",VLOOKUP($A586,'Result Entry'!$B$9:$EQ$108,92,0))","v":""},"Result Date :-",null,{"$f":"'Result Entry'!$U$2","v":"2024-05-07"}]
[null,"◐",{"$f":"'Result Entry'!$CP$3","v":"ART EDU."},null,null,{"$f":"IF(OR(C614=\"\",$I591=\"NSO\"),\"\",VLOOKUP($A586,'Result Entry'!$B$9:$EQ$108,142,0))","v":"0/100"},null,{"$f":"IF(OR(C614=\"\",$I591=\"NSO\"),\"\",VLOOKUP($A586,'Result Entry'!$B$9:$EQ$108,100,0))","v":""}]
[null,null,{"$f":"'Result Entry'!$CX$3","v":"H&P. EDU."},null,null,{"$f":"IF(OR(C615=\"\",$I591=\"NSO\"),\"\",VLOOKUP($A586,'Result Entry'!$B$9:$EQ$108,146,0))","v":"0/0"},null,{"$f":"IF(OR(C615=\"\",$I591=\"NSO\"),\"\",VLOOKUP($A586,'Result Entry'!$B$9:$EQ$108,108,0))","v":""}]
[null,"◐",{"$f":"'Result Entry'!$DF$3","v":0},null,null,{"$f":"IF(OR(C616=\"\",$I591=\"NSO\"),\"\",VLOOKUP($A586,'Result Entry'!$B$9:$EQ$108,131,0))","v":0},null,{"$f":"IF(OR(C616=\"\",$I591=\"NSO\"),\"\",VLOOKUP($A586,'Result Entry'!$B$9:$EQ$108,97,0))","v":0},"Signature Of The Class Teacher"]
[null,"◐","Grading System"]
[null,"◐","Grd.","% Range",null,"Description"]
[null,"◐","A","86-100",null,"Excellent",null,null,"Signature And Seal Of Principal/H.M."]
[null,"◐","B","71-85",null,"Very Good"]
[null,"◐","C","51-70",null,"Good"]
[null,"◐","D","31-50",null,"Average"]
[null,"◐","E","0-30",null,"Needs Improvement",null,null,"Wish bright future"]
[]
[{"$f":"A586+1","v":17},"Department Of Education, Rajasthan"]
[null,{"$f":"IF(I630>0,CONCATENATE(C630,I630),0)","v":0},null,{"$f":"Master!$E$8","v":"Govt.Sr.Sec.Sch."}]
[{"$nulls":3},{"$f":"Master!$E$11","v":"P.S.-Bapini (Jodhpur)"}]
[null,null,"Report Card",{"$nulls":6},"U-DISE Code:-",null,{"$f":"Master!$E$14","v":{"v":810000000,"d":"0810000000"}}]
[{"$nulls":9},"Session:-",null,{"$f":"Master!$E$6","v":"2023-24"}]
[null,null,"Roll No.:-",{"$nulls":5},{"$f":"VLOOKUP($A625,'Result Entry'!$B$9:$F$108,5,0)","v":0}]
[null,"◐","Scholar Number",{"$nulls":3},"↠",{"$f":"VLOOKUP($A625,'Result Entry'!$B$9:$EQ$108,3,0)","v":0}]
[null,"◐","Student's Name",{"$nulls":3},"↠",{"$f":"VLOOKUP($A625,'Result Entry'!$B$9:$EQ$108,6,0)","v":0}]
[null,"◐","Father's Name",{"$nulls":3},"↠",{"$f":"VLOOKUP($A625,'Result Entry'!$B$9:$EQ$108,7,0)","v":0}]
[null,"◐","Mother's Name ",{"$nulls":3},"↠",{"$f":"VLOOKUP($A625,'Result Entry'!$B$9:$EQ$108,8,0)","v":0}]
[null,"◐","Class & Section",{"$nulls":3},"↠",{"$f":"CONCATENATE('Result Entry'!$F$4,'Result Entry'!$I$4)","v":"2(A)"}]
[null,"◐","Date Of Birth",{"$nulls":3},"↠",{"$f":"VLOOKUP($A625,'Result Entry'!$B$9:$EQ$108,9,0)","v":"00:00:00"}]
[null,"◐","Subject",null,{"$f":"'Result Entry'!$K$6","v":"First Test"},{"$f":"'Result Entry'!$L$6","v":"Second Test"},{"$f":"'Result Entry'!$M$6","v":"Third Test"},"Half Yearly","Total (Test+H.Y.)","Yearly","Grand Total",null,"Subject Grade"]
[null,"◐","Max. Marks",null,{"$f":"'Result Entry'!$K$7","v":10},{"$f":"'Result Entry'!$L$7","v":10},{"$f":"'Result Entry'!$M$7","v":10},{"$f":"'Result Entry'!$R$7","v":70},{"$f":"SUM(E638:H638)","v":100},{"$f":"'Result Entry'!$V$7","v":100},{"$f":"I638+J638","v":200},null,"A+/A/B/C/D"]
[null,"◐",{"$f":"'Result Entry'!$K$3","v":"Hindi"},null,{"$f":"IF(OR(C639=\"\",$I630=\"NSO\"),\"\",VLOOKUP($A625,'Result Entry'!$B$9:$EQ$108,10,0))","v":0},{"$f":"IF(OR(C639=\"\",$I630=\"NSO\"),\"\",VLOOKUP($A625,'Result Entry'!$B$9:$EQ$108,11,0))","v":0},{"$f":"IF(OR(C639=\"\",$I630=\"NSO\"),\"\",VLOOKUP($A625,'Result Entry'!$B$9:$EQ$108,12,0))","v":0},{"$f":"IF(OR(C639=\"\",$I630=\"NSO\"),\"\",VLOOKUP($A625,'Result Entry'!$B$9:$EQ$108,17,0))","v":0},{"$f":"SUM(E639:H639)","v":0},{"$f":"IF(OR(C639=\"\",$I630=\"NSO\"),\"\",VLOOKUP($A625,'Result Entry'!$B$9:$EQ$108,21,0))","v":0},{"$f":"SUM(I639,J639)","v":0},null,{"$f":"IF(OR(C639=\"\",$I630=\"NSO\"),\"\",VLOOKUP($A625,'Result Entry'!$B$9:$EQ$108,24,0))","v":""}]
[null,"◐",{"$f":"'Result Entry'!$Z$3","v":"Mathematics"},null,{"$f":"IF(OR(C640=\"\",$I630=\"NSO\"),\"\",VLOOKUP($A625,'Result Entry'!$B$9:$EQ$108,25,0))","v":0},{"$f":"IF(OR(C640=\"\",$I630=\"NSO\"),\"\",VLOOKUP($A625,'Result Entry'!$B$9:$EQ$108,26,0))","v":0},{"$f":"IF(OR(C640=\"\",$I630=\"NSO\"),\"\",VLOOKUP($A625,'Result Entry'!$B$9:$EQ$108,27,0))","v":0},{"$f":"IF(OR(C640=\"\",$I630=\"NSO\"),\"\",VLOOKUP($A625,'Result Entry'!$B$9:$EQ$108,32,0))","v":0},0,{"$f":"IF(OR(C640=\"\",$I630=\"NSO\"),\"\",VLOOKUP($A625,'Result Entry'!$B$9:$EQ$108,36,0))","v":0},{"$f":"SUM(I640,J640)","v":0},null,{"$f":"IF(OR(C640=\"\",$I630=\"NSO\"),\"\",VLOOKUP($A625,'Result Entry'!$B$9:$EQ$108,39,0))","v":""}]
[null,"◐",{"$f":"'Result Entry'!$BD$3","v":"Env. Study"},null,{"$f":"IF(OR(C641=\"\",$I630=\"NSO\"),\"\",VLOOKUP($A625,'Result Entry'!$B$9:$EQ$108,55,0))","v":0},{"$f":"IF(OR(C641=\"\",$I630=\"NSO\"),\"\",VLOOKUP($A625,'Result Entry'!$B$9:$EQ$108,56,0))","v":0},{"$f":"IF(OR(C641=\"\",$I630=\"NSO\"),\"\",VLOOKUP($A625,'Result Entry'!$B$9:$EQ$108,57,0))","v":0},{"$f":"IF(OR(C639=\"\",$I630=\"NSO\"),\"\",VLOOKUP($A625,'Result Entry'!$B$9:$EQ$108,62,0))","v":0},0,{"$f":"IF(OR(C640=\"\",$I630=\"NSO\"),\"\",VLOOKUP($A625,'Result Entry'!$B$9:$EQ$108,66,0))","v":0},0,null,{"$f":"IF(OR(C640=\"\",$I630=\"NSO\"),\"\",VLOOKUP($A625,'Result Entry'!$B$9:$EQ$108,69,0))","v":""}]
[null,"◐","Max. Marks",null,{"$f":"'Result Entry'!$AO$7","v":5},{"$f":"'Result Entry'!$AP$7","v":5},{"$f":"'Result Entry'!$AQ$7","v":5},{"$f":"'Result Entry'!$AV$7","v":35},50,{"$f":"'Result Entry'!$AZ$7","v":50},100,null,"A+/A/B/C/D"]
[null,"◐",{"$f":"'Result Entry'!$AO$3","v":"English"},null,{"$f":"IF(OR(C643=\"\",$I630=\"NSO\"),\"\",VLOOKUP($A625,'Result Entry'!$B$9:$EQ$108,40,0))","v":0},{"$f":"IF(OR(C643=\"\",$I630=\"NSO\"),\"\",VLOOKUP($A625,'Result Entry'!$B$9:$EQ$108,41,0))","v":0},{"$f":"IF(OR(C643=\"\",$I630=\"NSO\"),\"\",VLOOKUP($A625,'Result Entry'!$B$9:$EQ$108,42,0))","v":0},{"$f":"IF(OR(C643=\"\",$I630=\"NSO\"),\"\",VLOOKUP($A625,'Result Entry'!$B$9:$EQ$108,47,0))","v":0},0,{"$f":"IF(OR(C643=\"\",$I630=\"NSO\"),\"\",VLOOKUP($A625,'Result Entry'!$B$9:$EQ$108,51,0))","v":0},0,null,{"$f":"IF(OR(C643=\"\",$I630=\"NSO\"),\"\",VLOOKUP($A625,'Result Entry'!$B$9:$EQ$108,54,0))","v":""}]
[null,"◐","Max. Marks",null,{"$f":"'Result Entry'!$BS$7","v":10},{"$f":"'Result Entry'!$BT$7","v":10},{"$f":"'Result Entry'!$BU$7","v":10},{"$f":"'Result Entry'!$BZ$7","v":70},{"$f":"SUM(E644:H644)","v":100},{"$f":"'Result Entry'!$CD$7","v":100},200,null,"A+/A/B/C/D"]
[null,"◐",{"$f":"'Result Entry'!$BS$3","v":"Sanskrit/Urdu"},null,{"$f":"IF(OR(C645=\"\",$I630=\"NSO\"),\"\",VLOOKUP($A625,'Result Entry'!$B$9:$EQ$108,70,0))","v":0},{"$f":"IF(OR(C645=\"\",$I630=\"NSO\"),\"\",VLOOKUP($A625,'Result Entry'!$B$9:$EQ$108,71,0))","v":0},{"$f":"IF(OR(C645=\"\",$I630=\"NSO\"),\"\",VLOOKUP($A625,'Result Entry'!$B$9:$EQ$108,72,0))","v":0},{"$f":"IF(OR(C645=\"\",$I630=\"NSO\"),\"\",VLOOKUP($A625,'Result Entry'!$B$9:$EQ$108,77,0))","v":0},{"$f":"SUM(E645:H645)","v":0},{"$f":"IF(OR(C645=\"\",$I630=\"NSO\"),\"\",VLOOKUP($A625,'Result Entry'!$B$9:$EQ$108,81,0))","v":0},0,null,{"$f":"IF(OR(C645=\"\",$I630=\"NSO\"),\"\",VLOOKUP($A625,'Result Entry'!$B$9:$EQ$108,84,0))","v":""}]
[null,"◐"]
[null,"◐","Overall Result",null,null,"Total Max. Marks",null,"Total Obtained Marks",null,"Percentage","Overall Grade","Result","Position in Class"]
[null,"◐",{"$nulls":3},{"$f":"IF(OR($I630=\"\",$I630=\"NSO\"),\"\",VLOOKUP($A625,'Result Entry'!$B$9:$EQ$108,120,0))","v":900},null,{"$f":"IF(OR($I630=\"\",$I630=\"NSO\"),\"\",VLOOKUP($A625,'Result Entry'!$B$9:$EQ$108,121,0))","v":0},null,{"$f":"IF(OR($I630=\"\",$I630=\"NSO\"),\"\",VLOOKUP($A625,'Result Entry'!$B$9:$EQ$108,122,0))","v":{"v":0,"d":"0.00"}},{"$f":"IF(OR($I630=\"\",$I630=\"NSO\"),\"\",VLOOKUP($A625,'Result Entry'!$B$9:$EQ$108,123,0))","v":""},{"$f":"IF(OR($I630=\"\",$I630=\"NSO\"),\"\",VLOOKUP($A625,'Result Entry'!$B$9:$EQ$108,124,0))","v":""},{"$f":"IF(OR($I630=\"\",$I630=\"NSO\"),\"\",VLOOKUP($A625,'Result Entry'!$B$9:$EQ$108,126,0))","v":""}]
[null,"◐",{"$nulls":6},"Total Meetings :-",null,{"$f":"IF(OR($I630=\"\",$I630=\"NSO\"),\"\",VLOOKUP($A625,'Result Entry'!$B$9:$EQ$108,117,0))","v":0},"Attedance %"]
[null,"◐","Extra Subjects",{"$nulls":5},"Student's Meetings :-",null,{"$f":"IF(OR($I630=\"\",$I630=\"NSO\"),\"\",VLOOKUP($A625,'Result Entry'!$B$9:$EQ$108,118,0))","v":0},{"$f":"IF(OR($I630=\"\",$I630=\"NSO\"),\"\",VLOOKUP($A625,'Result Entry'!$B$9:$EQ$108,119,0))","v":""}]
[null,"◐","Subject",null,null,"Total Marks",null,"GRADE","Remark :-",null,{"$f":"IF(OR($I630=\"\",$I630=\"NSO\"),\"\",VLOOKUP($A625,'Result Entry'!$B$9:$EQ$108,127,0))","v":0}]
[null,"◐",{"$f":"'Result Entry'!$CH$3","v":"WORK EXP."},null,null,{"$f":"IF(OR(C652=\"\",$I630=\"NSO\"),\"\",VLOOKUP($A625,'Result Entry'!$B$9:$EQ$108,138,0))","v":"0/100"},null,{"$f":"IF(OR(C652=\"\",$I630=\"NSO\"),\"\",VLOOKUP($A625,'Result Entry'!$B$9:$EQ$108,92,0))","v":""},"Result Date :-",null,{"$f":"'Result Entry'!$U$2","v":"2024-05-07"}]
[null,"◐",{"$f":"'Result Entry'!$CP$3","v":"ART EDU."},null,null,{"$f":"IF(OR(C653=\"\",$I630=\"NSO\"),\"\",VLOOKUP($A625,'Result Entry'!$B$9:$EQ$108,142,0))","v":"0/100"},null,{"$f":"IF(OR(C653=\"\",$I630=\"NSO\"),\"\",VLOOKUP($A625,'Result Entry'!$B$9:$EQ$108,100,0))","v":""}]
[null,null,{"$f":"'Result Entry'!$CX$3","v":"H&P. EDU."},null,null,{"$f":"IF(OR(C654=\"\",$I630=\"NSO\"),\"\",VLOOKUP($A625,'Result Entry'!$B$9:$EQ$108,146,0))","v":"0/0"},null,{"$f":"IF(OR(C654=\"\",$I630=\"NSO\"),\"\",VLOOKUP($A625,'Result Entry'!$B$9:$EQ$108,108,0))","v":""}]
[null,"◐",{"$f":"'Result Entry'!$DF$3","v":0},null,null,{"$f":"IF(OR(C655=\"\",$I630=\"NSO\"),\"\",VLOOKUP($A625,'Result Entry'!$B$9:$EQ$108,131,0))","v":0},null,{"$f":"IF(OR(C655=\"\",$I630=\"NSO\"),\"\",VLOOKUP($A625,'Result Entry'!$B$9:$EQ$108,97,0))","v":0},"Signature Of The Class Teacher"]
[null,"◐","Grading System"]
[null,"◐","Grd.","% Range",null,"Description"]
[null,"◐","A","86-100",null,"Excellent",null,null,"Signature And Seal Of Principal/H.M."]
[null,"◐","B","71-85",null,"Very Good"]
[null,"◐","C","51-70",null,"Good"]
[null,"◐","D","31-50",null,"Average"]
[null,"◐","E","0-30",null,"Needs Improvement",null,null,"Wish bright future"]
[]
[{"$f":"A625+1","v":18},"Department Of Education, Rajasthan"]
[null,{"$f":"IF(I669>0,CONCATENATE(C669,I669),0)","v":0},null,{"$f":"Master!$E$8","v":"Govt.Sr.Sec.Sch."}]
[{"$nulls":3},{"$f":"Master!$E$11","v":"P.S.-Bapini (Jodhpur)"}]
[null,null,"Report Card",{"$nulls":6},"U-DISE Code:-",null,{"$f":"Master!$E$14","v":{"v":810000000,"d":"0810000000"}}]
[{"$nulls":9},"Session:-",null,{"$f":"Master!$E$6","v":"2023-24"}]
[null,null,"Roll No.:-",{"$nulls":5},{"$f":"VLOOKUP($A664,'Result Entry'!$B$9:$F$108,5,0)","v":0}]
[null,"◐","Scholar Number",{"$nulls":3},"↠",{"$f":"VLOOKUP($A664,'Result Entry'!$B$9:$EQ$108,3,0)","v":0}]
[null,"◐","Student's Name",{"$nulls":3},"↠",{"$f":"VLOOKUP($A664,'Result Entry'!$B$9:$EQ$108,6,0)","v":0}]
[null,"◐","Father's Name",{"$nulls":3},"↠",{"$f":"VLOOKUP($A664,'Result Entry'!$B$9:$EQ$108,7,0)","v":0}]
[null,"◐","Mother's Name ",{"$nulls":3},"↠",{"$f":"VLOOKUP($A664,'Result Entry'!$B$9:$EQ$108,8,0)","v":0}]
[null,"◐","Class & Section",{"$nulls":3},"↠",{"$f":"CONCATENATE('Result Entry'!$F$4,'Result Entry'!$I$4)","v":"2(A)"}]
[null,"◐","Date Of Birth",{"$nulls":3},"↠",{"$f":"VLOOKUP($A664,'Result Entry'!$B$9:$EQ$108,9,0)","v":"00:00:00"}]
[null,"◐","Subject",null,{"$f":"'Result Entry'!$K$6","v":"First Test"},{"$f":"'Result Entry'!$L$6","v":"Second Test"},{"$f":"'Result Entry'!$M$6","v":"Third Test"},"Half Yearly","Total (Test+H.Y.)","Yearly","Grand Total",null,"Subject Grade"]
[null,"◐","Max. Marks",null,{"$f":"'Result Entry'!$K$7","v":10},{"$f":"'Result Entry'!$L$7","v":10},{"$f":"'Result Entry'!$M$7","v":10},{"$f":"'Result Entry'!$R$7","v":70},{"$f":"SUM(E677:H677)","v":100},{"$f":"'Result Entry'!$V$7","v":100},{"$f":"I677+J677","v":200},null,"A+/A/B/C/D"]
[null,"◐",{"$f":"'Result Entry'!$K$3","v":"Hindi"},null,{"$f":"IF(OR(C678=\"\",$I669=\"NSO\"),\"\",VLOOKUP($A664,'Result Entry'!$B$9:$EQ$108,10,0))","v":0},{"$f":"IF(OR(C678=\"\",$I669=\"NSO\"),\"\",VLOOKUP($A664,'Result Entry'!$B$9:$EQ$108,11,0))","v":0},{"$f":"IF(OR(C678=\"\",$I669=\"NSO\"),\"\",VLOOKUP($A664,'Result Entry'!$B$9:$EQ$108,12,0))","v":0},{"$f":"IF(OR(C678=\"\",$I669=\"NSO\"),\"\",VLOOKUP($A664,'Result Entry'!$B$9:$EQ$108,17,0))","v":0},{"$f":"SUM(E678:H678)","v":0},{"$f":"IF(OR(C678=\"\",$I669=\"NSO\"),\"\",VLOOKUP($A664,'Result Entry'!$B$9:$EQ$108,21,0))","v":0},{"$f":"SUM(I678,J678)","v":0},null,{"$f":"IF(OR(C678=\"\",$I669=\"NSO\"),\"\",VLOOKUP($A664,'Result Entry'!$B$9:$EQ$108,24,0))","v":""}]
[null,"◐",{"$f":"'Result Entry'!$Z$3","v":"Mathematics"},null,{"$f":"IF(OR(C679=\"\",$I669=\"NSO\"),\"\",VLOOKUP($A664,'Result Entry'!$B$9:$EQ$108,25,0))","v":0},{"$f":"IF(OR(C679=\"\",$I669=\"NSO\"),\"\",VLOOKUP($A664,'Result Entry'!$B$9:$EQ$108,26,0))","v":0},{"$f":"IF(OR(C679=\"\",$I669=\"NSO\"),\"\",VLOOKUP($A664,'Result Entry'!$B$9:$EQ$108,27,0))","v":0},{"$f":"IF(OR(C679=\"\",$I669=\"NSO\"),\"\",VLOOKUP($A664,'Result Entry'!$B$9:$EQ$108,32,0))","v":0},0,{"$f":"IF(OR(C679=\"\",$I669=\"NSO\"),\"\",VLOOKUP($A664,'Result Entry'!$B$9:$EQ$108,36,0))","v":0},{"$f":"SUM(I679,J679)","v":0},null,{"$f":"IF(OR(C679=\"\",$I669=\"NSO\"),\"\",VLOOKUP($A664,'Result Entry'!$B$9:$EQ$108,39,0))","v":""}]
[null,"◐",{"$f":"'Result Entry'!$BD$3","v":"Env. Study"},null,{"$f":"IF(OR(C680=\"\",$I669=\"NSO\"),\"\",VLOOKUP($A664,'Result Entry'!$B$9:$EQ$108,55,0))","v":0},{"$f":"IF(OR(C680=\"\",$I669=\"NSO\"),\"\",VLOOKUP($A664,'Result Entry'!$B$9:$EQ$108,56,0))","v":0},{"$f":"IF(OR(C680=\"\",$I669=\"NSO\"),\"\",VLOOKUP($A664,'Result Entry'!$B$9:$EQ$108,57,0))","v":0},{"$f":"IF(OR(C678=\"\",$I669=\"NSO\"),\"\",VLOOKUP($A664,'Result Entry'!$B$9:$EQ$108,62,0))","v":0},0,{"$f":"IF(OR(C679=\"\",$I669=\"NSO\"),\"\",VLOOKUP($A664,'Result Entry'!$B$9:$EQ$108,66,0))","v":0},0,null,{"$f":"IF(OR(C679=\"\",$I669=\"NSO\"),\"\",VLOOKUP($A664,'Result Entry'!$B$9:$EQ$108,69,0))","v":""}]
[null,"◐","Max. Marks",null,{"$f":"'Result Entry'!$AO$7","v":5},{"$f":"'Result Entry'!$AP$7","v":5},{"$f":"'Result Entry'!$AQ$7","v":5},{"$f":"'Result Entry'!$AV$7","v":35},50,{"$f":"'Result Entry'!$AZ$7","v":50},100,null,"A+/A/B/C/D"]
[null,"◐",{"$f":"'Result Entry'!$AO$3","v":"English"},null,{"$f":"IF(OR(C682=\"\",$I669=\"NSO\"),\"\",VLOOKUP($A664,'Result Entry'!$B$9:$EQ$108,40,0))","v":0},{"$f":"IF(OR(C682=\"\",$I669=\"NSO\"),\"\",VLOOKUP($A664,'Result Entry'!$B$9:$EQ$108,41,0))","v":0},{"$f":"IF(OR(C682=\"\",$I669=\"NSO\"),\"\",VLOOKUP($A664,'Result Entry'!$B$9:$EQ$108,42,0))","v":0},{"$f":"IF(OR(C682=\"\",$I669=\"NSO\"),\"\",VLOOKUP($A664,'Result Entry'!$B$9:$EQ$108,47,0))","v":0},0,{"$f":"IF(OR(C682=\"\",$I669=\"NSO\"),\"\",VLOOKUP($A664,'Result Entry'!$B$9:$EQ$108,51,0))","v":0},0,null,{"$f":"IF(OR(C682=\"\",$I669=\"NSO\"),\"\",VLOOKUP($A664,'Result Entry'!$B$9:$EQ$108,54,0))","v":""}]
[null,"◐","Max. Marks",null,{"$f":"'Result Entry'!$BS$7","v":10},{"$f":"'Result Entry'!$BT$7","v":10},{"$f":"'Result Entry'!$BU$7","v":10},{"$f":"'Result Entry'!$BZ$7","v":70},{"$f":"SUM(E683:H683)","v":100},{"$f":"'Result Entry'!$CD$7","v":100},200,null,"A+/A/B/C/D"]
[null,"◐",{"$f":"'Result Entry'!$BS$3","v":"Sanskrit/Urdu"},null,{"$f":"IF(OR(C684=\"\",$I669=\"NSO\"),\"\",VLOOKUP($A664,'Result Entry'!$B$9:$EQ$108,70,0))","v":0},{"$f":"IF(OR(C684=\"\",$I669=\"NSO\"),\"\",VLOOKUP($A664,'Result Entry'!$B$9:$EQ$108,71,0))","v":0},{"$f":"IF(OR(C684=\"\",$I669=\"NSO\"),\"\",VLOOKUP($A664,'Result Entry'!$B$9:$EQ$108,72,0))","v":0},{"$f":"IF(OR(C684=\"\",$I669=\"NSO\"),\"\",VLOOKUP($A664,'Result Entry'!$B$9:$EQ$108,77,0))","v":0},{"$f":"SUM(E684:H684)","v":0},{"$f":"IF(OR(C684=\"\",$I669=\"NSO\"),\"\",VLOOKUP($A664,'Result Entry'!$B$9:$EQ$108,81,0))","v":0},0,null,{"$f":"IF(OR(C684=\"\",$I669=\"NSO\"),\"\",VLOOKUP($A664,'Result Entry'!$B$9:$EQ$108,84,0))","v":""}]
[null,"◐"]
[null,"◐","Overall Result",null,null,"Total Max. Marks",null,"Total Obtained Marks",null,"Percentage","Overall Grade","Result","Position in Class"]
[null,"◐",{"$nulls":3},{"$f":"IF(OR($I669=\"\",$I669=\"NSO\"),\"\",VLOOKUP($A664,'Result Entry'!$B$9:$EQ$108,120,0))","v":900},null,{"$f":"IF(OR($I669=\"\",$I669=\"NSO\"),\"\",VLOOKUP($A664,'Result Entry'!$B$9:$EQ$108,121,0))","v":0},null,{"$f":"IF(OR($I669=\"\",$I669=\"NSO\"),\"\",VLOOKUP($A664,'Result Entry'!$B$9:$EQ$108,122,0))","v":{"v":0,"d":"0.00"}},{"$f":"IF(OR($I669=\"\",$I669=\"NSO\"),\"\",VLOOKUP($A664,'Result Entry'!$B$9:$EQ$108,123,0))","v":""},{"$f":"IF(OR($I669=\"\",$I669=\"NSO\"),\"\",VLOOKUP($A664,'Result Entry'!$B$9:$EQ$108,124,0))","v":""},{"$f":"IF(OR($I669=\"\",$I669=\"NSO\"),\"\",VLOOKUP($A664,'Result Entry'!$B$9:$EQ$108,126,0))","v":""}]
[null,"◐",{"$nulls":6},"Total Meetings :-",null,{"$f":"IF(OR($I669=\"\",$I669=\"NSO\"),\"\",VLOOKUP($A664,'Result Entry'!$B$9:$EQ$108,117,0))","v":0},"Attedance %"]
[null,"◐","Extra Subjects",{"$nulls":5},"Student's Meetings :-",null,{"$f":"IF(OR($I669=\"\",$I669=\"NSO\"),\"\",VLOOKUP($A664,'Result Entry'!$B$9:$EQ$108,118,0))","v":0},{"$f":"IF(OR($I669=\"\",$I669=\"NSO\"),\"\",VLOOKUP($A664,'Result Entry'!$B$9:$EQ$108,119,0))","v":""}]
[null,"◐","Subject",null,null,"Total Marks",null,"GRADE","Remark :-",null,{"$f":"IF(OR($I669=\"\",$I669=\"NSO\"),\"\",VLOOKUP($A664,'Result Entry'!$B$9:$EQ$108,127,0))","v":0}]
[null,"◐",{"$f":"'Result Entry'!$CH$3","v":"WORK EXP."},null,null,{"$f":"IF(OR(C691=\"\",$I669=\"NSO\"),\"\",VLOOKUP($A664,'Result Entry'!$B$9:$EQ$108,138,0))","v":"0/100"},null,{"$f":"IF(OR(C691=\"\",$I669=\"NSO\"),\"\",VLOOKUP($A664,'Result Entry'!$B$9:$EQ$108,92,0))","v":""},"Result Date :-",null,{"$f":"'Result Entry'!$U$2","v":"2024-05-07"}]
[null,"◐",{"$f":"'Result Entry'!$CP$3","v":"ART EDU."},null,null,{"$f":"IF(OR(C692=\"\",$I669=\"NSO\"),\"\",VLOOKUP($A664,'Result Entry'!$B$9:$EQ$108,142,0))","v":"0/100"},null,{"$f":"IF(OR(C692=\"\",$I669=\"NSO\"),\"\",VLOOKUP($A664,'Result Entry'!$B$9:$EQ$108,100,0))","v":""}]
[null,null,{"$f":"'Result Entry'!$CX$3","v":"H&P. EDU."},null,null,{"$f":"IF(OR(C693=\"\",$I669=\"NSO\"),\"\",VLOOKUP($A664,'Result Entry'!$B$9:$EQ$108,146,0))","v":"0/0"},null,{"$f":"IF(OR(C693=\"\",$I669=\"NSO\"),\"\",VLOOKUP($A664,'Result Entry'!$B$9:$EQ$108,108,0))","v":""}]
[null,"◐",{"$f":"'Result Entry'!$DF$3","v":0},null,null,{"$f":"IF(OR(C694=\"\",$I669=\"NSO\"),\"\",VLOOKUP($A664,'Result Entry'!$B$9:$EQ$108,131,0))","v":0},null,{"$f":"IF(OR(C694=\"\",$I669=\"NSO\"),\"\",VLOOKUP($A664,'Result Entry'!$B$9:$EQ$108,97,0))","v":0},"Signature Of The Class Teacher"]
[null,"◐","Grading System"]
[null,"◐","Grd.","% Range",null,"Description"]
[null,"◐","A","86-100",null,"Excellent",null,null,"Signature And Seal Of Principal/H.M."]
[null,"◐","B","71-85",null,"Very Good"]
[null,"◐","C","51-70",null,"Good"]
[null,"◐","D","31-50",null,"Average"]
[null,"◐","E","0-30",null,"Needs Improvement",null,null,"Wish bright future"]
[]
[{"$f":"A664+1","v":19},"Department Of Education, Rajasthan"]
[null,{"$f":"IF(I708>0,CONCATENATE(C708,I708),0)","v":0},null,{"$f":"Master!$E$8","v":"Govt.Sr.Sec.Sch."}]
[{"$nulls":3},{"$f":"Master!$E$11","v":"P.S.-Bapini (Jodhpur)"}]
[null,null,"Report Card",{"$nulls":6},"U-DISE Code:-",null,{"$f":"Master!$E$14","v":{"v":810000000,"d":"0810000000"}}]
[{"$nulls":9},"Session:-",null,{"$f":"Master!$E$6","v":"2023-24"}]
[null,null,"Roll No.:-",{"$nulls":5},{"$f":"VLOOKUP($A703,'Result Entry'!$B$9:$F$108,5,0)","v":0}]
[null,"◐","Scholar Number",{"$nulls":3},"↠",{"$f":"VLOOKUP($A703,'Result Entry'!$B$9:$EQ$108,3,0)","v":0}]
[null,"◐","Student's Name",{"$nulls":3},"↠",{"$f":"VLOOKUP($A703,'Result Entry'!$B$9:$EQ$108,6,0)","v":0}]
[null,"◐","Father's Name",{"$nulls":3},"↠",{"$f":"VLOOKUP($A703,'Result Entry'!$B$9:$EQ$108,7,0)","v":0}]
[null,"◐","Mother's Name ",{"$nulls":3},"↠",{"$f":"VLOOKUP($A703,'Result Entry'!$B$9:$EQ$108,8,0)","v":0}]
[null,"◐","Class & Section",{"$nulls":3},"↠",{"$f":"CONCATENATE('Result Entry'!$F$4,'Result Entry'!$I$4)","v":"2(A)"}]
[null,"◐","Date Of Birth",{"$nulls":3},"↠",{"$f":"VLOOKUP($A703,'Result Entry'!$B$9:$EQ$108,9,0)","v":"00:00:00"}]
[null,"◐","Subject",null,{"$f":"'Result Entry'!$K$6","v":"First Test"},{"$f":"'Result Entry'!$L$6","v":"Second Test"},{"$f":"'Result Entry'!$M$6","v":"Third Test"},"Half Yearly","Total (Test+H.Y.)","Yearly","Grand Total",null,"Subject Grade"]
[null,"◐","Max. Marks",null,{"$f":"'Result Entry'!$K$7","v":10},{"$f":"'Result Entry'!$L$7","v":10},{"$f":"'Result Entry'!$M$7","v":10},{"$f":"'Result Entry'!$R$7","v":70},{"$f":"SUM(E716:H716)","v":100},{"$f":"'Result Entry'!$V$7","v":100},{"$f":"I716+J716","v":200},null,"A+/A/B/C/D"]
[null,"◐",{"$f":"'Result Entry'!$K$3","v":"Hindi"},null,{"$f":"IF(OR(C717=\"\",$I708=\"NSO\"),\"\",VLOOKUP($A703,'Result Entry'!$B$9:$EQ$108,10,0))","v":0},{"$f":"IF(OR(C717=\"\",$I708=\"NSO\"),\"\",VLOOKUP($A703,'Result Entry'!$B$9:$EQ$108,11,0))","v":0},{"$f":"IF(OR(C717=\"\",$I708=\"NSO\"),\"\",VLOOKUP($A703,'Result Entry'!$B$9:$EQ$108,12,0))","v":0},{"$f":"IF(OR(C717=\"\",$I708=\"NSO\"),\"\",VLOOKUP($A703,'Result Entry'!$B$9:$EQ$108,17,0))","v":0},{"$f":"SUM(E717:H717)","v":0},{"$f":"IF(OR(C717=\"\",$I708=\"NSO\"),\"\",VLOOKUP($A703,'Result Entry'!$B$9:$EQ$108,21,0))","v":0},{"$f":"SUM(I717,J717)","v":0},null,{"$f":"IF(OR(C717=\"\",$I708=\"NSO\"),\"\",VLOOKUP($A703,'Result Entry'!$B$9:$EQ$108,24,0))","v":""}]
[null,"◐",{"$f":"'Result Entry'!$Z$3","v":"Mathematics"},null,{"$f":"IF(OR(C718=\"\",$I708=\"NSO\"),\"\",VLOOKUP($A703,'Result Entry'!$B$9:$EQ$108,25,0))","v":0},{"$f":"IF(OR(C718=\"\",$I708=\"NSO\"),\"\",VLOOKUP($A703,'Result Entry'!$B$9:$EQ$108,26,0))","v":0},{"$f":"IF(OR(C718=\"\",$I708=\"NSO\"),\"\",VLOOKUP($A703,'Result Entry'!$B$9:$EQ$108,27,0))","v":0},{"$f":"IF(OR(C718=\"\",$I708=\"NSO\"),\"\",VLOOKUP($A703,'Result Entry'!$B$9:$EQ$108,32,0))","v":0},0,{"$f":"IF(OR(C718=\"\",$I708=\"NSO\"),\"\",VLOOKUP($A703,'Result Entry'!$B$9:$EQ$108,36,0))","v":0},{"$f":"SUM(I718,J718)","v":0},null,{"$f":"IF(OR(C718=\"\",$I708=\"NSO\"),\"\",VLOOKUP($A703,'Result Entry'!$B$9:$EQ$108,39,0))","v":""}]
[null,"◐",{"$f":"'Result Entry'!$BD$3","v":"Env. Study"},null,{"$f":"IF(OR(C719=\"\",$I708=\"NSO\"),\"\",VLOOKUP($A703,'Result Entry'!$B$9:$EQ$108,55,0))","v":0},{"$f":"IF(OR(C719=\"\",$I708=\"NSO\"),\"\",VLOOKUP($A703,'Result Entry'!$B$9:$EQ$108,56,0))","v":0},{"$f":"IF(OR(C719=\"\",$I708=\"NSO\"),\"\",VLOOKUP($A703,'Result Entry'!$B$9:$EQ$108,57,0))","v":0},{"$f":"IF(OR(C717=\"\",$I708=\"NSO\"),\"\",VLOOKUP($A703,'Result Entry'!$B$9:$EQ$108,62,0))","v":0},0,{"$f":"IF(OR(C718=\"\",$I708=\"NSO\"),\"\",VLOOKUP($A703,'Result Entry'!$B$9:$EQ$108,66,0))","v":0},0,null,{"$f":"IF(OR(C718=\"\",$I708=\"NSO\"),\"\",VLOOKUP($A703,'Result Entry'!$B$9:$EQ$108,69,0))","v":""}]
[null,"◐","Max. Marks",null,{"$f":"'Result Entry'!$AO$7","v":5},{"$f":"'Result Entry'!$AP$7","v":5},{"$f":"'Result Entry'!$AQ$7","v":5},{"$f":"'Result Entry'!$AV$7","v":35},50,{"$f":"'Result Entry'!$AZ$7","v":50},100,null,"A+/A/B/C/D"]
[null,"◐",{"$f":"'Result Entry'!$AO$3","v":"English"},null,{"$f":"IF(OR(C721=\"\",$I708=\"NSO\"),\"\",VLOOKUP($A703,'Result Entry'!$B$9:$EQ$108,40,0))","v":0},{"$f":"IF(OR(C721=\"\",$I708=\"NSO\"),\"\",VLOOKUP($A703,'Result Entry'!$B$9:$EQ$108,41,0))","v":0},{"$f":"IF(OR(C721=\"\",$I708=\"NSO\"),\"\",VLOOKUP($A703,'Result Entry'!$B$9:$EQ$108,42,0))","v":0},{"$f":"IF(OR(C721=\"\",$I708=\"NSO\"),\"\",VLOOKUP($A703,'Result Entry'!$B$9:$EQ$108,47,0))","v":0},0,{"$f":"IF(OR(C721=\"\",$I708=\"NSO\"),\"\",VLOOKUP($A703,'Result Entry'!$B$9:$EQ$108,51,0))","v":0},0,null,{"$f":"IF(OR(C721=\"\",$I708=\"NSO\"),\"\",VLOOKUP($A703,'Result Entry'!$B$9:$EQ$108,54,0))","v":""}]
[null,"◐","Max. Marks",null,{"$f":"'Result Entry'!$BS$7","v":10},{"$f":"'Result Entry'!$BT$7","v":10},{"$f":"'Result Entry'!$BU$7","v":10},{"$f":"'Result Entry'!$BZ$7","v":70},{"$f":"SUM(E722:H722)","v":100},{"$f":"'Result Entry'!$CD$7","v":100},200,null,"A+/A/B/C/D"]
[null,"◐",{"$f":"'Result Entry'!$BS$3","v":"Sanskrit/Urdu"},null,{"$f":"IF(OR(C723=\"\",$I708=\"NSO\"),\"\",VLOOKUP($A703,'Result Entry'!$B$9:$EQ$108,70,0))","v":0},{"$f":"IF(OR(C723=\"\",$I708=\"NSO\"),\"\",VLOOKUP($A703,'Result Entry'!$B$9:$EQ$108,71,0))","v":0},{"$f":"IF(OR(C723=\"\",$I708=\"NSO\"),\"\",VLOOKUP($A703,'Result Entry'!$B$9:$EQ$108,72,0))","v":0},{"$f":"IF(OR(C723=\"\",$I708=\"NSO\"),\"\",VLOOKUP($A703,'Result Entry'!$B$9:$EQ$108,77,0))","v":0},{"$f":"SUM(E723:H723)","v":0},{"$f":"IF(OR(C723=\"\",$I708=\"NSO\"),\"\",VLOOKUP($A703,'Result Entry'!$B$9:$EQ$108,81,0))","v":0},0,null,{"$f":"IF(OR(C723=\"\",$I708=\"NSO\"),\"\",VLOOKUP($A703,'Result Entry'!$B$9:$EQ$108,84,0))","v":""}]
[null,"◐"]
[null,"◐","Overall Result",null,null,"Total Max. Marks",null,"Total Obtained Marks",null,"Percentage","Overall Grade","Result","Position in Class"]
[null,"◐",{"$nulls":3},{"$f":"IF(OR($I708=\"\",$I708=\"NSO\"),\"\",VLOOKUP($A703,'Result Entry'!$B$9:$EQ$108,120,0))","v":900},null,{"$f":"IF(OR($I708=\"\",$I708=\"NSO\"),\"\",VLOOKUP($A703,'Result Entry'!$B$9:$EQ$108,121,0))","v":0},null,{"$f":"IF(OR($I708=\"\",$I708=\"NSO\"),\"\",VLOOKUP($A703,'Result Entry'!$B$9:$EQ$108,122,0))","v":{"v":0,"d":"0.00"}},{"$f":"IF(OR($I708=\"\",$I708=\"NSO\"),\"\",VLOOKUP($A703,'Result Entry'!$B$9:$EQ$108,123,0))","v":""},{"$f":"IF(OR($I708=\"\",$I708=\"NSO\"),\"\",VLOOKUP($A703,'Result Entry'!$B$9:$EQ$108,124,0))","v":""},{"$f":"IF(OR($I708=\"\",$I708=\"NSO\"),\"\",VLOOKUP($A703,'Result Entry'!$B$9:$EQ$108,126,0))","v":""}]
[null,"◐",{"$nulls":6},"Total Meetings :-",null,{"$f":"IF(OR($I708=\"\",$I708=\"NSO\"),\"\",VLOOKUP($A703,'Result Entry'!$B$9:$EQ$108,117,0))","v":0},"Attedance %"]
[null,"◐","Extra Subjects",{"$nulls":5},"Student's Meetings :-",null,{"$f":"IF(OR($I708=\"\",$I708=\"NSO\"),\"\",VLOOKUP($A703,'Result Entry'!$B$9:$EQ$108,118,0))","v":0},{"$f":"IF(OR($I708=\"\",$I708=\"NSO\"),\"\",VLOOKUP($A703,'Result Entry'!$B$9:$EQ$108,119,0))","v":""}]
[null,"◐","Subject",null,null,"Total Marks",null,"GRADE","Remark :-",null,{"$f":"IF(OR($I708=\"\",$I708=\"NSO\"),\"\",VLOOKUP($A703,'Result Entry'!$B$9:$EQ$108,127,0))","v":0}]
[null,"◐",{"$f":"'Result Entry'!$CH$3","v":"WORK EXP."},null,null,{"$f":"IF(OR(C730=\"\",$I708=\"NSO\"),\"\",VLOOKUP($A703,'Result Entry'!$B$9:$EQ$108,138,0))","v":"0/100"},null,{"$f":"IF(OR(C730=\"\",$I708=\"NSO\"),\"\",VLOOKUP($A703,'Result Entry'!$B$9:$EQ$108,92,0))","v":""},"Result Date :-",null,{"$f":"'Result Entry'!$U$2","v":"2024-05-07"}]
[null,"◐",{"$f":"'Result Entry'!$CP$3","v":"ART EDU."},null,null,{"$f":"IF(OR(C731=\"\",$I708=\"NSO\"),\"\",VLOOKUP($A703,'Result Entry'!$B$9:$EQ$108,142,0))","v":"0/100"},null,{"$f":"IF(OR(C731=\"\",$I708=\"NSO\"),\"\",VLOOKUP($A703,'Result Entry'!$B$9:$EQ$108,100,0))","v":""}]
[null,null,{"$f":"'Result Entry'!$CX$3","v":"H&P. EDU."},null,null,{"$f":"IF(OR(C732=\"\",$I708=\"NSO\"),\"\",VLOOKUP($A703,'Result Entry'!$B$9:$EQ$108,146,0))","v":"0/0"},null,{"$f":"IF(OR(C732=\"\",$I708=\"NSO\"),\"\",VLOOKUP($A703,'Result Entry'!$B$9:$EQ$108,108,0))","v":""}]
[null,"◐",{"$f":"'Result Entry'!$DF$3","v":0},null,null,{"$f":"IF(OR(C733=\"\",$I708=\"NSO\"),\"\",VLOOKUP($A703,'Result Entry'!$B$9:$EQ$108,131,0))","v":0},null,{"$f":"IF(OR(C733=\"\",$I708=\"NSO\"),\"\",VLOOKUP($A703,'Result Entry'!$B$9:$EQ$108,97,0))","v":0},"Signature Of The Class Teacher"]
[null,"◐","Grading System"]
[null,"◐","Grd.","% Range",null,"Description"]
[null,"◐","A","86-100",null,"Excellent",null,null,"Signature And Seal Of Principal/H.M."]
[null,"◐","B","71-85",null,"Very Good"]
[null,"◐","C","51-70",null,"Good"]
[null,"◐","D","31-50",null,"Average"]
[null,"◐","E","0-30",null,"Needs Improvement",null,null,"Wish bright future"]
[]
[{"$f":"A703+1","v":20},"Department Of Education, Rajasthan"]
[null,{"$f":"IF(I747>0,CONCATENATE(C747,I747),0)","v":0},null,{"$f":"Master!$E$8","v":"Govt.Sr.Sec.Sch."}]
[{"$nulls":3},{"$f":"Master!$E$11","v":"P.S.-Bapini (Jodhpur)"}]
[null,null,"Report Card",{"$nulls":6},"U-DISE Code:-",null,{"$f":"Master!$E$14","v":{"v":810000000,"d":"0810000000"}}]
[{"$nulls":9},"Session:-",null,{"$f":"Master!$E$6","v":"2023-24"}]
[null,null,"Roll No.:-",{"$nulls":5},{"$f":"VLOOKUP($A742,'Result Entry'!$B$9:$F$108,5,0)","v":0}]
[null,"◐","Scholar Number",{"$nulls":3},"↠",{"$f":"VLOOKUP($A742,'Result Entry'!$B$9:$EQ$108,3,0)","v":0}]
[null,"◐","Student's Name",{"$nulls":3},"↠",{"$f":"VLOOKUP($A742,'Result Entry'!$B$9:$EQ$108,6,0)","v":0}]
[null,"◐","Father's Name",{"$nulls":3},"↠",{"$f":"VLOOKUP($A742,'Result Entry'!$B$9:$EQ$108,7,0)","v":0}]
[null,"◐","Mother's Name ",{"$nulls":3},"↠",{"$f":"VLOOKUP($A742,'Result Entry'!$B$9:$EQ$108,8,0)","v":0}]
[null,"◐","Class & Section",{"$nulls":3},"↠",{"$f":"CONCATENATE('Result Entry'!$F$4,'Result Entry'!$I$4)","v":"2(A)"}]
[null,"◐","Date Of Birth",{"$nulls":3},"↠",{"$f":"VLOOKUP($A742,'Result Entry'!$B$9:$EQ$108,9,0)","v":"00:00:00"}]
[null,"◐","Subject",null,{"$f":"'Result Entry'!$K$6","v":"First Test"},{"$f":"'Result Entry'!$L$6","v":"Second Test"},{"$f":"'Result Entry'!$M$6","v":"Third Test"},"Half Yearly","Total (Test+H.Y.)","Yearly","Grand Total",null,"Subject Grade"]
[null,"◐","Max. Marks",null,{"$f":"'Result Entry'!$K$7","v":10},{"$f":"'Result Entry'!$L$7","v":10},{"$f":"'Result Entry'!$M$7","v":10},{"$f":"'Result Entry'!$R$7","v":70},{"$f":"SUM(E755:H755)","v":100},{"$f":"'Result Entry'!$V$7","v":100},{"$f":"I755+J755","v":200},null,"A+/A/B/C/D"]
[null,"◐",{"$f":"'Result Entry'!$K$3","v":"Hindi"},null,{"$f":"IF(OR(C756=\"\",$I747=\"NSO\"),\"\",VLOOKUP($A742,'Result Entry'!$B$9:$EQ$108,10,0))","v":0},{"$f":"IF(OR(C756=\"\",$I747=\"NSO\"),\"\",VLOOKUP($A742,'Result Entry'!$B$9:$EQ$108,11,0))","v":0},{"$f":"IF(OR(C756=\"\",$I747=\"NSO\"),\"\",VLOOKUP($A742,'Result Entry'!$B$9:$EQ$108,12,0))","v":0},{"$f":"IF(OR(C756=\"\",$I747=\"NSO\"),\"\",VLOOKUP($A742,'Result Entry'!$B$9:$EQ$108,17,0))","v":0},{"$f":"SUM(E756:H756)","v":0},{"$f":"IF(OR(C756=\"\",$I747=\"NSO\"),\"\",VLOOKUP($A742,'Result Entry'!$B$9:$EQ$108,21,0))","v":0},{"$f":"SUM(I756,J756)","v":0},null,{"$f":"IF(OR(C756=\"\",$I747=\"NSO\"),\"\",VLOOKUP($A742,'Result Entry'!$B$9:$EQ$108,24,0))","v":""}]
[null,"◐",{"$f":"'Result Entry'!$Z$3","v":"Mathematics"},null,{"$f":"IF(OR(C757=\"\",$I747=\"NSO\"),\"\",VLOOKUP($A742,'Result Entry'!$B$9:$EQ$108,25,0))","v":0},{"$f":"IF(OR(C757=\"\",$I747=\"NSO\"),\"\",VLOOKUP($A742,'Result Entry'!$B$9:$EQ$108,26,0))","v":0},{"$f":"IF(OR(C757=\"\",$I747=\"NSO\"),\"\",VLOOKUP($A742,'Result Entry'!$B$9:$EQ$108,27,0))","v":0},{"$f":"IF(OR(C757=\"\",$I747=\"NSO\"),\"\",VLOOKUP($A742,'Result Entry'!$B$9:$EQ$108,32,0))","v":0},0,{"$f":"IF(OR(C757=\"\",$I747=\"NSO\"),\"\",VLOOKUP($A742,'Result Entry'!$B$9:$EQ$108,36,0))","v":0},{"$f":"SUM(I757,J757)","v":0},null,{"$f":"IF(OR(C757=\"\",$I747=\"NSO\"),\"\",VLOOKUP($A742,'Result Entry'!$B$9:$EQ$108,39,0))","v":""}]
[null,"◐",{"$f":"'Result Entry'!$BD$3","v":"Env. Study"},null,{"$f":"IF(OR(C758=\"\",$I747=\"NSO\"),\"\",VLOOKUP($A742,'Result Entry'!$B$9:$EQ$108,55,0))","v":0},{"$f":"IF(OR(C758=\"\",$I747=\"NSO\"),\"\",VLOOKUP($A742,'Result Entry'!$B$9:$EQ$108,56,0))","v":0},{"$f":"IF(OR(C758=\"\",$I747=\"NSO\"),\"\",VLOOKUP($A742,'Result Entry'!$B$9:$EQ$108,57,0))","v":0},{"$f":"IF(OR(C756=\"\",$I747=\"NSO\"),\"\",VLOOKUP($A742,'Result Entry'!$B$9:$EQ$108,62,0))","v":0},0,{"$f":"IF(OR(C757=\"\",$I747=\"NSO\"),\"\",VLOOKUP($A742,'Result Entry'!$B$9:$EQ$108,66,0))","v":0},0,null,{"$f":"IF(OR(C757=\"\",$I747=\"NSO\"),\"\",VLOOKUP($A742,'Result Entry'!$B$9:$EQ$108,69,0))","v":""}]
[null,"◐","Max. Marks",null,{"$f":"'Result Entry'!$AO$7","v":5},{"$f":"'Result Entry'!$AP$7","v":5},{"$f":"'Result Entry'!$AQ$7","v":5},{"$f":"'Result Entry'!$AV$7","v":35},50,{"$f":"'Result Entry'!$AZ$7","v":50},100,null,"A+/A/B/C/D"]
[null,"◐",{"$f":"'Result Entry'!$AO$3","v":"English"},null,{"$f":"IF(OR(C760=\"\",$I747=\"NSO\"),\"\",VLOOKUP($A742,'Result Entry'!$B$9:$EQ$108,40,0))","v":0},{"$f":"IF(OR(C760=\"\",$I747=\"NSO\"),\"\",VLOOKUP($A742,'Result Entry'!$B$9:$EQ$108,41,0))","v":0},{"$f":"IF(OR(C760=\"\",$I747=\"NSO\"),\"\",VLOOKUP($A742,'Result Entry'!$B$9:$EQ$108,42,0))","v":0},{"$f":"IF(OR(C760=\"\",$I747=\"NSO\"),\"\",VLOOKUP($A742,'Result Entry'!$B$9:$EQ$108,47,0))","v":0},0,{"$f":"IF(OR(C760=\"\",$I747=\"NSO\"),\"\",VLOOKUP($A742,'Result Entry'!$B$9:$EQ$108,51,0))","v":0},0,null,{"$f":"IF(OR(C760=\"\",$I747=\"NSO\"),\"\",VLOOKUP($A742,'Result Entry'!$B$9:$EQ$108,54,0))","v":""}]
[null,"◐","Max. Marks",null,{"$f":"'Result Entry'!$BS$7","v":10},{"$f":"'Result Entry'!$BT$7","v":10},{"$f":"'Result Entry'!$BU$7","v":10},{"$f":"'Result Entry'!$BZ$7","v":70},{"$f":"SUM(E761:H761)","v":100},{"$f":"'Result Entry'!$CD$7","v":100},200,null,"A+/A/B/C/D"]
[null,"◐",{"$f":"'Result Entry'!$BS$3","v":"Sanskrit/Urdu"},null,{"$f":"IF(OR(C762=\"\",$I747=\"NSO\"),\"\",VLOOKUP($A742,'Result Entry'!$B$9:$EQ$108,70,0))","v":0},{"$f":"IF(OR(C762=\"\",$I747=\"NSO\"),\"\",VLOOKUP($A742,'Result Entry'!$B$9:$EQ$108,71,0))","v":0},{"$f":"IF(OR(C762=\"\",$I747=\"NSO\"),\"\",VLOOKUP($A742,'Result Entry'!$B$9:$EQ$108,72,0))","v":0},{"$f":"IF(OR(C762=\"\",$I747=\"NSO\"),\"\",VLOOKUP($A742,'Result Entry'!$B$9:$EQ$108,77,0))","v":0},{"$f":"SUM(E762:H762)","v":0},{"$f":"IF(OR(C762=\"\",$I747=\"NSO\"),\"\",VLOOKUP($A742,'Result Entry'!$B$9:$EQ$108,81,0))","v":0},0,null,{"$f":"IF(OR(C762=\"\",$I747=\"NSO\"),\"\",VLOOKUP($A742,'Result Entry'!$B$9:$EQ$108,84,0))","v":""}]
[null,"◐"]
[null,"◐","Overall Result",null,null,"Total Max. Marks",null,"Total Obtained Marks",null,"Percentage","Overall Grade","Result","Position in Class"]
[null,"◐",{"$nulls":3},{"$f":"IF(OR($I747=\"\",$I747=\"NSO\"),\"\",VLOOKUP($A742,'Result Entry'!$B$9:$EQ$108,120,0))","v":900},null,{"$f":"IF(OR($I747=\"\",$I747=\"NSO\"),\"\",VLOOKUP($A742,'Result Entry'!$B$9:$EQ$108,121,0))","v":0},null,{"$f":"IF(OR($I747=\"\",$I747=\"NSO\"),\"\",VLOOKUP($A742,'Result Entry'!$B$9:$EQ$108,122,0))","v":{"v":0,"d":"0.00"}},{"$f":"IF(OR($I747=\"\",$I747=\"NSO\"),\"\",VLOOKUP($A742,'Result Entry'!$B$9:$EQ$108,123,0))","v":""},{"$f":"IF(OR($I747=\"\",$I747=\"NSO\"),\"\",VLOOKUP($A742,'Result Entry'!$B$9:$EQ$108,124,0))","v":""},{"$f":"IF(OR($I747=\"\",$I747=\"NSO\"),\"\",VLOOKUP($A742,'Result Entry'!$B$9:$EQ$108,126,0))","v":""}]
[null,"◐",{"$nulls":6},"Total Meetings :-",null,{"$f":"IF(OR($I747=\"\",$I747=\"NSO\"),\"\",VLOOKUP($A742,'Result Entry'!$B$9:$EQ$108,117,0))","v":0},"Attedance %"]
[null,"◐","Extra Subjects",{"$nulls":5},"Student's Meetings :-",null,{"$f":"IF(OR($I747=\"\",$I747=\"NSO\"),\"\",VLOOKUP($A742,'Result Entry'!$B$9:$EQ$108,118,0))","v":0},{"$f":"IF(OR($I747=\"\",$I747=\"NSO\"),\"\",VLOOKUP($A742,'Result Entry'!$B$9:$EQ$108,119,0))","v":""}]
[null,"◐","Subject",null,null,"Total Marks",null,"GRADE","Remark :-",null,{"$f":"IF(OR($I747=\"\",$I747=\"NSO\"),\"\",VLOOKUP($A742,'Result Entry'!$B$9:$EQ$108,127,0))","v":0}]
[null,"◐",{"$f":"'Result Entry'!$CH$3","v":"WORK EXP."},null,null,{"$f":"IF(OR(C769=\"\",$I747=\"NSO\"),\"\",VLOOKUP($A742,'Result Entry'!$B$9:$EQ$108,138,0))","v":"0/100"},null,{"$f":"IF(OR(C769=\"\",$I747=\"NSO\"),\"\",VLOOKUP($A742,'Result Entry'!$B$9:$EQ$108,92,0))","v":""},"Result Date :-",null,{"$f":"'Result Entry'!$U$2","v":"2024-05-07"}]
[null,"◐",{"$f":"'Result Entry'!$CP$3","v":"ART EDU."},null,null,{"$f":"IF(OR(C770=\"\",$I747=\"NSO\"),\"\",VLOOKUP($A742,'Result Entry'!$B$9:$EQ$108,142,0))","v":"0/100"},null,{"$f":"IF(OR(C770=\"\",$I747=\"NSO\"),\"\",VLOOKUP($A742,'Result Entry'!$B$9:$EQ$108,100,0))","v":""}]
[null,null,{"$f":"'Result Entry'!$CX$3","v":"H&P. EDU."},null,null,{"$f":"IF(OR(C771=\"\",$I747=\"NSO\"),\"\",VLOOKUP($A742,'Result Entry'!$B$9:$EQ$108,146,0))","v":"0/0"},null,{"$f":"IF(OR(C771=\"\",$I747=\"NSO\"),\"\",VLOOKUP($A742,'Result Entry'!$B$9:$EQ$108,108,0))","v":""}]
[null,"◐",{"$f":"'Result Entry'!$DF$3","v":0},null,null,{"$f":"IF(OR(C772=\"\",$I747=\"NSO\"),\"\",VLOOKUP($A742,'Result Entry'!$B$9:$EQ$108,131,0))","v":0},null,{"$f":"IF(OR(C772=\"\",$I747=\"NSO\"),\"\",VLOOKUP($A742,'Result Entry'!$B$9:$EQ$108,97,0))","v":0},"Signature Of The Class Teacher"]
[null,"◐","Grading System"]
[null,"◐","Grd.","% Range",null,"Description"]
[null,"◐","A","86-100",null,"Excellent",null,null,"Signature And Seal Of Principal/H.M."]
[null,"◐","B","71-85",null,"Very Good"]
[null,"◐","C","51-70",null,"Good"]
[null,"◐","D","31-50",null,"Average"]
[null,"◐","E","0-30",null,"Needs Improvement",null,null,"Wish bright future"]
[]
[{"$f":"A742+1","v":21},"Department Of Education, Rajasthan"]
[null,{"$f":"IF(I786>0,CONCATENATE(C786,I786),0)","v":0},null,{"$f":"Master!$E$8","v":"Govt.Sr.Sec.Sch."}]
[{"$nulls":3},{"$f":"Master!$E$11","v":"P.S.-Bapini (Jodhpur)"}]
[null,null,"Report Card",{"$nulls":6},"U-DISE Code:-",null,{"$f":"Master!$E$14","v":{"v":810000000,"d":"0810000000"}}]
[{"$nulls":9},"Session:-",null,{"$f":"Master!$E$6","v":"2023-24"}]
[null,null,"Roll No.:-",{"$nulls":5},{"$f":"VLOOKUP($A781,'Result Entry'!$B$9:$F$108,5,0)","v":0}]
[null,"◐","Scholar Number",{"$nulls":3},"↠",{"$f":"VLOOKUP($A781,'Result Entry'!$B$9:$EQ$108,3,0)","v":0}]
[null,"◐","Student's Name",{"$nulls":3},"↠",{"$f":"VLOOKUP($A781,'Result Entry'!$B$9:$EQ$108,6,0)","v":0}]
[null,"◐","Father's Name",{"$nulls":3},"↠",{"$f":"VLOOKUP($A781,'Result Entry'!$B$9:$EQ$108,7,0)","v":0}]
[null,"◐","Mother's Name ",{"$nulls":3},"↠",{"$f":"VLOOKUP($A781,'Result Entry'!$B$9:$EQ$108,8,0)","v":0}]
[null,"◐","Class & Section",{"$nulls":3},"↠",{"$f":"CONCATENATE('Result Entry'!$F$4,'Result Entry'!$I$4)","v":"2(A)"}]
[null,"◐","Date Of Birth",{"$nulls":3},"↠",{"$f":"VLOOKUP($A781,'Result Entry'!$B$9:$EQ$108,9,0)","v":"00:00:00"}]
[null,"◐","Subject",null,{"$f":"'Result Entry'!$K$6","v":"First Test"},{"$f":"'Result Entry'!$L$6","v":"Second Test"},{"$f":"'Result Entry'!$M$6","v":"Third Test"},"Half Yearly","Total (Test+H.Y.)","Yearly","Grand Total",null,"Subject Grade"]
[null,"◐","Max. Marks",null,{"$f":"'Result Entry'!$K$7","v":10},{"$f":"'Result Entry'!$L$7","v":10},{"$f":"'Result Entry'!$M$7","v":10},{"$f":"'Result Entry'!$R$7","v":70},{"$f":"SUM(E794:H794)","v":100},{"$f":"'Result Entry'!$V$7","v":100},{"$f":"I794+J794","v":200},null,"A+/A/B/C/D"]
[null,"◐",{"$f":"'Result Entry'!$K$3","v":"Hindi"},null,{"$f":"IF(OR(C795=\"\",$I786=\"NSO\"),\"\",VLOOKUP($A781,'Result Entry'!$B$9:$EQ$108,10,0))","v":0},{"$f":"IF(OR(C795=\"\",$I786=\"NSO\"),\"\",VLOOKUP($A781,'Result Entry'!$B$9:$EQ$108,11,0))","v":0},{"$f":"IF(OR(C795=\"\",$I786=\"NSO\"),\"\",VLOOKUP($A781,'Result Entry'!$B$9:$EQ$108,12,0))","v":0},{"$f":"IF(OR(C795=\"\",$I786=\"NSO\"),\"\",VLOOKUP($A781,'Result Entry'!$B$9:$EQ$108,17,0))","v":0},{"$f":"SUM(E795:H795)","v":0},{"$f":"IF(OR(C795=\"\",$I786=\"NSO\"),\"\",VLOOKUP($A781,'Result Entry'!$B$9:$EQ$108,21,0))","v":0},{"$f":"SUM(I795,J795)","v":0},null,{"$f":"IF(OR(C795=\"\",$I786=\"NSO\"),\"\",VLOOKUP($A781,'Result Entry'!$B$9:$EQ$108,24,0))","v":""}]
[null,"◐",{"$f":"'Result Entry'!$Z$3","v":"Mathematics"},null,{"$f":"IF(OR(C796=\"\",$I786=\"NSO\"),\"\",VLOOKUP($A781,'Result Entry'!$B$9:$EQ$108,25,0))","v":0},{"$f":"IF(OR(C796=\"\",$I786=\"NSO\"),\"\",VLOOKUP($A781,'Result Entry'!$B$9:$EQ$108,26,0))","v":0},{"$f":"IF(OR(C796=\"\",$I786=\"NSO\"),\"\",VLOOKUP($A781,'Result Entry'!$B$9:$EQ$108,27,0))","v":0},{"$f":"IF(OR(C796=\"\",$I786=\"NSO\"),\"\",VLOOKUP($A781,'Result Entry'!$B$9:$EQ$108,32,0))","v":0},0,{"$f":"IF(OR(C796=\"\",$I786=\"NSO\"),\"\",VLOOKUP($A781,'Result Entry'!$B$9:$EQ$108,36,0))","v":0},{"$f":"SUM(I796,J796)","v":0},null,{"$f":"IF(OR(C796=\"\",$I786=\"NSO\"),\"\",VLOOKUP($A781,'Result Entry'!$B$9:$EQ$108,39,0))","v":""}]
[null,"◐",{"$f":"'Result Entry'!$BD$3","v":"Env. Study"},null,{"$f":"IF(OR(C797=\"\",$I786=\"NSO\"),\"\",VLOOKUP($A781,'Result Entry'!$B$9:$EQ$108,55,0))","v":0},{"$f":"IF(OR(C797=\"\",$I786=\"NSO\"),\"\",VLOOKUP($A781,'Result Entry'!$B$9:$EQ$108,56,0))","v":0},{"$f":"IF(OR(C797=\"\",$I786=\"NSO\"),\"\",VLOOKUP($A781,'Result Entry'!$B$9:$EQ$108,57,0))","v":0},{"$f":"IF(OR(C795=\"\",$I786=\"NSO\"),\"\",VLOOKUP($A781,'Result Entry'!$B$9:$EQ$108,62,0))","v":0},0,{"$f":"IF(OR(C796=\"\",$I786=\"NSO\"),\"\",VLOOKUP($A781,'Result Entry'!$B$9:$EQ$108,66,0))","v":0},0,null,{"$f":"IF(OR(C796=\"\",$I786=\"NSO\"),\"\",VLOOKUP($A781,'Result Entry'!$B$9:$EQ$108,69,0))","v":""}]
[null,"◐","Max. Marks",null,{"$f":"'Result Entry'!$AO$7","v":5},{"$f":"'Result Entry'!$AP$7","v":5},{"$f":"'Result Entry'!$AQ$7","v":5},{"$f":"'Result Entry'!$AV$7","v":35},50,{"$f":"'Result Entry'!$AZ$7","v":50},100,null,"A+/A/B/C/D"]
[null,"◐",{"$f":"'Result Entry'!$AO$3","v":"English"},null,{"$f":"IF(OR(C799=\"\",$I786=\"NSO\"),\"\",VLOOKUP($A781,'Result Entry'!$B$9:$EQ$108,40,0))","v":0},{"$f":"IF(OR(C799=\"\",$I786=\"NSO\"),\"\",VLOOKUP($A781,'Result Entry'!$B$9:$EQ$108,41,0))","v":0},{"$f":"IF(OR(C799=\"\",$I786=\"NSO\"),\"\",VLOOKUP($A781,'Result Entry'!$B$9:$EQ$108,42,0))","v":0},{"$f":"IF(OR(C799=\"\",$I786=\"NSO\"),\"\",VLOOKUP($A781,'Result Entry'!$B$9:$EQ$108,47,0))","v":0},0,{"$f":"IF(OR(C799=\"\",$I786=\"NSO\"),\"\",VLOOKUP($A781,'Result Entry'!$B$9:$EQ$108,51,0))","v":0},0,null,{"$f":"IF(OR(C799=\"\",$I786=\"NSO\"),\"\",VLOOKUP($A781,'Result Entry'!$B$9:$EQ$108,54,0))","v":""}]
[null,"◐","Max. Marks",null,{"$f":"'Result Entry'!$BS$7","v":10},{"$f":"'Result Entry'!$BT$7","v":10},{"$f":"'Result Entry'!$BU$7","v":10},{"$f":"'Result Entry'!$BZ$7","v":70},{"$f":"SUM(E800:H800)","v":100},{"$f":"'Result Entry'!$CD$7","v":100},200,null,"A+/A/B/C/D"]
[null,"◐",{"$f":"'Result Entry'!$BS$3","v":"Sanskrit/Urdu"},null,{"$f":"IF(OR(C801=\"\",$I786=\"NSO\"),\"\",VLOOKUP($A781,'Result Entry'!$B$9:$EQ$108,70,0))","v":0},{"$f":"IF(OR(C801=\"\",$I786=\"NSO\"),\"\",VLOOKUP($A781,'Result Entry'!$B$9:$EQ$108,71,0))","v":0},{"$f":"IF(OR(C801=\"\",$I786=\"NSO\"),\"\",VLOOKUP($A781,'Result Entry'!$B$9:$EQ$108,72,0))","v":0},{"$f":"IF(OR(C801=\"\",$I786=\"NSO\"),\"\",VLOOKUP($A781,'Result Entry'!$B$9:$EQ$108,77,0))","v":0},{"$f":"SUM(E801:H801)","v":0},{"$f":"IF(OR(C801=\"\",$I786=\"NSO\"),\"\",VLOOKUP($A781,'Result Entry'!$B$9:$EQ$108,81,0))","v":0},0,null,{"$f":"IF(OR(C801=\"\",$I786=\"NSO\"),\"\",VLOOKUP($A781,'Result Entry'!$B$9:$EQ$108,84,0))","v":""}]
[null,"◐"]
[null,"◐","Overall Result",null,null,"Total Max. Marks",null,"Total Obtained Marks",null,"Percentage","Overall Grade","Result","Position in Class"]
[null,"◐",{"$nulls":3},{"$f":"IF(OR($I786=\"\",$I786=\"NSO\"),\"\",VLOOKUP($A781,'Result Entry'!$B$9:$EQ$108,120,0))","v":900},null,{"$f":"IF(OR($I786=\"\",$I786=\"NSO\"),\"\",VLOOKUP($A781,'Result Entry'!$B$9:$EQ$108,121,0))","v":0},null,{"$f":"IF(OR($I786=\"\",$I786=\"NSO\"),\"\",VLOOKUP($A781,'Result Entry'!$B$9:$EQ$108,122,0))","v":{"v":0,"d":"0.00"}},{"$f":"IF(OR($I786=\"\",$I786=\"NSO\"),\"\",VLOOKUP($A781,'Result Entry'!$B$9:$EQ$108,123,0))","v":""},{"$f":"IF(OR($I786=\"\",$I786=\"NSO\"),\"\",VLOOKUP($A781,'Result Entry'!$B$9:$EQ$108,124,0))","v":""},{"$f":"IF(OR($I786=\"\",$I786=\"NSO\"),\"\",VLOOKUP($A781,'Result Entry'!$B$9:$EQ$108,126,0))","v":""}]
[null,"◐",{"$nulls":6},"Total Meetings :-",null,{"$f":"IF(OR($I786=\"\",$I786=\"NSO\"),\"\",VLOOKUP($A781,'Result Entry'!$B$9:$EQ$108,117,0))","v":0},"Attedance %"]
[null,"◐","Extra Subjects",{"$nulls":5},"Student's Meetings :-",null,{"$f":"IF(OR($I786=\"\",$I786=\"NSO\"),\"\",VLOOKUP($A781,'Result Entry'!$B$9:$EQ$108,118,0))","v":0},{"$f":"IF(OR($I786=\"\",$I786=\"NSO\"),\"\",VLOOKUP($A781,'Result Entry'!$B$9:$EQ$108,119,0))","v":""}]
[null,"◐","Subject",null,null,"Total Marks",null,"GRADE","Remark :-",null,{"$f":"IF(OR($I786=\"\",$I786=\"NSO\"),\"\",VLOOKUP($A781,'Result Entry'!$B$9:$EQ$108,127,0))","v":0}]
[null,"◐",{"$f":"'Result Entry'!$CH$3","v":"WORK EXP."},null,null,{"$f":"IF(OR(C808=\"\",$I786=\"NSO\"),\"\",VLOOKUP($A781,'Result Entry'!$B$9:$EQ$108,138,0))","v":"0/100"},null,{"$f":"IF(OR(C808=\"\",$I786=\"NSO\"),\"\",VLOOKUP($A781,'Result Entry'!$B$9:$EQ$108,92,0))","v":""},"Result Date :-",null,{"$f":"'Result Entry'!$U$2","v":"2024-05-07"}]
[null,"◐",{"$f":"'Result Entry'!$CP$3","v":"ART EDU."},null,null,{"$f":"IF(OR(C809=\"\",$I786=\"NSO\"),\"\",VLOOKUP($A781,'Result Entry'!$B$9:$EQ$108,142,0))","v":"0/100"},null,{"$f":"IF(OR(C809=\"\",$I786=\"NSO\"),\"\",VLOOKUP($A781,'Result Entry'!$B$9:$EQ$108,100,0))","v":""}]
[null,null,{"$f":"'Result Entry'!$CX$3","v":"H&P. EDU."},null,null,{"$f":"IF(OR(C810=\"\",$I786=\"NSO\"),\"\",VLOOKUP($A781,'Result Entry'!$B$9:$EQ$108,146,0))","v":"0/0"},null,{"$f":"IF(OR(C810=\"\",$I786=\"NSO\"),\"\",VLOOKUP($A781,'Result Entry'!$B$9:$EQ$108,108,0))","v":""}]
[null,"◐",{"$f":"'Result Entry'!$DF$3","v":0},null,null,{"$f":"IF(OR(C811=\"\",$I786=\"NSO\"),\"\",VLOOKUP($A781,'Result Entry'!$B$9:$EQ$108,131,0))","v":0},null,{"$f":"IF(OR(C811=\"\",$I786=\"NSO\"),\"\",VLOOKUP($A781,'Result Entry'!$B$9:$EQ$108,97,0))","v":0},"Signature Of The Class Teacher"]
[null,"◐","Grading System"]
[null,"◐","Grd.","% Range",null,"Description"]
[null,"◐","A","86-100",null,"Excellent",null,null,"Signature And Seal Of Principal/H.M."]
[null,"◐","B","71-85",null,"Very Good"]
[null,"◐","C","51-70",null,"Good"]
[null,"◐","D","31-50",null,"Average"]
[null,"◐","E","0-30",null,"Needs Improvement",null,null,"Wish bright future"]
[]
[{"$f":"A781+1","v":22},"Department Of Education, Rajasthan"]
[null,{"$f":"IF(I825>0,CONCATENATE(C825,I825),0)","v":0},null,{"$f":"Master!$E$8","v":"Govt.Sr.Sec.Sch."}]
[{"$nulls":3},{"$f":"Master!$E$11","v":"P.S.-Bapini (Jodhpur)"}]
[null,null,"Report Card",{"$nulls":6},"U-DISE Code:-",null,{"$f":"Master!$E$14","v":{"v":810000000,"d":"0810000000"}}]
[{"$nulls":9},"Session:-",null,{"$f":"Master!$E$6","v":"2023-24"}]
[null,null,"Roll No.:-",{"$nulls":5},{"$f":"VLOOKUP($A820,'Result Entry'!$B$9:$F$108,5,0)","v":0}]
[null,"◐","Scholar Number",{"$nulls":3},"↠",{"$f":"VLOOKUP($A820,'Result Entry'!$B$9:$EQ$108,3,0)","v":0}]
[null,"◐","Student's Name",{"$nulls":3},"↠",{"$f":"VLOOKUP($A820,'Result Entry'!$B$9:$EQ$108,6,0)","v":0}]
[null,"◐","Father's Name",{"$nulls":3},"↠",{"$f":"VLOOKUP($A820,'Result Entry'!$B$9:$EQ$108,7,0)","v":0}]
[null,"◐","Mother's Name ",{"$nulls":3},"↠",{"$f":"VLOOKUP($A820,'Result Entry'!$B$9:$EQ$108,8,0)","v":0}]
[null,"◐","Class & Section",{"$nulls":3},"↠",{"$f":"CONCATENATE('Result Entry'!$F$4,'Result Entry'!$I$4)","v":"2(A)"}]
[null,"◐","Date Of Birth",{"$nulls":3},"↠",{"$f":"VLOOKUP($A820,'Result Entry'!$B$9:$EQ$108,9,0)","v":"00:00:00"}]
[null,"◐","Subject",null,{"$f":"'Result Entry'!$K$6","v":"First Test"},{"$f":"'Result Entry'!$L$6","v":"Second Test"},{"$f":"'Result Entry'!$M$6","v":"Third Test"},"Half Yearly","Total (Test+H.Y.)","Yearly","Grand Total",null,"Subject Grade"]
[null,"◐","Max. Marks",null,{"$f":"'Result Entry'!$K$7","v":10},{"$f":"'Result Entry'!$L$7","v":10},{"$f":"'Result Entry'!$M$7","v":10},{"$f":"'Result Entry'!$R$7","v":70},{"$f":"SUM(E833:H833)","v":100},{"$f":"'Result Entry'!$V$7","v":100},{"$f":"I833+J833","v":200},null,"A+/A/B/C/D"]
[null,"◐",{"$f":"'Result Entry'!$K$3","v":"Hindi"},null,{"$f":"IF(OR(C834=\"\",$I825=\"NSO\"),\"\",VLOOKUP($A820,'Result Entry'!$B$9:$EQ$108,10,0))","v":0},{"$f":"IF(OR(C834=\"\",$I825=\"NSO\"),\"\",VLOOKUP($A820,'Result Entry'!$B$9:$EQ$108,11,0))","v":0},{"$f":"IF(OR(C834=\"\",$I825=\"NSO\"),\"\",VLOOKUP($A820,'Result Entry'!$B$9:$EQ$108,12,0))","v":0},{"$f":"IF(OR(C834=\"\",$I825=\"NSO\"),\"\",VLOOKUP($A820,'Result Entry'!$B$9:$EQ$108,17,0))","v":0},{"$f":"SUM(E834:H834)","v":0},{"$f":"IF(OR(C834=\"\",$I825=\"NSO\"),\"\",VLOOKUP($A820,'Result Entry'!$B$9:$EQ$108,21,0))","v":0},{"$f":"SUM(I834,J834)","v":0},null,{"$f":"IF(OR(C834=\"\",$I825=\"NSO\"),\"\",VLOOKUP($A820,'Result Entry'!$B$9:$EQ$108,24,0))","v":""}]
[null,"◐",{"$f":"'Result Entry'!$Z$3","v":"Mathematics"},null,{"$f":"IF(OR(C835=\"\",$I825=\"NSO\"),\"\",VLOOKUP($A820,'Result Entry'!$B$9:$EQ$108,25,0))","v":0},{"$f":"IF(OR(C835=\"\",$I825=\"NSO\"),\"\",VLOOKUP($A820,'Result Entry'!$B$9:$EQ$108,26,0))","v":0},{"$f":"IF(OR(C835=\"\",$I825=\"NSO\"),\"\",VLOOKUP($A820,'Result Entry'!$B$9:$EQ$108,27,0))","v":0},{"$f":"IF(OR(C835=\"\",$I825=\"NSO\"),\"\",VLOOKUP($A820,'Result Entry'!$B$9:$EQ$108,32,0))","v":0},0,{"$f":"IF(OR(C835=\"\",$I825=\"NSO\"),\"\",VLOOKUP($A820,'Result Entry'!$B$9:$EQ$108,36,0))","v":0},{"$f":"SUM(I835,J835)","v":0},null,{"$f":"IF(OR(C835=\"\",$I825=\"NSO\"),\"\",VLOOKUP($A820,'Result Entry'!$B$9:$EQ$108,39,0))","v":""}]
[null,"◐",{"$f":"'Result Entry'!$BD$3","v":"Env. Study"},null,{"$f":"IF(OR(C836=\"\",$I825=\"NSO\"),\"\",VLOOKUP($A820,'Result Entry'!$B$9:$EQ$108,55,0))","v":0},{"$f":"IF(OR(C836=\"\",$I825=\"NSO\"),\"\",VLOOKUP($A820,'Result Entry'!$B$9:$EQ$108,56,0))","v":0},{"$f":"IF(OR(C836=\"\",$I825=\"NSO\"),\"\",VLOOKUP($A820,'Result Entry'!$B$9:$EQ$108,57,0))","v":0},{"$f":"IF(OR(C834=\"\",$I825=\"NSO\"),\"\",VLOOKUP($A820,'Result Entry'!$B$9:$EQ$108,62,0))","v":0},0,{"$f":"IF(OR(C835=\"\",$I825=\"NSO\"),\"\",VLOOKUP($A820,'Result Entry'!$B$9:$EQ$108,66,0))","v":0},0,null,{"$f":"IF(OR(C835=\"\",$I825=\"NSO\"),\"\",VLOOKUP($A820,'Result Entry'!$B$9:$EQ$108,69,0))","v":""}]
[null,"◐","Max. Marks",null,{"$f":"'Result Entry'!$AO$7","v":5},{"$f":"'Result Entry'!$AP$7","v":5},{"$f":"'Result Entry'!$AQ$7","v":5},{"$f":"'Result Entry'!$AV$7","v":35},50,{"$f":"'Result Entry'!$AZ$7","v":50},100,null,"A+/A/B/C/D"]
[null,"◐",{"$f":"'Result Entry'!$AO$3","v":"English"},null,{"$f":"IF(OR(C838=\"\",$I825=\"NSO\"),\"\",VLOOKUP($A820,'Result Entry'!$B$9:$EQ$108,40,0))","v":0},{"$f":"IF(OR(C838=\"\",$I825=\"NSO\"),\"\",VLOOKUP($A820,'Result Entry'!$B$9:$EQ$108,41,0))","v":0},{"$f":"IF(OR(C838=\"\",$I825=\"NSO\"),\"\",VLOOKUP($A820,'Result Entry'!$B$9:$EQ$108,42,0))","v":0},{"$f":"IF(OR(C838=\"\",$I825=\"NSO\"),\"\",VLOOKUP($A820,'Result Entry'!$B$9:$EQ$108,47,0))","v":0},0,{"$f":"IF(OR(C838=\"\",$I825=\"NSO\"),\"\",VLOOKUP($A820,'Result Entry'!$B$9:$EQ$108,51,0))","v":0},0,null,{"$f":"IF(OR(C838=\"\",$I825=\"NSO\"),\"\",VLOOKUP($A820,'Result Entry'!$B$9:$EQ$108,54,0))","v":""}]
[null,"◐","Max. Marks",null,{"$f":"'Result Entry'!$BS$7","v":10},{"$f":"'Result Entry'!$BT$7","v":10},{"$f":"'Result Entry'!$BU$7","v":10},{"$f":"'Result Entry'!$BZ$7","v":70},{"$f":"SUM(E839:H839)","v":100},{"$f":"'Result Entry'!$CD$7","v":100},200,null,"A+/A/B/C/D"]
[null,"◐",{"$f":"'Result Entry'!$BS$3","v":"Sanskrit/Urdu"},null,{"$f":"IF(OR(C840=\"\",$I825=\"NSO\"),\"\",VLOOKUP($A820,'Result Entry'!$B$9:$EQ$108,70,0))","v":0},{"$f":"IF(OR(C840=\"\",$I825=\"NSO\"),\"\",VLOOKUP($A820,'Result Entry'!$B$9:$EQ$108,71,0))","v":0},{"$f":"IF(OR(C840=\"\",$I825=\"NSO\"),\"\",VLOOKUP($A820,'Result Entry'!$B$9:$EQ$108,72,0))","v":0},{"$f":"IF(OR(C840=\"\",$I825=\"NSO\"),\"\",VLOOKUP($A820,'Result Entry'!$B$9:$EQ$108,77,0))","v":0},{"$f":"SUM(E840:H840)","v":0},{"$f":"IF(OR(C840=\"\",$I825=\"NSO\"),\"\",VLOOKUP($A820,'Result Entry'!$B$9:$EQ$108,81,0))","v":0},0,null,{"$f":"IF(OR(C840=\"\",$I825=\"NSO\"),\"\",VLOOKUP($A820,'Result Entry'!$B$9:$EQ$108,84,0))","v":""}]
[null,"◐"]
[null,"◐","Overall Result",null,null,"Total Max. Marks",null,"Total Obtained Marks",null,"Percentage","Overall Grade","Result","Position in Class"]
[null,"◐",{"$nulls":3},{"$f":"IF(OR($I825=\"\",$I825=\"NSO\"),\"\",VLOOKUP($A820,'Result Entry'!$B$9:$EQ$108,120,0))","v":900},null,{"$f":"IF(OR($I825=\"\",$I825=\"NSO\"),\"\",VLOOKUP($A820,'Result Entry'!$B$9:$EQ$108,121,0))","v":0},null,{"$f":"IF(OR($I825=\"\",$I825=\"NSO\"),\"\",VLOOKUP($A820,'Result Entry'!$B$9:$EQ$108,122,0))","v":{"v":0,"d":"0.00"}},{"$f":"IF(OR($I825=\"\",$I825=\"NSO\"),\"\",VLOOKUP($A820,'Result Entry'!$B$9:$EQ$108,123,0))","v":""},{"$f":"IF(OR($I825=\"\",$I825=\"NSO\"),\"\",VLOOKUP($A820,'Result Entry'!$B$9:$EQ$108,124,0))","v":""},{"$f":"IF(OR($I825=\"\",$I825=\"NSO\"),\"\",VLOOKUP($A820,'Result Entry'!$B$9:$EQ$108,126,0))","v":""}]
[null,"◐",{"$nulls":6},"Total Meetings :-",null,{"$f":"IF(OR($I825=\"\",$I825=\"NSO\"),\"\",VLOOKUP($A820,'Result Entry'!$B$9:$EQ$108,117,0))","v":0},"Attedance %"]
[null,"◐","Extra Subjects",{"$nulls":5},"Student's Meetings :-",null,{"$f":"IF(OR($I825=\"\",$I825=\"NSO\"),\"\",VLOOKUP($A820,'Result Entry'!$B$9:$EQ$108,118,0))","v":0},{"$f":"IF(OR($I825=\"\",$I825=\"NSO\"),\"\",VLOOKUP($A820,'Result Entry'!$B$9:$EQ$108,119,0))","v":""}]
[null,"◐","Subject",null,null,"Total Marks",null,"GRADE","Remark :-",null,{"$f":"IF(OR($I825=\"\",$I825=\"NSO\"),\"\",VLOOKUP($A820,'Result Entry'!$B$9:$EQ$108,127,0))","v":0}]
[null,"◐",{"$f":"'Result Entry'!$CH$3","v":"WORK EXP."},null,null,{"$f":"IF(OR(C847=\"\",$I825=\"NSO\"),\"\",VLOOKUP($A820,'Result Entry'!$B$9:$EQ$108,138,0))","v":"0/100"},null,{"$f":"IF(OR(C847=\"\",$I825=\"NSO\"),\"\",VLOOKUP($A820,'Result Entry'!$B$9:$EQ$108,92,0))","v":""},"Result Date :-",null,{"$f":"'Result Entry'!$U$2","v":"2024-05-07"}]
[null,"◐",{"$f":"'Result Entry'!$CP$3","v":"ART EDU."},null,null,{"$f":"IF(OR(C848=\"\",$I825=\"NSO\"),\"\",VLOOKUP($A820,'Result Entry'!$B$9:$EQ$108,142,0))","v":"0/100"},null,{"$f":"IF(OR(C848=\"\",$I825=\"NSO\"),\"\",VLOOKUP($A820,'Result Entry'!$B$9:$EQ$108,100,0))","v":""}]
[null,null,{"$f":"'Result Entry'!$CX$3","v":"H&P. EDU."},null,null,{"$f":"IF(OR(C849=\"\",$I825=\"NSO\"),\"\",VLOOKUP($A820,'Result Entry'!$B$9:$EQ$108,146,0))","v":"0/0"},null,{"$f":"IF(OR(C849=\"\",$I825=\"NSO\"),\"\",VLOOKUP($A820,'Result Entry'!$B$9:$EQ$108,108,0))","v":""}]
[null,"◐",{"$f":"'Result Entry'!$DF$3","v":0},null,null,{"$f":"IF(OR(C850=\"\",$I825=\"NSO\"),\"\",VLOOKUP($A820,'Result Entry'!$B$9:$EQ$108,131,0))","v":0},null,{"$f":"IF(OR(C850=\"\",$I825=\"NSO\"),\"\",VLOOKUP($A820,'Result Entry'!$B$9:$EQ$108,97,0))","v":0},"Signature Of The Class Teacher"]
[null,"◐","Grading System"]
[null,"◐","Grd.","% Range",null,"Description"]
[null,"◐","A","86-100",null,"Excellent",null,null,"Signature And Seal Of Principal/H.M."]
[null,"◐","B","71-85",null,"Very Good"]
[null,"◐","C","51-70",null,"Good"]
[null,"◐","D","31-50",null,"Average"]
[null,"◐","E","0-30",null,"Needs Improvement",null,null,"Wish bright future"]
[]
[{"$f":"A820+1","v":23},"Department Of Education, Rajasthan"]
[null,{"$f":"IF(I864>0,CONCATENATE(C864,I864),0)","v":0},null,{"$f":"Master!$E$8","v":"Govt.Sr.Sec.Sch."}]
[{"$nulls":3},{"$f":"Master!$E$11","v":"P.S.-Bapini (Jodhpur)"}]
[null,null,"Report Card",{"$nulls":6},"U-DISE Code:-",null,{"$f":"Master!$E$14","v":{"v":810000000,"d":"0810000000"}}]
[{"$nulls":9},"Session:-",null,{"$f":"Master!$E$6","v":"2023-24"}]
[null,null,"Roll No.:-",{"$nulls":5},{"$f":"VLOOKUP($A859,'Result Entry'!$B$9:$F$108,5,0)","v":0}]
[null,"◐","Scholar Number",{"$nulls":3},"↠",{"$f":"VLOOKUP($A859,'Result Entry'!$B$9:$EQ$108,3,0)","v":0}]
[null,"◐","Student's Name",{"$nulls":3},"↠",{"$f":"VLOOKUP($A859,'Result Entry'!$B$9:$EQ$108,6,0)","v":0}]
[null,"◐","Father's Name",{"$nulls":3},"↠",{"$f":"VLOOKUP($A859,'Result Entry'!$B$9:$EQ$108,7,0)","v":0}]
[null,"◐","Mother's Name ",{"$nulls":3},"↠",{"$f":"VLOOKUP($A859,'Result Entry'!$B$9:$EQ$108,8,0)","v":0}]
[null,"◐","Class & Section",{"$nulls":3},"↠",{"$f":"CONCATENATE('Result Entry'!$F$4,'Result Entry'!$I$4)","v":"2(A)"}]
[null,"◐","Date Of Birth",{"$nulls":3},"↠",{"$f":"VLOOKUP($A859,'Result Entry'!$B$9:$EQ$108,9,0)","v":"00:00:00"}]
[null,"◐","Subject",null,{"$f":"'Result Entry'!$K$6","v":"First Test"},{"$f":"'Result Entry'!$L$6","v":"Second Test"},{"$f":"'Result Entry'!$M$6","v":"Third Test"},"Half Yearly","Total (Test+H.Y.)","Yearly","Grand Total",null,"Subject Grade"]
[null,"◐","Max. Marks",null,{"$f":"'Result Entry'!$K$7","v":10},{"$f":"'Result Entry'!$L$7","v":10},{"$f":"'Result Entry'!$M$7","v":10},{"$f":"'Result Entry'!$R$7","v":70},{"$f":"SUM(E872:H872)","v":100},{"$f":"'Result Entry'!$V$7","v":100},{"$f":"I872+J872","v":200},null,"A+/A/B/C/D"]
[null,"◐",{"$f":"'Result Entry'!$K$3","v":"Hindi"},null,{"$f":"IF(OR(C873=\"\",$I864=\"NSO\"),\"\",VLOOKUP($A859,'Result Entry'!$B$9:$EQ$108,10,0))","v":0},{"$f":"IF(OR(C873=\"\",$I864=\"NSO\"),\"\",VLOOKUP($A859,'Result Entry'!$B$9:$EQ$108,11,0))","v":0},{"$f":"IF(OR(C873=\"\",$I864=\"NSO\"),\"\",VLOOKUP($A859,'Result Entry'!$B$9:$EQ$108,12,0))","v":0},{"$f":"IF(OR(C873=\"\",$I864=\"NSO\"),\"\",VLOOKUP($A859,'Result Entry'!$B$9:$EQ$108,17,0))","v":0},{"$f":"SUM(E873:H873)","v":0},{"$f":"IF(OR(C873=\"\",$I864=\"NSO\"),\"\",VLOOKUP($A859,'Result Entry'!$B$9:$EQ$108,21,0))","v":0},{"$f":"SUM(I873,J873)","v":0},null,{"$f":"IF(OR(C873=\"\",$I864=\"NSO\"),\"\",VLOOKUP($A859,'Result Entry'!$B$9:$EQ$108,24,0))","v":""}]
[null,"◐",{"$f":"'Result Entry'!$Z$3","v":"Mathematics"},null,{"$f":"IF(OR(C874=\"\",$I864=\"NSO\"),\"\",VLOOKUP($A859,'Result Entry'!$B$9:$EQ$108,25,0))","v":0},{"$f":"IF(OR(C874=\"\",$I864=\"NSO\"),\"\",VLOOKUP($A859,'Result Entry'!$B$9:$EQ$108,26,0))","v":0},{"$f":"IF(OR(C874=\"\",$I864=\"NSO\"),\"\",VLOOKUP($A859,'Result Entry'!$B$9:$EQ$108,27,0))","v":0},{"$f":"IF(OR(C874=\"\",$I864=\"NSO\"),\"\",VLOOKUP($A859,'Result Entry'!$B$9:$EQ$108,32,0))","v":0},0,{"$f":"IF(OR(C874=\"\",$I864=\"NSO\"),\"\",VLOOKUP($A859,'Result Entry'!$B$9:$EQ$108,36,0))","v":0},{"$f":"SUM(I874,J874)","v":0},null,{"$f":"IF(OR(C874=\"\",$I864=\"NSO\"),\"\",VLOOKUP($A859,'Result Entry'!$B$9:$EQ$108,39,0))","v":""}]
[null,"◐",{"$f":"'Result Entry'!$BD$3","v":"Env. Study"},null,{"$f":"IF(OR(C875=\"\",$I864=\"NSO\"),\"\",VLOOKUP($A859,'Result Entry'!$B$9:$EQ$108,55,0))","v":0},{"$f":"IF(OR(C875=\"\",$I864=\"NSO\"),\"\",VLOOKUP($A859,'Result Entry'!$B$9:$EQ$108,56,0))","v":0},{"$f":"IF(OR(C875=\"\",$I864=\"NSO\"),\"\",VLOOKUP($A859,'Result Entry'!$B$9:$EQ$108,57,0))","v":0},{"$f":"IF(OR(C873=\"\",$I864=\"NSO\"),\"\",VLOOKUP($A859,'Result Entry'!$B$9:$EQ$108,62,0))","v":0},0,{"$f":"IF(OR(C874=\"\",$I864=\"NSO\"),\"\",VLOOKUP($A859,'Result Entry'!$B$9:$EQ$108,66,0))","v":0},0,null,{"$f":"IF(OR(C874=\"\",$I864=\"NSO\"),\"\",VLOOKUP($A859,'Result Entry'!$B$9:$EQ$108,69,0))","v":""}]
[null,"◐","Max. Marks",null,{"$f":"'Result Entry'!$AO$7","v":5},{"$f":"'Result Entry'!$AP$7","v":5},{"$f":"'Result Entry'!$AQ$7","v":5},{"$f":"'Result Entry'!$AV$7","v":35},50,{"$f":"'Result Entry'!$AZ$7","v":50},100,null,"A+/A/B/C/D"]
[null,"◐",{"$f":"'Result Entry'!$AO$3","v":"English"},null,{"$f":"IF(OR(C877=\"\",$I864=\"NSO\"),\"\",VLOOKUP($A859,'Result Entry'!$B$9:$EQ$108,40,0))","v":0},{"$f":"IF(OR(C877=\"\",$I864=\"NSO\"),\"\",VLOOKUP($A859,'Result Entry'!$B$9:$EQ$108,41,0))","v":0},{"$f":"IF(OR(C877=\"\",$I864=\"NSO\"),\"\",VLOOKUP($A859,'Result Entry'!$B$9:$EQ$108,42,0))","v":0},{"$f":"IF(OR(C877=\"\",$I864=\"NSO\"),\"\",VLOOKUP($A859,'Result Entry'!$B$9:$EQ$108,47,0))","v":0},0,{"$f":"IF(OR(C877=\"\",$I864=\"NSO\"),\"\",VLOOKUP($A859,'Result Entry'!$B$9:$EQ$108,51,0))","v":0},0,null,{"$f":"IF(OR(C877=\"\",$I864=\"NSO\"),\"\",VLOOKUP($A859,'Result Entry'!$B$9:$EQ$108,54,0))","v":""}]
[null,"◐","Max. Marks",null,{"$f":"'Result Entry'!$BS$7","v":10},{"$f":"'Result Entry'!$BT$7","v":10},{"$f":"'Result Entry'!$BU$7","v":10},{"$f":"'Result Entry'!$BZ$7","v":70},{"$f":"SUM(E878:H878)","v":100},{"$f":"'Result Entry'!$CD$7","v":100},200,null,"A+/A/B/C/D"]
[null,"◐",{"$f":"'Result Entry'!$BS$3","v":"Sanskrit/Urdu"},null,{"$f":"IF(OR(C879=\"\",$I864=\"NSO\"),\"\",VLOOKUP($A859,'Result Entry'!$B$9:$EQ$108,70,0))","v":0},{"$f":"IF(OR(C879=\"\",$I864=\"NSO\"),\"\",VLOOKUP($A859,'Result Entry'!$B$9:$EQ$108,71,0))","v":0},{"$f":"IF(OR(C879=\"\",$I864=\"NSO\"),\"\",VLOOKUP($A859,'Result Entry'!$B$9:$EQ$108,72,0))","v":0},{"$f":"IF(OR(C879=\"\",$I864=\"NSO\"),\"\",VLOOKUP($A859,'Result Entry'!$B$9:$EQ$108,77,0))","v":0},{"$f":"SUM(E879:H879)","v":0},{"$f":"IF(OR(C879=\"\",$I864=\"NSO\"),\"\",VLOOKUP($A859,'Result Entry'!$B$9:$EQ$108,81,0))","v":0},0,null,{"$f":"IF(OR(C879=\"\",$I864=\"NSO\"),\"\",VLOOKUP($A859,'Result Entry'!$B$9:$EQ$108,84,0))","v":""}]
[null,"◐"]
[null,"◐","Overall Result",null,null,"Total Max. Marks",null,"Total Obtained Marks",null,"Percentage","Overall Grade","Result","Position in Class"]
[null,"◐",{"$nulls":3},{"$f":"IF(OR($I864=\"\",$I864=\"NSO\"),\"\",VLOOKUP($A859,'Result Entry'!$B$9:$EQ$108,120,0))","v":900},null,{"$f":"IF(OR($I864=\"\",$I864=\"NSO\"),\"\",VLOOKUP($A859,'Result Entry'!$B$9:$EQ$108,121,0))","v":0},null,{"$f":"IF(OR($I864=\"\",$I864=\"NSO\"),\"\",VLOOKUP($A859,'Result Entry'!$B$9:$EQ$108,122,0))","v":{"v":0,"d":"0.00"}},{"$f":"IF(OR($I864=\"\",$I864=\"NSO\"),\"\",VLOOKUP($A859,'Result Entry'!$B$9:$EQ$108,123,0))","v":""},{"$f":"IF(OR($I864=\"\",$I864=\"NSO\"),\"\",VLOOKUP($A859,'Result Entry'!$B$9:$EQ$108,124,0))","v":""},{"$f":"IF(OR($I864=\"\",$I864=\"NSO\"),\"\",VLOOKUP($A859,'Result Entry'!$B$9:$EQ$108,126,0))","v":""}]
[null,"◐",{"$nulls":6},"Total Meetings :-",null,{"$f":"IF(OR($I864=\"\",$I864=\"NSO\"),\"\",VLOOKUP($A859,'Result Entry'!$B$9:$EQ$108,117,0))","v":0},"Attedance %"]
[null,"◐","Extra Subjects",{"$nulls":5},"Student's Meetings :-",null,{"$f":"IF(OR($I864=\"\",$I864=\"NSO\"),\"\",VLOOKUP($A859,'Result Entry'!$B$9:$EQ$108,118,0))","v":0},{"$f":"IF(OR($I864=\"\",$I864=\"NSO\"),\"\",VLOOKUP($A859,'Result Entry'!$B$9:$EQ$108,119,0))","v":""}]
[null,"◐","Subject",null,null,"Total Marks",null,"GRADE","Remark :-",null,{"$f":"IF(OR($I864=\"\",$I864=\"NSO\"),\"\",VLOOKUP($A859,'Result Entry'!$B$9:$EQ$108,127,0))","v":0}]
[null,"◐",{"$f":"'Result Entry'!$CH$3","v":"WORK EXP."},null,null,{"$f":"IF(OR(C886=\"\",$I864=\"NSO\"),\"\",VLOOKUP($A859,'Result Entry'!$B$9:$EQ$108,138,0))","v":"0/100"},null,{"$f":"IF(OR(C886=\"\",$I864=\"NSO\"),\"\",VLOOKUP($A859,'Result Entry'!$B$9:$EQ$108,92,0))","v":""},"Result Date :-",null,{"$f":"'Result Entry'!$U$2","v":"2024-05-07"}]
[null,"◐",{"$f":"'Result Entry'!$CP$3","v":"ART EDU."},null,null,{"$f":"IF(OR(C887=\"\",$I864=\"NSO\"),\"\",VLOOKUP($A859,'Result Entry'!$B$9:$EQ$108,142,0))","v":"0/100"},null,{"$f":"IF(OR(C887=\"\",$I864=\"NSO\"),\"\",VLOOKUP($A859,'Result Entry'!$B$9:$EQ$108,100,0))","v":""}]
[null,null,{"$f":"'Result Entry'!$CX$3","v":"H&P. EDU."},null,null,{"$f":"IF(OR(C888=\"\",$I864=\"NSO\"),\"\",VLOOKUP($A859,'Result Entry'!$B$9:$EQ$108,146,0))","v":"0/0"},null,{"$f":"IF(OR(C888=\"\",$I864=\"NSO\"),\"\",VLOOKUP($A859,'Result Entry'!$B$9:$EQ$108,108,0))","v":""}]
[null,"◐",{"$f":"'Result Entry'!$DF$3","v":0},null,null,{"$f":"IF(OR(C889=\"\",$I864=\"NSO\"),\"\",VLOOKUP($A859,'Result Entry'!$B$9:$EQ$108,131,0))","v":0},null,{"$f":"IF(OR(C889=\"\",$I864=\"NSO\"),\"\",VLOOKUP($A859,'Result Entry'!$B$9:$EQ$108,97,0))","v":0},"Signature Of The Class Teacher"]
[null,"◐","Grading System"]
[null,"◐","Grd.","% Range",null,"Description"]
[null,"◐","A","86-100",null,"Excellent",null,null,"Signature And Seal Of Principal/H.M."]
[null,"◐","B","71-85",null,"Very Good"]
[null,"◐","C","51-70",null,"Good"]
[null,"◐","D","31-50",null,"Average"]
[null,"◐","E","0-30",null,"Needs Improvement",null,null,"Wish bright future"]
[]
[{"$f":"A859+1","v":24},"Department Of Education, Rajasthan"]
[null,{"$f":"IF(I903>0,CONCATENATE(C903,I903),0)","v":0},null,{"$f":"Master!$E$8","v":"Govt.Sr.Sec.Sch."}]
[{"$nulls":3},{"$f":"Master!$E$11","v":"P.S.-Bapini (Jodhpur)"}]
[null,null,"Report Card",{"$nulls":6},"U-DISE Code:-",null,{"$f":"Master!$E$14","v":{"v":810000000,"d":"0810000000"}}]
[{"$nulls":9},"Session:-",null,{"$f":"Master!$E$6","v":"2023-24"}]
[null,null,"Roll No.:-",{"$nulls":5},{"$f":"VLOOKUP($A898,'Result Entry'!$B$9:$F$108,5,0)","v":0}]
[null,"◐","Scholar Number",{"$nulls":3},"↠",{"$f":"VLOOKUP($A898,'Result Entry'!$B$9:$EQ$108,3,0)","v":0}]
[null,"◐","Student's Name",{"$nulls":3},"↠",{"$f":"VLOOKUP($A898,'Result Entry'!$B$9:$EQ$108,6,0)","v":0}]
[null,"◐","Father's Name",{"$nulls":3},"↠",{"$f":"VLOOKUP($A898,'Result Entry'!$B$9:$EQ$108,7,0)","v":0}]
[null,"◐","Mother's Name ",{"$nulls":3},"↠",{"$f":"VLOOKUP($A898,'Result Entry'!$B$9:$EQ$108,8,0)","v":0}]
[null,"◐","Class & Section",{"$nulls":3},"↠",{"$f":"CONCATENATE('Result Entry'!$F$4,'Result Entry'!$I$4)","v":"2(A)"}]
[null,"◐","Date Of Birth",{"$nulls":3},"↠",{"$f":"VLOOKUP($A898,'Result Entry'!$B$9:$EQ$108,9,0)","v":"00:00:00"}]
[null,"◐","Subject",null,{"$f":"'Result Entry'!$K$6","v":"First Test"},{"$f":"'Result Entry'!$L$6","v":"Second Test"},{"$f":"'Result Entry'!$M$6","v":"Third Test"},"Half Yearly","Total (Test+H.Y.)","Yearly","Grand Total",null,"Subject Grade"]
[null,"◐","Max. Marks",null,{"$f":"'Result Entry'!$K$7","v":10},{"$f":"'Result Entry'!$L$7","v":10},{"$f":"'Result Entry'!$M$7","v":10},{"$f":"'Result Entry'!$R$7","v":70},{"$f":"SUM(E911:H911)","v":100},{"$f":"'Result Entry'!$V$7","v":100},{"$f":"I911+J911","v":200},null,"A+/A/B/C/D"]
[null,"◐",{"$f":"'Result Entry'!$K$3","v":"Hindi"},null,{"$f":"IF(OR(C912=\"\",$I903=\"NSO\"),\"\",VLOOKUP($A898,'Result Entry'!$B$9:$EQ$108,10,0))","v":0},{"$f":"IF(OR(C912=\"\",$I903=\"NSO\"),\"\",VLOOKUP($A898,'Result Entry'!$B$9:$EQ$108,11,0))","v":0},{"$f":"IF(OR(C912=\"\",$I903=\"NSO\"),\"\",VLOOKUP($A898,'Result Entry'!$B$9:$EQ$108,12,0))","v":0},{"$f":"IF(OR(C912=\"\",$I903=\"NSO\"),\"\",VLOOKUP($A898,'Result Entry'!$B$9:$EQ$108,17,0))","v":0},{"$f":"SUM(E912:H912)","v":0},{"$f":"IF(OR(C912=\"\",$I903=\"NSO\"),\"\",VLOOKUP($A898,'Result Entry'!$B$9:$EQ$108,21,0))","v":0},{"$f":"SUM(I912,J912)","v":0},null,{"$f":"IF(OR(C912=\"\",$I903=\"NSO\"),\"\",VLOOKUP($A898,'Result Entry'!$B$9:$EQ$108,24,0))","v":""}]
[null,"◐",{"$f":"'Result Entry'!$Z$3","v":"Mathematics"},null,{"$f":"IF(OR(C913=\"\",$I903=\"NSO\"),\"\",VLOOKUP($A898,'Result Entry'!$B$9:$EQ$108,25,0))","v":0},{"$f":"IF(OR(C913=\"\",$I903=\"NSO\"),\"\",VLOOKUP($A898,'Result Entry'!$B$9:$EQ$108,26,0))","v":0},{"$f":"IF(OR(C913=\"\",$I903=\"NSO\"),\"\",VLOOKUP($A898,'Result Entry'!$B$9:$EQ$108,27,0))","v":0},{"$f":"IF(OR(C913=\"\",$I903=\"NSO\"),\"\",VLOOKUP($A898,'Result Entry'!$B$9:$EQ$108,32,0))","v":0},0,{"$f":"IF(OR(C913=\"\",$I903=\"NSO\"),\"\",VLOOKUP($A898,'Result Entry'!$B$9:$EQ$108,36,0))","v":0},{"$f":"SUM(I913,J913)","v":0},null,{"$f":"IF(OR(C913=\"\",$I903=\"NSO\"),\"\",VLOOKUP($A898,'Result Entry'!$B$9:$EQ$108,39,0))","v":""}]
[null,"◐",{"$f":"'Result Entry'!$BD$3","v":"Env. Study"},null,{"$f":"IF(OR(C914=\"\",$I903=\"NSO\"),\"\",VLOOKUP($A898,'Result Entry'!$B$9:$EQ$108,55,0))","v":0},{"$f":"IF(OR(C914=\"\",$I903=\"NSO\"),\"\",VLOOKUP($A898,'Result Entry'!$B$9:$EQ$108,56,0))","v":0},{"$f":"IF(OR(C914=\"\",$I903=\"NSO\"),\"\",VLOOKUP($A898,'Result Entry'!$B$9:$EQ$108,57,0))","v":0},{"$f":"IF(OR(C912=\"\",$I903=\"NSO\"),\"\",VLOOKUP($A898,'Result Entry'!$B$9:$EQ$108,62,0))","v":0},0,{"$f":"IF(OR(C913=\"\",$I903=\"NSO\"),\"\",VLOOKUP($A898,'Result Entry'!$B$9:$EQ$108,66,0))","v":0},0,null,{"$f":"IF(OR(C913=\"\",$I903=\"NSO\"),\"\",VLOOKUP($A898,'Result Entry'!$B$9:$EQ$108,69,0))","v":""}]
[null,"◐","Max. Marks",null,{"$f":"'Result Entry'!$AO$7","v":5},{"$f":"'Result Entry'!$AP$7","v":5},{"$f":"'Result Entry'!$AQ$7","v":5},{"$f":"'Result Entry'!$AV$7","v":35},50,{"$f":"'Result Entry'!$AZ$7","v":50},100,null,"A+/A/B/C/D"]
[null,"◐",{"$f":"'Result Entry'!$AO$3","v":"English"},null,{"$f":"IF(OR(C916=\"\",$I903=\"NSO\"),\"\",VLOOKUP($A898,'Result Entry'!$B$9:$EQ$108,40,0))","v":0},{"$f":"IF(OR(C916=\"\",$I903=\"NSO\"),\"\",VLOOKUP($A898,'Result Entry'!$B$9:$EQ$108,41,0))","v":0},{"$f":"IF(OR(C916=\"\",$I903=\"NSO\"),\"\",VLOOKUP($A898,'Result Entry'!$B$9:$EQ$108,42,0))","v":0},{"$f":"IF(OR(C916=\"\",$I903=\"NSO\"),\"\",VLOOKUP($A898,'Result Entry'!$B$9:$EQ$108,47,0))","v":0},0,{"$f":"IF(OR(C916=\"\",$I903=\"NSO\"),\"\",VLOOKUP($A898,'Result Entry'!$B$9:$EQ$108,51,0))","v":0},0,null,{"$f":"IF(OR(C916=\"\",$I903=\"NSO\"),\"\",VLOOKUP($A898,'Result Entry'!$B$9:$EQ$108,54,0))","v":""}]
[null,"◐","Max. Marks",null,{"$f":"'Result Entry'!$BS$7","v":10},{"$f":"'Result Entry'!$BT$7","v":10},{"$f":"'Result Entry'!$BU$7","v":10},{"$f":"'Result Entry'!$BZ$7","v":70},{"$f":"SUM(E917:H917)","v":100},{"$f":"'Result Entry'!$CD$7","v":100},200,null,"A+/A/B/C/D"]
[null,"◐",{"$f":"'Result Entry'!$BS$3","v":"Sanskrit/Urdu"},null,{"$f":"IF(OR(C918=\"\",$I903=\"NSO\"),\"\",VLOOKUP($A898,'Result Entry'!$B$9:$EQ$108,70,0))","v":0},{"$f":"IF(OR(C918=\"\",$I903=\"NSO\"),\"\",VLOOKUP($A898,'Result Entry'!$B$9:$EQ$108,71,0))","v":0},{"$f":"IF(OR(C918=\"\",$I903=\"NSO\"),\"\",VLOOKUP($A898,'Result Entry'!$B$9:$EQ$108,72,0))","v":0},{"$f":"IF(OR(C918=\"\",$I903=\"NSO\"),\"\",VLOOKUP($A898,'Result Entry'!$B$9:$EQ$108,77,0))","v":0},{"$f":"SUM(E918:H918)","v":0},{"$f":"IF(OR(C918=\"\",$I903=\"NSO\"),\"\",VLOOKUP($A898,'Result Entry'!$B$9:$EQ$108,81,0))","v":0},0,null,{"$f":"IF(OR(C918=\"\",$I903=\"NSO\"),\"\",VLOOKUP($A898,'Result Entry'!$B$9:$EQ$108,84,0))","v":""}]
[null,"◐"]
[null,"◐","Overall Result",null,null,"Total Max. Marks",null,"Total Obtained Marks",null,"Percentage","Overall Grade","Result","Position in Class"]
[null,"◐",{"$nulls":3},{"$f":"IF(OR($I903=\"\",$I903=\"NSO\"),\"\",VLOOKUP($A898,'Result Entry'!$B$9:$EQ$108,120,0))","v":900},null,{"$f":"IF(OR($I903=\"\",$I903=\"NSO\"),\"\",VLOOKUP($A898,'Result Entry'!$B$9:$EQ$108,121,0))","v":0},null,{"$f":"IF(OR($I903=\"\",$I903=\"NSO\"),\"\",VLOOKUP($A898,'Result Entry'!$B$9:$EQ$108,122,0))","v":{"v":0,"d":"0.00"}},{"$f":"IF(OR($I903=\"\",$I903=\"NSO\"),\"\",VLOOKUP($A898,'Result Entry'!$B$9:$EQ$108,123,0))","v":""},{"$f":"IF(OR($I903=\"\",$I903=\"NSO\"),\"\",VLOOKUP($A898,'Result Entry'!$B$9:$EQ$108,124,0))","v":""},{"$f":"IF(OR($I903=\"\",$I903=\"NSO\"),\"\",VLOOKUP($A898,'Result Entry'!$B$9:$EQ$108,126,0))","v":""}]
[null,"◐",{"$nulls":6},"Total Meetings :-",null,{"$f":"IF(OR($I903=\"\",$I903=\"NSO\"),\"\",VLOOKUP($A898,'Result Entry'!$B$9:$EQ$108,117,0))","v":0},"Attedance %"]
[null,"◐","Extra Subjects",{"$nulls":5},"Student's Meetings :-",null,{"$f":"IF(OR($I903=\"\",$I903=\"NSO\"),\"\",VLOOKUP($A898,'Result Entry'!$B$9:$EQ$108,118,0))","v":0},{"$f":"IF(OR($I903=\"\",$I903=\"NSO\"),\"\",VLOOKUP($A898,'Result Entry'!$B$9:$EQ$108,119,0))","v":""}]
[null,"◐","Subject",null,null,"Total Marks",null,"GRADE","Remark :-",null,{"$f":"IF(OR($I903=\"\",$I903=\"NSO\"),\"\",VLOOKUP($A898,'Result Entry'!$B$9:$EQ$108,127,0))","v":0}]
[null,"◐",{"$f":"'Result Entry'!$CH$3","v":"WORK EXP."},null,null,{"$f":"IF(OR(C925=\"\",$I903=\"NSO\"),\"\",VLOOKUP($A898,'Result Entry'!$B$9:$EQ$108,138,0))","v":"0/100"},null,{"$f":"IF(OR(C925=\"\",$I903=\"NSO\"),\"\",VLOOKUP($A898,'Result Entry'!$B$9:$EQ$108,92,0))","v":""},"Result Date :-",null,{"$f":"'Result Entry'!$U$2","v":"2024-05-07"}]
[null,"◐",{"$f":"'Result Entry'!$CP$3","v":"ART EDU."},null,null,{"$f":"IF(OR(C926=\"\",$I903=\"NSO\"),\"\",VLOOKUP($A898,'Result Entry'!$B$9:$EQ$108,142,0))","v":"0/100"},null,{"$f":"IF(OR(C926=\"\",$I903=\"NSO\"),\"\",VLOOKUP($A898,'Result Entry'!$B$9:$EQ$108,100,0))","v":""}]
[null,null,{"$f":"'Result Entry'!$CX$3","v":"H&P. EDU."},null,null,{"$f":"IF(OR(C927=\"\",$I903=\"NSO\"),\"\",VLOOKUP($A898,'Result Entry'!$B$9:$EQ$108,146,0))","v":"0/0"},null,{"$f":"IF(OR(C927=\"\",$I903=\"NSO\"),\"\",VLOOKUP($A898,'Result Entry'!$B$9:$EQ$108,108,0))","v":""}]
[null,"◐",{"$f":"'Result Entry'!$DF$3","v":0},null,null,{"$f":"IF(OR(C928=\"\",$I903=\"NSO\"),\"\",VLOOKUP($A898,'Result Entry'!$B$9:$EQ$108,131,0))","v":0},null,{"$f":"IF(OR(C928=\"\",$I903=\"NSO\"),\"\",VLOOKUP($A898,'Result Entry'!$B$9:$EQ$108,97,0))","v":0},"Signature Of The Class Teacher"]
[null,"◐","Grading System"]
[null,"◐","Grd.","% Range",null,"Description"]
[null,"◐","A","86-100",null,"Excellent",null,null,"Signature And Seal Of Principal/H.M."]
[null,"◐","B","71-85",null,"Very Good"]
[null,"◐","C","51-70",null,"Good"]
[null,"◐","D","31-50",null,"Average"]
[null,"◐","E","0-30",null,"Needs Improvement",null,null,"Wish bright future"]
[]
[{"$f":"A898+1","v":25},"Department Of Education, Rajasthan"]
[null,{"$f":"IF(I942>0,CONCATENATE(C942,I942),0)","v":0},null,{"$f":"Master!$E$8","v":"Govt.Sr.Sec.Sch."}]
[{"$nulls":3},{"$f":"Master!$E$11","v":"P.S.-Bapini (Jodhpur)"}]
[null,null,"Report Card",{"$nulls":6},"U-DISE Code:-",null,{"$f":"Master!$E$14","v":{"v":810000000,"d":"0810000000"}}]
[{"$nulls":9},"Session:-",null,{"$f":"Master!$E$6","v":"2023-24"}]
[null,null,"Roll No.:-",{"$nulls":5},{"$f":"VLOOKUP($A937,'Result Entry'!$B$9:$F$108,5,0)","v":0}]
[null,"◐","Scholar Number",{"$nulls":3},"↠",{"$f":"VLOOKUP($A937,'Result Entry'!$B$9:$EQ$108,3,0)","v":0}]
[null,"◐","Student's Name",{"$nulls":3},"↠",{"$f":"VLOOKUP($A937,'Result Entry'!$B$9:$EQ$108,6,0)","v":0}]
[null,"◐","Father's Name",{"$nulls":3},"↠",{"$f":"VLOOKUP($A937,'Result Entry'!$B$9:$EQ$108,7,0)","v":0}]
[null,"◐","Mother's Name ",{"$nulls":3},"↠",{"$f":"VLOOKUP($A937,'Result Entry'!$B$9:$EQ$108,8,0)","v":0}]
[null,"◐","Class & Section",{"$nulls":3},"↠",{"$f":"CONCATENATE('Result Entry'!$F$4,'Result Entry'!$I$4)","v":"2(A)"}]
[null,"◐","Date Of Birth",{"$nulls":3},"↠",{"$f":"VLOOKUP($A937,'Result Entry'!$B$9:$EQ$108,9,0)","v":"00:00:00"}]
[null,"◐","Subject",null,{"$f":"'Result Entry'!$K$6","v":"First Test"},{"$f":"'Result Entry'!$L$6","v":"Second Test"},{"$f":"'Result Entry'!$M$6","v":"Third Test"},"Half Yearly","Total (Test+H.Y.)","Yearly","Grand Total",null,"Subject Grade"]
[null,"◐","Max. Marks",null,{"$f":"'Result Entry'!$K$7","v":10},{"$f":"'Result Entry'!$L$7","v":10},{"$f":"'Result Entry'!$M$7","v":10},{"$f":"'Result Entry'!$R$7","v":70},{"$f":"SUM(E950:H950)","v":100},{"$f":"'Result Entry'!$V$7","v":100},{"$f":"I950+J950","v":200},null,"A+/A/B/C/D"]
[null,"◐",{"$f":"'Result Entry'!$K$3","v":"Hindi"},null,{"$f":"IF(OR(C951=\"\",$I942=\"NSO\"),\"\",VLOOKUP($A937,'Result Entry'!$B$9:$EQ$108,10,0))","v":0},{"$f":"IF(OR(C951=\"\",$I942=\"NSO\"),\"\",VLOOKUP($A937,'Result Entry'!$B$9:$EQ$108,11,0))","v":0},{"$f":"IF(OR(C951=\"\",$I942=\"NSO\"),\"\",VLOOKUP($A937,'Result Entry'!$B$9:$EQ$108,12,0))","v":0},{"$f":"IF(OR(C951=\"\",$I942=\"NSO\"),\"\",VLOOKUP($A937,'Result Entry'!$B$9:$EQ$108,17,0))","v":0},{"$f":"SUM(E951:H951)","v":0},{"$f":"IF(OR(C951=\"\",$I942=\"NSO\"),\"\",VLOOKUP($A937,'Result Entry'!$B$9:$EQ$108,21,0))","v":0},{"$f":"SUM(I951,J951)","v":0},null,{"$f":"IF(OR(C951=\"\",$I942=\"NSO\"),\"\",VLOOKUP($A937,'Result Entry'!$B$9:$EQ$108,24,0))","v":""}]
[null,"◐",{"$f":"'Result Entry'!$Z$3","v":"Mathematics"},null,{"$f":"IF(OR(C952=\"\",$I942=\"NSO\"),\"\",VLOOKUP($A937,'Result Entry'!$B$9:$EQ$108,25,0))","v":0},{"$f":"IF(OR(C952=\"\",$I942=\"NSO\"),\"\",VLOOKUP($A937,'Result Entry'!$B$9:$EQ$108,26,0))","v":0},{"$f":"IF(OR(C952=\"\",$I942=\"NSO\"),\"\",VLOOKUP($A937,'Result Entry'!$B$9:$EQ$108,27,0))","v":0},{"$f":"IF(OR(C952=\"\",$I942=\"NSO\"),\"\",VLOOKUP($A937,'Result Entry'!$B$9:$EQ$108,32,0))","v":0},0,{"$f":"IF(OR(C952=\"\",$I942=\"NSO\"),\"\",VLOOKUP($A937,'Result Entry'!$B$9:$EQ$108,36,0))","v":0},{"$f":"SUM(I952,J952)","v":0},null,{"$f":"IF(OR(C952=\"\",$I942=\"NSO\"),\"\",VLOOKUP($A937,'Result Entry'!$B$9:$EQ$108,39,0))","v":""}]
[null,"◐",{"$f":"'Result Entry'!$BD$3","v":"Env. Study"},null,{"$f":"IF(OR(C953=\"\",$I942=\"NSO\"),\"\",VLOOKUP($A937,'Result Entry'!$B$9:$EQ$108,55,0))","v":0},{"$f":"IF(OR(C953=\"\",$I942=\"NSO\"),\"\",VLOOKUP($A937,'Result Entry'!$B$9:$EQ$108,56,0))","v":0},{"$f":"IF(OR(C953=\"\",$I942=\"NSO\"),\"\",VLOOKUP($A937,'Result Entry'!$B$9:$EQ$108,57,0))","v":0},{"$f":"IF(OR(C951=\"\",$I942=\"NSO\"),\"\",VLOOKUP($A937,'Result Entry'!$B$9:$EQ$108,62,0))","v":0},0,{"$f":"IF(OR(C952=\"\",$I942=\"NSO\"),\"\",VLOOKUP($A937,'Result Entry'!$B$9:$EQ$108,66,0))","v":0},0,null,{"$f":"IF(OR(C952=\"\",$I942=\"NSO\"),\"\",VLOOKUP($A937,'Result Entry'!$B$9:$EQ$108,69,0))","v":""}]
[null,"◐","Max. Marks",null,{"$f":"'Result Entry'!$AO$7","v":5},{"$f":"'Result Entry'!$AP$7","v":5},{"$f":"'Result Entry'!$AQ$7","v":5},{"$f":"'Result Entry'!$AV$7","v":35},50,{"$f":"'Result Entry'!$AZ$7","v":50},100,null,"A+/A/B/C/D"]
[null,"◐",{"$f":"'Result Entry'!$AO$3","v":"English"},null,{"$f":"IF(OR(C955=\"\",$I942=\"NSO\"),\"\",VLOOKUP($A937,'Result Entry'!$B$9:$EQ$108,40,0))","v":0},{"$f":"IF(OR(C955=\"\",$I942=\"NSO\"),\"\",VLOOKUP($A937,'Result Entry'!$B$9:$EQ$108,41,0))","v":0},{"$f":"IF(OR(C955=\"\",$I942=\"NSO\"),\"\",VLOOKUP($A937,'Result Entry'!$B$9:$EQ$108,42,0))","v":0},{"$f":"IF(OR(C955=\"\",$I942=\"NSO\"),\"\",VLOOKUP($A937,'Result Entry'!$B$9:$EQ$108,47,0))","v":0},0,{"$f":"IF(OR(C955=\"\",$I942=\"NSO\"),\"\",VLOOKUP($A937,'Result Entry'!$B$9:$EQ$108,51,0))","v":0},0,null,{"$f":"IF(OR(C955=\"\",$I942=\"NSO\"),\"\",VLOOKUP($A937,'Result Entry'!$B$9:$EQ$108,54,0))","v":""}]
[null,"◐","Max. Marks",null,{"$f":"'Result Entry'!$BS$7","v":10},{"$f":"'Result Entry'!$BT$7","v":10},{"$f":"'Result Entry'!$BU$7","v":10},{"$f":"'Result Entry'!$BZ$7","v":70},{"$f":"SUM(E956:H956)","v":100},{"$f":"'Result Entry'!$CD$7","v":100},200,null,"A+/A/B/C/D"]
[null,"◐",{"$f":"'Result Entry'!$BS$3","v":"Sanskrit/Urdu"},null,{"$f":"IF(OR(C957=\"\",$I942=\"NSO\"),\"\",VLOOKUP($A937,'Result Entry'!$B$9:$EQ$108,70,0))","v":0},{"$f":"IF(OR(C957=\"\",$I942=\"NSO\"),\"\",VLOOKUP($A937,'Result Entry'!$B$9:$EQ$108,71,0))","v":0},{"$f":"IF(OR(C957=\"\",$I942=\"NSO\"),\"\",VLOOKUP($A937,'Result Entry'!$B$9:$EQ$108,72,0))","v":0},{"$f":"IF(OR(C957=\"\",$I942=\"NSO\"),\"\",VLOOKUP($A937,'Result Entry'!$B$9:$EQ$108,77,0))","v":0},{"$f":"SUM(E957:H957)","v":0},{"$f":"IF(OR(C957=\"\",$I942=\"NSO\"),\"\",VLOOKUP($A937,'Result Entry'!$B$9:$EQ$108,81,0))","v":0},0,null,{"$f":"IF(OR(C957=\"\",$I942=\"NSO\"),\"\",VLOOKUP($A937,'Result Entry'!$B$9:$EQ$108,84,0))","v":""}]
[null,"◐"]
[null,"◐","Overall Result",null,null,"Total Max. Marks",null,"Total Obtained Marks",null,"Percentage","Overall Grade","Result","Position in Class"]
[null,"◐",{"$nulls":3},{"$f":"IF(OR($I942=\"\",$I942=\"NSO\"),\"\",VLOOKUP($A937,'Result Entry'!$B$9:$EQ$108,120,0))","v":900},null,{"$f":"IF(OR($I942=\"\",$I942=\"NSO\"),\"\",VLOOKUP($A937,'Result Entry'!$B$9:$EQ$108,121,0))","v":0},null,{"$f":"IF(OR($I942=\"\",$I942=\"NSO\"),\"\",VLOOKUP($A937,'Result Entry'!$B$9:$EQ$108,122,0))","v":{"v":0,"d":"0.00"}},{"$f":"IF(OR($I942=\"\",$I942=\"NSO\"),\"\",VLOOKUP($A937,'Result Entry'!$B$9:$EQ$108,123,0))","v":""},{"$f":"IF(OR($I942=\"\",$I942=\"NSO\"),\"\",VLOOKUP($A937,'Result Entry'!$B$9:$EQ$108,124,0))","v":""},{"$f":"IF(OR($I942=\"\",$I942=\"NSO\"),\"\",VLOOKUP($A937,'Result Entry'!$B$9:$EQ$108,126,0))","v":""}]
[null,"◐",{"$nulls":6},"Total Meetings :-",null,{"$f":"IF(OR($I942=\"\",$I942=\"NSO\"),\"\",VLOOKUP($A937,'Result Entry'!$B$9:$EQ$108,117,0))","v":0},"Attedance %"]
[null,"◐","Extra Subjects",{"$nulls":5},"Student's Meetings :-",null,{"$f":"IF(OR($I942=\"\",$I942=\"NSO\"),\"\",VLOOKUP($A937,'Result Entry'!$B$9:$EQ$108,118,0))","v":0},{"$f":"IF(OR($I942=\"\",$I942=\"NSO\"),\"\",VLOOKUP($A937,'Result Entry'!$B$9:$EQ$108,119,0))","v":""}]
[null,"◐","Subject",null,null,"Total Marks",null,"GRADE","Remark :-",null,{"$f":"IF(OR($I942=\"\",$I942=\"NSO\"),\"\",VLOOKUP($A937,'Result Entry'!$B$9:$EQ$108,127,0))","v":0}]
[null,"◐",{"$f":"'Result Entry'!$CH$3","v":"WORK EXP."},null,null,{"$f":"IF(OR(C964=\"\",$I942=\"NSO\"),\"\",VLOOKUP($A937,'Result Entry'!$B$9:$EQ$108,138,0))","v":"0/100"},null,{"$f":"IF(OR(C964=\"\",$I942=\"NSO\"),\"\",VLOOKUP($A937,'Result Entry'!$B$9:$EQ$108,92,0))","v":""},"Result Date :-",null,{"$f":"'Result Entry'!$U$2","v":"2024-05-07"}]
[null,"◐",{"$f":"'Result Entry'!$CP$3","v":"ART EDU."},null,null,{"$f":"IF(OR(C965=\"\",$I942=\"NSO\"),\"\",VLOOKUP($A937,'Result Entry'!$B$9:$EQ$108,142,0))","v":"0/100"},null,{"$f":"IF(OR(C965=\"\",$I942=\"NSO\"),\"\",VLOOKUP($A937,'Result Entry'!$B$9:$EQ$108,100,0))","v":""}]
[null,null,{"$f":"'Result Entry'!$CX$3","v":"H&P. EDU."},null,null,{"$f":"IF(OR(C966=\"\",$I942=\"NSO\"),\"\",VLOOKUP($A937,'Result Entry'!$B$9:$EQ$108,146,0))","v":"0/0"},null,{"$f":"IF(OR(C966=\"\",$I942=\"NSO\"),\"\",VLOOKUP($A937,'Result Entry'!$B$9:$EQ$108,108,0))","v":""}]
[null,"◐",{"$f":"'Result Entry'!$DF$3","v":0},null,null,{"$f":"IF(OR(C967=\"\",$I942=\"NSO\"),\"\",VLOOKUP($A937,'Result Entry'!$B$9:$EQ$108,131,0))","v":0},null,{"$f":"IF(OR(C967=\"\",$I942=\"NSO\"),\"\",VLOOKUP($A937,'Result Entry'!$B$9:$EQ$108,97,0))","v":0},"Signature Of The Class Teacher"]
[null,"◐","Grading System"]
[null,"◐","Grd.","% Range",null,"Description"]
[null,"◐","A","86-100",null,"Excellent",null,null,"Signature And Seal Of Principal/H.M."]
[null,"◐","B","71-85",null,"Very Good"]
[null,"◐","C","51-70",null,"Good"]
[null,"◐","D","31-50",null,"Average"]
[null,"◐","E","0-30",null,"Needs Improvement",null,null,"Wish bright future"]
[]
[{"$f":"A937+1","v":26},"Department Of Education, Rajasthan"]
[null,{"$f":"IF(I981>0,CONCATENATE(C981,I981),0)","v":0},null,{"$f":"Master!$E$8","v":"Govt.Sr.Sec.Sch."}]
[{"$nulls":3},{"$f":"Master!$E$11","v":"P.S.-Bapini (Jodhpur)"}]
[null,null,"Report Card",{"$nulls":6},"U-DISE Code:-",null,{"$f":"Master!$E$14","v":{"v":810000000,"d":"0810000000"}}]
[{"$nulls":9},"Session:-",null,{"$f":"Master!$E$6","v":"2023-24"}]
[null,null,"Roll No.:-",{"$nulls":5},{"$f":"VLOOKUP($A976,'Result Entry'!$B$9:$F$108,5,0)","v":0}]
[null,"◐","Scholar Number",{"$nulls":3},"↠",{"$f":"VLOOKUP($A976,'Result Entry'!$B$9:$EQ$108,3,0)","v":0}]
[null,"◐","Student's Name",{"$nulls":3},"↠",{"$f":"VLOOKUP($A976,'Result Entry'!$B$9:$EQ$108,6,0)","v":0}]
[null,"◐","Father's Name",{"$nulls":3},"↠",{"$f":"VLOOKUP($A976,'Result Entry'!$B$9:$EQ$108,7,0)","v":0}]
[null,"◐","Mother's Name ",{"$nulls":3},"↠",{"$f":"VLOOKUP($A976,'Result Entry'!$B$9:$EQ$108,8,0)","v":0}]
[null,"◐","Class & Section",{"$nulls":3},"↠",{"$f":"CONCATENATE('Result Entry'!$F$4,'Result Entry'!$I$4)","v":"2(A)"}]
[null,"◐","Date Of Birth",{"$nulls":3},"↠",{"$f":"VLOOKUP($A976,'Result Entry'!$B$9:$EQ$108,9,0)","v":"00:00:00"}]
[null,"◐","Subject",null,{"$f":"'Result Entry'!$K$6","v":"First Test"},{"$f":"'Result Entry'!$L$6","v":"Second Test"},{"$f":"'Result Entry'!$M$6","v":"Third Test"},"Half Yearly","Total (Test+H.Y.)","Yearly","Grand Total",null,"Subject Grade"]
[null,"◐","Max. Marks",null,{"$f":"'Result Entry'!$K$7","v":10},{"$f":"'Result Entry'!$L$7","v":10},{"$f":"'Result Entry'!$M$7","v":10},{"$f":"'Result Entry'!$R$7","v":70},{"$f":"SUM(E989:H989)","v":100},{"$f":"'Result Entry'!$V$7","v":100},{"$f":"I989+J989","v":200},null,"A+/A/B/C/D"]
[null,"◐",{"$f":"'Result Entry'!$K$3","v":"Hindi"},null,{"$f":"IF(OR(C990=\"\",$I981=\"NSO\"),\"\",VLOOKUP($A976,'Result Entry'!$B$9:$EQ$108,10,0))","v":0},{"$f":"IF(OR(C990=\"\",$I981=\"NSO\"),\"\",VLOOKUP($A976,'Result Entry'!$B$9:$EQ$108,11,0))","v":0},{"$f":"IF(OR(C990=\"\",$I981=\"NSO\"),\"\",VLOOKUP($A976,'Result Entry'!$B$9:$EQ$108,12,0))","v":0},{"$f":"IF(OR(C990=\"\",$I981=\"NSO\"),\"\",VLOOKUP($A976,'Result Entry'!$B$9:$EQ$108,17,0))","v":0},{"$f":"SUM(E990:H990)","v":0},{"$f":"IF(OR(C990=\"\",$I981=\"NSO\"),\"\",VLOOKUP($A976,'Result Entry'!$B$9:$EQ$108,21,0))","v":0},{"$f":"SUM(I990,J990)","v":0},null,{"$f":"IF(OR(C990=\"\",$I981=\"NSO\"),\"\",VLOOKUP($A976,'Result Entry'!$B$9:$EQ$108,24,0))","v":""}]
[null,"◐",{"$f":"'Result Entry'!$Z$3","v":"Mathematics"},null,{"$f":"IF(OR(C991=\"\",$I981=\"NSO\"),\"\",VLOOKUP($A976,'Result Entry'!$B$9:$EQ$108,25,0))","v":0},{"$f":"IF(OR(C991=\"\",$I981=\"NSO\"),\"\",VLOOKUP($A976,'Result Entry'!$B$9:$EQ$108,26,0))","v":0},{"$f":"IF(OR(C991=\"\",$I981=\"NSO\"),\"\",VLOOKUP($A976,'Result Entry'!$B$9:$EQ$108,27,0))","v":0},{"$f":"IF(OR(C991=\"\",$I981=\"NSO\"),\"\",VLOOKUP($A976,'Result Entry'!$B$9:$EQ$108,32,0))","v":0},0,{"$f":"IF(OR(C991=\"\",$I981=\"NSO\"),\"\",VLOOKUP($A976,'Result Entry'!$B$9:$EQ$108,36,0))","v":0},{"$f":"SUM(I991,J991)","v":0},null,{"$f":"IF(OR(C991=\"\",$I981=\"NSO\"),\"\",VLOOKUP($A976,'Result Entry'!$B$9:$EQ$108,39,0))","v":""}]
[null,"◐",{"$f":"'Result Entry'!$BD$3","v":"Env. Study"},null,{"$f":"IF(OR(C992=\"\",$I981=\"NSO\"),\"\",VLOOKUP($A976,'Result Entry'!$B$9:$EQ$108,55,0))","v":0},{"$f":"IF(OR(C992=\"\",$I981=\"NSO\"),\"\",VLOOKUP($A976,'Result Entry'!$B$9:$EQ$108,56,0))","v":0},{"$f":"IF(OR(C992=\"\",$I981=\"NSO\"),\"\",VLOOKUP($A976,'Result Entry'!$B$9:$EQ$108,57,0))","v":0},{"$f":"IF(OR(C990=\"\",$I981=\"NSO\"),\"\",VLOOKUP($A976,'Result Entry'!$B$9:$EQ$108,62,0))","v":0},0,{"$f":"IF(OR(C991=\"\",$I981=\"NSO\"),\"\",VLOOKUP($A976,'Result Entry'!$B$9:$EQ$108,66,0))","v":0},0,null,{"$f":"IF(OR(C991=\"\",$I981=\"NSO\"),\"\",VLOOKUP($A976,'Result Entry'!$B$9:$EQ$108,69,0))","v":""}]
[null,"◐","Max. Marks",null,{"$f":"'Result Entry'!$AO$7","v":5},{"$f":"'Result Entry'!$AP$7","v":5},{"$f":"'Result Entry'!$AQ$7","v":5},{"$f":"'Result Entry'!$AV$7","v":35},50,{"$f":"'Result Entry'!$AZ$7","v":50},100,null,"A+/A/B/C/D"]
[null,"◐",{"$f":"'Result Entry'!$AO$3","v":"English"},null,{"$f":"IF(OR(C994=\"\",$I981=\"NSO\"),\"\",VLOOKUP($A976,'Result Entry'!$B$9:$EQ$108,40,0))","v":0},{"$f":"IF(OR(C994=\"\",$I981=\"NSO\"),\"\",VLOOKUP($A976,'Result Entry'!$B$9:$EQ$108,41,0))","v":0},{"$f":"IF(OR(C994=\"\",$I981=\"NSO\"),\"\",VLOOKUP($A976,'Result Entry'!$B$9:$EQ$108,42,0))","v":0},{"$f":"IF(OR(C994=\"\",$I981=\"NSO\"),\"\",VLOOKUP($A976,'Result Entry'!$B$9:$EQ$108,47,0))","v":0},0,{"$f":"IF(OR(C994=\"\",$I981=\"NSO\"),\"\",VLOOKUP($A976,'Result Entry'!$B$9:$EQ$108,51,0))","v":0},0,null,{"$f":"IF(OR(C994=\"\",$I981=\"NSO\"),\"\",VLOOKUP($A976,'Result Entry'!$B$9:$EQ$108,54,0))","v":""}]
[null,"◐","Max. Marks",null,{"$f":"'Result Entry'!$BS$7","v":10},{"$f":"'Result Entry'!$BT$7","v":10},{"$f":"'Result Entry'!$BU$7","v":10},{"$f":"'Result Entry'!$BZ$7","v":70},{"$f":"SUM(E995:H995)","v":100},{"$f":"'Result Entry'!$CD$7","v":100},200,null,"A+/A/B/C/D"]
[null,"◐",{"$f":"'Result Entry'!$BS$3","v":"Sanskrit/Urdu"},null,{"$f":"IF(OR(C996=\"\",$I981=\"NSO\"),\"\",VLOOKUP($A976,'Result Entry'!$B$9:$EQ$108,70,0))","v":0},{"$f":"IF(OR(C996=\"\",$I981=\"NSO\"),\"\",VLOOKUP($A976,'Result Entry'!$B$9:$EQ$108,71,0))","v":0},{"$f":"IF(OR(C996=\"\",$I981=\"NSO\"),\"\",VLOOKUP($A976,'Result Entry'!$B$9:$EQ$108,72,0))","v":0},{"$f":"IF(OR(C996=\"\",$I981=\"NSO\"),\"\",VLOOKUP($A976,'Result Entry'!$B$9:$EQ$108,77,0))","v":0},{"$f":"SUM(E996:H996)","v":0},{"$f":"IF(OR(C996=\"\",$I981=\"NSO\"),\"\",VLOOKUP($A976,'Result Entry'!$B$9:$EQ$108,81,0))","v":0},0,null,{"$f":"IF(OR(C996=\"\",$I981=\"NSO\"),\"\",VLOOKUP($A976,'Result Entry'!$B$9:$EQ$108,84,0))","v":""}]
[null,"◐"]
[null,"◐","Overall Result",null,null,"Total Max. Marks",null,"Total Obtained Marks",null,"Percentage","Overall Grade","Result","Position in Class"]
[null,"◐",{"$nulls":3},{"$f":"IF(OR($I981=\"\",$I981=\"NSO\"),\"\",VLOOKUP($A976,'Result Entry'!$B$9:$EQ$108,120,0))","v":900},null,{"$f":"IF(OR($I981=\"\",$I981=\"NSO\"),\"\",VLOOKUP($A976,'Result Entry'!$B$9:$EQ$108,121,0))","v":0},null,{"$f":"IF(OR($I981=\"\",$I981=\"NSO\"),\"\",VLOOKUP($A976,'Result Entry'!$B$9:$EQ$108,122,0))","v":{"v":0,"d":"0.00"}},{"$f":"IF(OR($I981=\"\",$I981=\"NSO\"),\"\",VLOOKUP($A976,'Result Entry'!$B$9:$EQ$108,123,0))","v":""},{"$f":"IF(OR($I981=\"\",$I981=\"NSO\"),\"\",VLOOKUP($A976,'Result Entry'!$B$9:$EQ$108,124,0))","v":""},{"$f":"IF(OR($I981=\"\",$I981=\"NSO\"),\"\",VLOOKUP($A976,'Result Entry'!$B$9:$EQ$108,126,0))","v":""}]
[null,"◐",{"$nulls":6},"Total Meetings :-",null,{"$f":"IF(OR($I981=\"\",$I981=\"NSO\"),\"\",VLOOKUP($A976,'Result Entry'!$B$9:$EQ$108,117,0))","v":0},"Attedance %"]
[null,"◐","Extra Subjects",{"$nulls":5},"Student's Meetings :-",null,{"$f":"IF(OR($I981=\"\",$I981=\"NSO\"),\"\",VLOOKUP($A976,'Result Entry'!$B$9:$EQ$108,118,0))","v":0},{"$f":"IF(OR($I981=\"\",$I981=\"NSO\"),\"\",VLOOKUP($A976,'Result Entry'!$B$9:$EQ$108,119,0))","v":""}]
[null,"◐","Subject",null,null,"Total Marks",null,"GRADE","Remark :-",null,{"$f":"IF(OR($I981=\"\",$I981=\"NSO\"),\"\",VLOOKUP($A976,'Result Entry'!$B$9:$EQ$108,127,0))","v":0}]
[null,"◐",{"$f":"'Result Entry'!$CH$3","v":"WORK EXP."},null,null,{"$f":"IF(OR(C1003=\"\",$I981=\"NSO\"),\"\",VLOOKUP($A976,'Result Entry'!$B$9:$EQ$108,138,0))","v":"0/100"},null,{"$f":"IF(OR(C1003=\"\",$I981=\"NSO\"),\"\",VLOOKUP($A976,'Result Entry'!$B$9:$EQ$108,92,0))","v":""},"Result Date :-",null,{"$f":"'Result Entry'!$U$2","v":"2024-05-07"}]
[null,"◐",{"$f":"'Result Entry'!$CP$3","v":"ART EDU."},null,null,{"$f":"IF(OR(C1004=\"\",$I981=\"NSO\"),\"\",VLOOKUP($A976,'Result Entry'!$B$9:$EQ$108,142,0))","v":"0/100"},null,{"$f":"IF(OR(C1004=\"\",$I981=\"NSO\"),\"\",VLOOKUP($A976,'Result Entry'!$B$9:$EQ$108,100,0))","v":""}]
[null,null,{"$f":"'Result Entry'!$CX$3","v":"H&P. EDU."},null,null,{"$f":"IF(OR(C1005=\"\",$I981=\"NSO\"),\"\",VLOOKUP($A976,'Result Entry'!$B$9:$EQ$108,146,0))","v":"0/0"},null,{"$f":"IF(OR(C1005=\"\",$I981=\"NSO\"),\"\",VLOOKUP($A976,'Result Entry'!$B$9:$EQ$108,108,0))","v":""}]
[null,"◐",{"$f":"'Result Entry'!$DF$3","v":0},null,null,{"$f":"IF(OR(C1006=\"\",$I981=\"NSO\"),\"\",VLOOKUP($A976,'Result Entry'!$B$9:$EQ$108,131,0))","v":0},null,{"$f":"IF(OR(C1006=\"\",$I981=\"NSO\"),\"\",VLOOKUP($A976,'Result Entry'!$B$9:$EQ$108,97,0))","v":0},"Signature Of The Class Teacher"]
[null,"◐","Grading System"]
[null,"◐","Grd.","% Range",null,"Description"]
[null,"◐","A","86-100",null,"Excellent",null,null,"Signature And Seal Of Principal/H.M."]
[null,"◐","B","71-85",null,"Very Good"]
[null,"◐","C","51-70",null,"Good"]
[null,"◐","D","31-50",null,"Average"]
[null,"◐","E","0-30",null,"Needs Improvement",null,null,"Wish bright future"]
[]
[{"$f":"A976+1","v":27},"Department Of Education, Rajasthan"]
[null,{"$f":"IF(I1020>0,CONCATENATE(C1020,I1020),0)","v":0},null,{"$f":"Master!$E$8","v":"Govt.Sr.Sec.Sch."}]
[{"$nulls":3},{"$f":"Master!$E$11","v":"P.S.-Bapini (Jodhpur)"}]
[null,null,"Report Card",{"$nulls":6},"U-DISE Code:-",null,{"$f":"Master!$E$14","v":{"v":810000000,"d":"0810000000"}}]
[{"$nulls":9},"Session:-",null,{"$f":"Master!$E$6","v":"2023-24"}]
[null,null,"Roll No.:-",{"$nulls":5},{"$f":"VLOOKUP($A1015,'Result Entry'!$B$9:$F$108,5,0)","v":0}]
[null,"◐","Scholar Number",{"$nulls":3},"↠",{"$f":"VLOOKUP($A1015,'Result Entry'!$B$9:$EQ$108,3,0)","v":0}]
[null,"◐","Student's Name",{"$nulls":3},"↠",{"$f":"VLOOKUP($A1015,'Result Entry'!$B$9:$EQ$108,6,0)","v":0}]
[null,"◐","Father's Name",{"$nulls":3},"↠",{"$f":"VLOOKUP($A1015,'Result Entry'!$B$9:$EQ$108,7,0)","v":0}]
[null,"◐","Mother's Name ",{"$nulls":3},"↠",{"$f":"VLOOKUP($A1015,'Result Entry'!$B$9:$EQ$108,8,0)","v":0}]
[null,"◐","Class & Section",{"$nulls":3},"↠",{"$f":"CONCATENATE('Result Entry'!$F$4,'Result Entry'!$I$4)","v":"2(A)"}]
[null,"◐","Date Of Birth",{"$nulls":3},"↠",{"$f":"VLOOKUP($A1015,'Result Entry'!$B$9:$EQ$108,9,0)","v":"00:00:00"}]
[null,"◐","Subject",null,{"$f":"'Result Entry'!$K$6","v":"First Test"},{"$f":"'Result Entry'!$L$6","v":"Second Test"},{"$f":"'Result Entry'!$M$6","v":"Third Test"},"Half Yearly","Total (Test+H.Y.)","Yearly","Grand Total",null,"Subject Grade"]
[null,"◐","Max. Marks",null,{"$f":"'Result Entry'!$K$7","v":10},{"$f":"'Result Entry'!$L$7","v":10},{"$f":"'Result Entry'!$M$7","v":10},{"$f":"'Result Entry'!$R$7","v":70},{"$f":"SUM(E1028:H1028)","v":100},{"$f":"'Result Entry'!$V$7","v":100},{"$f":"I1028+J1028","v":200},null,"A+/A/B/C/D"]
[null,"◐",{"$f":"'Result Entry'!$K$3","v":"Hindi"},null,{"$f":"IF(OR(C1029=\"\",$I1020=\"NSO\"),\"\",VLOOKUP($A1015,'Result Entry'!$B$9:$EQ$108,10,0))","v":0},{"$f":"IF(OR(C1029=\"\",$I1020=\"NSO\"),\"\",VLOOKUP($A1015,'Result Entry'!$B$9:$EQ$108,11,0))","v":0},{"$f":"IF(OR(C1029=\"\",$I1020=\"NSO\"),\"\",VLOOKUP($A1015,'Result Entry'!$B$9:$EQ$108,12,0))","v":0},{"$f":"IF(OR(C1029=\"\",$I1020=\"NSO\"),\"\",VLOOKUP($A1015,'Result Entry'!$B$9:$EQ$108,17,0))","v":0},{"$f":"SUM(E1029:H1029)","v":0},{"$f":"IF(OR(C1029=\"\",$I1020=\"NSO\"),\"\",VLOOKUP($A1015,'Result Entry'!$B$9:$EQ$108,21,0))","v":0},{"$f":"SUM(I1029,J1029)","v":0},null,{"$f":"IF(OR(C1029=\"\",$I1020=\"NSO\"),\"\",VLOOKUP($A1015,'Result Entry'!$B$9:$EQ$108,24,0))","v":""}]
[null,"◐",{"$f":"'Result Entry'!$Z$3","v":"Mathematics"},null,{"$f":"IF(OR(C1030=\"\",$I1020=\"NSO\"),\"\",VLOOKUP($A1015,'Result Entry'!$B$9:$EQ$108,25,0))","v":0},{"$f":"IF(OR(C1030=\"\",$I1020=\"NSO\"),\"\",VLOOKUP($A1015,'Result Entry'!$B$9:$EQ$108,26,0))","v":0},{"$f":"IF(OR(C1030=\"\",$I1020=\"NSO\"),\"\",VLOOKUP($A1015,'Result Entry'!$B$9:$EQ$108,27,0))","v":0},{"$f":"IF(OR(C1030=\"\",$I1020=\"NSO\"),\"\",VLOOKUP($A1015,'Result Entry'!$B$9:$EQ$108,32,0))","v":0},0,{"$f":"IF(OR(C1030=\"\",$I1020=\"NSO\"),\"\",VLOOKUP($A1015,'Result Entry'!$B$9:$EQ$108,36,0))","v":0},{"$f":"SUM(I1030,J1030)","v":0},null,{"$f":"IF(OR(C1030=\"\",$I1020=\"NSO\"),\"\",VLOOKUP($A1015,'Result Entry'!$B$9:$EQ$108,39,0))","v":""}]
[null,"◐",{"$f":"'Result Entry'!$BD$3","v":"Env. Study"},null,{"$f":"IF(OR(C1031=\"\",$I1020=\"NSO\"),\"\",VLOOKUP($A1015,'Result Entry'!$B$9:$EQ$108,55,0))","v":0},{"$f":"IF(OR(C1031=\"\",$I1020=\"NSO\"),\"\",VLOOKUP($A1015,'Result Entry'!$B$9:$EQ$108,56,0))","v":0},{"$f":"IF(OR(C1031=\"\",$I1020=\"NSO\"),\"\",VLOOKUP($A1015,'Result Entry'!$B$9:$EQ$108,57,0))","v":0},{"$f":"IF(OR(C1029=\"\",$I1020=\"NSO\"),\"\",VLOOKUP($A1015,'Result Entry'!$B$9:$EQ$108,62,0))","v":0},0,{"$f":"IF(OR(C1030=\"\",$I1020=\"NSO\"),\"\",VLOOKUP($A1015,'Result Entry'!$B$9:$EQ$108,66,0))","v":0},0,null,{"$f":"IF(OR(C1030=\"\",$I1020=\"NSO\"),\"\",VLOOKUP($A1015,'Result Entry'!$B$9:$EQ$108,69,0))","v":""}]
[null,"◐","Max. Marks",null,{"$f":"'Result Entry'!$AO$7","v":5},{"$f":"'Result Entry'!$AP$7","v":5},{"$f":"'Result Entry'!$AQ$7","v":5},{"$f":"'Result Entry'!$AV$7","v":35},50,{"$f":"'Result Entry'!$AZ$7","v":50},100,null,"A+/A/B/C/D"]
[null,"◐",{"$f":"'Result Entry'!$AO$3","v":"English"},null,{"$f":"IF(OR(C1033=\"\",$I1020=\"NSO\"),\"\",VLOOKUP($A1015,'Result Entry'!$B$9:$EQ$108,40,0))","v":0},{"$f":"IF(OR(C1033=\"\",$I1020=\"NSO\"),\"\",VLOOKUP($A1015,'Result Entry'!$B$9:$EQ$108,41,0))","v":0},{"$f":"IF(OR(C1033=\"\",$I1020=\"NSO\"),\"\",VLOOKUP($A1015,'Result Entry'!$B$9:$EQ$108,42,0))","v":0},{"$f":"IF(OR(C1033=\"\",$I1020=\"NSO\"),\"\",VLOOKUP($A1015,'Result Entry'!$B$9:$EQ$108,47,0))","v":0},0,{"$f":"IF(OR(C1033=\"\",$I1020=\"NSO\"),\"\",VLOOKUP($A1015,'Result Entry'!$B$9:$EQ$108,51,0))","v":0},0,null,{"$f":"IF(OR(C1033=\"\",$I1020=\"NSO\"),\"\",VLOOKUP($A1015,'Result Entry'!$B$9:$EQ$108,54,0))","v":""}]
[null,"◐","Max. Marks",null,{"$f":"'Result Entry'!$BS$7","v":10},{"$f":"'Result Entry'!$BT$7","v":10},{"$f":"'Result Entry'!$BU$7","v":10},{"$f":"'Result Entry'!$BZ$7","v":70},{"$f":"SUM(E1034:H1034)","v":100},{"$f":"'Result Entry'!$CD$7","v":100},200,null,"A+/A/B/C/D"]
[null,"◐",{"$f":"'Result Entry'!$BS$3","v":"Sanskrit/Urdu"},null,{"$f":"IF(OR(C1035=\"\",$I1020=\"NSO\"),\"\",VLOOKUP($A1015,'Result Entry'!$B$9:$EQ$108,70,0))","v":0},{"$f":"IF(OR(C1035=\"\",$I1020=\"NSO\"),\"\",VLOOKUP($A1015,'Result Entry'!$B$9:$EQ$108,71,0))","v":0},{"$f":"IF(OR(C1035=\"\",$I1020=\"NSO\"),\"\",VLOOKUP($A1015,'Result Entry'!$B$9:$EQ$108,72,0))","v":0},{"$f":"IF(OR(C1035=\"\",$I1020=\"NSO\"),\"\",VLOOKUP($A1015,'Result Entry'!$B$9:$EQ$108,77,0))","v":0},{"$f":"SUM(E1035:H1035)","v":0},{"$f":"IF(OR(C1035=\"\",$I1020=\"NSO\"),\"\",VLOOKUP($A1015,'Result Entry'!$B$9:$EQ$108,81,0))","v":0},0,null,{"$f":"IF(OR(C1035=\"\",$I1020=\"NSO\"),\"\",VLOOKUP($A1015,'Result Entry'!$B$9:$EQ$108,84,0))","v":""}]
[null,"◐"]
[null,"◐","Overall Result",null,null,"Total Max. Marks",null,"Total Obtained Marks",null,"Percentage","Overall Grade","Result","Position in Class"]
[null,"◐",{"$nulls":3},{"$f":"IF(OR($I1020=\"\",$I1020=\"NSO\"),\"\",VLOOKUP($A1015,'Result Entry'!$B$9:$EQ$108,120,0))","v":900},null,{"$f":"IF(OR($I1020=\"\",$I1020=\"NSO\"),\"\",VLOOKUP($A1015,'Result Entry'!$B$9:$EQ$108,121,0))","v":0},null,{"$f":"IF(OR($I1020=\"\",$I1020=\"NSO\"),\"\",VLOOKUP($A1015,'Result Entry'!$B$9:$EQ$108,122,0))","v":{"v":0,"d":"0.00"}},{"$f":"IF(OR($I1020=\"\",$I1020=\"NSO\"),\"\",VLOOKUP($A1015,'Result Entry'!$B$9:$EQ$108,123,0))","v":""},{"$f":"IF(OR($I1020=\"\",$I1020=\"NSO\"),\"\",VLOOKUP($A1015,'Result Entry'!$B$9:$EQ$108,124,0))","v":""},{"$f":"IF(OR($I1020=\"\",$I1020=\"NSO\"),\"\",VLOOKUP($A1015,'Result Entry'!$B$9:$EQ$108,126,0))","v":""}]
[null,"◐",{"$nulls":6},"Total Meetings :-",null,{"$f":"IF(OR($I1020=\"\",$I1020=\"NSO\"),\"\",VLOOKUP($A1015,'Result Entry'!$B$9:$EQ$108,117,0))","v":0},"Attedance %"]
[null,"◐","Extra Subjects",{"$nulls":5},"Student's Meetings :-",null,{"$f":"IF(OR($I1020=\"\",$I1020=\"NSO\"),\"\",VLOOKUP($A1015,'Result Entry'!$B$9:$EQ$108,118,0))","v":0},{"$f":"IF(OR($I1020=\"\",$I1020=\"NSO\"),\"\",VLOOKUP($A1015,'Result Entry'!$B$9:$EQ$108,119,0))","v":""}]
[null,"◐","Subject",null,null,"Total Marks",null,"GRADE","Remark :-",null,{"$f":"IF(OR($I1020=\"\",$I1020=\"NSO\"),\"\",VLOOKUP($A1015,'Result Entry'!$B$9:$EQ$108,127,0))","v":0}]
[null,"◐",{"$f":"'Result Entry'!$CH$3","v":"WORK EXP."},null,null,{"$f":"IF(OR(C1042=\"\",$I1020=\"NSO\"),\"\",VLOOKUP($A1015,'Result Entry'!$B$9:$EQ$108,138,0))","v":"0/100"},null,{"$f":"IF(OR(C1042=\"\",$I1020=\"NSO\"),\"\",VLOOKUP($A1015,'Result Entry'!$B$9:$EQ$108,92,0))","v":""},"Result Date :-",null,{"$f":"'Result Entry'!$U$2","v":"2024-05-07"}]
[null,"◐",{"$f":"'Result Entry'!$CP$3","v":"ART EDU."},null,null,{"$f":"IF(OR(C1043=\"\",$I1020=\"NSO\"),\"\",VLOOKUP($A1015,'Result Entry'!$B$9:$EQ$108,142,0))","v":"0/100"},null,{"$f":"IF(OR(C1043=\"\",$I1020=\"NSO\"),\"\",VLOOKUP($A1015,'Result Entry'!$B$9:$EQ$108,100,0))","v":""}]
[null,null,{"$f":"'Result Entry'!$CX$3","v":"H&P. EDU."},null,null,{"$f":"IF(OR(C1044=\"\",$I1020=\"NSO\"),\"\",VLOOKUP($A1015,'Result Entry'!$B$9:$EQ$108,146,0))","v":"0/0"},null,{"$f":"IF(OR(C1044=\"\",$I1020=\"NSO\"),\"\",VLOOKUP($A1015,'Result Entry'!$B$9:$EQ$108,108,0))","v":""}]
[null,"◐",{"$f":"'Result Entry'!$DF$3","v":0},null,null,{"$f":"IF(OR(C1045=\"\",$I1020=\"NSO\"),\"\",VLOOKUP($A1015,'Result Entry'!$B$9:$EQ$108,131,0))","v":0},null,{"$f":"IF(OR(C1045=\"\",$I1020=\"NSO\"),\"\",VLOOKUP($A1015,'Result Entry'!$B$9:$EQ$108,97,0))","v":0},"Signature Of The Class Teacher"]
[null,"◐","Grading System"]
[null,"◐","Grd.","% Range",null,"Description"]
[null,"◐","A","86-100",null,"Excellent",null,null,"Signature And Seal Of Principal/H.M."]
[null,"◐","B","71-85",null,"Very Good"]
[null,"◐","C","51-70",null,"Good"]
[null,"◐","D","31-50",null,"Average"]
[null,"◐","E","0-30",null,"Needs Improvement",null,null,"Wish bright future"]
[]
[{"$f":"A1015+1","v":28},"Department Of Education, Rajasthan"]
[null,{"$f":"IF(I1059>0,CONCATENATE(C1059,I1059),0)","v":0},null,{"$f":"Master!$E$8","v":"Govt.Sr.Sec.Sch."}]
[{"$nulls":3},{"$f":"Master!$E$11","v":"P.S.-Bapini (Jodhpur)"}]
[null,null,"Report Card",{"$nulls":6},"U-DISE Code:-",null,{"$f":"Master!$E$14","v":{"v":810000000,"d":"0810000000"}}]
[{"$nulls":9},"Session:-",null,{"$f":"Master!$E$6","v":"2023-24"}]
[null,null,"Roll No.:-",{"$nulls":5},{"$f":"VLOOKUP($A1054,'Result Entry'!$B$9:$F$108,5,0)","v":0}]
[null,"◐","Scholar Number",{"$nulls":3},"↠",{"$f":"VLOOKUP($A1054,'Result Entry'!$B$9:$EQ$108,3,0)","v":0}]
[null,"◐","Student's Name",{"$nulls":3},"↠",{"$f":"VLOOKUP($A1054,'Result Entry'!$B$9:$EQ$108,6,0)","v":0}]
[null,"◐","Father's Name",{"$nulls":3},"↠",{"$f":"VLOOKUP($A1054,'Result Entry'!$B$9:$EQ$108,7,0)","v":0}]
[null,"◐","Mother's Name ",{"$nulls":3},"↠",{"$f":"VLOOKUP($A1054,'Result Entry'!$B$9:$EQ$108,8,0)","v":0}]
[null,"◐","Class & Section",{"$nulls":3},"↠",{"$f":"CONCATENATE('Result Entry'!$F$4,'Result Entry'!$I$4)","v":"2(A)"}]
[null,"◐","Date Of Birth",{"$nulls":3},"↠",{"$f":"VLOOKUP($A1054,'Result Entry'!$B$9:$EQ$108,9,0)","v":"00:00:00"}]
[null,"◐","Subject",null,{"$f":"'Result Entry'!$K$6","v":"First Test"},{"$f":"'Result Entry'!$L$6","v":"Second Test"},{"$f":"'Result Entry'!$M$6","v":"Third Test"},"Half Yearly","Total (Test+H.Y.)","Yearly","Grand Total",null,"Subject Grade"]
[null,"◐","Max. Marks",null,{"$f":"'Result Entry'!$K$7","v":10},{"$f":"'Result Entry'!$L$7","v":10},{"$f":"'Result Entry'!$M$7","v":10},{"$f":"'Result Entry'!$R$7","v":70},{"$f":"SUM(E1067:H1067)","v":100},{"$f":"'Result Entry'!$V$7","v":100},{"$f":"I1067+J1067","v":200},null,"A+/A/B/C/D"]
[null,"◐",{"$f":"'Result Entry'!$K$3","v":"Hindi"},null,{"$f":"IF(OR(C1068=\"\",$I1059=\"NSO\"),\"\",VLOOKUP($A1054,'Result Entry'!$B$9:$EQ$108,10,0))","v":0},{"$f":"IF(OR(C1068=\"\",$I1059=\"NSO\"),\"\",VLOOKUP($A1054,'Result Entry'!$B$9:$EQ$108,11,0))","v":0},{"$f":"IF(OR(C1068=\"\",$I1059=\"NSO\"),\"\",VLOOKUP($A1054,'Result Entry'!$B$9:$EQ$108,12,0))","v":0},{"$f":"IF(OR(C1068=\"\",$I1059=\"NSO\"),\"\",VLOOKUP($A1054,'Result Entry'!$B$9:$EQ$108,17,0))","v":0},{"$f":"SUM(E1068:H1068)","v":0},{"$f":"IF(OR(C1068=\"\",$I1059=\"NSO\"),\"\",VLOOKUP($A1054,'Result Entry'!$B$9:$EQ$108,21,0))","v":0},{"$f":"SUM(I1068,J1068)","v":0},null,{"$f":"IF(OR(C1068=\"\",$I1059=\"NSO\"),\"\",VLOOKUP($A1054,'Result Entry'!$B$9:$EQ$108,24,0))","v":""}]
[null,"◐",{"$f":"'Result Entry'!$Z$3","v":"Mathematics"},null,{"$f":"IF(OR(C1069=\"\",$I1059=\"NSO\"),\"\",VLOOKUP($A1054,'Result Entry'!$B$9:$EQ$108,25,0))","v":0},{"$f":"IF(OR(C1069=\"\",$I1059=\"NSO\"),\"\",VLOOKUP($A1054,'Result Entry'!$B$9:$EQ$108,26,0))","v":0},{"$f":"IF(OR(C1069=\"\",$I1059=\"NSO\"),\"\",VLOOKUP($A1054,'Result Entry'!$B$9:$EQ$108,27,0))","v":0},{"$f":"IF(OR(C1069=\"\",$I1059=\"NSO\"),\"\",VLOOKUP($A1054,'Result Entry'!$B$9:$EQ$108,32,0))","v":0},0,{"$f":"IF(OR(C1069=\"\",$I1059=\"NSO\"),\"\",VLOOKUP($A1054,'Result Entry'!$B$9:$EQ$108,36,0))","v":0},{"$f":"SUM(I1069,J1069)","v":0},null,{"$f":"IF(OR(C1069=\"\",$I1059=\"NSO\"),\"\",VLOOKUP($A1054,'Result Entry'!$B$9:$EQ$108,39,0))","v":""}]
[null,"◐",{"$f":"'Result Entry'!$BD$3","v":"Env. Study"},null,{"$f":"IF(OR(C1070=\"\",$I1059=\"NSO\"),\"\",VLOOKUP($A1054,'Result Entry'!$B$9:$EQ$108,55,0))","v":0},{"$f":"IF(OR(C1070=\"\",$I1059=\"NSO\"),\"\",VLOOKUP($A1054,'Result Entry'!$B$9:$EQ$108,56,0))","v":0},{"$f":"IF(OR(C1070=\"\",$I1059=\"NSO\"),\"\",VLOOKUP($A1054,'Result Entry'!$B$9:$EQ$108,57,0))","v":0},{"$f":"IF(OR(C1068=\"\",$I1059=\"NSO\"),\"\",VLOOKUP($A1054,'Result Entry'!$B$9:$EQ$108,62,0))","v":0},0,{"$f":"IF(OR(C1069=\"\",$I1059=\"NSO\"),\"\",VLOOKUP($A1054,'Result Entry'!$B$9:$EQ$108,66,0))","v":0},0,null,{"$f":"IF(OR(C1069=\"\",$I1059=\"NSO\"),\"\",VLOOKUP($A1054,'Result Entry'!$B$9:$EQ$108,69,0))","v":""}]
[null,"◐","Max. Marks",null,{"$f":"'Result Entry'!$AO$7","v":5},{"$f":"'Result Entry'!$AP$7","v":5},{"$f":"'Result Entry'!$AQ$7","v":5},{"$f":"'Result Entry'!$AV$7","v":35},50,{"$f":"'Result Entry'!$AZ$7","v":50},100,null,"A+/A/B/C/D"]
[null,"◐",{"$f":"'Result Entry'!$AO$3","v":"English"},null,{"$f":"IF(OR(C1072=\"\",$I1059=\"NSO\"),\"\",VLOOKUP($A1054,'Result Entry'!$B$9:$EQ$108,40,0))","v":0},{"$f":"IF(OR(C1072=\"\",$I1059=\"NSO\"),\"\",VLOOKUP($A1054,'Result Entry'!$B$9:$EQ$108,41,0))","v":0},{"$f":"IF(OR(C1072=\"\",$I1059=\"NSO\"),\"\",VLOOKUP($A1054,'Result Entry'!$B$9:$EQ$108,42,0))","v":0},{"$f":"IF(OR(C1072=\"\",$I1059=\"NSO\"),\"\",VLOOKUP($A1054,'Result Entry'!$B$9:$EQ$108,47,0))","v":0},0,{"$f":"IF(OR(C1072=\"\",$I1059=\"NSO\"),\"\",VLOOKUP($A1054,'Result Entry'!$B$9:$EQ$108,51,0))","v":0},0,null,{"$f":"IF(OR(C1072=\"\",$I1059=\"NSO\"),\"\",VLOOKUP($A1054,'Result Entry'!$B$9:$EQ$108,54,0))","v":""}]
[null,"◐","Max. Marks",null,{"$f":"'Result Entry'!$BS$7","v":10},{"$f":"'Result Entry'!$BT$7","v":10},{"$f":"'Result Entry'!$BU$7","v":10},{"$f":"'Result Entry'!$BZ$7","v":70},{"$f":"SUM(E1073:H1073)","v":100},{"$f":"'Result Entry'!$CD$7","v":100},200,null,"A+/A/B/C/D"]
[null,"◐",{"$f":"'Result Entry'!$BS$3","v":"Sanskrit/Urdu"},null,{"$f":"IF(OR(C1074=\"\",$I1059=\"NSO\"),\"\",VLOOKUP($A1054,'Result Entry'!$B$9:$EQ$108,70,0))","v":0},{"$f":"IF(OR(C1074=\"\",$I1059=\"NSO\"),\"\",VLOOKUP($A1054,'Result Entry'!$B$9:$EQ$108,71,0))","v":0},{"$f":"IF(OR(C1074=\"\",$I1059=\"NSO\"),\"\",VLOOKUP($A1054,'Result Entry'!$B$9:$EQ$108,72,0))","v":0},{"$f":"IF(OR(C1074=\"\",$I1059=\"NSO\"),\"\",VLOOKUP($A1054,'Result Entry'!$B$9:$EQ$108,77,0))","v":0},{"$f":"SUM(E1074:H1074)","v":0},{"$f":"IF(OR(C1074=\"\",$I1059=\"NSO\"),\"\",VLOOKUP($A1054,'Result Entry'!$B$9:$EQ$108,81,0))","v":0},0,null,{"$f":"IF(OR(C1074=\"\",$I1059=\"NSO\"),\"\",VLOOKUP($A1054,'Result Entry'!$B$9:$EQ$108,84,0))","v":""}]
[null,"◐"]
[null,"◐","Overall Result",null,null,"Total Max. Marks",null,"Total Obtained Marks",null,"Percentage","Overall Grade","Result","Position in Class"]
[null,"◐",{"$nulls":3},{"$f":"IF(OR($I1059=\"\",$I1059=\"NSO\"),\"\",VLOOKUP($A1054,'Result Entry'!$B$9:$EQ$108,120,0))","v":900},null,{"$f":"IF(OR($I1059=\"\",$I1059=\"NSO\"),\"\",VLOOKUP($A1054,'Result Entry'!$B$9:$EQ$108,121,0))","v":0},null,{"$f":"IF(OR($I1059=\"\",$I1059=\"NSO\"),\"\",VLOOKUP($A1054,'Result Entry'!$B$9:$EQ$108,122,0))","v":{"v":0,"d":"0.00"}},{"$f":"IF(OR($I1059=\"\",$I1059=\"NSO\"),\"\",VLOOKUP($A1054,'Result Entry'!$B$9:$EQ$108,123,0))","v":""},{"$f":"IF(OR($I1059=\"\",$I1059=\"NSO\"),\"\",VLOOKUP($A1054,'Result Entry'!$B$9:$EQ$108,124,0))","v":""},{"$f":"IF(OR($I1059=\"\",$I1059=\"NSO\"),\"\",VLOOKUP($A1054,'Result Entry'!$B$9:$EQ$108,126,0))","v":""}]
[null,"◐",{"$nulls":6},"Total Meetings :-",null,{"$f":"IF(OR($I1059=\"\",$I1059=\"NSO\"),\"\",VLOOKUP($A1054,'Result Entry'!$B$9:$EQ$108,117,0))","v":0},"Attedance %"]
[null,"◐","Extra Subjects",{"$nulls":5},"Student's Meetings :-",null,{"$f":"IF(OR($I1059=\"\",$I1059=\"NSO\"),\"\",VLOOKUP($A1054,'Result Entry'!$B$9:$EQ$108,118,0))","v":0},{"$f":"IF(OR($I1059=\"\",$I1059=\"NSO\"),\"\",VLOOKUP($A1054,'Result Entry'!$B$9:$EQ$108,119,0))","v":""}]
[null,"◐","Subject",null,null,"Total Marks",null,"GRADE","Remark :-",null,{"$f":"IF(OR($I1059=\"\",$I1059=\"NSO\"),\"\",VLOOKUP($A1054,'Result Entry'!$B$9:$EQ$108,127,0))","v":0}]
[null,"◐",{"$f":"'Result Entry'!$CH$3","v":"WORK EXP."},null,null,{"$f":"IF(OR(C1081=\"\",$I1059=\"NSO\"),\"\",VLOOKUP($A1054,'Result Entry'!$B$9:$EQ$108,138,0))","v":"0/100"},null,{"$f":"IF(OR(C1081=\"\",$I1059=\"NSO\"),\"\",VLOOKUP($A1054,'Result Entry'!$B$9:$EQ$108,92,0))","v":""},"Result Date :-",null,{"$f":"'Result Entry'!$U$2","v":"2024-05-07"}]
[null,"◐",{"$f":"'Result Entry'!$CP$3","v":"ART EDU."},null,null,{"$f":"IF(OR(C1082=\"\",$I1059=\"NSO\"),\"\",VLOOKUP($A1054,'Result Entry'!$B$9:$EQ$108,142,0))","v":"0/100"},null,{"$f":"IF(OR(C1082=\"\",$I1059=\"NSO\"),\"\",VLOOKUP($A1054,'Result Entry'!$B$9:$EQ$108,100,0))","v":""}]
[null,null,{"$f":"'Result Entry'!$CX$3","v":"H&P. EDU."},null,null,{"$f":"IF(OR(C1083=\"\",$I1059=\"NSO\"),\"\",VLOOKUP($A1054,'Result Entry'!$B$9:$EQ$108,146,0))","v":"0/0"},null,{"$f":"IF(OR(C1083=\"\",$I1059=\"NSO\"),\"\",VLOOKUP($A1054,'Result Entry'!$B$9:$EQ$108,108,0))","v":""}]
[null,"◐",{"$f":"'Result Entry'!$DF$3","v":0},null,null,{"$f":"IF(OR(C1084=\"\",$I1059=\"NSO\"),\"\",VLOOKUP($A1054,'Result Entry'!$B$9:$EQ$108,131,0))","v":0},null,{"$f":"IF(OR(C1084=\"\",$I1059=\"NSO\"),\"\",VLOOKUP($A1054,'Result Entry'!$B$9:$EQ$108,97,0))","v":0},"Signature Of The Class Teacher"]
[null,"◐","Grading System"]
[null,"◐","Grd.","% Range",null,"Description"]
[null,"◐","A","86-100",null,"Excellent",null,null,"Signature And Seal Of Principal/H.M."]
[null,"◐","B","71-85",null,"Very Good"]
[null,"◐","C","51-70",null,"Good"]
[null,"◐","D","31-50",null,"Average"]
[null,"◐","E","0-30",null,"Needs Improvement",null,null,"Wish bright future"]
[]
[{"$f":"A1054+1","v":29},"Department Of Education, Rajasthan"]
[null,{"$f":"IF(I1098>0,CONCATENATE(C1098,I1098),0)","v":0},null,{"$f":"Master!$E$8","v":"Govt.Sr.Sec.Sch."}]
[{"$nulls":3},{"$f":"Master!$E$11","v":"P.S.-Bapini (Jodhpur)"}]
[null,null,"Report Card",{"$nulls":6},"U-DISE Code:-",null,{"$f":"Master!$E$14","v":{"v":810000000,"d":"0810000000"}}]
[{"$nulls":9},"Session:-",null,{"$f":"Master!$E$6","v":"2023-24"}]
[null,null,"Roll No.:-",{"$nulls":5},{"$f":"VLOOKUP($A1093,'Result Entry'!$B$9:$F$108,5,0)","v":0}]
[null,"◐","Scholar Number",{"$nulls":3},"↠",{"$f":"VLOOKUP($A1093,'Result Entry'!$B$9:$EQ$108,3,0)","v":0}]
[null,"◐","Student's Name",{"$nulls":3},"↠",{"$f":"VLOOKUP($A1093,'Result Entry'!$B$9:$EQ$108,6,0)","v":0}]
[null,"◐","Father's Name",{"$nulls":3},"↠",{"$f":"VLOOKUP($A1093,'Result Entry'!$B$9:$EQ$108,7,0)","v":0}]
[null,"◐","Mother's Name ",{"$nulls":3},"↠",{"$f":"VLOOKUP($A1093,'Result Entry'!$B$9:$EQ$108,8,0)","v":0}]
[null,"◐","Class & Section",{"$nulls":3},"↠",{"$f":"CONCATENATE('Result Entry'!$F$4,'Result Entry'!$I$4)","v":"2(A)"}]
[null,"◐","Date Of Birth",{"$nulls":3},"↠",{"$f":"VLOOKUP($A1093,'Result Entry'!$B$9:$EQ$108,9,0)","v":"00:00:00"}]
[null,"◐","Subject",null,{"$f":"'Result Entry'!$K$6","v":"First Test"},{"$f":"'Result Entry'!$L$6","v":"Second Test"},{"$f":"'Result Entry'!$M$6","v":"Third Test"},"Half Yearly","Total (Test+H.Y.)","Yearly","Grand Total",null,"Subject Grade"]
[null,"◐","Max. Marks",null,{"$f":"'Result Entry'!$K$7","v":10},{"$f":"'Result Entry'!$L$7","v":10},{"$f":"'Result Entry'!$M$7","v":10},{"$f":"'Result Entry'!$R$7","v":70},{"$f":"SUM(E1106:H1106)","v":100},{"$f":"'Result Entry'!$V$7","v":100},{"$f":"I1106+J1106","v":200},null,"A+/A/B/C/D"]
[null,"◐",{"$f":"'Result Entry'!$K$3","v":"Hindi"},null,{"$f":"IF(OR(C1107=\"\",$I1098=\"NSO\"),\"\",VLOOKUP($A1093,'Result Entry'!$B$9:$EQ$108,10,0))","v":0},{"$f":"IF(OR(C1107=\"\",$I1098=\"NSO\"),\"\",VLOOKUP($A1093,'Result Entry'!$B$9:$EQ$108,11,0))","v":0},{"$f":"IF(OR(C1107=\"\",$I1098=\"NSO\"),\"\",VLOOKUP($A1093,'Result Entry'!$B$9:$EQ$108,12,0))","v":0},{"$f":"IF(OR(C1107=\"\",$I1098=\"NSO\"),\"\",VLOOKUP($A1093,'Result Entry'!$B$9:$EQ$108,17,0))","v":0},{"$f":"SUM(E1107:H1107)","v":0},{"$f":"IF(OR(C1107=\"\",$I1098=\"NSO\"),\"\",VLOOKUP($A1093,'Result Entry'!$B$9:$EQ$108,21,0))","v":0},{"$f":"SUM(I1107,J1107)","v":0},null,{"$f":"IF(OR(C1107=\"\",$I1098=\"NSO\"),\"\",VLOOKUP($A1093,'Result Entry'!$B$9:$EQ$108,24,0))","v":""}]
[null,"◐",{"$f":"'Result Entry'!$Z$3","v":"Mathematics"},null,{"$f":"IF(OR(C1108=\"\",$I1098=\"NSO\"),\"\",VLOOKUP($A1093,'Result Entry'!$B$9:$EQ$108,25,0))","v":0},{"$f":"IF(OR(C1108=\"\",$I1098=\"NSO\"),\"\",VLOOKUP($A1093,'Result Entry'!$B$9:$EQ$108,26,0))","v":0},{"$f":"IF(OR(C1108=\"\",$I1098=\"NSO\"),\"\",VLOOKUP($A1093,'Result Entry'!$B$9:$EQ$108,27,0))","v":0},{"$f":"IF(OR(C1108=\"\",$I1098=\"NSO\"),\"\",VLOOKUP($A1093,'Result Entry'!$B$9:$EQ$108,32,0))","v":0},0,{"$f":"IF(OR(C1108=\"\",$I1098=\"NSO\"),\"\",VLOOKUP($A1093,'Result Entry'!$B$9:$EQ$108,36,0))","v":0},{"$f":"SUM(I1108,J1108)","v":0},null,{"$f":"IF(OR(C1108=\"\",$I1098=\"NSO\"),\"\",VLOOKUP($A1093,'Result Entry'!$B$9:$EQ$108,39,0))","v":""}]
[null,"◐",{"$f":"'Result Entry'!$BD$3","v":"Env. Study"},null,{"$f":"IF(OR(C1109=\"\",$I1098=\"NSO\"),\"\",VLOOKUP($A1093,'Result Entry'!$B$9:$EQ$108,55,0))","v":0},{"$f":"IF(OR(C1109=\"\",$I1098=\"NSO\"),\"\",VLOOKUP($A1093,'Result Entry'!$B$9:$EQ$108,56,0))","v":0},{"$f":"IF(OR(C1109=\"\",$I1098=\"NSO\"),\"\",VLOOKUP($A1093,'Result Entry'!$B$9:$EQ$108,57,0))","v":0},{"$f":"IF(OR(C1107=\"\",$I1098=\"NSO\"),\"\",VLOOKUP($A1093,'Result Entry'!$B$9:$EQ$108,62,0))","v":0},0,{"$f":"IF(OR(C1108=\"\",$I1098=\"NSO\"),\"\",VLOOKUP($A1093,'Result Entry'!$B$9:$EQ$108,66,0))","v":0},0,null,{"$f":"IF(OR(C1108=\"\",$I1098=\"NSO\"),\"\",VLOOKUP($A1093,'Result Entry'!$B$9:$EQ$108,69,0))","v":""}]
[null,"◐","Max. Marks",null,{"$f":"'Result Entry'!$AO$7","v":5},{"$f":"'Result Entry'!$AP$7","v":5},{"$f":"'Result Entry'!$AQ$7","v":5},{"$f":"'Result Entry'!$AV$7","v":35},50,{"$f":"'Result Entry'!$AZ$7","v":50},100,null,"A+/A/B/C/D"]
[null,"◐",{"$f":"'Result Entry'!$AO$3","v":"English"},null,{"$f":"IF(OR(C1111=\"\",$I1098=\"NSO\"),\"\",VLOOKUP($A1093,'Result Entry'!$B$9:$EQ$108,40,0))","v":0},{"$f":"IF(OR(C1111=\"\",$I1098=\"NSO\"),\"\",VLOOKUP($A1093,'Result Entry'!$B$9:$EQ$108,41,0))","v":0},{"$f":"IF(OR(C1111=\"\",$I1098=\"NSO\"),\"\",VLOOKUP($A1093,'Result Entry'!$B$9:$EQ$108,42,0))","v":0},{"$f":"IF(OR(C1111=\"\",$I1098=\"NSO\"),\"\",VLOOKUP($A1093,'Result Entry'!$B$9:$EQ$108,47,0))","v":0},0,{"$f":"IF(OR(C1111=\"\",$I1098=\"NSO\"),\"\",VLOOKUP($A1093,'Result Entry'!$B$9:$EQ$108,51,0))","v":0},0,null,{"$f":"IF(OR(C1111=\"\",$I1098=\"NSO\"),\"\",VLOOKUP($A1093,'Result Entry'!$B$9:$EQ$108,54,0))","v":""}]
[null,"◐","Max. Marks",null,{"$f":"'Result Entry'!$BS$7","v":10},{"$f":"'Result Entry'!$BT$7","v":10},{"$f":"'Result Entry'!$BU$7","v":10},{"$f":"'Result Entry'!$BZ$7","v":70},{"$f":"SUM(E1112:H1112)","v":100},{"$f":"'Result Entry'!$CD$7","v":100},200,null,"A+/A/B/C/D"]
[null,"◐",{"$f":"'Result Entry'!$BS$3","v":"Sanskrit/Urdu"},null,{"$f":"IF(OR(C1113=\"\",$I1098=\"NSO\"),\"\",VLOOKUP($A1093,'Result Entry'!$B$9:$EQ$108,70,0))","v":0},{"$f":"IF(OR(C1113=\"\",$I1098=\"NSO\"),\"\",VLOOKUP($A1093,'Result Entry'!$B$9:$EQ$108,71,0))","v":0},{"$f":"IF(OR(C1113=\"\",$I1098=\"NSO\"),\"\",VLOOKUP($A1093,'Result Entry'!$B$9:$EQ$108,72,0))","v":0},{"$f":"IF(OR(C1113=\"\",$I1098=\"NSO\"),\"\",VLOOKUP($A1093,'Result Entry'!$B$9:$EQ$108,77,0))","v":0},{"$f":"SUM(E1113:H1113)","v":0},{"$f":"IF(OR(C1113=\"\",$I1098=\"NSO\"),\"\",VLOOKUP($A1093,'Result Entry'!$B$9:$EQ$108,81,0))","v":0},0,null,{"$f":"IF(OR(C1113=\"\",$I1098=\"NSO\"),\"\",VLOOKUP($A1093,'Result Entry'!$B$9:$EQ$108,84,0))","v":""}]
[null,"◐"]
[null,"◐","Overall Result",null,null,"Total Max. Marks",null,"Total Obtained Marks",null,"Percentage","Overall Grade","Result","Position in Class"]
[null,"◐",{"$nulls":3},{"$f":"IF(OR($I1098=\"\",$I1098=\"NSO\"),\"\",VLOOKUP($A1093,'Result Entry'!$B$9:$EQ$108,120,0))","v":900},null,{"$f":"IF(OR($I1098=\"\",$I1098=\"NSO\"),\"\",VLOOKUP($A1093,'Result Entry'!$B$9:$EQ$108,121,0))","v":0},null,{"$f":"IF(OR($I1098=\"\",$I1098=\"NSO\"),\"\",VLOOKUP($A1093,'Result Entry'!$B$9:$EQ$108,122,0))","v":{"v":0,"d":"0.00"}},{"$f":"IF(OR($I1098=\"\",$I1098=\"NSO\"),\"\",VLOOKUP($A1093,'Result Entry'!$B$9:$EQ$108,123,0))","v":""},{"$f":"IF(OR($I1098=\"\",$I1098=\"NSO\"),\"\",VLOOKUP($A1093,'Result Entry'!$B$9:$EQ$108,124,0))","v":""},{"$f":"IF(OR($I1098=\"\",$I1098=\"NSO\"),\"\",VLOOKUP($A1093,'Result Entry'!$B$9:$EQ$108,126,0))","v":""}]
[null,"◐",{"$nulls":6},"Total Meetings :-",null,{"$f":"IF(OR($I1098=\"\",$I1098=\"NSO\"),\"\",VLOOKUP($A1093,'Result Entry'!$B$9:$EQ$108,117,0))","v":0},"Attedance %"]
[null,"◐","Extra Subjects",{"$nulls":5},"Student's Meetings :-",null,{"$f":"IF(OR($I1098=\"\",$I1098=\"NSO\"),\"\",VLOOKUP($A1093,'Result Entry'!$B$9:$EQ$108,118,0))","v":0},{"$f":"IF(OR($I1098=\"\",$I1098=\"NSO\"),\"\",VLOOKUP($A1093,'Result Entry'!$B$9:$EQ$108,119,0))","v":""}]
[null,"◐","Subject",null,null,"Total Marks",null,"GRADE","Remark :-",null,{"$f":"IF(OR($I1098=\"\",$I1098=\"NSO\"),\"\",VLOOKUP($A1093,'Result Entry'!$B$9:$EQ$108,127,0))","v":0}]
[null,"◐",{"$f":"'Result Entry'!$CH$3","v":"WORK EXP."},null,null,{"$f":"IF(OR(C1120=\"\",$I1098=\"NSO\"),\"\",VLOOKUP($A1093,'Result Entry'!$B$9:$EQ$108,138,0))","v":"0/100"},null,{"$f":"IF(OR(C1120=\"\",$I1098=\"NSO\"),\"\",VLOOKUP($A1093,'Result Entry'!$B$9:$EQ$108,92,0))","v":""},"Result Date :-",null,{"$f":"'Result Entry'!$U$2","v":"2024-05-07"}]
[null,"◐",{"$f":"'Result Entry'!$CP$3","v":"ART EDU."},null,null,{"$f":"IF(OR(C1121=\"\",$I1098=\"NSO\"),\"\",VLOOKUP($A1093,'Result Entry'!$B$9:$EQ$108,142,0))","v":"0/100"},null,{"$f":"IF(OR(C1121=\"\",$I1098=\"NSO\"),\"\",VLOOKUP($A1093,'Result Entry'!$B$9:$EQ$108,100,0))","v":""}]
[null,null,{"$f":"'Result Entry'!$CX$3","v":"H&P. EDU."},null,null,{"$f":"IF(OR(C1122=\"\",$I1098=\"NSO\"),\"\",VLOOKUP($A1093,'Result Entry'!$B$9:$EQ$108,146,0))","v":"0/0"},null,{"$f":"IF(OR(C1122=\"\",$I1098=\"NSO\"),\"\",VLOOKUP($A1093,'Result Entry'!$B$9:$EQ$108,108,0))","v":""}]
[null,"◐",{"$f":"'Result Entry'!$DF$3","v":0},null,null,{"$f":"IF(OR(C1123=\"\",$I1098=\"NSO\"),\"\",VLOOKUP($A1093,'Result Entry'!$B$9:$EQ$108,131,0))","v":0},null,{"$f":"IF(OR(C1123=\"\",$I1098=\"NSO\"),\"\",VLOOKUP($A1093,'Result Entry'!$B$9:$EQ$108,97,0))","v":0},"Signature Of The Class Teacher"]
[null,"◐","Grading System"]
[null,"◐","Grd.","% Range",null,"Description"]
[null,"◐","A","86-100",null,"Excellent",null,null,"Signature And Seal Of Principal/H.M."]
[null,"◐","B","71-85",null,"Very Good"]
[null,"◐","C","51-70",null,"Good"]
[null,"◐","D","31-50",null,"Average"]
[null,"◐","E","0-30",null,"Needs Improvement",null,null,"Wish bright future"]
[]
[{"$f":"A1093+1","v":30},"Department Of Education, Rajasthan"]
[null,{"$f":"IF(I1137>0,CONCATENATE(C1137,I1137),0)","v":0},null,{"$f":"Master!$E$8","v":"Govt.Sr.Sec.Sch."}]
[{"$nulls":3},{"$f":"Master!$E$11","v":"P.S.-Bapini (Jodhpur)"}]
[null,null,"Report Card",{"$nulls":6},"U-DISE Code:-",null,{"$f":"Master!$E$14","v":{"v":810000000,"d":"0810000000"}}]
[{"$nulls":9},"Session:-",null,{"$f":"Master!$E$6","v":"2023-24"}]
[null,null,"Roll No.:-",{"$nulls":5},{"$f":"VLOOKUP($A1132,'Result Entry'!$B$9:$F$108,5,0)","v":0}]
[null,"◐","Scholar Number",{"$nulls":3},"↠",{"$f":"VLOOKUP($A1132,'Result Entry'!$B$9:$EQ$108,3,0)","v":0}]
[null,"◐","Student's Name",{"$nulls":3},"↠",{"$f":"VLOOKUP($A1132,'Result Entry'!$B$9:$EQ$108,6,0)","v":0}]
[null,"◐","Father's Name",{"$nulls":3},"↠",{"$f":"VLOOKUP($A1132,'Result Entry'!$B$9:$EQ$108,7,0)","v":0}]
[null,"◐","Mother's Name ",{"$nulls":3},"↠",{"$f":"VLOOKUP($A1132,'Result Entry'!$B$9:$EQ$108,8,0)","v":0}]
[null,"◐","Class & Section",{"$nulls":3},"↠",{"$f":"CONCATENATE('Result Entry'!$F$4,'Result Entry'!$I$4)","v":"2(A)"}]
[null,"◐","Date Of Birth",{"$nulls":3},"↠",{"$f":"VLOOKUP($A1132,'Result Entry'!$B$9:$EQ$108,9,0)","v":"00:00:00"}]
[null,"◐","Subject",null,{"$f":"'Result Entry'!$K$6","v":"First Test"},{"$f":"'Result Entry'!$L$6","v":"Second Test"},{"$f":"'Result Entry'!$M$6","v":"Third Test"},"Half Yearly","Total (Test+H.Y.)","Yearly","Grand Total",null,"Subject Grade"]
[null,"◐","Max. Marks",null,{"$f":"'Result Entry'!$K$7","v":10},{"$f":"'Result Entry'!$L$7","v":10},{"$f":"'Result Entry'!$M$7","v":10},{"$f":"'Result Entry'!$R$7","v":70},{"$f":"SUM(E1145:H1145)","v":100},{"$f":"'Result Entry'!$V$7","v":100},{"$f":"I1145+J1145","v":200},null,"A+/A/B/C/D"]
[null,"◐",{"$f":"'Result Entry'!$K$3","v":"Hindi"},null,{"$f":"IF(OR(C1146=\"\",$I1137=\"NSO\"),\"\",VLOOKUP($A1132,'Result Entry'!$B$9:$EQ$108,10,0))","v":0},{"$f":"IF(OR(C1146=\"\",$I1137=\"NSO\"),\"\",VLOOKUP($A1132,'Result Entry'!$B$9:$EQ$108,11,0))","v":0},{"$f":"IF(OR(C1146=\"\",$I1137=\"NSO\"),\"\",VLOOKUP($A1132,'Result Entry'!$B$9:$EQ$108,12,0))","v":0},{"$f":"IF(OR(C1146=\"\",$I1137=\"NSO\"),\"\",VLOOKUP($A1132,'Result Entry'!$B$9:$EQ$108,17,0))","v":0},{"$f":"SUM(E1146:H1146)","v":0},{"$f":"IF(OR(C1146=\"\",$I1137=\"NSO\"),\"\",VLOOKUP($A1132,'Result Entry'!$B$9:$EQ$108,21,0))","v":0},{"$f":"SUM(I1146,J1146)","v":0},null,{"$f":"IF(OR(C1146=\"\",$I1137=\"NSO\"),\"\",VLOOKUP($A1132,'Result Entry'!$B$9:$EQ$108,24,0))","v":""}]
[null,"◐",{"$f":"'Result Entry'!$Z$3","v":"Mathematics"},null,{"$f":"IF(OR(C1147=\"\",$I1137=\"NSO\"),\"\",VLOOKUP($A1132,'Result Entry'!$B$9:$EQ$108,25,0))","v":0},{"$f":"IF(OR(C1147=\"\",$I1137=\"NSO\"),\"\",VLOOKUP($A1132,'Result Entry'!$B$9:$EQ$108,26,0))","v":0},{"$f":"IF(OR(C1147=\"\",$I1137=\"NSO\"),\"\",VLOOKUP($A1132,'Result Entry'!$B$9:$EQ$108,27,0))","v":0},{"$f":"IF(OR(C1147=\"\",$I1137=\"NSO\"),\"\",VLOOKUP($A1132,'Result Entry'!$B$9:$EQ$108,32,0))","v":0},0,{"$f":"IF(OR(C1147=\"\",$I1137=\"NSO\"),\"\",VLOOKUP($A1132,'Result Entry'!$B$9:$EQ$108,36,0))","v":0},{"$f":"SUM(I1147,J1147)","v":0},null,{"$f":"IF(OR(C1147=\"\",$I1137=\"NSO\"),\"\",VLOOKUP($A1132,'Result Entry'!$B$9:$EQ$108,39,0))","v":""}]
[null,"◐",{"$f":"'Result Entry'!$BD$3","v":"Env. Study"},null,{"$f":"IF(OR(C1148=\"\",$I1137=\"NSO\"),\"\",VLOOKUP($A1132,'Result Entry'!$B$9:$EQ$108,55,0))","v":0},{"$f":"IF(OR(C1148=\"\",$I1137=\"NSO\"),\"\",VLOOKUP($A1132,'Result Entry'!$B$9:$EQ$108,56,0))","v":0},{"$f":"IF(OR(C1148=\"\",$I1137=\"NSO\"),\"\",VLOOKUP($A1132,'Result Entry'!$B$9:$EQ$108,57,0))","v":0},{"$f":"IF(OR(C1146=\"\",$I1137=\"NSO\"),\"\",VLOOKUP($A1132,'Result Entry'!$B$9:$EQ$108,62,0))","v":0},0,{"$f":"IF(OR(C1147=\"\",$I1137=\"NSO\"),\"\",VLOOKUP($A1132,'Result Entry'!$B$9:$EQ$108,66,0))","v":0},0,null,{"$f":"IF(OR(C1147=\"\",$I1137=\"NSO\"),\"\",VLOOKUP($A1132,'Result Entry'!$B$9:$EQ$108,69,0))","v":""}]
[null,"◐","Max. Marks",null,{"$f":"'Result Entry'!$AO$7","v":5},{"$f":"'Result Entry'!$AP$7","v":5},{"$f":"'Result Entry'!$AQ$7","v":5},{"$f":"'Result Entry'!$AV$7","v":35},50,{"$f":"'Result Entry'!$AZ$7","v":50},100,null,"A+/A/B/C/D"]
[null,"◐",{"$f":"'Result Entry'!$AO$3","v":"English"},null,{"$f":"IF(OR(C1150=\"\",$I1137=\"NSO\"),\"\",VLOOKUP($A1132,'Result Entry'!$B$9:$EQ$108,40,0))","v":0},{"$f":"IF(OR(C1150=\"\",$I1137=\"NSO\"),\"\",VLOOKUP($A1132,'Result Entry'!$B$9:$EQ$108,41,0))","v":0},{"$f":"IF(OR(C1150=\"\",$I1137=\"NSO\"),\"\",VLOOKUP($A1132,'Result Entry'!$B$9:$EQ$108,42,0))","v":0},{"$f":"IF(OR(C1150=\"\",$I1137=\"NSO\"),\"\",VLOOKUP($A1132,'Result Entry'!$B$9:$EQ$108,47,0))","v":0},0,{"$f":"IF(OR(C1150=\"\",$I1137=\"NSO\"),\"\",VLOOKUP($A1132,'Result Entry'!$B$9:$EQ$108,51,0))","v":0},0,null,{"$f":"IF(OR(C1150=\"\",$I1137=\"NSO\"),\"\",VLOOKUP($A1132,'Result Entry'!$B$9:$EQ$108,54,0))","v":""}]
[null,"◐","Max. Marks",null,{"$f":"'Result Entry'!$BS$7","v":10},{"$f":"'Result Entry'!$BT$7","v":10},{"$f":"'Result Entry'!$BU$7","v":10},{"$f":"'Result Entry'!$BZ$7","v":70},{"$f":"SUM(E1151:H1151)","v":100},{"$f":"'Result Entry'!$CD$7","v":100},200,null,"A+/A/B/C/D"]
[null,"◐",{"$f":"'Result Entry'!$BS$3","v":"Sanskrit/Urdu"},null,{"$f":"IF(OR(C1152=\"\",$I1137=\"NSO\"),\"\",VLOOKUP($A1132,'Result Entry'!$B$9:$EQ$108,70,0))","v":0},{"$f":"IF(OR(C1152=\"\",$I1137=\"NSO\"),\"\",VLOOKUP($A1132,'Result Entry'!$B$9:$EQ$108,71,0))","v":0},{"$f":"IF(OR(C1152=\"\",$I1137=\"NSO\"),\"\",VLOOKUP($A1132,'Result Entry'!$B$9:$EQ$108,72,0))","v":0},{"$f":"IF(OR(C1152=\"\",$I1137=\"NSO\"),\"\",VLOOKUP($A1132,'Result Entry'!$B$9:$EQ$108,77,0))","v":0},{"$f":"SUM(E1152:H1152)","v":0},{"$f":"IF(OR(C1152=\"\",$I1137=\"NSO\"),\"\",VLOOKUP($A1132,'Result Entry'!$B$9:$EQ$108,81,0))","v":0},0,null,{"$f":"IF(OR(C1152=\"\",$I1137=\"NSO\"),\"\",VLOOKUP($A1132,'Result Entry'!$B$9:$EQ$108,84,0))","v":""}]
[null,"◐"]
[null,"◐","Overall Result",null,null,"Total Max. Marks",null,"Total Obtained Marks",null,"Percentage","Overall Grade","Result","Position in Class"]
[null,"◐",{"$nulls":3},{"$f":"IF(OR($I1137=\"\",$I1137=\"NSO\"),\"\",VLOOKUP($A1132,'Result Entry'!$B$9:$EQ$108,120,0))","v":900},null,{"$f":"IF(OR($I1137=\"\",$I1137=\"NSO\"),\"\",VLOOKUP($A1132,'Result Entry'!$B$9:$EQ$108,121,0))","v":0},null,{"$f":"IF(OR($I1137=\"\",$I1137=\"NSO\"),\"\",VLOOKUP($A1132,'Result Entry'!$B$9:$EQ$108,122,0))","v":{"v":0,"d":"0.00"}},{"$f":"IF(OR($I1137=\"\",$I1137=\"NSO\"),\"\",VLOOKUP($A1132,'Result Entry'!$B$9:$EQ$108,123,0))","v":""},{"$f":"IF(OR($I1137=\"\",$I1137=\"NSO\"),\"\",VLOOKUP($A1132,'Result Entry'!$B$9:$EQ$108,124,0))","v":""},{"$f":"IF(OR($I1137=\"\",$I1137=\"NSO\"),\"\",VLOOKUP($A1132,'Result Entry'!$B$9:$EQ$108,126,0))","v":""}]
[null,"◐",{"$nulls":6},"Total Meetings :-",null,{"$f":"IF(OR($I1137=\"\",$I1137=\"NSO\"),\"\",VLOOKUP($A1132,'Result Entry'!$B$9:$EQ$108,117,0))","v":0},"Attedance %"]
[null,"◐","Extra Subjects",{"$nulls":5},"Student's Meetings :-",null,{"$f":"IF(OR($I1137=\"\",$I1137=\"NSO\"),\"\",VLOOKUP($A1132,'Result Entry'!$B$9:$EQ$108,118,0))","v":0},{"$f":"IF(OR($I1137=\"\",$I1137=\"NSO\"),\"\",VLOOKUP($A1132,'Result Entry'!$B$9:$EQ$108,119,0))","v":""}]
[null,"◐","Subject",null,null,"Total Marks",null,"GRADE","Remark :-",null,{"$f":"IF(OR($I1137=\"\",$I1137=\"NSO\"),\"\",VLOOKUP($A1132,'Result Entry'!$B$9:$EQ$108,127,0))","v":0}]
[null,"◐",{"$f":"'Result Entry'!$CH$3","v":"WORK EXP."},null,null,{"$f":"IF(OR(C1159=\"\",$I1137=\"NSO\"),\"\",VLOOKUP($A1132,'Result Entry'!$B$9:$EQ$108,138,0))","v":"0/100"},null,{"$f":"IF(OR(C1159=\"\",$I1137=\"NSO\"),\"\",VLOOKUP($A1132,'Result Entry'!$B$9:$EQ$108,92,0))","v":""},"Result Date :-",null,{"$f":"'Result Entry'!$U$2","v":"2024-05-07"}]
[null,"◐",{"$f":"'Result Entry'!$CP$3","v":"ART EDU."},null,null,{"$f":"IF(OR(C1160=\"\",$I1137=\"NSO\"),\"\",VLOOKUP($A1132,'Result Entry'!$B$9:$EQ$108,142,0))","v":"0/100"},null,{"$f":"IF(OR(C1160=\"\",$I1137=\"NSO\"),\"\",VLOOKUP($A1132,'Result Entry'!$B$9:$EQ$108,100,0))","v":""}]
[null,null,{"$f":"'Result Entry'!$CX$3","v":"H&P. EDU."},null,null,{"$f":"IF(OR(C1161=\"\",$I1137=\"NSO\"),\"\",VLOOKUP($A1132,'Result Entry'!$B$9:$EQ$108,146,0))","v":"0/0"},null,{"$f":"IF(OR(C1161=\"\",$I1137=\"NSO\"),\"\",VLOOKUP($A1132,'Result Entry'!$B$9:$EQ$108,108,0))","v":""}]
[null,"◐",{"$f":"'Result Entry'!$DF$3","v":0},null,null,{"$f":"IF(OR(C1162=\"\",$I1137=\"NSO\"),\"\",VLOOKUP($A1132,'Result Entry'!$B$9:$EQ$108,131,0))","v":0},null,{"$f":"IF(OR(C1162=\"\",$I1137=\"NSO\"),\"\",VLOOKUP($A1132,'Result Entry'!$B$9:$EQ$108,97,0))","v":0},"Signature Of The Class Teacher"]
[null,"◐","Grading System"]
[null,"◐","Grd.","% Range",null,"Description"]
[null,"◐","A","86-100",null,"Excellent",null,null,"Signature And Seal Of Principal/H.M."]
[null,"◐","B","71-85",null,"Very Good"]
[null,"◐","C","51-70",null,"Good"]
[null,"◐","D","31-50",null,"Average"]
[null,"◐","E","0-30",null,"Needs Improvement",null,null,"Wish bright future"]
[]
[{"$f":"A1132+1","v":31},"Department Of Education, Rajasthan"]
[null,{"$f":"IF(I1176>0,CONCATENATE(C1176,I1176),0)","v":0},null,{"$f":"Master!$E$8","v":"Govt.Sr.Sec.Sch."}]
[{"$nulls":3},{"$f":"Master!$E$11","v":"P.S.-Bapini (Jodhpur)"}]
[null,null,"Report Card",{"$nulls":6},"U-DISE Code:-",null,{"$f":"Master!$E$14","v":{"v":810000000,"d":"0810000000"}}]
[{"$nulls":9},"Session:-",null,{"$f":"Master!$E$6","v":"2023-24"}]
[null,null,"Roll No.:-",{"$nulls":5},{"$f":"VLOOKUP($A1171,'Result Entry'!$B$9:$F$108,5,0)","v":0}]
[null,"◐","Scholar Number",{"$nulls":3},"↠",{"$f":"VLOOKUP($A1171,'Result Entry'!$B$9:$EQ$108,3,0)","v":0}]
[null,"◐","Student's Name",{"$nulls":3},"↠",{"$f":"VLOOKUP($A1171,'Result Entry'!$B$9:$EQ$108,6,0)","v":0}]
[null,"◐","Father's Name",{"$nulls":3},"↠",{"$f":"VLOOKUP($A1171,'Result Entry'!$B$9:$EQ$108,7,0)","v":0}]
[null,"◐","Mother's Name ",{"$nulls":3},"↠",{"$f":"VLOOKUP($A1171,'Result Entry'!$B$9:$EQ$108,8,0)","v":0}]
[null,"◐","Class & Section",{"$nulls":3},"↠",{"$f":"CONCATENATE('Result Entry'!$F$4,'Result Entry'!$I$4)","v":"2(A)"}]
[null,"◐","Date Of Birth",{"$nulls":3},"↠",{"$f":"VLOOKUP($A1171,'Result Entry'!$B$9:$EQ$108,9,0)","v":"00:00:00"}]
[null,"◐","Subject",null,{"$f":"'Result Entry'!$K$6","v":"First Test"},{"$f":"'Result Entry'!$L$6","v":"Second Test"},{"$f":"'Result Entry'!$M$6","v":"Third Test"},"Half Yearly","Total (Test+H.Y.)","Yearly","Grand Total",null,"Subject Grade"]
[null,"◐","Max. Marks",null,{"$f":"'Result Entry'!$K$7","v":10},{"$f":"'Result Entry'!$L$7","v":10},{"$f":"'Result Entry'!$M$7","v":10},{"$f":"'Result Entry'!$R$7","v":70},{"$f":"SUM(E1184:H1184)","v":100},{"$f":"'Result Entry'!$V$7","v":100},{"$f":"I1184+J1184","v":200},null,"A+/A/B/C/D"]
[null,"◐",{"$f":"'Result Entry'!$K$3","v":"Hindi"},null,{"$f":"IF(OR(C1185=\"\",$I1176=\"NSO\"),\"\",VLOOKUP($A1171,'Result Entry'!$B$9:$EQ$108,10,0))","v":0},{"$f":"IF(OR(C1185=\"\",$I1176=\"NSO\"),\"\",VLOOKUP($A1171,'Result Entry'!$B$9:$EQ$108,11,0))","v":0},{"$f":"IF(OR(C1185=\"\",$I1176=\"NSO\"),\"\",VLOOKUP($A1171,'Result Entry'!$B$9:$EQ$108,12,0))","v":0},{"$f":"IF(OR(C1185=\"\",$I1176=\"NSO\"),\"\",VLOOKUP($A1171,'Result Entry'!$B$9:$EQ$108,17,0))","v":0},{"$f":"SUM(E1185:H1185)","v":0},{"$f":"IF(OR(C1185=\"\",$I1176=\"NSO\"),\"\",VLOOKUP($A1171,'Result Entry'!$B$9:$EQ$108,21,0))","v":0},{"$f":"SUM(I1185,J1185)","v":0},null,{"$f":"IF(OR(C1185=\"\",$I1176=\"NSO\"),\"\",VLOOKUP($A1171,'Result Entry'!$B$9:$EQ$108,24,0))","v":""}]
[null,"◐",{"$f":"'Result Entry'!$Z$3","v":"Mathematics"},null,{"$f":"IF(OR(C1186=\"\",$I1176=\"NSO\"),\"\",VLOOKUP($A1171,'Result Entry'!$B$9:$EQ$108,25,0))","v":0},{"$f":"IF(OR(C1186=\"\",$I1176=\"NSO\"),\"\",VLOOKUP($A1171,'Result Entry'!$B$9:$EQ$108,26,0))","v":0},{"$f":"IF(OR(C1186=\"\",$I1176=\"NSO\"),\"\",VLOOKUP($A1171,'Result Entry'!$B$9:$EQ$108,27,0))","v":0},{"$f":"IF(OR(C1186=\"\",$I1176=\"NSO\"),\"\",VLOOKUP($A1171,'Result Entry'!$B$9:$EQ$108,32,0))","v":0},0,{"$f":"IF(OR(C1186=\"\",$I1176=\"NSO\"),\"\",VLOOKUP($A1171,'Result Entry'!$B$9:$EQ$108,36,0))","v":0},{"$f":"SUM(I1186,J1186)","v":0},null,{"$f":"IF(OR(C1186=\"\",$I1176=\"NSO\"),\"\",VLOOKUP($A1171,'Result Entry'!$B$9:$EQ$108,39,0))","v":""}]
[null,"◐",{"$f":"'Result Entry'!$BD$3","v":"Env. Study"},null,{"$f":"IF(OR(C1187=\"\",$I1176=\"NSO\"),\"\",VLOOKUP($A1171,'Result Entry'!$B$9:$EQ$108,55,0))","v":0},{"$f":"IF(OR(C1187=\"\",$I1176=\"NSO\"),\"\",VLOOKUP($A1171,'Result Entry'!$B$9:$EQ$108,56,0))","v":0},{"$f":"IF(OR(C1187=\"\",$I1176=\"NSO\"),\"\",VLOOKUP($A1171,'Result Entry'!$B$9:$EQ$108,57,0))","v":0},{"$f":"IF(OR(C1185=\"\",$I1176=\"NSO\"),\"\",VLOOKUP($A1171,'Result Entry'!$B$9:$EQ$108,62,0))","v":0},0,{"$f":"IF(OR(C1186=\"\",$I1176=\"NSO\"),\"\",VLOOKUP($A1171,'Result Entry'!$B$9:$EQ$108,66,0))","v":0},0,null,{"$f":"IF(OR(C1186=\"\",$I1176=\"NSO\"),\"\",VLOOKUP($A1171,'Result Entry'!$B$9:$EQ$108,69,0))","v":""}]
[null,"◐","Max. Marks",null,{"$f":"'Result Entry'!$AO$7","v":5},{"$f":"'Result Entry'!$AP$7","v":5},{"$f":"'Result Entry'!$AQ$7","v":5},{"$f":"'Result Entry'!$AV$7","v":35},50,{"$f":"'Result Entry'!$AZ$7","v":50},100,null,"A+/A/B/C/D"]
[null,"◐",{"$f":"'Result Entry'!$AO$3","v":"English"},null,{"$f":"IF(OR(C1189=\"\",$I1176=\"NSO\"),\"\",VLOOKUP($A1171,'Result Entry'!$B$9:$EQ$108,40,0))","v":0},{"$f":"IF(OR(C1189=\"\",$I1176=\"NSO\"),\"\",VLOOKUP($A1171,'Result Entry'!$B$9:$EQ$108,41,0))","v":0},{"$f":"IF(OR(C1189=\"\",$I1176=\"NSO\"),\"\",VLOOKUP($A1171,'Result Entry'!$B$9:$EQ$108,42,0))","v":0},{"$f":"IF(OR(C1189=\"\",$I1176=\"NSO\"),\"\",VLOOKUP($A1171,'Result Entry'!$B$9:$EQ$108,47,0))","v":0},0,{"$f":"IF(OR(C1189=\"\",$I1176=\"NSO\"),\"\",VLOOKUP($A1171,'Result Entry'!$B$9:$EQ$108,51,0))","v":0},0,null,{"$f":"IF(OR(C1189=\"\",$I1176=\"NSO\"),\"\",VLOOKUP($A1171,'Result Entry'!$B$9:$EQ$108,54,0))","v":""}]
[null,"◐","Max. Marks",null,{"$f":"'Result Entry'!$BS$7","v":10},{"$f":"'Result Entry'!$BT$7","v":10},{"$f":"'Result Entry'!$BU$7","v":10},{"$f":"'Result Entry'!$BZ$7","v":70},{"$f":"SUM(E1190:H1190)","v":100},{"$f":"'Result Entry'!$CD$7","v":100},200,null,"A+/A/B/C/D"]
[null,"◐",{"$f":"'Result Entry'!$BS$3","v":"Sanskrit/Urdu"},null,{"$f":"IF(OR(C1191=\"\",$I1176=\"NSO\"),\"\",VLOOKUP($A1171,'Result Entry'!$B$9:$EQ$108,70,0))","v":0},{"$f":"IF(OR(C1191=\"\",$I1176=\"NSO\"),\"\",VLOOKUP($A1171,'Result Entry'!$B$9:$EQ$108,71,0))","v":0},{"$f":"IF(OR(C1191=\"\",$I1176=\"NSO\"),\"\",VLOOKUP($A1171,'Result Entry'!$B$9:$EQ$108,72,0))","v":0},{"$f":"IF(OR(C1191=\"\",$I1176=\"NSO\"),\"\",VLOOKUP($A1171,'Result Entry'!$B$9:$EQ$108,77,0))","v":0},{"$f":"SUM(E1191:H1191)","v":0},{"$f":"IF(OR(C1191=\"\",$I1176=\"NSO\"),\"\",VLOOKUP($A1171,'Result Entry'!$B$9:$EQ$108,81,0))","v":0},0,null,{"$f":"IF(OR(C1191=\"\",$I1176=\"NSO\"),\"\",VLOOKUP($A1171,'Result Entry'!$B$9:$EQ$108,84,0))","v":""}]
[null,"◐"]
[null,"◐","Overall Result",null,null,"Total Max. Marks",null,"Total Obtained Marks",null,"Percentage","Overall Grade","Result","Position in Class"]
[null,"◐",{"$nulls":3},{"$f":"IF(OR($I1176=\"\",$I1176=\"NSO\"),\"\",VLOOKUP($A1171,'Result Entry'!$B$9:$EQ$108,120,0))","v":900},null,{"$f":"IF(OR($I1176=\"\",$I1176=\"NSO\"),\"\",VLOOKUP($A1171,'Result Entry'!$B$9:$EQ$108,121,0))","v":0},null,{"$f":"IF(OR($I1176=\"\",$I1176=\"NSO\"),\"\",VLOOKUP($A1171,'Result Entry'!$B$9:$EQ$108,122,0))","v":{"v":0,"d":"0.00"}},{"$f":"IF(OR($I1176=\"\",$I1176=\"NSO\"),\"\",VLOOKUP($A1171,'Result Entry'!$B$9:$EQ$108,123,0))","v":""},{"$f":"IF(OR($I1176=\"\",$I1176=\"NSO\"),\"\",VLOOKUP($A1171,'Result Entry'!$B$9:$EQ$108,124,0))","v":""},{"$f":"IF(OR($I1176=\"\",$I1176=\"NSO\"),\"\",VLOOKUP($A1171,'Result Entry'!$B$9:$EQ$108,126,0))","v":""}]
[null,"◐",{"$nulls":6},"Total Meetings :-",null,{"$f":"IF(OR($I1176=\"\",$I1176=\"NSO\"),\"\",VLOOKUP($A1171,'Result Entry'!$B$9:$EQ$108,117,0))","v":0},"Attedance %"]
[null,"◐","Extra Subjects",{"$nulls":5},"Student's Meetings :-",null,{"$f":"IF(OR($I1176=\"\",$I1176=\"NSO\"),\"\",VLOOKUP($A1171,'Result Entry'!$B$9:$EQ$108,118,0))","v":0},{"$f":"IF(OR($I1176=\"\",$I1176=\"NSO\"),\"\",VLOOKUP($A1171,'Result Entry'!$B$9:$EQ$108,119,0))","v":""}]
[null,"◐","Subject",null,null,"Total Marks",null,"GRADE","Remark :-",null,{"$f":"IF(OR($I1176=\"\",$I1176=\"NSO\"),\"\",VLOOKUP($A1171,'Result Entry'!$B$9:$EQ$108,127,0))","v":0}]
[null,"◐",{"$f":"'Result Entry'!$CH$3","v":"WORK EXP."},null,null,{"$f":"IF(OR(C1198=\"\",$I1176=\"NSO\"),\"\",VLOOKUP($A1171,'Result Entry'!$B$9:$EQ$108,138,0))","v":"0/100"},null,{"$f":"IF(OR(C1198=\"\",$I1176=\"NSO\"),\"\",VLOOKUP($A1171,'Result Entry'!$B$9:$EQ$108,92,0))","v":""},"Result Date :-",null,{"$f":"'Result Entry'!$U$2","v":"2024-05-07"}]
[null,"◐",{"$f":"'Result Entry'!$CP$3","v":"ART EDU."},null,null,{"$f":"IF(OR(C1199=\"\",$I1176=\"NSO\"),\"\",VLOOKUP($A1171,'Result Entry'!$B$9:$EQ$108,142,0))","v":"0/100"},null,{"$f":"IF(OR(C1199=\"\",$I1176=\"NSO\"),\"\",VLOOKUP($A1171,'Result Entry'!$B$9:$EQ$108,100,0))","v":""}]
[null,null,{"$f":"'Result Entry'!$CX$3","v":"H&P. EDU."},null,null,{"$f":"IF(OR(C1200=\"\",$I1176=\"NSO\"),\"\",VLOOKUP($A1171,'Result Entry'!$B$9:$EQ$108,146,0))","v":"0/0"},null,{"$f":"IF(OR(C1200=\"\",$I1176=\"NSO\"),\"\",VLOOKUP($A1171,'Result Entry'!$B$9:$EQ$108,108,0))","v":""}]
[null,"◐",{"$f":"'Result Entry'!$DF$3","v":0},null,null,{"$f":"IF(OR(C1201=\"\",$I1176=\"NSO\"),\"\",VLOOKUP($A1171,'Result Entry'!$B$9:$EQ$108,131,0))","v":0},null,{"$f":"IF(OR(C1201=\"\",$I1176=\"NSO\"),\"\",VLOOKUP($A1171,'Result Entry'!$B$9:$EQ$108,97,0))","v":0},"Signature Of The Class Teacher"]
[null,"◐","Grading System"]
[null,"◐","Grd.","% Range",null,"Description"]
[null,"◐","A","86-100",null,"Excellent",null,null,"Signature And Seal Of Principal/H.M."]
[null,"◐","B","71-85",null,"Very Good"]
[null,"◐","C","51-70",null,"Good"]
[null,"◐","D","31-50",null,"Average"]
[null,"◐","E","0-30",null,"Needs Improvement",null,null,"Wish bright future"]
[]
[{"$f":"A1171+1","v":32},"Department Of Education, Rajasthan"]
[null,{"$f":"IF(I1215>0,CONCATENATE(C1215,I1215),0)","v":0},null,{"$f":"Master!$E$8","v":"Govt.Sr.Sec.Sch."}]
[{"$nulls":3},{"$f":"Master!$E$11","v":"P.S.-Bapini (Jodhpur)"}]
[null,null,"Report Card",{"$nulls":6},"U-DISE Code:-",null,{"$f":"Master!$E$14","v":{"v":810000000,"d":"0810000000"}}]
[{"$nulls":9},"Session:-",null,{"$f":"Master!$E$6","v":"2023-24"}]
[null,null,"Roll No.:-",{"$nulls":5},{"$f":"VLOOKUP($A1210,'Result Entry'!$B$9:$F$108,5,0)","v":0}]
[null,"◐","Scholar Number",{"$nulls":3},"↠",{"$f":"VLOOKUP($A1210,'Result Entry'!$B$9:$EQ$108,3,0)","v":0}]
[null,"◐","Student's Name",{"$nulls":3},"↠",{"$f":"VLOOKUP($A1210,'Result Entry'!$B$9:$EQ$108,6,0)","v":0}]
[null,"◐","Father's Name",{"$nulls":3},"↠",{"$f":"VLOOKUP($A1210,'Result Entry'!$B$9:$EQ$108,7,0)","v":0}]
[null,"◐","Mother's Name ",{"$nulls":3},"↠",{"$f":"VLOOKUP($A1210,'Result Entry'!$B$9:$EQ$108,8,0)","v":0}]
[null,"◐","Class & Section",{"$nulls":3},"↠",{"$f":"CONCATENATE('Result Entry'!$F$4,'Result Entry'!$I$4)","v":"2(A)"}]
[null,"◐","Date Of Birth",{"$nulls":3},"↠",{"$f":"VLOOKUP($A1210,'Result Entry'!$B$9:$EQ$108,9,0)","v":"00:00:00"}]
[null,"◐","Subject",null,{"$f":"'Result Entry'!$K$6","v":"First Test"},{"$f":"'Result Entry'!$L$6","v":"Second Test"},{"$f":"'Result Entry'!$M$6","v":"Third Test"},"Half Yearly","Total (Test+H.Y.)","Yearly","Grand Total",null,"Subject Grade"]
[null,"◐","Max. Marks",null,{"$f":"'Result Entry'!$K$7","v":10},{"$f":"'Result Entry'!$L$7","v":10},{"$f":"'Result Entry'!$M$7","v":10},{"$f":"'Result Entry'!$R$7","v":70},{"$f":"SUM(E1223:H1223)","v":100},{"$f":"'Result Entry'!$V$7","v":100},{"$f":"I1223+J1223","v":200},null,"A+/A/B/C/D"]
[null,"◐",{"$f":"'Result Entry'!$K$3","v":"Hindi"},null,{"$f":"IF(OR(C1224=\"\",$I1215=\"NSO\"),\"\",VLOOKUP($A1210,'Result Entry'!$B$9:$EQ$108,10,0))","v":0},{"$f":"IF(OR(C1224=\"\",$I1215=\"NSO\"),\"\",VLOOKUP($A1210,'Result Entry'!$B$9:$EQ$108,11,0))","v":0},{"$f":"IF(OR(C1224=\"\",$I1215=\"NSO\"),\"\",VLOOKUP($A1210,'Result Entry'!$B$9:$EQ$108,12,0))","v":0},{"$f":"IF(OR(C1224=\"\",$I1215=\"NSO\"),\"\",VLOOKUP($A1210,'Result Entry'!$B$9:$EQ$108,17,0))","v":0},{"$f":"SUM(E1224:H1224)","v":0},{"$f":"IF(OR(C1224=\"\",$I1215=\"NSO\"),\"\",VLOOKUP($A1210,'Result Entry'!$B$9:$EQ$108,21,0))","v":0},{"$f":"SUM(I1224,J1224)","v":0},null,{"$f":"IF(OR(C1224=\"\",$I1215=\"NSO\"),\"\",VLOOKUP($A1210,'Result Entry'!$B$9:$EQ$108,24,0))","v":""}]
[null,"◐",{"$f":"'Result Entry'!$Z$3","v":"Mathematics"},null,{"$f":"IF(OR(C1225=\"\",$I1215=\"NSO\"),\"\",VLOOKUP($A1210,'Result Entry'!$B$9:$EQ$108,25,0))","v":0},{"$f":"IF(OR(C1225=\"\",$I1215=\"NSO\"),\"\",VLOOKUP($A1210,'Result Entry'!$B$9:$EQ$108,26,0))","v":0},{"$f":"IF(OR(C1225=\"\",$I1215=\"NSO\"),\"\",VLOOKUP($A1210,'Result Entry'!$B$9:$EQ$108,27,0))","v":0},{"$f":"IF(OR(C1225=\"\",$I1215=\"NSO\"),\"\",VLOOKUP($A1210,'Result Entry'!$B$9:$EQ$108,32,0))","v":0},0,{"$f":"IF(OR(C1225=\"\",$I1215=\"NSO\"),\"\",VLOOKUP($A1210,'Result Entry'!$B$9:$EQ$108,36,0))","v":0},{"$f":"SUM(I1225,J1225)","v":0},null,{"$f":"IF(OR(C1225=\"\",$I1215=\"NSO\"),\"\",VLOOKUP($A1210,'Result Entry'!$B$9:$EQ$108,39,0))","v":""}]
[null,"◐",{"$f":"'Result Entry'!$BD$3","v":"Env. Study"},null,{"$f":"IF(OR(C1226=\"\",$I1215=\"NSO\"),\"\",VLOOKUP($A1210,'Result Entry'!$B$9:$EQ$108,55,0))","v":0},{"$f":"IF(OR(C1226=\"\",$I1215=\"NSO\"),\"\",VLOOKUP($A1210,'Result Entry'!$B$9:$EQ$108,56,0))","v":0},{"$f":"IF(OR(C1226=\"\",$I1215=\"NSO\"),\"\",VLOOKUP($A1210,'Result Entry'!$B$9:$EQ$108,57,0))","v":0},{"$f":"IF(OR(C1224=\"\",$I1215=\"NSO\"),\"\",VLOOKUP($A1210,'Result Entry'!$B$9:$EQ$108,62,0))","v":0},0,{"$f":"IF(OR(C1225=\"\",$I1215=\"NSO\"),\"\",VLOOKUP($A1210,'Result Entry'!$B$9:$EQ$108,66,0))","v":0},0,null,{"$f":"IF(OR(C1225=\"\",$I1215=\"NSO\"),\"\",VLOOKUP($A1210,'Result Entry'!$B$9:$EQ$108,69,0))","v":""}]
[null,"◐","Max. Marks",null,{"$f":"'Result Entry'!$AO$7","v":5},{"$f":"'Result Entry'!$AP$7","v":5},{"$f":"'Result Entry'!$AQ$7","v":5},{"$f":"'Result Entry'!$AV$7","v":35},50,{"$f":"'Result Entry'!$AZ$7","v":50},100,null,"A+/A/B/C/D"]
[null,"◐",{"$f":"'Result Entry'!$AO$3","v":"English"},null,{"$f":"IF(OR(C1228=\"\",$I1215=\"NSO\"),\"\",VLOOKUP($A1210,'Result Entry'!$B$9:$EQ$108,40,0))","v":0},{"$f":"IF(OR(C1228=\"\",$I1215=\"NSO\"),\"\",VLOOKUP($A1210,'Result Entry'!$B$9:$EQ$108,41,0))","v":0},{"$f":"IF(OR(C1228=\"\",$I1215=\"NSO\"),\"\",VLOOKUP($A1210,'Result Entry'!$B$9:$EQ$108,42,0))","v":0},{"$f":"IF(OR(C1228=\"\",$I1215=\"NSO\"),\"\",VLOOKUP($A1210,'Result Entry'!$B$9:$EQ$108,47,0))","v":0},0,{"$f":"IF(OR(C1228=\"\",$I1215=\"NSO\"),\"\",VLOOKUP($A1210,'Result Entry'!$B$9:$EQ$108,51,0))","v":0},0,null,{"$f":"IF(OR(C1228=\"\",$I1215=\"NSO\"),\"\",VLOOKUP($A1210,'Result Entry'!$B$9:$EQ$108,54,0))","v":""}]
[null,"◐","Max. Marks",null,{"$f":"'Result Entry'!$BS$7","v":10},{"$f":"'Result Entry'!$BT$7","v":10},{"$f":"'Result Entry'!$BU$7","v":10},{"$f":"'Result Entry'!$BZ$7","v":70},{"$f":"SUM(E1229:H1229)","v":100},{"$f":"'Result Entry'!$CD$7","v":100},200,null,"A+/A/B/C/D"]
[null,"◐",{"$f":"'Result Entry'!$BS$3","v":"Sanskrit/Urdu"},null,{"$f":"IF(OR(C1230=\"\",$I1215=\"NSO\"),\"\",VLOOKUP($A1210,'Result Entry'!$B$9:$EQ$108,70,0))","v":0},{"$f":"IF(OR(C1230=\"\",$I1215=\"NSO\"),\"\",VLOOKUP($A1210,'Result Entry'!$B$9:$EQ$108,71,0))","v":0},{"$f":"IF(OR(C1230=\"\",$I1215=\"NSO\"),\"\",VLOOKUP($A1210,'Result Entry'!$B$9:$EQ$108,72,0))","v":0},{"$f":"IF(OR(C1230=\"\",$I1215=\"NSO\"),\"\",VLOOKUP($A1210,'Result Entry'!$B$9:$EQ$108,77,0))","v":0},{"$f":"SUM(E1230:H1230)","v":0},{"$f":"IF(OR(C1230=\"\",$I1215=\"NSO\"),\"\",VLOOKUP($A1210,'Result Entry'!$B$9:$EQ$108,81,0))","v":0},0,null,{"$f":"IF(OR(C1230=\"\",$I1215=\"NSO\"),\"\",VLOOKUP($A1210,'Result Entry'!$B$9:$EQ$108,84,0))","v":""}]
[null,"◐"]
[null,"◐","Overall Result",null,null,"Total Max. Marks",null,"Total Obtained Marks",null,"Percentage","Overall Grade","Result","Position in Class"]
[null,"◐",{"$nulls":3},{"$f":"IF(OR($I1215=\"\",$I1215=\"NSO\"),\"\",VLOOKUP($A1210,'Result Entry'!$B$9:$EQ$108,120,0))","v":900},null,{"$f":"IF(OR($I1215=\"\",$I1215=\"NSO\"),\"\",VLOOKUP($A1210,'Result Entry'!$B$9:$EQ$108,121,0))","v":0},null,{"$f":"IF(OR($I1215=\"\",$I1215=\"NSO\"),\"\",VLOOKUP($A1210,'Result Entry'!$B$9:$EQ$108,122,0))","v":{"v":0,"d":"0.00"}},{"$f":"IF(OR($I1215=\"\",$I1215=\"NSO\"),\"\",VLOOKUP($A1210,'Result Entry'!$B$9:$EQ$108,123,0))","v":""},{"$f":"IF(OR($I1215=\"\",$I1215=\"NSO\"),\"\",VLOOKUP($A1210,'Result Entry'!$B$9:$EQ$108,124,0))","v":""},{"$f":"IF(OR($I1215=\"\",$I1215=\"NSO\"),\"\",VLOOKUP($A1210,'Result Entry'!$B$9:$EQ$108,126,0))","v":""}]
[null,"◐",{"$nulls":6},"Total Meetings :-",null,{"$f":"IF(OR($I1215=\"\",$I1215=\"NSO\"),\"\",VLOOKUP($A1210,'Result Entry'!$B$9:$EQ$108,117,0))","v":0},"Attedance %"]
[null,"◐","Extra Subjects",{"$nulls":5},"Student's Meetings :-",null,{"$f":"IF(OR($I1215=\"\",$I1215=\"NSO\"),\"\",VLOOKUP($A1210,'Result Entry'!$B$9:$EQ$108,118,0))","v":0},{"$f":"IF(OR($I1215=\"\",$I1215=\"NSO\"),\"\",VLOOKUP($A1210,'Result Entry'!$B$9:$EQ$108,119,0))","v":""}]
[null,"◐","Subject",null,null,"Total Marks",null,"GRADE","Remark :-",null,{"$f":"IF(OR($I1215=\"\",$I1215=\"NSO\"),\"\",VLOOKUP($A1210,'Result Entry'!$B$9:$EQ$108,127,0))","v":0}]
[null,"◐",{"$f":"'Result Entry'!$CH$3","v":"WORK EXP."},null,null,{"$f":"IF(OR(C1237=\"\",$I1215=\"NSO\"),\"\",VLOOKUP($A1210,'Result Entry'!$B$9:$EQ$108,138,0))","v":"0/100"},null,{"$f":"IF(OR(C1237=\"\",$I1215=\"NSO\"),\"\",VLOOKUP($A1210,'Result Entry'!$B$9:$EQ$108,92,0))","v":""},"Result Date :-",null,{"$f":"'Result Entry'!$U$2","v":"2024-05-07"}]
[null,"◐",{"$f":"'Result Entry'!$CP$3","v":"ART EDU."},null,null,{"$f":"IF(OR(C1238=\"\",$I1215=\"NSO\"),\"\",VLOOKUP($A1210,'Result Entry'!$B$9:$EQ$108,142,0))","v":"0/100"},null,{"$f":"IF(OR(C1238=\"\",$I1215=\"NSO\"),\"\",VLOOKUP($A1210,'Result Entry'!$B$9:$EQ$108,100,0))","v":""}]
[null,null,{"$f":"'Result Entry'!$CX$3","v":"H&P. EDU."},null,null,{"$f":"IF(OR(C1239=\"\",$I1215=\"NSO\"),\"\",VLOOKUP($A1210,'Result Entry'!$B$9:$EQ$108,146,0))","v":"0/0"},null,{"$f":"IF(OR(C1239=\"\",$I1215=\"NSO\"),\"\",VLOOKUP($A1210,'Result Entry'!$B$9:$EQ$108,108,0))","v":""}]
[null,"◐",{"$f":"'Result Entry'!$DF$3","v":0},null,null,{"$f":"IF(OR(C1240=\"\",$I1215=\"NSO\"),\"\",VLOOKUP($A1210,'Result Entry'!$B$9:$EQ$108,131,0))","v":0},null,{"$f":"IF(OR(C1240=\"\",$I1215=\"NSO\"),\"\",VLOOKUP($A1210,'Result Entry'!$B$9:$EQ$108,97,0))","v":0},"Signature Of The Class Teacher"]
[null,"◐","Grading System"]
[null,"◐","Grd.","% Range",null,"Description"]
[null,"◐","A","86-100",null,"Excellent",null,null,"Signature And Seal Of Principal/H.M."]
[null,"◐","B","71-85",null,"Very Good"]
[null,"◐","C","51-70",null,"Good"]
[null,"◐","D","31-50",null,"Average"]
[null,"◐","E","0-30",null,"Needs Improvement",null,null,"Wish bright future"]
[]
[{"$f":"A1210+1","v":33},"Department Of Education, Rajasthan"]
[null,{"$f":"IF(I1254>0,CONCATENATE(C1254,I1254),0)","v":0},null,{"$f":"Master!$E$8","v":"Govt.Sr.Sec.Sch."}]
[{"$nulls":3},{"$f":"Master!$E$11","v":"P.S.-Bapini (Jodhpur)"}]
[null,null,"Report Card",{"$nulls":6},"U-DISE Code:-",null,{"$f":"Master!$E$14","v":{"v":810000000,"d":"0810000000"}}]
[{"$nulls":9},"Session:-",null,{"$f":"Master!$E$6","v":"2023-24"}]
[null,null,"Roll No.:-",{"$nulls":5},{"$f":"VLOOKUP($A1249,'Result Entry'!$B$9:$F$108,5,0)","v":0}]
[null,"◐","Scholar Number",{"$nulls":3},"↠",{"$f":"VLOOKUP($A1249,'Result Entry'!$B$9:$EQ$108,3,0)","v":0}]
[null,"◐","Student's Name",{"$nulls":3},"↠",{"$f":"VLOOKUP($A1249,'Result Entry'!$B$9:$EQ$108,6,0)","v":0}]
[null,"◐","Father's Name",{"$nulls":3},"↠",{"$f":"VLOOKUP($A1249,'Result Entry'!$B$9:$EQ$108,7,0)","v":0}]
[null,"◐","Mother's Name ",{"$nulls":3},"↠",{"$f":"VLOOKUP($A1249,'Result Entry'!$B$9:$EQ$108,8,0)","v":0}]
[null,"◐","Class & Section",{"$nulls":3},"↠",{"$f":"CONCATENATE('Result Entry'!$F$4,'Result Entry'!$I$4)","v":"2(A)"}]
[null,"◐","Date Of Birth",{"$nulls":3},"↠",{"$f":"VLOOKUP($A1249,'Result Entry'!$B$9:$EQ$108,9,0)","v":"00:00:00"}]
[null,"◐","Subject",null,{"$f":"'Result Entry'!$K$6","v":"First Test"},{"$f":"'Result Entry'!$L$6","v":"Second Test"},{"$f":"'Result Entry'!$M$6","v":"Third Test"},"Half Yearly","Total (Test+H.Y.)","Yearly","Grand Total",null,"Subject Grade"]
[null,"◐","Max. Marks",null,{"$f":"'Result Entry'!$K$7","v":10},{"$f":"'Result Entry'!$L$7","v":10},{"$f":"'Result Entry'!$M$7","v":10},{"$f":"'Result Entry'!$R$7","v":70},{"$f":"SUM(E1262:H1262)","v":100},{"$f":"'Result Entry'!$V$7","v":100},{"$f":"I1262+J1262","v":200},null,"A+/A/B/C/D"]
[null,"◐",{"$f":"'Result Entry'!$K$3","v":"Hindi"},null,{"$f":"IF(OR(C1263=\"\",$I1254=\"NSO\"),\"\",VLOOKUP($A1249,'Result Entry'!$B$9:$EQ$108,10,0))","v":0},{"$f":"IF(OR(C1263=\"\",$I1254=\"NSO\"),\"\",VLOOKUP($A1249,'Result Entry'!$B$9:$EQ$108,11,0))","v":0},{"$f":"IF(OR(C1263=\"\",$I1254=\"NSO\"),\"\",VLOOKUP($A1249,'Result Entry'!$B$9:$EQ$108,12,0))","v":0},{"$f":"IF(OR(C1263=\"\",$I1254=\"NSO\"),\"\",VLOOKUP($A1249,'Result Entry'!$B$9:$EQ$108,17,0))","v":0},{"$f":"SUM(E1263:H1263)","v":0},{"$f":"IF(OR(C1263=\"\",$I1254=\"NSO\"),\"\",VLOOKUP($A1249,'Result Entry'!$B$9:$EQ$108,21,0))","v":0},{"$f":"SUM(I1263,J1263)","v":0},null,{"$f":"IF(OR(C1263=\"\",$I1254=\"NSO\"),\"\",VLOOKUP($A1249,'Result Entry'!$B$9:$EQ$108,24,0))","v":""}]
[null,"◐",{"$f":"'Result Entry'!$Z$3","v":"Mathematics"},null,{"$f":"IF(OR(C1264=\"\",$I1254=\"NSO\"),\"\",VLOOKUP($A1249,'Result Entry'!$B$9:$EQ$108,25,0))","v":0},{"$f":"IF(OR(C1264=\"\",$I1254=\"NSO\"),\"\",VLOOKUP($A1249,'Result Entry'!$B$9:$EQ$108,26,0))","v":0},{"$f":"IF(OR(C1264=\"\",$I1254=\"NSO\"),\"\",VLOOKUP($A1249,'Result Entry'!$B$9:$EQ$108,27,0))","v":0},{"$f":"IF(OR(C1264=\"\",$I1254=\"NSO\"),\"\",VLOOKUP($A1249,'Result Entry'!$B$9:$EQ$108,32,0))","v":0},0,{"$f":"IF(OR(C1264=\"\",$I1254=\"NSO\"),\"\",VLOOKUP($A1249,'Result Entry'!$B$9:$EQ$108,36,0))","v":0},{"$f":"SUM(I1264,J1264)","v":0},null,{"$f":"IF(OR(C1264=\"\",$I1254=\"NSO\"),\"\",VLOOKUP($A1249,'Result Entry'!$B$9:$EQ$108,39,0))","v":""}]
[null,"◐",{"$f":"'Result Entry'!$BD$3","v":"Env. Study"},null,{"$f":"IF(OR(C1265=\"\",$I1254=\"NSO\"),\"\",VLOOKUP($A1249,'Result Entry'!$B$9:$EQ$108,55,0))","v":0},{"$f":"IF(OR(C1265=\"\",$I1254=\"NSO\"),\"\",VLOOKUP($A1249,'Result Entry'!$B$9:$EQ$108,56,0))","v":0},{"$f":"IF(OR(C1265=\"\",$I1254=\"NSO\"),\"\",VLOOKUP($A1249,'Result Entry'!$B$9:$EQ$108,57,0))","v":0},{"$f":"IF(OR(C1263=\"\",$I1254=\"NSO\"),\"\",VLOOKUP($A1249,'Result Entry'!$B$9:$EQ$108,62,0))","v":0},0,{"$f":"IF(OR(C1264=\"\",$I1254=\"NSO\"),\"\",VLOOKUP($A1249,'Result Entry'!$B$9:$EQ$108,66,0))","v":0},0,null,{"$f":"IF(OR(C1264=\"\",$I1254=\"NSO\"),\"\",VLOOKUP($A1249,'Result Entry'!$B$9:$EQ$108,69,0))","v":""}]
[null,"◐","Max. Marks",null,{"$f":"'Result Entry'!$AO$7","v":5},{"$f":"'Result Entry'!$AP$7","v":5},{"$f":"'Result Entry'!$AQ$7","v":5},{"$f":"'Result Entry'!$AV$7","v":35},50,{"$f":"'Result Entry'!$AZ$7","v":50},100,null,"A+/A/B/C/D"]
[null,"◐",{"$f":"'Result Entry'!$AO$3","v":"English"},null,{"$f":"IF(OR(C1267=\"\",$I1254=\"NSO\"),\"\",VLOOKUP($A1249,'Result Entry'!$B$9:$EQ$108,40,0))","v":0},{"$f":"IF(OR(C1267=\"\",$I1254=\"NSO\"),\"\",VLOOKUP($A1249,'Result Entry'!$B$9:$EQ$108,41,0))","v":0},{"$f":"IF(OR(C1267=\"\",$I1254=\"NSO\"),\"\",VLOOKUP($A1249,'Result Entry'!$B$9:$EQ$108,42,0))","v":0},{"$f":"IF(OR(C1267=\"\",$I1254=\"NSO\"),\"\",VLOOKUP($A1249,'Result Entry'!$B$9:$EQ$108,47,0))","v":0},0,{"$f":"IF(OR(C1267=\"\",$I1254=\"NSO\"),\"\",VLOOKUP($A1249,'Result Entry'!$B$9:$EQ$108,51,0))","v":0},0,null,{"$f":"IF(OR(C1267=\"\",$I1254=\"NSO\"),\"\",VLOOKUP($A1249,'Result Entry'!$B$9:$EQ$108,54,0))","v":""}]
[null,"◐","Max. Marks",null,{"$f":"'Result Entry'!$BS$7","v":10},{"$f":"'Result Entry'!$BT$7","v":10},{"$f":"'Result Entry'!$BU$7","v":10},{"$f":"'Result Entry'!$BZ$7","v":70},{"$f":"SUM(E1268:H1268)","v":100},{"$f":"'Result Entry'!$CD$7","v":100},200,null,"A+/A/B/C/D"]
[null,"◐",{"$f":"'Result Entry'!$BS$3","v":"Sanskrit/Urdu"},null,{"$f":"IF(OR(C1269=\"\",$I1254=\"NSO\"),\"\",VLOOKUP($A1249,'Result Entry'!$B$9:$EQ$108,70,0))","v":0},{"$f":"IF(OR(C1269=\"\",$I1254=\"NSO\"),\"\",VLOOKUP($A1249,'Result Entry'!$B$9:$EQ$108,71,0))","v":0},{"$f":"IF(OR(C1269=\"\",$I1254=\"NSO\"),\"\",VLOOKUP($A1249,'Result Entry'!$B$9:$EQ$108,72,0))","v":0},{"$f":"IF(OR(C1269=\"\",$I1254=\"NSO\"),\"\",VLOOKUP($A1249,'Result Entry'!$B$9:$EQ$108,77,0))","v":0},{"$f":"SUM(E1269:H1269)","v":0},{"$f":"IF(OR(C1269=\"\",$I1254=\"NSO\"),\"\",VLOOKUP($A1249,'Result Entry'!$B$9:$EQ$108,81,0))","v":0},0,null,{"$f":"IF(OR(C1269=\"\",$I1254=\"NSO\"),\"\",VLOOKUP($A1249,'Result Entry'!$B$9:$EQ$108,84,0))","v":""}]
[null,"◐"]
[null,"◐","Overall Result",null,null,"Total Max. Marks",null,"Total Obtained Marks",null,"Percentage","Overall Grade","Result","Position in Class"]
[null,"◐",{"$nulls":3},{"$f":"IF(OR($I1254=\"\",$I1254=\"NSO\"),\"\",VLOOKUP($A1249,'Result Entry'!$B$9:$EQ$108,120,0))","v":900},null,{"$f":"IF(OR($I1254=\"\",$I1254=\"NSO\"),\"\",VLOOKUP($A1249,'Result Entry'!$B$9:$EQ$108,121,0))","v":0},null,{"$f":"IF(OR($I1254=\"\",$I1254=\"NSO\"),\"\",VLOOKUP($A1249,'Result Entry'!$B$9:$EQ$108,122,0))","v":{"v":0,"d":"0.00"}},{"$f":"IF(OR($I1254=\"\",$I1254=\"NSO\"),\"\",VLOOKUP($A1249,'Result Entry'!$B$9:$EQ$108,123,0))","v":""},{"$f":"IF(OR($I1254=\"\",$I1254=\"NSO\"),\"\",VLOOKUP($A1249,'Result Entry'!$B$9:$EQ$108,124,0))","v":""},{"$f":"IF(OR($I1254=\"\",$I1254=\"NSO\"),\"\",VLOOKUP($A1249,'Result Entry'!$B$9:$EQ$108,126,0))","v":""}]
[null,"◐",{"$nulls":6},"Total Meetings :-",null,{"$f":"IF(OR($I1254=\"\",$I1254=\"NSO\"),\"\",VLOOKUP($A1249,'Result Entry'!$B$9:$EQ$108,117,0))","v":0},"Attedance %"]
[null,"◐","Extra Subjects",{"$nulls":5},"Student's Meetings :-",null,{"$f":"IF(OR($I1254=\"\",$I1254=\"NSO\"),\"\",VLOOKUP($A1249,'Result Entry'!$B$9:$EQ$108,118,0))","v":0},{"$f":"IF(OR($I1254=\"\",$I1254=\"NSO\"),\"\",VLOOKUP($A1249,'Result Entry'!$B$9:$EQ$108,119,0))","v":""}]
[null,"◐","Subject",null,null,"Total Marks",null,"GRADE","Remark :-",null,{"$f":"IF(OR($I1254=\"\",$I1254=\"NSO\"),\"\",VLOOKUP($A1249,'Result Entry'!$B$9:$EQ$108,127,0))","v":0}]
[null,"◐",{"$f":"'Result Entry'!$CH$3","v":"WORK EXP."},null,null,{"$f":"IF(OR(C1276=\"\",$I1254=\"NSO\"),\"\",VLOOKUP($A1249,'Result Entry'!$B$9:$EQ$108,138,0))","v":"0/100"},null,{"$f":"IF(OR(C1276=\"\",$I1254=\"NSO\"),\"\",VLOOKUP($A1249,'Result Entry'!$B$9:$EQ$108,92,0))","v":""},"Result Date :-",null,{"$f":"'Result Entry'!$U$2","v":"2024-05-07"}]
[null,"◐",{"$f":"'Result Entry'!$CP$3","v":"ART EDU."},null,null,{"$f":"IF(OR(C1277=\"\",$I1254=\"NSO\"),\"\",VLOOKUP($A1249,'Result Entry'!$B$9:$EQ$108,142,0))","v":"0/100"},null,{"$f":"IF(OR(C1277=\"\",$I1254=\"NSO\"),\"\",VLOOKUP($A1249,'Result Entry'!$B$9:$EQ$108,100,0))","v":""}]
[null,null,{"$f":"'Result Entry'!$CX$3","v":"H&P. EDU."},null,null,{"$f":"IF(OR(C1278=\"\",$I1254=\"NSO\"),\"\",VLOOKUP($A1249,'Result Entry'!$B$9:$EQ$108,146,0))","v":"0/0"},null,{"$f":"IF(OR(C1278=\"\",$I1254=\"NSO\"),\"\",VLOOKUP($A1249,'Result Entry'!$B$9:$EQ$108,108,0))","v":""}]
[null,"◐",{"$f":"'Result Entry'!$DF$3","v":0},null,null,{"$f":"IF(OR(C1279=\"\",$I1254=\"NSO\"),\"\",VLOOKUP($A1249,'Result Entry'!$B$9:$EQ$108,131,0))","v":0},null,{"$f":"IF(OR(C1279=\"\",$I1254=\"NSO\"),\"\",VLOOKUP($A1249,'Result Entry'!$B$9:$EQ$108,97,0))","v":0},"Signature Of The Class Teacher"]
[null,"◐","Grading System"]
[null,"◐","Grd.","% Range",null,"Description"]
[null,"◐","A","86-100",null,"Excellent",null,null,"Signature And Seal Of Principal/H.M."]
[null,"◐","B","71-85",null,"Very Good"]
[null,"◐","C","51-70",null,"Good"]
[null,"◐","D","31-50",null,"Average"]
[null,"◐","E","0-30",null,"Needs Improvement",null,null,"Wish bright future"]
[]
[{"$f":"A1249+1","v":34},"Department Of Education, Rajasthan"]
[null,{"$f":"IF(I1293>0,CONCATENATE(C1293,I1293),0)","v":0},null,{"$f":"Master!$E$8","v":"Govt.Sr.Sec.Sch."}]
[{"$nulls":3},{"$f":"Master!$E$11","v":"P.S.-Bapini (Jodhpur)"}]
[null,null,"Report Card",{"$nulls":6},"U-DISE Code:-",null,{"$f":"Master!$E$14","v":{"v":810000000,"d":"0810000000"}}]
[{"$nulls":9},"Session:-",null,{"$f":"Master!$E$6","v":"2023-24"}]
[null,null,"Roll No.:-",{"$nulls":5},{"$f":"VLOOKUP($A1288,'Result Entry'!$B$9:$F$108,5,0)","v":0}]
[null,"◐","Scholar Number",{"$nulls":3},"↠",{"$f":"VLOOKUP($A1288,'Result Entry'!$B$9:$EQ$108,3,0)","v":0}]
[null,"◐","Student's Name",{"$nulls":3},"↠",{"$f":"VLOOKUP($A1288,'Result Entry'!$B$9:$EQ$108,6,0)","v":0}]
[null,"◐","Father's Name",{"$nulls":3},"↠",{"$f":"VLOOKUP($A1288,'Result Entry'!$B$9:$EQ$108,7,0)","v":0}]
[null,"◐","Mother's Name ",{"$nulls":3},"↠",{"$f":"VLOOKUP($A1288,'Result Entry'!$B$9:$EQ$108,8,0)","v":0}]
[null,"◐","Class & Section",{"$nulls":3},"↠",{"$f":"CONCATENATE('Result Entry'!$F$4,'Result Entry'!$I$4)","v":"2(A)"}]
[null,"◐","Date Of Birth",{"$nulls":3},"↠",{"$f":"VLOOKUP($A1288,'Result Entry'!$B$9:$EQ$108,9,0)","v":"00:00:00"}]
[null,"◐","Subject",null,{"$f":"'Result Entry'!$K$6","v":"First Test"},{"$f":"'Result Entry'!$L$6","v":"Second Test"},{"$f":"'Result Entry'!$M$6","v":"Third Test"},"Half Yearly","Total (Test+H.Y.)","Yearly","Grand Total",null,"Subject Grade"]
[null,"◐","Max. Marks",null,{"$f":"'Result Entry'!$K$7","v":10},{"$f":"'Result Entry'!$L$7","v":10},{"$f":"'Result Entry'!$M$7","v":10},{"$f":"'Result Entry'!$R$7","v":70},{"$f":"SUM(E1301:H1301)","v":100},{"$f":"'Result Entry'!$V$7","v":100},{"$f":"I1301+J1301","v":200},null,"A+/A/B/C/D"]
[null,"◐",{"$f":"'Result Entry'!$K$3","v":"Hindi"},null,{"$f":"IF(OR(C1302=\"\",$I1293=\"NSO\"),\"\",VLOOKUP($A1288,'Result Entry'!$B$9:$EQ$108,10,0))","v":0},{"$f":"IF(OR(C1302=\"\",$I1293=\"NSO\"),\"\",VLOOKUP($A1288,'Result Entry'!$B$9:$EQ$108,11,0))","v":0},{"$f":"IF(OR(C1302=\"\",$I1293=\"NSO\"),\"\",VLOOKUP($A1288,'Result Entry'!$B$9:$EQ$108,12,0))","v":0},{"$f":"IF(OR(C1302=\"\",$I1293=\"NSO\"),\"\",VLOOKUP($A1288,'Result Entry'!$B$9:$EQ$108,17,0))","v":0},{"$f":"SUM(E1302:H1302)","v":0},{"$f":"IF(OR(C1302=\"\",$I1293=\"NSO\"),\"\",VLOOKUP($A1288,'Result Entry'!$B$9:$EQ$108,21,0))","v":0},{"$f":"SUM(I1302,J1302)","v":0},null,{"$f":"IF(OR(C1302=\"\",$I1293=\"NSO\"),\"\",VLOOKUP($A1288,'Result Entry'!$B$9:$EQ$108,24,0))","v":""}]
[null,"◐",{"$f":"'Result Entry'!$Z$3","v":"Mathematics"},null,{"$f":"IF(OR(C1303=\"\",$I1293=\"NSO\"),\"\",VLOOKUP($A1288,'Result Entry'!$B$9:$EQ$108,25,0))","v":0},{"$f":"IF(OR(C1303=\"\",$I1293=\"NSO\"),\"\",VLOOKUP($A1288,'Result Entry'!$B$9:$EQ$108,26,0))","v":0},{"$f":"IF(OR(C1303=\"\",$I1293=\"NSO\"),\"\",VLOOKUP($A1288,'Result Entry'!$B$9:$EQ$108,27,0))","v":0},{"$f":"IF(OR(C1303=\"\",$I1293=\"NSO\"),\"\",VLOOKUP($A1288,'Result Entry'!$B$9:$EQ$108,32,0))","v":0},0,{"$f":"IF(OR(C1303=\"\",$I1293=\"NSO\"),\"\",VLOOKUP($A1288,'Result Entry'!$B$9:$EQ$108,36,0))","v":0},{"$f":"SUM(I1303,J1303)","v":0},null,{"$f":"IF(OR(C1303=\"\",$I1293=\"NSO\"),\"\",VLOOKUP($A1288,'Result Entry'!$B$9:$EQ$108,39,0))","v":""}]
[null,"◐",{"$f":"'Result Entry'!$BD$3","v":"Env. Study"},null,{"$f":"IF(OR(C1304=\"\",$I1293=\"NSO\"),\"\",VLOOKUP($A1288,'Result Entry'!$B$9:$EQ$108,55,0))","v":0},{"$f":"IF(OR(C1304=\"\",$I1293=\"NSO\"),\"\",VLOOKUP($A1288,'Result Entry'!$B$9:$EQ$108,56,0))","v":0},{"$f":"IF(OR(C1304=\"\",$I1293=\"NSO\"),\"\",VLOOKUP($A1288,'Result Entry'!$B$9:$EQ$108,57,0))","v":0},{"$f":"IF(OR(C1302=\"\",$I1293=\"NSO\"),\"\",VLOOKUP($A1288,'Result Entry'!$B$9:$EQ$108,62,0))","v":0},0,{"$f":"IF(OR(C1303=\"\",$I1293=\"NSO\"),\"\",VLOOKUP($A1288,'Result Entry'!$B$9:$EQ$108,66,0))","v":0},0,null,{"$f":"IF(OR(C1303=\"\",$I1293=\"NSO\"),\"\",VLOOKUP($A1288,'Result Entry'!$B$9:$EQ$108,69,0))","v":""}]
[null,"◐","Max. Marks",null,{"$f":"'Result Entry'!$AO$7","v":5},{"$f":"'Result Entry'!$AP$7","v":5},{"$f":"'Result Entry'!$AQ$7","v":5},{"$f":"'Result Entry'!$AV$7","v":35},50,{"$f":"'Result Entry'!$AZ$7","v":50},100,null,"A+/A/B/C/D"]
[null,"◐",{"$f":"'Result Entry'!$AO$3","v":"English"},null,{"$f":"IF(OR(C1306=\"\",$I1293=\"NSO\"),\"\",VLOOKUP($A1288,'Result Entry'!$B$9:$EQ$108,40,0))","v":0},{"$f":"IF(OR(C1306=\"\",$I1293=\"NSO\"),\"\",VLOOKUP($A1288,'Result Entry'!$B$9:$EQ$108,41,0))","v":0},{"$f":"IF(OR(C1306=\"\",$I1293=\"NSO\"),\"\",VLOOKUP($A1288,'Result Entry'!$B$9:$EQ$108,42,0))","v":0},{"$f":"IF(OR(C1306=\"\",$I1293=\"NSO\"),\"\",VLOOKUP($A1288,'Result Entry'!$B$9:$EQ$108,47,0))","v":0},0,{"$f":"IF(OR(C1306=\"\",$I1293=\"NSO\"),\"\",VLOOKUP($A1288,'Result Entry'!$B$9:$EQ$108,51,0))","v":0},0,null,{"$f":"IF(OR(C1306=\"\",$I1293=\"NSO\"),\"\",VLOOKUP($A1288,'Result Entry'!$B$9:$EQ$108,54,0))","v":""}]
[null,"◐","Max. Marks",null,{"$f":"'Result Entry'!$BS$7","v":10},{"$f":"'Result Entry'!$BT$7","v":10},{"$f":"'Result Entry'!$BU$7","v":10},{"$f":"'Result Entry'!$BZ$7","v":70},{"$f":"SUM(E1307:H1307)","v":100},{"$f":"'Result Entry'!$CD$7","v":100},200,null,"A+/A/B/C/D"]
[null,"◐",{"$f":"'Result Entry'!$BS$3","v":"Sanskrit/Urdu"},null,{"$f":"IF(OR(C1308=\"\",$I1293=\"NSO\"),\"\",VLOOKUP($A1288,'Result Entry'!$B$9:$EQ$108,70,0))","v":0},{"$f":"IF(OR(C1308=\"\",$I1293=\"NSO\"),\"\",VLOOKUP($A1288,'Result Entry'!$B$9:$EQ$108,71,0))","v":0},{"$f":"IF(OR(C1308=\"\",$I1293=\"NSO\"),\"\",VLOOKUP($A1288,'Result Entry'!$B$9:$EQ$108,72,0))","v":0},{"$f":"IF(OR(C1308=\"\",$I1293=\"NSO\"),\"\",VLOOKUP($A1288,'Result Entry'!$B$9:$EQ$108,77,0))","v":0},{"$f":"SUM(E1308:H1308)","v":0},{"$f":"IF(OR(C1308=\"\",$I1293=\"NSO\"),\"\",VLOOKUP($A1288,'Result Entry'!$B$9:$EQ$108,81,0))","v":0},0,null,{"$f":"IF(OR(C1308=\"\",$I1293=\"NSO\"),\"\",VLOOKUP($A1288,'Result Entry'!$B$9:$EQ$108,84,0))","v":""}]
[null,"◐"]
[null,"◐","Overall Result",null,null,"Total Max. Marks",null,"Total Obtained Marks",null,"Percentage","Overall Grade","Result","Position in Class"]
[null,"◐",{"$nulls":3},{"$f":"IF(OR($I1293=\"\",$I1293=\"NSO\"),\"\",VLOOKUP($A1288,'Result Entry'!$B$9:$EQ$108,120,0))","v":900},null,{"$f":"IF(OR($I1293=\"\",$I1293=\"NSO\"),\"\",VLOOKUP($A1288,'Result Entry'!$B$9:$EQ$108,121,0))","v":0},null,{"$f":"IF(OR($I1293=\"\",$I1293=\"NSO\"),\"\",VLOOKUP($A1288,'Result Entry'!$B$9:$EQ$108,122,0))","v":{"v":0,"d":"0.00"}},{"$f":"IF(OR($I1293=\"\",$I1293=\"NSO\"),\"\",VLOOKUP($A1288,'Result Entry'!$B$9:$EQ$108,123,0))","v":""},{"$f":"IF(OR($I1293=\"\",$I1293=\"NSO\"),\"\",VLOOKUP($A1288,'Result Entry'!$B$9:$EQ$108,124,0))","v":""},{"$f":"IF(OR($I1293=\"\",$I1293=\"NSO\"),\"\",VLOOKUP($A1288,'Result Entry'!$B$9:$EQ$108,126,0))","v":""}]
[null,"◐",{"$nulls":6},"Total Meetings :-",null,{"$f":"IF(OR($I1293=\"\",$I1293=\"NSO\"),\"\",VLOOKUP($A1288,'Result Entry'!$B$9:$EQ$108,117,0))","v":0},"Attedance %"]
[null,"◐","Extra Subjects",{"$nulls":5},"Student's Meetings :-",null,{"$f":"IF(OR($I1293=\"\",$I1293=\"NSO\"),\"\",VLOOKUP($A1288,'Result Entry'!$B$9:$EQ$108,118,0))","v":0},{"$f":"IF(OR($I1293=\"\",$I1293=\"NSO\"),\"\",VLOOKUP($A1288,'Result Entry'!$B$9:$EQ$108,119,0))","v":""}]
[null,"◐","Subject",null,null,"Total Marks",null,"GRADE","Remark :-",null,{"$f":"IF(OR($I1293=\"\",$I1293=\"NSO\"),\"\",VLOOKUP($A1288,'Result Entry'!$B$9:$EQ$108,127,0))","v":0}]
[null,"◐",{"$f":"'Result Entry'!$CH$3","v":"WORK EXP."},null,null,{"$f":"IF(OR(C1315=\"\",$I1293=\"NSO\"),\"\",VLOOKUP($A1288,'Result Entry'!$B$9:$EQ$108,138,0))","v":"0/100"},null,{"$f":"IF(OR(C1315=\"\",$I1293=\"NSO\"),\"\",VLOOKUP($A1288,'Result Entry'!$B$9:$EQ$108,92,0))","v":""},"Result Date :-",null,{"$f":"'Result Entry'!$U$2","v":"2024-05-07"}]
[null,"◐",{"$f":"'Result Entry'!$CP$3","v":"ART EDU."},null,null,{"$f":"IF(OR(C1316=\"\",$I1293=\"NSO\"),\"\",VLOOKUP($A1288,'Result Entry'!$B$9:$EQ$108,142,0))","v":"0/100"},null,{"$f":"IF(OR(C1316=\"\",$I1293=\"NSO\"),\"\",VLOOKUP($A1288,'Result Entry'!$B$9:$EQ$108,100,0))","v":""}]
[null,null,{"$f":"'Result Entry'!$CX$3","v":"H&P. EDU."},null,null,{"$f":"IF(OR(C1317=\"\",$I1293=\"NSO\"),\"\",VLOOKUP($A1288,'Result Entry'!$B$9:$EQ$108,146,0))","v":"0/0"},null,{"$f":"IF(OR(C1317=\"\",$I1293=\"NSO\"),\"\",VLOOKUP($A1288,'Result Entry'!$B$9:$EQ$108,108,0))","v":""}]
[null,"◐",{"$f":"'Result Entry'!$DF$3","v":0},null,null,{"$f":"IF(OR(C1318=\"\",$I1293=\"NSO\"),\"\",VLOOKUP($A1288,'Result Entry'!$B$9:$EQ$108,131,0))","v":0},null,{"$f":"IF(OR(C1318=\"\",$I1293=\"NSO\"),\"\",VLOOKUP($A1288,'Result Entry'!$B$9:$EQ$108,97,0))","v":0},"Signature Of The Class Teacher"]
[null,"◐","Grading System"]
[null,"◐","Grd.","% Range",null,"Description"]
[null,"◐","A","86-100",null,"Excellent",null,null,"Signature And Seal Of Principal/H.M."]
[null,"◐","B","71-85",null,"Very Good"]
[null,"◐","C","51-70",null,"Good"]
[null,"◐","D","31-50",null,"Average"]
[null,"◐","E","0-30",null,"Needs Improvement",null,null,"Wish bright future"]
[]
[{"$f":"A1288+1","v":35},"Department Of Education, Rajasthan"]
[null,{"$f":"IF(I1332>0,CONCATENATE(C1332,I1332),0)","v":0},null,{"$f":"Master!$E$8","v":"Govt.Sr.Sec.Sch."}]
[{"$nulls":3},{"$f":"Master!$E$11","v":"P.S.-Bapini (Jodhpur)"}]
[null,null,"Report Card",{"$nulls":6},"U-DISE Code:-",null,{"$f":"Master!$E$14","v":{"v":810000000,"d":"0810000000"}}]
[{"$nulls":9},"Session:-",null,{"$f":"Master!$E$6","v":"2023-24"}]
[null,null,"Roll No.:-",{"$nulls":5},{"$f":"VLOOKUP($A1327,'Result Entry'!$B$9:$F$108,5,0)","v":0}]
[null,"◐","Scholar Number",{"$nulls":3},"↠",{"$f":"VLOOKUP($A1327,'Result Entry'!$B$9:$EQ$108,3,0)","v":0}]
[null,"◐","Student's Name",{"$nulls":3},"↠",{"$f":"VLOOKUP($A1327,'Result Entry'!$B$9:$EQ$108,6,0)","v":0}]
[null,"◐","Father's Name",{"$nulls":3},"↠",{"$f":"VLOOKUP($A1327,'Result Entry'!$B$9:$EQ$108,7,0)","v":0}]
[null,"◐","Mother's Name ",{"$nulls":3},"↠",{"$f":"VLOOKUP($A1327,'Result Entry'!$B$9:$EQ$108,8,0)","v":0}]
[null,"◐","Class & Section",{"$nulls":3},"↠",{"$f":"CONCATENATE('Result Entry'!$F$4,'Result Entry'!$I$4)","v":"2(A)"}]
[null,"◐","Date Of Birth",{"$nulls":3},"↠",{"$f":"VLOOKUP($A1327,'Result Entry'!$B$9:$EQ$108,9,0)","v":"00:00:00"}]
[null,"◐","Subject",null,{"$f":"'Result Entry'!$K$6","v":"First Test"},{"$f":"'Result Entry'!$L$6","v":"Second Test"},{"$f":"'Result Entry'!$M$6","v":"Third Test"},"Half Yearly","Total (Test+H.Y.)","Yearly","Grand Total",null,"Subject Grade"]
[null,"◐","Max. Marks",null,{"$f":"'Result Entry'!$K$7","v":10},{"$f":"'Result Entry'!$L$7","v":10},{"$f":"'Result Entry'!$M$7","v":10},{"$f":"'Result Entry'!$R$7","v":70},{"$f":"SUM(E1340:H1340)","v":100},{"$f":"'Result Entry'!$V$7","v":100},{"$f":"I1340+J1340","v":200},null,"A+/A/B/C/D"]
[null,"◐",{"$f":"'Result Entry'!$K$3","v":"Hindi"},null,{"$f":"IF(OR(C1341=\"\",$I1332=\"NSO\"),\"\",VLOOKUP($A1327,'Result Entry'!$B$9:$EQ$108,10,0))","v":0},{"$f":"IF(OR(C1341=\"\",$I1332=\"NSO\"),\"\",VLOOKUP($A1327,'Result Entry'!$B$9:$EQ$108,11,0))","v":0},{"$f":"IF(OR(C1341=\"\",$I1332=\"NSO\"),\"\",VLOOKUP($A1327,'Result Entry'!$B$9:$EQ$108,12,0))","v":0},{"$f":"IF(OR(C1341=\"\",$I1332=\"NSO\"),\"\",VLOOKUP($A1327,'Result Entry'!$B$9:$EQ$108,17,0))","v":0},{"$f":"SUM(E1341:H1341)","v":0},{"$f":"IF(OR(C1341=\"\",$I1332=\"NSO\"),\"\",VLOOKUP($A1327,'Result Entry'!$B$9:$EQ$108,21,0))","v":0},{"$f":"SUM(I1341,J1341)","v":0},null,{"$f":"IF(OR(C1341=\"\",$I1332=\"NSO\"),\"\",VLOOKUP($A1327,'Result Entry'!$B$9:$EQ$108,24,0))","v":""}]
[null,"◐",{"$f":"'Result Entry'!$Z$3","v":"Mathematics"},null,{"$f":"IF(OR(C1342=\"\",$I1332=\"NSO\"),\"\",VLOOKUP($A1327,'Result Entry'!$B$9:$EQ$108,25,0))","v":0},{"$f":"IF(OR(C1342=\"\",$I1332=\"NSO\"),\"\",VLOOKUP($A1327,'Result Entry'!$B$9:$EQ$108,26,0))","v":0},{"$f":"IF(OR(C1342=\"\",$I1332=\"NSO\"),\"\",VLOOKUP($A1327,'Result Entry'!$B$9:$EQ$108,27,0))","v":0},{"$f":"IF(OR(C1342=\"\",$I1332=\"NSO\"),\"\",VLOOKUP($A1327,'Result Entry'!$B$9:$EQ$108,32,0))","v":0},0,{"$f":"IF(OR(C1342=\"\",$I1332=\"NSO\"),\"\",VLOOKUP($A1327,'Result Entry'!$B$9:$EQ$108,36,0))","v":0},{"$f":"SUM(I1342,J1342)","v":0},null,{"$f":"IF(OR(C1342=\"\",$I1332=\"NSO\"),\"\",VLOOKUP($A1327,'Result Entry'!$B$9:$EQ$108,39,0))","v":""}]
[null,"◐",{"$f":"'Result Entry'!$BD$3","v":"Env. Study"},null,{"$f":"IF(OR(C1343=\"\",$I1332=\"NSO\"),\"\",VLOOKUP($A1327,'Result Entry'!$B$9:$EQ$108,55,0))","v":0},{"$f":"IF(OR(C1343=\"\",$I1332=\"NSO\"),\"\",VLOOKUP($A1327,'Result Entry'!$B$9:$EQ$108,56,0))","v":0},{"$f":"IF(OR(C1343=\"\",$I1332=\"NSO\"),\"\",VLOOKUP($A1327,'Result Entry'!$B$9:$EQ$108,57,0))","v":0},{"$f":"IF(OR(C1341=\"\",$I1332=\"NSO\"),\"\",VLOOKUP($A1327,'Result Entry'!$B$9:$EQ$108,62,0))","v":0},0,{"$f":"IF(OR(C1342=\"\",$I1332=\"NSO\"),\"\",VLOOKUP($A1327,'Result Entry'!$B$9:$EQ$108,66,0))","v":0},0,null,{"$f":"IF(OR(C1342=\"\",$I1332=\"NSO\"),\"\",VLOOKUP($A1327,'Result Entry'!$B$9:$EQ$108,69,0))","v":""}]
[null,"◐","Max. Marks",null,{"$f":"'Result Entry'!$AO$7","v":5},{"$f":"'Result Entry'!$AP$7","v":5},{"$f":"'Result Entry'!$AQ$7","v":5},{"$f":"'Result Entry'!$AV$7","v":35},50,{"$f":"'Result Entry'!$AZ$7","v":50},100,null,"A+/A/B/C/D"]
[null,"◐",{"$f":"'Result Entry'!$AO$3","v":"English"},null,{"$f":"IF(OR(C1345=\"\",$I1332=\"NSO\"),\"\",VLOOKUP($A1327,'Result Entry'!$B$9:$EQ$108,40,0))","v":0},{"$f":"IF(OR(C1345=\"\",$I1332=\"NSO\"),\"\",VLOOKUP($A1327,'Result Entry'!$B$9:$EQ$108,41,0))","v":0},{"$f":"IF(OR(C1345=\"\",$I1332=\"NSO\"),\"\",VLOOKUP($A1327,'Result Entry'!$B$9:$EQ$108,42,0))","v":0},{"$f":"IF(OR(C1345=\"\",$I1332=\"NSO\"),\"\",VLOOKUP($A1327,'Result Entry'!$B$9:$EQ$108,47,0))","v":0},0,{"$f":"IF(OR(C1345=\"\",$I1332=\"NSO\"),\"\",VLOOKUP($A1327,'Result Entry'!$B$9:$EQ$108,51,0))","v":0},0,null,{"$f":"IF(OR(C1345=\"\",$I1332=\"NSO\"),\"\",VLOOKUP($A1327,'Result Entry'!$B$9:$EQ$108,54,0))","v":""}]
[null,"◐","Max. Marks",null,{"$f":"'Result Entry'!$BS$7","v":10},{"$f":"'Result Entry'!$BT$7","v":10},{"$f":"'Result Entry'!$BU$7","v":10},{"$f":"'Result Entry'!$BZ$7","v":70},{"$f":"SUM(E1346:H1346)","v":100},{"$f":"'Result Entry'!$CD$7","v":100},200,null,"A+/A/B/C/D"]
[null,"◐",{"$f":"'Result Entry'!$BS$3","v":"Sanskrit/Urdu"},null,{"$f":"IF(OR(C1347=\"\",$I1332=\"NSO\"),\"\",VLOOKUP($A1327,'Result Entry'!$B$9:$EQ$108,70,0))","v":0},{"$f":"IF(OR(C1347=\"\",$I1332=\"NSO\"),\"\",VLOOKUP($A1327,'Result Entry'!$B$9:$EQ$108,71,0))","v":0},{"$f":"IF(OR(C1347=\"\",$I1332=\"NSO\"),\"\",VLOOKUP($A1327,'Result Entry'!$B$9:$EQ$108,72,0))","v":0},{"$f":"IF(OR(C1347=\"\",$I1332=\"NSO\"),\"\",VLOOKUP($A1327,'Result Entry'!$B$9:$EQ$108,77,0))","v":0},{"$f":"SUM(E1347:H1347)","v":0},{"$f":"IF(OR(C1347=\"\",$I1332=\"NSO\"),\"\",VLOOKUP($A1327,'Result Entry'!$B$9:$EQ$108,81,0))","v":0},0,null,{"$f":"IF(OR(C1347=\"\",$I1332=\"NSO\"),\"\",VLOOKUP($A1327,'Result Entry'!$B$9:$EQ$108,84,0))","v":""}]
[null,"◐"]
[null,"◐","Overall Result",null,null,"Total Max. Marks",null,"Total Obtained Marks",null,"Percentage","Overall Grade","Result","Position in Class"]
[null,"◐",{"$nulls":3},{"$f":"IF(OR($I1332=\"\",$I1332=\"NSO\"),\"\",VLOOKUP($A1327,'Result Entry'!$B$9:$EQ$108,120,0))","v":900},null,{"$f":"IF(OR($I1332=\"\",$I1332=\"NSO\"),\"\",VLOOKUP($A1327,'Result Entry'!$B$9:$EQ$108,121,0))","v":0},null,{"$f":"IF(OR($I1332=\"\",$I1332=\"NSO\"),\"\",VLOOKUP($A1327,'Result Entry'!$B$9:$EQ$108,122,0))","v":{"v":0,"d":"0.00"}},{"$f":"IF(OR($I1332=\"\",$I1332=\"NSO\"),\"\",VLOOKUP($A1327,'Result Entry'!$B$9:$EQ$108,123,0))","v":""},{"$f":"IF(OR($I1332=\"\",$I1332=\"NSO\"),\"\",VLOOKUP($A1327,'Result Entry'!$B$9:$EQ$108,124,0))","v":""},{"$f":"IF(OR($I1332=\"\",$I1332=\"NSO\"),\"\",VLOOKUP($A1327,'Result Entry'!$B$9:$EQ$108,126,0))","v":""}]
[null,"◐",{"$nulls":6},"Total Meetings :-",null,{"$f":"IF(OR($I1332=\"\",$I1332=\"NSO\"),\"\",VLOOKUP($A1327,'Result Entry'!$B$9:$EQ$108,117,0))","v":0},"Attedance %"]
[null,"◐","Extra Subjects",{"$nulls":5},"Student's Meetings :-",null,{"$f":"IF(OR($I1332=\"\",$I1332=\"NSO\"),\"\",VLOOKUP($A1327,'Result Entry'!$B$9:$EQ$108,118,0))","v":0},{"$f":"IF(OR($I1332=\"\",$I1332=\"NSO\"),\"\",VLOOKUP($A1327,'Result Entry'!$B$9:$EQ$108,119,0))","v":""}]
[null,"◐","Subject",null,null,"Total Marks",null,"GRADE","Remark :-",null,{"$f":"IF(OR($I1332=\"\",$I1332=\"NSO\"),\"\",VLOOKUP($A1327,'Result Entry'!$B$9:$EQ$108,127,0))","v":0}]
[null,"◐",{"$f":"'Result Entry'!$CH$3","v":"WORK EXP."},null,null,{"$f":"IF(OR(C1354=\"\",$I1332=\"NSO\"),\"\",VLOOKUP($A1327,'Result Entry'!$B$9:$EQ$108,138,0))","v":"0/100"},null,{"$f":"IF(OR(C1354=\"\",$I1332=\"NSO\"),\"\",VLOOKUP($A1327,'Result Entry'!$B$9:$EQ$108,92,0))","v":""},"Result Date :-",null,{"$f":"'Result Entry'!$U$2","v":"2024-05-07"}]
[null,"◐",{"$f":"'Result Entry'!$CP$3","v":"ART EDU."},null,null,{"$f":"IF(OR(C1355=\"\",$I1332=\"NSO\"),\"\",VLOOKUP($A1327,'Result Entry'!$B$9:$EQ$108,142,0))","v":"0/100"},null,{"$f":"IF(OR(C1355=\"\",$I1332=\"NSO\"),\"\",VLOOKUP($A1327,'Result Entry'!$B$9:$EQ$108,100,0))","v":""}]
[null,null,{"$f":"'Result Entry'!$CX$3","v":"H&P. EDU."},null,null,{"$f":"IF(OR(C1356=\"\",$I1332=\"NSO\"),\"\",VLOOKUP($A1327,'Result Entry'!$B$9:$EQ$108,146,0))","v":"0/0"},null,{"$f":"IF(OR(C1356=\"\",$I1332=\"NSO\"),\"\",VLOOKUP($A1327,'Result Entry'!$B$9:$EQ$108,108,0))","v":""}]
[null,"◐",{"$f":"'Result Entry'!$DF$3","v":0},null,null,{"$f":"IF(OR(C1357=\"\",$I1332=\"NSO\"),\"\",VLOOKUP($A1327,'Result Entry'!$B$9:$EQ$108,131,0))","v":0},null,{"$f":"IF(OR(C1357=\"\",$I1332=\"NSO\"),\"\",VLOOKUP($A1327,'Result Entry'!$B$9:$EQ$108,97,0))","v":0},"Signature Of The Class Teacher"]
[null,"◐","Grading System"]
[null,"◐","Grd.","% Range",null,"Description"]
[null,"◐","A","86-100",null,"Excellent",null,null,"Signature And Seal Of Principal/H.M."]
[null,"◐","B","71-85",null,"Very Good"]
[null,"◐","C","51-70",null,"Good"]
[null,"◐","D","31-50",null,"Average"]
[null,"◐","E","0-30",null,"Needs Improvement",null,null,"Wish bright future"]
[]
[{"$f":"A1327+1","v":36},"Department Of Education, Rajasthan"]
[null,{"$f":"IF(I1371>0,CONCATENATE(C1371,I1371),0)","v":0},null,{"$f":"Master!$E$8","v":"Govt.Sr.Sec.Sch."}]
[{"$nulls":3},{"$f":"Master!$E$11","v":"P.S.-Bapini (Jodhpur)"}]
[null,null,"Report Card",{"$nulls":6},"U-DISE Code:-",null,{"$f":"Master!$E$14","v":{"v":810000000,"d":"0810000000"}}]
[{"$nulls":9},"Session:-",null,{"$f":"Master!$E$6","v":"2023-24"}]
[null,null,"Roll No.:-",{"$nulls":5},{"$f":"VLOOKUP($A1366,'Result Entry'!$B$9:$F$108,5,0)","v":0}]
[null,"◐","Scholar Number",{"$nulls":3},"↠",{"$f":"VLOOKUP($A1366,'Result Entry'!$B$9:$EQ$108,3,0)","v":0}]
[null,"◐","Student's Name",{"$nulls":3},"↠",{"$f":"VLOOKUP($A1366,'Result Entry'!$B$9:$EQ$108,6,0)","v":0}]
[null,"◐","Father's Name",{"$nulls":3},"↠",{"$f":"VLOOKUP($A1366,'Result Entry'!$B$9:$EQ$108,7,0)","v":0}]
[null,"◐","Mother's Name ",{"$nulls":3},"↠",{"$f":"VLOOKUP($A1366,'Result Entry'!$B$9:$EQ$108,8,0)","v":0}]
[null,"◐","Class & Section",{"$nulls":3},"↠",{"$f":"CONCATENATE('Result Entry'!$F$4,'Result Entry'!$I$4)","v":"2(A)"}]
[null,"◐","Date Of Birth",{"$nulls":3},"↠",{"$f":"VLOOKUP($A1366,'Result Entry'!$B$9:$EQ$108,9,0)","v":"00:00:00"}]
[null,"◐","Subject",null,{"$f":"'Result Entry'!$K$6","v":"First Test"},{"$f":"'Result Entry'!$L$6","v":"Second Test"},{"$f":"'Result Entry'!$M$6","v":"Third Test"},"Half Yearly","Total (Test+H.Y.)","Yearly","Grand Total",null,"Subject Grade"]
[null,"◐","Max. Marks",null,{"$f":"'Result Entry'!$K$7","v":10},{"$f":"'Result Entry'!$L$7","v":10},{"$f":"'Result Entry'!$M$7","v":10},{"$f":"'Result Entry'!$R$7","v":70},{"$f":"SUM(E1379:H1379)","v":100},{"$f":"'Result Entry'!$V$7","v":100},{"$f":"I1379+J1379","v":200},null,"A+/A/B/C/D"]
[null,"◐",{"$f":"'Result Entry'!$K$3","v":"Hindi"},null,{"$f":"IF(OR(C1380=\"\",$I1371=\"NSO\"),\"\",VLOOKUP($A1366,'Result Entry'!$B$9:$EQ$108,10,0))","v":0},{"$f":"IF(OR(C1380=\"\",$I1371=\"NSO\"),\"\",VLOOKUP($A1366,'Result Entry'!$B$9:$EQ$108,11,0))","v":0},{"$f":"IF(OR(C1380=\"\",$I1371=\"NSO\"),\"\",VLOOKUP($A1366,'Result Entry'!$B$9:$EQ$108,12,0))","v":0},{"$f":"IF(OR(C1380=\"\",$I1371=\"NSO\"),\"\",VLOOKUP($A1366,'Result Entry'!$B$9:$EQ$108,17,0))","v":0},{"$f":"SUM(E1380:H1380)","v":0},{"$f":"IF(OR(C1380=\"\",$I1371=\"NSO\"),\"\",VLOOKUP($A1366,'Result Entry'!$B$9:$EQ$108,21,0))","v":0},{"$f":"SUM(I1380,J1380)","v":0},null,{"$f":"IF(OR(C1380=\"\",$I1371=\"NSO\"),\"\",VLOOKUP($A1366,'Result Entry'!$B$9:$EQ$108,24,0))","v":""}]
[null,"◐",{"$f":"'Result Entry'!$Z$3","v":"Mathematics"},null,{"$f":"IF(OR(C1381=\"\",$I1371=\"NSO\"),\"\",VLOOKUP($A1366,'Result Entry'!$B$9:$EQ$108,25,0))","v":0},{"$f":"IF(OR(C1381=\"\",$I1371=\"NSO\"),\"\",VLOOKUP($A1366,'Result Entry'!$B$9:$EQ$108,26,0))","v":0},{"$f":"IF(OR(C1381=\"\",$I1371=\"NSO\"),\"\",VLOOKUP($A1366,'Result Entry'!$B$9:$EQ$108,27,0))","v":0},{"$f":"IF(OR(C1381=\"\",$I1371=\"NSO\"),\"\",VLOOKUP($A1366,'Result Entry'!$B$9:$EQ$108,32,0))","v":0},0,{"$f":"IF(OR(C1381=\"\",$I1371=\"NSO\"),\"\",VLOOKUP($A1366,'Result Entry'!$B$9:$EQ$108,36,0))","v":0},{"$f":"SUM(I1381,J1381)","v":0},null,{"$f":"IF(OR(C1381=\"\",$I1371=\"NSO\"),\"\",VLOOKUP($A1366,'Result Entry'!$B$9:$EQ$108,39,0))","v":""}]
[null,"◐",{"$f":"'Result Entry'!$BD$3","v":"Env. Study"},null,{"$f":"IF(OR(C1382=\"\",$I1371=\"NSO\"),\"\",VLOOKUP($A1366,'Result Entry'!$B$9:$EQ$108,55,0))","v":0},{"$f":"IF(OR(C1382=\"\",$I1371=\"NSO\"),\"\",VLOOKUP($A1366,'Result Entry'!$B$9:$EQ$108,56,0))","v":0},{"$f":"IF(OR(C1382=\"\",$I1371=\"NSO\"),\"\",VLOOKUP($A1366,'Result Entry'!$B$9:$EQ$108,57,0))","v":0},{"$f":"IF(OR(C1380=\"\",$I1371=\"NSO\"),\"\",VLOOKUP($A1366,'Result Entry'!$B$9:$EQ$108,62,0))","v":0},0,{"$f":"IF(OR(C1381=\"\",$I1371=\"NSO\"),\"\",VLOOKUP($A1366,'Result Entry'!$B$9:$EQ$108,66,0))","v":0},0,null,{"$f":"IF(OR(C1381=\"\",$I1371=\"NSO\"),\"\",VLOOKUP($A1366,'Result Entry'!$B$9:$EQ$108,69,0))","v":""}]
[null,"◐","Max. Marks",null,{"$f":"'Result Entry'!$AO$7","v":5},{"$f":"'Result Entry'!$AP$7","v":5},{"$f":"'Result Entry'!$AQ$7","v":5},{"$f":"'Result Entry'!$AV$7","v":35},50,{"$f":"'Result Entry'!$AZ$7","v":50},100,null,"A+/A/B/C/D"]
[null,"◐",{"$f":"'Result Entry'!$AO$3","v":"English"},null,{"$f":"IF(OR(C1384=\"\",$I1371=\"NSO\"),\"\",VLOOKUP($A1366,'Result Entry'!$B$9:$EQ$108,40,0))","v":0},{"$f":"IF(OR(C1384=\"\",$I1371=\"NSO\"),\"\",VLOOKUP($A1366,'Result Entry'!$B$9:$EQ$108,41,0))","v":0},{"$f":"IF(OR(C1384=\"\",$I1371=\"NSO\"),\"\",VLOOKUP($A1366,'Result Entry'!$B$9:$EQ$108,42,0))","v":0},{"$f":"IF(OR(C1384=\"\",$I1371=\"NSO\"),\"\",VLOOKUP($A1366,'Result Entry'!$B$9:$EQ$108,47,0))","v":0},0,{"$f":"IF(OR(C1384=\"\",$I1371=\"NSO\"),\"\",VLOOKUP($A1366,'Result Entry'!$B$9:$EQ$108,51,0))","v":0},0,null,{"$f":"IF(OR(C1384=\"\",$I1371=\"NSO\"),\"\",VLOOKUP($A1366,'Result Entry'!$B$9:$EQ$108,54,0))","v":""}]
[null,"◐","Max. Marks",null,{"$f":"'Result Entry'!$BS$7","v":10},{"$f":"'Result Entry'!$BT$7","v":10},{"$f":"'Result Entry'!$BU$7","v":10},{"$f":"'Result Entry'!$BZ$7","v":70},{"$f":"SUM(E1385:H1385)","v":100},{"$f":"'Result Entry'!$CD$7","v":100},200,null,"A+/A/B/C/D"]
[null,"◐",{"$f":"'Result Entry'!$BS$3","v":"Sanskrit/Urdu"},null,{"$f":"IF(OR(C1386=\"\",$I1371=\"NSO\"),\"\",VLOOKUP($A1366,'Result Entry'!$B$9:$EQ$108,70,0))","v":0},{"$f":"IF(OR(C1386=\"\",$I1371=\"NSO\"),\"\",VLOOKUP($A1366,'Result Entry'!$B$9:$EQ$108,71,0))","v":0},{"$f":"IF(OR(C1386=\"\",$I1371=\"NSO\"),\"\",VLOOKUP($A1366,'Result Entry'!$B$9:$EQ$108,72,0))","v":0},{"$f":"IF(OR(C1386=\"\",$I1371=\"NSO\"),\"\",VLOOKUP($A1366,'Result Entry'!$B$9:$EQ$108,77,0))","v":0},{"$f":"SUM(E1386:H1386)","v":0},{"$f":"IF(OR(C1386=\"\",$I1371=\"NSO\"),\"\",VLOOKUP($A1366,'Result Entry'!$B$9:$EQ$108,81,0))","v":0},0,null,{"$f":"IF(OR(C1386=\"\",$I1371=\"NSO\"),\"\",VLOOKUP($A1366,'Result Entry'!$B$9:$EQ$108,84,0))","v":""}]
[null,"◐"]
[null,"◐","Overall Result",null,null,"Total Max. Marks",null,"Total Obtained Marks",null,"Percentage","Overall Grade","Result","Position in Class"]
[null,"◐",{"$nulls":3},{"$f":"IF(OR($I1371=\"\",$I1371=\"NSO\"),\"\",VLOOKUP($A1366,'Result Entry'!$B$9:$EQ$108,120,0))","v":900},null,{"$f":"IF(OR($I1371=\"\",$I1371=\"NSO\"),\"\",VLOOKUP($A1366,'Result Entry'!$B$9:$EQ$108,121,0))","v":0},null,{"$f":"IF(OR($I1371=\"\",$I1371=\"NSO\"),\"\",VLOOKUP($A1366,'Result Entry'!$B$9:$EQ$108,122,0))","v":{"v":0,"d":"0.00"}},{"$f":"IF(OR($I1371=\"\",$I1371=\"NSO\"),\"\",VLOOKUP($A1366,'Result Entry'!$B$9:$EQ$108,123,0))","v":""},{"$f":"IF(OR($I1371=\"\",$I1371=\"NSO\"),\"\",VLOOKUP($A1366,'Result Entry'!$B$9:$EQ$108,124,0))","v":""},{"$f":"IF(OR($I1371=\"\",$I1371=\"NSO\"),\"\",VLOOKUP($A1366,'Result Entry'!$B$9:$EQ$108,126,0))","v":""}]
[null,"◐",{"$nulls":6},"Total Meetings :-",null,{"$f":"IF(OR($I1371=\"\",$I1371=\"NSO\"),\"\",VLOOKUP($A1366,'Result Entry'!$B$9:$EQ$108,117,0))","v":0},"Attedance %"]
[null,"◐","Extra Subjects",{"$nulls":5},"Student's Meetings :-",null,{"$f":"IF(OR($I1371=\"\",$I1371=\"NSO\"),\"\",VLOOKUP($A1366,'Result Entry'!$B$9:$EQ$108,118,0))","v":0},{"$f":"IF(OR($I1371=\"\",$I1371=\"NSO\"),\"\",VLOOKUP($A1366,'Result Entry'!$B$9:$EQ$108,119,0))","v":""}]
[null,"◐","Subject",null,null,"Total Marks",null,"GRADE","Remark :-",null,{"$f":"IF(OR($I1371=\"\",$I1371=\"NSO\"),\"\",VLOOKUP($A1366,'Result Entry'!$B$9:$EQ$108,127,0))","v":0}]
[null,"◐",{"$f":"'Result Entry'!$CH$3","v":"WORK EXP."},null,null,{"$f":"IF(OR(C1393=\"\",$I1371=\"NSO\"),\"\",VLOOKUP($A1366,'Result Entry'!$B$9:$EQ$108,138,0))","v":"0/100"},null,{"$f":"IF(OR(C1393=\"\",$I1371=\"NSO\"),\"\",VLOOKUP($A1366,'Result Entry'!$B$9:$EQ$108,92,0))","v":""},"Result Date :-",null,{"$f":"'Result Entry'!$U$2","v":"2024-05-07"}]
[null,"◐",{"$f":"'Result Entry'!$CP$3","v":"ART EDU."},null,null,{"$f":"IF(OR(C1394=\"\",$I1371=\"NSO\"),\"\",VLOOKUP($A1366,'Result Entry'!$B$9:$EQ$108,142,0))","v":"0/100"},null,{"$f":"IF(OR(C1394=\"\",$I1371=\"NSO\"),\"\",VLOOKUP($A1366,'Result Entry'!$B$9:$EQ$108,100,0))","v":""}]
[null,null,{"$f":"'Result Entry'!$CX$3","v":"H&P. EDU."},null,null,{"$f":"IF(OR(C1395=\"\",$I1371=\"NSO\"),\"\",VLOOKUP($A1366,'Result Entry'!$B$9:$EQ$108,146,0))","v":"0/0"},null,{"$f":"IF(OR(C1395=\"\",$I1371=\"NSO\"),\"\",VLOOKUP($A1366,'Result Entry'!$B$9:$EQ$108,108,0))","v":""}]
[null,"◐",{"$f":"'Result Entry'!$DF$3","v":0},null,null,{"$f":"IF(OR(C1396=\"\",$I1371=\"NSO\"),\"\",VLOOKUP($A1366,'Result Entry'!$B$9:$EQ$108,131,0))","v":0},null,{"$f":"IF(OR(C1396=\"\",$I1371=\"NSO\"),\"\",VLOOKUP($A1366,'Result Entry'!$B$9:$EQ$108,97,0))","v":0},"Signature Of The Class Teacher"]
[null,"◐","Grading System"]
[null,"◐","Grd.","% Range",null,"Description"]
[null,"◐","A","86-100",null,"Excellent",null,null,"Signature And Seal Of Principal/H.M."]
[null,"◐","B","71-85",null,"Very Good"]
[null,"◐","C","51-70",null,"Good"]
[null,"◐","D","31-50",null,"Average"]
[null,"◐","E","0-30",null,"Needs Improvement",null,null,"Wish bright future"]
[]
[{"$f":"A1366+1","v":37},"Department Of Education, Rajasthan"]
[null,{"$f":"IF(I1410>0,CONCATENATE(C1410,I1410),0)","v":0},null,{"$f":"Master!$E$8","v":"Govt.Sr.Sec.Sch."}]
[{"$nulls":3},{"$f":"Master!$E$11","v":"P.S.-Bapini (Jodhpur)"}]
[null,null,"Report Card",{"$nulls":6},"U-DISE Code:-",null,{"$f":"Master!$E$14","v":{"v":810000000,"d":"0810000000"}}]
[{"$nulls":9},"Session:-",null,{"$f":"Master!$E$6","v":"2023-24"}]
[null,null,"Roll No.:-",{"$nulls":5},{"$f":"VLOOKUP($A1405,'Result Entry'!$B$9:$F$108,5,0)","v":0}]
[null,"◐","Scholar Number",{"$nulls":3},"↠",{"$f":"VLOOKUP($A1405,'Result Entry'!$B$9:$EQ$108,3,0)","v":0}]
[null,"◐","Student's Name",{"$nulls":3},"↠",{"$f":"VLOOKUP($A1405,'Result Entry'!$B$9:$EQ$108,6,0)","v":0}]
[null,"◐","Father's Name",{"$nulls":3},"↠",{"$f":"VLOOKUP($A1405,'Result Entry'!$B$9:$EQ$108,7,0)","v":0}]
[null,"◐","Mother's Name ",{"$nulls":3},"↠",{"$f":"VLOOKUP($A1405,'Result Entry'!$B$9:$EQ$108,8,0)","v":0}]
[null,"◐","Class & Section",{"$nulls":3},"↠",{"$f":"CONCATENATE('Result Entry'!$F$4,'Result Entry'!$I$4)","v":"2(A)"}]
[null,"◐","Date Of Birth",{"$nulls":3},"↠",{"$f":"VLOOKUP($A1405,'Result Entry'!$B$9:$EQ$108,9,0)","v":"00:00:00"}]
[null,"◐","Subject",null,{"$f":"'Result Entry'!$K$6","v":"First Test"},{"$f":"'Result Entry'!$L$6","v":"Second Test"},{"$f":"'Result Entry'!$M$6","v":"Third Test"},"Half Yearly","Total (Test+H.Y.)","Yearly","Grand Total",null,"Subject Grade"]
[null,"◐","Max. Marks",null,{"$f":"'Result Entry'!$K$7","v":10},{"$f":"'Result Entry'!$L$7","v":10},{"$f":"'Result Entry'!$M$7","v":10},{"$f":"'Result Entry'!$R$7","v":70},{"$f":"SUM(E1418:H1418)","v":100},{"$f":"'Result Entry'!$V$7","v":100},{"$f":"I1418+J1418","v":200},null,"A+/A/B/C/D"]
[null,"◐",{"$f":"'Result Entry'!$K$3","v":"Hindi"},null,{"$f":"IF(OR(C1419=\"\",$I1410=\"NSO\"),\"\",VLOOKUP($A1405,'Result Entry'!$B$9:$EQ$108,10,0))","v":0},{"$f":"IF(OR(C1419=\"\",$I1410=\"NSO\"),\"\",VLOOKUP($A1405,'Result Entry'!$B$9:$EQ$108,11,0))","v":0},{"$f":"IF(OR(C1419=\"\",$I1410=\"NSO\"),\"\",VLOOKUP($A1405,'Result Entry'!$B$9:$EQ$108,12,0))","v":0},{"$f":"IF(OR(C1419=\"\",$I1410=\"NSO\"),\"\",VLOOKUP($A1405,'Result Entry'!$B$9:$EQ$108,17,0))","v":0},{"$f":"SUM(E1419:H1419)","v":0},{"$f":"IF(OR(C1419=\"\",$I1410=\"NSO\"),\"\",VLOOKUP($A1405,'Result Entry'!$B$9:$EQ$108,21,0))","v":0},{"$f":"SUM(I1419,J1419)","v":0},null,{"$f":"IF(OR(C1419=\"\",$I1410=\"NSO\"),\"\",VLOOKUP($A1405,'Result Entry'!$B$9:$EQ$108,24,0))","v":""}]
[null,"◐",{"$f":"'Result Entry'!$Z$3","v":"Mathematics"},null,{"$f":"IF(OR(C1420=\"\",$I1410=\"NSO\"),\"\",VLOOKUP($A1405,'Result Entry'!$B$9:$EQ$108,25,0))","v":0},{"$f":"IF(OR(C1420=\"\",$I1410=\"NSO\"),\"\",VLOOKUP($A1405,'Result Entry'!$B$9:$EQ$108,26,0))","v":0},{"$f":"IF(OR(C1420=\"\",$I1410=\"NSO\"),\"\",VLOOKUP($A1405,'Result Entry'!$B$9:$EQ$108,27,0))","v":0},{"$f":"IF(OR(C1420=\"\",$I1410=\"NSO\"),\"\",VLOOKUP($A1405,'Result Entry'!$B$9:$EQ$108,32,0))","v":0},0,{"$f":"IF(OR(C1420=\"\",$I1410=\"NSO\"),\"\",VLOOKUP($A1405,'Result Entry'!$B$9:$EQ$108,36,0))","v":0},{"$f":"SUM(I1420,J1420)","v":0},null,{"$f":"IF(OR(C1420=\"\",$I1410=\"NSO\"),\"\",VLOOKUP($A1405,'Result Entry'!$B$9:$EQ$108,39,0))","v":""}]
[null,"◐",{"$f":"'Result Entry'!$BD$3","v":"Env. Study"},null,{"$f":"IF(OR(C1421=\"\",$I1410=\"NSO\"),\"\",VLOOKUP($A1405,'Result Entry'!$B$9:$EQ$108,55,0))","v":0},{"$f":"IF(OR(C1421=\"\",$I1410=\"NSO\"),\"\",VLOOKUP($A1405,'Result Entry'!$B$9:$EQ$108,56,0))","v":0},{"$f":"IF(OR(C1421=\"\",$I1410=\"NSO\"),\"\",VLOOKUP($A1405,'Result Entry'!$B$9:$EQ$108,57,0))","v":0},{"$f":"IF(OR(C1419=\"\",$I1410=\"NSO\"),\"\",VLOOKUP($A1405,'Result Entry'!$B$9:$EQ$108,62,0))","v":0},0,{"$f":"IF(OR(C1420=\"\",$I1410=\"NSO\"),\"\",VLOOKUP($A1405,'Result Entry'!$B$9:$EQ$108,66,0))","v":0},0,null,{"$f":"IF(OR(C1420=\"\",$I1410=\"NSO\"),\"\",VLOOKUP($A1405,'Result Entry'!$B$9:$EQ$108,69,0))","v":""}]
[null,"◐","Max. Marks",null,{"$f":"'Result Entry'!$AO$7","v":5},{"$f":"'Result Entry'!$AP$7","v":5},{"$f":"'Result Entry'!$AQ$7","v":5},{"$f":"'Result Entry'!$AV$7","v":35},50,{"$f":"'Result Entry'!$AZ$7","v":50},100,null,"A+/A/B/C/D"]
[null,"◐",{"$f":"'Result Entry'!$AO$3","v":"English"},null,{"$f":"IF(OR(C1423=\"\",$I1410=\"NSO\"),\"\",VLOOKUP($A1405,'Result Entry'!$B$9:$EQ$108,40,0))","v":0},{"$f":"IF(OR(C1423=\"\",$I1410=\"NSO\"),\"\",VLOOKUP($A1405,'Result Entry'!$B$9:$EQ$108,41,0))","v":0},{"$f":"IF(OR(C1423=\"\",$I1410=\"NSO\"),\"\",VLOOKUP($A1405,'Result Entry'!$B$9:$EQ$108,42,0))","v":0},{"$f":"IF(OR(C1423=\"\",$I1410=\"NSO\"),\"\",VLOOKUP($A1405,'Result Entry'!$B$9:$EQ$108,47,0))","v":0},0,{"$f":"IF(OR(C1423=\"\",$I1410=\"NSO\"),\"\",VLOOKUP($A1405,'Result Entry'!$B$9:$EQ$108,51,0))","v":0},0,null,{"$f":"IF(OR(C1423=\"\",$I1410=\"NSO\"),\"\",VLOOKUP($A1405,'Result Entry'!$B$9:$EQ$108,54,0))","v":""}]
[null,"◐","Max. Marks",null,{"$f":"'Result Entry'!$BS$7","v":10},{"$f":"'Result Entry'!$BT$7","v":10},{"$f":"'Result Entry'!$BU$7","v":10},{"$f":"'Result Entry'!$BZ$7","v":70},{"$f":"SUM(E1424:H1424)","v":100},{"$f":"'Result Entry'!$CD$7","v":100},200,null,"A+/A/B/C/D"]
[null,"◐",{"$f":"'Result Entry'!$BS$3","v":"Sanskrit/Urdu"},null,{"$f":"IF(OR(C1425=\"\",$I1410=\"NSO\"),\"\",VLOOKUP($A1405,'Result Entry'!$B$9:$EQ$108,70,0))","v":0},{"$f":"IF(OR(C1425=\"\",$I1410=\"NSO\"),\"\",VLOOKUP($A1405,'Result Entry'!$B$9:$EQ$108,71,0))","v":0},{"$f":"IF(OR(C1425=\"\",$I1410=\"NSO\"),\"\",VLOOKUP($A1405,'Result Entry'!$B$9:$EQ$108,72,0))","v":0},{"$f":"IF(OR(C1425=\"\",$I1410=\"NSO\"),\"\",VLOOKUP($A1405,'Result Entry'!$B$9:$EQ$108,77,0))","v":0},{"$f":"SUM(E1425:H1425)","v":0},{"$f":"IF(OR(C1425=\"\",$I1410=\"NSO\"),\"\",VLOOKUP($A1405,'Result Entry'!$B$9:$EQ$108,81,0))","v":0},0,null,{"$f":"IF(OR(C1425=\"\",$I1410=\"NSO\"),\"\",VLOOKUP($A1405,'Result Entry'!$B$9:$EQ$108,84,0))","v":""}]
[null,"◐"]
[null,"◐","Overall Result",null,null,"Total Max. Marks",null,"Total Obtained Marks",null,"Percentage","Overall Grade","Result","Position in Class"]
[null,"◐",{"$nulls":3},{"$f":"IF(OR($I1410=\"\",$I1410=\"NSO\"),\"\",VLOOKUP($A1405,'Result Entry'!$B$9:$EQ$108,120,0))","v":900},null,{"$f":"IF(OR($I1410=\"\",$I1410=\"NSO\"),\"\",VLOOKUP($A1405,'Result Entry'!$B$9:$EQ$108,121,0))","v":0},null,{"$f":"IF(OR($I1410=\"\",$I1410=\"NSO\"),\"\",VLOOKUP($A1405,'Result Entry'!$B$9:$EQ$108,122,0))","v":{"v":0,"d":"0.00"}},{"$f":"IF(OR($I1410=\"\",$I1410=\"NSO\"),\"\",VLOOKUP($A1405,'Result Entry'!$B$9:$EQ$108,123,0))","v":""},{"$f":"IF(OR($I1410=\"\",$I1410=\"NSO\"),\"\",VLOOKUP($A1405,'Result Entry'!$B$9:$EQ$108,124,0))","v":""},{"$f":"IF(OR($I1410=\"\",$I1410=\"NSO\"),\"\",VLOOKUP($A1405,'Result Entry'!$B$9:$EQ$108,126,0))","v":""}]
[null,"◐",{"$nulls":6},"Total Meetings :-",null,{"$f":"IF(OR($I1410=\"\",$I1410=\"NSO\"),\"\",VLOOKUP($A1405,'Result Entry'!$B$9:$EQ$108,117,0))","v":0},"Attedance %"]
[null,"◐","Extra Subjects",{"$nulls":5},"Student's Meetings :-",null,{"$f":"IF(OR($I1410=\"\",$I1410=\"NSO\"),\"\",VLOOKUP($A1405,'Result Entry'!$B$9:$EQ$108,118,0))","v":0},{"$f":"IF(OR($I1410=\"\",$I1410=\"NSO\"),\"\",VLOOKUP($A1405,'Result Entry'!$B$9:$EQ$108,119,0))","v":""}]
[null,"◐","Subject",null,null,"Total Marks",null,"GRADE","Remark :-",null,{"$f":"IF(OR($I1410=\"\",$I1410=\"NSO\"),\"\",VLOOKUP($A1405,'Result Entry'!$B$9:$EQ$108,127,0))","v":0}]
[null,"◐",{"$f":"'Result Entry'!$CH$3","v":"WORK EXP."},null,null,{"$f":"IF(OR(C1432=\"\",$I1410=\"NSO\"),\"\",VLOOKUP($A1405,'Result Entry'!$B$9:$EQ$108,138,0))","v":"0/100"},null,{"$f":"IF(OR(C1432=\"\",$I1410=\"NSO\"),\"\",VLOOKUP($A1405,'Result Entry'!$B$9:$EQ$108,92,0))","v":""},"Result Date :-",null,{"$f":"'Result Entry'!$U$2","v":"2024-05-07"}]
[null,"◐",{"$f":"'Result Entry'!$CP$3","v":"ART EDU."},null,null,{"$f":"IF(OR(C1433=\"\",$I1410=\"NSO\"),\"\",VLOOKUP($A1405,'Result Entry'!$B$9:$EQ$108,142,0))","v":"0/100"},null,{"$f":"IF(OR(C1433=\"\",$I1410=\"NSO\"),\"\",VLOOKUP($A1405,'Result Entry'!$B$9:$EQ$108,100,0))","v":""}]
[null,null,{"$f":"'Result Entry'!$CX$3","v":"H&P. EDU."},null,null,{"$f":"IF(OR(C1434=\"\",$I1410=\"NSO\"),\"\",VLOOKUP($A1405,'Result Entry'!$B$9:$EQ$108,146,0))","v":"0/0"},null,{"$f":"IF(OR(C1434=\"\",$I1410=\"NSO\"),\"\",VLOOKUP($A1405,'Result Entry'!$B$9:$EQ$108,108,0))","v":""}]
[null,"◐",{"$f":"'Result Entry'!$DF$3","v":0},null,null,{"$f":"IF(OR(C1435=\"\",$I1410=\"NSO\"),\"\",VLOOKUP($A1405,'Result Entry'!$B$9:$EQ$108,131,0))","v":0},null,{"$f":"IF(OR(C1435=\"\",$I1410=\"NSO\"),\"\",VLOOKUP($A1405,'Result Entry'!$B$9:$EQ$108,97,0))","v":0},"Signature Of The Class Teacher"]
[null,"◐","Grading System"]
[null,"◐","Grd.","% Range",null,"Description"]
[null,"◐","A","86-100",null,"Excellent",null,null,"Signature And Seal Of Principal/H.M."]
[null,"◐","B","71-85",null,"Very Good"]
[null,"◐","C","51-70",null,"Good"]
[null,"◐","D","31-50",null,"Average"]
[null,"◐","E","0-30",null,"Needs Improvement",null,null,"Wish bright future"]
[]
[{"$f":"A1405+1","v":38},"Department Of Education, Rajasthan"]
[null,{"$f":"IF(I1449>0,CONCATENATE(C1449,I1449),0)","v":0},null,{"$f":"Master!$E$8","v":"Govt.Sr.Sec.Sch."}]
[{"$nulls":3},{"$f":"Master!$E$11","v":"P.S.-Bapini (Jodhpur)"}]
[null,null,"Report Card",{"$nulls":6},"U-DISE Code:-",null,{"$f":"Master!$E$14","v":{"v":810000000,"d":"0810000000"}}]
[{"$nulls":9},"Session:-",null,{"$f":"Master!$E$6","v":"2023-24"}]
[null,null,"Roll No.:-",{"$nulls":5},{"$f":"VLOOKUP($A1444,'Result Entry'!$B$9:$F$108,5,0)","v":0}]
[null,"◐","Scholar Number",{"$nulls":3},"↠",{"$f":"VLOOKUP($A1444,'Result Entry'!$B$9:$EQ$108,3,0)","v":0}]
[null,"◐","Student's Name",{"$nulls":3},"↠",{"$f":"VLOOKUP($A1444,'Result Entry'!$B$9:$EQ$108,6,0)","v":0}]
[null,"◐","Father's Name",{"$nulls":3},"↠",{"$f":"VLOOKUP($A1444,'Result Entry'!$B$9:$EQ$108,7,0)","v":0}]
[null,"◐","Mother's Name ",{"$nulls":3},"↠",{"$f":"VLOOKUP($A1444,'Result Entry'!$B$9:$EQ$108,8,0)","v":0}]
[null,"◐","Class & Section",{"$nulls":3},"↠",{"$f":"CONCATENATE('Result Entry'!$F$4,'Result Entry'!$I$4)","v":"2(A)"}]
[null,"◐","Date Of Birth",{"$nulls":3},"↠",{"$f":"VLOOKUP($A1444,'Result Entry'!$B$9:$EQ$108,9,0)","v":"00:00:00"}]
[null,"◐","Subject",null,{"$f":"'Result Entry'!$K$6","v":"First Test"},{"$f":"'Result Entry'!$L$6","v":"Second Test"},{"$f":"'Result Entry'!$M$6","v":"Third Test"},"Half Yearly","Total (Test+H.Y.)","Yearly","Grand Total",null,"Subject Grade"]
[null,"◐","Max. Marks",null,{"$f":"'Result Entry'!$K$7","v":10},{"$f":"'Result Entry'!$L$7","v":10},{"$f":"'Result Entry'!$M$7","v":10},{"$f":"'Result Entry'!$R$7","v":70},{"$f":"SUM(E1457:H1457)","v":100},{"$f":"'Result Entry'!$V$7","v":100},{"$f":"I1457+J1457","v":200},null,"A+/A/B/C/D"]
[null,"◐",{"$f":"'Result Entry'!$K$3","v":"Hindi"},null,{"$f":"IF(OR(C1458=\"\",$I1449=\"NSO\"),\"\",VLOOKUP($A1444,'Result Entry'!$B$9:$EQ$108,10,0))","v":0},{"$f":"IF(OR(C1458=\"\",$I1449=\"NSO\"),\"\",VLOOKUP($A1444,'Result Entry'!$B$9:$EQ$108,11,0))","v":0},{"$f":"IF(OR(C1458=\"\",$I1449=\"NSO\"),\"\",VLOOKUP($A1444,'Result Entry'!$B$9:$EQ$108,12,0))","v":0},{"$f":"IF(OR(C1458=\"\",$I1449=\"NSO\"),\"\",VLOOKUP($A1444,'Result Entry'!$B$9:$EQ$108,17,0))","v":0},{"$f":"SUM(E1458:H1458)","v":0},{"$f":"IF(OR(C1458=\"\",$I1449=\"NSO\"),\"\",VLOOKUP($A1444,'Result Entry'!$B$9:$EQ$108,21,0))","v":0},{"$f":"SUM(I1458,J1458)","v":0},null,{"$f":"IF(OR(C1458=\"\",$I1449=\"NSO\"),\"\",VLOOKUP($A1444,'Result Entry'!$B$9:$EQ$108,24,0))","v":""}]
[null,"◐",{"$f":"'Result Entry'!$Z$3","v":"Mathematics"},null,{"$f":"IF(OR(C1459=\"\",$I1449=\"NSO\"),\"\",VLOOKUP($A1444,'Result Entry'!$B$9:$EQ$108,25,0))","v":0},{"$f":"IF(OR(C1459=\"\",$I1449=\"NSO\"),\"\",VLOOKUP($A1444,'Result Entry'!$B$9:$EQ$108,26,0))","v":0},{"$f":"IF(OR(C1459=\"\",$I1449=\"NSO\"),\"\",VLOOKUP($A1444,'Result Entry'!$B$9:$EQ$108,27,0))","v":0},{"$f":"IF(OR(C1459=\"\",$I1449=\"NSO\"),\"\",VLOOKUP($A1444,'Result Entry'!$B$9:$EQ$108,32,0))","v":0},0,{"$f":"IF(OR(C1459=\"\",$I1449=\"NSO\"),\"\",VLOOKUP($A1444,'Result Entry'!$B$9:$EQ$108,36,0))","v":0},{"$f":"SUM(I1459,J1459)","v":0},null,{"$f":"IF(OR(C1459=\"\",$I1449=\"NSO\"),\"\",VLOOKUP($A1444,'Result Entry'!$B$9:$EQ$108,39,0))","v":""}]
[null,"◐",{"$f":"'Result Entry'!$BD$3","v":"Env. Study"},null,{"$f":"IF(OR(C1460=\"\",$I1449=\"NSO\"),\"\",VLOOKUP($A1444,'Result Entry'!$B$9:$EQ$108,55,0))","v":0},{"$f":"IF(OR(C1460=\"\",$I1449=\"NSO\"),\"\",VLOOKUP($A1444,'Result Entry'!$B$9:$EQ$108,56,0))","v":0},{"$f":"IF(OR(C1460=\"\",$I1449=\"NSO\"),\"\",VLOOKUP($A1444,'Result Entry'!$B$9:$EQ$108,57,0))","v":0},{"$f":"IF(OR(C1458=\"\",$I1449=\"NSO\"),\"\",VLOOKUP($A1444,'Result Entry'!$B$9:$EQ$108,62,0))","v":0},0,{"$f":"IF(OR(C1459=\"\",$I1449=\"NSO\"),\"\",VLOOKUP($A1444,'Result Entry'!$B$9:$EQ$108,66,0))","v":0},0,null,{"$f":"IF(OR(C1459=\"\",$I1449=\"NSO\"),\"\",VLOOKUP($A1444,'Result Entry'!$B$9:$EQ$108,69,0))","v":""}]
[null,"◐","Max. Marks",null,{"$f":"'Result Entry'!$AO$7","v":5},{"$f":"'Result Entry'!$AP$7","v":5},{"$f":"'Result Entry'!$AQ$7","v":5},{"$f":"'Result Entry'!$AV$7","v":35},50,{"$f":"'Result Entry'!$AZ$7","v":50},100,null,"A+/A/B/C/D"]
[null,"◐",{"$f":"'Result Entry'!$AO$3","v":"English"},null,{"$f":"IF(OR(C1462=\"\",$I1449=\"NSO\"),\"\",VLOOKUP($A1444,'Result Entry'!$B$9:$EQ$108,40,0))","v":0},{"$f":"IF(OR(C1462=\"\",$I1449=\"NSO\"),\"\",VLOOKUP($A1444,'Result Entry'!$B$9:$EQ$108,41,0))","v":0},{"$f":"IF(OR(C1462=\"\",$I1449=\"NSO\"),\"\",VLOOKUP($A1444,'Result Entry'!$B$9:$EQ$108,42,0))","v":0},{"$f":"IF(OR(C1462=\"\",$I1449=\"NSO\"),\"\",VLOOKUP($A1444,'Result Entry'!$B$9:$EQ$108,47,0))","v":0},0,{"$f":"IF(OR(C1462=\"\",$I1449=\"NSO\"),\"\",VLOOKUP($A1444,'Result Entry'!$B$9:$EQ$108,51,0))","v":0},0,null,{"$f":"IF(OR(C1462=\"\",$I1449=\"NSO\"),\"\",VLOOKUP($A1444,'Result Entry'!$B$9:$EQ$108,54,0))","v":""}]
[null,"◐","Max. Marks",null,{"$f":"'Result Entry'!$BS$7","v":10},{"$f":"'Result Entry'!$BT$7","v":10},{"$f":"'Result Entry'!$BU$7","v":10},{"$f":"'Result Entry'!$BZ$7","v":70},{"$f":"SUM(E1463:H1463)","v":100},{"$f":"'Result Entry'!$CD$7","v":100},200,null,"A+/A/B/C/D"]
[null,"◐",{"$f":"'Result Entry'!$BS$3","v":"Sanskrit/Urdu"},null,{"$f":"IF(OR(C1464=\"\",$I1449=\"NSO\"),\"\",VLOOKUP($A1444,'Result Entry'!$B$9:$EQ$108,70,0))","v":0},{"$f":"IF(OR(C1464=\"\",$I1449=\"NSO\"),\"\",VLOOKUP($A1444,'Result Entry'!$B$9:$EQ$108,71,0))","v":0},{"$f":"IF(OR(C1464=\"\",$I1449=\"NSO\"),\"\",VLOOKUP($A1444,'Result Entry'!$B$9:$EQ$108,72,0))","v":0},{"$f":"IF(OR(C1464=\"\",$I1449=\"NSO\"),\"\",VLOOKUP($A1444,'Result Entry'!$B$9:$EQ$108,77,0))","v":0},{"$f":"SUM(E1464:H1464)","v":0},{"$f":"IF(OR(C1464=\"\",$I1449=\"NSO\"),\"\",VLOOKUP($A1444,'Result Entry'!$B$9:$EQ$108,81,0))","v":0},0,null,{"$f":"IF(OR(C1464=\"\",$I1449=\"NSO\"),\"\",VLOOKUP($A1444,'Result Entry'!$B$9:$EQ$108,84,0))","v":""}]
[null,"◐"]
[null,"◐","Overall Result",null,null,"Total Max. Marks",null,"Total Obtained Marks",null,"Percentage","Overall Grade","Result","Position in Class"]
[null,"◐",{"$nulls":3},{"$f":"IF(OR($I1449=\"\",$I1449=\"NSO\"),\"\",VLOOKUP($A1444,'Result Entry'!$B$9:$EQ$108,120,0))","v":900},null,{"$f":"IF(OR($I1449=\"\",$I1449=\"NSO\"),\"\",VLOOKUP($A1444,'Result Entry'!$B$9:$EQ$108,121,0))","v":0},null,{"$f":"IF(OR($I1449=\"\",$I1449=\"NSO\"),\"\",VLOOKUP($A1444,'Result Entry'!$B$9:$EQ$108,122,0))","v":{"v":0,"d":"0.00"}},{"$f":"IF(OR($I1449=\"\",$I1449=\"NSO\"),\"\",VLOOKUP($A1444,'Result Entry'!$B$9:$EQ$108,123,0))","v":""},{"$f":"IF(OR($I1449=\"\",$I1449=\"NSO\"),\"\",VLOOKUP($A1444,'Result Entry'!$B$9:$EQ$108,124,0))","v":""},{"$f":"IF(OR($I1449=\"\",$I1449=\"NSO\"),\"\",VLOOKUP($A1444,'Result Entry'!$B$9:$EQ$108,126,0))","v":""}]
[null,"◐",{"$nulls":6},"Total Meetings :-",null,{"$f":"IF(OR($I1449=\"\",$I1449=\"NSO\"),\"\",VLOOKUP($A1444,'Result Entry'!$B$9:$EQ$108,117,0))","v":0},"Attedance %"]
[null,"◐","Extra Subjects",{"$nulls":5},"Student's Meetings :-",null,{"$f":"IF(OR($I1449=\"\",$I1449=\"NSO\"),\"\",VLOOKUP($A1444,'Result Entry'!$B$9:$EQ$108,118,0))","v":0},{"$f":"IF(OR($I1449=\"\",$I1449=\"NSO\"),\"\",VLOOKUP($A1444,'Result Entry'!$B$9:$EQ$108,119,0))","v":""}]
[null,"◐","Subject",null,null,"Total Marks",null,"GRADE","Remark :-",null,{"$f":"IF(OR($I1449=\"\",$I1449=\"NSO\"),\"\",VLOOKUP($A1444,'Result Entry'!$B$9:$EQ$108,127,0))","v":0}]
[null,"◐",{"$f":"'Result Entry'!$CH$3","v":"WORK EXP."},null,null,{"$f":"IF(OR(C1471=\"\",$I1449=\"NSO\"),\"\",VLOOKUP($A1444,'Result Entry'!$B$9:$EQ$108,138,0))","v":"0/100"},null,{"$f":"IF(OR(C1471=\"\",$I1449=\"NSO\"),\"\",VLOOKUP($A1444,'Result Entry'!$B$9:$EQ$108,92,0))","v":""},"Result Date :-",null,{"$f":"'Result Entry'!$U$2","v":"2024-05-07"}]
[null,"◐",{"$f":"'Result Entry'!$CP$3","v":"ART EDU."},null,null,{"$f":"IF(OR(C1472=\"\",$I1449=\"NSO\"),\"\",VLOOKUP($A1444,'Result Entry'!$B$9:$EQ$108,142,0))","v":"0/100"},null,{"$f":"IF(OR(C1472=\"\",$I1449=\"NSO\"),\"\",VLOOKUP($A1444,'Result Entry'!$B$9:$EQ$108,100,0))","v":""}]
[null,null,{"$f":"'Result Entry'!$CX$3","v":"H&P. EDU."},null,null,{"$f":"IF(OR(C1473=\"\",$I1449=\"NSO\"),\"\",VLOOKUP($A1444,'Result Entry'!$B$9:$EQ$108,146,0))","v":"0/0"},null,{"$f":"IF(OR(C1473=\"\",$I1449=\"NSO\"),\"\",VLOOKUP($A1444,'Result Entry'!$B$9:$EQ$108,108,0))","v":""}]
[null,"◐",{"$f":"'Result Entry'!$DF$3","v":0},null,null,{"$f":"IF(OR(C1474=\"\",$I1449=\"NSO\"),\"\",VLOOKUP($A1444,'Result Entry'!$B$9:$EQ$108,131,0))","v":0},null,{"$f":"IF(OR(C1474=\"\",$I1449=\"NSO\"),\"\",VLOOKUP($A1444,'Result Entry'!$B$9:$EQ$108,97,0))","v":0},"Signature Of The Class Teacher"]
[null,"◐","Grading System"]
[null,"◐","Grd.","% Range",null,"Description"]
[null,"◐","A","86-100",null,"Excellent",null,null,"Signature And Seal Of Principal/H.M."]
[null,"◐","B","71-85",null,"Very Good"]
[null,"◐","C","51-70",null,"Good"]
[null,"◐","D","31-50",null,"Average"]
[null,"◐","E","0-30",null,"Needs Improvement",null,null,"Wish bright future"]
[]
[{"$f":"A1444+1","v":39},"Department Of Education, Rajasthan"]
[null,{"$f":"IF(I1488>0,CONCATENATE(C1488,I1488),0)","v":0},null,{"$f":"Master!$E$8","v":"Govt.Sr.Sec.Sch."}]
[{"$nulls":3},{"$f":"Master!$E$11","v":"P.S.-Bapini (Jodhpur)"}]
[null,null,"Report Card",{"$nulls":6},"U-DISE Code:-",null,{"$f":"Master!$E$14","v":{"v":810000000,"d":"0810000000"}}]
[{"$nulls":9},"Session:-",null,{"$f":"Master!$E$6","v":"2023-24"}]
[null,null,"Roll No.:-",{"$nulls":5},{"$f":"VLOOKUP($A1483,'Result Entry'!$B$9:$F$108,5,0)","v":0}]
[null,"◐","Scholar Number",{"$nulls":3},"↠",{"$f":"VLOOKUP($A1483,'Result Entry'!$B$9:$EQ$108,3,0)","v":0}]
[null,"◐","Student's Name",{"$nulls":3},"↠",{"$f":"VLOOKUP($A1483,'Result Entry'!$B$9:$EQ$108,6,0)","v":0}]
[null,"◐","Father's Name",{"$nulls":3},"↠",{"$f":"VLOOKUP($A1483,'Result Entry'!$B$9:$EQ$108,7,0)","v":0}]
[null,"◐","Mother's Name ",{"$nulls":3},"↠",{"$f":"VLOOKUP($A1483,'Result Entry'!$B$9:$EQ$108,8,0)","v":0}]
[null,"◐","Class & Section",{"$nulls":3},"↠",{"$f":"CONCATENATE('Result Entry'!$F$4,'Result Entry'!$I$4)","v":"2(A)"}]
[null,"◐","Date Of Birth",{"$nulls":3},"↠",{"$f":"VLOOKUP($A1483,'Result Entry'!$B$9:$EQ$108,9,0)","v":"00:00:00"}]
[null,"◐","Subject",null,{"$f":"'Result Entry'!$K$6","v":"First Test"},{"$f":"'Result Entry'!$L$6","v":"Second Test"},{"$f":"'Result Entry'!$M$6","v":"Third Test"},"Half Yearly","Total (Test+H.Y.)","Yearly","Grand Total",null,"Subject Grade"]
[null,"◐","Max. Marks",null,{"$f":"'Result Entry'!$K$7","v":10},{"$f":"'Result Entry'!$L$7","v":10},{"$f":"'Result Entry'!$M$7","v":10},{"$f":"'Result Entry'!$R$7","v":70},{"$f":"SUM(E1496:H1496)","v":100},{"$f":"'Result Entry'!$V$7","v":100},{"$f":"I1496+J1496","v":200},null,"A+/A/B/C/D"]
[null,"◐",{"$f":"'Result Entry'!$K$3","v":"Hindi"},null,{"$f":"IF(OR(C1497=\"\",$I1488=\"NSO\"),\"\",VLOOKUP($A1483,'Result Entry'!$B$9:$EQ$108,10,0))","v":0},{"$f":"IF(OR(C1497=\"\",$I1488=\"NSO\"),\"\",VLOOKUP($A1483,'Result Entry'!$B$9:$EQ$108,11,0))","v":0},{"$f":"IF(OR(C1497=\"\",$I1488=\"NSO\"),\"\",VLOOKUP($A1483,'Result Entry'!$B$9:$EQ$108,12,0))","v":0},{"$f":"IF(OR(C1497=\"\",$I1488=\"NSO\"),\"\",VLOOKUP($A1483,'Result Entry'!$B$9:$EQ$108,17,0))","v":0},{"$f":"SUM(E1497:H1497)","v":0},{"$f":"IF(OR(C1497=\"\",$I1488=\"NSO\"),\"\",VLOOKUP($A1483,'Result Entry'!$B$9:$EQ$108,21,0))","v":0},{"$f":"SUM(I1497,J1497)","v":0},null,{"$f":"IF(OR(C1497=\"\",$I1488=\"NSO\"),\"\",VLOOKUP($A1483,'Result Entry'!$B$9:$EQ$108,24,0))","v":""}]
[null,"◐",{"$f":"'Result Entry'!$Z$3","v":"Mathematics"},null,{"$f":"IF(OR(C1498=\"\",$I1488=\"NSO\"),\"\",VLOOKUP($A1483,'Result Entry'!$B$9:$EQ$108,25,0))","v":0},{"$f":"IF(OR(C1498=\"\",$I1488=\"NSO\"),\"\",VLOOKUP($A1483,'Result Entry'!$B$9:$EQ$108,26,0))","v":0},{"$f":"IF(OR(C1498=\"\",$I1488=\"NSO\"),\"\",VLOOKUP($A1483,'Result Entry'!$B$9:$EQ$108,27,0))","v":0},{"$f":"IF(OR(C1498=\"\",$I1488=\"NSO\"),\"\",VLOOKUP($A1483,'Result Entry'!$B$9:$EQ$108,32,0))","v":0},0,{"$f":"IF(OR(C1498=\"\",$I1488=\"NSO\"),\"\",VLOOKUP($A1483,'Result Entry'!$B$9:$EQ$108,36,0))","v":0},{"$f":"SUM(I1498,J1498)","v":0},null,{"$f":"IF(OR(C1498=\"\",$I1488=\"NSO\"),\"\",VLOOKUP($A1483,'Result Entry'!$B$9:$EQ$108,39,0))","v":""}]
[null,"◐",{"$f":"'Result Entry'!$BD$3","v":"Env. Study"},null,{"$f":"IF(OR(C1499=\"\",$I1488=\"NSO\"),\"\",VLOOKUP($A1483,'Result Entry'!$B$9:$EQ$108,55,0))","v":0},{"$f":"IF(OR(C1499=\"\",$I1488=\"NSO\"),\"\",VLOOKUP($A1483,'Result Entry'!$B$9:$EQ$108,56,0))","v":0},{"$f":"IF(OR(C1499=\"\",$I1488=\"NSO\"),\"\",VLOOKUP($A1483,'Result Entry'!$B$9:$EQ$108,57,0))","v":0},{"$f":"IF(OR(C1497=\"\",$I1488=\"NSO\"),\"\",VLOOKUP($A1483,'Result Entry'!$B$9:$EQ$108,62,0))","v":0},0,{"$f":"IF(OR(C1498=\"\",$I1488=\"NSO\"),\"\",VLOOKUP($A1483,'Result Entry'!$B$9:$EQ$108,66,0))","v":0},0,null,{"$f":"IF(OR(C1498=\"\",$I1488=\"NSO\"),\"\",VLOOKUP($A1483,'Result Entry'!$B$9:$EQ$108,69,0))","v":""}]
[null,"◐","Max. Marks",null,{"$f":"'Result Entry'!$AO$7","v":5},{"$f":"'Result Entry'!$AP$7","v":5},{"$f":"'Result Entry'!$AQ$7","v":5},{"$f":"'Result Entry'!$AV$7","v":35},50,{"$f":"'Result Entry'!$AZ$7","v":50},100,null,"A+/A/B/C/D"]
[null,"◐",{"$f":"'Result Entry'!$AO$3","v":"English"},null,{"$f":"IF(OR(C1501=\"\",$I1488=\"NSO\"),\"\",VLOOKUP($A1483,'Result Entry'!$B$9:$EQ$108,40,0))","v":0},{"$f":"IF(OR(C1501=\"\",$I1488=\"NSO\"),\"\",VLOOKUP($A1483,'Result Entry'!$B$9:$EQ$108,41,0))","v":0},{"$f":"IF(OR(C1501=\"\",$I1488=\"NSO\"),\"\",VLOOKUP($A1483,'Result Entry'!$B$9:$EQ$108,42,0))","v":0},{"$f":"IF(OR(C1501=\"\",$I1488=\"NSO\"),\"\",VLOOKUP($A1483,'Result Entry'!$B$9:$EQ$108,47,0))","v":0},0,{"$f":"IF(OR(C1501=\"\",$I1488=\"NSO\"),\"\",VLOOKUP($A1483,'Result Entry'!$B$9:$EQ$108,51,0))","v":0},0,null,{"$f":"IF(OR(C1501=\"\",$I1488=\"NSO\"),\"\",VLOOKUP($A1483,'Result Entry'!$B$9:$EQ$108,54,0))","v":""}]
[null,"◐","Max. Marks",null,{"$f":"'Result Entry'!$BS$7","v":10},{"$f":"'Result Entry'!$BT$7","v":10},{"$f":"'Result Entry'!$BU$7","v":10},{"$f":"'Result Entry'!$BZ$7","v":70},{"$f":"SUM(E1502:H1502)","v":100},{"$f":"'Result Entry'!$CD$7","v":100},200,null,"A+/A/B/C/D"]
[null,"◐",{"$f":"'Result Entry'!$BS$3","v":"Sanskrit/Urdu"},null,{"$f":"IF(OR(C1503=\"\",$I1488=\"NSO\"),\"\",VLOOKUP($A1483,'Result Entry'!$B$9:$EQ$108,70,0))","v":0},{"$f":"IF(OR(C1503=\"\",$I1488=\"NSO\"),\"\",VLOOKUP($A1483,'Result Entry'!$B$9:$EQ$108,71,0))","v":0},{"$f":"IF(OR(C1503=\"\",$I1488=\"NSO\"),\"\",VLOOKUP($A1483,'Result Entry'!$B$9:$EQ$108,72,0))","v":0},{"$f":"IF(OR(C1503=\"\",$I1488=\"NSO\"),\"\",VLOOKUP($A1483,'Result Entry'!$B$9:$EQ$108,77,0))","v":0},{"$f":"SUM(E1503:H1503)","v":0},{"$f":"IF(OR(C1503=\"\",$I1488=\"NSO\"),\"\",VLOOKUP($A1483,'Result Entry'!$B$9:$EQ$108,81,0))","v":0},0,null,{"$f":"IF(OR(C1503=\"\",$I1488=\"NSO\"),\"\",VLOOKUP($A1483,'Result Entry'!$B$9:$EQ$108,84,0))","v":""}]
[null,"◐"]
[null,"◐","Overall Result",null,null,"Total Max. Marks",null,"Total Obtained Marks",null,"Percentage","Overall Grade","Result","Position in Class"]
[null,"◐",{"$nulls":3},{"$f":"IF(OR($I1488=\"\",$I1488=\"NSO\"),\"\",VLOOKUP($A1483,'Result Entry'!$B$9:$EQ$108,120,0))","v":900},null,{"$f":"IF(OR($I1488=\"\",$I1488=\"NSO\"),\"\",VLOOKUP($A1483,'Result Entry'!$B$9:$EQ$108,121,0))","v":0},null,{"$f":"IF(OR($I1488=\"\",$I1488=\"NSO\"),\"\",VLOOKUP($A1483,'Result Entry'!$B$9:$EQ$108,122,0))","v":{"v":0,"d":"0.00"}},{"$f":"IF(OR($I1488=\"\",$I1488=\"NSO\"),\"\",VLOOKUP($A1483,'Result Entry'!$B$9:$EQ$108,123,0))","v":""},{"$f":"IF(OR($I1488=\"\",$I1488=\"NSO\"),\"\",VLOOKUP($A1483,'Result Entry'!$B$9:$EQ$108,124,0))","v":""},{"$f":"IF(OR($I1488=\"\",$I1488=\"NSO\"),\"\",VLOOKUP($A1483,'Result Entry'!$B$9:$EQ$108,126,0))","v":""}]
[null,"◐",{"$nulls":6},"Total Meetings :-",null,{"$f":"IF(OR($I1488=\"\",$I1488=\"NSO\"),\"\",VLOOKUP($A1483,'Result Entry'!$B$9:$EQ$108,117,0))","v":0},"Attedance %"]
[null,"◐","Extra Subjects",{"$nulls":5},"Student's Meetings :-",null,{"$f":"IF(OR($I1488=\"\",$I1488=\"NSO\"),\"\",VLOOKUP($A1483,'Result Entry'!$B$9:$EQ$108,118,0))","v":0},{"$f":"IF(OR($I1488=\"\",$I1488=\"NSO\"),\"\",VLOOKUP($A1483,'Result Entry'!$B$9:$EQ$108,119,0))","v":""}]
[null,"◐","Subject",null,null,"Total Marks",null,"GRADE","Remark :-",null,{"$f":"IF(OR($I1488=\"\",$I1488=\"NSO\"),\"\",VLOOKUP($A1483,'Result Entry'!$B$9:$EQ$108,127,0))","v":0}]
[null,"◐",{"$f":"'Result Entry'!$CH$3","v":"WORK EXP."},null,null,{"$f":"IF(OR(C1510=\"\",$I1488=\"NSO\"),\"\",VLOOKUP($A1483,'Result Entry'!$B$9:$EQ$108,138,0))","v":"0/100"},null,{"$f":"IF(OR(C1510=\"\",$I1488=\"NSO\"),\"\",VLOOKUP($A1483,'Result Entry'!$B$9:$EQ$108,92,0))","v":""},"Result Date :-",null,{"$f":"'Result Entry'!$U$2","v":"2024-05-07"}]
[null,"◐",{"$f":"'Result Entry'!$CP$3","v":"ART EDU."},null,null,{"$f":"IF(OR(C1511=\"\",$I1488=\"NSO\"),\"\",VLOOKUP($A1483,'Result Entry'!$B$9:$EQ$108,142,0))","v":"0/100"},null,{"$f":"IF(OR(C1511=\"\",$I1488=\"NSO\"),\"\",VLOOKUP($A1483,'Result Entry'!$B$9:$EQ$108,100,0))","v":""}]
[null,null,{"$f":"'Result Entry'!$CX$3","v":"H&P. EDU."},null,null,{"$f":"IF(OR(C1512=\"\",$I1488=\"NSO\"),\"\",VLOOKUP($A1483,'Result Entry'!$B$9:$EQ$108,146,0))","v":"0/0"},null,{"$f":"IF(OR(C1512=\"\",$I1488=\"NSO\"),\"\",VLOOKUP($A1483,'Result Entry'!$B$9:$EQ$108,108,0))","v":""}]
[null,"◐",{"$f":"'Result Entry'!$DF$3","v":0},null,null,{"$f":"IF(OR(C1513=\"\",$I1488=\"NSO\"),\"\",VLOOKUP($A1483,'Result Entry'!$B$9:$EQ$108,131,0))","v":0},null,{"$f":"IF(OR(C1513=\"\",$I1488=\"NSO\"),\"\",VLOOKUP($A1483,'Result Entry'!$B$9:$EQ$108,97,0))","v":0},"Signature Of The Class Teacher"]
[null,"◐","Grading System"]
[null,"◐","Grd.","% Range",null,"Description"]
[null,"◐","A","86-100",null,"Excellent",null,null,"Signature And Seal Of Principal/H.M."]
[null,"◐","B","71-85",null,"Very Good"]
[null,"◐","C","51-70",null,"Good"]
[null,"◐","D","31-50",null,"Average"]
[null,"◐","E","0-30",null,"Needs Improvement",null,null,"Wish bright future"]
[]
[{"$f":"A1483+1","v":40},"Department Of Education, Rajasthan"]
[null,{"$f":"IF(I1527>0,CONCATENATE(C1527,I1527),0)","v":0},null,{"$f":"Master!$E$8","v":"Govt.Sr.Sec.Sch."}]
[{"$nulls":3},{"$f":"Master!$E$11","v":"P.S.-Bapini (Jodhpur)"}]
[null,null,"Report Card",{"$nulls":6},"U-DISE Code:-",null,{"$f":"Master!$E$14","v":{"v":810000000,"d":"0810000000"}}]
[{"$nulls":9},"Session:-",null,{"$f":"Master!$E$6","v":"2023-24"}]
[null,null,"Roll No.:-",{"$nulls":5},{"$f":"VLOOKUP($A1522,'Result Entry'!$B$9:$F$108,5,0)","v":0}]
[null,"◐","Scholar Number",{"$nulls":3},"↠",{"$f":"VLOOKUP($A1522,'Result Entry'!$B$9:$EQ$108,3,0)","v":0}]
[null,"◐","Student's Name",{"$nulls":3},"↠",{"$f":"VLOOKUP($A1522,'Result Entry'!$B$9:$EQ$108,6,0)","v":0}]
[null,"◐","Father's Name",{"$nulls":3},"↠",{"$f":"VLOOKUP($A1522,'Result Entry'!$B$9:$EQ$108,7,0)","v":0}]
[null,"◐","Mother's Name ",{"$nulls":3},"↠",{"$f":"VLOOKUP($A1522,'Result Entry'!$B$9:$EQ$108,8,0)","v":0}]
[null,"◐","Class & Section",{"$nulls":3},"↠",{"$f":"CONCATENATE('Result Entry'!$F$4,'Result Entry'!$I$4)","v":"2(A)"}]
[null,"◐","Date Of Birth",{"$nulls":3},"↠",{"$f":"VLOOKUP($A1522,'Result Entry'!$B$9:$EQ$108,9,0)","v":"00:00:00"}]
[null,"◐","Subject",null,{"$f":"'Result Entry'!$K$6","v":"First Test"},{"$f":"'Result Entry'!$L$6","v":"Second Test"},{"$f":"'Result Entry'!$M$6","v":"Third Test"},"Half Yearly","Total (Test+H.Y.)","Yearly","Grand Total",null,"Subject Grade"]
[null,"◐","Max. Marks",null,{"$f":"'Result Entry'!$K$7","v":10},{"$f":"'Result Entry'!$L$7","v":10},{"$f":"'Result Entry'!$M$7","v":10},{"$f":"'Result Entry'!$R$7","v":70},{"$f":"SUM(E1535:H1535)","v":100},{"$f":"'Result Entry'!$V$7","v":100},{"$f":"I1535+J1535","v":200},null,"A+/A/B/C/D"]
[null,"◐",{"$f":"'Result Entry'!$K$3","v":"Hindi"},null,{"$f":"IF(OR(C1536=\"\",$I1527=\"NSO\"),\"\",VLOOKUP($A1522,'Result Entry'!$B$9:$EQ$108,10,0))","v":0},{"$f":"IF(OR(C1536=\"\",$I1527=\"NSO\"),\"\",VLOOKUP($A1522,'Result Entry'!$B$9:$EQ$108,11,0))","v":0},{"$f":"IF(OR(C1536=\"\",$I1527=\"NSO\"),\"\",VLOOKUP($A1522,'Result Entry'!$B$9:$EQ$108,12,0))","v":0},{"$f":"IF(OR(C1536=\"\",$I1527=\"NSO\"),\"\",VLOOKUP($A1522,'Result Entry'!$B$9:$EQ$108,17,0))","v":0},{"$f":"SUM(E1536:H1536)","v":0},{"$f":"IF(OR(C1536=\"\",$I1527=\"NSO\"),\"\",VLOOKUP($A1522,'Result Entry'!$B$9:$EQ$108,21,0))","v":0},{"$f":"SUM(I1536,J1536)","v":0},null,{"$f":"IF(OR(C1536=\"\",$I1527=\"NSO\"),\"\",VLOOKUP($A1522,'Result Entry'!$B$9:$EQ$108,24,0))","v":""}]
[null,"◐",{"$f":"'Result Entry'!$Z$3","v":"Mathematics"},null,{"$f":"IF(OR(C1537=\"\",$I1527=\"NSO\"),\"\",VLOOKUP($A1522,'Result Entry'!$B$9:$EQ$108,25,0))","v":0},{"$f":"IF(OR(C1537=\"\",$I1527=\"NSO\"),\"\",VLOOKUP($A1522,'Result Entry'!$B$9:$EQ$108,26,0))","v":0},{"$f":"IF(OR(C1537=\"\",$I1527=\"NSO\"),\"\",VLOOKUP($A1522,'Result Entry'!$B$9:$EQ$108,27,0))","v":0},{"$f":"IF(OR(C1537=\"\",$I1527=\"NSO\"),\"\",VLOOKUP($A1522,'Result Entry'!$B$9:$EQ$108,32,0))","v":0},0,{"$f":"IF(OR(C1537=\"\",$I1527=\"NSO\"),\"\",VLOOKUP($A1522,'Result Entry'!$B$9:$EQ$108,36,0))","v":0},{"$f":"SUM(I1537,J1537)","v":0},null,{"$f":"IF(OR(C1537=\"\",$I1527=\"NSO\"),\"\",VLOOKUP($A1522,'Result Entry'!$B$9:$EQ$108,39,0))","v":""}]
[null,"◐",{"$f":"'Result Entry'!$BD$3","v":"Env. Study"},null,{"$f":"IF(OR(C1538=\"\",$I1527=\"NSO\"),\"\",VLOOKUP($A1522,'Result Entry'!$B$9:$EQ$108,55,0))","v":0},{"$f":"IF(OR(C1538=\"\",$I1527=\"NSO\"),\"\",VLOOKUP($A1522,'Result Entry'!$B$9:$EQ$108,56,0))","v":0},{"$f":"IF(OR(C1538=\"\",$I1527=\"NSO\"),\"\",VLOOKUP($A1522,'Result Entry'!$B$9:$EQ$108,57,0))","v":0},{"$f":"IF(OR(C1536=\"\",$I1527=\"NSO\"),\"\",VLOOKUP($A1522,'Result Entry'!$B$9:$EQ$108,62,0))","v":0},0,{"$f":"IF(OR(C1537=\"\",$I1527=\"NSO\"),\"\",VLOOKUP($A1522,'Result Entry'!$B$9:$EQ$108,66,0))","v":0},0,null,{"$f":"IF(OR(C1537=\"\",$I1527=\"NSO\"),\"\",VLOOKUP($A1522,'Result Entry'!$B$9:$EQ$108,69,0))","v":""}]
[null,"◐","Max. Marks",null,{"$f":"'Result Entry'!$AO$7","v":5},{"$f":"'Result Entry'!$AP$7","v":5},{"$f":"'Result Entry'!$AQ$7","v":5},{"$f":"'Result Entry'!$AV$7","v":35},50,{"$f":"'Result Entry'!$AZ$7","v":50},100,null,"A+/A/B/C/D"]
[null,"◐",{"$f":"'Result Entry'!$AO$3","v":"English"},null,{"$f":"IF(OR(C1540=\"\",$I1527=\"NSO\"),\"\",VLOOKUP($A1522,'Result Entry'!$B$9:$EQ$108,40,0))","v":0},{"$f":"IF(OR(C1540=\"\",$I1527=\"NSO\"),\"\",VLOOKUP($A1522,'Result Entry'!$B$9:$EQ$108,41,0))","v":0},{"$f":"IF(OR(C1540=\"\",$I1527=\"NSO\"),\"\",VLOOKUP($A1522,'Result Entry'!$B$9:$EQ$108,42,0))","v":0},{"$f":"IF(OR(C1540=\"\",$I1527=\"NSO\"),\"\",VLOOKUP($A1522,'Result Entry'!$B$9:$EQ$108,47,0))","v":0},0,{"$f":"IF(OR(C1540=\"\",$I1527=\"NSO\"),\"\",VLOOKUP($A1522,'Result Entry'!$B$9:$EQ$108,51,0))","v":0},0,null,{"$f":"IF(OR(C1540=\"\",$I1527=\"NSO\"),\"\",VLOOKUP($A1522,'Result Entry'!$B$9:$EQ$108,54,0))","v":""}]
[null,"◐","Max. Marks",null,{"$f":"'Result Entry'!$BS$7","v":10},{"$f":"'Result Entry'!$BT$7","v":10},{"$f":"'Result Entry'!$BU$7","v":10},{"$f":"'Result Entry'!$BZ$7","v":70},{"$f":"SUM(E1541:H1541)","v":100},{"$f":"'Result Entry'!$CD$7","v":100},200,null,"A+/A/B/C/D"]
[null,"◐",{"$f":"'Result Entry'!$BS$3","v":"Sanskrit/Urdu"},null,{"$f":"IF(OR(C1542=\"\",$I1527=\"NSO\"),\"\",VLOOKUP($A1522,'Result Entry'!$B$9:$EQ$108,70,0))","v":0},{"$f":"IF(OR(C1542=\"\",$I1527=\"NSO\"),\"\",VLOOKUP($A1522,'Result Entry'!$B$9:$EQ$108,71,0))","v":0},{"$f":"IF(OR(C1542=\"\",$I1527=\"NSO\"),\"\",VLOOKUP($A1522,'Result Entry'!$B$9:$EQ$108,72,0))","v":0},{"$f":"IF(OR(C1542=\"\",$I1527=\"NSO\"),\"\",VLOOKUP($A1522,'Result Entry'!$B$9:$EQ$108,77,0))","v":0},{"$f":"SUM(E1542:H1542)","v":0},{"$f":"IF(OR(C1542=\"\",$I1527=\"NSO\"),\"\",VLOOKUP($A1522,'Result Entry'!$B$9:$EQ$108,81,0))","v":0},0,null,{"$f":"IF(OR(C1542=\"\",$I1527=\"NSO\"),\"\",VLOOKUP($A1522,'Result Entry'!$B$9:$EQ$108,84,0))","v":""}]
[null,"◐"]
[null,"◐","Overall Result",null,null,"Total Max. Marks",null,"Total Obtained Marks",null,"Percentage","Overall Grade","Result","Position in Class"]
[null,"◐",{"$nulls":3},{"$f":"IF(OR($I1527=\"\",$I1527=\"NSO\"),\"\",VLOOKUP($A1522,'Result Entry'!$B$9:$EQ$108,120,0))","v":900},null,{"$f":"IF(OR($I1527=\"\",$I1527=\"NSO\"),\"\",VLOOKUP($A1522,'Result Entry'!$B$9:$EQ$108,121,0))","v":0},null,{"$f":"IF(OR($I1527=\"\",$I1527=\"NSO\"),\"\",VLOOKUP($A1522,'Result Entry'!$B$9:$EQ$108,122,0))","v":{"v":0,"d":"0.00"}},{"$f":"IF(OR($I1527=\"\",$I1527=\"NSO\"),\"\",VLOOKUP($A1522,'Result Entry'!$B$9:$EQ$108,123,0))","v":""},{"$f":"IF(OR($I1527=\"\",$I1527=\"NSO\"),\"\",VLOOKUP($A1522,'Result Entry'!$B$9:$EQ$108,124,0))","v":""},{"$f":"IF(OR($I1527=\"\",$I1527=\"NSO\"),\"\",VLOOKUP($A1522,'Result Entry'!$B$9:$EQ$108,126,0))","v":""}]
[null,"◐",{"$nulls":6},"Total Meetings :-",null,{"$f":"IF(OR($I1527=\"\",$I1527=\"NSO\"),\"\",VLOOKUP($A1522,'Result Entry'!$B$9:$EQ$108,117,0))","v":0},"Attedance %"]
[null,"◐","Extra Subjects",{"$nulls":5},"Student's Meetings :-",null,{"$f":"IF(OR($I1527=\"\",$I1527=\"NSO\"),\"\",VLOOKUP($A1522,'Result Entry'!$B$9:$EQ$108,118,0))","v":0},{"$f":"IF(OR($I1527=\"\",$I1527=\"NSO\"),\"\",VLOOKUP($A1522,'Result Entry'!$B$9:$EQ$108,119,0))","v":""}]
[null,"◐","Subject",null,null,"Total Marks",null,"GRADE","Remark :-",null,{"$f":"IF(OR($I1527=\"\",$I1527=\"NSO\"),\"\",VLOOKUP($A1522,'Result Entry'!$B$9:$EQ$108,127,0))","v":0}]
[null,"◐",{"$f":"'Result Entry'!$CH$3","v":"WORK EXP."},null,null,{"$f":"IF(OR(C1549=\"\",$I1527=\"NSO\"),\"\",VLOOKUP($A1522,'Result Entry'!$B$9:$EQ$108,138,0))","v":"0/100"},null,{"$f":"IF(OR(C1549=\"\",$I1527=\"NSO\"),\"\",VLOOKUP($A1522,'Result Entry'!$B$9:$EQ$108,92,0))","v":""},"Result Date :-",null,{"$f":"'Result Entry'!$U$2","v":"2024-05-07"}]
[null,"◐",{"$f":"'Result Entry'!$CP$3","v":"ART EDU."},null,null,{"$f":"IF(OR(C1550=\"\",$I1527=\"NSO\"),\"\",VLOOKUP($A1522,'Result Entry'!$B$9:$EQ$108,142,0))","v":"0/100"},null,{"$f":"IF(OR(C1550=\"\",$I1527=\"NSO\"),\"\",VLOOKUP($A1522,'Result Entry'!$B$9:$EQ$108,100,0))","v":""}]
[null,null,{"$f":"'Result Entry'!$CX$3","v":"H&P. EDU."},null,null,{"$f":"IF(OR(C1551=\"\",$I1527=\"NSO\"),\"\",VLOOKUP($A1522,'Result Entry'!$B$9:$EQ$108,146,0))","v":"0/0"},null,{"$f":"IF(OR(C1551=\"\",$I1527=\"NSO\"),\"\",VLOOKUP($A1522,'Result Entry'!$B$9:$EQ$108,108,0))","v":""}]
[null,"◐",{"$f":"'Result Entry'!$DF$3","v":0},null,null,{"$f":"IF(OR(C1552=\"\",$I1527=\"NSO\"),\"\",VLOOKUP($A1522,'Result Entry'!$B$9:$EQ$108,131,0))","v":0},null,{"$f":"IF(OR(C1552=\"\",$I1527=\"NSO\"),\"\",VLOOKUP($A1522,'Result Entry'!$B$9:$EQ$108,97,0))","v":0},"Signature Of The Class Teacher"]
[null,"◐","Grading System"]
[null,"◐","Grd.","% Range",null,"Description"]
[null,"◐","A","86-100",null,"Excellent",null,null,"Signature And Seal Of Principal/H.M."]
[null,"◐","B","71-85",null,"Very Good"]
[null,"◐","C","51-70",null,"Good"]
[null,"◐","D","31-50",null,"Average"]
[null,"◐","E","0-30",null,"Needs Improvement",null,null,"Wish bright future"]
[]
[{"$f":"A1522+1","v":41},"Department Of Education, Rajasthan"]
[null,{"$f":"IF(I1566>0,CONCATENATE(C1566,I1566),0)","v":0},null,{"$f":"Master!$E$8","v":"Govt.Sr.Sec.Sch."}]
[{"$nulls":3},{"$f":"Master!$E$11","v":"P.S.-Bapini (Jodhpur)"}]
[null,null,"Report Card",{"$nulls":6},"U-DISE Code:-",null,{"$f":"Master!$E$14","v":{"v":810000000,"d":"0810000000"}}]
[{"$nulls":9},"Session:-",null,{"$f":"Master!$E$6","v":"2023-24"}]
[null,null,"Roll No.:-",{"$nulls":5},{"$f":"VLOOKUP($A1561,'Result Entry'!$B$9:$F$108,5,0)","v":0}]
[null,"◐","Scholar Number",{"$nulls":3},"↠",{"$f":"VLOOKUP($A1561,'Result Entry'!$B$9:$EQ$108,3,0)","v":0}]
[null,"◐","Student's Name",{"$nulls":3},"↠",{"$f":"VLOOKUP($A1561,'Result Entry'!$B$9:$EQ$108,6,0)","v":0}]
[null,"◐","Father's Name",{"$nulls":3},"↠",{"$f":"VLOOKUP($A1561,'Result Entry'!$B$9:$EQ$108,7,0)","v":0}]
[null,"◐","Mother's Name ",{"$nulls":3},"↠",{"$f":"VLOOKUP($A1561,'Result Entry'!$B$9:$EQ$108,8,0)","v":0}]
[null,"◐","Class & Section",{"$nulls":3},"↠",{"$f":"CONCATENATE('Result Entry'!$F$4,'Result Entry'!$I$4)","v":"2(A)"}]
[null,"◐","Date Of Birth",{"$nulls":3},"↠",{"$f":"VLOOKUP($A1561,'Result Entry'!$B$9:$EQ$108,9,0)","v":"00:00:00"}]
[null,"◐","Subject",null,{"$f":"'Result Entry'!$K$6","v":"First Test"},{"$f":"'Result Entry'!$L$6","v":"Second Test"},{"$f":"'Result Entry'!$M$6","v":"Third Test"},"Half Yearly","Total (Test+H.Y.)","Yearly","Grand Total",null,"Subject Grade"]
[null,"◐","Max. Marks",null,{"$f":"'Result Entry'!$K$7","v":10},{"$f":"'Result Entry'!$L$7","v":10},{"$f":"'Result Entry'!$M$7","v":10},{"$f":"'Result Entry'!$R$7","v":70},{"$f":"SUM(E1574:H1574)","v":100},{"$f":"'Result Entry'!$V$7","v":100},{"$f":"I1574+J1574","v":200},null,"A+/A/B/C/D"]
[null,"◐",{"$f":"'Result Entry'!$K$3","v":"Hindi"},null,{"$f":"IF(OR(C1575=\"\",$I1566=\"NSO\"),\"\",VLOOKUP($A1561,'Result Entry'!$B$9:$EQ$108,10,0))","v":0},{"$f":"IF(OR(C1575=\"\",$I1566=\"NSO\"),\"\",VLOOKUP($A1561,'Result Entry'!$B$9:$EQ$108,11,0))","v":0},{"$f":"IF(OR(C1575=\"\",$I1566=\"NSO\"),\"\",VLOOKUP($A1561,'Result Entry'!$B$9:$EQ$108,12,0))","v":0},{"$f":"IF(OR(C1575=\"\",$I1566=\"NSO\"),\"\",VLOOKUP($A1561,'Result Entry'!$B$9:$EQ$108,17,0))","v":0},{"$f":"SUM(E1575:H1575)","v":0},{"$f":"IF(OR(C1575=\"\",$I1566=\"NSO\"),\"\",VLOOKUP($A1561,'Result Entry'!$B$9:$EQ$108,21,0))","v":0},{"$f":"SUM(I1575,J1575)","v":0},null,{"$f":"IF(OR(C1575=\"\",$I1566=\"NSO\"),\"\",VLOOKUP($A1561,'Result Entry'!$B$9:$EQ$108,24,0))","v":""}]
[null,"◐",{"$f":"'Result Entry'!$Z$3","v":"Mathematics"},null,{"$f":"IF(OR(C1576=\"\",$I1566=\"NSO\"),\"\",VLOOKUP($A1561,'Result Entry'!$B$9:$EQ$108,25,0))","v":0},{"$f":"IF(OR(C1576=\"\",$I1566=\"NSO\"),\"\",VLOOKUP($A1561,'Result Entry'!$B$9:$EQ$108,26,0))","v":0},{"$f":"IF(OR(C1576=\"\",$I1566=\"NSO\"),\"\",VLOOKUP($A1561,'Result Entry'!$B$9:$EQ$108,27,0))","v":0},{"$f":"IF(OR(C1576=\"\",$I1566=\"NSO\"),\"\",VLOOKUP($A1561,'Result Entry'!$B$9:$EQ$108,32,0))","v":0},0,{"$f":"IF(OR(C1576=\"\",$I1566=\"NSO\"),\"\",VLOOKUP($A1561,'Result Entry'!$B$9:$EQ$108,36,0))","v":0},{"$f":"SUM(I1576,J1576)","v":0},null,{"$f":"IF(OR(C1576=\"\",$I1566=\"NSO\"),\"\",VLOOKUP($A1561,'Result Entry'!$B$9:$EQ$108,39,0))","v":""}]
[null,"◐",{"$f":"'Result Entry'!$BD$3","v":"Env. Study"},null,{"$f":"IF(OR(C1577=\"\",$I1566=\"NSO\"),\"\",VLOOKUP($A1561,'Result Entry'!$B$9:$EQ$108,55,0))","v":0},{"$f":"IF(OR(C1577=\"\",$I1566=\"NSO\"),\"\",VLOOKUP($A1561,'Result Entry'!$B$9:$EQ$108,56,0))","v":0},{"$f":"IF(OR(C1577=\"\",$I1566=\"NSO\"),\"\",VLOOKUP($A1561,'Result Entry'!$B$9:$EQ$108,57,0))","v":0},{"$f":"IF(OR(C1575=\"\",$I1566=\"NSO\"),\"\",VLOOKUP($A1561,'Result Entry'!$B$9:$EQ$108,62,0))","v":0},0,{"$f":"IF(OR(C1576=\"\",$I1566=\"NSO\"),\"\",VLOOKUP($A1561,'Result Entry'!$B$9:$EQ$108,66,0))","v":0},0,null,{"$f":"IF(OR(C1576=\"\",$I1566=\"NSO\"),\"\",VLOOKUP($A1561,'Result Entry'!$B$9:$EQ$108,69,0))","v":""}]
[null,"◐","Max. Marks",null,{"$f":"'Result Entry'!$AO$7","v":5},{"$f":"'Result Entry'!$AP$7","v":5},{"$f":"'Result Entry'!$AQ$7","v":5},{"$f":"'Result Entry'!$AV$7","v":35},50,{"$f":"'Result Entry'!$AZ$7","v":50},100,null,"A+/A/B/C/D"]
[null,"◐",{"$f":"'Result Entry'!$AO$3","v":"English"},null,{"$f":"IF(OR(C1579=\"\",$I1566=\"NSO\"),\"\",VLOOKUP($A1561,'Result Entry'!$B$9:$EQ$108,40,0))","v":0},{"$f":"IF(OR(C1579=\"\",$I1566=\"NSO\"),\"\",VLOOKUP($A1561,'Result Entry'!$B$9:$EQ$108,41,0))","v":0},{"$f":"IF(OR(C1579=\"\",$I1566=\"NSO\"),\"\",VLOOKUP($A1561,'Result Entry'!$B$9:$EQ$108,42,0))","v":0},{"$f":"IF(OR(C1579=\"\",$I1566=\"NSO\"),\"\",VLOOKUP($A1561,'Result Entry'!$B$9:$EQ$108,47,0))","v":0},0,{"$f":"IF(OR(C1579=\"\",$I1566=\"NSO\"),\"\",VLOOKUP($A1561,'Result Entry'!$B$9:$EQ$108,51,0))","v":0},0,null,{"$f":"IF(OR(C1579=\"\",$I1566=\"NSO\"),\"\",VLOOKUP($A1561,'Result Entry'!$B$9:$EQ$108,54,0))","v":""}]
[null,"◐","Max. Marks",null,{"$f":"'Result Entry'!$BS$7","v":10},{"$f":"'Result Entry'!$BT$7","v":10},{"$f":"'Result Entry'!$BU$7","v":10},{"$f":"'Result Entry'!$BZ$7","v":70},{"$f":"SUM(E1580:H1580)","v":100},{"$f":"'Result Entry'!$CD$7","v":100},200,null,"A+/A/B/C/D"]
[null,"◐",{"$f":"'Result Entry'!$BS$3","v":"Sanskrit/Urdu"},null,{"$f":"IF(OR(C1581=\"\",$I1566=\"NSO\"),\"\",VLOOKUP($A1561,'Result Entry'!$B$9:$EQ$108,70,0))","v":0},{"$f":"IF(OR(C1581=\"\",$I1566=\"NSO\"),\"\",VLOOKUP($A1561,'Result Entry'!$B$9:$EQ$108,71,0))","v":0},{"$f":"IF(OR(C1581=\"\",$I1566=\"NSO\"),\"\",VLOOKUP($A1561,'Result Entry'!$B$9:$EQ$108,72,0))","v":0},{"$f":"IF(OR(C1581=\"\",$I1566=\"NSO\"),\"\",VLOOKUP($A1561,'Result Entry'!$B$9:$EQ$108,77,0))","v":0},{"$f":"SUM(E1581:H1581)","v":0},{"$f":"IF(OR(C1581=\"\",$I1566=\"NSO\"),\"\",VLOOKUP($A1561,'Result Entry'!$B$9:$EQ$108,81,0))","v":0},0,null,{"$f":"IF(OR(C1581=\"\",$I1566=\"NSO\"),\"\",VLOOKUP($A1561,'Result Entry'!$B$9:$EQ$108,84,0))","v":""}]
[null,"◐"]
[null,"◐","Overall Result",null,null,"Total Max. Marks",null,"Total Obtained Marks",null,"Percentage","Overall Grade","Result","Position in Class"]
[null,"◐",{"$nulls":3},{"$f":"IF(OR($I1566=\"\",$I1566=\"NSO\"),\"\",VLOOKUP($A1561,'Result Entry'!$B$9:$EQ$108,120,0))","v":900},null,{"$f":"IF(OR($I1566=\"\",$I1566=\"NSO\"),\"\",VLOOKUP($A1561,'Result Entry'!$B$9:$EQ$108,121,0))","v":0},null,{"$f":"IF(OR($I1566=\"\",$I1566=\"NSO\"),\"\",VLOOKUP($A1561,'Result Entry'!$B$9:$EQ$108,122,0))","v":{"v":0,"d":"0.00"}},{"$f":"IF(OR($I1566=\"\",$I1566=\"NSO\"),\"\",VLOOKUP($A1561,'Result Entry'!$B$9:$EQ$108,123,0))","v":""},{"$f":"IF(OR($I1566=\"\",$I1566=\"NSO\"),\"\",VLOOKUP($A1561,'Result Entry'!$B$9:$EQ$108,124,0))","v":""},{"$f":"IF(OR($I1566=\"\",$I1566=\"NSO\"),\"\",VLOOKUP($A1561,'Result Entry'!$B$9:$EQ$108,126,0))","v":""}]
[null,"◐",{"$nulls":6},"Total Meetings :-",null,{"$f":"IF(OR($I1566=\"\",$I1566=\"NSO\"),\"\",VLOOKUP($A1561,'Result Entry'!$B$9:$EQ$108,117,0))","v":0},"Attedance %"]
[null,"◐","Extra Subjects",{"$nulls":5},"Student's Meetings :-",null,{"$f":"IF(OR($I1566=\"\",$I1566=\"NSO\"),\"\",VLOOKUP($A1561,'Result Entry'!$B$9:$EQ$108,118,0))","v":0},{"$f":"IF(OR($I1566=\"\",$I1566=\"NSO\"),\"\",VLOOKUP($A1561,'Result Entry'!$B$9:$EQ$108,119,0))","v":""}]
[null,"◐","Subject",null,null,"Total Marks",null,"GRADE","Remark :-",null,{"$f":"IF(OR($I1566=\"\",$I1566=\"NSO\"),\"\",VLOOKUP($A1561,'Result Entry'!$B$9:$EQ$108,127,0))","v":0}]
[null,"◐",{"$f":"'Result Entry'!$CH$3","v":"WORK EXP."},null,null,{"$f":"IF(OR(C1588=\"\",$I1566=\"NSO\"),\"\",VLOOKUP($A1561,'Result Entry'!$B$9:$EQ$108,138,0))","v":"0/100"},null,{"$f":"IF(OR(C1588=\"\",$I1566=\"NSO\"),\"\",VLOOKUP($A1561,'Result Entry'!$B$9:$EQ$108,92,0))","v":""},"Result Date :-",null,{"$f":"'Result Entry'!$U$2","v":"2024-05-07"}]
[null,"◐",{"$f":"'Result Entry'!$CP$3","v":"ART EDU."},null,null,{"$f":"IF(OR(C1589=\"\",$I1566=\"NSO\"),\"\",VLOOKUP($A1561,'Result Entry'!$B$9:$EQ$108,142,0))","v":"0/100"},null,{"$f":"IF(OR(C1589=\"\",$I1566=\"NSO\"),\"\",VLOOKUP($A1561,'Result Entry'!$B$9:$EQ$108,100,0))","v":""}]
[null,null,{"$f":"'Result Entry'!$CX$3","v":"H&P. EDU."},null,null,{"$f":"IF(OR(C1590=\"\",$I1566=\"NSO\"),\"\",VLOOKUP($A1561,'Result Entry'!$B$9:$EQ$108,146,0))","v":"0/0"},null,{"$f":"IF(OR(C1590=\"\",$I1566=\"NSO\"),\"\",VLOOKUP($A1561,'Result Entry'!$B$9:$EQ$108,108,0))","v":""}]
[null,"◐",{"$f":"'Result Entry'!$DF$3","v":0},null,null,{"$f":"IF(OR(C1591=\"\",$I1566=\"NSO\"),\"\",VLOOKUP($A1561,'Result Entry'!$B$9:$EQ$108,131,0))","v":0},null,{"$f":"IF(OR(C1591=\"\",$I1566=\"NSO\"),\"\",VLOOKUP($A1561,'Result Entry'!$B$9:$EQ$108,97,0))","v":0},"Signature Of The Class Teacher"]
[null,"◐","Grading System"]
[null,"◐","Grd.","% Range",null,"Description"]
[null,"◐","A","86-100",null,"Excellent",null,null,"Signature And Seal Of Principal/H.M."]
[null,"◐","B","71-85",null,"Very Good"]
[null,"◐","C","51-70",null,"Good"]
[null,"◐","D","31-50",null,"Average"]
[null,"◐","E","0-30",null,"Needs Improvement",null,null,"Wish bright future"]
[]
[{"$f":"A1561+1","v":42},"Department Of Education, Rajasthan"]
[null,{"$f":"IF(I1605>0,CONCATENATE(C1605,I1605),0)","v":0},null,{"$f":"Master!$E$8","v":"Govt.Sr.Sec.Sch."}]
[{"$nulls":3},{"$f":"Master!$E$11","v":"P.S.-Bapini (Jodhpur)"}]
[null,null,"Report Card",{"$nulls":6},"U-DISE Code:-",null,{"$f":"Master!$E$14","v":{"v":810000000,"d":"0810000000"}}]
[{"$nulls":9},"Session:-",null,{"$f":"Master!$E$6","v":"2023-24"}]
[null,null,"Roll No.:-",{"$nulls":5},{"$f":"VLOOKUP($A1600,'Result Entry'!$B$9:$F$108,5,0)","v":0}]
[null,"◐","Scholar Number",{"$nulls":3},"↠",{"$f":"VLOOKUP($A1600,'Result Entry'!$B$9:$EQ$108,3,0)","v":0}]
[null,"◐","Student's Name",{"$nulls":3},"↠",{"$f":"VLOOKUP($A1600,'Result Entry'!$B$9:$EQ$108,6,0)","v":0}]
[null,"◐","Father's Name",{"$nulls":3},"↠",{"$f":"VLOOKUP($A1600,'Result Entry'!$B$9:$EQ$108,7,0)","v":0}]
[null,"◐","Mother's Name ",{"$nulls":3},"↠",{"$f":"VLOOKUP($A1600,'Result Entry'!$B$9:$EQ$108,8,0)","v":0}]
[null,"◐","Class & Section",{"$nulls":3},"↠",{"$f":"CONCATENATE('Result Entry'!$F$4,'Result Entry'!$I$4)","v":"2(A)"}]
[null,"◐","Date Of Birth",{"$nulls":3},"↠",{"$f":"VLOOKUP($A1600,'Result Entry'!$B$9:$EQ$108,9,0)","v":"00:00:00"}]
[null,"◐","Subject",null,{"$f":"'Result Entry'!$K$6","v":"First Test"},{"$f":"'Result Entry'!$L$6","v":"Second Test"},{"$f":"'Result Entry'!$M$6","v":"Third Test"},"Half Yearly","Total (Test+H.Y.)","Yearly","Grand Total",null,"Subject Grade"]
[null,"◐","Max. Marks",null,{"$f":"'Result Entry'!$K$7","v":10},{"$f":"'Result Entry'!$L$7","v":10},{"$f":"'Result Entry'!$M$7","v":10},{"$f":"'Result Entry'!$R$7","v":70},{"$f":"SUM(E1613:H1613)","v":100},{"$f":"'Result Entry'!$V$7","v":100},{"$f":"I1613+J1613","v":200},null,"A+/A/B/C/D"]
[null,"◐",{"$f":"'Result Entry'!$K$3","v":"Hindi"},null,{"$f":"IF(OR(C1614=\"\",$I1605=\"NSO\"),\"\",VLOOKUP($A1600,'Result Entry'!$B$9:$EQ$108,10,0))","v":0},{"$f":"IF(OR(C1614=\"\",$I1605=\"NSO\"),\"\",VLOOKUP($A1600,'Result Entry'!$B$9:$EQ$108,11,0))","v":0},{"$f":"IF(OR(C1614=\"\",$I1605=\"NSO\"),\"\",VLOOKUP($A1600,'Result Entry'!$B$9:$EQ$108,12,0))","v":0},{"$f":"IF(OR(C1614=\"\",$I1605=\"NSO\"),\"\",VLOOKUP($A1600,'Result Entry'!$B$9:$EQ$108,17,0))","v":0},{"$f":"SUM(E1614:H1614)","v":0},{"$f":"IF(OR(C1614=\"\",$I1605=\"NSO\"),\"\",VLOOKUP($A1600,'Result Entry'!$B$9:$EQ$108,21,0))","v":0},{"$f":"SUM(I1614,J1614)","v":0},null,{"$f":"IF(OR(C1614=\"\",$I1605=\"NSO\"),\"\",VLOOKUP($A1600,'Result Entry'!$B$9:$EQ$108,24,0))","v":""}]
[null,"◐",{"$f":"'Result Entry'!$Z$3","v":"Mathematics"},null,{"$f":"IF(OR(C1615=\"\",$I1605=\"NSO\"),\"\",VLOOKUP($A1600,'Result Entry'!$B$9:$EQ$108,25,0))","v":0},{"$f":"IF(OR(C1615=\"\",$I1605=\"NSO\"),\"\",VLOOKUP($A1600,'Result Entry'!$B$9:$EQ$108,26,0))","v":0},{"$f":"IF(OR(C1615=\"\",$I1605=\"NSO\"),\"\",VLOOKUP($A1600,'Result Entry'!$B$9:$EQ$108,27,0))","v":0},{"$f":"IF(OR(C1615=\"\",$I1605=\"NSO\"),\"\",VLOOKUP($A1600,'Result Entry'!$B$9:$EQ$108,32,0))","v":0},0,{"$f":"IF(OR(C1615=\"\",$I1605=\"NSO\"),\"\",VLOOKUP($A1600,'Result Entry'!$B$9:$EQ$108,36,0))","v":0},{"$f":"SUM(I1615,J1615)","v":0},null,{"$f":"IF(OR(C1615=\"\",$I1605=\"NSO\"),\"\",VLOOKUP($A1600,'Result Entry'!$B$9:$EQ$108,39,0))","v":""}]
[null,"◐",{"$f":"'Result Entry'!$BD$3","v":"Env. Study"},null,{"$f":"IF(OR(C1616=\"\",$I1605=\"NSO\"),\"\",VLOOKUP($A1600,'Result Entry'!$B$9:$EQ$108,55,0))","v":0},{"$f":"IF(OR(C1616=\"\",$I1605=\"NSO\"),\"\",VLOOKUP($A1600,'Result Entry'!$B$9:$EQ$108,56,0))","v":0},{"$f":"IF(OR(C1616=\"\",$I1605=\"NSO\"),\"\",VLOOKUP($A1600,'Result Entry'!$B$9:$EQ$108,57,0))","v":0},{"$f":"IF(OR(C1614=\"\",$I1605=\"NSO\"),\"\",VLOOKUP($A1600,'Result Entry'!$B$9:$EQ$108,62,0))","v":0},0,{"$f":"IF(OR(C1615=\"\",$I1605=\"NSO\"),\"\",VLOOKUP($A1600,'Result Entry'!$B$9:$EQ$108,66,0))","v":0},0,null,{"$f":"IF(OR(C1615=\"\",$I1605=\"NSO\"),\"\",VLOOKUP($A1600,'Result Entry'!$B$9:$EQ$108,69,0))","v":""}]
[null,"◐","Max. Marks",null,{"$f":"'Result Entry'!$AO$7","v":5},{"$f":"'Result Entry'!$AP$7","v":5},{"$f":"'Result Entry'!$AQ$7","v":5},{"$f":"'Result Entry'!$AV$7","v":35},50,{"$f":"'Result Entry'!$AZ$7","v":50},100,null,"A+/A/B/C/D"]
[null,"◐",{"$f":"'Result Entry'!$AO$3","v":"English"},null,{"$f":"IF(OR(C1618=\"\",$I1605=\"NSO\"),\"\",VLOOKUP($A1600,'Result Entry'!$B$9:$EQ$108,40,0))","v":0},{"$f":"IF(OR(C1618=\"\",$I1605=\"NSO\"),\"\",VLOOKUP($A1600,'Result Entry'!$B$9:$EQ$108,41,0))","v":0},{"$f":"IF(OR(C1618=\"\",$I1605=\"NSO\"),\"\",VLOOKUP($A1600,'Result Entry'!$B$9:$EQ$108,42,0))","v":0},{"$f":"IF(OR(C1618=\"\",$I1605=\"NSO\"),\"\",VLOOKUP($A1600,'Result Entry'!$B$9:$EQ$108,47,0))","v":0},0,{"$f":"IF(OR(C1618=\"\",$I1605=\"NSO\"),\"\",VLOOKUP($A1600,'Result Entry'!$B$9:$EQ$108,51,0))","v":0},0,null,{"$f":"IF(OR(C1618=\"\",$I1605=\"NSO\"),\"\",VLOOKUP($A1600,'Result Entry'!$B$9:$EQ$108,54,0))","v":""}]
[null,"◐","Max. Marks",null,{"$f":"'Result Entry'!$BS$7","v":10},{"$f":"'Result Entry'!$BT$7","v":10},{"$f":"'Result Entry'!$BU$7","v":10},{"$f":"'Result Entry'!$BZ$7","v":70},{"$f":"SUM(E1619:H1619)","v":100},{"$f":"'Result Entry'!$CD$7","v":100},200,null,"A+/A/B/C/D"]
[null,"◐",{"$f":"'Result Entry'!$BS$3","v":"Sanskrit/Urdu"},null,{"$f":"IF(OR(C1620=\"\",$I1605=\"NSO\"),\"\",VLOOKUP($A1600,'Result Entry'!$B$9:$EQ$108,70,0))","v":0},{"$f":"IF(OR(C1620=\"\",$I1605=\"NSO\"),\"\",VLOOKUP($A1600,'Result Entry'!$B$9:$EQ$108,71,0))","v":0},{"$f":"IF(OR(C1620=\"\",$I1605=\"NSO\"),\"\",VLOOKUP($A1600,'Result Entry'!$B$9:$EQ$108,72,0))","v":0},{"$f":"IF(OR(C1620=\"\",$I1605=\"NSO\"),\"\",VLOOKUP($A1600,'Result Entry'!$B$9:$EQ$108,77,0))","v":0},{"$f":"SUM(E1620:H1620)","v":0},{"$f":"IF(OR(C1620=\"\",$I1605=\"NSO\"),\"\",VLOOKUP($A1600,'Result Entry'!$B$9:$EQ$108,81,0))","v":0},0,null,{"$f":"IF(OR(C1620=\"\",$I1605=\"NSO\"),\"\",VLOOKUP($A1600,'Result Entry'!$B$9:$EQ$108,84,0))","v":""}]
[null,"◐"]
[null,"◐","Overall Result",null,null,"Total Max. Marks",null,"Total Obtained Marks",null,"Percentage","Overall Grade","Result","Position in Class"]
[null,"◐",{"$nulls":3},{"$f":"IF(OR($I1605=\"\",$I1605=\"NSO\"),\"\",VLOOKUP($A1600,'Result Entry'!$B$9:$EQ$108,120,0))","v":900},null,{"$f":"IF(OR($I1605=\"\",$I1605=\"NSO\"),\"\",VLOOKUP($A1600,'Result Entry'!$B$9:$EQ$108,121,0))","v":0},null,{"$f":"IF(OR($I1605=\"\",$I1605=\"NSO\"),\"\",VLOOKUP($A1600,'Result Entry'!$B$9:$EQ$108,122,0))","v":{"v":0,"d":"0.00"}},{"$f":"IF(OR($I1605=\"\",$I1605=\"NSO\"),\"\",VLOOKUP($A1600,'Result Entry'!$B$9:$EQ$108,123,0))","v":""},{"$f":"IF(OR($I1605=\"\",$I1605=\"NSO\"),\"\",VLOOKUP($A1600,'Result Entry'!$B$9:$EQ$108,124,0))","v":""},{"$f":"IF(OR($I1605=\"\",$I1605=\"NSO\"),\"\",VLOOKUP($A1600,'Result Entry'!$B$9:$EQ$108,126,0))","v":""}]
[null,"◐",{"$nulls":6},"Total Meetings :-",null,{"$f":"IF(OR($I1605=\"\",$I1605=\"NSO\"),\"\",VLOOKUP($A1600,'Result Entry'!$B$9:$EQ$108,117,0))","v":0},"Attedance %"]
[null,"◐","Extra Subjects",{"$nulls":5},"Student's Meetings :-",null,{"$f":"IF(OR($I1605=\"\",$I1605=\"NSO\"),\"\",VLOOKUP($A1600,'Result Entry'!$B$9:$EQ$108,118,0))","v":0},{"$f":"IF(OR($I1605=\"\",$I1605=\"NSO\"),\"\",VLOOKUP($A1600,'Result Entry'!$B$9:$EQ$108,119,0))","v":""}]
[null,"◐","Subject",null,null,"Total Marks",null,"GRADE","Remark :-",null,{"$f":"IF(OR($I1605=\"\",$I1605=\"NSO\"),\"\",VLOOKUP($A1600,'Result Entry'!$B$9:$EQ$108,127,0))","v":0}]
[null,"◐",{"$f":"'Result Entry'!$CH$3","v":"WORK EXP."},null,null,{"$f":"IF(OR(C1627=\"\",$I1605=\"NSO\"),\"\",VLOOKUP($A1600,'Result Entry'!$B$9:$EQ$108,138,0))","v":"0/100"},null,{"$f":"IF(OR(C1627=\"\",$I1605=\"NSO\"),\"\",VLOOKUP($A1600,'Result Entry'!$B$9:$EQ$108,92,0))","v":""},"Result Date :-",null,{"$f":"'Result Entry'!$U$2","v":"2024-05-07"}]
[null,"◐",{"$f":"'Result Entry'!$CP$3","v":"ART EDU."},null,null,{"$f":"IF(OR(C1628=\"\",$I1605=\"NSO\"),\"\",VLOOKUP($A1600,'Result Entry'!$B$9:$EQ$108,142,0))","v":"0/100"},null,{"$f":"IF(OR(C1628=\"\",$I1605=\"NSO\"),\"\",VLOOKUP($A1600,'Result Entry'!$B$9:$EQ$108,100,0))","v":""}]
[null,null,{"$f":"'Result Entry'!$CX$3","v":"H&P. EDU."},null,null,{"$f":"IF(OR(C1629=\"\",$I1605=\"NSO\"),\"\",VLOOKUP($A1600,'Result Entry'!$B$9:$EQ$108,146,0))","v":"0/0"},null,{"$f":"IF(OR(C1629=\"\",$I1605=\"NSO\"),\"\",VLOOKUP($A1600,'Result Entry'!$B$9:$EQ$108,108,0))","v":""}]
[null,"◐",{"$f":"'Result Entry'!$DF$3","v":0},null,null,{"$f":"IF(OR(C1630=\"\",$I1605=\"NSO\"),\"\",VLOOKUP($A1600,'Result Entry'!$B$9:$EQ$108,131,0))","v":0},null,{"$f":"IF(OR(C1630=\"\",$I1605=\"NSO\"),\"\",VLOOKUP($A1600,'Result Entry'!$B$9:$EQ$108,97,0))","v":0},"Signature Of The Class Teacher"]
[null,"◐","Grading System"]
[null,"◐","Grd.","% Range",null,"Description"]
[null,"◐","A","86-100",null,"Excellent",null,null,"Signature And Seal Of Principal/H.M."]
[null,"◐","B","71-85",null,"Very Good"]
[null,"◐","C","51-70",null,"Good"]
[null,"◐","D","31-50",null,"Average"]
[null,"◐","E","0-30",null,"Needs Improvement",null,null,"Wish bright future"]
[]
[{"$f":"A1600+1","v":43},"Department Of Education, Rajasthan"]
[null,{"$f":"IF(I1644>0,CONCATENATE(C1644,I1644),0)","v":0},null,{"$f":"Master!$E$8","v":"Govt.Sr.Sec.Sch."}]
[{"$nulls":3},{"$f":"Master!$E$11","v":"P.S.-Bapini (Jodhpur)"}]
[null,null,"Report Card",{"$nulls":6},"U-DISE Code:-",null,{"$f":"Master!$E$14","v":{"v":810000000,"d":"0810000000"}}]
[{"$nulls":9},"Session:-",null,{"$f":"Master!$E$6","v":"2023-24"}]
[null,null,"Roll No.:-",{"$nulls":5},{"$f":"VLOOKUP($A1639,'Result Entry'!$B$9:$F$108,5,0)","v":0}]
[null,"◐","Scholar Number",{"$nulls":3},"↠",{"$f":"VLOOKUP($A1639,'Result Entry'!$B$9:$EQ$108,3,0)","v":0}]
[null,"◐","Student's Name",{"$nulls":3},"↠",{"$f":"VLOOKUP($A1639,'Result Entry'!$B$9:$EQ$108,6,0)","v":0}]
[null,"◐","Father's Name",{"$nulls":3},"↠",{"$f":"VLOOKUP($A1639,'Result Entry'!$B$9:$EQ$108,7,0)","v":0}]
[null,"◐","Mother's Name ",{"$nulls":3},"↠",{"$f":"VLOOKUP($A1639,'Result Entry'!$B$9:$EQ$108,8,0)","v":0}]
[null,"◐","Class & Section",{"$nulls":3},"↠",{"$f":"CONCATENATE('Result Entry'!$F$4,'Result Entry'!$I$4)","v":"2(A)"}]
[null,"◐","Date Of Birth",{"$nulls":3},"↠",{"$f":"VLOOKUP($A1639,'Result Entry'!$B$9:$EQ$108,9,0)","v":"00:00:00"}]
[null,"◐","Subject",null,{"$f":"'Result Entry'!$K$6","v":"First Test"},{"$f":"'Result Entry'!$L$6","v":"Second Test"},{"$f":"'Result Entry'!$M$6","v":"Third Test"},"Half Yearly","Total (Test+H.Y.)","Yearly","Grand Total",null,"Subject Grade"]
[null,"◐","Max. Marks",null,{"$f":"'Result Entry'!$K$7","v":10},{"$f":"'Result Entry'!$L$7","v":10},{"$f":"'Result Entry'!$M$7","v":10},{"$f":"'Result Entry'!$R$7","v":70},{"$f":"SUM(E1652:H1652)","v":100},{"$f":"'Result Entry'!$V$7","v":100},{"$f":"I1652+J1652","v":200},null,"A+/A/B/C/D"]
[null,"◐",{"$f":"'Result Entry'!$K$3","v":"Hindi"},null,{"$f":"IF(OR(C1653=\"\",$I1644=\"NSO\"),\"\",VLOOKUP($A1639,'Result Entry'!$B$9:$EQ$108,10,0))","v":0},{"$f":"IF(OR(C1653=\"\",$I1644=\"NSO\"),\"\",VLOOKUP($A1639,'Result Entry'!$B$9:$EQ$108,11,0))","v":0},{"$f":"IF(OR(C1653=\"\",$I1644=\"NSO\"),\"\",VLOOKUP($A1639,'Result Entry'!$B$9:$EQ$108,12,0))","v":0},{"$f":"IF(OR(C1653=\"\",$I1644=\"NSO\"),\"\",VLOOKUP($A1639,'Result Entry'!$B$9:$EQ$108,17,0))","v":0},{"$f":"SUM(E1653:H1653)","v":0},{"$f":"IF(OR(C1653=\"\",$I1644=\"NSO\"),\"\",VLOOKUP($A1639,'Result Entry'!$B$9:$EQ$108,21,0))","v":0},{"$f":"SUM(I1653,J1653)","v":0},null,{"$f":"IF(OR(C1653=\"\",$I1644=\"NSO\"),\"\",VLOOKUP($A1639,'Result Entry'!$B$9:$EQ$108,24,0))","v":""}]
[null,"◐",{"$f":"'Result Entry'!$Z$3","v":"Mathematics"},null,{"$f":"IF(OR(C1654=\"\",$I1644=\"NSO\"),\"\",VLOOKUP($A1639,'Result Entry'!$B$9:$EQ$108,25,0))","v":0},{"$f":"IF(OR(C1654=\"\",$I1644=\"NSO\"),\"\",VLOOKUP($A1639,'Result Entry'!$B$9:$EQ$108,26,0))","v":0},{"$f":"IF(OR(C1654=\"\",$I1644=\"NSO\"),\"\",VLOOKUP($A1639,'Result Entry'!$B$9:$EQ$108,27,0))","v":0},{"$f":"IF(OR(C1654=\"\",$I1644=\"NSO\"),\"\",VLOOKUP($A1639,'Result Entry'!$B$9:$EQ$108,32,0))","v":0},0,{"$f":"IF(OR(C1654=\"\",$I1644=\"NSO\"),\"\",VLOOKUP($A1639,'Result Entry'!$B$9:$EQ$108,36,0))","v":0},{"$f":"SUM(I1654,J1654)","v":0},null,{"$f":"IF(OR(C1654=\"\",$I1644=\"NSO\"),\"\",VLOOKUP($A1639,'Result Entry'!$B$9:$EQ$108,39,0))","v":""}]
[null,"◐",{"$f":"'Result Entry'!$BD$3","v":"Env. Study"},null,{"$f":"IF(OR(C1655=\"\",$I1644=\"NSO\"),\"\",VLOOKUP($A1639,'Result Entry'!$B$9:$EQ$108,55,0))","v":0},{"$f":"IF(OR(C1655=\"\",$I1644=\"NSO\"),\"\",VLOOKUP($A1639,'Result Entry'!$B$9:$EQ$108,56,0))","v":0},{"$f":"IF(OR(C1655=\"\",$I1644=\"NSO\"),\"\",VLOOKUP($A1639,'Result Entry'!$B$9:$EQ$108,57,0))","v":0},{"$f":"IF(OR(C1653=\"\",$I1644=\"NSO\"),\"\",VLOOKUP($A1639,'Result Entry'!$B$9:$EQ$108,62,0))","v":0},0,{"$f":"IF(OR(C1654=\"\",$I1644=\"NSO\"),\"\",VLOOKUP($A1639,'Result Entry'!$B$9:$EQ$108,66,0))","v":0},0,null,{"$f":"IF(OR(C1654=\"\",$I1644=\"NSO\"),\"\",VLOOKUP($A1639,'Result Entry'!$B$9:$EQ$108,69,0))","v":""}]
[null,"◐","Max. Marks",null,{"$f":"'Result Entry'!$AO$7","v":5},{"$f":"'Result Entry'!$AP$7","v":5},{"$f":"'Result Entry'!$AQ$7","v":5},{"$f":"'Result Entry'!$AV$7","v":35},50,{"$f":"'Result Entry'!$AZ$7","v":50},100,null,"A+/A/B/C/D"]
[null,"◐",{"$f":"'Result Entry'!$AO$3","v":"English"},null,{"$f":"IF(OR(C1657=\"\",$I1644=\"NSO\"),\"\",VLOOKUP($A1639,'Result Entry'!$B$9:$EQ$108,40,0))","v":0},{"$f":"IF(OR(C1657=\"\",$I1644=\"NSO\"),\"\",VLOOKUP($A1639,'Result Entry'!$B$9:$EQ$108,41,0))","v":0},{"$f":"IF(OR(C1657=\"\",$I1644=\"NSO\"),\"\",VLOOKUP($A1639,'Result Entry'!$B$9:$EQ$108,42,0))","v":0},{"$f":"IF(OR(C1657=\"\",$I1644=\"NSO\"),\"\",VLOOKUP($A1639,'Result Entry'!$B$9:$EQ$108,47,0))","v":0},0,{"$f":"IF(OR(C1657=\"\",$I1644=\"NSO\"),\"\",VLOOKUP($A1639,'Result Entry'!$B$9:$EQ$108,51,0))","v":0},0,null,{"$f":"IF(OR(C1657=\"\",$I1644=\"NSO\"),\"\",VLOOKUP($A1639,'Result Entry'!$B$9:$EQ$108,54,0))","v":""}]
[null,"◐","Max. Marks",null,{"$f":"'Result Entry'!$BS$7","v":10},{"$f":"'Result Entry'!$BT$7","v":10},{"$f":"'Result Entry'!$BU$7","v":10},{"$f":"'Result Entry'!$BZ$7","v":70},{"$f":"SUM(E1658:H1658)","v":100},{"$f":"'Result Entry'!$CD$7","v":100},200,null,"A+/A/B/C/D"]
[null,"◐",{"$f":"'Result Entry'!$BS$3","v":"Sanskrit/Urdu"},null,{"$f":"IF(OR(C1659=\"\",$I1644=\"NSO\"),\"\",VLOOKUP($A1639,'Result Entry'!$B$9:$EQ$108,70,0))","v":0},{"$f":"IF(OR(C1659=\"\",$I1644=\"NSO\"),\"\",VLOOKUP($A1639,'Result Entry'!$B$9:$EQ$108,71,0))","v":0},{"$f":"IF(OR(C1659=\"\",$I1644=\"NSO\"),\"\",VLOOKUP($A1639,'Result Entry'!$B$9:$EQ$108,72,0))","v":0},{"$f":"IF(OR(C1659=\"\",$I1644=\"NSO\"),\"\",VLOOKUP($A1639,'Result Entry'!$B$9:$EQ$108,77,0))","v":0},{"$f":"SUM(E1659:H1659)","v":0},{"$f":"IF(OR(C1659=\"\",$I1644=\"NSO\"),\"\",VLOOKUP($A1639,'Result Entry'!$B$9:$EQ$108,81,0))","v":0},0,null,{"$f":"IF(OR(C1659=\"\",$I1644=\"NSO\"),\"\",VLOOKUP($A1639,'Result Entry'!$B$9:$EQ$108,84,0))","v":""}]
[null,"◐"]
[null,"◐","Overall Result",null,null,"Total Max. Marks",null,"Total Obtained Marks",null,"Percentage","Overall Grade","Result","Position in Class"]
[null,"◐",{"$nulls":3},{"$f":"IF(OR($I1644=\"\",$I1644=\"NSO\"),\"\",VLOOKUP($A1639,'Result Entry'!$B$9:$EQ$108,120,0))","v":900},null,{"$f":"IF(OR($I1644=\"\",$I1644=\"NSO\"),\"\",VLOOKUP($A1639,'Result Entry'!$B$9:$EQ$108,121,0))","v":0},null,{"$f":"IF(OR($I1644=\"\",$I1644=\"NSO\"),\"\",VLOOKUP($A1639,'Result Entry'!$B$9:$EQ$108,122,0))","v":{"v":0,"d":"0.00"}},{"$f":"IF(OR($I1644=\"\",$I1644=\"NSO\"),\"\",VLOOKUP($A1639,'Result Entry'!$B$9:$EQ$108,123,0))","v":""},{"$f":"IF(OR($I1644=\"\",$I1644=\"NSO\"),\"\",VLOOKUP($A1639,'Result Entry'!$B$9:$EQ$108,124,0))","v":""},{"$f":"IF(OR($I1644=\"\",$I1644=\"NSO\"),\"\",VLOOKUP($A1639,'Result Entry'!$B$9:$EQ$108,126,0))","v":""}]
[null,"◐",{"$nulls":6},"Total Meetings :-",null,{"$f":"IF(OR($I1644=\"\",$I1644=\"NSO\"),\"\",VLOOKUP($A1639,'Result Entry'!$B$9:$EQ$108,117,0))","v":0},"Attedance %"]
[null,"◐","Extra Subjects",{"$nulls":5},"Student's Meetings :-",null,{"$f":"IF(OR($I1644=\"\",$I1644=\"NSO\"),\"\",VLOOKUP($A1639,'Result Entry'!$B$9:$EQ$108,118,0))","v":0},{"$f":"IF(OR($I1644=\"\",$I1644=\"NSO\"),\"\",VLOOKUP($A1639,'Result Entry'!$B$9:$EQ$108,119,0))","v":""}]
[null,"◐","Subject",null,null,"Total Marks",null,"GRADE","Remark :-",null,{"$f":"IF(OR($I1644=\"\",$I1644=\"NSO\"),\"\",VLOOKUP($A1639,'Result Entry'!$B$9:$EQ$108,127,0))","v":0}]
[null,"◐",{"$f":"'Result Entry'!$CH$3","v":"WORK EXP."},null,null,{"$f":"IF(OR(C1666=\"\",$I1644=\"NSO\"),\"\",VLOOKUP($A1639,'Result Entry'!$B$9:$EQ$108,138,0))","v":"0/100"},null,{"$f":"IF(OR(C1666=\"\",$I1644=\"NSO\"),\"\",VLOOKUP($A1639,'Result Entry'!$B$9:$EQ$108,92,0))","v":""},"Result Date :-",null,{"$f":"'Result Entry'!$U$2","v":"2024-05-07"}]
[null,"◐",{"$f":"'Result Entry'!$CP$3","v":"ART EDU."},null,null,{"$f":"IF(OR(C1667=\"\",$I1644=\"NSO\"),\"\",VLOOKUP($A1639,'Result Entry'!$B$9:$EQ$108,142,0))","v":"0/100"},null,{"$f":"IF(OR(C1667=\"\",$I1644=\"NSO\"),\"\",VLOOKUP($A1639,'Result Entry'!$B$9:$EQ$108,100,0))","v":""}]
[null,null,{"$f":"'Result Entry'!$CX$3","v":"H&P. EDU."},null,null,{"$f":"IF(OR(C1668=\"\",$I1644=\"NSO\"),\"\",VLOOKUP($A1639,'Result Entry'!$B$9:$EQ$108,146,0))","v":"0/0"},null,{"$f":"IF(OR(C1668=\"\",$I1644=\"NSO\"),\"\",VLOOKUP($A1639,'Result Entry'!$B$9:$EQ$108,108,0))","v":""}]
[null,"◐",{"$f":"'Result Entry'!$DF$3","v":0},null,null,{"$f":"IF(OR(C1669=\"\",$I1644=\"NSO\"),\"\",VLOOKUP($A1639,'Result Entry'!$B$9:$EQ$108,131,0))","v":0},null,{"$f":"IF(OR(C1669=\"\",$I1644=\"NSO\"),\"\",VLOOKUP($A1639,'Result Entry'!$B$9:$EQ$108,97,0))","v":0},"Signature Of The Class Teacher"]
[null,"◐","Grading System"]
[null,"◐","Grd.","% Range",null,"Description"]
[null,"◐","A","86-100",null,"Excellent",null,null,"Signature And Seal Of Principal/H.M."]
[null,"◐","B","71-85",null,"Very Good"]
[null,"◐","C","51-70",null,"Good"]
[null,"◐","D","31-50",null,"Average"]
[null,"◐","E","0-30",null,"Needs Improvement",null,null,"Wish bright future"]
[]
[{"$f":"A1639+1","v":44},"Department Of Education, Rajasthan"]
[null,{"$f":"IF(I1683>0,CONCATENATE(C1683,I1683),0)","v":0},null,{"$f":"Master!$E$8","v":"Govt.Sr.Sec.Sch."}]
[{"$nulls":3},{"$f":"Master!$E$11","v":"P.S.-Bapini (Jodhpur)"}]
[null,null,"Report Card",{"$nulls":6},"U-DISE Code:-",null,{"$f":"Master!$E$14","v":{"v":810000000,"d":"0810000000"}}]
[{"$nulls":9},"Session:-",null,{"$f":"Master!$E$6","v":"2023-24"}]
[null,null,"Roll No.:-",{"$nulls":5},{"$f":"VLOOKUP($A1678,'Result Entry'!$B$9:$F$108,5,0)","v":0}]
[null,"◐","Scholar Number",{"$nulls":3},"↠",{"$f":"VLOOKUP($A1678,'Result Entry'!$B$9:$EQ$108,3,0)","v":0}]
[null,"◐","Student's Name",{"$nulls":3},"↠",{"$f":"VLOOKUP($A1678,'Result Entry'!$B$9:$EQ$108,6,0)","v":0}]
[null,"◐","Father's Name",{"$nulls":3},"↠",{"$f":"VLOOKUP($A1678,'Result Entry'!$B$9:$EQ$108,7,0)","v":0}]
[null,"◐","Mother's Name ",{"$nulls":3},"↠",{"$f":"VLOOKUP($A1678,'Result Entry'!$B$9:$EQ$108,8,0)","v":0}]
[null,"◐","Class & Section",{"$nulls":3},"↠",{"$f":"CONCATENATE('Result Entry'!$F$4,'Result Entry'!$I$4)","v":"2(A)"}]
[null,"◐","Date Of Birth",{"$nulls":3},"↠",{"$f":"VLOOKUP($A1678,'Result Entry'!$B$9:$EQ$108,9,0)","v":"00:00:00"}]
[null,"◐","Subject",null,{"$f":"'Result Entry'!$K$6","v":"First Test"},{"$f":"'Result Entry'!$L$6","v":"Second Test"},{"$f":"'Result Entry'!$M$6","v":"Third Test"},"Half Yearly","Total (Test+H.Y.)","Yearly","Grand Total",null,"Subject Grade"]
[null,"◐","Max. Marks",null,{"$f":"'Result Entry'!$K$7","v":10},{"$f":"'Result Entry'!$L$7","v":10},{"$f":"'Result Entry'!$M$7","v":10},{"$f":"'Result Entry'!$R$7","v":70},{"$f":"SUM(E1691:H1691)","v":100},{"$f":"'Result Entry'!$V$7","v":100},{"$f":"I1691+J1691","v":200},null,"A+/A/B/C/D"]
[null,"◐",{"$f":"'Result Entry'!$K$3","v":"Hindi"},null,{"$f":"IF(OR(C1692=\"\",$I1683=\"NSO\"),\"\",VLOOKUP($A1678,'Result Entry'!$B$9:$EQ$108,10,0))","v":0},{"$f":"IF(OR(C1692=\"\",$I1683=\"NSO\"),\"\",VLOOKUP($A1678,'Result Entry'!$B$9:$EQ$108,11,0))","v":0},{"$f":"IF(OR(C1692=\"\",$I1683=\"NSO\"),\"\",VLOOKUP($A1678,'Result Entry'!$B$9:$EQ$108,12,0))","v":0},{"$f":"IF(OR(C1692=\"\",$I1683=\"NSO\"),\"\",VLOOKUP($A1678,'Result Entry'!$B$9:$EQ$108,17,0))","v":0},{"$f":"SUM(E1692:H1692)","v":0},{"$f":"IF(OR(C1692=\"\",$I1683=\"NSO\"),\"\",VLOOKUP($A1678,'Result Entry'!$B$9:$EQ$108,21,0))","v":0},{"$f":"SUM(I1692,J1692)","v":0},null,{"$f":"IF(OR(C1692=\"\",$I1683=\"NSO\"),\"\",VLOOKUP($A1678,'Result Entry'!$B$9:$EQ$108,24,0))","v":""}]
[null,"◐",{"$f":"'Result Entry'!$Z$3","v":"Mathematics"},null,{"$f":"IF(OR(C1693=\"\",$I1683=\"NSO\"),\"\",VLOOKUP($A1678,'Result Entry'!$B$9:$EQ$108,25,0))","v":0},{"$f":"IF(OR(C1693=\"\",$I1683=\"NSO\"),\"\",VLOOKUP($A1678,'Result Entry'!$B$9:$EQ$108,26,0))","v":0},{"$f":"IF(OR(C1693=\"\",$I1683=\"NSO\"),\"\",VLOOKUP($A1678,'Result Entry'!$B$9:$EQ$108,27,0))","v":0},{"$f":"IF(OR(C1693=\"\",$I1683=\"NSO\"),\"\",VLOOKUP($A1678,'Result Entry'!$B$9:$EQ$108,32,0))","v":0},0,{"$f":"IF(OR(C1693=\"\",$I1683=\"NSO\"),\"\",VLOOKUP($A1678,'Result Entry'!$B$9:$EQ$108,36,0))","v":0},{"$f":"SUM(I1693,J1693)","v":0},null,{"$f":"IF(OR(C1693=\"\",$I1683=\"NSO\"),\"\",VLOOKUP($A1678,'Result Entry'!$B$9:$EQ$108,39,0))","v":""}]
[null,"◐",{"$f":"'Result Entry'!$BD$3","v":"Env. Study"},null,{"$f":"IF(OR(C1694=\"\",$I1683=\"NSO\"),\"\",VLOOKUP($A1678,'Result Entry'!$B$9:$EQ$108,55,0))","v":0},{"$f":"IF(OR(C1694=\"\",$I1683=\"NSO\"),\"\",VLOOKUP($A1678,'Result Entry'!$B$9:$EQ$108,56,0))","v":0},{"$f":"IF(OR(C1694=\"\",$I1683=\"NSO\"),\"\",VLOOKUP($A1678,'Result Entry'!$B$9:$EQ$108,57,0))","v":0},{"$f":"IF(OR(C1692=\"\",$I1683=\"NSO\"),\"\",VLOOKUP($A1678,'Result Entry'!$B$9:$EQ$108,62,0))","v":0},0,{"$f":"IF(OR(C1693=\"\",$I1683=\"NSO\"),\"\",VLOOKUP($A1678,'Result Entry'!$B$9:$EQ$108,66,0))","v":0},0,null,{"$f":"IF(OR(C1693=\"\",$I1683=\"NSO\"),\"\",VLOOKUP($A1678,'Result Entry'!$B$9:$EQ$108,69,0))","v":""}]
[null,"◐","Max. Marks",null,{"$f":"'Result Entry'!$AO$7","v":5},{"$f":"'Result Entry'!$AP$7","v":5},{"$f":"'Result Entry'!$AQ$7","v":5},{"$f":"'Result Entry'!$AV$7","v":35},50,{"$f":"'Result Entry'!$AZ$7","v":50},100,null,"A+/A/B/C/D"]
[null,"◐",{"$f":"'Result Entry'!$AO$3","v":"English"},null,{"$f":"IF(OR(C1696=\"\",$I1683=\"NSO\"),\"\",VLOOKUP($A1678,'Result Entry'!$B$9:$EQ$108,40,0))","v":0},{"$f":"IF(OR(C1696=\"\",$I1683=\"NSO\"),\"\",VLOOKUP($A1678,'Result Entry'!$B$9:$EQ$108,41,0))","v":0},{"$f":"IF(OR(C1696=\"\",$I1683=\"NSO\"),\"\",VLOOKUP($A1678,'Result Entry'!$B$9:$EQ$108,42,0))","v":0},{"$f":"IF(OR(C1696=\"\",$I1683=\"NSO\"),\"\",VLOOKUP($A1678,'Result Entry'!$B$9:$EQ$108,47,0))","v":0},0,{"$f":"IF(OR(C1696=\"\",$I1683=\"NSO\"),\"\",VLOOKUP($A1678,'Result Entry'!$B$9:$EQ$108,51,0))","v":0},0,null,{"$f":"IF(OR(C1696=\"\",$I1683=\"NSO\"),\"\",VLOOKUP($A1678,'Result Entry'!$B$9:$EQ$108,54,0))","v":""}]
[null,"◐","Max. Marks",null,{"$f":"'Result Entry'!$BS$7","v":10},{"$f":"'Result Entry'!$BT$7","v":10},{"$f":"'Result Entry'!$BU$7","v":10},{"$f":"'Result Entry'!$BZ$7","v":70},{"$f":"SUM(E1697:H1697)","v":100},{"$f":"'Result Entry'!$CD$7","v":100},200,null,"A+/A/B/C/D"]
[null,"◐",{"$f":"'Result Entry'!$BS$3","v":"Sanskrit/Urdu"},null,{"$f":"IF(OR(C1698=\"\",$I1683=\"NSO\"),\"\",VLOOKUP($A1678,'Result Entry'!$B$9:$EQ$108,70,0))","v":0},{"$f":"IF(OR(C1698=\"\",$I1683=\"NSO\"),\"\",VLOOKUP($A1678,'Result Entry'!$B$9:$EQ$108,71,0))","v":0},{"$f":"IF(OR(C1698=\"\",$I1683=\"NSO\"),\"\",VLOOKUP($A1678,'Result Entry'!$B$9:$EQ$108,72,0))","v":0},{"$f":"IF(OR(C1698=\"\",$I1683=\"NSO\"),\"\",VLOOKUP($A1678,'Result Entry'!$B$9:$EQ$108,77,0))","v":0},{"$f":"SUM(E1698:H1698)","v":0},{"$f":"IF(OR(C1698=\"\",$I1683=\"NSO\"),\"\",VLOOKUP($A1678,'Result Entry'!$B$9:$EQ$108,81,0))","v":0},0,null,{"$f":"IF(OR(C1698=\"\",$I1683=\"NSO\"),\"\",VLOOKUP($A1678,'Result Entry'!$B$9:$EQ$108,84,0))","v":""}]
[null,"◐"]
[null,"◐","Overall Result",null,null,"Total Max. Marks",null,"Total Obtained Marks",null,"Percentage","Overall Grade","Result","Position in Class"]
[null,"◐",{"$nulls":3},{"$f":"IF(OR($I1683=\"\",$I1683=\"NSO\"),\"\",VLOOKUP($A1678,'Result Entry'!$B$9:$EQ$108,120,0))","v":900},null,{"$f":"IF(OR($I1683=\"\",$I1683=\"NSO\"),\"\",VLOOKUP($A1678,'Result Entry'!$B$9:$EQ$108,121,0))","v":0},null,{"$f":"IF(OR($I1683=\"\",$I1683=\"NSO\"),\"\",VLOOKUP($A1678,'Result Entry'!$B$9:$EQ$108,122,0))","v":{"v":0,"d":"0.00"}},{"$f":"IF(OR($I1683=\"\",$I1683=\"NSO\"),\"\",VLOOKUP($A1678,'Result Entry'!$B$9:$EQ$108,123,0))","v":""},{"$f":"IF(OR($I1683=\"\",$I1683=\"NSO\"),\"\",VLOOKUP($A1678,'Result Entry'!$B$9:$EQ$108,124,0))","v":""},{"$f":"IF(OR($I1683=\"\",$I1683=\"NSO\"),\"\",VLOOKUP($A1678,'Result Entry'!$B$9:$EQ$108,126,0))","v":""}]
[null,"◐",{"$nulls":6},"Total Meetings :-",null,{"$f":"IF(OR($I1683=\"\",$I1683=\"NSO\"),\"\",VLOOKUP($A1678,'Result Entry'!$B$9:$EQ$108,117,0))","v":0},"Attedance %"]
[null,"◐","Extra Subjects",{"$nulls":5},"Student's Meetings :-",null,{"$f":"IF(OR($I1683=\"\",$I1683=\"NSO\"),\"\",VLOOKUP($A1678,'Result Entry'!$B$9:$EQ$108,118,0))","v":0},{"$f":"IF(OR($I1683=\"\",$I1683=\"NSO\"),\"\",VLOOKUP($A1678,'Result Entry'!$B$9:$EQ$108,119,0))","v":""}]
[null,"◐","Subject",null,null,"Total Marks",null,"GRADE","Remark :-",null,{"$f":"IF(OR($I1683=\"\",$I1683=\"NSO\"),\"\",VLOOKUP($A1678,'Result Entry'!$B$9:$EQ$108,127,0))","v":0}]
[null,"◐",{"$f":"'Result Entry'!$CH$3","v":"WORK EXP."},null,null,{"$f":"IF(OR(C1705=\"\",$I1683=\"NSO\"),\"\",VLOOKUP($A1678,'Result Entry'!$B$9:$EQ$108,138,0))","v":"0/100"},null,{"$f":"IF(OR(C1705=\"\",$I1683=\"NSO\"),\"\",VLOOKUP($A1678,'Result Entry'!$B$9:$EQ$108,92,0))","v":""},"Result Date :-",null,{"$f":"'Result Entry'!$U$2","v":"2024-05-07"}]
[null,"◐",{"$f":"'Result Entry'!$CP$3","v":"ART EDU."},null,null,{"$f":"IF(OR(C1706=\"\",$I1683=\"NSO\"),\"\",VLOOKUP($A1678,'Result Entry'!$B$9:$EQ$108,142,0))","v":"0/100"},null,{"$f":"IF(OR(C1706=\"\",$I1683=\"NSO\"),\"\",VLOOKUP($A1678,'Result Entry'!$B$9:$EQ$108,100,0))","v":""}]
[null,null,{"$f":"'Result Entry'!$CX$3","v":"H&P. EDU."},null,null,{"$f":"IF(OR(C1707=\"\",$I1683=\"NSO\"),\"\",VLOOKUP($A1678,'Result Entry'!$B$9:$EQ$108,146,0))","v":"0/0"},null,{"$f":"IF(OR(C1707=\"\",$I1683=\"NSO\"),\"\",VLOOKUP($A1678,'Result Entry'!$B$9:$EQ$108,108,0))","v":""}]
[null,"◐",{"$f":"'Result Entry'!$DF$3","v":0},null,null,{"$f":"IF(OR(C1708=\"\",$I1683=\"NSO\"),\"\",VLOOKUP($A1678,'Result Entry'!$B$9:$EQ$108,131,0))","v":0},null,{"$f":"IF(OR(C1708=\"\",$I1683=\"NSO\"),\"\",VLOOKUP($A1678,'Result Entry'!$B$9:$EQ$108,97,0))","v":0},"Signature Of The Class Teacher"]
[null,"◐","Grading System"]
[null,"◐","Grd.","% Range",null,"Description"]
[null,"◐","A","86-100",null,"Excellent",null,null,"Signature And Seal Of Principal/H.M."]
[null,"◐","B","71-85",null,"Very Good"]
[null,"◐","C","51-70",null,"Good"]
[null,"◐","D","31-50",null,"Average"]
[null,"◐","E","0-30",null,"Needs Improvement",null,null,"Wish bright future"]
[]
[{"$f":"A1678+1","v":45},"Department Of Education, Rajasthan"]
[null,{"$f":"IF(I1722>0,CONCATENATE(C1722,I1722),0)","v":0},null,{"$f":"Master!$E$8","v":"Govt.Sr.Sec.Sch."}]
[{"$nulls":3},{"$f":"Master!$E$11","v":"P.S.-Bapini (Jodhpur)"}]
[null,null,"Report Card",{"$nulls":6},"U-DISE Code:-",null,{"$f":"Master!$E$14","v":{"v":810000000,"d":"0810000000"}}]
[{"$nulls":9},"Session:-",null,{"$f":"Master!$E$6","v":"2023-24"}]
[null,null,"Roll No.:-",{"$nulls":5},{"$f":"VLOOKUP($A1717,'Result Entry'!$B$9:$F$108,5,0)","v":0}]
[null,"◐","Scholar Number",{"$nulls":3},"↠",{"$f":"VLOOKUP($A1717,'Result Entry'!$B$9:$EQ$108,3,0)","v":0}]
[null,"◐","Student's Name",{"$nulls":3},"↠",{"$f":"VLOOKUP($A1717,'Result Entry'!$B$9:$EQ$108,6,0)","v":0}]
[null,"◐","Father's Name",{"$nulls":3},"↠",{"$f":"VLOOKUP($A1717,'Result Entry'!$B$9:$EQ$108,7,0)","v":0}]
[null,"◐","Mother's Name ",{"$nulls":3},"↠",{"$f":"VLOOKUP($A1717,'Result Entry'!$B$9:$EQ$108,8,0)","v":0}]
[null,"◐","Class & Section",{"$nulls":3},"↠",{"$f":"CONCATENATE('Result Entry'!$F$4,'Result Entry'!$I$4)","v":"2(A)"}]
[null,"◐","Date Of Birth",{"$nulls":3},"↠",{"$f":"VLOOKUP($A1717,'Result Entry'!$B$9:$EQ$108,9,0)","v":"00:00:00"}]
[null,"◐","Subject",null,{"$f":"'Result Entry'!$K$6","v":"First Test"},{"$f":"'Result Entry'!$L$6","v":"Second Test"},{"$f":"'Result Entry'!$M$6","v":"Third Test"},"Half Yearly","Total (Test+H.Y.)","Yearly","Grand Total",null,"Subject Grade"]
[null,"◐","Max. Marks",null,{"$f":"'Result Entry'!$K$7","v":10},{"$f":"'Result Entry'!$L$7","v":10},{"$f":"'Result Entry'!$M$7","v":10},{"$f":"'Result Entry'!$R$7","v":70},{"$f":"SUM(E1730:H1730)","v":100},{"$f":"'Result Entry'!$V$7","v":100},{"$f":"I1730+J1730","v":200},null,"A+/A/B/C/D"]
[null,"◐",{"$f":"'Result Entry'!$K$3","v":"Hindi"},null,{"$f":"IF(OR(C1731=\"\",$I1722=\"NSO\"),\"\",VLOOKUP($A1717,'Result Entry'!$B$9:$EQ$108,10,0))","v":0},{"$f":"IF(OR(C1731=\"\",$I1722=\"NSO\"),\"\",VLOOKUP($A1717,'Result Entry'!$B$9:$EQ$108,11,0))","v":0},{"$f":"IF(OR(C1731=\"\",$I1722=\"NSO\"),\"\",VLOOKUP($A1717,'Result Entry'!$B$9:$EQ$108,12,0))","v":0},{"$f":"IF(OR(C1731=\"\",$I1722=\"NSO\"),\"\",VLOOKUP($A1717,'Result Entry'!$B$9:$EQ$108,17,0))","v":0},{"$f":"SUM(E1731:H1731)","v":0},{"$f":"IF(OR(C1731=\"\",$I1722=\"NSO\"),\"\",VLOOKUP($A1717,'Result Entry'!$B$9:$EQ$108,21,0))","v":0},{"$f":"SUM(I1731,J1731)","v":0},null,{"$f":"IF(OR(C1731=\"\",$I1722=\"NSO\"),\"\",VLOOKUP($A1717,'Result Entry'!$B$9:$EQ$108,24,0))","v":""}]
[null,"◐",{"$f":"'Result Entry'!$Z$3","v":"Mathematics"},null,{"$f":"IF(OR(C1732=\"\",$I1722=\"NSO\"),\"\",VLOOKUP($A1717,'Result Entry'!$B$9:$EQ$108,25,0))","v":0},{"$f":"IF(OR(C1732=\"\",$I1722=\"NSO\"),\"\",VLOOKUP($A1717,'Result Entry'!$B$9:$EQ$108,26,0))","v":0},{"$f":"IF(OR(C1732=\"\",$I1722=\"NSO\"),\"\",VLOOKUP($A1717,'Result Entry'!$B$9:$EQ$108,27,0))","v":0},{"$f":"IF(OR(C1732=\"\",$I1722=\"NSO\"),\"\",VLOOKUP($A1717,'Result Entry'!$B$9:$EQ$108,32,0))","v":0},0,{"$f":"IF(OR(C1732=\"\",$I1722=\"NSO\"),\"\",VLOOKUP($A1717,'Result Entry'!$B$9:$EQ$108,36,0))","v":0},{"$f":"SUM(I1732,J1732)","v":0},null,{"$f":"IF(OR(C1732=\"\",$I1722=\"NSO\"),\"\",VLOOKUP($A1717,'Result Entry'!$B$9:$EQ$108,39,0))","v":""}]
[null,"◐",{"$f":"'Result Entry'!$BD$3","v":"Env. Study"},null,{"$f":"IF(OR(C1733=\"\",$I1722=\"NSO\"),\"\",VLOOKUP($A1717,'Result Entry'!$B$9:$EQ$108,55,0))","v":0},{"$f":"IF(OR(C1733=\"\",$I1722=\"NSO\"),\"\",VLOOKUP($A1717,'Result Entry'!$B$9:$EQ$108,56,0))","v":0},{"$f":"IF(OR(C1733=\"\",$I1722=\"NSO\"),\"\",VLOOKUP($A1717,'Result Entry'!$B$9:$EQ$108,57,0))","v":0},{"$f":"IF(OR(C1731=\"\",$I1722=\"NSO\"),\"\",VLOOKUP($A1717,'Result Entry'!$B$9:$EQ$108,62,0))","v":0},0,{"$f":"IF(OR(C1732=\"\",$I1722=\"NSO\"),\"\",VLOOKUP($A1717,'Result Entry'!$B$9:$EQ$108,66,0))","v":0},0,null,{"$f":"IF(OR(C1732=\"\",$I1722=\"NSO\"),\"\",VLOOKUP($A1717,'Result Entry'!$B$9:$EQ$108,69,0))","v":""}]
[null,"◐","Max. Marks",null,{"$f":"'Result Entry'!$AO$7","v":5},{"$f":"'Result Entry'!$AP$7","v":5},{"$f":"'Result Entry'!$AQ$7","v":5},{"$f":"'Result Entry'!$AV$7","v":35},50,{"$f":"'Result Entry'!$AZ$7","v":50},100,null,"A+/A/B/C/D"]
[null,"◐",{"$f":"'Result Entry'!$AO$3","v":"English"},null,{"$f":"IF(OR(C1735=\"\",$I1722=\"NSO\"),\"\",VLOOKUP($A1717,'Result Entry'!$B$9:$EQ$108,40,0))","v":0},{"$f":"IF(OR(C1735=\"\",$I1722=\"NSO\"),\"\",VLOOKUP($A1717,'Result Entry'!$B$9:$EQ$108,41,0))","v":0},{"$f":"IF(OR(C1735=\"\",$I1722=\"NSO\"),\"\",VLOOKUP($A1717,'Result Entry'!$B$9:$EQ$108,42,0))","v":0},{"$f":"IF(OR(C1735=\"\",$I1722=\"NSO\"),\"\",VLOOKUP($A1717,'Result Entry'!$B$9:$EQ$108,47,0))","v":0},0,{"$f":"IF(OR(C1735=\"\",$I1722=\"NSO\"),\"\",VLOOKUP($A1717,'Result Entry'!$B$9:$EQ$108,51,0))","v":0},0,null,{"$f":"IF(OR(C1735=\"\",$I1722=\"NSO\"),\"\",VLOOKUP($A1717,'Result Entry'!$B$9:$EQ$108,54,0))","v":""}]
[null,"◐","Max. Marks",null,{"$f":"'Result Entry'!$BS$7","v":10},{"$f":"'Result Entry'!$BT$7","v":10},{"$f":"'Result Entry'!$BU$7","v":10},{"$f":"'Result Entry'!$BZ$7","v":70},{"$f":"SUM(E1736:H1736)","v":100},{"$f":"'Result Entry'!$CD$7","v":100},200,null,"A+/A/B/C/D"]
[null,"◐",{"$f":"'Result Entry'!$BS$3","v":"Sanskrit/Urdu"},null,{"$f":"IF(OR(C1737=\"\",$I1722=\"NSO\"),\"\",VLOOKUP($A1717,'Result Entry'!$B$9:$EQ$108,70,0))","v":0},{"$f":"IF(OR(C1737=\"\",$I1722=\"NSO\"),\"\",VLOOKUP($A1717,'Result Entry'!$B$9:$EQ$108,71,0))","v":0},{"$f":"IF(OR(C1737=\"\",$I1722=\"NSO\"),\"\",VLOOKUP($A1717,'Result Entry'!$B$9:$EQ$108,72,0))","v":0},{"$f":"IF(OR(C1737=\"\",$I1722=\"NSO\"),\"\",VLOOKUP($A1717,'Result Entry'!$B$9:$EQ$108,77,0))","v":0},{"$f":"SUM(E1737:H1737)","v":0},{"$f":"IF(OR(C1737=\"\",$I1722=\"NSO\"),\"\",VLOOKUP($A1717,'Result Entry'!$B$9:$EQ$108,81,0))","v":0},0,null,{"$f":"IF(OR(C1737=\"\",$I1722=\"NSO\"),\"\",VLOOKUP($A1717,'Result Entry'!$B$9:$EQ$108,84,0))","v":""}]
[null,"◐"]
[null,"◐","Overall Result",null,null,"Total Max. Marks",null,"Total Obtained Marks",null,"Percentage","Overall Grade","Result","Position in Class"]
[null,"◐",{"$nulls":3},{"$f":"IF(OR($I1722=\"\",$I1722=\"NSO\"),\"\",VLOOKUP($A1717,'Result Entry'!$B$9:$EQ$108,120,0))","v":900},null,{"$f":"IF(OR($I1722=\"\",$I1722=\"NSO\"),\"\",VLOOKUP($A1717,'Result Entry'!$B$9:$EQ$108,121,0))","v":0},null,{"$f":"IF(OR($I1722=\"\",$I1722=\"NSO\"),\"\",VLOOKUP($A1717,'Result Entry'!$B$9:$EQ$108,122,0))","v":{"v":0,"d":"0.00"}},{"$f":"IF(OR($I1722=\"\",$I1722=\"NSO\"),\"\",VLOOKUP($A1717,'Result Entry'!$B$9:$EQ$108,123,0))","v":""},{"$f":"IF(OR($I1722=\"\",$I1722=\"NSO\"),\"\",VLOOKUP($A1717,'Result Entry'!$B$9:$EQ$108,124,0))","v":""},{"$f":"IF(OR($I1722=\"\",$I1722=\"NSO\"),\"\",VLOOKUP($A1717,'Result Entry'!$B$9:$EQ$108,126,0))","v":""}]
[null,"◐",{"$nulls":6},"Total Meetings :-",null,{"$f":"IF(OR($I1722=\"\",$I1722=\"NSO\"),\"\",VLOOKUP($A1717,'Result Entry'!$B$9:$EQ$108,117,0))","v":0},"Attedance %"]
[null,"◐","Extra Subjects",{"$nulls":5},"Student's Meetings :-",null,{"$f":"IF(OR($I1722=\"\",$I1722=\"NSO\"),\"\",VLOOKUP($A1717,'Result Entry'!$B$9:$EQ$108,118,0))","v":0},{"$f":"IF(OR($I1722=\"\",$I1722=\"NSO\"),\"\",VLOOKUP($A1717,'Result Entry'!$B$9:$EQ$108,119,0))","v":""}]
[null,"◐","Subject",null,null,"Total Marks",null,"GRADE","Remark :-",null,{"$f":"IF(OR($I1722=\"\",$I1722=\"NSO\"),\"\",VLOOKUP($A1717,'Result Entry'!$B$9:$EQ$108,127,0))","v":0}]
[null,"◐",{"$f":"'Result Entry'!$CH$3","v":"WORK EXP."},null,null,{"$f":"IF(OR(C1744=\"\",$I1722=\"NSO\"),\"\",VLOOKUP($A1717,'Result Entry'!$B$9:$EQ$108,138,0))","v":"0/100"},null,{"$f":"IF(OR(C1744=\"\",$I1722=\"NSO\"),\"\",VLOOKUP($A1717,'Result Entry'!$B$9:$EQ$108,92,0))","v":""},"Result Date :-",null,{"$f":"'Result Entry'!$U$2","v":"2024-05-07"}]
[null,"◐",{"$f":"'Result Entry'!$CP$3","v":"ART EDU."},null,null,{"$f":"IF(OR(C1745=\"\",$I1722=\"NSO\"),\"\",VLOOKUP($A1717,'Result Entry'!$B$9:$EQ$108,142,0))","v":"0/100"},null,{"$f":"IF(OR(C1745=\"\",$I1722=\"NSO\"),\"\",VLOOKUP($A1717,'Result Entry'!$B$9:$EQ$108,100,0))","v":""}]
[null,null,{"$f":"'Result Entry'!$CX$3","v":"H&P. EDU."},null,null,{"$f":"IF(OR(C1746=\"\",$I1722=\"NSO\"),\"\",VLOOKUP($A1717,'Result Entry'!$B$9:$EQ$108,146,0))","v":"0/0"},null,{"$f":"IF(OR(C1746=\"\",$I1722=\"NSO\"),\"\",VLOOKUP($A1717,'Result Entry'!$B$9:$EQ$108,108,0))","v":""}]
[null,"◐",{"$f":"'Result Entry'!$DF$3","v":0},null,null,{"$f":"IF(OR(C1747=\"\",$I1722=\"NSO\"),\"\",VLOOKUP($A1717,'Result Entry'!$B$9:$EQ$108,131,0))","v":0},null,{"$f":"IF(OR(C1747=\"\",$I1722=\"NSO\"),\"\",VLOOKUP($A1717,'Result Entry'!$B$9:$EQ$108,97,0))","v":0},"Signature Of The Class Teacher"]
[null,"◐","Grading System"]
[null,"◐","Grd.","% Range",null,"Description"]
[null,"◐","A","86-100",null,"Excellent",null,null,"Signature And Seal Of Principal/H.M."]
[null,"◐","B","71-85",null,"Very Good"]
[null,"◐","C","51-70",null,"Good"]
[null,"◐","D","31-50",null,"Average"]
[null,"◐","E","0-30",null,"Needs Improvement",null,null,"Wish bright future"]
[]
[{"$f":"A1717+1","v":46},"Department Of Education, Rajasthan"]
[null,{"$f":"IF(I1761>0,CONCATENATE(C1761,I1761),0)","v":0},null,{"$f":"Master!$E$8","v":"Govt.Sr.Sec.Sch."}]
[{"$nulls":3},{"$f":"Master!$E$11","v":"P.S.-Bapini (Jodhpur)"}]
[null,null,"Report Card",{"$nulls":6},"U-DISE Code:-",null,{"$f":"Master!$E$14","v":{"v":810000000,"d":"0810000000"}}]
[{"$nulls":9},"Session:-",null,{"$f":"Master!$E$6","v":"2023-24"}]
[null,null,"Roll No.:-",{"$nulls":5},{"$f":"VLOOKUP($A1756,'Result Entry'!$B$9:$F$108,5,0)","v":0}]
[null,"◐","Scholar Number",{"$nulls":3},"↠",{"$f":"VLOOKUP($A1756,'Result Entry'!$B$9:$EQ$108,3,0)","v":0}]
[null,"◐","Student's Name",{"$nulls":3},"↠",{"$f":"VLOOKUP($A1756,'Result Entry'!$B$9:$EQ$108,6,0)","v":0}]
[null,"◐","Father's Name",{"$nulls":3},"↠",{"$f":"VLOOKUP($A1756,'Result Entry'!$B$9:$EQ$108,7,0)","v":0}]
[null,"◐","Mother's Name ",{"$nulls":3},"↠",{"$f":"VLOOKUP($A1756,'Result Entry'!$B$9:$EQ$108,8,0)","v":0}]
[null,"◐","Class & Section",{"$nulls":3},"↠",{"$f":"CONCATENATE('Result Entry'!$F$4,'Result Entry'!$I$4)","v":"2(A)"}]
[null,"◐","Date Of Birth",{"$nulls":3},"↠",{"$f":"VLOOKUP($A1756,'Result Entry'!$B$9:$EQ$108,9,0)","v":"00:00:00"}]
[null,"◐","Subject",null,{"$f":"'Result Entry'!$K$6","v":"First Test"},{"$f":"'Result Entry'!$L$6","v":"Second Test"},{"$f":"'Result Entry'!$M$6","v":"Third Test"},"Half Yearly","Total (Test+H.Y.)","Yearly","Grand Total",null,"Subject Grade"]
[null,"◐","Max. Marks",null,{"$f":"'Result Entry'!$K$7","v":10},{"$f":"'Result Entry'!$L$7","v":10},{"$f":"'Result Entry'!$M$7","v":10},{"$f":"'Result Entry'!$R$7","v":70},{"$f":"SUM(E1769:H1769)","v":100},{"$f":"'Result Entry'!$V$7","v":100},{"$f":"I1769+J1769","v":200},null,"A+/A/B/C/D"]
[null,"◐",{"$f":"'Result Entry'!$K$3","v":"Hindi"},null,{"$f":"IF(OR(C1770=\"\",$I1761=\"NSO\"),\"\",VLOOKUP($A1756,'Result Entry'!$B$9:$EQ$108,10,0))","v":0},{"$f":"IF(OR(C1770=\"\",$I1761=\"NSO\"),\"\",VLOOKUP($A1756,'Result Entry'!$B$9:$EQ$108,11,0))","v":0},{"$f":"IF(OR(C1770=\"\",$I1761=\"NSO\"),\"\",VLOOKUP($A1756,'Result Entry'!$B$9:$EQ$108,12,0))","v":0},{"$f":"IF(OR(C1770=\"\",$I1761=\"NSO\"),\"\",VLOOKUP($A1756,'Result Entry'!$B$9:$EQ$108,17,0))","v":0},{"$f":"SUM(E1770:H1770)","v":0},{"$f":"IF(OR(C1770=\"\",$I1761=\"NSO\"),\"\",VLOOKUP($A1756,'Result Entry'!$B$9:$EQ$108,21,0))","v":0},{"$f":"SUM(I1770,J1770)","v":0},null,{"$f":"IF(OR(C1770=\"\",$I1761=\"NSO\"),\"\",VLOOKUP($A1756,'Result Entry'!$B$9:$EQ$108,24,0))","v":""}]
[null,"◐",{"$f":"'Result Entry'!$Z$3","v":"Mathematics"},null,{"$f":"IF(OR(C1771=\"\",$I1761=\"NSO\"),\"\",VLOOKUP($A1756,'Result Entry'!$B$9:$EQ$108,25,0))","v":0},{"$f":"IF(OR(C1771=\"\",$I1761=\"NSO\"),\"\",VLOOKUP($A1756,'Result Entry'!$B$9:$EQ$108,26,0))","v":0},{"$f":"IF(OR(C1771=\"\",$I1761=\"NSO\"),\"\",VLOOKUP($A1756,'Result Entry'!$B$9:$EQ$108,27,0))","v":0},{"$f":"IF(OR(C1771=\"\",$I1761=\"NSO\"),\"\",VLOOKUP($A1756,'Result Entry'!$B$9:$EQ$108,32,0))","v":0},0,{"$f":"IF(OR(C1771=\"\",$I1761=\"NSO\"),\"\",VLOOKUP($A1756,'Result Entry'!$B$9:$EQ$108,36,0))","v":0},{"$f":"SUM(I1771,J1771)","v":0},null,{"$f":"IF(OR(C1771=\"\",$I1761=\"NSO\"),\"\",VLOOKUP($A1756,'Result Entry'!$B$9:$EQ$108,39,0))","v":""}]
[null,"◐",{"$f":"'Result Entry'!$BD$3","v":"Env. Study"},null,{"$f":"IF(OR(C1772=\"\",$I1761=\"NSO\"),\"\",VLOOKUP($A1756,'Result Entry'!$B$9:$EQ$108,55,0))","v":0},{"$f":"IF(OR(C1772=\"\",$I1761=\"NSO\"),\"\",VLOOKUP($A1756,'Result Entry'!$B$9:$EQ$108,56,0))","v":0},{"$f":"IF(OR(C1772=\"\",$I1761=\"NSO\"),\"\",VLOOKUP($A1756,'Result Entry'!$B$9:$EQ$108,57,0))","v":0},{"$f":"IF(OR(C1770=\"\",$I1761=\"NSO\"),\"\",VLOOKUP($A1756,'Result Entry'!$B$9:$EQ$108,62,0))","v":0},0,{"$f":"IF(OR(C1771=\"\",$I1761=\"NSO\"),\"\",VLOOKUP($A1756,'Result Entry'!$B$9:$EQ$108,66,0))","v":0},0,null,{"$f":"IF(OR(C1771=\"\",$I1761=\"NSO\"),\"\",VLOOKUP($A1756,'Result Entry'!$B$9:$EQ$108,69,0))","v":""}]
[null,"◐","Max. Marks",null,{"$f":"'Result Entry'!$AO$7","v":5},{"$f":"'Result Entry'!$AP$7","v":5},{"$f":"'Result Entry'!$AQ$7","v":5},{"$f":"'Result Entry'!$AV$7","v":35},50,{"$f":"'Result Entry'!$AZ$7","v":50},100,null,"A+/A/B/C/D"]
[null,"◐",{"$f":"'Result Entry'!$AO$3","v":"English"},null,{"$f":"IF(OR(C1774=\"\",$I1761=\"NSO\"),\"\",VLOOKUP($A1756,'Result Entry'!$B$9:$EQ$108,40,0))","v":0},{"$f":"IF(OR(C1774=\"\",$I1761=\"NSO\"),\"\",VLOOKUP($A1756,'Result Entry'!$B$9:$EQ$108,41,0))","v":0},{"$f":"IF(OR(C1774=\"\",$I1761=\"NSO\"),\"\",VLOOKUP($A1756,'Result Entry'!$B$9:$EQ$108,42,0))","v":0},{"$f":"IF(OR(C1774=\"\",$I1761=\"NSO\"),\"\",VLOOKUP($A1756,'Result Entry'!$B$9:$EQ$108,47,0))","v":0},0,{"$f":"IF(OR(C1774=\"\",$I1761=\"NSO\"),\"\",VLOOKUP($A1756,'Result Entry'!$B$9:$EQ$108,51,0))","v":0},0,null,{"$f":"IF(OR(C1774=\"\",$I1761=\"NSO\"),\"\",VLOOKUP($A1756,'Result Entry'!$B$9:$EQ$108,54,0))","v":""}]
[null,"◐","Max. Marks",null,{"$f":"'Result Entry'!$BS$7","v":10},{"$f":"'Result Entry'!$BT$7","v":10},{"$f":"'Result Entry'!$BU$7","v":10},{"$f":"'Result Entry'!$BZ$7","v":70},{"$f":"SUM(E1775:H1775)","v":100},{"$f":"'Result Entry'!$CD$7","v":100},200,null,"A+/A/B/C/D"]
[null,"◐",{"$f":"'Result Entry'!$BS$3","v":"Sanskrit/Urdu"},null,{"$f":"IF(OR(C1776=\"\",$I1761=\"NSO\"),\"\",VLOOKUP($A1756,'Result Entry'!$B$9:$EQ$108,70,0))","v":0},{"$f":"IF(OR(C1776=\"\",$I1761=\"NSO\"),\"\",VLOOKUP($A1756,'Result Entry'!$B$9:$EQ$108,71,0))","v":0},{"$f":"IF(OR(C1776=\"\",$I1761=\"NSO\"),\"\",VLOOKUP($A1756,'Result Entry'!$B$9:$EQ$108,72,0))","v":0},{"$f":"IF(OR(C1776=\"\",$I1761=\"NSO\"),\"\",VLOOKUP($A1756,'Result Entry'!$B$9:$EQ$108,77,0))","v":0},{"$f":"SUM(E1776:H1776)","v":0},{"$f":"IF(OR(C1776=\"\",$I1761=\"NSO\"),\"\",VLOOKUP($A1756,'Result Entry'!$B$9:$EQ$108,81,0))","v":0},0,null,{"$f":"IF(OR(C1776=\"\",$I1761=\"NSO\"),\"\",VLOOKUP($A1756,'Result Entry'!$B$9:$EQ$108,84,0))","v":""}]
[null,"◐"]
[null,"◐","Overall Result",null,null,"Total Max. Marks",null,"Total Obtained Marks",null,"Percentage","Overall Grade","Result","Position in Class"]
[null,"◐",{"$nulls":3},{"$f":"IF(OR($I1761=\"\",$I1761=\"NSO\"),\"\",VLOOKUP($A1756,'Result Entry'!$B$9:$EQ$108,120,0))","v":900},null,{"$f":"IF(OR($I1761=\"\",$I1761=\"NSO\"),\"\",VLOOKUP($A1756,'Result Entry'!$B$9:$EQ$108,121,0))","v":0},null,{"$f":"IF(OR($I1761=\"\",$I1761=\"NSO\"),\"\",VLOOKUP($A1756,'Result Entry'!$B$9:$EQ$108,122,0))","v":{"v":0,"d":"0.00"}},{"$f":"IF(OR($I1761=\"\",$I1761=\"NSO\"),\"\",VLOOKUP($A1756,'Result Entry'!$B$9:$EQ$108,123,0))","v":""},{"$f":"IF(OR($I1761=\"\",$I1761=\"NSO\"),\"\",VLOOKUP($A1756,'Result Entry'!$B$9:$EQ$108,124,0))","v":""},{"$f":"IF(OR($I1761=\"\",$I1761=\"NSO\"),\"\",VLOOKUP($A1756,'Result Entry'!$B$9:$EQ$108,126,0))","v":""}]
[null,"◐",{"$nulls":6},"Total Meetings :-",null,{"$f":"IF(OR($I1761=\"\",$I1761=\"NSO\"),\"\",VLOOKUP($A1756,'Result Entry'!$B$9:$EQ$108,117,0))","v":0},"Attedance %"]
[null,"◐","Extra Subjects",{"$nulls":5},"Student's Meetings :-",null,{"$f":"IF(OR($I1761=\"\",$I1761=\"NSO\"),\"\",VLOOKUP($A1756,'Result Entry'!$B$9:$EQ$108,118,0))","v":0},{"$f":"IF(OR($I1761=\"\",$I1761=\"NSO\"),\"\",VLOOKUP($A1756,'Result Entry'!$B$9:$EQ$108,119,0))","v":""}]
[null,"◐","Subject",null,null,"Total Marks",null,"GRADE","Remark :-",null,{"$f":"IF(OR($I1761=\"\",$I1761=\"NSO\"),\"\",VLOOKUP($A1756,'Result Entry'!$B$9:$EQ$108,127,0))","v":0}]
[null,"◐",{"$f":"'Result Entry'!$CH$3","v":"WORK EXP."},null,null,{"$f":"IF(OR(C1783=\"\",$I1761=\"NSO\"),\"\",VLOOKUP($A1756,'Result Entry'!$B$9:$EQ$108,138,0))","v":"0/100"},null,{"$f":"IF(OR(C1783=\"\",$I1761=\"NSO\"),\"\",VLOOKUP($A1756,'Result Entry'!$B$9:$EQ$108,92,0))","v":""},"Result Date :-",null,{"$f":"'Result Entry'!$U$2","v":"2024-05-07"}]
[null,"◐",{"$f":"'Result Entry'!$CP$3","v":"ART EDU."},null,null,{"$f":"IF(OR(C1784=\"\",$I1761=\"NSO\"),\"\",VLOOKUP($A1756,'Result Entry'!$B$9:$EQ$108,142,0))","v":"0/100"},null,{"$f":"IF(OR(C1784=\"\",$I1761=\"NSO\"),\"\",VLOOKUP($A1756,'Result Entry'!$B$9:$EQ$108,100,0))","v":""}]
[null,null,{"$f":"'Result Entry'!$CX$3","v":"H&P. EDU."},null,null,{"$f":"IF(OR(C1785=\"\",$I1761=\"NSO\"),\"\",VLOOKUP($A1756,'Result Entry'!$B$9:$EQ$108,146,0))","v":"0/0"},null,{"$f":"IF(OR(C1785=\"\",$I1761=\"NSO\"),\"\",VLOOKUP($A1756,'Result Entry'!$B$9:$EQ$108,108,0))","v":""}]
[null,"◐",{"$f":"'Result Entry'!$DF$3","v":0},null,null,{"$f":"IF(OR(C1786=\"\",$I1761=\"NSO\"),\"\",VLOOKUP($A1756,'Result Entry'!$B$9:$EQ$108,131,0))","v":0},null,{"$f":"IF(OR(C1786=\"\",$I1761=\"NSO\"),\"\",VLOOKUP($A1756,'Result Entry'!$B$9:$EQ$108,97,0))","v":0},"Signature Of The Class Teacher"]
[null,"◐","Grading System"]
[null,"◐","Grd.","% Range",null,"Description"]
[null,"◐","A","86-100",null,"Excellent",null,null,"Signature And Seal Of Principal/H.M."]
[null,"◐","B","71-85",null,"Very Good"]
[null,"◐","C","51-70",null,"Good"]
[null,"◐","D","31-50",null,"Average"]
[null,"◐","E","0-30",null,"Needs Improvement",null,null,"Wish bright future"]
[]
[{"$f":"A1756+1","v":47},"Department Of Education, Rajasthan"]
[null,{"$f":"IF(I1800>0,CONCATENATE(C1800,I1800),0)","v":0},null,{"$f":"Master!$E$8","v":"Govt.Sr.Sec.Sch."}]
[{"$nulls":3},{"$f":"Master!$E$11","v":"P.S.-Bapini (Jodhpur)"}]
[null,null,"Report Card",{"$nulls":6},"U-DISE Code:-",null,{"$f":"Master!$E$14","v":{"v":810000000,"d":"0810000000"}}]
[{"$nulls":9},"Session:-",null,{"$f":"Master!$E$6","v":"2023-24"}]
[null,null,"Roll No.:-",{"$nulls":5},{"$f":"VLOOKUP($A1795,'Result Entry'!$B$9:$F$108,5,0)","v":0}]
[null,"◐","Scholar Number",{"$nulls":3},"↠",{"$f":"VLOOKUP($A1795,'Result Entry'!$B$9:$EQ$108,3,0)","v":0}]
[null,"◐","Student's Name",{"$nulls":3},"↠",{"$f":"VLOOKUP($A1795,'Result Entry'!$B$9:$EQ$108,6,0)","v":0}]
[null,"◐","Father's Name",{"$nulls":3},"↠",{"$f":"VLOOKUP($A1795,'Result Entry'!$B$9:$EQ$108,7,0)","v":0}]
[null,"◐","Mother's Name ",{"$nulls":3},"↠",{"$f":"VLOOKUP($A1795,'Result Entry'!$B$9:$EQ$108,8,0)","v":0}]
[null,"◐","Class & Section",{"$nulls":3},"↠",{"$f":"CONCATENATE('Result Entry'!$F$4,'Result Entry'!$I$4)","v":"2(A)"}]
[null,"◐","Date Of Birth",{"$nulls":3},"↠",{"$f":"VLOOKUP($A1795,'Result Entry'!$B$9:$EQ$108,9,0)","v":"00:00:00"}]
[null,"◐","Subject",null,{"$f":"'Result Entry'!$K$6","v":"First Test"},{"$f":"'Result Entry'!$L$6","v":"Second Test"},{"$f":"'Result Entry'!$M$6","v":"Third Test"},"Half Yearly","Total (Test+H.Y.)","Yearly","Grand Total",null,"Subject Grade"]
[null,"◐","Max. Marks",null,{"$f":"'Result Entry'!$K$7","v":10},{"$f":"'Result Entry'!$L$7","v":10},{"$f":"'Result Entry'!$M$7","v":10},{"$f":"'Result Entry'!$R$7","v":70},{"$f":"SUM(E1808:H1808)","v":100},{"$f":"'Result Entry'!$V$7","v":100},{"$f":"I1808+J1808","v":200},null,"A+/A/B/C/D"]
[null,"◐",{"$f":"'Result Entry'!$K$3","v":"Hindi"},null,{"$f":"IF(OR(C1809=\"\",$I1800=\"NSO\"),\"\",VLOOKUP($A1795,'Result Entry'!$B$9:$EQ$108,10,0))","v":0},{"$f":"IF(OR(C1809=\"\",$I1800=\"NSO\"),\"\",VLOOKUP($A1795,'Result Entry'!$B$9:$EQ$108,11,0))","v":0},{"$f":"IF(OR(C1809=\"\",$I1800=\"NSO\"),\"\",VLOOKUP($A1795,'Result Entry'!$B$9:$EQ$108,12,0))","v":0},{"$f":"IF(OR(C1809=\"\",$I1800=\"NSO\"),\"\",VLOOKUP($A1795,'Result Entry'!$B$9:$EQ$108,17,0))","v":0},{"$f":"SUM(E1809:H1809)","v":0},{"$f":"IF(OR(C1809=\"\",$I1800=\"NSO\"),\"\",VLOOKUP($A1795,'Result Entry'!$B$9:$EQ$108,21,0))","v":0},{"$f":"SUM(I1809,J1809)","v":0},null,{"$f":"IF(OR(C1809=\"\",$I1800=\"NSO\"),\"\",VLOOKUP($A1795,'Result Entry'!$B$9:$EQ$108,24,0))","v":""}]
[null,"◐",{"$f":"'Result Entry'!$Z$3","v":"Mathematics"},null,{"$f":"IF(OR(C1810=\"\",$I1800=\"NSO\"),\"\",VLOOKUP($A1795,'Result Entry'!$B$9:$EQ$108,25,0))","v":0},{"$f":"IF(OR(C1810=\"\",$I1800=\"NSO\"),\"\",VLOOKUP($A1795,'Result Entry'!$B$9:$EQ$108,26,0))","v":0},{"$f":"IF(OR(C1810=\"\",$I1800=\"NSO\"),\"\",VLOOKUP($A1795,'Result Entry'!$B$9:$EQ$108,27,0))","v":0},{"$f":"IF(OR(C1810=\"\",$I1800=\"NSO\"),\"\",VLOOKUP($A1795,'Result Entry'!$B$9:$EQ$108,32,0))","v":0},0,{"$f":"IF(OR(C1810=\"\",$I1800=\"NSO\"),\"\",VLOOKUP($A1795,'Result Entry'!$B$9:$EQ$108,36,0))","v":0},{"$f":"SUM(I1810,J1810)","v":0},null,{"$f":"IF(OR(C1810=\"\",$I1800=\"NSO\"),\"\",VLOOKUP($A1795,'Result Entry'!$B$9:$EQ$108,39,0))","v":""}]
[null,"◐",{"$f":"'Result Entry'!$BD$3","v":"Env. Study"},null,{"$f":"IF(OR(C1811=\"\",$I1800=\"NSO\"),\"\",VLOOKUP($A1795,'Result Entry'!$B$9:$EQ$108,55,0))","v":0},{"$f":"IF(OR(C1811=\"\",$I1800=\"NSO\"),\"\",VLOOKUP($A1795,'Result Entry'!$B$9:$EQ$108,56,0))","v":0},{"$f":"IF(OR(C1811=\"\",$I1800=\"NSO\"),\"\",VLOOKUP($A1795,'Result Entry'!$B$9:$EQ$108,57,0))","v":0},{"$f":"IF(OR(C1809=\"\",$I1800=\"NSO\"),\"\",VLOOKUP($A1795,'Result Entry'!$B$9:$EQ$108,62,0))","v":0},0,{"$f":"IF(OR(C1810=\"\",$I1800=\"NSO\"),\"\",VLOOKUP($A1795,'Result Entry'!$B$9:$EQ$108,66,0))","v":0},0,null,{"$f":"IF(OR(C1810=\"\",$I1800=\"NSO\"),\"\",VLOOKUP($A1795,'Result Entry'!$B$9:$EQ$108,69,0))","v":""}]
[null,"◐","Max. Marks",null,{"$f":"'Result Entry'!$AO$7","v":5},{"$f":"'Result Entry'!$AP$7","v":5},{"$f":"'Result Entry'!$AQ$7","v":5},{"$f":"'Result Entry'!$AV$7","v":35},50,{"$f":"'Result Entry'!$AZ$7","v":50},100,null,"A+/A/B/C/D"]
[null,"◐",{"$f":"'Result Entry'!$AO$3","v":"English"},null,{"$f":"IF(OR(C1813=\"\",$I1800=\"NSO\"),\"\",VLOOKUP($A1795,'Result Entry'!$B$9:$EQ$108,40,0))","v":0},{"$f":"IF(OR(C1813=\"\",$I1800=\"NSO\"),\"\",VLOOKUP($A1795,'Result Entry'!$B$9:$EQ$108,41,0))","v":0},{"$f":"IF(OR(C1813=\"\",$I1800=\"NSO\"),\"\",VLOOKUP($A1795,'Result Entry'!$B$9:$EQ$108,42,0))","v":0},{"$f":"IF(OR(C1813=\"\",$I1800=\"NSO\"),\"\",VLOOKUP($A1795,'Result Entry'!$B$9:$EQ$108,47,0))","v":0},0,{"$f":"IF(OR(C1813=\"\",$I1800=\"NSO\"),\"\",VLOOKUP($A1795,'Result Entry'!$B$9:$EQ$108,51,0))","v":0},0,null,{"$f":"IF(OR(C1813=\"\",$I1800=\"NSO\"),\"\",VLOOKUP($A1795,'Result Entry'!$B$9:$EQ$108,54,0))","v":""}]
[null,"◐","Max. Marks",null,{"$f":"'Result Entry'!$BS$7","v":10},{"$f":"'Result Entry'!$BT$7","v":10},{"$f":"'Result Entry'!$BU$7","v":10},{"$f":"'Result Entry'!$BZ$7","v":70},{"$f":"SUM(E1814:H1814)","v":100},{"$f":"'Result Entry'!$CD$7","v":100},200,null,"A+/A/B/C/D"]
[null,"◐",{"$f":"'Result Entry'!$BS$3","v":"Sanskrit/Urdu"},null,{"$f":"IF(OR(C1815=\"\",$I1800=\"NSO\"),\"\",VLOOKUP($A1795,'Result Entry'!$B$9:$EQ$108,70,0))","v":0},{"$f":"IF(OR(C1815=\"\",$I1800=\"NSO\"),\"\",VLOOKUP($A1795,'Result Entry'!$B$9:$EQ$108,71,0))","v":0},{"$f":"IF(OR(C1815=\"\",$I1800=\"NSO\"),\"\",VLOOKUP($A1795,'Result Entry'!$B$9:$EQ$108,72,0))","v":0},{"$f":"IF(OR(C1815=\"\",$I1800=\"NSO\"),\"\",VLOOKUP($A1795,'Result Entry'!$B$9:$EQ$108,77,0))","v":0},{"$f":"SUM(E1815:H1815)","v":0},{"$f":"IF(OR(C1815=\"\",$I1800=\"NSO\"),\"\",VLOOKUP($A1795,'Result Entry'!$B$9:$EQ$108,81,0))","v":0},0,null,{"$f":"IF(OR(C1815=\"\",$I1800=\"NSO\"),\"\",VLOOKUP($A1795,'Result Entry'!$B$9:$EQ$108,84,0))","v":""}]
[null,"◐"]
[null,"◐","Overall Result",null,null,"Total Max. Marks",null,"Total Obtained Marks",null,"Percentage","Overall Grade","Result","Position in Class"]
[null,"◐",{"$nulls":3},{"$f":"IF(OR($I1800=\"\",$I1800=\"NSO\"),\"\",VLOOKUP($A1795,'Result Entry'!$B$9:$EQ$108,120,0))","v":900},null,{"$f":"IF(OR($I1800=\"\",$I1800=\"NSO\"),\"\",VLOOKUP($A1795,'Result Entry'!$B$9:$EQ$108,121,0))","v":0},null,{"$f":"IF(OR($I1800=\"\",$I1800=\"NSO\"),\"\",VLOOKUP($A1795,'Result Entry'!$B$9:$EQ$108,122,0))","v":{"v":0,"d":"0.00"}},{"$f":"IF(OR($I1800=\"\",$I1800=\"NSO\"),\"\",VLOOKUP($A1795,'Result Entry'!$B$9:$EQ$108,123,0))","v":""},{"$f":"IF(OR($I1800=\"\",$I1800=\"NSO\"),\"\",VLOOKUP($A1795,'Result Entry'!$B$9:$EQ$108,124,0))","v":""},{"$f":"IF(OR($I1800=\"\",$I1800=\"NSO\"),\"\",VLOOKUP($A1795,'Result Entry'!$B$9:$EQ$108,126,0))","v":""}]
[null,"◐",{"$nulls":6},"Total Meetings :-",null,{"$f":"IF(OR($I1800=\"\",$I1800=\"NSO\"),\"\",VLOOKUP($A1795,'Result Entry'!$B$9:$EQ$108,117,0))","v":0},"Attedance %"]
[null,"◐","Extra Subjects",{"$nulls":5},"Student's Meetings :-",null,{"$f":"IF(OR($I1800=\"\",$I1800=\"NSO\"),\"\",VLOOKUP($A1795,'Result Entry'!$B$9:$EQ$108,118,0))","v":0},{"$f":"IF(OR($I1800=\"\",$I1800=\"NSO\"),\"\",VLOOKUP($A1795,'Result Entry'!$B$9:$EQ$108,119,0))","v":""}]
[null,"◐","Subject",null,null,"Total Marks",null,"GRADE","Remark :-",null,{"$f":"IF(OR($I1800=\"\",$I1800=\"NSO\"),\"\",VLOOKUP($A1795,'Result Entry'!$B$9:$EQ$108,127,0))","v":0}]
[null,"◐",{"$f":"'Result Entry'!$CH$3","v":"WORK EXP."},null,null,{"$f":"IF(OR(C1822=\"\",$I1800=\"NSO\"),\"\",VLOOKUP($A1795,'Result Entry'!$B$9:$EQ$108,138,0))","v":"0/100"},null,{"$f":"IF(OR(C1822=\"\",$I1800=\"NSO\"),\"\",VLOOKUP($A1795,'Result Entry'!$B$9:$EQ$108,92,0))","v":""},"Result Date :-",null,{"$f":"'Result Entry'!$U$2","v":"2024-05-07"}]
[null,"◐",{"$f":"'Result Entry'!$CP$3","v":"ART EDU."},null,null,{"$f":"IF(OR(C1823=\"\",$I1800=\"NSO\"),\"\",VLOOKUP($A1795,'Result Entry'!$B$9:$EQ$108,142,0))","v":"0/100"},null,{"$f":"IF(OR(C1823=\"\",$I1800=\"NSO\"),\"\",VLOOKUP($A1795,'Result Entry'!$B$9:$EQ$108,100,0))","v":""}]
[null,null,{"$f":"'Result Entry'!$CX$3","v":"H&P. EDU."},null,null,{"$f":"IF(OR(C1824=\"\",$I1800=\"NSO\"),\"\",VLOOKUP($A1795,'Result Entry'!$B$9:$EQ$108,146,0))","v":"0/0"},null,{"$f":"IF(OR(C1824=\"\",$I1800=\"NSO\"),\"\",VLOOKUP($A1795,'Result Entry'!$B$9:$EQ$108,108,0))","v":""}]
[null,"◐",{"$f":"'Result Entry'!$DF$3","v":0},null,null,{"$f":"IF(OR(C1825=\"\",$I1800=\"NSO\"),\"\",VLOOKUP($A1795,'Result Entry'!$B$9:$EQ$108,131,0))","v":0},null,{"$f":"IF(OR(C1825=\"\",$I1800=\"NSO\"),\"\",VLOOKUP($A1795,'Result Entry'!$B$9:$EQ$108,97,0))","v":0},"Signature Of The Class Teacher"]
[null,"◐","Grading System"]
[null,"◐","Grd.","% Range",null,"Description"]
[null,"◐","A","86-100",null,"Excellent",null,null,"Signature And Seal Of Principal/H.M."]
[null,"◐","B","71-85",null,"Very Good"]
[null,"◐","C","51-70",null,"Good"]
[null,"◐","D","31-50",null,"Average"]
[null,"◐","E","0-30",null,"Needs Improvement",null,null,"Wish bright future"]
[]
[{"$f":"A1795+1","v":48},"Department Of Education, Rajasthan"]
[null,{"$f":"IF(I1839>0,CONCATENATE(C1839,I1839),0)","v":0},null,{"$f":"Master!$E$8","v":"Govt.Sr.Sec.Sch."}]
[{"$nulls":3},{"$f":"Master!$E$11","v":"P.S.-Bapini (Jodhpur)"}]
[null,null,"Report Card",{"$nulls":6},"U-DISE Code:-",null,{"$f":"Master!$E$14","v":{"v":810000000,"d":"0810000000"}}]
[{"$nulls":9},"Session:-",null,{"$f":"Master!$E$6","v":"2023-24"}]
[null,null,"Roll No.:-",{"$nulls":5},{"$f":"VLOOKUP($A1834,'Result Entry'!$B$9:$F$108,5,0)","v":0}]
[null,"◐","Scholar Number",{"$nulls":3},"↠",{"$f":"VLOOKUP($A1834,'Result Entry'!$B$9:$EQ$108,3,0)","v":0}]
[null,"◐","Student's Name",{"$nulls":3},"↠",{"$f":"VLOOKUP($A1834,'Result Entry'!$B$9:$EQ$108,6,0)","v":0}]
[null,"◐","Father's Name",{"$nulls":3},"↠",{"$f":"VLOOKUP($A1834,'Result Entry'!$B$9:$EQ$108,7,0)","v":0}]
[null,"◐","Mother's Name ",{"$nulls":3},"↠",{"$f":"VLOOKUP($A1834,'Result Entry'!$B$9:$EQ$108,8,0)","v":0}]
[null,"◐","Class & Section",{"$nulls":3},"↠",{"$f":"CONCATENATE('Result Entry'!$F$4,'Result Entry'!$I$4)","v":"2(A)"}]
[null,"◐","Date Of Birth",{"$nulls":3},"↠",{"$f":"VLOOKUP($A1834,'Result Entry'!$B$9:$EQ$108,9,0)","v":"00:00:00"}]
[null,"◐","Subject",null,{"$f":"'Result Entry'!$K$6","v":"First Test"},{"$f":"'Result Entry'!$L$6","v":"Second Test"},{"$f":"'Result Entry'!$M$6","v":"Third Test"},"Half Yearly","Total (Test+H.Y.)","Yearly","Grand Total",null,"Subject Grade"]
[null,"◐","Max. Marks",null,{"$f":"'Result Entry'!$K$7","v":10},{"$f":"'Result Entry'!$L$7","v":10},{"$f":"'Result Entry'!$M$7","v":10},{"$f":"'Result Entry'!$R$7","v":70},{"$f":"SUM(E1847:H1847)","v":100},{"$f":"'Result Entry'!$V$7","v":100},{"$f":"I1847+J1847","v":200},null,"A+/A/B/C/D"]
[null,"◐",{"$f":"'Result Entry'!$K$3","v":"Hindi"},null,{"$f":"IF(OR(C1848=\"\",$I1839=\"NSO\"),\"\",VLOOKUP($A1834,'Result Entry'!$B$9:$EQ$108,10,0))","v":0},{"$f":"IF(OR(C1848=\"\",$I1839=\"NSO\"),\"\",VLOOKUP($A1834,'Result Entry'!$B$9:$EQ$108,11,0))","v":0},{"$f":"IF(OR(C1848=\"\",$I1839=\"NSO\"),\"\",VLOOKUP($A1834,'Result Entry'!$B$9:$EQ$108,12,0))","v":0},{"$f":"IF(OR(C1848=\"\",$I1839=\"NSO\"),\"\",VLOOKUP($A1834,'Result Entry'!$B$9:$EQ$108,17,0))","v":0},{"$f":"SUM(E1848:H1848)","v":0},{"$f":"IF(OR(C1848=\"\",$I1839=\"NSO\"),\"\",VLOOKUP($A1834,'Result Entry'!$B$9:$EQ$108,21,0))","v":0},{"$f":"SUM(I1848,J1848)","v":0},null,{"$f":"IF(OR(C1848=\"\",$I1839=\"NSO\"),\"\",VLOOKUP($A1834,'Result Entry'!$B$9:$EQ$108,24,0))","v":""}]
[null,"◐",{"$f":"'Result Entry'!$Z$3","v":"Mathematics"},null,{"$f":"IF(OR(C1849=\"\",$I1839=\"NSO\"),\"\",VLOOKUP($A1834,'Result Entry'!$B$9:$EQ$108,25,0))","v":0},{"$f":"IF(OR(C1849=\"\",$I1839=\"NSO\"),\"\",VLOOKUP($A1834,'Result Entry'!$B$9:$EQ$108,26,0))","v":0},{"$f":"IF(OR(C1849=\"\",$I1839=\"NSO\"),\"\",VLOOKUP($A1834,'Result Entry'!$B$9:$EQ$108,27,0))","v":0},{"$f":"IF(OR(C1849=\"\",$I1839=\"NSO\"),\"\",VLOOKUP($A1834,'Result Entry'!$B$9:$EQ$108,32,0))","v":0},0,{"$f":"IF(OR(C1849=\"\",$I1839=\"NSO\"),\"\",VLOOKUP($A1834,'Result Entry'!$B$9:$EQ$108,36,0))","v":0},{"$f":"SUM(I1849,J1849)","v":0},null,{"$f":"IF(OR(C1849=\"\",$I1839=\"NSO\"),\"\",VLOOKUP($A1834,'Result Entry'!$B$9:$EQ$108,39,0))","v":""}]
[null,"◐",{"$f":"'Result Entry'!$BD$3","v":"Env. Study"},null,{"$f":"IF(OR(C1850=\"\",$I1839=\"NSO\"),\"\",VLOOKUP($A1834,'Result Entry'!$B$9:$EQ$108,55,0))","v":0},{"$f":"IF(OR(C1850=\"\",$I1839=\"NSO\"),\"\",VLOOKUP($A1834,'Result Entry'!$B$9:$EQ$108,56,0))","v":0},{"$f":"IF(OR(C1850=\"\",$I1839=\"NSO\"),\"\",VLOOKUP($A1834,'Result Entry'!$B$9:$EQ$108,57,0))","v":0},{"$f":"IF(OR(C1848=\"\",$I1839=\"NSO\"),\"\",VLOOKUP($A1834,'Result Entry'!$B$9:$EQ$108,62,0))","v":0},0,{"$f":"IF(OR(C1849=\"\",$I1839=\"NSO\"),\"\",VLOOKUP($A1834,'Result Entry'!$B$9:$EQ$108,66,0))","v":0},0,null,{"$f":"IF(OR(C1849=\"\",$I1839=\"NSO\"),\"\",VLOOKUP($A1834,'Result Entry'!$B$9:$EQ$108,69,0))","v":""}]
[null,"◐","Max. Marks",null,{"$f":"'Result Entry'!$AO$7","v":5},{"$f":"'Result Entry'!$AP$7","v":5},{"$f":"'Result Entry'!$AQ$7","v":5},{"$f":"'Result Entry'!$AV$7","v":35},50,{"$f":"'Result Entry'!$AZ$7","v":50},100,null,"A+/A/B/C/D"]
[null,"◐",{"$f":"'Result Entry'!$AO$3","v":"English"},null,{"$f":"IF(OR(C1852=\"\",$I1839=\"NSO\"),\"\",VLOOKUP($A1834,'Result Entry'!$B$9:$EQ$108,40,0))","v":0},{"$f":"IF(OR(C1852=\"\",$I1839=\"NSO\"),\"\",VLOOKUP($A1834,'Result Entry'!$B$9:$EQ$108,41,0))","v":0},{"$f":"IF(OR(C1852=\"\",$I1839=\"NSO\"),\"\",VLOOKUP($A1834,'Result Entry'!$B$9:$EQ$108,42,0))","v":0},{"$f":"IF(OR(C1852=\"\",$I1839=\"NSO\"),\"\",VLOOKUP($A1834,'Result Entry'!$B$9:$EQ$108,47,0))","v":0},0,{"$f":"IF(OR(C1852=\"\",$I1839=\"NSO\"),\"\",VLOOKUP($A1834,'Result Entry'!$B$9:$EQ$108,51,0))","v":0},0,null,{"$f":"IF(OR(C1852=\"\",$I1839=\"NSO\"),\"\",VLOOKUP($A1834,'Result Entry'!$B$9:$EQ$108,54,0))","v":""}]
[null,"◐","Max. Marks",null,{"$f":"'Result Entry'!$BS$7","v":10},{"$f":"'Result Entry'!$BT$7","v":10},{"$f":"'Result Entry'!$BU$7","v":10},{"$f":"'Result Entry'!$BZ$7","v":70},{"$f":"SUM(E1853:H1853)","v":100},{"$f":"'Result Entry'!$CD$7","v":100},200,null,"A+/A/B/C/D"]
[null,"◐",{"$f":"'Result Entry'!$BS$3","v":"Sanskrit/Urdu"},null,{"$f":"IF(OR(C1854=\"\",$I1839=\"NSO\"),\"\",VLOOKUP($A1834,'Result Entry'!$B$9:$EQ$108,70,0))","v":0},{"$f":"IF(OR(C1854=\"\",$I1839=\"NSO\"),\"\",VLOOKUP($A1834,'Result Entry'!$B$9:$EQ$108,71,0))","v":0},{"$f":"IF(OR(C1854=\"\",$I1839=\"NSO\"),\"\",VLOOKUP($A1834,'Result Entry'!$B$9:$EQ$108,72,0))","v":0},{"$f":"IF(OR(C1854=\"\",$I1839=\"NSO\"),\"\",VLOOKUP($A1834,'Result Entry'!$B$9:$EQ$108,77,0))","v":0},{"$f":"SUM(E1854:H1854)","v":0},{"$f":"IF(OR(C1854=\"\",$I1839=\"NSO\"),\"\",VLOOKUP($A1834,'Result Entry'!$B$9:$EQ$108,81,0))","v":0},0,null,{"$f":"IF(OR(C1854=\"\",$I1839=\"NSO\"),\"\",VLOOKUP($A1834,'Result Entry'!$B$9:$EQ$108,84,0))","v":""}]
[null,"◐"]
[null,"◐","Overall Result",null,null,"Total Max. Marks",null,"Total Obtained Marks",null,"Percentage","Overall Grade","Result","Position in Class"]
[null,"◐",{"$nulls":3},{"$f":"IF(OR($I1839=\"\",$I1839=\"NSO\"),\"\",VLOOKUP($A1834,'Result Entry'!$B$9:$EQ$108,120,0))","v":900},null,{"$f":"IF(OR($I1839=\"\",$I1839=\"NSO\"),\"\",VLOOKUP($A1834,'Result Entry'!$B$9:$EQ$108,121,0))","v":0},null,{"$f":"IF(OR($I1839=\"\",$I1839=\"NSO\"),\"\",VLOOKUP($A1834,'Result Entry'!$B$9:$EQ$108,122,0))","v":{"v":0,"d":"0.00"}},{"$f":"IF(OR($I1839=\"\",$I1839=\"NSO\"),\"\",VLOOKUP($A1834,'Result Entry'!$B$9:$EQ$108,123,0))","v":""},{"$f":"IF(OR($I1839=\"\",$I1839=\"NSO\"),\"\",VLOOKUP($A1834,'Result Entry'!$B$9:$EQ$108,124,0))","v":""},{"$f":"IF(OR($I1839=\"\",$I1839=\"NSO\"),\"\",VLOOKUP($A1834,'Result Entry'!$B$9:$EQ$108,126,0))","v":""}]
[null,"◐",{"$nulls":6},"Total Meetings :-",null,{"$f":"IF(OR($I1839=\"\",$I1839=\"NSO\"),\"\",VLOOKUP($A1834,'Result Entry'!$B$9:$EQ$108,117,0))","v":0},"Attedance %"]
[null,"◐","Extra Subjects",{"$nulls":5},"Student's Meetings :-",null,{"$f":"IF(OR($I1839=\"\",$I1839=\"NSO\"),\"\",VLOOKUP($A1834,'Result Entry'!$B$9:$EQ$108,118,0))","v":0},{"$f":"IF(OR($I1839=\"\",$I1839=\"NSO\"),\"\",VLOOKUP($A1834,'Result Entry'!$B$9:$EQ$108,119,0))","v":""}]
[null,"◐","Subject",null,null,"Total Marks",null,"GRADE","Remark :-",null,{"$f":"IF(OR($I1839=\"\",$I1839=\"NSO\"),\"\",VLOOKUP($A1834,'Result Entry'!$B$9:$EQ$108,127,0))","v":0}]
[null,"◐",{"$f":"'Result Entry'!$CH$3","v":"WORK EXP."},null,null,{"$f":"IF(OR(C1861=\"\",$I1839=\"NSO\"),\"\",VLOOKUP($A1834,'Result Entry'!$B$9:$EQ$108,138,0))","v":"0/100"},null,{"$f":"IF(OR(C1861=\"\",$I1839=\"NSO\"),\"\",VLOOKUP($A1834,'Result Entry'!$B$9:$EQ$108,92,0))","v":""},"Result Date :-",null,{"$f":"'Result Entry'!$U$2","v":"2024-05-07"}]
[null,"◐",{"$f":"'Result Entry'!$CP$3","v":"ART EDU."},null,null,{"$f":"IF(OR(C1862=\"\",$I1839=\"NSO\"),\"\",VLOOKUP($A1834,'Result Entry'!$B$9:$EQ$108,142,0))","v":"0/100"},null,{"$f":"IF(OR(C1862=\"\",$I1839=\"NSO\"),\"\",VLOOKUP($A1834,'Result Entry'!$B$9:$EQ$108,100,0))","v":""}]
[null,null,{"$f":"'Result Entry'!$CX$3","v":"H&P. EDU."},null,null,{"$f":"IF(OR(C1863=\"\",$I1839=\"NSO\"),\"\",VLOOKUP($A1834,'Result Entry'!$B$9:$EQ$108,146,0))","v":"0/0"},null,{"$f":"IF(OR(C1863=\"\",$I1839=\"NSO\"),\"\",VLOOKUP($A1834,'Result Entry'!$B$9:$EQ$108,108,0))","v":""}]
[null,"◐",{"$f":"'Result Entry'!$DF$3","v":0},null,null,{"$f":"IF(OR(C1864=\"\",$I1839=\"NSO\"),\"\",VLOOKUP($A1834,'Result Entry'!$B$9:$EQ$108,131,0))","v":0},null,{"$f":"IF(OR(C1864=\"\",$I1839=\"NSO\"),\"\",VLOOKUP($A1834,'Result Entry'!$B$9:$EQ$108,97,0))","v":0},"Signature Of The Class Teacher"]
[null,"◐","Grading System"]
[null,"◐","Grd.","% Range",null,"Description"]
[null,"◐","A","86-100",null,"Excellent",null,null,"Signature And Seal Of Principal/H.M."]
[null,"◐","B","71-85",null,"Very Good"]
[null,"◐","C","51-70",null,"Good"]
[null,"◐","D","31-50",null,"Average"]
[null,"◐","E","0-30",null,"Needs Improvement",null,null,"Wish bright future"]
[]
[{"$f":"A1834+1","v":49},"Department Of Education, Rajasthan"]
[null,{"$f":"IF(I1878>0,CONCATENATE(C1878,I1878),0)","v":0},null,{"$f":"Master!$E$8","v":"Govt.Sr.Sec.Sch."}]
[{"$nulls":3},{"$f":"Master!$E$11","v":"P.S.-Bapini (Jodhpur)"}]
[null,null,"Report Card",{"$nulls":6},"U-DISE Code:-",null,{"$f":"Master!$E$14","v":{"v":810000000,"d":"0810000000"}}]
[{"$nulls":9},"Session:-",null,{"$f":"Master!$E$6","v":"2023-24"}]
[null,null,"Roll No.:-",{"$nulls":5},{"$f":"VLOOKUP($A1873,'Result Entry'!$B$9:$F$108,5,0)","v":0}]
[null,"◐","Scholar Number",{"$nulls":3},"↠",{"$f":"VLOOKUP($A1873,'Result Entry'!$B$9:$EQ$108,3,0)","v":0}]
[null,"◐","Student's Name",{"$nulls":3},"↠",{"$f":"VLOOKUP($A1873,'Result Entry'!$B$9:$EQ$108,6,0)","v":0}]
[null,"◐","Father's Name",{"$nulls":3},"↠",{"$f":"VLOOKUP($A1873,'Result Entry'!$B$9:$EQ$108,7,0)","v":0}]
[null,"◐","Mother's Name ",{"$nulls":3},"↠",{"$f":"VLOOKUP($A1873,'Result Entry'!$B$9:$EQ$108,8,0)","v":0}]
[null,"◐","Class & Section",{"$nulls":3},"↠",{"$f":"CONCATENATE('Result Entry'!$F$4,'Result Entry'!$I$4)","v":"2(A)"}]
[null,"◐","Date Of Birth",{"$nulls":3},"↠",{"$f":"VLOOKUP($A1873,'Result Entry'!$B$9:$EQ$108,9,0)","v":"00:00:00"}]
[null,"◐","Subject",null,{"$f":"'Result Entry'!$K$6","v":"First Test"},{"$f":"'Result Entry'!$L$6","v":"Second Test"},{"$f":"'Result Entry'!$M$6","v":"Third Test"},"Half Yearly","Total (Test+H.Y.)","Yearly","Grand Total",null,"Subject Grade"]
[null,"◐","Max. Marks",null,{"$f":"'Result Entry'!$K$7","v":10},{"$f":"'Result Entry'!$L$7","v":10},{"$f":"'Result Entry'!$M$7","v":10},{"$f":"'Result Entry'!$R$7","v":70},{"$f":"SUM(E1886:H1886)","v":100},{"$f":"'Result Entry'!$V$7","v":100},{"$f":"I1886+J1886","v":200},null,"A+/A/B/C/D"]
[null,"◐",{"$f":"'Result Entry'!$K$3","v":"Hindi"},null,{"$f":"IF(OR(C1887=\"\",$I1878=\"NSO\"),\"\",VLOOKUP($A1873,'Result Entry'!$B$9:$EQ$108,10,0))","v":0},{"$f":"IF(OR(C1887=\"\",$I1878=\"NSO\"),\"\",VLOOKUP($A1873,'Result Entry'!$B$9:$EQ$108,11,0))","v":0},{"$f":"IF(OR(C1887=\"\",$I1878=\"NSO\"),\"\",VLOOKUP($A1873,'Result Entry'!$B$9:$EQ$108,12,0))","v":0},{"$f":"IF(OR(C1887=\"\",$I1878=\"NSO\"),\"\",VLOOKUP($A1873,'Result Entry'!$B$9:$EQ$108,17,0))","v":0},{"$f":"SUM(E1887:H1887)","v":0},{"$f":"IF(OR(C1887=\"\",$I1878=\"NSO\"),\"\",VLOOKUP($A1873,'Result Entry'!$B$9:$EQ$108,21,0))","v":0},{"$f":"SUM(I1887,J1887)","v":0},null,{"$f":"IF(OR(C1887=\"\",$I1878=\"NSO\"),\"\",VLOOKUP($A1873,'Result Entry'!$B$9:$EQ$108,24,0))","v":""}]
[null,"◐",{"$f":"'Result Entry'!$Z$3","v":"Mathematics"},null,{"$f":"IF(OR(C1888=\"\",$I1878=\"NSO\"),\"\",VLOOKUP($A1873,'Result Entry'!$B$9:$EQ$108,25,0))","v":0},{"$f":"IF(OR(C1888=\"\",$I1878=\"NSO\"),\"\",VLOOKUP($A1873,'Result Entry'!$B$9:$EQ$108,26,0))","v":0},{"$f":"IF(OR(C1888=\"\",$I1878=\"NSO\"),\"\",VLOOKUP($A1873,'Result Entry'!$B$9:$EQ$108,27,0))","v":0},{"$f":"IF(OR(C1888=\"\",$I1878=\"NSO\"),\"\",VLOOKUP($A1873,'Result Entry'!$B$9:$EQ$108,32,0))","v":0},0,{"$f":"IF(OR(C1888=\"\",$I1878=\"NSO\"),\"\",VLOOKUP($A1873,'Result Entry'!$B$9:$EQ$108,36,0))","v":0},{"$f":"SUM(I1888,J1888)","v":0},null,{"$f":"IF(OR(C1888=\"\",$I1878=\"NSO\"),\"\",VLOOKUP($A1873,'Result Entry'!$B$9:$EQ$108,39,0))","v":""}]
[null,"◐",{"$f":"'Result Entry'!$BD$3","v":"Env. Study"},null,{"$f":"IF(OR(C1889=\"\",$I1878=\"NSO\"),\"\",VLOOKUP($A1873,'Result Entry'!$B$9:$EQ$108,55,0))","v":0},{"$f":"IF(OR(C1889=\"\",$I1878=\"NSO\"),\"\",VLOOKUP($A1873,'Result Entry'!$B$9:$EQ$108,56,0))","v":0},{"$f":"IF(OR(C1889=\"\",$I1878=\"NSO\"),\"\",VLOOKUP($A1873,'Result Entry'!$B$9:$EQ$108,57,0))","v":0},{"$f":"IF(OR(C1887=\"\",$I1878=\"NSO\"),\"\",VLOOKUP($A1873,'Result Entry'!$B$9:$EQ$108,62,0))","v":0},0,{"$f":"IF(OR(C1888=\"\",$I1878=\"NSO\"),\"\",VLOOKUP($A1873,'Result Entry'!$B$9:$EQ$108,66,0))","v":0},0,null,{"$f":"IF(OR(C1888=\"\",$I1878=\"NSO\"),\"\",VLOOKUP($A1873,'Result Entry'!$B$9:$EQ$108,69,0))","v":""}]
[null,"◐","Max. Marks",null,{"$f":"'Result Entry'!$AO$7","v":5},{"$f":"'Result Entry'!$AP$7","v":5},{"$f":"'Result Entry'!$AQ$7","v":5},{"$f":"'Result Entry'!$AV$7","v":35},50,{"$f":"'Result Entry'!$AZ$7","v":50},100,null,"A+/A/B/C/D"]
[null,"◐",{"$f":"'Result Entry'!$AO$3","v":"English"},null,{"$f":"IF(OR(C1891=\"\",$I1878=\"NSO\"),\"\",VLOOKUP($A1873,'Result Entry'!$B$9:$EQ$108,40,0))","v":0},{"$f":"IF(OR(C1891=\"\",$I1878=\"NSO\"),\"\",VLOOKUP($A1873,'Result Entry'!$B$9:$EQ$108,41,0))","v":0},{"$f":"IF(OR(C1891=\"\",$I1878=\"NSO\"),\"\",VLOOKUP($A1873,'Result Entry'!$B$9:$EQ$108,42,0))","v":0},{"$f":"IF(OR(C1891=\"\",$I1878=\"NSO\"),\"\",VLOOKUP($A1873,'Result Entry'!$B$9:$EQ$108,47,0))","v":0},0,{"$f":"IF(OR(C1891=\"\",$I1878=\"NSO\"),\"\",VLOOKUP($A1873,'Result Entry'!$B$9:$EQ$108,51,0))","v":0},0,null,{"$f":"IF(OR(C1891=\"\",$I1878=\"NSO\"),\"\",VLOOKUP($A1873,'Result Entry'!$B$9:$EQ$108,54,0))","v":""}]
[null,"◐","Max. Marks",null,{"$f":"'Result Entry'!$BS$7","v":10},{"$f":"'Result Entry'!$BT$7","v":10},{"$f":"'Result Entry'!$BU$7","v":10},{"$f":"'Result Entry'!$BZ$7","v":70},{"$f":"SUM(E1892:H1892)","v":100},{"$f":"'Result Entry'!$CD$7","v":100},200,null,"A+/A/B/C/D"]
[null,"◐",{"$f":"'Result Entry'!$BS$3","v":"Sanskrit/Urdu"},null,{"$f":"IF(OR(C1893=\"\",$I1878=\"NSO\"),\"\",VLOOKUP($A1873,'Result Entry'!$B$9:$EQ$108,70,0))","v":0},{"$f":"IF(OR(C1893=\"\",$I1878=\"NSO\"),\"\",VLOOKUP($A1873,'Result Entry'!$B$9:$EQ$108,71,0))","v":0},{"$f":"IF(OR(C1893=\"\",$I1878=\"NSO\"),\"\",VLOOKUP($A1873,'Result Entry'!$B$9:$EQ$108,72,0))","v":0},{"$f":"IF(OR(C1893=\"\",$I1878=\"NSO\"),\"\",VLOOKUP($A1873,'Result Entry'!$B$9:$EQ$108,77,0))","v":0},{"$f":"SUM(E1893:H1893)","v":0},{"$f":"IF(OR(C1893=\"\",$I1878=\"NSO\"),\"\",VLOOKUP($A1873,'Result Entry'!$B$9:$EQ$108,81,0))","v":0},0,null,{"$f":"IF(OR(C1893=\"\",$I1878=\"NSO\"),\"\",VLOOKUP($A1873,'Result Entry'!$B$9:$EQ$108,84,0))","v":""}]
[null,"◐"]
[null,"◐","Overall Result",null,null,"Total Max. Marks",null,"Total Obtained Marks",null,"Percentage","Overall Grade","Result","Position in Class"]
[null,"◐",{"$nulls":3},{"$f":"IF(OR($I1878=\"\",$I1878=\"NSO\"),\"\",VLOOKUP($A1873,'Result Entry'!$B$9:$EQ$108,120,0))","v":900},null,{"$f":"IF(OR($I1878=\"\",$I1878=\"NSO\"),\"\",VLOOKUP($A1873,'Result Entry'!$B$9:$EQ$108,121,0))","v":0},null,{"$f":"IF(OR($I1878=\"\",$I1878=\"NSO\"),\"\",VLOOKUP($A1873,'Result Entry'!$B$9:$EQ$108,122,0))","v":{"v":0,"d":"0.00"}},{"$f":"IF(OR($I1878=\"\",$I1878=\"NSO\"),\"\",VLOOKUP($A1873,'Result Entry'!$B$9:$EQ$108,123,0))","v":""},{"$f":"IF(OR($I1878=\"\",$I1878=\"NSO\"),\"\",VLOOKUP($A1873,'Result Entry'!$B$9:$EQ$108,124,0))","v":""},{"$f":"IF(OR($I1878=\"\",$I1878=\"NSO\"),\"\",VLOOKUP($A1873,'Result Entry'!$B$9:$EQ$108,126,0))","v":""}]
[null,"◐",{"$nulls":6},"Total Meetings :-",null,{"$f":"IF(OR($I1878=\"\",$I1878=\"NSO\"),\"\",VLOOKUP($A1873,'Result Entry'!$B$9:$EQ$108,117,0))","v":0},"Attedance %"]
[null,"◐","Extra Subjects",{"$nulls":5},"Student's Meetings :-",null,{"$f":"IF(OR($I1878=\"\",$I1878=\"NSO\"),\"\",VLOOKUP($A1873,'Result Entry'!$B$9:$EQ$108,118,0))","v":0},{"$f":"IF(OR($I1878=\"\",$I1878=\"NSO\"),\"\",VLOOKUP($A1873,'Result Entry'!$B$9:$EQ$108,119,0))","v":""}]
[null,"◐","Subject",null,null,"Total Marks",null,"GRADE","Remark :-",null,{"$f":"IF(OR($I1878=\"\",$I1878=\"NSO\"),\"\",VLOOKUP($A1873,'Result Entry'!$B$9:$EQ$108,127,0))","v":0}]
[null,"◐",{"$f":"'Result Entry'!$CH$3","v":"WORK EXP."},null,null,{"$f":"IF(OR(C1900=\"\",$I1878=\"NSO\"),\"\",VLOOKUP($A1873,'Result Entry'!$B$9:$EQ$108,138,0))","v":"0/100"},null,{"$f":"IF(OR(C1900=\"\",$I1878=\"NSO\"),\"\",VLOOKUP($A1873,'Result Entry'!$B$9:$EQ$108,92,0))","v":""},"Result Date :-",null,{"$f":"'Result Entry'!$U$2","v":"2024-05-07"}]
[null,"◐",{"$f":"'Result Entry'!$CP$3","v":"ART EDU."},null,null,{"$f":"IF(OR(C1901=\"\",$I1878=\"NSO\"),\"\",VLOOKUP($A1873,'Result Entry'!$B$9:$EQ$108,142,0))","v":"0/100"},null,{"$f":"IF(OR(C1901=\"\",$I1878=\"NSO\"),\"\",VLOOKUP($A1873,'Result Entry'!$B$9:$EQ$108,100,0))","v":""}]
[null,null,{"$f":"'Result Entry'!$CX$3","v":"H&P. EDU."},null,null,{"$f":"IF(OR(C1902=\"\",$I1878=\"NSO\"),\"\",VLOOKUP($A1873,'Result Entry'!$B$9:$EQ$108,146,0))","v":"0/0"},null,{"$f":"IF(OR(C1902=\"\",$I1878=\"NSO\"),\"\",VLOOKUP($A1873,'Result Entry'!$B$9:$EQ$108,108,0))","v":""}]
[null,"◐",{"$f":"'Result Entry'!$DF$3","v":0},null,null,{"$f":"IF(OR(C1903=\"\",$I1878=\"NSO\"),\"\",VLOOKUP($A1873,'Result Entry'!$B$9:$EQ$108,131,0))","v":0},null,{"$f":"IF(OR(C1903=\"\",$I1878=\"NSO\"),\"\",VLOOKUP($A1873,'Result Entry'!$B$9:$EQ$108,97,0))","v":0},"Signature Of The Class Teacher"]
[null,"◐","Grading System"]
[null,"◐","Grd.","% Range",null,"Description"]
[null,"◐","A","86-100",null,"Excellent",null,null,"Signature And Seal Of Principal/H.M."]
[null,"◐","B","71-85",null,"Very Good"]
[null,"◐","C","51-70",null,"Good"]
[null,"◐","D","31-50",null,"Average"]
[null,"◐","E","0-30",null,"Needs Improvement",null,null,"Wish bright future"]
[]
[{"$f":"A1873+1","v":50},"Department Of Education, Rajasthan"]
[null,{"$f":"IF(I1917>0,CONCATENATE(C1917,I1917),0)","v":0},null,{"$f":"Master!$E$8","v":"Govt.Sr.Sec.Sch."}]
[{"$nulls":3},{"$f":"Master!$E$11","v":"P.S.-Bapini (Jodhpur)"}]
[null,null,"Report Card",{"$nulls":6},"U-DISE Code:-",null,{"$f":"Master!$E$14","v":{"v":810000000,"d":"0810000000"}}]
[{"$nulls":9},"Session:-",null,{"$f":"Master!$E$6","v":"2023-24"}]
[null,null,"Roll No.:-",{"$nulls":5},{"$f":"VLOOKUP($A1912,'Result Entry'!$B$9:$F$108,5,0)","v":0}]
[null,"◐","Scholar Number",{"$nulls":3},"↠",{"$f":"VLOOKUP($A1912,'Result Entry'!$B$9:$EQ$108,3,0)","v":0}]
[null,"◐","Student's Name",{"$nulls":3},"↠",{"$f":"VLOOKUP($A1912,'Result Entry'!$B$9:$EQ$108,6,0)","v":0}]
[null,"◐","Father's Name",{"$nulls":3},"↠",{"$f":"VLOOKUP($A1912,'Result Entry'!$B$9:$EQ$108,7,0)","v":0}]
[null,"◐","Mother's Name ",{"$nulls":3},"↠",{"$f":"VLOOKUP($A1912,'Result Entry'!$B$9:$EQ$108,8,0)","v":0}]
[null,"◐","Class & Section",{"$nulls":3},"↠",{"$f":"CONCATENATE('Result Entry'!$F$4,'Result Entry'!$I$4)","v":"2(A)"}]
[null,"◐","Date Of Birth",{"$nulls":3},"↠",{"$f":"VLOOKUP($A1912,'Result Entry'!$B$9:$EQ$108,9,0)","v":"00:00:00"}]
[null,"◐","Subject",null,{"$f":"'Result Entry'!$K$6","v":"First Test"},{"$f":"'Result Entry'!$L$6","v":"Second Test"},{"$f":"'Result Entry'!$M$6","v":"Third Test"},"Half Yearly","Total (Test+H.Y.)","Yearly","Grand Total",null,"Subject Grade"]
[null,"◐","Max. Marks",null,{"$f":"'Result Entry'!$K$7","v":10},{"$f":"'Result Entry'!$L$7","v":10},{"$f":"'Result Entry'!$M$7","v":10},{"$f":"'Result Entry'!$R$7","v":70},{"$f":"SUM(E1925:H1925)","v":100},{"$f":"'Result Entry'!$V$7","v":100},{"$f":"I1925+J1925","v":200},null,"A+/A/B/C/D"]
[null,"◐",{"$f":"'Result Entry'!$K$3","v":"Hindi"},null,{"$f":"IF(OR(C1926=\"\",$I1917=\"NSO\"),\"\",VLOOKUP($A1912,'Result Entry'!$B$9:$EQ$108,10,0))","v":0},{"$f":"IF(OR(C1926=\"\",$I1917=\"NSO\"),\"\",VLOOKUP($A1912,'Result Entry'!$B$9:$EQ$108,11,0))","v":0},{"$f":"IF(OR(C1926=\"\",$I1917=\"NSO\"),\"\",VLOOKUP($A1912,'Result Entry'!$B$9:$EQ$108,12,0))","v":0},{"$f":"IF(OR(C1926=\"\",$I1917=\"NSO\"),\"\",VLOOKUP($A1912,'Result Entry'!$B$9:$EQ$108,17,0))","v":0},{"$f":"SUM(E1926:H1926)","v":0},{"$f":"IF(OR(C1926=\"\",$I1917=\"NSO\"),\"\",VLOOKUP($A1912,'Result Entry'!$B$9:$EQ$108,21,0))","v":0},{"$f":"SUM(I1926,J1926)","v":0},null,{"$f":"IF(OR(C1926=\"\",$I1917=\"NSO\"),\"\",VLOOKUP($A1912,'Result Entry'!$B$9:$EQ$108,24,0))","v":""}]
[null,"◐",{"$f":"'Result Entry'!$Z$3","v":"Mathematics"},null,{"$f":"IF(OR(C1927=\"\",$I1917=\"NSO\"),\"\",VLOOKUP($A1912,'Result Entry'!$B$9:$EQ$108,25,0))","v":0},{"$f":"IF(OR(C1927=\"\",$I1917=\"NSO\"),\"\",VLOOKUP($A1912,'Result Entry'!$B$9:$EQ$108,26,0))","v":0},{"$f":"IF(OR(C1927=\"\",$I1917=\"NSO\"),\"\",VLOOKUP($A1912,'Result Entry'!$B$9:$EQ$108,27,0))","v":0},{"$f":"IF(OR(C1927=\"\",$I1917=\"NSO\"),\"\",VLOOKUP($A1912,'Result Entry'!$B$9:$EQ$108,32,0))","v":0},0,{"$f":"IF(OR(C1927=\"\",$I1917=\"NSO\"),\"\",VLOOKUP($A1912,'Result Entry'!$B$9:$EQ$108,36,0))","v":0},{"$f":"SUM(I1927,J1927)","v":0},null,{"$f":"IF(OR(C1927=\"\",$I1917=\"NSO\"),\"\",VLOOKUP($A1912,'Result Entry'!$B$9:$EQ$108,39,0))","v":""}]
[null,"◐",{"$f":"'Result Entry'!$BD$3","v":"Env. Study"},null,{"$f":"IF(OR(C1928=\"\",$I1917=\"NSO\"),\"\",VLOOKUP($A1912,'Result Entry'!$B$9:$EQ$108,55,0))","v":0},{"$f":"IF(OR(C1928=\"\",$I1917=\"NSO\"),\"\",VLOOKUP($A1912,'Result Entry'!$B$9:$EQ$108,56,0))","v":0},{"$f":"IF(OR(C1928=\"\",$I1917=\"NSO\"),\"\",VLOOKUP($A1912,'Result Entry'!$B$9:$EQ$108,57,0))","v":0},{"$f":"IF(OR(C1926=\"\",$I1917=\"NSO\"),\"\",VLOOKUP($A1912,'Result Entry'!$B$9:$EQ$108,62,0))","v":0},0,{"$f":"IF(OR(C1927=\"\",$I1917=\"NSO\"),\"\",VLOOKUP($A1912,'Result Entry'!$B$9:$EQ$108,66,0))","v":0},0,null,{"$f":"IF(OR(C1927=\"\",$I1917=\"NSO\"),\"\",VLOOKUP($A1912,'Result Entry'!$B$9:$EQ$108,69,0))","v":""}]
[null,"◐","Max. Marks",null,{"$f":"'Result Entry'!$AO$7","v":5},{"$f":"'Result Entry'!$AP$7","v":5},{"$f":"'Result Entry'!$AQ$7","v":5},{"$f":"'Result Entry'!$AV$7","v":35},50,{"$f":"'Result Entry'!$AZ$7","v":50},100,null,"A+/A/B/C/D"]
[null,"◐",{"$f":"'Result Entry'!$AO$3","v":"English"},null,{"$f":"IF(OR(C1930=\"\",$I1917=\"NSO\"),\"\",VLOOKUP($A1912,'Result Entry'!$B$9:$EQ$108,40,0))","v":0},{"$f":"IF(OR(C1930=\"\",$I1917=\"NSO\"),\"\",VLOOKUP($A1912,'Result Entry'!$B$9:$EQ$108,41,0))","v":0},{"$f":"IF(OR(C1930=\"\",$I1917=\"NSO\"),\"\",VLOOKUP($A1912,'Result Entry'!$B$9:$EQ$108,42,0))","v":0},{"$f":"IF(OR(C1930=\"\",$I1917=\"NSO\"),\"\",VLOOKUP($A1912,'Result Entry'!$B$9:$EQ$108,47,0))","v":0},0,{"$f":"IF(OR(C1930=\"\",$I1917=\"NSO\"),\"\",VLOOKUP($A1912,'Result Entry'!$B$9:$EQ$108,51,0))","v":0},0,null,{"$f":"IF(OR(C1930=\"\",$I1917=\"NSO\"),\"\",VLOOKUP($A1912,'Result Entry'!$B$9:$EQ$108,54,0))","v":""}]
[null,"◐","Max. Marks",null,{"$f":"'Result Entry'!$BS$7","v":10},{"$f":"'Result Entry'!$BT$7","v":10},{"$f":"'Result Entry'!$BU$7","v":10},{"$f":"'Result Entry'!$BZ$7","v":70},{"$f":"SUM(E1931:H1931)","v":100},{"$f":"'Result Entry'!$CD$7","v":100},200,null,"A+/A/B/C/D"]
[null,"◐",{"$f":"'Result Entry'!$BS$3","v":"Sanskrit/Urdu"},null,{"$f":"IF(OR(C1932=\"\",$I1917=\"NSO\"),\"\",VLOOKUP($A1912,'Result Entry'!$B$9:$EQ$108,70,0))","v":0},{"$f":"IF(OR(C1932=\"\",$I1917=\"NSO\"),\"\",VLOOKUP($A1912,'Result Entry'!$B$9:$EQ$108,71,0))","v":0},{"$f":"IF(OR(C1932=\"\",$I1917=\"NSO\"),\"\",VLOOKUP($A1912,'Result Entry'!$B$9:$EQ$108,72,0))","v":0},{"$f":"IF(OR(C1932=\"\",$I1917=\"NSO\"),\"\",VLOOKUP($A1912,'Result Entry'!$B$9:$EQ$108,77,0))","v":0},{"$f":"SUM(E1932:H1932)","v":0},{"$f":"IF(OR(C1932=\"\",$I1917=\"NSO\"),\"\",VLOOKUP($A1912,'Result Entry'!$B$9:$EQ$108,81,0))","v":0},0,null,{"$f":"IF(OR(C1932=\"\",$I1917=\"NSO\"),\"\",VLOOKUP($A1912,'Result Entry'!$B$9:$EQ$108,84,0))","v":""}]
[null,"◐"]
[null,"◐","Overall Result",null,null,"Total Max. Marks",null,"Total Obtained Marks",null,"Percentage","Overall Grade","Result","Position in Class"]
[null,"◐",{"$nulls":3},{"$f":"IF(OR($I1917=\"\",$I1917=\"NSO\"),\"\",VLOOKUP($A1912,'Result Entry'!$B$9:$EQ$108,120,0))","v":900},null,{"$f":"IF(OR($I1917=\"\",$I1917=\"NSO\"),\"\",VLOOKUP($A1912,'Result Entry'!$B$9:$EQ$108,121,0))","v":0},null,{"$f":"IF(OR($I1917=\"\",$I1917=\"NSO\"),\"\",VLOOKUP($A1912,'Result Entry'!$B$9:$EQ$108,122,0))","v":{"v":0,"d":"0.00"}},{"$f":"IF(OR($I1917=\"\",$I1917=\"NSO\"),\"\",VLOOKUP($A1912,'Result Entry'!$B$9:$EQ$108,123,0))","v":""},{"$f":"IF(OR($I1917=\"\",$I1917=\"NSO\"),\"\",VLOOKUP($A1912,'Result Entry'!$B$9:$EQ$108,124,0))","v":""},{"$f":"IF(OR($I1917=\"\",$I1917=\"NSO\"),\"\",VLOOKUP($A1912,'Result Entry'!$B$9:$EQ$108,126,0))","v":""}]
[null,"◐",{"$nulls":6},"Total Meetings :-",null,{"$f":"IF(OR($I1917=\"\",$I1917=\"NSO\"),\"\",VLOOKUP($A1912,'Result Entry'!$B$9:$EQ$108,117,0))","v":0},"Attedance %"]
[null,"◐","Extra Subjects",{"$nulls":5},"Student's Meetings :-",null,{"$f":"IF(OR($I1917=\"\",$I1917=\"NSO\"),\"\",VLOOKUP($A1912,'Result Entry'!$B$9:$EQ$108,118,0))","v":0},{"$f":"IF(OR($I1917=\"\",$I1917=\"NSO\"),\"\",VLOOKUP($A1912,'Result Entry'!$B$9:$EQ$108,119,0))","v":""}]
[null,"◐","Subject",null,null,"Total Marks",null,"GRADE","Remark :-",null,{"$f":"IF(OR($I1917=\"\",$I1917=\"NSO\"),\"\",VLOOKUP($A1912,'Result Entry'!$B$9:$EQ$108,127,0))","v":0}]
[null,"◐",{"$f":"'Result Entry'!$CH$3","v":"WORK EXP."},null,null,{"$f":"IF(OR(C1939=\"\",$I1917=\"NSO\"),\"\",VLOOKUP($A1912,'Result Entry'!$B$9:$EQ$108,138,0))","v":"0/100"},null,{"$f":"IF(OR(C1939=\"\",$I1917=\"NSO\"),\"\",VLOOKUP($A1912,'Result Entry'!$B$9:$EQ$108,92,0))","v":""},"Result Date :-",null,{"$f":"'Result Entry'!$U$2","v":"2024-05-07"}]
[null,"◐",{"$f":"'Result Entry'!$CP$3","v":"ART EDU."},null,null,{"$f":"IF(OR(C1940=\"\",$I1917=\"NSO\"),\"\",VLOOKUP($A1912,'Result Entry'!$B$9:$EQ$108,142,0))","v":"0/100"},null,{"$f":"IF(OR(C1940=\"\",$I1917=\"NSO\"),\"\",VLOOKUP($A1912,'Result Entry'!$B$9:$EQ$108,100,0))","v":""}]
[null,null,{"$f":"'Result Entry'!$CX$3","v":"H&P. EDU."},null,null,{"$f":"IF(OR(C1941=\"\",$I1917=\"NSO\"),\"\",VLOOKUP($A1912,'Result Entry'!$B$9:$EQ$108,146,0))","v":"0/0"},null,{"$f":"IF(OR(C1941=\"\",$I1917=\"NSO\"),\"\",VLOOKUP($A1912,'Result Entry'!$B$9:$EQ$108,108,0))","v":""}]
[null,"◐",{"$f":"'Result Entry'!$DF$3","v":0},null,null,{"$f":"IF(OR(C1942=\"\",$I1917=\"NSO\"),\"\",VLOOKUP($A1912,'Result Entry'!$B$9:$EQ$108,131,0))","v":0},null,{"$f":"IF(OR(C1942=\"\",$I1917=\"NSO\"),\"\",VLOOKUP($A1912,'Result Entry'!$B$9:$EQ$108,97,0))","v":0},"Signature Of The Class Teacher"]
[null,"◐","Grading System"]
[null,"◐","Grd.","% Range",null,"Description"]
[null,"◐","A","86-100",null,"Excellent",null,null,"Signature And Seal Of Principal/H.M."]
[null,"◐","B","71-85",null,"Very Good"]
[null,"◐","C","51-70",null,"Good"]
[null,"◐","D","31-50",null,"Average"]
[null,"◐","E","0-30",null,"Needs Improvement",null,null,"Wish bright future"]
[]
[{"$f":"A1912+1","v":51},"Department Of Education, Rajasthan"]
[null,{"$f":"IF(I1956>0,CONCATENATE(C1956,I1956),0)","v":0},null,{"$f":"Master!$E$8","v":"Govt.Sr.Sec.Sch."}]
[{"$nulls":3},{"$f":"Master!$E$11","v":"P.S.-Bapini (Jodhpur)"}]
[null,null,"Report Card",{"$nulls":6},"U-DISE Code:-",null,{"$f":"Master!$E$14","v":{"v":810000000,"d":"0810000000"}}]
[{"$nulls":9},"Session:-",null,{"$f":"Master!$E$6","v":"2023-24"}]
[null,null,"Roll No.:-",{"$nulls":5},{"$f":"VLOOKUP($A1951,'Result Entry'!$B$9:$F$108,5,0)","v":0}]
[null,"◐","Scholar Number",{"$nulls":3},"↠",{"$f":"VLOOKUP($A1951,'Result Entry'!$B$9:$EQ$108,3,0)","v":0}]
[null,"◐","Student's Name",{"$nulls":3},"↠",{"$f":"VLOOKUP($A1951,'Result Entry'!$B$9:$EQ$108,6,0)","v":0}]
[null,"◐","Father's Name",{"$nulls":3},"↠",{"$f":"VLOOKUP($A1951,'Result Entry'!$B$9:$EQ$108,7,0)","v":0}]
[null,"◐","Mother's Name ",{"$nulls":3},"↠",{"$f":"VLOOKUP($A1951,'Result Entry'!$B$9:$EQ$108,8,0)","v":0}]
[null,"◐","Class & Section",{"$nulls":3},"↠",{"$f":"CONCATENATE('Result Entry'!$F$4,'Result Entry'!$I$4)","v":"2(A)"}]
[null,"◐","Date Of Birth",{"$nulls":3},"↠",{"$f":"VLOOKUP($A1951,'Result Entry'!$B$9:$EQ$108,9,0)","v":"00:00:00"}]
[null,"◐","Subject",null,{"$f":"'Result Entry'!$K$6","v":"First Test"},{"$f":"'Result Entry'!$L$6","v":"Second Test"},{"$f":"'Result Entry'!$M$6","v":"Third Test"},"Half Yearly","Total (Test+H.Y.)","Yearly","Grand Total",null,"Subject Grade"]
[null,"◐","Max. Marks",null,{"$f":"'Result Entry'!$K$7","v":10},{"$f":"'Result Entry'!$L$7","v":10},{"$f":"'Result Entry'!$M$7","v":10},{"$f":"'Result Entry'!$R$7","v":70},{"$f":"SUM(E1964:H1964)","v":100},{"$f":"'Result Entry'!$V$7","v":100},{"$f":"I1964+J1964","v":200},null,"A+/A/B/C/D"]
[null,"◐",{"$f":"'Result Entry'!$K$3","v":"Hindi"},null,{"$f":"IF(OR(C1965=\"\",$I1956=\"NSO\"),\"\",VLOOKUP($A1951,'Result Entry'!$B$9:$EQ$108,10,0))","v":0},{"$f":"IF(OR(C1965=\"\",$I1956=\"NSO\"),\"\",VLOOKUP($A1951,'Result Entry'!$B$9:$EQ$108,11,0))","v":0},{"$f":"IF(OR(C1965=\"\",$I1956=\"NSO\"),\"\",VLOOKUP($A1951,'Result Entry'!$B$9:$EQ$108,12,0))","v":0},{"$f":"IF(OR(C1965=\"\",$I1956=\"NSO\"),\"\",VLOOKUP($A1951,'Result Entry'!$B$9:$EQ$108,17,0))","v":0},{"$f":"SUM(E1965:H1965)","v":0},{"$f":"IF(OR(C1965=\"\",$I1956=\"NSO\"),\"\",VLOOKUP($A1951,'Result Entry'!$B$9:$EQ$108,21,0))","v":0},{"$f":"SUM(I1965,J1965)","v":0},null,{"$f":"IF(OR(C1965=\"\",$I1956=\"NSO\"),\"\",VLOOKUP($A1951,'Result Entry'!$B$9:$EQ$108,24,0))","v":""}]
[null,"◐",{"$f":"'Result Entry'!$Z$3","v":"Mathematics"},null,{"$f":"IF(OR(C1966=\"\",$I1956=\"NSO\"),\"\",VLOOKUP($A1951,'Result Entry'!$B$9:$EQ$108,25,0))","v":0},{"$f":"IF(OR(C1966=\"\",$I1956=\"NSO\"),\"\",VLOOKUP($A1951,'Result Entry'!$B$9:$EQ$108,26,0))","v":0},{"$f":"IF(OR(C1966=\"\",$I1956=\"NSO\"),\"\",VLOOKUP($A1951,'Result Entry'!$B$9:$EQ$108,27,0))","v":0},{"$f":"IF(OR(C1966=\"\",$I1956=\"NSO\"),\"\",VLOOKUP($A1951,'Result Entry'!$B$9:$EQ$108,32,0))","v":0},0,{"$f":"IF(OR(C1966=\"\",$I1956=\"NSO\"),\"\",VLOOKUP($A1951,'Result Entry'!$B$9:$EQ$108,36,0))","v":0},{"$f":"SUM(I1966,J1966)","v":0},null,{"$f":"IF(OR(C1966=\"\",$I1956=\"NSO\"),\"\",VLOOKUP($A1951,'Result Entry'!$B$9:$EQ$108,39,0))","v":""}]
[null,"◐",{"$f":"'Result Entry'!$BD$3","v":"Env. Study"},null,{"$f":"IF(OR(C1967=\"\",$I1956=\"NSO\"),\"\",VLOOKUP($A1951,'Result Entry'!$B$9:$EQ$108,55,0))","v":0},{"$f":"IF(OR(C1967=\"\",$I1956=\"NSO\"),\"\",VLOOKUP($A1951,'Result Entry'!$B$9:$EQ$108,56,0))","v":0},{"$f":"IF(OR(C1967=\"\",$I1956=\"NSO\"),\"\",VLOOKUP($A1951,'Result Entry'!$B$9:$EQ$108,57,0))","v":0},{"$f":"IF(OR(C1965=\"\",$I1956=\"NSO\"),\"\",VLOOKUP($A1951,'Result Entry'!$B$9:$EQ$108,62,0))","v":0},0,{"$f":"IF(OR(C1966=\"\",$I1956=\"NSO\"),\"\",VLOOKUP($A1951,'Result Entry'!$B$9:$EQ$108,66,0))","v":0},0,null,{"$f":"IF(OR(C1966=\"\",$I1956=\"NSO\"),\"\",VLOOKUP($A1951,'Result Entry'!$B$9:$EQ$108,69,0))","v":""}]
[null,"◐","Max. Marks",null,{"$f":"'Result Entry'!$AO$7","v":5},{"$f":"'Result Entry'!$AP$7","v":5},{"$f":"'Result Entry'!$AQ$7","v":5},{"$f":"'Result Entry'!$AV$7","v":35},50,{"$f":"'Result Entry'!$AZ$7","v":50},100,null,"A+/A/B/C/D"]
[null,"◐",{"$f":"'Result Entry'!$AO$3","v":"English"},null,{"$f":"IF(OR(C1969=\"\",$I1956=\"NSO\"),\"\",VLOOKUP($A1951,'Result Entry'!$B$9:$EQ$108,40,0))","v":0},{"$f":"IF(OR(C1969=\"\",$I1956=\"NSO\"),\"\",VLOOKUP($A1951,'Result Entry'!$B$9:$EQ$108,41,0))","v":0},{"$f":"IF(OR(C1969=\"\",$I1956=\"NSO\"),\"\",VLOOKUP($A1951,'Result Entry'!$B$9:$EQ$108,42,0))","v":0},{"$f":"IF(OR(C1969=\"\",$I1956=\"NSO\"),\"\",VLOOKUP($A1951,'Result Entry'!$B$9:$EQ$108,47,0))","v":0},0,{"$f":"IF(OR(C1969=\"\",$I1956=\"NSO\"),\"\",VLOOKUP($A1951,'Result Entry'!$B$9:$EQ$108,51,0))","v":0},0,null,{"$f":"IF(OR(C1969=\"\",$I1956=\"NSO\"),\"\",VLOOKUP($A1951,'Result Entry'!$B$9:$EQ$108,54,0))","v":""}]
[null,"◐","Max. Marks",null,{"$f":"'Result Entry'!$BS$7","v":10},{"$f":"'Result Entry'!$BT$7","v":10},{"$f":"'Result Entry'!$BU$7","v":10},{"$f":"'Result Entry'!$BZ$7","v":70},{"$f":"SUM(E1970:H1970)","v":100},{"$f":"'Result Entry'!$CD$7","v":100},200,null,"A+/A/B/C/D"]
[null,"◐",{"$f":"'Result Entry'!$BS$3","v":"Sanskrit/Urdu"},null,{"$f":"IF(OR(C1971=\"\",$I1956=\"NSO\"),\"\",VLOOKUP($A1951,'Result Entry'!$B$9:$EQ$108,70,0))","v":0},{"$f":"IF(OR(C1971=\"\",$I1956=\"NSO\"),\"\",VLOOKUP($A1951,'Result Entry'!$B$9:$EQ$108,71,0))","v":0},{"$f":"IF(OR(C1971=\"\",$I1956=\"NSO\"),\"\",VLOOKUP($A1951,'Result Entry'!$B$9:$EQ$108,72,0))","v":0},{"$f":"IF(OR(C1971=\"\",$I1956=\"NSO\"),\"\",VLOOKUP($A1951,'Result Entry'!$B$9:$EQ$108,77,0))","v":0},{"$f":"SUM(E1971:H1971)","v":0},{"$f":"IF(OR(C1971=\"\",$I1956=\"NSO\"),\"\",VLOOKUP($A1951,'Result Entry'!$B$9:$EQ$108,81,0))","v":0},0,null,{"$f":"IF(OR(C1971=\"\",$I1956=\"NSO\"),\"\",VLOOKUP($A1951,'Result Entry'!$B$9:$EQ$108,84,0))","v":""}]
[null,"◐"]
[null,"◐","Overall Result",null,null,"Total Max. Marks",null,"Total Obtained Marks",null,"Percentage","Overall Grade","Result","Position in Class"]
[null,"◐",{"$nulls":3},{"$f":"IF(OR($I1956=\"\",$I1956=\"NSO\"),\"\",VLOOKUP($A1951,'Result Entry'!$B$9:$EQ$108,120,0))","v":900},null,{"$f":"IF(OR($I1956=\"\",$I1956=\"NSO\"),\"\",VLOOKUP($A1951,'Result Entry'!$B$9:$EQ$108,121,0))","v":0},null,{"$f":"IF(OR($I1956=\"\",$I1956=\"NSO\"),\"\",VLOOKUP($A1951,'Result Entry'!$B$9:$EQ$108,122,0))","v":{"v":0,"d":"0.00"}},{"$f":"IF(OR($I1956=\"\",$I1956=\"NSO\"),\"\",VLOOKUP($A1951,'Result Entry'!$B$9:$EQ$108,123,0))","v":""},{"$f":"IF(OR($I1956=\"\",$I1956=\"NSO\"),\"\",VLOOKUP($A1951,'Result Entry'!$B$9:$EQ$108,124,0))","v":""},{"$f":"IF(OR($I1956=\"\",$I1956=\"NSO\"),\"\",VLOOKUP($A1951,'Result Entry'!$B$9:$EQ$108,126,0))","v":""}]
[null,"◐",{"$nulls":6},"Total Meetings :-",null,{"$f":"IF(OR($I1956=\"\",$I1956=\"NSO\"),\"\",VLOOKUP($A1951,'Result Entry'!$B$9:$EQ$108,117,0))","v":0},"Attedance %"]
[null,"◐","Extra Subjects",{"$nulls":5},"Student's Meetings :-",null,{"$f":"IF(OR($I1956=\"\",$I1956=\"NSO\"),\"\",VLOOKUP($A1951,'Result Entry'!$B$9:$EQ$108,118,0))","v":0},{"$f":"IF(OR($I1956=\"\",$I1956=\"NSO\"),\"\",VLOOKUP($A1951,'Result Entry'!$B$9:$EQ$108,119,0))","v":""}]
[null,"◐","Subject",null,null,"Total Marks",null,"GRADE","Remark :-",null,{"$f":"IF(OR($I1956=\"\",$I1956=\"NSO\"),\"\",VLOOKUP($A1951,'Result Entry'!$B$9:$EQ$108,127,0))","v":0}]
[null,"◐",{"$f":"'Result Entry'!$CH$3","v":"WORK EXP."},null,null,{"$f":"IF(OR(C1978=\"\",$I1956=\"NSO\"),\"\",VLOOKUP($A1951,'Result Entry'!$B$9:$EQ$108,138,0))","v":"0/100"},null,{"$f":"IF(OR(C1978=\"\",$I1956=\"NSO\"),\"\",VLOOKUP($A1951,'Result Entry'!$B$9:$EQ$108,92,0))","v":""},"Result Date :-",null,{"$f":"'Result Entry'!$U$2","v":"2024-05-07"}]
[null,"◐",{"$f":"'Result Entry'!$CP$3","v":"ART EDU."},null,null,{"$f":"IF(OR(C1979=\"\",$I1956=\"NSO\"),\"\",VLOOKUP($A1951,'Result Entry'!$B$9:$EQ$108,142,0))","v":"0/100"},null,{"$f":"IF(OR(C1979=\"\",$I1956=\"NSO\"),\"\",VLOOKUP($A1951,'Result Entry'!$B$9:$EQ$108,100,0))","v":""}]
[null,null,{"$f":"'Result Entry'!$CX$3","v":"H&P. EDU."},null,null,{"$f":"IF(OR(C1980=\"\",$I1956=\"NSO\"),\"\",VLOOKUP($A1951,'Result Entry'!$B$9:$EQ$108,146,0))","v":"0/0"},null,{"$f":"IF(OR(C1980=\"\",$I1956=\"NSO\"),\"\",VLOOKUP($A1951,'Result Entry'!$B$9:$EQ$108,108,0))","v":""}]
[null,"◐",{"$f":"'Result Entry'!$DF$3","v":0},null,null,{"$f":"IF(OR(C1981=\"\",$I1956=\"NSO\"),\"\",VLOOKUP($A1951,'Result Entry'!$B$9:$EQ$108,131,0))","v":0},null,{"$f":"IF(OR(C1981=\"\",$I1956=\"NSO\"),\"\",VLOOKUP($A1951,'Result Entry'!$B$9:$EQ$108,97,0))","v":0},"Signature Of The Class Teacher"]
[null,"◐","Grading System"]
[null,"◐","Grd.","% Range",null,"Description"]
[null,"◐","A","86-100",null,"Excellent",null,null,"Signature And Seal Of Principal/H.M."]
[null,"◐","B","71-85",null,"Very Good"]
[null,"◐","C","51-70",null,"Good"]
[null,"◐","D","31-50",null,"Average"]
[null,"◐","E","0-30",null,"Needs Improvement",null,null,"Wish bright future"]
[]
[{"$f":"A1951+1","v":52},"Department Of Education, Rajasthan"]
[null,{"$f":"IF(I1995>0,CONCATENATE(C1995,I1995),0)","v":0},null,{"$f":"Master!$E$8","v":"Govt.Sr.Sec.Sch."}]
[{"$nulls":3},{"$f":"Master!$E$11","v":"P.S.-Bapini (Jodhpur)"}]
[null,null,"Report Card",{"$nulls":6},"U-DISE Code:-",null,{"$f":"Master!$E$14","v":{"v":810000000,"d":"0810000000"}}]
[{"$nulls":9},"Session:-",null,{"$f":"Master!$E$6","v":"2023-24"}]
[null,null,"Roll No.:-",{"$nulls":5},{"$f":"VLOOKUP($A1990,'Result Entry'!$B$9:$F$108,5,0)","v":0}]
[null,"◐","Scholar Number",{"$nulls":3},"↠",{"$f":"VLOOKUP($A1990,'Result Entry'!$B$9:$EQ$108,3,0)","v":0}]
[null,"◐","Student's Name",{"$nulls":3},"↠",{"$f":"VLOOKUP($A1990,'Result Entry'!$B$9:$EQ$108,6,0)","v":0}]
[null,"◐","Father's Name",{"$nulls":3},"↠",{"$f":"VLOOKUP($A1990,'Result Entry'!$B$9:$EQ$108,7,0)","v":0}]
[null,"◐","Mother's Name ",{"$nulls":3},"↠",{"$f":"VLOOKUP($A1990,'Result Entry'!$B$9:$EQ$108,8,0)","v":0}]
[null,"◐","Class & Section",{"$nulls":3},"↠",{"$f":"CONCATENATE('Result Entry'!$F$4,'Result Entry'!$I$4)","v":"2(A)"}]
[null,"◐","Date Of Birth",{"$nulls":3},"↠",{"$f":"VLOOKUP($A1990,'Result Entry'!$B$9:$EQ$108,9,0)","v":"00:00:00"}]
[null,"◐","Subject",null,{"$f":"'Result Entry'!$K$6","v":"First Test"},{"$f":"'Result Entry'!$L$6","v":"Second Test"},{"$f":"'Result Entry'!$M$6","v":"Third Test"},"Half Yearly","Total (Test+H.Y.)","Yearly","Grand Total",null,"Subject Grade"]
[null,"◐","Max. Marks",null,{"$f":"'Result Entry'!$K$7","v":10},{"$f":"'Result Entry'!$L$7","v":10},{"$f":"'Result Entry'!$M$7","v":10},{"$f":"'Result Entry'!$R$7","v":70},{"$f":"SUM(E2003:H2003)","v":100},{"$f":"'Result Entry'!$V$7","v":100},{"$f":"I2003+J2003","v":200},null,"A+/A/B/C/D"]
[null,"◐",{"$f":"'Result Entry'!$K$3","v":"Hindi"},null,{"$f":"IF(OR(C2004=\"\",$I1995=\"NSO\"),\"\",VLOOKUP($A1990,'Result Entry'!$B$9:$EQ$108,10,0))","v":0},{"$f":"IF(OR(C2004=\"\",$I1995=\"NSO\"),\"\",VLOOKUP($A1990,'Result Entry'!$B$9:$EQ$108,11,0))","v":0},{"$f":"IF(OR(C2004=\"\",$I1995=\"NSO\"),\"\",VLOOKUP($A1990,'Result Entry'!$B$9:$EQ$108,12,0))","v":0},{"$f":"IF(OR(C2004=\"\",$I1995=\"NSO\"),\"\",VLOOKUP($A1990,'Result Entry'!$B$9:$EQ$108,17,0))","v":0},{"$f":"SUM(E2004:H2004)","v":0},{"$f":"IF(OR(C2004=\"\",$I1995=\"NSO\"),\"\",VLOOKUP($A1990,'Result Entry'!$B$9:$EQ$108,21,0))","v":0},{"$f":"SUM(I2004,J2004)","v":0},null,{"$f":"IF(OR(C2004=\"\",$I1995=\"NSO\"),\"\",VLOOKUP($A1990,'Result Entry'!$B$9:$EQ$108,24,0))","v":""}]
[null,"◐",{"$f":"'Result Entry'!$Z$3","v":"Mathematics"},null,{"$f":"IF(OR(C2005=\"\",$I1995=\"NSO\"),\"\",VLOOKUP($A1990,'Result Entry'!$B$9:$EQ$108,25,0))","v":0},{"$f":"IF(OR(C2005=\"\",$I1995=\"NSO\"),\"\",VLOOKUP($A1990,'Result Entry'!$B$9:$EQ$108,26,0))","v":0},{"$f":"IF(OR(C2005=\"\",$I1995=\"NSO\"),\"\",VLOOKUP($A1990,'Result Entry'!$B$9:$EQ$108,27,0))","v":0},{"$f":"IF(OR(C2005=\"\",$I1995=\"NSO\"),\"\",VLOOKUP($A1990,'Result Entry'!$B$9:$EQ$108,32,0))","v":0},0,{"$f":"IF(OR(C2005=\"\",$I1995=\"NSO\"),\"\",VLOOKUP($A1990,'Result Entry'!$B$9:$EQ$108,36,0))","v":0},{"$f":"SUM(I2005,J2005)","v":0},null,{"$f":"IF(OR(C2005=\"\",$I1995=\"NSO\"),\"\",VLOOKUP($A1990,'Result Entry'!$B$9:$EQ$108,39,0))","v":""}]
[null,"◐",{"$f":"'Result Entry'!$BD$3","v":"Env. Study"},null,{"$f":"IF(OR(C2006=\"\",$I1995=\"NSO\"),\"\",VLOOKUP($A1990,'Result Entry'!$B$9:$EQ$108,55,0))","v":0},{"$f":"IF(OR(C2006=\"\",$I1995=\"NSO\"),\"\",VLOOKUP($A1990,'Result Entry'!$B$9:$EQ$108,56,0))","v":0},{"$f":"IF(OR(C2006=\"\",$I1995=\"NSO\"),\"\",VLOOKUP($A1990,'Result Entry'!$B$9:$EQ$108,57,0))","v":0},{"$f":"IF(OR(C2004=\"\",$I1995=\"NSO\"),\"\",VLOOKUP($A1990,'Result Entry'!$B$9:$EQ$108,62,0))","v":0},0,{"$f":"IF(OR(C2005=\"\",$I1995=\"NSO\"),\"\",VLOOKUP($A1990,'Result Entry'!$B$9:$EQ$108,66,0))","v":0},0,null,{"$f":"IF(OR(C2005=\"\",$I1995=\"NSO\"),\"\",VLOOKUP($A1990,'Result Entry'!$B$9:$EQ$108,69,0))","v":""}]
[null,"◐","Max. Marks",null,{"$f":"'Result Entry'!$AO$7","v":5},{"$f":"'Result Entry'!$AP$7","v":5},{"$f":"'Result Entry'!$AQ$7","v":5},{"$f":"'Result Entry'!$AV$7","v":35},50,{"$f":"'Result Entry'!$AZ$7","v":50},100,null,"A+/A/B/C/D"]
[null,"◐",{"$f":"'Result Entry'!$AO$3","v":"English"},null,{"$f":"IF(OR(C2008=\"\",$I1995=\"NSO\"),\"\",VLOOKUP($A1990,'Result Entry'!$B$9:$EQ$108,40,0))","v":0},{"$f":"IF(OR(C2008=\"\",$I1995=\"NSO\"),\"\",VLOOKUP($A1990,'Result Entry'!$B$9:$EQ$108,41,0))","v":0},{"$f":"IF(OR(C2008=\"\",$I1995=\"NSO\"),\"\",VLOOKUP($A1990,'Result Entry'!$B$9:$EQ$108,42,0))","v":0},{"$f":"IF(OR(C2008=\"\",$I1995=\"NSO\"),\"\",VLOOKUP($A1990,'Result Entry'!$B$9:$EQ$108,47,0))","v":0},0,{"$f":"IF(OR(C2008=\"\",$I1995=\"NSO\"),\"\",VLOOKUP($A1990,'Result Entry'!$B$9:$EQ$108,51,0))","v":0},0,null,{"$f":"IF(OR(C2008=\"\",$I1995=\"NSO\"),\"\",VLOOKUP($A1990,'Result Entry'!$B$9:$EQ$108,54,0))","v":""}]
[null,"◐","Max. Marks",null,{"$f":"'Result Entry'!$BS$7","v":10},{"$f":"'Result Entry'!$BT$7","v":10},{"$f":"'Result Entry'!$BU$7","v":10},{"$f":"'Result Entry'!$BZ$7","v":70},{"$f":"SUM(E2009:H2009)","v":100},{"$f":"'Result Entry'!$CD$7","v":100},200,null,"A+/A/B/C/D"]
[null,"◐",{"$f":"'Result Entry'!$BS$3","v":"Sanskrit/Urdu"},null,{"$f":"IF(OR(C2010=\"\",$I1995=\"NSO\"),\"\",VLOOKUP($A1990,'Result Entry'!$B$9:$EQ$108,70,0))","v":0},{"$f":"IF(OR(C2010=\"\",$I1995=\"NSO\"),\"\",VLOOKUP($A1990,'Result Entry'!$B$9:$EQ$108,71,0))","v":0},{"$f":"IF(OR(C2010=\"\",$I1995=\"NSO\"),\"\",VLOOKUP($A1990,'Result Entry'!$B$9:$EQ$108,72,0))","v":0},{"$f":"IF(OR(C2010=\"\",$I1995=\"NSO\"),\"\",VLOOKUP($A1990,'Result Entry'!$B$9:$EQ$108,77,0))","v":0},{"$f":"SUM(E2010:H2010)","v":0},{"$f":"IF(OR(C2010=\"\",$I1995=\"NSO\"),\"\",VLOOKUP($A1990,'Result Entry'!$B$9:$EQ$108,81,0))","v":0},0,null,{"$f":"IF(OR(C2010=\"\",$I1995=\"NSO\"),\"\",VLOOKUP($A1990,'Result Entry'!$B$9:$EQ$108,84,0))","v":""}]
[null,"◐"]
[null,"◐","Overall Result",null,null,"Total Max. Marks",null,"Total Obtained Marks",null,"Percentage","Overall Grade","Result","Position in Class"]
[null,"◐",{"$nulls":3},{"$f":"IF(OR($I1995=\"\",$I1995=\"NSO\"),\"\",VLOOKUP($A1990,'Result Entry'!$B$9:$EQ$108,120,0))","v":900},null,{"$f":"IF(OR($I1995=\"\",$I1995=\"NSO\"),\"\",VLOOKUP($A1990,'Result Entry'!$B$9:$EQ$108,121,0))","v":0},null,{"$f":"IF(OR($I1995=\"\",$I1995=\"NSO\"),\"\",VLOOKUP($A1990,'Result Entry'!$B$9:$EQ$108,122,0))","v":{"v":0,"d":"0.00"}},{"$f":"IF(OR($I1995=\"\",$I1995=\"NSO\"),\"\",VLOOKUP($A1990,'Result Entry'!$B$9:$EQ$108,123,0))","v":""},{"$f":"IF(OR($I1995=\"\",$I1995=\"NSO\"),\"\",VLOOKUP($A1990,'Result Entry'!$B$9:$EQ$108,124,0))","v":""},{"$f":"IF(OR($I1995=\"\",$I1995=\"NSO\"),\"\",VLOOKUP($A1990,'Result Entry'!$B$9:$EQ$108,126,0))","v":""}]
[null,"◐",{"$nulls":6},"Total Meetings :-",null,{"$f":"IF(OR($I1995=\"\",$I1995=\"NSO\"),\"\",VLOOKUP($A1990,'Result Entry'!$B$9:$EQ$108,117,0))","v":0},"Attedance %"]
[null,"◐","Extra Subjects",{"$nulls":5},"Student's Meetings :-",null,{"$f":"IF(OR($I1995=\"\",$I1995=\"NSO\"),\"\",VLOOKUP($A1990,'Result Entry'!$B$9:$EQ$108,118,0))","v":0},{"$f":"IF(OR($I1995=\"\",$I1995=\"NSO\"),\"\",VLOOKUP($A1990,'Result Entry'!$B$9:$EQ$108,119,0))","v":""}]
[null,"◐","Subject",null,null,"Total Marks",null,"GRADE","Remark :-",null,{"$f":"IF(OR($I1995=\"\",$I1995=\"NSO\"),\"\",VLOOKUP($A1990,'Result Entry'!$B$9:$EQ$108,127,0))","v":0}]
[null,"◐",{"$f":"'Result Entry'!$CH$3","v":"WORK EXP."},null,null,{"$f":"IF(OR(C2017=\"\",$I1995=\"NSO\"),\"\",VLOOKUP($A1990,'Result Entry'!$B$9:$EQ$108,138,0))","v":"0/100"},null,{"$f":"IF(OR(C2017=\"\",$I1995=\"NSO\"),\"\",VLOOKUP($A1990,'Result Entry'!$B$9:$EQ$108,92,0))","v":""},"Result Date :-",null,{"$f":"'Result Entry'!$U$2","v":"2024-05-07"}]
[null,"◐",{"$f":"'Result Entry'!$CP$3","v":"ART EDU."},null,null,{"$f":"IF(OR(C2018=\"\",$I1995=\"NSO\"),\"\",VLOOKUP($A1990,'Result Entry'!$B$9:$EQ$108,142,0))","v":"0/100"},null,{"$f":"IF(OR(C2018=\"\",$I1995=\"NSO\"),\"\",VLOOKUP($A1990,'Result Entry'!$B$9:$EQ$108,100,0))","v":""}]
[null,null,{"$f":"'Result Entry'!$CX$3","v":"H&P. EDU."},null,null,{"$f":"IF(OR(C2019=\"\",$I1995=\"NSO\"),\"\",VLOOKUP($A1990,'Result Entry'!$B$9:$EQ$108,146,0))","v":"0/0"},null,{"$f":"IF(OR(C2019=\"\",$I1995=\"NSO\"),\"\",VLOOKUP($A1990,'Result Entry'!$B$9:$EQ$108,108,0))","v":""}]
[null,"◐",{"$f":"'Result Entry'!$DF$3","v":0},null,null,{"$f":"IF(OR(C2020=\"\",$I1995=\"NSO\"),\"\",VLOOKUP($A1990,'Result Entry'!$B$9:$EQ$108,131,0))","v":0},null,{"$f":"IF(OR(C2020=\"\",$I1995=\"NSO\"),\"\",VLOOKUP($A1990,'Result Entry'!$B$9:$EQ$108,97,0))","v":0},"Signature Of The Class Teacher"]
[null,"◐","Grading System"]
[null,"◐","Grd.","% Range",null,"Description"]
[null,"◐","A","86-100",null,"Excellent",null,null,"Signature And Seal Of Principal/H.M."]
[null,"◐","B","71-85",null,"Very Good"]
[null,"◐","C","51-70",null,"Good"]
[null,"◐","D","31-50",null,"Average"]
[null,"◐","E","0-30",null,"Needs Improvement",null,null,"Wish bright future"]
[]
[{"$f":"A1990+1","v":53},"Department Of Education, Rajasthan"]
[null,{"$f":"IF(I2034>0,CONCATENATE(C2034,I2034),0)","v":0},null,{"$f":"Master!$E$8","v":"Govt.Sr.Sec.Sch."}]
[{"$nulls":3},{"$f":"Master!$E$11","v":"P.S.-Bapini (Jodhpur)"}]
[null,null,"Report Card",{"$nulls":6},"U-DISE Code:-",null,{"$f":"Master!$E$14","v":{"v":810000000,"d":"0810000000"}}]
[{"$nulls":9},"Session:-",null,{"$f":"Master!$E$6","v":"2023-24"}]
[null,null,"Roll No.:-",{"$nulls":5},{"$f":"VLOOKUP($A2029,'Result Entry'!$B$9:$F$108,5,0)","v":0}]
[null,"◐","Scholar Number",{"$nulls":3},"↠",{"$f":"VLOOKUP($A2029,'Result Entry'!$B$9:$EQ$108,3,0)","v":0}]
[null,"◐","Student's Name",{"$nulls":3},"↠",{"$f":"VLOOKUP($A2029,'Result Entry'!$B$9:$EQ$108,6,0)","v":0}]
[null,"◐","Father's Name",{"$nulls":3},"↠",{"$f":"VLOOKUP($A2029,'Result Entry'!$B$9:$EQ$108,7,0)","v":0}]
[null,"◐","Mother's Name ",{"$nulls":3},"↠",{"$f":"VLOOKUP($A2029,'Result Entry'!$B$9:$EQ$108,8,0)","v":0}]
[null,"◐","Class & Section",{"$nulls":3},"↠",{"$f":"CONCATENATE('Result Entry'!$F$4,'Result Entry'!$I$4)","v":"2(A)"}]
[null,"◐","Date Of Birth",{"$nulls":3},"↠",{"$f":"VLOOKUP($A2029,'Result Entry'!$B$9:$EQ$108,9,0)","v":"00:00:00"}]
[null,"◐","Subject",null,{"$f":"'Result Entry'!$K$6","v":"First Test"},{"$f":"'Result Entry'!$L$6","v":"Second Test"},{"$f":"'Result Entry'!$M$6","v":"Third Test"},"Half Yearly","Total (Test+H.Y.)","Yearly","Grand Total",null,"Subject Grade"]
[null,"◐","Max. Marks",null,{"$f":"'Result Entry'!$K$7","v":10},{"$f":"'Result Entry'!$L$7","v":10},{"$f":"'Result Entry'!$M$7","v":10},{"$f":"'Result Entry'!$R$7","v":70},{"$f":"SUM(E2042:H2042)","v":100},{"$f":"'Result Entry'!$V$7","v":100},{"$f":"I2042+J2042","v":200},null,"A+/A/B/C/D"]
[null,"◐",{"$f":"'Result Entry'!$K$3","v":"Hindi"},null,{"$f":"IF(OR(C2043=\"\",$I2034=\"NSO\"),\"\",VLOOKUP($A2029,'Result Entry'!$B$9:$EQ$108,10,0))","v":0},{"$f":"IF(OR(C2043=\"\",$I2034=\"NSO\"),\"\",VLOOKUP($A2029,'Result Entry'!$B$9:$EQ$108,11,0))","v":0},{"$f":"IF(OR(C2043=\"\",$I2034=\"NSO\"),\"\",VLOOKUP($A2029,'Result Entry'!$B$9:$EQ$108,12,0))","v":0},{"$f":"IF(OR(C2043=\"\",$I2034=\"NSO\"),\"\",VLOOKUP($A2029,'Result Entry'!$B$9:$EQ$108,17,0))","v":0},{"$f":"SUM(E2043:H2043)","v":0},{"$f":"IF(OR(C2043=\"\",$I2034=\"NSO\"),\"\",VLOOKUP($A2029,'Result Entry'!$B$9:$EQ$108,21,0))","v":0},{"$f":"SUM(I2043,J2043)","v":0},null,{"$f":"IF(OR(C2043=\"\",$I2034=\"NSO\"),\"\",VLOOKUP($A2029,'Result Entry'!$B$9:$EQ$108,24,0))","v":""}]
[null,"◐",{"$f":"'Result Entry'!$Z$3","v":"Mathematics"},null,{"$f":"IF(OR(C2044=\"\",$I2034=\"NSO\"),\"\",VLOOKUP($A2029,'Result Entry'!$B$9:$EQ$108,25,0))","v":0},{"$f":"IF(OR(C2044=\"\",$I2034=\"NSO\"),\"\",VLOOKUP($A2029,'Result Entry'!$B$9:$EQ$108,26,0))","v":0},{"$f":"IF(OR(C2044=\"\",$I2034=\"NSO\"),\"\",VLOOKUP($A2029,'Result Entry'!$B$9:$EQ$108,27,0))","v":0},{"$f":"IF(OR(C2044=\"\",$I2034=\"NSO\"),\"\",VLOOKUP($A2029,'Result Entry'!$B$9:$EQ$108,32,0))","v":0},0,{"$f":"IF(OR(C2044=\"\",$I2034=\"NSO\"),\"\",VLOOKUP($A2029,'Result Entry'!$B$9:$EQ$108,36,0))","v":0},{"$f":"SUM(I2044,J2044)","v":0},null,{"$f":"IF(OR(C2044=\"\",$I2034=\"NSO\"),\"\",VLOOKUP($A2029,'Result Entry'!$B$9:$EQ$108,39,0))","v":""}]
[null,"◐",{"$f":"'Result Entry'!$BD$3","v":"Env. Study"},null,{"$f":"IF(OR(C2045=\"\",$I2034=\"NSO\"),\"\",VLOOKUP($A2029,'Result Entry'!$B$9:$EQ$108,55,0))","v":0},{"$f":"IF(OR(C2045=\"\",$I2034=\"NSO\"),\"\",VLOOKUP($A2029,'Result Entry'!$B$9:$EQ$108,56,0))","v":0},{"$f":"IF(OR(C2045=\"\",$I2034=\"NSO\"),\"\",VLOOKUP($A2029,'Result Entry'!$B$9:$EQ$108,57,0))","v":0},{"$f":"IF(OR(C2043=\"\",$I2034=\"NSO\"),\"\",VLOOKUP($A2029,'Result Entry'!$B$9:$EQ$108,62,0))","v":0},0,{"$f":"IF(OR(C2044=\"\",$I2034=\"NSO\"),\"\",VLOOKUP($A2029,'Result Entry'!$B$9:$EQ$108,66,0))","v":0},0,null,{"$f":"IF(OR(C2044=\"\",$I2034=\"NSO\"),\"\",VLOOKUP($A2029,'Result Entry'!$B$9:$EQ$108,69,0))","v":""}]
[null,"◐","Max. Marks",null,{"$f":"'Result Entry'!$AO$7","v":5},{"$f":"'Result Entry'!$AP$7","v":5},{"$f":"'Result Entry'!$AQ$7","v":5},{"$f":"'Result Entry'!$AV$7","v":35},50,{"$f":"'Result Entry'!$AZ$7","v":50},100,null,"A+/A/B/C/D"]
[null,"◐",{"$f":"'Result Entry'!$AO$3","v":"English"},null,{"$f":"IF(OR(C2047=\"\",$I2034=\"NSO\"),\"\",VLOOKUP($A2029,'Result Entry'!$B$9:$EQ$108,40,0))","v":0},{"$f":"IF(OR(C2047=\"\",$I2034=\"NSO\"),\"\",VLOOKUP($A2029,'Result Entry'!$B$9:$EQ$108,41,0))","v":0},{"$f":"IF(OR(C2047=\"\",$I2034=\"NSO\"),\"\",VLOOKUP($A2029,'Result Entry'!$B$9:$EQ$108,42,0))","v":0},{"$f":"IF(OR(C2047=\"\",$I2034=\"NSO\"),\"\",VLOOKUP($A2029,'Result Entry'!$B$9:$EQ$108,47,0))","v":0},0,{"$f":"IF(OR(C2047=\"\",$I2034=\"NSO\"),\"\",VLOOKUP($A2029,'Result Entry'!$B$9:$EQ$108,51,0))","v":0},0,null,{"$f":"IF(OR(C2047=\"\",$I2034=\"NSO\"),\"\",VLOOKUP($A2029,'Result Entry'!$B$9:$EQ$108,54,0))","v":""}]
[null,"◐","Max. Marks",null,{"$f":"'Result Entry'!$BS$7","v":10},{"$f":"'Result Entry'!$BT$7","v":10},{"$f":"'Result Entry'!$BU$7","v":10},{"$f":"'Result Entry'!$BZ$7","v":70},{"$f":"SUM(E2048:H2048)","v":100},{"$f":"'Result Entry'!$CD$7","v":100},200,null,"A+/A/B/C/D"]
[null,"◐",{"$f":"'Result Entry'!$BS$3","v":"Sanskrit/Urdu"},null,{"$f":"IF(OR(C2049=\"\",$I2034=\"NSO\"),\"\",VLOOKUP($A2029,'Result Entry'!$B$9:$EQ$108,70,0))","v":0},{"$f":"IF(OR(C2049=\"\",$I2034=\"NSO\"),\"\",VLOOKUP($A2029,'Result Entry'!$B$9:$EQ$108,71,0))","v":0},{"$f":"IF(OR(C2049=\"\",$I2034=\"NSO\"),\"\",VLOOKUP($A2029,'Result Entry'!$B$9:$EQ$108,72,0))","v":0},{"$f":"IF(OR(C2049=\"\",$I2034=\"NSO\"),\"\",VLOOKUP($A2029,'Result Entry'!$B$9:$EQ$108,77,0))","v":0},{"$f":"SUM(E2049:H2049)","v":0},{"$f":"IF(OR(C2049=\"\",$I2034=\"NSO\"),\"\",VLOOKUP($A2029,'Result Entry'!$B$9:$EQ$108,81,0))","v":0},0,null,{"$f":"IF(OR(C2049=\"\",$I2034=\"NSO\"),\"\",VLOOKUP($A2029,'Result Entry'!$B$9:$EQ$108,84,0))","v":""}]
[null,"◐"]
[null,"◐","Overall Result",null,null,"Total Max. Marks",null,"Total Obtained Marks",null,"Percentage","Overall Grade","Result","Position in Class"]
[null,"◐",{"$nulls":3},{"$f":"IF(OR($I2034=\"\",$I2034=\"NSO\"),\"\",VLOOKUP($A2029,'Result Entry'!$B$9:$EQ$108,120,0))","v":900},null,{"$f":"IF(OR($I2034=\"\",$I2034=\"NSO\"),\"\",VLOOKUP($A2029,'Result Entry'!$B$9:$EQ$108,121,0))","v":0},null,{"$f":"IF(OR($I2034=\"\",$I2034=\"NSO\"),\"\",VLOOKUP($A2029,'Result Entry'!$B$9:$EQ$108,122,0))","v":{"v":0,"d":"0.00"}},{"$f":"IF(OR($I2034=\"\",$I2034=\"NSO\"),\"\",VLOOKUP($A2029,'Result Entry'!$B$9:$EQ$108,123,0))","v":""},{"$f":"IF(OR($I2034=\"\",$I2034=\"NSO\"),\"\",VLOOKUP($A2029,'Result Entry'!$B$9:$EQ$108,124,0))","v":""},{"$f":"IF(OR($I2034=\"\",$I2034=\"NSO\"),\"\",VLOOKUP($A2029,'Result Entry'!$B$9:$EQ$108,126,0))","v":""}]
[null,"◐",{"$nulls":6},"Total Meetings :-",null,{"$f":"IF(OR($I2034=\"\",$I2034=\"NSO\"),\"\",VLOOKUP($A2029,'Result Entry'!$B$9:$EQ$108,117,0))","v":0},"Attedance %"]
[null,"◐","Extra Subjects",{"$nulls":5},"Student's Meetings :-",null,{"$f":"IF(OR($I2034=\"\",$I2034=\"NSO\"),\"\",VLOOKUP($A2029,'Result Entry'!$B$9:$EQ$108,118,0))","v":0},{"$f":"IF(OR($I2034=\"\",$I2034=\"NSO\"),\"\",VLOOKUP($A2029,'Result Entry'!$B$9:$EQ$108,119,0))","v":""}]
[null,"◐","Subject",null,null,"Total Marks",null,"GRADE","Remark :-",null,{"$f":"IF(OR($I2034=\"\",$I2034=\"NSO\"),\"\",VLOOKUP($A2029,'Result Entry'!$B$9:$EQ$108,127,0))","v":0}]
[null,"◐",{"$f":"'Result Entry'!$CH$3","v":"WORK EXP."},null,null,{"$f":"IF(OR(C2056=\"\",$I2034=\"NSO\"),\"\",VLOOKUP($A2029,'Result Entry'!$B$9:$EQ$108,138,0))","v":"0/100"},null,{"$f":"IF(OR(C2056=\"\",$I2034=\"NSO\"),\"\",VLOOKUP($A2029,'Result Entry'!$B$9:$EQ$108,92,0))","v":""},"Result Date :-",null,{"$f":"'Result Entry'!$U$2","v":"2024-05-07"}]
[null,"◐",{"$f":"'Result Entry'!$CP$3","v":"ART EDU."},null,null,{"$f":"IF(OR(C2057=\"\",$I2034=\"NSO\"),\"\",VLOOKUP($A2029,'Result Entry'!$B$9:$EQ$108,142,0))","v":"0/100"},null,{"$f":"IF(OR(C2057=\"\",$I2034=\"NSO\"),\"\",VLOOKUP($A2029,'Result Entry'!$B$9:$EQ$108,100,0))","v":""}]
[null,null,{"$f":"'Result Entry'!$CX$3","v":"H&P. EDU."},null,null,{"$f":"IF(OR(C2058=\"\",$I2034=\"NSO\"),\"\",VLOOKUP($A2029,'Result Entry'!$B$9:$EQ$108,146,0))","v":"0/0"},null,{"$f":"IF(OR(C2058=\"\",$I2034=\"NSO\"),\"\",VLOOKUP($A2029,'Result Entry'!$B$9:$EQ$108,108,0))","v":""}]
[null,"◐",{"$f":"'Result Entry'!$DF$3","v":0},null,null,{"$f":"IF(OR(C2059=\"\",$I2034=\"NSO\"),\"\",VLOOKUP($A2029,'Result Entry'!$B$9:$EQ$108,131,0))","v":0},null,{"$f":"IF(OR(C2059=\"\",$I2034=\"NSO\"),\"\",VLOOKUP($A2029,'Result Entry'!$B$9:$EQ$108,97,0))","v":0},"Signature Of The Class Teacher"]
[null,"◐","Grading System"]
[null,"◐","Grd.","% Range",null,"Description"]
[null,"◐","A","86-100",null,"Excellent",null,null,"Signature And Seal Of Principal/H.M."]
[null,"◐","B","71-85",null,"Very Good"]
[null,"◐","C","51-70",null,"Good"]
[null,"◐","D","31-50",null,"Average"]
[null,"◐","E","0-30",null,"Needs Improvement",null,null,"Wish bright future"]
[]
[{"$f":"A2029+1","v":54},"Department Of Education, Rajasthan"]
[null,{"$f":"IF(I2073>0,CONCATENATE(C2073,I2073),0)","v":0},null,{"$f":"Master!$E$8","v":"Govt.Sr.Sec.Sch."}]
[{"$nulls":3},{"$f":"Master!$E$11","v":"P.S.-Bapini (Jodhpur)"}]
[null,null,"Report Card",{"$nulls":6},"U-DISE Code:-",null,{"$f":"Master!$E$14","v":{"v":810000000,"d":"0810000000"}}]
[{"$nulls":9},"Session:-",null,{"$f":"Master!$E$6","v":"2023-24"}]
[null,null,"Roll No.:-",{"$nulls":5},{"$f":"VLOOKUP($A2068,'Result Entry'!$B$9:$F$108,5,0)","v":0}]
[null,"◐","Scholar Number",{"$nulls":3},"↠",{"$f":"VLOOKUP($A2068,'Result Entry'!$B$9:$EQ$108,3,0)","v":0}]
[null,"◐","Student's Name",{"$nulls":3},"↠",{"$f":"VLOOKUP($A2068,'Result Entry'!$B$9:$EQ$108,6,0)","v":0}]
[null,"◐","Father's Name",{"$nulls":3},"↠",{"$f":"VLOOKUP($A2068,'Result Entry'!$B$9:$EQ$108,7,0)","v":0}]
[null,"◐","Mother's Name ",{"$nulls":3},"↠",{"$f":"VLOOKUP($A2068,'Result Entry'!$B$9:$EQ$108,8,0)","v":0}]
[null,"◐","Class & Section",{"$nulls":3},"↠",{"$f":"CONCATENATE('Result Entry'!$F$4,'Result Entry'!$I$4)","v":"2(A)"}]
[null,"◐","Date Of Birth",{"$nulls":3},"↠",{"$f":"VLOOKUP($A2068,'Result Entry'!$B$9:$EQ$108,9,0)","v":"00:00:00"}]
[null,"◐","Subject",null,{"$f":"'Result Entry'!$K$6","v":"First Test"},{"$f":"'Result Entry'!$L$6","v":"Second Test"},{"$f":"'Result Entry'!$M$6","v":"Third Test"},"Half Yearly","Total (Test+H.Y.)","Yearly","Grand Total",null,"Subject Grade"]
[null,"◐","Max. Marks",null,{"$f":"'Result Entry'!$K$7","v":10},{"$f":"'Result Entry'!$L$7","v":10},{"$f":"'Result Entry'!$M$7","v":10},{"$f":"'Result Entry'!$R$7","v":70},{"$f":"SUM(E2081:H2081)","v":100},{"$f":"'Result Entry'!$V$7","v":100},{"$f":"I2081+J2081","v":200},null,"A+/A/B/C/D"]
[null,"◐",{"$f":"'Result Entry'!$K$3","v":"Hindi"},null,{"$f":"IF(OR(C2082=\"\",$I2073=\"NSO\"),\"\",VLOOKUP($A2068,'Result Entry'!$B$9:$EQ$108,10,0))","v":0},{"$f":"IF(OR(C2082=\"\",$I2073=\"NSO\"),\"\",VLOOKUP($A2068,'Result Entry'!$B$9:$EQ$108,11,0))","v":0},{"$f":"IF(OR(C2082=\"\",$I2073=\"NSO\"),\"\",VLOOKUP($A2068,'Result Entry'!$B$9:$EQ$108,12,0))","v":0},{"$f":"IF(OR(C2082=\"\",$I2073=\"NSO\"),\"\",VLOOKUP($A2068,'Result Entry'!$B$9:$EQ$108,17,0))","v":0},{"$f":"SUM(E2082:H2082)","v":0},{"$f":"IF(OR(C2082=\"\",$I2073=\"NSO\"),\"\",VLOOKUP($A2068,'Result Entry'!$B$9:$EQ$108,21,0))","v":0},{"$f":"SUM(I2082,J2082)","v":0},null,{"$f":"IF(OR(C2082=\"\",$I2073=\"NSO\"),\"\",VLOOKUP($A2068,'Result Entry'!$B$9:$EQ$108,24,0))","v":""}]
[null,"◐",{"$f":"'Result Entry'!$Z$3","v":"Mathematics"},null,{"$f":"IF(OR(C2083=\"\",$I2073=\"NSO\"),\"\",VLOOKUP($A2068,'Result Entry'!$B$9:$EQ$108,25,0))","v":0},{"$f":"IF(OR(C2083=\"\",$I2073=\"NSO\"),\"\",VLOOKUP($A2068,'Result Entry'!$B$9:$EQ$108,26,0))","v":0},{"$f":"IF(OR(C2083=\"\",$I2073=\"NSO\"),\"\",VLOOKUP($A2068,'Result Entry'!$B$9:$EQ$108,27,0))","v":0},{"$f":"IF(OR(C2083=\"\",$I2073=\"NSO\"),\"\",VLOOKUP($A2068,'Result Entry'!$B$9:$EQ$108,32,0))","v":0},0,{"$f":"IF(OR(C2083=\"\",$I2073=\"NSO\"),\"\",VLOOKUP($A2068,'Result Entry'!$B$9:$EQ$108,36,0))","v":0},{"$f":"SUM(I2083,J2083)","v":0},null,{"$f":"IF(OR(C2083=\"\",$I2073=\"NSO\"),\"\",VLOOKUP($A2068,'Result Entry'!$B$9:$EQ$108,39,0))","v":""}]
[null,"◐",{"$f":"'Result Entry'!$BD$3","v":"Env. Study"},null,{"$f":"IF(OR(C2084=\"\",$I2073=\"NSO\"),\"\",VLOOKUP($A2068,'Result Entry'!$B$9:$EQ$108,55,0))","v":0},{"$f":"IF(OR(C2084=\"\",$I2073=\"NSO\"),\"\",VLOOKUP($A2068,'Result Entry'!$B$9:$EQ$108,56,0))","v":0},{"$f":"IF(OR(C2084=\"\",$I2073=\"NSO\"),\"\",VLOOKUP($A2068,'Result Entry'!$B$9:$EQ$108,57,0))","v":0},{"$f":"IF(OR(C2082=\"\",$I2073=\"NSO\"),\"\",VLOOKUP($A2068,'Result Entry'!$B$9:$EQ$108,62,0))","v":0},0,{"$f":"IF(OR(C2083=\"\",$I2073=\"NSO\"),\"\",VLOOKUP($A2068,'Result Entry'!$B$9:$EQ$108,66,0))","v":0},0,null,{"$f":"IF(OR(C2083=\"\",$I2073=\"NSO\"),\"\",VLOOKUP($A2068,'Result Entry'!$B$9:$EQ$108,69,0))","v":""}]
[null,"◐","Max. Marks",null,{"$f":"'Result Entry'!$AO$7","v":5},{"$f":"'Result Entry'!$AP$7","v":5},{"$f":"'Result Entry'!$AQ$7","v":5},{"$f":"'Result Entry'!$AV$7","v":35},50,{"$f":"'Result Entry'!$AZ$7","v":50},100,null,"A+/A/B/C/D"]
[null,"◐",{"$f":"'Result Entry'!$AO$3","v":"English"},null,{"$f":"IF(OR(C2086=\"\",$I2073=\"NSO\"),\"\",VLOOKUP($A2068,'Result Entry'!$B$9:$EQ$108,40,0))","v":0},{"$f":"IF(OR(C2086=\"\",$I2073=\"NSO\"),\"\",VLOOKUP($A2068,'Result Entry'!$B$9:$EQ$108,41,0))","v":0},{"$f":"IF(OR(C2086=\"\",$I2073=\"NSO\"),\"\",VLOOKUP($A2068,'Result Entry'!$B$9:$EQ$108,42,0))","v":0},{"$f":"IF(OR(C2086=\"\",$I2073=\"NSO\"),\"\",VLOOKUP($A2068,'Result Entry'!$B$9:$EQ$108,47,0))","v":0},0,{"$f":"IF(OR(C2086=\"\",$I2073=\"NSO\"),\"\",VLOOKUP($A2068,'Result Entry'!$B$9:$EQ$108,51,0))","v":0},0,null,{"$f":"IF(OR(C2086=\"\",$I2073=\"NSO\"),\"\",VLOOKUP($A2068,'Result Entry'!$B$9:$EQ$108,54,0))","v":""}]
[null,"◐","Max. Marks",null,{"$f":"'Result Entry'!$BS$7","v":10},{"$f":"'Result Entry'!$BT$7","v":10},{"$f":"'Result Entry'!$BU$7","v":10},{"$f":"'Result Entry'!$BZ$7","v":70},{"$f":"SUM(E2087:H2087)","v":100},{"$f":"'Result Entry'!$CD$7","v":100},200,null,"A+/A/B/C/D"]
[null,"◐",{"$f":"'Result Entry'!$BS$3","v":"Sanskrit/Urdu"},null,{"$f":"IF(OR(C2088=\"\",$I2073=\"NSO\"),\"\",VLOOKUP($A2068,'Result Entry'!$B$9:$EQ$108,70,0))","v":0},{"$f":"IF(OR(C2088=\"\",$I2073=\"NSO\"),\"\",VLOOKUP($A2068,'Result Entry'!$B$9:$EQ$108,71,0))","v":0},{"$f":"IF(OR(C2088=\"\",$I2073=\"NSO\"),\"\",VLOOKUP($A2068,'Result Entry'!$B$9:$EQ$108,72,0))","v":0},{"$f":"IF(OR(C2088=\"\",$I2073=\"NSO\"),\"\",VLOOKUP($A2068,'Result Entry'!$B$9:$EQ$108,77,0))","v":0},{"$f":"SUM(E2088:H2088)","v":0},{"$f":"IF(OR(C2088=\"\",$I2073=\"NSO\"),\"\",VLOOKUP($A2068,'Result Entry'!$B$9:$EQ$108,81,0))","v":0},0,null,{"$f":"IF(OR(C2088=\"\",$I2073=\"NSO\"),\"\",VLOOKUP($A2068,'Result Entry'!$B$9:$EQ$108,84,0))","v":""}]
[null,"◐"]
[null,"◐","Overall Result",null,null,"Total Max. Marks",null,"Total Obtained Marks",null,"Percentage","Overall Grade","Result","Position in Class"]
[null,"◐",{"$nulls":3},{"$f":"IF(OR($I2073=\"\",$I2073=\"NSO\"),\"\",VLOOKUP($A2068,'Result Entry'!$B$9:$EQ$108,120,0))","v":900},null,{"$f":"IF(OR($I2073=\"\",$I2073=\"NSO\"),\"\",VLOOKUP($A2068,'Result Entry'!$B$9:$EQ$108,121,0))","v":0},null,{"$f":"IF(OR($I2073=\"\",$I2073=\"NSO\"),\"\",VLOOKUP($A2068,'Result Entry'!$B$9:$EQ$108,122,0))","v":{"v":0,"d":"0.00"}},{"$f":"IF(OR($I2073=\"\",$I2073=\"NSO\"),\"\",VLOOKUP($A2068,'Result Entry'!$B$9:$EQ$108,123,0))","v":""},{"$f":"IF(OR($I2073=\"\",$I2073=\"NSO\"),\"\",VLOOKUP($A2068,'Result Entry'!$B$9:$EQ$108,124,0))","v":""},{"$f":"IF(OR($I2073=\"\",$I2073=\"NSO\"),\"\",VLOOKUP($A2068,'Result Entry'!$B$9:$EQ$108,126,0))","v":""}]
[null,"◐",{"$nulls":6},"Total Meetings :-",null,{"$f":"IF(OR($I2073=\"\",$I2073=\"NSO\"),\"\",VLOOKUP($A2068,'Result Entry'!$B$9:$EQ$108,117,0))","v":0},"Attedance %"]
[null,"◐","Extra Subjects",{"$nulls":5},"Student's Meetings :-",null,{"$f":"IF(OR($I2073=\"\",$I2073=\"NSO\"),\"\",VLOOKUP($A2068,'Result Entry'!$B$9:$EQ$108,118,0))","v":0},{"$f":"IF(OR($I2073=\"\",$I2073=\"NSO\"),\"\",VLOOKUP($A2068,'Result Entry'!$B$9:$EQ$108,119,0))","v":""}]
[null,"◐","Subject",null,null,"Total Marks",null,"GRADE","Remark :-",null,{"$f":"IF(OR($I2073=\"\",$I2073=\"NSO\"),\"\",VLOOKUP($A2068,'Result Entry'!$B$9:$EQ$108,127,0))","v":0}]
[null,"◐",{"$f":"'Result Entry'!$CH$3","v":"WORK EXP."},null,null,{"$f":"IF(OR(C2095=\"\",$I2073=\"NSO\"),\"\",VLOOKUP($A2068,'Result Entry'!$B$9:$EQ$108,138,0))","v":"0/100"},null,{"$f":"IF(OR(C2095=\"\",$I2073=\"NSO\"),\"\",VLOOKUP($A2068,'Result Entry'!$B$9:$EQ$108,92,0))","v":""},"Result Date :-",null,{"$f":"'Result Entry'!$U$2","v":"2024-05-07"}]
[null,"◐",{"$f":"'Result Entry'!$CP$3","v":"ART EDU."},null,null,{"$f":"IF(OR(C2096=\"\",$I2073=\"NSO\"),\"\",VLOOKUP($A2068,'Result Entry'!$B$9:$EQ$108,142,0))","v":"0/100"},null,{"$f":"IF(OR(C2096=\"\",$I2073=\"NSO\"),\"\",VLOOKUP($A2068,'Result Entry'!$B$9:$EQ$108,100,0))","v":""}]
[null,null,{"$f":"'Result Entry'!$CX$3","v":"H&P. EDU."},null,null,{"$f":"IF(OR(C2097=\"\",$I2073=\"NSO\"),\"\",VLOOKUP($A2068,'Result Entry'!$B$9:$EQ$108,146,0))","v":"0/0"},null,{"$f":"IF(OR(C2097=\"\",$I2073=\"NSO\"),\"\",VLOOKUP($A2068,'Result Entry'!$B$9:$EQ$108,108,0))","v":""}]
[null,"◐",{"$f":"'Result Entry'!$DF$3","v":0},null,null,{"$f":"IF(OR(C2098=\"\",$I2073=\"NSO\"),\"\",VLOOKUP($A2068,'Result Entry'!$B$9:$EQ$108,131,0))","v":0},null,{"$f":"IF(OR(C2098=\"\",$I2073=\"NSO\"),\"\",VLOOKUP($A2068,'Result Entry'!$B$9:$EQ$108,97,0))","v":0},"Signature Of The Class Teacher"]
[null,"◐","Grading System"]
[null,"◐","Grd.","% Range",null,"Description"]
[null,"◐","A","86-100",null,"Excellent",null,null,"Signature And Seal Of Principal/H.M."]
[null,"◐","B","71-85",null,"Very Good"]
[null,"◐","C","51-70",null,"Good"]
[null,"◐","D","31-50",null,"Average"]
[null,"◐","E","0-30",null,"Needs Improvement",null,null,"Wish bright future"]
[]
[{"$f":"A2068+1","v":55},"Department Of Education, Rajasthan"]
[null,{"$f":"IF(I2112>0,CONCATENATE(C2112,I2112),0)","v":0},null,{"$f":"Master!$E$8","v":"Govt.Sr.Sec.Sch."}]
[{"$nulls":3},{"$f":"Master!$E$11","v":"P.S.-Bapini (Jodhpur)"}]
[null,null,"Report Card",{"$nulls":6},"U-DISE Code:-",null,{"$f":"Master!$E$14","v":{"v":810000000,"d":"0810000000"}}]
[{"$nulls":9},"Session:-",null,{"$f":"Master!$E$6","v":"2023-24"}]
[null,null,"Roll No.:-",{"$nulls":5},{"$f":"VLOOKUP($A2107,'Result Entry'!$B$9:$F$108,5,0)","v":0}]
[null,"◐","Scholar Number",{"$nulls":3},"↠",{"$f":"VLOOKUP($A2107,'Result Entry'!$B$9:$EQ$108,3,0)","v":0}]
[null,"◐","Student's Name",{"$nulls":3},"↠",{"$f":"VLOOKUP($A2107,'Result Entry'!$B$9:$EQ$108,6,0)","v":0}]
[null,"◐","Father's Name",{"$nulls":3},"↠",{"$f":"VLOOKUP($A2107,'Result Entry'!$B$9:$EQ$108,7,0)","v":0}]
[null,"◐","Mother's Name ",{"$nulls":3},"↠",{"$f":"VLOOKUP($A2107,'Result Entry'!$B$9:$EQ$108,8,0)","v":0}]
[null,"◐","Class & Section",{"$nulls":3},"↠",{"$f":"CONCATENATE('Result Entry'!$F$4,'Result Entry'!$I$4)","v":"2(A)"}]
[null,"◐","Date Of Birth",{"$nulls":3},"↠",{"$f":"VLOOKUP($A2107,'Result Entry'!$B$9:$EQ$108,9,0)","v":"00:00:00"}]
[null,"◐","Subject",null,{"$f":"'Result Entry'!$K$6","v":"First Test"},{"$f":"'Result Entry'!$L$6","v":"Second Test"},{"$f":"'Result Entry'!$M$6","v":"Third Test"},"Half Yearly","Total (Test+H.Y.)","Yearly","Grand Total",null,"Subject Grade"]
[null,"◐","Max. Marks",null,{"$f":"'Result Entry'!$K$7","v":10},{"$f":"'Result Entry'!$L$7","v":10},{"$f":"'Result Entry'!$M$7","v":10},{"$f":"'Result Entry'!$R$7","v":70},{"$f":"SUM(E2120:H2120)","v":100},{"$f":"'Result Entry'!$V$7","v":100},{"$f":"I2120+J2120","v":200},null,"A+/A/B/C/D"]
[null,"◐",{"$f":"'Result Entry'!$K$3","v":"Hindi"},null,{"$f":"IF(OR(C2121=\"\",$I2112=\"NSO\"),\"\",VLOOKUP($A2107,'Result Entry'!$B$9:$EQ$108,10,0))","v":0},{"$f":"IF(OR(C2121=\"\",$I2112=\"NSO\"),\"\",VLOOKUP($A2107,'Result Entry'!$B$9:$EQ$108,11,0))","v":0},{"$f":"IF(OR(C2121=\"\",$I2112=\"NSO\"),\"\",VLOOKUP($A2107,'Result Entry'!$B$9:$EQ$108,12,0))","v":0},{"$f":"IF(OR(C2121=\"\",$I2112=\"NSO\"),\"\",VLOOKUP($A2107,'Result Entry'!$B$9:$EQ$108,17,0))","v":0},{"$f":"SUM(E2121:H2121)","v":0},{"$f":"IF(OR(C2121=\"\",$I2112=\"NSO\"),\"\",VLOOKUP($A2107,'Result Entry'!$B$9:$EQ$108,21,0))","v":0},{"$f":"SUM(I2121,J2121)","v":0},null,{"$f":"IF(OR(C2121=\"\",$I2112=\"NSO\"),\"\",VLOOKUP($A2107,'Result Entry'!$B$9:$EQ$108,24,0))","v":""}]
[null,"◐",{"$f":"'Result Entry'!$Z$3","v":"Mathematics"},null,{"$f":"IF(OR(C2122=\"\",$I2112=\"NSO\"),\"\",VLOOKUP($A2107,'Result Entry'!$B$9:$EQ$108,25,0))","v":0},{"$f":"IF(OR(C2122=\"\",$I2112=\"NSO\"),\"\",VLOOKUP($A2107,'Result Entry'!$B$9:$EQ$108,26,0))","v":0},{"$f":"IF(OR(C2122=\"\",$I2112=\"NSO\"),\"\",VLOOKUP($A2107,'Result Entry'!$B$9:$EQ$108,27,0))","v":0},{"$f":"IF(OR(C2122=\"\",$I2112=\"NSO\"),\"\",VLOOKUP($A2107,'Result Entry'!$B$9:$EQ$108,32,0))","v":0},0,{"$f":"IF(OR(C2122=\"\",$I2112=\"NSO\"),\"\",VLOOKUP($A2107,'Result Entry'!$B$9:$EQ$108,36,0))","v":0},{"$f":"SUM(I2122,J2122)","v":0},null,{"$f":"IF(OR(C2122=\"\",$I2112=\"NSO\"),\"\",VLOOKUP($A2107,'Result Entry'!$B$9:$EQ$108,39,0))","v":""}]
[null,"◐",{"$f":"'Result Entry'!$BD$3","v":"Env. Study"},null,{"$f":"IF(OR(C2123=\"\",$I2112=\"NSO\"),\"\",VLOOKUP($A2107,'Result Entry'!$B$9:$EQ$108,55,0))","v":0},{"$f":"IF(OR(C2123=\"\",$I2112=\"NSO\"),\"\",VLOOKUP($A2107,'Result Entry'!$B$9:$EQ$108,56,0))","v":0},{"$f":"IF(OR(C2123=\"\",$I2112=\"NSO\"),\"\",VLOOKUP($A2107,'Result Entry'!$B$9:$EQ$108,57,0))","v":0},{"$f":"IF(OR(C2121=\"\",$I2112=\"NSO\"),\"\",VLOOKUP($A2107,'Result Entry'!$B$9:$EQ$108,62,0))","v":0},0,{"$f":"IF(OR(C2122=\"\",$I2112=\"NSO\"),\"\",VLOOKUP($A2107,'Result Entry'!$B$9:$EQ$108,66,0))","v":0},0,null,{"$f":"IF(OR(C2122=\"\",$I2112=\"NSO\"),\"\",VLOOKUP($A2107,'Result Entry'!$B$9:$EQ$108,69,0))","v":""}]
[null,"◐","Max. Marks",null,{"$f":"'Result Entry'!$AO$7","v":5},{"$f":"'Result Entry'!$AP$7","v":5},{"$f":"'Result Entry'!$AQ$7","v":5},{"$f":"'Result Entry'!$AV$7","v":35},50,{"$f":"'Result Entry'!$AZ$7","v":50},100,null,"A+/A/B/C/D"]
[null,"◐",{"$f":"'Result Entry'!$AO$3","v":"English"},null,{"$f":"IF(OR(C2125=\"\",$I2112=\"NSO\"),\"\",VLOOKUP($A2107,'Result Entry'!$B$9:$EQ$108,40,0))","v":0},{"$f":"IF(OR(C2125=\"\",$I2112=\"NSO\"),\"\",VLOOKUP($A2107,'Result Entry'!$B$9:$EQ$108,41,0))","v":0},{"$f":"IF(OR(C2125=\"\",$I2112=\"NSO\"),\"\",VLOOKUP($A2107,'Result Entry'!$B$9:$EQ$108,42,0))","v":0},{"$f":"IF(OR(C2125=\"\",$I2112=\"NSO\"),\"\",VLOOKUP($A2107,'Result Entry'!$B$9:$EQ$108,47,0))","v":0},0,{"$f":"IF(OR(C2125=\"\",$I2112=\"NSO\"),\"\",VLOOKUP($A2107,'Result Entry'!$B$9:$EQ$108,51,0))","v":0},0,null,{"$f":"IF(OR(C2125=\"\",$I2112=\"NSO\"),\"\",VLOOKUP($A2107,'Result Entry'!$B$9:$EQ$108,54,0))","v":""}]
[null,"◐","Max. Marks",null,{"$f":"'Result Entry'!$BS$7","v":10},{"$f":"'Result Entry'!$BT$7","v":10},{"$f":"'Result Entry'!$BU$7","v":10},{"$f":"'Result Entry'!$BZ$7","v":70},{"$f":"SUM(E2126:H2126)","v":100},{"$f":"'Result Entry'!$CD$7","v":100},200,null,"A+/A/B/C/D"]
[null,"◐",{"$f":"'Result Entry'!$BS$3","v":"Sanskrit/Urdu"},null,{"$f":"IF(OR(C2127=\"\",$I2112=\"NSO\"),\"\",VLOOKUP($A2107,'Result Entry'!$B$9:$EQ$108,70,0))","v":0},{"$f":"IF(OR(C2127=\"\",$I2112=\"NSO\"),\"\",VLOOKUP($A2107,'Result Entry'!$B$9:$EQ$108,71,0))","v":0},{"$f":"IF(OR(C2127=\"\",$I2112=\"NSO\"),\"\",VLOOKUP($A2107,'Result Entry'!$B$9:$EQ$108,72,0))","v":0},{"$f":"IF(OR(C2127=\"\",$I2112=\"NSO\"),\"\",VLOOKUP($A2107,'Result Entry'!$B$9:$EQ$108,77,0))","v":0},{"$f":"SUM(E2127:H2127)","v":0},{"$f":"IF(OR(C2127=\"\",$I2112=\"NSO\"),\"\",VLOOKUP($A2107,'Result Entry'!$B$9:$EQ$108,81,0))","v":0},0,null,{"$f":"IF(OR(C2127=\"\",$I2112=\"NSO\"),\"\",VLOOKUP($A2107,'Result Entry'!$B$9:$EQ$108,84,0))","v":""}]
[null,"◐"]
[null,"◐","Overall Result",null,null,"Total Max. Marks",null,"Total Obtained Marks",null,"Percentage","Overall Grade","Result","Position in Class"]
[null,"◐",{"$nulls":3},{"$f":"IF(OR($I2112=\"\",$I2112=\"NSO\"),\"\",VLOOKUP($A2107,'Result Entry'!$B$9:$EQ$108,120,0))","v":900},null,{"$f":"IF(OR($I2112=\"\",$I2112=\"NSO\"),\"\",VLOOKUP($A2107,'Result Entry'!$B$9:$EQ$108,121,0))","v":0},null,{"$f":"IF(OR($I2112=\"\",$I2112=\"NSO\"),\"\",VLOOKUP($A2107,'Result Entry'!$B$9:$EQ$108,122,0))","v":{"v":0,"d":"0.00"}},{"$f":"IF(OR($I2112=\"\",$I2112=\"NSO\"),\"\",VLOOKUP($A2107,'Result Entry'!$B$9:$EQ$108,123,0))","v":""},{"$f":"IF(OR($I2112=\"\",$I2112=\"NSO\"),\"\",VLOOKUP($A2107,'Result Entry'!$B$9:$EQ$108,124,0))","v":""},{"$f":"IF(OR($I2112=\"\",$I2112=\"NSO\"),\"\",VLOOKUP($A2107,'Result Entry'!$B$9:$EQ$108,126,0))","v":""}]
[null,"◐",{"$nulls":6},"Total Meetings :-",null,{"$f":"IF(OR($I2112=\"\",$I2112=\"NSO\"),\"\",VLOOKUP($A2107,'Result Entry'!$B$9:$EQ$108,117,0))","v":0},"Attedance %"]
[null,"◐","Extra Subjects",{"$nulls":5},"Student's Meetings :-",null,{"$f":"IF(OR($I2112=\"\",$I2112=\"NSO\"),\"\",VLOOKUP($A2107,'Result Entry'!$B$9:$EQ$108,118,0))","v":0},{"$f":"IF(OR($I2112=\"\",$I2112=\"NSO\"),\"\",VLOOKUP($A2107,'Result Entry'!$B$9:$EQ$108,119,0))","v":""}]
[null,"◐","Subject",null,null,"Total Marks",null,"GRADE","Remark :-",null,{"$f":"IF(OR($I2112=\"\",$I2112=\"NSO\"),\"\",VLOOKUP($A2107,'Result Entry'!$B$9:$EQ$108,127,0))","v":0}]
[null,"◐",{"$f":"'Result Entry'!$CH$3","v":"WORK EXP."},null,null,{"$f":"IF(OR(C2134=\"\",$I2112=\"NSO\"),\"\",VLOOKUP($A2107,'Result Entry'!$B$9:$EQ$108,138,0))","v":"0/100"},null,{"$f":"IF(OR(C2134=\"\",$I2112=\"NSO\"),\"\",VLOOKUP($A2107,'Result Entry'!$B$9:$EQ$108,92,0))","v":""},"Result Date :-",null,{"$f":"'Result Entry'!$U$2","v":"2024-05-07"}]
[null,"◐",{"$f":"'Result Entry'!$CP$3","v":"ART EDU."},null,null,{"$f":"IF(OR(C2135=\"\",$I2112=\"NSO\"),\"\",VLOOKUP($A2107,'Result Entry'!$B$9:$EQ$108,142,0))","v":"0/100"},null,{"$f":"IF(OR(C2135=\"\",$I2112=\"NSO\"),\"\",VLOOKUP($A2107,'Result Entry'!$B$9:$EQ$108,100,0))","v":""}]
[null,null,{"$f":"'Result Entry'!$CX$3","v":"H&P. EDU."},null,null,{"$f":"IF(OR(C2136=\"\",$I2112=\"NSO\"),\"\",VLOOKUP($A2107,'Result Entry'!$B$9:$EQ$108,146,0))","v":"0/0"},null,{"$f":"IF(OR(C2136=\"\",$I2112=\"NSO\"),\"\",VLOOKUP($A2107,'Result Entry'!$B$9:$EQ$108,108,0))","v":""}]
[null,"◐",{"$f":"'Result Entry'!$DF$3","v":0},null,null,{"$f":"IF(OR(C2137=\"\",$I2112=\"NSO\"),\"\",VLOOKUP($A2107,'Result Entry'!$B$9:$EQ$108,131,0))","v":0},null,{"$f":"IF(OR(C2137=\"\",$I2112=\"NSO\"),\"\",VLOOKUP($A2107,'Result Entry'!$B$9:$EQ$108,97,0))","v":0},"Signature Of The Class Teacher"]
[null,"◐","Grading System"]
[null,"◐","Grd.","% Range",null,"Description"]
[null,"◐","A","86-100",null,"Excellent",null,null,"Signature And Seal Of Principal/H.M."]
[null,"◐","B","71-85",null,"Very Good"]
[null,"◐","C","51-70",null,"Good"]
[null,"◐","D","31-50",null,"Average"]
[null,"◐","E","0-30",null,"Needs Improvement",null,null,"Wish bright future"]
[]
[{"$f":"A2107+1","v":56},"Department Of Education, Rajasthan"]
[null,{"$f":"IF(I2151>0,CONCATENATE(C2151,I2151),0)","v":0},null,{"$f":"Master!$E$8","v":"Govt.Sr.Sec.Sch."}]
[{"$nulls":3},{"$f":"Master!$E$11","v":"P.S.-Bapini (Jodhpur)"}]
[null,null,"Report Card",{"$nulls":6},"U-DISE Code:-",null,{"$f":"Master!$E$14","v":{"v":810000000,"d":"0810000000"}}]
[{"$nulls":9},"Session:-",null,{"$f":"Master!$E$6","v":"2023-24"}]
[null,null,"Roll No.:-",{"$nulls":5},{"$f":"VLOOKUP($A2146,'Result Entry'!$B$9:$F$108,5,0)","v":0}]
[null,"◐","Scholar Number",{"$nulls":3},"↠",{"$f":"VLOOKUP($A2146,'Result Entry'!$B$9:$EQ$108,3,0)","v":0}]
[null,"◐","Student's Name",{"$nulls":3},"↠",{"$f":"VLOOKUP($A2146,'Result Entry'!$B$9:$EQ$108,6,0)","v":0}]
[null,"◐","Father's Name",{"$nulls":3},"↠",{"$f":"VLOOKUP($A2146,'Result Entry'!$B$9:$EQ$108,7,0)","v":0}]
[null,"◐","Mother's Name ",{"$nulls":3},"↠",{"$f":"VLOOKUP($A2146,'Result Entry'!$B$9:$EQ$108,8,0)","v":0}]
[null,"◐","Class & Section",{"$nulls":3},"↠",{"$f":"CONCATENATE('Result Entry'!$F$4,'Result Entry'!$I$4)","v":"2(A)"}]
[null,"◐","Date Of Birth",{"$nulls":3},"↠",{"$f":"VLOOKUP($A2146,'Result Entry'!$B$9:$EQ$108,9,0)","v":"00:00:00"}]
[null,"◐","Subject",null,{"$f":"'Result Entry'!$K$6","v":"First Test"},{"$f":"'Result Entry'!$L$6","v":"Second Test"},{"$f":"'Result Entry'!$M$6","v":"Third Test"},"Half Yearly","Total (Test+H.Y.)","Yearly","Grand Total",null,"Subject Grade"]
[null,"◐","Max. Marks",null,{"$f":"'Result Entry'!$K$7","v":10},{"$f":"'Result Entry'!$L$7","v":10},{"$f":"'Result Entry'!$M$7","v":10},{"$f":"'Result Entry'!$R$7","v":70},{"$f":"SUM(E2159:H2159)","v":100},{"$f":"'Result Entry'!$V$7","v":100},{"$f":"I2159+J2159","v":200},null,"A+/A/B/C/D"]
[null,"◐",{"$f":"'Result Entry'!$K$3","v":"Hindi"},null,{"$f":"IF(OR(C2160=\"\",$I2151=\"NSO\"),\"\",VLOOKUP($A2146,'Result Entry'!$B$9:$EQ$108,10,0))","v":0},{"$f":"IF(OR(C2160=\"\",$I2151=\"NSO\"),\"\",VLOOKUP($A2146,'Result Entry'!$B$9:$EQ$108,11,0))","v":0},{"$f":"IF(OR(C2160=\"\",$I2151=\"NSO\"),\"\",VLOOKUP($A2146,'Result Entry'!$B$9:$EQ$108,12,0))","v":0},{"$f":"IF(OR(C2160=\"\",$I2151=\"NSO\"),\"\",VLOOKUP($A2146,'Result Entry'!$B$9:$EQ$108,17,0))","v":0},{"$f":"SUM(E2160:H2160)","v":0},{"$f":"IF(OR(C2160=\"\",$I2151=\"NSO\"),\"\",VLOOKUP($A2146,'Result Entry'!$B$9:$EQ$108,21,0))","v":0},{"$f":"SUM(I2160,J2160)","v":0},null,{"$f":"IF(OR(C2160=\"\",$I2151=\"NSO\"),\"\",VLOOKUP($A2146,'Result Entry'!$B$9:$EQ$108,24,0))","v":""}]
[null,"◐",{"$f":"'Result Entry'!$Z$3","v":"Mathematics"},null,{"$f":"IF(OR(C2161=\"\",$I2151=\"NSO\"),\"\",VLOOKUP($A2146,'Result Entry'!$B$9:$EQ$108,25,0))","v":0},{"$f":"IF(OR(C2161=\"\",$I2151=\"NSO\"),\"\",VLOOKUP($A2146,'Result Entry'!$B$9:$EQ$108,26,0))","v":0},{"$f":"IF(OR(C2161=\"\",$I2151=\"NSO\"),\"\",VLOOKUP($A2146,'Result Entry'!$B$9:$EQ$108,27,0))","v":0},{"$f":"IF(OR(C2161=\"\",$I2151=\"NSO\"),\"\",VLOOKUP($A2146,'Result Entry'!$B$9:$EQ$108,32,0))","v":0},0,{"$f":"IF(OR(C2161=\"\",$I2151=\"NSO\"),\"\",VLOOKUP($A2146,'Result Entry'!$B$9:$EQ$108,36,0))","v":0},{"$f":"SUM(I2161,J2161)","v":0},null,{"$f":"IF(OR(C2161=\"\",$I2151=\"NSO\"),\"\",VLOOKUP($A2146,'Result Entry'!$B$9:$EQ$108,39,0))","v":""}]
[null,"◐",{"$f":"'Result Entry'!$BD$3","v":"Env. Study"},null,{"$f":"IF(OR(C2162=\"\",$I2151=\"NSO\"),\"\",VLOOKUP($A2146,'Result Entry'!$B$9:$EQ$108,55,0))","v":0},{"$f":"IF(OR(C2162=\"\",$I2151=\"NSO\"),\"\",VLOOKUP($A2146,'Result Entry'!$B$9:$EQ$108,56,0))","v":0},{"$f":"IF(OR(C2162=\"\",$I2151=\"NSO\"),\"\",VLOOKUP($A2146,'Result Entry'!$B$9:$EQ$108,57,0))","v":0},{"$f":"IF(OR(C2160=\"\",$I2151=\"NSO\"),\"\",VLOOKUP($A2146,'Result Entry'!$B$9:$EQ$108,62,0))","v":0},0,{"$f":"IF(OR(C2161=\"\",$I2151=\"NSO\"),\"\",VLOOKUP($A2146,'Result Entry'!$B$9:$EQ$108,66,0))","v":0},0,null,{"$f":"IF(OR(C2161=\"\",$I2151=\"NSO\"),\"\",VLOOKUP($A2146,'Result Entry'!$B$9:$EQ$108,69,0))","v":""}]
[null,"◐","Max. Marks",null,{"$f":"'Result Entry'!$AO$7","v":5},{"$f":"'Result Entry'!$AP$7","v":5},{"$f":"'Result Entry'!$AQ$7","v":5},{"$f":"'Result Entry'!$AV$7","v":35},50,{"$f":"'Result Entry'!$AZ$7","v":50},100,null,"A+/A/B/C/D"]
[null,"◐",{"$f":"'Result Entry'!$AO$3","v":"English"},null,{"$f":"IF(OR(C2164=\"\",$I2151=\"NSO\"),\"\",VLOOKUP($A2146,'Result Entry'!$B$9:$EQ$108,40,0))","v":0},{"$f":"IF(OR(C2164=\"\",$I2151=\"NSO\"),\"\",VLOOKUP($A2146,'Result Entry'!$B$9:$EQ$108,41,0))","v":0},{"$f":"IF(OR(C2164=\"\",$I2151=\"NSO\"),\"\",VLOOKUP($A2146,'Result Entry'!$B$9:$EQ$108,42,0))","v":0},{"$f":"IF(OR(C2164=\"\",$I2151=\"NSO\"),\"\",VLOOKUP($A2146,'Result Entry'!$B$9:$EQ$108,47,0))","v":0},0,{"$f":"IF(OR(C2164=\"\",$I2151=\"NSO\"),\"\",VLOOKUP($A2146,'Result Entry'!$B$9:$EQ$108,51,0))","v":0},0,null,{"$f":"IF(OR(C2164=\"\",$I2151=\"NSO\"),\"\",VLOOKUP($A2146,'Result Entry'!$B$9:$EQ$108,54,0))","v":""}]
[null,"◐","Max. Marks",null,{"$f":"'Result Entry'!$BS$7","v":10},{"$f":"'Result Entry'!$BT$7","v":10},{"$f":"'Result Entry'!$BU$7","v":10},{"$f":"'Result Entry'!$BZ$7","v":70},{"$f":"SUM(E2165:H2165)","v":100},{"$f":"'Result Entry'!$CD$7","v":100},200,null,"A+/A/B/C/D"]
[null,"◐",{"$f":"'Result Entry'!$BS$3","v":"Sanskrit/Urdu"},null,{"$f":"IF(OR(C2166=\"\",$I2151=\"NSO\"),\"\",VLOOKUP($A2146,'Result Entry'!$B$9:$EQ$108,70,0))","v":0},{"$f":"IF(OR(C2166=\"\",$I2151=\"NSO\"),\"\",VLOOKUP($A2146,'Result Entry'!$B$9:$EQ$108,71,0))","v":0},{"$f":"IF(OR(C2166=\"\",$I2151=\"NSO\"),\"\",VLOOKUP($A2146,'Result Entry'!$B$9:$EQ$108,72,0))","v":0},{"$f":"IF(OR(C2166=\"\",$I2151=\"NSO\"),\"\",VLOOKUP($A2146,'Result Entry'!$B$9:$EQ$108,77,0))","v":0},{"$f":"SUM(E2166:H2166)","v":0},{"$f":"IF(OR(C2166=\"\",$I2151=\"NSO\"),\"\",VLOOKUP($A2146,'Result Entry'!$B$9:$EQ$108,81,0))","v":0},0,null,{"$f":"IF(OR(C2166=\"\",$I2151=\"NSO\"),\"\",VLOOKUP($A2146,'Result Entry'!$B$9:$EQ$108,84,0))","v":""}]
[null,"◐"]
[null,"◐","Overall Result",null,null,"Total Max. Marks",null,"Total Obtained Marks",null,"Percentage","Overall Grade","Result","Position in Class"]
[null,"◐",{"$nulls":3},{"$f":"IF(OR($I2151=\"\",$I2151=\"NSO\"),\"\",VLOOKUP($A2146,'Result Entry'!$B$9:$EQ$108,120,0))","v":900},null,{"$f":"IF(OR($I2151=\"\",$I2151=\"NSO\"),\"\",VLOOKUP($A2146,'Result Entry'!$B$9:$EQ$108,121,0))","v":0},null,{"$f":"IF(OR($I2151=\"\",$I2151=\"NSO\"),\"\",VLOOKUP($A2146,'Result Entry'!$B$9:$EQ$108,122,0))","v":{"v":0,"d":"0.00"}},{"$f":"IF(OR($I2151=\"\",$I2151=\"NSO\"),\"\",VLOOKUP($A2146,'Result Entry'!$B$9:$EQ$108,123,0))","v":""},{"$f":"IF(OR($I2151=\"\",$I2151=\"NSO\"),\"\",VLOOKUP($A2146,'Result Entry'!$B$9:$EQ$108,124,0))","v":""},{"$f":"IF(OR($I2151=\"\",$I2151=\"NSO\"),\"\",VLOOKUP($A2146,'Result Entry'!$B$9:$EQ$108,126,0))","v":""}]
[null,"◐",{"$nulls":6},"Total Meetings :-",null,{"$f":"IF(OR($I2151=\"\",$I2151=\"NSO\"),\"\",VLOOKUP($A2146,'Result Entry'!$B$9:$EQ$108,117,0))","v":0},"Attedance %"]
[null,"◐","Extra Subjects",{"$nulls":5},"Student's Meetings :-",null,{"$f":"IF(OR($I2151=\"\",$I2151=\"NSO\"),\"\",VLOOKUP($A2146,'Result Entry'!$B$9:$EQ$108,118,0))","v":0},{"$f":"IF(OR($I2151=\"\",$I2151=\"NSO\"),\"\",VLOOKUP($A2146,'Result Entry'!$B$9:$EQ$108,119,0))","v":""}]
[null,"◐","Subject",null,null,"Total Marks",null,"GRADE","Remark :-",null,{"$f":"IF(OR($I2151=\"\",$I2151=\"NSO\"),\"\",VLOOKUP($A2146,'Result Entry'!$B$9:$EQ$108,127,0))","v":0}]
[null,"◐",{"$f":"'Result Entry'!$CH$3","v":"WORK EXP."},null,null,{"$f":"IF(OR(C2173=\"\",$I2151=\"NSO\"),\"\",VLOOKUP($A2146,'Result Entry'!$B$9:$EQ$108,138,0))","v":"0/100"},null,{"$f":"IF(OR(C2173=\"\",$I2151=\"NSO\"),\"\",VLOOKUP($A2146,'Result Entry'!$B$9:$EQ$108,92,0))","v":""},"Result Date :-",null,{"$f":"'Result Entry'!$U$2","v":"2024-05-07"}]
[null,"◐",{"$f":"'Result Entry'!$CP$3","v":"ART EDU."},null,null,{"$f":"IF(OR(C2174=\"\",$I2151=\"NSO\"),\"\",VLOOKUP($A2146,'Result Entry'!$B$9:$EQ$108,142,0))","v":"0/100"},null,{"$f":"IF(OR(C2174=\"\",$I2151=\"NSO\"),\"\",VLOOKUP($A2146,'Result Entry'!$B$9:$EQ$108,100,0))","v":""}]
[null,null,{"$f":"'Result Entry'!$CX$3","v":"H&P. EDU."},null,null,{"$f":"IF(OR(C2175=\"\",$I2151=\"NSO\"),\"\",VLOOKUP($A2146,'Result Entry'!$B$9:$EQ$108,146,0))","v":"0/0"},null,{"$f":"IF(OR(C2175=\"\",$I2151=\"NSO\"),\"\",VLOOKUP($A2146,'Result Entry'!$B$9:$EQ$108,108,0))","v":""}]
[null,"◐",{"$f":"'Result Entry'!$DF$3","v":0},null,null,{"$f":"IF(OR(C2176=\"\",$I2151=\"NSO\"),\"\",VLOOKUP($A2146,'Result Entry'!$B$9:$EQ$108,131,0))","v":0},null,{"$f":"IF(OR(C2176=\"\",$I2151=\"NSO\"),\"\",VLOOKUP($A2146,'Result Entry'!$B$9:$EQ$108,97,0))","v":0},"Signature Of The Class Teacher"]
[null,"◐","Grading System"]
[null,"◐","Grd.","% Range",null,"Description"]
[null,"◐","A","86-100",null,"Excellent",null,null,"Signature And Seal Of Principal/H.M."]
[null,"◐","B","71-85",null,"Very Good"]
[null,"◐","C","51-70",null,"Good"]
[null,"◐","D","31-50",null,"Average"]
[null,"◐","E","0-30",null,"Needs Improvement",null,null,"Wish bright future"]
[]
[{"$f":"A2146+1","v":57},"Department Of Education, Rajasthan"]
[null,{"$f":"IF(I2190>0,CONCATENATE(C2190,I2190),0)","v":0},null,{"$f":"Master!$E$8","v":"Govt.Sr.Sec.Sch."}]
[{"$nulls":3},{"$f":"Master!$E$11","v":"P.S.-Bapini (Jodhpur)"}]
[null,null,"Report Card",{"$nulls":6},"U-DISE Code:-",null,{"$f":"Master!$E$14","v":{"v":810000000,"d":"0810000000"}}]
[{"$nulls":9},"Session:-",null,{"$f":"Master!$E$6","v":"2023-24"}]
[null,null,"Roll No.:-",{"$nulls":5},{"$f":"VLOOKUP($A2185,'Result Entry'!$B$9:$F$108,5,0)","v":0}]
[null,"◐","Scholar Number",{"$nulls":3},"↠",{"$f":"VLOOKUP($A2185,'Result Entry'!$B$9:$EQ$108,3,0)","v":0}]
[null,"◐","Student's Name",{"$nulls":3},"↠",{"$f":"VLOOKUP($A2185,'Result Entry'!$B$9:$EQ$108,6,0)","v":0}]
[null,"◐","Father's Name",{"$nulls":3},"↠",{"$f":"VLOOKUP($A2185,'Result Entry'!$B$9:$EQ$108,7,0)","v":0}]
[null,"◐","Mother's Name ",{"$nulls":3},"↠",{"$f":"VLOOKUP($A2185,'Result Entry'!$B$9:$EQ$108,8,0)","v":0}]
[null,"◐","Class & Section",{"$nulls":3},"↠",{"$f":"CONCATENATE('Result Entry'!$F$4,'Result Entry'!$I$4)","v":"2(A)"}]
[null,"◐","Date Of Birth",{"$nulls":3},"↠",{"$f":"VLOOKUP($A2185,'Result Entry'!$B$9:$EQ$108,9,0)","v":"00:00:00"}]
[null,"◐","Subject",null,{"$f":"'Result Entry'!$K$6","v":"First Test"},{"$f":"'Result Entry'!$L$6","v":"Second Test"},{"$f":"'Result Entry'!$M$6","v":"Third Test"},"Half Yearly","Total (Test+H.Y.)","Yearly","Grand Total",null,"Subject Grade"]
[null,"◐","Max. Marks",null,{"$f":"'Result Entry'!$K$7","v":10},{"$f":"'Result Entry'!$L$7","v":10},{"$f":"'Result Entry'!$M$7","v":10},{"$f":"'Result Entry'!$R$7","v":70},{"$f":"SUM(E2198:H2198)","v":100},{"$f":"'Result Entry'!$V$7","v":100},{"$f":"I2198+J2198","v":200},null,"A+/A/B/C/D"]
[null,"◐",{"$f":"'Result Entry'!$K$3","v":"Hindi"},null,{"$f":"IF(OR(C2199=\"\",$I2190=\"NSO\"),\"\",VLOOKUP($A2185,'Result Entry'!$B$9:$EQ$108,10,0))","v":0},{"$f":"IF(OR(C2199=\"\",$I2190=\"NSO\"),\"\",VLOOKUP($A2185,'Result Entry'!$B$9:$EQ$108,11,0))","v":0},{"$f":"IF(OR(C2199=\"\",$I2190=\"NSO\"),\"\",VLOOKUP($A2185,'Result Entry'!$B$9:$EQ$108,12,0))","v":0},{"$f":"IF(OR(C2199=\"\",$I2190=\"NSO\"),\"\",VLOOKUP($A2185,'Result Entry'!$B$9:$EQ$108,17,0))","v":0},{"$f":"SUM(E2199:H2199)","v":0},{"$f":"IF(OR(C2199=\"\",$I2190=\"NSO\"),\"\",VLOOKUP($A2185,'Result Entry'!$B$9:$EQ$108,21,0))","v":0},{"$f":"SUM(I2199,J2199)","v":0},null,{"$f":"IF(OR(C2199=\"\",$I2190=\"NSO\"),\"\",VLOOKUP($A2185,'Result Entry'!$B$9:$EQ$108,24,0))","v":""}]
[null,"◐",{"$f":"'Result Entry'!$Z$3","v":"Mathematics"},null,{"$f":"IF(OR(C2200=\"\",$I2190=\"NSO\"),\"\",VLOOKUP($A2185,'Result Entry'!$B$9:$EQ$108,25,0))","v":0},{"$f":"IF(OR(C2200=\"\",$I2190=\"NSO\"),\"\",VLOOKUP($A2185,'Result Entry'!$B$9:$EQ$108,26,0))","v":0},{"$f":"IF(OR(C2200=\"\",$I2190=\"NSO\"),\"\",VLOOKUP($A2185,'Result Entry'!$B$9:$EQ$108,27,0))","v":0},{"$f":"IF(OR(C2200=\"\",$I2190=\"NSO\"),\"\",VLOOKUP($A2185,'Result Entry'!$B$9:$EQ$108,32,0))","v":0},0,{"$f":"IF(OR(C2200=\"\",$I2190=\"NSO\"),\"\",VLOOKUP($A2185,'Result Entry'!$B$9:$EQ$108,36,0))","v":0},{"$f":"SUM(I2200,J2200)","v":0},null,{"$f":"IF(OR(C2200=\"\",$I2190=\"NSO\"),\"\",VLOOKUP($A2185,'Result Entry'!$B$9:$EQ$108,39,0))","v":""}]
[null,"◐",{"$f":"'Result Entry'!$BD$3","v":"Env. Study"},null,{"$f":"IF(OR(C2201=\"\",$I2190=\"NSO\"),\"\",VLOOKUP($A2185,'Result Entry'!$B$9:$EQ$108,55,0))","v":0},{"$f":"IF(OR(C2201=\"\",$I2190=\"NSO\"),\"\",VLOOKUP($A2185,'Result Entry'!$B$9:$EQ$108,56,0))","v":0},{"$f":"IF(OR(C2201=\"\",$I2190=\"NSO\"),\"\",VLOOKUP($A2185,'Result Entry'!$B$9:$EQ$108,57,0))","v":0},{"$f":"IF(OR(C2199=\"\",$I2190=\"NSO\"),\"\",VLOOKUP($A2185,'Result Entry'!$B$9:$EQ$108,62,0))","v":0},0,{"$f":"IF(OR(C2200=\"\",$I2190=\"NSO\"),\"\",VLOOKUP($A2185,'Result Entry'!$B$9:$EQ$108,66,0))","v":0},0,null,{"$f":"IF(OR(C2200=\"\",$I2190=\"NSO\"),\"\",VLOOKUP($A2185,'Result Entry'!$B$9:$EQ$108,69,0))","v":""}]
[null,"◐","Max. Marks",null,{"$f":"'Result Entry'!$AO$7","v":5},{"$f":"'Result Entry'!$AP$7","v":5},{"$f":"'Result Entry'!$AQ$7","v":5},{"$f":"'Result Entry'!$AV$7","v":35},50,{"$f":"'Result Entry'!$AZ$7","v":50},100,null,"A+/A/B/C/D"]
[null,"◐",{"$f":"'Result Entry'!$AO$3","v":"English"},null,{"$f":"IF(OR(C2203=\"\",$I2190=\"NSO\"),\"\",VLOOKUP($A2185,'Result Entry'!$B$9:$EQ$108,40,0))","v":0},{"$f":"IF(OR(C2203=\"\",$I2190=\"NSO\"),\"\",VLOOKUP($A2185,'Result Entry'!$B$9:$EQ$108,41,0))","v":0},{"$f":"IF(OR(C2203=\"\",$I2190=\"NSO\"),\"\",VLOOKUP($A2185,'Result Entry'!$B$9:$EQ$108,42,0))","v":0},{"$f":"IF(OR(C2203=\"\",$I2190=\"NSO\"),\"\",VLOOKUP($A2185,'Result Entry'!$B$9:$EQ$108,47,0))","v":0},0,{"$f":"IF(OR(C2203=\"\",$I2190=\"NSO\"),\"\",VLOOKUP($A2185,'Result Entry'!$B$9:$EQ$108,51,0))","v":0},0,null,{"$f":"IF(OR(C2203=\"\",$I2190=\"NSO\"),\"\",VLOOKUP($A2185,'Result Entry'!$B$9:$EQ$108,54,0))","v":""}]
[null,"◐","Max. Marks",null,{"$f":"'Result Entry'!$BS$7","v":10},{"$f":"'Result Entry'!$BT$7","v":10},{"$f":"'Result Entry'!$BU$7","v":10},{"$f":"'Result Entry'!$BZ$7","v":70},{"$f":"SUM(E2204:H2204)","v":100},{"$f":"'Result Entry'!$CD$7","v":100},200,null,"A+/A/B/C/D"]
[null,"◐",{"$f":"'Result Entry'!$BS$3","v":"Sanskrit/Urdu"},null,{"$f":"IF(OR(C2205=\"\",$I2190=\"NSO\"),\"\",VLOOKUP($A2185,'Result Entry'!$B$9:$EQ$108,70,0))","v":0},{"$f":"IF(OR(C2205=\"\",$I2190=\"NSO\"),\"\",VLOOKUP($A2185,'Result Entry'!$B$9:$EQ$108,71,0))","v":0},{"$f":"IF(OR(C2205=\"\",$I2190=\"NSO\"),\"\",VLOOKUP($A2185,'Result Entry'!$B$9:$EQ$108,72,0))","v":0},{"$f":"IF(OR(C2205=\"\",$I2190=\"NSO\"),\"\",VLOOKUP($A2185,'Result Entry'!$B$9:$EQ$108,77,0))","v":0},{"$f":"SUM(E2205:H2205)","v":0},{"$f":"IF(OR(C2205=\"\",$I2190=\"NSO\"),\"\",VLOOKUP($A2185,'Result Entry'!$B$9:$EQ$108,81,0))","v":0},0,null,{"$f":"IF(OR(C2205=\"\",$I2190=\"NSO\"),\"\",VLOOKUP($A2185,'Result Entry'!$B$9:$EQ$108,84,0))","v":""}]
[null,"◐"]
[null,"◐","Overall Result",null,null,"Total Max. Marks",null,"Total Obtained Marks",null,"Percentage","Overall Grade","Result","Position in Class"]
[null,"◐",{"$nulls":3},{"$f":"IF(OR($I2190=\"\",$I2190=\"NSO\"),\"\",VLOOKUP($A2185,'Result Entry'!$B$9:$EQ$108,120,0))","v":900},null,{"$f":"IF(OR($I2190=\"\",$I2190=\"NSO\"),\"\",VLOOKUP($A2185,'Result Entry'!$B$9:$EQ$108,121,0))","v":0},null,{"$f":"IF(OR($I2190=\"\",$I2190=\"NSO\"),\"\",VLOOKUP($A2185,'Result Entry'!$B$9:$EQ$108,122,0))","v":{"v":0,"d":"0.00"}},{"$f":"IF(OR($I2190=\"\",$I2190=\"NSO\"),\"\",VLOOKUP($A2185,'Result Entry'!$B$9:$EQ$108,123,0))","v":""},{"$f":"IF(OR($I2190=\"\",$I2190=\"NSO\"),\"\",VLOOKUP($A2185,'Result Entry'!$B$9:$EQ$108,124,0))","v":""},{"$f":"IF(OR($I2190=\"\",$I2190=\"NSO\"),\"\",VLOOKUP($A2185,'Result Entry'!$B$9:$EQ$108,126,0))","v":""}]
[null,"◐",{"$nulls":6},"Total Meetings :-",null,{"$f":"IF(OR($I2190=\"\",$I2190=\"NSO\"),\"\",VLOOKUP($A2185,'Result Entry'!$B$9:$EQ$108,117,0))","v":0},"Attedance %"]
[null,"◐","Extra Subjects",{"$nulls":5},"Student's Meetings :-",null,{"$f":"IF(OR($I2190=\"\",$I2190=\"NSO\"),\"\",VLOOKUP($A2185,'Result Entry'!$B$9:$EQ$108,118,0))","v":0},{"$f":"IF(OR($I2190=\"\",$I2190=\"NSO\"),\"\",VLOOKUP($A2185,'Result Entry'!$B$9:$EQ$108,119,0))","v":""}]
[null,"◐","Subject",null,null,"Total Marks",null,"GRADE","Remark :-",null,{"$f":"IF(OR($I2190=\"\",$I2190=\"NSO\"),\"\",VLOOKUP($A2185,'Result Entry'!$B$9:$EQ$108,127,0))","v":0}]
[null,"◐",{"$f":"'Result Entry'!$CH$3","v":"WORK EXP."},null,null,{"$f":"IF(OR(C2212=\"\",$I2190=\"NSO\"),\"\",VLOOKUP($A2185,'Result Entry'!$B$9:$EQ$108,138,0))","v":"0/100"},null,{"$f":"IF(OR(C2212=\"\",$I2190=\"NSO\"),\"\",VLOOKUP($A2185,'Result Entry'!$B$9:$EQ$108,92,0))","v":""},"Result Date :-",null,{"$f":"'Result Entry'!$U$2","v":"2024-05-07"}]
[null,"◐",{"$f":"'Result Entry'!$CP$3","v":"ART EDU."},null,null,{"$f":"IF(OR(C2213=\"\",$I2190=\"NSO\"),\"\",VLOOKUP($A2185,'Result Entry'!$B$9:$EQ$108,142,0))","v":"0/100"},null,{"$f":"IF(OR(C2213=\"\",$I2190=\"NSO\"),\"\",VLOOKUP($A2185,'Result Entry'!$B$9:$EQ$108,100,0))","v":""}]
[null,null,{"$f":"'Result Entry'!$CX$3","v":"H&P. EDU."},null,null,{"$f":"IF(OR(C2214=\"\",$I2190=\"NSO\"),\"\",VLOOKUP($A2185,'Result Entry'!$B$9:$EQ$108,146,0))","v":"0/0"},null,{"$f":"IF(OR(C2214=\"\",$I2190=\"NSO\"),\"\",VLOOKUP($A2185,'Result Entry'!$B$9:$EQ$108,108,0))","v":""}]
[null,"◐",{"$f":"'Result Entry'!$DF$3","v":0},null,null,{"$f":"IF(OR(C2215=\"\",$I2190=\"NSO\"),\"\",VLOOKUP($A2185,'Result Entry'!$B$9:$EQ$108,131,0))","v":0},null,{"$f":"IF(OR(C2215=\"\",$I2190=\"NSO\"),\"\",VLOOKUP($A2185,'Result Entry'!$B$9:$EQ$108,97,0))","v":0},"Signature Of The Class Teacher"]
[null,"◐","Grading System"]
[null,"◐","Grd.","% Range",null,"Description"]
[null,"◐","A","86-100",null,"Excellent",null,null,"Signature And Seal Of Principal/H.M."]
[null,"◐","B","71-85",null,"Very Good"]
[null,"◐","C","51-70",null,"Good"]
[null,"◐","D","31-50",null,"Average"]
[null,"◐","E","0-30",null,"Needs Improvement",null,null,"Wish bright future"]
[]
[{"$f":"A2185+1","v":58},"Department Of Education, Rajasthan"]
[null,{"$f":"IF(I2229>0,CONCATENATE(C2229,I2229),0)","v":0},null,{"$f":"Master!$E$8","v":"Govt.Sr.Sec.Sch."}]
[{"$nulls":3},{"$f":"Master!$E$11","v":"P.S.-Bapini (Jodhpur)"}]
[null,null,"Report Card",{"$nulls":6},"U-DISE Code:-",null,{"$f":"Master!$E$14","v":{"v":810000000,"d":"0810000000"}}]
[{"$nulls":9},"Session:-",null,{"$f":"Master!$E$6","v":"2023-24"}]
[null,null,"Roll No.:-",{"$nulls":5},{"$f":"VLOOKUP($A2224,'Result Entry'!$B$9:$F$108,5,0)","v":0}]
[null,"◐","Scholar Number",{"$nulls":3},"↠",{"$f":"VLOOKUP($A2224,'Result Entry'!$B$9:$EQ$108,3,0)","v":0}]
[null,"◐","Student's Name",{"$nulls":3},"↠",{"$f":"VLOOKUP($A2224,'Result Entry'!$B$9:$EQ$108,6,0)","v":0}]
[null,"◐","Father's Name",{"$nulls":3},"↠",{"$f":"VLOOKUP($A2224,'Result Entry'!$B$9:$EQ$108,7,0)","v":0}]
[null,"◐","Mother's Name ",{"$nulls":3},"↠",{"$f":"VLOOKUP($A2224,'Result Entry'!$B$9:$EQ$108,8,0)","v":0}]
[null,"◐","Class & Section",{"$nulls":3},"↠",{"$f":"CONCATENATE('Result Entry'!$F$4,'Result Entry'!$I$4)","v":"2(A)"}]
[null,"◐","Date Of Birth",{"$nulls":3},"↠",{"$f":"VLOOKUP($A2224,'Result Entry'!$B$9:$EQ$108,9,0)","v":"00:00:00"}]
[null,"◐","Subject",null,{"$f":"'Result Entry'!$K$6","v":"First Test"},{"$f":"'Result Entry'!$L$6","v":"Second Test"},{"$f":"'Result Entry'!$M$6","v":"Third Test"},"Half Yearly","Total (Test+H.Y.)","Yearly","Grand Total",null,"Subject Grade"]
[null,"◐","Max. Marks",null,{"$f":"'Result Entry'!$K$7","v":10},{"$f":"'Result Entry'!$L$7","v":10},{"$f":"'Result Entry'!$M$7","v":10},{"$f":"'Result Entry'!$R$7","v":70},{"$f":"SUM(E2237:H2237)","v":100},{"$f":"'Result Entry'!$V$7","v":100},{"$f":"I2237+J2237","v":200},null,"A+/A/B/C/D"]
[null,"◐",{"$f":"'Result Entry'!$K$3","v":"Hindi"},null,{"$f":"IF(OR(C2238=\"\",$I2229=\"NSO\"),\"\",VLOOKUP($A2224,'Result Entry'!$B$9:$EQ$108,10,0))","v":0},{"$f":"IF(OR(C2238=\"\",$I2229=\"NSO\"),\"\",VLOOKUP($A2224,'Result Entry'!$B$9:$EQ$108,11,0))","v":0},{"$f":"IF(OR(C2238=\"\",$I2229=\"NSO\"),\"\",VLOOKUP($A2224,'Result Entry'!$B$9:$EQ$108,12,0))","v":0},{"$f":"IF(OR(C2238=\"\",$I2229=\"NSO\"),\"\",VLOOKUP($A2224,'Result Entry'!$B$9:$EQ$108,17,0))","v":0},{"$f":"SUM(E2238:H2238)","v":0},{"$f":"IF(OR(C2238=\"\",$I2229=\"NSO\"),\"\",VLOOKUP($A2224,'Result Entry'!$B$9:$EQ$108,21,0))","v":0},{"$f":"SUM(I2238,J2238)","v":0},null,{"$f":"IF(OR(C2238=\"\",$I2229=\"NSO\"),\"\",VLOOKUP($A2224,'Result Entry'!$B$9:$EQ$108,24,0))","v":""}]
[null,"◐",{"$f":"'Result Entry'!$Z$3","v":"Mathematics"},null,{"$f":"IF(OR(C2239=\"\",$I2229=\"NSO\"),\"\",VLOOKUP($A2224,'Result Entry'!$B$9:$EQ$108,25,0))","v":0},{"$f":"IF(OR(C2239=\"\",$I2229=\"NSO\"),\"\",VLOOKUP($A2224,'Result Entry'!$B$9:$EQ$108,26,0))","v":0},{"$f":"IF(OR(C2239=\"\",$I2229=\"NSO\"),\"\",VLOOKUP($A2224,'Result Entry'!$B$9:$EQ$108,27,0))","v":0},{"$f":"IF(OR(C2239=\"\",$I2229=\"NSO\"),\"\",VLOOKUP($A2224,'Result Entry'!$B$9:$EQ$108,32,0))","v":0},0,{"$f":"IF(OR(C2239=\"\",$I2229=\"NSO\"),\"\",VLOOKUP($A2224,'Result Entry'!$B$9:$EQ$108,36,0))","v":0},{"$f":"SUM(I2239,J2239)","v":0},null,{"$f":"IF(OR(C2239=\"\",$I2229=\"NSO\"),\"\",VLOOKUP($A2224,'Result Entry'!$B$9:$EQ$108,39,0))","v":""}]
[null,"◐",{"$f":"'Result Entry'!$BD$3","v":"Env. Study"},null,{"$f":"IF(OR(C2240=\"\",$I2229=\"NSO\"),\"\",VLOOKUP($A2224,'Result Entry'!$B$9:$EQ$108,55,0))","v":0},{"$f":"IF(OR(C2240=\"\",$I2229=\"NSO\"),\"\",VLOOKUP($A2224,'Result Entry'!$B$9:$EQ$108,56,0))","v":0},{"$f":"IF(OR(C2240=\"\",$I2229=\"NSO\"),\"\",VLOOKUP($A2224,'Result Entry'!$B$9:$EQ$108,57,0))","v":0},{"$f":"IF(OR(C2238=\"\",$I2229=\"NSO\"),\"\",VLOOKUP($A2224,'Result Entry'!$B$9:$EQ$108,62,0))","v":0},0,{"$f":"IF(OR(C2239=\"\",$I2229=\"NSO\"),\"\",VLOOKUP($A2224,'Result Entry'!$B$9:$EQ$108,66,0))","v":0},0,null,{"$f":"IF(OR(C2239=\"\",$I2229=\"NSO\"),\"\",VLOOKUP($A2224,'Result Entry'!$B$9:$EQ$108,69,0))","v":""}]
[null,"◐","Max. Marks",null,{"$f":"'Result Entry'!$AO$7","v":5},{"$f":"'Result Entry'!$AP$7","v":5},{"$f":"'Result Entry'!$AQ$7","v":5},{"$f":"'Result Entry'!$AV$7","v":35},50,{"$f":"'Result Entry'!$AZ$7","v":50},100,null,"A+/A/B/C/D"]
[null,"◐",{"$f":"'Result Entry'!$AO$3","v":"English"},null,{"$f":"IF(OR(C2242=\"\",$I2229=\"NSO\"),\"\",VLOOKUP($A2224,'Result Entry'!$B$9:$EQ$108,40,0))","v":0},{"$f":"IF(OR(C2242=\"\",$I2229=\"NSO\"),\"\",VLOOKUP($A2224,'Result Entry'!$B$9:$EQ$108,41,0))","v":0},{"$f":"IF(OR(C2242=\"\",$I2229=\"NSO\"),\"\",VLOOKUP($A2224,'Result Entry'!$B$9:$EQ$108,42,0))","v":0},{"$f":"IF(OR(C2242=\"\",$I2229=\"NSO\"),\"\",VLOOKUP($A2224,'Result Entry'!$B$9:$EQ$108,47,0))","v":0},0,{"$f":"IF(OR(C2242=\"\",$I2229=\"NSO\"),\"\",VLOOKUP($A2224,'Result Entry'!$B$9:$EQ$108,51,0))","v":0},0,null,{"$f":"IF(OR(C2242=\"\",$I2229=\"NSO\"),\"\",VLOOKUP($A2224,'Result Entry'!$B$9:$EQ$108,54,0))","v":""}]
[null,"◐","Max. Marks",null,{"$f":"'Result Entry'!$BS$7","v":10},{"$f":"'Result Entry'!$BT$7","v":10},{"$f":"'Result Entry'!$BU$7","v":10},{"$f":"'Result Entry'!$BZ$7","v":70},{"$f":"SUM(E2243:H2243)","v":100},{"$f":"'Result Entry'!$CD$7","v":100},200,null,"A+/A/B/C/D"]
[null,"◐",{"$f":"'Result Entry'!$BS$3","v":"Sanskrit/Urdu"},null,{"$f":"IF(OR(C2244=\"\",$I2229=\"NSO\"),\"\",VLOOKUP($A2224,'Result Entry'!$B$9:$EQ$108,70,0))","v":0},{"$f":"IF(OR(C2244=\"\",$I2229=\"NSO\"),\"\",VLOOKUP($A2224,'Result Entry'!$B$9:$EQ$108,71,0))","v":0},{"$f":"IF(OR(C2244=\"\",$I2229=\"NSO\"),\"\",VLOOKUP($A2224,'Result Entry'!$B$9:$EQ$108,72,0))","v":0},{"$f":"IF(OR(C2244=\"\",$I2229=\"NSO\"),\"\",VLOOKUP($A2224,'Result Entry'!$B$9:$EQ$108,77,0))","v":0},{"$f":"SUM(E2244:H2244)","v":0},{"$f":"IF(OR(C2244=\"\",$I2229=\"NSO\"),\"\",VLOOKUP($A2224,'Result Entry'!$B$9:$EQ$108,81,0))","v":0},0,null,{"$f":"IF(OR(C2244=\"\",$I2229=\"NSO\"),\"\",VLOOKUP($A2224,'Result Entry'!$B$9:$EQ$108,84,0))","v":""}]
[null,"◐"]
[null,"◐","Overall Result",null,null,"Total Max. Marks",null,"Total Obtained Marks",null,"Percentage","Overall Grade","Result","Position in Class"]
[null,"◐",{"$nulls":3},{"$f":"IF(OR($I2229=\"\",$I2229=\"NSO\"),\"\",VLOOKUP($A2224,'Result Entry'!$B$9:$EQ$108,120,0))","v":900},null,{"$f":"IF(OR($I2229=\"\",$I2229=\"NSO\"),\"\",VLOOKUP($A2224,'Result Entry'!$B$9:$EQ$108,121,0))","v":0},null,{"$f":"IF(OR($I2229=\"\",$I2229=\"NSO\"),\"\",VLOOKUP($A2224,'Result Entry'!$B$9:$EQ$108,122,0))","v":{"v":0,"d":"0.00"}},{"$f":"IF(OR($I2229=\"\",$I2229=\"NSO\"),\"\",VLOOKUP($A2224,'Result Entry'!$B$9:$EQ$108,123,0))","v":""},{"$f":"IF(OR($I2229=\"\",$I2229=\"NSO\"),\"\",VLOOKUP($A2224,'Result Entry'!$B$9:$EQ$108,124,0))","v":""},{"$f":"IF(OR($I2229=\"\",$I2229=\"NSO\"),\"\",VLOOKUP($A2224,'Result Entry'!$B$9:$EQ$108,126,0))","v":""}]
[null,"◐",{"$nulls":6},"Total Meetings :-",null,{"$f":"IF(OR($I2229=\"\",$I2229=\"NSO\"),\"\",VLOOKUP($A2224,'Result Entry'!$B$9:$EQ$108,117,0))","v":0},"Attedance %"]
[null,"◐","Extra Subjects",{"$nulls":5},"Student's Meetings :-",null,{"$f":"IF(OR($I2229=\"\",$I2229=\"NSO\"),\"\",VLOOKUP($A2224,'Result Entry'!$B$9:$EQ$108,118,0))","v":0},{"$f":"IF(OR($I2229=\"\",$I2229=\"NSO\"),\"\",VLOOKUP($A2224,'Result Entry'!$B$9:$EQ$108,119,0))","v":""}]
[null,"◐","Subject",null,null,"Total Marks",null,"GRADE","Remark :-",null,{"$f":"IF(OR($I2229=\"\",$I2229=\"NSO\"),\"\",VLOOKUP($A2224,'Result Entry'!$B$9:$EQ$108,127,0))","v":0}]
[null,"◐",{"$f":"'Result Entry'!$CH$3","v":"WORK EXP."},null,null,{"$f":"IF(OR(C2251=\"\",$I2229=\"NSO\"),\"\",VLOOKUP($A2224,'Result Entry'!$B$9:$EQ$108,138,0))","v":"0/100"},null,{"$f":"IF(OR(C2251=\"\",$I2229=\"NSO\"),\"\",VLOOKUP($A2224,'Result Entry'!$B$9:$EQ$108,92,0))","v":""},"Result Date :-",null,{"$f":"'Result Entry'!$U$2","v":"2024-05-07"}]
[null,"◐",{"$f":"'Result Entry'!$CP$3","v":"ART EDU."},null,null,{"$f":"IF(OR(C2252=\"\",$I2229=\"NSO\"),\"\",VLOOKUP($A2224,'Result Entry'!$B$9:$EQ$108,142,0))","v":"0/100"},null,{"$f":"IF(OR(C2252=\"\",$I2229=\"NSO\"),\"\",VLOOKUP($A2224,'Result Entry'!$B$9:$EQ$108,100,0))","v":""}]
[null,null,{"$f":"'Result Entry'!$CX$3","v":"H&P. EDU."},null,null,{"$f":"IF(OR(C2253=\"\",$I2229=\"NSO\"),\"\",VLOOKUP($A2224,'Result Entry'!$B$9:$EQ$108,146,0))","v":"0/0"},null,{"$f":"IF(OR(C2253=\"\",$I2229=\"NSO\"),\"\",VLOOKUP($A2224,'Result Entry'!$B$9:$EQ$108,108,0))","v":""}]
[null,"◐",{"$f":"'Result Entry'!$DF$3","v":0},null,null,{"$f":"IF(OR(C2254=\"\",$I2229=\"NSO\"),\"\",VLOOKUP($A2224,'Result Entry'!$B$9:$EQ$108,131,0))","v":0},null,{"$f":"IF(OR(C2254=\"\",$I2229=\"NSO\"),\"\",VLOOKUP($A2224,'Result Entry'!$B$9:$EQ$108,97,0))","v":0},"Signature Of The Class Teacher"]
[null,"◐","Grading System"]
[null,"◐","Grd.","% Range",null,"Description"]
[null,"◐","A","86-100",null,"Excellent",null,null,"Signature And Seal Of Principal/H.M."]
[null,"◐","B","71-85",null,"Very Good"]
[null,"◐","C","51-70",null,"Good"]
[null,"◐","D","31-50",null,"Average"]
[null,"◐","E","0-30",null,"Needs Improvement",null,null,"Wish bright future"]
[]
[{"$f":"A2224+1","v":59},"Department Of Education, Rajasthan"]
[null,{"$f":"IF(I2268>0,CONCATENATE(C2268,I2268),0)","v":0},null,{"$f":"Master!$E$8","v":"Govt.Sr.Sec.Sch."}]
[{"$nulls":3},{"$f":"Master!$E$11","v":"P.S.-Bapini (Jodhpur)"}]
[null,null,"Report Card",{"$nulls":6},"U-DISE Code:-",null,{"$f":"Master!$E$14","v":{"v":810000000,"d":"0810000000"}}]
[{"$nulls":9},"Session:-",null,{"$f":"Master!$E$6","v":"2023-24"}]
[null,null,"Roll No.:-",{"$nulls":5},{"$f":"VLOOKUP($A2263,'Result Entry'!$B$9:$F$108,5,0)","v":0}]
[null,"◐","Scholar Number",{"$nulls":3},"↠",{"$f":"VLOOKUP($A2263,'Result Entry'!$B$9:$EQ$108,3,0)","v":0}]
[null,"◐","Student's Name",{"$nulls":3},"↠",{"$f":"VLOOKUP($A2263,'Result Entry'!$B$9:$EQ$108,6,0)","v":0}]
[null,"◐","Father's Name",{"$nulls":3},"↠",{"$f":"VLOOKUP($A2263,'Result Entry'!$B$9:$EQ$108,7,0)","v":0}]
[null,"◐","Mother's Name ",{"$nulls":3},"↠",{"$f":"VLOOKUP($A2263,'Result Entry'!$B$9:$EQ$108,8,0)","v":0}]
[null,"◐","Class & Section",{"$nulls":3},"↠",{"$f":"CONCATENATE('Result Entry'!$F$4,'Result Entry'!$I$4)","v":"2(A)"}]
[null,"◐","Date Of Birth",{"$nulls":3},"↠",{"$f":"VLOOKUP($A2263,'Result Entry'!$B$9:$EQ$108,9,0)","v":"00:00:00"}]
[null,"◐","Subject",null,{"$f":"'Result Entry'!$K$6","v":"First Test"},{"$f":"'Result Entry'!$L$6","v":"Second Test"},{"$f":"'Result Entry'!$M$6","v":"Third Test"},"Half Yearly","Total (Test+H.Y.)","Yearly","Grand Total",null,"Subject Grade"]
[null,"◐","Max. Marks",null,{"$f":"'Result Entry'!$K$7","v":10},{"$f":"'Result Entry'!$L$7","v":10},{"$f":"'Result Entry'!$M$7","v":10},{"$f":"'Result Entry'!$R$7","v":70},{"$f":"SUM(E2276:H2276)","v":100},{"$f":"'Result Entry'!$V$7","v":100},{"$f":"I2276+J2276","v":200},null,"A+/A/B/C/D"]
[null,"◐",{"$f":"'Result Entry'!$K$3","v":"Hindi"},null,{"$f":"IF(OR(C2277=\"\",$I2268=\"NSO\"),\"\",VLOOKUP($A2263,'Result Entry'!$B$9:$EQ$108,10,0))","v":0},{"$f":"IF(OR(C2277=\"\",$I2268=\"NSO\"),\"\",VLOOKUP($A2263,'Result Entry'!$B$9:$EQ$108,11,0))","v":0},{"$f":"IF(OR(C2277=\"\",$I2268=\"NSO\"),\"\",VLOOKUP($A2263,'Result Entry'!$B$9:$EQ$108,12,0))","v":0},{"$f":"IF(OR(C2277=\"\",$I2268=\"NSO\"),\"\",VLOOKUP($A2263,'Result Entry'!$B$9:$EQ$108,17,0))","v":0},{"$f":"SUM(E2277:H2277)","v":0},{"$f":"IF(OR(C2277=\"\",$I2268=\"NSO\"),\"\",VLOOKUP($A2263,'Result Entry'!$B$9:$EQ$108,21,0))","v":0},{"$f":"SUM(I2277,J2277)","v":0},null,{"$f":"IF(OR(C2277=\"\",$I2268=\"NSO\"),\"\",VLOOKUP($A2263,'Result Entry'!$B$9:$EQ$108,24,0))","v":""}]
[null,"◐",{"$f":"'Result Entry'!$Z$3","v":"Mathematics"},null,{"$f":"IF(OR(C2278=\"\",$I2268=\"NSO\"),\"\",VLOOKUP($A2263,'Result Entry'!$B$9:$EQ$108,25,0))","v":0},{"$f":"IF(OR(C2278=\"\",$I2268=\"NSO\"),\"\",VLOOKUP($A2263,'Result Entry'!$B$9:$EQ$108,26,0))","v":0},{"$f":"IF(OR(C2278=\"\",$I2268=\"NSO\"),\"\",VLOOKUP($A2263,'Result Entry'!$B$9:$EQ$108,27,0))","v":0},{"$f":"IF(OR(C2278=\"\",$I2268=\"NSO\"),\"\",VLOOKUP($A2263,'Result Entry'!$B$9:$EQ$108,32,0))","v":0},0,{"$f":"IF(OR(C2278=\"\",$I2268=\"NSO\"),\"\",VLOOKUP($A2263,'Result Entry'!$B$9:$EQ$108,36,0))","v":0},{"$f":"SUM(I2278,J2278)","v":0},null,{"$f":"IF(OR(C2278=\"\",$I2268=\"NSO\"),\"\",VLOOKUP($A2263,'Result Entry'!$B$9:$EQ$108,39,0))","v":""}]
[null,"◐",{"$f":"'Result Entry'!$BD$3","v":"Env. Study"},null,{"$f":"IF(OR(C2279=\"\",$I2268=\"NSO\"),\"\",VLOOKUP($A2263,'Result Entry'!$B$9:$EQ$108,55,0))","v":0},{"$f":"IF(OR(C2279=\"\",$I2268=\"NSO\"),\"\",VLOOKUP($A2263,'Result Entry'!$B$9:$EQ$108,56,0))","v":0},{"$f":"IF(OR(C2279=\"\",$I2268=\"NSO\"),\"\",VLOOKUP($A2263,'Result Entry'!$B$9:$EQ$108,57,0))","v":0},{"$f":"IF(OR(C2277=\"\",$I2268=\"NSO\"),\"\",VLOOKUP($A2263,'Result Entry'!$B$9:$EQ$108,62,0))","v":0},0,{"$f":"IF(OR(C2278=\"\",$I2268=\"NSO\"),\"\",VLOOKUP($A2263,'Result Entry'!$B$9:$EQ$108,66,0))","v":0},0,null,{"$f":"IF(OR(C2278=\"\",$I2268=\"NSO\"),\"\",VLOOKUP($A2263,'Result Entry'!$B$9:$EQ$108,69,0))","v":""}]
[null,"◐","Max. Marks",null,{"$f":"'Result Entry'!$AO$7","v":5},{"$f":"'Result Entry'!$AP$7","v":5},{"$f":"'Result Entry'!$AQ$7","v":5},{"$f":"'Result Entry'!$AV$7","v":35},50,{"$f":"'Result Entry'!$AZ$7","v":50},100,null,"A+/A/B/C/D"]
[null,"◐",{"$f":"'Result Entry'!$AO$3","v":"English"},null,{"$f":"IF(OR(C2281=\"\",$I2268=\"NSO\"),\"\",VLOOKUP($A2263,'Result Entry'!$B$9:$EQ$108,40,0))","v":0},{"$f":"IF(OR(C2281=\"\",$I2268=\"NSO\"),\"\",VLOOKUP($A2263,'Result Entry'!$B$9:$EQ$108,41,0))","v":0},{"$f":"IF(OR(C2281=\"\",$I2268=\"NSO\"),\"\",VLOOKUP($A2263,'Result Entry'!$B$9:$EQ$108,42,0))","v":0},{"$f":"IF(OR(C2281=\"\",$I2268=\"NSO\"),\"\",VLOOKUP($A2263,'Result Entry'!$B$9:$EQ$108,47,0))","v":0},0,{"$f":"IF(OR(C2281=\"\",$I2268=\"NSO\"),\"\",VLOOKUP($A2263,'Result Entry'!$B$9:$EQ$108,51,0))","v":0},0,null,{"$f":"IF(OR(C2281=\"\",$I2268=\"NSO\"),\"\",VLOOKUP($A2263,'Result Entry'!$B$9:$EQ$108,54,0))","v":""}]
[null,"◐","Max. Marks",null,{"$f":"'Result Entry'!$BS$7","v":10},{"$f":"'Result Entry'!$BT$7","v":10},{"$f":"'Result Entry'!$BU$7","v":10},{"$f":"'Result Entry'!$BZ$7","v":70},{"$f":"SUM(E2282:H2282)","v":100},{"$f":"'Result Entry'!$CD$7","v":100},200,null,"A+/A/B/C/D"]
[null,"◐",{"$f":"'Result Entry'!$BS$3","v":"Sanskrit/Urdu"},null,{"$f":"IF(OR(C2283=\"\",$I2268=\"NSO\"),\"\",VLOOKUP($A2263,'Result Entry'!$B$9:$EQ$108,70,0))","v":0},{"$f":"IF(OR(C2283=\"\",$I2268=\"NSO\"),\"\",VLOOKUP($A2263,'Result Entry'!$B$9:$EQ$108,71,0))","v":0},{"$f":"IF(OR(C2283=\"\",$I2268=\"NSO\"),\"\",VLOOKUP($A2263,'Result Entry'!$B$9:$EQ$108,72,0))","v":0},{"$f":"IF(OR(C2283=\"\",$I2268=\"NSO\"),\"\",VLOOKUP($A2263,'Result Entry'!$B$9:$EQ$108,77,0))","v":0},{"$f":"SUM(E2283:H2283)","v":0},{"$f":"IF(OR(C2283=\"\",$I2268=\"NSO\"),\"\",VLOOKUP($A2263,'Result Entry'!$B$9:$EQ$108,81,0))","v":0},0,null,{"$f":"IF(OR(C2283=\"\",$I2268=\"NSO\"),\"\",VLOOKUP($A2263,'Result Entry'!$B$9:$EQ$108,84,0))","v":""}]
[null,"◐"]
[null,"◐","Overall Result",null,null,"Total Max. Marks",null,"Total Obtained Marks",null,"Percentage","Overall Grade","Result","Position in Class"]
[null,"◐",{"$nulls":3},{"$f":"IF(OR($I2268=\"\",$I2268=\"NSO\"),\"\",VLOOKUP($A2263,'Result Entry'!$B$9:$EQ$108,120,0))","v":900},null,{"$f":"IF(OR($I2268=\"\",$I2268=\"NSO\"),\"\",VLOOKUP($A2263,'Result Entry'!$B$9:$EQ$108,121,0))","v":0},null,{"$f":"IF(OR($I2268=\"\",$I2268=\"NSO\"),\"\",VLOOKUP($A2263,'Result Entry'!$B$9:$EQ$108,122,0))","v":{"v":0,"d":"0.00"}},{"$f":"IF(OR($I2268=\"\",$I2268=\"NSO\"),\"\",VLOOKUP($A2263,'Result Entry'!$B$9:$EQ$108,123,0))","v":""},{"$f":"IF(OR($I2268=\"\",$I2268=\"NSO\"),\"\",VLOOKUP($A2263,'Result Entry'!$B$9:$EQ$108,124,0))","v":""},{"$f":"IF(OR($I2268=\"\",$I2268=\"NSO\"),\"\",VLOOKUP($A2263,'Result Entry'!$B$9:$EQ$108,126,0))","v":""}]
[null,"◐",{"$nulls":6},"Total Meetings :-",null,{"$f":"IF(OR($I2268=\"\",$I2268=\"NSO\"),\"\",VLOOKUP($A2263,'Result Entry'!$B$9:$EQ$108,117,0))","v":0},"Attedance %"]
[null,"◐","Extra Subjects",{"$nulls":5},"Student's Meetings :-",null,{"$f":"IF(OR($I2268=\"\",$I2268=\"NSO\"),\"\",VLOOKUP($A2263,'Result Entry'!$B$9:$EQ$108,118,0))","v":0},{"$f":"IF(OR($I2268=\"\",$I2268=\"NSO\"),\"\",VLOOKUP($A2263,'Result Entry'!$B$9:$EQ$108,119,0))","v":""}]
[null,"◐","Subject",null,null,"Total Marks",null,"GRADE","Remark :-",null,{"$f":"IF(OR($I2268=\"\",$I2268=\"NSO\"),\"\",VLOOKUP($A2263,'Result Entry'!$B$9:$EQ$108,127,0))","v":0}]
[null,"◐",{"$f":"'Result Entry'!$CH$3","v":"WORK EXP."},null,null,{"$f":"IF(OR(C2290=\"\",$I2268=\"NSO\"),\"\",VLOOKUP($A2263,'Result Entry'!$B$9:$EQ$108,138,0))","v":"0/100"},null,{"$f":"IF(OR(C2290=\"\",$I2268=\"NSO\"),\"\",VLOOKUP($A2263,'Result Entry'!$B$9:$EQ$108,92,0))","v":""},"Result Date :-",null,{"$f":"'Result Entry'!$U$2","v":"2024-05-07"}]
[null,"◐",{"$f":"'Result Entry'!$CP$3","v":"ART EDU."},null,null,{"$f":"IF(OR(C2291=\"\",$I2268=\"NSO\"),\"\",VLOOKUP($A2263,'Result Entry'!$B$9:$EQ$108,142,0))","v":"0/100"},null,{"$f":"IF(OR(C2291=\"\",$I2268=\"NSO\"),\"\",VLOOKUP($A2263,'Result Entry'!$B$9:$EQ$108,100,0))","v":""}]
[null,null,{"$f":"'Result Entry'!$CX$3","v":"H&P. EDU."},null,null,{"$f":"IF(OR(C2292=\"\",$I2268=\"NSO\"),\"\",VLOOKUP($A2263,'Result Entry'!$B$9:$EQ$108,146,0))","v":"0/0"},null,{"$f":"IF(OR(C2292=\"\",$I2268=\"NSO\"),\"\",VLOOKUP($A2263,'Result Entry'!$B$9:$EQ$108,108,0))","v":""}]
[null,"◐",{"$f":"'Result Entry'!$DF$3","v":0},null,null,{"$f":"IF(OR(C2293=\"\",$I2268=\"NSO\"),\"\",VLOOKUP($A2263,'Result Entry'!$B$9:$EQ$108,131,0))","v":0},null,{"$f":"IF(OR(C2293=\"\",$I2268=\"NSO\"),\"\",VLOOKUP($A2263,'Result Entry'!$B$9:$EQ$108,97,0))","v":0},"Signature Of The Class Teacher"]
[null,"◐","Grading System"]
[null,"◐","Grd.","% Range",null,"Description"]
[null,"◐","A","86-100",null,"Excellent",null,null,"Signature And Seal Of Principal/H.M."]
[null,"◐","B","71-85",null,"Very Good"]
[null,"◐","C","51-70",null,"Good"]
[null,"◐","D","31-50",null,"Average"]
[null,"◐","E","0-30",null,"Needs Improvement",null,null,"Wish bright future"]
[]
[{"$f":"A2263+1","v":60},"Department Of Education, Rajasthan"]
[null,{"$f":"IF(I2307>0,CONCATENATE(C2307,I2307),0)","v":0},null,{"$f":"Master!$E$8","v":"Govt.Sr.Sec.Sch."}]
[{"$nulls":3},{"$f":"Master!$E$11","v":"P.S.-Bapini (Jodhpur)"}]
[null,null,"Report Card",{"$nulls":6},"U-DISE Code:-",null,{"$f":"Master!$E$14","v":{"v":810000000,"d":"0810000000"}}]
[{"$nulls":9},"Session:-",null,{"$f":"Master!$E$6","v":"2023-24"}]
[null,null,"Roll No.:-",{"$nulls":5},{"$f":"VLOOKUP($A2302,'Result Entry'!$B$9:$F$108,5,0)","v":0}]
[null,"◐","Scholar Number",{"$nulls":3},"↠",{"$f":"VLOOKUP($A2302,'Result Entry'!$B$9:$EQ$108,3,0)","v":0}]
[null,"◐","Student's Name",{"$nulls":3},"↠",{"$f":"VLOOKUP($A2302,'Result Entry'!$B$9:$EQ$108,6,0)","v":0}]
[null,"◐","Father's Name",{"$nulls":3},"↠",{"$f":"VLOOKUP($A2302,'Result Entry'!$B$9:$EQ$108,7,0)","v":0}]
[null,"◐","Mother's Name ",{"$nulls":3},"↠",{"$f":"VLOOKUP($A2302,'Result Entry'!$B$9:$EQ$108,8,0)","v":0}]
[null,"◐","Class & Section",{"$nulls":3},"↠",{"$f":"CONCATENATE('Result Entry'!$F$4,'Result Entry'!$I$4)","v":"2(A)"}]
[null,"◐","Date Of Birth",{"$nulls":3},"↠",{"$f":"VLOOKUP($A2302,'Result Entry'!$B$9:$EQ$108,9,0)","v":"00:00:00"}]
[null,"◐","Subject",null,{"$f":"'Result Entry'!$K$6","v":"First Test"},{"$f":"'Result Entry'!$L$6","v":"Second Test"},{"$f":"'Result Entry'!$M$6","v":"Third Test"},"Half Yearly","Total (Test+H.Y.)","Yearly","Grand Total",null,"Subject Grade"]
[null,"◐","Max. Marks",null,{"$f":"'Result Entry'!$K$7","v":10},{"$f":"'Result Entry'!$L$7","v":10},{"$f":"'Result Entry'!$M$7","v":10},{"$f":"'Result Entry'!$R$7","v":70},{"$f":"SUM(E2315:H2315)","v":100},{"$f":"'Result Entry'!$V$7","v":100},{"$f":"I2315+J2315","v":200},null,"A+/A/B/C/D"]
[null,"◐",{"$f":"'Result Entry'!$K$3","v":"Hindi"},null,{"$f":"IF(OR(C2316=\"\",$I2307=\"NSO\"),\"\",VLOOKUP($A2302,'Result Entry'!$B$9:$EQ$108,10,0))","v":0},{"$f":"IF(OR(C2316=\"\",$I2307=\"NSO\"),\"\",VLOOKUP($A2302,'Result Entry'!$B$9:$EQ$108,11,0))","v":0},{"$f":"IF(OR(C2316=\"\",$I2307=\"NSO\"),\"\",VLOOKUP($A2302,'Result Entry'!$B$9:$EQ$108,12,0))","v":0},{"$f":"IF(OR(C2316=\"\",$I2307=\"NSO\"),\"\",VLOOKUP($A2302,'Result Entry'!$B$9:$EQ$108,17,0))","v":0},{"$f":"SUM(E2316:H2316)","v":0},{"$f":"IF(OR(C2316=\"\",$I2307=\"NSO\"),\"\",VLOOKUP($A2302,'Result Entry'!$B$9:$EQ$108,21,0))","v":0},{"$f":"SUM(I2316,J2316)","v":0},null,{"$f":"IF(OR(C2316=\"\",$I2307=\"NSO\"),\"\",VLOOKUP($A2302,'Result Entry'!$B$9:$EQ$108,24,0))","v":""}]
[null,"◐",{"$f":"'Result Entry'!$Z$3","v":"Mathematics"},null,{"$f":"IF(OR(C2317=\"\",$I2307=\"NSO\"),\"\",VLOOKUP($A2302,'Result Entry'!$B$9:$EQ$108,25,0))","v":0},{"$f":"IF(OR(C2317=\"\",$I2307=\"NSO\"),\"\",VLOOKUP($A2302,'Result Entry'!$B$9:$EQ$108,26,0))","v":0},{"$f":"IF(OR(C2317=\"\",$I2307=\"NSO\"),\"\",VLOOKUP($A2302,'Result Entry'!$B$9:$EQ$108,27,0))","v":0},{"$f":"IF(OR(C2317=\"\",$I2307=\"NSO\"),\"\",VLOOKUP($A2302,'Result Entry'!$B$9:$EQ$108,32,0))","v":0},0,{"$f":"IF(OR(C2317=\"\",$I2307=\"NSO\"),\"\",VLOOKUP($A2302,'Result Entry'!$B$9:$EQ$108,36,0))","v":0},{"$f":"SUM(I2317,J2317)","v":0},null,{"$f":"IF(OR(C2317=\"\",$I2307=\"NSO\"),\"\",VLOOKUP($A2302,'Result Entry'!$B$9:$EQ$108,39,0))","v":""}]
[null,"◐",{"$f":"'Result Entry'!$BD$3","v":"Env. Study"},null,{"$f":"IF(OR(C2318=\"\",$I2307=\"NSO\"),\"\",VLOOKUP($A2302,'Result Entry'!$B$9:$EQ$108,55,0))","v":0},{"$f":"IF(OR(C2318=\"\",$I2307=\"NSO\"),\"\",VLOOKUP($A2302,'Result Entry'!$B$9:$EQ$108,56,0))","v":0},{"$f":"IF(OR(C2318=\"\",$I2307=\"NSO\"),\"\",VLOOKUP($A2302,'Result Entry'!$B$9:$EQ$108,57,0))","v":0},{"$f":"IF(OR(C2316=\"\",$I2307=\"NSO\"),\"\",VLOOKUP($A2302,'Result Entry'!$B$9:$EQ$108,62,0))","v":0},0,{"$f":"IF(OR(C2317=\"\",$I2307=\"NSO\"),\"\",VLOOKUP($A2302,'Result Entry'!$B$9:$EQ$108,66,0))","v":0},0,null,{"$f":"IF(OR(C2317=\"\",$I2307=\"NSO\"),\"\",VLOOKUP($A2302,'Result Entry'!$B$9:$EQ$108,69,0))","v":""}]
[null,"◐","Max. Marks",null,{"$f":"'Result Entry'!$AO$7","v":5},{"$f":"'Result Entry'!$AP$7","v":5},{"$f":"'Result Entry'!$AQ$7","v":5},{"$f":"'Result Entry'!$AV$7","v":35},50,{"$f":"'Result Entry'!$AZ$7","v":50},100,null,"A+/A/B/C/D"]
[null,"◐",{"$f":"'Result Entry'!$AO$3","v":"English"},null,{"$f":"IF(OR(C2320=\"\",$I2307=\"NSO\"),\"\",VLOOKUP($A2302,'Result Entry'!$B$9:$EQ$108,40,0))","v":0},{"$f":"IF(OR(C2320=\"\",$I2307=\"NSO\"),\"\",VLOOKUP($A2302,'Result Entry'!$B$9:$EQ$108,41,0))","v":0},{"$f":"IF(OR(C2320=\"\",$I2307=\"NSO\"),\"\",VLOOKUP($A2302,'Result Entry'!$B$9:$EQ$108,42,0))","v":0},{"$f":"IF(OR(C2320=\"\",$I2307=\"NSO\"),\"\",VLOOKUP($A2302,'Result Entry'!$B$9:$EQ$108,47,0))","v":0},0,{"$f":"IF(OR(C2320=\"\",$I2307=\"NSO\"),\"\",VLOOKUP($A2302,'Result Entry'!$B$9:$EQ$108,51,0))","v":0},0,null,{"$f":"IF(OR(C2320=\"\",$I2307=\"NSO\"),\"\",VLOOKUP($A2302,'Result Entry'!$B$9:$EQ$108,54,0))","v":""}]
[null,"◐","Max. Marks",null,{"$f":"'Result Entry'!$BS$7","v":10},{"$f":"'Result Entry'!$BT$7","v":10},{"$f":"'Result Entry'!$BU$7","v":10},{"$f":"'Result Entry'!$BZ$7","v":70},{"$f":"SUM(E2321:H2321)","v":100},{"$f":"'Result Entry'!$CD$7","v":100},200,null,"A+/A/B/C/D"]
[null,"◐",{"$f":"'Result Entry'!$BS$3","v":"Sanskrit/Urdu"},null,{"$f":"IF(OR(C2322=\"\",$I2307=\"NSO\"),\"\",VLOOKUP($A2302,'Result Entry'!$B$9:$EQ$108,70,0))","v":0},{"$f":"IF(OR(C2322=\"\",$I2307=\"NSO\"),\"\",VLOOKUP($A2302,'Result Entry'!$B$9:$EQ$108,71,0))","v":0},{"$f":"IF(OR(C2322=\"\",$I2307=\"NSO\"),\"\",VLOOKUP($A2302,'Result Entry'!$B$9:$EQ$108,72,0))","v":0},{"$f":"IF(OR(C2322=\"\",$I2307=\"NSO\"),\"\",VLOOKUP($A2302,'Result Entry'!$B$9:$EQ$108,77,0))","v":0},{"$f":"SUM(E2322:H2322)","v":0},{"$f":"IF(OR(C2322=\"\",$I2307=\"NSO\"),\"\",VLOOKUP($A2302,'Result Entry'!$B$9:$EQ$108,81,0))","v":0},0,null,{"$f":"IF(OR(C2322=\"\",$I2307=\"NSO\"),\"\",VLOOKUP($A2302,'Result Entry'!$B$9:$EQ$108,84,0))","v":""}]
[null,"◐"]
[null,"◐","Overall Result",null,null,"Total Max. Marks",null,"Total Obtained Marks",null,"Percentage","Overall Grade","Result","Position in Class"]
[null,"◐",{"$nulls":3},{"$f":"IF(OR($I2307=\"\",$I2307=\"NSO\"),\"\",VLOOKUP($A2302,'Result Entry'!$B$9:$EQ$108,120,0))","v":900},null,{"$f":"IF(OR($I2307=\"\",$I2307=\"NSO\"),\"\",VLOOKUP($A2302,'Result Entry'!$B$9:$EQ$108,121,0))","v":0},null,{"$f":"IF(OR($I2307=\"\",$I2307=\"NSO\"),\"\",VLOOKUP($A2302,'Result Entry'!$B$9:$EQ$108,122,0))","v":{"v":0,"d":"0.00"}},{"$f":"IF(OR($I2307=\"\",$I2307=\"NSO\"),\"\",VLOOKUP($A2302,'Result Entry'!$B$9:$EQ$108,123,0))","v":""},{"$f":"IF(OR($I2307=\"\",$I2307=\"NSO\"),\"\",VLOOKUP($A2302,'Result Entry'!$B$9:$EQ$108,124,0))","v":""},{"$f":"IF(OR($I2307=\"\",$I2307=\"NSO\"),\"\",VLOOKUP($A2302,'Result Entry'!$B$9:$EQ$108,126,0))","v":""}]
[null,"◐",{"$nulls":6},"Total Meetings :-",null,{"$f":"IF(OR($I2307=\"\",$I2307=\"NSO\"),\"\",VLOOKUP($A2302,'Result Entry'!$B$9:$EQ$108,117,0))","v":0},"Attedance %"]
[null,"◐","Extra Subjects",{"$nulls":5},"Student's Meetings :-",null,{"$f":"IF(OR($I2307=\"\",$I2307=\"NSO\"),\"\",VLOOKUP($A2302,'Result Entry'!$B$9:$EQ$108,118,0))","v":0},{"$f":"IF(OR($I2307=\"\",$I2307=\"NSO\"),\"\",VLOOKUP($A2302,'Result Entry'!$B$9:$EQ$108,119,0))","v":""}]
[null,"◐","Subject",null,null,"Total Marks",null,"GRADE","Remark :-",null,{"$f":"IF(OR($I2307=\"\",$I2307=\"NSO\"),\"\",VLOOKUP($A2302,'Result Entry'!$B$9:$EQ$108,127,0))","v":0}]
[null,"◐",{"$f":"'Result Entry'!$CH$3","v":"WORK EXP."},null,null,{"$f":"IF(OR(C2329=\"\",$I2307=\"NSO\"),\"\",VLOOKUP($A2302,'Result Entry'!$B$9:$EQ$108,138,0))","v":"0/100"},null,{"$f":"IF(OR(C2329=\"\",$I2307=\"NSO\"),\"\",VLOOKUP($A2302,'Result Entry'!$B$9:$EQ$108,92,0))","v":""},"Result Date :-",null,{"$f":"'Result Entry'!$U$2","v":"2024-05-07"}]
[null,"◐",{"$f":"'Result Entry'!$CP$3","v":"ART EDU."},null,null,{"$f":"IF(OR(C2330=\"\",$I2307=\"NSO\"),\"\",VLOOKUP($A2302,'Result Entry'!$B$9:$EQ$108,142,0))","v":"0/100"},null,{"$f":"IF(OR(C2330=\"\",$I2307=\"NSO\"),\"\",VLOOKUP($A2302,'Result Entry'!$B$9:$EQ$108,100,0))","v":""}]
[null,null,{"$f":"'Result Entry'!$CX$3","v":"H&P. EDU."},null,null,{"$f":"IF(OR(C2331=\"\",$I2307=\"NSO\"),\"\",VLOOKUP($A2302,'Result Entry'!$B$9:$EQ$108,146,0))","v":"0/0"},null,{"$f":"IF(OR(C2331=\"\",$I2307=\"NSO\"),\"\",VLOOKUP($A2302,'Result Entry'!$B$9:$EQ$108,108,0))","v":""}]
[null,"◐",{"$f":"'Result Entry'!$DF$3","v":0},null,null,{"$f":"IF(OR(C2332=\"\",$I2307=\"NSO\"),\"\",VLOOKUP($A2302,'Result Entry'!$B$9:$EQ$108,131,0))","v":0},null,{"$f":"IF(OR(C2332=\"\",$I2307=\"NSO\"),\"\",VLOOKUP($A2302,'Result Entry'!$B$9:$EQ$108,97,0))","v":0},"Signature Of The Class Teacher"]
[null,"◐","Grading System"]
[null,"◐","Grd.","% Range",null,"Description"]
[null,"◐","A","86-100",null,"Excellent",null,null,"Signature And Seal Of Principal/H.M."]
[null,"◐","B","71-85",null,"Very Good"]
[null,"◐","C","51-70",null,"Good"]
[null,"◐","D","31-50",null,"Average"]
[null,"◐","E","0-30",null,"Needs Improvement",null,null,"Wish bright future"]
[]
[{"$f":"A2302+1","v":61},"Department Of Education, Rajasthan"]
[null,{"$f":"IF(I2346>0,CONCATENATE(C2346,I2346),0)","v":0},null,{"$f":"Master!$E$8","v":"Govt.Sr.Sec.Sch."}]
[{"$nulls":3},{"$f":"Master!$E$11","v":"P.S.-Bapini (Jodhpur)"}]
[null,null,"Report Card",{"$nulls":6},"U-DISE Code:-",null,{"$f":"Master!$E$14","v":{"v":810000000,"d":"0810000000"}}]
[{"$nulls":9},"Session:-",null,{"$f":"Master!$E$6","v":"2023-24"}]
[null,null,"Roll No.:-",{"$nulls":5},{"$f":"VLOOKUP($A2341,'Result Entry'!$B$9:$F$108,5,0)","v":0}]
[null,"◐","Scholar Number",{"$nulls":3},"↠",{"$f":"VLOOKUP($A2341,'Result Entry'!$B$9:$EQ$108,3,0)","v":0}]
[null,"◐","Student's Name",{"$nulls":3},"↠",{"$f":"VLOOKUP($A2341,'Result Entry'!$B$9:$EQ$108,6,0)","v":0}]
[null,"◐","Father's Name",{"$nulls":3},"↠",{"$f":"VLOOKUP($A2341,'Result Entry'!$B$9:$EQ$108,7,0)","v":0}]
[null,"◐","Mother's Name ",{"$nulls":3},"↠",{"$f":"VLOOKUP($A2341,'Result Entry'!$B$9:$EQ$108,8,0)","v":0}]
[null,"◐","Class & Section",{"$nulls":3},"↠",{"$f":"CONCATENATE('Result Entry'!$F$4,'Result Entry'!$I$4)","v":"2(A)"}]
[null,"◐","Date Of Birth",{"$nulls":3},"↠",{"$f":"VLOOKUP($A2341,'Result Entry'!$B$9:$EQ$108,9,0)","v":"00:00:00"}]
[null,"◐","Subject",null,{"$f":"'Result Entry'!$K$6","v":"First Test"},{"$f":"'Result Entry'!$L$6","v":"Second Test"},{"$f":"'Result Entry'!$M$6","v":"Third Test"},"Half Yearly","Total (Test+H.Y.)","Yearly","Grand Total",null,"Subject Grade"]
[null,"◐","Max. Marks",null,{"$f":"'Result Entry'!$K$7","v":10},{"$f":"'Result Entry'!$L$7","v":10},{"$f":"'Result Entry'!$M$7","v":10},{"$f":"'Result Entry'!$R$7","v":70},{"$f":"SUM(E2354:H2354)","v":100},{"$f":"'Result Entry'!$V$7","v":100},{"$f":"I2354+J2354","v":200},null,"A+/A/B/C/D"]
[null,"◐",{"$f":"'Result Entry'!$K$3","v":"Hindi"},null,{"$f":"IF(OR(C2355=\"\",$I2346=\"NSO\"),\"\",VLOOKUP($A2341,'Result Entry'!$B$9:$EQ$108,10,0))","v":0},{"$f":"IF(OR(C2355=\"\",$I2346=\"NSO\"),\"\",VLOOKUP($A2341,'Result Entry'!$B$9:$EQ$108,11,0))","v":0},{"$f":"IF(OR(C2355=\"\",$I2346=\"NSO\"),\"\",VLOOKUP($A2341,'Result Entry'!$B$9:$EQ$108,12,0))","v":0},{"$f":"IF(OR(C2355=\"\",$I2346=\"NSO\"),\"\",VLOOKUP($A2341,'Result Entry'!$B$9:$EQ$108,17,0))","v":0},{"$f":"SUM(E2355:H2355)","v":0},{"$f":"IF(OR(C2355=\"\",$I2346=\"NSO\"),\"\",VLOOKUP($A2341,'Result Entry'!$B$9:$EQ$108,21,0))","v":0},{"$f":"SUM(I2355,J2355)","v":0},null,{"$f":"IF(OR(C2355=\"\",$I2346=\"NSO\"),\"\",VLOOKUP($A2341,'Result Entry'!$B$9:$EQ$108,24,0))","v":""}]
[null,"◐",{"$f":"'Result Entry'!$Z$3","v":"Mathematics"},null,{"$f":"IF(OR(C2356=\"\",$I2346=\"NSO\"),\"\",VLOOKUP($A2341,'Result Entry'!$B$9:$EQ$108,25,0))","v":0},{"$f":"IF(OR(C2356=\"\",$I2346=\"NSO\"),\"\",VLOOKUP($A2341,'Result Entry'!$B$9:$EQ$108,26,0))","v":0},{"$f":"IF(OR(C2356=\"\",$I2346=\"NSO\"),\"\",VLOOKUP($A2341,'Result Entry'!$B$9:$EQ$108,27,0))","v":0},{"$f":"IF(OR(C2356=\"\",$I2346=\"NSO\"),\"\",VLOOKUP($A2341,'Result Entry'!$B$9:$EQ$108,32,0))","v":0},0,{"$f":"IF(OR(C2356=\"\",$I2346=\"NSO\"),\"\",VLOOKUP($A2341,'Result Entry'!$B$9:$EQ$108,36,0))","v":0},{"$f":"SUM(I2356,J2356)","v":0},null,{"$f":"IF(OR(C2356=\"\",$I2346=\"NSO\"),\"\",VLOOKUP($A2341,'Result Entry'!$B$9:$EQ$108,39,0))","v":""}]
[null,"◐",{"$f":"'Result Entry'!$BD$3","v":"Env. Study"},null,{"$f":"IF(OR(C2357=\"\",$I2346=\"NSO\"),\"\",VLOOKUP($A2341,'Result Entry'!$B$9:$EQ$108,55,0))","v":0},{"$f":"IF(OR(C2357=\"\",$I2346=\"NSO\"),\"\",VLOOKUP($A2341,'Result Entry'!$B$9:$EQ$108,56,0))","v":0},{"$f":"IF(OR(C2357=\"\",$I2346=\"NSO\"),\"\",VLOOKUP($A2341,'Result Entry'!$B$9:$EQ$108,57,0))","v":0},{"$f":"IF(OR(C2355=\"\",$I2346=\"NSO\"),\"\",VLOOKUP($A2341,'Result Entry'!$B$9:$EQ$108,62,0))","v":0},0,{"$f":"IF(OR(C2356=\"\",$I2346=\"NSO\"),\"\",VLOOKUP($A2341,'Result Entry'!$B$9:$EQ$108,66,0))","v":0},0,null,{"$f":"IF(OR(C2356=\"\",$I2346=\"NSO\"),\"\",VLOOKUP($A2341,'Result Entry'!$B$9:$EQ$108,69,0))","v":""}]
[null,"◐","Max. Marks",null,{"$f":"'Result Entry'!$AO$7","v":5},{"$f":"'Result Entry'!$AP$7","v":5},{"$f":"'Result Entry'!$AQ$7","v":5},{"$f":"'Result Entry'!$AV$7","v":35},50,{"$f":"'Result Entry'!$AZ$7","v":50},100,null,"A+/A/B/C/D"]
[null,"◐",{"$f":"'Result Entry'!$AO$3","v":"English"},null,{"$f":"IF(OR(C2359=\"\",$I2346=\"NSO\"),\"\",VLOOKUP($A2341,'Result Entry'!$B$9:$EQ$108,40,0))","v":0},{"$f":"IF(OR(C2359=\"\",$I2346=\"NSO\"),\"\",VLOOKUP($A2341,'Result Entry'!$B$9:$EQ$108,41,0))","v":0},{"$f":"IF(OR(C2359=\"\",$I2346=\"NSO\"),\"\",VLOOKUP($A2341,'Result Entry'!$B$9:$EQ$108,42,0))","v":0},{"$f":"IF(OR(C2359=\"\",$I2346=\"NSO\"),\"\",VLOOKUP($A2341,'Result Entry'!$B$9:$EQ$108,47,0))","v":0},0,{"$f":"IF(OR(C2359=\"\",$I2346=\"NSO\"),\"\",VLOOKUP($A2341,'Result Entry'!$B$9:$EQ$108,51,0))","v":0},0,null,{"$f":"IF(OR(C2359=\"\",$I2346=\"NSO\"),\"\",VLOOKUP($A2341,'Result Entry'!$B$9:$EQ$108,54,0))","v":""}]
[null,"◐","Max. Marks",null,{"$f":"'Result Entry'!$BS$7","v":10},{"$f":"'Result Entry'!$BT$7","v":10},{"$f":"'Result Entry'!$BU$7","v":10},{"$f":"'Result Entry'!$BZ$7","v":70},{"$f":"SUM(E2360:H2360)","v":100},{"$f":"'Result Entry'!$CD$7","v":100},200,null,"A+/A/B/C/D"]
[null,"◐",{"$f":"'Result Entry'!$BS$3","v":"Sanskrit/Urdu"},null,{"$f":"IF(OR(C2361=\"\",$I2346=\"NSO\"),\"\",VLOOKUP($A2341,'Result Entry'!$B$9:$EQ$108,70,0))","v":0},{"$f":"IF(OR(C2361=\"\",$I2346=\"NSO\"),\"\",VLOOKUP($A2341,'Result Entry'!$B$9:$EQ$108,71,0))","v":0},{"$f":"IF(OR(C2361=\"\",$I2346=\"NSO\"),\"\",VLOOKUP($A2341,'Result Entry'!$B$9:$EQ$108,72,0))","v":0},{"$f":"IF(OR(C2361=\"\",$I2346=\"NSO\"),\"\",VLOOKUP($A2341,'Result Entry'!$B$9:$EQ$108,77,0))","v":0},{"$f":"SUM(E2361:H2361)","v":0},{"$f":"IF(OR(C2361=\"\",$I2346=\"NSO\"),\"\",VLOOKUP($A2341,'Result Entry'!$B$9:$EQ$108,81,0))","v":0},0,null,{"$f":"IF(OR(C2361=\"\",$I2346=\"NSO\"),\"\",VLOOKUP($A2341,'Result Entry'!$B$9:$EQ$108,84,0))","v":""}]
[null,"◐"]
[null,"◐","Overall Result",null,null,"Total Max. Marks",null,"Total Obtained Marks",null,"Percentage","Overall Grade","Result","Position in Class"]
[null,"◐",{"$nulls":3},{"$f":"IF(OR($I2346=\"\",$I2346=\"NSO\"),\"\",VLOOKUP($A2341,'Result Entry'!$B$9:$EQ$108,120,0))","v":900},null,{"$f":"IF(OR($I2346=\"\",$I2346=\"NSO\"),\"\",VLOOKUP($A2341,'Result Entry'!$B$9:$EQ$108,121,0))","v":0},null,{"$f":"IF(OR($I2346=\"\",$I2346=\"NSO\"),\"\",VLOOKUP($A2341,'Result Entry'!$B$9:$EQ$108,122,0))","v":{"v":0,"d":"0.00"}},{"$f":"IF(OR($I2346=\"\",$I2346=\"NSO\"),\"\",VLOOKUP($A2341,'Result Entry'!$B$9:$EQ$108,123,0))","v":""},{"$f":"IF(OR($I2346=\"\",$I2346=\"NSO\"),\"\",VLOOKUP($A2341,'Result Entry'!$B$9:$EQ$108,124,0))","v":""},{"$f":"IF(OR($I2346=\"\",$I2346=\"NSO\"),\"\",VLOOKUP($A2341,'Result Entry'!$B$9:$EQ$108,126,0))","v":""}]
[null,"◐",{"$nulls":6},"Total Meetings :-",null,{"$f":"IF(OR($I2346=\"\",$I2346=\"NSO\"),\"\",VLOOKUP($A2341,'Result Entry'!$B$9:$EQ$108,117,0))","v":0},"Attedance %"]
[null,"◐","Extra Subjects",{"$nulls":5},"Student's Meetings :-",null,{"$f":"IF(OR($I2346=\"\",$I2346=\"NSO\"),\"\",VLOOKUP($A2341,'Result Entry'!$B$9:$EQ$108,118,0))","v":0},{"$f":"IF(OR($I2346=\"\",$I2346=\"NSO\"),\"\",VLOOKUP($A2341,'Result Entry'!$B$9:$EQ$108,119,0))","v":""}]
[null,"◐","Subject",null,null,"Total Marks",null,"GRADE","Remark :-",null,{"$f":"IF(OR($I2346=\"\",$I2346=\"NSO\"),\"\",VLOOKUP($A2341,'Result Entry'!$B$9:$EQ$108,127,0))","v":0}]
[null,"◐",{"$f":"'Result Entry'!$CH$3","v":"WORK EXP."},null,null,{"$f":"IF(OR(C2368=\"\",$I2346=\"NSO\"),\"\",VLOOKUP($A2341,'Result Entry'!$B$9:$EQ$108,138,0))","v":"0/100"},null,{"$f":"IF(OR(C2368=\"\",$I2346=\"NSO\"),\"\",VLOOKUP($A2341,'Result Entry'!$B$9:$EQ$108,92,0))","v":""},"Result Date :-",null,{"$f":"'Result Entry'!$U$2","v":"2024-05-07"}]
[null,"◐",{"$f":"'Result Entry'!$CP$3","v":"ART EDU."},null,null,{"$f":"IF(OR(C2369=\"\",$I2346=\"NSO\"),\"\",VLOOKUP($A2341,'Result Entry'!$B$9:$EQ$108,142,0))","v":"0/100"},null,{"$f":"IF(OR(C2369=\"\",$I2346=\"NSO\"),\"\",VLOOKUP($A2341,'Result Entry'!$B$9:$EQ$108,100,0))","v":""}]
[null,null,{"$f":"'Result Entry'!$CX$3","v":"H&P. EDU."},null,null,{"$f":"IF(OR(C2370=\"\",$I2346=\"NSO\"),\"\",VLOOKUP($A2341,'Result Entry'!$B$9:$EQ$108,146,0))","v":"0/0"},null,{"$f":"IF(OR(C2370=\"\",$I2346=\"NSO\"),\"\",VLOOKUP($A2341,'Result Entry'!$B$9:$EQ$108,108,0))","v":""}]
[null,"◐",{"$f":"'Result Entry'!$DF$3","v":0},null,null,{"$f":"IF(OR(C2371=\"\",$I2346=\"NSO\"),\"\",VLOOKUP($A2341,'Result Entry'!$B$9:$EQ$108,131,0))","v":0},null,{"$f":"IF(OR(C2371=\"\",$I2346=\"NSO\"),\"\",VLOOKUP($A2341,'Result Entry'!$B$9:$EQ$108,97,0))","v":0},"Signature Of The Class Teacher"]
[null,"◐","Grading System"]
[null,"◐","Grd.","% Range",null,"Description"]
[null,"◐","A","86-100",null,"Excellent",null,null,"Signature And Seal Of Principal/H.M."]
[null,"◐","B","71-85",null,"Very Good"]
[null,"◐","C","51-70",null,"Good"]
[null,"◐","D","31-50",null,"Average"]
[null,"◐","E","0-30",null,"Needs Improvement",null,null,"Wish bright future"]
[]
[{"$f":"A2341+1","v":62},"Department Of Education, Rajasthan"]
[null,{"$f":"IF(I2385>0,CONCATENATE(C2385,I2385),0)","v":0},null,{"$f":"Master!$E$8","v":"Govt.Sr.Sec.Sch."}]
[{"$nulls":3},{"$f":"Master!$E$11","v":"P.S.-Bapini (Jodhpur)"}]
[null,null,"Report Card",{"$nulls":6},"U-DISE Code:-",null,{"$f":"Master!$E$14","v":{"v":810000000,"d":"0810000000"}}]
[{"$nulls":9},"Session:-",null,{"$f":"Master!$E$6","v":"2023-24"}]
[null,null,"Roll No.:-",{"$nulls":5},{"$f":"VLOOKUP($A2380,'Result Entry'!$B$9:$F$108,5,0)","v":0}]
[null,"◐","Scholar Number",{"$nulls":3},"↠",{"$f":"VLOOKUP($A2380,'Result Entry'!$B$9:$EQ$108,3,0)","v":0}]
[null,"◐","Student's Name",{"$nulls":3},"↠",{"$f":"VLOOKUP($A2380,'Result Entry'!$B$9:$EQ$108,6,0)","v":0}]
[null,"◐","Father's Name",{"$nulls":3},"↠",{"$f":"VLOOKUP($A2380,'Result Entry'!$B$9:$EQ$108,7,0)","v":0}]
[null,"◐","Mother's Name ",{"$nulls":3},"↠",{"$f":"VLOOKUP($A2380,'Result Entry'!$B$9:$EQ$108,8,0)","v":0}]
[null,"◐","Class & Section",{"$nulls":3},"↠",{"$f":"CONCATENATE('Result Entry'!$F$4,'Result Entry'!$I$4)","v":"2(A)"}]
[null,"◐","Date Of Birth",{"$nulls":3},"↠",{"$f":"VLOOKUP($A2380,'Result Entry'!$B$9:$EQ$108,9,0)","v":"00:00:00"}]
[null,"◐","Subject",null,{"$f":"'Result Entry'!$K$6","v":"First Test"},{"$f":"'Result Entry'!$L$6","v":"Second Test"},{"$f":"'Result Entry'!$M$6","v":"Third Test"},"Half Yearly","Total (Test+H.Y.)","Yearly","Grand Total",null,"Subject Grade"]
[null,"◐","Max. Marks",null,{"$f":"'Result Entry'!$K$7","v":10},{"$f":"'Result Entry'!$L$7","v":10},{"$f":"'Result Entry'!$M$7","v":10},{"$f":"'Result Entry'!$R$7","v":70},{"$f":"SUM(E2393:H2393)","v":100},{"$f":"'Result Entry'!$V$7","v":100},{"$f":"I2393+J2393","v":200},null,"A+/A/B/C/D"]
[null,"◐",{"$f":"'Result Entry'!$K$3","v":"Hindi"},null,{"$f":"IF(OR(C2394=\"\",$I2385=\"NSO\"),\"\",VLOOKUP($A2380,'Result Entry'!$B$9:$EQ$108,10,0))","v":0},{"$f":"IF(OR(C2394=\"\",$I2385=\"NSO\"),\"\",VLOOKUP($A2380,'Result Entry'!$B$9:$EQ$108,11,0))","v":0},{"$f":"IF(OR(C2394=\"\",$I2385=\"NSO\"),\"\",VLOOKUP($A2380,'Result Entry'!$B$9:$EQ$108,12,0))","v":0},{"$f":"IF(OR(C2394=\"\",$I2385=\"NSO\"),\"\",VLOOKUP($A2380,'Result Entry'!$B$9:$EQ$108,17,0))","v":0},{"$f":"SUM(E2394:H2394)","v":0},{"$f":"IF(OR(C2394=\"\",$I2385=\"NSO\"),\"\",VLOOKUP($A2380,'Result Entry'!$B$9:$EQ$108,21,0))","v":0},{"$f":"SUM(I2394,J2394)","v":0},null,{"$f":"IF(OR(C2394=\"\",$I2385=\"NSO\"),\"\",VLOOKUP($A2380,'Result Entry'!$B$9:$EQ$108,24,0))","v":""}]
[null,"◐",{"$f":"'Result Entry'!$Z$3","v":"Mathematics"},null,{"$f":"IF(OR(C2395=\"\",$I2385=\"NSO\"),\"\",VLOOKUP($A2380,'Result Entry'!$B$9:$EQ$108,25,0))","v":0},{"$f":"IF(OR(C2395=\"\",$I2385=\"NSO\"),\"\",VLOOKUP($A2380,'Result Entry'!$B$9:$EQ$108,26,0))","v":0},{"$f":"IF(OR(C2395=\"\",$I2385=\"NSO\"),\"\",VLOOKUP($A2380,'Result Entry'!$B$9:$EQ$108,27,0))","v":0},{"$f":"IF(OR(C2395=\"\",$I2385=\"NSO\"),\"\",VLOOKUP($A2380,'Result Entry'!$B$9:$EQ$108,32,0))","v":0},0,{"$f":"IF(OR(C2395=\"\",$I2385=\"NSO\"),\"\",VLOOKUP($A2380,'Result Entry'!$B$9:$EQ$108,36,0))","v":0},{"$f":"SUM(I2395,J2395)","v":0},null,{"$f":"IF(OR(C2395=\"\",$I2385=\"NSO\"),\"\",VLOOKUP($A2380,'Result Entry'!$B$9:$EQ$108,39,0))","v":""}]
[null,"◐",{"$f":"'Result Entry'!$BD$3","v":"Env. Study"},null,{"$f":"IF(OR(C2396=\"\",$I2385=\"NSO\"),\"\",VLOOKUP($A2380,'Result Entry'!$B$9:$EQ$108,55,0))","v":0},{"$f":"IF(OR(C2396=\"\",$I2385=\"NSO\"),\"\",VLOOKUP($A2380,'Result Entry'!$B$9:$EQ$108,56,0))","v":0},{"$f":"IF(OR(C2396=\"\",$I2385=\"NSO\"),\"\",VLOOKUP($A2380,'Result Entry'!$B$9:$EQ$108,57,0))","v":0},{"$f":"IF(OR(C2394=\"\",$I2385=\"NSO\"),\"\",VLOOKUP($A2380,'Result Entry'!$B$9:$EQ$108,62,0))","v":0},0,{"$f":"IF(OR(C2395=\"\",$I2385=\"NSO\"),\"\",VLOOKUP($A2380,'Result Entry'!$B$9:$EQ$108,66,0))","v":0},0,null,{"$f":"IF(OR(C2395=\"\",$I2385=\"NSO\"),\"\",VLOOKUP($A2380,'Result Entry'!$B$9:$EQ$108,69,0))","v":""}]
[null,"◐","Max. Marks",null,{"$f":"'Result Entry'!$AO$7","v":5},{"$f":"'Result Entry'!$AP$7","v":5},{"$f":"'Result Entry'!$AQ$7","v":5},{"$f":"'Result Entry'!$AV$7","v":35},50,{"$f":"'Result Entry'!$AZ$7","v":50},100,null,"A+/A/B/C/D"]
[null,"◐",{"$f":"'Result Entry'!$AO$3","v":"English"},null,{"$f":"IF(OR(C2398=\"\",$I2385=\"NSO\"),\"\",VLOOKUP($A2380,'Result Entry'!$B$9:$EQ$108,40,0))","v":0},{"$f":"IF(OR(C2398=\"\",$I2385=\"NSO\"),\"\",VLOOKUP($A2380,'Result Entry'!$B$9:$EQ$108,41,0))","v":0},{"$f":"IF(OR(C2398=\"\",$I2385=\"NSO\"),\"\",VLOOKUP($A2380,'Result Entry'!$B$9:$EQ$108,42,0))","v":0},{"$f":"IF(OR(C2398=\"\",$I2385=\"NSO\"),\"\",VLOOKUP($A2380,'Result Entry'!$B$9:$EQ$108,47,0))","v":0},0,{"$f":"IF(OR(C2398=\"\",$I2385=\"NSO\"),\"\",VLOOKUP($A2380,'Result Entry'!$B$9:$EQ$108,51,0))","v":0},0,null,{"$f":"IF(OR(C2398=\"\",$I2385=\"NSO\"),\"\",VLOOKUP($A2380,'Result Entry'!$B$9:$EQ$108,54,0))","v":""}]
[null,"◐","Max. Marks",null,{"$f":"'Result Entry'!$BS$7","v":10},{"$f":"'Result Entry'!$BT$7","v":10},{"$f":"'Result Entry'!$BU$7","v":10},{"$f":"'Result Entry'!$BZ$7","v":70},{"$f":"SUM(E2399:H2399)","v":100},{"$f":"'Result Entry'!$CD$7","v":100},200,null,"A+/A/B/C/D"]
[null,"◐",{"$f":"'Result Entry'!$BS$3","v":"Sanskrit/Urdu"},null,{"$f":"IF(OR(C2400=\"\",$I2385=\"NSO\"),\"\",VLOOKUP($A2380,'Result Entry'!$B$9:$EQ$108,70,0))","v":0},{"$f":"IF(OR(C2400=\"\",$I2385=\"NSO\"),\"\",VLOOKUP($A2380,'Result Entry'!$B$9:$EQ$108,71,0))","v":0},{"$f":"IF(OR(C2400=\"\",$I2385=\"NSO\"),\"\",VLOOKUP($A2380,'Result Entry'!$B$9:$EQ$108,72,0))","v":0},{"$f":"IF(OR(C2400=\"\",$I2385=\"NSO\"),\"\",VLOOKUP($A2380,'Result Entry'!$B$9:$EQ$108,77,0))","v":0},{"$f":"SUM(E2400:H2400)","v":0},{"$f":"IF(OR(C2400=\"\",$I2385=\"NSO\"),\"\",VLOOKUP($A2380,'Result Entry'!$B$9:$EQ$108,81,0))","v":0},0,null,{"$f":"IF(OR(C2400=\"\",$I2385=\"NSO\"),\"\",VLOOKUP($A2380,'Result Entry'!$B$9:$EQ$108,84,0))","v":""}]
[null,"◐"]
[null,"◐","Overall Result",null,null,"Total Max. Marks",null,"Total Obtained Marks",null,"Percentage","Overall Grade","Result","Position in Class"]
[null,"◐",{"$nulls":3},{"$f":"IF(OR($I2385=\"\",$I2385=\"NSO\"),\"\",VLOOKUP($A2380,'Result Entry'!$B$9:$EQ$108,120,0))","v":900},null,{"$f":"IF(OR($I2385=\"\",$I2385=\"NSO\"),\"\",VLOOKUP($A2380,'Result Entry'!$B$9:$EQ$108,121,0))","v":0},null,{"$f":"IF(OR($I2385=\"\",$I2385=\"NSO\"),\"\",VLOOKUP($A2380,'Result Entry'!$B$9:$EQ$108,122,0))","v":{"v":0,"d":"0.00"}},{"$f":"IF(OR($I2385=\"\",$I2385=\"NSO\"),\"\",VLOOKUP($A2380,'Result Entry'!$B$9:$EQ$108,123,0))","v":""},{"$f":"IF(OR($I2385=\"\",$I2385=\"NSO\"),\"\",VLOOKUP($A2380,'Result Entry'!$B$9:$EQ$108,124,0))","v":""},{"$f":"IF(OR($I2385=\"\",$I2385=\"NSO\"),\"\",VLOOKUP($A2380,'Result Entry'!$B$9:$EQ$108,126,0))","v":""}]
[null,"◐",{"$nulls":6},"Total Meetings :-",null,{"$f":"IF(OR($I2385=\"\",$I2385=\"NSO\"),\"\",VLOOKUP($A2380,'Result Entry'!$B$9:$EQ$108,117,0))","v":0},"Attedance %"]
[null,"◐","Extra Subjects",{"$nulls":5},"Student's Meetings :-",null,{"$f":"IF(OR($I2385=\"\",$I2385=\"NSO\"),\"\",VLOOKUP($A2380,'Result Entry'!$B$9:$EQ$108,118,0))","v":0},{"$f":"IF(OR($I2385=\"\",$I2385=\"NSO\"),\"\",VLOOKUP($A2380,'Result Entry'!$B$9:$EQ$108,119,0))","v":""}]
[null,"◐","Subject",null,null,"Total Marks",null,"GRADE","Remark :-",null,{"$f":"IF(OR($I2385=\"\",$I2385=\"NSO\"),\"\",VLOOKUP($A2380,'Result Entry'!$B$9:$EQ$108,127,0))","v":0}]
[null,"◐",{"$f":"'Result Entry'!$CH$3","v":"WORK EXP."},null,null,{"$f":"IF(OR(C2407=\"\",$I2385=\"NSO\"),\"\",VLOOKUP($A2380,'Result Entry'!$B$9:$EQ$108,138,0))","v":"0/100"},null,{"$f":"IF(OR(C2407=\"\",$I2385=\"NSO\"),\"\",VLOOKUP($A2380,'Result Entry'!$B$9:$EQ$108,92,0))","v":""},"Result Date :-",null,{"$f":"'Result Entry'!$U$2","v":"2024-05-07"}]
[null,"◐",{"$f":"'Result Entry'!$CP$3","v":"ART EDU."},null,null,{"$f":"IF(OR(C2408=\"\",$I2385=\"NSO\"),\"\",VLOOKUP($A2380,'Result Entry'!$B$9:$EQ$108,142,0))","v":"0/100"},null,{"$f":"IF(OR(C2408=\"\",$I2385=\"NSO\"),\"\",VLOOKUP($A2380,'Result Entry'!$B$9:$EQ$108,100,0))","v":""}]
[null,null,{"$f":"'Result Entry'!$CX$3","v":"H&P. EDU."},null,null,{"$f":"IF(OR(C2409=\"\",$I2385=\"NSO\"),\"\",VLOOKUP($A2380,'Result Entry'!$B$9:$EQ$108,146,0))","v":"0/0"},null,{"$f":"IF(OR(C2409=\"\",$I2385=\"NSO\"),\"\",VLOOKUP($A2380,'Result Entry'!$B$9:$EQ$108,108,0))","v":""}]
[null,"◐",{"$f":"'Result Entry'!$DF$3","v":0},null,null,{"$f":"IF(OR(C2410=\"\",$I2385=\"NSO\"),\"\",VLOOKUP($A2380,'Result Entry'!$B$9:$EQ$108,131,0))","v":0},null,{"$f":"IF(OR(C2410=\"\",$I2385=\"NSO\"),\"\",VLOOKUP($A2380,'Result Entry'!$B$9:$EQ$108,97,0))","v":0},"Signature Of The Class Teacher"]
[null,"◐","Grading System"]
[null,"◐","Grd.","% Range",null,"Description"]
[null,"◐","A","86-100",null,"Excellent",null,null,"Signature And Seal Of Principal/H.M."]
[null,"◐","B","71-85",null,"Very Good"]
[null,"◐","C","51-70",null,"Good"]
[null,"◐","D","31-50",null,"Average"]
[null,"◐","E","0-30",null,"Needs Improvement",null,null,"Wish bright future"]
[]
[{"$f":"A2380+1","v":63},"Department Of Education, Rajasthan"]
[null,{"$f":"IF(I2424>0,CONCATENATE(C2424,I2424),0)","v":0},null,{"$f":"Master!$E$8","v":"Govt.Sr.Sec.Sch."}]
[{"$nulls":3},{"$f":"Master!$E$11","v":"P.S.-Bapini (Jodhpur)"}]
[null,null,"Report Card",{"$nulls":6},"U-DISE Code:-",null,{"$f":"Master!$E$14","v":{"v":810000000,"d":"0810000000"}}]
[{"$nulls":9},"Session:-",null,{"$f":"Master!$E$6","v":"2023-24"}]
[null,null,"Roll No.:-",{"$nulls":5},{"$f":"VLOOKUP($A2419,'Result Entry'!$B$9:$F$108,5,0)","v":0}]
[null,"◐","Scholar Number",{"$nulls":3},"↠",{"$f":"VLOOKUP($A2419,'Result Entry'!$B$9:$EQ$108,3,0)","v":0}]
[null,"◐","Student's Name",{"$nulls":3},"↠",{"$f":"VLOOKUP($A2419,'Result Entry'!$B$9:$EQ$108,6,0)","v":0}]
[null,"◐","Father's Name",{"$nulls":3},"↠",{"$f":"VLOOKUP($A2419,'Result Entry'!$B$9:$EQ$108,7,0)","v":0}]
[null,"◐","Mother's Name ",{"$nulls":3},"↠",{"$f":"VLOOKUP($A2419,'Result Entry'!$B$9:$EQ$108,8,0)","v":0}]
[null,"◐","Class & Section",{"$nulls":3},"↠",{"$f":"CONCATENATE('Result Entry'!$F$4,'Result Entry'!$I$4)","v":"2(A)"}]
[null,"◐","Date Of Birth",{"$nulls":3},"↠",{"$f":"VLOOKUP($A2419,'Result Entry'!$B$9:$EQ$108,9,0)","v":"00:00:00"}]
[null,"◐","Subject",null,{"$f":"'Result Entry'!$K$6","v":"First Test"},{"$f":"'Result Entry'!$L$6","v":"Second Test"},{"$f":"'Result Entry'!$M$6","v":"Third Test"},"Half Yearly","Total (Test+H.Y.)","Yearly","Grand Total",null,"Subject Grade"]
[null,"◐","Max. Marks",null,{"$f":"'Result Entry'!$K$7","v":10},{"$f":"'Result Entry'!$L$7","v":10},{"$f":"'Result Entry'!$M$7","v":10},{"$f":"'Result Entry'!$R$7","v":70},{"$f":"SUM(E2432:H2432)","v":100},{"$f":"'Result Entry'!$V$7","v":100},{"$f":"I2432+J2432","v":200},null,"A+/A/B/C/D"]
[null,"◐",{"$f":"'Result Entry'!$K$3","v":"Hindi"},null,{"$f":"IF(OR(C2433=\"\",$I2424=\"NSO\"),\"\",VLOOKUP($A2419,'Result Entry'!$B$9:$EQ$108,10,0))","v":0},{"$f":"IF(OR(C2433=\"\",$I2424=\"NSO\"),\"\",VLOOKUP($A2419,'Result Entry'!$B$9:$EQ$108,11,0))","v":0},{"$f":"IF(OR(C2433=\"\",$I2424=\"NSO\"),\"\",VLOOKUP($A2419,'Result Entry'!$B$9:$EQ$108,12,0))","v":0},{"$f":"IF(OR(C2433=\"\",$I2424=\"NSO\"),\"\",VLOOKUP($A2419,'Result Entry'!$B$9:$EQ$108,17,0))","v":0},{"$f":"SUM(E2433:H2433)","v":0},{"$f":"IF(OR(C2433=\"\",$I2424=\"NSO\"),\"\",VLOOKUP($A2419,'Result Entry'!$B$9:$EQ$108,21,0))","v":0},{"$f":"SUM(I2433,J2433)","v":0},null,{"$f":"IF(OR(C2433=\"\",$I2424=\"NSO\"),\"\",VLOOKUP($A2419,'Result Entry'!$B$9:$EQ$108,24,0))","v":""}]
[null,"◐",{"$f":"'Result Entry'!$Z$3","v":"Mathematics"},null,{"$f":"IF(OR(C2434=\"\",$I2424=\"NSO\"),\"\",VLOOKUP($A2419,'Result Entry'!$B$9:$EQ$108,25,0))","v":0},{"$f":"IF(OR(C2434=\"\",$I2424=\"NSO\"),\"\",VLOOKUP($A2419,'Result Entry'!$B$9:$EQ$108,26,0))","v":0},{"$f":"IF(OR(C2434=\"\",$I2424=\"NSO\"),\"\",VLOOKUP($A2419,'Result Entry'!$B$9:$EQ$108,27,0))","v":0},{"$f":"IF(OR(C2434=\"\",$I2424=\"NSO\"),\"\",VLOOKUP($A2419,'Result Entry'!$B$9:$EQ$108,32,0))","v":0},0,{"$f":"IF(OR(C2434=\"\",$I2424=\"NSO\"),\"\",VLOOKUP($A2419,'Result Entry'!$B$9:$EQ$108,36,0))","v":0},{"$f":"SUM(I2434,J2434)","v":0},null,{"$f":"IF(OR(C2434=\"\",$I2424=\"NSO\"),\"\",VLOOKUP($A2419,'Result Entry'!$B$9:$EQ$108,39,0))","v":""}]
[null,"◐",{"$f":"'Result Entry'!$BD$3","v":"Env. Study"},null,{"$f":"IF(OR(C2435=\"\",$I2424=\"NSO\"),\"\",VLOOKUP($A2419,'Result Entry'!$B$9:$EQ$108,55,0))","v":0},{"$f":"IF(OR(C2435=\"\",$I2424=\"NSO\"),\"\",VLOOKUP($A2419,'Result Entry'!$B$9:$EQ$108,56,0))","v":0},{"$f":"IF(OR(C2435=\"\",$I2424=\"NSO\"),\"\",VLOOKUP($A2419,'Result Entry'!$B$9:$EQ$108,57,0))","v":0},{"$f":"IF(OR(C2433=\"\",$I2424=\"NSO\"),\"\",VLOOKUP($A2419,'Result Entry'!$B$9:$EQ$108,62,0))","v":0},0,{"$f":"IF(OR(C2434=\"\",$I2424=\"NSO\"),\"\",VLOOKUP($A2419,'Result Entry'!$B$9:$EQ$108,66,0))","v":0},0,null,{"$f":"IF(OR(C2434=\"\",$I2424=\"NSO\"),\"\",VLOOKUP($A2419,'Result Entry'!$B$9:$EQ$108,69,0))","v":""}]
[null,"◐","Max. Marks",null,{"$f":"'Result Entry'!$AO$7","v":5},{"$f":"'Result Entry'!$AP$7","v":5},{"$f":"'Result Entry'!$AQ$7","v":5},{"$f":"'Result Entry'!$AV$7","v":35},50,{"$f":"'Result Entry'!$AZ$7","v":50},100,null,"A+/A/B/C/D"]
[null,"◐",{"$f":"'Result Entry'!$AO$3","v":"English"},null,{"$f":"IF(OR(C2437=\"\",$I2424=\"NSO\"),\"\",VLOOKUP($A2419,'Result Entry'!$B$9:$EQ$108,40,0))","v":0},{"$f":"IF(OR(C2437=\"\",$I2424=\"NSO\"),\"\",VLOOKUP($A2419,'Result Entry'!$B$9:$EQ$108,41,0))","v":0},{"$f":"IF(OR(C2437=\"\",$I2424=\"NSO\"),\"\",VLOOKUP($A2419,'Result Entry'!$B$9:$EQ$108,42,0))","v":0},{"$f":"IF(OR(C2437=\"\",$I2424=\"NSO\"),\"\",VLOOKUP($A2419,'Result Entry'!$B$9:$EQ$108,47,0))","v":0},0,{"$f":"IF(OR(C2437=\"\",$I2424=\"NSO\"),\"\",VLOOKUP($A2419,'Result Entry'!$B$9:$EQ$108,51,0))","v":0},0,null,{"$f":"IF(OR(C2437=\"\",$I2424=\"NSO\"),\"\",VLOOKUP($A2419,'Result Entry'!$B$9:$EQ$108,54,0))","v":""}]
[null,"◐","Max. Marks",null,{"$f":"'Result Entry'!$BS$7","v":10},{"$f":"'Result Entry'!$BT$7","v":10},{"$f":"'Result Entry'!$BU$7","v":10},{"$f":"'Result Entry'!$BZ$7","v":70},{"$f":"SUM(E2438:H2438)","v":100},{"$f":"'Result Entry'!$CD$7","v":100},200,null,"A+/A/B/C/D"]
[null,"◐",{"$f":"'Result Entry'!$BS$3","v":"Sanskrit/Urdu"},null,{"$f":"IF(OR(C2439=\"\",$I2424=\"NSO\"),\"\",VLOOKUP($A2419,'Result Entry'!$B$9:$EQ$108,70,0))","v":0},{"$f":"IF(OR(C2439=\"\",$I2424=\"NSO\"),\"\",VLOOKUP($A2419,'Result Entry'!$B$9:$EQ$108,71,0))","v":0},{"$f":"IF(OR(C2439=\"\",$I2424=\"NSO\"),\"\",VLOOKUP($A2419,'Result Entry'!$B$9:$EQ$108,72,0))","v":0},{"$f":"IF(OR(C2439=\"\",$I2424=\"NSO\"),\"\",VLOOKUP($A2419,'Result Entry'!$B$9:$EQ$108,77,0))","v":0},{"$f":"SUM(E2439:H2439)","v":0},{"$f":"IF(OR(C2439=\"\",$I2424=\"NSO\"),\"\",VLOOKUP($A2419,'Result Entry'!$B$9:$EQ$108,81,0))","v":0},0,null,{"$f":"IF(OR(C2439=\"\",$I2424=\"NSO\"),\"\",VLOOKUP($A2419,'Result Entry'!$B$9:$EQ$108,84,0))","v":""}]
[null,"◐"]
[null,"◐","Overall Result",null,null,"Total Max. Marks",null,"Total Obtained Marks",null,"Percentage","Overall Grade","Result","Position in Class"]
[null,"◐",{"$nulls":3},{"$f":"IF(OR($I2424=\"\",$I2424=\"NSO\"),\"\",VLOOKUP($A2419,'Result Entry'!$B$9:$EQ$108,120,0))","v":900},null,{"$f":"IF(OR($I2424=\"\",$I2424=\"NSO\"),\"\",VLOOKUP($A2419,'Result Entry'!$B$9:$EQ$108,121,0))","v":0},null,{"$f":"IF(OR($I2424=\"\",$I2424=\"NSO\"),\"\",VLOOKUP($A2419,'Result Entry'!$B$9:$EQ$108,122,0))","v":{"v":0,"d":"0.00"}},{"$f":"IF(OR($I2424=\"\",$I2424=\"NSO\"),\"\",VLOOKUP($A2419,'Result Entry'!$B$9:$EQ$108,123,0))","v":""},{"$f":"IF(OR($I2424=\"\",$I2424=\"NSO\"),\"\",VLOOKUP($A2419,'Result Entry'!$B$9:$EQ$108,124,0))","v":""},{"$f":"IF(OR($I2424=\"\",$I2424=\"NSO\"),\"\",VLOOKUP($A2419,'Result Entry'!$B$9:$EQ$108,126,0))","v":""}]
[null,"◐",{"$nulls":6},"Total Meetings :-",null,{"$f":"IF(OR($I2424=\"\",$I2424=\"NSO\"),\"\",VLOOKUP($A2419,'Result Entry'!$B$9:$EQ$108,117,0))","v":0},"Attedance %"]
[null,"◐","Extra Subjects",{"$nulls":5},"Student's Meetings :-",null,{"$f":"IF(OR($I2424=\"\",$I2424=\"NSO\"),\"\",VLOOKUP($A2419,'Result Entry'!$B$9:$EQ$108,118,0))","v":0},{"$f":"IF(OR($I2424=\"\",$I2424=\"NSO\"),\"\",VLOOKUP($A2419,'Result Entry'!$B$9:$EQ$108,119,0))","v":""}]
[null,"◐","Subject",null,null,"Total Marks",null,"GRADE","Remark :-",null,{"$f":"IF(OR($I2424=\"\",$I2424=\"NSO\"),\"\",VLOOKUP($A2419,'Result Entry'!$B$9:$EQ$108,127,0))","v":0}]
[null,"◐",{"$f":"'Result Entry'!$CH$3","v":"WORK EXP."},null,null,{"$f":"IF(OR(C2446=\"\",$I2424=\"NSO\"),\"\",VLOOKUP($A2419,'Result Entry'!$B$9:$EQ$108,138,0))","v":"0/100"},null,{"$f":"IF(OR(C2446=\"\",$I2424=\"NSO\"),\"\",VLOOKUP($A2419,'Result Entry'!$B$9:$EQ$108,92,0))","v":""},"Result Date :-",null,{"$f":"'Result Entry'!$U$2","v":"2024-05-07"}]
[null,"◐",{"$f":"'Result Entry'!$CP$3","v":"ART EDU."},null,null,{"$f":"IF(OR(C2447=\"\",$I2424=\"NSO\"),\"\",VLOOKUP($A2419,'Result Entry'!$B$9:$EQ$108,142,0))","v":"0/100"},null,{"$f":"IF(OR(C2447=\"\",$I2424=\"NSO\"),\"\",VLOOKUP($A2419,'Result Entry'!$B$9:$EQ$108,100,0))","v":""}]
[null,null,{"$f":"'Result Entry'!$CX$3","v":"H&P. EDU."},null,null,{"$f":"IF(OR(C2448=\"\",$I2424=\"NSO\"),\"\",VLOOKUP($A2419,'Result Entry'!$B$9:$EQ$108,146,0))","v":"0/0"},null,{"$f":"IF(OR(C2448=\"\",$I2424=\"NSO\"),\"\",VLOOKUP($A2419,'Result Entry'!$B$9:$EQ$108,108,0))","v":""}]
[null,"◐",{"$f":"'Result Entry'!$DF$3","v":0},null,null,{"$f":"IF(OR(C2449=\"\",$I2424=\"NSO\"),\"\",VLOOKUP($A2419,'Result Entry'!$B$9:$EQ$108,131,0))","v":0},null,{"$f":"IF(OR(C2449=\"\",$I2424=\"NSO\"),\"\",VLOOKUP($A2419,'Result Entry'!$B$9:$EQ$108,97,0))","v":0},"Signature Of The Class Teacher"]
[null,"◐","Grading System"]
[null,"◐","Grd.","% Range",null,"Description"]
[null,"◐","A","86-100",null,"Excellent",null,null,"Signature And Seal Of Principal/H.M."]
[null,"◐","B","71-85",null,"Very Good"]
[null,"◐","C","51-70",null,"Good"]
[null,"◐","D","31-50",null,"Average"]
[null,"◐","E","0-30",null,"Needs Improvement",null,null,"Wish bright future"]
[]
[{"$f":"A2419+1","v":64},"Department Of Education, Rajasthan"]
[null,{"$f":"IF(I2463>0,CONCATENATE(C2463,I2463),0)","v":0},null,{"$f":"Master!$E$8","v":"Govt.Sr.Sec.Sch."}]
[{"$nulls":3},{"$f":"Master!$E$11","v":"P.S.-Bapini (Jodhpur)"}]
[null,null,"Report Card",{"$nulls":6},"U-DISE Code:-",null,{"$f":"Master!$E$14","v":{"v":810000000,"d":"0810000000"}}]
[{"$nulls":9},"Session:-",null,{"$f":"Master!$E$6","v":"2023-24"}]
[null,null,"Roll No.:-",{"$nulls":5},{"$f":"VLOOKUP($A2458,'Result Entry'!$B$9:$F$108,5,0)","v":0}]
[null,"◐","Scholar Number",{"$nulls":3},"↠",{"$f":"VLOOKUP($A2458,'Result Entry'!$B$9:$EQ$108,3,0)","v":0}]
[null,"◐","Student's Name",{"$nulls":3},"↠",{"$f":"VLOOKUP($A2458,'Result Entry'!$B$9:$EQ$108,6,0)","v":0}]
[null,"◐","Father's Name",{"$nulls":3},"↠",{"$f":"VLOOKUP($A2458,'Result Entry'!$B$9:$EQ$108,7,0)","v":0}]
[null,"◐","Mother's Name ",{"$nulls":3},"↠",{"$f":"VLOOKUP($A2458,'Result Entry'!$B$9:$EQ$108,8,0)","v":0}]
[null,"◐","Class & Section",{"$nulls":3},"↠",{"$f":"CONCATENATE('Result Entry'!$F$4,'Result Entry'!$I$4)","v":"2(A)"}]
[null,"◐","Date Of Birth",{"$nulls":3},"↠",{"$f":"VLOOKUP($A2458,'Result Entry'!$B$9:$EQ$108,9,0)","v":"00:00:00"}]
[null,"◐","Subject",null,{"$f":"'Result Entry'!$K$6","v":"First Test"},{"$f":"'Result Entry'!$L$6","v":"Second Test"},{"$f":"'Result Entry'!$M$6","v":"Third Test"},"Half Yearly","Total (Test+H.Y.)","Yearly","Grand Total",null,"Subject Grade"]
[null,"◐","Max. Marks",null,{"$f":"'Result Entry'!$K$7","v":10},{"$f":"'Result Entry'!$L$7","v":10},{"$f":"'Result Entry'!$M$7","v":10},{"$f":"'Result Entry'!$R$7","v":70},{"$f":"SUM(E2471:H2471)","v":100},{"$f":"'Result Entry'!$V$7","v":100},{"$f":"I2471+J2471","v":200},null,"A+/A/B/C/D"]
[null,"◐",{"$f":"'Result Entry'!$K$3","v":"Hindi"},null,{"$f":"IF(OR(C2472=\"\",$I2463=\"NSO\"),\"\",VLOOKUP($A2458,'Result Entry'!$B$9:$EQ$108,10,0))","v":0},{"$f":"IF(OR(C2472=\"\",$I2463=\"NSO\"),\"\",VLOOKUP($A2458,'Result Entry'!$B$9:$EQ$108,11,0))","v":0},{"$f":"IF(OR(C2472=\"\",$I2463=\"NSO\"),\"\",VLOOKUP($A2458,'Result Entry'!$B$9:$EQ$108,12,0))","v":0},{"$f":"IF(OR(C2472=\"\",$I2463=\"NSO\"),\"\",VLOOKUP($A2458,'Result Entry'!$B$9:$EQ$108,17,0))","v":0},{"$f":"SUM(E2472:H2472)","v":0},{"$f":"IF(OR(C2472=\"\",$I2463=\"NSO\"),\"\",VLOOKUP($A2458,'Result Entry'!$B$9:$EQ$108,21,0))","v":0},{"$f":"SUM(I2472,J2472)","v":0},null,{"$f":"IF(OR(C2472=\"\",$I2463=\"NSO\"),\"\",VLOOKUP($A2458,'Result Entry'!$B$9:$EQ$108,24,0))","v":""}]
[null,"◐",{"$f":"'Result Entry'!$Z$3","v":"Mathematics"},null,{"$f":"IF(OR(C2473=\"\",$I2463=\"NSO\"),\"\",VLOOKUP($A2458,'Result Entry'!$B$9:$EQ$108,25,0))","v":0},{"$f":"IF(OR(C2473=\"\",$I2463=\"NSO\"),\"\",VLOOKUP($A2458,'Result Entry'!$B$9:$EQ$108,26,0))","v":0},{"$f":"IF(OR(C2473=\"\",$I2463=\"NSO\"),\"\",VLOOKUP($A2458,'Result Entry'!$B$9:$EQ$108,27,0))","v":0},{"$f":"IF(OR(C2473=\"\",$I2463=\"NSO\"),\"\",VLOOKUP($A2458,'Result Entry'!$B$9:$EQ$108,32,0))","v":0},0,{"$f":"IF(OR(C2473=\"\",$I2463=\"NSO\"),\"\",VLOOKUP($A2458,'Result Entry'!$B$9:$EQ$108,36,0))","v":0},{"$f":"SUM(I2473,J2473)","v":0},null,{"$f":"IF(OR(C2473=\"\",$I2463=\"NSO\"),\"\",VLOOKUP($A2458,'Result Entry'!$B$9:$EQ$108,39,0))","v":""}]
[null,"◐",{"$f":"'Result Entry'!$BD$3","v":"Env. Study"},null,{"$f":"IF(OR(C2474=\"\",$I2463=\"NSO\"),\"\",VLOOKUP($A2458,'Result Entry'!$B$9:$EQ$108,55,0))","v":0},{"$f":"IF(OR(C2474=\"\",$I2463=\"NSO\"),\"\",VLOOKUP($A2458,'Result Entry'!$B$9:$EQ$108,56,0))","v":0},{"$f":"IF(OR(C2474=\"\",$I2463=\"NSO\"),\"\",VLOOKUP($A2458,'Result Entry'!$B$9:$EQ$108,57,0))","v":0},{"$f":"IF(OR(C2472=\"\",$I2463=\"NSO\"),\"\",VLOOKUP($A2458,'Result Entry'!$B$9:$EQ$108,62,0))","v":0},0,{"$f":"IF(OR(C2473=\"\",$I2463=\"NSO\"),\"\",VLOOKUP($A2458,'Result Entry'!$B$9:$EQ$108,66,0))","v":0},0,null,{"$f":"IF(OR(C2473=\"\",$I2463=\"NSO\"),\"\",VLOOKUP($A2458,'Result Entry'!$B$9:$EQ$108,69,0))","v":""}]
[null,"◐","Max. Marks",null,{"$f":"'Result Entry'!$AO$7","v":5},{"$f":"'Result Entry'!$AP$7","v":5},{"$f":"'Result Entry'!$AQ$7","v":5},{"$f":"'Result Entry'!$AV$7","v":35},50,{"$f":"'Result Entry'!$AZ$7","v":50},100,null,"A+/A/B/C/D"]
[null,"◐",{"$f":"'Result Entry'!$AO$3","v":"English"},null,{"$f":"IF(OR(C2476=\"\",$I2463=\"NSO\"),\"\",VLOOKUP($A2458,'Result Entry'!$B$9:$EQ$108,40,0))","v":0},{"$f":"IF(OR(C2476=\"\",$I2463=\"NSO\"),\"\",VLOOKUP($A2458,'Result Entry'!$B$9:$EQ$108,41,0))","v":0},{"$f":"IF(OR(C2476=\"\",$I2463=\"NSO\"),\"\",VLOOKUP($A2458,'Result Entry'!$B$9:$EQ$108,42,0))","v":0},{"$f":"IF(OR(C2476=\"\",$I2463=\"NSO\"),\"\",VLOOKUP($A2458,'Result Entry'!$B$9:$EQ$108,47,0))","v":0},0,{"$f":"IF(OR(C2476=\"\",$I2463=\"NSO\"),\"\",VLOOKUP($A2458,'Result Entry'!$B$9:$EQ$108,51,0))","v":0},0,null,{"$f":"IF(OR(C2476=\"\",$I2463=\"NSO\"),\"\",VLOOKUP($A2458,'Result Entry'!$B$9:$EQ$108,54,0))","v":""}]
[null,"◐","Max. Marks",null,{"$f":"'Result Entry'!$BS$7","v":10},{"$f":"'Result Entry'!$BT$7","v":10},{"$f":"'Result Entry'!$BU$7","v":10},{"$f":"'Result Entry'!$BZ$7","v":70},{"$f":"SUM(E2477:H2477)","v":100},{"$f":"'Result Entry'!$CD$7","v":100},200,null,"A+/A/B/C/D"]
[null,"◐",{"$f":"'Result Entry'!$BS$3","v":"Sanskrit/Urdu"},null,{"$f":"IF(OR(C2478=\"\",$I2463=\"NSO\"),\"\",VLOOKUP($A2458,'Result Entry'!$B$9:$EQ$108,70,0))","v":0},{"$f":"IF(OR(C2478=\"\",$I2463=\"NSO\"),\"\",VLOOKUP($A2458,'Result Entry'!$B$9:$EQ$108,71,0))","v":0},{"$f":"IF(OR(C2478=\"\",$I2463=\"NSO\"),\"\",VLOOKUP($A2458,'Result Entry'!$B$9:$EQ$108,72,0))","v":0},{"$f":"IF(OR(C2478=\"\",$I2463=\"NSO\"),\"\",VLOOKUP($A2458,'Result Entry'!$B$9:$EQ$108,77,0))","v":0},{"$f":"SUM(E2478:H2478)","v":0},{"$f":"IF(OR(C2478=\"\",$I2463=\"NSO\"),\"\",VLOOKUP($A2458,'Result Entry'!$B$9:$EQ$108,81,0))","v":0},0,null,{"$f":"IF(OR(C2478=\"\",$I2463=\"NSO\"),\"\",VLOOKUP($A2458,'Result Entry'!$B$9:$EQ$108,84,0))","v":""}]
[null,"◐"]
[null,"◐","Overall Result",null,null,"Total Max. Marks",null,"Total Obtained Marks",null,"Percentage","Overall Grade","Result","Position in Class"]
[null,"◐",{"$nulls":3},{"$f":"IF(OR($I2463=\"\",$I2463=\"NSO\"),\"\",VLOOKUP($A2458,'Result Entry'!$B$9:$EQ$108,120,0))","v":900},null,{"$f":"IF(OR($I2463=\"\",$I2463=\"NSO\"),\"\",VLOOKUP($A2458,'Result Entry'!$B$9:$EQ$108,121,0))","v":0},null,{"$f":"IF(OR($I2463=\"\",$I2463=\"NSO\"),\"\",VLOOKUP($A2458,'Result Entry'!$B$9:$EQ$108,122,0))","v":{"v":0,"d":"0.00"}},{"$f":"IF(OR($I2463=\"\",$I2463=\"NSO\"),\"\",VLOOKUP($A2458,'Result Entry'!$B$9:$EQ$108,123,0))","v":""},{"$f":"IF(OR($I2463=\"\",$I2463=\"NSO\"),\"\",VLOOKUP($A2458,'Result Entry'!$B$9:$EQ$108,124,0))","v":""},{"$f":"IF(OR($I2463=\"\",$I2463=\"NSO\"),\"\",VLOOKUP($A2458,'Result Entry'!$B$9:$EQ$108,126,0))","v":""}]
[null,"◐",{"$nulls":6},"Total Meetings :-",null,{"$f":"IF(OR($I2463=\"\",$I2463=\"NSO\"),\"\",VLOOKUP($A2458,'Result Entry'!$B$9:$EQ$108,117,0))","v":0},"Attedance %"]
[null,"◐","Extra Subjects",{"$nulls":5},"Student's Meetings :-",null,{"$f":"IF(OR($I2463=\"\",$I2463=\"NSO\"),\"\",VLOOKUP($A2458,'Result Entry'!$B$9:$EQ$108,118,0))","v":0},{"$f":"IF(OR($I2463=\"\",$I2463=\"NSO\"),\"\",VLOOKUP($A2458,'Result Entry'!$B$9:$EQ$108,119,0))","v":""}]
[null,"◐","Subject",null,null,"Total Marks",null,"GRADE","Remark :-",null,{"$f":"IF(OR($I2463=\"\",$I2463=\"NSO\"),\"\",VLOOKUP($A2458,'Result Entry'!$B$9:$EQ$108,127,0))","v":0}]
[null,"◐",{"$f":"'Result Entry'!$CH$3","v":"WORK EXP."},null,null,{"$f":"IF(OR(C2485=\"\",$I2463=\"NSO\"),\"\",VLOOKUP($A2458,'Result Entry'!$B$9:$EQ$108,138,0))","v":"0/100"},null,{"$f":"IF(OR(C2485=\"\",$I2463=\"NSO\"),\"\",VLOOKUP($A2458,'Result Entry'!$B$9:$EQ$108,92,0))","v":""},"Result Date :-",null,{"$f":"'Result Entry'!$U$2","v":"2024-05-07"}]
[null,"◐",{"$f":"'Result Entry'!$CP$3","v":"ART EDU."},null,null,{"$f":"IF(OR(C2486=\"\",$I2463=\"NSO\"),\"\",VLOOKUP($A2458,'Result Entry'!$B$9:$EQ$108,142,0))","v":"0/100"},null,{"$f":"IF(OR(C2486=\"\",$I2463=\"NSO\"),\"\",VLOOKUP($A2458,'Result Entry'!$B$9:$EQ$108,100,0))","v":""}]
[null,null,{"$f":"'Result Entry'!$CX$3","v":"H&P. EDU."},null,null,{"$f":"IF(OR(C2487=\"\",$I2463=\"NSO\"),\"\",VLOOKUP($A2458,'Result Entry'!$B$9:$EQ$108,146,0))","v":"0/0"},null,{"$f":"IF(OR(C2487=\"\",$I2463=\"NSO\"),\"\",VLOOKUP($A2458,'Result Entry'!$B$9:$EQ$108,108,0))","v":""}]
[null,"◐",{"$f":"'Result Entry'!$DF$3","v":0},null,null,{"$f":"IF(OR(C2488=\"\",$I2463=\"NSO\"),\"\",VLOOKUP($A2458,'Result Entry'!$B$9:$EQ$108,131,0))","v":0},null,{"$f":"IF(OR(C2488=\"\",$I2463=\"NSO\"),\"\",VLOOKUP($A2458,'Result Entry'!$B$9:$EQ$108,97,0))","v":0},"Signature Of The Class Teacher"]
[null,"◐","Grading System"]
[null,"◐","Grd.","% Range",null,"Description"]
[null,"◐","A","86-100",null,"Excellent",null,null,"Signature And Seal Of Principal/H.M."]
[null,"◐","B","71-85",null,"Very Good"]
[null,"◐","C","51-70",null,"Good"]
[null,"◐","D","31-50",null,"Average"]
[null,"◐","E","0-30",null,"Needs Improvement",null,null,"Wish bright future"]
[]
[{"$f":"A2458+1","v":65},"Department Of Education, Rajasthan"]
[null,{"$f":"IF(I2502>0,CONCATENATE(C2502,I2502),0)","v":0},null,{"$f":"Master!$E$8","v":"Govt.Sr.Sec.Sch."}]
[{"$nulls":3},{"$f":"Master!$E$11","v":"P.S.-Bapini (Jodhpur)"}]
[null,null,"Report Card",{"$nulls":6},"U-DISE Code:-",null,{"$f":"Master!$E$14","v":{"v":810000000,"d":"0810000000"}}]
[{"$nulls":9},"Session:-",null,{"$f":"Master!$E$6","v":"2023-24"}]
[null,null,"Roll No.:-",{"$nulls":5},{"$f":"VLOOKUP($A2497,'Result Entry'!$B$9:$F$108,5,0)","v":0}]
[null,"◐","Scholar Number",{"$nulls":3},"↠",{"$f":"VLOOKUP($A2497,'Result Entry'!$B$9:$EQ$108,3,0)","v":0}]
[null,"◐","Student's Name",{"$nulls":3},"↠",{"$f":"VLOOKUP($A2497,'Result Entry'!$B$9:$EQ$108,6,0)","v":0}]
[null,"◐","Father's Name",{"$nulls":3},"↠",{"$f":"VLOOKUP($A2497,'Result Entry'!$B$9:$EQ$108,7,0)","v":0}]
[null,"◐","Mother's Name ",{"$nulls":3},"↠",{"$f":"VLOOKUP($A2497,'Result Entry'!$B$9:$EQ$108,8,0)","v":0}]
[null,"◐","Class & Section",{"$nulls":3},"↠",{"$f":"CONCATENATE('Result Entry'!$F$4,'Result Entry'!$I$4)","v":"2(A)"}]
[null,"◐","Date Of Birth",{"$nulls":3},"↠",{"$f":"VLOOKUP($A2497,'Result Entry'!$B$9:$EQ$108,9,0)","v":"00:00:00"}]
[null,"◐","Subject",null,{"$f":"'Result Entry'!$K$6","v":"First Test"},{"$f":"'Result Entry'!$L$6","v":"Second Test"},{"$f":"'Result Entry'!$M$6","v":"Third Test"},"Half Yearly","Total (Test+H.Y.)","Yearly","Grand Total",null,"Subject Grade"]
[null,"◐","Max. Marks",null,{"$f":"'Result Entry'!$K$7","v":10},{"$f":"'Result Entry'!$L$7","v":10},{"$f":"'Result Entry'!$M$7","v":10},{"$f":"'Result Entry'!$R$7","v":70},{"$f":"SUM(E2510:H2510)","v":100},{"$f":"'Result Entry'!$V$7","v":100},{"$f":"I2510+J2510","v":200},null,"A+/A/B/C/D"]
[null,"◐",{"$f":"'Result Entry'!$K$3","v":"Hindi"},null,{"$f":"IF(OR(C2511=\"\",$I2502=\"NSO\"),\"\",VLOOKUP($A2497,'Result Entry'!$B$9:$EQ$108,10,0))","v":0},{"$f":"IF(OR(C2511=\"\",$I2502=\"NSO\"),\"\",VLOOKUP($A2497,'Result Entry'!$B$9:$EQ$108,11,0))","v":0},{"$f":"IF(OR(C2511=\"\",$I2502=\"NSO\"),\"\",VLOOKUP($A2497,'Result Entry'!$B$9:$EQ$108,12,0))","v":0},{"$f":"IF(OR(C2511=\"\",$I2502=\"NSO\"),\"\",VLOOKUP($A2497,'Result Entry'!$B$9:$EQ$108,17,0))","v":0},{"$f":"SUM(E2511:H2511)","v":0},{"$f":"IF(OR(C2511=\"\",$I2502=\"NSO\"),\"\",VLOOKUP($A2497,'Result Entry'!$B$9:$EQ$108,21,0))","v":0},{"$f":"SUM(I2511,J2511)","v":0},null,{"$f":"IF(OR(C2511=\"\",$I2502=\"NSO\"),\"\",VLOOKUP($A2497,'Result Entry'!$B$9:$EQ$108,24,0))","v":""}]
[null,"◐",{"$f":"'Result Entry'!$Z$3","v":"Mathematics"},null,{"$f":"IF(OR(C2512=\"\",$I2502=\"NSO\"),\"\",VLOOKUP($A2497,'Result Entry'!$B$9:$EQ$108,25,0))","v":0},{"$f":"IF(OR(C2512=\"\",$I2502=\"NSO\"),\"\",VLOOKUP($A2497,'Result Entry'!$B$9:$EQ$108,26,0))","v":0},{"$f":"IF(OR(C2512=\"\",$I2502=\"NSO\"),\"\",VLOOKUP($A2497,'Result Entry'!$B$9:$EQ$108,27,0))","v":0},{"$f":"IF(OR(C2512=\"\",$I2502=\"NSO\"),\"\",VLOOKUP($A2497,'Result Entry'!$B$9:$EQ$108,32,0))","v":0},0,{"$f":"IF(OR(C2512=\"\",$I2502=\"NSO\"),\"\",VLOOKUP($A2497,'Result Entry'!$B$9:$EQ$108,36,0))","v":0},{"$f":"SUM(I2512,J2512)","v":0},null,{"$f":"IF(OR(C2512=\"\",$I2502=\"NSO\"),\"\",VLOOKUP($A2497,'Result Entry'!$B$9:$EQ$108,39,0))","v":""}]
[null,"◐",{"$f":"'Result Entry'!$BD$3","v":"Env. Study"},null,{"$f":"IF(OR(C2513=\"\",$I2502=\"NSO\"),\"\",VLOOKUP($A2497,'Result Entry'!$B$9:$EQ$108,55,0))","v":0},{"$f":"IF(OR(C2513=\"\",$I2502=\"NSO\"),\"\",VLOOKUP($A2497,'Result Entry'!$B$9:$EQ$108,56,0))","v":0},{"$f":"IF(OR(C2513=\"\",$I2502=\"NSO\"),\"\",VLOOKUP($A2497,'Result Entry'!$B$9:$EQ$108,57,0))","v":0},{"$f":"IF(OR(C2511=\"\",$I2502=\"NSO\"),\"\",VLOOKUP($A2497,'Result Entry'!$B$9:$EQ$108,62,0))","v":0},0,{"$f":"IF(OR(C2512=\"\",$I2502=\"NSO\"),\"\",VLOOKUP($A2497,'Result Entry'!$B$9:$EQ$108,66,0))","v":0},0,null,{"$f":"IF(OR(C2512=\"\",$I2502=\"NSO\"),\"\",VLOOKUP($A2497,'Result Entry'!$B$9:$EQ$108,69,0))","v":""}]
[null,"◐","Max. Marks",null,{"$f":"'Result Entry'!$AO$7","v":5},{"$f":"'Result Entry'!$AP$7","v":5},{"$f":"'Result Entry'!$AQ$7","v":5},{"$f":"'Result Entry'!$AV$7","v":35},50,{"$f":"'Result Entry'!$AZ$7","v":50},100,null,"A+/A/B/C/D"]
[null,"◐",{"$f":"'Result Entry'!$AO$3","v":"English"},null,{"$f":"IF(OR(C2515=\"\",$I2502=\"NSO\"),\"\",VLOOKUP($A2497,'Result Entry'!$B$9:$EQ$108,40,0))","v":0},{"$f":"IF(OR(C2515=\"\",$I2502=\"NSO\"),\"\",VLOOKUP($A2497,'Result Entry'!$B$9:$EQ$108,41,0))","v":0},{"$f":"IF(OR(C2515=\"\",$I2502=\"NSO\"),\"\",VLOOKUP($A2497,'Result Entry'!$B$9:$EQ$108,42,0))","v":0},{"$f":"IF(OR(C2515=\"\",$I2502=\"NSO\"),\"\",VLOOKUP($A2497,'Result Entry'!$B$9:$EQ$108,47,0))","v":0},0,{"$f":"IF(OR(C2515=\"\",$I2502=\"NSO\"),\"\",VLOOKUP($A2497,'Result Entry'!$B$9:$EQ$108,51,0))","v":0},0,null,{"$f":"IF(OR(C2515=\"\",$I2502=\"NSO\"),\"\",VLOOKUP($A2497,'Result Entry'!$B$9:$EQ$108,54,0))","v":""}]
[null,"◐","Max. Marks",null,{"$f":"'Result Entry'!$BS$7","v":10},{"$f":"'Result Entry'!$BT$7","v":10},{"$f":"'Result Entry'!$BU$7","v":10},{"$f":"'Result Entry'!$BZ$7","v":70},{"$f":"SUM(E2516:H2516)","v":100},{"$f":"'Result Entry'!$CD$7","v":100},200,null,"A+/A/B/C/D"]
[null,"◐",{"$f":"'Result Entry'!$BS$3","v":"Sanskrit/Urdu"},null,{"$f":"IF(OR(C2517=\"\",$I2502=\"NSO\"),\"\",VLOOKUP($A2497,'Result Entry'!$B$9:$EQ$108,70,0))","v":0},{"$f":"IF(OR(C2517=\"\",$I2502=\"NSO\"),\"\",VLOOKUP($A2497,'Result Entry'!$B$9:$EQ$108,71,0))","v":0},{"$f":"IF(OR(C2517=\"\",$I2502=\"NSO\"),\"\",VLOOKUP($A2497,'Result Entry'!$B$9:$EQ$108,72,0))","v":0},{"$f":"IF(OR(C2517=\"\",$I2502=\"NSO\"),\"\",VLOOKUP($A2497,'Result Entry'!$B$9:$EQ$108,77,0))","v":0},{"$f":"SUM(E2517:H2517)","v":0},{"$f":"IF(OR(C2517=\"\",$I2502=\"NSO\"),\"\",VLOOKUP($A2497,'Result Entry'!$B$9:$EQ$108,81,0))","v":0},0,null,{"$f":"IF(OR(C2517=\"\",$I2502=\"NSO\"),\"\",VLOOKUP($A2497,'Result Entry'!$B$9:$EQ$108,84,0))","v":""}]
[null,"◐"]
[null,"◐","Overall Result",null,null,"Total Max. Marks",null,"Total Obtained Marks",null,"Percentage","Overall Grade","Result","Position in Class"]
[null,"◐",{"$nulls":3},{"$f":"IF(OR($I2502=\"\",$I2502=\"NSO\"),\"\",VLOOKUP($A2497,'Result Entry'!$B$9:$EQ$108,120,0))","v":900},null,{"$f":"IF(OR($I2502=\"\",$I2502=\"NSO\"),\"\",VLOOKUP($A2497,'Result Entry'!$B$9:$EQ$108,121,0))","v":0},null,{"$f":"IF(OR($I2502=\"\",$I2502=\"NSO\"),\"\",VLOOKUP($A2497,'Result Entry'!$B$9:$EQ$108,122,0))","v":{"v":0,"d":"0.00"}},{"$f":"IF(OR($I2502=\"\",$I2502=\"NSO\"),\"\",VLOOKUP($A2497,'Result Entry'!$B$9:$EQ$108,123,0))","v":""},{"$f":"IF(OR($I2502=\"\",$I2502=\"NSO\"),\"\",VLOOKUP($A2497,'Result Entry'!$B$9:$EQ$108,124,0))","v":""},{"$f":"IF(OR($I2502=\"\",$I2502=\"NSO\"),\"\",VLOOKUP($A2497,'Result Entry'!$B$9:$EQ$108,126,0))","v":""}]
[null,"◐",{"$nulls":6},"Total Meetings :-",null,{"$f":"IF(OR($I2502=\"\",$I2502=\"NSO\"),\"\",VLOOKUP($A2497,'Result Entry'!$B$9:$EQ$108,117,0))","v":0},"Attedance %"]
[null,"◐","Extra Subjects",{"$nulls":5},"Student's Meetings :-",null,{"$f":"IF(OR($I2502=\"\",$I2502=\"NSO\"),\"\",VLOOKUP($A2497,'Result Entry'!$B$9:$EQ$108,118,0))","v":0},{"$f":"IF(OR($I2502=\"\",$I2502=\"NSO\"),\"\",VLOOKUP($A2497,'Result Entry'!$B$9:$EQ$108,119,0))","v":""}]
[null,"◐","Subject",null,null,"Total Marks",null,"GRADE","Remark :-",null,{"$f":"IF(OR($I2502=\"\",$I2502=\"NSO\"),\"\",VLOOKUP($A2497,'Result Entry'!$B$9:$EQ$108,127,0))","v":0}]
[null,"◐",{"$f":"'Result Entry'!$CH$3","v":"WORK EXP."},null,null,{"$f":"IF(OR(C2524=\"\",$I2502=\"NSO\"),\"\",VLOOKUP($A2497,'Result Entry'!$B$9:$EQ$108,138,0))","v":"0/100"},null,{"$f":"IF(OR(C2524=\"\",$I2502=\"NSO\"),\"\",VLOOKUP($A2497,'Result Entry'!$B$9:$EQ$108,92,0))","v":""},"Result Date :-",null,{"$f":"'Result Entry'!$U$2","v":"2024-05-07"}]
[null,"◐",{"$f":"'Result Entry'!$CP$3","v":"ART EDU."},null,null,{"$f":"IF(OR(C2525=\"\",$I2502=\"NSO\"),\"\",VLOOKUP($A2497,'Result Entry'!$B$9:$EQ$108,142,0))","v":"0/100"},null,{"$f":"IF(OR(C2525=\"\",$I2502=\"NSO\"),\"\",VLOOKUP($A2497,'Result Entry'!$B$9:$EQ$108,100,0))","v":""}]
[null,null,{"$f":"'Result Entry'!$CX$3","v":"H&P. EDU."},null,null,{"$f":"IF(OR(C2526=\"\",$I2502=\"NSO\"),\"\",VLOOKUP($A2497,'Result Entry'!$B$9:$EQ$108,146,0))","v":"0/0"},null,{"$f":"IF(OR(C2526=\"\",$I2502=\"NSO\"),\"\",VLOOKUP($A2497,'Result Entry'!$B$9:$EQ$108,108,0))","v":""}]
[null,"◐",{"$f":"'Result Entry'!$DF$3","v":0},null,null,{"$f":"IF(OR(C2527=\"\",$I2502=\"NSO\"),\"\",VLOOKUP($A2497,'Result Entry'!$B$9:$EQ$108,131,0))","v":0},null,{"$f":"IF(OR(C2527=\"\",$I2502=\"NSO\"),\"\",VLOOKUP($A2497,'Result Entry'!$B$9:$EQ$108,97,0))","v":0},"Signature Of The Class Teacher"]
[null,"◐","Grading System"]
[null,"◐","Grd.","% Range",null,"Description"]
[null,"◐","A","86-100",null,"Excellent",null,null,"Signature And Seal Of Principal/H.M."]
[null,"◐","B","71-85",null,"Very Good"]
[null,"◐","C","51-70",null,"Good"]
[null,"◐","D","31-50",null,"Average"]
[null,"◐","E","0-30",null,"Needs Improvement",null,null,"Wish bright future"]
[]
[{"$f":"A2497+1","v":66},"Department Of Education, Rajasthan"]
[null,{"$f":"IF(I2541>0,CONCATENATE(C2541,I2541),0)","v":0},null,{"$f":"Master!$E$8","v":"Govt.Sr.Sec.Sch."}]
[{"$nulls":3},{"$f":"Master!$E$11","v":"P.S.-Bapini (Jodhpur)"}]
[null,null,"Report Card",{"$nulls":6},"U-DISE Code:-",null,{"$f":"Master!$E$14","v":{"v":810000000,"d":"0810000000"}}]
[{"$nulls":9},"Session:-",null,{"$f":"Master!$E$6","v":"2023-24"}]
[null,null,"Roll No.:-",{"$nulls":5},{"$f":"VLOOKUP($A2536,'Result Entry'!$B$9:$F$108,5,0)","v":0}]
[null,"◐","Scholar Number",{"$nulls":3},"↠",{"$f":"VLOOKUP($A2536,'Result Entry'!$B$9:$EQ$108,3,0)","v":0}]
[null,"◐","Student's Name",{"$nulls":3},"↠",{"$f":"VLOOKUP($A2536,'Result Entry'!$B$9:$EQ$108,6,0)","v":0}]
[null,"◐","Father's Name",{"$nulls":3},"↠",{"$f":"VLOOKUP($A2536,'Result Entry'!$B$9:$EQ$108,7,0)","v":0}]
[null,"◐","Mother's Name ",{"$nulls":3},"↠",{"$f":"VLOOKUP($A2536,'Result Entry'!$B$9:$EQ$108,8,0)","v":0}]
[null,"◐","Class & Section",{"$nulls":3},"↠",{"$f":"CONCATENATE('Result Entry'!$F$4,'Result Entry'!$I$4)","v":"2(A)"}]
[null,"◐","Date Of Birth",{"$nulls":3},"↠",{"$f":"VLOOKUP($A2536,'Result Entry'!$B$9:$EQ$108,9,0)","v":"00:00:00"}]
[null,"◐","Subject",null,{"$f":"'Result Entry'!$K$6","v":"First Test"},{"$f":"'Result Entry'!$L$6","v":"Second Test"},{"$f":"'Result Entry'!$M$6","v":"Third Test"},"Half Yearly","Total (Test+H.Y.)","Yearly","Grand Total",null,"Subject Grade"]
[null,"◐","Max. Marks",null,{"$f":"'Result Entry'!$K$7","v":10},{"$f":"'Result Entry'!$L$7","v":10},{"$f":"'Result Entry'!$M$7","v":10},{"$f":"'Result Entry'!$R$7","v":70},{"$f":"SUM(E2549:H2549)","v":100},{"$f":"'Result Entry'!$V$7","v":100},{"$f":"I2549+J2549","v":200},null,"A+/A/B/C/D"]
[null,"◐",{"$f":"'Result Entry'!$K$3","v":"Hindi"},null,{"$f":"IF(OR(C2550=\"\",$I2541=\"NSO\"),\"\",VLOOKUP($A2536,'Result Entry'!$B$9:$EQ$108,10,0))","v":0},{"$f":"IF(OR(C2550=\"\",$I2541=\"NSO\"),\"\",VLOOKUP($A2536,'Result Entry'!$B$9:$EQ$108,11,0))","v":0},{"$f":"IF(OR(C2550=\"\",$I2541=\"NSO\"),\"\",VLOOKUP($A2536,'Result Entry'!$B$9:$EQ$108,12,0))","v":0},{"$f":"IF(OR(C2550=\"\",$I2541=\"NSO\"),\"\",VLOOKUP($A2536,'Result Entry'!$B$9:$EQ$108,17,0))","v":0},{"$f":"SUM(E2550:H2550)","v":0},{"$f":"IF(OR(C2550=\"\",$I2541=\"NSO\"),\"\",VLOOKUP($A2536,'Result Entry'!$B$9:$EQ$108,21,0))","v":0},{"$f":"SUM(I2550,J2550)","v":0},null,{"$f":"IF(OR(C2550=\"\",$I2541=\"NSO\"),\"\",VLOOKUP($A2536,'Result Entry'!$B$9:$EQ$108,24,0))","v":""}]
[null,"◐",{"$f":"'Result Entry'!$Z$3","v":"Mathematics"},null,{"$f":"IF(OR(C2551=\"\",$I2541=\"NSO\"),\"\",VLOOKUP($A2536,'Result Entry'!$B$9:$EQ$108,25,0))","v":0},{"$f":"IF(OR(C2551=\"\",$I2541=\"NSO\"),\"\",VLOOKUP($A2536,'Result Entry'!$B$9:$EQ$108,26,0))","v":0},{"$f":"IF(OR(C2551=\"\",$I2541=\"NSO\"),\"\",VLOOKUP($A2536,'Result Entry'!$B$9:$EQ$108,27,0))","v":0},{"$f":"IF(OR(C2551=\"\",$I2541=\"NSO\"),\"\",VLOOKUP($A2536,'Result Entry'!$B$9:$EQ$108,32,0))","v":0},0,{"$f":"IF(OR(C2551=\"\",$I2541=\"NSO\"),\"\",VLOOKUP($A2536,'Result Entry'!$B$9:$EQ$108,36,0))","v":0},{"$f":"SUM(I2551,J2551)","v":0},null,{"$f":"IF(OR(C2551=\"\",$I2541=\"NSO\"),\"\",VLOOKUP($A2536,'Result Entry'!$B$9:$EQ$108,39,0))","v":""}]
[null,"◐",{"$f":"'Result Entry'!$BD$3","v":"Env. Study"},null,{"$f":"IF(OR(C2552=\"\",$I2541=\"NSO\"),\"\",VLOOKUP($A2536,'Result Entry'!$B$9:$EQ$108,55,0))","v":0},{"$f":"IF(OR(C2552=\"\",$I2541=\"NSO\"),\"\",VLOOKUP($A2536,'Result Entry'!$B$9:$EQ$108,56,0))","v":0},{"$f":"IF(OR(C2552=\"\",$I2541=\"NSO\"),\"\",VLOOKUP($A2536,'Result Entry'!$B$9:$EQ$108,57,0))","v":0},{"$f":"IF(OR(C2550=\"\",$I2541=\"NSO\"),\"\",VLOOKUP($A2536,'Result Entry'!$B$9:$EQ$108,62,0))","v":0},0,{"$f":"IF(OR(C2551=\"\",$I2541=\"NSO\"),\"\",VLOOKUP($A2536,'Result Entry'!$B$9:$EQ$108,66,0))","v":0},0,null,{"$f":"IF(OR(C2551=\"\",$I2541=\"NSO\"),\"\",VLOOKUP($A2536,'Result Entry'!$B$9:$EQ$108,69,0))","v":""}]
[null,"◐","Max. Marks",null,{"$f":"'Result Entry'!$AO$7","v":5},{"$f":"'Result Entry'!$AP$7","v":5},{"$f":"'Result Entry'!$AQ$7","v":5},{"$f":"'Result Entry'!$AV$7","v":35},50,{"$f":"'Result Entry'!$AZ$7","v":50},100,null,"A+/A/B/C/D"]
[null,"◐",{"$f":"'Result Entry'!$AO$3","v":"English"},null,{"$f":"IF(OR(C2554=\"\",$I2541=\"NSO\"),\"\",VLOOKUP($A2536,'Result Entry'!$B$9:$EQ$108,40,0))","v":0},{"$f":"IF(OR(C2554=\"\",$I2541=\"NSO\"),\"\",VLOOKUP($A2536,'Result Entry'!$B$9:$EQ$108,41,0))","v":0},{"$f":"IF(OR(C2554=\"\",$I2541=\"NSO\"),\"\",VLOOKUP($A2536,'Result Entry'!$B$9:$EQ$108,42,0))","v":0},{"$f":"IF(OR(C2554=\"\",$I2541=\"NSO\"),\"\",VLOOKUP($A2536,'Result Entry'!$B$9:$EQ$108,47,0))","v":0},0,{"$f":"IF(OR(C2554=\"\",$I2541=\"NSO\"),\"\",VLOOKUP($A2536,'Result Entry'!$B$9:$EQ$108,51,0))","v":0},0,null,{"$f":"IF(OR(C2554=\"\",$I2541=\"NSO\"),\"\",VLOOKUP($A2536,'Result Entry'!$B$9:$EQ$108,54,0))","v":""}]
[null,"◐","Max. Marks",null,{"$f":"'Result Entry'!$BS$7","v":10},{"$f":"'Result Entry'!$BT$7","v":10},{"$f":"'Result Entry'!$BU$7","v":10},{"$f":"'Result Entry'!$BZ$7","v":70},{"$f":"SUM(E2555:H2555)","v":100},{"$f":"'Result Entry'!$CD$7","v":100},200,null,"A+/A/B/C/D"]
[null,"◐",{"$f":"'Result Entry'!$BS$3","v":"Sanskrit/Urdu"},null,{"$f":"IF(OR(C2556=\"\",$I2541=\"NSO\"),\"\",VLOOKUP($A2536,'Result Entry'!$B$9:$EQ$108,70,0))","v":0},{"$f":"IF(OR(C2556=\"\",$I2541=\"NSO\"),\"\",VLOOKUP($A2536,'Result Entry'!$B$9:$EQ$108,71,0))","v":0},{"$f":"IF(OR(C2556=\"\",$I2541=\"NSO\"),\"\",VLOOKUP($A2536,'Result Entry'!$B$9:$EQ$108,72,0))","v":0},{"$f":"IF(OR(C2556=\"\",$I2541=\"NSO\"),\"\",VLOOKUP($A2536,'Result Entry'!$B$9:$EQ$108,77,0))","v":0},{"$f":"SUM(E2556:H2556)","v":0},{"$f":"IF(OR(C2556=\"\",$I2541=\"NSO\"),\"\",VLOOKUP($A2536,'Result Entry'!$B$9:$EQ$108,81,0))","v":0},0,null,{"$f":"IF(OR(C2556=\"\",$I2541=\"NSO\"),\"\",VLOOKUP($A2536,'Result Entry'!$B$9:$EQ$108,84,0))","v":""}]
[null,"◐"]
[null,"◐","Overall Result",null,null,"Total Max. Marks",null,"Total Obtained Marks",null,"Percentage","Overall Grade","Result","Position in Class"]
[null,"◐",{"$nulls":3},{"$f":"IF(OR($I2541=\"\",$I2541=\"NSO\"),\"\",VLOOKUP($A2536,'Result Entry'!$B$9:$EQ$108,120,0))","v":900},null,{"$f":"IF(OR($I2541=\"\",$I2541=\"NSO\"),\"\",VLOOKUP($A2536,'Result Entry'!$B$9:$EQ$108,121,0))","v":0},null,{"$f":"IF(OR($I2541=\"\",$I2541=\"NSO\"),\"\",VLOOKUP($A2536,'Result Entry'!$B$9:$EQ$108,122,0))","v":{"v":0,"d":"0.00"}},{"$f":"IF(OR($I2541=\"\",$I2541=\"NSO\"),\"\",VLOOKUP($A2536,'Result Entry'!$B$9:$EQ$108,123,0))","v":""},{"$f":"IF(OR($I2541=\"\",$I2541=\"NSO\"),\"\",VLOOKUP($A2536,'Result Entry'!$B$9:$EQ$108,124,0))","v":""},{"$f":"IF(OR($I2541=\"\",$I2541=\"NSO\"),\"\",VLOOKUP($A2536,'Result Entry'!$B$9:$EQ$108,126,0))","v":""}]
[null,"◐",{"$nulls":6},"Total Meetings :-",null,{"$f":"IF(OR($I2541=\"\",$I2541=\"NSO\"),\"\",VLOOKUP($A2536,'Result Entry'!$B$9:$EQ$108,117,0))","v":0},"Attedance %"]
[null,"◐","Extra Subjects",{"$nulls":5},"Student's Meetings :-",null,{"$f":"IF(OR($I2541=\"\",$I2541=\"NSO\"),\"\",VLOOKUP($A2536,'Result Entry'!$B$9:$EQ$108,118,0))","v":0},{"$f":"IF(OR($I2541=\"\",$I2541=\"NSO\"),\"\",VLOOKUP($A2536,'Result Entry'!$B$9:$EQ$108,119,0))","v":""}]
[null,"◐","Subject",null,null,"Total Marks",null,"GRADE","Remark :-",null,{"$f":"IF(OR($I2541=\"\",$I2541=\"NSO\"),\"\",VLOOKUP($A2536,'Result Entry'!$B$9:$EQ$108,127,0))","v":0}]
[null,"◐",{"$f":"'Result Entry'!$CH$3","v":"WORK EXP."},null,null,{"$f":"IF(OR(C2563=\"\",$I2541=\"NSO\"),\"\",VLOOKUP($A2536,'Result Entry'!$B$9:$EQ$108,138,0))","v":"0/100"},null,{"$f":"IF(OR(C2563=\"\",$I2541=\"NSO\"),\"\",VLOOKUP($A2536,'Result Entry'!$B$9:$EQ$108,92,0))","v":""},"Result Date :-",null,{"$f":"'Result Entry'!$U$2","v":"2024-05-07"}]
[null,"◐",{"$f":"'Result Entry'!$CP$3","v":"ART EDU."},null,null,{"$f":"IF(OR(C2564=\"\",$I2541=\"NSO\"),\"\",VLOOKUP($A2536,'Result Entry'!$B$9:$EQ$108,142,0))","v":"0/100"},null,{"$f":"IF(OR(C2564=\"\",$I2541=\"NSO\"),\"\",VLOOKUP($A2536,'Result Entry'!$B$9:$EQ$108,100,0))","v":""}]
[null,null,{"$f":"'Result Entry'!$CX$3","v":"H&P. EDU."},null,null,{"$f":"IF(OR(C2565=\"\",$I2541=\"NSO\"),\"\",VLOOKUP($A2536,'Result Entry'!$B$9:$EQ$108,146,0))","v":"0/0"},null,{"$f":"IF(OR(C2565=\"\",$I2541=\"NSO\"),\"\",VLOOKUP($A2536,'Result Entry'!$B$9:$EQ$108,108,0))","v":""}]
[null,"◐",{"$f":"'Result Entry'!$DF$3","v":0},null,null,{"$f":"IF(OR(C2566=\"\",$I2541=\"NSO\"),\"\",VLOOKUP($A2536,'Result Entry'!$B$9:$EQ$108,131,0))","v":0},null,{"$f":"IF(OR(C2566=\"\",$I2541=\"NSO\"),\"\",VLOOKUP($A2536,'Result Entry'!$B$9:$EQ$108,97,0))","v":0},"Signature Of The Class Teacher"]
[null,"◐","Grading System"]
[null,"◐","Grd.","% Range",null,"Description"]
[null,"◐","A","86-100",null,"Excellent",null,null,"Signature And Seal Of Principal/H.M."]
[null,"◐","B","71-85",null,"Very Good"]
[null,"◐","C","51-70",null,"Good"]
[null,"◐","D","31-50",null,"Average"]
[null,"◐","E","0-30",null,"Needs Improvement",null,null,"Wish bright future"]
[]
[{"$f":"A2536+1","v":67},"Department Of Education, Rajasthan"]
[null,{"$f":"IF(I2580>0,CONCATENATE(C2580,I2580),0)","v":0},null,{"$f":"Master!$E$8","v":"Govt.Sr.Sec.Sch."}]
[{"$nulls":3},{"$f":"Master!$E$11","v":"P.S.-Bapini (Jodhpur)"}]
[null,null,"Report Card",{"$nulls":6},"U-DISE Code:-",null,{"$f":"Master!$E$14","v":{"v":810000000,"d":"0810000000"}}]
[{"$nulls":9},"Session:-",null,{"$f":"Master!$E$6","v":"2023-24"}]
[null,null,"Roll No.:-",{"$nulls":5},{"$f":"VLOOKUP($A2575,'Result Entry'!$B$9:$F$108,5,0)","v":0}]
[null,"◐","Scholar Number",{"$nulls":3},"↠",{"$f":"VLOOKUP($A2575,'Result Entry'!$B$9:$EQ$108,3,0)","v":0}]
[null,"◐","Student's Name",{"$nulls":3},"↠",{"$f":"VLOOKUP($A2575,'Result Entry'!$B$9:$EQ$108,6,0)","v":0}]
[null,"◐","Father's Name",{"$nulls":3},"↠",{"$f":"VLOOKUP($A2575,'Result Entry'!$B$9:$EQ$108,7,0)","v":0}]
[null,"◐","Mother's Name ",{"$nulls":3},"↠",{"$f":"VLOOKUP($A2575,'Result Entry'!$B$9:$EQ$108,8,0)","v":0}]
[null,"◐","Class & Section",{"$nulls":3},"↠",{"$f":"CONCATENATE('Result Entry'!$F$4,'Result Entry'!$I$4)","v":"2(A)"}]
[null,"◐","Date Of Birth",{"$nulls":3},"↠",{"$f":"VLOOKUP($A2575,'Result Entry'!$B$9:$EQ$108,9,0)","v":"00:00:00"}]
[null,"◐","Subject",null,{"$f":"'Result Entry'!$K$6","v":"First Test"},{"$f":"'Result Entry'!$L$6","v":"Second Test"},{"$f":"'Result Entry'!$M$6","v":"Third Test"},"Half Yearly","Total (Test+H.Y.)","Yearly","Grand Total",null,"Subject Grade"]
[null,"◐","Max. Marks",null,{"$f":"'Result Entry'!$K$7","v":10},{"$f":"'Result Entry'!$L$7","v":10},{"$f":"'Result Entry'!$M$7","v":10},{"$f":"'Result Entry'!$R$7","v":70},{"$f":"SUM(E2588:H2588)","v":100},{"$f":"'Result Entry'!$V$7","v":100},{"$f":"I2588+J2588","v":200},null,"A+/A/B/C/D"]
[null,"◐",{"$f":"'Result Entry'!$K$3","v":"Hindi"},null,{"$f":"IF(OR(C2589=\"\",$I2580=\"NSO\"),\"\",VLOOKUP($A2575,'Result Entry'!$B$9:$EQ$108,10,0))","v":0},{"$f":"IF(OR(C2589=\"\",$I2580=\"NSO\"),\"\",VLOOKUP($A2575,'Result Entry'!$B$9:$EQ$108,11,0))","v":0},{"$f":"IF(OR(C2589=\"\",$I2580=\"NSO\"),\"\",VLOOKUP($A2575,'Result Entry'!$B$9:$EQ$108,12,0))","v":0},{"$f":"IF(OR(C2589=\"\",$I2580=\"NSO\"),\"\",VLOOKUP($A2575,'Result Entry'!$B$9:$EQ$108,17,0))","v":0},{"$f":"SUM(E2589:H2589)","v":0},{"$f":"IF(OR(C2589=\"\",$I2580=\"NSO\"),\"\",VLOOKUP($A2575,'Result Entry'!$B$9:$EQ$108,21,0))","v":0},{"$f":"SUM(I2589,J2589)","v":0},null,{"$f":"IF(OR(C2589=\"\",$I2580=\"NSO\"),\"\",VLOOKUP($A2575,'Result Entry'!$B$9:$EQ$108,24,0))","v":""}]
[null,"◐",{"$f":"'Result Entry'!$Z$3","v":"Mathematics"},null,{"$f":"IF(OR(C2590=\"\",$I2580=\"NSO\"),\"\",VLOOKUP($A2575,'Result Entry'!$B$9:$EQ$108,25,0))","v":0},{"$f":"IF(OR(C2590=\"\",$I2580=\"NSO\"),\"\",VLOOKUP($A2575,'Result Entry'!$B$9:$EQ$108,26,0))","v":0},{"$f":"IF(OR(C2590=\"\",$I2580=\"NSO\"),\"\",VLOOKUP($A2575,'Result Entry'!$B$9:$EQ$108,27,0))","v":0},{"$f":"IF(OR(C2590=\"\",$I2580=\"NSO\"),\"\",VLOOKUP($A2575,'Result Entry'!$B$9:$EQ$108,32,0))","v":0},0,{"$f":"IF(OR(C2590=\"\",$I2580=\"NSO\"),\"\",VLOOKUP($A2575,'Result Entry'!$B$9:$EQ$108,36,0))","v":0},{"$f":"SUM(I2590,J2590)","v":0},null,{"$f":"IF(OR(C2590=\"\",$I2580=\"NSO\"),\"\",VLOOKUP($A2575,'Result Entry'!$B$9:$EQ$108,39,0))","v":""}]
[null,"◐",{"$f":"'Result Entry'!$BD$3","v":"Env. Study"},null,{"$f":"IF(OR(C2591=\"\",$I2580=\"NSO\"),\"\",VLOOKUP($A2575,'Result Entry'!$B$9:$EQ$108,55,0))","v":0},{"$f":"IF(OR(C2591=\"\",$I2580=\"NSO\"),\"\",VLOOKUP($A2575,'Result Entry'!$B$9:$EQ$108,56,0))","v":0},{"$f":"IF(OR(C2591=\"\",$I2580=\"NSO\"),\"\",VLOOKUP($A2575,'Result Entry'!$B$9:$EQ$108,57,0))","v":0},{"$f":"IF(OR(C2589=\"\",$I2580=\"NSO\"),\"\",VLOOKUP($A2575,'Result Entry'!$B$9:$EQ$108,62,0))","v":0},0,{"$f":"IF(OR(C2590=\"\",$I2580=\"NSO\"),\"\",VLOOKUP($A2575,'Result Entry'!$B$9:$EQ$108,66,0))","v":0},0,null,{"$f":"IF(OR(C2590=\"\",$I2580=\"NSO\"),\"\",VLOOKUP($A2575,'Result Entry'!$B$9:$EQ$108,69,0))","v":""}]
[null,"◐","Max. Marks",null,{"$f":"'Result Entry'!$AO$7","v":5},{"$f":"'Result Entry'!$AP$7","v":5},{"$f":"'Result Entry'!$AQ$7","v":5},{"$f":"'Result Entry'!$AV$7","v":35},50,{"$f":"'Result Entry'!$AZ$7","v":50},100,null,"A+/A/B/C/D"]
[null,"◐",{"$f":"'Result Entry'!$AO$3","v":"English"},null,{"$f":"IF(OR(C2593=\"\",$I2580=\"NSO\"),\"\",VLOOKUP($A2575,'Result Entry'!$B$9:$EQ$108,40,0))","v":0},{"$f":"IF(OR(C2593=\"\",$I2580=\"NSO\"),\"\",VLOOKUP($A2575,'Result Entry'!$B$9:$EQ$108,41,0))","v":0},{"$f":"IF(OR(C2593=\"\",$I2580=\"NSO\"),\"\",VLOOKUP($A2575,'Result Entry'!$B$9:$EQ$108,42,0))","v":0},{"$f":"IF(OR(C2593=\"\",$I2580=\"NSO\"),\"\",VLOOKUP($A2575,'Result Entry'!$B$9:$EQ$108,47,0))","v":0},0,{"$f":"IF(OR(C2593=\"\",$I2580=\"NSO\"),\"\",VLOOKUP($A2575,'Result Entry'!$B$9:$EQ$108,51,0))","v":0},0,null,{"$f":"IF(OR(C2593=\"\",$I2580=\"NSO\"),\"\",VLOOKUP($A2575,'Result Entry'!$B$9:$EQ$108,54,0))","v":""}]
[null,"◐","Max. Marks",null,{"$f":"'Result Entry'!$BS$7","v":10},{"$f":"'Result Entry'!$BT$7","v":10},{"$f":"'Result Entry'!$BU$7","v":10},{"$f":"'Result Entry'!$BZ$7","v":70},{"$f":"SUM(E2594:H2594)","v":100},{"$f":"'Result Entry'!$CD$7","v":100},200,null,"A+/A/B/C/D"]
[null,"◐",{"$f":"'Result Entry'!$BS$3","v":"Sanskrit/Urdu"},null,{"$f":"IF(OR(C2595=\"\",$I2580=\"NSO\"),\"\",VLOOKUP($A2575,'Result Entry'!$B$9:$EQ$108,70,0))","v":0},{"$f":"IF(OR(C2595=\"\",$I2580=\"NSO\"),\"\",VLOOKUP($A2575,'Result Entry'!$B$9:$EQ$108,71,0))","v":0},{"$f":"IF(OR(C2595=\"\",$I2580=\"NSO\"),\"\",VLOOKUP($A2575,'Result Entry'!$B$9:$EQ$108,72,0))","v":0},{"$f":"IF(OR(C2595=\"\",$I2580=\"NSO\"),\"\",VLOOKUP($A2575,'Result Entry'!$B$9:$EQ$108,77,0))","v":0},{"$f":"SUM(E2595:H2595)","v":0},{"$f":"IF(OR(C2595=\"\",$I2580=\"NSO\"),\"\",VLOOKUP($A2575,'Result Entry'!$B$9:$EQ$108,81,0))","v":0},0,null,{"$f":"IF(OR(C2595=\"\",$I2580=\"NSO\"),\"\",VLOOKUP($A2575,'Result Entry'!$B$9:$EQ$108,84,0))","v":""}]
[null,"◐"]
[null,"◐","Overall Result",null,null,"Total Max. Marks",null,"Total Obtained Marks",null,"Percentage","Overall Grade","Result","Position in Class"]
[null,"◐",{"$nulls":3},{"$f":"IF(OR($I2580=\"\",$I2580=\"NSO\"),\"\",VLOOKUP($A2575,'Result Entry'!$B$9:$EQ$108,120,0))","v":900},null,{"$f":"IF(OR($I2580=\"\",$I2580=\"NSO\"),\"\",VLOOKUP($A2575,'Result Entry'!$B$9:$EQ$108,121,0))","v":0},null,{"$f":"IF(OR($I2580=\"\",$I2580=\"NSO\"),\"\",VLOOKUP($A2575,'Result Entry'!$B$9:$EQ$108,122,0))","v":{"v":0,"d":"0.00"}},{"$f":"IF(OR($I2580=\"\",$I2580=\"NSO\"),\"\",VLOOKUP($A2575,'Result Entry'!$B$9:$EQ$108,123,0))","v":""},{"$f":"IF(OR($I2580=\"\",$I2580=\"NSO\"),\"\",VLOOKUP($A2575,'Result Entry'!$B$9:$EQ$108,124,0))","v":""},{"$f":"IF(OR($I2580=\"\",$I2580=\"NSO\"),\"\",VLOOKUP($A2575,'Result Entry'!$B$9:$EQ$108,126,0))","v":""}]
[null,"◐",{"$nulls":6},"Total Meetings :-",null,{"$f":"IF(OR($I2580=\"\",$I2580=\"NSO\"),\"\",VLOOKUP($A2575,'Result Entry'!$B$9:$EQ$108,117,0))","v":0},"Attedance %"]
[null,"◐","Extra Subjects",{"$nulls":5},"Student's Meetings :-",null,{"$f":"IF(OR($I2580=\"\",$I2580=\"NSO\"),\"\",VLOOKUP($A2575,'Result Entry'!$B$9:$EQ$108,118,0))","v":0},{"$f":"IF(OR($I2580=\"\",$I2580=\"NSO\"),\"\",VLOOKUP($A2575,'Result Entry'!$B$9:$EQ$108,119,0))","v":""}]
[null,"◐","Subject",null,null,"Total Marks",null,"GRADE","Remark :-",null,{"$f":"IF(OR($I2580=\"\",$I2580=\"NSO\"),\"\",VLOOKUP($A2575,'Result Entry'!$B$9:$EQ$108,127,0))","v":0}]
[null,"◐",{"$f":"'Result Entry'!$CH$3","v":"WORK EXP."},null,null,{"$f":"IF(OR(C2602=\"\",$I2580=\"NSO\"),\"\",VLOOKUP($A2575,'Result Entry'!$B$9:$EQ$108,138,0))","v":"0/100"},null,{"$f":"IF(OR(C2602=\"\",$I2580=\"NSO\"),\"\",VLOOKUP($A2575,'Result Entry'!$B$9:$EQ$108,92,0))","v":""},"Result Date :-",null,{"$f":"'Result Entry'!$U$2","v":"2024-05-07"}]
[null,"◐",{"$f":"'Result Entry'!$CP$3","v":"ART EDU."},null,null,{"$f":"IF(OR(C2603=\"\",$I2580=\"NSO\"),\"\",VLOOKUP($A2575,'Result Entry'!$B$9:$EQ$108,142,0))","v":"0/100"},null,{"$f":"IF(OR(C2603=\"\",$I2580=\"NSO\"),\"\",VLOOKUP($A2575,'Result Entry'!$B$9:$EQ$108,100,0))","v":""}]
[null,null,{"$f":"'Result Entry'!$CX$3","v":"H&P. EDU."},null,null,{"$f":"IF(OR(C2604=\"\",$I2580=\"NSO\"),\"\",VLOOKUP($A2575,'Result Entry'!$B$9:$EQ$108,146,0))","v":"0/0"},null,{"$f":"IF(OR(C2604=\"\",$I2580=\"NSO\"),\"\",VLOOKUP($A2575,'Result Entry'!$B$9:$EQ$108,108,0))","v":""}]
[null,"◐",{"$f":"'Result Entry'!$DF$3","v":0},null,null,{"$f":"IF(OR(C2605=\"\",$I2580=\"NSO\"),\"\",VLOOKUP($A2575,'Result Entry'!$B$9:$EQ$108,131,0))","v":0},null,{"$f":"IF(OR(C2605=\"\",$I2580=\"NSO\"),\"\",VLOOKUP($A2575,'Result Entry'!$B$9:$EQ$108,97,0))","v":0},"Signature Of The Class Teacher"]
[null,"◐","Grading System"]
[null,"◐","Grd.","% Range",null,"Description"]
[null,"◐","A","86-100",null,"Excellent",null,null,"Signature And Seal Of Principal/H.M."]
[null,"◐","B","71-85",null,"Very Good"]
[null,"◐","C","51-70",null,"Good"]
[null,"◐","D","31-50",null,"Average"]
[null,"◐","E","0-30",null,"Needs Improvement",null,null,"Wish bright future"]
[]
[{"$f":"A2575+1","v":68},"Department Of Education, Rajasthan"]
[null,{"$f":"IF(I2619>0,CONCATENATE(C2619,I2619),0)","v":0},null,{"$f":"Master!$E$8","v":"Govt.Sr.Sec.Sch."}]
[{"$nulls":3},{"$f":"Master!$E$11","v":"P.S.-Bapini (Jodhpur)"}]
[null,null,"Report Card",{"$nulls":6},"U-DISE Code:-",null,{"$f":"Master!$E$14","v":{"v":810000000,"d":"0810000000"}}]
[{"$nulls":9},"Session:-",null,{"$f":"Master!$E$6","v":"2023-24"}]
[null,null,"Roll No.:-",{"$nulls":5},{"$f":"VLOOKUP($A2614,'Result Entry'!$B$9:$F$108,5,0)","v":0}]
[null,"◐","Scholar Number",{"$nulls":3},"↠",{"$f":"VLOOKUP($A2614,'Result Entry'!$B$9:$EQ$108,3,0)","v":0}]
[null,"◐","Student's Name",{"$nulls":3},"↠",{"$f":"VLOOKUP($A2614,'Result Entry'!$B$9:$EQ$108,6,0)","v":0}]
[null,"◐","Father's Name",{"$nulls":3},"↠",{"$f":"VLOOKUP($A2614,'Result Entry'!$B$9:$EQ$108,7,0)","v":0}]
[null,"◐","Mother's Name ",{"$nulls":3},"↠",{"$f":"VLOOKUP($A2614,'Result Entry'!$B$9:$EQ$108,8,0)","v":0}]
[null,"◐","Class & Section",{"$nulls":3},"↠",{"$f":"CONCATENATE('Result Entry'!$F$4,'Result Entry'!$I$4)","v":"2(A)"}]
[null,"◐","Date Of Birth",{"$nulls":3},"↠",{"$f":"VLOOKUP($A2614,'Result Entry'!$B$9:$EQ$108,9,0)","v":"00:00:00"}]
[null,"◐","Subject",null,{"$f":"'Result Entry'!$K$6","v":"First Test"},{"$f":"'Result Entry'!$L$6","v":"Second Test"},{"$f":"'Result Entry'!$M$6","v":"Third Test"},"Half Yearly","Total (Test+H.Y.)","Yearly","Grand Total",null,"Subject Grade"]
[null,"◐","Max. Marks",null,{"$f":"'Result Entry'!$K$7","v":10},{"$f":"'Result Entry'!$L$7","v":10},{"$f":"'Result Entry'!$M$7","v":10},{"$f":"'Result Entry'!$R$7","v":70},{"$f":"SUM(E2627:H2627)","v":100},{"$f":"'Result Entry'!$V$7","v":100},{"$f":"I2627+J2627","v":200},null,"A+/A/B/C/D"]
[null,"◐",{"$f":"'Result Entry'!$K$3","v":"Hindi"},null,{"$f":"IF(OR(C2628=\"\",$I2619=\"NSO\"),\"\",VLOOKUP($A2614,'Result Entry'!$B$9:$EQ$108,10,0))","v":0},{"$f":"IF(OR(C2628=\"\",$I2619=\"NSO\"),\"\",VLOOKUP($A2614,'Result Entry'!$B$9:$EQ$108,11,0))","v":0},{"$f":"IF(OR(C2628=\"\",$I2619=\"NSO\"),\"\",VLOOKUP($A2614,'Result Entry'!$B$9:$EQ$108,12,0))","v":0},{"$f":"IF(OR(C2628=\"\",$I2619=\"NSO\"),\"\",VLOOKUP($A2614,'Result Entry'!$B$9:$EQ$108,17,0))","v":0},{"$f":"SUM(E2628:H2628)","v":0},{"$f":"IF(OR(C2628=\"\",$I2619=\"NSO\"),\"\",VLOOKUP($A2614,'Result Entry'!$B$9:$EQ$108,21,0))","v":0},{"$f":"SUM(I2628,J2628)","v":0},null,{"$f":"IF(OR(C2628=\"\",$I2619=\"NSO\"),\"\",VLOOKUP($A2614,'Result Entry'!$B$9:$EQ$108,24,0))","v":""}]
[null,"◐",{"$f":"'Result Entry'!$Z$3","v":"Mathematics"},null,{"$f":"IF(OR(C2629=\"\",$I2619=\"NSO\"),\"\",VLOOKUP($A2614,'Result Entry'!$B$9:$EQ$108,25,0))","v":0},{"$f":"IF(OR(C2629=\"\",$I2619=\"NSO\"),\"\",VLOOKUP($A2614,'Result Entry'!$B$9:$EQ$108,26,0))","v":0},{"$f":"IF(OR(C2629=\"\",$I2619=\"NSO\"),\"\",VLOOKUP($A2614,'Result Entry'!$B$9:$EQ$108,27,0))","v":0},{"$f":"IF(OR(C2629=\"\",$I2619=\"NSO\"),\"\",VLOOKUP($A2614,'Result Entry'!$B$9:$EQ$108,32,0))","v":0},0,{"$f":"IF(OR(C2629=\"\",$I2619=\"NSO\"),\"\",VLOOKUP($A2614,'Result Entry'!$B$9:$EQ$108,36,0))","v":0},{"$f":"SUM(I2629,J2629)","v":0},null,{"$f":"IF(OR(C2629=\"\",$I2619=\"NSO\"),\"\",VLOOKUP($A2614,'Result Entry'!$B$9:$EQ$108,39,0))","v":""}]
[null,"◐",{"$f":"'Result Entry'!$BD$3","v":"Env. Study"},null,{"$f":"IF(OR(C2630=\"\",$I2619=\"NSO\"),\"\",VLOOKUP($A2614,'Result Entry'!$B$9:$EQ$108,55,0))","v":0},{"$f":"IF(OR(C2630=\"\",$I2619=\"NSO\"),\"\",VLOOKUP($A2614,'Result Entry'!$B$9:$EQ$108,56,0))","v":0},{"$f":"IF(OR(C2630=\"\",$I2619=\"NSO\"),\"\",VLOOKUP($A2614,'Result Entry'!$B$9:$EQ$108,57,0))","v":0},{"$f":"IF(OR(C2628=\"\",$I2619=\"NSO\"),\"\",VLOOKUP($A2614,'Result Entry'!$B$9:$EQ$108,62,0))","v":0},0,{"$f":"IF(OR(C2629=\"\",$I2619=\"NSO\"),\"\",VLOOKUP($A2614,'Result Entry'!$B$9:$EQ$108,66,0))","v":0},0,null,{"$f":"IF(OR(C2629=\"\",$I2619=\"NSO\"),\"\",VLOOKUP($A2614,'Result Entry'!$B$9:$EQ$108,69,0))","v":""}]
[null,"◐","Max. Marks",null,{"$f":"'Result Entry'!$AO$7","v":5},{"$f":"'Result Entry'!$AP$7","v":5},{"$f":"'Result Entry'!$AQ$7","v":5},{"$f":"'Result Entry'!$AV$7","v":35},50,{"$f":"'Result Entry'!$AZ$7","v":50},100,null,"A+/A/B/C/D"]
[null,"◐",{"$f":"'Result Entry'!$AO$3","v":"English"},null,{"$f":"IF(OR(C2632=\"\",$I2619=\"NSO\"),\"\",VLOOKUP($A2614,'Result Entry'!$B$9:$EQ$108,40,0))","v":0},{"$f":"IF(OR(C2632=\"\",$I2619=\"NSO\"),\"\",VLOOKUP($A2614,'Result Entry'!$B$9:$EQ$108,41,0))","v":0},{"$f":"IF(OR(C2632=\"\",$I2619=\"NSO\"),\"\",VLOOKUP($A2614,'Result Entry'!$B$9:$EQ$108,42,0))","v":0},{"$f":"IF(OR(C2632=\"\",$I2619=\"NSO\"),\"\",VLOOKUP($A2614,'Result Entry'!$B$9:$EQ$108,47,0))","v":0},0,{"$f":"IF(OR(C2632=\"\",$I2619=\"NSO\"),\"\",VLOOKUP($A2614,'Result Entry'!$B$9:$EQ$108,51,0))","v":0},0,null,{"$f":"IF(OR(C2632=\"\",$I2619=\"NSO\"),\"\",VLOOKUP($A2614,'Result Entry'!$B$9:$EQ$108,54,0))","v":""}]
[null,"◐","Max. Marks",null,{"$f":"'Result Entry'!$BS$7","v":10},{"$f":"'Result Entry'!$BT$7","v":10},{"$f":"'Result Entry'!$BU$7","v":10},{"$f":"'Result Entry'!$BZ$7","v":70},{"$f":"SUM(E2633:H2633)","v":100},{"$f":"'Result Entry'!$CD$7","v":100},200,null,"A+/A/B/C/D"]
[null,"◐",{"$f":"'Result Entry'!$BS$3","v":"Sanskrit/Urdu"},null,{"$f":"IF(OR(C2634=\"\",$I2619=\"NSO\"),\"\",VLOOKUP($A2614,'Result Entry'!$B$9:$EQ$108,70,0))","v":0},{"$f":"IF(OR(C2634=\"\",$I2619=\"NSO\"),\"\",VLOOKUP($A2614,'Result Entry'!$B$9:$EQ$108,71,0))","v":0},{"$f":"IF(OR(C2634=\"\",$I2619=\"NSO\"),\"\",VLOOKUP($A2614,'Result Entry'!$B$9:$EQ$108,72,0))","v":0},{"$f":"IF(OR(C2634=\"\",$I2619=\"NSO\"),\"\",VLOOKUP($A2614,'Result Entry'!$B$9:$EQ$108,77,0))","v":0},{"$f":"SUM(E2634:H2634)","v":0},{"$f":"IF(OR(C2634=\"\",$I2619=\"NSO\"),\"\",VLOOKUP($A2614,'Result Entry'!$B$9:$EQ$108,81,0))","v":0},0,null,{"$f":"IF(OR(C2634=\"\",$I2619=\"NSO\"),\"\",VLOOKUP($A2614,'Result Entry'!$B$9:$EQ$108,84,0))","v":""}]
[null,"◐"]
[null,"◐","Overall Result",null,null,"Total Max. Marks",null,"Total Obtained Marks",null,"Percentage","Overall Grade","Result","Position in Class"]
[null,"◐",{"$nulls":3},{"$f":"IF(OR($I2619=\"\",$I2619=\"NSO\"),\"\",VLOOKUP($A2614,'Result Entry'!$B$9:$EQ$108,120,0))","v":900},null,{"$f":"IF(OR($I2619=\"\",$I2619=\"NSO\"),\"\",VLOOKUP($A2614,'Result Entry'!$B$9:$EQ$108,121,0))","v":0},null,{"$f":"IF(OR($I2619=\"\",$I2619=\"NSO\"),\"\",VLOOKUP($A2614,'Result Entry'!$B$9:$EQ$108,122,0))","v":{"v":0,"d":"0.00"}},{"$f":"IF(OR($I2619=\"\",$I2619=\"NSO\"),\"\",VLOOKUP($A2614,'Result Entry'!$B$9:$EQ$108,123,0))","v":""},{"$f":"IF(OR($I2619=\"\",$I2619=\"NSO\"),\"\",VLOOKUP($A2614,'Result Entry'!$B$9:$EQ$108,124,0))","v":""},{"$f":"IF(OR($I2619=\"\",$I2619=\"NSO\"),\"\",VLOOKUP($A2614,'Result Entry'!$B$9:$EQ$108,126,0))","v":""}]
[null,"◐",{"$nulls":6},"Total Meetings :-",null,{"$f":"IF(OR($I2619=\"\",$I2619=\"NSO\"),\"\",VLOOKUP($A2614,'Result Entry'!$B$9:$EQ$108,117,0))","v":0},"Attedance %"]
[null,"◐","Extra Subjects",{"$nulls":5},"Student's Meetings :-",null,{"$f":"IF(OR($I2619=\"\",$I2619=\"NSO\"),\"\",VLOOKUP($A2614,'Result Entry'!$B$9:$EQ$108,118,0))","v":0},{"$f":"IF(OR($I2619=\"\",$I2619=\"NSO\"),\"\",VLOOKUP($A2614,'Result Entry'!$B$9:$EQ$108,119,0))","v":""}]
[null,"◐","Subject",null,null,"Total Marks",null,"GRADE","Remark :-",null,{"$f":"IF(OR($I2619=\"\",$I2619=\"NSO\"),\"\",VLOOKUP($A2614,'Result Entry'!$B$9:$EQ$108,127,0))","v":0}]
[null,"◐",{"$f":"'Result Entry'!$CH$3","v":"WORK EXP."},null,null,{"$f":"IF(OR(C2641=\"\",$I2619=\"NSO\"),\"\",VLOOKUP($A2614,'Result Entry'!$B$9:$EQ$108,138,0))","v":"0/100"},null,{"$f":"IF(OR(C2641=\"\",$I2619=\"NSO\"),\"\",VLOOKUP($A2614,'Result Entry'!$B$9:$EQ$108,92,0))","v":""},"Result Date :-",null,{"$f":"'Result Entry'!$U$2","v":"2024-05-07"}]
[null,"◐",{"$f":"'Result Entry'!$CP$3","v":"ART EDU."},null,null,{"$f":"IF(OR(C2642=\"\",$I2619=\"NSO\"),\"\",VLOOKUP($A2614,'Result Entry'!$B$9:$EQ$108,142,0))","v":"0/100"},null,{"$f":"IF(OR(C2642=\"\",$I2619=\"NSO\"),\"\",VLOOKUP($A2614,'Result Entry'!$B$9:$EQ$108,100,0))","v":""}]
[null,null,{"$f":"'Result Entry'!$CX$3","v":"H&P. EDU."},null,null,{"$f":"IF(OR(C2643=\"\",$I2619=\"NSO\"),\"\",VLOOKUP($A2614,'Result Entry'!$B$9:$EQ$108,146,0))","v":"0/0"},null,{"$f":"IF(OR(C2643=\"\",$I2619=\"NSO\"),\"\",VLOOKUP($A2614,'Result Entry'!$B$9:$EQ$108,108,0))","v":""}]
[null,"◐",{"$f":"'Result Entry'!$DF$3","v":0},null,null,{"$f":"IF(OR(C2644=\"\",$I2619=\"NSO\"),\"\",VLOOKUP($A2614,'Result Entry'!$B$9:$EQ$108,131,0))","v":0},null,{"$f":"IF(OR(C2644=\"\",$I2619=\"NSO\"),\"\",VLOOKUP($A2614,'Result Entry'!$B$9:$EQ$108,97,0))","v":0},"Signature Of The Class Teacher"]
[null,"◐","Grading System"]
[null,"◐","Grd.","% Range",null,"Description"]
[null,"◐","A","86-100",null,"Excellent",null,null,"Signature And Seal Of Principal/H.M."]
[null,"◐","B","71-85",null,"Very Good"]
[null,"◐","C","51-70",null,"Good"]
[null,"◐","D","31-50",null,"Average"]
[null,"◐","E","0-30",null,"Needs Improvement",null,null,"Wish bright future"]
[]
[{"$f":"A2614+1","v":69},"Department Of Education, Rajasthan"]
[null,{"$f":"IF(I2658>0,CONCATENATE(C2658,I2658),0)","v":0},null,{"$f":"Master!$E$8","v":"Govt.Sr.Sec.Sch."}]
[{"$nulls":3},{"$f":"Master!$E$11","v":"P.S.-Bapini (Jodhpur)"}]
[null,null,"Report Card",{"$nulls":6},"U-DISE Code:-",null,{"$f":"Master!$E$14","v":{"v":810000000,"d":"0810000000"}}]
[{"$nulls":9},"Session:-",null,{"$f":"Master!$E$6","v":"2023-24"}]
[null,null,"Roll No.:-",{"$nulls":5},{"$f":"VLOOKUP($A2653,'Result Entry'!$B$9:$F$108,5,0)","v":0}]
[null,"◐","Scholar Number",{"$nulls":3},"↠",{"$f":"VLOOKUP($A2653,'Result Entry'!$B$9:$EQ$108,3,0)","v":0}]
[null,"◐","Student's Name",{"$nulls":3},"↠",{"$f":"VLOOKUP($A2653,'Result Entry'!$B$9:$EQ$108,6,0)","v":0}]
[null,"◐","Father's Name",{"$nulls":3},"↠",{"$f":"VLOOKUP($A2653,'Result Entry'!$B$9:$EQ$108,7,0)","v":0}]
[null,"◐","Mother's Name ",{"$nulls":3},"↠",{"$f":"VLOOKUP($A2653,'Result Entry'!$B$9:$EQ$108,8,0)","v":0}]
[null,"◐","Class & Section",{"$nulls":3},"↠",{"$f":"CONCATENATE('Result Entry'!$F$4,'Result Entry'!$I$4)","v":"2(A)"}]
[null,"◐","Date Of Birth",{"$nulls":3},"↠",{"$f":"VLOOKUP($A2653,'Result Entry'!$B$9:$EQ$108,9,0)","v":"00:00:00"}]
[null,"◐","Subject",null,{"$f":"'Result Entry'!$K$6","v":"First Test"},{"$f":"'Result Entry'!$L$6","v":"Second Test"},{"$f":"'Result Entry'!$M$6","v":"Third Test"},"Half Yearly","Total (Test+H.Y.)","Yearly","Grand Total",null,"Subject Grade"]
[null,"◐","Max. Marks",null,{"$f":"'Result Entry'!$K$7","v":10},{"$f":"'Result Entry'!$L$7","v":10},{"$f":"'Result Entry'!$M$7","v":10},{"$f":"'Result Entry'!$R$7","v":70},{"$f":"SUM(E2666:H2666)","v":100},{"$f":"'Result Entry'!$V$7","v":100},{"$f":"I2666+J2666","v":200},null,"A+/A/B/C/D"]
[null,"◐",{"$f":"'Result Entry'!$K$3","v":"Hindi"},null,{"$f":"IF(OR(C2667=\"\",$I2658=\"NSO\"),\"\",VLOOKUP($A2653,'Result Entry'!$B$9:$EQ$108,10,0))","v":0},{"$f":"IF(OR(C2667=\"\",$I2658=\"NSO\"),\"\",VLOOKUP($A2653,'Result Entry'!$B$9:$EQ$108,11,0))","v":0},{"$f":"IF(OR(C2667=\"\",$I2658=\"NSO\"),\"\",VLOOKUP($A2653,'Result Entry'!$B$9:$EQ$108,12,0))","v":0},{"$f":"IF(OR(C2667=\"\",$I2658=\"NSO\"),\"\",VLOOKUP($A2653,'Result Entry'!$B$9:$EQ$108,17,0))","v":0},{"$f":"SUM(E2667:H2667)","v":0},{"$f":"IF(OR(C2667=\"\",$I2658=\"NSO\"),\"\",VLOOKUP($A2653,'Result Entry'!$B$9:$EQ$108,21,0))","v":0},{"$f":"SUM(I2667,J2667)","v":0},null,{"$f":"IF(OR(C2667=\"\",$I2658=\"NSO\"),\"\",VLOOKUP($A2653,'Result Entry'!$B$9:$EQ$108,24,0))","v":""}]
[null,"◐",{"$f":"'Result Entry'!$Z$3","v":"Mathematics"},null,{"$f":"IF(OR(C2668=\"\",$I2658=\"NSO\"),\"\",VLOOKUP($A2653,'Result Entry'!$B$9:$EQ$108,25,0))","v":0},{"$f":"IF(OR(C2668=\"\",$I2658=\"NSO\"),\"\",VLOOKUP($A2653,'Result Entry'!$B$9:$EQ$108,26,0))","v":0},{"$f":"IF(OR(C2668=\"\",$I2658=\"NSO\"),\"\",VLOOKUP($A2653,'Result Entry'!$B$9:$EQ$108,27,0))","v":0},{"$f":"IF(OR(C2668=\"\",$I2658=\"NSO\"),\"\",VLOOKUP($A2653,'Result Entry'!$B$9:$EQ$108,32,0))","v":0},0,{"$f":"IF(OR(C2668=\"\",$I2658=\"NSO\"),\"\",VLOOKUP($A2653,'Result Entry'!$B$9:$EQ$108,36,0))","v":0},{"$f":"SUM(I2668,J2668)","v":0},null,{"$f":"IF(OR(C2668=\"\",$I2658=\"NSO\"),\"\",VLOOKUP($A2653,'Result Entry'!$B$9:$EQ$108,39,0))","v":""}]
[null,"◐",{"$f":"'Result Entry'!$BD$3","v":"Env. Study"},null,{"$f":"IF(OR(C2669=\"\",$I2658=\"NSO\"),\"\",VLOOKUP($A2653,'Result Entry'!$B$9:$EQ$108,55,0))","v":0},{"$f":"IF(OR(C2669=\"\",$I2658=\"NSO\"),\"\",VLOOKUP($A2653,'Result Entry'!$B$9:$EQ$108,56,0))","v":0},{"$f":"IF(OR(C2669=\"\",$I2658=\"NSO\"),\"\",VLOOKUP($A2653,'Result Entry'!$B$9:$EQ$108,57,0))","v":0},{"$f":"IF(OR(C2667=\"\",$I2658=\"NSO\"),\"\",VLOOKUP($A2653,'Result Entry'!$B$9:$EQ$108,62,0))","v":0},0,{"$f":"IF(OR(C2668=\"\",$I2658=\"NSO\"),\"\",VLOOKUP($A2653,'Result Entry'!$B$9:$EQ$108,66,0))","v":0},0,null,{"$f":"IF(OR(C2668=\"\",$I2658=\"NSO\"),\"\",VLOOKUP($A2653,'Result Entry'!$B$9:$EQ$108,69,0))","v":""}]
[null,"◐","Max. Marks",null,{"$f":"'Result Entry'!$AO$7","v":5},{"$f":"'Result Entry'!$AP$7","v":5},{"$f":"'Result Entry'!$AQ$7","v":5},{"$f":"'Result Entry'!$AV$7","v":35},50,{"$f":"'Result Entry'!$AZ$7","v":50},100,null,"A+/A/B/C/D"]
[null,"◐",{"$f":"'Result Entry'!$AO$3","v":"English"},null,{"$f":"IF(OR(C2671=\"\",$I2658=\"NSO\"),\"\",VLOOKUP($A2653,'Result Entry'!$B$9:$EQ$108,40,0))","v":0},{"$f":"IF(OR(C2671=\"\",$I2658=\"NSO\"),\"\",VLOOKUP($A2653,'Result Entry'!$B$9:$EQ$108,41,0))","v":0},{"$f":"IF(OR(C2671=\"\",$I2658=\"NSO\"),\"\",VLOOKUP($A2653,'Result Entry'!$B$9:$EQ$108,42,0))","v":0},{"$f":"IF(OR(C2671=\"\",$I2658=\"NSO\"),\"\",VLOOKUP($A2653,'Result Entry'!$B$9:$EQ$108,47,0))","v":0},0,{"$f":"IF(OR(C2671=\"\",$I2658=\"NSO\"),\"\",VLOOKUP($A2653,'Result Entry'!$B$9:$EQ$108,51,0))","v":0},0,null,{"$f":"IF(OR(C2671=\"\",$I2658=\"NSO\"),\"\",VLOOKUP($A2653,'Result Entry'!$B$9:$EQ$108,54,0))","v":""}]
[null,"◐","Max. Marks",null,{"$f":"'Result Entry'!$BS$7","v":10},{"$f":"'Result Entry'!$BT$7","v":10},{"$f":"'Result Entry'!$BU$7","v":10},{"$f":"'Result Entry'!$BZ$7","v":70},{"$f":"SUM(E2672:H2672)","v":100},{"$f":"'Result Entry'!$CD$7","v":100},200,null,"A+/A/B/C/D"]
[null,"◐",{"$f":"'Result Entry'!$BS$3","v":"Sanskrit/Urdu"},null,{"$f":"IF(OR(C2673=\"\",$I2658=\"NSO\"),\"\",VLOOKUP($A2653,'Result Entry'!$B$9:$EQ$108,70,0))","v":0},{"$f":"IF(OR(C2673=\"\",$I2658=\"NSO\"),\"\",VLOOKUP($A2653,'Result Entry'!$B$9:$EQ$108,71,0))","v":0},{"$f":"IF(OR(C2673=\"\",$I2658=\"NSO\"),\"\",VLOOKUP($A2653,'Result Entry'!$B$9:$EQ$108,72,0))","v":0},{"$f":"IF(OR(C2673=\"\",$I2658=\"NSO\"),\"\",VLOOKUP($A2653,'Result Entry'!$B$9:$EQ$108,77,0))","v":0},{"$f":"SUM(E2673:H2673)","v":0},{"$f":"IF(OR(C2673=\"\",$I2658=\"NSO\"),\"\",VLOOKUP($A2653,'Result Entry'!$B$9:$EQ$108,81,0))","v":0},0,null,{"$f":"IF(OR(C2673=\"\",$I2658=\"NSO\"),\"\",VLOOKUP($A2653,'Result Entry'!$B$9:$EQ$108,84,0))","v":""}]
[null,"◐"]
[null,"◐","Overall Result",null,null,"Total Max. Marks",null,"Total Obtained Marks",null,"Percentage","Overall Grade","Result","Position in Class"]
[null,"◐",{"$nulls":3},{"$f":"IF(OR($I2658=\"\",$I2658=\"NSO\"),\"\",VLOOKUP($A2653,'Result Entry'!$B$9:$EQ$108,120,0))","v":900},null,{"$f":"IF(OR($I2658=\"\",$I2658=\"NSO\"),\"\",VLOOKUP($A2653,'Result Entry'!$B$9:$EQ$108,121,0))","v":0},null,{"$f":"IF(OR($I2658=\"\",$I2658=\"NSO\"),\"\",VLOOKUP($A2653,'Result Entry'!$B$9:$EQ$108,122,0))","v":{"v":0,"d":"0.00"}},{"$f":"IF(OR($I2658=\"\",$I2658=\"NSO\"),\"\",VLOOKUP($A2653,'Result Entry'!$B$9:$EQ$108,123,0))","v":""},{"$f":"IF(OR($I2658=\"\",$I2658=\"NSO\"),\"\",VLOOKUP($A2653,'Result Entry'!$B$9:$EQ$108,124,0))","v":""},{"$f":"IF(OR($I2658=\"\",$I2658=\"NSO\"),\"\",VLOOKUP($A2653,'Result Entry'!$B$9:$EQ$108,126,0))","v":""}]
[null,"◐",{"$nulls":6},"Total Meetings :-",null,{"$f":"IF(OR($I2658=\"\",$I2658=\"NSO\"),\"\",VLOOKUP($A2653,'Result Entry'!$B$9:$EQ$108,117,0))","v":0},"Attedance %"]
[null,"◐","Extra Subjects",{"$nulls":5},"Student's Meetings :-",null,{"$f":"IF(OR($I2658=\"\",$I2658=\"NSO\"),\"\",VLOOKUP($A2653,'Result Entry'!$B$9:$EQ$108,118,0))","v":0},{"$f":"IF(OR($I2658=\"\",$I2658=\"NSO\"),\"\",VLOOKUP($A2653,'Result Entry'!$B$9:$EQ$108,119,0))","v":""}]
[null,"◐","Subject",null,null,"Total Marks",null,"GRADE","Remark :-",null,{"$f":"IF(OR($I2658=\"\",$I2658=\"NSO\"),\"\",VLOOKUP($A2653,'Result Entry'!$B$9:$EQ$108,127,0))","v":0}]
[null,"◐",{"$f":"'Result Entry'!$CH$3","v":"WORK EXP."},null,null,{"$f":"IF(OR(C2680=\"\",$I2658=\"NSO\"),\"\",VLOOKUP($A2653,'Result Entry'!$B$9:$EQ$108,138,0))","v":"0/100"},null,{"$f":"IF(OR(C2680=\"\",$I2658=\"NSO\"),\"\",VLOOKUP($A2653,'Result Entry'!$B$9:$EQ$108,92,0))","v":""},"Result Date :-",null,{"$f":"'Result Entry'!$U$2","v":"2024-05-07"}]
[null,"◐",{"$f":"'Result Entry'!$CP$3","v":"ART EDU."},null,null,{"$f":"IF(OR(C2681=\"\",$I2658=\"NSO\"),\"\",VLOOKUP($A2653,'Result Entry'!$B$9:$EQ$108,142,0))","v":"0/100"},null,{"$f":"IF(OR(C2681=\"\",$I2658=\"NSO\"),\"\",VLOOKUP($A2653,'Result Entry'!$B$9:$EQ$108,100,0))","v":""}]
[null,null,{"$f":"'Result Entry'!$CX$3","v":"H&P. EDU."},null,null,{"$f":"IF(OR(C2682=\"\",$I2658=\"NSO\"),\"\",VLOOKUP($A2653,'Result Entry'!$B$9:$EQ$108,146,0))","v":"0/0"},null,{"$f":"IF(OR(C2682=\"\",$I2658=\"NSO\"),\"\",VLOOKUP($A2653,'Result Entry'!$B$9:$EQ$108,108,0))","v":""}]
[null,"◐",{"$f":"'Result Entry'!$DF$3","v":0},null,null,{"$f":"IF(OR(C2683=\"\",$I2658=\"NSO\"),\"\",VLOOKUP($A2653,'Result Entry'!$B$9:$EQ$108,131,0))","v":0},null,{"$f":"IF(OR(C2683=\"\",$I2658=\"NSO\"),\"\",VLOOKUP($A2653,'Result Entry'!$B$9:$EQ$108,97,0))","v":0},"Signature Of The Class Teacher"]
[null,"◐","Grading System"]
[null,"◐","Grd.","% Range",null,"Description"]
[null,"◐","A","86-100",null,"Excellent",null,null,"Signature And Seal Of Principal/H.M."]
[null,"◐","B","71-85",null,"Very Good"]
[null,"◐","C","51-70",null,"Good"]
[null,"◐","D","31-50",null,"Average"]
[null,"◐","E","0-30",null,"Needs Improvement",null,null,"Wish bright future"]
[]
[{"$f":"A2653+1","v":70},"Department Of Education, Rajasthan"]
[null,{"$f":"IF(I2697>0,CONCATENATE(C2697,I2697),0)","v":0},null,{"$f":"Master!$E$8","v":"Govt.Sr.Sec.Sch."}]
[{"$nulls":3},{"$f":"Master!$E$11","v":"P.S.-Bapini (Jodhpur)"}]
[null,null,"Report Card",{"$nulls":6},"U-DISE Code:-",null,{"$f":"Master!$E$14","v":{"v":810000000,"d":"0810000000"}}]
[{"$nulls":9},"Session:-",null,{"$f":"Master!$E$6","v":"2023-24"}]
[null,null,"Roll No.:-",{"$nulls":5},{"$f":"VLOOKUP($A2692,'Result Entry'!$B$9:$F$108,5,0)","v":0}]
[null,"◐","Scholar Number",{"$nulls":3},"↠",{"$f":"VLOOKUP($A2692,'Result Entry'!$B$9:$EQ$108,3,0)","v":0}]
[null,"◐","Student's Name",{"$nulls":3},"↠",{"$f":"VLOOKUP($A2692,'Result Entry'!$B$9:$EQ$108,6,0)","v":0}]
[null,"◐","Father's Name",{"$nulls":3},"↠",{"$f":"VLOOKUP($A2692,'Result Entry'!$B$9:$EQ$108,7,0)","v":0}]
[null,"◐","Mother's Name ",{"$nulls":3},"↠",{"$f":"VLOOKUP($A2692,'Result Entry'!$B$9:$EQ$108,8,0)","v":0}]
[null,"◐","Class & Section",{"$nulls":3},"↠",{"$f":"CONCATENATE('Result Entry'!$F$4,'Result Entry'!$I$4)","v":"2(A)"}]
[null,"◐","Date Of Birth",{"$nulls":3},"↠",{"$f":"VLOOKUP($A2692,'Result Entry'!$B$9:$EQ$108,9,0)","v":"00:00:00"}]
[null,"◐","Subject",null,{"$f":"'Result Entry'!$K$6","v":"First Test"},{"$f":"'Result Entry'!$L$6","v":"Second Test"},{"$f":"'Result Entry'!$M$6","v":"Third Test"},"Half Yearly","Total (Test+H.Y.)","Yearly","Grand Total",null,"Subject Grade"]
[null,"◐","Max. Marks",null,{"$f":"'Result Entry'!$K$7","v":10},{"$f":"'Result Entry'!$L$7","v":10},{"$f":"'Result Entry'!$M$7","v":10},{"$f":"'Result Entry'!$R$7","v":70},{"$f":"SUM(E2705:H2705)","v":100},{"$f":"'Result Entry'!$V$7","v":100},{"$f":"I2705+J2705","v":200},null,"A+/A/B/C/D"]
[null,"◐",{"$f":"'Result Entry'!$K$3","v":"Hindi"},null,{"$f":"IF(OR(C2706=\"\",$I2697=\"NSO\"),\"\",VLOOKUP($A2692,'Result Entry'!$B$9:$EQ$108,10,0))","v":0},{"$f":"IF(OR(C2706=\"\",$I2697=\"NSO\"),\"\",VLOOKUP($A2692,'Result Entry'!$B$9:$EQ$108,11,0))","v":0},{"$f":"IF(OR(C2706=\"\",$I2697=\"NSO\"),\"\",VLOOKUP($A2692,'Result Entry'!$B$9:$EQ$108,12,0))","v":0},{"$f":"IF(OR(C2706=\"\",$I2697=\"NSO\"),\"\",VLOOKUP($A2692,'Result Entry'!$B$9:$EQ$108,17,0))","v":0},{"$f":"SUM(E2706:H2706)","v":0},{"$f":"IF(OR(C2706=\"\",$I2697=\"NSO\"),\"\",VLOOKUP($A2692,'Result Entry'!$B$9:$EQ$108,21,0))","v":0},{"$f":"SUM(I2706,J2706)","v":0},null,{"$f":"IF(OR(C2706=\"\",$I2697=\"NSO\"),\"\",VLOOKUP($A2692,'Result Entry'!$B$9:$EQ$108,24,0))","v":""}]
[null,"◐",{"$f":"'Result Entry'!$Z$3","v":"Mathematics"},null,{"$f":"IF(OR(C2707=\"\",$I2697=\"NSO\"),\"\",VLOOKUP($A2692,'Result Entry'!$B$9:$EQ$108,25,0))","v":0},{"$f":"IF(OR(C2707=\"\",$I2697=\"NSO\"),\"\",VLOOKUP($A2692,'Result Entry'!$B$9:$EQ$108,26,0))","v":0},{"$f":"IF(OR(C2707=\"\",$I2697=\"NSO\"),\"\",VLOOKUP($A2692,'Result Entry'!$B$9:$EQ$108,27,0))","v":0},{"$f":"IF(OR(C2707=\"\",$I2697=\"NSO\"),\"\",VLOOKUP($A2692,'Result Entry'!$B$9:$EQ$108,32,0))","v":0},0,{"$f":"IF(OR(C2707=\"\",$I2697=\"NSO\"),\"\",VLOOKUP($A2692,'Result Entry'!$B$9:$EQ$108,36,0))","v":0},{"$f":"SUM(I2707,J2707)","v":0},null,{"$f":"IF(OR(C2707=\"\",$I2697=\"NSO\"),\"\",VLOOKUP($A2692,'Result Entry'!$B$9:$EQ$108,39,0))","v":""}]
[null,"◐",{"$f":"'Result Entry'!$BD$3","v":"Env. Study"},null,{"$f":"IF(OR(C2708=\"\",$I2697=\"NSO\"),\"\",VLOOKUP($A2692,'Result Entry'!$B$9:$EQ$108,55,0))","v":0},{"$f":"IF(OR(C2708=\"\",$I2697=\"NSO\"),\"\",VLOOKUP($A2692,'Result Entry'!$B$9:$EQ$108,56,0))","v":0},{"$f":"IF(OR(C2708=\"\",$I2697=\"NSO\"),\"\",VLOOKUP($A2692,'Result Entry'!$B$9:$EQ$108,57,0))","v":0},{"$f":"IF(OR(C2706=\"\",$I2697=\"NSO\"),\"\",VLOOKUP($A2692,'Result Entry'!$B$9:$EQ$108,62,0))","v":0},0,{"$f":"IF(OR(C2707=\"\",$I2697=\"NSO\"),\"\",VLOOKUP($A2692,'Result Entry'!$B$9:$EQ$108,66,0))","v":0},0,null,{"$f":"IF(OR(C2707=\"\",$I2697=\"NSO\"),\"\",VLOOKUP($A2692,'Result Entry'!$B$9:$EQ$108,69,0))","v":""}]
[null,"◐","Max. Marks",null,{"$f":"'Result Entry'!$AO$7","v":5},{"$f":"'Result Entry'!$AP$7","v":5},{"$f":"'Result Entry'!$AQ$7","v":5},{"$f":"'Result Entry'!$AV$7","v":35},50,{"$f":"'Result Entry'!$AZ$7","v":50},100,null,"A+/A/B/C/D"]
[null,"◐",{"$f":"'Result Entry'!$AO$3","v":"English"},null,{"$f":"IF(OR(C2710=\"\",$I2697=\"NSO\"),\"\",VLOOKUP($A2692,'Result Entry'!$B$9:$EQ$108,40,0))","v":0},{"$f":"IF(OR(C2710=\"\",$I2697=\"NSO\"),\"\",VLOOKUP($A2692,'Result Entry'!$B$9:$EQ$108,41,0))","v":0},{"$f":"IF(OR(C2710=\"\",$I2697=\"NSO\"),\"\",VLOOKUP($A2692,'Result Entry'!$B$9:$EQ$108,42,0))","v":0},{"$f":"IF(OR(C2710=\"\",$I2697=\"NSO\"),\"\",VLOOKUP($A2692,'Result Entry'!$B$9:$EQ$108,47,0))","v":0},0,{"$f":"IF(OR(C2710=\"\",$I2697=\"NSO\"),\"\",VLOOKUP($A2692,'Result Entry'!$B$9:$EQ$108,51,0))","v":0},0,null,{"$f":"IF(OR(C2710=\"\",$I2697=\"NSO\"),\"\",VLOOKUP($A2692,'Result Entry'!$B$9:$EQ$108,54,0))","v":""}]
[null,"◐","Max. Marks",null,{"$f":"'Result Entry'!$BS$7","v":10},{"$f":"'Result Entry'!$BT$7","v":10},{"$f":"'Result Entry'!$BU$7","v":10},{"$f":"'Result Entry'!$BZ$7","v":70},{"$f":"SUM(E2711:H2711)","v":100},{"$f":"'Result Entry'!$CD$7","v":100},200,null,"A+/A/B/C/D"]
[null,"◐",{"$f":"'Result Entry'!$BS$3","v":"Sanskrit/Urdu"},null,{"$f":"IF(OR(C2712=\"\",$I2697=\"NSO\"),\"\",VLOOKUP($A2692,'Result Entry'!$B$9:$EQ$108,70,0))","v":0},{"$f":"IF(OR(C2712=\"\",$I2697=\"NSO\"),\"\",VLOOKUP($A2692,'Result Entry'!$B$9:$EQ$108,71,0))","v":0},{"$f":"IF(OR(C2712=\"\",$I2697=\"NSO\"),\"\",VLOOKUP($A2692,'Result Entry'!$B$9:$EQ$108,72,0))","v":0},{"$f":"IF(OR(C2712=\"\",$I2697=\"NSO\"),\"\",VLOOKUP($A2692,'Result Entry'!$B$9:$EQ$108,77,0))","v":0},{"$f":"SUM(E2712:H2712)","v":0},{"$f":"IF(OR(C2712=\"\",$I2697=\"NSO\"),\"\",VLOOKUP($A2692,'Result Entry'!$B$9:$EQ$108,81,0))","v":0},0,null,{"$f":"IF(OR(C2712=\"\",$I2697=\"NSO\"),\"\",VLOOKUP($A2692,'Result Entry'!$B$9:$EQ$108,84,0))","v":""}]
[null,"◐"]
[null,"◐","Overall Result",null,null,"Total Max. Marks",null,"Total Obtained Marks",null,"Percentage","Overall Grade","Result","Position in Class"]
[null,"◐",{"$nulls":3},{"$f":"IF(OR($I2697=\"\",$I2697=\"NSO\"),\"\",VLOOKUP($A2692,'Result Entry'!$B$9:$EQ$108,120,0))","v":900},null,{"$f":"IF(OR($I2697=\"\",$I2697=\"NSO\"),\"\",VLOOKUP($A2692,'Result Entry'!$B$9:$EQ$108,121,0))","v":0},null,{"$f":"IF(OR($I2697=\"\",$I2697=\"NSO\"),\"\",VLOOKUP($A2692,'Result Entry'!$B$9:$EQ$108,122,0))","v":{"v":0,"d":"0.00"}},{"$f":"IF(OR($I2697=\"\",$I2697=\"NSO\"),\"\",VLOOKUP($A2692,'Result Entry'!$B$9:$EQ$108,123,0))","v":""},{"$f":"IF(OR($I2697=\"\",$I2697=\"NSO\"),\"\",VLOOKUP($A2692,'Result Entry'!$B$9:$EQ$108,124,0))","v":""},{"$f":"IF(OR($I2697=\"\",$I2697=\"NSO\"),\"\",VLOOKUP($A2692,'Result Entry'!$B$9:$EQ$108,126,0))","v":""}]
[null,"◐",{"$nulls":6},"Total Meetings :-",null,{"$f":"IF(OR($I2697=\"\",$I2697=\"NSO\"),\"\",VLOOKUP($A2692,'Result Entry'!$B$9:$EQ$108,117,0))","v":0},"Attedance %"]
[null,"◐","Extra Subjects",{"$nulls":5},"Student's Meetings :-",null,{"$f":"IF(OR($I2697=\"\",$I2697=\"NSO\"),\"\",VLOOKUP($A2692,'Result Entry'!$B$9:$EQ$108,118,0))","v":0},{"$f":"IF(OR($I2697=\"\",$I2697=\"NSO\"),\"\",VLOOKUP($A2692,'Result Entry'!$B$9:$EQ$108,119,0))","v":""}]
[null,"◐","Subject",null,null,"Total Marks",null,"GRADE","Remark :-",null,{"$f":"IF(OR($I2697=\"\",$I2697=\"NSO\"),\"\",VLOOKUP($A2692,'Result Entry'!$B$9:$EQ$108,127,0))","v":0}]
[null,"◐",{"$f":"'Result Entry'!$CH$3","v":"WORK EXP."},null,null,{"$f":"IF(OR(C2719=\"\",$I2697=\"NSO\"),\"\",VLOOKUP($A2692,'Result Entry'!$B$9:$EQ$108,138,0))","v":"0/100"},null,{"$f":"IF(OR(C2719=\"\",$I2697=\"NSO\"),\"\",VLOOKUP($A2692,'Result Entry'!$B$9:$EQ$108,92,0))","v":""},"Result Date :-",null,{"$f":"'Result Entry'!$U$2","v":"2024-05-07"}]
[null,"◐",{"$f":"'Result Entry'!$CP$3","v":"ART EDU."},null,null,{"$f":"IF(OR(C2720=\"\",$I2697=\"NSO\"),\"\",VLOOKUP($A2692,'Result Entry'!$B$9:$EQ$108,142,0))","v":"0/100"},null,{"$f":"IF(OR(C2720=\"\",$I2697=\"NSO\"),\"\",VLOOKUP($A2692,'Result Entry'!$B$9:$EQ$108,100,0))","v":""}]
[null,null,{"$f":"'Result Entry'!$CX$3","v":"H&P. EDU."},null,null,{"$f":"IF(OR(C2721=\"\",$I2697=\"NSO\"),\"\",VLOOKUP($A2692,'Result Entry'!$B$9:$EQ$108,146,0))","v":"0/0"},null,{"$f":"IF(OR(C2721=\"\",$I2697=\"NSO\"),\"\",VLOOKUP($A2692,'Result Entry'!$B$9:$EQ$108,108,0))","v":""}]
[null,"◐",{"$f":"'Result Entry'!$DF$3","v":0},null,null,{"$f":"IF(OR(C2722=\"\",$I2697=\"NSO\"),\"\",VLOOKUP($A2692,'Result Entry'!$B$9:$EQ$108,131,0))","v":0},null,{"$f":"IF(OR(C2722=\"\",$I2697=\"NSO\"),\"\",VLOOKUP($A2692,'Result Entry'!$B$9:$EQ$108,97,0))","v":0},"Signature Of The Class Teacher"]
[null,"◐","Grading System"]
[null,"◐","Grd.","% Range",null,"Description"]
[null,"◐","A","86-100",null,"Excellent",null,null,"Signature And Seal Of Principal/H.M."]
[null,"◐","B","71-85",null,"Very Good"]
[null,"◐","C","51-70",null,"Good"]
[null,"◐","D","31-50",null,"Average"]
[null,"◐","E","0-30",null,"Needs Improvement",null,null,"Wish bright future"]
[]
[{"$f":"A2692+1","v":71},"Department Of Education, Rajasthan"]
[null,{"$f":"IF(I2736>0,CONCATENATE(C2736,I2736),0)","v":0},null,{"$f":"Master!$E$8","v":"Govt.Sr.Sec.Sch."}]
[{"$nulls":3},{"$f":"Master!$E$11","v":"P.S.-Bapini (Jodhpur)"}]
[null,null,"Report Card",{"$nulls":6},"U-DISE Code:-",null,{"$f":"Master!$E$14","v":{"v":810000000,"d":"0810000000"}}]
[{"$nulls":9},"Session:-",null,{"$f":"Master!$E$6","v":"2023-24"}]
[null,null,"Roll No.:-",{"$nulls":5},{"$f":"VLOOKUP($A2731,'Result Entry'!$B$9:$F$108,5,0)","v":0}]
[null,"◐","Scholar Number",{"$nulls":3},"↠",{"$f":"VLOOKUP($A2731,'Result Entry'!$B$9:$EQ$108,3,0)","v":0}]
[null,"◐","Student's Name",{"$nulls":3},"↠",{"$f":"VLOOKUP($A2731,'Result Entry'!$B$9:$EQ$108,6,0)","v":0}]
[null,"◐","Father's Name",{"$nulls":3},"↠",{"$f":"VLOOKUP($A2731,'Result Entry'!$B$9:$EQ$108,7,0)","v":0}]
[null,"◐","Mother's Name ",{"$nulls":3},"↠",{"$f":"VLOOKUP($A2731,'Result Entry'!$B$9:$EQ$108,8,0)","v":0}]
[null,"◐","Class & Section",{"$nulls":3},"↠",{"$f":"CONCATENATE('Result Entry'!$F$4,'Result Entry'!$I$4)","v":"2(A)"}]
[null,"◐","Date Of Birth",{"$nulls":3},"↠",{"$f":"VLOOKUP($A2731,'Result Entry'!$B$9:$EQ$108,9,0)","v":"00:00:00"}]
[null,"◐","Subject",null,{"$f":"'Result Entry'!$K$6","v":"First Test"},{"$f":"'Result Entry'!$L$6","v":"Second Test"},{"$f":"'Result Entry'!$M$6","v":"Third Test"},"Half Yearly","Total (Test+H.Y.)","Yearly","Grand Total",null,"Subject Grade"]
[null,"◐","Max. Marks",null,{"$f":"'Result Entry'!$K$7","v":10},{"$f":"'Result Entry'!$L$7","v":10},{"$f":"'Result Entry'!$M$7","v":10},{"$f":"'Result Entry'!$R$7","v":70},{"$f":"SUM(E2744:H2744)","v":100},{"$f":"'Result Entry'!$V$7","v":100},{"$f":"I2744+J2744","v":200},null,"A+/A/B/C/D"]
[null,"◐",{"$f":"'Result Entry'!$K$3","v":"Hindi"},null,{"$f":"IF(OR(C2745=\"\",$I2736=\"NSO\"),\"\",VLOOKUP($A2731,'Result Entry'!$B$9:$EQ$108,10,0))","v":0},{"$f":"IF(OR(C2745=\"\",$I2736=\"NSO\"),\"\",VLOOKUP($A2731,'Result Entry'!$B$9:$EQ$108,11,0))","v":0},{"$f":"IF(OR(C2745=\"\",$I2736=\"NSO\"),\"\",VLOOKUP($A2731,'Result Entry'!$B$9:$EQ$108,12,0))","v":0},{"$f":"IF(OR(C2745=\"\",$I2736=\"NSO\"),\"\",VLOOKUP($A2731,'Result Entry'!$B$9:$EQ$108,17,0))","v":0},{"$f":"SUM(E2745:H2745)","v":0},{"$f":"IF(OR(C2745=\"\",$I2736=\"NSO\"),\"\",VLOOKUP($A2731,'Result Entry'!$B$9:$EQ$108,21,0))","v":0},{"$f":"SUM(I2745,J2745)","v":0},null,{"$f":"IF(OR(C2745=\"\",$I2736=\"NSO\"),\"\",VLOOKUP($A2731,'Result Entry'!$B$9:$EQ$108,24,0))","v":""}]
[null,"◐",{"$f":"'Result Entry'!$Z$3","v":"Mathematics"},null,{"$f":"IF(OR(C2746=\"\",$I2736=\"NSO\"),\"\",VLOOKUP($A2731,'Result Entry'!$B$9:$EQ$108,25,0))","v":0},{"$f":"IF(OR(C2746=\"\",$I2736=\"NSO\"),\"\",VLOOKUP($A2731,'Result Entry'!$B$9:$EQ$108,26,0))","v":0},{"$f":"IF(OR(C2746=\"\",$I2736=\"NSO\"),\"\",VLOOKUP($A2731,'Result Entry'!$B$9:$EQ$108,27,0))","v":0},{"$f":"IF(OR(C2746=\"\",$I2736=\"NSO\"),\"\",VLOOKUP($A2731,'Result Entry'!$B$9:$EQ$108,32,0))","v":0},0,{"$f":"IF(OR(C2746=\"\",$I2736=\"NSO\"),\"\",VLOOKUP($A2731,'Result Entry'!$B$9:$EQ$108,36,0))","v":0},{"$f":"SUM(I2746,J2746)","v":0},null,{"$f":"IF(OR(C2746=\"\",$I2736=\"NSO\"),\"\",VLOOKUP($A2731,'Result Entry'!$B$9:$EQ$108,39,0))","v":""}]
[null,"◐",{"$f":"'Result Entry'!$BD$3","v":"Env. Study"},null,{"$f":"IF(OR(C2747=\"\",$I2736=\"NSO\"),\"\",VLOOKUP($A2731,'Result Entry'!$B$9:$EQ$108,55,0))","v":0},{"$f":"IF(OR(C2747=\"\",$I2736=\"NSO\"),\"\",VLOOKUP($A2731,'Result Entry'!$B$9:$EQ$108,56,0))","v":0},{"$f":"IF(OR(C2747=\"\",$I2736=\"NSO\"),\"\",VLOOKUP($A2731,'Result Entry'!$B$9:$EQ$108,57,0))","v":0},{"$f":"IF(OR(C2745=\"\",$I2736=\"NSO\"),\"\",VLOOKUP($A2731,'Result Entry'!$B$9:$EQ$108,62,0))","v":0},0,{"$f":"IF(OR(C2746=\"\",$I2736=\"NSO\"),\"\",VLOOKUP($A2731,'Result Entry'!$B$9:$EQ$108,66,0))","v":0},0,null,{"$f":"IF(OR(C2746=\"\",$I2736=\"NSO\"),\"\",VLOOKUP($A2731,'Result Entry'!$B$9:$EQ$108,69,0))","v":""}]
[null,"◐","Max. Marks",null,{"$f":"'Result Entry'!$AO$7","v":5},{"$f":"'Result Entry'!$AP$7","v":5},{"$f":"'Result Entry'!$AQ$7","v":5},{"$f":"'Result Entry'!$AV$7","v":35},50,{"$f":"'Result Entry'!$AZ$7","v":50},100,null,"A+/A/B/C/D"]
[null,"◐",{"$f":"'Result Entry'!$AO$3","v":"English"},null,{"$f":"IF(OR(C2749=\"\",$I2736=\"NSO\"),\"\",VLOOKUP($A2731,'Result Entry'!$B$9:$EQ$108,40,0))","v":0},{"$f":"IF(OR(C2749=\"\",$I2736=\"NSO\"),\"\",VLOOKUP($A2731,'Result Entry'!$B$9:$EQ$108,41,0))","v":0},{"$f":"IF(OR(C2749=\"\",$I2736=\"NSO\"),\"\",VLOOKUP($A2731,'Result Entry'!$B$9:$EQ$108,42,0))","v":0},{"$f":"IF(OR(C2749=\"\",$I2736=\"NSO\"),\"\",VLOOKUP($A2731,'Result Entry'!$B$9:$EQ$108,47,0))","v":0},0,{"$f":"IF(OR(C2749=\"\",$I2736=\"NSO\"),\"\",VLOOKUP($A2731,'Result Entry'!$B$9:$EQ$108,51,0))","v":0},0,null,{"$f":"IF(OR(C2749=\"\",$I2736=\"NSO\"),\"\",VLOOKUP($A2731,'Result Entry'!$B$9:$EQ$108,54,0))","v":""}]
[null,"◐","Max. Marks",null,{"$f":"'Result Entry'!$BS$7","v":10},{"$f":"'Result Entry'!$BT$7","v":10},{"$f":"'Result Entry'!$BU$7","v":10},{"$f":"'Result Entry'!$BZ$7","v":70},{"$f":"SUM(E2750:H2750)","v":100},{"$f":"'Result Entry'!$CD$7","v":100},200,null,"A+/A/B/C/D"]
[null,"◐",{"$f":"'Result Entry'!$BS$3","v":"Sanskrit/Urdu"},null,{"$f":"IF(OR(C2751=\"\",$I2736=\"NSO\"),\"\",VLOOKUP($A2731,'Result Entry'!$B$9:$EQ$108,70,0))","v":0},{"$f":"IF(OR(C2751=\"\",$I2736=\"NSO\"),\"\",VLOOKUP($A2731,'Result Entry'!$B$9:$EQ$108,71,0))","v":0},{"$f":"IF(OR(C2751=\"\",$I2736=\"NSO\"),\"\",VLOOKUP($A2731,'Result Entry'!$B$9:$EQ$108,72,0))","v":0},{"$f":"IF(OR(C2751=\"\",$I2736=\"NSO\"),\"\",VLOOKUP($A2731,'Result Entry'!$B$9:$EQ$108,77,0))","v":0},{"$f":"SUM(E2751:H2751)","v":0},{"$f":"IF(OR(C2751=\"\",$I2736=\"NSO\"),\"\",VLOOKUP($A2731,'Result Entry'!$B$9:$EQ$108,81,0))","v":0},0,null,{"$f":"IF(OR(C2751=\"\",$I2736=\"NSO\"),\"\",VLOOKUP($A2731,'Result Entry'!$B$9:$EQ$108,84,0))","v":""}]
[null,"◐"]
[null,"◐","Overall Result",null,null,"Total Max. Marks",null,"Total Obtained Marks",null,"Percentage","Overall Grade","Result","Position in Class"]
[null,"◐",{"$nulls":3},{"$f":"IF(OR($I2736=\"\",$I2736=\"NSO\"),\"\",VLOOKUP($A2731,'Result Entry'!$B$9:$EQ$108,120,0))","v":900},null,{"$f":"IF(OR($I2736=\"\",$I2736=\"NSO\"),\"\",VLOOKUP($A2731,'Result Entry'!$B$9:$EQ$108,121,0))","v":0},null,{"$f":"IF(OR($I2736=\"\",$I2736=\"NSO\"),\"\",VLOOKUP($A2731,'Result Entry'!$B$9:$EQ$108,122,0))","v":{"v":0,"d":"0.00"}},{"$f":"IF(OR($I2736=\"\",$I2736=\"NSO\"),\"\",VLOOKUP($A2731,'Result Entry'!$B$9:$EQ$108,123,0))","v":""},{"$f":"IF(OR($I2736=\"\",$I2736=\"NSO\"),\"\",VLOOKUP($A2731,'Result Entry'!$B$9:$EQ$108,124,0))","v":""},{"$f":"IF(OR($I2736=\"\",$I2736=\"NSO\"),\"\",VLOOKUP($A2731,'Result Entry'!$B$9:$EQ$108,126,0))","v":""}]
[null,"◐",{"$nulls":6},"Total Meetings :-",null,{"$f":"IF(OR($I2736=\"\",$I2736=\"NSO\"),\"\",VLOOKUP($A2731,'Result Entry'!$B$9:$EQ$108,117,0))","v":0},"Attedance %"]
[null,"◐","Extra Subjects",{"$nulls":5},"Student's Meetings :-",null,{"$f":"IF(OR($I2736=\"\",$I2736=\"NSO\"),\"\",VLOOKUP($A2731,'Result Entry'!$B$9:$EQ$108,118,0))","v":0},{"$f":"IF(OR($I2736=\"\",$I2736=\"NSO\"),\"\",VLOOKUP($A2731,'Result Entry'!$B$9:$EQ$108,119,0))","v":""}]
[null,"◐","Subject",null,null,"Total Marks",null,"GRADE","Remark :-",null,{"$f":"IF(OR($I2736=\"\",$I2736=\"NSO\"),\"\",VLOOKUP($A2731,'Result Entry'!$B$9:$EQ$108,127,0))","v":0}]
[null,"◐",{"$f":"'Result Entry'!$CH$3","v":"WORK EXP."},null,null,{"$f":"IF(OR(C2758=\"\",$I2736=\"NSO\"),\"\",VLOOKUP($A2731,'Result Entry'!$B$9:$EQ$108,138,0))","v":"0/100"},null,{"$f":"IF(OR(C2758=\"\",$I2736=\"NSO\"),\"\",VLOOKUP($A2731,'Result Entry'!$B$9:$EQ$108,92,0))","v":""},"Result Date :-",null,{"$f":"'Result Entry'!$U$2","v":"2024-05-07"}]
[null,"◐",{"$f":"'Result Entry'!$CP$3","v":"ART EDU."},null,null,{"$f":"IF(OR(C2759=\"\",$I2736=\"NSO\"),\"\",VLOOKUP($A2731,'Result Entry'!$B$9:$EQ$108,142,0))","v":"0/100"},null,{"$f":"IF(OR(C2759=\"\",$I2736=\"NSO\"),\"\",VLOOKUP($A2731,'Result Entry'!$B$9:$EQ$108,100,0))","v":""}]
[null,null,{"$f":"'Result Entry'!$CX$3","v":"H&P. EDU."},null,null,{"$f":"IF(OR(C2760=\"\",$I2736=\"NSO\"),\"\",VLOOKUP($A2731,'Result Entry'!$B$9:$EQ$108,146,0))","v":"0/0"},null,{"$f":"IF(OR(C2760=\"\",$I2736=\"NSO\"),\"\",VLOOKUP($A2731,'Result Entry'!$B$9:$EQ$108,108,0))","v":""}]
[null,"◐",{"$f":"'Result Entry'!$DF$3","v":0},null,null,{"$f":"IF(OR(C2761=\"\",$I2736=\"NSO\"),\"\",VLOOKUP($A2731,'Result Entry'!$B$9:$EQ$108,131,0))","v":0},null,{"$f":"IF(OR(C2761=\"\",$I2736=\"NSO\"),\"\",VLOOKUP($A2731,'Result Entry'!$B$9:$EQ$108,97,0))","v":0},"Signature Of The Class Teacher"]
[null,"◐","Grading System"]
[null,"◐","Grd.","% Range",null,"Description"]
[null,"◐","A","86-100",null,"Excellent",null,null,"Signature And Seal Of Principal/H.M."]
[null,"◐","B","71-85",null,"Very Good"]
[null,"◐","C","51-70",null,"Good"]
[null,"◐","D","31-50",null,"Average"]
[null,"◐","E","0-30",null,"Needs Improvement",null,null,"Wish bright future"]
[]
[{"$f":"A2731+1","v":72},"Department Of Education, Rajasthan"]
[null,{"$f":"IF(I2775>0,CONCATENATE(C2775,I2775),0)","v":0},null,{"$f":"Master!$E$8","v":"Govt.Sr.Sec.Sch."}]
[{"$nulls":3},{"$f":"Master!$E$11","v":"P.S.-Bapini (Jodhpur)"}]
[null,null,"Report Card",{"$nulls":6},"U-DISE Code:-",null,{"$f":"Master!$E$14","v":{"v":810000000,"d":"0810000000"}}]
[{"$nulls":9},"Session:-",null,{"$f":"Master!$E$6","v":"2023-24"}]
[null,null,"Roll No.:-",{"$nulls":5},{"$f":"VLOOKUP($A2770,'Result Entry'!$B$9:$F$108,5,0)","v":0}]
[null,"◐","Scholar Number",{"$nulls":3},"↠",{"$f":"VLOOKUP($A2770,'Result Entry'!$B$9:$EQ$108,3,0)","v":0}]
[null,"◐","Student's Name",{"$nulls":3},"↠",{"$f":"VLOOKUP($A2770,'Result Entry'!$B$9:$EQ$108,6,0)","v":0}]
[null,"◐","Father's Name",{"$nulls":3},"↠",{"$f":"VLOOKUP($A2770,'Result Entry'!$B$9:$EQ$108,7,0)","v":0}]
[null,"◐","Mother's Name ",{"$nulls":3},"↠",{"$f":"VLOOKUP($A2770,'Result Entry'!$B$9:$EQ$108,8,0)","v":0}]
[null,"◐","Class & Section",{"$nulls":3},"↠",{"$f":"CONCATENATE('Result Entry'!$F$4,'Result Entry'!$I$4)","v":"2(A)"}]
[null,"◐","Date Of Birth",{"$nulls":3},"↠",{"$f":"VLOOKUP($A2770,'Result Entry'!$B$9:$EQ$108,9,0)","v":"00:00:00"}]
[null,"◐","Subject",null,{"$f":"'Result Entry'!$K$6","v":"First Test"},{"$f":"'Result Entry'!$L$6","v":"Second Test"},{"$f":"'Result Entry'!$M$6","v":"Third Test"},"Half Yearly","Total (Test+H.Y.)","Yearly","Grand Total",null,"Subject Grade"]
[null,"◐","Max. Marks",null,{"$f":"'Result Entry'!$K$7","v":10},{"$f":"'Result Entry'!$L$7","v":10},{"$f":"'Result Entry'!$M$7","v":10},{"$f":"'Result Entry'!$R$7","v":70},{"$f":"SUM(E2783:H2783)","v":100},{"$f":"'Result Entry'!$V$7","v":100},{"$f":"I2783+J2783","v":200},null,"A+/A/B/C/D"]
[null,"◐",{"$f":"'Result Entry'!$K$3","v":"Hindi"},null,{"$f":"IF(OR(C2784=\"\",$I2775=\"NSO\"),\"\",VLOOKUP($A2770,'Result Entry'!$B$9:$EQ$108,10,0))","v":0},{"$f":"IF(OR(C2784=\"\",$I2775=\"NSO\"),\"\",VLOOKUP($A2770,'Result Entry'!$B$9:$EQ$108,11,0))","v":0},{"$f":"IF(OR(C2784=\"\",$I2775=\"NSO\"),\"\",VLOOKUP($A2770,'Result Entry'!$B$9:$EQ$108,12,0))","v":0},{"$f":"IF(OR(C2784=\"\",$I2775=\"NSO\"),\"\",VLOOKUP($A2770,'Result Entry'!$B$9:$EQ$108,17,0))","v":0},{"$f":"SUM(E2784:H2784)","v":0},{"$f":"IF(OR(C2784=\"\",$I2775=\"NSO\"),\"\",VLOOKUP($A2770,'Result Entry'!$B$9:$EQ$108,21,0))","v":0},{"$f":"SUM(I2784,J2784)","v":0},null,{"$f":"IF(OR(C2784=\"\",$I2775=\"NSO\"),\"\",VLOOKUP($A2770,'Result Entry'!$B$9:$EQ$108,24,0))","v":""}]
[null,"◐",{"$f":"'Result Entry'!$Z$3","v":"Mathematics"},null,{"$f":"IF(OR(C2785=\"\",$I2775=\"NSO\"),\"\",VLOOKUP($A2770,'Result Entry'!$B$9:$EQ$108,25,0))","v":0},{"$f":"IF(OR(C2785=\"\",$I2775=\"NSO\"),\"\",VLOOKUP($A2770,'Result Entry'!$B$9:$EQ$108,26,0))","v":0},{"$f":"IF(OR(C2785=\"\",$I2775=\"NSO\"),\"\",VLOOKUP($A2770,'Result Entry'!$B$9:$EQ$108,27,0))","v":0},{"$f":"IF(OR(C2785=\"\",$I2775=\"NSO\"),\"\",VLOOKUP($A2770,'Result Entry'!$B$9:$EQ$108,32,0))","v":0},0,{"$f":"IF(OR(C2785=\"\",$I2775=\"NSO\"),\"\",VLOOKUP($A2770,'Result Entry'!$B$9:$EQ$108,36,0))","v":0},{"$f":"SUM(I2785,J2785)","v":0},null,{"$f":"IF(OR(C2785=\"\",$I2775=\"NSO\"),\"\",VLOOKUP($A2770,'Result Entry'!$B$9:$EQ$108,39,0))","v":""}]
[null,"◐",{"$f":"'Result Entry'!$BD$3","v":"Env. Study"},null,{"$f":"IF(OR(C2786=\"\",$I2775=\"NSO\"),\"\",VLOOKUP($A2770,'Result Entry'!$B$9:$EQ$108,55,0))","v":0},{"$f":"IF(OR(C2786=\"\",$I2775=\"NSO\"),\"\",VLOOKUP($A2770,'Result Entry'!$B$9:$EQ$108,56,0))","v":0},{"$f":"IF(OR(C2786=\"\",$I2775=\"NSO\"),\"\",VLOOKUP($A2770,'Result Entry'!$B$9:$EQ$108,57,0))","v":0},{"$f":"IF(OR(C2784=\"\",$I2775=\"NSO\"),\"\",VLOOKUP($A2770,'Result Entry'!$B$9:$EQ$108,62,0))","v":0},0,{"$f":"IF(OR(C2785=\"\",$I2775=\"NSO\"),\"\",VLOOKUP($A2770,'Result Entry'!$B$9:$EQ$108,66,0))","v":0},0,null,{"$f":"IF(OR(C2785=\"\",$I2775=\"NSO\"),\"\",VLOOKUP($A2770,'Result Entry'!$B$9:$EQ$108,69,0))","v":""}]
[null,"◐","Max. Marks",null,{"$f":"'Result Entry'!$AO$7","v":5},{"$f":"'Result Entry'!$AP$7","v":5},{"$f":"'Result Entry'!$AQ$7","v":5},{"$f":"'Result Entry'!$AV$7","v":35},50,{"$f":"'Result Entry'!$AZ$7","v":50},100,null,"A+/A/B/C/D"]
[null,"◐",{"$f":"'Result Entry'!$AO$3","v":"English"},null,{"$f":"IF(OR(C2788=\"\",$I2775=\"NSO\"),\"\",VLOOKUP($A2770,'Result Entry'!$B$9:$EQ$108,40,0))","v":0},{"$f":"IF(OR(C2788=\"\",$I2775=\"NSO\"),\"\",VLOOKUP($A2770,'Result Entry'!$B$9:$EQ$108,41,0))","v":0},{"$f":"IF(OR(C2788=\"\",$I2775=\"NSO\"),\"\",VLOOKUP($A2770,'Result Entry'!$B$9:$EQ$108,42,0))","v":0},{"$f":"IF(OR(C2788=\"\",$I2775=\"NSO\"),\"\",VLOOKUP($A2770,'Result Entry'!$B$9:$EQ$108,47,0))","v":0},0,{"$f":"IF(OR(C2788=\"\",$I2775=\"NSO\"),\"\",VLOOKUP($A2770,'Result Entry'!$B$9:$EQ$108,51,0))","v":0},0,null,{"$f":"IF(OR(C2788=\"\",$I2775=\"NSO\"),\"\",VLOOKUP($A2770,'Result Entry'!$B$9:$EQ$108,54,0))","v":""}]
[null,"◐","Max. Marks",null,{"$f":"'Result Entry'!$BS$7","v":10},{"$f":"'Result Entry'!$BT$7","v":10},{"$f":"'Result Entry'!$BU$7","v":10},{"$f":"'Result Entry'!$BZ$7","v":70},{"$f":"SUM(E2789:H2789)","v":100},{"$f":"'Result Entry'!$CD$7","v":100},200,null,"A+/A/B/C/D"]
[null,"◐",{"$f":"'Result Entry'!$BS$3","v":"Sanskrit/Urdu"},null,{"$f":"IF(OR(C2790=\"\",$I2775=\"NSO\"),\"\",VLOOKUP($A2770,'Result Entry'!$B$9:$EQ$108,70,0))","v":0},{"$f":"IF(OR(C2790=\"\",$I2775=\"NSO\"),\"\",VLOOKUP($A2770,'Result Entry'!$B$9:$EQ$108,71,0))","v":0},{"$f":"IF(OR(C2790=\"\",$I2775=\"NSO\"),\"\",VLOOKUP($A2770,'Result Entry'!$B$9:$EQ$108,72,0))","v":0},{"$f":"IF(OR(C2790=\"\",$I2775=\"NSO\"),\"\",VLOOKUP($A2770,'Result Entry'!$B$9:$EQ$108,77,0))","v":0},{"$f":"SUM(E2790:H2790)","v":0},{"$f":"IF(OR(C2790=\"\",$I2775=\"NSO\"),\"\",VLOOKUP($A2770,'Result Entry'!$B$9:$EQ$108,81,0))","v":0},0,null,{"$f":"IF(OR(C2790=\"\",$I2775=\"NSO\"),\"\",VLOOKUP($A2770,'Result Entry'!$B$9:$EQ$108,84,0))","v":""}]
[null,"◐"]
[null,"◐","Overall Result",null,null,"Total Max. Marks",null,"Total Obtained Marks",null,"Percentage","Overall Grade","Result","Position in Class"]
[null,"◐",{"$nulls":3},{"$f":"IF(OR($I2775=\"\",$I2775=\"NSO\"),\"\",VLOOKUP($A2770,'Result Entry'!$B$9:$EQ$108,120,0))","v":900},null,{"$f":"IF(OR($I2775=\"\",$I2775=\"NSO\"),\"\",VLOOKUP($A2770,'Result Entry'!$B$9:$EQ$108,121,0))","v":0},null,{"$f":"IF(OR($I2775=\"\",$I2775=\"NSO\"),\"\",VLOOKUP($A2770,'Result Entry'!$B$9:$EQ$108,122,0))","v":{"v":0,"d":"0.00"}},{"$f":"IF(OR($I2775=\"\",$I2775=\"NSO\"),\"\",VLOOKUP($A2770,'Result Entry'!$B$9:$EQ$108,123,0))","v":""},{"$f":"IF(OR($I2775=\"\",$I2775=\"NSO\"),\"\",VLOOKUP($A2770,'Result Entry'!$B$9:$EQ$108,124,0))","v":""},{"$f":"IF(OR($I2775=\"\",$I2775=\"NSO\"),\"\",VLOOKUP($A2770,'Result Entry'!$B$9:$EQ$108,126,0))","v":""}]
[null,"◐",{"$nulls":6},"Total Meetings :-",null,{"$f":"IF(OR($I2775=\"\",$I2775=\"NSO\"),\"\",VLOOKUP($A2770,'Result Entry'!$B$9:$EQ$108,117,0))","v":0},"Attedance %"]
[null,"◐","Extra Subjects",{"$nulls":5},"Student's Meetings :-",null,{"$f":"IF(OR($I2775=\"\",$I2775=\"NSO\"),\"\",VLOOKUP($A2770,'Result Entry'!$B$9:$EQ$108,118,0))","v":0},{"$f":"IF(OR($I2775=\"\",$I2775=\"NSO\"),\"\",VLOOKUP($A2770,'Result Entry'!$B$9:$EQ$108,119,0))","v":""}]
[null,"◐","Subject",null,null,"Total Marks",null,"GRADE","Remark :-",null,{"$f":"IF(OR($I2775=\"\",$I2775=\"NSO\"),\"\",VLOOKUP($A2770,'Result Entry'!$B$9:$EQ$108,127,0))","v":0}]
[null,"◐",{"$f":"'Result Entry'!$CH$3","v":"WORK EXP."},null,null,{"$f":"IF(OR(C2797=\"\",$I2775=\"NSO\"),\"\",VLOOKUP($A2770,'Result Entry'!$B$9:$EQ$108,138,0))","v":"0/100"},null,{"$f":"IF(OR(C2797=\"\",$I2775=\"NSO\"),\"\",VLOOKUP($A2770,'Result Entry'!$B$9:$EQ$108,92,0))","v":""},"Result Date :-",null,{"$f":"'Result Entry'!$U$2","v":"2024-05-07"}]
[null,"◐",{"$f":"'Result Entry'!$CP$3","v":"ART EDU."},null,null,{"$f":"IF(OR(C2798=\"\",$I2775=\"NSO\"),\"\",VLOOKUP($A2770,'Result Entry'!$B$9:$EQ$108,142,0))","v":"0/100"},null,{"$f":"IF(OR(C2798=\"\",$I2775=\"NSO\"),\"\",VLOOKUP($A2770,'Result Entry'!$B$9:$EQ$108,100,0))","v":""}]
[null,null,{"$f":"'Result Entry'!$CX$3","v":"H&P. EDU."},null,null,{"$f":"IF(OR(C2799=\"\",$I2775=\"NSO\"),\"\",VLOOKUP($A2770,'Result Entry'!$B$9:$EQ$108,146,0))","v":"0/0"},null,{"$f":"IF(OR(C2799=\"\",$I2775=\"NSO\"),\"\",VLOOKUP($A2770,'Result Entry'!$B$9:$EQ$108,108,0))","v":""}]
[null,"◐",{"$f":"'Result Entry'!$DF$3","v":0},null,null,{"$f":"IF(OR(C2800=\"\",$I2775=\"NSO\"),\"\",VLOOKUP($A2770,'Result Entry'!$B$9:$EQ$108,131,0))","v":0},null,{"$f":"IF(OR(C2800=\"\",$I2775=\"NSO\"),\"\",VLOOKUP($A2770,'Result Entry'!$B$9:$EQ$108,97,0))","v":0},"Signature Of The Class Teacher"]
[null,"◐","Grading System"]
[null,"◐","Grd.","% Range",null,"Description"]
[null,"◐","A","86-100",null,"Excellent",null,null,"Signature And Seal Of Principal/H.M."]
[null,"◐","B","71-85",null,"Very Good"]
[null,"◐","C","51-70",null,"Good"]
[null,"◐","D","31-50",null,"Average"]
[null,"◐","E","0-30",null,"Needs Improvement",null,null,"Wish bright future"]
[]
[{"$f":"A2770+1","v":73},"Department Of Education, Rajasthan"]
[null,{"$f":"IF(I2814>0,CONCATENATE(C2814,I2814),0)","v":0},null,{"$f":"Master!$E$8","v":"Govt.Sr.Sec.Sch."}]
[{"$nulls":3},{"$f":"Master!$E$11","v":"P.S.-Bapini (Jodhpur)"}]
[null,null,"Report Card",{"$nulls":6},"U-DISE Code:-",null,{"$f":"Master!$E$14","v":{"v":810000000,"d":"0810000000"}}]
[{"$nulls":9},"Session:-",null,{"$f":"Master!$E$6","v":"2023-24"}]
[null,null,"Roll No.:-",{"$nulls":5},{"$f":"VLOOKUP($A2809,'Result Entry'!$B$9:$F$108,5,0)","v":0}]
[null,"◐","Scholar Number",{"$nulls":3},"↠",{"$f":"VLOOKUP($A2809,'Result Entry'!$B$9:$EQ$108,3,0)","v":0}]
[null,"◐","Student's Name",{"$nulls":3},"↠",{"$f":"VLOOKUP($A2809,'Result Entry'!$B$9:$EQ$108,6,0)","v":0}]
[null,"◐","Father's Name",{"$nulls":3},"↠",{"$f":"VLOOKUP($A2809,'Result Entry'!$B$9:$EQ$108,7,0)","v":0}]
[null,"◐","Mother's Name ",{"$nulls":3},"↠",{"$f":"VLOOKUP($A2809,'Result Entry'!$B$9:$EQ$108,8,0)","v":0}]
[null,"◐","Class & Section",{"$nulls":3},"↠",{"$f":"CONCATENATE('Result Entry'!$F$4,'Result Entry'!$I$4)","v":"2(A)"}]
[null,"◐","Date Of Birth",{"$nulls":3},"↠",{"$f":"VLOOKUP($A2809,'Result Entry'!$B$9:$EQ$108,9,0)","v":"00:00:00"}]
[null,"◐","Subject",null,{"$f":"'Result Entry'!$K$6","v":"First Test"},{"$f":"'Result Entry'!$L$6","v":"Second Test"},{"$f":"'Result Entry'!$M$6","v":"Third Test"},"Half Yearly","Total (Test+H.Y.)","Yearly","Grand Total",null,"Subject Grade"]
[null,"◐","Max. Marks",null,{"$f":"'Result Entry'!$K$7","v":10},{"$f":"'Result Entry'!$L$7","v":10},{"$f":"'Result Entry'!$M$7","v":10},{"$f":"'Result Entry'!$R$7","v":70},{"$f":"SUM(E2822:H2822)","v":100},{"$f":"'Result Entry'!$V$7","v":100},{"$f":"I2822+J2822","v":200},null,"A+/A/B/C/D"]
[null,"◐",{"$f":"'Result Entry'!$K$3","v":"Hindi"},null,{"$f":"IF(OR(C2823=\"\",$I2814=\"NSO\"),\"\",VLOOKUP($A2809,'Result Entry'!$B$9:$EQ$108,10,0))","v":0},{"$f":"IF(OR(C2823=\"\",$I2814=\"NSO\"),\"\",VLOOKUP($A2809,'Result Entry'!$B$9:$EQ$108,11,0))","v":0},{"$f":"IF(OR(C2823=\"\",$I2814=\"NSO\"),\"\",VLOOKUP($A2809,'Result Entry'!$B$9:$EQ$108,12,0))","v":0},{"$f":"IF(OR(C2823=\"\",$I2814=\"NSO\"),\"\",VLOOKUP($A2809,'Result Entry'!$B$9:$EQ$108,17,0))","v":0},{"$f":"SUM(E2823:H2823)","v":0},{"$f":"IF(OR(C2823=\"\",$I2814=\"NSO\"),\"\",VLOOKUP($A2809,'Result Entry'!$B$9:$EQ$108,21,0))","v":0},{"$f":"SUM(I2823,J2823)","v":0},null,{"$f":"IF(OR(C2823=\"\",$I2814=\"NSO\"),\"\",VLOOKUP($A2809,'Result Entry'!$B$9:$EQ$108,24,0))","v":""}]
[null,"◐",{"$f":"'Result Entry'!$Z$3","v":"Mathematics"},null,{"$f":"IF(OR(C2824=\"\",$I2814=\"NSO\"),\"\",VLOOKUP($A2809,'Result Entry'!$B$9:$EQ$108,25,0))","v":0},{"$f":"IF(OR(C2824=\"\",$I2814=\"NSO\"),\"\",VLOOKUP($A2809,'Result Entry'!$B$9:$EQ$108,26,0))","v":0},{"$f":"IF(OR(C2824=\"\",$I2814=\"NSO\"),\"\",VLOOKUP($A2809,'Result Entry'!$B$9:$EQ$108,27,0))","v":0},{"$f":"IF(OR(C2824=\"\",$I2814=\"NSO\"),\"\",VLOOKUP($A2809,'Result Entry'!$B$9:$EQ$108,32,0))","v":0},0,{"$f":"IF(OR(C2824=\"\",$I2814=\"NSO\"),\"\",VLOOKUP($A2809,'Result Entry'!$B$9:$EQ$108,36,0))","v":0},{"$f":"SUM(I2824,J2824)","v":0},null,{"$f":"IF(OR(C2824=\"\",$I2814=\"NSO\"),\"\",VLOOKUP($A2809,'Result Entry'!$B$9:$EQ$108,39,0))","v":""}]
[null,"◐",{"$f":"'Result Entry'!$BD$3","v":"Env. Study"},null,{"$f":"IF(OR(C2825=\"\",$I2814=\"NSO\"),\"\",VLOOKUP($A2809,'Result Entry'!$B$9:$EQ$108,55,0))","v":0},{"$f":"IF(OR(C2825=\"\",$I2814=\"NSO\"),\"\",VLOOKUP($A2809,'Result Entry'!$B$9:$EQ$108,56,0))","v":0},{"$f":"IF(OR(C2825=\"\",$I2814=\"NSO\"),\"\",VLOOKUP($A2809,'Result Entry'!$B$9:$EQ$108,57,0))","v":0},{"$f":"IF(OR(C2823=\"\",$I2814=\"NSO\"),\"\",VLOOKUP($A2809,'Result Entry'!$B$9:$EQ$108,62,0))","v":0},0,{"$f":"IF(OR(C2824=\"\",$I2814=\"NSO\"),\"\",VLOOKUP($A2809,'Result Entry'!$B$9:$EQ$108,66,0))","v":0},0,null,{"$f":"IF(OR(C2824=\"\",$I2814=\"NSO\"),\"\",VLOOKUP($A2809,'Result Entry'!$B$9:$EQ$108,69,0))","v":""}]
[null,"◐","Max. Marks",null,{"$f":"'Result Entry'!$AO$7","v":5},{"$f":"'Result Entry'!$AP$7","v":5},{"$f":"'Result Entry'!$AQ$7","v":5},{"$f":"'Result Entry'!$AV$7","v":35},50,{"$f":"'Result Entry'!$AZ$7","v":50},100,null,"A+/A/B/C/D"]
[null,"◐",{"$f":"'Result Entry'!$AO$3","v":"English"},null,{"$f":"IF(OR(C2827=\"\",$I2814=\"NSO\"),\"\",VLOOKUP($A2809,'Result Entry'!$B$9:$EQ$108,40,0))","v":0},{"$f":"IF(OR(C2827=\"\",$I2814=\"NSO\"),\"\",VLOOKUP($A2809,'Result Entry'!$B$9:$EQ$108,41,0))","v":0},{"$f":"IF(OR(C2827=\"\",$I2814=\"NSO\"),\"\",VLOOKUP($A2809,'Result Entry'!$B$9:$EQ$108,42,0))","v":0},{"$f":"IF(OR(C2827=\"\",$I2814=\"NSO\"),\"\",VLOOKUP($A2809,'Result Entry'!$B$9:$EQ$108,47,0))","v":0},0,{"$f":"IF(OR(C2827=\"\",$I2814=\"NSO\"),\"\",VLOOKUP($A2809,'Result Entry'!$B$9:$EQ$108,51,0))","v":0},0,null,{"$f":"IF(OR(C2827=\"\",$I2814=\"NSO\"),\"\",VLOOKUP($A2809,'Result Entry'!$B$9:$EQ$108,54,0))","v":""}]
[null,"◐","Max. Marks",null,{"$f":"'Result Entry'!$BS$7","v":10},{"$f":"'Result Entry'!$BT$7","v":10},{"$f":"'Result Entry'!$BU$7","v":10},{"$f":"'Result Entry'!$BZ$7","v":70},{"$f":"SUM(E2828:H2828)","v":100},{"$f":"'Result Entry'!$CD$7","v":100},200,null,"A+/A/B/C/D"]
[null,"◐",{"$f":"'Result Entry'!$BS$3","v":"Sanskrit/Urdu"},null,{"$f":"IF(OR(C2829=\"\",$I2814=\"NSO\"),\"\",VLOOKUP($A2809,'Result Entry'!$B$9:$EQ$108,70,0))","v":0},{"$f":"IF(OR(C2829=\"\",$I2814=\"NSO\"),\"\",VLOOKUP($A2809,'Result Entry'!$B$9:$EQ$108,71,0))","v":0},{"$f":"IF(OR(C2829=\"\",$I2814=\"NSO\"),\"\",VLOOKUP($A2809,'Result Entry'!$B$9:$EQ$108,72,0))","v":0},{"$f":"IF(OR(C2829=\"\",$I2814=\"NSO\"),\"\",VLOOKUP($A2809,'Result Entry'!$B$9:$EQ$108,77,0))","v":0},{"$f":"SUM(E2829:H2829)","v":0},{"$f":"IF(OR(C2829=\"\",$I2814=\"NSO\"),\"\",VLOOKUP($A2809,'Result Entry'!$B$9:$EQ$108,81,0))","v":0},0,null,{"$f":"IF(OR(C2829=\"\",$I2814=\"NSO\"),\"\",VLOOKUP($A2809,'Result Entry'!$B$9:$EQ$108,84,0))","v":""}]
[null,"◐"]
[null,"◐","Overall Result",null,null,"Total Max. Marks",null,"Total Obtained Marks",null,"Percentage","Overall Grade","Result","Position in Class"]
[null,"◐",{"$nulls":3},{"$f":"IF(OR($I2814=\"\",$I2814=\"NSO\"),\"\",VLOOKUP($A2809,'Result Entry'!$B$9:$EQ$108,120,0))","v":900},null,{"$f":"IF(OR($I2814=\"\",$I2814=\"NSO\"),\"\",VLOOKUP($A2809,'Result Entry'!$B$9:$EQ$108,121,0))","v":0},null,{"$f":"IF(OR($I2814=\"\",$I2814=\"NSO\"),\"\",VLOOKUP($A2809,'Result Entry'!$B$9:$EQ$108,122,0))","v":{"v":0,"d":"0.00"}},{"$f":"IF(OR($I2814=\"\",$I2814=\"NSO\"),\"\",VLOOKUP($A2809,'Result Entry'!$B$9:$EQ$108,123,0))","v":""},{"$f":"IF(OR($I2814=\"\",$I2814=\"NSO\"),\"\",VLOOKUP($A2809,'Result Entry'!$B$9:$EQ$108,124,0))","v":""},{"$f":"IF(OR($I2814=\"\",$I2814=\"NSO\"),\"\",VLOOKUP($A2809,'Result Entry'!$B$9:$EQ$108,126,0))","v":""}]
[null,"◐",{"$nulls":6},"Total Meetings :-",null,{"$f":"IF(OR($I2814=\"\",$I2814=\"NSO\"),\"\",VLOOKUP($A2809,'Result Entry'!$B$9:$EQ$108,117,0))","v":0},"Attedance %"]
[null,"◐","Extra Subjects",{"$nulls":5},"Student's Meetings :-",null,{"$f":"IF(OR($I2814=\"\",$I2814=\"NSO\"),\"\",VLOOKUP($A2809,'Result Entry'!$B$9:$EQ$108,118,0))","v":0},{"$f":"IF(OR($I2814=\"\",$I2814=\"NSO\"),\"\",VLOOKUP($A2809,'Result Entry'!$B$9:$EQ$108,119,0))","v":""}]
[null,"◐","Subject",null,null,"Total Marks",null,"GRADE","Remark :-",null,{"$f":"IF(OR($I2814=\"\",$I2814=\"NSO\"),\"\",VLOOKUP($A2809,'Result Entry'!$B$9:$EQ$108,127,0))","v":0}]
[null,"◐",{"$f":"'Result Entry'!$CH$3","v":"WORK EXP."},null,null,{"$f":"IF(OR(C2836=\"\",$I2814=\"NSO\"),\"\",VLOOKUP($A2809,'Result Entry'!$B$9:$EQ$108,138,0))","v":"0/100"},null,{"$f":"IF(OR(C2836=\"\",$I2814=\"NSO\"),\"\",VLOOKUP($A2809,'Result Entry'!$B$9:$EQ$108,92,0))","v":""},"Result Date :-",null,{"$f":"'Result Entry'!$U$2","v":"2024-05-07"}]
[null,"◐",{"$f":"'Result Entry'!$CP$3","v":"ART EDU."},null,null,{"$f":"IF(OR(C2837=\"\",$I2814=\"NSO\"),\"\",VLOOKUP($A2809,'Result Entry'!$B$9:$EQ$108,142,0))","v":"0/100"},null,{"$f":"IF(OR(C2837=\"\",$I2814=\"NSO\"),\"\",VLOOKUP($A2809,'Result Entry'!$B$9:$EQ$108,100,0))","v":""}]
[null,null,{"$f":"'Result Entry'!$CX$3","v":"H&P. EDU."},null,null,{"$f":"IF(OR(C2838=\"\",$I2814=\"NSO\"),\"\",VLOOKUP($A2809,'Result Entry'!$B$9:$EQ$108,146,0))","v":"0/0"},null,{"$f":"IF(OR(C2838=\"\",$I2814=\"NSO\"),\"\",VLOOKUP($A2809,'Result Entry'!$B$9:$EQ$108,108,0))","v":""}]
[null,"◐",{"$f":"'Result Entry'!$DF$3","v":0},null,null,{"$f":"IF(OR(C2839=\"\",$I2814=\"NSO\"),\"\",VLOOKUP($A2809,'Result Entry'!$B$9:$EQ$108,131,0))","v":0},null,{"$f":"IF(OR(C2839=\"\",$I2814=\"NSO\"),\"\",VLOOKUP($A2809,'Result Entry'!$B$9:$EQ$108,97,0))","v":0},"Signature Of The Class Teacher"]
[null,"◐","Grading System"]
[null,"◐","Grd.","% Range",null,"Description"]
[null,"◐","A","86-100",null,"Excellent",null,null,"Signature And Seal Of Principal/H.M."]
[null,"◐","B","71-85",null,"Very Good"]
[null,"◐","C","51-70",null,"Good"]
[null,"◐","D","31-50",null,"Average"]
[null,"◐","E","0-30",null,"Needs Improvement",null,null,"Wish bright future"]
[]
[{"$f":"A2809+1","v":74},"Department Of Education, Rajasthan"]
[null,{"$f":"IF(I2853>0,CONCATENATE(C2853,I2853),0)","v":0},null,{"$f":"Master!$E$8","v":"Govt.Sr.Sec.Sch."}]
[{"$nulls":3},{"$f":"Master!$E$11","v":"P.S.-Bapini (Jodhpur)"}]
[null,null,"Report Card",{"$nulls":6},"U-DISE Code:-",null,{"$f":"Master!$E$14","v":{"v":810000000,"d":"0810000000"}}]
[{"$nulls":9},"Session:-",null,{"$f":"Master!$E$6","v":"2023-24"}]
[null,null,"Roll No.:-",{"$nulls":5},{"$f":"VLOOKUP($A2848,'Result Entry'!$B$9:$F$108,5,0)","v":0}]
[null,"◐","Scholar Number",{"$nulls":3},"↠",{"$f":"VLOOKUP($A2848,'Result Entry'!$B$9:$EQ$108,3,0)","v":0}]
[null,"◐","Student's Name",{"$nulls":3},"↠",{"$f":"VLOOKUP($A2848,'Result Entry'!$B$9:$EQ$108,6,0)","v":0}]
[null,"◐","Father's Name",{"$nulls":3},"↠",{"$f":"VLOOKUP($A2848,'Result Entry'!$B$9:$EQ$108,7,0)","v":0}]
[null,"◐","Mother's Name ",{"$nulls":3},"↠",{"$f":"VLOOKUP($A2848,'Result Entry'!$B$9:$EQ$108,8,0)","v":0}]
[null,"◐","Class & Section",{"$nulls":3},"↠",{"$f":"CONCATENATE('Result Entry'!$F$4,'Result Entry'!$I$4)","v":"2(A)"}]
[null,"◐","Date Of Birth",{"$nulls":3},"↠",{"$f":"VLOOKUP($A2848,'Result Entry'!$B$9:$EQ$108,9,0)","v":"00:00:00"}]
[null,"◐","Subject",null,{"$f":"'Result Entry'!$K$6","v":"First Test"},{"$f":"'Result Entry'!$L$6","v":"Second Test"},{"$f":"'Result Entry'!$M$6","v":"Third Test"},"Half Yearly","Total (Test+H.Y.)","Yearly","Grand Total",null,"Subject Grade"]
[null,"◐","Max. Marks",null,{"$f":"'Result Entry'!$K$7","v":10},{"$f":"'Result Entry'!$L$7","v":10},{"$f":"'Result Entry'!$M$7","v":10},{"$f":"'Result Entry'!$R$7","v":70},{"$f":"SUM(E2861:H2861)","v":100},{"$f":"'Result Entry'!$V$7","v":100},{"$f":"I2861+J2861","v":200},null,"A+/A/B/C/D"]
[null,"◐",{"$f":"'Result Entry'!$K$3","v":"Hindi"},null,{"$f":"IF(OR(C2862=\"\",$I2853=\"NSO\"),\"\",VLOOKUP($A2848,'Result Entry'!$B$9:$EQ$108,10,0))","v":0},{"$f":"IF(OR(C2862=\"\",$I2853=\"NSO\"),\"\",VLOOKUP($A2848,'Result Entry'!$B$9:$EQ$108,11,0))","v":0},{"$f":"IF(OR(C2862=\"\",$I2853=\"NSO\"),\"\",VLOOKUP($A2848,'Result Entry'!$B$9:$EQ$108,12,0))","v":0},{"$f":"IF(OR(C2862=\"\",$I2853=\"NSO\"),\"\",VLOOKUP($A2848,'Result Entry'!$B$9:$EQ$108,17,0))","v":0},{"$f":"SUM(E2862:H2862)","v":0},{"$f":"IF(OR(C2862=\"\",$I2853=\"NSO\"),\"\",VLOOKUP($A2848,'Result Entry'!$B$9:$EQ$108,21,0))","v":0},{"$f":"SUM(I2862,J2862)","v":0},null,{"$f":"IF(OR(C2862=\"\",$I2853=\"NSO\"),\"\",VLOOKUP($A2848,'Result Entry'!$B$9:$EQ$108,24,0))","v":""}]
[null,"◐",{"$f":"'Result Entry'!$Z$3","v":"Mathematics"},null,{"$f":"IF(OR(C2863=\"\",$I2853=\"NSO\"),\"\",VLOOKUP($A2848,'Result Entry'!$B$9:$EQ$108,25,0))","v":0},{"$f":"IF(OR(C2863=\"\",$I2853=\"NSO\"),\"\",VLOOKUP($A2848,'Result Entry'!$B$9:$EQ$108,26,0))","v":0},{"$f":"IF(OR(C2863=\"\",$I2853=\"NSO\"),\"\",VLOOKUP($A2848,'Result Entry'!$B$9:$EQ$108,27,0))","v":0},{"$f":"IF(OR(C2863=\"\",$I2853=\"NSO\"),\"\",VLOOKUP($A2848,'Result Entry'!$B$9:$EQ$108,32,0))","v":0},0,{"$f":"IF(OR(C2863=\"\",$I2853=\"NSO\"),\"\",VLOOKUP($A2848,'Result Entry'!$B$9:$EQ$108,36,0))","v":0},{"$f":"SUM(I2863,J2863)","v":0},null,{"$f":"IF(OR(C2863=\"\",$I2853=\"NSO\"),\"\",VLOOKUP($A2848,'Result Entry'!$B$9:$EQ$108,39,0))","v":""}]
[null,"◐",{"$f":"'Result Entry'!$BD$3","v":"Env. Study"},null,{"$f":"IF(OR(C2864=\"\",$I2853=\"NSO\"),\"\",VLOOKUP($A2848,'Result Entry'!$B$9:$EQ$108,55,0))","v":0},{"$f":"IF(OR(C2864=\"\",$I2853=\"NSO\"),\"\",VLOOKUP($A2848,'Result Entry'!$B$9:$EQ$108,56,0))","v":0},{"$f":"IF(OR(C2864=\"\",$I2853=\"NSO\"),\"\",VLOOKUP($A2848,'Result Entry'!$B$9:$EQ$108,57,0))","v":0},{"$f":"IF(OR(C2862=\"\",$I2853=\"NSO\"),\"\",VLOOKUP($A2848,'Result Entry'!$B$9:$EQ$108,62,0))","v":0},0,{"$f":"IF(OR(C2863=\"\",$I2853=\"NSO\"),\"\",VLOOKUP($A2848,'Result Entry'!$B$9:$EQ$108,66,0))","v":0},0,null,{"$f":"IF(OR(C2863=\"\",$I2853=\"NSO\"),\"\",VLOOKUP($A2848,'Result Entry'!$B$9:$EQ$108,69,0))","v":""}]
[null,"◐","Max. Marks",null,{"$f":"'Result Entry'!$AO$7","v":5},{"$f":"'Result Entry'!$AP$7","v":5},{"$f":"'Result Entry'!$AQ$7","v":5},{"$f":"'Result Entry'!$AV$7","v":35},50,{"$f":"'Result Entry'!$AZ$7","v":50},100,null,"A+/A/B/C/D"]
[null,"◐",{"$f":"'Result Entry'!$AO$3","v":"English"},null,{"$f":"IF(OR(C2866=\"\",$I2853=\"NSO\"),\"\",VLOOKUP($A2848,'Result Entry'!$B$9:$EQ$108,40,0))","v":0},{"$f":"IF(OR(C2866=\"\",$I2853=\"NSO\"),\"\",VLOOKUP($A2848,'Result Entry'!$B$9:$EQ$108,41,0))","v":0},{"$f":"IF(OR(C2866=\"\",$I2853=\"NSO\"),\"\",VLOOKUP($A2848,'Result Entry'!$B$9:$EQ$108,42,0))","v":0},{"$f":"IF(OR(C2866=\"\",$I2853=\"NSO\"),\"\",VLOOKUP($A2848,'Result Entry'!$B$9:$EQ$108,47,0))","v":0},0,{"$f":"IF(OR(C2866=\"\",$I2853=\"NSO\"),\"\",VLOOKUP($A2848,'Result Entry'!$B$9:$EQ$108,51,0))","v":0},0,null,{"$f":"IF(OR(C2866=\"\",$I2853=\"NSO\"),\"\",VLOOKUP($A2848,'Result Entry'!$B$9:$EQ$108,54,0))","v":""}]
[null,"◐","Max. Marks",null,{"$f":"'Result Entry'!$BS$7","v":10},{"$f":"'Result Entry'!$BT$7","v":10},{"$f":"'Result Entry'!$BU$7","v":10},{"$f":"'Result Entry'!$BZ$7","v":70},{"$f":"SUM(E2867:H2867)","v":100},{"$f":"'Result Entry'!$CD$7","v":100},200,null,"A+/A/B/C/D"]
[null,"◐",{"$f":"'Result Entry'!$BS$3","v":"Sanskrit/Urdu"},null,{"$f":"IF(OR(C2868=\"\",$I2853=\"NSO\"),\"\",VLOOKUP($A2848,'Result Entry'!$B$9:$EQ$108,70,0))","v":0},{"$f":"IF(OR(C2868=\"\",$I2853=\"NSO\"),\"\",VLOOKUP($A2848,'Result Entry'!$B$9:$EQ$108,71,0))","v":0},{"$f":"IF(OR(C2868=\"\",$I2853=\"NSO\"),\"\",VLOOKUP($A2848,'Result Entry'!$B$9:$EQ$108,72,0))","v":0},{"$f":"IF(OR(C2868=\"\",$I2853=\"NSO\"),\"\",VLOOKUP($A2848,'Result Entry'!$B$9:$EQ$108,77,0))","v":0},{"$f":"SUM(E2868:H2868)","v":0},{"$f":"IF(OR(C2868=\"\",$I2853=\"NSO\"),\"\",VLOOKUP($A2848,'Result Entry'!$B$9:$EQ$108,81,0))","v":0},0,null,{"$f":"IF(OR(C2868=\"\",$I2853=\"NSO\"),\"\",VLOOKUP($A2848,'Result Entry'!$B$9:$EQ$108,84,0))","v":""}]
[null,"◐"]
[null,"◐","Overall Result",null,null,"Total Max. Marks",null,"Total Obtained Marks",null,"Percentage","Overall Grade","Result","Position in Class"]
[null,"◐",{"$nulls":3},{"$f":"IF(OR($I2853=\"\",$I2853=\"NSO\"),\"\",VLOOKUP($A2848,'Result Entry'!$B$9:$EQ$108,120,0))","v":900},null,{"$f":"IF(OR($I2853=\"\",$I2853=\"NSO\"),\"\",VLOOKUP($A2848,'Result Entry'!$B$9:$EQ$108,121,0))","v":0},null,{"$f":"IF(OR($I2853=\"\",$I2853=\"NSO\"),\"\",VLOOKUP($A2848,'Result Entry'!$B$9:$EQ$108,122,0))","v":{"v":0,"d":"0.00"}},{"$f":"IF(OR($I2853=\"\",$I2853=\"NSO\"),\"\",VLOOKUP($A2848,'Result Entry'!$B$9:$EQ$108,123,0))","v":""},{"$f":"IF(OR($I2853=\"\",$I2853=\"NSO\"),\"\",VLOOKUP($A2848,'Result Entry'!$B$9:$EQ$108,124,0))","v":""},{"$f":"IF(OR($I2853=\"\",$I2853=\"NSO\"),\"\",VLOOKUP($A2848,'Result Entry'!$B$9:$EQ$108,126,0))","v":""}]
[null,"◐",{"$nulls":6},"Total Meetings :-",null,{"$f":"IF(OR($I2853=\"\",$I2853=\"NSO\"),\"\",VLOOKUP($A2848,'Result Entry'!$B$9:$EQ$108,117,0))","v":0},"Attedance %"]
[null,"◐","Extra Subjects",{"$nulls":5},"Student's Meetings :-",null,{"$f":"IF(OR($I2853=\"\",$I2853=\"NSO\"),\"\",VLOOKUP($A2848,'Result Entry'!$B$9:$EQ$108,118,0))","v":0},{"$f":"IF(OR($I2853=\"\",$I2853=\"NSO\"),\"\",VLOOKUP($A2848,'Result Entry'!$B$9:$EQ$108,119,0))","v":""}]
[null,"◐","Subject",null,null,"Total Marks",null,"GRADE","Remark :-",null,{"$f":"IF(OR($I2853=\"\",$I2853=\"NSO\"),\"\",VLOOKUP($A2848,'Result Entry'!$B$9:$EQ$108,127,0))","v":0}]
[null,"◐",{"$f":"'Result Entry'!$CH$3","v":"WORK EXP."},null,null,{"$f":"IF(OR(C2875=\"\",$I2853=\"NSO\"),\"\",VLOOKUP($A2848,'Result Entry'!$B$9:$EQ$108,138,0))","v":"0/100"},null,{"$f":"IF(OR(C2875=\"\",$I2853=\"NSO\"),\"\",VLOOKUP($A2848,'Result Entry'!$B$9:$EQ$108,92,0))","v":""},"Result Date :-",null,{"$f":"'Result Entry'!$U$2","v":"2024-05-07"}]
[null,"◐",{"$f":"'Result Entry'!$CP$3","v":"ART EDU."},null,null,{"$f":"IF(OR(C2876=\"\",$I2853=\"NSO\"),\"\",VLOOKUP($A2848,'Result Entry'!$B$9:$EQ$108,142,0))","v":"0/100"},null,{"$f":"IF(OR(C2876=\"\",$I2853=\"NSO\"),\"\",VLOOKUP($A2848,'Result Entry'!$B$9:$EQ$108,100,0))","v":""}]
[null,null,{"$f":"'Result Entry'!$CX$3","v":"H&P. EDU."},null,null,{"$f":"IF(OR(C2877=\"\",$I2853=\"NSO\"),\"\",VLOOKUP($A2848,'Result Entry'!$B$9:$EQ$108,146,0))","v":"0/0"},null,{"$f":"IF(OR(C2877=\"\",$I2853=\"NSO\"),\"\",VLOOKUP($A2848,'Result Entry'!$B$9:$EQ$108,108,0))","v":""}]
[null,"◐",{"$f":"'Result Entry'!$DF$3","v":0},null,null,{"$f":"IF(OR(C2878=\"\",$I2853=\"NSO\"),\"\",VLOOKUP($A2848,'Result Entry'!$B$9:$EQ$108,131,0))","v":0},null,{"$f":"IF(OR(C2878=\"\",$I2853=\"NSO\"),\"\",VLOOKUP($A2848,'Result Entry'!$B$9:$EQ$108,97,0))","v":0},"Signature Of The Class Teacher"]
[null,"◐","Grading System"]
[null,"◐","Grd.","% Range",null,"Description"]
[null,"◐","A","86-100",null,"Excellent",null,null,"Signature And Seal Of Principal/H.M."]
[null,"◐","B","71-85",null,"Very Good"]
[null,"◐","C","51-70",null,"Good"]
[null,"◐","D","31-50",null,"Average"]
[null,"◐","E","0-30",null,"Needs Improvement",null,null,"Wish bright future"]
[]
[{"$f":"A2848+1","v":75},"Department Of Education, Rajasthan"]
[null,{"$f":"IF(I2892>0,CONCATENATE(C2892,I2892),0)","v":0},null,{"$f":"Master!$E$8","v":"Govt.Sr.Sec.Sch."}]
[{"$nulls":3},{"$f":"Master!$E$11","v":"P.S.-Bapini (Jodhpur)"}]
[null,null,"Report Card",{"$nulls":6},"U-DISE Code:-",null,{"$f":"Master!$E$14","v":{"v":810000000,"d":"0810000000"}}]
[{"$nulls":9},"Session:-",null,{"$f":"Master!$E$6","v":"2023-24"}]
[null,null,"Roll No.:-",{"$nulls":5},{"$f":"VLOOKUP($A2887,'Result Entry'!$B$9:$F$108,5,0)","v":0}]
[null,"◐","Scholar Number",{"$nulls":3},"↠",{"$f":"VLOOKUP($A2887,'Result Entry'!$B$9:$EQ$108,3,0)","v":0}]
[null,"◐","Student's Name",{"$nulls":3},"↠",{"$f":"VLOOKUP($A2887,'Result Entry'!$B$9:$EQ$108,6,0)","v":0}]
[null,"◐","Father's Name",{"$nulls":3},"↠",{"$f":"VLOOKUP($A2887,'Result Entry'!$B$9:$EQ$108,7,0)","v":0}]
[null,"◐","Mother's Name ",{"$nulls":3},"↠",{"$f":"VLOOKUP($A2887,'Result Entry'!$B$9:$EQ$108,8,0)","v":0}]
[null,"◐","Class & Section",{"$nulls":3},"↠",{"$f":"CONCATENATE('Result Entry'!$F$4,'Result Entry'!$I$4)","v":"2(A)"}]
[null,"◐","Date Of Birth",{"$nulls":3},"↠",{"$f":"VLOOKUP($A2887,'Result Entry'!$B$9:$EQ$108,9,0)","v":"00:00:00"}]
[null,"◐","Subject",null,{"$f":"'Result Entry'!$K$6","v":"First Test"},{"$f":"'Result Entry'!$L$6","v":"Second Test"},{"$f":"'Result Entry'!$M$6","v":"Third Test"},"Half Yearly","Total (Test+H.Y.)","Yearly","Grand Total",null,"Subject Grade"]
[null,"◐","Max. Marks",null,{"$f":"'Result Entry'!$K$7","v":10},{"$f":"'Result Entry'!$L$7","v":10},{"$f":"'Result Entry'!$M$7","v":10},{"$f":"'Result Entry'!$R$7","v":70},{"$f":"SUM(E2900:H2900)","v":100},{"$f":"'Result Entry'!$V$7","v":100},{"$f":"I2900+J2900","v":200},null,"A+/A/B/C/D"]
[null,"◐",{"$f":"'Result Entry'!$K$3","v":"Hindi"},null,{"$f":"IF(OR(C2901=\"\",$I2892=\"NSO\"),\"\",VLOOKUP($A2887,'Result Entry'!$B$9:$EQ$108,10,0))","v":0},{"$f":"IF(OR(C2901=\"\",$I2892=\"NSO\"),\"\",VLOOKUP($A2887,'Result Entry'!$B$9:$EQ$108,11,0))","v":0},{"$f":"IF(OR(C2901=\"\",$I2892=\"NSO\"),\"\",VLOOKUP($A2887,'Result Entry'!$B$9:$EQ$108,12,0))","v":0},{"$f":"IF(OR(C2901=\"\",$I2892=\"NSO\"),\"\",VLOOKUP($A2887,'Result Entry'!$B$9:$EQ$108,17,0))","v":0},{"$f":"SUM(E2901:H2901)","v":0},{"$f":"IF(OR(C2901=\"\",$I2892=\"NSO\"),\"\",VLOOKUP($A2887,'Result Entry'!$B$9:$EQ$108,21,0))","v":0},{"$f":"SUM(I2901,J2901)","v":0},null,{"$f":"IF(OR(C2901=\"\",$I2892=\"NSO\"),\"\",VLOOKUP($A2887,'Result Entry'!$B$9:$EQ$108,24,0))","v":""}]
[null,"◐",{"$f":"'Result Entry'!$Z$3","v":"Mathematics"},null,{"$f":"IF(OR(C2902=\"\",$I2892=\"NSO\"),\"\",VLOOKUP($A2887,'Result Entry'!$B$9:$EQ$108,25,0))","v":0},{"$f":"IF(OR(C2902=\"\",$I2892=\"NSO\"),\"\",VLOOKUP($A2887,'Result Entry'!$B$9:$EQ$108,26,0))","v":0},{"$f":"IF(OR(C2902=\"\",$I2892=\"NSO\"),\"\",VLOOKUP($A2887,'Result Entry'!$B$9:$EQ$108,27,0))","v":0},{"$f":"IF(OR(C2902=\"\",$I2892=\"NSO\"),\"\",VLOOKUP($A2887,'Result Entry'!$B$9:$EQ$108,32,0))","v":0},0,{"$f":"IF(OR(C2902=\"\",$I2892=\"NSO\"),\"\",VLOOKUP($A2887,'Result Entry'!$B$9:$EQ$108,36,0))","v":0},{"$f":"SUM(I2902,J2902)","v":0},null,{"$f":"IF(OR(C2902=\"\",$I2892=\"NSO\"),\"\",VLOOKUP($A2887,'Result Entry'!$B$9:$EQ$108,39,0))","v":""}]
[null,"◐",{"$f":"'Result Entry'!$BD$3","v":"Env. Study"},null,{"$f":"IF(OR(C2903=\"\",$I2892=\"NSO\"),\"\",VLOOKUP($A2887,'Result Entry'!$B$9:$EQ$108,55,0))","v":0},{"$f":"IF(OR(C2903=\"\",$I2892=\"NSO\"),\"\",VLOOKUP($A2887,'Result Entry'!$B$9:$EQ$108,56,0))","v":0},{"$f":"IF(OR(C2903=\"\",$I2892=\"NSO\"),\"\",VLOOKUP($A2887,'Result Entry'!$B$9:$EQ$108,57,0))","v":0},{"$f":"IF(OR(C2901=\"\",$I2892=\"NSO\"),\"\",VLOOKUP($A2887,'Result Entry'!$B$9:$EQ$108,62,0))","v":0},0,{"$f":"IF(OR(C2902=\"\",$I2892=\"NSO\"),\"\",VLOOKUP($A2887,'Result Entry'!$B$9:$EQ$108,66,0))","v":0},0,null,{"$f":"IF(OR(C2902=\"\",$I2892=\"NSO\"),\"\",VLOOKUP($A2887,'Result Entry'!$B$9:$EQ$108,69,0))","v":""}]
[null,"◐","Max. Marks",null,{"$f":"'Result Entry'!$AO$7","v":5},{"$f":"'Result Entry'!$AP$7","v":5},{"$f":"'Result Entry'!$AQ$7","v":5},{"$f":"'Result Entry'!$AV$7","v":35},50,{"$f":"'Result Entry'!$AZ$7","v":50},100,null,"A+/A/B/C/D"]
[null,"◐",{"$f":"'Result Entry'!$AO$3","v":"English"},null,{"$f":"IF(OR(C2905=\"\",$I2892=\"NSO\"),\"\",VLOOKUP($A2887,'Result Entry'!$B$9:$EQ$108,40,0))","v":0},{"$f":"IF(OR(C2905=\"\",$I2892=\"NSO\"),\"\",VLOOKUP($A2887,'Result Entry'!$B$9:$EQ$108,41,0))","v":0},{"$f":"IF(OR(C2905=\"\",$I2892=\"NSO\"),\"\",VLOOKUP($A2887,'Result Entry'!$B$9:$EQ$108,42,0))","v":0},{"$f":"IF(OR(C2905=\"\",$I2892=\"NSO\"),\"\",VLOOKUP($A2887,'Result Entry'!$B$9:$EQ$108,47,0))","v":0},0,{"$f":"IF(OR(C2905=\"\",$I2892=\"NSO\"),\"\",VLOOKUP($A2887,'Result Entry'!$B$9:$EQ$108,51,0))","v":0},0,null,{"$f":"IF(OR(C2905=\"\",$I2892=\"NSO\"),\"\",VLOOKUP($A2887,'Result Entry'!$B$9:$EQ$108,54,0))","v":""}]
[null,"◐","Max. Marks",null,{"$f":"'Result Entry'!$BS$7","v":10},{"$f":"'Result Entry'!$BT$7","v":10},{"$f":"'Result Entry'!$BU$7","v":10},{"$f":"'Result Entry'!$BZ$7","v":70},{"$f":"SUM(E2906:H2906)","v":100},{"$f":"'Result Entry'!$CD$7","v":100},200,null,"A+/A/B/C/D"]
[null,"◐",{"$f":"'Result Entry'!$BS$3","v":"Sanskrit/Urdu"},null,{"$f":"IF(OR(C2907=\"\",$I2892=\"NSO\"),\"\",VLOOKUP($A2887,'Result Entry'!$B$9:$EQ$108,70,0))","v":0},{"$f":"IF(OR(C2907=\"\",$I2892=\"NSO\"),\"\",VLOOKUP($A2887,'Result Entry'!$B$9:$EQ$108,71,0))","v":0},{"$f":"IF(OR(C2907=\"\",$I2892=\"NSO\"),\"\",VLOOKUP($A2887,'Result Entry'!$B$9:$EQ$108,72,0))","v":0},{"$f":"IF(OR(C2907=\"\",$I2892=\"NSO\"),\"\",VLOOKUP($A2887,'Result Entry'!$B$9:$EQ$108,77,0))","v":0},{"$f":"SUM(E2907:H2907)","v":0},{"$f":"IF(OR(C2907=\"\",$I2892=\"NSO\"),\"\",VLOOKUP($A2887,'Result Entry'!$B$9:$EQ$108,81,0))","v":0},0,null,{"$f":"IF(OR(C2907=\"\",$I2892=\"NSO\"),\"\",VLOOKUP($A2887,'Result Entry'!$B$9:$EQ$108,84,0))","v":""}]
[null,"◐"]
[null,"◐","Overall Result",null,null,"Total Max. Marks",null,"Total Obtained Marks",null,"Percentage","Overall Grade","Result","Position in Class"]
[null,"◐",{"$nulls":3},{"$f":"IF(OR($I2892=\"\",$I2892=\"NSO\"),\"\",VLOOKUP($A2887,'Result Entry'!$B$9:$EQ$108,120,0))","v":900},null,{"$f":"IF(OR($I2892=\"\",$I2892=\"NSO\"),\"\",VLOOKUP($A2887,'Result Entry'!$B$9:$EQ$108,121,0))","v":0},null,{"$f":"IF(OR($I2892=\"\",$I2892=\"NSO\"),\"\",VLOOKUP($A2887,'Result Entry'!$B$9:$EQ$108,122,0))","v":{"v":0,"d":"0.00"}},{"$f":"IF(OR($I2892=\"\",$I2892=\"NSO\"),\"\",VLOOKUP($A2887,'Result Entry'!$B$9:$EQ$108,123,0))","v":""},{"$f":"IF(OR($I2892=\"\",$I2892=\"NSO\"),\"\",VLOOKUP($A2887,'Result Entry'!$B$9:$EQ$108,124,0))","v":""},{"$f":"IF(OR($I2892=\"\",$I2892=\"NSO\"),\"\",VLOOKUP($A2887,'Result Entry'!$B$9:$EQ$108,126,0))","v":""}]
[null,"◐",{"$nulls":6},"Total Meetings :-",null,{"$f":"IF(OR($I2892=\"\",$I2892=\"NSO\"),\"\",VLOOKUP($A2887,'Result Entry'!$B$9:$EQ$108,117,0))","v":0},"Attedance %"]
[null,"◐","Extra Subjects",{"$nulls":5},"Student's Meetings :-",null,{"$f":"IF(OR($I2892=\"\",$I2892=\"NSO\"),\"\",VLOOKUP($A2887,'Result Entry'!$B$9:$EQ$108,118,0))","v":0},{"$f":"IF(OR($I2892=\"\",$I2892=\"NSO\"),\"\",VLOOKUP($A2887,'Result Entry'!$B$9:$EQ$108,119,0))","v":""}]
[null,"◐","Subject",null,null,"Total Marks",null,"GRADE","Remark :-",null,{"$f":"IF(OR($I2892=\"\",$I2892=\"NSO\"),\"\",VLOOKUP($A2887,'Result Entry'!$B$9:$EQ$108,127,0))","v":0}]
[null,"◐",{"$f":"'Result Entry'!$CH$3","v":"WORK EXP."},null,null,{"$f":"IF(OR(C2914=\"\",$I2892=\"NSO\"),\"\",VLOOKUP($A2887,'Result Entry'!$B$9:$EQ$108,138,0))","v":"0/100"},null,{"$f":"IF(OR(C2914=\"\",$I2892=\"NSO\"),\"\",VLOOKUP($A2887,'Result Entry'!$B$9:$EQ$108,92,0))","v":""},"Result Date :-",null,{"$f":"'Result Entry'!$U$2","v":"2024-05-07"}]
[null,"◐",{"$f":"'Result Entry'!$CP$3","v":"ART EDU."},null,null,{"$f":"IF(OR(C2915=\"\",$I2892=\"NSO\"),\"\",VLOOKUP($A2887,'Result Entry'!$B$9:$EQ$108,142,0))","v":"0/100"},null,{"$f":"IF(OR(C2915=\"\",$I2892=\"NSO\"),\"\",VLOOKUP($A2887,'Result Entry'!$B$9:$EQ$108,100,0))","v":""}]
[null,null,{"$f":"'Result Entry'!$CX$3","v":"H&P. EDU."},null,null,{"$f":"IF(OR(C2916=\"\",$I2892=\"NSO\"),\"\",VLOOKUP($A2887,'Result Entry'!$B$9:$EQ$108,146,0))","v":"0/0"},null,{"$f":"IF(OR(C2916=\"\",$I2892=\"NSO\"),\"\",VLOOKUP($A2887,'Result Entry'!$B$9:$EQ$108,108,0))","v":""}]
[null,"◐",{"$f":"'Result Entry'!$DF$3","v":0},null,null,{"$f":"IF(OR(C2917=\"\",$I2892=\"NSO\"),\"\",VLOOKUP($A2887,'Result Entry'!$B$9:$EQ$108,131,0))","v":0},null,{"$f":"IF(OR(C2917=\"\",$I2892=\"NSO\"),\"\",VLOOKUP($A2887,'Result Entry'!$B$9:$EQ$108,97,0))","v":0},"Signature Of The Class Teacher"]
[null,"◐","Grading System"]
[null,"◐","Grd.","% Range",null,"Description"]
[null,"◐","A","86-100",null,"Excellent",null,null,"Signature And Seal Of Principal/H.M."]
[null,"◐","B","71-85",null,"Very Good"]
[null,"◐","C","51-70",null,"Good"]
[null,"◐","D","31-50",null,"Average"]
[null,"◐","E","0-30",null,"Needs Improvement",null,null,"Wish bright future"]
[]
[{"$f":"A2887+1","v":76},"Department Of Education, Rajasthan"]
[null,{"$f":"IF(I2931>0,CONCATENATE(C2931,I2931),0)","v":0},null,{"$f":"Master!$E$8","v":"Govt.Sr.Sec.Sch."}]
[{"$nulls":3},{"$f":"Master!$E$11","v":"P.S.-Bapini (Jodhpur)"}]
[null,null,"Report Card",{"$nulls":6},"U-DISE Code:-",null,{"$f":"Master!$E$14","v":{"v":810000000,"d":"0810000000"}}]
[{"$nulls":9},"Session:-",null,{"$f":"Master!$E$6","v":"2023-24"}]
[null,null,"Roll No.:-",{"$nulls":5},{"$f":"VLOOKUP($A2926,'Result Entry'!$B$9:$F$108,5,0)","v":0}]
[null,"◐","Scholar Number",{"$nulls":3},"↠",{"$f":"VLOOKUP($A2926,'Result Entry'!$B$9:$EQ$108,3,0)","v":0}]
[null,"◐","Student's Name",{"$nulls":3},"↠",{"$f":"VLOOKUP($A2926,'Result Entry'!$B$9:$EQ$108,6,0)","v":0}]
[null,"◐","Father's Name",{"$nulls":3},"↠",{"$f":"VLOOKUP($A2926,'Result Entry'!$B$9:$EQ$108,7,0)","v":0}]
[null,"◐","Mother's Name ",{"$nulls":3},"↠",{"$f":"VLOOKUP($A2926,'Result Entry'!$B$9:$EQ$108,8,0)","v":0}]
[null,"◐","Class & Section",{"$nulls":3},"↠",{"$f":"CONCATENATE('Result Entry'!$F$4,'Result Entry'!$I$4)","v":"2(A)"}]
[null,"◐","Date Of Birth",{"$nulls":3},"↠",{"$f":"VLOOKUP($A2926,'Result Entry'!$B$9:$EQ$108,9,0)","v":"00:00:00"}]
[null,"◐","Subject",null,{"$f":"'Result Entry'!$K$6","v":"First Test"},{"$f":"'Result Entry'!$L$6","v":"Second Test"},{"$f":"'Result Entry'!$M$6","v":"Third Test"},"Half Yearly","Total (Test+H.Y.)","Yearly","Grand Total",null,"Subject Grade"]
[null,"◐","Max. Marks",null,{"$f":"'Result Entry'!$K$7","v":10},{"$f":"'Result Entry'!$L$7","v":10},{"$f":"'Result Entry'!$M$7","v":10},{"$f":"'Result Entry'!$R$7","v":70},{"$f":"SUM(E2939:H2939)","v":100},{"$f":"'Result Entry'!$V$7","v":100},{"$f":"I2939+J2939","v":200},null,"A+/A/B/C/D"]
[null,"◐",{"$f":"'Result Entry'!$K$3","v":"Hindi"},null,{"$f":"IF(OR(C2940=\"\",$I2931=\"NSO\"),\"\",VLOOKUP($A2926,'Result Entry'!$B$9:$EQ$108,10,0))","v":0},{"$f":"IF(OR(C2940=\"\",$I2931=\"NSO\"),\"\",VLOOKUP($A2926,'Result Entry'!$B$9:$EQ$108,11,0))","v":0},{"$f":"IF(OR(C2940=\"\",$I2931=\"NSO\"),\"\",VLOOKUP($A2926,'Result Entry'!$B$9:$EQ$108,12,0))","v":0},{"$f":"IF(OR(C2940=\"\",$I2931=\"NSO\"),\"\",VLOOKUP($A2926,'Result Entry'!$B$9:$EQ$108,17,0))","v":0},{"$f":"SUM(E2940:H2940)","v":0},{"$f":"IF(OR(C2940=\"\",$I2931=\"NSO\"),\"\",VLOOKUP($A2926,'Result Entry'!$B$9:$EQ$108,21,0))","v":0},{"$f":"SUM(I2940,J2940)","v":0},null,{"$f":"IF(OR(C2940=\"\",$I2931=\"NSO\"),\"\",VLOOKUP($A2926,'Result Entry'!$B$9:$EQ$108,24,0))","v":""}]
[null,"◐",{"$f":"'Result Entry'!$Z$3","v":"Mathematics"},null,{"$f":"IF(OR(C2941=\"\",$I2931=\"NSO\"),\"\",VLOOKUP($A2926,'Result Entry'!$B$9:$EQ$108,25,0))","v":0},{"$f":"IF(OR(C2941=\"\",$I2931=\"NSO\"),\"\",VLOOKUP($A2926,'Result Entry'!$B$9:$EQ$108,26,0))","v":0},{"$f":"IF(OR(C2941=\"\",$I2931=\"NSO\"),\"\",VLOOKUP($A2926,'Result Entry'!$B$9:$EQ$108,27,0))","v":0},{"$f":"IF(OR(C2941=\"\",$I2931=\"NSO\"),\"\",VLOOKUP($A2926,'Result Entry'!$B$9:$EQ$108,32,0))","v":0},0,{"$f":"IF(OR(C2941=\"\",$I2931=\"NSO\"),\"\",VLOOKUP($A2926,'Result Entry'!$B$9:$EQ$108,36,0))","v":0},{"$f":"SUM(I2941,J2941)","v":0},null,{"$f":"IF(OR(C2941=\"\",$I2931=\"NSO\"),\"\",VLOOKUP($A2926,'Result Entry'!$B$9:$EQ$108,39,0))","v":""}]
[null,"◐",{"$f":"'Result Entry'!$BD$3","v":"Env. Study"},null,{"$f":"IF(OR(C2942=\"\",$I2931=\"NSO\"),\"\",VLOOKUP($A2926,'Result Entry'!$B$9:$EQ$108,55,0))","v":0},{"$f":"IF(OR(C2942=\"\",$I2931=\"NSO\"),\"\",VLOOKUP($A2926,'Result Entry'!$B$9:$EQ$108,56,0))","v":0},{"$f":"IF(OR(C2942=\"\",$I2931=\"NSO\"),\"\",VLOOKUP($A2926,'Result Entry'!$B$9:$EQ$108,57,0))","v":0},{"$f":"IF(OR(C2940=\"\",$I2931=\"NSO\"),\"\",VLOOKUP($A2926,'Result Entry'!$B$9:$EQ$108,62,0))","v":0},0,{"$f":"IF(OR(C2941=\"\",$I2931=\"NSO\"),\"\",VLOOKUP($A2926,'Result Entry'!$B$9:$EQ$108,66,0))","v":0},0,null,{"$f":"IF(OR(C2941=\"\",$I2931=\"NSO\"),\"\",VLOOKUP($A2926,'Result Entry'!$B$9:$EQ$108,69,0))","v":""}]
[null,"◐","Max. Marks",null,{"$f":"'Result Entry'!$AO$7","v":5},{"$f":"'Result Entry'!$AP$7","v":5},{"$f":"'Result Entry'!$AQ$7","v":5},{"$f":"'Result Entry'!$AV$7","v":35},50,{"$f":"'Result Entry'!$AZ$7","v":50},100,null,"A+/A/B/C/D"]
[null,"◐",{"$f":"'Result Entry'!$AO$3","v":"English"},null,{"$f":"IF(OR(C2944=\"\",$I2931=\"NSO\"),\"\",VLOOKUP($A2926,'Result Entry'!$B$9:$EQ$108,40,0))","v":0},{"$f":"IF(OR(C2944=\"\",$I2931=\"NSO\"),\"\",VLOOKUP($A2926,'Result Entry'!$B$9:$EQ$108,41,0))","v":0},{"$f":"IF(OR(C2944=\"\",$I2931=\"NSO\"),\"\",VLOOKUP($A2926,'Result Entry'!$B$9:$EQ$108,42,0))","v":0},{"$f":"IF(OR(C2944=\"\",$I2931=\"NSO\"),\"\",VLOOKUP($A2926,'Result Entry'!$B$9:$EQ$108,47,0))","v":0},0,{"$f":"IF(OR(C2944=\"\",$I2931=\"NSO\"),\"\",VLOOKUP($A2926,'Result Entry'!$B$9:$EQ$108,51,0))","v":0},0,null,{"$f":"IF(OR(C2944=\"\",$I2931=\"NSO\"),\"\",VLOOKUP($A2926,'Result Entry'!$B$9:$EQ$108,54,0))","v":""}]
[null,"◐","Max. Marks",null,{"$f":"'Result Entry'!$BS$7","v":10},{"$f":"'Result Entry'!$BT$7","v":10},{"$f":"'Result Entry'!$BU$7","v":10},{"$f":"'Result Entry'!$BZ$7","v":70},{"$f":"SUM(E2945:H2945)","v":100},{"$f":"'Result Entry'!$CD$7","v":100},200,null,"A+/A/B/C/D"]
[null,"◐",{"$f":"'Result Entry'!$BS$3","v":"Sanskrit/Urdu"},null,{"$f":"IF(OR(C2946=\"\",$I2931=\"NSO\"),\"\",VLOOKUP($A2926,'Result Entry'!$B$9:$EQ$108,70,0))","v":0},{"$f":"IF(OR(C2946=\"\",$I2931=\"NSO\"),\"\",VLOOKUP($A2926,'Result Entry'!$B$9:$EQ$108,71,0))","v":0},{"$f":"IF(OR(C2946=\"\",$I2931=\"NSO\"),\"\",VLOOKUP($A2926,'Result Entry'!$B$9:$EQ$108,72,0))","v":0},{"$f":"IF(OR(C2946=\"\",$I2931=\"NSO\"),\"\",VLOOKUP($A2926,'Result Entry'!$B$9:$EQ$108,77,0))","v":0},{"$f":"SUM(E2946:H2946)","v":0},{"$f":"IF(OR(C2946=\"\",$I2931=\"NSO\"),\"\",VLOOKUP($A2926,'Result Entry'!$B$9:$EQ$108,81,0))","v":0},0,null,{"$f":"IF(OR(C2946=\"\",$I2931=\"NSO\"),\"\",VLOOKUP($A2926,'Result Entry'!$B$9:$EQ$108,84,0))","v":""}]
[null,"◐"]
[null,"◐","Overall Result",null,null,"Total Max. Marks",null,"Total Obtained Marks",null,"Percentage","Overall Grade","Result","Position in Class"]
[null,"◐",{"$nulls":3},{"$f":"IF(OR($I2931=\"\",$I2931=\"NSO\"),\"\",VLOOKUP($A2926,'Result Entry'!$B$9:$EQ$108,120,0))","v":900},null,{"$f":"IF(OR($I2931=\"\",$I2931=\"NSO\"),\"\",VLOOKUP($A2926,'Result Entry'!$B$9:$EQ$108,121,0))","v":0},null,{"$f":"IF(OR($I2931=\"\",$I2931=\"NSO\"),\"\",VLOOKUP($A2926,'Result Entry'!$B$9:$EQ$108,122,0))","v":{"v":0,"d":"0.00"}},{"$f":"IF(OR($I2931=\"\",$I2931=\"NSO\"),\"\",VLOOKUP($A2926,'Result Entry'!$B$9:$EQ$108,123,0))","v":""},{"$f":"IF(OR($I2931=\"\",$I2931=\"NSO\"),\"\",VLOOKUP($A2926,'Result Entry'!$B$9:$EQ$108,124,0))","v":""},{"$f":"IF(OR($I2931=\"\",$I2931=\"NSO\"),\"\",VLOOKUP($A2926,'Result Entry'!$B$9:$EQ$108,126,0))","v":""}]
[null,"◐",{"$nulls":6},"Total Meetings :-",null,{"$f":"IF(OR($I2931=\"\",$I2931=\"NSO\"),\"\",VLOOKUP($A2926,'Result Entry'!$B$9:$EQ$108,117,0))","v":0},"Attedance %"]
[null,"◐","Extra Subjects",{"$nulls":5},"Student's Meetings :-",null,{"$f":"IF(OR($I2931=\"\",$I2931=\"NSO\"),\"\",VLOOKUP($A2926,'Result Entry'!$B$9:$EQ$108,118,0))","v":0},{"$f":"IF(OR($I2931=\"\",$I2931=\"NSO\"),\"\",VLOOKUP($A2926,'Result Entry'!$B$9:$EQ$108,119,0))","v":""}]
[null,"◐","Subject",null,null,"Total Marks",null,"GRADE","Remark :-",null,{"$f":"IF(OR($I2931=\"\",$I2931=\"NSO\"),\"\",VLOOKUP($A2926,'Result Entry'!$B$9:$EQ$108,127,0))","v":0}]
[null,"◐",{"$f":"'Result Entry'!$CH$3","v":"WORK EXP."},null,null,{"$f":"IF(OR(C2953=\"\",$I2931=\"NSO\"),\"\",VLOOKUP($A2926,'Result Entry'!$B$9:$EQ$108,138,0))","v":"0/100"},null,{"$f":"IF(OR(C2953=\"\",$I2931=\"NSO\"),\"\",VLOOKUP($A2926,'Result Entry'!$B$9:$EQ$108,92,0))","v":""},"Result Date :-",null,{"$f":"'Result Entry'!$U$2","v":"2024-05-07"}]
[null,"◐",{"$f":"'Result Entry'!$CP$3","v":"ART EDU."},null,null,{"$f":"IF(OR(C2954=\"\",$I2931=\"NSO\"),\"\",VLOOKUP($A2926,'Result Entry'!$B$9:$EQ$108,142,0))","v":"0/100"},null,{"$f":"IF(OR(C2954=\"\",$I2931=\"NSO\"),\"\",VLOOKUP($A2926,'Result Entry'!$B$9:$EQ$108,100,0))","v":""}]
[null,null,{"$f":"'Result Entry'!$CX$3","v":"H&P. EDU."},null,null,{"$f":"IF(OR(C2955=\"\",$I2931=\"NSO\"),\"\",VLOOKUP($A2926,'Result Entry'!$B$9:$EQ$108,146,0))","v":"0/0"},null,{"$f":"IF(OR(C2955=\"\",$I2931=\"NSO\"),\"\",VLOOKUP($A2926,'Result Entry'!$B$9:$EQ$108,108,0))","v":""}]
[null,"◐",{"$f":"'Result Entry'!$DF$3","v":0},null,null,{"$f":"IF(OR(C2956=\"\",$I2931=\"NSO\"),\"\",VLOOKUP($A2926,'Result Entry'!$B$9:$EQ$108,131,0))","v":0},null,{"$f":"IF(OR(C2956=\"\",$I2931=\"NSO\"),\"\",VLOOKUP($A2926,'Result Entry'!$B$9:$EQ$108,97,0))","v":0},"Signature Of The Class Teacher"]
[null,"◐","Grading System"]
[null,"◐","Grd.","% Range",null,"Description"]
[null,"◐","A","86-100",null,"Excellent",null,null,"Signature And Seal Of Principal/H.M."]
[null,"◐","B","71-85",null,"Very Good"]
[null,"◐","C","51-70",null,"Good"]
[null,"◐","D","31-50",null,"Average"]
[null,"◐","E","0-30",null,"Needs Improvement",null,null,"Wish bright future"]
[]
[{"$f":"A2926+1","v":77},"Department Of Education, Rajasthan"]
[null,{"$f":"IF(I2970>0,CONCATENATE(C2970,I2970),0)","v":0},null,{"$f":"Master!$E$8","v":"Govt.Sr.Sec.Sch."}]
[{"$nulls":3},{"$f":"Master!$E$11","v":"P.S.-Bapini (Jodhpur)"}]
[null,null,"Report Card",{"$nulls":6},"U-DISE Code:-",null,{"$f":"Master!$E$14","v":{"v":810000000,"d":"0810000000"}}]
[{"$nulls":9},"Session:-",null,{"$f":"Master!$E$6","v":"2023-24"}]
[null,null,"Roll No.:-",{"$nulls":5},{"$f":"VLOOKUP($A2965,'Result Entry'!$B$9:$F$108,5,0)","v":0}]
[null,"◐","Scholar Number",{"$nulls":3},"↠",{"$f":"VLOOKUP($A2965,'Result Entry'!$B$9:$EQ$108,3,0)","v":0}]
[null,"◐","Student's Name",{"$nulls":3},"↠",{"$f":"VLOOKUP($A2965,'Result Entry'!$B$9:$EQ$108,6,0)","v":0}]
[null,"◐","Father's Name",{"$nulls":3},"↠",{"$f":"VLOOKUP($A2965,'Result Entry'!$B$9:$EQ$108,7,0)","v":0}]
[null,"◐","Mother's Name ",{"$nulls":3},"↠",{"$f":"VLOOKUP($A2965,'Result Entry'!$B$9:$EQ$108,8,0)","v":0}]
[null,"◐","Class & Section",{"$nulls":3},"↠",{"$f":"CONCATENATE('Result Entry'!$F$4,'Result Entry'!$I$4)","v":"2(A)"}]
[null,"◐","Date Of Birth",{"$nulls":3},"↠",{"$f":"VLOOKUP($A2965,'Result Entry'!$B$9:$EQ$108,9,0)","v":"00:00:00"}]
[null,"◐","Subject",null,{"$f":"'Result Entry'!$K$6","v":"First Test"},{"$f":"'Result Entry'!$L$6","v":"Second Test"},{"$f":"'Result Entry'!$M$6","v":"Third Test"},"Half Yearly","Total (Test+H.Y.)","Yearly","Grand Total",null,"Subject Grade"]
[null,"◐","Max. Marks",null,{"$f":"'Result Entry'!$K$7","v":10},{"$f":"'Result Entry'!$L$7","v":10},{"$f":"'Result Entry'!$M$7","v":10},{"$f":"'Result Entry'!$R$7","v":70},{"$f":"SUM(E2978:H2978)","v":100},{"$f":"'Result Entry'!$V$7","v":100},{"$f":"I2978+J2978","v":200},null,"A+/A/B/C/D"]
[null,"◐",{"$f":"'Result Entry'!$K$3","v":"Hindi"},null,{"$f":"IF(OR(C2979=\"\",$I2970=\"NSO\"),\"\",VLOOKUP($A2965,'Result Entry'!$B$9:$EQ$108,10,0))","v":0},{"$f":"IF(OR(C2979=\"\",$I2970=\"NSO\"),\"\",VLOOKUP($A2965,'Result Entry'!$B$9:$EQ$108,11,0))","v":0},{"$f":"IF(OR(C2979=\"\",$I2970=\"NSO\"),\"\",VLOOKUP($A2965,'Result Entry'!$B$9:$EQ$108,12,0))","v":0},{"$f":"IF(OR(C2979=\"\",$I2970=\"NSO\"),\"\",VLOOKUP($A2965,'Result Entry'!$B$9:$EQ$108,17,0))","v":0},{"$f":"SUM(E2979:H2979)","v":0},{"$f":"IF(OR(C2979=\"\",$I2970=\"NSO\"),\"\",VLOOKUP($A2965,'Result Entry'!$B$9:$EQ$108,21,0))","v":0},{"$f":"SUM(I2979,J2979)","v":0},null,{"$f":"IF(OR(C2979=\"\",$I2970=\"NSO\"),\"\",VLOOKUP($A2965,'Result Entry'!$B$9:$EQ$108,24,0))","v":""}]
[null,"◐",{"$f":"'Result Entry'!$Z$3","v":"Mathematics"},null,{"$f":"IF(OR(C2980=\"\",$I2970=\"NSO\"),\"\",VLOOKUP($A2965,'Result Entry'!$B$9:$EQ$108,25,0))","v":0},{"$f":"IF(OR(C2980=\"\",$I2970=\"NSO\"),\"\",VLOOKUP($A2965,'Result Entry'!$B$9:$EQ$108,26,0))","v":0},{"$f":"IF(OR(C2980=\"\",$I2970=\"NSO\"),\"\",VLOOKUP($A2965,'Result Entry'!$B$9:$EQ$108,27,0))","v":0},{"$f":"IF(OR(C2980=\"\",$I2970=\"NSO\"),\"\",VLOOKUP($A2965,'Result Entry'!$B$9:$EQ$108,32,0))","v":0},0,{"$f":"IF(OR(C2980=\"\",$I2970=\"NSO\"),\"\",VLOOKUP($A2965,'Result Entry'!$B$9:$EQ$108,36,0))","v":0},{"$f":"SUM(I2980,J2980)","v":0},null,{"$f":"IF(OR(C2980=\"\",$I2970=\"NSO\"),\"\",VLOOKUP($A2965,'Result Entry'!$B$9:$EQ$108,39,0))","v":""}]
[null,"◐",{"$f":"'Result Entry'!$BD$3","v":"Env. Study"},null,{"$f":"IF(OR(C2981=\"\",$I2970=\"NSO\"),\"\",VLOOKUP($A2965,'Result Entry'!$B$9:$EQ$108,55,0))","v":0},{"$f":"IF(OR(C2981=\"\",$I2970=\"NSO\"),\"\",VLOOKUP($A2965,'Result Entry'!$B$9:$EQ$108,56,0))","v":0},{"$f":"IF(OR(C2981=\"\",$I2970=\"NSO\"),\"\",VLOOKUP($A2965,'Result Entry'!$B$9:$EQ$108,57,0))","v":0},{"$f":"IF(OR(C2979=\"\",$I2970=\"NSO\"),\"\",VLOOKUP($A2965,'Result Entry'!$B$9:$EQ$108,62,0))","v":0},0,{"$f":"IF(OR(C2980=\"\",$I2970=\"NSO\"),\"\",VLOOKUP($A2965,'Result Entry'!$B$9:$EQ$108,66,0))","v":0},0,null,{"$f":"IF(OR(C2980=\"\",$I2970=\"NSO\"),\"\",VLOOKUP($A2965,'Result Entry'!$B$9:$EQ$108,69,0))","v":""}]
[null,"◐","Max. Marks",null,{"$f":"'Result Entry'!$AO$7","v":5},{"$f":"'Result Entry'!$AP$7","v":5},{"$f":"'Result Entry'!$AQ$7","v":5},{"$f":"'Result Entry'!$AV$7","v":35},50,{"$f":"'Result Entry'!$AZ$7","v":50},100,null,"A+/A/B/C/D"]
[null,"◐",{"$f":"'Result Entry'!$AO$3","v":"English"},null,{"$f":"IF(OR(C2983=\"\",$I2970=\"NSO\"),\"\",VLOOKUP($A2965,'Result Entry'!$B$9:$EQ$108,40,0))","v":0},{"$f":"IF(OR(C2983=\"\",$I2970=\"NSO\"),\"\",VLOOKUP($A2965,'Result Entry'!$B$9:$EQ$108,41,0))","v":0},{"$f":"IF(OR(C2983=\"\",$I2970=\"NSO\"),\"\",VLOOKUP($A2965,'Result Entry'!$B$9:$EQ$108,42,0))","v":0},{"$f":"IF(OR(C2983=\"\",$I2970=\"NSO\"),\"\",VLOOKUP($A2965,'Result Entry'!$B$9:$EQ$108,47,0))","v":0},0,{"$f":"IF(OR(C2983=\"\",$I2970=\"NSO\"),\"\",VLOOKUP($A2965,'Result Entry'!$B$9:$EQ$108,51,0))","v":0},0,null,{"$f":"IF(OR(C2983=\"\",$I2970=\"NSO\"),\"\",VLOOKUP($A2965,'Result Entry'!$B$9:$EQ$108,54,0))","v":""}]
[null,"◐","Max. Marks",null,{"$f":"'Result Entry'!$BS$7","v":10},{"$f":"'Result Entry'!$BT$7","v":10},{"$f":"'Result Entry'!$BU$7","v":10},{"$f":"'Result Entry'!$BZ$7","v":70},{"$f":"SUM(E2984:H2984)","v":100},{"$f":"'Result Entry'!$CD$7","v":100},200,null,"A+/A/B/C/D"]
[null,"◐",{"$f":"'Result Entry'!$BS$3","v":"Sanskrit/Urdu"},null,{"$f":"IF(OR(C2985=\"\",$I2970=\"NSO\"),\"\",VLOOKUP($A2965,'Result Entry'!$B$9:$EQ$108,70,0))","v":0},{"$f":"IF(OR(C2985=\"\",$I2970=\"NSO\"),\"\",VLOOKUP($A2965,'Result Entry'!$B$9:$EQ$108,71,0))","v":0},{"$f":"IF(OR(C2985=\"\",$I2970=\"NSO\"),\"\",VLOOKUP($A2965,'Result Entry'!$B$9:$EQ$108,72,0))","v":0},{"$f":"IF(OR(C2985=\"\",$I2970=\"NSO\"),\"\",VLOOKUP($A2965,'Result Entry'!$B$9:$EQ$108,77,0))","v":0},{"$f":"SUM(E2985:H2985)","v":0},{"$f":"IF(OR(C2985=\"\",$I2970=\"NSO\"),\"\",VLOOKUP($A2965,'Result Entry'!$B$9:$EQ$108,81,0))","v":0},0,null,{"$f":"IF(OR(C2985=\"\",$I2970=\"NSO\"),\"\",VLOOKUP($A2965,'Result Entry'!$B$9:$EQ$108,84,0))","v":""}]
[null,"◐"]
[null,"◐","Overall Result",null,null,"Total Max. Marks",null,"Total Obtained Marks",null,"Percentage","Overall Grade","Result","Position in Class"]
[null,"◐",{"$nulls":3},{"$f":"IF(OR($I2970=\"\",$I2970=\"NSO\"),\"\",VLOOKUP($A2965,'Result Entry'!$B$9:$EQ$108,120,0))","v":900},null,{"$f":"IF(OR($I2970=\"\",$I2970=\"NSO\"),\"\",VLOOKUP($A2965,'Result Entry'!$B$9:$EQ$108,121,0))","v":0},null,{"$f":"IF(OR($I2970=\"\",$I2970=\"NSO\"),\"\",VLOOKUP($A2965,'Result Entry'!$B$9:$EQ$108,122,0))","v":{"v":0,"d":"0.00"}},{"$f":"IF(OR($I2970=\"\",$I2970=\"NSO\"),\"\",VLOOKUP($A2965,'Result Entry'!$B$9:$EQ$108,123,0))","v":""},{"$f":"IF(OR($I2970=\"\",$I2970=\"NSO\"),\"\",VLOOKUP($A2965,'Result Entry'!$B$9:$EQ$108,124,0))","v":""},{"$f":"IF(OR($I2970=\"\",$I2970=\"NSO\"),\"\",VLOOKUP($A2965,'Result Entry'!$B$9:$EQ$108,126,0))","v":""}]
[null,"◐",{"$nulls":6},"Total Meetings :-",null,{"$f":"IF(OR($I2970=\"\",$I2970=\"NSO\"),\"\",VLOOKUP($A2965,'Result Entry'!$B$9:$EQ$108,117,0))","v":0},"Attedance %"]
[null,"◐","Extra Subjects",{"$nulls":5},"Student's Meetings :-",null,{"$f":"IF(OR($I2970=\"\",$I2970=\"NSO\"),\"\",VLOOKUP($A2965,'Result Entry'!$B$9:$EQ$108,118,0))","v":0},{"$f":"IF(OR($I2970=\"\",$I2970=\"NSO\"),\"\",VLOOKUP($A2965,'Result Entry'!$B$9:$EQ$108,119,0))","v":""}]
[null,"◐","Subject",null,null,"Total Marks",null,"GRADE","Remark :-",null,{"$f":"IF(OR($I2970=\"\",$I2970=\"NSO\"),\"\",VLOOKUP($A2965,'Result Entry'!$B$9:$EQ$108,127,0))","v":0}]
[null,"◐",{"$f":"'Result Entry'!$CH$3","v":"WORK EXP."},null,null,{"$f":"IF(OR(C2992=\"\",$I2970=\"NSO\"),\"\",VLOOKUP($A2965,'Result Entry'!$B$9:$EQ$108,138,0))","v":"0/100"},null,{"$f":"IF(OR(C2992=\"\",$I2970=\"NSO\"),\"\",VLOOKUP($A2965,'Result Entry'!$B$9:$EQ$108,92,0))","v":""},"Result Date :-",null,{"$f":"'Result Entry'!$U$2","v":"2024-05-07"}]
[null,"◐",{"$f":"'Result Entry'!$CP$3","v":"ART EDU."},null,null,{"$f":"IF(OR(C2993=\"\",$I2970=\"NSO\"),\"\",VLOOKUP($A2965,'Result Entry'!$B$9:$EQ$108,142,0))","v":"0/100"},null,{"$f":"IF(OR(C2993=\"\",$I2970=\"NSO\"),\"\",VLOOKUP($A2965,'Result Entry'!$B$9:$EQ$108,100,0))","v":""}]
[null,null,{"$f":"'Result Entry'!$CX$3","v":"H&P. EDU."},null,null,{"$f":"IF(OR(C2994=\"\",$I2970=\"NSO\"),\"\",VLOOKUP($A2965,'Result Entry'!$B$9:$EQ$108,146,0))","v":"0/0"},null,{"$f":"IF(OR(C2994=\"\",$I2970=\"NSO\"),\"\",VLOOKUP($A2965,'Result Entry'!$B$9:$EQ$108,108,0))","v":""}]
[null,"◐",{"$f":"'Result Entry'!$DF$3","v":0},null,null,{"$f":"IF(OR(C2995=\"\",$I2970=\"NSO\"),\"\",VLOOKUP($A2965,'Result Entry'!$B$9:$EQ$108,131,0))","v":0},null,{"$f":"IF(OR(C2995=\"\",$I2970=\"NSO\"),\"\",VLOOKUP($A2965,'Result Entry'!$B$9:$EQ$108,97,0))","v":0},"Signature Of The Class Teacher"]
[null,"◐","Grading System"]
[null,"◐","Grd.","% Range",null,"Description"]
[null,"◐","A","86-100",null,"Excellent",null,null,"Signature And Seal Of Principal/H.M."]
[null,"◐","B","71-85",null,"Very Good"]
[null,"◐","C","51-70",null,"Good"]
[null,"◐","D","31-50",null,"Average"]
[null,"◐","E","0-30",null,"Needs Improvement",null,null,"Wish bright future"]
[]
[{"$f":"A2965+1","v":78},"Department Of Education, Rajasthan"]
[null,{"$f":"IF(I3009>0,CONCATENATE(C3009,I3009),0)","v":0},null,{"$f":"Master!$E$8","v":"Govt.Sr.Sec.Sch."}]
[{"$nulls":3},{"$f":"Master!$E$11","v":"P.S.-Bapini (Jodhpur)"}]
[null,null,"Report Card",{"$nulls":6},"U-DISE Code:-",null,{"$f":"Master!$E$14","v":{"v":810000000,"d":"0810000000"}}]
[{"$nulls":9},"Session:-",null,{"$f":"Master!$E$6","v":"2023-24"}]
[null,null,"Roll No.:-",{"$nulls":5},{"$f":"VLOOKUP($A3004,'Result Entry'!$B$9:$F$108,5,0)","v":0}]
[null,"◐","Scholar Number",{"$nulls":3},"↠",{"$f":"VLOOKUP($A3004,'Result Entry'!$B$9:$EQ$108,3,0)","v":0}]
[null,"◐","Student's Name",{"$nulls":3},"↠",{"$f":"VLOOKUP($A3004,'Result Entry'!$B$9:$EQ$108,6,0)","v":0}]
[null,"◐","Father's Name",{"$nulls":3},"↠",{"$f":"VLOOKUP($A3004,'Result Entry'!$B$9:$EQ$108,7,0)","v":0}]
[null,"◐","Mother's Name ",{"$nulls":3},"↠",{"$f":"VLOOKUP($A3004,'Result Entry'!$B$9:$EQ$108,8,0)","v":0}]
[null,"◐","Class & Section",{"$nulls":3},"↠",{"$f":"CONCATENATE('Result Entry'!$F$4,'Result Entry'!$I$4)","v":"2(A)"}]
[null,"◐","Date Of Birth",{"$nulls":3},"↠",{"$f":"VLOOKUP($A3004,'Result Entry'!$B$9:$EQ$108,9,0)","v":"00:00:00"}]
[null,"◐","Subject",null,{"$f":"'Result Entry'!$K$6","v":"First Test"},{"$f":"'Result Entry'!$L$6","v":"Second Test"},{"$f":"'Result Entry'!$M$6","v":"Third Test"},"Half Yearly","Total (Test+H.Y.)","Yearly","Grand Total",null,"Subject Grade"]
[null,"◐","Max. Marks",null,{"$f":"'Result Entry'!$K$7","v":10},{"$f":"'Result Entry'!$L$7","v":10},{"$f":"'Result Entry'!$M$7","v":10},{"$f":"'Result Entry'!$R$7","v":70},{"$f":"SUM(E3017:H3017)","v":100},{"$f":"'Result Entry'!$V$7","v":100},{"$f":"I3017+J3017","v":200},null,"A+/A/B/C/D"]
[null,"◐",{"$f":"'Result Entry'!$K$3","v":"Hindi"},null,{"$f":"IF(OR(C3018=\"\",$I3009=\"NSO\"),\"\",VLOOKUP($A3004,'Result Entry'!$B$9:$EQ$108,10,0))","v":0},{"$f":"IF(OR(C3018=\"\",$I3009=\"NSO\"),\"\",VLOOKUP($A3004,'Result Entry'!$B$9:$EQ$108,11,0))","v":0},{"$f":"IF(OR(C3018=\"\",$I3009=\"NSO\"),\"\",VLOOKUP($A3004,'Result Entry'!$B$9:$EQ$108,12,0))","v":0},{"$f":"IF(OR(C3018=\"\",$I3009=\"NSO\"),\"\",VLOOKUP($A3004,'Result Entry'!$B$9:$EQ$108,17,0))","v":0},{"$f":"SUM(E3018:H3018)","v":0},{"$f":"IF(OR(C3018=\"\",$I3009=\"NSO\"),\"\",VLOOKUP($A3004,'Result Entry'!$B$9:$EQ$108,21,0))","v":0},{"$f":"SUM(I3018,J3018)","v":0},null,{"$f":"IF(OR(C3018=\"\",$I3009=\"NSO\"),\"\",VLOOKUP($A3004,'Result Entry'!$B$9:$EQ$108,24,0))","v":""}]
[null,"◐",{"$f":"'Result Entry'!$Z$3","v":"Mathematics"},null,{"$f":"IF(OR(C3019=\"\",$I3009=\"NSO\"),\"\",VLOOKUP($A3004,'Result Entry'!$B$9:$EQ$108,25,0))","v":0},{"$f":"IF(OR(C3019=\"\",$I3009=\"NSO\"),\"\",VLOOKUP($A3004,'Result Entry'!$B$9:$EQ$108,26,0))","v":0},{"$f":"IF(OR(C3019=\"\",$I3009=\"NSO\"),\"\",VLOOKUP($A3004,'Result Entry'!$B$9:$EQ$108,27,0))","v":0},{"$f":"IF(OR(C3019=\"\",$I3009=\"NSO\"),\"\",VLOOKUP($A3004,'Result Entry'!$B$9:$EQ$108,32,0))","v":0},0,{"$f":"IF(OR(C3019=\"\",$I3009=\"NSO\"),\"\",VLOOKUP($A3004,'Result Entry'!$B$9:$EQ$108,36,0))","v":0},{"$f":"SUM(I3019,J3019)","v":0},null,{"$f":"IF(OR(C3019=\"\",$I3009=\"NSO\"),\"\",VLOOKUP($A3004,'Result Entry'!$B$9:$EQ$108,39,0))","v":""}]
[null,"◐",{"$f":"'Result Entry'!$BD$3","v":"Env. Study"},null,{"$f":"IF(OR(C3020=\"\",$I3009=\"NSO\"),\"\",VLOOKUP($A3004,'Result Entry'!$B$9:$EQ$108,55,0))","v":0},{"$f":"IF(OR(C3020=\"\",$I3009=\"NSO\"),\"\",VLOOKUP($A3004,'Result Entry'!$B$9:$EQ$108,56,0))","v":0},{"$f":"IF(OR(C3020=\"\",$I3009=\"NSO\"),\"\",VLOOKUP($A3004,'Result Entry'!$B$9:$EQ$108,57,0))","v":0},{"$f":"IF(OR(C3018=\"\",$I3009=\"NSO\"),\"\",VLOOKUP($A3004,'Result Entry'!$B$9:$EQ$108,62,0))","v":0},0,{"$f":"IF(OR(C3019=\"\",$I3009=\"NSO\"),\"\",VLOOKUP($A3004,'Result Entry'!$B$9:$EQ$108,66,0))","v":0},0,null,{"$f":"IF(OR(C3019=\"\",$I3009=\"NSO\"),\"\",VLOOKUP($A3004,'Result Entry'!$B$9:$EQ$108,69,0))","v":""}]
[null,"◐","Max. Marks",null,{"$f":"'Result Entry'!$AO$7","v":5},{"$f":"'Result Entry'!$AP$7","v":5},{"$f":"'Result Entry'!$AQ$7","v":5},{"$f":"'Result Entry'!$AV$7","v":35},50,{"$f":"'Result Entry'!$AZ$7","v":50},100,null,"A+/A/B/C/D"]
[null,"◐",{"$f":"'Result Entry'!$AO$3","v":"English"},null,{"$f":"IF(OR(C3022=\"\",$I3009=\"NSO\"),\"\",VLOOKUP($A3004,'Result Entry'!$B$9:$EQ$108,40,0))","v":0},{"$f":"IF(OR(C3022=\"\",$I3009=\"NSO\"),\"\",VLOOKUP($A3004,'Result Entry'!$B$9:$EQ$108,41,0))","v":0},{"$f":"IF(OR(C3022=\"\",$I3009=\"NSO\"),\"\",VLOOKUP($A3004,'Result Entry'!$B$9:$EQ$108,42,0))","v":0},{"$f":"IF(OR(C3022=\"\",$I3009=\"NSO\"),\"\",VLOOKUP($A3004,'Result Entry'!$B$9:$EQ$108,47,0))","v":0},0,{"$f":"IF(OR(C3022=\"\",$I3009=\"NSO\"),\"\",VLOOKUP($A3004,'Result Entry'!$B$9:$EQ$108,51,0))","v":0},0,null,{"$f":"IF(OR(C3022=\"\",$I3009=\"NSO\"),\"\",VLOOKUP($A3004,'Result Entry'!$B$9:$EQ$108,54,0))","v":""}]
[null,"◐","Max. Marks",null,{"$f":"'Result Entry'!$BS$7","v":10},{"$f":"'Result Entry'!$BT$7","v":10},{"$f":"'Result Entry'!$BU$7","v":10},{"$f":"'Result Entry'!$BZ$7","v":70},{"$f":"SUM(E3023:H3023)","v":100},{"$f":"'Result Entry'!$CD$7","v":100},200,null,"A+/A/B/C/D"]
[null,"◐",{"$f":"'Result Entry'!$BS$3","v":"Sanskrit/Urdu"},null,{"$f":"IF(OR(C3024=\"\",$I3009=\"NSO\"),\"\",VLOOKUP($A3004,'Result Entry'!$B$9:$EQ$108,70,0))","v":0},{"$f":"IF(OR(C3024=\"\",$I3009=\"NSO\"),\"\",VLOOKUP($A3004,'Result Entry'!$B$9:$EQ$108,71,0))","v":0},{"$f":"IF(OR(C3024=\"\",$I3009=\"NSO\"),\"\",VLOOKUP($A3004,'Result Entry'!$B$9:$EQ$108,72,0))","v":0},{"$f":"IF(OR(C3024=\"\",$I3009=\"NSO\"),\"\",VLOOKUP($A3004,'Result Entry'!$B$9:$EQ$108,77,0))","v":0},{"$f":"SUM(E3024:H3024)","v":0},{"$f":"IF(OR(C3024=\"\",$I3009=\"NSO\"),\"\",VLOOKUP($A3004,'Result Entry'!$B$9:$EQ$108,81,0))","v":0},0,null,{"$f":"IF(OR(C3024=\"\",$I3009=\"NSO\"),\"\",VLOOKUP($A3004,'Result Entry'!$B$9:$EQ$108,84,0))","v":""}]
[null,"◐"]
[null,"◐","Overall Result",null,null,"Total Max. Marks",null,"Total Obtained Marks",null,"Percentage","Overall Grade","Result","Position in Class"]
[null,"◐",{"$nulls":3},{"$f":"IF(OR($I3009=\"\",$I3009=\"NSO\"),\"\",VLOOKUP($A3004,'Result Entry'!$B$9:$EQ$108,120,0))","v":900},null,{"$f":"IF(OR($I3009=\"\",$I3009=\"NSO\"),\"\",VLOOKUP($A3004,'Result Entry'!$B$9:$EQ$108,121,0))","v":0},null,{"$f":"IF(OR($I3009=\"\",$I3009=\"NSO\"),\"\",VLOOKUP($A3004,'Result Entry'!$B$9:$EQ$108,122,0))","v":{"v":0,"d":"0.00"}},{"$f":"IF(OR($I3009=\"\",$I3009=\"NSO\"),\"\",VLOOKUP($A3004,'Result Entry'!$B$9:$EQ$108,123,0))","v":""},{"$f":"IF(OR($I3009=\"\",$I3009=\"NSO\"),\"\",VLOOKUP($A3004,'Result Entry'!$B$9:$EQ$108,124,0))","v":""},{"$f":"IF(OR($I3009=\"\",$I3009=\"NSO\"),\"\",VLOOKUP($A3004,'Result Entry'!$B$9:$EQ$108,126,0))","v":""}]
[null,"◐",{"$nulls":6},"Total Meetings :-",null,{"$f":"IF(OR($I3009=\"\",$I3009=\"NSO\"),\"\",VLOOKUP($A3004,'Result Entry'!$B$9:$EQ$108,117,0))","v":0},"Attedance %"]
[null,"◐","Extra Subjects",{"$nulls":5},"Student's Meetings :-",null,{"$f":"IF(OR($I3009=\"\",$I3009=\"NSO\"),\"\",VLOOKUP($A3004,'Result Entry'!$B$9:$EQ$108,118,0))","v":0},{"$f":"IF(OR($I3009=\"\",$I3009=\"NSO\"),\"\",VLOOKUP($A3004,'Result Entry'!$B$9:$EQ$108,119,0))","v":""}]
[null,"◐","Subject",null,null,"Total Marks",null,"GRADE","Remark :-",null,{"$f":"IF(OR($I3009=\"\",$I3009=\"NSO\"),\"\",VLOOKUP($A3004,'Result Entry'!$B$9:$EQ$108,127,0))","v":0}]
[null,"◐",{"$f":"'Result Entry'!$CH$3","v":"WORK EXP."},null,null,{"$f":"IF(OR(C3031=\"\",$I3009=\"NSO\"),\"\",VLOOKUP($A3004,'Result Entry'!$B$9:$EQ$108,138,0))","v":"0/100"},null,{"$f":"IF(OR(C3031=\"\",$I3009=\"NSO\"),\"\",VLOOKUP($A3004,'Result Entry'!$B$9:$EQ$108,92,0))","v":""},"Result Date :-",null,{"$f":"'Result Entry'!$U$2","v":"2024-05-07"}]
[null,"◐",{"$f":"'Result Entry'!$CP$3","v":"ART EDU."},null,null,{"$f":"IF(OR(C3032=\"\",$I3009=\"NSO\"),\"\",VLOOKUP($A3004,'Result Entry'!$B$9:$EQ$108,142,0))","v":"0/100"},null,{"$f":"IF(OR(C3032=\"\",$I3009=\"NSO\"),\"\",VLOOKUP($A3004,'Result Entry'!$B$9:$EQ$108,100,0))","v":""}]
[null,null,{"$f":"'Result Entry'!$CX$3","v":"H&P. EDU."},null,null,{"$f":"IF(OR(C3033=\"\",$I3009=\"NSO\"),\"\",VLOOKUP($A3004,'Result Entry'!$B$9:$EQ$108,146,0))","v":"0/0"},null,{"$f":"IF(OR(C3033=\"\",$I3009=\"NSO\"),\"\",VLOOKUP($A3004,'Result Entry'!$B$9:$EQ$108,108,0))","v":""}]
[null,"◐",{"$f":"'Result Entry'!$DF$3","v":0},null,null,{"$f":"IF(OR(C3034=\"\",$I3009=\"NSO\"),\"\",VLOOKUP($A3004,'Result Entry'!$B$9:$EQ$108,131,0))","v":0},null,{"$f":"IF(OR(C3034=\"\",$I3009=\"NSO\"),\"\",VLOOKUP($A3004,'Result Entry'!$B$9:$EQ$108,97,0))","v":0},"Signature Of The Class Teacher"]
[null,"◐","Grading System"]
[null,"◐","Grd.","% Range",null,"Description"]
[null,"◐","A","86-100",null,"Excellent",null,null,"Signature And Seal Of Principal/H.M."]
[null,"◐","B","71-85",null,"Very Good"]
[null,"◐","C","51-70",null,"Good"]
[null,"◐","D","31-50",null,"Average"]
[null,"◐","E","0-30",null,"Needs Improvement",null,null,"Wish bright future"]
[]
[{"$f":"A3004+1","v":79},"Department Of Education, Rajasthan"]
[null,{"$f":"IF(I3048>0,CONCATENATE(C3048,I3048),0)","v":0},null,{"$f":"Master!$E$8","v":"Govt.Sr.Sec.Sch."}]
[{"$nulls":3},{"$f":"Master!$E$11","v":"P.S.-Bapini (Jodhpur)"}]
[null,null,"Report Card",{"$nulls":6},"U-DISE Code:-",null,{"$f":"Master!$E$14","v":{"v":810000000,"d":"0810000000"}}]
[{"$nulls":9},"Session:-",null,{"$f":"Master!$E$6","v":"2023-24"}]
[null,null,"Roll No.:-",{"$nulls":5},{"$f":"VLOOKUP($A3043,'Result Entry'!$B$9:$F$108,5,0)","v":0}]
[null,"◐","Scholar Number",{"$nulls":3},"↠",{"$f":"VLOOKUP($A3043,'Result Entry'!$B$9:$EQ$108,3,0)","v":0}]
[null,"◐","Student's Name",{"$nulls":3},"↠",{"$f":"VLOOKUP($A3043,'Result Entry'!$B$9:$EQ$108,6,0)","v":0}]
[null,"◐","Father's Name",{"$nulls":3},"↠",{"$f":"VLOOKUP($A3043,'Result Entry'!$B$9:$EQ$108,7,0)","v":0}]
[null,"◐","Mother's Name ",{"$nulls":3},"↠",{"$f":"VLOOKUP($A3043,'Result Entry'!$B$9:$EQ$108,8,0)","v":0}]
[null,"◐","Class & Section",{"$nulls":3},"↠",{"$f":"CONCATENATE('Result Entry'!$F$4,'Result Entry'!$I$4)","v":"2(A)"}]
[null,"◐","Date Of Birth",{"$nulls":3},"↠",{"$f":"VLOOKUP($A3043,'Result Entry'!$B$9:$EQ$108,9,0)","v":"00:00:00"}]
[null,"◐","Subject",null,{"$f":"'Result Entry'!$K$6","v":"First Test"},{"$f":"'Result Entry'!$L$6","v":"Second Test"},{"$f":"'Result Entry'!$M$6","v":"Third Test"},"Half Yearly","Total (Test+H.Y.)","Yearly","Grand Total",null,"Subject Grade"]
[null,"◐","Max. Marks",null,{"$f":"'Result Entry'!$K$7","v":10},{"$f":"'Result Entry'!$L$7","v":10},{"$f":"'Result Entry'!$M$7","v":10},{"$f":"'Result Entry'!$R$7","v":70},{"$f":"SUM(E3056:H3056)","v":100},{"$f":"'Result Entry'!$V$7","v":100},{"$f":"I3056+J3056","v":200},null,"A+/A/B/C/D"]
[null,"◐",{"$f":"'Result Entry'!$K$3","v":"Hindi"},null,{"$f":"IF(OR(C3057=\"\",$I3048=\"NSO\"),\"\",VLOOKUP($A3043,'Result Entry'!$B$9:$EQ$108,10,0))","v":0},{"$f":"IF(OR(C3057=\"\",$I3048=\"NSO\"),\"\",VLOOKUP($A3043,'Result Entry'!$B$9:$EQ$108,11,0))","v":0},{"$f":"IF(OR(C3057=\"\",$I3048=\"NSO\"),\"\",VLOOKUP($A3043,'Result Entry'!$B$9:$EQ$108,12,0))","v":0},{"$f":"IF(OR(C3057=\"\",$I3048=\"NSO\"),\"\",VLOOKUP($A3043,'Result Entry'!$B$9:$EQ$108,17,0))","v":0},{"$f":"SUM(E3057:H3057)","v":0},{"$f":"IF(OR(C3057=\"\",$I3048=\"NSO\"),\"\",VLOOKUP($A3043,'Result Entry'!$B$9:$EQ$108,21,0))","v":0},{"$f":"SUM(I3057,J3057)","v":0},null,{"$f":"IF(OR(C3057=\"\",$I3048=\"NSO\"),\"\",VLOOKUP($A3043,'Result Entry'!$B$9:$EQ$108,24,0))","v":""}]
[null,"◐",{"$f":"'Result Entry'!$Z$3","v":"Mathematics"},null,{"$f":"IF(OR(C3058=\"\",$I3048=\"NSO\"),\"\",VLOOKUP($A3043,'Result Entry'!$B$9:$EQ$108,25,0))","v":0},{"$f":"IF(OR(C3058=\"\",$I3048=\"NSO\"),\"\",VLOOKUP($A3043,'Result Entry'!$B$9:$EQ$108,26,0))","v":0},{"$f":"IF(OR(C3058=\"\",$I3048=\"NSO\"),\"\",VLOOKUP($A3043,'Result Entry'!$B$9:$EQ$108,27,0))","v":0},{"$f":"IF(OR(C3058=\"\",$I3048=\"NSO\"),\"\",VLOOKUP($A3043,'Result Entry'!$B$9:$EQ$108,32,0))","v":0},0,{"$f":"IF(OR(C3058=\"\",$I3048=\"NSO\"),\"\",VLOOKUP($A3043,'Result Entry'!$B$9:$EQ$108,36,0))","v":0},{"$f":"SUM(I3058,J3058)","v":0},null,{"$f":"IF(OR(C3058=\"\",$I3048=\"NSO\"),\"\",VLOOKUP($A3043,'Result Entry'!$B$9:$EQ$108,39,0))","v":""}]
[null,"◐",{"$f":"'Result Entry'!$BD$3","v":"Env. Study"},null,{"$f":"IF(OR(C3059=\"\",$I3048=\"NSO\"),\"\",VLOOKUP($A3043,'Result Entry'!$B$9:$EQ$108,55,0))","v":0},{"$f":"IF(OR(C3059=\"\",$I3048=\"NSO\"),\"\",VLOOKUP($A3043,'Result Entry'!$B$9:$EQ$108,56,0))","v":0},{"$f":"IF(OR(C3059=\"\",$I3048=\"NSO\"),\"\",VLOOKUP($A3043,'Result Entry'!$B$9:$EQ$108,57,0))","v":0},{"$f":"IF(OR(C3057=\"\",$I3048=\"NSO\"),\"\",VLOOKUP($A3043,'Result Entry'!$B$9:$EQ$108,62,0))","v":0},0,{"$f":"IF(OR(C3058=\"\",$I3048=\"NSO\"),\"\",VLOOKUP($A3043,'Result Entry'!$B$9:$EQ$108,66,0))","v":0},0,null,{"$f":"IF(OR(C3058=\"\",$I3048=\"NSO\"),\"\",VLOOKUP($A3043,'Result Entry'!$B$9:$EQ$108,69,0))","v":""}]
[null,"◐","Max. Marks",null,{"$f":"'Result Entry'!$AO$7","v":5},{"$f":"'Result Entry'!$AP$7","v":5},{"$f":"'Result Entry'!$AQ$7","v":5},{"$f":"'Result Entry'!$AV$7","v":35},50,{"$f":"'Result Entry'!$AZ$7","v":50},100,null,"A+/A/B/C/D"]
[null,"◐",{"$f":"'Result Entry'!$AO$3","v":"English"},null,{"$f":"IF(OR(C3061=\"\",$I3048=\"NSO\"),\"\",VLOOKUP($A3043,'Result Entry'!$B$9:$EQ$108,40,0))","v":0},{"$f":"IF(OR(C3061=\"\",$I3048=\"NSO\"),\"\",VLOOKUP($A3043,'Result Entry'!$B$9:$EQ$108,41,0))","v":0},{"$f":"IF(OR(C3061=\"\",$I3048=\"NSO\"),\"\",VLOOKUP($A3043,'Result Entry'!$B$9:$EQ$108,42,0))","v":0},{"$f":"IF(OR(C3061=\"\",$I3048=\"NSO\"),\"\",VLOOKUP($A3043,'Result Entry'!$B$9:$EQ$108,47,0))","v":0},0,{"$f":"IF(OR(C3061=\"\",$I3048=\"NSO\"),\"\",VLOOKUP($A3043,'Result Entry'!$B$9:$EQ$108,51,0))","v":0},0,null,{"$f":"IF(OR(C3061=\"\",$I3048=\"NSO\"),\"\",VLOOKUP($A3043,'Result Entry'!$B$9:$EQ$108,54,0))","v":""}]
[null,"◐","Max. Marks",null,{"$f":"'Result Entry'!$BS$7","v":10},{"$f":"'Result Entry'!$BT$7","v":10},{"$f":"'Result Entry'!$BU$7","v":10},{"$f":"'Result Entry'!$BZ$7","v":70},{"$f":"SUM(E3062:H3062)","v":100},{"$f":"'Result Entry'!$CD$7","v":100},200,null,"A+/A/B/C/D"]
[null,"◐",{"$f":"'Result Entry'!$BS$3","v":"Sanskrit/Urdu"},null,{"$f":"IF(OR(C3063=\"\",$I3048=\"NSO\"),\"\",VLOOKUP($A3043,'Result Entry'!$B$9:$EQ$108,70,0))","v":0},{"$f":"IF(OR(C3063=\"\",$I3048=\"NSO\"),\"\",VLOOKUP($A3043,'Result Entry'!$B$9:$EQ$108,71,0))","v":0},{"$f":"IF(OR(C3063=\"\",$I3048=\"NSO\"),\"\",VLOOKUP($A3043,'Result Entry'!$B$9:$EQ$108,72,0))","v":0},{"$f":"IF(OR(C3063=\"\",$I3048=\"NSO\"),\"\",VLOOKUP($A3043,'Result Entry'!$B$9:$EQ$108,77,0))","v":0},{"$f":"SUM(E3063:H3063)","v":0},{"$f":"IF(OR(C3063=\"\",$I3048=\"NSO\"),\"\",VLOOKUP($A3043,'Result Entry'!$B$9:$EQ$108,81,0))","v":0},0,null,{"$f":"IF(OR(C3063=\"\",$I3048=\"NSO\"),\"\",VLOOKUP($A3043,'Result Entry'!$B$9:$EQ$108,84,0))","v":""}]
[null,"◐"]
[null,"◐","Overall Result",null,null,"Total Max. Marks",null,"Total Obtained Marks",null,"Percentage","Overall Grade","Result","Position in Class"]
[null,"◐",{"$nulls":3},{"$f":"IF(OR($I3048=\"\",$I3048=\"NSO\"),\"\",VLOOKUP($A3043,'Result Entry'!$B$9:$EQ$108,120,0))","v":900},null,{"$f":"IF(OR($I3048=\"\",$I3048=\"NSO\"),\"\",VLOOKUP($A3043,'Result Entry'!$B$9:$EQ$108,121,0))","v":0},null,{"$f":"IF(OR($I3048=\"\",$I3048=\"NSO\"),\"\",VLOOKUP($A3043,'Result Entry'!$B$9:$EQ$108,122,0))","v":{"v":0,"d":"0.00"}},{"$f":"IF(OR($I3048=\"\",$I3048=\"NSO\"),\"\",VLOOKUP($A3043,'Result Entry'!$B$9:$EQ$108,123,0))","v":""},{"$f":"IF(OR($I3048=\"\",$I3048=\"NSO\"),\"\",VLOOKUP($A3043,'Result Entry'!$B$9:$EQ$108,124,0))","v":""},{"$f":"IF(OR($I3048=\"\",$I3048=\"NSO\"),\"\",VLOOKUP($A3043,'Result Entry'!$B$9:$EQ$108,126,0))","v":""}]
[null,"◐",{"$nulls":6},"Total Meetings :-",null,{"$f":"IF(OR($I3048=\"\",$I3048=\"NSO\"),\"\",VLOOKUP($A3043,'Result Entry'!$B$9:$EQ$108,117,0))","v":0},"Attedance %"]
[null,"◐","Extra Subjects",{"$nulls":5},"Student's Meetings :-",null,{"$f":"IF(OR($I3048=\"\",$I3048=\"NSO\"),\"\",VLOOKUP($A3043,'Result Entry'!$B$9:$EQ$108,118,0))","v":0},{"$f":"IF(OR($I3048=\"\",$I3048=\"NSO\"),\"\",VLOOKUP($A3043,'Result Entry'!$B$9:$EQ$108,119,0))","v":""}]
[null,"◐","Subject",null,null,"Total Marks",null,"GRADE","Remark :-",null,{"$f":"IF(OR($I3048=\"\",$I3048=\"NSO\"),\"\",VLOOKUP($A3043,'Result Entry'!$B$9:$EQ$108,127,0))","v":0}]
[null,"◐",{"$f":"'Result Entry'!$CH$3","v":"WORK EXP."},null,null,{"$f":"IF(OR(C3070=\"\",$I3048=\"NSO\"),\"\",VLOOKUP($A3043,'Result Entry'!$B$9:$EQ$108,138,0))","v":"0/100"},null,{"$f":"IF(OR(C3070=\"\",$I3048=\"NSO\"),\"\",VLOOKUP($A3043,'Result Entry'!$B$9:$EQ$108,92,0))","v":""},"Result Date :-",null,{"$f":"'Result Entry'!$U$2","v":"2024-05-07"}]
[null,"◐",{"$f":"'Result Entry'!$CP$3","v":"ART EDU."},null,null,{"$f":"IF(OR(C3071=\"\",$I3048=\"NSO\"),\"\",VLOOKUP($A3043,'Result Entry'!$B$9:$EQ$108,142,0))","v":"0/100"},null,{"$f":"IF(OR(C3071=\"\",$I3048=\"NSO\"),\"\",VLOOKUP($A3043,'Result Entry'!$B$9:$EQ$108,100,0))","v":""}]
[null,null,{"$f":"'Result Entry'!$CX$3","v":"H&P. EDU."},null,null,{"$f":"IF(OR(C3072=\"\",$I3048=\"NSO\"),\"\",VLOOKUP($A3043,'Result Entry'!$B$9:$EQ$108,146,0))","v":"0/0"},null,{"$f":"IF(OR(C3072=\"\",$I3048=\"NSO\"),\"\",VLOOKUP($A3043,'Result Entry'!$B$9:$EQ$108,108,0))","v":""}]
[null,"◐",{"$f":"'Result Entry'!$DF$3","v":0},null,null,{"$f":"IF(OR(C3073=\"\",$I3048=\"NSO\"),\"\",VLOOKUP($A3043,'Result Entry'!$B$9:$EQ$108,131,0))","v":0},null,{"$f":"IF(OR(C3073=\"\",$I3048=\"NSO\"),\"\",VLOOKUP($A3043,'Result Entry'!$B$9:$EQ$108,97,0))","v":0},"Signature Of The Class Teacher"]
[null,"◐","Grading System"]
[null,"◐","Grd.","% Range",null,"Description"]
[null,"◐","A","86-100",null,"Excellent",null,null,"Signature And Seal Of Principal/H.M."]
[null,"◐","B","71-85",null,"Very Good"]
[null,"◐","C","51-70",null,"Good"]
[null,"◐","D","31-50",null,"Average"]
[null,"◐","E","0-30",null,"Needs Improvement",null,null,"Wish bright future"]
[]
[{"$f":"A3043+1","v":80},"Department Of Education, Rajasthan"]
[null,{"$f":"IF(I3087>0,CONCATENATE(C3087,I3087),0)","v":0},null,{"$f":"Master!$E$8","v":"Govt.Sr.Sec.Sch."}]
[{"$nulls":3},{"$f":"Master!$E$11","v":"P.S.-Bapini (Jodhpur)"}]
[null,null,"Report Card",{"$nulls":6},"U-DISE Code:-",null,{"$f":"Master!$E$14","v":{"v":810000000,"d":"0810000000"}}]
[{"$nulls":9},"Session:-",null,{"$f":"Master!$E$6","v":"2023-24"}]
[null,null,"Roll No.:-",{"$nulls":5},{"$f":"VLOOKUP($A3082,'Result Entry'!$B$9:$F$108,5,0)","v":0}]
[null,"◐","Scholar Number",{"$nulls":3},"↠",{"$f":"VLOOKUP($A3082,'Result Entry'!$B$9:$EQ$108,3,0)","v":0}]
[null,"◐","Student's Name",{"$nulls":3},"↠",{"$f":"VLOOKUP($A3082,'Result Entry'!$B$9:$EQ$108,6,0)","v":0}]
[null,"◐","Father's Name",{"$nulls":3},"↠",{"$f":"VLOOKUP($A3082,'Result Entry'!$B$9:$EQ$108,7,0)","v":0}]
[null,"◐","Mother's Name ",{"$nulls":3},"↠",{"$f":"VLOOKUP($A3082,'Result Entry'!$B$9:$EQ$108,8,0)","v":0}]
[null,"◐","Class & Section",{"$nulls":3},"↠",{"$f":"CONCATENATE('Result Entry'!$F$4,'Result Entry'!$I$4)","v":"2(A)"}]
[null,"◐","Date Of Birth",{"$nulls":3},"↠",{"$f":"VLOOKUP($A3082,'Result Entry'!$B$9:$EQ$108,9,0)","v":"00:00:00"}]
[null,"◐","Subject",null,{"$f":"'Result Entry'!$K$6","v":"First Test"},{"$f":"'Result Entry'!$L$6","v":"Second Test"},{"$f":"'Result Entry'!$M$6","v":"Third Test"},"Half Yearly","Total (Test+H.Y.)","Yearly","Grand Total",null,"Subject Grade"]
[null,"◐","Max. Marks",null,{"$f":"'Result Entry'!$K$7","v":10},{"$f":"'Result Entry'!$L$7","v":10},{"$f":"'Result Entry'!$M$7","v":10},{"$f":"'Result Entry'!$R$7","v":70},{"$f":"SUM(E3095:H3095)","v":100},{"$f":"'Result Entry'!$V$7","v":100},{"$f":"I3095+J3095","v":200},null,"A+/A/B/C/D"]
[null,"◐",{"$f":"'Result Entry'!$K$3","v":"Hindi"},null,{"$f":"IF(OR(C3096=\"\",$I3087=\"NSO\"),\"\",VLOOKUP($A3082,'Result Entry'!$B$9:$EQ$108,10,0))","v":0},{"$f":"IF(OR(C3096=\"\",$I3087=\"NSO\"),\"\",VLOOKUP($A3082,'Result Entry'!$B$9:$EQ$108,11,0))","v":0},{"$f":"IF(OR(C3096=\"\",$I3087=\"NSO\"),\"\",VLOOKUP($A3082,'Result Entry'!$B$9:$EQ$108,12,0))","v":0},{"$f":"IF(OR(C3096=\"\",$I3087=\"NSO\"),\"\",VLOOKUP($A3082,'Result Entry'!$B$9:$EQ$108,17,0))","v":0},{"$f":"SUM(E3096:H3096)","v":0},{"$f":"IF(OR(C3096=\"\",$I3087=\"NSO\"),\"\",VLOOKUP($A3082,'Result Entry'!$B$9:$EQ$108,21,0))","v":0},{"$f":"SUM(I3096,J3096)","v":0},null,{"$f":"IF(OR(C3096=\"\",$I3087=\"NSO\"),\"\",VLOOKUP($A3082,'Result Entry'!$B$9:$EQ$108,24,0))","v":""}]
[null,"◐",{"$f":"'Result Entry'!$Z$3","v":"Mathematics"},null,{"$f":"IF(OR(C3097=\"\",$I3087=\"NSO\"),\"\",VLOOKUP($A3082,'Result Entry'!$B$9:$EQ$108,25,0))","v":0},{"$f":"IF(OR(C3097=\"\",$I3087=\"NSO\"),\"\",VLOOKUP($A3082,'Result Entry'!$B$9:$EQ$108,26,0))","v":0},{"$f":"IF(OR(C3097=\"\",$I3087=\"NSO\"),\"\",VLOOKUP($A3082,'Result Entry'!$B$9:$EQ$108,27,0))","v":0},{"$f":"IF(OR(C3097=\"\",$I3087=\"NSO\"),\"\",VLOOKUP($A3082,'Result Entry'!$B$9:$EQ$108,32,0))","v":0},0,{"$f":"IF(OR(C3097=\"\",$I3087=\"NSO\"),\"\",VLOOKUP($A3082,'Result Entry'!$B$9:$EQ$108,36,0))","v":0},{"$f":"SUM(I3097,J3097)","v":0},null,{"$f":"IF(OR(C3097=\"\",$I3087=\"NSO\"),\"\",VLOOKUP($A3082,'Result Entry'!$B$9:$EQ$108,39,0))","v":""}]
[null,"◐",{"$f":"'Result Entry'!$BD$3","v":"Env. Study"},null,{"$f":"IF(OR(C3098=\"\",$I3087=\"NSO\"),\"\",VLOOKUP($A3082,'Result Entry'!$B$9:$EQ$108,55,0))","v":0},{"$f":"IF(OR(C3098=\"\",$I3087=\"NSO\"),\"\",VLOOKUP($A3082,'Result Entry'!$B$9:$EQ$108,56,0))","v":0},{"$f":"IF(OR(C3098=\"\",$I3087=\"NSO\"),\"\",VLOOKUP($A3082,'Result Entry'!$B$9:$EQ$108,57,0))","v":0},{"$f":"IF(OR(C3096=\"\",$I3087=\"NSO\"),\"\",VLOOKUP($A3082,'Result Entry'!$B$9:$EQ$108,62,0))","v":0},0,{"$f":"IF(OR(C3097=\"\",$I3087=\"NSO\"),\"\",VLOOKUP($A3082,'Result Entry'!$B$9:$EQ$108,66,0))","v":0},0,null,{"$f":"IF(OR(C3097=\"\",$I3087=\"NSO\"),\"\",VLOOKUP($A3082,'Result Entry'!$B$9:$EQ$108,69,0))","v":""}]
[null,"◐","Max. Marks",null,{"$f":"'Result Entry'!$AO$7","v":5},{"$f":"'Result Entry'!$AP$7","v":5},{"$f":"'Result Entry'!$AQ$7","v":5},{"$f":"'Result Entry'!$AV$7","v":35},50,{"$f":"'Result Entry'!$AZ$7","v":50},100,null,"A+/A/B/C/D"]
[null,"◐",{"$f":"'Result Entry'!$AO$3","v":"English"},null,{"$f":"IF(OR(C3100=\"\",$I3087=\"NSO\"),\"\",VLOOKUP($A3082,'Result Entry'!$B$9:$EQ$108,40,0))","v":0},{"$f":"IF(OR(C3100=\"\",$I3087=\"NSO\"),\"\",VLOOKUP($A3082,'Result Entry'!$B$9:$EQ$108,41,0))","v":0},{"$f":"IF(OR(C3100=\"\",$I3087=\"NSO\"),\"\",VLOOKUP($A3082,'Result Entry'!$B$9:$EQ$108,42,0))","v":0},{"$f":"IF(OR(C3100=\"\",$I3087=\"NSO\"),\"\",VLOOKUP($A3082,'Result Entry'!$B$9:$EQ$108,47,0))","v":0},0,{"$f":"IF(OR(C3100=\"\",$I3087=\"NSO\"),\"\",VLOOKUP($A3082,'Result Entry'!$B$9:$EQ$108,51,0))","v":0},0,null,{"$f":"IF(OR(C3100=\"\",$I3087=\"NSO\"),\"\",VLOOKUP($A3082,'Result Entry'!$B$9:$EQ$108,54,0))","v":""}]
[null,"◐","Max. Marks",null,{"$f":"'Result Entry'!$BS$7","v":10},{"$f":"'Result Entry'!$BT$7","v":10},{"$f":"'Result Entry'!$BU$7","v":10},{"$f":"'Result Entry'!$BZ$7","v":70},{"$f":"SUM(E3101:H3101)","v":100},{"$f":"'Result Entry'!$CD$7","v":100},200,null,"A+/A/B/C/D"]
[null,"◐",{"$f":"'Result Entry'!$BS$3","v":"Sanskrit/Urdu"},null,{"$f":"IF(OR(C3102=\"\",$I3087=\"NSO\"),\"\",VLOOKUP($A3082,'Result Entry'!$B$9:$EQ$108,70,0))","v":0},{"$f":"IF(OR(C3102=\"\",$I3087=\"NSO\"),\"\",VLOOKUP($A3082,'Result Entry'!$B$9:$EQ$108,71,0))","v":0},{"$f":"IF(OR(C3102=\"\",$I3087=\"NSO\"),\"\",VLOOKUP($A3082,'Result Entry'!$B$9:$EQ$108,72,0))","v":0},{"$f":"IF(OR(C3102=\"\",$I3087=\"NSO\"),\"\",VLOOKUP($A3082,'Result Entry'!$B$9:$EQ$108,77,0))","v":0},{"$f":"SUM(E3102:H3102)","v":0},{"$f":"IF(OR(C3102=\"\",$I3087=\"NSO\"),\"\",VLOOKUP($A3082,'Result Entry'!$B$9:$EQ$108,81,0))","v":0},0,null,{"$f":"IF(OR(C3102=\"\",$I3087=\"NSO\"),\"\",VLOOKUP($A3082,'Result Entry'!$B$9:$EQ$108,84,0))","v":""}]
[null,"◐"]
[null,"◐","Overall Result",null,null,"Total Max. Marks",null,"Total Obtained Marks",null,"Percentage","Overall Grade","Result","Position in Class"]
[null,"◐",{"$nulls":3},{"$f":"IF(OR($I3087=\"\",$I3087=\"NSO\"),\"\",VLOOKUP($A3082,'Result Entry'!$B$9:$EQ$108,120,0))","v":900},null,{"$f":"IF(OR($I3087=\"\",$I3087=\"NSO\"),\"\",VLOOKUP($A3082,'Result Entry'!$B$9:$EQ$108,121,0))","v":0},null,{"$f":"IF(OR($I3087=\"\",$I3087=\"NSO\"),\"\",VLOOKUP($A3082,'Result Entry'!$B$9:$EQ$108,122,0))","v":{"v":0,"d":"0.00"}},{"$f":"IF(OR($I3087=\"\",$I3087=\"NSO\"),\"\",VLOOKUP($A3082,'Result Entry'!$B$9:$EQ$108,123,0))","v":""},{"$f":"IF(OR($I3087=\"\",$I3087=\"NSO\"),\"\",VLOOKUP($A3082,'Result Entry'!$B$9:$EQ$108,124,0))","v":""},{"$f":"IF(OR($I3087=\"\",$I3087=\"NSO\"),\"\",VLOOKUP($A3082,'Result Entry'!$B$9:$EQ$108,126,0))","v":""}]
[null,"◐",{"$nulls":6},"Total Meetings :-",null,{"$f":"IF(OR($I3087=\"\",$I3087=\"NSO\"),\"\",VLOOKUP($A3082,'Result Entry'!$B$9:$EQ$108,117,0))","v":0},"Attedance %"]
[null,"◐","Extra Subjects",{"$nulls":5},"Student's Meetings :-",null,{"$f":"IF(OR($I3087=\"\",$I3087=\"NSO\"),\"\",VLOOKUP($A3082,'Result Entry'!$B$9:$EQ$108,118,0))","v":0},{"$f":"IF(OR($I3087=\"\",$I3087=\"NSO\"),\"\",VLOOKUP($A3082,'Result Entry'!$B$9:$EQ$108,119,0))","v":""}]
[null,"◐","Subject",null,null,"Total Marks",null,"GRADE","Remark :-",null,{"$f":"IF(OR($I3087=\"\",$I3087=\"NSO\"),\"\",VLOOKUP($A3082,'Result Entry'!$B$9:$EQ$108,127,0))","v":0}]
[null,"◐",{"$f":"'Result Entry'!$CH$3","v":"WORK EXP."},null,null,{"$f":"IF(OR(C3109=\"\",$I3087=\"NSO\"),\"\",VLOOKUP($A3082,'Result Entry'!$B$9:$EQ$108,138,0))","v":"0/100"},null,{"$f":"IF(OR(C3109=\"\",$I3087=\"NSO\"),\"\",VLOOKUP($A3082,'Result Entry'!$B$9:$EQ$108,92,0))","v":""},"Result Date :-",null,{"$f":"'Result Entry'!$U$2","v":"2024-05-07"}]
[null,"◐",{"$f":"'Result Entry'!$CP$3","v":"ART EDU."},null,null,{"$f":"IF(OR(C3110=\"\",$I3087=\"NSO\"),\"\",VLOOKUP($A3082,'Result Entry'!$B$9:$EQ$108,142,0))","v":"0/100"},null,{"$f":"IF(OR(C3110=\"\",$I3087=\"NSO\"),\"\",VLOOKUP($A3082,'Result Entry'!$B$9:$EQ$108,100,0))","v":""}]
[null,null,{"$f":"'Result Entry'!$CX$3","v":"H&P. EDU."},null,null,{"$f":"IF(OR(C3111=\"\",$I3087=\"NSO\"),\"\",VLOOKUP($A3082,'Result Entry'!$B$9:$EQ$108,146,0))","v":"0/0"},null,{"$f":"IF(OR(C3111=\"\",$I3087=\"NSO\"),\"\",VLOOKUP($A3082,'Result Entry'!$B$9:$EQ$108,108,0))","v":""}]
[null,"◐",{"$f":"'Result Entry'!$DF$3","v":0},null,null,{"$f":"IF(OR(C3112=\"\",$I3087=\"NSO\"),\"\",VLOOKUP($A3082,'Result Entry'!$B$9:$EQ$108,131,0))","v":0},null,{"$f":"IF(OR(C3112=\"\",$I3087=\"NSO\"),\"\",VLOOKUP($A3082,'Result Entry'!$B$9:$EQ$108,97,0))","v":0},"Signature Of The Class Teacher"]
[null,"◐","Grading System"]
[null,"◐","Grd.","% Range",null,"Description"]
[null,"◐","A","86-100",null,"Excellent",null,null,"Signature And Seal Of Principal/H.M."]
[null,"◐","B","71-85",null,"Very Good"]
[null,"◐","C","51-70",null,"Good"]
[null,"◐","D","31-50",null,"Average"]
[null,"◐","E","0-30",null,"Needs Improvement",null,null,"Wish bright future"]
[]
[{"$f":"A3082+1","v":81},"Department Of Education, Rajasthan"]
[null,{"$f":"IF(I3126>0,CONCATENATE(C3126,I3126),0)","v":0},null,{"$f":"Master!$E$8","v":"Govt.Sr.Sec.Sch."}]
[{"$nulls":3},{"$f":"Master!$E$11","v":"P.S.-Bapini (Jodhpur)"}]
[null,null,"Report Card",{"$nulls":6},"U-DISE Code:-",null,{"$f":"Master!$E$14","v":{"v":810000000,"d":"0810000000"}}]
[{"$nulls":9},"Session:-",null,{"$f":"Master!$E$6","v":"2023-24"}]
[null,null,"Roll No.:-",{"$nulls":5},{"$f":"VLOOKUP($A3121,'Result Entry'!$B$9:$F$108,5,0)","v":0}]
[null,"◐","Scholar Number",{"$nulls":3},"↠",{"$f":"VLOOKUP($A3121,'Result Entry'!$B$9:$EQ$108,3,0)","v":0}]
[null,"◐","Student's Name",{"$nulls":3},"↠",{"$f":"VLOOKUP($A3121,'Result Entry'!$B$9:$EQ$108,6,0)","v":0}]
[null,"◐","Father's Name",{"$nulls":3},"↠",{"$f":"VLOOKUP($A3121,'Result Entry'!$B$9:$EQ$108,7,0)","v":0}]
[null,"◐","Mother's Name ",{"$nulls":3},"↠",{"$f":"VLOOKUP($A3121,'Result Entry'!$B$9:$EQ$108,8,0)","v":0}]
[null,"◐","Class & Section",{"$nulls":3},"↠",{"$f":"CONCATENATE('Result Entry'!$F$4,'Result Entry'!$I$4)","v":"2(A)"}]
[null,"◐","Date Of Birth",{"$nulls":3},"↠",{"$f":"VLOOKUP($A3121,'Result Entry'!$B$9:$EQ$108,9,0)","v":"00:00:00"}]
[null,"◐","Subject",null,{"$f":"'Result Entry'!$K$6","v":"First Test"},{"$f":"'Result Entry'!$L$6","v":"Second Test"},{"$f":"'Result Entry'!$M$6","v":"Third Test"},"Half Yearly","Total (Test+H.Y.)","Yearly","Grand Total",null,"Subject Grade"]
[null,"◐","Max. Marks",null,{"$f":"'Result Entry'!$K$7","v":10},{"$f":"'Result Entry'!$L$7","v":10},{"$f":"'Result Entry'!$M$7","v":10},{"$f":"'Result Entry'!$R$7","v":70},{"$f":"SUM(E3134:H3134)","v":100},{"$f":"'Result Entry'!$V$7","v":100},{"$f":"I3134+J3134","v":200},null,"A+/A/B/C/D"]
[null,"◐",{"$f":"'Result Entry'!$K$3","v":"Hindi"},null,{"$f":"IF(OR(C3135=\"\",$I3126=\"NSO\"),\"\",VLOOKUP($A3121,'Result Entry'!$B$9:$EQ$108,10,0))","v":0},{"$f":"IF(OR(C3135=\"\",$I3126=\"NSO\"),\"\",VLOOKUP($A3121,'Result Entry'!$B$9:$EQ$108,11,0))","v":0},{"$f":"IF(OR(C3135=\"\",$I3126=\"NSO\"),\"\",VLOOKUP($A3121,'Result Entry'!$B$9:$EQ$108,12,0))","v":0},{"$f":"IF(OR(C3135=\"\",$I3126=\"NSO\"),\"\",VLOOKUP($A3121,'Result Entry'!$B$9:$EQ$108,17,0))","v":0},{"$f":"SUM(E3135:H3135)","v":0},{"$f":"IF(OR(C3135=\"\",$I3126=\"NSO\"),\"\",VLOOKUP($A3121,'Result Entry'!$B$9:$EQ$108,21,0))","v":0},{"$f":"SUM(I3135,J3135)","v":0},null,{"$f":"IF(OR(C3135=\"\",$I3126=\"NSO\"),\"\",VLOOKUP($A3121,'Result Entry'!$B$9:$EQ$108,24,0))","v":""}]
[null,"◐",{"$f":"'Result Entry'!$Z$3","v":"Mathematics"},null,{"$f":"IF(OR(C3136=\"\",$I3126=\"NSO\"),\"\",VLOOKUP($A3121,'Result Entry'!$B$9:$EQ$108,25,0))","v":0},{"$f":"IF(OR(C3136=\"\",$I3126=\"NSO\"),\"\",VLOOKUP($A3121,'Result Entry'!$B$9:$EQ$108,26,0))","v":0},{"$f":"IF(OR(C3136=\"\",$I3126=\"NSO\"),\"\",VLOOKUP($A3121,'Result Entry'!$B$9:$EQ$108,27,0))","v":0},{"$f":"IF(OR(C3136=\"\",$I3126=\"NSO\"),\"\",VLOOKUP($A3121,'Result Entry'!$B$9:$EQ$108,32,0))","v":0},0,{"$f":"IF(OR(C3136=\"\",$I3126=\"NSO\"),\"\",VLOOKUP($A3121,'Result Entry'!$B$9:$EQ$108,36,0))","v":0},{"$f":"SUM(I3136,J3136)","v":0},null,{"$f":"IF(OR(C3136=\"\",$I3126=\"NSO\"),\"\",VLOOKUP($A3121,'Result Entry'!$B$9:$EQ$108,39,0))","v":""}]
[null,"◐",{"$f":"'Result Entry'!$BD$3","v":"Env. Study"},null,{"$f":"IF(OR(C3137=\"\",$I3126=\"NSO\"),\"\",VLOOKUP($A3121,'Result Entry'!$B$9:$EQ$108,55,0))","v":0},{"$f":"IF(OR(C3137=\"\",$I3126=\"NSO\"),\"\",VLOOKUP($A3121,'Result Entry'!$B$9:$EQ$108,56,0))","v":0},{"$f":"IF(OR(C3137=\"\",$I3126=\"NSO\"),\"\",VLOOKUP($A3121,'Result Entry'!$B$9:$EQ$108,57,0))","v":0},{"$f":"IF(OR(C3135=\"\",$I3126=\"NSO\"),\"\",VLOOKUP($A3121,'Result Entry'!$B$9:$EQ$108,62,0))","v":0},0,{"$f":"IF(OR(C3136=\"\",$I3126=\"NSO\"),\"\",VLOOKUP($A3121,'Result Entry'!$B$9:$EQ$108,66,0))","v":0},0,null,{"$f":"IF(OR(C3136=\"\",$I3126=\"NSO\"),\"\",VLOOKUP($A3121,'Result Entry'!$B$9:$EQ$108,69,0))","v":""}]
[null,"◐","Max. Marks",null,{"$f":"'Result Entry'!$AO$7","v":5},{"$f":"'Result Entry'!$AP$7","v":5},{"$f":"'Result Entry'!$AQ$7","v":5},{"$f":"'Result Entry'!$AV$7","v":35},50,{"$f":"'Result Entry'!$AZ$7","v":50},100,null,"A+/A/B/C/D"]
[null,"◐",{"$f":"'Result Entry'!$AO$3","v":"English"},null,{"$f":"IF(OR(C3139=\"\",$I3126=\"NSO\"),\"\",VLOOKUP($A3121,'Result Entry'!$B$9:$EQ$108,40,0))","v":0},{"$f":"IF(OR(C3139=\"\",$I3126=\"NSO\"),\"\",VLOOKUP($A3121,'Result Entry'!$B$9:$EQ$108,41,0))","v":0},{"$f":"IF(OR(C3139=\"\",$I3126=\"NSO\"),\"\",VLOOKUP($A3121,'Result Entry'!$B$9:$EQ$108,42,0))","v":0},{"$f":"IF(OR(C3139=\"\",$I3126=\"NSO\"),\"\",VLOOKUP($A3121,'Result Entry'!$B$9:$EQ$108,47,0))","v":0},0,{"$f":"IF(OR(C3139=\"\",$I3126=\"NSO\"),\"\",VLOOKUP($A3121,'Result Entry'!$B$9:$EQ$108,51,0))","v":0},0,null,{"$f":"IF(OR(C3139=\"\",$I3126=\"NSO\"),\"\",VLOOKUP($A3121,'Result Entry'!$B$9:$EQ$108,54,0))","v":""}]
[null,"◐","Max. Marks",null,{"$f":"'Result Entry'!$BS$7","v":10},{"$f":"'Result Entry'!$BT$7","v":10},{"$f":"'Result Entry'!$BU$7","v":10},{"$f":"'Result Entry'!$BZ$7","v":70},{"$f":"SUM(E3140:H3140)","v":100},{"$f":"'Result Entry'!$CD$7","v":100},200,null,"A+/A/B/C/D"]
[null,"◐",{"$f":"'Result Entry'!$BS$3","v":"Sanskrit/Urdu"},null,{"$f":"IF(OR(C3141=\"\",$I3126=\"NSO\"),\"\",VLOOKUP($A3121,'Result Entry'!$B$9:$EQ$108,70,0))","v":0},{"$f":"IF(OR(C3141=\"\",$I3126=\"NSO\"),\"\",VLOOKUP($A3121,'Result Entry'!$B$9:$EQ$108,71,0))","v":0},{"$f":"IF(OR(C3141=\"\",$I3126=\"NSO\"),\"\",VLOOKUP($A3121,'Result Entry'!$B$9:$EQ$108,72,0))","v":0},{"$f":"IF(OR(C3141=\"\",$I3126=\"NSO\"),\"\",VLOOKUP($A3121,'Result Entry'!$B$9:$EQ$108,77,0))","v":0},{"$f":"SUM(E3141:H3141)","v":0},{"$f":"IF(OR(C3141=\"\",$I3126=\"NSO\"),\"\",VLOOKUP($A3121,'Result Entry'!$B$9:$EQ$108,81,0))","v":0},0,null,{"$f":"IF(OR(C3141=\"\",$I3126=\"NSO\"),\"\",VLOOKUP($A3121,'Result Entry'!$B$9:$EQ$108,84,0))","v":""}]
[null,"◐"]
[null,"◐","Overall Result",null,null,"Total Max. Marks",null,"Total Obtained Marks",null,"Percentage","Overall Grade","Result","Position in Class"]
[null,"◐",{"$nulls":3},{"$f":"IF(OR($I3126=\"\",$I3126=\"NSO\"),\"\",VLOOKUP($A3121,'Result Entry'!$B$9:$EQ$108,120,0))","v":900},null,{"$f":"IF(OR($I3126=\"\",$I3126=\"NSO\"),\"\",VLOOKUP($A3121,'Result Entry'!$B$9:$EQ$108,121,0))","v":0},null,{"$f":"IF(OR($I3126=\"\",$I3126=\"NSO\"),\"\",VLOOKUP($A3121,'Result Entry'!$B$9:$EQ$108,122,0))","v":{"v":0,"d":"0.00"}},{"$f":"IF(OR($I3126=\"\",$I3126=\"NSO\"),\"\",VLOOKUP($A3121,'Result Entry'!$B$9:$EQ$108,123,0))","v":""},{"$f":"IF(OR($I3126=\"\",$I3126=\"NSO\"),\"\",VLOOKUP($A3121,'Result Entry'!$B$9:$EQ$108,124,0))","v":""},{"$f":"IF(OR($I3126=\"\",$I3126=\"NSO\"),\"\",VLOOKUP($A3121,'Result Entry'!$B$9:$EQ$108,126,0))","v":""}]
[null,"◐",{"$nulls":6},"Total Meetings :-",null,{"$f":"IF(OR($I3126=\"\",$I3126=\"NSO\"),\"\",VLOOKUP($A3121,'Result Entry'!$B$9:$EQ$108,117,0))","v":0},"Attedance %"]
[null,"◐","Extra Subjects",{"$nulls":5},"Student's Meetings :-",null,{"$f":"IF(OR($I3126=\"\",$I3126=\"NSO\"),\"\",VLOOKUP($A3121,'Result Entry'!$B$9:$EQ$108,118,0))","v":0},{"$f":"IF(OR($I3126=\"\",$I3126=\"NSO\"),\"\",VLOOKUP($A3121,'Result Entry'!$B$9:$EQ$108,119,0))","v":""}]
[null,"◐","Subject",null,null,"Total Marks",null,"GRADE","Remark :-",null,{"$f":"IF(OR($I3126=\"\",$I3126=\"NSO\"),\"\",VLOOKUP($A3121,'Result Entry'!$B$9:$EQ$108,127,0))","v":0}]
[null,"◐",{"$f":"'Result Entry'!$CH$3","v":"WORK EXP."},null,null,{"$f":"IF(OR(C3148=\"\",$I3126=\"NSO\"),\"\",VLOOKUP($A3121,'Result Entry'!$B$9:$EQ$108,138,0))","v":"0/100"},null,{"$f":"IF(OR(C3148=\"\",$I3126=\"NSO\"),\"\",VLOOKUP($A3121,'Result Entry'!$B$9:$EQ$108,92,0))","v":""},"Result Date :-",null,{"$f":"'Result Entry'!$U$2","v":"2024-05-07"}]
[null,"◐",{"$f":"'Result Entry'!$CP$3","v":"ART EDU."},null,null,{"$f":"IF(OR(C3149=\"\",$I3126=\"NSO\"),\"\",VLOOKUP($A3121,'Result Entry'!$B$9:$EQ$108,142,0))","v":"0/100"},null,{"$f":"IF(OR(C3149=\"\",$I3126=\"NSO\"),\"\",VLOOKUP($A3121,'Result Entry'!$B$9:$EQ$108,100,0))","v":""}]
[null,null,{"$f":"'Result Entry'!$CX$3","v":"H&P. EDU."},null,null,{"$f":"IF(OR(C3150=\"\",$I3126=\"NSO\"),\"\",VLOOKUP($A3121,'Result Entry'!$B$9:$EQ$108,146,0))","v":"0/0"},null,{"$f":"IF(OR(C3150=\"\",$I3126=\"NSO\"),\"\",VLOOKUP($A3121,'Result Entry'!$B$9:$EQ$108,108,0))","v":""}]
[null,"◐",{"$f":"'Result Entry'!$DF$3","v":0},null,null,{"$f":"IF(OR(C3151=\"\",$I3126=\"NSO\"),\"\",VLOOKUP($A3121,'Result Entry'!$B$9:$EQ$108,131,0))","v":0},null,{"$f":"IF(OR(C3151=\"\",$I3126=\"NSO\"),\"\",VLOOKUP($A3121,'Result Entry'!$B$9:$EQ$108,97,0))","v":0},"Signature Of The Class Teacher"]
[null,"◐","Grading System"]
[null,"◐","Grd.","% Range",null,"Description"]
[null,"◐","A","86-100",null,"Excellent",null,null,"Signature And Seal Of Principal/H.M."]
[null,"◐","B","71-85",null,"Very Good"]
[null,"◐","C","51-70",null,"Good"]
[null,"◐","D","31-50",null,"Average"]
[null,"◐","E","0-30",null,"Needs Improvement",null,null,"Wish bright future"]
[]
[{"$f":"A3121+1","v":82},"Department Of Education, Rajasthan"]
[null,{"$f":"IF(I3165>0,CONCATENATE(C3165,I3165),0)","v":0},null,{"$f":"Master!$E$8","v":"Govt.Sr.Sec.Sch."}]
[{"$nulls":3},{"$f":"Master!$E$11","v":"P.S.-Bapini (Jodhpur)"}]
[null,null,"Report Card",{"$nulls":6},"U-DISE Code:-",null,{"$f":"Master!$E$14","v":{"v":810000000,"d":"0810000000"}}]
[{"$nulls":9},"Session:-",null,{"$f":"Master!$E$6","v":"2023-24"}]
[null,null,"Roll No.:-",{"$nulls":5},{"$f":"VLOOKUP($A3160,'Result Entry'!$B$9:$F$108,5,0)","v":0}]
[null,"◐","Scholar Number",{"$nulls":3},"↠",{"$f":"VLOOKUP($A3160,'Result Entry'!$B$9:$EQ$108,3,0)","v":0}]
[null,"◐","Student's Name",{"$nulls":3},"↠",{"$f":"VLOOKUP($A3160,'Result Entry'!$B$9:$EQ$108,6,0)","v":0}]
[null,"◐","Father's Name",{"$nulls":3},"↠",{"$f":"VLOOKUP($A3160,'Result Entry'!$B$9:$EQ$108,7,0)","v":0}]
[null,"◐","Mother's Name ",{"$nulls":3},"↠",{"$f":"VLOOKUP($A3160,'Result Entry'!$B$9:$EQ$108,8,0)","v":0}]
[null,"◐","Class & Section",{"$nulls":3},"↠",{"$f":"CONCATENATE('Result Entry'!$F$4,'Result Entry'!$I$4)","v":"2(A)"}]
[null,"◐","Date Of Birth",{"$nulls":3},"↠",{"$f":"VLOOKUP($A3160,'Result Entry'!$B$9:$EQ$108,9,0)","v":"00:00:00"}]
[null,"◐","Subject",null,{"$f":"'Result Entry'!$K$6","v":"First Test"},{"$f":"'Result Entry'!$L$6","v":"Second Test"},{"$f":"'Result Entry'!$M$6","v":"Third Test"},"Half Yearly","Total (Test+H.Y.)","Yearly","Grand Total",null,"Subject Grade"]
[null,"◐","Max. Marks",null,{"$f":"'Result Entry'!$K$7","v":10},{"$f":"'Result Entry'!$L$7","v":10},{"$f":"'Result Entry'!$M$7","v":10},{"$f":"'Result Entry'!$R$7","v":70},{"$f":"SUM(E3173:H3173)","v":100},{"$f":"'Result Entry'!$V$7","v":100},{"$f":"I3173+J3173","v":200},null,"A+/A/B/C/D"]
[null,"◐",{"$f":"'Result Entry'!$K$3","v":"Hindi"},null,{"$f":"IF(OR(C3174=\"\",$I3165=\"NSO\"),\"\",VLOOKUP($A3160,'Result Entry'!$B$9:$EQ$108,10,0))","v":0},{"$f":"IF(OR(C3174=\"\",$I3165=\"NSO\"),\"\",VLOOKUP($A3160,'Result Entry'!$B$9:$EQ$108,11,0))","v":0},{"$f":"IF(OR(C3174=\"\",$I3165=\"NSO\"),\"\",VLOOKUP($A3160,'Result Entry'!$B$9:$EQ$108,12,0))","v":0},{"$f":"IF(OR(C3174=\"\",$I3165=\"NSO\"),\"\",VLOOKUP($A3160,'Result Entry'!$B$9:$EQ$108,17,0))","v":0},{"$f":"SUM(E3174:H3174)","v":0},{"$f":"IF(OR(C3174=\"\",$I3165=\"NSO\"),\"\",VLOOKUP($A3160,'Result Entry'!$B$9:$EQ$108,21,0))","v":0},{"$f":"SUM(I3174,J3174)","v":0},null,{"$f":"IF(OR(C3174=\"\",$I3165=\"NSO\"),\"\",VLOOKUP($A3160,'Result Entry'!$B$9:$EQ$108,24,0))","v":""}]
[null,"◐",{"$f":"'Result Entry'!$Z$3","v":"Mathematics"},null,{"$f":"IF(OR(C3175=\"\",$I3165=\"NSO\"),\"\",VLOOKUP($A3160,'Result Entry'!$B$9:$EQ$108,25,0))","v":0},{"$f":"IF(OR(C3175=\"\",$I3165=\"NSO\"),\"\",VLOOKUP($A3160,'Result Entry'!$B$9:$EQ$108,26,0))","v":0},{"$f":"IF(OR(C3175=\"\",$I3165=\"NSO\"),\"\",VLOOKUP($A3160,'Result Entry'!$B$9:$EQ$108,27,0))","v":0},{"$f":"IF(OR(C3175=\"\",$I3165=\"NSO\"),\"\",VLOOKUP($A3160,'Result Entry'!$B$9:$EQ$108,32,0))","v":0},0,{"$f":"IF(OR(C3175=\"\",$I3165=\"NSO\"),\"\",VLOOKUP($A3160,'Result Entry'!$B$9:$EQ$108,36,0))","v":0},{"$f":"SUM(I3175,J3175)","v":0},null,{"$f":"IF(OR(C3175=\"\",$I3165=\"NSO\"),\"\",VLOOKUP($A3160,'Result Entry'!$B$9:$EQ$108,39,0))","v":""}]
[null,"◐",{"$f":"'Result Entry'!$BD$3","v":"Env. Study"},null,{"$f":"IF(OR(C3176=\"\",$I3165=\"NSO\"),\"\",VLOOKUP($A3160,'Result Entry'!$B$9:$EQ$108,55,0))","v":0},{"$f":"IF(OR(C3176=\"\",$I3165=\"NSO\"),\"\",VLOOKUP($A3160,'Result Entry'!$B$9:$EQ$108,56,0))","v":0},{"$f":"IF(OR(C3176=\"\",$I3165=\"NSO\"),\"\",VLOOKUP($A3160,'Result Entry'!$B$9:$EQ$108,57,0))","v":0},{"$f":"IF(OR(C3174=\"\",$I3165=\"NSO\"),\"\",VLOOKUP($A3160,'Result Entry'!$B$9:$EQ$108,62,0))","v":0},0,{"$f":"IF(OR(C3175=\"\",$I3165=\"NSO\"),\"\",VLOOKUP($A3160,'Result Entry'!$B$9:$EQ$108,66,0))","v":0},0,null,{"$f":"IF(OR(C3175=\"\",$I3165=\"NSO\"),\"\",VLOOKUP($A3160,'Result Entry'!$B$9:$EQ$108,69,0))","v":""}]
[null,"◐","Max. Marks",null,{"$f":"'Result Entry'!$AO$7","v":5},{"$f":"'Result Entry'!$AP$7","v":5},{"$f":"'Result Entry'!$AQ$7","v":5},{"$f":"'Result Entry'!$AV$7","v":35},50,{"$f":"'Result Entry'!$AZ$7","v":50},100,null,"A+/A/B/C/D"]
[null,"◐",{"$f":"'Result Entry'!$AO$3","v":"English"},null,{"$f":"IF(OR(C3178=\"\",$I3165=\"NSO\"),\"\",VLOOKUP($A3160,'Result Entry'!$B$9:$EQ$108,40,0))","v":0},{"$f":"IF(OR(C3178=\"\",$I3165=\"NSO\"),\"\",VLOOKUP($A3160,'Result Entry'!$B$9:$EQ$108,41,0))","v":0},{"$f":"IF(OR(C3178=\"\",$I3165=\"NSO\"),\"\",VLOOKUP($A3160,'Result Entry'!$B$9:$EQ$108,42,0))","v":0},{"$f":"IF(OR(C3178=\"\",$I3165=\"NSO\"),\"\",VLOOKUP($A3160,'Result Entry'!$B$9:$EQ$108,47,0))","v":0},0,{"$f":"IF(OR(C3178=\"\",$I3165=\"NSO\"),\"\",VLOOKUP($A3160,'Result Entry'!$B$9:$EQ$108,51,0))","v":0},0,null,{"$f":"IF(OR(C3178=\"\",$I3165=\"NSO\"),\"\",VLOOKUP($A3160,'Result Entry'!$B$9:$EQ$108,54,0))","v":""}]
[null,"◐","Max. Marks",null,{"$f":"'Result Entry'!$BS$7","v":10},{"$f":"'Result Entry'!$BT$7","v":10},{"$f":"'Result Entry'!$BU$7","v":10},{"$f":"'Result Entry'!$BZ$7","v":70},{"$f":"SUM(E3179:H3179)","v":100},{"$f":"'Result Entry'!$CD$7","v":100},200,null,"A+/A/B/C/D"]
[null,"◐",{"$f":"'Result Entry'!$BS$3","v":"Sanskrit/Urdu"},null,{"$f":"IF(OR(C3180=\"\",$I3165=\"NSO\"),\"\",VLOOKUP($A3160,'Result Entry'!$B$9:$EQ$108,70,0))","v":0},{"$f":"IF(OR(C3180=\"\",$I3165=\"NSO\"),\"\",VLOOKUP($A3160,'Result Entry'!$B$9:$EQ$108,71,0))","v":0},{"$f":"IF(OR(C3180=\"\",$I3165=\"NSO\"),\"\",VLOOKUP($A3160,'Result Entry'!$B$9:$EQ$108,72,0))","v":0},{"$f":"IF(OR(C3180=\"\",$I3165=\"NSO\"),\"\",VLOOKUP($A3160,'Result Entry'!$B$9:$EQ$108,77,0))","v":0},{"$f":"SUM(E3180:H3180)","v":0},{"$f":"IF(OR(C3180=\"\",$I3165=\"NSO\"),\"\",VLOOKUP($A3160,'Result Entry'!$B$9:$EQ$108,81,0))","v":0},0,null,{"$f":"IF(OR(C3180=\"\",$I3165=\"NSO\"),\"\",VLOOKUP($A3160,'Result Entry'!$B$9:$EQ$108,84,0))","v":""}]
[null,"◐"]
[null,"◐","Overall Result",null,null,"Total Max. Marks",null,"Total Obtained Marks",null,"Percentage","Overall Grade","Result","Position in Class"]
[null,"◐",{"$nulls":3},{"$f":"IF(OR($I3165=\"\",$I3165=\"NSO\"),\"\",VLOOKUP($A3160,'Result Entry'!$B$9:$EQ$108,120,0))","v":900},null,{"$f":"IF(OR($I3165=\"\",$I3165=\"NSO\"),\"\",VLOOKUP($A3160,'Result Entry'!$B$9:$EQ$108,121,0))","v":0},null,{"$f":"IF(OR($I3165=\"\",$I3165=\"NSO\"),\"\",VLOOKUP($A3160,'Result Entry'!$B$9:$EQ$108,122,0))","v":{"v":0,"d":"0.00"}},{"$f":"IF(OR($I3165=\"\",$I3165=\"NSO\"),\"\",VLOOKUP($A3160,'Result Entry'!$B$9:$EQ$108,123,0))","v":""},{"$f":"IF(OR($I3165=\"\",$I3165=\"NSO\"),\"\",VLOOKUP($A3160,'Result Entry'!$B$9:$EQ$108,124,0))","v":""},{"$f":"IF(OR($I3165=\"\",$I3165=\"NSO\"),\"\",VLOOKUP($A3160,'Result Entry'!$B$9:$EQ$108,126,0))","v":""}]
[null,"◐",{"$nulls":6},"Total Meetings :-",null,{"$f":"IF(OR($I3165=\"\",$I3165=\"NSO\"),\"\",VLOOKUP($A3160,'Result Entry'!$B$9:$EQ$108,117,0))","v":0},"Attedance %"]
[null,"◐","Extra Subjects",{"$nulls":5},"Student's Meetings :-",null,{"$f":"IF(OR($I3165=\"\",$I3165=\"NSO\"),\"\",VLOOKUP($A3160,'Result Entry'!$B$9:$EQ$108,118,0))","v":0},{"$f":"IF(OR($I3165=\"\",$I3165=\"NSO\"),\"\",VLOOKUP($A3160,'Result Entry'!$B$9:$EQ$108,119,0))","v":""}]
[null,"◐","Subject",null,null,"Total Marks",null,"GRADE","Remark :-",null,{"$f":"IF(OR($I3165=\"\",$I3165=\"NSO\"),\"\",VLOOKUP($A3160,'Result Entry'!$B$9:$EQ$108,127,0))","v":0}]
[null,"◐",{"$f":"'Result Entry'!$CH$3","v":"WORK EXP."},null,null,{"$f":"IF(OR(C3187=\"\",$I3165=\"NSO\"),\"\",VLOOKUP($A3160,'Result Entry'!$B$9:$EQ$108,138,0))","v":"0/100"},null,{"$f":"IF(OR(C3187=\"\",$I3165=\"NSO\"),\"\",VLOOKUP($A3160,'Result Entry'!$B$9:$EQ$108,92,0))","v":""},"Result Date :-",null,{"$f":"'Result Entry'!$U$2","v":"2024-05-07"}]
[null,"◐",{"$f":"'Result Entry'!$CP$3","v":"ART EDU."},null,null,{"$f":"IF(OR(C3188=\"\",$I3165=\"NSO\"),\"\",VLOOKUP($A3160,'Result Entry'!$B$9:$EQ$108,142,0))","v":"0/100"},null,{"$f":"IF(OR(C3188=\"\",$I3165=\"NSO\"),\"\",VLOOKUP($A3160,'Result Entry'!$B$9:$EQ$108,100,0))","v":""}]
[null,null,{"$f":"'Result Entry'!$CX$3","v":"H&P. EDU."},null,null,{"$f":"IF(OR(C3189=\"\",$I3165=\"NSO\"),\"\",VLOOKUP($A3160,'Result Entry'!$B$9:$EQ$108,146,0))","v":"0/0"},null,{"$f":"IF(OR(C3189=\"\",$I3165=\"NSO\"),\"\",VLOOKUP($A3160,'Result Entry'!$B$9:$EQ$108,108,0))","v":""}]
[null,"◐",{"$f":"'Result Entry'!$DF$3","v":0},null,null,{"$f":"IF(OR(C3190=\"\",$I3165=\"NSO\"),\"\",VLOOKUP($A3160,'Result Entry'!$B$9:$EQ$108,131,0))","v":0},null,{"$f":"IF(OR(C3190=\"\",$I3165=\"NSO\"),\"\",VLOOKUP($A3160,'Result Entry'!$B$9:$EQ$108,97,0))","v":0},"Signature Of The Class Teacher"]
[null,"◐","Grading System"]
[null,"◐","Grd.","% Range",null,"Description"]
[null,"◐","A","86-100",null,"Excellent",null,null,"Signature And Seal Of Principal/H.M."]
[null,"◐","B","71-85",null,"Very Good"]
[null,"◐","C","51-70",null,"Good"]
[null,"◐","D","31-50",null,"Average"]
[null,"◐","E","0-30",null,"Needs Improvement",null,null,"Wish bright future"]
[]
[{"$f":"A3160+1","v":83},"Department Of Education, Rajasthan"]
[null,{"$f":"IF(I3204>0,CONCATENATE(C3204,I3204),0)","v":0},null,{"$f":"Master!$E$8","v":"Govt.Sr.Sec.Sch."}]
[{"$nulls":3},{"$f":"Master!$E$11","v":"P.S.-Bapini (Jodhpur)"}]
[null,null,"Report Card",{"$nulls":6},"U-DISE Code:-",null,{"$f":"Master!$E$14","v":{"v":810000000,"d":"0810000000"}}]
[{"$nulls":9},"Session:-",null,{"$f":"Master!$E$6","v":"2023-24"}]
[null,null,"Roll No.:-",{"$nulls":5},{"$f":"VLOOKUP($A3199,'Result Entry'!$B$9:$F$108,5,0)","v":0}]
[null,"◐","Scholar Number",{"$nulls":3},"↠",{"$f":"VLOOKUP($A3199,'Result Entry'!$B$9:$EQ$108,3,0)","v":0}]
[null,"◐","Student's Name",{"$nulls":3},"↠",{"$f":"VLOOKUP($A3199,'Result Entry'!$B$9:$EQ$108,6,0)","v":0}]
[null,"◐","Father's Name",{"$nulls":3},"↠",{"$f":"VLOOKUP($A3199,'Result Entry'!$B$9:$EQ$108,7,0)","v":0}]
[null,"◐","Mother's Name ",{"$nulls":3},"↠",{"$f":"VLOOKUP($A3199,'Result Entry'!$B$9:$EQ$108,8,0)","v":0}]
[null,"◐","Class & Section",{"$nulls":3},"↠",{"$f":"CONCATENATE('Result Entry'!$F$4,'Result Entry'!$I$4)","v":"2(A)"}]
[null,"◐","Date Of Birth",{"$nulls":3},"↠",{"$f":"VLOOKUP($A3199,'Result Entry'!$B$9:$EQ$108,9,0)","v":"00:00:00"}]
[null,"◐","Subject",null,{"$f":"'Result Entry'!$K$6","v":"First Test"},{"$f":"'Result Entry'!$L$6","v":"Second Test"},{"$f":"'Result Entry'!$M$6","v":"Third Test"},"Half Yearly","Total (Test+H.Y.)","Yearly","Grand Total",null,"Subject Grade"]
[null,"◐","Max. Marks",null,{"$f":"'Result Entry'!$K$7","v":10},{"$f":"'Result Entry'!$L$7","v":10},{"$f":"'Result Entry'!$M$7","v":10},{"$f":"'Result Entry'!$R$7","v":70},{"$f":"SUM(E3212:H3212)","v":100},{"$f":"'Result Entry'!$V$7","v":100},{"$f":"I3212+J3212","v":200},null,"A+/A/B/C/D"]
[null,"◐",{"$f":"'Result Entry'!$K$3","v":"Hindi"},null,{"$f":"IF(OR(C3213=\"\",$I3204=\"NSO\"),\"\",VLOOKUP($A3199,'Result Entry'!$B$9:$EQ$108,10,0))","v":0},{"$f":"IF(OR(C3213=\"\",$I3204=\"NSO\"),\"\",VLOOKUP($A3199,'Result Entry'!$B$9:$EQ$108,11,0))","v":0},{"$f":"IF(OR(C3213=\"\",$I3204=\"NSO\"),\"\",VLOOKUP($A3199,'Result Entry'!$B$9:$EQ$108,12,0))","v":0},{"$f":"IF(OR(C3213=\"\",$I3204=\"NSO\"),\"\",VLOOKUP($A3199,'Result Entry'!$B$9:$EQ$108,17,0))","v":0},{"$f":"SUM(E3213:H3213)","v":0},{"$f":"IF(OR(C3213=\"\",$I3204=\"NSO\"),\"\",VLOOKUP($A3199,'Result Entry'!$B$9:$EQ$108,21,0))","v":0},{"$f":"SUM(I3213,J3213)","v":0},null,{"$f":"IF(OR(C3213=\"\",$I3204=\"NSO\"),\"\",VLOOKUP($A3199,'Result Entry'!$B$9:$EQ$108,24,0))","v":""}]
[null,"◐",{"$f":"'Result Entry'!$Z$3","v":"Mathematics"},null,{"$f":"IF(OR(C3214=\"\",$I3204=\"NSO\"),\"\",VLOOKUP($A3199,'Result Entry'!$B$9:$EQ$108,25,0))","v":0},{"$f":"IF(OR(C3214=\"\",$I3204=\"NSO\"),\"\",VLOOKUP($A3199,'Result Entry'!$B$9:$EQ$108,26,0))","v":0},{"$f":"IF(OR(C3214=\"\",$I3204=\"NSO\"),\"\",VLOOKUP($A3199,'Result Entry'!$B$9:$EQ$108,27,0))","v":0},{"$f":"IF(OR(C3214=\"\",$I3204=\"NSO\"),\"\",VLOOKUP($A3199,'Result Entry'!$B$9:$EQ$108,32,0))","v":0},0,{"$f":"IF(OR(C3214=\"\",$I3204=\"NSO\"),\"\",VLOOKUP($A3199,'Result Entry'!$B$9:$EQ$108,36,0))","v":0},{"$f":"SUM(I3214,J3214)","v":0},null,{"$f":"IF(OR(C3214=\"\",$I3204=\"NSO\"),\"\",VLOOKUP($A3199,'Result Entry'!$B$9:$EQ$108,39,0))","v":""}]
[null,"◐",{"$f":"'Result Entry'!$BD$3","v":"Env. Study"},null,{"$f":"IF(OR(C3215=\"\",$I3204=\"NSO\"),\"\",VLOOKUP($A3199,'Result Entry'!$B$9:$EQ$108,55,0))","v":0},{"$f":"IF(OR(C3215=\"\",$I3204=\"NSO\"),\"\",VLOOKUP($A3199,'Result Entry'!$B$9:$EQ$108,56,0))","v":0},{"$f":"IF(OR(C3215=\"\",$I3204=\"NSO\"),\"\",VLOOKUP($A3199,'Result Entry'!$B$9:$EQ$108,57,0))","v":0},{"$f":"IF(OR(C3213=\"\",$I3204=\"NSO\"),\"\",VLOOKUP($A3199,'Result Entry'!$B$9:$EQ$108,62,0))","v":0},0,{"$f":"IF(OR(C3214=\"\",$I3204=\"NSO\"),\"\",VLOOKUP($A3199,'Result Entry'!$B$9:$EQ$108,66,0))","v":0},0,null,{"$f":"IF(OR(C3214=\"\",$I3204=\"NSO\"),\"\",VLOOKUP($A3199,'Result Entry'!$B$9:$EQ$108,69,0))","v":""}]
[null,"◐","Max. Marks",null,{"$f":"'Result Entry'!$AO$7","v":5},{"$f":"'Result Entry'!$AP$7","v":5},{"$f":"'Result Entry'!$AQ$7","v":5},{"$f":"'Result Entry'!$AV$7","v":35},50,{"$f":"'Result Entry'!$AZ$7","v":50},100,null,"A+/A/B/C/D"]
[null,"◐",{"$f":"'Result Entry'!$AO$3","v":"English"},null,{"$f":"IF(OR(C3217=\"\",$I3204=\"NSO\"),\"\",VLOOKUP($A3199,'Result Entry'!$B$9:$EQ$108,40,0))","v":0},{"$f":"IF(OR(C3217=\"\",$I3204=\"NSO\"),\"\",VLOOKUP($A3199,'Result Entry'!$B$9:$EQ$108,41,0))","v":0},{"$f":"IF(OR(C3217=\"\",$I3204=\"NSO\"),\"\",VLOOKUP($A3199,'Result Entry'!$B$9:$EQ$108,42,0))","v":0},{"$f":"IF(OR(C3217=\"\",$I3204=\"NSO\"),\"\",VLOOKUP($A3199,'Result Entry'!$B$9:$EQ$108,47,0))","v":0},0,{"$f":"IF(OR(C3217=\"\",$I3204=\"NSO\"),\"\",VLOOKUP($A3199,'Result Entry'!$B$9:$EQ$108,51,0))","v":0},0,null,{"$f":"IF(OR(C3217=\"\",$I3204=\"NSO\"),\"\",VLOOKUP($A3199,'Result Entry'!$B$9:$EQ$108,54,0))","v":""}]
[null,"◐","Max. Marks",null,{"$f":"'Result Entry'!$BS$7","v":10},{"$f":"'Result Entry'!$BT$7","v":10},{"$f":"'Result Entry'!$BU$7","v":10},{"$f":"'Result Entry'!$BZ$7","v":70},{"$f":"SUM(E3218:H3218)","v":100},{"$f":"'Result Entry'!$CD$7","v":100},200,null,"A+/A/B/C/D"]
[null,"◐",{"$f":"'Result Entry'!$BS$3","v":"Sanskrit/Urdu"},null,{"$f":"IF(OR(C3219=\"\",$I3204=\"NSO\"),\"\",VLOOKUP($A3199,'Result Entry'!$B$9:$EQ$108,70,0))","v":0},{"$f":"IF(OR(C3219=\"\",$I3204=\"NSO\"),\"\",VLOOKUP($A3199,'Result Entry'!$B$9:$EQ$108,71,0))","v":0},{"$f":"IF(OR(C3219=\"\",$I3204=\"NSO\"),\"\",VLOOKUP($A3199,'Result Entry'!$B$9:$EQ$108,72,0))","v":0},{"$f":"IF(OR(C3219=\"\",$I3204=\"NSO\"),\"\",VLOOKUP($A3199,'Result Entry'!$B$9:$EQ$108,77,0))","v":0},{"$f":"SUM(E3219:H3219)","v":0},{"$f":"IF(OR(C3219=\"\",$I3204=\"NSO\"),\"\",VLOOKUP($A3199,'Result Entry'!$B$9:$EQ$108,81,0))","v":0},0,null,{"$f":"IF(OR(C3219=\"\",$I3204=\"NSO\"),\"\",VLOOKUP($A3199,'Result Entry'!$B$9:$EQ$108,84,0))","v":""}]
[null,"◐"]
[null,"◐","Overall Result",null,null,"Total Max. Marks",null,"Total Obtained Marks",null,"Percentage","Overall Grade","Result","Position in Class"]
[null,"◐",{"$nulls":3},{"$f":"IF(OR($I3204=\"\",$I3204=\"NSO\"),\"\",VLOOKUP($A3199,'Result Entry'!$B$9:$EQ$108,120,0))","v":900},null,{"$f":"IF(OR($I3204=\"\",$I3204=\"NSO\"),\"\",VLOOKUP($A3199,'Result Entry'!$B$9:$EQ$108,121,0))","v":0},null,{"$f":"IF(OR($I3204=\"\",$I3204=\"NSO\"),\"\",VLOOKUP($A3199,'Result Entry'!$B$9:$EQ$108,122,0))","v":{"v":0,"d":"0.00"}},{"$f":"IF(OR($I3204=\"\",$I3204=\"NSO\"),\"\",VLOOKUP($A3199,'Result Entry'!$B$9:$EQ$108,123,0))","v":""},{"$f":"IF(OR($I3204=\"\",$I3204=\"NSO\"),\"\",VLOOKUP($A3199,'Result Entry'!$B$9:$EQ$108,124,0))","v":""},{"$f":"IF(OR($I3204=\"\",$I3204=\"NSO\"),\"\",VLOOKUP($A3199,'Result Entry'!$B$9:$EQ$108,126,0))","v":""}]
[null,"◐",{"$nulls":6},"Total Meetings :-",null,{"$f":"IF(OR($I3204=\"\",$I3204=\"NSO\"),\"\",VLOOKUP($A3199,'Result Entry'!$B$9:$EQ$108,117,0))","v":0},"Attedance %"]
[null,"◐","Extra Subjects",{"$nulls":5},"Student's Meetings :-",null,{"$f":"IF(OR($I3204=\"\",$I3204=\"NSO\"),\"\",VLOOKUP($A3199,'Result Entry'!$B$9:$EQ$108,118,0))","v":0},{"$f":"IF(OR($I3204=\"\",$I3204=\"NSO\"),\"\",VLOOKUP($A3199,'Result Entry'!$B$9:$EQ$108,119,0))","v":""}]
[null,"◐","Subject",null,null,"Total Marks",null,"GRADE","Remark :-",null,{"$f":"IF(OR($I3204=\"\",$I3204=\"NSO\"),\"\",VLOOKUP($A3199,'Result Entry'!$B$9:$EQ$108,127,0))","v":0}]
[null,"◐",{"$f":"'Result Entry'!$CH$3","v":"WORK EXP."},null,null,{"$f":"IF(OR(C3226=\"\",$I3204=\"NSO\"),\"\",VLOOKUP($A3199,'Result Entry'!$B$9:$EQ$108,138,0))","v":"0/100"},null,{"$f":"IF(OR(C3226=\"\",$I3204=\"NSO\"),\"\",VLOOKUP($A3199,'Result Entry'!$B$9:$EQ$108,92,0))","v":""},"Result Date :-",null,{"$f":"'Result Entry'!$U$2","v":"2024-05-07"}]
[null,"◐",{"$f":"'Result Entry'!$CP$3","v":"ART EDU."},null,null,{"$f":"IF(OR(C3227=\"\",$I3204=\"NSO\"),\"\",VLOOKUP($A3199,'Result Entry'!$B$9:$EQ$108,142,0))","v":"0/100"},null,{"$f":"IF(OR(C3227=\"\",$I3204=\"NSO\"),\"\",VLOOKUP($A3199,'Result Entry'!$B$9:$EQ$108,100,0))","v":""}]
[null,null,{"$f":"'Result Entry'!$CX$3","v":"H&P. EDU."},null,null,{"$f":"IF(OR(C3228=\"\",$I3204=\"NSO\"),\"\",VLOOKUP($A3199,'Result Entry'!$B$9:$EQ$108,146,0))","v":"0/0"},null,{"$f":"IF(OR(C3228=\"\",$I3204=\"NSO\"),\"\",VLOOKUP($A3199,'Result Entry'!$B$9:$EQ$108,108,0))","v":""}]
[null,"◐",{"$f":"'Result Entry'!$DF$3","v":0},null,null,{"$f":"IF(OR(C3229=\"\",$I3204=\"NSO\"),\"\",VLOOKUP($A3199,'Result Entry'!$B$9:$EQ$108,131,0))","v":0},null,{"$f":"IF(OR(C3229=\"\",$I3204=\"NSO\"),\"\",VLOOKUP($A3199,'Result Entry'!$B$9:$EQ$108,97,0))","v":0},"Signature Of The Class Teacher"]
[null,"◐","Grading System"]
[null,"◐","Grd.","% Range",null,"Description"]
[null,"◐","A","86-100",null,"Excellent",null,null,"Signature And Seal Of Principal/H.M."]
[null,"◐","B","71-85",null,"Very Good"]
[null,"◐","C","51-70",null,"Good"]
[null,"◐","D","31-50",null,"Average"]
[null,"◐","E","0-30",null,"Needs Improvement",null,null,"Wish bright future"]
[]
[{"$f":"A3199+1","v":84},"Department Of Education, Rajasthan"]
[null,{"$f":"IF(I3243>0,CONCATENATE(C3243,I3243),0)","v":0},null,{"$f":"Master!$E$8","v":"Govt.Sr.Sec.Sch."}]
[{"$nulls":3},{"$f":"Master!$E$11","v":"P.S.-Bapini (Jodhpur)"}]
[null,null,"Report Card",{"$nulls":6},"U-DISE Code:-",null,{"$f":"Master!$E$14","v":{"v":810000000,"d":"0810000000"}}]
[{"$nulls":9},"Session:-",null,{"$f":"Master!$E$6","v":"2023-24"}]
[null,null,"Roll No.:-",{"$nulls":5},{"$f":"VLOOKUP($A3238,'Result Entry'!$B$9:$F$108,5,0)","v":0}]
[null,"◐","Scholar Number",{"$nulls":3},"↠",{"$f":"VLOOKUP($A3238,'Result Entry'!$B$9:$EQ$108,3,0)","v":0}]
[null,"◐","Student's Name",{"$nulls":3},"↠",{"$f":"VLOOKUP($A3238,'Result Entry'!$B$9:$EQ$108,6,0)","v":0}]
[null,"◐","Father's Name",{"$nulls":3},"↠",{"$f":"VLOOKUP($A3238,'Result Entry'!$B$9:$EQ$108,7,0)","v":0}]
[null,"◐","Mother's Name ",{"$nulls":3},"↠",{"$f":"VLOOKUP($A3238,'Result Entry'!$B$9:$EQ$108,8,0)","v":0}]
[null,"◐","Class & Section",{"$nulls":3},"↠",{"$f":"CONCATENATE('Result Entry'!$F$4,'Result Entry'!$I$4)","v":"2(A)"}]
[null,"◐","Date Of Birth",{"$nulls":3},"↠",{"$f":"VLOOKUP($A3238,'Result Entry'!$B$9:$EQ$108,9,0)","v":"00:00:00"}]
[null,"◐","Subject",null,{"$f":"'Result Entry'!$K$6","v":"First Test"},{"$f":"'Result Entry'!$L$6","v":"Second Test"},{"$f":"'Result Entry'!$M$6","v":"Third Test"},"Half Yearly","Total (Test+H.Y.)","Yearly","Grand Total",null,"Subject Grade"]
[null,"◐","Max. Marks",null,{"$f":"'Result Entry'!$K$7","v":10},{"$f":"'Result Entry'!$L$7","v":10},{"$f":"'Result Entry'!$M$7","v":10},{"$f":"'Result Entry'!$R$7","v":70},{"$f":"SUM(E3251:H3251)","v":100},{"$f":"'Result Entry'!$V$7","v":100},{"$f":"I3251+J3251","v":200},null,"A+/A/B/C/D"]
[null,"◐",{"$f":"'Result Entry'!$K$3","v":"Hindi"},null,{"$f":"IF(OR(C3252=\"\",$I3243=\"NSO\"),\"\",VLOOKUP($A3238,'Result Entry'!$B$9:$EQ$108,10,0))","v":0},{"$f":"IF(OR(C3252=\"\",$I3243=\"NSO\"),\"\",VLOOKUP($A3238,'Result Entry'!$B$9:$EQ$108,11,0))","v":0},{"$f":"IF(OR(C3252=\"\",$I3243=\"NSO\"),\"\",VLOOKUP($A3238,'Result Entry'!$B$9:$EQ$108,12,0))","v":0},{"$f":"IF(OR(C3252=\"\",$I3243=\"NSO\"),\"\",VLOOKUP($A3238,'Result Entry'!$B$9:$EQ$108,17,0))","v":0},{"$f":"SUM(E3252:H3252)","v":0},{"$f":"IF(OR(C3252=\"\",$I3243=\"NSO\"),\"\",VLOOKUP($A3238,'Result Entry'!$B$9:$EQ$108,21,0))","v":0},{"$f":"SUM(I3252,J3252)","v":0},null,{"$f":"IF(OR(C3252=\"\",$I3243=\"NSO\"),\"\",VLOOKUP($A3238,'Result Entry'!$B$9:$EQ$108,24,0))","v":""}]
[null,"◐",{"$f":"'Result Entry'!$Z$3","v":"Mathematics"},null,{"$f":"IF(OR(C3253=\"\",$I3243=\"NSO\"),\"\",VLOOKUP($A3238,'Result Entry'!$B$9:$EQ$108,25,0))","v":0},{"$f":"IF(OR(C3253=\"\",$I3243=\"NSO\"),\"\",VLOOKUP($A3238,'Result Entry'!$B$9:$EQ$108,26,0))","v":0},{"$f":"IF(OR(C3253=\"\",$I3243=\"NSO\"),\"\",VLOOKUP($A3238,'Result Entry'!$B$9:$EQ$108,27,0))","v":0},{"$f":"IF(OR(C3253=\"\",$I3243=\"NSO\"),\"\",VLOOKUP($A3238,'Result Entry'!$B$9:$EQ$108,32,0))","v":0},0,{"$f":"IF(OR(C3253=\"\",$I3243=\"NSO\"),\"\",VLOOKUP($A3238,'Result Entry'!$B$9:$EQ$108,36,0))","v":0},{"$f":"SUM(I3253,J3253)","v":0},null,{"$f":"IF(OR(C3253=\"\",$I3243=\"NSO\"),\"\",VLOOKUP($A3238,'Result Entry'!$B$9:$EQ$108,39,0))","v":""}]
[null,"◐",{"$f":"'Result Entry'!$BD$3","v":"Env. Study"},null,{"$f":"IF(OR(C3254=\"\",$I3243=\"NSO\"),\"\",VLOOKUP($A3238,'Result Entry'!$B$9:$EQ$108,55,0))","v":0},{"$f":"IF(OR(C3254=\"\",$I3243=\"NSO\"),\"\",VLOOKUP($A3238,'Result Entry'!$B$9:$EQ$108,56,0))","v":0},{"$f":"IF(OR(C3254=\"\",$I3243=\"NSO\"),\"\",VLOOKUP($A3238,'Result Entry'!$B$9:$EQ$108,57,0))","v":0},{"$f":"IF(OR(C3252=\"\",$I3243=\"NSO\"),\"\",VLOOKUP($A3238,'Result Entry'!$B$9:$EQ$108,62,0))","v":0},0,{"$f":"IF(OR(C3253=\"\",$I3243=\"NSO\"),\"\",VLOOKUP($A3238,'Result Entry'!$B$9:$EQ$108,66,0))","v":0},0,null,{"$f":"IF(OR(C3253=\"\",$I3243=\"NSO\"),\"\",VLOOKUP($A3238,'Result Entry'!$B$9:$EQ$108,69,0))","v":""}]
[null,"◐","Max. Marks",null,{"$f":"'Result Entry'!$AO$7","v":5},{"$f":"'Result Entry'!$AP$7","v":5},{"$f":"'Result Entry'!$AQ$7","v":5},{"$f":"'Result Entry'!$AV$7","v":35},50,{"$f":"'Result Entry'!$AZ$7","v":50},100,null,"A+/A/B/C/D"]
[null,"◐",{"$f":"'Result Entry'!$AO$3","v":"English"},null,{"$f":"IF(OR(C3256=\"\",$I3243=\"NSO\"),\"\",VLOOKUP($A3238,'Result Entry'!$B$9:$EQ$108,40,0))","v":0},{"$f":"IF(OR(C3256=\"\",$I3243=\"NSO\"),\"\",VLOOKUP($A3238,'Result Entry'!$B$9:$EQ$108,41,0))","v":0},{"$f":"IF(OR(C3256=\"\",$I3243=\"NSO\"),\"\",VLOOKUP($A3238,'Result Entry'!$B$9:$EQ$108,42,0))","v":0},{"$f":"IF(OR(C3256=\"\",$I3243=\"NSO\"),\"\",VLOOKUP($A3238,'Result Entry'!$B$9:$EQ$108,47,0))","v":0},0,{"$f":"IF(OR(C3256=\"\",$I3243=\"NSO\"),\"\",VLOOKUP($A3238,'Result Entry'!$B$9:$EQ$108,51,0))","v":0},0,null,{"$f":"IF(OR(C3256=\"\",$I3243=\"NSO\"),\"\",VLOOKUP($A3238,'Result Entry'!$B$9:$EQ$108,54,0))","v":""}]
[null,"◐","Max. Marks",null,{"$f":"'Result Entry'!$BS$7","v":10},{"$f":"'Result Entry'!$BT$7","v":10},{"$f":"'Result Entry'!$BU$7","v":10},{"$f":"'Result Entry'!$BZ$7","v":70},{"$f":"SUM(E3257:H3257)","v":100},{"$f":"'Result Entry'!$CD$7","v":100},200,null,"A+/A/B/C/D"]
[null,"◐",{"$f":"'Result Entry'!$BS$3","v":"Sanskrit/Urdu"},null,{"$f":"IF(OR(C3258=\"\",$I3243=\"NSO\"),\"\",VLOOKUP($A3238,'Result Entry'!$B$9:$EQ$108,70,0))","v":0},{"$f":"IF(OR(C3258=\"\",$I3243=\"NSO\"),\"\",VLOOKUP($A3238,'Result Entry'!$B$9:$EQ$108,71,0))","v":0},{"$f":"IF(OR(C3258=\"\",$I3243=\"NSO\"),\"\",VLOOKUP($A3238,'Result Entry'!$B$9:$EQ$108,72,0))","v":0},{"$f":"IF(OR(C3258=\"\",$I3243=\"NSO\"),\"\",VLOOKUP($A3238,'Result Entry'!$B$9:$EQ$108,77,0))","v":0},{"$f":"SUM(E3258:H3258)","v":0},{"$f":"IF(OR(C3258=\"\",$I3243=\"NSO\"),\"\",VLOOKUP($A3238,'Result Entry'!$B$9:$EQ$108,81,0))","v":0},0,null,{"$f":"IF(OR(C3258=\"\",$I3243=\"NSO\"),\"\",VLOOKUP($A3238,'Result Entry'!$B$9:$EQ$108,84,0))","v":""}]
[null,"◐"]
[null,"◐","Overall Result",null,null,"Total Max. Marks",null,"Total Obtained Marks",null,"Percentage","Overall Grade","Result","Position in Class"]
[null,"◐",{"$nulls":3},{"$f":"IF(OR($I3243=\"\",$I3243=\"NSO\"),\"\",VLOOKUP($A3238,'Result Entry'!$B$9:$EQ$108,120,0))","v":900},null,{"$f":"IF(OR($I3243=\"\",$I3243=\"NSO\"),\"\",VLOOKUP($A3238,'Result Entry'!$B$9:$EQ$108,121,0))","v":0},null,{"$f":"IF(OR($I3243=\"\",$I3243=\"NSO\"),\"\",VLOOKUP($A3238,'Result Entry'!$B$9:$EQ$108,122,0))","v":{"v":0,"d":"0.00"}},{"$f":"IF(OR($I3243=\"\",$I3243=\"NSO\"),\"\",VLOOKUP($A3238,'Result Entry'!$B$9:$EQ$108,123,0))","v":""},{"$f":"IF(OR($I3243=\"\",$I3243=\"NSO\"),\"\",VLOOKUP($A3238,'Result Entry'!$B$9:$EQ$108,124,0))","v":""},{"$f":"IF(OR($I3243=\"\",$I3243=\"NSO\"),\"\",VLOOKUP($A3238,'Result Entry'!$B$9:$EQ$108,126,0))","v":""}]
[null,"◐",{"$nulls":6},"Total Meetings :-",null,{"$f":"IF(OR($I3243=\"\",$I3243=\"NSO\"),\"\",VLOOKUP($A3238,'Result Entry'!$B$9:$EQ$108,117,0))","v":0},"Attedance %"]
[null,"◐","Extra Subjects",{"$nulls":5},"Student's Meetings :-",null,{"$f":"IF(OR($I3243=\"\",$I3243=\"NSO\"),\"\",VLOOKUP($A3238,'Result Entry'!$B$9:$EQ$108,118,0))","v":0},{"$f":"IF(OR($I3243=\"\",$I3243=\"NSO\"),\"\",VLOOKUP($A3238,'Result Entry'!$B$9:$EQ$108,119,0))","v":""}]
[null,"◐","Subject",null,null,"Total Marks",null,"GRADE","Remark :-",null,{"$f":"IF(OR($I3243=\"\",$I3243=\"NSO\"),\"\",VLOOKUP($A3238,'Result Entry'!$B$9:$EQ$108,127,0))","v":0}]
[null,"◐",{"$f":"'Result Entry'!$CH$3","v":"WORK EXP."},null,null,{"$f":"IF(OR(C3265=\"\",$I3243=\"NSO\"),\"\",VLOOKUP($A3238,'Result Entry'!$B$9:$EQ$108,138,0))","v":"0/100"},null,{"$f":"IF(OR(C3265=\"\",$I3243=\"NSO\"),\"\",VLOOKUP($A3238,'Result Entry'!$B$9:$EQ$108,92,0))","v":""},"Result Date :-",null,{"$f":"'Result Entry'!$U$2","v":"2024-05-07"}]
[null,"◐",{"$f":"'Result Entry'!$CP$3","v":"ART EDU."},null,null,{"$f":"IF(OR(C3266=\"\",$I3243=\"NSO\"),\"\",VLOOKUP($A3238,'Result Entry'!$B$9:$EQ$108,142,0))","v":"0/100"},null,{"$f":"IF(OR(C3266=\"\",$I3243=\"NSO\"),\"\",VLOOKUP($A3238,'Result Entry'!$B$9:$EQ$108,100,0))","v":""}]
[null,null,{"$f":"'Result Entry'!$CX$3","v":"H&P. EDU."},null,null,{"$f":"IF(OR(C3267=\"\",$I3243=\"NSO\"),\"\",VLOOKUP($A3238,'Result Entry'!$B$9:$EQ$108,146,0))","v":"0/0"},null,{"$f":"IF(OR(C3267=\"\",$I3243=\"NSO\"),\"\",VLOOKUP($A3238,'Result Entry'!$B$9:$EQ$108,108,0))","v":""}]
[null,"◐",{"$f":"'Result Entry'!$DF$3","v":0},null,null,{"$f":"IF(OR(C3268=\"\",$I3243=\"NSO\"),\"\",VLOOKUP($A3238,'Result Entry'!$B$9:$EQ$108,131,0))","v":0},null,{"$f":"IF(OR(C3268=\"\",$I3243=\"NSO\"),\"\",VLOOKUP($A3238,'Result Entry'!$B$9:$EQ$108,97,0))","v":0},"Signature Of The Class Teacher"]
[null,"◐","Grading System"]
[null,"◐","Grd.","% Range",null,"Description"]
[null,"◐","A","86-100",null,"Excellent",null,null,"Signature And Seal Of Principal/H.M."]
[null,"◐","B","71-85",null,"Very Good"]
[null,"◐","C","51-70",null,"Good"]
[null,"◐","D","31-50",null,"Average"]
[null,"◐","E","0-30",null,"Needs Improvement",null,null,"Wish bright future"]
[]
[{"$f":"A3238+1","v":85},"Department Of Education, Rajasthan"]
[null,{"$f":"IF(I3282>0,CONCATENATE(C3282,I3282),0)","v":0},null,{"$f":"Master!$E$8","v":"Govt.Sr.Sec.Sch."}]
[{"$nulls":3},{"$f":"Master!$E$11","v":"P.S.-Bapini (Jodhpur)"}]
[null,null,"Report Card",{"$nulls":6},"U-DISE Code:-",null,{"$f":"Master!$E$14","v":{"v":810000000,"d":"0810000000"}}]
[{"$nulls":9},"Session:-",null,{"$f":"Master!$E$6","v":"2023-24"}]
[null,null,"Roll No.:-",{"$nulls":5},{"$f":"VLOOKUP($A3277,'Result Entry'!$B$9:$F$108,5,0)","v":0}]
[null,"◐","Scholar Number",{"$nulls":3},"↠",{"$f":"VLOOKUP($A3277,'Result Entry'!$B$9:$EQ$108,3,0)","v":0}]
[null,"◐","Student's Name",{"$nulls":3},"↠",{"$f":"VLOOKUP($A3277,'Result Entry'!$B$9:$EQ$108,6,0)","v":0}]
[null,"◐","Father's Name",{"$nulls":3},"↠",{"$f":"VLOOKUP($A3277,'Result Entry'!$B$9:$EQ$108,7,0)","v":0}]
[null,"◐","Mother's Name ",{"$nulls":3},"↠",{"$f":"VLOOKUP($A3277,'Result Entry'!$B$9:$EQ$108,8,0)","v":0}]
[null,"◐","Class & Section",{"$nulls":3},"↠",{"$f":"CONCATENATE('Result Entry'!$F$4,'Result Entry'!$I$4)","v":"2(A)"}]
[null,"◐","Date Of Birth",{"$nulls":3},"↠",{"$f":"VLOOKUP($A3277,'Result Entry'!$B$9:$EQ$108,9,0)","v":"00:00:00"}]
[null,"◐","Subject",null,{"$f":"'Result Entry'!$K$6","v":"First Test"},{"$f":"'Result Entry'!$L$6","v":"Second Test"},{"$f":"'Result Entry'!$M$6","v":"Third Test"},"Half Yearly","Total (Test+H.Y.)","Yearly","Grand Total",null,"Subject Grade"]
[null,"◐","Max. Marks",null,{"$f":"'Result Entry'!$K$7","v":10},{"$f":"'Result Entry'!$L$7","v":10},{"$f":"'Result Entry'!$M$7","v":10},{"$f":"'Result Entry'!$R$7","v":70},{"$f":"SUM(E3290:H3290)","v":100},{"$f":"'Result Entry'!$V$7","v":100},{"$f":"I3290+J3290","v":200},null,"A+/A/B/C/D"]
[null,"◐",{"$f":"'Result Entry'!$K$3","v":"Hindi"},null,{"$f":"IF(OR(C3291=\"\",$I3282=\"NSO\"),\"\",VLOOKUP($A3277,'Result Entry'!$B$9:$EQ$108,10,0))","v":0},{"$f":"IF(OR(C3291=\"\",$I3282=\"NSO\"),\"\",VLOOKUP($A3277,'Result Entry'!$B$9:$EQ$108,11,0))","v":0},{"$f":"IF(OR(C3291=\"\",$I3282=\"NSO\"),\"\",VLOOKUP($A3277,'Result Entry'!$B$9:$EQ$108,12,0))","v":0},{"$f":"IF(OR(C3291=\"\",$I3282=\"NSO\"),\"\",VLOOKUP($A3277,'Result Entry'!$B$9:$EQ$108,17,0))","v":0},{"$f":"SUM(E3291:H3291)","v":0},{"$f":"IF(OR(C3291=\"\",$I3282=\"NSO\"),\"\",VLOOKUP($A3277,'Result Entry'!$B$9:$EQ$108,21,0))","v":0},{"$f":"SUM(I3291,J3291)","v":0},null,{"$f":"IF(OR(C3291=\"\",$I3282=\"NSO\"),\"\",VLOOKUP($A3277,'Result Entry'!$B$9:$EQ$108,24,0))","v":""}]
[null,"◐",{"$f":"'Result Entry'!$Z$3","v":"Mathematics"},null,{"$f":"IF(OR(C3292=\"\",$I3282=\"NSO\"),\"\",VLOOKUP($A3277,'Result Entry'!$B$9:$EQ$108,25,0))","v":0},{"$f":"IF(OR(C3292=\"\",$I3282=\"NSO\"),\"\",VLOOKUP($A3277,'Result Entry'!$B$9:$EQ$108,26,0))","v":0},{"$f":"IF(OR(C3292=\"\",$I3282=\"NSO\"),\"\",VLOOKUP($A3277,'Result Entry'!$B$9:$EQ$108,27,0))","v":0},{"$f":"IF(OR(C3292=\"\",$I3282=\"NSO\"),\"\",VLOOKUP($A3277,'Result Entry'!$B$9:$EQ$108,32,0))","v":0},0,{"$f":"IF(OR(C3292=\"\",$I3282=\"NSO\"),\"\",VLOOKUP($A3277,'Result Entry'!$B$9:$EQ$108,36,0))","v":0},{"$f":"SUM(I3292,J3292)","v":0},null,{"$f":"IF(OR(C3292=\"\",$I3282=\"NSO\"),\"\",VLOOKUP($A3277,'Result Entry'!$B$9:$EQ$108,39,0))","v":""}]
[null,"◐",{"$f":"'Result Entry'!$BD$3","v":"Env. Study"},null,{"$f":"IF(OR(C3293=\"\",$I3282=\"NSO\"),\"\",VLOOKUP($A3277,'Result Entry'!$B$9:$EQ$108,55,0))","v":0},{"$f":"IF(OR(C3293=\"\",$I3282=\"NSO\"),\"\",VLOOKUP($A3277,'Result Entry'!$B$9:$EQ$108,56,0))","v":0},{"$f":"IF(OR(C3293=\"\",$I3282=\"NSO\"),\"\",VLOOKUP($A3277,'Result Entry'!$B$9:$EQ$108,57,0))","v":0},{"$f":"IF(OR(C3291=\"\",$I3282=\"NSO\"),\"\",VLOOKUP($A3277,'Result Entry'!$B$9:$EQ$108,62,0))","v":0},0,{"$f":"IF(OR(C3292=\"\",$I3282=\"NSO\"),\"\",VLOOKUP($A3277,'Result Entry'!$B$9:$EQ$108,66,0))","v":0},0,null,{"$f":"IF(OR(C3292=\"\",$I3282=\"NSO\"),\"\",VLOOKUP($A3277,'Result Entry'!$B$9:$EQ$108,69,0))","v":""}]
[null,"◐","Max. Marks",null,{"$f":"'Result Entry'!$AO$7","v":5},{"$f":"'Result Entry'!$AP$7","v":5},{"$f":"'Result Entry'!$AQ$7","v":5},{"$f":"'Result Entry'!$AV$7","v":35},50,{"$f":"'Result Entry'!$AZ$7","v":50},100,null,"A+/A/B/C/D"]
[null,"◐",{"$f":"'Result Entry'!$AO$3","v":"English"},null,{"$f":"IF(OR(C3295=\"\",$I3282=\"NSO\"),\"\",VLOOKUP($A3277,'Result Entry'!$B$9:$EQ$108,40,0))","v":0},{"$f":"IF(OR(C3295=\"\",$I3282=\"NSO\"),\"\",VLOOKUP($A3277,'Result Entry'!$B$9:$EQ$108,41,0))","v":0},{"$f":"IF(OR(C3295=\"\",$I3282=\"NSO\"),\"\",VLOOKUP($A3277,'Result Entry'!$B$9:$EQ$108,42,0))","v":0},{"$f":"IF(OR(C3295=\"\",$I3282=\"NSO\"),\"\",VLOOKUP($A3277,'Result Entry'!$B$9:$EQ$108,47,0))","v":0},0,{"$f":"IF(OR(C3295=\"\",$I3282=\"NSO\"),\"\",VLOOKUP($A3277,'Result Entry'!$B$9:$EQ$108,51,0))","v":0},0,null,{"$f":"IF(OR(C3295=\"\",$I3282=\"NSO\"),\"\",VLOOKUP($A3277,'Result Entry'!$B$9:$EQ$108,54,0))","v":""}]
[null,"◐","Max. Marks",null,{"$f":"'Result Entry'!$BS$7","v":10},{"$f":"'Result Entry'!$BT$7","v":10},{"$f":"'Result Entry'!$BU$7","v":10},{"$f":"'Result Entry'!$BZ$7","v":70},{"$f":"SUM(E3296:H3296)","v":100},{"$f":"'Result Entry'!$CD$7","v":100},200,null,"A+/A/B/C/D"]
[null,"◐",{"$f":"'Result Entry'!$BS$3","v":"Sanskrit/Urdu"},null,{"$f":"IF(OR(C3297=\"\",$I3282=\"NSO\"),\"\",VLOOKUP($A3277,'Result Entry'!$B$9:$EQ$108,70,0))","v":0},{"$f":"IF(OR(C3297=\"\",$I3282=\"NSO\"),\"\",VLOOKUP($A3277,'Result Entry'!$B$9:$EQ$108,71,0))","v":0},{"$f":"IF(OR(C3297=\"\",$I3282=\"NSO\"),\"\",VLOOKUP($A3277,'Result Entry'!$B$9:$EQ$108,72,0))","v":0},{"$f":"IF(OR(C3297=\"\",$I3282=\"NSO\"),\"\",VLOOKUP($A3277,'Result Entry'!$B$9:$EQ$108,77,0))","v":0},{"$f":"SUM(E3297:H3297)","v":0},{"$f":"IF(OR(C3297=\"\",$I3282=\"NSO\"),\"\",VLOOKUP($A3277,'Result Entry'!$B$9:$EQ$108,81,0))","v":0},0,null,{"$f":"IF(OR(C3297=\"\",$I3282=\"NSO\"),\"\",VLOOKUP($A3277,'Result Entry'!$B$9:$EQ$108,84,0))","v":""}]
[null,"◐"]
[null,"◐","Overall Result",null,null,"Total Max. Marks",null,"Total Obtained Marks",null,"Percentage","Overall Grade","Result","Position in Class"]
[null,"◐",{"$nulls":3},{"$f":"IF(OR($I3282=\"\",$I3282=\"NSO\"),\"\",VLOOKUP($A3277,'Result Entry'!$B$9:$EQ$108,120,0))","v":900},null,{"$f":"IF(OR($I3282=\"\",$I3282=\"NSO\"),\"\",VLOOKUP($A3277,'Result Entry'!$B$9:$EQ$108,121,0))","v":0},null,{"$f":"IF(OR($I3282=\"\",$I3282=\"NSO\"),\"\",VLOOKUP($A3277,'Result Entry'!$B$9:$EQ$108,122,0))","v":{"v":0,"d":"0.00"}},{"$f":"IF(OR($I3282=\"\",$I3282=\"NSO\"),\"\",VLOOKUP($A3277,'Result Entry'!$B$9:$EQ$108,123,0))","v":""},{"$f":"IF(OR($I3282=\"\",$I3282=\"NSO\"),\"\",VLOOKUP($A3277,'Result Entry'!$B$9:$EQ$108,124,0))","v":""},{"$f":"IF(OR($I3282=\"\",$I3282=\"NSO\"),\"\",VLOOKUP($A3277,'Result Entry'!$B$9:$EQ$108,126,0))","v":""}]
[null,"◐",{"$nulls":6},"Total Meetings :-",null,{"$f":"IF(OR($I3282=\"\",$I3282=\"NSO\"),\"\",VLOOKUP($A3277,'Result Entry'!$B$9:$EQ$108,117,0))","v":0},"Attedance %"]
[null,"◐","Extra Subjects",{"$nulls":5},"Student's Meetings :-",null,{"$f":"IF(OR($I3282=\"\",$I3282=\"NSO\"),\"\",VLOOKUP($A3277,'Result Entry'!$B$9:$EQ$108,118,0))","v":0},{"$f":"IF(OR($I3282=\"\",$I3282=\"NSO\"),\"\",VLOOKUP($A3277,'Result Entry'!$B$9:$EQ$108,119,0))","v":""}]
[null,"◐","Subject",null,null,"Total Marks",null,"GRADE","Remark :-",null,{"$f":"IF(OR($I3282=\"\",$I3282=\"NSO\"),\"\",VLOOKUP($A3277,'Result Entry'!$B$9:$EQ$108,127,0))","v":0}]
[null,"◐",{"$f":"'Result Entry'!$CH$3","v":"WORK EXP."},null,null,{"$f":"IF(OR(C3304=\"\",$I3282=\"NSO\"),\"\",VLOOKUP($A3277,'Result Entry'!$B$9:$EQ$108,138,0))","v":"0/100"},null,{"$f":"IF(OR(C3304=\"\",$I3282=\"NSO\"),\"\",VLOOKUP($A3277,'Result Entry'!$B$9:$EQ$108,92,0))","v":""},"Result Date :-",null,{"$f":"'Result Entry'!$U$2","v":"2024-05-07"}]
[null,"◐",{"$f":"'Result Entry'!$CP$3","v":"ART EDU."},null,null,{"$f":"IF(OR(C3305=\"\",$I3282=\"NSO\"),\"\",VLOOKUP($A3277,'Result Entry'!$B$9:$EQ$108,142,0))","v":"0/100"},null,{"$f":"IF(OR(C3305=\"\",$I3282=\"NSO\"),\"\",VLOOKUP($A3277,'Result Entry'!$B$9:$EQ$108,100,0))","v":""}]
[null,null,{"$f":"'Result Entry'!$CX$3","v":"H&P. EDU."},null,null,{"$f":"IF(OR(C3306=\"\",$I3282=\"NSO\"),\"\",VLOOKUP($A3277,'Result Entry'!$B$9:$EQ$108,146,0))","v":"0/0"},null,{"$f":"IF(OR(C3306=\"\",$I3282=\"NSO\"),\"\",VLOOKUP($A3277,'Result Entry'!$B$9:$EQ$108,108,0))","v":""}]
[null,"◐",{"$f":"'Result Entry'!$DF$3","v":0},null,null,{"$f":"IF(OR(C3307=\"\",$I3282=\"NSO\"),\"\",VLOOKUP($A3277,'Result Entry'!$B$9:$EQ$108,131,0))","v":0},null,{"$f":"IF(OR(C3307=\"\",$I3282=\"NSO\"),\"\",VLOOKUP($A3277,'Result Entry'!$B$9:$EQ$108,97,0))","v":0},"Signature Of The Class Teacher"]
[null,"◐","Grading System"]
[null,"◐","Grd.","% Range",null,"Description"]
[null,"◐","A","86-100",null,"Excellent",null,null,"Signature And Seal Of Principal/H.M."]
[null,"◐","B","71-85",null,"Very Good"]
[null,"◐","C","51-70",null,"Good"]
[null,"◐","D","31-50",null,"Average"]
[null,"◐","E","0-30",null,"Needs Improvement",null,null,"Wish bright future"]
[]
[{"$f":"A3277+1","v":86},"Department Of Education, Rajasthan"]
[null,{"$f":"IF(I3321>0,CONCATENATE(C3321,I3321),0)","v":0},null,{"$f":"Master!$E$8","v":"Govt.Sr.Sec.Sch."}]
[{"$nulls":3},{"$f":"Master!$E$11","v":"P.S.-Bapini (Jodhpur)"}]
[null,null,"Report Card",{"$nulls":6},"U-DISE Code:-",null,{"$f":"Master!$E$14","v":{"v":810000000,"d":"0810000000"}}]
[{"$nulls":9},"Session:-",null,{"$f":"Master!$E$6","v":"2023-24"}]
[null,null,"Roll No.:-",{"$nulls":5},{"$f":"VLOOKUP($A3316,'Result Entry'!$B$9:$F$108,5,0)","v":0}]
[null,"◐","Scholar Number",{"$nulls":3},"↠",{"$f":"VLOOKUP($A3316,'Result Entry'!$B$9:$EQ$108,3,0)","v":0}]
[null,"◐","Student's Name",{"$nulls":3},"↠",{"$f":"VLOOKUP($A3316,'Result Entry'!$B$9:$EQ$108,6,0)","v":0}]
[null,"◐","Father's Name",{"$nulls":3},"↠",{"$f":"VLOOKUP($A3316,'Result Entry'!$B$9:$EQ$108,7,0)","v":0}]
[null,"◐","Mother's Name ",{"$nulls":3},"↠",{"$f":"VLOOKUP($A3316,'Result Entry'!$B$9:$EQ$108,8,0)","v":0}]
[null,"◐","Class & Section",{"$nulls":3},"↠",{"$f":"CONCATENATE('Result Entry'!$F$4,'Result Entry'!$I$4)","v":"2(A)"}]
[null,"◐","Date Of Birth",{"$nulls":3},"↠",{"$f":"VLOOKUP($A3316,'Result Entry'!$B$9:$EQ$108,9,0)","v":"00:00:00"}]
[null,"◐","Subject",null,{"$f":"'Result Entry'!$K$6","v":"First Test"},{"$f":"'Result Entry'!$L$6","v":"Second Test"},{"$f":"'Result Entry'!$M$6","v":"Third Test"},"Half Yearly","Total (Test+H.Y.)","Yearly","Grand Total",null,"Subject Grade"]
[null,"◐","Max. Marks",null,{"$f":"'Result Entry'!$K$7","v":10},{"$f":"'Result Entry'!$L$7","v":10},{"$f":"'Result Entry'!$M$7","v":10},{"$f":"'Result Entry'!$R$7","v":70},{"$f":"SUM(E3329:H3329)","v":100},{"$f":"'Result Entry'!$V$7","v":100},{"$f":"I3329+J3329","v":200},null,"A+/A/B/C/D"]
[null,"◐",{"$f":"'Result Entry'!$K$3","v":"Hindi"},null,{"$f":"IF(OR(C3330=\"\",$I3321=\"NSO\"),\"\",VLOOKUP($A3316,'Result Entry'!$B$9:$EQ$108,10,0))","v":0},{"$f":"IF(OR(C3330=\"\",$I3321=\"NSO\"),\"\",VLOOKUP($A3316,'Result Entry'!$B$9:$EQ$108,11,0))","v":0},{"$f":"IF(OR(C3330=\"\",$I3321=\"NSO\"),\"\",VLOOKUP($A3316,'Result Entry'!$B$9:$EQ$108,12,0))","v":0},{"$f":"IF(OR(C3330=\"\",$I3321=\"NSO\"),\"\",VLOOKUP($A3316,'Result Entry'!$B$9:$EQ$108,17,0))","v":0},{"$f":"SUM(E3330:H3330)","v":0},{"$f":"IF(OR(C3330=\"\",$I3321=\"NSO\"),\"\",VLOOKUP($A3316,'Result Entry'!$B$9:$EQ$108,21,0))","v":0},{"$f":"SUM(I3330,J3330)","v":0},null,{"$f":"IF(OR(C3330=\"\",$I3321=\"NSO\"),\"\",VLOOKUP($A3316,'Result Entry'!$B$9:$EQ$108,24,0))","v":""}]
[null,"◐",{"$f":"'Result Entry'!$Z$3","v":"Mathematics"},null,{"$f":"IF(OR(C3331=\"\",$I3321=\"NSO\"),\"\",VLOOKUP($A3316,'Result Entry'!$B$9:$EQ$108,25,0))","v":0},{"$f":"IF(OR(C3331=\"\",$I3321=\"NSO\"),\"\",VLOOKUP($A3316,'Result Entry'!$B$9:$EQ$108,26,0))","v":0},{"$f":"IF(OR(C3331=\"\",$I3321=\"NSO\"),\"\",VLOOKUP($A3316,'Result Entry'!$B$9:$EQ$108,27,0))","v":0},{"$f":"IF(OR(C3331=\"\",$I3321=\"NSO\"),\"\",VLOOKUP($A3316,'Result Entry'!$B$9:$EQ$108,32,0))","v":0},0,{"$f":"IF(OR(C3331=\"\",$I3321=\"NSO\"),\"\",VLOOKUP($A3316,'Result Entry'!$B$9:$EQ$108,36,0))","v":0},{"$f":"SUM(I3331,J3331)","v":0},null,{"$f":"IF(OR(C3331=\"\",$I3321=\"NSO\"),\"\",VLOOKUP($A3316,'Result Entry'!$B$9:$EQ$108,39,0))","v":""}]
[null,"◐",{"$f":"'Result Entry'!$BD$3","v":"Env. Study"},null,{"$f":"IF(OR(C3332=\"\",$I3321=\"NSO\"),\"\",VLOOKUP($A3316,'Result Entry'!$B$9:$EQ$108,55,0))","v":0},{"$f":"IF(OR(C3332=\"\",$I3321=\"NSO\"),\"\",VLOOKUP($A3316,'Result Entry'!$B$9:$EQ$108,56,0))","v":0},{"$f":"IF(OR(C3332=\"\",$I3321=\"NSO\"),\"\",VLOOKUP($A3316,'Result Entry'!$B$9:$EQ$108,57,0))","v":0},{"$f":"IF(OR(C3330=\"\",$I3321=\"NSO\"),\"\",VLOOKUP($A3316,'Result Entry'!$B$9:$EQ$108,62,0))","v":0},0,{"$f":"IF(OR(C3331=\"\",$I3321=\"NSO\"),\"\",VLOOKUP($A3316,'Result Entry'!$B$9:$EQ$108,66,0))","v":0},0,null,{"$f":"IF(OR(C3331=\"\",$I3321=\"NSO\"),\"\",VLOOKUP($A3316,'Result Entry'!$B$9:$EQ$108,69,0))","v":""}]
[null,"◐","Max. Marks",null,{"$f":"'Result Entry'!$AO$7","v":5},{"$f":"'Result Entry'!$AP$7","v":5},{"$f":"'Result Entry'!$AQ$7","v":5},{"$f":"'Result Entry'!$AV$7","v":35},50,{"$f":"'Result Entry'!$AZ$7","v":50},100,null,"A+/A/B/C/D"]
[null,"◐",{"$f":"'Result Entry'!$AO$3","v":"English"},null,{"$f":"IF(OR(C3334=\"\",$I3321=\"NSO\"),\"\",VLOOKUP($A3316,'Result Entry'!$B$9:$EQ$108,40,0))","v":0},{"$f":"IF(OR(C3334=\"\",$I3321=\"NSO\"),\"\",VLOOKUP($A3316,'Result Entry'!$B$9:$EQ$108,41,0))","v":0},{"$f":"IF(OR(C3334=\"\",$I3321=\"NSO\"),\"\",VLOOKUP($A3316,'Result Entry'!$B$9:$EQ$108,42,0))","v":0},{"$f":"IF(OR(C3334=\"\",$I3321=\"NSO\"),\"\",VLOOKUP($A3316,'Result Entry'!$B$9:$EQ$108,47,0))","v":0},0,{"$f":"IF(OR(C3334=\"\",$I3321=\"NSO\"),\"\",VLOOKUP($A3316,'Result Entry'!$B$9:$EQ$108,51,0))","v":0},0,null,{"$f":"IF(OR(C3334=\"\",$I3321=\"NSO\"),\"\",VLOOKUP($A3316,'Result Entry'!$B$9:$EQ$108,54,0))","v":""}]
[null,"◐","Max. Marks",null,{"$f":"'Result Entry'!$BS$7","v":10},{"$f":"'Result Entry'!$BT$7","v":10},{"$f":"'Result Entry'!$BU$7","v":10},{"$f":"'Result Entry'!$BZ$7","v":70},{"$f":"SUM(E3335:H3335)","v":100},{"$f":"'Result Entry'!$CD$7","v":100},200,null,"A+/A/B/C/D"]
[null,"◐",{"$f":"'Result Entry'!$BS$3","v":"Sanskrit/Urdu"},null,{"$f":"IF(OR(C3336=\"\",$I3321=\"NSO\"),\"\",VLOOKUP($A3316,'Result Entry'!$B$9:$EQ$108,70,0))","v":0},{"$f":"IF(OR(C3336=\"\",$I3321=\"NSO\"),\"\",VLOOKUP($A3316,'Result Entry'!$B$9:$EQ$108,71,0))","v":0},{"$f":"IF(OR(C3336=\"\",$I3321=\"NSO\"),\"\",VLOOKUP($A3316,'Result Entry'!$B$9:$EQ$108,72,0))","v":0},{"$f":"IF(OR(C3336=\"\",$I3321=\"NSO\"),\"\",VLOOKUP($A3316,'Result Entry'!$B$9:$EQ$108,77,0))","v":0},{"$f":"SUM(E3336:H3336)","v":0},{"$f":"IF(OR(C3336=\"\",$I3321=\"NSO\"),\"\",VLOOKUP($A3316,'Result Entry'!$B$9:$EQ$108,81,0))","v":0},0,null,{"$f":"IF(OR(C3336=\"\",$I3321=\"NSO\"),\"\",VLOOKUP($A3316,'Result Entry'!$B$9:$EQ$108,84,0))","v":""}]
[null,"◐"]
[null,"◐","Overall Result",null,null,"Total Max. Marks",null,"Total Obtained Marks",null,"Percentage","Overall Grade","Result","Position in Class"]
[null,"◐",{"$nulls":3},{"$f":"IF(OR($I3321=\"\",$I3321=\"NSO\"),\"\",VLOOKUP($A3316,'Result Entry'!$B$9:$EQ$108,120,0))","v":900},null,{"$f":"IF(OR($I3321=\"\",$I3321=\"NSO\"),\"\",VLOOKUP($A3316,'Result Entry'!$B$9:$EQ$108,121,0))","v":0},null,{"$f":"IF(OR($I3321=\"\",$I3321=\"NSO\"),\"\",VLOOKUP($A3316,'Result Entry'!$B$9:$EQ$108,122,0))","v":{"v":0,"d":"0.00"}},{"$f":"IF(OR($I3321=\"\",$I3321=\"NSO\"),\"\",VLOOKUP($A3316,'Result Entry'!$B$9:$EQ$108,123,0))","v":""},{"$f":"IF(OR($I3321=\"\",$I3321=\"NSO\"),\"\",VLOOKUP($A3316,'Result Entry'!$B$9:$EQ$108,124,0))","v":""},{"$f":"IF(OR($I3321=\"\",$I3321=\"NSO\"),\"\",VLOOKUP($A3316,'Result Entry'!$B$9:$EQ$108,126,0))","v":""}]
[null,"◐",{"$nulls":6},"Total Meetings :-",null,{"$f":"IF(OR($I3321=\"\",$I3321=\"NSO\"),\"\",VLOOKUP($A3316,'Result Entry'!$B$9:$EQ$108,117,0))","v":0},"Attedance %"]
[null,"◐","Extra Subjects",{"$nulls":5},"Student's Meetings :-",null,{"$f":"IF(OR($I3321=\"\",$I3321=\"NSO\"),\"\",VLOOKUP($A3316,'Result Entry'!$B$9:$EQ$108,118,0))","v":0},{"$f":"IF(OR($I3321=\"\",$I3321=\"NSO\"),\"\",VLOOKUP($A3316,'Result Entry'!$B$9:$EQ$108,119,0))","v":""}]
[null,"◐","Subject",null,null,"Total Marks",null,"GRADE","Remark :-",null,{"$f":"IF(OR($I3321=\"\",$I3321=\"NSO\"),\"\",VLOOKUP($A3316,'Result Entry'!$B$9:$EQ$108,127,0))","v":0}]
[null,"◐",{"$f":"'Result Entry'!$CH$3","v":"WORK EXP."},null,null,{"$f":"IF(OR(C3343=\"\",$I3321=\"NSO\"),\"\",VLOOKUP($A3316,'Result Entry'!$B$9:$EQ$108,138,0))","v":"0/100"},null,{"$f":"IF(OR(C3343=\"\",$I3321=\"NSO\"),\"\",VLOOKUP($A3316,'Result Entry'!$B$9:$EQ$108,92,0))","v":""},"Result Date :-",null,{"$f":"'Result Entry'!$U$2","v":"2024-05-07"}]
[null,"◐",{"$f":"'Result Entry'!$CP$3","v":"ART EDU."},null,null,{"$f":"IF(OR(C3344=\"\",$I3321=\"NSO\"),\"\",VLOOKUP($A3316,'Result Entry'!$B$9:$EQ$108,142,0))","v":"0/100"},null,{"$f":"IF(OR(C3344=\"\",$I3321=\"NSO\"),\"\",VLOOKUP($A3316,'Result Entry'!$B$9:$EQ$108,100,0))","v":""}]
[null,null,{"$f":"'Result Entry'!$CX$3","v":"H&P. EDU."},null,null,{"$f":"IF(OR(C3345=\"\",$I3321=\"NSO\"),\"\",VLOOKUP($A3316,'Result Entry'!$B$9:$EQ$108,146,0))","v":"0/0"},null,{"$f":"IF(OR(C3345=\"\",$I3321=\"NSO\"),\"\",VLOOKUP($A3316,'Result Entry'!$B$9:$EQ$108,108,0))","v":""}]
[null,"◐",{"$f":"'Result Entry'!$DF$3","v":0},null,null,{"$f":"IF(OR(C3346=\"\",$I3321=\"NSO\"),\"\",VLOOKUP($A3316,'Result Entry'!$B$9:$EQ$108,131,0))","v":0},null,{"$f":"IF(OR(C3346=\"\",$I3321=\"NSO\"),\"\",VLOOKUP($A3316,'Result Entry'!$B$9:$EQ$108,97,0))","v":0},"Signature Of The Class Teacher"]
[null,"◐","Grading System"]
[null,"◐","Grd.","% Range",null,"Description"]
[null,"◐","A","86-100",null,"Excellent",null,null,"Signature And Seal Of Principal/H.M."]
[null,"◐","B","71-85",null,"Very Good"]
[null,"◐","C","51-70",null,"Good"]
[null,"◐","D","31-50",null,"Average"]
[null,"◐","E","0-30",null,"Needs Improvement",null,null,"Wish bright future"]
[]
[{"$f":"A3316+1","v":87},"Department Of Education, Rajasthan"]
[null,{"$f":"IF(I3360>0,CONCATENATE(C3360,I3360),0)","v":0},null,{"$f":"Master!$E$8","v":"Govt.Sr.Sec.Sch."}]
[{"$nulls":3},{"$f":"Master!$E$11","v":"P.S.-Bapini (Jodhpur)"}]
[null,null,"Report Card",{"$nulls":6},"U-DISE Code:-",null,{"$f":"Master!$E$14","v":{"v":810000000,"d":"0810000000"}}]
[{"$nulls":9},"Session:-",null,{"$f":"Master!$E$6","v":"2023-24"}]
[null,null,"Roll No.:-",{"$nulls":5},{"$f":"VLOOKUP($A3355,'Result Entry'!$B$9:$F$108,5,0)","v":0}]
[null,"◐","Scholar Number",{"$nulls":3},"↠",{"$f":"VLOOKUP($A3355,'Result Entry'!$B$9:$EQ$108,3,0)","v":0}]
[null,"◐","Student's Name",{"$nulls":3},"↠",{"$f":"VLOOKUP($A3355,'Result Entry'!$B$9:$EQ$108,6,0)","v":0}]
[null,"◐","Father's Name",{"$nulls":3},"↠",{"$f":"VLOOKUP($A3355,'Result Entry'!$B$9:$EQ$108,7,0)","v":0}]
[null,"◐","Mother's Name ",{"$nulls":3},"↠",{"$f":"VLOOKUP($A3355,'Result Entry'!$B$9:$EQ$108,8,0)","v":0}]
[null,"◐","Class & Section",{"$nulls":3},"↠",{"$f":"CONCATENATE('Result Entry'!$F$4,'Result Entry'!$I$4)","v":"2(A)"}]
[null,"◐","Date Of Birth",{"$nulls":3},"↠",{"$f":"VLOOKUP($A3355,'Result Entry'!$B$9:$EQ$108,9,0)","v":"00:00:00"}]
[null,"◐","Subject",null,{"$f":"'Result Entry'!$K$6","v":"First Test"},{"$f":"'Result Entry'!$L$6","v":"Second Test"},{"$f":"'Result Entry'!$M$6","v":"Third Test"},"Half Yearly","Total (Test+H.Y.)","Yearly","Grand Total",null,"Subject Grade"]
[null,"◐","Max. Marks",null,{"$f":"'Result Entry'!$K$7","v":10},{"$f":"'Result Entry'!$L$7","v":10},{"$f":"'Result Entry'!$M$7","v":10},{"$f":"'Result Entry'!$R$7","v":70},{"$f":"SUM(E3368:H3368)","v":100},{"$f":"'Result Entry'!$V$7","v":100},{"$f":"I3368+J3368","v":200},null,"A+/A/B/C/D"]
[null,"◐",{"$f":"'Result Entry'!$K$3","v":"Hindi"},null,{"$f":"IF(OR(C3369=\"\",$I3360=\"NSO\"),\"\",VLOOKUP($A3355,'Result Entry'!$B$9:$EQ$108,10,0))","v":0},{"$f":"IF(OR(C3369=\"\",$I3360=\"NSO\"),\"\",VLOOKUP($A3355,'Result Entry'!$B$9:$EQ$108,11,0))","v":0},{"$f":"IF(OR(C3369=\"\",$I3360=\"NSO\"),\"\",VLOOKUP($A3355,'Result Entry'!$B$9:$EQ$108,12,0))","v":0},{"$f":"IF(OR(C3369=\"\",$I3360=\"NSO\"),\"\",VLOOKUP($A3355,'Result Entry'!$B$9:$EQ$108,17,0))","v":0},{"$f":"SUM(E3369:H3369)","v":0},{"$f":"IF(OR(C3369=\"\",$I3360=\"NSO\"),\"\",VLOOKUP($A3355,'Result Entry'!$B$9:$EQ$108,21,0))","v":0},{"$f":"SUM(I3369,J3369)","v":0},null,{"$f":"IF(OR(C3369=\"\",$I3360=\"NSO\"),\"\",VLOOKUP($A3355,'Result Entry'!$B$9:$EQ$108,24,0))","v":""}]
[null,"◐",{"$f":"'Result Entry'!$Z$3","v":"Mathematics"},null,{"$f":"IF(OR(C3370=\"\",$I3360=\"NSO\"),\"\",VLOOKUP($A3355,'Result Entry'!$B$9:$EQ$108,25,0))","v":0},{"$f":"IF(OR(C3370=\"\",$I3360=\"NSO\"),\"\",VLOOKUP($A3355,'Result Entry'!$B$9:$EQ$108,26,0))","v":0},{"$f":"IF(OR(C3370=\"\",$I3360=\"NSO\"),\"\",VLOOKUP($A3355,'Result Entry'!$B$9:$EQ$108,27,0))","v":0},{"$f":"IF(OR(C3370=\"\",$I3360=\"NSO\"),\"\",VLOOKUP($A3355,'Result Entry'!$B$9:$EQ$108,32,0))","v":0},0,{"$f":"IF(OR(C3370=\"\",$I3360=\"NSO\"),\"\",VLOOKUP($A3355,'Result Entry'!$B$9:$EQ$108,36,0))","v":0},{"$f":"SUM(I3370,J3370)","v":0},null,{"$f":"IF(OR(C3370=\"\",$I3360=\"NSO\"),\"\",VLOOKUP($A3355,'Result Entry'!$B$9:$EQ$108,39,0))","v":""}]
[null,"◐",{"$f":"'Result Entry'!$BD$3","v":"Env. Study"},null,{"$f":"IF(OR(C3371=\"\",$I3360=\"NSO\"),\"\",VLOOKUP($A3355,'Result Entry'!$B$9:$EQ$108,55,0))","v":0},{"$f":"IF(OR(C3371=\"\",$I3360=\"NSO\"),\"\",VLOOKUP($A3355,'Result Entry'!$B$9:$EQ$108,56,0))","v":0},{"$f":"IF(OR(C3371=\"\",$I3360=\"NSO\"),\"\",VLOOKUP($A3355,'Result Entry'!$B$9:$EQ$108,57,0))","v":0},{"$f":"IF(OR(C3369=\"\",$I3360=\"NSO\"),\"\",VLOOKUP($A3355,'Result Entry'!$B$9:$EQ$108,62,0))","v":0},0,{"$f":"IF(OR(C3370=\"\",$I3360=\"NSO\"),\"\",VLOOKUP($A3355,'Result Entry'!$B$9:$EQ$108,66,0))","v":0},0,null,{"$f":"IF(OR(C3370=\"\",$I3360=\"NSO\"),\"\",VLOOKUP($A3355,'Result Entry'!$B$9:$EQ$108,69,0))","v":""}]
[null,"◐","Max. Marks",null,{"$f":"'Result Entry'!$AO$7","v":5},{"$f":"'Result Entry'!$AP$7","v":5},{"$f":"'Result Entry'!$AQ$7","v":5},{"$f":"'Result Entry'!$AV$7","v":35},50,{"$f":"'Result Entry'!$AZ$7","v":50},100,null,"A+/A/B/C/D"]
[null,"◐",{"$f":"'Result Entry'!$AO$3","v":"English"},null,{"$f":"IF(OR(C3373=\"\",$I3360=\"NSO\"),\"\",VLOOKUP($A3355,'Result Entry'!$B$9:$EQ$108,40,0))","v":0},{"$f":"IF(OR(C3373=\"\",$I3360=\"NSO\"),\"\",VLOOKUP($A3355,'Result Entry'!$B$9:$EQ$108,41,0))","v":0},{"$f":"IF(OR(C3373=\"\",$I3360=\"NSO\"),\"\",VLOOKUP($A3355,'Result Entry'!$B$9:$EQ$108,42,0))","v":0},{"$f":"IF(OR(C3373=\"\",$I3360=\"NSO\"),\"\",VLOOKUP($A3355,'Result Entry'!$B$9:$EQ$108,47,0))","v":0},0,{"$f":"IF(OR(C3373=\"\",$I3360=\"NSO\"),\"\",VLOOKUP($A3355,'Result Entry'!$B$9:$EQ$108,51,0))","v":0},0,null,{"$f":"IF(OR(C3373=\"\",$I3360=\"NSO\"),\"\",VLOOKUP($A3355,'Result Entry'!$B$9:$EQ$108,54,0))","v":""}]
[null,"◐","Max. Marks",null,{"$f":"'Result Entry'!$BS$7","v":10},{"$f":"'Result Entry'!$BT$7","v":10},{"$f":"'Result Entry'!$BU$7","v":10},{"$f":"'Result Entry'!$BZ$7","v":70},{"$f":"SUM(E3374:H3374)","v":100},{"$f":"'Result Entry'!$CD$7","v":100},200,null,"A+/A/B/C/D"]
[null,"◐",{"$f":"'Result Entry'!$BS$3","v":"Sanskrit/Urdu"},null,{"$f":"IF(OR(C3375=\"\",$I3360=\"NSO\"),\"\",VLOOKUP($A3355,'Result Entry'!$B$9:$EQ$108,70,0))","v":0},{"$f":"IF(OR(C3375=\"\",$I3360=\"NSO\"),\"\",VLOOKUP($A3355,'Result Entry'!$B$9:$EQ$108,71,0))","v":0},{"$f":"IF(OR(C3375=\"\",$I3360=\"NSO\"),\"\",VLOOKUP($A3355,'Result Entry'!$B$9:$EQ$108,72,0))","v":0},{"$f":"IF(OR(C3375=\"\",$I3360=\"NSO\"),\"\",VLOOKUP($A3355,'Result Entry'!$B$9:$EQ$108,77,0))","v":0},{"$f":"SUM(E3375:H3375)","v":0},{"$f":"IF(OR(C3375=\"\",$I3360=\"NSO\"),\"\",VLOOKUP($A3355,'Result Entry'!$B$9:$EQ$108,81,0))","v":0},0,null,{"$f":"IF(OR(C3375=\"\",$I3360=\"NSO\"),\"\",VLOOKUP($A3355,'Result Entry'!$B$9:$EQ$108,84,0))","v":""}]
[null,"◐"]
[null,"◐","Overall Result",null,null,"Total Max. Marks",null,"Total Obtained Marks",null,"Percentage","Overall Grade","Result","Position in Class"]
[null,"◐",{"$nulls":3},{"$f":"IF(OR($I3360=\"\",$I3360=\"NSO\"),\"\",VLOOKUP($A3355,'Result Entry'!$B$9:$EQ$108,120,0))","v":900},null,{"$f":"IF(OR($I3360=\"\",$I3360=\"NSO\"),\"\",VLOOKUP($A3355,'Result Entry'!$B$9:$EQ$108,121,0))","v":0},null,{"$f":"IF(OR($I3360=\"\",$I3360=\"NSO\"),\"\",VLOOKUP($A3355,'Result Entry'!$B$9:$EQ$108,122,0))","v":{"v":0,"d":"0.00"}},{"$f":"IF(OR($I3360=\"\",$I3360=\"NSO\"),\"\",VLOOKUP($A3355,'Result Entry'!$B$9:$EQ$108,123,0))","v":""},{"$f":"IF(OR($I3360=\"\",$I3360=\"NSO\"),\"\",VLOOKUP($A3355,'Result Entry'!$B$9:$EQ$108,124,0))","v":""},{"$f":"IF(OR($I3360=\"\",$I3360=\"NSO\"),\"\",VLOOKUP($A3355,'Result Entry'!$B$9:$EQ$108,126,0))","v":""}]
[null,"◐",{"$nulls":6},"Total Meetings :-",null,{"$f":"IF(OR($I3360=\"\",$I3360=\"NSO\"),\"\",VLOOKUP($A3355,'Result Entry'!$B$9:$EQ$108,117,0))","v":0},"Attedance %"]
[null,"◐","Extra Subjects",{"$nulls":5},"Student's Meetings :-",null,{"$f":"IF(OR($I3360=\"\",$I3360=\"NSO\"),\"\",VLOOKUP($A3355,'Result Entry'!$B$9:$EQ$108,118,0))","v":0},{"$f":"IF(OR($I3360=\"\",$I3360=\"NSO\"),\"\",VLOOKUP($A3355,'Result Entry'!$B$9:$EQ$108,119,0))","v":""}]
[null,"◐","Subject",null,null,"Total Marks",null,"GRADE","Remark :-",null,{"$f":"IF(OR($I3360=\"\",$I3360=\"NSO\"),\"\",VLOOKUP($A3355,'Result Entry'!$B$9:$EQ$108,127,0))","v":0}]
[null,"◐",{"$f":"'Result Entry'!$CH$3","v":"WORK EXP."},null,null,{"$f":"IF(OR(C3382=\"\",$I3360=\"NSO\"),\"\",VLOOKUP($A3355,'Result Entry'!$B$9:$EQ$108,138,0))","v":"0/100"},null,{"$f":"IF(OR(C3382=\"\",$I3360=\"NSO\"),\"\",VLOOKUP($A3355,'Result Entry'!$B$9:$EQ$108,92,0))","v":""},"Result Date :-",null,{"$f":"'Result Entry'!$U$2","v":"2024-05-07"}]
[null,"◐",{"$f":"'Result Entry'!$CP$3","v":"ART EDU."},null,null,{"$f":"IF(OR(C3383=\"\",$I3360=\"NSO\"),\"\",VLOOKUP($A3355,'Result Entry'!$B$9:$EQ$108,142,0))","v":"0/100"},null,{"$f":"IF(OR(C3383=\"\",$I3360=\"NSO\"),\"\",VLOOKUP($A3355,'Result Entry'!$B$9:$EQ$108,100,0))","v":""}]
[null,null,{"$f":"'Result Entry'!$CX$3","v":"H&P. EDU."},null,null,{"$f":"IF(OR(C3384=\"\",$I3360=\"NSO\"),\"\",VLOOKUP($A3355,'Result Entry'!$B$9:$EQ$108,146,0))","v":"0/0"},null,{"$f":"IF(OR(C3384=\"\",$I3360=\"NSO\"),\"\",VLOOKUP($A3355,'Result Entry'!$B$9:$EQ$108,108,0))","v":""}]
[null,"◐",{"$f":"'Result Entry'!$DF$3","v":0},null,null,{"$f":"IF(OR(C3385=\"\",$I3360=\"NSO\"),\"\",VLOOKUP($A3355,'Result Entry'!$B$9:$EQ$108,131,0))","v":0},null,{"$f":"IF(OR(C3385=\"\",$I3360=\"NSO\"),\"\",VLOOKUP($A3355,'Result Entry'!$B$9:$EQ$108,97,0))","v":0},"Signature Of The Class Teacher"]
[null,"◐","Grading System"]
[null,"◐","Grd.","% Range",null,"Description"]
[null,"◐","A","86-100",null,"Excellent",null,null,"Signature And Seal Of Principal/H.M."]
[null,"◐","B","71-85",null,"Very Good"]
[null,"◐","C","51-70",null,"Good"]
[null,"◐","D","31-50",null,"Average"]
[null,"◐","E","0-30",null,"Needs Improvement",null,null,"Wish bright future"]
[]
[{"$f":"A3355+1","v":88},"Department Of Education, Rajasthan"]
[null,{"$f":"IF(I3399>0,CONCATENATE(C3399,I3399),0)","v":0},null,{"$f":"Master!$E$8","v":"Govt.Sr.Sec.Sch."}]
[{"$nulls":3},{"$f":"Master!$E$11","v":"P.S.-Bapini (Jodhpur)"}]
[null,null,"Report Card",{"$nulls":6},"U-DISE Code:-",null,{"$f":"Master!$E$14","v":{"v":810000000,"d":"0810000000"}}]
[{"$nulls":9},"Session:-",null,{"$f":"Master!$E$6","v":"2023-24"}]
[null,null,"Roll No.:-",{"$nulls":5},{"$f":"VLOOKUP($A3394,'Result Entry'!$B$9:$F$108,5,0)","v":0}]
[null,"◐","Scholar Number",{"$nulls":3},"↠",{"$f":"VLOOKUP($A3394,'Result Entry'!$B$9:$EQ$108,3,0)","v":0}]
[null,"◐","Student's Name",{"$nulls":3},"↠",{"$f":"VLOOKUP($A3394,'Result Entry'!$B$9:$EQ$108,6,0)","v":0}]
[null,"◐","Father's Name",{"$nulls":3},"↠",{"$f":"VLOOKUP($A3394,'Result Entry'!$B$9:$EQ$108,7,0)","v":0}]
[null,"◐","Mother's Name ",{"$nulls":3},"↠",{"$f":"VLOOKUP($A3394,'Result Entry'!$B$9:$EQ$108,8,0)","v":0}]
[null,"◐","Class & Section",{"$nulls":3},"↠",{"$f":"CONCATENATE('Result Entry'!$F$4,'Result Entry'!$I$4)","v":"2(A)"}]
[null,"◐","Date Of Birth",{"$nulls":3},"↠",{"$f":"VLOOKUP($A3394,'Result Entry'!$B$9:$EQ$108,9,0)","v":"00:00:00"}]
[null,"◐","Subject",null,{"$f":"'Result Entry'!$K$6","v":"First Test"},{"$f":"'Result Entry'!$L$6","v":"Second Test"},{"$f":"'Result Entry'!$M$6","v":"Third Test"},"Half Yearly","Total (Test+H.Y.)","Yearly","Grand Total",null,"Subject Grade"]
[null,"◐","Max. Marks",null,{"$f":"'Result Entry'!$K$7","v":10},{"$f":"'Result Entry'!$L$7","v":10},{"$f":"'Result Entry'!$M$7","v":10},{"$f":"'Result Entry'!$R$7","v":70},{"$f":"SUM(E3407:H3407)","v":100},{"$f":"'Result Entry'!$V$7","v":100},{"$f":"I3407+J3407","v":200},null,"A+/A/B/C/D"]
[null,"◐",{"$f":"'Result Entry'!$K$3","v":"Hindi"},null,{"$f":"IF(OR(C3408=\"\",$I3399=\"NSO\"),\"\",VLOOKUP($A3394,'Result Entry'!$B$9:$EQ$108,10,0))","v":0},{"$f":"IF(OR(C3408=\"\",$I3399=\"NSO\"),\"\",VLOOKUP($A3394,'Result Entry'!$B$9:$EQ$108,11,0))","v":0},{"$f":"IF(OR(C3408=\"\",$I3399=\"NSO\"),\"\",VLOOKUP($A3394,'Result Entry'!$B$9:$EQ$108,12,0))","v":0},{"$f":"IF(OR(C3408=\"\",$I3399=\"NSO\"),\"\",VLOOKUP($A3394,'Result Entry'!$B$9:$EQ$108,17,0))","v":0},{"$f":"SUM(E3408:H3408)","v":0},{"$f":"IF(OR(C3408=\"\",$I3399=\"NSO\"),\"\",VLOOKUP($A3394,'Result Entry'!$B$9:$EQ$108,21,0))","v":0},{"$f":"SUM(I3408,J3408)","v":0},null,{"$f":"IF(OR(C3408=\"\",$I3399=\"NSO\"),\"\",VLOOKUP($A3394,'Result Entry'!$B$9:$EQ$108,24,0))","v":""}]
[null,"◐",{"$f":"'Result Entry'!$Z$3","v":"Mathematics"},null,{"$f":"IF(OR(C3409=\"\",$I3399=\"NSO\"),\"\",VLOOKUP($A3394,'Result Entry'!$B$9:$EQ$108,25,0))","v":0},{"$f":"IF(OR(C3409=\"\",$I3399=\"NSO\"),\"\",VLOOKUP($A3394,'Result Entry'!$B$9:$EQ$108,26,0))","v":0},{"$f":"IF(OR(C3409=\"\",$I3399=\"NSO\"),\"\",VLOOKUP($A3394,'Result Entry'!$B$9:$EQ$108,27,0))","v":0},{"$f":"IF(OR(C3409=\"\",$I3399=\"NSO\"),\"\",VLOOKUP($A3394,'Result Entry'!$B$9:$EQ$108,32,0))","v":0},0,{"$f":"IF(OR(C3409=\"\",$I3399=\"NSO\"),\"\",VLOOKUP($A3394,'Result Entry'!$B$9:$EQ$108,36,0))","v":0},{"$f":"SUM(I3409,J3409)","v":0},null,{"$f":"IF(OR(C3409=\"\",$I3399=\"NSO\"),\"\",VLOOKUP($A3394,'Result Entry'!$B$9:$EQ$108,39,0))","v":""}]
[null,"◐",{"$f":"'Result Entry'!$BD$3","v":"Env. Study"},null,{"$f":"IF(OR(C3410=\"\",$I3399=\"NSO\"),\"\",VLOOKUP($A3394,'Result Entry'!$B$9:$EQ$108,55,0))","v":0},{"$f":"IF(OR(C3410=\"\",$I3399=\"NSO\"),\"\",VLOOKUP($A3394,'Result Entry'!$B$9:$EQ$108,56,0))","v":0},{"$f":"IF(OR(C3410=\"\",$I3399=\"NSO\"),\"\",VLOOKUP($A3394,'Result Entry'!$B$9:$EQ$108,57,0))","v":0},{"$f":"IF(OR(C3408=\"\",$I3399=\"NSO\"),\"\",VLOOKUP($A3394,'Result Entry'!$B$9:$EQ$108,62,0))","v":0},0,{"$f":"IF(OR(C3409=\"\",$I3399=\"NSO\"),\"\",VLOOKUP($A3394,'Result Entry'!$B$9:$EQ$108,66,0))","v":0},0,null,{"$f":"IF(OR(C3409=\"\",$I3399=\"NSO\"),\"\",VLOOKUP($A3394,'Result Entry'!$B$9:$EQ$108,69,0))","v":""}]
[null,"◐","Max. Marks",null,{"$f":"'Result Entry'!$AO$7","v":5},{"$f":"'Result Entry'!$AP$7","v":5},{"$f":"'Result Entry'!$AQ$7","v":5},{"$f":"'Result Entry'!$AV$7","v":35},50,{"$f":"'Result Entry'!$AZ$7","v":50},100,null,"A+/A/B/C/D"]
[null,"◐",{"$f":"'Result Entry'!$AO$3","v":"English"},null,{"$f":"IF(OR(C3412=\"\",$I3399=\"NSO\"),\"\",VLOOKUP($A3394,'Result Entry'!$B$9:$EQ$108,40,0))","v":0},{"$f":"IF(OR(C3412=\"\",$I3399=\"NSO\"),\"\",VLOOKUP($A3394,'Result Entry'!$B$9:$EQ$108,41,0))","v":0},{"$f":"IF(OR(C3412=\"\",$I3399=\"NSO\"),\"\",VLOOKUP($A3394,'Result Entry'!$B$9:$EQ$108,42,0))","v":0},{"$f":"IF(OR(C3412=\"\",$I3399=\"NSO\"),\"\",VLOOKUP($A3394,'Result Entry'!$B$9:$EQ$108,47,0))","v":0},0,{"$f":"IF(OR(C3412=\"\",$I3399=\"NSO\"),\"\",VLOOKUP($A3394,'Result Entry'!$B$9:$EQ$108,51,0))","v":0},0,null,{"$f":"IF(OR(C3412=\"\",$I3399=\"NSO\"),\"\",VLOOKUP($A3394,'Result Entry'!$B$9:$EQ$108,54,0))","v":""}]
[null,"◐","Max. Marks",null,{"$f":"'Result Entry'!$BS$7","v":10},{"$f":"'Result Entry'!$BT$7","v":10},{"$f":"'Result Entry'!$BU$7","v":10},{"$f":"'Result Entry'!$BZ$7","v":70},{"$f":"SUM(E3413:H3413)","v":100},{"$f":"'Result Entry'!$CD$7","v":100},200,null,"A+/A/B/C/D"]
[null,"◐",{"$f":"'Result Entry'!$BS$3","v":"Sanskrit/Urdu"},null,{"$f":"IF(OR(C3414=\"\",$I3399=\"NSO\"),\"\",VLOOKUP($A3394,'Result Entry'!$B$9:$EQ$108,70,0))","v":0},{"$f":"IF(OR(C3414=\"\",$I3399=\"NSO\"),\"\",VLOOKUP($A3394,'Result Entry'!$B$9:$EQ$108,71,0))","v":0},{"$f":"IF(OR(C3414=\"\",$I3399=\"NSO\"),\"\",VLOOKUP($A3394,'Result Entry'!$B$9:$EQ$108,72,0))","v":0},{"$f":"IF(OR(C3414=\"\",$I3399=\"NSO\"),\"\",VLOOKUP($A3394,'Result Entry'!$B$9:$EQ$108,77,0))","v":0},{"$f":"SUM(E3414:H3414)","v":0},{"$f":"IF(OR(C3414=\"\",$I3399=\"NSO\"),\"\",VLOOKUP($A3394,'Result Entry'!$B$9:$EQ$108,81,0))","v":0},0,null,{"$f":"IF(OR(C3414=\"\",$I3399=\"NSO\"),\"\",VLOOKUP($A3394,'Result Entry'!$B$9:$EQ$108,84,0))","v":""}]
[null,"◐"]
[null,"◐","Overall Result",null,null,"Total Max. Marks",null,"Total Obtained Marks",null,"Percentage","Overall Grade","Result","Position in Class"]
[null,"◐",{"$nulls":3},{"$f":"IF(OR($I3399=\"\",$I3399=\"NSO\"),\"\",VLOOKUP($A3394,'Result Entry'!$B$9:$EQ$108,120,0))","v":900},null,{"$f":"IF(OR($I3399=\"\",$I3399=\"NSO\"),\"\",VLOOKUP($A3394,'Result Entry'!$B$9:$EQ$108,121,0))","v":0},null,{"$f":"IF(OR($I3399=\"\",$I3399=\"NSO\"),\"\",VLOOKUP($A3394,'Result Entry'!$B$9:$EQ$108,122,0))","v":{"v":0,"d":"0.00"}},{"$f":"IF(OR($I3399=\"\",$I3399=\"NSO\"),\"\",VLOOKUP($A3394,'Result Entry'!$B$9:$EQ$108,123,0))","v":""},{"$f":"IF(OR($I3399=\"\",$I3399=\"NSO\"),\"\",VLOOKUP($A3394,'Result Entry'!$B$9:$EQ$108,124,0))","v":""},{"$f":"IF(OR($I3399=\"\",$I3399=\"NSO\"),\"\",VLOOKUP($A3394,'Result Entry'!$B$9:$EQ$108,126,0))","v":""}]
[null,"◐",{"$nulls":6},"Total Meetings :-",null,{"$f":"IF(OR($I3399=\"\",$I3399=\"NSO\"),\"\",VLOOKUP($A3394,'Result Entry'!$B$9:$EQ$108,117,0))","v":0},"Attedance %"]
[null,"◐","Extra Subjects",{"$nulls":5},"Student's Meetings :-",null,{"$f":"IF(OR($I3399=\"\",$I3399=\"NSO\"),\"\",VLOOKUP($A3394,'Result Entry'!$B$9:$EQ$108,118,0))","v":0},{"$f":"IF(OR($I3399=\"\",$I3399=\"NSO\"),\"\",VLOOKUP($A3394,'Result Entry'!$B$9:$EQ$108,119,0))","v":""}]
[null,"◐","Subject",null,null,"Total Marks",null,"GRADE","Remark :-",null,{"$f":"IF(OR($I3399=\"\",$I3399=\"NSO\"),\"\",VLOOKUP($A3394,'Result Entry'!$B$9:$EQ$108,127,0))","v":0}]
[null,"◐",{"$f":"'Result Entry'!$CH$3","v":"WORK EXP."},null,null,{"$f":"IF(OR(C3421=\"\",$I3399=\"NSO\"),\"\",VLOOKUP($A3394,'Result Entry'!$B$9:$EQ$108,138,0))","v":"0/100"},null,{"$f":"IF(OR(C3421=\"\",$I3399=\"NSO\"),\"\",VLOOKUP($A3394,'Result Entry'!$B$9:$EQ$108,92,0))","v":""},"Result Date :-",null,{"$f":"'Result Entry'!$U$2","v":"2024-05-07"}]
[null,"◐",{"$f":"'Result Entry'!$CP$3","v":"ART EDU."},null,null,{"$f":"IF(OR(C3422=\"\",$I3399=\"NSO\"),\"\",VLOOKUP($A3394,'Result Entry'!$B$9:$EQ$108,142,0))","v":"0/100"},null,{"$f":"IF(OR(C3422=\"\",$I3399=\"NSO\"),\"\",VLOOKUP($A3394,'Result Entry'!$B$9:$EQ$108,100,0))","v":""}]
[null,null,{"$f":"'Result Entry'!$CX$3","v":"H&P. EDU."},null,null,{"$f":"IF(OR(C3423=\"\",$I3399=\"NSO\"),\"\",VLOOKUP($A3394,'Result Entry'!$B$9:$EQ$108,146,0))","v":"0/0"},null,{"$f":"IF(OR(C3423=\"\",$I3399=\"NSO\"),\"\",VLOOKUP($A3394,'Result Entry'!$B$9:$EQ$108,108,0))","v":""}]
[null,"◐",{"$f":"'Result Entry'!$DF$3","v":0},null,null,{"$f":"IF(OR(C3424=\"\",$I3399=\"NSO\"),\"\",VLOOKUP($A3394,'Result Entry'!$B$9:$EQ$108,131,0))","v":0},null,{"$f":"IF(OR(C3424=\"\",$I3399=\"NSO\"),\"\",VLOOKUP($A3394,'Result Entry'!$B$9:$EQ$108,97,0))","v":0},"Signature Of The Class Teacher"]
[null,"◐","Grading System"]
[null,"◐","Grd.","% Range",null,"Description"]
[null,"◐","A","86-100",null,"Excellent",null,null,"Signature And Seal Of Principal/H.M."]
[null,"◐","B","71-85",null,"Very Good"]
[null,"◐","C","51-70",null,"Good"]
[null,"◐","D","31-50",null,"Average"]
[null,"◐","E","0-30",null,"Needs Improvement",null,null,"Wish bright future"]
[]
[{"$f":"A3394+1","v":89},"Department Of Education, Rajasthan"]
[null,{"$f":"IF(I3438>0,CONCATENATE(C3438,I3438),0)","v":0},null,{"$f":"Master!$E$8","v":"Govt.Sr.Sec.Sch."}]
[{"$nulls":3},{"$f":"Master!$E$11","v":"P.S.-Bapini (Jodhpur)"}]
[null,null,"Report Card",{"$nulls":6},"U-DISE Code:-",null,{"$f":"Master!$E$14","v":{"v":810000000,"d":"0810000000"}}]
[{"$nulls":9},"Session:-",null,{"$f":"Master!$E$6","v":"2023-24"}]
[null,null,"Roll No.:-",{"$nulls":5},{"$f":"VLOOKUP($A3433,'Result Entry'!$B$9:$F$108,5,0)","v":0}]
[null,"◐","Scholar Number",{"$nulls":3},"↠",{"$f":"VLOOKUP($A3433,'Result Entry'!$B$9:$EQ$108,3,0)","v":0}]
[null,"◐","Student's Name",{"$nulls":3},"↠",{"$f":"VLOOKUP($A3433,'Result Entry'!$B$9:$EQ$108,6,0)","v":0}]
[null,"◐","Father's Name",{"$nulls":3},"↠",{"$f":"VLOOKUP($A3433,'Result Entry'!$B$9:$EQ$108,7,0)","v":0}]
[null,"◐","Mother's Name ",{"$nulls":3},"↠",{"$f":"VLOOKUP($A3433,'Result Entry'!$B$9:$EQ$108,8,0)","v":0}]
[null,"◐","Class & Section",{"$nulls":3},"↠",{"$f":"CONCATENATE('Result Entry'!$F$4,'Result Entry'!$I$4)","v":"2(A)"}]
[null,"◐","Date Of Birth",{"$nulls":3},"↠",{"$f":"VLOOKUP($A3433,'Result Entry'!$B$9:$EQ$108,9,0)","v":"00:00:00"}]
[null,"◐","Subject",null,{"$f":"'Result Entry'!$K$6","v":"First Test"},{"$f":"'Result Entry'!$L$6","v":"Second Test"},{"$f":"'Result Entry'!$M$6","v":"Third Test"},"Half Yearly","Total (Test+H.Y.)","Yearly","Grand Total",null,"Subject Grade"]
[null,"◐","Max. Marks",null,{"$f":"'Result Entry'!$K$7","v":10},{"$f":"'Result Entry'!$L$7","v":10},{"$f":"'Result Entry'!$M$7","v":10},{"$f":"'Result Entry'!$R$7","v":70},{"$f":"SUM(E3446:H3446)","v":100},{"$f":"'Result Entry'!$V$7","v":100},{"$f":"I3446+J3446","v":200},null,"A+/A/B/C/D"]
[null,"◐",{"$f":"'Result Entry'!$K$3","v":"Hindi"},null,{"$f":"IF(OR(C3447=\"\",$I3438=\"NSO\"),\"\",VLOOKUP($A3433,'Result Entry'!$B$9:$EQ$108,10,0))","v":0},{"$f":"IF(OR(C3447=\"\",$I3438=\"NSO\"),\"\",VLOOKUP($A3433,'Result Entry'!$B$9:$EQ$108,11,0))","v":0},{"$f":"IF(OR(C3447=\"\",$I3438=\"NSO\"),\"\",VLOOKUP($A3433,'Result Entry'!$B$9:$EQ$108,12,0))","v":0},{"$f":"IF(OR(C3447=\"\",$I3438=\"NSO\"),\"\",VLOOKUP($A3433,'Result Entry'!$B$9:$EQ$108,17,0))","v":0},{"$f":"SUM(E3447:H3447)","v":0},{"$f":"IF(OR(C3447=\"\",$I3438=\"NSO\"),\"\",VLOOKUP($A3433,'Result Entry'!$B$9:$EQ$108,21,0))","v":0},{"$f":"SUM(I3447,J3447)","v":0},null,{"$f":"IF(OR(C3447=\"\",$I3438=\"NSO\"),\"\",VLOOKUP($A3433,'Result Entry'!$B$9:$EQ$108,24,0))","v":""}]
[null,"◐",{"$f":"'Result Entry'!$Z$3","v":"Mathematics"},null,{"$f":"IF(OR(C3448=\"\",$I3438=\"NSO\"),\"\",VLOOKUP($A3433,'Result Entry'!$B$9:$EQ$108,25,0))","v":0},{"$f":"IF(OR(C3448=\"\",$I3438=\"NSO\"),\"\",VLOOKUP($A3433,'Result Entry'!$B$9:$EQ$108,26,0))","v":0},{"$f":"IF(OR(C3448=\"\",$I3438=\"NSO\"),\"\",VLOOKUP($A3433,'Result Entry'!$B$9:$EQ$108,27,0))","v":0},{"$f":"IF(OR(C3448=\"\",$I3438=\"NSO\"),\"\",VLOOKUP($A3433,'Result Entry'!$B$9:$EQ$108,32,0))","v":0},0,{"$f":"IF(OR(C3448=\"\",$I3438=\"NSO\"),\"\",VLOOKUP($A3433,'Result Entry'!$B$9:$EQ$108,36,0))","v":0},{"$f":"SUM(I3448,J3448)","v":0},null,{"$f":"IF(OR(C3448=\"\",$I3438=\"NSO\"),\"\",VLOOKUP($A3433,'Result Entry'!$B$9:$EQ$108,39,0))","v":""}]
[null,"◐",{"$f":"'Result Entry'!$BD$3","v":"Env. Study"},null,{"$f":"IF(OR(C3449=\"\",$I3438=\"NSO\"),\"\",VLOOKUP($A3433,'Result Entry'!$B$9:$EQ$108,55,0))","v":0},{"$f":"IF(OR(C3449=\"\",$I3438=\"NSO\"),\"\",VLOOKUP($A3433,'Result Entry'!$B$9:$EQ$108,56,0))","v":0},{"$f":"IF(OR(C3449=\"\",$I3438=\"NSO\"),\"\",VLOOKUP($A3433,'Result Entry'!$B$9:$EQ$108,57,0))","v":0},{"$f":"IF(OR(C3447=\"\",$I3438=\"NSO\"),\"\",VLOOKUP($A3433,'Result Entry'!$B$9:$EQ$108,62,0))","v":0},0,{"$f":"IF(OR(C3448=\"\",$I3438=\"NSO\"),\"\",VLOOKUP($A3433,'Result Entry'!$B$9:$EQ$108,66,0))","v":0},0,null,{"$f":"IF(OR(C3448=\"\",$I3438=\"NSO\"),\"\",VLOOKUP($A3433,'Result Entry'!$B$9:$EQ$108,69,0))","v":""}]
[null,"◐","Max. Marks",null,{"$f":"'Result Entry'!$AO$7","v":5},{"$f":"'Result Entry'!$AP$7","v":5},{"$f":"'Result Entry'!$AQ$7","v":5},{"$f":"'Result Entry'!$AV$7","v":35},50,{"$f":"'Result Entry'!$AZ$7","v":50},100,null,"A+/A/B/C/D"]
[null,"◐",{"$f":"'Result Entry'!$AO$3","v":"English"},null,{"$f":"IF(OR(C3451=\"\",$I3438=\"NSO\"),\"\",VLOOKUP($A3433,'Result Entry'!$B$9:$EQ$108,40,0))","v":0},{"$f":"IF(OR(C3451=\"\",$I3438=\"NSO\"),\"\",VLOOKUP($A3433,'Result Entry'!$B$9:$EQ$108,41,0))","v":0},{"$f":"IF(OR(C3451=\"\",$I3438=\"NSO\"),\"\",VLOOKUP($A3433,'Result Entry'!$B$9:$EQ$108,42,0))","v":0},{"$f":"IF(OR(C3451=\"\",$I3438=\"NSO\"),\"\",VLOOKUP($A3433,'Result Entry'!$B$9:$EQ$108,47,0))","v":0},0,{"$f":"IF(OR(C3451=\"\",$I3438=\"NSO\"),\"\",VLOOKUP($A3433,'Result Entry'!$B$9:$EQ$108,51,0))","v":0},0,null,{"$f":"IF(OR(C3451=\"\",$I3438=\"NSO\"),\"\",VLOOKUP($A3433,'Result Entry'!$B$9:$EQ$108,54,0))","v":""}]
[null,"◐","Max. Marks",null,{"$f":"'Result Entry'!$BS$7","v":10},{"$f":"'Result Entry'!$BT$7","v":10},{"$f":"'Result Entry'!$BU$7","v":10},{"$f":"'Result Entry'!$BZ$7","v":70},{"$f":"SUM(E3452:H3452)","v":100},{"$f":"'Result Entry'!$CD$7","v":100},200,null,"A+/A/B/C/D"]
[null,"◐",{"$f":"'Result Entry'!$BS$3","v":"Sanskrit/Urdu"},null,{"$f":"IF(OR(C3453=\"\",$I3438=\"NSO\"),\"\",VLOOKUP($A3433,'Result Entry'!$B$9:$EQ$108,70,0))","v":0},{"$f":"IF(OR(C3453=\"\",$I3438=\"NSO\"),\"\",VLOOKUP($A3433,'Result Entry'!$B$9:$EQ$108,71,0))","v":0},{"$f":"IF(OR(C3453=\"\",$I3438=\"NSO\"),\"\",VLOOKUP($A3433,'Result Entry'!$B$9:$EQ$108,72,0))","v":0},{"$f":"IF(OR(C3453=\"\",$I3438=\"NSO\"),\"\",VLOOKUP($A3433,'Result Entry'!$B$9:$EQ$108,77,0))","v":0},{"$f":"SUM(E3453:H3453)","v":0},{"$f":"IF(OR(C3453=\"\",$I3438=\"NSO\"),\"\",VLOOKUP($A3433,'Result Entry'!$B$9:$EQ$108,81,0))","v":0},0,null,{"$f":"IF(OR(C3453=\"\",$I3438=\"NSO\"),\"\",VLOOKUP($A3433,'Result Entry'!$B$9:$EQ$108,84,0))","v":""}]
[null,"◐"]
[null,"◐","Overall Result",null,null,"Total Max. Marks",null,"Total Obtained Marks",null,"Percentage","Overall Grade","Result","Position in Class"]
[null,"◐",{"$nulls":3},{"$f":"IF(OR($I3438=\"\",$I3438=\"NSO\"),\"\",VLOOKUP($A3433,'Result Entry'!$B$9:$EQ$108,120,0))","v":900},null,{"$f":"IF(OR($I3438=\"\",$I3438=\"NSO\"),\"\",VLOOKUP($A3433,'Result Entry'!$B$9:$EQ$108,121,0))","v":0},null,{"$f":"IF(OR($I3438=\"\",$I3438=\"NSO\"),\"\",VLOOKUP($A3433,'Result Entry'!$B$9:$EQ$108,122,0))","v":{"v":0,"d":"0.00"}},{"$f":"IF(OR($I3438=\"\",$I3438=\"NSO\"),\"\",VLOOKUP($A3433,'Result Entry'!$B$9:$EQ$108,123,0))","v":""},{"$f":"IF(OR($I3438=\"\",$I3438=\"NSO\"),\"\",VLOOKUP($A3433,'Result Entry'!$B$9:$EQ$108,124,0))","v":""},{"$f":"IF(OR($I3438=\"\",$I3438=\"NSO\"),\"\",VLOOKUP($A3433,'Result Entry'!$B$9:$EQ$108,126,0))","v":""}]
[null,"◐",{"$nulls":6},"Total Meetings :-",null,{"$f":"IF(OR($I3438=\"\",$I3438=\"NSO\"),\"\",VLOOKUP($A3433,'Result Entry'!$B$9:$EQ$108,117,0))","v":0},"Attedance %"]
[null,"◐","Extra Subjects",{"$nulls":5},"Student's Meetings :-",null,{"$f":"IF(OR($I3438=\"\",$I3438=\"NSO\"),\"\",VLOOKUP($A3433,'Result Entry'!$B$9:$EQ$108,118,0))","v":0},{"$f":"IF(OR($I3438=\"\",$I3438=\"NSO\"),\"\",VLOOKUP($A3433,'Result Entry'!$B$9:$EQ$108,119,0))","v":""}]
[null,"◐","Subject",null,null,"Total Marks",null,"GRADE","Remark :-",null,{"$f":"IF(OR($I3438=\"\",$I3438=\"NSO\"),\"\",VLOOKUP($A3433,'Result Entry'!$B$9:$EQ$108,127,0))","v":0}]
[null,"◐",{"$f":"'Result Entry'!$CH$3","v":"WORK EXP."},null,null,{"$f":"IF(OR(C3460=\"\",$I3438=\"NSO\"),\"\",VLOOKUP($A3433,'Result Entry'!$B$9:$EQ$108,138,0))","v":"0/100"},null,{"$f":"IF(OR(C3460=\"\",$I3438=\"NSO\"),\"\",VLOOKUP($A3433,'Result Entry'!$B$9:$EQ$108,92,0))","v":""},"Result Date :-",null,{"$f":"'Result Entry'!$U$2","v":"2024-05-07"}]
[null,"◐",{"$f":"'Result Entry'!$CP$3","v":"ART EDU."},null,null,{"$f":"IF(OR(C3461=\"\",$I3438=\"NSO\"),\"\",VLOOKUP($A3433,'Result Entry'!$B$9:$EQ$108,142,0))","v":"0/100"},null,{"$f":"IF(OR(C3461=\"\",$I3438=\"NSO\"),\"\",VLOOKUP($A3433,'Result Entry'!$B$9:$EQ$108,100,0))","v":""}]
[null,null,{"$f":"'Result Entry'!$CX$3","v":"H&P. EDU."},null,null,{"$f":"IF(OR(C3462=\"\",$I3438=\"NSO\"),\"\",VLOOKUP($A3433,'Result Entry'!$B$9:$EQ$108,146,0))","v":"0/0"},null,{"$f":"IF(OR(C3462=\"\",$I3438=\"NSO\"),\"\",VLOOKUP($A3433,'Result Entry'!$B$9:$EQ$108,108,0))","v":""}]
[null,"◐",{"$f":"'Result Entry'!$DF$3","v":0},null,null,{"$f":"IF(OR(C3463=\"\",$I3438=\"NSO\"),\"\",VLOOKUP($A3433,'Result Entry'!$B$9:$EQ$108,131,0))","v":0},null,{"$f":"IF(OR(C3463=\"\",$I3438=\"NSO\"),\"\",VLOOKUP($A3433,'Result Entry'!$B$9:$EQ$108,97,0))","v":0},"Signature Of The Class Teacher"]
[null,"◐","Grading System"]
[null,"◐","Grd.","% Range",null,"Description"]
[null,"◐","A","86-100",null,"Excellent",null,null,"Signature And Seal Of Principal/H.M."]
[null,"◐","B","71-85",null,"Very Good"]
[null,"◐","C","51-70",null,"Good"]
[null,"◐","D","31-50",null,"Average"]
[null,"◐","E","0-30",null,"Needs Improvement",null,null,"Wish bright future"]
[]
[{"$f":"A3433+1","v":90},"Department Of Education, Rajasthan"]
[null,{"$f":"IF(I3477>0,CONCATENATE(C3477,I3477),0)","v":0},null,{"$f":"Master!$E$8","v":"Govt.Sr.Sec.Sch."}]
[{"$nulls":3},{"$f":"Master!$E$11","v":"P.S.-Bapini (Jodhpur)"}]
[null,null,"Report Card",{"$nulls":6},"U-DISE Code:-",null,{"$f":"Master!$E$14","v":{"v":810000000,"d":"0810000000"}}]
[{"$nulls":9},"Session:-",null,{"$f":"Master!$E$6","v":"2023-24"}]
[null,null,"Roll No.:-",{"$nulls":5},{"$f":"VLOOKUP($A3472,'Result Entry'!$B$9:$F$108,5,0)","v":0}]
[null,"◐","Scholar Number",{"$nulls":3},"↠",{"$f":"VLOOKUP($A3472,'Result Entry'!$B$9:$EQ$108,3,0)","v":0}]
[null,"◐","Student's Name",{"$nulls":3},"↠",{"$f":"VLOOKUP($A3472,'Result Entry'!$B$9:$EQ$108,6,0)","v":0}]
[null,"◐","Father's Name",{"$nulls":3},"↠",{"$f":"VLOOKUP($A3472,'Result Entry'!$B$9:$EQ$108,7,0)","v":0}]
[null,"◐","Mother's Name ",{"$nulls":3},"↠",{"$f":"VLOOKUP($A3472,'Result Entry'!$B$9:$EQ$108,8,0)","v":0}]
[null,"◐","Class & Section",{"$nulls":3},"↠",{"$f":"CONCATENATE('Result Entry'!$F$4,'Result Entry'!$I$4)","v":"2(A)"}]
[null,"◐","Date Of Birth",{"$nulls":3},"↠",{"$f":"VLOOKUP($A3472,'Result Entry'!$B$9:$EQ$108,9,0)","v":"00:00:00"}]
[null,"◐","Subject",null,{"$f":"'Result Entry'!$K$6","v":"First Test"},{"$f":"'Result Entry'!$L$6","v":"Second Test"},{"$f":"'Result Entry'!$M$6","v":"Third Test"},"Half Yearly","Total (Test+H.Y.)","Yearly","Grand Total",null,"Subject Grade"]
[null,"◐","Max. Marks",null,{"$f":"'Result Entry'!$K$7","v":10},{"$f":"'Result Entry'!$L$7","v":10},{"$f":"'Result Entry'!$M$7","v":10},{"$f":"'Result Entry'!$R$7","v":70},{"$f":"SUM(E3485:H3485)","v":100},{"$f":"'Result Entry'!$V$7","v":100},{"$f":"I3485+J3485","v":200},null,"A+/A/B/C/D"]
[null,"◐",{"$f":"'Result Entry'!$K$3","v":"Hindi"},null,{"$f":"IF(OR(C3486=\"\",$I3477=\"NSO\"),\"\",VLOOKUP($A3472,'Result Entry'!$B$9:$EQ$108,10,0))","v":0},{"$f":"IF(OR(C3486=\"\",$I3477=\"NSO\"),\"\",VLOOKUP($A3472,'Result Entry'!$B$9:$EQ$108,11,0))","v":0},{"$f":"IF(OR(C3486=\"\",$I3477=\"NSO\"),\"\",VLOOKUP($A3472,'Result Entry'!$B$9:$EQ$108,12,0))","v":0},{"$f":"IF(OR(C3486=\"\",$I3477=\"NSO\"),\"\",VLOOKUP($A3472,'Result Entry'!$B$9:$EQ$108,17,0))","v":0},{"$f":"SUM(E3486:H3486)","v":0},{"$f":"IF(OR(C3486=\"\",$I3477=\"NSO\"),\"\",VLOOKUP($A3472,'Result Entry'!$B$9:$EQ$108,21,0))","v":0},{"$f":"SUM(I3486,J3486)","v":0},null,{"$f":"IF(OR(C3486=\"\",$I3477=\"NSO\"),\"\",VLOOKUP($A3472,'Result Entry'!$B$9:$EQ$108,24,0))","v":""}]
[null,"◐",{"$f":"'Result Entry'!$Z$3","v":"Mathematics"},null,{"$f":"IF(OR(C3487=\"\",$I3477=\"NSO\"),\"\",VLOOKUP($A3472,'Result Entry'!$B$9:$EQ$108,25,0))","v":0},{"$f":"IF(OR(C3487=\"\",$I3477=\"NSO\"),\"\",VLOOKUP($A3472,'Result Entry'!$B$9:$EQ$108,26,0))","v":0},{"$f":"IF(OR(C3487=\"\",$I3477=\"NSO\"),\"\",VLOOKUP($A3472,'Result Entry'!$B$9:$EQ$108,27,0))","v":0},{"$f":"IF(OR(C3487=\"\",$I3477=\"NSO\"),\"\",VLOOKUP($A3472,'Result Entry'!$B$9:$EQ$108,32,0))","v":0},0,{"$f":"IF(OR(C3487=\"\",$I3477=\"NSO\"),\"\",VLOOKUP($A3472,'Result Entry'!$B$9:$EQ$108,36,0))","v":0},{"$f":"SUM(I3487,J3487)","v":0},null,{"$f":"IF(OR(C3487=\"\",$I3477=\"NSO\"),\"\",VLOOKUP($A3472,'Result Entry'!$B$9:$EQ$108,39,0))","v":""}]
[null,"◐",{"$f":"'Result Entry'!$BD$3","v":"Env. Study"},null,{"$f":"IF(OR(C3488=\"\",$I3477=\"NSO\"),\"\",VLOOKUP($A3472,'Result Entry'!$B$9:$EQ$108,55,0))","v":0},{"$f":"IF(OR(C3488=\"\",$I3477=\"NSO\"),\"\",VLOOKUP($A3472,'Result Entry'!$B$9:$EQ$108,56,0))","v":0},{"$f":"IF(OR(C3488=\"\",$I3477=\"NSO\"),\"\",VLOOKUP($A3472,'Result Entry'!$B$9:$EQ$108,57,0))","v":0},{"$f":"IF(OR(C3486=\"\",$I3477=\"NSO\"),\"\",VLOOKUP($A3472,'Result Entry'!$B$9:$EQ$108,62,0))","v":0},0,{"$f":"IF(OR(C3487=\"\",$I3477=\"NSO\"),\"\",VLOOKUP($A3472,'Result Entry'!$B$9:$EQ$108,66,0))","v":0},0,null,{"$f":"IF(OR(C3487=\"\",$I3477=\"NSO\"),\"\",VLOOKUP($A3472,'Result Entry'!$B$9:$EQ$108,69,0))","v":""}]
[null,"◐","Max. Marks",null,{"$f":"'Result Entry'!$AO$7","v":5},{"$f":"'Result Entry'!$AP$7","v":5},{"$f":"'Result Entry'!$AQ$7","v":5},{"$f":"'Result Entry'!$AV$7","v":35},50,{"$f":"'Result Entry'!$AZ$7","v":50},100,null,"A+/A/B/C/D"]
[null,"◐",{"$f":"'Result Entry'!$AO$3","v":"English"},null,{"$f":"IF(OR(C3490=\"\",$I3477=\"NSO\"),\"\",VLOOKUP($A3472,'Result Entry'!$B$9:$EQ$108,40,0))","v":0},{"$f":"IF(OR(C3490=\"\",$I3477=\"NSO\"),\"\",VLOOKUP($A3472,'Result Entry'!$B$9:$EQ$108,41,0))","v":0},{"$f":"IF(OR(C3490=\"\",$I3477=\"NSO\"),\"\",VLOOKUP($A3472,'Result Entry'!$B$9:$EQ$108,42,0))","v":0},{"$f":"IF(OR(C3490=\"\",$I3477=\"NSO\"),\"\",VLOOKUP($A3472,'Result Entry'!$B$9:$EQ$108,47,0))","v":0},0,{"$f":"IF(OR(C3490=\"\",$I3477=\"NSO\"),\"\",VLOOKUP($A3472,'Result Entry'!$B$9:$EQ$108,51,0))","v":0},0,null,{"$f":"IF(OR(C3490=\"\",$I3477=\"NSO\"),\"\",VLOOKUP($A3472,'Result Entry'!$B$9:$EQ$108,54,0))","v":""}]
[null,"◐","Max. Marks",null,{"$f":"'Result Entry'!$BS$7","v":10},{"$f":"'Result Entry'!$BT$7","v":10},{"$f":"'Result Entry'!$BU$7","v":10},{"$f":"'Result Entry'!$BZ$7","v":70},{"$f":"SUM(E3491:H3491)","v":100},{"$f":"'Result Entry'!$CD$7","v":100},200,null,"A+/A/B/C/D"]
[null,"◐",{"$f":"'Result Entry'!$BS$3","v":"Sanskrit/Urdu"},null,{"$f":"IF(OR(C3492=\"\",$I3477=\"NSO\"),\"\",VLOOKUP($A3472,'Result Entry'!$B$9:$EQ$108,70,0))","v":0},{"$f":"IF(OR(C3492=\"\",$I3477=\"NSO\"),\"\",VLOOKUP($A3472,'Result Entry'!$B$9:$EQ$108,71,0))","v":0},{"$f":"IF(OR(C3492=\"\",$I3477=\"NSO\"),\"\",VLOOKUP($A3472,'Result Entry'!$B$9:$EQ$108,72,0))","v":0},{"$f":"IF(OR(C3492=\"\",$I3477=\"NSO\"),\"\",VLOOKUP($A3472,'Result Entry'!$B$9:$EQ$108,77,0))","v":0},{"$f":"SUM(E3492:H3492)","v":0},{"$f":"IF(OR(C3492=\"\",$I3477=\"NSO\"),\"\",VLOOKUP($A3472,'Result Entry'!$B$9:$EQ$108,81,0))","v":0},0,null,{"$f":"IF(OR(C3492=\"\",$I3477=\"NSO\"),\"\",VLOOKUP($A3472,'Result Entry'!$B$9:$EQ$108,84,0))","v":""}]
[null,"◐"]
[null,"◐","Overall Result",null,null,"Total Max. Marks",null,"Total Obtained Marks",null,"Percentage","Overall Grade","Result","Position in Class"]
[null,"◐",{"$nulls":3},{"$f":"IF(OR($I3477=\"\",$I3477=\"NSO\"),\"\",VLOOKUP($A3472,'Result Entry'!$B$9:$EQ$108,120,0))","v":900},null,{"$f":"IF(OR($I3477=\"\",$I3477=\"NSO\"),\"\",VLOOKUP($A3472,'Result Entry'!$B$9:$EQ$108,121,0))","v":0},null,{"$f":"IF(OR($I3477=\"\",$I3477=\"NSO\"),\"\",VLOOKUP($A3472,'Result Entry'!$B$9:$EQ$108,122,0))","v":{"v":0,"d":"0.00"}},{"$f":"IF(OR($I3477=\"\",$I3477=\"NSO\"),\"\",VLOOKUP($A3472,'Result Entry'!$B$9:$EQ$108,123,0))","v":""},{"$f":"IF(OR($I3477=\"\",$I3477=\"NSO\"),\"\",VLOOKUP($A3472,'Result Entry'!$B$9:$EQ$108,124,0))","v":""},{"$f":"IF(OR($I3477=\"\",$I3477=\"NSO\"),\"\",VLOOKUP($A3472,'Result Entry'!$B$9:$EQ$108,126,0))","v":""}]
[null,"◐",{"$nulls":6},"Total Meetings :-",null,{"$f":"IF(OR($I3477=\"\",$I3477=\"NSO\"),\"\",VLOOKUP($A3472,'Result Entry'!$B$9:$EQ$108,117,0))","v":0},"Attedance %"]
[null,"◐","Extra Subjects",{"$nulls":5},"Student's Meetings :-",null,{"$f":"IF(OR($I3477=\"\",$I3477=\"NSO\"),\"\",VLOOKUP($A3472,'Result Entry'!$B$9:$EQ$108,118,0))","v":0},{"$f":"IF(OR($I3477=\"\",$I3477=\"NSO\"),\"\",VLOOKUP($A3472,'Result Entry'!$B$9:$EQ$108,119,0))","v":""}]
[null,"◐","Subject",null,null,"Total Marks",null,"GRADE","Remark :-",null,{"$f":"IF(OR($I3477=\"\",$I3477=\"NSO\"),\"\",VLOOKUP($A3472,'Result Entry'!$B$9:$EQ$108,127,0))","v":0}]
[null,"◐",{"$f":"'Result Entry'!$CH$3","v":"WORK EXP."},null,null,{"$f":"IF(OR(C3499=\"\",$I3477=\"NSO\"),\"\",VLOOKUP($A3472,'Result Entry'!$B$9:$EQ$108,138,0))","v":"0/100"},null,{"$f":"IF(OR(C3499=\"\",$I3477=\"NSO\"),\"\",VLOOKUP($A3472,'Result Entry'!$B$9:$EQ$108,92,0))","v":""},"Result Date :-",null,{"$f":"'Result Entry'!$U$2","v":"2024-05-07"}]
[null,"◐",{"$f":"'Result Entry'!$CP$3","v":"ART EDU."},null,null,{"$f":"IF(OR(C3500=\"\",$I3477=\"NSO\"),\"\",VLOOKUP($A3472,'Result Entry'!$B$9:$EQ$108,142,0))","v":"0/100"},null,{"$f":"IF(OR(C3500=\"\",$I3477=\"NSO\"),\"\",VLOOKUP($A3472,'Result Entry'!$B$9:$EQ$108,100,0))","v":""}]
[null,null,{"$f":"'Result Entry'!$CX$3","v":"H&P. EDU."},null,null,{"$f":"IF(OR(C3501=\"\",$I3477=\"NSO\"),\"\",VLOOKUP($A3472,'Result Entry'!$B$9:$EQ$108,146,0))","v":"0/0"},null,{"$f":"IF(OR(C3501=\"\",$I3477=\"NSO\"),\"\",VLOOKUP($A3472,'Result Entry'!$B$9:$EQ$108,108,0))","v":""}]
[null,"◐",{"$f":"'Result Entry'!$DF$3","v":0},null,null,{"$f":"IF(OR(C3502=\"\",$I3477=\"NSO\"),\"\",VLOOKUP($A3472,'Result Entry'!$B$9:$EQ$108,131,0))","v":0},null,{"$f":"IF(OR(C3502=\"\",$I3477=\"NSO\"),\"\",VLOOKUP($A3472,'Result Entry'!$B$9:$EQ$108,97,0))","v":0},"Signature Of The Class Teacher"]
[null,"◐","Grading System"]
[null,"◐","Grd.","% Range",null,"Description"]
[null,"◐","A","86-100",null,"Excellent",null,null,"Signature And Seal Of Principal/H.M."]
[null,"◐","B","71-85",null,"Very Good"]
[null,"◐","C","51-70",null,"Good"]
[null,"◐","D","31-50",null,"Average"]
[null,"◐","E","0-30",null,"Needs Improvement",null,null,"Wish bright future"]
[]
[{"$f":"A3472+1","v":91},"Department Of Education, Rajasthan"]
[null,{"$f":"IF(I3516>0,CONCATENATE(C3516,I3516),0)","v":0},null,{"$f":"Master!$E$8","v":"Govt.Sr.Sec.Sch."}]
[{"$nulls":3},{"$f":"Master!$E$11","v":"P.S.-Bapini (Jodhpur)"}]
[null,null,"Report Card",{"$nulls":6},"U-DISE Code:-",null,{"$f":"Master!$E$14","v":{"v":810000000,"d":"0810000000"}}]
[{"$nulls":9},"Session:-",null,{"$f":"Master!$E$6","v":"2023-24"}]
[null,null,"Roll No.:-",{"$nulls":5},{"$f":"VLOOKUP($A3511,'Result Entry'!$B$9:$F$108,5,0)","v":0}]
[null,"◐","Scholar Number",{"$nulls":3},"↠",{"$f":"VLOOKUP($A3511,'Result Entry'!$B$9:$EQ$108,3,0)","v":0}]
[null,"◐","Student's Name",{"$nulls":3},"↠",{"$f":"VLOOKUP($A3511,'Result Entry'!$B$9:$EQ$108,6,0)","v":0}]
[null,"◐","Father's Name",{"$nulls":3},"↠",{"$f":"VLOOKUP($A3511,'Result Entry'!$B$9:$EQ$108,7,0)","v":0}]
[null,"◐","Mother's Name ",{"$nulls":3},"↠",{"$f":"VLOOKUP($A3511,'Result Entry'!$B$9:$EQ$108,8,0)","v":0}]
[null,"◐","Class & Section",{"$nulls":3},"↠",{"$f":"CONCATENATE('Result Entry'!$F$4,'Result Entry'!$I$4)","v":"2(A)"}]
[null,"◐","Date Of Birth",{"$nulls":3},"↠",{"$f":"VLOOKUP($A3511,'Result Entry'!$B$9:$EQ$108,9,0)","v":"00:00:00"}]
[null,"◐","Subject",null,{"$f":"'Result Entry'!$K$6","v":"First Test"},{"$f":"'Result Entry'!$L$6","v":"Second Test"},{"$f":"'Result Entry'!$M$6","v":"Third Test"},"Half Yearly","Total (Test+H.Y.)","Yearly","Grand Total",null,"Subject Grade"]
[null,"◐","Max. Marks",null,{"$f":"'Result Entry'!$K$7","v":10},{"$f":"'Result Entry'!$L$7","v":10},{"$f":"'Result Entry'!$M$7","v":10},{"$f":"'Result Entry'!$R$7","v":70},{"$f":"SUM(E3524:H3524)","v":100},{"$f":"'Result Entry'!$V$7","v":100},{"$f":"I3524+J3524","v":200},null,"A+/A/B/C/D"]
[null,"◐",{"$f":"'Result Entry'!$K$3","v":"Hindi"},null,{"$f":"IF(OR(C3525=\"\",$I3516=\"NSO\"),\"\",VLOOKUP($A3511,'Result Entry'!$B$9:$EQ$108,10,0))","v":0},{"$f":"IF(OR(C3525=\"\",$I3516=\"NSO\"),\"\",VLOOKUP($A3511,'Result Entry'!$B$9:$EQ$108,11,0))","v":0},{"$f":"IF(OR(C3525=\"\",$I3516=\"NSO\"),\"\",VLOOKUP($A3511,'Result Entry'!$B$9:$EQ$108,12,0))","v":0},{"$f":"IF(OR(C3525=\"\",$I3516=\"NSO\"),\"\",VLOOKUP($A3511,'Result Entry'!$B$9:$EQ$108,17,0))","v":0},{"$f":"SUM(E3525:H3525)","v":0},{"$f":"IF(OR(C3525=\"\",$I3516=\"NSO\"),\"\",VLOOKUP($A3511,'Result Entry'!$B$9:$EQ$108,21,0))","v":0},{"$f":"SUM(I3525,J3525)","v":0},null,{"$f":"IF(OR(C3525=\"\",$I3516=\"NSO\"),\"\",VLOOKUP($A3511,'Result Entry'!$B$9:$EQ$108,24,0))","v":""}]
[null,"◐",{"$f":"'Result Entry'!$Z$3","v":"Mathematics"},null,{"$f":"IF(OR(C3526=\"\",$I3516=\"NSO\"),\"\",VLOOKUP($A3511,'Result Entry'!$B$9:$EQ$108,25,0))","v":0},{"$f":"IF(OR(C3526=\"\",$I3516=\"NSO\"),\"\",VLOOKUP($A3511,'Result Entry'!$B$9:$EQ$108,26,0))","v":0},{"$f":"IF(OR(C3526=\"\",$I3516=\"NSO\"),\"\",VLOOKUP($A3511,'Result Entry'!$B$9:$EQ$108,27,0))","v":0},{"$f":"IF(OR(C3526=\"\",$I3516=\"NSO\"),\"\",VLOOKUP($A3511,'Result Entry'!$B$9:$EQ$108,32,0))","v":0},0,{"$f":"IF(OR(C3526=\"\",$I3516=\"NSO\"),\"\",VLOOKUP($A3511,'Result Entry'!$B$9:$EQ$108,36,0))","v":0},{"$f":"SUM(I3526,J3526)","v":0},null,{"$f":"IF(OR(C3526=\"\",$I3516=\"NSO\"),\"\",VLOOKUP($A3511,'Result Entry'!$B$9:$EQ$108,39,0))","v":""}]
[null,"◐",{"$f":"'Result Entry'!$BD$3","v":"Env. Study"},null,{"$f":"IF(OR(C3527=\"\",$I3516=\"NSO\"),\"\",VLOOKUP($A3511,'Result Entry'!$B$9:$EQ$108,55,0))","v":0},{"$f":"IF(OR(C3527=\"\",$I3516=\"NSO\"),\"\",VLOOKUP($A3511,'Result Entry'!$B$9:$EQ$108,56,0))","v":0},{"$f":"IF(OR(C3527=\"\",$I3516=\"NSO\"),\"\",VLOOKUP($A3511,'Result Entry'!$B$9:$EQ$108,57,0))","v":0},{"$f":"IF(OR(C3525=\"\",$I3516=\"NSO\"),\"\",VLOOKUP($A3511,'Result Entry'!$B$9:$EQ$108,62,0))","v":0},0,{"$f":"IF(OR(C3526=\"\",$I3516=\"NSO\"),\"\",VLOOKUP($A3511,'Result Entry'!$B$9:$EQ$108,66,0))","v":0},0,null,{"$f":"IF(OR(C3526=\"\",$I3516=\"NSO\"),\"\",VLOOKUP($A3511,'Result Entry'!$B$9:$EQ$108,69,0))","v":""}]
[null,"◐","Max. Marks",null,{"$f":"'Result Entry'!$AO$7","v":5},{"$f":"'Result Entry'!$AP$7","v":5},{"$f":"'Result Entry'!$AQ$7","v":5},{"$f":"'Result Entry'!$AV$7","v":35},50,{"$f":"'Result Entry'!$AZ$7","v":50},100,null,"A+/A/B/C/D"]
[null,"◐",{"$f":"'Result Entry'!$AO$3","v":"English"},null,{"$f":"IF(OR(C3529=\"\",$I3516=\"NSO\"),\"\",VLOOKUP($A3511,'Result Entry'!$B$9:$EQ$108,40,0))","v":0},{"$f":"IF(OR(C3529=\"\",$I3516=\"NSO\"),\"\",VLOOKUP($A3511,'Result Entry'!$B$9:$EQ$108,41,0))","v":0},{"$f":"IF(OR(C3529=\"\",$I3516=\"NSO\"),\"\",VLOOKUP($A3511,'Result Entry'!$B$9:$EQ$108,42,0))","v":0},{"$f":"IF(OR(C3529=\"\",$I3516=\"NSO\"),\"\",VLOOKUP($A3511,'Result Entry'!$B$9:$EQ$108,47,0))","v":0},0,{"$f":"IF(OR(C3529=\"\",$I3516=\"NSO\"),\"\",VLOOKUP($A3511,'Result Entry'!$B$9:$EQ$108,51,0))","v":0},0,null,{"$f":"IF(OR(C3529=\"\",$I3516=\"NSO\"),\"\",VLOOKUP($A3511,'Result Entry'!$B$9:$EQ$108,54,0))","v":""}]
[null,"◐","Max. Marks",null,{"$f":"'Result Entry'!$BS$7","v":10},{"$f":"'Result Entry'!$BT$7","v":10},{"$f":"'Result Entry'!$BU$7","v":10},{"$f":"'Result Entry'!$BZ$7","v":70},{"$f":"SUM(E3530:H3530)","v":100},{"$f":"'Result Entry'!$CD$7","v":100},200,null,"A+/A/B/C/D"]
[null,"◐",{"$f":"'Result Entry'!$BS$3","v":"Sanskrit/Urdu"},null,{"$f":"IF(OR(C3531=\"\",$I3516=\"NSO\"),\"\",VLOOKUP($A3511,'Result Entry'!$B$9:$EQ$108,70,0))","v":0},{"$f":"IF(OR(C3531=\"\",$I3516=\"NSO\"),\"\",VLOOKUP($A3511,'Result Entry'!$B$9:$EQ$108,71,0))","v":0},{"$f":"IF(OR(C3531=\"\",$I3516=\"NSO\"),\"\",VLOOKUP($A3511,'Result Entry'!$B$9:$EQ$108,72,0))","v":0},{"$f":"IF(OR(C3531=\"\",$I3516=\"NSO\"),\"\",VLOOKUP($A3511,'Result Entry'!$B$9:$EQ$108,77,0))","v":0},{"$f":"SUM(E3531:H3531)","v":0},{"$f":"IF(OR(C3531=\"\",$I3516=\"NSO\"),\"\",VLOOKUP($A3511,'Result Entry'!$B$9:$EQ$108,81,0))","v":0},0,null,{"$f":"IF(OR(C3531=\"\",$I3516=\"NSO\"),\"\",VLOOKUP($A3511,'Result Entry'!$B$9:$EQ$108,84,0))","v":""}]
[null,"◐"]
[null,"◐","Overall Result",null,null,"Total Max. Marks",null,"Total Obtained Marks",null,"Percentage","Overall Grade","Result","Position in Class"]
[null,"◐",{"$nulls":3},{"$f":"IF(OR($I3516=\"\",$I3516=\"NSO\"),\"\",VLOOKUP($A3511,'Result Entry'!$B$9:$EQ$108,120,0))","v":900},null,{"$f":"IF(OR($I3516=\"\",$I3516=\"NSO\"),\"\",VLOOKUP($A3511,'Result Entry'!$B$9:$EQ$108,121,0))","v":0},null,{"$f":"IF(OR($I3516=\"\",$I3516=\"NSO\"),\"\",VLOOKUP($A3511,'Result Entry'!$B$9:$EQ$108,122,0))","v":{"v":0,"d":"0.00"}},{"$f":"IF(OR($I3516=\"\",$I3516=\"NSO\"),\"\",VLOOKUP($A3511,'Result Entry'!$B$9:$EQ$108,123,0))","v":""},{"$f":"IF(OR($I3516=\"\",$I3516=\"NSO\"),\"\",VLOOKUP($A3511,'Result Entry'!$B$9:$EQ$108,124,0))","v":""},{"$f":"IF(OR($I3516=\"\",$I3516=\"NSO\"),\"\",VLOOKUP($A3511,'Result Entry'!$B$9:$EQ$108,126,0))","v":""}]
[null,"◐",{"$nulls":6},"Total Meetings :-",null,{"$f":"IF(OR($I3516=\"\",$I3516=\"NSO\"),\"\",VLOOKUP($A3511,'Result Entry'!$B$9:$EQ$108,117,0))","v":0},"Attedance %"]
[null,"◐","Extra Subjects",{"$nulls":5},"Student's Meetings :-",null,{"$f":"IF(OR($I3516=\"\",$I3516=\"NSO\"),\"\",VLOOKUP($A3511,'Result Entry'!$B$9:$EQ$108,118,0))","v":0},{"$f":"IF(OR($I3516=\"\",$I3516=\"NSO\"),\"\",VLOOKUP($A3511,'Result Entry'!$B$9:$EQ$108,119,0))","v":""}]
[null,"◐","Subject",null,null,"Total Marks",null,"GRADE","Remark :-",null,{"$f":"IF(OR($I3516=\"\",$I3516=\"NSO\"),\"\",VLOOKUP($A3511,'Result Entry'!$B$9:$EQ$108,127,0))","v":0}]
[null,"◐",{"$f":"'Result Entry'!$CH$3","v":"WORK EXP."},null,null,{"$f":"IF(OR(C3538=\"\",$I3516=\"NSO\"),\"\",VLOOKUP($A3511,'Result Entry'!$B$9:$EQ$108,138,0))","v":"0/100"},null,{"$f":"IF(OR(C3538=\"\",$I3516=\"NSO\"),\"\",VLOOKUP($A3511,'Result Entry'!$B$9:$EQ$108,92,0))","v":""},"Result Date :-",null,{"$f":"'Result Entry'!$U$2","v":"2024-05-07"}]
[null,"◐",{"$f":"'Result Entry'!$CP$3","v":"ART EDU."},null,null,{"$f":"IF(OR(C3539=\"\",$I3516=\"NSO\"),\"\",VLOOKUP($A3511,'Result Entry'!$B$9:$EQ$108,142,0))","v":"0/100"},null,{"$f":"IF(OR(C3539=\"\",$I3516=\"NSO\"),\"\",VLOOKUP($A3511,'Result Entry'!$B$9:$EQ$108,100,0))","v":""}]
[null,null,{"$f":"'Result Entry'!$CX$3","v":"H&P. EDU."},null,null,{"$f":"IF(OR(C3540=\"\",$I3516=\"NSO\"),\"\",VLOOKUP($A3511,'Result Entry'!$B$9:$EQ$108,146,0))","v":"0/0"},null,{"$f":"IF(OR(C3540=\"\",$I3516=\"NSO\"),\"\",VLOOKUP($A3511,'Result Entry'!$B$9:$EQ$108,108,0))","v":""}]
[null,"◐",{"$f":"'Result Entry'!$DF$3","v":0},null,null,{"$f":"IF(OR(C3541=\"\",$I3516=\"NSO\"),\"\",VLOOKUP($A3511,'Result Entry'!$B$9:$EQ$108,131,0))","v":0},null,{"$f":"IF(OR(C3541=\"\",$I3516=\"NSO\"),\"\",VLOOKUP($A3511,'Result Entry'!$B$9:$EQ$108,97,0))","v":0},"Signature Of The Class Teacher"]
[null,"◐","Grading System"]
[null,"◐","Grd.","% Range",null,"Description"]
[null,"◐","A","86-100",null,"Excellent",null,null,"Signature And Seal Of Principal/H.M."]
[null,"◐","B","71-85",null,"Very Good"]
[null,"◐","C","51-70",null,"Good"]
[null,"◐","D","31-50",null,"Average"]
[null,"◐","E","0-30",null,"Needs Improvement",null,null,"Wish bright future"]
[]
[{"$f":"A3511+1","v":92},"Department Of Education, Rajasthan"]
[null,{"$f":"IF(I3555>0,CONCATENATE(C3555,I3555),0)","v":0},null,{"$f":"Master!$E$8","v":"Govt.Sr.Sec.Sch."}]
[{"$nulls":3},{"$f":"Master!$E$11","v":"P.S.-Bapini (Jodhpur)"}]
[null,null,"Report Card",{"$nulls":6},"U-DISE Code:-",null,{"$f":"Master!$E$14","v":{"v":810000000,"d":"0810000000"}}]
[{"$nulls":9},"Session:-",null,{"$f":"Master!$E$6","v":"2023-24"}]
[null,null,"Roll No.:-",{"$nulls":5},{"$f":"VLOOKUP($A3550,'Result Entry'!$B$9:$F$108,5,0)","v":0}]
[null,"◐","Scholar Number",{"$nulls":3},"↠",{"$f":"VLOOKUP($A3550,'Result Entry'!$B$9:$EQ$108,3,0)","v":0}]
[null,"◐","Student's Name",{"$nulls":3},"↠",{"$f":"VLOOKUP($A3550,'Result Entry'!$B$9:$EQ$108,6,0)","v":0}]
[null,"◐","Father's Name",{"$nulls":3},"↠",{"$f":"VLOOKUP($A3550,'Result Entry'!$B$9:$EQ$108,7,0)","v":0}]
[null,"◐","Mother's Name ",{"$nulls":3},"↠",{"$f":"VLOOKUP($A3550,'Result Entry'!$B$9:$EQ$108,8,0)","v":0}]
[null,"◐","Class & Section",{"$nulls":3},"↠",{"$f":"CONCATENATE('Result Entry'!$F$4,'Result Entry'!$I$4)","v":"2(A)"}]
[null,"◐","Date Of Birth",{"$nulls":3},"↠",{"$f":"VLOOKUP($A3550,'Result Entry'!$B$9:$EQ$108,9,0)","v":"00:00:00"}]
[null,"◐","Subject",null,{"$f":"'Result Entry'!$K$6","v":"First Test"},{"$f":"'Result Entry'!$L$6","v":"Second Test"},{"$f":"'Result Entry'!$M$6","v":"Third Test"},"Half Yearly","Total (Test+H.Y.)","Yearly","Grand Total",null,"Subject Grade"]
[null,"◐","Max. Marks",null,{"$f":"'Result Entry'!$K$7","v":10},{"$f":"'Result Entry'!$L$7","v":10},{"$f":"'Result Entry'!$M$7","v":10},{"$f":"'Result Entry'!$R$7","v":70},{"$f":"SUM(E3563:H3563)","v":100},{"$f":"'Result Entry'!$V$7","v":100},{"$f":"I3563+J3563","v":200},null,"A+/A/B/C/D"]
[null,"◐",{"$f":"'Result Entry'!$K$3","v":"Hindi"},null,{"$f":"IF(OR(C3564=\"\",$I3555=\"NSO\"),\"\",VLOOKUP($A3550,'Result Entry'!$B$9:$EQ$108,10,0))","v":0},{"$f":"IF(OR(C3564=\"\",$I3555=\"NSO\"),\"\",VLOOKUP($A3550,'Result Entry'!$B$9:$EQ$108,11,0))","v":0},{"$f":"IF(OR(C3564=\"\",$I3555=\"NSO\"),\"\",VLOOKUP($A3550,'Result Entry'!$B$9:$EQ$108,12,0))","v":0},{"$f":"IF(OR(C3564=\"\",$I3555=\"NSO\"),\"\",VLOOKUP($A3550,'Result Entry'!$B$9:$EQ$108,17,0))","v":0},{"$f":"SUM(E3564:H3564)","v":0},{"$f":"IF(OR(C3564=\"\",$I3555=\"NSO\"),\"\",VLOOKUP($A3550,'Result Entry'!$B$9:$EQ$108,21,0))","v":0},{"$f":"SUM(I3564,J3564)","v":0},null,{"$f":"IF(OR(C3564=\"\",$I3555=\"NSO\"),\"\",VLOOKUP($A3550,'Result Entry'!$B$9:$EQ$108,24,0))","v":""}]
[null,"◐",{"$f":"'Result Entry'!$Z$3","v":"Mathematics"},null,{"$f":"IF(OR(C3565=\"\",$I3555=\"NSO\"),\"\",VLOOKUP($A3550,'Result Entry'!$B$9:$EQ$108,25,0))","v":0},{"$f":"IF(OR(C3565=\"\",$I3555=\"NSO\"),\"\",VLOOKUP($A3550,'Result Entry'!$B$9:$EQ$108,26,0))","v":0},{"$f":"IF(OR(C3565=\"\",$I3555=\"NSO\"),\"\",VLOOKUP($A3550,'Result Entry'!$B$9:$EQ$108,27,0))","v":0},{"$f":"IF(OR(C3565=\"\",$I3555=\"NSO\"),\"\",VLOOKUP($A3550,'Result Entry'!$B$9:$EQ$108,32,0))","v":0},0,{"$f":"IF(OR(C3565=\"\",$I3555=\"NSO\"),\"\",VLOOKUP($A3550,'Result Entry'!$B$9:$EQ$108,36,0))","v":0},{"$f":"SUM(I3565,J3565)","v":0},null,{"$f":"IF(OR(C3565=\"\",$I3555=\"NSO\"),\"\",VLOOKUP($A3550,'Result Entry'!$B$9:$EQ$108,39,0))","v":""}]
[null,"◐",{"$f":"'Result Entry'!$BD$3","v":"Env. Study"},null,{"$f":"IF(OR(C3566=\"\",$I3555=\"NSO\"),\"\",VLOOKUP($A3550,'Result Entry'!$B$9:$EQ$108,55,0))","v":0},{"$f":"IF(OR(C3566=\"\",$I3555=\"NSO\"),\"\",VLOOKUP($A3550,'Result Entry'!$B$9:$EQ$108,56,0))","v":0},{"$f":"IF(OR(C3566=\"\",$I3555=\"NSO\"),\"\",VLOOKUP($A3550,'Result Entry'!$B$9:$EQ$108,57,0))","v":0},{"$f":"IF(OR(C3564=\"\",$I3555=\"NSO\"),\"\",VLOOKUP($A3550,'Result Entry'!$B$9:$EQ$108,62,0))","v":0},0,{"$f":"IF(OR(C3565=\"\",$I3555=\"NSO\"),\"\",VLOOKUP($A3550,'Result Entry'!$B$9:$EQ$108,66,0))","v":0},0,null,{"$f":"IF(OR(C3565=\"\",$I3555=\"NSO\"),\"\",VLOOKUP($A3550,'Result Entry'!$B$9:$EQ$108,69,0))","v":""}]
[null,"◐","Max. Marks",null,{"$f":"'Result Entry'!$AO$7","v":5},{"$f":"'Result Entry'!$AP$7","v":5},{"$f":"'Result Entry'!$AQ$7","v":5},{"$f":"'Result Entry'!$AV$7","v":35},50,{"$f":"'Result Entry'!$AZ$7","v":50},100,null,"A+/A/B/C/D"]
[null,"◐",{"$f":"'Result Entry'!$AO$3","v":"English"},null,{"$f":"IF(OR(C3568=\"\",$I3555=\"NSO\"),\"\",VLOOKUP($A3550,'Result Entry'!$B$9:$EQ$108,40,0))","v":0},{"$f":"IF(OR(C3568=\"\",$I3555=\"NSO\"),\"\",VLOOKUP($A3550,'Result Entry'!$B$9:$EQ$108,41,0))","v":0},{"$f":"IF(OR(C3568=\"\",$I3555=\"NSO\"),\"\",VLOOKUP($A3550,'Result Entry'!$B$9:$EQ$108,42,0))","v":0},{"$f":"IF(OR(C3568=\"\",$I3555=\"NSO\"),\"\",VLOOKUP($A3550,'Result Entry'!$B$9:$EQ$108,47,0))","v":0},0,{"$f":"IF(OR(C3568=\"\",$I3555=\"NSO\"),\"\",VLOOKUP($A3550,'Result Entry'!$B$9:$EQ$108,51,0))","v":0},0,null,{"$f":"IF(OR(C3568=\"\",$I3555=\"NSO\"),\"\",VLOOKUP($A3550,'Result Entry'!$B$9:$EQ$108,54,0))","v":""}]
[null,"◐","Max. Marks",null,{"$f":"'Result Entry'!$BS$7","v":10},{"$f":"'Result Entry'!$BT$7","v":10},{"$f":"'Result Entry'!$BU$7","v":10},{"$f":"'Result Entry'!$BZ$7","v":70},{"$f":"SUM(E3569:H3569)","v":100},{"$f":"'Result Entry'!$CD$7","v":100},200,null,"A+/A/B/C/D"]
[null,"◐",{"$f":"'Result Entry'!$BS$3","v":"Sanskrit/Urdu"},null,{"$f":"IF(OR(C3570=\"\",$I3555=\"NSO\"),\"\",VLOOKUP($A3550,'Result Entry'!$B$9:$EQ$108,70,0))","v":0},{"$f":"IF(OR(C3570=\"\",$I3555=\"NSO\"),\"\",VLOOKUP($A3550,'Result Entry'!$B$9:$EQ$108,71,0))","v":0},{"$f":"IF(OR(C3570=\"\",$I3555=\"NSO\"),\"\",VLOOKUP($A3550,'Result Entry'!$B$9:$EQ$108,72,0))","v":0},{"$f":"IF(OR(C3570=\"\",$I3555=\"NSO\"),\"\",VLOOKUP($A3550,'Result Entry'!$B$9:$EQ$108,77,0))","v":0},{"$f":"SUM(E3570:H3570)","v":0},{"$f":"IF(OR(C3570=\"\",$I3555=\"NSO\"),\"\",VLOOKUP($A3550,'Result Entry'!$B$9:$EQ$108,81,0))","v":0},0,null,{"$f":"IF(OR(C3570=\"\",$I3555=\"NSO\"),\"\",VLOOKUP($A3550,'Result Entry'!$B$9:$EQ$108,84,0))","v":""}]
[null,"◐"]
[null,"◐","Overall Result",null,null,"Total Max. Marks",null,"Total Obtained Marks",null,"Percentage","Overall Grade","Result","Position in Class"]
[null,"◐",{"$nulls":3},{"$f":"IF(OR($I3555=\"\",$I3555=\"NSO\"),\"\",VLOOKUP($A3550,'Result Entry'!$B$9:$EQ$108,120,0))","v":900},null,{"$f":"IF(OR($I3555=\"\",$I3555=\"NSO\"),\"\",VLOOKUP($A3550,'Result Entry'!$B$9:$EQ$108,121,0))","v":0},null,{"$f":"IF(OR($I3555=\"\",$I3555=\"NSO\"),\"\",VLOOKUP($A3550,'Result Entry'!$B$9:$EQ$108,122,0))","v":{"v":0,"d":"0.00"}},{"$f":"IF(OR($I3555=\"\",$I3555=\"NSO\"),\"\",VLOOKUP($A3550,'Result Entry'!$B$9:$EQ$108,123,0))","v":""},{"$f":"IF(OR($I3555=\"\",$I3555=\"NSO\"),\"\",VLOOKUP($A3550,'Result Entry'!$B$9:$EQ$108,124,0))","v":""},{"$f":"IF(OR($I3555=\"\",$I3555=\"NSO\"),\"\",VLOOKUP($A3550,'Result Entry'!$B$9:$EQ$108,126,0))","v":""}]
[null,"◐",{"$nulls":6},"Total Meetings :-",null,{"$f":"IF(OR($I3555=\"\",$I3555=\"NSO\"),\"\",VLOOKUP($A3550,'Result Entry'!$B$9:$EQ$108,117,0))","v":0},"Attedance %"]
[null,"◐","Extra Subjects",{"$nulls":5},"Student's Meetings :-",null,{"$f":"IF(OR($I3555=\"\",$I3555=\"NSO\"),\"\",VLOOKUP($A3550,'Result Entry'!$B$9:$EQ$108,118,0))","v":0},{"$f":"IF(OR($I3555=\"\",$I3555=\"NSO\"),\"\",VLOOKUP($A3550,'Result Entry'!$B$9:$EQ$108,119,0))","v":""}]
[null,"◐","Subject",null,null,"Total Marks",null,"GRADE","Remark :-",null,{"$f":"IF(OR($I3555=\"\",$I3555=\"NSO\"),\"\",VLOOKUP($A3550,'Result Entry'!$B$9:$EQ$108,127,0))","v":0}]
[null,"◐",{"$f":"'Result Entry'!$CH$3","v":"WORK EXP."},null,null,{"$f":"IF(OR(C3577=\"\",$I3555=\"NSO\"),\"\",VLOOKUP($A3550,'Result Entry'!$B$9:$EQ$108,138,0))","v":"0/100"},null,{"$f":"IF(OR(C3577=\"\",$I3555=\"NSO\"),\"\",VLOOKUP($A3550,'Result Entry'!$B$9:$EQ$108,92,0))","v":""},"Result Date :-",null,{"$f":"'Result Entry'!$U$2","v":"2024-05-07"}]
[null,"◐",{"$f":"'Result Entry'!$CP$3","v":"ART EDU."},null,null,{"$f":"IF(OR(C3578=\"\",$I3555=\"NSO\"),\"\",VLOOKUP($A3550,'Result Entry'!$B$9:$EQ$108,142,0))","v":"0/100"},null,{"$f":"IF(OR(C3578=\"\",$I3555=\"NSO\"),\"\",VLOOKUP($A3550,'Result Entry'!$B$9:$EQ$108,100,0))","v":""}]
[null,null,{"$f":"'Result Entry'!$CX$3","v":"H&P. EDU."},null,null,{"$f":"IF(OR(C3579=\"\",$I3555=\"NSO\"),\"\",VLOOKUP($A3550,'Result Entry'!$B$9:$EQ$108,146,0))","v":"0/0"},null,{"$f":"IF(OR(C3579=\"\",$I3555=\"NSO\"),\"\",VLOOKUP($A3550,'Result Entry'!$B$9:$EQ$108,108,0))","v":""}]
[null,"◐",{"$f":"'Result Entry'!$DF$3","v":0},null,null,{"$f":"IF(OR(C3580=\"\",$I3555=\"NSO\"),\"\",VLOOKUP($A3550,'Result Entry'!$B$9:$EQ$108,131,0))","v":0},null,{"$f":"IF(OR(C3580=\"\",$I3555=\"NSO\"),\"\",VLOOKUP($A3550,'Result Entry'!$B$9:$EQ$108,97,0))","v":0},"Signature Of The Class Teacher"]
[null,"◐","Grading System"]
[null,"◐","Grd.","% Range",null,"Description"]
[null,"◐","A","86-100",null,"Excellent",null,null,"Signature And Seal Of Principal/H.M."]
[null,"◐","B","71-85",null,"Very Good"]
[null,"◐","C","51-70",null,"Good"]
[null,"◐","D","31-50",null,"Average"]
[null,"◐","E","0-30",null,"Needs Improvement",null,null,"Wish bright future"]
[]
[{"$f":"A3550+1","v":93},"Department Of Education, Rajasthan"]
[null,{"$f":"IF(I3594>0,CONCATENATE(C3594,I3594),0)","v":0},null,{"$f":"Master!$E$8","v":"Govt.Sr.Sec.Sch."}]
[{"$nulls":3},{"$f":"Master!$E$11","v":"P.S.-Bapini (Jodhpur)"}]
[null,null,"Report Card",{"$nulls":6},"U-DISE Code:-",null,{"$f":"Master!$E$14","v":{"v":810000000,"d":"0810000000"}}]
[{"$nulls":9},"Session:-",null,{"$f":"Master!$E$6","v":"2023-24"}]
[null,null,"Roll No.:-",{"$nulls":5},{"$f":"VLOOKUP($A3589,'Result Entry'!$B$9:$F$108,5,0)","v":0}]
[null,"◐","Scholar Number",{"$nulls":3},"↠",{"$f":"VLOOKUP($A3589,'Result Entry'!$B$9:$EQ$108,3,0)","v":0}]
[null,"◐","Student's Name",{"$nulls":3},"↠",{"$f":"VLOOKUP($A3589,'Result Entry'!$B$9:$EQ$108,6,0)","v":0}]
[null,"◐","Father's Name",{"$nulls":3},"↠",{"$f":"VLOOKUP($A3589,'Result Entry'!$B$9:$EQ$108,7,0)","v":0}]
[null,"◐","Mother's Name ",{"$nulls":3},"↠",{"$f":"VLOOKUP($A3589,'Result Entry'!$B$9:$EQ$108,8,0)","v":0}]
[null,"◐","Class & Section",{"$nulls":3},"↠",{"$f":"CONCATENATE('Result Entry'!$F$4,'Result Entry'!$I$4)","v":"2(A)"}]
[null,"◐","Date Of Birth",{"$nulls":3},"↠",{"$f":"VLOOKUP($A3589,'Result Entry'!$B$9:$EQ$108,9,0)","v":"00:00:00"}]
[null,"◐","Subject",null,{"$f":"'Result Entry'!$K$6","v":"First Test"},{"$f":"'Result Entry'!$L$6","v":"Second Test"},{"$f":"'Result Entry'!$M$6","v":"Third Test"},"Half Yearly","Total (Test+H.Y.)","Yearly","Grand Total",null,"Subject Grade"]
[null,"◐","Max. Marks",null,{"$f":"'Result Entry'!$K$7","v":10},{"$f":"'Result Entry'!$L$7","v":10},{"$f":"'Result Entry'!$M$7","v":10},{"$f":"'Result Entry'!$R$7","v":70},{"$f":"SUM(E3602:H3602)","v":100},{"$f":"'Result Entry'!$V$7","v":100},{"$f":"I3602+J3602","v":200},null,"A+/A/B/C/D"]
[null,"◐",{"$f":"'Result Entry'!$K$3","v":"Hindi"},null,{"$f":"IF(OR(C3603=\"\",$I3594=\"NSO\"),\"\",VLOOKUP($A3589,'Result Entry'!$B$9:$EQ$108,10,0))","v":0},{"$f":"IF(OR(C3603=\"\",$I3594=\"NSO\"),\"\",VLOOKUP($A3589,'Result Entry'!$B$9:$EQ$108,11,0))","v":0},{"$f":"IF(OR(C3603=\"\",$I3594=\"NSO\"),\"\",VLOOKUP($A3589,'Result Entry'!$B$9:$EQ$108,12,0))","v":0},{"$f":"IF(OR(C3603=\"\",$I3594=\"NSO\"),\"\",VLOOKUP($A3589,'Result Entry'!$B$9:$EQ$108,17,0))","v":0},{"$f":"SUM(E3603:H3603)","v":0},{"$f":"IF(OR(C3603=\"\",$I3594=\"NSO\"),\"\",VLOOKUP($A3589,'Result Entry'!$B$9:$EQ$108,21,0))","v":0},{"$f":"SUM(I3603,J3603)","v":0},null,{"$f":"IF(OR(C3603=\"\",$I3594=\"NSO\"),\"\",VLOOKUP($A3589,'Result Entry'!$B$9:$EQ$108,24,0))","v":""}]
[null,"◐",{"$f":"'Result Entry'!$Z$3","v":"Mathematics"},null,{"$f":"IF(OR(C3604=\"\",$I3594=\"NSO\"),\"\",VLOOKUP($A3589,'Result Entry'!$B$9:$EQ$108,25,0))","v":0},{"$f":"IF(OR(C3604=\"\",$I3594=\"NSO\"),\"\",VLOOKUP($A3589,'Result Entry'!$B$9:$EQ$108,26,0))","v":0},{"$f":"IF(OR(C3604=\"\",$I3594=\"NSO\"),\"\",VLOOKUP($A3589,'Result Entry'!$B$9:$EQ$108,27,0))","v":0},{"$f":"IF(OR(C3604=\"\",$I3594=\"NSO\"),\"\",VLOOKUP($A3589,'Result Entry'!$B$9:$EQ$108,32,0))","v":0},0,{"$f":"IF(OR(C3604=\"\",$I3594=\"NSO\"),\"\",VLOOKUP($A3589,'Result Entry'!$B$9:$EQ$108,36,0))","v":0},{"$f":"SUM(I3604,J3604)","v":0},null,{"$f":"IF(OR(C3604=\"\",$I3594=\"NSO\"),\"\",VLOOKUP($A3589,'Result Entry'!$B$9:$EQ$108,39,0))","v":""}]
[null,"◐",{"$f":"'Result Entry'!$BD$3","v":"Env. Study"},null,{"$f":"IF(OR(C3605=\"\",$I3594=\"NSO\"),\"\",VLOOKUP($A3589,'Result Entry'!$B$9:$EQ$108,55,0))","v":0},{"$f":"IF(OR(C3605=\"\",$I3594=\"NSO\"),\"\",VLOOKUP($A3589,'Result Entry'!$B$9:$EQ$108,56,0))","v":0},{"$f":"IF(OR(C3605=\"\",$I3594=\"NSO\"),\"\",VLOOKUP($A3589,'Result Entry'!$B$9:$EQ$108,57,0))","v":0},{"$f":"IF(OR(C3603=\"\",$I3594=\"NSO\"),\"\",VLOOKUP($A3589,'Result Entry'!$B$9:$EQ$108,62,0))","v":0},0,{"$f":"IF(OR(C3604=\"\",$I3594=\"NSO\"),\"\",VLOOKUP($A3589,'Result Entry'!$B$9:$EQ$108,66,0))","v":0},0,null,{"$f":"IF(OR(C3604=\"\",$I3594=\"NSO\"),\"\",VLOOKUP($A3589,'Result Entry'!$B$9:$EQ$108,69,0))","v":""}]
[null,"◐","Max. Marks",null,{"$f":"'Result Entry'!$AO$7","v":5},{"$f":"'Result Entry'!$AP$7","v":5},{"$f":"'Result Entry'!$AQ$7","v":5},{"$f":"'Result Entry'!$AV$7","v":35},50,{"$f":"'Result Entry'!$AZ$7","v":50},100,null,"A+/A/B/C/D"]
[null,"◐",{"$f":"'Result Entry'!$AO$3","v":"English"},null,{"$f":"IF(OR(C3607=\"\",$I3594=\"NSO\"),\"\",VLOOKUP($A3589,'Result Entry'!$B$9:$EQ$108,40,0))","v":0},{"$f":"IF(OR(C3607=\"\",$I3594=\"NSO\"),\"\",VLOOKUP($A3589,'Result Entry'!$B$9:$EQ$108,41,0))","v":0},{"$f":"IF(OR(C3607=\"\",$I3594=\"NSO\"),\"\",VLOOKUP($A3589,'Result Entry'!$B$9:$EQ$108,42,0))","v":0},{"$f":"IF(OR(C3607=\"\",$I3594=\"NSO\"),\"\",VLOOKUP($A3589,'Result Entry'!$B$9:$EQ$108,47,0))","v":0},0,{"$f":"IF(OR(C3607=\"\",$I3594=\"NSO\"),\"\",VLOOKUP($A3589,'Result Entry'!$B$9:$EQ$108,51,0))","v":0},0,null,{"$f":"IF(OR(C3607=\"\",$I3594=\"NSO\"),\"\",VLOOKUP($A3589,'Result Entry'!$B$9:$EQ$108,54,0))","v":""}]
[null,"◐","Max. Marks",null,{"$f":"'Result Entry'!$BS$7","v":10},{"$f":"'Result Entry'!$BT$7","v":10},{"$f":"'Result Entry'!$BU$7","v":10},{"$f":"'Result Entry'!$BZ$7","v":70},{"$f":"SUM(E3608:H3608)","v":100},{"$f":"'Result Entry'!$CD$7","v":100},200,null,"A+/A/B/C/D"]
[null,"◐",{"$f":"'Result Entry'!$BS$3","v":"Sanskrit/Urdu"},null,{"$f":"IF(OR(C3609=\"\",$I3594=\"NSO\"),\"\",VLOOKUP($A3589,'Result Entry'!$B$9:$EQ$108,70,0))","v":0},{"$f":"IF(OR(C3609=\"\",$I3594=\"NSO\"),\"\",VLOOKUP($A3589,'Result Entry'!$B$9:$EQ$108,71,0))","v":0},{"$f":"IF(OR(C3609=\"\",$I3594=\"NSO\"),\"\",VLOOKUP($A3589,'Result Entry'!$B$9:$EQ$108,72,0))","v":0},{"$f":"IF(OR(C3609=\"\",$I3594=\"NSO\"),\"\",VLOOKUP($A3589,'Result Entry'!$B$9:$EQ$108,77,0))","v":0},{"$f":"SUM(E3609:H3609)","v":0},{"$f":"IF(OR(C3609=\"\",$I3594=\"NSO\"),\"\",VLOOKUP($A3589,'Result Entry'!$B$9:$EQ$108,81,0))","v":0},0,null,{"$f":"IF(OR(C3609=\"\",$I3594=\"NSO\"),\"\",VLOOKUP($A3589,'Result Entry'!$B$9:$EQ$108,84,0))","v":""}]
[null,"◐"]
[null,"◐","Overall Result",null,null,"Total Max. Marks",null,"Total Obtained Marks",null,"Percentage","Overall Grade","Result","Position in Class"]
[null,"◐",{"$nulls":3},{"$f":"IF(OR($I3594=\"\",$I3594=\"NSO\"),\"\",VLOOKUP($A3589,'Result Entry'!$B$9:$EQ$108,120,0))","v":900},null,{"$f":"IF(OR($I3594=\"\",$I3594=\"NSO\"),\"\",VLOOKUP($A3589,'Result Entry'!$B$9:$EQ$108,121,0))","v":0},null,{"$f":"IF(OR($I3594=\"\",$I3594=\"NSO\"),\"\",VLOOKUP($A3589,'Result Entry'!$B$9:$EQ$108,122,0))","v":{"v":0,"d":"0.00"}},{"$f":"IF(OR($I3594=\"\",$I3594=\"NSO\"),\"\",VLOOKUP($A3589,'Result Entry'!$B$9:$EQ$108,123,0))","v":""},{"$f":"IF(OR($I3594=\"\",$I3594=\"NSO\"),\"\",VLOOKUP($A3589,'Result Entry'!$B$9:$EQ$108,124,0))","v":""},{"$f":"IF(OR($I3594=\"\",$I3594=\"NSO\"),\"\",VLOOKUP($A3589,'Result Entry'!$B$9:$EQ$108,126,0))","v":""}]
[null,"◐",{"$nulls":6},"Total Meetings :-",null,{"$f":"IF(OR($I3594=\"\",$I3594=\"NSO\"),\"\",VLOOKUP($A3589,'Result Entry'!$B$9:$EQ$108,117,0))","v":0},"Attedance %"]
[null,"◐","Extra Subjects",{"$nulls":5},"Student's Meetings :-",null,{"$f":"IF(OR($I3594=\"\",$I3594=\"NSO\"),\"\",VLOOKUP($A3589,'Result Entry'!$B$9:$EQ$108,118,0))","v":0},{"$f":"IF(OR($I3594=\"\",$I3594=\"NSO\"),\"\",VLOOKUP($A3589,'Result Entry'!$B$9:$EQ$108,119,0))","v":""}]
[null,"◐","Subject",null,null,"Total Marks",null,"GRADE","Remark :-",null,{"$f":"IF(OR($I3594=\"\",$I3594=\"NSO\"),\"\",VLOOKUP($A3589,'Result Entry'!$B$9:$EQ$108,127,0))","v":0}]
[null,"◐",{"$f":"'Result Entry'!$CH$3","v":"WORK EXP."},null,null,{"$f":"IF(OR(C3616=\"\",$I3594=\"NSO\"),\"\",VLOOKUP($A3589,'Result Entry'!$B$9:$EQ$108,138,0))","v":"0/100"},null,{"$f":"IF(OR(C3616=\"\",$I3594=\"NSO\"),\"\",VLOOKUP($A3589,'Result Entry'!$B$9:$EQ$108,92,0))","v":""},"Result Date :-",null,{"$f":"'Result Entry'!$U$2","v":"2024-05-07"}]
[null,"◐",{"$f":"'Result Entry'!$CP$3","v":"ART EDU."},null,null,{"$f":"IF(OR(C3617=\"\",$I3594=\"NSO\"),\"\",VLOOKUP($A3589,'Result Entry'!$B$9:$EQ$108,142,0))","v":"0/100"},null,{"$f":"IF(OR(C3617=\"\",$I3594=\"NSO\"),\"\",VLOOKUP($A3589,'Result Entry'!$B$9:$EQ$108,100,0))","v":""}]
[null,null,{"$f":"'Result Entry'!$CX$3","v":"H&P. EDU."},null,null,{"$f":"IF(OR(C3618=\"\",$I3594=\"NSO\"),\"\",VLOOKUP($A3589,'Result Entry'!$B$9:$EQ$108,146,0))","v":"0/0"},null,{"$f":"IF(OR(C3618=\"\",$I3594=\"NSO\"),\"\",VLOOKUP($A3589,'Result Entry'!$B$9:$EQ$108,108,0))","v":""}]
[null,"◐",{"$f":"'Result Entry'!$DF$3","v":0},null,null,{"$f":"IF(OR(C3619=\"\",$I3594=\"NSO\"),\"\",VLOOKUP($A3589,'Result Entry'!$B$9:$EQ$108,131,0))","v":0},null,{"$f":"IF(OR(C3619=\"\",$I3594=\"NSO\"),\"\",VLOOKUP($A3589,'Result Entry'!$B$9:$EQ$108,97,0))","v":0},"Signature Of The Class Teacher"]
[null,"◐","Grading System"]
[null,"◐","Grd.","% Range",null,"Description"]
[null,"◐","A","86-100",null,"Excellent",null,null,"Signature And Seal Of Principal/H.M."]
[null,"◐","B","71-85",null,"Very Good"]
[null,"◐","C","51-70",null,"Good"]
[null,"◐","D","31-50",null,"Average"]
[null,"◐","E","0-30",null,"Needs Improvement",null,null,"Wish bright future"]
[]
[{"$f":"A3589+1","v":94},"Department Of Education, Rajasthan"]
[null,{"$f":"IF(I3633>0,CONCATENATE(C3633,I3633),0)","v":0},null,{"$f":"Master!$E$8","v":"Govt.Sr.Sec.Sch."}]
[{"$nulls":3},{"$f":"Master!$E$11","v":"P.S.-Bapini (Jodhpur)"}]
[null,null,"Report Card",{"$nulls":6},"U-DISE Code:-",null,{"$f":"Master!$E$14","v":{"v":810000000,"d":"0810000000"}}]
[{"$nulls":9},"Session:-",null,{"$f":"Master!$E$6","v":"2023-24"}]
[null,null,"Roll No.:-",{"$nulls":5},{"$f":"VLOOKUP($A3628,'Result Entry'!$B$9:$F$108,5,0)","v":0}]
[null,"◐","Scholar Number",{"$nulls":3},"↠",{"$f":"VLOOKUP($A3628,'Result Entry'!$B$9:$EQ$108,3,0)","v":0}]
[null,"◐","Student's Name",{"$nulls":3},"↠",{"$f":"VLOOKUP($A3628,'Result Entry'!$B$9:$EQ$108,6,0)","v":0}]
[null,"◐","Father's Name",{"$nulls":3},"↠",{"$f":"VLOOKUP($A3628,'Result Entry'!$B$9:$EQ$108,7,0)","v":0}]
[null,"◐","Mother's Name ",{"$nulls":3},"↠",{"$f":"VLOOKUP($A3628,'Result Entry'!$B$9:$EQ$108,8,0)","v":0}]
[null,"◐","Class & Section",{"$nulls":3},"↠",{"$f":"CONCATENATE('Result Entry'!$F$4,'Result Entry'!$I$4)","v":"2(A)"}]
[null,"◐","Date Of Birth",{"$nulls":3},"↠",{"$f":"VLOOKUP($A3628,'Result Entry'!$B$9:$EQ$108,9,0)","v":"00:00:00"}]
[null,"◐","Subject",null,{"$f":"'Result Entry'!$K$6","v":"First Test"},{"$f":"'Result Entry'!$L$6","v":"Second Test"},{"$f":"'Result Entry'!$M$6","v":"Third Test"},"Half Yearly","Total (Test+H.Y.)","Yearly","Grand Total",null,"Subject Grade"]
[null,"◐","Max. Marks",null,{"$f":"'Result Entry'!$K$7","v":10},{"$f":"'Result Entry'!$L$7","v":10},{"$f":"'Result Entry'!$M$7","v":10},{"$f":"'Result Entry'!$R$7","v":70},{"$f":"SUM(E3641:H3641)","v":100},{"$f":"'Result Entry'!$V$7","v":100},{"$f":"I3641+J3641","v":200},null,"A+/A/B/C/D"]
[null,"◐",{"$f":"'Result Entry'!$K$3","v":"Hindi"},null,{"$f":"IF(OR(C3642=\"\",$I3633=\"NSO\"),\"\",VLOOKUP($A3628,'Result Entry'!$B$9:$EQ$108,10,0))","v":0},{"$f":"IF(OR(C3642=\"\",$I3633=\"NSO\"),\"\",VLOOKUP($A3628,'Result Entry'!$B$9:$EQ$108,11,0))","v":0},{"$f":"IF(OR(C3642=\"\",$I3633=\"NSO\"),\"\",VLOOKUP($A3628,'Result Entry'!$B$9:$EQ$108,12,0))","v":0},{"$f":"IF(OR(C3642=\"\",$I3633=\"NSO\"),\"\",VLOOKUP($A3628,'Result Entry'!$B$9:$EQ$108,17,0))","v":0},{"$f":"SUM(E3642:H3642)","v":0},{"$f":"IF(OR(C3642=\"\",$I3633=\"NSO\"),\"\",VLOOKUP($A3628,'Result Entry'!$B$9:$EQ$108,21,0))","v":0},{"$f":"SUM(I3642,J3642)","v":0},null,{"$f":"IF(OR(C3642=\"\",$I3633=\"NSO\"),\"\",VLOOKUP($A3628,'Result Entry'!$B$9:$EQ$108,24,0))","v":""}]
[null,"◐",{"$f":"'Result Entry'!$Z$3","v":"Mathematics"},null,{"$f":"IF(OR(C3643=\"\",$I3633=\"NSO\"),\"\",VLOOKUP($A3628,'Result Entry'!$B$9:$EQ$108,25,0))","v":0},{"$f":"IF(OR(C3643=\"\",$I3633=\"NSO\"),\"\",VLOOKUP($A3628,'Result Entry'!$B$9:$EQ$108,26,0))","v":0},{"$f":"IF(OR(C3643=\"\",$I3633=\"NSO\"),\"\",VLOOKUP($A3628,'Result Entry'!$B$9:$EQ$108,27,0))","v":0},{"$f":"IF(OR(C3643=\"\",$I3633=\"NSO\"),\"\",VLOOKUP($A3628,'Result Entry'!$B$9:$EQ$108,32,0))","v":0},0,{"$f":"IF(OR(C3643=\"\",$I3633=\"NSO\"),\"\",VLOOKUP($A3628,'Result Entry'!$B$9:$EQ$108,36,0))","v":0},{"$f":"SUM(I3643,J3643)","v":0},null,{"$f":"IF(OR(C3643=\"\",$I3633=\"NSO\"),\"\",VLOOKUP($A3628,'Result Entry'!$B$9:$EQ$108,39,0))","v":""}]
[null,"◐",{"$f":"'Result Entry'!$BD$3","v":"Env. Study"},null,{"$f":"IF(OR(C3644=\"\",$I3633=\"NSO\"),\"\",VLOOKUP($A3628,'Result Entry'!$B$9:$EQ$108,55,0))","v":0},{"$f":"IF(OR(C3644=\"\",$I3633=\"NSO\"),\"\",VLOOKUP($A3628,'Result Entry'!$B$9:$EQ$108,56,0))","v":0},{"$f":"IF(OR(C3644=\"\",$I3633=\"NSO\"),\"\",VLOOKUP($A3628,'Result Entry'!$B$9:$EQ$108,57,0))","v":0},{"$f":"IF(OR(C3642=\"\",$I3633=\"NSO\"),\"\",VLOOKUP($A3628,'Result Entry'!$B$9:$EQ$108,62,0))","v":0},0,{"$f":"IF(OR(C3643=\"\",$I3633=\"NSO\"),\"\",VLOOKUP($A3628,'Result Entry'!$B$9:$EQ$108,66,0))","v":0},0,null,{"$f":"IF(OR(C3643=\"\",$I3633=\"NSO\"),\"\",VLOOKUP($A3628,'Result Entry'!$B$9:$EQ$108,69,0))","v":""}]
[null,"◐","Max. Marks",null,{"$f":"'Result Entry'!$AO$7","v":5},{"$f":"'Result Entry'!$AP$7","v":5},{"$f":"'Result Entry'!$AQ$7","v":5},{"$f":"'Result Entry'!$AV$7","v":35},50,{"$f":"'Result Entry'!$AZ$7","v":50},100,null,"A+/A/B/C/D"]
[null,"◐",{"$f":"'Result Entry'!$AO$3","v":"English"},null,{"$f":"IF(OR(C3646=\"\",$I3633=\"NSO\"),\"\",VLOOKUP($A3628,'Result Entry'!$B$9:$EQ$108,40,0))","v":0},{"$f":"IF(OR(C3646=\"\",$I3633=\"NSO\"),\"\",VLOOKUP($A3628,'Result Entry'!$B$9:$EQ$108,41,0))","v":0},{"$f":"IF(OR(C3646=\"\",$I3633=\"NSO\"),\"\",VLOOKUP($A3628,'Result Entry'!$B$9:$EQ$108,42,0))","v":0},{"$f":"IF(OR(C3646=\"\",$I3633=\"NSO\"),\"\",VLOOKUP($A3628,'Result Entry'!$B$9:$EQ$108,47,0))","v":0},0,{"$f":"IF(OR(C3646=\"\",$I3633=\"NSO\"),\"\",VLOOKUP($A3628,'Result Entry'!$B$9:$EQ$108,51,0))","v":0},0,null,{"$f":"IF(OR(C3646=\"\",$I3633=\"NSO\"),\"\",VLOOKUP($A3628,'Result Entry'!$B$9:$EQ$108,54,0))","v":""}]
[null,"◐","Max. Marks",null,{"$f":"'Result Entry'!$BS$7","v":10},{"$f":"'Result Entry'!$BT$7","v":10},{"$f":"'Result Entry'!$BU$7","v":10},{"$f":"'Result Entry'!$BZ$7","v":70},{"$f":"SUM(E3647:H3647)","v":100},{"$f":"'Result Entry'!$CD$7","v":100},200,null,"A+/A/B/C/D"]
[null,"◐",{"$f":"'Result Entry'!$BS$3","v":"Sanskrit/Urdu"},null,{"$f":"IF(OR(C3648=\"\",$I3633=\"NSO\"),\"\",VLOOKUP($A3628,'Result Entry'!$B$9:$EQ$108,70,0))","v":0},{"$f":"IF(OR(C3648=\"\",$I3633=\"NSO\"),\"\",VLOOKUP($A3628,'Result Entry'!$B$9:$EQ$108,71,0))","v":0},{"$f":"IF(OR(C3648=\"\",$I3633=\"NSO\"),\"\",VLOOKUP($A3628,'Result Entry'!$B$9:$EQ$108,72,0))","v":0},{"$f":"IF(OR(C3648=\"\",$I3633=\"NSO\"),\"\",VLOOKUP($A3628,'Result Entry'!$B$9:$EQ$108,77,0))","v":0},{"$f":"SUM(E3648:H3648)","v":0},{"$f":"IF(OR(C3648=\"\",$I3633=\"NSO\"),\"\",VLOOKUP($A3628,'Result Entry'!$B$9:$EQ$108,81,0))","v":0},0,null,{"$f":"IF(OR(C3648=\"\",$I3633=\"NSO\"),\"\",VLOOKUP($A3628,'Result Entry'!$B$9:$EQ$108,84,0))","v":""}]
[null,"◐"]
[null,"◐","Overall Result",null,null,"Total Max. Marks",null,"Total Obtained Marks",null,"Percentage","Overall Grade","Result","Position in Class"]
[null,"◐",{"$nulls":3},{"$f":"IF(OR($I3633=\"\",$I3633=\"NSO\"),\"\",VLOOKUP($A3628,'Result Entry'!$B$9:$EQ$108,120,0))","v":900},null,{"$f":"IF(OR($I3633=\"\",$I3633=\"NSO\"),\"\",VLOOKUP($A3628,'Result Entry'!$B$9:$EQ$108,121,0))","v":0},null,{"$f":"IF(OR($I3633=\"\",$I3633=\"NSO\"),\"\",VLOOKUP($A3628,'Result Entry'!$B$9:$EQ$108,122,0))","v":{"v":0,"d":"0.00"}},{"$f":"IF(OR($I3633=\"\",$I3633=\"NSO\"),\"\",VLOOKUP($A3628,'Result Entry'!$B$9:$EQ$108,123,0))","v":""},{"$f":"IF(OR($I3633=\"\",$I3633=\"NSO\"),\"\",VLOOKUP($A3628,'Result Entry'!$B$9:$EQ$108,124,0))","v":""},{"$f":"IF(OR($I3633=\"\",$I3633=\"NSO\"),\"\",VLOOKUP($A3628,'Result Entry'!$B$9:$EQ$108,126,0))","v":""}]
[null,"◐",{"$nulls":6},"Total Meetings :-",null,{"$f":"IF(OR($I3633=\"\",$I3633=\"NSO\"),\"\",VLOOKUP($A3628,'Result Entry'!$B$9:$EQ$108,117,0))","v":0},"Attedance %"]
[null,"◐","Extra Subjects",{"$nulls":5},"Student's Meetings :-",null,{"$f":"IF(OR($I3633=\"\",$I3633=\"NSO\"),\"\",VLOOKUP($A3628,'Result Entry'!$B$9:$EQ$108,118,0))","v":0},{"$f":"IF(OR($I3633=\"\",$I3633=\"NSO\"),\"\",VLOOKUP($A3628,'Result Entry'!$B$9:$EQ$108,119,0))","v":""}]
[null,"◐","Subject",null,null,"Total Marks",null,"GRADE","Remark :-",null,{"$f":"IF(OR($I3633=\"\",$I3633=\"NSO\"),\"\",VLOOKUP($A3628,'Result Entry'!$B$9:$EQ$108,127,0))","v":0}]
[null,"◐",{"$f":"'Result Entry'!$CH$3","v":"WORK EXP."},null,null,{"$f":"IF(OR(C3655=\"\",$I3633=\"NSO\"),\"\",VLOOKUP($A3628,'Result Entry'!$B$9:$EQ$108,138,0))","v":"0/100"},null,{"$f":"IF(OR(C3655=\"\",$I3633=\"NSO\"),\"\",VLOOKUP($A3628,'Result Entry'!$B$9:$EQ$108,92,0))","v":""},"Result Date :-",null,{"$f":"'Result Entry'!$U$2","v":"2024-05-07"}]
[null,"◐",{"$f":"'Result Entry'!$CP$3","v":"ART EDU."},null,null,{"$f":"IF(OR(C3656=\"\",$I3633=\"NSO\"),\"\",VLOOKUP($A3628,'Result Entry'!$B$9:$EQ$108,142,0))","v":"0/100"},null,{"$f":"IF(OR(C3656=\"\",$I3633=\"NSO\"),\"\",VLOOKUP($A3628,'Result Entry'!$B$9:$EQ$108,100,0))","v":""}]
[null,null,{"$f":"'Result Entry'!$CX$3","v":"H&P. EDU."},null,null,{"$f":"IF(OR(C3657=\"\",$I3633=\"NSO\"),\"\",VLOOKUP($A3628,'Result Entry'!$B$9:$EQ$108,146,0))","v":"0/0"},null,{"$f":"IF(OR(C3657=\"\",$I3633=\"NSO\"),\"\",VLOOKUP($A3628,'Result Entry'!$B$9:$EQ$108,108,0))","v":""}]
[null,"◐",{"$f":"'Result Entry'!$DF$3","v":0},null,null,{"$f":"IF(OR(C3658=\"\",$I3633=\"NSO\"),\"\",VLOOKUP($A3628,'Result Entry'!$B$9:$EQ$108,131,0))","v":0},null,{"$f":"IF(OR(C3658=\"\",$I3633=\"NSO\"),\"\",VLOOKUP($A3628,'Result Entry'!$B$9:$EQ$108,97,0))","v":0},"Signature Of The Class Teacher"]
[null,"◐","Grading System"]
[null,"◐","Grd.","% Range",null,"Description"]
[null,"◐","A","86-100",null,"Excellent",null,null,"Signature And Seal Of Principal/H.M."]
[null,"◐","B","71-85",null,"Very Good"]
[null,"◐","C","51-70",null,"Good"]
[null,"◐","D","31-50",null,"Average"]
[null,"◐","E","0-30",null,"Needs Improvement",null,null,"Wish bright future"]
[]
[{"$f":"A3628+1","v":95},"Department Of Education, Rajasthan"]
[null,{"$f":"IF(I3672>0,CONCATENATE(C3672,I3672),0)","v":0},null,{"$f":"Master!$E$8","v":"Govt.Sr.Sec.Sch."}]
[{"$nulls":3},{"$f":"Master!$E$11","v":"P.S.-Bapini (Jodhpur)"}]
[null,null,"Report Card",{"$nulls":6},"U-DISE Code:-",null,{"$f":"Master!$E$14","v":{"v":810000000,"d":"0810000000"}}]
[{"$nulls":9},"Session:-",null,{"$f":"Master!$E$6","v":"2023-24"}]
[null,null,"Roll No.:-",{"$nulls":5},{"$f":"VLOOKUP($A3667,'Result Entry'!$B$9:$F$108,5,0)","v":0}]
[null,"◐","Scholar Number",{"$nulls":3},"↠",{"$f":"VLOOKUP($A3667,'Result Entry'!$B$9:$EQ$108,3,0)","v":0}]
[null,"◐","Student's Name",{"$nulls":3},"↠",{"$f":"VLOOKUP($A3667,'Result Entry'!$B$9:$EQ$108,6,0)","v":0}]
[null,"◐","Father's Name",{"$nulls":3},"↠",{"$f":"VLOOKUP($A3667,'Result Entry'!$B$9:$EQ$108,7,0)","v":0}]
[null,"◐","Mother's Name ",{"$nulls":3},"↠",{"$f":"VLOOKUP($A3667,'Result Entry'!$B$9:$EQ$108,8,0)","v":0}]
[null,"◐","Class & Section",{"$nulls":3},"↠",{"$f":"CONCATENATE('Result Entry'!$F$4,'Result Entry'!$I$4)","v":"2(A)"}]
[null,"◐","Date Of Birth",{"$nulls":3},"↠",{"$f":"VLOOKUP($A3667,'Result Entry'!$B$9:$EQ$108,9,0)","v":"00:00:00"}]
[null,"◐","Subject",null,{"$f":"'Result Entry'!$K$6","v":"First Test"},{"$f":"'Result Entry'!$L$6","v":"Second Test"},{"$f":"'Result Entry'!$M$6","v":"Third Test"},"Half Yearly","Total (Test+H.Y.)","Yearly","Grand Total",null,"Subject Grade"]
[null,"◐","Max. Marks",null,{"$f":"'Result Entry'!$K$7","v":10},{"$f":"'Result Entry'!$L$7","v":10},{"$f":"'Result Entry'!$M$7","v":10},{"$f":"'Result Entry'!$R$7","v":70},{"$f":"SUM(E3680:H3680)","v":100},{"$f":"'Result Entry'!$V$7","v":100},{"$f":"I3680+J3680","v":200},null,"A+/A/B/C/D"]
[null,"◐",{"$f":"'Result Entry'!$K$3","v":"Hindi"},null,{"$f":"IF(OR(C3681=\"\",$I3672=\"NSO\"),\"\",VLOOKUP($A3667,'Result Entry'!$B$9:$EQ$108,10,0))","v":0},{"$f":"IF(OR(C3681=\"\",$I3672=\"NSO\"),\"\",VLOOKUP($A3667,'Result Entry'!$B$9:$EQ$108,11,0))","v":0},{"$f":"IF(OR(C3681=\"\",$I3672=\"NSO\"),\"\",VLOOKUP($A3667,'Result Entry'!$B$9:$EQ$108,12,0))","v":0},{"$f":"IF(OR(C3681=\"\",$I3672=\"NSO\"),\"\",VLOOKUP($A3667,'Result Entry'!$B$9:$EQ$108,17,0))","v":0},{"$f":"SUM(E3681:H3681)","v":0},{"$f":"IF(OR(C3681=\"\",$I3672=\"NSO\"),\"\",VLOOKUP($A3667,'Result Entry'!$B$9:$EQ$108,21,0))","v":0},{"$f":"SUM(I3681,J3681)","v":0},null,{"$f":"IF(OR(C3681=\"\",$I3672=\"NSO\"),\"\",VLOOKUP($A3667,'Result Entry'!$B$9:$EQ$108,24,0))","v":""}]
[null,"◐",{"$f":"'Result Entry'!$Z$3","v":"Mathematics"},null,{"$f":"IF(OR(C3682=\"\",$I3672=\"NSO\"),\"\",VLOOKUP($A3667,'Result Entry'!$B$9:$EQ$108,25,0))","v":0},{"$f":"IF(OR(C3682=\"\",$I3672=\"NSO\"),\"\",VLOOKUP($A3667,'Result Entry'!$B$9:$EQ$108,26,0))","v":0},{"$f":"IF(OR(C3682=\"\",$I3672=\"NSO\"),\"\",VLOOKUP($A3667,'Result Entry'!$B$9:$EQ$108,27,0))","v":0},{"$f":"IF(OR(C3682=\"\",$I3672=\"NSO\"),\"\",VLOOKUP($A3667,'Result Entry'!$B$9:$EQ$108,32,0))","v":0},0,{"$f":"IF(OR(C3682=\"\",$I3672=\"NSO\"),\"\",VLOOKUP($A3667,'Result Entry'!$B$9:$EQ$108,36,0))","v":0},{"$f":"SUM(I3682,J3682)","v":0},null,{"$f":"IF(OR(C3682=\"\",$I3672=\"NSO\"),\"\",VLOOKUP($A3667,'Result Entry'!$B$9:$EQ$108,39,0))","v":""}]
[null,"◐",{"$f":"'Result Entry'!$BD$3","v":"Env. Study"},null,{"$f":"IF(OR(C3683=\"\",$I3672=\"NSO\"),\"\",VLOOKUP($A3667,'Result Entry'!$B$9:$EQ$108,55,0))","v":0},{"$f":"IF(OR(C3683=\"\",$I3672=\"NSO\"),\"\",VLOOKUP($A3667,'Result Entry'!$B$9:$EQ$108,56,0))","v":0},{"$f":"IF(OR(C3683=\"\",$I3672=\"NSO\"),\"\",VLOOKUP($A3667,'Result Entry'!$B$9:$EQ$108,57,0))","v":0},{"$f":"IF(OR(C3681=\"\",$I3672=\"NSO\"),\"\",VLOOKUP($A3667,'Result Entry'!$B$9:$EQ$108,62,0))","v":0},0,{"$f":"IF(OR(C3682=\"\",$I3672=\"NSO\"),\"\",VLOOKUP($A3667,'Result Entry'!$B$9:$EQ$108,66,0))","v":0},0,null,{"$f":"IF(OR(C3682=\"\",$I3672=\"NSO\"),\"\",VLOOKUP($A3667,'Result Entry'!$B$9:$EQ$108,69,0))","v":""}]
[null,"◐","Max. Marks",null,{"$f":"'Result Entry'!$AO$7","v":5},{"$f":"'Result Entry'!$AP$7","v":5},{"$f":"'Result Entry'!$AQ$7","v":5},{"$f":"'Result Entry'!$AV$7","v":35},50,{"$f":"'Result Entry'!$AZ$7","v":50},100,null,"A+/A/B/C/D"]
[null,"◐",{"$f":"'Result Entry'!$AO$3","v":"English"},null,{"$f":"IF(OR(C3685=\"\",$I3672=\"NSO\"),\"\",VLOOKUP($A3667,'Result Entry'!$B$9:$EQ$108,40,0))","v":0},{"$f":"IF(OR(C3685=\"\",$I3672=\"NSO\"),\"\",VLOOKUP($A3667,'Result Entry'!$B$9:$EQ$108,41,0))","v":0},{"$f":"IF(OR(C3685=\"\",$I3672=\"NSO\"),\"\",VLOOKUP($A3667,'Result Entry'!$B$9:$EQ$108,42,0))","v":0},{"$f":"IF(OR(C3685=\"\",$I3672=\"NSO\"),\"\",VLOOKUP($A3667,'Result Entry'!$B$9:$EQ$108,47,0))","v":0},0,{"$f":"IF(OR(C3685=\"\",$I3672=\"NSO\"),\"\",VLOOKUP($A3667,'Result Entry'!$B$9:$EQ$108,51,0))","v":0},0,null,{"$f":"IF(OR(C3685=\"\",$I3672=\"NSO\"),\"\",VLOOKUP($A3667,'Result Entry'!$B$9:$EQ$108,54,0))","v":""}]
[null,"◐","Max. Marks",null,{"$f":"'Result Entry'!$BS$7","v":10},{"$f":"'Result Entry'!$BT$7","v":10},{"$f":"'Result Entry'!$BU$7","v":10},{"$f":"'Result Entry'!$BZ$7","v":70},{"$f":"SUM(E3686:H3686)","v":100},{"$f":"'Result Entry'!$CD$7","v":100},200,null,"A+/A/B/C/D"]
[null,"◐",{"$f":"'Result Entry'!$BS$3","v":"Sanskrit/Urdu"},null,{"$f":"IF(OR(C3687=\"\",$I3672=\"NSO\"),\"\",VLOOKUP($A3667,'Result Entry'!$B$9:$EQ$108,70,0))","v":0},{"$f":"IF(OR(C3687=\"\",$I3672=\"NSO\"),\"\",VLOOKUP($A3667,'Result Entry'!$B$9:$EQ$108,71,0))","v":0},{"$f":"IF(OR(C3687=\"\",$I3672=\"NSO\"),\"\",VLOOKUP($A3667,'Result Entry'!$B$9:$EQ$108,72,0))","v":0},{"$f":"IF(OR(C3687=\"\",$I3672=\"NSO\"),\"\",VLOOKUP($A3667,'Result Entry'!$B$9:$EQ$108,77,0))","v":0},{"$f":"SUM(E3687:H3687)","v":0},{"$f":"IF(OR(C3687=\"\",$I3672=\"NSO\"),\"\",VLOOKUP($A3667,'Result Entry'!$B$9:$EQ$108,81,0))","v":0},0,null,{"$f":"IF(OR(C3687=\"\",$I3672=\"NSO\"),\"\",VLOOKUP($A3667,'Result Entry'!$B$9:$EQ$108,84,0))","v":""}]
[null,"◐"]
[null,"◐","Overall Result",null,null,"Total Max. Marks",null,"Total Obtained Marks",null,"Percentage","Overall Grade","Result","Position in Class"]
[null,"◐",{"$nulls":3},{"$f":"IF(OR($I3672=\"\",$I3672=\"NSO\"),\"\",VLOOKUP($A3667,'Result Entry'!$B$9:$EQ$108,120,0))","v":900},null,{"$f":"IF(OR($I3672=\"\",$I3672=\"NSO\"),\"\",VLOOKUP($A3667,'Result Entry'!$B$9:$EQ$108,121,0))","v":0},null,{"$f":"IF(OR($I3672=\"\",$I3672=\"NSO\"),\"\",VLOOKUP($A3667,'Result Entry'!$B$9:$EQ$108,122,0))","v":{"v":0,"d":"0.00"}},{"$f":"IF(OR($I3672=\"\",$I3672=\"NSO\"),\"\",VLOOKUP($A3667,'Result Entry'!$B$9:$EQ$108,123,0))","v":""},{"$f":"IF(OR($I3672=\"\",$I3672=\"NSO\"),\"\",VLOOKUP($A3667,'Result Entry'!$B$9:$EQ$108,124,0))","v":""},{"$f":"IF(OR($I3672=\"\",$I3672=\"NSO\"),\"\",VLOOKUP($A3667,'Result Entry'!$B$9:$EQ$108,126,0))","v":""}]
[null,"◐",{"$nulls":6},"Total Meetings :-",null,{"$f":"IF(OR($I3672=\"\",$I3672=\"NSO\"),\"\",VLOOKUP($A3667,'Result Entry'!$B$9:$EQ$108,117,0))","v":0},"Attedance %"]
[null,"◐","Extra Subjects",{"$nulls":5},"Student's Meetings :-",null,{"$f":"IF(OR($I3672=\"\",$I3672=\"NSO\"),\"\",VLOOKUP($A3667,'Result Entry'!$B$9:$EQ$108,118,0))","v":0},{"$f":"IF(OR($I3672=\"\",$I3672=\"NSO\"),\"\",VLOOKUP($A3667,'Result Entry'!$B$9:$EQ$108,119,0))","v":""}]
[null,"◐","Subject",null,null,"Total Marks",null,"GRADE","Remark :-",null,{"$f":"IF(OR($I3672=\"\",$I3672=\"NSO\"),\"\",VLOOKUP($A3667,'Result Entry'!$B$9:$EQ$108,127,0))","v":0}]
[null,"◐",{"$f":"'Result Entry'!$CH$3","v":"WORK EXP."},null,null,{"$f":"IF(OR(C3694=\"\",$I3672=\"NSO\"),\"\",VLOOKUP($A3667,'Result Entry'!$B$9:$EQ$108,138,0))","v":"0/100"},null,{"$f":"IF(OR(C3694=\"\",$I3672=\"NSO\"),\"\",VLOOKUP($A3667,'Result Entry'!$B$9:$EQ$108,92,0))","v":""},"Result Date :-",null,{"$f":"'Result Entry'!$U$2","v":"2024-05-07"}]
[null,"◐",{"$f":"'Result Entry'!$CP$3","v":"ART EDU."},null,null,{"$f":"IF(OR(C3695=\"\",$I3672=\"NSO\"),\"\",VLOOKUP($A3667,'Result Entry'!$B$9:$EQ$108,142,0))","v":"0/100"},null,{"$f":"IF(OR(C3695=\"\",$I3672=\"NSO\"),\"\",VLOOKUP($A3667,'Result Entry'!$B$9:$EQ$108,100,0))","v":""}]
[null,null,{"$f":"'Result Entry'!$CX$3","v":"H&P. EDU."},null,null,{"$f":"IF(OR(C3696=\"\",$I3672=\"NSO\"),\"\",VLOOKUP($A3667,'Result Entry'!$B$9:$EQ$108,146,0))","v":"0/0"},null,{"$f":"IF(OR(C3696=\"\",$I3672=\"NSO\"),\"\",VLOOKUP($A3667,'Result Entry'!$B$9:$EQ$108,108,0))","v":""}]
[null,"◐",{"$f":"'Result Entry'!$DF$3","v":0},null,null,{"$f":"IF(OR(C3697=\"\",$I3672=\"NSO\"),\"\",VLOOKUP($A3667,'Result Entry'!$B$9:$EQ$108,131,0))","v":0},null,{"$f":"IF(OR(C3697=\"\",$I3672=\"NSO\"),\"\",VLOOKUP($A3667,'Result Entry'!$B$9:$EQ$108,97,0))","v":0},"Signature Of The Class Teacher"]
[null,"◐","Grading System"]
[null,"◐","Grd.","% Range",null,"Description"]
[null,"◐","A","86-100",null,"Excellent",null,null,"Signature And Seal Of Principal/H.M."]
[null,"◐","B","71-85",null,"Very Good"]
[null,"◐","C","51-70",null,"Good"]
[null,"◐","D","31-50",null,"Average"]
[null,"◐","E","0-30",null,"Needs Improvement",null,null,"Wish bright future"]
[]
[{"$f":"A3667+1","v":96},"Department Of Education, Rajasthan"]
[null,{"$f":"IF(I3711>0,CONCATENATE(C3711,I3711),0)","v":0},null,{"$f":"Master!$E$8","v":"Govt.Sr.Sec.Sch."}]
[{"$nulls":3},{"$f":"Master!$E$11","v":"P.S.-Bapini (Jodhpur)"}]
[null,null,"Report Card",{"$nulls":6},"U-DISE Code:-",null,{"$f":"Master!$E$14","v":{"v":810000000,"d":"0810000000"}}]
[{"$nulls":9},"Session:-",null,{"$f":"Master!$E$6","v":"2023-24"}]
[null,null,"Roll No.:-",{"$nulls":5},{"$f":"VLOOKUP($A3706,'Result Entry'!$B$9:$F$108,5,0)","v":0}]
[null,"◐","Scholar Number",{"$nulls":3},"↠",{"$f":"VLOOKUP($A3706,'Result Entry'!$B$9:$EQ$108,3,0)","v":0}]
[null,"◐","Student's Name",{"$nulls":3},"↠",{"$f":"VLOOKUP($A3706,'Result Entry'!$B$9:$EQ$108,6,0)","v":0}]
[null,"◐","Father's Name",{"$nulls":3},"↠",{"$f":"VLOOKUP($A3706,'Result Entry'!$B$9:$EQ$108,7,0)","v":0}]
[null,"◐","Mother's Name ",{"$nulls":3},"↠",{"$f":"VLOOKUP($A3706,'Result Entry'!$B$9:$EQ$108,8,0)","v":0}]
[null,"◐","Class & Section",{"$nulls":3},"↠",{"$f":"CONCATENATE('Result Entry'!$F$4,'Result Entry'!$I$4)","v":"2(A)"}]
[null,"◐","Date Of Birth",{"$nulls":3},"↠",{"$f":"VLOOKUP($A3706,'Result Entry'!$B$9:$EQ$108,9,0)","v":"00:00:00"}]
[null,"◐","Subject",null,{"$f":"'Result Entry'!$K$6","v":"First Test"},{"$f":"'Result Entry'!$L$6","v":"Second Test"},{"$f":"'Result Entry'!$M$6","v":"Third Test"},"Half Yearly","Total (Test+H.Y.)","Yearly","Grand Total",null,"Subject Grade"]
[null,"◐","Max. Marks",null,{"$f":"'Result Entry'!$K$7","v":10},{"$f":"'Result Entry'!$L$7","v":10},{"$f":"'Result Entry'!$M$7","v":10},{"$f":"'Result Entry'!$R$7","v":70},{"$f":"SUM(E3719:H3719)","v":100},{"$f":"'Result Entry'!$V$7","v":100},{"$f":"I3719+J3719","v":200},null,"A+/A/B/C/D"]
[null,"◐",{"$f":"'Result Entry'!$K$3","v":"Hindi"},null,{"$f":"IF(OR(C3720=\"\",$I3711=\"NSO\"),\"\",VLOOKUP($A3706,'Result Entry'!$B$9:$EQ$108,10,0))","v":0},{"$f":"IF(OR(C3720=\"\",$I3711=\"NSO\"),\"\",VLOOKUP($A3706,'Result Entry'!$B$9:$EQ$108,11,0))","v":0},{"$f":"IF(OR(C3720=\"\",$I3711=\"NSO\"),\"\",VLOOKUP($A3706,'Result Entry'!$B$9:$EQ$108,12,0))","v":0},{"$f":"IF(OR(C3720=\"\",$I3711=\"NSO\"),\"\",VLOOKUP($A3706,'Result Entry'!$B$9:$EQ$108,17,0))","v":0},{"$f":"SUM(E3720:H3720)","v":0},{"$f":"IF(OR(C3720=\"\",$I3711=\"NSO\"),\"\",VLOOKUP($A3706,'Result Entry'!$B$9:$EQ$108,21,0))","v":0},{"$f":"SUM(I3720,J3720)","v":0},null,{"$f":"IF(OR(C3720=\"\",$I3711=\"NSO\"),\"\",VLOOKUP($A3706,'Result Entry'!$B$9:$EQ$108,24,0))","v":""}]
[null,"◐",{"$f":"'Result Entry'!$Z$3","v":"Mathematics"},null,{"$f":"IF(OR(C3721=\"\",$I3711=\"NSO\"),\"\",VLOOKUP($A3706,'Result Entry'!$B$9:$EQ$108,25,0))","v":0},{"$f":"IF(OR(C3721=\"\",$I3711=\"NSO\"),\"\",VLOOKUP($A3706,'Result Entry'!$B$9:$EQ$108,26,0))","v":0},{"$f":"IF(OR(C3721=\"\",$I3711=\"NSO\"),\"\",VLOOKUP($A3706,'Result Entry'!$B$9:$EQ$108,27,0))","v":0},{"$f":"IF(OR(C3721=\"\",$I3711=\"NSO\"),\"\",VLOOKUP($A3706,'Result Entry'!$B$9:$EQ$108,32,0))","v":0},0,{"$f":"IF(OR(C3721=\"\",$I3711=\"NSO\"),\"\",VLOOKUP($A3706,'Result Entry'!$B$9:$EQ$108,36,0))","v":0},{"$f":"SUM(I3721,J3721)","v":0},null,{"$f":"IF(OR(C3721=\"\",$I3711=\"NSO\"),\"\",VLOOKUP($A3706,'Result Entry'!$B$9:$EQ$108,39,0))","v":""}]
[null,"◐",{"$f":"'Result Entry'!$BD$3","v":"Env. Study"},null,{"$f":"IF(OR(C3722=\"\",$I3711=\"NSO\"),\"\",VLOOKUP($A3706,'Result Entry'!$B$9:$EQ$108,55,0))","v":0},{"$f":"IF(OR(C3722=\"\",$I3711=\"NSO\"),\"\",VLOOKUP($A3706,'Result Entry'!$B$9:$EQ$108,56,0))","v":0},{"$f":"IF(OR(C3722=\"\",$I3711=\"NSO\"),\"\",VLOOKUP($A3706,'Result Entry'!$B$9:$EQ$108,57,0))","v":0},{"$f":"IF(OR(C3720=\"\",$I3711=\"NSO\"),\"\",VLOOKUP($A3706,'Result Entry'!$B$9:$EQ$108,62,0))","v":0},0,{"$f":"IF(OR(C3721=\"\",$I3711=\"NSO\"),\"\",VLOOKUP($A3706,'Result Entry'!$B$9:$EQ$108,66,0))","v":0},0,null,{"$f":"IF(OR(C3721=\"\",$I3711=\"NSO\"),\"\",VLOOKUP($A3706,'Result Entry'!$B$9:$EQ$108,69,0))","v":""}]
[null,"◐","Max. Marks",null,{"$f":"'Result Entry'!$AO$7","v":5},{"$f":"'Result Entry'!$AP$7","v":5},{"$f":"'Result Entry'!$AQ$7","v":5},{"$f":"'Result Entry'!$AV$7","v":35},50,{"$f":"'Result Entry'!$AZ$7","v":50},100,null,"A+/A/B/C/D"]
[null,"◐",{"$f":"'Result Entry'!$AO$3","v":"English"},null,{"$f":"IF(OR(C3724=\"\",$I3711=\"NSO\"),\"\",VLOOKUP($A3706,'Result Entry'!$B$9:$EQ$108,40,0))","v":0},{"$f":"IF(OR(C3724=\"\",$I3711=\"NSO\"),\"\",VLOOKUP($A3706,'Result Entry'!$B$9:$EQ$108,41,0))","v":0},{"$f":"IF(OR(C3724=\"\",$I3711=\"NSO\"),\"\",VLOOKUP($A3706,'Result Entry'!$B$9:$EQ$108,42,0))","v":0},{"$f":"IF(OR(C3724=\"\",$I3711=\"NSO\"),\"\",VLOOKUP($A3706,'Result Entry'!$B$9:$EQ$108,47,0))","v":0},0,{"$f":"IF(OR(C3724=\"\",$I3711=\"NSO\"),\"\",VLOOKUP($A3706,'Result Entry'!$B$9:$EQ$108,51,0))","v":0},0,null,{"$f":"IF(OR(C3724=\"\",$I3711=\"NSO\"),\"\",VLOOKUP($A3706,'Result Entry'!$B$9:$EQ$108,54,0))","v":""}]
[null,"◐","Max. Marks",null,{"$f":"'Result Entry'!$BS$7","v":10},{"$f":"'Result Entry'!$BT$7","v":10},{"$f":"'Result Entry'!$BU$7","v":10},{"$f":"'Result Entry'!$BZ$7","v":70},{"$f":"SUM(E3725:H3725)","v":100},{"$f":"'Result Entry'!$CD$7","v":100},200,null,"A+/A/B/C/D"]
[null,"◐",{"$f":"'Result Entry'!$BS$3","v":"Sanskrit/Urdu"},null,{"$f":"IF(OR(C3726=\"\",$I3711=\"NSO\"),\"\",VLOOKUP($A3706,'Result Entry'!$B$9:$EQ$108,70,0))","v":0},{"$f":"IF(OR(C3726=\"\",$I3711=\"NSO\"),\"\",VLOOKUP($A3706,'Result Entry'!$B$9:$EQ$108,71,0))","v":0},{"$f":"IF(OR(C3726=\"\",$I3711=\"NSO\"),\"\",VLOOKUP($A3706,'Result Entry'!$B$9:$EQ$108,72,0))","v":0},{"$f":"IF(OR(C3726=\"\",$I3711=\"NSO\"),\"\",VLOOKUP($A3706,'Result Entry'!$B$9:$EQ$108,77,0))","v":0},{"$f":"SUM(E3726:H3726)","v":0},{"$f":"IF(OR(C3726=\"\",$I3711=\"NSO\"),\"\",VLOOKUP($A3706,'Result Entry'!$B$9:$EQ$108,81,0))","v":0},0,null,{"$f":"IF(OR(C3726=\"\",$I3711=\"NSO\"),\"\",VLOOKUP($A3706,'Result Entry'!$B$9:$EQ$108,84,0))","v":""}]
[null,"◐"]
[null,"◐","Overall Result",null,null,"Total Max. Marks",null,"Total Obtained Marks",null,"Percentage","Overall Grade","Result","Position in Class"]
[null,"◐",{"$nulls":3},{"$f":"IF(OR($I3711=\"\",$I3711=\"NSO\"),\"\",VLOOKUP($A3706,'Result Entry'!$B$9:$EQ$108,120,0))","v":900},null,{"$f":"IF(OR($I3711=\"\",$I3711=\"NSO\"),\"\",VLOOKUP($A3706,'Result Entry'!$B$9:$EQ$108,121,0))","v":0},null,{"$f":"IF(OR($I3711=\"\",$I3711=\"NSO\"),\"\",VLOOKUP($A3706,'Result Entry'!$B$9:$EQ$108,122,0))","v":{"v":0,"d":"0.00"}},{"$f":"IF(OR($I3711=\"\",$I3711=\"NSO\"),\"\",VLOOKUP($A3706,'Result Entry'!$B$9:$EQ$108,123,0))","v":""},{"$f":"IF(OR($I3711=\"\",$I3711=\"NSO\"),\"\",VLOOKUP($A3706,'Result Entry'!$B$9:$EQ$108,124,0))","v":""},{"$f":"IF(OR($I3711=\"\",$I3711=\"NSO\"),\"\",VLOOKUP($A3706,'Result Entry'!$B$9:$EQ$108,126,0))","v":""}]
[null,"◐",{"$nulls":6},"Total Meetings :-",null,{"$f":"IF(OR($I3711=\"\",$I3711=\"NSO\"),\"\",VLOOKUP($A3706,'Result Entry'!$B$9:$EQ$108,117,0))","v":0},"Attedance %"]
[null,"◐","Extra Subjects",{"$nulls":5},"Student's Meetings :-",null,{"$f":"IF(OR($I3711=\"\",$I3711=\"NSO\"),\"\",VLOOKUP($A3706,'Result Entry'!$B$9:$EQ$108,118,0))","v":0},{"$f":"IF(OR($I3711=\"\",$I3711=\"NSO\"),\"\",VLOOKUP($A3706,'Result Entry'!$B$9:$EQ$108,119,0))","v":""}]
[null,"◐","Subject",null,null,"Total Marks",null,"GRADE","Remark :-",null,{"$f":"IF(OR($I3711=\"\",$I3711=\"NSO\"),\"\",VLOOKUP($A3706,'Result Entry'!$B$9:$EQ$108,127,0))","v":0}]
[null,"◐",{"$f":"'Result Entry'!$CH$3","v":"WORK EXP."},null,null,{"$f":"IF(OR(C3733=\"\",$I3711=\"NSO\"),\"\",VLOOKUP($A3706,'Result Entry'!$B$9:$EQ$108,138,0))","v":"0/100"},null,{"$f":"IF(OR(C3733=\"\",$I3711=\"NSO\"),\"\",VLOOKUP($A3706,'Result Entry'!$B$9:$EQ$108,92,0))","v":""},"Result Date :-",null,{"$f":"'Result Entry'!$U$2","v":"2024-05-07"}]
[null,"◐",{"$f":"'Result Entry'!$CP$3","v":"ART EDU."},null,null,{"$f":"IF(OR(C3734=\"\",$I3711=\"NSO\"),\"\",VLOOKUP($A3706,'Result Entry'!$B$9:$EQ$108,142,0))","v":"0/100"},null,{"$f":"IF(OR(C3734=\"\",$I3711=\"NSO\"),\"\",VLOOKUP($A3706,'Result Entry'!$B$9:$EQ$108,100,0))","v":""}]
[null,null,{"$f":"'Result Entry'!$CX$3","v":"H&P. EDU."},null,null,{"$f":"IF(OR(C3735=\"\",$I3711=\"NSO\"),\"\",VLOOKUP($A3706,'Result Entry'!$B$9:$EQ$108,146,0))","v":"0/0"},null,{"$f":"IF(OR(C3735=\"\",$I3711=\"NSO\"),\"\",VLOOKUP($A3706,'Result Entry'!$B$9:$EQ$108,108,0))","v":""}]
[null,"◐",{"$f":"'Result Entry'!$DF$3","v":0},null,null,{"$f":"IF(OR(C3736=\"\",$I3711=\"NSO\"),\"\",VLOOKUP($A3706,'Result Entry'!$B$9:$EQ$108,131,0))","v":0},null,{"$f":"IF(OR(C3736=\"\",$I3711=\"NSO\"),\"\",VLOOKUP($A3706,'Result Entry'!$B$9:$EQ$108,97,0))","v":0},"Signature Of The Class Teacher"]
[null,"◐","Grading System"]
[null,"◐","Grd.","% Range",null,"Description"]
[null,"◐","A","86-100",null,"Excellent",null,null,"Signature And Seal Of Principal/H.M."]
[null,"◐","B","71-85",null,"Very Good"]
[null,"◐","C","51-70",null,"Good"]
[null,"◐","D","31-50",null,"Average"]
[null,"◐","E","0-30",null,"Needs Improvement",null,null,"Wish bright future"]
[]
[{"$f":"A3706+1","v":97},"Department Of Education, Rajasthan"]
[null,{"$f":"IF(I3750>0,CONCATENATE(C3750,I3750),0)","v":0},null,{"$f":"Master!$E$8","v":"Govt.Sr.Sec.Sch."}]
[{"$nulls":3},{"$f":"Master!$E$11","v":"P.S.-Bapini (Jodhpur)"}]
[null,null,"Report Card",{"$nulls":6},"U-DISE Code:-",null,{"$f":"Master!$E$14","v":{"v":810000000,"d":"0810000000"}}]
[{"$nulls":9},"Session:-",null,{"$f":"Master!$E$6","v":"2023-24"}]
[null,null,"Roll No.:-",{"$nulls":5},{"$f":"VLOOKUP($A3745,'Result Entry'!$B$9:$F$108,5,0)","v":0}]
[null,"◐","Scholar Number",{"$nulls":3},"↠",{"$f":"VLOOKUP($A3745,'Result Entry'!$B$9:$EQ$108,3,0)","v":0}]
[null,"◐","Student's Name",{"$nulls":3},"↠",{"$f":"VLOOKUP($A3745,'Result Entry'!$B$9:$EQ$108,6,0)","v":0}]
[null,"◐","Father's Name",{"$nulls":3},"↠",{"$f":"VLOOKUP($A3745,'Result Entry'!$B$9:$EQ$108,7,0)","v":0}]
[null,"◐","Mother's Name ",{"$nulls":3},"↠",{"$f":"VLOOKUP($A3745,'Result Entry'!$B$9:$EQ$108,8,0)","v":0}]
[null,"◐","Class & Section",{"$nulls":3},"↠",{"$f":"CONCATENATE('Result Entry'!$F$4,'Result Entry'!$I$4)","v":"2(A)"}]
[null,"◐","Date Of Birth",{"$nulls":3},"↠",{"$f":"VLOOKUP($A3745,'Result Entry'!$B$9:$EQ$108,9,0)","v":"00:00:00"}]
[null,"◐","Subject",null,{"$f":"'Result Entry'!$K$6","v":"First Test"},{"$f":"'Result Entry'!$L$6","v":"Second Test"},{"$f":"'Result Entry'!$M$6","v":"Third Test"},"Half Yearly","Total (Test+H.Y.)","Yearly","Grand Total",null,"Subject Grade"]
[null,"◐","Max. Marks",null,{"$f":"'Result Entry'!$K$7","v":10},{"$f":"'Result Entry'!$L$7","v":10},{"$f":"'Result Entry'!$M$7","v":10},{"$f":"'Result Entry'!$R$7","v":70},{"$f":"SUM(E3758:H3758)","v":100},{"$f":"'Result Entry'!$V$7","v":100},{"$f":"I3758+J3758","v":200},null,"A+/A/B/C/D"]
[null,"◐",{"$f":"'Result Entry'!$K$3","v":"Hindi"},null,{"$f":"IF(OR(C3759=\"\",$I3750=\"NSO\"),\"\",VLOOKUP($A3745,'Result Entry'!$B$9:$EQ$108,10,0))","v":0},{"$f":"IF(OR(C3759=\"\",$I3750=\"NSO\"),\"\",VLOOKUP($A3745,'Result Entry'!$B$9:$EQ$108,11,0))","v":0},{"$f":"IF(OR(C3759=\"\",$I3750=\"NSO\"),\"\",VLOOKUP($A3745,'Result Entry'!$B$9:$EQ$108,12,0))","v":0},{"$f":"IF(OR(C3759=\"\",$I3750=\"NSO\"),\"\",VLOOKUP($A3745,'Result Entry'!$B$9:$EQ$108,17,0))","v":0},{"$f":"SUM(E3759:H3759)","v":0},{"$f":"IF(OR(C3759=\"\",$I3750=\"NSO\"),\"\",VLOOKUP($A3745,'Result Entry'!$B$9:$EQ$108,21,0))","v":0},{"$f":"SUM(I3759,J3759)","v":0},null,{"$f":"IF(OR(C3759=\"\",$I3750=\"NSO\"),\"\",VLOOKUP($A3745,'Result Entry'!$B$9:$EQ$108,24,0))","v":""}]
[null,"◐",{"$f":"'Result Entry'!$Z$3","v":"Mathematics"},null,{"$f":"IF(OR(C3760=\"\",$I3750=\"NSO\"),\"\",VLOOKUP($A3745,'Result Entry'!$B$9:$EQ$108,25,0))","v":0},{"$f":"IF(OR(C3760=\"\",$I3750=\"NSO\"),\"\",VLOOKUP($A3745,'Result Entry'!$B$9:$EQ$108,26,0))","v":0},{"$f":"IF(OR(C3760=\"\",$I3750=\"NSO\"),\"\",VLOOKUP($A3745,'Result Entry'!$B$9:$EQ$108,27,0))","v":0},{"$f":"IF(OR(C3760=\"\",$I3750=\"NSO\"),\"\",VLOOKUP($A3745,'Result Entry'!$B$9:$EQ$108,32,0))","v":0},0,{"$f":"IF(OR(C3760=\"\",$I3750=\"NSO\"),\"\",VLOOKUP($A3745,'Result Entry'!$B$9:$EQ$108,36,0))","v":0},{"$f":"SUM(I3760,J3760)","v":0},null,{"$f":"IF(OR(C3760=\"\",$I3750=\"NSO\"),\"\",VLOOKUP($A3745,'Result Entry'!$B$9:$EQ$108,39,0))","v":""}]
[null,"◐",{"$f":"'Result Entry'!$BD$3","v":"Env. Study"},null,{"$f":"IF(OR(C3761=\"\",$I3750=\"NSO\"),\"\",VLOOKUP($A3745,'Result Entry'!$B$9:$EQ$108,55,0))","v":0},{"$f":"IF(OR(C3761=\"\",$I3750=\"NSO\"),\"\",VLOOKUP($A3745,'Result Entry'!$B$9:$EQ$108,56,0))","v":0},{"$f":"IF(OR(C3761=\"\",$I3750=\"NSO\"),\"\",VLOOKUP($A3745,'Result Entry'!$B$9:$EQ$108,57,0))","v":0},{"$f":"IF(OR(C3759=\"\",$I3750=\"NSO\"),\"\",VLOOKUP($A3745,'Result Entry'!$B$9:$EQ$108,62,0))","v":0},0,{"$f":"IF(OR(C3760=\"\",$I3750=\"NSO\"),\"\",VLOOKUP($A3745,'Result Entry'!$B$9:$EQ$108,66,0))","v":0},0,null,{"$f":"IF(OR(C3760=\"\",$I3750=\"NSO\"),\"\",VLOOKUP($A3745,'Result Entry'!$B$9:$EQ$108,69,0))","v":""}]
[null,"◐","Max. Marks",null,{"$f":"'Result Entry'!$AO$7","v":5},{"$f":"'Result Entry'!$AP$7","v":5},{"$f":"'Result Entry'!$AQ$7","v":5},{"$f":"'Result Entry'!$AV$7","v":35},50,{"$f":"'Result Entry'!$AZ$7","v":50},100,null,"A+/A/B/C/D"]
[null,"◐",{"$f":"'Result Entry'!$AO$3","v":"English"},null,{"$f":"IF(OR(C3763=\"\",$I3750=\"NSO\"),\"\",VLOOKUP($A3745,'Result Entry'!$B$9:$EQ$108,40,0))","v":0},{"$f":"IF(OR(C3763=\"\",$I3750=\"NSO\"),\"\",VLOOKUP($A3745,'Result Entry'!$B$9:$EQ$108,41,0))","v":0},{"$f":"IF(OR(C3763=\"\",$I3750=\"NSO\"),\"\",VLOOKUP($A3745,'Result Entry'!$B$9:$EQ$108,42,0))","v":0},{"$f":"IF(OR(C3763=\"\",$I3750=\"NSO\"),\"\",VLOOKUP($A3745,'Result Entry'!$B$9:$EQ$108,47,0))","v":0},0,{"$f":"IF(OR(C3763=\"\",$I3750=\"NSO\"),\"\",VLOOKUP($A3745,'Result Entry'!$B$9:$EQ$108,51,0))","v":0},0,null,{"$f":"IF(OR(C3763=\"\",$I3750=\"NSO\"),\"\",VLOOKUP($A3745,'Result Entry'!$B$9:$EQ$108,54,0))","v":""}]
[null,"◐","Max. Marks",null,{"$f":"'Result Entry'!$BS$7","v":10},{"$f":"'Result Entry'!$BT$7","v":10},{"$f":"'Result Entry'!$BU$7","v":10},{"$f":"'Result Entry'!$BZ$7","v":70},{"$f":"SUM(E3764:H3764)","v":100},{"$f":"'Result Entry'!$CD$7","v":100},200,null,"A+/A/B/C/D"]
[null,"◐",{"$f":"'Result Entry'!$BS$3","v":"Sanskrit/Urdu"},null,{"$f":"IF(OR(C3765=\"\",$I3750=\"NSO\"),\"\",VLOOKUP($A3745,'Result Entry'!$B$9:$EQ$108,70,0))","v":0},{"$f":"IF(OR(C3765=\"\",$I3750=\"NSO\"),\"\",VLOOKUP($A3745,'Result Entry'!$B$9:$EQ$108,71,0))","v":0},{"$f":"IF(OR(C3765=\"\",$I3750=\"NSO\"),\"\",VLOOKUP($A3745,'Result Entry'!$B$9:$EQ$108,72,0))","v":0},{"$f":"IF(OR(C3765=\"\",$I3750=\"NSO\"),\"\",VLOOKUP($A3745,'Result Entry'!$B$9:$EQ$108,77,0))","v":0},{"$f":"SUM(E3765:H3765)","v":0},{"$f":"IF(OR(C3765=\"\",$I3750=\"NSO\"),\"\",VLOOKUP($A3745,'Result Entry'!$B$9:$EQ$108,81,0))","v":0},0,null,{"$f":"IF(OR(C3765=\"\",$I3750=\"NSO\"),\"\",VLOOKUP($A3745,'Result Entry'!$B$9:$EQ$108,84,0))","v":""}]
[null,"◐"]
[null,"◐","Overall Result",null,null,"Total Max. Marks",null,"Total Obtained Marks",null,"Percentage","Overall Grade","Result","Position in Class"]
[null,"◐",{"$nulls":3},{"$f":"IF(OR($I3750=\"\",$I3750=\"NSO\"),\"\",VLOOKUP($A3745,'Result Entry'!$B$9:$EQ$108,120,0))","v":900},null,{"$f":"IF(OR($I3750=\"\",$I3750=\"NSO\"),\"\",VLOOKUP($A3745,'Result Entry'!$B$9:$EQ$108,121,0))","v":0},null,{"$f":"IF(OR($I3750=\"\",$I3750=\"NSO\"),\"\",VLOOKUP($A3745,'Result Entry'!$B$9:$EQ$108,122,0))","v":{"v":0,"d":"0.00"}},{"$f":"IF(OR($I3750=\"\",$I3750=\"NSO\"),\"\",VLOOKUP($A3745,'Result Entry'!$B$9:$EQ$108,123,0))","v":""},{"$f":"IF(OR($I3750=\"\",$I3750=\"NSO\"),\"\",VLOOKUP($A3745,'Result Entry'!$B$9:$EQ$108,124,0))","v":""},{"$f":"IF(OR($I3750=\"\",$I3750=\"NSO\"),\"\",VLOOKUP($A3745,'Result Entry'!$B$9:$EQ$108,126,0))","v":""}]
[null,"◐",{"$nulls":6},"Total Meetings :-",null,{"$f":"IF(OR($I3750=\"\",$I3750=\"NSO\"),\"\",VLOOKUP($A3745,'Result Entry'!$B$9:$EQ$108,117,0))","v":0},"Attedance %"]
[null,"◐","Extra Subjects",{"$nulls":5},"Student's Meetings :-",null,{"$f":"IF(OR($I3750=\"\",$I3750=\"NSO\"),\"\",VLOOKUP($A3745,'Result Entry'!$B$9:$EQ$108,118,0))","v":0},{"$f":"IF(OR($I3750=\"\",$I3750=\"NSO\"),\"\",VLOOKUP($A3745,'Result Entry'!$B$9:$EQ$108,119,0))","v":""}]
[null,"◐","Subject",null,null,"Total Marks",null,"GRADE","Remark :-",null,{"$f":"IF(OR($I3750=\"\",$I3750=\"NSO\"),\"\",VLOOKUP($A3745,'Result Entry'!$B$9:$EQ$108,127,0))","v":0}]
[null,"◐",{"$f":"'Result Entry'!$CH$3","v":"WORK EXP."},null,null,{"$f":"IF(OR(C3772=\"\",$I3750=\"NSO\"),\"\",VLOOKUP($A3745,'Result Entry'!$B$9:$EQ$108,138,0))","v":"0/100"},null,{"$f":"IF(OR(C3772=\"\",$I3750=\"NSO\"),\"\",VLOOKUP($A3745,'Result Entry'!$B$9:$EQ$108,92,0))","v":""},"Result Date :-",null,{"$f":"'Result Entry'!$U$2","v":"2024-05-07"}]
[null,"◐",{"$f":"'Result Entry'!$CP$3","v":"ART EDU."},null,null,{"$f":"IF(OR(C3773=\"\",$I3750=\"NSO\"),\"\",VLOOKUP($A3745,'Result Entry'!$B$9:$EQ$108,142,0))","v":"0/100"},null,{"$f":"IF(OR(C3773=\"\",$I3750=\"NSO\"),\"\",VLOOKUP($A3745,'Result Entry'!$B$9:$EQ$108,100,0))","v":""}]
[null,null,{"$f":"'Result Entry'!$CX$3","v":"H&P. EDU."},null,null,{"$f":"IF(OR(C3774=\"\",$I3750=\"NSO\"),\"\",VLOOKUP($A3745,'Result Entry'!$B$9:$EQ$108,146,0))","v":"0/0"},null,{"$f":"IF(OR(C3774=\"\",$I3750=\"NSO\"),\"\",VLOOKUP($A3745,'Result Entry'!$B$9:$EQ$108,108,0))","v":""}]
[null,"◐",{"$f":"'Result Entry'!$DF$3","v":0},null,null,{"$f":"IF(OR(C3775=\"\",$I3750=\"NSO\"),\"\",VLOOKUP($A3745,'Result Entry'!$B$9:$EQ$108,131,0))","v":0},null,{"$f":"IF(OR(C3775=\"\",$I3750=\"NSO\"),\"\",VLOOKUP($A3745,'Result Entry'!$B$9:$EQ$108,97,0))","v":0},"Signature Of The Class Teacher"]
[null,"◐","Grading System"]
[null,"◐","Grd.","% Range",null,"Description"]
[null,"◐","A","86-100",null,"Excellent",null,null,"Signature And Seal Of Principal/H.M."]
[null,"◐","B","71-85",null,"Very Good"]
[null,"◐","C","51-70",null,"Good"]
[null,"◐","D","31-50",null,"Average"]
[null,"◐","E","0-30",null,"Needs Improvement",null,null,"Wish bright future"]
[]
[{"$f":"A3745+1","v":98},"Department Of Education, Rajasthan"]
[null,{"$f":"IF(I3789>0,CONCATENATE(C3789,I3789),0)","v":0},null,{"$f":"Master!$E$8","v":"Govt.Sr.Sec.Sch."}]
[{"$nulls":3},{"$f":"Master!$E$11","v":"P.S.-Bapini (Jodhpur)"}]
[null,null,"Report Card",{"$nulls":6},"U-DISE Code:-",null,{"$f":"Master!$E$14","v":{"v":810000000,"d":"0810000000"}}]
[{"$nulls":9},"Session:-",null,{"$f":"Master!$E$6","v":"2023-24"}]
[null,null,"Roll No.:-",{"$nulls":5},{"$f":"VLOOKUP($A3784,'Result Entry'!$B$9:$F$108,5,0)","v":0}]
[null,"◐","Scholar Number",{"$nulls":3},"↠",{"$f":"VLOOKUP($A3784,'Result Entry'!$B$9:$EQ$108,3,0)","v":0}]
[null,"◐","Student's Name",{"$nulls":3},"↠",{"$f":"VLOOKUP($A3784,'Result Entry'!$B$9:$EQ$108,6,0)","v":0}]
[null,"◐","Father's Name",{"$nulls":3},"↠",{"$f":"VLOOKUP($A3784,'Result Entry'!$B$9:$EQ$108,7,0)","v":0}]
[null,"◐","Mother's Name ",{"$nulls":3},"↠",{"$f":"VLOOKUP($A3784,'Result Entry'!$B$9:$EQ$108,8,0)","v":0}]
[null,"◐","Class & Section",{"$nulls":3},"↠",{"$f":"CONCATENATE('Result Entry'!$F$4,'Result Entry'!$I$4)","v":"2(A)"}]
[null,"◐","Date Of Birth",{"$nulls":3},"↠",{"$f":"VLOOKUP($A3784,'Result Entry'!$B$9:$EQ$108,9,0)","v":"00:00:00"}]
[null,"◐","Subject",null,{"$f":"'Result Entry'!$K$6","v":"First Test"},{"$f":"'Result Entry'!$L$6","v":"Second Test"},{"$f":"'Result Entry'!$M$6","v":"Third Test"},"Half Yearly","Total (Test+H.Y.)","Yearly","Grand Total",null,"Subject Grade"]
[null,"◐","Max. Marks",null,{"$f":"'Result Entry'!$K$7","v":10},{"$f":"'Result Entry'!$L$7","v":10},{"$f":"'Result Entry'!$M$7","v":10},{"$f":"'Result Entry'!$R$7","v":70},{"$f":"SUM(E3797:H3797)","v":100},{"$f":"'Result Entry'!$V$7","v":100},{"$f":"I3797+J3797","v":200},null,"A+/A/B/C/D"]
[null,"◐",{"$f":"'Result Entry'!$K$3","v":"Hindi"},null,{"$f":"IF(OR(C3798=\"\",$I3789=\"NSO\"),\"\",VLOOKUP($A3784,'Result Entry'!$B$9:$EQ$108,10,0))","v":0},{"$f":"IF(OR(C3798=\"\",$I3789=\"NSO\"),\"\",VLOOKUP($A3784,'Result Entry'!$B$9:$EQ$108,11,0))","v":0},{"$f":"IF(OR(C3798=\"\",$I3789=\"NSO\"),\"\",VLOOKUP($A3784,'Result Entry'!$B$9:$EQ$108,12,0))","v":0},{"$f":"IF(OR(C3798=\"\",$I3789=\"NSO\"),\"\",VLOOKUP($A3784,'Result Entry'!$B$9:$EQ$108,17,0))","v":0},{"$f":"SUM(E3798:H3798)","v":0},{"$f":"IF(OR(C3798=\"\",$I3789=\"NSO\"),\"\",VLOOKUP($A3784,'Result Entry'!$B$9:$EQ$108,21,0))","v":0},{"$f":"SUM(I3798,J3798)","v":0},null,{"$f":"IF(OR(C3798=\"\",$I3789=\"NSO\"),\"\",VLOOKUP($A3784,'Result Entry'!$B$9:$EQ$108,24,0))","v":""}]
[null,"◐",{"$f":"'Result Entry'!$Z$3","v":"Mathematics"},null,{"$f":"IF(OR(C3799=\"\",$I3789=\"NSO\"),\"\",VLOOKUP($A3784,'Result Entry'!$B$9:$EQ$108,25,0))","v":0},{"$f":"IF(OR(C3799=\"\",$I3789=\"NSO\"),\"\",VLOOKUP($A3784,'Result Entry'!$B$9:$EQ$108,26,0))","v":0},{"$f":"IF(OR(C3799=\"\",$I3789=\"NSO\"),\"\",VLOOKUP($A3784,'Result Entry'!$B$9:$EQ$108,27,0))","v":0},{"$f":"IF(OR(C3799=\"\",$I3789=\"NSO\"),\"\",VLOOKUP($A3784,'Result Entry'!$B$9:$EQ$108,32,0))","v":0},0,{"$f":"IF(OR(C3799=\"\",$I3789=\"NSO\"),\"\",VLOOKUP($A3784,'Result Entry'!$B$9:$EQ$108,36,0))","v":0},{"$f":"SUM(I3799,J3799)","v":0},null,{"$f":"IF(OR(C3799=\"\",$I3789=\"NSO\"),\"\",VLOOKUP($A3784,'Result Entry'!$B$9:$EQ$108,39,0))","v":""}]
[null,"◐",{"$f":"'Result Entry'!$BD$3","v":"Env. Study"},null,{"$f":"IF(OR(C3800=\"\",$I3789=\"NSO\"),\"\",VLOOKUP($A3784,'Result Entry'!$B$9:$EQ$108,55,0))","v":0},{"$f":"IF(OR(C3800=\"\",$I3789=\"NSO\"),\"\",VLOOKUP($A3784,'Result Entry'!$B$9:$EQ$108,56,0))","v":0},{"$f":"IF(OR(C3800=\"\",$I3789=\"NSO\"),\"\",VLOOKUP($A3784,'Result Entry'!$B$9:$EQ$108,57,0))","v":0},{"$f":"IF(OR(C3798=\"\",$I3789=\"NSO\"),\"\",VLOOKUP($A3784,'Result Entry'!$B$9:$EQ$108,62,0))","v":0},0,{"$f":"IF(OR(C3799=\"\",$I3789=\"NSO\"),\"\",VLOOKUP($A3784,'Result Entry'!$B$9:$EQ$108,66,0))","v":0},0,null,{"$f":"IF(OR(C3799=\"\",$I3789=\"NSO\"),\"\",VLOOKUP($A3784,'Result Entry'!$B$9:$EQ$108,69,0))","v":""}]
[null,"◐","Max. Marks",null,{"$f":"'Result Entry'!$AO$7","v":5},{"$f":"'Result Entry'!$AP$7","v":5},{"$f":"'Result Entry'!$AQ$7","v":5},{"$f":"'Result Entry'!$AV$7","v":35},50,{"$f":"'Result Entry'!$AZ$7","v":50},100,null,"A+/A/B/C/D"]
[null,"◐",{"$f":"'Result Entry'!$AO$3","v":"English"},null,{"$f":"IF(OR(C3802=\"\",$I3789=\"NSO\"),\"\",VLOOKUP($A3784,'Result Entry'!$B$9:$EQ$108,40,0))","v":0},{"$f":"IF(OR(C3802=\"\",$I3789=\"NSO\"),\"\",VLOOKUP($A3784,'Result Entry'!$B$9:$EQ$108,41,0))","v":0},{"$f":"IF(OR(C3802=\"\",$I3789=\"NSO\"),\"\",VLOOKUP($A3784,'Result Entry'!$B$9:$EQ$108,42,0))","v":0},{"$f":"IF(OR(C3802=\"\",$I3789=\"NSO\"),\"\",VLOOKUP($A3784,'Result Entry'!$B$9:$EQ$108,47,0))","v":0},0,{"$f":"IF(OR(C3802=\"\",$I3789=\"NSO\"),\"\",VLOOKUP($A3784,'Result Entry'!$B$9:$EQ$108,51,0))","v":0},0,null,{"$f":"IF(OR(C3802=\"\",$I3789=\"NSO\"),\"\",VLOOKUP($A3784,'Result Entry'!$B$9:$EQ$108,54,0))","v":""}]
[null,"◐","Max. Marks",null,{"$f":"'Result Entry'!$BS$7","v":10},{"$f":"'Result Entry'!$BT$7","v":10},{"$f":"'Result Entry'!$BU$7","v":10},{"$f":"'Result Entry'!$BZ$7","v":70},{"$f":"SUM(E3803:H3803)","v":100},{"$f":"'Result Entry'!$CD$7","v":100},200,null,"A+/A/B/C/D"]
[null,"◐",{"$f":"'Result Entry'!$BS$3","v":"Sanskrit/Urdu"},null,{"$f":"IF(OR(C3804=\"\",$I3789=\"NSO\"),\"\",VLOOKUP($A3784,'Result Entry'!$B$9:$EQ$108,70,0))","v":0},{"$f":"IF(OR(C3804=\"\",$I3789=\"NSO\"),\"\",VLOOKUP($A3784,'Result Entry'!$B$9:$EQ$108,71,0))","v":0},{"$f":"IF(OR(C3804=\"\",$I3789=\"NSO\"),\"\",VLOOKUP($A3784,'Result Entry'!$B$9:$EQ$108,72,0))","v":0},{"$f":"IF(OR(C3804=\"\",$I3789=\"NSO\"),\"\",VLOOKUP($A3784,'Result Entry'!$B$9:$EQ$108,77,0))","v":0},{"$f":"SUM(E3804:H3804)","v":0},{"$f":"IF(OR(C3804=\"\",$I3789=\"NSO\"),\"\",VLOOKUP($A3784,'Result Entry'!$B$9:$EQ$108,81,0))","v":0},0,null,{"$f":"IF(OR(C3804=\"\",$I3789=\"NSO\"),\"\",VLOOKUP($A3784,'Result Entry'!$B$9:$EQ$108,84,0))","v":""}]
[null,"◐"]
[null,"◐","Overall Result",null,null,"Total Max. Marks",null,"Total Obtained Marks",null,"Percentage","Overall Grade","Result","Position in Class"]
[null,"◐",{"$nulls":3},{"$f":"IF(OR($I3789=\"\",$I3789=\"NSO\"),\"\",VLOOKUP($A3784,'Result Entry'!$B$9:$EQ$108,120,0))","v":900},null,{"$f":"IF(OR($I3789=\"\",$I3789=\"NSO\"),\"\",VLOOKUP($A3784,'Result Entry'!$B$9:$EQ$108,121,0))","v":0},null,{"$f":"IF(OR($I3789=\"\",$I3789=\"NSO\"),\"\",VLOOKUP($A3784,'Result Entry'!$B$9:$EQ$108,122,0))","v":{"v":0,"d":"0.00"}},{"$f":"IF(OR($I3789=\"\",$I3789=\"NSO\"),\"\",VLOOKUP($A3784,'Result Entry'!$B$9:$EQ$108,123,0))","v":""},{"$f":"IF(OR($I3789=\"\",$I3789=\"NSO\"),\"\",VLOOKUP($A3784,'Result Entry'!$B$9:$EQ$108,124,0))","v":""},{"$f":"IF(OR($I3789=\"\",$I3789=\"NSO\"),\"\",VLOOKUP($A3784,'Result Entry'!$B$9:$EQ$108,126,0))","v":""}]
[null,"◐",{"$nulls":6},"Total Meetings :-",null,{"$f":"IF(OR($I3789=\"\",$I3789=\"NSO\"),\"\",VLOOKUP($A3784,'Result Entry'!$B$9:$EQ$108,117,0))","v":0},"Attedance %"]
[null,"◐","Extra Subjects",{"$nulls":5},"Student's Meetings :-",null,{"$f":"IF(OR($I3789=\"\",$I3789=\"NSO\"),\"\",VLOOKUP($A3784,'Result Entry'!$B$9:$EQ$108,118,0))","v":0},{"$f":"IF(OR($I3789=\"\",$I3789=\"NSO\"),\"\",VLOOKUP($A3784,'Result Entry'!$B$9:$EQ$108,119,0))","v":""}]
[null,"◐","Subject",null,null,"Total Marks",null,"GRADE","Remark :-",null,{"$f":"IF(OR($I3789=\"\",$I3789=\"NSO\"),\"\",VLOOKUP($A3784,'Result Entry'!$B$9:$EQ$108,127,0))","v":0}]
[null,"◐",{"$f":"'Result Entry'!$CH$3","v":"WORK EXP."},null,null,{"$f":"IF(OR(C3811=\"\",$I3789=\"NSO\"),\"\",VLOOKUP($A3784,'Result Entry'!$B$9:$EQ$108,138,0))","v":"0/100"},null,{"$f":"IF(OR(C3811=\"\",$I3789=\"NSO\"),\"\",VLOOKUP($A3784,'Result Entry'!$B$9:$EQ$108,92,0))","v":""},"Result Date :-",null,{"$f":"'Result Entry'!$U$2","v":"2024-05-07"}]
[null,"◐",{"$f":"'Result Entry'!$CP$3","v":"ART EDU."},null,null,{"$f":"IF(OR(C3812=\"\",$I3789=\"NSO\"),\"\",VLOOKUP($A3784,'Result Entry'!$B$9:$EQ$108,142,0))","v":"0/100"},null,{"$f":"IF(OR(C3812=\"\",$I3789=\"NSO\"),\"\",VLOOKUP($A3784,'Result Entry'!$B$9:$EQ$108,100,0))","v":""}]
[null,null,{"$f":"'Result Entry'!$CX$3","v":"H&P. EDU."},null,null,{"$f":"IF(OR(C3813=\"\",$I3789=\"NSO\"),\"\",VLOOKUP($A3784,'Result Entry'!$B$9:$EQ$108,146,0))","v":"0/0"},null,{"$f":"IF(OR(C3813=\"\",$I3789=\"NSO\"),\"\",VLOOKUP($A3784,'Result Entry'!$B$9:$EQ$108,108,0))","v":""}]
[null,"◐",{"$f":"'Result Entry'!$DF$3","v":0},null,null,{"$f":"IF(OR(C3814=\"\",$I3789=\"NSO\"),\"\",VLOOKUP($A3784,'Result Entry'!$B$9:$EQ$108,131,0))","v":0},null,{"$f":"IF(OR(C3814=\"\",$I3789=\"NSO\"),\"\",VLOOKUP($A3784,'Result Entry'!$B$9:$EQ$108,97,0))","v":0},"Signature Of The Class Teacher"]
[null,"◐","Grading System"]
[null,"◐","Grd.","% Range",null,"Description"]
[null,"◐","A","86-100",null,"Excellent",null,null,"Signature And Seal Of Principal/H.M."]
[null,"◐","B","71-85",null,"Very Good"]
[null,"◐","C","51-70",null,"Good"]
[null,"◐","D","31-50",null,"Average"]
[null,"◐","E","0-30",null,"Needs Improvement",null,null,"Wish bright future"]
[]
[{"$f":"A3784+1","v":99},"Department Of Education, Rajasthan"]
[null,{"$f":"IF(I3828>0,CONCATENATE(C3828,I3828),0)","v":0},null,{"$f":"Master!$E$8","v":"Govt.Sr.Sec.Sch."}]
[{"$nulls":3},{"$f":"Master!$E$11","v":"P.S.-Bapini (Jodhpur)"}]
[null,null,"Report Card",{"$nulls":6},"U-DISE Code:-",null,{"$f":"Master!$E$14","v":{"v":810000000,"d":"0810000000"}}]
[{"$nulls":9},"Session:-",null,{"$f":"Master!$E$6","v":"2023-24"}]
[null,null,"Roll No.:-",{"$nulls":5},{"$f":"VLOOKUP($A3823,'Result Entry'!$B$9:$F$108,5,0)","v":0}]
[null,"◐","Scholar Number",{"$nulls":3},"↠",{"$f":"VLOOKUP($A3823,'Result Entry'!$B$9:$EQ$108,3,0)","v":0}]
[null,"◐","Student's Name",{"$nulls":3},"↠",{"$f":"VLOOKUP($A3823,'Result Entry'!$B$9:$EQ$108,6,0)","v":0}]
[null,"◐","Father's Name",{"$nulls":3},"↠",{"$f":"VLOOKUP($A3823,'Result Entry'!$B$9:$EQ$108,7,0)","v":0}]
[null,"◐","Mother's Name ",{"$nulls":3},"↠",{"$f":"VLOOKUP($A3823,'Result Entry'!$B$9:$EQ$108,8,0)","v":0}]
[null,"◐","Class & Section",{"$nulls":3},"↠",{"$f":"CONCATENATE('Result Entry'!$F$4,'Result Entry'!$I$4)","v":"2(A)"}]
[null,"◐","Date Of Birth",{"$nulls":3},"↠",{"$f":"VLOOKUP($A3823,'Result Entry'!$B$9:$EQ$108,9,0)","v":"00:00:00"}]
[null,"◐","Subject",null,{"$f":"'Result Entry'!$K$6","v":"First Test"},{"$f":"'Result Entry'!$L$6","v":"Second Test"},{"$f":"'Result Entry'!$M$6","v":"Third Test"},"Half Yearly","Total (Test+H.Y.)","Yearly","Grand Total",null,"Subject Grade"]
[null,"◐","Max. Marks",null,{"$f":"'Result Entry'!$K$7","v":10},{"$f":"'Result Entry'!$L$7","v":10},{"$f":"'Result Entry'!$M$7","v":10},{"$f":"'Result Entry'!$R$7","v":70},{"$f":"SUM(E3836:H3836)","v":100},{"$f":"'Result Entry'!$V$7","v":100},{"$f":"I3836+J3836","v":200},null,"A+/A/B/C/D"]
[null,"◐",{"$f":"'Result Entry'!$K$3","v":"Hindi"},null,{"$f":"IF(OR(C3837=\"\",$I3828=\"NSO\"),\"\",VLOOKUP($A3823,'Result Entry'!$B$9:$EQ$108,10,0))","v":0},{"$f":"IF(OR(C3837=\"\",$I3828=\"NSO\"),\"\",VLOOKUP($A3823,'Result Entry'!$B$9:$EQ$108,11,0))","v":0},{"$f":"IF(OR(C3837=\"\",$I3828=\"NSO\"),\"\",VLOOKUP($A3823,'Result Entry'!$B$9:$EQ$108,12,0))","v":0},{"$f":"IF(OR(C3837=\"\",$I3828=\"NSO\"),\"\",VLOOKUP($A3823,'Result Entry'!$B$9:$EQ$108,17,0))","v":0},{"$f":"SUM(E3837:H3837)","v":0},{"$f":"IF(OR(C3837=\"\",$I3828=\"NSO\"),\"\",VLOOKUP($A3823,'Result Entry'!$B$9:$EQ$108,21,0))","v":0},{"$f":"SUM(I3837,J3837)","v":0},null,{"$f":"IF(OR(C3837=\"\",$I3828=\"NSO\"),\"\",VLOOKUP($A3823,'Result Entry'!$B$9:$EQ$108,24,0))","v":""}]
[null,"◐",{"$f":"'Result Entry'!$Z$3","v":"Mathematics"},null,{"$f":"IF(OR(C3838=\"\",$I3828=\"NSO\"),\"\",VLOOKUP($A3823,'Result Entry'!$B$9:$EQ$108,25,0))","v":0},{"$f":"IF(OR(C3838=\"\",$I3828=\"NSO\"),\"\",VLOOKUP($A3823,'Result Entry'!$B$9:$EQ$108,26,0))","v":0},{"$f":"IF(OR(C3838=\"\",$I3828=\"NSO\"),\"\",VLOOKUP($A3823,'Result Entry'!$B$9:$EQ$108,27,0))","v":0},{"$f":"IF(OR(C3838=\"\",$I3828=\"NSO\"),\"\",VLOOKUP($A3823,'Result Entry'!$B$9:$EQ$108,32,0))","v":0},0,{"$f":"IF(OR(C3838=\"\",$I3828=\"NSO\"),\"\",VLOOKUP($A3823,'Result Entry'!$B$9:$EQ$108,36,0))","v":0},{"$f":"SUM(I3838,J3838)","v":0},null,{"$f":"IF(OR(C3838=\"\",$I3828=\"NSO\"),\"\",VLOOKUP($A3823,'Result Entry'!$B$9:$EQ$108,39,0))","v":""}]
[null,"◐",{"$f":"'Result Entry'!$BD$3","v":"Env. Study"},null,{"$f":"IF(OR(C3839=\"\",$I3828=\"NSO\"),\"\",VLOOKUP($A3823,'Result Entry'!$B$9:$EQ$108,55,0))","v":0},{"$f":"IF(OR(C3839=\"\",$I3828=\"NSO\"),\"\",VLOOKUP($A3823,'Result Entry'!$B$9:$EQ$108,56,0))","v":0},{"$f":"IF(OR(C3839=\"\",$I3828=\"NSO\"),\"\",VLOOKUP($A3823,'Result Entry'!$B$9:$EQ$108,57,0))","v":0},{"$f":"IF(OR(C3837=\"\",$I3828=\"NSO\"),\"\",VLOOKUP($A3823,'Result Entry'!$B$9:$EQ$108,62,0))","v":0},0,{"$f":"IF(OR(C3838=\"\",$I3828=\"NSO\"),\"\",VLOOKUP($A3823,'Result Entry'!$B$9:$EQ$108,66,0))","v":0},0,null,{"$f":"IF(OR(C3838=\"\",$I3828=\"NSO\"),\"\",VLOOKUP($A3823,'Result Entry'!$B$9:$EQ$108,69,0))","v":""}]
[null,"◐","Max. Marks",null,{"$f":"'Result Entry'!$AO$7","v":5},{"$f":"'Result Entry'!$AP$7","v":5},{"$f":"'Result Entry'!$AQ$7","v":5},{"$f":"'Result Entry'!$AV$7","v":35},50,{"$f":"'Result Entry'!$AZ$7","v":50},100,null,"A+/A/B/C/D"]
[null,"◐",{"$f":"'Result Entry'!$AO$3","v":"English"},null,{"$f":"IF(OR(C3841=\"\",$I3828=\"NSO\"),\"\",VLOOKUP($A3823,'Result Entry'!$B$9:$EQ$108,40,0))","v":0},{"$f":"IF(OR(C3841=\"\",$I3828=\"NSO\"),\"\",VLOOKUP($A3823,'Result Entry'!$B$9:$EQ$108,41,0))","v":0},{"$f":"IF(OR(C3841=\"\",$I3828=\"NSO\"),\"\",VLOOKUP($A3823,'Result Entry'!$B$9:$EQ$108,42,0))","v":0},{"$f":"IF(OR(C3841=\"\",$I3828=\"NSO\"),\"\",VLOOKUP($A3823,'Result Entry'!$B$9:$EQ$108,47,0))","v":0},0,{"$f":"IF(OR(C3841=\"\",$I3828=\"NSO\"),\"\",VLOOKUP($A3823,'Result Entry'!$B$9:$EQ$108,51,0))","v":0},0,null,{"$f":"IF(OR(C3841=\"\",$I3828=\"NSO\"),\"\",VLOOKUP($A3823,'Result Entry'!$B$9:$EQ$108,54,0))","v":""}]
[null,"◐","Max. Marks",null,{"$f":"'Result Entry'!$BS$7","v":10},{"$f":"'Result Entry'!$BT$7","v":10},{"$f":"'Result Entry'!$BU$7","v":10},{"$f":"'Result Entry'!$BZ$7","v":70},{"$f":"SUM(E3842:H3842)","v":100},{"$f":"'Result Entry'!$CD$7","v":100},200,null,"A+/A/B/C/D"]
[null,"◐",{"$f":"'Result Entry'!$BS$3","v":"Sanskrit/Urdu"},null,{"$f":"IF(OR(C3843=\"\",$I3828=\"NSO\"),\"\",VLOOKUP($A3823,'Result Entry'!$B$9:$EQ$108,70,0))","v":0},{"$f":"IF(OR(C3843=\"\",$I3828=\"NSO\"),\"\",VLOOKUP($A3823,'Result Entry'!$B$9:$EQ$108,71,0))","v":0},{"$f":"IF(OR(C3843=\"\",$I3828=\"NSO\"),\"\",VLOOKUP($A3823,'Result Entry'!$B$9:$EQ$108,72,0))","v":0},{"$f":"IF(OR(C3843=\"\",$I3828=\"NSO\"),\"\",VLOOKUP($A3823,'Result Entry'!$B$9:$EQ$108,77,0))","v":0},{"$f":"SUM(E3843:H3843)","v":0},{"$f":"IF(OR(C3843=\"\",$I3828=\"NSO\"),\"\",VLOOKUP($A3823,'Result Entry'!$B$9:$EQ$108,81,0))","v":0},0,null,{"$f":"IF(OR(C3843=\"\",$I3828=\"NSO\"),\"\",VLOOKUP($A3823,'Result Entry'!$B$9:$EQ$108,84,0))","v":""}]
[null,"◐"]
[null,"◐","Overall Result",null,null,"Total Max. Marks",null,"Total Obtained Marks",null,"Percentage","Overall Grade","Result","Position in Class"]
[null,"◐",{"$nulls":3},{"$f":"IF(OR($I3828=\"\",$I3828=\"NSO\"),\"\",VLOOKUP($A3823,'Result Entry'!$B$9:$EQ$108,120,0))","v":900},null,{"$f":"IF(OR($I3828=\"\",$I3828=\"NSO\"),\"\",VLOOKUP($A3823,'Result Entry'!$B$9:$EQ$108,121,0))","v":0},null,{"$f":"IF(OR($I3828=\"\",$I3828=\"NSO\"),\"\",VLOOKUP($A3823,'Result Entry'!$B$9:$EQ$108,122,0))","v":{"v":0,"d":"0.00"}},{"$f":"IF(OR($I3828=\"\",$I3828=\"NSO\"),\"\",VLOOKUP($A3823,'Result Entry'!$B$9:$EQ$108,123,0))","v":""},{"$f":"IF(OR($I3828=\"\",$I3828=\"NSO\"),\"\",VLOOKUP($A3823,'Result Entry'!$B$9:$EQ$108,124,0))","v":""},{"$f":"IF(OR($I3828=\"\",$I3828=\"NSO\"),\"\",VLOOKUP($A3823,'Result Entry'!$B$9:$EQ$108,126,0))","v":""}]
[null,"◐",{"$nulls":6},"Total Meetings :-",null,{"$f":"IF(OR($I3828=\"\",$I3828=\"NSO\"),\"\",VLOOKUP($A3823,'Result Entry'!$B$9:$EQ$108,117,0))","v":0},"Attedance %"]
[null,"◐","Extra Subjects",{"$nulls":5},"Student's Meetings :-",null,{"$f":"IF(OR($I3828=\"\",$I3828=\"NSO\"),\"\",VLOOKUP($A3823,'Result Entry'!$B$9:$EQ$108,118,0))","v":0},{"$f":"IF(OR($I3828=\"\",$I3828=\"NSO\"),\"\",VLOOKUP($A3823,'Result Entry'!$B$9:$EQ$108,119,0))","v":""}]
[null,"◐","Subject",null,null,"Total Marks",null,"GRADE","Remark :-",null,{"$f":"IF(OR($I3828=\"\",$I3828=\"NSO\"),\"\",VLOOKUP($A3823,'Result Entry'!$B$9:$EQ$108,127,0))","v":0}]
[null,"◐",{"$f":"'Result Entry'!$CH$3","v":"WORK EXP."},null,null,{"$f":"IF(OR(C3850=\"\",$I3828=\"NSO\"),\"\",VLOOKUP($A3823,'Result Entry'!$B$9:$EQ$108,138,0))","v":"0/100"},null,{"$f":"IF(OR(C3850=\"\",$I3828=\"NSO\"),\"\",VLOOKUP($A3823,'Result Entry'!$B$9:$EQ$108,92,0))","v":""},"Result Date :-",null,{"$f":"'Result Entry'!$U$2","v":"2024-05-07"}]
[null,"◐",{"$f":"'Result Entry'!$CP$3","v":"ART EDU."},null,null,{"$f":"IF(OR(C3851=\"\",$I3828=\"NSO\"),\"\",VLOOKUP($A3823,'Result Entry'!$B$9:$EQ$108,142,0))","v":"0/100"},null,{"$f":"IF(OR(C3851=\"\",$I3828=\"NSO\"),\"\",VLOOKUP($A3823,'Result Entry'!$B$9:$EQ$108,100,0))","v":""}]
[null,null,{"$f":"'Result Entry'!$CX$3","v":"H&P. EDU."},null,null,{"$f":"IF(OR(C3852=\"\",$I3828=\"NSO\"),\"\",VLOOKUP($A3823,'Result Entry'!$B$9:$EQ$108,146,0))","v":"0/0"},null,{"$f":"IF(OR(C3852=\"\",$I3828=\"NSO\"),\"\",VLOOKUP($A3823,'Result Entry'!$B$9:$EQ$108,108,0))","v":""}]
[null,"◐",{"$f":"'Result Entry'!$DF$3","v":0},null,null,{"$f":"IF(OR(C3853=\"\",$I3828=\"NSO\"),\"\",VLOOKUP($A3823,'Result Entry'!$B$9:$EQ$108,131,0))","v":0},null,{"$f":"IF(OR(C3853=\"\",$I3828=\"NSO\"),\"\",VLOOKUP($A3823,'Result Entry'!$B$9:$EQ$108,97,0))","v":0},"Signature Of The Class Teacher"]
[null,"◐","Grading System"]
[null,"◐","Grd.","% Range",null,"Description"]
[null,"◐","A","86-100",null,"Excellent",null,null,"Signature And Seal Of Principal/H.M."]
[null,"◐","B","71-85",null,"Very Good"]
[null,"◐","C","51-70",null,"Good"]
[null,"◐","D","31-50",null,"Average"]
[null,"◐","E","0-30",null,"Needs Improvement",null,null,"Wish bright future"]
[]
[{"$f":"A3823+1","v":100},"Department Of Education, Rajasthan"]
[null,{"$f":"IF(I3867>0,CONCATENATE(C3867,I3867),0)","v":0},null,{"$f":"Master!$E$8","v":"Govt.Sr.Sec.Sch."}]
[{"$nulls":3},{"$f":"Master!$E$11","v":"P.S.-Bapini (Jodhpur)"}]
[null,null,"Report Card",{"$nulls":6},"U-DISE Code:-",null,{"$f":"Master!$E$14","v":{"v":810000000,"d":"0810000000"}}]
[{"$nulls":9},"Session:-",null,{"$f":"Master!$E$6","v":"2023-24"}]
[null,null,"Roll No.:-",{"$nulls":5},{"$f":"VLOOKUP($A3862,'Result Entry'!$B$9:$F$108,5,0)","v":0}]
[null,"◐","Scholar Number",{"$nulls":3},"↠",{"$f":"VLOOKUP($A3862,'Result Entry'!$B$9:$EQ$108,3,0)","v":0}]
[null,"◐","Student's Name",{"$nulls":3},"↠",{"$f":"VLOOKUP($A3862,'Result Entry'!$B$9:$EQ$108,6,0)","v":0}]
[null,"◐","Father's Name",{"$nulls":3},"↠",{"$f":"VLOOKUP($A3862,'Result Entry'!$B$9:$EQ$108,7,0)","v":0}]
[null,"◐","Mother's Name ",{"$nulls":3},"↠",{"$f":"VLOOKUP($A3862,'Result Entry'!$B$9:$EQ$108,8,0)","v":0}]
[null,"◐","Class & Section",{"$nulls":3},"↠",{"$f":"CONCATENATE('Result Entry'!$F$4,'Result Entry'!$I$4)","v":"2(A)"}]
[null,"◐","Date Of Birth",{"$nulls":3},"↠",{"$f":"VLOOKUP($A3862,'Result Entry'!$B$9:$EQ$108,9,0)","v":"00:00:00"}]
[null,"◐","Subject",null,{"$f":"'Result Entry'!$K$6","v":"First Test"},{"$f":"'Result Entry'!$L$6","v":"Second Test"},{"$f":"'Result Entry'!$M$6","v":"Third Test"},"Half Yearly","Total (Test+H.Y.)","Yearly","Grand Total",null,"Subject Grade"]
[null,"◐","Max. Marks",null,{"$f":"'Result Entry'!$K$7","v":10},{"$f":"'Result Entry'!$L$7","v":10},{"$f":"'Result Entry'!$M$7","v":10},{"$f":"'Result Entry'!$R$7","v":70},{"$f":"SUM(E3875:H3875)","v":100},{"$f":"'Result Entry'!$V$7","v":100},{"$f":"I3875+J3875","v":200},null,"A+/A/B/C/D"]
[null,"◐",{"$f":"'Result Entry'!$K$3","v":"Hindi"},null,{"$f":"IF(OR(C3876=\"\",$I3867=\"NSO\"),\"\",VLOOKUP($A3862,'Result Entry'!$B$9:$EQ$108,10,0))","v":0},{"$f":"IF(OR(C3876=\"\",$I3867=\"NSO\"),\"\",VLOOKUP($A3862,'Result Entry'!$B$9:$EQ$108,11,0))","v":0},{"$f":"IF(OR(C3876=\"\",$I3867=\"NSO\"),\"\",VLOOKUP($A3862,'Result Entry'!$B$9:$EQ$108,12,0))","v":0},{"$f":"IF(OR(C3876=\"\",$I3867=\"NSO\"),\"\",VLOOKUP($A3862,'Result Entry'!$B$9:$EQ$108,17,0))","v":0},{"$f":"SUM(E3876:H3876)","v":0},{"$f":"IF(OR(C3876=\"\",$I3867=\"NSO\"),\"\",VLOOKUP($A3862,'Result Entry'!$B$9:$EQ$108,21,0))","v":0},{"$f":"SUM(I3876,J3876)","v":0},null,{"$f":"IF(OR(C3876=\"\",$I3867=\"NSO\"),\"\",VLOOKUP($A3862,'Result Entry'!$B$9:$EQ$108,24,0))","v":""}]
[null,"◐",{"$f":"'Result Entry'!$Z$3","v":"Mathematics"},null,{"$f":"IF(OR(C3877=\"\",$I3867=\"NSO\"),\"\",VLOOKUP($A3862,'Result Entry'!$B$9:$EQ$108,25,0))","v":0},{"$f":"IF(OR(C3877=\"\",$I3867=\"NSO\"),\"\",VLOOKUP($A3862,'Result Entry'!$B$9:$EQ$108,26,0))","v":0},{"$f":"IF(OR(C3877=\"\",$I3867=\"NSO\"),\"\",VLOOKUP($A3862,'Result Entry'!$B$9:$EQ$108,27,0))","v":0},{"$f":"IF(OR(C3877=\"\",$I3867=\"NSO\"),\"\",VLOOKUP($A3862,'Result Entry'!$B$9:$EQ$108,32,0))","v":0},0,{"$f":"IF(OR(C3877=\"\",$I3867=\"NSO\"),\"\",VLOOKUP($A3862,'Result Entry'!$B$9:$EQ$108,36,0))","v":0},{"$f":"SUM(I3877,J3877)","v":0},null,{"$f":"IF(OR(C3877=\"\",$I3867=\"NSO\"),\"\",VLOOKUP($A3862,'Result Entry'!$B$9:$EQ$108,39,0))","v":""}]
[null,"◐",{"$f":"'Result Entry'!$BD$3","v":"Env. Study"},null,{"$f":"IF(OR(C3878=\"\",$I3867=\"NSO\"),\"\",VLOOKUP($A3862,'Result Entry'!$B$9:$EQ$108,55,0))","v":0},{"$f":"IF(OR(C3878=\"\",$I3867=\"NSO\"),\"\",VLOOKUP($A3862,'Result Entry'!$B$9:$EQ$108,56,0))","v":0},{"$f":"IF(OR(C3878=\"\",$I3867=\"NSO\"),\"\",VLOOKUP($A3862,'Result Entry'!$B$9:$EQ$108,57,0))","v":0},{"$f":"IF(OR(C3876=\"\",$I3867=\"NSO\"),\"\",VLOOKUP($A3862,'Result Entry'!$B$9:$EQ$108,62,0))","v":0},0,{"$f":"IF(OR(C3877=\"\",$I3867=\"NSO\"),\"\",VLOOKUP($A3862,'Result Entry'!$B$9:$EQ$108,66,0))","v":0},0,null,{"$f":"IF(OR(C3877=\"\",$I3867=\"NSO\"),\"\",VLOOKUP($A3862,'Result Entry'!$B$9:$EQ$108,69,0))","v":""}]
[null,"◐","Max. Marks",null,{"$f":"'Result Entry'!$AO$7","v":5},{"$f":"'Result Entry'!$AP$7","v":5},{"$f":"'Result Entry'!$AQ$7","v":5},{"$f":"'Result Entry'!$AV$7","v":35},50,{"$f":"'Result Entry'!$AZ$7","v":50},100,null,"A+/A/B/C/D"]
[null,"◐",{"$f":"'Result Entry'!$AO$3","v":"English"},null,{"$f":"IF(OR(C3880=\"\",$I3867=\"NSO\"),\"\",VLOOKUP($A3862,'Result Entry'!$B$9:$EQ$108,40,0))","v":0},{"$f":"IF(OR(C3880=\"\",$I3867=\"NSO\"),\"\",VLOOKUP($A3862,'Result Entry'!$B$9:$EQ$108,41,0))","v":0},{"$f":"IF(OR(C3880=\"\",$I3867=\"NSO\"),\"\",VLOOKUP($A3862,'Result Entry'!$B$9:$EQ$108,42,0))","v":0},{"$f":"IF(OR(C3880=\"\",$I3867=\"NSO\"),\"\",VLOOKUP($A3862,'Result Entry'!$B$9:$EQ$108,47,0))","v":0},0,{"$f":"IF(OR(C3880=\"\",$I3867=\"NSO\"),\"\",VLOOKUP($A3862,'Result Entry'!$B$9:$EQ$108,51,0))","v":0},0,null,{"$f":"IF(OR(C3880=\"\",$I3867=\"NSO\"),\"\",VLOOKUP($A3862,'Result Entry'!$B$9:$EQ$108,54,0))","v":""}]
[null,"◐","Max. Marks",null,{"$f":"'Result Entry'!$BS$7","v":10},{"$f":"'Result Entry'!$BT$7","v":10},{"$f":"'Result Entry'!$BU$7","v":10},{"$f":"'Result Entry'!$BZ$7","v":70},{"$f":"SUM(E3881:H3881)","v":100},{"$f":"'Result Entry'!$CD$7","v":100},200,null,"A+/A/B/C/D"]
[null,"◐",{"$f":"'Result Entry'!$BS$3","v":"Sanskrit/Urdu"},null,{"$f":"IF(OR(C3882=\"\",$I3867=\"NSO\"),\"\",VLOOKUP($A3862,'Result Entry'!$B$9:$EQ$108,70,0))","v":0},{"$f":"IF(OR(C3882=\"\",$I3867=\"NSO\"),\"\",VLOOKUP($A3862,'Result Entry'!$B$9:$EQ$108,71,0))","v":0},{"$f":"IF(OR(C3882=\"\",$I3867=\"NSO\"),\"\",VLOOKUP($A3862,'Result Entry'!$B$9:$EQ$108,72,0))","v":0},{"$f":"IF(OR(C3882=\"\",$I3867=\"NSO\"),\"\",VLOOKUP($A3862,'Result Entry'!$B$9:$EQ$108,77,0))","v":0},{"$f":"SUM(E3882:H3882)","v":0},{"$f":"IF(OR(C3882=\"\",$I3867=\"NSO\"),\"\",VLOOKUP($A3862,'Result Entry'!$B$9:$EQ$108,81,0))","v":0},0,null,{"$f":"IF(OR(C3882=\"\",$I3867=\"NSO\"),\"\",VLOOKUP($A3862,'Result Entry'!$B$9:$EQ$108,84,0))","v":""}]
[null,"◐"]
[null,"◐","Overall Result",null,null,"Total Max. Marks",null,"Total Obtained Marks",null,"Percentage","Overall Grade","Result","Position in Class"]
[null,"◐",{"$nulls":3},{"$f":"IF(OR($I3867=\"\",$I3867=\"NSO\"),\"\",VLOOKUP($A3862,'Result Entry'!$B$9:$EQ$108,120,0))","v":900},null,{"$f":"IF(OR($I3867=\"\",$I3867=\"NSO\"),\"\",VLOOKUP($A3862,'Result Entry'!$B$9:$EQ$108,121,0))","v":0},null,{"$f":"IF(OR($I3867=\"\",$I3867=\"NSO\"),\"\",VLOOKUP($A3862,'Result Entry'!$B$9:$EQ$108,122,0))","v":{"v":0,"d":"0.00"}},{"$f":"IF(OR($I3867=\"\",$I3867=\"NSO\"),\"\",VLOOKUP($A3862,'Result Entry'!$B$9:$EQ$108,123,0))","v":""},{"$f":"IF(OR($I3867=\"\",$I3867=\"NSO\"),\"\",VLOOKUP($A3862,'Result Entry'!$B$9:$EQ$108,124,0))","v":""},{"$f":"IF(OR($I3867=\"\",$I3867=\"NSO\"),\"\",VLOOKUP($A3862,'Result Entry'!$B$9:$EQ$108,126,0))","v":""}]
[null,"◐",{"$nulls":6},"Total Meetings :-",null,{"$f":"IF(OR($I3867=\"\",$I3867=\"NSO\"),\"\",VLOOKUP($A3862,'Result Entry'!$B$9:$EQ$108,117,0))","v":0},"Attedance %"]
[null,"◐","Extra Subjects",{"$nulls":5},"Student's Meetings :-",null,{"$f":"IF(OR($I3867=\"\",$I3867=\"NSO\"),\"\",VLOOKUP($A3862,'Result Entry'!$B$9:$EQ$108,118,0))","v":0},{"$f":"IF(OR($I3867=\"\",$I3867=\"NSO\"),\"\",VLOOKUP($A3862,'Result Entry'!$B$9:$EQ$108,119,0))","v":""}]
[null,"◐","Subject",null,null,"Total Marks",null,"GRADE","Remark :-",null,{"$f":"IF(OR($I3867=\"\",$I3867=\"NSO\"),\"\",VLOOKUP($A3862,'Result Entry'!$B$9:$EQ$108,127,0))","v":0}]
[null,"◐",{"$f":"'Result Entry'!$CH$3","v":"WORK EXP."},null,null,{"$f":"IF(OR(C3889=\"\",$I3867=\"NSO\"),\"\",VLOOKUP($A3862,'Result Entry'!$B$9:$EQ$108,138,0))","v":"0/100"},null,{"$f":"IF(OR(C3889=\"\",$I3867=\"NSO\"),\"\",VLOOKUP($A3862,'Result Entry'!$B$9:$EQ$108,92,0))","v":""},"Result Date :-",null,{"$f":"'Result Entry'!$U$2","v":"2024-05-07"}]
[null,"◐",{"$f":"'Result Entry'!$CP$3","v":"ART EDU."},null,null,{"$f":"IF(OR(C3890=\"\",$I3867=\"NSO\"),\"\",VLOOKUP($A3862,'Result Entry'!$B$9:$EQ$108,142,0))","v":"0/100"},null,{"$f":"IF(OR(C3890=\"\",$I3867=\"NSO\"),\"\",VLOOKUP($A3862,'Result Entry'!$B$9:$EQ$108,100,0))","v":""}]
[null,null,{"$f":"'Result Entry'!$CX$3","v":"H&P. EDU."},null,null,{"$f":"IF(OR(C3891=\"\",$I3867=\"NSO\"),\"\",VLOOKUP($A3862,'Result Entry'!$B$9:$EQ$108,146,0))","v":"0/0"},null,{"$f":"IF(OR(C3891=\"\",$I3867=\"NSO\"),\"\",VLOOKUP($A3862,'Result Entry'!$B$9:$EQ$108,108,0))","v":""}]
[null,"◐",{"$f":"'Result Entry'!$DF$3","v":0},null,null,{"$f":"IF(OR(C3892=\"\",$I3867=\"NSO\"),\"\",VLOOKUP($A3862,'Result Entry'!$B$9:$EQ$108,131,0))","v":0},null,{"$f":"IF(OR(C3892=\"\",$I3867=\"NSO\"),\"\",VLOOKUP($A3862,'Result Entry'!$B$9:$EQ$108,97,0))","v":0},"Signature Of The Class Teacher"]
[null,"◐","Grading System"]
[null,"◐","Grd.","% Range",null,"Description"]
[null,"◐","A","86-100",null,"Excellent",null,null,"Signature And Seal Of Principal/H.M."]
[null,"◐","B","71-85",null,"Very Good"]
[null,"◐","C","51-70",null,"Good"]
[null,"◐","D","31-50",null,"Average"]
[null,"◐","E","0-30",null,"Needs Improvement",null,null,"Wish bright future"]