{"text_format":"3","workbook":"xlsx","n_sheets":3,"sheets":["BASIC DATA","SURRENDER ARREAR","EDITABLE  DEMO ARREAR SHEET"],"not_rendered":{"images":2,"defined_names":2},"read":"whole","date_system":"1900"}

{"sheet":"BASIC DATA","index":0,"n_rows":21,"n_cols":13,"rows_kept":21,"merged":[[0,0,0,9],[3,1,3,9],[4,1,4,9],[5,1,5,9],[7,0,7,1],[7,2,7,9]]}
["MADE BY:---भागीरथ मल कलवानियाँ कोलिया  अध्यापक L-1                      GSSS DASANA KHURD (डीडवाना-कुचामन)मोब न 9828789204  "]
[{"$nulls":4},"निर्देश"]
[]
[1,"BASIC DATA SHEET में GREEN कलर UNPROTECT सेल में जितने कर्मचारियों की एरियर बनाना है उतने कर्मचारियों का डाटा MANUALLY और DROP DOWN से SELECT कर फीड करे इसमें अधिकतम 10 EMLOYEE की  एरियर शीट बन सकती है जितने की आपको बनानी है एक्स्ट्रा ROW से डाटा DELETE कर दे या ROW को BLANK रहने दे "]
[2,"SURRENDER ARREAR  SHEET में भी जो GREEN COLOUR सेल UNPROTECT है उसमे अगर आवश्यक हो तो DATA फीड कर सकते हो नहीं तो 0 ही रहने दे  EXTRA ROW को PRINT लेने से पहले HIDE कर दे नहीं तो प्रिंट में EXTRA DATA भी SHOW होंगे,"]
[3,"प्रिंट लेने से पहले एरियर राशि की गणना चेक कर ले इसमें मेरी कोई व्यक्तिगत जिमेदारी नहीं होगी यह केवल आपकी सुविधा के लिए बनाई गई है                                                                                                           सुधार  के लिए कोई सुझाव हो तो जरूर देवे"]
[]
["OFFICE NAME",null,"PRINCIPAL GOVT.SEN.SEC.SCHOOL DASANA KHURD,MOULASAR (DEEDWANA-KUCHAMAN)"]
["S.NO","EMPLOYEE NAME","POST","DRAW  SURRENDER MONTH","DRAW  SURRENDER YEAR","BASIC SALARY","PAY DUE DA","DRAW DA","DA DIFFRENCE","INCOME TAX DEDUCTION %"]
[{"$f":"IFERROR(IF(B10=\"\",\"\",1),\"\")","v":1},"BHAGIRATH MAL","TEACHER","AUG",2023,69200,46,42,{"$f":"IFERROR(IF(G10-H10=0,\"\",G10-H10),\"\")","v":4},0,"JAN",31,2023]
[{"$f":"IFERROR(IF(B11=\"\",\"\",A10+1),\"\")","v":""},{"$nulls":7},{"$f":"IFERROR(IF(G11-H11=0,\"\",G11-H11),\"\")","v":""},null,"FEB",34,2024]
[{"$f":"IFERROR(IF(B12=\"\",\"\",A11+1),\"\")","v":""},{"$nulls":7},{"$f":"IFERROR(IF(G12-H12=0,\"\",G12-H12),\"\")","v":""},null,"MAR",38,2025]
["",{"$nulls":7},"",null,"APR",42,2026]
["",{"$nulls":7},"",null,"MAY",46,2027]
["",{"$nulls":7},"",null,"JUN",49,2028]
["",{"$nulls":7},"",null,"JUL",0,2029]
["",{"$nulls":7},"",null,"AUG",0,2030]
["",{"$nulls":7},"",null,"SEP",0]
["",{"$nulls":7},"",null,"OCT",0]
[{"$nulls":10},"NOV",0]
[{"$nulls":10},"DEC",0]

{"sheet":"SURRENDER ARREAR","index":1,"n_rows":21,"n_cols":19,"rows_kept":21,"merged":[[0,0,0,18],[1,0,1,18],[2,0,2,18],[3,0,4,0],[3,1,4,1],[3,2,4,2],[3,3,4,3],[3,4,3,6],[3,7,3,9],[3,10,3,12],[3,13,3,15],[3,16,4,16],[3,17,4,17],[3,18,4,18],[15,0,15,3],[17,6,17,7]]}
[{"$f":"'BASIC DATA'!A1:J1","v":"MADE BY:---भागीरथ मल कलवानियाँ कोलिया  अध्यापक L-1                      GSSS DASANA KHURD (डीडवाना-कुचामन)मोब न 9828789204  "}]
[{"$f":"'BASIC DATA'!C8","v":"PRINCIPAL GOVT.SEN.SEC.SCHOOL DASANA KHURD,MOULASAR (DEEDWANA-KUCHAMAN)"}]
["SURRENDER ARREAR DIFFERENCE SHEET "]
["S.NO","EPLOYEE NAME","POST"," SURRE.DRAW MONTH@YEAR","PAY DUE",null,null,"PAY DRAW",null,null,"PAY DIFFERENCE",null,null,"DEDUCTION GPF/GPF2004",null,null,"INCOME TAX","TOTAL DEDUCTION","NET PAYMENT"]
[{"$nulls":4},"PAY","DA","TOTAL","PAY","DA","TOTAL","PAY","DA","TOTAL","DUE","DEDUCT","DIFF."]
[{"$f":"IFERROR(IF(B6=\"\",\"\",1),\"\")","v":1},{"$f":"IFERROR(VLOOKUP('BASIC DATA'!$B10,'BASIC DATA'!$B$10:$J$19,1,0),\"\")","v":"BHAGIRATH MAL"},{"$f":"IFERROR(VLOOKUP('BASIC DATA'!$B10,'BASIC DATA'!$B$10:$J$19,2,0),\"\")","v":"TEACHER"},{"$f":"IFERROR(CONCATENATE('BASIC DATA'!D10,\" \",'BASIC DATA'!E10),\"\")","v":"AUG 2023"},{"$f":"IFERROR(VLOOKUP('BASIC DATA'!$B10,'BASIC DATA'!$B$10:$J$19,5,0),\"\")","v":69200},{"$f":"IFERROR(ROUND(E6*'BASIC DATA'!G10%,0),\"\")","v":31832},{"$f":"IFERROR(SUM(E6:F6),\"\")","v":101032},{"$f":"IFERROR(VLOOKUP('BASIC DATA'!$B10,'BASIC DATA'!$B$10:$J$19,5,0),\"\")","v":69200},{"$f":"IFERROR(ROUND(E6*'BASIC DATA'!H10%,0),\"\")","v":29064},{"$f":"IFERROR(SUM(H6:I6),\"\")","v":98264},{"$f":"IFERROR(E6-H6,\"\")","v":0},{"$f":"IFERROR(F6-I6,\"\")","v":2768},{"$f":"IFERROR(G6-J6,\"\")","v":2768},{"$f":"IFERROR(ROUND('BASIC DATA'!F10*'BASIC DATA'!I10%,0),\"\")","v":2768},0,{"$f":"IFERROR(N6-O6,\"\")","v":2768},{"$f":"IFERROR(IF('BASIC DATA'!J10=\"\",ROUND('SURRENDER ARREAR'!P6*'BASIC DATA'!J10%,0),ROUND('SURRENDER ARREAR'!P6*'BASIC DATA'!J10%,0)),\"\")","v":0},{"$f":"IFERROR(P6+Q6,\"\")","v":2768},{"$f":"IFERROR(M6-R6,\"\")","v":0}]
[{"$f":"IFERROR(IF(B7=\"\",\"\",A6+1),\"\")","v":""},{"$f":"IFERROR(VLOOKUP('BASIC DATA'!$B11,'BASIC DATA'!$B$10:$J$19,1,0),\"\")","v":""},{"$f":"IFERROR(VLOOKUP('BASIC DATA'!$B11,'BASIC DATA'!$B$10:$J$19,2,0),\"\")","v":""},{"$f":"IFERROR(CONCATENATE('BASIC DATA'!D11,\" \",'BASIC DATA'!E11),\"\")","v":" "},{"$f":"IFERROR(VLOOKUP('BASIC DATA'!$B11,'BASIC DATA'!$B$10:$J$19,5,0),\"\")","v":""},{"$f":"IFERROR(ROUND(E7*'BASIC DATA'!G11%,0),\"\")","v":""},{"$f":"IFERROR(SUM(E7:F7),\"\")","v":0},{"$f":"IFERROR(VLOOKUP('BASIC DATA'!$B11,'BASIC DATA'!$B$10:$J$19,5,0),\"\")","v":""},{"$f":"IFERROR(ROUND(E7*'BASIC DATA'!H11%,0),\"\")","v":""},{"$f":"IFERROR(SUM(H7:I7),\"\")","v":0},{"$f":"IFERROR(E7-H7,\"\")","v":""},{"$f":"IFERROR(F7-I7,\"\")","v":""},{"$f":"IFERROR(G7-J7,\"\")","v":0},{"$f":"IFERROR(ROUND('BASIC DATA'!F11*'BASIC DATA'!I11%,0),\"\")","v":""},0,{"$f":"IFERROR(N7-O7,\"\")","v":""},{"$f":"IFERROR(IF('BASIC DATA'!J11=\"\",ROUND('SURRENDER ARREAR'!P7*'BASIC DATA'!J11%,0),ROUND('SURRENDER ARREAR'!P7*'BASIC DATA'!J11%,0)),\"\")","v":""},{"$f":"IFERROR(P7+Q7,\"\")","v":""},""]
[{"$f":"IFERROR(IF(B8=\"\",\"\",A7+1),\"\")","v":""},{"$f":"IFERROR(VLOOKUP('BASIC DATA'!$B12,'BASIC DATA'!$B$10:$J$19,1,0),\"\")","v":""},{"$f":"IFERROR(VLOOKUP('BASIC DATA'!$B12,'BASIC DATA'!$B$10:$J$19,2,0),\"\")","v":""},{"$f":"IFERROR(CONCATENATE('BASIC DATA'!D12,\" \",'BASIC DATA'!E12),\"\")","v":" "},{"$f":"IFERROR(VLOOKUP('BASIC DATA'!$B12,'BASIC DATA'!$B$10:$J$19,5,0),\"\")","v":""},{"$f":"IFERROR(ROUND(E8*'BASIC DATA'!G12%,0),\"\")","v":""},0,{"$f":"IFERROR(VLOOKUP('BASIC DATA'!$B12,'BASIC DATA'!$B$10:$J$19,5,0),\"\")","v":""},{"$f":"IFERROR(ROUND(E8*'BASIC DATA'!H12%,0),\"\")","v":""},0,"","",0,{"$f":"IFERROR(ROUND('BASIC DATA'!F12*'BASIC DATA'!I12%,0),\"\")","v":""},0,"",{"$f":"IFERROR(IF('BASIC DATA'!J12=\"\",ROUND('SURRENDER ARREAR'!P8*'BASIC DATA'!J12%,0),ROUND('SURRENDER ARREAR'!P8*'BASIC DATA'!J12%,0)),\"\")","v":""},"",""]
["",{"$f":"IFERROR(VLOOKUP('BASIC DATA'!$B13,'BASIC DATA'!$B$10:$J$19,1,0),\"\")","v":""},{"$f":"IFERROR(VLOOKUP('BASIC DATA'!$B13,'BASIC DATA'!$B$10:$J$19,2,0),\"\")","v":""},{"$f":"IFERROR(CONCATENATE('BASIC DATA'!D13,\" \",'BASIC DATA'!E13),\"\")","v":" "},{"$f":"IFERROR(VLOOKUP('BASIC DATA'!$B13,'BASIC DATA'!$B$10:$J$19,5,0),\"\")","v":""},{"$f":"IFERROR(ROUND(E9*'BASIC DATA'!G13%,0),\"\")","v":""},0,{"$f":"IFERROR(VLOOKUP('BASIC DATA'!$B13,'BASIC DATA'!$B$10:$J$19,5,0),\"\")","v":""},{"$f":"IFERROR(ROUND(E9*'BASIC DATA'!H13%,0),\"\")","v":""},0,"","",0,{"$f":"IFERROR(ROUND('BASIC DATA'!F13*'BASIC DATA'!I13%,0),\"\")","v":""},0,"",{"$f":"IFERROR(IF('BASIC DATA'!J13=\"\",ROUND('SURRENDER ARREAR'!P9*'BASIC DATA'!J13%,0),ROUND('SURRENDER ARREAR'!P9*'BASIC DATA'!J13%,0)),\"\")","v":""},"",""]
["",{"$f":"IFERROR(VLOOKUP('BASIC DATA'!$B14,'BASIC DATA'!$B$10:$J$19,1,0),\"\")","v":""},{"$f":"IFERROR(VLOOKUP('BASIC DATA'!$B14,'BASIC DATA'!$B$10:$J$19,2,0),\"\")","v":""},{"$f":"IFERROR(CONCATENATE('BASIC DATA'!D14,\" \",'BASIC DATA'!E14),\"\")","v":" "},{"$f":"IFERROR(VLOOKUP('BASIC DATA'!$B14,'BASIC DATA'!$B$10:$J$19,5,0),\"\")","v":""},{"$f":"IFERROR(ROUND(E10*'BASIC DATA'!G14%,0),\"\")","v":""},0,{"$f":"IFERROR(VLOOKUP('BASIC DATA'!$B14,'BASIC DATA'!$B$10:$J$19,5,0),\"\")","v":""},{"$f":"IFERROR(ROUND(E10*'BASIC DATA'!H14%,0),\"\")","v":""},0,"","",0,{"$f":"IFERROR(ROUND('BASIC DATA'!F14*'BASIC DATA'!I14%,0),\"\")","v":""},0,"",{"$f":"IFERROR(IF('BASIC DATA'!J14=\"\",ROUND('SURRENDER ARREAR'!P10*'BASIC DATA'!J14%,0),ROUND('SURRENDER ARREAR'!P10*'BASIC DATA'!J14%,0)),\"\")","v":""},"",""]
["",{"$f":"IFERROR(VLOOKUP('BASIC DATA'!$B15,'BASIC DATA'!$B$10:$J$19,1,0),\"\")","v":""},{"$f":"IFERROR(VLOOKUP('BASIC DATA'!$B15,'BASIC DATA'!$B$10:$J$19,2,0),\"\")","v":""},{"$f":"IFERROR(CONCATENATE('BASIC DATA'!D15,\" \",'BASIC DATA'!E15),\"\")","v":" "},{"$f":"IFERROR(VLOOKUP('BASIC DATA'!$B15,'BASIC DATA'!$B$10:$J$19,5,0),\"\")","v":""},{"$f":"IFERROR(ROUND(E11*'BASIC DATA'!G15%,0),\"\")","v":""},0,{"$f":"IFERROR(VLOOKUP('BASIC DATA'!$B15,'BASIC DATA'!$B$10:$J$19,5,0),\"\")","v":""},{"$f":"IFERROR(ROUND(E11*'BASIC DATA'!H15%,0),\"\")","v":""},0,"","",0,{"$f":"IFERROR(ROUND('BASIC DATA'!F15*'BASIC DATA'!I15%,0),\"\")","v":""},0,"",{"$f":"IFERROR(IF('BASIC DATA'!J15=\"\",ROUND('SURRENDER ARREAR'!P11*'BASIC DATA'!J15%,0),ROUND('SURRENDER ARREAR'!P11*'BASIC DATA'!J15%,0)),\"\")","v":""},"",""]
["",{"$f":"IFERROR(VLOOKUP('BASIC DATA'!$B16,'BASIC DATA'!$B$10:$J$19,1,0),\"\")","v":""},{"$f":"IFERROR(VLOOKUP('BASIC DATA'!$B16,'BASIC DATA'!$B$10:$J$19,2,0),\"\")","v":""},{"$f":"IFERROR(CONCATENATE('BASIC DATA'!D16,\" \",'BASIC DATA'!E16),\"\")","v":" "},{"$f":"IFERROR(VLOOKUP('BASIC DATA'!$B16,'BASIC DATA'!$B$10:$J$19,5,0),\"\")","v":""},{"$f":"IFERROR(ROUND(E12*'BASIC DATA'!G16%,0),\"\")","v":""},0,{"$f":"IFERROR(VLOOKUP('BASIC DATA'!$B16,'BASIC DATA'!$B$10:$J$19,5,0),\"\")","v":""},{"$f":"IFERROR(ROUND(E12*'BASIC DATA'!H16%,0),\"\")","v":""},0,"","",0,{"$f":"IFERROR(ROUND('BASIC DATA'!F16*'BASIC DATA'!I16%,0),\"\")","v":""},0,"",{"$f":"IFERROR(IF('BASIC DATA'!J16=\"\",ROUND('SURRENDER ARREAR'!P12*'BASIC DATA'!J16%,0),ROUND('SURRENDER ARREAR'!P12*'BASIC DATA'!J16%,0)),\"\")","v":""},"",""]
["",{"$f":"IFERROR(VLOOKUP('BASIC DATA'!$B17,'BASIC DATA'!$B$10:$J$19,1,0),\"\")","v":""},{"$f":"IFERROR(VLOOKUP('BASIC DATA'!$B17,'BASIC DATA'!$B$10:$J$19,2,0),\"\")","v":""},{"$f":"IFERROR(CONCATENATE('BASIC DATA'!D17,\" \",'BASIC DATA'!E17),\"\")","v":" "},{"$f":"IFERROR(VLOOKUP('BASIC DATA'!$B17,'BASIC DATA'!$B$10:$J$19,5,0),\"\")","v":""},{"$f":"IFERROR(ROUND(E13*'BASIC DATA'!G17%,0),\"\")","v":""},0,{"$f":"IFERROR(VLOOKUP('BASIC DATA'!$B17,'BASIC DATA'!$B$10:$J$19,5,0),\"\")","v":""},{"$f":"IFERROR(ROUND(E13*'BASIC DATA'!H17%,0),\"\")","v":""},0,"","",0,{"$f":"IFERROR(ROUND('BASIC DATA'!F17*'BASIC DATA'!I17%,0),\"\")","v":""},0,"",{"$f":"IFERROR(IF('BASIC DATA'!J17=\"\",ROUND('SURRENDER ARREAR'!P13*'BASIC DATA'!J17%,0),ROUND('SURRENDER ARREAR'!P13*'BASIC DATA'!J17%,0)),\"\")","v":""},"",""]
["",{"$f":"IFERROR(VLOOKUP('BASIC DATA'!$B18,'BASIC DATA'!$B$10:$J$19,1,0),\"\")","v":""},{"$f":"IFERROR(VLOOKUP('BASIC DATA'!$B18,'BASIC DATA'!$B$10:$J$19,2,0),\"\")","v":""},{"$f":"IFERROR(CONCATENATE('BASIC DATA'!D18,\" \",'BASIC DATA'!E18),\"\")","v":" "},{"$f":"IFERROR(VLOOKUP('BASIC DATA'!$B18,'BASIC DATA'!$B$10:$J$19,5,0),\"\")","v":""},{"$f":"IFERROR(ROUND(E14*'BASIC DATA'!G18%,0),\"\")","v":""},0,{"$f":"IFERROR(VLOOKUP('BASIC DATA'!$B18,'BASIC DATA'!$B$10:$J$19,5,0),\"\")","v":""},{"$f":"IFERROR(ROUND(E14*'BASIC DATA'!H18%,0),\"\")","v":""},0,"","",0,{"$f":"IFERROR(ROUND('BASIC DATA'!F18*'BASIC DATA'!I18%,0),\"\")","v":""},0,"",{"$f":"IFERROR(IF('BASIC DATA'!J18=\"\",ROUND('SURRENDER ARREAR'!P14*'BASIC DATA'!J18%,0),ROUND('SURRENDER ARREAR'!P14*'BASIC DATA'!J18%,0)),\"\")","v":""},"",""]
["",{"$f":"IFERROR(VLOOKUP('BASIC DATA'!$B19,'BASIC DATA'!$B$10:$J$19,1,0),\"\")","v":""},{"$f":"IFERROR(VLOOKUP('BASIC DATA'!$B19,'BASIC DATA'!$B$10:$J$19,2,0),\"\")","v":""},{"$f":"IFERROR(CONCATENATE('BASIC DATA'!D19,\" \",'BASIC DATA'!E19),\"\")","v":" "},{"$f":"IFERROR(VLOOKUP('BASIC DATA'!$B19,'BASIC DATA'!$B$10:$J$19,5,0),\"\")","v":""},{"$f":"IFERROR(ROUND(E15*'BASIC DATA'!G19%,0),\"\")","v":""},0,{"$f":"IFERROR(VLOOKUP('BASIC DATA'!$B19,'BASIC DATA'!$B$10:$J$19,5,0),\"\")","v":""},{"$f":"IFERROR(ROUND(E15*'BASIC DATA'!H19%,0),\"\")","v":""},0,"","",0,{"$f":"IFERROR(ROUND('BASIC DATA'!F19*'BASIC DATA'!I19%,0),\"\")","v":""},0,"",{"$f":"IFERROR(IF('BASIC DATA'!J19=\"\",ROUND('SURRENDER ARREAR'!P15*'BASIC DATA'!J19%,0),ROUND('SURRENDER ARREAR'!P15*'BASIC DATA'!J19%,0)),\"\")","v":""},"",""]
["TOTAL",{"$nulls":3},{"$f":"_xlfn.AGGREGATE(9,7,E6:E15)","v":69200},31832,101032,69200,29064,98264,0,2768,2768,2768,0,2768,0,2768,0]
[]
[{"$nulls":6},"IN WORDS :-",null,"Rs-------------------------------------------------------------------------Only"]
[]
[]
[{"$nulls":16},"SIGN OF DDO WITH SEAL"]

{"sheet":"EDITABLE  DEMO ARREAR SHEET","index":2,"n_rows":22,"n_cols":19,"rows_kept":22,"merged":[[0,0,0,18],[1,0,1,18],[2,0,2,18],[3,0,4,0],[3,1,4,1],[3,2,4,2],[3,3,4,3],[3,4,3,6],[3,7,3,9],[3,10,3,12],[3,13,3,15],[3,16,4,16],[3,17,4,17],[3,18,4,18],[15,0,15,3]]}
[{"$f":"'BASIC DATA'!A1","v":"MADE BY:---भागीरथ मल कलवानियाँ कोलिया  अध्यापक L-1                      GSSS DASANA KHURD (डीडवाना-कुचामन)मोब न 9828789204  "}]
[{"$f":"'SURRENDER ARREAR'!A2","v":"PRINCIPAL GOVT.SEN.SEC.SCHOOL DASANA KHURD,MOULASAR (DEEDWANA-KUCHAMAN)"}]
["SURRENDER ARREAR DIFFERENCE SHEET "]
["S.NO","EPLOYEE NAME","POST"," SURRE.DRAW MONTH@YEAR","PAY DUE",null,null,"PAY DRAW",null,null,"PAY DIFFERENCE",null,null,"DEDUCTION GPF/GPF2004",null,null,"INCOME TAX","TOTAL DEDUCTION","NET PAYMENT"]
[{"$nulls":4},"PAY","DA","TOTAL","PAY","DA","TOTAL","PAY","DA","TOTAL","DUE","DEDUCT","DIFF."]
[1,"BHAGIRATH MAL ","TEACHER","2023-08-01",69200,30000,{"$f":"SUM(E6:F6)","v":99200},69200,29000,{"$f":"SUM(H6:I6)","v":98200},{"$f":"E6-H6","v":0},{"$f":"F6-I6","v":1000},{"$f":"G6-J6","v":1000},{"$f":"F6-I6","v":1000},0,{"$f":"N6-O6","v":1000},0,{"$f":"P6+Q6","v":1000},{"$f":"M6-R6","v":0}]
[{"$nulls":6},{"$f":"SUM(E7:F7)","v":0},null,null,{"$f":"SUM(H7:I7)","v":0},{"$f":"E7-H7","v":0},{"$f":"F7-I7","v":0},{"$f":"G7-J7","v":0},{"$f":"F7-I7","v":0},null,{"$f":"N7-O7","v":0},null,{"$f":"P7+Q7","v":0},{"$f":"M7-R7","v":0}]
[{"$nulls":6},0,null,null,0,0,0,0,0,null,0,null,0,0]
[{"$nulls":6},0,null,null,0,0,0,0,0,null,0,null,0,0]
[{"$nulls":6},0,null,null,0,0,0,0,0,null,0,null,0,0]
[{"$nulls":6},0,null,null,0,0,0,0,0,null,0,null,0,0]
[{"$nulls":6},0,null,null,0,0,0,0,0,null,0,null,0,0]
[{"$nulls":6},0,null,null,0,0,0,0,0,null,0,null,0,0]
[{"$nulls":6},0,null,null,0,0,0,0,0,null,0,null,0,0]
[{"$nulls":6},0,null,null,0,0,0,0,0,null,0,null,0,0]
["TOTAL",{"$nulls":3},{"$f":"_xlfn.AGGREGATE(9,7,E6:E15)","v":69200},{"$f":"_xlfn.AGGREGATE(9,7,F6:F15)","v":30000},{"$f":"_xlfn.AGGREGATE(9,7,G6:G15)","v":99200},{"$f":"_xlfn.AGGREGATE(9,7,H6:H15)","v":69200},{"$f":"_xlfn.AGGREGATE(9,7,I6:I15)","v":29000},{"$f":"_xlfn.AGGREGATE(9,7,J6:J15)","v":98200},{"$f":"_xlfn.AGGREGATE(9,7,K6:K15)","v":0},{"$f":"_xlfn.AGGREGATE(9,7,L6:L15)","v":1000},{"$f":"_xlfn.AGGREGATE(9,7,M6:M15)","v":1000},{"$f":"_xlfn.AGGREGATE(9,7,N6:N15)","v":1000},{"$f":"_xlfn.AGGREGATE(9,7,O6:O15)","v":0},{"$f":"_xlfn.AGGREGATE(9,7,P6:P15)","v":1000},{"$f":"_xlfn.AGGREGATE(9,7,Q6:Q15)","v":0},{"$f":"_xlfn.AGGREGATE(9,7,R6:R15)","v":1000},{"$f":"_xlfn.AGGREGATE(9,7,S6:S15)","v":0}]
[]
[{"$nulls":4},"IN WORDS :-",null,"Rs-------------------------------------------------------------------------Only"]
[]
[]
[]
[{"$nulls":14},"SIGN OF DDO WITH SEAL"]