{"text_format":"3","workbook":"xlsx","n_sheets":39,"sheets":["Info","Master","Cover Page","forwarding letter","abc","Format 1A","Format 1B","Format 1C","Summary","sharansh","A","Formet 8","Formet 9","GA2","GA3","9 (GA-4)"," Formet 10","Namankan","01 Salary","P-2","P 3","P 4(A)","(1) Prapatra kh","Pending TA-Med List","Scholership","PL Encash","Liveries","Fix Pay","Fix Pay NPS","DA AREAR","Sanvida","Income","Vardi","7th pay fix. arr.","vidhyarthimitra","P-14","P-7","P-5","Bonus Calc."],"not_rendered":{"images":1,"external_links":3,"defined_names":25,"comments":1},"read":"whole","date_system":"1900"}

{"sheet":"Info","index":0,"n_rows":7,"n_cols":6,"rows_kept":7,"merged":[[0,0,0,6],[1,0,4,0],[1,1,1,5],[1,6,4,6],[2,1,2,3],[2,5,3,5],[3,1,3,2],[3,4,4,4],[4,1,4,3],[5,1,5,3],[6,1,6,5],[7,1,7,6]]}
[]
[null,"Updated On : 30-08-2023"]
[{"$nulls":5},"Programmer"]
[null,"              Youtube Help Video  ☞            (Please subscribe my channel)"]
[]
[null,"सहायक बिंदु:- \n1. सर्वप्रथम \"Master\" शीट में विद्यालय का नाम तथा अन्य आवश्यक पूर्तियां करें.\n2. बजट प्रस्ताव के अधिकांश प्रपत्र स्वत: निर्मित हो जायेंगे कुछ प्रपत्र में कुछ पूर्तियां मनुअली पूर्ति करें.\n3. पद नाम तथा उनका संख्यात्मक विवर केवल Format 1A में एडिट करें.\n4. हिंदी में Devlys 010 फॉण्ट को ही प्राथमिकता देवें.\n5. यह बजट प्रस्ताव अधिक कार्मिकों वाले बजट हेड (जैसे पीडी मद-CBEO कार्यालय) के लिए भी उपयोग में लिया जा सकता है.\n6. किसी प्रपत्र को प्रिंट करने से पूर्व अवांछित Rows अथवा Columns को आवश्यकतानुसार Hide कर सकते हैं.",{"$nulls":3},"UMMED TARAD Email id-ummedtrdedu@gmail.com"]
[null,"नोट:- हालाँकि यह प्रोग्राम पूर्ण सावधानी से बनाया गया है, फिर भी किसी प्रकार की त्रुटी की स्थिति में आपके विवेक का इस्तेमाल करें l इसे अंतिम रूप देने से पहले इसे भली-भांति रूप अवश्य जाँच लेवेंl"]

{"sheet":"Master","index":1,"n_rows":457,"n_cols":107,"rows_kept":457,"merged":[[0,2,0,3],[0,4,0,6],[0,7,0,10],[0,11,0,13],[1,2,1,3],[1,4,1,6],[1,7,1,10],[1,12,1,13],[2,2,2,3],[2,4,2,5],[2,6,2,7],[2,8,2,10],[2,12,2,13],[3,2,3,3],[3,4,3,5],[3,6,3,7],[3,8,3,10],[3,12,3,13],[4,2,4,3],[4,4,4,5],[4,6,4,10],[4,12,4,13],[5,2,5,10],[5,11,6,13],[6,2,8,2],[6,3,8,3],[6,4,7,4],[6,5,6,10],[7,7,7,9],[7,11,9,13],[32,2,32,13],[33,2,35,2],[33,3,35,3],[33,4,33,13],[34,4,34,6],[34,8,34,10],[34,11,35,11],[34,12,35,12],[34,13,35,13],[44,2,45,12],[46,2,48,2],[46,3,46,6],[46,7,48,7],[46,8,46,11],[46,12,48,12],[47,3,47,4],[47,5,47,6],[47,8,47,9],[47,10,47,11],[54,2,54,12],[55,2,55,12],[57,2,58,2],[57,3,58,3],[57,4,58,4],[57,5,58,5],[57,6,58,6],[57,7,58,7],[57,8,58,8],[57,9,58,9],[57,10,58,10],[57,11,58,11],[57,12,58,12],[57,30,58,30],[57,31,57,38],[57,43,58,43],[57,44,57,51],[57,56,58,56],[57,57,57,64],[57,69,58,69],[57,70,57,77],[57,82,58,82],[57,83,57,90],[57,95,58,95],[57,96,57,103],[285,2,285,12],[286,2,287,2],[286,3,287,3],[286,4,287,4],[286,5,287,5],[286,12,287,12],[329,2,329,12],[330,2,331,2],[330,3,331,3],[330,4,331,4],[330,5,331,5],[330,12,331,12],[373,2,375,12]]}
[null,null,"dk;kZy; dk uke ¼vaxzsth esa½ %",null,"Principal ",null,null,"Govt. Sr. Sec. School Raimalwada"]
[null,null,"dk;kZy; dk uke ¼fgUnh esa½ %",null,{"$f":"IF(E1=\"Principal \",\"ç/kkukpk;Z]\",\"eq[; CykWd f'k{kk vf/kdkjh]\")","v":"ç/kkukpk;Z]"},null,null,"jkmekfo jk;eyok³k",{"$nulls":3},"ys[kk 'kk[kk dkfeZd ¼v½"]
[null,null,"vkWfQl vkbZ-Mh- la[;k %",null,12345,null,"laLFkk iz/kku dk uke%&",{"$nulls":4},"eksckbZy ua- %&",{"$nulls":18},"ctV en"]
[null,null,"ctV vuqeku fofÙk; o\"kZ %",null,"2023-24",null,"eksckbZy ua- %&",{"$nulls":4},"ys[kk 'kk[kk dkfeZd ¼c½",{"$nulls":22},"NON PLAN - GIRLS","2202-02-109-(28)-(01) (STATE FUND)","2202 -सामान्य शिक्षा-02-109 -राजकीय माध्यमिक विद्यालय-28 -बालिका विद्यालय-01 -बालिका विद्यालयों का संचालन व्यय (STATE FUND)"]
[null,null,"ctV en %",null,"PLAN (RMSA) - 01",null,{"$f":"VLOOKUP(E5,AI4:AN35,2,FALSE)","v":"2202-02-109-(07)-(01) (STATE FUND+CENTRAL ASS.)"},{"$nulls":4},"eksckbZy ua- %&",{"$nulls":22},"NON PLAN - BOYS","2202-02-109-(27)-(01) STATE FUND","2202 -सामान्य शिक्षा-02-109 -राजकीय माध्यमिक विद्यालय-27 -लडकों के विद्यालय-01 -लडकों के विद्यालयों का संचालन व्यय   (STATE FUND)"]
[null,null,"okLrfod O;; ds vkadMksa dh uhps izfof\"B djsa A",{"$nulls":8},"              Youtube Help Video  ↓            (Please subscribe my channel)",{"$nulls":22},"NON PLAN (TRIBAL AREA) - BOYS","2202-02-796-(02)-(06) (STATE FUND)","2202 -सामान्य शिक्षा-02-796 -जनजातीय क्षेत्र उपयोजना-02 -राजकीय माध्यमिक विद्यालय-06 -लडकों के विद्यालय का संचालन व्यय (STATE FUND)"]
[null,null,"Ø-la-","foLr`r ys[kk 'kh\"kZd","ctV vkoaVu\n¼pkyw o\"kZ½","okLrfod O;; vkadM+s",{"$nulls":28},"NON PLAN (TRIBAL AREA) - GIRLS","2202-02-796-(02)-(07) (STATE FUND)","2202 -सामान्य शिक्षा-02-796 -जनजातीय क्षेत्र उपयोजना-02 -राजकीय माध्यमिक विद्यालय-07 -बालिका के विद्यालय का संचालन व्यय  (STATE FUND)"]
[{"$nulls":5},{"$f":"CONCATENATE((MID(Master!E4,1,4)-3),\"-\",(MID(Master!E4,6,2)-3))","v":"2020-21"},{"$f":"CONCATENATE((MID(Master!E4,1,4)-2),\"-\",(MID(Master!E4,6,2)-2))","v":"2021-22"},{"$f":"CONCATENATE((MID(Master!E4,1,4)-1),\"-\",(MID(Master!E4,6,2)-1))","v":"2022-23"},null,null,{"$f":"CONCATENATE((MID(Master!E4,1,4)),\"-\",(MID(Master!E4,6,2)))","v":"2023-24"},{"$nulls":23},"PLAN - BOYS","2202-02-109-(01) (STATE FUND)","2202 -सामान्य शिक्षा-02-109 -राजकीय माध्यमिक विद्यालय-01 -लडकों के विद्यालय-00 -- (STATE FUND)"]
[{"$nulls":4},{"$f":"CONCATENATE((MID(Master!E4,1,4)),\"-\",(MID(Master!E4,6,2)))","v":"2023-24"},{"$f":"CONCATENATE(\"vizSy \",(MID(F8,3,2)),\" ls ekpZ \",(MID(F8,3,2)+1),\" rd\")","v":"vizSy 20 ls ekpZ 21 rd"},{"$f":"CONCATENATE(\"vizSy \",(MID(G8,3,2)),\" ls ekpZ \",(MID(G8,3,2)+1),\" rd\")","v":"vizSy 21 ls ekpZ 22 rd"},{"$f":"CONCATENATE(\"vizSy \",(MID(H8,3,2)),\" ls tqykbZZ \",(MID(H8,3,2)),\" rd\")","v":"vizSy 22 ls tqykbZZ 22 rd"},{"$f":"CONCATENATE(\"vxLr \",(MID(H8,3,2)),\" ls ekpZ \",(MID(H8,3,2)+1),\" rd\")","v":"vxLr 22 ls ekpZ 23 rd"},{"$f":"CONCATENATE(\"vizSy \",(MID(H8,3,2)),\" ls ekpZ \",(MID(H8,3,2)+1),\" rd\")","v":"vizSy 22 ls ekpZ 23 rd"},{"$f":"CONCATENATE(\"vizSy \",(MID(K8,3,2)),\" ls tqykbZ \",(MID(K8,3,2)),\" rd\")","v":"vizSy 23 ls tqykbZ 23 rd"},{"$nulls":23},"PLAN - GIRLS","2202-02-109-(02) (STATE FUND)","2202 -सामान्य शिक्षा-02-109 -राजकीय माध्यमिक विद्यालय-02 -बालिका विद्यालय-00 -- (STATE FUND)"]
[null,null,1,2,3,4,5,6,7,8,9,{"$nulls":23},"SEC CA 113-01-01","2202-02-113-(01)-(01) (CANTRAL FUND)","2202 -सामान्य शिक्षा-02-113 -समग्र शिक्षा-01 -माध्यमिक शिक्षा के अन्तर्गत समग्र शिक्षा-01 -समग्र शिक्षा पर व्यय सामान्य   "]
[null,null,1,"01&laosru",0,0,0,0,0,{"$f":"SUM(H11:I11)","v":0},0,{"$nulls":23},"PLAN (TRIBAL AREA) - BOYS","2202-02-796-(02)-01 (STATE FUND)","2202 -सामान्य शिक्षा-02-796 -जनजातीय क्षेत्र उपयोजना-02 -राजकीय माध्यमिक विद्यालय-01 -लड़कों के विद्यालय (STATE FUND)"]
[null,null,2,"03&;k=k O;;",0,0,0,0,0,{"$f":"SUM(H12:I12)","v":0},0,{"$nulls":23},"PLAN (TRIBAL AREA) - GIRLS","2202-02-796-(02)-(02) (STATE FUND)","2202 -सामान्य शिक्षा-02-796 -जनजातीय क्षेत्र उपयोजना-02 -राजकीय माध्यमिक विद्यालय-02 -बालिका विद्यालय (STATE FUND)"]
[null,null,3,"04&fpfdRlk O;;",0,0,0,0,0,{"$f":"SUM(H13:I13)","v":0},0,{"$nulls":23},"PLAN (789)","2202-02-789-(01)-(01) (STATE FUND)","2202 -सामान्य शिक्षा-02-789 -अनुसूचित जातियों के लिए विशिष्ट संघटक योजना-01 -विशिष्ठ संघटक योजना (अनुसूचित जातियों के लिये)-01 -लड़को के विद्यालय (आवासीय विद्यालय) (STATE FUND)"]
[{"$nulls":3},"dqy ;ksx izi= 8",{"$f":"SUM(E11:E13)","v":0},{"$f":"SUM(F11:F13)","v":0},0,0,0,0,0,{"$nulls":23},"PLAN (RMSA) - 01","2202-02-109-(07)-(01) (STATE FUND+CENTRAL ASS.)","2202 -सामान्य शिक्षा-02-109 -राजकीय माध्यमिक विद्यालय-07 -राष्ट्रीय माध्यमिक शिक्षा अभियान-01 -माध्यमिक शिक्षा अभियान- सामान्य व्यय (S.F. + C.A.)"]
[{"$nulls":3},"05&dk;kZy; O;;",0,{"$nulls":3},0,{"$f":"SUM(H15:I15)","v":0},{"$nulls":24},"PLAN (RMSA) - 02","2202-02-109-(07)-(02) (STATE FUND)","2202 -सामान्य शिक्षा-02-109 -राजकीय माध्यमिक विद्यालय-07 -राष्ट्रीय माध्यमिक शिक्षा अभियान-02 -माध्यमिक शिक्षा अभियान - अनुसूचित जातियों के लिए (S.F. + C.A.)"]
[null,null,1,"Mkd fVdV",0,0,0,0,0,{"$f":"SUM(H16:I16)","v":0},0,{"$nulls":23},"PLAN (RMSA) - 03","2202-02-109-(07)-(03) (STATE FUND)","2202 -सामान्य शिक्षा-02-109 -राजकीय माध्यमिक विद्यालय-07 -राष्ट्रीय माध्यमिक शिक्षा अभियान-03 -माध्यमिक शिक्षा अभियान - अनुसूचित जन जातियों के लिए (S.F. + C.A.)"]
[null,null,2,"nwjHkk\"k",0,0,0,0,0,0,0,{"$nulls":23},"Central (113-01)","2202-01-113-(01)-(01)","2202 -सामान्य शिक्षा-01-113 -समग्र शिक्षा -01 -प्रारम्भिक शिक्षा अंतर्गत समग्र शिक्षा-01 -समग्र शिक्षा पर व्यय सामान्य     "]
[null,null,3,"fctyh ikuh",0,0,0,0,0,0,0,{"$nulls":23},"Central (113-02)","2202-01-113-(01)-(02)","2202 -सामान्य शिक्षा-01-113 -समग्र शिक्षा -01 -प्रारम्भिक शिक्षा अंतर्गत समग्र शिक्षा-02 -समग्र शिक्षा अंतर्गत अनुसूचित जातियों के लिए विशिष्ठ संघटक योजना (SCSP) पर व्यय "]
[null,null,4,"iqLrdsa o pkVZ~l",0,0,0,0,0,0,0,{"$nulls":23},"Central (113-03)","2202-01-113-(01)-(03)","2202 -सामान्य शिक्षा-01-113 -समग्र शिक्षा -01 -प्रारम्भिक शिक्षा अंतर्गत समग्र शिक्षा-03 -समग्र शिक्षा अंतर्गत जनजातियों क्षेत्र उपयोजना (TSP) पर व्यय"]
[null,null,5,"QuhZpj",0,0,0,0,0,0,0,{"$nulls":23},"State (197-03-01)","2202-01-197-(03)-(01)","2202 -सामान्य शिक्षा-01-प्रारम्भिक शिक्षा-197-ब्लॉक/मध्यवर्ती स्तर की पंचायतें-03 -बालकों हेतु प्राथमिक विद्यालय-(01)-स्थापना व्य्य (STATE FUND)"]
[null,null,6,"vU; O;;",0,0,0,0,0,0,0,{"$nulls":23},"State (101-03-00)","2202-01-101-(03)-(00)","2202 -सामान्य शिक्षा-01-101 -राजकीय प्राथमिक विद्यालय-03 -बालकों के लिए प्राथमिक विद्यालय-00 (STATE FUND)"]
[null,null,7,"LVs'kujh",0,0,0,0,0,0,0,{"$nulls":23},"State (197-01-02)","2202-01-197-(01)-(02)","2202 -सामान्य शिक्षा-01-197 -ब्लॉक स्तर / मध्यवर्ती स्तर की पंचायतों को सहायता -01 -उच्च प्राथमिक विद्यालय (बालक)-02 -बालकों के विद्यालय का संचालन व्यय (STATE FUND)"]
[null,null,8,"NikbZ",0,0,0,0,0,0,0,{"$nulls":23},"State (197-01-01)","2202-01-197-(01)-(01)","2202 -सामान्य शिक्षा-01-197 -ब्लॉक स्तर / मध्यवर्ती स्तर की पंचायतों को सहायता -01 -उच्च प्राथमिक विद्यालय (बालक)-01 -स्थापना व्यय        "]
[{"$nulls":3},"dqy ;ksx dk;kZy; O;; ¼v½",{"$f":"SUM(E15:E23)","v":0},{"$f":"SUM(F15:F23)","v":0},0,0,0,0,0,{"$nulls":23},"State (197-02-01)","2202-01-197-(02)-(01)","2202 -सामान्य शिक्षा-01-197 -ब्लॉक स्तर / मध्यवर्ती स्तर की पंचायतों को सहायता -02 -उच्च प्राथमिक विद्यालय (बालिका)-01 -स्थापना व्यय       "]
[null,null,1,"28&fofo/k",0,0,0,0,0,{"$f":"SUM(H25:I25)","v":0},0,{"$nulls":23},"State (197-02-02)","2202-01-197-(02)-(02)","2202 -सामान्य शिक्षा-01-197 -ब्लॉक स्तर / मध्यवर्ती स्तर की पंचायतों को सहायता -02 -उच्च प्राथमिक विद्यालय (बालिका)-02 -बालिकाओं के विद्यालय का संचालन व्यय"]
[null,null,2,"31&iqLrdky;",0,0,0,0,0,{"$f":"SUM(H26:I26)","v":0},0,{"$nulls":23},"PD (8443-106)","2202-01-197-16-(01)","2202 -सामान्य शिक्षा-01-197 -ब्लॉक स्तर / मध्यवर्ती स्तर की पंचायतों को सहायता -16 -प्राथमिक विद्यालयों के लिए पंचायत समितियों को अनुदान-01 -विद्यालय संचालन पर व्यय "]
[null,null,3,"33&iz;ksx'kkyk",0,0,0,0,0,{"$f":"SUM(H27:I27)","v":0},0,{"$nulls":23},"State (197-03-02)","2202-01-197-(03)-(02)","2202 -सामान्य शिक्षा-01-197 -ब्लॉक स्तर / मध्यवर्ती स्तर की पंचायतों को सहायता -03 -प्राथमिक विद्यालय (बालक)-02 -बालकों के विद्यालय का संचालन व्यय"]
[null,null,4,"57&fof'k\"V lsok,sa",0,0,0,0,0,{"$f":"SUM(H28:I28)","v":0},0,{"$nulls":23},"State (101-03-00)","2202-01-101-(03)-(00)","2202 -सामान्य शिक्षा-01-101 -राजकीय प्राथमिक विद्यालय-03 -बालकों के लिए प्राथमिक विद्यालय-00 --      "]
[null,null,5,"37&ofnZ;ka",0,0,0,0,0,{"$f":"SUM(H29:I29)","v":0},0]
[{"$nulls":3},"dqy ;ksx 1 ls 7 ¼c½",{"$f":"SUM(E25:E29)","v":0},{"$f":"SUM(F25:F29)","v":0},0,0,0,0,0]
[{"$nulls":3},"dqy ;ksx ¼v½$¼c½",{"$f":"SUM(E30,E24)","v":0},{"$f":"SUM(F30,F24)","v":0},0,0,0,0,0]
[{"$nulls":3},"loZ ;ksx",{"$f":"SUM(E14,E31)","v":0},{"$f":"SUM(F14,F31)","v":0},0,0,0,0,0]
[null,null,"okLrfod vk; ds vkadMksa dh uhps izfof\"B djsa A"]
[null,null,"Ø-la-","foLr`r ys[kk 'kh\"kZd","okLrfod vk; ds vkadM+s"]
[{"$nulls":4},"okLrfod vk; vkadM+s \n¼xr rhu o\"kksZa ds½",null,null,"vk; O;; vuqeku pkyw o\"kZ","okLrfod vk; ds vkadM+s ",null,null,"vxLr ls ekpZ rd dk lEHkkfor vk; ¼pkyw o\"kZ½","l'kksf/kr vuqeku ¼pkyw o\"kZ½ ¼08$10½","vk; O;;d vuqeku ¼vkxkeh o\"kZ½"]
[{"$nulls":4},"2020-21","2021-22","2022-23","2023-24","vxLr 22 ls ekpZ 23 rd","vizSy 23 ls tqykbZ 23 rd","dkWye 7 o 8 dk ;ksx"]
[null,null,1,2,3,4,5,6,7,8,9,10,11,12]
[null,null,1,"izos'k 'kqYd",0,0,0,0,0,0,{"$f":"SUM(I38:J38)","v":0},0,{"$f":"SUM(J38+L38)","v":0},0]
[null,null,2,"Vh-lh- 'kqYd",{"$nulls":6},{"$f":"SUM(I39:J39)","v":0},null,{"$f":"SUM(J39+L39)","v":0}]
[null,null,3,"uhykeh",0,0,0,0,0,0,0,0,0,0]
[null,null,4,"Hkou fdjk;k",0,0,0,0,0,0,0,0,0,0]
[null,null,5,"vU; vk; ¼fo|kFkhZ nq/kZ chek½",0,0,0,0,0,0,0,0,0,0]
[null,null,6,"va'knku @ o`fRrnku",0,0,0,0,0,0,0,0,0,0]
[{"$nulls":3},"dqy ;ksx",{"$f":"SUM(E38:E43)","v":0},{"$f":"SUM(F38:F43)","v":0},0,0,0,0,0,0,0,0]
[null,null,"izos'k ,oa Vh-lh- ls vk; ds vkadMksa dh uhps izfof\"B djsa A"]
[]
[null,null,"fooj.k","o\"kZ 2023&24 dk la'kksf/kr",{"$nulls":3},"o\"kZ 2023&24 dk la'kksf/kr vk;","o\"kZ 2024&25 dk vuqekfur",{"$nulls":3},"o\"kZ 2024&25 dk vuqekfur vk;"]
[{"$nulls":3},"izos'k 'kqYd @ 10/-",null,"LFkkukUrj.k 'kqYd @ 5/-",null,null,"izos'k 'kqYd @ 10/-",null,"LFkkukUrj.k 'kqYd @ 5/-"]
[{"$nulls":3},"Nk= la[;k","jkf'k","Nk= la[;k","jkf'k",null,"Nk= la[;k","jkf'k","Nk= la[;k","jkf'k"]
[null,null,"d{kk 9",0,{"$f":"D50*10","v":0},0,{"$f":"F50*5","v":0},{"$f":"SUM(E50,G50)","v":0},0,{"$f":"I50*10","v":0},0,{"$f":"K50*5","v":0},{"$f":"SUM(J50,L50)","v":0}]
[null,null,"d{kk 10",0,{"$f":"D51*10","v":0},0,{"$f":"F51*5","v":0},{"$f":"SUM(E51,G51)","v":0},0,{"$f":"I51*10","v":0},0,{"$f":"K51*5","v":0},{"$f":"SUM(J51,L51)","v":0}]
[null,null,"d{kk 11",0,{"$f":"D52*10","v":0},0,{"$f":"F52*5","v":0},{"$f":"SUM(E52,G52)","v":0},0,{"$f":"I52*10","v":0},0,{"$f":"K52*5","v":0},{"$f":"SUM(J52,L52)","v":0}]
[null,null,"d{kk 12",0,{"$f":"D53*10","v":0},0,{"$f":"F53*5","v":0},{"$f":"SUM(E53,G53)","v":0},0,{"$f":"I53*10","v":0},0,{"$f":"K53*5","v":0},{"$f":"SUM(J53,L53)","v":0}]
[null,null,"dqy ;ksx",{"$f":"SUM(D50:D53)","v":0},{"$f":"SUM(E50:E53)","v":0},{"$f":"SUM(F50:F53)","v":0},0,0,0,0,0,0,0]
[]
[null,null,"dk;kZy;@fo|ky; esa dk;Zjr deZpkfj;ksa ,oa fjDr in ds vkadMksa dh uhps izfof\"B djsa A"]
[]
[null,null,"Ø-la-","deZpkjh dk uke","Post","Pay Matrics Level","Basic Pay","Employee ID No.","GPF/PRAN No.","Gender","Handicaped","Cashier \nAllowance","GAZETTED / NON GAZETTED ",{"$nulls":17},"Ø-la-","GAZETTED - REGULAR",{"$nulls":11},"Ø-la-","NON GAZETTED - REGULAR",{"$nulls":11},"Ø-la-","GAZETTED - FIX PAY",{"$nulls":11},"Ø-la-","NON GAZETTED - FIX PAY",{"$nulls":11},"Ø-la-","GAZETTED - SANVIDA",{"$nulls":11},"Ø-la-","NON GAZETTED - SANVIDA"]
[{"$nulls":31},"deZpkjh dk uke","Post","Grade Pay","Basic Pay","Employee ID No.","GPF/PRAN No.","Gender","Handicaped","Cash All",{"$nulls":4},"deZpkjh dk uke","Post","Grade Pay","Basic Pay","Employee ID No.","GPF/PRAN No.","Gender","Handicaped","Cash All",{"$nulls":4},"deZpkjh dk uke","Post","Grade Pay","Basic Pay","Employee ID No.","FIX PAY / SANVIDA","Gender","Handicaped","Cash All",{"$nulls":4},"deZpkjh dk uke","Post","Grade Pay","Basic Pay","Employee ID No.","FIX PAY / SANVIDA","Gender","Handicaped","Cash All",{"$nulls":4},"deZpkjh dk uke","Post","Grade Pay","Basic Pay","Employee ID No.","FIX PAY / SANVIDA","Gender","Handicaped","Cash All",{"$nulls":4},"deZpkjh dk uke","Post","Grade Pay","Basic Pay","Employee ID No.","FIX PAY / SANVIDA","Gender","Handicaped","Cash All"]
[{"$f":"IF(OR(D60=\"in fjDr\",D60=\"पद रिक्त\",D60=\"Blank\",D60=\"Post Blank\"),0,E60)","v":"PRINCIPAL"},{"$f":"F60","v":"L-16"},1,"ABC","PRINCIPAL","L-16",69300,"RJJO201525014204",{"$nulls":4},"GAZETTED - REGULAR",{"$nulls":14},{"$f":"MID(H60,5,4)","v":"2015"},{"$f":"IF(F60<=0,1,0)*(IF(M60=\"SANVIDA\",0,1))","v":0},{"$f":"IF(AND(AP60=\"\"),\"\",IF(AP60=0,\"\",AP60))","v":1},1,{"$f":"IF($M60=\"GAZETTED - REGULAR\",D60,0)","v":"ABC"},"PRINCIPAL","L-16",69300,"RJJO201525014204",0,0,0,0,"GAZETTED - REGULAR",{"$f":"IF(AND(M60=\"\"),\"\",IF(M60=AF$58,1,0))","v":1},{"$f":"IF(AND(BC60=\"\"),\"\",IF(BC60=0,\"\",BC60))","v":""},1,{"$f":"IF($M60=\"NON GAZETTED - REGULAR\",D60,0)","v":0},0,0,0,0,0,0,0,0,0,{"$f":"IF(AND(M60=\"\"),\"\",IF(M60=AS$58,1,0))","v":0},{"$f":"IF(AND(BP60=\"\"),\"\",IF(BP60=0,\"\",BP60))","v":""},1,{"$f":"IF($M60=\"GAZETTED - FIX PAY\",D60,0)","v":0},0,0,0,0,0,0,0,0,0,{"$f":"IF(AND(M60=\"\"),\"\",IF(M60=BF$58,1,0))","v":0},{"$f":"IF(AND(CC60=\"\"),\"\",IF(CC60=0,\"\",CC60))","v":""},1,{"$f":"IF($M60=\"NON GAZETTED - FIX PAY\",D60,0)","v":0},0,0,0,0,0,0,0,0,0,{"$f":"IF(AND(M60=\"\"),\"\",IF(M60=BS$58,1,0))","v":0},{"$f":"IF(AND(CP60=\"\"),\"\",IF(CP60=0,\"\",CP60))","v":""},1,{"$f":"IF($M60=\"GAZETTED - SANVIDA\",D60,0)","v":0},0,0,0,0,0,0,0,0,0,{"$f":"IF(AND(M60=\"\"),\"\",IF(M60=CF$58,1,0))","v":0},{"$f":"IF(AND(DC60=\"\"),\"\",IF(DC60=0,\"\",DC60))","v":""},1,{"$f":"IF($M60=\"NON GAZETTED - SANVIDA\",D60,0)","v":0},{"$f":"IF($M60=\"NON GAZETTED - SANVIDA\",E60,0)","v":0},{"$f":"IF($M60=\"NON GAZETTED - SANVIDA\",F60,0)","v":0},{"$f":"IF($M60=\"NON GAZETTED - SANVIDA\",G60,0)","v":0},{"$f":"IF($M60=\"NON GAZETTED - SANVIDA\",H60,0)","v":0},{"$f":"IF($M60=\"NON GAZETTED - SANVIDA\",I60,0)","v":0},{"$f":"IF($M60=\"NON GAZETTED - SANVIDA\",J60,0)","v":0},{"$f":"IF($M60=\"NON GAZETTED - SANVIDA\",K60,0)","v":0},{"$f":"IF($M60=\"NON GAZETTED - SANVIDA\",L60,0)","v":0},{"$f":"IF($M60=\"NON GAZETTED - SANVIDA\",M60,0)","v":0},{"$f":"IF(AND(M60=\"\"),\"\",IF(M60=CS$58,1,0))","v":0}]
[{"$f":"IF(OR(D61=\"in fjDr\",D61=\"पद रिक्त\",D61=\"Blank\",D61=\"Post Blank\"),0,E61)","v":"LECTURER"},{"$f":"F61","v":"L-12"},2,"ASDGDSG","LECTURER","L-12",47800,"RJSR201734033654",{"$nulls":4},"GAZETTED - FIX PAY",{"$nulls":14},"2017",{"$f":"IF(F61<=0,1,0)*(IF(M61=\"SANVIDA\",0,1))","v":0},{"$f":"IF(AND(AP61=\"\"),\"\",IF(AP61=0,\"\",1+(MAX(AD$60:AD60))))","v":""},2,{"$f":"IF($M61=\"GAZETTED - REGULAR\",D61,0)","v":0},{"$f":"IF($M61=\"GAZETTED - REGULAR\",E61,0)","v":0},{"$f":"IF($M61=\"GAZETTED - REGULAR\",F61,0)","v":0},{"$f":"IF($M61=\"GAZETTED - REGULAR\",G61,0)","v":0},{"$f":"IF($M61=\"GAZETTED - REGULAR\",H61,0)","v":0},{"$f":"IF($M61=\"GAZETTED - REGULAR\",I61,0)","v":0},{"$f":"IF($M61=\"GAZETTED - REGULAR\",J61,0)","v":0},{"$f":"IF($M61=\"GAZETTED - REGULAR\",K61,0)","v":0},{"$f":"IF($M61=\"GAZETTED - REGULAR\",L61,0)","v":0},{"$f":"IF($M61=\"GAZETTED - REGULAR\",M61,0)","v":0},0,{"$f":"IF(AND(BC61=\"\"),\"\",IF(BC61=0,\"\",1+(MAX(AQ$60:AQ60))))","v":""},2,{"$f":"IF($M61=\"NON GAZETTED - REGULAR\",D61,0)","v":0},0,0,0,0,0,0,0,0,{"$f":"IF($M61=\"NON GAZETTED - REGULAR\",M61,0)","v":0},0,{"$f":"IF(AND(BP61=\"\"),\"\",IF(BP61=0,\"\",1+(MAX(BD$60:BD60))))","v":1},2,{"$f":"IF($M61=\"GAZETTED - FIX PAY\",D61,0)","v":"ASDGDSG"},{"$f":"IF($M61=\"GAZETTED - FIX PAY\",E61,0)","v":"LECTURER"},{"$f":"IF($M61=\"GAZETTED - FIX PAY\",F61,0)","v":"L-12"},{"$f":"IF($M61=\"GAZETTED - FIX PAY\",G61,0)","v":47800},{"$f":"IF($M61=\"GAZETTED - FIX PAY\",H61,0)","v":"RJSR201734033654"},{"$f":"IF($M61=\"GAZETTED - FIX PAY\",I61,0)","v":0},{"$f":"IF($M61=\"GAZETTED - FIX PAY\",J61,0)","v":0},{"$f":"IF($M61=\"GAZETTED - FIX PAY\",K61,0)","v":0},{"$f":"IF($M61=\"GAZETTED - FIX PAY\",L61,0)","v":0},{"$f":"IF($M61=\"GAZETTED - FIX PAY\",M61,0)","v":"GAZETTED - FIX PAY"},1,{"$f":"IF(AND(CC61=\"\"),\"\",IF(CC61=0,\"\",1+(MAX(BQ$60:BQ60))))","v":""},2,{"$f":"IF($M61=\"NON GAZETTED - FIX PAY\",D61,0)","v":0},{"$f":"IF($M61=\"NON GAZETTED - FIX PAY\",E61,0)","v":0},{"$f":"IF($M61=\"NON GAZETTED - FIX PAY\",F61,0)","v":0},{"$f":"IF($M61=\"NON GAZETTED - FIX PAY\",G61,0)","v":0},{"$f":"IF($M61=\"NON GAZETTED - FIX PAY\",H61,0)","v":0},{"$f":"IF($M61=\"NON GAZETTED - FIX PAY\",I61,0)","v":0},{"$f":"IF($M61=\"NON GAZETTED - FIX PAY\",J61,0)","v":0},{"$f":"IF($M61=\"NON GAZETTED - FIX PAY\",K61,0)","v":0},{"$f":"IF($M61=\"NON GAZETTED - FIX PAY\",L61,0)","v":0},{"$f":"IF($M61=\"NON GAZETTED - FIX PAY\",M61,0)","v":0},0,{"$f":"IF(AND(CP61=\"\"),\"\",IF(CP61=0,\"\",1+(MAX(CD$60:CD60))))","v":""},2,{"$f":"IF($M61=\"GAZETTED - SANVIDA\",D61,0)","v":0},{"$f":"IF($M61=\"GAZETTED - SANVIDA\",E61,0)","v":0},{"$f":"IF($M61=\"GAZETTED - SANVIDA\",F61,0)","v":0},{"$f":"IF($M61=\"GAZETTED - SANVIDA\",G61,0)","v":0},{"$f":"IF($M61=\"GAZETTED - SANVIDA\",H61,0)","v":0},{"$f":"IF($M61=\"GAZETTED - SANVIDA\",I61,0)","v":0},{"$f":"IF($M61=\"GAZETTED - SANVIDA\",J61,0)","v":0},{"$f":"IF($M61=\"GAZETTED - SANVIDA\",K61,0)","v":0},{"$f":"IF($M61=\"GAZETTED - SANVIDA\",L61,0)","v":0},{"$f":"IF($M61=\"GAZETTED - SANVIDA\",M61,0)","v":0},0,{"$f":"IF(AND(DC61=\"\"),\"\",IF(DC61=0,\"\",1+(MAX(CQ$60:CQ60))))","v":""},2,0,0,0,0,0,0,0,0,0,0,0]
["TEACHER-II","L-11",3,"FGD","TEACHER-II","L-11",45100,"RJJO201325036050",{"$nulls":4},"NON GAZETTED - REGULAR",{"$nulls":14},"2013",0,{"$f":"IF(AND(AP62=\"\"),\"\",IF(AP62=0,\"\",1+(MAX(AD$60:AD61))))","v":""},3,0,0,0,0,0,0,0,0,{"$f":"IF($M62=\"GAZETTED - REGULAR\",L62,0)","v":0},0,0,{"$f":"IF(AND(BC62=\"\"),\"\",IF(BC62=0,\"\",1+(MAX(AQ$60:AQ61))))","v":1},3,{"$f":"IF($M62=\"NON GAZETTED - REGULAR\",D62,0)","v":"FGD"},{"$f":"IF($M62=\"NON GAZETTED - REGULAR\",E62,0)","v":"TEACHER-II"},{"$f":"IF($M62=\"NON GAZETTED - REGULAR\",F62,0)","v":"L-11"},{"$f":"IF($M62=\"NON GAZETTED - REGULAR\",G62,0)","v":45100},{"$f":"IF($M62=\"NON GAZETTED - REGULAR\",H62,0)","v":"RJJO201325036050"},{"$f":"IF($M62=\"NON GAZETTED - REGULAR\",I62,0)","v":0},{"$f":"IF($M62=\"NON GAZETTED - REGULAR\",J62,0)","v":0},{"$f":"IF($M62=\"NON GAZETTED - REGULAR\",K62,0)","v":0},{"$f":"IF($M62=\"NON GAZETTED - REGULAR\",L62,0)","v":0},"NON GAZETTED - REGULAR",1,{"$f":"IF(AND(BP62=\"\"),\"\",IF(BP62=0,\"\",1+(MAX(BD$60:BD61))))","v":""},3,0,0,0,0,0,0,0,0,0,0,0,{"$f":"IF(AND(CC62=\"\"),\"\",IF(CC62=0,\"\",1+(MAX(BQ$60:BQ61))))","v":""},3,0,0,0,0,0,0,0,0,0,0,0,{"$f":"IF(AND(CP62=\"\"),\"\",IF(CP62=0,\"\",1+(MAX(CD$60:CD61))))","v":""},3,0,0,0,0,0,0,0,0,0,0,0,{"$f":"IF(AND(DC62=\"\"),\"\",IF(DC62=0,\"\",1+(MAX(CQ$60:CQ61))))","v":""},3,0,0,0,0,0,0,0,0,0,0,0]
["TEACHER-III","L-10",4,"ZGD","TEACHER-III","L-10",36900,"RJJO201725019704",{"$nulls":4},"NON GAZETTED - REGULAR",{"$nulls":14},"2017",0,{"$f":"IF(AND(AP63=\"\"),\"\",IF(AP63=0,\"\",1+(MAX(AD$60:AD62))))","v":""},4,0,0,0,0,0,0,0,0,0,0,0,{"$f":"IF(AND(BC63=\"\"),\"\",IF(BC63=0,\"\",1+(MAX(AQ$60:AQ62))))","v":2},4,"ZGD","TEACHER-III","L-10",36900,"RJJO201725019704",0,0,0,0,"NON GAZETTED - REGULAR",1,{"$f":"IF(AND(BP63=\"\"),\"\",IF(BP63=0,\"\",1+(MAX(BD$60:BD62))))","v":""},4,0,0,0,0,0,0,0,0,0,0,0,{"$f":"IF(AND(CC63=\"\"),\"\",IF(CC63=0,\"\",1+(MAX(BQ$60:BQ62))))","v":""},4,0,0,0,0,0,0,0,0,0,0,0,{"$f":"IF(AND(CP63=\"\"),\"\",IF(CP63=0,\"\",1+(MAX(CD$60:CD62))))","v":""},4,0,0,0,0,0,0,0,0,0,0,0,{"$f":"IF(AND(DC63=\"\"),\"\",IF(DC63=0,\"\",1+(MAX(CQ$60:CQ62))))","v":""},4,0,0,0,0,0,0,0,0,0,0,0]
["TEACHER-III","L-10",5,"DFBDZFB","TEACHER-III","L-10",40300,"RJJO201825018004",{"$nulls":4},"NON GAZETTED - FIX PAY",{"$nulls":14},"2018",0,{"$f":"IF(AND(AP64=\"\"),\"\",IF(AP64=0,\"\",1+(MAX(AD$60:AD63))))","v":""},5,0,0,0,0,0,0,0,0,0,0,0,{"$f":"IF(AND(BC64=\"\"),\"\",IF(BC64=0,\"\",1+(MAX(AQ$60:AQ63))))","v":""},5,0,0,0,0,0,0,0,0,0,0,0,{"$f":"IF(AND(BP64=\"\"),\"\",IF(BP64=0,\"\",1+(MAX(BD$60:BD63))))","v":""},5,0,0,0,0,0,0,0,0,0,0,0,{"$f":"IF(AND(CC64=\"\"),\"\",IF(CC64=0,\"\",1+(MAX(BQ$60:BQ63))))","v":1},5,"DFBDZFB","TEACHER-III","L-10",40300,"RJJO201825018004",0,0,0,0,"NON GAZETTED - FIX PAY",1,{"$f":"IF(AND(CP64=\"\"),\"\",IF(CP64=0,\"\",1+(MAX(CD$60:CD63))))","v":""},5,0,0,0,0,0,0,0,0,0,0,0,{"$f":"IF(AND(DC64=\"\"),\"\",IF(DC64=0,\"\",1+(MAX(CQ$60:CQ63))))","v":""},5,0,0,0,0,0,0,0,0,0,0,0]
["TEACHER-III","L-11",6,"DBCZFB","TEACHER-III","L-11",49300,"RJJO200725008042",{"$nulls":4},"NON GAZETTED - REGULAR",{"$nulls":14},"2007",0,{"$f":"IF(AND(AP65=\"\"),\"\",IF(AP65=0,\"\",1+(MAX(AD$60:AD64))))","v":""},6,0,0,0,0,0,0,0,0,0,0,0,{"$f":"IF(AND(BC65=\"\"),\"\",IF(BC65=0,\"\",1+(MAX(AQ$60:AQ64))))","v":3},6,"DBCZFB","TEACHER-III","L-11",49300,"RJJO200725008042",0,0,0,0,"NON GAZETTED - REGULAR",1,{"$f":"IF(AND(BP65=\"\"),\"\",IF(BP65=0,\"\",1+(MAX(BD$60:BD64))))","v":""},6,0,0,0,0,0,0,0,0,0,0,0,{"$f":"IF(AND(CC65=\"\"),\"\",IF(CC65=0,\"\",1+(MAX(BQ$60:BQ64))))","v":""},6,0,0,0,0,0,0,0,0,0,0,0,{"$f":"IF(AND(CP65=\"\"),\"\",IF(CP65=0,\"\",1+(MAX(CD$60:CD64))))","v":""},6,0,0,0,0,0,0,0,0,0,0,0,{"$f":"IF(AND(DC65=\"\"),\"\",IF(DC65=0,\"\",1+(MAX(CQ$60:CQ64))))","v":""},6,0,0,0,0,0,0,0,0,0,0,0]
["TEACHER-III","L-10",7,"D","TEACHER-III","L-10",40300,"RJJO201525034739",{"$nulls":4},"NON GAZETTED - REGULAR",{"$nulls":14},"2015",0,{"$f":"IF(AND(AP66=\"\"),\"\",IF(AP66=0,\"\",1+(MAX(AD$60:AD65))))","v":""},7,0,0,0,0,0,0,0,0,0,0,0,{"$f":"IF(AND(BC66=\"\"),\"\",IF(BC66=0,\"\",1+(MAX(AQ$60:AQ65))))","v":4},7,"D","TEACHER-III","L-10",40300,"RJJO201525034739",0,0,0,0,"NON GAZETTED - REGULAR",1,{"$f":"IF(AND(BP66=\"\"),\"\",IF(BP66=0,\"\",1+(MAX(BD$60:BD65))))","v":""},7,0,0,0,0,0,0,0,0,0,0,0,{"$f":"IF(AND(CC66=\"\"),\"\",IF(CC66=0,\"\",1+(MAX(BQ$60:BQ65))))","v":""},7,0,0,0,0,0,0,0,0,0,0,0,{"$f":"IF(AND(CP66=\"\"),\"\",IF(CP66=0,\"\",1+(MAX(CD$60:CD65))))","v":""},7,0,0,0,0,0,0,0,0,0,0,0,{"$f":"IF(AND(DC66=\"\"),\"\",IF(DC66=0,\"\",1+(MAX(CQ$60:CQ65))))","v":""},7,0,0,0,0,0,0,0,0,0,0,0]
["TEACHER-III","L-11",8,"BCBD","TEACHER-III","L-11",45100,"RJJO201325036063",{"$nulls":4},"NON GAZETTED - REGULAR",{"$nulls":14},"2013",0,{"$f":"IF(AND(AP67=\"\"),\"\",IF(AP67=0,\"\",1+(MAX(AD$60:AD66))))","v":""},8,0,0,0,0,0,0,0,0,0,0,0,{"$f":"IF(AND(BC67=\"\"),\"\",IF(BC67=0,\"\",1+(MAX(AQ$60:AQ66))))","v":5},8,"BCBD","TEACHER-III","L-11",45100,"RJJO201325036063",0,0,0,0,"NON GAZETTED - REGULAR",1,{"$f":"IF(AND(BP67=\"\"),\"\",IF(BP67=0,\"\",1+(MAX(BD$60:BD66))))","v":""},8,0,0,0,0,0,0,0,0,0,0,0,{"$f":"IF(AND(CC67=\"\"),\"\",IF(CC67=0,\"\",1+(MAX(BQ$60:BQ66))))","v":""},8,0,0,0,0,0,0,0,0,0,0,0,{"$f":"IF(AND(CP67=\"\"),\"\",IF(CP67=0,\"\",1+(MAX(CD$60:CD66))))","v":""},8,0,0,0,0,0,0,0,0,0,0,0,{"$f":"IF(AND(DC67=\"\"),\"\",IF(DC67=0,\"\",1+(MAX(CQ$60:CQ66))))","v":""},8,0,0,0,0,0,0,0,0,0,0,0]
["PEON","L-3",9,"GBGCBD","PEON","L-3",33000,"RJSR201834028851",{"$nulls":4},"NON GAZETTED - REGULAR",{"$nulls":14},"2018",0,{"$f":"IF(AND(AP68=\"\"),\"\",IF(AP68=0,\"\",1+(MAX(AD$60:AD67))))","v":""},9,0,0,0,0,0,0,0,0,0,0,0,{"$f":"IF(AND(BC68=\"\"),\"\",IF(BC68=0,\"\",1+(MAX(AQ$60:AQ67))))","v":6},9,"GBGCBD","PEON","L-3",33000,"RJSR201834028851",0,0,0,0,"NON GAZETTED - REGULAR",1,{"$f":"IF(AND(BP68=\"\"),\"\",IF(BP68=0,\"\",1+(MAX(BD$60:BD67))))","v":""},9,0,0,0,0,0,0,0,0,0,0,0,{"$f":"IF(AND(CC68=\"\"),\"\",IF(CC68=0,\"\",1+(MAX(BQ$60:BQ67))))","v":""},9,0,0,0,0,0,0,0,0,0,0,0,{"$f":"IF(AND(CP68=\"\"),\"\",IF(CP68=0,\"\",1+(MAX(CD$60:CD67))))","v":""},9,0,0,0,0,0,0,0,0,0,0,0,{"$f":"IF(AND(DC68=\"\"),\"\",IF(DC68=0,\"\",1+(MAX(CQ$60:CQ67))))","v":""},9,0,0,0,0,0,0,0,0,0,0,0]
["Sanvida Employee","-",10,"CGBCB","Sanvida Employee","-",16400,"-",{"$nulls":4},"NON GAZETTED - SANVIDA",{"$nulls":14},"",0,{"$f":"IF(AND(AP69=\"\"),\"\",IF(AP69=0,\"\",1+(MAX(AD$60:AD68))))","v":""},10,0,0,0,0,0,0,0,0,0,0,0,{"$f":"IF(AND(BC69=\"\"),\"\",IF(BC69=0,\"\",1+(MAX(AQ$60:AQ68))))","v":""},10,0,0,0,0,0,0,0,0,0,0,0,{"$f":"IF(AND(BP69=\"\"),\"\",IF(BP69=0,\"\",1+(MAX(BD$60:BD68))))","v":""},10,0,0,0,0,0,0,0,0,0,0,0,{"$f":"IF(AND(CC69=\"\"),\"\",IF(CC69=0,\"\",1+(MAX(BQ$60:BQ68))))","v":""},10,0,0,0,0,0,0,0,0,0,0,0,{"$f":"IF(AND(CP69=\"\"),\"\",IF(CP69=0,\"\",1+(MAX(CD$60:CD68))))","v":""},10,0,0,0,0,0,0,0,0,0,0,0,{"$f":"IF(AND(DC69=\"\"),\"\",IF(DC69=0,\"\",1+(MAX(CQ$60:CQ68))))","v":1},10,"CGBCB","Sanvida Employee","-",16400,"-",0,0,0,0,"NON GAZETTED - SANVIDA",1]
["Sanvida Employee","-",11,"DGGBC","Sanvida Employee","-",16400,"-",{"$nulls":4},"NON GAZETTED - SANVIDA",{"$nulls":14},"",0,{"$f":"IF(AND(AP70=\"\"),\"\",IF(AP70=0,\"\",1+(MAX(AD$60:AD69))))","v":""},11,0,0,0,0,0,0,0,0,0,0,0,{"$f":"IF(AND(BC70=\"\"),\"\",IF(BC70=0,\"\",1+(MAX(AQ$60:AQ69))))","v":""},11,0,0,0,0,0,0,0,0,0,0,0,{"$f":"IF(AND(BP70=\"\"),\"\",IF(BP70=0,\"\",1+(MAX(BD$60:BD69))))","v":""},11,0,0,0,0,0,0,0,0,0,0,0,{"$f":"IF(AND(CC70=\"\"),\"\",IF(CC70=0,\"\",1+(MAX(BQ$60:BQ69))))","v":""},11,0,0,0,0,0,0,0,0,0,0,0,{"$f":"IF(AND(CP70=\"\"),\"\",IF(CP70=0,\"\",1+(MAX(CD$60:CD69))))","v":""},11,0,0,0,0,0,0,0,0,0,0,0,{"$f":"IF(AND(DC70=\"\"),\"\",IF(DC70=0,\"\",1+(MAX(CQ$60:CQ69))))","v":2},11,"DGGBC","Sanvida Employee","-",16400,"-",0,0,0,0,"NON GAZETTED - SANVIDA",1]
[0,"L-10",12,"पद रिक्त","TEACHER-III","L-10",null,"-",{"$nulls":4},"GAZETTED - REGULAR",{"$nulls":14},"",0,{"$f":"IF(AND(AP71=\"\"),\"\",IF(AP71=0,\"\",1+(MAX(AD$60:AD70))))","v":2},12,"पद रिक्त","TEACHER-III","L-10",0,"-",0,0,0,0,"GAZETTED - REGULAR",1,{"$f":"IF(AND(BC71=\"\"),\"\",IF(BC71=0,\"\",1+(MAX(AQ$60:AQ70))))","v":""},12,0,0,0,0,0,0,0,0,0,0,0,{"$f":"IF(AND(BP71=\"\"),\"\",IF(BP71=0,\"\",1+(MAX(BD$60:BD70))))","v":""},12,0,0,0,0,0,0,0,0,0,0,0,{"$f":"IF(AND(CC71=\"\"),\"\",IF(CC71=0,\"\",1+(MAX(BQ$60:BQ70))))","v":""},12,0,0,0,0,0,0,0,0,0,0,0,{"$f":"IF(AND(CP71=\"\"),\"\",IF(CP71=0,\"\",1+(MAX(CD$60:CD70))))","v":""},12,0,0,0,0,0,0,0,0,0,0,0,{"$f":"IF(AND(DC71=\"\"),\"\",IF(DC71=0,\"\",1+(MAX(CQ$60:CQ70))))","v":""},12,0,0,0,0,0,0,0,0,0,0,0]
[0,"L-10",13,"पद रिक्त","TEACHER-III","L-10",null,"-",{"$nulls":4},"GAZETTED - REGULAR",{"$nulls":14},"",0,{"$f":"IF(AND(AP72=\"\"),\"\",IF(AP72=0,\"\",1+(MAX(AD$60:AD71))))","v":3},13,"पद रिक्त","TEACHER-III","L-10",0,"-",0,0,0,0,"GAZETTED - REGULAR",1,{"$f":"IF(AND(BC72=\"\"),\"\",IF(BC72=0,\"\",1+(MAX(AQ$60:AQ71))))","v":""},13,0,0,0,0,0,0,0,0,0,0,0,{"$f":"IF(AND(BP72=\"\"),\"\",IF(BP72=0,\"\",1+(MAX(BD$60:BD71))))","v":""},13,0,0,0,0,0,0,0,0,0,0,0,{"$f":"IF(AND(CC72=\"\"),\"\",IF(CC72=0,\"\",1+(MAX(BQ$60:BQ71))))","v":""},13,0,0,0,0,0,0,0,0,0,0,0,{"$f":"IF(AND(CP72=\"\"),\"\",IF(CP72=0,\"\",1+(MAX(CD$60:CD71))))","v":""},13,0,0,0,0,0,0,0,0,0,0,0,{"$f":"IF(AND(DC72=\"\"),\"\",IF(DC72=0,\"\",1+(MAX(CQ$60:CQ71))))","v":""},13,0,0,0,0,0,0,0,0,0,0,0]
[0,"L-10",14,"पद रिक्त","TEACHER-III","L-10",null,"-",{"$nulls":4},"GAZETTED - REGULAR",{"$nulls":14},"",0,{"$f":"IF(AND(AP73=\"\"),\"\",IF(AP73=0,\"\",1+(MAX(AD$60:AD72))))","v":4},14,"पद रिक्त","TEACHER-III","L-10",0,"-",0,0,0,0,"GAZETTED - REGULAR",1,{"$f":"IF(AND(BC73=\"\"),\"\",IF(BC73=0,\"\",1+(MAX(AQ$60:AQ72))))","v":""},14,0,0,0,0,0,0,0,0,0,0,0,{"$f":"IF(AND(BP73=\"\"),\"\",IF(BP73=0,\"\",1+(MAX(BD$60:BD72))))","v":""},14,0,0,0,0,0,0,0,0,0,0,0,{"$f":"IF(AND(CC73=\"\"),\"\",IF(CC73=0,\"\",1+(MAX(BQ$60:BQ72))))","v":""},14,0,0,0,0,0,0,0,0,0,0,0,{"$f":"IF(AND(CP73=\"\"),\"\",IF(CP73=0,\"\",1+(MAX(CD$60:CD72))))","v":""},14,0,0,0,0,0,0,0,0,0,0,0,{"$f":"IF(AND(DC73=\"\"),\"\",IF(DC73=0,\"\",1+(MAX(CQ$60:CQ72))))","v":""},14,0,0,0,0,0,0,0,0,0,0,0]
[0,"L-10",15,"पद रिक्त","TEACHER-III","L-10",null,"-",{"$nulls":4},"NON GAZETTED - REGULAR",{"$nulls":14},"",0,{"$f":"IF(AND(AP74=\"\"),\"\",IF(AP74=0,\"\",1+(MAX(AD$60:AD73))))","v":""},15,0,0,0,0,0,0,0,0,0,0,0,{"$f":"IF(AND(BC74=\"\"),\"\",IF(BC74=0,\"\",1+(MAX(AQ$60:AQ73))))","v":7},15,"पद रिक्त","TEACHER-III","L-10",0,"-",0,0,0,0,"NON GAZETTED - REGULAR",1,{"$f":"IF(AND(BP74=\"\"),\"\",IF(BP74=0,\"\",1+(MAX(BD$60:BD73))))","v":""},15,0,0,0,0,0,0,0,0,0,0,0,{"$f":"IF(AND(CC74=\"\"),\"\",IF(CC74=0,\"\",1+(MAX(BQ$60:BQ73))))","v":""},15,0,0,0,0,0,0,0,0,0,0,0,{"$f":"IF(AND(CP74=\"\"),\"\",IF(CP74=0,\"\",1+(MAX(CD$60:CD73))))","v":""},15,0,0,0,0,0,0,0,0,0,0,0,{"$f":"IF(AND(DC74=\"\"),\"\",IF(DC74=0,\"\",1+(MAX(CQ$60:CQ73))))","v":""},15,0,0,0,0,0,0,0,0,0,0,0]
[0,"L-10",16,"पद रिक्त","TEACHER-III","L-10",null,"-",{"$nulls":4},"NON GAZETTED - REGULAR",{"$nulls":14},"",0,{"$f":"IF(AND(AP75=\"\"),\"\",IF(AP75=0,\"\",1+(MAX(AD$60:AD74))))","v":""},16,0,0,0,0,0,0,0,0,0,0,0,{"$f":"IF(AND(BC75=\"\"),\"\",IF(BC75=0,\"\",1+(MAX(AQ$60:AQ74))))","v":8},16,"पद रिक्त","TEACHER-III","L-10",0,"-",0,0,0,0,"NON GAZETTED - REGULAR",1,{"$f":"IF(AND(BP75=\"\"),\"\",IF(BP75=0,\"\",1+(MAX(BD$60:BD74))))","v":""},16,0,0,0,0,0,0,0,0,0,0,0,{"$f":"IF(AND(CC75=\"\"),\"\",IF(CC75=0,\"\",1+(MAX(BQ$60:BQ74))))","v":""},16,0,0,0,0,0,0,0,0,0,0,0,{"$f":"IF(AND(CP75=\"\"),\"\",IF(CP75=0,\"\",1+(MAX(CD$60:CD74))))","v":""},16,0,0,0,0,0,0,0,0,0,0,0,{"$f":"IF(AND(DC75=\"\"),\"\",IF(DC75=0,\"\",1+(MAX(CQ$60:CQ74))))","v":""},16,0,0,0,0,0,0,0,0,0,0,0]
[0,"L-10",17,"पद रिक्त","PTI  III","L-10",null,"-",{"$nulls":4},"NON GAZETTED - REGULAR",{"$nulls":14},"",0,{"$f":"IF(AND(AP76=\"\"),\"\",IF(AP76=0,\"\",1+(MAX(AD$60:AD75))))","v":""},17,0,0,0,0,0,0,0,0,0,0,0,{"$f":"IF(AND(BC76=\"\"),\"\",IF(BC76=0,\"\",1+(MAX(AQ$60:AQ75))))","v":9},17,"पद रिक्त","PTI  III","L-10",0,"-",0,0,0,0,"NON GAZETTED - REGULAR",1,{"$f":"IF(AND(BP76=\"\"),\"\",IF(BP76=0,\"\",1+(MAX(BD$60:BD75))))","v":""},17,0,0,0,0,0,0,0,0,0,0,0,{"$f":"IF(AND(CC76=\"\"),\"\",IF(CC76=0,\"\",1+(MAX(BQ$60:BQ75))))","v":""},17,0,0,0,0,0,0,0,0,0,0,0,{"$f":"IF(AND(CP76=\"\"),\"\",IF(CP76=0,\"\",1+(MAX(CD$60:CD75))))","v":""},17,0,0,0,0,0,0,0,0,0,0,0,{"$f":"IF(AND(DC76=\"\"),\"\",IF(DC76=0,\"\",1+(MAX(CQ$60:CQ75))))","v":""},17,{"$f":"IF($M76=\"NON GAZETTED - SANVIDA\",D76,0)","v":0},{"$f":"IF($M76=\"NON GAZETTED - SANVIDA\",E76,0)","v":0},{"$f":"IF($M76=\"NON GAZETTED - SANVIDA\",F76,0)","v":0},{"$f":"IF($M76=\"NON GAZETTED - SANVIDA\",G76,0)","v":0},{"$f":"IF($M76=\"NON GAZETTED - SANVIDA\",H76,0)","v":0},{"$f":"IF($M76=\"NON GAZETTED - SANVIDA\",I76,0)","v":0},{"$f":"IF($M76=\"NON GAZETTED - SANVIDA\",J76,0)","v":0},{"$f":"IF($M76=\"NON GAZETTED - SANVIDA\",K76,0)","v":0},{"$f":"IF($M76=\"NON GAZETTED - SANVIDA\",L76,0)","v":0},{"$f":"IF($M76=\"NON GAZETTED - SANVIDA\",M76,0)","v":0},0]
[0,"L-10",18,"पद रिक्त","TEACHER-III","L-10",null,"-",{"$nulls":4},"NON GAZETTED - REGULAR",{"$nulls":14},"",0,{"$f":"IF(AND(AP77=\"\"),\"\",IF(AP77=0,\"\",1+(MAX(AD$60:AD76))))","v":""},18,0,0,0,0,0,0,0,0,0,0,0,{"$f":"IF(AND(BC77=\"\"),\"\",IF(BC77=0,\"\",1+(MAX(AQ$60:AQ76))))","v":10},18,"पद रिक्त","TEACHER-III","L-10",0,"-",0,0,0,0,"NON GAZETTED - REGULAR",1,{"$f":"IF(AND(BP77=\"\"),\"\",IF(BP77=0,\"\",1+(MAX(BD$60:BD76))))","v":""},18,0,0,0,0,0,0,0,0,0,0,0,{"$f":"IF(AND(CC77=\"\"),\"\",IF(CC77=0,\"\",1+(MAX(BQ$60:BQ76))))","v":""},18,0,0,0,0,0,0,0,0,0,0,0,{"$f":"IF(AND(CP77=\"\"),\"\",IF(CP77=0,\"\",1+(MAX(CD$60:CD76))))","v":""},18,0,0,0,0,0,0,0,0,0,0,0,{"$f":"IF(AND(DC77=\"\"),\"\",IF(DC77=0,\"\",1+(MAX(CQ$60:CQ76))))","v":""},18,0,0,0,0,0,0,0,0,0,0,0]
[0,"L-10",19,"पद रिक्त","TEACHER-III","L-10",null,"-",{"$nulls":4},"NON GAZETTED - REGULAR",{"$nulls":14},"",0,{"$f":"IF(AND(AP78=\"\"),\"\",IF(AP78=0,\"\",1+(MAX(AD$60:AD77))))","v":""},19,0,0,0,0,0,0,0,0,0,0,0,{"$f":"IF(AND(BC78=\"\"),\"\",IF(BC78=0,\"\",1+(MAX(AQ$60:AQ77))))","v":11},19,"पद रिक्त","TEACHER-III","L-10",0,"-",0,0,0,0,"NON GAZETTED - REGULAR",1,{"$f":"IF(AND(BP78=\"\"),\"\",IF(BP78=0,\"\",1+(MAX(BD$60:BD77))))","v":""},19,0,0,0,0,0,0,0,0,0,0,0,{"$f":"IF(AND(CC78=\"\"),\"\",IF(CC78=0,\"\",1+(MAX(BQ$60:BQ77))))","v":""},19,0,0,0,0,0,0,0,0,0,0,0,{"$f":"IF(AND(CP78=\"\"),\"\",IF(CP78=0,\"\",1+(MAX(CD$60:CD77))))","v":""},19,0,0,0,0,0,0,0,0,0,0,0,{"$f":"IF(AND(DC78=\"\"),\"\",IF(DC78=0,\"\",1+(MAX(CQ$60:CQ77))))","v":""},19,0,0,0,0,0,0,0,0,0,0,0]
[0,"L-10",20,"पद रिक्त","TEACHER-III","L-10",null,"-",{"$nulls":4},"NON GAZETTED - REGULAR",{"$nulls":14},"",0,{"$f":"IF(AND(AP79=\"\"),\"\",IF(AP79=0,\"\",1+(MAX(AD$60:AD78))))","v":""},20,0,0,0,0,0,0,0,0,0,0,0,{"$f":"IF(AND(BC79=\"\"),\"\",IF(BC79=0,\"\",1+(MAX(AQ$60:AQ78))))","v":12},20,"पद रिक्त","TEACHER-III","L-10",0,"-",0,0,0,0,"NON GAZETTED - REGULAR",1,{"$f":"IF(AND(BP79=\"\"),\"\",IF(BP79=0,\"\",1+(MAX(BD$60:BD78))))","v":""},20,0,0,0,0,0,0,0,0,0,0,0,{"$f":"IF(AND(CC79=\"\"),\"\",IF(CC79=0,\"\",1+(MAX(BQ$60:BQ78))))","v":""},20,0,0,0,0,0,0,0,0,0,0,0,{"$f":"IF(AND(CP79=\"\"),\"\",IF(CP79=0,\"\",1+(MAX(CD$60:CD78))))","v":""},20,0,0,0,0,0,0,0,0,0,0,0,{"$f":"IF(AND(DC79=\"\"),\"\",IF(DC79=0,\"\",1+(MAX(CQ$60:CQ78))))","v":""},20,0,0,0,0,0,0,0,0,0,0,0]
[0,"L-11",21,"पद रिक्त","TEACHER-II","L-11",null,"-",{"$nulls":4},"NON GAZETTED - REGULAR",{"$nulls":14},"",0,{"$f":"IF(AND(AP80=\"\"),\"\",IF(AP80=0,\"\",1+(MAX(AD$60:AD79))))","v":""},21,0,0,0,0,0,0,0,0,0,0,0,{"$f":"IF(AND(BC80=\"\"),\"\",IF(BC80=0,\"\",1+(MAX(AQ$60:AQ79))))","v":13},21,"पद रिक्त","TEACHER-II","L-11",0,"-",0,0,0,0,"NON GAZETTED - REGULAR",1,{"$f":"IF(AND(BP80=\"\"),\"\",IF(BP80=0,\"\",1+(MAX(BD$60:BD79))))","v":""},21,0,0,0,0,0,0,0,0,0,0,0,{"$f":"IF(AND(CC80=\"\"),\"\",IF(CC80=0,\"\",1+(MAX(BQ$60:BQ79))))","v":""},21,0,0,0,0,0,0,0,0,0,0,0,{"$f":"IF(AND(CP80=\"\"),\"\",IF(CP80=0,\"\",1+(MAX(CD$60:CD79))))","v":""},21,0,0,0,0,0,0,0,0,0,0,0,{"$f":"IF(AND(DC80=\"\"),\"\",IF(DC80=0,\"\",1+(MAX(CQ$60:CQ79))))","v":""},21,0,0,0,0,0,0,0,0,0,0,0]
[0,"L-10",22,"पद रिक्त","TEACHER-III","L-10",null,"-",{"$nulls":4},"NON GAZETTED - REGULAR",{"$nulls":14},"",0,{"$f":"IF(AND(AP81=\"\"),\"\",IF(AP81=0,\"\",1+(MAX(AD$60:AD80))))","v":""},22,0,0,0,0,0,0,0,0,0,0,0,{"$f":"IF(AND(BC81=\"\"),\"\",IF(BC81=0,\"\",1+(MAX(AQ$60:AQ80))))","v":14},22,"पद रिक्त","TEACHER-III","L-10",0,"-",0,0,0,0,"NON GAZETTED - REGULAR",1,{"$f":"IF(AND(BP81=\"\"),\"\",IF(BP81=0,\"\",1+(MAX(BD$60:BD80))))","v":""},22,0,0,0,0,0,0,0,0,0,0,0,{"$f":"IF(AND(CC81=\"\"),\"\",IF(CC81=0,\"\",1+(MAX(BQ$60:BQ80))))","v":""},22,0,0,0,0,0,0,0,0,0,0,0,{"$f":"IF(AND(CP81=\"\"),\"\",IF(CP81=0,\"\",1+(MAX(CD$60:CD80))))","v":""},22,0,0,0,0,0,0,0,0,0,0,0,{"$f":"IF(AND(DC81=\"\"),\"\",IF(DC81=0,\"\",1+(MAX(CQ$60:CQ80))))","v":""},22,0,0,0,0,0,0,0,0,0,0,0]
[0,"L-10",23,"पद रिक्त","TEACHER-III","L-10",null,"-",{"$nulls":4},"NON GAZETTED - REGULAR",{"$nulls":14},"",0,{"$f":"IF(AND(AP82=\"\"),\"\",IF(AP82=0,\"\",1+(MAX(AD$60:AD81))))","v":""},23,0,0,0,0,0,0,0,0,0,0,0,{"$f":"IF(AND(BC82=\"\"),\"\",IF(BC82=0,\"\",1+(MAX(AQ$60:AQ81))))","v":15},23,"पद रिक्त","TEACHER-III","L-10",0,"-",0,0,0,0,"NON GAZETTED - REGULAR",1,{"$f":"IF(AND(BP82=\"\"),\"\",IF(BP82=0,\"\",1+(MAX(BD$60:BD81))))","v":""},23,0,0,0,0,0,0,0,0,0,0,0,{"$f":"IF(AND(CC82=\"\"),\"\",IF(CC82=0,\"\",1+(MAX(BQ$60:BQ81))))","v":""},23,0,0,0,0,0,0,0,0,0,0,0,{"$f":"IF(AND(CP82=\"\"),\"\",IF(CP82=0,\"\",1+(MAX(CD$60:CD81))))","v":""},23,0,0,0,0,0,0,0,0,0,0,0,{"$f":"IF(AND(DC82=\"\"),\"\",IF(DC82=0,\"\",1+(MAX(CQ$60:CQ81))))","v":""},23,0,0,0,0,0,0,0,0,0,0,0]
[0,"L-10",24,"पद रिक्त","TEACHER-III","L-10",null,"-",{"$nulls":4},"NON GAZETTED - REGULAR",{"$nulls":14},"",0,{"$f":"IF(AND(AP83=\"\"),\"\",IF(AP83=0,\"\",1+(MAX(AD$60:AD82))))","v":""},24,0,0,0,0,0,0,0,0,0,0,0,{"$f":"IF(AND(BC83=\"\"),\"\",IF(BC83=0,\"\",1+(MAX(AQ$60:AQ82))))","v":16},24,"पद रिक्त","TEACHER-III","L-10",0,"-",0,0,0,0,"NON GAZETTED - REGULAR",1,{"$f":"IF(AND(BP83=\"\"),\"\",IF(BP83=0,\"\",1+(MAX(BD$60:BD82))))","v":""},24,0,0,0,0,0,0,0,0,0,0,0,{"$f":"IF(AND(CC83=\"\"),\"\",IF(CC83=0,\"\",1+(MAX(BQ$60:BQ82))))","v":""},24,0,0,0,0,0,0,0,0,0,0,0,{"$f":"IF(AND(CP83=\"\"),\"\",IF(CP83=0,\"\",1+(MAX(CD$60:CD82))))","v":""},24,0,0,0,0,0,0,0,0,0,0,0,{"$f":"IF(AND(DC83=\"\"),\"\",IF(DC83=0,\"\",1+(MAX(CQ$60:CQ82))))","v":""},24,0,0,0,0,0,0,0,0,0,0,0]
[0,"L-10",25,"पद रिक्त","PTI  III","L-10",null,"-",{"$nulls":4},"NON GAZETTED - REGULAR",{"$nulls":14},"",0,{"$f":"IF(AND(AP84=\"\"),\"\",IF(AP84=0,\"\",1+(MAX(AD$60:AD83))))","v":""},25,0,0,0,0,0,0,0,0,0,0,0,{"$f":"IF(AND(BC84=\"\"),\"\",IF(BC84=0,\"\",1+(MAX(AQ$60:AQ83))))","v":17},25,"पद रिक्त","PTI  III","L-10",0,"-",0,0,0,0,"NON GAZETTED - REGULAR",1,{"$f":"IF(AND(BP84=\"\"),\"\",IF(BP84=0,\"\",1+(MAX(BD$60:BD83))))","v":""},25,0,0,0,0,0,0,0,0,0,0,0,{"$f":"IF(AND(CC84=\"\"),\"\",IF(CC84=0,\"\",1+(MAX(BQ$60:BQ83))))","v":""},25,0,0,0,0,0,0,0,0,0,0,0,{"$f":"IF(AND(CP84=\"\"),\"\",IF(CP84=0,\"\",1+(MAX(CD$60:CD83))))","v":""},25,0,0,0,0,0,0,0,0,0,0,0,{"$f":"IF(AND(DC84=\"\"),\"\",IF(DC84=0,\"\",1+(MAX(CQ$60:CQ83))))","v":""},25,0,0,0,0,0,0,0,0,0,0,0]
[0,"L-10",26,"पद रिक्त","TEACHER-III","L-10",null,"-",{"$nulls":4},"NON GAZETTED - REGULAR",{"$nulls":14},"",0,{"$f":"IF(AND(AP85=\"\"),\"\",IF(AP85=0,\"\",1+(MAX(AD$60:AD84))))","v":""},26,0,0,0,0,0,0,0,0,0,0,0,{"$f":"IF(AND(BC85=\"\"),\"\",IF(BC85=0,\"\",1+(MAX(AQ$60:AQ84))))","v":18},26,"पद रिक्त","TEACHER-III","L-10",0,"-",0,0,0,0,"NON GAZETTED - REGULAR",1,{"$f":"IF(AND(BP85=\"\"),\"\",IF(BP85=0,\"\",1+(MAX(BD$60:BD84))))","v":""},26,0,0,0,0,0,0,0,0,0,0,0,{"$f":"IF(AND(CC85=\"\"),\"\",IF(CC85=0,\"\",1+(MAX(BQ$60:BQ84))))","v":""},26,0,0,0,0,0,0,0,0,0,0,0,{"$f":"IF(AND(CP85=\"\"),\"\",IF(CP85=0,\"\",1+(MAX(CD$60:CD84))))","v":""},26,0,0,0,0,0,0,0,0,0,0,0,{"$f":"IF(AND(DC85=\"\"),\"\",IF(DC85=0,\"\",1+(MAX(CQ$60:CQ84))))","v":""},26,0,0,0,0,0,0,0,0,0,0,0]
[0,0,27,{"$nulls":24},"",1,{"$f":"IF(AND(AP86=\"\"),\"\",IF(AP86=0,\"\",1+(MAX(AD$60:AD85))))","v":""},27,0,0,0,0,0,0,0,0,0,0,"",{"$f":"IF(AND(BC86=\"\"),\"\",IF(BC86=0,\"\",1+(MAX(AQ$60:AQ85))))","v":""},27,0,0,0,0,0,0,0,0,0,0,"",{"$f":"IF(AND(BP86=\"\"),\"\",IF(BP86=0,\"\",1+(MAX(BD$60:BD85))))","v":""},27,0,0,0,0,0,0,0,0,0,0,"",{"$f":"IF(AND(CC86=\"\"),\"\",IF(CC86=0,\"\",1+(MAX(BQ$60:BQ85))))","v":""},27,0,0,0,0,0,0,0,0,0,0,"",{"$f":"IF(AND(CP86=\"\"),\"\",IF(CP86=0,\"\",1+(MAX(CD$60:CD85))))","v":""},27,0,0,0,0,0,0,0,0,0,0,"",{"$f":"IF(AND(DC86=\"\"),\"\",IF(DC86=0,\"\",1+(MAX(CQ$60:CQ85))))","v":""},27,0,0,0,0,0,0,0,0,0,0,""]
[0,0,28,{"$nulls":24},"",1,{"$f":"IF(AND(AP87=\"\"),\"\",IF(AP87=0,\"\",1+(MAX(AD$60:AD86))))","v":""},28,0,0,0,0,0,0,0,0,0,0,"",{"$f":"IF(AND(BC87=\"\"),\"\",IF(BC87=0,\"\",1+(MAX(AQ$60:AQ86))))","v":""},28,0,0,0,0,0,0,0,0,0,0,"",{"$f":"IF(AND(BP87=\"\"),\"\",IF(BP87=0,\"\",1+(MAX(BD$60:BD86))))","v":""},28,0,0,0,0,0,0,0,0,0,0,"",{"$f":"IF(AND(CC87=\"\"),\"\",IF(CC87=0,\"\",1+(MAX(BQ$60:BQ86))))","v":""},28,0,0,0,0,0,0,0,0,0,0,"",{"$f":"IF(AND(CP87=\"\"),\"\",IF(CP87=0,\"\",1+(MAX(CD$60:CD86))))","v":""},28,0,0,0,0,0,0,0,0,0,0,"",{"$f":"IF(AND(DC87=\"\"),\"\",IF(DC87=0,\"\",1+(MAX(CQ$60:CQ86))))","v":""},28,0,0,0,0,0,0,0,0,0,0,""]
[0,0,29,{"$nulls":24},"",1,{"$f":"IF(AND(AP88=\"\"),\"\",IF(AP88=0,\"\",1+(MAX(AD$60:AD87))))","v":""},29,0,0,0,0,0,0,0,0,0,0,"",{"$f":"IF(AND(BC88=\"\"),\"\",IF(BC88=0,\"\",1+(MAX(AQ$60:AQ87))))","v":""},29,0,0,0,0,0,0,0,0,0,0,"",{"$f":"IF(AND(BP88=\"\"),\"\",IF(BP88=0,\"\",1+(MAX(BD$60:BD87))))","v":""},29,0,0,0,0,0,0,0,0,0,0,"",{"$f":"IF(AND(CC88=\"\"),\"\",IF(CC88=0,\"\",1+(MAX(BQ$60:BQ87))))","v":""},29,0,0,0,0,0,0,0,0,0,0,"",{"$f":"IF(AND(CP88=\"\"),\"\",IF(CP88=0,\"\",1+(MAX(CD$60:CD87))))","v":""},29,0,0,0,0,0,0,0,0,0,0,"",{"$f":"IF(AND(DC88=\"\"),\"\",IF(DC88=0,\"\",1+(MAX(CQ$60:CQ87))))","v":""},29,0,0,0,0,0,0,0,0,0,0,""]
[0,0,30,{"$nulls":24},"",1,{"$f":"IF(AND(AP89=\"\"),\"\",IF(AP89=0,\"\",1+(MAX(AD$60:AD88))))","v":""},30,0,0,0,0,0,0,0,0,0,0,"",{"$f":"IF(AND(BC89=\"\"),\"\",IF(BC89=0,\"\",1+(MAX(AQ$60:AQ88))))","v":""},30,0,0,0,0,0,0,0,0,0,0,"",{"$f":"IF(AND(BP89=\"\"),\"\",IF(BP89=0,\"\",1+(MAX(BD$60:BD88))))","v":""},30,0,0,0,0,0,0,0,0,0,0,"",{"$f":"IF(AND(CC89=\"\"),\"\",IF(CC89=0,\"\",1+(MAX(BQ$60:BQ88))))","v":""},30,0,0,0,0,0,0,0,0,0,0,"",{"$f":"IF(AND(CP89=\"\"),\"\",IF(CP89=0,\"\",1+(MAX(CD$60:CD88))))","v":""},30,0,0,0,0,0,0,0,0,0,0,"",{"$f":"IF(AND(DC89=\"\"),\"\",IF(DC89=0,\"\",1+(MAX(CQ$60:CQ88))))","v":""},30,0,0,0,0,0,0,0,0,0,0,""]
[0,0,31,{"$nulls":24},"",1,{"$f":"IF(AND(AP90=\"\"),\"\",IF(AP90=0,\"\",1+(MAX(AD$60:AD89))))","v":""},31,0,0,0,0,0,0,0,0,0,0,"",{"$f":"IF(AND(BC90=\"\"),\"\",IF(BC90=0,\"\",1+(MAX(AQ$60:AQ89))))","v":""},31,0,0,0,0,0,0,0,0,0,0,"",{"$f":"IF(AND(BP90=\"\"),\"\",IF(BP90=0,\"\",1+(MAX(BD$60:BD89))))","v":""},31,0,0,0,0,0,0,0,0,0,0,"",{"$f":"IF(AND(CC90=\"\"),\"\",IF(CC90=0,\"\",1+(MAX(BQ$60:BQ89))))","v":""},31,0,0,0,0,0,0,0,0,0,0,"",{"$f":"IF(AND(CP90=\"\"),\"\",IF(CP90=0,\"\",1+(MAX(CD$60:CD89))))","v":""},31,0,0,0,0,0,0,0,0,0,0,"",{"$f":"IF(AND(DC90=\"\"),\"\",IF(DC90=0,\"\",1+(MAX(CQ$60:CQ89))))","v":""},31,0,0,0,0,0,0,0,0,0,0,""]
[0,0,32,{"$nulls":24},"",1,{"$f":"IF(AND(AP91=\"\"),\"\",IF(AP91=0,\"\",1+(MAX(AD$60:AD90))))","v":""},32,0,0,0,0,0,0,0,0,0,0,"",{"$f":"IF(AND(BC91=\"\"),\"\",IF(BC91=0,\"\",1+(MAX(AQ$60:AQ90))))","v":""},32,0,0,0,0,0,0,0,0,0,0,"",{"$f":"IF(AND(BP91=\"\"),\"\",IF(BP91=0,\"\",1+(MAX(BD$60:BD90))))","v":""},32,0,0,0,0,0,0,0,0,0,0,"",{"$f":"IF(AND(CC91=\"\"),\"\",IF(CC91=0,\"\",1+(MAX(BQ$60:BQ90))))","v":""},32,0,0,0,0,0,0,0,0,0,0,"",{"$f":"IF(AND(CP91=\"\"),\"\",IF(CP91=0,\"\",1+(MAX(CD$60:CD90))))","v":""},32,0,0,0,0,0,0,0,0,0,0,"",{"$f":"IF(AND(DC91=\"\"),\"\",IF(DC91=0,\"\",1+(MAX(CQ$60:CQ90))))","v":""},32,0,0,0,0,0,0,0,0,0,0,""]
[0,0,33,{"$nulls":24},{"$f":"MID(H92,5,4)","v":""},1,{"$f":"IF(AND(AP92=\"\"),\"\",IF(AP92=0,\"\",1+(MAX(AD$60:AD91))))","v":""},33,0,0,0,0,0,0,0,0,0,0,"",{"$f":"IF(AND(BC92=\"\"),\"\",IF(BC92=0,\"\",1+(MAX(AQ$60:AQ91))))","v":""},33,0,0,0,0,0,0,0,0,0,0,"",{"$f":"IF(AND(BP92=\"\"),\"\",IF(BP92=0,\"\",1+(MAX(BD$60:BD91))))","v":""},33,0,0,0,0,0,0,0,0,0,0,"",{"$f":"IF(AND(CC92=\"\"),\"\",IF(CC92=0,\"\",1+(MAX(BQ$60:BQ91))))","v":""},33,0,0,0,0,0,0,0,0,0,0,"",{"$f":"IF(AND(CP92=\"\"),\"\",IF(CP92=0,\"\",1+(MAX(CD$60:CD91))))","v":""},33,0,0,0,0,0,0,0,0,0,0,"",{"$f":"IF(AND(DC92=\"\"),\"\",IF(DC92=0,\"\",1+(MAX(CQ$60:CQ91))))","v":""},33,0,0,0,0,0,0,0,0,0,0,""]
[0,0,34,{"$nulls":24},"",1,{"$f":"IF(AND(AP93=\"\"),\"\",IF(AP93=0,\"\",1+(MAX(AD$60:AD92))))","v":""},34,0,0,0,0,0,0,0,0,0,0,"",{"$f":"IF(AND(BC93=\"\"),\"\",IF(BC93=0,\"\",1+(MAX(AQ$60:AQ92))))","v":""},34,0,0,0,0,0,0,0,0,0,0,"",{"$f":"IF(AND(BP93=\"\"),\"\",IF(BP93=0,\"\",1+(MAX(BD$60:BD92))))","v":""},34,{"$f":"IF($M93=\"GAZETTED - FIX PAY\",D93,0)","v":0},{"$f":"IF($M93=\"GAZETTED - FIX PAY\",E93,0)","v":0},{"$f":"IF($M93=\"GAZETTED - FIX PAY\",F93,0)","v":0},{"$f":"IF($M93=\"GAZETTED - FIX PAY\",G93,0)","v":0},{"$f":"IF($M93=\"GAZETTED - FIX PAY\",H93,0)","v":0},{"$f":"IF($M93=\"GAZETTED - FIX PAY\",I93,0)","v":0},{"$f":"IF($M93=\"GAZETTED - FIX PAY\",J93,0)","v":0},{"$f":"IF($M93=\"GAZETTED - FIX PAY\",K93,0)","v":0},{"$f":"IF($M93=\"GAZETTED - FIX PAY\",L93,0)","v":0},0,"",{"$f":"IF(AND(CC93=\"\"),\"\",IF(CC93=0,\"\",1+(MAX(BQ$60:BQ92))))","v":""},34,{"$f":"IF($M93=\"NON GAZETTED - FIX PAY\",D93,0)","v":0},{"$f":"IF($M93=\"NON GAZETTED - FIX PAY\",E93,0)","v":0},{"$f":"IF($M93=\"NON GAZETTED - FIX PAY\",F93,0)","v":0},{"$f":"IF($M93=\"NON GAZETTED - FIX PAY\",G93,0)","v":0},{"$f":"IF($M93=\"NON GAZETTED - FIX PAY\",H93,0)","v":0},{"$f":"IF($M93=\"NON GAZETTED - FIX PAY\",I93,0)","v":0},{"$f":"IF($M93=\"NON GAZETTED - FIX PAY\",J93,0)","v":0},{"$f":"IF($M93=\"NON GAZETTED - FIX PAY\",K93,0)","v":0},{"$f":"IF($M93=\"NON GAZETTED - FIX PAY\",L93,0)","v":0},0,"",{"$f":"IF(AND(CP93=\"\"),\"\",IF(CP93=0,\"\",1+(MAX(CD$60:CD92))))","v":""},34,0,0,0,0,0,0,0,0,0,0,"",{"$f":"IF(AND(DC93=\"\"),\"\",IF(DC93=0,\"\",1+(MAX(CQ$60:CQ92))))","v":""},34,0,0,0,0,0,0,0,0,0,0,""]
[0,0,35,{"$nulls":24},"",1,{"$f":"IF(AND(AP94=\"\"),\"\",IF(AP94=0,\"\",1+(MAX(AD$60:AD93))))","v":""},35,0,0,0,0,0,0,0,0,0,0,"",{"$f":"IF(AND(BC94=\"\"),\"\",IF(BC94=0,\"\",1+(MAX(AQ$60:AQ93))))","v":""},35,0,0,0,0,0,0,0,0,0,0,"",{"$f":"IF(AND(BP94=\"\"),\"\",IF(BP94=0,\"\",1+(MAX(BD$60:BD93))))","v":""},35,0,0,0,0,0,0,0,0,0,0,"",{"$f":"IF(AND(CC94=\"\"),\"\",IF(CC94=0,\"\",1+(MAX(BQ$60:BQ93))))","v":""},35,0,0,0,0,0,0,0,0,0,0,"",{"$f":"IF(AND(CP94=\"\"),\"\",IF(CP94=0,\"\",1+(MAX(CD$60:CD93))))","v":""},35,0,0,0,0,0,0,0,0,0,0,"",{"$f":"IF(AND(DC94=\"\"),\"\",IF(DC94=0,\"\",1+(MAX(CQ$60:CQ93))))","v":""},35,0,0,0,0,0,0,0,0,0,0,""]
[0,0,36,{"$nulls":24},"",1,{"$f":"IF(AND(AP95=\"\"),\"\",IF(AP95=0,\"\",1+(MAX(AD$60:AD94))))","v":""},36,0,0,0,0,0,0,0,0,0,0,"",{"$f":"IF(AND(BC95=\"\"),\"\",IF(BC95=0,\"\",1+(MAX(AQ$60:AQ94))))","v":""},36,0,0,0,0,0,0,0,0,0,0,"",{"$f":"IF(AND(BP95=\"\"),\"\",IF(BP95=0,\"\",1+(MAX(BD$60:BD94))))","v":""},36,0,0,0,0,0,0,0,0,0,0,"",{"$f":"IF(AND(CC95=\"\"),\"\",IF(CC95=0,\"\",1+(MAX(BQ$60:BQ94))))","v":""},36,0,0,0,0,0,0,0,0,0,0,"",{"$f":"IF(AND(CP95=\"\"),\"\",IF(CP95=0,\"\",1+(MAX(CD$60:CD94))))","v":""},36,0,0,0,0,0,0,0,0,0,0,"",{"$f":"IF(AND(DC95=\"\"),\"\",IF(DC95=0,\"\",1+(MAX(CQ$60:CQ94))))","v":""},36,0,0,0,0,0,0,0,0,0,0,""]
[0,0,37,{"$nulls":24},"",1,{"$f":"IF(AND(AP96=\"\"),\"\",IF(AP96=0,\"\",1+(MAX(AD$60:AD95))))","v":""},37,0,0,0,0,0,0,0,0,0,0,"",{"$f":"IF(AND(BC96=\"\"),\"\",IF(BC96=0,\"\",1+(MAX(AQ$60:AQ95))))","v":""},37,0,0,0,0,0,0,0,0,0,0,"",{"$f":"IF(AND(BP96=\"\"),\"\",IF(BP96=0,\"\",1+(MAX(BD$60:BD95))))","v":""},37,0,0,0,0,0,0,0,0,0,0,"",{"$f":"IF(AND(CC96=\"\"),\"\",IF(CC96=0,\"\",1+(MAX(BQ$60:BQ95))))","v":""},37,0,0,0,0,0,0,0,0,0,0,"",{"$f":"IF(AND(CP96=\"\"),\"\",IF(CP96=0,\"\",1+(MAX(CD$60:CD95))))","v":""},37,0,0,0,0,0,0,0,0,0,0,"",{"$f":"IF(AND(DC96=\"\"),\"\",IF(DC96=0,\"\",1+(MAX(CQ$60:CQ95))))","v":""},37,0,0,0,0,0,0,0,0,0,0,""]
[0,0,38,{"$nulls":24},"",1,{"$f":"IF(AND(AP97=\"\"),\"\",IF(AP97=0,\"\",1+(MAX(AD$60:AD96))))","v":""},38,0,0,0,0,0,0,0,0,0,0,"",{"$f":"IF(AND(BC97=\"\"),\"\",IF(BC97=0,\"\",1+(MAX(AQ$60:AQ96))))","v":""},38,0,0,0,0,0,0,0,0,0,0,"",{"$f":"IF(AND(BP97=\"\"),\"\",IF(BP97=0,\"\",1+(MAX(BD$60:BD96))))","v":""},38,0,0,0,0,0,0,0,0,0,0,"",{"$f":"IF(AND(CC97=\"\"),\"\",IF(CC97=0,\"\",1+(MAX(BQ$60:BQ96))))","v":""},38,0,0,0,0,0,0,0,0,0,0,"",{"$f":"IF(AND(CP97=\"\"),\"\",IF(CP97=0,\"\",1+(MAX(CD$60:CD96))))","v":""},38,0,0,0,0,0,0,0,0,0,0,"",{"$f":"IF(AND(DC97=\"\"),\"\",IF(DC97=0,\"\",1+(MAX(CQ$60:CQ96))))","v":""},38,0,0,0,0,0,0,0,0,0,0,""]
[0,0,39,{"$nulls":24},"",1,{"$f":"IF(AND(AP98=\"\"),\"\",IF(AP98=0,\"\",1+(MAX(AD$60:AD97))))","v":""},39,0,0,0,0,0,0,0,0,0,0,"",{"$f":"IF(AND(BC98=\"\"),\"\",IF(BC98=0,\"\",1+(MAX(AQ$60:AQ97))))","v":""},39,0,0,0,0,0,0,0,0,0,0,"",{"$f":"IF(AND(BP98=\"\"),\"\",IF(BP98=0,\"\",1+(MAX(BD$60:BD97))))","v":""},39,0,0,0,0,0,0,0,0,0,0,"",{"$f":"IF(AND(CC98=\"\"),\"\",IF(CC98=0,\"\",1+(MAX(BQ$60:BQ97))))","v":""},39,0,0,0,0,0,0,0,0,0,0,"",{"$f":"IF(AND(CP98=\"\"),\"\",IF(CP98=0,\"\",1+(MAX(CD$60:CD97))))","v":""},39,0,0,0,0,0,0,0,0,0,0,"",{"$f":"IF(AND(DC98=\"\"),\"\",IF(DC98=0,\"\",1+(MAX(CQ$60:CQ97))))","v":""},39,0,0,0,0,0,0,0,0,0,0,""]
[0,0,40,{"$nulls":24},"",1,{"$f":"IF(AND(AP99=\"\"),\"\",IF(AP99=0,\"\",1+(MAX(AD$60:AD98))))","v":""},40,0,0,0,0,0,0,0,0,0,0,"",{"$f":"IF(AND(BC99=\"\"),\"\",IF(BC99=0,\"\",1+(MAX(AQ$60:AQ98))))","v":""},40,0,0,0,0,0,0,0,0,0,0,"",{"$f":"IF(AND(BP99=\"\"),\"\",IF(BP99=0,\"\",1+(MAX(BD$60:BD98))))","v":""},40,0,0,0,0,0,0,0,0,0,0,"",{"$f":"IF(AND(CC99=\"\"),\"\",IF(CC99=0,\"\",1+(MAX(BQ$60:BQ98))))","v":""},40,0,0,0,0,0,0,0,0,0,0,"",{"$f":"IF(AND(CP99=\"\"),\"\",IF(CP99=0,\"\",1+(MAX(CD$60:CD98))))","v":""},40,0,0,0,0,0,0,0,0,0,0,"",{"$f":"IF(AND(DC99=\"\"),\"\",IF(DC99=0,\"\",1+(MAX(CQ$60:CQ98))))","v":""},40,0,0,0,0,0,0,0,0,0,0,""]
[0,0,41,{"$nulls":24},"",1,{"$f":"IF(AND(AP100=\"\"),\"\",IF(AP100=0,\"\",1+(MAX(AD$60:AD99))))","v":""},41,0,0,0,0,0,0,0,0,0,0,"",{"$f":"IF(AND(BC100=\"\"),\"\",IF(BC100=0,\"\",1+(MAX(AQ$60:AQ99))))","v":""},41,0,0,0,0,0,0,0,0,0,0,"",{"$f":"IF(AND(BP100=\"\"),\"\",IF(BP100=0,\"\",1+(MAX(BD$60:BD99))))","v":""},41,0,0,0,0,0,0,0,0,0,0,"",{"$f":"IF(AND(CC100=\"\"),\"\",IF(CC100=0,\"\",1+(MAX(BQ$60:BQ99))))","v":""},41,0,0,0,0,0,0,0,0,0,0,"",{"$f":"IF(AND(CP100=\"\"),\"\",IF(CP100=0,\"\",1+(MAX(CD$60:CD99))))","v":""},41,0,0,0,0,0,0,0,0,0,0,"",{"$f":"IF(AND(DC100=\"\"),\"\",IF(DC100=0,\"\",1+(MAX(CQ$60:CQ99))))","v":""},41,0,0,0,0,0,0,0,0,0,0,""]
[0,0,42,{"$nulls":24},"",1,{"$f":"IF(AND(AP101=\"\"),\"\",IF(AP101=0,\"\",1+(MAX(AD$60:AD100))))","v":""},42,0,0,0,0,0,0,0,0,0,0,"",{"$f":"IF(AND(BC101=\"\"),\"\",IF(BC101=0,\"\",1+(MAX(AQ$60:AQ100))))","v":""},42,0,0,0,0,0,0,0,0,0,0,"",{"$f":"IF(AND(BP101=\"\"),\"\",IF(BP101=0,\"\",1+(MAX(BD$60:BD100))))","v":""},42,0,0,0,0,0,0,0,0,0,0,"",{"$f":"IF(AND(CC101=\"\"),\"\",IF(CC101=0,\"\",1+(MAX(BQ$60:BQ100))))","v":""},42,0,0,0,0,0,0,0,0,0,0,"",{"$f":"IF(AND(CP101=\"\"),\"\",IF(CP101=0,\"\",1+(MAX(CD$60:CD100))))","v":""},42,0,0,0,0,0,0,0,0,0,0,"",{"$f":"IF(AND(DC101=\"\"),\"\",IF(DC101=0,\"\",1+(MAX(CQ$60:CQ100))))","v":""},42,0,0,0,0,0,0,0,0,0,0,""]
[0,0,43,{"$nulls":24},"",1,{"$f":"IF(AND(AP102=\"\"),\"\",IF(AP102=0,\"\",1+(MAX(AD$60:AD101))))","v":""},43,0,0,0,0,0,0,0,0,0,0,"",{"$f":"IF(AND(BC102=\"\"),\"\",IF(BC102=0,\"\",1+(MAX(AQ$60:AQ101))))","v":""},43,0,0,0,0,0,0,0,0,0,0,"",{"$f":"IF(AND(BP102=\"\"),\"\",IF(BP102=0,\"\",1+(MAX(BD$60:BD101))))","v":""},43,0,0,0,0,0,0,0,0,0,0,"",{"$f":"IF(AND(CC102=\"\"),\"\",IF(CC102=0,\"\",1+(MAX(BQ$60:BQ101))))","v":""},43,0,0,0,0,0,0,0,0,0,0,"",{"$f":"IF(AND(CP102=\"\"),\"\",IF(CP102=0,\"\",1+(MAX(CD$60:CD101))))","v":""},43,0,0,0,0,0,0,0,0,0,0,"",{"$f":"IF(AND(DC102=\"\"),\"\",IF(DC102=0,\"\",1+(MAX(CQ$60:CQ101))))","v":""},43,0,0,0,0,0,0,0,0,0,0,""]
[0,0,44,{"$nulls":24},"",1,{"$f":"IF(AND(AP103=\"\"),\"\",IF(AP103=0,\"\",1+(MAX(AD$60:AD102))))","v":""},44,0,0,0,0,0,0,0,0,0,0,"",{"$f":"IF(AND(BC103=\"\"),\"\",IF(BC103=0,\"\",1+(MAX(AQ$60:AQ102))))","v":""},44,0,0,0,0,0,0,0,0,0,0,"",{"$f":"IF(AND(BP103=\"\"),\"\",IF(BP103=0,\"\",1+(MAX(BD$60:BD102))))","v":""},44,0,0,0,0,0,0,0,0,0,0,"",{"$f":"IF(AND(CC103=\"\"),\"\",IF(CC103=0,\"\",1+(MAX(BQ$60:BQ102))))","v":""},44,0,0,0,0,0,0,0,0,0,0,"",{"$f":"IF(AND(CP103=\"\"),\"\",IF(CP103=0,\"\",1+(MAX(CD$60:CD102))))","v":""},44,0,0,0,0,0,0,0,0,0,0,"",{"$f":"IF(AND(DC103=\"\"),\"\",IF(DC103=0,\"\",1+(MAX(CQ$60:CQ102))))","v":""},44,0,0,0,0,0,0,0,0,0,0,""]
[0,0,45,{"$nulls":24},"",1,{"$f":"IF(AND(AP104=\"\"),\"\",IF(AP104=0,\"\",1+(MAX(AD$60:AD103))))","v":""},45,0,0,0,0,0,0,0,0,0,0,"",{"$f":"IF(AND(BC104=\"\"),\"\",IF(BC104=0,\"\",1+(MAX(AQ$60:AQ103))))","v":""},45,0,0,0,0,0,0,0,0,0,0,"",{"$f":"IF(AND(BP104=\"\"),\"\",IF(BP104=0,\"\",1+(MAX(BD$60:BD103))))","v":""},45,0,0,0,0,0,0,0,0,0,0,"",{"$f":"IF(AND(CC104=\"\"),\"\",IF(CC104=0,\"\",1+(MAX(BQ$60:BQ103))))","v":""},45,0,0,0,0,0,0,0,0,0,0,"",{"$f":"IF(AND(CP104=\"\"),\"\",IF(CP104=0,\"\",1+(MAX(CD$60:CD103))))","v":""},45,0,0,0,0,0,0,0,0,0,0,"",{"$f":"IF(AND(DC104=\"\"),\"\",IF(DC104=0,\"\",1+(MAX(CQ$60:CQ103))))","v":""},45,0,0,0,0,0,0,0,0,0,0,""]
[0,0,46,{"$nulls":24},"",1,{"$f":"IF(AND(AP105=\"\"),\"\",IF(AP105=0,\"\",1+(MAX(AD$60:AD104))))","v":""},46,0,0,0,0,0,0,0,0,0,0,"",{"$f":"IF(AND(BC105=\"\"),\"\",IF(BC105=0,\"\",1+(MAX(AQ$60:AQ104))))","v":""},46,0,0,0,0,0,0,0,0,0,0,"",{"$f":"IF(AND(BP105=\"\"),\"\",IF(BP105=0,\"\",1+(MAX(BD$60:BD104))))","v":""},46,0,0,0,0,0,0,0,0,0,0,"",{"$f":"IF(AND(CC105=\"\"),\"\",IF(CC105=0,\"\",1+(MAX(BQ$60:BQ104))))","v":""},46,0,0,0,0,0,0,0,0,0,0,"",{"$f":"IF(AND(CP105=\"\"),\"\",IF(CP105=0,\"\",1+(MAX(CD$60:CD104))))","v":""},46,0,0,0,0,0,0,0,0,0,0,"",{"$f":"IF(AND(DC105=\"\"),\"\",IF(DC105=0,\"\",1+(MAX(CQ$60:CQ104))))","v":""},46,0,0,0,0,0,0,0,0,0,0,""]
[0,0,47,{"$nulls":24},"",1,{"$f":"IF(AND(AP106=\"\"),\"\",IF(AP106=0,\"\",1+(MAX(AD$60:AD105))))","v":""},47,0,0,0,0,0,0,0,0,0,0,"",{"$f":"IF(AND(BC106=\"\"),\"\",IF(BC106=0,\"\",1+(MAX(AQ$60:AQ105))))","v":""},47,0,0,0,0,0,0,0,0,0,0,"",{"$f":"IF(AND(BP106=\"\"),\"\",IF(BP106=0,\"\",1+(MAX(BD$60:BD105))))","v":""},47,0,0,0,0,0,0,0,0,0,0,"",{"$f":"IF(AND(CC106=\"\"),\"\",IF(CC106=0,\"\",1+(MAX(BQ$60:BQ105))))","v":""},47,0,0,0,0,0,0,0,0,0,0,"",{"$f":"IF(AND(CP106=\"\"),\"\",IF(CP106=0,\"\",1+(MAX(CD$60:CD105))))","v":""},47,0,0,0,0,0,0,0,0,0,0,"",{"$f":"IF(AND(DC106=\"\"),\"\",IF(DC106=0,\"\",1+(MAX(CQ$60:CQ105))))","v":""},47,0,0,0,0,0,0,0,0,0,0,""]
[0,0,48,{"$nulls":24},"",1,{"$f":"IF(AND(AP107=\"\"),\"\",IF(AP107=0,\"\",1+(MAX(AD$60:AD106))))","v":""},48,0,0,0,0,0,0,0,0,0,0,"",{"$f":"IF(AND(BC107=\"\"),\"\",IF(BC107=0,\"\",1+(MAX(AQ$60:AQ106))))","v":""},48,0,0,0,0,0,0,0,0,0,0,"",{"$f":"IF(AND(BP107=\"\"),\"\",IF(BP107=0,\"\",1+(MAX(BD$60:BD106))))","v":""},48,0,0,0,0,0,0,0,0,0,0,"",{"$f":"IF(AND(CC107=\"\"),\"\",IF(CC107=0,\"\",1+(MAX(BQ$60:BQ106))))","v":""},48,0,0,0,0,0,0,0,0,0,0,"",{"$f":"IF(AND(CP107=\"\"),\"\",IF(CP107=0,\"\",1+(MAX(CD$60:CD106))))","v":""},48,0,0,0,0,0,0,0,0,0,0,"",{"$f":"IF(AND(DC107=\"\"),\"\",IF(DC107=0,\"\",1+(MAX(CQ$60:CQ106))))","v":""},48,0,0,0,0,0,0,0,0,0,0,""]
[0,0,49,{"$nulls":24},"",1,{"$f":"IF(AND(AP108=\"\"),\"\",IF(AP108=0,\"\",1+(MAX(AD$60:AD107))))","v":""},49,0,0,0,0,0,0,0,0,0,0,"",{"$f":"IF(AND(BC108=\"\"),\"\",IF(BC108=0,\"\",1+(MAX(AQ$60:AQ107))))","v":""},49,0,0,0,0,0,0,0,0,0,0,"",{"$f":"IF(AND(BP108=\"\"),\"\",IF(BP108=0,\"\",1+(MAX(BD$60:BD107))))","v":""},49,0,0,0,0,0,0,0,0,0,0,"",{"$f":"IF(AND(CC108=\"\"),\"\",IF(CC108=0,\"\",1+(MAX(BQ$60:BQ107))))","v":""},49,0,0,0,0,0,0,0,0,0,0,"",{"$f":"IF(AND(CP108=\"\"),\"\",IF(CP108=0,\"\",1+(MAX(CD$60:CD107))))","v":""},49,0,0,0,0,0,0,0,0,0,0,"",{"$f":"IF(AND(DC108=\"\"),\"\",IF(DC108=0,\"\",1+(MAX(CQ$60:CQ107))))","v":""},49,0,0,0,0,0,0,0,0,0,0,""]
[0,0,50,{"$nulls":24},"",1,{"$f":"IF(AND(AP109=\"\"),\"\",IF(AP109=0,\"\",1+(MAX(AD$60:AD108))))","v":""},50,0,0,0,0,0,0,0,0,0,0,"",{"$f":"IF(AND(BC109=\"\"),\"\",IF(BC109=0,\"\",1+(MAX(AQ$60:AQ108))))","v":""},50,0,0,0,0,0,0,0,0,0,0,"",{"$f":"IF(AND(BP109=\"\"),\"\",IF(BP109=0,\"\",1+(MAX(BD$60:BD108))))","v":""},50,0,0,0,0,0,0,0,0,0,0,"",{"$f":"IF(AND(CC109=\"\"),\"\",IF(CC109=0,\"\",1+(MAX(BQ$60:BQ108))))","v":""},50,0,0,0,0,0,0,0,0,0,0,"",{"$f":"IF(AND(CP109=\"\"),\"\",IF(CP109=0,\"\",1+(MAX(CD$60:CD108))))","v":""},50,0,0,0,0,0,0,0,0,0,0,"",{"$f":"IF(AND(DC109=\"\"),\"\",IF(DC109=0,\"\",1+(MAX(CQ$60:CQ108))))","v":""},50,0,0,0,0,0,0,0,0,0,0,""]
[0,0,51,{"$nulls":24},"",1,{"$f":"IF(AND(AP110=\"\"),\"\",IF(AP110=0,\"\",1+(MAX(AD$60:AD109))))","v":""},51,0,0,0,0,0,0,0,0,0,0,"",{"$f":"IF(AND(BC110=\"\"),\"\",IF(BC110=0,\"\",1+(MAX(AQ$60:AQ109))))","v":""},51,0,0,0,0,0,0,0,0,0,0,"",{"$f":"IF(AND(BP110=\"\"),\"\",IF(BP110=0,\"\",1+(MAX(BD$60:BD109))))","v":""},51,0,0,0,0,0,0,0,0,0,0,"",{"$f":"IF(AND(CC110=\"\"),\"\",IF(CC110=0,\"\",1+(MAX(BQ$60:BQ109))))","v":""},51,0,0,0,0,0,0,0,0,0,0,"",{"$f":"IF(AND(CP110=\"\"),\"\",IF(CP110=0,\"\",1+(MAX(CD$60:CD109))))","v":""},51,0,0,0,0,0,0,0,0,0,0,"",{"$f":"IF(AND(DC110=\"\"),\"\",IF(DC110=0,\"\",1+(MAX(CQ$60:CQ109))))","v":""},51,0,0,0,0,0,0,0,0,0,0,""]
[0,0,52,{"$nulls":24},{"$f":"MID(H111,5,4)","v":""},1,{"$f":"IF(AND(AP111=\"\"),\"\",IF(AP111=0,\"\",1+(MAX(AD$60:AD110))))","v":""},52,{"$f":"IF($M111=\"GAZETTED - REGULAR\",D111,0)","v":0},{"$f":"IF($M111=\"GAZETTED - REGULAR\",E111,0)","v":0},{"$f":"IF($M111=\"GAZETTED - REGULAR\",F111,0)","v":0},{"$f":"IF($M111=\"GAZETTED - REGULAR\",G111,0)","v":0},{"$f":"IF($M111=\"GAZETTED - REGULAR\",H111,0)","v":0},{"$f":"IF($M111=\"GAZETTED - REGULAR\",I111,0)","v":0},{"$f":"IF($M111=\"GAZETTED - REGULAR\",J111,0)","v":0},{"$f":"IF($M111=\"GAZETTED - REGULAR\",K111,0)","v":0},{"$f":"IF($M111=\"GAZETTED - REGULAR\",L111,0)","v":0},{"$f":"IF($M111=\"GAZETTED - REGULAR\",M111,0)","v":0},"",{"$f":"IF(AND(BC111=\"\"),\"\",IF(BC111=0,\"\",1+(MAX(AQ$60:AQ110))))","v":""},52,0,0,0,0,0,0,0,0,0,{"$f":"IF($M111=\"NON GAZETTED - REGULAR\",M111,0)","v":0},"",{"$f":"IF(AND(BP111=\"\"),\"\",IF(BP111=0,\"\",1+(MAX(BD$60:BD110))))","v":""},52,0,0,0,0,0,0,0,0,0,{"$f":"IF($M111=\"GAZETTED - FIX PAY\",M111,0)","v":0},"",{"$f":"IF(AND(CC111=\"\"),\"\",IF(CC111=0,\"\",1+(MAX(BQ$60:BQ110))))","v":""},52,0,0,0,0,0,0,0,0,0,{"$f":"IF($M111=\"NON GAZETTED - FIX PAY\",M111,0)","v":0},"",{"$f":"IF(AND(CP111=\"\"),\"\",IF(CP111=0,\"\",1+(MAX(CD$60:CD110))))","v":""},52,{"$f":"IF($M111=\"GAZETTED - SANVIDA\",D111,0)","v":0},{"$f":"IF($M111=\"GAZETTED - SANVIDA\",E111,0)","v":0},{"$f":"IF($M111=\"GAZETTED - SANVIDA\",F111,0)","v":0},{"$f":"IF($M111=\"GAZETTED - SANVIDA\",G111,0)","v":0},{"$f":"IF($M111=\"GAZETTED - SANVIDA\",H111,0)","v":0},{"$f":"IF($M111=\"GAZETTED - SANVIDA\",I111,0)","v":0},{"$f":"IF($M111=\"GAZETTED - SANVIDA\",J111,0)","v":0},{"$f":"IF($M111=\"GAZETTED - SANVIDA\",K111,0)","v":0},{"$f":"IF($M111=\"GAZETTED - SANVIDA\",L111,0)","v":0},{"$f":"IF($M111=\"GAZETTED - SANVIDA\",M111,0)","v":0},"",{"$f":"IF(AND(DC111=\"\"),\"\",IF(DC111=0,\"\",1+(MAX(CQ$60:CQ110))))","v":""},52,0,{"$f":"IF($M111=\"NON GAZETTED - SANVIDA\",E111,0)","v":0},{"$f":"IF($M111=\"NON GAZETTED - SANVIDA\",F111,0)","v":0},{"$f":"IF($M111=\"NON GAZETTED - SANVIDA\",G111,0)","v":0},{"$f":"IF($M111=\"NON GAZETTED - SANVIDA\",H111,0)","v":0},{"$f":"IF($M111=\"NON GAZETTED - SANVIDA\",I111,0)","v":0},{"$f":"IF($M111=\"NON GAZETTED - SANVIDA\",J111,0)","v":0},{"$f":"IF($M111=\"NON GAZETTED - SANVIDA\",K111,0)","v":0},{"$f":"IF($M111=\"NON GAZETTED - SANVIDA\",L111,0)","v":0},{"$f":"IF($M111=\"NON GAZETTED - SANVIDA\",M111,0)","v":0},""]
[0,0,53,{"$nulls":24},"",1,{"$f":"IF(AND(AP112=\"\"),\"\",IF(AP112=0,\"\",1+(MAX(AD$60:AD111))))","v":""},53,0,0,0,0,0,0,0,0,{"$f":"IF($M112=\"GAZETTED - REGULAR\",L112,0)","v":0},0,"",{"$f":"IF(AND(BC112=\"\"),\"\",IF(BC112=0,\"\",1+(MAX(AQ$60:AQ111))))","v":""},53,{"$f":"IF($M112=\"NON GAZETTED - REGULAR\",D112,0)","v":0},{"$f":"IF($M112=\"NON GAZETTED - REGULAR\",E112,0)","v":0},{"$f":"IF($M112=\"NON GAZETTED - REGULAR\",F112,0)","v":0},{"$f":"IF($M112=\"NON GAZETTED - REGULAR\",G112,0)","v":0},{"$f":"IF($M112=\"NON GAZETTED - REGULAR\",H112,0)","v":0},{"$f":"IF($M112=\"NON GAZETTED - REGULAR\",I112,0)","v":0},{"$f":"IF($M112=\"NON GAZETTED - REGULAR\",J112,0)","v":0},{"$f":"IF($M112=\"NON GAZETTED - REGULAR\",K112,0)","v":0},{"$f":"IF($M112=\"NON GAZETTED - REGULAR\",L112,0)","v":0},0,"",{"$f":"IF(AND(BP112=\"\"),\"\",IF(BP112=0,\"\",1+(MAX(BD$60:BD111))))","v":""},53,0,0,0,0,0,0,0,0,0,0,"",{"$f":"IF(AND(CC112=\"\"),\"\",IF(CC112=0,\"\",1+(MAX(BQ$60:BQ111))))","v":""},53,0,0,0,0,0,0,0,0,0,0,"",{"$f":"IF(AND(CP112=\"\"),\"\",IF(CP112=0,\"\",1+(MAX(CD$60:CD111))))","v":""},53,0,0,0,0,0,0,0,0,0,0,"",{"$f":"IF(AND(DC112=\"\"),\"\",IF(DC112=0,\"\",1+(MAX(CQ$60:CQ111))))","v":""},53,0,0,0,0,0,0,0,0,0,0,""]
[0,0,54,{"$nulls":24},"",1,{"$f":"IF(AND(AP113=\"\"),\"\",IF(AP113=0,\"\",1+(MAX(AD$60:AD112))))","v":""},54,0,0,0,0,0,0,0,0,{"$f":"IF($M113=\"GAZETTED - REGULAR\",L113,0)","v":0},0,"",{"$f":"IF(AND(BC113=\"\"),\"\",IF(BC113=0,\"\",1+(MAX(AQ$60:AQ112))))","v":""},54,0,0,0,0,0,0,0,0,0,0,"",{"$f":"IF(AND(BP113=\"\"),\"\",IF(BP113=0,\"\",1+(MAX(BD$60:BD112))))","v":""},54,0,0,0,0,0,0,0,0,0,0,"",{"$f":"IF(AND(CC113=\"\"),\"\",IF(CC113=0,\"\",1+(MAX(BQ$60:BQ112))))","v":""},54,0,0,0,0,0,0,0,0,0,0,"",{"$f":"IF(AND(CP113=\"\"),\"\",IF(CP113=0,\"\",1+(MAX(CD$60:CD112))))","v":""},54,0,0,0,0,0,0,0,0,0,0,"",{"$f":"IF(AND(DC113=\"\"),\"\",IF(DC113=0,\"\",1+(MAX(CQ$60:CQ112))))","v":""},54,0,0,0,0,0,0,0,0,0,0,""]
[0,0,55,{"$nulls":24},"",1,{"$f":"IF(AND(AP114=\"\"),\"\",IF(AP114=0,\"\",1+(MAX(AD$60:AD113))))","v":""},55,0,0,0,0,0,0,0,0,0,0,"",{"$f":"IF(AND(BC114=\"\"),\"\",IF(BC114=0,\"\",1+(MAX(AQ$60:AQ113))))","v":""},55,0,0,0,0,0,0,0,0,0,0,"",{"$f":"IF(AND(BP114=\"\"),\"\",IF(BP114=0,\"\",1+(MAX(BD$60:BD113))))","v":""},55,0,0,0,0,0,0,0,0,0,0,"",{"$f":"IF(AND(CC114=\"\"),\"\",IF(CC114=0,\"\",1+(MAX(BQ$60:BQ113))))","v":""},55,0,0,0,0,0,0,0,0,0,0,"",{"$f":"IF(AND(CP114=\"\"),\"\",IF(CP114=0,\"\",1+(MAX(CD$60:CD113))))","v":""},55,0,0,0,0,0,0,0,0,0,0,"",{"$f":"IF(AND(DC114=\"\"),\"\",IF(DC114=0,\"\",1+(MAX(CQ$60:CQ113))))","v":""},55,0,0,0,0,0,0,0,0,0,0,""]
[0,0,56,{"$nulls":24},"",1,{"$f":"IF(AND(AP115=\"\"),\"\",IF(AP115=0,\"\",1+(MAX(AD$60:AD114))))","v":""},56,0,0,0,0,0,0,0,0,0,0,"",{"$f":"IF(AND(BC115=\"\"),\"\",IF(BC115=0,\"\",1+(MAX(AQ$60:AQ114))))","v":""},56,0,0,0,0,0,0,0,0,0,0,"",{"$f":"IF(AND(BP115=\"\"),\"\",IF(BP115=0,\"\",1+(MAX(BD$60:BD114))))","v":""},56,0,0,0,0,0,0,0,0,0,0,"",{"$f":"IF(AND(CC115=\"\"),\"\",IF(CC115=0,\"\",1+(MAX(BQ$60:BQ114))))","v":""},56,0,0,0,0,0,0,0,0,0,0,"",{"$f":"IF(AND(CP115=\"\"),\"\",IF(CP115=0,\"\",1+(MAX(CD$60:CD114))))","v":""},56,0,0,0,0,0,0,0,0,0,0,"",{"$f":"IF(AND(DC115=\"\"),\"\",IF(DC115=0,\"\",1+(MAX(CQ$60:CQ114))))","v":""},56,0,0,0,0,0,0,0,0,0,0,""]
[0,0,57,{"$nulls":24},"",1,{"$f":"IF(AND(AP116=\"\"),\"\",IF(AP116=0,\"\",1+(MAX(AD$60:AD115))))","v":""},57,0,0,0,0,0,0,0,0,0,0,"",{"$f":"IF(AND(BC116=\"\"),\"\",IF(BC116=0,\"\",1+(MAX(AQ$60:AQ115))))","v":""},57,0,0,0,0,0,0,0,0,0,0,"",{"$f":"IF(AND(BP116=\"\"),\"\",IF(BP116=0,\"\",1+(MAX(BD$60:BD115))))","v":""},57,0,0,0,0,0,0,0,0,0,0,"",{"$f":"IF(AND(CC116=\"\"),\"\",IF(CC116=0,\"\",1+(MAX(BQ$60:BQ115))))","v":""},57,0,0,0,0,0,0,0,0,0,0,"",{"$f":"IF(AND(CP116=\"\"),\"\",IF(CP116=0,\"\",1+(MAX(CD$60:CD115))))","v":""},57,0,0,0,0,0,0,0,0,0,0,"",{"$f":"IF(AND(DC116=\"\"),\"\",IF(DC116=0,\"\",1+(MAX(CQ$60:CQ115))))","v":""},57,0,0,0,0,0,0,0,0,0,0,""]
[0,0,58,{"$nulls":24},"",1,{"$f":"IF(AND(AP117=\"\"),\"\",IF(AP117=0,\"\",1+(MAX(AD$60:AD116))))","v":""},58,0,0,0,0,0,0,0,0,0,0,"",{"$f":"IF(AND(BC117=\"\"),\"\",IF(BC117=0,\"\",1+(MAX(AQ$60:AQ116))))","v":""},58,0,0,0,0,0,0,0,0,0,0,"",{"$f":"IF(AND(BP117=\"\"),\"\",IF(BP117=0,\"\",1+(MAX(BD$60:BD116))))","v":""},58,0,0,0,0,0,0,0,0,0,0,"",{"$f":"IF(AND(CC117=\"\"),\"\",IF(CC117=0,\"\",1+(MAX(BQ$60:BQ116))))","v":""},58,0,0,0,0,0,0,0,0,0,0,"",{"$f":"IF(AND(CP117=\"\"),\"\",IF(CP117=0,\"\",1+(MAX(CD$60:CD116))))","v":""},58,0,0,0,0,0,0,0,0,0,0,"",{"$f":"IF(AND(DC117=\"\"),\"\",IF(DC117=0,\"\",1+(MAX(CQ$60:CQ116))))","v":""},58,0,0,0,0,0,0,0,0,0,0,""]
[0,0,59,{"$nulls":24},"",1,{"$f":"IF(AND(AP118=\"\"),\"\",IF(AP118=0,\"\",1+(MAX(AD$60:AD117))))","v":""},59,0,0,0,0,0,0,0,0,0,0,"",{"$f":"IF(AND(BC118=\"\"),\"\",IF(BC118=0,\"\",1+(MAX(AQ$60:AQ117))))","v":""},59,0,0,0,0,0,0,0,0,0,0,"",{"$f":"IF(AND(BP118=\"\"),\"\",IF(BP118=0,\"\",1+(MAX(BD$60:BD117))))","v":""},59,0,0,0,0,0,0,0,0,0,0,"",{"$f":"IF(AND(CC118=\"\"),\"\",IF(CC118=0,\"\",1+(MAX(BQ$60:BQ117))))","v":""},59,0,0,0,0,0,0,0,0,0,0,"",{"$f":"IF(AND(CP118=\"\"),\"\",IF(CP118=0,\"\",1+(MAX(CD$60:CD117))))","v":""},59,0,0,0,0,0,0,0,0,0,0,"",{"$f":"IF(AND(DC118=\"\"),\"\",IF(DC118=0,\"\",1+(MAX(CQ$60:CQ117))))","v":""},59,0,0,0,0,0,0,0,0,0,0,""]
[0,0,60,{"$nulls":24},"",1,{"$f":"IF(AND(AP119=\"\"),\"\",IF(AP119=0,\"\",1+(MAX(AD$60:AD118))))","v":""},60,0,0,0,0,0,0,0,0,0,0,"",{"$f":"IF(AND(BC119=\"\"),\"\",IF(BC119=0,\"\",1+(MAX(AQ$60:AQ118))))","v":""},60,0,0,0,0,0,0,0,0,0,0,"",{"$f":"IF(AND(BP119=\"\"),\"\",IF(BP119=0,\"\",1+(MAX(BD$60:BD118))))","v":""},60,0,0,0,0,0,0,0,0,0,0,"",{"$f":"IF(AND(CC119=\"\"),\"\",IF(CC119=0,\"\",1+(MAX(BQ$60:BQ118))))","v":""},60,0,0,0,0,0,0,0,0,0,0,"",{"$f":"IF(AND(CP119=\"\"),\"\",IF(CP119=0,\"\",1+(MAX(CD$60:CD118))))","v":""},60,0,0,0,0,0,0,0,0,0,0,"",{"$f":"IF(AND(DC119=\"\"),\"\",IF(DC119=0,\"\",1+(MAX(CQ$60:CQ118))))","v":""},60,0,0,0,0,0,0,0,0,0,0,""]
[0,0,61,{"$nulls":24},"",1,{"$f":"IF(AND(AP120=\"\"),\"\",IF(AP120=0,\"\",1+(MAX(AD$60:AD119))))","v":""},61,0,0,0,0,0,0,0,0,0,0,"",{"$f":"IF(AND(BC120=\"\"),\"\",IF(BC120=0,\"\",1+(MAX(AQ$60:AQ119))))","v":""},61,0,0,0,0,0,0,0,0,0,0,"",{"$f":"IF(AND(BP120=\"\"),\"\",IF(BP120=0,\"\",1+(MAX(BD$60:BD119))))","v":""},61,0,0,0,0,0,0,0,0,0,0,"",{"$f":"IF(AND(CC120=\"\"),\"\",IF(CC120=0,\"\",1+(MAX(BQ$60:BQ119))))","v":""},61,0,0,0,0,0,0,0,0,0,0,"",{"$f":"IF(AND(CP120=\"\"),\"\",IF(CP120=0,\"\",1+(MAX(CD$60:CD119))))","v":""},61,0,0,0,0,0,0,0,0,0,0,"",{"$f":"IF(AND(DC120=\"\"),\"\",IF(DC120=0,\"\",1+(MAX(CQ$60:CQ119))))","v":""},61,0,0,0,0,0,0,0,0,0,0,""]
[0,0,62,{"$nulls":24},"",1,{"$f":"IF(AND(AP121=\"\"),\"\",IF(AP121=0,\"\",1+(MAX(AD$60:AD120))))","v":""},62,0,0,0,0,0,0,0,0,0,0,"",{"$f":"IF(AND(BC121=\"\"),\"\",IF(BC121=0,\"\",1+(MAX(AQ$60:AQ120))))","v":""},62,0,0,0,0,0,0,0,0,0,0,"",{"$f":"IF(AND(BP121=\"\"),\"\",IF(BP121=0,\"\",1+(MAX(BD$60:BD120))))","v":""},62,0,0,0,0,0,0,0,0,0,0,"",{"$f":"IF(AND(CC121=\"\"),\"\",IF(CC121=0,\"\",1+(MAX(BQ$60:BQ120))))","v":""},62,0,0,0,0,0,0,0,0,0,0,"",{"$f":"IF(AND(CP121=\"\"),\"\",IF(CP121=0,\"\",1+(MAX(CD$60:CD120))))","v":""},62,0,0,0,0,0,0,0,0,0,0,"",{"$f":"IF(AND(DC121=\"\"),\"\",IF(DC121=0,\"\",1+(MAX(CQ$60:CQ120))))","v":""},62,0,0,0,0,0,0,0,0,0,0,""]
[0,0,63,{"$nulls":24},"",1,{"$f":"IF(AND(AP122=\"\"),\"\",IF(AP122=0,\"\",1+(MAX(AD$60:AD121))))","v":""},63,0,0,0,0,0,0,0,0,0,0,"",{"$f":"IF(AND(BC122=\"\"),\"\",IF(BC122=0,\"\",1+(MAX(AQ$60:AQ121))))","v":""},63,0,0,0,0,0,0,0,0,0,0,"",{"$f":"IF(AND(BP122=\"\"),\"\",IF(BP122=0,\"\",1+(MAX(BD$60:BD121))))","v":""},63,0,0,0,0,0,0,0,0,0,0,"",{"$f":"IF(AND(CC122=\"\"),\"\",IF(CC122=0,\"\",1+(MAX(BQ$60:BQ121))))","v":""},63,0,0,0,0,0,0,0,0,0,0,"",{"$f":"IF(AND(CP122=\"\"),\"\",IF(CP122=0,\"\",1+(MAX(CD$60:CD121))))","v":""},63,0,0,0,0,0,0,0,0,0,0,"",{"$f":"IF(AND(DC122=\"\"),\"\",IF(DC122=0,\"\",1+(MAX(CQ$60:CQ121))))","v":""},63,0,0,0,0,0,0,0,0,0,0,""]
[0,0,64,{"$nulls":24},"",1,{"$f":"IF(AND(AP123=\"\"),\"\",IF(AP123=0,\"\",1+(MAX(AD$60:AD122))))","v":""},64,0,0,0,0,0,0,0,0,0,0,"",{"$f":"IF(AND(BC123=\"\"),\"\",IF(BC123=0,\"\",1+(MAX(AQ$60:AQ122))))","v":""},64,0,0,0,0,0,0,0,0,0,0,"",{"$f":"IF(AND(BP123=\"\"),\"\",IF(BP123=0,\"\",1+(MAX(BD$60:BD122))))","v":""},64,0,0,0,0,0,0,0,0,0,0,"",{"$f":"IF(AND(CC123=\"\"),\"\",IF(CC123=0,\"\",1+(MAX(BQ$60:BQ122))))","v":""},64,0,0,0,0,0,0,0,0,0,0,"",{"$f":"IF(AND(CP123=\"\"),\"\",IF(CP123=0,\"\",1+(MAX(CD$60:CD122))))","v":""},64,0,0,0,0,0,0,0,0,0,0,"",{"$f":"IF(AND(DC123=\"\"),\"\",IF(DC123=0,\"\",1+(MAX(CQ$60:CQ122))))","v":""},64,0,0,0,0,0,0,0,0,0,0,""]
[0,0,65,{"$nulls":24},"",1,{"$f":"IF(AND(AP124=\"\"),\"\",IF(AP124=0,\"\",1+(MAX(AD$60:AD123))))","v":""},65,0,0,0,0,0,0,0,0,0,0,{"$f":"IF(AND(M124=\"\"),\"\",IF(M124=AF$58,1,0))","v":""},{"$f":"IF(AND(BC124=\"\"),\"\",IF(BC124=0,\"\",1+(MAX(AQ$60:AQ123))))","v":""},65,0,0,0,0,0,0,0,0,0,0,{"$f":"IF(AND(M124=\"\"),\"\",IF(M124=AS$58,1,0))","v":""},{"$f":"IF(AND(BP124=\"\"),\"\",IF(BP124=0,\"\",1+(MAX(BD$60:BD123))))","v":""},65,0,0,0,0,0,0,0,0,0,0,{"$f":"IF(AND(M124=\"\"),\"\",IF(M124=BF$58,1,0))","v":""},{"$f":"IF(AND(CC124=\"\"),\"\",IF(CC124=0,\"\",1+(MAX(BQ$60:BQ123))))","v":""},65,0,0,0,0,0,0,0,0,0,0,{"$f":"IF(AND(M124=\"\"),\"\",IF(M124=BS$58,1,0))","v":""},{"$f":"IF(AND(CP124=\"\"),\"\",IF(CP124=0,\"\",1+(MAX(CD$60:CD123))))","v":""},65,0,0,0,0,0,0,0,0,0,0,{"$f":"IF(AND(M124=\"\"),\"\",IF(M124=CF$58,1,0))","v":""},{"$f":"IF(AND(DC124=\"\"),\"\",IF(DC124=0,\"\",1+(MAX(CQ$60:CQ123))))","v":""},65,0,0,0,0,0,0,0,0,0,0,{"$f":"IF(AND(M124=\"\"),\"\",IF(M124=CS$58,1,0))","v":""}]
[{"$f":"IF(OR(D125=\"in fjDr\",D125=\"पद रिक्त\",D125=\"Blank\",D125=\"Post Blank\"),0,E125)","v":0},{"$f":"F125","v":0},66,{"$nulls":24},"",{"$f":"IF(F125<=0,1,0)*(IF(M125=\"SANVIDA\",0,1))","v":1},{"$f":"IF(AND(AP125=\"\"),\"\",IF(AP125=0,\"\",1+(MAX(AD$60:AD124))))","v":""},66,0,0,0,0,0,0,0,0,0,0,"",{"$f":"IF(AND(BC125=\"\"),\"\",IF(BC125=0,\"\",1+(MAX(AQ$60:AQ124))))","v":""},66,0,0,0,0,0,0,0,0,0,0,"",{"$f":"IF(AND(BP125=\"\"),\"\",IF(BP125=0,\"\",1+(MAX(BD$60:BD124))))","v":""},66,0,0,0,0,0,0,0,0,0,0,"",{"$f":"IF(AND(CC125=\"\"),\"\",IF(CC125=0,\"\",1+(MAX(BQ$60:BQ124))))","v":""},66,0,0,0,0,0,0,0,0,0,0,"",{"$f":"IF(AND(CP125=\"\"),\"\",IF(CP125=0,\"\",1+(MAX(CD$60:CD124))))","v":""},66,0,0,0,0,0,0,0,0,0,0,"",{"$f":"IF(AND(DC125=\"\"),\"\",IF(DC125=0,\"\",1+(MAX(CQ$60:CQ124))))","v":""},66,0,0,0,0,0,0,0,0,0,0,""]
[0,0,67,{"$nulls":24},"",1,{"$f":"IF(AND(AP126=\"\"),\"\",IF(AP126=0,\"\",1+(MAX(AD$60:AD125))))","v":""},67,0,0,0,0,0,0,0,0,0,0,"",{"$f":"IF(AND(BC126=\"\"),\"\",IF(BC126=0,\"\",1+(MAX(AQ$60:AQ125))))","v":""},67,0,0,0,0,0,0,0,0,0,0,"",{"$f":"IF(AND(BP126=\"\"),\"\",IF(BP126=0,\"\",1+(MAX(BD$60:BD125))))","v":""},67,0,0,0,0,0,0,0,0,0,0,"",{"$f":"IF(AND(CC126=\"\"),\"\",IF(CC126=0,\"\",1+(MAX(BQ$60:BQ125))))","v":""},67,0,0,0,0,0,0,0,0,0,0,"",{"$f":"IF(AND(CP126=\"\"),\"\",IF(CP126=0,\"\",1+(MAX(CD$60:CD125))))","v":""},67,0,0,0,0,0,0,0,0,0,0,"",{"$f":"IF(AND(DC126=\"\"),\"\",IF(DC126=0,\"\",1+(MAX(CQ$60:CQ125))))","v":""},67,0,0,0,0,0,0,0,0,0,0,""]
[0,0,68,{"$nulls":24},"",1,{"$f":"IF(AND(AP127=\"\"),\"\",IF(AP127=0,\"\",1+(MAX(AD$60:AD126))))","v":""},68,0,0,0,0,0,0,0,0,0,0,"",{"$f":"IF(AND(BC127=\"\"),\"\",IF(BC127=0,\"\",1+(MAX(AQ$60:AQ126))))","v":""},68,0,0,0,0,0,0,0,0,0,0,"",{"$f":"IF(AND(BP127=\"\"),\"\",IF(BP127=0,\"\",1+(MAX(BD$60:BD126))))","v":""},68,0,0,0,0,0,0,0,0,0,0,"",{"$f":"IF(AND(CC127=\"\"),\"\",IF(CC127=0,\"\",1+(MAX(BQ$60:BQ126))))","v":""},68,0,0,0,0,0,0,0,0,0,0,"",{"$f":"IF(AND(CP127=\"\"),\"\",IF(CP127=0,\"\",1+(MAX(CD$60:CD126))))","v":""},68,0,0,0,0,0,0,0,0,0,0,"",{"$f":"IF(AND(DC127=\"\"),\"\",IF(DC127=0,\"\",1+(MAX(CQ$60:CQ126))))","v":""},68,0,0,0,0,0,0,0,0,0,0,""]
[0,0,69,{"$nulls":24},"",1,{"$f":"IF(AND(AP128=\"\"),\"\",IF(AP128=0,\"\",1+(MAX(AD$60:AD127))))","v":""},69,0,0,0,0,0,0,0,0,0,0,"",{"$f":"IF(AND(BC128=\"\"),\"\",IF(BC128=0,\"\",1+(MAX(AQ$60:AQ127))))","v":""},69,0,0,0,0,0,0,0,0,0,0,"",{"$f":"IF(AND(BP128=\"\"),\"\",IF(BP128=0,\"\",1+(MAX(BD$60:BD127))))","v":""},69,0,0,0,0,0,0,0,0,0,0,"",{"$f":"IF(AND(CC128=\"\"),\"\",IF(CC128=0,\"\",1+(MAX(BQ$60:BQ127))))","v":""},69,0,0,0,0,0,0,0,0,0,0,"",{"$f":"IF(AND(CP128=\"\"),\"\",IF(CP128=0,\"\",1+(MAX(CD$60:CD127))))","v":""},69,0,0,0,0,0,0,0,0,0,0,"",{"$f":"IF(AND(DC128=\"\"),\"\",IF(DC128=0,\"\",1+(MAX(CQ$60:CQ127))))","v":""},69,0,0,0,0,0,0,0,0,0,0,""]
[0,0,70,{"$nulls":24},"",1,{"$f":"IF(AND(AP129=\"\"),\"\",IF(AP129=0,\"\",1+(MAX(AD$60:AD128))))","v":""},70,0,0,0,0,0,0,0,0,0,0,"",{"$f":"IF(AND(BC129=\"\"),\"\",IF(BC129=0,\"\",1+(MAX(AQ$60:AQ128))))","v":""},70,0,0,0,0,0,0,0,0,0,0,"",{"$f":"IF(AND(BP129=\"\"),\"\",IF(BP129=0,\"\",1+(MAX(BD$60:BD128))))","v":""},70,0,0,0,0,0,0,0,0,0,0,"",{"$f":"IF(AND(CC129=\"\"),\"\",IF(CC129=0,\"\",1+(MAX(BQ$60:BQ128))))","v":""},70,0,0,0,0,0,0,0,0,0,0,"",{"$f":"IF(AND(CP129=\"\"),\"\",IF(CP129=0,\"\",1+(MAX(CD$60:CD128))))","v":""},70,0,0,0,0,0,0,0,0,0,0,"",{"$f":"IF(AND(DC129=\"\"),\"\",IF(DC129=0,\"\",1+(MAX(CQ$60:CQ128))))","v":""},70,0,0,0,0,0,0,0,0,0,0,""]
[0,0,71,{"$nulls":24},"",1,{"$f":"IF(AND(AP130=\"\"),\"\",IF(AP130=0,\"\",1+(MAX(AD$60:AD129))))","v":""},71,0,0,0,0,0,0,0,0,0,0,"",{"$f":"IF(AND(BC130=\"\"),\"\",IF(BC130=0,\"\",1+(MAX(AQ$60:AQ129))))","v":""},71,0,0,0,0,0,0,0,0,0,0,"",{"$f":"IF(AND(BP130=\"\"),\"\",IF(BP130=0,\"\",1+(MAX(BD$60:BD129))))","v":""},71,0,0,0,0,0,0,0,0,0,0,"",{"$f":"IF(AND(CC130=\"\"),\"\",IF(CC130=0,\"\",1+(MAX(BQ$60:BQ129))))","v":""},71,0,0,0,0,0,0,0,0,0,0,"",{"$f":"IF(AND(CP130=\"\"),\"\",IF(CP130=0,\"\",1+(MAX(CD$60:CD129))))","v":""},71,0,0,0,0,0,0,0,0,0,0,"",{"$f":"IF(AND(DC130=\"\"),\"\",IF(DC130=0,\"\",1+(MAX(CQ$60:CQ129))))","v":""},71,0,0,0,0,0,0,0,0,0,0,""]
[0,0,72,{"$nulls":24},"",1,{"$f":"IF(AND(AP131=\"\"),\"\",IF(AP131=0,\"\",1+(MAX(AD$60:AD130))))","v":""},72,0,0,0,0,0,0,0,0,0,0,"",{"$f":"IF(AND(BC131=\"\"),\"\",IF(BC131=0,\"\",1+(MAX(AQ$60:AQ130))))","v":""},72,0,0,0,0,0,0,0,0,0,0,"",{"$f":"IF(AND(BP131=\"\"),\"\",IF(BP131=0,\"\",1+(MAX(BD$60:BD130))))","v":""},72,0,0,0,0,0,0,0,0,0,0,"",{"$f":"IF(AND(CC131=\"\"),\"\",IF(CC131=0,\"\",1+(MAX(BQ$60:BQ130))))","v":""},72,0,0,0,0,0,0,0,0,0,0,"",{"$f":"IF(AND(CP131=\"\"),\"\",IF(CP131=0,\"\",1+(MAX(CD$60:CD130))))","v":""},72,0,0,0,0,0,0,0,0,0,0,"",{"$f":"IF(AND(DC131=\"\"),\"\",IF(DC131=0,\"\",1+(MAX(CQ$60:CQ130))))","v":""},72,0,0,0,0,0,0,0,0,0,0,""]
[0,0,73,{"$nulls":24},"",1,{"$f":"IF(AND(AP132=\"\"),\"\",IF(AP132=0,\"\",1+(MAX(AD$60:AD131))))","v":""},73,0,0,0,0,0,0,0,0,0,0,"",{"$f":"IF(AND(BC132=\"\"),\"\",IF(BC132=0,\"\",1+(MAX(AQ$60:AQ131))))","v":""},73,0,0,0,0,0,0,0,0,0,0,"",{"$f":"IF(AND(BP132=\"\"),\"\",IF(BP132=0,\"\",1+(MAX(BD$60:BD131))))","v":""},73,0,0,0,0,0,0,0,0,0,0,"",{"$f":"IF(AND(CC132=\"\"),\"\",IF(CC132=0,\"\",1+(MAX(BQ$60:BQ131))))","v":""},73,0,0,0,0,0,0,0,0,0,0,"",{"$f":"IF(AND(CP132=\"\"),\"\",IF(CP132=0,\"\",1+(MAX(CD$60:CD131))))","v":""},73,0,0,0,0,0,0,0,0,0,0,"",{"$f":"IF(AND(DC132=\"\"),\"\",IF(DC132=0,\"\",1+(MAX(CQ$60:CQ131))))","v":""},73,0,0,0,0,0,0,0,0,0,0,""]
[0,0,74,{"$nulls":24},"",1,{"$f":"IF(AND(AP133=\"\"),\"\",IF(AP133=0,\"\",1+(MAX(AD$60:AD132))))","v":""},74,0,0,0,0,0,0,0,0,0,0,"",{"$f":"IF(AND(BC133=\"\"),\"\",IF(BC133=0,\"\",1+(MAX(AQ$60:AQ132))))","v":""},74,0,0,0,0,0,0,0,0,0,0,"",{"$f":"IF(AND(BP133=\"\"),\"\",IF(BP133=0,\"\",1+(MAX(BD$60:BD132))))","v":""},74,0,0,0,0,0,0,0,0,0,0,"",{"$f":"IF(AND(CC133=\"\"),\"\",IF(CC133=0,\"\",1+(MAX(BQ$60:BQ132))))","v":""},74,0,0,0,0,0,0,0,0,0,0,"",{"$f":"IF(AND(CP133=\"\"),\"\",IF(CP133=0,\"\",1+(MAX(CD$60:CD132))))","v":""},74,0,0,0,0,0,0,0,0,0,0,"",{"$f":"IF(AND(DC133=\"\"),\"\",IF(DC133=0,\"\",1+(MAX(CQ$60:CQ132))))","v":""},74,0,0,0,0,0,0,0,0,0,0,""]
[0,0,75,{"$nulls":24},"",1,{"$f":"IF(AND(AP134=\"\"),\"\",IF(AP134=0,\"\",1+(MAX(AD$60:AD133))))","v":""},75,0,0,0,0,0,0,0,0,0,0,"",{"$f":"IF(AND(BC134=\"\"),\"\",IF(BC134=0,\"\",1+(MAX(AQ$60:AQ133))))","v":""},75,0,0,0,0,0,0,0,0,0,0,"",{"$f":"IF(AND(BP134=\"\"),\"\",IF(BP134=0,\"\",1+(MAX(BD$60:BD133))))","v":""},75,0,0,0,0,0,0,0,0,0,0,"",{"$f":"IF(AND(CC134=\"\"),\"\",IF(CC134=0,\"\",1+(MAX(BQ$60:BQ133))))","v":""},75,0,0,0,0,0,0,0,0,0,0,"",{"$f":"IF(AND(CP134=\"\"),\"\",IF(CP134=0,\"\",1+(MAX(CD$60:CD133))))","v":""},75,0,0,0,0,0,0,0,0,0,0,"",{"$f":"IF(AND(DC134=\"\"),\"\",IF(DC134=0,\"\",1+(MAX(CQ$60:CQ133))))","v":""},75,0,0,0,0,0,0,0,0,0,0,""]
[0,0,76,{"$nulls":24},"",1,{"$f":"IF(AND(AP135=\"\"),\"\",IF(AP135=0,\"\",1+(MAX(AD$60:AD134))))","v":""},76,0,0,0,0,0,0,0,0,0,0,"",{"$f":"IF(AND(BC135=\"\"),\"\",IF(BC135=0,\"\",1+(MAX(AQ$60:AQ134))))","v":""},76,0,0,0,0,0,0,0,0,0,0,"",{"$f":"IF(AND(BP135=\"\"),\"\",IF(BP135=0,\"\",1+(MAX(BD$60:BD134))))","v":""},76,0,0,0,0,0,0,0,0,0,0,"",{"$f":"IF(AND(CC135=\"\"),\"\",IF(CC135=0,\"\",1+(MAX(BQ$60:BQ134))))","v":""},76,0,0,0,0,0,0,0,0,0,0,"",{"$f":"IF(AND(CP135=\"\"),\"\",IF(CP135=0,\"\",1+(MAX(CD$60:CD134))))","v":""},76,0,0,0,0,0,0,0,0,0,0,"",{"$f":"IF(AND(DC135=\"\"),\"\",IF(DC135=0,\"\",1+(MAX(CQ$60:CQ134))))","v":""},76,0,0,0,0,0,0,0,0,0,0,""]
[0,0,77,{"$nulls":24},"",1,{"$f":"IF(AND(AP136=\"\"),\"\",IF(AP136=0,\"\",1+(MAX(AD$60:AD135))))","v":""},77,0,0,0,0,0,0,0,0,0,0,"",{"$f":"IF(AND(BC136=\"\"),\"\",IF(BC136=0,\"\",1+(MAX(AQ$60:AQ135))))","v":""},77,0,0,0,0,0,0,0,0,0,0,"",{"$f":"IF(AND(BP136=\"\"),\"\",IF(BP136=0,\"\",1+(MAX(BD$60:BD135))))","v":""},77,0,0,0,0,0,0,0,0,0,0,"",{"$f":"IF(AND(CC136=\"\"),\"\",IF(CC136=0,\"\",1+(MAX(BQ$60:BQ135))))","v":""},77,0,0,0,0,0,0,0,0,0,0,"",{"$f":"IF(AND(CP136=\"\"),\"\",IF(CP136=0,\"\",1+(MAX(CD$60:CD135))))","v":""},77,0,0,0,0,0,0,0,0,0,0,"",{"$f":"IF(AND(DC136=\"\"),\"\",IF(DC136=0,\"\",1+(MAX(CQ$60:CQ135))))","v":""},77,0,0,0,0,0,0,0,0,0,0,""]
[0,0,78,{"$nulls":24},"",1,{"$f":"IF(AND(AP137=\"\"),\"\",IF(AP137=0,\"\",1+(MAX(AD$60:AD136))))","v":""},78,0,0,0,0,0,0,0,0,0,0,"",{"$f":"IF(AND(BC137=\"\"),\"\",IF(BC137=0,\"\",1+(MAX(AQ$60:AQ136))))","v":""},78,0,0,0,0,0,0,0,0,0,0,"",{"$f":"IF(AND(BP137=\"\"),\"\",IF(BP137=0,\"\",1+(MAX(BD$60:BD136))))","v":""},78,0,0,0,0,0,0,0,0,0,0,"",{"$f":"IF(AND(CC137=\"\"),\"\",IF(CC137=0,\"\",1+(MAX(BQ$60:BQ136))))","v":""},78,0,0,0,0,0,0,0,0,0,0,"",{"$f":"IF(AND(CP137=\"\"),\"\",IF(CP137=0,\"\",1+(MAX(CD$60:CD136))))","v":""},78,0,0,0,0,0,0,0,0,0,0,"",{"$f":"IF(AND(DC137=\"\"),\"\",IF(DC137=0,\"\",1+(MAX(CQ$60:CQ136))))","v":""},78,0,0,0,0,0,0,0,0,0,0,""]
[0,0,79,{"$nulls":24},"",1,{"$f":"IF(AND(AP138=\"\"),\"\",IF(AP138=0,\"\",1+(MAX(AD$60:AD137))))","v":""},79,0,0,0,0,0,0,0,0,0,0,"",{"$f":"IF(AND(BC138=\"\"),\"\",IF(BC138=0,\"\",1+(MAX(AQ$60:AQ137))))","v":""},79,0,0,0,0,0,0,0,0,0,0,"",{"$f":"IF(AND(BP138=\"\"),\"\",IF(BP138=0,\"\",1+(MAX(BD$60:BD137))))","v":""},79,0,0,0,0,0,0,0,0,0,0,"",{"$f":"IF(AND(CC138=\"\"),\"\",IF(CC138=0,\"\",1+(MAX(BQ$60:BQ137))))","v":""},79,0,0,0,0,0,0,0,0,0,0,"",{"$f":"IF(AND(CP138=\"\"),\"\",IF(CP138=0,\"\",1+(MAX(CD$60:CD137))))","v":""},79,0,0,0,0,0,0,0,0,0,0,"",{"$f":"IF(AND(DC138=\"\"),\"\",IF(DC138=0,\"\",1+(MAX(CQ$60:CQ137))))","v":""},79,0,0,0,0,0,0,0,0,0,0,""]
[0,0,80,{"$nulls":24},"",1,{"$f":"IF(AND(AP139=\"\"),\"\",IF(AP139=0,\"\",1+(MAX(AD$60:AD138))))","v":""},80,0,0,0,0,0,0,0,0,0,0,"",{"$f":"IF(AND(BC139=\"\"),\"\",IF(BC139=0,\"\",1+(MAX(AQ$60:AQ138))))","v":""},80,0,0,0,0,0,0,0,0,0,0,"",{"$f":"IF(AND(BP139=\"\"),\"\",IF(BP139=0,\"\",1+(MAX(BD$60:BD138))))","v":""},80,0,0,0,0,0,0,0,0,0,0,"",{"$f":"IF(AND(CC139=\"\"),\"\",IF(CC139=0,\"\",1+(MAX(BQ$60:BQ138))))","v":""},80,0,0,0,0,0,0,0,0,0,0,"",{"$f":"IF(AND(CP139=\"\"),\"\",IF(CP139=0,\"\",1+(MAX(CD$60:CD138))))","v":""},80,0,0,0,0,0,0,0,0,0,0,"",{"$f":"IF(AND(DC139=\"\"),\"\",IF(DC139=0,\"\",1+(MAX(CQ$60:CQ138))))","v":""},80,0,0,0,0,0,0,0,0,0,0,""]
[0,0,81,{"$nulls":24},"",1,{"$f":"IF(AND(AP140=\"\"),\"\",IF(AP140=0,\"\",1+(MAX(AD$60:AD139))))","v":""},81,0,0,0,0,0,0,0,0,0,0,"",{"$f":"IF(AND(BC140=\"\"),\"\",IF(BC140=0,\"\",1+(MAX(AQ$60:AQ139))))","v":""},81,0,0,0,0,0,0,0,0,0,0,"",{"$f":"IF(AND(BP140=\"\"),\"\",IF(BP140=0,\"\",1+(MAX(BD$60:BD139))))","v":""},81,0,0,0,0,0,0,0,0,0,0,"",{"$f":"IF(AND(CC140=\"\"),\"\",IF(CC140=0,\"\",1+(MAX(BQ$60:BQ139))))","v":""},81,0,0,0,0,0,0,0,0,0,0,"",{"$f":"IF(AND(CP140=\"\"),\"\",IF(CP140=0,\"\",1+(MAX(CD$60:CD139))))","v":""},81,0,0,0,0,0,0,0,0,0,0,"",{"$f":"IF(AND(DC140=\"\"),\"\",IF(DC140=0,\"\",1+(MAX(CQ$60:CQ139))))","v":""},81,{"$f":"IF($M140=\"NON GAZETTED - SANVIDA\",D140,0)","v":0},0,0,0,0,0,0,0,0,0,""]
[0,0,82,{"$nulls":24},"",1,{"$f":"IF(AND(AP141=\"\"),\"\",IF(AP141=0,\"\",1+(MAX(AD$60:AD140))))","v":""},82,0,0,0,0,0,0,0,0,0,0,"",{"$f":"IF(AND(BC141=\"\"),\"\",IF(BC141=0,\"\",1+(MAX(AQ$60:AQ140))))","v":""},82,0,0,0,0,0,0,0,0,0,0,"",{"$f":"IF(AND(BP141=\"\"),\"\",IF(BP141=0,\"\",1+(MAX(BD$60:BD140))))","v":""},82,0,0,0,0,0,0,0,0,0,0,"",{"$f":"IF(AND(CC141=\"\"),\"\",IF(CC141=0,\"\",1+(MAX(BQ$60:BQ140))))","v":""},82,0,0,0,0,0,0,0,0,0,0,"",{"$f":"IF(AND(CP141=\"\"),\"\",IF(CP141=0,\"\",1+(MAX(CD$60:CD140))))","v":""},82,0,0,0,0,0,0,0,0,0,0,"",{"$f":"IF(AND(DC141=\"\"),\"\",IF(DC141=0,\"\",1+(MAX(CQ$60:CQ140))))","v":""},82,0,0,0,0,0,0,0,0,0,0,""]
[0,0,83,{"$nulls":24},"",1,{"$f":"IF(AND(AP142=\"\"),\"\",IF(AP142=0,\"\",1+(MAX(AD$60:AD141))))","v":""},83,0,0,0,0,0,0,0,0,0,0,"",{"$f":"IF(AND(BC142=\"\"),\"\",IF(BC142=0,\"\",1+(MAX(AQ$60:AQ141))))","v":""},83,0,0,0,0,0,0,0,0,0,0,"",{"$f":"IF(AND(BP142=\"\"),\"\",IF(BP142=0,\"\",1+(MAX(BD$60:BD141))))","v":""},83,0,0,0,0,0,0,0,0,0,0,"",{"$f":"IF(AND(CC142=\"\"),\"\",IF(CC142=0,\"\",1+(MAX(BQ$60:BQ141))))","v":""},83,0,0,0,0,0,0,0,0,0,0,"",{"$f":"IF(AND(CP142=\"\"),\"\",IF(CP142=0,\"\",1+(MAX(CD$60:CD141))))","v":""},83,0,0,0,0,0,0,0,0,0,0,"",{"$f":"IF(AND(DC142=\"\"),\"\",IF(DC142=0,\"\",1+(MAX(CQ$60:CQ141))))","v":""},83,0,0,0,0,0,0,0,0,0,0,""]
[0,0,84,{"$nulls":24},"",1,{"$f":"IF(AND(AP143=\"\"),\"\",IF(AP143=0,\"\",1+(MAX(AD$60:AD142))))","v":""},84,0,0,0,0,0,0,0,0,0,0,"",{"$f":"IF(AND(BC143=\"\"),\"\",IF(BC143=0,\"\",1+(MAX(AQ$60:AQ142))))","v":""},84,0,0,0,0,0,0,0,0,0,0,"",{"$f":"IF(AND(BP143=\"\"),\"\",IF(BP143=0,\"\",1+(MAX(BD$60:BD142))))","v":""},84,{"$f":"IF($M143=\"GAZETTED - FIX PAY\",D143,0)","v":0},{"$f":"IF($M143=\"GAZETTED - FIX PAY\",E143,0)","v":0},{"$f":"IF($M143=\"GAZETTED - FIX PAY\",F143,0)","v":0},{"$f":"IF($M143=\"GAZETTED - FIX PAY\",G143,0)","v":0},{"$f":"IF($M143=\"GAZETTED - FIX PAY\",H143,0)","v":0},{"$f":"IF($M143=\"GAZETTED - FIX PAY\",I143,0)","v":0},{"$f":"IF($M143=\"GAZETTED - FIX PAY\",J143,0)","v":0},{"$f":"IF($M143=\"GAZETTED - FIX PAY\",K143,0)","v":0},{"$f":"IF($M143=\"GAZETTED - FIX PAY\",L143,0)","v":0},0,"",{"$f":"IF(AND(CC143=\"\"),\"\",IF(CC143=0,\"\",1+(MAX(BQ$60:BQ142))))","v":""},84,{"$f":"IF($M143=\"NON GAZETTED - FIX PAY\",D143,0)","v":0},{"$f":"IF($M143=\"NON GAZETTED - FIX PAY\",E143,0)","v":0},{"$f":"IF($M143=\"NON GAZETTED - FIX PAY\",F143,0)","v":0},{"$f":"IF($M143=\"NON GAZETTED - FIX PAY\",G143,0)","v":0},{"$f":"IF($M143=\"NON GAZETTED - FIX PAY\",H143,0)","v":0},{"$f":"IF($M143=\"NON GAZETTED - FIX PAY\",I143,0)","v":0},{"$f":"IF($M143=\"NON GAZETTED - FIX PAY\",J143,0)","v":0},{"$f":"IF($M143=\"NON GAZETTED - FIX PAY\",K143,0)","v":0},{"$f":"IF($M143=\"NON GAZETTED - FIX PAY\",L143,0)","v":0},0,"",{"$f":"IF(AND(CP143=\"\"),\"\",IF(CP143=0,\"\",1+(MAX(CD$60:CD142))))","v":""},84,0,0,0,0,0,0,0,0,0,0,"",{"$f":"IF(AND(DC143=\"\"),\"\",IF(DC143=0,\"\",1+(MAX(CQ$60:CQ142))))","v":""},84,0,0,0,0,0,0,0,0,0,0,""]
[0,0,85,{"$nulls":24},"",1,{"$f":"IF(AND(AP144=\"\"),\"\",IF(AP144=0,\"\",1+(MAX(AD$60:AD143))))","v":""},85,0,0,0,0,0,0,0,0,0,0,"",{"$f":"IF(AND(BC144=\"\"),\"\",IF(BC144=0,\"\",1+(MAX(AQ$60:AQ143))))","v":""},85,0,0,0,0,0,0,0,0,0,0,"",{"$f":"IF(AND(BP144=\"\"),\"\",IF(BP144=0,\"\",1+(MAX(BD$60:BD143))))","v":""},85,0,0,0,0,0,0,0,0,0,0,"",{"$f":"IF(AND(CC144=\"\"),\"\",IF(CC144=0,\"\",1+(MAX(BQ$60:BQ143))))","v":""},85,0,0,0,0,0,0,0,0,0,0,"",{"$f":"IF(AND(CP144=\"\"),\"\",IF(CP144=0,\"\",1+(MAX(CD$60:CD143))))","v":""},85,0,0,0,0,0,0,0,0,0,0,"",{"$f":"IF(AND(DC144=\"\"),\"\",IF(DC144=0,\"\",1+(MAX(CQ$60:CQ143))))","v":""},85,0,0,0,0,0,0,0,0,0,0,""]
[0,0,86,{"$nulls":24},"",1,{"$f":"IF(AND(AP145=\"\"),\"\",IF(AP145=0,\"\",1+(MAX(AD$60:AD144))))","v":""},86,0,0,0,0,0,0,0,0,0,0,"",{"$f":"IF(AND(BC145=\"\"),\"\",IF(BC145=0,\"\",1+(MAX(AQ$60:AQ144))))","v":""},86,0,0,0,0,0,0,0,0,0,0,"",{"$f":"IF(AND(BP145=\"\"),\"\",IF(BP145=0,\"\",1+(MAX(BD$60:BD144))))","v":""},86,0,0,0,0,0,0,0,0,0,0,"",{"$f":"IF(AND(CC145=\"\"),\"\",IF(CC145=0,\"\",1+(MAX(BQ$60:BQ144))))","v":""},86,0,0,0,0,0,0,0,0,0,0,"",{"$f":"IF(AND(CP145=\"\"),\"\",IF(CP145=0,\"\",1+(MAX(CD$60:CD144))))","v":""},86,0,0,0,0,0,0,0,0,0,0,"",{"$f":"IF(AND(DC145=\"\"),\"\",IF(DC145=0,\"\",1+(MAX(CQ$60:CQ144))))","v":""},86,0,0,0,0,0,0,0,0,0,0,""]
[0,0,87,{"$nulls":24},"",1,{"$f":"IF(AND(AP146=\"\"),\"\",IF(AP146=0,\"\",1+(MAX(AD$60:AD145))))","v":""},87,0,0,0,0,0,0,0,0,0,0,"",{"$f":"IF(AND(BC146=\"\"),\"\",IF(BC146=0,\"\",1+(MAX(AQ$60:AQ145))))","v":""},87,0,0,0,0,0,0,0,0,0,0,"",{"$f":"IF(AND(BP146=\"\"),\"\",IF(BP146=0,\"\",1+(MAX(BD$60:BD145))))","v":""},87,0,0,0,0,0,0,0,0,0,0,"",{"$f":"IF(AND(CC146=\"\"),\"\",IF(CC146=0,\"\",1+(MAX(BQ$60:BQ145))))","v":""},87,0,0,0,0,0,0,0,0,0,0,"",{"$f":"IF(AND(CP146=\"\"),\"\",IF(CP146=0,\"\",1+(MAX(CD$60:CD145))))","v":""},87,0,0,0,0,0,0,0,0,0,0,"",{"$f":"IF(AND(DC146=\"\"),\"\",IF(DC146=0,\"\",1+(MAX(CQ$60:CQ145))))","v":""},87,0,0,0,0,0,0,0,0,0,0,""]
[0,0,88,{"$nulls":24},"",1,{"$f":"IF(AND(AP147=\"\"),\"\",IF(AP147=0,\"\",1+(MAX(AD$60:AD146))))","v":""},88,0,0,0,0,0,0,0,0,0,0,"",{"$f":"IF(AND(BC147=\"\"),\"\",IF(BC147=0,\"\",1+(MAX(AQ$60:AQ146))))","v":""},88,0,0,0,0,0,0,0,0,0,0,"",{"$f":"IF(AND(BP147=\"\"),\"\",IF(BP147=0,\"\",1+(MAX(BD$60:BD146))))","v":""},88,0,0,0,0,0,0,0,0,0,0,"",{"$f":"IF(AND(CC147=\"\"),\"\",IF(CC147=0,\"\",1+(MAX(BQ$60:BQ146))))","v":""},88,0,0,0,0,0,0,0,0,0,0,"",{"$f":"IF(AND(CP147=\"\"),\"\",IF(CP147=0,\"\",1+(MAX(CD$60:CD146))))","v":""},88,0,0,0,0,0,0,0,0,0,0,"",{"$f":"IF(AND(DC147=\"\"),\"\",IF(DC147=0,\"\",1+(MAX(CQ$60:CQ146))))","v":""},88,0,0,0,0,0,0,0,0,0,0,""]
[0,0,89,{"$nulls":24},"",1,{"$f":"IF(AND(AP148=\"\"),\"\",IF(AP148=0,\"\",1+(MAX(AD$60:AD147))))","v":""},89,0,0,0,0,0,0,0,0,0,0,"",{"$f":"IF(AND(BC148=\"\"),\"\",IF(BC148=0,\"\",1+(MAX(AQ$60:AQ147))))","v":""},89,0,0,0,0,0,0,0,0,0,0,"",{"$f":"IF(AND(BP148=\"\"),\"\",IF(BP148=0,\"\",1+(MAX(BD$60:BD147))))","v":""},89,0,0,0,0,0,0,0,0,0,0,"",{"$f":"IF(AND(CC148=\"\"),\"\",IF(CC148=0,\"\",1+(MAX(BQ$60:BQ147))))","v":""},89,0,0,0,0,0,0,0,0,0,0,"",{"$f":"IF(AND(CP148=\"\"),\"\",IF(CP148=0,\"\",1+(MAX(CD$60:CD147))))","v":""},89,0,0,0,0,0,0,0,0,0,0,"",{"$f":"IF(AND(DC148=\"\"),\"\",IF(DC148=0,\"\",1+(MAX(CQ$60:CQ147))))","v":""},89,0,0,0,0,0,0,0,0,0,0,""]
[0,0,90,{"$nulls":24},"",1,{"$f":"IF(AND(AP149=\"\"),\"\",IF(AP149=0,\"\",1+(MAX(AD$60:AD148))))","v":""},90,0,0,0,0,0,0,0,0,0,0,"",{"$f":"IF(AND(BC149=\"\"),\"\",IF(BC149=0,\"\",1+(MAX(AQ$60:AQ148))))","v":""},90,0,0,0,0,0,0,0,0,0,0,"",{"$f":"IF(AND(BP149=\"\"),\"\",IF(BP149=0,\"\",1+(MAX(BD$60:BD148))))","v":""},90,0,0,0,0,0,0,0,0,0,0,"",{"$f":"IF(AND(CC149=\"\"),\"\",IF(CC149=0,\"\",1+(MAX(BQ$60:BQ148))))","v":""},90,0,0,0,0,0,0,0,0,0,0,"",{"$f":"IF(AND(CP149=\"\"),\"\",IF(CP149=0,\"\",1+(MAX(CD$60:CD148))))","v":""},90,0,0,0,0,0,0,0,0,0,0,"",{"$f":"IF(AND(DC149=\"\"),\"\",IF(DC149=0,\"\",1+(MAX(CQ$60:CQ148))))","v":""},90,0,0,0,0,0,0,0,0,0,0,""]
[0,0,91,{"$nulls":24},"",1,{"$f":"IF(AND(AP150=\"\"),\"\",IF(AP150=0,\"\",1+(MAX(AD$60:AD149))))","v":""},91,0,0,0,0,0,0,0,0,0,0,"",{"$f":"IF(AND(BC150=\"\"),\"\",IF(BC150=0,\"\",1+(MAX(AQ$60:AQ149))))","v":""},91,0,0,0,0,0,0,0,0,0,0,"",{"$f":"IF(AND(BP150=\"\"),\"\",IF(BP150=0,\"\",1+(MAX(BD$60:BD149))))","v":""},91,0,0,0,0,0,0,0,0,0,0,"",{"$f":"IF(AND(CC150=\"\"),\"\",IF(CC150=0,\"\",1+(MAX(BQ$60:BQ149))))","v":""},91,0,0,0,0,0,0,0,0,0,0,"",{"$f":"IF(AND(CP150=\"\"),\"\",IF(CP150=0,\"\",1+(MAX(CD$60:CD149))))","v":""},91,0,0,0,0,0,0,0,0,0,0,"",{"$f":"IF(AND(DC150=\"\"),\"\",IF(DC150=0,\"\",1+(MAX(CQ$60:CQ149))))","v":""},91,0,0,0,0,0,0,0,0,0,0,""]
[0,0,92,{"$nulls":24},"",1,{"$f":"IF(AND(AP151=\"\"),\"\",IF(AP151=0,\"\",1+(MAX(AD$60:AD150))))","v":""},92,0,0,0,0,0,0,0,0,0,0,"",{"$f":"IF(AND(BC151=\"\"),\"\",IF(BC151=0,\"\",1+(MAX(AQ$60:AQ150))))","v":""},92,0,0,0,0,0,0,0,0,0,0,"",{"$f":"IF(AND(BP151=\"\"),\"\",IF(BP151=0,\"\",1+(MAX(BD$60:BD150))))","v":""},92,0,0,0,0,0,0,0,0,0,0,"",{"$f":"IF(AND(CC151=\"\"),\"\",IF(CC151=0,\"\",1+(MAX(BQ$60:BQ150))))","v":""},92,0,0,0,0,0,0,0,0,0,0,"",{"$f":"IF(AND(CP151=\"\"),\"\",IF(CP151=0,\"\",1+(MAX(CD$60:CD150))))","v":""},92,0,0,0,0,0,0,0,0,0,0,"",{"$f":"IF(AND(DC151=\"\"),\"\",IF(DC151=0,\"\",1+(MAX(CQ$60:CQ150))))","v":""},92,0,0,0,0,0,0,0,0,0,0,""]
[0,0,93,{"$nulls":24},"",1,{"$f":"IF(AND(AP152=\"\"),\"\",IF(AP152=0,\"\",1+(MAX(AD$60:AD151))))","v":""},93,0,0,0,0,0,0,0,0,0,0,"",{"$f":"IF(AND(BC152=\"\"),\"\",IF(BC152=0,\"\",1+(MAX(AQ$60:AQ151))))","v":""},93,0,0,0,0,0,0,0,0,0,0,"",{"$f":"IF(AND(BP152=\"\"),\"\",IF(BP152=0,\"\",1+(MAX(BD$60:BD151))))","v":""},93,0,0,0,0,0,0,0,0,0,0,"",{"$f":"IF(AND(CC152=\"\"),\"\",IF(CC152=0,\"\",1+(MAX(BQ$60:BQ151))))","v":""},93,0,0,0,0,0,0,0,0,0,0,"",{"$f":"IF(AND(CP152=\"\"),\"\",IF(CP152=0,\"\",1+(MAX(CD$60:CD151))))","v":""},93,0,0,0,0,0,0,0,0,0,0,"",{"$f":"IF(AND(DC152=\"\"),\"\",IF(DC152=0,\"\",1+(MAX(CQ$60:CQ151))))","v":""},93,0,0,0,0,0,0,0,0,0,0,""]
[0,0,94,{"$nulls":24},"",1,{"$f":"IF(AND(AP153=\"\"),\"\",IF(AP153=0,\"\",1+(MAX(AD$60:AD152))))","v":""},94,0,0,0,0,0,0,0,0,0,0,"",{"$f":"IF(AND(BC153=\"\"),\"\",IF(BC153=0,\"\",1+(MAX(AQ$60:AQ152))))","v":""},94,0,0,0,0,0,0,0,0,0,0,"",{"$f":"IF(AND(BP153=\"\"),\"\",IF(BP153=0,\"\",1+(MAX(BD$60:BD152))))","v":""},94,0,0,0,0,0,0,0,0,0,0,"",{"$f":"IF(AND(CC153=\"\"),\"\",IF(CC153=0,\"\",1+(MAX(BQ$60:BQ152))))","v":""},94,0,0,0,0,0,0,0,0,0,0,"",{"$f":"IF(AND(CP153=\"\"),\"\",IF(CP153=0,\"\",1+(MAX(CD$60:CD152))))","v":""},94,0,0,0,0,0,0,0,0,0,0,"",{"$f":"IF(AND(DC153=\"\"),\"\",IF(DC153=0,\"\",1+(MAX(CQ$60:CQ152))))","v":""},94,0,0,0,0,0,0,0,0,0,0,""]
[0,0,95,{"$nulls":24},"",1,{"$f":"IF(AND(AP154=\"\"),\"\",IF(AP154=0,\"\",1+(MAX(AD$60:AD153))))","v":""},95,0,0,0,0,0,0,0,0,0,0,"",{"$f":"IF(AND(BC154=\"\"),\"\",IF(BC154=0,\"\",1+(MAX(AQ$60:AQ153))))","v":""},95,0,0,0,0,0,0,0,0,0,0,"",{"$f":"IF(AND(BP154=\"\"),\"\",IF(BP154=0,\"\",1+(MAX(BD$60:BD153))))","v":""},95,0,0,0,0,0,0,0,0,0,0,"",{"$f":"IF(AND(CC154=\"\"),\"\",IF(CC154=0,\"\",1+(MAX(BQ$60:BQ153))))","v":""},95,0,0,0,0,0,0,0,0,0,0,"",{"$f":"IF(AND(CP154=\"\"),\"\",IF(CP154=0,\"\",1+(MAX(CD$60:CD153))))","v":""},95,0,0,0,0,0,0,0,0,0,0,"",{"$f":"IF(AND(DC154=\"\"),\"\",IF(DC154=0,\"\",1+(MAX(CQ$60:CQ153))))","v":""},95,0,0,0,0,0,0,0,0,0,0,""]
[0,0,96,{"$nulls":24},"",1,{"$f":"IF(AND(AP155=\"\"),\"\",IF(AP155=0,\"\",1+(MAX(AD$60:AD154))))","v":""},96,0,0,0,0,0,0,0,0,0,0,"",{"$f":"IF(AND(BC155=\"\"),\"\",IF(BC155=0,\"\",1+(MAX(AQ$60:AQ154))))","v":""},96,0,0,0,0,0,0,0,0,0,0,"",{"$f":"IF(AND(BP155=\"\"),\"\",IF(BP155=0,\"\",1+(MAX(BD$60:BD154))))","v":""},96,0,0,0,0,0,0,0,0,0,0,"",{"$f":"IF(AND(CC155=\"\"),\"\",IF(CC155=0,\"\",1+(MAX(BQ$60:BQ154))))","v":""},96,0,0,0,0,0,0,0,0,0,0,"",{"$f":"IF(AND(CP155=\"\"),\"\",IF(CP155=0,\"\",1+(MAX(CD$60:CD154))))","v":""},96,0,0,0,0,0,0,0,0,0,0,"",{"$f":"IF(AND(DC155=\"\"),\"\",IF(DC155=0,\"\",1+(MAX(CQ$60:CQ154))))","v":""},96,0,0,0,0,0,0,0,0,0,0,""]
[0,0,97,{"$nulls":24},"",1,{"$f":"IF(AND(AP156=\"\"),\"\",IF(AP156=0,\"\",1+(MAX(AD$60:AD155))))","v":""},97,0,0,0,0,0,0,0,0,0,0,"",{"$f":"IF(AND(BC156=\"\"),\"\",IF(BC156=0,\"\",1+(MAX(AQ$60:AQ155))))","v":""},97,0,0,0,0,0,0,0,0,0,0,"",{"$f":"IF(AND(BP156=\"\"),\"\",IF(BP156=0,\"\",1+(MAX(BD$60:BD155))))","v":""},97,0,0,0,0,0,0,0,0,0,0,"",{"$f":"IF(AND(CC156=\"\"),\"\",IF(CC156=0,\"\",1+(MAX(BQ$60:BQ155))))","v":""},97,0,0,0,0,0,0,0,0,0,0,"",{"$f":"IF(AND(CP156=\"\"),\"\",IF(CP156=0,\"\",1+(MAX(CD$60:CD155))))","v":""},97,0,0,0,0,0,0,0,0,0,0,"",{"$f":"IF(AND(DC156=\"\"),\"\",IF(DC156=0,\"\",1+(MAX(CQ$60:CQ155))))","v":""},97,0,0,0,0,0,0,0,0,0,0,""]
[0,0,98,{"$nulls":24},"",1,{"$f":"IF(AND(AP157=\"\"),\"\",IF(AP157=0,\"\",1+(MAX(AD$60:AD156))))","v":""},98,0,0,0,0,0,0,0,0,0,0,"",{"$f":"IF(AND(BC157=\"\"),\"\",IF(BC157=0,\"\",1+(MAX(AQ$60:AQ156))))","v":""},98,0,0,0,0,0,0,0,0,0,0,"",{"$f":"IF(AND(BP157=\"\"),\"\",IF(BP157=0,\"\",1+(MAX(BD$60:BD156))))","v":""},98,0,0,0,0,0,0,0,0,0,0,"",{"$f":"IF(AND(CC157=\"\"),\"\",IF(CC157=0,\"\",1+(MAX(BQ$60:BQ156))))","v":""},98,0,0,0,0,0,0,0,0,0,0,"",{"$f":"IF(AND(CP157=\"\"),\"\",IF(CP157=0,\"\",1+(MAX(CD$60:CD156))))","v":""},98,0,0,0,0,0,0,0,0,0,0,"",{"$f":"IF(AND(DC157=\"\"),\"\",IF(DC157=0,\"\",1+(MAX(CQ$60:CQ156))))","v":""},98,0,0,0,0,0,0,0,0,0,0,""]
[0,0,99,{"$nulls":24},"",1,{"$f":"IF(AND(AP158=\"\"),\"\",IF(AP158=0,\"\",1+(MAX(AD$60:AD157))))","v":""},99,0,0,0,0,0,0,0,0,0,0,"",{"$f":"IF(AND(BC158=\"\"),\"\",IF(BC158=0,\"\",1+(MAX(AQ$60:AQ157))))","v":""},99,0,0,0,0,0,0,0,0,0,0,"",{"$f":"IF(AND(BP158=\"\"),\"\",IF(BP158=0,\"\",1+(MAX(BD$60:BD157))))","v":""},99,0,0,0,0,0,0,0,0,0,0,"",{"$f":"IF(AND(CC158=\"\"),\"\",IF(CC158=0,\"\",1+(MAX(BQ$60:BQ157))))","v":""},99,0,0,0,0,0,0,0,0,0,0,"",{"$f":"IF(AND(CP158=\"\"),\"\",IF(CP158=0,\"\",1+(MAX(CD$60:CD157))))","v":""},99,0,0,0,0,0,0,0,0,0,0,"",{"$f":"IF(AND(DC158=\"\"),\"\",IF(DC158=0,\"\",1+(MAX(CQ$60:CQ157))))","v":""},99,0,0,0,0,0,0,0,0,0,0,""]
[0,0,100,{"$nulls":24},"",1,{"$f":"IF(AND(AP159=\"\"),\"\",IF(AP159=0,\"\",1+(MAX(AD$60:AD158))))","v":""},100,0,0,0,0,0,0,0,0,0,0,"",{"$f":"IF(AND(BC159=\"\"),\"\",IF(BC159=0,\"\",1+(MAX(AQ$60:AQ158))))","v":""},100,0,0,0,0,0,0,0,0,0,0,"",{"$f":"IF(AND(BP159=\"\"),\"\",IF(BP159=0,\"\",1+(MAX(BD$60:BD158))))","v":""},100,0,0,0,0,0,0,0,0,0,0,"",{"$f":"IF(AND(CC159=\"\"),\"\",IF(CC159=0,\"\",1+(MAX(BQ$60:BQ158))))","v":""},100,0,0,0,0,0,0,0,0,0,0,"",{"$f":"IF(AND(CP159=\"\"),\"\",IF(CP159=0,\"\",1+(MAX(CD$60:CD158))))","v":""},100,0,0,0,0,0,0,0,0,0,0,"",{"$f":"IF(AND(DC159=\"\"),\"\",IF(DC159=0,\"\",1+(MAX(CQ$60:CQ158))))","v":""},100,0,0,0,0,0,0,0,0,0,0,""]
[0,0,101,{"$nulls":24},{"$f":"MID(H160,5,4)","v":""},1,{"$f":"IF(AND(AP160=\"\"),\"\",IF(AP160=0,\"\",1+(MAX(AD$60:AD159))))","v":""},101,0,0,0,0,0,0,0,0,0,0,"",{"$f":"IF(AND(BC160=\"\"),\"\",IF(BC160=0,\"\",1+(MAX(AQ$60:AQ159))))","v":""},101,0,0,0,0,0,0,0,0,0,0,"",{"$f":"IF(AND(BP160=\"\"),\"\",IF(BP160=0,\"\",1+(MAX(BD$60:BD159))))","v":""},101,0,0,0,0,0,0,0,0,0,0,"",{"$f":"IF(AND(CC160=\"\"),\"\",IF(CC160=0,\"\",1+(MAX(BQ$60:BQ159))))","v":""},101,0,0,0,0,0,0,0,0,0,0,"",{"$f":"IF(AND(CP160=\"\"),\"\",IF(CP160=0,\"\",1+(MAX(CD$60:CD159))))","v":""},101,0,0,0,0,0,0,0,0,0,0,"",{"$f":"IF(AND(DC160=\"\"),\"\",IF(DC160=0,\"\",1+(MAX(CQ$60:CQ159))))","v":""},101,0,0,0,0,0,0,0,0,0,0,""]
[0,0,102,{"$nulls":24},{"$f":"MID(H161,5,4)","v":""},1,{"$f":"IF(AND(AP161=\"\"),\"\",IF(AP161=0,\"\",1+(MAX(AD$60:AD160))))","v":""},102,{"$f":"IF($M161=\"GAZETTED - REGULAR\",D161,0)","v":0},{"$f":"IF($M161=\"GAZETTED - REGULAR\",E161,0)","v":0},{"$f":"IF($M161=\"GAZETTED - REGULAR\",F161,0)","v":0},{"$f":"IF($M161=\"GAZETTED - REGULAR\",G161,0)","v":0},{"$f":"IF($M161=\"GAZETTED - REGULAR\",H161,0)","v":0},{"$f":"IF($M161=\"GAZETTED - REGULAR\",I161,0)","v":0},{"$f":"IF($M161=\"GAZETTED - REGULAR\",J161,0)","v":0},{"$f":"IF($M161=\"GAZETTED - REGULAR\",K161,0)","v":0},0,{"$f":"IF($M161=\"GAZETTED - REGULAR\",M161,0)","v":0},"",{"$f":"IF(AND(BC161=\"\"),\"\",IF(BC161=0,\"\",1+(MAX(AQ$60:AQ160))))","v":""},102,0,0,0,0,0,0,0,0,0,{"$f":"IF($M161=\"NON GAZETTED - REGULAR\",M161,0)","v":0},"",{"$f":"IF(AND(BP161=\"\"),\"\",IF(BP161=0,\"\",1+(MAX(BD$60:BD160))))","v":""},102,0,0,0,0,0,0,0,0,0,{"$f":"IF($M161=\"GAZETTED - FIX PAY\",M161,0)","v":0},"",{"$f":"IF(AND(CC161=\"\"),\"\",IF(CC161=0,\"\",1+(MAX(BQ$60:BQ160))))","v":""},102,0,0,0,0,0,0,0,0,0,{"$f":"IF($M161=\"NON GAZETTED - FIX PAY\",M161,0)","v":0},"",{"$f":"IF(AND(CP161=\"\"),\"\",IF(CP161=0,\"\",1+(MAX(CD$60:CD160))))","v":""},102,{"$f":"IF($M161=\"GAZETTED - SANVIDA\",D161,0)","v":0},{"$f":"IF($M161=\"GAZETTED - SANVIDA\",E161,0)","v":0},{"$f":"IF($M161=\"GAZETTED - SANVIDA\",F161,0)","v":0},{"$f":"IF($M161=\"GAZETTED - SANVIDA\",G161,0)","v":0},{"$f":"IF($M161=\"GAZETTED - SANVIDA\",H161,0)","v":0},{"$f":"IF($M161=\"GAZETTED - SANVIDA\",I161,0)","v":0},{"$f":"IF($M161=\"GAZETTED - SANVIDA\",J161,0)","v":0},{"$f":"IF($M161=\"GAZETTED - SANVIDA\",K161,0)","v":0},{"$f":"IF($M161=\"GAZETTED - SANVIDA\",L161,0)","v":0},{"$f":"IF($M161=\"GAZETTED - SANVIDA\",M161,0)","v":0},"",{"$f":"IF(AND(DC161=\"\"),\"\",IF(DC161=0,\"\",1+(MAX(CQ$60:CQ160))))","v":""},102,0,{"$f":"IF($M161=\"NON GAZETTED - SANVIDA\",E161,0)","v":0},{"$f":"IF($M161=\"NON GAZETTED - SANVIDA\",F161,0)","v":0},{"$f":"IF($M161=\"NON GAZETTED - SANVIDA\",G161,0)","v":0},{"$f":"IF($M161=\"NON GAZETTED - SANVIDA\",H161,0)","v":0},{"$f":"IF($M161=\"NON GAZETTED - SANVIDA\",I161,0)","v":0},{"$f":"IF($M161=\"NON GAZETTED - SANVIDA\",J161,0)","v":0},{"$f":"IF($M161=\"NON GAZETTED - SANVIDA\",K161,0)","v":0},{"$f":"IF($M161=\"NON GAZETTED - SANVIDA\",L161,0)","v":0},{"$f":"IF($M161=\"NON GAZETTED - SANVIDA\",M161,0)","v":0},""]
[0,0,103,{"$nulls":24},"",1,{"$f":"IF(AND(AP162=\"\"),\"\",IF(AP162=0,\"\",1+(MAX(AD$60:AD161))))","v":""},103,0,0,0,0,0,0,0,0,{"$f":"IF($M162=\"GAZETTED - REGULAR\",L162,0)","v":0},0,"",{"$f":"IF(AND(BC162=\"\"),\"\",IF(BC162=0,\"\",1+(MAX(AQ$60:AQ161))))","v":""},103,{"$f":"IF($M162=\"NON GAZETTED - REGULAR\",D162,0)","v":0},{"$f":"IF($M162=\"NON GAZETTED - REGULAR\",E162,0)","v":0},{"$f":"IF($M162=\"NON GAZETTED - REGULAR\",F162,0)","v":0},{"$f":"IF($M162=\"NON GAZETTED - REGULAR\",G162,0)","v":0},{"$f":"IF($M162=\"NON GAZETTED - REGULAR\",H162,0)","v":0},{"$f":"IF($M162=\"NON GAZETTED - REGULAR\",I162,0)","v":0},{"$f":"IF($M162=\"NON GAZETTED - REGULAR\",J162,0)","v":0},{"$f":"IF($M162=\"NON GAZETTED - REGULAR\",K162,0)","v":0},{"$f":"IF($M162=\"NON GAZETTED - REGULAR\",L162,0)","v":0},0,"",{"$f":"IF(AND(BP162=\"\"),\"\",IF(BP162=0,\"\",1+(MAX(BD$60:BD161))))","v":""},103,0,0,0,0,0,0,0,0,0,0,"",{"$f":"IF(AND(CC162=\"\"),\"\",IF(CC162=0,\"\",1+(MAX(BQ$60:BQ161))))","v":""},103,0,0,0,0,0,0,0,0,0,0,"",{"$f":"IF(AND(CP162=\"\"),\"\",IF(CP162=0,\"\",1+(MAX(CD$60:CD161))))","v":""},103,0,0,0,0,0,0,0,0,0,0,"",{"$f":"IF(AND(DC162=\"\"),\"\",IF(DC162=0,\"\",1+(MAX(CQ$60:CQ161))))","v":""},103,0,0,0,0,0,0,0,0,0,0,""]
[0,0,104,{"$nulls":24},"",1,{"$f":"IF(AND(AP163=\"\"),\"\",IF(AP163=0,\"\",1+(MAX(AD$60:AD162))))","v":""},104,0,0,0,0,0,0,0,0,0,0,"",{"$f":"IF(AND(BC163=\"\"),\"\",IF(BC163=0,\"\",1+(MAX(AQ$60:AQ162))))","v":""},104,0,0,0,0,0,0,0,0,0,0,"",{"$f":"IF(AND(BP163=\"\"),\"\",IF(BP163=0,\"\",1+(MAX(BD$60:BD162))))","v":""},104,0,0,0,0,0,0,0,0,0,0,"",{"$f":"IF(AND(CC163=\"\"),\"\",IF(CC163=0,\"\",1+(MAX(BQ$60:BQ162))))","v":""},104,0,0,0,0,0,0,0,0,0,0,"",{"$f":"IF(AND(CP163=\"\"),\"\",IF(CP163=0,\"\",1+(MAX(CD$60:CD162))))","v":""},104,0,0,0,0,0,0,0,0,0,0,"",{"$f":"IF(AND(DC163=\"\"),\"\",IF(DC163=0,\"\",1+(MAX(CQ$60:CQ162))))","v":""},104,0,0,0,0,0,0,0,0,0,0,""]
[0,0,105,{"$nulls":24},"",1,{"$f":"IF(AND(AP164=\"\"),\"\",IF(AP164=0,\"\",1+(MAX(AD$60:AD163))))","v":""},105,0,0,0,0,0,0,0,0,0,0,"",{"$f":"IF(AND(BC164=\"\"),\"\",IF(BC164=0,\"\",1+(MAX(AQ$60:AQ163))))","v":""},105,0,0,0,0,0,0,0,0,0,0,"",{"$f":"IF(AND(BP164=\"\"),\"\",IF(BP164=0,\"\",1+(MAX(BD$60:BD163))))","v":""},105,0,0,0,0,0,0,0,0,0,0,"",{"$f":"IF(AND(CC164=\"\"),\"\",IF(CC164=0,\"\",1+(MAX(BQ$60:BQ163))))","v":""},105,0,0,0,0,0,0,0,0,0,0,"",{"$f":"IF(AND(CP164=\"\"),\"\",IF(CP164=0,\"\",1+(MAX(CD$60:CD163))))","v":""},105,0,0,0,0,0,0,0,0,0,0,"",{"$f":"IF(AND(DC164=\"\"),\"\",IF(DC164=0,\"\",1+(MAX(CQ$60:CQ163))))","v":""},105,0,0,0,0,0,0,0,0,0,0,""]
[0,0,106,{"$nulls":24},"",1,{"$f":"IF(AND(AP165=\"\"),\"\",IF(AP165=0,\"\",1+(MAX(AD$60:AD164))))","v":""},106,0,0,0,0,0,0,0,0,0,0,"",{"$f":"IF(AND(BC165=\"\"),\"\",IF(BC165=0,\"\",1+(MAX(AQ$60:AQ164))))","v":""},106,0,0,0,0,0,0,0,0,0,0,"",{"$f":"IF(AND(BP165=\"\"),\"\",IF(BP165=0,\"\",1+(MAX(BD$60:BD164))))","v":""},106,0,0,0,0,0,0,0,0,0,0,"",{"$f":"IF(AND(CC165=\"\"),\"\",IF(CC165=0,\"\",1+(MAX(BQ$60:BQ164))))","v":""},106,0,0,0,0,0,0,0,0,0,0,"",{"$f":"IF(AND(CP165=\"\"),\"\",IF(CP165=0,\"\",1+(MAX(CD$60:CD164))))","v":""},106,0,0,0,0,0,0,0,0,0,0,"",{"$f":"IF(AND(DC165=\"\"),\"\",IF(DC165=0,\"\",1+(MAX(CQ$60:CQ164))))","v":""},106,0,0,0,0,0,0,0,0,0,0,""]
[0,0,107,{"$nulls":24},"",1,{"$f":"IF(AND(AP166=\"\"),\"\",IF(AP166=0,\"\",1+(MAX(AD$60:AD165))))","v":""},107,0,0,0,0,0,0,0,0,0,0,"",{"$f":"IF(AND(BC166=\"\"),\"\",IF(BC166=0,\"\",1+(MAX(AQ$60:AQ165))))","v":""},107,0,0,0,0,0,0,0,0,0,0,"",{"$f":"IF(AND(BP166=\"\"),\"\",IF(BP166=0,\"\",1+(MAX(BD$60:BD165))))","v":""},107,0,0,0,0,0,0,0,0,0,0,"",{"$f":"IF(AND(CC166=\"\"),\"\",IF(CC166=0,\"\",1+(MAX(BQ$60:BQ165))))","v":""},107,0,0,0,0,0,0,0,0,0,0,"",{"$f":"IF(AND(CP166=\"\"),\"\",IF(CP166=0,\"\",1+(MAX(CD$60:CD165))))","v":""},107,0,0,0,0,0,0,0,0,0,0,"",{"$f":"IF(AND(DC166=\"\"),\"\",IF(DC166=0,\"\",1+(MAX(CQ$60:CQ165))))","v":""},107,0,0,0,0,0,0,0,0,0,0,""]
[0,0,108,{"$nulls":24},"",1,{"$f":"IF(AND(AP167=\"\"),\"\",IF(AP167=0,\"\",1+(MAX(AD$60:AD166))))","v":""},108,0,0,0,0,0,0,0,0,0,0,"",{"$f":"IF(AND(BC167=\"\"),\"\",IF(BC167=0,\"\",1+(MAX(AQ$60:AQ166))))","v":""},108,0,0,0,0,0,0,0,0,0,0,"",{"$f":"IF(AND(BP167=\"\"),\"\",IF(BP167=0,\"\",1+(MAX(BD$60:BD166))))","v":""},108,0,0,0,0,0,0,0,0,0,0,"",{"$f":"IF(AND(CC167=\"\"),\"\",IF(CC167=0,\"\",1+(MAX(BQ$60:BQ166))))","v":""},108,0,0,0,0,0,0,0,0,0,0,"",{"$f":"IF(AND(CP167=\"\"),\"\",IF(CP167=0,\"\",1+(MAX(CD$60:CD166))))","v":""},108,0,0,0,0,0,0,0,0,0,0,"",{"$f":"IF(AND(DC167=\"\"),\"\",IF(DC167=0,\"\",1+(MAX(CQ$60:CQ166))))","v":""},108,0,0,0,0,0,0,0,0,0,0,""]
[0,0,109,{"$nulls":24},"",1,{"$f":"IF(AND(AP168=\"\"),\"\",IF(AP168=0,\"\",1+(MAX(AD$60:AD167))))","v":""},109,0,0,0,0,0,0,0,0,0,0,"",{"$f":"IF(AND(BC168=\"\"),\"\",IF(BC168=0,\"\",1+(MAX(AQ$60:AQ167))))","v":""},109,0,0,0,0,0,0,0,0,0,0,"",{"$f":"IF(AND(BP168=\"\"),\"\",IF(BP168=0,\"\",1+(MAX(BD$60:BD167))))","v":""},109,0,0,0,0,0,0,0,0,0,0,"",{"$f":"IF(AND(CC168=\"\"),\"\",IF(CC168=0,\"\",1+(MAX(BQ$60:BQ167))))","v":""},109,0,0,0,0,0,0,0,0,0,0,"",{"$f":"IF(AND(CP168=\"\"),\"\",IF(CP168=0,\"\",1+(MAX(CD$60:CD167))))","v":""},109,0,0,0,0,0,0,0,0,0,0,"",{"$f":"IF(AND(DC168=\"\"),\"\",IF(DC168=0,\"\",1+(MAX(CQ$60:CQ167))))","v":""},109,0,0,0,0,0,0,0,0,0,0,""]
[0,0,110,{"$nulls":24},"",1,{"$f":"IF(AND(AP169=\"\"),\"\",IF(AP169=0,\"\",1+(MAX(AD$60:AD168))))","v":""},110,0,0,0,0,0,0,0,0,0,0,"",{"$f":"IF(AND(BC169=\"\"),\"\",IF(BC169=0,\"\",1+(MAX(AQ$60:AQ168))))","v":""},110,0,0,0,0,0,0,0,0,0,0,"",{"$f":"IF(AND(BP169=\"\"),\"\",IF(BP169=0,\"\",1+(MAX(BD$60:BD168))))","v":""},110,0,0,0,0,0,0,0,0,0,0,"",{"$f":"IF(AND(CC169=\"\"),\"\",IF(CC169=0,\"\",1+(MAX(BQ$60:BQ168))))","v":""},110,0,0,0,0,0,0,0,0,0,0,"",{"$f":"IF(AND(CP169=\"\"),\"\",IF(CP169=0,\"\",1+(MAX(CD$60:CD168))))","v":""},110,0,0,0,0,0,0,0,0,0,0,"",{"$f":"IF(AND(DC169=\"\"),\"\",IF(DC169=0,\"\",1+(MAX(CQ$60:CQ168))))","v":""},110,0,0,0,0,0,0,0,0,0,0,""]
[0,0,111,{"$nulls":24},"",1,{"$f":"IF(AND(AP170=\"\"),\"\",IF(AP170=0,\"\",1+(MAX(AD$60:AD169))))","v":""},111,0,0,0,0,0,0,0,0,0,0,"",{"$f":"IF(AND(BC170=\"\"),\"\",IF(BC170=0,\"\",1+(MAX(AQ$60:AQ169))))","v":""},111,0,0,0,0,0,0,0,0,0,0,"",{"$f":"IF(AND(BP170=\"\"),\"\",IF(BP170=0,\"\",1+(MAX(BD$60:BD169))))","v":""},111,0,0,0,0,0,0,0,0,0,0,"",{"$f":"IF(AND(CC170=\"\"),\"\",IF(CC170=0,\"\",1+(MAX(BQ$60:BQ169))))","v":""},111,0,0,0,0,0,0,0,0,0,0,"",{"$f":"IF(AND(CP170=\"\"),\"\",IF(CP170=0,\"\",1+(MAX(CD$60:CD169))))","v":""},111,0,0,0,0,0,0,0,0,0,0,"",{"$f":"IF(AND(DC170=\"\"),\"\",IF(DC170=0,\"\",1+(MAX(CQ$60:CQ169))))","v":""},111,0,0,0,0,0,0,0,0,0,0,""]
[0,0,112,{"$nulls":24},"",1,{"$f":"IF(AND(AP171=\"\"),\"\",IF(AP171=0,\"\",1+(MAX(AD$60:AD170))))","v":""},112,0,0,0,0,0,0,0,0,0,0,"",{"$f":"IF(AND(BC171=\"\"),\"\",IF(BC171=0,\"\",1+(MAX(AQ$60:AQ170))))","v":""},112,0,0,0,0,0,0,0,0,0,0,"",{"$f":"IF(AND(BP171=\"\"),\"\",IF(BP171=0,\"\",1+(MAX(BD$60:BD170))))","v":""},112,0,0,0,0,0,0,0,0,0,0,"",{"$f":"IF(AND(CC171=\"\"),\"\",IF(CC171=0,\"\",1+(MAX(BQ$60:BQ170))))","v":""},112,0,0,0,0,0,0,0,0,0,0,"",{"$f":"IF(AND(CP171=\"\"),\"\",IF(CP171=0,\"\",1+(MAX(CD$60:CD170))))","v":""},112,0,0,0,0,0,0,0,0,0,0,"",{"$f":"IF(AND(DC171=\"\"),\"\",IF(DC171=0,\"\",1+(MAX(CQ$60:CQ170))))","v":""},112,0,0,0,0,0,0,0,0,0,0,""]
[0,0,113,{"$nulls":24},"",1,{"$f":"IF(AND(AP172=\"\"),\"\",IF(AP172=0,\"\",1+(MAX(AD$60:AD171))))","v":""},113,0,0,0,0,0,0,0,0,0,0,"",{"$f":"IF(AND(BC172=\"\"),\"\",IF(BC172=0,\"\",1+(MAX(AQ$60:AQ171))))","v":""},113,0,0,0,0,0,0,0,0,0,0,"",{"$f":"IF(AND(BP172=\"\"),\"\",IF(BP172=0,\"\",1+(MAX(BD$60:BD171))))","v":""},113,0,0,0,0,0,0,0,0,0,0,"",{"$f":"IF(AND(CC172=\"\"),\"\",IF(CC172=0,\"\",1+(MAX(BQ$60:BQ171))))","v":""},113,0,0,0,0,0,0,0,0,0,0,"",{"$f":"IF(AND(CP172=\"\"),\"\",IF(CP172=0,\"\",1+(MAX(CD$60:CD171))))","v":""},113,0,0,0,0,0,0,0,0,0,0,"",{"$f":"IF(AND(DC172=\"\"),\"\",IF(DC172=0,\"\",1+(MAX(CQ$60:CQ171))))","v":""},113,0,0,0,0,0,0,0,0,0,0,""]
[0,0,114,{"$nulls":24},"",1,{"$f":"IF(AND(AP173=\"\"),\"\",IF(AP173=0,\"\",1+(MAX(AD$60:AD172))))","v":""},114,0,0,0,0,0,0,0,0,0,0,"",{"$f":"IF(AND(BC173=\"\"),\"\",IF(BC173=0,\"\",1+(MAX(AQ$60:AQ172))))","v":""},114,0,0,0,0,0,0,0,0,0,0,"",{"$f":"IF(AND(BP173=\"\"),\"\",IF(BP173=0,\"\",1+(MAX(BD$60:BD172))))","v":""},114,0,0,0,0,0,0,0,0,0,0,"",{"$f":"IF(AND(CC173=\"\"),\"\",IF(CC173=0,\"\",1+(MAX(BQ$60:BQ172))))","v":""},114,0,0,0,0,0,0,0,0,0,0,"",{"$f":"IF(AND(CP173=\"\"),\"\",IF(CP173=0,\"\",1+(MAX(CD$60:CD172))))","v":""},114,0,0,0,0,0,0,0,0,0,0,"",{"$f":"IF(AND(DC173=\"\"),\"\",IF(DC173=0,\"\",1+(MAX(CQ$60:CQ172))))","v":""},114,0,0,0,0,0,0,0,0,0,0,""]
[0,0,115,{"$nulls":24},"",1,{"$f":"IF(AND(AP174=\"\"),\"\",IF(AP174=0,\"\",1+(MAX(AD$60:AD173))))","v":""},115,0,0,0,0,0,0,0,0,0,0,"",{"$f":"IF(AND(BC174=\"\"),\"\",IF(BC174=0,\"\",1+(MAX(AQ$60:AQ173))))","v":""},115,0,0,0,0,0,0,0,0,0,0,"",{"$f":"IF(AND(BP174=\"\"),\"\",IF(BP174=0,\"\",1+(MAX(BD$60:BD173))))","v":""},115,0,0,0,0,0,0,0,0,0,0,"",{"$f":"IF(AND(CC174=\"\"),\"\",IF(CC174=0,\"\",1+(MAX(BQ$60:BQ173))))","v":""},115,0,0,0,0,0,0,0,0,0,0,"",{"$f":"IF(AND(CP174=\"\"),\"\",IF(CP174=0,\"\",1+(MAX(CD$60:CD173))))","v":""},115,0,0,0,0,0,0,0,0,0,0,"",{"$f":"IF(AND(DC174=\"\"),\"\",IF(DC174=0,\"\",1+(MAX(CQ$60:CQ173))))","v":""},115,0,0,0,0,0,0,0,0,0,0,""]
[0,0,116,{"$nulls":24},"",1,{"$f":"IF(AND(AP175=\"\"),\"\",IF(AP175=0,\"\",1+(MAX(AD$60:AD174))))","v":""},116,0,0,0,0,0,0,0,0,0,0,"",{"$f":"IF(AND(BC175=\"\"),\"\",IF(BC175=0,\"\",1+(MAX(AQ$60:AQ174))))","v":""},116,0,0,0,0,0,0,0,0,0,0,"",{"$f":"IF(AND(BP175=\"\"),\"\",IF(BP175=0,\"\",1+(MAX(BD$60:BD174))))","v":""},116,0,0,0,0,0,0,0,0,0,0,"",{"$f":"IF(AND(CC175=\"\"),\"\",IF(CC175=0,\"\",1+(MAX(BQ$60:BQ174))))","v":""},116,0,0,0,0,0,0,0,0,0,0,"",{"$f":"IF(AND(CP175=\"\"),\"\",IF(CP175=0,\"\",1+(MAX(CD$60:CD174))))","v":""},116,0,0,0,0,0,0,0,0,0,0,"",{"$f":"IF(AND(DC175=\"\"),\"\",IF(DC175=0,\"\",1+(MAX(CQ$60:CQ174))))","v":""},116,0,0,0,0,0,0,0,0,0,0,""]
[0,0,117,{"$nulls":24},"",1,{"$f":"IF(AND(AP176=\"\"),\"\",IF(AP176=0,\"\",1+(MAX(AD$60:AD175))))","v":""},117,0,0,0,0,0,0,0,0,0,0,"",{"$f":"IF(AND(BC176=\"\"),\"\",IF(BC176=0,\"\",1+(MAX(AQ$60:AQ175))))","v":""},117,0,0,0,0,0,0,0,0,0,0,"",{"$f":"IF(AND(BP176=\"\"),\"\",IF(BP176=0,\"\",1+(MAX(BD$60:BD175))))","v":""},117,0,0,0,0,0,0,0,0,0,0,"",{"$f":"IF(AND(CC176=\"\"),\"\",IF(CC176=0,\"\",1+(MAX(BQ$60:BQ175))))","v":""},117,0,0,0,0,0,0,0,0,0,0,"",{"$f":"IF(AND(CP176=\"\"),\"\",IF(CP176=0,\"\",1+(MAX(CD$60:CD175))))","v":""},117,0,0,0,0,0,0,0,0,0,0,"",{"$f":"IF(AND(DC176=\"\"),\"\",IF(DC176=0,\"\",1+(MAX(CQ$60:CQ175))))","v":""},117,0,0,0,0,0,0,0,0,0,0,""]
[0,0,118,{"$nulls":24},"",1,{"$f":"IF(AND(AP177=\"\"),\"\",IF(AP177=0,\"\",1+(MAX(AD$60:AD176))))","v":""},118,0,0,0,0,0,0,0,0,0,0,"",{"$f":"IF(AND(BC177=\"\"),\"\",IF(BC177=0,\"\",1+(MAX(AQ$60:AQ176))))","v":""},118,0,0,0,0,0,0,0,0,0,0,"",{"$f":"IF(AND(BP177=\"\"),\"\",IF(BP177=0,\"\",1+(MAX(BD$60:BD176))))","v":""},118,0,0,0,0,0,0,0,0,0,0,"",{"$f":"IF(AND(CC177=\"\"),\"\",IF(CC177=0,\"\",1+(MAX(BQ$60:BQ176))))","v":""},118,0,0,0,0,0,0,0,0,0,0,"",{"$f":"IF(AND(CP177=\"\"),\"\",IF(CP177=0,\"\",1+(MAX(CD$60:CD176))))","v":""},118,0,0,0,0,0,0,0,0,0,0,"",{"$f":"IF(AND(DC177=\"\"),\"\",IF(DC177=0,\"\",1+(MAX(CQ$60:CQ176))))","v":""},118,{"$f":"IF($M177=\"NON GAZETTED - SANVIDA\",D177,0)","v":0},0,0,0,0,0,0,0,0,0,""]
[0,0,119,{"$nulls":24},"",1,{"$f":"IF(AND(AP178=\"\"),\"\",IF(AP178=0,\"\",1+(MAX(AD$60:AD177))))","v":""},119,0,0,0,0,0,0,0,0,0,0,"",{"$f":"IF(AND(BC178=\"\"),\"\",IF(BC178=0,\"\",1+(MAX(AQ$60:AQ177))))","v":""},119,0,0,0,0,0,0,0,0,0,0,"",{"$f":"IF(AND(BP178=\"\"),\"\",IF(BP178=0,\"\",1+(MAX(BD$60:BD177))))","v":""},119,0,0,0,0,0,0,0,0,0,0,"",{"$f":"IF(AND(CC178=\"\"),\"\",IF(CC178=0,\"\",1+(MAX(BQ$60:BQ177))))","v":""},119,0,0,0,0,0,0,0,0,0,0,"",{"$f":"IF(AND(CP178=\"\"),\"\",IF(CP178=0,\"\",1+(MAX(CD$60:CD177))))","v":""},119,0,0,0,0,0,0,0,0,0,0,"",{"$f":"IF(AND(DC178=\"\"),\"\",IF(DC178=0,\"\",1+(MAX(CQ$60:CQ177))))","v":""},119,0,0,0,0,0,0,0,0,0,0,""]
[0,0,120,{"$nulls":24},"",1,{"$f":"IF(AND(AP179=\"\"),\"\",IF(AP179=0,\"\",1+(MAX(AD$60:AD178))))","v":""},120,0,0,0,0,0,0,0,0,0,0,"",{"$f":"IF(AND(BC179=\"\"),\"\",IF(BC179=0,\"\",1+(MAX(AQ$60:AQ178))))","v":""},120,0,0,0,0,0,0,0,0,0,0,"",{"$f":"IF(AND(BP179=\"\"),\"\",IF(BP179=0,\"\",1+(MAX(BD$60:BD178))))","v":""},120,0,0,0,0,0,0,0,0,0,0,"",{"$f":"IF(AND(CC179=\"\"),\"\",IF(CC179=0,\"\",1+(MAX(BQ$60:BQ178))))","v":""},120,0,0,0,0,0,0,0,0,0,0,"",{"$f":"IF(AND(CP179=\"\"),\"\",IF(CP179=0,\"\",1+(MAX(CD$60:CD178))))","v":""},120,0,0,0,0,0,0,0,0,0,0,"",{"$f":"IF(AND(DC179=\"\"),\"\",IF(DC179=0,\"\",1+(MAX(CQ$60:CQ178))))","v":""},120,0,0,0,0,0,0,0,0,0,0,""]
[0,0,121,{"$nulls":24},"",1,{"$f":"IF(AND(AP180=\"\"),\"\",IF(AP180=0,\"\",1+(MAX(AD$60:AD179))))","v":""},121,0,0,0,0,0,0,0,0,{"$f":"IF($M180=\"GAZETTED - REGULAR\",L180,0)","v":0},0,"",{"$f":"IF(AND(BC180=\"\"),\"\",IF(BC180=0,\"\",1+(MAX(AQ$60:AQ179))))","v":""},121,0,0,0,0,0,0,0,0,0,0,"",{"$f":"IF(AND(BP180=\"\"),\"\",IF(BP180=0,\"\",1+(MAX(BD$60:BD179))))","v":""},121,0,0,0,0,0,0,0,0,0,0,"",{"$f":"IF(AND(CC180=\"\"),\"\",IF(CC180=0,\"\",1+(MAX(BQ$60:BQ179))))","v":""},121,0,0,0,0,0,0,0,0,0,0,"",{"$f":"IF(AND(CP180=\"\"),\"\",IF(CP180=0,\"\",1+(MAX(CD$60:CD179))))","v":""},121,0,0,0,0,0,0,0,0,0,0,"",{"$f":"IF(AND(DC180=\"\"),\"\",IF(DC180=0,\"\",1+(MAX(CQ$60:CQ179))))","v":""},121,0,0,0,0,0,0,0,0,0,0,""]
[0,0,122,{"$nulls":24},"",1,{"$f":"IF(AND(AP181=\"\"),\"\",IF(AP181=0,\"\",1+(MAX(AD$60:AD180))))","v":""},122,0,0,0,0,0,0,0,0,0,0,"",{"$f":"IF(AND(BC181=\"\"),\"\",IF(BC181=0,\"\",1+(MAX(AQ$60:AQ180))))","v":""},122,0,0,0,0,0,0,0,0,0,0,"",{"$f":"IF(AND(BP181=\"\"),\"\",IF(BP181=0,\"\",1+(MAX(BD$60:BD180))))","v":""},122,0,0,0,0,0,0,0,0,0,0,"",{"$f":"IF(AND(CC181=\"\"),\"\",IF(CC181=0,\"\",1+(MAX(BQ$60:BQ180))))","v":""},122,0,0,0,0,0,0,0,0,0,0,"",{"$f":"IF(AND(CP181=\"\"),\"\",IF(CP181=0,\"\",1+(MAX(CD$60:CD180))))","v":""},122,0,0,0,0,0,0,0,0,0,0,"",{"$f":"IF(AND(DC181=\"\"),\"\",IF(DC181=0,\"\",1+(MAX(CQ$60:CQ180))))","v":""},122,0,0,0,0,0,0,0,0,0,0,""]
[0,0,123,{"$nulls":24},"",1,{"$f":"IF(AND(AP182=\"\"),\"\",IF(AP182=0,\"\",1+(MAX(AD$60:AD181))))","v":""},123,0,0,0,0,0,0,0,0,0,0,"",{"$f":"IF(AND(BC182=\"\"),\"\",IF(BC182=0,\"\",1+(MAX(AQ$60:AQ181))))","v":""},123,0,0,0,0,0,0,0,0,0,0,"",{"$f":"IF(AND(BP182=\"\"),\"\",IF(BP182=0,\"\",1+(MAX(BD$60:BD181))))","v":""},123,0,0,0,0,0,0,0,0,0,0,"",{"$f":"IF(AND(CC182=\"\"),\"\",IF(CC182=0,\"\",1+(MAX(BQ$60:BQ181))))","v":""},123,0,0,0,0,0,0,0,0,0,0,"",{"$f":"IF(AND(CP182=\"\"),\"\",IF(CP182=0,\"\",1+(MAX(CD$60:CD181))))","v":""},123,0,0,0,0,0,0,0,0,0,0,"",{"$f":"IF(AND(DC182=\"\"),\"\",IF(DC182=0,\"\",1+(MAX(CQ$60:CQ181))))","v":""},123,0,0,0,0,0,0,0,0,0,0,""]
[0,0,124,{"$nulls":24},"",1,{"$f":"IF(AND(AP183=\"\"),\"\",IF(AP183=0,\"\",1+(MAX(AD$60:AD182))))","v":""},124,0,0,0,0,0,0,0,0,0,0,"",{"$f":"IF(AND(BC183=\"\"),\"\",IF(BC183=0,\"\",1+(MAX(AQ$60:AQ182))))","v":""},124,0,0,0,0,0,0,0,0,0,0,"",{"$f":"IF(AND(BP183=\"\"),\"\",IF(BP183=0,\"\",1+(MAX(BD$60:BD182))))","v":""},124,0,0,0,0,0,0,0,0,0,0,"",{"$f":"IF(AND(CC183=\"\"),\"\",IF(CC183=0,\"\",1+(MAX(BQ$60:BQ182))))","v":""},124,0,0,0,0,0,0,0,0,0,0,"",{"$f":"IF(AND(CP183=\"\"),\"\",IF(CP183=0,\"\",1+(MAX(CD$60:CD182))))","v":""},124,0,0,0,0,0,0,0,0,0,0,"",{"$f":"IF(AND(DC183=\"\"),\"\",IF(DC183=0,\"\",1+(MAX(CQ$60:CQ182))))","v":""},124,0,0,0,0,0,0,0,0,0,0,""]
[0,0,125,{"$nulls":24},"",1,{"$f":"IF(AND(AP184=\"\"),\"\",IF(AP184=0,\"\",1+(MAX(AD$60:AD183))))","v":""},125,0,0,0,0,0,0,0,0,0,0,"",{"$f":"IF(AND(BC184=\"\"),\"\",IF(BC184=0,\"\",1+(MAX(AQ$60:AQ183))))","v":""},125,0,0,0,0,0,0,0,0,0,0,"",{"$f":"IF(AND(BP184=\"\"),\"\",IF(BP184=0,\"\",1+(MAX(BD$60:BD183))))","v":""},125,0,0,0,0,0,0,0,0,0,0,"",{"$f":"IF(AND(CC184=\"\"),\"\",IF(CC184=0,\"\",1+(MAX(BQ$60:BQ183))))","v":""},125,0,0,0,0,0,0,0,0,0,0,"",{"$f":"IF(AND(CP184=\"\"),\"\",IF(CP184=0,\"\",1+(MAX(CD$60:CD183))))","v":""},125,0,0,0,0,0,0,0,0,0,0,"",{"$f":"IF(AND(DC184=\"\"),\"\",IF(DC184=0,\"\",1+(MAX(CQ$60:CQ183))))","v":""},125,0,0,0,0,0,0,0,0,0,0,""]
[0,0,126,{"$nulls":24},"",1,{"$f":"IF(AND(AP185=\"\"),\"\",IF(AP185=0,\"\",1+(MAX(AD$60:AD184))))","v":""},126,0,0,0,0,0,0,0,0,0,0,"",{"$f":"IF(AND(BC185=\"\"),\"\",IF(BC185=0,\"\",1+(MAX(AQ$60:AQ184))))","v":""},126,0,0,0,0,0,0,0,0,0,0,"",{"$f":"IF(AND(BP185=\"\"),\"\",IF(BP185=0,\"\",1+(MAX(BD$60:BD184))))","v":""},126,0,0,0,0,0,0,0,0,0,0,"",{"$f":"IF(AND(CC185=\"\"),\"\",IF(CC185=0,\"\",1+(MAX(BQ$60:BQ184))))","v":""},126,0,0,0,0,0,0,0,0,0,0,"",{"$f":"IF(AND(CP185=\"\"),\"\",IF(CP185=0,\"\",1+(MAX(CD$60:CD184))))","v":""},126,0,0,0,0,0,0,0,0,0,0,"",{"$f":"IF(AND(DC185=\"\"),\"\",IF(DC185=0,\"\",1+(MAX(CQ$60:CQ184))))","v":""},126,0,0,0,0,0,0,0,0,0,0,""]
[0,0,127,{"$nulls":24},"",1,{"$f":"IF(AND(AP186=\"\"),\"\",IF(AP186=0,\"\",1+(MAX(AD$60:AD185))))","v":""},127,0,0,0,0,0,0,0,0,0,0,"",{"$f":"IF(AND(BC186=\"\"),\"\",IF(BC186=0,\"\",1+(MAX(AQ$60:AQ185))))","v":""},127,0,0,0,0,0,0,0,0,0,0,"",{"$f":"IF(AND(BP186=\"\"),\"\",IF(BP186=0,\"\",1+(MAX(BD$60:BD185))))","v":""},127,0,0,0,0,0,0,0,0,0,0,"",{"$f":"IF(AND(CC186=\"\"),\"\",IF(CC186=0,\"\",1+(MAX(BQ$60:BQ185))))","v":""},127,0,0,0,0,0,0,0,0,0,0,"",{"$f":"IF(AND(CP186=\"\"),\"\",IF(CP186=0,\"\",1+(MAX(CD$60:CD185))))","v":""},127,0,0,0,0,0,0,0,0,0,0,"",{"$f":"IF(AND(DC186=\"\"),\"\",IF(DC186=0,\"\",1+(MAX(CQ$60:CQ185))))","v":""},127,0,0,0,0,0,0,0,0,0,0,""]
[0,0,128,{"$nulls":24},"",1,{"$f":"IF(AND(AP187=\"\"),\"\",IF(AP187=0,\"\",1+(MAX(AD$60:AD186))))","v":""},128,0,0,0,0,0,0,0,0,0,0,"",{"$f":"IF(AND(BC187=\"\"),\"\",IF(BC187=0,\"\",1+(MAX(AQ$60:AQ186))))","v":""},128,0,0,0,0,0,0,0,0,0,0,"",{"$f":"IF(AND(BP187=\"\"),\"\",IF(BP187=0,\"\",1+(MAX(BD$60:BD186))))","v":""},128,0,0,0,0,0,0,0,0,0,0,"",{"$f":"IF(AND(CC187=\"\"),\"\",IF(CC187=0,\"\",1+(MAX(BQ$60:BQ186))))","v":""},128,0,0,0,0,0,0,0,0,0,0,"",{"$f":"IF(AND(CP187=\"\"),\"\",IF(CP187=0,\"\",1+(MAX(CD$60:CD186))))","v":""},128,0,0,0,0,0,0,0,0,0,0,"",{"$f":"IF(AND(DC187=\"\"),\"\",IF(DC187=0,\"\",1+(MAX(CQ$60:CQ186))))","v":""},128,0,0,0,0,0,0,0,0,0,0,""]
[0,0,129,{"$nulls":24},"",1,{"$f":"IF(AND(AP188=\"\"),\"\",IF(AP188=0,\"\",1+(MAX(AD$60:AD187))))","v":""},129,0,0,0,0,0,0,0,0,0,0,{"$f":"IF(AND(M188=\"\"),\"\",IF(M188=AF$58,1,0))","v":""},{"$f":"IF(AND(BC188=\"\"),\"\",IF(BC188=0,\"\",1+(MAX(AQ$60:AQ187))))","v":""},129,0,0,0,0,0,0,0,0,0,0,{"$f":"IF(AND(M188=\"\"),\"\",IF(M188=AS$58,1,0))","v":""},{"$f":"IF(AND(BP188=\"\"),\"\",IF(BP188=0,\"\",1+(MAX(BD$60:BD187))))","v":""},129,0,0,0,0,0,0,0,0,0,0,{"$f":"IF(AND(M188=\"\"),\"\",IF(M188=BF$58,1,0))","v":""},{"$f":"IF(AND(CC188=\"\"),\"\",IF(CC188=0,\"\",1+(MAX(BQ$60:BQ187))))","v":""},129,0,0,0,0,0,0,0,0,0,0,{"$f":"IF(AND(M188=\"\"),\"\",IF(M188=BS$58,1,0))","v":""},{"$f":"IF(AND(CP188=\"\"),\"\",IF(CP188=0,\"\",1+(MAX(CD$60:CD187))))","v":""},129,0,0,0,0,0,0,0,0,0,0,{"$f":"IF(AND(M188=\"\"),\"\",IF(M188=CF$58,1,0))","v":""},{"$f":"IF(AND(DC188=\"\"),\"\",IF(DC188=0,\"\",1+(MAX(CQ$60:CQ187))))","v":""},129,0,0,0,0,0,0,0,0,0,0,{"$f":"IF(AND(M188=\"\"),\"\",IF(M188=CS$58,1,0))","v":""}]
[{"$f":"IF(OR(D189=\"in fjDr\",D189=\"पद रिक्त\",D189=\"Blank\",D189=\"Post Blank\"),0,E189)","v":0},{"$f":"F189","v":0},130,{"$nulls":24},"",1,{"$f":"IF(AND(AP189=\"\"),\"\",IF(AP189=0,\"\",1+(MAX(AD$60:AD188))))","v":""},130,0,0,0,0,0,0,0,0,0,0,"",{"$f":"IF(AND(BC189=\"\"),\"\",IF(BC189=0,\"\",1+(MAX(AQ$60:AQ188))))","v":""},130,0,0,0,0,0,0,0,0,0,0,"",{"$f":"IF(AND(BP189=\"\"),\"\",IF(BP189=0,\"\",1+(MAX(BD$60:BD188))))","v":""},130,0,0,0,0,0,0,0,0,0,0,"",{"$f":"IF(AND(CC189=\"\"),\"\",IF(CC189=0,\"\",1+(MAX(BQ$60:BQ188))))","v":""},130,0,0,0,0,0,0,0,0,0,0,"",{"$f":"IF(AND(CP189=\"\"),\"\",IF(CP189=0,\"\",1+(MAX(CD$60:CD188))))","v":""},130,0,0,0,0,0,0,0,0,0,0,"",{"$f":"IF(AND(DC189=\"\"),\"\",IF(DC189=0,\"\",1+(MAX(CQ$60:CQ188))))","v":""},130,0,0,0,0,0,0,0,0,0,0,""]
[0,0,131,{"$nulls":24},"",1,{"$f":"IF(AND(AP190=\"\"),\"\",IF(AP190=0,\"\",1+(MAX(AD$60:AD189))))","v":""},131,0,0,0,0,0,0,0,0,0,0,"",{"$f":"IF(AND(BC190=\"\"),\"\",IF(BC190=0,\"\",1+(MAX(AQ$60:AQ189))))","v":""},131,0,0,0,0,0,0,0,0,0,0,"",{"$f":"IF(AND(BP190=\"\"),\"\",IF(BP190=0,\"\",1+(MAX(BD$60:BD189))))","v":""},131,0,0,0,0,0,0,0,0,0,0,"",{"$f":"IF(AND(CC190=\"\"),\"\",IF(CC190=0,\"\",1+(MAX(BQ$60:BQ189))))","v":""},131,0,0,0,0,0,0,0,0,0,0,"",{"$f":"IF(AND(CP190=\"\"),\"\",IF(CP190=0,\"\",1+(MAX(CD$60:CD189))))","v":""},131,0,0,0,0,0,0,0,0,0,0,"",{"$f":"IF(AND(DC190=\"\"),\"\",IF(DC190=0,\"\",1+(MAX(CQ$60:CQ189))))","v":""},131,0,0,0,0,0,0,0,0,0,0,""]
[0,0,132,{"$nulls":24},"",1,{"$f":"IF(AND(AP191=\"\"),\"\",IF(AP191=0,\"\",1+(MAX(AD$60:AD190))))","v":""},132,0,0,0,0,0,0,0,0,0,0,"",{"$f":"IF(AND(BC191=\"\"),\"\",IF(BC191=0,\"\",1+(MAX(AQ$60:AQ190))))","v":""},132,0,0,0,0,0,0,0,0,0,0,"",{"$f":"IF(AND(BP191=\"\"),\"\",IF(BP191=0,\"\",1+(MAX(BD$60:BD190))))","v":""},132,0,0,0,0,0,0,0,0,0,0,"",{"$f":"IF(AND(CC191=\"\"),\"\",IF(CC191=0,\"\",1+(MAX(BQ$60:BQ190))))","v":""},132,0,0,0,0,0,0,0,0,0,0,"",{"$f":"IF(AND(CP191=\"\"),\"\",IF(CP191=0,\"\",1+(MAX(CD$60:CD190))))","v":""},132,0,0,0,0,0,0,0,0,0,0,"",{"$f":"IF(AND(DC191=\"\"),\"\",IF(DC191=0,\"\",1+(MAX(CQ$60:CQ190))))","v":""},132,0,0,0,0,0,0,0,0,0,0,""]
[0,0,133,{"$nulls":24},"",1,{"$f":"IF(AND(AP192=\"\"),\"\",IF(AP192=0,\"\",1+(MAX(AD$60:AD191))))","v":""},133,0,0,0,0,0,0,0,0,0,0,"",{"$f":"IF(AND(BC192=\"\"),\"\",IF(BC192=0,\"\",1+(MAX(AQ$60:AQ191))))","v":""},133,0,0,0,0,0,0,0,0,0,0,"",{"$f":"IF(AND(BP192=\"\"),\"\",IF(BP192=0,\"\",1+(MAX(BD$60:BD191))))","v":""},133,0,0,0,0,0,0,0,0,0,0,"",{"$f":"IF(AND(CC192=\"\"),\"\",IF(CC192=0,\"\",1+(MAX(BQ$60:BQ191))))","v":""},133,0,0,0,0,0,0,0,0,0,0,"",{"$f":"IF(AND(CP192=\"\"),\"\",IF(CP192=0,\"\",1+(MAX(CD$60:CD191))))","v":""},133,0,0,0,0,0,0,0,0,0,0,"",{"$f":"IF(AND(DC192=\"\"),\"\",IF(DC192=0,\"\",1+(MAX(CQ$60:CQ191))))","v":""},133,0,0,0,0,0,0,0,0,0,0,""]
[0,0,134,{"$nulls":24},"",1,{"$f":"IF(AND(AP193=\"\"),\"\",IF(AP193=0,\"\",1+(MAX(AD$60:AD192))))","v":""},134,0,0,0,0,0,0,0,0,0,0,"",{"$f":"IF(AND(BC193=\"\"),\"\",IF(BC193=0,\"\",1+(MAX(AQ$60:AQ192))))","v":""},134,0,0,0,0,0,0,0,0,0,0,"",{"$f":"IF(AND(BP193=\"\"),\"\",IF(BP193=0,\"\",1+(MAX(BD$60:BD192))))","v":""},134,0,0,0,0,0,0,0,0,0,0,"",{"$f":"IF(AND(CC193=\"\"),\"\",IF(CC193=0,\"\",1+(MAX(BQ$60:BQ192))))","v":""},134,0,0,0,0,0,0,0,0,0,0,"",{"$f":"IF(AND(CP193=\"\"),\"\",IF(CP193=0,\"\",1+(MAX(CD$60:CD192))))","v":""},134,0,0,0,0,0,0,0,0,0,0,"",{"$f":"IF(AND(DC193=\"\"),\"\",IF(DC193=0,\"\",1+(MAX(CQ$60:CQ192))))","v":""},134,0,0,0,0,0,0,0,0,0,0,""]
[0,0,135,{"$nulls":24},"",1,{"$f":"IF(AND(AP194=\"\"),\"\",IF(AP194=0,\"\",1+(MAX(AD$60:AD193))))","v":""},135,0,0,0,0,0,0,0,0,0,0,"",{"$f":"IF(AND(BC194=\"\"),\"\",IF(BC194=0,\"\",1+(MAX(AQ$60:AQ193))))","v":""},135,0,0,0,0,0,0,0,0,0,0,"",{"$f":"IF(AND(BP194=\"\"),\"\",IF(BP194=0,\"\",1+(MAX(BD$60:BD193))))","v":""},135,0,0,0,0,0,0,0,0,0,0,"",{"$f":"IF(AND(CC194=\"\"),\"\",IF(CC194=0,\"\",1+(MAX(BQ$60:BQ193))))","v":""},135,0,0,0,0,0,0,0,0,0,0,"",{"$f":"IF(AND(CP194=\"\"),\"\",IF(CP194=0,\"\",1+(MAX(CD$60:CD193))))","v":""},135,0,0,0,0,0,0,0,0,0,0,"",{"$f":"IF(AND(DC194=\"\"),\"\",IF(DC194=0,\"\",1+(MAX(CQ$60:CQ193))))","v":""},135,0,0,0,0,0,0,0,0,0,0,""]
[0,0,136,{"$nulls":24},"",1,{"$f":"IF(AND(AP195=\"\"),\"\",IF(AP195=0,\"\",1+(MAX(AD$60:AD194))))","v":""},136,0,0,0,0,0,0,0,0,0,0,"",{"$f":"IF(AND(BC195=\"\"),\"\",IF(BC195=0,\"\",1+(MAX(AQ$60:AQ194))))","v":""},136,0,0,0,0,0,0,0,0,0,0,"",{"$f":"IF(AND(BP195=\"\"),\"\",IF(BP195=0,\"\",1+(MAX(BD$60:BD194))))","v":""},136,0,0,0,0,0,0,0,0,0,0,"",{"$f":"IF(AND(CC195=\"\"),\"\",IF(CC195=0,\"\",1+(MAX(BQ$60:BQ194))))","v":""},136,0,0,0,0,0,0,0,0,0,0,"",{"$f":"IF(AND(CP195=\"\"),\"\",IF(CP195=0,\"\",1+(MAX(CD$60:CD194))))","v":""},136,0,0,0,0,0,0,0,0,0,0,"",{"$f":"IF(AND(DC195=\"\"),\"\",IF(DC195=0,\"\",1+(MAX(CQ$60:CQ194))))","v":""},136,0,0,0,0,0,0,0,0,0,0,""]
[0,0,137,{"$nulls":24},"",1,{"$f":"IF(AND(AP196=\"\"),\"\",IF(AP196=0,\"\",1+(MAX(AD$60:AD195))))","v":""},137,0,0,0,0,0,0,0,0,0,0,"",{"$f":"IF(AND(BC196=\"\"),\"\",IF(BC196=0,\"\",1+(MAX(AQ$60:AQ195))))","v":""},137,0,0,0,0,0,0,0,0,0,0,"",{"$f":"IF(AND(BP196=\"\"),\"\",IF(BP196=0,\"\",1+(MAX(BD$60:BD195))))","v":""},137,0,0,0,0,0,0,0,0,0,0,"",{"$f":"IF(AND(CC196=\"\"),\"\",IF(CC196=0,\"\",1+(MAX(BQ$60:BQ195))))","v":""},137,0,0,0,0,0,0,0,0,0,0,"",{"$f":"IF(AND(CP196=\"\"),\"\",IF(CP196=0,\"\",1+(MAX(CD$60:CD195))))","v":""},137,0,0,0,0,0,0,0,0,0,0,"",{"$f":"IF(AND(DC196=\"\"),\"\",IF(DC196=0,\"\",1+(MAX(CQ$60:CQ195))))","v":""},137,0,0,0,0,0,0,0,0,0,0,""]
[0,0,138,{"$nulls":24},"",1,{"$f":"IF(AND(AP197=\"\"),\"\",IF(AP197=0,\"\",1+(MAX(AD$60:AD196))))","v":""},138,0,0,0,0,0,0,0,0,0,0,"",{"$f":"IF(AND(BC197=\"\"),\"\",IF(BC197=0,\"\",1+(MAX(AQ$60:AQ196))))","v":""},138,0,0,0,0,0,0,0,0,0,0,"",{"$f":"IF(AND(BP197=\"\"),\"\",IF(BP197=0,\"\",1+(MAX(BD$60:BD196))))","v":""},138,0,0,0,0,0,0,0,0,0,0,"",{"$f":"IF(AND(CC197=\"\"),\"\",IF(CC197=0,\"\",1+(MAX(BQ$60:BQ196))))","v":""},138,0,0,0,0,0,0,0,0,0,0,"",{"$f":"IF(AND(CP197=\"\"),\"\",IF(CP197=0,\"\",1+(MAX(CD$60:CD196))))","v":""},138,0,0,0,0,0,0,0,0,0,0,"",{"$f":"IF(AND(DC197=\"\"),\"\",IF(DC197=0,\"\",1+(MAX(CQ$60:CQ196))))","v":""},138,0,0,0,0,0,0,0,0,0,0,""]
[0,0,139,{"$nulls":24},"",1,{"$f":"IF(AND(AP198=\"\"),\"\",IF(AP198=0,\"\",1+(MAX(AD$60:AD197))))","v":""},139,0,0,0,0,0,0,0,0,0,0,"",{"$f":"IF(AND(BC198=\"\"),\"\",IF(BC198=0,\"\",1+(MAX(AQ$60:AQ197))))","v":""},139,0,0,0,0,0,0,0,0,0,0,"",{"$f":"IF(AND(BP198=\"\"),\"\",IF(BP198=0,\"\",1+(MAX(BD$60:BD197))))","v":""},139,0,0,0,0,0,0,0,0,0,0,"",{"$f":"IF(AND(CC198=\"\"),\"\",IF(CC198=0,\"\",1+(MAX(BQ$60:BQ197))))","v":""},139,0,0,0,0,0,0,0,0,0,0,"",{"$f":"IF(AND(CP198=\"\"),\"\",IF(CP198=0,\"\",1+(MAX(CD$60:CD197))))","v":""},139,0,0,0,0,0,0,0,0,0,0,"",{"$f":"IF(AND(DC198=\"\"),\"\",IF(DC198=0,\"\",1+(MAX(CQ$60:CQ197))))","v":""},139,0,0,0,0,0,0,0,0,0,0,""]
[0,0,140,{"$nulls":24},"",1,{"$f":"IF(AND(AP199=\"\"),\"\",IF(AP199=0,\"\",1+(MAX(AD$60:AD198))))","v":""},140,0,0,0,0,0,0,0,0,0,0,"",{"$f":"IF(AND(BC199=\"\"),\"\",IF(BC199=0,\"\",1+(MAX(AQ$60:AQ198))))","v":""},140,0,0,0,0,0,0,0,0,0,0,"",{"$f":"IF(AND(BP199=\"\"),\"\",IF(BP199=0,\"\",1+(MAX(BD$60:BD198))))","v":""},140,0,0,0,0,0,0,0,0,0,0,"",{"$f":"IF(AND(CC199=\"\"),\"\",IF(CC199=0,\"\",1+(MAX(BQ$60:BQ198))))","v":""},140,0,0,0,0,0,0,0,0,0,0,"",{"$f":"IF(AND(CP199=\"\"),\"\",IF(CP199=0,\"\",1+(MAX(CD$60:CD198))))","v":""},140,0,0,0,0,0,0,0,0,0,0,"",{"$f":"IF(AND(DC199=\"\"),\"\",IF(DC199=0,\"\",1+(MAX(CQ$60:CQ198))))","v":""},140,0,0,0,0,0,0,0,0,0,0,""]
[0,0,141,{"$nulls":24},"",1,{"$f":"IF(AND(AP200=\"\"),\"\",IF(AP200=0,\"\",1+(MAX(AD$60:AD199))))","v":""},141,0,0,0,0,0,0,0,0,0,0,"",{"$f":"IF(AND(BC200=\"\"),\"\",IF(BC200=0,\"\",1+(MAX(AQ$60:AQ199))))","v":""},141,0,0,0,0,0,0,0,0,0,0,"",{"$f":"IF(AND(BP200=\"\"),\"\",IF(BP200=0,\"\",1+(MAX(BD$60:BD199))))","v":""},141,0,0,0,0,0,0,0,0,0,0,"",{"$f":"IF(AND(CC200=\"\"),\"\",IF(CC200=0,\"\",1+(MAX(BQ$60:BQ199))))","v":""},141,0,0,0,0,0,0,0,0,0,0,"",{"$f":"IF(AND(CP200=\"\"),\"\",IF(CP200=0,\"\",1+(MAX(CD$60:CD199))))","v":""},141,0,0,0,0,0,0,0,0,0,0,"",{"$f":"IF(AND(DC200=\"\"),\"\",IF(DC200=0,\"\",1+(MAX(CQ$60:CQ199))))","v":""},141,0,0,0,0,0,0,0,0,0,0,""]
[0,0,142,{"$nulls":24},"",1,{"$f":"IF(AND(AP201=\"\"),\"\",IF(AP201=0,\"\",1+(MAX(AD$60:AD200))))","v":""},142,0,0,0,0,0,0,0,0,0,0,"",{"$f":"IF(AND(BC201=\"\"),\"\",IF(BC201=0,\"\",1+(MAX(AQ$60:AQ200))))","v":""},142,0,0,0,0,0,0,0,0,0,0,"",{"$f":"IF(AND(BP201=\"\"),\"\",IF(BP201=0,\"\",1+(MAX(BD$60:BD200))))","v":""},142,0,0,0,0,0,0,0,0,0,0,"",{"$f":"IF(AND(CC201=\"\"),\"\",IF(CC201=0,\"\",1+(MAX(BQ$60:BQ200))))","v":""},142,0,0,0,0,0,0,0,0,0,0,"",{"$f":"IF(AND(CP201=\"\"),\"\",IF(CP201=0,\"\",1+(MAX(CD$60:CD200))))","v":""},142,0,0,0,0,0,0,0,0,0,0,"",{"$f":"IF(AND(DC201=\"\"),\"\",IF(DC201=0,\"\",1+(MAX(CQ$60:CQ200))))","v":""},142,0,0,0,0,0,0,0,0,0,0,""]
[0,0,143,{"$nulls":24},"",1,{"$f":"IF(AND(AP202=\"\"),\"\",IF(AP202=0,\"\",1+(MAX(AD$60:AD201))))","v":""},143,0,0,0,0,0,0,0,0,0,0,"",{"$f":"IF(AND(BC202=\"\"),\"\",IF(BC202=0,\"\",1+(MAX(AQ$60:AQ201))))","v":""},143,0,0,0,0,0,0,0,0,0,0,"",{"$f":"IF(AND(BP202=\"\"),\"\",IF(BP202=0,\"\",1+(MAX(BD$60:BD201))))","v":""},143,0,0,0,0,0,0,0,0,0,0,"",{"$f":"IF(AND(CC202=\"\"),\"\",IF(CC202=0,\"\",1+(MAX(BQ$60:BQ201))))","v":""},143,0,0,0,0,0,0,0,0,0,0,"",{"$f":"IF(AND(CP202=\"\"),\"\",IF(CP202=0,\"\",1+(MAX(CD$60:CD201))))","v":""},143,0,0,0,0,0,0,0,0,0,0,"",{"$f":"IF(AND(DC202=\"\"),\"\",IF(DC202=0,\"\",1+(MAX(CQ$60:CQ201))))","v":""},143,0,0,0,0,0,0,0,0,0,0,""]
[0,0,144,{"$nulls":24},"",1,{"$f":"IF(AND(AP203=\"\"),\"\",IF(AP203=0,\"\",1+(MAX(AD$60:AD202))))","v":""},144,0,0,0,0,0,0,0,0,0,0,"",{"$f":"IF(AND(BC203=\"\"),\"\",IF(BC203=0,\"\",1+(MAX(AQ$60:AQ202))))","v":""},144,0,0,0,0,0,0,0,0,0,0,"",{"$f":"IF(AND(BP203=\"\"),\"\",IF(BP203=0,\"\",1+(MAX(BD$60:BD202))))","v":""},144,0,0,0,0,0,0,0,0,0,0,"",{"$f":"IF(AND(CC203=\"\"),\"\",IF(CC203=0,\"\",1+(MAX(BQ$60:BQ202))))","v":""},144,0,0,0,0,0,0,0,0,0,0,"",{"$f":"IF(AND(CP203=\"\"),\"\",IF(CP203=0,\"\",1+(MAX(CD$60:CD202))))","v":""},144,0,0,0,0,0,0,0,0,0,0,"",{"$f":"IF(AND(DC203=\"\"),\"\",IF(DC203=0,\"\",1+(MAX(CQ$60:CQ202))))","v":""},144,0,0,0,0,0,0,0,0,0,0,""]
[0,0,145,{"$nulls":24},"",1,{"$f":"IF(AND(AP204=\"\"),\"\",IF(AP204=0,\"\",1+(MAX(AD$60:AD203))))","v":""},145,0,0,0,0,0,0,0,0,0,0,"",{"$f":"IF(AND(BC204=\"\"),\"\",IF(BC204=0,\"\",1+(MAX(AQ$60:AQ203))))","v":""},145,0,0,0,0,0,0,0,0,0,0,"",{"$f":"IF(AND(BP204=\"\"),\"\",IF(BP204=0,\"\",1+(MAX(BD$60:BD203))))","v":""},145,0,0,0,0,0,0,0,0,0,0,"",{"$f":"IF(AND(CC204=\"\"),\"\",IF(CC204=0,\"\",1+(MAX(BQ$60:BQ203))))","v":""},145,0,0,0,0,0,0,0,0,0,0,"",{"$f":"IF(AND(CP204=\"\"),\"\",IF(CP204=0,\"\",1+(MAX(CD$60:CD203))))","v":""},145,0,0,0,0,0,0,0,0,0,0,"",{"$f":"IF(AND(DC204=\"\"),\"\",IF(DC204=0,\"\",1+(MAX(CQ$60:CQ203))))","v":""},145,0,0,0,0,0,0,0,0,0,0,""]
[0,0,146,{"$nulls":24},"",1,{"$f":"IF(AND(AP205=\"\"),\"\",IF(AP205=0,\"\",1+(MAX(AD$60:AD204))))","v":""},146,0,0,0,0,0,0,0,0,0,0,"",{"$f":"IF(AND(BC205=\"\"),\"\",IF(BC205=0,\"\",1+(MAX(AQ$60:AQ204))))","v":""},146,0,0,0,0,0,0,0,0,0,0,"",{"$f":"IF(AND(BP205=\"\"),\"\",IF(BP205=0,\"\",1+(MAX(BD$60:BD204))))","v":""},146,0,0,0,0,0,0,0,0,0,0,"",{"$f":"IF(AND(CC205=\"\"),\"\",IF(CC205=0,\"\",1+(MAX(BQ$60:BQ204))))","v":""},146,0,0,0,0,0,0,0,0,0,0,"",{"$f":"IF(AND(CP205=\"\"),\"\",IF(CP205=0,\"\",1+(MAX(CD$60:CD204))))","v":""},146,0,0,0,0,0,0,0,0,0,0,"",{"$f":"IF(AND(DC205=\"\"),\"\",IF(DC205=0,\"\",1+(MAX(CQ$60:CQ204))))","v":""},146,0,0,0,0,0,0,0,0,0,0,""]
[0,0,147,{"$nulls":24},"",1,{"$f":"IF(AND(AP206=\"\"),\"\",IF(AP206=0,\"\",1+(MAX(AD$60:AD205))))","v":""},147,0,0,0,0,0,0,0,0,0,0,"",{"$f":"IF(AND(BC206=\"\"),\"\",IF(BC206=0,\"\",1+(MAX(AQ$60:AQ205))))","v":""},147,0,0,0,0,0,0,0,0,0,0,"",{"$f":"IF(AND(BP206=\"\"),\"\",IF(BP206=0,\"\",1+(MAX(BD$60:BD205))))","v":""},147,0,0,0,0,0,0,0,0,0,0,"",{"$f":"IF(AND(CC206=\"\"),\"\",IF(CC206=0,\"\",1+(MAX(BQ$60:BQ205))))","v":""},147,0,0,0,0,0,0,0,0,0,0,"",{"$f":"IF(AND(CP206=\"\"),\"\",IF(CP206=0,\"\",1+(MAX(CD$60:CD205))))","v":""},147,0,0,0,0,0,0,0,0,0,0,"",{"$f":"IF(AND(DC206=\"\"),\"\",IF(DC206=0,\"\",1+(MAX(CQ$60:CQ205))))","v":""},147,0,0,0,0,0,0,0,0,0,0,""]
[0,0,148,{"$nulls":24},"",1,{"$f":"IF(AND(AP207=\"\"),\"\",IF(AP207=0,\"\",1+(MAX(AD$60:AD206))))","v":""},148,0,0,0,0,0,0,0,0,0,0,"",{"$f":"IF(AND(BC207=\"\"),\"\",IF(BC207=0,\"\",1+(MAX(AQ$60:AQ206))))","v":""},148,0,0,0,0,0,0,0,0,0,0,"",{"$f":"IF(AND(BP207=\"\"),\"\",IF(BP207=0,\"\",1+(MAX(BD$60:BD206))))","v":""},148,0,0,0,0,0,0,0,0,0,0,"",{"$f":"IF(AND(CC207=\"\"),\"\",IF(CC207=0,\"\",1+(MAX(BQ$60:BQ206))))","v":""},148,0,0,0,0,0,0,0,0,0,0,"",{"$f":"IF(AND(CP207=\"\"),\"\",IF(CP207=0,\"\",1+(MAX(CD$60:CD206))))","v":""},148,0,0,0,0,0,0,0,0,0,0,"",{"$f":"IF(AND(DC207=\"\"),\"\",IF(DC207=0,\"\",1+(MAX(CQ$60:CQ206))))","v":""},148,0,0,0,0,0,0,0,0,0,0,""]
[0,0,149,{"$nulls":24},"",1,{"$f":"IF(AND(AP208=\"\"),\"\",IF(AP208=0,\"\",1+(MAX(AD$60:AD207))))","v":""},149,0,0,0,0,0,0,0,0,0,0,"",{"$f":"IF(AND(BC208=\"\"),\"\",IF(BC208=0,\"\",1+(MAX(AQ$60:AQ207))))","v":""},149,0,0,0,0,0,0,0,0,0,0,"",{"$f":"IF(AND(BP208=\"\"),\"\",IF(BP208=0,\"\",1+(MAX(BD$60:BD207))))","v":""},149,0,0,0,0,0,0,0,0,0,0,"",{"$f":"IF(AND(CC208=\"\"),\"\",IF(CC208=0,\"\",1+(MAX(BQ$60:BQ207))))","v":""},149,0,0,0,0,0,0,0,0,0,0,"",{"$f":"IF(AND(CP208=\"\"),\"\",IF(CP208=0,\"\",1+(MAX(CD$60:CD207))))","v":""},149,0,0,0,0,0,0,0,0,0,0,"",{"$f":"IF(AND(DC208=\"\"),\"\",IF(DC208=0,\"\",1+(MAX(CQ$60:CQ207))))","v":""},149,0,0,0,0,0,0,0,0,0,0,""]
[0,0,150,{"$nulls":24},"",1,{"$f":"IF(AND(AP209=\"\"),\"\",IF(AP209=0,\"\",1+(MAX(AD$60:AD208))))","v":""},150,0,0,0,0,0,0,0,0,0,0,"",{"$f":"IF(AND(BC209=\"\"),\"\",IF(BC209=0,\"\",1+(MAX(AQ$60:AQ208))))","v":""},150,0,0,0,0,0,0,0,0,0,0,"",{"$f":"IF(AND(BP209=\"\"),\"\",IF(BP209=0,\"\",1+(MAX(BD$60:BD208))))","v":""},150,0,0,0,0,0,0,0,0,0,0,"",{"$f":"IF(AND(CC209=\"\"),\"\",IF(CC209=0,\"\",1+(MAX(BQ$60:BQ208))))","v":""},150,0,0,0,0,0,0,0,0,0,0,"",{"$f":"IF(AND(CP209=\"\"),\"\",IF(CP209=0,\"\",1+(MAX(CD$60:CD208))))","v":""},150,0,0,0,0,0,0,0,0,0,0,"",{"$f":"IF(AND(DC209=\"\"),\"\",IF(DC209=0,\"\",1+(MAX(CQ$60:CQ208))))","v":""},150,0,0,0,0,0,0,0,0,0,0,""]
[0,0,151,{"$nulls":24},"",1,{"$f":"IF(AND(AP210=\"\"),\"\",IF(AP210=0,\"\",1+(MAX(AD$60:AD209))))","v":""},151,0,0,0,0,0,0,0,0,0,0,"",{"$f":"IF(AND(BC210=\"\"),\"\",IF(BC210=0,\"\",1+(MAX(AQ$60:AQ209))))","v":""},151,0,0,0,0,0,0,0,0,0,0,"",{"$f":"IF(AND(BP210=\"\"),\"\",IF(BP210=0,\"\",1+(MAX(BD$60:BD209))))","v":""},151,0,0,0,0,0,0,0,0,0,0,"",{"$f":"IF(AND(CC210=\"\"),\"\",IF(CC210=0,\"\",1+(MAX(BQ$60:BQ209))))","v":""},151,0,0,0,0,0,0,0,0,0,0,"",{"$f":"IF(AND(CP210=\"\"),\"\",IF(CP210=0,\"\",1+(MAX(CD$60:CD209))))","v":""},151,0,0,0,0,0,0,0,0,0,0,"",{"$f":"IF(AND(DC210=\"\"),\"\",IF(DC210=0,\"\",1+(MAX(CQ$60:CQ209))))","v":""},151,0,0,0,0,0,0,0,0,0,0,""]
[0,0,152,{"$nulls":24},"",1,{"$f":"IF(AND(AP211=\"\"),\"\",IF(AP211=0,\"\",1+(MAX(AD$60:AD210))))","v":""},152,0,0,0,0,0,0,0,0,0,0,"",{"$f":"IF(AND(BC211=\"\"),\"\",IF(BC211=0,\"\",1+(MAX(AQ$60:AQ210))))","v":""},152,0,0,0,0,0,0,0,0,0,0,"",{"$f":"IF(AND(BP211=\"\"),\"\",IF(BP211=0,\"\",1+(MAX(BD$60:BD210))))","v":""},152,0,0,0,0,0,0,0,0,0,0,"",{"$f":"IF(AND(CC211=\"\"),\"\",IF(CC211=0,\"\",1+(MAX(BQ$60:BQ210))))","v":""},152,0,0,0,0,0,0,0,0,0,0,"",{"$f":"IF(AND(CP211=\"\"),\"\",IF(CP211=0,\"\",1+(MAX(CD$60:CD210))))","v":""},152,0,0,0,0,0,0,0,0,0,0,"",{"$f":"IF(AND(DC211=\"\"),\"\",IF(DC211=0,\"\",1+(MAX(CQ$60:CQ210))))","v":""},152,0,0,0,0,0,0,0,0,0,0,""]
[0,0,153,{"$nulls":24},"",1,{"$f":"IF(AND(AP212=\"\"),\"\",IF(AP212=0,\"\",1+(MAX(AD$60:AD211))))","v":""},153,0,0,0,0,0,0,0,0,0,0,"",{"$f":"IF(AND(BC212=\"\"),\"\",IF(BC212=0,\"\",1+(MAX(AQ$60:AQ211))))","v":""},153,0,0,0,0,0,0,0,0,0,0,"",{"$f":"IF(AND(BP212=\"\"),\"\",IF(BP212=0,\"\",1+(MAX(BD$60:BD211))))","v":""},153,0,0,0,0,0,0,0,0,0,0,"",{"$f":"IF(AND(CC212=\"\"),\"\",IF(CC212=0,\"\",1+(MAX(BQ$60:BQ211))))","v":""},153,0,0,0,0,0,0,0,0,0,0,"",{"$f":"IF(AND(CP212=\"\"),\"\",IF(CP212=0,\"\",1+(MAX(CD$60:CD211))))","v":""},153,0,0,0,0,0,0,0,0,0,0,"",{"$f":"IF(AND(DC212=\"\"),\"\",IF(DC212=0,\"\",1+(MAX(CQ$60:CQ211))))","v":""},153,0,0,0,0,0,0,0,0,0,0,""]
[0,0,154,{"$nulls":24},"",1,{"$f":"IF(AND(AP213=\"\"),\"\",IF(AP213=0,\"\",1+(MAX(AD$60:AD212))))","v":""},154,0,0,0,0,0,0,0,0,0,0,"",{"$f":"IF(AND(BC213=\"\"),\"\",IF(BC213=0,\"\",1+(MAX(AQ$60:AQ212))))","v":""},154,0,0,0,0,0,0,0,0,0,0,"",{"$f":"IF(AND(BP213=\"\"),\"\",IF(BP213=0,\"\",1+(MAX(BD$60:BD212))))","v":""},154,0,0,0,0,0,0,0,0,0,0,"",{"$f":"IF(AND(CC213=\"\"),\"\",IF(CC213=0,\"\",1+(MAX(BQ$60:BQ212))))","v":""},154,0,0,0,0,0,0,0,0,0,0,"",{"$f":"IF(AND(CP213=\"\"),\"\",IF(CP213=0,\"\",1+(MAX(CD$60:CD212))))","v":""},154,0,0,0,0,0,0,0,0,0,0,"",{"$f":"IF(AND(DC213=\"\"),\"\",IF(DC213=0,\"\",1+(MAX(CQ$60:CQ212))))","v":""},154,0,0,0,0,0,0,0,0,0,0,""]
[0,0,155,{"$nulls":24},"",1,{"$f":"IF(AND(AP214=\"\"),\"\",IF(AP214=0,\"\",1+(MAX(AD$60:AD213))))","v":""},155,0,0,0,0,0,0,0,0,0,0,"",{"$f":"IF(AND(BC214=\"\"),\"\",IF(BC214=0,\"\",1+(MAX(AQ$60:AQ213))))","v":""},155,0,0,0,0,0,0,0,0,0,0,"",{"$f":"IF(AND(BP214=\"\"),\"\",IF(BP214=0,\"\",1+(MAX(BD$60:BD213))))","v":""},155,0,0,0,0,0,0,0,0,0,0,"",{"$f":"IF(AND(CC214=\"\"),\"\",IF(CC214=0,\"\",1+(MAX(BQ$60:BQ213))))","v":""},155,0,0,0,0,0,0,0,0,0,0,"",{"$f":"IF(AND(CP214=\"\"),\"\",IF(CP214=0,\"\",1+(MAX(CD$60:CD213))))","v":""},155,0,0,0,0,0,0,0,0,0,0,"",{"$f":"IF(AND(DC214=\"\"),\"\",IF(DC214=0,\"\",1+(MAX(CQ$60:CQ213))))","v":""},155,0,0,0,0,0,0,0,0,0,0,""]
[0,0,156,{"$nulls":24},"",1,{"$f":"IF(AND(AP215=\"\"),\"\",IF(AP215=0,\"\",1+(MAX(AD$60:AD214))))","v":""},156,0,0,0,0,0,0,0,0,0,0,"",{"$f":"IF(AND(BC215=\"\"),\"\",IF(BC215=0,\"\",1+(MAX(AQ$60:AQ214))))","v":""},156,0,0,0,0,0,0,0,0,0,0,"",{"$f":"IF(AND(BP215=\"\"),\"\",IF(BP215=0,\"\",1+(MAX(BD$60:BD214))))","v":""},156,0,0,0,0,0,0,0,0,0,0,"",{"$f":"IF(AND(CC215=\"\"),\"\",IF(CC215=0,\"\",1+(MAX(BQ$60:BQ214))))","v":""},156,0,0,0,0,0,0,0,0,0,0,"",{"$f":"IF(AND(CP215=\"\"),\"\",IF(CP215=0,\"\",1+(MAX(CD$60:CD214))))","v":""},156,0,0,0,0,0,0,0,0,0,0,"",{"$f":"IF(AND(DC215=\"\"),\"\",IF(DC215=0,\"\",1+(MAX(CQ$60:CQ214))))","v":""},156,0,0,0,0,0,0,0,0,0,0,""]
[0,0,157,{"$nulls":24},"",1,{"$f":"IF(AND(AP216=\"\"),\"\",IF(AP216=0,\"\",1+(MAX(AD$60:AD215))))","v":""},157,0,0,0,0,0,0,0,0,0,0,"",{"$f":"IF(AND(BC216=\"\"),\"\",IF(BC216=0,\"\",1+(MAX(AQ$60:AQ215))))","v":""},157,0,0,0,0,0,0,0,0,0,0,"",{"$f":"IF(AND(BP216=\"\"),\"\",IF(BP216=0,\"\",1+(MAX(BD$60:BD215))))","v":""},157,0,0,0,0,0,0,0,0,0,0,"",{"$f":"IF(AND(CC216=\"\"),\"\",IF(CC216=0,\"\",1+(MAX(BQ$60:BQ215))))","v":""},157,0,0,0,0,0,0,0,0,0,0,"",{"$f":"IF(AND(CP216=\"\"),\"\",IF(CP216=0,\"\",1+(MAX(CD$60:CD215))))","v":""},157,0,0,0,0,0,0,0,0,0,0,"",{"$f":"IF(AND(DC216=\"\"),\"\",IF(DC216=0,\"\",1+(MAX(CQ$60:CQ215))))","v":""},157,0,0,0,0,0,0,0,0,0,0,""]
[0,0,158,{"$nulls":24},"",1,{"$f":"IF(AND(AP217=\"\"),\"\",IF(AP217=0,\"\",1+(MAX(AD$60:AD216))))","v":""},158,0,0,0,0,0,0,0,0,0,0,"",{"$f":"IF(AND(BC217=\"\"),\"\",IF(BC217=0,\"\",1+(MAX(AQ$60:AQ216))))","v":""},158,0,0,0,0,0,0,0,0,0,0,"",{"$f":"IF(AND(BP217=\"\"),\"\",IF(BP217=0,\"\",1+(MAX(BD$60:BD216))))","v":""},158,0,0,0,0,0,0,0,0,0,0,"",{"$f":"IF(AND(CC217=\"\"),\"\",IF(CC217=0,\"\",1+(MAX(BQ$60:BQ216))))","v":""},158,0,0,0,0,0,0,0,0,0,0,"",{"$f":"IF(AND(CP217=\"\"),\"\",IF(CP217=0,\"\",1+(MAX(CD$60:CD216))))","v":""},158,0,0,0,0,0,0,0,0,0,0,"",{"$f":"IF(AND(DC217=\"\"),\"\",IF(DC217=0,\"\",1+(MAX(CQ$60:CQ216))))","v":""},158,0,0,0,0,0,0,0,0,0,0,""]
[0,0,159,{"$nulls":24},"",1,{"$f":"IF(AND(AP218=\"\"),\"\",IF(AP218=0,\"\",1+(MAX(AD$60:AD217))))","v":""},159,0,0,0,0,0,0,0,0,0,0,"",{"$f":"IF(AND(BC218=\"\"),\"\",IF(BC218=0,\"\",1+(MAX(AQ$60:AQ217))))","v":""},159,0,0,0,0,0,0,0,0,0,0,"",{"$f":"IF(AND(BP218=\"\"),\"\",IF(BP218=0,\"\",1+(MAX(BD$60:BD217))))","v":""},159,0,0,0,0,0,0,0,0,0,0,"",{"$f":"IF(AND(CC218=\"\"),\"\",IF(CC218=0,\"\",1+(MAX(BQ$60:BQ217))))","v":""},159,0,0,0,0,0,0,0,0,0,0,"",{"$f":"IF(AND(CP218=\"\"),\"\",IF(CP218=0,\"\",1+(MAX(CD$60:CD217))))","v":""},159,0,0,0,0,0,0,0,0,0,0,"",{"$f":"IF(AND(DC218=\"\"),\"\",IF(DC218=0,\"\",1+(MAX(CQ$60:CQ217))))","v":""},159,0,0,0,0,0,0,0,0,0,0,""]
[0,0,160,{"$nulls":24},"",1,{"$f":"IF(AND(AP219=\"\"),\"\",IF(AP219=0,\"\",1+(MAX(AD$60:AD218))))","v":""},160,0,0,0,0,0,0,0,0,0,0,"",{"$f":"IF(AND(BC219=\"\"),\"\",IF(BC219=0,\"\",1+(MAX(AQ$60:AQ218))))","v":""},160,0,0,0,0,0,0,0,0,0,0,"",{"$f":"IF(AND(BP219=\"\"),\"\",IF(BP219=0,\"\",1+(MAX(BD$60:BD218))))","v":""},160,0,0,0,0,0,0,0,0,0,0,"",{"$f":"IF(AND(CC219=\"\"),\"\",IF(CC219=0,\"\",1+(MAX(BQ$60:BQ218))))","v":""},160,0,0,0,0,0,0,0,0,0,0,"",{"$f":"IF(AND(CP219=\"\"),\"\",IF(CP219=0,\"\",1+(MAX(CD$60:CD218))))","v":""},160,0,0,0,0,0,0,0,0,0,0,"",{"$f":"IF(AND(DC219=\"\"),\"\",IF(DC219=0,\"\",1+(MAX(CQ$60:CQ218))))","v":""},160,0,0,0,0,0,0,0,0,0,0,""]
[0,0,161,{"$nulls":24},"",1,{"$f":"IF(AND(AP220=\"\"),\"\",IF(AP220=0,\"\",1+(MAX(AD$60:AD219))))","v":""},161,0,0,0,0,0,0,0,0,0,0,"",{"$f":"IF(AND(BC220=\"\"),\"\",IF(BC220=0,\"\",1+(MAX(AQ$60:AQ219))))","v":""},161,0,0,0,0,0,0,0,0,0,0,"",{"$f":"IF(AND(BP220=\"\"),\"\",IF(BP220=0,\"\",1+(MAX(BD$60:BD219))))","v":""},161,0,0,0,0,0,0,0,0,0,0,"",{"$f":"IF(AND(CC220=\"\"),\"\",IF(CC220=0,\"\",1+(MAX(BQ$60:BQ219))))","v":""},161,0,0,0,0,0,0,0,0,0,0,"",{"$f":"IF(AND(CP220=\"\"),\"\",IF(CP220=0,\"\",1+(MAX(CD$60:CD219))))","v":""},161,0,0,0,0,0,0,0,0,0,0,"",{"$f":"IF(AND(DC220=\"\"),\"\",IF(DC220=0,\"\",1+(MAX(CQ$60:CQ219))))","v":""},161,0,0,0,0,0,0,0,0,0,0,""]
[0,0,162,{"$nulls":24},"",1,{"$f":"IF(AND(AP221=\"\"),\"\",IF(AP221=0,\"\",1+(MAX(AD$60:AD220))))","v":""},162,0,0,0,0,0,0,0,0,0,0,"",{"$f":"IF(AND(BC221=\"\"),\"\",IF(BC221=0,\"\",1+(MAX(AQ$60:AQ220))))","v":""},162,0,0,0,0,0,0,0,0,0,0,"",{"$f":"IF(AND(BP221=\"\"),\"\",IF(BP221=0,\"\",1+(MAX(BD$60:BD220))))","v":""},162,0,0,0,0,0,0,0,0,0,0,"",{"$f":"IF(AND(CC221=\"\"),\"\",IF(CC221=0,\"\",1+(MAX(BQ$60:BQ220))))","v":""},162,0,0,0,0,0,0,0,0,0,0,"",{"$f":"IF(AND(CP221=\"\"),\"\",IF(CP221=0,\"\",1+(MAX(CD$60:CD220))))","v":""},162,0,0,0,0,0,0,0,0,0,0,"",{"$f":"IF(AND(DC221=\"\"),\"\",IF(DC221=0,\"\",1+(MAX(CQ$60:CQ220))))","v":""},162,0,0,0,0,0,0,0,0,0,0,""]
[0,0,163,{"$nulls":24},"",1,{"$f":"IF(AND(AP222=\"\"),\"\",IF(AP222=0,\"\",1+(MAX(AD$60:AD221))))","v":""},163,0,0,0,0,0,0,0,0,0,0,"",{"$f":"IF(AND(BC222=\"\"),\"\",IF(BC222=0,\"\",1+(MAX(AQ$60:AQ221))))","v":""},163,0,0,0,0,0,0,0,0,0,0,"",{"$f":"IF(AND(BP222=\"\"),\"\",IF(BP222=0,\"\",1+(MAX(BD$60:BD221))))","v":""},163,0,0,0,0,0,0,0,0,0,0,"",{"$f":"IF(AND(CC222=\"\"),\"\",IF(CC222=0,\"\",1+(MAX(BQ$60:BQ221))))","v":""},163,0,0,0,0,0,0,0,0,0,0,"",{"$f":"IF(AND(CP222=\"\"),\"\",IF(CP222=0,\"\",1+(MAX(CD$60:CD221))))","v":""},163,0,0,0,0,0,0,0,0,0,0,"",{"$f":"IF(AND(DC222=\"\"),\"\",IF(DC222=0,\"\",1+(MAX(CQ$60:CQ221))))","v":""},163,0,0,0,0,0,0,0,0,0,0,""]
[0,0,164,{"$nulls":24},"",1,{"$f":"IF(AND(AP223=\"\"),\"\",IF(AP223=0,\"\",1+(MAX(AD$60:AD222))))","v":""},164,0,0,0,0,0,0,0,0,0,0,"",{"$f":"IF(AND(BC223=\"\"),\"\",IF(BC223=0,\"\",1+(MAX(AQ$60:AQ222))))","v":""},164,0,0,0,0,0,0,0,0,0,0,"",{"$f":"IF(AND(BP223=\"\"),\"\",IF(BP223=0,\"\",1+(MAX(BD$60:BD222))))","v":""},164,0,0,0,0,0,0,0,0,0,0,"",{"$f":"IF(AND(CC223=\"\"),\"\",IF(CC223=0,\"\",1+(MAX(BQ$60:BQ222))))","v":""},164,0,0,0,0,0,0,0,0,0,0,"",{"$f":"IF(AND(CP223=\"\"),\"\",IF(CP223=0,\"\",1+(MAX(CD$60:CD222))))","v":""},164,0,0,0,0,0,0,0,0,0,0,"",{"$f":"IF(AND(DC223=\"\"),\"\",IF(DC223=0,\"\",1+(MAX(CQ$60:CQ222))))","v":""},164,0,0,0,0,0,0,0,0,0,0,""]
[0,0,165,{"$nulls":24},"",1,{"$f":"IF(AND(AP224=\"\"),\"\",IF(AP224=0,\"\",1+(MAX(AD$60:AD223))))","v":""},165,0,0,0,0,0,0,0,0,0,0,"",{"$f":"IF(AND(BC224=\"\"),\"\",IF(BC224=0,\"\",1+(MAX(AQ$60:AQ223))))","v":""},165,0,0,0,0,0,0,0,0,0,0,"",{"$f":"IF(AND(BP224=\"\"),\"\",IF(BP224=0,\"\",1+(MAX(BD$60:BD223))))","v":""},165,0,0,0,0,0,0,0,0,0,0,"",{"$f":"IF(AND(CC224=\"\"),\"\",IF(CC224=0,\"\",1+(MAX(BQ$60:BQ223))))","v":""},165,0,0,0,0,0,0,0,0,0,0,"",{"$f":"IF(AND(CP224=\"\"),\"\",IF(CP224=0,\"\",1+(MAX(CD$60:CD223))))","v":""},165,0,0,0,0,0,0,0,0,0,0,"",{"$f":"IF(AND(DC224=\"\"),\"\",IF(DC224=0,\"\",1+(MAX(CQ$60:CQ223))))","v":""},165,0,0,0,0,0,0,0,0,0,0,""]
[0,0,166,{"$nulls":24},"",1,{"$f":"IF(AND(AP225=\"\"),\"\",IF(AP225=0,\"\",1+(MAX(AD$60:AD224))))","v":""},166,0,0,0,0,0,0,0,0,0,0,"",{"$f":"IF(AND(BC225=\"\"),\"\",IF(BC225=0,\"\",1+(MAX(AQ$60:AQ224))))","v":""},166,0,0,0,0,0,0,0,0,0,0,"",{"$f":"IF(AND(BP225=\"\"),\"\",IF(BP225=0,\"\",1+(MAX(BD$60:BD224))))","v":""},166,0,0,0,0,0,0,0,0,0,0,"",{"$f":"IF(AND(CC225=\"\"),\"\",IF(CC225=0,\"\",1+(MAX(BQ$60:BQ224))))","v":""},166,0,0,0,0,0,0,0,0,0,0,"",{"$f":"IF(AND(CP225=\"\"),\"\",IF(CP225=0,\"\",1+(MAX(CD$60:CD224))))","v":""},166,0,0,0,0,0,0,0,0,0,0,"",{"$f":"IF(AND(DC225=\"\"),\"\",IF(DC225=0,\"\",1+(MAX(CQ$60:CQ224))))","v":""},166,0,0,0,0,0,0,0,0,0,0,""]
[0,0,167,{"$nulls":24},"",1,{"$f":"IF(AND(AP226=\"\"),\"\",IF(AP226=0,\"\",1+(MAX(AD$60:AD225))))","v":""},167,0,0,0,0,0,0,0,0,0,0,"",{"$f":"IF(AND(BC226=\"\"),\"\",IF(BC226=0,\"\",1+(MAX(AQ$60:AQ225))))","v":""},167,0,0,0,0,0,0,0,0,0,0,"",{"$f":"IF(AND(BP226=\"\"),\"\",IF(BP226=0,\"\",1+(MAX(BD$60:BD225))))","v":""},167,0,0,0,0,0,0,0,0,0,0,"",{"$f":"IF(AND(CC226=\"\"),\"\",IF(CC226=0,\"\",1+(MAX(BQ$60:BQ225))))","v":""},167,0,0,0,0,0,0,0,0,0,0,"",{"$f":"IF(AND(CP226=\"\"),\"\",IF(CP226=0,\"\",1+(MAX(CD$60:CD225))))","v":""},167,0,0,0,0,0,0,0,0,0,0,"",{"$f":"IF(AND(DC226=\"\"),\"\",IF(DC226=0,\"\",1+(MAX(CQ$60:CQ225))))","v":""},167,0,0,0,0,0,0,0,0,0,0,""]
[0,0,168,{"$nulls":24},{"$f":"MID(H227,5,4)","v":""},1,{"$f":"IF(AND(AP227=\"\"),\"\",IF(AP227=0,\"\",1+(MAX(AD$60:AD226))))","v":""},168,0,0,0,0,0,0,0,0,0,0,"",{"$f":"IF(AND(BC227=\"\"),\"\",IF(BC227=0,\"\",1+(MAX(AQ$60:AQ226))))","v":""},168,0,0,0,0,0,0,0,0,0,0,"",{"$f":"IF(AND(BP227=\"\"),\"\",IF(BP227=0,\"\",1+(MAX(BD$60:BD226))))","v":""},168,0,0,0,0,0,0,0,0,0,0,"",{"$f":"IF(AND(CC227=\"\"),\"\",IF(CC227=0,\"\",1+(MAX(BQ$60:BQ226))))","v":""},168,0,0,0,0,0,0,0,0,0,0,"",{"$f":"IF(AND(CP227=\"\"),\"\",IF(CP227=0,\"\",1+(MAX(CD$60:CD226))))","v":""},168,0,0,0,0,0,0,0,0,0,0,"",{"$f":"IF(AND(DC227=\"\"),\"\",IF(DC227=0,\"\",1+(MAX(CQ$60:CQ226))))","v":""},168,0,0,0,0,0,0,0,0,0,0,""]
[0,0,169,{"$nulls":24},{"$f":"MID(H228,5,4)","v":""},1,{"$f":"IF(AND(AP228=\"\"),\"\",IF(AP228=0,\"\",1+(MAX(AD$60:AD227))))","v":""},169,0,0,0,0,0,0,0,0,0,0,"",{"$f":"IF(AND(BC228=\"\"),\"\",IF(BC228=0,\"\",1+(MAX(AQ$60:AQ227))))","v":""},169,0,0,0,0,0,0,0,0,0,0,"",{"$f":"IF(AND(BP228=\"\"),\"\",IF(BP228=0,\"\",1+(MAX(BD$60:BD227))))","v":""},169,0,0,0,0,0,0,0,0,0,0,"",{"$f":"IF(AND(CC228=\"\"),\"\",IF(CC228=0,\"\",1+(MAX(BQ$60:BQ227))))","v":""},169,0,0,0,0,0,0,0,0,0,0,"",{"$f":"IF(AND(CP228=\"\"),\"\",IF(CP228=0,\"\",1+(MAX(CD$60:CD227))))","v":""},169,0,0,0,0,0,0,0,0,0,0,"",{"$f":"IF(AND(DC228=\"\"),\"\",IF(DC228=0,\"\",1+(MAX(CQ$60:CQ227))))","v":""},169,0,0,0,0,0,0,0,0,0,0,""]
[0,0,170,{"$nulls":24},"",1,{"$f":"IF(AND(AP229=\"\"),\"\",IF(AP229=0,\"\",1+(MAX(AD$60:AD228))))","v":""},170,0,0,0,0,0,0,0,0,{"$f":"IF($M229=\"GAZETTED - REGULAR\",L229,0)","v":0},0,"",{"$f":"IF(AND(BC229=\"\"),\"\",IF(BC229=0,\"\",1+(MAX(AQ$60:AQ228))))","v":""},170,0,0,0,0,0,0,0,0,0,0,"",{"$f":"IF(AND(BP229=\"\"),\"\",IF(BP229=0,\"\",1+(MAX(BD$60:BD228))))","v":""},170,0,0,0,0,0,0,0,0,0,0,"",{"$f":"IF(AND(CC229=\"\"),\"\",IF(CC229=0,\"\",1+(MAX(BQ$60:BQ228))))","v":""},170,0,0,0,0,0,0,0,0,0,0,"",{"$f":"IF(AND(CP229=\"\"),\"\",IF(CP229=0,\"\",1+(MAX(CD$60:CD228))))","v":""},170,0,0,0,0,0,0,0,0,0,0,"",{"$f":"IF(AND(DC229=\"\"),\"\",IF(DC229=0,\"\",1+(MAX(CQ$60:CQ228))))","v":""},170,0,0,0,0,0,0,0,0,0,0,""]
[0,0,171,{"$nulls":24},"",1,{"$f":"IF(AND(AP230=\"\"),\"\",IF(AP230=0,\"\",1+(MAX(AD$60:AD229))))","v":""},171,0,0,0,0,0,0,0,0,{"$f":"IF($M230=\"GAZETTED - REGULAR\",L230,0)","v":0},0,"",{"$f":"IF(AND(BC230=\"\"),\"\",IF(BC230=0,\"\",1+(MAX(AQ$60:AQ229))))","v":""},171,0,0,0,0,0,0,0,0,0,0,"",{"$f":"IF(AND(BP230=\"\"),\"\",IF(BP230=0,\"\",1+(MAX(BD$60:BD229))))","v":""},171,0,0,0,0,0,0,0,0,0,0,"",{"$f":"IF(AND(CC230=\"\"),\"\",IF(CC230=0,\"\",1+(MAX(BQ$60:BQ229))))","v":""},171,0,0,0,0,0,0,0,0,0,0,"",{"$f":"IF(AND(CP230=\"\"),\"\",IF(CP230=0,\"\",1+(MAX(CD$60:CD229))))","v":""},171,0,0,0,0,0,0,0,0,0,0,"",{"$f":"IF(AND(DC230=\"\"),\"\",IF(DC230=0,\"\",1+(MAX(CQ$60:CQ229))))","v":""},171,0,0,0,0,0,0,0,0,0,0,""]
[0,0,172,{"$nulls":24},"",1,{"$f":"IF(AND(AP231=\"\"),\"\",IF(AP231=0,\"\",1+(MAX(AD$60:AD230))))","v":""},172,0,0,0,0,0,0,0,0,0,0,"",{"$f":"IF(AND(BC231=\"\"),\"\",IF(BC231=0,\"\",1+(MAX(AQ$60:AQ230))))","v":""},172,0,0,0,0,0,0,0,0,0,0,"",{"$f":"IF(AND(BP231=\"\"),\"\",IF(BP231=0,\"\",1+(MAX(BD$60:BD230))))","v":""},172,0,0,0,0,0,0,0,0,0,0,"",{"$f":"IF(AND(CC231=\"\"),\"\",IF(CC231=0,\"\",1+(MAX(BQ$60:BQ230))))","v":""},172,0,0,0,0,0,0,0,0,0,0,"",{"$f":"IF(AND(CP231=\"\"),\"\",IF(CP231=0,\"\",1+(MAX(CD$60:CD230))))","v":""},172,0,0,0,0,0,0,0,0,0,0,"",{"$f":"IF(AND(DC231=\"\"),\"\",IF(DC231=0,\"\",1+(MAX(CQ$60:CQ230))))","v":""},172,0,0,0,0,0,0,0,0,0,0,""]
[0,0,173,{"$nulls":24},"",1,{"$f":"IF(AND(AP232=\"\"),\"\",IF(AP232=0,\"\",1+(MAX(AD$60:AD231))))","v":""},173,0,0,0,0,0,0,0,0,0,0,"",{"$f":"IF(AND(BC232=\"\"),\"\",IF(BC232=0,\"\",1+(MAX(AQ$60:AQ231))))","v":""},173,0,0,0,0,0,0,0,0,0,0,"",{"$f":"IF(AND(BP232=\"\"),\"\",IF(BP232=0,\"\",1+(MAX(BD$60:BD231))))","v":""},173,0,0,0,0,0,0,0,0,0,0,"",{"$f":"IF(AND(CC232=\"\"),\"\",IF(CC232=0,\"\",1+(MAX(BQ$60:BQ231))))","v":""},173,0,0,0,0,0,0,0,0,0,0,"",{"$f":"IF(AND(CP232=\"\"),\"\",IF(CP232=0,\"\",1+(MAX(CD$60:CD231))))","v":""},173,0,0,0,0,0,0,0,0,0,0,"",{"$f":"IF(AND(DC232=\"\"),\"\",IF(DC232=0,\"\",1+(MAX(CQ$60:CQ231))))","v":""},173,0,0,0,0,0,0,0,0,0,0,""]
[0,0,174,{"$nulls":24},"",1,{"$f":"IF(AND(AP233=\"\"),\"\",IF(AP233=0,\"\",1+(MAX(AD$60:AD232))))","v":""},174,0,0,0,0,0,0,0,0,0,0,"",{"$f":"IF(AND(BC233=\"\"),\"\",IF(BC233=0,\"\",1+(MAX(AQ$60:AQ232))))","v":""},174,0,0,0,0,0,0,0,0,0,0,"",{"$f":"IF(AND(BP233=\"\"),\"\",IF(BP233=0,\"\",1+(MAX(BD$60:BD232))))","v":""},174,0,0,0,0,0,0,0,0,0,0,"",{"$f":"IF(AND(CC233=\"\"),\"\",IF(CC233=0,\"\",1+(MAX(BQ$60:BQ232))))","v":""},174,0,0,0,0,0,0,0,0,0,0,"",{"$f":"IF(AND(CP233=\"\"),\"\",IF(CP233=0,\"\",1+(MAX(CD$60:CD232))))","v":""},174,0,0,0,0,0,0,0,0,0,0,"",{"$f":"IF(AND(DC233=\"\"),\"\",IF(DC233=0,\"\",1+(MAX(CQ$60:CQ232))))","v":""},174,0,0,0,0,0,0,0,0,0,0,""]
[0,0,175,{"$nulls":24},"",1,{"$f":"IF(AND(AP234=\"\"),\"\",IF(AP234=0,\"\",1+(MAX(AD$60:AD233))))","v":""},175,0,0,0,0,0,0,0,0,0,0,"",{"$f":"IF(AND(BC234=\"\"),\"\",IF(BC234=0,\"\",1+(MAX(AQ$60:AQ233))))","v":""},175,0,0,0,0,0,0,0,0,0,0,"",{"$f":"IF(AND(BP234=\"\"),\"\",IF(BP234=0,\"\",1+(MAX(BD$60:BD233))))","v":""},175,0,0,0,0,0,0,0,0,0,0,"",{"$f":"IF(AND(CC234=\"\"),\"\",IF(CC234=0,\"\",1+(MAX(BQ$60:BQ233))))","v":""},175,0,0,0,0,0,0,0,0,0,0,"",{"$f":"IF(AND(CP234=\"\"),\"\",IF(CP234=0,\"\",1+(MAX(CD$60:CD233))))","v":""},175,0,0,0,0,0,0,0,0,0,0,"",{"$f":"IF(AND(DC234=\"\"),\"\",IF(DC234=0,\"\",1+(MAX(CQ$60:CQ233))))","v":""},175,0,0,0,0,0,0,0,0,0,0,""]
[0,0,176,{"$nulls":24},"",1,{"$f":"IF(AND(AP235=\"\"),\"\",IF(AP235=0,\"\",1+(MAX(AD$60:AD234))))","v":""},176,0,0,0,0,0,0,0,0,0,0,"",{"$f":"IF(AND(BC235=\"\"),\"\",IF(BC235=0,\"\",1+(MAX(AQ$60:AQ234))))","v":""},176,0,0,0,0,0,0,0,0,0,0,"",{"$f":"IF(AND(BP235=\"\"),\"\",IF(BP235=0,\"\",1+(MAX(BD$60:BD234))))","v":""},176,0,0,0,0,0,0,0,0,0,0,"",{"$f":"IF(AND(CC235=\"\"),\"\",IF(CC235=0,\"\",1+(MAX(BQ$60:BQ234))))","v":""},176,0,0,0,0,0,0,0,0,0,0,"",{"$f":"IF(AND(CP235=\"\"),\"\",IF(CP235=0,\"\",1+(MAX(CD$60:CD234))))","v":""},176,0,0,0,0,0,0,0,0,0,0,"",{"$f":"IF(AND(DC235=\"\"),\"\",IF(DC235=0,\"\",1+(MAX(CQ$60:CQ234))))","v":""},176,0,0,0,0,0,0,0,0,0,0,""]
[0,0,177,{"$nulls":24},"",1,{"$f":"IF(AND(AP236=\"\"),\"\",IF(AP236=0,\"\",1+(MAX(AD$60:AD235))))","v":""},177,0,0,0,0,0,0,0,0,0,0,"",{"$f":"IF(AND(BC236=\"\"),\"\",IF(BC236=0,\"\",1+(MAX(AQ$60:AQ235))))","v":""},177,0,0,0,0,0,0,0,0,0,0,"",{"$f":"IF(AND(BP236=\"\"),\"\",IF(BP236=0,\"\",1+(MAX(BD$60:BD235))))","v":""},177,0,0,0,0,0,0,0,0,0,0,"",{"$f":"IF(AND(CC236=\"\"),\"\",IF(CC236=0,\"\",1+(MAX(BQ$60:BQ235))))","v":""},177,0,0,0,0,0,0,0,0,0,0,"",{"$f":"IF(AND(CP236=\"\"),\"\",IF(CP236=0,\"\",1+(MAX(CD$60:CD235))))","v":""},177,0,0,0,0,0,0,0,0,0,0,"",{"$f":"IF(AND(DC236=\"\"),\"\",IF(DC236=0,\"\",1+(MAX(CQ$60:CQ235))))","v":""},177,0,0,0,0,0,0,0,0,0,0,""]
[0,0,178,{"$nulls":24},"",1,{"$f":"IF(AND(AP237=\"\"),\"\",IF(AP237=0,\"\",1+(MAX(AD$60:AD236))))","v":""},178,0,0,0,0,0,0,0,0,0,0,"",{"$f":"IF(AND(BC237=\"\"),\"\",IF(BC237=0,\"\",1+(MAX(AQ$60:AQ236))))","v":""},178,0,0,0,0,0,0,0,0,0,0,"",{"$f":"IF(AND(BP237=\"\"),\"\",IF(BP237=0,\"\",1+(MAX(BD$60:BD236))))","v":""},178,0,0,0,0,0,0,0,0,0,0,"",{"$f":"IF(AND(CC237=\"\"),\"\",IF(CC237=0,\"\",1+(MAX(BQ$60:BQ236))))","v":""},178,0,0,0,0,0,0,0,0,0,0,"",{"$f":"IF(AND(CP237=\"\"),\"\",IF(CP237=0,\"\",1+(MAX(CD$60:CD236))))","v":""},178,0,0,0,0,0,0,0,0,0,0,"",{"$f":"IF(AND(DC237=\"\"),\"\",IF(DC237=0,\"\",1+(MAX(CQ$60:CQ236))))","v":""},178,0,0,0,0,0,0,0,0,0,0,""]
[0,0,179,{"$nulls":24},"",1,{"$f":"IF(AND(AP238=\"\"),\"\",IF(AP238=0,\"\",1+(MAX(AD$60:AD237))))","v":""},179,0,0,0,0,0,0,0,0,0,0,"",{"$f":"IF(AND(BC238=\"\"),\"\",IF(BC238=0,\"\",1+(MAX(AQ$60:AQ237))))","v":""},179,0,0,0,0,0,0,0,0,0,0,"",{"$f":"IF(AND(BP238=\"\"),\"\",IF(BP238=0,\"\",1+(MAX(BD$60:BD237))))","v":""},179,0,0,0,0,0,0,0,0,0,0,"",{"$f":"IF(AND(CC238=\"\"),\"\",IF(CC238=0,\"\",1+(MAX(BQ$60:BQ237))))","v":""},179,0,0,0,0,0,0,0,0,0,0,"",{"$f":"IF(AND(CP238=\"\"),\"\",IF(CP238=0,\"\",1+(MAX(CD$60:CD237))))","v":""},179,0,0,0,0,0,0,0,0,0,0,"",{"$f":"IF(AND(DC238=\"\"),\"\",IF(DC238=0,\"\",1+(MAX(CQ$60:CQ237))))","v":""},179,0,0,0,0,0,0,0,0,0,0,""]
[0,0,180,{"$nulls":24},"",1,{"$f":"IF(AND(AP239=\"\"),\"\",IF(AP239=0,\"\",1+(MAX(AD$60:AD238))))","v":""},180,0,0,0,0,0,0,0,0,0,0,"",{"$f":"IF(AND(BC239=\"\"),\"\",IF(BC239=0,\"\",1+(MAX(AQ$60:AQ238))))","v":""},180,0,0,0,0,0,0,0,0,0,0,"",{"$f":"IF(AND(BP239=\"\"),\"\",IF(BP239=0,\"\",1+(MAX(BD$60:BD238))))","v":""},180,0,0,0,0,0,0,0,0,0,0,"",{"$f":"IF(AND(CC239=\"\"),\"\",IF(CC239=0,\"\",1+(MAX(BQ$60:BQ238))))","v":""},180,0,0,0,0,0,0,0,0,0,0,"",{"$f":"IF(AND(CP239=\"\"),\"\",IF(CP239=0,\"\",1+(MAX(CD$60:CD238))))","v":""},180,0,0,0,0,0,0,0,0,0,0,"",{"$f":"IF(AND(DC239=\"\"),\"\",IF(DC239=0,\"\",1+(MAX(CQ$60:CQ238))))","v":""},180,0,0,0,0,0,0,0,0,0,0,""]
[0,0,181,{"$nulls":24},"",1,{"$f":"IF(AND(AP240=\"\"),\"\",IF(AP240=0,\"\",1+(MAX(AD$60:AD239))))","v":""},181,0,0,0,0,0,0,0,0,0,0,"",{"$f":"IF(AND(BC240=\"\"),\"\",IF(BC240=0,\"\",1+(MAX(AQ$60:AQ239))))","v":""},181,0,0,0,0,0,0,0,0,0,0,"",{"$f":"IF(AND(BP240=\"\"),\"\",IF(BP240=0,\"\",1+(MAX(BD$60:BD239))))","v":""},181,0,0,0,0,0,0,0,0,0,0,"",{"$f":"IF(AND(CC240=\"\"),\"\",IF(CC240=0,\"\",1+(MAX(BQ$60:BQ239))))","v":""},181,0,0,0,0,0,0,0,0,0,0,"",{"$f":"IF(AND(CP240=\"\"),\"\",IF(CP240=0,\"\",1+(MAX(CD$60:CD239))))","v":""},181,0,0,0,0,0,0,0,0,0,0,"",{"$f":"IF(AND(DC240=\"\"),\"\",IF(DC240=0,\"\",1+(MAX(CQ$60:CQ239))))","v":""},181,0,0,0,0,0,0,0,0,0,0,""]
[0,0,182,{"$nulls":24},"",1,{"$f":"IF(AND(AP241=\"\"),\"\",IF(AP241=0,\"\",1+(MAX(AD$60:AD240))))","v":""},182,0,0,0,0,0,0,0,0,0,0,"",{"$f":"IF(AND(BC241=\"\"),\"\",IF(BC241=0,\"\",1+(MAX(AQ$60:AQ240))))","v":""},182,0,0,0,0,0,0,0,0,0,0,"",{"$f":"IF(AND(BP241=\"\"),\"\",IF(BP241=0,\"\",1+(MAX(BD$60:BD240))))","v":""},182,0,0,0,0,0,0,0,0,0,0,"",{"$f":"IF(AND(CC241=\"\"),\"\",IF(CC241=0,\"\",1+(MAX(BQ$60:BQ240))))","v":""},182,0,0,0,0,0,0,0,0,0,0,"",{"$f":"IF(AND(CP241=\"\"),\"\",IF(CP241=0,\"\",1+(MAX(CD$60:CD240))))","v":""},182,0,0,0,0,0,0,0,0,0,0,"",{"$f":"IF(AND(DC241=\"\"),\"\",IF(DC241=0,\"\",1+(MAX(CQ$60:CQ240))))","v":""},182,0,0,0,0,0,0,0,0,0,0,""]
[0,0,183,{"$nulls":24},"",{"$f":"IF(F242<=0,1,0)*(IF(M242=\"SANVIDA\",0,1))","v":1},{"$f":"IF(AND(AP242=\"\"),\"\",IF(AP242=0,\"\",1+(MAX(AD$60:AD241))))","v":""},183,0,0,0,0,0,0,0,0,0,0,"",{"$f":"IF(AND(BC242=\"\"),\"\",IF(BC242=0,\"\",1+(MAX(AQ$60:AQ241))))","v":""},183,0,0,0,0,0,0,0,0,0,0,"",{"$f":"IF(AND(BP242=\"\"),\"\",IF(BP242=0,\"\",1+(MAX(BD$60:BD241))))","v":""},183,0,0,0,0,0,0,0,0,0,0,"",{"$f":"IF(AND(CC242=\"\"),\"\",IF(CC242=0,\"\",1+(MAX(BQ$60:BQ241))))","v":""},183,0,0,0,0,0,0,0,0,0,0,"",{"$f":"IF(AND(CP242=\"\"),\"\",IF(CP242=0,\"\",1+(MAX(CD$60:CD241))))","v":""},183,0,0,0,0,0,0,0,0,0,0,"",{"$f":"IF(AND(DC242=\"\"),\"\",IF(DC242=0,\"\",1+(MAX(CQ$60:CQ241))))","v":""},183,0,0,0,0,0,0,0,0,0,0,""]
[0,0,184,{"$nulls":24},"",1,{"$f":"IF(AND(AP243=\"\"),\"\",IF(AP243=0,\"\",1+(MAX(AD$60:AD242))))","v":""},184,0,0,0,0,0,0,0,0,0,0,"",{"$f":"IF(AND(BC243=\"\"),\"\",IF(BC243=0,\"\",1+(MAX(AQ$60:AQ242))))","v":""},184,0,0,0,0,0,0,0,0,0,0,"",{"$f":"IF(AND(BP243=\"\"),\"\",IF(BP243=0,\"\",1+(MAX(BD$60:BD242))))","v":""},184,0,0,0,0,0,0,0,0,0,0,"",{"$f":"IF(AND(CC243=\"\"),\"\",IF(CC243=0,\"\",1+(MAX(BQ$60:BQ242))))","v":""},184,0,0,0,0,0,0,0,0,0,0,"",{"$f":"IF(AND(CP243=\"\"),\"\",IF(CP243=0,\"\",1+(MAX(CD$60:CD242))))","v":""},184,0,0,0,0,0,0,0,0,0,0,"",{"$f":"IF(AND(DC243=\"\"),\"\",IF(DC243=0,\"\",1+(MAX(CQ$60:CQ242))))","v":""},184,0,0,0,0,0,0,0,0,0,0,""]
[0,0,185,{"$nulls":24},"",1,{"$f":"IF(AND(AP244=\"\"),\"\",IF(AP244=0,\"\",1+(MAX(AD$60:AD243))))","v":""},185,0,0,0,0,0,0,0,0,0,0,"",{"$f":"IF(AND(BC244=\"\"),\"\",IF(BC244=0,\"\",1+(MAX(AQ$60:AQ243))))","v":""},185,0,0,0,0,0,0,0,0,0,0,"",{"$f":"IF(AND(BP244=\"\"),\"\",IF(BP244=0,\"\",1+(MAX(BD$60:BD243))))","v":""},185,0,0,0,0,0,0,0,0,0,0,"",{"$f":"IF(AND(CC244=\"\"),\"\",IF(CC244=0,\"\",1+(MAX(BQ$60:BQ243))))","v":""},185,0,0,0,0,0,0,0,0,0,0,"",{"$f":"IF(AND(CP244=\"\"),\"\",IF(CP244=0,\"\",1+(MAX(CD$60:CD243))))","v":""},185,0,0,0,0,0,0,0,0,0,0,"",{"$f":"IF(AND(DC244=\"\"),\"\",IF(DC244=0,\"\",1+(MAX(CQ$60:CQ243))))","v":""},185,0,0,0,0,0,0,0,0,0,0,""]
[0,0,186,{"$nulls":24},"",1,{"$f":"IF(AND(AP245=\"\"),\"\",IF(AP245=0,\"\",1+(MAX(AD$60:AD244))))","v":""},186,0,0,0,0,0,0,0,0,0,0,"",{"$f":"IF(AND(BC245=\"\"),\"\",IF(BC245=0,\"\",1+(MAX(AQ$60:AQ244))))","v":""},186,0,0,0,0,0,0,0,0,0,0,"",{"$f":"IF(AND(BP245=\"\"),\"\",IF(BP245=0,\"\",1+(MAX(BD$60:BD244))))","v":""},186,0,0,0,0,0,0,0,0,0,0,"",{"$f":"IF(AND(CC245=\"\"),\"\",IF(CC245=0,\"\",1+(MAX(BQ$60:BQ244))))","v":""},186,0,0,0,0,0,0,0,0,0,0,"",{"$f":"IF(AND(CP245=\"\"),\"\",IF(CP245=0,\"\",1+(MAX(CD$60:CD244))))","v":""},186,0,0,0,0,0,0,0,0,0,0,"",{"$f":"IF(AND(DC245=\"\"),\"\",IF(DC245=0,\"\",1+(MAX(CQ$60:CQ244))))","v":""},186,0,0,0,0,0,0,0,0,0,0,""]
[0,0,187,{"$nulls":24},"",1,{"$f":"IF(AND(AP246=\"\"),\"\",IF(AP246=0,\"\",1+(MAX(AD$60:AD245))))","v":""},187,0,0,0,0,0,0,0,0,0,0,"",{"$f":"IF(AND(BC246=\"\"),\"\",IF(BC246=0,\"\",1+(MAX(AQ$60:AQ245))))","v":""},187,0,0,0,0,0,0,0,0,0,0,"",{"$f":"IF(AND(BP246=\"\"),\"\",IF(BP246=0,\"\",1+(MAX(BD$60:BD245))))","v":""},187,0,0,0,0,0,0,0,0,0,0,"",{"$f":"IF(AND(CC246=\"\"),\"\",IF(CC246=0,\"\",1+(MAX(BQ$60:BQ245))))","v":""},187,0,0,0,0,0,0,0,0,0,0,"",{"$f":"IF(AND(CP246=\"\"),\"\",IF(CP246=0,\"\",1+(MAX(CD$60:CD245))))","v":""},187,0,0,0,0,0,0,0,0,0,0,"",{"$f":"IF(AND(DC246=\"\"),\"\",IF(DC246=0,\"\",1+(MAX(CQ$60:CQ245))))","v":""},187,0,0,0,0,0,0,0,0,0,0,""]
[0,0,188,{"$nulls":24},"",1,{"$f":"IF(AND(AP247=\"\"),\"\",IF(AP247=0,\"\",1+(MAX(AD$60:AD246))))","v":""},188,0,0,0,0,0,0,0,0,0,0,"",{"$f":"IF(AND(BC247=\"\"),\"\",IF(BC247=0,\"\",1+(MAX(AQ$60:AQ246))))","v":""},188,0,0,0,0,0,0,0,0,0,0,"",{"$f":"IF(AND(BP247=\"\"),\"\",IF(BP247=0,\"\",1+(MAX(BD$60:BD246))))","v":""},188,0,0,0,0,0,0,0,0,0,0,"",{"$f":"IF(AND(CC247=\"\"),\"\",IF(CC247=0,\"\",1+(MAX(BQ$60:BQ246))))","v":""},188,0,0,0,0,0,0,0,0,0,0,"",{"$f":"IF(AND(CP247=\"\"),\"\",IF(CP247=0,\"\",1+(MAX(CD$60:CD246))))","v":""},188,0,0,0,0,0,0,0,0,0,0,"",{"$f":"IF(AND(DC247=\"\"),\"\",IF(DC247=0,\"\",1+(MAX(CQ$60:CQ246))))","v":""},188,0,0,0,0,0,0,0,0,0,0,""]
[0,0,189,{"$nulls":24},"",1,{"$f":"IF(AND(AP248=\"\"),\"\",IF(AP248=0,\"\",1+(MAX(AD$60:AD247))))","v":""},189,0,0,0,0,0,0,0,0,0,0,"",{"$f":"IF(AND(BC248=\"\"),\"\",IF(BC248=0,\"\",1+(MAX(AQ$60:AQ247))))","v":""},189,0,0,0,0,0,0,0,0,0,0,"",{"$f":"IF(AND(BP248=\"\"),\"\",IF(BP248=0,\"\",1+(MAX(BD$60:BD247))))","v":""},189,0,0,0,0,0,0,0,0,0,0,"",{"$f":"IF(AND(CC248=\"\"),\"\",IF(CC248=0,\"\",1+(MAX(BQ$60:BQ247))))","v":""},189,0,0,0,0,0,0,0,0,0,0,"",{"$f":"IF(AND(CP248=\"\"),\"\",IF(CP248=0,\"\",1+(MAX(CD$60:CD247))))","v":""},189,0,0,0,0,0,0,0,0,0,0,"",{"$f":"IF(AND(DC248=\"\"),\"\",IF(DC248=0,\"\",1+(MAX(CQ$60:CQ247))))","v":""},189,0,0,0,0,0,0,0,0,0,0,""]
[0,0,190,{"$nulls":24},"",1,{"$f":"IF(AND(AP249=\"\"),\"\",IF(AP249=0,\"\",1+(MAX(AD$60:AD248))))","v":""},190,0,0,0,0,0,0,0,0,0,0,"",{"$f":"IF(AND(BC249=\"\"),\"\",IF(BC249=0,\"\",1+(MAX(AQ$60:AQ248))))","v":""},190,0,0,0,0,0,0,0,0,0,0,"",{"$f":"IF(AND(BP249=\"\"),\"\",IF(BP249=0,\"\",1+(MAX(BD$60:BD248))))","v":""},190,0,0,0,0,0,0,0,0,0,0,"",{"$f":"IF(AND(CC249=\"\"),\"\",IF(CC249=0,\"\",1+(MAX(BQ$60:BQ248))))","v":""},190,0,0,0,0,0,0,0,0,0,0,"",{"$f":"IF(AND(CP249=\"\"),\"\",IF(CP249=0,\"\",1+(MAX(CD$60:CD248))))","v":""},190,0,0,0,0,0,0,0,0,0,0,"",{"$f":"IF(AND(DC249=\"\"),\"\",IF(DC249=0,\"\",1+(MAX(CQ$60:CQ248))))","v":""},190,0,0,0,0,0,0,0,0,0,0,""]
[0,0,191,{"$nulls":24},"",1,{"$f":"IF(AND(AP250=\"\"),\"\",IF(AP250=0,\"\",1+(MAX(AD$60:AD249))))","v":""},191,0,0,0,0,0,0,0,0,0,0,"",{"$f":"IF(AND(BC250=\"\"),\"\",IF(BC250=0,\"\",1+(MAX(AQ$60:AQ249))))","v":""},191,0,0,0,0,0,0,0,0,0,0,"",{"$f":"IF(AND(BP250=\"\"),\"\",IF(BP250=0,\"\",1+(MAX(BD$60:BD249))))","v":""},191,0,0,0,0,0,0,0,0,0,0,"",{"$f":"IF(AND(CC250=\"\"),\"\",IF(CC250=0,\"\",1+(MAX(BQ$60:BQ249))))","v":""},191,0,0,0,0,0,0,0,0,0,0,"",{"$f":"IF(AND(CP250=\"\"),\"\",IF(CP250=0,\"\",1+(MAX(CD$60:CD249))))","v":""},191,0,0,0,0,0,0,0,0,0,0,"",{"$f":"IF(AND(DC250=\"\"),\"\",IF(DC250=0,\"\",1+(MAX(CQ$60:CQ249))))","v":""},191,0,0,0,0,0,0,0,0,0,0,""]
[0,0,192,{"$nulls":24},"",1,{"$f":"IF(AND(AP251=\"\"),\"\",IF(AP251=0,\"\",1+(MAX(AD$60:AD250))))","v":""},192,0,0,0,0,0,0,0,0,0,0,"",{"$f":"IF(AND(BC251=\"\"),\"\",IF(BC251=0,\"\",1+(MAX(AQ$60:AQ250))))","v":""},192,0,0,0,0,0,0,0,0,0,0,"",{"$f":"IF(AND(BP251=\"\"),\"\",IF(BP251=0,\"\",1+(MAX(BD$60:BD250))))","v":""},192,0,0,0,0,0,0,0,0,0,0,"",{"$f":"IF(AND(CC251=\"\"),\"\",IF(CC251=0,\"\",1+(MAX(BQ$60:BQ250))))","v":""},192,0,0,0,0,0,0,0,0,0,0,"",{"$f":"IF(AND(CP251=\"\"),\"\",IF(CP251=0,\"\",1+(MAX(CD$60:CD250))))","v":""},192,0,0,0,0,0,0,0,0,0,0,"",{"$f":"IF(AND(DC251=\"\"),\"\",IF(DC251=0,\"\",1+(MAX(CQ$60:CQ250))))","v":""},192,0,0,0,0,0,0,0,0,0,0,""]
[0,0,193,{"$nulls":24},"",1,{"$f":"IF(AND(AP252=\"\"),\"\",IF(AP252=0,\"\",1+(MAX(AD$60:AD251))))","v":""},193,0,0,0,0,0,0,0,0,0,0,{"$f":"IF(AND(M252=\"\"),\"\",IF(M252=AF$58,1,0))","v":""},{"$f":"IF(AND(BC252=\"\"),\"\",IF(BC252=0,\"\",1+(MAX(AQ$60:AQ251))))","v":""},193,0,0,0,0,0,0,0,0,0,0,{"$f":"IF(AND(M252=\"\"),\"\",IF(M252=AS$58,1,0))","v":""},{"$f":"IF(AND(BP252=\"\"),\"\",IF(BP252=0,\"\",1+(MAX(BD$60:BD251))))","v":""},193,0,0,0,0,0,0,0,0,0,0,{"$f":"IF(AND(M252=\"\"),\"\",IF(M252=BF$58,1,0))","v":""},{"$f":"IF(AND(CC252=\"\"),\"\",IF(CC252=0,\"\",1+(MAX(BQ$60:BQ251))))","v":""},193,0,0,0,0,0,0,0,0,0,0,{"$f":"IF(AND(M252=\"\"),\"\",IF(M252=BS$58,1,0))","v":""},{"$f":"IF(AND(CP252=\"\"),\"\",IF(CP252=0,\"\",1+(MAX(CD$60:CD251))))","v":""},193,0,0,0,0,0,0,0,0,0,0,{"$f":"IF(AND(M252=\"\"),\"\",IF(M252=CF$58,1,0))","v":""},{"$f":"IF(AND(DC252=\"\"),\"\",IF(DC252=0,\"\",1+(MAX(CQ$60:CQ251))))","v":""},193,0,0,0,0,0,0,0,0,0,0,{"$f":"IF(AND(M252=\"\"),\"\",IF(M252=CS$58,1,0))","v":""}]
[{"$f":"IF(OR(D253=\"in fjDr\",D253=\"पद रिक्त\",D253=\"Blank\",D253=\"Post Blank\"),0,E253)","v":0},{"$f":"F253","v":0},194,{"$nulls":24},"",1,{"$f":"IF(AND(AP253=\"\"),\"\",IF(AP253=0,\"\",1+(MAX(AD$60:AD252))))","v":""},194,0,0,0,0,0,0,0,0,0,0,"",{"$f":"IF(AND(BC253=\"\"),\"\",IF(BC253=0,\"\",1+(MAX(AQ$60:AQ252))))","v":""},194,0,0,0,0,0,0,0,0,0,0,"",{"$f":"IF(AND(BP253=\"\"),\"\",IF(BP253=0,\"\",1+(MAX(BD$60:BD252))))","v":""},194,0,0,0,0,0,0,0,0,0,0,"",{"$f":"IF(AND(CC253=\"\"),\"\",IF(CC253=0,\"\",1+(MAX(BQ$60:BQ252))))","v":""},194,0,0,0,0,0,0,0,0,0,0,"",{"$f":"IF(AND(CP253=\"\"),\"\",IF(CP253=0,\"\",1+(MAX(CD$60:CD252))))","v":""},194,0,0,0,0,0,0,0,0,0,0,"",{"$f":"IF(AND(DC253=\"\"),\"\",IF(DC253=0,\"\",1+(MAX(CQ$60:CQ252))))","v":""},194,0,0,0,0,0,0,0,0,0,0,""]
[0,0,195,{"$nulls":24},"",1,{"$f":"IF(AND(AP254=\"\"),\"\",IF(AP254=0,\"\",1+(MAX(AD$60:AD253))))","v":""},195,0,0,0,0,0,0,0,0,0,0,"",{"$f":"IF(AND(BC254=\"\"),\"\",IF(BC254=0,\"\",1+(MAX(AQ$60:AQ253))))","v":""},195,0,0,0,0,0,0,0,0,0,0,"",{"$f":"IF(AND(BP254=\"\"),\"\",IF(BP254=0,\"\",1+(MAX(BD$60:BD253))))","v":""},195,0,0,0,0,0,0,0,0,0,0,"",{"$f":"IF(AND(CC254=\"\"),\"\",IF(CC254=0,\"\",1+(MAX(BQ$60:BQ253))))","v":""},195,0,0,0,0,0,0,0,0,0,0,"",{"$f":"IF(AND(CP254=\"\"),\"\",IF(CP254=0,\"\",1+(MAX(CD$60:CD253))))","v":""},195,0,0,0,0,0,0,0,0,0,0,"",{"$f":"IF(AND(DC254=\"\"),\"\",IF(DC254=0,\"\",1+(MAX(CQ$60:CQ253))))","v":""},195,0,0,0,0,0,0,0,0,0,0,""]
[0,0,196,{"$nulls":24},"",1,{"$f":"IF(AND(AP255=\"\"),\"\",IF(AP255=0,\"\",1+(MAX(AD$60:AD254))))","v":""},196,0,0,0,0,0,0,0,0,0,0,"",{"$f":"IF(AND(BC255=\"\"),\"\",IF(BC255=0,\"\",1+(MAX(AQ$60:AQ254))))","v":""},196,0,0,0,0,0,0,0,0,0,0,"",{"$f":"IF(AND(BP255=\"\"),\"\",IF(BP255=0,\"\",1+(MAX(BD$60:BD254))))","v":""},196,0,0,0,0,0,0,0,0,0,0,"",{"$f":"IF(AND(CC255=\"\"),\"\",IF(CC255=0,\"\",1+(MAX(BQ$60:BQ254))))","v":""},196,0,0,0,0,0,0,0,0,0,0,"",{"$f":"IF(AND(CP255=\"\"),\"\",IF(CP255=0,\"\",1+(MAX(CD$60:CD254))))","v":""},196,0,0,0,0,0,0,0,0,0,0,"",{"$f":"IF(AND(DC255=\"\"),\"\",IF(DC255=0,\"\",1+(MAX(CQ$60:CQ254))))","v":""},196,0,0,0,0,0,0,0,0,0,0,""]
[0,0,197,{"$nulls":24},"",1,{"$f":"IF(AND(AP256=\"\"),\"\",IF(AP256=0,\"\",1+(MAX(AD$60:AD255))))","v":""},197,0,0,0,0,0,0,0,0,0,0,"",{"$f":"IF(AND(BC256=\"\"),\"\",IF(BC256=0,\"\",1+(MAX(AQ$60:AQ255))))","v":""},197,0,0,0,0,0,0,0,0,0,0,"",{"$f":"IF(AND(BP256=\"\"),\"\",IF(BP256=0,\"\",1+(MAX(BD$60:BD255))))","v":""},197,0,0,0,0,0,0,0,0,0,0,"",{"$f":"IF(AND(CC256=\"\"),\"\",IF(CC256=0,\"\",1+(MAX(BQ$60:BQ255))))","v":""},197,0,0,0,0,0,0,0,0,0,0,"",{"$f":"IF(AND(CP256=\"\"),\"\",IF(CP256=0,\"\",1+(MAX(CD$60:CD255))))","v":""},197,0,0,0,0,0,0,0,0,0,0,"",{"$f":"IF(AND(DC256=\"\"),\"\",IF(DC256=0,\"\",1+(MAX(CQ$60:CQ255))))","v":""},197,0,0,0,0,0,0,0,0,0,0,""]
[0,0,198,{"$nulls":24},"",1,{"$f":"IF(AND(AP257=\"\"),\"\",IF(AP257=0,\"\",1+(MAX(AD$60:AD256))))","v":""},198,0,0,0,0,0,0,0,0,0,0,"",{"$f":"IF(AND(BC257=\"\"),\"\",IF(BC257=0,\"\",1+(MAX(AQ$60:AQ256))))","v":""},198,0,0,0,0,0,0,0,0,0,0,"",{"$f":"IF(AND(BP257=\"\"),\"\",IF(BP257=0,\"\",1+(MAX(BD$60:BD256))))","v":""},198,0,0,0,0,0,0,0,0,0,0,"",{"$f":"IF(AND(CC257=\"\"),\"\",IF(CC257=0,\"\",1+(MAX(BQ$60:BQ256))))","v":""},198,0,0,0,0,0,0,0,0,0,0,"",{"$f":"IF(AND(CP257=\"\"),\"\",IF(CP257=0,\"\",1+(MAX(CD$60:CD256))))","v":""},198,0,0,0,0,0,0,0,0,0,0,"",{"$f":"IF(AND(DC257=\"\"),\"\",IF(DC257=0,\"\",1+(MAX(CQ$60:CQ256))))","v":""},198,0,0,0,0,0,0,0,0,0,0,""]
[0,0,199,{"$nulls":24},"",1,{"$f":"IF(AND(AP258=\"\"),\"\",IF(AP258=0,\"\",1+(MAX(AD$60:AD257))))","v":""},199,0,0,0,0,0,0,0,0,0,0,"",{"$f":"IF(AND(BC258=\"\"),\"\",IF(BC258=0,\"\",1+(MAX(AQ$60:AQ257))))","v":""},199,0,0,0,0,0,0,0,0,0,0,"",{"$f":"IF(AND(BP258=\"\"),\"\",IF(BP258=0,\"\",1+(MAX(BD$60:BD257))))","v":""},199,0,0,0,0,0,0,0,0,0,0,"",{"$f":"IF(AND(CC258=\"\"),\"\",IF(CC258=0,\"\",1+(MAX(BQ$60:BQ257))))","v":""},199,0,0,0,0,0,0,0,0,0,0,"",{"$f":"IF(AND(CP258=\"\"),\"\",IF(CP258=0,\"\",1+(MAX(CD$60:CD257))))","v":""},199,0,0,0,0,0,0,0,0,0,0,"",{"$f":"IF(AND(DC258=\"\"),\"\",IF(DC258=0,\"\",1+(MAX(CQ$60:CQ257))))","v":""},199,0,0,0,0,0,0,0,0,0,0,""]
[0,0,200,{"$nulls":24},"",1,{"$f":"IF(AND(AP259=\"\"),\"\",IF(AP259=0,\"\",1+(MAX(AD$60:AD258))))","v":""},200,0,0,0,0,0,0,0,0,0,0,"",{"$f":"IF(AND(BC259=\"\"),\"\",IF(BC259=0,\"\",1+(MAX(AQ$60:AQ258))))","v":""},200,0,0,0,0,0,0,0,0,0,0,"",{"$f":"IF(AND(BP259=\"\"),\"\",IF(BP259=0,\"\",1+(MAX(BD$60:BD258))))","v":""},200,0,0,0,0,0,0,0,0,0,0,"",{"$f":"IF(AND(CC259=\"\"),\"\",IF(CC259=0,\"\",1+(MAX(BQ$60:BQ258))))","v":""},200,0,0,0,0,0,0,0,0,0,0,"",{"$f":"IF(AND(CP259=\"\"),\"\",IF(CP259=0,\"\",1+(MAX(CD$60:CD258))))","v":""},200,0,0,0,0,0,0,0,0,0,0,"",{"$f":"IF(AND(DC259=\"\"),\"\",IF(DC259=0,\"\",1+(MAX(CQ$60:CQ258))))","v":""},200,0,0,0,0,0,0,0,0,0,0,""]
[0,0,201,{"$nulls":24},"",1,{"$f":"IF(AND(AP260=\"\"),\"\",IF(AP260=0,\"\",1+(MAX(AD$60:AD259))))","v":""},201,0,0,0,0,0,0,0,0,0,0,"",{"$f":"IF(AND(BC260=\"\"),\"\",IF(BC260=0,\"\",1+(MAX(AQ$60:AQ259))))","v":""},201,0,0,0,0,0,0,0,0,0,0,"",{"$f":"IF(AND(BP260=\"\"),\"\",IF(BP260=0,\"\",1+(MAX(BD$60:BD259))))","v":""},201,{"$f":"IF($M260=\"GAZETTED - FIX PAY\",D260,0)","v":0},{"$f":"IF($M260=\"GAZETTED - FIX PAY\",E260,0)","v":0},{"$f":"IF($M260=\"GAZETTED - FIX PAY\",F260,0)","v":0},{"$f":"IF($M260=\"GAZETTED - FIX PAY\",G260,0)","v":0},{"$f":"IF($M260=\"GAZETTED - FIX PAY\",H260,0)","v":0},{"$f":"IF($M260=\"GAZETTED - FIX PAY\",I260,0)","v":0},{"$f":"IF($M260=\"GAZETTED - FIX PAY\",J260,0)","v":0},{"$f":"IF($M260=\"GAZETTED - FIX PAY\",K260,0)","v":0},{"$f":"IF($M260=\"GAZETTED - FIX PAY\",L260,0)","v":0},0,"",{"$f":"IF(AND(CC260=\"\"),\"\",IF(CC260=0,\"\",1+(MAX(BQ$60:BQ259))))","v":""},201,{"$f":"IF($M260=\"NON GAZETTED - FIX PAY\",D260,0)","v":0},{"$f":"IF($M260=\"NON GAZETTED - FIX PAY\",E260,0)","v":0},{"$f":"IF($M260=\"NON GAZETTED - FIX PAY\",F260,0)","v":0},{"$f":"IF($M260=\"NON GAZETTED - FIX PAY\",G260,0)","v":0},{"$f":"IF($M260=\"NON GAZETTED - FIX PAY\",H260,0)","v":0},{"$f":"IF($M260=\"NON GAZETTED - FIX PAY\",I260,0)","v":0},{"$f":"IF($M260=\"NON GAZETTED - FIX PAY\",J260,0)","v":0},{"$f":"IF($M260=\"NON GAZETTED - FIX PAY\",K260,0)","v":0},{"$f":"IF($M260=\"NON GAZETTED - FIX PAY\",L260,0)","v":0},0,"",{"$f":"IF(AND(CP260=\"\"),\"\",IF(CP260=0,\"\",1+(MAX(CD$60:CD259))))","v":""},201,0,0,0,0,0,0,0,0,0,0,"",{"$f":"IF(AND(DC260=\"\"),\"\",IF(DC260=0,\"\",1+(MAX(CQ$60:CQ259))))","v":""},201,0,0,0,0,0,0,0,0,0,0,""]
[0,0,202,{"$nulls":24},"",1,{"$f":"IF(AND(AP261=\"\"),\"\",IF(AP261=0,\"\",1+(MAX(AD$60:AD260))))","v":""},202,0,0,0,0,0,0,0,0,0,0,"",{"$f":"IF(AND(BC261=\"\"),\"\",IF(BC261=0,\"\",1+(MAX(AQ$60:AQ260))))","v":""},202,0,0,0,0,0,0,0,0,0,0,"",{"$f":"IF(AND(BP261=\"\"),\"\",IF(BP261=0,\"\",1+(MAX(BD$60:BD260))))","v":""},202,0,0,0,0,0,0,0,0,0,0,"",{"$f":"IF(AND(CC261=\"\"),\"\",IF(CC261=0,\"\",1+(MAX(BQ$60:BQ260))))","v":""},202,0,0,0,0,0,0,0,0,0,0,"",{"$f":"IF(AND(CP261=\"\"),\"\",IF(CP261=0,\"\",1+(MAX(CD$60:CD260))))","v":""},202,0,0,0,0,0,0,0,0,0,0,"",{"$f":"IF(AND(DC261=\"\"),\"\",IF(DC261=0,\"\",1+(MAX(CQ$60:CQ260))))","v":""},202,0,0,0,0,0,0,0,0,0,0,""]
[0,0,203,{"$nulls":24},"",1,{"$f":"IF(AND(AP262=\"\"),\"\",IF(AP262=0,\"\",1+(MAX(AD$60:AD261))))","v":""},203,0,0,0,0,0,0,0,0,0,0,"",{"$f":"IF(AND(BC262=\"\"),\"\",IF(BC262=0,\"\",1+(MAX(AQ$60:AQ261))))","v":""},203,0,0,0,0,0,0,0,0,0,0,"",{"$f":"IF(AND(BP262=\"\"),\"\",IF(BP262=0,\"\",1+(MAX(BD$60:BD261))))","v":""},203,0,0,0,0,0,0,0,0,0,0,"",{"$f":"IF(AND(CC262=\"\"),\"\",IF(CC262=0,\"\",1+(MAX(BQ$60:BQ261))))","v":""},203,0,0,0,0,0,0,0,0,0,0,"",{"$f":"IF(AND(CP262=\"\"),\"\",IF(CP262=0,\"\",1+(MAX(CD$60:CD261))))","v":""},203,0,0,0,0,0,0,0,0,0,0,"",{"$f":"IF(AND(DC262=\"\"),\"\",IF(DC262=0,\"\",1+(MAX(CQ$60:CQ261))))","v":""},203,0,0,0,0,0,0,0,0,0,0,""]
[0,0,204,{"$nulls":24},"",1,{"$f":"IF(AND(AP263=\"\"),\"\",IF(AP263=0,\"\",1+(MAX(AD$60:AD262))))","v":""},204,0,0,0,0,0,0,0,0,0,0,"",{"$f":"IF(AND(BC263=\"\"),\"\",IF(BC263=0,\"\",1+(MAX(AQ$60:AQ262))))","v":""},204,0,0,0,0,0,0,0,0,0,0,"",{"$f":"IF(AND(BP263=\"\"),\"\",IF(BP263=0,\"\",1+(MAX(BD$60:BD262))))","v":""},204,0,0,0,0,0,0,0,0,0,0,"",{"$f":"IF(AND(CC263=\"\"),\"\",IF(CC263=0,\"\",1+(MAX(BQ$60:BQ262))))","v":""},204,0,0,0,0,0,0,0,0,0,0,"",{"$f":"IF(AND(CP263=\"\"),\"\",IF(CP263=0,\"\",1+(MAX(CD$60:CD262))))","v":""},204,0,0,0,0,0,0,0,0,0,0,"",{"$f":"IF(AND(DC263=\"\"),\"\",IF(DC263=0,\"\",1+(MAX(CQ$60:CQ262))))","v":""},204,0,0,0,0,0,0,0,0,0,0,""]
[0,0,205,{"$nulls":24},"",1,{"$f":"IF(AND(AP264=\"\"),\"\",IF(AP264=0,\"\",1+(MAX(AD$60:AD263))))","v":""},205,0,0,0,0,0,0,0,0,0,0,"",{"$f":"IF(AND(BC264=\"\"),\"\",IF(BC264=0,\"\",1+(MAX(AQ$60:AQ263))))","v":""},205,0,0,0,0,0,0,0,0,0,0,"",{"$f":"IF(AND(BP264=\"\"),\"\",IF(BP264=0,\"\",1+(MAX(BD$60:BD263))))","v":""},205,0,0,0,0,0,0,0,0,0,0,"",{"$f":"IF(AND(CC264=\"\"),\"\",IF(CC264=0,\"\",1+(MAX(BQ$60:BQ263))))","v":""},205,0,0,0,0,0,0,0,0,0,0,"",{"$f":"IF(AND(CP264=\"\"),\"\",IF(CP264=0,\"\",1+(MAX(CD$60:CD263))))","v":""},205,0,0,0,0,0,0,0,0,0,0,"",{"$f":"IF(AND(DC264=\"\"),\"\",IF(DC264=0,\"\",1+(MAX(CQ$60:CQ263))))","v":""},205,0,0,0,0,0,0,0,0,0,0,""]
[0,0,206,{"$nulls":24},"",1,{"$f":"IF(AND(AP265=\"\"),\"\",IF(AP265=0,\"\",1+(MAX(AD$60:AD264))))","v":""},206,0,0,0,0,0,0,0,0,0,0,"",{"$f":"IF(AND(BC265=\"\"),\"\",IF(BC265=0,\"\",1+(MAX(AQ$60:AQ264))))","v":""},206,0,0,0,0,0,0,0,0,0,0,"",{"$f":"IF(AND(BP265=\"\"),\"\",IF(BP265=0,\"\",1+(MAX(BD$60:BD264))))","v":""},206,0,0,0,0,0,0,0,0,0,0,"",{"$f":"IF(AND(CC265=\"\"),\"\",IF(CC265=0,\"\",1+(MAX(BQ$60:BQ264))))","v":""},206,0,0,0,0,0,0,0,0,0,0,"",{"$f":"IF(AND(CP265=\"\"),\"\",IF(CP265=0,\"\",1+(MAX(CD$60:CD264))))","v":""},206,0,0,0,0,0,0,0,0,0,0,"",{"$f":"IF(AND(DC265=\"\"),\"\",IF(DC265=0,\"\",1+(MAX(CQ$60:CQ264))))","v":""},206,0,0,0,0,0,0,0,0,0,0,""]
[0,0,207,{"$nulls":24},"",1,{"$f":"IF(AND(AP266=\"\"),\"\",IF(AP266=0,\"\",1+(MAX(AD$60:AD265))))","v":""},207,0,0,0,0,0,0,0,0,0,0,"",{"$f":"IF(AND(BC266=\"\"),\"\",IF(BC266=0,\"\",1+(MAX(AQ$60:AQ265))))","v":""},207,0,0,0,0,0,0,0,0,0,0,"",{"$f":"IF(AND(BP266=\"\"),\"\",IF(BP266=0,\"\",1+(MAX(BD$60:BD265))))","v":""},207,0,0,0,0,0,0,0,0,0,0,"",{"$f":"IF(AND(CC266=\"\"),\"\",IF(CC266=0,\"\",1+(MAX(BQ$60:BQ265))))","v":""},207,0,0,0,0,0,0,0,0,0,0,"",{"$f":"IF(AND(CP266=\"\"),\"\",IF(CP266=0,\"\",1+(MAX(CD$60:CD265))))","v":""},207,0,0,0,0,0,0,0,0,0,0,"",{"$f":"IF(AND(DC266=\"\"),\"\",IF(DC266=0,\"\",1+(MAX(CQ$60:CQ265))))","v":""},207,0,0,0,0,0,0,0,0,0,0,""]
[0,0,208,{"$nulls":24},"",1,{"$f":"IF(AND(AP267=\"\"),\"\",IF(AP267=0,\"\",1+(MAX(AD$60:AD266))))","v":""},208,0,0,0,0,0,0,0,0,0,0,"",{"$f":"IF(AND(BC267=\"\"),\"\",IF(BC267=0,\"\",1+(MAX(AQ$60:AQ266))))","v":""},208,0,0,0,0,0,0,0,0,0,0,"",{"$f":"IF(AND(BP267=\"\"),\"\",IF(BP267=0,\"\",1+(MAX(BD$60:BD266))))","v":""},208,0,0,0,0,0,0,0,0,0,0,"",{"$f":"IF(AND(CC267=\"\"),\"\",IF(CC267=0,\"\",1+(MAX(BQ$60:BQ266))))","v":""},208,0,0,0,0,0,0,0,0,0,0,"",{"$f":"IF(AND(CP267=\"\"),\"\",IF(CP267=0,\"\",1+(MAX(CD$60:CD266))))","v":""},208,0,0,0,0,0,0,0,0,0,0,"",{"$f":"IF(AND(DC267=\"\"),\"\",IF(DC267=0,\"\",1+(MAX(CQ$60:CQ266))))","v":""},208,0,0,0,0,0,0,0,0,0,0,""]
[0,0,209,{"$nulls":24},"",1,{"$f":"IF(AND(AP268=\"\"),\"\",IF(AP268=0,\"\",1+(MAX(AD$60:AD267))))","v":""},209,0,0,0,0,0,0,0,0,0,0,"",{"$f":"IF(AND(BC268=\"\"),\"\",IF(BC268=0,\"\",1+(MAX(AQ$60:AQ267))))","v":""},209,0,0,0,0,0,0,0,0,0,0,"",{"$f":"IF(AND(BP268=\"\"),\"\",IF(BP268=0,\"\",1+(MAX(BD$60:BD267))))","v":""},209,0,0,0,0,0,0,0,0,0,0,"",{"$f":"IF(AND(CC268=\"\"),\"\",IF(CC268=0,\"\",1+(MAX(BQ$60:BQ267))))","v":""},209,0,0,0,0,0,0,0,0,0,0,"",{"$f":"IF(AND(CP268=\"\"),\"\",IF(CP268=0,\"\",1+(MAX(CD$60:CD267))))","v":""},209,0,0,0,0,0,0,0,0,0,0,"",{"$f":"IF(AND(DC268=\"\"),\"\",IF(DC268=0,\"\",1+(MAX(CQ$60:CQ267))))","v":""},209,0,0,0,0,0,0,0,0,0,0,""]
[0,0,210,{"$nulls":24},"",1,{"$f":"IF(AND(AP269=\"\"),\"\",IF(AP269=0,\"\",1+(MAX(AD$60:AD268))))","v":""},210,0,0,0,0,0,0,0,0,0,0,"",{"$f":"IF(AND(BC269=\"\"),\"\",IF(BC269=0,\"\",1+(MAX(AQ$60:AQ268))))","v":""},210,0,0,0,0,0,0,0,0,0,0,"",{"$f":"IF(AND(BP269=\"\"),\"\",IF(BP269=0,\"\",1+(MAX(BD$60:BD268))))","v":""},210,0,0,0,0,0,0,0,0,0,0,"",{"$f":"IF(AND(CC269=\"\"),\"\",IF(CC269=0,\"\",1+(MAX(BQ$60:BQ268))))","v":""},210,0,0,0,0,0,0,0,0,0,0,"",{"$f":"IF(AND(CP269=\"\"),\"\",IF(CP269=0,\"\",1+(MAX(CD$60:CD268))))","v":""},210,0,0,0,0,0,0,0,0,0,0,"",{"$f":"IF(AND(DC269=\"\"),\"\",IF(DC269=0,\"\",1+(MAX(CQ$60:CQ268))))","v":""},210,0,0,0,0,0,0,0,0,0,0,""]
[0,0,211,{"$nulls":24},"",1,{"$f":"IF(AND(AP270=\"\"),\"\",IF(AP270=0,\"\",1+(MAX(AD$60:AD269))))","v":""},211,0,0,0,0,0,0,0,0,0,0,"",{"$f":"IF(AND(BC270=\"\"),\"\",IF(BC270=0,\"\",1+(MAX(AQ$60:AQ269))))","v":""},211,0,0,0,0,0,0,0,0,0,0,"",{"$f":"IF(AND(BP270=\"\"),\"\",IF(BP270=0,\"\",1+(MAX(BD$60:BD269))))","v":""},211,0,0,0,0,0,0,0,0,0,0,"",{"$f":"IF(AND(CC270=\"\"),\"\",IF(CC270=0,\"\",1+(MAX(BQ$60:BQ269))))","v":""},211,0,0,0,0,0,0,0,0,0,0,"",{"$f":"IF(AND(CP270=\"\"),\"\",IF(CP270=0,\"\",1+(MAX(CD$60:CD269))))","v":""},211,0,0,0,0,0,0,0,0,0,0,"",{"$f":"IF(AND(DC270=\"\"),\"\",IF(DC270=0,\"\",1+(MAX(CQ$60:CQ269))))","v":""},211,0,0,0,0,0,0,0,0,0,0,""]
[0,0,212,{"$nulls":24},"",1,{"$f":"IF(AND(AP271=\"\"),\"\",IF(AP271=0,\"\",1+(MAX(AD$60:AD270))))","v":""},212,0,0,0,0,0,0,0,0,0,0,"",{"$f":"IF(AND(BC271=\"\"),\"\",IF(BC271=0,\"\",1+(MAX(AQ$60:AQ270))))","v":""},212,0,0,0,0,0,0,0,0,0,0,"",{"$f":"IF(AND(BP271=\"\"),\"\",IF(BP271=0,\"\",1+(MAX(BD$60:BD270))))","v":""},212,0,0,0,0,0,0,0,0,0,0,"",{"$f":"IF(AND(CC271=\"\"),\"\",IF(CC271=0,\"\",1+(MAX(BQ$60:BQ270))))","v":""},212,0,0,0,0,0,0,0,0,0,0,"",{"$f":"IF(AND(CP271=\"\"),\"\",IF(CP271=0,\"\",1+(MAX(CD$60:CD270))))","v":""},212,0,0,0,0,0,0,0,0,0,0,"",{"$f":"IF(AND(DC271=\"\"),\"\",IF(DC271=0,\"\",1+(MAX(CQ$60:CQ270))))","v":""},212,0,0,0,0,0,0,0,0,0,0,""]
[0,0,213,{"$nulls":24},"",1,{"$f":"IF(AND(AP272=\"\"),\"\",IF(AP272=0,\"\",1+(MAX(AD$60:AD271))))","v":""},213,0,0,0,0,0,0,0,0,0,0,"",{"$f":"IF(AND(BC272=\"\"),\"\",IF(BC272=0,\"\",1+(MAX(AQ$60:AQ271))))","v":""},213,0,0,0,0,0,0,0,0,0,0,"",{"$f":"IF(AND(BP272=\"\"),\"\",IF(BP272=0,\"\",1+(MAX(BD$60:BD271))))","v":""},213,0,0,0,0,0,0,0,0,0,0,"",{"$f":"IF(AND(CC272=\"\"),\"\",IF(CC272=0,\"\",1+(MAX(BQ$60:BQ271))))","v":""},213,0,0,0,0,0,0,0,0,0,0,"",{"$f":"IF(AND(CP272=\"\"),\"\",IF(CP272=0,\"\",1+(MAX(CD$60:CD271))))","v":""},213,0,0,0,0,0,0,0,0,0,0,"",{"$f":"IF(AND(DC272=\"\"),\"\",IF(DC272=0,\"\",1+(MAX(CQ$60:CQ271))))","v":""},213,0,0,0,0,0,0,0,0,0,0,""]
[0,0,214,{"$nulls":24},"",1,{"$f":"IF(AND(AP273=\"\"),\"\",IF(AP273=0,\"\",1+(MAX(AD$60:AD272))))","v":""},214,0,0,0,0,0,0,0,0,0,0,"",{"$f":"IF(AND(BC273=\"\"),\"\",IF(BC273=0,\"\",1+(MAX(AQ$60:AQ272))))","v":""},214,0,0,0,0,0,0,0,0,0,0,"",{"$f":"IF(AND(BP273=\"\"),\"\",IF(BP273=0,\"\",1+(MAX(BD$60:BD272))))","v":""},214,0,0,0,0,0,0,0,0,0,0,"",{"$f":"IF(AND(CC273=\"\"),\"\",IF(CC273=0,\"\",1+(MAX(BQ$60:BQ272))))","v":""},214,0,0,0,0,0,0,0,0,0,0,"",{"$f":"IF(AND(CP273=\"\"),\"\",IF(CP273=0,\"\",1+(MAX(CD$60:CD272))))","v":""},214,0,0,0,0,0,0,0,0,0,0,"",{"$f":"IF(AND(DC273=\"\"),\"\",IF(DC273=0,\"\",1+(MAX(CQ$60:CQ272))))","v":""},214,0,0,0,0,0,0,0,0,0,0,""]
[0,0,215,{"$nulls":24},"",1,{"$f":"IF(AND(AP274=\"\"),\"\",IF(AP274=0,\"\",1+(MAX(AD$60:AD273))))","v":""},215,0,0,0,0,0,0,0,0,0,0,"",{"$f":"IF(AND(BC274=\"\"),\"\",IF(BC274=0,\"\",1+(MAX(AQ$60:AQ273))))","v":""},215,0,0,0,0,0,0,0,0,0,0,"",{"$f":"IF(AND(BP274=\"\"),\"\",IF(BP274=0,\"\",1+(MAX(BD$60:BD273))))","v":""},215,0,0,0,0,0,0,0,0,0,0,"",{"$f":"IF(AND(CC274=\"\"),\"\",IF(CC274=0,\"\",1+(MAX(BQ$60:BQ273))))","v":""},215,0,0,0,0,0,0,0,0,0,0,"",{"$f":"IF(AND(CP274=\"\"),\"\",IF(CP274=0,\"\",1+(MAX(CD$60:CD273))))","v":""},215,0,0,0,0,0,0,0,0,0,0,"",{"$f":"IF(AND(DC274=\"\"),\"\",IF(DC274=0,\"\",1+(MAX(CQ$60:CQ273))))","v":""},215,0,0,0,0,0,0,0,0,0,0,""]
[0,0,216,{"$nulls":24},"",1,{"$f":"IF(AND(AP275=\"\"),\"\",IF(AP275=0,\"\",1+(MAX(AD$60:AD274))))","v":""},216,0,0,0,0,0,0,0,0,0,0,"",{"$f":"IF(AND(BC275=\"\"),\"\",IF(BC275=0,\"\",1+(MAX(AQ$60:AQ274))))","v":""},216,0,0,0,0,0,0,0,0,0,0,"",{"$f":"IF(AND(BP275=\"\"),\"\",IF(BP275=0,\"\",1+(MAX(BD$60:BD274))))","v":""},216,0,0,0,0,0,0,0,0,0,0,"",{"$f":"IF(AND(CC275=\"\"),\"\",IF(CC275=0,\"\",1+(MAX(BQ$60:BQ274))))","v":""},216,0,0,0,0,0,0,0,0,0,0,"",{"$f":"IF(AND(CP275=\"\"),\"\",IF(CP275=0,\"\",1+(MAX(CD$60:CD274))))","v":""},216,0,0,0,0,0,0,0,0,0,0,"",{"$f":"IF(AND(DC275=\"\"),\"\",IF(DC275=0,\"\",1+(MAX(CQ$60:CQ274))))","v":""},216,0,0,0,0,0,0,0,0,0,0,""]
[0,0,217,{"$nulls":24},"",1,{"$f":"IF(AND(AP276=\"\"),\"\",IF(AP276=0,\"\",1+(MAX(AD$60:AD275))))","v":""},217,0,0,0,0,0,0,0,0,0,0,"",{"$f":"IF(AND(BC276=\"\"),\"\",IF(BC276=0,\"\",1+(MAX(AQ$60:AQ275))))","v":""},217,0,0,0,0,0,0,0,0,0,0,"",{"$f":"IF(AND(BP276=\"\"),\"\",IF(BP276=0,\"\",1+(MAX(BD$60:BD275))))","v":""},217,0,0,0,0,0,0,0,0,0,0,"",{"$f":"IF(AND(CC276=\"\"),\"\",IF(CC276=0,\"\",1+(MAX(BQ$60:BQ275))))","v":""},217,0,0,0,0,0,0,0,0,0,0,"",{"$f":"IF(AND(CP276=\"\"),\"\",IF(CP276=0,\"\",1+(MAX(CD$60:CD275))))","v":""},217,0,0,0,0,0,0,0,0,0,0,"",{"$f":"IF(AND(DC276=\"\"),\"\",IF(DC276=0,\"\",1+(MAX(CQ$60:CQ275))))","v":""},217,0,0,0,0,0,0,0,0,0,0,""]
[0,0,218,{"$nulls":24},{"$f":"MID(H277,5,4)","v":""},1,{"$f":"IF(AND(AP277=\"\"),\"\",IF(AP277=0,\"\",1+(MAX(AD$60:AD276))))","v":""},218,0,0,0,0,0,0,0,0,0,0,"",{"$f":"IF(AND(BC277=\"\"),\"\",IF(BC277=0,\"\",1+(MAX(AQ$60:AQ276))))","v":""},218,0,0,0,0,0,0,0,0,0,0,"",{"$f":"IF(AND(BP277=\"\"),\"\",IF(BP277=0,\"\",1+(MAX(BD$60:BD276))))","v":""},218,0,0,0,0,0,0,0,0,0,0,"",{"$f":"IF(AND(CC277=\"\"),\"\",IF(CC277=0,\"\",1+(MAX(BQ$60:BQ276))))","v":""},218,0,0,0,0,0,0,0,0,0,0,"",{"$f":"IF(AND(CP277=\"\"),\"\",IF(CP277=0,\"\",1+(MAX(CD$60:CD276))))","v":""},218,0,0,0,0,0,0,0,0,0,0,"",{"$f":"IF(AND(DC277=\"\"),\"\",IF(DC277=0,\"\",1+(MAX(CQ$60:CQ276))))","v":""},218,0,0,0,0,0,0,0,0,0,0,""]
[0,0,219,{"$nulls":24},{"$f":"MID(H278,5,4)","v":""},1,{"$f":"IF(AND(AP278=\"\"),\"\",IF(AP278=0,\"\",1+(MAX(AD$60:AD277))))","v":""},219,{"$f":"IF($M278=\"GAZETTED - REGULAR\",D278,0)","v":0},0,0,0,0,0,0,0,0,{"$f":"IF($M278=\"GAZETTED - REGULAR\",M278,0)","v":0},"",{"$f":"IF(AND(BC278=\"\"),\"\",IF(BC278=0,\"\",1+(MAX(AQ$60:AQ277))))","v":""},219,0,0,0,0,0,0,0,0,0,{"$f":"IF($M278=\"NON GAZETTED - REGULAR\",M278,0)","v":0},"",{"$f":"IF(AND(BP278=\"\"),\"\",IF(BP278=0,\"\",1+(MAX(BD$60:BD277))))","v":""},219,0,0,0,0,0,0,0,0,0,{"$f":"IF($M278=\"GAZETTED - FIX PAY\",M278,0)","v":0},"",{"$f":"IF(AND(CC278=\"\"),\"\",IF(CC278=0,\"\",1+(MAX(BQ$60:BQ277))))","v":""},219,0,0,0,0,0,0,0,0,0,{"$f":"IF($M278=\"NON GAZETTED - FIX PAY\",M278,0)","v":0},"",{"$f":"IF(AND(CP278=\"\"),\"\",IF(CP278=0,\"\",1+(MAX(CD$60:CD277))))","v":""},219,{"$f":"IF($M278=\"GAZETTED - SANVIDA\",D278,0)","v":0},0,0,0,0,0,0,0,0,0,"",{"$f":"IF(AND(DC278=\"\"),\"\",IF(DC278=0,\"\",1+(MAX(CQ$60:CQ277))))","v":""},219,0,{"$f":"IF($M278=\"NON GAZETTED - SANVIDA\",E278,0)","v":0},0,0,0,0,0,0,0,0,""]
[0,0,220,{"$nulls":24},"",1,{"$f":"IF(AND(AP279=\"\"),\"\",IF(AP279=0,\"\",1+(MAX(AD$60:AD278))))","v":""},220,0,0,0,0,0,0,0,0,{"$f":"IF($M279=\"GAZETTED - REGULAR\",L279,0)","v":0},0,"",{"$f":"IF(AND(BC279=\"\"),\"\",IF(BC279=0,\"\",1+(MAX(AQ$60:AQ278))))","v":""},220,0,0,0,0,0,0,0,0,0,0,"",{"$f":"IF(AND(BP279=\"\"),\"\",IF(BP279=0,\"\",1+(MAX(BD$60:BD278))))","v":""},220,0,0,0,0,0,0,0,0,0,0,"",{"$f":"IF(AND(CC279=\"\"),\"\",IF(CC279=0,\"\",1+(MAX(BQ$60:BQ278))))","v":""},220,0,0,0,0,0,0,0,0,0,0,"",{"$f":"IF(AND(CP279=\"\"),\"\",IF(CP279=0,\"\",1+(MAX(CD$60:CD278))))","v":""},220,0,0,0,0,0,0,0,0,0,0,"",{"$f":"IF(AND(DC279=\"\"),\"\",IF(DC279=0,\"\",1+(MAX(CQ$60:CQ278))))","v":""},220,0,0,0,0,0,0,0,0,0,0,""]
[0,0,221,{"$nulls":24},"",1,{"$f":"IF(AND(AP280=\"\"),\"\",IF(AP280=0,\"\",1+(MAX(AD$60:AD279))))","v":""},221,0,0,0,0,0,0,0,0,0,0,"",{"$f":"IF(AND(BC280=\"\"),\"\",IF(BC280=0,\"\",1+(MAX(AQ$60:AQ279))))","v":""},221,0,0,0,0,0,0,0,0,0,0,"",{"$f":"IF(AND(BP280=\"\"),\"\",IF(BP280=0,\"\",1+(MAX(BD$60:BD279))))","v":""},221,0,0,0,0,0,0,0,0,0,0,"",{"$f":"IF(AND(CC280=\"\"),\"\",IF(CC280=0,\"\",1+(MAX(BQ$60:BQ279))))","v":""},221,0,0,0,0,0,0,0,0,0,0,"",{"$f":"IF(AND(CP280=\"\"),\"\",IF(CP280=0,\"\",1+(MAX(CD$60:CD279))))","v":""},221,0,0,0,0,0,0,0,0,0,0,"",{"$f":"IF(AND(DC280=\"\"),\"\",IF(DC280=0,\"\",1+(MAX(CQ$60:CQ279))))","v":""},221,0,0,0,0,0,0,0,0,0,0,""]
[0,0,222,{"$nulls":24},"",1,{"$f":"IF(AND(AP281=\"\"),\"\",IF(AP281=0,\"\",1+(MAX(AD$60:AD280))))","v":""},222,0,0,0,0,0,0,0,0,0,0,"",{"$f":"IF(AND(BC281=\"\"),\"\",IF(BC281=0,\"\",1+(MAX(AQ$60:AQ280))))","v":""},222,0,0,0,0,0,0,0,0,0,0,"",{"$f":"IF(AND(BP281=\"\"),\"\",IF(BP281=0,\"\",1+(MAX(BD$60:BD280))))","v":""},222,0,0,0,0,0,0,0,0,0,0,"",{"$f":"IF(AND(CC281=\"\"),\"\",IF(CC281=0,\"\",1+(MAX(BQ$60:BQ280))))","v":""},222,0,0,0,0,0,0,0,0,0,0,"",{"$f":"IF(AND(CP281=\"\"),\"\",IF(CP281=0,\"\",1+(MAX(CD$60:CD280))))","v":""},222,0,0,0,0,0,0,0,0,0,0,"",{"$f":"IF(AND(DC281=\"\"),\"\",IF(DC281=0,\"\",1+(MAX(CQ$60:CQ280))))","v":""},222,0,0,0,0,0,0,0,0,0,0,""]
[0,0,223,{"$nulls":24},"",1,{"$f":"IF(AND(AP282=\"\"),\"\",IF(AP282=0,\"\",1+(MAX(AD$60:AD281))))","v":""},223,0,0,0,0,0,0,0,0,0,0,"",{"$f":"IF(AND(BC282=\"\"),\"\",IF(BC282=0,\"\",1+(MAX(AQ$60:AQ281))))","v":""},223,0,0,0,0,0,0,0,0,0,0,"",{"$f":"IF(AND(BP282=\"\"),\"\",IF(BP282=0,\"\",1+(MAX(BD$60:BD281))))","v":""},223,0,0,0,0,0,0,0,0,0,0,"",{"$f":"IF(AND(CC282=\"\"),\"\",IF(CC282=0,\"\",1+(MAX(BQ$60:BQ281))))","v":""},223,0,0,0,0,0,0,0,0,0,0,"",{"$f":"IF(AND(CP282=\"\"),\"\",IF(CP282=0,\"\",1+(MAX(CD$60:CD281))))","v":""},223,0,0,0,0,0,0,0,0,0,0,"",{"$f":"IF(AND(DC282=\"\"),\"\",IF(DC282=0,\"\",1+(MAX(CQ$60:CQ281))))","v":""},223,0,0,0,0,0,0,0,0,0,0,""]
[0,0,224,{"$nulls":24},"",1,{"$f":"IF(AND(AP283=\"\"),\"\",IF(AP283=0,\"\",1+(MAX(AD$60:AD282))))","v":""},224,0,0,0,0,0,0,0,0,0,0,"",{"$f":"IF(AND(BC283=\"\"),\"\",IF(BC283=0,\"\",1+(MAX(AQ$60:AQ282))))","v":""},224,0,0,0,0,0,0,0,0,0,0,"",{"$f":"IF(AND(BP283=\"\"),\"\",IF(BP283=0,\"\",1+(MAX(BD$60:BD282))))","v":""},224,0,0,0,0,0,0,0,0,0,0,"",{"$f":"IF(AND(CC283=\"\"),\"\",IF(CC283=0,\"\",1+(MAX(BQ$60:BQ282))))","v":""},224,0,0,0,0,0,0,0,0,0,0,"",{"$f":"IF(AND(CP283=\"\"),\"\",IF(CP283=0,\"\",1+(MAX(CD$60:CD282))))","v":""},224,0,0,0,0,0,0,0,0,0,0,"",{"$f":"IF(AND(DC283=\"\"),\"\",IF(DC283=0,\"\",1+(MAX(CQ$60:CQ282))))","v":""},224,0,0,0,0,0,0,0,0,0,0,""]
[0,0,225,{"$nulls":24},"",1,{"$f":"IF(AND(AP284=\"\"),\"\",IF(AP284=0,\"\",1+(MAX(AD$60:AD283))))","v":""},225,0,0,0,0,0,0,0,0,0,0,"",{"$f":"IF(AND(BC284=\"\"),\"\",IF(BC284=0,\"\",1+(MAX(AQ$60:AQ283))))","v":""},225,0,0,0,0,0,0,0,0,0,0,"",{"$f":"IF(AND(BP284=\"\"),\"\",IF(BP284=0,\"\",1+(MAX(BD$60:BD283))))","v":""},225,0,0,0,0,0,0,0,0,0,0,"",{"$f":"IF(AND(CC284=\"\"),\"\",IF(CC284=0,\"\",1+(MAX(BQ$60:BQ283))))","v":""},225,0,0,0,0,0,0,0,0,0,0,"",{"$f":"IF(AND(CP284=\"\"),\"\",IF(CP284=0,\"\",1+(MAX(CD$60:CD283))))","v":""},225,0,0,0,0,0,0,0,0,0,0,"",{"$f":"IF(AND(DC284=\"\"),\"\",IF(DC284=0,\"\",1+(MAX(CQ$60:CQ283))))","v":""},225,0,0,0,0,0,0,0,0,0,0,""]
[0,0,226,{"$nulls":24},"",1,{"$f":"IF(AND(AP285=\"\"),\"\",IF(AP285=0,\"\",1+(MAX(AD$60:AD284))))","v":""},226,0,0,0,0,0,0,0,0,0,0,"",{"$f":"IF(AND(BC285=\"\"),\"\",IF(BC285=0,\"\",1+(MAX(AQ$60:AQ284))))","v":""},226,0,0,0,0,0,0,0,0,0,0,"",{"$f":"IF(AND(BP285=\"\"),\"\",IF(BP285=0,\"\",1+(MAX(BD$60:BD284))))","v":""},226,0,0,0,0,0,0,0,0,0,0,"",{"$f":"IF(AND(CC285=\"\"),\"\",IF(CC285=0,\"\",1+(MAX(BQ$60:BQ284))))","v":""},226,0,0,0,0,0,0,0,0,0,0,"",{"$f":"IF(AND(CP285=\"\"),\"\",IF(CP285=0,\"\",1+(MAX(CD$60:CD284))))","v":""},226,0,0,0,0,0,0,0,0,0,0,"",{"$f":"IF(AND(DC285=\"\"),\"\",IF(DC285=0,\"\",1+(MAX(CQ$60:CQ284))))","v":""},226,0,0,0,0,0,0,0,0,0,0,""]
[null,null,"dk;kZy;@fo|ky; esa dk;Zjr@LFkkukUrfjr@lsokfuo`r deZpkfj;ksa isafMax ;k=k HkRrk ds O;; vkadMksa dh uhps izfof\"B djsa A",{"$nulls":24},{"$f":"MID(H286,5,4)","v":""},{"$nulls":68},{"$f":"IF($M286=\"NON GAZETTED - SANVIDA\",D286,0)","v":0},0,0,0,0,0,0,0,0,0,""]
[null,null,"Ø-la-","deZpkjh dk uke","in","inLFkkiu LFkku","UP TO","FY","FY","FY","FY","FY","TOTAL"]
[{"$nulls":6},"2019-03-31","2019-20","2020-21","2021-22","2022-23","2023-24"]
[null,null,1,{"$nulls":9},{"$f":"SUM(G289:L289)","v":0}]
[null,null,2,{"$nulls":9},{"$f":"SUM(G290:L290)","v":0}]
[null,null,3,{"$nulls":9},0]
[null,null,4,{"$nulls":9},0]
[null,null,5,{"$nulls":9},0]
[null,null,6,{"$nulls":9},0]
[null,null,7,{"$nulls":9},0]
[null,null,8,{"$nulls":9},0]
[null,null,9,{"$nulls":9},0]
[null,null,10,{"$nulls":9},0]
[null,null,11,{"$nulls":9},0]
[null,null,12,{"$nulls":9},0]
[null,null,13,{"$nulls":9},0]
[null,null,14,{"$nulls":9},0]
[null,null,15,{"$nulls":9},0]
[null,null,16,{"$nulls":9},0]
[null,null,17,{"$nulls":9},0]
[null,null,18,{"$nulls":9},0]
[null,null,19,{"$nulls":9},0]
[null,null,20,{"$nulls":9},0]
[null,null,21,{"$nulls":9},0]
[null,null,22,{"$nulls":9},0]
[null,null,23,{"$nulls":9},0]
[null,null,24,{"$nulls":9},0]
[null,null,25,{"$nulls":9},0]
[null,null,26,{"$nulls":9},0]
[null,null,27,{"$nulls":9},0]
[null,null,28,{"$nulls":9},0]
[null,null,29,{"$nulls":9},0]
[null,null,30,{"$nulls":9},0]
[null,null,31,{"$nulls":9},0]
[null,null,32,{"$nulls":9},0]
[null,null,33,{"$nulls":9},0]
[null,null,34,{"$nulls":9},0]
[null,null,35,{"$nulls":9},0]
[null,null,36,{"$nulls":9},0]
[null,null,37,{"$nulls":9},0]
[null,null,38,{"$nulls":9},0]
[null,null,39,{"$nulls":9},0]
[null,null,40,{"$nulls":9},0]
[{"$nulls":3},"dqy ;ksx",null,null,{"$f":"SUM(G289:G304)","v":0},{"$f":"SUM(H289:H304)","v":0},{"$f":"SUM(I289:I304)","v":0},{"$f":"SUM(J289:J304)","v":0},{"$f":"SUM(K289:K304)","v":0},{"$f":"SUM(L289:L328)","v":0},{"$f":"SUM(G329:L329)","v":0}]
[null,null,"dk;kZy;@fo|ky; esa dk;Zjr@LFkkukUrfjr@lsokfuo`r deZpkfj;ksa isafMax fpfdRlk O;; ds vkadMksa dh uhps izfof\"B djsa A"]
[null,null,"Ø-la-","deZpkjh dk uke","in","inLFkkiu LFkku","UP TO","FY","FY","FY","FY","FY","TOTAL"]
[{"$nulls":6},{"$f":"G288","v":"2019-03-31"},{"$f":"H288","v":"2019-20"},"2020-21","2021-22","2022-23","2023-24"]
[null,null,1,{"$nulls":9},{"$f":"SUM(G333:L333)","v":0}]
[null,null,2,{"$nulls":9},{"$f":"SUM(G334:L334)","v":0}]
[null,null,3,{"$nulls":9},0]
[null,null,4,{"$nulls":9},0]
[null,null,5,{"$nulls":9},0]
[null,null,6,{"$nulls":9},0]
[null,null,7,{"$nulls":9},0]
[null,null,8,{"$nulls":9},0]
[null,null,9,{"$nulls":9},0]
[null,null,10,{"$nulls":9},0]
[null,null,11,{"$nulls":9},0]
[null,null,12,{"$nulls":9},0]
[null,null,13,{"$nulls":9},0]
[null,null,14,{"$nulls":9},0]
[null,null,15,{"$nulls":9},0]
[null,null,16,{"$nulls":9},0]
[null,null,17,{"$nulls":9},0]
[null,null,18,{"$nulls":9},0]
[null,null,19,{"$nulls":9},0]
[null,null,20,{"$nulls":9},0]
[null,null,21,{"$nulls":9},0]
[null,null,22,{"$nulls":9},0]
[null,null,23,{"$nulls":9},0]
[null,null,24,{"$nulls":9},0]
[null,null,25,{"$nulls":9},0]
[null,null,26,{"$nulls":9},0]
[null,null,27,{"$nulls":9},0]
[null,null,28,{"$nulls":9},0]
[null,null,29,{"$nulls":9},0]
[null,null,30,{"$nulls":9},0]
[null,null,31,{"$nulls":9},0]
[null,null,32,{"$nulls":9},0]
[null,null,33,{"$nulls":9},0]
[null,null,34,{"$nulls":9},0]
[null,null,35,{"$nulls":9},0]
[null,null,36,{"$nulls":9},0]
[null,null,37,{"$nulls":9},0]
[null,null,38,{"$nulls":9},0]
[null,null,39,{"$nulls":9},0]
[null,null,40,{"$nulls":9},0]
[{"$nulls":3},"dqy ;ksx",null,null,{"$f":"SUM(G333:G348)","v":0},0,0,0,0,0,{"$f":"SUM(G373:L373)","v":0}]
{"$rows_empty":60}
[{"$nulls":4},{"$f":"'Format 1A'!D9","v":"PRINCIPAL"}]
[{"$nulls":4},{"$f":"'Format 1A'!D10","v":"VICE PRINCIPAL"}]
[{"$nulls":4},{"$f":"'Format 1A'!D11","v":"LECTURER"}]
[{"$nulls":4},{"$f":"'Format 1A'!D12","v":"TEACHER-I"}]
[{"$nulls":4},{"$f":"'Format 1A'!D13","v":"PTI  I"}]
[{"$nulls":4},{"$f":"'Format 1A'!D14","v":"AGRICULTURE TEACH"}]
[{"$nulls":4},{"$f":"'Format 1A'!D15","v":"INSTRUCTOR"}]
[{"$nulls":4},{"$f":"'Format 1A'!D16","v":"LIBRARIAN I"}]
[{"$nulls":4},{"$f":"'Format 1A'!D17","v":"BASIC COMPUTER INST."}]
[{"$nulls":4},{"$f":"'Format 1A'!D18","v":"TEACHER-II"}]
[{"$nulls":4},{"$f":"'Format 1A'!D19","v":"PTI II"}]
[{"$nulls":4},{"$f":"'Format 1A'!D20","v":"LIBRARIAN II"}]
[{"$nulls":4},{"$f":"'Format 1A'!D21","v":"LAB ASST"}]
[{"$nulls":4},{"$f":"'Format 1A'!D22","v":"CLERK GRADE I"}]
[{"$nulls":4},{"$f":"'Format 1A'!D23","v":"PTI  III"}]
[{"$nulls":4},{"$f":"'Format 1A'!D24","v":"TEACHER-III"}]
[{"$nulls":4},{"$f":"'Format 1A'!D25","v":"LIBRARIAN III"}]
[{"$nulls":4},{"$f":"'Format 1A'!D26","v":"LAB ASST"}]
[{"$nulls":4},{"$f":"'Format 1A'!D27","v":"CLERK GRADE II"}]
[{"$nulls":4},{"$f":"'Format 1A'!D28","v":"FIELDMAN & FIELD REC"}]
[{"$nulls":4},{"$f":"'Format 1A'!D29","v":"LAB BOY"}]
[{"$nulls":4},{"$f":"'Format 1A'!D30","v":"JAMADAR"}]
[{"$nulls":4},{"$f":"'Format 1A'!D31","v":"PEON"}]
[{"$nulls":4},{"$f":"'Format 1A'!D32","v":"Sanvida Employee"}]

{"sheet":"Cover Page","index":2,"n_rows":12,"n_cols":1,"rows_kept":12,"merged":[[0,0,1,12],[0,13,13,13],[2,0,2,12],[3,0,4,12],[5,0,5,12],[6,0,7,12],[8,0,8,12],[9,0,10,12],[11,0,12,12],[13,0,13,12]]}
[{"$f":"CONCATENATE(Master!E2,\" \",Master!H2,\" \",\"¼\",Master!C3,\"&\",Master!E3,\"½\")","v":"ç/kkukpk;Z] jkmekfo jk;eyok³k ¼vkWfQl vkbZ-Mh- la[;k %&12345½"}]
[]
[]
[{"$f":"CONCATENATE('[1]Formet 8'!A4:N4,'[1]Formet 8'!A5:N5)","v":"fuf'pr O;;ksa ds foLr`r vuqeku vFkkZr vf/kdkfj;ksa o deZpkfj;ksa ds osru vuqeku o\"kZ ¼vizSy ls ekpZ rd½"}]
[]
[{"$f":"'Formet 9'!J5","v":"2023-24"}]
["Budget Head"]
[]
[]
[{"$f":"abc!A3","v":"2202-02-109-(07)-(01) (STATE FUND+CENTRAL ASS.)"}]
[]
[{"$f":"abc!A4","v":"BUDGET HEAD : 2202 -सामान्य शिक्षा-02-109 -राजकीय माध्यमिक विद्यालय-07 -राष्ट्रीय माध्यमिक शिक्षा अभियान-01 -माध्यमिक शिक्षा अभियान- सामान्य व्यय (S.F. + C.A.)"}]

{"sheet":"forwarding letter","index":3,"n_rows":19,"n_cols":3,"rows_kept":19,"merged":[[0,0,0,2],[0,3,19,3],[1,0,1,1],[8,0,9,0],[8,1,9,2],[11,0,13,2]]}
[{"$f":"'Cover Page'!A1","v":"ç/kkukpk;Z] jkmekfo jk;eyok³k ¼vkWfQl vkbZ-Mh- la[;k %&12345½"}]
["Øekad %",null,"fnukad %            "]
[]
["iszf\"kr]"]
[null,"Jheku~ eq[; ys[kkf/kdkjh"]
[null,"çkjfEHkd f'k{kk ¼f'k{kk foHkkx½"]
[null,"chdkusjA"]
[]
["fo\"k; %& ","la'kksf/kr ctV vuqeku l= 2023&24 ,oa vk;&O;;d vuqeku 2024&25 izLrqr djus ckcr A"]
[]
["egksn;]"]
["          mijksDr fo\"k; esa fuosnu gS fd LFkkuh; fo|ky;@dk;kZy; esa dk;Zjr deZpkfj;ksa ,oa dk;kZy; v/khu dkfeZdksa dk la'kksf/kr ctV vuqeku l= 2023&24 ,oa vk;&O;;d vuqeku 2024&25 fu/kkZfjr izi= esa rS;kj dj LFkkuh; dk;kZy; ds dkfeZd Jh -------------------------------------------------------------------------------------------------------------------- ds lkFk vko';d dk;Zokgh gsrq Jheku dh lsok esa lknj iszf\"kr gS A"]
[]
[]
["layXu %&"]
[]
[]
[null,null,{"$f":"Master!E2","v":"ç/kkukpk;Z]"}]
[null,null,{"$f":"Master!H2","v":"jkmekfo jk;eyok³k"}]

{"sheet":"abc","index":4,"n_rows":32,"n_cols":4,"rows_kept":32,"merged":[[0,0,0,3],[0,4,33,4],[1,0,1,3],[2,0,2,1],[3,0,3,3],[4,0,4,1],[5,0,5,1],[6,0,6,1],[7,0,7,1],[8,0,8,1],[9,0,9,1],[10,0,10,1],[11,0,11,1],[12,0,12,1],[13,0,13,1],[14,0,14,1],[15,0,15,1],[16,0,16,1],[17,0,17,1],[18,0,18,1],[19,0,19,1],[20,0,20,1],[25,0,25,1],[26,0,26,1],[27,0,27,1],[28,0,28,1],[29,0,29,1],[30,0,30,3],[31,0,33,2],[31,3,33,3]]}
["izi= v] c] l"]
[{"$f":"'Cover Page'!A1","v":"ç/kkukpk;Z] jkmekfo jk;eyok³k ¼vkWfQl vkbZ-Mh- la[;k %&12345½"}]
[{"$f":"Master!G5","v":"2202-02-109-(07)-(01) (STATE FUND+CENTRAL ASS.)"},null,"MhMhvks dksM&",{"$f":"Master!E3","v":12345}]
[{"$f":"'Formet 9'!A7:T7","v":"BUDGET HEAD : 2202 -सामान्य शिक्षा-02-109 -राजकीय माध्यमिक विद्यालय-07 -राष्ट्रीय माध्यमिक शिक्षा अभियान-01 -माध्यमिक शिक्षा अभियान- सामान्य व्यय (S.F. + C.A.)"}]
["en",null,"la'kksf/kr vuqeku\n2023&24","vk;O;;d vuqeku 2024&25"]
["¼1½- laosru"]
["d- osru jktif=r",null,{"$f":"Summary!B8","v":823600},{"$f":"Summary!C8","v":848400}]
["[k- osru vjktif=r",null,{"$f":"Summary!B9","v":2967200},{"$f":"Summary!C9","v":3057200}]
[";ksx osru & ¼ d ls [k rd ½",null,{"$f":"Summary!B10","v":3790800},{"$f":"Summary!C10","v":3905600}]
["HkRrs ,oa ekuns; &",null,{"$f":"Summary!B11","v":0},{"$f":"Summary!C11","v":0}]
["1- eagxkbZ HkRrk 17 izfr'kr",null,{"$f":"Summary!B12","v":1592136},{"$f":"Summary!C12","v":1640352}]
["2- Mh-,-,fj;j 5 çfr-",null,{"$f":"Summary!B13","v":38280},{"$f":"Summary!C13","v":{"v":77708.40000000001,"d":"77708"}}]
["3- fLFkjhdj.k ,fj;j",null,{"$f":"Summary!B14","v":0},{"$f":"Summary!C14","v":744610}]
["4- edku fdjk;k 8 çfr'kr",null,{"$f":"Summary!B15","v":341172},{"$f":"Summary!C15","v":351504}]
["5- lefiZr vodk'k osru ¼15 fnol½",null,{"$f":"Summary!B16","v":219887},{"$f":"Summary!C16","v":226490}]
["6- 'kgjh HkRrk",null,{"$f":"Summary!B17","v":0},{"$f":"Summary!C17","v":0}]
["7- cksul",null,{"$f":"Summary!B18","v":121932},{"$f":"Summary!C18","v":121932}]
["8-fn-20-01-06 ls fu;qDr dkfeZdksa dks fu;r ikfjJfed ¼ fQDl is ½",null,{"$f":"Summary!B19","v":483600},{"$f":"Summary!C19","v":483600}]
["9- alafonk dkfeZdksa dks fu;r ikfjJfed ¼ fQDl is ½",null,{"$f":"Summary!B20","v":393600},{"$f":"Summary!C20","v":393600}]
["10- ç-v- HkRrk",null,{"$f":"Summary!B21","v":0},{"$f":"Summary!C21","v":0}]
["11- jksdM HkRrk",null,{"$f":"Summary!B22","v":0},{"$f":"Summary!C22","v":0}]
["12- /kqykbZ HkRrk",null,{"$f":"Summary!B23","v":0},{"$f":"Summary!C23","v":0}]
["13- lkbZfdy HkRrk",null,{"$f":"Summary!B24","v":0},{"$f":"Summary!C24","v":0}]
["14- fodykax HkRrk",null,{"$f":"Summary!B25","v":0},{"$f":"Summary!C25","v":0}]
["13- vU; HkRrs",null,{"$f":"Summary!B26","v":0},{"$f":"Summary!C26","v":0}]
[";ksx&¼ 1ls 14 ½ HkRrs ,oa ekuns;    kk",null,{"$f":"SUM(C11:C25)","v":3190607},{"$f":"SUM(D11:D25)","v":{"v":4039796.4,"d":"4039796"}}]
[";ksx laosru  ¼1½++  ,oa ¼2½",null,{"$f":"SUM(C26,C9)","v":6981407},{"$f":"SUM(D26,D9)","v":{"v":7945396.4,"d":"7945396"}}]
[";k=k O;;",null,{"$f":"Summary!B30","v":0},{"$f":"Summary!C30","v":50000}]
["fpfdRlk O;;",null,{"$f":"Summary!B31","v":0},{"$f":"Summary!C31","v":0}]
["loZ ;ksx & ¼QkeZ th-,-&4½",null,{"$f":"SUM(C27:C29)","v":6981407},{"$f":"SUM(D27:D29)","v":{"v":7995396.4,"d":"7995396"}}]
["izekf.kr fd;k tkrk gS fd inksa ds lanHkZ esa mi;qZä lwpuk dh esjs }kjk O;fäxr :i ls tkap dj yh xbZ gS\n vkSj bls lgh ik;k x;k gSA"]
[{"$nulls":3},{"$f":"A!D3","v":"ç/kkukpk;Z] jkmekfo jk;eyok³k ¼vkWfQl vkbZ-Mh- la[;k %&12345½"}]

{"sheet":"Format 1A","index":5,"n_rows":36,"n_cols":25,"rows_kept":36,"merged":[[0,13,0,15],[0,16,35,16],[1,0,1,13],[1,14,1,15],[2,0,2,13],[2,14,2,15],[3,0,3,13],[4,0,4,11],[4,12,4,15],[5,0,6,0],[5,1,6,1],[5,2,6,2],[5,3,6,3],[5,4,6,4],[5,5,6,5],[5,6,6,6],[5,7,6,7],[5,8,6,8],[5,9,5,11],[5,14,6,14],[5,15,6,15],[7,12,7,13],[8,12,8,13],[9,12,9,13],[10,12,10,13],[11,12,11,13],[12,12,12,13],[13,12,13,13],[14,12,14,13],[15,12,15,13],[16,12,16,13],[17,12,17,13],[18,12,18,13],[19,12,19,13],[20,12,20,13],[21,12,21,13],[22,12,22,13],[23,12,23,13],[24,12,24,13],[25,12,25,13],[26,12,26,13],[27,12,27,13],[28,12,28,13],[29,12,29,13],[30,12,30,13],[31,12,31,13],[32,12,32,13],[34,11,34,15],[35,11,37,15]]}
[{"$nulls":13},{"$f":"Summary!$C$1","v":{"v":12345,"d":"OFFICE ID : 12345"}}]
[{"$f":"Summary!$A$2","v":"ç/kkukpk;Z] jkmekfo jk;eyok³k ¼vkWfQl vkbZ-Mh- la[;k %&12345½"},{"$nulls":13},{"$f":"Master!$C$4","v":"ctV vuqeku fofÙk; o\"kZ %"}]
["izi= & 1",{"$nulls":13},{"$f":"Master!$E$4","v":"2023-24"}]
["¼v½ fu;fer Lohd`r inksa dk fooj.k"]
[{"$f":"'Formet 8'!B7","v":"BUDGET HEAD : 2202 -सामान्य शिक्षा-02-109 -राजकीय माध्यमिक विद्यालय-07 -राष्ट्रीय माध्यमिक शिक्षा अभियान-01 -माध्यमिक शिक्षा अभियान- सामान्य व्यय (S.F. + C.A.)"},{"$nulls":11},"foHkkx dk uke %& f'k{kk foHkkx"]
["Ø- la-","ys[ks dk 'kh\"kZ nh?kZ 'kh\"kZ@ minh?kZ 'kh\"kZ @ y?kq 'kh\"kZ @ mi'kh\"kZ","ukWu Iyku@ Iyku@ lh-,l-,l-","in uke ","is eSfVªDl ysoy","Lohd`r inksa dh la[;k \n¼fnukad 01-04-23 dh fLFkfr½","pkyw o\"kZ 2023&24 esa Lohd`r inksa dh la[;k","pkyw o\"kZ 2023&24 esa lekIr fd, inksa dh la[;k","orZeku inksa dh la[;k ¼dkWye la[;k 5$6&7½","fu;fer dk;Zjr deZpkjh",{"$nulls":4},"fnukad 31-08-23 dks fjDr inksa dh la[;k","fnukad ftlls in fjDr gS"]
[{"$nulls":9},"01-01-2004 ls iwoZ fu;qDr","01-01-2004 ds ckn fu;qDr",";ksx"]
[1,1,2,3,4,5,6,7,8,9,10,null,10,null,11,12]
[{"$f":"W9","v":1},"2202 lkekU; f'k{kk",{"$f":"'Format 1B'!C8","v":"NON PLAN - BOYS"},"PRINCIPAL","L-16",{"$f":"COUNTIF(Master!$E$60:$E$285,'Format 1A'!D9)","v":1},"-","-",{"$f":"SUM(F9:H9)","v":1},0,{"$f":"COUNTIF(Master!$A$60:$A$285,'Format 1A'!D9)","v":1},{"$f":"SUM(J9:K9)","v":1},{"$f":"SUMIF('Formet 8'!G$12:G$246,'Format 1A'!D9,'Formet 8'!BW$12:BW$246)","v":1},null,{"$f":"I9-L9","v":0},null,null,{"$f":"IF(F9>0,1,0)","v":1},{"$f":"I9","v":1},{"$f":"SUMIF('Formet 8'!G$12:G$246,'Format 1A'!D9,'Formet 8'!CA$12:CA$246)","v":0},{"$f":"SUMIF('Formet 8'!G$12:G$584,'Format 1A'!D9,'Formet 8'!BW$12:BW$584)","v":1},{"$f":"S9-(T9+U9)","v":0},{"$f":"IF(R9=0,0,1)","v":1},null,{"$f":"COUNTIF(Master!$A$60:$A$285,'Format 1A'!D9)","v":1}]
[{"$f":"W10","v":0},"2202 lkekU; f'k{kk",{"$f":"'Format 1B'!C9","v":"NON PLAN - BOYS"},"VICE PRINCIPAL","L-14",{"$f":"COUNTIF(Master!$E$60:$E$285,'Format 1A'!D10)","v":0},"-","-",{"$f":"SUM(F10:H10)","v":0},0,{"$f":"COUNTIF(Master!$A$60:$A$285,'Format 1A'!D10)","v":0},{"$f":"SUM(J10:K10)","v":0},{"$f":"SUMIF('Formet 8'!G$12:G$246,'Format 1A'!D10,'Formet 8'!BW$12:BW$246)","v":0},null,{"$f":"I10-L10","v":0},null,null,{"$f":"IF(F10>0,1,0)","v":0},{"$f":"I10","v":0},{"$f":"SUMIF('Formet 8'!G$12:G$246,'Format 1A'!D10,'Formet 8'!CA$12:CA$246)","v":0},{"$f":"SUMIF('Formet 8'!G$12:G$584,'Format 1A'!D10,'Formet 8'!BW$12:BW$584)","v":0},{"$f":"S10-(T10+U10)","v":0},{"$f":"IF(F10>0,MAX(W9)+1,0)","v":0}]
[2,"2202 lkekU; f'k{kk",{"$f":"'Format 1B'!C10","v":"NON PLAN - BOYS"},"LECTURER","L-12",{"$f":"COUNTIF(Master!$E$60:$E$285,'Format 1A'!D11)","v":1},"-","-",1,0,{"$f":"COUNTIF(Master!$A$60:$A$285,'Format 1A'!D11)","v":1},1,{"$f":"SUMIF('Formet 8'!G$12:G$246,'Format 1A'!D11,'Formet 8'!BW$12:BW$246)","v":1},null,0,null,null,1,1,{"$f":"SUMIF('Formet 8'!G$12:G$246,'Format 1A'!D11,'Formet 8'!CA$12:CA$246)","v":0},{"$f":"SUMIF('Formet 8'!G$12:G$584,'Format 1A'!D11,'Formet 8'!BW$12:BW$584)","v":1},0,{"$f":"IF(F11>0,MAX($W$9:W10)+1,0)","v":2}]
[0,"2202 lkekU; f'k{kk",{"$f":"'Format 1B'!C11","v":"NON PLAN - BOYS"},"TEACHER-I","L-12",{"$f":"COUNTIF(Master!$E$60:$E$285,'Format 1A'!D12)","v":0},"-","-",0,0,{"$f":"COUNTIF(Master!$A$60:$A$285,'Format 1A'!D12)","v":0},0,{"$f":"SUMIF('Formet 8'!G$12:G$246,'Format 1A'!D12,'Formet 8'!BW$12:BW$246)","v":0},null,0,null,null,0,0,{"$f":"SUMIF('Formet 8'!G$12:G$246,'Format 1A'!D12,'Formet 8'!CA$12:CA$246)","v":0},{"$f":"SUMIF('Formet 8'!G$12:G$584,'Format 1A'!D12,'Formet 8'!BW$12:BW$584)","v":0},0,{"$f":"IF(F12>0,MAX($W$9:W11)+1,0)","v":0}]
[0,"2202 lkekU; f'k{kk",{"$f":"'Format 1B'!C12","v":"NON PLAN - BOYS"},"PTI  I","L-12",{"$f":"COUNTIF(Master!$E$60:$E$285,'Format 1A'!D13)","v":0},"-","-",0,0,{"$f":"COUNTIF(Master!$A$60:$A$285,'Format 1A'!D13)","v":0},0,{"$f":"SUMIF('Formet 8'!G$12:G$246,'Format 1A'!D13,'Formet 8'!BW$12:BW$246)","v":0},null,0,null,null,0,0,{"$f":"SUMIF('Formet 8'!G$12:G$246,'Format 1A'!D13,'Formet 8'!CA$12:CA$246)","v":0},{"$f":"SUMIF('Formet 8'!G$12:G$584,'Format 1A'!D13,'Formet 8'!BW$12:BW$584)","v":0},0,{"$f":"IF(F13>0,MAX($W$9:W12)+1,0)","v":0}]
[0,"2202 lkekU; f'k{kk",{"$f":"'Format 1B'!C13","v":"NON PLAN - BOYS"},"AGRICULTURE TEACH","L-12",{"$f":"COUNTIF(Master!$E$60:$E$285,'Format 1A'!D14)","v":0},"-","-",0,0,{"$f":"COUNTIF(Master!$A$60:$A$285,'Format 1A'!D14)","v":0},0,{"$f":"SUMIF('Formet 8'!G$12:G$246,'Format 1A'!D14,'Formet 8'!BW$12:BW$246)","v":0},null,0,null,null,0,0,{"$f":"SUMIF('Formet 8'!G$12:G$246,'Format 1A'!D14,'Formet 8'!CA$12:CA$246)","v":0},{"$f":"SUMIF('Formet 8'!G$12:G$584,'Format 1A'!D14,'Formet 8'!BW$12:BW$584)","v":0},0,{"$f":"IF(F14>0,MAX($W$9:W13)+1,0)","v":0}]
[0,"2202 lkekU; f'k{kk",{"$f":"'Format 1B'!C14","v":"NON PLAN - BOYS"},"INSTRUCTOR","L-12",{"$f":"COUNTIF(Master!$E$60:$E$285,'Format 1A'!D15)","v":0},"-","-",0,0,{"$f":"COUNTIF(Master!$A$60:$A$285,'Format 1A'!D15)","v":0},0,{"$f":"SUMIF('Formet 8'!G$12:G$246,'Format 1A'!D15,'Formet 8'!BW$12:BW$246)","v":0},null,0,null,null,0,0,{"$f":"SUMIF('Formet 8'!G$12:G$246,'Format 1A'!D15,'Formet 8'!CA$12:CA$246)","v":0},{"$f":"SUMIF('Formet 8'!G$12:G$584,'Format 1A'!D15,'Formet 8'!BW$12:BW$584)","v":0},0,{"$f":"IF(F15>0,MAX($W$9:W14)+1,0)","v":0}]
[0,"2202 lkekU; f'k{kk",{"$f":"'Format 1B'!C15","v":"NON PLAN - BOYS"},"LIBRARIAN I","L-12",{"$f":"COUNTIF(Master!$E$60:$E$285,'Format 1A'!D16)","v":0},"-","-",0,0,{"$f":"COUNTIF(Master!$A$60:$A$285,'Format 1A'!D16)","v":0},0,{"$f":"SUMIF('Formet 8'!G$12:G$246,'Format 1A'!D16,'Formet 8'!BW$12:BW$246)","v":0},null,0,null,null,0,0,{"$f":"SUMIF('Formet 8'!G$12:G$246,'Format 1A'!D16,'Formet 8'!CA$12:CA$246)","v":0},{"$f":"SUMIF('Formet 8'!G$12:G$584,'Format 1A'!D16,'Formet 8'!BW$12:BW$584)","v":0},0,{"$f":"IF(F16>0,MAX($W$9:W15)+1,0)","v":0}]
[0,"2202 lkekU; f'k{kk",{"$f":"'Format 1B'!C16","v":"NON PLAN - BOYS"},"BASIC COMPUTER INST.","L-8",{"$f":"COUNTIF(Master!$E$60:$E$285,'Format 1A'!D17)","v":0},"-","-",0,0,{"$f":"COUNTIF(Master!$A$60:$A$285,'Format 1A'!D17)","v":0},0,{"$f":"SUMIF('Formet 8'!G$12:G$246,'Format 1A'!D17,'Formet 8'!BW$12:BW$246)","v":0},null,0,null,null,0,0,{"$f":"SUMIF('Formet 8'!G$12:G$246,'Format 1A'!D17,'Formet 8'!CA$12:CA$246)","v":0},{"$f":"SUMIF('Formet 8'!G$12:G$584,'Format 1A'!D17,'Formet 8'!BW$12:BW$584)","v":0},0,{"$f":"IF(F17>0,MAX($W$9:W16)+1,0)","v":0}]
[3,"2202 lkekU; f'k{kk",{"$f":"'Format 1B'!C17","v":"NON PLAN - BOYS"},"TEACHER-II","L-11",{"$f":"COUNTIF(Master!$E$60:$E$285,'Format 1A'!D18)","v":2},"-","-",2,0,{"$f":"COUNTIF(Master!$A$60:$A$285,'Format 1A'!D18)","v":1},1,0,null,1,null,null,1,2,{"$f":"SUMIF('Formet 8'!G$12:G$246,'Format 1A'!D18,'Formet 8'!CA$12:CA$246)","v":1},{"$f":"SUMIF('Formet 8'!G$12:G$584,'Format 1A'!D18,'Formet 8'!BW$12:BW$584)","v":1},0,{"$f":"IF(F18>0,MAX($W$9:W17)+1,0)","v":3}]
[0,"2202 lkekU; f'k{kk",{"$f":"'Format 1B'!C18","v":"NON PLAN - BOYS"},"PTI II","L-11",{"$f":"COUNTIF(Master!$E$60:$E$285,'Format 1A'!D19)","v":0},"-","-",0,0,{"$f":"COUNTIF(Master!$A$60:$A$285,'Format 1A'!D19)","v":0},0,{"$f":"SUMIF('Formet 8'!G$12:G$246,'Format 1A'!D19,'Formet 8'!BW$12:BW$246)","v":0},null,0,null,null,0,0,{"$f":"SUMIF('Formet 8'!G$12:G$246,'Format 1A'!D19,'Formet 8'!CA$12:CA$246)","v":0},{"$f":"SUMIF('Formet 8'!G$12:G$584,'Format 1A'!D19,'Formet 8'!BW$12:BW$584)","v":0},0,{"$f":"IF(F19>0,MAX($W$9:W18)+1,0)","v":0}]
[0,"2202 lkekU; f'k{kk",{"$f":"'Format 1B'!C19","v":"NON PLAN - BOYS"},"LIBRARIAN II","L-11",{"$f":"COUNTIF(Master!$E$60:$E$285,'Format 1A'!D20)","v":0},"-","-",0,0,{"$f":"COUNTIF(Master!$A$60:$A$285,'Format 1A'!D20)","v":0},0,{"$f":"SUMIF('Formet 8'!G$12:G$246,'Format 1A'!D20,'Formet 8'!BW$12:BW$246)","v":0},null,0,null,null,0,0,{"$f":"SUMIF('Formet 8'!G$12:G$246,'Format 1A'!D20,'Formet 8'!CA$12:CA$246)","v":0},{"$f":"SUMIF('Formet 8'!G$12:G$584,'Format 1A'!D20,'Formet 8'!BW$12:BW$584)","v":0},0,{"$f":"IF(F20>0,MAX($W$9:W19)+1,0)","v":0}]
[0,"2202 lkekU; f'k{kk",{"$f":"'Format 1B'!C20","v":"NON PLAN - BOYS"},"LAB ASST","L-9",{"$f":"COUNTIF(Master!$E$60:$E$285,'Format 1A'!D21)","v":0},"-","-",0,0,{"$f":"COUNTIF(Master!$A$60:$A$285,'Format 1A'!D21)","v":0},0,{"$f":"SUMIF('Formet 8'!G$12:G$246,'Format 1A'!D21,'Formet 8'!BW$12:BW$246)","v":0},null,0,null,null,0,0,{"$f":"SUMIF('Formet 8'!G$12:G$246,'Format 1A'!D21,'Formet 8'!CA$12:CA$246)","v":0},{"$f":"SUMIF('Formet 8'!G$12:G$584,'Format 1A'!D21,'Formet 8'!BW$12:BW$584)","v":0},0,{"$f":"IF(F21>0,MAX($W$9:W20)+1,0)","v":0}]
[0,"2202 lkekU; f'k{kk",{"$f":"'Format 1B'!C21","v":"NON PLAN - BOYS"},"CLERK GRADE I","L-9",{"$f":"COUNTIF(Master!$E$60:$E$285,'Format 1A'!D22)","v":0},"-","-",0,0,{"$f":"COUNTIF(Master!$A$60:$A$285,'Format 1A'!D22)","v":0},0,{"$f":"SUMIF('Formet 8'!G$12:G$246,'Format 1A'!D22,'Formet 8'!BW$12:BW$246)","v":0},null,0,null,null,0,0,{"$f":"SUMIF('Formet 8'!G$12:G$246,'Format 1A'!D22,'Formet 8'!CA$12:CA$246)","v":0},{"$f":"SUMIF('Formet 8'!G$12:G$584,'Format 1A'!D22,'Formet 8'!BW$12:BW$584)","v":0},0,{"$f":"IF(F22>0,MAX($W$9:W21)+1,0)","v":0}]
[4,"2202 lkekU; f'k{kk",{"$f":"'Format 1B'!C22","v":"NON PLAN - BOYS"},"PTI  III","L-10",{"$f":"COUNTIF(Master!$E$60:$E$285,'Format 1A'!D23)","v":2},"-","-",2,0,{"$f":"COUNTIF(Master!$A$60:$A$285,'Format 1A'!D23)","v":0},0,2,null,2,null,null,1,2,{"$f":"SUMIF('Formet 8'!G$12:G$246,'Format 1A'!D23,'Formet 8'!CA$12:CA$246)","v":2},{"$f":"SUMIF('Formet 8'!G$12:G$584,'Format 1A'!D23,'Formet 8'!BW$12:BW$584)","v":0},0,{"$f":"IF(F23>0,MAX($W$9:W22)+1,0)","v":4}]
[5,"2202 lkekU; f'k{kk",{"$f":"'Format 1B'!C23","v":"NON PLAN - BOYS"},"TEACHER-III","L-10",{"$f":"COUNTIF(Master!$E$60:$E$285,'Format 1A'!D24)","v":17},"-","-",17,0,{"$f":"COUNTIF(Master!$A$60:$A$285,'Format 1A'!D24)","v":5},5,122,null,12,null,null,1,17,{"$f":"SUMIF('Formet 8'!G$12:G$246,'Format 1A'!D24,'Formet 8'!CA$12:CA$246)","v":12},{"$f":"SUMIF('Formet 8'!G$12:G$584,'Format 1A'!D24,'Formet 8'!BW$12:BW$584)","v":5},0,{"$f":"IF(F24>0,MAX($W$9:W23)+1,0)","v":5}]
[0,"2202 lkekU; f'k{kk",{"$f":"'Format 1B'!C24","v":"NON PLAN - BOYS"},"LIBRARIAN III","L-10",{"$f":"COUNTIF(Master!$E$60:$E$285,'Format 1A'!D25)","v":0},"-","-",0,0,{"$f":"COUNTIF(Master!$A$60:$A$285,'Format 1A'!D25)","v":0},0,{"$f":"SUMIF('Formet 8'!G$12:G$246,'Format 1A'!D25,'Formet 8'!BW$12:BW$246)","v":0},null,0,null,null,0,0,{"$f":"SUMIF('Formet 8'!G$12:G$246,'Format 1A'!D25,'Formet 8'!CA$12:CA$246)","v":0},{"$f":"SUMIF('Formet 8'!G$12:G$584,'Format 1A'!D25,'Formet 8'!BW$12:BW$584)","v":0},0,{"$f":"IF(F25>0,MAX($W$9:W24)+1,0)","v":0}]
[0,"2202 lkekU; f'k{kk",{"$f":"'Format 1B'!C25","v":"NON PLAN - BOYS"},"LAB ASST","L-9",{"$f":"COUNTIF(Master!$E$60:$E$285,'Format 1A'!D26)","v":0},"-","-",0,0,{"$f":"COUNTIF(Master!$A$60:$A$285,'Format 1A'!D26)","v":0},0,{"$f":"SUMIF('Formet 8'!G$12:G$246,'Format 1A'!D26,'Formet 8'!BW$12:BW$246)","v":0},null,0,null,null,0,0,{"$f":"SUMIF('Formet 8'!G$12:G$246,'Format 1A'!D26,'Formet 8'!CA$12:CA$246)","v":0},{"$f":"SUMIF('Formet 8'!G$12:G$584,'Format 1A'!D26,'Formet 8'!BW$12:BW$584)","v":0},0,{"$f":"IF(F26>0,MAX($W$9:W25)+1,0)","v":0}]
[0,"2202 lkekU; f'k{kk",{"$f":"'Format 1B'!C26","v":"NON PLAN - BOYS"},"CLERK GRADE II","L-5",{"$f":"COUNTIF(Master!$E$60:$E$285,'Format 1A'!D27)","v":0},"-","-",0,0,{"$f":"COUNTIF(Master!$A$60:$A$285,'Format 1A'!D27)","v":0},0,{"$f":"SUMIF('Formet 8'!G$12:G$246,'Format 1A'!D27,'Formet 8'!BW$12:BW$246)","v":0},null,0,null,null,0,0,{"$f":"SUMIF('Formet 8'!G$12:G$246,'Format 1A'!D27,'Formet 8'!CA$12:CA$246)","v":0},{"$f":"SUMIF('Formet 8'!G$12:G$584,'Format 1A'!D27,'Formet 8'!BW$12:BW$584)","v":0},0,{"$f":"IF(F27>0,MAX($W$9:W26)+1,0)","v":0}]
[0,"2202 lkekU; f'k{kk",{"$f":"'Format 1B'!C27","v":"NON PLAN - BOYS"},"FIELDMAN & FIELD REC","L-5",{"$f":"COUNTIF(Master!$E$60:$E$285,'Format 1A'!D28)","v":0},"-","-",0,0,{"$f":"COUNTIF(Master!$A$60:$A$285,'Format 1A'!D28)","v":0},0,{"$f":"SUMIF('Formet 8'!G$12:G$246,'Format 1A'!D28,'Formet 8'!BW$12:BW$246)","v":0},null,0,null,null,0,0,{"$f":"SUMIF('Formet 8'!G$12:G$246,'Format 1A'!D28,'Formet 8'!CA$12:CA$246)","v":0},{"$f":"SUMIF('Formet 8'!G$12:G$584,'Format 1A'!D28,'Formet 8'!BW$12:BW$584)","v":0},0,{"$f":"IF(F28>0,MAX($W$9:W27)+1,0)","v":0}]
[0,"2202 lkekU; f'k{kk",{"$f":"'Format 1B'!C28","v":"NON PLAN - BOYS"},"LAB BOY","L-1",{"$f":"COUNTIF(Master!$E$60:$E$285,'Format 1A'!D29)","v":0},"-","-",0,0,{"$f":"COUNTIF(Master!$A$60:$A$285,'Format 1A'!D29)","v":0},0,{"$f":"SUMIF('Formet 8'!G$12:G$246,'Format 1A'!D29,'Formet 8'!BW$12:BW$246)","v":0},null,0,null,null,0,0,{"$f":"SUMIF('Formet 8'!G$12:G$246,'Format 1A'!D29,'Formet 8'!CA$12:CA$246)","v":0},{"$f":"SUMIF('Formet 8'!G$12:G$584,'Format 1A'!D29,'Formet 8'!BW$12:BW$584)","v":0},0,{"$f":"IF(F29>0,MAX($W$9:W28)+1,0)","v":0}]
[0,"2202 lkekU; f'k{kk",{"$f":"'Format 1B'!C29","v":"NON PLAN - BOYS"},"JAMADAR","L-1",{"$f":"COUNTIF(Master!$E$60:$E$285,'Format 1A'!D30)","v":0},"-","-",0,0,{"$f":"COUNTIF(Master!$A$60:$A$285,'Format 1A'!D30)","v":0},0,{"$f":"SUMIF('Formet 8'!G$12:G$246,'Format 1A'!D30,'Formet 8'!BW$12:BW$246)","v":0},null,0,null,null,0,0,{"$f":"SUMIF('Formet 8'!G$12:G$246,'Format 1A'!D30,'Formet 8'!CA$12:CA$246)","v":0},{"$f":"SUMIF('Formet 8'!G$12:G$584,'Format 1A'!D30,'Formet 8'!BW$12:BW$584)","v":0},0,{"$f":"IF(F30>0,MAX($W$9:W29)+1,0)","v":0}]
[6,"2202 lkekU; f'k{kk",{"$f":"'Format 1B'!C30","v":"NON PLAN - BOYS"},"PEON","L-1",{"$f":"COUNTIF(Master!$E$60:$E$285,'Format 1A'!D31)","v":1},"-","-",1,0,{"$f":"COUNTIF(Master!$A$60:$A$285,'Format 1A'!D31)","v":1},1,{"$f":"SUMIF('Formet 8'!G$12:G$246,'Format 1A'!D31,'Formet 8'!BW$12:BW$246)","v":1},null,0,null,null,1,1,{"$f":"SUMIF('Formet 8'!G$12:G$246,'Format 1A'!D31,'Formet 8'!CA$12:CA$246)","v":0},{"$f":"SUMIF('Formet 8'!G$12:G$584,'Format 1A'!D31,'Formet 8'!BW$12:BW$584)","v":1},0,{"$f":"IF(F31>0,MAX($W$9:W30)+1,0)","v":6}]
[7,"2203 lkekU; f'k{kk",{"$f":"'Format 1B'!C31","v":"NON PLAN - BOYS"},"Sanvida Employee","-",{"$f":"COUNTIF(Master!$E$60:$E$285,'Format 1A'!D32)","v":2},0,0,{"$f":"F32","v":2},0,{"$f":"COUNTIF(Master!$A$60:$A$285,'Format 1A'!D32)","v":2},2,{"$f":"SUMIF('Formet 8'!G$12:G$246,'Format 1A'!D32,'Formet 8'!BW$12:BW$246)","v":0},null,0,null,null,1,{"$nulls":4},{"$f":"IF(F32>0,MAX($W$9:W31)+1,0)","v":7}]
[{"$nulls":3},"Total",null,{"$f":"SUM(F9:F32)","v":26},{"$f":"SUM(G9:G32)","v":0},{"$f":"SUM(H9:H32)","v":0},{"$f":"SUM(I9:I32)","v":26},{"$f":"SUM(J9:J32)","v":0},{"$f":"SUM(K9:K32)","v":11},11,{"$f":"SUM(M9:M32)","v":127},null,{"$f":"SUM(O9:O32)","v":15}]
[]
[{"$nulls":11},{"$f":"Master!E2","v":"ç/kkukpk;Z]"}]
[{"$nulls":11},{"$f":"Master!H2","v":"jkmekfo jk;eyok³k"}]

{"sheet":"Format 1B","index":6,"n_rows":36,"n_cols":18,"rows_kept":36,"merged":[[0,0,0,13],[0,14,0,17],[0,18,37,18],[1,0,1,17],[2,0,2,17],[3,0,3,17],[4,0,4,14],[4,15,4,17],[32,0,36,12],[32,13,32,17],[33,13,34,17],[35,13,37,17]]}
[{"$f":"'P 4(A)'!E4","v":"vk; dk foLr`r ctV vuqeku foÙkh; o\"kZ  ¼ 1 vizSy ls 31 ekpZ rd ½ dk"},{"$nulls":13},{"$f":"Summary!$C$1","v":{"v":12345,"d":"OFFICE ID 12345"}}]
[{"$f":"Summary!A2","v":"ç/kkukpk;Z] jkmekfo jk;eyok³k ¼vkWfQl vkbZ-Mh- la[;k %&12345½"}]
["izi= & 1"]
["¼c½ Lohd`r fjDr inksa ds fo:) foHkkx esa dk;Zjr vU; dkfeZdksa dk fooj.k"]
[{"$f":"Summary!A5","v":"BUDGET HEAD : 2202 -सामान्य शिक्षा-02-109 -राजकीय माध्यमिक विद्यालय-07 -राष्ट्रीय माध्यमिक शिक्षा अभियान-01 -माध्यमिक शिक्षा अभियान- सामान्य व्यय (S.F. + C.A.)"},{"$nulls":14},"foHkkx dk uke %& f'k{kk foHkkx"]
["Ø-la-","ys[ks dk 'kh\"kZ nh?kZ 'kh\"kZ@ minh?kZ 'kh\"kZ @ y?kq 'kh\"kZ @ mi'kh\"kZ","vk;kstuk fHkUu @vk;kstuk @ dsUnz izofrZr ;kstuk","in uke ","is eSfVªDl ysoy","fjDr inksa dh la[;k","rnFkZ vLFkkbZ fu;qfDr ¼la[;k½","vkSlr izfr O;fDr izfrekg O;; ¼:i;ksa esa½","iqufuZ;qfDr ¼la[;k½","vkSlr izfr O;fDr izfrekg O;; ¼:i;ksa esa½",",stsUlh ek/;e ls ¼la[;k½","vkSlr izfr O;fDr izfrekg O;; ¼:i;ksa esa½","lsokfuo`r dkfeZd izR;{k lafonk ¼la[;k½","vkSlr izfr O;fDr izfrekg O;; ¼:i;ksa esa½","dfeZd foHkkx ds ifji= ds vuqlkj ¼la[;k½","vkSlr izfr O;fDr izfrekg O;; ¼:i;ksa esa½","vU; ¼la[;k½","vkSlr izfr O;fDr izfrekg O;; ¼:i;ksa esa½"]
[1,2,3,4,5,6,7,8,9,10,11,12,13,14,15,16,17,18]
[{"$f":"'Format 1A'!A9","v":1},"2202 lkekU; f'k{kk",{"$f":"'[2]Data Entry'!C$5","v":"NON PLAN - BOYS"},{"$f":"'Format 1A'!D9","v":"PRINCIPAL"},{"$f":"'Format 1A'!E9","v":"L-16"},{"$f":"'Format 1A'!O9","v":0},"---","---","---","---","---","---",{"$f":"SUMIF('Formet 8'!G$12:G$350,'Format 1A'!D9,'Formet 8'!BY$12:BY$350)","v":0},{"$f":"SUMIF('Formet 8'!G$12:G$350,'Format 1A'!D9,'Formet 8'!BZ$12:BZ$350)","v":0},"---","---","---","---"]
[{"$f":"'Format 1A'!A10","v":0},"2202 lkekU; f'k{kk",{"$f":"'[2]Data Entry'!C$5","v":"NON PLAN - BOYS"},{"$f":"'Format 1A'!D10","v":"VICE PRINCIPAL"},{"$f":"'Format 1A'!E10","v":"L-14"},{"$f":"'Format 1A'!O10","v":0},"---","---","---","---","---","---",{"$f":"SUMIF('Formet 8'!G$12:G$350,'Format 1A'!D10,'Formet 8'!BY$12:BY$350)","v":0},{"$f":"SUMIF('Formet 8'!G$12:G$350,'Format 1A'!D10,'Formet 8'!BZ$12:BZ$350)","v":0},"---","---","---","---"]
[{"$f":"'Format 1A'!A11","v":2},"2202 lkekU; f'k{kk",{"$f":"'[2]Data Entry'!C$5","v":"NON PLAN - BOYS"},{"$f":"'Format 1A'!D11","v":"LECTURER"},{"$f":"'Format 1A'!E11","v":"L-12"},{"$f":"'Format 1A'!O11","v":0},"---","---","---","---","---","---",{"$f":"SUMIF('Formet 8'!G$12:G$350,'Format 1A'!D11,'Formet 8'!BY$12:BY$350)","v":0},{"$f":"SUMIF('Formet 8'!G$12:G$350,'Format 1A'!D11,'Formet 8'!BZ$12:BZ$350)","v":0},"---","---","---","---"]
[{"$f":"'Format 1A'!A12","v":0},"2202 lkekU; f'k{kk",{"$f":"'[2]Data Entry'!C$5","v":"NON PLAN - BOYS"},{"$f":"'Format 1A'!D12","v":"TEACHER-I"},{"$f":"'Format 1A'!E12","v":"L-12"},{"$f":"'Format 1A'!O12","v":0},"---","---","---","---","---","---",{"$f":"SUMIF('Formet 8'!G$12:G$350,'Format 1A'!D12,'Formet 8'!BY$12:BY$350)","v":0},{"$f":"SUMIF('Formet 8'!G$12:G$350,'Format 1A'!D12,'Formet 8'!BZ$12:BZ$350)","v":0},"---","---","---","---"]
[{"$f":"'Format 1A'!A13","v":0},"2202 lkekU; f'k{kk",{"$f":"'[2]Data Entry'!C$5","v":"NON PLAN - BOYS"},{"$f":"'Format 1A'!D13","v":"PTI  I"},{"$f":"'Format 1A'!E13","v":"L-12"},{"$f":"'Format 1A'!O13","v":0},"---","---","---","---","---","---",{"$f":"SUMIF('Formet 8'!G$12:G$350,'Format 1A'!D13,'Formet 8'!BY$12:BY$350)","v":0},{"$f":"SUMIF('Formet 8'!G$12:G$350,'Format 1A'!D13,'Formet 8'!BZ$12:BZ$350)","v":0},"---","---","---","---"]
[{"$f":"'Format 1A'!A14","v":0},"2202 lkekU; f'k{kk",{"$f":"'[2]Data Entry'!C$5","v":"NON PLAN - BOYS"},{"$f":"'Format 1A'!D14","v":"AGRICULTURE TEACH"},{"$f":"'Format 1A'!E14","v":"L-12"},{"$f":"'Format 1A'!O14","v":0},"---","---","---","---","---","---",{"$f":"SUMIF('Formet 8'!G$12:G$350,'Format 1A'!D14,'Formet 8'!BY$12:BY$350)","v":0},{"$f":"SUMIF('Formet 8'!G$12:G$350,'Format 1A'!D14,'Formet 8'!BZ$12:BZ$350)","v":0},"---","---","---","---"]
[{"$f":"'Format 1A'!A15","v":0},"2202 lkekU; f'k{kk",{"$f":"'[2]Data Entry'!C$5","v":"NON PLAN - BOYS"},{"$f":"'Format 1A'!D15","v":"INSTRUCTOR"},{"$f":"'Format 1A'!E15","v":"L-12"},{"$f":"'Format 1A'!O15","v":0},"---","---","---","---","---","---",{"$f":"SUMIF('Formet 8'!G$12:G$350,'Format 1A'!D15,'Formet 8'!BY$12:BY$350)","v":0},{"$f":"SUMIF('Formet 8'!G$12:G$350,'Format 1A'!D15,'Formet 8'!BZ$12:BZ$350)","v":0},"---","---","---","---"]
[{"$f":"'Format 1A'!A16","v":0},"2202 lkekU; f'k{kk",{"$f":"'[2]Data Entry'!C$5","v":"NON PLAN - BOYS"},{"$f":"'Format 1A'!D16","v":"LIBRARIAN I"},{"$f":"'Format 1A'!E16","v":"L-12"},{"$f":"'Format 1A'!O16","v":0},"---","---","---","---","---","---",{"$f":"SUMIF('Formet 8'!G$12:G$350,'Format 1A'!D16,'Formet 8'!BY$12:BY$350)","v":0},{"$f":"SUMIF('Formet 8'!G$12:G$350,'Format 1A'!D16,'Formet 8'!BZ$12:BZ$350)","v":0},"---","---","---","---"]
[{"$f":"'Format 1A'!A17","v":0},"2202 lkekU; f'k{kk",{"$f":"'[2]Data Entry'!C$5","v":"NON PLAN - BOYS"},{"$f":"'Format 1A'!D17","v":"BASIC COMPUTER INST."},{"$f":"'Format 1A'!E17","v":"L-8"},{"$f":"'Format 1A'!O17","v":0},"---","---","---","---","---","---",{"$f":"SUMIF('Formet 8'!G$12:G$350,'Format 1A'!D17,'Formet 8'!BY$12:BY$350)","v":0},{"$f":"SUMIF('Formet 8'!G$12:G$350,'Format 1A'!D17,'Formet 8'!BZ$12:BZ$350)","v":0},"---","---","---","---"]
[{"$f":"'Format 1A'!A18","v":3},"2202 lkekU; f'k{kk",{"$f":"'[2]Data Entry'!C$5","v":"NON PLAN - BOYS"},{"$f":"'Format 1A'!D18","v":"TEACHER-II"},{"$f":"'Format 1A'!E18","v":"L-11"},{"$f":"'Format 1A'!O18","v":1},"---","---","---","---","---","---",{"$f":"SUMIF('Formet 8'!G$12:G$350,'Format 1A'!D18,'Formet 8'!BY$12:BY$350)","v":0},{"$f":"SUMIF('Formet 8'!G$12:G$350,'Format 1A'!D18,'Formet 8'!BZ$12:BZ$350)","v":0},"---","---","---","---"]
[{"$f":"'Format 1A'!A19","v":0},"2202 lkekU; f'k{kk",{"$f":"'[2]Data Entry'!C$5","v":"NON PLAN - BOYS"},{"$f":"'Format 1A'!D19","v":"PTI II"},{"$f":"'Format 1A'!E19","v":"L-11"},{"$f":"'Format 1A'!O19","v":0},"---","---","---","---","---","---",{"$f":"SUMIF('Formet 8'!G$12:G$350,'Format 1A'!D19,'Formet 8'!BY$12:BY$350)","v":0},{"$f":"SUMIF('Formet 8'!G$12:G$350,'Format 1A'!D19,'Formet 8'!BZ$12:BZ$350)","v":0},"---","---","---","---"]
[{"$f":"'Format 1A'!A20","v":0},"2202 lkekU; f'k{kk",{"$f":"'[2]Data Entry'!C$5","v":"NON PLAN - BOYS"},{"$f":"'Format 1A'!D20","v":"LIBRARIAN II"},{"$f":"'Format 1A'!E20","v":"L-11"},{"$f":"'Format 1A'!O20","v":0},"---","---","---","---","---","---",{"$f":"SUMIF('Formet 8'!G$12:G$350,'Format 1A'!D20,'Formet 8'!BY$12:BY$350)","v":0},{"$f":"SUMIF('Formet 8'!G$12:G$350,'Format 1A'!D20,'Formet 8'!BZ$12:BZ$350)","v":0},"---","---","---","---"]
[{"$f":"'Format 1A'!A21","v":0},"2202 lkekU; f'k{kk",{"$f":"'[2]Data Entry'!C$5","v":"NON PLAN - BOYS"},{"$f":"'Format 1A'!D21","v":"LAB ASST"},{"$f":"'Format 1A'!E21","v":"L-9"},{"$f":"'Format 1A'!O21","v":0},"---","---","---","---","---","---",{"$f":"SUMIF('Formet 8'!G$12:G$350,'Format 1A'!D21,'Formet 8'!BY$12:BY$350)","v":0},{"$f":"SUMIF('Formet 8'!G$12:G$350,'Format 1A'!D21,'Formet 8'!BZ$12:BZ$350)","v":0},"---","---","---","---"]
[{"$f":"'Format 1A'!A22","v":0},"2202 lkekU; f'k{kk",{"$f":"'[2]Data Entry'!C$5","v":"NON PLAN - BOYS"},{"$f":"'Format 1A'!D22","v":"CLERK GRADE I"},{"$f":"'Format 1A'!E22","v":"L-9"},{"$f":"'Format 1A'!O22","v":0},"---","---","---","---","---","---",{"$f":"SUMIF('Formet 8'!G$12:G$350,'Format 1A'!D22,'Formet 8'!BY$12:BY$350)","v":0},{"$f":"SUMIF('Formet 8'!G$12:G$350,'Format 1A'!D22,'Formet 8'!BZ$12:BZ$350)","v":0},"---","---","---","---"]
[{"$f":"'Format 1A'!A23","v":4},"2202 lkekU; f'k{kk",{"$f":"'[2]Data Entry'!C$5","v":"NON PLAN - BOYS"},{"$f":"'Format 1A'!D23","v":"PTI  III"},{"$f":"'Format 1A'!E23","v":"L-10"},{"$f":"'Format 1A'!O23","v":2},"---","---","---","---","---","---",{"$f":"SUMIF('Formet 8'!G$12:G$350,'Format 1A'!D23,'Formet 8'!BY$12:BY$350)","v":0},{"$f":"SUMIF('Formet 8'!G$12:G$350,'Format 1A'!D23,'Formet 8'!BZ$12:BZ$350)","v":0},"---","---","---","---"]
[{"$f":"'Format 1A'!A24","v":5},"2202 lkekU; f'k{kk",{"$f":"'[2]Data Entry'!C$5","v":"NON PLAN - BOYS"},{"$f":"'Format 1A'!D24","v":"TEACHER-III"},{"$f":"'Format 1A'!E24","v":"L-10"},{"$f":"'Format 1A'!O24","v":12},"---","---","---","---","---","---",{"$f":"SUMIF('Formet 8'!G$12:G$350,'Format 1A'!D24,'Formet 8'!BY$12:BY$350)","v":0},{"$f":"SUMIF('Formet 8'!G$12:G$350,'Format 1A'!D24,'Formet 8'!BZ$12:BZ$350)","v":0},"---","---","---","---"]
[{"$f":"'Format 1A'!A25","v":0},"2202 lkekU; f'k{kk",{"$f":"'[2]Data Entry'!C$5","v":"NON PLAN - BOYS"},{"$f":"'Format 1A'!D25","v":"LIBRARIAN III"},{"$f":"'Format 1A'!E25","v":"L-10"},{"$f":"'Format 1A'!O25","v":0},"---","---","---","---","---","---",{"$f":"SUMIF('Formet 8'!G$12:G$350,'Format 1A'!D25,'Formet 8'!BY$12:BY$350)","v":0},{"$f":"SUMIF('Formet 8'!G$12:G$350,'Format 1A'!D25,'Formet 8'!BZ$12:BZ$350)","v":0},"---","---","---","---"]
[{"$f":"'Format 1A'!A26","v":0},"2202 lkekU; f'k{kk",{"$f":"'[2]Data Entry'!C$5","v":"NON PLAN - BOYS"},{"$f":"'Format 1A'!D26","v":"LAB ASST"},{"$f":"'Format 1A'!E26","v":"L-9"},{"$f":"'Format 1A'!O26","v":0},"---","---","---","---","---","---",{"$f":"SUMIF('Formet 8'!G$12:G$350,'Format 1A'!D26,'Formet 8'!BY$12:BY$350)","v":0},{"$f":"SUMIF('Formet 8'!G$12:G$350,'Format 1A'!D26,'Formet 8'!BZ$12:BZ$350)","v":0},"---","---","---","---"]
[{"$f":"'Format 1A'!A27","v":0},"2202 lkekU; f'k{kk",{"$f":"'[2]Data Entry'!C$5","v":"NON PLAN - BOYS"},{"$f":"'Format 1A'!D27","v":"CLERK GRADE II"},{"$f":"'Format 1A'!E27","v":"L-5"},{"$f":"'Format 1A'!O27","v":0},"---","---","---","---","---","---",{"$f":"SUMIF('Formet 8'!G$12:G$350,'Format 1A'!D27,'Formet 8'!BY$12:BY$350)","v":0},{"$f":"SUMIF('Formet 8'!G$12:G$350,'Format 1A'!D27,'Formet 8'!BZ$12:BZ$350)","v":0},"---","---","---","---"]
[{"$f":"'Format 1A'!A28","v":0},"2202 lkekU; f'k{kk",{"$f":"'[2]Data Entry'!C$5","v":"NON PLAN - BOYS"},{"$f":"'Format 1A'!D28","v":"FIELDMAN & FIELD REC"},{"$f":"'Format 1A'!E28","v":"L-5"},{"$f":"'Format 1A'!O28","v":0},"---","---","---","---","---","---",{"$f":"SUMIF('Formet 8'!G$12:G$350,'Format 1A'!D28,'Formet 8'!BY$12:BY$350)","v":0},{"$f":"SUMIF('Formet 8'!G$12:G$350,'Format 1A'!D28,'Formet 8'!BZ$12:BZ$350)","v":0},"---","---","---","---"]
[{"$f":"'Format 1A'!A29","v":0},"2202 lkekU; f'k{kk",{"$f":"'[2]Data Entry'!C$5","v":"NON PLAN - BOYS"},{"$f":"'Format 1A'!D29","v":"LAB BOY"},{"$f":"'Format 1A'!E29","v":"L-1"},{"$f":"'Format 1A'!O29","v":0},"---","---","---","---","---","---",{"$f":"SUMIF('Formet 8'!G$12:G$350,'Format 1A'!D29,'Formet 8'!BY$12:BY$350)","v":0},{"$f":"SUMIF('Formet 8'!G$12:G$350,'Format 1A'!D29,'Formet 8'!BZ$12:BZ$350)","v":0},"---","---","---","---"]
[{"$f":"'Format 1A'!A30","v":0},"2202 lkekU; f'k{kk",{"$f":"'[2]Data Entry'!C$5","v":"NON PLAN - BOYS"},{"$f":"'Format 1A'!D30","v":"JAMADAR"},{"$f":"'Format 1A'!E30","v":"L-1"},{"$f":"'Format 1A'!O30","v":0},"---","---","---","---","---","---",{"$f":"SUMIF('Formet 8'!G$12:G$350,'Format 1A'!D30,'Formet 8'!BY$12:BY$350)","v":0},{"$f":"SUMIF('Formet 8'!G$12:G$350,'Format 1A'!D30,'Formet 8'!BZ$12:BZ$350)","v":0},"---","---","---","---"]
[{"$f":"'Format 1A'!A31","v":6},"2202 lkekU; f'k{kk",{"$f":"'[2]Data Entry'!C$5","v":"NON PLAN - BOYS"},{"$f":"'Format 1A'!D31","v":"PEON"},{"$f":"'Format 1A'!E31","v":"L-1"},{"$f":"'Format 1A'!O31","v":0},"---","---","---","---","---","---",{"$f":"SUMIF('Formet 8'!G$12:G$350,'Format 1A'!D31,'Formet 8'!BY$12:BY$350)","v":0},{"$f":"SUMIF('Formet 8'!G$12:G$350,'Format 1A'!D31,'Formet 8'!BZ$12:BZ$350)","v":0},"---","---","---","---"]
[{"$f":"'Format 1A'!A32","v":7},"2203 lkekU; f'k{kk",{"$f":"'[2]Data Entry'!C$5","v":"NON PLAN - BOYS"},{"$f":"'Format 1A'!D32","v":"Sanvida Employee"},{"$f":"'Format 1A'!E32","v":"-"},{"$f":"'Format 1A'!O32","v":0}]
[{"$nulls":3},"Total",null,{"$f":"SUM(F8:F30)","v":15},"---","---","---","---","---","---",{"$f":"SUM(M8:M30)","v":0},{"$f":"SUM(N8:N30)","v":0},"---","---","---","---"]
[]
[{"$nulls":13},{"$f":"Master!E2","v":"ç/kkukpk;Z]"}]
[]
[{"$nulls":13},{"$f":"Master!H2","v":"jkmekfo jk;eyok³k"}]

{"sheet":"Format 1C","index":7,"n_rows":33,"n_cols":11,"rows_kept":33,"merged":[[0,0,0,4],[0,5,0,6],[0,7,33,7],[1,0,1,6],[2,0,2,6],[3,0,3,4],[3,5,3,6],[4,3,4,4],[5,3,5,4],[6,1,28,1]]}
[{"$f":"'Format 1B'!A1","v":"vk; dk foLr`r ctV vuqeku foÙkh; o\"kZ  ¼ 1 vizSy ls 31 ekpZ rd ½ dk"},{"$nulls":4},{"$f":"Summary!$C$1","v":{"v":12345,"d":"OFFICE ID : 12345"}}]
[{"$f":"Summary!A2","v":"ç/kkukpk;Z] jkmekfo jk;eyok³k ¼vkWfQl vkbZ-Mh- la[;k %&12345½"}]
["¼l½ foHkkx esa dk;Zjr vU; dkfeZdksa dk fooj.k ¼Lohd`r inksa ds vfrfjDr½"]
[{"$f":"Summary!A5","v":"BUDGET HEAD : 2202 -सामान्य शिक्षा-02-109 -राजकीय माध्यमिक विद्यालय-07 -राष्ट्रीय माध्यमिक शिक्षा अभियान-01 -माध्यमिक शिक्षा अभियान- सामान्य व्यय (S.F. + C.A.)"},{"$nulls":4},"foHkkx dk uke %& f'k{kk foHkkx"]
["Ø-la-","ys[ks dk 'kh\"kZ & eq[; 'kh\"kZ @ mi&eq[; 'kh\"kZ @ y?kq 'kh\"kZ @ mi&'ksh\"kZ @ xqzi 'kh\"kZ","vk;kstuk fHkUu @ vk;kstuk @ dsUnz izofrZr ;kstuk","vk;kstuk fHkUu @ vk;kstuk @ dsUnz izofrZr ;kstuk",null,"la[;k","okf\"kZd fofÙk; Hkkj ¼:i;s lgL= esa½"]
[1,2,null,3,null,5,6]
[{"$f":"'Format 1A'!A9","v":1},{"$f":"A4","v":"BUDGET HEAD : 2202 -सामान्य शिक्षा-02-109 -राजकीय माध्यमिक विद्यालय-07 -राष्ट्रीय माध्यमिक शिक्षा अभियान-01 -माध्यमिक शिक्षा अभियान- सामान्य व्यय (S.F. + C.A.)"},{"$f":"'Format 1A'!C9","v":"NON PLAN - BOYS"},{"$f":"'Format 1A'!D9","v":"PRINCIPAL"},{"$f":"'Format 1A'!E9","v":"L-16"},{"$f":"'Format 1A'!F9","v":1},0,{"$nulls":3},{"$f":"'Format 1A'!F9","v":1}]
[{"$f":"'Format 1A'!A10","v":0},null,{"$f":"'Format 1A'!C10","v":"NON PLAN - BOYS"},{"$f":"'Format 1A'!D10","v":"VICE PRINCIPAL"},{"$f":"'Format 1A'!E10","v":"L-14"},{"$f":"'Format 1A'!F10","v":0},0,{"$nulls":3},{"$f":"'Format 1A'!F10","v":0}]
[{"$f":"'Format 1A'!A11","v":2},null,{"$f":"'Format 1A'!C11","v":"NON PLAN - BOYS"},{"$f":"'Format 1A'!D11","v":"LECTURER"},{"$f":"'Format 1A'!E11","v":"L-12"},{"$f":"'Format 1A'!F11","v":1},0,{"$nulls":3},{"$f":"'Format 1A'!F11","v":1}]
[{"$f":"'Format 1A'!A12","v":0},null,{"$f":"'Format 1A'!C12","v":"NON PLAN - BOYS"},{"$f":"'Format 1A'!D12","v":"TEACHER-I"},{"$f":"'Format 1A'!E12","v":"L-12"},{"$f":"'Format 1A'!F12","v":0},0,{"$nulls":3},{"$f":"'Format 1A'!F12","v":0}]
[{"$f":"'Format 1A'!A13","v":0},null,{"$f":"'Format 1A'!C13","v":"NON PLAN - BOYS"},{"$f":"'Format 1A'!D13","v":"PTI  I"},{"$f":"'Format 1A'!E13","v":"L-12"},{"$f":"'Format 1A'!F13","v":0},0,{"$nulls":3},{"$f":"'Format 1A'!F13","v":0}]
[{"$f":"'Format 1A'!A14","v":0},null,{"$f":"'Format 1A'!C14","v":"NON PLAN - BOYS"},{"$f":"'Format 1A'!D14","v":"AGRICULTURE TEACH"},{"$f":"'Format 1A'!E14","v":"L-12"},{"$f":"'Format 1A'!F14","v":0},0,{"$nulls":3},{"$f":"'Format 1A'!F14","v":0}]
[{"$f":"'Format 1A'!A15","v":0},null,{"$f":"'Format 1A'!C15","v":"NON PLAN - BOYS"},{"$f":"'Format 1A'!D15","v":"INSTRUCTOR"},{"$f":"'Format 1A'!E15","v":"L-12"},{"$f":"'Format 1A'!F15","v":0},0,{"$nulls":3},{"$f":"'Format 1A'!F15","v":0}]
[{"$f":"'Format 1A'!A16","v":0},null,{"$f":"'Format 1A'!C16","v":"NON PLAN - BOYS"},{"$f":"'Format 1A'!D16","v":"LIBRARIAN I"},{"$f":"'Format 1A'!E16","v":"L-12"},{"$f":"'Format 1A'!F16","v":0},0,{"$nulls":3},{"$f":"'Format 1A'!F16","v":0}]
[{"$f":"'Format 1A'!A17","v":0},null,{"$f":"'Format 1A'!C17","v":"NON PLAN - BOYS"},{"$f":"'Format 1A'!D17","v":"BASIC COMPUTER INST."},{"$f":"'Format 1A'!E17","v":"L-8"},{"$f":"'Format 1A'!F17","v":0},0,{"$nulls":3},{"$f":"'Format 1A'!F17","v":0}]
[{"$f":"'Format 1A'!A18","v":3},null,{"$f":"'Format 1A'!C18","v":"NON PLAN - BOYS"},{"$f":"'Format 1A'!D18","v":"TEACHER-II"},{"$f":"'Format 1A'!E18","v":"L-11"},{"$f":"'Format 1A'!F18","v":2},0,{"$nulls":3},{"$f":"'Format 1A'!F18","v":2}]
[{"$f":"'Format 1A'!A19","v":0},null,{"$f":"'Format 1A'!C19","v":"NON PLAN - BOYS"},{"$f":"'Format 1A'!D19","v":"PTI II"},{"$f":"'Format 1A'!E19","v":"L-11"},{"$f":"'Format 1A'!F19","v":0},0,{"$nulls":3},{"$f":"'Format 1A'!F19","v":0}]
[{"$f":"'Format 1A'!A20","v":0},null,{"$f":"'Format 1A'!C20","v":"NON PLAN - BOYS"},{"$f":"'Format 1A'!D20","v":"LIBRARIAN II"},{"$f":"'Format 1A'!E20","v":"L-11"},{"$f":"'Format 1A'!F20","v":0},0,{"$nulls":3},{"$f":"'Format 1A'!F20","v":0}]
[{"$f":"'Format 1A'!A21","v":0},null,{"$f":"'Format 1A'!C21","v":"NON PLAN - BOYS"},{"$f":"'Format 1A'!D21","v":"LAB ASST"},{"$f":"'Format 1A'!E21","v":"L-9"},{"$f":"'Format 1A'!F21","v":0},0,{"$nulls":3},{"$f":"'Format 1A'!F21","v":0}]
[{"$f":"'Format 1A'!A22","v":0},null,{"$f":"'Format 1A'!C22","v":"NON PLAN - BOYS"},{"$f":"'Format 1A'!D22","v":"CLERK GRADE I"},{"$f":"'Format 1A'!E22","v":"L-9"},{"$f":"'Format 1A'!F22","v":0},0,{"$nulls":3},{"$f":"'Format 1A'!F22","v":0}]
[{"$f":"'Format 1A'!A23","v":4},null,{"$f":"'Format 1A'!C23","v":"NON PLAN - BOYS"},{"$f":"'Format 1A'!D23","v":"PTI  III"},{"$f":"'Format 1A'!E23","v":"L-10"},{"$f":"'Format 1A'!F23","v":2},0,{"$nulls":3},{"$f":"'Format 1A'!F23","v":2}]
[{"$f":"'Format 1A'!A24","v":5},null,{"$f":"'Format 1A'!C24","v":"NON PLAN - BOYS"},{"$f":"'Format 1A'!D24","v":"TEACHER-III"},{"$f":"'Format 1A'!E24","v":"L-10"},{"$f":"'Format 1A'!F24","v":17},0,{"$nulls":3},{"$f":"'Format 1A'!F24","v":17}]
[{"$f":"'Format 1A'!A25","v":0},null,{"$f":"'Format 1A'!C25","v":"NON PLAN - BOYS"},{"$f":"'Format 1A'!D25","v":"LIBRARIAN III"},{"$f":"'Format 1A'!E25","v":"L-10"},{"$f":"'Format 1A'!F25","v":0},0,{"$nulls":3},{"$f":"'Format 1A'!F25","v":0}]
[{"$f":"'Format 1A'!A26","v":0},null,{"$f":"'Format 1A'!C26","v":"NON PLAN - BOYS"},{"$f":"'Format 1A'!D26","v":"LAB ASST"},{"$f":"'Format 1A'!E26","v":"L-9"},{"$f":"'Format 1A'!F26","v":0},0,{"$nulls":3},{"$f":"'Format 1A'!F26","v":0}]
[{"$f":"'Format 1A'!A27","v":0},null,{"$f":"'Format 1A'!C27","v":"NON PLAN - BOYS"},{"$f":"'Format 1A'!D27","v":"CLERK GRADE II"},{"$f":"'Format 1A'!E27","v":"L-5"},{"$f":"'Format 1A'!F27","v":0},0,{"$nulls":3},{"$f":"'Format 1A'!F27","v":0}]
[{"$f":"'Format 1A'!A28","v":0},null,{"$f":"'Format 1A'!C28","v":"NON PLAN - BOYS"},{"$f":"'Format 1A'!D28","v":"FIELDMAN & FIELD REC"},{"$f":"'Format 1A'!E28","v":"L-5"},{"$f":"'Format 1A'!F28","v":0},0,{"$nulls":3},{"$f":"'Format 1A'!F28","v":0}]
[{"$f":"'Format 1A'!A29","v":0},null,{"$f":"'Format 1A'!C29","v":"NON PLAN - BOYS"},{"$f":"'Format 1A'!D29","v":"LAB BOY"},{"$f":"'Format 1A'!E29","v":"L-1"},{"$f":"'Format 1A'!F29","v":0},0,{"$nulls":3},{"$f":"'Format 1A'!F29","v":0}]
[{"$f":"'Format 1A'!A30","v":0},null,{"$f":"'Format 1A'!C30","v":"NON PLAN - BOYS"},{"$f":"'Format 1A'!D30","v":"JAMADAR"},{"$f":"'Format 1A'!E30","v":"L-1"},{"$f":"'Format 1A'!F30","v":0},0,{"$nulls":3},{"$f":"'Format 1A'!F30","v":0}]
[{"$f":"'Format 1A'!A31","v":6},null,{"$f":"'Format 1A'!C31","v":"NON PLAN - BOYS"},{"$f":"'Format 1A'!D31","v":"PEON"},{"$f":"'Format 1A'!E31","v":"L-1"},{"$f":"'Format 1A'!F31","v":1},0,{"$nulls":3},{"$f":"'Format 1A'!F31","v":1}]
[{"$f":"'Format 1A'!A32","v":7},null,{"$f":"'Format 1A'!C32","v":"NON PLAN - BOYS"},{"$f":"'Format 1A'!D32","v":"Sanvida Employee"},{"$f":"'Format 1A'!E32","v":"-"},{"$f":"'Format 1A'!F32","v":2},{"$f":"SUM(G7:G29)","v":0},{"$nulls":3},{"$f":"'Format 1A'!F33","v":26}]
[{"$nulls":3},"Total",null,{"$f":"SUM(F7:F30)","v":26},{"$f":"SUM(G7:G30)","v":0}]
[{"$nulls":5},{"$f":"Master!E2","v":"ç/kkukpk;Z]"}]
[{"$nulls":5},{"$f":"Master!H2","v":"jkmekfo jk;eyok³k"}]

{"sheet":"Summary","index":8,"n_rows":51,"n_cols":3,"rows_kept":51,"merged":[[0,3,1048575,3],[1,0,1,2],[2,0,2,2],[3,0,3,2],[4,0,4,2],[49,1,49,2],[50,1,50,2]]}
[null,null,{"$f":"Master!E3","v":{"v":12345,"d":"OFFICE ID :- 12345"}}]
[{"$f":"'Cover Page'!A1","v":"ç/kkukpk;Z] jkmekfo jk;eyok³k ¼vkWfQl vkbZ-Mh- la[;k %&12345½"}]
[{"$f":"CONCATENATE(Master!E1,Master!H1)","v":"Principal Govt. Sr. Sec. School Raimalwada"}]
["la'kksf/kr vuqeku l= 2023&24 vk;&O;;d vuqeku lkjka'k 2024&25"]
[{"$f":"CONCATENATE(\"BUDGET HEAD : \",VLOOKUP(Master!E5,Master!AI4:AN35,3,FALSE))","v":"BUDGET HEAD : 2202 -सामान्य शिक्षा-02-109 -राजकीय माध्यमिक विद्यालय-07 -राष्ट्रीय माध्यमिक शिक्षा अभियान-01 -माध्यमिक शिक्षा अभियान- सामान्य व्यय (S.F. + C.A.)"}]
["fooj.k","la'kksf/kr vuqeku \nl= 2023&24","vk;&O;;d vuqeku\nl= 2024&25"]
["01 laosru"]
["d- osru jktif=r",{"$f":"'Formet 8'!N26","v":823600},{"$f":"'Formet 8'!M26","v":848400}]
["[k- osru vjktif=r",{"$f":"'Formet 8'!N214","v":2967200},{"$f":"'Formet 8'!M214","v":3057200}]
["   ;ksx osru ¼d ls [k rd½ ",{"$f":"SUM(B8:B9)","v":3790800},{"$f":"SUM(C8:C9)","v":3905600}]
["HkÙks ,oa ekuns;"]
[" 1- eagxkbZ HkRrk",{"$f":"'Formet 8'!N217","v":1592136},{"$f":"'Formet 8'!M217","v":1640352}]
[" 2- eagxkbZ HkRrk ,fj;j",{"$f":"'Formet 8'!N218","v":38280},{"$f":"'Formet 8'!M218","v":{"v":77708.40000000001,"d":"77708"}}]
[" 3- fLFkjhdj.k @ p;fur osru @ vU;",{"$f":"'Formet 8'!N219","v":0},{"$f":"'Formet 8'!M219","v":744610}]
[" 4- edku fdjk;k HkRrk",{"$f":"'Formet 8'!N220","v":341172},{"$f":"'Formet 8'!M220","v":351504}]
[" 5- lefiZr vodk'k osru",{"$f":"'Formet 8'!N222","v":219887},{"$f":"'Formet 8'!M222","v":226490}]
[" 6- 'kgjh HkRrk",0,0]
[" 7- cksul",{"$f":"'Formet 8'!N221","v":121932},{"$f":"'Formet 8'!M221","v":121932}]
[" 8- fn- 20-01-06 ls fu;qDr dkfeZdksa dks fu;r ikfjJfed",{"$f":"'Formet 8'!N339","v":483600},{"$f":"'Formet 8'!M339","v":483600}]
[" 9- lafonk dkfeZdksa dks fu;r ikfjJfed",{"$f":"'Formet 8'!N345+'Formet 8'!N367","v":393600},{"$f":"'Formet 8'!M367+'Formet 8'!M345","v":393600}]
[" 10- iz-v- HkRrk",0,0]
["11- jksdM+ HkRrk",{"$f":"'Formet 8'!N223","v":0},{"$f":"'Formet 8'!M223","v":0}]
["12- /kqykbZ HkRrk",{"$f":"'Formet 8'!N225","v":0},{"$f":"'Formet 8'!M225","v":0}]
["13- lkbZfdy HkRrk",0,0]
["14- fodkykax HkRrk",{"$f":"'Formet 8'!N224","v":0},{"$f":"'Formet 8'!M224","v":0}]
["15- vU; HkRrs",0,0]
[";ksx HkÙks ,osa ekuns; II",{"$f":"SUM(B12:B26)","v":3190607},{"$f":"SUM(C12:C26)","v":{"v":4039796.4,"d":"4039796"}}]
[";ksx laosru ( I + II )",{"$f":"B10+B27","v":6981407},{"$f":"C10+C27","v":{"v":7945396.4,"d":"7945396"}}]
["89 va'knk;h is'ku ;kstuk esa ljdkj dk va'knku",0,0]
["03 ;k=k O;;",{"$f":"'Formet 8'!N370","v":0},{"$f":"'Formet 8'!M370","v":50000}]
["04 fpfdRlk O;;",{"$f":"'Formet 8'!N371","v":0},{"$f":"'Formet 8'!M371","v":0}]
[";ksx %& QkeZ th-,- 4",{"$f":"SUM(B28:B31)","v":6981407},{"$f":"SUM(C28:C31)","v":{"v":7995396.4,"d":"7995396"}}]
["05 dk;kZy; O;;",{"$f":"'Formet 9'!L24","v":2500},{"$f":"'Formet 9'!M24","v":2500}]
["07 dk;kZy; okguksa dk lapkyu ,oa la/kkj.k",0,0]
["08 o`frd ,oa fof'k\"B lsok,sa",0,0]
["09 fdjk;k jsaV dj vkSj jk;YVh",0,0]
["10 izdk'ku",0,0]
["11 foKkiu foØ; izpkj vkSj izlkj O;;",0,0]
["20 dk;Zdyki laca/kh okguksa dk la/kkj.k",0,0]
["28 fofo/k O;;",{"$f":"'Formet 9'!L25","v":0},{"$f":"'Formet 9'!M25","v":0}]
["31 iqLrdky; ,oa i= if=dkvksa ij O;;",{"$f":"'Formet 9'!L26","v":0},{"$f":"'Formet 9'!M26","v":0}]
["33 iz;ksx'kkyk",{"$f":"'Formet 9'!L27","v":0},{"$f":"'Formet 9'!M27","v":0}]
["37 ofnZ;ka",{"$f":"'Formet 9'!L29","v":0},{"$f":"'Formet 9'!M29","v":0}]
["41 lafonk O;;",0,0]
["57 foHkkxksa dh fof'k\"B lsokvksa ij O;;",{"$f":"'Formet 9'!L28","v":0},{"$f":"'Formet 9'!M28","v":0}]
[";ksx %& th-,- 5",{"$f":"SUM(B33:B45)","v":2500},{"$f":"SUM(C33:C45)","v":2500}]
[";ksx %& th-,- 4",{"$f":"B32","v":6981407},{"$f":"C32","v":{"v":7995396.4,"d":"7995396"}}]
["egk;ksx%& ¼th-,- 4 $ th-,- 5½",{"$f":"SUM(B46:B47)","v":6983907},{"$f":"SUM(C46:C47)","v":{"v":7997896.4,"d":"7997896"}}]
[]
[null,{"$f":"Master!E2","v":"ç/kkukpk;Z]"}]
[null,{"$f":"Master!H2","v":"jkmekfo jk;eyok³k"}]

{"sheet":"sharansh","index":9,"n_rows":62,"n_cols":10,"rows_kept":62,"merged":[[0,1,0,9],[0,10,61,10],[1,1,1,9],[2,1,2,9],[3,1,3,6],[3,7,3,8],[4,1,5,1],[4,2,5,2],[4,3,4,5],[4,6,5,6],[4,7,4,8],[5,7,6,7],[7,7,8,7],[9,7,9,8],[10,7,10,8],[11,7,11,8],[12,7,12,8],[13,7,13,8],[14,7,14,8],[15,7,15,8],[16,7,16,8],[17,1,17,2],[17,3,17,5],[17,7,19,9],[18,1,18,6],[19,1,19,2],[19,3,19,5],[20,1,20,2],[20,3,20,5],[20,7,25,9],[21,1,21,2],[21,3,21,5],[22,1,22,6],[23,1,23,2],[23,3,23,5],[24,1,24,2],[24,3,24,5],[25,1,25,2],[25,3,25,5],[26,1,26,2],[26,3,26,5],[26,7,36,9],[27,1,27,2],[27,3,27,5],[28,1,28,2],[28,3,28,5],[29,1,29,2],[29,3,29,5],[30,1,30,2],[30,3,30,5],[31,1,31,2],[31,3,31,5],[32,1,32,2],[32,3,32,5],[33,1,33,2],[33,3,33,5],[34,1,34,2],[34,3,34,5],[35,1,35,2],[35,3,35,5],[36,1,36,2],[36,3,36,5],[37,1,37,2],[37,3,37,5],[37,7,39,9],[38,1,38,2],[38,3,38,5],[39,1,39,2],[39,3,39,5],[40,1,40,2],[40,3,40,5],[40,7,43,9],[41,1,41,2],[41,3,41,5],[42,1,42,2],[42,3,42,5],[43,1,43,2],[43,3,43,5],[44,1,44,2],[44,3,44,5],[44,7,47,9],[45,1,45,2],[45,3,45,5],[46,1,46,2],[46,3,46,5],[47,1,47,2],[47,3,47,5],[48,1,48,2],[48,3,48,5],[48,7,59,9],[49,1,49,2],[49,3,49,5],[50,1,50,2],[50,3,50,5],[51,1,51,2],[51,3,51,5],[52,1,52,2],[52,3,52,5],[53,1,53,2],[53,3,53,5],[54,1,54,2],[54,3,54,5],[55,1,55,2],[55,3,55,5],[56,1,56,2],[56,3,56,5],[57,1,57,2],[57,3,57,5],[58,1,58,2],[58,3,58,5],[59,1,59,2],[59,3,59,5],[60,1,60,9],[61,1,61,6],[61,7,61,9]]}
[null,{"$f":"'P-2'!C4","v":"vk; dk foLr`r ctV vuqeku foÙkh; o\"kZ  ¼ 1 vizSy ls 31 ekpZ rd ½ dk"}]
[null,{"$f":"Summary!A2","v":"ç/kkukpk;Z] jkmekfo jk;eyok³k ¼vkWfQl vkbZ-Mh- la[;k %&12345½"}]
[null,{"$f":"Summary!A5","v":"BUDGET HEAD : 2202 -सामान्य शिक्षा-02-109 -राजकीय माध्यमिक विद्यालय-07 -राष्ट्रीय माध्यमिक शिक्षा अभियान-01 -माध्यमिक शिक्षा अभियान- सामान्य व्यय (S.F. + C.A.)"}]
[null," lkajk'k ¼nks izfr;ksa esa½",{"$nulls":5},"vkWfQl vkbZMh %",null,{"$f":"Master!E3","v":12345}]
[null,"¼lEcfU/kr ys[kken esa Lohd`r inks vuqlkj leLr½ in uke","Lohd`r","fu;fer dk;Zjr deZpkjh",null,null,"fnukad 31-08-2023 dks fjDr inksa dh la[;k","fooj.k",null,"la[;k"]
[{"$nulls":3},"01-01-2004 ls iwoZ fu;qDr","01-01-2004 ds ckn fu;qDr","dqy",null,"teknkj","iq:\"k",0]
[null,{"$f":"A!D9","v":"PRINCIPAL"},{"$f":"A!F9","v":1},{"$f":"A!G9","v":0},{"$f":"A!H9","v":1},{"$f":"IF(B7=\"\",\"\",SUM(D7:E7))","v":1},{"$f":"IF(B7=\"\",\"\",(C7-F7))","v":0},null,"efgyk",0]
[null,{"$f":"A!D10","v":"LECTURER"},{"$f":"A!F10","v":1},{"$f":"A!G10","v":0},{"$f":"A!H10","v":1},{"$f":"IF(B8=\"\",\"\",SUM(D8:E8))","v":1},{"$f":"IF(B8=\"\",\"\",(C8-F8))","v":0},"p0Js0deZ0","iq:\"k\n\n",0]
[null,{"$f":"A!D11","v":"TEACHER-II"},{"$f":"A!F11","v":2},{"$f":"A!G11","v":0},{"$f":"A!H11","v":1},1,1,null,"efgyk",0]
[null,{"$f":"A!D12","v":"PTI  III"},{"$f":"A!F12","v":2},{"$f":"A!G12","v":0},{"$f":"A!H12","v":0},0,2,"jktif=r dkfeZd",null,0]
[null,{"$f":"A!D13","v":"TEACHER-III"},{"$f":"A!F13","v":17},{"$f":"A!G13","v":0},{"$f":"A!H13","v":5},5,12,"vjktif=r dkfeZd",null,{"$f":"F17","v":11}]
[null,{"$f":"A!D14","v":"PEON"},{"$f":"A!F14","v":1},{"$f":"A!G14","v":0},{"$f":"A!H14","v":1},1,0,"dqy",null,{"$f":"SUM(J10:J11)","v":11}]
[null,{"$f":"A!D15","v":"Sanvida Employee"},{"$f":"A!F15","v":2},{"$f":"A!G15","v":0},{"$f":"A!H15","v":2},2,0,"fLFkj osru deZpkjh",null,0]
[null,{"$f":"A!D16","v":""},{"$f":"A!F16","v":""},{"$f":"A!G16","v":""},{"$f":"A!H16","v":""},"","","fQDl osru deZpkjh",null,0]
[null,{"$f":"A!D17","v":""},{"$f":"A!F17","v":""},{"$f":"A!G17","v":""},{"$f":"A!H17","v":""},"","","dk;Zjr fo|kFkhZ fe= ",null,0]
[null,{"$f":"A!D18","v":""},{"$f":"A!F18","v":""},{"$f":"A!G18","v":""},{"$f":"A!H18","v":""},"","","Lohd`r lafonk deZpkjh ;fn gks",null,0]
[null,";ksx",{"$f":"SUM(C7:C16)","v":26},{"$f":"SUM(D7:D16)","v":0},{"$f":"SUM(E7:E16)","v":11},11,{"$f":"SUM(G7:G16)","v":15},"fuyfEcr dkfeZd",null,0]
[null,"fooj.k",null,"la'kksf/kr vuqeku\n2023&24\n¼jkf'k yk[kks esa½",null,null,"vk; O;;d vuqeku\n2024&25\n¼jkf'k yk[kks esa½","1- dk;kZy; nwjHkk\"k \n"]
[null,"01 laaosru"]
[null,"¼d½ osru jktif=r ¼xzsM is $ is cS.M½",null,{"$f":"Summary!B8","v":823600},null,null,{"$f":"Summary!C8","v":848400}]
[null,"¼[k½ osru vjktif=r ¼xzsM is $ is cS.M½",null,{"$f":"Summary!B9","v":2967200},null,null,{"$f":"Summary!C9","v":3057200},{"$f":"Master!I4","v":0}]
[null,{"$f":"Summary!A10","v":"   ;ksx osru ¼d ls [k rd½ "},null,{"$f":"SUM(D20:F21)","v":3790800},null,null,{"$f":"SUM(G20:G21)","v":3905600}]
[null,"02 HkRrs ,oa ekuns;"]
[null,{"$f":"Summary!A12","v":" 1- eagxkbZ HkRrk"},null,{"$f":"Summary!B12","v":1592136},null,null,{"$f":"Summary!C12","v":1640352}]
[null,{"$f":"Summary!A13","v":" 2- eagxkbZ HkRrk ,fj;j"},null,{"$f":"Summary!B13","v":38280},null,null,{"$f":"Summary!C13","v":{"v":77708.40000000001,"d":"77708"}}]
[null,{"$f":"Summary!A14","v":" 3- fLFkjhdj.k @ p;fur osru @ vU;"},null,{"$f":"Summary!B14","v":0},null,null,{"$f":"Summary!C14","v":744610}]
[null,{"$f":"Summary!A15","v":" 4- edku fdjk;k HkRrk"},null,{"$f":"Summary!B15","v":341172},null,null,{"$f":"Summary!C15","v":351504},{"$f":"CONCATENATE(\"2-\",\" \",Master!I3,\"            \",Master!E2,\"¼\",Master!H2,\"½\",\"eksckbZy ua-\",\"-\",Master!I4)","v":"2-             ç/kkukpk;Z]¼jkmekfo jk;eyok³k½eksckbZy ua--"}]
[null,{"$f":"Summary!A16","v":" 5- lefiZr vodk'k osru"},null,{"$f":"Summary!B16","v":219887},null,null,{"$f":"Summary!C16","v":226490}]
[null,{"$f":"Summary!A17","v":" 6- 'kgjh HkRrk"},null,{"$f":"Summary!B17","v":0},null,null,{"$f":"Summary!C17","v":0}]
[null,{"$f":"Summary!A18","v":" 7- cksul"},null,{"$f":"Summary!B18","v":121932},null,null,{"$f":"Summary!C18","v":121932}]
[null,{"$f":"Summary!A19","v":" 8- fn- 20-01-06 ls fu;qDr dkfeZdksa dks fu;r ikfjJfed"},null,{"$f":"Summary!B19","v":483600},null,null,{"$f":"Summary!C19","v":483600}]
[null,{"$f":"Summary!A20","v":" 9- lafonk dkfeZdksa dks fu;r ikfjJfed"},null,{"$f":"Summary!B20","v":393600},null,null,{"$f":"Summary!C20","v":393600}]
[null,{"$f":"Summary!A21","v":" 10- iz-v- HkRrk"},null,{"$f":"Summary!B21","v":0},null,null,{"$f":"Summary!C21","v":0}]
[null,{"$f":"Summary!A22","v":"11- jksdM+ HkRrk"},null,{"$f":"Summary!B22","v":0},null,null,{"$f":"Summary!C22","v":0}]
[null,{"$f":"Summary!A23","v":"12- /kqykbZ HkRrk"},null,{"$f":"Summary!B23","v":0},null,null,{"$f":"Summary!C23","v":0}]
[null,{"$f":"Summary!A24","v":"13- lkbZfdy HkRrk"},null,{"$f":"Summary!B24","v":0},null,null,{"$f":"Summary!C24","v":0}]
[null,{"$f":"Summary!A25","v":"14- fodkykax HkRrk"},null,{"$f":"Summary!B25","v":0},null,null,{"$f":"Summary!C25","v":0}]
[null,{"$f":"Summary!A26","v":"15- vU; HkRrs"},null,{"$f":"Summary!B26","v":0},null,null,{"$f":"Summary!C26","v":0},"3 laEcfU/kr dkfeZd %&"]
[null,";ksx HkRrs ,oa ekuns;",null,{"$f":"SUM(D24:F38)","v":3190607},null,null,{"$f":"SUM(G24:G38)","v":4039796.4}]
[null,"loZ;ksx laosru ¼01$02½ ",null,{"$f":"SUM(D22,D39)","v":6981407},null,null,{"$f":"SUM(G22,G39)","v":{"v":7945396.4,"d":"7945396"}}]
[null,{"$f":"Summary!A29","v":"89 va'knk;h is'ku ;kstuk esa ljdkj dk va'knku"},null,{"$f":"Summary!B29","v":0},null,null,{"$f":"Summary!C29","v":0},{"$f":"CONCATENATE(\"¼d½\",\" \",Master!M2,\"¼\",Master!M3,\"½\")","v":"¼d½ ¼½"}]
[null,{"$f":"Summary!A30","v":"03 ;k=k O;;"},null,{"$f":"Summary!B30","v":0},null,null,{"$f":"Summary!C30","v":50000}]
[null,{"$f":"Summary!A31","v":"04 fpfdRlk O;;"},null,{"$f":"Summary!B31","v":0},null,null,{"$f":"Summary!C31","v":0}]
[null,{"$f":"Summary!A32","v":";ksx %& QkeZ th-,- 4"},null,{"$f":"Summary!B32","v":6981407},null,null,{"$f":"Summary!C32","v":{"v":7995396.4,"d":"7995396"}}]
[null,{"$f":"Summary!A33","v":"05 dk;kZy; O;;"},null,{"$f":"Summary!B33","v":2500},null,null,{"$f":"Summary!C33","v":2500},{"$f":"CONCATENATE(\"¼[k½\",\" \",Master!M4,\"¼\",Master!M5,\"½\")","v":"¼[k½ ¼½"}]
[null,{"$f":"Summary!A34","v":"07 dk;kZy; okguksa dk lapkyu ,oa la/kkj.k"},null,{"$f":"Summary!B34","v":0},null,null,{"$f":"Summary!C34","v":0}]
[null,{"$f":"Summary!A35","v":"08 o`frd ,oa fof'k\"B lsok,sa"},null,{"$f":"Summary!B35","v":0},null,null,{"$f":"Summary!C35","v":0}]
[null,{"$f":"Summary!A36","v":"09 fdjk;k jsaV dj vkSj jk;YVh"},null,{"$f":"Summary!B36","v":0},null,null,{"$f":"Summary!C36","v":0}]
[null,{"$f":"Summary!A37","v":"10 izdk'ku"},null,{"$f":"Summary!B37","v":0},null,null,{"$f":"Summary!C37","v":0}]
[null,{"$f":"Summary!A38","v":"11 foKkiu foØ; izpkj vkSj izlkj O;;"},null,{"$f":"Summary!B38","v":0},null,null,{"$f":"Summary!C38","v":0}]
[null,{"$f":"Summary!A39","v":"20 dk;Zdyki laca/kh okguksa dk la/kkj.k"},null,{"$f":"Summary!B39","v":0},null,null,{"$f":"Summary!C39","v":0}]
[null,{"$f":"Summary!A40","v":"28 fofo/k O;;"},null,{"$f":"Summary!B40","v":0},null,null,{"$f":"Summary!C40","v":0}]
[null,{"$f":"Summary!A41","v":"31 iqLrdky; ,oa i= if=dkvksa ij O;;"},null,{"$f":"Summary!B41","v":0},null,null,{"$f":"Summary!C41","v":0}]
[null,{"$f":"Summary!A42","v":"33 iz;ksx'kkyk"},null,{"$f":"Summary!B42","v":0},null,null,{"$f":"Summary!C42","v":0}]
[null,{"$f":"Summary!A43","v":"37 ofnZ;ka"},null,{"$f":"Summary!B43","v":0},null,null,{"$f":"Summary!C43","v":0}]
[null,{"$f":"Summary!A44","v":"41 lafonk O;;"},null,{"$f":"Summary!B44","v":0},null,null,{"$f":"Summary!C44","v":0}]
[null,{"$f":"Summary!A45","v":"57 foHkkxksa dh fof'k\"B lsokvksa ij O;;"},null,{"$f":"Summary!B45","v":0},null,null,{"$f":"Summary!C45","v":0}]
[null,{"$f":"Summary!A46","v":";ksx %& th-,- 5"},null,{"$f":"Summary!B46","v":2500},null,null,{"$f":"Summary!C46","v":2500}]
[null,{"$f":"Summary!A47","v":";ksx %& th-,- 4"},null,{"$f":"Summary!B47","v":6981407},null,null,{"$f":"Summary!C47","v":{"v":7995396.4,"d":"7995396"}}]
[null,{"$f":"Summary!A48","v":"egk;ksx%& ¼th-,- 4 $ th-,- 5½"},null,{"$f":"Summary!B48","v":6983907},null,null,{"$f":"Summary!C48","v":{"v":7997896.4,"d":"7997896"}}]
[null,"izekf.kr fd;k tkrk gS fd mDr fooj.k dk O;fDrxr ijh{k.k dj fy;k x;k gS rFkk fooj.k iw.kZ #i ls lgh gSA leLr cdk;k nkf;Roksa dk mDr lwpuk esa 'kkfey dj fy;k x;k gS ftrus Hkh cdk;k nkf;Ro gZS mudk foLr`r enokj fooj.k layXu gSA"]
[{"$nulls":7},{"$f":"B2","v":"ç/kkukpk;Z] jkmekfo jk;eyok³k ¼vkWfQl vkbZ-Mh- la[;k %&12345½"}]

{"sheet":"A","index":10,"n_rows":22,"n_cols":10,"rows_kept":22,"merged":[[0,0,0,9],[0,10,22,10],[1,0,1,9],[2,0,2,2],[2,3,2,8],[3,0,3,9],[4,0,6,0],[4,1,6,1],[4,2,6,2],[4,3,6,3],[4,4,6,4],[4,5,6,5],[4,6,4,8],[4,9,6,9],[5,6,6,6],[5,7,6,7],[5,8,6,8],[8,1,17,1],[8,2,17,2],[18,1,18,4],[20,0,20,9],[21,0,22,5],[21,8,22,9]]}
["izi= & 1 ¼v½"]
["fu;fer@dk;Z&izHkkfjr Lohd`r inksa dk fooj.k"]
[{"$f":"Master!G5","v":"2202-02-109-(07)-(01) (STATE FUND+CENTRAL ASS.)"},null,null,{"$f":"'Cover Page'!A1","v":"ç/kkukpk;Z] jkmekfo jk;eyok³k ¼vkWfQl vkbZ-Mh- la[;k %&12345½"},{"$nulls":5},{"$f":"Master!E3","v":12345}]
[{"$f":"Summary!A5","v":"BUDGET HEAD : 2202 -सामान्य शिक्षा-02-109 -राजकीय माध्यमिक विद्यालय-07 -राष्ट्रीय माध्यमिक शिक्षा अभियान-01 -माध्यमिक शिक्षा अभियान- सामान्य व्यय (S.F. + C.A.)"}]
["Ø-l-","ys[kksa dk 'kh\"kZ nh?kZ 'kh\"kZ@ minh?kZ 'kh\"kZ@y/kq 'kh\"kZ@mi'kh\"kZ","jkT; fuf/k@dsUnzh; lgk;rk","in uke","is eSfVªDl ysoy","orZeku Lohd`r inksa dh \nla[;k ","fu;fer dk;Zjr deZpkjh",null,null,"fnukad 31-08-2023 dks fjDr inksa dh la[;k [6-9)]"]
[{"$nulls":6},"01-01-2004 ls iwoZ fu;qDr","01-01-2004 ds ckn fu;qDr",";ksx"]
[]
[1,2,3,4,5,6,7,8,9,10]
[1,{"$f":"VLOOKUP(Master!E5,Master!AI4:AN35,3,FALSE)","v":"2202 -सामान्य शिक्षा-02-109 -राजकीय माध्यमिक विद्यालय-07 -राष्ट्रीय माध्यमिक शिक्षा अभियान-01 -माध्यमिक शिक्षा अभियान- सामान्य व्यय (S.F. + C.A.)"},"jkT; fuf/k@dsUnzh; lgk;rk",{"$f":"IF(MAX('Format 1A'!$A$9:$A$32)<$A9,\"\",VLOOKUP($A9,'Format 1A'!$A$9:$O$32,4,0))","v":"PRINCIPAL"},{"$f":"IF($A9>=MAX('Format 1A'!$A$9:$A$32),\"\",VLOOKUP($A9,'Format 1A'!$A$9:$O$32,5,0))","v":"L-16"},{"$f":"IF(D9=\"\",\"\",VLOOKUP($A9,'Format 1A'!$A$9:$O$32,6,0))","v":1},{"$f":"IF(D9=\"\",\"\",VLOOKUP($A9,'Format 1A'!$A$9:$O$32,10,0))","v":0},{"$f":"IF(D9=\"\",\"\",VLOOKUP($A9,'Format 1A'!$A$9:$O$32,11,0))","v":1},{"$f":"IF(D9=\"\",\"\",SUM(G9:H9))","v":1},{"$f":"IF(D9=\"\",\"\",F9-I9)","v":0}]
[2,null,null,{"$f":"IF(MAX('Format 1A'!$A$9:$A$32)<$A10,\"\",VLOOKUP($A10,'Format 1A'!$A$9:$O$32,4,0))","v":"LECTURER"},{"$f":"IF(MAX('Format 1A'!$A$9:$A$32)<$A10,\"\",VLOOKUP($A10,'Format 1A'!$A$9:$O$32,5,0))","v":"L-12"},{"$f":"IF(D10=\"\",\"\",VLOOKUP($A10,'Format 1A'!$A$9:$O$32,6,0))","v":1},{"$f":"IF(D10=\"\",\"\",VLOOKUP($A10,'Format 1A'!$A$9:$O$32,10,0))","v":0},{"$f":"IF(D10=\"\",\"\",VLOOKUP($A10,'Format 1A'!$A$9:$O$32,11,0))","v":1},{"$f":"IF(D10=\"\",\"\",SUM(G10:H10))","v":1},{"$f":"IF(D10=\"\",\"\",F10-I10)","v":0}]
[3,null,null,{"$f":"IF(MAX('Format 1A'!$A$9:$A$32)<$A11,\"\",VLOOKUP($A11,'Format 1A'!$A$9:$O$32,4,0))","v":"TEACHER-II"},{"$f":"IF(MAX('Format 1A'!$A$9:$A$32)<$A11,\"\",VLOOKUP($A11,'Format 1A'!$A$9:$O$32,5,0))","v":"L-11"},{"$f":"IF(D11=\"\",\"\",VLOOKUP($A11,'Format 1A'!$A$9:$O$32,6,0))","v":2},{"$f":"IF(D11=\"\",\"\",VLOOKUP($A11,'Format 1A'!$A$9:$O$32,10,0))","v":0},{"$f":"IF(D11=\"\",\"\",VLOOKUP($A11,'Format 1A'!$A$9:$O$32,11,0))","v":1},1,1]
[4,null,null,{"$f":"IF(MAX('Format 1A'!$A$9:$A$32)<$A12,\"\",VLOOKUP($A12,'Format 1A'!$A$9:$O$32,4,0))","v":"PTI  III"},{"$f":"IF(MAX('Format 1A'!$A$9:$A$32)<$A12,\"\",VLOOKUP($A12,'Format 1A'!$A$9:$O$32,5,0))","v":"L-10"},{"$f":"IF(D12=\"\",\"\",VLOOKUP($A12,'Format 1A'!$A$9:$O$32,6,0))","v":2},{"$f":"IF(D12=\"\",\"\",VLOOKUP($A12,'Format 1A'!$A$9:$O$32,10,0))","v":0},{"$f":"IF(D12=\"\",\"\",VLOOKUP($A12,'Format 1A'!$A$9:$O$32,11,0))","v":0},0,2]
[5,null,null,{"$f":"IF(MAX('Format 1A'!$A$9:$A$32)<$A13,\"\",VLOOKUP($A13,'Format 1A'!$A$9:$O$32,4,0))","v":"TEACHER-III"},{"$f":"IF(MAX('Format 1A'!$A$9:$A$32)<$A13,\"\",VLOOKUP($A13,'Format 1A'!$A$9:$O$32,5,0))","v":"L-10"},{"$f":"IF(D13=\"\",\"\",VLOOKUP($A13,'Format 1A'!$A$9:$O$32,6,0))","v":17},{"$f":"IF(D13=\"\",\"\",VLOOKUP($A13,'Format 1A'!$A$9:$O$32,10,0))","v":0},{"$f":"IF(D13=\"\",\"\",VLOOKUP($A13,'Format 1A'!$A$9:$O$32,11,0))","v":5},5,12]
[6,null,null,{"$f":"IF(MAX('Format 1A'!$A$9:$A$32)<$A14,\"\",VLOOKUP($A14,'Format 1A'!$A$9:$O$32,4,0))","v":"PEON"},{"$f":"IF(MAX('Format 1A'!$A$9:$A$32)<$A14,\"\",VLOOKUP($A14,'Format 1A'!$A$9:$O$32,5,0))","v":"L-1"},{"$f":"IF(D14=\"\",\"\",VLOOKUP($A14,'Format 1A'!$A$9:$O$32,6,0))","v":1},{"$f":"IF(D14=\"\",\"\",VLOOKUP($A14,'Format 1A'!$A$9:$O$32,10,0))","v":0},{"$f":"IF(D14=\"\",\"\",VLOOKUP($A14,'Format 1A'!$A$9:$O$32,11,0))","v":1},1,0]
[7,null,null,{"$f":"IF(MAX('Format 1A'!$A$9:$A$32)<$A15,\"\",VLOOKUP($A15,'Format 1A'!$A$9:$O$32,4,0))","v":"Sanvida Employee"},{"$f":"IF(MAX('Format 1A'!$A$9:$A$32)<$A15,\"\",VLOOKUP($A15,'Format 1A'!$A$9:$O$32,5,0))","v":"-"},{"$f":"IF(D15=\"\",\"\",VLOOKUP($A15,'Format 1A'!$A$9:$O$32,6,0))","v":2},{"$f":"IF(D15=\"\",\"\",VLOOKUP($A15,'Format 1A'!$A$9:$O$32,10,0))","v":0},{"$f":"IF(D15=\"\",\"\",VLOOKUP($A15,'Format 1A'!$A$9:$O$32,11,0))","v":2},2,0]
[8,null,null,{"$f":"IF(MAX('Format 1A'!$A$9:$A$32)<$A16,\"\",VLOOKUP($A16,'Format 1A'!$A$9:$O$32,4,0))","v":""},{"$f":"IF(MAX('Format 1A'!$A$9:$A$32)<$A16,\"\",VLOOKUP($A16,'Format 1A'!$A$9:$O$32,5,0))","v":""},{"$f":"IF(D16=\"\",\"\",VLOOKUP($A16,'Format 1A'!$A$9:$O$32,6,0))","v":""},{"$f":"IF(D16=\"\",\"\",VLOOKUP($A16,'Format 1A'!$A$9:$O$32,10,0))","v":""},{"$f":"IF(D16=\"\",\"\",VLOOKUP($A16,'Format 1A'!$A$9:$O$32,11,0))","v":""},"",""]
[9,null,null,{"$f":"IF(MAX('Format 1A'!$A$9:$A$32)<$A17,\"\",VLOOKUP($A17,'Format 1A'!$A$9:$O$32,4,0))","v":""},{"$f":"IF(MAX('Format 1A'!$A$9:$A$32)<$A17,\"\",VLOOKUP($A17,'Format 1A'!$A$9:$O$32,5,0))","v":""},{"$f":"IF(D17=\"\",\"\",VLOOKUP($A17,'Format 1A'!$A$9:$O$32,6,0))","v":""},{"$f":"IF(D17=\"\",\"\",VLOOKUP($A17,'Format 1A'!$A$9:$O$32,10,0))","v":""},{"$f":"IF(D17=\"\",\"\",VLOOKUP($A17,'Format 1A'!$A$9:$O$32,11,0))","v":""},"",""]
[10,null,null,{"$f":"IF(MAX('Format 1A'!$A$9:$A$32)<$A18,\"\",VLOOKUP($A18,'Format 1A'!$A$9:$O$32,4,0))","v":""},{"$f":"IF(MAX('Format 1A'!$A$9:$A$32)<$A18,\"\",VLOOKUP($A18,'Format 1A'!$A$9:$O$32,5,0))","v":""},{"$f":"IF(D18=\"\",\"\",VLOOKUP($A18,'Format 1A'!$A$9:$O$32,6,0))","v":""},{"$f":"IF(D18=\"\",\"\",VLOOKUP($A18,'Format 1A'!$A$9:$O$32,10,0))","v":""},{"$f":"IF(D18=\"\",\"\",VLOOKUP($A18,'Format 1A'!$A$9:$O$32,11,0))","v":""},"",""]
[null,";ksx",{"$nulls":3},{"$f":"SUM(F9:F18)","v":26},{"$f":"SUM(G9:G18)","v":0},11,11,15]
[]
["izekf.kr fd;k tkrk gS fd inksa ds lanHkZ esa mi;qZä lwpuk dh esjs }kjk O;fäxr :i ls tkap dj yh xbZ gS\n vkSj bls lgh ik;k x;k gSA"]
[{"$nulls":8},{"$f":"CONCATENATE(Master!E2,\"  \",Master!H2)","v":"ç/kkukpk;Z]  jkmekfo jk;eyok³k"}]

{"sheet":"Formet 8","index":11,"n_rows":748,"n_cols":81,"rows_kept":748,"merged":[[0,12,0,14],[0,79,376,79],[1,1,1,14],[2,1,2,14],[3,1,3,14],[4,1,4,14],[5,1,5,14],[6,1,7,13],[6,14,7,14],[8,1,9,1],[8,2,9,2],[8,3,9,3],[8,4,9,4],[8,5,9,5],[8,6,9,6],[8,8,9,8],[8,9,9,9],[8,10,8,11],[8,12,9,12],[8,13,9,13],[8,14,9,14],[8,20,9,20],[8,21,9,21],[8,22,9,22],[8,23,9,23],[8,24,9,24],[8,25,8,26],[8,27,8,28],[8,29,8,30],[25,1,25,4],[217,4,217,6],[225,1,225,4],[226,1,226,14],[236,2,236,14],[339,1,339,14],[345,2,345,14],[373,12,373,14],[374,12,376,14]]}
[{"$nulls":12},{"$f":"Summary!$C$1","v":{"v":12345,"d":"OFFICE ID 12345"}},{"$nulls":13},"GAZETTED - REGULAR"]
[null,{"$f":"'Cover Page'!A1","v":"ç/kkukpk;Z] jkmekfo jk;eyok³k ¼vkWfQl vkbZ-Mh- la[;k %&12345½"},{"$nulls":24},"NON GAZETTED - REGULAR"]
[null,"izi= & 8",{"$nulls":24},"GAZETTED - FIX PAY"]
[null,"fuf'pr O;;ksa ds foLr`r vuqeku vFkkZr vf/kdkfj;ksa o deZpkfj;ksa ",{"$nulls":24},"NON GAZETTED - FIX PAY"]
[null,"ds osru vuqeku o\"kZ ¼vizSy ls ekpZ rd½",{"$nulls":24},"GAZETTED - SANVIDA"]
[null,"¼ctV vuqeku vf/kdkfj;ksa }kjk foHkkxk/;{k dks izLrqr djus gsrq½",{"$nulls":24},"NON GAZETTED - SANVIDA"]
[null,{"$f":"Summary!$A$5","v":"BUDGET HEAD : 2202 -सामान्य शिक्षा-02-109 -राजकीय माध्यमिक विद्यालय-07 -राष्ट्रीय माध्यमिक शिक्षा अभियान-01 -माध्यमिक शिक्षा अभियान- सामान्य व्यय (S.F. + C.A.)"},{"$nulls":12},"¼jkf'k :i;ksa esa½"]
[]
[null,"ys[kk 'kh\"kZd ¼foLr`r 'kh\"kZ½","Øe la[;k","uke","deZpkjh vkbZ-Mh- la[;k","th-ih-,Q-@ ,u-ih-,l- uEcj","in",null,"ctV dh izkjfEHkd frfFk ;kfu 1 ekpZ dks deZpkjh dk osru","igyh ekpZ ls vfUre Qjojh ds fy;s fu/kkZfjr jde","o`f) tks bl vof/k esa gksxh",null,"vkxkeh o\"kZ ds fy;s jde ¼dkWye 9 vkSj 11 dk ;ksx½","pkyw o\"kZ ds fy, la'kksf/kr vuqeku","fo'ks\"k fooj.k",{"$nulls":5},"Handicap Allo.","tUe frfFk","fu;qfDr frFkh","Cash  All Yes / No","Male / Female","Liveries Jamadar",null,"Liveries Lab Boy",null,"Liveries Peon",null,null,"BUDGET ESTIMATE",{"$nulls":17},"REVISED ESTIMATE"]
[{"$nulls":7},"is esfVªDl ysoy",null,null,"frfFk o`f)","jde o`f)",{"$nulls":13},"MALE"," FEMALE","MALE"," FEMALE","MALE"," FEMALE","Back Increement","Salary Gazetted REGULAR","Salary Non-Gazetted\nREGULAR","Salary Gazetted FIXED","Salary Non-Gazetted FIXED",{"$f":"G217","v":{"v":0.42,"d":"D.A. @ 42%"}},{"v":0,"d":"D.A. Arear @ 00%"},"Arear",{"v":0.1,"d":"HRA @ 10%"},"Bonus","Surrender","Cash. Allow.","Handicap Allow.","Washing Allow.","TOTAL Regular","Net Salary","Travelling Expenses","Medical Expenses","Grand Total","Salary Gazetted REGULAR","Salary Non-Gazetted\nREGULAR","Salary Gazetted FIXED","Salary Non-Gazetted FIXED",{"$f":"AK10","v":{"v":0.42,"d":"D.A. @ 42%"}},{"$f":"E218","v":{"v":0.04,"d":"D.A. Arear @ 04%"}},"Arear",{"v":0.08,"d":"HRA @ 08%"},"Bonus","Surrender","Cash. Allow.","Handicap Allow.","Washing Allow.","TOTAL Regular","Net Salary","Travelling Expenses","Medical Expenses","Grand Total GA-1","Guz. ","Non Guz.","Guz. Fix Pay","Non Guz. Fix Pay","Fix Pay","Cash All","NPS","working","SANVIDA","Sanvida Amount"]
[null,1,1,2,3,4,5,6,7,8,9,10,11,12,13,{"$nulls":6},15,16,18,19,25,26,27,28,27,28,null,16,17,18,19,20,21,22,23,24,25,27,28,30,31,32,33,34,35,36,37,38,39,40,41,42,43,44,45,47,48,50,51,52,53,54,55,56,57,58,59]
[{"$f":"IF(I12=\"\",\"\",IF(I12>0,1,\"\"))","v":1},2202,1,{"$f":"IF(ISNA(VLOOKUP(C12,Master!AD$60:AP$107,3,FALSE)),\"\",VLOOKUP(C12,Master!AD$60:AP$107,3,FALSE))","v":"ABC"},{"$f":"IF(ISNA(VLOOKUP(C12,Master!AD$60:AP$107,7,FALSE)),\"\",VLOOKUP(C12,Master!AD$60:AP$107,7,FALSE))","v":"RJJO201525014204"},{"$f":"IF(ISNA(VLOOKUP(C12,Master!AD$60:AP$107,8,FALSE)),\"\",VLOOKUP(C12,Master!AD$60:AP$107,8,FALSE))","v":0},{"$f":"IF(ISNA(VLOOKUP(C12,Master!AD$60:AP$107,4,FALSE)),\"\",VLOOKUP(C12,Master!AD$60:AP$107,4,FALSE))","v":"PRINCIPAL"},{"$f":"IF(ISNA(VLOOKUP(C12,Master!AD$60:AP$107,5,FALSE)),\"\",VLOOKUP(C12,Master!AD$60:AP$107,5,FALSE))","v":"L-16"},{"$f":"IF(ISNA(VLOOKUP(C12,Master!AD$60:AP$107,6,FALSE)),\"\",VLOOKUP(C12,Master!AD$60:AP$107,6,FALSE))","v":69300},{"$f":"IF(AND(I12=\"\"),\"\",I12*12)","v":831600},{"$f":"IF(AND(I12=\"\"),\"\",IF(I12<=0,\"\",(CONCATENATE(\"01.07.\",(YEAR(TODAY())+1)))))","v":"01.07.2024"},{"$f":"IF(AND(I12=\"\"),\"\",ROUND(ROUND(I12*3%,0),-2)*IF(H12=\"FIX PAY\",0,1)*8)","v":16800},{"$f":"IF(AND(I12=\"\"),\"\",J12+L12)","v":848400},{"$f":"IF(AND(I12=\"\"),\"\",IF(O12=\"FIX PAY\",M12,((IF(O12=\"FIX PAY\",0,AF12*4+I12*8)))))","v":823600},{"$f":"IF(ISNA(VLOOKUP(C12,Master!AD$60:AP$107,12,FALSE)),\"\",VLOOKUP(C12,Master!AD$60:AP$107,12,FALSE))","v":"GAZETTED - REGULAR"},null,{"$f":"IF(Q68=1,\"HANDICAP\",0)","v":0},null,{"$f":"IF(AND(O12=AA$1),0,IF(AND(I12=0),0,$G$221*1*(IF(I12<=0,0,1))*(IF(H12<=12,1,0))))","v":0},{"$f":"IF(G12>0,1,0)","v":1},{"$f":"IF(ISNA(VLOOKUP(C12,Master!AD$60:AP$107,10,FALSE)),\"\",VLOOKUP(C12,Master!AD$60:AP$107,10,FALSE))","v":0},null,null,{"$f":"IF(ISNA(VLOOKUP(C12,Master!AD$60:AP$107,11,FALSE)),\"\",VLOOKUP(C12,Master!AD$60:AP$107,11,FALSE))","v":0},{"$f":"IF(ISNA(VLOOKUP(C12,Master!AD$60:AP$107,9,FALSE)),\"\",VLOOKUP(C12,Master!AD$60:AP$107,9,FALSE))","v":0},{"$f":"IF(Y12=\"MALE\",1,0)*(IF(G12=\"JAMADAR\",1,0))*(IF(I12<=0,0,1))","v":0},{"$f":"IF(Y12=\"FEMALE\",1,0)*(IF(G12=\"JAMADAR\",1,0))*(IF(I12<=0,0,1))","v":0},{"$f":"IF(Y12=\"MALE\",1,0)*(IF(G12=\"LAB BOY\",1,0))*(IF(I12<=0,0,1))","v":0},{"$f":"IF(Y12=\"FEMALE\",1,0)*(IF(G12=\"LAB BOY\",1,0))*(IF(I12<=0,0,1))","v":0},{"$f":"IF(Y12=\"MALE\",1,0)*(IF(G12=\"PEON\",1,0))*(IF(I12<=0,0,1))","v":0},{"$f":"IF(Y12=\"FEMALE\",1,0)*(IF(G12=\"PEON\",1,0))*(IF(I12<=0,0,1))","v":0},{"$f":"IF(AND(I12=\"\"),\"\",I12-ROUNDUP(ROUND((I12*3%)-(I12*3%)*2.9%,-2),0))","v":67300},{"$f":"IF(AND(I12=\"\"),\"\",$M12*$BQ12)","v":848400},{"$f":"IF(AND(I12=\"\"),\"\",$M12*$BR12)","v":0},{"$f":"IF(AND(I12=\"\"),\"\",$M12*$BS12)","v":0},{"$f":"IF(AND(I12=\"\"),\"\",$M12*$BT12)","v":0},{"$f":"IF(AND(AG12=\"\"),\"\",ROUND((AG12+AH12)*$AK$10,0)*BU12)","v":0},0,0,{"$f":"IF(AND(AG12=\"\"),\"\",ROUND((AG12+AH12)*$AN$10,0)*BU12)","v":0},{"$f":"$G$221*BR12*BU12*(IF(I12<=0,0,1))*(IF(H12<=4800,1,0))","v":0},{"$f":"IF(AND(I12=\"\"),0,ROUND((I12+ROUND(I12*$AK$10,0))/2,0)*(IF(O12=\"FIX PAY\",0,1)))","v":49203},{"$f":"IF(G12=\"CLERK GRADE I\",1,IF(G12=\"CLERK GRADE II\",1,0))*75*12*BU12*(IF(I12<=0,0,1))*BV12","v":0},{"$f":"IF(AND(I12=\"\"),0,(IF(G12=\"ASSISTANT\",12,IF(G12=\"CLERK GRADE I\",12,IF(G12=\"CLERK GRADE II\",12,IF(G12=\"FIELDMAN & FIELD REC\",12,IF(G12=\"LAB BOY\",12,IF(G12=\"JAMADAR\",12,IF(G12=\"PEON\",12,10))))))))*(MINA(ROUND(I12*6%,0),600))*(IF($U12=\"Yes\",1,0)))","v":0},{"$f":"(IF(G12=\"LAB BOY\",180,IF(G12=\"JAMADAR\",180,IF(G12=\"PEON\",180,0))))*12*BU12*(IF(I12<=0,0,1))","v":0},{"$f":"IF(AND(G12=\"\"),0,SUM(AK12:AS12)+AG12+AH12)","v":897603},{"$f":"IF(AND(G12=\"\"),0,AT12)","v":897603},null,null,{"$f":"AU12+AV12+AW12","v":897603},{"$f":"IF(AND(G12=\"\"),0,N12*BQ12)","v":823600},{"$f":"IF(AND(G12=\"\"),0,N12*BR12)","v":0},{"$f":"IF(AND(G12=\"\"),0,N12*BS12)","v":0},{"$f":"IF(AND(G12=\"\"),0,N12*BT12)","v":0},{"$f":"ROUND((AY12+AZ12)*$BC$10,0)*BU12","v":0},{"$f":"IF(AND(G12=\"\"),0,ROUND((IF(O12=\"FIX PAY\",0,AF12))*$BD$10*2,0)*BU12)","v":0},0,{"$f":"ROUND((AY12+AZ12)*$BF$10,0)*BU12","v":0},{"$f":"$G$221*2*BR12*BU12*(IF(I12<=0,0,1))*(IF(H12<=4800,1,0))","v":0},{"$f":"IF(AND(I12=\"\"),0,ROUND((AF12+ROUND(AF12*$AK$10,0))/2,0)*(IF(O12=\"FIX PAY\",0,1)))","v":47783},{"$f":"IF(G12=\"CLERK GRADE I\",1,IF(G12=\"CLERK GRADE II\",1,0))*75*12*BU12*(IF(I12<=0,0,1))*BV12","v":0},{"$f":"IF(AND(G12=\"\"),0,(IF(G12=\"ASSISTANT\",12,IF(G12=\"CLERK GRADE I\",12,IF(G12=\"CLERK GRADE II\",12,IF(G12=\"FIELDMAN & FIELD REC\",12,IF(G12=\"LAB BOY\",12,IF(G12=\"JAMADAR\",12,IF(G12=\"PEON\",12,10))))))))*(MINA(ROUND(AF12*6%,0),600))*(IF($U12=\"yes\",1,)))","v":0},{"$f":"(IF(G12=\"LAB BOY\",150,IF(G12=\"JAMADAR\",150,IF(G12=\"PEON\",150,0))))*12*BU12*(IF(I12<=0,0,1))","v":0},{"$f":"SUM(BC12:BK12)+AY12+AZ12","v":871383},{"$f":"BL12","v":871383},null,null,{"$f":"BM12+BN12+BO12","v":871383},{"$f":"(IF(G12=\"PRINCIPAL\",1,IF(G12=\"H M\",1,IF(G12=\"AGRICULTURE INST\",1,IF(G12=\"TEACHER-1ST\",1,IF(G12=\"PTI  I  (13)\",1,IF(G12=\"AGRICULTURE TEACH\",1,IF(G12=\"INSTRUCTOR\",1,0))))))))+(IF(G12=\"JR TEACHER\",1,IF(G12=\"LIBRARIAN I\",1,0)))*(IF(O12=\"FIX PAY\",0,1))","v":1},{"$f":"IF(BQ12<=0,1,0)*(IF(O12=\"FIX PAY\",0,1))","v":0},{"$f":"(IF(G12=\"PRINCIPAL (16)\",1,IF(G12=\"V P (14)\",1,IF(G12=\"H M (14)\",1,IF(G12=\"AGRICULTURE INST (13)\",1,IF(G12=\"TEACHER-1ST (13)\",1,IF(G12=\"PTI  I  (13)\",1,IF(G12=\"AGRICULTURE TEACH (13)\",1,IF(G12=\"INSTRUCTOR (13)\",1,0))))))))+(IF(G12=\"JR TEACHER (13)\",1,IF(G12=\"LIBRARIAN I (13)\",1,0))))*(IF(O12=\"FIX PAY\",1,0))","v":0},{"$f":"IF(BS12<=0,1,0)*(IF(O12=\"FIX PAY\",1,0))","v":0},{"$f":"IF(O12=\"FIX PAY\",1,0)","v":0},{"$f":"IF(X12=\"No\",0,1)","v":1},{"$f":"IF((ROUND((SUMPRODUCT(MID(0&E12,LARGE(INDEX(ISNUMBER(--MID(E12,ROW($1:$25),1))* ROW($1:$25),0),ROW($1:$25))+1,1)*10^ROW($1:$25)/10)),-8)/100000000)>=2004,1,0)","v":1},{"$f":"IF(I12<=0,0,1)","v":1},{"$f":"IF(O12=\"SANVIDA\",1,0)","v":0},{"$f":"IF(BY12>0,I12,0)","v":0},{"$f":"IF(AND(E12=\"\"),\"\",IF(AND(E12<=0),\"\",IF((ROUND((SUMPRODUCT(MID(0&E12,LARGE(INDEX(ISNUMBER(--MID(E12,ROW($1:$70),1))* ROW($1:$70),0),ROW($1:$70))+1,1)*10^ROW($1:$70)/10)),-8)/100000000)<2004,1,0)))","v":0}]
[{"$f":"IF(I13=\"\",\"\",IF(I13>0,A12+1,\"\"))","v":""},2202,2,{"$f":"IF(ISNA(VLOOKUP(C13,Master!AD$60:AP$107,3,FALSE)),\"\",VLOOKUP(C13,Master!AD$60:AP$107,3,FALSE))","v":"पद रिक्त"},{"$f":"IF(ISNA(VLOOKUP(C13,Master!AD$60:AP$107,7,FALSE)),\"\",VLOOKUP(C13,Master!AD$60:AP$107,7,FALSE))","v":"-"},{"$f":"IF(ISNA(VLOOKUP(C13,Master!AD$60:AP$107,8,FALSE)),\"\",VLOOKUP(C13,Master!AD$60:AP$107,8,FALSE))","v":0},{"$f":"IF(ISNA(VLOOKUP(C13,Master!AD$60:AP$107,4,FALSE)),\"\",VLOOKUP(C13,Master!AD$60:AP$107,4,FALSE))","v":"TEACHER-III"},{"$f":"IF(ISNA(VLOOKUP(C13,Master!AD$60:AP$107,5,FALSE)),\"\",VLOOKUP(C13,Master!AD$60:AP$107,5,FALSE))","v":"L-10"},{"$f":"IF(ISNA(VLOOKUP(C13,Master!AD$60:AP$107,6,FALSE)),\"\",VLOOKUP(C13,Master!AD$60:AP$107,6,FALSE))","v":0},{"$f":"IF(AND(I13=\"\"),\"\",I13*12)","v":0},{"$f":"IF(AND(I13=\"\"),\"\",IF(I13<=0,\"\",(CONCATENATE(\"01.07.\",(YEAR(TODAY())+1)))))","v":""},{"$f":"IF(AND(I13=\"\"),\"\",ROUND(ROUND(I13*3%,0),-2)*IF(H13=\"FIX PAY\",0,1)*8)","v":0},{"$f":"IF(AND(I13=\"\"),\"\",J13+L13)","v":0},{"$f":"IF(AND(I13=\"\"),\"\",IF(O13=\"FIX PAY\",M13,((IF(O13=\"FIX PAY\",0,AF13*4+I13*8)))))","v":0},{"$f":"IF(ISNA(VLOOKUP(C13,Master!AD$60:AP$107,12,FALSE)),\"\",VLOOKUP(C13,Master!AD$60:AP$107,12,FALSE))","v":"GAZETTED - REGULAR"},{"$nulls":3},{"$f":"IF(AND(O13=AA$1),0,IF(AND(I13=0),0,$G$221*1*(IF(I13<=0,0,1))*(IF(H13<=12,1,0))))","v":0},{"$f":"IF(G13>0,1,0)","v":1},{"$f":"IF(ISNA(VLOOKUP(C13,Master!AD$60:AP$107,10,FALSE)),\"\",VLOOKUP(C13,Master!AD$60:AP$107,10,FALSE))","v":0},null,null,{"$f":"IF(ISNA(VLOOKUP(C13,Master!AD$60:AP$107,11,FALSE)),\"\",VLOOKUP(C13,Master!AD$60:AP$107,11,FALSE))","v":0},{"$f":"IF(ISNA(VLOOKUP(C13,Master!AD$60:AP$107,9,FALSE)),\"\",VLOOKUP(C13,Master!AD$60:AP$107,9,FALSE))","v":0},0,0,0,0,0,0,{"$f":"IF(AND(I13=\"\"),\"\",I13-ROUNDUP(ROUND((I13*3%)-(I13*3%)*2.9%,-2),0))","v":0},{"$f":"IF(AND(I13=\"\"),\"\",$M13*$BQ13)","v":0},{"$f":"IF(AND(I13=\"\"),\"\",$M13*$BR13)","v":0},{"$f":"IF(AND(I13=\"\"),\"\",$M13*$BS13)","v":0},{"$f":"IF(AND(I13=\"\"),\"\",$M13*$BT13)","v":0},{"$f":"IF(AND(AG13=\"\"),\"\",ROUND((AG13+AH13)*$AK$10,0)*BU13)","v":0},0,0,{"$f":"IF(AND(AG13=\"\"),\"\",ROUND((AG13+AH13)*$AN$10,0)*BU13)","v":0},0,{"$f":"IF(AND(I13=\"\"),0,ROUND((I13+ROUND(I13*$AK$10,0))/2,0)*(IF(O13=\"FIX PAY\",0,1)))","v":0},0,0,{"$f":"(IF(G13=\"LAB BOY\",180,IF(G13=\"JAMADAR\",180,IF(G13=\"PEON\",180,0))))*12*BU13*(IF(I13<=0,0,1))","v":0},0,0,null,null,0,0,0,0,0,0,0,0,0,0,{"$f":"IF(AND(I13=\"\"),0,ROUND((AF13+ROUND(AF13*$AK$10,0))/2,0)*(IF(O13=\"FIX PAY\",0,1)))","v":0},0,0,0,0,0,null,null,0,0,{"$f":"IF(BQ13<=0,1,0)*(IF(O13=\"FIX PAY\",0,1))","v":1},0,0,{"$f":"IF(O13=\"FIX PAY\",1,0)","v":0},1,0,{"$f":"IF(I13<=0,0,1)","v":0},{"$f":"IF(O13=\"SANVIDA\",1,0)","v":0},{"$f":"IF(BY13>0,I13,0)","v":0},1]
[{"$f":"IF(I14=\"\",\"\",IF(I14>0,A13+1,\"\"))","v":""},2202,3,{"$f":"IF(ISNA(VLOOKUP(C14,Master!AD$60:AP$107,3,FALSE)),\"\",VLOOKUP(C14,Master!AD$60:AP$107,3,FALSE))","v":"पद रिक्त"},{"$f":"IF(ISNA(VLOOKUP(C14,Master!AD$60:AP$107,7,FALSE)),\"\",VLOOKUP(C14,Master!AD$60:AP$107,7,FALSE))","v":"-"},{"$f":"IF(ISNA(VLOOKUP(C14,Master!AD$60:AP$107,8,FALSE)),\"\",VLOOKUP(C14,Master!AD$60:AP$107,8,FALSE))","v":0},{"$f":"IF(ISNA(VLOOKUP(C14,Master!AD$60:AP$107,4,FALSE)),\"\",VLOOKUP(C14,Master!AD$60:AP$107,4,FALSE))","v":"TEACHER-III"},{"$f":"IF(ISNA(VLOOKUP(C14,Master!AD$60:AP$107,5,FALSE)),\"\",VLOOKUP(C14,Master!AD$60:AP$107,5,FALSE))","v":"L-10"},{"$f":"IF(ISNA(VLOOKUP(C14,Master!AD$60:AP$107,6,FALSE)),\"\",VLOOKUP(C14,Master!AD$60:AP$107,6,FALSE))","v":0},0,"",0,0,0,{"$f":"IF(ISNA(VLOOKUP(C14,Master!AD$60:AP$107,12,FALSE)),\"\",VLOOKUP(C14,Master!AD$60:AP$107,12,FALSE))","v":"GAZETTED - REGULAR"},{"$nulls":3},0,1,{"$f":"IF(ISNA(VLOOKUP(C14,Master!AD$60:AP$107,10,FALSE)),\"\",VLOOKUP(C14,Master!AD$60:AP$107,10,FALSE))","v":0},null,null,{"$f":"IF(ISNA(VLOOKUP(C14,Master!AD$60:AP$107,11,FALSE)),\"\",VLOOKUP(C14,Master!AD$60:AP$107,11,FALSE))","v":0},{"$f":"IF(ISNA(VLOOKUP(C14,Master!AD$60:AP$107,9,FALSE)),\"\",VLOOKUP(C14,Master!AD$60:AP$107,9,FALSE))","v":0},0,0,0,0,0,0,0,0,0,0,0,0,0,0,0,0,0,0,0,0,0,0,null,null,0,0,0,0,0,0,0,0,0,0,0,0,0,0,0,0,null,null,0,0,1,0,0,0,1,0,0,0,0,1]
["",2202,4,{"$f":"IF(ISNA(VLOOKUP(C15,Master!AD$60:AP$107,3,FALSE)),\"\",VLOOKUP(C15,Master!AD$60:AP$107,3,FALSE))","v":"पद रिक्त"},{"$f":"IF(ISNA(VLOOKUP(C15,Master!AD$60:AP$107,7,FALSE)),\"\",VLOOKUP(C15,Master!AD$60:AP$107,7,FALSE))","v":"-"},{"$f":"IF(ISNA(VLOOKUP(C15,Master!AD$60:AP$107,8,FALSE)),\"\",VLOOKUP(C15,Master!AD$60:AP$107,8,FALSE))","v":0},{"$f":"IF(ISNA(VLOOKUP(C15,Master!AD$60:AP$107,4,FALSE)),\"\",VLOOKUP(C15,Master!AD$60:AP$107,4,FALSE))","v":"TEACHER-III"},{"$f":"IF(ISNA(VLOOKUP(C15,Master!AD$60:AP$107,5,FALSE)),\"\",VLOOKUP(C15,Master!AD$60:AP$107,5,FALSE))","v":"L-10"},{"$f":"IF(ISNA(VLOOKUP(C15,Master!AD$60:AP$107,6,FALSE)),\"\",VLOOKUP(C15,Master!AD$60:AP$107,6,FALSE))","v":0},0,"",0,0,0,{"$f":"IF(ISNA(VLOOKUP(C15,Master!AD$60:AP$107,12,FALSE)),\"\",VLOOKUP(C15,Master!AD$60:AP$107,12,FALSE))","v":"GAZETTED - REGULAR"},{"$nulls":3},0,1,{"$f":"IF(ISNA(VLOOKUP(C15,Master!AD$60:AP$107,10,FALSE)),\"\",VLOOKUP(C15,Master!AD$60:AP$107,10,FALSE))","v":0},null,null,{"$f":"IF(ISNA(VLOOKUP(C15,Master!AD$60:AP$107,11,FALSE)),\"\",VLOOKUP(C15,Master!AD$60:AP$107,11,FALSE))","v":0},{"$f":"IF(ISNA(VLOOKUP(C15,Master!AD$60:AP$107,9,FALSE)),\"\",VLOOKUP(C15,Master!AD$60:AP$107,9,FALSE))","v":0},0,0,0,0,0,0,0,0,0,0,0,0,0,0,0,0,0,0,0,0,0,0,null,null,0,0,0,0,0,0,0,0,0,0,0,0,0,0,0,0,null,null,0,0,1,0,0,0,1,0,0,0,0,1]
["",2202,5,{"$f":"IF(ISNA(VLOOKUP(C16,Master!AD$60:AP$107,3,FALSE)),\"\",VLOOKUP(C16,Master!AD$60:AP$107,3,FALSE))","v":""},{"$f":"IF(ISNA(VLOOKUP(C16,Master!AD$60:AP$107,7,FALSE)),\"\",VLOOKUP(C16,Master!AD$60:AP$107,7,FALSE))","v":""},{"$f":"IF(ISNA(VLOOKUP(C16,Master!AD$60:AP$107,8,FALSE)),\"\",VLOOKUP(C16,Master!AD$60:AP$107,8,FALSE))","v":""},{"$f":"IF(ISNA(VLOOKUP(C16,Master!AD$60:AP$107,4,FALSE)),\"\",VLOOKUP(C16,Master!AD$60:AP$107,4,FALSE))","v":""},{"$f":"IF(ISNA(VLOOKUP(C16,Master!AD$60:AP$107,5,FALSE)),\"\",VLOOKUP(C16,Master!AD$60:AP$107,5,FALSE))","v":""},{"$f":"IF(ISNA(VLOOKUP(C16,Master!AD$60:AP$107,6,FALSE)),\"\",VLOOKUP(C16,Master!AD$60:AP$107,6,FALSE))","v":""},"","","","","",{"$f":"IF(ISNA(VLOOKUP(C16,Master!AD$60:AP$107,12,FALSE)),\"\",VLOOKUP(C16,Master!AD$60:AP$107,12,FALSE))","v":""},{"$nulls":3},0,1,{"$f":"IF(ISNA(VLOOKUP(C16,Master!AD$60:AP$107,10,FALSE)),\"\",VLOOKUP(C16,Master!AD$60:AP$107,10,FALSE))","v":""},null,null,{"$f":"IF(ISNA(VLOOKUP(C16,Master!AD$60:AP$107,11,FALSE)),\"\",VLOOKUP(C16,Master!AD$60:AP$107,11,FALSE))","v":""},{"$f":"IF(ISNA(VLOOKUP(C16,Master!AD$60:AP$107,9,FALSE)),\"\",VLOOKUP(C16,Master!AD$60:AP$107,9,FALSE))","v":""},0,0,0,0,0,0,"","","","","","",0,0,"",0,0,0,0,0,0,0,null,null,0,0,0,0,0,0,0,0,0,0,0,0,0,0,0,0,null,null,0,0,1,0,0,0,1,0,1,0,0,""]
["",2202,6,{"$f":"IF(ISNA(VLOOKUP(C17,Master!AD$60:AP$107,3,FALSE)),\"\",VLOOKUP(C17,Master!AD$60:AP$107,3,FALSE))","v":""},{"$f":"IF(ISNA(VLOOKUP(C17,Master!AD$60:AP$107,7,FALSE)),\"\",VLOOKUP(C17,Master!AD$60:AP$107,7,FALSE))","v":""},{"$f":"IF(ISNA(VLOOKUP(C17,Master!AD$60:AP$107,8,FALSE)),\"\",VLOOKUP(C17,Master!AD$60:AP$107,8,FALSE))","v":""},{"$f":"IF(ISNA(VLOOKUP(C17,Master!AD$60:AP$107,4,FALSE)),\"\",VLOOKUP(C17,Master!AD$60:AP$107,4,FALSE))","v":""},{"$f":"IF(ISNA(VLOOKUP(C17,Master!AD$60:AP$107,5,FALSE)),\"\",VLOOKUP(C17,Master!AD$60:AP$107,5,FALSE))","v":""},{"$f":"IF(ISNA(VLOOKUP(C17,Master!AD$60:AP$107,6,FALSE)),\"\",VLOOKUP(C17,Master!AD$60:AP$107,6,FALSE))","v":""},"","","","","",{"$f":"IF(ISNA(VLOOKUP(C17,Master!AD$60:AP$107,12,FALSE)),\"\",VLOOKUP(C17,Master!AD$60:AP$107,12,FALSE))","v":""},{"$nulls":3},0,1,{"$f":"IF(ISNA(VLOOKUP(C17,Master!AD$60:AP$107,10,FALSE)),\"\",VLOOKUP(C17,Master!AD$60:AP$107,10,FALSE))","v":""},null,null,{"$f":"IF(ISNA(VLOOKUP(C17,Master!AD$60:AP$107,11,FALSE)),\"\",VLOOKUP(C17,Master!AD$60:AP$107,11,FALSE))","v":""},{"$f":"IF(ISNA(VLOOKUP(C17,Master!AD$60:AP$107,9,FALSE)),\"\",VLOOKUP(C17,Master!AD$60:AP$107,9,FALSE))","v":""},0,0,0,0,0,0,"","","","","","",0,0,"",0,0,0,0,0,0,0,null,null,0,0,0,0,0,0,0,0,0,0,0,0,0,0,0,0,null,null,0,0,1,0,0,0,1,0,1,0,0,""]
["",2202,7,{"$f":"IF(ISNA(VLOOKUP(C18,Master!AD$60:AP$107,3,FALSE)),\"\",VLOOKUP(C18,Master!AD$60:AP$107,3,FALSE))","v":""},{"$f":"IF(ISNA(VLOOKUP(C18,Master!AD$60:AP$107,7,FALSE)),\"\",VLOOKUP(C18,Master!AD$60:AP$107,7,FALSE))","v":""},{"$f":"IF(ISNA(VLOOKUP(C18,Master!AD$60:AP$107,8,FALSE)),\"\",VLOOKUP(C18,Master!AD$60:AP$107,8,FALSE))","v":""},{"$f":"IF(ISNA(VLOOKUP(C18,Master!AD$60:AP$107,4,FALSE)),\"\",VLOOKUP(C18,Master!AD$60:AP$107,4,FALSE))","v":""},{"$f":"IF(ISNA(VLOOKUP(C18,Master!AD$60:AP$107,5,FALSE)),\"\",VLOOKUP(C18,Master!AD$60:AP$107,5,FALSE))","v":""},{"$f":"IF(ISNA(VLOOKUP(C18,Master!AD$60:AP$107,6,FALSE)),\"\",VLOOKUP(C18,Master!AD$60:AP$107,6,FALSE))","v":""},"","","","","",{"$f":"IF(ISNA(VLOOKUP(C18,Master!AD$60:AP$107,12,FALSE)),\"\",VLOOKUP(C18,Master!AD$60:AP$107,12,FALSE))","v":""},{"$nulls":3},0,1,{"$f":"IF(ISNA(VLOOKUP(C18,Master!AD$60:AP$107,10,FALSE)),\"\",VLOOKUP(C18,Master!AD$60:AP$107,10,FALSE))","v":""},null,null,{"$f":"IF(ISNA(VLOOKUP(C18,Master!AD$60:AP$107,11,FALSE)),\"\",VLOOKUP(C18,Master!AD$60:AP$107,11,FALSE))","v":""},{"$f":"IF(ISNA(VLOOKUP(C18,Master!AD$60:AP$107,9,FALSE)),\"\",VLOOKUP(C18,Master!AD$60:AP$107,9,FALSE))","v":""},0,0,0,0,0,0,"","","","","","",0,0,"",0,0,0,0,0,0,0,null,null,0,0,0,0,0,0,0,0,0,0,0,0,0,0,0,0,null,null,0,0,1,0,0,0,1,0,1,0,0,""]
["",2202,8,{"$f":"IF(ISNA(VLOOKUP(C19,Master!AD$60:AP$107,3,FALSE)),\"\",VLOOKUP(C19,Master!AD$60:AP$107,3,FALSE))","v":""},{"$f":"IF(ISNA(VLOOKUP(C19,Master!AD$60:AP$107,7,FALSE)),\"\",VLOOKUP(C19,Master!AD$60:AP$107,7,FALSE))","v":""},{"$f":"IF(ISNA(VLOOKUP(C19,Master!AD$60:AP$107,8,FALSE)),\"\",VLOOKUP(C19,Master!AD$60:AP$107,8,FALSE))","v":""},{"$f":"IF(ISNA(VLOOKUP(C19,Master!AD$60:AP$107,4,FALSE)),\"\",VLOOKUP(C19,Master!AD$60:AP$107,4,FALSE))","v":""},{"$f":"IF(ISNA(VLOOKUP(C19,Master!AD$60:AP$107,5,FALSE)),\"\",VLOOKUP(C19,Master!AD$60:AP$107,5,FALSE))","v":""},{"$f":"IF(ISNA(VLOOKUP(C19,Master!AD$60:AP$107,6,FALSE)),\"\",VLOOKUP(C19,Master!AD$60:AP$107,6,FALSE))","v":""},"","","","","",{"$f":"IF(ISNA(VLOOKUP(C19,Master!AD$60:AP$107,12,FALSE)),\"\",VLOOKUP(C19,Master!AD$60:AP$107,12,FALSE))","v":""},{"$nulls":3},0,1,{"$f":"IF(ISNA(VLOOKUP(C19,Master!AD$60:AP$107,10,FALSE)),\"\",VLOOKUP(C19,Master!AD$60:AP$107,10,FALSE))","v":""},null,null,{"$f":"IF(ISNA(VLOOKUP(C19,Master!AD$60:AP$107,11,FALSE)),\"\",VLOOKUP(C19,Master!AD$60:AP$107,11,FALSE))","v":""},{"$f":"IF(ISNA(VLOOKUP(C19,Master!AD$60:AP$107,9,FALSE)),\"\",VLOOKUP(C19,Master!AD$60:AP$107,9,FALSE))","v":""},0,0,0,0,0,0,"","","","","","",0,0,"",0,0,0,0,0,0,0,null,null,0,0,0,0,0,0,0,0,0,0,0,0,0,0,0,0,null,null,0,0,1,0,0,0,1,0,1,0,0,""]
["",2202,9,{"$f":"IF(ISNA(VLOOKUP(C20,Master!AD$60:AP$107,3,FALSE)),\"\",VLOOKUP(C20,Master!AD$60:AP$107,3,FALSE))","v":""},{"$f":"IF(ISNA(VLOOKUP(C20,Master!AD$60:AP$107,7,FALSE)),\"\",VLOOKUP(C20,Master!AD$60:AP$107,7,FALSE))","v":""},{"$f":"IF(ISNA(VLOOKUP(C20,Master!AD$60:AP$107,8,FALSE)),\"\",VLOOKUP(C20,Master!AD$60:AP$107,8,FALSE))","v":""},{"$f":"IF(ISNA(VLOOKUP(C20,Master!AD$60:AP$107,4,FALSE)),\"\",VLOOKUP(C20,Master!AD$60:AP$107,4,FALSE))","v":""},{"$f":"IF(ISNA(VLOOKUP(C20,Master!AD$60:AP$107,5,FALSE)),\"\",VLOOKUP(C20,Master!AD$60:AP$107,5,FALSE))","v":""},{"$f":"IF(ISNA(VLOOKUP(C20,Master!AD$60:AP$107,6,FALSE)),\"\",VLOOKUP(C20,Master!AD$60:AP$107,6,FALSE))","v":""},"","","","","",{"$f":"IF(ISNA(VLOOKUP(C20,Master!AD$60:AP$107,12,FALSE)),\"\",VLOOKUP(C20,Master!AD$60:AP$107,12,FALSE))","v":""},{"$nulls":3},0,1,{"$f":"IF(ISNA(VLOOKUP(C20,Master!AD$60:AP$107,10,FALSE)),\"\",VLOOKUP(C20,Master!AD$60:AP$107,10,FALSE))","v":""},null,null,{"$f":"IF(ISNA(VLOOKUP(C20,Master!AD$60:AP$107,11,FALSE)),\"\",VLOOKUP(C20,Master!AD$60:AP$107,11,FALSE))","v":""},{"$f":"IF(ISNA(VLOOKUP(C20,Master!AD$60:AP$107,9,FALSE)),\"\",VLOOKUP(C20,Master!AD$60:AP$107,9,FALSE))","v":""},0,0,0,0,0,0,"","","","","","",0,0,"",0,0,0,0,0,0,0,null,null,0,0,0,0,0,0,0,0,0,0,0,0,0,0,0,0,null,null,0,0,1,0,0,0,1,0,1,0,0,""]
["",2202,10,{"$f":"IF(ISNA(VLOOKUP(C21,Master!AD$60:AP$107,3,FALSE)),\"\",VLOOKUP(C21,Master!AD$60:AP$107,3,FALSE))","v":""},{"$f":"IF(ISNA(VLOOKUP(C21,Master!AD$60:AP$107,7,FALSE)),\"\",VLOOKUP(C21,Master!AD$60:AP$107,7,FALSE))","v":""},{"$f":"IF(ISNA(VLOOKUP(C21,Master!AD$60:AP$107,8,FALSE)),\"\",VLOOKUP(C21,Master!AD$60:AP$107,8,FALSE))","v":""},{"$f":"IF(ISNA(VLOOKUP(C21,Master!AD$60:AP$107,4,FALSE)),\"\",VLOOKUP(C21,Master!AD$60:AP$107,4,FALSE))","v":""},{"$f":"IF(ISNA(VLOOKUP(C21,Master!AD$60:AP$107,5,FALSE)),\"\",VLOOKUP(C21,Master!AD$60:AP$107,5,FALSE))","v":""},{"$f":"IF(ISNA(VLOOKUP(C21,Master!AD$60:AP$107,6,FALSE)),\"\",VLOOKUP(C21,Master!AD$60:AP$107,6,FALSE))","v":""},"","","","","",{"$f":"IF(ISNA(VLOOKUP(C21,Master!AD$60:AP$107,12,FALSE)),\"\",VLOOKUP(C21,Master!AD$60:AP$107,12,FALSE))","v":""},{"$nulls":3},0,1,{"$f":"IF(ISNA(VLOOKUP(C21,Master!AD$60:AP$107,10,FALSE)),\"\",VLOOKUP(C21,Master!AD$60:AP$107,10,FALSE))","v":""},null,null,{"$f":"IF(ISNA(VLOOKUP(C21,Master!AD$60:AP$107,11,FALSE)),\"\",VLOOKUP(C21,Master!AD$60:AP$107,11,FALSE))","v":""},{"$f":"IF(ISNA(VLOOKUP(C21,Master!AD$60:AP$107,9,FALSE)),\"\",VLOOKUP(C21,Master!AD$60:AP$107,9,FALSE))","v":""},0,0,0,0,0,0,"","","","","","",0,0,"",0,0,0,0,0,0,0,null,null,0,0,0,0,0,0,0,0,0,0,0,0,0,0,0,0,null,null,0,0,1,0,0,0,1,0,1,0,0,""]
["",2202,11,{"$f":"IF(ISNA(VLOOKUP(C22,Master!AD$60:AP$107,3,FALSE)),\"\",VLOOKUP(C22,Master!AD$60:AP$107,3,FALSE))","v":""},{"$f":"IF(ISNA(VLOOKUP(C22,Master!AD$60:AP$107,7,FALSE)),\"\",VLOOKUP(C22,Master!AD$60:AP$107,7,FALSE))","v":""},{"$f":"IF(ISNA(VLOOKUP(C22,Master!AD$60:AP$107,8,FALSE)),\"\",VLOOKUP(C22,Master!AD$60:AP$107,8,FALSE))","v":""},{"$f":"IF(ISNA(VLOOKUP(C22,Master!AD$60:AP$107,4,FALSE)),\"\",VLOOKUP(C22,Master!AD$60:AP$107,4,FALSE))","v":""},{"$f":"IF(ISNA(VLOOKUP(C22,Master!AD$60:AP$107,5,FALSE)),\"\",VLOOKUP(C22,Master!AD$60:AP$107,5,FALSE))","v":""},{"$f":"IF(ISNA(VLOOKUP(C22,Master!AD$60:AP$107,6,FALSE)),\"\",VLOOKUP(C22,Master!AD$60:AP$107,6,FALSE))","v":""},"","","","","",{"$f":"IF(ISNA(VLOOKUP(C22,Master!AD$60:AP$107,12,FALSE)),\"\",VLOOKUP(C22,Master!AD$60:AP$107,12,FALSE))","v":""},{"$nulls":3},0,1,{"$f":"IF(ISNA(VLOOKUP(C22,Master!AD$60:AP$107,10,FALSE)),\"\",VLOOKUP(C22,Master!AD$60:AP$107,10,FALSE))","v":""},null,null,{"$f":"IF(ISNA(VLOOKUP(C22,Master!AD$60:AP$107,11,FALSE)),\"\",VLOOKUP(C22,Master!AD$60:AP$107,11,FALSE))","v":""},{"$f":"IF(ISNA(VLOOKUP(C22,Master!AD$60:AP$107,9,FALSE)),\"\",VLOOKUP(C22,Master!AD$60:AP$107,9,FALSE))","v":""},0,0,0,0,0,0,"","","","","","",0,0,"",0,0,0,0,0,0,0,null,null,0,0,0,0,0,0,0,0,0,0,0,0,0,0,0,0,null,null,0,0,1,0,0,0,1,0,1,0,0,""]
["",2202,12,{"$f":"IF(ISNA(VLOOKUP(C23,Master!AD$60:AP$107,3,FALSE)),\"\",VLOOKUP(C23,Master!AD$60:AP$107,3,FALSE))","v":""},{"$f":"IF(ISNA(VLOOKUP(C23,Master!AD$60:AP$107,7,FALSE)),\"\",VLOOKUP(C23,Master!AD$60:AP$107,7,FALSE))","v":""},{"$f":"IF(ISNA(VLOOKUP(C23,Master!AD$60:AP$107,8,FALSE)),\"\",VLOOKUP(C23,Master!AD$60:AP$107,8,FALSE))","v":""},{"$f":"IF(ISNA(VLOOKUP(C23,Master!AD$60:AP$107,4,FALSE)),\"\",VLOOKUP(C23,Master!AD$60:AP$107,4,FALSE))","v":""},{"$f":"IF(ISNA(VLOOKUP(C23,Master!AD$60:AP$107,5,FALSE)),\"\",VLOOKUP(C23,Master!AD$60:AP$107,5,FALSE))","v":""},{"$f":"IF(ISNA(VLOOKUP(C23,Master!AD$60:AP$107,6,FALSE)),\"\",VLOOKUP(C23,Master!AD$60:AP$107,6,FALSE))","v":""},"","","","","",{"$f":"IF(ISNA(VLOOKUP(C23,Master!AD$60:AP$107,12,FALSE)),\"\",VLOOKUP(C23,Master!AD$60:AP$107,12,FALSE))","v":""},{"$nulls":3},0,1,{"$f":"IF(ISNA(VLOOKUP(C23,Master!AD$60:AP$107,10,FALSE)),\"\",VLOOKUP(C23,Master!AD$60:AP$107,10,FALSE))","v":""},null,null,{"$f":"IF(ISNA(VLOOKUP(C23,Master!AD$60:AP$107,11,FALSE)),\"\",VLOOKUP(C23,Master!AD$60:AP$107,11,FALSE))","v":""},{"$f":"IF(ISNA(VLOOKUP(C23,Master!AD$60:AP$107,9,FALSE)),\"\",VLOOKUP(C23,Master!AD$60:AP$107,9,FALSE))","v":""},0,0,0,0,0,0,"","","","","","",0,0,"",0,0,0,0,0,0,0,null,null,0,0,0,0,0,0,0,0,0,0,0,0,0,0,0,0,null,null,0,0,1,0,0,0,1,0,1,0,0,""]
["",2202,13,{"$f":"IF(ISNA(VLOOKUP(C24,Master!AD$60:AP$107,3,FALSE)),\"\",VLOOKUP(C24,Master!AD$60:AP$107,3,FALSE))","v":""},{"$f":"IF(ISNA(VLOOKUP(C24,Master!AD$60:AP$107,7,FALSE)),\"\",VLOOKUP(C24,Master!AD$60:AP$107,7,FALSE))","v":""},{"$f":"IF(ISNA(VLOOKUP(C24,Master!AD$60:AP$107,8,FALSE)),\"\",VLOOKUP(C24,Master!AD$60:AP$107,8,FALSE))","v":""},{"$f":"IF(ISNA(VLOOKUP(C24,Master!AD$60:AP$107,4,FALSE)),\"\",VLOOKUP(C24,Master!AD$60:AP$107,4,FALSE))","v":""},{"$f":"IF(ISNA(VLOOKUP(C24,Master!AD$60:AP$107,5,FALSE)),\"\",VLOOKUP(C24,Master!AD$60:AP$107,5,FALSE))","v":""},{"$f":"IF(ISNA(VLOOKUP(C24,Master!AD$60:AP$107,6,FALSE)),\"\",VLOOKUP(C24,Master!AD$60:AP$107,6,FALSE))","v":""},"","","","","",{"$f":"IF(ISNA(VLOOKUP(C24,Master!AD$60:AP$107,12,FALSE)),\"\",VLOOKUP(C24,Master!AD$60:AP$107,12,FALSE))","v":""},{"$nulls":3},0,1,{"$f":"IF(ISNA(VLOOKUP(C24,Master!AD$60:AP$107,10,FALSE)),\"\",VLOOKUP(C24,Master!AD$60:AP$107,10,FALSE))","v":""},null,null,{"$f":"IF(ISNA(VLOOKUP(C24,Master!AD$60:AP$107,11,FALSE)),\"\",VLOOKUP(C24,Master!AD$60:AP$107,11,FALSE))","v":""},{"$f":"IF(ISNA(VLOOKUP(C24,Master!AD$60:AP$107,9,FALSE)),\"\",VLOOKUP(C24,Master!AD$60:AP$107,9,FALSE))","v":""},0,0,0,0,0,0,"","","","","","",0,0,"",0,0,0,0,0,0,0,null,null,0,0,0,0,0,0,0,0,0,0,0,0,0,0,0,0,null,null,0,0,1,0,0,0,1,0,1,0,0,""]
["",2202,14,{"$f":"IF(ISNA(VLOOKUP(C25,Master!AD$60:AP$107,3,FALSE)),\"\",VLOOKUP(C25,Master!AD$60:AP$107,3,FALSE))","v":""},{"$f":"IF(ISNA(VLOOKUP(C25,Master!AD$60:AP$107,7,FALSE)),\"\",VLOOKUP(C25,Master!AD$60:AP$107,7,FALSE))","v":""},{"$f":"IF(ISNA(VLOOKUP(C25,Master!AD$60:AP$107,8,FALSE)),\"\",VLOOKUP(C25,Master!AD$60:AP$107,8,FALSE))","v":""},{"$f":"IF(ISNA(VLOOKUP(C25,Master!AD$60:AP$107,4,FALSE)),\"\",VLOOKUP(C25,Master!AD$60:AP$107,4,FALSE))","v":""},{"$f":"IF(ISNA(VLOOKUP(C25,Master!AD$60:AP$107,5,FALSE)),\"\",VLOOKUP(C25,Master!AD$60:AP$107,5,FALSE))","v":""},{"$f":"IF(ISNA(VLOOKUP(C25,Master!AD$60:AP$107,6,FALSE)),\"\",VLOOKUP(C25,Master!AD$60:AP$107,6,FALSE))","v":""},"","","","","",{"$f":"IF(ISNA(VLOOKUP(C25,Master!AD$60:AP$107,12,FALSE)),\"\",VLOOKUP(C25,Master!AD$60:AP$107,12,FALSE))","v":""},{"$nulls":3},0,1,{"$f":"IF(ISNA(VLOOKUP(C25,Master!AD$60:AP$107,10,FALSE)),\"\",VLOOKUP(C25,Master!AD$60:AP$107,10,FALSE))","v":""},null,null,{"$f":"IF(ISNA(VLOOKUP(C25,Master!AD$60:AP$107,11,FALSE)),\"\",VLOOKUP(C25,Master!AD$60:AP$107,11,FALSE))","v":""},{"$f":"IF(ISNA(VLOOKUP(C25,Master!AD$60:AP$107,9,FALSE)),\"\",VLOOKUP(C25,Master!AD$60:AP$107,9,FALSE))","v":""},0,0,0,0,0,0,"","","","","","",0,0,{"$f":"IF(AND(AG25=\"\"),\"\",ROUND((AG25+AH25)*$AN$10,0)*BU25)","v":""},0,0,0,0,0,0,0,null,null,0,0,0,0,0,0,0,0,0,0,0,0,0,0,0,0,null,null,0,0,1,0,0,0,1,0,1,0,0,""]
[{"$nulls":6},"TOTAL GAZETTED REGULAR",null,{"$f":"SUM(I12:I25)","v":69300},{"$f":"SUM(J12:J25)","v":831600},null,{"$f":"SUM(L12:L25)","v":16800},{"$f":"SUM(M12:M25)","v":848400},{"$f":"SUM(N12:N25)","v":823600},{"$nulls":30},0,{"$nulls":30},{"$f":"MID(E26,5,4)","v":""}]
[{"$f":"IF(I27=\"\",\"\",IF(I27>0,MAX(A12:A25)+1,\"\"))","v":2},2202,1,{"$f":"IF(ISNA(VLOOKUP(C27,Master!AQ$60:BC$285,3,FALSE)),\"\",VLOOKUP(C27,Master!AQ$60:BC$285,3,FALSE))","v":"FGD"},{"$f":"IF(ISNA(VLOOKUP(C27,Master!AQ$60:BC$285,7,FALSE)),\"\",VLOOKUP(C27,Master!AQ$60:BC$285,7,FALSE))","v":"RJJO201325036050"},{"$f":"IF(ISNA(VLOOKUP(C27,Master!AQ$60:BC$285,8,FALSE)),\"\",VLOOKUP(C27,Master!AQ$60:BC$285,8,FALSE))","v":0},{"$f":"IF(ISNA(VLOOKUP(C27,Master!AQ$60:BC$285,4,FALSE)),\"\",VLOOKUP(C27,Master!AQ$60:BC$285,4,FALSE))","v":"TEACHER-II"},{"$f":"IF(ISNA(VLOOKUP(C27,Master!AQ$60:BC$285,5,FALSE)),\"\",VLOOKUP(C27,Master!AQ$60:BC$285,5,FALSE))","v":"L-11"},{"$f":"IF(ISNA(VLOOKUP(C27,Master!AQ$60:BC$285,6,FALSE)),\"\",VLOOKUP(C27,Master!AQ$60:BC$285,6,FALSE))","v":45100},{"$f":"IF(AND(I27=\"\"),\"\",I27*12)","v":541200},{"$f":"IF(AND(I27=\"\"),\"\",IF(I27<=0,\"\",(CONCATENATE(\"01.07.\",(YEAR(TODAY())+1)))))","v":"01.07.2024"},{"$f":"IF(AND(I27=\"\"),\"\",ROUND(ROUND(I27*3%,0),-2)*IF(H27=\"FIX PAY\",0,1)*8)","v":11200},{"$f":"IF(AND(I27=\"\"),\"\",J27+L27)","v":552400},{"$f":"IF(AND(I27=\"\"),\"\",IF(O27=\"FIX PAY\",M27,((IF(O27=\"FIX PAY\",0,AF27*4+I27*8)))))","v":536000},{"$f":"IF(ISNA(VLOOKUP(C27,Master!AQ$60:BC$285,12,FALSE)),\"\",VLOOKUP(C27,Master!AQ$60:BC$285,12,FALSE))","v":"NON GAZETTED - REGULAR"},{"$nulls":3},{"$f":"IF(H27=\"l-10\",6774,IF(H27=\"l-11\",6774,IF(H27=\"l-12\",6774,0)))","v":6774},1,{"$f":"IF(ISNA(VLOOKUP(C27,Master!AQ$60:BC$285,10,FALSE)),\"\",VLOOKUP(C27,Master!AQ$60:BC$285,10,FALSE))","v":0},null,null,{"$f":"IF(ISNA(VLOOKUP(C27,Master!AQ$60:BC$285,11,FALSE)),\"\",VLOOKUP(C27,Master!AQ$60:BC$285,11,FALSE))","v":0},{"$f":"IF(ISNA(VLOOKUP(C27,Master!AQ$60:BC$285,9,FALSE)),\"\",VLOOKUP(C27,Master!AQ$60:BC$285,9,FALSE))","v":0},{"$f":"IF(Y27=\"MALE\",1,0)*(IF(G27=\"JAMADAR\",1,0))*(IF(I27<=0,0,1))","v":0},{"$f":"IF(Y27=\"FEMALE\",1,0)*(IF(G27=\"JAMADAR\",1,0))*(IF(I27<=0,0,1))","v":0},{"$f":"IF(Y27=\"MALE\",1,0)*(IF(G27=\"LAB BOY\",1,0))*(IF(I27<=0,0,1))","v":0},{"$f":"IF(Y27=\"FEMALE\",1,0)*(IF(G27=\"LAB BOY\",1,0))*(IF(I27<=0,0,1))","v":0},{"$f":"IF(Y27=\"MALE\",1,0)*(IF(G27=\"PEON\",1,0))*(IF(I27<=0,0,1))","v":0},{"$f":"IF(Y27=\"FEMALE\",1,0)*(IF(G27=\"PEON\",1,0))*(IF(I27<=0,0,1))","v":0},{"$f":"IF(AND(I27=\"\"),\"\",I27-ROUNDUP(ROUND((I27*3%)-(I27*3%)*2.9%,-2),0))","v":43800},{"$f":"IF(AND(I27=\"\"),\"\",$M27*$BQ27)","v":0},{"$f":"IF(AND(I27=\"\"),\"\",$M27*$BR27)","v":552400},{"$f":"IF(AND(I27=\"\"),\"\",$M27*$BS27)","v":0},{"$f":"IF(AND(I27=\"\"),\"\",$M27*$BT27)","v":0},{"$f":"IF(AND(I27=\"\"),\"\",ROUND((AG27+AH27)*$AK$10,0)*BU27)","v":0},0,0,{"$f":"IF(AND(I27=\"\"),\"\",ROUND((AG27+AH27)*$AN$10,0)*BU27)","v":0},{"$f":"$G$221*BR27*BU27*(IF(I27<=0,0,1))*(IF(H27<=4800,1,0))","v":0},32021,{"$f":"IF(G27=\"CLERK GRADE I\",1,IF(G27=\"CLERK GRADE II\",1,0))*75*12*BU27*(IF(I27<=0,0,1))*BV27","v":0},{"$f":"IF(AND(I27=\"\"),0,(IF(G27=\"ASSISTANT\",12,IF(G27=\"CLERK GRADE I\",12,IF(G27=\"CLERK GRADE II\",12,IF(G27=\"FIELDMAN & FIELD REC\",12,IF(G27=\"LAB BOY\",12,IF(G27=\"JAMADAR\",12,IF(G27=\"PEON\",12,10))))))))*(MINA(ROUND(I27*6%,0),600))*(IF($U27=\"yes\",1,0)))","v":0},0,{"$f":"IF(AND(G27=\"\"),0,SUM(AK27:AS27)+AG27+AH27)","v":584421},{"$f":"IF(AND(G27=\"\"),0,AT27)","v":584421},null,null,{"$f":"AU27+AV27+AW27","v":584421},{"$f":"IF(AND(G27=\"\"),0,N27*BQ27)","v":0},{"$f":"IF(AND(G27=\"\"),0,N27*BR27)","v":536000},{"$f":"IF(AND(G27=\"\"),0,N27*BS27)","v":0},{"$f":"IF(AND(G27=\"\"),0,N27*BT27)","v":0},{"$f":"ROUND((AY27+AZ27)*$BC$10,0)*BU27","v":0},{"$f":"IF(AND(G27=\"\"),0,ROUND((IF(O27=\"FIX PAY\",0,AF27))*$BD$10*2,0)*BU27)","v":0},0,{"$f":"ROUND((AY27+AZ27)*$BF$10,0)*BU27","v":0},{"$f":"3387*2*BR27*BU27*(IF(I27<=0,0,1))*(IF(H27<=4800,1,0))","v":0},31098,{"$f":"IF(G27=\"CLERK GRADE I\",1,IF(G27=\"CLERK GRADE II\",1,0))*75*12*BU27*(IF(I27<=0,0,1))*BV27","v":0},{"$f":"IF(AND(G27=\"\"),0,(IF(G27=\"ASSISTANT\",12,IF(G27=\"CLERK GRADE I\",12,IF(G27=\"CLERK GRADE II\",12,IF(G27=\"FIELDMAN & FIELD REC\",12,IF(G27=\"LAB BOY\",12,IF(G27=\"JAMADAR\",12,IF(G27=\"PEON\",12,10))))))))*(MINA(ROUND(AF27*6%,0),600))*(IF($U27=\"yes\",1,)))","v":0},{"$f":"(IF(G27=\"LAB BOY\",150,IF(G27=\"JAMADAR\",150,IF(G27=\"PEON\",150,0))))*12*BU27*(IF(I27<=0,0,1))","v":0},{"$f":"SUM(BC27:BK27)+AY27+AZ27","v":567098},{"$f":"BL27","v":567098},null,null,{"$f":"BM27+BN27+BO27","v":567098},{"$f":"(IF(G27=\"PRINCIPAL\",1,IF(G27=\"H M\",1,IF(G27=\"AGRICULTURE INST\",1,IF(G27=\"TEACHER-1ST\",1,IF(G27=\"PTI  I  (13)\",1,IF(G27=\"AGRICULTURE TEACH\",1,IF(G27=\"INSTRUCTOR\",1,0))))))))+(IF(G27=\"JR TEACHER\",1,IF(G27=\"LIBRARIAN I\",1,0)))*(IF(O27=\"FIX PAY\",0,1))","v":0},{"$f":"IF(BQ27<=0,1,0)*(IF(O27=\"FIX PAY\",0,1))","v":1},{"$f":"(IF(G27=\"PRINCIPAL (16)\",1,IF(G27=\"V P (14)\",1,IF(G27=\"H M (14)\",1,IF(G27=\"AGRICULTURE INST (13)\",1,IF(G27=\"TEACHER-1ST (13)\",1,IF(G27=\"PTI  I  (13)\",1,IF(G27=\"AGRICULTURE TEACH (13)\",1,IF(G27=\"INSTRUCTOR (13)\",1,0))))))))+(IF(G27=\"JR TEACHER (13)\",1,IF(G27=\"LIBRARIAN I (13)\",1,0))))*(IF(O27=\"FIX PAY\",1,0))","v":0},{"$f":"IF(BS27<=0,1,0)*(IF(O27=\"FIX PAY\",1,0))","v":0},0,{"$f":"IF(X27=\"No\",0,1)","v":1},{"$f":"IF((ROUND((SUMPRODUCT(MID(0&E27,LARGE(INDEX(ISNUMBER(--MID(E27,ROW($1:$25),1))* ROW($1:$25),0),ROW($1:$25))+1,1)*10^ROW($1:$25)/10)),-8)/100000000)>=2004,1,0)","v":1},{"$f":"IF(I27<=0,0,1)","v":1},0,0,{"$f":"IF(AND(E27=\"\"),\"\",IF(AND(E27<=0),\"\",IF((ROUND((SUMPRODUCT(MID(0&E27,LARGE(INDEX(ISNUMBER(--MID(E27,ROW($1:$70),1))* ROW($1:$70),0),ROW($1:$70))+1,1)*10^ROW($1:$70)/10)),-8)/100000000)<2004,1,0)))","v":0}]
[{"$f":"IF(I28=\"\",\"\",IF(I28>0,A27+1,\"\"))","v":3},2202,2,{"$f":"IF(ISNA(VLOOKUP(C28,Master!AQ$60:BC$285,3,FALSE)),\"\",VLOOKUP(C28,Master!AQ$60:BC$285,3,FALSE))","v":"ZGD"},{"$f":"IF(ISNA(VLOOKUP(C28,Master!AQ$60:BC$285,7,FALSE)),\"\",VLOOKUP(C28,Master!AQ$60:BC$285,7,FALSE))","v":"RJJO201725019704"},{"$f":"IF(ISNA(VLOOKUP(C28,Master!AQ$60:BC$285,8,FALSE)),\"\",VLOOKUP(C28,Master!AQ$60:BC$285,8,FALSE))","v":0},{"$f":"IF(ISNA(VLOOKUP(C28,Master!AQ$60:BC$285,4,FALSE)),\"\",VLOOKUP(C28,Master!AQ$60:BC$285,4,FALSE))","v":"TEACHER-III"},{"$f":"IF(ISNA(VLOOKUP(C28,Master!AQ$60:BC$285,5,FALSE)),\"\",VLOOKUP(C28,Master!AQ$60:BC$285,5,FALSE))","v":"L-10"},{"$f":"IF(ISNA(VLOOKUP(C28,Master!AQ$60:BC$285,6,FALSE)),\"\",VLOOKUP(C28,Master!AQ$60:BC$285,6,FALSE))","v":36900},{"$f":"IF(AND(I28=\"\"),\"\",I28*12)","v":442800},{"$f":"IF(AND(I28=\"\"),\"\",IF(I28<=0,\"\",(CONCATENATE(\"01.07.\",(YEAR(TODAY())+1)))))","v":"01.07.2024"},{"$f":"IF(AND(I28=\"\"),\"\",ROUND(ROUND(I28*3%,0),-2)*IF(H28=\"FIX PAY\",0,1)*8)","v":8800},{"$f":"IF(AND(I28=\"\"),\"\",J28+L28)","v":451600},{"$f":"IF(AND(I28=\"\"),\"\",IF(O28=\"FIX PAY\",M28,((IF(O28=\"FIX PAY\",0,AF28*4+I28*8)))))","v":438400},{"$f":"IF(ISNA(VLOOKUP(C28,Master!AQ$60:BC$285,12,FALSE)),\"\",VLOOKUP(C28,Master!AQ$60:BC$285,12,FALSE))","v":"NON GAZETTED - REGULAR"},{"$nulls":3},6774,1,{"$f":"IF(ISNA(VLOOKUP(C28,Master!AQ$60:BC$285,10,FALSE)),\"\",VLOOKUP(C28,Master!AQ$60:BC$285,10,FALSE))","v":0},null,null,{"$f":"IF(ISNA(VLOOKUP(C28,Master!AQ$60:BC$285,11,FALSE)),\"\",VLOOKUP(C28,Master!AQ$60:BC$285,11,FALSE))","v":0},{"$f":"IF(ISNA(VLOOKUP(C28,Master!AQ$60:BC$285,9,FALSE)),\"\",VLOOKUP(C28,Master!AQ$60:BC$285,9,FALSE))","v":0},{"$f":"IF(Y28=\"MALE\",1,0)*(IF(G28=\"JAMADAR\",1,0))*(IF(I28<=0,0,1))","v":0},{"$f":"IF(Y28=\"FEMALE\",1,0)*(IF(G28=\"JAMADAR\",1,0))*(IF(I28<=0,0,1))","v":0},{"$f":"IF(Y28=\"MALE\",1,0)*(IF(G28=\"LAB BOY\",1,0))*(IF(I28<=0,0,1))","v":0},{"$f":"IF(Y28=\"FEMALE\",1,0)*(IF(G28=\"LAB BOY\",1,0))*(IF(I28<=0,0,1))","v":0},{"$f":"IF(Y28=\"MALE\",1,0)*(IF(G28=\"PEON\",1,0))*(IF(I28<=0,0,1))","v":0},{"$f":"IF(Y28=\"FEMALE\",1,0)*(IF(G28=\"PEON\",1,0))*(IF(I28<=0,0,1))","v":0},{"$f":"IF(AND(I28=\"\"),\"\",I28-ROUNDUP(ROUND((I28*3%)-(I28*3%)*2.9%,-2),0))","v":35800},{"$f":"IF(AND(I28=\"\"),\"\",$M28*$BQ28)","v":0},{"$f":"IF(AND(I28=\"\"),\"\",$M28*$BR28)","v":451600},{"$f":"IF(AND(I28=\"\"),\"\",$M28*$BS28)","v":0},{"$f":"IF(AND(I28=\"\"),\"\",$M28*$BT28)","v":0},{"$f":"IF(AND(I28=\"\"),\"\",ROUND((AG28+AH28)*$AK$10,0)*BU28)","v":0},0,0,{"$f":"IF(AND(I28=\"\"),\"\",ROUND((AG28+AH28)*$AN$10,0)*BU28)","v":0},0,26199,0,0,0,477799,477799,null,null,{"$f":"AU28+AV28+AW28","v":477799},0,438400,0,0,{"$f":"ROUND((AY28+AZ28)*$BC$10,0)*BU28","v":0},0,0,{"$f":"ROUND((AY28+AZ28)*$BF$10,0)*BU28","v":0},0,25418,0,0,0,{"$f":"SUM(BC28:BK28)+AY28+AZ28","v":463818},{"$f":"BL28","v":463818},null,null,{"$f":"BM28+BN28+BO28","v":463818},0,1,0,0,0,{"$f":"IF(X28=\"No\",0,1)","v":1},1,{"$f":"IF(I28<=0,0,1)","v":1},0,0,0]
[{"$f":"IF(I29=\"\",\"\",IF(I29>0,A28+1,\"\"))","v":4},2202,3,{"$f":"IF(ISNA(VLOOKUP(C29,Master!AQ$60:BC$285,3,FALSE)),\"\",VLOOKUP(C29,Master!AQ$60:BC$285,3,FALSE))","v":"DBCZFB"},{"$f":"IF(ISNA(VLOOKUP(C29,Master!AQ$60:BC$285,7,FALSE)),\"\",VLOOKUP(C29,Master!AQ$60:BC$285,7,FALSE))","v":"RJJO200725008042"},{"$f":"IF(ISNA(VLOOKUP(C29,Master!AQ$60:BC$285,8,FALSE)),\"\",VLOOKUP(C29,Master!AQ$60:BC$285,8,FALSE))","v":0},{"$f":"IF(ISNA(VLOOKUP(C29,Master!AQ$60:BC$285,4,FALSE)),\"\",VLOOKUP(C29,Master!AQ$60:BC$285,4,FALSE))","v":"TEACHER-III"},{"$f":"IF(ISNA(VLOOKUP(C29,Master!AQ$60:BC$285,5,FALSE)),\"\",VLOOKUP(C29,Master!AQ$60:BC$285,5,FALSE))","v":"L-11"},{"$f":"IF(ISNA(VLOOKUP(C29,Master!AQ$60:BC$285,6,FALSE)),\"\",VLOOKUP(C29,Master!AQ$60:BC$285,6,FALSE))","v":49300},591600,"01.07.2024",12000,603600,586000,{"$f":"IF(ISNA(VLOOKUP(C29,Master!AQ$60:BC$285,12,FALSE)),\"\",VLOOKUP(C29,Master!AQ$60:BC$285,12,FALSE))","v":"NON GAZETTED - REGULAR"},{"$nulls":3},6774,1,{"$f":"IF(ISNA(VLOOKUP(C29,Master!AQ$60:BC$285,10,FALSE)),\"\",VLOOKUP(C29,Master!AQ$60:BC$285,10,FALSE))","v":0},null,null,{"$f":"IF(ISNA(VLOOKUP(C29,Master!AQ$60:BC$285,11,FALSE)),\"\",VLOOKUP(C29,Master!AQ$60:BC$285,11,FALSE))","v":0},{"$f":"IF(ISNA(VLOOKUP(C29,Master!AQ$60:BC$285,9,FALSE)),\"\",VLOOKUP(C29,Master!AQ$60:BC$285,9,FALSE))","v":0},0,0,0,0,0,0,47900,0,603600,0,0,0,0,0,0,0,35003,0,0,0,638603,638603,null,null,638603,0,586000,0,0,0,0,0,0,0,34009,0,0,0,620009,620009,null,null,620009,0,1,0,0,0,1,1,1,0,0,0]
[5,2202,4,{"$f":"IF(ISNA(VLOOKUP(C30,Master!AQ$60:BC$285,3,FALSE)),\"\",VLOOKUP(C30,Master!AQ$60:BC$285,3,FALSE))","v":"D"},{"$f":"IF(ISNA(VLOOKUP(C30,Master!AQ$60:BC$285,7,FALSE)),\"\",VLOOKUP(C30,Master!AQ$60:BC$285,7,FALSE))","v":"RJJO201525034739"},{"$f":"IF(ISNA(VLOOKUP(C30,Master!AQ$60:BC$285,8,FALSE)),\"\",VLOOKUP(C30,Master!AQ$60:BC$285,8,FALSE))","v":0},{"$f":"IF(ISNA(VLOOKUP(C30,Master!AQ$60:BC$285,4,FALSE)),\"\",VLOOKUP(C30,Master!AQ$60:BC$285,4,FALSE))","v":"TEACHER-III"},{"$f":"IF(ISNA(VLOOKUP(C30,Master!AQ$60:BC$285,5,FALSE)),\"\",VLOOKUP(C30,Master!AQ$60:BC$285,5,FALSE))","v":"L-10"},{"$f":"IF(ISNA(VLOOKUP(C30,Master!AQ$60:BC$285,6,FALSE)),\"\",VLOOKUP(C30,Master!AQ$60:BC$285,6,FALSE))","v":40300},483600,"01.07.2024",9600,493200,478800,{"$f":"IF(ISNA(VLOOKUP(C30,Master!AQ$60:BC$285,12,FALSE)),\"\",VLOOKUP(C30,Master!AQ$60:BC$285,12,FALSE))","v":"NON GAZETTED - REGULAR"},{"$nulls":3},6774,1,{"$f":"IF(ISNA(VLOOKUP(C30,Master!AQ$60:BC$285,10,FALSE)),\"\",VLOOKUP(C30,Master!AQ$60:BC$285,10,FALSE))","v":0},null,null,{"$f":"IF(ISNA(VLOOKUP(C30,Master!AQ$60:BC$285,11,FALSE)),\"\",VLOOKUP(C30,Master!AQ$60:BC$285,11,FALSE))","v":0},{"$f":"IF(ISNA(VLOOKUP(C30,Master!AQ$60:BC$285,9,FALSE)),\"\",VLOOKUP(C30,Master!AQ$60:BC$285,9,FALSE))","v":0},0,0,0,0,0,0,39100,0,493200,0,0,0,0,0,0,0,28613,0,0,0,521813,521813,null,null,521813,0,478800,0,0,0,0,0,0,0,27761,0,0,0,506561,506561,null,null,506561,0,1,0,0,0,1,1,1,0,0,0]
[6,2202,5,{"$f":"IF(ISNA(VLOOKUP(C31,Master!AQ$60:BC$285,3,FALSE)),\"\",VLOOKUP(C31,Master!AQ$60:BC$285,3,FALSE))","v":"BCBD"},{"$f":"IF(ISNA(VLOOKUP(C31,Master!AQ$60:BC$285,7,FALSE)),\"\",VLOOKUP(C31,Master!AQ$60:BC$285,7,FALSE))","v":"RJJO201325036063"},{"$f":"IF(ISNA(VLOOKUP(C31,Master!AQ$60:BC$285,8,FALSE)),\"\",VLOOKUP(C31,Master!AQ$60:BC$285,8,FALSE))","v":0},{"$f":"IF(ISNA(VLOOKUP(C31,Master!AQ$60:BC$285,4,FALSE)),\"\",VLOOKUP(C31,Master!AQ$60:BC$285,4,FALSE))","v":"TEACHER-III"},{"$f":"IF(ISNA(VLOOKUP(C31,Master!AQ$60:BC$285,5,FALSE)),\"\",VLOOKUP(C31,Master!AQ$60:BC$285,5,FALSE))","v":"L-11"},{"$f":"IF(ISNA(VLOOKUP(C31,Master!AQ$60:BC$285,6,FALSE)),\"\",VLOOKUP(C31,Master!AQ$60:BC$285,6,FALSE))","v":45100},541200,"01.07.2024",11200,552400,536000,{"$f":"IF(ISNA(VLOOKUP(C31,Master!AQ$60:BC$285,12,FALSE)),\"\",VLOOKUP(C31,Master!AQ$60:BC$285,12,FALSE))","v":"NON GAZETTED - REGULAR"},{"$nulls":3},6774,1,{"$f":"IF(ISNA(VLOOKUP(C31,Master!AQ$60:BC$285,10,FALSE)),\"\",VLOOKUP(C31,Master!AQ$60:BC$285,10,FALSE))","v":0},null,null,{"$f":"IF(ISNA(VLOOKUP(C31,Master!AQ$60:BC$285,11,FALSE)),\"\",VLOOKUP(C31,Master!AQ$60:BC$285,11,FALSE))","v":0},{"$f":"IF(ISNA(VLOOKUP(C31,Master!AQ$60:BC$285,9,FALSE)),\"\",VLOOKUP(C31,Master!AQ$60:BC$285,9,FALSE))","v":0},0,0,0,0,0,0,43800,0,552400,0,0,0,0,0,0,0,32021,0,0,0,584421,584421,null,null,584421,0,536000,0,0,0,0,0,0,0,31098,0,0,0,567098,567098,null,null,567098,0,1,0,0,0,1,1,1,0,0,0]
[7,2202,6,{"$f":"IF(ISNA(VLOOKUP(C32,Master!AQ$60:BC$285,3,FALSE)),\"\",VLOOKUP(C32,Master!AQ$60:BC$285,3,FALSE))","v":"GBGCBD"},{"$f":"IF(ISNA(VLOOKUP(C32,Master!AQ$60:BC$285,7,FALSE)),\"\",VLOOKUP(C32,Master!AQ$60:BC$285,7,FALSE))","v":"RJSR201834028851"},{"$f":"IF(ISNA(VLOOKUP(C32,Master!AQ$60:BC$285,8,FALSE)),\"\",VLOOKUP(C32,Master!AQ$60:BC$285,8,FALSE))","v":0},{"$f":"IF(ISNA(VLOOKUP(C32,Master!AQ$60:BC$285,4,FALSE)),\"\",VLOOKUP(C32,Master!AQ$60:BC$285,4,FALSE))","v":"PEON"},{"$f":"IF(ISNA(VLOOKUP(C32,Master!AQ$60:BC$285,5,FALSE)),\"\",VLOOKUP(C32,Master!AQ$60:BC$285,5,FALSE))","v":"L-3"},{"$f":"IF(ISNA(VLOOKUP(C32,Master!AQ$60:BC$285,6,FALSE)),\"\",VLOOKUP(C32,Master!AQ$60:BC$285,6,FALSE))","v":33000},396000,"01.07.2024",8000,404000,392000,{"$f":"IF(ISNA(VLOOKUP(C32,Master!AQ$60:BC$285,12,FALSE)),\"\",VLOOKUP(C32,Master!AQ$60:BC$285,12,FALSE))","v":"NON GAZETTED - REGULAR"},{"$nulls":3},0,1,{"$f":"IF(ISNA(VLOOKUP(C32,Master!AQ$60:BC$285,10,FALSE)),\"\",VLOOKUP(C32,Master!AQ$60:BC$285,10,FALSE))","v":0},null,null,{"$f":"IF(ISNA(VLOOKUP(C32,Master!AQ$60:BC$285,11,FALSE)),\"\",VLOOKUP(C32,Master!AQ$60:BC$285,11,FALSE))","v":0},{"$f":"IF(ISNA(VLOOKUP(C32,Master!AQ$60:BC$285,9,FALSE)),\"\",VLOOKUP(C32,Master!AQ$60:BC$285,9,FALSE))","v":0},0,0,0,0,0,0,32000,0,404000,0,0,0,0,0,0,0,23430,0,0,0,427430,427430,null,null,427430,0,392000,0,0,0,0,0,0,0,22720,0,0,0,414720,414720,null,null,414720,0,1,0,0,0,1,1,1,0,0,0]
["",2202,7,{"$f":"IF(ISNA(VLOOKUP(C33,Master!AQ$60:BC$285,3,FALSE)),\"\",VLOOKUP(C33,Master!AQ$60:BC$285,3,FALSE))","v":"पद रिक्त"},{"$f":"IF(ISNA(VLOOKUP(C33,Master!AQ$60:BC$285,7,FALSE)),\"\",VLOOKUP(C33,Master!AQ$60:BC$285,7,FALSE))","v":"-"},{"$f":"IF(ISNA(VLOOKUP(C33,Master!AQ$60:BC$285,8,FALSE)),\"\",VLOOKUP(C33,Master!AQ$60:BC$285,8,FALSE))","v":0},{"$f":"IF(ISNA(VLOOKUP(C33,Master!AQ$60:BC$285,4,FALSE)),\"\",VLOOKUP(C33,Master!AQ$60:BC$285,4,FALSE))","v":"TEACHER-III"},{"$f":"IF(ISNA(VLOOKUP(C33,Master!AQ$60:BC$285,5,FALSE)),\"\",VLOOKUP(C33,Master!AQ$60:BC$285,5,FALSE))","v":"L-10"},{"$f":"IF(ISNA(VLOOKUP(C33,Master!AQ$60:BC$285,6,FALSE)),\"\",VLOOKUP(C33,Master!AQ$60:BC$285,6,FALSE))","v":0},0,"",0,0,0,{"$f":"IF(ISNA(VLOOKUP(C33,Master!AQ$60:BC$285,12,FALSE)),\"\",VLOOKUP(C33,Master!AQ$60:BC$285,12,FALSE))","v":"NON GAZETTED - REGULAR"},{"$nulls":3},6774,1,{"$f":"IF(ISNA(VLOOKUP(C33,Master!AQ$60:BC$285,10,FALSE)),\"\",VLOOKUP(C33,Master!AQ$60:BC$285,10,FALSE))","v":0},null,null,{"$f":"IF(ISNA(VLOOKUP(C33,Master!AQ$60:BC$285,11,FALSE)),\"\",VLOOKUP(C33,Master!AQ$60:BC$285,11,FALSE))","v":0},{"$f":"IF(ISNA(VLOOKUP(C33,Master!AQ$60:BC$285,9,FALSE)),\"\",VLOOKUP(C33,Master!AQ$60:BC$285,9,FALSE))","v":0},0,0,0,0,0,0,0,0,0,0,0,0,0,0,0,0,0,0,0,0,0,0,null,null,0,0,0,0,0,0,0,0,0,0,0,0,0,0,0,0,null,null,0,0,1,0,0,0,1,0,0,0,0,1]
["",2202,8,{"$f":"IF(ISNA(VLOOKUP(C34,Master!AQ$60:BC$285,3,FALSE)),\"\",VLOOKUP(C34,Master!AQ$60:BC$285,3,FALSE))","v":"पद रिक्त"},{"$f":"IF(ISNA(VLOOKUP(C34,Master!AQ$60:BC$285,7,FALSE)),\"\",VLOOKUP(C34,Master!AQ$60:BC$285,7,FALSE))","v":"-"},{"$f":"IF(ISNA(VLOOKUP(C34,Master!AQ$60:BC$285,8,FALSE)),\"\",VLOOKUP(C34,Master!AQ$60:BC$285,8,FALSE))","v":0},{"$f":"IF(ISNA(VLOOKUP(C34,Master!AQ$60:BC$285,4,FALSE)),\"\",VLOOKUP(C34,Master!AQ$60:BC$285,4,FALSE))","v":"TEACHER-III"},{"$f":"IF(ISNA(VLOOKUP(C34,Master!AQ$60:BC$285,5,FALSE)),\"\",VLOOKUP(C34,Master!AQ$60:BC$285,5,FALSE))","v":"L-10"},{"$f":"IF(ISNA(VLOOKUP(C34,Master!AQ$60:BC$285,6,FALSE)),\"\",VLOOKUP(C34,Master!AQ$60:BC$285,6,FALSE))","v":0},0,"",0,0,0,{"$f":"IF(ISNA(VLOOKUP(C34,Master!AQ$60:BC$285,12,FALSE)),\"\",VLOOKUP(C34,Master!AQ$60:BC$285,12,FALSE))","v":"NON GAZETTED - REGULAR"},{"$nulls":3},6774,1,{"$f":"IF(ISNA(VLOOKUP(C34,Master!AQ$60:BC$285,10,FALSE)),\"\",VLOOKUP(C34,Master!AQ$60:BC$285,10,FALSE))","v":0},null,null,{"$f":"IF(ISNA(VLOOKUP(C34,Master!AQ$60:BC$285,11,FALSE)),\"\",VLOOKUP(C34,Master!AQ$60:BC$285,11,FALSE))","v":0},{"$f":"IF(ISNA(VLOOKUP(C34,Master!AQ$60:BC$285,9,FALSE)),\"\",VLOOKUP(C34,Master!AQ$60:BC$285,9,FALSE))","v":0},0,0,0,0,0,0,0,0,0,0,0,0,0,0,0,0,0,0,0,0,0,0,null,null,0,0,0,0,0,0,0,0,0,0,0,0,0,0,0,0,null,null,0,0,1,0,0,0,1,0,0,0,0,1]
["",2202,9,{"$f":"IF(ISNA(VLOOKUP(C35,Master!AQ$60:BC$285,3,FALSE)),\"\",VLOOKUP(C35,Master!AQ$60:BC$285,3,FALSE))","v":"पद रिक्त"},{"$f":"IF(ISNA(VLOOKUP(C35,Master!AQ$60:BC$285,7,FALSE)),\"\",VLOOKUP(C35,Master!AQ$60:BC$285,7,FALSE))","v":"-"},{"$f":"IF(ISNA(VLOOKUP(C35,Master!AQ$60:BC$285,8,FALSE)),\"\",VLOOKUP(C35,Master!AQ$60:BC$285,8,FALSE))","v":0},{"$f":"IF(ISNA(VLOOKUP(C35,Master!AQ$60:BC$285,4,FALSE)),\"\",VLOOKUP(C35,Master!AQ$60:BC$285,4,FALSE))","v":"PTI  III"},{"$f":"IF(ISNA(VLOOKUP(C35,Master!AQ$60:BC$285,5,FALSE)),\"\",VLOOKUP(C35,Master!AQ$60:BC$285,5,FALSE))","v":"L-10"},{"$f":"IF(ISNA(VLOOKUP(C35,Master!AQ$60:BC$285,6,FALSE)),\"\",VLOOKUP(C35,Master!AQ$60:BC$285,6,FALSE))","v":0},0,"",0,0,0,{"$f":"IF(ISNA(VLOOKUP(C35,Master!AQ$60:BC$285,12,FALSE)),\"\",VLOOKUP(C35,Master!AQ$60:BC$285,12,FALSE))","v":"NON GAZETTED - REGULAR"},{"$nulls":3},6774,{"$f":"IF(G35>0,1,0)","v":1},{"$f":"IF(ISNA(VLOOKUP(C35,Master!AQ$60:BC$285,10,FALSE)),\"\",VLOOKUP(C35,Master!AQ$60:BC$285,10,FALSE))","v":0},null,null,{"$f":"IF(ISNA(VLOOKUP(C35,Master!AQ$60:BC$285,11,FALSE)),\"\",VLOOKUP(C35,Master!AQ$60:BC$285,11,FALSE))","v":0},{"$f":"IF(ISNA(VLOOKUP(C35,Master!AQ$60:BC$285,9,FALSE)),\"\",VLOOKUP(C35,Master!AQ$60:BC$285,9,FALSE))","v":0},0,0,0,0,0,0,0,0,0,0,0,0,0,0,0,0,0,0,0,0,0,0,null,null,0,0,0,0,0,0,0,0,0,0,0,0,0,0,0,0,null,null,0,0,1,0,0,0,1,0,0,0,0,1]
["",2202,10,{"$f":"IF(ISNA(VLOOKUP(C36,Master!AQ$60:BC$285,3,FALSE)),\"\",VLOOKUP(C36,Master!AQ$60:BC$285,3,FALSE))","v":"पद रिक्त"},{"$f":"IF(ISNA(VLOOKUP(C36,Master!AQ$60:BC$285,7,FALSE)),\"\",VLOOKUP(C36,Master!AQ$60:BC$285,7,FALSE))","v":"-"},{"$f":"IF(ISNA(VLOOKUP(C36,Master!AQ$60:BC$285,8,FALSE)),\"\",VLOOKUP(C36,Master!AQ$60:BC$285,8,FALSE))","v":0},{"$f":"IF(ISNA(VLOOKUP(C36,Master!AQ$60:BC$285,4,FALSE)),\"\",VLOOKUP(C36,Master!AQ$60:BC$285,4,FALSE))","v":"TEACHER-III"},{"$f":"IF(ISNA(VLOOKUP(C36,Master!AQ$60:BC$285,5,FALSE)),\"\",VLOOKUP(C36,Master!AQ$60:BC$285,5,FALSE))","v":"L-10"},{"$f":"IF(ISNA(VLOOKUP(C36,Master!AQ$60:BC$285,6,FALSE)),\"\",VLOOKUP(C36,Master!AQ$60:BC$285,6,FALSE))","v":0},0,"",0,0,0,{"$f":"IF(ISNA(VLOOKUP(C36,Master!AQ$60:BC$285,12,FALSE)),\"\",VLOOKUP(C36,Master!AQ$60:BC$285,12,FALSE))","v":"NON GAZETTED - REGULAR"},{"$nulls":3},6774,1,{"$f":"IF(ISNA(VLOOKUP(C36,Master!AQ$60:BC$285,10,FALSE)),\"\",VLOOKUP(C36,Master!AQ$60:BC$285,10,FALSE))","v":0},null,null,{"$f":"IF(ISNA(VLOOKUP(C36,Master!AQ$60:BC$285,11,FALSE)),\"\",VLOOKUP(C36,Master!AQ$60:BC$285,11,FALSE))","v":0},{"$f":"IF(ISNA(VLOOKUP(C36,Master!AQ$60:BC$285,9,FALSE)),\"\",VLOOKUP(C36,Master!AQ$60:BC$285,9,FALSE))","v":0},0,0,0,0,0,0,0,0,0,0,0,0,0,0,0,0,0,0,0,0,0,0,null,null,0,0,0,0,0,0,0,0,0,0,0,0,0,0,0,0,null,null,0,0,1,0,0,0,1,0,0,0,0,1]
["",2202,11,{"$f":"IF(ISNA(VLOOKUP(C37,Master!AQ$60:BC$285,3,FALSE)),\"\",VLOOKUP(C37,Master!AQ$60:BC$285,3,FALSE))","v":"पद रिक्त"},{"$f":"IF(ISNA(VLOOKUP(C37,Master!AQ$60:BC$285,7,FALSE)),\"\",VLOOKUP(C37,Master!AQ$60:BC$285,7,FALSE))","v":"-"},{"$f":"IF(ISNA(VLOOKUP(C37,Master!AQ$60:BC$285,8,FALSE)),\"\",VLOOKUP(C37,Master!AQ$60:BC$285,8,FALSE))","v":0},{"$f":"IF(ISNA(VLOOKUP(C37,Master!AQ$60:BC$285,4,FALSE)),\"\",VLOOKUP(C37,Master!AQ$60:BC$285,4,FALSE))","v":"TEACHER-III"},{"$f":"IF(ISNA(VLOOKUP(C37,Master!AQ$60:BC$285,5,FALSE)),\"\",VLOOKUP(C37,Master!AQ$60:BC$285,5,FALSE))","v":"L-10"},{"$f":"IF(ISNA(VLOOKUP(C37,Master!AQ$60:BC$285,6,FALSE)),\"\",VLOOKUP(C37,Master!AQ$60:BC$285,6,FALSE))","v":0},0,"",0,0,0,{"$f":"IF(ISNA(VLOOKUP(C37,Master!AQ$60:BC$285,12,FALSE)),\"\",VLOOKUP(C37,Master!AQ$60:BC$285,12,FALSE))","v":"NON GAZETTED - REGULAR"},{"$nulls":3},6774,1,{"$f":"IF(ISNA(VLOOKUP(C37,Master!AQ$60:BC$285,10,FALSE)),\"\",VLOOKUP(C37,Master!AQ$60:BC$285,10,FALSE))","v":0},null,null,{"$f":"IF(ISNA(VLOOKUP(C37,Master!AQ$60:BC$285,11,FALSE)),\"\",VLOOKUP(C37,Master!AQ$60:BC$285,11,FALSE))","v":0},{"$f":"IF(ISNA(VLOOKUP(C37,Master!AQ$60:BC$285,9,FALSE)),\"\",VLOOKUP(C37,Master!AQ$60:BC$285,9,FALSE))","v":0},0,0,0,0,0,0,0,0,0,0,0,0,0,0,0,0,0,0,0,0,0,0,null,null,0,0,0,0,0,0,0,0,0,0,0,0,0,0,0,0,null,null,0,0,1,0,0,0,1,0,0,0,0,1]
["",2202,12,{"$f":"IF(ISNA(VLOOKUP(C38,Master!AQ$60:BC$285,3,FALSE)),\"\",VLOOKUP(C38,Master!AQ$60:BC$285,3,FALSE))","v":"पद रिक्त"},{"$f":"IF(ISNA(VLOOKUP(C38,Master!AQ$60:BC$285,7,FALSE)),\"\",VLOOKUP(C38,Master!AQ$60:BC$285,7,FALSE))","v":"-"},{"$f":"IF(ISNA(VLOOKUP(C38,Master!AQ$60:BC$285,8,FALSE)),\"\",VLOOKUP(C38,Master!AQ$60:BC$285,8,FALSE))","v":0},{"$f":"IF(ISNA(VLOOKUP(C38,Master!AQ$60:BC$285,4,FALSE)),\"\",VLOOKUP(C38,Master!AQ$60:BC$285,4,FALSE))","v":"TEACHER-III"},{"$f":"IF(ISNA(VLOOKUP(C38,Master!AQ$60:BC$285,5,FALSE)),\"\",VLOOKUP(C38,Master!AQ$60:BC$285,5,FALSE))","v":"L-10"},{"$f":"IF(ISNA(VLOOKUP(C38,Master!AQ$60:BC$285,6,FALSE)),\"\",VLOOKUP(C38,Master!AQ$60:BC$285,6,FALSE))","v":0},0,"",0,0,0,{"$f":"IF(ISNA(VLOOKUP(C38,Master!AQ$60:BC$285,12,FALSE)),\"\",VLOOKUP(C38,Master!AQ$60:BC$285,12,FALSE))","v":"NON GAZETTED - REGULAR"},{"$nulls":3},6774,1,{"$f":"IF(ISNA(VLOOKUP(C38,Master!AQ$60:BC$285,10,FALSE)),\"\",VLOOKUP(C38,Master!AQ$60:BC$285,10,FALSE))","v":0},null,null,{"$f":"IF(ISNA(VLOOKUP(C38,Master!AQ$60:BC$285,11,FALSE)),\"\",VLOOKUP(C38,Master!AQ$60:BC$285,11,FALSE))","v":0},{"$f":"IF(ISNA(VLOOKUP(C38,Master!AQ$60:BC$285,9,FALSE)),\"\",VLOOKUP(C38,Master!AQ$60:BC$285,9,FALSE))","v":0},0,0,0,0,0,0,0,0,0,0,0,0,0,0,0,0,0,0,0,0,0,0,null,null,0,0,0,0,0,0,0,0,0,0,0,0,0,0,0,0,null,null,0,0,1,0,0,0,1,0,0,0,0,1]
["",2202,13,{"$f":"IF(ISNA(VLOOKUP(C39,Master!AQ$60:BC$285,3,FALSE)),\"\",VLOOKUP(C39,Master!AQ$60:BC$285,3,FALSE))","v":"पद रिक्त"},{"$f":"IF(ISNA(VLOOKUP(C39,Master!AQ$60:BC$285,7,FALSE)),\"\",VLOOKUP(C39,Master!AQ$60:BC$285,7,FALSE))","v":"-"},{"$f":"IF(ISNA(VLOOKUP(C39,Master!AQ$60:BC$285,8,FALSE)),\"\",VLOOKUP(C39,Master!AQ$60:BC$285,8,FALSE))","v":0},{"$f":"IF(ISNA(VLOOKUP(C39,Master!AQ$60:BC$285,4,FALSE)),\"\",VLOOKUP(C39,Master!AQ$60:BC$285,4,FALSE))","v":"TEACHER-II"},{"$f":"IF(ISNA(VLOOKUP(C39,Master!AQ$60:BC$285,5,FALSE)),\"\",VLOOKUP(C39,Master!AQ$60:BC$285,5,FALSE))","v":"L-11"},{"$f":"IF(ISNA(VLOOKUP(C39,Master!AQ$60:BC$285,6,FALSE)),\"\",VLOOKUP(C39,Master!AQ$60:BC$285,6,FALSE))","v":0},0,"",0,0,0,{"$f":"IF(ISNA(VLOOKUP(C39,Master!AQ$60:BC$285,12,FALSE)),\"\",VLOOKUP(C39,Master!AQ$60:BC$285,12,FALSE))","v":"NON GAZETTED - REGULAR"},{"$nulls":3},6774,1,{"$f":"IF(ISNA(VLOOKUP(C39,Master!AQ$60:BC$285,10,FALSE)),\"\",VLOOKUP(C39,Master!AQ$60:BC$285,10,FALSE))","v":0},null,null,{"$f":"IF(ISNA(VLOOKUP(C39,Master!AQ$60:BC$285,11,FALSE)),\"\",VLOOKUP(C39,Master!AQ$60:BC$285,11,FALSE))","v":0},{"$f":"IF(ISNA(VLOOKUP(C39,Master!AQ$60:BC$285,9,FALSE)),\"\",VLOOKUP(C39,Master!AQ$60:BC$285,9,FALSE))","v":0},0,0,0,0,0,0,0,0,0,0,0,0,0,0,0,0,0,0,0,0,0,0,null,null,0,0,0,0,0,0,0,0,0,0,0,0,0,0,0,0,null,null,0,0,1,0,0,0,1,0,0,0,0,1]
["",2202,14,{"$f":"IF(ISNA(VLOOKUP(C40,Master!AQ$60:BC$285,3,FALSE)),\"\",VLOOKUP(C40,Master!AQ$60:BC$285,3,FALSE))","v":"पद रिक्त"},{"$f":"IF(ISNA(VLOOKUP(C40,Master!AQ$60:BC$285,7,FALSE)),\"\",VLOOKUP(C40,Master!AQ$60:BC$285,7,FALSE))","v":"-"},{"$f":"IF(ISNA(VLOOKUP(C40,Master!AQ$60:BC$285,8,FALSE)),\"\",VLOOKUP(C40,Master!AQ$60:BC$285,8,FALSE))","v":0},{"$f":"IF(ISNA(VLOOKUP(C40,Master!AQ$60:BC$285,4,FALSE)),\"\",VLOOKUP(C40,Master!AQ$60:BC$285,4,FALSE))","v":"TEACHER-III"},{"$f":"IF(ISNA(VLOOKUP(C40,Master!AQ$60:BC$285,5,FALSE)),\"\",VLOOKUP(C40,Master!AQ$60:BC$285,5,FALSE))","v":"L-10"},{"$f":"IF(ISNA(VLOOKUP(C40,Master!AQ$60:BC$285,6,FALSE)),\"\",VLOOKUP(C40,Master!AQ$60:BC$285,6,FALSE))","v":0},0,"",0,0,0,{"$f":"IF(ISNA(VLOOKUP(C40,Master!AQ$60:BC$285,12,FALSE)),\"\",VLOOKUP(C40,Master!AQ$60:BC$285,12,FALSE))","v":"NON GAZETTED - REGULAR"},{"$nulls":3},6774,1,{"$f":"IF(ISNA(VLOOKUP(C40,Master!AQ$60:BC$285,10,FALSE)),\"\",VLOOKUP(C40,Master!AQ$60:BC$285,10,FALSE))","v":0},null,null,{"$f":"IF(ISNA(VLOOKUP(C40,Master!AQ$60:BC$285,11,FALSE)),\"\",VLOOKUP(C40,Master!AQ$60:BC$285,11,FALSE))","v":0},{"$f":"IF(ISNA(VLOOKUP(C40,Master!AQ$60:BC$285,9,FALSE)),\"\",VLOOKUP(C40,Master!AQ$60:BC$285,9,FALSE))","v":0},0,0,0,0,0,0,0,0,0,0,0,0,0,0,0,0,0,0,0,0,0,0,null,null,0,0,0,0,0,0,0,0,0,0,0,0,0,0,0,0,null,null,0,0,1,0,0,0,1,0,0,0,0,1]
["",2202,15,{"$f":"IF(ISNA(VLOOKUP(C41,Master!AQ$60:BC$285,3,FALSE)),\"\",VLOOKUP(C41,Master!AQ$60:BC$285,3,FALSE))","v":"पद रिक्त"},{"$f":"IF(ISNA(VLOOKUP(C41,Master!AQ$60:BC$285,7,FALSE)),\"\",VLOOKUP(C41,Master!AQ$60:BC$285,7,FALSE))","v":"-"},{"$f":"IF(ISNA(VLOOKUP(C41,Master!AQ$60:BC$285,8,FALSE)),\"\",VLOOKUP(C41,Master!AQ$60:BC$285,8,FALSE))","v":0},{"$f":"IF(ISNA(VLOOKUP(C41,Master!AQ$60:BC$285,4,FALSE)),\"\",VLOOKUP(C41,Master!AQ$60:BC$285,4,FALSE))","v":"TEACHER-III"},{"$f":"IF(ISNA(VLOOKUP(C41,Master!AQ$60:BC$285,5,FALSE)),\"\",VLOOKUP(C41,Master!AQ$60:BC$285,5,FALSE))","v":"L-10"},{"$f":"IF(ISNA(VLOOKUP(C41,Master!AQ$60:BC$285,6,FALSE)),\"\",VLOOKUP(C41,Master!AQ$60:BC$285,6,FALSE))","v":0},0,"",0,0,0,{"$f":"IF(ISNA(VLOOKUP(C41,Master!AQ$60:BC$285,12,FALSE)),\"\",VLOOKUP(C41,Master!AQ$60:BC$285,12,FALSE))","v":"NON GAZETTED - REGULAR"},{"$nulls":3},6774,1,{"$f":"IF(ISNA(VLOOKUP(C41,Master!AQ$60:BC$285,10,FALSE)),\"\",VLOOKUP(C41,Master!AQ$60:BC$285,10,FALSE))","v":0},null,null,{"$f":"IF(ISNA(VLOOKUP(C41,Master!AQ$60:BC$285,11,FALSE)),\"\",VLOOKUP(C41,Master!AQ$60:BC$285,11,FALSE))","v":0},{"$f":"IF(ISNA(VLOOKUP(C41,Master!AQ$60:BC$285,9,FALSE)),\"\",VLOOKUP(C41,Master!AQ$60:BC$285,9,FALSE))","v":0},0,0,0,0,0,0,0,0,0,0,0,0,0,0,0,0,0,0,0,0,0,0,null,null,0,0,0,0,0,0,0,0,0,0,0,0,0,0,0,0,null,null,0,0,1,0,0,0,1,0,0,0,0,1]
["",2202,16,{"$f":"IF(ISNA(VLOOKUP(C42,Master!AQ$60:BC$285,3,FALSE)),\"\",VLOOKUP(C42,Master!AQ$60:BC$285,3,FALSE))","v":"पद रिक्त"},{"$f":"IF(ISNA(VLOOKUP(C42,Master!AQ$60:BC$285,7,FALSE)),\"\",VLOOKUP(C42,Master!AQ$60:BC$285,7,FALSE))","v":"-"},{"$f":"IF(ISNA(VLOOKUP(C42,Master!AQ$60:BC$285,8,FALSE)),\"\",VLOOKUP(C42,Master!AQ$60:BC$285,8,FALSE))","v":0},{"$f":"IF(ISNA(VLOOKUP(C42,Master!AQ$60:BC$285,4,FALSE)),\"\",VLOOKUP(C42,Master!AQ$60:BC$285,4,FALSE))","v":"TEACHER-III"},{"$f":"IF(ISNA(VLOOKUP(C42,Master!AQ$60:BC$285,5,FALSE)),\"\",VLOOKUP(C42,Master!AQ$60:BC$285,5,FALSE))","v":"L-10"},{"$f":"IF(ISNA(VLOOKUP(C42,Master!AQ$60:BC$285,6,FALSE)),\"\",VLOOKUP(C42,Master!AQ$60:BC$285,6,FALSE))","v":0},0,"",0,0,0,{"$f":"IF(ISNA(VLOOKUP(C42,Master!AQ$60:BC$285,12,FALSE)),\"\",VLOOKUP(C42,Master!AQ$60:BC$285,12,FALSE))","v":"NON GAZETTED - REGULAR"},{"$nulls":3},6774,1,{"$f":"IF(ISNA(VLOOKUP(C42,Master!AQ$60:BC$285,10,FALSE)),\"\",VLOOKUP(C42,Master!AQ$60:BC$285,10,FALSE))","v":0},null,null,{"$f":"IF(ISNA(VLOOKUP(C42,Master!AQ$60:BC$285,11,FALSE)),\"\",VLOOKUP(C42,Master!AQ$60:BC$285,11,FALSE))","v":0},{"$f":"IF(ISNA(VLOOKUP(C42,Master!AQ$60:BC$285,9,FALSE)),\"\",VLOOKUP(C42,Master!AQ$60:BC$285,9,FALSE))","v":0},0,0,0,0,0,0,0,0,0,0,0,0,0,0,0,0,0,0,0,0,0,0,null,null,0,0,0,0,0,0,0,0,0,0,0,0,0,0,0,0,null,null,0,0,1,0,0,0,1,0,0,0,0,1]
["",2202,17,{"$f":"IF(ISNA(VLOOKUP(C43,Master!AQ$60:BC$285,3,FALSE)),\"\",VLOOKUP(C43,Master!AQ$60:BC$285,3,FALSE))","v":"पद रिक्त"},{"$f":"IF(ISNA(VLOOKUP(C43,Master!AQ$60:BC$285,7,FALSE)),\"\",VLOOKUP(C43,Master!AQ$60:BC$285,7,FALSE))","v":"-"},{"$f":"IF(ISNA(VLOOKUP(C43,Master!AQ$60:BC$285,8,FALSE)),\"\",VLOOKUP(C43,Master!AQ$60:BC$285,8,FALSE))","v":0},{"$f":"IF(ISNA(VLOOKUP(C43,Master!AQ$60:BC$285,4,FALSE)),\"\",VLOOKUP(C43,Master!AQ$60:BC$285,4,FALSE))","v":"PTI  III"},{"$f":"IF(ISNA(VLOOKUP(C43,Master!AQ$60:BC$285,5,FALSE)),\"\",VLOOKUP(C43,Master!AQ$60:BC$285,5,FALSE))","v":"L-10"},{"$f":"IF(ISNA(VLOOKUP(C43,Master!AQ$60:BC$285,6,FALSE)),\"\",VLOOKUP(C43,Master!AQ$60:BC$285,6,FALSE))","v":0},0,"",0,0,0,{"$f":"IF(ISNA(VLOOKUP(C43,Master!AQ$60:BC$285,12,FALSE)),\"\",VLOOKUP(C43,Master!AQ$60:BC$285,12,FALSE))","v":"NON GAZETTED - REGULAR"},{"$nulls":3},6774,1,{"$f":"IF(ISNA(VLOOKUP(C43,Master!AQ$60:BC$285,10,FALSE)),\"\",VLOOKUP(C43,Master!AQ$60:BC$285,10,FALSE))","v":0},null,null,{"$f":"IF(ISNA(VLOOKUP(C43,Master!AQ$60:BC$285,11,FALSE)),\"\",VLOOKUP(C43,Master!AQ$60:BC$285,11,FALSE))","v":0},{"$f":"IF(ISNA(VLOOKUP(C43,Master!AQ$60:BC$285,9,FALSE)),\"\",VLOOKUP(C43,Master!AQ$60:BC$285,9,FALSE))","v":0},0,0,0,0,0,0,0,0,0,0,0,0,0,0,0,0,0,0,0,0,0,0,null,null,0,0,0,0,0,0,0,0,0,0,0,0,0,0,0,0,null,null,0,0,1,0,0,0,1,0,0,0,0,1]
["",2202,18,{"$f":"IF(ISNA(VLOOKUP(C44,Master!AQ$60:BC$285,3,FALSE)),\"\",VLOOKUP(C44,Master!AQ$60:BC$285,3,FALSE))","v":"पद रिक्त"},{"$f":"IF(ISNA(VLOOKUP(C44,Master!AQ$60:BC$285,7,FALSE)),\"\",VLOOKUP(C44,Master!AQ$60:BC$285,7,FALSE))","v":"-"},{"$f":"IF(ISNA(VLOOKUP(C44,Master!AQ$60:BC$285,8,FALSE)),\"\",VLOOKUP(C44,Master!AQ$60:BC$285,8,FALSE))","v":0},{"$f":"IF(ISNA(VLOOKUP(C44,Master!AQ$60:BC$285,4,FALSE)),\"\",VLOOKUP(C44,Master!AQ$60:BC$285,4,FALSE))","v":"TEACHER-III"},{"$f":"IF(ISNA(VLOOKUP(C44,Master!AQ$60:BC$285,5,FALSE)),\"\",VLOOKUP(C44,Master!AQ$60:BC$285,5,FALSE))","v":"L-10"},{"$f":"IF(ISNA(VLOOKUP(C44,Master!AQ$60:BC$285,6,FALSE)),\"\",VLOOKUP(C44,Master!AQ$60:BC$285,6,FALSE))","v":0},0,"",0,0,0,{"$f":"IF(ISNA(VLOOKUP(C44,Master!AQ$60:BC$285,12,FALSE)),\"\",VLOOKUP(C44,Master!AQ$60:BC$285,12,FALSE))","v":"NON GAZETTED - REGULAR"},{"$nulls":3},6774,1,{"$f":"IF(ISNA(VLOOKUP(C44,Master!AQ$60:BC$285,10,FALSE)),\"\",VLOOKUP(C44,Master!AQ$60:BC$285,10,FALSE))","v":0},null,null,{"$f":"IF(ISNA(VLOOKUP(C44,Master!AQ$60:BC$285,11,FALSE)),\"\",VLOOKUP(C44,Master!AQ$60:BC$285,11,FALSE))","v":0},{"$f":"IF(ISNA(VLOOKUP(C44,Master!AQ$60:BC$285,9,FALSE)),\"\",VLOOKUP(C44,Master!AQ$60:BC$285,9,FALSE))","v":0},0,0,0,0,0,0,0,0,0,0,0,0,0,0,0,0,0,0,0,0,0,0,null,null,0,0,0,0,0,0,0,0,0,0,0,0,0,0,0,0,null,null,0,0,1,0,0,0,1,0,0,0,0,1]
["",2202,19,{"$f":"IF(ISNA(VLOOKUP(C45,Master!AQ$60:BC$285,3,FALSE)),\"\",VLOOKUP(C45,Master!AQ$60:BC$285,3,FALSE))","v":""},{"$f":"IF(ISNA(VLOOKUP(C45,Master!AQ$60:BC$285,7,FALSE)),\"\",VLOOKUP(C45,Master!AQ$60:BC$285,7,FALSE))","v":""},{"$f":"IF(ISNA(VLOOKUP(C45,Master!AQ$60:BC$285,8,FALSE)),\"\",VLOOKUP(C45,Master!AQ$60:BC$285,8,FALSE))","v":""},{"$f":"IF(ISNA(VLOOKUP(C45,Master!AQ$60:BC$285,4,FALSE)),\"\",VLOOKUP(C45,Master!AQ$60:BC$285,4,FALSE))","v":""},{"$f":"IF(ISNA(VLOOKUP(C45,Master!AQ$60:BC$285,5,FALSE)),\"\",VLOOKUP(C45,Master!AQ$60:BC$285,5,FALSE))","v":""},{"$f":"IF(ISNA(VLOOKUP(C45,Master!AQ$60:BC$285,6,FALSE)),\"\",VLOOKUP(C45,Master!AQ$60:BC$285,6,FALSE))","v":""},"","","","","",{"$f":"IF(ISNA(VLOOKUP(C45,Master!AQ$60:BC$285,12,FALSE)),\"\",VLOOKUP(C45,Master!AQ$60:BC$285,12,FALSE))","v":""},{"$nulls":3},0,1,{"$f":"IF(ISNA(VLOOKUP(C45,Master!AQ$60:BC$285,10,FALSE)),\"\",VLOOKUP(C45,Master!AQ$60:BC$285,10,FALSE))","v":""},null,null,{"$f":"IF(ISNA(VLOOKUP(C45,Master!AQ$60:BC$285,11,FALSE)),\"\",VLOOKUP(C45,Master!AQ$60:BC$285,11,FALSE))","v":""},{"$f":"IF(ISNA(VLOOKUP(C45,Master!AQ$60:BC$285,9,FALSE)),\"\",VLOOKUP(C45,Master!AQ$60:BC$285,9,FALSE))","v":""},0,0,0,0,0,0,"","","","","","",0,0,"",0,0,0,0,0,0,0,null,null,0,0,0,0,0,0,0,0,0,0,0,0,0,0,0,0,null,null,0,0,1,0,0,0,1,0,1,0,0,""]
["",2202,20,{"$f":"IF(ISNA(VLOOKUP(C46,Master!AQ$60:BC$285,3,FALSE)),\"\",VLOOKUP(C46,Master!AQ$60:BC$285,3,FALSE))","v":""},{"$f":"IF(ISNA(VLOOKUP(C46,Master!AQ$60:BC$285,7,FALSE)),\"\",VLOOKUP(C46,Master!AQ$60:BC$285,7,FALSE))","v":""},{"$f":"IF(ISNA(VLOOKUP(C46,Master!AQ$60:BC$285,8,FALSE)),\"\",VLOOKUP(C46,Master!AQ$60:BC$285,8,FALSE))","v":""},{"$f":"IF(ISNA(VLOOKUP(C46,Master!AQ$60:BC$285,4,FALSE)),\"\",VLOOKUP(C46,Master!AQ$60:BC$285,4,FALSE))","v":""},{"$f":"IF(ISNA(VLOOKUP(C46,Master!AQ$60:BC$285,5,FALSE)),\"\",VLOOKUP(C46,Master!AQ$60:BC$285,5,FALSE))","v":""},{"$f":"IF(ISNA(VLOOKUP(C46,Master!AQ$60:BC$285,6,FALSE)),\"\",VLOOKUP(C46,Master!AQ$60:BC$285,6,FALSE))","v":""},"","","","","",{"$f":"IF(ISNA(VLOOKUP(C46,Master!AQ$60:BC$285,12,FALSE)),\"\",VLOOKUP(C46,Master!AQ$60:BC$285,12,FALSE))","v":""},{"$nulls":3},0,1,{"$f":"IF(ISNA(VLOOKUP(C46,Master!AQ$60:BC$285,10,FALSE)),\"\",VLOOKUP(C46,Master!AQ$60:BC$285,10,FALSE))","v":""},null,null,{"$f":"IF(ISNA(VLOOKUP(C46,Master!AQ$60:BC$285,11,FALSE)),\"\",VLOOKUP(C46,Master!AQ$60:BC$285,11,FALSE))","v":""},{"$f":"IF(ISNA(VLOOKUP(C46,Master!AQ$60:BC$285,9,FALSE)),\"\",VLOOKUP(C46,Master!AQ$60:BC$285,9,FALSE))","v":""},0,0,0,0,0,0,"","","","","","",0,0,"",0,0,0,0,0,0,0,null,null,0,0,0,0,0,0,0,0,0,0,0,0,0,0,0,0,null,null,0,0,1,0,0,0,1,0,1,0,0,""]
["",2202,21,{"$f":"IF(ISNA(VLOOKUP(C47,Master!AQ$60:BC$285,3,FALSE)),\"\",VLOOKUP(C47,Master!AQ$60:BC$285,3,FALSE))","v":""},{"$f":"IF(ISNA(VLOOKUP(C47,Master!AQ$60:BC$285,7,FALSE)),\"\",VLOOKUP(C47,Master!AQ$60:BC$285,7,FALSE))","v":""},{"$f":"IF(ISNA(VLOOKUP(C47,Master!AQ$60:BC$285,8,FALSE)),\"\",VLOOKUP(C47,Master!AQ$60:BC$285,8,FALSE))","v":""},{"$f":"IF(ISNA(VLOOKUP(C47,Master!AQ$60:BC$285,4,FALSE)),\"\",VLOOKUP(C47,Master!AQ$60:BC$285,4,FALSE))","v":""},{"$f":"IF(ISNA(VLOOKUP(C47,Master!AQ$60:BC$285,5,FALSE)),\"\",VLOOKUP(C47,Master!AQ$60:BC$285,5,FALSE))","v":""},{"$f":"IF(ISNA(VLOOKUP(C47,Master!AQ$60:BC$285,6,FALSE)),\"\",VLOOKUP(C47,Master!AQ$60:BC$285,6,FALSE))","v":""},"","","","","",{"$f":"IF(ISNA(VLOOKUP(C47,Master!AQ$60:BC$285,12,FALSE)),\"\",VLOOKUP(C47,Master!AQ$60:BC$285,12,FALSE))","v":""},{"$nulls":3},0,1,{"$f":"IF(ISNA(VLOOKUP(C47,Master!AQ$60:BC$285,10,FALSE)),\"\",VLOOKUP(C47,Master!AQ$60:BC$285,10,FALSE))","v":""},null,null,{"$f":"IF(ISNA(VLOOKUP(C47,Master!AQ$60:BC$285,11,FALSE)),\"\",VLOOKUP(C47,Master!AQ$60:BC$285,11,FALSE))","v":""},{"$f":"IF(ISNA(VLOOKUP(C47,Master!AQ$60:BC$285,9,FALSE)),\"\",VLOOKUP(C47,Master!AQ$60:BC$285,9,FALSE))","v":""},{"$f":"IF(Y47=\"MALE\",1,0)*(IF(G47=\"JAMADAR\",1,0))*(IF(I47<=0,0,1))","v":0},{"$f":"IF(Y47=\"FEMALE\",1,0)*(IF(G47=\"JAMADAR\",1,0))*(IF(I47<=0,0,1))","v":0},{"$f":"IF(Y47=\"MALE\",1,0)*(IF(G47=\"LAB BOY\",1,0))*(IF(I47<=0,0,1))","v":0},{"$f":"IF(Y47=\"FEMALE\",1,0)*(IF(G47=\"LAB BOY\",1,0))*(IF(I47<=0,0,1))","v":0},{"$f":"IF(Y47=\"MALE\",1,0)*(IF(G47=\"PEON\",1,0))*(IF(I47<=0,0,1))","v":0},{"$f":"IF(Y47=\"FEMALE\",1,0)*(IF(G47=\"PEON\",1,0))*(IF(I47<=0,0,1))","v":0},{"$f":"IF(AND(I47=\"\"),\"\",I47-ROUNDUP(ROUND((I47*3%)-(I47*3%)*2.9%,-2),0))","v":""},"","","","","",0,0,"",0,0,0,0,0,0,0,null,null,0,0,0,0,0,0,0,0,0,0,0,0,0,0,0,0,null,null,0,0,1,0,0,0,1,0,1,0,0,""]
["",2202,22,{"$f":"IF(ISNA(VLOOKUP(C48,Master!AQ$60:BC$285,3,FALSE)),\"\",VLOOKUP(C48,Master!AQ$60:BC$285,3,FALSE))","v":""},{"$f":"IF(ISNA(VLOOKUP(C48,Master!AQ$60:BC$285,7,FALSE)),\"\",VLOOKUP(C48,Master!AQ$60:BC$285,7,FALSE))","v":""},{"$f":"IF(ISNA(VLOOKUP(C48,Master!AQ$60:BC$285,8,FALSE)),\"\",VLOOKUP(C48,Master!AQ$60:BC$285,8,FALSE))","v":""},{"$f":"IF(ISNA(VLOOKUP(C48,Master!AQ$60:BC$285,4,FALSE)),\"\",VLOOKUP(C48,Master!AQ$60:BC$285,4,FALSE))","v":""},{"$f":"IF(ISNA(VLOOKUP(C48,Master!AQ$60:BC$285,5,FALSE)),\"\",VLOOKUP(C48,Master!AQ$60:BC$285,5,FALSE))","v":""},{"$f":"IF(ISNA(VLOOKUP(C48,Master!AQ$60:BC$285,6,FALSE)),\"\",VLOOKUP(C48,Master!AQ$60:BC$285,6,FALSE))","v":""},"","","","","",{"$f":"IF(ISNA(VLOOKUP(C48,Master!AQ$60:BC$285,12,FALSE)),\"\",VLOOKUP(C48,Master!AQ$60:BC$285,12,FALSE))","v":""},{"$nulls":3},0,1,{"$f":"IF(ISNA(VLOOKUP(C48,Master!AQ$60:BC$285,10,FALSE)),\"\",VLOOKUP(C48,Master!AQ$60:BC$285,10,FALSE))","v":""},null,null,{"$f":"IF(ISNA(VLOOKUP(C48,Master!AQ$60:BC$285,11,FALSE)),\"\",VLOOKUP(C48,Master!AQ$60:BC$285,11,FALSE))","v":""},{"$f":"IF(ISNA(VLOOKUP(C48,Master!AQ$60:BC$285,9,FALSE)),\"\",VLOOKUP(C48,Master!AQ$60:BC$285,9,FALSE))","v":""},0,0,0,0,0,0,"","","","","","",0,0,"",0,0,0,0,0,0,0,null,null,0,0,0,0,0,0,0,0,0,0,0,0,0,0,0,0,null,null,0,0,1,0,0,0,1,0,1,0,0,""]
["",2202,23,{"$f":"IF(ISNA(VLOOKUP(C49,Master!AQ$60:BC$285,3,FALSE)),\"\",VLOOKUP(C49,Master!AQ$60:BC$285,3,FALSE))","v":""},{"$f":"IF(ISNA(VLOOKUP(C49,Master!AQ$60:BC$285,7,FALSE)),\"\",VLOOKUP(C49,Master!AQ$60:BC$285,7,FALSE))","v":""},{"$f":"IF(ISNA(VLOOKUP(C49,Master!AQ$60:BC$285,8,FALSE)),\"\",VLOOKUP(C49,Master!AQ$60:BC$285,8,FALSE))","v":""},{"$f":"IF(ISNA(VLOOKUP(C49,Master!AQ$60:BC$285,4,FALSE)),\"\",VLOOKUP(C49,Master!AQ$60:BC$285,4,FALSE))","v":""},{"$f":"IF(ISNA(VLOOKUP(C49,Master!AQ$60:BC$285,5,FALSE)),\"\",VLOOKUP(C49,Master!AQ$60:BC$285,5,FALSE))","v":""},{"$f":"IF(ISNA(VLOOKUP(C49,Master!AQ$60:BC$285,6,FALSE)),\"\",VLOOKUP(C49,Master!AQ$60:BC$285,6,FALSE))","v":""},"","","","","",{"$f":"IF(ISNA(VLOOKUP(C49,Master!AQ$60:BC$285,12,FALSE)),\"\",VLOOKUP(C49,Master!AQ$60:BC$285,12,FALSE))","v":""},{"$nulls":3},0,1,{"$f":"IF(ISNA(VLOOKUP(C49,Master!AQ$60:BC$285,10,FALSE)),\"\",VLOOKUP(C49,Master!AQ$60:BC$285,10,FALSE))","v":""},null,null,{"$f":"IF(ISNA(VLOOKUP(C49,Master!AQ$60:BC$285,11,FALSE)),\"\",VLOOKUP(C49,Master!AQ$60:BC$285,11,FALSE))","v":""},{"$f":"IF(ISNA(VLOOKUP(C49,Master!AQ$60:BC$285,9,FALSE)),\"\",VLOOKUP(C49,Master!AQ$60:BC$285,9,FALSE))","v":""},0,0,0,0,0,0,"","","","","","",0,0,"",0,0,0,0,0,0,0,null,null,0,0,0,0,0,0,0,0,0,0,0,0,0,0,0,0,null,null,0,0,1,0,0,0,1,0,1,0,0,""]
["",2202,24,{"$f":"IF(ISNA(VLOOKUP(C50,Master!AQ$60:BC$285,3,FALSE)),\"\",VLOOKUP(C50,Master!AQ$60:BC$285,3,FALSE))","v":""},{"$f":"IF(ISNA(VLOOKUP(C50,Master!AQ$60:BC$285,7,FALSE)),\"\",VLOOKUP(C50,Master!AQ$60:BC$285,7,FALSE))","v":""},{"$f":"IF(ISNA(VLOOKUP(C50,Master!AQ$60:BC$285,8,FALSE)),\"\",VLOOKUP(C50,Master!AQ$60:BC$285,8,FALSE))","v":""},{"$f":"IF(ISNA(VLOOKUP(C50,Master!AQ$60:BC$285,4,FALSE)),\"\",VLOOKUP(C50,Master!AQ$60:BC$285,4,FALSE))","v":""},{"$f":"IF(ISNA(VLOOKUP(C50,Master!AQ$60:BC$285,5,FALSE)),\"\",VLOOKUP(C50,Master!AQ$60:BC$285,5,FALSE))","v":""},{"$f":"IF(ISNA(VLOOKUP(C50,Master!AQ$60:BC$285,6,FALSE)),\"\",VLOOKUP(C50,Master!AQ$60:BC$285,6,FALSE))","v":""},"","","","","",{"$f":"IF(ISNA(VLOOKUP(C50,Master!AQ$60:BC$285,12,FALSE)),\"\",VLOOKUP(C50,Master!AQ$60:BC$285,12,FALSE))","v":""},{"$nulls":3},0,1,{"$f":"IF(ISNA(VLOOKUP(C50,Master!AQ$60:BC$285,10,FALSE)),\"\",VLOOKUP(C50,Master!AQ$60:BC$285,10,FALSE))","v":""},null,null,{"$f":"IF(ISNA(VLOOKUP(C50,Master!AQ$60:BC$285,11,FALSE)),\"\",VLOOKUP(C50,Master!AQ$60:BC$285,11,FALSE))","v":""},{"$f":"IF(ISNA(VLOOKUP(C50,Master!AQ$60:BC$285,9,FALSE)),\"\",VLOOKUP(C50,Master!AQ$60:BC$285,9,FALSE))","v":""},0,0,0,0,0,0,"","","","","","",0,0,"",0,0,0,0,0,0,0,null,null,0,0,0,0,0,0,0,0,0,0,0,0,0,0,0,0,null,null,0,0,1,0,0,0,1,0,1,0,0,""]
["",2202,25,{"$f":"IF(ISNA(VLOOKUP(C51,Master!AQ$60:BC$285,3,FALSE)),\"\",VLOOKUP(C51,Master!AQ$60:BC$285,3,FALSE))","v":""},{"$f":"IF(ISNA(VLOOKUP(C51,Master!AQ$60:BC$285,7,FALSE)),\"\",VLOOKUP(C51,Master!AQ$60:BC$285,7,FALSE))","v":""},{"$f":"IF(ISNA(VLOOKUP(C51,Master!AQ$60:BC$285,8,FALSE)),\"\",VLOOKUP(C51,Master!AQ$60:BC$285,8,FALSE))","v":""},{"$f":"IF(ISNA(VLOOKUP(C51,Master!AQ$60:BC$285,4,FALSE)),\"\",VLOOKUP(C51,Master!AQ$60:BC$285,4,FALSE))","v":""},{"$f":"IF(ISNA(VLOOKUP(C51,Master!AQ$60:BC$285,5,FALSE)),\"\",VLOOKUP(C51,Master!AQ$60:BC$285,5,FALSE))","v":""},{"$f":"IF(ISNA(VLOOKUP(C51,Master!AQ$60:BC$285,6,FALSE)),\"\",VLOOKUP(C51,Master!AQ$60:BC$285,6,FALSE))","v":""},"","","","","",{"$f":"IF(ISNA(VLOOKUP(C51,Master!AQ$60:BC$285,12,FALSE)),\"\",VLOOKUP(C51,Master!AQ$60:BC$285,12,FALSE))","v":""},{"$nulls":3},0,1,{"$f":"IF(ISNA(VLOOKUP(C51,Master!AQ$60:BC$285,10,FALSE)),\"\",VLOOKUP(C51,Master!AQ$60:BC$285,10,FALSE))","v":""},null,null,{"$f":"IF(ISNA(VLOOKUP(C51,Master!AQ$60:BC$285,11,FALSE)),\"\",VLOOKUP(C51,Master!AQ$60:BC$285,11,FALSE))","v":""},{"$f":"IF(ISNA(VLOOKUP(C51,Master!AQ$60:BC$285,9,FALSE)),\"\",VLOOKUP(C51,Master!AQ$60:BC$285,9,FALSE))","v":""},0,0,0,0,0,0,"","","","","","",0,0,"",0,0,0,0,0,0,0,null,null,0,0,0,0,0,0,0,0,0,0,0,0,0,0,0,0,null,null,0,0,1,0,0,0,1,0,1,0,0,""]
["",2202,26,{"$f":"IF(ISNA(VLOOKUP(C52,Master!AQ$60:BC$285,3,FALSE)),\"\",VLOOKUP(C52,Master!AQ$60:BC$285,3,FALSE))","v":""},{"$f":"IF(ISNA(VLOOKUP(C52,Master!AQ$60:BC$285,7,FALSE)),\"\",VLOOKUP(C52,Master!AQ$60:BC$285,7,FALSE))","v":""},{"$f":"IF(ISNA(VLOOKUP(C52,Master!AQ$60:BC$285,8,FALSE)),\"\",VLOOKUP(C52,Master!AQ$60:BC$285,8,FALSE))","v":""},{"$f":"IF(ISNA(VLOOKUP(C52,Master!AQ$60:BC$285,4,FALSE)),\"\",VLOOKUP(C52,Master!AQ$60:BC$285,4,FALSE))","v":""},{"$f":"IF(ISNA(VLOOKUP(C52,Master!AQ$60:BC$285,5,FALSE)),\"\",VLOOKUP(C52,Master!AQ$60:BC$285,5,FALSE))","v":""},{"$f":"IF(ISNA(VLOOKUP(C52,Master!AQ$60:BC$285,6,FALSE)),\"\",VLOOKUP(C52,Master!AQ$60:BC$285,6,FALSE))","v":""},"","","","","",{"$f":"IF(ISNA(VLOOKUP(C52,Master!AQ$60:BC$285,12,FALSE)),\"\",VLOOKUP(C52,Master!AQ$60:BC$285,12,FALSE))","v":""},{"$nulls":3},0,1,{"$f":"IF(ISNA(VLOOKUP(C52,Master!AQ$60:BC$285,10,FALSE)),\"\",VLOOKUP(C52,Master!AQ$60:BC$285,10,FALSE))","v":""},null,null,{"$f":"IF(ISNA(VLOOKUP(C52,Master!AQ$60:BC$285,11,FALSE)),\"\",VLOOKUP(C52,Master!AQ$60:BC$285,11,FALSE))","v":""},{"$f":"IF(ISNA(VLOOKUP(C52,Master!AQ$60:BC$285,9,FALSE)),\"\",VLOOKUP(C52,Master!AQ$60:BC$285,9,FALSE))","v":""},0,0,0,0,0,0,"","","","","","",0,0,"",0,0,0,0,0,0,0,null,null,0,0,0,0,0,0,0,0,0,0,0,0,0,0,0,0,null,null,0,0,1,0,0,0,1,0,1,0,0,""]
["",2202,27,{"$f":"IF(ISNA(VLOOKUP(C53,Master!AQ$60:BC$285,3,FALSE)),\"\",VLOOKUP(C53,Master!AQ$60:BC$285,3,FALSE))","v":""},{"$f":"IF(ISNA(VLOOKUP(C53,Master!AQ$60:BC$285,7,FALSE)),\"\",VLOOKUP(C53,Master!AQ$60:BC$285,7,FALSE))","v":""},{"$f":"IF(ISNA(VLOOKUP(C53,Master!AQ$60:BC$285,8,FALSE)),\"\",VLOOKUP(C53,Master!AQ$60:BC$285,8,FALSE))","v":""},{"$f":"IF(ISNA(VLOOKUP(C53,Master!AQ$60:BC$285,4,FALSE)),\"\",VLOOKUP(C53,Master!AQ$60:BC$285,4,FALSE))","v":""},{"$f":"IF(ISNA(VLOOKUP(C53,Master!AQ$60:BC$285,5,FALSE)),\"\",VLOOKUP(C53,Master!AQ$60:BC$285,5,FALSE))","v":""},{"$f":"IF(ISNA(VLOOKUP(C53,Master!AQ$60:BC$285,6,FALSE)),\"\",VLOOKUP(C53,Master!AQ$60:BC$285,6,FALSE))","v":""},"","","","","",{"$f":"IF(ISNA(VLOOKUP(C53,Master!AQ$60:BC$285,12,FALSE)),\"\",VLOOKUP(C53,Master!AQ$60:BC$285,12,FALSE))","v":""},{"$nulls":3},0,1,{"$f":"IF(ISNA(VLOOKUP(C53,Master!AQ$60:BC$285,10,FALSE)),\"\",VLOOKUP(C53,Master!AQ$60:BC$285,10,FALSE))","v":""},null,null,{"$f":"IF(ISNA(VLOOKUP(C53,Master!AQ$60:BC$285,11,FALSE)),\"\",VLOOKUP(C53,Master!AQ$60:BC$285,11,FALSE))","v":""},{"$f":"IF(ISNA(VLOOKUP(C53,Master!AQ$60:BC$285,9,FALSE)),\"\",VLOOKUP(C53,Master!AQ$60:BC$285,9,FALSE))","v":""},0,0,0,0,0,0,"","","","","","",0,0,"",0,0,0,0,0,0,0,null,null,0,0,0,0,0,0,0,0,0,0,0,0,0,0,0,0,null,null,0,0,1,0,0,0,1,0,1,0,0,""]
["",2202,28,{"$f":"IF(ISNA(VLOOKUP(C54,Master!AQ$60:BC$285,3,FALSE)),\"\",VLOOKUP(C54,Master!AQ$60:BC$285,3,FALSE))","v":""},{"$f":"IF(ISNA(VLOOKUP(C54,Master!AQ$60:BC$285,7,FALSE)),\"\",VLOOKUP(C54,Master!AQ$60:BC$285,7,FALSE))","v":""},{"$f":"IF(ISNA(VLOOKUP(C54,Master!AQ$60:BC$285,8,FALSE)),\"\",VLOOKUP(C54,Master!AQ$60:BC$285,8,FALSE))","v":""},{"$f":"IF(ISNA(VLOOKUP(C54,Master!AQ$60:BC$285,4,FALSE)),\"\",VLOOKUP(C54,Master!AQ$60:BC$285,4,FALSE))","v":""},{"$f":"IF(ISNA(VLOOKUP(C54,Master!AQ$60:BC$285,5,FALSE)),\"\",VLOOKUP(C54,Master!AQ$60:BC$285,5,FALSE))","v":""},{"$f":"IF(ISNA(VLOOKUP(C54,Master!AQ$60:BC$285,6,FALSE)),\"\",VLOOKUP(C54,Master!AQ$60:BC$285,6,FALSE))","v":""},"","","","","",{"$f":"IF(ISNA(VLOOKUP(C54,Master!AQ$60:BC$285,12,FALSE)),\"\",VLOOKUP(C54,Master!AQ$60:BC$285,12,FALSE))","v":""},{"$nulls":3},0,1,{"$f":"IF(ISNA(VLOOKUP(C54,Master!AQ$60:BC$285,10,FALSE)),\"\",VLOOKUP(C54,Master!AQ$60:BC$285,10,FALSE))","v":""},null,null,{"$f":"IF(ISNA(VLOOKUP(C54,Master!AQ$60:BC$285,11,FALSE)),\"\",VLOOKUP(C54,Master!AQ$60:BC$285,11,FALSE))","v":""},{"$f":"IF(ISNA(VLOOKUP(C54,Master!AQ$60:BC$285,9,FALSE)),\"\",VLOOKUP(C54,Master!AQ$60:BC$285,9,FALSE))","v":""},0,0,0,0,0,0,"","","","","","",0,0,"",0,0,0,0,0,0,0,null,null,0,0,0,0,0,0,0,0,0,0,0,0,0,0,0,0,null,null,0,0,1,0,0,0,1,0,1,0,0,""]
["",2202,29,{"$f":"IF(ISNA(VLOOKUP(C55,Master!AQ$60:BC$285,3,FALSE)),\"\",VLOOKUP(C55,Master!AQ$60:BC$285,3,FALSE))","v":""},{"$f":"IF(ISNA(VLOOKUP(C55,Master!AQ$60:BC$285,7,FALSE)),\"\",VLOOKUP(C55,Master!AQ$60:BC$285,7,FALSE))","v":""},{"$f":"IF(ISNA(VLOOKUP(C55,Master!AQ$60:BC$285,8,FALSE)),\"\",VLOOKUP(C55,Master!AQ$60:BC$285,8,FALSE))","v":""},{"$f":"IF(ISNA(VLOOKUP(C55,Master!AQ$60:BC$285,4,FALSE)),\"\",VLOOKUP(C55,Master!AQ$60:BC$285,4,FALSE))","v":""},{"$f":"IF(ISNA(VLOOKUP(C55,Master!AQ$60:BC$285,5,FALSE)),\"\",VLOOKUP(C55,Master!AQ$60:BC$285,5,FALSE))","v":""},{"$f":"IF(ISNA(VLOOKUP(C55,Master!AQ$60:BC$285,6,FALSE)),\"\",VLOOKUP(C55,Master!AQ$60:BC$285,6,FALSE))","v":""},"","","","","",{"$f":"IF(ISNA(VLOOKUP(C55,Master!AQ$60:BC$285,12,FALSE)),\"\",VLOOKUP(C55,Master!AQ$60:BC$285,12,FALSE))","v":""},{"$nulls":3},0,1,{"$f":"IF(ISNA(VLOOKUP(C55,Master!AQ$60:BC$285,10,FALSE)),\"\",VLOOKUP(C55,Master!AQ$60:BC$285,10,FALSE))","v":""},null,null,{"$f":"IF(ISNA(VLOOKUP(C55,Master!AQ$60:BC$285,11,FALSE)),\"\",VLOOKUP(C55,Master!AQ$60:BC$285,11,FALSE))","v":""},{"$f":"IF(ISNA(VLOOKUP(C55,Master!AQ$60:BC$285,9,FALSE)),\"\",VLOOKUP(C55,Master!AQ$60:BC$285,9,FALSE))","v":""},0,0,0,0,0,0,"","","","","","",0,0,"",0,0,0,0,0,0,0,null,null,0,0,0,0,0,0,0,0,0,0,0,0,0,0,0,0,null,null,0,0,1,0,0,0,1,0,1,0,0,""]
["",2202,30,{"$f":"IF(ISNA(VLOOKUP(C56,Master!AQ$60:BC$285,3,FALSE)),\"\",VLOOKUP(C56,Master!AQ$60:BC$285,3,FALSE))","v":""},{"$f":"IF(ISNA(VLOOKUP(C56,Master!AQ$60:BC$285,7,FALSE)),\"\",VLOOKUP(C56,Master!AQ$60:BC$285,7,FALSE))","v":""},{"$f":"IF(ISNA(VLOOKUP(C56,Master!AQ$60:BC$285,8,FALSE)),\"\",VLOOKUP(C56,Master!AQ$60:BC$285,8,FALSE))","v":""},{"$f":"IF(ISNA(VLOOKUP(C56,Master!AQ$60:BC$285,4,FALSE)),\"\",VLOOKUP(C56,Master!AQ$60:BC$285,4,FALSE))","v":""},{"$f":"IF(ISNA(VLOOKUP(C56,Master!AQ$60:BC$285,5,FALSE)),\"\",VLOOKUP(C56,Master!AQ$60:BC$285,5,FALSE))","v":""},{"$f":"IF(ISNA(VLOOKUP(C56,Master!AQ$60:BC$285,6,FALSE)),\"\",VLOOKUP(C56,Master!AQ$60:BC$285,6,FALSE))","v":""},"","","","","",{"$f":"IF(ISNA(VLOOKUP(C56,Master!AQ$60:BC$285,12,FALSE)),\"\",VLOOKUP(C56,Master!AQ$60:BC$285,12,FALSE))","v":""},{"$nulls":3},0,1,{"$f":"IF(ISNA(VLOOKUP(C56,Master!AQ$60:BC$285,10,FALSE)),\"\",VLOOKUP(C56,Master!AQ$60:BC$285,10,FALSE))","v":""},null,null,{"$f":"IF(ISNA(VLOOKUP(C56,Master!AQ$60:BC$285,11,FALSE)),\"\",VLOOKUP(C56,Master!AQ$60:BC$285,11,FALSE))","v":""},{"$f":"IF(ISNA(VLOOKUP(C56,Master!AQ$60:BC$285,9,FALSE)),\"\",VLOOKUP(C56,Master!AQ$60:BC$285,9,FALSE))","v":""},0,0,0,0,0,0,"","","","","","",0,0,"",0,0,0,0,0,0,0,null,null,0,0,0,0,0,0,0,0,0,0,0,0,0,0,0,0,null,null,0,0,1,0,0,0,1,0,1,0,0,""]
["",2202,31,{"$f":"IF(ISNA(VLOOKUP(C57,Master!AQ$60:BC$285,3,FALSE)),\"\",VLOOKUP(C57,Master!AQ$60:BC$285,3,FALSE))","v":""},{"$f":"IF(ISNA(VLOOKUP(C57,Master!AQ$60:BC$285,7,FALSE)),\"\",VLOOKUP(C57,Master!AQ$60:BC$285,7,FALSE))","v":""},{"$f":"IF(ISNA(VLOOKUP(C57,Master!AQ$60:BC$285,8,FALSE)),\"\",VLOOKUP(C57,Master!AQ$60:BC$285,8,FALSE))","v":""},{"$f":"IF(ISNA(VLOOKUP(C57,Master!AQ$60:BC$285,4,FALSE)),\"\",VLOOKUP(C57,Master!AQ$60:BC$285,4,FALSE))","v":""},{"$f":"IF(ISNA(VLOOKUP(C57,Master!AQ$60:BC$285,5,FALSE)),\"\",VLOOKUP(C57,Master!AQ$60:BC$285,5,FALSE))","v":""},{"$f":"IF(ISNA(VLOOKUP(C57,Master!AQ$60:BC$285,6,FALSE)),\"\",VLOOKUP(C57,Master!AQ$60:BC$285,6,FALSE))","v":""},"","","","","",{"$f":"IF(ISNA(VLOOKUP(C57,Master!AQ$60:BC$285,12,FALSE)),\"\",VLOOKUP(C57,Master!AQ$60:BC$285,12,FALSE))","v":""},{"$nulls":3},0,1,{"$f":"IF(ISNA(VLOOKUP(C57,Master!AQ$60:BC$285,10,FALSE)),\"\",VLOOKUP(C57,Master!AQ$60:BC$285,10,FALSE))","v":""},null,null,{"$f":"IF(ISNA(VLOOKUP(C57,Master!AQ$60:BC$285,11,FALSE)),\"\",VLOOKUP(C57,Master!AQ$60:BC$285,11,FALSE))","v":""},{"$f":"IF(ISNA(VLOOKUP(C57,Master!AQ$60:BC$285,9,FALSE)),\"\",VLOOKUP(C57,Master!AQ$60:BC$285,9,FALSE))","v":""},0,0,0,0,0,0,"","","","","","",0,0,"",0,0,0,0,0,0,0,null,null,0,0,0,0,0,0,0,0,0,0,0,0,0,0,0,0,null,null,0,0,1,0,0,0,1,0,1,0,0,""]
["",2202,32,{"$f":"IF(ISNA(VLOOKUP(C58,Master!AQ$60:BC$285,3,FALSE)),\"\",VLOOKUP(C58,Master!AQ$60:BC$285,3,FALSE))","v":""},{"$f":"IF(ISNA(VLOOKUP(C58,Master!AQ$60:BC$285,7,FALSE)),\"\",VLOOKUP(C58,Master!AQ$60:BC$285,7,FALSE))","v":""},{"$f":"IF(ISNA(VLOOKUP(C58,Master!AQ$60:BC$285,8,FALSE)),\"\",VLOOKUP(C58,Master!AQ$60:BC$285,8,FALSE))","v":""},{"$f":"IF(ISNA(VLOOKUP(C58,Master!AQ$60:BC$285,4,FALSE)),\"\",VLOOKUP(C58,Master!AQ$60:BC$285,4,FALSE))","v":""},{"$f":"IF(ISNA(VLOOKUP(C58,Master!AQ$60:BC$285,5,FALSE)),\"\",VLOOKUP(C58,Master!AQ$60:BC$285,5,FALSE))","v":""},{"$f":"IF(ISNA(VLOOKUP(C58,Master!AQ$60:BC$285,6,FALSE)),\"\",VLOOKUP(C58,Master!AQ$60:BC$285,6,FALSE))","v":""},"","","","","",{"$f":"IF(ISNA(VLOOKUP(C58,Master!AQ$60:BC$285,12,FALSE)),\"\",VLOOKUP(C58,Master!AQ$60:BC$285,12,FALSE))","v":""},{"$nulls":3},0,1,{"$f":"IF(ISNA(VLOOKUP(C58,Master!AQ$60:BC$285,10,FALSE)),\"\",VLOOKUP(C58,Master!AQ$60:BC$285,10,FALSE))","v":""},null,null,{"$f":"IF(ISNA(VLOOKUP(C58,Master!AQ$60:BC$285,11,FALSE)),\"\",VLOOKUP(C58,Master!AQ$60:BC$285,11,FALSE))","v":""},{"$f":"IF(ISNA(VLOOKUP(C58,Master!AQ$60:BC$285,9,FALSE)),\"\",VLOOKUP(C58,Master!AQ$60:BC$285,9,FALSE))","v":""},0,0,0,0,0,0,"","","","","","",0,0,"",0,0,0,0,0,0,0,null,null,0,0,0,0,0,0,0,0,0,0,0,0,0,0,0,0,null,null,0,0,1,0,0,0,1,0,1,0,0,""]
["",2202,33,{"$f":"IF(ISNA(VLOOKUP(C59,Master!AQ$60:BC$285,3,FALSE)),\"\",VLOOKUP(C59,Master!AQ$60:BC$285,3,FALSE))","v":""},{"$f":"IF(ISNA(VLOOKUP(C59,Master!AQ$60:BC$285,7,FALSE)),\"\",VLOOKUP(C59,Master!AQ$60:BC$285,7,FALSE))","v":""},{"$f":"IF(ISNA(VLOOKUP(C59,Master!AQ$60:BC$285,8,FALSE)),\"\",VLOOKUP(C59,Master!AQ$60:BC$285,8,FALSE))","v":""},{"$f":"IF(ISNA(VLOOKUP(C59,Master!AQ$60:BC$285,4,FALSE)),\"\",VLOOKUP(C59,Master!AQ$60:BC$285,4,FALSE))","v":""},{"$f":"IF(ISNA(VLOOKUP(C59,Master!AQ$60:BC$285,5,FALSE)),\"\",VLOOKUP(C59,Master!AQ$60:BC$285,5,FALSE))","v":""},{"$f":"IF(ISNA(VLOOKUP(C59,Master!AQ$60:BC$285,6,FALSE)),\"\",VLOOKUP(C59,Master!AQ$60:BC$285,6,FALSE))","v":""},"","","","","",{"$f":"IF(ISNA(VLOOKUP(C59,Master!AQ$60:BC$285,12,FALSE)),\"\",VLOOKUP(C59,Master!AQ$60:BC$285,12,FALSE))","v":""},{"$nulls":3},0,1,{"$f":"IF(ISNA(VLOOKUP(C59,Master!AQ$60:BC$285,10,FALSE)),\"\",VLOOKUP(C59,Master!AQ$60:BC$285,10,FALSE))","v":""},null,null,{"$f":"IF(ISNA(VLOOKUP(C59,Master!AQ$60:BC$285,11,FALSE)),\"\",VLOOKUP(C59,Master!AQ$60:BC$285,11,FALSE))","v":""},{"$f":"IF(ISNA(VLOOKUP(C59,Master!AQ$60:BC$285,9,FALSE)),\"\",VLOOKUP(C59,Master!AQ$60:BC$285,9,FALSE))","v":""},0,0,0,0,0,0,"","","","","","",0,0,"",0,0,0,0,0,0,0,null,null,0,0,0,0,0,0,0,0,0,0,0,0,0,0,0,0,null,null,0,0,1,0,0,0,1,{"$f":"IF((ROUND((SUMPRODUCT(MID(0&E59,LARGE(INDEX(ISNUMBER(--MID(E59,ROW($1:$25),1))* ROW($1:$25),0),ROW($1:$25))+1,1)*10^ROW($1:$25)/10)),-8)/100000000)>=2004,1,0)","v":0},1,0,0,{"$f":"IF(AND(E59=\"\"),\"\",IF(AND(E59<=0),\"\",IF((ROUND((SUMPRODUCT(MID(0&E59,LARGE(INDEX(ISNUMBER(--MID(E59,ROW($1:$70),1))* ROW($1:$70),0),ROW($1:$70))+1,1)*10^ROW($1:$70)/10)),-8)/100000000)<2004,1,0)))","v":""}]
["",2202,34,{"$f":"IF(ISNA(VLOOKUP(C60,Master!AQ$60:BC$285,3,FALSE)),\"\",VLOOKUP(C60,Master!AQ$60:BC$285,3,FALSE))","v":""},{"$f":"IF(ISNA(VLOOKUP(C60,Master!AQ$60:BC$285,7,FALSE)),\"\",VLOOKUP(C60,Master!AQ$60:BC$285,7,FALSE))","v":""},{"$f":"IF(ISNA(VLOOKUP(C60,Master!AQ$60:BC$285,8,FALSE)),\"\",VLOOKUP(C60,Master!AQ$60:BC$285,8,FALSE))","v":""},{"$f":"IF(ISNA(VLOOKUP(C60,Master!AQ$60:BC$285,4,FALSE)),\"\",VLOOKUP(C60,Master!AQ$60:BC$285,4,FALSE))","v":""},{"$f":"IF(ISNA(VLOOKUP(C60,Master!AQ$60:BC$285,5,FALSE)),\"\",VLOOKUP(C60,Master!AQ$60:BC$285,5,FALSE))","v":""},{"$f":"IF(ISNA(VLOOKUP(C60,Master!AQ$60:BC$285,6,FALSE)),\"\",VLOOKUP(C60,Master!AQ$60:BC$285,6,FALSE))","v":""},"","","","","",{"$f":"IF(ISNA(VLOOKUP(C60,Master!AQ$60:BC$285,12,FALSE)),\"\",VLOOKUP(C60,Master!AQ$60:BC$285,12,FALSE))","v":""},{"$nulls":3},0,1,{"$f":"IF(ISNA(VLOOKUP(C60,Master!AQ$60:BC$285,10,FALSE)),\"\",VLOOKUP(C60,Master!AQ$60:BC$285,10,FALSE))","v":""},null,null,{"$f":"IF(ISNA(VLOOKUP(C60,Master!AQ$60:BC$285,11,FALSE)),\"\",VLOOKUP(C60,Master!AQ$60:BC$285,11,FALSE))","v":""},{"$f":"IF(ISNA(VLOOKUP(C60,Master!AQ$60:BC$285,9,FALSE)),\"\",VLOOKUP(C60,Master!AQ$60:BC$285,9,FALSE))","v":""},0,0,0,0,0,0,"","","","","","",0,0,"",0,0,0,0,0,0,0,null,null,0,0,0,0,0,0,0,0,0,0,0,0,0,0,0,0,null,null,0,0,1,0,0,0,1,0,1,0,0,""]
["",2202,35,{"$f":"IF(ISNA(VLOOKUP(C61,Master!AQ$60:BC$285,3,FALSE)),\"\",VLOOKUP(C61,Master!AQ$60:BC$285,3,FALSE))","v":""},{"$f":"IF(ISNA(VLOOKUP(C61,Master!AQ$60:BC$285,7,FALSE)),\"\",VLOOKUP(C61,Master!AQ$60:BC$285,7,FALSE))","v":""},{"$f":"IF(ISNA(VLOOKUP(C61,Master!AQ$60:BC$285,8,FALSE)),\"\",VLOOKUP(C61,Master!AQ$60:BC$285,8,FALSE))","v":""},{"$f":"IF(ISNA(VLOOKUP(C61,Master!AQ$60:BC$285,4,FALSE)),\"\",VLOOKUP(C61,Master!AQ$60:BC$285,4,FALSE))","v":""},{"$f":"IF(ISNA(VLOOKUP(C61,Master!AQ$60:BC$285,5,FALSE)),\"\",VLOOKUP(C61,Master!AQ$60:BC$285,5,FALSE))","v":""},{"$f":"IF(ISNA(VLOOKUP(C61,Master!AQ$60:BC$285,6,FALSE)),\"\",VLOOKUP(C61,Master!AQ$60:BC$285,6,FALSE))","v":""},"","","","","",{"$f":"IF(ISNA(VLOOKUP(C61,Master!AQ$60:BC$285,12,FALSE)),\"\",VLOOKUP(C61,Master!AQ$60:BC$285,12,FALSE))","v":""},{"$nulls":3},0,1,{"$f":"IF(ISNA(VLOOKUP(C61,Master!AQ$60:BC$285,10,FALSE)),\"\",VLOOKUP(C61,Master!AQ$60:BC$285,10,FALSE))","v":""},null,null,{"$f":"IF(ISNA(VLOOKUP(C61,Master!AQ$60:BC$285,11,FALSE)),\"\",VLOOKUP(C61,Master!AQ$60:BC$285,11,FALSE))","v":""},{"$f":"IF(ISNA(VLOOKUP(C61,Master!AQ$60:BC$285,9,FALSE)),\"\",VLOOKUP(C61,Master!AQ$60:BC$285,9,FALSE))","v":""},0,0,0,0,0,0,"","","","","","",0,0,"",0,0,0,0,0,0,0,null,null,0,0,0,0,0,0,0,0,0,0,0,0,0,0,0,0,null,null,0,0,1,0,0,0,1,0,1,0,0,""]
["",2202,36,{"$f":"IF(ISNA(VLOOKUP(C62,Master!AQ$60:BC$285,3,FALSE)),\"\",VLOOKUP(C62,Master!AQ$60:BC$285,3,FALSE))","v":""},{"$f":"IF(ISNA(VLOOKUP(C62,Master!AQ$60:BC$285,7,FALSE)),\"\",VLOOKUP(C62,Master!AQ$60:BC$285,7,FALSE))","v":""},{"$f":"IF(ISNA(VLOOKUP(C62,Master!AQ$60:BC$285,8,FALSE)),\"\",VLOOKUP(C62,Master!AQ$60:BC$285,8,FALSE))","v":""},{"$f":"IF(ISNA(VLOOKUP(C62,Master!AQ$60:BC$285,4,FALSE)),\"\",VLOOKUP(C62,Master!AQ$60:BC$285,4,FALSE))","v":""},{"$f":"IF(ISNA(VLOOKUP(C62,Master!AQ$60:BC$285,5,FALSE)),\"\",VLOOKUP(C62,Master!AQ$60:BC$285,5,FALSE))","v":""},{"$f":"IF(ISNA(VLOOKUP(C62,Master!AQ$60:BC$285,6,FALSE)),\"\",VLOOKUP(C62,Master!AQ$60:BC$285,6,FALSE))","v":""},"","","","","",{"$f":"IF(ISNA(VLOOKUP(C62,Master!AQ$60:BC$285,12,FALSE)),\"\",VLOOKUP(C62,Master!AQ$60:BC$285,12,FALSE))","v":""},{"$nulls":3},0,1,{"$f":"IF(ISNA(VLOOKUP(C62,Master!AQ$60:BC$285,10,FALSE)),\"\",VLOOKUP(C62,Master!AQ$60:BC$285,10,FALSE))","v":""},null,null,{"$f":"IF(ISNA(VLOOKUP(C62,Master!AQ$60:BC$285,11,FALSE)),\"\",VLOOKUP(C62,Master!AQ$60:BC$285,11,FALSE))","v":""},{"$f":"IF(ISNA(VLOOKUP(C62,Master!AQ$60:BC$285,9,FALSE)),\"\",VLOOKUP(C62,Master!AQ$60:BC$285,9,FALSE))","v":""},0,0,0,0,0,0,"","","","","","",0,0,"",0,0,0,0,0,0,0,null,null,0,0,0,0,0,0,0,0,0,0,0,0,0,0,0,0,null,null,0,0,1,0,0,0,1,0,1,0,0,""]
["",2202,37,{"$f":"IF(ISNA(VLOOKUP(C63,Master!AQ$60:BC$285,3,FALSE)),\"\",VLOOKUP(C63,Master!AQ$60:BC$285,3,FALSE))","v":""},{"$f":"IF(ISNA(VLOOKUP(C63,Master!AQ$60:BC$285,7,FALSE)),\"\",VLOOKUP(C63,Master!AQ$60:BC$285,7,FALSE))","v":""},{"$f":"IF(ISNA(VLOOKUP(C63,Master!AQ$60:BC$285,8,FALSE)),\"\",VLOOKUP(C63,Master!AQ$60:BC$285,8,FALSE))","v":""},{"$f":"IF(ISNA(VLOOKUP(C63,Master!AQ$60:BC$285,4,FALSE)),\"\",VLOOKUP(C63,Master!AQ$60:BC$285,4,FALSE))","v":""},{"$f":"IF(ISNA(VLOOKUP(C63,Master!AQ$60:BC$285,5,FALSE)),\"\",VLOOKUP(C63,Master!AQ$60:BC$285,5,FALSE))","v":""},{"$f":"IF(ISNA(VLOOKUP(C63,Master!AQ$60:BC$285,6,FALSE)),\"\",VLOOKUP(C63,Master!AQ$60:BC$285,6,FALSE))","v":""},"","","","","",{"$f":"IF(ISNA(VLOOKUP(C63,Master!AQ$60:BC$285,12,FALSE)),\"\",VLOOKUP(C63,Master!AQ$60:BC$285,12,FALSE))","v":""},{"$nulls":3},0,1,{"$f":"IF(ISNA(VLOOKUP(C63,Master!AQ$60:BC$285,10,FALSE)),\"\",VLOOKUP(C63,Master!AQ$60:BC$285,10,FALSE))","v":""},null,null,{"$f":"IF(ISNA(VLOOKUP(C63,Master!AQ$60:BC$285,11,FALSE)),\"\",VLOOKUP(C63,Master!AQ$60:BC$285,11,FALSE))","v":""},{"$f":"IF(ISNA(VLOOKUP(C63,Master!AQ$60:BC$285,9,FALSE)),\"\",VLOOKUP(C63,Master!AQ$60:BC$285,9,FALSE))","v":""},0,0,0,0,0,0,"","","","","","",0,0,"",0,0,0,0,0,0,0,null,null,0,0,0,0,0,0,0,0,0,0,0,0,0,0,0,0,null,null,0,0,1,0,0,0,1,0,1,0,0,""]
["",2202,38,{"$f":"IF(ISNA(VLOOKUP(C64,Master!AQ$60:BC$285,3,FALSE)),\"\",VLOOKUP(C64,Master!AQ$60:BC$285,3,FALSE))","v":""},{"$f":"IF(ISNA(VLOOKUP(C64,Master!AQ$60:BC$285,7,FALSE)),\"\",VLOOKUP(C64,Master!AQ$60:BC$285,7,FALSE))","v":""},{"$f":"IF(ISNA(VLOOKUP(C64,Master!AQ$60:BC$285,8,FALSE)),\"\",VLOOKUP(C64,Master!AQ$60:BC$285,8,FALSE))","v":""},{"$f":"IF(ISNA(VLOOKUP(C64,Master!AQ$60:BC$285,4,FALSE)),\"\",VLOOKUP(C64,Master!AQ$60:BC$285,4,FALSE))","v":""},{"$f":"IF(ISNA(VLOOKUP(C64,Master!AQ$60:BC$285,5,FALSE)),\"\",VLOOKUP(C64,Master!AQ$60:BC$285,5,FALSE))","v":""},{"$f":"IF(ISNA(VLOOKUP(C64,Master!AQ$60:BC$285,6,FALSE)),\"\",VLOOKUP(C64,Master!AQ$60:BC$285,6,FALSE))","v":""},"","","","","",{"$f":"IF(ISNA(VLOOKUP(C64,Master!AQ$60:BC$285,12,FALSE)),\"\",VLOOKUP(C64,Master!AQ$60:BC$285,12,FALSE))","v":""},{"$nulls":3},0,1,{"$f":"IF(ISNA(VLOOKUP(C64,Master!AQ$60:BC$285,10,FALSE)),\"\",VLOOKUP(C64,Master!AQ$60:BC$285,10,FALSE))","v":""},null,null,{"$f":"IF(ISNA(VLOOKUP(C64,Master!AQ$60:BC$285,11,FALSE)),\"\",VLOOKUP(C64,Master!AQ$60:BC$285,11,FALSE))","v":""},{"$f":"IF(ISNA(VLOOKUP(C64,Master!AQ$60:BC$285,9,FALSE)),\"\",VLOOKUP(C64,Master!AQ$60:BC$285,9,FALSE))","v":""},0,0,0,0,0,0,"","","","","","",0,0,"",0,0,0,0,0,0,0,null,null,0,0,0,0,0,0,0,0,0,0,0,0,0,0,0,0,null,null,0,0,1,0,0,0,1,0,1,0,0,""]
["",2202,39,{"$f":"IF(ISNA(VLOOKUP(C65,Master!AQ$60:BC$285,3,FALSE)),\"\",VLOOKUP(C65,Master!AQ$60:BC$285,3,FALSE))","v":""},{"$f":"IF(ISNA(VLOOKUP(C65,Master!AQ$60:BC$285,7,FALSE)),\"\",VLOOKUP(C65,Master!AQ$60:BC$285,7,FALSE))","v":""},{"$f":"IF(ISNA(VLOOKUP(C65,Master!AQ$60:BC$285,8,FALSE)),\"\",VLOOKUP(C65,Master!AQ$60:BC$285,8,FALSE))","v":""},{"$f":"IF(ISNA(VLOOKUP(C65,Master!AQ$60:BC$285,4,FALSE)),\"\",VLOOKUP(C65,Master!AQ$60:BC$285,4,FALSE))","v":""},{"$f":"IF(ISNA(VLOOKUP(C65,Master!AQ$60:BC$285,5,FALSE)),\"\",VLOOKUP(C65,Master!AQ$60:BC$285,5,FALSE))","v":""},{"$f":"IF(ISNA(VLOOKUP(C65,Master!AQ$60:BC$285,6,FALSE)),\"\",VLOOKUP(C65,Master!AQ$60:BC$285,6,FALSE))","v":""},"","","","","",{"$f":"IF(ISNA(VLOOKUP(C65,Master!AQ$60:BC$285,12,FALSE)),\"\",VLOOKUP(C65,Master!AQ$60:BC$285,12,FALSE))","v":""},{"$nulls":3},0,1,{"$f":"IF(ISNA(VLOOKUP(C65,Master!AQ$60:BC$285,10,FALSE)),\"\",VLOOKUP(C65,Master!AQ$60:BC$285,10,FALSE))","v":""},null,null,{"$f":"IF(ISNA(VLOOKUP(C65,Master!AQ$60:BC$285,11,FALSE)),\"\",VLOOKUP(C65,Master!AQ$60:BC$285,11,FALSE))","v":""},{"$f":"IF(ISNA(VLOOKUP(C65,Master!AQ$60:BC$285,9,FALSE)),\"\",VLOOKUP(C65,Master!AQ$60:BC$285,9,FALSE))","v":""},0,0,0,0,0,0,"","","","","","",0,0,"",0,0,0,0,0,0,0,null,null,0,0,0,0,0,0,0,0,0,0,0,0,0,0,0,0,null,null,0,0,1,0,0,0,1,0,1,0,0,""]
["",2202,40,{"$f":"IF(ISNA(VLOOKUP(C66,Master!AQ$60:BC$285,3,FALSE)),\"\",VLOOKUP(C66,Master!AQ$60:BC$285,3,FALSE))","v":""},{"$f":"IF(ISNA(VLOOKUP(C66,Master!AQ$60:BC$285,7,FALSE)),\"\",VLOOKUP(C66,Master!AQ$60:BC$285,7,FALSE))","v":""},{"$f":"IF(ISNA(VLOOKUP(C66,Master!AQ$60:BC$285,8,FALSE)),\"\",VLOOKUP(C66,Master!AQ$60:BC$285,8,FALSE))","v":""},{"$f":"IF(ISNA(VLOOKUP(C66,Master!AQ$60:BC$285,4,FALSE)),\"\",VLOOKUP(C66,Master!AQ$60:BC$285,4,FALSE))","v":""},{"$f":"IF(ISNA(VLOOKUP(C66,Master!AQ$60:BC$285,5,FALSE)),\"\",VLOOKUP(C66,Master!AQ$60:BC$285,5,FALSE))","v":""},{"$f":"IF(ISNA(VLOOKUP(C66,Master!AQ$60:BC$285,6,FALSE)),\"\",VLOOKUP(C66,Master!AQ$60:BC$285,6,FALSE))","v":""},"","","","","",{"$f":"IF(ISNA(VLOOKUP(C66,Master!AQ$60:BC$285,12,FALSE)),\"\",VLOOKUP(C66,Master!AQ$60:BC$285,12,FALSE))","v":""},{"$nulls":3},0,1,{"$f":"IF(ISNA(VLOOKUP(C66,Master!AQ$60:BC$285,10,FALSE)),\"\",VLOOKUP(C66,Master!AQ$60:BC$285,10,FALSE))","v":""},null,null,{"$f":"IF(ISNA(VLOOKUP(C66,Master!AQ$60:BC$285,11,FALSE)),\"\",VLOOKUP(C66,Master!AQ$60:BC$285,11,FALSE))","v":""},{"$f":"IF(ISNA(VLOOKUP(C66,Master!AQ$60:BC$285,9,FALSE)),\"\",VLOOKUP(C66,Master!AQ$60:BC$285,9,FALSE))","v":""},0,0,0,0,0,0,"","","","","","",0,0,"",0,0,0,0,0,0,0,null,null,0,0,0,0,0,0,0,0,0,0,0,0,0,0,0,0,null,null,0,0,1,0,0,0,1,0,1,0,0,""]
["",2202,41,{"$f":"IF(ISNA(VLOOKUP(C67,Master!AQ$60:BC$285,3,FALSE)),\"\",VLOOKUP(C67,Master!AQ$60:BC$285,3,FALSE))","v":""},{"$f":"IF(ISNA(VLOOKUP(C67,Master!AQ$60:BC$285,7,FALSE)),\"\",VLOOKUP(C67,Master!AQ$60:BC$285,7,FALSE))","v":""},{"$f":"IF(ISNA(VLOOKUP(C67,Master!AQ$60:BC$285,8,FALSE)),\"\",VLOOKUP(C67,Master!AQ$60:BC$285,8,FALSE))","v":""},{"$f":"IF(ISNA(VLOOKUP(C67,Master!AQ$60:BC$285,4,FALSE)),\"\",VLOOKUP(C67,Master!AQ$60:BC$285,4,FALSE))","v":""},{"$f":"IF(ISNA(VLOOKUP(C67,Master!AQ$60:BC$285,5,FALSE)),\"\",VLOOKUP(C67,Master!AQ$60:BC$285,5,FALSE))","v":""},{"$f":"IF(ISNA(VLOOKUP(C67,Master!AQ$60:BC$285,6,FALSE)),\"\",VLOOKUP(C67,Master!AQ$60:BC$285,6,FALSE))","v":""},"","","","","",{"$f":"IF(ISNA(VLOOKUP(C67,Master!AQ$60:BC$285,12,FALSE)),\"\",VLOOKUP(C67,Master!AQ$60:BC$285,12,FALSE))","v":""},{"$nulls":3},0,1,{"$f":"IF(ISNA(VLOOKUP(C67,Master!AQ$60:BC$285,10,FALSE)),\"\",VLOOKUP(C67,Master!AQ$60:BC$285,10,FALSE))","v":""},null,null,{"$f":"IF(ISNA(VLOOKUP(C67,Master!AQ$60:BC$285,11,FALSE)),\"\",VLOOKUP(C67,Master!AQ$60:BC$285,11,FALSE))","v":""},{"$f":"IF(ISNA(VLOOKUP(C67,Master!AQ$60:BC$285,9,FALSE)),\"\",VLOOKUP(C67,Master!AQ$60:BC$285,9,FALSE))","v":""},0,0,0,0,0,0,"","","","","","",0,0,"",0,0,0,0,0,0,0,null,null,0,0,0,0,0,0,0,0,0,0,0,0,0,0,0,0,null,null,0,0,1,0,0,0,1,0,1,0,0,""]
["",2202,42,{"$f":"IF(ISNA(VLOOKUP(C68,Master!AQ$60:BC$285,3,FALSE)),\"\",VLOOKUP(C68,Master!AQ$60:BC$285,3,FALSE))","v":""},{"$f":"IF(ISNA(VLOOKUP(C68,Master!AQ$60:BC$285,7,FALSE)),\"\",VLOOKUP(C68,Master!AQ$60:BC$285,7,FALSE))","v":""},{"$f":"IF(ISNA(VLOOKUP(C68,Master!AQ$60:BC$285,8,FALSE)),\"\",VLOOKUP(C68,Master!AQ$60:BC$285,8,FALSE))","v":""},{"$f":"IF(ISNA(VLOOKUP(C68,Master!AQ$60:BC$285,4,FALSE)),\"\",VLOOKUP(C68,Master!AQ$60:BC$285,4,FALSE))","v":""},{"$f":"IF(ISNA(VLOOKUP(C68,Master!AQ$60:BC$285,5,FALSE)),\"\",VLOOKUP(C68,Master!AQ$60:BC$285,5,FALSE))","v":""},{"$f":"IF(ISNA(VLOOKUP(C68,Master!AQ$60:BC$285,6,FALSE)),\"\",VLOOKUP(C68,Master!AQ$60:BC$285,6,FALSE))","v":""},"","","","","",{"$f":"IF(ISNA(VLOOKUP(C68,Master!AQ$60:BC$285,12,FALSE)),\"\",VLOOKUP(C68,Master!AQ$60:BC$285,12,FALSE))","v":""},{"$nulls":3},0,1,{"$f":"IF(ISNA(VLOOKUP(C68,Master!AQ$60:BC$285,10,FALSE)),\"\",VLOOKUP(C68,Master!AQ$60:BC$285,10,FALSE))","v":""},null,null,{"$f":"IF(ISNA(VLOOKUP(C68,Master!AQ$60:BC$285,11,FALSE)),\"\",VLOOKUP(C68,Master!AQ$60:BC$285,11,FALSE))","v":""},{"$f":"IF(ISNA(VLOOKUP(C68,Master!AQ$60:BC$285,9,FALSE)),\"\",VLOOKUP(C68,Master!AQ$60:BC$285,9,FALSE))","v":""},0,0,0,0,0,0,"","","","","","",0,0,"",0,0,0,0,0,0,0,null,null,0,0,0,0,0,0,0,0,0,0,0,0,0,0,0,0,null,null,0,0,1,0,0,0,1,0,1,0,0,""]
["",2202,43,{"$f":"IF(ISNA(VLOOKUP(C69,Master!AQ$60:BC$285,3,FALSE)),\"\",VLOOKUP(C69,Master!AQ$60:BC$285,3,FALSE))","v":""},{"$f":"IF(ISNA(VLOOKUP(C69,Master!AQ$60:BC$285,7,FALSE)),\"\",VLOOKUP(C69,Master!AQ$60:BC$285,7,FALSE))","v":""},{"$f":"IF(ISNA(VLOOKUP(C69,Master!AQ$60:BC$285,8,FALSE)),\"\",VLOOKUP(C69,Master!AQ$60:BC$285,8,FALSE))","v":""},{"$f":"IF(ISNA(VLOOKUP(C69,Master!AQ$60:BC$285,4,FALSE)),\"\",VLOOKUP(C69,Master!AQ$60:BC$285,4,FALSE))","v":""},{"$f":"IF(ISNA(VLOOKUP(C69,Master!AQ$60:BC$285,5,FALSE)),\"\",VLOOKUP(C69,Master!AQ$60:BC$285,5,FALSE))","v":""},{"$f":"IF(ISNA(VLOOKUP(C69,Master!AQ$60:BC$285,6,FALSE)),\"\",VLOOKUP(C69,Master!AQ$60:BC$285,6,FALSE))","v":""},"","","","","",{"$f":"IF(ISNA(VLOOKUP(C69,Master!AQ$60:BC$285,12,FALSE)),\"\",VLOOKUP(C69,Master!AQ$60:BC$285,12,FALSE))","v":""},{"$nulls":3},0,1,{"$f":"IF(ISNA(VLOOKUP(C69,Master!AQ$60:BC$285,10,FALSE)),\"\",VLOOKUP(C69,Master!AQ$60:BC$285,10,FALSE))","v":""},null,null,{"$f":"IF(ISNA(VLOOKUP(C69,Master!AQ$60:BC$285,11,FALSE)),\"\",VLOOKUP(C69,Master!AQ$60:BC$285,11,FALSE))","v":""},{"$f":"IF(ISNA(VLOOKUP(C69,Master!AQ$60:BC$285,9,FALSE)),\"\",VLOOKUP(C69,Master!AQ$60:BC$285,9,FALSE))","v":""},0,0,0,0,0,0,"","","","","","",0,0,"",0,0,0,0,0,0,0,null,null,0,0,0,0,0,0,0,0,0,0,0,0,0,0,0,0,null,null,0,0,1,0,0,0,1,0,1,0,0,""]
["",2202,44,{"$f":"IF(ISNA(VLOOKUP(C70,Master!AQ$60:BC$285,3,FALSE)),\"\",VLOOKUP(C70,Master!AQ$60:BC$285,3,FALSE))","v":""},{"$f":"IF(ISNA(VLOOKUP(C70,Master!AQ$60:BC$285,7,FALSE)),\"\",VLOOKUP(C70,Master!AQ$60:BC$285,7,FALSE))","v":""},{"$f":"IF(ISNA(VLOOKUP(C70,Master!AQ$60:BC$285,8,FALSE)),\"\",VLOOKUP(C70,Master!AQ$60:BC$285,8,FALSE))","v":""},{"$f":"IF(ISNA(VLOOKUP(C70,Master!AQ$60:BC$285,4,FALSE)),\"\",VLOOKUP(C70,Master!AQ$60:BC$285,4,FALSE))","v":""},{"$f":"IF(ISNA(VLOOKUP(C70,Master!AQ$60:BC$285,5,FALSE)),\"\",VLOOKUP(C70,Master!AQ$60:BC$285,5,FALSE))","v":""},{"$f":"IF(ISNA(VLOOKUP(C70,Master!AQ$60:BC$285,6,FALSE)),\"\",VLOOKUP(C70,Master!AQ$60:BC$285,6,FALSE))","v":""},"","","","","",{"$f":"IF(ISNA(VLOOKUP(C70,Master!AQ$60:BC$285,12,FALSE)),\"\",VLOOKUP(C70,Master!AQ$60:BC$285,12,FALSE))","v":""},{"$nulls":3},0,1,{"$f":"IF(ISNA(VLOOKUP(C70,Master!AQ$60:BC$285,10,FALSE)),\"\",VLOOKUP(C70,Master!AQ$60:BC$285,10,FALSE))","v":""},null,null,{"$f":"IF(ISNA(VLOOKUP(C70,Master!AQ$60:BC$285,11,FALSE)),\"\",VLOOKUP(C70,Master!AQ$60:BC$285,11,FALSE))","v":""},{"$f":"IF(ISNA(VLOOKUP(C70,Master!AQ$60:BC$285,9,FALSE)),\"\",VLOOKUP(C70,Master!AQ$60:BC$285,9,FALSE))","v":""},0,0,0,0,0,0,"","","","","","",0,0,"",0,0,0,0,0,0,0,null,null,0,0,0,0,0,0,0,0,0,0,0,0,0,0,0,0,null,null,0,0,1,0,0,0,1,0,1,0,0,""]
["",2202,45,{"$f":"IF(ISNA(VLOOKUP(C71,Master!AQ$60:BC$285,3,FALSE)),\"\",VLOOKUP(C71,Master!AQ$60:BC$285,3,FALSE))","v":""},{"$f":"IF(ISNA(VLOOKUP(C71,Master!AQ$60:BC$285,7,FALSE)),\"\",VLOOKUP(C71,Master!AQ$60:BC$285,7,FALSE))","v":""},{"$f":"IF(ISNA(VLOOKUP(C71,Master!AQ$60:BC$285,8,FALSE)),\"\",VLOOKUP(C71,Master!AQ$60:BC$285,8,FALSE))","v":""},{"$f":"IF(ISNA(VLOOKUP(C71,Master!AQ$60:BC$285,4,FALSE)),\"\",VLOOKUP(C71,Master!AQ$60:BC$285,4,FALSE))","v":""},{"$f":"IF(ISNA(VLOOKUP(C71,Master!AQ$60:BC$285,5,FALSE)),\"\",VLOOKUP(C71,Master!AQ$60:BC$285,5,FALSE))","v":""},{"$f":"IF(ISNA(VLOOKUP(C71,Master!AQ$60:BC$285,6,FALSE)),\"\",VLOOKUP(C71,Master!AQ$60:BC$285,6,FALSE))","v":""},"","","","","",{"$f":"IF(ISNA(VLOOKUP(C71,Master!AQ$60:BC$285,12,FALSE)),\"\",VLOOKUP(C71,Master!AQ$60:BC$285,12,FALSE))","v":""},{"$nulls":3},0,1,{"$f":"IF(ISNA(VLOOKUP(C71,Master!AQ$60:BC$285,10,FALSE)),\"\",VLOOKUP(C71,Master!AQ$60:BC$285,10,FALSE))","v":""},null,null,{"$f":"IF(ISNA(VLOOKUP(C71,Master!AQ$60:BC$285,11,FALSE)),\"\",VLOOKUP(C71,Master!AQ$60:BC$285,11,FALSE))","v":""},{"$f":"IF(ISNA(VLOOKUP(C71,Master!AQ$60:BC$285,9,FALSE)),\"\",VLOOKUP(C71,Master!AQ$60:BC$285,9,FALSE))","v":""},0,0,0,0,0,0,"",{"$f":"IF(AND(I71=\"\"),\"\",$M71*$BQ71)","v":""},{"$f":"IF(AND(I71=\"\"),\"\",$M71*$BR71)","v":""},{"$f":"IF(AND(I71=\"\"),\"\",$M71*$BS71)","v":""},{"$f":"IF(AND(I71=\"\"),\"\",$M71*$BT71)","v":""},{"$f":"IF(AND(I71=\"\"),\"\",ROUND((AG71+AH71)*$AK$10,0)*BU71)","v":""},0,0,{"$f":"IF(AND(I71=\"\"),\"\",ROUND((AG71+AH71)*$AN$10,0)*BU71)","v":""},{"$f":"$G$221*BR71*BU71*(IF(I71<=0,0,1))*(IF(H71<=4800,1,0))","v":0},{"$f":"IF(AND(I71=\"\"),0,ROUND((I71+ROUND(I71*$AK$10,0))/2,0)*(IF(O71=\"FIX PAY\",0,1)))","v":0},{"$f":"IF(G71=\"CLERK GRADE I\",1,IF(G71=\"CLERK GRADE II\",1,0))*75*12*BU71*(IF(I71<=0,0,1))*BV71","v":0},{"$f":"IF(AND(I71=\"\"),0,(IF(G71=\"ASSISTANT\",12,IF(G71=\"CLERK GRADE I\",12,IF(G71=\"CLERK GRADE II\",12,IF(G71=\"FIELDMAN & FIELD REC\",12,IF(G71=\"LAB BOY\",12,IF(G71=\"JAMADAR\",12,IF(G71=\"PEON\",12,10))))))))*(MINA(ROUND(I71*6%,0),600))*(IF($U71=\"yes\",1,0)))","v":0},0,{"$f":"IF(AND(G71=\"\"),0,SUM(AK71:AS71)+AG71+AH71)","v":0},{"$f":"IF(AND(G71=\"\"),0,AT71)","v":0},null,null,{"$f":"AU71+AV71+AW71","v":0},{"$f":"IF(AND(G71=\"\"),0,N71*BQ71)","v":0},{"$f":"IF(AND(G71=\"\"),0,N71*BR71)","v":0},{"$f":"IF(AND(G71=\"\"),0,N71*BS71)","v":0},{"$f":"IF(AND(G71=\"\"),0,N71*BT71)","v":0},{"$f":"ROUND((AY71+AZ71)*$BC$10,0)*BU71","v":0},{"$f":"IF(AND(G71=\"\"),0,ROUND((IF(O71=\"FIX PAY\",0,AF71))*$BD$10*2,0)*BU71)","v":0},0,{"$f":"ROUND((AY71+AZ71)*$BF$10,0)*BU71","v":0},{"$f":"3387*2*BR71*BU71*(IF(I71<=0,0,1))*(IF(H71<=4800,1,0))","v":0},{"$f":"IF(AND(I71=\"\"),0,ROUND((AF71+ROUND(AF71*$AK$10,0))/2,0)*(IF(O71=\"FIX PAY\",0,1)))","v":0},{"$f":"IF(G71=\"CLERK GRADE I\",1,IF(G71=\"CLERK GRADE II\",1,0))*75*12*BU71*(IF(I71<=0,0,1))*BV71","v":0},{"$f":"IF(AND(G71=\"\"),0,(IF(G71=\"ASSISTANT\",12,IF(G71=\"CLERK GRADE I\",12,IF(G71=\"CLERK GRADE II\",12,IF(G71=\"FIELDMAN & FIELD REC\",12,IF(G71=\"LAB BOY\",12,IF(G71=\"JAMADAR\",12,IF(G71=\"PEON\",12,10))))))))*(MINA(ROUND(AF71*6%,0),600))*(IF($U71=\"yes\",1,)))","v":0},{"$f":"(IF(G71=\"LAB BOY\",150,IF(G71=\"JAMADAR\",150,IF(G71=\"PEON\",150,0))))*12*BU71*(IF(I71<=0,0,1))","v":0},{"$f":"SUM(BC71:BK71)+AY71+AZ71","v":0},{"$f":"BL71","v":0},null,null,{"$f":"BM71+BN71+BO71","v":0},{"$f":"(IF(G71=\"PRINCIPAL\",1,IF(G71=\"H M\",1,IF(G71=\"AGRICULTURE INST\",1,IF(G71=\"TEACHER-1ST\",1,IF(G71=\"PTI  I  (13)\",1,IF(G71=\"AGRICULTURE TEACH\",1,IF(G71=\"INSTRUCTOR\",1,0))))))))+(IF(G71=\"JR TEACHER\",1,IF(G71=\"LIBRARIAN I\",1,0)))*(IF(O71=\"FIX PAY\",0,1))","v":0},{"$f":"IF(BQ71<=0,1,0)*(IF(O71=\"FIX PAY\",0,1))","v":1},{"$f":"(IF(G71=\"PRINCIPAL (16)\",1,IF(G71=\"V P (14)\",1,IF(G71=\"H M (14)\",1,IF(G71=\"AGRICULTURE INST (13)\",1,IF(G71=\"TEACHER-1ST (13)\",1,IF(G71=\"PTI  I  (13)\",1,IF(G71=\"AGRICULTURE TEACH (13)\",1,IF(G71=\"INSTRUCTOR (13)\",1,0))))))))+(IF(G71=\"JR TEACHER (13)\",1,IF(G71=\"LIBRARIAN I (13)\",1,0))))*(IF(O71=\"FIX PAY\",1,0))","v":0},{"$f":"IF(BS71<=0,1,0)*(IF(O71=\"FIX PAY\",1,0))","v":0},{"$f":"IF(O71=\"FIX PAY\",1,0)","v":0},{"$f":"IF(X71=\"No\",0,1)","v":1},0,{"$f":"IF(I71<=0,0,1)","v":1},{"$f":"IF(O71=\"SANVIDA\",1,0)","v":0},{"$f":"IF(BY71>0,I71,0)","v":0},""]
["",2202,46,{"$f":"IF(ISNA(VLOOKUP(C72,Master!AQ$60:BC$285,3,FALSE)),\"\",VLOOKUP(C72,Master!AQ$60:BC$285,3,FALSE))","v":""},{"$f":"IF(ISNA(VLOOKUP(C72,Master!AQ$60:BC$285,7,FALSE)),\"\",VLOOKUP(C72,Master!AQ$60:BC$285,7,FALSE))","v":""},{"$f":"IF(ISNA(VLOOKUP(C72,Master!AQ$60:BC$285,8,FALSE)),\"\",VLOOKUP(C72,Master!AQ$60:BC$285,8,FALSE))","v":""},{"$f":"IF(ISNA(VLOOKUP(C72,Master!AQ$60:BC$285,4,FALSE)),\"\",VLOOKUP(C72,Master!AQ$60:BC$285,4,FALSE))","v":""},{"$f":"IF(ISNA(VLOOKUP(C72,Master!AQ$60:BC$285,5,FALSE)),\"\",VLOOKUP(C72,Master!AQ$60:BC$285,5,FALSE))","v":""},{"$f":"IF(ISNA(VLOOKUP(C72,Master!AQ$60:BC$285,6,FALSE)),\"\",VLOOKUP(C72,Master!AQ$60:BC$285,6,FALSE))","v":""},"","","","","",{"$f":"IF(ISNA(VLOOKUP(C72,Master!AQ$60:BC$285,12,FALSE)),\"\",VLOOKUP(C72,Master!AQ$60:BC$285,12,FALSE))","v":""},{"$nulls":3},0,1,{"$f":"IF(ISNA(VLOOKUP(C72,Master!AQ$60:BC$285,10,FALSE)),\"\",VLOOKUP(C72,Master!AQ$60:BC$285,10,FALSE))","v":""},null,null,{"$f":"IF(ISNA(VLOOKUP(C72,Master!AQ$60:BC$285,11,FALSE)),\"\",VLOOKUP(C72,Master!AQ$60:BC$285,11,FALSE))","v":""},{"$f":"IF(ISNA(VLOOKUP(C72,Master!AQ$60:BC$285,9,FALSE)),\"\",VLOOKUP(C72,Master!AQ$60:BC$285,9,FALSE))","v":""},0,0,0,0,0,0,"",{"$f":"IF(AND(I72=\"\"),\"\",$M72*$BQ72)","v":""},{"$f":"IF(AND(I72=\"\"),\"\",$M72*$BR72)","v":""},{"$f":"IF(AND(I72=\"\"),\"\",$M72*$BS72)","v":""},{"$f":"IF(AND(I72=\"\"),\"\",$M72*$BT72)","v":""},{"$f":"IF(AND(I72=\"\"),\"\",ROUND((AG72+AH72)*$AK$10,0)*BU72)","v":""},0,0,{"$f":"IF(AND(I72=\"\"),\"\",ROUND((AG72+AH72)*$AN$10,0)*BU72)","v":""},0,0,0,0,0,0,0,null,null,{"$f":"AU72+AV72+AW72","v":0},0,0,0,0,{"$f":"ROUND((AY72+AZ72)*$BC$10,0)*BU72","v":0},0,0,{"$f":"ROUND((AY72+AZ72)*$BF$10,0)*BU72","v":0},0,0,0,0,0,{"$f":"SUM(BC72:BK72)+AY72+AZ72","v":0},{"$f":"BL72","v":0},null,null,{"$f":"BM72+BN72+BO72","v":0},0,1,0,0,0,{"$f":"IF(X72=\"No\",0,1)","v":1},0,{"$f":"IF(I72<=0,0,1)","v":1},0,0,""]
["",2202,47,{"$f":"IF(ISNA(VLOOKUP(C73,Master!AQ$60:BC$285,3,FALSE)),\"\",VLOOKUP(C73,Master!AQ$60:BC$285,3,FALSE))","v":""},{"$f":"IF(ISNA(VLOOKUP(C73,Master!AQ$60:BC$285,7,FALSE)),\"\",VLOOKUP(C73,Master!AQ$60:BC$285,7,FALSE))","v":""},{"$f":"IF(ISNA(VLOOKUP(C73,Master!AQ$60:BC$285,8,FALSE)),\"\",VLOOKUP(C73,Master!AQ$60:BC$285,8,FALSE))","v":""},{"$f":"IF(ISNA(VLOOKUP(C73,Master!AQ$60:BC$285,4,FALSE)),\"\",VLOOKUP(C73,Master!AQ$60:BC$285,4,FALSE))","v":""},{"$f":"IF(ISNA(VLOOKUP(C73,Master!AQ$60:BC$285,5,FALSE)),\"\",VLOOKUP(C73,Master!AQ$60:BC$285,5,FALSE))","v":""},{"$f":"IF(ISNA(VLOOKUP(C73,Master!AQ$60:BC$285,6,FALSE)),\"\",VLOOKUP(C73,Master!AQ$60:BC$285,6,FALSE))","v":""},"","","","","",{"$f":"IF(ISNA(VLOOKUP(C73,Master!AQ$60:BC$285,12,FALSE)),\"\",VLOOKUP(C73,Master!AQ$60:BC$285,12,FALSE))","v":""},{"$nulls":3},0,1,{"$f":"IF(ISNA(VLOOKUP(C73,Master!AQ$60:BC$285,10,FALSE)),\"\",VLOOKUP(C73,Master!AQ$60:BC$285,10,FALSE))","v":""},null,null,{"$f":"IF(ISNA(VLOOKUP(C73,Master!AQ$60:BC$285,11,FALSE)),\"\",VLOOKUP(C73,Master!AQ$60:BC$285,11,FALSE))","v":""},{"$f":"IF(ISNA(VLOOKUP(C73,Master!AQ$60:BC$285,9,FALSE)),\"\",VLOOKUP(C73,Master!AQ$60:BC$285,9,FALSE))","v":""},0,0,0,0,0,0,"","","","","","",0,0,"",0,0,0,0,0,0,0,null,null,0,0,0,0,0,0,0,0,0,0,0,0,0,0,0,0,null,null,0,0,1,0,0,0,1,0,1,0,0,""]
["",2202,48,{"$f":"IF(ISNA(VLOOKUP(C74,Master!AQ$60:BC$285,3,FALSE)),\"\",VLOOKUP(C74,Master!AQ$60:BC$285,3,FALSE))","v":""},{"$f":"IF(ISNA(VLOOKUP(C74,Master!AQ$60:BC$285,7,FALSE)),\"\",VLOOKUP(C74,Master!AQ$60:BC$285,7,FALSE))","v":""},{"$f":"IF(ISNA(VLOOKUP(C74,Master!AQ$60:BC$285,8,FALSE)),\"\",VLOOKUP(C74,Master!AQ$60:BC$285,8,FALSE))","v":""},{"$f":"IF(ISNA(VLOOKUP(C74,Master!AQ$60:BC$285,4,FALSE)),\"\",VLOOKUP(C74,Master!AQ$60:BC$285,4,FALSE))","v":""},{"$f":"IF(ISNA(VLOOKUP(C74,Master!AQ$60:BC$285,5,FALSE)),\"\",VLOOKUP(C74,Master!AQ$60:BC$285,5,FALSE))","v":""},{"$f":"IF(ISNA(VLOOKUP(C74,Master!AQ$60:BC$285,6,FALSE)),\"\",VLOOKUP(C74,Master!AQ$60:BC$285,6,FALSE))","v":""},"","","","","",{"$f":"IF(ISNA(VLOOKUP(C74,Master!AQ$60:BC$285,12,FALSE)),\"\",VLOOKUP(C74,Master!AQ$60:BC$285,12,FALSE))","v":""},{"$nulls":3},0,1,{"$f":"IF(ISNA(VLOOKUP(C74,Master!AQ$60:BC$285,10,FALSE)),\"\",VLOOKUP(C74,Master!AQ$60:BC$285,10,FALSE))","v":""},null,null,{"$f":"IF(ISNA(VLOOKUP(C74,Master!AQ$60:BC$285,11,FALSE)),\"\",VLOOKUP(C74,Master!AQ$60:BC$285,11,FALSE))","v":""},{"$f":"IF(ISNA(VLOOKUP(C74,Master!AQ$60:BC$285,9,FALSE)),\"\",VLOOKUP(C74,Master!AQ$60:BC$285,9,FALSE))","v":""},0,0,0,0,0,0,"","","","","","",0,0,"",0,0,0,0,0,0,0,null,null,0,0,0,0,0,0,0,0,0,0,0,0,0,0,0,0,null,null,0,0,1,0,0,0,1,0,1,0,0,""]
["",2202,49,{"$f":"IF(ISNA(VLOOKUP(C75,Master!AQ$60:BC$285,3,FALSE)),\"\",VLOOKUP(C75,Master!AQ$60:BC$285,3,FALSE))","v":""},{"$f":"IF(ISNA(VLOOKUP(C75,Master!AQ$60:BC$285,7,FALSE)),\"\",VLOOKUP(C75,Master!AQ$60:BC$285,7,FALSE))","v":""},{"$f":"IF(ISNA(VLOOKUP(C75,Master!AQ$60:BC$285,8,FALSE)),\"\",VLOOKUP(C75,Master!AQ$60:BC$285,8,FALSE))","v":""},{"$f":"IF(ISNA(VLOOKUP(C75,Master!AQ$60:BC$285,4,FALSE)),\"\",VLOOKUP(C75,Master!AQ$60:BC$285,4,FALSE))","v":""},{"$f":"IF(ISNA(VLOOKUP(C75,Master!AQ$60:BC$285,5,FALSE)),\"\",VLOOKUP(C75,Master!AQ$60:BC$285,5,FALSE))","v":""},{"$f":"IF(ISNA(VLOOKUP(C75,Master!AQ$60:BC$285,6,FALSE)),\"\",VLOOKUP(C75,Master!AQ$60:BC$285,6,FALSE))","v":""},"","","","","",{"$f":"IF(ISNA(VLOOKUP(C75,Master!AQ$60:BC$285,12,FALSE)),\"\",VLOOKUP(C75,Master!AQ$60:BC$285,12,FALSE))","v":""},{"$nulls":3},0,1,{"$f":"IF(ISNA(VLOOKUP(C75,Master!AQ$60:BC$285,10,FALSE)),\"\",VLOOKUP(C75,Master!AQ$60:BC$285,10,FALSE))","v":""},null,null,{"$f":"IF(ISNA(VLOOKUP(C75,Master!AQ$60:BC$285,11,FALSE)),\"\",VLOOKUP(C75,Master!AQ$60:BC$285,11,FALSE))","v":""},{"$f":"IF(ISNA(VLOOKUP(C75,Master!AQ$60:BC$285,9,FALSE)),\"\",VLOOKUP(C75,Master!AQ$60:BC$285,9,FALSE))","v":""},0,0,0,0,0,0,"","","","","","",0,0,"",0,0,0,0,0,0,0,null,null,0,0,0,0,0,0,0,0,0,0,0,0,0,0,0,0,null,null,0,0,1,0,0,0,1,0,1,0,0,""]
["",2202,50,{"$f":"IF(ISNA(VLOOKUP(C76,Master!AQ$60:BC$285,3,FALSE)),\"\",VLOOKUP(C76,Master!AQ$60:BC$285,3,FALSE))","v":""},{"$f":"IF(ISNA(VLOOKUP(C76,Master!AQ$60:BC$285,7,FALSE)),\"\",VLOOKUP(C76,Master!AQ$60:BC$285,7,FALSE))","v":""},{"$f":"IF(ISNA(VLOOKUP(C76,Master!AQ$60:BC$285,8,FALSE)),\"\",VLOOKUP(C76,Master!AQ$60:BC$285,8,FALSE))","v":""},{"$f":"IF(ISNA(VLOOKUP(C76,Master!AQ$60:BC$285,4,FALSE)),\"\",VLOOKUP(C76,Master!AQ$60:BC$285,4,FALSE))","v":""},{"$f":"IF(ISNA(VLOOKUP(C76,Master!AQ$60:BC$285,5,FALSE)),\"\",VLOOKUP(C76,Master!AQ$60:BC$285,5,FALSE))","v":""},{"$f":"IF(ISNA(VLOOKUP(C76,Master!AQ$60:BC$285,6,FALSE)),\"\",VLOOKUP(C76,Master!AQ$60:BC$285,6,FALSE))","v":""},"","","","","",{"$f":"IF(ISNA(VLOOKUP(C76,Master!AQ$60:BC$285,12,FALSE)),\"\",VLOOKUP(C76,Master!AQ$60:BC$285,12,FALSE))","v":""},{"$nulls":3},0,1,{"$f":"IF(ISNA(VLOOKUP(C76,Master!AQ$60:BC$285,10,FALSE)),\"\",VLOOKUP(C76,Master!AQ$60:BC$285,10,FALSE))","v":""},null,null,{"$f":"IF(ISNA(VLOOKUP(C76,Master!AQ$60:BC$285,11,FALSE)),\"\",VLOOKUP(C76,Master!AQ$60:BC$285,11,FALSE))","v":""},{"$f":"IF(ISNA(VLOOKUP(C76,Master!AQ$60:BC$285,9,FALSE)),\"\",VLOOKUP(C76,Master!AQ$60:BC$285,9,FALSE))","v":""},0,0,0,0,0,0,"","","","","","",0,0,"",0,0,0,0,0,0,0,null,null,0,0,0,0,0,0,0,0,0,0,0,0,0,0,0,0,null,null,0,0,1,0,0,0,1,0,1,0,0,""]
["",2202,51,{"$f":"IF(ISNA(VLOOKUP(C77,Master!AQ$60:BC$285,3,FALSE)),\"\",VLOOKUP(C77,Master!AQ$60:BC$285,3,FALSE))","v":""},{"$f":"IF(ISNA(VLOOKUP(C77,Master!AQ$60:BC$285,7,FALSE)),\"\",VLOOKUP(C77,Master!AQ$60:BC$285,7,FALSE))","v":""},{"$f":"IF(ISNA(VLOOKUP(C77,Master!AQ$60:BC$285,8,FALSE)),\"\",VLOOKUP(C77,Master!AQ$60:BC$285,8,FALSE))","v":""},{"$f":"IF(ISNA(VLOOKUP(C77,Master!AQ$60:BC$285,4,FALSE)),\"\",VLOOKUP(C77,Master!AQ$60:BC$285,4,FALSE))","v":""},{"$f":"IF(ISNA(VLOOKUP(C77,Master!AQ$60:BC$285,5,FALSE)),\"\",VLOOKUP(C77,Master!AQ$60:BC$285,5,FALSE))","v":""},{"$f":"IF(ISNA(VLOOKUP(C77,Master!AQ$60:BC$285,6,FALSE)),\"\",VLOOKUP(C77,Master!AQ$60:BC$285,6,FALSE))","v":""},"","","","","",{"$f":"IF(ISNA(VLOOKUP(C77,Master!AQ$60:BC$285,12,FALSE)),\"\",VLOOKUP(C77,Master!AQ$60:BC$285,12,FALSE))","v":""},{"$nulls":3},0,1,{"$f":"IF(ISNA(VLOOKUP(C77,Master!AQ$60:BC$285,10,FALSE)),\"\",VLOOKUP(C77,Master!AQ$60:BC$285,10,FALSE))","v":""},null,null,{"$f":"IF(ISNA(VLOOKUP(C77,Master!AQ$60:BC$285,11,FALSE)),\"\",VLOOKUP(C77,Master!AQ$60:BC$285,11,FALSE))","v":""},{"$f":"IF(ISNA(VLOOKUP(C77,Master!AQ$60:BC$285,9,FALSE)),\"\",VLOOKUP(C77,Master!AQ$60:BC$285,9,FALSE))","v":""},0,0,0,0,0,0,"","","","","","",0,0,"",0,0,0,0,{"$f":"(IF(G77=\"LAB BOY\",180,IF(G77=\"JAMADAR\",180,IF(G77=\"PEON\",180,0))))*12*BU77*(IF(I77<=0,0,1))","v":0},0,0,null,null,0,0,0,0,0,0,0,0,0,0,0,0,0,0,0,0,null,null,0,0,1,0,0,0,1,0,1,0,0,""]
["",2202,52,{"$f":"IF(ISNA(VLOOKUP(C78,Master!AQ$60:BC$285,3,FALSE)),\"\",VLOOKUP(C78,Master!AQ$60:BC$285,3,FALSE))","v":""},{"$f":"IF(ISNA(VLOOKUP(C78,Master!AQ$60:BC$285,7,FALSE)),\"\",VLOOKUP(C78,Master!AQ$60:BC$285,7,FALSE))","v":""},{"$f":"IF(ISNA(VLOOKUP(C78,Master!AQ$60:BC$285,8,FALSE)),\"\",VLOOKUP(C78,Master!AQ$60:BC$285,8,FALSE))","v":""},{"$f":"IF(ISNA(VLOOKUP(C78,Master!AQ$60:BC$285,4,FALSE)),\"\",VLOOKUP(C78,Master!AQ$60:BC$285,4,FALSE))","v":""},{"$f":"IF(ISNA(VLOOKUP(C78,Master!AQ$60:BC$285,5,FALSE)),\"\",VLOOKUP(C78,Master!AQ$60:BC$285,5,FALSE))","v":""},{"$f":"IF(ISNA(VLOOKUP(C78,Master!AQ$60:BC$285,6,FALSE)),\"\",VLOOKUP(C78,Master!AQ$60:BC$285,6,FALSE))","v":""},"","","","","",{"$f":"IF(ISNA(VLOOKUP(C78,Master!AQ$60:BC$285,12,FALSE)),\"\",VLOOKUP(C78,Master!AQ$60:BC$285,12,FALSE))","v":""},{"$nulls":3},0,1,{"$f":"IF(ISNA(VLOOKUP(C78,Master!AQ$60:BC$285,10,FALSE)),\"\",VLOOKUP(C78,Master!AQ$60:BC$285,10,FALSE))","v":""},null,null,{"$f":"IF(ISNA(VLOOKUP(C78,Master!AQ$60:BC$285,11,FALSE)),\"\",VLOOKUP(C78,Master!AQ$60:BC$285,11,FALSE))","v":""},{"$f":"IF(ISNA(VLOOKUP(C78,Master!AQ$60:BC$285,9,FALSE)),\"\",VLOOKUP(C78,Master!AQ$60:BC$285,9,FALSE))","v":""},0,0,0,0,0,0,"","","","","","",0,0,"",0,0,0,0,0,0,0,null,null,0,0,0,0,0,0,0,0,0,0,0,0,0,0,0,0,null,null,0,0,1,0,0,0,1,0,1,0,0,""]
["",2202,53,{"$f":"IF(ISNA(VLOOKUP(C79,Master!AQ$60:BC$285,3,FALSE)),\"\",VLOOKUP(C79,Master!AQ$60:BC$285,3,FALSE))","v":""},{"$f":"IF(ISNA(VLOOKUP(C79,Master!AQ$60:BC$285,7,FALSE)),\"\",VLOOKUP(C79,Master!AQ$60:BC$285,7,FALSE))","v":""},{"$f":"IF(ISNA(VLOOKUP(C79,Master!AQ$60:BC$285,8,FALSE)),\"\",VLOOKUP(C79,Master!AQ$60:BC$285,8,FALSE))","v":""},{"$f":"IF(ISNA(VLOOKUP(C79,Master!AQ$60:BC$285,4,FALSE)),\"\",VLOOKUP(C79,Master!AQ$60:BC$285,4,FALSE))","v":""},{"$f":"IF(ISNA(VLOOKUP(C79,Master!AQ$60:BC$285,5,FALSE)),\"\",VLOOKUP(C79,Master!AQ$60:BC$285,5,FALSE))","v":""},{"$f":"IF(ISNA(VLOOKUP(C79,Master!AQ$60:BC$285,6,FALSE)),\"\",VLOOKUP(C79,Master!AQ$60:BC$285,6,FALSE))","v":""},"","","","","",{"$f":"IF(ISNA(VLOOKUP(C79,Master!AQ$60:BC$285,12,FALSE)),\"\",VLOOKUP(C79,Master!AQ$60:BC$285,12,FALSE))","v":""},{"$nulls":3},0,{"$f":"IF(G79>0,1,0)","v":1},{"$f":"IF(ISNA(VLOOKUP(C79,Master!AQ$60:BC$285,10,FALSE)),\"\",VLOOKUP(C79,Master!AQ$60:BC$285,10,FALSE))","v":""},null,null,{"$f":"IF(ISNA(VLOOKUP(C79,Master!AQ$60:BC$285,11,FALSE)),\"\",VLOOKUP(C79,Master!AQ$60:BC$285,11,FALSE))","v":""},{"$f":"IF(ISNA(VLOOKUP(C79,Master!AQ$60:BC$285,9,FALSE)),\"\",VLOOKUP(C79,Master!AQ$60:BC$285,9,FALSE))","v":""},0,0,0,0,0,0,"","","","","","",0,0,"",0,0,0,0,0,0,0,null,null,0,0,0,0,0,0,0,0,0,0,0,0,0,0,0,0,null,null,0,0,1,0,0,0,1,0,1,0,0,""]
["",2202,54,{"$f":"IF(ISNA(VLOOKUP(C80,Master!AQ$60:BC$285,3,FALSE)),\"\",VLOOKUP(C80,Master!AQ$60:BC$285,3,FALSE))","v":""},{"$f":"IF(ISNA(VLOOKUP(C80,Master!AQ$60:BC$285,7,FALSE)),\"\",VLOOKUP(C80,Master!AQ$60:BC$285,7,FALSE))","v":""},{"$f":"IF(ISNA(VLOOKUP(C80,Master!AQ$60:BC$285,8,FALSE)),\"\",VLOOKUP(C80,Master!AQ$60:BC$285,8,FALSE))","v":""},{"$f":"IF(ISNA(VLOOKUP(C80,Master!AQ$60:BC$285,4,FALSE)),\"\",VLOOKUP(C80,Master!AQ$60:BC$285,4,FALSE))","v":""},{"$f":"IF(ISNA(VLOOKUP(C80,Master!AQ$60:BC$285,5,FALSE)),\"\",VLOOKUP(C80,Master!AQ$60:BC$285,5,FALSE))","v":""},{"$f":"IF(ISNA(VLOOKUP(C80,Master!AQ$60:BC$285,6,FALSE)),\"\",VLOOKUP(C80,Master!AQ$60:BC$285,6,FALSE))","v":""},"","","","","",{"$f":"IF(ISNA(VLOOKUP(C80,Master!AQ$60:BC$285,12,FALSE)),\"\",VLOOKUP(C80,Master!AQ$60:BC$285,12,FALSE))","v":""},{"$nulls":3},0,1,{"$f":"IF(ISNA(VLOOKUP(C80,Master!AQ$60:BC$285,10,FALSE)),\"\",VLOOKUP(C80,Master!AQ$60:BC$285,10,FALSE))","v":""},null,null,{"$f":"IF(ISNA(VLOOKUP(C80,Master!AQ$60:BC$285,11,FALSE)),\"\",VLOOKUP(C80,Master!AQ$60:BC$285,11,FALSE))","v":""},{"$f":"IF(ISNA(VLOOKUP(C80,Master!AQ$60:BC$285,9,FALSE)),\"\",VLOOKUP(C80,Master!AQ$60:BC$285,9,FALSE))","v":""},0,0,0,0,0,0,"","","","","","",0,0,"",0,0,0,0,0,0,0,null,null,0,0,0,0,0,0,0,0,0,0,0,0,0,0,0,0,null,null,0,0,1,0,0,0,1,0,1,0,0,""]
["",2202,55,{"$f":"IF(ISNA(VLOOKUP(C81,Master!AQ$60:BC$285,3,FALSE)),\"\",VLOOKUP(C81,Master!AQ$60:BC$285,3,FALSE))","v":""},{"$f":"IF(ISNA(VLOOKUP(C81,Master!AQ$60:BC$285,7,FALSE)),\"\",VLOOKUP(C81,Master!AQ$60:BC$285,7,FALSE))","v":""},{"$f":"IF(ISNA(VLOOKUP(C81,Master!AQ$60:BC$285,8,FALSE)),\"\",VLOOKUP(C81,Master!AQ$60:BC$285,8,FALSE))","v":""},{"$f":"IF(ISNA(VLOOKUP(C81,Master!AQ$60:BC$285,4,FALSE)),\"\",VLOOKUP(C81,Master!AQ$60:BC$285,4,FALSE))","v":""},{"$f":"IF(ISNA(VLOOKUP(C81,Master!AQ$60:BC$285,5,FALSE)),\"\",VLOOKUP(C81,Master!AQ$60:BC$285,5,FALSE))","v":""},{"$f":"IF(ISNA(VLOOKUP(C81,Master!AQ$60:BC$285,6,FALSE)),\"\",VLOOKUP(C81,Master!AQ$60:BC$285,6,FALSE))","v":""},"","","","","",{"$f":"IF(ISNA(VLOOKUP(C81,Master!AQ$60:BC$285,12,FALSE)),\"\",VLOOKUP(C81,Master!AQ$60:BC$285,12,FALSE))","v":""},{"$nulls":3},0,1,{"$f":"IF(ISNA(VLOOKUP(C81,Master!AQ$60:BC$285,10,FALSE)),\"\",VLOOKUP(C81,Master!AQ$60:BC$285,10,FALSE))","v":""},null,null,{"$f":"IF(ISNA(VLOOKUP(C81,Master!AQ$60:BC$285,11,FALSE)),\"\",VLOOKUP(C81,Master!AQ$60:BC$285,11,FALSE))","v":""},{"$f":"IF(ISNA(VLOOKUP(C81,Master!AQ$60:BC$285,9,FALSE)),\"\",VLOOKUP(C81,Master!AQ$60:BC$285,9,FALSE))","v":""},0,0,0,0,0,0,"","","","","","",0,0,"",0,0,0,0,0,0,0,null,null,0,0,0,0,0,0,0,0,0,0,0,0,0,0,0,0,null,null,0,0,1,0,0,0,1,0,1,0,0,""]
["",2202,56,{"$f":"IF(ISNA(VLOOKUP(C82,Master!AQ$60:BC$285,3,FALSE)),\"\",VLOOKUP(C82,Master!AQ$60:BC$285,3,FALSE))","v":""},{"$f":"IF(ISNA(VLOOKUP(C82,Master!AQ$60:BC$285,7,FALSE)),\"\",VLOOKUP(C82,Master!AQ$60:BC$285,7,FALSE))","v":""},{"$f":"IF(ISNA(VLOOKUP(C82,Master!AQ$60:BC$285,8,FALSE)),\"\",VLOOKUP(C82,Master!AQ$60:BC$285,8,FALSE))","v":""},{"$f":"IF(ISNA(VLOOKUP(C82,Master!AQ$60:BC$285,4,FALSE)),\"\",VLOOKUP(C82,Master!AQ$60:BC$285,4,FALSE))","v":""},{"$f":"IF(ISNA(VLOOKUP(C82,Master!AQ$60:BC$285,5,FALSE)),\"\",VLOOKUP(C82,Master!AQ$60:BC$285,5,FALSE))","v":""},{"$f":"IF(ISNA(VLOOKUP(C82,Master!AQ$60:BC$285,6,FALSE)),\"\",VLOOKUP(C82,Master!AQ$60:BC$285,6,FALSE))","v":""},"","","","","",{"$f":"IF(ISNA(VLOOKUP(C82,Master!AQ$60:BC$285,12,FALSE)),\"\",VLOOKUP(C82,Master!AQ$60:BC$285,12,FALSE))","v":""},{"$nulls":3},0,1,{"$f":"IF(ISNA(VLOOKUP(C82,Master!AQ$60:BC$285,10,FALSE)),\"\",VLOOKUP(C82,Master!AQ$60:BC$285,10,FALSE))","v":""},null,null,{"$f":"IF(ISNA(VLOOKUP(C82,Master!AQ$60:BC$285,11,FALSE)),\"\",VLOOKUP(C82,Master!AQ$60:BC$285,11,FALSE))","v":""},{"$f":"IF(ISNA(VLOOKUP(C82,Master!AQ$60:BC$285,9,FALSE)),\"\",VLOOKUP(C82,Master!AQ$60:BC$285,9,FALSE))","v":""},0,0,0,0,0,0,"","","","","","",0,0,"",0,0,0,0,0,0,0,null,null,0,0,0,0,0,0,0,0,0,0,0,0,0,0,0,0,null,null,0,0,1,0,0,0,1,0,1,0,0,""]
["",2202,57,{"$f":"IF(ISNA(VLOOKUP(C83,Master!AQ$60:BC$285,3,FALSE)),\"\",VLOOKUP(C83,Master!AQ$60:BC$285,3,FALSE))","v":""},{"$f":"IF(ISNA(VLOOKUP(C83,Master!AQ$60:BC$285,7,FALSE)),\"\",VLOOKUP(C83,Master!AQ$60:BC$285,7,FALSE))","v":""},{"$f":"IF(ISNA(VLOOKUP(C83,Master!AQ$60:BC$285,8,FALSE)),\"\",VLOOKUP(C83,Master!AQ$60:BC$285,8,FALSE))","v":""},{"$f":"IF(ISNA(VLOOKUP(C83,Master!AQ$60:BC$285,4,FALSE)),\"\",VLOOKUP(C83,Master!AQ$60:BC$285,4,FALSE))","v":""},{"$f":"IF(ISNA(VLOOKUP(C83,Master!AQ$60:BC$285,5,FALSE)),\"\",VLOOKUP(C83,Master!AQ$60:BC$285,5,FALSE))","v":""},{"$f":"IF(ISNA(VLOOKUP(C83,Master!AQ$60:BC$285,6,FALSE)),\"\",VLOOKUP(C83,Master!AQ$60:BC$285,6,FALSE))","v":""},"","","","","",{"$f":"IF(ISNA(VLOOKUP(C83,Master!AQ$60:BC$285,12,FALSE)),\"\",VLOOKUP(C83,Master!AQ$60:BC$285,12,FALSE))","v":""},{"$nulls":3},0,1,{"$f":"IF(ISNA(VLOOKUP(C83,Master!AQ$60:BC$285,10,FALSE)),\"\",VLOOKUP(C83,Master!AQ$60:BC$285,10,FALSE))","v":""},null,null,{"$f":"IF(ISNA(VLOOKUP(C83,Master!AQ$60:BC$285,11,FALSE)),\"\",VLOOKUP(C83,Master!AQ$60:BC$285,11,FALSE))","v":""},{"$f":"IF(ISNA(VLOOKUP(C83,Master!AQ$60:BC$285,9,FALSE)),\"\",VLOOKUP(C83,Master!AQ$60:BC$285,9,FALSE))","v":""},0,0,0,0,0,0,"","","","","","",0,0,"",0,0,0,0,0,0,0,null,null,0,0,0,0,0,0,0,0,0,0,0,0,0,0,0,0,null,null,0,0,1,0,0,0,1,0,1,0,0,""]
["",2202,58,{"$f":"IF(ISNA(VLOOKUP(C84,Master!AQ$60:BC$285,3,FALSE)),\"\",VLOOKUP(C84,Master!AQ$60:BC$285,3,FALSE))","v":""},{"$f":"IF(ISNA(VLOOKUP(C84,Master!AQ$60:BC$285,7,FALSE)),\"\",VLOOKUP(C84,Master!AQ$60:BC$285,7,FALSE))","v":""},{"$f":"IF(ISNA(VLOOKUP(C84,Master!AQ$60:BC$285,8,FALSE)),\"\",VLOOKUP(C84,Master!AQ$60:BC$285,8,FALSE))","v":""},{"$f":"IF(ISNA(VLOOKUP(C84,Master!AQ$60:BC$285,4,FALSE)),\"\",VLOOKUP(C84,Master!AQ$60:BC$285,4,FALSE))","v":""},{"$f":"IF(ISNA(VLOOKUP(C84,Master!AQ$60:BC$285,5,FALSE)),\"\",VLOOKUP(C84,Master!AQ$60:BC$285,5,FALSE))","v":""},{"$f":"IF(ISNA(VLOOKUP(C84,Master!AQ$60:BC$285,6,FALSE)),\"\",VLOOKUP(C84,Master!AQ$60:BC$285,6,FALSE))","v":""},"","","","","",{"$f":"IF(ISNA(VLOOKUP(C84,Master!AQ$60:BC$285,12,FALSE)),\"\",VLOOKUP(C84,Master!AQ$60:BC$285,12,FALSE))","v":""},{"$nulls":3},0,1,{"$f":"IF(ISNA(VLOOKUP(C84,Master!AQ$60:BC$285,10,FALSE)),\"\",VLOOKUP(C84,Master!AQ$60:BC$285,10,FALSE))","v":""},null,null,{"$f":"IF(ISNA(VLOOKUP(C84,Master!AQ$60:BC$285,11,FALSE)),\"\",VLOOKUP(C84,Master!AQ$60:BC$285,11,FALSE))","v":""},{"$f":"IF(ISNA(VLOOKUP(C84,Master!AQ$60:BC$285,9,FALSE)),\"\",VLOOKUP(C84,Master!AQ$60:BC$285,9,FALSE))","v":""},0,0,0,0,0,0,"","","","","","",0,0,"",0,0,0,0,0,0,0,null,null,0,0,0,0,0,0,0,0,0,0,0,0,0,0,0,0,null,null,0,0,1,0,0,0,1,0,1,0,0,""]
["",2202,59,{"$f":"IF(ISNA(VLOOKUP(C85,Master!AQ$60:BC$285,3,FALSE)),\"\",VLOOKUP(C85,Master!AQ$60:BC$285,3,FALSE))","v":""},{"$f":"IF(ISNA(VLOOKUP(C85,Master!AQ$60:BC$285,7,FALSE)),\"\",VLOOKUP(C85,Master!AQ$60:BC$285,7,FALSE))","v":""},{"$f":"IF(ISNA(VLOOKUP(C85,Master!AQ$60:BC$285,8,FALSE)),\"\",VLOOKUP(C85,Master!AQ$60:BC$285,8,FALSE))","v":""},{"$f":"IF(ISNA(VLOOKUP(C85,Master!AQ$60:BC$285,4,FALSE)),\"\",VLOOKUP(C85,Master!AQ$60:BC$285,4,FALSE))","v":""},{"$f":"IF(ISNA(VLOOKUP(C85,Master!AQ$60:BC$285,5,FALSE)),\"\",VLOOKUP(C85,Master!AQ$60:BC$285,5,FALSE))","v":""},{"$f":"IF(ISNA(VLOOKUP(C85,Master!AQ$60:BC$285,6,FALSE)),\"\",VLOOKUP(C85,Master!AQ$60:BC$285,6,FALSE))","v":""},"","","","","",{"$f":"IF(ISNA(VLOOKUP(C85,Master!AQ$60:BC$285,12,FALSE)),\"\",VLOOKUP(C85,Master!AQ$60:BC$285,12,FALSE))","v":""},{"$nulls":3},0,1,{"$f":"IF(ISNA(VLOOKUP(C85,Master!AQ$60:BC$285,10,FALSE)),\"\",VLOOKUP(C85,Master!AQ$60:BC$285,10,FALSE))","v":""},null,null,{"$f":"IF(ISNA(VLOOKUP(C85,Master!AQ$60:BC$285,11,FALSE)),\"\",VLOOKUP(C85,Master!AQ$60:BC$285,11,FALSE))","v":""},{"$f":"IF(ISNA(VLOOKUP(C85,Master!AQ$60:BC$285,9,FALSE)),\"\",VLOOKUP(C85,Master!AQ$60:BC$285,9,FALSE))","v":""},0,0,0,0,0,0,"","","","","","",0,0,"",0,0,0,0,0,0,0,null,null,0,0,0,0,0,0,0,0,0,0,0,0,0,0,0,0,null,null,0,0,1,0,0,0,1,0,1,0,0,""]
["",2202,60,{"$f":"IF(ISNA(VLOOKUP(C86,Master!AQ$60:BC$285,3,FALSE)),\"\",VLOOKUP(C86,Master!AQ$60:BC$285,3,FALSE))","v":""},{"$f":"IF(ISNA(VLOOKUP(C86,Master!AQ$60:BC$285,7,FALSE)),\"\",VLOOKUP(C86,Master!AQ$60:BC$285,7,FALSE))","v":""},{"$f":"IF(ISNA(VLOOKUP(C86,Master!AQ$60:BC$285,8,FALSE)),\"\",VLOOKUP(C86,Master!AQ$60:BC$285,8,FALSE))","v":""},{"$f":"IF(ISNA(VLOOKUP(C86,Master!AQ$60:BC$285,4,FALSE)),\"\",VLOOKUP(C86,Master!AQ$60:BC$285,4,FALSE))","v":""},{"$f":"IF(ISNA(VLOOKUP(C86,Master!AQ$60:BC$285,5,FALSE)),\"\",VLOOKUP(C86,Master!AQ$60:BC$285,5,FALSE))","v":""},{"$f":"IF(ISNA(VLOOKUP(C86,Master!AQ$60:BC$285,6,FALSE)),\"\",VLOOKUP(C86,Master!AQ$60:BC$285,6,FALSE))","v":""},"","","","","",{"$f":"IF(ISNA(VLOOKUP(C86,Master!AQ$60:BC$285,12,FALSE)),\"\",VLOOKUP(C86,Master!AQ$60:BC$285,12,FALSE))","v":""},{"$nulls":3},0,1,{"$f":"IF(ISNA(VLOOKUP(C86,Master!AQ$60:BC$285,10,FALSE)),\"\",VLOOKUP(C86,Master!AQ$60:BC$285,10,FALSE))","v":""},null,null,{"$f":"IF(ISNA(VLOOKUP(C86,Master!AQ$60:BC$285,11,FALSE)),\"\",VLOOKUP(C86,Master!AQ$60:BC$285,11,FALSE))","v":""},{"$f":"IF(ISNA(VLOOKUP(C86,Master!AQ$60:BC$285,9,FALSE)),\"\",VLOOKUP(C86,Master!AQ$60:BC$285,9,FALSE))","v":""},0,0,0,0,0,0,"","","","","","",0,0,"",0,0,0,0,0,0,0,null,null,0,0,0,0,0,0,0,0,0,0,0,0,0,0,0,0,null,null,0,0,1,0,0,0,1,0,1,0,0,""]
["",2202,61,{"$f":"IF(ISNA(VLOOKUP(C87,Master!AQ$60:BC$285,3,FALSE)),\"\",VLOOKUP(C87,Master!AQ$60:BC$285,3,FALSE))","v":""},{"$f":"IF(ISNA(VLOOKUP(C87,Master!AQ$60:BC$285,7,FALSE)),\"\",VLOOKUP(C87,Master!AQ$60:BC$285,7,FALSE))","v":""},{"$f":"IF(ISNA(VLOOKUP(C87,Master!AQ$60:BC$285,8,FALSE)),\"\",VLOOKUP(C87,Master!AQ$60:BC$285,8,FALSE))","v":""},{"$f":"IF(ISNA(VLOOKUP(C87,Master!AQ$60:BC$285,4,FALSE)),\"\",VLOOKUP(C87,Master!AQ$60:BC$285,4,FALSE))","v":""},{"$f":"IF(ISNA(VLOOKUP(C87,Master!AQ$60:BC$285,5,FALSE)),\"\",VLOOKUP(C87,Master!AQ$60:BC$285,5,FALSE))","v":""},{"$f":"IF(ISNA(VLOOKUP(C87,Master!AQ$60:BC$285,6,FALSE)),\"\",VLOOKUP(C87,Master!AQ$60:BC$285,6,FALSE))","v":""},"","","","","",{"$f":"IF(ISNA(VLOOKUP(C87,Master!AQ$60:BC$285,12,FALSE)),\"\",VLOOKUP(C87,Master!AQ$60:BC$285,12,FALSE))","v":""},{"$nulls":3},0,1,{"$f":"IF(ISNA(VLOOKUP(C87,Master!AQ$60:BC$285,10,FALSE)),\"\",VLOOKUP(C87,Master!AQ$60:BC$285,10,FALSE))","v":""},null,null,{"$f":"IF(ISNA(VLOOKUP(C87,Master!AQ$60:BC$285,11,FALSE)),\"\",VLOOKUP(C87,Master!AQ$60:BC$285,11,FALSE))","v":""},{"$f":"IF(ISNA(VLOOKUP(C87,Master!AQ$60:BC$285,9,FALSE)),\"\",VLOOKUP(C87,Master!AQ$60:BC$285,9,FALSE))","v":""},0,0,0,0,0,0,"","","","","","",0,0,"",0,0,0,0,0,0,0,null,null,0,0,0,0,0,0,0,0,0,0,0,0,0,0,0,0,null,null,0,0,1,0,0,0,1,0,1,0,0,""]
["",2202,62,{"$f":"IF(ISNA(VLOOKUP(C88,Master!AQ$60:BC$285,3,FALSE)),\"\",VLOOKUP(C88,Master!AQ$60:BC$285,3,FALSE))","v":""},{"$f":"IF(ISNA(VLOOKUP(C88,Master!AQ$60:BC$285,7,FALSE)),\"\",VLOOKUP(C88,Master!AQ$60:BC$285,7,FALSE))","v":""},{"$f":"IF(ISNA(VLOOKUP(C88,Master!AQ$60:BC$285,8,FALSE)),\"\",VLOOKUP(C88,Master!AQ$60:BC$285,8,FALSE))","v":""},{"$f":"IF(ISNA(VLOOKUP(C88,Master!AQ$60:BC$285,4,FALSE)),\"\",VLOOKUP(C88,Master!AQ$60:BC$285,4,FALSE))","v":""},{"$f":"IF(ISNA(VLOOKUP(C88,Master!AQ$60:BC$285,5,FALSE)),\"\",VLOOKUP(C88,Master!AQ$60:BC$285,5,FALSE))","v":""},{"$f":"IF(ISNA(VLOOKUP(C88,Master!AQ$60:BC$285,6,FALSE)),\"\",VLOOKUP(C88,Master!AQ$60:BC$285,6,FALSE))","v":""},"","","","","",{"$f":"IF(ISNA(VLOOKUP(C88,Master!AQ$60:BC$285,12,FALSE)),\"\",VLOOKUP(C88,Master!AQ$60:BC$285,12,FALSE))","v":""},{"$nulls":3},0,1,{"$f":"IF(ISNA(VLOOKUP(C88,Master!AQ$60:BC$285,10,FALSE)),\"\",VLOOKUP(C88,Master!AQ$60:BC$285,10,FALSE))","v":""},null,null,{"$f":"IF(ISNA(VLOOKUP(C88,Master!AQ$60:BC$285,11,FALSE)),\"\",VLOOKUP(C88,Master!AQ$60:BC$285,11,FALSE))","v":""},{"$f":"IF(ISNA(VLOOKUP(C88,Master!AQ$60:BC$285,9,FALSE)),\"\",VLOOKUP(C88,Master!AQ$60:BC$285,9,FALSE))","v":""},0,0,0,0,0,0,"","","","","","",0,0,"",0,0,0,0,0,0,0,null,null,0,0,0,0,0,0,0,0,0,0,0,0,0,0,0,0,null,null,0,0,1,0,0,0,1,0,1,0,0,""]
["",2202,63,{"$f":"IF(ISNA(VLOOKUP(C89,Master!AQ$60:BC$285,3,FALSE)),\"\",VLOOKUP(C89,Master!AQ$60:BC$285,3,FALSE))","v":""},{"$f":"IF(ISNA(VLOOKUP(C89,Master!AQ$60:BC$285,7,FALSE)),\"\",VLOOKUP(C89,Master!AQ$60:BC$285,7,FALSE))","v":""},{"$f":"IF(ISNA(VLOOKUP(C89,Master!AQ$60:BC$285,8,FALSE)),\"\",VLOOKUP(C89,Master!AQ$60:BC$285,8,FALSE))","v":""},{"$f":"IF(ISNA(VLOOKUP(C89,Master!AQ$60:BC$285,4,FALSE)),\"\",VLOOKUP(C89,Master!AQ$60:BC$285,4,FALSE))","v":""},{"$f":"IF(ISNA(VLOOKUP(C89,Master!AQ$60:BC$285,5,FALSE)),\"\",VLOOKUP(C89,Master!AQ$60:BC$285,5,FALSE))","v":""},{"$f":"IF(ISNA(VLOOKUP(C89,Master!AQ$60:BC$285,6,FALSE)),\"\",VLOOKUP(C89,Master!AQ$60:BC$285,6,FALSE))","v":""},"","","","","",{"$f":"IF(ISNA(VLOOKUP(C89,Master!AQ$60:BC$285,12,FALSE)),\"\",VLOOKUP(C89,Master!AQ$60:BC$285,12,FALSE))","v":""},{"$nulls":3},0,1,{"$f":"IF(ISNA(VLOOKUP(C89,Master!AQ$60:BC$285,10,FALSE)),\"\",VLOOKUP(C89,Master!AQ$60:BC$285,10,FALSE))","v":""},null,null,{"$f":"IF(ISNA(VLOOKUP(C89,Master!AQ$60:BC$285,11,FALSE)),\"\",VLOOKUP(C89,Master!AQ$60:BC$285,11,FALSE))","v":""},{"$f":"IF(ISNA(VLOOKUP(C89,Master!AQ$60:BC$285,9,FALSE)),\"\",VLOOKUP(C89,Master!AQ$60:BC$285,9,FALSE))","v":""},0,0,0,0,0,0,"","","","","","",0,0,"",0,0,0,0,0,0,0,null,null,0,0,0,0,0,0,0,0,0,0,0,0,0,0,0,0,null,null,0,0,1,0,0,0,1,0,1,0,0,""]
["",2202,64,{"$f":"IF(ISNA(VLOOKUP(C90,Master!AQ$60:BC$285,3,FALSE)),\"\",VLOOKUP(C90,Master!AQ$60:BC$285,3,FALSE))","v":""},{"$f":"IF(ISNA(VLOOKUP(C90,Master!AQ$60:BC$285,7,FALSE)),\"\",VLOOKUP(C90,Master!AQ$60:BC$285,7,FALSE))","v":""},{"$f":"IF(ISNA(VLOOKUP(C90,Master!AQ$60:BC$285,8,FALSE)),\"\",VLOOKUP(C90,Master!AQ$60:BC$285,8,FALSE))","v":""},{"$f":"IF(ISNA(VLOOKUP(C90,Master!AQ$60:BC$285,4,FALSE)),\"\",VLOOKUP(C90,Master!AQ$60:BC$285,4,FALSE))","v":""},{"$f":"IF(ISNA(VLOOKUP(C90,Master!AQ$60:BC$285,5,FALSE)),\"\",VLOOKUP(C90,Master!AQ$60:BC$285,5,FALSE))","v":""},{"$f":"IF(ISNA(VLOOKUP(C90,Master!AQ$60:BC$285,6,FALSE)),\"\",VLOOKUP(C90,Master!AQ$60:BC$285,6,FALSE))","v":""},"","","","","",{"$f":"IF(ISNA(VLOOKUP(C90,Master!AQ$60:BC$285,12,FALSE)),\"\",VLOOKUP(C90,Master!AQ$60:BC$285,12,FALSE))","v":""},{"$nulls":3},0,1,{"$f":"IF(ISNA(VLOOKUP(C90,Master!AQ$60:BC$285,10,FALSE)),\"\",VLOOKUP(C90,Master!AQ$60:BC$285,10,FALSE))","v":""},null,null,{"$f":"IF(ISNA(VLOOKUP(C90,Master!AQ$60:BC$285,11,FALSE)),\"\",VLOOKUP(C90,Master!AQ$60:BC$285,11,FALSE))","v":""},{"$f":"IF(ISNA(VLOOKUP(C90,Master!AQ$60:BC$285,9,FALSE)),\"\",VLOOKUP(C90,Master!AQ$60:BC$285,9,FALSE))","v":""},0,0,0,0,0,0,"","","","","","",0,0,"",0,0,0,0,0,0,0,null,null,0,0,0,0,0,0,0,0,0,0,0,0,0,0,0,0,null,null,0,0,1,0,0,0,1,0,1,0,0,""]
["",2202,65,{"$f":"IF(ISNA(VLOOKUP(C91,Master!AQ$60:BC$285,3,FALSE)),\"\",VLOOKUP(C91,Master!AQ$60:BC$285,3,FALSE))","v":""},{"$f":"IF(ISNA(VLOOKUP(C91,Master!AQ$60:BC$285,7,FALSE)),\"\",VLOOKUP(C91,Master!AQ$60:BC$285,7,FALSE))","v":""},{"$f":"IF(ISNA(VLOOKUP(C91,Master!AQ$60:BC$285,8,FALSE)),\"\",VLOOKUP(C91,Master!AQ$60:BC$285,8,FALSE))","v":""},{"$f":"IF(ISNA(VLOOKUP(C91,Master!AQ$60:BC$285,4,FALSE)),\"\",VLOOKUP(C91,Master!AQ$60:BC$285,4,FALSE))","v":""},{"$f":"IF(ISNA(VLOOKUP(C91,Master!AQ$60:BC$285,5,FALSE)),\"\",VLOOKUP(C91,Master!AQ$60:BC$285,5,FALSE))","v":""},{"$f":"IF(ISNA(VLOOKUP(C91,Master!AQ$60:BC$285,6,FALSE)),\"\",VLOOKUP(C91,Master!AQ$60:BC$285,6,FALSE))","v":""},"","","","","",{"$f":"IF(ISNA(VLOOKUP(C91,Master!AQ$60:BC$285,12,FALSE)),\"\",VLOOKUP(C91,Master!AQ$60:BC$285,12,FALSE))","v":""},{"$nulls":3},{"$f":"IF(H91=\"l-10\",6774,IF(H91=\"l-11\",6774,IF(H91=\"l-12\",6774,0)))","v":0},1,{"$f":"IF(ISNA(VLOOKUP(C91,Master!AQ$60:BC$285,10,FALSE)),\"\",VLOOKUP(C91,Master!AQ$60:BC$285,10,FALSE))","v":""},null,null,{"$f":"IF(ISNA(VLOOKUP(C91,Master!AQ$60:BC$285,11,FALSE)),\"\",VLOOKUP(C91,Master!AQ$60:BC$285,11,FALSE))","v":""},{"$f":"IF(ISNA(VLOOKUP(C91,Master!AQ$60:BC$285,9,FALSE)),\"\",VLOOKUP(C91,Master!AQ$60:BC$285,9,FALSE))","v":""},0,0,0,0,0,0,"","","","","","",0,0,"",0,0,0,0,0,0,0,null,null,0,0,0,0,0,0,0,0,0,0,0,0,0,0,0,0,null,null,0,0,1,0,0,0,1,{"$f":"IF((ROUND((SUMPRODUCT(MID(0&E91,LARGE(INDEX(ISNUMBER(--MID(E91,ROW($1:$25),1))* ROW($1:$25),0),ROW($1:$25))+1,1)*10^ROW($1:$25)/10)),-8)/100000000)>=2004,1,0)","v":0},1,0,0,{"$f":"IF(AND(E91=\"\"),\"\",IF(AND(E91<=0),\"\",IF((ROUND((SUMPRODUCT(MID(0&E91,LARGE(INDEX(ISNUMBER(--MID(E91,ROW($1:$70),1))* ROW($1:$70),0),ROW($1:$70))+1,1)*10^ROW($1:$70)/10)),-8)/100000000)<2004,1,0)))","v":""}]
["",2202,66,{"$f":"IF(ISNA(VLOOKUP(C92,Master!AQ$60:BC$285,3,FALSE)),\"\",VLOOKUP(C92,Master!AQ$60:BC$285,3,FALSE))","v":""},{"$f":"IF(ISNA(VLOOKUP(C92,Master!AQ$60:BC$285,7,FALSE)),\"\",VLOOKUP(C92,Master!AQ$60:BC$285,7,FALSE))","v":""},{"$f":"IF(ISNA(VLOOKUP(C92,Master!AQ$60:BC$285,8,FALSE)),\"\",VLOOKUP(C92,Master!AQ$60:BC$285,8,FALSE))","v":""},{"$f":"IF(ISNA(VLOOKUP(C92,Master!AQ$60:BC$285,4,FALSE)),\"\",VLOOKUP(C92,Master!AQ$60:BC$285,4,FALSE))","v":""},{"$f":"IF(ISNA(VLOOKUP(C92,Master!AQ$60:BC$285,5,FALSE)),\"\",VLOOKUP(C92,Master!AQ$60:BC$285,5,FALSE))","v":""},{"$f":"IF(ISNA(VLOOKUP(C92,Master!AQ$60:BC$285,6,FALSE)),\"\",VLOOKUP(C92,Master!AQ$60:BC$285,6,FALSE))","v":""},{"$f":"IF(AND(I92=\"\"),\"\",I92*12)","v":""},{"$f":"IF(AND(I92=\"\"),\"\",IF(I92<=0,\"\",(CONCATENATE(\"01.07.\",(YEAR(TODAY())+1)))))","v":""},{"$f":"IF(AND(I92=\"\"),\"\",ROUND(ROUND(I92*3%,0),-2)*IF(H92=\"FIX PAY\",0,1)*8)","v":""},{"$f":"IF(AND(I92=\"\"),\"\",J92+L92)","v":""},{"$f":"IF(AND(I92=\"\"),\"\",IF(O92=\"FIX PAY\",M92,((IF(O92=\"FIX PAY\",0,AF92*4+I92*8)))))","v":""},{"$f":"IF(ISNA(VLOOKUP(C92,Master!AQ$60:BC$285,12,FALSE)),\"\",VLOOKUP(C92,Master!AQ$60:BC$285,12,FALSE))","v":""},{"$nulls":3},0,1,{"$f":"IF(ISNA(VLOOKUP(C92,Master!AQ$60:BC$285,10,FALSE)),\"\",VLOOKUP(C92,Master!AQ$60:BC$285,10,FALSE))","v":""},null,null,{"$f":"IF(ISNA(VLOOKUP(C92,Master!AQ$60:BC$285,11,FALSE)),\"\",VLOOKUP(C92,Master!AQ$60:BC$285,11,FALSE))","v":""},{"$f":"IF(ISNA(VLOOKUP(C92,Master!AQ$60:BC$285,9,FALSE)),\"\",VLOOKUP(C92,Master!AQ$60:BC$285,9,FALSE))","v":""},0,0,0,0,0,0,"","","","","","",0,0,"",0,0,0,0,0,0,0,null,null,0,0,0,0,0,0,0,0,0,0,0,0,0,0,0,0,null,null,0,0,1,0,0,0,1,0,1,0,0,""]
[{"$f":"IF(I93=\"\",\"\",IF(I93>0,A92+1,\"\"))","v":""},2202,67,{"$f":"IF(ISNA(VLOOKUP(C93,Master!AQ$60:BC$285,3,FALSE)),\"\",VLOOKUP(C93,Master!AQ$60:BC$285,3,FALSE))","v":""},{"$f":"IF(ISNA(VLOOKUP(C93,Master!AQ$60:BC$285,7,FALSE)),\"\",VLOOKUP(C93,Master!AQ$60:BC$285,7,FALSE))","v":""},{"$f":"IF(ISNA(VLOOKUP(C93,Master!AQ$60:BC$285,8,FALSE)),\"\",VLOOKUP(C93,Master!AQ$60:BC$285,8,FALSE))","v":""},{"$f":"IF(ISNA(VLOOKUP(C93,Master!AQ$60:BC$285,4,FALSE)),\"\",VLOOKUP(C93,Master!AQ$60:BC$285,4,FALSE))","v":""},{"$f":"IF(ISNA(VLOOKUP(C93,Master!AQ$60:BC$285,5,FALSE)),\"\",VLOOKUP(C93,Master!AQ$60:BC$285,5,FALSE))","v":""},{"$f":"IF(ISNA(VLOOKUP(C93,Master!AQ$60:BC$285,6,FALSE)),\"\",VLOOKUP(C93,Master!AQ$60:BC$285,6,FALSE))","v":""},"","","","","",{"$f":"IF(ISNA(VLOOKUP(C93,Master!AQ$60:BC$285,12,FALSE)),\"\",VLOOKUP(C93,Master!AQ$60:BC$285,12,FALSE))","v":""},{"$nulls":3},0,1,{"$f":"IF(ISNA(VLOOKUP(C93,Master!AQ$60:BC$285,10,FALSE)),\"\",VLOOKUP(C93,Master!AQ$60:BC$285,10,FALSE))","v":""},null,null,{"$f":"IF(ISNA(VLOOKUP(C93,Master!AQ$60:BC$285,11,FALSE)),\"\",VLOOKUP(C93,Master!AQ$60:BC$285,11,FALSE))","v":""},{"$f":"IF(ISNA(VLOOKUP(C93,Master!AQ$60:BC$285,9,FALSE)),\"\",VLOOKUP(C93,Master!AQ$60:BC$285,9,FALSE))","v":""},0,0,0,0,0,0,"","","","","","",0,0,"",0,0,0,0,0,0,0,null,null,0,0,0,0,0,0,0,0,0,0,0,0,0,0,0,0,null,null,0,0,1,0,0,0,1,0,1,0,0,""]
["",2202,68,{"$f":"IF(ISNA(VLOOKUP(C94,Master!AQ$60:BC$285,3,FALSE)),\"\",VLOOKUP(C94,Master!AQ$60:BC$285,3,FALSE))","v":""},{"$f":"IF(ISNA(VLOOKUP(C94,Master!AQ$60:BC$285,7,FALSE)),\"\",VLOOKUP(C94,Master!AQ$60:BC$285,7,FALSE))","v":""},{"$f":"IF(ISNA(VLOOKUP(C94,Master!AQ$60:BC$285,8,FALSE)),\"\",VLOOKUP(C94,Master!AQ$60:BC$285,8,FALSE))","v":""},{"$f":"IF(ISNA(VLOOKUP(C94,Master!AQ$60:BC$285,4,FALSE)),\"\",VLOOKUP(C94,Master!AQ$60:BC$285,4,FALSE))","v":""},{"$f":"IF(ISNA(VLOOKUP(C94,Master!AQ$60:BC$285,5,FALSE)),\"\",VLOOKUP(C94,Master!AQ$60:BC$285,5,FALSE))","v":""},{"$f":"IF(ISNA(VLOOKUP(C94,Master!AQ$60:BC$285,6,FALSE)),\"\",VLOOKUP(C94,Master!AQ$60:BC$285,6,FALSE))","v":""},"","","","","",{"$f":"IF(ISNA(VLOOKUP(C94,Master!AQ$60:BC$285,12,FALSE)),\"\",VLOOKUP(C94,Master!AQ$60:BC$285,12,FALSE))","v":""},{"$nulls":3},0,1,{"$f":"IF(ISNA(VLOOKUP(C94,Master!AQ$60:BC$285,10,FALSE)),\"\",VLOOKUP(C94,Master!AQ$60:BC$285,10,FALSE))","v":""},null,null,{"$f":"IF(ISNA(VLOOKUP(C94,Master!AQ$60:BC$285,11,FALSE)),\"\",VLOOKUP(C94,Master!AQ$60:BC$285,11,FALSE))","v":""},{"$f":"IF(ISNA(VLOOKUP(C94,Master!AQ$60:BC$285,9,FALSE)),\"\",VLOOKUP(C94,Master!AQ$60:BC$285,9,FALSE))","v":""},0,0,0,0,0,0,"","","","","","",0,0,"",0,0,0,0,0,0,0,null,null,0,0,0,0,0,0,0,0,0,0,0,0,0,0,0,0,null,null,0,0,1,0,0,0,1,0,1,0,0,""]
["",2202,69,{"$f":"IF(ISNA(VLOOKUP(C95,Master!AQ$60:BC$285,3,FALSE)),\"\",VLOOKUP(C95,Master!AQ$60:BC$285,3,FALSE))","v":""},{"$f":"IF(ISNA(VLOOKUP(C95,Master!AQ$60:BC$285,7,FALSE)),\"\",VLOOKUP(C95,Master!AQ$60:BC$285,7,FALSE))","v":""},{"$f":"IF(ISNA(VLOOKUP(C95,Master!AQ$60:BC$285,8,FALSE)),\"\",VLOOKUP(C95,Master!AQ$60:BC$285,8,FALSE))","v":""},{"$f":"IF(ISNA(VLOOKUP(C95,Master!AQ$60:BC$285,4,FALSE)),\"\",VLOOKUP(C95,Master!AQ$60:BC$285,4,FALSE))","v":""},{"$f":"IF(ISNA(VLOOKUP(C95,Master!AQ$60:BC$285,5,FALSE)),\"\",VLOOKUP(C95,Master!AQ$60:BC$285,5,FALSE))","v":""},{"$f":"IF(ISNA(VLOOKUP(C95,Master!AQ$60:BC$285,6,FALSE)),\"\",VLOOKUP(C95,Master!AQ$60:BC$285,6,FALSE))","v":""},"","","","","",{"$f":"IF(ISNA(VLOOKUP(C95,Master!AQ$60:BC$285,12,FALSE)),\"\",VLOOKUP(C95,Master!AQ$60:BC$285,12,FALSE))","v":""},{"$nulls":3},0,1,{"$f":"IF(ISNA(VLOOKUP(C95,Master!AQ$60:BC$285,10,FALSE)),\"\",VLOOKUP(C95,Master!AQ$60:BC$285,10,FALSE))","v":""},null,null,{"$f":"IF(ISNA(VLOOKUP(C95,Master!AQ$60:BC$285,11,FALSE)),\"\",VLOOKUP(C95,Master!AQ$60:BC$285,11,FALSE))","v":""},{"$f":"IF(ISNA(VLOOKUP(C95,Master!AQ$60:BC$285,9,FALSE)),\"\",VLOOKUP(C95,Master!AQ$60:BC$285,9,FALSE))","v":""},0,0,0,0,0,0,"","","","","","",0,0,"",0,0,0,0,0,0,0,null,null,0,0,0,0,0,0,0,0,0,0,0,0,0,0,0,0,null,null,0,0,1,0,0,0,1,0,1,0,0,""]
["",2202,70,{"$f":"IF(ISNA(VLOOKUP(C96,Master!AQ$60:BC$285,3,FALSE)),\"\",VLOOKUP(C96,Master!AQ$60:BC$285,3,FALSE))","v":""},{"$f":"IF(ISNA(VLOOKUP(C96,Master!AQ$60:BC$285,7,FALSE)),\"\",VLOOKUP(C96,Master!AQ$60:BC$285,7,FALSE))","v":""},{"$f":"IF(ISNA(VLOOKUP(C96,Master!AQ$60:BC$285,8,FALSE)),\"\",VLOOKUP(C96,Master!AQ$60:BC$285,8,FALSE))","v":""},{"$f":"IF(ISNA(VLOOKUP(C96,Master!AQ$60:BC$285,4,FALSE)),\"\",VLOOKUP(C96,Master!AQ$60:BC$285,4,FALSE))","v":""},{"$f":"IF(ISNA(VLOOKUP(C96,Master!AQ$60:BC$285,5,FALSE)),\"\",VLOOKUP(C96,Master!AQ$60:BC$285,5,FALSE))","v":""},{"$f":"IF(ISNA(VLOOKUP(C96,Master!AQ$60:BC$285,6,FALSE)),\"\",VLOOKUP(C96,Master!AQ$60:BC$285,6,FALSE))","v":""},"","","","","",{"$f":"IF(ISNA(VLOOKUP(C96,Master!AQ$60:BC$285,12,FALSE)),\"\",VLOOKUP(C96,Master!AQ$60:BC$285,12,FALSE))","v":""},{"$nulls":3},0,1,{"$f":"IF(ISNA(VLOOKUP(C96,Master!AQ$60:BC$285,10,FALSE)),\"\",VLOOKUP(C96,Master!AQ$60:BC$285,10,FALSE))","v":""},null,null,{"$f":"IF(ISNA(VLOOKUP(C96,Master!AQ$60:BC$285,11,FALSE)),\"\",VLOOKUP(C96,Master!AQ$60:BC$285,11,FALSE))","v":""},{"$f":"IF(ISNA(VLOOKUP(C96,Master!AQ$60:BC$285,9,FALSE)),\"\",VLOOKUP(C96,Master!AQ$60:BC$285,9,FALSE))","v":""},0,0,0,0,0,0,"","","","","","",0,0,"",0,0,0,0,0,0,0,null,null,0,0,0,0,0,0,0,0,0,0,0,0,0,0,0,0,null,null,0,0,1,0,0,0,1,0,1,0,0,""]
["",2202,71,{"$f":"IF(ISNA(VLOOKUP(C97,Master!AQ$60:BC$285,3,FALSE)),\"\",VLOOKUP(C97,Master!AQ$60:BC$285,3,FALSE))","v":""},{"$f":"IF(ISNA(VLOOKUP(C97,Master!AQ$60:BC$285,7,FALSE)),\"\",VLOOKUP(C97,Master!AQ$60:BC$285,7,FALSE))","v":""},{"$f":"IF(ISNA(VLOOKUP(C97,Master!AQ$60:BC$285,8,FALSE)),\"\",VLOOKUP(C97,Master!AQ$60:BC$285,8,FALSE))","v":""},{"$f":"IF(ISNA(VLOOKUP(C97,Master!AQ$60:BC$285,4,FALSE)),\"\",VLOOKUP(C97,Master!AQ$60:BC$285,4,FALSE))","v":""},{"$f":"IF(ISNA(VLOOKUP(C97,Master!AQ$60:BC$285,5,FALSE)),\"\",VLOOKUP(C97,Master!AQ$60:BC$285,5,FALSE))","v":""},{"$f":"IF(ISNA(VLOOKUP(C97,Master!AQ$60:BC$285,6,FALSE)),\"\",VLOOKUP(C97,Master!AQ$60:BC$285,6,FALSE))","v":""},"","","","","",{"$f":"IF(ISNA(VLOOKUP(C97,Master!AQ$60:BC$285,12,FALSE)),\"\",VLOOKUP(C97,Master!AQ$60:BC$285,12,FALSE))","v":""},{"$nulls":3},0,1,{"$f":"IF(ISNA(VLOOKUP(C97,Master!AQ$60:BC$285,10,FALSE)),\"\",VLOOKUP(C97,Master!AQ$60:BC$285,10,FALSE))","v":""},null,null,{"$f":"IF(ISNA(VLOOKUP(C97,Master!AQ$60:BC$285,11,FALSE)),\"\",VLOOKUP(C97,Master!AQ$60:BC$285,11,FALSE))","v":""},{"$f":"IF(ISNA(VLOOKUP(C97,Master!AQ$60:BC$285,9,FALSE)),\"\",VLOOKUP(C97,Master!AQ$60:BC$285,9,FALSE))","v":""},0,0,0,0,0,0,"","","","","","",0,0,"",0,0,0,0,0,0,0,null,null,0,0,0,0,0,0,0,0,0,0,0,0,0,0,0,0,null,null,0,0,1,0,0,0,1,0,1,0,0,""]
["",2202,72,{"$f":"IF(ISNA(VLOOKUP(C98,Master!AQ$60:BC$285,3,FALSE)),\"\",VLOOKUP(C98,Master!AQ$60:BC$285,3,FALSE))","v":""},{"$f":"IF(ISNA(VLOOKUP(C98,Master!AQ$60:BC$285,7,FALSE)),\"\",VLOOKUP(C98,Master!AQ$60:BC$285,7,FALSE))","v":""},{"$f":"IF(ISNA(VLOOKUP(C98,Master!AQ$60:BC$285,8,FALSE)),\"\",VLOOKUP(C98,Master!AQ$60:BC$285,8,FALSE))","v":""},{"$f":"IF(ISNA(VLOOKUP(C98,Master!AQ$60:BC$285,4,FALSE)),\"\",VLOOKUP(C98,Master!AQ$60:BC$285,4,FALSE))","v":""},{"$f":"IF(ISNA(VLOOKUP(C98,Master!AQ$60:BC$285,5,FALSE)),\"\",VLOOKUP(C98,Master!AQ$60:BC$285,5,FALSE))","v":""},{"$f":"IF(ISNA(VLOOKUP(C98,Master!AQ$60:BC$285,6,FALSE)),\"\",VLOOKUP(C98,Master!AQ$60:BC$285,6,FALSE))","v":""},"","","","","",{"$f":"IF(ISNA(VLOOKUP(C98,Master!AQ$60:BC$285,12,FALSE)),\"\",VLOOKUP(C98,Master!AQ$60:BC$285,12,FALSE))","v":""},{"$nulls":3},0,1,{"$f":"IF(ISNA(VLOOKUP(C98,Master!AQ$60:BC$285,10,FALSE)),\"\",VLOOKUP(C98,Master!AQ$60:BC$285,10,FALSE))","v":""},null,null,{"$f":"IF(ISNA(VLOOKUP(C98,Master!AQ$60:BC$285,11,FALSE)),\"\",VLOOKUP(C98,Master!AQ$60:BC$285,11,FALSE))","v":""},{"$f":"IF(ISNA(VLOOKUP(C98,Master!AQ$60:BC$285,9,FALSE)),\"\",VLOOKUP(C98,Master!AQ$60:BC$285,9,FALSE))","v":""},0,0,0,0,0,0,"","","","","","",0,0,"",0,0,0,0,0,0,0,null,null,0,0,0,0,0,0,0,0,0,0,0,0,0,0,0,0,null,null,0,0,1,0,0,0,1,0,1,0,0,""]
["",2202,73,{"$f":"IF(ISNA(VLOOKUP(C99,Master!AQ$60:BC$285,3,FALSE)),\"\",VLOOKUP(C99,Master!AQ$60:BC$285,3,FALSE))","v":""},{"$f":"IF(ISNA(VLOOKUP(C99,Master!AQ$60:BC$285,7,FALSE)),\"\",VLOOKUP(C99,Master!AQ$60:BC$285,7,FALSE))","v":""},{"$f":"IF(ISNA(VLOOKUP(C99,Master!AQ$60:BC$285,8,FALSE)),\"\",VLOOKUP(C99,Master!AQ$60:BC$285,8,FALSE))","v":""},{"$f":"IF(ISNA(VLOOKUP(C99,Master!AQ$60:BC$285,4,FALSE)),\"\",VLOOKUP(C99,Master!AQ$60:BC$285,4,FALSE))","v":""},{"$f":"IF(ISNA(VLOOKUP(C99,Master!AQ$60:BC$285,5,FALSE)),\"\",VLOOKUP(C99,Master!AQ$60:BC$285,5,FALSE))","v":""},{"$f":"IF(ISNA(VLOOKUP(C99,Master!AQ$60:BC$285,6,FALSE)),\"\",VLOOKUP(C99,Master!AQ$60:BC$285,6,FALSE))","v":""},"","","","","",{"$f":"IF(ISNA(VLOOKUP(C99,Master!AQ$60:BC$285,12,FALSE)),\"\",VLOOKUP(C99,Master!AQ$60:BC$285,12,FALSE))","v":""},{"$nulls":3},0,1,{"$f":"IF(ISNA(VLOOKUP(C99,Master!AQ$60:BC$285,10,FALSE)),\"\",VLOOKUP(C99,Master!AQ$60:BC$285,10,FALSE))","v":""},null,null,{"$f":"IF(ISNA(VLOOKUP(C99,Master!AQ$60:BC$285,11,FALSE)),\"\",VLOOKUP(C99,Master!AQ$60:BC$285,11,FALSE))","v":""},{"$f":"IF(ISNA(VLOOKUP(C99,Master!AQ$60:BC$285,9,FALSE)),\"\",VLOOKUP(C99,Master!AQ$60:BC$285,9,FALSE))","v":""},0,0,0,0,0,0,"","","","","","",0,0,"",0,0,0,0,0,0,0,null,null,0,0,0,0,0,0,0,0,0,0,0,0,0,0,0,0,null,null,0,0,1,0,0,0,1,0,1,0,0,""]
["",2202,74,{"$f":"IF(ISNA(VLOOKUP(C100,Master!AQ$60:BC$285,3,FALSE)),\"\",VLOOKUP(C100,Master!AQ$60:BC$285,3,FALSE))","v":""},{"$f":"IF(ISNA(VLOOKUP(C100,Master!AQ$60:BC$285,7,FALSE)),\"\",VLOOKUP(C100,Master!AQ$60:BC$285,7,FALSE))","v":""},{"$f":"IF(ISNA(VLOOKUP(C100,Master!AQ$60:BC$285,8,FALSE)),\"\",VLOOKUP(C100,Master!AQ$60:BC$285,8,FALSE))","v":""},{"$f":"IF(ISNA(VLOOKUP(C100,Master!AQ$60:BC$285,4,FALSE)),\"\",VLOOKUP(C100,Master!AQ$60:BC$285,4,FALSE))","v":""},{"$f":"IF(ISNA(VLOOKUP(C100,Master!AQ$60:BC$285,5,FALSE)),\"\",VLOOKUP(C100,Master!AQ$60:BC$285,5,FALSE))","v":""},{"$f":"IF(ISNA(VLOOKUP(C100,Master!AQ$60:BC$285,6,FALSE)),\"\",VLOOKUP(C100,Master!AQ$60:BC$285,6,FALSE))","v":""},"","","","","",{"$f":"IF(ISNA(VLOOKUP(C100,Master!AQ$60:BC$285,12,FALSE)),\"\",VLOOKUP(C100,Master!AQ$60:BC$285,12,FALSE))","v":""},{"$nulls":3},0,1,{"$f":"IF(ISNA(VLOOKUP(C100,Master!AQ$60:BC$285,10,FALSE)),\"\",VLOOKUP(C100,Master!AQ$60:BC$285,10,FALSE))","v":""},null,null,{"$f":"IF(ISNA(VLOOKUP(C100,Master!AQ$60:BC$285,11,FALSE)),\"\",VLOOKUP(C100,Master!AQ$60:BC$285,11,FALSE))","v":""},{"$f":"IF(ISNA(VLOOKUP(C100,Master!AQ$60:BC$285,9,FALSE)),\"\",VLOOKUP(C100,Master!AQ$60:BC$285,9,FALSE))","v":""},0,0,0,0,0,0,"","","","","","",0,0,"",0,0,0,0,0,0,0,null,null,0,0,0,0,0,0,0,0,0,0,0,0,0,0,0,0,null,null,0,0,1,0,0,0,1,0,1,0,0,""]
["",2202,75,{"$f":"IF(ISNA(VLOOKUP(C101,Master!AQ$60:BC$285,3,FALSE)),\"\",VLOOKUP(C101,Master!AQ$60:BC$285,3,FALSE))","v":""},{"$f":"IF(ISNA(VLOOKUP(C101,Master!AQ$60:BC$285,7,FALSE)),\"\",VLOOKUP(C101,Master!AQ$60:BC$285,7,FALSE))","v":""},{"$f":"IF(ISNA(VLOOKUP(C101,Master!AQ$60:BC$285,8,FALSE)),\"\",VLOOKUP(C101,Master!AQ$60:BC$285,8,FALSE))","v":""},{"$f":"IF(ISNA(VLOOKUP(C101,Master!AQ$60:BC$285,4,FALSE)),\"\",VLOOKUP(C101,Master!AQ$60:BC$285,4,FALSE))","v":""},{"$f":"IF(ISNA(VLOOKUP(C101,Master!AQ$60:BC$285,5,FALSE)),\"\",VLOOKUP(C101,Master!AQ$60:BC$285,5,FALSE))","v":""},{"$f":"IF(ISNA(VLOOKUP(C101,Master!AQ$60:BC$285,6,FALSE)),\"\",VLOOKUP(C101,Master!AQ$60:BC$285,6,FALSE))","v":""},"","","","","",{"$f":"IF(ISNA(VLOOKUP(C101,Master!AQ$60:BC$285,12,FALSE)),\"\",VLOOKUP(C101,Master!AQ$60:BC$285,12,FALSE))","v":""},{"$nulls":3},0,1,{"$f":"IF(ISNA(VLOOKUP(C101,Master!AQ$60:BC$285,10,FALSE)),\"\",VLOOKUP(C101,Master!AQ$60:BC$285,10,FALSE))","v":""},null,null,{"$f":"IF(ISNA(VLOOKUP(C101,Master!AQ$60:BC$285,11,FALSE)),\"\",VLOOKUP(C101,Master!AQ$60:BC$285,11,FALSE))","v":""},{"$f":"IF(ISNA(VLOOKUP(C101,Master!AQ$60:BC$285,9,FALSE)),\"\",VLOOKUP(C101,Master!AQ$60:BC$285,9,FALSE))","v":""},0,0,0,0,0,0,"","","","","","",0,0,"",0,0,0,0,0,0,0,null,null,0,0,0,0,0,0,0,0,0,0,0,0,0,0,0,0,null,null,0,0,1,0,0,0,1,0,1,0,0,""]
["",2202,76,{"$f":"IF(ISNA(VLOOKUP(C102,Master!AQ$60:BC$285,3,FALSE)),\"\",VLOOKUP(C102,Master!AQ$60:BC$285,3,FALSE))","v":""},{"$f":"IF(ISNA(VLOOKUP(C102,Master!AQ$60:BC$285,7,FALSE)),\"\",VLOOKUP(C102,Master!AQ$60:BC$285,7,FALSE))","v":""},{"$f":"IF(ISNA(VLOOKUP(C102,Master!AQ$60:BC$285,8,FALSE)),\"\",VLOOKUP(C102,Master!AQ$60:BC$285,8,FALSE))","v":""},{"$f":"IF(ISNA(VLOOKUP(C102,Master!AQ$60:BC$285,4,FALSE)),\"\",VLOOKUP(C102,Master!AQ$60:BC$285,4,FALSE))","v":""},{"$f":"IF(ISNA(VLOOKUP(C102,Master!AQ$60:BC$285,5,FALSE)),\"\",VLOOKUP(C102,Master!AQ$60:BC$285,5,FALSE))","v":""},{"$f":"IF(ISNA(VLOOKUP(C102,Master!AQ$60:BC$285,6,FALSE)),\"\",VLOOKUP(C102,Master!AQ$60:BC$285,6,FALSE))","v":""},"","","","","",{"$f":"IF(ISNA(VLOOKUP(C102,Master!AQ$60:BC$285,12,FALSE)),\"\",VLOOKUP(C102,Master!AQ$60:BC$285,12,FALSE))","v":""},{"$nulls":3},0,1,{"$f":"IF(ISNA(VLOOKUP(C102,Master!AQ$60:BC$285,10,FALSE)),\"\",VLOOKUP(C102,Master!AQ$60:BC$285,10,FALSE))","v":""},null,null,{"$f":"IF(ISNA(VLOOKUP(C102,Master!AQ$60:BC$285,11,FALSE)),\"\",VLOOKUP(C102,Master!AQ$60:BC$285,11,FALSE))","v":""},{"$f":"IF(ISNA(VLOOKUP(C102,Master!AQ$60:BC$285,9,FALSE)),\"\",VLOOKUP(C102,Master!AQ$60:BC$285,9,FALSE))","v":""},0,0,0,0,0,0,"","","","","","",0,0,"",0,0,0,0,0,0,0,null,null,0,0,0,0,0,0,0,0,0,0,0,0,0,0,0,0,null,null,0,0,1,0,0,0,1,0,1,0,0,""]
["",2202,77,{"$f":"IF(ISNA(VLOOKUP(C103,Master!AQ$60:BC$285,3,FALSE)),\"\",VLOOKUP(C103,Master!AQ$60:BC$285,3,FALSE))","v":""},{"$f":"IF(ISNA(VLOOKUP(C103,Master!AQ$60:BC$285,7,FALSE)),\"\",VLOOKUP(C103,Master!AQ$60:BC$285,7,FALSE))","v":""},{"$f":"IF(ISNA(VLOOKUP(C103,Master!AQ$60:BC$285,8,FALSE)),\"\",VLOOKUP(C103,Master!AQ$60:BC$285,8,FALSE))","v":""},{"$f":"IF(ISNA(VLOOKUP(C103,Master!AQ$60:BC$285,4,FALSE)),\"\",VLOOKUP(C103,Master!AQ$60:BC$285,4,FALSE))","v":""},{"$f":"IF(ISNA(VLOOKUP(C103,Master!AQ$60:BC$285,5,FALSE)),\"\",VLOOKUP(C103,Master!AQ$60:BC$285,5,FALSE))","v":""},{"$f":"IF(ISNA(VLOOKUP(C103,Master!AQ$60:BC$285,6,FALSE)),\"\",VLOOKUP(C103,Master!AQ$60:BC$285,6,FALSE))","v":""},"","","","","",{"$f":"IF(ISNA(VLOOKUP(C103,Master!AQ$60:BC$285,12,FALSE)),\"\",VLOOKUP(C103,Master!AQ$60:BC$285,12,FALSE))","v":""},{"$nulls":3},0,1,{"$f":"IF(ISNA(VLOOKUP(C103,Master!AQ$60:BC$285,10,FALSE)),\"\",VLOOKUP(C103,Master!AQ$60:BC$285,10,FALSE))","v":""},null,null,{"$f":"IF(ISNA(VLOOKUP(C103,Master!AQ$60:BC$285,11,FALSE)),\"\",VLOOKUP(C103,Master!AQ$60:BC$285,11,FALSE))","v":""},{"$f":"IF(ISNA(VLOOKUP(C103,Master!AQ$60:BC$285,9,FALSE)),\"\",VLOOKUP(C103,Master!AQ$60:BC$285,9,FALSE))","v":""},0,0,0,0,0,0,"","","","","","",0,0,"",0,0,0,0,0,0,0,null,null,0,0,0,0,0,0,0,0,0,0,0,0,0,0,0,0,null,null,0,0,1,0,0,0,1,0,1,0,0,""]
["",2202,78,{"$f":"IF(ISNA(VLOOKUP(C104,Master!AQ$60:BC$285,3,FALSE)),\"\",VLOOKUP(C104,Master!AQ$60:BC$285,3,FALSE))","v":""},{"$f":"IF(ISNA(VLOOKUP(C104,Master!AQ$60:BC$285,7,FALSE)),\"\",VLOOKUP(C104,Master!AQ$60:BC$285,7,FALSE))","v":""},{"$f":"IF(ISNA(VLOOKUP(C104,Master!AQ$60:BC$285,8,FALSE)),\"\",VLOOKUP(C104,Master!AQ$60:BC$285,8,FALSE))","v":""},{"$f":"IF(ISNA(VLOOKUP(C104,Master!AQ$60:BC$285,4,FALSE)),\"\",VLOOKUP(C104,Master!AQ$60:BC$285,4,FALSE))","v":""},{"$f":"IF(ISNA(VLOOKUP(C104,Master!AQ$60:BC$285,5,FALSE)),\"\",VLOOKUP(C104,Master!AQ$60:BC$285,5,FALSE))","v":""},{"$f":"IF(ISNA(VLOOKUP(C104,Master!AQ$60:BC$285,6,FALSE)),\"\",VLOOKUP(C104,Master!AQ$60:BC$285,6,FALSE))","v":""},"","","","","",{"$f":"IF(ISNA(VLOOKUP(C104,Master!AQ$60:BC$285,12,FALSE)),\"\",VLOOKUP(C104,Master!AQ$60:BC$285,12,FALSE))","v":""},{"$nulls":3},0,1,{"$f":"IF(ISNA(VLOOKUP(C104,Master!AQ$60:BC$285,10,FALSE)),\"\",VLOOKUP(C104,Master!AQ$60:BC$285,10,FALSE))","v":""},null,null,{"$f":"IF(ISNA(VLOOKUP(C104,Master!AQ$60:BC$285,11,FALSE)),\"\",VLOOKUP(C104,Master!AQ$60:BC$285,11,FALSE))","v":""},{"$f":"IF(ISNA(VLOOKUP(C104,Master!AQ$60:BC$285,9,FALSE)),\"\",VLOOKUP(C104,Master!AQ$60:BC$285,9,FALSE))","v":""},0,0,0,0,0,0,"","","","","","",0,0,"",0,0,0,0,0,0,0,null,null,0,0,0,0,0,0,0,0,0,0,0,0,0,0,0,0,null,null,0,0,1,0,0,0,1,0,1,0,0,""]
["",2202,79,{"$f":"IF(ISNA(VLOOKUP(C105,Master!AQ$60:BC$285,3,FALSE)),\"\",VLOOKUP(C105,Master!AQ$60:BC$285,3,FALSE))","v":""},{"$f":"IF(ISNA(VLOOKUP(C105,Master!AQ$60:BC$285,7,FALSE)),\"\",VLOOKUP(C105,Master!AQ$60:BC$285,7,FALSE))","v":""},{"$f":"IF(ISNA(VLOOKUP(C105,Master!AQ$60:BC$285,8,FALSE)),\"\",VLOOKUP(C105,Master!AQ$60:BC$285,8,FALSE))","v":""},{"$f":"IF(ISNA(VLOOKUP(C105,Master!AQ$60:BC$285,4,FALSE)),\"\",VLOOKUP(C105,Master!AQ$60:BC$285,4,FALSE))","v":""},{"$f":"IF(ISNA(VLOOKUP(C105,Master!AQ$60:BC$285,5,FALSE)),\"\",VLOOKUP(C105,Master!AQ$60:BC$285,5,FALSE))","v":""},{"$f":"IF(ISNA(VLOOKUP(C105,Master!AQ$60:BC$285,6,FALSE)),\"\",VLOOKUP(C105,Master!AQ$60:BC$285,6,FALSE))","v":""},"","","","","",{"$f":"IF(ISNA(VLOOKUP(C105,Master!AQ$60:BC$285,12,FALSE)),\"\",VLOOKUP(C105,Master!AQ$60:BC$285,12,FALSE))","v":""},{"$nulls":3},0,1,{"$f":"IF(ISNA(VLOOKUP(C105,Master!AQ$60:BC$285,10,FALSE)),\"\",VLOOKUP(C105,Master!AQ$60:BC$285,10,FALSE))","v":""},null,null,{"$f":"IF(ISNA(VLOOKUP(C105,Master!AQ$60:BC$285,11,FALSE)),\"\",VLOOKUP(C105,Master!AQ$60:BC$285,11,FALSE))","v":""},{"$f":"IF(ISNA(VLOOKUP(C105,Master!AQ$60:BC$285,9,FALSE)),\"\",VLOOKUP(C105,Master!AQ$60:BC$285,9,FALSE))","v":""},0,0,0,0,0,0,"","","","","","",0,0,"",0,0,0,0,0,0,0,null,null,0,0,0,0,0,0,0,0,0,0,0,0,0,0,0,0,null,null,0,0,1,0,0,0,1,0,1,0,0,""]
["",2202,80,{"$f":"IF(ISNA(VLOOKUP(C106,Master!AQ$60:BC$285,3,FALSE)),\"\",VLOOKUP(C106,Master!AQ$60:BC$285,3,FALSE))","v":""},{"$f":"IF(ISNA(VLOOKUP(C106,Master!AQ$60:BC$285,7,FALSE)),\"\",VLOOKUP(C106,Master!AQ$60:BC$285,7,FALSE))","v":""},{"$f":"IF(ISNA(VLOOKUP(C106,Master!AQ$60:BC$285,8,FALSE)),\"\",VLOOKUP(C106,Master!AQ$60:BC$285,8,FALSE))","v":""},{"$f":"IF(ISNA(VLOOKUP(C106,Master!AQ$60:BC$285,4,FALSE)),\"\",VLOOKUP(C106,Master!AQ$60:BC$285,4,FALSE))","v":""},{"$f":"IF(ISNA(VLOOKUP(C106,Master!AQ$60:BC$285,5,FALSE)),\"\",VLOOKUP(C106,Master!AQ$60:BC$285,5,FALSE))","v":""},{"$f":"IF(ISNA(VLOOKUP(C106,Master!AQ$60:BC$285,6,FALSE)),\"\",VLOOKUP(C106,Master!AQ$60:BC$285,6,FALSE))","v":""},"","","","","",{"$f":"IF(ISNA(VLOOKUP(C106,Master!AQ$60:BC$285,12,FALSE)),\"\",VLOOKUP(C106,Master!AQ$60:BC$285,12,FALSE))","v":""},{"$nulls":3},0,1,{"$f":"IF(ISNA(VLOOKUP(C106,Master!AQ$60:BC$285,10,FALSE)),\"\",VLOOKUP(C106,Master!AQ$60:BC$285,10,FALSE))","v":""},null,null,{"$f":"IF(ISNA(VLOOKUP(C106,Master!AQ$60:BC$285,11,FALSE)),\"\",VLOOKUP(C106,Master!AQ$60:BC$285,11,FALSE))","v":""},{"$f":"IF(ISNA(VLOOKUP(C106,Master!AQ$60:BC$285,9,FALSE)),\"\",VLOOKUP(C106,Master!AQ$60:BC$285,9,FALSE))","v":""},0,0,0,0,0,0,"","","","","","",0,0,"",0,0,0,0,0,0,0,null,null,0,0,0,0,0,0,0,0,0,0,0,0,0,0,0,0,null,null,0,0,1,0,0,0,1,0,1,0,0,""]
["",2202,81,{"$f":"IF(ISNA(VLOOKUP(C107,Master!AQ$60:BC$285,3,FALSE)),\"\",VLOOKUP(C107,Master!AQ$60:BC$285,3,FALSE))","v":""},{"$f":"IF(ISNA(VLOOKUP(C107,Master!AQ$60:BC$285,7,FALSE)),\"\",VLOOKUP(C107,Master!AQ$60:BC$285,7,FALSE))","v":""},{"$f":"IF(ISNA(VLOOKUP(C107,Master!AQ$60:BC$285,8,FALSE)),\"\",VLOOKUP(C107,Master!AQ$60:BC$285,8,FALSE))","v":""},{"$f":"IF(ISNA(VLOOKUP(C107,Master!AQ$60:BC$285,4,FALSE)),\"\",VLOOKUP(C107,Master!AQ$60:BC$285,4,FALSE))","v":""},{"$f":"IF(ISNA(VLOOKUP(C107,Master!AQ$60:BC$285,5,FALSE)),\"\",VLOOKUP(C107,Master!AQ$60:BC$285,5,FALSE))","v":""},{"$f":"IF(ISNA(VLOOKUP(C107,Master!AQ$60:BC$285,6,FALSE)),\"\",VLOOKUP(C107,Master!AQ$60:BC$285,6,FALSE))","v":""},"","","","","",{"$f":"IF(ISNA(VLOOKUP(C107,Master!AQ$60:BC$285,12,FALSE)),\"\",VLOOKUP(C107,Master!AQ$60:BC$285,12,FALSE))","v":""},{"$nulls":3},0,1,{"$f":"IF(ISNA(VLOOKUP(C107,Master!AQ$60:BC$285,10,FALSE)),\"\",VLOOKUP(C107,Master!AQ$60:BC$285,10,FALSE))","v":""},null,null,{"$f":"IF(ISNA(VLOOKUP(C107,Master!AQ$60:BC$285,11,FALSE)),\"\",VLOOKUP(C107,Master!AQ$60:BC$285,11,FALSE))","v":""},{"$f":"IF(ISNA(VLOOKUP(C107,Master!AQ$60:BC$285,9,FALSE)),\"\",VLOOKUP(C107,Master!AQ$60:BC$285,9,FALSE))","v":""},0,0,0,0,0,0,"","","","","","",0,0,"",0,0,0,0,0,0,0,null,null,0,0,0,0,0,0,0,0,0,0,0,0,0,0,0,0,null,null,0,0,1,0,0,0,1,0,1,0,0,""]
["",2202,82,{"$f":"IF(ISNA(VLOOKUP(C108,Master!AQ$60:BC$285,3,FALSE)),\"\",VLOOKUP(C108,Master!AQ$60:BC$285,3,FALSE))","v":""},{"$f":"IF(ISNA(VLOOKUP(C108,Master!AQ$60:BC$285,7,FALSE)),\"\",VLOOKUP(C108,Master!AQ$60:BC$285,7,FALSE))","v":""},{"$f":"IF(ISNA(VLOOKUP(C108,Master!AQ$60:BC$285,8,FALSE)),\"\",VLOOKUP(C108,Master!AQ$60:BC$285,8,FALSE))","v":""},{"$f":"IF(ISNA(VLOOKUP(C108,Master!AQ$60:BC$285,4,FALSE)),\"\",VLOOKUP(C108,Master!AQ$60:BC$285,4,FALSE))","v":""},{"$f":"IF(ISNA(VLOOKUP(C108,Master!AQ$60:BC$285,5,FALSE)),\"\",VLOOKUP(C108,Master!AQ$60:BC$285,5,FALSE))","v":""},{"$f":"IF(ISNA(VLOOKUP(C108,Master!AQ$60:BC$285,6,FALSE)),\"\",VLOOKUP(C108,Master!AQ$60:BC$285,6,FALSE))","v":""},"","","","","",{"$f":"IF(ISNA(VLOOKUP(C108,Master!AQ$60:BC$285,12,FALSE)),\"\",VLOOKUP(C108,Master!AQ$60:BC$285,12,FALSE))","v":""},{"$nulls":3},0,1,{"$f":"IF(ISNA(VLOOKUP(C108,Master!AQ$60:BC$285,10,FALSE)),\"\",VLOOKUP(C108,Master!AQ$60:BC$285,10,FALSE))","v":""},null,null,{"$f":"IF(ISNA(VLOOKUP(C108,Master!AQ$60:BC$285,11,FALSE)),\"\",VLOOKUP(C108,Master!AQ$60:BC$285,11,FALSE))","v":""},{"$f":"IF(ISNA(VLOOKUP(C108,Master!AQ$60:BC$285,9,FALSE)),\"\",VLOOKUP(C108,Master!AQ$60:BC$285,9,FALSE))","v":""},0,0,0,0,0,0,"","","","","","",0,0,"",0,0,0,0,0,0,0,null,null,0,0,0,0,0,0,0,0,0,0,0,0,0,0,0,0,null,null,0,0,1,0,0,0,1,0,1,0,0,""]
["",2202,83,{"$f":"IF(ISNA(VLOOKUP(C109,Master!AQ$60:BC$285,3,FALSE)),\"\",VLOOKUP(C109,Master!AQ$60:BC$285,3,FALSE))","v":""},{"$f":"IF(ISNA(VLOOKUP(C109,Master!AQ$60:BC$285,7,FALSE)),\"\",VLOOKUP(C109,Master!AQ$60:BC$285,7,FALSE))","v":""},{"$f":"IF(ISNA(VLOOKUP(C109,Master!AQ$60:BC$285,8,FALSE)),\"\",VLOOKUP(C109,Master!AQ$60:BC$285,8,FALSE))","v":""},{"$f":"IF(ISNA(VLOOKUP(C109,Master!AQ$60:BC$285,4,FALSE)),\"\",VLOOKUP(C109,Master!AQ$60:BC$285,4,FALSE))","v":""},{"$f":"IF(ISNA(VLOOKUP(C109,Master!AQ$60:BC$285,5,FALSE)),\"\",VLOOKUP(C109,Master!AQ$60:BC$285,5,FALSE))","v":""},{"$f":"IF(ISNA(VLOOKUP(C109,Master!AQ$60:BC$285,6,FALSE)),\"\",VLOOKUP(C109,Master!AQ$60:BC$285,6,FALSE))","v":""},"","","","","",{"$f":"IF(ISNA(VLOOKUP(C109,Master!AQ$60:BC$285,12,FALSE)),\"\",VLOOKUP(C109,Master!AQ$60:BC$285,12,FALSE))","v":""},{"$nulls":3},0,1,{"$f":"IF(ISNA(VLOOKUP(C109,Master!AQ$60:BC$285,10,FALSE)),\"\",VLOOKUP(C109,Master!AQ$60:BC$285,10,FALSE))","v":""},null,null,{"$f":"IF(ISNA(VLOOKUP(C109,Master!AQ$60:BC$285,11,FALSE)),\"\",VLOOKUP(C109,Master!AQ$60:BC$285,11,FALSE))","v":""},{"$f":"IF(ISNA(VLOOKUP(C109,Master!AQ$60:BC$285,9,FALSE)),\"\",VLOOKUP(C109,Master!AQ$60:BC$285,9,FALSE))","v":""},0,0,0,0,0,0,"","","","","","",0,0,"",0,0,0,0,0,0,0,null,null,0,0,0,0,0,0,0,0,0,0,0,0,0,0,0,0,null,null,0,0,1,0,0,0,1,0,1,0,0,""]
["",2202,84,{"$f":"IF(ISNA(VLOOKUP(C110,Master!AQ$60:BC$285,3,FALSE)),\"\",VLOOKUP(C110,Master!AQ$60:BC$285,3,FALSE))","v":""},{"$f":"IF(ISNA(VLOOKUP(C110,Master!AQ$60:BC$285,7,FALSE)),\"\",VLOOKUP(C110,Master!AQ$60:BC$285,7,FALSE))","v":""},{"$f":"IF(ISNA(VLOOKUP(C110,Master!AQ$60:BC$285,8,FALSE)),\"\",VLOOKUP(C110,Master!AQ$60:BC$285,8,FALSE))","v":""},{"$f":"IF(ISNA(VLOOKUP(C110,Master!AQ$60:BC$285,4,FALSE)),\"\",VLOOKUP(C110,Master!AQ$60:BC$285,4,FALSE))","v":""},{"$f":"IF(ISNA(VLOOKUP(C110,Master!AQ$60:BC$285,5,FALSE)),\"\",VLOOKUP(C110,Master!AQ$60:BC$285,5,FALSE))","v":""},{"$f":"IF(ISNA(VLOOKUP(C110,Master!AQ$60:BC$285,6,FALSE)),\"\",VLOOKUP(C110,Master!AQ$60:BC$285,6,FALSE))","v":""},"","","","","",{"$f":"IF(ISNA(VLOOKUP(C110,Master!AQ$60:BC$285,12,FALSE)),\"\",VLOOKUP(C110,Master!AQ$60:BC$285,12,FALSE))","v":""},{"$nulls":3},0,1,{"$f":"IF(ISNA(VLOOKUP(C110,Master!AQ$60:BC$285,10,FALSE)),\"\",VLOOKUP(C110,Master!AQ$60:BC$285,10,FALSE))","v":""},null,null,{"$f":"IF(ISNA(VLOOKUP(C110,Master!AQ$60:BC$285,11,FALSE)),\"\",VLOOKUP(C110,Master!AQ$60:BC$285,11,FALSE))","v":""},{"$f":"IF(ISNA(VLOOKUP(C110,Master!AQ$60:BC$285,9,FALSE)),\"\",VLOOKUP(C110,Master!AQ$60:BC$285,9,FALSE))","v":""},0,0,0,0,0,0,"","","","","","",0,0,"",0,0,0,0,0,0,0,null,null,0,0,0,0,0,0,0,0,0,0,0,0,0,0,0,0,null,null,0,0,1,0,0,0,1,0,1,0,0,""]
["",2202,85,{"$f":"IF(ISNA(VLOOKUP(C111,Master!AQ$60:BC$285,3,FALSE)),\"\",VLOOKUP(C111,Master!AQ$60:BC$285,3,FALSE))","v":""},{"$f":"IF(ISNA(VLOOKUP(C111,Master!AQ$60:BC$285,7,FALSE)),\"\",VLOOKUP(C111,Master!AQ$60:BC$285,7,FALSE))","v":""},{"$f":"IF(ISNA(VLOOKUP(C111,Master!AQ$60:BC$285,8,FALSE)),\"\",VLOOKUP(C111,Master!AQ$60:BC$285,8,FALSE))","v":""},{"$f":"IF(ISNA(VLOOKUP(C111,Master!AQ$60:BC$285,4,FALSE)),\"\",VLOOKUP(C111,Master!AQ$60:BC$285,4,FALSE))","v":""},{"$f":"IF(ISNA(VLOOKUP(C111,Master!AQ$60:BC$285,5,FALSE)),\"\",VLOOKUP(C111,Master!AQ$60:BC$285,5,FALSE))","v":""},{"$f":"IF(ISNA(VLOOKUP(C111,Master!AQ$60:BC$285,6,FALSE)),\"\",VLOOKUP(C111,Master!AQ$60:BC$285,6,FALSE))","v":""},"","","","","",{"$f":"IF(ISNA(VLOOKUP(C111,Master!AQ$60:BC$285,12,FALSE)),\"\",VLOOKUP(C111,Master!AQ$60:BC$285,12,FALSE))","v":""},{"$nulls":3},0,1,{"$f":"IF(ISNA(VLOOKUP(C111,Master!AQ$60:BC$285,10,FALSE)),\"\",VLOOKUP(C111,Master!AQ$60:BC$285,10,FALSE))","v":""},null,null,{"$f":"IF(ISNA(VLOOKUP(C111,Master!AQ$60:BC$285,11,FALSE)),\"\",VLOOKUP(C111,Master!AQ$60:BC$285,11,FALSE))","v":""},{"$f":"IF(ISNA(VLOOKUP(C111,Master!AQ$60:BC$285,9,FALSE)),\"\",VLOOKUP(C111,Master!AQ$60:BC$285,9,FALSE))","v":""},{"$f":"IF(Y111=\"MALE\",1,0)*(IF(G111=\"JAMADAR\",1,0))*(IF(I111<=0,0,1))","v":0},{"$f":"IF(Y111=\"FEMALE\",1,0)*(IF(G111=\"JAMADAR\",1,0))*(IF(I111<=0,0,1))","v":0},{"$f":"IF(Y111=\"MALE\",1,0)*(IF(G111=\"LAB BOY\",1,0))*(IF(I111<=0,0,1))","v":0},{"$f":"IF(Y111=\"FEMALE\",1,0)*(IF(G111=\"LAB BOY\",1,0))*(IF(I111<=0,0,1))","v":0},{"$f":"IF(Y111=\"MALE\",1,0)*(IF(G111=\"PEON\",1,0))*(IF(I111<=0,0,1))","v":0},{"$f":"IF(Y111=\"FEMALE\",1,0)*(IF(G111=\"PEON\",1,0))*(IF(I111<=0,0,1))","v":0},{"$f":"IF(AND(I111=\"\"),\"\",I111-ROUNDUP(ROUND((I111*3%)-(I111*3%)*2.9%,-2),0))","v":""},"","","","","",0,0,"",0,0,0,0,0,0,0,null,null,0,0,0,0,0,0,0,0,0,0,0,0,0,0,0,0,null,null,0,0,1,0,0,0,1,0,1,0,0,""]
["",2202,86,{"$f":"IF(ISNA(VLOOKUP(C112,Master!AQ$60:BC$285,3,FALSE)),\"\",VLOOKUP(C112,Master!AQ$60:BC$285,3,FALSE))","v":""},{"$f":"IF(ISNA(VLOOKUP(C112,Master!AQ$60:BC$285,7,FALSE)),\"\",VLOOKUP(C112,Master!AQ$60:BC$285,7,FALSE))","v":""},{"$f":"IF(ISNA(VLOOKUP(C112,Master!AQ$60:BC$285,8,FALSE)),\"\",VLOOKUP(C112,Master!AQ$60:BC$285,8,FALSE))","v":""},{"$f":"IF(ISNA(VLOOKUP(C112,Master!AQ$60:BC$285,4,FALSE)),\"\",VLOOKUP(C112,Master!AQ$60:BC$285,4,FALSE))","v":""},{"$f":"IF(ISNA(VLOOKUP(C112,Master!AQ$60:BC$285,5,FALSE)),\"\",VLOOKUP(C112,Master!AQ$60:BC$285,5,FALSE))","v":""},{"$f":"IF(ISNA(VLOOKUP(C112,Master!AQ$60:BC$285,6,FALSE)),\"\",VLOOKUP(C112,Master!AQ$60:BC$285,6,FALSE))","v":""},"","","","","",{"$f":"IF(ISNA(VLOOKUP(C112,Master!AQ$60:BC$285,12,FALSE)),\"\",VLOOKUP(C112,Master!AQ$60:BC$285,12,FALSE))","v":""},{"$nulls":3},0,1,{"$f":"IF(ISNA(VLOOKUP(C112,Master!AQ$60:BC$285,10,FALSE)),\"\",VLOOKUP(C112,Master!AQ$60:BC$285,10,FALSE))","v":""},null,null,{"$f":"IF(ISNA(VLOOKUP(C112,Master!AQ$60:BC$285,11,FALSE)),\"\",VLOOKUP(C112,Master!AQ$60:BC$285,11,FALSE))","v":""},{"$f":"IF(ISNA(VLOOKUP(C112,Master!AQ$60:BC$285,9,FALSE)),\"\",VLOOKUP(C112,Master!AQ$60:BC$285,9,FALSE))","v":""},0,0,0,0,0,0,"","","","","","",0,0,"",0,0,0,0,0,0,0,null,null,0,0,0,0,0,0,0,0,0,0,0,0,0,0,0,0,null,null,0,0,1,0,0,0,1,0,1,0,0,""]
["",2202,87,{"$f":"IF(ISNA(VLOOKUP(C113,Master!AQ$60:BC$285,3,FALSE)),\"\",VLOOKUP(C113,Master!AQ$60:BC$285,3,FALSE))","v":""},{"$f":"IF(ISNA(VLOOKUP(C113,Master!AQ$60:BC$285,7,FALSE)),\"\",VLOOKUP(C113,Master!AQ$60:BC$285,7,FALSE))","v":""},{"$f":"IF(ISNA(VLOOKUP(C113,Master!AQ$60:BC$285,8,FALSE)),\"\",VLOOKUP(C113,Master!AQ$60:BC$285,8,FALSE))","v":""},{"$f":"IF(ISNA(VLOOKUP(C113,Master!AQ$60:BC$285,4,FALSE)),\"\",VLOOKUP(C113,Master!AQ$60:BC$285,4,FALSE))","v":""},{"$f":"IF(ISNA(VLOOKUP(C113,Master!AQ$60:BC$285,5,FALSE)),\"\",VLOOKUP(C113,Master!AQ$60:BC$285,5,FALSE))","v":""},{"$f":"IF(ISNA(VLOOKUP(C113,Master!AQ$60:BC$285,6,FALSE)),\"\",VLOOKUP(C113,Master!AQ$60:BC$285,6,FALSE))","v":""},"","","","","",{"$f":"IF(ISNA(VLOOKUP(C113,Master!AQ$60:BC$285,12,FALSE)),\"\",VLOOKUP(C113,Master!AQ$60:BC$285,12,FALSE))","v":""},{"$nulls":3},0,1,{"$f":"IF(ISNA(VLOOKUP(C113,Master!AQ$60:BC$285,10,FALSE)),\"\",VLOOKUP(C113,Master!AQ$60:BC$285,10,FALSE))","v":""},null,null,{"$f":"IF(ISNA(VLOOKUP(C113,Master!AQ$60:BC$285,11,FALSE)),\"\",VLOOKUP(C113,Master!AQ$60:BC$285,11,FALSE))","v":""},{"$f":"IF(ISNA(VLOOKUP(C113,Master!AQ$60:BC$285,9,FALSE)),\"\",VLOOKUP(C113,Master!AQ$60:BC$285,9,FALSE))","v":""},0,0,0,0,0,0,"","","","","","",0,0,"",0,0,0,0,0,0,0,null,null,0,0,0,0,0,0,0,0,0,0,0,0,0,0,0,0,null,null,0,0,1,0,0,0,1,0,1,0,0,""]
["",2202,88,{"$f":"IF(ISNA(VLOOKUP(C114,Master!AQ$60:BC$285,3,FALSE)),\"\",VLOOKUP(C114,Master!AQ$60:BC$285,3,FALSE))","v":""},{"$f":"IF(ISNA(VLOOKUP(C114,Master!AQ$60:BC$285,7,FALSE)),\"\",VLOOKUP(C114,Master!AQ$60:BC$285,7,FALSE))","v":""},{"$f":"IF(ISNA(VLOOKUP(C114,Master!AQ$60:BC$285,8,FALSE)),\"\",VLOOKUP(C114,Master!AQ$60:BC$285,8,FALSE))","v":""},{"$f":"IF(ISNA(VLOOKUP(C114,Master!AQ$60:BC$285,4,FALSE)),\"\",VLOOKUP(C114,Master!AQ$60:BC$285,4,FALSE))","v":""},{"$f":"IF(ISNA(VLOOKUP(C114,Master!AQ$60:BC$285,5,FALSE)),\"\",VLOOKUP(C114,Master!AQ$60:BC$285,5,FALSE))","v":""},{"$f":"IF(ISNA(VLOOKUP(C114,Master!AQ$60:BC$285,6,FALSE)),\"\",VLOOKUP(C114,Master!AQ$60:BC$285,6,FALSE))","v":""},"","","","","",{"$f":"IF(ISNA(VLOOKUP(C114,Master!AQ$60:BC$285,12,FALSE)),\"\",VLOOKUP(C114,Master!AQ$60:BC$285,12,FALSE))","v":""},{"$nulls":3},0,1,{"$f":"IF(ISNA(VLOOKUP(C114,Master!AQ$60:BC$285,10,FALSE)),\"\",VLOOKUP(C114,Master!AQ$60:BC$285,10,FALSE))","v":""},null,null,{"$f":"IF(ISNA(VLOOKUP(C114,Master!AQ$60:BC$285,11,FALSE)),\"\",VLOOKUP(C114,Master!AQ$60:BC$285,11,FALSE))","v":""},{"$f":"IF(ISNA(VLOOKUP(C114,Master!AQ$60:BC$285,9,FALSE)),\"\",VLOOKUP(C114,Master!AQ$60:BC$285,9,FALSE))","v":""},0,0,0,0,0,0,"","","","","","",0,0,"",0,0,0,0,0,0,0,null,null,0,0,0,0,0,0,0,0,0,0,0,0,0,0,0,0,null,null,0,0,1,0,0,0,1,0,1,0,0,""]
["",2202,89,{"$f":"IF(ISNA(VLOOKUP(C115,Master!AQ$60:BC$285,3,FALSE)),\"\",VLOOKUP(C115,Master!AQ$60:BC$285,3,FALSE))","v":""},{"$f":"IF(ISNA(VLOOKUP(C115,Master!AQ$60:BC$285,7,FALSE)),\"\",VLOOKUP(C115,Master!AQ$60:BC$285,7,FALSE))","v":""},{"$f":"IF(ISNA(VLOOKUP(C115,Master!AQ$60:BC$285,8,FALSE)),\"\",VLOOKUP(C115,Master!AQ$60:BC$285,8,FALSE))","v":""},{"$f":"IF(ISNA(VLOOKUP(C115,Master!AQ$60:BC$285,4,FALSE)),\"\",VLOOKUP(C115,Master!AQ$60:BC$285,4,FALSE))","v":""},{"$f":"IF(ISNA(VLOOKUP(C115,Master!AQ$60:BC$285,5,FALSE)),\"\",VLOOKUP(C115,Master!AQ$60:BC$285,5,FALSE))","v":""},{"$f":"IF(ISNA(VLOOKUP(C115,Master!AQ$60:BC$285,6,FALSE)),\"\",VLOOKUP(C115,Master!AQ$60:BC$285,6,FALSE))","v":""},"","","","","",{"$f":"IF(ISNA(VLOOKUP(C115,Master!AQ$60:BC$285,12,FALSE)),\"\",VLOOKUP(C115,Master!AQ$60:BC$285,12,FALSE))","v":""},{"$nulls":3},0,1,{"$f":"IF(ISNA(VLOOKUP(C115,Master!AQ$60:BC$285,10,FALSE)),\"\",VLOOKUP(C115,Master!AQ$60:BC$285,10,FALSE))","v":""},null,null,{"$f":"IF(ISNA(VLOOKUP(C115,Master!AQ$60:BC$285,11,FALSE)),\"\",VLOOKUP(C115,Master!AQ$60:BC$285,11,FALSE))","v":""},{"$f":"IF(ISNA(VLOOKUP(C115,Master!AQ$60:BC$285,9,FALSE)),\"\",VLOOKUP(C115,Master!AQ$60:BC$285,9,FALSE))","v":""},0,0,0,0,0,0,"",{"$f":"IF(AND(I115=\"\"),\"\",$M115*$BQ115)","v":""},{"$f":"IF(AND(I115=\"\"),\"\",$M115*$BR115)","v":""},{"$f":"IF(AND(I115=\"\"),\"\",$M115*$BS115)","v":""},{"$f":"IF(AND(I115=\"\"),\"\",$M115*$BT115)","v":""},{"$f":"IF(AND(I115=\"\"),\"\",ROUND((AG115+AH115)*$AK$10,0)*BU115)","v":""},0,0,{"$f":"IF(AND(I115=\"\"),\"\",ROUND((AG115+AH115)*$AN$10,0)*BU115)","v":""},0,0,0,0,0,0,0,null,null,{"$f":"AU115+AV115+AW115","v":0},0,0,0,0,{"$f":"ROUND((AY115+AZ115)*$BC$10,0)*BU115","v":0},0,0,{"$f":"ROUND((AY115+AZ115)*$BF$10,0)*BU115","v":0},0,0,0,0,0,{"$f":"SUM(BC115:BK115)+AY115+AZ115","v":0},{"$f":"BL115","v":0},null,null,{"$f":"BM115+BN115+BO115","v":0},0,1,0,0,0,{"$f":"IF(X115=\"No\",0,1)","v":1},0,{"$f":"IF(I115<=0,0,1)","v":1},0,0,""]
["",2202,90,{"$f":"IF(ISNA(VLOOKUP(C116,Master!AQ$60:BC$285,3,FALSE)),\"\",VLOOKUP(C116,Master!AQ$60:BC$285,3,FALSE))","v":""},{"$f":"IF(ISNA(VLOOKUP(C116,Master!AQ$60:BC$285,7,FALSE)),\"\",VLOOKUP(C116,Master!AQ$60:BC$285,7,FALSE))","v":""},{"$f":"IF(ISNA(VLOOKUP(C116,Master!AQ$60:BC$285,8,FALSE)),\"\",VLOOKUP(C116,Master!AQ$60:BC$285,8,FALSE))","v":""},{"$f":"IF(ISNA(VLOOKUP(C116,Master!AQ$60:BC$285,4,FALSE)),\"\",VLOOKUP(C116,Master!AQ$60:BC$285,4,FALSE))","v":""},{"$f":"IF(ISNA(VLOOKUP(C116,Master!AQ$60:BC$285,5,FALSE)),\"\",VLOOKUP(C116,Master!AQ$60:BC$285,5,FALSE))","v":""},{"$f":"IF(ISNA(VLOOKUP(C116,Master!AQ$60:BC$285,6,FALSE)),\"\",VLOOKUP(C116,Master!AQ$60:BC$285,6,FALSE))","v":""},"","","","","",{"$f":"IF(ISNA(VLOOKUP(C116,Master!AQ$60:BC$285,12,FALSE)),\"\",VLOOKUP(C116,Master!AQ$60:BC$285,12,FALSE))","v":""},{"$nulls":3},0,1,{"$f":"IF(ISNA(VLOOKUP(C116,Master!AQ$60:BC$285,10,FALSE)),\"\",VLOOKUP(C116,Master!AQ$60:BC$285,10,FALSE))","v":""},null,null,{"$f":"IF(ISNA(VLOOKUP(C116,Master!AQ$60:BC$285,11,FALSE)),\"\",VLOOKUP(C116,Master!AQ$60:BC$285,11,FALSE))","v":""},{"$f":"IF(ISNA(VLOOKUP(C116,Master!AQ$60:BC$285,9,FALSE)),\"\",VLOOKUP(C116,Master!AQ$60:BC$285,9,FALSE))","v":""},0,0,0,0,0,0,"",{"$f":"IF(AND(I116=\"\"),\"\",$M116*$BQ116)","v":""},{"$f":"IF(AND(I116=\"\"),\"\",$M116*$BR116)","v":""},{"$f":"IF(AND(I116=\"\"),\"\",$M116*$BS116)","v":""},{"$f":"IF(AND(I116=\"\"),\"\",$M116*$BT116)","v":""},{"$f":"IF(AND(I116=\"\"),\"\",ROUND((AG116+AH116)*$AK$10,0)*BU116)","v":""},0,0,{"$f":"IF(AND(I116=\"\"),\"\",ROUND((AG116+AH116)*$AN$10,0)*BU116)","v":""},0,0,0,0,0,0,0,null,null,{"$f":"AU116+AV116+AW116","v":0},0,0,0,0,{"$f":"ROUND((AY116+AZ116)*$BC$10,0)*BU116","v":0},0,0,{"$f":"ROUND((AY116+AZ116)*$BF$10,0)*BU116","v":0},0,0,0,0,0,{"$f":"SUM(BC116:BK116)+AY116+AZ116","v":0},{"$f":"BL116","v":0},null,null,{"$f":"BM116+BN116+BO116","v":0},0,1,0,0,0,{"$f":"IF(X116=\"No\",0,1)","v":1},0,{"$f":"IF(I116<=0,0,1)","v":1},0,0,""]
["",2202,91,{"$f":"IF(ISNA(VLOOKUP(C117,Master!AQ$60:BC$285,3,FALSE)),\"\",VLOOKUP(C117,Master!AQ$60:BC$285,3,FALSE))","v":""},{"$f":"IF(ISNA(VLOOKUP(C117,Master!AQ$60:BC$285,7,FALSE)),\"\",VLOOKUP(C117,Master!AQ$60:BC$285,7,FALSE))","v":""},{"$f":"IF(ISNA(VLOOKUP(C117,Master!AQ$60:BC$285,8,FALSE)),\"\",VLOOKUP(C117,Master!AQ$60:BC$285,8,FALSE))","v":""},{"$f":"IF(ISNA(VLOOKUP(C117,Master!AQ$60:BC$285,4,FALSE)),\"\",VLOOKUP(C117,Master!AQ$60:BC$285,4,FALSE))","v":""},{"$f":"IF(ISNA(VLOOKUP(C117,Master!AQ$60:BC$285,5,FALSE)),\"\",VLOOKUP(C117,Master!AQ$60:BC$285,5,FALSE))","v":""},{"$f":"IF(ISNA(VLOOKUP(C117,Master!AQ$60:BC$285,6,FALSE)),\"\",VLOOKUP(C117,Master!AQ$60:BC$285,6,FALSE))","v":""},"","","","","",{"$f":"IF(ISNA(VLOOKUP(C117,Master!AQ$60:BC$285,12,FALSE)),\"\",VLOOKUP(C117,Master!AQ$60:BC$285,12,FALSE))","v":""},{"$nulls":3},0,1,{"$f":"IF(ISNA(VLOOKUP(C117,Master!AQ$60:BC$285,10,FALSE)),\"\",VLOOKUP(C117,Master!AQ$60:BC$285,10,FALSE))","v":""},null,null,{"$f":"IF(ISNA(VLOOKUP(C117,Master!AQ$60:BC$285,11,FALSE)),\"\",VLOOKUP(C117,Master!AQ$60:BC$285,11,FALSE))","v":""},{"$f":"IF(ISNA(VLOOKUP(C117,Master!AQ$60:BC$285,9,FALSE)),\"\",VLOOKUP(C117,Master!AQ$60:BC$285,9,FALSE))","v":""},0,0,0,0,0,0,"","","","","","",0,0,"",0,0,0,0,0,0,0,null,null,0,0,0,0,0,0,0,0,0,0,0,0,0,0,0,0,null,null,0,0,1,0,0,0,1,0,1,0,0,""]
["",2202,92,{"$f":"IF(ISNA(VLOOKUP(C118,Master!AQ$60:BC$285,3,FALSE)),\"\",VLOOKUP(C118,Master!AQ$60:BC$285,3,FALSE))","v":""},{"$f":"IF(ISNA(VLOOKUP(C118,Master!AQ$60:BC$285,7,FALSE)),\"\",VLOOKUP(C118,Master!AQ$60:BC$285,7,FALSE))","v":""},{"$f":"IF(ISNA(VLOOKUP(C118,Master!AQ$60:BC$285,8,FALSE)),\"\",VLOOKUP(C118,Master!AQ$60:BC$285,8,FALSE))","v":""},{"$f":"IF(ISNA(VLOOKUP(C118,Master!AQ$60:BC$285,4,FALSE)),\"\",VLOOKUP(C118,Master!AQ$60:BC$285,4,FALSE))","v":""},{"$f":"IF(ISNA(VLOOKUP(C118,Master!AQ$60:BC$285,5,FALSE)),\"\",VLOOKUP(C118,Master!AQ$60:BC$285,5,FALSE))","v":""},{"$f":"IF(ISNA(VLOOKUP(C118,Master!AQ$60:BC$285,6,FALSE)),\"\",VLOOKUP(C118,Master!AQ$60:BC$285,6,FALSE))","v":""},"","","","","",{"$f":"IF(ISNA(VLOOKUP(C118,Master!AQ$60:BC$285,12,FALSE)),\"\",VLOOKUP(C118,Master!AQ$60:BC$285,12,FALSE))","v":""},{"$nulls":3},0,1,{"$f":"IF(ISNA(VLOOKUP(C118,Master!AQ$60:BC$285,10,FALSE)),\"\",VLOOKUP(C118,Master!AQ$60:BC$285,10,FALSE))","v":""},null,null,{"$f":"IF(ISNA(VLOOKUP(C118,Master!AQ$60:BC$285,11,FALSE)),\"\",VLOOKUP(C118,Master!AQ$60:BC$285,11,FALSE))","v":""},{"$f":"IF(ISNA(VLOOKUP(C118,Master!AQ$60:BC$285,9,FALSE)),\"\",VLOOKUP(C118,Master!AQ$60:BC$285,9,FALSE))","v":""},0,0,0,0,0,0,"","","","","","",0,0,"",0,0,0,0,0,0,0,null,null,0,0,0,0,0,0,0,0,0,0,0,0,0,0,0,0,null,null,0,0,1,0,0,0,1,0,1,0,0,""]
["",2202,93,{"$f":"IF(ISNA(VLOOKUP(C119,Master!AQ$60:BC$285,3,FALSE)),\"\",VLOOKUP(C119,Master!AQ$60:BC$285,3,FALSE))","v":""},{"$f":"IF(ISNA(VLOOKUP(C119,Master!AQ$60:BC$285,7,FALSE)),\"\",VLOOKUP(C119,Master!AQ$60:BC$285,7,FALSE))","v":""},{"$f":"IF(ISNA(VLOOKUP(C119,Master!AQ$60:BC$285,8,FALSE)),\"\",VLOOKUP(C119,Master!AQ$60:BC$285,8,FALSE))","v":""},{"$f":"IF(ISNA(VLOOKUP(C119,Master!AQ$60:BC$285,4,FALSE)),\"\",VLOOKUP(C119,Master!AQ$60:BC$285,4,FALSE))","v":""},{"$f":"IF(ISNA(VLOOKUP(C119,Master!AQ$60:BC$285,5,FALSE)),\"\",VLOOKUP(C119,Master!AQ$60:BC$285,5,FALSE))","v":""},{"$f":"IF(ISNA(VLOOKUP(C119,Master!AQ$60:BC$285,6,FALSE)),\"\",VLOOKUP(C119,Master!AQ$60:BC$285,6,FALSE))","v":""},"","","","","",{"$f":"IF(ISNA(VLOOKUP(C119,Master!AQ$60:BC$285,12,FALSE)),\"\",VLOOKUP(C119,Master!AQ$60:BC$285,12,FALSE))","v":""},{"$nulls":3},0,1,{"$f":"IF(ISNA(VLOOKUP(C119,Master!AQ$60:BC$285,10,FALSE)),\"\",VLOOKUP(C119,Master!AQ$60:BC$285,10,FALSE))","v":""},null,null,{"$f":"IF(ISNA(VLOOKUP(C119,Master!AQ$60:BC$285,11,FALSE)),\"\",VLOOKUP(C119,Master!AQ$60:BC$285,11,FALSE))","v":""},{"$f":"IF(ISNA(VLOOKUP(C119,Master!AQ$60:BC$285,9,FALSE)),\"\",VLOOKUP(C119,Master!AQ$60:BC$285,9,FALSE))","v":""},0,0,0,0,0,0,"","","","","","",0,0,"",0,0,0,0,0,0,0,null,null,0,0,0,0,0,0,0,0,0,0,0,0,0,0,0,0,null,null,0,0,1,0,0,0,1,0,1,0,0,""]
["",2202,94,{"$f":"IF(ISNA(VLOOKUP(C120,Master!AQ$60:BC$285,3,FALSE)),\"\",VLOOKUP(C120,Master!AQ$60:BC$285,3,FALSE))","v":""},{"$f":"IF(ISNA(VLOOKUP(C120,Master!AQ$60:BC$285,7,FALSE)),\"\",VLOOKUP(C120,Master!AQ$60:BC$285,7,FALSE))","v":""},{"$f":"IF(ISNA(VLOOKUP(C120,Master!AQ$60:BC$285,8,FALSE)),\"\",VLOOKUP(C120,Master!AQ$60:BC$285,8,FALSE))","v":""},{"$f":"IF(ISNA(VLOOKUP(C120,Master!AQ$60:BC$285,4,FALSE)),\"\",VLOOKUP(C120,Master!AQ$60:BC$285,4,FALSE))","v":""},{"$f":"IF(ISNA(VLOOKUP(C120,Master!AQ$60:BC$285,5,FALSE)),\"\",VLOOKUP(C120,Master!AQ$60:BC$285,5,FALSE))","v":""},{"$f":"IF(ISNA(VLOOKUP(C120,Master!AQ$60:BC$285,6,FALSE)),\"\",VLOOKUP(C120,Master!AQ$60:BC$285,6,FALSE))","v":""},"","","","","",{"$f":"IF(ISNA(VLOOKUP(C120,Master!AQ$60:BC$285,12,FALSE)),\"\",VLOOKUP(C120,Master!AQ$60:BC$285,12,FALSE))","v":""},{"$nulls":3},0,1,{"$f":"IF(ISNA(VLOOKUP(C120,Master!AQ$60:BC$285,10,FALSE)),\"\",VLOOKUP(C120,Master!AQ$60:BC$285,10,FALSE))","v":""},null,null,{"$f":"IF(ISNA(VLOOKUP(C120,Master!AQ$60:BC$285,11,FALSE)),\"\",VLOOKUP(C120,Master!AQ$60:BC$285,11,FALSE))","v":""},{"$f":"IF(ISNA(VLOOKUP(C120,Master!AQ$60:BC$285,9,FALSE)),\"\",VLOOKUP(C120,Master!AQ$60:BC$285,9,FALSE))","v":""},0,0,0,0,0,0,"","","","","","",0,0,"",0,0,0,0,0,0,0,null,null,0,0,0,0,0,0,0,0,0,0,0,0,0,0,0,0,null,null,0,0,1,0,0,0,1,0,1,0,0,""]
["",2202,95,{"$f":"IF(ISNA(VLOOKUP(C121,Master!AQ$60:BC$285,3,FALSE)),\"\",VLOOKUP(C121,Master!AQ$60:BC$285,3,FALSE))","v":""},{"$f":"IF(ISNA(VLOOKUP(C121,Master!AQ$60:BC$285,7,FALSE)),\"\",VLOOKUP(C121,Master!AQ$60:BC$285,7,FALSE))","v":""},{"$f":"IF(ISNA(VLOOKUP(C121,Master!AQ$60:BC$285,8,FALSE)),\"\",VLOOKUP(C121,Master!AQ$60:BC$285,8,FALSE))","v":""},{"$f":"IF(ISNA(VLOOKUP(C121,Master!AQ$60:BC$285,4,FALSE)),\"\",VLOOKUP(C121,Master!AQ$60:BC$285,4,FALSE))","v":""},{"$f":"IF(ISNA(VLOOKUP(C121,Master!AQ$60:BC$285,5,FALSE)),\"\",VLOOKUP(C121,Master!AQ$60:BC$285,5,FALSE))","v":""},{"$f":"IF(ISNA(VLOOKUP(C121,Master!AQ$60:BC$285,6,FALSE)),\"\",VLOOKUP(C121,Master!AQ$60:BC$285,6,FALSE))","v":""},"","","","","",{"$f":"IF(ISNA(VLOOKUP(C121,Master!AQ$60:BC$285,12,FALSE)),\"\",VLOOKUP(C121,Master!AQ$60:BC$285,12,FALSE))","v":""},{"$nulls":3},0,1,{"$f":"IF(ISNA(VLOOKUP(C121,Master!AQ$60:BC$285,10,FALSE)),\"\",VLOOKUP(C121,Master!AQ$60:BC$285,10,FALSE))","v":""},null,null,{"$f":"IF(ISNA(VLOOKUP(C121,Master!AQ$60:BC$285,11,FALSE)),\"\",VLOOKUP(C121,Master!AQ$60:BC$285,11,FALSE))","v":""},{"$f":"IF(ISNA(VLOOKUP(C121,Master!AQ$60:BC$285,9,FALSE)),\"\",VLOOKUP(C121,Master!AQ$60:BC$285,9,FALSE))","v":""},0,0,0,0,0,0,"","","","","","",0,0,"",0,0,0,0,0,0,0,null,null,0,0,0,0,0,0,0,0,0,0,0,0,0,0,0,0,null,null,0,0,1,0,0,0,1,0,1,0,0,""]
["",2202,96,{"$f":"IF(ISNA(VLOOKUP(C122,Master!AQ$60:BC$285,3,FALSE)),\"\",VLOOKUP(C122,Master!AQ$60:BC$285,3,FALSE))","v":""},{"$f":"IF(ISNA(VLOOKUP(C122,Master!AQ$60:BC$285,7,FALSE)),\"\",VLOOKUP(C122,Master!AQ$60:BC$285,7,FALSE))","v":""},{"$f":"IF(ISNA(VLOOKUP(C122,Master!AQ$60:BC$285,8,FALSE)),\"\",VLOOKUP(C122,Master!AQ$60:BC$285,8,FALSE))","v":""},{"$f":"IF(ISNA(VLOOKUP(C122,Master!AQ$60:BC$285,4,FALSE)),\"\",VLOOKUP(C122,Master!AQ$60:BC$285,4,FALSE))","v":""},{"$f":"IF(ISNA(VLOOKUP(C122,Master!AQ$60:BC$285,5,FALSE)),\"\",VLOOKUP(C122,Master!AQ$60:BC$285,5,FALSE))","v":""},{"$f":"IF(ISNA(VLOOKUP(C122,Master!AQ$60:BC$285,6,FALSE)),\"\",VLOOKUP(C122,Master!AQ$60:BC$285,6,FALSE))","v":""},"","","","","",{"$f":"IF(ISNA(VLOOKUP(C122,Master!AQ$60:BC$285,12,FALSE)),\"\",VLOOKUP(C122,Master!AQ$60:BC$285,12,FALSE))","v":""},{"$nulls":3},0,1,{"$f":"IF(ISNA(VLOOKUP(C122,Master!AQ$60:BC$285,10,FALSE)),\"\",VLOOKUP(C122,Master!AQ$60:BC$285,10,FALSE))","v":""},null,null,{"$f":"IF(ISNA(VLOOKUP(C122,Master!AQ$60:BC$285,11,FALSE)),\"\",VLOOKUP(C122,Master!AQ$60:BC$285,11,FALSE))","v":""},{"$f":"IF(ISNA(VLOOKUP(C122,Master!AQ$60:BC$285,9,FALSE)),\"\",VLOOKUP(C122,Master!AQ$60:BC$285,9,FALSE))","v":""},0,0,0,0,0,0,"","","","","","",0,0,"",0,0,0,0,0,0,0,null,null,0,0,0,0,0,0,0,0,0,0,0,0,0,0,0,0,null,null,0,0,1,0,0,0,1,0,1,0,0,""]
["",2202,97,{"$f":"IF(ISNA(VLOOKUP(C123,Master!AQ$60:BC$285,3,FALSE)),\"\",VLOOKUP(C123,Master!AQ$60:BC$285,3,FALSE))","v":""},{"$f":"IF(ISNA(VLOOKUP(C123,Master!AQ$60:BC$285,7,FALSE)),\"\",VLOOKUP(C123,Master!AQ$60:BC$285,7,FALSE))","v":""},{"$f":"IF(ISNA(VLOOKUP(C123,Master!AQ$60:BC$285,8,FALSE)),\"\",VLOOKUP(C123,Master!AQ$60:BC$285,8,FALSE))","v":""},{"$f":"IF(ISNA(VLOOKUP(C123,Master!AQ$60:BC$285,4,FALSE)),\"\",VLOOKUP(C123,Master!AQ$60:BC$285,4,FALSE))","v":""},{"$f":"IF(ISNA(VLOOKUP(C123,Master!AQ$60:BC$285,5,FALSE)),\"\",VLOOKUP(C123,Master!AQ$60:BC$285,5,FALSE))","v":""},{"$f":"IF(ISNA(VLOOKUP(C123,Master!AQ$60:BC$285,6,FALSE)),\"\",VLOOKUP(C123,Master!AQ$60:BC$285,6,FALSE))","v":""},"","","","","",{"$f":"IF(ISNA(VLOOKUP(C123,Master!AQ$60:BC$285,12,FALSE)),\"\",VLOOKUP(C123,Master!AQ$60:BC$285,12,FALSE))","v":""},{"$nulls":3},0,1,{"$f":"IF(ISNA(VLOOKUP(C123,Master!AQ$60:BC$285,10,FALSE)),\"\",VLOOKUP(C123,Master!AQ$60:BC$285,10,FALSE))","v":""},null,null,{"$f":"IF(ISNA(VLOOKUP(C123,Master!AQ$60:BC$285,11,FALSE)),\"\",VLOOKUP(C123,Master!AQ$60:BC$285,11,FALSE))","v":""},{"$f":"IF(ISNA(VLOOKUP(C123,Master!AQ$60:BC$285,9,FALSE)),\"\",VLOOKUP(C123,Master!AQ$60:BC$285,9,FALSE))","v":""},0,0,0,0,0,0,"","","","","","",0,0,"",0,0,0,0,0,0,0,null,null,0,0,0,0,0,0,0,0,0,0,0,0,0,0,0,0,null,null,0,0,1,0,0,0,1,{"$f":"IF((ROUND((SUMPRODUCT(MID(0&E123,LARGE(INDEX(ISNUMBER(--MID(E123,ROW($1:$25),1))* ROW($1:$25),0),ROW($1:$25))+1,1)*10^ROW($1:$25)/10)),-8)/100000000)>=2004,1,0)","v":0},1,0,0,{"$f":"IF(AND(E123=\"\"),\"\",IF(AND(E123<=0),\"\",IF((ROUND((SUMPRODUCT(MID(0&E123,LARGE(INDEX(ISNUMBER(--MID(E123,ROW($1:$70),1))* ROW($1:$70),0),ROW($1:$70))+1,1)*10^ROW($1:$70)/10)),-8)/100000000)<2004,1,0)))","v":""}]
["",2202,98,{"$f":"IF(ISNA(VLOOKUP(C124,Master!AQ$60:BC$285,3,FALSE)),\"\",VLOOKUP(C124,Master!AQ$60:BC$285,3,FALSE))","v":""},{"$f":"IF(ISNA(VLOOKUP(C124,Master!AQ$60:BC$285,7,FALSE)),\"\",VLOOKUP(C124,Master!AQ$60:BC$285,7,FALSE))","v":""},{"$f":"IF(ISNA(VLOOKUP(C124,Master!AQ$60:BC$285,8,FALSE)),\"\",VLOOKUP(C124,Master!AQ$60:BC$285,8,FALSE))","v":""},{"$f":"IF(ISNA(VLOOKUP(C124,Master!AQ$60:BC$285,4,FALSE)),\"\",VLOOKUP(C124,Master!AQ$60:BC$285,4,FALSE))","v":""},{"$f":"IF(ISNA(VLOOKUP(C124,Master!AQ$60:BC$285,5,FALSE)),\"\",VLOOKUP(C124,Master!AQ$60:BC$285,5,FALSE))","v":""},{"$f":"IF(ISNA(VLOOKUP(C124,Master!AQ$60:BC$285,6,FALSE)),\"\",VLOOKUP(C124,Master!AQ$60:BC$285,6,FALSE))","v":""},"","","","","",{"$f":"IF(ISNA(VLOOKUP(C124,Master!AQ$60:BC$285,12,FALSE)),\"\",VLOOKUP(C124,Master!AQ$60:BC$285,12,FALSE))","v":""},{"$nulls":3},0,1,{"$f":"IF(ISNA(VLOOKUP(C124,Master!AQ$60:BC$285,10,FALSE)),\"\",VLOOKUP(C124,Master!AQ$60:BC$285,10,FALSE))","v":""},null,null,{"$f":"IF(ISNA(VLOOKUP(C124,Master!AQ$60:BC$285,11,FALSE)),\"\",VLOOKUP(C124,Master!AQ$60:BC$285,11,FALSE))","v":""},{"$f":"IF(ISNA(VLOOKUP(C124,Master!AQ$60:BC$285,9,FALSE)),\"\",VLOOKUP(C124,Master!AQ$60:BC$285,9,FALSE))","v":""},0,0,0,0,0,0,"","","","","","",0,0,"",0,0,0,0,0,0,0,null,null,0,0,0,0,0,0,0,0,0,0,0,0,0,0,0,0,null,null,0,0,1,0,0,0,1,0,1,0,0,""]
["",2202,99,{"$f":"IF(ISNA(VLOOKUP(C125,Master!AQ$60:BC$285,3,FALSE)),\"\",VLOOKUP(C125,Master!AQ$60:BC$285,3,FALSE))","v":""},{"$f":"IF(ISNA(VLOOKUP(C125,Master!AQ$60:BC$285,7,FALSE)),\"\",VLOOKUP(C125,Master!AQ$60:BC$285,7,FALSE))","v":""},{"$f":"IF(ISNA(VLOOKUP(C125,Master!AQ$60:BC$285,8,FALSE)),\"\",VLOOKUP(C125,Master!AQ$60:BC$285,8,FALSE))","v":""},{"$f":"IF(ISNA(VLOOKUP(C125,Master!AQ$60:BC$285,4,FALSE)),\"\",VLOOKUP(C125,Master!AQ$60:BC$285,4,FALSE))","v":""},{"$f":"IF(ISNA(VLOOKUP(C125,Master!AQ$60:BC$285,5,FALSE)),\"\",VLOOKUP(C125,Master!AQ$60:BC$285,5,FALSE))","v":""},{"$f":"IF(ISNA(VLOOKUP(C125,Master!AQ$60:BC$285,6,FALSE)),\"\",VLOOKUP(C125,Master!AQ$60:BC$285,6,FALSE))","v":""},"","","","","",{"$f":"IF(ISNA(VLOOKUP(C125,Master!AQ$60:BC$285,12,FALSE)),\"\",VLOOKUP(C125,Master!AQ$60:BC$285,12,FALSE))","v":""},{"$nulls":3},0,1,{"$f":"IF(ISNA(VLOOKUP(C125,Master!AQ$60:BC$285,10,FALSE)),\"\",VLOOKUP(C125,Master!AQ$60:BC$285,10,FALSE))","v":""},null,null,{"$f":"IF(ISNA(VLOOKUP(C125,Master!AQ$60:BC$285,11,FALSE)),\"\",VLOOKUP(C125,Master!AQ$60:BC$285,11,FALSE))","v":""},{"$f":"IF(ISNA(VLOOKUP(C125,Master!AQ$60:BC$285,9,FALSE)),\"\",VLOOKUP(C125,Master!AQ$60:BC$285,9,FALSE))","v":""},0,0,0,0,0,0,"","","","","","",0,0,"",0,0,0,0,0,0,0,null,null,0,0,0,0,0,0,0,0,0,0,0,0,0,0,0,0,null,null,0,0,1,0,0,0,1,0,1,0,0,""]
["",2202,100,{"$f":"IF(ISNA(VLOOKUP(C126,Master!AQ$60:BC$285,3,FALSE)),\"\",VLOOKUP(C126,Master!AQ$60:BC$285,3,FALSE))","v":""},{"$f":"IF(ISNA(VLOOKUP(C126,Master!AQ$60:BC$285,7,FALSE)),\"\",VLOOKUP(C126,Master!AQ$60:BC$285,7,FALSE))","v":""},{"$f":"IF(ISNA(VLOOKUP(C126,Master!AQ$60:BC$285,8,FALSE)),\"\",VLOOKUP(C126,Master!AQ$60:BC$285,8,FALSE))","v":""},{"$f":"IF(ISNA(VLOOKUP(C126,Master!AQ$60:BC$285,4,FALSE)),\"\",VLOOKUP(C126,Master!AQ$60:BC$285,4,FALSE))","v":""},{"$f":"IF(ISNA(VLOOKUP(C126,Master!AQ$60:BC$285,5,FALSE)),\"\",VLOOKUP(C126,Master!AQ$60:BC$285,5,FALSE))","v":""},{"$f":"IF(ISNA(VLOOKUP(C126,Master!AQ$60:BC$285,6,FALSE)),\"\",VLOOKUP(C126,Master!AQ$60:BC$285,6,FALSE))","v":""},"","","","","",{"$f":"IF(ISNA(VLOOKUP(C126,Master!AQ$60:BC$285,12,FALSE)),\"\",VLOOKUP(C126,Master!AQ$60:BC$285,12,FALSE))","v":""},{"$nulls":3},0,1,{"$f":"IF(ISNA(VLOOKUP(C126,Master!AQ$60:BC$285,10,FALSE)),\"\",VLOOKUP(C126,Master!AQ$60:BC$285,10,FALSE))","v":""},null,null,{"$f":"IF(ISNA(VLOOKUP(C126,Master!AQ$60:BC$285,11,FALSE)),\"\",VLOOKUP(C126,Master!AQ$60:BC$285,11,FALSE))","v":""},{"$f":"IF(ISNA(VLOOKUP(C126,Master!AQ$60:BC$285,9,FALSE)),\"\",VLOOKUP(C126,Master!AQ$60:BC$285,9,FALSE))","v":""},0,0,0,0,0,0,"","","","","","",0,0,"",0,0,0,0,0,0,0,null,null,0,0,0,0,0,0,0,0,0,0,0,0,0,0,0,0,null,null,0,0,1,0,0,0,1,0,1,0,0,""]
["",2202,101,{"$f":"IF(ISNA(VLOOKUP(C127,Master!AQ$60:BC$285,3,FALSE)),\"\",VLOOKUP(C127,Master!AQ$60:BC$285,3,FALSE))","v":""},{"$f":"IF(ISNA(VLOOKUP(C127,Master!AQ$60:BC$285,7,FALSE)),\"\",VLOOKUP(C127,Master!AQ$60:BC$285,7,FALSE))","v":""},{"$f":"IF(ISNA(VLOOKUP(C127,Master!AQ$60:BC$285,8,FALSE)),\"\",VLOOKUP(C127,Master!AQ$60:BC$285,8,FALSE))","v":""},{"$f":"IF(ISNA(VLOOKUP(C127,Master!AQ$60:BC$285,4,FALSE)),\"\",VLOOKUP(C127,Master!AQ$60:BC$285,4,FALSE))","v":""},{"$f":"IF(ISNA(VLOOKUP(C127,Master!AQ$60:BC$285,5,FALSE)),\"\",VLOOKUP(C127,Master!AQ$60:BC$285,5,FALSE))","v":""},{"$f":"IF(ISNA(VLOOKUP(C127,Master!AQ$60:BC$285,6,FALSE)),\"\",VLOOKUP(C127,Master!AQ$60:BC$285,6,FALSE))","v":""},"","","","","",{"$f":"IF(ISNA(VLOOKUP(C127,Master!AQ$60:BC$285,12,FALSE)),\"\",VLOOKUP(C127,Master!AQ$60:BC$285,12,FALSE))","v":""},{"$nulls":3},0,1,{"$f":"IF(ISNA(VLOOKUP(C127,Master!AQ$60:BC$285,10,FALSE)),\"\",VLOOKUP(C127,Master!AQ$60:BC$285,10,FALSE))","v":""},null,null,{"$f":"IF(ISNA(VLOOKUP(C127,Master!AQ$60:BC$285,11,FALSE)),\"\",VLOOKUP(C127,Master!AQ$60:BC$285,11,FALSE))","v":""},{"$f":"IF(ISNA(VLOOKUP(C127,Master!AQ$60:BC$285,9,FALSE)),\"\",VLOOKUP(C127,Master!AQ$60:BC$285,9,FALSE))","v":""},0,0,0,0,0,0,"","","","","","",0,0,"",0,0,0,0,0,0,0,null,null,0,0,0,0,0,0,0,0,0,0,0,0,0,0,0,0,null,null,0,0,1,0,0,0,1,0,1,0,0,""]
["",2202,102,{"$f":"IF(ISNA(VLOOKUP(C128,Master!AQ$60:BC$285,3,FALSE)),\"\",VLOOKUP(C128,Master!AQ$60:BC$285,3,FALSE))","v":""},{"$f":"IF(ISNA(VLOOKUP(C128,Master!AQ$60:BC$285,7,FALSE)),\"\",VLOOKUP(C128,Master!AQ$60:BC$285,7,FALSE))","v":""},{"$f":"IF(ISNA(VLOOKUP(C128,Master!AQ$60:BC$285,8,FALSE)),\"\",VLOOKUP(C128,Master!AQ$60:BC$285,8,FALSE))","v":""},{"$f":"IF(ISNA(VLOOKUP(C128,Master!AQ$60:BC$285,4,FALSE)),\"\",VLOOKUP(C128,Master!AQ$60:BC$285,4,FALSE))","v":""},{"$f":"IF(ISNA(VLOOKUP(C128,Master!AQ$60:BC$285,5,FALSE)),\"\",VLOOKUP(C128,Master!AQ$60:BC$285,5,FALSE))","v":""},{"$f":"IF(ISNA(VLOOKUP(C128,Master!AQ$60:BC$285,6,FALSE)),\"\",VLOOKUP(C128,Master!AQ$60:BC$285,6,FALSE))","v":""},"","","","","",{"$f":"IF(ISNA(VLOOKUP(C128,Master!AQ$60:BC$285,12,FALSE)),\"\",VLOOKUP(C128,Master!AQ$60:BC$285,12,FALSE))","v":""},{"$nulls":3},0,1,{"$f":"IF(ISNA(VLOOKUP(C128,Master!AQ$60:BC$285,10,FALSE)),\"\",VLOOKUP(C128,Master!AQ$60:BC$285,10,FALSE))","v":""},null,null,{"$f":"IF(ISNA(VLOOKUP(C128,Master!AQ$60:BC$285,11,FALSE)),\"\",VLOOKUP(C128,Master!AQ$60:BC$285,11,FALSE))","v":""},{"$f":"IF(ISNA(VLOOKUP(C128,Master!AQ$60:BC$285,9,FALSE)),\"\",VLOOKUP(C128,Master!AQ$60:BC$285,9,FALSE))","v":""},0,0,0,0,0,0,"","","","","","",0,0,"",0,0,0,0,0,0,0,null,null,0,0,0,0,0,0,0,0,0,0,0,0,0,0,0,0,null,null,0,0,1,0,0,0,1,0,1,0,0,""]
["",2202,103,{"$f":"IF(ISNA(VLOOKUP(C129,Master!AQ$60:BC$285,3,FALSE)),\"\",VLOOKUP(C129,Master!AQ$60:BC$285,3,FALSE))","v":""},{"$f":"IF(ISNA(VLOOKUP(C129,Master!AQ$60:BC$285,7,FALSE)),\"\",VLOOKUP(C129,Master!AQ$60:BC$285,7,FALSE))","v":""},{"$f":"IF(ISNA(VLOOKUP(C129,Master!AQ$60:BC$285,8,FALSE)),\"\",VLOOKUP(C129,Master!AQ$60:BC$285,8,FALSE))","v":""},{"$f":"IF(ISNA(VLOOKUP(C129,Master!AQ$60:BC$285,4,FALSE)),\"\",VLOOKUP(C129,Master!AQ$60:BC$285,4,FALSE))","v":""},{"$f":"IF(ISNA(VLOOKUP(C129,Master!AQ$60:BC$285,5,FALSE)),\"\",VLOOKUP(C129,Master!AQ$60:BC$285,5,FALSE))","v":""},{"$f":"IF(ISNA(VLOOKUP(C129,Master!AQ$60:BC$285,6,FALSE)),\"\",VLOOKUP(C129,Master!AQ$60:BC$285,6,FALSE))","v":""},"","","","","",{"$f":"IF(ISNA(VLOOKUP(C129,Master!AQ$60:BC$285,12,FALSE)),\"\",VLOOKUP(C129,Master!AQ$60:BC$285,12,FALSE))","v":""},{"$nulls":3},0,1,{"$f":"IF(ISNA(VLOOKUP(C129,Master!AQ$60:BC$107,10,FALSE)),\"\",VLOOKUP(C129,Master!AQ$60:BC$107,10,FALSE))","v":""},null,null,{"$f":"IF(ISNA(VLOOKUP(C129,Master!AQ$60:BC$107,11,FALSE)),\"\",VLOOKUP(C129,Master!AQ$60:BC$107,11,FALSE))","v":""},{"$f":"IF(ISNA(VLOOKUP(C129,Master!AQ$60:BC$107,9,FALSE)),\"\",VLOOKUP(C129,Master!AQ$60:BC$107,9,FALSE))","v":""},{"$f":"IF(Y129=\"MALE\",1,0)*(IF(G129=\"JAMADAR\",1,0))*(IF(I129<=0,0,1))","v":0},{"$f":"IF(Y129=\"FEMALE\",1,0)*(IF(G129=\"JAMADAR\",1,0))*(IF(I129<=0,0,1))","v":0},{"$f":"IF(Y129=\"MALE\",1,0)*(IF(G129=\"LAB BOY\",1,0))*(IF(I129<=0,0,1))","v":0},{"$f":"IF(Y129=\"FEMALE\",1,0)*(IF(G129=\"LAB BOY\",1,0))*(IF(I129<=0,0,1))","v":0},{"$f":"IF(Y129=\"MALE\",1,0)*(IF(G129=\"PEON\",1,0))*(IF(I129<=0,0,1))","v":0},{"$f":"IF(Y129=\"FEMALE\",1,0)*(IF(G129=\"PEON\",1,0))*(IF(I129<=0,0,1))","v":0},{"$f":"IF(AND(I129=\"\"),\"\",I129-ROUNDUP(ROUND((I129*3%)-(I129*3%)*2.9%,-2),0))","v":""},"","","","","",0,0,"",0,0,0,0,0,0,0,null,null,0,0,0,0,0,0,0,0,0,0,0,0,0,0,0,0,null,null,0,0,1,0,0,0,1,0,1,0,0,""]
["",2202,104,{"$f":"IF(ISNA(VLOOKUP(C130,Master!AQ$60:BC$285,3,FALSE)),\"\",VLOOKUP(C130,Master!AQ$60:BC$285,3,FALSE))","v":""},{"$f":"IF(ISNA(VLOOKUP(C130,Master!AQ$60:BC$285,7,FALSE)),\"\",VLOOKUP(C130,Master!AQ$60:BC$285,7,FALSE))","v":""},{"$f":"IF(ISNA(VLOOKUP(C130,Master!AQ$60:BC$285,8,FALSE)),\"\",VLOOKUP(C130,Master!AQ$60:BC$285,8,FALSE))","v":""},{"$f":"IF(ISNA(VLOOKUP(C130,Master!AQ$60:BC$285,4,FALSE)),\"\",VLOOKUP(C130,Master!AQ$60:BC$285,4,FALSE))","v":""},{"$f":"IF(ISNA(VLOOKUP(C130,Master!AQ$60:BC$285,5,FALSE)),\"\",VLOOKUP(C130,Master!AQ$60:BC$285,5,FALSE))","v":""},{"$f":"IF(ISNA(VLOOKUP(C130,Master!AQ$60:BC$285,6,FALSE)),\"\",VLOOKUP(C130,Master!AQ$60:BC$285,6,FALSE))","v":""},"","","","","",{"$f":"IF(ISNA(VLOOKUP(C130,Master!AQ$60:BC$285,12,FALSE)),\"\",VLOOKUP(C130,Master!AQ$60:BC$285,12,FALSE))","v":""},{"$nulls":3},0,1,{"$f":"IF(ISNA(VLOOKUP(C130,Master!AQ$60:BC$107,10,FALSE)),\"\",VLOOKUP(C130,Master!AQ$60:BC$107,10,FALSE))","v":""},null,null,{"$f":"IF(ISNA(VLOOKUP(C130,Master!AQ$60:BC$107,11,FALSE)),\"\",VLOOKUP(C130,Master!AQ$60:BC$107,11,FALSE))","v":""},{"$f":"IF(ISNA(VLOOKUP(C130,Master!AQ$60:BC$107,9,FALSE)),\"\",VLOOKUP(C130,Master!AQ$60:BC$107,9,FALSE))","v":""},0,0,0,0,0,0,"","","","","","",0,0,"",0,0,0,0,0,0,0,null,null,0,0,0,0,0,0,0,0,0,0,0,0,0,0,0,0,null,null,0,0,1,0,0,0,1,0,1,0,0,""]
["",2202,105,{"$f":"IF(ISNA(VLOOKUP(C131,Master!AQ$60:BC$285,3,FALSE)),\"\",VLOOKUP(C131,Master!AQ$60:BC$285,3,FALSE))","v":""},{"$f":"IF(ISNA(VLOOKUP(C131,Master!AQ$60:BC$285,7,FALSE)),\"\",VLOOKUP(C131,Master!AQ$60:BC$285,7,FALSE))","v":""},{"$f":"IF(ISNA(VLOOKUP(C131,Master!AQ$60:BC$285,8,FALSE)),\"\",VLOOKUP(C131,Master!AQ$60:BC$285,8,FALSE))","v":""},{"$f":"IF(ISNA(VLOOKUP(C131,Master!AQ$60:BC$285,4,FALSE)),\"\",VLOOKUP(C131,Master!AQ$60:BC$285,4,FALSE))","v":""},{"$f":"IF(ISNA(VLOOKUP(C131,Master!AQ$60:BC$285,5,FALSE)),\"\",VLOOKUP(C131,Master!AQ$60:BC$285,5,FALSE))","v":""},{"$f":"IF(ISNA(VLOOKUP(C131,Master!AQ$60:BC$285,6,FALSE)),\"\",VLOOKUP(C131,Master!AQ$60:BC$285,6,FALSE))","v":""},"","","","","",{"$f":"IF(ISNA(VLOOKUP(C131,Master!AQ$60:BC$285,12,FALSE)),\"\",VLOOKUP(C131,Master!AQ$60:BC$285,12,FALSE))","v":""},{"$nulls":3},0,1,{"$f":"IF(ISNA(VLOOKUP(C131,Master!AQ$60:BC$107,10,FALSE)),\"\",VLOOKUP(C131,Master!AQ$60:BC$107,10,FALSE))","v":""},null,null,{"$f":"IF(ISNA(VLOOKUP(C131,Master!AQ$60:BC$107,11,FALSE)),\"\",VLOOKUP(C131,Master!AQ$60:BC$107,11,FALSE))","v":""},{"$f":"IF(ISNA(VLOOKUP(C131,Master!AQ$60:BC$107,9,FALSE)),\"\",VLOOKUP(C131,Master!AQ$60:BC$107,9,FALSE))","v":""},0,0,0,0,0,0,"","","","","","",0,0,"",0,0,0,0,0,0,0,null,null,0,0,0,0,0,0,0,0,0,0,0,0,0,0,0,0,null,null,0,0,1,0,0,0,1,0,1,0,0,""]
["",2202,106,{"$f":"IF(ISNA(VLOOKUP(C132,Master!AQ$60:BC$285,3,FALSE)),\"\",VLOOKUP(C132,Master!AQ$60:BC$285,3,FALSE))","v":""},{"$f":"IF(ISNA(VLOOKUP(C132,Master!AQ$60:BC$285,7,FALSE)),\"\",VLOOKUP(C132,Master!AQ$60:BC$285,7,FALSE))","v":""},{"$f":"IF(ISNA(VLOOKUP(C132,Master!AQ$60:BC$285,8,FALSE)),\"\",VLOOKUP(C132,Master!AQ$60:BC$285,8,FALSE))","v":""},{"$f":"IF(ISNA(VLOOKUP(C132,Master!AQ$60:BC$285,4,FALSE)),\"\",VLOOKUP(C132,Master!AQ$60:BC$285,4,FALSE))","v":""},{"$f":"IF(ISNA(VLOOKUP(C132,Master!AQ$60:BC$285,5,FALSE)),\"\",VLOOKUP(C132,Master!AQ$60:BC$285,5,FALSE))","v":""},{"$f":"IF(ISNA(VLOOKUP(C132,Master!AQ$60:BC$285,6,FALSE)),\"\",VLOOKUP(C132,Master!AQ$60:BC$285,6,FALSE))","v":""},"","","","","",{"$f":"IF(ISNA(VLOOKUP(C132,Master!AQ$60:BC$285,12,FALSE)),\"\",VLOOKUP(C132,Master!AQ$60:BC$285,12,FALSE))","v":""},{"$nulls":3},0,1,{"$f":"IF(ISNA(VLOOKUP(C132,Master!AQ$60:BC$107,10,FALSE)),\"\",VLOOKUP(C132,Master!AQ$60:BC$107,10,FALSE))","v":""},null,null,{"$f":"IF(ISNA(VLOOKUP(C132,Master!AQ$60:BC$107,11,FALSE)),\"\",VLOOKUP(C132,Master!AQ$60:BC$107,11,FALSE))","v":""},{"$f":"IF(ISNA(VLOOKUP(C132,Master!AQ$60:BC$107,9,FALSE)),\"\",VLOOKUP(C132,Master!AQ$60:BC$107,9,FALSE))","v":""},0,0,0,0,0,0,"","","","","","",0,0,"",0,0,0,0,0,0,0,null,null,0,0,0,0,0,0,0,0,0,0,0,0,0,0,0,0,null,null,0,0,1,0,0,0,1,0,1,0,0,""]
["",2202,107,{"$f":"IF(ISNA(VLOOKUP(C133,Master!AQ$60:BC$285,3,FALSE)),\"\",VLOOKUP(C133,Master!AQ$60:BC$285,3,FALSE))","v":""},{"$f":"IF(ISNA(VLOOKUP(C133,Master!AQ$60:BC$285,7,FALSE)),\"\",VLOOKUP(C133,Master!AQ$60:BC$285,7,FALSE))","v":""},{"$f":"IF(ISNA(VLOOKUP(C133,Master!AQ$60:BC$285,8,FALSE)),\"\",VLOOKUP(C133,Master!AQ$60:BC$285,8,FALSE))","v":""},{"$f":"IF(ISNA(VLOOKUP(C133,Master!AQ$60:BC$285,4,FALSE)),\"\",VLOOKUP(C133,Master!AQ$60:BC$285,4,FALSE))","v":""},{"$f":"IF(ISNA(VLOOKUP(C133,Master!AQ$60:BC$285,5,FALSE)),\"\",VLOOKUP(C133,Master!AQ$60:BC$285,5,FALSE))","v":""},{"$f":"IF(ISNA(VLOOKUP(C133,Master!AQ$60:BC$285,6,FALSE)),\"\",VLOOKUP(C133,Master!AQ$60:BC$285,6,FALSE))","v":""},"","","","","",{"$f":"IF(ISNA(VLOOKUP(C133,Master!AQ$60:BC$285,12,FALSE)),\"\",VLOOKUP(C133,Master!AQ$60:BC$285,12,FALSE))","v":""},{"$nulls":3},0,1,{"$f":"IF(ISNA(VLOOKUP(C133,Master!AQ$60:BC$107,10,FALSE)),\"\",VLOOKUP(C133,Master!AQ$60:BC$107,10,FALSE))","v":""},null,null,{"$f":"IF(ISNA(VLOOKUP(C133,Master!AQ$60:BC$107,11,FALSE)),\"\",VLOOKUP(C133,Master!AQ$60:BC$107,11,FALSE))","v":""},{"$f":"IF(ISNA(VLOOKUP(C133,Master!AQ$60:BC$107,9,FALSE)),\"\",VLOOKUP(C133,Master!AQ$60:BC$107,9,FALSE))","v":""},0,0,0,0,0,0,"","","","","","",0,0,"",0,0,0,0,0,0,0,null,null,0,0,0,0,0,0,0,0,0,0,0,0,0,0,0,0,null,null,0,0,1,0,0,0,1,0,1,0,0,""]
["",2202,108,{"$f":"IF(ISNA(VLOOKUP(C134,Master!AQ$60:BC$285,3,FALSE)),\"\",VLOOKUP(C134,Master!AQ$60:BC$285,3,FALSE))","v":""},{"$f":"IF(ISNA(VLOOKUP(C134,Master!AQ$60:BC$285,7,FALSE)),\"\",VLOOKUP(C134,Master!AQ$60:BC$285,7,FALSE))","v":""},{"$f":"IF(ISNA(VLOOKUP(C134,Master!AQ$60:BC$285,8,FALSE)),\"\",VLOOKUP(C134,Master!AQ$60:BC$285,8,FALSE))","v":""},{"$f":"IF(ISNA(VLOOKUP(C134,Master!AQ$60:BC$285,4,FALSE)),\"\",VLOOKUP(C134,Master!AQ$60:BC$285,4,FALSE))","v":""},{"$f":"IF(ISNA(VLOOKUP(C134,Master!AQ$60:BC$285,5,FALSE)),\"\",VLOOKUP(C134,Master!AQ$60:BC$285,5,FALSE))","v":""},{"$f":"IF(ISNA(VLOOKUP(C134,Master!AQ$60:BC$285,6,FALSE)),\"\",VLOOKUP(C134,Master!AQ$60:BC$285,6,FALSE))","v":""},"","","","","",{"$f":"IF(ISNA(VLOOKUP(C134,Master!AQ$60:BC$285,12,FALSE)),\"\",VLOOKUP(C134,Master!AQ$60:BC$285,12,FALSE))","v":""},{"$nulls":3},0,1,{"$f":"IF(ISNA(VLOOKUP(C134,Master!AQ$60:BC$107,10,FALSE)),\"\",VLOOKUP(C134,Master!AQ$60:BC$107,10,FALSE))","v":""},null,null,{"$f":"IF(ISNA(VLOOKUP(C134,Master!AQ$60:BC$107,11,FALSE)),\"\",VLOOKUP(C134,Master!AQ$60:BC$107,11,FALSE))","v":""},{"$f":"IF(ISNA(VLOOKUP(C134,Master!AQ$60:BC$107,9,FALSE)),\"\",VLOOKUP(C134,Master!AQ$60:BC$107,9,FALSE))","v":""},0,0,0,0,0,0,"","","","","","",0,0,"",0,0,0,0,0,0,0,null,null,0,0,0,0,0,0,0,0,0,0,0,0,0,0,0,0,null,null,0,0,1,0,0,0,1,0,1,0,0,""]
["",2202,109,{"$f":"IF(ISNA(VLOOKUP(C135,Master!AQ$60:BC$285,3,FALSE)),\"\",VLOOKUP(C135,Master!AQ$60:BC$285,3,FALSE))","v":""},{"$f":"IF(ISNA(VLOOKUP(C135,Master!AQ$60:BC$285,7,FALSE)),\"\",VLOOKUP(C135,Master!AQ$60:BC$285,7,FALSE))","v":""},{"$f":"IF(ISNA(VLOOKUP(C135,Master!AQ$60:BC$285,8,FALSE)),\"\",VLOOKUP(C135,Master!AQ$60:BC$285,8,FALSE))","v":""},{"$f":"IF(ISNA(VLOOKUP(C135,Master!AQ$60:BC$285,4,FALSE)),\"\",VLOOKUP(C135,Master!AQ$60:BC$285,4,FALSE))","v":""},{"$f":"IF(ISNA(VLOOKUP(C135,Master!AQ$60:BC$285,5,FALSE)),\"\",VLOOKUP(C135,Master!AQ$60:BC$285,5,FALSE))","v":""},{"$f":"IF(ISNA(VLOOKUP(C135,Master!AQ$60:BC$285,6,FALSE)),\"\",VLOOKUP(C135,Master!AQ$60:BC$285,6,FALSE))","v":""},"","","","","",{"$f":"IF(ISNA(VLOOKUP(C135,Master!AQ$60:BC$285,12,FALSE)),\"\",VLOOKUP(C135,Master!AQ$60:BC$285,12,FALSE))","v":""},{"$nulls":3},0,1,{"$f":"IF(ISNA(VLOOKUP(C135,Master!AQ$60:BC$107,10,FALSE)),\"\",VLOOKUP(C135,Master!AQ$60:BC$107,10,FALSE))","v":""},null,null,{"$f":"IF(ISNA(VLOOKUP(C135,Master!AQ$60:BC$107,11,FALSE)),\"\",VLOOKUP(C135,Master!AQ$60:BC$107,11,FALSE))","v":""},{"$f":"IF(ISNA(VLOOKUP(C135,Master!AQ$60:BC$107,9,FALSE)),\"\",VLOOKUP(C135,Master!AQ$60:BC$107,9,FALSE))","v":""},{"$f":"IF(Y135=\"MALE\",1,0)*(IF(G135=\"JAMADAR\",1,0))*(IF(I135<=0,0,1))","v":0},{"$f":"IF(Y135=\"FEMALE\",1,0)*(IF(G135=\"JAMADAR\",1,0))*(IF(I135<=0,0,1))","v":0},{"$f":"IF(Y135=\"MALE\",1,0)*(IF(G135=\"LAB BOY\",1,0))*(IF(I135<=0,0,1))","v":0},{"$f":"IF(Y135=\"FEMALE\",1,0)*(IF(G135=\"LAB BOY\",1,0))*(IF(I135<=0,0,1))","v":0},{"$f":"IF(Y135=\"MALE\",1,0)*(IF(G135=\"PEON\",1,0))*(IF(I135<=0,0,1))","v":0},{"$f":"IF(Y135=\"FEMALE\",1,0)*(IF(G135=\"PEON\",1,0))*(IF(I135<=0,0,1))","v":0},"","","","","","",0,0,"",{"$f":"$G$221*BR135*BU135*(IF(I135<=0,0,1))*(IF(H135<=4800,1,0))","v":0},{"$f":"IF(AND(I135=\"\"),0,ROUND((I135+ROUND(I135*$AK$10,0))/2,0)*(IF(O135=\"FIX PAY\",0,1)))","v":0},{"$f":"IF(G135=\"CLERK GRADE I\",1,IF(G135=\"CLERK GRADE II\",1,0))*75*12*BU135*(IF(I135<=0,0,1))*BV135","v":0},{"$f":"IF(AND(I135=\"\"),0,(IF(G135=\"ASSISTANT\",12,IF(G135=\"CLERK GRADE I\",12,IF(G135=\"CLERK GRADE II\",12,IF(G135=\"FIELDMAN & FIELD REC\",12,IF(G135=\"LAB BOY\",12,IF(G135=\"JAMADAR\",12,IF(G135=\"PEON\",12,10))))))))*(MINA(ROUND(I135*6%,0),600))*(IF($U135=\"yes\",1,0)))","v":0},0,{"$f":"IF(AND(G135=\"\"),0,SUM(AK135:AS135)+AG135+AH135)","v":0},{"$f":"IF(AND(G135=\"\"),0,AT135)","v":0},null,null,0,{"$f":"IF(AND(G135=\"\"),0,N135*BQ135)","v":0},{"$f":"IF(AND(G135=\"\"),0,N135*BR135)","v":0},{"$f":"IF(AND(G135=\"\"),0,N135*BS135)","v":0},{"$f":"IF(AND(G135=\"\"),0,N135*BT135)","v":0},0,{"$f":"IF(AND(G135=\"\"),0,ROUND((IF(O135=\"FIX PAY\",0,AF135))*$BD$10*2,0)*BU135)","v":0},0,0,{"$f":"3387*2*BR135*BU135*(IF(I135<=0,0,1))*(IF(H135<=4800,1,0))","v":0},{"$f":"IF(AND(I135=\"\"),0,ROUND((AF135+ROUND(AF135*$AK$10,0))/2,0)*(IF(O135=\"FIX PAY\",0,1)))","v":0},{"$f":"IF(G135=\"CLERK GRADE I\",1,IF(G135=\"CLERK GRADE II\",1,0))*75*12*BU135*(IF(I135<=0,0,1))*BV135","v":0},{"$f":"IF(AND(G135=\"\"),0,(IF(G135=\"ASSISTANT\",12,IF(G135=\"CLERK GRADE I\",12,IF(G135=\"CLERK GRADE II\",12,IF(G135=\"FIELDMAN & FIELD REC\",12,IF(G135=\"LAB BOY\",12,IF(G135=\"JAMADAR\",12,IF(G135=\"PEON\",12,10))))))))*(MINA(ROUND(AF135*6%,0),600))*(IF($U135=\"yes\",1,)))","v":0},{"$f":"(IF(G135=\"LAB BOY\",150,IF(G135=\"JAMADAR\",150,IF(G135=\"PEON\",150,0))))*12*BU135*(IF(I135<=0,0,1))","v":0},0,0,null,null,0,{"$f":"(IF(G135=\"PRINCIPAL\",1,IF(G135=\"H M\",1,IF(G135=\"AGRICULTURE INST\",1,IF(G135=\"TEACHER-1ST\",1,IF(G135=\"PTI  I  (13)\",1,IF(G135=\"AGRICULTURE TEACH\",1,IF(G135=\"INSTRUCTOR\",1,0))))))))+(IF(G135=\"JR TEACHER\",1,IF(G135=\"LIBRARIAN I\",1,0)))*(IF(O135=\"FIX PAY\",0,1))","v":0},{"$f":"IF(BQ135<=0,1,0)*(IF(O135=\"FIX PAY\",0,1))","v":1},{"$f":"(IF(G135=\"PRINCIPAL (16)\",1,IF(G135=\"V P (14)\",1,IF(G135=\"H M (14)\",1,IF(G135=\"AGRICULTURE INST (13)\",1,IF(G135=\"TEACHER-1ST (13)\",1,IF(G135=\"PTI  I  (13)\",1,IF(G135=\"AGRICULTURE TEACH (13)\",1,IF(G135=\"INSTRUCTOR (13)\",1,0))))))))+(IF(G135=\"JR TEACHER (13)\",1,IF(G135=\"LIBRARIAN I (13)\",1,0))))*(IF(O135=\"FIX PAY\",1,0))","v":0},{"$f":"IF(BS135<=0,1,0)*(IF(O135=\"FIX PAY\",1,0))","v":0},{"$f":"IF(O135=\"FIX PAY\",1,0)","v":0},1,0,1,{"$f":"IF(O135=\"SANVIDA\",1,0)","v":0},{"$f":"IF(BY135>0,I135,0)","v":0},""]
["",2202,110,{"$f":"IF(ISNA(VLOOKUP(C136,Master!AQ$60:BC$285,3,FALSE)),\"\",VLOOKUP(C136,Master!AQ$60:BC$285,3,FALSE))","v":""},{"$f":"IF(ISNA(VLOOKUP(C136,Master!AQ$60:BC$285,7,FALSE)),\"\",VLOOKUP(C136,Master!AQ$60:BC$285,7,FALSE))","v":""},{"$f":"IF(ISNA(VLOOKUP(C136,Master!AQ$60:BC$285,8,FALSE)),\"\",VLOOKUP(C136,Master!AQ$60:BC$285,8,FALSE))","v":""},{"$f":"IF(ISNA(VLOOKUP(C136,Master!AQ$60:BC$285,4,FALSE)),\"\",VLOOKUP(C136,Master!AQ$60:BC$285,4,FALSE))","v":""},{"$f":"IF(ISNA(VLOOKUP(C136,Master!AQ$60:BC$285,5,FALSE)),\"\",VLOOKUP(C136,Master!AQ$60:BC$285,5,FALSE))","v":""},{"$f":"IF(ISNA(VLOOKUP(C136,Master!AQ$60:BC$285,6,FALSE)),\"\",VLOOKUP(C136,Master!AQ$60:BC$285,6,FALSE))","v":""},"","","","","",{"$f":"IF(ISNA(VLOOKUP(C136,Master!AQ$60:BC$285,12,FALSE)),\"\",VLOOKUP(C136,Master!AQ$60:BC$285,12,FALSE))","v":""},{"$nulls":3},0,1,{"$f":"IF(ISNA(VLOOKUP(C136,Master!AQ$60:BC$107,10,FALSE)),\"\",VLOOKUP(C136,Master!AQ$60:BC$107,10,FALSE))","v":""},null,null,{"$f":"IF(ISNA(VLOOKUP(C136,Master!AQ$60:BC$107,11,FALSE)),\"\",VLOOKUP(C136,Master!AQ$60:BC$107,11,FALSE))","v":""},{"$f":"IF(ISNA(VLOOKUP(C136,Master!AQ$60:BC$107,9,FALSE)),\"\",VLOOKUP(C136,Master!AQ$60:BC$107,9,FALSE))","v":""},0,0,0,0,0,0,"","","","","","",0,0,"",0,0,0,0,0,0,0,null,null,0,0,0,0,0,0,0,0,0,0,0,0,0,0,0,0,null,null,0,0,1,0,0,0,1,0,1,0,0,""]
["",2202,111,{"$f":"IF(ISNA(VLOOKUP(C137,Master!AQ$60:BC$285,3,FALSE)),\"\",VLOOKUP(C137,Master!AQ$60:BC$285,3,FALSE))","v":""},{"$f":"IF(ISNA(VLOOKUP(C137,Master!AQ$60:BC$285,7,FALSE)),\"\",VLOOKUP(C137,Master!AQ$60:BC$285,7,FALSE))","v":""},{"$f":"IF(ISNA(VLOOKUP(C137,Master!AQ$60:BC$285,8,FALSE)),\"\",VLOOKUP(C137,Master!AQ$60:BC$285,8,FALSE))","v":""},{"$f":"IF(ISNA(VLOOKUP(C137,Master!AQ$60:BC$285,4,FALSE)),\"\",VLOOKUP(C137,Master!AQ$60:BC$285,4,FALSE))","v":""},{"$f":"IF(ISNA(VLOOKUP(C137,Master!AQ$60:BC$285,5,FALSE)),\"\",VLOOKUP(C137,Master!AQ$60:BC$285,5,FALSE))","v":""},{"$f":"IF(ISNA(VLOOKUP(C137,Master!AQ$60:BC$285,6,FALSE)),\"\",VLOOKUP(C137,Master!AQ$60:BC$285,6,FALSE))","v":""},"","","","","",{"$f":"IF(ISNA(VLOOKUP(C137,Master!AQ$60:BC$285,12,FALSE)),\"\",VLOOKUP(C137,Master!AQ$60:BC$285,12,FALSE))","v":""},{"$nulls":3},0,1,{"$f":"IF(ISNA(VLOOKUP(C137,Master!AQ$60:BC$107,10,FALSE)),\"\",VLOOKUP(C137,Master!AQ$60:BC$107,10,FALSE))","v":""},null,null,{"$f":"IF(ISNA(VLOOKUP(C137,Master!AQ$60:BC$107,11,FALSE)),\"\",VLOOKUP(C137,Master!AQ$60:BC$107,11,FALSE))","v":""},{"$f":"IF(ISNA(VLOOKUP(C137,Master!AQ$60:BC$107,9,FALSE)),\"\",VLOOKUP(C137,Master!AQ$60:BC$107,9,FALSE))","v":""},0,0,0,0,0,0,"","","","","","",0,0,"",0,0,0,0,0,0,0,null,null,0,0,0,0,0,0,0,0,0,0,0,0,0,0,0,0,null,null,0,0,1,0,0,0,1,0,1,0,0,""]
["",2202,112,{"$f":"IF(ISNA(VLOOKUP(C138,Master!AQ$60:BC$285,3,FALSE)),\"\",VLOOKUP(C138,Master!AQ$60:BC$285,3,FALSE))","v":""},{"$f":"IF(ISNA(VLOOKUP(C138,Master!AQ$60:BC$285,7,FALSE)),\"\",VLOOKUP(C138,Master!AQ$60:BC$285,7,FALSE))","v":""},{"$f":"IF(ISNA(VLOOKUP(C138,Master!AQ$60:BC$285,8,FALSE)),\"\",VLOOKUP(C138,Master!AQ$60:BC$285,8,FALSE))","v":""},{"$f":"IF(ISNA(VLOOKUP(C138,Master!AQ$60:BC$285,4,FALSE)),\"\",VLOOKUP(C138,Master!AQ$60:BC$285,4,FALSE))","v":""},{"$f":"IF(ISNA(VLOOKUP(C138,Master!AQ$60:BC$285,5,FALSE)),\"\",VLOOKUP(C138,Master!AQ$60:BC$285,5,FALSE))","v":""},{"$f":"IF(ISNA(VLOOKUP(C138,Master!AQ$60:BC$285,6,FALSE)),\"\",VLOOKUP(C138,Master!AQ$60:BC$285,6,FALSE))","v":""},"","","","","",{"$f":"IF(ISNA(VLOOKUP(C138,Master!AQ$60:BC$285,12,FALSE)),\"\",VLOOKUP(C138,Master!AQ$60:BC$285,12,FALSE))","v":""},{"$nulls":3},0,1,{"$f":"IF(ISNA(VLOOKUP(C138,Master!AQ$60:BC$107,10,FALSE)),\"\",VLOOKUP(C138,Master!AQ$60:BC$107,10,FALSE))","v":""},null,null,{"$f":"IF(ISNA(VLOOKUP(C138,Master!AQ$60:BC$107,11,FALSE)),\"\",VLOOKUP(C138,Master!AQ$60:BC$107,11,FALSE))","v":""},{"$f":"IF(ISNA(VLOOKUP(C138,Master!AQ$60:BC$107,9,FALSE)),\"\",VLOOKUP(C138,Master!AQ$60:BC$107,9,FALSE))","v":""},0,0,0,0,0,0,"","","","","","",0,0,"",0,0,0,0,0,0,0,null,null,0,0,0,0,0,0,0,0,0,0,0,0,0,0,0,0,null,null,0,0,1,0,0,0,1,0,1,0,0,""]
["",2202,113,{"$f":"IF(ISNA(VLOOKUP(C139,Master!AQ$60:BC$285,3,FALSE)),\"\",VLOOKUP(C139,Master!AQ$60:BC$285,3,FALSE))","v":""},{"$f":"IF(ISNA(VLOOKUP(C139,Master!AQ$60:BC$285,7,FALSE)),\"\",VLOOKUP(C139,Master!AQ$60:BC$285,7,FALSE))","v":""},{"$f":"IF(ISNA(VLOOKUP(C139,Master!AQ$60:BC$285,8,FALSE)),\"\",VLOOKUP(C139,Master!AQ$60:BC$285,8,FALSE))","v":""},{"$f":"IF(ISNA(VLOOKUP(C139,Master!AQ$60:BC$285,4,FALSE)),\"\",VLOOKUP(C139,Master!AQ$60:BC$285,4,FALSE))","v":""},{"$f":"IF(ISNA(VLOOKUP(C139,Master!AQ$60:BC$285,5,FALSE)),\"\",VLOOKUP(C139,Master!AQ$60:BC$285,5,FALSE))","v":""},{"$f":"IF(ISNA(VLOOKUP(C139,Master!AQ$60:BC$285,6,FALSE)),\"\",VLOOKUP(C139,Master!AQ$60:BC$285,6,FALSE))","v":""},"","","","","",{"$f":"IF(ISNA(VLOOKUP(C139,Master!AQ$60:BC$285,12,FALSE)),\"\",VLOOKUP(C139,Master!AQ$60:BC$285,12,FALSE))","v":""},{"$nulls":3},0,1,{"$f":"IF(ISNA(VLOOKUP(C139,Master!AQ$60:BC$107,10,FALSE)),\"\",VLOOKUP(C139,Master!AQ$60:BC$107,10,FALSE))","v":""},null,null,{"$f":"IF(ISNA(VLOOKUP(C139,Master!AQ$60:BC$107,11,FALSE)),\"\",VLOOKUP(C139,Master!AQ$60:BC$107,11,FALSE))","v":""},{"$f":"IF(ISNA(VLOOKUP(C139,Master!AQ$60:BC$107,9,FALSE)),\"\",VLOOKUP(C139,Master!AQ$60:BC$107,9,FALSE))","v":""},0,0,0,0,0,0,"","","","","","",0,0,"",0,0,0,0,0,0,0,null,null,0,0,0,0,0,0,0,0,0,0,0,0,0,0,0,0,null,null,0,0,1,0,0,0,1,0,1,0,0,""]
["",2202,114,{"$f":"IF(ISNA(VLOOKUP(C140,Master!AQ$60:BC$285,3,FALSE)),\"\",VLOOKUP(C140,Master!AQ$60:BC$285,3,FALSE))","v":""},{"$f":"IF(ISNA(VLOOKUP(C140,Master!AQ$60:BC$285,7,FALSE)),\"\",VLOOKUP(C140,Master!AQ$60:BC$285,7,FALSE))","v":""},{"$f":"IF(ISNA(VLOOKUP(C140,Master!AQ$60:BC$285,8,FALSE)),\"\",VLOOKUP(C140,Master!AQ$60:BC$285,8,FALSE))","v":""},{"$f":"IF(ISNA(VLOOKUP(C140,Master!AQ$60:BC$285,4,FALSE)),\"\",VLOOKUP(C140,Master!AQ$60:BC$285,4,FALSE))","v":""},{"$f":"IF(ISNA(VLOOKUP(C140,Master!AQ$60:BC$285,5,FALSE)),\"\",VLOOKUP(C140,Master!AQ$60:BC$285,5,FALSE))","v":""},{"$f":"IF(ISNA(VLOOKUP(C140,Master!AQ$60:BC$285,6,FALSE)),\"\",VLOOKUP(C140,Master!AQ$60:BC$285,6,FALSE))","v":""},"","","","","",{"$f":"IF(ISNA(VLOOKUP(C140,Master!AQ$60:BC$285,12,FALSE)),\"\",VLOOKUP(C140,Master!AQ$60:BC$285,12,FALSE))","v":""},{"$nulls":3},0,1,{"$f":"IF(ISNA(VLOOKUP(C140,Master!AQ$60:BC$107,10,FALSE)),\"\",VLOOKUP(C140,Master!AQ$60:BC$107,10,FALSE))","v":""},null,null,{"$f":"IF(ISNA(VLOOKUP(C140,Master!AQ$60:BC$107,11,FALSE)),\"\",VLOOKUP(C140,Master!AQ$60:BC$107,11,FALSE))","v":""},{"$f":"IF(ISNA(VLOOKUP(C140,Master!AQ$60:BC$107,9,FALSE)),\"\",VLOOKUP(C140,Master!AQ$60:BC$107,9,FALSE))","v":""},0,0,0,0,0,0,"","","","","","",0,0,"",0,0,0,0,0,0,0,null,null,0,0,0,0,0,0,0,0,0,0,0,0,0,0,0,0,null,null,0,0,1,0,0,0,1,0,1,0,0,""]
["",2202,115,{"$f":"IF(ISNA(VLOOKUP(C141,Master!AQ$60:BC$285,3,FALSE)),\"\",VLOOKUP(C141,Master!AQ$60:BC$285,3,FALSE))","v":""},{"$f":"IF(ISNA(VLOOKUP(C141,Master!AQ$60:BC$285,7,FALSE)),\"\",VLOOKUP(C141,Master!AQ$60:BC$285,7,FALSE))","v":""},{"$f":"IF(ISNA(VLOOKUP(C141,Master!AQ$60:BC$285,8,FALSE)),\"\",VLOOKUP(C141,Master!AQ$60:BC$285,8,FALSE))","v":""},{"$f":"IF(ISNA(VLOOKUP(C141,Master!AQ$60:BC$285,4,FALSE)),\"\",VLOOKUP(C141,Master!AQ$60:BC$285,4,FALSE))","v":""},{"$f":"IF(ISNA(VLOOKUP(C141,Master!AQ$60:BC$285,5,FALSE)),\"\",VLOOKUP(C141,Master!AQ$60:BC$285,5,FALSE))","v":""},{"$f":"IF(ISNA(VLOOKUP(C141,Master!AQ$60:BC$285,6,FALSE)),\"\",VLOOKUP(C141,Master!AQ$60:BC$285,6,FALSE))","v":""},"","","","","",{"$f":"IF(ISNA(VLOOKUP(C141,Master!AQ$60:BC$285,12,FALSE)),\"\",VLOOKUP(C141,Master!AQ$60:BC$285,12,FALSE))","v":""},{"$nulls":3},0,1,{"$f":"IF(ISNA(VLOOKUP(C141,Master!AQ$60:BC$107,10,FALSE)),\"\",VLOOKUP(C141,Master!AQ$60:BC$107,10,FALSE))","v":""},null,null,{"$f":"IF(ISNA(VLOOKUP(C141,Master!AQ$60:BC$107,11,FALSE)),\"\",VLOOKUP(C141,Master!AQ$60:BC$107,11,FALSE))","v":""},{"$f":"IF(ISNA(VLOOKUP(C141,Master!AQ$60:BC$107,9,FALSE)),\"\",VLOOKUP(C141,Master!AQ$60:BC$107,9,FALSE))","v":""},0,0,0,0,0,0,"","","","","","",0,0,"",0,0,0,0,{"$f":"(IF(G141=\"LAB BOY\",180,IF(G141=\"JAMADAR\",180,IF(G141=\"PEON\",180,0))))*12*BU141*(IF(I141<=0,0,1))","v":0},0,0,null,null,0,0,0,0,0,0,0,0,0,0,0,0,0,0,0,0,null,null,0,0,1,0,0,0,1,0,1,0,0,""]
["",2202,116,{"$f":"IF(ISNA(VLOOKUP(C142,Master!AQ$60:BC$285,3,FALSE)),\"\",VLOOKUP(C142,Master!AQ$60:BC$285,3,FALSE))","v":""},{"$f":"IF(ISNA(VLOOKUP(C142,Master!AQ$60:BC$285,7,FALSE)),\"\",VLOOKUP(C142,Master!AQ$60:BC$285,7,FALSE))","v":""},{"$f":"IF(ISNA(VLOOKUP(C142,Master!AQ$60:BC$285,8,FALSE)),\"\",VLOOKUP(C142,Master!AQ$60:BC$285,8,FALSE))","v":""},{"$f":"IF(ISNA(VLOOKUP(C142,Master!AQ$60:BC$285,4,FALSE)),\"\",VLOOKUP(C142,Master!AQ$60:BC$285,4,FALSE))","v":""},{"$f":"IF(ISNA(VLOOKUP(C142,Master!AQ$60:BC$285,5,FALSE)),\"\",VLOOKUP(C142,Master!AQ$60:BC$285,5,FALSE))","v":""},{"$f":"IF(ISNA(VLOOKUP(C142,Master!AQ$60:BC$285,6,FALSE)),\"\",VLOOKUP(C142,Master!AQ$60:BC$285,6,FALSE))","v":""},"","","","","",{"$f":"IF(ISNA(VLOOKUP(C142,Master!AQ$60:BC$285,12,FALSE)),\"\",VLOOKUP(C142,Master!AQ$60:BC$285,12,FALSE))","v":""},{"$nulls":3},0,1,{"$f":"IF(ISNA(VLOOKUP(C142,Master!AQ$60:BC$107,10,FALSE)),\"\",VLOOKUP(C142,Master!AQ$60:BC$107,10,FALSE))","v":""},null,null,{"$f":"IF(ISNA(VLOOKUP(C142,Master!AQ$60:BC$107,11,FALSE)),\"\",VLOOKUP(C142,Master!AQ$60:BC$107,11,FALSE))","v":""},{"$f":"IF(ISNA(VLOOKUP(C142,Master!AQ$60:BC$107,9,FALSE)),\"\",VLOOKUP(C142,Master!AQ$60:BC$107,9,FALSE))","v":""},0,0,0,0,0,0,"","","","","","",0,0,"",0,0,0,0,0,0,0,null,null,0,0,0,0,0,0,0,0,0,0,0,0,0,0,0,0,null,null,0,0,1,0,0,0,1,0,1,0,0,""]
["",2202,117,{"$f":"IF(ISNA(VLOOKUP(C143,Master!AQ$60:BC$285,3,FALSE)),\"\",VLOOKUP(C143,Master!AQ$60:BC$285,3,FALSE))","v":""},{"$f":"IF(ISNA(VLOOKUP(C143,Master!AQ$60:BC$285,7,FALSE)),\"\",VLOOKUP(C143,Master!AQ$60:BC$285,7,FALSE))","v":""},{"$f":"IF(ISNA(VLOOKUP(C143,Master!AQ$60:BC$285,8,FALSE)),\"\",VLOOKUP(C143,Master!AQ$60:BC$285,8,FALSE))","v":""},{"$f":"IF(ISNA(VLOOKUP(C143,Master!AQ$60:BC$285,4,FALSE)),\"\",VLOOKUP(C143,Master!AQ$60:BC$285,4,FALSE))","v":""},{"$f":"IF(ISNA(VLOOKUP(C143,Master!AQ$60:BC$285,5,FALSE)),\"\",VLOOKUP(C143,Master!AQ$60:BC$285,5,FALSE))","v":""},{"$f":"IF(ISNA(VLOOKUP(C143,Master!AQ$60:BC$285,6,FALSE)),\"\",VLOOKUP(C143,Master!AQ$60:BC$285,6,FALSE))","v":""},"","","","","",{"$f":"IF(ISNA(VLOOKUP(C143,Master!AQ$60:BC$285,12,FALSE)),\"\",VLOOKUP(C143,Master!AQ$60:BC$285,12,FALSE))","v":""},{"$nulls":3},0,{"$f":"IF(G143>0,1,0)","v":1},{"$f":"IF(ISNA(VLOOKUP(C143,Master!AQ$60:BC$107,10,FALSE)),\"\",VLOOKUP(C143,Master!AQ$60:BC$107,10,FALSE))","v":""},null,null,{"$f":"IF(ISNA(VLOOKUP(C143,Master!AQ$60:BC$107,11,FALSE)),\"\",VLOOKUP(C143,Master!AQ$60:BC$107,11,FALSE))","v":""},{"$f":"IF(ISNA(VLOOKUP(C143,Master!AQ$60:BC$107,9,FALSE)),\"\",VLOOKUP(C143,Master!AQ$60:BC$107,9,FALSE))","v":""},0,0,0,0,0,0,"","","","","","",0,0,"",0,0,0,0,0,0,0,null,null,0,0,0,0,0,0,0,0,0,0,0,0,0,0,0,0,null,null,0,0,1,0,0,0,1,0,1,0,0,""]
["",2202,118,{"$f":"IF(ISNA(VLOOKUP(C144,Master!AQ$60:BC$285,3,FALSE)),\"\",VLOOKUP(C144,Master!AQ$60:BC$285,3,FALSE))","v":""},{"$f":"IF(ISNA(VLOOKUP(C144,Master!AQ$60:BC$285,7,FALSE)),\"\",VLOOKUP(C144,Master!AQ$60:BC$285,7,FALSE))","v":""},{"$f":"IF(ISNA(VLOOKUP(C144,Master!AQ$60:BC$285,8,FALSE)),\"\",VLOOKUP(C144,Master!AQ$60:BC$285,8,FALSE))","v":""},{"$f":"IF(ISNA(VLOOKUP(C144,Master!AQ$60:BC$285,4,FALSE)),\"\",VLOOKUP(C144,Master!AQ$60:BC$285,4,FALSE))","v":""},{"$f":"IF(ISNA(VLOOKUP(C144,Master!AQ$60:BC$285,5,FALSE)),\"\",VLOOKUP(C144,Master!AQ$60:BC$285,5,FALSE))","v":""},{"$f":"IF(ISNA(VLOOKUP(C144,Master!AQ$60:BC$285,6,FALSE)),\"\",VLOOKUP(C144,Master!AQ$60:BC$285,6,FALSE))","v":""},"","","","","",{"$f":"IF(ISNA(VLOOKUP(C144,Master!AQ$60:BC$285,12,FALSE)),\"\",VLOOKUP(C144,Master!AQ$60:BC$285,12,FALSE))","v":""},{"$nulls":3},0,1,{"$f":"IF(ISNA(VLOOKUP(C144,Master!AQ$60:BC$107,10,FALSE)),\"\",VLOOKUP(C144,Master!AQ$60:BC$107,10,FALSE))","v":""},null,null,{"$f":"IF(ISNA(VLOOKUP(C144,Master!AQ$60:BC$107,11,FALSE)),\"\",VLOOKUP(C144,Master!AQ$60:BC$107,11,FALSE))","v":""},{"$f":"IF(ISNA(VLOOKUP(C144,Master!AQ$60:BC$107,9,FALSE)),\"\",VLOOKUP(C144,Master!AQ$60:BC$107,9,FALSE))","v":""},0,0,0,0,0,0,"","","","","","",0,0,"",0,0,0,0,0,0,0,null,null,0,0,0,0,0,0,0,0,0,0,0,0,0,0,0,0,null,null,0,0,1,0,0,0,1,0,1,0,0,""]
["",2202,119,{"$f":"IF(ISNA(VLOOKUP(C145,Master!AQ$60:BC$285,3,FALSE)),\"\",VLOOKUP(C145,Master!AQ$60:BC$285,3,FALSE))","v":""},{"$f":"IF(ISNA(VLOOKUP(C145,Master!AQ$60:BC$285,7,FALSE)),\"\",VLOOKUP(C145,Master!AQ$60:BC$285,7,FALSE))","v":""},{"$f":"IF(ISNA(VLOOKUP(C145,Master!AQ$60:BC$285,8,FALSE)),\"\",VLOOKUP(C145,Master!AQ$60:BC$285,8,FALSE))","v":""},{"$f":"IF(ISNA(VLOOKUP(C145,Master!AQ$60:BC$285,4,FALSE)),\"\",VLOOKUP(C145,Master!AQ$60:BC$285,4,FALSE))","v":""},{"$f":"IF(ISNA(VLOOKUP(C145,Master!AQ$60:BC$285,5,FALSE)),\"\",VLOOKUP(C145,Master!AQ$60:BC$285,5,FALSE))","v":""},{"$f":"IF(ISNA(VLOOKUP(C145,Master!AQ$60:BC$285,6,FALSE)),\"\",VLOOKUP(C145,Master!AQ$60:BC$285,6,FALSE))","v":""},"","","","","",{"$f":"IF(ISNA(VLOOKUP(C145,Master!AQ$60:BC$285,12,FALSE)),\"\",VLOOKUP(C145,Master!AQ$60:BC$285,12,FALSE))","v":""},{"$nulls":3},0,1,{"$f":"IF(ISNA(VLOOKUP(C145,Master!AQ$60:BC$107,10,FALSE)),\"\",VLOOKUP(C145,Master!AQ$60:BC$107,10,FALSE))","v":""},null,null,{"$f":"IF(ISNA(VLOOKUP(C145,Master!AQ$60:BC$107,11,FALSE)),\"\",VLOOKUP(C145,Master!AQ$60:BC$107,11,FALSE))","v":""},{"$f":"IF(ISNA(VLOOKUP(C145,Master!AQ$60:BC$107,9,FALSE)),\"\",VLOOKUP(C145,Master!AQ$60:BC$107,9,FALSE))","v":""},0,0,0,0,0,0,"","","","","","",0,0,"",0,0,0,0,0,0,0,null,null,0,0,0,0,0,0,0,0,0,0,0,0,0,0,0,0,null,null,0,0,1,0,0,0,1,0,1,0,0,""]
["",2202,120,{"$f":"IF(ISNA(VLOOKUP(C146,Master!AQ$60:BC$285,3,FALSE)),\"\",VLOOKUP(C146,Master!AQ$60:BC$285,3,FALSE))","v":""},{"$f":"IF(ISNA(VLOOKUP(C146,Master!AQ$60:BC$285,7,FALSE)),\"\",VLOOKUP(C146,Master!AQ$60:BC$285,7,FALSE))","v":""},{"$f":"IF(ISNA(VLOOKUP(C146,Master!AQ$60:BC$285,8,FALSE)),\"\",VLOOKUP(C146,Master!AQ$60:BC$285,8,FALSE))","v":""},{"$f":"IF(ISNA(VLOOKUP(C146,Master!AQ$60:BC$285,4,FALSE)),\"\",VLOOKUP(C146,Master!AQ$60:BC$285,4,FALSE))","v":""},{"$f":"IF(ISNA(VLOOKUP(C146,Master!AQ$60:BC$285,5,FALSE)),\"\",VLOOKUP(C146,Master!AQ$60:BC$285,5,FALSE))","v":""},{"$f":"IF(ISNA(VLOOKUP(C146,Master!AQ$60:BC$285,6,FALSE)),\"\",VLOOKUP(C146,Master!AQ$60:BC$285,6,FALSE))","v":""},"","","","","",{"$f":"IF(ISNA(VLOOKUP(C146,Master!AQ$60:BC$285,12,FALSE)),\"\",VLOOKUP(C146,Master!AQ$60:BC$285,12,FALSE))","v":""},{"$nulls":3},0,1,{"$f":"IF(ISNA(VLOOKUP(C146,Master!AQ$60:BC$107,10,FALSE)),\"\",VLOOKUP(C146,Master!AQ$60:BC$107,10,FALSE))","v":""},null,null,{"$f":"IF(ISNA(VLOOKUP(C146,Master!AQ$60:BC$107,11,FALSE)),\"\",VLOOKUP(C146,Master!AQ$60:BC$107,11,FALSE))","v":""},{"$f":"IF(ISNA(VLOOKUP(C146,Master!AQ$60:BC$107,9,FALSE)),\"\",VLOOKUP(C146,Master!AQ$60:BC$107,9,FALSE))","v":""},0,0,0,0,0,0,"","","","","","",0,0,"",0,0,0,0,0,0,0,null,null,0,0,0,0,0,0,0,0,0,0,0,0,0,0,0,0,null,null,0,0,1,0,0,0,1,0,1,0,0,""]
["",2202,121,{"$f":"IF(ISNA(VLOOKUP(C147,Master!AQ$60:BC$285,3,FALSE)),\"\",VLOOKUP(C147,Master!AQ$60:BC$285,3,FALSE))","v":""},{"$f":"IF(ISNA(VLOOKUP(C147,Master!AQ$60:BC$285,7,FALSE)),\"\",VLOOKUP(C147,Master!AQ$60:BC$285,7,FALSE))","v":""},{"$f":"IF(ISNA(VLOOKUP(C147,Master!AQ$60:BC$285,8,FALSE)),\"\",VLOOKUP(C147,Master!AQ$60:BC$285,8,FALSE))","v":""},{"$f":"IF(ISNA(VLOOKUP(C147,Master!AQ$60:BC$285,4,FALSE)),\"\",VLOOKUP(C147,Master!AQ$60:BC$285,4,FALSE))","v":""},{"$f":"IF(ISNA(VLOOKUP(C147,Master!AQ$60:BC$285,5,FALSE)),\"\",VLOOKUP(C147,Master!AQ$60:BC$285,5,FALSE))","v":""},{"$f":"IF(ISNA(VLOOKUP(C147,Master!AQ$60:BC$285,6,FALSE)),\"\",VLOOKUP(C147,Master!AQ$60:BC$285,6,FALSE))","v":""},"","","","","",{"$f":"IF(ISNA(VLOOKUP(C147,Master!AQ$60:BC$285,12,FALSE)),\"\",VLOOKUP(C147,Master!AQ$60:BC$285,12,FALSE))","v":""},{"$nulls":3},0,1,{"$f":"IF(ISNA(VLOOKUP(C147,Master!AQ$60:BC$107,10,FALSE)),\"\",VLOOKUP(C147,Master!AQ$60:BC$107,10,FALSE))","v":""},null,null,{"$f":"IF(ISNA(VLOOKUP(C147,Master!AQ$60:BC$107,11,FALSE)),\"\",VLOOKUP(C147,Master!AQ$60:BC$107,11,FALSE))","v":""},{"$f":"IF(ISNA(VLOOKUP(C147,Master!AQ$60:BC$107,9,FALSE)),\"\",VLOOKUP(C147,Master!AQ$60:BC$107,9,FALSE))","v":""},0,0,0,0,0,0,"","","","","","",0,0,"",0,0,0,0,0,0,0,null,null,0,0,0,0,0,0,0,0,0,0,0,0,0,0,0,0,null,null,0,0,1,0,0,0,1,0,1,0,0,""]
["",2202,122,{"$f":"IF(ISNA(VLOOKUP(C148,Master!AQ$60:BC$285,3,FALSE)),\"\",VLOOKUP(C148,Master!AQ$60:BC$285,3,FALSE))","v":""},{"$f":"IF(ISNA(VLOOKUP(C148,Master!AQ$60:BC$285,7,FALSE)),\"\",VLOOKUP(C148,Master!AQ$60:BC$285,7,FALSE))","v":""},{"$f":"IF(ISNA(VLOOKUP(C148,Master!AQ$60:BC$285,8,FALSE)),\"\",VLOOKUP(C148,Master!AQ$60:BC$285,8,FALSE))","v":""},{"$f":"IF(ISNA(VLOOKUP(C148,Master!AQ$60:BC$285,4,FALSE)),\"\",VLOOKUP(C148,Master!AQ$60:BC$285,4,FALSE))","v":""},{"$f":"IF(ISNA(VLOOKUP(C148,Master!AQ$60:BC$285,5,FALSE)),\"\",VLOOKUP(C148,Master!AQ$60:BC$285,5,FALSE))","v":""},{"$f":"IF(ISNA(VLOOKUP(C148,Master!AQ$60:BC$285,6,FALSE)),\"\",VLOOKUP(C148,Master!AQ$60:BC$285,6,FALSE))","v":""},"","","","","",{"$f":"IF(ISNA(VLOOKUP(C148,Master!AQ$60:BC$285,12,FALSE)),\"\",VLOOKUP(C148,Master!AQ$60:BC$285,12,FALSE))","v":""},{"$nulls":3},0,1,{"$f":"IF(ISNA(VLOOKUP(C148,Master!AQ$60:BC$107,10,FALSE)),\"\",VLOOKUP(C148,Master!AQ$60:BC$107,10,FALSE))","v":""},null,null,{"$f":"IF(ISNA(VLOOKUP(C148,Master!AQ$60:BC$107,11,FALSE)),\"\",VLOOKUP(C148,Master!AQ$60:BC$107,11,FALSE))","v":""},{"$f":"IF(ISNA(VLOOKUP(C148,Master!AQ$60:BC$107,9,FALSE)),\"\",VLOOKUP(C148,Master!AQ$60:BC$107,9,FALSE))","v":""},0,0,0,0,0,0,"","","","","","",0,0,"",0,0,0,0,0,0,0,null,null,0,0,0,0,0,0,0,0,0,0,0,0,0,0,0,0,null,null,0,0,1,0,0,0,1,0,1,0,0,""]
["",2202,123,{"$f":"IF(ISNA(VLOOKUP(C149,Master!AQ$60:BC$285,3,FALSE)),\"\",VLOOKUP(C149,Master!AQ$60:BC$285,3,FALSE))","v":""},{"$f":"IF(ISNA(VLOOKUP(C149,Master!AQ$60:BC$285,7,FALSE)),\"\",VLOOKUP(C149,Master!AQ$60:BC$285,7,FALSE))","v":""},{"$f":"IF(ISNA(VLOOKUP(C149,Master!AQ$60:BC$285,8,FALSE)),\"\",VLOOKUP(C149,Master!AQ$60:BC$285,8,FALSE))","v":""},{"$f":"IF(ISNA(VLOOKUP(C149,Master!AQ$60:BC$285,4,FALSE)),\"\",VLOOKUP(C149,Master!AQ$60:BC$285,4,FALSE))","v":""},{"$f":"IF(ISNA(VLOOKUP(C149,Master!AQ$60:BC$285,5,FALSE)),\"\",VLOOKUP(C149,Master!AQ$60:BC$285,5,FALSE))","v":""},{"$f":"IF(ISNA(VLOOKUP(C149,Master!AQ$60:BC$285,6,FALSE)),\"\",VLOOKUP(C149,Master!AQ$60:BC$285,6,FALSE))","v":""},"","","","","",{"$f":"IF(ISNA(VLOOKUP(C149,Master!AQ$60:BC$285,12,FALSE)),\"\",VLOOKUP(C149,Master!AQ$60:BC$285,12,FALSE))","v":""},{"$nulls":3},0,1,{"$f":"IF(ISNA(VLOOKUP(C149,Master!AQ$60:BC$107,10,FALSE)),\"\",VLOOKUP(C149,Master!AQ$60:BC$107,10,FALSE))","v":""},null,null,{"$f":"IF(ISNA(VLOOKUP(C149,Master!AQ$60:BC$107,11,FALSE)),\"\",VLOOKUP(C149,Master!AQ$60:BC$107,11,FALSE))","v":""},{"$f":"IF(ISNA(VLOOKUP(C149,Master!AQ$60:BC$107,9,FALSE)),\"\",VLOOKUP(C149,Master!AQ$60:BC$107,9,FALSE))","v":""},0,0,0,0,0,0,"","","","","","",0,0,"",0,0,0,0,0,0,0,null,null,0,0,0,0,0,0,0,0,0,0,0,0,0,0,0,0,null,null,0,0,1,0,0,0,1,0,1,0,0,""]
["",2202,124,{"$f":"IF(ISNA(VLOOKUP(C150,Master!AQ$60:BC$285,3,FALSE)),\"\",VLOOKUP(C150,Master!AQ$60:BC$285,3,FALSE))","v":""},{"$f":"IF(ISNA(VLOOKUP(C150,Master!AQ$60:BC$285,7,FALSE)),\"\",VLOOKUP(C150,Master!AQ$60:BC$285,7,FALSE))","v":""},{"$f":"IF(ISNA(VLOOKUP(C150,Master!AQ$60:BC$285,8,FALSE)),\"\",VLOOKUP(C150,Master!AQ$60:BC$285,8,FALSE))","v":""},{"$f":"IF(ISNA(VLOOKUP(C150,Master!AQ$60:BC$285,4,FALSE)),\"\",VLOOKUP(C150,Master!AQ$60:BC$285,4,FALSE))","v":""},{"$f":"IF(ISNA(VLOOKUP(C150,Master!AQ$60:BC$285,5,FALSE)),\"\",VLOOKUP(C150,Master!AQ$60:BC$285,5,FALSE))","v":""},{"$f":"IF(ISNA(VLOOKUP(C150,Master!AQ$60:BC$285,6,FALSE)),\"\",VLOOKUP(C150,Master!AQ$60:BC$285,6,FALSE))","v":""},"","","","","",{"$f":"IF(ISNA(VLOOKUP(C150,Master!AQ$60:BC$285,12,FALSE)),\"\",VLOOKUP(C150,Master!AQ$60:BC$285,12,FALSE))","v":""},{"$nulls":3},0,1,{"$f":"IF(ISNA(VLOOKUP(C150,Master!AQ$60:BC$107,10,FALSE)),\"\",VLOOKUP(C150,Master!AQ$60:BC$107,10,FALSE))","v":""},null,null,{"$f":"IF(ISNA(VLOOKUP(C150,Master!AQ$60:BC$107,11,FALSE)),\"\",VLOOKUP(C150,Master!AQ$60:BC$107,11,FALSE))","v":""},{"$f":"IF(ISNA(VLOOKUP(C150,Master!AQ$60:BC$107,9,FALSE)),\"\",VLOOKUP(C150,Master!AQ$60:BC$107,9,FALSE))","v":""},0,0,0,0,0,0,"","","","","","",0,0,"",0,0,0,0,0,0,0,null,null,0,0,0,0,0,0,0,0,0,0,0,0,0,0,0,0,null,null,0,0,1,0,0,0,1,0,1,0,0,""]
["",2202,125,{"$f":"IF(ISNA(VLOOKUP(C151,Master!AQ$60:BC$285,3,FALSE)),\"\",VLOOKUP(C151,Master!AQ$60:BC$285,3,FALSE))","v":""},{"$f":"IF(ISNA(VLOOKUP(C151,Master!AQ$60:BC$285,7,FALSE)),\"\",VLOOKUP(C151,Master!AQ$60:BC$285,7,FALSE))","v":""},{"$f":"IF(ISNA(VLOOKUP(C151,Master!AQ$60:BC$285,8,FALSE)),\"\",VLOOKUP(C151,Master!AQ$60:BC$285,8,FALSE))","v":""},{"$f":"IF(ISNA(VLOOKUP(C151,Master!AQ$60:BC$285,4,FALSE)),\"\",VLOOKUP(C151,Master!AQ$60:BC$285,4,FALSE))","v":""},{"$f":"IF(ISNA(VLOOKUP(C151,Master!AQ$60:BC$285,5,FALSE)),\"\",VLOOKUP(C151,Master!AQ$60:BC$285,5,FALSE))","v":""},{"$f":"IF(ISNA(VLOOKUP(C151,Master!AQ$60:BC$285,6,FALSE)),\"\",VLOOKUP(C151,Master!AQ$60:BC$285,6,FALSE))","v":""},"","","","","",{"$f":"IF(ISNA(VLOOKUP(C151,Master!AQ$60:BC$285,12,FALSE)),\"\",VLOOKUP(C151,Master!AQ$60:BC$285,12,FALSE))","v":""},{"$nulls":3},0,1,{"$f":"IF(ISNA(VLOOKUP(C151,Master!AQ$60:BC$107,10,FALSE)),\"\",VLOOKUP(C151,Master!AQ$60:BC$107,10,FALSE))","v":""},null,null,{"$f":"IF(ISNA(VLOOKUP(C151,Master!AQ$60:BC$107,11,FALSE)),\"\",VLOOKUP(C151,Master!AQ$60:BC$107,11,FALSE))","v":""},{"$f":"IF(ISNA(VLOOKUP(C151,Master!AQ$60:BC$107,9,FALSE)),\"\",VLOOKUP(C151,Master!AQ$60:BC$107,9,FALSE))","v":""},0,0,0,0,0,0,"","","","","","",0,0,"",0,0,0,0,0,0,0,null,null,0,0,0,0,0,0,0,0,0,0,0,0,0,0,0,0,null,null,0,0,1,0,0,0,1,0,1,0,0,""]
["",2202,126,{"$f":"IF(ISNA(VLOOKUP(C152,Master!AQ$60:BC$285,3,FALSE)),\"\",VLOOKUP(C152,Master!AQ$60:BC$285,3,FALSE))","v":""},{"$f":"IF(ISNA(VLOOKUP(C152,Master!AQ$60:BC$285,7,FALSE)),\"\",VLOOKUP(C152,Master!AQ$60:BC$285,7,FALSE))","v":""},{"$f":"IF(ISNA(VLOOKUP(C152,Master!AQ$60:BC$285,8,FALSE)),\"\",VLOOKUP(C152,Master!AQ$60:BC$285,8,FALSE))","v":""},{"$f":"IF(ISNA(VLOOKUP(C152,Master!AQ$60:BC$285,4,FALSE)),\"\",VLOOKUP(C152,Master!AQ$60:BC$285,4,FALSE))","v":""},{"$f":"IF(ISNA(VLOOKUP(C152,Master!AQ$60:BC$285,5,FALSE)),\"\",VLOOKUP(C152,Master!AQ$60:BC$285,5,FALSE))","v":""},{"$f":"IF(ISNA(VLOOKUP(C152,Master!AQ$60:BC$285,6,FALSE)),\"\",VLOOKUP(C152,Master!AQ$60:BC$285,6,FALSE))","v":""},"","","","","",{"$f":"IF(ISNA(VLOOKUP(C152,Master!AQ$60:BC$285,12,FALSE)),\"\",VLOOKUP(C152,Master!AQ$60:BC$285,12,FALSE))","v":""},{"$nulls":3},0,1,{"$f":"IF(ISNA(VLOOKUP(C152,Master!AQ$60:BC$107,10,FALSE)),\"\",VLOOKUP(C152,Master!AQ$60:BC$107,10,FALSE))","v":""},null,null,{"$f":"IF(ISNA(VLOOKUP(C152,Master!AQ$60:BC$107,11,FALSE)),\"\",VLOOKUP(C152,Master!AQ$60:BC$107,11,FALSE))","v":""},{"$f":"IF(ISNA(VLOOKUP(C152,Master!AQ$60:BC$107,9,FALSE)),\"\",VLOOKUP(C152,Master!AQ$60:BC$107,9,FALSE))","v":""},0,0,0,0,0,0,"","","","","","",0,0,"",0,0,0,0,0,0,0,null,null,0,0,0,0,0,0,0,0,0,0,0,0,0,0,0,0,null,null,0,0,1,0,0,0,1,0,1,0,0,""]
["",2202,127,{"$f":"IF(ISNA(VLOOKUP(C153,Master!AQ$60:BC$285,3,FALSE)),\"\",VLOOKUP(C153,Master!AQ$60:BC$285,3,FALSE))","v":""},{"$f":"IF(ISNA(VLOOKUP(C153,Master!AQ$60:BC$285,7,FALSE)),\"\",VLOOKUP(C153,Master!AQ$60:BC$285,7,FALSE))","v":""},{"$f":"IF(ISNA(VLOOKUP(C153,Master!AQ$60:BC$285,8,FALSE)),\"\",VLOOKUP(C153,Master!AQ$60:BC$285,8,FALSE))","v":""},{"$f":"IF(ISNA(VLOOKUP(C153,Master!AQ$60:BC$285,4,FALSE)),\"\",VLOOKUP(C153,Master!AQ$60:BC$285,4,FALSE))","v":""},{"$f":"IF(ISNA(VLOOKUP(C153,Master!AQ$60:BC$285,5,FALSE)),\"\",VLOOKUP(C153,Master!AQ$60:BC$285,5,FALSE))","v":""},{"$f":"IF(ISNA(VLOOKUP(C153,Master!AQ$60:BC$285,6,FALSE)),\"\",VLOOKUP(C153,Master!AQ$60:BC$285,6,FALSE))","v":""},"","","","","",{"$f":"IF(ISNA(VLOOKUP(C153,Master!AQ$60:BC$285,12,FALSE)),\"\",VLOOKUP(C153,Master!AQ$60:BC$285,12,FALSE))","v":""},{"$nulls":3},0,1,{"$f":"IF(ISNA(VLOOKUP(C153,Master!AQ$60:BC$107,10,FALSE)),\"\",VLOOKUP(C153,Master!AQ$60:BC$107,10,FALSE))","v":""},null,null,{"$f":"IF(ISNA(VLOOKUP(C153,Master!AQ$60:BC$107,11,FALSE)),\"\",VLOOKUP(C153,Master!AQ$60:BC$107,11,FALSE))","v":""},{"$f":"IF(ISNA(VLOOKUP(C153,Master!AQ$60:BC$107,9,FALSE)),\"\",VLOOKUP(C153,Master!AQ$60:BC$107,9,FALSE))","v":""},0,0,0,0,0,0,"","","","","","",0,0,"",0,0,0,0,0,0,0,null,null,0,0,0,0,0,0,0,0,0,0,0,0,0,0,0,0,null,null,0,0,1,0,0,0,1,0,1,0,0,""]
["",2202,128,{"$f":"IF(ISNA(VLOOKUP(C154,Master!AQ$60:BC$285,3,FALSE)),\"\",VLOOKUP(C154,Master!AQ$60:BC$285,3,FALSE))","v":""},{"$f":"IF(ISNA(VLOOKUP(C154,Master!AQ$60:BC$285,7,FALSE)),\"\",VLOOKUP(C154,Master!AQ$60:BC$285,7,FALSE))","v":""},{"$f":"IF(ISNA(VLOOKUP(C154,Master!AQ$60:BC$285,8,FALSE)),\"\",VLOOKUP(C154,Master!AQ$60:BC$285,8,FALSE))","v":""},{"$f":"IF(ISNA(VLOOKUP(C154,Master!AQ$60:BC$285,4,FALSE)),\"\",VLOOKUP(C154,Master!AQ$60:BC$285,4,FALSE))","v":""},{"$f":"IF(ISNA(VLOOKUP(C154,Master!AQ$60:BC$285,5,FALSE)),\"\",VLOOKUP(C154,Master!AQ$60:BC$285,5,FALSE))","v":""},{"$f":"IF(ISNA(VLOOKUP(C154,Master!AQ$60:BC$285,6,FALSE)),\"\",VLOOKUP(C154,Master!AQ$60:BC$285,6,FALSE))","v":""},"","","","","",{"$f":"IF(ISNA(VLOOKUP(C154,Master!AQ$60:BC$285,12,FALSE)),\"\",VLOOKUP(C154,Master!AQ$60:BC$285,12,FALSE))","v":""},{"$nulls":3},0,1,{"$f":"IF(ISNA(VLOOKUP(C154,Master!AQ$60:BC$107,10,FALSE)),\"\",VLOOKUP(C154,Master!AQ$60:BC$107,10,FALSE))","v":""},null,null,{"$f":"IF(ISNA(VLOOKUP(C154,Master!AQ$60:BC$107,11,FALSE)),\"\",VLOOKUP(C154,Master!AQ$60:BC$107,11,FALSE))","v":""},{"$f":"IF(ISNA(VLOOKUP(C154,Master!AQ$60:BC$107,9,FALSE)),\"\",VLOOKUP(C154,Master!AQ$60:BC$107,9,FALSE))","v":""},0,0,0,0,0,0,"","","","","","",0,0,"",0,0,0,0,0,0,0,null,null,0,0,0,0,0,0,0,0,0,0,0,0,0,0,0,0,null,null,0,0,1,0,0,0,1,0,1,0,0,""]
["",2202,129,{"$f":"IF(ISNA(VLOOKUP(C155,Master!AQ$60:BC$285,3,FALSE)),\"\",VLOOKUP(C155,Master!AQ$60:BC$285,3,FALSE))","v":""},{"$f":"IF(ISNA(VLOOKUP(C155,Master!AQ$60:BC$285,7,FALSE)),\"\",VLOOKUP(C155,Master!AQ$60:BC$285,7,FALSE))","v":""},{"$f":"IF(ISNA(VLOOKUP(C155,Master!AQ$60:BC$285,8,FALSE)),\"\",VLOOKUP(C155,Master!AQ$60:BC$285,8,FALSE))","v":""},{"$f":"IF(ISNA(VLOOKUP(C155,Master!AQ$60:BC$285,4,FALSE)),\"\",VLOOKUP(C155,Master!AQ$60:BC$285,4,FALSE))","v":""},{"$f":"IF(ISNA(VLOOKUP(C155,Master!AQ$60:BC$285,5,FALSE)),\"\",VLOOKUP(C155,Master!AQ$60:BC$285,5,FALSE))","v":""},{"$f":"IF(ISNA(VLOOKUP(C155,Master!AQ$60:BC$285,6,FALSE)),\"\",VLOOKUP(C155,Master!AQ$60:BC$285,6,FALSE))","v":""},"","","","","",{"$f":"IF(ISNA(VLOOKUP(C155,Master!AQ$60:BC$285,12,FALSE)),\"\",VLOOKUP(C155,Master!AQ$60:BC$285,12,FALSE))","v":""},{"$nulls":3},{"$f":"IF(H155=\"l-10\",6774,IF(H155=\"l-11\",6774,IF(H155=\"l-12\",6774,0)))","v":0},1,{"$f":"IF(ISNA(VLOOKUP(C155,Master!AQ$60:BC$107,10,FALSE)),\"\",VLOOKUP(C155,Master!AQ$60:BC$107,10,FALSE))","v":""},null,null,{"$f":"IF(ISNA(VLOOKUP(C155,Master!AQ$60:BC$107,11,FALSE)),\"\",VLOOKUP(C155,Master!AQ$60:BC$107,11,FALSE))","v":""},{"$f":"IF(ISNA(VLOOKUP(C155,Master!AQ$60:BC$107,9,FALSE)),\"\",VLOOKUP(C155,Master!AQ$60:BC$107,9,FALSE))","v":""},0,0,0,0,0,0,"","","","","","",0,0,"",0,0,0,0,0,0,0,null,null,0,0,0,0,0,0,0,0,0,0,0,0,0,0,0,0,null,null,0,0,1,0,0,0,1,{"$f":"IF((ROUND((SUMPRODUCT(MID(0&E155,LARGE(INDEX(ISNUMBER(--MID(E155,ROW($1:$25),1))* ROW($1:$25),0),ROW($1:$25))+1,1)*10^ROW($1:$25)/10)),-8)/100000000)>=2004,1,0)","v":0},1,0,0,{"$f":"IF(AND(E155=\"\"),\"\",IF(AND(E155<=0),\"\",IF((ROUND((SUMPRODUCT(MID(0&E155,LARGE(INDEX(ISNUMBER(--MID(E155,ROW($1:$70),1))* ROW($1:$70),0),ROW($1:$70))+1,1)*10^ROW($1:$70)/10)),-8)/100000000)<2004,1,0)))","v":""}]
["",2202,130,{"$f":"IF(ISNA(VLOOKUP(C156,Master!AQ$60:BC$285,3,FALSE)),\"\",VLOOKUP(C156,Master!AQ$60:BC$285,3,FALSE))","v":""},{"$f":"IF(ISNA(VLOOKUP(C156,Master!AQ$60:BC$285,7,FALSE)),\"\",VLOOKUP(C156,Master!AQ$60:BC$285,7,FALSE))","v":""},{"$f":"IF(ISNA(VLOOKUP(C156,Master!AQ$60:BC$285,8,FALSE)),\"\",VLOOKUP(C156,Master!AQ$60:BC$285,8,FALSE))","v":""},{"$f":"IF(ISNA(VLOOKUP(C156,Master!AQ$60:BC$285,4,FALSE)),\"\",VLOOKUP(C156,Master!AQ$60:BC$285,4,FALSE))","v":""},{"$f":"IF(ISNA(VLOOKUP(C156,Master!AQ$60:BC$285,5,FALSE)),\"\",VLOOKUP(C156,Master!AQ$60:BC$285,5,FALSE))","v":""},{"$f":"IF(ISNA(VLOOKUP(C156,Master!AQ$60:BC$285,6,FALSE)),\"\",VLOOKUP(C156,Master!AQ$60:BC$285,6,FALSE))","v":""},{"$f":"IF(AND(I156=\"\"),\"\",I156*12)","v":""},{"$f":"IF(AND(I156=\"\"),\"\",IF(I156<=0,\"\",(CONCATENATE(\"01.07.\",(YEAR(TODAY())+1)))))","v":""},{"$f":"IF(AND(I156=\"\"),\"\",ROUND(ROUND(I156*3%,0),-2)*IF(H156=\"FIX PAY\",0,1)*8)","v":""},{"$f":"IF(AND(I156=\"\"),\"\",J156+L156)","v":""},{"$f":"IF(AND(I156=\"\"),\"\",IF(O156=\"FIX PAY\",M156,((IF(O156=\"FIX PAY\",0,AF156*4+I156*8)))))","v":""},{"$f":"IF(ISNA(VLOOKUP(C156,Master!AQ$60:BC$285,12,FALSE)),\"\",VLOOKUP(C156,Master!AQ$60:BC$285,12,FALSE))","v":""},{"$nulls":3},0,1,{"$f":"IF(ISNA(VLOOKUP(C156,Master!AQ$60:BC$107,10,FALSE)),\"\",VLOOKUP(C156,Master!AQ$60:BC$107,10,FALSE))","v":""},null,null,{"$f":"IF(ISNA(VLOOKUP(C156,Master!AQ$60:BC$107,11,FALSE)),\"\",VLOOKUP(C156,Master!AQ$60:BC$107,11,FALSE))","v":""},{"$f":"IF(ISNA(VLOOKUP(C156,Master!AQ$60:BC$107,9,FALSE)),\"\",VLOOKUP(C156,Master!AQ$60:BC$107,9,FALSE))","v":""},0,0,0,0,0,0,"","","","","","",0,0,"",0,0,0,0,0,0,0,null,null,0,0,0,0,0,0,0,0,0,0,0,0,0,0,0,0,null,null,0,0,1,0,0,0,1,0,1,0,0,""]
[{"$f":"IF(I157=\"\",\"\",IF(I157>0,A156+1,\"\"))","v":""},2202,131,{"$f":"IF(ISNA(VLOOKUP(C157,Master!AQ$60:BC$285,3,FALSE)),\"\",VLOOKUP(C157,Master!AQ$60:BC$285,3,FALSE))","v":""},{"$f":"IF(ISNA(VLOOKUP(C157,Master!AQ$60:BC$285,7,FALSE)),\"\",VLOOKUP(C157,Master!AQ$60:BC$285,7,FALSE))","v":""},{"$f":"IF(ISNA(VLOOKUP(C157,Master!AQ$60:BC$285,8,FALSE)),\"\",VLOOKUP(C157,Master!AQ$60:BC$285,8,FALSE))","v":""},{"$f":"IF(ISNA(VLOOKUP(C157,Master!AQ$60:BC$285,4,FALSE)),\"\",VLOOKUP(C157,Master!AQ$60:BC$285,4,FALSE))","v":""},{"$f":"IF(ISNA(VLOOKUP(C157,Master!AQ$60:BC$285,5,FALSE)),\"\",VLOOKUP(C157,Master!AQ$60:BC$285,5,FALSE))","v":""},{"$f":"IF(ISNA(VLOOKUP(C157,Master!AQ$60:BC$285,6,FALSE)),\"\",VLOOKUP(C157,Master!AQ$60:BC$285,6,FALSE))","v":""},"","","","","",{"$f":"IF(ISNA(VLOOKUP(C157,Master!AQ$60:BC$285,12,FALSE)),\"\",VLOOKUP(C157,Master!AQ$60:BC$285,12,FALSE))","v":""},{"$nulls":3},0,1,{"$f":"IF(ISNA(VLOOKUP(C157,Master!AQ$60:BC$107,10,FALSE)),\"\",VLOOKUP(C157,Master!AQ$60:BC$107,10,FALSE))","v":""},null,null,{"$f":"IF(ISNA(VLOOKUP(C157,Master!AQ$60:BC$107,11,FALSE)),\"\",VLOOKUP(C157,Master!AQ$60:BC$107,11,FALSE))","v":""},{"$f":"IF(ISNA(VLOOKUP(C157,Master!AQ$60:BC$107,9,FALSE)),\"\",VLOOKUP(C157,Master!AQ$60:BC$107,9,FALSE))","v":""},0,0,0,0,0,0,"","","","","","",0,0,"",0,0,0,0,0,0,0,null,null,0,0,0,0,0,0,0,0,0,0,0,0,0,0,0,0,null,null,0,0,1,0,0,0,1,0,1,0,0,""]
["",2202,132,{"$f":"IF(ISNA(VLOOKUP(C158,Master!AQ$60:BC$285,3,FALSE)),\"\",VLOOKUP(C158,Master!AQ$60:BC$285,3,FALSE))","v":""},{"$f":"IF(ISNA(VLOOKUP(C158,Master!AQ$60:BC$285,7,FALSE)),\"\",VLOOKUP(C158,Master!AQ$60:BC$285,7,FALSE))","v":""},{"$f":"IF(ISNA(VLOOKUP(C158,Master!AQ$60:BC$285,8,FALSE)),\"\",VLOOKUP(C158,Master!AQ$60:BC$285,8,FALSE))","v":""},{"$f":"IF(ISNA(VLOOKUP(C158,Master!AQ$60:BC$285,4,FALSE)),\"\",VLOOKUP(C158,Master!AQ$60:BC$285,4,FALSE))","v":""},{"$f":"IF(ISNA(VLOOKUP(C158,Master!AQ$60:BC$285,5,FALSE)),\"\",VLOOKUP(C158,Master!AQ$60:BC$285,5,FALSE))","v":""},{"$f":"IF(ISNA(VLOOKUP(C158,Master!AQ$60:BC$285,6,FALSE)),\"\",VLOOKUP(C158,Master!AQ$60:BC$285,6,FALSE))","v":""},"","","","","",{"$f":"IF(ISNA(VLOOKUP(C158,Master!AQ$60:BC$285,12,FALSE)),\"\",VLOOKUP(C158,Master!AQ$60:BC$285,12,FALSE))","v":""},{"$nulls":3},0,1,{"$f":"IF(ISNA(VLOOKUP(C158,Master!AQ$60:BC$107,10,FALSE)),\"\",VLOOKUP(C158,Master!AQ$60:BC$107,10,FALSE))","v":""},null,null,{"$f":"IF(ISNA(VLOOKUP(C158,Master!AQ$60:BC$107,11,FALSE)),\"\",VLOOKUP(C158,Master!AQ$60:BC$107,11,FALSE))","v":""},{"$f":"IF(ISNA(VLOOKUP(C158,Master!AQ$60:BC$107,9,FALSE)),\"\",VLOOKUP(C158,Master!AQ$60:BC$107,9,FALSE))","v":""},0,0,0,0,0,0,{"$f":"IF(AND(I158=\"\"),\"\",I158-ROUNDUP(ROUND((I158*3%)-(I158*3%)*2.9%,-2),0))","v":""},"","","","","",0,0,"",0,0,0,0,0,0,0,null,null,0,0,0,0,0,0,0,0,0,0,0,0,0,0,0,0,null,null,0,0,1,0,0,0,1,0,1,0,0,""]
["",2202,133,{"$f":"IF(ISNA(VLOOKUP(C159,Master!AQ$60:BC$285,3,FALSE)),\"\",VLOOKUP(C159,Master!AQ$60:BC$285,3,FALSE))","v":""},{"$f":"IF(ISNA(VLOOKUP(C159,Master!AQ$60:BC$285,7,FALSE)),\"\",VLOOKUP(C159,Master!AQ$60:BC$285,7,FALSE))","v":""},{"$f":"IF(ISNA(VLOOKUP(C159,Master!AQ$60:BC$285,8,FALSE)),\"\",VLOOKUP(C159,Master!AQ$60:BC$285,8,FALSE))","v":""},{"$f":"IF(ISNA(VLOOKUP(C159,Master!AQ$60:BC$285,4,FALSE)),\"\",VLOOKUP(C159,Master!AQ$60:BC$285,4,FALSE))","v":""},{"$f":"IF(ISNA(VLOOKUP(C159,Master!AQ$60:BC$285,5,FALSE)),\"\",VLOOKUP(C159,Master!AQ$60:BC$285,5,FALSE))","v":""},{"$f":"IF(ISNA(VLOOKUP(C159,Master!AQ$60:BC$285,6,FALSE)),\"\",VLOOKUP(C159,Master!AQ$60:BC$285,6,FALSE))","v":""},"","","","","",{"$f":"IF(ISNA(VLOOKUP(C159,Master!AQ$60:BC$285,12,FALSE)),\"\",VLOOKUP(C159,Master!AQ$60:BC$285,12,FALSE))","v":""},{"$nulls":3},0,1,{"$f":"IF(ISNA(VLOOKUP(C159,Master!AQ$60:BC$107,10,FALSE)),\"\",VLOOKUP(C159,Master!AQ$60:BC$107,10,FALSE))","v":""},null,null,{"$f":"IF(ISNA(VLOOKUP(C159,Master!AQ$60:BC$107,11,FALSE)),\"\",VLOOKUP(C159,Master!AQ$60:BC$107,11,FALSE))","v":""},{"$f":"IF(ISNA(VLOOKUP(C159,Master!AQ$60:BC$107,9,FALSE)),\"\",VLOOKUP(C159,Master!AQ$60:BC$107,9,FALSE))","v":""},0,0,0,0,0,0,{"$f":"IF(AND(I159=\"\"),\"\",I159-ROUNDUP(ROUND((I159*3%)-(I159*3%)*2.9%,-2),0))","v":""},{"$f":"IF(AND(I159=\"\"),\"\",$M159*$BQ159)","v":""},{"$f":"IF(AND(I159=\"\"),\"\",$M159*$BR159)","v":""},{"$f":"IF(AND(I159=\"\"),\"\",$M159*$BS159)","v":""},{"$f":"IF(AND(I159=\"\"),\"\",$M159*$BT159)","v":""},{"$f":"IF(AND(I159=\"\"),\"\",ROUND((AG159+AH159)*$AK$10,0)*BU159)","v":""},0,0,{"$f":"IF(AND(I159=\"\"),\"\",ROUND((AG159+AH159)*$AN$10,0)*BU159)","v":""},0,0,0,0,0,0,0,null,null,{"$f":"AU159+AV159+AW159","v":0},0,0,0,0,{"$f":"ROUND((AY159+AZ159)*$BC$10,0)*BU159","v":0},0,0,{"$f":"ROUND((AY159+AZ159)*$BF$10,0)*BU159","v":0},0,0,0,0,0,{"$f":"SUM(BC159:BK159)+AY159+AZ159","v":0},{"$f":"BL159","v":0},null,null,{"$f":"BM159+BN159+BO159","v":0},0,1,0,0,0,{"$f":"IF(X159=\"No\",0,1)","v":1},0,{"$f":"IF(I159<=0,0,1)","v":1},0,0,""]
["",2202,134,{"$f":"IF(ISNA(VLOOKUP(C160,Master!AQ$60:BC$285,3,FALSE)),\"\",VLOOKUP(C160,Master!AQ$60:BC$285,3,FALSE))","v":""},{"$f":"IF(ISNA(VLOOKUP(C160,Master!AQ$60:BC$285,7,FALSE)),\"\",VLOOKUP(C160,Master!AQ$60:BC$285,7,FALSE))","v":""},{"$f":"IF(ISNA(VLOOKUP(C160,Master!AQ$60:BC$285,8,FALSE)),\"\",VLOOKUP(C160,Master!AQ$60:BC$285,8,FALSE))","v":""},{"$f":"IF(ISNA(VLOOKUP(C160,Master!AQ$60:BC$285,4,FALSE)),\"\",VLOOKUP(C160,Master!AQ$60:BC$285,4,FALSE))","v":""},{"$f":"IF(ISNA(VLOOKUP(C160,Master!AQ$60:BC$285,5,FALSE)),\"\",VLOOKUP(C160,Master!AQ$60:BC$285,5,FALSE))","v":""},{"$f":"IF(ISNA(VLOOKUP(C160,Master!AQ$60:BC$285,6,FALSE)),\"\",VLOOKUP(C160,Master!AQ$60:BC$285,6,FALSE))","v":""},"","","","","",{"$f":"IF(ISNA(VLOOKUP(C160,Master!AQ$60:BC$285,12,FALSE)),\"\",VLOOKUP(C160,Master!AQ$60:BC$285,12,FALSE))","v":""},{"$nulls":3},0,1,{"$f":"IF(ISNA(VLOOKUP(C160,Master!AQ$60:BC$107,10,FALSE)),\"\",VLOOKUP(C160,Master!AQ$60:BC$107,10,FALSE))","v":""},null,null,{"$f":"IF(ISNA(VLOOKUP(C160,Master!AQ$60:BC$107,11,FALSE)),\"\",VLOOKUP(C160,Master!AQ$60:BC$107,11,FALSE))","v":""},{"$f":"IF(ISNA(VLOOKUP(C160,Master!AQ$60:BC$107,9,FALSE)),\"\",VLOOKUP(C160,Master!AQ$60:BC$107,9,FALSE))","v":""},0,0,0,0,0,0,{"$f":"IF(AND(I160=\"\"),\"\",I160-ROUNDUP(ROUND((I160*3%)-(I160*3%)*2.9%,-2),0))","v":""},{"$f":"IF(AND(I160=\"\"),\"\",$M160*$BQ160)","v":""},{"$f":"IF(AND(I160=\"\"),\"\",$M160*$BR160)","v":""},{"$f":"IF(AND(I160=\"\"),\"\",$M160*$BS160)","v":""},{"$f":"IF(AND(I160=\"\"),\"\",$M160*$BT160)","v":""},{"$f":"IF(AND(I160=\"\"),\"\",ROUND((AG160+AH160)*$AK$10,0)*BU160)","v":""},0,0,{"$f":"IF(AND(I160=\"\"),\"\",ROUND((AG160+AH160)*$AN$10,0)*BU160)","v":""},0,0,0,0,0,0,0,null,null,{"$f":"AU160+AV160+AW160","v":0},0,0,0,0,{"$f":"ROUND((AY160+AZ160)*$BC$10,0)*BU160","v":0},0,0,{"$f":"ROUND((AY160+AZ160)*$BF$10,0)*BU160","v":0},0,0,0,0,0,{"$f":"SUM(BC160:BK160)+AY160+AZ160","v":0},{"$f":"BL160","v":0},null,null,{"$f":"BM160+BN160+BO160","v":0},0,1,0,0,0,{"$f":"IF(X160=\"No\",0,1)","v":1},0,{"$f":"IF(I160<=0,0,1)","v":1},0,0,""]
["",2202,135,{"$f":"IF(ISNA(VLOOKUP(C161,Master!AQ$60:BC$285,3,FALSE)),\"\",VLOOKUP(C161,Master!AQ$60:BC$285,3,FALSE))","v":""},{"$f":"IF(ISNA(VLOOKUP(C161,Master!AQ$60:BC$285,7,FALSE)),\"\",VLOOKUP(C161,Master!AQ$60:BC$285,7,FALSE))","v":""},{"$f":"IF(ISNA(VLOOKUP(C161,Master!AQ$60:BC$285,8,FALSE)),\"\",VLOOKUP(C161,Master!AQ$60:BC$285,8,FALSE))","v":""},{"$f":"IF(ISNA(VLOOKUP(C161,Master!AQ$60:BC$285,4,FALSE)),\"\",VLOOKUP(C161,Master!AQ$60:BC$285,4,FALSE))","v":""},{"$f":"IF(ISNA(VLOOKUP(C161,Master!AQ$60:BC$285,5,FALSE)),\"\",VLOOKUP(C161,Master!AQ$60:BC$285,5,FALSE))","v":""},{"$f":"IF(ISNA(VLOOKUP(C161,Master!AQ$60:BC$285,6,FALSE)),\"\",VLOOKUP(C161,Master!AQ$60:BC$285,6,FALSE))","v":""},"","","","","",{"$f":"IF(ISNA(VLOOKUP(C161,Master!AQ$60:BC$285,12,FALSE)),\"\",VLOOKUP(C161,Master!AQ$60:BC$285,12,FALSE))","v":""},{"$nulls":3},0,1,{"$f":"IF(ISNA(VLOOKUP(C161,Master!AQ$60:BC$107,10,FALSE)),\"\",VLOOKUP(C161,Master!AQ$60:BC$107,10,FALSE))","v":""},null,null,{"$f":"IF(ISNA(VLOOKUP(C161,Master!AQ$60:BC$107,11,FALSE)),\"\",VLOOKUP(C161,Master!AQ$60:BC$107,11,FALSE))","v":""},{"$f":"IF(ISNA(VLOOKUP(C161,Master!AQ$60:BC$107,9,FALSE)),\"\",VLOOKUP(C161,Master!AQ$60:BC$107,9,FALSE))","v":""},0,0,0,0,0,0,"","","","","","",0,0,"",0,0,0,0,0,0,0,null,null,0,0,0,0,0,0,0,0,0,0,0,0,0,0,0,0,null,null,0,0,1,0,0,0,1,0,1,0,0,""]
["",2202,136,{"$f":"IF(ISNA(VLOOKUP(C162,Master!AQ$60:BC$285,3,FALSE)),\"\",VLOOKUP(C162,Master!AQ$60:BC$285,3,FALSE))","v":""},{"$f":"IF(ISNA(VLOOKUP(C162,Master!AQ$60:BC$285,7,FALSE)),\"\",VLOOKUP(C162,Master!AQ$60:BC$285,7,FALSE))","v":""},{"$f":"IF(ISNA(VLOOKUP(C162,Master!AQ$60:BC$285,8,FALSE)),\"\",VLOOKUP(C162,Master!AQ$60:BC$285,8,FALSE))","v":""},{"$f":"IF(ISNA(VLOOKUP(C162,Master!AQ$60:BC$285,4,FALSE)),\"\",VLOOKUP(C162,Master!AQ$60:BC$285,4,FALSE))","v":""},{"$f":"IF(ISNA(VLOOKUP(C162,Master!AQ$60:BC$285,5,FALSE)),\"\",VLOOKUP(C162,Master!AQ$60:BC$285,5,FALSE))","v":""},{"$f":"IF(ISNA(VLOOKUP(C162,Master!AQ$60:BC$285,6,FALSE)),\"\",VLOOKUP(C162,Master!AQ$60:BC$285,6,FALSE))","v":""},"","","","","",{"$f":"IF(ISNA(VLOOKUP(C162,Master!AQ$60:BC$285,12,FALSE)),\"\",VLOOKUP(C162,Master!AQ$60:BC$285,12,FALSE))","v":""},{"$nulls":3},0,1,{"$f":"IF(ISNA(VLOOKUP(C162,Master!AQ$60:BC$107,10,FALSE)),\"\",VLOOKUP(C162,Master!AQ$60:BC$107,10,FALSE))","v":""},null,null,{"$f":"IF(ISNA(VLOOKUP(C162,Master!AQ$60:BC$107,11,FALSE)),\"\",VLOOKUP(C162,Master!AQ$60:BC$107,11,FALSE))","v":""},{"$f":"IF(ISNA(VLOOKUP(C162,Master!AQ$60:BC$107,9,FALSE)),\"\",VLOOKUP(C162,Master!AQ$60:BC$107,9,FALSE))","v":""},0,0,0,0,0,0,"","","","","","",0,0,"",0,0,0,0,0,0,0,null,null,0,0,0,0,0,0,0,0,0,0,0,0,0,0,0,0,null,null,0,0,1,0,0,0,1,0,1,0,0,""]
["",2202,137,{"$f":"IF(ISNA(VLOOKUP(C163,Master!AQ$60:BC$285,3,FALSE)),\"\",VLOOKUP(C163,Master!AQ$60:BC$285,3,FALSE))","v":""},{"$f":"IF(ISNA(VLOOKUP(C163,Master!AQ$60:BC$285,7,FALSE)),\"\",VLOOKUP(C163,Master!AQ$60:BC$285,7,FALSE))","v":""},{"$f":"IF(ISNA(VLOOKUP(C163,Master!AQ$60:BC$285,8,FALSE)),\"\",VLOOKUP(C163,Master!AQ$60:BC$285,8,FALSE))","v":""},{"$f":"IF(ISNA(VLOOKUP(C163,Master!AQ$60:BC$285,4,FALSE)),\"\",VLOOKUP(C163,Master!AQ$60:BC$285,4,FALSE))","v":""},{"$f":"IF(ISNA(VLOOKUP(C163,Master!AQ$60:BC$285,5,FALSE)),\"\",VLOOKUP(C163,Master!AQ$60:BC$285,5,FALSE))","v":""},{"$f":"IF(ISNA(VLOOKUP(C163,Master!AQ$60:BC$285,6,FALSE)),\"\",VLOOKUP(C163,Master!AQ$60:BC$285,6,FALSE))","v":""},"","","","","",{"$f":"IF(ISNA(VLOOKUP(C163,Master!AQ$60:BC$285,12,FALSE)),\"\",VLOOKUP(C163,Master!AQ$60:BC$285,12,FALSE))","v":""},{"$nulls":3},0,1,{"$f":"IF(ISNA(VLOOKUP(C163,Master!AQ$60:BC$107,10,FALSE)),\"\",VLOOKUP(C163,Master!AQ$60:BC$107,10,FALSE))","v":""},null,null,{"$f":"IF(ISNA(VLOOKUP(C163,Master!AQ$60:BC$107,11,FALSE)),\"\",VLOOKUP(C163,Master!AQ$60:BC$107,11,FALSE))","v":""},{"$f":"IF(ISNA(VLOOKUP(C163,Master!AQ$60:BC$107,9,FALSE)),\"\",VLOOKUP(C163,Master!AQ$60:BC$107,9,FALSE))","v":""},0,0,0,0,0,0,"","","","","","",0,0,"",0,0,0,0,0,0,0,null,null,0,0,0,0,0,0,0,0,0,0,0,0,0,0,0,0,null,null,0,0,1,0,0,0,1,0,1,0,0,""]
["",2202,138,{"$f":"IF(ISNA(VLOOKUP(C164,Master!AQ$60:BC$285,3,FALSE)),\"\",VLOOKUP(C164,Master!AQ$60:BC$285,3,FALSE))","v":""},{"$f":"IF(ISNA(VLOOKUP(C164,Master!AQ$60:BC$285,7,FALSE)),\"\",VLOOKUP(C164,Master!AQ$60:BC$285,7,FALSE))","v":""},{"$f":"IF(ISNA(VLOOKUP(C164,Master!AQ$60:BC$285,8,FALSE)),\"\",VLOOKUP(C164,Master!AQ$60:BC$285,8,FALSE))","v":""},{"$f":"IF(ISNA(VLOOKUP(C164,Master!AQ$60:BC$285,4,FALSE)),\"\",VLOOKUP(C164,Master!AQ$60:BC$285,4,FALSE))","v":""},{"$f":"IF(ISNA(VLOOKUP(C164,Master!AQ$60:BC$285,5,FALSE)),\"\",VLOOKUP(C164,Master!AQ$60:BC$285,5,FALSE))","v":""},{"$f":"IF(ISNA(VLOOKUP(C164,Master!AQ$60:BC$285,6,FALSE)),\"\",VLOOKUP(C164,Master!AQ$60:BC$285,6,FALSE))","v":""},"","","","","",{"$f":"IF(ISNA(VLOOKUP(C164,Master!AQ$60:BC$285,12,FALSE)),\"\",VLOOKUP(C164,Master!AQ$60:BC$285,12,FALSE))","v":""},{"$nulls":3},0,1,{"$f":"IF(ISNA(VLOOKUP(C164,Master!AQ$60:BC$107,10,FALSE)),\"\",VLOOKUP(C164,Master!AQ$60:BC$107,10,FALSE))","v":""},null,null,{"$f":"IF(ISNA(VLOOKUP(C164,Master!AQ$60:BC$107,11,FALSE)),\"\",VLOOKUP(C164,Master!AQ$60:BC$107,11,FALSE))","v":""},{"$f":"IF(ISNA(VLOOKUP(C164,Master!AQ$60:BC$107,9,FALSE)),\"\",VLOOKUP(C164,Master!AQ$60:BC$107,9,FALSE))","v":""},0,0,0,0,0,0,"","","","","","",0,0,"",0,0,0,0,0,0,0,null,null,0,0,0,0,0,0,0,0,0,0,0,0,0,0,0,0,null,null,0,0,1,0,0,0,1,0,1,0,0,""]
["",2202,139,{"$f":"IF(ISNA(VLOOKUP(C165,Master!AQ$60:BC$285,3,FALSE)),\"\",VLOOKUP(C165,Master!AQ$60:BC$285,3,FALSE))","v":""},{"$f":"IF(ISNA(VLOOKUP(C165,Master!AQ$60:BC$285,7,FALSE)),\"\",VLOOKUP(C165,Master!AQ$60:BC$285,7,FALSE))","v":""},{"$f":"IF(ISNA(VLOOKUP(C165,Master!AQ$60:BC$285,8,FALSE)),\"\",VLOOKUP(C165,Master!AQ$60:BC$285,8,FALSE))","v":""},{"$f":"IF(ISNA(VLOOKUP(C165,Master!AQ$60:BC$285,4,FALSE)),\"\",VLOOKUP(C165,Master!AQ$60:BC$285,4,FALSE))","v":""},{"$f":"IF(ISNA(VLOOKUP(C165,Master!AQ$60:BC$285,5,FALSE)),\"\",VLOOKUP(C165,Master!AQ$60:BC$285,5,FALSE))","v":""},{"$f":"IF(ISNA(VLOOKUP(C165,Master!AQ$60:BC$285,6,FALSE)),\"\",VLOOKUP(C165,Master!AQ$60:BC$285,6,FALSE))","v":""},"","","","","",{"$f":"IF(ISNA(VLOOKUP(C165,Master!AQ$60:BC$285,12,FALSE)),\"\",VLOOKUP(C165,Master!AQ$60:BC$285,12,FALSE))","v":""},{"$nulls":3},0,1,{"$f":"IF(ISNA(VLOOKUP(C165,Master!AQ$60:BC$107,10,FALSE)),\"\",VLOOKUP(C165,Master!AQ$60:BC$107,10,FALSE))","v":""},null,null,{"$f":"IF(ISNA(VLOOKUP(C165,Master!AQ$60:BC$107,11,FALSE)),\"\",VLOOKUP(C165,Master!AQ$60:BC$107,11,FALSE))","v":""},{"$f":"IF(ISNA(VLOOKUP(C165,Master!AQ$60:BC$107,9,FALSE)),\"\",VLOOKUP(C165,Master!AQ$60:BC$107,9,FALSE))","v":""},0,0,0,0,0,0,"","","","","","",0,0,"",0,0,0,0,0,0,0,null,null,0,0,0,0,0,0,0,0,0,0,0,0,0,0,0,0,null,null,0,0,1,0,0,0,1,0,1,0,0,""]
["",2202,140,{"$f":"IF(ISNA(VLOOKUP(C166,Master!AQ$60:BC$285,3,FALSE)),\"\",VLOOKUP(C166,Master!AQ$60:BC$285,3,FALSE))","v":""},{"$f":"IF(ISNA(VLOOKUP(C166,Master!AQ$60:BC$285,7,FALSE)),\"\",VLOOKUP(C166,Master!AQ$60:BC$285,7,FALSE))","v":""},{"$f":"IF(ISNA(VLOOKUP(C166,Master!AQ$60:BC$285,8,FALSE)),\"\",VLOOKUP(C166,Master!AQ$60:BC$285,8,FALSE))","v":""},{"$f":"IF(ISNA(VLOOKUP(C166,Master!AQ$60:BC$285,4,FALSE)),\"\",VLOOKUP(C166,Master!AQ$60:BC$285,4,FALSE))","v":""},{"$f":"IF(ISNA(VLOOKUP(C166,Master!AQ$60:BC$285,5,FALSE)),\"\",VLOOKUP(C166,Master!AQ$60:BC$285,5,FALSE))","v":""},{"$f":"IF(ISNA(VLOOKUP(C166,Master!AQ$60:BC$285,6,FALSE)),\"\",VLOOKUP(C166,Master!AQ$60:BC$285,6,FALSE))","v":""},"","","","","",{"$f":"IF(ISNA(VLOOKUP(C166,Master!AQ$60:BC$285,12,FALSE)),\"\",VLOOKUP(C166,Master!AQ$60:BC$285,12,FALSE))","v":""},{"$nulls":3},0,1,{"$f":"IF(ISNA(VLOOKUP(C166,Master!AQ$60:BC$107,10,FALSE)),\"\",VLOOKUP(C166,Master!AQ$60:BC$107,10,FALSE))","v":""},null,null,{"$f":"IF(ISNA(VLOOKUP(C166,Master!AQ$60:BC$107,11,FALSE)),\"\",VLOOKUP(C166,Master!AQ$60:BC$107,11,FALSE))","v":""},{"$f":"IF(ISNA(VLOOKUP(C166,Master!AQ$60:BC$107,9,FALSE)),\"\",VLOOKUP(C166,Master!AQ$60:BC$107,9,FALSE))","v":""},0,0,0,0,0,0,"","","","","","",0,0,"",0,0,0,0,0,0,0,null,null,0,0,0,0,0,0,0,0,0,0,0,0,0,0,0,0,null,null,0,0,1,0,0,0,1,0,1,0,0,""]
["",2202,141,{"$f":"IF(ISNA(VLOOKUP(C167,Master!AQ$60:BC$285,3,FALSE)),\"\",VLOOKUP(C167,Master!AQ$60:BC$285,3,FALSE))","v":""},{"$f":"IF(ISNA(VLOOKUP(C167,Master!AQ$60:BC$285,7,FALSE)),\"\",VLOOKUP(C167,Master!AQ$60:BC$285,7,FALSE))","v":""},{"$f":"IF(ISNA(VLOOKUP(C167,Master!AQ$60:BC$285,8,FALSE)),\"\",VLOOKUP(C167,Master!AQ$60:BC$285,8,FALSE))","v":""},{"$f":"IF(ISNA(VLOOKUP(C167,Master!AQ$60:BC$285,4,FALSE)),\"\",VLOOKUP(C167,Master!AQ$60:BC$285,4,FALSE))","v":""},{"$f":"IF(ISNA(VLOOKUP(C167,Master!AQ$60:BC$285,5,FALSE)),\"\",VLOOKUP(C167,Master!AQ$60:BC$285,5,FALSE))","v":""},{"$f":"IF(ISNA(VLOOKUP(C167,Master!AQ$60:BC$285,6,FALSE)),\"\",VLOOKUP(C167,Master!AQ$60:BC$285,6,FALSE))","v":""},"","","","","",{"$f":"IF(ISNA(VLOOKUP(C167,Master!AQ$60:BC$285,12,FALSE)),\"\",VLOOKUP(C167,Master!AQ$60:BC$285,12,FALSE))","v":""},{"$nulls":3},0,1,{"$f":"IF(ISNA(VLOOKUP(C167,Master!AQ$60:BC$107,10,FALSE)),\"\",VLOOKUP(C167,Master!AQ$60:BC$107,10,FALSE))","v":""},null,null,{"$f":"IF(ISNA(VLOOKUP(C167,Master!AQ$60:BC$107,11,FALSE)),\"\",VLOOKUP(C167,Master!AQ$60:BC$107,11,FALSE))","v":""},{"$f":"IF(ISNA(VLOOKUP(C167,Master!AQ$60:BC$107,9,FALSE)),\"\",VLOOKUP(C167,Master!AQ$60:BC$107,9,FALSE))","v":""},0,0,0,0,0,0,"","","","","","",0,0,"",0,0,0,0,0,0,0,null,null,0,0,0,0,0,0,0,0,0,0,0,0,0,0,0,0,null,null,0,0,1,0,0,0,1,0,1,0,0,""]
["",2202,142,{"$f":"IF(ISNA(VLOOKUP(C168,Master!AQ$60:BC$285,3,FALSE)),\"\",VLOOKUP(C168,Master!AQ$60:BC$285,3,FALSE))","v":""},{"$f":"IF(ISNA(VLOOKUP(C168,Master!AQ$60:BC$285,7,FALSE)),\"\",VLOOKUP(C168,Master!AQ$60:BC$285,7,FALSE))","v":""},{"$f":"IF(ISNA(VLOOKUP(C168,Master!AQ$60:BC$285,8,FALSE)),\"\",VLOOKUP(C168,Master!AQ$60:BC$285,8,FALSE))","v":""},{"$f":"IF(ISNA(VLOOKUP(C168,Master!AQ$60:BC$285,4,FALSE)),\"\",VLOOKUP(C168,Master!AQ$60:BC$285,4,FALSE))","v":""},{"$f":"IF(ISNA(VLOOKUP(C168,Master!AQ$60:BC$285,5,FALSE)),\"\",VLOOKUP(C168,Master!AQ$60:BC$285,5,FALSE))","v":""},{"$f":"IF(ISNA(VLOOKUP(C168,Master!AQ$60:BC$285,6,FALSE)),\"\",VLOOKUP(C168,Master!AQ$60:BC$285,6,FALSE))","v":""},"","","","","",{"$f":"IF(ISNA(VLOOKUP(C168,Master!AQ$60:BC$285,12,FALSE)),\"\",VLOOKUP(C168,Master!AQ$60:BC$285,12,FALSE))","v":""},{"$nulls":3},0,1,{"$f":"IF(ISNA(VLOOKUP(C168,Master!AQ$60:BC$107,10,FALSE)),\"\",VLOOKUP(C168,Master!AQ$60:BC$107,10,FALSE))","v":""},null,null,{"$f":"IF(ISNA(VLOOKUP(C168,Master!AQ$60:BC$107,11,FALSE)),\"\",VLOOKUP(C168,Master!AQ$60:BC$107,11,FALSE))","v":""},{"$f":"IF(ISNA(VLOOKUP(C168,Master!AQ$60:BC$107,9,FALSE)),\"\",VLOOKUP(C168,Master!AQ$60:BC$107,9,FALSE))","v":""},0,0,0,0,0,0,"","","","","","",0,0,"",0,0,0,0,0,0,0,null,null,0,0,0,0,0,0,0,0,0,0,0,0,0,0,0,0,null,null,0,0,1,0,0,0,1,0,1,0,0,""]
["",2202,143,{"$f":"IF(ISNA(VLOOKUP(C169,Master!AQ$60:BC$285,3,FALSE)),\"\",VLOOKUP(C169,Master!AQ$60:BC$285,3,FALSE))","v":""},{"$f":"IF(ISNA(VLOOKUP(C169,Master!AQ$60:BC$285,7,FALSE)),\"\",VLOOKUP(C169,Master!AQ$60:BC$285,7,FALSE))","v":""},{"$f":"IF(ISNA(VLOOKUP(C169,Master!AQ$60:BC$285,8,FALSE)),\"\",VLOOKUP(C169,Master!AQ$60:BC$285,8,FALSE))","v":""},{"$f":"IF(ISNA(VLOOKUP(C169,Master!AQ$60:BC$285,4,FALSE)),\"\",VLOOKUP(C169,Master!AQ$60:BC$285,4,FALSE))","v":""},{"$f":"IF(ISNA(VLOOKUP(C169,Master!AQ$60:BC$285,5,FALSE)),\"\",VLOOKUP(C169,Master!AQ$60:BC$285,5,FALSE))","v":""},{"$f":"IF(ISNA(VLOOKUP(C169,Master!AQ$60:BC$285,6,FALSE)),\"\",VLOOKUP(C169,Master!AQ$60:BC$285,6,FALSE))","v":""},"","","","","",{"$f":"IF(ISNA(VLOOKUP(C169,Master!AQ$60:BC$285,12,FALSE)),\"\",VLOOKUP(C169,Master!AQ$60:BC$285,12,FALSE))","v":""},{"$nulls":3},0,1,{"$f":"IF(ISNA(VLOOKUP(C169,Master!AQ$60:BC$107,10,FALSE)),\"\",VLOOKUP(C169,Master!AQ$60:BC$107,10,FALSE))","v":""},null,null,{"$f":"IF(ISNA(VLOOKUP(C169,Master!AQ$60:BC$107,11,FALSE)),\"\",VLOOKUP(C169,Master!AQ$60:BC$107,11,FALSE))","v":""},{"$f":"IF(ISNA(VLOOKUP(C169,Master!AQ$60:BC$107,9,FALSE)),\"\",VLOOKUP(C169,Master!AQ$60:BC$107,9,FALSE))","v":""},0,0,0,0,0,0,"","","","","","",0,0,"",0,0,0,0,0,0,0,null,null,0,0,0,0,0,0,0,0,0,0,0,0,0,0,0,0,null,null,0,0,1,0,0,0,1,0,1,0,0,""]
["",2202,144,{"$f":"IF(ISNA(VLOOKUP(C170,Master!AQ$60:BC$285,3,FALSE)),\"\",VLOOKUP(C170,Master!AQ$60:BC$285,3,FALSE))","v":""},{"$f":"IF(ISNA(VLOOKUP(C170,Master!AQ$60:BC$285,7,FALSE)),\"\",VLOOKUP(C170,Master!AQ$60:BC$285,7,FALSE))","v":""},{"$f":"IF(ISNA(VLOOKUP(C170,Master!AQ$60:BC$285,8,FALSE)),\"\",VLOOKUP(C170,Master!AQ$60:BC$285,8,FALSE))","v":""},{"$f":"IF(ISNA(VLOOKUP(C170,Master!AQ$60:BC$285,4,FALSE)),\"\",VLOOKUP(C170,Master!AQ$60:BC$285,4,FALSE))","v":""},{"$f":"IF(ISNA(VLOOKUP(C170,Master!AQ$60:BC$285,5,FALSE)),\"\",VLOOKUP(C170,Master!AQ$60:BC$285,5,FALSE))","v":""},{"$f":"IF(ISNA(VLOOKUP(C170,Master!AQ$60:BC$285,6,FALSE)),\"\",VLOOKUP(C170,Master!AQ$60:BC$285,6,FALSE))","v":""},"","","","","",{"$f":"IF(ISNA(VLOOKUP(C170,Master!AQ$60:BC$285,12,FALSE)),\"\",VLOOKUP(C170,Master!AQ$60:BC$285,12,FALSE))","v":""},{"$nulls":3},0,1,{"$f":"IF(ISNA(VLOOKUP(C170,Master!AQ$60:BC$107,10,FALSE)),\"\",VLOOKUP(C170,Master!AQ$60:BC$107,10,FALSE))","v":""},null,null,{"$f":"IF(ISNA(VLOOKUP(C170,Master!AQ$60:BC$107,11,FALSE)),\"\",VLOOKUP(C170,Master!AQ$60:BC$107,11,FALSE))","v":""},{"$f":"IF(ISNA(VLOOKUP(C170,Master!AQ$60:BC$107,9,FALSE)),\"\",VLOOKUP(C170,Master!AQ$60:BC$107,9,FALSE))","v":""},0,0,0,0,0,0,"","","","","","",0,0,"",0,0,0,0,0,0,0,null,null,0,0,0,0,0,0,0,0,0,0,0,0,0,0,0,0,null,null,0,0,1,0,0,0,1,0,1,0,0,""]
["",2202,145,{"$f":"IF(ISNA(VLOOKUP(C171,Master!AQ$60:BC$285,3,FALSE)),\"\",VLOOKUP(C171,Master!AQ$60:BC$285,3,FALSE))","v":""},{"$f":"IF(ISNA(VLOOKUP(C171,Master!AQ$60:BC$285,7,FALSE)),\"\",VLOOKUP(C171,Master!AQ$60:BC$285,7,FALSE))","v":""},{"$f":"IF(ISNA(VLOOKUP(C171,Master!AQ$60:BC$285,8,FALSE)),\"\",VLOOKUP(C171,Master!AQ$60:BC$285,8,FALSE))","v":""},{"$f":"IF(ISNA(VLOOKUP(C171,Master!AQ$60:BC$285,4,FALSE)),\"\",VLOOKUP(C171,Master!AQ$60:BC$285,4,FALSE))","v":""},{"$f":"IF(ISNA(VLOOKUP(C171,Master!AQ$60:BC$285,5,FALSE)),\"\",VLOOKUP(C171,Master!AQ$60:BC$285,5,FALSE))","v":""},{"$f":"IF(ISNA(VLOOKUP(C171,Master!AQ$60:BC$285,6,FALSE)),\"\",VLOOKUP(C171,Master!AQ$60:BC$285,6,FALSE))","v":""},"","","","","",{"$f":"IF(ISNA(VLOOKUP(C171,Master!AQ$60:BC$285,12,FALSE)),\"\",VLOOKUP(C171,Master!AQ$60:BC$285,12,FALSE))","v":""},{"$nulls":3},0,1,{"$f":"IF(ISNA(VLOOKUP(C171,Master!AQ$60:BC$107,10,FALSE)),\"\",VLOOKUP(C171,Master!AQ$60:BC$107,10,FALSE))","v":""},null,null,{"$f":"IF(ISNA(VLOOKUP(C171,Master!AQ$60:BC$107,11,FALSE)),\"\",VLOOKUP(C171,Master!AQ$60:BC$107,11,FALSE))","v":""},{"$f":"IF(ISNA(VLOOKUP(C171,Master!AQ$60:BC$107,9,FALSE)),\"\",VLOOKUP(C171,Master!AQ$60:BC$107,9,FALSE))","v":""},0,0,0,0,0,0,"","","","","","",0,0,"",0,0,0,0,0,0,0,null,null,0,0,0,0,0,0,0,0,0,0,0,0,0,0,0,0,null,null,0,0,1,0,0,0,1,0,1,0,0,""]
["",2202,146,{"$f":"IF(ISNA(VLOOKUP(C172,Master!AQ$60:BC$285,3,FALSE)),\"\",VLOOKUP(C172,Master!AQ$60:BC$285,3,FALSE))","v":""},{"$f":"IF(ISNA(VLOOKUP(C172,Master!AQ$60:BC$285,7,FALSE)),\"\",VLOOKUP(C172,Master!AQ$60:BC$285,7,FALSE))","v":""},{"$f":"IF(ISNA(VLOOKUP(C172,Master!AQ$60:BC$285,8,FALSE)),\"\",VLOOKUP(C172,Master!AQ$60:BC$285,8,FALSE))","v":""},{"$f":"IF(ISNA(VLOOKUP(C172,Master!AQ$60:BC$285,4,FALSE)),\"\",VLOOKUP(C172,Master!AQ$60:BC$285,4,FALSE))","v":""},{"$f":"IF(ISNA(VLOOKUP(C172,Master!AQ$60:BC$285,5,FALSE)),\"\",VLOOKUP(C172,Master!AQ$60:BC$285,5,FALSE))","v":""},{"$f":"IF(ISNA(VLOOKUP(C172,Master!AQ$60:BC$285,6,FALSE)),\"\",VLOOKUP(C172,Master!AQ$60:BC$285,6,FALSE))","v":""},"","","","","",{"$f":"IF(ISNA(VLOOKUP(C172,Master!AQ$60:BC$285,12,FALSE)),\"\",VLOOKUP(C172,Master!AQ$60:BC$285,12,FALSE))","v":""},{"$nulls":3},0,1,{"$f":"IF(ISNA(VLOOKUP(C172,Master!AQ$60:BC$107,10,FALSE)),\"\",VLOOKUP(C172,Master!AQ$60:BC$107,10,FALSE))","v":""},null,null,{"$f":"IF(ISNA(VLOOKUP(C172,Master!AQ$60:BC$107,11,FALSE)),\"\",VLOOKUP(C172,Master!AQ$60:BC$107,11,FALSE))","v":""},{"$f":"IF(ISNA(VLOOKUP(C172,Master!AQ$60:BC$107,9,FALSE)),\"\",VLOOKUP(C172,Master!AQ$60:BC$107,9,FALSE))","v":""},0,0,0,0,0,0,"","","","","","",0,0,"",0,0,0,0,0,0,0,null,null,0,0,0,0,0,0,0,0,0,0,0,0,0,0,0,0,null,null,0,0,1,0,0,0,1,0,1,0,0,""]
["",2202,147,{"$f":"IF(ISNA(VLOOKUP(C173,Master!AQ$60:BC$285,3,FALSE)),\"\",VLOOKUP(C173,Master!AQ$60:BC$285,3,FALSE))","v":""},{"$f":"IF(ISNA(VLOOKUP(C173,Master!AQ$60:BC$285,7,FALSE)),\"\",VLOOKUP(C173,Master!AQ$60:BC$285,7,FALSE))","v":""},{"$f":"IF(ISNA(VLOOKUP(C173,Master!AQ$60:BC$285,8,FALSE)),\"\",VLOOKUP(C173,Master!AQ$60:BC$285,8,FALSE))","v":""},{"$f":"IF(ISNA(VLOOKUP(C173,Master!AQ$60:BC$285,4,FALSE)),\"\",VLOOKUP(C173,Master!AQ$60:BC$285,4,FALSE))","v":""},{"$f":"IF(ISNA(VLOOKUP(C173,Master!AQ$60:BC$285,5,FALSE)),\"\",VLOOKUP(C173,Master!AQ$60:BC$285,5,FALSE))","v":""},{"$f":"IF(ISNA(VLOOKUP(C173,Master!AQ$60:BC$285,6,FALSE)),\"\",VLOOKUP(C173,Master!AQ$60:BC$285,6,FALSE))","v":""},"","","","","",{"$f":"IF(ISNA(VLOOKUP(C173,Master!AQ$60:BC$285,12,FALSE)),\"\",VLOOKUP(C173,Master!AQ$60:BC$285,12,FALSE))","v":""},{"$nulls":3},0,1,{"$f":"IF(ISNA(VLOOKUP(C173,Master!AQ$60:BC$107,10,FALSE)),\"\",VLOOKUP(C173,Master!AQ$60:BC$107,10,FALSE))","v":""},null,null,{"$f":"IF(ISNA(VLOOKUP(C173,Master!AQ$60:BC$107,11,FALSE)),\"\",VLOOKUP(C173,Master!AQ$60:BC$107,11,FALSE))","v":""},{"$f":"IF(ISNA(VLOOKUP(C173,Master!AQ$60:BC$107,9,FALSE)),\"\",VLOOKUP(C173,Master!AQ$60:BC$107,9,FALSE))","v":""},0,0,0,0,0,0,"","","","","","",0,0,"",0,0,0,0,0,0,0,null,null,0,0,0,0,0,0,0,0,0,0,0,0,0,0,0,0,null,null,0,0,1,0,0,0,1,0,1,0,0,""]
["",2202,148,{"$f":"IF(ISNA(VLOOKUP(C174,Master!AQ$60:BC$285,3,FALSE)),\"\",VLOOKUP(C174,Master!AQ$60:BC$285,3,FALSE))","v":""},{"$f":"IF(ISNA(VLOOKUP(C174,Master!AQ$60:BC$285,7,FALSE)),\"\",VLOOKUP(C174,Master!AQ$60:BC$285,7,FALSE))","v":""},{"$f":"IF(ISNA(VLOOKUP(C174,Master!AQ$60:BC$285,8,FALSE)),\"\",VLOOKUP(C174,Master!AQ$60:BC$285,8,FALSE))","v":""},{"$f":"IF(ISNA(VLOOKUP(C174,Master!AQ$60:BC$285,4,FALSE)),\"\",VLOOKUP(C174,Master!AQ$60:BC$285,4,FALSE))","v":""},{"$f":"IF(ISNA(VLOOKUP(C174,Master!AQ$60:BC$285,5,FALSE)),\"\",VLOOKUP(C174,Master!AQ$60:BC$285,5,FALSE))","v":""},{"$f":"IF(ISNA(VLOOKUP(C174,Master!AQ$60:BC$285,6,FALSE)),\"\",VLOOKUP(C174,Master!AQ$60:BC$285,6,FALSE))","v":""},"","","","","",{"$f":"IF(ISNA(VLOOKUP(C174,Master!AQ$60:BC$285,12,FALSE)),\"\",VLOOKUP(C174,Master!AQ$60:BC$285,12,FALSE))","v":""},{"$nulls":3},0,1,{"$f":"IF(ISNA(VLOOKUP(C174,Master!AQ$60:BC$107,10,FALSE)),\"\",VLOOKUP(C174,Master!AQ$60:BC$107,10,FALSE))","v":""},null,null,{"$f":"IF(ISNA(VLOOKUP(C174,Master!AQ$60:BC$107,11,FALSE)),\"\",VLOOKUP(C174,Master!AQ$60:BC$107,11,FALSE))","v":""},{"$f":"IF(ISNA(VLOOKUP(C174,Master!AQ$60:BC$107,9,FALSE)),\"\",VLOOKUP(C174,Master!AQ$60:BC$107,9,FALSE))","v":""},0,0,0,0,0,0,"","","","","","",0,0,"",0,0,0,0,0,0,0,null,null,0,0,0,0,0,0,0,0,0,0,0,0,0,0,0,0,null,null,0,0,1,0,0,0,1,0,1,0,0,""]
["",2202,149,{"$f":"IF(ISNA(VLOOKUP(C175,Master!AQ$60:BC$285,3,FALSE)),\"\",VLOOKUP(C175,Master!AQ$60:BC$285,3,FALSE))","v":""},{"$f":"IF(ISNA(VLOOKUP(C175,Master!AQ$60:BC$285,7,FALSE)),\"\",VLOOKUP(C175,Master!AQ$60:BC$285,7,FALSE))","v":""},{"$f":"IF(ISNA(VLOOKUP(C175,Master!AQ$60:BC$285,8,FALSE)),\"\",VLOOKUP(C175,Master!AQ$60:BC$285,8,FALSE))","v":""},{"$f":"IF(ISNA(VLOOKUP(C175,Master!AQ$60:BC$285,4,FALSE)),\"\",VLOOKUP(C175,Master!AQ$60:BC$285,4,FALSE))","v":""},{"$f":"IF(ISNA(VLOOKUP(C175,Master!AQ$60:BC$285,5,FALSE)),\"\",VLOOKUP(C175,Master!AQ$60:BC$285,5,FALSE))","v":""},{"$f":"IF(ISNA(VLOOKUP(C175,Master!AQ$60:BC$285,6,FALSE)),\"\",VLOOKUP(C175,Master!AQ$60:BC$285,6,FALSE))","v":""},"","","","","",{"$f":"IF(ISNA(VLOOKUP(C175,Master!AQ$60:BC$285,12,FALSE)),\"\",VLOOKUP(C175,Master!AQ$60:BC$285,12,FALSE))","v":""},{"$nulls":3},0,1,{"$f":"IF(ISNA(VLOOKUP(C175,Master!AQ$60:BC$107,10,FALSE)),\"\",VLOOKUP(C175,Master!AQ$60:BC$107,10,FALSE))","v":""},null,null,{"$f":"IF(ISNA(VLOOKUP(C175,Master!AQ$60:BC$107,11,FALSE)),\"\",VLOOKUP(C175,Master!AQ$60:BC$107,11,FALSE))","v":""},{"$f":"IF(ISNA(VLOOKUP(C175,Master!AQ$60:BC$107,9,FALSE)),\"\",VLOOKUP(C175,Master!AQ$60:BC$107,9,FALSE))","v":""},0,0,0,0,0,0,"","","","","","",0,0,"",0,0,0,0,0,0,0,null,null,0,0,0,0,0,0,0,0,0,0,0,0,0,0,0,0,null,null,0,0,1,0,0,0,1,0,1,0,0,""]
["",2202,150,{"$f":"IF(ISNA(VLOOKUP(C176,Master!AQ$60:BC$285,3,FALSE)),\"\",VLOOKUP(C176,Master!AQ$60:BC$285,3,FALSE))","v":""},{"$f":"IF(ISNA(VLOOKUP(C176,Master!AQ$60:BC$285,7,FALSE)),\"\",VLOOKUP(C176,Master!AQ$60:BC$285,7,FALSE))","v":""},{"$f":"IF(ISNA(VLOOKUP(C176,Master!AQ$60:BC$285,8,FALSE)),\"\",VLOOKUP(C176,Master!AQ$60:BC$285,8,FALSE))","v":""},{"$f":"IF(ISNA(VLOOKUP(C176,Master!AQ$60:BC$285,4,FALSE)),\"\",VLOOKUP(C176,Master!AQ$60:BC$285,4,FALSE))","v":""},{"$f":"IF(ISNA(VLOOKUP(C176,Master!AQ$60:BC$285,5,FALSE)),\"\",VLOOKUP(C176,Master!AQ$60:BC$285,5,FALSE))","v":""},{"$f":"IF(ISNA(VLOOKUP(C176,Master!AQ$60:BC$285,6,FALSE)),\"\",VLOOKUP(C176,Master!AQ$60:BC$285,6,FALSE))","v":""},"","","","","",{"$f":"IF(ISNA(VLOOKUP(C176,Master!AQ$60:BC$285,12,FALSE)),\"\",VLOOKUP(C176,Master!AQ$60:BC$285,12,FALSE))","v":""},{"$nulls":3},0,1,{"$f":"IF(ISNA(VLOOKUP(C176,Master!AQ$60:BC$107,10,FALSE)),\"\",VLOOKUP(C176,Master!AQ$60:BC$107,10,FALSE))","v":""},null,null,{"$f":"IF(ISNA(VLOOKUP(C176,Master!AQ$60:BC$107,11,FALSE)),\"\",VLOOKUP(C176,Master!AQ$60:BC$107,11,FALSE))","v":""},{"$f":"IF(ISNA(VLOOKUP(C176,Master!AQ$60:BC$107,9,FALSE)),\"\",VLOOKUP(C176,Master!AQ$60:BC$107,9,FALSE))","v":""},0,0,0,0,0,0,"","","","","","",0,0,"",0,0,0,0,0,0,0,null,null,0,0,0,0,0,0,0,0,0,0,0,0,0,0,0,0,null,null,0,0,1,0,0,0,1,0,1,0,0,""]
["",2202,151,{"$f":"IF(ISNA(VLOOKUP(C177,Master!AQ$60:BC$285,3,FALSE)),\"\",VLOOKUP(C177,Master!AQ$60:BC$285,3,FALSE))","v":""},{"$f":"IF(ISNA(VLOOKUP(C177,Master!AQ$60:BC$285,7,FALSE)),\"\",VLOOKUP(C177,Master!AQ$60:BC$285,7,FALSE))","v":""},{"$f":"IF(ISNA(VLOOKUP(C177,Master!AQ$60:BC$285,8,FALSE)),\"\",VLOOKUP(C177,Master!AQ$60:BC$285,8,FALSE))","v":""},{"$f":"IF(ISNA(VLOOKUP(C177,Master!AQ$60:BC$285,4,FALSE)),\"\",VLOOKUP(C177,Master!AQ$60:BC$285,4,FALSE))","v":""},{"$f":"IF(ISNA(VLOOKUP(C177,Master!AQ$60:BC$285,5,FALSE)),\"\",VLOOKUP(C177,Master!AQ$60:BC$285,5,FALSE))","v":""},{"$f":"IF(ISNA(VLOOKUP(C177,Master!AQ$60:BC$285,6,FALSE)),\"\",VLOOKUP(C177,Master!AQ$60:BC$285,6,FALSE))","v":""},"","","","","",{"$f":"IF(ISNA(VLOOKUP(C177,Master!AQ$60:BC$285,12,FALSE)),\"\",VLOOKUP(C177,Master!AQ$60:BC$285,12,FALSE))","v":""},{"$nulls":3},0,1,{"$f":"IF(ISNA(VLOOKUP(C177,Master!AQ$60:BC$107,10,FALSE)),\"\",VLOOKUP(C177,Master!AQ$60:BC$107,10,FALSE))","v":""},null,null,{"$f":"IF(ISNA(VLOOKUP(C177,Master!AQ$60:BC$107,11,FALSE)),\"\",VLOOKUP(C177,Master!AQ$60:BC$107,11,FALSE))","v":""},{"$f":"IF(ISNA(VLOOKUP(C177,Master!AQ$60:BC$107,9,FALSE)),\"\",VLOOKUP(C177,Master!AQ$60:BC$107,9,FALSE))","v":""},0,0,0,0,0,0,"","","","","","",0,0,"",0,0,0,0,0,0,0,null,null,0,0,0,0,0,0,0,0,0,0,0,0,0,0,0,0,null,null,0,0,1,0,0,0,1,0,1,0,0,""]
["",2202,152,{"$f":"IF(ISNA(VLOOKUP(C178,Master!AQ$60:BC$285,3,FALSE)),\"\",VLOOKUP(C178,Master!AQ$60:BC$285,3,FALSE))","v":""},{"$f":"IF(ISNA(VLOOKUP(C178,Master!AQ$60:BC$285,7,FALSE)),\"\",VLOOKUP(C178,Master!AQ$60:BC$285,7,FALSE))","v":""},{"$f":"IF(ISNA(VLOOKUP(C178,Master!AQ$60:BC$285,8,FALSE)),\"\",VLOOKUP(C178,Master!AQ$60:BC$285,8,FALSE))","v":""},{"$f":"IF(ISNA(VLOOKUP(C178,Master!AQ$60:BC$285,4,FALSE)),\"\",VLOOKUP(C178,Master!AQ$60:BC$285,4,FALSE))","v":""},{"$f":"IF(ISNA(VLOOKUP(C178,Master!AQ$60:BC$285,5,FALSE)),\"\",VLOOKUP(C178,Master!AQ$60:BC$285,5,FALSE))","v":""},{"$f":"IF(ISNA(VLOOKUP(C178,Master!AQ$60:BC$285,6,FALSE)),\"\",VLOOKUP(C178,Master!AQ$60:BC$285,6,FALSE))","v":""},"","","","","",{"$f":"IF(ISNA(VLOOKUP(C178,Master!AQ$60:BC$285,12,FALSE)),\"\",VLOOKUP(C178,Master!AQ$60:BC$285,12,FALSE))","v":""},{"$nulls":3},0,1,{"$f":"IF(ISNA(VLOOKUP(C178,Master!AQ$60:BC$107,10,FALSE)),\"\",VLOOKUP(C178,Master!AQ$60:BC$107,10,FALSE))","v":""},null,null,{"$f":"IF(ISNA(VLOOKUP(C178,Master!AQ$60:BC$107,11,FALSE)),\"\",VLOOKUP(C178,Master!AQ$60:BC$107,11,FALSE))","v":""},{"$f":"IF(ISNA(VLOOKUP(C178,Master!AQ$60:BC$107,9,FALSE)),\"\",VLOOKUP(C178,Master!AQ$60:BC$107,9,FALSE))","v":""},0,0,0,0,0,0,"","","","","","",0,0,"",0,0,0,0,0,0,0,null,null,0,0,0,0,0,0,0,0,0,0,0,0,0,0,0,0,null,null,0,0,1,0,0,0,1,0,1,0,0,""]
["",2202,153,{"$f":"IF(ISNA(VLOOKUP(C179,Master!AQ$60:BC$285,3,FALSE)),\"\",VLOOKUP(C179,Master!AQ$60:BC$285,3,FALSE))","v":""},{"$f":"IF(ISNA(VLOOKUP(C179,Master!AQ$60:BC$285,7,FALSE)),\"\",VLOOKUP(C179,Master!AQ$60:BC$285,7,FALSE))","v":""},{"$f":"IF(ISNA(VLOOKUP(C179,Master!AQ$60:BC$285,8,FALSE)),\"\",VLOOKUP(C179,Master!AQ$60:BC$285,8,FALSE))","v":""},{"$f":"IF(ISNA(VLOOKUP(C179,Master!AQ$60:BC$285,4,FALSE)),\"\",VLOOKUP(C179,Master!AQ$60:BC$285,4,FALSE))","v":""},{"$f":"IF(ISNA(VLOOKUP(C179,Master!AQ$60:BC$285,5,FALSE)),\"\",VLOOKUP(C179,Master!AQ$60:BC$285,5,FALSE))","v":""},{"$f":"IF(ISNA(VLOOKUP(C179,Master!AQ$60:BC$285,6,FALSE)),\"\",VLOOKUP(C179,Master!AQ$60:BC$285,6,FALSE))","v":""},"","","","","",{"$f":"IF(ISNA(VLOOKUP(C179,Master!AQ$60:BC$285,12,FALSE)),\"\",VLOOKUP(C179,Master!AQ$60:BC$285,12,FALSE))","v":""},{"$nulls":3},0,1,{"$f":"IF(ISNA(VLOOKUP(C179,Master!AQ$60:BC$107,10,FALSE)),\"\",VLOOKUP(C179,Master!AQ$60:BC$107,10,FALSE))","v":""},null,null,{"$f":"IF(ISNA(VLOOKUP(C179,Master!AQ$60:BC$107,11,FALSE)),\"\",VLOOKUP(C179,Master!AQ$60:BC$107,11,FALSE))","v":""},{"$f":"IF(ISNA(VLOOKUP(C179,Master!AQ$60:BC$107,9,FALSE)),\"\",VLOOKUP(C179,Master!AQ$60:BC$107,9,FALSE))","v":""},0,0,0,0,0,0,"","","","","","",0,0,"",0,0,0,0,0,0,0,null,null,0,0,0,0,0,0,0,0,0,0,0,0,0,0,0,0,null,null,0,0,1,0,0,0,1,0,1,0,0,""]
["",2202,154,{"$f":"IF(ISNA(VLOOKUP(C180,Master!AQ$60:BC$285,3,FALSE)),\"\",VLOOKUP(C180,Master!AQ$60:BC$285,3,FALSE))","v":""},{"$f":"IF(ISNA(VLOOKUP(C180,Master!AQ$60:BC$285,7,FALSE)),\"\",VLOOKUP(C180,Master!AQ$60:BC$285,7,FALSE))","v":""},{"$f":"IF(ISNA(VLOOKUP(C180,Master!AQ$60:BC$285,8,FALSE)),\"\",VLOOKUP(C180,Master!AQ$60:BC$285,8,FALSE))","v":""},{"$f":"IF(ISNA(VLOOKUP(C180,Master!AQ$60:BC$285,4,FALSE)),\"\",VLOOKUP(C180,Master!AQ$60:BC$285,4,FALSE))","v":""},{"$f":"IF(ISNA(VLOOKUP(C180,Master!AQ$60:BC$285,5,FALSE)),\"\",VLOOKUP(C180,Master!AQ$60:BC$285,5,FALSE))","v":""},{"$f":"IF(ISNA(VLOOKUP(C180,Master!AQ$60:BC$285,6,FALSE)),\"\",VLOOKUP(C180,Master!AQ$60:BC$285,6,FALSE))","v":""},"","","","","",{"$f":"IF(ISNA(VLOOKUP(C180,Master!AQ$60:BC$285,12,FALSE)),\"\",VLOOKUP(C180,Master!AQ$60:BC$285,12,FALSE))","v":""},{"$nulls":3},0,1,{"$f":"IF(ISNA(VLOOKUP(C180,Master!AQ$60:BC$107,10,FALSE)),\"\",VLOOKUP(C180,Master!AQ$60:BC$107,10,FALSE))","v":""},null,null,{"$f":"IF(ISNA(VLOOKUP(C180,Master!AQ$60:BC$107,11,FALSE)),\"\",VLOOKUP(C180,Master!AQ$60:BC$107,11,FALSE))","v":""},{"$f":"IF(ISNA(VLOOKUP(C180,Master!AQ$60:BC$107,9,FALSE)),\"\",VLOOKUP(C180,Master!AQ$60:BC$107,9,FALSE))","v":""},0,0,0,0,0,0,"","","","","","",0,0,"",0,0,0,0,0,0,0,null,null,0,0,0,0,0,0,0,0,0,0,0,0,0,0,0,0,null,null,0,0,1,0,0,0,1,0,1,0,0,""]
["",2202,155,{"$f":"IF(ISNA(VLOOKUP(C181,Master!AQ$60:BC$285,3,FALSE)),\"\",VLOOKUP(C181,Master!AQ$60:BC$285,3,FALSE))","v":""},{"$f":"IF(ISNA(VLOOKUP(C181,Master!AQ$60:BC$285,7,FALSE)),\"\",VLOOKUP(C181,Master!AQ$60:BC$285,7,FALSE))","v":""},{"$f":"IF(ISNA(VLOOKUP(C181,Master!AQ$60:BC$285,8,FALSE)),\"\",VLOOKUP(C181,Master!AQ$60:BC$285,8,FALSE))","v":""},{"$f":"IF(ISNA(VLOOKUP(C181,Master!AQ$60:BC$285,4,FALSE)),\"\",VLOOKUP(C181,Master!AQ$60:BC$285,4,FALSE))","v":""},{"$f":"IF(ISNA(VLOOKUP(C181,Master!AQ$60:BC$285,5,FALSE)),\"\",VLOOKUP(C181,Master!AQ$60:BC$285,5,FALSE))","v":""},{"$f":"IF(ISNA(VLOOKUP(C181,Master!AQ$60:BC$285,6,FALSE)),\"\",VLOOKUP(C181,Master!AQ$60:BC$285,6,FALSE))","v":""},"","","","","",{"$f":"IF(ISNA(VLOOKUP(C181,Master!AQ$60:BC$285,12,FALSE)),\"\",VLOOKUP(C181,Master!AQ$60:BC$285,12,FALSE))","v":""},{"$nulls":3},0,1,{"$f":"IF(ISNA(VLOOKUP(C181,Master!AQ$60:BC$107,10,FALSE)),\"\",VLOOKUP(C181,Master!AQ$60:BC$107,10,FALSE))","v":""},null,null,{"$f":"IF(ISNA(VLOOKUP(C181,Master!AQ$60:BC$107,11,FALSE)),\"\",VLOOKUP(C181,Master!AQ$60:BC$107,11,FALSE))","v":""},{"$f":"IF(ISNA(VLOOKUP(C181,Master!AQ$60:BC$107,9,FALSE)),\"\",VLOOKUP(C181,Master!AQ$60:BC$107,9,FALSE))","v":""},0,0,0,0,0,0,"","","","","","",0,0,"",0,0,0,0,0,0,0,null,null,0,0,0,0,0,0,0,0,0,0,0,0,0,0,0,0,null,null,0,0,1,0,0,0,1,0,1,0,0,""]
["",2202,156,{"$f":"IF(ISNA(VLOOKUP(C182,Master!AQ$60:BC$285,3,FALSE)),\"\",VLOOKUP(C182,Master!AQ$60:BC$285,3,FALSE))","v":""},{"$f":"IF(ISNA(VLOOKUP(C182,Master!AQ$60:BC$285,7,FALSE)),\"\",VLOOKUP(C182,Master!AQ$60:BC$285,7,FALSE))","v":""},{"$f":"IF(ISNA(VLOOKUP(C182,Master!AQ$60:BC$285,8,FALSE)),\"\",VLOOKUP(C182,Master!AQ$60:BC$285,8,FALSE))","v":""},{"$f":"IF(ISNA(VLOOKUP(C182,Master!AQ$60:BC$285,4,FALSE)),\"\",VLOOKUP(C182,Master!AQ$60:BC$285,4,FALSE))","v":""},{"$f":"IF(ISNA(VLOOKUP(C182,Master!AQ$60:BC$285,5,FALSE)),\"\",VLOOKUP(C182,Master!AQ$60:BC$285,5,FALSE))","v":""},{"$f":"IF(ISNA(VLOOKUP(C182,Master!AQ$60:BC$285,6,FALSE)),\"\",VLOOKUP(C182,Master!AQ$60:BC$285,6,FALSE))","v":""},"","","","","",{"$f":"IF(ISNA(VLOOKUP(C182,Master!AQ$60:BC$285,12,FALSE)),\"\",VLOOKUP(C182,Master!AQ$60:BC$285,12,FALSE))","v":""},{"$nulls":3},0,1,{"$f":"IF(ISNA(VLOOKUP(C182,Master!AQ$60:BC$107,10,FALSE)),\"\",VLOOKUP(C182,Master!AQ$60:BC$107,10,FALSE))","v":""},null,null,{"$f":"IF(ISNA(VLOOKUP(C182,Master!AQ$60:BC$107,11,FALSE)),\"\",VLOOKUP(C182,Master!AQ$60:BC$107,11,FALSE))","v":""},{"$f":"IF(ISNA(VLOOKUP(C182,Master!AQ$60:BC$107,9,FALSE)),\"\",VLOOKUP(C182,Master!AQ$60:BC$107,9,FALSE))","v":""},0,0,0,0,0,0,"","","","","","",0,0,"",0,0,0,0,0,0,0,null,null,0,0,0,0,0,0,0,0,0,0,0,0,0,0,0,0,null,null,0,0,1,0,0,0,1,0,1,0,0,""]
["",2202,157,{"$f":"IF(ISNA(VLOOKUP(C183,Master!AQ$60:BC$285,3,FALSE)),\"\",VLOOKUP(C183,Master!AQ$60:BC$285,3,FALSE))","v":""},{"$f":"IF(ISNA(VLOOKUP(C183,Master!AQ$60:BC$285,7,FALSE)),\"\",VLOOKUP(C183,Master!AQ$60:BC$285,7,FALSE))","v":""},{"$f":"IF(ISNA(VLOOKUP(C183,Master!AQ$60:BC$285,8,FALSE)),\"\",VLOOKUP(C183,Master!AQ$60:BC$285,8,FALSE))","v":""},{"$f":"IF(ISNA(VLOOKUP(C183,Master!AQ$60:BC$285,4,FALSE)),\"\",VLOOKUP(C183,Master!AQ$60:BC$285,4,FALSE))","v":""},{"$f":"IF(ISNA(VLOOKUP(C183,Master!AQ$60:BC$285,5,FALSE)),\"\",VLOOKUP(C183,Master!AQ$60:BC$285,5,FALSE))","v":""},{"$f":"IF(ISNA(VLOOKUP(C183,Master!AQ$60:BC$285,6,FALSE)),\"\",VLOOKUP(C183,Master!AQ$60:BC$285,6,FALSE))","v":""},"","","","","",{"$f":"IF(ISNA(VLOOKUP(C183,Master!AQ$60:BC$285,12,FALSE)),\"\",VLOOKUP(C183,Master!AQ$60:BC$285,12,FALSE))","v":""},{"$nulls":3},0,1,{"$f":"IF(ISNA(VLOOKUP(C183,Master!AQ$60:BC$107,10,FALSE)),\"\",VLOOKUP(C183,Master!AQ$60:BC$107,10,FALSE))","v":""},null,null,{"$f":"IF(ISNA(VLOOKUP(C183,Master!AQ$60:BC$107,11,FALSE)),\"\",VLOOKUP(C183,Master!AQ$60:BC$107,11,FALSE))","v":""},{"$f":"IF(ISNA(VLOOKUP(C183,Master!AQ$60:BC$107,9,FALSE)),\"\",VLOOKUP(C183,Master!AQ$60:BC$107,9,FALSE))","v":""},0,0,0,0,0,0,"","","","","","",0,0,"",0,0,0,0,0,0,0,null,null,0,0,0,0,0,0,0,0,0,0,0,0,0,0,0,0,null,null,0,0,1,0,0,0,1,0,1,0,0,""]
["",2202,158,{"$f":"IF(ISNA(VLOOKUP(C184,Master!AQ$60:BC$285,3,FALSE)),\"\",VLOOKUP(C184,Master!AQ$60:BC$285,3,FALSE))","v":""},{"$f":"IF(ISNA(VLOOKUP(C184,Master!AQ$60:BC$285,7,FALSE)),\"\",VLOOKUP(C184,Master!AQ$60:BC$285,7,FALSE))","v":""},{"$f":"IF(ISNA(VLOOKUP(C184,Master!AQ$60:BC$285,8,FALSE)),\"\",VLOOKUP(C184,Master!AQ$60:BC$285,8,FALSE))","v":""},{"$f":"IF(ISNA(VLOOKUP(C184,Master!AQ$60:BC$285,4,FALSE)),\"\",VLOOKUP(C184,Master!AQ$60:BC$285,4,FALSE))","v":""},{"$f":"IF(ISNA(VLOOKUP(C184,Master!AQ$60:BC$285,5,FALSE)),\"\",VLOOKUP(C184,Master!AQ$60:BC$285,5,FALSE))","v":""},{"$f":"IF(ISNA(VLOOKUP(C184,Master!AQ$60:BC$285,6,FALSE)),\"\",VLOOKUP(C184,Master!AQ$60:BC$285,6,FALSE))","v":""},"","","","","",{"$f":"IF(ISNA(VLOOKUP(C184,Master!AQ$60:BC$285,12,FALSE)),\"\",VLOOKUP(C184,Master!AQ$60:BC$285,12,FALSE))","v":""},{"$nulls":3},0,1,{"$f":"IF(ISNA(VLOOKUP(C184,Master!AQ$60:BC$107,10,FALSE)),\"\",VLOOKUP(C184,Master!AQ$60:BC$107,10,FALSE))","v":""},null,null,{"$f":"IF(ISNA(VLOOKUP(C184,Master!AQ$60:BC$107,11,FALSE)),\"\",VLOOKUP(C184,Master!AQ$60:BC$107,11,FALSE))","v":""},{"$f":"IF(ISNA(VLOOKUP(C184,Master!AQ$60:BC$107,9,FALSE)),\"\",VLOOKUP(C184,Master!AQ$60:BC$107,9,FALSE))","v":""},0,0,0,0,0,0,"","","","","","",0,0,"",0,0,0,0,0,0,0,null,null,0,0,0,0,0,0,0,0,0,0,0,0,0,0,0,0,null,null,0,0,1,0,0,0,1,0,1,0,0,""]
["",2202,159,{"$f":"IF(ISNA(VLOOKUP(C185,Master!AQ$60:BC$285,3,FALSE)),\"\",VLOOKUP(C185,Master!AQ$60:BC$285,3,FALSE))","v":""},{"$f":"IF(ISNA(VLOOKUP(C185,Master!AQ$60:BC$285,7,FALSE)),\"\",VLOOKUP(C185,Master!AQ$60:BC$285,7,FALSE))","v":""},{"$f":"IF(ISNA(VLOOKUP(C185,Master!AQ$60:BC$285,8,FALSE)),\"\",VLOOKUP(C185,Master!AQ$60:BC$285,8,FALSE))","v":""},{"$f":"IF(ISNA(VLOOKUP(C185,Master!AQ$60:BC$285,4,FALSE)),\"\",VLOOKUP(C185,Master!AQ$60:BC$285,4,FALSE))","v":""},{"$f":"IF(ISNA(VLOOKUP(C185,Master!AQ$60:BC$285,5,FALSE)),\"\",VLOOKUP(C185,Master!AQ$60:BC$285,5,FALSE))","v":""},{"$f":"IF(ISNA(VLOOKUP(C185,Master!AQ$60:BC$285,6,FALSE)),\"\",VLOOKUP(C185,Master!AQ$60:BC$285,6,FALSE))","v":""},"","","","","",{"$f":"IF(ISNA(VLOOKUP(C185,Master!AQ$60:BC$285,12,FALSE)),\"\",VLOOKUP(C185,Master!AQ$60:BC$285,12,FALSE))","v":""},{"$nulls":3},0,1,{"$f":"IF(ISNA(VLOOKUP(C185,Master!AQ$60:BC$107,10,FALSE)),\"\",VLOOKUP(C185,Master!AQ$60:BC$107,10,FALSE))","v":""},null,null,{"$f":"IF(ISNA(VLOOKUP(C185,Master!AQ$60:BC$107,11,FALSE)),\"\",VLOOKUP(C185,Master!AQ$60:BC$107,11,FALSE))","v":""},{"$f":"IF(ISNA(VLOOKUP(C185,Master!AQ$60:BC$107,9,FALSE)),\"\",VLOOKUP(C185,Master!AQ$60:BC$107,9,FALSE))","v":""},0,0,0,0,0,0,"","","","","","",0,0,"",0,0,0,0,0,0,0,null,null,0,0,0,0,0,0,0,0,0,0,0,0,0,0,0,0,null,null,0,0,1,0,0,0,1,0,1,0,0,""]
["",2202,160,{"$f":"IF(ISNA(VLOOKUP(C186,Master!AQ$60:BC$285,3,FALSE)),\"\",VLOOKUP(C186,Master!AQ$60:BC$285,3,FALSE))","v":""},{"$f":"IF(ISNA(VLOOKUP(C186,Master!AQ$60:BC$285,7,FALSE)),\"\",VLOOKUP(C186,Master!AQ$60:BC$285,7,FALSE))","v":""},{"$f":"IF(ISNA(VLOOKUP(C186,Master!AQ$60:BC$285,8,FALSE)),\"\",VLOOKUP(C186,Master!AQ$60:BC$285,8,FALSE))","v":""},{"$f":"IF(ISNA(VLOOKUP(C186,Master!AQ$60:BC$285,4,FALSE)),\"\",VLOOKUP(C186,Master!AQ$60:BC$285,4,FALSE))","v":""},{"$f":"IF(ISNA(VLOOKUP(C186,Master!AQ$60:BC$285,5,FALSE)),\"\",VLOOKUP(C186,Master!AQ$60:BC$285,5,FALSE))","v":""},{"$f":"IF(ISNA(VLOOKUP(C186,Master!AQ$60:BC$285,6,FALSE)),\"\",VLOOKUP(C186,Master!AQ$60:BC$285,6,FALSE))","v":""},"","","","","",{"$f":"IF(ISNA(VLOOKUP(C186,Master!AQ$60:BC$285,12,FALSE)),\"\",VLOOKUP(C186,Master!AQ$60:BC$285,12,FALSE))","v":""},{"$nulls":3},0,1,{"$f":"IF(ISNA(VLOOKUP(C186,Master!AQ$60:BC$107,10,FALSE)),\"\",VLOOKUP(C186,Master!AQ$60:BC$107,10,FALSE))","v":""},null,null,{"$f":"IF(ISNA(VLOOKUP(C186,Master!AQ$60:BC$107,11,FALSE)),\"\",VLOOKUP(C186,Master!AQ$60:BC$107,11,FALSE))","v":""},{"$f":"IF(ISNA(VLOOKUP(C186,Master!AQ$60:BC$107,9,FALSE)),\"\",VLOOKUP(C186,Master!AQ$60:BC$107,9,FALSE))","v":""},0,0,0,0,0,0,"","","","","","",0,0,"",0,0,0,0,0,0,0,null,null,0,0,0,0,0,0,0,0,0,0,0,0,0,0,0,0,null,null,0,0,1,0,0,0,1,0,1,0,0,""]
["",2202,161,{"$f":"IF(ISNA(VLOOKUP(C187,Master!AQ$60:BC$285,3,FALSE)),\"\",VLOOKUP(C187,Master!AQ$60:BC$285,3,FALSE))","v":""},{"$f":"IF(ISNA(VLOOKUP(C187,Master!AQ$60:BC$285,7,FALSE)),\"\",VLOOKUP(C187,Master!AQ$60:BC$285,7,FALSE))","v":""},{"$f":"IF(ISNA(VLOOKUP(C187,Master!AQ$60:BC$285,8,FALSE)),\"\",VLOOKUP(C187,Master!AQ$60:BC$285,8,FALSE))","v":""},{"$f":"IF(ISNA(VLOOKUP(C187,Master!AQ$60:BC$285,4,FALSE)),\"\",VLOOKUP(C187,Master!AQ$60:BC$285,4,FALSE))","v":""},{"$f":"IF(ISNA(VLOOKUP(C187,Master!AQ$60:BC$285,5,FALSE)),\"\",VLOOKUP(C187,Master!AQ$60:BC$285,5,FALSE))","v":""},{"$f":"IF(ISNA(VLOOKUP(C187,Master!AQ$60:BC$285,6,FALSE)),\"\",VLOOKUP(C187,Master!AQ$60:BC$285,6,FALSE))","v":""},"","","","","",{"$f":"IF(ISNA(VLOOKUP(C187,Master!AQ$60:BC$285,12,FALSE)),\"\",VLOOKUP(C187,Master!AQ$60:BC$285,12,FALSE))","v":""},{"$nulls":3},0,1,{"$f":"IF(ISNA(VLOOKUP(C187,Master!AQ$60:BC$107,10,FALSE)),\"\",VLOOKUP(C187,Master!AQ$60:BC$107,10,FALSE))","v":""},null,null,{"$f":"IF(ISNA(VLOOKUP(C187,Master!AQ$60:BC$107,11,FALSE)),\"\",VLOOKUP(C187,Master!AQ$60:BC$107,11,FALSE))","v":""},{"$f":"IF(ISNA(VLOOKUP(C187,Master!AQ$60:BC$107,9,FALSE)),\"\",VLOOKUP(C187,Master!AQ$60:BC$107,9,FALSE))","v":""},0,0,0,0,0,0,"","","","","","",0,0,"",0,0,0,0,0,0,0,null,null,0,0,0,0,0,0,0,0,0,0,0,0,0,0,0,0,null,null,0,0,1,0,0,0,1,{"$f":"IF((ROUND((SUMPRODUCT(MID(0&E187,LARGE(INDEX(ISNUMBER(--MID(E187,ROW($1:$25),1))* ROW($1:$25),0),ROW($1:$25))+1,1)*10^ROW($1:$25)/10)),-8)/100000000)>=2004,1,0)","v":0},1,0,0,{"$f":"IF(AND(E187=\"\"),\"\",IF(AND(E187<=0),\"\",IF((ROUND((SUMPRODUCT(MID(0&E187,LARGE(INDEX(ISNUMBER(--MID(E187,ROW($1:$70),1))* ROW($1:$70),0),ROW($1:$70))+1,1)*10^ROW($1:$70)/10)),-8)/100000000)<2004,1,0)))","v":""}]
["",2202,162,{"$f":"IF(ISNA(VLOOKUP(C188,Master!AQ$60:BC$285,3,FALSE)),\"\",VLOOKUP(C188,Master!AQ$60:BC$285,3,FALSE))","v":""},{"$f":"IF(ISNA(VLOOKUP(C188,Master!AQ$60:BC$285,7,FALSE)),\"\",VLOOKUP(C188,Master!AQ$60:BC$285,7,FALSE))","v":""},{"$f":"IF(ISNA(VLOOKUP(C188,Master!AQ$60:BC$285,8,FALSE)),\"\",VLOOKUP(C188,Master!AQ$60:BC$285,8,FALSE))","v":""},{"$f":"IF(ISNA(VLOOKUP(C188,Master!AQ$60:BC$285,4,FALSE)),\"\",VLOOKUP(C188,Master!AQ$60:BC$285,4,FALSE))","v":""},{"$f":"IF(ISNA(VLOOKUP(C188,Master!AQ$60:BC$285,5,FALSE)),\"\",VLOOKUP(C188,Master!AQ$60:BC$285,5,FALSE))","v":""},{"$f":"IF(ISNA(VLOOKUP(C188,Master!AQ$60:BC$285,6,FALSE)),\"\",VLOOKUP(C188,Master!AQ$60:BC$285,6,FALSE))","v":""},"","","","","",{"$f":"IF(ISNA(VLOOKUP(C188,Master!AQ$60:BC$285,12,FALSE)),\"\",VLOOKUP(C188,Master!AQ$60:BC$285,12,FALSE))","v":""},{"$nulls":3},0,1,{"$f":"IF(ISNA(VLOOKUP(C188,Master!AQ$60:BC$107,10,FALSE)),\"\",VLOOKUP(C188,Master!AQ$60:BC$107,10,FALSE))","v":""},null,null,{"$f":"IF(ISNA(VLOOKUP(C188,Master!AQ$60:BC$107,11,FALSE)),\"\",VLOOKUP(C188,Master!AQ$60:BC$107,11,FALSE))","v":""},{"$f":"IF(ISNA(VLOOKUP(C188,Master!AQ$60:BC$107,9,FALSE)),\"\",VLOOKUP(C188,Master!AQ$60:BC$107,9,FALSE))","v":""},0,0,0,0,0,0,"","","","","","",0,0,"",0,0,0,0,0,0,0,null,null,0,0,0,0,0,0,0,0,0,0,0,0,0,0,0,0,null,null,0,0,1,0,0,0,1,0,1,0,0,""]
["",2202,163,{"$f":"IF(ISNA(VLOOKUP(C189,Master!AQ$60:BC$285,3,FALSE)),\"\",VLOOKUP(C189,Master!AQ$60:BC$285,3,FALSE))","v":""},{"$f":"IF(ISNA(VLOOKUP(C189,Master!AQ$60:BC$285,7,FALSE)),\"\",VLOOKUP(C189,Master!AQ$60:BC$285,7,FALSE))","v":""},{"$f":"IF(ISNA(VLOOKUP(C189,Master!AQ$60:BC$285,8,FALSE)),\"\",VLOOKUP(C189,Master!AQ$60:BC$285,8,FALSE))","v":""},{"$f":"IF(ISNA(VLOOKUP(C189,Master!AQ$60:BC$285,4,FALSE)),\"\",VLOOKUP(C189,Master!AQ$60:BC$285,4,FALSE))","v":""},{"$f":"IF(ISNA(VLOOKUP(C189,Master!AQ$60:BC$285,5,FALSE)),\"\",VLOOKUP(C189,Master!AQ$60:BC$285,5,FALSE))","v":""},{"$f":"IF(ISNA(VLOOKUP(C189,Master!AQ$60:BC$285,6,FALSE)),\"\",VLOOKUP(C189,Master!AQ$60:BC$285,6,FALSE))","v":""},"","","","","",{"$f":"IF(ISNA(VLOOKUP(C189,Master!AQ$60:BC$285,12,FALSE)),\"\",VLOOKUP(C189,Master!AQ$60:BC$285,12,FALSE))","v":""},{"$nulls":3},0,1,{"$f":"IF(ISNA(VLOOKUP(C189,Master!AQ$60:BC$107,10,FALSE)),\"\",VLOOKUP(C189,Master!AQ$60:BC$107,10,FALSE))","v":""},null,null,{"$f":"IF(ISNA(VLOOKUP(C189,Master!AQ$60:BC$107,11,FALSE)),\"\",VLOOKUP(C189,Master!AQ$60:BC$107,11,FALSE))","v":""},{"$f":"IF(ISNA(VLOOKUP(C189,Master!AQ$60:BC$107,9,FALSE)),\"\",VLOOKUP(C189,Master!AQ$60:BC$107,9,FALSE))","v":""},0,0,0,0,0,0,"","","","","","",0,0,"",0,0,0,0,0,0,0,null,null,0,0,0,0,0,0,0,0,0,0,0,0,0,0,0,0,null,null,0,0,1,0,0,0,1,0,1,0,0,""]
["",2202,164,{"$f":"IF(ISNA(VLOOKUP(C190,Master!AQ$60:BC$285,3,FALSE)),\"\",VLOOKUP(C190,Master!AQ$60:BC$285,3,FALSE))","v":""},{"$f":"IF(ISNA(VLOOKUP(C190,Master!AQ$60:BC$285,7,FALSE)),\"\",VLOOKUP(C190,Master!AQ$60:BC$285,7,FALSE))","v":""},{"$f":"IF(ISNA(VLOOKUP(C190,Master!AQ$60:BC$285,8,FALSE)),\"\",VLOOKUP(C190,Master!AQ$60:BC$285,8,FALSE))","v":""},{"$f":"IF(ISNA(VLOOKUP(C190,Master!AQ$60:BC$285,4,FALSE)),\"\",VLOOKUP(C190,Master!AQ$60:BC$285,4,FALSE))","v":""},{"$f":"IF(ISNA(VLOOKUP(C190,Master!AQ$60:BC$285,5,FALSE)),\"\",VLOOKUP(C190,Master!AQ$60:BC$285,5,FALSE))","v":""},{"$f":"IF(ISNA(VLOOKUP(C190,Master!AQ$60:BC$285,6,FALSE)),\"\",VLOOKUP(C190,Master!AQ$60:BC$285,6,FALSE))","v":""},{"$f":"IF(AND(I190=\"\"),\"\",I190*12)","v":""},{"$f":"IF(AND(I190=\"\"),\"\",IF(I190<=0,\"\",(CONCATENATE(\"01.07.\",(YEAR(TODAY())+1)))))","v":""},{"$f":"IF(AND(I190=\"\"),\"\",ROUND(ROUND(I190*3%,0),-2)*IF(H190=\"FIX PAY\",0,1)*8)","v":""},{"$f":"IF(AND(I190=\"\"),\"\",J190+L190)","v":""},{"$f":"IF(AND(I190=\"\"),\"\",IF(O190=\"FIX PAY\",M190,((IF(O190=\"FIX PAY\",0,AF190*4+I190*8)))))","v":""},{"$f":"IF(ISNA(VLOOKUP(C190,Master!AQ$60:BC$285,12,FALSE)),\"\",VLOOKUP(C190,Master!AQ$60:BC$285,12,FALSE))","v":""},{"$nulls":3},0,{"$f":"IF(G190>0,1,0)","v":1},{"$f":"IF(ISNA(VLOOKUP(C190,Master!AQ$60:BC$107,10,FALSE)),\"\",VLOOKUP(C190,Master!AQ$60:BC$107,10,FALSE))","v":""},null,null,{"$f":"IF(ISNA(VLOOKUP(C190,Master!AQ$60:BC$107,11,FALSE)),\"\",VLOOKUP(C190,Master!AQ$60:BC$107,11,FALSE))","v":""},{"$f":"IF(ISNA(VLOOKUP(C190,Master!AQ$60:BC$107,9,FALSE)),\"\",VLOOKUP(C190,Master!AQ$60:BC$107,9,FALSE))","v":""},{"$f":"IF(Y190=\"MALE\",1,0)*(IF(G190=\"JAMADAR\",1,0))*(IF(I190<=0,0,1))","v":0},{"$f":"IF(Y190=\"FEMALE\",1,0)*(IF(G190=\"JAMADAR\",1,0))*(IF(I190<=0,0,1))","v":0},{"$f":"IF(Y190=\"MALE\",1,0)*(IF(G190=\"LAB BOY\",1,0))*(IF(I190<=0,0,1))","v":0},{"$f":"IF(Y190=\"FEMALE\",1,0)*(IF(G190=\"LAB BOY\",1,0))*(IF(I190<=0,0,1))","v":0},{"$f":"IF(Y190=\"MALE\",1,0)*(IF(G190=\"PEON\",1,0))*(IF(I190<=0,0,1))","v":0},{"$f":"IF(Y190=\"FEMALE\",1,0)*(IF(G190=\"PEON\",1,0))*(IF(I190<=0,0,1))","v":0},{"$f":"IF(AND(I190=\"\"),\"\",I190-ROUNDUP(ROUND((I190*3%)-(I190*3%)*2.9%,-2),0))","v":""},{"$f":"IF(AND(I190=\"\"),\"\",$M190*$BQ190)","v":""},{"$f":"IF(AND(I190=\"\"),\"\",$M190*$BR190)","v":""},{"$f":"IF(AND(I190=\"\"),\"\",$M190*$BS190)","v":""},{"$f":"IF(AND(I190=\"\"),\"\",$M190*$BT190)","v":""},{"$f":"IF(AND(I190=\"\"),\"\",ROUND((AG190+AH190)*$AK$10,0)*BU190)","v":""},0,0,{"$f":"IF(AND(I190=\"\"),\"\",ROUND((AG190+AH190)*$AN$10,0)*BU190)","v":""},{"$f":"$G$221*BR190*BU190*(IF(I190<=0,0,1))*(IF(H190<=4800,1,0))","v":0},{"$f":"IF(AND(I190=\"\"),0,ROUND((I190+ROUND(I190*$AK$10,0))/2,0)*(IF(O190=\"FIX PAY\",0,1)))","v":0},{"$f":"IF(G190=\"CLERK GRADE I\",1,IF(G190=\"CLERK GRADE II\",1,0))*75*12*BU190*(IF(I190<=0,0,1))*BV190","v":0},{"$f":"IF(AND(I190=\"\"),0,(IF(G190=\"ASSISTANT\",12,IF(G190=\"CLERK GRADE I\",12,IF(G190=\"CLERK GRADE II\",12,IF(G190=\"FIELDMAN & FIELD REC\",12,IF(G190=\"LAB BOY\",12,IF(G190=\"JAMADAR\",12,IF(G190=\"PEON\",12,10))))))))*(MINA(ROUND(I190*6%,0),600))*(IF($U190=\"yes\",1,0)))","v":0},0,{"$f":"IF(AND(G190=\"\"),0,SUM(AK190:AS190)+AG190+AH190)","v":0},{"$f":"IF(AND(G190=\"\"),0,AT190)","v":0},null,null,{"$f":"AU190+AV190+AW190","v":0},{"$f":"IF(AND(G190=\"\"),0,N190*BQ190)","v":0},{"$f":"IF(AND(G190=\"\"),0,N190*BR190)","v":0},{"$f":"IF(AND(G190=\"\"),0,N190*BS190)","v":0},{"$f":"IF(AND(G190=\"\"),0,N190*BT190)","v":0},{"$f":"ROUND((AY190+AZ190)*$BC$10,0)*BU190","v":0},{"$f":"IF(AND(G190=\"\"),0,ROUND((IF(O190=\"FIX PAY\",0,AF190))*$BD$10*2,0)*BU190)","v":0},0,{"$f":"ROUND((AY190+AZ190)*$BF$10,0)*BU190","v":0},{"$f":"3387*2*BR190*BU190*(IF(I190<=0,0,1))*(IF(H190<=4800,1,0))","v":0},{"$f":"IF(AND(I190=\"\"),0,ROUND((AF190+ROUND(AF190*$AK$10,0))/2,0)*(IF(O190=\"FIX PAY\",0,1)))","v":0},{"$f":"IF(G190=\"CLERK GRADE I\",1,IF(G190=\"CLERK GRADE II\",1,0))*75*12*BU190*(IF(I190<=0,0,1))*BV190","v":0},{"$f":"IF(AND(G190=\"\"),0,(IF(G190=\"ASSISTANT\",12,IF(G190=\"CLERK GRADE I\",12,IF(G190=\"CLERK GRADE II\",12,IF(G190=\"FIELDMAN & FIELD REC\",12,IF(G190=\"LAB BOY\",12,IF(G190=\"JAMADAR\",12,IF(G190=\"PEON\",12,10))))))))*(MINA(ROUND(AF190*6%,0),600))*(IF($U190=\"yes\",1,)))","v":0},{"$f":"(IF(G190=\"LAB BOY\",150,IF(G190=\"JAMADAR\",150,IF(G190=\"PEON\",150,0))))*12*BU190*(IF(I190<=0,0,1))","v":0},{"$f":"SUM(BC190:BK190)+AY190+AZ190","v":0},{"$f":"BL190","v":0},null,null,{"$f":"BM190+BN190+BO190","v":0},{"$f":"(IF(G190=\"PRINCIPAL\",1,IF(G190=\"H M\",1,IF(G190=\"AGRICULTURE INST\",1,IF(G190=\"TEACHER-1ST\",1,IF(G190=\"PTI  I  (13)\",1,IF(G190=\"AGRICULTURE TEACH\",1,IF(G190=\"INSTRUCTOR\",1,0))))))))+(IF(G190=\"JR TEACHER\",1,IF(G190=\"LIBRARIAN I\",1,0)))*(IF(O190=\"FIX PAY\",0,1))","v":0},{"$f":"IF(BQ190<=0,1,0)*(IF(O190=\"FIX PAY\",0,1))","v":1},{"$f":"(IF(G190=\"PRINCIPAL (16)\",1,IF(G190=\"V P (14)\",1,IF(G190=\"H M (14)\",1,IF(G190=\"AGRICULTURE INST (13)\",1,IF(G190=\"TEACHER-1ST (13)\",1,IF(G190=\"PTI  I  (13)\",1,IF(G190=\"AGRICULTURE TEACH (13)\",1,IF(G190=\"INSTRUCTOR (13)\",1,0))))))))+(IF(G190=\"JR TEACHER (13)\",1,IF(G190=\"LIBRARIAN I (13)\",1,0))))*(IF(O190=\"FIX PAY\",1,0))","v":0},{"$f":"IF(BS190<=0,1,0)*(IF(O190=\"FIX PAY\",1,0))","v":0},{"$f":"IF(O190=\"FIX PAY\",1,0)","v":0},{"$f":"IF(X190=\"No\",0,1)","v":1},0,{"$f":"IF(I190<=0,0,1)","v":1},{"$f":"IF(O190=\"SANVIDA\",1,0)","v":0},{"$f":"IF(BY190>0,I190,0)","v":0},""]
["",2202,165,{"$f":"IF(ISNA(VLOOKUP(C191,Master!AQ$60:BC$285,3,FALSE)),\"\",VLOOKUP(C191,Master!AQ$60:BC$285,3,FALSE))","v":""},{"$f":"IF(ISNA(VLOOKUP(C191,Master!AQ$60:BC$285,7,FALSE)),\"\",VLOOKUP(C191,Master!AQ$60:BC$285,7,FALSE))","v":""},{"$f":"IF(ISNA(VLOOKUP(C191,Master!AQ$60:BC$285,8,FALSE)),\"\",VLOOKUP(C191,Master!AQ$60:BC$285,8,FALSE))","v":""},{"$f":"IF(ISNA(VLOOKUP(C191,Master!AQ$60:BC$285,4,FALSE)),\"\",VLOOKUP(C191,Master!AQ$60:BC$285,4,FALSE))","v":""},{"$f":"IF(ISNA(VLOOKUP(C191,Master!AQ$60:BC$285,5,FALSE)),\"\",VLOOKUP(C191,Master!AQ$60:BC$285,5,FALSE))","v":""},{"$f":"IF(ISNA(VLOOKUP(C191,Master!AQ$60:BC$285,6,FALSE)),\"\",VLOOKUP(C191,Master!AQ$60:BC$285,6,FALSE))","v":""},"","","","","",{"$f":"IF(ISNA(VLOOKUP(C191,Master!AQ$60:BC$285,12,FALSE)),\"\",VLOOKUP(C191,Master!AQ$60:BC$285,12,FALSE))","v":""},{"$nulls":3},0,1,{"$f":"IF(ISNA(VLOOKUP(C191,Master!AQ$60:BC$107,10,FALSE)),\"\",VLOOKUP(C191,Master!AQ$60:BC$107,10,FALSE))","v":""},null,null,{"$f":"IF(ISNA(VLOOKUP(C191,Master!AQ$60:BC$107,11,FALSE)),\"\",VLOOKUP(C191,Master!AQ$60:BC$107,11,FALSE))","v":""},{"$f":"IF(ISNA(VLOOKUP(C191,Master!AQ$60:BC$107,9,FALSE)),\"\",VLOOKUP(C191,Master!AQ$60:BC$107,9,FALSE))","v":""},0,0,0,0,0,0,"","","","","","",0,0,"",0,0,0,0,0,0,0,null,null,0,0,0,0,0,0,0,0,0,0,0,0,0,0,0,0,null,null,0,0,1,0,0,0,1,0,1,0,0,""]
["",2202,166,{"$f":"IF(ISNA(VLOOKUP(C192,Master!AQ$60:BC$285,3,FALSE)),\"\",VLOOKUP(C192,Master!AQ$60:BC$285,3,FALSE))","v":""},{"$f":"IF(ISNA(VLOOKUP(C192,Master!AQ$60:BC$285,7,FALSE)),\"\",VLOOKUP(C192,Master!AQ$60:BC$285,7,FALSE))","v":""},{"$f":"IF(ISNA(VLOOKUP(C192,Master!AQ$60:BC$285,8,FALSE)),\"\",VLOOKUP(C192,Master!AQ$60:BC$285,8,FALSE))","v":""},{"$f":"IF(ISNA(VLOOKUP(C192,Master!AQ$60:BC$285,4,FALSE)),\"\",VLOOKUP(C192,Master!AQ$60:BC$285,4,FALSE))","v":""},{"$f":"IF(ISNA(VLOOKUP(C192,Master!AQ$60:BC$285,5,FALSE)),\"\",VLOOKUP(C192,Master!AQ$60:BC$285,5,FALSE))","v":""},{"$f":"IF(ISNA(VLOOKUP(C192,Master!AQ$60:BC$285,6,FALSE)),\"\",VLOOKUP(C192,Master!AQ$60:BC$285,6,FALSE))","v":""},"","","","","",{"$f":"IF(ISNA(VLOOKUP(C192,Master!AQ$60:BC$285,12,FALSE)),\"\",VLOOKUP(C192,Master!AQ$60:BC$285,12,FALSE))","v":""},{"$nulls":3},0,1,{"$f":"IF(ISNA(VLOOKUP(C192,Master!AQ$60:BC$107,10,FALSE)),\"\",VLOOKUP(C192,Master!AQ$60:BC$107,10,FALSE))","v":""},null,null,{"$f":"IF(ISNA(VLOOKUP(C192,Master!AQ$60:BC$107,11,FALSE)),\"\",VLOOKUP(C192,Master!AQ$60:BC$107,11,FALSE))","v":""},{"$f":"IF(ISNA(VLOOKUP(C192,Master!AQ$60:BC$107,9,FALSE)),\"\",VLOOKUP(C192,Master!AQ$60:BC$107,9,FALSE))","v":""},0,0,0,0,0,0,"","","","","","",0,0,"",0,0,0,0,0,0,0,null,null,0,0,0,0,0,0,0,0,0,0,0,0,0,0,0,0,null,null,0,0,1,0,0,0,1,0,1,0,0,""]
["",2202,167,{"$f":"IF(ISNA(VLOOKUP(C193,Master!AQ$60:BC$285,3,FALSE)),\"\",VLOOKUP(C193,Master!AQ$60:BC$285,3,FALSE))","v":""},{"$f":"IF(ISNA(VLOOKUP(C193,Master!AQ$60:BC$285,7,FALSE)),\"\",VLOOKUP(C193,Master!AQ$60:BC$285,7,FALSE))","v":""},{"$f":"IF(ISNA(VLOOKUP(C193,Master!AQ$60:BC$285,8,FALSE)),\"\",VLOOKUP(C193,Master!AQ$60:BC$285,8,FALSE))","v":""},{"$f":"IF(ISNA(VLOOKUP(C193,Master!AQ$60:BC$285,4,FALSE)),\"\",VLOOKUP(C193,Master!AQ$60:BC$285,4,FALSE))","v":""},{"$f":"IF(ISNA(VLOOKUP(C193,Master!AQ$60:BC$285,5,FALSE)),\"\",VLOOKUP(C193,Master!AQ$60:BC$285,5,FALSE))","v":""},{"$f":"IF(ISNA(VLOOKUP(C193,Master!AQ$60:BC$285,6,FALSE)),\"\",VLOOKUP(C193,Master!AQ$60:BC$285,6,FALSE))","v":""},"","","","","",{"$f":"IF(ISNA(VLOOKUP(C193,Master!AQ$60:BC$285,12,FALSE)),\"\",VLOOKUP(C193,Master!AQ$60:BC$285,12,FALSE))","v":""},{"$nulls":3},0,1,{"$f":"IF(ISNA(VLOOKUP(C193,Master!AQ$60:BC$107,10,FALSE)),\"\",VLOOKUP(C193,Master!AQ$60:BC$107,10,FALSE))","v":""},null,null,{"$f":"IF(ISNA(VLOOKUP(C193,Master!AQ$60:BC$107,11,FALSE)),\"\",VLOOKUP(C193,Master!AQ$60:BC$107,11,FALSE))","v":""},{"$f":"IF(ISNA(VLOOKUP(C193,Master!AQ$60:BC$107,9,FALSE)),\"\",VLOOKUP(C193,Master!AQ$60:BC$107,9,FALSE))","v":""},0,0,0,0,0,0,"","","","","","",0,0,"",0,0,0,0,0,0,0,null,null,0,0,0,0,0,0,0,0,0,0,0,0,0,0,0,0,null,null,0,0,1,0,0,0,1,0,1,0,0,""]
["",2202,168,{"$f":"IF(ISNA(VLOOKUP(C194,Master!AQ$60:BC$285,3,FALSE)),\"\",VLOOKUP(C194,Master!AQ$60:BC$285,3,FALSE))","v":""},{"$f":"IF(ISNA(VLOOKUP(C194,Master!AQ$60:BC$285,7,FALSE)),\"\",VLOOKUP(C194,Master!AQ$60:BC$285,7,FALSE))","v":""},{"$f":"IF(ISNA(VLOOKUP(C194,Master!AQ$60:BC$285,8,FALSE)),\"\",VLOOKUP(C194,Master!AQ$60:BC$285,8,FALSE))","v":""},{"$f":"IF(ISNA(VLOOKUP(C194,Master!AQ$60:BC$285,4,FALSE)),\"\",VLOOKUP(C194,Master!AQ$60:BC$285,4,FALSE))","v":""},{"$f":"IF(ISNA(VLOOKUP(C194,Master!AQ$60:BC$285,5,FALSE)),\"\",VLOOKUP(C194,Master!AQ$60:BC$285,5,FALSE))","v":""},{"$f":"IF(ISNA(VLOOKUP(C194,Master!AQ$60:BC$285,6,FALSE)),\"\",VLOOKUP(C194,Master!AQ$60:BC$285,6,FALSE))","v":""},"","","","","",{"$f":"IF(ISNA(VLOOKUP(C194,Master!AQ$60:BC$285,12,FALSE)),\"\",VLOOKUP(C194,Master!AQ$60:BC$285,12,FALSE))","v":""},{"$nulls":3},0,1,{"$f":"IF(ISNA(VLOOKUP(C194,Master!AQ$60:BC$107,10,FALSE)),\"\",VLOOKUP(C194,Master!AQ$60:BC$107,10,FALSE))","v":""},null,null,{"$f":"IF(ISNA(VLOOKUP(C194,Master!AQ$60:BC$107,11,FALSE)),\"\",VLOOKUP(C194,Master!AQ$60:BC$107,11,FALSE))","v":""},{"$f":"IF(ISNA(VLOOKUP(C194,Master!AQ$60:BC$107,9,FALSE)),\"\",VLOOKUP(C194,Master!AQ$60:BC$107,9,FALSE))","v":""},0,0,0,0,0,0,"","","","","","",0,0,"",0,0,0,0,0,0,0,null,null,0,0,0,0,0,0,0,0,0,0,0,0,0,0,0,0,null,null,0,0,1,0,0,0,1,0,1,0,0,""]
["",2202,169,{"$f":"IF(ISNA(VLOOKUP(C195,Master!AQ$60:BC$285,3,FALSE)),\"\",VLOOKUP(C195,Master!AQ$60:BC$285,3,FALSE))","v":""},{"$f":"IF(ISNA(VLOOKUP(C195,Master!AQ$60:BC$285,7,FALSE)),\"\",VLOOKUP(C195,Master!AQ$60:BC$285,7,FALSE))","v":""},{"$f":"IF(ISNA(VLOOKUP(C195,Master!AQ$60:BC$285,8,FALSE)),\"\",VLOOKUP(C195,Master!AQ$60:BC$285,8,FALSE))","v":""},{"$f":"IF(ISNA(VLOOKUP(C195,Master!AQ$60:BC$285,4,FALSE)),\"\",VLOOKUP(C195,Master!AQ$60:BC$285,4,FALSE))","v":""},{"$f":"IF(ISNA(VLOOKUP(C195,Master!AQ$60:BC$285,5,FALSE)),\"\",VLOOKUP(C195,Master!AQ$60:BC$285,5,FALSE))","v":""},{"$f":"IF(ISNA(VLOOKUP(C195,Master!AQ$60:BC$285,6,FALSE)),\"\",VLOOKUP(C195,Master!AQ$60:BC$285,6,FALSE))","v":""},"","","","","",{"$f":"IF(ISNA(VLOOKUP(C195,Master!AQ$60:BC$285,12,FALSE)),\"\",VLOOKUP(C195,Master!AQ$60:BC$285,12,FALSE))","v":""},{"$nulls":3},0,1,{"$f":"IF(ISNA(VLOOKUP(C195,Master!AQ$60:BC$107,10,FALSE)),\"\",VLOOKUP(C195,Master!AQ$60:BC$107,10,FALSE))","v":""},null,null,{"$f":"IF(ISNA(VLOOKUP(C195,Master!AQ$60:BC$107,11,FALSE)),\"\",VLOOKUP(C195,Master!AQ$60:BC$107,11,FALSE))","v":""},{"$f":"IF(ISNA(VLOOKUP(C195,Master!AQ$60:BC$107,9,FALSE)),\"\",VLOOKUP(C195,Master!AQ$60:BC$107,9,FALSE))","v":""},0,0,0,0,0,0,"","","","","","",0,0,"",0,0,0,0,0,0,0,null,null,0,0,0,0,0,0,0,0,0,0,0,0,0,0,0,0,null,null,0,0,1,0,0,0,1,0,1,0,0,""]
["",2202,170,{"$f":"IF(ISNA(VLOOKUP(C196,Master!AQ$60:BC$285,3,FALSE)),\"\",VLOOKUP(C196,Master!AQ$60:BC$285,3,FALSE))","v":""},{"$f":"IF(ISNA(VLOOKUP(C196,Master!AQ$60:BC$285,7,FALSE)),\"\",VLOOKUP(C196,Master!AQ$60:BC$285,7,FALSE))","v":""},{"$f":"IF(ISNA(VLOOKUP(C196,Master!AQ$60:BC$285,8,FALSE)),\"\",VLOOKUP(C196,Master!AQ$60:BC$285,8,FALSE))","v":""},{"$f":"IF(ISNA(VLOOKUP(C196,Master!AQ$60:BC$285,4,FALSE)),\"\",VLOOKUP(C196,Master!AQ$60:BC$285,4,FALSE))","v":""},{"$f":"IF(ISNA(VLOOKUP(C196,Master!AQ$60:BC$285,5,FALSE)),\"\",VLOOKUP(C196,Master!AQ$60:BC$285,5,FALSE))","v":""},{"$f":"IF(ISNA(VLOOKUP(C196,Master!AQ$60:BC$285,6,FALSE)),\"\",VLOOKUP(C196,Master!AQ$60:BC$285,6,FALSE))","v":""},"","","","","",{"$f":"IF(ISNA(VLOOKUP(C196,Master!AQ$60:BC$285,12,FALSE)),\"\",VLOOKUP(C196,Master!AQ$60:BC$285,12,FALSE))","v":""},{"$nulls":3},0,1,{"$f":"IF(ISNA(VLOOKUP(C196,Master!AQ$60:BC$107,10,FALSE)),\"\",VLOOKUP(C196,Master!AQ$60:BC$107,10,FALSE))","v":""},null,null,{"$f":"IF(ISNA(VLOOKUP(C196,Master!AQ$60:BC$107,11,FALSE)),\"\",VLOOKUP(C196,Master!AQ$60:BC$107,11,FALSE))","v":""},{"$f":"IF(ISNA(VLOOKUP(C196,Master!AQ$60:BC$107,9,FALSE)),\"\",VLOOKUP(C196,Master!AQ$60:BC$107,9,FALSE))","v":""},0,0,0,0,0,0,"","","","","","",0,0,"",0,0,0,0,0,0,0,null,null,0,0,0,0,0,0,0,0,0,0,0,0,0,0,0,0,null,null,0,0,1,0,0,0,1,0,1,0,0,""]
["",2202,171,{"$f":"IF(ISNA(VLOOKUP(C197,Master!AQ$60:BC$285,3,FALSE)),\"\",VLOOKUP(C197,Master!AQ$60:BC$285,3,FALSE))","v":""},{"$f":"IF(ISNA(VLOOKUP(C197,Master!AQ$60:BC$285,7,FALSE)),\"\",VLOOKUP(C197,Master!AQ$60:BC$285,7,FALSE))","v":""},{"$f":"IF(ISNA(VLOOKUP(C197,Master!AQ$60:BC$285,8,FALSE)),\"\",VLOOKUP(C197,Master!AQ$60:BC$285,8,FALSE))","v":""},{"$f":"IF(ISNA(VLOOKUP(C197,Master!AQ$60:BC$285,4,FALSE)),\"\",VLOOKUP(C197,Master!AQ$60:BC$285,4,FALSE))","v":""},{"$f":"IF(ISNA(VLOOKUP(C197,Master!AQ$60:BC$285,5,FALSE)),\"\",VLOOKUP(C197,Master!AQ$60:BC$285,5,FALSE))","v":""},{"$f":"IF(ISNA(VLOOKUP(C197,Master!AQ$60:BC$285,6,FALSE)),\"\",VLOOKUP(C197,Master!AQ$60:BC$285,6,FALSE))","v":""},"","","","","",{"$f":"IF(ISNA(VLOOKUP(C197,Master!AQ$60:BC$285,12,FALSE)),\"\",VLOOKUP(C197,Master!AQ$60:BC$285,12,FALSE))","v":""},{"$nulls":3},0,1,{"$f":"IF(ISNA(VLOOKUP(C197,Master!AQ$60:BC$107,10,FALSE)),\"\",VLOOKUP(C197,Master!AQ$60:BC$107,10,FALSE))","v":""},null,null,{"$f":"IF(ISNA(VLOOKUP(C197,Master!AQ$60:BC$107,11,FALSE)),\"\",VLOOKUP(C197,Master!AQ$60:BC$107,11,FALSE))","v":""},{"$f":"IF(ISNA(VLOOKUP(C197,Master!AQ$60:BC$107,9,FALSE)),\"\",VLOOKUP(C197,Master!AQ$60:BC$107,9,FALSE))","v":""},0,0,0,0,0,0,"","","","","","",0,0,"",0,0,0,0,0,0,0,null,null,0,0,0,0,0,0,0,0,0,0,0,0,0,0,0,0,null,null,0,0,1,0,0,0,1,0,1,0,0,""]
["",2202,172,{"$f":"IF(ISNA(VLOOKUP(C198,Master!AQ$60:BC$285,3,FALSE)),\"\",VLOOKUP(C198,Master!AQ$60:BC$285,3,FALSE))","v":""},{"$f":"IF(ISNA(VLOOKUP(C198,Master!AQ$60:BC$285,7,FALSE)),\"\",VLOOKUP(C198,Master!AQ$60:BC$285,7,FALSE))","v":""},{"$f":"IF(ISNA(VLOOKUP(C198,Master!AQ$60:BC$285,8,FALSE)),\"\",VLOOKUP(C198,Master!AQ$60:BC$285,8,FALSE))","v":""},{"$f":"IF(ISNA(VLOOKUP(C198,Master!AQ$60:BC$285,4,FALSE)),\"\",VLOOKUP(C198,Master!AQ$60:BC$285,4,FALSE))","v":""},{"$f":"IF(ISNA(VLOOKUP(C198,Master!AQ$60:BC$285,5,FALSE)),\"\",VLOOKUP(C198,Master!AQ$60:BC$285,5,FALSE))","v":""},{"$f":"IF(ISNA(VLOOKUP(C198,Master!AQ$60:BC$285,6,FALSE)),\"\",VLOOKUP(C198,Master!AQ$60:BC$285,6,FALSE))","v":""},"","","","","",{"$f":"IF(ISNA(VLOOKUP(C198,Master!AQ$60:BC$285,12,FALSE)),\"\",VLOOKUP(C198,Master!AQ$60:BC$285,12,FALSE))","v":""},{"$nulls":3},0,1,{"$f":"IF(ISNA(VLOOKUP(C198,Master!AQ$60:BC$107,10,FALSE)),\"\",VLOOKUP(C198,Master!AQ$60:BC$107,10,FALSE))","v":""},null,null,{"$f":"IF(ISNA(VLOOKUP(C198,Master!AQ$60:BC$107,11,FALSE)),\"\",VLOOKUP(C198,Master!AQ$60:BC$107,11,FALSE))","v":""},{"$f":"IF(ISNA(VLOOKUP(C198,Master!AQ$60:BC$107,9,FALSE)),\"\",VLOOKUP(C198,Master!AQ$60:BC$107,9,FALSE))","v":""},0,0,0,0,0,0,"","","","","","",0,0,"",0,0,0,0,0,0,0,null,null,0,0,0,0,0,0,0,0,0,0,0,0,0,0,0,0,null,null,0,0,1,0,0,0,1,0,1,0,0,""]
["",2202,173,{"$f":"IF(ISNA(VLOOKUP(C199,Master!AQ$60:BC$285,3,FALSE)),\"\",VLOOKUP(C199,Master!AQ$60:BC$285,3,FALSE))","v":""},{"$f":"IF(ISNA(VLOOKUP(C199,Master!AQ$60:BC$285,7,FALSE)),\"\",VLOOKUP(C199,Master!AQ$60:BC$285,7,FALSE))","v":""},{"$f":"IF(ISNA(VLOOKUP(C199,Master!AQ$60:BC$285,8,FALSE)),\"\",VLOOKUP(C199,Master!AQ$60:BC$285,8,FALSE))","v":""},{"$f":"IF(ISNA(VLOOKUP(C199,Master!AQ$60:BC$285,4,FALSE)),\"\",VLOOKUP(C199,Master!AQ$60:BC$285,4,FALSE))","v":""},{"$f":"IF(ISNA(VLOOKUP(C199,Master!AQ$60:BC$285,5,FALSE)),\"\",VLOOKUP(C199,Master!AQ$60:BC$285,5,FALSE))","v":""},{"$f":"IF(ISNA(VLOOKUP(C199,Master!AQ$60:BC$285,6,FALSE)),\"\",VLOOKUP(C199,Master!AQ$60:BC$285,6,FALSE))","v":""},"","","","","",{"$f":"IF(ISNA(VLOOKUP(C199,Master!AQ$60:BC$285,12,FALSE)),\"\",VLOOKUP(C199,Master!AQ$60:BC$285,12,FALSE))","v":""},{"$nulls":3},0,1,{"$f":"IF(ISNA(VLOOKUP(C199,Master!AQ$60:BC$107,10,FALSE)),\"\",VLOOKUP(C199,Master!AQ$60:BC$107,10,FALSE))","v":""},null,null,{"$f":"IF(ISNA(VLOOKUP(C199,Master!AQ$60:BC$107,11,FALSE)),\"\",VLOOKUP(C199,Master!AQ$60:BC$107,11,FALSE))","v":""},{"$f":"IF(ISNA(VLOOKUP(C199,Master!AQ$60:BC$107,9,FALSE)),\"\",VLOOKUP(C199,Master!AQ$60:BC$107,9,FALSE))","v":""},0,0,0,0,0,0,"","","","","","",0,0,"",0,0,0,0,0,0,0,null,null,0,0,0,0,0,0,0,0,0,0,0,0,0,0,0,0,null,null,0,0,1,0,0,0,1,0,1,0,0,""]
["",2202,174,{"$f":"IF(ISNA(VLOOKUP(C200,Master!AQ$60:BC$285,3,FALSE)),\"\",VLOOKUP(C200,Master!AQ$60:BC$285,3,FALSE))","v":""},{"$f":"IF(ISNA(VLOOKUP(C200,Master!AQ$60:BC$285,7,FALSE)),\"\",VLOOKUP(C200,Master!AQ$60:BC$285,7,FALSE))","v":""},{"$f":"IF(ISNA(VLOOKUP(C200,Master!AQ$60:BC$285,8,FALSE)),\"\",VLOOKUP(C200,Master!AQ$60:BC$285,8,FALSE))","v":""},{"$f":"IF(ISNA(VLOOKUP(C200,Master!AQ$60:BC$285,4,FALSE)),\"\",VLOOKUP(C200,Master!AQ$60:BC$285,4,FALSE))","v":""},{"$f":"IF(ISNA(VLOOKUP(C200,Master!AQ$60:BC$285,5,FALSE)),\"\",VLOOKUP(C200,Master!AQ$60:BC$285,5,FALSE))","v":""},{"$f":"IF(ISNA(VLOOKUP(C200,Master!AQ$60:BC$285,6,FALSE)),\"\",VLOOKUP(C200,Master!AQ$60:BC$285,6,FALSE))","v":""},"","","","","",{"$f":"IF(ISNA(VLOOKUP(C200,Master!AQ$60:BC$285,12,FALSE)),\"\",VLOOKUP(C200,Master!AQ$60:BC$285,12,FALSE))","v":""},{"$nulls":3},{"$f":"IF(H200=\"l-10\",6774,IF(H200=\"l-11\",6774,IF(H200=\"l-12\",6774,0)))","v":0},1,{"$f":"IF(ISNA(VLOOKUP(C200,Master!AQ$60:BC$107,10,FALSE)),\"\",VLOOKUP(C200,Master!AQ$60:BC$107,10,FALSE))","v":""},null,null,{"$f":"IF(ISNA(VLOOKUP(C200,Master!AQ$60:BC$107,11,FALSE)),\"\",VLOOKUP(C200,Master!AQ$60:BC$107,11,FALSE))","v":""},{"$f":"IF(ISNA(VLOOKUP(C200,Master!AQ$60:BC$107,9,FALSE)),\"\",VLOOKUP(C200,Master!AQ$60:BC$107,9,FALSE))","v":""},0,0,0,0,0,0,"","","","","","",0,0,"",0,0,0,0,0,0,0,null,null,0,0,0,0,0,0,0,0,0,0,0,0,0,0,0,0,null,null,0,0,1,0,0,0,1,0,1,0,0,""]
["",2202,175,{"$f":"IF(ISNA(VLOOKUP(C201,Master!AQ$60:BC$285,3,FALSE)),\"\",VLOOKUP(C201,Master!AQ$60:BC$285,3,FALSE))","v":""},{"$f":"IF(ISNA(VLOOKUP(C201,Master!AQ$60:BC$285,7,FALSE)),\"\",VLOOKUP(C201,Master!AQ$60:BC$285,7,FALSE))","v":""},{"$f":"IF(ISNA(VLOOKUP(C201,Master!AQ$60:BC$285,8,FALSE)),\"\",VLOOKUP(C201,Master!AQ$60:BC$285,8,FALSE))","v":""},{"$f":"IF(ISNA(VLOOKUP(C201,Master!AQ$60:BC$285,4,FALSE)),\"\",VLOOKUP(C201,Master!AQ$60:BC$285,4,FALSE))","v":""},{"$f":"IF(ISNA(VLOOKUP(C201,Master!AQ$60:BC$285,5,FALSE)),\"\",VLOOKUP(C201,Master!AQ$60:BC$285,5,FALSE))","v":""},{"$f":"IF(ISNA(VLOOKUP(C201,Master!AQ$60:BC$285,6,FALSE)),\"\",VLOOKUP(C201,Master!AQ$60:BC$285,6,FALSE))","v":""},"","","","","",{"$f":"IF(ISNA(VLOOKUP(C201,Master!AQ$60:BC$285,12,FALSE)),\"\",VLOOKUP(C201,Master!AQ$60:BC$285,12,FALSE))","v":""},{"$nulls":3},0,1,{"$f":"IF(ISNA(VLOOKUP(C201,Master!AQ$60:BC$107,10,FALSE)),\"\",VLOOKUP(C201,Master!AQ$60:BC$107,10,FALSE))","v":""},null,null,{"$f":"IF(ISNA(VLOOKUP(C201,Master!AQ$60:BC$107,11,FALSE)),\"\",VLOOKUP(C201,Master!AQ$60:BC$107,11,FALSE))","v":""},{"$f":"IF(ISNA(VLOOKUP(C201,Master!AQ$60:BC$107,9,FALSE)),\"\",VLOOKUP(C201,Master!AQ$60:BC$107,9,FALSE))","v":""},0,0,0,0,0,0,"","","","","","",0,0,"",0,0,0,0,0,0,0,null,null,0,0,0,0,0,0,0,0,0,0,0,0,0,0,0,0,null,null,0,0,1,0,0,0,1,0,1,0,0,""]
["",2202,176,{"$f":"IF(ISNA(VLOOKUP(C202,Master!AQ$60:BC$285,3,FALSE)),\"\",VLOOKUP(C202,Master!AQ$60:BC$285,3,FALSE))","v":""},{"$f":"IF(ISNA(VLOOKUP(C202,Master!AQ$60:BC$285,7,FALSE)),\"\",VLOOKUP(C202,Master!AQ$60:BC$285,7,FALSE))","v":""},{"$f":"IF(ISNA(VLOOKUP(C202,Master!AQ$60:BC$285,8,FALSE)),\"\",VLOOKUP(C202,Master!AQ$60:BC$285,8,FALSE))","v":""},{"$f":"IF(ISNA(VLOOKUP(C202,Master!AQ$60:BC$285,4,FALSE)),\"\",VLOOKUP(C202,Master!AQ$60:BC$285,4,FALSE))","v":""},{"$f":"IF(ISNA(VLOOKUP(C202,Master!AQ$60:BC$285,5,FALSE)),\"\",VLOOKUP(C202,Master!AQ$60:BC$285,5,FALSE))","v":""},{"$f":"IF(ISNA(VLOOKUP(C202,Master!AQ$60:BC$285,6,FALSE)),\"\",VLOOKUP(C202,Master!AQ$60:BC$285,6,FALSE))","v":""},"","","","","",{"$f":"IF(ISNA(VLOOKUP(C202,Master!AQ$60:BC$285,12,FALSE)),\"\",VLOOKUP(C202,Master!AQ$60:BC$285,12,FALSE))","v":""},{"$nulls":3},0,1,{"$f":"IF(ISNA(VLOOKUP(C202,Master!AQ$60:BC$107,10,FALSE)),\"\",VLOOKUP(C202,Master!AQ$60:BC$107,10,FALSE))","v":""},null,null,{"$f":"IF(ISNA(VLOOKUP(C202,Master!AQ$60:BC$107,11,FALSE)),\"\",VLOOKUP(C202,Master!AQ$60:BC$107,11,FALSE))","v":""},{"$f":"IF(ISNA(VLOOKUP(C202,Master!AQ$60:BC$107,9,FALSE)),\"\",VLOOKUP(C202,Master!AQ$60:BC$107,9,FALSE))","v":""},0,0,0,0,0,0,"","","","","","",0,0,"",0,0,0,0,0,0,0,null,null,0,0,0,0,0,0,0,0,0,0,0,0,0,0,0,0,null,null,0,0,1,0,0,0,1,0,1,0,0,""]
["",2202,177,{"$f":"IF(ISNA(VLOOKUP(C203,Master!AQ$60:BC$285,3,FALSE)),\"\",VLOOKUP(C203,Master!AQ$60:BC$285,3,FALSE))","v":""},{"$f":"IF(ISNA(VLOOKUP(C203,Master!AQ$60:BC$285,7,FALSE)),\"\",VLOOKUP(C203,Master!AQ$60:BC$285,7,FALSE))","v":""},{"$f":"IF(ISNA(VLOOKUP(C203,Master!AQ$60:BC$285,8,FALSE)),\"\",VLOOKUP(C203,Master!AQ$60:BC$285,8,FALSE))","v":""},{"$f":"IF(ISNA(VLOOKUP(C203,Master!AQ$60:BC$285,4,FALSE)),\"\",VLOOKUP(C203,Master!AQ$60:BC$285,4,FALSE))","v":""},{"$f":"IF(ISNA(VLOOKUP(C203,Master!AQ$60:BC$285,5,FALSE)),\"\",VLOOKUP(C203,Master!AQ$60:BC$285,5,FALSE))","v":""},{"$f":"IF(ISNA(VLOOKUP(C203,Master!AQ$60:BC$285,6,FALSE)),\"\",VLOOKUP(C203,Master!AQ$60:BC$285,6,FALSE))","v":""},"","","","","",{"$f":"IF(ISNA(VLOOKUP(C203,Master!AQ$60:BC$285,12,FALSE)),\"\",VLOOKUP(C203,Master!AQ$60:BC$285,12,FALSE))","v":""},{"$nulls":3},0,1,{"$f":"IF(ISNA(VLOOKUP(C203,Master!AQ$60:BC$107,10,FALSE)),\"\",VLOOKUP(C203,Master!AQ$60:BC$107,10,FALSE))","v":""},null,null,{"$f":"IF(ISNA(VLOOKUP(C203,Master!AQ$60:BC$107,11,FALSE)),\"\",VLOOKUP(C203,Master!AQ$60:BC$107,11,FALSE))","v":""},{"$f":"IF(ISNA(VLOOKUP(C203,Master!AQ$60:BC$107,9,FALSE)),\"\",VLOOKUP(C203,Master!AQ$60:BC$107,9,FALSE))","v":""},0,0,0,0,0,0,"","","","","","",0,0,"",0,0,0,0,0,0,0,null,null,0,0,0,0,0,0,0,0,0,0,0,0,0,0,0,0,null,null,0,0,1,0,0,0,1,0,1,0,0,""]
["",2202,178,{"$f":"IF(ISNA(VLOOKUP(C204,Master!AQ$60:BC$285,3,FALSE)),\"\",VLOOKUP(C204,Master!AQ$60:BC$285,3,FALSE))","v":""},{"$f":"IF(ISNA(VLOOKUP(C204,Master!AQ$60:BC$285,7,FALSE)),\"\",VLOOKUP(C204,Master!AQ$60:BC$285,7,FALSE))","v":""},{"$f":"IF(ISNA(VLOOKUP(C204,Master!AQ$60:BC$285,8,FALSE)),\"\",VLOOKUP(C204,Master!AQ$60:BC$285,8,FALSE))","v":""},{"$f":"IF(ISNA(VLOOKUP(C204,Master!AQ$60:BC$285,4,FALSE)),\"\",VLOOKUP(C204,Master!AQ$60:BC$285,4,FALSE))","v":""},{"$f":"IF(ISNA(VLOOKUP(C204,Master!AQ$60:BC$285,5,FALSE)),\"\",VLOOKUP(C204,Master!AQ$60:BC$285,5,FALSE))","v":""},{"$f":"IF(ISNA(VLOOKUP(C204,Master!AQ$60:BC$285,6,FALSE)),\"\",VLOOKUP(C204,Master!AQ$60:BC$285,6,FALSE))","v":""},"","","","","",{"$f":"IF(ISNA(VLOOKUP(C204,Master!AQ$60:BC$285,12,FALSE)),\"\",VLOOKUP(C204,Master!AQ$60:BC$285,12,FALSE))","v":""},{"$nulls":3},0,1,{"$f":"IF(ISNA(VLOOKUP(C204,Master!AQ$60:BC$107,10,FALSE)),\"\",VLOOKUP(C204,Master!AQ$60:BC$107,10,FALSE))","v":""},null,null,{"$f":"IF(ISNA(VLOOKUP(C204,Master!AQ$60:BC$107,11,FALSE)),\"\",VLOOKUP(C204,Master!AQ$60:BC$107,11,FALSE))","v":""},{"$f":"IF(ISNA(VLOOKUP(C204,Master!AQ$60:BC$107,9,FALSE)),\"\",VLOOKUP(C204,Master!AQ$60:BC$107,9,FALSE))","v":""},0,0,0,0,0,0,"","","","","","",0,0,"",0,0,0,0,0,0,0,null,null,0,0,0,0,0,0,0,0,0,0,0,0,0,0,0,0,null,null,0,0,1,0,0,0,1,0,1,0,0,""]
["",2202,179,{"$f":"IF(ISNA(VLOOKUP(C205,Master!AQ$60:BC$285,3,FALSE)),\"\",VLOOKUP(C205,Master!AQ$60:BC$285,3,FALSE))","v":""},{"$f":"IF(ISNA(VLOOKUP(C205,Master!AQ$60:BC$285,7,FALSE)),\"\",VLOOKUP(C205,Master!AQ$60:BC$285,7,FALSE))","v":""},{"$f":"IF(ISNA(VLOOKUP(C205,Master!AQ$60:BC$285,8,FALSE)),\"\",VLOOKUP(C205,Master!AQ$60:BC$285,8,FALSE))","v":""},{"$f":"IF(ISNA(VLOOKUP(C205,Master!AQ$60:BC$285,4,FALSE)),\"\",VLOOKUP(C205,Master!AQ$60:BC$285,4,FALSE))","v":""},{"$f":"IF(ISNA(VLOOKUP(C205,Master!AQ$60:BC$285,5,FALSE)),\"\",VLOOKUP(C205,Master!AQ$60:BC$285,5,FALSE))","v":""},{"$f":"IF(ISNA(VLOOKUP(C205,Master!AQ$60:BC$285,6,FALSE)),\"\",VLOOKUP(C205,Master!AQ$60:BC$285,6,FALSE))","v":""},"","","","","",{"$f":"IF(ISNA(VLOOKUP(C205,Master!AQ$60:BC$285,12,FALSE)),\"\",VLOOKUP(C205,Master!AQ$60:BC$285,12,FALSE))","v":""},{"$nulls":3},0,1,{"$f":"IF(ISNA(VLOOKUP(C205,Master!AQ$60:BC$107,10,FALSE)),\"\",VLOOKUP(C205,Master!AQ$60:BC$107,10,FALSE))","v":""},null,null,{"$f":"IF(ISNA(VLOOKUP(C205,Master!AQ$60:BC$107,11,FALSE)),\"\",VLOOKUP(C205,Master!AQ$60:BC$107,11,FALSE))","v":""},{"$f":"IF(ISNA(VLOOKUP(C205,Master!AQ$60:BC$107,9,FALSE)),\"\",VLOOKUP(C205,Master!AQ$60:BC$107,9,FALSE))","v":""},0,0,0,0,0,0,"","","","","","",0,0,"",0,0,0,0,{"$f":"(IF(G205=\"LAB BOY\",180,IF(G205=\"JAMADAR\",180,IF(G205=\"PEON\",180,0))))*12*BU205*(IF(I205<=0,0,1))","v":0},0,0,null,null,0,0,0,0,0,0,0,0,0,0,0,0,0,0,0,0,null,null,0,0,1,0,0,0,1,0,1,0,0,""]
["",2202,180,{"$f":"IF(ISNA(VLOOKUP(C206,Master!AQ$60:BC$285,3,FALSE)),\"\",VLOOKUP(C206,Master!AQ$60:BC$285,3,FALSE))","v":""},{"$f":"IF(ISNA(VLOOKUP(C206,Master!AQ$60:BC$285,7,FALSE)),\"\",VLOOKUP(C206,Master!AQ$60:BC$285,7,FALSE))","v":""},{"$f":"IF(ISNA(VLOOKUP(C206,Master!AQ$60:BC$285,8,FALSE)),\"\",VLOOKUP(C206,Master!AQ$60:BC$285,8,FALSE))","v":""},{"$f":"IF(ISNA(VLOOKUP(C206,Master!AQ$60:BC$285,4,FALSE)),\"\",VLOOKUP(C206,Master!AQ$60:BC$285,4,FALSE))","v":""},{"$f":"IF(ISNA(VLOOKUP(C206,Master!AQ$60:BC$285,5,FALSE)),\"\",VLOOKUP(C206,Master!AQ$60:BC$285,5,FALSE))","v":""},{"$f":"IF(ISNA(VLOOKUP(C206,Master!AQ$60:BC$285,6,FALSE)),\"\",VLOOKUP(C206,Master!AQ$60:BC$285,6,FALSE))","v":""},"","","","","",{"$f":"IF(ISNA(VLOOKUP(C206,Master!AQ$60:BC$285,12,FALSE)),\"\",VLOOKUP(C206,Master!AQ$60:BC$285,12,FALSE))","v":""},{"$nulls":3},0,1,{"$f":"IF(ISNA(VLOOKUP(C206,Master!AQ$60:BC$107,10,FALSE)),\"\",VLOOKUP(C206,Master!AQ$60:BC$107,10,FALSE))","v":""},null,null,{"$f":"IF(ISNA(VLOOKUP(C206,Master!AQ$60:BC$107,11,FALSE)),\"\",VLOOKUP(C206,Master!AQ$60:BC$107,11,FALSE))","v":""},{"$f":"IF(ISNA(VLOOKUP(C206,Master!AQ$60:BC$107,9,FALSE)),\"\",VLOOKUP(C206,Master!AQ$60:BC$107,9,FALSE))","v":""},0,0,0,0,0,0,"","","","","","",0,0,"",0,0,0,0,0,0,0,null,null,0,0,0,0,0,0,0,0,0,0,0,0,0,0,0,0,null,null,0,0,1,0,0,0,1,0,1,0,0,""]
["",2202,181,{"$f":"IF(ISNA(VLOOKUP(C207,Master!AQ$60:BC$285,3,FALSE)),\"\",VLOOKUP(C207,Master!AQ$60:BC$285,3,FALSE))","v":""},{"$f":"IF(ISNA(VLOOKUP(C207,Master!AQ$60:BC$285,7,FALSE)),\"\",VLOOKUP(C207,Master!AQ$60:BC$285,7,FALSE))","v":""},{"$f":"IF(ISNA(VLOOKUP(C207,Master!AQ$60:BC$285,8,FALSE)),\"\",VLOOKUP(C207,Master!AQ$60:BC$285,8,FALSE))","v":""},{"$f":"IF(ISNA(VLOOKUP(C207,Master!AQ$60:BC$285,4,FALSE)),\"\",VLOOKUP(C207,Master!AQ$60:BC$285,4,FALSE))","v":""},{"$f":"IF(ISNA(VLOOKUP(C207,Master!AQ$60:BC$285,5,FALSE)),\"\",VLOOKUP(C207,Master!AQ$60:BC$285,5,FALSE))","v":""},{"$f":"IF(ISNA(VLOOKUP(C207,Master!AQ$60:BC$285,6,FALSE)),\"\",VLOOKUP(C207,Master!AQ$60:BC$285,6,FALSE))","v":""},"","","","","",{"$f":"IF(ISNA(VLOOKUP(C207,Master!AQ$60:BC$285,12,FALSE)),\"\",VLOOKUP(C207,Master!AQ$60:BC$285,12,FALSE))","v":""},{"$nulls":3},0,1,{"$f":"IF(ISNA(VLOOKUP(C207,Master!AQ$60:BC$107,10,FALSE)),\"\",VLOOKUP(C207,Master!AQ$60:BC$107,10,FALSE))","v":""},null,null,{"$f":"IF(ISNA(VLOOKUP(C207,Master!AQ$60:BC$107,11,FALSE)),\"\",VLOOKUP(C207,Master!AQ$60:BC$107,11,FALSE))","v":""},{"$f":"IF(ISNA(VLOOKUP(C207,Master!AQ$60:BC$107,9,FALSE)),\"\",VLOOKUP(C207,Master!AQ$60:BC$107,9,FALSE))","v":""},0,0,0,0,0,0,"","","","","","",0,0,"",0,0,0,0,0,0,0,null,null,0,0,0,0,0,0,0,0,0,0,0,0,0,0,0,0,null,null,0,0,1,0,0,0,1,0,1,0,0,""]
["",2202,182,{"$f":"IF(ISNA(VLOOKUP(C208,Master!AQ$60:BC$285,3,FALSE)),\"\",VLOOKUP(C208,Master!AQ$60:BC$285,3,FALSE))","v":""},{"$f":"IF(ISNA(VLOOKUP(C208,Master!AQ$60:BC$285,7,FALSE)),\"\",VLOOKUP(C208,Master!AQ$60:BC$285,7,FALSE))","v":""},{"$f":"IF(ISNA(VLOOKUP(C208,Master!AQ$60:BC$285,8,FALSE)),\"\",VLOOKUP(C208,Master!AQ$60:BC$285,8,FALSE))","v":""},{"$f":"IF(ISNA(VLOOKUP(C208,Master!AQ$60:BC$285,4,FALSE)),\"\",VLOOKUP(C208,Master!AQ$60:BC$285,4,FALSE))","v":""},{"$f":"IF(ISNA(VLOOKUP(C208,Master!AQ$60:BC$285,5,FALSE)),\"\",VLOOKUP(C208,Master!AQ$60:BC$285,5,FALSE))","v":""},{"$f":"IF(ISNA(VLOOKUP(C208,Master!AQ$60:BC$285,6,FALSE)),\"\",VLOOKUP(C208,Master!AQ$60:BC$285,6,FALSE))","v":""},"","","","","",{"$f":"IF(ISNA(VLOOKUP(C208,Master!AQ$60:BC$285,12,FALSE)),\"\",VLOOKUP(C208,Master!AQ$60:BC$285,12,FALSE))","v":""},{"$nulls":3},0,1,{"$f":"IF(ISNA(VLOOKUP(C208,Master!AQ$60:BC$107,10,FALSE)),\"\",VLOOKUP(C208,Master!AQ$60:BC$107,10,FALSE))","v":""},null,null,{"$f":"IF(ISNA(VLOOKUP(C208,Master!AQ$60:BC$107,11,FALSE)),\"\",VLOOKUP(C208,Master!AQ$60:BC$107,11,FALSE))","v":""},{"$f":"IF(ISNA(VLOOKUP(C208,Master!AQ$60:BC$107,9,FALSE)),\"\",VLOOKUP(C208,Master!AQ$60:BC$107,9,FALSE))","v":""},0,0,0,0,0,0,"","","","","","",0,0,"",0,0,0,0,0,0,0,null,null,0,0,0,0,0,0,0,0,0,0,0,0,0,0,0,0,null,null,0,0,1,0,0,0,1,0,1,0,0,""]
["",2202,183,{"$f":"IF(ISNA(VLOOKUP(C209,Master!AQ$60:BC$285,3,FALSE)),\"\",VLOOKUP(C209,Master!AQ$60:BC$285,3,FALSE))","v":""},{"$f":"IF(ISNA(VLOOKUP(C209,Master!AQ$60:BC$285,7,FALSE)),\"\",VLOOKUP(C209,Master!AQ$60:BC$285,7,FALSE))","v":""},{"$f":"IF(ISNA(VLOOKUP(C209,Master!AQ$60:BC$285,8,FALSE)),\"\",VLOOKUP(C209,Master!AQ$60:BC$285,8,FALSE))","v":""},{"$f":"IF(ISNA(VLOOKUP(C209,Master!AQ$60:BC$285,4,FALSE)),\"\",VLOOKUP(C209,Master!AQ$60:BC$285,4,FALSE))","v":""},{"$f":"IF(ISNA(VLOOKUP(C209,Master!AQ$60:BC$285,5,FALSE)),\"\",VLOOKUP(C209,Master!AQ$60:BC$285,5,FALSE))","v":""},{"$f":"IF(ISNA(VLOOKUP(C209,Master!AQ$60:BC$285,6,FALSE)),\"\",VLOOKUP(C209,Master!AQ$60:BC$285,6,FALSE))","v":""},"","","","","",{"$f":"IF(ISNA(VLOOKUP(C209,Master!AQ$60:BC$285,12,FALSE)),\"\",VLOOKUP(C209,Master!AQ$60:BC$285,12,FALSE))","v":""},{"$nulls":3},0,1,{"$f":"IF(ISNA(VLOOKUP(C209,Master!AQ$60:BC$107,10,FALSE)),\"\",VLOOKUP(C209,Master!AQ$60:BC$107,10,FALSE))","v":""},null,null,{"$f":"IF(ISNA(VLOOKUP(C209,Master!AQ$60:BC$107,11,FALSE)),\"\",VLOOKUP(C209,Master!AQ$60:BC$107,11,FALSE))","v":""},{"$f":"IF(ISNA(VLOOKUP(C209,Master!AQ$60:BC$107,9,FALSE)),\"\",VLOOKUP(C209,Master!AQ$60:BC$107,9,FALSE))","v":""},0,0,0,0,0,0,"","","","","","",0,0,"",0,0,0,0,0,0,0,null,null,0,0,0,0,0,0,0,0,0,0,0,0,0,0,0,0,null,null,0,0,1,0,0,0,1,0,1,0,0,""]
["",2202,184,{"$f":"IF(ISNA(VLOOKUP(C210,Master!AQ$60:BC$285,3,FALSE)),\"\",VLOOKUP(C210,Master!AQ$60:BC$285,3,FALSE))","v":""},{"$f":"IF(ISNA(VLOOKUP(C210,Master!AQ$60:BC$285,7,FALSE)),\"\",VLOOKUP(C210,Master!AQ$60:BC$285,7,FALSE))","v":""},{"$f":"IF(ISNA(VLOOKUP(C210,Master!AQ$60:BC$285,8,FALSE)),\"\",VLOOKUP(C210,Master!AQ$60:BC$285,8,FALSE))","v":""},{"$f":"IF(ISNA(VLOOKUP(C210,Master!AQ$60:BC$285,4,FALSE)),\"\",VLOOKUP(C210,Master!AQ$60:BC$285,4,FALSE))","v":""},{"$f":"IF(ISNA(VLOOKUP(C210,Master!AQ$60:BC$285,5,FALSE)),\"\",VLOOKUP(C210,Master!AQ$60:BC$285,5,FALSE))","v":""},{"$f":"IF(ISNA(VLOOKUP(C210,Master!AQ$60:BC$285,6,FALSE)),\"\",VLOOKUP(C210,Master!AQ$60:BC$285,6,FALSE))","v":""},"","","","","",{"$f":"IF(ISNA(VLOOKUP(C210,Master!AQ$60:BC$285,12,FALSE)),\"\",VLOOKUP(C210,Master!AQ$60:BC$285,12,FALSE))","v":""},{"$nulls":3},0,1,{"$f":"IF(ISNA(VLOOKUP(C210,Master!AQ$60:BC$107,10,FALSE)),\"\",VLOOKUP(C210,Master!AQ$60:BC$107,10,FALSE))","v":""},null,null,{"$f":"IF(ISNA(VLOOKUP(C210,Master!AQ$60:BC$107,11,FALSE)),\"\",VLOOKUP(C210,Master!AQ$60:BC$107,11,FALSE))","v":""},{"$f":"IF(ISNA(VLOOKUP(C210,Master!AQ$60:BC$107,9,FALSE)),\"\",VLOOKUP(C210,Master!AQ$60:BC$107,9,FALSE))","v":""},0,0,0,0,0,0,"","","","","","",0,0,"",0,0,0,0,0,0,0,null,null,0,0,0,0,0,0,0,0,0,0,0,0,0,0,0,0,null,null,0,0,1,0,0,0,1,0,1,0,0,""]
["",2202,185,{"$f":"IF(ISNA(VLOOKUP(C211,Master!AQ$60:BC$285,3,FALSE)),\"\",VLOOKUP(C211,Master!AQ$60:BC$285,3,FALSE))","v":""},{"$f":"IF(ISNA(VLOOKUP(C211,Master!AQ$60:BC$285,7,FALSE)),\"\",VLOOKUP(C211,Master!AQ$60:BC$285,7,FALSE))","v":""},{"$f":"IF(ISNA(VLOOKUP(C211,Master!AQ$60:BC$285,8,FALSE)),\"\",VLOOKUP(C211,Master!AQ$60:BC$285,8,FALSE))","v":""},{"$f":"IF(ISNA(VLOOKUP(C211,Master!AQ$60:BC$285,4,FALSE)),\"\",VLOOKUP(C211,Master!AQ$60:BC$285,4,FALSE))","v":""},{"$f":"IF(ISNA(VLOOKUP(C211,Master!AQ$60:BC$285,5,FALSE)),\"\",VLOOKUP(C211,Master!AQ$60:BC$285,5,FALSE))","v":""},{"$f":"IF(ISNA(VLOOKUP(C211,Master!AQ$60:BC$285,6,FALSE)),\"\",VLOOKUP(C211,Master!AQ$60:BC$285,6,FALSE))","v":""},"","","","","",{"$f":"IF(ISNA(VLOOKUP(C211,Master!AQ$60:BC$285,12,FALSE)),\"\",VLOOKUP(C211,Master!AQ$60:BC$285,12,FALSE))","v":""},{"$nulls":3},0,1,{"$f":"IF(ISNA(VLOOKUP(C211,Master!AQ$60:BC$107,10,FALSE)),\"\",VLOOKUP(C211,Master!AQ$60:BC$107,10,FALSE))","v":""},null,null,{"$f":"IF(ISNA(VLOOKUP(C211,Master!AQ$60:BC$107,11,FALSE)),\"\",VLOOKUP(C211,Master!AQ$60:BC$107,11,FALSE))","v":""},{"$f":"IF(ISNA(VLOOKUP(C211,Master!AQ$60:BC$107,9,FALSE)),\"\",VLOOKUP(C211,Master!AQ$60:BC$107,9,FALSE))","v":""},0,0,0,0,0,0,"","","","","","",0,0,"",0,0,0,0,0,0,0,null,null,0,0,0,0,0,0,0,0,0,0,0,0,0,0,0,0,null,null,0,0,1,0,0,0,1,0,1,0,0,""]
["",2202,186,{"$f":"IF(ISNA(VLOOKUP(C212,Master!AQ$60:BC$285,3,FALSE)),\"\",VLOOKUP(C212,Master!AQ$60:BC$285,3,FALSE))","v":""},{"$f":"IF(ISNA(VLOOKUP(C212,Master!AQ$60:BC$285,7,FALSE)),\"\",VLOOKUP(C212,Master!AQ$60:BC$285,7,FALSE))","v":""},{"$f":"IF(ISNA(VLOOKUP(C212,Master!AQ$60:BC$285,8,FALSE)),\"\",VLOOKUP(C212,Master!AQ$60:BC$285,8,FALSE))","v":""},{"$f":"IF(ISNA(VLOOKUP(C212,Master!AQ$60:BC$285,4,FALSE)),\"\",VLOOKUP(C212,Master!AQ$60:BC$285,4,FALSE))","v":""},{"$f":"IF(ISNA(VLOOKUP(C212,Master!AQ$60:BC$285,5,FALSE)),\"\",VLOOKUP(C212,Master!AQ$60:BC$285,5,FALSE))","v":""},{"$f":"IF(ISNA(VLOOKUP(C212,Master!AQ$60:BC$285,6,FALSE)),\"\",VLOOKUP(C212,Master!AQ$60:BC$285,6,FALSE))","v":""},"","","","","",{"$f":"IF(ISNA(VLOOKUP(C212,Master!AQ$60:BC$285,12,FALSE)),\"\",VLOOKUP(C212,Master!AQ$60:BC$285,12,FALSE))","v":""},{"$nulls":3},0,1,{"$f":"IF(ISNA(VLOOKUP(C212,Master!AQ$60:BC$107,10,FALSE)),\"\",VLOOKUP(C212,Master!AQ$60:BC$107,10,FALSE))","v":""},null,null,{"$f":"IF(ISNA(VLOOKUP(C212,Master!AQ$60:BC$107,11,FALSE)),\"\",VLOOKUP(C212,Master!AQ$60:BC$107,11,FALSE))","v":""},{"$f":"IF(ISNA(VLOOKUP(C212,Master!AQ$60:BC$107,9,FALSE)),\"\",VLOOKUP(C212,Master!AQ$60:BC$107,9,FALSE))","v":""},0,0,0,0,0,0,"","","","","","",0,0,"",0,0,0,0,0,0,0,null,null,0,0,0,0,0,0,0,0,0,0,0,0,0,0,0,0,null,null,0,0,1,0,0,0,1,0,1,0,0,""]
["",2202,187,{"$f":"IF(ISNA(VLOOKUP(C213,Master!AQ$60:BC$285,3,FALSE)),\"\",VLOOKUP(C213,Master!AQ$60:BC$285,3,FALSE))","v":""},{"$f":"IF(ISNA(VLOOKUP(C213,Master!AQ$60:BC$285,7,FALSE)),\"\",VLOOKUP(C213,Master!AQ$60:BC$285,7,FALSE))","v":""},{"$f":"IF(ISNA(VLOOKUP(C213,Master!AQ$60:BC$285,8,FALSE)),\"\",VLOOKUP(C213,Master!AQ$60:BC$285,8,FALSE))","v":""},{"$f":"IF(ISNA(VLOOKUP(C213,Master!AQ$60:BC$285,4,FALSE)),\"\",VLOOKUP(C213,Master!AQ$60:BC$285,4,FALSE))","v":""},{"$f":"IF(ISNA(VLOOKUP(C213,Master!AQ$60:BC$285,5,FALSE)),\"\",VLOOKUP(C213,Master!AQ$60:BC$285,5,FALSE))","v":""},{"$f":"IF(ISNA(VLOOKUP(C213,Master!AQ$60:BC$285,6,FALSE)),\"\",VLOOKUP(C213,Master!AQ$60:BC$285,6,FALSE))","v":""},"","","","","",{"$f":"IF(ISNA(VLOOKUP(C213,Master!AQ$60:BC$285,12,FALSE)),\"\",VLOOKUP(C213,Master!AQ$60:BC$285,12,FALSE))","v":""},{"$nulls":3},0,1,{"$f":"IF(ISNA(VLOOKUP(C213,Master!AQ$60:BC$107,10,FALSE)),\"\",VLOOKUP(C213,Master!AQ$60:BC$107,10,FALSE))","v":""},null,null,{"$f":"IF(ISNA(VLOOKUP(C213,Master!AQ$60:BC$107,11,FALSE)),\"\",VLOOKUP(C213,Master!AQ$60:BC$107,11,FALSE))","v":""},{"$f":"IF(ISNA(VLOOKUP(C213,Master!AQ$60:BC$107,9,FALSE)),\"\",VLOOKUP(C213,Master!AQ$60:BC$107,9,FALSE))","v":""},0,0,0,0,0,0,"","","","","","",0,0,"",0,0,0,0,0,0,0,null,null,0,0,0,0,0,0,0,0,0,0,0,0,0,0,0,0,null,null,0,0,1,0,0,0,1,0,1,0,0,""]
[{"$nulls":6},"TOTAL NON GAZETTED REGULAR",null,{"$f":"SUM(I27:I213)","v":249700},{"$f":"SUM(J27:J189)","v":2996400},null,{"$f":"SUM(L27:L189)","v":60800},{"$f":"SUM(M27:M189)","v":3057200},{"$f":"SUM(N27:N189)","v":2967200},{"$nulls":30},0,{"$nulls":30},{"$f":"MID(E214,5,4)","v":""}]
[{"$nulls":6},"C/F  TOTAL GAZETTED + NON GAZETTED REGULAR",null,{"$f":"I26+I214","v":319000},{"$f":"J26+J214","v":3828000},null,{"$f":"L26+L214","v":77600},{"$f":"M26+M214","v":3905600},{"$f":"N26+N214","v":3790800},{"$nulls":30},0,{"$nulls":30},""]
[{"$nulls":6},"B/F  TOTAL GAZETTED + NON GAZETTED REGULAR",null,{"$f":"I215","v":319000},{"$f":"J215","v":3828000},null,{"$f":"L215","v":77600},{"$f":"M215","v":3905600},{"$f":"N215","v":3790800},{"$nulls":30},0,{"$nulls":30},""]
[{"$nulls":6},{"v":0.42,"d":"D.A. @ 42%"},{"$nulls":5},{"$f":"ROUND(M215*G217,0)","v":1640352},{"$f":"ROUND(N215*G217,0)","v":1592136},{"$nulls":4},0,{"$nulls":25},0,{"$nulls":30},""]
[{"$nulls":4},{"v":0.04,"d":"D.A. AREAR @ 4%"},{"$nulls":7},{"$f":"'DA AREAR'!G207","v":{"v":77708.40000000001,"d":"77708"}},{"$f":"'DA AREAR'!F207","v":38280},{"$nulls":4},0,{"$nulls":25},0,{"$nulls":30},""]
[{"$nulls":6},"FIXATATION ARREAR",{"$nulls":5},{"$f":"'Fix Pay'!BM117","v":744610},{"$f":"'Fix Pay'!BN117","v":0},{"$nulls":4},0,{"$nulls":25},0,{"$nulls":30},""]
[{"$nulls":6},{"v":0.09,"d":"H.R.A. @ 9%"},{"$nulls":5},{"$f":"ROUND(M215*G220,0)","v":351504},{"$f":"ROUND(N215*G220,0)","v":341172},{"$nulls":4},0,{"$nulls":25},0,{"$nulls":30},""]
[{"$nulls":6},{"v":6774,"d":"BONUS @ 6774/-"},{"$nulls":5},{"$f":"'Bonus Calc.'!I152","v":121932},{"$f":"M221","v":121932},{"$nulls":4},0,{"$nulls":25},0,{"$nulls":30},""]
[{"$nulls":6},"SURRENDER LEAVE",{"$nulls":5},{"$f":"$AP$372","v":226490},{"$f":"$BH$372","v":219887},{"$nulls":4},0,{"$nulls":25},0,{"$nulls":30},""]
[{"$nulls":6},"CASHIER ALLOWANCE @ 75 p.m.",{"$nulls":5},{"$f":"MINA($AQ$372,900)","v":0},{"$f":"MINA($BI$372,900)","v":0},{"$nulls":4},0,{"$nulls":25},0,{"$nulls":30},""]
[{"$nulls":6},"HANDICAP ALLOW. @ 6% &Max 600/-",{"$nulls":5},{"$f":"$AR$372","v":0},{"$f":"$BJ$372","v":0},{"$nulls":4},0,{"$nulls":25},0,{"$nulls":30},""]
[{"$nulls":6},"WASHING ALLOWANCE @180 p.m.",{"$nulls":5},{"$f":"$AS$372","v":0},{"$f":"$BK$372","v":0},{"$nulls":4},0,{"$nulls":25},0,{"$nulls":30},""]
[{"$nulls":3},"TOTAL REGULAR         ",null,null,"TOTAL REGULAR",null,null,{"$f":"SUM(J216:J225)","v":3828000},null,{"$f":"SUM(L216:L225)","v":77600},{"$f":"SUM(M216:M225)","v":7068196.4},{"$f":"SUM(N216:N225)","v":6104207},{"$nulls":30},0,{"$nulls":30},""]
[null,"GAZETTED FIXED",{"$nulls":42},0,{"$nulls":30},""]
[{"$f":"CC228","v":1},2202,1,{"$f":"IF(ISNA(VLOOKUP(C228,Master!BD$60:BP$107,3,FALSE)),\"\",VLOOKUP(C228,Master!BD$60:BP$107,3,FALSE))","v":"ASDGDSG"},{"$f":"IF(ISNA(VLOOKUP(C228,Master!BD$60:BP$107,7,FALSE)),\"\",VLOOKUP(C228,Master!BD$60:BP$107,7,FALSE))","v":"RJSR201734033654"},{"$f":"IF(ISNA(VLOOKUP(C228,Master!BD$60:BP$107,8,FALSE)),\"\",VLOOKUP(C228,Master!BD$60:BP$107,8,FALSE))","v":0},{"$f":"IF(ISNA(VLOOKUP(C228,Master!BD$60:BP$107,4,FALSE)),\"\",VLOOKUP(C228,Master!BD$60:BP$107,4,FALSE))","v":"LECTURER"},{"$f":"IF(ISNA(VLOOKUP(C228,Master!BD$60:BP$107,5,FALSE)),\"\",VLOOKUP(C228,Master!BD$60:BP$107,5,FALSE))","v":"L-12"},{"$f":"IF(H228=\"\",\"\",IF(H228=1,12400,IF(H228=2,12600,IF(H228=3,12800,IF(H228=4,13500,IF(H228=5,14600,IF(H228=6,15100,IF(H228=7,15700,IF(H228=8,18500,IF(H228=9,20100,IF(H228=10,23700,IF(H228=11,26500,IF(H228=12,31100,IF(H228=13,39300,IF(H228=14,42500,IF(H228=15,42500,IF(H228=16,47200,IF(H228=17,49700,IF(H228=18,52800,IF(H228=19,56000,IF(H228=20,62300,IF(H228=21,86200,IF(H228=22,90800,IF(H228=23,102100,IF(H228=24, 104200,0)))))))))))))))))))))))))","v":0},{"$f":"IF(AND(H228=\"\"),\"\",I228*12)","v":0},{"$f":"IF(AND(H228=\"\"),\"\",\"Not Applicable\")","v":"Not Applicable"},{"$f":"IF(AND(H228=\"\"),\"\",\"0\")","v":"0"},{"$f":"IF(AND(H228=\"\"),\"\",J228+L228)","v":0},{"$f":"IF(AND(H228=\"\"),\"\",M228)","v":0},{"$f":"IF(AND(H228=\"\"),\"\",\"FIX PAY\")","v":"FIX PAY"},{"$nulls":3},0,{"$nulls":5},{"$f":"'[2]Data Entry'!BJ59","v":0},{"$nulls":6},{"$f":"IF(AND(I228=\"\"),\"\",(IF(O228=\"FIX PAY\",0,(I228-ROUNDUP(ROUND((I228*3%)-(I228*3%)*3%,0),-1)))))","v":0},{"$f":"IF(AND(I228=\"\"),\"\",$M228*$BQ228)","v":0},{"$f":"IF(AND(I228=\"\"),\"\",$M228*$BR228)","v":0},{"$f":"IF(AND(I228=\"\"),\"\",$M228*$BS228)","v":0},{"$f":"IF(AND(I228=\"\"),\"\",$M228*$BT228)","v":0},{"$f":"IF(AND(I228=\"\"),\"\",ROUND((AG228+AH228)*$AK$10,0)*BU228)","v":0},0,0,{"$f":"IF(AND(I228=\"\"),\"\",ROUND((AG228+AH228)*$AN$10,0)*BU228)","v":0},{"$f":"$G$221*BR228*BU228*(IF(I228<=0,0,1))*(IF(H228<=4800,1,0))","v":0},{"$f":"IF(AND(I228=\"\"),0,ROUND((I228+ROUND(I228*$AK$10,0))/2,0)*(IF(O228=\"FIX PAY\",0,1)))","v":0},{"$f":"IF(G228=\"CLERK GRADE I\",1,IF(G228=\"CLERK GRADE II\",1,0))*75*12*BU228*(IF(I228<=0,0,1))*BV228","v":0},null,0,{"$f":"IF(AND(I228=\"\"),\"\",SUM(AK228:AS228)+AG228+AH228)","v":0},{"$f":"IF(AND(I228=\"\"),\"\",AT228)","v":0},null,null,{"$f":"IF(AND(I228=\"\"),\"\",AU228+AV228+AW228)","v":0},{"$f":"IF(AND(I228=\"\"),\"\",N228*BQ228)","v":0},{"$f":"IF(AND(I228=\"\"),\"\",N228*BR228)","v":0},{"$f":"IF(AND(I228=\"\"),\"\",N228*BS228)","v":0},{"$f":"IF(AND(I228=\"\"),\"\",N228*BT228)","v":0},{"$f":"IF(AND(I228=\"\"),\"\",ROUND((AY228+AZ228)*$BC$10,0)*BU228)","v":0},null,0,{"$f":"IF(AND(I228=\"\"),\"\",ROUND((AY228+AZ228)*$BF$10,0)*BU228)","v":0},{"$f":"3387*2*BR228*BU228*(IF(I228<=0,0,1))*(IF(H228<=4800,1,0))","v":0},{"$f":"IF(AND(I228=\"\"),0,ROUND((AF228+ROUND(AF228*$AK$10,0))/2,0)*(IF(O228=\"FIX PAY\",0,1)))","v":0},{"$f":"IF(G228=\"CLERK GRADE I\",1,IF(G228=\"CLERK GRADE II\",1,0))*75*12*BU228*(IF(I228<=0,0,1))*BV228","v":0},{"$f":"IF(AND(G228=\"\"),0,(IF(G228=\"ASSISTANT\",12,IF(G228=\"CLERK GRADE I\",12,IF(G228=\"CLERK GRADE II\",12,IF(G228=\"FIELDMAN & FIELD REC\",12,IF(G228=\"LAB BOY\",12,IF(G228=\"JAMADAR\",12,IF(G228=\"PEON\",12,10))))))))*(MINA(ROUND(AF228*6%,0),600))*(IF($U228=\"yes\",1,)))","v":0},{"$f":"IF(AND(I228=\"\"),\"\",(IF(G228=\"LAB BOY\",150,IF(G228=\"JAMADAR\",150,IF(G228=\"PEON\",150,0))))*12*BU228*(IF(I228<=0,0,1)))","v":0},{"$f":"IF(AND(I228=\"\"),\"\",SUM(BC228:BK228)+AY228+AZ228)","v":0},{"$f":"IF(AND(I228=\"\"),\"\",BL228)","v":0},null,null,{"$f":"IF(AND(I228=\"\"),\"\",BM228+BN228+BO228)","v":0},{"$f":"(IF(G228=\"PRINCIPAL\",1,IF(G228=\"H M\",1,IF(G228=\"AGRICULTURE INST\",1,IF(G228=\"TEACHER-1ST\",1,IF(G228=\"PTI  I  (13)\",1,IF(G228=\"AGRICULTURE TEACH\",1,IF(G228=\"INSTRUCTOR\",1,0))))))))+(IF(G228=\"JR TEACHER\",1,IF(G228=\"LIBRARIAN I\",1,0)))*(IF(O228=\"FIX PAY\",0,1))","v":0},{"$f":"IF(BQ228<=0,1,0)*(IF(O228=\"FIX PAY\",0,1))","v":0},{"$f":"(IF(G228=\"PRINCIPAL (16)\",1,IF(G228=\"V P (14)\",1,IF(G228=\"H M (14)\",1,IF(G228=\"AGRICULTURE INST (13)\",1,IF(G228=\"TEACHER-1ST (13)\",1,IF(G228=\"PTI  I  (13)\",1,IF(G228=\"AGRICULTURE TEACH (13)\",1,IF(G228=\"INSTRUCTOR (13)\",1,0))))))))+(IF(G228=\"JR TEACHER (13)\",1,IF(G228=\"LIBRARIAN I (13)\",1,0))))*(IF(O228=\"FIX PAY\",1,0))","v":0},{"$f":"IF(BS228<=0,1,0)*(IF(O228=\"FIX PAY\",1,0))","v":1},{"$f":"IF(O228=\"FIX PAY\",1,0)","v":1},{"$f":"IF(X228=\"No\",0,1)","v":1},{"$f":"IF((ROUND((SUMPRODUCT(MID(0&E228,LARGE(INDEX(ISNUMBER(--MID(E228,ROW($1:$25),1))* ROW($1:$25),0),ROW($1:$25))+1,1)*10^ROW($1:$25)/10)),-8)/100000000)>=2004,1,0)","v":1},{"$f":"IF(I228<=0,0,1)","v":0},{"$f":"IF(O228=\"SANVIDA\",1,0)","v":0},{"$f":"IF(BY228>0,I228,0)","v":0},{"$f":"IF(AND(E228=\"\"),\"\",IF(AND(E228<=0),\"\",IF((ROUND((SUMPRODUCT(MID(0&E228,LARGE(INDEX(ISNUMBER(--MID(E228,ROW($1:$70),1))* ROW($1:$70),0),ROW($1:$70))+1,1)*10^ROW($1:$70)/10)),-8)/100000000)<2004,1,0)))","v":0},null,{"$f":"IF(I228=\"\",\"\",1)","v":1}]
[{"$f":"CC229","v":""},2202,2,{"$f":"IF(ISNA(VLOOKUP(C229,Master!BD$60:BP$107,3,FALSE)),\"\",VLOOKUP(C229,Master!BD$60:BP$107,3,FALSE))","v":""},{"$f":"IF(ISNA(VLOOKUP(C229,Master!BD$60:BP$107,7,FALSE)),\"\",VLOOKUP(C229,Master!BD$60:BP$107,7,FALSE))","v":""},{"$f":"IF(ISNA(VLOOKUP(C229,Master!BD$60:BP$107,8,FALSE)),\"\",VLOOKUP(C229,Master!BD$60:BP$107,8,FALSE))","v":""},{"$f":"IF(ISNA(VLOOKUP(C229,Master!BD$60:BP$107,4,FALSE)),\"\",VLOOKUP(C229,Master!BD$60:BP$107,4,FALSE))","v":""},{"$f":"IF(ISNA(VLOOKUP(C229,Master!BD$60:BP$107,5,FALSE)),\"\",VLOOKUP(C229,Master!BD$60:BP$107,5,FALSE))","v":""},"",{"$f":"IF(AND(H229=\"\"),\"\",I229*12)","v":""},{"$f":"IF(AND(H229=\"\"),\"\",\"Not Applicable\")","v":""},{"$f":"IF(AND(H229=\"\"),\"\",\"0\")","v":""},{"$f":"IF(AND(H229=\"\"),\"\",J229+L229)","v":""},{"$f":"IF(AND(H229=\"\"),\"\",M229)","v":""},{"$f":"IF(AND(H229=\"\"),\"\",\"FIX PAY\")","v":""},{"$nulls":3},0,{"$nulls":5},{"$f":"'[2]Data Entry'!BJ60","v":0},{"$nulls":6},{"$f":"IF(AND(I229=\"\"),\"\",(IF(O229=\"FIX PAY\",0,(I229-ROUNDUP(ROUND((I229*3%)-(I229*3%)*3%,0),-1)))))","v":""},{"$f":"IF(AND(I229=\"\"),\"\",$M229*$BQ229)","v":""},{"$f":"IF(AND(I229=\"\"),\"\",$M229*$BR229)","v":""},{"$f":"IF(AND(I229=\"\"),\"\",$M229*$BS229)","v":""},{"$f":"IF(AND(I229=\"\"),\"\",$M229*$BT229)","v":""},{"$f":"IF(AND(I229=\"\"),\"\",ROUND((AG229+AH229)*$AK$10,0)*BU229)","v":""},0,0,{"$f":"IF(AND(I229=\"\"),\"\",ROUND((AG229+AH229)*$AN$10,0)*BU229)","v":""},0,0,0,null,0,{"$f":"IF(AND(I229=\"\"),\"\",SUM(AK229:AS229)+AG229+AH229)","v":""},{"$f":"IF(AND(I229=\"\"),\"\",AT229)","v":""},null,null,{"$f":"IF(AND(I229=\"\"),\"\",AU229+AV229+AW229)","v":""},{"$f":"IF(AND(I229=\"\"),\"\",N229*BQ229)","v":""},{"$f":"IF(AND(I229=\"\"),\"\",N229*BR229)","v":""},{"$f":"IF(AND(I229=\"\"),\"\",N229*BS229)","v":""},{"$f":"IF(AND(I229=\"\"),\"\",N229*BT229)","v":""},{"$f":"IF(AND(I229=\"\"),\"\",ROUND((AY229+AZ229)*$BC$10,0)*BU229)","v":""},null,0,{"$f":"IF(AND(I229=\"\"),\"\",ROUND((AY229+AZ229)*$BF$10,0)*BU229)","v":""},0,{"$f":"IF(AND(I229=\"\"),0,ROUND((AF229+ROUND(AF229*$AK$10,0))/2,0)*(IF(O229=\"FIX PAY\",0,1)))","v":0},0,0,"",{"$f":"IF(AND(I229=\"\"),\"\",SUM(BC229:BK229)+AY229+AZ229)","v":""},{"$f":"IF(AND(I229=\"\"),\"\",BL229)","v":""},null,null,{"$f":"IF(AND(I229=\"\"),\"\",BM229+BN229+BO229)","v":""},0,1,0,0,0,1,0,1,0,0,"",null,{"$f":"IF(I229=\"\",\"\",MAX(CC228)+1)","v":""}]
["",2202,3,{"$f":"IF(ISNA(VLOOKUP(C230,Master!BD$60:BP$107,3,FALSE)),\"\",VLOOKUP(C230,Master!BD$60:BP$107,3,FALSE))","v":""},{"$f":"IF(ISNA(VLOOKUP(C230,Master!BD$60:BP$107,7,FALSE)),\"\",VLOOKUP(C230,Master!BD$60:BP$107,7,FALSE))","v":""},{"$f":"IF(ISNA(VLOOKUP(C230,Master!BD$60:BP$107,8,FALSE)),\"\",VLOOKUP(C230,Master!BD$60:BP$107,8,FALSE))","v":""},{"$f":"IF(ISNA(VLOOKUP(C230,Master!BD$60:BP$107,4,FALSE)),\"\",VLOOKUP(C230,Master!BD$60:BP$107,4,FALSE))","v":""},{"$f":"IF(ISNA(VLOOKUP(C230,Master!BD$60:BP$107,5,FALSE)),\"\",VLOOKUP(C230,Master!BD$60:BP$107,5,FALSE))","v":""},"","","","","","","",{"$nulls":3},0,{"$nulls":5},{"$f":"'[2]Data Entry'!BJ61","v":0},{"$nulls":6},"","","","","","",0,0,"",0,0,0,null,0,"","",null,null,"","","","","","",null,0,"",0,0,0,0,"","","",null,null,"",0,1,0,0,0,1,0,1,0,0,"",null,{"$f":"IF(I230=\"\",\"\",MAX($CC$228:CC229)+1)","v":""}]
["",2202,4,{"$f":"IF(ISNA(VLOOKUP(C231,Master!BD$60:BP$107,3,FALSE)),\"\",VLOOKUP(C231,Master!BD$60:BP$107,3,FALSE))","v":""},{"$f":"IF(ISNA(VLOOKUP(C231,Master!BD$60:BP$107,7,FALSE)),\"\",VLOOKUP(C231,Master!BD$60:BP$107,7,FALSE))","v":""},{"$f":"IF(ISNA(VLOOKUP(C231,Master!BD$60:BP$107,8,FALSE)),\"\",VLOOKUP(C231,Master!BD$60:BP$107,8,FALSE))","v":""},{"$f":"IF(ISNA(VLOOKUP(C231,Master!BD$60:BP$107,4,FALSE)),\"\",VLOOKUP(C231,Master!BD$60:BP$107,4,FALSE))","v":""},{"$f":"IF(ISNA(VLOOKUP(C231,Master!BD$60:BP$107,5,FALSE)),\"\",VLOOKUP(C231,Master!BD$60:BP$107,5,FALSE))","v":""},"","","","","","","",{"$nulls":3},0,{"$nulls":5},{"$f":"'[2]Data Entry'!BJ62","v":0},{"$nulls":6},"","","","","","",0,0,"",0,0,0,null,0,"","",null,null,"","","","","","",null,0,"",0,0,0,0,"","","",null,null,"",0,1,0,0,0,1,0,1,0,0,"",null,{"$f":"IF(I231=\"\",\"\",MAX($CC$228:CC230)+1)","v":""}]
["",2202,5,{"$f":"IF(ISNA(VLOOKUP(C232,Master!BD$60:BP$107,3,FALSE)),\"\",VLOOKUP(C232,Master!BD$60:BP$107,3,FALSE))","v":""},{"$f":"IF(ISNA(VLOOKUP(C232,Master!BD$60:BP$107,7,FALSE)),\"\",VLOOKUP(C232,Master!BD$60:BP$107,7,FALSE))","v":""},{"$f":"IF(ISNA(VLOOKUP(C232,Master!BD$60:BP$107,8,FALSE)),\"\",VLOOKUP(C232,Master!BD$60:BP$107,8,FALSE))","v":""},{"$f":"IF(ISNA(VLOOKUP(C232,Master!BD$60:BP$107,4,FALSE)),\"\",VLOOKUP(C232,Master!BD$60:BP$107,4,FALSE))","v":""},{"$f":"IF(ISNA(VLOOKUP(C232,Master!BD$60:BP$107,5,FALSE)),\"\",VLOOKUP(C232,Master!BD$60:BP$107,5,FALSE))","v":""},"","","","","","","",{"$nulls":3},0,{"$nulls":5},{"$f":"'[2]Data Entry'!BJ63","v":0},{"$nulls":6},"","","","","","",0,0,"",0,0,0,null,0,"","",null,null,"","","","","","",null,0,"",0,0,0,0,"","","",null,null,"",0,1,0,0,0,1,0,1,0,0,"",null,{"$f":"IF(I232=\"\",\"\",MAX($CC$228:CC231)+1)","v":""}]
["",2202,6,{"$f":"IF(ISNA(VLOOKUP(C233,Master!BD$60:BP$107,3,FALSE)),\"\",VLOOKUP(C233,Master!BD$60:BP$107,3,FALSE))","v":""},{"$f":"IF(ISNA(VLOOKUP(C233,Master!BD$60:BP$107,7,FALSE)),\"\",VLOOKUP(C233,Master!BD$60:BP$107,7,FALSE))","v":""},{"$f":"IF(ISNA(VLOOKUP(C233,Master!BD$60:BP$107,8,FALSE)),\"\",VLOOKUP(C233,Master!BD$60:BP$107,8,FALSE))","v":""},{"$f":"IF(ISNA(VLOOKUP(C233,Master!BD$60:BP$107,4,FALSE)),\"\",VLOOKUP(C233,Master!BD$60:BP$107,4,FALSE))","v":""},{"$f":"IF(ISNA(VLOOKUP(C233,Master!BD$60:BP$107,5,FALSE)),\"\",VLOOKUP(C233,Master!BD$60:BP$107,5,FALSE))","v":""},"","","","","","","",{"$nulls":3},0,{"$nulls":5},{"$f":"'[2]Data Entry'!BJ64","v":0},{"$nulls":6},"","","","","","",0,0,"",0,0,0,null,0,"","",null,null,"","","","","","",null,0,"",0,0,0,0,"","","",null,null,"",0,1,0,0,0,1,0,1,0,0,"",null,{"$f":"IF(I233=\"\",\"\",MAX($CC$228:CC232)+1)","v":""}]
["",2202,7,{"$f":"IF(ISNA(VLOOKUP(C234,Master!BD$60:BP$107,3,FALSE)),\"\",VLOOKUP(C234,Master!BD$60:BP$107,3,FALSE))","v":""},{"$f":"IF(ISNA(VLOOKUP(C234,Master!BD$60:BP$107,7,FALSE)),\"\",VLOOKUP(C234,Master!BD$60:BP$107,7,FALSE))","v":""},{"$f":"IF(ISNA(VLOOKUP(C234,Master!BD$60:BP$107,8,FALSE)),\"\",VLOOKUP(C234,Master!BD$60:BP$107,8,FALSE))","v":""},{"$f":"IF(ISNA(VLOOKUP(C234,Master!BD$60:BP$107,4,FALSE)),\"\",VLOOKUP(C234,Master!BD$60:BP$107,4,FALSE))","v":""},{"$f":"IF(ISNA(VLOOKUP(C234,Master!BD$60:BP$107,5,FALSE)),\"\",VLOOKUP(C234,Master!BD$60:BP$107,5,FALSE))","v":""},"","","","","","","",{"$nulls":3},0,{"$nulls":5},{"$f":"'[2]Data Entry'!BJ65","v":0},{"$nulls":6},"","","","","","",0,0,"",0,0,0,null,0,"","",null,null,"","","","","","",null,0,"",0,0,0,0,"","","",null,null,"",0,1,0,0,0,1,0,1,0,0,"",null,{"$f":"IF(I234=\"\",\"\",MAX($CC$228:CC233)+1)","v":""}]
["",2202,8,{"$f":"IF(ISNA(VLOOKUP(C235,Master!BD$60:BP$107,3,FALSE)),\"\",VLOOKUP(C235,Master!BD$60:BP$107,3,FALSE))","v":""},{"$f":"IF(ISNA(VLOOKUP(C235,Master!BD$60:BP$107,7,FALSE)),\"\",VLOOKUP(C235,Master!BD$60:BP$107,7,FALSE))","v":""},{"$f":"IF(ISNA(VLOOKUP(C235,Master!BD$60:BP$107,8,FALSE)),\"\",VLOOKUP(C235,Master!BD$60:BP$107,8,FALSE))","v":""},{"$f":"IF(ISNA(VLOOKUP(C235,Master!BD$60:BP$107,4,FALSE)),\"\",VLOOKUP(C235,Master!BD$60:BP$107,4,FALSE))","v":""},{"$f":"IF(ISNA(VLOOKUP(C235,Master!BD$60:BP$107,5,FALSE)),\"\",VLOOKUP(C235,Master!BD$60:BP$107,5,FALSE))","v":""},"","","","","","","",{"$nulls":3},0,{"$nulls":5},{"$f":"'[2]Data Entry'!BJ66","v":0},{"$nulls":6},"","","","","","",0,0,"",0,0,0,null,0,"","",null,null,"","","","","","",null,0,"",0,0,0,0,"","","",null,null,"",0,1,0,0,0,1,0,1,0,0,"",null,{"$f":"IF(I235=\"\",\"\",MAX($CC$228:CC234)+1)","v":""}]
[0,{"$nulls":5},"TOTAL GAZETTED FIXED",null,null,{"$f":"SUM(J228:J235)","v":0},null,{"$f":"SUM(L228:L235)","v":0},{"$f":"SUM(M228:M235)","v":0},{"$f":"SUM(N228:N235)","v":0},{"$nulls":30},0]
[0,null,"NON GAZETTED FIXED",{"$nulls":41},0]
[2,2202,1,{"$f":"IF(ISNA(VLOOKUP(C238,Master!BQ$60:CC$285,3,FALSE)),\"\",VLOOKUP(C238,Master!BQ$60:CC$285,3,FALSE))","v":"DFBDZFB"},{"$f":"IF(ISNA(VLOOKUP(C238,Master!BQ$60:CC$285,7,FALSE)),\"\",VLOOKUP(C238,Master!BQ$60:CC$285,7,FALSE))","v":"RJJO201825018004"},{"$f":"IF(ISNA(VLOOKUP(C238,Master!BQ$60:CC$285,8,FALSE)),\"\",VLOOKUP(C238,Master!BQ$60:CC$285,8,FALSE))","v":0},{"$f":"IF(ISNA(VLOOKUP(C238,Master!BQ$60:CC$285,4,FALSE)),\"\",VLOOKUP(C238,Master!BQ$60:CC$285,4,FALSE))","v":"TEACHER-III"},{"$f":"IF(ISNA(VLOOKUP(C238,Master!BQ$60:CC$285,5,FALSE)),\"\",VLOOKUP(C238,Master!BQ$60:CC$285,5,FALSE))","v":"L-10"},{"$f":"IF(ISNA(VLOOKUP(C238,Master!BQ$60:CC$285,6,FALSE)),\"\",VLOOKUP(C238,Master!BQ$60:CC$285,6,FALSE))","v":40300},{"$f":"IF(AND(H238=\"\"),\"\",I238*12)","v":483600},{"$f":"IF(AND(H238=\"\"),\"\",\"Not Applicable\")","v":"Not Applicable"},{"$f":"IF(AND(H238=\"\"),\"\",\"0\")","v":"0"},{"$f":"IF(AND(H238=\"\"),\"\",J238+L238)","v":483600},{"$f":"IF(AND(H238=\"\"),\"\",M238)","v":483600},{"$f":"IF(AND(H238=\"\"),\"\",\"FIX PAY\")","v":"FIX PAY"},{"$nulls":3},0,null,{"$f":"IF(ISNA(VLOOKUP(C238,Master!BQ$60:CC$285,10,FALSE)),\"\",VLOOKUP(C238,Master!BQ$60:CC$285,10,FALSE))","v":0},null,null,{"$f":"IF(ISNA(VLOOKUP(C238,Master!BQ$60:CC$285,11,FALSE)),\"\",VLOOKUP(C238,Master!BQ$60:CC$285,11,FALSE))","v":0},{"$f":"IF(ISNA(VLOOKUP(C238,Master!BQ$60:CC$285,9,FALSE)),\"\",VLOOKUP(C238,Master!BQ$60:CC$285,9,FALSE))","v":0},{"$f":"IF(Y238=\"MALE\",1,0)*(IF(G238=\"JAMADAR\",1,0))*(IF(I238<=0,0,1))","v":0},{"$f":"IF(Y238=\"FEMALE\",1,0)*(IF(G238=\"JAMADAR\",1,0))*(IF(I238<=0,0,1))","v":0},{"$f":"IF(Y238=\"MALE\",1,0)*(IF(G238=\"LAB BOY\",1,0))*(IF(I238<=0,0,1))","v":0},{"$f":"IF(Y238=\"FEMALE\",1,0)*(IF(G238=\"LAB BOY\",1,0))*(IF(I238<=0,0,1))","v":0},{"$f":"IF(Y238=\"MALE\",1,0)*(IF(G238=\"PEON\",1,0))*(IF(I238<=0,0,1))","v":0},{"$f":"IF(Y238=\"FEMALE\",1,0)*(IF(G238=\"PEON\",1,0))*(IF(I238<=0,0,1))","v":0},{"$f":"IF(AND(I238=\"\"),\"\",I238-ROUNDUP(ROUND((I238*3%)-(I238*3%)*2.9%,-2),0))","v":39100},{"$f":"IF(AND(I238=\"\"),\"\",$M238*$BQ238)","v":0},{"$f":"IF(AND(I238=\"\"),\"\",$M238*$BR238)","v":0},{"$f":"IF(AND(I238=\"\"),\"\",$M238*$BS238)","v":0},{"$f":"IF(AND(I238=\"\"),\"\",$M238*$BT238)","v":483600},{"$f":"IF(AND(I238=\"\"),\"\",ROUND((AG238+AH238)*$AK$10,0)*BU238)","v":0},0,0,{"$f":"IF(AND(I238=\"\"),\"\",ROUND((AG238+AH238)*$AN$10,0)*BU238)","v":0},{"$f":"$G$221*BR238*BU238*(IF(I238<=0,0,1))*(IF(H238<=4800,1,0))","v":0},{"$f":"IF(AND(I238=\"\"),0,ROUND((I238+ROUND(I238*$AK$10,0))/2,0)*(IF(O238=\"FIX PAY\",0,1)))","v":0},{"$f":"IF(G238=\"CLERK GRADE I\",1,IF(G238=\"CLERK GRADE II\",1,0))*75*12*BU238*(IF(I238<=0,0,1))*BV238","v":0},{"$f":"IF(AND(I238=\"\"),0,(IF(G238=\"ASSISTANT\",12,IF(G238=\"CLERK GRADE I\",12,IF(G238=\"CLERK GRADE II\",12,IF(G238=\"FIELDMAN & FIELD REC\",12,IF(G238=\"LAB BOY\",12,IF(G238=\"JAMADAR\",12,IF(G238=\"PEON\",12,10))))))))*(MINA(ROUND(I238*6%,0),600))*(IF($U238=\"yes\",1,0)))","v":0},0,{"$f":"IF(AND(G238=\"\"),0,SUM(AK238:AS238)+AG238+AH238)","v":0},{"$f":"IF(AND(G238=\"\"),0,AT238)","v":0},null,null,{"$f":"AU238+AV238+AW238","v":0},{"$f":"IF(AND(G238=\"\"),0,N238*BQ238)","v":0},{"$f":"IF(AND(G238=\"\"),0,N238*BR238)","v":0},{"$f":"IF(AND(G238=\"\"),0,N238*BS238)","v":0},{"$f":"IF(AND(G238=\"\"),0,N238*BT238)","v":483600},{"$f":"ROUND((AY238+AZ238)*$BC$10,0)*BU238","v":0},{"$f":"IF(AND(G238=\"\"),0,ROUND((IF(O238=\"FIX PAY\",0,AF238))*$BD$10*2,0)*BU238)","v":0},0,{"$f":"ROUND((AY238+AZ238)*$BF$10,0)*BU238","v":0},{"$f":"3387*2*BR238*BU238*(IF(I238<=0,0,1))*(IF(H238<=4800,1,0))","v":0},{"$f":"IF(AND(I238=\"\"),0,ROUND((AF238+ROUND(AF238*$AK$10,0))/2,0)*(IF(O238=\"FIX PAY\",0,1)))","v":0},{"$f":"IF(G238=\"CLERK GRADE I\",1,IF(G238=\"CLERK GRADE II\",1,0))*75*12*BU238*(IF(I238<=0,0,1))*BV238","v":0},{"$f":"IF(AND(G238=\"\"),0,(IF(G238=\"ASSISTANT\",12,IF(G238=\"CLERK GRADE I\",12,IF(G238=\"CLERK GRADE II\",12,IF(G238=\"FIELDMAN & FIELD REC\",12,IF(G238=\"LAB BOY\",12,IF(G238=\"JAMADAR\",12,IF(G238=\"PEON\",12,10))))))))*(MINA(ROUND(AF238*6%,0),600))*(IF($U238=\"yes\",1,)))","v":0},{"$f":"(IF(G238=\"LAB BOY\",150,IF(G238=\"JAMADAR\",150,IF(G238=\"PEON\",150,0))))*12*BU238*(IF(I238<=0,0,1))","v":0},{"$f":"SUM(BC238:BK238)+AY238+AZ238","v":0},{"$f":"BL238","v":0},null,null,{"$f":"BM238+BN238+BO238","v":0},{"$f":"(IF(G238=\"PRINCIPAL\",1,IF(G238=\"H M\",1,IF(G238=\"AGRICULTURE INST\",1,IF(G238=\"TEACHER-1ST\",1,IF(G238=\"PTI  I  (13)\",1,IF(G238=\"AGRICULTURE TEACH\",1,IF(G238=\"INSTRUCTOR\",1,0))))))))+(IF(G238=\"JR TEACHER\",1,IF(G238=\"LIBRARIAN I\",1,0)))*(IF(O238=\"FIX PAY\",0,1))","v":0},{"$f":"IF(BQ238<=0,1,0)*(IF(O238=\"FIX PAY\",0,1))","v":0},{"$f":"(IF(G238=\"PRINCIPAL (16)\",1,IF(G238=\"V P (14)\",1,IF(G238=\"H M (14)\",1,IF(G238=\"AGRICULTURE INST (13)\",1,IF(G238=\"TEACHER-1ST (13)\",1,IF(G238=\"PTI  I  (13)\",1,IF(G238=\"AGRICULTURE TEACH (13)\",1,IF(G238=\"INSTRUCTOR (13)\",1,0))))))))+(IF(G238=\"JR TEACHER (13)\",1,IF(G238=\"LIBRARIAN I (13)\",1,0))))*(IF(O238=\"FIX PAY\",1,0))","v":0},{"$f":"IF(BS238<=0,1,0)*(IF(O238=\"FIX PAY\",1,0))","v":1},{"$f":"IF(O238=\"FIX PAY\",1,0)","v":1},{"$f":"IF(X238=\"No\",0,1)","v":1},{"$f":"IF((ROUND((SUMPRODUCT(MID(0&E238,LARGE(INDEX(ISNUMBER(--MID(E238,ROW($1:$25),1))* ROW($1:$25),0),ROW($1:$25))+1,1)*10^ROW($1:$25)/10)),-8)/100000000)>=2004,1,0)","v":1},{"$f":"IF(I238<=0,0,1)","v":1},{"$f":"IF(O238=\"SANVIDA\",1,0)","v":0},{"$f":"IF(BY238>0,I238,0)","v":0},{"$f":"IF(AND(E238=\"\"),\"\",IF(AND(E238<=0),\"\",IF((ROUND((SUMPRODUCT(MID(0&E238,LARGE(INDEX(ISNUMBER(--MID(E238,ROW($1:$70),1))* ROW($1:$70),0),ROW($1:$70))+1,1)*10^ROW($1:$70)/10)),-8)/100000000)<2004,1,0)))","v":0},null,{"$f":"IF(I238=\"\",\"\",MAX($CC$228:CC235)+1)","v":2}]
["",2202,2,{"$f":"IF(ISNA(VLOOKUP(C239,Master!BQ$60:CC$285,3,FALSE)),\"\",VLOOKUP(C239,Master!BQ$60:CC$285,3,FALSE))","v":""},{"$f":"IF(ISNA(VLOOKUP(C239,Master!BQ$60:CC$285,7,FALSE)),\"\",VLOOKUP(C239,Master!BQ$60:CC$285,7,FALSE))","v":""},{"$f":"IF(ISNA(VLOOKUP(C239,Master!BQ$60:CC$285,8,FALSE)),\"\",VLOOKUP(C239,Master!BQ$60:CC$285,8,FALSE))","v":""},{"$f":"IF(ISNA(VLOOKUP(C239,Master!BQ$60:CC$285,4,FALSE)),\"\",VLOOKUP(C239,Master!BQ$60:CC$285,4,FALSE))","v":""},{"$f":"IF(ISNA(VLOOKUP(C239,Master!BQ$60:CC$285,5,FALSE)),\"\",VLOOKUP(C239,Master!BQ$60:CC$285,5,FALSE))","v":""},{"$f":"IF(ISNA(VLOOKUP(C239,Master!BQ$60:CC$285,6,FALSE)),\"\",VLOOKUP(C239,Master!BQ$60:CC$285,6,FALSE))","v":""},{"$f":"IF(AND(H239=\"\"),\"\",I239*12)","v":""},{"$f":"IF(AND(H239=\"\"),\"\",\"Not Applicable\")","v":""},{"$f":"IF(AND(H239=\"\"),\"\",\"0\")","v":""},{"$f":"IF(AND(H239=\"\"),\"\",J239+L239)","v":""},{"$f":"IF(AND(H239=\"\"),\"\",M239)","v":""},{"$f":"IF(AND(H239=\"\"),\"\",\"FIX PAY\")","v":""},{"$nulls":3},0,null,{"$f":"IF(ISNA(VLOOKUP(C239,Master!BQ$60:CC$285,10,FALSE)),\"\",VLOOKUP(C239,Master!BQ$60:CC$285,10,FALSE))","v":""},null,null,{"$f":"IF(ISNA(VLOOKUP(C239,Master!BQ$60:CC$285,11,FALSE)),\"\",VLOOKUP(C239,Master!BQ$60:CC$285,11,FALSE))","v":""},{"$f":"IF(ISNA(VLOOKUP(C239,Master!BQ$60:CC$285,9,FALSE)),\"\",VLOOKUP(C239,Master!BQ$60:CC$285,9,FALSE))","v":""},{"$f":"IF(Y239=\"MALE\",1,0)*(IF(G239=\"JAMADAR\",1,0))*(IF(I239<=0,0,1))","v":0},{"$f":"IF(Y239=\"FEMALE\",1,0)*(IF(G239=\"JAMADAR\",1,0))*(IF(I239<=0,0,1))","v":0},{"$f":"IF(Y239=\"MALE\",1,0)*(IF(G239=\"LAB BOY\",1,0))*(IF(I239<=0,0,1))","v":0},{"$f":"IF(Y239=\"FEMALE\",1,0)*(IF(G239=\"LAB BOY\",1,0))*(IF(I239<=0,0,1))","v":0},{"$f":"IF(Y239=\"MALE\",1,0)*(IF(G239=\"PEON\",1,0))*(IF(I239<=0,0,1))","v":0},{"$f":"IF(Y239=\"FEMALE\",1,0)*(IF(G239=\"PEON\",1,0))*(IF(I239<=0,0,1))","v":0},{"$f":"IF(AND(I239=\"\"),\"\",I239-ROUNDUP(ROUND((I239*3%)-(I239*3%)*2.9%,-2),0))","v":""},{"$f":"IF(AND(I239=\"\"),\"\",$M239*$BQ239)","v":""},{"$f":"IF(AND(I239=\"\"),\"\",$M239*$BR239)","v":""},{"$f":"IF(AND(I239=\"\"),\"\",$M239*$BS239)","v":""},{"$f":"IF(AND(I239=\"\"),\"\",$M239*$BT239)","v":""},{"$f":"IF(AND(I239=\"\"),\"\",ROUND((AG239+AH239)*$AK$10,0)*BU239)","v":""},0,0,{"$f":"IF(AND(I239=\"\"),\"\",ROUND((AG239+AH239)*$AN$10,0)*BU239)","v":""},{"$f":"$G$221*BR239*BU239*(IF(I239<=0,0,1))*(IF(H239<=4800,1,0))","v":0},{"$f":"IF(AND(I239=\"\"),0,ROUND((I239+ROUND(I239*$AK$10,0))/2,0)*(IF(O239=\"FIX PAY\",0,1)))","v":0},{"$f":"IF(G239=\"CLERK GRADE I\",1,IF(G239=\"CLERK GRADE II\",1,0))*75*12*BU239*(IF(I239<=0,0,1))*BV239","v":0},{"$f":"IF(AND(I239=\"\"),0,(IF(G239=\"ASSISTANT\",12,IF(G239=\"CLERK GRADE I\",12,IF(G239=\"CLERK GRADE II\",12,IF(G239=\"FIELDMAN & FIELD REC\",12,IF(G239=\"LAB BOY\",12,IF(G239=\"JAMADAR\",12,IF(G239=\"PEON\",12,10))))))))*(MINA(ROUND(I239*6%,0),600))*(IF($U239=\"yes\",1,0)))","v":0},0,{"$f":"IF(AND(G239=\"\"),0,SUM(AK239:AS239)+AG239+AH239)","v":0},{"$f":"IF(AND(G239=\"\"),0,AT239)","v":0},null,null,{"$f":"AU239+AV239+AW239","v":0},{"$f":"IF(AND(G239=\"\"),0,N239*BQ239)","v":0},{"$f":"IF(AND(G239=\"\"),0,N239*BR239)","v":0},{"$f":"IF(AND(G239=\"\"),0,N239*BS239)","v":0},{"$f":"IF(AND(G239=\"\"),0,N239*BT239)","v":0},{"$f":"ROUND((AY239+AZ239)*$BC$10,0)*BU239","v":0},{"$f":"IF(AND(G239=\"\"),0,ROUND((IF(O239=\"FIX PAY\",0,AF239))*$BD$10*2,0)*BU239)","v":0},0,{"$f":"ROUND((AY239+AZ239)*$BF$10,0)*BU239","v":0},{"$f":"3387*2*BR239*BU239*(IF(I239<=0,0,1))*(IF(H239<=4800,1,0))","v":0},{"$f":"IF(AND(I239=\"\"),0,ROUND((AF239+ROUND(AF239*$AK$10,0))/2,0)*(IF(O239=\"FIX PAY\",0,1)))","v":0},{"$f":"IF(G239=\"CLERK GRADE I\",1,IF(G239=\"CLERK GRADE II\",1,0))*75*12*BU239*(IF(I239<=0,0,1))*BV239","v":0},{"$f":"IF(AND(G239=\"\"),0,(IF(G239=\"ASSISTANT\",12,IF(G239=\"CLERK GRADE I\",12,IF(G239=\"CLERK GRADE II\",12,IF(G239=\"FIELDMAN & FIELD REC\",12,IF(G239=\"LAB BOY\",12,IF(G239=\"JAMADAR\",12,IF(G239=\"PEON\",12,10))))))))*(MINA(ROUND(AF239*6%,0),600))*(IF($U239=\"yes\",1,)))","v":0},{"$f":"(IF(G239=\"LAB BOY\",150,IF(G239=\"JAMADAR\",150,IF(G239=\"PEON\",150,0))))*12*BU239*(IF(I239<=0,0,1))","v":0},{"$f":"SUM(BC239:BK239)+AY239+AZ239","v":0},{"$f":"BL239","v":0},null,null,{"$f":"BM239+BN239+BO239","v":0},{"$f":"(IF(G239=\"PRINCIPAL\",1,IF(G239=\"H M\",1,IF(G239=\"AGRICULTURE INST\",1,IF(G239=\"TEACHER-1ST\",1,IF(G239=\"PTI  I  (13)\",1,IF(G239=\"AGRICULTURE TEACH\",1,IF(G239=\"INSTRUCTOR\",1,0))))))))+(IF(G239=\"JR TEACHER\",1,IF(G239=\"LIBRARIAN I\",1,0)))*(IF(O239=\"FIX PAY\",0,1))","v":0},{"$f":"IF(BQ239<=0,1,0)*(IF(O239=\"FIX PAY\",0,1))","v":1},{"$f":"(IF(G239=\"PRINCIPAL (16)\",1,IF(G239=\"V P (14)\",1,IF(G239=\"H M (14)\",1,IF(G239=\"AGRICULTURE INST (13)\",1,IF(G239=\"TEACHER-1ST (13)\",1,IF(G239=\"PTI  I  (13)\",1,IF(G239=\"AGRICULTURE TEACH (13)\",1,IF(G239=\"INSTRUCTOR (13)\",1,0))))))))+(IF(G239=\"JR TEACHER (13)\",1,IF(G239=\"LIBRARIAN I (13)\",1,0))))*(IF(O239=\"FIX PAY\",1,0))","v":0},{"$f":"IF(BS239<=0,1,0)*(IF(O239=\"FIX PAY\",1,0))","v":0},{"$f":"IF(O239=\"FIX PAY\",1,0)","v":0},{"$f":"IF(X239=\"No\",0,1)","v":1},0,{"$f":"IF(I239<=0,0,1)","v":1},{"$f":"IF(O239=\"SANVIDA\",1,0)","v":0},{"$f":"IF(BY239>0,I239,0)","v":0},"",null,{"$f":"IF(I239=\"\",\"\",MAX($CC$228:$CC$235,CC238)+1)","v":""}]
["",2202,3,{"$f":"IF(ISNA(VLOOKUP(C240,Master!BQ$60:CC$285,3,FALSE)),\"\",VLOOKUP(C240,Master!BQ$60:CC$285,3,FALSE))","v":""},{"$f":"IF(ISNA(VLOOKUP(C240,Master!BQ$60:CC$285,7,FALSE)),\"\",VLOOKUP(C240,Master!BQ$60:CC$285,7,FALSE))","v":""},{"$f":"IF(ISNA(VLOOKUP(C240,Master!BQ$60:CC$285,8,FALSE)),\"\",VLOOKUP(C240,Master!BQ$60:CC$285,8,FALSE))","v":""},{"$f":"IF(ISNA(VLOOKUP(C240,Master!BQ$60:CC$285,4,FALSE)),\"\",VLOOKUP(C240,Master!BQ$60:CC$285,4,FALSE))","v":""},{"$f":"IF(ISNA(VLOOKUP(C240,Master!BQ$60:CC$285,5,FALSE)),\"\",VLOOKUP(C240,Master!BQ$60:CC$285,5,FALSE))","v":""},{"$f":"IF(ISNA(VLOOKUP(C240,Master!BQ$60:CC$285,6,FALSE)),\"\",VLOOKUP(C240,Master!BQ$60:CC$285,6,FALSE))","v":""},"","","","","","",{"$nulls":3},0,null,{"$f":"IF(ISNA(VLOOKUP(C240,Master!BQ$60:CC$285,10,FALSE)),\"\",VLOOKUP(C240,Master!BQ$60:CC$285,10,FALSE))","v":""},null,null,{"$f":"IF(ISNA(VLOOKUP(C240,Master!BQ$60:CC$285,11,FALSE)),\"\",VLOOKUP(C240,Master!BQ$60:CC$285,11,FALSE))","v":""},{"$f":"IF(ISNA(VLOOKUP(C240,Master!BQ$60:CC$285,9,FALSE)),\"\",VLOOKUP(C240,Master!BQ$60:CC$285,9,FALSE))","v":""},0,0,0,0,0,0,"","","","","","",0,0,"",0,0,0,0,0,0,0,null,null,0,0,0,0,0,0,0,0,0,0,0,0,0,0,0,0,null,null,0,0,1,0,0,0,1,0,1,0,0,"",null,{"$f":"IF(I240=\"\",\"\",MAX($CC$228:$CC$235,$CC$238:CC239)+1)","v":""}]
["",2202,4,{"$f":"IF(ISNA(VLOOKUP(C241,Master!BQ$60:CC$285,3,FALSE)),\"\",VLOOKUP(C241,Master!BQ$60:CC$285,3,FALSE))","v":""},{"$f":"IF(ISNA(VLOOKUP(C241,Master!BQ$60:CC$285,7,FALSE)),\"\",VLOOKUP(C241,Master!BQ$60:CC$285,7,FALSE))","v":""},{"$f":"IF(ISNA(VLOOKUP(C241,Master!BQ$60:CC$285,8,FALSE)),\"\",VLOOKUP(C241,Master!BQ$60:CC$285,8,FALSE))","v":""},{"$f":"IF(ISNA(VLOOKUP(C241,Master!BQ$60:CC$285,4,FALSE)),\"\",VLOOKUP(C241,Master!BQ$60:CC$285,4,FALSE))","v":""},{"$f":"IF(ISNA(VLOOKUP(C241,Master!BQ$60:CC$285,5,FALSE)),\"\",VLOOKUP(C241,Master!BQ$60:CC$285,5,FALSE))","v":""},{"$f":"IF(ISNA(VLOOKUP(C241,Master!BQ$60:CC$285,6,FALSE)),\"\",VLOOKUP(C241,Master!BQ$60:CC$285,6,FALSE))","v":""},"","","","","","",{"$nulls":3},0,null,{"$f":"IF(ISNA(VLOOKUP(C241,Master!BQ$60:CC$285,10,FALSE)),\"\",VLOOKUP(C241,Master!BQ$60:CC$285,10,FALSE))","v":""},null,null,{"$f":"IF(ISNA(VLOOKUP(C241,Master!BQ$60:CC$285,11,FALSE)),\"\",VLOOKUP(C241,Master!BQ$60:CC$285,11,FALSE))","v":""},{"$f":"IF(ISNA(VLOOKUP(C241,Master!BQ$60:CC$285,9,FALSE)),\"\",VLOOKUP(C241,Master!BQ$60:CC$285,9,FALSE))","v":""},0,0,0,0,0,0,"","","","","","",0,0,"",0,0,0,0,0,0,0,null,null,0,0,0,0,0,0,0,0,0,0,0,0,0,0,0,0,null,null,0,0,1,0,0,0,1,0,1,0,0,"",null,{"$f":"IF(I241=\"\",\"\",MAX($CC$228:$CC$235,$CC$238:CC240)+1)","v":""}]
["",2202,5,{"$f":"IF(ISNA(VLOOKUP(C242,Master!BQ$60:CC$285,3,FALSE)),\"\",VLOOKUP(C242,Master!BQ$60:CC$285,3,FALSE))","v":""},{"$f":"IF(ISNA(VLOOKUP(C242,Master!BQ$60:CC$285,7,FALSE)),\"\",VLOOKUP(C242,Master!BQ$60:CC$285,7,FALSE))","v":""},{"$f":"IF(ISNA(VLOOKUP(C242,Master!BQ$60:CC$285,8,FALSE)),\"\",VLOOKUP(C242,Master!BQ$60:CC$285,8,FALSE))","v":""},{"$f":"IF(ISNA(VLOOKUP(C242,Master!BQ$60:CC$285,4,FALSE)),\"\",VLOOKUP(C242,Master!BQ$60:CC$285,4,FALSE))","v":""},{"$f":"IF(ISNA(VLOOKUP(C242,Master!BQ$60:CC$285,5,FALSE)),\"\",VLOOKUP(C242,Master!BQ$60:CC$285,5,FALSE))","v":""},{"$f":"IF(ISNA(VLOOKUP(C242,Master!BQ$60:CC$285,6,FALSE)),\"\",VLOOKUP(C242,Master!BQ$60:CC$285,6,FALSE))","v":""},"","","","","","",{"$nulls":3},0,null,{"$f":"IF(ISNA(VLOOKUP(C242,Master!BQ$60:CC$285,10,FALSE)),\"\",VLOOKUP(C242,Master!BQ$60:CC$285,10,FALSE))","v":""},null,null,{"$f":"IF(ISNA(VLOOKUP(C242,Master!BQ$60:CC$285,11,FALSE)),\"\",VLOOKUP(C242,Master!BQ$60:CC$285,11,FALSE))","v":""},{"$f":"IF(ISNA(VLOOKUP(C242,Master!BQ$60:CC$285,9,FALSE)),\"\",VLOOKUP(C242,Master!BQ$60:CC$285,9,FALSE))","v":""},0,0,0,0,0,0,"","","","","","",0,0,"",0,0,0,0,0,0,0,null,null,0,0,0,0,0,0,0,0,0,0,0,0,0,0,0,0,null,null,0,0,1,0,0,0,1,0,1,0,0,"",null,{"$f":"IF(I242=\"\",\"\",MAX($CC$228:$CC$235,$CC$238:CC241)+1)","v":""}]
["",2202,6,{"$f":"IF(ISNA(VLOOKUP(C243,Master!BQ$60:CC$285,3,FALSE)),\"\",VLOOKUP(C243,Master!BQ$60:CC$285,3,FALSE))","v":""},{"$f":"IF(ISNA(VLOOKUP(C243,Master!BQ$60:CC$285,7,FALSE)),\"\",VLOOKUP(C243,Master!BQ$60:CC$285,7,FALSE))","v":""},{"$f":"IF(ISNA(VLOOKUP(C243,Master!BQ$60:CC$285,8,FALSE)),\"\",VLOOKUP(C243,Master!BQ$60:CC$285,8,FALSE))","v":""},{"$f":"IF(ISNA(VLOOKUP(C243,Master!BQ$60:CC$285,4,FALSE)),\"\",VLOOKUP(C243,Master!BQ$60:CC$285,4,FALSE))","v":""},{"$f":"IF(ISNA(VLOOKUP(C243,Master!BQ$60:CC$285,5,FALSE)),\"\",VLOOKUP(C243,Master!BQ$60:CC$285,5,FALSE))","v":""},{"$f":"IF(ISNA(VLOOKUP(C243,Master!BQ$60:CC$285,6,FALSE)),\"\",VLOOKUP(C243,Master!BQ$60:CC$285,6,FALSE))","v":""},"","","","","","",{"$nulls":3},0,null,{"$f":"IF(ISNA(VLOOKUP(C243,Master!BQ$60:CC$285,10,FALSE)),\"\",VLOOKUP(C243,Master!BQ$60:CC$285,10,FALSE))","v":""},null,null,{"$f":"IF(ISNA(VLOOKUP(C243,Master!BQ$60:CC$285,11,FALSE)),\"\",VLOOKUP(C243,Master!BQ$60:CC$285,11,FALSE))","v":""},{"$f":"IF(ISNA(VLOOKUP(C243,Master!BQ$60:CC$285,9,FALSE)),\"\",VLOOKUP(C243,Master!BQ$60:CC$285,9,FALSE))","v":""},0,0,0,0,0,0,"","","","","","",0,0,"",0,0,0,0,0,0,0,null,null,0,0,0,0,0,0,0,0,0,0,0,0,0,0,0,0,null,null,0,0,1,0,0,0,1,0,1,0,0,"",null,{"$f":"IF(I243=\"\",\"\",MAX($CC$228:$CC$235,$CC$238:CC242)+1)","v":""}]
["",2202,7,{"$f":"IF(ISNA(VLOOKUP(C244,Master!BQ$60:CC$285,3,FALSE)),\"\",VLOOKUP(C244,Master!BQ$60:CC$285,3,FALSE))","v":""},{"$f":"IF(ISNA(VLOOKUP(C244,Master!BQ$60:CC$285,7,FALSE)),\"\",VLOOKUP(C244,Master!BQ$60:CC$285,7,FALSE))","v":""},{"$f":"IF(ISNA(VLOOKUP(C244,Master!BQ$60:CC$285,8,FALSE)),\"\",VLOOKUP(C244,Master!BQ$60:CC$285,8,FALSE))","v":""},{"$f":"IF(ISNA(VLOOKUP(C244,Master!BQ$60:CC$285,4,FALSE)),\"\",VLOOKUP(C244,Master!BQ$60:CC$285,4,FALSE))","v":""},{"$f":"IF(ISNA(VLOOKUP(C244,Master!BQ$60:CC$285,5,FALSE)),\"\",VLOOKUP(C244,Master!BQ$60:CC$285,5,FALSE))","v":""},{"$f":"IF(ISNA(VLOOKUP(C244,Master!BQ$60:CC$285,6,FALSE)),\"\",VLOOKUP(C244,Master!BQ$60:CC$285,6,FALSE))","v":""},"","","","","","",{"$nulls":3},0,null,{"$f":"IF(ISNA(VLOOKUP(C244,Master!BQ$60:CC$285,10,FALSE)),\"\",VLOOKUP(C244,Master!BQ$60:CC$285,10,FALSE))","v":""},null,null,{"$f":"IF(ISNA(VLOOKUP(C244,Master!BQ$60:CC$285,11,FALSE)),\"\",VLOOKUP(C244,Master!BQ$60:CC$285,11,FALSE))","v":""},{"$f":"IF(ISNA(VLOOKUP(C244,Master!BQ$60:CC$285,9,FALSE)),\"\",VLOOKUP(C244,Master!BQ$60:CC$285,9,FALSE))","v":""},0,0,0,0,0,0,"","","","","","",0,0,"",0,0,0,0,0,0,0,null,null,0,0,0,0,0,0,0,0,0,0,0,0,0,0,0,0,null,null,0,0,1,0,0,0,1,0,1,0,0,"",null,{"$f":"IF(I244=\"\",\"\",MAX($CC$228:$CC$235,$CC$238:CC243)+1)","v":""}]
["",2202,8,{"$f":"IF(ISNA(VLOOKUP(C245,Master!BQ$60:CC$285,3,FALSE)),\"\",VLOOKUP(C245,Master!BQ$60:CC$285,3,FALSE))","v":""},{"$f":"IF(ISNA(VLOOKUP(C245,Master!BQ$60:CC$285,7,FALSE)),\"\",VLOOKUP(C245,Master!BQ$60:CC$285,7,FALSE))","v":""},{"$f":"IF(ISNA(VLOOKUP(C245,Master!BQ$60:CC$285,8,FALSE)),\"\",VLOOKUP(C245,Master!BQ$60:CC$285,8,FALSE))","v":""},{"$f":"IF(ISNA(VLOOKUP(C245,Master!BQ$60:CC$285,4,FALSE)),\"\",VLOOKUP(C245,Master!BQ$60:CC$285,4,FALSE))","v":""},{"$f":"IF(ISNA(VLOOKUP(C245,Master!BQ$60:CC$285,5,FALSE)),\"\",VLOOKUP(C245,Master!BQ$60:CC$285,5,FALSE))","v":""},{"$f":"IF(ISNA(VLOOKUP(C245,Master!BQ$60:CC$285,6,FALSE)),\"\",VLOOKUP(C245,Master!BQ$60:CC$285,6,FALSE))","v":""},"","","","","","",{"$nulls":3},0,null,{"$f":"IF(ISNA(VLOOKUP(C245,Master!BQ$60:CC$285,10,FALSE)),\"\",VLOOKUP(C245,Master!BQ$60:CC$285,10,FALSE))","v":""},null,null,{"$f":"IF(ISNA(VLOOKUP(C245,Master!BQ$60:CC$285,11,FALSE)),\"\",VLOOKUP(C245,Master!BQ$60:CC$285,11,FALSE))","v":""},{"$f":"IF(ISNA(VLOOKUP(C245,Master!BQ$60:CC$285,9,FALSE)),\"\",VLOOKUP(C245,Master!BQ$60:CC$285,9,FALSE))","v":""},0,0,0,0,0,0,"","","","","","",0,0,"",0,0,0,0,0,0,0,null,null,0,0,0,0,0,0,0,0,0,0,0,0,0,0,0,0,null,null,0,0,1,0,0,0,1,0,1,0,0,"",null,{"$f":"IF(I245=\"\",\"\",MAX($CC$228:$CC$235,$CC$238:CC244)+1)","v":""}]
["",2202,9,{"$f":"IF(ISNA(VLOOKUP(C246,Master!BQ$60:CC$285,3,FALSE)),\"\",VLOOKUP(C246,Master!BQ$60:CC$285,3,FALSE))","v":""},{"$f":"IF(ISNA(VLOOKUP(C246,Master!BQ$60:CC$285,7,FALSE)),\"\",VLOOKUP(C246,Master!BQ$60:CC$285,7,FALSE))","v":""},{"$f":"IF(ISNA(VLOOKUP(C246,Master!BQ$60:CC$285,8,FALSE)),\"\",VLOOKUP(C246,Master!BQ$60:CC$285,8,FALSE))","v":""},{"$f":"IF(ISNA(VLOOKUP(C246,Master!BQ$60:CC$285,4,FALSE)),\"\",VLOOKUP(C246,Master!BQ$60:CC$285,4,FALSE))","v":""},{"$f":"IF(ISNA(VLOOKUP(C246,Master!BQ$60:CC$285,5,FALSE)),\"\",VLOOKUP(C246,Master!BQ$60:CC$285,5,FALSE))","v":""},{"$f":"IF(ISNA(VLOOKUP(C246,Master!BQ$60:CC$285,6,FALSE)),\"\",VLOOKUP(C246,Master!BQ$60:CC$285,6,FALSE))","v":""},"","","","","","",{"$nulls":3},0,null,{"$f":"IF(ISNA(VLOOKUP(C246,Master!BQ$60:CC$285,10,FALSE)),\"\",VLOOKUP(C246,Master!BQ$60:CC$285,10,FALSE))","v":""},null,null,{"$f":"IF(ISNA(VLOOKUP(C246,Master!BQ$60:CC$285,11,FALSE)),\"\",VLOOKUP(C246,Master!BQ$60:CC$285,11,FALSE))","v":""},{"$f":"IF(ISNA(VLOOKUP(C246,Master!BQ$60:CC$285,9,FALSE)),\"\",VLOOKUP(C246,Master!BQ$60:CC$285,9,FALSE))","v":""},0,0,0,0,0,0,"","","","","","",0,0,"",0,0,0,0,0,0,0,null,null,0,0,0,0,0,0,0,0,0,0,0,0,0,0,0,0,null,null,0,0,1,0,0,0,1,0,1,0,0,"",null,{"$f":"IF(I246=\"\",\"\",MAX($CC$228:$CC$235,$CC$238:CC245)+1)","v":""}]
["",2202,10,{"$f":"IF(ISNA(VLOOKUP(C247,Master!BQ$60:CC$285,3,FALSE)),\"\",VLOOKUP(C247,Master!BQ$60:CC$285,3,FALSE))","v":""},{"$f":"IF(ISNA(VLOOKUP(C247,Master!BQ$60:CC$285,7,FALSE)),\"\",VLOOKUP(C247,Master!BQ$60:CC$285,7,FALSE))","v":""},{"$f":"IF(ISNA(VLOOKUP(C247,Master!BQ$60:CC$285,8,FALSE)),\"\",VLOOKUP(C247,Master!BQ$60:CC$285,8,FALSE))","v":""},{"$f":"IF(ISNA(VLOOKUP(C247,Master!BQ$60:CC$285,4,FALSE)),\"\",VLOOKUP(C247,Master!BQ$60:CC$285,4,FALSE))","v":""},{"$f":"IF(ISNA(VLOOKUP(C247,Master!BQ$60:CC$285,5,FALSE)),\"\",VLOOKUP(C247,Master!BQ$60:CC$285,5,FALSE))","v":""},{"$f":"IF(ISNA(VLOOKUP(C247,Master!BQ$60:CC$285,6,FALSE)),\"\",VLOOKUP(C247,Master!BQ$60:CC$285,6,FALSE))","v":""},"","","","","","",{"$nulls":3},0,null,{"$f":"IF(ISNA(VLOOKUP(C247,Master!BQ$60:CC$285,10,FALSE)),\"\",VLOOKUP(C247,Master!BQ$60:CC$285,10,FALSE))","v":""},null,null,{"$f":"IF(ISNA(VLOOKUP(C247,Master!BQ$60:CC$285,11,FALSE)),\"\",VLOOKUP(C247,Master!BQ$60:CC$285,11,FALSE))","v":""},{"$f":"IF(ISNA(VLOOKUP(C247,Master!BQ$60:CC$285,9,FALSE)),\"\",VLOOKUP(C247,Master!BQ$60:CC$285,9,FALSE))","v":""},0,0,0,0,0,0,"","","","","","",0,0,"",0,0,0,0,0,0,0,null,null,0,0,0,0,0,0,0,0,0,0,0,0,0,0,0,0,null,null,0,0,1,0,0,0,1,0,1,0,0,"",null,{"$f":"IF(I247=\"\",\"\",MAX($CC$228:$CC$235,$CC$238:CC246)+1)","v":""}]
["",2202,11,{"$f":"IF(ISNA(VLOOKUP(C248,Master!BQ$60:CC$285,3,FALSE)),\"\",VLOOKUP(C248,Master!BQ$60:CC$285,3,FALSE))","v":""},{"$f":"IF(ISNA(VLOOKUP(C248,Master!BQ$60:CC$285,7,FALSE)),\"\",VLOOKUP(C248,Master!BQ$60:CC$285,7,FALSE))","v":""},{"$f":"IF(ISNA(VLOOKUP(C248,Master!BQ$60:CC$285,8,FALSE)),\"\",VLOOKUP(C248,Master!BQ$60:CC$285,8,FALSE))","v":""},{"$f":"IF(ISNA(VLOOKUP(C248,Master!BQ$60:CC$285,4,FALSE)),\"\",VLOOKUP(C248,Master!BQ$60:CC$285,4,FALSE))","v":""},{"$f":"IF(ISNA(VLOOKUP(C248,Master!BQ$60:CC$285,5,FALSE)),\"\",VLOOKUP(C248,Master!BQ$60:CC$285,5,FALSE))","v":""},{"$f":"IF(ISNA(VLOOKUP(C248,Master!BQ$60:CC$285,6,FALSE)),\"\",VLOOKUP(C248,Master!BQ$60:CC$285,6,FALSE))","v":""},"","","","","","",{"$nulls":3},0,null,{"$f":"IF(ISNA(VLOOKUP(C248,Master!BQ$60:CC$285,10,FALSE)),\"\",VLOOKUP(C248,Master!BQ$60:CC$285,10,FALSE))","v":""},null,null,{"$f":"IF(ISNA(VLOOKUP(C248,Master!BQ$60:CC$285,11,FALSE)),\"\",VLOOKUP(C248,Master!BQ$60:CC$285,11,FALSE))","v":""},{"$f":"IF(ISNA(VLOOKUP(C248,Master!BQ$60:CC$285,9,FALSE)),\"\",VLOOKUP(C248,Master!BQ$60:CC$285,9,FALSE))","v":""},0,0,0,0,0,0,"","","","","","",0,0,"",0,0,0,0,0,0,0,null,null,0,0,0,0,0,0,0,0,0,0,0,0,0,0,0,0,null,null,0,0,1,0,0,0,1,0,1,0,0,"",null,{"$f":"IF(I248=\"\",\"\",MAX($CC$228:$CC$235,$CC$238:CC247)+1)","v":""}]
["",2202,12,{"$f":"IF(ISNA(VLOOKUP(C249,Master!BQ$60:CC$285,3,FALSE)),\"\",VLOOKUP(C249,Master!BQ$60:CC$285,3,FALSE))","v":""},{"$f":"IF(ISNA(VLOOKUP(C249,Master!BQ$60:CC$285,7,FALSE)),\"\",VLOOKUP(C249,Master!BQ$60:CC$285,7,FALSE))","v":""},{"$f":"IF(ISNA(VLOOKUP(C249,Master!BQ$60:CC$285,8,FALSE)),\"\",VLOOKUP(C249,Master!BQ$60:CC$285,8,FALSE))","v":""},{"$f":"IF(ISNA(VLOOKUP(C249,Master!BQ$60:CC$285,4,FALSE)),\"\",VLOOKUP(C249,Master!BQ$60:CC$285,4,FALSE))","v":""},{"$f":"IF(ISNA(VLOOKUP(C249,Master!BQ$60:CC$285,5,FALSE)),\"\",VLOOKUP(C249,Master!BQ$60:CC$285,5,FALSE))","v":""},{"$f":"IF(ISNA(VLOOKUP(C249,Master!BQ$60:CC$285,6,FALSE)),\"\",VLOOKUP(C249,Master!BQ$60:CC$285,6,FALSE))","v":""},"","","","","","",{"$nulls":3},0,null,{"$f":"IF(ISNA(VLOOKUP(C249,Master!BQ$60:CC$285,10,FALSE)),\"\",VLOOKUP(C249,Master!BQ$60:CC$285,10,FALSE))","v":""},null,null,{"$f":"IF(ISNA(VLOOKUP(C249,Master!BQ$60:CC$285,11,FALSE)),\"\",VLOOKUP(C249,Master!BQ$60:CC$285,11,FALSE))","v":""},{"$f":"IF(ISNA(VLOOKUP(C249,Master!BQ$60:CC$285,9,FALSE)),\"\",VLOOKUP(C249,Master!BQ$60:CC$285,9,FALSE))","v":""},0,0,0,0,0,0,"","","","","","",0,0,"",0,0,0,0,0,0,0,null,null,0,0,0,0,0,0,0,0,0,0,0,0,0,0,0,0,null,null,0,0,1,0,0,0,1,0,1,0,0,"",null,{"$f":"IF(I249=\"\",\"\",MAX($CC$228:$CC$235,$CC$238:CC248)+1)","v":""}]
["",2202,13,{"$f":"IF(ISNA(VLOOKUP(C250,Master!BQ$60:CC$285,3,FALSE)),\"\",VLOOKUP(C250,Master!BQ$60:CC$285,3,FALSE))","v":""},{"$f":"IF(ISNA(VLOOKUP(C250,Master!BQ$60:CC$285,7,FALSE)),\"\",VLOOKUP(C250,Master!BQ$60:CC$285,7,FALSE))","v":""},{"$f":"IF(ISNA(VLOOKUP(C250,Master!BQ$60:CC$285,8,FALSE)),\"\",VLOOKUP(C250,Master!BQ$60:CC$285,8,FALSE))","v":""},{"$f":"IF(ISNA(VLOOKUP(C250,Master!BQ$60:CC$285,4,FALSE)),\"\",VLOOKUP(C250,Master!BQ$60:CC$285,4,FALSE))","v":""},{"$f":"IF(ISNA(VLOOKUP(C250,Master!BQ$60:CC$285,5,FALSE)),\"\",VLOOKUP(C250,Master!BQ$60:CC$285,5,FALSE))","v":""},{"$f":"IF(ISNA(VLOOKUP(C250,Master!BQ$60:CC$285,6,FALSE)),\"\",VLOOKUP(C250,Master!BQ$60:CC$285,6,FALSE))","v":""},"","","","","","",{"$nulls":3},0,null,{"$f":"IF(ISNA(VLOOKUP(C250,Master!BQ$60:CC$285,10,FALSE)),\"\",VLOOKUP(C250,Master!BQ$60:CC$285,10,FALSE))","v":""},null,null,{"$f":"IF(ISNA(VLOOKUP(C250,Master!BQ$60:CC$285,11,FALSE)),\"\",VLOOKUP(C250,Master!BQ$60:CC$285,11,FALSE))","v":""},{"$f":"IF(ISNA(VLOOKUP(C250,Master!BQ$60:CC$285,9,FALSE)),\"\",VLOOKUP(C250,Master!BQ$60:CC$285,9,FALSE))","v":""},0,0,0,0,0,0,"","","","","","",0,0,"",0,0,0,0,0,0,0,null,null,0,0,0,0,0,0,0,0,0,0,0,0,0,0,0,0,null,null,0,0,1,0,0,0,1,0,1,0,0,"",null,{"$f":"IF(I250=\"\",\"\",MAX($CC$228:$CC$235,$CC$238:CC249)+1)","v":""}]
["",2202,14,{"$f":"IF(ISNA(VLOOKUP(C251,Master!BQ$60:CC$285,3,FALSE)),\"\",VLOOKUP(C251,Master!BQ$60:CC$285,3,FALSE))","v":""},{"$f":"IF(ISNA(VLOOKUP(C251,Master!BQ$60:CC$285,7,FALSE)),\"\",VLOOKUP(C251,Master!BQ$60:CC$285,7,FALSE))","v":""},{"$f":"IF(ISNA(VLOOKUP(C251,Master!BQ$60:CC$285,8,FALSE)),\"\",VLOOKUP(C251,Master!BQ$60:CC$285,8,FALSE))","v":""},{"$f":"IF(ISNA(VLOOKUP(C251,Master!BQ$60:CC$285,4,FALSE)),\"\",VLOOKUP(C251,Master!BQ$60:CC$285,4,FALSE))","v":""},{"$f":"IF(ISNA(VLOOKUP(C251,Master!BQ$60:CC$285,5,FALSE)),\"\",VLOOKUP(C251,Master!BQ$60:CC$285,5,FALSE))","v":""},{"$f":"IF(ISNA(VLOOKUP(C251,Master!BQ$60:CC$285,6,FALSE)),\"\",VLOOKUP(C251,Master!BQ$60:CC$285,6,FALSE))","v":""},"","","","","","",{"$nulls":3},0,null,{"$f":"IF(ISNA(VLOOKUP(C251,Master!BQ$60:CC$285,10,FALSE)),\"\",VLOOKUP(C251,Master!BQ$60:CC$285,10,FALSE))","v":""},null,null,{"$f":"IF(ISNA(VLOOKUP(C251,Master!BQ$60:CC$285,11,FALSE)),\"\",VLOOKUP(C251,Master!BQ$60:CC$285,11,FALSE))","v":""},{"$f":"IF(ISNA(VLOOKUP(C251,Master!BQ$60:CC$285,9,FALSE)),\"\",VLOOKUP(C251,Master!BQ$60:CC$285,9,FALSE))","v":""},0,0,0,0,0,0,"","","","","","",0,0,"",0,0,0,0,0,0,0,null,null,0,0,0,0,0,0,0,0,0,0,0,0,0,0,0,0,null,null,0,0,1,0,0,0,1,0,1,0,0,"",null,{"$f":"IF(I251=\"\",\"\",MAX($CC$228:$CC$235,$CC$238:CC250)+1)","v":""}]
["",2202,15,{"$f":"IF(ISNA(VLOOKUP(C252,Master!BQ$60:CC$285,3,FALSE)),\"\",VLOOKUP(C252,Master!BQ$60:CC$285,3,FALSE))","v":""},{"$f":"IF(ISNA(VLOOKUP(C252,Master!BQ$60:CC$285,7,FALSE)),\"\",VLOOKUP(C252,Master!BQ$60:CC$285,7,FALSE))","v":""},{"$f":"IF(ISNA(VLOOKUP(C252,Master!BQ$60:CC$285,8,FALSE)),\"\",VLOOKUP(C252,Master!BQ$60:CC$285,8,FALSE))","v":""},{"$f":"IF(ISNA(VLOOKUP(C252,Master!BQ$60:CC$285,4,FALSE)),\"\",VLOOKUP(C252,Master!BQ$60:CC$285,4,FALSE))","v":""},{"$f":"IF(ISNA(VLOOKUP(C252,Master!BQ$60:CC$285,5,FALSE)),\"\",VLOOKUP(C252,Master!BQ$60:CC$285,5,FALSE))","v":""},{"$f":"IF(ISNA(VLOOKUP(C252,Master!BQ$60:CC$285,6,FALSE)),\"\",VLOOKUP(C252,Master!BQ$60:CC$285,6,FALSE))","v":""},"","","","","","",{"$nulls":3},0,null,{"$f":"IF(ISNA(VLOOKUP(C252,Master!BQ$60:CC$285,10,FALSE)),\"\",VLOOKUP(C252,Master!BQ$60:CC$285,10,FALSE))","v":""},null,null,{"$f":"IF(ISNA(VLOOKUP(C252,Master!BQ$60:CC$285,11,FALSE)),\"\",VLOOKUP(C252,Master!BQ$60:CC$285,11,FALSE))","v":""},{"$f":"IF(ISNA(VLOOKUP(C252,Master!BQ$60:CC$285,9,FALSE)),\"\",VLOOKUP(C252,Master!BQ$60:CC$285,9,FALSE))","v":""},0,0,0,0,0,0,"","","","","","",0,0,"",0,0,0,0,0,0,0,null,null,0,0,0,0,0,0,0,0,0,0,0,0,0,0,0,0,null,null,0,0,1,0,0,0,1,0,1,0,0,"",null,{"$f":"IF(I252=\"\",\"\",MAX($CC$228:$CC$235,$CC$238:CC251)+1)","v":""}]
["",2202,16,{"$f":"IF(ISNA(VLOOKUP(C253,Master!BQ$60:CC$285,3,FALSE)),\"\",VLOOKUP(C253,Master!BQ$60:CC$285,3,FALSE))","v":""},{"$f":"IF(ISNA(VLOOKUP(C253,Master!BQ$60:CC$285,7,FALSE)),\"\",VLOOKUP(C253,Master!BQ$60:CC$285,7,FALSE))","v":""},{"$f":"IF(ISNA(VLOOKUP(C253,Master!BQ$60:CC$285,8,FALSE)),\"\",VLOOKUP(C253,Master!BQ$60:CC$285,8,FALSE))","v":""},{"$f":"IF(ISNA(VLOOKUP(C253,Master!BQ$60:CC$285,4,FALSE)),\"\",VLOOKUP(C253,Master!BQ$60:CC$285,4,FALSE))","v":""},{"$f":"IF(ISNA(VLOOKUP(C253,Master!BQ$60:CC$285,5,FALSE)),\"\",VLOOKUP(C253,Master!BQ$60:CC$285,5,FALSE))","v":""},{"$f":"IF(ISNA(VLOOKUP(C253,Master!BQ$60:CC$285,6,FALSE)),\"\",VLOOKUP(C253,Master!BQ$60:CC$285,6,FALSE))","v":""},"","","","","","",{"$nulls":3},0,null,{"$f":"IF(ISNA(VLOOKUP(C253,Master!BQ$60:CC$285,10,FALSE)),\"\",VLOOKUP(C253,Master!BQ$60:CC$285,10,FALSE))","v":""},null,null,{"$f":"IF(ISNA(VLOOKUP(C253,Master!BQ$60:CC$285,11,FALSE)),\"\",VLOOKUP(C253,Master!BQ$60:CC$285,11,FALSE))","v":""},{"$f":"IF(ISNA(VLOOKUP(C253,Master!BQ$60:CC$285,9,FALSE)),\"\",VLOOKUP(C253,Master!BQ$60:CC$285,9,FALSE))","v":""},0,0,0,0,0,0,"","","","","","",0,0,"",0,0,0,0,0,0,0,null,null,0,0,0,0,0,0,0,0,0,0,0,0,0,0,0,0,null,null,0,0,1,0,0,0,1,0,1,0,0,"",null,{"$f":"IF(I253=\"\",\"\",MAX($CC$228:$CC$235,$CC$238:CC252)+1)","v":""}]
["",2202,17,{"$f":"IF(ISNA(VLOOKUP(C254,Master!BQ$60:CC$285,3,FALSE)),\"\",VLOOKUP(C254,Master!BQ$60:CC$285,3,FALSE))","v":""},{"$f":"IF(ISNA(VLOOKUP(C254,Master!BQ$60:CC$285,7,FALSE)),\"\",VLOOKUP(C254,Master!BQ$60:CC$285,7,FALSE))","v":""},{"$f":"IF(ISNA(VLOOKUP(C254,Master!BQ$60:CC$285,8,FALSE)),\"\",VLOOKUP(C254,Master!BQ$60:CC$285,8,FALSE))","v":""},{"$f":"IF(ISNA(VLOOKUP(C254,Master!BQ$60:CC$285,4,FALSE)),\"\",VLOOKUP(C254,Master!BQ$60:CC$285,4,FALSE))","v":""},{"$f":"IF(ISNA(VLOOKUP(C254,Master!BQ$60:CC$285,5,FALSE)),\"\",VLOOKUP(C254,Master!BQ$60:CC$285,5,FALSE))","v":""},{"$f":"IF(ISNA(VLOOKUP(C254,Master!BQ$60:CC$285,6,FALSE)),\"\",VLOOKUP(C254,Master!BQ$60:CC$285,6,FALSE))","v":""},"","","","","","",{"$nulls":3},0,null,{"$f":"IF(ISNA(VLOOKUP(C254,Master!BQ$60:CC$285,10,FALSE)),\"\",VLOOKUP(C254,Master!BQ$60:CC$285,10,FALSE))","v":""},null,null,{"$f":"IF(ISNA(VLOOKUP(C254,Master!BQ$60:CC$285,11,FALSE)),\"\",VLOOKUP(C254,Master!BQ$60:CC$285,11,FALSE))","v":""},{"$f":"IF(ISNA(VLOOKUP(C254,Master!BQ$60:CC$285,9,FALSE)),\"\",VLOOKUP(C254,Master!BQ$60:CC$285,9,FALSE))","v":""},0,0,0,0,0,0,"","","","","","",0,0,"",0,0,0,0,0,0,0,null,null,0,0,0,0,0,0,0,0,0,0,0,0,0,0,0,0,null,null,0,0,1,0,0,0,1,0,1,0,0,"",null,{"$f":"IF(I254=\"\",\"\",MAX($CC$228:$CC$235,$CC$238:CC253)+1)","v":""}]
["",2202,18,{"$f":"IF(ISNA(VLOOKUP(C255,Master!BQ$60:CC$285,3,FALSE)),\"\",VLOOKUP(C255,Master!BQ$60:CC$285,3,FALSE))","v":""},{"$f":"IF(ISNA(VLOOKUP(C255,Master!BQ$60:CC$285,7,FALSE)),\"\",VLOOKUP(C255,Master!BQ$60:CC$285,7,FALSE))","v":""},{"$f":"IF(ISNA(VLOOKUP(C255,Master!BQ$60:CC$285,8,FALSE)),\"\",VLOOKUP(C255,Master!BQ$60:CC$285,8,FALSE))","v":""},{"$f":"IF(ISNA(VLOOKUP(C255,Master!BQ$60:CC$285,4,FALSE)),\"\",VLOOKUP(C255,Master!BQ$60:CC$285,4,FALSE))","v":""},{"$f":"IF(ISNA(VLOOKUP(C255,Master!BQ$60:CC$285,5,FALSE)),\"\",VLOOKUP(C255,Master!BQ$60:CC$285,5,FALSE))","v":""},{"$f":"IF(ISNA(VLOOKUP(C255,Master!BQ$60:CC$285,6,FALSE)),\"\",VLOOKUP(C255,Master!BQ$60:CC$285,6,FALSE))","v":""},"","","","","","",{"$nulls":3},0,null,{"$f":"IF(ISNA(VLOOKUP(C255,Master!BQ$60:CC$285,10,FALSE)),\"\",VLOOKUP(C255,Master!BQ$60:CC$285,10,FALSE))","v":""},null,null,{"$f":"IF(ISNA(VLOOKUP(C255,Master!BQ$60:CC$285,11,FALSE)),\"\",VLOOKUP(C255,Master!BQ$60:CC$285,11,FALSE))","v":""},{"$f":"IF(ISNA(VLOOKUP(C255,Master!BQ$60:CC$285,9,FALSE)),\"\",VLOOKUP(C255,Master!BQ$60:CC$285,9,FALSE))","v":""},0,0,0,0,0,0,"","","","","","",0,0,"",0,0,0,0,0,0,0,null,null,0,0,0,0,0,0,0,0,0,0,0,0,0,0,0,0,null,null,0,0,1,0,0,0,1,0,1,0,0,"",null,{"$f":"IF(I255=\"\",\"\",MAX($CC$228:$CC$235,$CC$238:CC254)+1)","v":""}]
["",2202,19,{"$f":"IF(ISNA(VLOOKUP(C256,Master!BQ$60:CC$285,3,FALSE)),\"\",VLOOKUP(C256,Master!BQ$60:CC$285,3,FALSE))","v":""},{"$f":"IF(ISNA(VLOOKUP(C256,Master!BQ$60:CC$285,7,FALSE)),\"\",VLOOKUP(C256,Master!BQ$60:CC$285,7,FALSE))","v":""},{"$f":"IF(ISNA(VLOOKUP(C256,Master!BQ$60:CC$285,8,FALSE)),\"\",VLOOKUP(C256,Master!BQ$60:CC$285,8,FALSE))","v":""},{"$f":"IF(ISNA(VLOOKUP(C256,Master!BQ$60:CC$285,4,FALSE)),\"\",VLOOKUP(C256,Master!BQ$60:CC$285,4,FALSE))","v":""},{"$f":"IF(ISNA(VLOOKUP(C256,Master!BQ$60:CC$285,5,FALSE)),\"\",VLOOKUP(C256,Master!BQ$60:CC$285,5,FALSE))","v":""},{"$f":"IF(ISNA(VLOOKUP(C256,Master!BQ$60:CC$285,6,FALSE)),\"\",VLOOKUP(C256,Master!BQ$60:CC$285,6,FALSE))","v":""},"","","","","","",{"$nulls":3},0,null,{"$f":"IF(ISNA(VLOOKUP(C256,Master!BQ$60:CC$285,10,FALSE)),\"\",VLOOKUP(C256,Master!BQ$60:CC$285,10,FALSE))","v":""},null,null,{"$f":"IF(ISNA(VLOOKUP(C256,Master!BQ$60:CC$285,11,FALSE)),\"\",VLOOKUP(C256,Master!BQ$60:CC$285,11,FALSE))","v":""},{"$f":"IF(ISNA(VLOOKUP(C256,Master!BQ$60:CC$285,9,FALSE)),\"\",VLOOKUP(C256,Master!BQ$60:CC$285,9,FALSE))","v":""},0,0,0,0,0,0,"","","","","","",0,0,"",0,0,0,0,0,0,0,null,null,0,0,0,0,0,0,0,0,0,0,0,0,0,0,0,0,null,null,0,0,1,0,0,0,1,0,1,0,0,"",null,{"$f":"IF(I256=\"\",\"\",MAX($CC$228:$CC$235,$CC$238:CC255)+1)","v":""}]
["",2202,20,{"$f":"IF(ISNA(VLOOKUP(C257,Master!BQ$60:CC$285,3,FALSE)),\"\",VLOOKUP(C257,Master!BQ$60:CC$285,3,FALSE))","v":""},{"$f":"IF(ISNA(VLOOKUP(C257,Master!BQ$60:CC$285,7,FALSE)),\"\",VLOOKUP(C257,Master!BQ$60:CC$285,7,FALSE))","v":""},{"$f":"IF(ISNA(VLOOKUP(C257,Master!BQ$60:CC$285,8,FALSE)),\"\",VLOOKUP(C257,Master!BQ$60:CC$285,8,FALSE))","v":""},{"$f":"IF(ISNA(VLOOKUP(C257,Master!BQ$60:CC$285,4,FALSE)),\"\",VLOOKUP(C257,Master!BQ$60:CC$285,4,FALSE))","v":""},{"$f":"IF(ISNA(VLOOKUP(C257,Master!BQ$60:CC$285,5,FALSE)),\"\",VLOOKUP(C257,Master!BQ$60:CC$285,5,FALSE))","v":""},{"$f":"IF(ISNA(VLOOKUP(C257,Master!BQ$60:CC$285,6,FALSE)),\"\",VLOOKUP(C257,Master!BQ$60:CC$285,6,FALSE))","v":""},"","","","","","",{"$nulls":3},0,null,{"$f":"IF(ISNA(VLOOKUP(C257,Master!BQ$60:CC$285,10,FALSE)),\"\",VLOOKUP(C257,Master!BQ$60:CC$285,10,FALSE))","v":""},null,null,{"$f":"IF(ISNA(VLOOKUP(C257,Master!BQ$60:CC$285,11,FALSE)),\"\",VLOOKUP(C257,Master!BQ$60:CC$285,11,FALSE))","v":""},{"$f":"IF(ISNA(VLOOKUP(C257,Master!BQ$60:CC$285,9,FALSE)),\"\",VLOOKUP(C257,Master!BQ$60:CC$285,9,FALSE))","v":""},0,0,0,0,0,0,"","","","","","",0,0,"",0,0,0,0,0,0,0,null,null,0,0,0,0,0,0,0,0,0,0,0,0,0,0,0,0,null,null,0,0,1,0,0,0,1,0,1,0,0,"",null,{"$f":"IF(I257=\"\",\"\",MAX($CC$228:$CC$235,$CC$238:CC256)+1)","v":""}]
["",2202,21,{"$f":"IF(ISNA(VLOOKUP(C258,Master!BQ$60:CC$285,3,FALSE)),\"\",VLOOKUP(C258,Master!BQ$60:CC$285,3,FALSE))","v":""},{"$f":"IF(ISNA(VLOOKUP(C258,Master!BQ$60:CC$285,7,FALSE)),\"\",VLOOKUP(C258,Master!BQ$60:CC$285,7,FALSE))","v":""},{"$f":"IF(ISNA(VLOOKUP(C258,Master!BQ$60:CC$285,8,FALSE)),\"\",VLOOKUP(C258,Master!BQ$60:CC$285,8,FALSE))","v":""},{"$f":"IF(ISNA(VLOOKUP(C258,Master!BQ$60:CC$285,4,FALSE)),\"\",VLOOKUP(C258,Master!BQ$60:CC$285,4,FALSE))","v":""},{"$f":"IF(ISNA(VLOOKUP(C258,Master!BQ$60:CC$285,5,FALSE)),\"\",VLOOKUP(C258,Master!BQ$60:CC$285,5,FALSE))","v":""},{"$f":"IF(ISNA(VLOOKUP(C258,Master!BQ$60:CC$285,6,FALSE)),\"\",VLOOKUP(C258,Master!BQ$60:CC$285,6,FALSE))","v":""},"","","","","","",{"$nulls":3},0,null,{"$f":"IF(ISNA(VLOOKUP(C258,Master!BQ$60:CC$285,10,FALSE)),\"\",VLOOKUP(C258,Master!BQ$60:CC$285,10,FALSE))","v":""},null,null,{"$f":"IF(ISNA(VLOOKUP(C258,Master!BQ$60:CC$285,11,FALSE)),\"\",VLOOKUP(C258,Master!BQ$60:CC$285,11,FALSE))","v":""},{"$f":"IF(ISNA(VLOOKUP(C258,Master!BQ$60:CC$285,9,FALSE)),\"\",VLOOKUP(C258,Master!BQ$60:CC$285,9,FALSE))","v":""},0,0,0,0,0,0,"","","","","","",0,0,"",0,0,0,0,0,0,0,null,null,0,0,0,0,0,0,0,0,0,0,0,0,0,0,0,0,null,null,0,0,1,0,0,0,1,0,1,0,0,"",null,{"$f":"IF(I258=\"\",\"\",MAX($CC$228:$CC$235,$CC$238:CC257)+1)","v":""}]
["",2202,22,{"$f":"IF(ISNA(VLOOKUP(C259,Master!BQ$60:CC$285,3,FALSE)),\"\",VLOOKUP(C259,Master!BQ$60:CC$285,3,FALSE))","v":""},{"$f":"IF(ISNA(VLOOKUP(C259,Master!BQ$60:CC$285,7,FALSE)),\"\",VLOOKUP(C259,Master!BQ$60:CC$285,7,FALSE))","v":""},{"$f":"IF(ISNA(VLOOKUP(C259,Master!BQ$60:CC$285,8,FALSE)),\"\",VLOOKUP(C259,Master!BQ$60:CC$285,8,FALSE))","v":""},{"$f":"IF(ISNA(VLOOKUP(C259,Master!BQ$60:CC$285,4,FALSE)),\"\",VLOOKUP(C259,Master!BQ$60:CC$285,4,FALSE))","v":""},{"$f":"IF(ISNA(VLOOKUP(C259,Master!BQ$60:CC$285,5,FALSE)),\"\",VLOOKUP(C259,Master!BQ$60:CC$285,5,FALSE))","v":""},{"$f":"IF(ISNA(VLOOKUP(C259,Master!BQ$60:CC$285,6,FALSE)),\"\",VLOOKUP(C259,Master!BQ$60:CC$285,6,FALSE))","v":""},"","","","","","",{"$nulls":3},0,null,{"$f":"IF(ISNA(VLOOKUP(C259,Master!BQ$60:CC$285,10,FALSE)),\"\",VLOOKUP(C259,Master!BQ$60:CC$285,10,FALSE))","v":""},null,null,{"$f":"IF(ISNA(VLOOKUP(C259,Master!BQ$60:CC$285,11,FALSE)),\"\",VLOOKUP(C259,Master!BQ$60:CC$285,11,FALSE))","v":""},{"$f":"IF(ISNA(VLOOKUP(C259,Master!BQ$60:CC$285,9,FALSE)),\"\",VLOOKUP(C259,Master!BQ$60:CC$285,9,FALSE))","v":""},0,0,0,0,0,0,"","","","","","",0,0,"",0,0,0,0,0,0,0,null,null,0,0,0,0,0,0,0,0,0,0,0,0,0,0,0,0,null,null,0,0,1,0,0,0,1,0,1,0,0,"",null,{"$f":"IF(I259=\"\",\"\",MAX($CC$228:$CC$235,$CC$238:CC258)+1)","v":""}]
["",2202,23,{"$f":"IF(ISNA(VLOOKUP(C260,Master!BQ$60:CC$285,3,FALSE)),\"\",VLOOKUP(C260,Master!BQ$60:CC$285,3,FALSE))","v":""},{"$f":"IF(ISNA(VLOOKUP(C260,Master!BQ$60:CC$285,7,FALSE)),\"\",VLOOKUP(C260,Master!BQ$60:CC$285,7,FALSE))","v":""},{"$f":"IF(ISNA(VLOOKUP(C260,Master!BQ$60:CC$285,8,FALSE)),\"\",VLOOKUP(C260,Master!BQ$60:CC$285,8,FALSE))","v":""},{"$f":"IF(ISNA(VLOOKUP(C260,Master!BQ$60:CC$285,4,FALSE)),\"\",VLOOKUP(C260,Master!BQ$60:CC$285,4,FALSE))","v":""},{"$f":"IF(ISNA(VLOOKUP(C260,Master!BQ$60:CC$285,5,FALSE)),\"\",VLOOKUP(C260,Master!BQ$60:CC$285,5,FALSE))","v":""},{"$f":"IF(ISNA(VLOOKUP(C260,Master!BQ$60:CC$285,6,FALSE)),\"\",VLOOKUP(C260,Master!BQ$60:CC$285,6,FALSE))","v":""},"","","","","","",{"$nulls":3},0,null,{"$f":"IF(ISNA(VLOOKUP(C260,Master!BQ$60:CC$285,10,FALSE)),\"\",VLOOKUP(C260,Master!BQ$60:CC$285,10,FALSE))","v":""},null,null,{"$f":"IF(ISNA(VLOOKUP(C260,Master!BQ$60:CC$285,11,FALSE)),\"\",VLOOKUP(C260,Master!BQ$60:CC$285,11,FALSE))","v":""},{"$f":"IF(ISNA(VLOOKUP(C260,Master!BQ$60:CC$285,9,FALSE)),\"\",VLOOKUP(C260,Master!BQ$60:CC$285,9,FALSE))","v":""},0,0,0,0,0,0,"","","","","","",0,0,"",0,0,0,0,0,0,0,null,null,0,0,0,0,0,0,0,0,0,0,0,0,0,0,0,0,null,null,0,0,1,0,0,0,1,0,1,0,0,"",null,{"$f":"IF(I260=\"\",\"\",MAX($CC$228:$CC$235,$CC$238:CC259)+1)","v":""}]
["",2202,24,{"$f":"IF(ISNA(VLOOKUP(C261,Master!BQ$60:CC$285,3,FALSE)),\"\",VLOOKUP(C261,Master!BQ$60:CC$285,3,FALSE))","v":""},{"$f":"IF(ISNA(VLOOKUP(C261,Master!BQ$60:CC$285,7,FALSE)),\"\",VLOOKUP(C261,Master!BQ$60:CC$285,7,FALSE))","v":""},{"$f":"IF(ISNA(VLOOKUP(C261,Master!BQ$60:CC$285,8,FALSE)),\"\",VLOOKUP(C261,Master!BQ$60:CC$285,8,FALSE))","v":""},{"$f":"IF(ISNA(VLOOKUP(C261,Master!BQ$60:CC$285,4,FALSE)),\"\",VLOOKUP(C261,Master!BQ$60:CC$285,4,FALSE))","v":""},{"$f":"IF(ISNA(VLOOKUP(C261,Master!BQ$60:CC$285,5,FALSE)),\"\",VLOOKUP(C261,Master!BQ$60:CC$285,5,FALSE))","v":""},{"$f":"IF(ISNA(VLOOKUP(C261,Master!BQ$60:CC$285,6,FALSE)),\"\",VLOOKUP(C261,Master!BQ$60:CC$285,6,FALSE))","v":""},"","","","","","",{"$nulls":3},0,null,{"$f":"IF(ISNA(VLOOKUP(C261,Master!BQ$60:CC$285,10,FALSE)),\"\",VLOOKUP(C261,Master!BQ$60:CC$285,10,FALSE))","v":""},null,null,{"$f":"IF(ISNA(VLOOKUP(C261,Master!BQ$60:CC$285,11,FALSE)),\"\",VLOOKUP(C261,Master!BQ$60:CC$285,11,FALSE))","v":""},{"$f":"IF(ISNA(VLOOKUP(C261,Master!BQ$60:CC$285,9,FALSE)),\"\",VLOOKUP(C261,Master!BQ$60:CC$285,9,FALSE))","v":""},0,0,0,0,0,0,"","","","","","",0,0,"",0,0,0,0,0,0,0,null,null,0,0,0,0,0,0,0,0,0,0,0,0,0,0,0,0,null,null,0,0,1,0,0,0,1,0,1,0,0,"",null,{"$f":"IF(I261=\"\",\"\",MAX($CC$228:$CC$235,$CC$238:CC260)+1)","v":""}]
["",2202,25,{"$f":"IF(ISNA(VLOOKUP(C262,Master!BQ$60:CC$285,3,FALSE)),\"\",VLOOKUP(C262,Master!BQ$60:CC$285,3,FALSE))","v":""},{"$f":"IF(ISNA(VLOOKUP(C262,Master!BQ$60:CC$285,7,FALSE)),\"\",VLOOKUP(C262,Master!BQ$60:CC$285,7,FALSE))","v":""},{"$f":"IF(ISNA(VLOOKUP(C262,Master!BQ$60:CC$285,8,FALSE)),\"\",VLOOKUP(C262,Master!BQ$60:CC$285,8,FALSE))","v":""},{"$f":"IF(ISNA(VLOOKUP(C262,Master!BQ$60:CC$285,4,FALSE)),\"\",VLOOKUP(C262,Master!BQ$60:CC$285,4,FALSE))","v":""},{"$f":"IF(ISNA(VLOOKUP(C262,Master!BQ$60:CC$285,5,FALSE)),\"\",VLOOKUP(C262,Master!BQ$60:CC$285,5,FALSE))","v":""},{"$f":"IF(ISNA(VLOOKUP(C262,Master!BQ$60:CC$285,6,FALSE)),\"\",VLOOKUP(C262,Master!BQ$60:CC$285,6,FALSE))","v":""},"","","","","","",{"$nulls":3},0,null,{"$f":"IF(ISNA(VLOOKUP(C262,Master!BQ$60:CC$285,10,FALSE)),\"\",VLOOKUP(C262,Master!BQ$60:CC$285,10,FALSE))","v":""},null,null,{"$f":"IF(ISNA(VLOOKUP(C262,Master!BQ$60:CC$285,11,FALSE)),\"\",VLOOKUP(C262,Master!BQ$60:CC$285,11,FALSE))","v":""},{"$f":"IF(ISNA(VLOOKUP(C262,Master!BQ$60:CC$285,9,FALSE)),\"\",VLOOKUP(C262,Master!BQ$60:CC$285,9,FALSE))","v":""},0,0,0,0,0,0,"","","","","","",0,0,"",0,0,0,0,0,0,0,null,null,0,0,0,0,0,0,0,0,0,0,0,0,0,0,0,0,null,null,0,0,1,0,0,0,1,0,1,0,0,"",null,{"$f":"IF(I262=\"\",\"\",MAX($CC$228:$CC$235,$CC$238:CC261)+1)","v":""}]
["",2202,26,{"$f":"IF(ISNA(VLOOKUP(C263,Master!BQ$60:CC$285,3,FALSE)),\"\",VLOOKUP(C263,Master!BQ$60:CC$285,3,FALSE))","v":""},{"$f":"IF(ISNA(VLOOKUP(C263,Master!BQ$60:CC$285,7,FALSE)),\"\",VLOOKUP(C263,Master!BQ$60:CC$285,7,FALSE))","v":""},{"$f":"IF(ISNA(VLOOKUP(C263,Master!BQ$60:CC$285,8,FALSE)),\"\",VLOOKUP(C263,Master!BQ$60:CC$285,8,FALSE))","v":""},{"$f":"IF(ISNA(VLOOKUP(C263,Master!BQ$60:CC$285,4,FALSE)),\"\",VLOOKUP(C263,Master!BQ$60:CC$285,4,FALSE))","v":""},{"$f":"IF(ISNA(VLOOKUP(C263,Master!BQ$60:CC$285,5,FALSE)),\"\",VLOOKUP(C263,Master!BQ$60:CC$285,5,FALSE))","v":""},{"$f":"IF(ISNA(VLOOKUP(C263,Master!BQ$60:CC$285,6,FALSE)),\"\",VLOOKUP(C263,Master!BQ$60:CC$285,6,FALSE))","v":""},"","","","","","",{"$nulls":3},0,null,{"$f":"IF(ISNA(VLOOKUP(C263,Master!BQ$60:CC$285,10,FALSE)),\"\",VLOOKUP(C263,Master!BQ$60:CC$285,10,FALSE))","v":""},null,null,{"$f":"IF(ISNA(VLOOKUP(C263,Master!BQ$60:CC$285,11,FALSE)),\"\",VLOOKUP(C263,Master!BQ$60:CC$285,11,FALSE))","v":""},{"$f":"IF(ISNA(VLOOKUP(C263,Master!BQ$60:CC$285,9,FALSE)),\"\",VLOOKUP(C263,Master!BQ$60:CC$285,9,FALSE))","v":""},0,0,0,0,0,0,"","","","","","",0,0,"",0,0,0,0,0,0,0,null,null,0,0,0,0,0,0,0,0,0,0,0,0,0,0,0,0,null,null,0,0,1,0,0,0,1,0,1,0,0,"",null,{"$f":"IF(I263=\"\",\"\",MAX($CC$228:$CC$235,$CC$238:CC262)+1)","v":""}]
["",2202,27,{"$f":"IF(ISNA(VLOOKUP(C264,Master!BQ$60:CC$285,3,FALSE)),\"\",VLOOKUP(C264,Master!BQ$60:CC$285,3,FALSE))","v":""},{"$f":"IF(ISNA(VLOOKUP(C264,Master!BQ$60:CC$285,7,FALSE)),\"\",VLOOKUP(C264,Master!BQ$60:CC$285,7,FALSE))","v":""},{"$f":"IF(ISNA(VLOOKUP(C264,Master!BQ$60:CC$285,8,FALSE)),\"\",VLOOKUP(C264,Master!BQ$60:CC$285,8,FALSE))","v":""},{"$f":"IF(ISNA(VLOOKUP(C264,Master!BQ$60:CC$285,4,FALSE)),\"\",VLOOKUP(C264,Master!BQ$60:CC$285,4,FALSE))","v":""},{"$f":"IF(ISNA(VLOOKUP(C264,Master!BQ$60:CC$285,5,FALSE)),\"\",VLOOKUP(C264,Master!BQ$60:CC$285,5,FALSE))","v":""},{"$f":"IF(ISNA(VLOOKUP(C264,Master!BQ$60:CC$285,6,FALSE)),\"\",VLOOKUP(C264,Master!BQ$60:CC$285,6,FALSE))","v":""},"","","","","","",{"$nulls":3},0,null,{"$f":"IF(ISNA(VLOOKUP(C264,Master!BQ$60:CC$285,10,FALSE)),\"\",VLOOKUP(C264,Master!BQ$60:CC$285,10,FALSE))","v":""},null,null,{"$f":"IF(ISNA(VLOOKUP(C264,Master!BQ$60:CC$285,11,FALSE)),\"\",VLOOKUP(C264,Master!BQ$60:CC$285,11,FALSE))","v":""},{"$f":"IF(ISNA(VLOOKUP(C264,Master!BQ$60:CC$285,9,FALSE)),\"\",VLOOKUP(C264,Master!BQ$60:CC$285,9,FALSE))","v":""},0,0,0,0,0,0,"","","","","","",0,0,"",0,0,0,0,0,0,0,null,null,0,0,0,0,0,0,0,0,0,0,0,0,0,0,0,0,null,null,0,0,1,0,0,0,1,0,1,0,0,"",null,{"$f":"IF(I264=\"\",\"\",MAX($CC$228:$CC$235,$CC$238:CC263)+1)","v":""}]
["",2202,28,{"$f":"IF(ISNA(VLOOKUP(C265,Master!BQ$60:CC$285,3,FALSE)),\"\",VLOOKUP(C265,Master!BQ$60:CC$285,3,FALSE))","v":""},{"$f":"IF(ISNA(VLOOKUP(C265,Master!BQ$60:CC$285,7,FALSE)),\"\",VLOOKUP(C265,Master!BQ$60:CC$285,7,FALSE))","v":""},{"$f":"IF(ISNA(VLOOKUP(C265,Master!BQ$60:CC$285,8,FALSE)),\"\",VLOOKUP(C265,Master!BQ$60:CC$285,8,FALSE))","v":""},{"$f":"IF(ISNA(VLOOKUP(C265,Master!BQ$60:CC$285,4,FALSE)),\"\",VLOOKUP(C265,Master!BQ$60:CC$285,4,FALSE))","v":""},{"$f":"IF(ISNA(VLOOKUP(C265,Master!BQ$60:CC$285,5,FALSE)),\"\",VLOOKUP(C265,Master!BQ$60:CC$285,5,FALSE))","v":""},{"$f":"IF(ISNA(VLOOKUP(C265,Master!BQ$60:CC$285,6,FALSE)),\"\",VLOOKUP(C265,Master!BQ$60:CC$285,6,FALSE))","v":""},"","","","","","",{"$nulls":3},0,null,{"$f":"IF(ISNA(VLOOKUP(C265,Master!BQ$60:CC$285,10,FALSE)),\"\",VLOOKUP(C265,Master!BQ$60:CC$285,10,FALSE))","v":""},null,null,{"$f":"IF(ISNA(VLOOKUP(C265,Master!BQ$60:CC$285,11,FALSE)),\"\",VLOOKUP(C265,Master!BQ$60:CC$285,11,FALSE))","v":""},{"$f":"IF(ISNA(VLOOKUP(C265,Master!BQ$60:CC$285,9,FALSE)),\"\",VLOOKUP(C265,Master!BQ$60:CC$285,9,FALSE))","v":""},0,0,0,0,0,0,"","","","","","",0,0,"",0,0,0,0,0,0,0,null,null,0,0,0,0,0,0,0,0,0,0,0,0,0,0,0,0,null,null,0,0,1,0,0,0,1,0,1,0,0,"",null,{"$f":"IF(I265=\"\",\"\",MAX($CC$228:$CC$235,$CC$238:CC264)+1)","v":""}]
["",2202,29,{"$f":"IF(ISNA(VLOOKUP(C266,Master!BQ$60:CC$285,3,FALSE)),\"\",VLOOKUP(C266,Master!BQ$60:CC$285,3,FALSE))","v":""},{"$f":"IF(ISNA(VLOOKUP(C266,Master!BQ$60:CC$285,7,FALSE)),\"\",VLOOKUP(C266,Master!BQ$60:CC$285,7,FALSE))","v":""},{"$f":"IF(ISNA(VLOOKUP(C266,Master!BQ$60:CC$285,8,FALSE)),\"\",VLOOKUP(C266,Master!BQ$60:CC$285,8,FALSE))","v":""},{"$f":"IF(ISNA(VLOOKUP(C266,Master!BQ$60:CC$285,4,FALSE)),\"\",VLOOKUP(C266,Master!BQ$60:CC$285,4,FALSE))","v":""},{"$f":"IF(ISNA(VLOOKUP(C266,Master!BQ$60:CC$285,5,FALSE)),\"\",VLOOKUP(C266,Master!BQ$60:CC$285,5,FALSE))","v":""},{"$f":"IF(ISNA(VLOOKUP(C266,Master!BQ$60:CC$285,6,FALSE)),\"\",VLOOKUP(C266,Master!BQ$60:CC$285,6,FALSE))","v":""},"","","","","","",{"$nulls":3},0,null,{"$f":"IF(ISNA(VLOOKUP(C266,Master!BQ$60:CC$285,10,FALSE)),\"\",VLOOKUP(C266,Master!BQ$60:CC$285,10,FALSE))","v":""},null,null,{"$f":"IF(ISNA(VLOOKUP(C266,Master!BQ$60:CC$285,11,FALSE)),\"\",VLOOKUP(C266,Master!BQ$60:CC$285,11,FALSE))","v":""},{"$f":"IF(ISNA(VLOOKUP(C266,Master!BQ$60:CC$285,9,FALSE)),\"\",VLOOKUP(C266,Master!BQ$60:CC$285,9,FALSE))","v":""},0,0,0,0,0,0,"","","","","","",0,0,"",0,0,0,0,0,0,0,null,null,0,0,0,0,0,0,0,0,0,0,0,0,0,0,0,0,null,null,0,0,1,0,0,0,1,0,1,0,0,"",null,{"$f":"IF(I266=\"\",\"\",MAX($CC$228:$CC$235,$CC$238:CC265)+1)","v":""}]
["",2202,30,{"$f":"IF(ISNA(VLOOKUP(C267,Master!BQ$60:CC$285,3,FALSE)),\"\",VLOOKUP(C267,Master!BQ$60:CC$285,3,FALSE))","v":""},{"$f":"IF(ISNA(VLOOKUP(C267,Master!BQ$60:CC$285,7,FALSE)),\"\",VLOOKUP(C267,Master!BQ$60:CC$285,7,FALSE))","v":""},{"$f":"IF(ISNA(VLOOKUP(C267,Master!BQ$60:CC$285,8,FALSE)),\"\",VLOOKUP(C267,Master!BQ$60:CC$285,8,FALSE))","v":""},{"$f":"IF(ISNA(VLOOKUP(C267,Master!BQ$60:CC$285,4,FALSE)),\"\",VLOOKUP(C267,Master!BQ$60:CC$285,4,FALSE))","v":""},{"$f":"IF(ISNA(VLOOKUP(C267,Master!BQ$60:CC$285,5,FALSE)),\"\",VLOOKUP(C267,Master!BQ$60:CC$285,5,FALSE))","v":""},{"$f":"IF(ISNA(VLOOKUP(C267,Master!BQ$60:CC$285,6,FALSE)),\"\",VLOOKUP(C267,Master!BQ$60:CC$285,6,FALSE))","v":""},"","","","","","",{"$nulls":3},0,null,{"$f":"IF(ISNA(VLOOKUP(C267,Master!BQ$60:CC$285,10,FALSE)),\"\",VLOOKUP(C267,Master!BQ$60:CC$285,10,FALSE))","v":""},null,null,{"$f":"IF(ISNA(VLOOKUP(C267,Master!BQ$60:CC$285,11,FALSE)),\"\",VLOOKUP(C267,Master!BQ$60:CC$285,11,FALSE))","v":""},{"$f":"IF(ISNA(VLOOKUP(C267,Master!BQ$60:CC$285,9,FALSE)),\"\",VLOOKUP(C267,Master!BQ$60:CC$285,9,FALSE))","v":""},0,0,0,0,0,0,"","","","","","",0,0,"",0,0,0,0,0,0,0,null,null,0,0,0,0,0,0,0,0,0,0,0,0,0,0,0,0,null,null,0,0,1,0,0,0,1,0,1,0,0,"",null,{"$f":"IF(I267=\"\",\"\",MAX($CC$228:$CC$235,$CC$238:CC266)+1)","v":""}]
["",2202,31,{"$f":"IF(ISNA(VLOOKUP(C268,Master!BQ$60:CC$285,3,FALSE)),\"\",VLOOKUP(C268,Master!BQ$60:CC$285,3,FALSE))","v":""},{"$f":"IF(ISNA(VLOOKUP(C268,Master!BQ$60:CC$285,7,FALSE)),\"\",VLOOKUP(C268,Master!BQ$60:CC$285,7,FALSE))","v":""},{"$f":"IF(ISNA(VLOOKUP(C268,Master!BQ$60:CC$285,8,FALSE)),\"\",VLOOKUP(C268,Master!BQ$60:CC$285,8,FALSE))","v":""},{"$f":"IF(ISNA(VLOOKUP(C268,Master!BQ$60:CC$285,4,FALSE)),\"\",VLOOKUP(C268,Master!BQ$60:CC$285,4,FALSE))","v":""},{"$f":"IF(ISNA(VLOOKUP(C268,Master!BQ$60:CC$285,5,FALSE)),\"\",VLOOKUP(C268,Master!BQ$60:CC$285,5,FALSE))","v":""},{"$f":"IF(ISNA(VLOOKUP(C268,Master!BQ$60:CC$285,6,FALSE)),\"\",VLOOKUP(C268,Master!BQ$60:CC$285,6,FALSE))","v":""},"","","","","","",{"$nulls":3},0,null,{"$f":"IF(ISNA(VLOOKUP(C268,Master!BQ$60:CC$285,10,FALSE)),\"\",VLOOKUP(C268,Master!BQ$60:CC$285,10,FALSE))","v":""},null,null,{"$f":"IF(ISNA(VLOOKUP(C268,Master!BQ$60:CC$285,11,FALSE)),\"\",VLOOKUP(C268,Master!BQ$60:CC$285,11,FALSE))","v":""},{"$f":"IF(ISNA(VLOOKUP(C268,Master!BQ$60:CC$285,9,FALSE)),\"\",VLOOKUP(C268,Master!BQ$60:CC$285,9,FALSE))","v":""},0,0,0,0,0,0,"","","","","","",0,0,"",0,0,0,0,0,0,0,null,null,0,0,0,0,0,0,0,0,0,0,0,0,0,0,0,0,null,null,0,0,1,0,0,0,1,0,1,0,0,"",null,{"$f":"IF(I268=\"\",\"\",MAX($CC$228:$CC$235,$CC$238:CC267)+1)","v":""}]
["",2202,32,{"$f":"IF(ISNA(VLOOKUP(C269,Master!BQ$60:CC$285,3,FALSE)),\"\",VLOOKUP(C269,Master!BQ$60:CC$285,3,FALSE))","v":""},{"$f":"IF(ISNA(VLOOKUP(C269,Master!BQ$60:CC$285,7,FALSE)),\"\",VLOOKUP(C269,Master!BQ$60:CC$285,7,FALSE))","v":""},{"$f":"IF(ISNA(VLOOKUP(C269,Master!BQ$60:CC$285,8,FALSE)),\"\",VLOOKUP(C269,Master!BQ$60:CC$285,8,FALSE))","v":""},{"$f":"IF(ISNA(VLOOKUP(C269,Master!BQ$60:CC$285,4,FALSE)),\"\",VLOOKUP(C269,Master!BQ$60:CC$285,4,FALSE))","v":""},{"$f":"IF(ISNA(VLOOKUP(C269,Master!BQ$60:CC$285,5,FALSE)),\"\",VLOOKUP(C269,Master!BQ$60:CC$285,5,FALSE))","v":""},{"$f":"IF(ISNA(VLOOKUP(C269,Master!BQ$60:CC$285,6,FALSE)),\"\",VLOOKUP(C269,Master!BQ$60:CC$285,6,FALSE))","v":""},"","","","","","",{"$nulls":3},0,null,{"$f":"IF(ISNA(VLOOKUP(C269,Master!BQ$60:CC$285,10,FALSE)),\"\",VLOOKUP(C269,Master!BQ$60:CC$285,10,FALSE))","v":""},null,null,{"$f":"IF(ISNA(VLOOKUP(C269,Master!BQ$60:CC$285,11,FALSE)),\"\",VLOOKUP(C269,Master!BQ$60:CC$285,11,FALSE))","v":""},{"$f":"IF(ISNA(VLOOKUP(C269,Master!BQ$60:CC$285,9,FALSE)),\"\",VLOOKUP(C269,Master!BQ$60:CC$285,9,FALSE))","v":""},0,0,0,0,0,0,"","","","","","",0,0,"",0,0,0,0,{"$f":"(IF(G269=\"LAB BOY\",180,IF(G269=\"JAMADAR\",180,IF(G269=\"PEON\",180,0))))*12*BU269*(IF(I269<=0,0,1))","v":0},0,0,null,null,0,0,0,0,0,0,0,0,0,0,0,0,0,0,0,0,null,null,0,0,1,0,0,0,1,0,1,0,0,"",null,{"$f":"IF(I269=\"\",\"\",MAX($CC$228:$CC$235,$CC$238:CC268)+1)","v":""}]
["",2202,33,{"$f":"IF(ISNA(VLOOKUP(C270,Master!BQ$60:CC$285,3,FALSE)),\"\",VLOOKUP(C270,Master!BQ$60:CC$285,3,FALSE))","v":""},{"$f":"IF(ISNA(VLOOKUP(C270,Master!BQ$60:CC$285,7,FALSE)),\"\",VLOOKUP(C270,Master!BQ$60:CC$285,7,FALSE))","v":""},{"$f":"IF(ISNA(VLOOKUP(C270,Master!BQ$60:CC$285,8,FALSE)),\"\",VLOOKUP(C270,Master!BQ$60:CC$285,8,FALSE))","v":""},{"$f":"IF(ISNA(VLOOKUP(C270,Master!BQ$60:CC$285,4,FALSE)),\"\",VLOOKUP(C270,Master!BQ$60:CC$285,4,FALSE))","v":""},{"$f":"IF(ISNA(VLOOKUP(C270,Master!BQ$60:CC$285,5,FALSE)),\"\",VLOOKUP(C270,Master!BQ$60:CC$285,5,FALSE))","v":""},{"$f":"IF(ISNA(VLOOKUP(C270,Master!BQ$60:CC$285,6,FALSE)),\"\",VLOOKUP(C270,Master!BQ$60:CC$285,6,FALSE))","v":""},"","","","","","",{"$nulls":3},0,null,{"$f":"IF(ISNA(VLOOKUP(C270,Master!BQ$60:CC$285,10,FALSE)),\"\",VLOOKUP(C270,Master!BQ$60:CC$285,10,FALSE))","v":""},null,null,{"$f":"IF(ISNA(VLOOKUP(C270,Master!BQ$60:CC$285,11,FALSE)),\"\",VLOOKUP(C270,Master!BQ$60:CC$285,11,FALSE))","v":""},{"$f":"IF(ISNA(VLOOKUP(C270,Master!BQ$60:CC$285,9,FALSE)),\"\",VLOOKUP(C270,Master!BQ$60:CC$285,9,FALSE))","v":""},0,0,0,0,0,0,"","","","","","",0,0,"",0,0,0,0,0,0,0,null,null,0,0,0,0,0,0,0,0,0,0,0,0,0,0,0,0,null,null,0,0,1,0,0,0,1,{"$f":"IF((ROUND((SUMPRODUCT(MID(0&E270,LARGE(INDEX(ISNUMBER(--MID(E270,ROW($1:$25),1))* ROW($1:$25),0),ROW($1:$25))+1,1)*10^ROW($1:$25)/10)),-8)/100000000)>=2004,1,0)","v":0},1,0,0,{"$f":"IF(AND(E270=\"\"),\"\",IF(AND(E270<=0),\"\",IF((ROUND((SUMPRODUCT(MID(0&E270,LARGE(INDEX(ISNUMBER(--MID(E270,ROW($1:$70),1))* ROW($1:$70),0),ROW($1:$70))+1,1)*10^ROW($1:$70)/10)),-8)/100000000)<2004,1,0)))","v":""},null,{"$f":"IF(I270=\"\",\"\",MAX($CC$228:$CC$235,$CC$238:CC269)+1)","v":""}]
["",2202,34,{"$f":"IF(ISNA(VLOOKUP(C271,Master!BQ$60:CC$285,3,FALSE)),\"\",VLOOKUP(C271,Master!BQ$60:CC$285,3,FALSE))","v":""},{"$f":"IF(ISNA(VLOOKUP(C271,Master!BQ$60:CC$285,7,FALSE)),\"\",VLOOKUP(C271,Master!BQ$60:CC$285,7,FALSE))","v":""},{"$f":"IF(ISNA(VLOOKUP(C271,Master!BQ$60:CC$285,8,FALSE)),\"\",VLOOKUP(C271,Master!BQ$60:CC$285,8,FALSE))","v":""},{"$f":"IF(ISNA(VLOOKUP(C271,Master!BQ$60:CC$285,4,FALSE)),\"\",VLOOKUP(C271,Master!BQ$60:CC$285,4,FALSE))","v":""},{"$f":"IF(ISNA(VLOOKUP(C271,Master!BQ$60:CC$285,5,FALSE)),\"\",VLOOKUP(C271,Master!BQ$60:CC$285,5,FALSE))","v":""},{"$f":"IF(ISNA(VLOOKUP(C271,Master!BQ$60:CC$285,6,FALSE)),\"\",VLOOKUP(C271,Master!BQ$60:CC$285,6,FALSE))","v":""},"","","","","","",{"$nulls":3},0,null,{"$f":"IF(ISNA(VLOOKUP(C271,Master!BQ$60:CC$285,10,FALSE)),\"\",VLOOKUP(C271,Master!BQ$60:CC$285,10,FALSE))","v":""},null,null,{"$f":"IF(ISNA(VLOOKUP(C271,Master!BQ$60:CC$285,11,FALSE)),\"\",VLOOKUP(C271,Master!BQ$60:CC$285,11,FALSE))","v":""},{"$f":"IF(ISNA(VLOOKUP(C271,Master!BQ$60:CC$285,9,FALSE)),\"\",VLOOKUP(C271,Master!BQ$60:CC$285,9,FALSE))","v":""},0,0,0,0,0,0,"","","","","","",0,0,"",0,0,0,0,0,0,0,null,null,0,0,0,0,0,0,0,0,0,0,0,0,0,0,0,0,null,null,0,0,1,0,0,0,1,0,1,0,0,"",null,{"$f":"IF(I271=\"\",\"\",MAX($CC$228:$CC$235,$CC$238:CC270)+1)","v":""}]
["",2202,35,{"$f":"IF(ISNA(VLOOKUP(C272,Master!BQ$60:CC$285,3,FALSE)),\"\",VLOOKUP(C272,Master!BQ$60:CC$285,3,FALSE))","v":""},{"$f":"IF(ISNA(VLOOKUP(C272,Master!BQ$60:CC$285,7,FALSE)),\"\",VLOOKUP(C272,Master!BQ$60:CC$285,7,FALSE))","v":""},{"$f":"IF(ISNA(VLOOKUP(C272,Master!BQ$60:CC$285,8,FALSE)),\"\",VLOOKUP(C272,Master!BQ$60:CC$285,8,FALSE))","v":""},{"$f":"IF(ISNA(VLOOKUP(C272,Master!BQ$60:CC$285,4,FALSE)),\"\",VLOOKUP(C272,Master!BQ$60:CC$285,4,FALSE))","v":""},{"$f":"IF(ISNA(VLOOKUP(C272,Master!BQ$60:CC$285,5,FALSE)),\"\",VLOOKUP(C272,Master!BQ$60:CC$285,5,FALSE))","v":""},{"$f":"IF(ISNA(VLOOKUP(C272,Master!BQ$60:CC$285,6,FALSE)),\"\",VLOOKUP(C272,Master!BQ$60:CC$285,6,FALSE))","v":""},"","","","","","",{"$nulls":3},0,null,{"$f":"IF(ISNA(VLOOKUP(C272,Master!BQ$60:CC$285,10,FALSE)),\"\",VLOOKUP(C272,Master!BQ$60:CC$285,10,FALSE))","v":""},null,null,{"$f":"IF(ISNA(VLOOKUP(C272,Master!BQ$60:CC$285,11,FALSE)),\"\",VLOOKUP(C272,Master!BQ$60:CC$285,11,FALSE))","v":""},{"$f":"IF(ISNA(VLOOKUP(C272,Master!BQ$60:CC$285,9,FALSE)),\"\",VLOOKUP(C272,Master!BQ$60:CC$285,9,FALSE))","v":""},0,0,0,0,0,0,"","","","","","",0,0,"",0,0,0,0,0,0,0,null,null,0,0,0,0,0,0,0,0,0,0,0,0,0,0,0,0,null,null,0,0,1,0,0,0,1,0,1,0,0,"",null,{"$f":"IF(I272=\"\",\"\",MAX($CC$228:$CC$235,$CC$238:CC271)+1)","v":""}]
["",2202,36,{"$f":"IF(ISNA(VLOOKUP(C273,Master!BQ$60:CC$285,3,FALSE)),\"\",VLOOKUP(C273,Master!BQ$60:CC$285,3,FALSE))","v":""},{"$f":"IF(ISNA(VLOOKUP(C273,Master!BQ$60:CC$285,7,FALSE)),\"\",VLOOKUP(C273,Master!BQ$60:CC$285,7,FALSE))","v":""},{"$f":"IF(ISNA(VLOOKUP(C273,Master!BQ$60:CC$285,8,FALSE)),\"\",VLOOKUP(C273,Master!BQ$60:CC$285,8,FALSE))","v":""},{"$f":"IF(ISNA(VLOOKUP(C273,Master!BQ$60:CC$285,4,FALSE)),\"\",VLOOKUP(C273,Master!BQ$60:CC$285,4,FALSE))","v":""},{"$f":"IF(ISNA(VLOOKUP(C273,Master!BQ$60:CC$285,5,FALSE)),\"\",VLOOKUP(C273,Master!BQ$60:CC$285,5,FALSE))","v":""},{"$f":"IF(ISNA(VLOOKUP(C273,Master!BQ$60:CC$285,6,FALSE)),\"\",VLOOKUP(C273,Master!BQ$60:CC$285,6,FALSE))","v":""},"","","","","","",{"$nulls":3},0,null,{"$f":"IF(ISNA(VLOOKUP(C273,Master!BQ$60:CC$285,10,FALSE)),\"\",VLOOKUP(C273,Master!BQ$60:CC$285,10,FALSE))","v":""},null,null,{"$f":"IF(ISNA(VLOOKUP(C273,Master!BQ$60:CC$285,11,FALSE)),\"\",VLOOKUP(C273,Master!BQ$60:CC$285,11,FALSE))","v":""},{"$f":"IF(ISNA(VLOOKUP(C273,Master!BQ$60:CC$285,9,FALSE)),\"\",VLOOKUP(C273,Master!BQ$60:CC$285,9,FALSE))","v":""},0,0,0,0,0,0,"","","","","","",0,0,"",0,0,0,0,0,0,0,null,null,0,0,0,0,0,0,0,0,0,0,0,0,0,0,0,0,null,null,0,0,1,0,0,0,1,0,1,0,0,"",null,{"$f":"IF(I273=\"\",\"\",MAX($CC$228:$CC$235,$CC$238:CC272)+1)","v":""}]
["",2202,37,{"$f":"IF(ISNA(VLOOKUP(C274,Master!BQ$60:CC$285,3,FALSE)),\"\",VLOOKUP(C274,Master!BQ$60:CC$285,3,FALSE))","v":""},{"$f":"IF(ISNA(VLOOKUP(C274,Master!BQ$60:CC$285,7,FALSE)),\"\",VLOOKUP(C274,Master!BQ$60:CC$285,7,FALSE))","v":""},{"$f":"IF(ISNA(VLOOKUP(C274,Master!BQ$60:CC$285,8,FALSE)),\"\",VLOOKUP(C274,Master!BQ$60:CC$285,8,FALSE))","v":""},{"$f":"IF(ISNA(VLOOKUP(C274,Master!BQ$60:CC$285,4,FALSE)),\"\",VLOOKUP(C274,Master!BQ$60:CC$285,4,FALSE))","v":""},{"$f":"IF(ISNA(VLOOKUP(C274,Master!BQ$60:CC$285,5,FALSE)),\"\",VLOOKUP(C274,Master!BQ$60:CC$285,5,FALSE))","v":""},{"$f":"IF(ISNA(VLOOKUP(C274,Master!BQ$60:CC$285,6,FALSE)),\"\",VLOOKUP(C274,Master!BQ$60:CC$285,6,FALSE))","v":""},"","","","","","",{"$nulls":3},0,null,{"$f":"IF(ISNA(VLOOKUP(C274,Master!BQ$60:CC$285,10,FALSE)),\"\",VLOOKUP(C274,Master!BQ$60:CC$285,10,FALSE))","v":""},null,null,{"$f":"IF(ISNA(VLOOKUP(C274,Master!BQ$60:CC$285,11,FALSE)),\"\",VLOOKUP(C274,Master!BQ$60:CC$285,11,FALSE))","v":""},{"$f":"IF(ISNA(VLOOKUP(C274,Master!BQ$60:CC$285,9,FALSE)),\"\",VLOOKUP(C274,Master!BQ$60:CC$285,9,FALSE))","v":""},0,0,0,0,0,0,"","","","","","",0,0,"",0,0,0,0,0,0,0,null,null,0,0,0,0,0,0,0,0,0,0,0,0,0,0,0,0,null,null,0,0,1,0,0,0,1,0,1,0,0,"",null,{"$f":"IF(I274=\"\",\"\",MAX($CC$228:$CC$235,$CC$238:CC273)+1)","v":""}]
["",2202,38,{"$f":"IF(ISNA(VLOOKUP(C275,Master!BQ$60:CC$285,3,FALSE)),\"\",VLOOKUP(C275,Master!BQ$60:CC$285,3,FALSE))","v":""},{"$f":"IF(ISNA(VLOOKUP(C275,Master!BQ$60:CC$285,7,FALSE)),\"\",VLOOKUP(C275,Master!BQ$60:CC$285,7,FALSE))","v":""},{"$f":"IF(ISNA(VLOOKUP(C275,Master!BQ$60:CC$285,8,FALSE)),\"\",VLOOKUP(C275,Master!BQ$60:CC$285,8,FALSE))","v":""},{"$f":"IF(ISNA(VLOOKUP(C275,Master!BQ$60:CC$285,4,FALSE)),\"\",VLOOKUP(C275,Master!BQ$60:CC$285,4,FALSE))","v":""},{"$f":"IF(ISNA(VLOOKUP(C275,Master!BQ$60:CC$285,5,FALSE)),\"\",VLOOKUP(C275,Master!BQ$60:CC$285,5,FALSE))","v":""},{"$f":"IF(ISNA(VLOOKUP(C275,Master!BQ$60:CC$285,6,FALSE)),\"\",VLOOKUP(C275,Master!BQ$60:CC$285,6,FALSE))","v":""},"","","","","","",{"$nulls":3},0,null,{"$f":"IF(ISNA(VLOOKUP(C275,Master!BQ$60:CC$285,10,FALSE)),\"\",VLOOKUP(C275,Master!BQ$60:CC$285,10,FALSE))","v":""},null,null,{"$f":"IF(ISNA(VLOOKUP(C275,Master!BQ$60:CC$285,11,FALSE)),\"\",VLOOKUP(C275,Master!BQ$60:CC$285,11,FALSE))","v":""},{"$f":"IF(ISNA(VLOOKUP(C275,Master!BQ$60:CC$285,9,FALSE)),\"\",VLOOKUP(C275,Master!BQ$60:CC$285,9,FALSE))","v":""},0,0,0,0,0,0,"","","","","","",0,0,"",0,0,0,0,0,0,0,null,null,0,0,0,0,0,0,0,0,0,0,0,0,0,0,0,0,null,null,0,0,1,0,0,0,1,0,1,0,0,"",null,{"$f":"IF(I275=\"\",\"\",MAX($CC$228:$CC$235,$CC$238:CC274)+1)","v":""}]
["",2202,39,{"$f":"IF(ISNA(VLOOKUP(C276,Master!BQ$60:CC$285,3,FALSE)),\"\",VLOOKUP(C276,Master!BQ$60:CC$285,3,FALSE))","v":""},{"$f":"IF(ISNA(VLOOKUP(C276,Master!BQ$60:CC$285,7,FALSE)),\"\",VLOOKUP(C276,Master!BQ$60:CC$285,7,FALSE))","v":""},{"$f":"IF(ISNA(VLOOKUP(C276,Master!BQ$60:CC$285,8,FALSE)),\"\",VLOOKUP(C276,Master!BQ$60:CC$285,8,FALSE))","v":""},{"$f":"IF(ISNA(VLOOKUP(C276,Master!BQ$60:CC$285,4,FALSE)),\"\",VLOOKUP(C276,Master!BQ$60:CC$285,4,FALSE))","v":""},{"$f":"IF(ISNA(VLOOKUP(C276,Master!BQ$60:CC$285,5,FALSE)),\"\",VLOOKUP(C276,Master!BQ$60:CC$285,5,FALSE))","v":""},{"$f":"IF(ISNA(VLOOKUP(C276,Master!BQ$60:CC$285,6,FALSE)),\"\",VLOOKUP(C276,Master!BQ$60:CC$285,6,FALSE))","v":""},"","","","","","",{"$nulls":3},0,null,{"$f":"IF(ISNA(VLOOKUP(C276,Master!BQ$60:CC$285,10,FALSE)),\"\",VLOOKUP(C276,Master!BQ$60:CC$285,10,FALSE))","v":""},null,null,{"$f":"IF(ISNA(VLOOKUP(C276,Master!BQ$60:CC$285,11,FALSE)),\"\",VLOOKUP(C276,Master!BQ$60:CC$285,11,FALSE))","v":""},{"$f":"IF(ISNA(VLOOKUP(C276,Master!BQ$60:CC$285,9,FALSE)),\"\",VLOOKUP(C276,Master!BQ$60:CC$285,9,FALSE))","v":""},0,0,0,0,0,0,"","","","","","",0,0,"",0,0,0,0,0,0,0,null,null,0,0,0,0,0,0,0,0,0,0,0,0,0,0,0,0,null,null,0,0,1,0,0,0,1,0,1,0,0,"",null,{"$f":"IF(I276=\"\",\"\",MAX($CC$228:$CC$235,$CC$238:CC275)+1)","v":""}]
["",2202,40,{"$f":"IF(ISNA(VLOOKUP(C277,Master!BQ$60:CC$285,3,FALSE)),\"\",VLOOKUP(C277,Master!BQ$60:CC$285,3,FALSE))","v":""},{"$f":"IF(ISNA(VLOOKUP(C277,Master!BQ$60:CC$285,7,FALSE)),\"\",VLOOKUP(C277,Master!BQ$60:CC$285,7,FALSE))","v":""},{"$f":"IF(ISNA(VLOOKUP(C277,Master!BQ$60:CC$285,8,FALSE)),\"\",VLOOKUP(C277,Master!BQ$60:CC$285,8,FALSE))","v":""},{"$f":"IF(ISNA(VLOOKUP(C277,Master!BQ$60:CC$285,4,FALSE)),\"\",VLOOKUP(C277,Master!BQ$60:CC$285,4,FALSE))","v":""},{"$f":"IF(ISNA(VLOOKUP(C277,Master!BQ$60:CC$285,5,FALSE)),\"\",VLOOKUP(C277,Master!BQ$60:CC$285,5,FALSE))","v":""},{"$f":"IF(ISNA(VLOOKUP(C277,Master!BQ$60:CC$285,6,FALSE)),\"\",VLOOKUP(C277,Master!BQ$60:CC$285,6,FALSE))","v":""},"","","","","","",{"$nulls":3},0,null,{"$f":"IF(ISNA(VLOOKUP(C277,Master!BQ$60:CC$285,10,FALSE)),\"\",VLOOKUP(C277,Master!BQ$60:CC$285,10,FALSE))","v":""},null,null,{"$f":"IF(ISNA(VLOOKUP(C277,Master!BQ$60:CC$285,11,FALSE)),\"\",VLOOKUP(C277,Master!BQ$60:CC$285,11,FALSE))","v":""},{"$f":"IF(ISNA(VLOOKUP(C277,Master!BQ$60:CC$285,9,FALSE)),\"\",VLOOKUP(C277,Master!BQ$60:CC$285,9,FALSE))","v":""},0,0,0,0,0,0,"","","","","","",0,0,"",0,0,0,0,0,0,0,null,null,0,0,0,0,0,0,0,0,0,0,0,0,0,0,0,0,null,null,0,0,1,0,0,0,1,0,1,0,0,"",null,{"$f":"IF(I277=\"\",\"\",MAX($CC$228:$CC$235,$CC$238:CC276)+1)","v":""}]
["",2202,41,{"$f":"IF(ISNA(VLOOKUP(C278,Master!BQ$60:CC$285,3,FALSE)),\"\",VLOOKUP(C278,Master!BQ$60:CC$285,3,FALSE))","v":""},{"$f":"IF(ISNA(VLOOKUP(C278,Master!BQ$60:CC$285,7,FALSE)),\"\",VLOOKUP(C278,Master!BQ$60:CC$285,7,FALSE))","v":""},{"$f":"IF(ISNA(VLOOKUP(C278,Master!BQ$60:CC$285,8,FALSE)),\"\",VLOOKUP(C278,Master!BQ$60:CC$285,8,FALSE))","v":""},{"$f":"IF(ISNA(VLOOKUP(C278,Master!BQ$60:CC$285,4,FALSE)),\"\",VLOOKUP(C278,Master!BQ$60:CC$285,4,FALSE))","v":""},{"$f":"IF(ISNA(VLOOKUP(C278,Master!BQ$60:CC$285,5,FALSE)),\"\",VLOOKUP(C278,Master!BQ$60:CC$285,5,FALSE))","v":""},{"$f":"IF(ISNA(VLOOKUP(C278,Master!BQ$60:CC$285,6,FALSE)),\"\",VLOOKUP(C278,Master!BQ$60:CC$285,6,FALSE))","v":""},"","","","","","",{"$nulls":3},0,null,{"$f":"IF(ISNA(VLOOKUP(C278,Master!BQ$60:CC$285,10,FALSE)),\"\",VLOOKUP(C278,Master!BQ$60:CC$285,10,FALSE))","v":""},null,null,{"$f":"IF(ISNA(VLOOKUP(C278,Master!BQ$60:CC$285,11,FALSE)),\"\",VLOOKUP(C278,Master!BQ$60:CC$285,11,FALSE))","v":""},{"$f":"IF(ISNA(VLOOKUP(C278,Master!BQ$60:CC$285,9,FALSE)),\"\",VLOOKUP(C278,Master!BQ$60:CC$285,9,FALSE))","v":""},0,0,0,0,0,0,"","","","","","",0,0,"",0,0,0,0,0,0,0,null,null,0,0,0,0,0,0,0,0,0,0,0,0,0,0,0,0,null,null,0,0,1,0,0,0,1,0,1,0,0,"",null,{"$f":"IF(I278=\"\",\"\",MAX($CC$228:$CC$235,$CC$238:CC277)+1)","v":""}]
["",2202,42,{"$f":"IF(ISNA(VLOOKUP(C279,Master!BQ$60:CC$285,3,FALSE)),\"\",VLOOKUP(C279,Master!BQ$60:CC$285,3,FALSE))","v":""},{"$f":"IF(ISNA(VLOOKUP(C279,Master!BQ$60:CC$285,7,FALSE)),\"\",VLOOKUP(C279,Master!BQ$60:CC$285,7,FALSE))","v":""},{"$f":"IF(ISNA(VLOOKUP(C279,Master!BQ$60:CC$285,8,FALSE)),\"\",VLOOKUP(C279,Master!BQ$60:CC$285,8,FALSE))","v":""},{"$f":"IF(ISNA(VLOOKUP(C279,Master!BQ$60:CC$285,4,FALSE)),\"\",VLOOKUP(C279,Master!BQ$60:CC$285,4,FALSE))","v":""},{"$f":"IF(ISNA(VLOOKUP(C279,Master!BQ$60:CC$285,5,FALSE)),\"\",VLOOKUP(C279,Master!BQ$60:CC$285,5,FALSE))","v":""},{"$f":"IF(ISNA(VLOOKUP(C279,Master!BQ$60:CC$285,6,FALSE)),\"\",VLOOKUP(C279,Master!BQ$60:CC$285,6,FALSE))","v":""},"","","","","","",{"$nulls":3},0,null,{"$f":"IF(ISNA(VLOOKUP(C279,Master!BQ$60:CC$285,10,FALSE)),\"\",VLOOKUP(C279,Master!BQ$60:CC$285,10,FALSE))","v":""},null,null,{"$f":"IF(ISNA(VLOOKUP(C279,Master!BQ$60:CC$285,11,FALSE)),\"\",VLOOKUP(C279,Master!BQ$60:CC$285,11,FALSE))","v":""},{"$f":"IF(ISNA(VLOOKUP(C279,Master!BQ$60:CC$285,9,FALSE)),\"\",VLOOKUP(C279,Master!BQ$60:CC$285,9,FALSE))","v":""},0,0,0,0,0,0,"","","","","","",0,0,"",0,0,0,0,0,0,0,null,null,0,0,0,0,0,0,0,0,0,0,0,0,0,0,0,0,null,null,0,0,1,0,0,0,1,0,1,0,0,"",null,{"$f":"IF(I279=\"\",\"\",MAX($CC$228:$CC$235,$CC$238:CC278)+1)","v":""}]
["",2202,43,{"$f":"IF(ISNA(VLOOKUP(C280,Master!BQ$60:CC$285,3,FALSE)),\"\",VLOOKUP(C280,Master!BQ$60:CC$285,3,FALSE))","v":""},{"$f":"IF(ISNA(VLOOKUP(C280,Master!BQ$60:CC$285,7,FALSE)),\"\",VLOOKUP(C280,Master!BQ$60:CC$285,7,FALSE))","v":""},{"$f":"IF(ISNA(VLOOKUP(C280,Master!BQ$60:CC$285,8,FALSE)),\"\",VLOOKUP(C280,Master!BQ$60:CC$285,8,FALSE))","v":""},{"$f":"IF(ISNA(VLOOKUP(C280,Master!BQ$60:CC$285,4,FALSE)),\"\",VLOOKUP(C280,Master!BQ$60:CC$285,4,FALSE))","v":""},{"$f":"IF(ISNA(VLOOKUP(C280,Master!BQ$60:CC$285,5,FALSE)),\"\",VLOOKUP(C280,Master!BQ$60:CC$285,5,FALSE))","v":""},{"$f":"IF(ISNA(VLOOKUP(C280,Master!BQ$60:CC$285,6,FALSE)),\"\",VLOOKUP(C280,Master!BQ$60:CC$285,6,FALSE))","v":""},"","","","","","",{"$nulls":3},0,null,{"$f":"IF(ISNA(VLOOKUP(C280,Master!BQ$60:CC$285,10,FALSE)),\"\",VLOOKUP(C280,Master!BQ$60:CC$285,10,FALSE))","v":""},null,null,{"$f":"IF(ISNA(VLOOKUP(C280,Master!BQ$60:CC$285,11,FALSE)),\"\",VLOOKUP(C280,Master!BQ$60:CC$285,11,FALSE))","v":""},{"$f":"IF(ISNA(VLOOKUP(C280,Master!BQ$60:CC$285,9,FALSE)),\"\",VLOOKUP(C280,Master!BQ$60:CC$285,9,FALSE))","v":""},0,0,0,0,0,0,"","","","","","",0,0,"",0,0,0,0,0,0,0,null,null,0,0,0,0,0,0,0,0,0,0,0,0,0,0,0,0,null,null,0,0,1,0,0,0,1,0,1,0,0,"",null,{"$f":"IF(I280=\"\",\"\",MAX($CC$228:$CC$235,$CC$238:CC279)+1)","v":""}]
["",2202,44,{"$f":"IF(ISNA(VLOOKUP(C281,Master!BQ$60:CC$285,3,FALSE)),\"\",VLOOKUP(C281,Master!BQ$60:CC$285,3,FALSE))","v":""},{"$f":"IF(ISNA(VLOOKUP(C281,Master!BQ$60:CC$285,7,FALSE)),\"\",VLOOKUP(C281,Master!BQ$60:CC$285,7,FALSE))","v":""},{"$f":"IF(ISNA(VLOOKUP(C281,Master!BQ$60:CC$285,8,FALSE)),\"\",VLOOKUP(C281,Master!BQ$60:CC$285,8,FALSE))","v":""},{"$f":"IF(ISNA(VLOOKUP(C281,Master!BQ$60:CC$285,4,FALSE)),\"\",VLOOKUP(C281,Master!BQ$60:CC$285,4,FALSE))","v":""},{"$f":"IF(ISNA(VLOOKUP(C281,Master!BQ$60:CC$285,5,FALSE)),\"\",VLOOKUP(C281,Master!BQ$60:CC$285,5,FALSE))","v":""},{"$f":"IF(ISNA(VLOOKUP(C281,Master!BQ$60:CC$285,6,FALSE)),\"\",VLOOKUP(C281,Master!BQ$60:CC$285,6,FALSE))","v":""},"","","","","","",{"$nulls":3},0,null,{"$f":"IF(ISNA(VLOOKUP(C281,Master!BQ$60:CC$285,10,FALSE)),\"\",VLOOKUP(C281,Master!BQ$60:CC$285,10,FALSE))","v":""},null,null,{"$f":"IF(ISNA(VLOOKUP(C281,Master!BQ$60:CC$285,11,FALSE)),\"\",VLOOKUP(C281,Master!BQ$60:CC$285,11,FALSE))","v":""},{"$f":"IF(ISNA(VLOOKUP(C281,Master!BQ$60:CC$285,9,FALSE)),\"\",VLOOKUP(C281,Master!BQ$60:CC$285,9,FALSE))","v":""},0,0,0,0,0,0,"","","","","","",0,0,"",0,0,0,0,0,0,0,null,null,0,0,0,0,0,0,0,0,0,0,0,0,0,0,0,0,null,null,0,0,1,0,0,0,1,0,1,0,0,"",null,{"$f":"IF(I281=\"\",\"\",MAX($CC$228:$CC$235,$CC$238:CC280)+1)","v":""}]
["",2202,45,{"$f":"IF(ISNA(VLOOKUP(C282,Master!BQ$60:CC$285,3,FALSE)),\"\",VLOOKUP(C282,Master!BQ$60:CC$285,3,FALSE))","v":""},{"$f":"IF(ISNA(VLOOKUP(C282,Master!BQ$60:CC$285,7,FALSE)),\"\",VLOOKUP(C282,Master!BQ$60:CC$285,7,FALSE))","v":""},{"$f":"IF(ISNA(VLOOKUP(C282,Master!BQ$60:CC$285,8,FALSE)),\"\",VLOOKUP(C282,Master!BQ$60:CC$285,8,FALSE))","v":""},{"$f":"IF(ISNA(VLOOKUP(C282,Master!BQ$60:CC$285,4,FALSE)),\"\",VLOOKUP(C282,Master!BQ$60:CC$285,4,FALSE))","v":""},{"$f":"IF(ISNA(VLOOKUP(C282,Master!BQ$60:CC$285,5,FALSE)),\"\",VLOOKUP(C282,Master!BQ$60:CC$285,5,FALSE))","v":""},{"$f":"IF(ISNA(VLOOKUP(C282,Master!BQ$60:CC$285,6,FALSE)),\"\",VLOOKUP(C282,Master!BQ$60:CC$285,6,FALSE))","v":""},"","","","","","",{"$nulls":3},0,null,{"$f":"IF(ISNA(VLOOKUP(C282,Master!BQ$60:CC$285,10,FALSE)),\"\",VLOOKUP(C282,Master!BQ$60:CC$285,10,FALSE))","v":""},null,null,{"$f":"IF(ISNA(VLOOKUP(C282,Master!BQ$60:CC$285,11,FALSE)),\"\",VLOOKUP(C282,Master!BQ$60:CC$285,11,FALSE))","v":""},{"$f":"IF(ISNA(VLOOKUP(C282,Master!BQ$60:CC$285,9,FALSE)),\"\",VLOOKUP(C282,Master!BQ$60:CC$285,9,FALSE))","v":""},0,0,0,0,0,0,"","","","","","",0,0,"",0,0,0,0,0,0,0,null,null,0,0,0,0,0,0,0,0,0,0,0,0,0,0,0,0,null,null,0,0,1,0,0,0,1,0,1,0,0,"",null,{"$f":"IF(I282=\"\",\"\",MAX($CC$228:$CC$235,$CC$238:CC281)+1)","v":""}]
["",2202,46,{"$f":"IF(ISNA(VLOOKUP(C283,Master!BQ$60:CC$285,3,FALSE)),\"\",VLOOKUP(C283,Master!BQ$60:CC$285,3,FALSE))","v":""},{"$f":"IF(ISNA(VLOOKUP(C283,Master!BQ$60:CC$285,7,FALSE)),\"\",VLOOKUP(C283,Master!BQ$60:CC$285,7,FALSE))","v":""},{"$f":"IF(ISNA(VLOOKUP(C283,Master!BQ$60:CC$285,8,FALSE)),\"\",VLOOKUP(C283,Master!BQ$60:CC$285,8,FALSE))","v":""},{"$f":"IF(ISNA(VLOOKUP(C283,Master!BQ$60:CC$285,4,FALSE)),\"\",VLOOKUP(C283,Master!BQ$60:CC$285,4,FALSE))","v":""},{"$f":"IF(ISNA(VLOOKUP(C283,Master!BQ$60:CC$285,5,FALSE)),\"\",VLOOKUP(C283,Master!BQ$60:CC$285,5,FALSE))","v":""},{"$f":"IF(ISNA(VLOOKUP(C283,Master!BQ$60:CC$285,6,FALSE)),\"\",VLOOKUP(C283,Master!BQ$60:CC$285,6,FALSE))","v":""},"","","","","","",{"$nulls":3},0,null,{"$f":"IF(ISNA(VLOOKUP(C283,Master!BQ$60:CC$285,10,FALSE)),\"\",VLOOKUP(C283,Master!BQ$60:CC$285,10,FALSE))","v":""},null,null,{"$f":"IF(ISNA(VLOOKUP(C283,Master!BQ$60:CC$285,11,FALSE)),\"\",VLOOKUP(C283,Master!BQ$60:CC$285,11,FALSE))","v":""},{"$f":"IF(ISNA(VLOOKUP(C283,Master!BQ$60:CC$285,9,FALSE)),\"\",VLOOKUP(C283,Master!BQ$60:CC$285,9,FALSE))","v":""},0,0,0,0,0,0,"","","","","","",0,0,"",0,0,0,0,0,0,0,null,null,0,0,0,0,0,0,0,0,0,0,0,0,0,0,0,0,null,null,0,0,1,0,0,0,1,0,1,0,0,"",null,{"$f":"IF(I283=\"\",\"\",MAX($CC$228:$CC$235,$CC$238:CC282)+1)","v":""}]
["",2202,47,{"$f":"IF(ISNA(VLOOKUP(C284,Master!BQ$60:CC$285,3,FALSE)),\"\",VLOOKUP(C284,Master!BQ$60:CC$285,3,FALSE))","v":""},{"$f":"IF(ISNA(VLOOKUP(C284,Master!BQ$60:CC$285,7,FALSE)),\"\",VLOOKUP(C284,Master!BQ$60:CC$285,7,FALSE))","v":""},{"$f":"IF(ISNA(VLOOKUP(C284,Master!BQ$60:CC$285,8,FALSE)),\"\",VLOOKUP(C284,Master!BQ$60:CC$285,8,FALSE))","v":""},{"$f":"IF(ISNA(VLOOKUP(C284,Master!BQ$60:CC$285,4,FALSE)),\"\",VLOOKUP(C284,Master!BQ$60:CC$285,4,FALSE))","v":""},{"$f":"IF(ISNA(VLOOKUP(C284,Master!BQ$60:CC$285,5,FALSE)),\"\",VLOOKUP(C284,Master!BQ$60:CC$285,5,FALSE))","v":""},{"$f":"IF(ISNA(VLOOKUP(C284,Master!BQ$60:CC$285,6,FALSE)),\"\",VLOOKUP(C284,Master!BQ$60:CC$285,6,FALSE))","v":""},"","","","","","",{"$nulls":3},0,null,{"$f":"IF(ISNA(VLOOKUP(C284,Master!BQ$60:CC$285,10,FALSE)),\"\",VLOOKUP(C284,Master!BQ$60:CC$285,10,FALSE))","v":""},null,null,{"$f":"IF(ISNA(VLOOKUP(C284,Master!BQ$60:CC$285,11,FALSE)),\"\",VLOOKUP(C284,Master!BQ$60:CC$285,11,FALSE))","v":""},{"$f":"IF(ISNA(VLOOKUP(C284,Master!BQ$60:CC$285,9,FALSE)),\"\",VLOOKUP(C284,Master!BQ$60:CC$285,9,FALSE))","v":""},0,0,0,0,0,0,"","","","","","",0,0,"",0,0,0,0,0,0,0,null,null,0,0,0,0,0,0,0,0,0,0,0,0,0,0,0,0,null,null,0,0,1,0,0,0,1,0,1,0,0,"",null,{"$f":"IF(I284=\"\",\"\",MAX($CC$228:$CC$235,$CC$238:CC283)+1)","v":""}]
["",2202,48,{"$f":"IF(ISNA(VLOOKUP(C285,Master!BQ$60:CC$285,3,FALSE)),\"\",VLOOKUP(C285,Master!BQ$60:CC$285,3,FALSE))","v":""},{"$f":"IF(ISNA(VLOOKUP(C285,Master!BQ$60:CC$285,7,FALSE)),\"\",VLOOKUP(C285,Master!BQ$60:CC$285,7,FALSE))","v":""},{"$f":"IF(ISNA(VLOOKUP(C285,Master!BQ$60:CC$285,8,FALSE)),\"\",VLOOKUP(C285,Master!BQ$60:CC$285,8,FALSE))","v":""},{"$f":"IF(ISNA(VLOOKUP(C285,Master!BQ$60:CC$285,4,FALSE)),\"\",VLOOKUP(C285,Master!BQ$60:CC$285,4,FALSE))","v":""},{"$f":"IF(ISNA(VLOOKUP(C285,Master!BQ$60:CC$285,5,FALSE)),\"\",VLOOKUP(C285,Master!BQ$60:CC$285,5,FALSE))","v":""},{"$f":"IF(ISNA(VLOOKUP(C285,Master!BQ$60:CC$285,6,FALSE)),\"\",VLOOKUP(C285,Master!BQ$60:CC$285,6,FALSE))","v":""},"","","","","","",{"$nulls":3},0,null,{"$f":"IF(ISNA(VLOOKUP(C285,Master!BQ$60:CC$285,10,FALSE)),\"\",VLOOKUP(C285,Master!BQ$60:CC$285,10,FALSE))","v":""},null,null,{"$f":"IF(ISNA(VLOOKUP(C285,Master!BQ$60:CC$285,11,FALSE)),\"\",VLOOKUP(C285,Master!BQ$60:CC$285,11,FALSE))","v":""},{"$f":"IF(ISNA(VLOOKUP(C285,Master!BQ$60:CC$285,9,FALSE)),\"\",VLOOKUP(C285,Master!BQ$60:CC$285,9,FALSE))","v":""},0,0,0,0,0,0,"","","","","","",0,0,"",0,0,0,0,0,0,0,null,null,0,0,0,0,0,0,0,0,0,0,0,0,0,0,0,0,null,null,0,0,1,0,0,0,1,0,1,0,0,"",null,{"$f":"IF(I285=\"\",\"\",MAX($CC$228:$CC$235,$CC$238:CC284)+1)","v":""}]
["",2202,49,{"$f":"IF(ISNA(VLOOKUP(C286,Master!BQ$60:CC$285,3,FALSE)),\"\",VLOOKUP(C286,Master!BQ$60:CC$285,3,FALSE))","v":""},{"$f":"IF(ISNA(VLOOKUP(C286,Master!BQ$60:CC$285,7,FALSE)),\"\",VLOOKUP(C286,Master!BQ$60:CC$285,7,FALSE))","v":""},{"$f":"IF(ISNA(VLOOKUP(C286,Master!BQ$60:CC$285,8,FALSE)),\"\",VLOOKUP(C286,Master!BQ$60:CC$285,8,FALSE))","v":""},{"$f":"IF(ISNA(VLOOKUP(C286,Master!BQ$60:CC$285,4,FALSE)),\"\",VLOOKUP(C286,Master!BQ$60:CC$285,4,FALSE))","v":""},{"$f":"IF(ISNA(VLOOKUP(C286,Master!BQ$60:CC$285,5,FALSE)),\"\",VLOOKUP(C286,Master!BQ$60:CC$285,5,FALSE))","v":""},{"$f":"IF(ISNA(VLOOKUP(C286,Master!BQ$60:CC$285,6,FALSE)),\"\",VLOOKUP(C286,Master!BQ$60:CC$285,6,FALSE))","v":""},"","","","","","",{"$nulls":3},0,null,{"$f":"IF(ISNA(VLOOKUP(C286,Master!BQ$60:CC$285,10,FALSE)),\"\",VLOOKUP(C286,Master!BQ$60:CC$285,10,FALSE))","v":""},null,null,{"$f":"IF(ISNA(VLOOKUP(C286,Master!BQ$60:CC$285,11,FALSE)),\"\",VLOOKUP(C286,Master!BQ$60:CC$285,11,FALSE))","v":""},{"$f":"IF(ISNA(VLOOKUP(C286,Master!BQ$60:CC$285,9,FALSE)),\"\",VLOOKUP(C286,Master!BQ$60:CC$285,9,FALSE))","v":""},0,0,0,0,0,0,"","","","","","",0,0,"",0,0,0,0,0,0,0,null,null,0,0,0,0,0,0,0,0,0,0,0,0,0,0,0,0,null,null,0,0,1,0,0,0,1,0,1,0,0,"",null,{"$f":"IF(I286=\"\",\"\",MAX($CC$228:$CC$235,$CC$238:CC285)+1)","v":""}]
["",2202,50,{"$f":"IF(ISNA(VLOOKUP(C287,Master!BQ$60:CC$285,3,FALSE)),\"\",VLOOKUP(C287,Master!BQ$60:CC$285,3,FALSE))","v":""},{"$f":"IF(ISNA(VLOOKUP(C287,Master!BQ$60:CC$285,7,FALSE)),\"\",VLOOKUP(C287,Master!BQ$60:CC$285,7,FALSE))","v":""},{"$f":"IF(ISNA(VLOOKUP(C287,Master!BQ$60:CC$285,8,FALSE)),\"\",VLOOKUP(C287,Master!BQ$60:CC$285,8,FALSE))","v":""},{"$f":"IF(ISNA(VLOOKUP(C287,Master!BQ$60:CC$285,4,FALSE)),\"\",VLOOKUP(C287,Master!BQ$60:CC$285,4,FALSE))","v":""},{"$f":"IF(ISNA(VLOOKUP(C287,Master!BQ$60:CC$285,5,FALSE)),\"\",VLOOKUP(C287,Master!BQ$60:CC$285,5,FALSE))","v":""},{"$f":"IF(ISNA(VLOOKUP(C287,Master!BQ$60:CC$285,6,FALSE)),\"\",VLOOKUP(C287,Master!BQ$60:CC$285,6,FALSE))","v":""},"","","","","","",{"$nulls":3},0,null,{"$f":"IF(ISNA(VLOOKUP(C287,Master!BQ$60:CC$285,10,FALSE)),\"\",VLOOKUP(C287,Master!BQ$60:CC$285,10,FALSE))","v":""},null,null,{"$f":"IF(ISNA(VLOOKUP(C287,Master!BQ$60:CC$285,11,FALSE)),\"\",VLOOKUP(C287,Master!BQ$60:CC$285,11,FALSE))","v":""},{"$f":"IF(ISNA(VLOOKUP(C287,Master!BQ$60:CC$285,9,FALSE)),\"\",VLOOKUP(C287,Master!BQ$60:CC$285,9,FALSE))","v":""},0,0,0,0,0,0,"","","","","","",0,0,"",0,0,0,0,0,0,0,null,null,0,0,0,0,0,0,0,0,0,0,0,0,0,0,0,0,null,null,0,0,1,0,0,0,1,0,1,0,0,"",null,{"$f":"IF(I287=\"\",\"\",MAX($CC$228:$CC$235,$CC$238:CC286)+1)","v":""}]
["",2202,51,{"$f":"IF(ISNA(VLOOKUP(C288,Master!BQ$60:CC$285,3,FALSE)),\"\",VLOOKUP(C288,Master!BQ$60:CC$285,3,FALSE))","v":""},{"$f":"IF(ISNA(VLOOKUP(C288,Master!BQ$60:CC$285,7,FALSE)),\"\",VLOOKUP(C288,Master!BQ$60:CC$285,7,FALSE))","v":""},{"$f":"IF(ISNA(VLOOKUP(C288,Master!BQ$60:CC$285,8,FALSE)),\"\",VLOOKUP(C288,Master!BQ$60:CC$285,8,FALSE))","v":""},{"$f":"IF(ISNA(VLOOKUP(C288,Master!BQ$60:CC$285,4,FALSE)),\"\",VLOOKUP(C288,Master!BQ$60:CC$285,4,FALSE))","v":""},{"$f":"IF(ISNA(VLOOKUP(C288,Master!BQ$60:CC$285,5,FALSE)),\"\",VLOOKUP(C288,Master!BQ$60:CC$285,5,FALSE))","v":""},{"$f":"IF(ISNA(VLOOKUP(C288,Master!BQ$60:CC$285,6,FALSE)),\"\",VLOOKUP(C288,Master!BQ$60:CC$285,6,FALSE))","v":""},"","","","","","",{"$nulls":3},0,null,{"$f":"IF(ISNA(VLOOKUP(C288,Master!BQ$60:CC$285,10,FALSE)),\"\",VLOOKUP(C288,Master!BQ$60:CC$285,10,FALSE))","v":""},null,null,{"$f":"IF(ISNA(VLOOKUP(C288,Master!BQ$60:CC$285,11,FALSE)),\"\",VLOOKUP(C288,Master!BQ$60:CC$285,11,FALSE))","v":""},{"$f":"IF(ISNA(VLOOKUP(C288,Master!BQ$60:CC$285,9,FALSE)),\"\",VLOOKUP(C288,Master!BQ$60:CC$285,9,FALSE))","v":""},0,0,0,0,0,0,"","","","","","",0,0,"",0,0,0,0,0,0,0,null,null,0,0,0,0,0,0,0,0,0,0,0,0,0,0,0,0,null,null,0,0,1,0,0,0,1,0,1,0,0,"",null,{"$f":"IF(I288=\"\",\"\",MAX($CC$228:$CC$235,$CC$238:CC287)+1)","v":""}]
["",2202,52,{"$f":"IF(ISNA(VLOOKUP(C289,Master!BQ$60:CC$285,3,FALSE)),\"\",VLOOKUP(C289,Master!BQ$60:CC$285,3,FALSE))","v":""},{"$f":"IF(ISNA(VLOOKUP(C289,Master!BQ$60:CC$285,7,FALSE)),\"\",VLOOKUP(C289,Master!BQ$60:CC$285,7,FALSE))","v":""},{"$f":"IF(ISNA(VLOOKUP(C289,Master!BQ$60:CC$285,8,FALSE)),\"\",VLOOKUP(C289,Master!BQ$60:CC$285,8,FALSE))","v":""},{"$f":"IF(ISNA(VLOOKUP(C289,Master!BQ$60:CC$285,4,FALSE)),\"\",VLOOKUP(C289,Master!BQ$60:CC$285,4,FALSE))","v":""},{"$f":"IF(ISNA(VLOOKUP(C289,Master!BQ$60:CC$285,5,FALSE)),\"\",VLOOKUP(C289,Master!BQ$60:CC$285,5,FALSE))","v":""},{"$f":"IF(ISNA(VLOOKUP(C289,Master!BQ$60:CC$285,6,FALSE)),\"\",VLOOKUP(C289,Master!BQ$60:CC$285,6,FALSE))","v":""},"","","","","","",{"$nulls":3},0,null,{"$f":"IF(ISNA(VLOOKUP(C289,Master!BQ$60:CC$285,10,FALSE)),\"\",VLOOKUP(C289,Master!BQ$60:CC$285,10,FALSE))","v":""},null,null,{"$f":"IF(ISNA(VLOOKUP(C289,Master!BQ$60:CC$285,11,FALSE)),\"\",VLOOKUP(C289,Master!BQ$60:CC$285,11,FALSE))","v":""},{"$f":"IF(ISNA(VLOOKUP(C289,Master!BQ$60:CC$285,9,FALSE)),\"\",VLOOKUP(C289,Master!BQ$60:CC$285,9,FALSE))","v":""},0,0,0,0,0,0,"","","","","","",0,0,"",0,0,0,0,0,0,0,null,null,0,0,0,0,0,0,0,0,0,0,0,0,0,0,0,0,null,null,0,0,1,0,0,0,1,0,1,0,0,"",null,{"$f":"IF(I289=\"\",\"\",MAX($CC$228:$CC$235,$CC$238:CC288)+1)","v":""}]
["",2202,53,{"$f":"IF(ISNA(VLOOKUP(C290,Master!BQ$60:CC$285,3,FALSE)),\"\",VLOOKUP(C290,Master!BQ$60:CC$285,3,FALSE))","v":""},{"$f":"IF(ISNA(VLOOKUP(C290,Master!BQ$60:CC$285,7,FALSE)),\"\",VLOOKUP(C290,Master!BQ$60:CC$285,7,FALSE))","v":""},{"$f":"IF(ISNA(VLOOKUP(C290,Master!BQ$60:CC$285,8,FALSE)),\"\",VLOOKUP(C290,Master!BQ$60:CC$285,8,FALSE))","v":""},{"$f":"IF(ISNA(VLOOKUP(C290,Master!BQ$60:CC$285,4,FALSE)),\"\",VLOOKUP(C290,Master!BQ$60:CC$285,4,FALSE))","v":""},{"$f":"IF(ISNA(VLOOKUP(C290,Master!BQ$60:CC$285,5,FALSE)),\"\",VLOOKUP(C290,Master!BQ$60:CC$285,5,FALSE))","v":""},{"$f":"IF(ISNA(VLOOKUP(C290,Master!BQ$60:CC$285,6,FALSE)),\"\",VLOOKUP(C290,Master!BQ$60:CC$285,6,FALSE))","v":""},"","","","","","",{"$nulls":3},0,null,{"$f":"IF(ISNA(VLOOKUP(C290,Master!BQ$60:CC$285,10,FALSE)),\"\",VLOOKUP(C290,Master!BQ$60:CC$285,10,FALSE))","v":""},null,null,{"$f":"IF(ISNA(VLOOKUP(C290,Master!BQ$60:CC$285,11,FALSE)),\"\",VLOOKUP(C290,Master!BQ$60:CC$285,11,FALSE))","v":""},{"$f":"IF(ISNA(VLOOKUP(C290,Master!BQ$60:CC$285,9,FALSE)),\"\",VLOOKUP(C290,Master!BQ$60:CC$285,9,FALSE))","v":""},0,0,0,0,0,0,"","","","","","",0,0,"",0,0,0,0,0,0,0,null,null,0,0,0,0,0,0,0,0,0,0,0,0,0,0,0,0,null,null,0,0,1,0,0,0,1,0,1,0,0,"",null,{"$f":"IF(I290=\"\",\"\",MAX($CC$228:$CC$235,$CC$238:CC289)+1)","v":""}]
["",2202,54,{"$f":"IF(ISNA(VLOOKUP(C291,Master!BQ$60:CC$285,3,FALSE)),\"\",VLOOKUP(C291,Master!BQ$60:CC$285,3,FALSE))","v":""},{"$f":"IF(ISNA(VLOOKUP(C291,Master!BQ$60:CC$285,7,FALSE)),\"\",VLOOKUP(C291,Master!BQ$60:CC$285,7,FALSE))","v":""},{"$f":"IF(ISNA(VLOOKUP(C291,Master!BQ$60:CC$285,8,FALSE)),\"\",VLOOKUP(C291,Master!BQ$60:CC$285,8,FALSE))","v":""},{"$f":"IF(ISNA(VLOOKUP(C291,Master!BQ$60:CC$285,4,FALSE)),\"\",VLOOKUP(C291,Master!BQ$60:CC$285,4,FALSE))","v":""},{"$f":"IF(ISNA(VLOOKUP(C291,Master!BQ$60:CC$285,5,FALSE)),\"\",VLOOKUP(C291,Master!BQ$60:CC$285,5,FALSE))","v":""},{"$f":"IF(ISNA(VLOOKUP(C291,Master!BQ$60:CC$285,6,FALSE)),\"\",VLOOKUP(C291,Master!BQ$60:CC$285,6,FALSE))","v":""},"","","","","","",{"$nulls":3},0,null,{"$f":"IF(ISNA(VLOOKUP(C291,Master!BQ$60:CC$285,10,FALSE)),\"\",VLOOKUP(C291,Master!BQ$60:CC$285,10,FALSE))","v":""},null,null,{"$f":"IF(ISNA(VLOOKUP(C291,Master!BQ$60:CC$285,11,FALSE)),\"\",VLOOKUP(C291,Master!BQ$60:CC$285,11,FALSE))","v":""},{"$f":"IF(ISNA(VLOOKUP(C291,Master!BQ$60:CC$285,9,FALSE)),\"\",VLOOKUP(C291,Master!BQ$60:CC$285,9,FALSE))","v":""},0,0,0,0,0,0,"","","","","","",0,0,"",0,0,0,0,0,0,0,null,null,0,0,0,0,0,0,0,0,0,0,0,0,0,0,0,0,null,null,0,0,1,0,0,0,1,0,1,0,0,"",null,{"$f":"IF(I291=\"\",\"\",MAX($CC$228:$CC$235,$CC$238:CC290)+1)","v":""}]
["",2202,55,{"$f":"IF(ISNA(VLOOKUP(C292,Master!BQ$60:CC$285,3,FALSE)),\"\",VLOOKUP(C292,Master!BQ$60:CC$285,3,FALSE))","v":""},{"$f":"IF(ISNA(VLOOKUP(C292,Master!BQ$60:CC$285,7,FALSE)),\"\",VLOOKUP(C292,Master!BQ$60:CC$285,7,FALSE))","v":""},{"$f":"IF(ISNA(VLOOKUP(C292,Master!BQ$60:CC$285,8,FALSE)),\"\",VLOOKUP(C292,Master!BQ$60:CC$285,8,FALSE))","v":""},{"$f":"IF(ISNA(VLOOKUP(C292,Master!BQ$60:CC$285,4,FALSE)),\"\",VLOOKUP(C292,Master!BQ$60:CC$285,4,FALSE))","v":""},{"$f":"IF(ISNA(VLOOKUP(C292,Master!BQ$60:CC$285,5,FALSE)),\"\",VLOOKUP(C292,Master!BQ$60:CC$285,5,FALSE))","v":""},{"$f":"IF(ISNA(VLOOKUP(C292,Master!BQ$60:CC$285,6,FALSE)),\"\",VLOOKUP(C292,Master!BQ$60:CC$285,6,FALSE))","v":""},"","","","","","",{"$nulls":3},0,null,{"$f":"IF(ISNA(VLOOKUP(C292,Master!BQ$60:CC$285,10,FALSE)),\"\",VLOOKUP(C292,Master!BQ$60:CC$285,10,FALSE))","v":""},null,null,{"$f":"IF(ISNA(VLOOKUP(C292,Master!BQ$60:CC$285,11,FALSE)),\"\",VLOOKUP(C292,Master!BQ$60:CC$285,11,FALSE))","v":""},{"$f":"IF(ISNA(VLOOKUP(C292,Master!BQ$60:CC$285,9,FALSE)),\"\",VLOOKUP(C292,Master!BQ$60:CC$285,9,FALSE))","v":""},0,0,0,0,0,0,"","","","","","",0,0,"",0,0,0,0,0,0,0,null,null,0,0,0,0,0,0,0,0,0,0,0,0,0,0,0,0,null,null,0,0,1,0,0,0,1,0,1,0,0,"",null,{"$f":"IF(I292=\"\",\"\",MAX($CC$228:$CC$235,$CC$238:CC291)+1)","v":""}]
[{"$f":"CC293","v":""},2202,56,{"$f":"IF(ISNA(VLOOKUP(C293,Master!BQ$60:CC$285,3,FALSE)),\"\",VLOOKUP(C293,Master!BQ$60:CC$285,3,FALSE))","v":""},{"$f":"IF(ISNA(VLOOKUP(C293,Master!BQ$60:CC$285,7,FALSE)),\"\",VLOOKUP(C293,Master!BQ$60:CC$285,7,FALSE))","v":""},{"$f":"IF(ISNA(VLOOKUP(C293,Master!BQ$60:CC$285,8,FALSE)),\"\",VLOOKUP(C293,Master!BQ$60:CC$285,8,FALSE))","v":""},{"$f":"IF(ISNA(VLOOKUP(C293,Master!BQ$60:CC$285,4,FALSE)),\"\",VLOOKUP(C293,Master!BQ$60:CC$285,4,FALSE))","v":""},{"$f":"IF(ISNA(VLOOKUP(C293,Master!BQ$60:CC$285,5,FALSE)),\"\",VLOOKUP(C293,Master!BQ$60:CC$285,5,FALSE))","v":""},{"$f":"IF(ISNA(VLOOKUP(C293,Master!BQ$60:CC$285,6,FALSE)),\"\",VLOOKUP(C293,Master!BQ$60:CC$285,6,FALSE))","v":""},"","","","","","",{"$nulls":3},0,null,{"$f":"IF(ISNA(VLOOKUP(C293,Master!BQ$60:CC$285,10,FALSE)),\"\",VLOOKUP(C293,Master!BQ$60:CC$285,10,FALSE))","v":""},null,null,{"$f":"IF(ISNA(VLOOKUP(C293,Master!BQ$60:CC$285,11,FALSE)),\"\",VLOOKUP(C293,Master!BQ$60:CC$285,11,FALSE))","v":""},{"$f":"IF(ISNA(VLOOKUP(C293,Master!BQ$60:CC$285,9,FALSE)),\"\",VLOOKUP(C293,Master!BQ$60:CC$285,9,FALSE))","v":""},0,0,0,0,0,0,"","","","","","",0,0,"",0,0,0,0,0,0,0,null,null,0,0,0,0,0,0,0,0,0,0,0,0,0,0,0,0,null,null,0,0,1,0,0,0,1,0,1,0,0,"",null,{"$f":"IF(I293=\"\",\"\",MAX($CC$228:$CC$235,$CC$238:CC292)+1)","v":""}]
["",2202,57,{"$f":"IF(ISNA(VLOOKUP(C294,Master!BQ$60:CC$285,3,FALSE)),\"\",VLOOKUP(C294,Master!BQ$60:CC$285,3,FALSE))","v":""},{"$f":"IF(ISNA(VLOOKUP(C294,Master!BQ$60:CC$285,7,FALSE)),\"\",VLOOKUP(C294,Master!BQ$60:CC$285,7,FALSE))","v":""},{"$f":"IF(ISNA(VLOOKUP(C294,Master!BQ$60:CC$285,8,FALSE)),\"\",VLOOKUP(C294,Master!BQ$60:CC$285,8,FALSE))","v":""},{"$f":"IF(ISNA(VLOOKUP(C294,Master!BQ$60:CC$285,4,FALSE)),\"\",VLOOKUP(C294,Master!BQ$60:CC$285,4,FALSE))","v":""},{"$f":"IF(ISNA(VLOOKUP(C294,Master!BQ$60:CC$285,5,FALSE)),\"\",VLOOKUP(C294,Master!BQ$60:CC$285,5,FALSE))","v":""},{"$f":"IF(ISNA(VLOOKUP(C294,Master!BQ$60:CC$285,6,FALSE)),\"\",VLOOKUP(C294,Master!BQ$60:CC$285,6,FALSE))","v":""},"","","","","","",{"$nulls":3},0,null,{"$f":"IF(ISNA(VLOOKUP(C294,Master!BQ$60:CC$285,10,FALSE)),\"\",VLOOKUP(C294,Master!BQ$60:CC$285,10,FALSE))","v":""},null,null,{"$f":"IF(ISNA(VLOOKUP(C294,Master!BQ$60:CC$285,11,FALSE)),\"\",VLOOKUP(C294,Master!BQ$60:CC$285,11,FALSE))","v":""},{"$f":"IF(ISNA(VLOOKUP(C294,Master!BQ$60:CC$285,9,FALSE)),\"\",VLOOKUP(C294,Master!BQ$60:CC$285,9,FALSE))","v":""},0,0,0,0,0,0,"","","","","","",0,0,"",0,0,0,0,0,0,0,null,null,0,0,0,0,0,0,0,0,0,0,0,0,0,0,0,0,null,null,0,0,1,0,0,0,1,0,1,0,0,"",null,{"$f":"IF(I294=\"\",\"\",MAX($CC$228:$CC$235,$CC$238:CC293)+1)","v":""}]
["",2202,58,{"$f":"IF(ISNA(VLOOKUP(C295,Master!BQ$60:CC$285,3,FALSE)),\"\",VLOOKUP(C295,Master!BQ$60:CC$285,3,FALSE))","v":""},{"$f":"IF(ISNA(VLOOKUP(C295,Master!BQ$60:CC$285,7,FALSE)),\"\",VLOOKUP(C295,Master!BQ$60:CC$285,7,FALSE))","v":""},{"$f":"IF(ISNA(VLOOKUP(C295,Master!BQ$60:CC$285,8,FALSE)),\"\",VLOOKUP(C295,Master!BQ$60:CC$285,8,FALSE))","v":""},{"$f":"IF(ISNA(VLOOKUP(C295,Master!BQ$60:CC$285,4,FALSE)),\"\",VLOOKUP(C295,Master!BQ$60:CC$285,4,FALSE))","v":""},{"$f":"IF(ISNA(VLOOKUP(C295,Master!BQ$60:CC$285,5,FALSE)),\"\",VLOOKUP(C295,Master!BQ$60:CC$285,5,FALSE))","v":""},{"$f":"IF(ISNA(VLOOKUP(C295,Master!BQ$60:CC$285,6,FALSE)),\"\",VLOOKUP(C295,Master!BQ$60:CC$285,6,FALSE))","v":""},"","","","","","",{"$nulls":3},0,null,{"$f":"IF(ISNA(VLOOKUP(C295,Master!BQ$60:CC$285,10,FALSE)),\"\",VLOOKUP(C295,Master!BQ$60:CC$285,10,FALSE))","v":""},null,null,{"$f":"IF(ISNA(VLOOKUP(C295,Master!BQ$60:CC$285,11,FALSE)),\"\",VLOOKUP(C295,Master!BQ$60:CC$285,11,FALSE))","v":""},{"$f":"IF(ISNA(VLOOKUP(C295,Master!BQ$60:CC$285,9,FALSE)),\"\",VLOOKUP(C295,Master!BQ$60:CC$285,9,FALSE))","v":""},0,0,0,0,0,0,"","","","","","",0,0,"",0,0,0,0,0,0,0,null,null,0,0,0,0,0,0,0,0,0,0,0,0,0,0,0,0,null,null,0,0,1,0,0,0,1,0,1,0,0,"",null,{"$f":"IF(I295=\"\",\"\",MAX($CC$228:$CC$235,$CC$238:CC294)+1)","v":""}]
["",2202,59,{"$f":"IF(ISNA(VLOOKUP(C296,Master!BQ$60:CC$285,3,FALSE)),\"\",VLOOKUP(C296,Master!BQ$60:CC$285,3,FALSE))","v":""},{"$f":"IF(ISNA(VLOOKUP(C296,Master!BQ$60:CC$285,7,FALSE)),\"\",VLOOKUP(C296,Master!BQ$60:CC$285,7,FALSE))","v":""},{"$f":"IF(ISNA(VLOOKUP(C296,Master!BQ$60:CC$285,8,FALSE)),\"\",VLOOKUP(C296,Master!BQ$60:CC$285,8,FALSE))","v":""},{"$f":"IF(ISNA(VLOOKUP(C296,Master!BQ$60:CC$285,4,FALSE)),\"\",VLOOKUP(C296,Master!BQ$60:CC$285,4,FALSE))","v":""},{"$f":"IF(ISNA(VLOOKUP(C296,Master!BQ$60:CC$285,5,FALSE)),\"\",VLOOKUP(C296,Master!BQ$60:CC$285,5,FALSE))","v":""},{"$f":"IF(ISNA(VLOOKUP(C296,Master!BQ$60:CC$285,6,FALSE)),\"\",VLOOKUP(C296,Master!BQ$60:CC$285,6,FALSE))","v":""},"","","","","","",{"$nulls":3},0,null,{"$f":"IF(ISNA(VLOOKUP(C296,Master!BQ$60:CC$285,10,FALSE)),\"\",VLOOKUP(C296,Master!BQ$60:CC$285,10,FALSE))","v":""},null,null,{"$f":"IF(ISNA(VLOOKUP(C296,Master!BQ$60:CC$285,11,FALSE)),\"\",VLOOKUP(C296,Master!BQ$60:CC$285,11,FALSE))","v":""},{"$f":"IF(ISNA(VLOOKUP(C296,Master!BQ$60:CC$285,9,FALSE)),\"\",VLOOKUP(C296,Master!BQ$60:CC$285,9,FALSE))","v":""},0,0,0,0,0,0,"","","","","","",0,0,"",0,0,0,0,0,0,0,null,null,0,0,0,0,0,0,0,0,0,0,0,0,0,0,0,0,null,null,0,0,1,0,0,0,1,0,1,0,0,"",null,{"$f":"IF(I296=\"\",\"\",MAX($CC$228:$CC$235,$CC$238:CC295)+1)","v":""}]
["",2202,60,{"$f":"IF(ISNA(VLOOKUP(C297,Master!BQ$60:CC$285,3,FALSE)),\"\",VLOOKUP(C297,Master!BQ$60:CC$285,3,FALSE))","v":""},{"$f":"IF(ISNA(VLOOKUP(C297,Master!BQ$60:CC$285,7,FALSE)),\"\",VLOOKUP(C297,Master!BQ$60:CC$285,7,FALSE))","v":""},{"$f":"IF(ISNA(VLOOKUP(C297,Master!BQ$60:CC$285,8,FALSE)),\"\",VLOOKUP(C297,Master!BQ$60:CC$285,8,FALSE))","v":""},{"$f":"IF(ISNA(VLOOKUP(C297,Master!BQ$60:CC$285,4,FALSE)),\"\",VLOOKUP(C297,Master!BQ$60:CC$285,4,FALSE))","v":""},{"$f":"IF(ISNA(VLOOKUP(C297,Master!BQ$60:CC$285,5,FALSE)),\"\",VLOOKUP(C297,Master!BQ$60:CC$285,5,FALSE))","v":""},{"$f":"IF(ISNA(VLOOKUP(C297,Master!BQ$60:CC$285,6,FALSE)),\"\",VLOOKUP(C297,Master!BQ$60:CC$285,6,FALSE))","v":""},"","","","","","",{"$nulls":3},0,null,{"$f":"IF(ISNA(VLOOKUP(C297,Master!BQ$60:CC$285,10,FALSE)),\"\",VLOOKUP(C297,Master!BQ$60:CC$285,10,FALSE))","v":""},null,null,{"$f":"IF(ISNA(VLOOKUP(C297,Master!BQ$60:CC$285,11,FALSE)),\"\",VLOOKUP(C297,Master!BQ$60:CC$285,11,FALSE))","v":""},{"$f":"IF(ISNA(VLOOKUP(C297,Master!BQ$60:CC$285,9,FALSE)),\"\",VLOOKUP(C297,Master!BQ$60:CC$285,9,FALSE))","v":""},0,0,0,0,0,0,"","","","","","",0,0,"",0,0,0,0,0,0,0,null,null,0,0,0,0,0,0,0,0,0,0,0,0,0,0,0,0,null,null,0,0,1,0,0,0,1,0,1,0,0,"",null,{"$f":"IF(I297=\"\",\"\",MAX($CC$228:$CC$235,$CC$238:CC296)+1)","v":""}]
["",2202,61,{"$f":"IF(ISNA(VLOOKUP(C298,Master!BQ$60:CC$285,3,FALSE)),\"\",VLOOKUP(C298,Master!BQ$60:CC$285,3,FALSE))","v":""},{"$f":"IF(ISNA(VLOOKUP(C298,Master!BQ$60:CC$285,7,FALSE)),\"\",VLOOKUP(C298,Master!BQ$60:CC$285,7,FALSE))","v":""},{"$f":"IF(ISNA(VLOOKUP(C298,Master!BQ$60:CC$285,8,FALSE)),\"\",VLOOKUP(C298,Master!BQ$60:CC$285,8,FALSE))","v":""},{"$f":"IF(ISNA(VLOOKUP(C298,Master!BQ$60:CC$285,4,FALSE)),\"\",VLOOKUP(C298,Master!BQ$60:CC$285,4,FALSE))","v":""},{"$f":"IF(ISNA(VLOOKUP(C298,Master!BQ$60:CC$285,5,FALSE)),\"\",VLOOKUP(C298,Master!BQ$60:CC$285,5,FALSE))","v":""},{"$f":"IF(ISNA(VLOOKUP(C298,Master!BQ$60:CC$285,6,FALSE)),\"\",VLOOKUP(C298,Master!BQ$60:CC$285,6,FALSE))","v":""},"","","","","","",{"$nulls":3},0,null,{"$f":"IF(ISNA(VLOOKUP(C298,Master!BQ$60:CC$285,10,FALSE)),\"\",VLOOKUP(C298,Master!BQ$60:CC$285,10,FALSE))","v":""},null,null,{"$f":"IF(ISNA(VLOOKUP(C298,Master!BQ$60:CC$285,11,FALSE)),\"\",VLOOKUP(C298,Master!BQ$60:CC$285,11,FALSE))","v":""},{"$f":"IF(ISNA(VLOOKUP(C298,Master!BQ$60:CC$285,9,FALSE)),\"\",VLOOKUP(C298,Master!BQ$60:CC$285,9,FALSE))","v":""},0,0,0,0,0,0,"","","","","","",0,0,"",0,0,0,0,0,0,0,null,null,0,0,0,0,0,0,0,0,0,0,0,0,0,0,0,0,null,null,0,0,1,0,0,0,1,0,1,0,0,"",null,{"$f":"IF(I298=\"\",\"\",MAX($CC$228:$CC$235,$CC$238:CC297)+1)","v":""}]
["",2202,62,{"$f":"IF(ISNA(VLOOKUP(C299,Master!BQ$60:CC$285,3,FALSE)),\"\",VLOOKUP(C299,Master!BQ$60:CC$285,3,FALSE))","v":""},{"$f":"IF(ISNA(VLOOKUP(C299,Master!BQ$60:CC$285,7,FALSE)),\"\",VLOOKUP(C299,Master!BQ$60:CC$285,7,FALSE))","v":""},{"$f":"IF(ISNA(VLOOKUP(C299,Master!BQ$60:CC$285,8,FALSE)),\"\",VLOOKUP(C299,Master!BQ$60:CC$285,8,FALSE))","v":""},{"$f":"IF(ISNA(VLOOKUP(C299,Master!BQ$60:CC$285,4,FALSE)),\"\",VLOOKUP(C299,Master!BQ$60:CC$285,4,FALSE))","v":""},{"$f":"IF(ISNA(VLOOKUP(C299,Master!BQ$60:CC$285,5,FALSE)),\"\",VLOOKUP(C299,Master!BQ$60:CC$285,5,FALSE))","v":""},{"$f":"IF(ISNA(VLOOKUP(C299,Master!BQ$60:CC$285,6,FALSE)),\"\",VLOOKUP(C299,Master!BQ$60:CC$285,6,FALSE))","v":""},"","","","","","",{"$nulls":3},0,null,{"$f":"IF(ISNA(VLOOKUP(C299,Master!BQ$60:CC$285,10,FALSE)),\"\",VLOOKUP(C299,Master!BQ$60:CC$285,10,FALSE))","v":""},null,null,{"$f":"IF(ISNA(VLOOKUP(C299,Master!BQ$60:CC$285,11,FALSE)),\"\",VLOOKUP(C299,Master!BQ$60:CC$285,11,FALSE))","v":""},{"$f":"IF(ISNA(VLOOKUP(C299,Master!BQ$60:CC$285,9,FALSE)),\"\",VLOOKUP(C299,Master!BQ$60:CC$285,9,FALSE))","v":""},0,0,0,0,0,0,"","","","","","",0,0,"",0,0,0,0,0,0,0,null,null,0,0,0,0,0,0,0,0,0,0,0,0,0,0,0,0,null,null,0,0,1,0,0,0,1,0,1,0,0,"",null,{"$f":"IF(I299=\"\",\"\",MAX($CC$228:$CC$235,$CC$238:CC298)+1)","v":""}]
["",2202,63,{"$f":"IF(ISNA(VLOOKUP(C300,Master!BQ$60:CC$285,3,FALSE)),\"\",VLOOKUP(C300,Master!BQ$60:CC$285,3,FALSE))","v":""},{"$f":"IF(ISNA(VLOOKUP(C300,Master!BQ$60:CC$285,7,FALSE)),\"\",VLOOKUP(C300,Master!BQ$60:CC$285,7,FALSE))","v":""},{"$f":"IF(ISNA(VLOOKUP(C300,Master!BQ$60:CC$285,8,FALSE)),\"\",VLOOKUP(C300,Master!BQ$60:CC$285,8,FALSE))","v":""},{"$f":"IF(ISNA(VLOOKUP(C300,Master!BQ$60:CC$285,4,FALSE)),\"\",VLOOKUP(C300,Master!BQ$60:CC$285,4,FALSE))","v":""},{"$f":"IF(ISNA(VLOOKUP(C300,Master!BQ$60:CC$285,5,FALSE)),\"\",VLOOKUP(C300,Master!BQ$60:CC$285,5,FALSE))","v":""},{"$f":"IF(ISNA(VLOOKUP(C300,Master!BQ$60:CC$285,6,FALSE)),\"\",VLOOKUP(C300,Master!BQ$60:CC$285,6,FALSE))","v":""},"","","","","","",{"$nulls":3},0,null,{"$f":"IF(ISNA(VLOOKUP(C300,Master!BQ$60:CC$285,10,FALSE)),\"\",VLOOKUP(C300,Master!BQ$60:CC$285,10,FALSE))","v":""},null,null,{"$f":"IF(ISNA(VLOOKUP(C300,Master!BQ$60:CC$285,11,FALSE)),\"\",VLOOKUP(C300,Master!BQ$60:CC$285,11,FALSE))","v":""},{"$f":"IF(ISNA(VLOOKUP(C300,Master!BQ$60:CC$285,9,FALSE)),\"\",VLOOKUP(C300,Master!BQ$60:CC$285,9,FALSE))","v":""},0,0,0,0,0,0,"","","","","","",0,0,"",0,0,0,0,0,0,0,null,null,0,0,0,0,0,0,0,0,0,0,0,0,0,0,0,0,null,null,0,0,1,0,0,0,1,0,1,0,0,"",null,{"$f":"IF(I300=\"\",\"\",MAX($CC$228:$CC$235,$CC$238:CC299)+1)","v":""}]
["",2202,64,{"$f":"IF(ISNA(VLOOKUP(C301,Master!BQ$60:CC$285,3,FALSE)),\"\",VLOOKUP(C301,Master!BQ$60:CC$285,3,FALSE))","v":""},{"$f":"IF(ISNA(VLOOKUP(C301,Master!BQ$60:CC$285,7,FALSE)),\"\",VLOOKUP(C301,Master!BQ$60:CC$285,7,FALSE))","v":""},{"$f":"IF(ISNA(VLOOKUP(C301,Master!BQ$60:CC$285,8,FALSE)),\"\",VLOOKUP(C301,Master!BQ$60:CC$285,8,FALSE))","v":""},{"$f":"IF(ISNA(VLOOKUP(C301,Master!BQ$60:CC$285,4,FALSE)),\"\",VLOOKUP(C301,Master!BQ$60:CC$285,4,FALSE))","v":""},{"$f":"IF(ISNA(VLOOKUP(C301,Master!BQ$60:CC$285,5,FALSE)),\"\",VLOOKUP(C301,Master!BQ$60:CC$285,5,FALSE))","v":""},{"$f":"IF(ISNA(VLOOKUP(C301,Master!BQ$60:CC$285,6,FALSE)),\"\",VLOOKUP(C301,Master!BQ$60:CC$285,6,FALSE))","v":""},"","","","","","",{"$nulls":3},0,null,{"$f":"IF(ISNA(VLOOKUP(C301,Master!BQ$60:CC$285,10,FALSE)),\"\",VLOOKUP(C301,Master!BQ$60:CC$285,10,FALSE))","v":""},null,null,{"$f":"IF(ISNA(VLOOKUP(C301,Master!BQ$60:CC$285,11,FALSE)),\"\",VLOOKUP(C301,Master!BQ$60:CC$285,11,FALSE))","v":""},{"$f":"IF(ISNA(VLOOKUP(C301,Master!BQ$60:CC$285,9,FALSE)),\"\",VLOOKUP(C301,Master!BQ$60:CC$285,9,FALSE))","v":""},0,0,0,0,0,0,"","","","","","",0,0,"",0,0,0,0,0,0,0,null,null,0,0,0,0,0,0,0,0,0,0,0,0,0,0,0,0,null,null,0,0,1,0,0,0,1,0,1,0,0,"",null,{"$f":"IF(I301=\"\",\"\",MAX($CC$228:$CC$235,$CC$238:CC300)+1)","v":""}]
["",2202,65,{"$f":"IF(ISNA(VLOOKUP(C302,Master!BQ$60:CC$285,3,FALSE)),\"\",VLOOKUP(C302,Master!BQ$60:CC$285,3,FALSE))","v":""},{"$f":"IF(ISNA(VLOOKUP(C302,Master!BQ$60:CC$285,7,FALSE)),\"\",VLOOKUP(C302,Master!BQ$60:CC$285,7,FALSE))","v":""},{"$f":"IF(ISNA(VLOOKUP(C302,Master!BQ$60:CC$285,8,FALSE)),\"\",VLOOKUP(C302,Master!BQ$60:CC$285,8,FALSE))","v":""},{"$f":"IF(ISNA(VLOOKUP(C302,Master!BQ$60:CC$285,4,FALSE)),\"\",VLOOKUP(C302,Master!BQ$60:CC$285,4,FALSE))","v":""},{"$f":"IF(ISNA(VLOOKUP(C302,Master!BQ$60:CC$285,5,FALSE)),\"\",VLOOKUP(C302,Master!BQ$60:CC$285,5,FALSE))","v":""},{"$f":"IF(ISNA(VLOOKUP(C302,Master!BQ$60:CC$285,6,FALSE)),\"\",VLOOKUP(C302,Master!BQ$60:CC$285,6,FALSE))","v":""},"","","","","","",{"$nulls":3},0,null,{"$f":"IF(ISNA(VLOOKUP(C302,Master!BQ$60:CC$285,10,FALSE)),\"\",VLOOKUP(C302,Master!BQ$60:CC$285,10,FALSE))","v":""},null,null,{"$f":"IF(ISNA(VLOOKUP(C302,Master!BQ$60:CC$285,11,FALSE)),\"\",VLOOKUP(C302,Master!BQ$60:CC$285,11,FALSE))","v":""},{"$f":"IF(ISNA(VLOOKUP(C302,Master!BQ$60:CC$285,9,FALSE)),\"\",VLOOKUP(C302,Master!BQ$60:CC$285,9,FALSE))","v":""},0,0,0,0,0,0,"","","","","","",0,0,"",0,0,0,0,0,0,0,null,null,0,0,0,0,0,0,0,0,0,0,0,0,0,0,0,0,null,null,0,0,1,0,0,0,1,{"$f":"IF((ROUND((SUMPRODUCT(MID(0&E302,LARGE(INDEX(ISNUMBER(--MID(E302,ROW($1:$25),1))* ROW($1:$25),0),ROW($1:$25))+1,1)*10^ROW($1:$25)/10)),-8)/100000000)>=2004,1,0)","v":0},1,0,0,{"$f":"IF(AND(E302=\"\"),\"\",IF(AND(E302<=0),\"\",IF((ROUND((SUMPRODUCT(MID(0&E302,LARGE(INDEX(ISNUMBER(--MID(E302,ROW($1:$70),1))* ROW($1:$70),0),ROW($1:$70))+1,1)*10^ROW($1:$70)/10)),-8)/100000000)<2004,1,0)))","v":""},null,{"$f":"IF(I302=\"\",\"\",MAX($CC$228:$CC$235,$CC$238:CC301)+1)","v":""}]
["",2202,66,{"$f":"IF(ISNA(VLOOKUP(C303,Master!BQ$60:CC$285,3,FALSE)),\"\",VLOOKUP(C303,Master!BQ$60:CC$285,3,FALSE))","v":""},{"$f":"IF(ISNA(VLOOKUP(C303,Master!BQ$60:CC$285,7,FALSE)),\"\",VLOOKUP(C303,Master!BQ$60:CC$285,7,FALSE))","v":""},{"$f":"IF(ISNA(VLOOKUP(C303,Master!BQ$60:CC$285,8,FALSE)),\"\",VLOOKUP(C303,Master!BQ$60:CC$285,8,FALSE))","v":""},{"$f":"IF(ISNA(VLOOKUP(C303,Master!BQ$60:CC$285,4,FALSE)),\"\",VLOOKUP(C303,Master!BQ$60:CC$285,4,FALSE))","v":""},{"$f":"IF(ISNA(VLOOKUP(C303,Master!BQ$60:CC$285,5,FALSE)),\"\",VLOOKUP(C303,Master!BQ$60:CC$285,5,FALSE))","v":""},{"$f":"IF(ISNA(VLOOKUP(C303,Master!BQ$60:CC$285,6,FALSE)),\"\",VLOOKUP(C303,Master!BQ$60:CC$285,6,FALSE))","v":""},{"$f":"IF(AND(H303=\"\"),\"\",I303*12)","v":""},{"$f":"IF(AND(H303=\"\"),\"\",\"Not Applicable\")","v":""},{"$f":"IF(AND(H303=\"\"),\"\",\"0\")","v":""},{"$f":"IF(AND(H303=\"\"),\"\",J303+L303)","v":""},{"$f":"IF(AND(H303=\"\"),\"\",M303)","v":""},{"$f":"IF(AND(H303=\"\"),\"\",\"FIX PAY\")","v":""},{"$nulls":3},0,null,{"$f":"IF(ISNA(VLOOKUP(C303,Master!BQ$60:CC$285,10,FALSE)),\"\",VLOOKUP(C303,Master!BQ$60:CC$285,10,FALSE))","v":""},null,null,{"$f":"IF(ISNA(VLOOKUP(C303,Master!BQ$60:CC$285,11,FALSE)),\"\",VLOOKUP(C303,Master!BQ$60:CC$285,11,FALSE))","v":""},{"$f":"IF(ISNA(VLOOKUP(C303,Master!BQ$60:CC$285,9,FALSE)),\"\",VLOOKUP(C303,Master!BQ$60:CC$285,9,FALSE))","v":""},{"$f":"IF(Y303=\"MALE\",1,0)*(IF(G303=\"JAMADAR\",1,0))*(IF(I303<=0,0,1))","v":0},{"$f":"IF(Y303=\"FEMALE\",1,0)*(IF(G303=\"JAMADAR\",1,0))*(IF(I303<=0,0,1))","v":0},{"$f":"IF(Y303=\"MALE\",1,0)*(IF(G303=\"LAB BOY\",1,0))*(IF(I303<=0,0,1))","v":0},{"$f":"IF(Y303=\"FEMALE\",1,0)*(IF(G303=\"LAB BOY\",1,0))*(IF(I303<=0,0,1))","v":0},{"$f":"IF(Y303=\"MALE\",1,0)*(IF(G303=\"PEON\",1,0))*(IF(I303<=0,0,1))","v":0},{"$f":"IF(Y303=\"FEMALE\",1,0)*(IF(G303=\"PEON\",1,0))*(IF(I303<=0,0,1))","v":0},{"$f":"IF(AND(I303=\"\"),\"\",I303-ROUNDUP(ROUND((I303*3%)-(I303*3%)*2.9%,-2),0))","v":""},{"$f":"IF(AND(I303=\"\"),\"\",$M303*$BQ303)","v":""},{"$f":"IF(AND(I303=\"\"),\"\",$M303*$BR303)","v":""},{"$f":"IF(AND(I303=\"\"),\"\",$M303*$BS303)","v":""},{"$f":"IF(AND(I303=\"\"),\"\",$M303*$BT303)","v":""},{"$f":"IF(AND(I303=\"\"),\"\",ROUND((AG303+AH303)*$AK$10,0)*BU303)","v":""},0,0,{"$f":"IF(AND(I303=\"\"),\"\",ROUND((AG303+AH303)*$AN$10,0)*BU303)","v":""},{"$f":"$G$221*BR303*BU303*(IF(I303<=0,0,1))*(IF(H303<=4800,1,0))","v":0},{"$f":"IF(AND(I303=\"\"),0,ROUND((I303+ROUND(I303*$AK$10,0))/2,0)*(IF(O303=\"FIX PAY\",0,1)))","v":0},{"$f":"IF(G303=\"CLERK GRADE I\",1,IF(G303=\"CLERK GRADE II\",1,0))*75*12*BU303*(IF(I303<=0,0,1))*BV303","v":0},{"$f":"IF(AND(I303=\"\"),0,(IF(G303=\"ASSISTANT\",12,IF(G303=\"CLERK GRADE I\",12,IF(G303=\"CLERK GRADE II\",12,IF(G303=\"FIELDMAN & FIELD REC\",12,IF(G303=\"LAB BOY\",12,IF(G303=\"JAMADAR\",12,IF(G303=\"PEON\",12,10))))))))*(MINA(ROUND(I303*6%,0),600))*(IF($U303=\"yes\",1,0)))","v":0},0,{"$f":"IF(AND(G303=\"\"),0,SUM(AK303:AS303)+AG303+AH303)","v":0},{"$f":"IF(AND(G303=\"\"),0,AT303)","v":0},null,null,{"$f":"AU303+AV303+AW303","v":0},{"$f":"IF(AND(G303=\"\"),0,N303*BQ303)","v":0},{"$f":"IF(AND(G303=\"\"),0,N303*BR303)","v":0},{"$f":"IF(AND(G303=\"\"),0,N303*BS303)","v":0},{"$f":"IF(AND(G303=\"\"),0,N303*BT303)","v":0},{"$f":"ROUND((AY303+AZ303)*$BC$10,0)*BU303","v":0},{"$f":"IF(AND(G303=\"\"),0,ROUND((IF(O303=\"FIX PAY\",0,AF303))*$BD$10*2,0)*BU303)","v":0},0,{"$f":"ROUND((AY303+AZ303)*$BF$10,0)*BU303","v":0},{"$f":"3387*2*BR303*BU303*(IF(I303<=0,0,1))*(IF(H303<=4800,1,0))","v":0},{"$f":"IF(AND(I303=\"\"),0,ROUND((AF303+ROUND(AF303*$AK$10,0))/2,0)*(IF(O303=\"FIX PAY\",0,1)))","v":0},{"$f":"IF(G303=\"CLERK GRADE I\",1,IF(G303=\"CLERK GRADE II\",1,0))*75*12*BU303*(IF(I303<=0,0,1))*BV303","v":0},{"$f":"IF(AND(G303=\"\"),0,(IF(G303=\"ASSISTANT\",12,IF(G303=\"CLERK GRADE I\",12,IF(G303=\"CLERK GRADE II\",12,IF(G303=\"FIELDMAN & FIELD REC\",12,IF(G303=\"LAB BOY\",12,IF(G303=\"JAMADAR\",12,IF(G303=\"PEON\",12,10))))))))*(MINA(ROUND(AF303*6%,0),600))*(IF($U303=\"yes\",1,)))","v":0},{"$f":"(IF(G303=\"LAB BOY\",150,IF(G303=\"JAMADAR\",150,IF(G303=\"PEON\",150,0))))*12*BU303*(IF(I303<=0,0,1))","v":0},{"$f":"SUM(BC303:BK303)+AY303+AZ303","v":0},{"$f":"BL303","v":0},null,null,{"$f":"BM303+BN303+BO303","v":0},{"$f":"(IF(G303=\"PRINCIPAL\",1,IF(G303=\"H M\",1,IF(G303=\"AGRICULTURE INST\",1,IF(G303=\"TEACHER-1ST\",1,IF(G303=\"PTI  I  (13)\",1,IF(G303=\"AGRICULTURE TEACH\",1,IF(G303=\"INSTRUCTOR\",1,0))))))))+(IF(G303=\"JR TEACHER\",1,IF(G303=\"LIBRARIAN I\",1,0)))*(IF(O303=\"FIX PAY\",0,1))","v":0},{"$f":"IF(BQ303<=0,1,0)*(IF(O303=\"FIX PAY\",0,1))","v":1},{"$f":"(IF(G303=\"PRINCIPAL (16)\",1,IF(G303=\"V P (14)\",1,IF(G303=\"H M (14)\",1,IF(G303=\"AGRICULTURE INST (13)\",1,IF(G303=\"TEACHER-1ST (13)\",1,IF(G303=\"PTI  I  (13)\",1,IF(G303=\"AGRICULTURE TEACH (13)\",1,IF(G303=\"INSTRUCTOR (13)\",1,0))))))))+(IF(G303=\"JR TEACHER (13)\",1,IF(G303=\"LIBRARIAN I (13)\",1,0))))*(IF(O303=\"FIX PAY\",1,0))","v":0},{"$f":"IF(BS303<=0,1,0)*(IF(O303=\"FIX PAY\",1,0))","v":0},{"$f":"IF(O303=\"FIX PAY\",1,0)","v":0},{"$f":"IF(X303=\"No\",0,1)","v":1},0,{"$f":"IF(I303<=0,0,1)","v":1},{"$f":"IF(O303=\"SANVIDA\",1,0)","v":0},{"$f":"IF(BY303>0,I303,0)","v":0},"",null,{"$f":"IF(I303=\"\",\"\",MAX($CC$228:$CC$235,$CC$238:CC302)+1)","v":""}]
["",2202,67,{"$f":"IF(ISNA(VLOOKUP(C304,Master!BQ$60:CC$285,3,FALSE)),\"\",VLOOKUP(C304,Master!BQ$60:CC$285,3,FALSE))","v":""},{"$f":"IF(ISNA(VLOOKUP(C304,Master!BQ$60:CC$285,7,FALSE)),\"\",VLOOKUP(C304,Master!BQ$60:CC$285,7,FALSE))","v":""},{"$f":"IF(ISNA(VLOOKUP(C304,Master!BQ$60:CC$285,8,FALSE)),\"\",VLOOKUP(C304,Master!BQ$60:CC$285,8,FALSE))","v":""},{"$f":"IF(ISNA(VLOOKUP(C304,Master!BQ$60:CC$285,4,FALSE)),\"\",VLOOKUP(C304,Master!BQ$60:CC$285,4,FALSE))","v":""},{"$f":"IF(ISNA(VLOOKUP(C304,Master!BQ$60:CC$285,5,FALSE)),\"\",VLOOKUP(C304,Master!BQ$60:CC$285,5,FALSE))","v":""},{"$f":"IF(ISNA(VLOOKUP(C304,Master!BQ$60:CC$285,6,FALSE)),\"\",VLOOKUP(C304,Master!BQ$60:CC$285,6,FALSE))","v":""},"","","","","","",{"$nulls":3},0,null,{"$f":"IF(ISNA(VLOOKUP(C304,Master!BQ$60:CC$285,10,FALSE)),\"\",VLOOKUP(C304,Master!BQ$60:CC$285,10,FALSE))","v":""},null,null,{"$f":"IF(ISNA(VLOOKUP(C304,Master!BQ$60:CC$285,11,FALSE)),\"\",VLOOKUP(C304,Master!BQ$60:CC$285,11,FALSE))","v":""},{"$f":"IF(ISNA(VLOOKUP(C304,Master!BQ$60:CC$285,9,FALSE)),\"\",VLOOKUP(C304,Master!BQ$60:CC$285,9,FALSE))","v":""},{"$f":"IF(Y304=\"MALE\",1,0)*(IF(G304=\"JAMADAR\",1,0))*(IF(I304<=0,0,1))","v":0},{"$f":"IF(Y304=\"FEMALE\",1,0)*(IF(G304=\"JAMADAR\",1,0))*(IF(I304<=0,0,1))","v":0},{"$f":"IF(Y304=\"MALE\",1,0)*(IF(G304=\"LAB BOY\",1,0))*(IF(I304<=0,0,1))","v":0},{"$f":"IF(Y304=\"FEMALE\",1,0)*(IF(G304=\"LAB BOY\",1,0))*(IF(I304<=0,0,1))","v":0},{"$f":"IF(Y304=\"MALE\",1,0)*(IF(G304=\"PEON\",1,0))*(IF(I304<=0,0,1))","v":0},{"$f":"IF(Y304=\"FEMALE\",1,0)*(IF(G304=\"PEON\",1,0))*(IF(I304<=0,0,1))","v":0},{"$f":"IF(AND(I304=\"\"),\"\",I304-ROUNDUP(ROUND((I304*3%)-(I304*3%)*2.9%,-2),0))","v":""},{"$f":"IF(AND(I304=\"\"),\"\",$M304*$BQ304)","v":""},{"$f":"IF(AND(I304=\"\"),\"\",$M304*$BR304)","v":""},{"$f":"IF(AND(I304=\"\"),\"\",$M304*$BS304)","v":""},{"$f":"IF(AND(I304=\"\"),\"\",$M304*$BT304)","v":""},{"$f":"IF(AND(I304=\"\"),\"\",ROUND((AG304+AH304)*$AK$10,0)*BU304)","v":""},0,0,{"$f":"IF(AND(I304=\"\"),\"\",ROUND((AG304+AH304)*$AN$10,0)*BU304)","v":""},{"$f":"$G$221*BR304*BU304*(IF(I304<=0,0,1))*(IF(H304<=4800,1,0))","v":0},{"$f":"IF(AND(I304=\"\"),0,ROUND((I304+ROUND(I304*$AK$10,0))/2,0)*(IF(O304=\"FIX PAY\",0,1)))","v":0},{"$f":"IF(G304=\"CLERK GRADE I\",1,IF(G304=\"CLERK GRADE II\",1,0))*75*12*BU304*(IF(I304<=0,0,1))*BV304","v":0},{"$f":"IF(AND(I304=\"\"),0,(IF(G304=\"ASSISTANT\",12,IF(G304=\"CLERK GRADE I\",12,IF(G304=\"CLERK GRADE II\",12,IF(G304=\"FIELDMAN & FIELD REC\",12,IF(G304=\"LAB BOY\",12,IF(G304=\"JAMADAR\",12,IF(G304=\"PEON\",12,10))))))))*(MINA(ROUND(I304*6%,0),600))*(IF($U304=\"yes\",1,0)))","v":0},0,{"$f":"IF(AND(G304=\"\"),0,SUM(AK304:AS304)+AG304+AH304)","v":0},{"$f":"IF(AND(G304=\"\"),0,AT304)","v":0},null,null,{"$f":"AU304+AV304+AW304","v":0},{"$f":"IF(AND(G304=\"\"),0,N304*BQ304)","v":0},{"$f":"IF(AND(G304=\"\"),0,N304*BR304)","v":0},{"$f":"IF(AND(G304=\"\"),0,N304*BS304)","v":0},{"$f":"IF(AND(G304=\"\"),0,N304*BT304)","v":0},{"$f":"ROUND((AY304+AZ304)*$BC$10,0)*BU304","v":0},{"$f":"IF(AND(G304=\"\"),0,ROUND((IF(O304=\"FIX PAY\",0,AF304))*$BD$10*2,0)*BU304)","v":0},0,{"$f":"ROUND((AY304+AZ304)*$BF$10,0)*BU304","v":0},{"$f":"3387*2*BR304*BU304*(IF(I304<=0,0,1))*(IF(H304<=4800,1,0))","v":0},{"$f":"IF(AND(I304=\"\"),0,ROUND((AF304+ROUND(AF304*$AK$10,0))/2,0)*(IF(O304=\"FIX PAY\",0,1)))","v":0},{"$f":"IF(G304=\"CLERK GRADE I\",1,IF(G304=\"CLERK GRADE II\",1,0))*75*12*BU304*(IF(I304<=0,0,1))*BV304","v":0},{"$f":"IF(AND(G304=\"\"),0,(IF(G304=\"ASSISTANT\",12,IF(G304=\"CLERK GRADE I\",12,IF(G304=\"CLERK GRADE II\",12,IF(G304=\"FIELDMAN & FIELD REC\",12,IF(G304=\"LAB BOY\",12,IF(G304=\"JAMADAR\",12,IF(G304=\"PEON\",12,10))))))))*(MINA(ROUND(AF304*6%,0),600))*(IF($U304=\"yes\",1,)))","v":0},{"$f":"(IF(G304=\"LAB BOY\",150,IF(G304=\"JAMADAR\",150,IF(G304=\"PEON\",150,0))))*12*BU304*(IF(I304<=0,0,1))","v":0},{"$f":"SUM(BC304:BK304)+AY304+AZ304","v":0},{"$f":"BL304","v":0},null,null,{"$f":"BM304+BN304+BO304","v":0},{"$f":"(IF(G304=\"PRINCIPAL\",1,IF(G304=\"H M\",1,IF(G304=\"AGRICULTURE INST\",1,IF(G304=\"TEACHER-1ST\",1,IF(G304=\"PTI  I  (13)\",1,IF(G304=\"AGRICULTURE TEACH\",1,IF(G304=\"INSTRUCTOR\",1,0))))))))+(IF(G304=\"JR TEACHER\",1,IF(G304=\"LIBRARIAN I\",1,0)))*(IF(O304=\"FIX PAY\",0,1))","v":0},{"$f":"IF(BQ304<=0,1,0)*(IF(O304=\"FIX PAY\",0,1))","v":1},{"$f":"(IF(G304=\"PRINCIPAL (16)\",1,IF(G304=\"V P (14)\",1,IF(G304=\"H M (14)\",1,IF(G304=\"AGRICULTURE INST (13)\",1,IF(G304=\"TEACHER-1ST (13)\",1,IF(G304=\"PTI  I  (13)\",1,IF(G304=\"AGRICULTURE TEACH (13)\",1,IF(G304=\"INSTRUCTOR (13)\",1,0))))))))+(IF(G304=\"JR TEACHER (13)\",1,IF(G304=\"LIBRARIAN I (13)\",1,0))))*(IF(O304=\"FIX PAY\",1,0))","v":0},{"$f":"IF(BS304<=0,1,0)*(IF(O304=\"FIX PAY\",1,0))","v":0},{"$f":"IF(O304=\"FIX PAY\",1,0)","v":0},{"$f":"IF(X304=\"No\",0,1)","v":1},0,{"$f":"IF(I304<=0,0,1)","v":1},{"$f":"IF(O304=\"SANVIDA\",1,0)","v":0},{"$f":"IF(BY304>0,I304,0)","v":0},"",null,{"$f":"IF(I304=\"\",\"\",MAX($CC$228:$CC$235,$CC$238:CC303)+1)","v":""}]
["",2202,68,{"$f":"IF(ISNA(VLOOKUP(C305,Master!BQ$60:CC$285,3,FALSE)),\"\",VLOOKUP(C305,Master!BQ$60:CC$285,3,FALSE))","v":""},{"$f":"IF(ISNA(VLOOKUP(C305,Master!BQ$60:CC$285,7,FALSE)),\"\",VLOOKUP(C305,Master!BQ$60:CC$285,7,FALSE))","v":""},{"$f":"IF(ISNA(VLOOKUP(C305,Master!BQ$60:CC$285,8,FALSE)),\"\",VLOOKUP(C305,Master!BQ$60:CC$285,8,FALSE))","v":""},{"$f":"IF(ISNA(VLOOKUP(C305,Master!BQ$60:CC$285,4,FALSE)),\"\",VLOOKUP(C305,Master!BQ$60:CC$285,4,FALSE))","v":""},{"$f":"IF(ISNA(VLOOKUP(C305,Master!BQ$60:CC$285,5,FALSE)),\"\",VLOOKUP(C305,Master!BQ$60:CC$285,5,FALSE))","v":""},{"$f":"IF(ISNA(VLOOKUP(C305,Master!BQ$60:CC$285,6,FALSE)),\"\",VLOOKUP(C305,Master!BQ$60:CC$285,6,FALSE))","v":""},"","","","","","",{"$nulls":3},0,null,{"$f":"IF(ISNA(VLOOKUP(C305,Master!BQ$60:CC$285,10,FALSE)),\"\",VLOOKUP(C305,Master!BQ$60:CC$285,10,FALSE))","v":""},null,null,{"$f":"IF(ISNA(VLOOKUP(C305,Master!BQ$60:CC$285,11,FALSE)),\"\",VLOOKUP(C305,Master!BQ$60:CC$285,11,FALSE))","v":""},{"$f":"IF(ISNA(VLOOKUP(C305,Master!BQ$60:CC$285,9,FALSE)),\"\",VLOOKUP(C305,Master!BQ$60:CC$285,9,FALSE))","v":""},{"$f":"IF(Y305=\"MALE\",1,0)*(IF(G305=\"JAMADAR\",1,0))*(IF(I305<=0,0,1))","v":0},{"$f":"IF(Y305=\"FEMALE\",1,0)*(IF(G305=\"JAMADAR\",1,0))*(IF(I305<=0,0,1))","v":0},{"$f":"IF(Y305=\"MALE\",1,0)*(IF(G305=\"LAB BOY\",1,0))*(IF(I305<=0,0,1))","v":0},{"$f":"IF(Y305=\"FEMALE\",1,0)*(IF(G305=\"LAB BOY\",1,0))*(IF(I305<=0,0,1))","v":0},{"$f":"IF(Y305=\"MALE\",1,0)*(IF(G305=\"PEON\",1,0))*(IF(I305<=0,0,1))","v":0},{"$f":"IF(Y305=\"FEMALE\",1,0)*(IF(G305=\"PEON\",1,0))*(IF(I305<=0,0,1))","v":0},{"$f":"IF(AND(I305=\"\"),\"\",I305-ROUNDUP(ROUND((I305*3%)-(I305*3%)*2.9%,-2),0))","v":""},{"$f":"IF(AND(I305=\"\"),\"\",$M305*$BQ305)","v":""},{"$f":"IF(AND(I305=\"\"),\"\",$M305*$BR305)","v":""},{"$f":"IF(AND(I305=\"\"),\"\",$M305*$BS305)","v":""},{"$f":"IF(AND(I305=\"\"),\"\",$M305*$BT305)","v":""},{"$f":"IF(AND(I305=\"\"),\"\",ROUND((AG305+AH305)*$AK$10,0)*BU305)","v":""},0,0,{"$f":"IF(AND(I305=\"\"),\"\",ROUND((AG305+AH305)*$AN$10,0)*BU305)","v":""},{"$f":"$G$221*BR305*BU305*(IF(I305<=0,0,1))*(IF(H305<=4800,1,0))","v":0},{"$f":"IF(AND(I305=\"\"),0,ROUND((I305+ROUND(I305*$AK$10,0))/2,0)*(IF(O305=\"FIX PAY\",0,1)))","v":0},{"$f":"IF(G305=\"CLERK GRADE I\",1,IF(G305=\"CLERK GRADE II\",1,0))*75*12*BU305*(IF(I305<=0,0,1))*BV305","v":0},{"$f":"IF(AND(I305=\"\"),0,(IF(G305=\"ASSISTANT\",12,IF(G305=\"CLERK GRADE I\",12,IF(G305=\"CLERK GRADE II\",12,IF(G305=\"FIELDMAN & FIELD REC\",12,IF(G305=\"LAB BOY\",12,IF(G305=\"JAMADAR\",12,IF(G305=\"PEON\",12,10))))))))*(MINA(ROUND(I305*6%,0),600))*(IF($U305=\"yes\",1,0)))","v":0},0,{"$f":"IF(AND(G305=\"\"),0,SUM(AK305:AS305)+AG305+AH305)","v":0},{"$f":"IF(AND(G305=\"\"),0,AT305)","v":0},null,null,{"$f":"AU305+AV305+AW305","v":0},{"$f":"IF(AND(G305=\"\"),0,N305*BQ305)","v":0},{"$f":"IF(AND(G305=\"\"),0,N305*BR305)","v":0},{"$f":"IF(AND(G305=\"\"),0,N305*BS305)","v":0},{"$f":"IF(AND(G305=\"\"),0,N305*BT305)","v":0},{"$f":"ROUND((AY305+AZ305)*$BC$10,0)*BU305","v":0},{"$f":"IF(AND(G305=\"\"),0,ROUND((IF(O305=\"FIX PAY\",0,AF305))*$BD$10*2,0)*BU305)","v":0},0,{"$f":"ROUND((AY305+AZ305)*$BF$10,0)*BU305","v":0},{"$f":"3387*2*BR305*BU305*(IF(I305<=0,0,1))*(IF(H305<=4800,1,0))","v":0},{"$f":"IF(AND(I305=\"\"),0,ROUND((AF305+ROUND(AF305*$AK$10,0))/2,0)*(IF(O305=\"FIX PAY\",0,1)))","v":0},{"$f":"IF(G305=\"CLERK GRADE I\",1,IF(G305=\"CLERK GRADE II\",1,0))*75*12*BU305*(IF(I305<=0,0,1))*BV305","v":0},{"$f":"IF(AND(G305=\"\"),0,(IF(G305=\"ASSISTANT\",12,IF(G305=\"CLERK GRADE I\",12,IF(G305=\"CLERK GRADE II\",12,IF(G305=\"FIELDMAN & FIELD REC\",12,IF(G305=\"LAB BOY\",12,IF(G305=\"JAMADAR\",12,IF(G305=\"PEON\",12,10))))))))*(MINA(ROUND(AF305*6%,0),600))*(IF($U305=\"yes\",1,)))","v":0},{"$f":"(IF(G305=\"LAB BOY\",150,IF(G305=\"JAMADAR\",150,IF(G305=\"PEON\",150,0))))*12*BU305*(IF(I305<=0,0,1))","v":0},{"$f":"SUM(BC305:BK305)+AY305+AZ305","v":0},{"$f":"BL305","v":0},null,null,{"$f":"BM305+BN305+BO305","v":0},{"$f":"(IF(G305=\"PRINCIPAL\",1,IF(G305=\"H M\",1,IF(G305=\"AGRICULTURE INST\",1,IF(G305=\"TEACHER-1ST\",1,IF(G305=\"PTI  I  (13)\",1,IF(G305=\"AGRICULTURE TEACH\",1,IF(G305=\"INSTRUCTOR\",1,0))))))))+(IF(G305=\"JR TEACHER\",1,IF(G305=\"LIBRARIAN I\",1,0)))*(IF(O305=\"FIX PAY\",0,1))","v":0},{"$f":"IF(BQ305<=0,1,0)*(IF(O305=\"FIX PAY\",0,1))","v":1},{"$f":"(IF(G305=\"PRINCIPAL (16)\",1,IF(G305=\"V P (14)\",1,IF(G305=\"H M (14)\",1,IF(G305=\"AGRICULTURE INST (13)\",1,IF(G305=\"TEACHER-1ST (13)\",1,IF(G305=\"PTI  I  (13)\",1,IF(G305=\"AGRICULTURE TEACH (13)\",1,IF(G305=\"INSTRUCTOR (13)\",1,0))))))))+(IF(G305=\"JR TEACHER (13)\",1,IF(G305=\"LIBRARIAN I (13)\",1,0))))*(IF(O305=\"FIX PAY\",1,0))","v":0},{"$f":"IF(BS305<=0,1,0)*(IF(O305=\"FIX PAY\",1,0))","v":0},{"$f":"IF(O305=\"FIX PAY\",1,0)","v":0},{"$f":"IF(X305=\"No\",0,1)","v":1},0,{"$f":"IF(I305<=0,0,1)","v":1},{"$f":"IF(O305=\"SANVIDA\",1,0)","v":0},{"$f":"IF(BY305>0,I305,0)","v":0},"",null,{"$f":"IF(I305=\"\",\"\",MAX($CC$228:$CC$235,$CC$238:CC304)+1)","v":""}]
["",2202,69,{"$f":"IF(ISNA(VLOOKUP(C306,Master!BQ$60:CC$285,3,FALSE)),\"\",VLOOKUP(C306,Master!BQ$60:CC$285,3,FALSE))","v":""},{"$f":"IF(ISNA(VLOOKUP(C306,Master!BQ$60:CC$285,7,FALSE)),\"\",VLOOKUP(C306,Master!BQ$60:CC$285,7,FALSE))","v":""},{"$f":"IF(ISNA(VLOOKUP(C306,Master!BQ$60:CC$285,8,FALSE)),\"\",VLOOKUP(C306,Master!BQ$60:CC$285,8,FALSE))","v":""},{"$f":"IF(ISNA(VLOOKUP(C306,Master!BQ$60:CC$285,4,FALSE)),\"\",VLOOKUP(C306,Master!BQ$60:CC$285,4,FALSE))","v":""},{"$f":"IF(ISNA(VLOOKUP(C306,Master!BQ$60:CC$285,5,FALSE)),\"\",VLOOKUP(C306,Master!BQ$60:CC$285,5,FALSE))","v":""},{"$f":"IF(ISNA(VLOOKUP(C306,Master!BQ$60:CC$285,6,FALSE)),\"\",VLOOKUP(C306,Master!BQ$60:CC$285,6,FALSE))","v":""},"","","","","","",{"$nulls":3},0,null,{"$f":"IF(ISNA(VLOOKUP(C306,Master!BQ$60:CC$285,10,FALSE)),\"\",VLOOKUP(C306,Master!BQ$60:CC$285,10,FALSE))","v":""},null,null,{"$f":"IF(ISNA(VLOOKUP(C306,Master!BQ$60:CC$285,11,FALSE)),\"\",VLOOKUP(C306,Master!BQ$60:CC$285,11,FALSE))","v":""},{"$f":"IF(ISNA(VLOOKUP(C306,Master!BQ$60:CC$285,9,FALSE)),\"\",VLOOKUP(C306,Master!BQ$60:CC$285,9,FALSE))","v":""},{"$f":"IF(Y306=\"MALE\",1,0)*(IF(G306=\"JAMADAR\",1,0))*(IF(I306<=0,0,1))","v":0},{"$f":"IF(Y306=\"FEMALE\",1,0)*(IF(G306=\"JAMADAR\",1,0))*(IF(I306<=0,0,1))","v":0},{"$f":"IF(Y306=\"MALE\",1,0)*(IF(G306=\"LAB BOY\",1,0))*(IF(I306<=0,0,1))","v":0},{"$f":"IF(Y306=\"FEMALE\",1,0)*(IF(G306=\"LAB BOY\",1,0))*(IF(I306<=0,0,1))","v":0},{"$f":"IF(Y306=\"MALE\",1,0)*(IF(G306=\"PEON\",1,0))*(IF(I306<=0,0,1))","v":0},{"$f":"IF(Y306=\"FEMALE\",1,0)*(IF(G306=\"PEON\",1,0))*(IF(I306<=0,0,1))","v":0},{"$f":"IF(AND(I306=\"\"),\"\",I306-ROUNDUP(ROUND((I306*3%)-(I306*3%)*2.9%,-2),0))","v":""},{"$f":"IF(AND(I306=\"\"),\"\",$M306*$BQ306)","v":""},{"$f":"IF(AND(I306=\"\"),\"\",$M306*$BR306)","v":""},{"$f":"IF(AND(I306=\"\"),\"\",$M306*$BS306)","v":""},{"$f":"IF(AND(I306=\"\"),\"\",$M306*$BT306)","v":""},{"$f":"IF(AND(I306=\"\"),\"\",ROUND((AG306+AH306)*$AK$10,0)*BU306)","v":""},0,0,{"$f":"IF(AND(I306=\"\"),\"\",ROUND((AG306+AH306)*$AN$10,0)*BU306)","v":""},{"$f":"$G$221*BR306*BU306*(IF(I306<=0,0,1))*(IF(H306<=4800,1,0))","v":0},{"$f":"IF(AND(I306=\"\"),0,ROUND((I306+ROUND(I306*$AK$10,0))/2,0)*(IF(O306=\"FIX PAY\",0,1)))","v":0},{"$f":"IF(G306=\"CLERK GRADE I\",1,IF(G306=\"CLERK GRADE II\",1,0))*75*12*BU306*(IF(I306<=0,0,1))*BV306","v":0},{"$f":"IF(AND(I306=\"\"),0,(IF(G306=\"ASSISTANT\",12,IF(G306=\"CLERK GRADE I\",12,IF(G306=\"CLERK GRADE II\",12,IF(G306=\"FIELDMAN & FIELD REC\",12,IF(G306=\"LAB BOY\",12,IF(G306=\"JAMADAR\",12,IF(G306=\"PEON\",12,10))))))))*(MINA(ROUND(I306*6%,0),600))*(IF($U306=\"yes\",1,0)))","v":0},0,{"$f":"IF(AND(G306=\"\"),0,SUM(AK306:AS306)+AG306+AH306)","v":0},{"$f":"IF(AND(G306=\"\"),0,AT306)","v":0},null,null,{"$f":"AU306+AV306+AW306","v":0},{"$f":"IF(AND(G306=\"\"),0,N306*BQ306)","v":0},{"$f":"IF(AND(G306=\"\"),0,N306*BR306)","v":0},{"$f":"IF(AND(G306=\"\"),0,N306*BS306)","v":0},{"$f":"IF(AND(G306=\"\"),0,N306*BT306)","v":0},{"$f":"ROUND((AY306+AZ306)*$BC$10,0)*BU306","v":0},{"$f":"IF(AND(G306=\"\"),0,ROUND((IF(O306=\"FIX PAY\",0,AF306))*$BD$10*2,0)*BU306)","v":0},0,{"$f":"ROUND((AY306+AZ306)*$BF$10,0)*BU306","v":0},{"$f":"3387*2*BR306*BU306*(IF(I306<=0,0,1))*(IF(H306<=4800,1,0))","v":0},{"$f":"IF(AND(I306=\"\"),0,ROUND((AF306+ROUND(AF306*$AK$10,0))/2,0)*(IF(O306=\"FIX PAY\",0,1)))","v":0},{"$f":"IF(G306=\"CLERK GRADE I\",1,IF(G306=\"CLERK GRADE II\",1,0))*75*12*BU306*(IF(I306<=0,0,1))*BV306","v":0},{"$f":"IF(AND(G306=\"\"),0,(IF(G306=\"ASSISTANT\",12,IF(G306=\"CLERK GRADE I\",12,IF(G306=\"CLERK GRADE II\",12,IF(G306=\"FIELDMAN & FIELD REC\",12,IF(G306=\"LAB BOY\",12,IF(G306=\"JAMADAR\",12,IF(G306=\"PEON\",12,10))))))))*(MINA(ROUND(AF306*6%,0),600))*(IF($U306=\"yes\",1,)))","v":0},{"$f":"(IF(G306=\"LAB BOY\",150,IF(G306=\"JAMADAR\",150,IF(G306=\"PEON\",150,0))))*12*BU306*(IF(I306<=0,0,1))","v":0},{"$f":"SUM(BC306:BK306)+AY306+AZ306","v":0},{"$f":"BL306","v":0},null,null,{"$f":"BM306+BN306+BO306","v":0},{"$f":"(IF(G306=\"PRINCIPAL\",1,IF(G306=\"H M\",1,IF(G306=\"AGRICULTURE INST\",1,IF(G306=\"TEACHER-1ST\",1,IF(G306=\"PTI  I  (13)\",1,IF(G306=\"AGRICULTURE TEACH\",1,IF(G306=\"INSTRUCTOR\",1,0))))))))+(IF(G306=\"JR TEACHER\",1,IF(G306=\"LIBRARIAN I\",1,0)))*(IF(O306=\"FIX PAY\",0,1))","v":0},{"$f":"IF(BQ306<=0,1,0)*(IF(O306=\"FIX PAY\",0,1))","v":1},{"$f":"(IF(G306=\"PRINCIPAL (16)\",1,IF(G306=\"V P (14)\",1,IF(G306=\"H M (14)\",1,IF(G306=\"AGRICULTURE INST (13)\",1,IF(G306=\"TEACHER-1ST (13)\",1,IF(G306=\"PTI  I  (13)\",1,IF(G306=\"AGRICULTURE TEACH (13)\",1,IF(G306=\"INSTRUCTOR (13)\",1,0))))))))+(IF(G306=\"JR TEACHER (13)\",1,IF(G306=\"LIBRARIAN I (13)\",1,0))))*(IF(O306=\"FIX PAY\",1,0))","v":0},{"$f":"IF(BS306<=0,1,0)*(IF(O306=\"FIX PAY\",1,0))","v":0},{"$f":"IF(O306=\"FIX PAY\",1,0)","v":0},{"$f":"IF(X306=\"No\",0,1)","v":1},0,{"$f":"IF(I306<=0,0,1)","v":1},{"$f":"IF(O306=\"SANVIDA\",1,0)","v":0},{"$f":"IF(BY306>0,I306,0)","v":0},"",null,{"$f":"IF(I306=\"\",\"\",MAX($CC$228:$CC$235,$CC$238:CC305)+1)","v":""}]
["",2202,70,{"$f":"IF(ISNA(VLOOKUP(C307,Master!BQ$60:CC$285,3,FALSE)),\"\",VLOOKUP(C307,Master!BQ$60:CC$285,3,FALSE))","v":""},{"$f":"IF(ISNA(VLOOKUP(C307,Master!BQ$60:CC$285,7,FALSE)),\"\",VLOOKUP(C307,Master!BQ$60:CC$285,7,FALSE))","v":""},{"$f":"IF(ISNA(VLOOKUP(C307,Master!BQ$60:CC$285,8,FALSE)),\"\",VLOOKUP(C307,Master!BQ$60:CC$285,8,FALSE))","v":""},{"$f":"IF(ISNA(VLOOKUP(C307,Master!BQ$60:CC$285,4,FALSE)),\"\",VLOOKUP(C307,Master!BQ$60:CC$285,4,FALSE))","v":""},{"$f":"IF(ISNA(VLOOKUP(C307,Master!BQ$60:CC$285,5,FALSE)),\"\",VLOOKUP(C307,Master!BQ$60:CC$285,5,FALSE))","v":""},{"$f":"IF(ISNA(VLOOKUP(C307,Master!BQ$60:CC$285,6,FALSE)),\"\",VLOOKUP(C307,Master!BQ$60:CC$285,6,FALSE))","v":""},"","","","","","",{"$nulls":3},0,null,{"$f":"IF(ISNA(VLOOKUP(C307,Master!BQ$60:CC$285,10,FALSE)),\"\",VLOOKUP(C307,Master!BQ$60:CC$285,10,FALSE))","v":""},null,null,{"$f":"IF(ISNA(VLOOKUP(C307,Master!BQ$60:CC$285,11,FALSE)),\"\",VLOOKUP(C307,Master!BQ$60:CC$285,11,FALSE))","v":""},{"$f":"IF(ISNA(VLOOKUP(C307,Master!BQ$60:CC$285,9,FALSE)),\"\",VLOOKUP(C307,Master!BQ$60:CC$285,9,FALSE))","v":""},{"$f":"IF(Y307=\"MALE\",1,0)*(IF(G307=\"JAMADAR\",1,0))*(IF(I307<=0,0,1))","v":0},{"$f":"IF(Y307=\"FEMALE\",1,0)*(IF(G307=\"JAMADAR\",1,0))*(IF(I307<=0,0,1))","v":0},{"$f":"IF(Y307=\"MALE\",1,0)*(IF(G307=\"LAB BOY\",1,0))*(IF(I307<=0,0,1))","v":0},{"$f":"IF(Y307=\"FEMALE\",1,0)*(IF(G307=\"LAB BOY\",1,0))*(IF(I307<=0,0,1))","v":0},{"$f":"IF(Y307=\"MALE\",1,0)*(IF(G307=\"PEON\",1,0))*(IF(I307<=0,0,1))","v":0},{"$f":"IF(Y307=\"FEMALE\",1,0)*(IF(G307=\"PEON\",1,0))*(IF(I307<=0,0,1))","v":0},{"$f":"IF(AND(I307=\"\"),\"\",I307-ROUNDUP(ROUND((I307*3%)-(I307*3%)*2.9%,-2),0))","v":""},{"$f":"IF(AND(I307=\"\"),\"\",$M307*$BQ307)","v":""},{"$f":"IF(AND(I307=\"\"),\"\",$M307*$BR307)","v":""},{"$f":"IF(AND(I307=\"\"),\"\",$M307*$BS307)","v":""},{"$f":"IF(AND(I307=\"\"),\"\",$M307*$BT307)","v":""},{"$f":"IF(AND(I307=\"\"),\"\",ROUND((AG307+AH307)*$AK$10,0)*BU307)","v":""},0,0,{"$f":"IF(AND(I307=\"\"),\"\",ROUND((AG307+AH307)*$AN$10,0)*BU307)","v":""},{"$f":"$G$221*BR307*BU307*(IF(I307<=0,0,1))*(IF(H307<=4800,1,0))","v":0},{"$f":"IF(AND(I307=\"\"),0,ROUND((I307+ROUND(I307*$AK$10,0))/2,0)*(IF(O307=\"FIX PAY\",0,1)))","v":0},{"$f":"IF(G307=\"CLERK GRADE I\",1,IF(G307=\"CLERK GRADE II\",1,0))*75*12*BU307*(IF(I307<=0,0,1))*BV307","v":0},null,0,{"$f":"IF(AND(I307=\"\"),\"\",SUM(AK307:AS307)+AG307+AH307)","v":""},{"$f":"IF(AND(I307=\"\"),\"\",AT307)","v":""},null,null,{"$f":"IF(AND(I307=\"\"),\"\",AU307+AV307+AW307)","v":""},{"$f":"IF(AND(I307=\"\"),\"\",N307*BQ307)","v":""},{"$f":"IF(AND(I307=\"\"),\"\",N307*BR307)","v":""},{"$f":"IF(AND(I307=\"\"),\"\",N307*BS307)","v":""},{"$f":"IF(AND(I307=\"\"),\"\",N307*BT307)","v":""},{"$f":"IF(AND(I307=\"\"),\"\",ROUND((AY307+AZ307)*$BC$10,0)*BU307)","v":""},null,0,{"$f":"IF(AND(I307=\"\"),\"\",ROUND((AY307+AZ307)*$BF$10,0)*BU307)","v":""},{"$f":"3387*2*BR307*BU307*(IF(I307<=0,0,1))*(IF(H307<=4800,1,0))","v":0},{"$f":"IF(AND(I307=\"\"),0,ROUND((AF307+ROUND(AF307*$AK$10,0))/2,0)*(IF(O307=\"FIX PAY\",0,1)))","v":0},{"$f":"IF(G307=\"CLERK GRADE I\",1,IF(G307=\"CLERK GRADE II\",1,0))*75*12*BU307*(IF(I307<=0,0,1))*BV307","v":0},{"$f":"IF(AND(G307=\"\"),0,(IF(G307=\"ASSISTANT\",12,IF(G307=\"CLERK GRADE I\",12,IF(G307=\"CLERK GRADE II\",12,IF(G307=\"FIELDMAN & FIELD REC\",12,IF(G307=\"LAB BOY\",12,IF(G307=\"JAMADAR\",12,IF(G307=\"PEON\",12,10))))))))*(MINA(ROUND(AF307*6%,0),600))*(IF($U307=\"yes\",1,)))","v":0},{"$f":"IF(AND(I307=\"\"),\"\",(IF(G307=\"LAB BOY\",150,IF(G307=\"JAMADAR\",150,IF(G307=\"PEON\",150,0))))*12*BU307*(IF(I307<=0,0,1)))","v":""},{"$f":"IF(AND(I307=\"\"),\"\",SUM(BC307:BK307)+AY307+AZ307)","v":""},{"$f":"IF(AND(I307=\"\"),\"\",BL307)","v":""},null,null,{"$f":"IF(AND(I307=\"\"),\"\",BM307+BN307+BO307)","v":""},{"$f":"(IF(G307=\"PRINCIPAL\",1,IF(G307=\"H M\",1,IF(G307=\"AGRICULTURE INST\",1,IF(G307=\"TEACHER-1ST\",1,IF(G307=\"PTI  I  (13)\",1,IF(G307=\"AGRICULTURE TEACH\",1,IF(G307=\"INSTRUCTOR\",1,0))))))))+(IF(G307=\"JR TEACHER\",1,IF(G307=\"LIBRARIAN I\",1,0)))*(IF(O307=\"FIX PAY\",0,1))","v":0},{"$f":"IF(BQ307<=0,1,0)*(IF(O307=\"FIX PAY\",0,1))","v":1},{"$f":"(IF(G307=\"PRINCIPAL (16)\",1,IF(G307=\"V P (14)\",1,IF(G307=\"H M (14)\",1,IF(G307=\"AGRICULTURE INST (13)\",1,IF(G307=\"TEACHER-1ST (13)\",1,IF(G307=\"PTI  I  (13)\",1,IF(G307=\"AGRICULTURE TEACH (13)\",1,IF(G307=\"INSTRUCTOR (13)\",1,0))))))))+(IF(G307=\"JR TEACHER (13)\",1,IF(G307=\"LIBRARIAN I (13)\",1,0))))*(IF(O307=\"FIX PAY\",1,0))","v":0},{"$f":"IF(BS307<=0,1,0)*(IF(O307=\"FIX PAY\",1,0))","v":0},{"$f":"IF(O307=\"FIX PAY\",1,0)","v":0},{"$f":"IF(X307=\"No\",0,1)","v":1},0,{"$f":"IF(I307<=0,0,1)","v":1},{"$f":"IF(O307=\"SANVIDA\",1,0)","v":0},{"$f":"IF(BY307>0,I307,0)","v":0},"",null,{"$f":"IF(I307=\"\",\"\",MAX($CC$228:$CC$235,$CC$238:CC306)+1)","v":""}]
["",2202,71,{"$f":"IF(ISNA(VLOOKUP(C308,Master!BQ$60:CC$285,3,FALSE)),\"\",VLOOKUP(C308,Master!BQ$60:CC$285,3,FALSE))","v":""},{"$f":"IF(ISNA(VLOOKUP(C308,Master!BQ$60:CC$285,7,FALSE)),\"\",VLOOKUP(C308,Master!BQ$60:CC$285,7,FALSE))","v":""},{"$f":"IF(ISNA(VLOOKUP(C308,Master!BQ$60:CC$285,8,FALSE)),\"\",VLOOKUP(C308,Master!BQ$60:CC$285,8,FALSE))","v":""},{"$f":"IF(ISNA(VLOOKUP(C308,Master!BQ$60:CC$285,4,FALSE)),\"\",VLOOKUP(C308,Master!BQ$60:CC$285,4,FALSE))","v":""},{"$f":"IF(ISNA(VLOOKUP(C308,Master!BQ$60:CC$285,5,FALSE)),\"\",VLOOKUP(C308,Master!BQ$60:CC$285,5,FALSE))","v":""},{"$f":"IF(ISNA(VLOOKUP(C308,Master!BQ$60:CC$285,6,FALSE)),\"\",VLOOKUP(C308,Master!BQ$60:CC$285,6,FALSE))","v":""},"","","","","","",{"$nulls":3},0,null,{"$f":"IF(ISNA(VLOOKUP(C308,Master!BQ$60:CC$285,10,FALSE)),\"\",VLOOKUP(C308,Master!BQ$60:CC$285,10,FALSE))","v":""},null,null,{"$f":"IF(ISNA(VLOOKUP(C308,Master!BQ$60:CC$285,11,FALSE)),\"\",VLOOKUP(C308,Master!BQ$60:CC$285,11,FALSE))","v":""},{"$f":"IF(ISNA(VLOOKUP(C308,Master!BQ$60:CC$285,9,FALSE)),\"\",VLOOKUP(C308,Master!BQ$60:CC$285,9,FALSE))","v":""},0,0,0,0,0,0,"","","","","","",0,0,"",0,0,0,null,0,"","",null,null,"","","","","","",null,0,"",0,0,0,0,"","","",null,null,"",0,1,0,0,0,1,0,1,0,0,"",null,{"$f":"IF(I308=\"\",\"\",MAX($CC$228:$CC$235,$CC$238:CC307)+1)","v":""}]
["",2202,72,{"$f":"IF(ISNA(VLOOKUP(C309,Master!BQ$60:CC$285,3,FALSE)),\"\",VLOOKUP(C309,Master!BQ$60:CC$285,3,FALSE))","v":""},{"$f":"IF(ISNA(VLOOKUP(C309,Master!BQ$60:CC$285,7,FALSE)),\"\",VLOOKUP(C309,Master!BQ$60:CC$285,7,FALSE))","v":""},{"$f":"IF(ISNA(VLOOKUP(C309,Master!BQ$60:CC$285,8,FALSE)),\"\",VLOOKUP(C309,Master!BQ$60:CC$285,8,FALSE))","v":""},{"$f":"IF(ISNA(VLOOKUP(C309,Master!BQ$60:CC$285,4,FALSE)),\"\",VLOOKUP(C309,Master!BQ$60:CC$285,4,FALSE))","v":""},{"$f":"IF(ISNA(VLOOKUP(C309,Master!BQ$60:CC$285,5,FALSE)),\"\",VLOOKUP(C309,Master!BQ$60:CC$285,5,FALSE))","v":""},{"$f":"IF(ISNA(VLOOKUP(C309,Master!BQ$60:CC$285,6,FALSE)),\"\",VLOOKUP(C309,Master!BQ$60:CC$285,6,FALSE))","v":""},"","","","","","",{"$nulls":3},0,null,{"$f":"IF(ISNA(VLOOKUP(C309,Master!BQ$60:CC$285,10,FALSE)),\"\",VLOOKUP(C309,Master!BQ$60:CC$285,10,FALSE))","v":""},null,null,{"$f":"IF(ISNA(VLOOKUP(C309,Master!BQ$60:CC$285,11,FALSE)),\"\",VLOOKUP(C309,Master!BQ$60:CC$285,11,FALSE))","v":""},{"$f":"IF(ISNA(VLOOKUP(C309,Master!BQ$60:CC$285,9,FALSE)),\"\",VLOOKUP(C309,Master!BQ$60:CC$285,9,FALSE))","v":""},0,0,0,0,0,0,"","","","","","",0,0,"",0,0,0,null,0,"","",null,null,"","","","","","",null,0,"",0,0,0,0,"","","",null,null,"",0,1,0,0,0,1,0,1,0,0,"",null,{"$f":"IF(I309=\"\",\"\",MAX($CC$228:$CC$235,$CC$238:CC308)+1)","v":""}]
["",2202,73,{"$f":"IF(ISNA(VLOOKUP(C310,Master!BQ$60:CC$285,3,FALSE)),\"\",VLOOKUP(C310,Master!BQ$60:CC$285,3,FALSE))","v":""},{"$f":"IF(ISNA(VLOOKUP(C310,Master!BQ$60:CC$285,7,FALSE)),\"\",VLOOKUP(C310,Master!BQ$60:CC$285,7,FALSE))","v":""},{"$f":"IF(ISNA(VLOOKUP(C310,Master!BQ$60:CC$285,8,FALSE)),\"\",VLOOKUP(C310,Master!BQ$60:CC$285,8,FALSE))","v":""},{"$f":"IF(ISNA(VLOOKUP(C310,Master!BQ$60:CC$285,4,FALSE)),\"\",VLOOKUP(C310,Master!BQ$60:CC$285,4,FALSE))","v":""},{"$f":"IF(ISNA(VLOOKUP(C310,Master!BQ$60:CC$285,5,FALSE)),\"\",VLOOKUP(C310,Master!BQ$60:CC$285,5,FALSE))","v":""},{"$f":"IF(ISNA(VLOOKUP(C310,Master!BQ$60:CC$285,6,FALSE)),\"\",VLOOKUP(C310,Master!BQ$60:CC$285,6,FALSE))","v":""},"","","","","","",{"$nulls":3},0,null,{"$f":"IF(ISNA(VLOOKUP(C310,Master!BQ$60:CC$285,10,FALSE)),\"\",VLOOKUP(C310,Master!BQ$60:CC$285,10,FALSE))","v":""},null,null,{"$f":"IF(ISNA(VLOOKUP(C310,Master!BQ$60:CC$285,11,FALSE)),\"\",VLOOKUP(C310,Master!BQ$60:CC$285,11,FALSE))","v":""},{"$f":"IF(ISNA(VLOOKUP(C310,Master!BQ$60:CC$285,9,FALSE)),\"\",VLOOKUP(C310,Master!BQ$60:CC$285,9,FALSE))","v":""},0,0,0,0,0,0,"","","","","","",0,0,"",0,0,0,null,0,"","",null,null,"","","","","","",null,0,"",0,0,0,0,"","","",null,null,"",0,1,0,0,0,1,0,1,0,0,"",null,{"$f":"IF(I310=\"\",\"\",MAX($CC$228:$CC$235,$CC$238:CC309)+1)","v":""}]
["",2202,74,{"$f":"IF(ISNA(VLOOKUP(C311,Master!BQ$60:CC$285,3,FALSE)),\"\",VLOOKUP(C311,Master!BQ$60:CC$285,3,FALSE))","v":""},{"$f":"IF(ISNA(VLOOKUP(C311,Master!BQ$60:CC$285,7,FALSE)),\"\",VLOOKUP(C311,Master!BQ$60:CC$285,7,FALSE))","v":""},{"$f":"IF(ISNA(VLOOKUP(C311,Master!BQ$60:CC$285,8,FALSE)),\"\",VLOOKUP(C311,Master!BQ$60:CC$285,8,FALSE))","v":""},{"$f":"IF(ISNA(VLOOKUP(C311,Master!BQ$60:CC$285,4,FALSE)),\"\",VLOOKUP(C311,Master!BQ$60:CC$285,4,FALSE))","v":""},{"$f":"IF(ISNA(VLOOKUP(C311,Master!BQ$60:CC$285,5,FALSE)),\"\",VLOOKUP(C311,Master!BQ$60:CC$285,5,FALSE))","v":""},{"$f":"IF(ISNA(VLOOKUP(C311,Master!BQ$60:CC$285,6,FALSE)),\"\",VLOOKUP(C311,Master!BQ$60:CC$285,6,FALSE))","v":""},"","","","","","",{"$nulls":3},0,null,{"$f":"IF(ISNA(VLOOKUP(C311,Master!BQ$60:CC$285,10,FALSE)),\"\",VLOOKUP(C311,Master!BQ$60:CC$285,10,FALSE))","v":""},null,null,{"$f":"IF(ISNA(VLOOKUP(C311,Master!BQ$60:CC$285,11,FALSE)),\"\",VLOOKUP(C311,Master!BQ$60:CC$285,11,FALSE))","v":""},{"$f":"IF(ISNA(VLOOKUP(C311,Master!BQ$60:CC$285,9,FALSE)),\"\",VLOOKUP(C311,Master!BQ$60:CC$285,9,FALSE))","v":""},0,0,0,0,0,0,"","","","","","",0,0,"",0,0,0,null,0,"","",null,null,"","","","","","",null,0,"",0,0,0,0,"","","",null,null,"",0,1,0,0,0,1,0,1,0,0,"",null,{"$f":"IF(I311=\"\",\"\",MAX($CC$228:$CC$235,$CC$238:CC310)+1)","v":""}]
["",2202,75,{"$f":"IF(ISNA(VLOOKUP(C312,Master!BQ$60:CC$285,3,FALSE)),\"\",VLOOKUP(C312,Master!BQ$60:CC$285,3,FALSE))","v":""},{"$f":"IF(ISNA(VLOOKUP(C312,Master!BQ$60:CC$285,7,FALSE)),\"\",VLOOKUP(C312,Master!BQ$60:CC$285,7,FALSE))","v":""},{"$f":"IF(ISNA(VLOOKUP(C312,Master!BQ$60:CC$285,8,FALSE)),\"\",VLOOKUP(C312,Master!BQ$60:CC$285,8,FALSE))","v":""},{"$f":"IF(ISNA(VLOOKUP(C312,Master!BQ$60:CC$285,4,FALSE)),\"\",VLOOKUP(C312,Master!BQ$60:CC$285,4,FALSE))","v":""},{"$f":"IF(ISNA(VLOOKUP(C312,Master!BQ$60:CC$285,5,FALSE)),\"\",VLOOKUP(C312,Master!BQ$60:CC$285,5,FALSE))","v":""},{"$f":"IF(ISNA(VLOOKUP(C312,Master!BQ$60:CC$285,6,FALSE)),\"\",VLOOKUP(C312,Master!BQ$60:CC$285,6,FALSE))","v":""},"","","","","","",{"$nulls":3},0,null,{"$f":"IF(ISNA(VLOOKUP(C312,Master!BQ$60:CC$285,10,FALSE)),\"\",VLOOKUP(C312,Master!BQ$60:CC$285,10,FALSE))","v":""},null,null,{"$f":"IF(ISNA(VLOOKUP(C312,Master!BQ$60:CC$285,11,FALSE)),\"\",VLOOKUP(C312,Master!BQ$60:CC$285,11,FALSE))","v":""},{"$f":"IF(ISNA(VLOOKUP(C312,Master!BQ$60:CC$285,9,FALSE)),\"\",VLOOKUP(C312,Master!BQ$60:CC$285,9,FALSE))","v":""},0,0,0,0,0,0,"","","","","","",0,0,"",0,0,0,null,0,"","",null,null,"","","","","","",null,0,"",0,0,0,0,"","","",null,null,"",0,1,0,0,0,1,0,1,0,0,"",null,{"$f":"IF(I312=\"\",\"\",MAX($CC$228:$CC$235,$CC$238:CC311)+1)","v":""}]
["",2202,76,{"$f":"IF(ISNA(VLOOKUP(C313,Master!BQ$60:CC$285,3,FALSE)),\"\",VLOOKUP(C313,Master!BQ$60:CC$285,3,FALSE))","v":""},{"$f":"IF(ISNA(VLOOKUP(C313,Master!BQ$60:CC$285,7,FALSE)),\"\",VLOOKUP(C313,Master!BQ$60:CC$285,7,FALSE))","v":""},{"$f":"IF(ISNA(VLOOKUP(C313,Master!BQ$60:CC$285,8,FALSE)),\"\",VLOOKUP(C313,Master!BQ$60:CC$285,8,FALSE))","v":""},{"$f":"IF(ISNA(VLOOKUP(C313,Master!BQ$60:CC$285,4,FALSE)),\"\",VLOOKUP(C313,Master!BQ$60:CC$285,4,FALSE))","v":""},{"$f":"IF(ISNA(VLOOKUP(C313,Master!BQ$60:CC$285,5,FALSE)),\"\",VLOOKUP(C313,Master!BQ$60:CC$285,5,FALSE))","v":""},{"$f":"IF(ISNA(VLOOKUP(C313,Master!BQ$60:CC$285,6,FALSE)),\"\",VLOOKUP(C313,Master!BQ$60:CC$285,6,FALSE))","v":""},"","","","","","",{"$nulls":3},0,null,{"$f":"IF(ISNA(VLOOKUP(C313,Master!BQ$60:CC$285,10,FALSE)),\"\",VLOOKUP(C313,Master!BQ$60:CC$285,10,FALSE))","v":""},null,null,{"$f":"IF(ISNA(VLOOKUP(C313,Master!BQ$60:CC$285,11,FALSE)),\"\",VLOOKUP(C313,Master!BQ$60:CC$285,11,FALSE))","v":""},{"$f":"IF(ISNA(VLOOKUP(C313,Master!BQ$60:CC$285,9,FALSE)),\"\",VLOOKUP(C313,Master!BQ$60:CC$285,9,FALSE))","v":""},0,0,0,0,0,0,"","","","","","",0,0,"",0,0,0,null,0,"","",null,null,"","","","","","",null,0,"",0,0,0,0,"","","",null,null,"",0,1,0,0,0,1,0,1,0,0,"",null,{"$f":"IF(I313=\"\",\"\",MAX($CC$228:$CC$235,$CC$238:CC312)+1)","v":""}]
["",2202,77,{"$f":"IF(ISNA(VLOOKUP(C314,Master!BQ$60:CC$285,3,FALSE)),\"\",VLOOKUP(C314,Master!BQ$60:CC$285,3,FALSE))","v":""},{"$f":"IF(ISNA(VLOOKUP(C314,Master!BQ$60:CC$285,7,FALSE)),\"\",VLOOKUP(C314,Master!BQ$60:CC$285,7,FALSE))","v":""},{"$f":"IF(ISNA(VLOOKUP(C314,Master!BQ$60:CC$285,8,FALSE)),\"\",VLOOKUP(C314,Master!BQ$60:CC$285,8,FALSE))","v":""},{"$f":"IF(ISNA(VLOOKUP(C314,Master!BQ$60:CC$285,4,FALSE)),\"\",VLOOKUP(C314,Master!BQ$60:CC$285,4,FALSE))","v":""},{"$f":"IF(ISNA(VLOOKUP(C314,Master!BQ$60:CC$285,5,FALSE)),\"\",VLOOKUP(C314,Master!BQ$60:CC$285,5,FALSE))","v":""},{"$f":"IF(ISNA(VLOOKUP(C314,Master!BQ$60:CC$285,6,FALSE)),\"\",VLOOKUP(C314,Master!BQ$60:CC$285,6,FALSE))","v":""},"","","","","","",{"$nulls":3},0,null,{"$f":"IF(ISNA(VLOOKUP(C314,Master!BQ$60:CC$285,10,FALSE)),\"\",VLOOKUP(C314,Master!BQ$60:CC$285,10,FALSE))","v":""},null,null,{"$f":"IF(ISNA(VLOOKUP(C314,Master!BQ$60:CC$285,11,FALSE)),\"\",VLOOKUP(C314,Master!BQ$60:CC$285,11,FALSE))","v":""},{"$f":"IF(ISNA(VLOOKUP(C314,Master!BQ$60:CC$285,9,FALSE)),\"\",VLOOKUP(C314,Master!BQ$60:CC$285,9,FALSE))","v":""},0,0,0,0,0,0,"","","","","","",0,0,"",0,0,0,null,0,"","",null,null,"","","","","","",null,0,"",0,0,0,0,"","","",null,null,"",0,1,0,0,0,1,0,1,0,0,"",null,{"$f":"IF(I314=\"\",\"\",MAX($CC$228:$CC$235,$CC$238:CC313)+1)","v":""}]
["",2202,78,{"$f":"IF(ISNA(VLOOKUP(C315,Master!BQ$60:CC$285,3,FALSE)),\"\",VLOOKUP(C315,Master!BQ$60:CC$285,3,FALSE))","v":""},{"$f":"IF(ISNA(VLOOKUP(C315,Master!BQ$60:CC$285,7,FALSE)),\"\",VLOOKUP(C315,Master!BQ$60:CC$285,7,FALSE))","v":""},{"$f":"IF(ISNA(VLOOKUP(C315,Master!BQ$60:CC$285,8,FALSE)),\"\",VLOOKUP(C315,Master!BQ$60:CC$285,8,FALSE))","v":""},{"$f":"IF(ISNA(VLOOKUP(C315,Master!BQ$60:CC$285,4,FALSE)),\"\",VLOOKUP(C315,Master!BQ$60:CC$285,4,FALSE))","v":""},{"$f":"IF(ISNA(VLOOKUP(C315,Master!BQ$60:CC$285,5,FALSE)),\"\",VLOOKUP(C315,Master!BQ$60:CC$285,5,FALSE))","v":""},{"$f":"IF(ISNA(VLOOKUP(C315,Master!BQ$60:CC$285,6,FALSE)),\"\",VLOOKUP(C315,Master!BQ$60:CC$285,6,FALSE))","v":""},"","","","","","",{"$nulls":3},0,null,{"$f":"IF(ISNA(VLOOKUP(C315,Master!BQ$60:CC$285,10,FALSE)),\"\",VLOOKUP(C315,Master!BQ$60:CC$285,10,FALSE))","v":""},null,null,{"$f":"IF(ISNA(VLOOKUP(C315,Master!BQ$60:CC$285,11,FALSE)),\"\",VLOOKUP(C315,Master!BQ$60:CC$285,11,FALSE))","v":""},{"$f":"IF(ISNA(VLOOKUP(C315,Master!BQ$60:CC$285,9,FALSE)),\"\",VLOOKUP(C315,Master!BQ$60:CC$285,9,FALSE))","v":""},0,0,0,0,0,0,"","","","","","",0,0,"",0,0,0,null,0,"","",null,null,"","","","","","",null,0,"",0,0,0,0,"","","",null,null,"",0,1,0,0,0,1,0,1,0,0,"",null,{"$f":"IF(I315=\"\",\"\",MAX($CC$228:$CC$235,$CC$238:CC314)+1)","v":""}]
["",2202,79,{"$f":"IF(ISNA(VLOOKUP(C316,Master!BQ$60:CC$285,3,FALSE)),\"\",VLOOKUP(C316,Master!BQ$60:CC$285,3,FALSE))","v":""},{"$f":"IF(ISNA(VLOOKUP(C316,Master!BQ$60:CC$285,7,FALSE)),\"\",VLOOKUP(C316,Master!BQ$60:CC$285,7,FALSE))","v":""},{"$f":"IF(ISNA(VLOOKUP(C316,Master!BQ$60:CC$285,8,FALSE)),\"\",VLOOKUP(C316,Master!BQ$60:CC$285,8,FALSE))","v":""},{"$f":"IF(ISNA(VLOOKUP(C316,Master!BQ$60:CC$285,4,FALSE)),\"\",VLOOKUP(C316,Master!BQ$60:CC$285,4,FALSE))","v":""},{"$f":"IF(ISNA(VLOOKUP(C316,Master!BQ$60:CC$285,5,FALSE)),\"\",VLOOKUP(C316,Master!BQ$60:CC$285,5,FALSE))","v":""},{"$f":"IF(ISNA(VLOOKUP(C316,Master!BQ$60:CC$285,6,FALSE)),\"\",VLOOKUP(C316,Master!BQ$60:CC$285,6,FALSE))","v":""},"","","","","","",{"$nulls":3},0,null,{"$f":"IF(ISNA(VLOOKUP(C316,Master!BQ$60:CC$285,10,FALSE)),\"\",VLOOKUP(C316,Master!BQ$60:CC$285,10,FALSE))","v":""},null,null,{"$f":"IF(ISNA(VLOOKUP(C316,Master!BQ$60:CC$285,11,FALSE)),\"\",VLOOKUP(C316,Master!BQ$60:CC$285,11,FALSE))","v":""},{"$f":"IF(ISNA(VLOOKUP(C316,Master!BQ$60:CC$285,9,FALSE)),\"\",VLOOKUP(C316,Master!BQ$60:CC$285,9,FALSE))","v":""},0,0,0,0,0,0,"","","","","","",0,0,"",0,0,0,null,0,"","",null,null,"","","","","","",null,0,"",0,0,0,0,"","","",null,null,"",0,1,0,0,0,1,0,1,0,0,"",null,{"$f":"IF(I316=\"\",\"\",MAX($CC$228:$CC$235,$CC$238:CC315)+1)","v":""}]
["",2202,80,{"$f":"IF(ISNA(VLOOKUP(C317,Master!BQ$60:CC$285,3,FALSE)),\"\",VLOOKUP(C317,Master!BQ$60:CC$285,3,FALSE))","v":""},{"$f":"IF(ISNA(VLOOKUP(C317,Master!BQ$60:CC$285,7,FALSE)),\"\",VLOOKUP(C317,Master!BQ$60:CC$285,7,FALSE))","v":""},{"$f":"IF(ISNA(VLOOKUP(C317,Master!BQ$60:CC$285,8,FALSE)),\"\",VLOOKUP(C317,Master!BQ$60:CC$285,8,FALSE))","v":""},{"$f":"IF(ISNA(VLOOKUP(C317,Master!BQ$60:CC$285,4,FALSE)),\"\",VLOOKUP(C317,Master!BQ$60:CC$285,4,FALSE))","v":""},{"$f":"IF(ISNA(VLOOKUP(C317,Master!BQ$60:CC$285,5,FALSE)),\"\",VLOOKUP(C317,Master!BQ$60:CC$285,5,FALSE))","v":""},{"$f":"IF(ISNA(VLOOKUP(C317,Master!BQ$60:CC$285,6,FALSE)),\"\",VLOOKUP(C317,Master!BQ$60:CC$285,6,FALSE))","v":""},"","","","","","",{"$nulls":3},0,null,{"$f":"IF(ISNA(VLOOKUP(C317,Master!BQ$60:CC$285,10,FALSE)),\"\",VLOOKUP(C317,Master!BQ$60:CC$285,10,FALSE))","v":""},null,null,{"$f":"IF(ISNA(VLOOKUP(C317,Master!BQ$60:CC$285,11,FALSE)),\"\",VLOOKUP(C317,Master!BQ$60:CC$285,11,FALSE))","v":""},{"$f":"IF(ISNA(VLOOKUP(C317,Master!BQ$60:CC$285,9,FALSE)),\"\",VLOOKUP(C317,Master!BQ$60:CC$285,9,FALSE))","v":""},0,0,0,0,0,0,"","","","","","",0,0,"",0,0,0,null,0,"","",null,null,"","","","","","",null,0,"",0,0,0,0,"","","",null,null,"",0,1,0,0,0,1,0,1,0,0,"",null,{"$f":"IF(I317=\"\",\"\",MAX($CC$228:$CC$235,$CC$238:CC316)+1)","v":""}]
["",2202,81,{"$f":"IF(ISNA(VLOOKUP(C318,Master!BQ$60:CC$285,3,FALSE)),\"\",VLOOKUP(C318,Master!BQ$60:CC$285,3,FALSE))","v":""},{"$f":"IF(ISNA(VLOOKUP(C318,Master!BQ$60:CC$285,7,FALSE)),\"\",VLOOKUP(C318,Master!BQ$60:CC$285,7,FALSE))","v":""},{"$f":"IF(ISNA(VLOOKUP(C318,Master!BQ$60:CC$285,8,FALSE)),\"\",VLOOKUP(C318,Master!BQ$60:CC$285,8,FALSE))","v":""},{"$f":"IF(ISNA(VLOOKUP(C318,Master!BQ$60:CC$285,4,FALSE)),\"\",VLOOKUP(C318,Master!BQ$60:CC$285,4,FALSE))","v":""},{"$f":"IF(ISNA(VLOOKUP(C318,Master!BQ$60:CC$285,5,FALSE)),\"\",VLOOKUP(C318,Master!BQ$60:CC$285,5,FALSE))","v":""},{"$f":"IF(ISNA(VLOOKUP(C318,Master!BQ$60:CC$285,6,FALSE)),\"\",VLOOKUP(C318,Master!BQ$60:CC$285,6,FALSE))","v":""},"","","","","","",{"$nulls":3},0,null,{"$f":"IF(ISNA(VLOOKUP(C318,Master!BQ$60:CC$285,10,FALSE)),\"\",VLOOKUP(C318,Master!BQ$60:CC$285,10,FALSE))","v":""},null,null,{"$f":"IF(ISNA(VLOOKUP(C318,Master!BQ$60:CC$285,11,FALSE)),\"\",VLOOKUP(C318,Master!BQ$60:CC$285,11,FALSE))","v":""},{"$f":"IF(ISNA(VLOOKUP(C318,Master!BQ$60:CC$285,9,FALSE)),\"\",VLOOKUP(C318,Master!BQ$60:CC$285,9,FALSE))","v":""},0,0,0,0,0,0,"","","","","","",0,0,"",0,0,0,null,0,"","",null,null,"","","","","","",null,0,"",0,0,0,0,"","","",null,null,"",0,1,0,0,0,1,0,1,0,0,"",null,{"$f":"IF(I318=\"\",\"\",MAX($CC$228:$CC$235,$CC$238:CC317)+1)","v":""}]
["",2202,82,{"$f":"IF(ISNA(VLOOKUP(C319,Master!BQ$60:CC$285,3,FALSE)),\"\",VLOOKUP(C319,Master!BQ$60:CC$285,3,FALSE))","v":""},{"$f":"IF(ISNA(VLOOKUP(C319,Master!BQ$60:CC$285,7,FALSE)),\"\",VLOOKUP(C319,Master!BQ$60:CC$285,7,FALSE))","v":""},{"$f":"IF(ISNA(VLOOKUP(C319,Master!BQ$60:CC$285,8,FALSE)),\"\",VLOOKUP(C319,Master!BQ$60:CC$285,8,FALSE))","v":""},{"$f":"IF(ISNA(VLOOKUP(C319,Master!BQ$60:CC$285,4,FALSE)),\"\",VLOOKUP(C319,Master!BQ$60:CC$285,4,FALSE))","v":""},{"$f":"IF(ISNA(VLOOKUP(C319,Master!BQ$60:CC$285,5,FALSE)),\"\",VLOOKUP(C319,Master!BQ$60:CC$285,5,FALSE))","v":""},{"$f":"IF(ISNA(VLOOKUP(C319,Master!BQ$60:CC$285,6,FALSE)),\"\",VLOOKUP(C319,Master!BQ$60:CC$285,6,FALSE))","v":""},"","","","","","",{"$nulls":3},0,null,{"$f":"IF(ISNA(VLOOKUP(C319,Master!BQ$60:CC$285,10,FALSE)),\"\",VLOOKUP(C319,Master!BQ$60:CC$285,10,FALSE))","v":""},null,null,{"$f":"IF(ISNA(VLOOKUP(C319,Master!BQ$60:CC$285,11,FALSE)),\"\",VLOOKUP(C319,Master!BQ$60:CC$285,11,FALSE))","v":""},{"$f":"IF(ISNA(VLOOKUP(C319,Master!BQ$60:CC$285,9,FALSE)),\"\",VLOOKUP(C319,Master!BQ$60:CC$285,9,FALSE))","v":""},0,0,0,0,0,0,"","","","","","",0,0,"",0,0,0,null,0,"","",null,null,"","","","","","",null,0,"",0,0,0,0,"","","",null,null,"",0,1,0,0,0,1,0,1,0,0,"",null,{"$f":"IF(I319=\"\",\"\",MAX($CC$228:$CC$235,$CC$238:CC318)+1)","v":""}]
["",2202,83,{"$f":"IF(ISNA(VLOOKUP(C320,Master!BQ$60:CC$285,3,FALSE)),\"\",VLOOKUP(C320,Master!BQ$60:CC$285,3,FALSE))","v":""},{"$f":"IF(ISNA(VLOOKUP(C320,Master!BQ$60:CC$285,7,FALSE)),\"\",VLOOKUP(C320,Master!BQ$60:CC$285,7,FALSE))","v":""},{"$f":"IF(ISNA(VLOOKUP(C320,Master!BQ$60:CC$285,8,FALSE)),\"\",VLOOKUP(C320,Master!BQ$60:CC$285,8,FALSE))","v":""},{"$f":"IF(ISNA(VLOOKUP(C320,Master!BQ$60:CC$285,4,FALSE)),\"\",VLOOKUP(C320,Master!BQ$60:CC$285,4,FALSE))","v":""},{"$f":"IF(ISNA(VLOOKUP(C320,Master!BQ$60:CC$285,5,FALSE)),\"\",VLOOKUP(C320,Master!BQ$60:CC$285,5,FALSE))","v":""},{"$f":"IF(ISNA(VLOOKUP(C320,Master!BQ$60:CC$285,6,FALSE)),\"\",VLOOKUP(C320,Master!BQ$60:CC$285,6,FALSE))","v":""},"","","","","","",{"$nulls":3},0,null,{"$f":"IF(ISNA(VLOOKUP(C320,Master!BQ$60:CC$285,10,FALSE)),\"\",VLOOKUP(C320,Master!BQ$60:CC$285,10,FALSE))","v":""},null,null,{"$f":"IF(ISNA(VLOOKUP(C320,Master!BQ$60:CC$285,11,FALSE)),\"\",VLOOKUP(C320,Master!BQ$60:CC$285,11,FALSE))","v":""},{"$f":"IF(ISNA(VLOOKUP(C320,Master!BQ$60:CC$285,9,FALSE)),\"\",VLOOKUP(C320,Master!BQ$60:CC$285,9,FALSE))","v":""},0,0,0,0,0,0,"","","","","","",0,0,"",0,0,0,null,0,"","",null,null,"","","","","","",null,0,"",0,0,0,0,"","","",null,null,"",0,1,0,0,0,1,0,1,0,0,"",null,{"$f":"IF(I320=\"\",\"\",MAX($CC$228:$CC$235,$CC$238:CC319)+1)","v":""}]
["",2202,84,{"$f":"IF(ISNA(VLOOKUP(C321,Master!BQ$60:CC$285,3,FALSE)),\"\",VLOOKUP(C321,Master!BQ$60:CC$285,3,FALSE))","v":""},{"$f":"IF(ISNA(VLOOKUP(C321,Master!BQ$60:CC$285,7,FALSE)),\"\",VLOOKUP(C321,Master!BQ$60:CC$285,7,FALSE))","v":""},{"$f":"IF(ISNA(VLOOKUP(C321,Master!BQ$60:CC$285,8,FALSE)),\"\",VLOOKUP(C321,Master!BQ$60:CC$285,8,FALSE))","v":""},{"$f":"IF(ISNA(VLOOKUP(C321,Master!BQ$60:CC$285,4,FALSE)),\"\",VLOOKUP(C321,Master!BQ$60:CC$285,4,FALSE))","v":""},{"$f":"IF(ISNA(VLOOKUP(C321,Master!BQ$60:CC$285,5,FALSE)),\"\",VLOOKUP(C321,Master!BQ$60:CC$285,5,FALSE))","v":""},{"$f":"IF(ISNA(VLOOKUP(C321,Master!BQ$60:CC$285,6,FALSE)),\"\",VLOOKUP(C321,Master!BQ$60:CC$285,6,FALSE))","v":""},"","","","","","",{"$nulls":3},0,null,{"$f":"IF(ISNA(VLOOKUP(C321,Master!BQ$60:CC$285,10,FALSE)),\"\",VLOOKUP(C321,Master!BQ$60:CC$285,10,FALSE))","v":""},null,null,{"$f":"IF(ISNA(VLOOKUP(C321,Master!BQ$60:CC$285,11,FALSE)),\"\",VLOOKUP(C321,Master!BQ$60:CC$285,11,FALSE))","v":""},{"$f":"IF(ISNA(VLOOKUP(C321,Master!BQ$60:CC$285,9,FALSE)),\"\",VLOOKUP(C321,Master!BQ$60:CC$285,9,FALSE))","v":""},0,0,0,0,0,0,"","","","","","",0,0,"",0,0,0,null,0,"","",null,null,"","","","","","",null,0,"",0,0,0,0,"","","",null,null,"",0,1,0,0,0,1,0,1,0,0,"",null,{"$f":"IF(I321=\"\",\"\",MAX($CC$228:$CC$235,$CC$238:CC320)+1)","v":""}]
["",2202,85,{"$f":"IF(ISNA(VLOOKUP(C322,Master!BQ$60:CC$285,3,FALSE)),\"\",VLOOKUP(C322,Master!BQ$60:CC$285,3,FALSE))","v":""},{"$f":"IF(ISNA(VLOOKUP(C322,Master!BQ$60:CC$285,7,FALSE)),\"\",VLOOKUP(C322,Master!BQ$60:CC$285,7,FALSE))","v":""},{"$f":"IF(ISNA(VLOOKUP(C322,Master!BQ$60:CC$285,8,FALSE)),\"\",VLOOKUP(C322,Master!BQ$60:CC$285,8,FALSE))","v":""},{"$f":"IF(ISNA(VLOOKUP(C322,Master!BQ$60:CC$285,4,FALSE)),\"\",VLOOKUP(C322,Master!BQ$60:CC$285,4,FALSE))","v":""},{"$f":"IF(ISNA(VLOOKUP(C322,Master!BQ$60:CC$285,5,FALSE)),\"\",VLOOKUP(C322,Master!BQ$60:CC$285,5,FALSE))","v":""},{"$f":"IF(ISNA(VLOOKUP(C322,Master!BQ$60:CC$285,6,FALSE)),\"\",VLOOKUP(C322,Master!BQ$60:CC$285,6,FALSE))","v":""},"","","","","","",{"$nulls":3},0,null,{"$f":"IF(ISNA(VLOOKUP(C322,Master!BQ$60:CC$285,10,FALSE)),\"\",VLOOKUP(C322,Master!BQ$60:CC$285,10,FALSE))","v":""},null,null,{"$f":"IF(ISNA(VLOOKUP(C322,Master!BQ$60:CC$285,11,FALSE)),\"\",VLOOKUP(C322,Master!BQ$60:CC$285,11,FALSE))","v":""},{"$f":"IF(ISNA(VLOOKUP(C322,Master!BQ$60:CC$285,9,FALSE)),\"\",VLOOKUP(C322,Master!BQ$60:CC$285,9,FALSE))","v":""},0,0,0,0,0,0,"","","","","","",0,0,"",0,0,0,null,0,"","",null,null,"","","","","","",null,0,"",0,0,0,0,"","","",null,null,"",0,1,0,0,0,1,0,1,0,0,"",null,{"$f":"IF(I322=\"\",\"\",MAX($CC$228:$CC$235,$CC$238:CC321)+1)","v":""}]
["",2202,86,{"$f":"IF(ISNA(VLOOKUP(C323,Master!BQ$60:CC$285,3,FALSE)),\"\",VLOOKUP(C323,Master!BQ$60:CC$285,3,FALSE))","v":""},{"$f":"IF(ISNA(VLOOKUP(C323,Master!BQ$60:CC$285,7,FALSE)),\"\",VLOOKUP(C323,Master!BQ$60:CC$285,7,FALSE))","v":""},{"$f":"IF(ISNA(VLOOKUP(C323,Master!BQ$60:CC$285,8,FALSE)),\"\",VLOOKUP(C323,Master!BQ$60:CC$285,8,FALSE))","v":""},{"$f":"IF(ISNA(VLOOKUP(C323,Master!BQ$60:CC$285,4,FALSE)),\"\",VLOOKUP(C323,Master!BQ$60:CC$285,4,FALSE))","v":""},{"$f":"IF(ISNA(VLOOKUP(C323,Master!BQ$60:CC$285,5,FALSE)),\"\",VLOOKUP(C323,Master!BQ$60:CC$285,5,FALSE))","v":""},{"$f":"IF(ISNA(VLOOKUP(C323,Master!BQ$60:CC$285,6,FALSE)),\"\",VLOOKUP(C323,Master!BQ$60:CC$285,6,FALSE))","v":""},"","","","","","",{"$nulls":3},0,null,{"$f":"IF(ISNA(VLOOKUP(C323,Master!BQ$60:CC$285,10,FALSE)),\"\",VLOOKUP(C323,Master!BQ$60:CC$285,10,FALSE))","v":""},null,null,{"$f":"IF(ISNA(VLOOKUP(C323,Master!BQ$60:CC$285,11,FALSE)),\"\",VLOOKUP(C323,Master!BQ$60:CC$285,11,FALSE))","v":""},{"$f":"IF(ISNA(VLOOKUP(C323,Master!BQ$60:CC$285,9,FALSE)),\"\",VLOOKUP(C323,Master!BQ$60:CC$285,9,FALSE))","v":""},0,0,0,0,0,0,"","","","","","",0,0,"",0,0,0,null,0,"","",null,null,"","","","","","",null,0,"",0,0,0,0,"","","",null,null,"",0,1,0,0,0,1,0,1,0,0,"",null,{"$f":"IF(I323=\"\",\"\",MAX($CC$228:$CC$235,$CC$238:CC322)+1)","v":""}]
["",2202,87,{"$f":"IF(ISNA(VLOOKUP(C324,Master!BQ$60:CC$285,3,FALSE)),\"\",VLOOKUP(C324,Master!BQ$60:CC$285,3,FALSE))","v":""},{"$f":"IF(ISNA(VLOOKUP(C324,Master!BQ$60:CC$285,7,FALSE)),\"\",VLOOKUP(C324,Master!BQ$60:CC$285,7,FALSE))","v":""},{"$f":"IF(ISNA(VLOOKUP(C324,Master!BQ$60:CC$285,8,FALSE)),\"\",VLOOKUP(C324,Master!BQ$60:CC$285,8,FALSE))","v":""},{"$f":"IF(ISNA(VLOOKUP(C324,Master!BQ$60:CC$285,4,FALSE)),\"\",VLOOKUP(C324,Master!BQ$60:CC$285,4,FALSE))","v":""},{"$f":"IF(ISNA(VLOOKUP(C324,Master!BQ$60:CC$285,5,FALSE)),\"\",VLOOKUP(C324,Master!BQ$60:CC$285,5,FALSE))","v":""},{"$f":"IF(ISNA(VLOOKUP(C324,Master!BQ$60:CC$285,6,FALSE)),\"\",VLOOKUP(C324,Master!BQ$60:CC$285,6,FALSE))","v":""},"","","","","","",{"$nulls":3},0,null,{"$f":"IF(ISNA(VLOOKUP(C324,Master!BQ$60:CC$285,10,FALSE)),\"\",VLOOKUP(C324,Master!BQ$60:CC$285,10,FALSE))","v":""},null,null,{"$f":"IF(ISNA(VLOOKUP(C324,Master!BQ$60:CC$285,11,FALSE)),\"\",VLOOKUP(C324,Master!BQ$60:CC$285,11,FALSE))","v":""},{"$f":"IF(ISNA(VLOOKUP(C324,Master!BQ$60:CC$285,9,FALSE)),\"\",VLOOKUP(C324,Master!BQ$60:CC$285,9,FALSE))","v":""},0,0,0,0,0,0,"","","","","","",0,0,"",0,0,0,null,0,"","",null,null,"","","","","","",null,0,"",0,0,0,0,"","","",null,null,"",0,1,0,0,0,1,0,1,0,0,"",null,{"$f":"IF(I324=\"\",\"\",MAX($CC$228:$CC$235,$CC$238:CC323)+1)","v":""}]
["",2202,88,{"$f":"IF(ISNA(VLOOKUP(C325,Master!BQ$60:CC$285,3,FALSE)),\"\",VLOOKUP(C325,Master!BQ$60:CC$285,3,FALSE))","v":""},{"$f":"IF(ISNA(VLOOKUP(C325,Master!BQ$60:CC$285,7,FALSE)),\"\",VLOOKUP(C325,Master!BQ$60:CC$285,7,FALSE))","v":""},{"$f":"IF(ISNA(VLOOKUP(C325,Master!BQ$60:CC$285,8,FALSE)),\"\",VLOOKUP(C325,Master!BQ$60:CC$285,8,FALSE))","v":""},{"$f":"IF(ISNA(VLOOKUP(C325,Master!BQ$60:CC$285,4,FALSE)),\"\",VLOOKUP(C325,Master!BQ$60:CC$285,4,FALSE))","v":""},{"$f":"IF(ISNA(VLOOKUP(C325,Master!BQ$60:CC$285,5,FALSE)),\"\",VLOOKUP(C325,Master!BQ$60:CC$285,5,FALSE))","v":""},{"$f":"IF(ISNA(VLOOKUP(C325,Master!BQ$60:CC$285,6,FALSE)),\"\",VLOOKUP(C325,Master!BQ$60:CC$285,6,FALSE))","v":""},"","","","","","",{"$nulls":3},0,null,{"$f":"IF(ISNA(VLOOKUP(C325,Master!BQ$60:CC$285,10,FALSE)),\"\",VLOOKUP(C325,Master!BQ$60:CC$285,10,FALSE))","v":""},null,null,{"$f":"IF(ISNA(VLOOKUP(C325,Master!BQ$60:CC$285,11,FALSE)),\"\",VLOOKUP(C325,Master!BQ$60:CC$285,11,FALSE))","v":""},{"$f":"IF(ISNA(VLOOKUP(C325,Master!BQ$60:CC$285,9,FALSE)),\"\",VLOOKUP(C325,Master!BQ$60:CC$285,9,FALSE))","v":""},0,0,0,0,0,0,"","","","","","",0,0,"",0,0,0,null,0,"","",null,null,"","","","","","",null,0,"",0,0,0,0,"","","",null,null,"",0,1,0,0,0,1,0,1,0,0,"",null,{"$f":"IF(I325=\"\",\"\",MAX($CC$228:$CC$235,$CC$238:CC324)+1)","v":""}]
["",2202,89,{"$f":"IF(ISNA(VLOOKUP(C326,Master!BQ$60:CC$285,3,FALSE)),\"\",VLOOKUP(C326,Master!BQ$60:CC$285,3,FALSE))","v":""},{"$f":"IF(ISNA(VLOOKUP(C326,Master!BQ$60:CC$285,7,FALSE)),\"\",VLOOKUP(C326,Master!BQ$60:CC$285,7,FALSE))","v":""},{"$f":"IF(ISNA(VLOOKUP(C326,Master!BQ$60:CC$285,8,FALSE)),\"\",VLOOKUP(C326,Master!BQ$60:CC$285,8,FALSE))","v":""},{"$f":"IF(ISNA(VLOOKUP(C326,Master!BQ$60:CC$285,4,FALSE)),\"\",VLOOKUP(C326,Master!BQ$60:CC$285,4,FALSE))","v":""},{"$f":"IF(ISNA(VLOOKUP(C326,Master!BQ$60:CC$285,5,FALSE)),\"\",VLOOKUP(C326,Master!BQ$60:CC$285,5,FALSE))","v":""},{"$f":"IF(ISNA(VLOOKUP(C326,Master!BQ$60:CC$285,6,FALSE)),\"\",VLOOKUP(C326,Master!BQ$60:CC$285,6,FALSE))","v":""},"","","","","","",{"$nulls":3},0,null,{"$f":"IF(ISNA(VLOOKUP(C326,Master!BQ$60:CC$285,10,FALSE)),\"\",VLOOKUP(C326,Master!BQ$60:CC$285,10,FALSE))","v":""},null,null,{"$f":"IF(ISNA(VLOOKUP(C326,Master!BQ$60:CC$285,11,FALSE)),\"\",VLOOKUP(C326,Master!BQ$60:CC$285,11,FALSE))","v":""},{"$f":"IF(ISNA(VLOOKUP(C326,Master!BQ$60:CC$285,9,FALSE)),\"\",VLOOKUP(C326,Master!BQ$60:CC$285,9,FALSE))","v":""},0,0,0,0,0,0,"","","","","","",0,0,"",0,0,0,null,0,"","",null,null,"","","","","","",null,0,"",0,0,0,0,"","","",null,null,"",0,1,0,0,0,1,0,1,0,0,"",null,{"$f":"IF(I326=\"\",\"\",MAX($CC$228:$CC$235,$CC$238:CC325)+1)","v":""}]
["",2202,90,{"$f":"IF(ISNA(VLOOKUP(C327,Master!BQ$60:CC$285,3,FALSE)),\"\",VLOOKUP(C327,Master!BQ$60:CC$285,3,FALSE))","v":""},{"$f":"IF(ISNA(VLOOKUP(C327,Master!BQ$60:CC$285,7,FALSE)),\"\",VLOOKUP(C327,Master!BQ$60:CC$285,7,FALSE))","v":""},{"$f":"IF(ISNA(VLOOKUP(C327,Master!BQ$60:CC$285,8,FALSE)),\"\",VLOOKUP(C327,Master!BQ$60:CC$285,8,FALSE))","v":""},{"$f":"IF(ISNA(VLOOKUP(C327,Master!BQ$60:CC$285,4,FALSE)),\"\",VLOOKUP(C327,Master!BQ$60:CC$285,4,FALSE))","v":""},{"$f":"IF(ISNA(VLOOKUP(C327,Master!BQ$60:CC$285,5,FALSE)),\"\",VLOOKUP(C327,Master!BQ$60:CC$285,5,FALSE))","v":""},{"$f":"IF(ISNA(VLOOKUP(C327,Master!BQ$60:CC$285,6,FALSE)),\"\",VLOOKUP(C327,Master!BQ$60:CC$285,6,FALSE))","v":""},"","","","","","",{"$nulls":3},0,null,{"$f":"IF(ISNA(VLOOKUP(C327,Master!BQ$60:CC$285,10,FALSE)),\"\",VLOOKUP(C327,Master!BQ$60:CC$285,10,FALSE))","v":""},null,null,{"$f":"IF(ISNA(VLOOKUP(C327,Master!BQ$60:CC$285,11,FALSE)),\"\",VLOOKUP(C327,Master!BQ$60:CC$285,11,FALSE))","v":""},{"$f":"IF(ISNA(VLOOKUP(C327,Master!BQ$60:CC$285,9,FALSE)),\"\",VLOOKUP(C327,Master!BQ$60:CC$285,9,FALSE))","v":""},0,0,0,0,0,0,"","","","","","",0,0,"",0,0,0,null,0,"","",null,null,"","","","","","",null,0,"",0,0,0,0,"","","",null,null,"",0,1,0,0,0,1,0,1,0,0,"",null,{"$f":"IF(I327=\"\",\"\",MAX($CC$228:$CC$235,$CC$238:CC326)+1)","v":""}]
["",2202,91,{"$f":"IF(ISNA(VLOOKUP(C328,Master!BQ$60:CC$285,3,FALSE)),\"\",VLOOKUP(C328,Master!BQ$60:CC$285,3,FALSE))","v":""},{"$f":"IF(ISNA(VLOOKUP(C328,Master!BQ$60:CC$285,7,FALSE)),\"\",VLOOKUP(C328,Master!BQ$60:CC$285,7,FALSE))","v":""},{"$f":"IF(ISNA(VLOOKUP(C328,Master!BQ$60:CC$285,8,FALSE)),\"\",VLOOKUP(C328,Master!BQ$60:CC$285,8,FALSE))","v":""},{"$f":"IF(ISNA(VLOOKUP(C328,Master!BQ$60:CC$285,4,FALSE)),\"\",VLOOKUP(C328,Master!BQ$60:CC$285,4,FALSE))","v":""},{"$f":"IF(ISNA(VLOOKUP(C328,Master!BQ$60:CC$285,5,FALSE)),\"\",VLOOKUP(C328,Master!BQ$60:CC$285,5,FALSE))","v":""},{"$f":"IF(ISNA(VLOOKUP(C328,Master!BQ$60:CC$285,6,FALSE)),\"\",VLOOKUP(C328,Master!BQ$60:CC$285,6,FALSE))","v":""},"","","","","","",{"$nulls":3},0,null,{"$f":"IF(ISNA(VLOOKUP(C328,Master!BQ$60:CC$285,10,FALSE)),\"\",VLOOKUP(C328,Master!BQ$60:CC$285,10,FALSE))","v":""},null,null,{"$f":"IF(ISNA(VLOOKUP(C328,Master!BQ$60:CC$285,11,FALSE)),\"\",VLOOKUP(C328,Master!BQ$60:CC$285,11,FALSE))","v":""},{"$f":"IF(ISNA(VLOOKUP(C328,Master!BQ$60:CC$285,9,FALSE)),\"\",VLOOKUP(C328,Master!BQ$60:CC$285,9,FALSE))","v":""},0,0,0,0,0,0,"","","","","","",0,0,"",0,0,0,null,0,"","",null,null,"","","","","","",null,0,"",0,0,0,0,"","","",null,null,"",0,1,0,0,0,1,0,1,0,0,"",null,{"$f":"IF(I328=\"\",\"\",MAX($CC$228:$CC$235,$CC$238:CC327)+1)","v":""}]
["",2202,92,{"$f":"IF(ISNA(VLOOKUP(C329,Master!BQ$60:CC$285,3,FALSE)),\"\",VLOOKUP(C329,Master!BQ$60:CC$285,3,FALSE))","v":""},{"$f":"IF(ISNA(VLOOKUP(C329,Master!BQ$60:CC$285,7,FALSE)),\"\",VLOOKUP(C329,Master!BQ$60:CC$285,7,FALSE))","v":""},{"$f":"IF(ISNA(VLOOKUP(C329,Master!BQ$60:CC$285,8,FALSE)),\"\",VLOOKUP(C329,Master!BQ$60:CC$285,8,FALSE))","v":""},{"$f":"IF(ISNA(VLOOKUP(C329,Master!BQ$60:CC$285,4,FALSE)),\"\",VLOOKUP(C329,Master!BQ$60:CC$285,4,FALSE))","v":""},{"$f":"IF(ISNA(VLOOKUP(C329,Master!BQ$60:CC$285,5,FALSE)),\"\",VLOOKUP(C329,Master!BQ$60:CC$285,5,FALSE))","v":""},{"$f":"IF(ISNA(VLOOKUP(C329,Master!BQ$60:CC$285,6,FALSE)),\"\",VLOOKUP(C329,Master!BQ$60:CC$285,6,FALSE))","v":""},"","","","","","",{"$nulls":3},0,null,{"$f":"IF(ISNA(VLOOKUP(C329,Master!BQ$60:CC$285,10,FALSE)),\"\",VLOOKUP(C329,Master!BQ$60:CC$285,10,FALSE))","v":""},null,null,{"$f":"IF(ISNA(VLOOKUP(C329,Master!BQ$60:CC$285,11,FALSE)),\"\",VLOOKUP(C329,Master!BQ$60:CC$285,11,FALSE))","v":""},{"$f":"IF(ISNA(VLOOKUP(C329,Master!BQ$60:CC$285,9,FALSE)),\"\",VLOOKUP(C329,Master!BQ$60:CC$285,9,FALSE))","v":""},0,0,0,0,0,0,"","","","","","",0,0,"",0,0,0,null,0,"","",null,null,"","","","","","",null,0,"",0,0,0,0,"","","",null,null,"",0,1,0,0,0,1,0,1,0,0,"",null,{"$f":"IF(I329=\"\",\"\",MAX($CC$228:$CC$235,$CC$238:CC328)+1)","v":""}]
["",2202,93,{"$f":"IF(ISNA(VLOOKUP(C330,Master!BQ$60:CC$285,3,FALSE)),\"\",VLOOKUP(C330,Master!BQ$60:CC$285,3,FALSE))","v":""},{"$f":"IF(ISNA(VLOOKUP(C330,Master!BQ$60:CC$285,7,FALSE)),\"\",VLOOKUP(C330,Master!BQ$60:CC$285,7,FALSE))","v":""},{"$f":"IF(ISNA(VLOOKUP(C330,Master!BQ$60:CC$285,8,FALSE)),\"\",VLOOKUP(C330,Master!BQ$60:CC$285,8,FALSE))","v":""},{"$f":"IF(ISNA(VLOOKUP(C330,Master!BQ$60:CC$285,4,FALSE)),\"\",VLOOKUP(C330,Master!BQ$60:CC$285,4,FALSE))","v":""},{"$f":"IF(ISNA(VLOOKUP(C330,Master!BQ$60:CC$285,5,FALSE)),\"\",VLOOKUP(C330,Master!BQ$60:CC$285,5,FALSE))","v":""},{"$f":"IF(ISNA(VLOOKUP(C330,Master!BQ$60:CC$285,6,FALSE)),\"\",VLOOKUP(C330,Master!BQ$60:CC$285,6,FALSE))","v":""},"","","","","","",{"$nulls":3},0,null,{"$f":"IF(ISNA(VLOOKUP(C330,Master!BQ$60:CC$285,10,FALSE)),\"\",VLOOKUP(C330,Master!BQ$60:CC$285,10,FALSE))","v":""},null,null,{"$f":"IF(ISNA(VLOOKUP(C330,Master!BQ$60:CC$285,11,FALSE)),\"\",VLOOKUP(C330,Master!BQ$60:CC$285,11,FALSE))","v":""},{"$f":"IF(ISNA(VLOOKUP(C330,Master!BQ$60:CC$285,9,FALSE)),\"\",VLOOKUP(C330,Master!BQ$60:CC$285,9,FALSE))","v":""},0,0,0,0,0,0,"","","","","","",0,0,"",0,0,0,null,0,"","",null,null,"","","","","","",null,0,"",0,0,0,0,"","","",null,null,"",0,1,0,0,0,1,0,1,0,0,"",null,{"$f":"IF(I330=\"\",\"\",MAX($CC$228:$CC$235,$CC$238:CC329)+1)","v":""}]
["",2202,94,{"$f":"IF(ISNA(VLOOKUP(C331,Master!BQ$60:CC$285,3,FALSE)),\"\",VLOOKUP(C331,Master!BQ$60:CC$285,3,FALSE))","v":""},{"$f":"IF(ISNA(VLOOKUP(C331,Master!BQ$60:CC$285,7,FALSE)),\"\",VLOOKUP(C331,Master!BQ$60:CC$285,7,FALSE))","v":""},{"$f":"IF(ISNA(VLOOKUP(C331,Master!BQ$60:CC$285,8,FALSE)),\"\",VLOOKUP(C331,Master!BQ$60:CC$285,8,FALSE))","v":""},{"$f":"IF(ISNA(VLOOKUP(C331,Master!BQ$60:CC$285,4,FALSE)),\"\",VLOOKUP(C331,Master!BQ$60:CC$285,4,FALSE))","v":""},{"$f":"IF(ISNA(VLOOKUP(C331,Master!BQ$60:CC$285,5,FALSE)),\"\",VLOOKUP(C331,Master!BQ$60:CC$285,5,FALSE))","v":""},{"$f":"IF(ISNA(VLOOKUP(C331,Master!BQ$60:CC$285,6,FALSE)),\"\",VLOOKUP(C331,Master!BQ$60:CC$285,6,FALSE))","v":""},"","","","","","",{"$nulls":3},0,null,{"$f":"IF(ISNA(VLOOKUP(C331,Master!BQ$60:CC$285,10,FALSE)),\"\",VLOOKUP(C331,Master!BQ$60:CC$285,10,FALSE))","v":""},null,null,{"$f":"IF(ISNA(VLOOKUP(C331,Master!BQ$60:CC$285,11,FALSE)),\"\",VLOOKUP(C331,Master!BQ$60:CC$285,11,FALSE))","v":""},{"$f":"IF(ISNA(VLOOKUP(C331,Master!BQ$60:CC$285,9,FALSE)),\"\",VLOOKUP(C331,Master!BQ$60:CC$285,9,FALSE))","v":""},0,0,0,0,0,0,"","","","","","",0,0,"",0,0,0,null,0,"","",null,null,"","","","","","",null,0,"",0,0,0,0,"","","",null,null,"",0,1,0,0,0,1,0,1,0,0,"",null,{"$f":"IF(I331=\"\",\"\",MAX($CC$228:$CC$235,$CC$238:CC330)+1)","v":""}]
["",2202,95,{"$f":"IF(ISNA(VLOOKUP(C332,Master!BQ$60:CC$285,3,FALSE)),\"\",VLOOKUP(C332,Master!BQ$60:CC$285,3,FALSE))","v":""},{"$f":"IF(ISNA(VLOOKUP(C332,Master!BQ$60:CC$285,7,FALSE)),\"\",VLOOKUP(C332,Master!BQ$60:CC$285,7,FALSE))","v":""},{"$f":"IF(ISNA(VLOOKUP(C332,Master!BQ$60:CC$285,8,FALSE)),\"\",VLOOKUP(C332,Master!BQ$60:CC$285,8,FALSE))","v":""},{"$f":"IF(ISNA(VLOOKUP(C332,Master!BQ$60:CC$285,4,FALSE)),\"\",VLOOKUP(C332,Master!BQ$60:CC$285,4,FALSE))","v":""},{"$f":"IF(ISNA(VLOOKUP(C332,Master!BQ$60:CC$285,5,FALSE)),\"\",VLOOKUP(C332,Master!BQ$60:CC$285,5,FALSE))","v":""},{"$f":"IF(ISNA(VLOOKUP(C332,Master!BQ$60:CC$285,6,FALSE)),\"\",VLOOKUP(C332,Master!BQ$60:CC$285,6,FALSE))","v":""},"","","","","","",{"$nulls":3},0,null,{"$f":"IF(ISNA(VLOOKUP(C332,Master!BQ$60:CC$285,10,FALSE)),\"\",VLOOKUP(C332,Master!BQ$60:CC$285,10,FALSE))","v":""},null,null,{"$f":"IF(ISNA(VLOOKUP(C332,Master!BQ$60:CC$285,11,FALSE)),\"\",VLOOKUP(C332,Master!BQ$60:CC$285,11,FALSE))","v":""},{"$f":"IF(ISNA(VLOOKUP(C332,Master!BQ$60:CC$285,9,FALSE)),\"\",VLOOKUP(C332,Master!BQ$60:CC$285,9,FALSE))","v":""},0,0,0,0,0,0,"","","","","","",0,0,"",0,0,0,null,0,"","",null,null,"","","","","","",null,0,"",0,0,0,0,"","","",null,null,"",0,1,0,0,0,1,0,1,0,0,"",null,{"$f":"IF(I332=\"\",\"\",MAX($CC$228:$CC$235,$CC$238:CC331)+1)","v":""}]
["",2202,96,{"$f":"IF(ISNA(VLOOKUP(C333,Master!BQ$60:CC$285,3,FALSE)),\"\",VLOOKUP(C333,Master!BQ$60:CC$285,3,FALSE))","v":""},{"$f":"IF(ISNA(VLOOKUP(C333,Master!BQ$60:CC$285,7,FALSE)),\"\",VLOOKUP(C333,Master!BQ$60:CC$285,7,FALSE))","v":""},{"$f":"IF(ISNA(VLOOKUP(C333,Master!BQ$60:CC$285,8,FALSE)),\"\",VLOOKUP(C333,Master!BQ$60:CC$285,8,FALSE))","v":""},{"$f":"IF(ISNA(VLOOKUP(C333,Master!BQ$60:CC$285,4,FALSE)),\"\",VLOOKUP(C333,Master!BQ$60:CC$285,4,FALSE))","v":""},{"$f":"IF(ISNA(VLOOKUP(C333,Master!BQ$60:CC$285,5,FALSE)),\"\",VLOOKUP(C333,Master!BQ$60:CC$285,5,FALSE))","v":""},{"$f":"IF(ISNA(VLOOKUP(C333,Master!BQ$60:CC$285,6,FALSE)),\"\",VLOOKUP(C333,Master!BQ$60:CC$285,6,FALSE))","v":""},"","","","","","",{"$nulls":3},0,null,{"$f":"IF(ISNA(VLOOKUP(C333,Master!BQ$60:CC$285,10,FALSE)),\"\",VLOOKUP(C333,Master!BQ$60:CC$285,10,FALSE))","v":""},null,null,{"$f":"IF(ISNA(VLOOKUP(C333,Master!BQ$60:CC$285,11,FALSE)),\"\",VLOOKUP(C333,Master!BQ$60:CC$285,11,FALSE))","v":""},{"$f":"IF(ISNA(VLOOKUP(C333,Master!BQ$60:CC$285,9,FALSE)),\"\",VLOOKUP(C333,Master!BQ$60:CC$285,9,FALSE))","v":""},0,0,0,0,0,0,"","","","","","",0,0,"",0,0,0,null,{"$f":"(IF(G333=\"LAB BOY\",180,IF(G333=\"JAMADAR\",180,IF(G333=\"PEON\",180,0))))*12*BU333*(IF(I333<=0,0,1))","v":0},"","",null,null,"","","","","","",null,0,"",0,0,0,0,"","","",null,null,"",0,1,0,0,0,1,0,1,0,0,"",null,{"$f":"IF(I333=\"\",\"\",MAX($CC$228:$CC$235,$CC$238:CC332)+1)","v":""}]
["",2202,97,{"$f":"IF(ISNA(VLOOKUP(C334,Master!BQ$60:CC$285,3,FALSE)),\"\",VLOOKUP(C334,Master!BQ$60:CC$285,3,FALSE))","v":""},{"$f":"IF(ISNA(VLOOKUP(C334,Master!BQ$60:CC$285,7,FALSE)),\"\",VLOOKUP(C334,Master!BQ$60:CC$285,7,FALSE))","v":""},{"$f":"IF(ISNA(VLOOKUP(C334,Master!BQ$60:CC$285,8,FALSE)),\"\",VLOOKUP(C334,Master!BQ$60:CC$285,8,FALSE))","v":""},{"$f":"IF(ISNA(VLOOKUP(C334,Master!BQ$60:CC$285,4,FALSE)),\"\",VLOOKUP(C334,Master!BQ$60:CC$285,4,FALSE))","v":""},{"$f":"IF(ISNA(VLOOKUP(C334,Master!BQ$60:CC$285,5,FALSE)),\"\",VLOOKUP(C334,Master!BQ$60:CC$285,5,FALSE))","v":""},{"$f":"IF(ISNA(VLOOKUP(C334,Master!BQ$60:CC$285,6,FALSE)),\"\",VLOOKUP(C334,Master!BQ$60:CC$285,6,FALSE))","v":""},"","","","","","",{"$nulls":3},0,null,{"$f":"IF(ISNA(VLOOKUP(C334,Master!BQ$60:CC$285,10,FALSE)),\"\",VLOOKUP(C334,Master!BQ$60:CC$285,10,FALSE))","v":""},null,null,{"$f":"IF(ISNA(VLOOKUP(C334,Master!BQ$60:CC$285,11,FALSE)),\"\",VLOOKUP(C334,Master!BQ$60:CC$285,11,FALSE))","v":""},{"$f":"IF(ISNA(VLOOKUP(C334,Master!BQ$60:CC$285,9,FALSE)),\"\",VLOOKUP(C334,Master!BQ$60:CC$285,9,FALSE))","v":""},0,0,0,0,0,0,"","","","","","",0,0,"",0,0,0,null,0,"","",null,null,"","","","","","",null,0,"",0,0,0,0,"","","",null,null,"",0,1,0,0,0,1,0,1,0,0,"",null,{"$f":"IF(I334=\"\",\"\",MAX($CC$228:$CC$235,$CC$238:CC333)+1)","v":""}]
["",2202,98,{"$f":"IF(ISNA(VLOOKUP(C335,Master!BQ$60:CC$285,3,FALSE)),\"\",VLOOKUP(C335,Master!BQ$60:CC$285,3,FALSE))","v":""},{"$f":"IF(ISNA(VLOOKUP(C335,Master!BQ$60:CC$285,7,FALSE)),\"\",VLOOKUP(C335,Master!BQ$60:CC$285,7,FALSE))","v":""},{"$f":"IF(ISNA(VLOOKUP(C335,Master!BQ$60:CC$285,8,FALSE)),\"\",VLOOKUP(C335,Master!BQ$60:CC$285,8,FALSE))","v":""},{"$f":"IF(ISNA(VLOOKUP(C335,Master!BQ$60:CC$285,4,FALSE)),\"\",VLOOKUP(C335,Master!BQ$60:CC$285,4,FALSE))","v":""},{"$f":"IF(ISNA(VLOOKUP(C335,Master!BQ$60:CC$285,5,FALSE)),\"\",VLOOKUP(C335,Master!BQ$60:CC$285,5,FALSE))","v":""},{"$f":"IF(ISNA(VLOOKUP(C335,Master!BQ$60:CC$285,6,FALSE)),\"\",VLOOKUP(C335,Master!BQ$60:CC$285,6,FALSE))","v":""},"","","","","","",{"$nulls":3},0,null,{"$f":"IF(ISNA(VLOOKUP(C335,Master!BQ$60:CC$285,10,FALSE)),\"\",VLOOKUP(C335,Master!BQ$60:CC$285,10,FALSE))","v":""},null,null,{"$f":"IF(ISNA(VLOOKUP(C335,Master!BQ$60:CC$285,11,FALSE)),\"\",VLOOKUP(C335,Master!BQ$60:CC$285,11,FALSE))","v":""},{"$f":"IF(ISNA(VLOOKUP(C335,Master!BQ$60:CC$285,9,FALSE)),\"\",VLOOKUP(C335,Master!BQ$60:CC$285,9,FALSE))","v":""},0,0,0,0,0,0,"","","","","","",0,0,"",0,0,0,null,0,"","",null,null,"","","","","","",null,0,"",0,0,0,0,"","","",null,null,"",0,1,0,0,0,1,0,1,0,0,"",null,{"$f":"IF(I335=\"\",\"\",MAX($CC$228:$CC$235,$CC$238:CC334)+1)","v":""}]
["",2202,99,{"$f":"IF(ISNA(VLOOKUP(C336,Master!BQ$60:CC$285,3,FALSE)),\"\",VLOOKUP(C336,Master!BQ$60:CC$285,3,FALSE))","v":""},{"$f":"IF(ISNA(VLOOKUP(C336,Master!BQ$60:CC$285,7,FALSE)),\"\",VLOOKUP(C336,Master!BQ$60:CC$285,7,FALSE))","v":""},{"$f":"IF(ISNA(VLOOKUP(C336,Master!BQ$60:CC$285,8,FALSE)),\"\",VLOOKUP(C336,Master!BQ$60:CC$285,8,FALSE))","v":""},{"$f":"IF(ISNA(VLOOKUP(C336,Master!BQ$60:CC$285,4,FALSE)),\"\",VLOOKUP(C336,Master!BQ$60:CC$285,4,FALSE))","v":""},{"$f":"IF(ISNA(VLOOKUP(C336,Master!BQ$60:CC$285,5,FALSE)),\"\",VLOOKUP(C336,Master!BQ$60:CC$285,5,FALSE))","v":""},{"$f":"IF(ISNA(VLOOKUP(C336,Master!BQ$60:CC$285,6,FALSE)),\"\",VLOOKUP(C336,Master!BQ$60:CC$285,6,FALSE))","v":""},"","","","","","",{"$nulls":3},0,null,{"$f":"IF(ISNA(VLOOKUP(C336,Master!BQ$60:CC$285,10,FALSE)),\"\",VLOOKUP(C336,Master!BQ$60:CC$285,10,FALSE))","v":""},null,null,{"$f":"IF(ISNA(VLOOKUP(C336,Master!BQ$60:CC$285,11,FALSE)),\"\",VLOOKUP(C336,Master!BQ$60:CC$285,11,FALSE))","v":""},{"$f":"IF(ISNA(VLOOKUP(C336,Master!BQ$60:CC$285,9,FALSE)),\"\",VLOOKUP(C336,Master!BQ$60:CC$285,9,FALSE))","v":""},0,0,0,0,0,0,"","","","","","",0,0,"",0,0,0,null,0,"","",null,null,"","","","","","",null,0,"",0,0,0,0,"","","",null,null,"",0,1,0,0,0,1,0,1,0,0,"",null,{"$f":"IF(I336=\"\",\"\",MAX($CC$228:$CC$235,$CC$238:CC335)+1)","v":""}]
["",2202,100,{"$f":"IF(ISNA(VLOOKUP(C337,Master!BQ$60:CC$285,3,FALSE)),\"\",VLOOKUP(C337,Master!BQ$60:CC$285,3,FALSE))","v":""},{"$f":"IF(ISNA(VLOOKUP(C337,Master!BQ$60:CC$285,7,FALSE)),\"\",VLOOKUP(C337,Master!BQ$60:CC$285,7,FALSE))","v":""},{"$f":"IF(ISNA(VLOOKUP(C337,Master!BQ$60:CC$285,8,FALSE)),\"\",VLOOKUP(C337,Master!BQ$60:CC$285,8,FALSE))","v":""},{"$f":"IF(ISNA(VLOOKUP(C337,Master!BQ$60:CC$285,4,FALSE)),\"\",VLOOKUP(C337,Master!BQ$60:CC$285,4,FALSE))","v":""},{"$f":"IF(ISNA(VLOOKUP(C337,Master!BQ$60:CC$285,5,FALSE)),\"\",VLOOKUP(C337,Master!BQ$60:CC$285,5,FALSE))","v":""},{"$f":"IF(ISNA(VLOOKUP(C337,Master!BQ$60:CC$285,6,FALSE)),\"\",VLOOKUP(C337,Master!BQ$60:CC$285,6,FALSE))","v":""},"","","","","","",{"$nulls":3},0,null,{"$f":"IF(ISNA(VLOOKUP(C337,Master!BQ$60:CC$285,10,FALSE)),\"\",VLOOKUP(C337,Master!BQ$60:CC$285,10,FALSE))","v":""},null,null,{"$f":"IF(ISNA(VLOOKUP(C337,Master!BQ$60:CC$285,11,FALSE)),\"\",VLOOKUP(C337,Master!BQ$60:CC$285,11,FALSE))","v":""},{"$f":"IF(ISNA(VLOOKUP(C337,Master!BQ$60:CC$285,9,FALSE)),\"\",VLOOKUP(C337,Master!BQ$60:CC$285,9,FALSE))","v":""},0,0,0,0,0,0,"","","","","","",0,0,"",0,0,0,null,0,"","",null,null,"","","","","","",null,0,"",0,0,0,0,"","","",null,null,"",0,1,0,0,0,1,0,1,0,0,"",null,{"$f":"IF(I337=\"\",\"\",MAX($CC$228:$CC$235,$CC$238:CC336)+1)","v":""}]
[{"$nulls":6},"TOTAL NON GAZETTED FIXED",null,{"$f":"SUM(I238:I337)","v":40300},{"$f":"SUM(J238:J337)","v":483600},null,{"$f":"SUM(L238:L337)","v":0},{"$f":"SUM(M238:M337)","v":483600},{"$f":"SUM(N238:N337)","v":483600},{"$nulls":30},0]
[{"$nulls":6},"TOTAL GAZETTED + NON GAZETTED FIXED",null,null,{"$f":"J236+J338","v":483600},null,{"$f":"L236+L338","v":0},{"$f":"M236+M338","v":483600},{"$f":"N236+N338","v":483600},{"$nulls":30},0]
[null,"GAZETTED SANVIDA",{"$nulls":42},0]
[null,2202,1,{"$f":"IF(ISNA(VLOOKUP(C341,Master!CD$60:CP$107,3,FALSE)),\"\",VLOOKUP(C341,Master!CD$60:CP$107,3,FALSE))","v":""},{"$f":"IF(ISNA(VLOOKUP(C341,Master!CD$60:CP$107,7,FALSE)),\"\",VLOOKUP(C341,Master!CD$60:CP$107,7,FALSE))","v":""},{"$f":"IF(ISNA(VLOOKUP(C341,Master!CD$60:CP$107,8,FALSE)),\"\",VLOOKUP(C341,Master!CD$60:CP$107,8,FALSE))","v":""},{"$f":"IF(ISNA(VLOOKUP(C341,Master!CD$60:CP$107,4,FALSE)),\"\",VLOOKUP(C341,Master!CD$60:CP$107,4,FALSE))","v":""},{"$f":"IF(ISNA(VLOOKUP(C341,Master!CD$60:CP$107,5,FALSE)),\"\",VLOOKUP(C341,Master!CD$60:CP$107,5,FALSE))","v":""},{"$f":"IF(ISNA(VLOOKUP(C341,Master!CD$60:CP$107,6,FALSE)),\"\",VLOOKUP(C341,Master!CD$60:CP$107,6,FALSE))","v":""},{"$f":"IF(AND(H341=\"\"),\"\",I341*12)","v":""},{"$f":"IF(AND(H341=\"\"),\"\",\"Not Applicable\")","v":""},{"$f":"IF(AND(H341=\"\"),\"\",\"0\")","v":""},{"$f":"IF(AND(H341=\"\"),\"\",J341+L341)","v":""},{"$f":"IF(AND(H341=\"\"),\"\",M341)","v":""},{"$f":"IF(AND(H341=\"\"),\"\",\"SANVIDA\")","v":""},{"$nulls":16},{"$f":"IF(AND(I341=\"\"),\"\",(IF(O341=\"FIX PAY\",0,(I341-ROUNDUP(ROUND((I341*3%)-(I341*3%)*3%,0),-1)))))","v":""},{"$f":"IF(AND(I341=\"\"),\"\",$M341*$BQ341)","v":""},{"$f":"IF(AND(I341=\"\"),\"\",$M341*$BR341)","v":""},{"$f":"IF(AND(I341=\"\"),\"\",$M341*$BS341)","v":""},{"$f":"IF(AND(I341=\"\"),\"\",$M341*$BT341)","v":""},{"$f":"IF(AND(I341=\"\"),\"\",ROUND((AG341+AH341)*$AK$10,0)*BU341)","v":""},0,0,{"$f":"IF(AND(I341=\"\"),\"\",ROUND((AG341+AH341)*$AN$10,0)*BU341)","v":""},{"$f":"$G$221*BR341*BU341*(IF(I341<=0,0,1))*(IF(H341<=4800,1,0))","v":0},{"$f":"IF(AND(I341=\"\"),0,ROUND((I341+ROUND(I341*$AK$10,0))/2,0)*(IF(O341=\"FIX PAY\",0,1)))","v":0},{"$f":"IF(G341=\"CLERK GRADE I\",1,IF(G341=\"CLERK GRADE II\",1,0))*75*12*BU341*(IF(I341<=0,0,1))*BV341","v":0},null,0,{"$f":"IF(AND(I341=\"\"),\"\",SUM(AK341:AS341)+AG341+AH341)","v":""},{"$f":"IF(AND(I341=\"\"),\"\",AT341)","v":""},null,null,{"$f":"IF(AND(I341=\"\"),\"\",AU341+AV341+AW341)","v":""},{"$f":"IF(AND(I341=\"\"),\"\",N341*BQ341)","v":""},{"$f":"IF(AND(I341=\"\"),\"\",N341*BR341)","v":""},{"$f":"IF(AND(I341=\"\"),\"\",N341*BS341)","v":""},{"$f":"IF(AND(I341=\"\"),\"\",N341*BT341)","v":""},{"$f":"IF(AND(I341=\"\"),\"\",ROUND((AY341+AZ341)*$BC$10,0)*BU341)","v":""},null,4,{"$f":"IF(AND(I341=\"\"),\"\",ROUND((AY341+AZ341)*$BF$10,0)*BU341)","v":""},{"$f":"3387*2*BR341*BU341*(IF(I341<=0,0,1))*(IF(H341<=4800,1,0))","v":0},{"$f":"IF(AND(I341=\"\"),0,ROUND((AF341+ROUND(AF341*$AK$10,0))/2,0)*(IF(O341=\"FIX PAY\",0,1)))","v":0},{"$f":"IF(G341=\"CLERK GRADE I\",1,IF(G341=\"CLERK GRADE II\",1,0))*75*12*BU341*(IF(I341<=0,0,1))*BV341","v":0},{"$f":"IF(AND(G341=\"\"),0,(IF(G341=\"ASSISTANT\",12,IF(G341=\"CLERK GRADE I\",12,IF(G341=\"CLERK GRADE II\",12,IF(G341=\"FIELDMAN & FIELD REC\",12,IF(G341=\"LAB BOY\",12,IF(G341=\"JAMADAR\",12,IF(G341=\"PEON\",12,10))))))))*(MINA(ROUND(AF341*6%,0),600))*(IF($U341=\"yes\",1,)))","v":0},{"$f":"IF(AND(I341=\"\"),\"\",(IF(G341=\"LAB BOY\",150,IF(G341=\"JAMADAR\",150,IF(G341=\"PEON\",150,0))))*12*BU341*(IF(I341<=0,0,1)))","v":""},{"$f":"IF(AND(I341=\"\"),\"\",SUM(BC341:BK341)+AY341+AZ341)","v":""},{"$f":"IF(AND(I341=\"\"),\"\",BL341)","v":""},null,null,{"$f":"IF(AND(I341=\"\"),\"\",BM341+BN341+BO341)","v":""},{"$f":"(IF(G341=\"PRINCIPAL\",1,IF(G341=\"H M\",1,IF(G341=\"AGRICULTURE INST\",1,IF(G341=\"TEACHER-1ST\",1,IF(G341=\"PTI  I  (13)\",1,IF(G341=\"AGRICULTURE TEACH\",1,IF(G341=\"INSTRUCTOR\",1,0))))))))+(IF(G341=\"JR TEACHER\",1,IF(G341=\"LIBRARIAN I\",1,0)))*(IF(O341=\"FIX PAY\",0,1))","v":0},{"$f":"IF(BQ341<=0,1,0)*(IF(O341=\"FIX PAY\",0,1))","v":1},{"$f":"(IF(G341=\"PRINCIPAL (16)\",1,IF(G341=\"V P (14)\",1,IF(G341=\"H M (14)\",1,IF(G341=\"AGRICULTURE INST (13)\",1,IF(G341=\"TEACHER-1ST (13)\",1,IF(G341=\"PTI  I  (13)\",1,IF(G341=\"AGRICULTURE TEACH (13)\",1,IF(G341=\"INSTRUCTOR (13)\",1,0))))))))+(IF(G341=\"JR TEACHER (13)\",1,IF(G341=\"LIBRARIAN I (13)\",1,0))))*(IF(O341=\"FIX PAY\",1,0))","v":0},{"$f":"IF(BS341<=0,1,0)*(IF(O341=\"FIX PAY\",1,0))","v":0},{"$f":"IF(O341=\"FIX PAY\",1,0)","v":0},{"$f":"IF(X341=\"No\",0,1)","v":1},{"$f":"IF((ROUND((SUMPRODUCT(MID(0&E341,LARGE(INDEX(ISNUMBER(--MID(E341,ROW($1:$25),1))* ROW($1:$25),0),ROW($1:$25))+1,1)*10^ROW($1:$25)/10)),-8)/100000000)>=2004,1,0)","v":0},{"$f":"IF(I341<=0,0,1)","v":1},{"$f":"IF(O341=\"SANVIDA\",1,0)","v":0},{"$f":"IF(BY341>0,I341,0)","v":0},{"$f":"IF(AND(E341=\"\"),\"\",IF(AND(E341<=0),\"\",IF((ROUND((SUMPRODUCT(MID(0&E341,LARGE(INDEX(ISNUMBER(--MID(E341,ROW($1:$70),1))* ROW($1:$70),0),ROW($1:$70))+1,1)*10^ROW($1:$70)/10)),-8)/100000000)<2004,1,0)))","v":""}]
[null,2202,2,{"$f":"IF(ISNA(VLOOKUP(C342,Master!CD$60:CP$107,3,FALSE)),\"\",VLOOKUP(C342,Master!CD$60:CP$107,3,FALSE))","v":""},{"$f":"IF(ISNA(VLOOKUP(C342,Master!CD$60:CP$107,7,FALSE)),\"\",VLOOKUP(C342,Master!CD$60:CP$107,7,FALSE))","v":""},{"$f":"IF(ISNA(VLOOKUP(C342,Master!CD$60:CP$107,8,FALSE)),\"\",VLOOKUP(C342,Master!CD$60:CP$107,8,FALSE))","v":""},{"$f":"IF(ISNA(VLOOKUP(C342,Master!CD$60:CP$107,4,FALSE)),\"\",VLOOKUP(C342,Master!CD$60:CP$107,4,FALSE))","v":""},{"$f":"IF(ISNA(VLOOKUP(C342,Master!CD$60:CP$107,5,FALSE)),\"\",VLOOKUP(C342,Master!CD$60:CP$107,5,FALSE))","v":""},{"$f":"IF(ISNA(VLOOKUP(C342,Master!CD$60:CP$107,6,FALSE)),\"\",VLOOKUP(C342,Master!CD$60:CP$107,6,FALSE))","v":""},{"$f":"IF(AND(H342=\"\"),\"\",I342*12)","v":""},{"$f":"IF(AND(H342=\"\"),\"\",\"Not Applicable\")","v":""},{"$f":"IF(AND(H342=\"\"),\"\",\"0\")","v":""},{"$f":"IF(AND(H342=\"\"),\"\",J342+L342)","v":""},{"$f":"IF(AND(H342=\"\"),\"\",M342)","v":""},{"$f":"IF(AND(H342=\"\"),\"\",\"SANVIDA\")","v":""},{"$nulls":16},"","","","","","",0,0,"",0,{"$f":"IF(AND(I342=\"\"),0,ROUND((I342+ROUND(I342*$AK$10,0))/2,0)*(IF(O342=\"FIX PAY\",0,1)))","v":0},{"$f":"IF(G342=\"CLERK GRADE I\",1,IF(G342=\"CLERK GRADE II\",1,0))*75*12*BU342*(IF(I342<=0,0,1))*BV342","v":0},null,0,"","",null,null,"","","","","","",null,5,"",0,0,{"$f":"IF(G342=\"CLERK GRADE I\",1,IF(G342=\"CLERK GRADE II\",1,0))*75*12*BU342*(IF(I342<=0,0,1))*BV342","v":0},{"$f":"IF(AND(G342=\"\"),0,(IF(G342=\"ASSISTANT\",12,IF(G342=\"CLERK GRADE I\",12,IF(G342=\"CLERK GRADE II\",12,IF(G342=\"FIELDMAN & FIELD REC\",12,IF(G342=\"LAB BOY\",12,IF(G342=\"JAMADAR\",12,IF(G342=\"PEON\",12,10))))))))*(MINA(ROUND(AF342*6%,0),600))*(IF($U342=\"yes\",1,)))","v":0},{"$f":"IF(AND(I342=\"\"),\"\",(IF(G342=\"LAB BOY\",150,IF(G342=\"JAMADAR\",150,IF(G342=\"PEON\",150,0))))*12*BU342*(IF(I342<=0,0,1)))","v":""},"","",null,null,"",{"$f":"(IF(G342=\"PRINCIPAL\",1,IF(G342=\"H M\",1,IF(G342=\"AGRICULTURE INST\",1,IF(G342=\"TEACHER-1ST\",1,IF(G342=\"PTI  I  (13)\",1,IF(G342=\"AGRICULTURE TEACH\",1,IF(G342=\"INSTRUCTOR\",1,0))))))))+(IF(G342=\"JR TEACHER\",1,IF(G342=\"LIBRARIAN I\",1,0)))*(IF(O342=\"FIX PAY\",0,1))","v":0},1,{"$f":"(IF(G342=\"PRINCIPAL (16)\",1,IF(G342=\"V P (14)\",1,IF(G342=\"H M (14)\",1,IF(G342=\"AGRICULTURE INST (13)\",1,IF(G342=\"TEACHER-1ST (13)\",1,IF(G342=\"PTI  I  (13)\",1,IF(G342=\"AGRICULTURE TEACH (13)\",1,IF(G342=\"INSTRUCTOR (13)\",1,0))))))))+(IF(G342=\"JR TEACHER (13)\",1,IF(G342=\"LIBRARIAN I (13)\",1,0))))*(IF(O342=\"FIX PAY\",1,0))","v":0},0,{"$f":"IF(O342=\"FIX PAY\",1,0)","v":0},1,{"$f":"IF((ROUND((SUMPRODUCT(MID(0&E342,LARGE(INDEX(ISNUMBER(--MID(E342,ROW($1:$25),1))* ROW($1:$25),0),ROW($1:$25))+1,1)*10^ROW($1:$25)/10)),-8)/100000000)>=2004,1,0)","v":0},1,{"$f":"IF(O342=\"SANVIDA\",1,0)","v":0},{"$f":"IF(BY342>0,I342,0)","v":0},{"$f":"IF(AND(E342=\"\"),\"\",IF(AND(E342<=0),\"\",IF((ROUND((SUMPRODUCT(MID(0&E342,LARGE(INDEX(ISNUMBER(--MID(E342,ROW($1:$70),1))* ROW($1:$70),0),ROW($1:$70))+1,1)*10^ROW($1:$70)/10)),-8)/100000000)<2004,1,0)))","v":""}]
[null,2202,3,{"$f":"IF(ISNA(VLOOKUP(C343,Master!CD$60:CP$107,3,FALSE)),\"\",VLOOKUP(C343,Master!CD$60:CP$107,3,FALSE))","v":""},{"$f":"IF(ISNA(VLOOKUP(C343,Master!CD$60:CP$107,7,FALSE)),\"\",VLOOKUP(C343,Master!CD$60:CP$107,7,FALSE))","v":""},{"$f":"IF(ISNA(VLOOKUP(C343,Master!CD$60:CP$107,8,FALSE)),\"\",VLOOKUP(C343,Master!CD$60:CP$107,8,FALSE))","v":""},{"$f":"IF(ISNA(VLOOKUP(C343,Master!CD$60:CP$107,4,FALSE)),\"\",VLOOKUP(C343,Master!CD$60:CP$107,4,FALSE))","v":""},{"$f":"IF(ISNA(VLOOKUP(C343,Master!CD$60:CP$107,5,FALSE)),\"\",VLOOKUP(C343,Master!CD$60:CP$107,5,FALSE))","v":""},{"$f":"IF(ISNA(VLOOKUP(C343,Master!CD$60:CP$107,6,FALSE)),\"\",VLOOKUP(C343,Master!CD$60:CP$107,6,FALSE))","v":""},{"$f":"IF(AND(H343=\"\"),\"\",I343*12)","v":""},{"$f":"IF(AND(H343=\"\"),\"\",\"Not Applicable\")","v":""},{"$f":"IF(AND(H343=\"\"),\"\",\"0\")","v":""},{"$f":"IF(AND(H343=\"\"),\"\",J343+L343)","v":""},{"$f":"IF(AND(H343=\"\"),\"\",M343)","v":""},{"$f":"IF(AND(H343=\"\"),\"\",\"SANVIDA\")","v":""},{"$nulls":16},"","","","","","",0,0,"",0,{"$f":"IF(AND(I343=\"\"),0,ROUND((I343+ROUND(I343*$AK$10,0))/2,0)*(IF(O343=\"FIX PAY\",0,1)))","v":0},{"$f":"IF(G343=\"CLERK GRADE I\",1,IF(G343=\"CLERK GRADE II\",1,0))*75*12*BU343*(IF(I343<=0,0,1))*BV343","v":0},null,0,"","",null,null,"","","","","","",null,6,"",0,0,{"$f":"IF(G343=\"CLERK GRADE I\",1,IF(G343=\"CLERK GRADE II\",1,0))*75*12*BU343*(IF(I343<=0,0,1))*BV343","v":0},{"$f":"IF(AND(G343=\"\"),0,(IF(G343=\"ASSISTANT\",12,IF(G343=\"CLERK GRADE I\",12,IF(G343=\"CLERK GRADE II\",12,IF(G343=\"FIELDMAN & FIELD REC\",12,IF(G343=\"LAB BOY\",12,IF(G343=\"JAMADAR\",12,IF(G343=\"PEON\",12,10))))))))*(MINA(ROUND(AF343*6%,0),600))*(IF($U343=\"yes\",1,)))","v":0},{"$f":"IF(AND(I343=\"\"),\"\",(IF(G343=\"LAB BOY\",150,IF(G343=\"JAMADAR\",150,IF(G343=\"PEON\",150,0))))*12*BU343*(IF(I343<=0,0,1)))","v":""},"","",null,null,"",{"$f":"(IF(G343=\"PRINCIPAL\",1,IF(G343=\"H M\",1,IF(G343=\"AGRICULTURE INST\",1,IF(G343=\"TEACHER-1ST\",1,IF(G343=\"PTI  I  (13)\",1,IF(G343=\"AGRICULTURE TEACH\",1,IF(G343=\"INSTRUCTOR\",1,0))))))))+(IF(G343=\"JR TEACHER\",1,IF(G343=\"LIBRARIAN I\",1,0)))*(IF(O343=\"FIX PAY\",0,1))","v":0},1,{"$f":"(IF(G343=\"PRINCIPAL (16)\",1,IF(G343=\"V P (14)\",1,IF(G343=\"H M (14)\",1,IF(G343=\"AGRICULTURE INST (13)\",1,IF(G343=\"TEACHER-1ST (13)\",1,IF(G343=\"PTI  I  (13)\",1,IF(G343=\"AGRICULTURE TEACH (13)\",1,IF(G343=\"INSTRUCTOR (13)\",1,0))))))))+(IF(G343=\"JR TEACHER (13)\",1,IF(G343=\"LIBRARIAN I (13)\",1,0))))*(IF(O343=\"FIX PAY\",1,0))","v":0},0,{"$f":"IF(O343=\"FIX PAY\",1,0)","v":0},1,{"$f":"IF((ROUND((SUMPRODUCT(MID(0&E343,LARGE(INDEX(ISNUMBER(--MID(E343,ROW($1:$25),1))* ROW($1:$25),0),ROW($1:$25))+1,1)*10^ROW($1:$25)/10)),-8)/100000000)>=2004,1,0)","v":0},1,{"$f":"IF(O343=\"SANVIDA\",1,0)","v":0},{"$f":"IF(BY343>0,I343,0)","v":0},{"$f":"IF(AND(E343=\"\"),\"\",IF(AND(E343<=0),\"\",IF((ROUND((SUMPRODUCT(MID(0&E343,LARGE(INDEX(ISNUMBER(--MID(E343,ROW($1:$70),1))* ROW($1:$70),0),ROW($1:$70))+1,1)*10^ROW($1:$70)/10)),-8)/100000000)<2004,1,0)))","v":""}]
[null,2202,4,{"$f":"IF(ISNA(VLOOKUP(C344,Master!CD$60:CP$107,3,FALSE)),\"\",VLOOKUP(C344,Master!CD$60:CP$107,3,FALSE))","v":""},{"$f":"IF(ISNA(VLOOKUP(C344,Master!CD$60:CP$107,7,FALSE)),\"\",VLOOKUP(C344,Master!CD$60:CP$107,7,FALSE))","v":""},{"$f":"IF(ISNA(VLOOKUP(C344,Master!CD$60:CP$107,8,FALSE)),\"\",VLOOKUP(C344,Master!CD$60:CP$107,8,FALSE))","v":""},{"$f":"IF(ISNA(VLOOKUP(C344,Master!CD$60:CP$107,4,FALSE)),\"\",VLOOKUP(C344,Master!CD$60:CP$107,4,FALSE))","v":""},{"$f":"IF(ISNA(VLOOKUP(C344,Master!CD$60:CP$107,5,FALSE)),\"\",VLOOKUP(C344,Master!CD$60:CP$107,5,FALSE))","v":""},{"$f":"IF(ISNA(VLOOKUP(C344,Master!CD$60:CP$107,6,FALSE)),\"\",VLOOKUP(C344,Master!CD$60:CP$107,6,FALSE))","v":""},{"$f":"IF(AND(H344=\"\"),\"\",I344*12)","v":""},{"$f":"IF(AND(H344=\"\"),\"\",\"Not Applicable\")","v":""},{"$f":"IF(AND(H344=\"\"),\"\",\"0\")","v":""},{"$f":"IF(AND(H344=\"\"),\"\",J344+L344)","v":""},{"$f":"IF(AND(H344=\"\"),\"\",M344)","v":""},{"$f":"IF(AND(H344=\"\"),\"\",\"SANVIDA\")","v":""},{"$nulls":16},"","","","","","",0,0,"",0,{"$f":"IF(AND(I344=\"\"),0,ROUND((I344+ROUND(I344*$AK$10,0))/2,0)*(IF(O344=\"FIX PAY\",0,1)))","v":0},{"$f":"IF(G344=\"CLERK GRADE I\",1,IF(G344=\"CLERK GRADE II\",1,0))*75*12*BU344*(IF(I344<=0,0,1))*BV344","v":0},null,0,"","",null,null,"","","","","","",null,7,"",0,0,{"$f":"IF(G344=\"CLERK GRADE I\",1,IF(G344=\"CLERK GRADE II\",1,0))*75*12*BU344*(IF(I344<=0,0,1))*BV344","v":0},{"$f":"IF(AND(G344=\"\"),0,(IF(G344=\"ASSISTANT\",12,IF(G344=\"CLERK GRADE I\",12,IF(G344=\"CLERK GRADE II\",12,IF(G344=\"FIELDMAN & FIELD REC\",12,IF(G344=\"LAB BOY\",12,IF(G344=\"JAMADAR\",12,IF(G344=\"PEON\",12,10))))))))*(MINA(ROUND(AF344*6%,0),600))*(IF($U344=\"yes\",1,)))","v":0},{"$f":"IF(AND(I344=\"\"),\"\",(IF(G344=\"LAB BOY\",150,IF(G344=\"JAMADAR\",150,IF(G344=\"PEON\",150,0))))*12*BU344*(IF(I344<=0,0,1)))","v":""},"","",null,null,"",{"$f":"(IF(G344=\"PRINCIPAL\",1,IF(G344=\"H M\",1,IF(G344=\"AGRICULTURE INST\",1,IF(G344=\"TEACHER-1ST\",1,IF(G344=\"PTI  I  (13)\",1,IF(G344=\"AGRICULTURE TEACH\",1,IF(G344=\"INSTRUCTOR\",1,0))))))))+(IF(G344=\"JR TEACHER\",1,IF(G344=\"LIBRARIAN I\",1,0)))*(IF(O344=\"FIX PAY\",0,1))","v":0},1,{"$f":"(IF(G344=\"PRINCIPAL (16)\",1,IF(G344=\"V P (14)\",1,IF(G344=\"H M (14)\",1,IF(G344=\"AGRICULTURE INST (13)\",1,IF(G344=\"TEACHER-1ST (13)\",1,IF(G344=\"PTI  I  (13)\",1,IF(G344=\"AGRICULTURE TEACH (13)\",1,IF(G344=\"INSTRUCTOR (13)\",1,0))))))))+(IF(G344=\"JR TEACHER (13)\",1,IF(G344=\"LIBRARIAN I (13)\",1,0))))*(IF(O344=\"FIX PAY\",1,0))","v":0},0,{"$f":"IF(O344=\"FIX PAY\",1,0)","v":0},1,{"$f":"IF((ROUND((SUMPRODUCT(MID(0&E344,LARGE(INDEX(ISNUMBER(--MID(E344,ROW($1:$25),1))* ROW($1:$25),0),ROW($1:$25))+1,1)*10^ROW($1:$25)/10)),-8)/100000000)>=2004,1,0)","v":0},1,{"$f":"IF(O344=\"SANVIDA\",1,0)","v":0},{"$f":"IF(BY344>0,I344,0)","v":0},{"$f":"IF(AND(E344=\"\"),\"\",IF(AND(E344<=0),\"\",IF((ROUND((SUMPRODUCT(MID(0&E344,LARGE(INDEX(ISNUMBER(--MID(E344,ROW($1:$70),1))* ROW($1:$70),0),ROW($1:$70))+1,1)*10^ROW($1:$70)/10)),-8)/100000000)<2004,1,0)))","v":""}]
[{"$nulls":6},"TOTAL GAZETTED SANVIDA",null,null,{"$f":"SUM(J341:J344)","v":0},null,{"$f":"SUM(L341:L344)","v":0},{"$f":"SUM(M341:M344)","v":0},{"$f":"SUM(N341:N344)","v":0},{"$nulls":30},0]
[null,null,"NON GAZETTED SANVIDA",{"$nulls":41},0]
[null,2202,1,{"$f":"IF(ISNA(VLOOKUP(C347,Master!CQ$60:DC$285,3,FALSE)),\"\",VLOOKUP(C347,Master!CQ$60:DC$285,3,FALSE))","v":"CGBCB"},{"$f":"IF(ISNA(VLOOKUP(C347,Master!CQ$60:DC$285,7,FALSE)),\"\",VLOOKUP(C347,Master!CQ$60:DC$285,7,FALSE))","v":"-"},{"$f":"IF(ISNA(VLOOKUP(C347,Master!CQ$60:DC$285,8,FALSE)),\"\",VLOOKUP(C347,Master!CQ$60:DC$285,8,FALSE))","v":0},{"$f":"IF(ISNA(VLOOKUP(C347,Master!CQ$60:DC$285,4,FALSE)),\"\",VLOOKUP(C347,Master!CQ$60:DC$285,4,FALSE))","v":"Sanvida Employee"},{"$f":"IF(ISNA(VLOOKUP(C347,Master!CQ$60:DC$285,5,FALSE)),\"\",VLOOKUP(C347,Master!CQ$60:DC$285,5,FALSE))","v":"-"},{"$f":"IF(ISNA(VLOOKUP(C347,Master!CQ$60:DC$285,6,FALSE)),\"\",VLOOKUP(C347,Master!CQ$60:DC$285,6,FALSE))","v":16400},{"$f":"IF(AND(H347=\"\"),\"\",I347*12)","v":196800},{"$f":"IF(AND(H347=\"\"),\"\",\"Not Applicable\")","v":"Not Applicable"},{"$f":"IF(AND(H347=\"\"),\"\",\"0\")","v":"0"},{"$f":"IF(AND(H347=\"\"),\"\",J347+L347)","v":196800},{"$f":"IF(AND(H347=\"\"),\"\",M347)","v":196800},{"$f":"IF(AND(H347=\"\"),\"\",\"SANVIDA\")","v":"SANVIDA"},{"$nulls":5},{"$f":"IF(ISNA(VLOOKUP(C347,Master!CQ$60:DD$285,10,FALSE)),\"\",VLOOKUP(C347,Master!CQ$60:DD$285,10,FALSE))","v":0},null,null,{"$f":"IF(ISNA(VLOOKUP(C347,Master!CQ$60:DD$285,11,FALSE)),\"\",VLOOKUP(C347,Master!CQ$60:DD$285,11,FALSE))","v":0},{"$f":"IF(ISNA(VLOOKUP(C347,Master!CQ$60:DD$285,9,FALSE)),\"\",VLOOKUP(C347,Master!CQ$60:DD$285,9,FALSE))","v":0},{"$f":"IF(Y347=\"MALE\",1,0)*(IF(G347=\"JAMADAR\",1,0))*(IF(I347<=0,0,1))","v":0},{"$f":"IF(Y347=\"FEMALE\",1,0)*(IF(G347=\"JAMADAR\",1,0))*(IF(I347<=0,0,1))","v":0},{"$f":"IF(Y347=\"MALE\",1,0)*(IF(G347=\"LAB BOY\",1,0))*(IF(I347<=0,0,1))","v":0},{"$f":"IF(Y347=\"FEMALE\",1,0)*(IF(G347=\"LAB BOY\",1,0))*(IF(I347<=0,0,1))","v":0},{"$f":"IF(Y347=\"MALE\",1,0)*(IF(G347=\"PEON\",1,0))*(IF(I347<=0,0,1))","v":0},{"$f":"IF(Y347=\"FEMALE\",1,0)*(IF(G347=\"PEON\",1,0))*(IF(I347<=0,0,1))","v":0},{"$f":"IF(AND(I347=\"\"),\"\",I347-ROUNDUP(ROUND((I347*3%)-(I347*3%)*2.9%,-2),0))","v":15900},{"$f":"IF(AND(I347=\"\"),\"\",$M347*$BQ347)","v":0},{"$f":"IF(AND(I347=\"\"),\"\",$M347*$BR347)","v":196800},{"$f":"IF(AND(I347=\"\"),\"\",$M347*$BS347)","v":0},{"$f":"IF(AND(I347=\"\"),\"\",$M347*$BT347)","v":0},{"$f":"IF(AND(I347=\"\"),\"\",ROUND((AG347+AH347)*$AK$10,0)*BU347)","v":0},0,0,0,0,{"$f":"IF(AND(I347=\"\"),0,ROUND((I347+ROUND(I347*$AK$10,0))/2,0)*(IF(O347=\"FIX PAY\",0,IF(O347=\"SANVIDA\",0,1))))","v":0},{"$f":"IF(G347=\"CLERK GRADE I\",1,IF(G347=\"CLERK GRADE II\",1,0))*75*12*BU347*(IF(I347<=0,0,1))*BV347","v":0},null,0,196800,196800,null,null,196800,0,196800,0,0,0,null,10,0,0,11289,{"$f":"IF(G347=\"CLERK GRADE I\",1,IF(G347=\"CLERK GRADE II\",1,0))*75*12*BU347*(IF(I347<=0,0,1))*BV347","v":0},{"$f":"IF(AND(G347=\"\"),0,(IF(G347=\"ASSISTANT\",12,IF(G347=\"CLERK GRADE I\",12,IF(G347=\"CLERK GRADE II\",12,IF(G347=\"FIELDMAN & FIELD REC\",12,IF(G347=\"LAB BOY\",12,IF(G347=\"JAMADAR\",12,IF(G347=\"PEON\",12,10))))))))*(MINA(ROUND(AF347*6%,0),600))*(IF($U347=\"yes\",1,)))","v":0},{"$f":"IF(AND(I347=\"\"),\"\",(IF(G347=\"LAB BOY\",150,IF(G347=\"JAMADAR\",150,IF(G347=\"PEON\",150,0))))*12*BU347*(IF(I347<=0,0,1)))","v":0},208099,208099,null,null,208099,{"$f":"(IF(G347=\"PRINCIPAL\",1,IF(G347=\"H M\",1,IF(G347=\"AGRICULTURE INST\",1,IF(G347=\"TEACHER-1ST\",1,IF(G347=\"PTI  I  (13)\",1,IF(G347=\"AGRICULTURE TEACH\",1,IF(G347=\"INSTRUCTOR\",1,0))))))))+(IF(G347=\"JR TEACHER\",1,IF(G347=\"LIBRARIAN I\",1,0)))*(IF(O347=\"FIX PAY\",0,1))","v":0},1,{"$f":"(IF(G347=\"PRINCIPAL (16)\",1,IF(G347=\"V P (14)\",1,IF(G347=\"H M (14)\",1,IF(G347=\"AGRICULTURE INST (13)\",1,IF(G347=\"TEACHER-1ST (13)\",1,IF(G347=\"PTI  I  (13)\",1,IF(G347=\"AGRICULTURE TEACH (13)\",1,IF(G347=\"INSTRUCTOR (13)\",1,0))))))))+(IF(G347=\"JR TEACHER (13)\",1,IF(G347=\"LIBRARIAN I (13)\",1,0))))*(IF(O347=\"FIX PAY\",1,0))","v":0},0,{"$f":"IF(O347=\"FIX PAY\",1,0)","v":0},1,{"$f":"IF((ROUND((SUMPRODUCT(MID(0&E347,LARGE(INDEX(ISNUMBER(--MID(E347,ROW($1:$25),1))* ROW($1:$25),0),ROW($1:$25))+1,1)*10^ROW($1:$25)/10)),-8)/100000000)>=2004,1,0)","v":0},1,{"$f":"IF(O347=\"SANVIDA\",1,0)","v":1},{"$f":"IF(BY347>0,I347,0)","v":16400},{"$f":"IF(AND(E347=\"\"),\"\",IF(AND(E347<=0),\"\",IF((ROUND((SUMPRODUCT(MID(0&E347,LARGE(INDEX(ISNUMBER(--MID(E347,ROW($1:$70),1))* ROW($1:$70),0),ROW($1:$70))+1,1)*10^ROW($1:$70)/10)),-8)/100000000)<2004,1,0)))","v":1}]
[null,2202,2,{"$f":"IF(ISNA(VLOOKUP(C348,Master!CQ$60:DC$285,3,FALSE)),\"\",VLOOKUP(C348,Master!CQ$60:DC$285,3,FALSE))","v":"DGGBC"},{"$f":"IF(ISNA(VLOOKUP(C348,Master!CQ$60:DC$285,7,FALSE)),\"\",VLOOKUP(C348,Master!CQ$60:DC$285,7,FALSE))","v":"-"},{"$f":"IF(ISNA(VLOOKUP(C348,Master!CQ$60:DC$285,8,FALSE)),\"\",VLOOKUP(C348,Master!CQ$60:DC$285,8,FALSE))","v":0},{"$f":"IF(ISNA(VLOOKUP(C348,Master!CQ$60:DC$285,4,FALSE)),\"\",VLOOKUP(C348,Master!CQ$60:DC$285,4,FALSE))","v":"Sanvida Employee"},{"$f":"IF(ISNA(VLOOKUP(C348,Master!CQ$60:DC$285,5,FALSE)),\"\",VLOOKUP(C348,Master!CQ$60:DC$285,5,FALSE))","v":"-"},{"$f":"IF(ISNA(VLOOKUP(C348,Master!CQ$60:DC$285,6,FALSE)),\"\",VLOOKUP(C348,Master!CQ$60:DC$285,6,FALSE))","v":16400},{"$f":"IF(AND(H348=\"\"),\"\",I348*12)","v":196800},{"$f":"IF(AND(H348=\"\"),\"\",\"Not Applicable\")","v":"Not Applicable"},{"$f":"IF(AND(H348=\"\"),\"\",\"0\")","v":"0"},{"$f":"IF(AND(H348=\"\"),\"\",J348+L348)","v":196800},{"$f":"IF(AND(H348=\"\"),\"\",M348)","v":196800},{"$f":"IF(AND(H348=\"\"),\"\",\"SANVIDA\")","v":"SANVIDA"},{"$nulls":5},{"$f":"IF(ISNA(VLOOKUP(C348,Master!CQ$60:DD$285,10,FALSE)),\"\",VLOOKUP(C348,Master!CQ$60:DD$285,10,FALSE))","v":0},null,null,{"$f":"IF(ISNA(VLOOKUP(C348,Master!CQ$60:DD$285,11,FALSE)),\"\",VLOOKUP(C348,Master!CQ$60:DD$285,11,FALSE))","v":0},{"$f":"IF(ISNA(VLOOKUP(C348,Master!CQ$60:DD$285,9,FALSE)),\"\",VLOOKUP(C348,Master!CQ$60:DD$285,9,FALSE))","v":0},{"$f":"IF(Y348=\"MALE\",1,0)*(IF(G348=\"JAMADAR\",1,0))*(IF(I348<=0,0,1))","v":0},{"$f":"IF(Y348=\"FEMALE\",1,0)*(IF(G348=\"JAMADAR\",1,0))*(IF(I348<=0,0,1))","v":0},{"$f":"IF(Y348=\"MALE\",1,0)*(IF(G348=\"LAB BOY\",1,0))*(IF(I348<=0,0,1))","v":0},{"$f":"IF(Y348=\"FEMALE\",1,0)*(IF(G348=\"LAB BOY\",1,0))*(IF(I348<=0,0,1))","v":0},{"$f":"IF(Y348=\"MALE\",1,0)*(IF(G348=\"PEON\",1,0))*(IF(I348<=0,0,1))","v":0},{"$f":"IF(Y348=\"FEMALE\",1,0)*(IF(G348=\"PEON\",1,0))*(IF(I348<=0,0,1))","v":0},{"$f":"IF(AND(I348=\"\"),\"\",I348-ROUNDUP(ROUND((I348*3%)-(I348*3%)*2.9%,-2),0))","v":15900},0,196800,0,0,0,0,0,0,0,{"$f":"IF(AND(I348=\"\"),0,ROUND((I348+ROUND(I348*$AK$10,0))/2,0)*(IF(O348=\"FIX PAY\",0,IF(O348=\"SANVIDA\",0,1))))","v":0},0,null,0,196800,196800,null,null,196800,0,196800,0,0,0,null,11,0,0,11289,0,0,0,208100,208100,null,null,208100,0,1,0,0,0,1,0,1,1,16400,1]
[null,2202,3,{"$f":"IF(ISNA(VLOOKUP(C349,Master!CQ$60:DC$285,3,FALSE)),\"\",VLOOKUP(C349,Master!CQ$60:DC$285,3,FALSE))","v":""},{"$f":"IF(ISNA(VLOOKUP(C349,Master!CQ$60:DC$285,7,FALSE)),\"\",VLOOKUP(C349,Master!CQ$60:DC$285,7,FALSE))","v":""},{"$f":"IF(ISNA(VLOOKUP(C349,Master!CQ$60:DC$285,8,FALSE)),\"\",VLOOKUP(C349,Master!CQ$60:DC$285,8,FALSE))","v":""},{"$f":"IF(ISNA(VLOOKUP(C349,Master!CQ$60:DC$285,4,FALSE)),\"\",VLOOKUP(C349,Master!CQ$60:DC$285,4,FALSE))","v":""},{"$f":"IF(ISNA(VLOOKUP(C349,Master!CQ$60:DC$285,5,FALSE)),\"\",VLOOKUP(C349,Master!CQ$60:DC$285,5,FALSE))","v":""},{"$f":"IF(ISNA(VLOOKUP(C349,Master!CQ$60:DC$285,6,FALSE)),\"\",VLOOKUP(C349,Master!CQ$60:DC$285,6,FALSE))","v":""},"","","","","","",{"$nulls":5},{"$f":"IF(ISNA(VLOOKUP(C349,Master!CQ$60:DD$285,10,FALSE)),\"\",VLOOKUP(C349,Master!CQ$60:DD$285,10,FALSE))","v":""},null,null,{"$f":"IF(ISNA(VLOOKUP(C349,Master!CQ$60:DD$285,11,FALSE)),\"\",VLOOKUP(C349,Master!CQ$60:DD$285,11,FALSE))","v":""},{"$f":"IF(ISNA(VLOOKUP(C349,Master!CQ$60:DD$285,9,FALSE)),\"\",VLOOKUP(C349,Master!CQ$60:DD$285,9,FALSE))","v":""},0,0,0,0,0,0,"","","","","","",0,0,"",0,0,0,null,0,"","",null,null,"","","","","","",null,12,"",0,0,0,0,"","","",null,null,"",0,1,0,0,0,1,0,1,0,0,""]
[null,2202,4,{"$f":"IF(ISNA(VLOOKUP(C350,Master!CQ$60:DC$285,3,FALSE)),\"\",VLOOKUP(C350,Master!CQ$60:DC$285,3,FALSE))","v":""},{"$f":"IF(ISNA(VLOOKUP(C350,Master!CQ$60:DC$285,7,FALSE)),\"\",VLOOKUP(C350,Master!CQ$60:DC$285,7,FALSE))","v":""},{"$f":"IF(ISNA(VLOOKUP(C350,Master!CQ$60:DC$285,8,FALSE)),\"\",VLOOKUP(C350,Master!CQ$60:DC$285,8,FALSE))","v":""},{"$f":"IF(ISNA(VLOOKUP(C350,Master!CQ$60:DC$285,4,FALSE)),\"\",VLOOKUP(C350,Master!CQ$60:DC$285,4,FALSE))","v":""},{"$f":"IF(ISNA(VLOOKUP(C350,Master!CQ$60:DC$285,5,FALSE)),\"\",VLOOKUP(C350,Master!CQ$60:DC$285,5,FALSE))","v":""},{"$f":"IF(ISNA(VLOOKUP(C350,Master!CQ$60:DC$285,6,FALSE)),\"\",VLOOKUP(C350,Master!CQ$60:DC$285,6,FALSE))","v":""},"","","","","","",{"$nulls":5},{"$f":"IF(ISNA(VLOOKUP(C350,Master!CQ$60:DD$285,10,FALSE)),\"\",VLOOKUP(C350,Master!CQ$60:DD$285,10,FALSE))","v":""},null,null,{"$f":"IF(ISNA(VLOOKUP(C350,Master!CQ$60:DD$285,11,FALSE)),\"\",VLOOKUP(C350,Master!CQ$60:DD$285,11,FALSE))","v":""},{"$f":"IF(ISNA(VLOOKUP(C350,Master!CQ$60:DD$285,9,FALSE)),\"\",VLOOKUP(C350,Master!CQ$60:DD$285,9,FALSE))","v":""},0,0,0,0,0,0,"","","","","","",0,0,"",0,0,0,null,0,"","",null,null,"","","","","","",null,13,"",0,0,0,0,"","","",null,null,"",0,1,0,0,0,1,0,1,0,0,""]
[null,2202,5,{"$f":"IF(ISNA(VLOOKUP(C351,Master!CQ$60:DC$285,3,FALSE)),\"\",VLOOKUP(C351,Master!CQ$60:DC$285,3,FALSE))","v":""},{"$f":"IF(ISNA(VLOOKUP(C351,Master!CQ$60:DC$285,7,FALSE)),\"\",VLOOKUP(C351,Master!CQ$60:DC$285,7,FALSE))","v":""},{"$f":"IF(ISNA(VLOOKUP(C351,Master!CQ$60:DC$285,8,FALSE)),\"\",VLOOKUP(C351,Master!CQ$60:DC$285,8,FALSE))","v":""},{"$f":"IF(ISNA(VLOOKUP(C351,Master!CQ$60:DC$285,4,FALSE)),\"\",VLOOKUP(C351,Master!CQ$60:DC$285,4,FALSE))","v":""},{"$f":"IF(ISNA(VLOOKUP(C351,Master!CQ$60:DC$285,5,FALSE)),\"\",VLOOKUP(C351,Master!CQ$60:DC$285,5,FALSE))","v":""},{"$f":"IF(ISNA(VLOOKUP(C351,Master!CQ$60:DC$285,6,FALSE)),\"\",VLOOKUP(C351,Master!CQ$60:DC$285,6,FALSE))","v":""},"","","","","","",{"$nulls":5},{"$f":"IF(ISNA(VLOOKUP(C351,Master!CQ$60:DD$285,10,FALSE)),\"\",VLOOKUP(C351,Master!CQ$60:DD$285,10,FALSE))","v":""},null,null,{"$f":"IF(ISNA(VLOOKUP(C351,Master!CQ$60:DD$285,11,FALSE)),\"\",VLOOKUP(C351,Master!CQ$60:DD$285,11,FALSE))","v":""},{"$f":"IF(ISNA(VLOOKUP(C351,Master!CQ$60:DD$285,9,FALSE)),\"\",VLOOKUP(C351,Master!CQ$60:DD$285,9,FALSE))","v":""},0,0,0,0,0,0,{"$f":"IF(AND(I351=\"\"),\"\",(IF(O351=\"FIX PAY\",0,(I351-ROUNDUP(ROUND((I351*3%)-(I351*3%)*3%,0),-1)))))","v":""},{"$f":"IF(AND(I351=\"\"),\"\",$M351*$BQ351)","v":""},{"$f":"IF(AND(I351=\"\"),\"\",$M351*$BR351)","v":""},{"$f":"IF(AND(I351=\"\"),\"\",$M351*$BS351)","v":""},{"$f":"IF(AND(I351=\"\"),\"\",$M351*$BT351)","v":""},{"$f":"IF(AND(I351=\"\"),\"\",ROUND((AG351+AH351)*$AK$10,0)*BU351)","v":""},0,0,{"$f":"IF(AND(I351=\"\"),\"\",ROUND((AG351+AH351)*$AN$10,0)*BU351)","v":""},{"$f":"$G$221*BR351*BU351*(IF(I351<=0,0,1))*(IF(H351<=4800,1,0))","v":0},0,0,null,0,{"$f":"IF(AND(I351=\"\"),\"\",SUM(AK351:AS351)+AG351+AH351)","v":""},{"$f":"IF(AND(I351=\"\"),\"\",AT351)","v":""},null,null,{"$f":"IF(AND(I351=\"\"),\"\",AU351+AV351+AW351)","v":""},{"$f":"IF(AND(I351=\"\"),\"\",N351*BQ351)","v":""},{"$f":"IF(AND(I351=\"\"),\"\",N351*BR351)","v":""},{"$f":"IF(AND(I351=\"\"),\"\",N351*BS351)","v":""},{"$f":"IF(AND(I351=\"\"),\"\",N351*BT351)","v":""},{"$f":"IF(AND(I351=\"\"),\"\",ROUND((AY351+AZ351)*$BC$10,0)*BU351)","v":""},null,10,{"$f":"IF(AND(I351=\"\"),\"\",ROUND((AY351+AZ351)*$BF$10,0)*BU351)","v":""},{"$f":"3387*2*BR351*BU351*(IF(I351<=0,0,1))*(IF(H351<=4800,1,0))","v":0},{"$f":"IF(AND(I351=\"\"),0,ROUND((AF351+ROUND(AF351*$AK$10,0))/2,0)*(IF(O351=\"FIX PAY\",0,1)))","v":0},0,0,"",{"$f":"IF(AND(I351=\"\"),\"\",SUM(BC351:BK351)+AY351+AZ351)","v":""},{"$f":"IF(AND(I351=\"\"),\"\",BL351)","v":""},null,null,{"$f":"IF(AND(I351=\"\"),\"\",BM351+BN351+BO351)","v":""},0,{"$f":"IF(BQ351<=0,1,0)*(IF(O351=\"FIX PAY\",0,1))","v":1},0,{"$f":"IF(BS351<=0,1,0)*(IF(O351=\"FIX PAY\",1,0))","v":0},0,{"$f":"IF(X351=\"No\",0,1)","v":1},0,{"$f":"IF(I351<=0,0,1)","v":1},0,0,""]
[null,2202,6,{"$f":"IF(ISNA(VLOOKUP(C352,Master!CQ$60:DC$285,3,FALSE)),\"\",VLOOKUP(C352,Master!CQ$60:DC$285,3,FALSE))","v":""},{"$f":"IF(ISNA(VLOOKUP(C352,Master!CQ$60:DC$285,7,FALSE)),\"\",VLOOKUP(C352,Master!CQ$60:DC$285,7,FALSE))","v":""},{"$f":"IF(ISNA(VLOOKUP(C352,Master!CQ$60:DC$285,8,FALSE)),\"\",VLOOKUP(C352,Master!CQ$60:DC$285,8,FALSE))","v":""},{"$f":"IF(ISNA(VLOOKUP(C352,Master!CQ$60:DC$285,4,FALSE)),\"\",VLOOKUP(C352,Master!CQ$60:DC$285,4,FALSE))","v":""},{"$f":"IF(ISNA(VLOOKUP(C352,Master!CQ$60:DC$285,5,FALSE)),\"\",VLOOKUP(C352,Master!CQ$60:DC$285,5,FALSE))","v":""},{"$f":"IF(ISNA(VLOOKUP(C352,Master!CQ$60:DC$285,6,FALSE)),\"\",VLOOKUP(C352,Master!CQ$60:DC$285,6,FALSE))","v":""},"","","","","","",{"$nulls":5},{"$f":"IF(ISNA(VLOOKUP(C352,Master!CQ$60:DD$285,10,FALSE)),\"\",VLOOKUP(C352,Master!CQ$60:DD$285,10,FALSE))","v":""},null,null,{"$f":"IF(ISNA(VLOOKUP(C352,Master!CQ$60:DD$285,11,FALSE)),\"\",VLOOKUP(C352,Master!CQ$60:DD$285,11,FALSE))","v":""},{"$f":"IF(ISNA(VLOOKUP(C352,Master!CQ$60:DD$285,9,FALSE)),\"\",VLOOKUP(C352,Master!CQ$60:DD$285,9,FALSE))","v":""},0,0,0,0,0,0,{"$f":"IF(AND(I352=\"\"),\"\",(IF(O352=\"FIX PAY\",0,(I352-ROUNDUP(ROUND((I352*3%)-(I352*3%)*3%,0),-1)))))","v":""},{"$f":"IF(AND(I352=\"\"),\"\",$M352*$BQ352)","v":""},{"$f":"IF(AND(I352=\"\"),\"\",$M352*$BR352)","v":""},{"$f":"IF(AND(I352=\"\"),\"\",$M352*$BS352)","v":""},{"$f":"IF(AND(I352=\"\"),\"\",$M352*$BT352)","v":""},{"$f":"IF(AND(I352=\"\"),\"\",ROUND((AG352+AH352)*$AK$10,0)*BU352)","v":""},0,0,{"$f":"IF(AND(I352=\"\"),\"\",ROUND((AG352+AH352)*$AN$10,0)*BU352)","v":""},{"$f":"$G$221*BR352*BU352*(IF(I352<=0,0,1))*(IF(H352<=4800,1,0))","v":0},0,0,null,0,{"$f":"IF(AND(I352=\"\"),\"\",SUM(AK352:AS352)+AG352+AH352)","v":""},{"$f":"IF(AND(I352=\"\"),\"\",AT352)","v":""},null,null,{"$f":"IF(AND(I352=\"\"),\"\",AU352+AV352+AW352)","v":""},{"$f":"IF(AND(I352=\"\"),\"\",N352*BQ352)","v":""},{"$f":"IF(AND(I352=\"\"),\"\",N352*BR352)","v":""},{"$f":"IF(AND(I352=\"\"),\"\",N352*BS352)","v":""},{"$f":"IF(AND(I352=\"\"),\"\",N352*BT352)","v":""},{"$f":"IF(AND(I352=\"\"),\"\",ROUND((AY352+AZ352)*$BC$10,0)*BU352)","v":""},null,11,{"$f":"IF(AND(I352=\"\"),\"\",ROUND((AY352+AZ352)*$BF$10,0)*BU352)","v":""},{"$f":"3387*2*BR352*BU352*(IF(I352<=0,0,1))*(IF(H352<=4800,1,0))","v":0},{"$f":"IF(AND(I352=\"\"),0,ROUND((AF352+ROUND(AF352*$AK$10,0))/2,0)*(IF(O352=\"FIX PAY\",0,1)))","v":0},0,0,"",{"$f":"IF(AND(I352=\"\"),\"\",SUM(BC352:BK352)+AY352+AZ352)","v":""},{"$f":"IF(AND(I352=\"\"),\"\",BL352)","v":""},null,null,{"$f":"IF(AND(I352=\"\"),\"\",BM352+BN352+BO352)","v":""},0,{"$f":"IF(BQ352<=0,1,0)*(IF(O352=\"FIX PAY\",0,1))","v":1},0,{"$f":"IF(BS352<=0,1,0)*(IF(O352=\"FIX PAY\",1,0))","v":0},0,{"$f":"IF(X352=\"No\",0,1)","v":1},0,{"$f":"IF(I352<=0,0,1)","v":1},0,0,""]
[null,2202,7,{"$f":"IF(ISNA(VLOOKUP(C353,Master!CQ$60:DC$285,3,FALSE)),\"\",VLOOKUP(C353,Master!CQ$60:DC$285,3,FALSE))","v":""},{"$f":"IF(ISNA(VLOOKUP(C353,Master!CQ$60:DC$285,7,FALSE)),\"\",VLOOKUP(C353,Master!CQ$60:DC$285,7,FALSE))","v":""},{"$f":"IF(ISNA(VLOOKUP(C353,Master!CQ$60:DC$285,8,FALSE)),\"\",VLOOKUP(C353,Master!CQ$60:DC$285,8,FALSE))","v":""},{"$f":"IF(ISNA(VLOOKUP(C353,Master!CQ$60:DC$285,4,FALSE)),\"\",VLOOKUP(C353,Master!CQ$60:DC$285,4,FALSE))","v":""},{"$f":"IF(ISNA(VLOOKUP(C353,Master!CQ$60:DC$285,5,FALSE)),\"\",VLOOKUP(C353,Master!CQ$60:DC$285,5,FALSE))","v":""},{"$f":"IF(ISNA(VLOOKUP(C353,Master!CQ$60:DC$285,6,FALSE)),\"\",VLOOKUP(C353,Master!CQ$60:DC$285,6,FALSE))","v":""},"","","","","","",{"$nulls":5},{"$f":"IF(ISNA(VLOOKUP(C353,Master!CQ$60:DD$285,10,FALSE)),\"\",VLOOKUP(C353,Master!CQ$60:DD$285,10,FALSE))","v":""},null,null,{"$f":"IF(ISNA(VLOOKUP(C353,Master!CQ$60:DD$285,11,FALSE)),\"\",VLOOKUP(C353,Master!CQ$60:DD$285,11,FALSE))","v":""},{"$f":"IF(ISNA(VLOOKUP(C353,Master!CQ$60:DD$285,9,FALSE)),\"\",VLOOKUP(C353,Master!CQ$60:DD$285,9,FALSE))","v":""},0,0,0,0,0,0,{"$f":"IF(AND(I353=\"\"),\"\",(IF(O353=\"FIX PAY\",0,(I353-ROUNDUP(ROUND((I353*3%)-(I353*3%)*3%,0),-1)))))","v":""},{"$f":"IF(AND(I353=\"\"),\"\",$M353*$BQ353)","v":""},{"$f":"IF(AND(I353=\"\"),\"\",$M353*$BR353)","v":""},{"$f":"IF(AND(I353=\"\"),\"\",$M353*$BS353)","v":""},{"$f":"IF(AND(I353=\"\"),\"\",$M353*$BT353)","v":""},{"$f":"IF(AND(I353=\"\"),\"\",ROUND((AG353+AH353)*$AK$10,0)*BU353)","v":""},0,0,{"$f":"IF(AND(I353=\"\"),\"\",ROUND((AG353+AH353)*$AN$10,0)*BU353)","v":""},{"$f":"$G$221*BR353*BU353*(IF(I353<=0,0,1))*(IF(H353<=4800,1,0))","v":0},0,0,null,0,{"$f":"IF(AND(I353=\"\"),\"\",SUM(AK353:AS353)+AG353+AH353)","v":""},{"$f":"IF(AND(I353=\"\"),\"\",AT353)","v":""},null,null,{"$f":"IF(AND(I353=\"\"),\"\",AU353+AV353+AW353)","v":""},{"$f":"IF(AND(I353=\"\"),\"\",N353*BQ353)","v":""},{"$f":"IF(AND(I353=\"\"),\"\",N353*BR353)","v":""},{"$f":"IF(AND(I353=\"\"),\"\",N353*BS353)","v":""},{"$f":"IF(AND(I353=\"\"),\"\",N353*BT353)","v":""},{"$f":"IF(AND(I353=\"\"),\"\",ROUND((AY353+AZ353)*$BC$10,0)*BU353)","v":""},null,12,{"$f":"IF(AND(I353=\"\"),\"\",ROUND((AY353+AZ353)*$BF$10,0)*BU353)","v":""},{"$f":"3387*2*BR353*BU353*(IF(I353<=0,0,1))*(IF(H353<=4800,1,0))","v":0},{"$f":"IF(AND(I353=\"\"),0,ROUND((AF353+ROUND(AF353*$AK$10,0))/2,0)*(IF(O353=\"FIX PAY\",0,1)))","v":0},0,0,"",{"$f":"IF(AND(I353=\"\"),\"\",SUM(BC353:BK353)+AY353+AZ353)","v":""},{"$f":"IF(AND(I353=\"\"),\"\",BL353)","v":""},null,null,{"$f":"IF(AND(I353=\"\"),\"\",BM353+BN353+BO353)","v":""},0,{"$f":"IF(BQ353<=0,1,0)*(IF(O353=\"FIX PAY\",0,1))","v":1},0,{"$f":"IF(BS353<=0,1,0)*(IF(O353=\"FIX PAY\",1,0))","v":0},0,{"$f":"IF(X353=\"No\",0,1)","v":1},0,{"$f":"IF(I353<=0,0,1)","v":1},0,0,""]
[null,2202,8,{"$f":"IF(ISNA(VLOOKUP(C354,Master!CQ$60:DC$285,3,FALSE)),\"\",VLOOKUP(C354,Master!CQ$60:DC$285,3,FALSE))","v":""},{"$f":"IF(ISNA(VLOOKUP(C354,Master!CQ$60:DC$285,7,FALSE)),\"\",VLOOKUP(C354,Master!CQ$60:DC$285,7,FALSE))","v":""},{"$f":"IF(ISNA(VLOOKUP(C354,Master!CQ$60:DC$285,8,FALSE)),\"\",VLOOKUP(C354,Master!CQ$60:DC$285,8,FALSE))","v":""},{"$f":"IF(ISNA(VLOOKUP(C354,Master!CQ$60:DC$285,4,FALSE)),\"\",VLOOKUP(C354,Master!CQ$60:DC$285,4,FALSE))","v":""},{"$f":"IF(ISNA(VLOOKUP(C354,Master!CQ$60:DC$285,5,FALSE)),\"\",VLOOKUP(C354,Master!CQ$60:DC$285,5,FALSE))","v":""},{"$f":"IF(ISNA(VLOOKUP(C354,Master!CQ$60:DC$285,6,FALSE)),\"\",VLOOKUP(C354,Master!CQ$60:DC$285,6,FALSE))","v":""},"","","","","","",{"$nulls":5},{"$f":"IF(ISNA(VLOOKUP(C354,Master!CQ$60:DD$285,10,FALSE)),\"\",VLOOKUP(C354,Master!CQ$60:DD$285,10,FALSE))","v":""},null,null,{"$f":"IF(ISNA(VLOOKUP(C354,Master!CQ$60:DD$285,11,FALSE)),\"\",VLOOKUP(C354,Master!CQ$60:DD$285,11,FALSE))","v":""},{"$f":"IF(ISNA(VLOOKUP(C354,Master!CQ$60:DD$285,9,FALSE)),\"\",VLOOKUP(C354,Master!CQ$60:DD$285,9,FALSE))","v":""},0,0,0,0,0,0,{"$f":"IF(AND(I354=\"\"),\"\",(IF(O354=\"FIX PAY\",0,(I354-ROUNDUP(ROUND((I354*3%)-(I354*3%)*3%,0),-1)))))","v":""},{"$f":"IF(AND(I354=\"\"),\"\",$M354*$BQ354)","v":""},{"$f":"IF(AND(I354=\"\"),\"\",$M354*$BR354)","v":""},{"$f":"IF(AND(I354=\"\"),\"\",$M354*$BS354)","v":""},{"$f":"IF(AND(I354=\"\"),\"\",$M354*$BT354)","v":""},{"$f":"IF(AND(I354=\"\"),\"\",ROUND((AG354+AH354)*$AK$10,0)*BU354)","v":""},0,0,{"$f":"IF(AND(I354=\"\"),\"\",ROUND((AG354+AH354)*$AN$10,0)*BU354)","v":""},{"$f":"$G$221*BR354*BU354*(IF(I354<=0,0,1))*(IF(H354<=4800,1,0))","v":0},0,0,null,0,{"$f":"IF(AND(I354=\"\"),\"\",SUM(AK354:AS354)+AG354+AH354)","v":""},{"$f":"IF(AND(I354=\"\"),\"\",AT354)","v":""},null,null,{"$f":"IF(AND(I354=\"\"),\"\",AU354+AV354+AW354)","v":""},{"$f":"IF(AND(I354=\"\"),\"\",N354*BQ354)","v":""},{"$f":"IF(AND(I354=\"\"),\"\",N354*BR354)","v":""},{"$f":"IF(AND(I354=\"\"),\"\",N354*BS354)","v":""},{"$f":"IF(AND(I354=\"\"),\"\",N354*BT354)","v":""},{"$f":"IF(AND(I354=\"\"),\"\",ROUND((AY354+AZ354)*$BC$10,0)*BU354)","v":""},null,13,{"$f":"IF(AND(I354=\"\"),\"\",ROUND((AY354+AZ354)*$BF$10,0)*BU354)","v":""},{"$f":"3387*2*BR354*BU354*(IF(I354<=0,0,1))*(IF(H354<=4800,1,0))","v":0},{"$f":"IF(AND(I354=\"\"),0,ROUND((AF354+ROUND(AF354*$AK$10,0))/2,0)*(IF(O354=\"FIX PAY\",0,1)))","v":0},0,0,"",{"$f":"IF(AND(I354=\"\"),\"\",SUM(BC354:BK354)+AY354+AZ354)","v":""},{"$f":"IF(AND(I354=\"\"),\"\",BL354)","v":""},null,null,{"$f":"IF(AND(I354=\"\"),\"\",BM354+BN354+BO354)","v":""},0,{"$f":"IF(BQ354<=0,1,0)*(IF(O354=\"FIX PAY\",0,1))","v":1},0,{"$f":"IF(BS354<=0,1,0)*(IF(O354=\"FIX PAY\",1,0))","v":0},0,{"$f":"IF(X354=\"No\",0,1)","v":1},0,{"$f":"IF(I354<=0,0,1)","v":1},0,0,""]
[null,2202,9,{"$f":"IF(ISNA(VLOOKUP(C355,Master!CQ$60:DC$285,3,FALSE)),\"\",VLOOKUP(C355,Master!CQ$60:DC$285,3,FALSE))","v":""},{"$f":"IF(ISNA(VLOOKUP(C355,Master!CQ$60:DC$285,7,FALSE)),\"\",VLOOKUP(C355,Master!CQ$60:DC$285,7,FALSE))","v":""},{"$f":"IF(ISNA(VLOOKUP(C355,Master!CQ$60:DC$285,8,FALSE)),\"\",VLOOKUP(C355,Master!CQ$60:DC$285,8,FALSE))","v":""},{"$f":"IF(ISNA(VLOOKUP(C355,Master!CQ$60:DC$285,4,FALSE)),\"\",VLOOKUP(C355,Master!CQ$60:DC$285,4,FALSE))","v":""},{"$f":"IF(ISNA(VLOOKUP(C355,Master!CQ$60:DC$285,5,FALSE)),\"\",VLOOKUP(C355,Master!CQ$60:DC$285,5,FALSE))","v":""},{"$f":"IF(ISNA(VLOOKUP(C355,Master!CQ$60:DC$285,6,FALSE)),\"\",VLOOKUP(C355,Master!CQ$60:DC$285,6,FALSE))","v":""},"","","","","","",{"$nulls":5},{"$f":"IF(ISNA(VLOOKUP(C355,Master!CQ$60:DD$285,10,FALSE)),\"\",VLOOKUP(C355,Master!CQ$60:DD$285,10,FALSE))","v":""},null,null,{"$f":"IF(ISNA(VLOOKUP(C355,Master!CQ$60:DD$285,11,FALSE)),\"\",VLOOKUP(C355,Master!CQ$60:DD$285,11,FALSE))","v":""},{"$f":"IF(ISNA(VLOOKUP(C355,Master!CQ$60:DD$285,9,FALSE)),\"\",VLOOKUP(C355,Master!CQ$60:DD$285,9,FALSE))","v":""},0,0,0,0,0,0,{"$f":"IF(AND(I355=\"\"),\"\",(IF(O355=\"FIX PAY\",0,(I355-ROUNDUP(ROUND((I355*3%)-(I355*3%)*3%,0),-1)))))","v":""},{"$f":"IF(AND(I355=\"\"),\"\",$M355*$BQ355)","v":""},{"$f":"IF(AND(I355=\"\"),\"\",$M355*$BR355)","v":""},{"$f":"IF(AND(I355=\"\"),\"\",$M355*$BS355)","v":""},{"$f":"IF(AND(I355=\"\"),\"\",$M355*$BT355)","v":""},{"$f":"IF(AND(I355=\"\"),\"\",ROUND((AG355+AH355)*$AK$10,0)*BU355)","v":""},0,0,{"$f":"IF(AND(I355=\"\"),\"\",ROUND((AG355+AH355)*$AN$10,0)*BU355)","v":""},{"$f":"$G$221*BR355*BU355*(IF(I355<=0,0,1))*(IF(H355<=4800,1,0))","v":0},0,0,null,0,{"$f":"IF(AND(I355=\"\"),\"\",SUM(AK355:AS355)+AG355+AH355)","v":""},{"$f":"IF(AND(I355=\"\"),\"\",AT355)","v":""},null,null,{"$f":"IF(AND(I355=\"\"),\"\",AU355+AV355+AW355)","v":""},{"$f":"IF(AND(I355=\"\"),\"\",N355*BQ355)","v":""},{"$f":"IF(AND(I355=\"\"),\"\",N355*BR355)","v":""},{"$f":"IF(AND(I355=\"\"),\"\",N355*BS355)","v":""},{"$f":"IF(AND(I355=\"\"),\"\",N355*BT355)","v":""},{"$f":"IF(AND(I355=\"\"),\"\",ROUND((AY355+AZ355)*$BC$10,0)*BU355)","v":""},null,10,{"$f":"IF(AND(I355=\"\"),\"\",ROUND((AY355+AZ355)*$BF$10,0)*BU355)","v":""},{"$f":"3387*2*BR355*BU355*(IF(I355<=0,0,1))*(IF(H355<=4800,1,0))","v":0},{"$f":"IF(AND(I355=\"\"),0,ROUND((AF355+ROUND(AF355*$AK$10,0))/2,0)*(IF(O355=\"FIX PAY\",0,1)))","v":0},0,0,"",{"$f":"IF(AND(I355=\"\"),\"\",SUM(BC355:BK355)+AY355+AZ355)","v":""},{"$f":"IF(AND(I355=\"\"),\"\",BL355)","v":""},null,null,{"$f":"IF(AND(I355=\"\"),\"\",BM355+BN355+BO355)","v":""},0,{"$f":"IF(BQ355<=0,1,0)*(IF(O355=\"FIX PAY\",0,1))","v":1},0,{"$f":"IF(BS355<=0,1,0)*(IF(O355=\"FIX PAY\",1,0))","v":0},{"$f":"IF(O355=\"FIX PAY\",1,0)","v":0},{"$f":"IF(X355=\"No\",0,1)","v":1},0,{"$f":"IF(I355<=0,0,1)","v":1},{"$f":"IF(O355=\"SANVIDA\",1,0)","v":0},{"$f":"IF(BY355>0,I355,0)","v":0},""]
[null,2202,10,{"$f":"IF(ISNA(VLOOKUP(C356,Master!CQ$60:DC$285,3,FALSE)),\"\",VLOOKUP(C356,Master!CQ$60:DC$285,3,FALSE))","v":""},{"$f":"IF(ISNA(VLOOKUP(C356,Master!CQ$60:DC$285,7,FALSE)),\"\",VLOOKUP(C356,Master!CQ$60:DC$285,7,FALSE))","v":""},{"$f":"IF(ISNA(VLOOKUP(C356,Master!CQ$60:DC$285,8,FALSE)),\"\",VLOOKUP(C356,Master!CQ$60:DC$285,8,FALSE))","v":""},{"$f":"IF(ISNA(VLOOKUP(C356,Master!CQ$60:DC$285,4,FALSE)),\"\",VLOOKUP(C356,Master!CQ$60:DC$285,4,FALSE))","v":""},{"$f":"IF(ISNA(VLOOKUP(C356,Master!CQ$60:DC$285,5,FALSE)),\"\",VLOOKUP(C356,Master!CQ$60:DC$285,5,FALSE))","v":""},{"$f":"IF(ISNA(VLOOKUP(C356,Master!CQ$60:DC$285,6,FALSE)),\"\",VLOOKUP(C356,Master!CQ$60:DC$285,6,FALSE))","v":""},"","","","","","",{"$nulls":5},{"$f":"IF(ISNA(VLOOKUP(C356,Master!CQ$60:DD$285,10,FALSE)),\"\",VLOOKUP(C356,Master!CQ$60:DD$285,10,FALSE))","v":""},null,null,{"$f":"IF(ISNA(VLOOKUP(C356,Master!CQ$60:DD$285,11,FALSE)),\"\",VLOOKUP(C356,Master!CQ$60:DD$285,11,FALSE))","v":""},{"$f":"IF(ISNA(VLOOKUP(C356,Master!CQ$60:DD$285,9,FALSE)),\"\",VLOOKUP(C356,Master!CQ$60:DD$285,9,FALSE))","v":""},0,0,0,0,0,0,"","","","","","",0,0,"",0,0,0,null,0,"","",null,null,"","","","","","",null,11,"",0,0,0,0,"","","",null,null,"",0,1,0,0,0,1,0,1,0,0,""]
[null,2202,11,{"$f":"IF(ISNA(VLOOKUP(C357,Master!CQ$60:DC$285,3,FALSE)),\"\",VLOOKUP(C357,Master!CQ$60:DC$285,3,FALSE))","v":""},{"$f":"IF(ISNA(VLOOKUP(C357,Master!CQ$60:DC$285,7,FALSE)),\"\",VLOOKUP(C357,Master!CQ$60:DC$285,7,FALSE))","v":""},{"$f":"IF(ISNA(VLOOKUP(C357,Master!CQ$60:DC$285,8,FALSE)),\"\",VLOOKUP(C357,Master!CQ$60:DC$285,8,FALSE))","v":""},{"$f":"IF(ISNA(VLOOKUP(C357,Master!CQ$60:DC$285,4,FALSE)),\"\",VLOOKUP(C357,Master!CQ$60:DC$285,4,FALSE))","v":""},{"$f":"IF(ISNA(VLOOKUP(C357,Master!CQ$60:DC$285,5,FALSE)),\"\",VLOOKUP(C357,Master!CQ$60:DC$285,5,FALSE))","v":""},{"$f":"IF(ISNA(VLOOKUP(C357,Master!CQ$60:DC$285,6,FALSE)),\"\",VLOOKUP(C357,Master!CQ$60:DC$285,6,FALSE))","v":""},"","","","","","",{"$nulls":5},{"$f":"IF(ISNA(VLOOKUP(C357,Master!CQ$60:DD$285,10,FALSE)),\"\",VLOOKUP(C357,Master!CQ$60:DD$285,10,FALSE))","v":""},null,null,{"$f":"IF(ISNA(VLOOKUP(C357,Master!CQ$60:DD$285,11,FALSE)),\"\",VLOOKUP(C357,Master!CQ$60:DD$285,11,FALSE))","v":""},{"$f":"IF(ISNA(VLOOKUP(C357,Master!CQ$60:DD$285,9,FALSE)),\"\",VLOOKUP(C357,Master!CQ$60:DD$285,9,FALSE))","v":""},0,0,0,0,0,0,"","","","","","",0,0,"",0,0,0,null,0,"","",null,null,"","","","","","",null,12,"",0,0,0,0,"","","",null,null,"",0,1,0,0,0,1,0,1,0,0,""]
[null,2202,12,{"$f":"IF(ISNA(VLOOKUP(C358,Master!CQ$60:DC$285,3,FALSE)),\"\",VLOOKUP(C358,Master!CQ$60:DC$285,3,FALSE))","v":""},{"$f":"IF(ISNA(VLOOKUP(C358,Master!CQ$60:DC$285,7,FALSE)),\"\",VLOOKUP(C358,Master!CQ$60:DC$285,7,FALSE))","v":""},{"$f":"IF(ISNA(VLOOKUP(C358,Master!CQ$60:DC$285,8,FALSE)),\"\",VLOOKUP(C358,Master!CQ$60:DC$285,8,FALSE))","v":""},{"$f":"IF(ISNA(VLOOKUP(C358,Master!CQ$60:DC$285,4,FALSE)),\"\",VLOOKUP(C358,Master!CQ$60:DC$285,4,FALSE))","v":""},{"$f":"IF(ISNA(VLOOKUP(C358,Master!CQ$60:DC$285,5,FALSE)),\"\",VLOOKUP(C358,Master!CQ$60:DC$285,5,FALSE))","v":""},{"$f":"IF(ISNA(VLOOKUP(C358,Master!CQ$60:DC$285,6,FALSE)),\"\",VLOOKUP(C358,Master!CQ$60:DC$285,6,FALSE))","v":""},"","","","","","",{"$nulls":5},{"$f":"IF(ISNA(VLOOKUP(C358,Master!CQ$60:DD$285,10,FALSE)),\"\",VLOOKUP(C358,Master!CQ$60:DD$285,10,FALSE))","v":""},null,null,{"$f":"IF(ISNA(VLOOKUP(C358,Master!CQ$60:DD$285,11,FALSE)),\"\",VLOOKUP(C358,Master!CQ$60:DD$285,11,FALSE))","v":""},{"$f":"IF(ISNA(VLOOKUP(C358,Master!CQ$60:DD$285,9,FALSE)),\"\",VLOOKUP(C358,Master!CQ$60:DD$285,9,FALSE))","v":""},0,0,0,0,0,0,"","","","","","",0,0,"",0,0,0,null,0,"","",null,null,"","","","","","",null,13,"",0,0,0,0,"","","",null,null,"",0,1,0,0,0,1,0,1,0,0,""]
[null,2202,13,{"$f":"IF(ISNA(VLOOKUP(C359,Master!CQ$60:DC$285,3,FALSE)),\"\",VLOOKUP(C359,Master!CQ$60:DC$285,3,FALSE))","v":""},{"$f":"IF(ISNA(VLOOKUP(C359,Master!CQ$60:DC$285,7,FALSE)),\"\",VLOOKUP(C359,Master!CQ$60:DC$285,7,FALSE))","v":""},{"$f":"IF(ISNA(VLOOKUP(C359,Master!CQ$60:DC$285,8,FALSE)),\"\",VLOOKUP(C359,Master!CQ$60:DC$285,8,FALSE))","v":""},{"$f":"IF(ISNA(VLOOKUP(C359,Master!CQ$60:DC$285,4,FALSE)),\"\",VLOOKUP(C359,Master!CQ$60:DC$285,4,FALSE))","v":""},{"$f":"IF(ISNA(VLOOKUP(C359,Master!CQ$60:DC$285,5,FALSE)),\"\",VLOOKUP(C359,Master!CQ$60:DC$285,5,FALSE))","v":""},{"$f":"IF(ISNA(VLOOKUP(C359,Master!CQ$60:DC$285,6,FALSE)),\"\",VLOOKUP(C359,Master!CQ$60:DC$285,6,FALSE))","v":""},{"$f":"IF(AND(H359=\"\"),\"\",I359*12)","v":""},{"$f":"IF(AND(H359=\"\"),\"\",\"Not Applicable\")","v":""},{"$f":"IF(AND(H359=\"\"),\"\",\"0\")","v":""},{"$f":"IF(AND(H359=\"\"),\"\",J359+L359)","v":""},{"$f":"IF(AND(H359=\"\"),\"\",M359)","v":""},{"$f":"IF(AND(H359=\"\"),\"\",\"SANVIDA\")","v":""},{"$nulls":5},{"$f":"IF(ISNA(VLOOKUP(C359,Master!CQ$60:DD$285,10,FALSE)),\"\",VLOOKUP(C359,Master!CQ$60:DD$285,10,FALSE))","v":""},null,null,{"$f":"IF(ISNA(VLOOKUP(C359,Master!CQ$60:DD$285,11,FALSE)),\"\",VLOOKUP(C359,Master!CQ$60:DD$285,11,FALSE))","v":""},{"$f":"IF(ISNA(VLOOKUP(C359,Master!CQ$60:DD$285,9,FALSE)),\"\",VLOOKUP(C359,Master!CQ$60:DD$285,9,FALSE))","v":""},0,0,0,0,0,0,"","","","","","",0,0,"",0,0,0,null,0,"","",null,null,"","","","","","",null,10,"",0,0,0,0,"","","",null,null,"",0,1,0,0,0,1,0,1,0,0,""]
[null,2202,14,{"$f":"IF(ISNA(VLOOKUP(C360,Master!CQ$60:DC$285,3,FALSE)),\"\",VLOOKUP(C360,Master!CQ$60:DC$285,3,FALSE))","v":""},{"$f":"IF(ISNA(VLOOKUP(C360,Master!CQ$60:DC$285,7,FALSE)),\"\",VLOOKUP(C360,Master!CQ$60:DC$285,7,FALSE))","v":""},{"$f":"IF(ISNA(VLOOKUP(C360,Master!CQ$60:DC$285,8,FALSE)),\"\",VLOOKUP(C360,Master!CQ$60:DC$285,8,FALSE))","v":""},{"$f":"IF(ISNA(VLOOKUP(C360,Master!CQ$60:DC$285,4,FALSE)),\"\",VLOOKUP(C360,Master!CQ$60:DC$285,4,FALSE))","v":""},{"$f":"IF(ISNA(VLOOKUP(C360,Master!CQ$60:DC$285,5,FALSE)),\"\",VLOOKUP(C360,Master!CQ$60:DC$285,5,FALSE))","v":""},{"$f":"IF(ISNA(VLOOKUP(C360,Master!CQ$60:DC$285,6,FALSE)),\"\",VLOOKUP(C360,Master!CQ$60:DC$285,6,FALSE))","v":""},{"$f":"IF(AND(H360=\"\"),\"\",I360*12)","v":""},{"$f":"IF(AND(H360=\"\"),\"\",\"Not Applicable\")","v":""},{"$f":"IF(AND(H360=\"\"),\"\",\"0\")","v":""},{"$f":"IF(AND(H360=\"\"),\"\",J360+L360)","v":""},{"$f":"IF(AND(H360=\"\"),\"\",M360)","v":""},{"$f":"IF(AND(H360=\"\"),\"\",\"SANVIDA\")","v":""},{"$nulls":5},{"$f":"IF(ISNA(VLOOKUP(C360,Master!CQ$60:DD$285,10,FALSE)),\"\",VLOOKUP(C360,Master!CQ$60:DD$285,10,FALSE))","v":""},null,null,{"$f":"IF(ISNA(VLOOKUP(C360,Master!CQ$60:DD$285,11,FALSE)),\"\",VLOOKUP(C360,Master!CQ$60:DD$285,11,FALSE))","v":""},{"$f":"IF(ISNA(VLOOKUP(C360,Master!CQ$60:DD$285,9,FALSE)),\"\",VLOOKUP(C360,Master!CQ$60:DD$285,9,FALSE))","v":""},0,0,0,0,0,0,"","","","","","",0,0,"",0,0,0,null,0,"","",null,null,"","","","","","",null,11,"",0,0,0,0,"","","",null,null,"",0,1,0,0,0,1,0,1,0,0,""]
[null,2202,15,{"$f":"IF(ISNA(VLOOKUP(C361,Master!CQ$60:DC$285,3,FALSE)),\"\",VLOOKUP(C361,Master!CQ$60:DC$285,3,FALSE))","v":""},{"$f":"IF(ISNA(VLOOKUP(C361,Master!CQ$60:DC$285,7,FALSE)),\"\",VLOOKUP(C361,Master!CQ$60:DC$285,7,FALSE))","v":""},{"$f":"IF(ISNA(VLOOKUP(C361,Master!CQ$60:DC$285,8,FALSE)),\"\",VLOOKUP(C361,Master!CQ$60:DC$285,8,FALSE))","v":""},{"$f":"IF(ISNA(VLOOKUP(C361,Master!CQ$60:DC$285,4,FALSE)),\"\",VLOOKUP(C361,Master!CQ$60:DC$285,4,FALSE))","v":""},{"$f":"IF(ISNA(VLOOKUP(C361,Master!CQ$60:DC$285,5,FALSE)),\"\",VLOOKUP(C361,Master!CQ$60:DC$285,5,FALSE))","v":""},{"$f":"IF(ISNA(VLOOKUP(C361,Master!CQ$60:DC$285,6,FALSE)),\"\",VLOOKUP(C361,Master!CQ$60:DC$285,6,FALSE))","v":""},"","","","","","",{"$nulls":5},{"$f":"IF(ISNA(VLOOKUP(C361,Master!CQ$60:DD$285,10,FALSE)),\"\",VLOOKUP(C361,Master!CQ$60:DD$285,10,FALSE))","v":""},null,null,{"$f":"IF(ISNA(VLOOKUP(C361,Master!CQ$60:DD$285,11,FALSE)),\"\",VLOOKUP(C361,Master!CQ$60:DD$285,11,FALSE))","v":""},{"$f":"IF(ISNA(VLOOKUP(C361,Master!CQ$60:DD$285,9,FALSE)),\"\",VLOOKUP(C361,Master!CQ$60:DD$285,9,FALSE))","v":""},0,0,0,0,0,0,"","","","","","",0,0,"",0,0,0,null,0,"","",null,null,"","","","","","",null,12,"",0,0,0,0,"","","",null,null,"",0,1,0,0,0,1,0,1,0,0,""]
[null,2202,16,{"$f":"IF(ISNA(VLOOKUP(C362,Master!CQ$60:DC$285,3,FALSE)),\"\",VLOOKUP(C362,Master!CQ$60:DC$285,3,FALSE))","v":""},{"$f":"IF(ISNA(VLOOKUP(C362,Master!CQ$60:DC$285,7,FALSE)),\"\",VLOOKUP(C362,Master!CQ$60:DC$285,7,FALSE))","v":""},{"$f":"IF(ISNA(VLOOKUP(C362,Master!CQ$60:DC$285,8,FALSE)),\"\",VLOOKUP(C362,Master!CQ$60:DC$285,8,FALSE))","v":""},{"$f":"IF(ISNA(VLOOKUP(C362,Master!CQ$60:DC$285,4,FALSE)),\"\",VLOOKUP(C362,Master!CQ$60:DC$285,4,FALSE))","v":""},{"$f":"IF(ISNA(VLOOKUP(C362,Master!CQ$60:DC$285,5,FALSE)),\"\",VLOOKUP(C362,Master!CQ$60:DC$285,5,FALSE))","v":""},{"$f":"IF(ISNA(VLOOKUP(C362,Master!CQ$60:DC$285,6,FALSE)),\"\",VLOOKUP(C362,Master!CQ$60:DC$285,6,FALSE))","v":""},{"$f":"IF(AND(H362=\"\"),\"\",I362*12)","v":""},{"$f":"IF(AND(H362=\"\"),\"\",\"Not Applicable\")","v":""},{"$f":"IF(AND(H362=\"\"),\"\",\"0\")","v":""},{"$f":"IF(AND(H362=\"\"),\"\",J362+L362)","v":""},{"$f":"IF(AND(H362=\"\"),\"\",M362)","v":""},{"$f":"IF(AND(H362=\"\"),\"\",\"SANVIDA\")","v":""},{"$nulls":16},"","","","","","",0,0,"",0,{"$f":"IF(AND(I362=\"\"),0,ROUND((I362+ROUND(I362*$AK$10,0))/2,0)*(IF(O362=\"FIX PAY\",0,1)))","v":0},0,null,0,"","",null,null,"","","","","","",null,13,"",0,0,0,0,"","","",null,null,"",0,1,0,0,0,1,0,1,0,0,""]
[null,2202,17,{"$f":"IF(ISNA(VLOOKUP(C363,Master!CQ$60:DC$285,3,FALSE)),\"\",VLOOKUP(C363,Master!CQ$60:DC$285,3,FALSE))","v":""},{"$f":"IF(ISNA(VLOOKUP(C363,Master!CQ$60:DC$285,7,FALSE)),\"\",VLOOKUP(C363,Master!CQ$60:DC$285,7,FALSE))","v":""},{"$f":"IF(ISNA(VLOOKUP(C363,Master!CQ$60:DC$285,8,FALSE)),\"\",VLOOKUP(C363,Master!CQ$60:DC$285,8,FALSE))","v":""},{"$f":"IF(ISNA(VLOOKUP(C363,Master!CQ$60:DC$285,4,FALSE)),\"\",VLOOKUP(C363,Master!CQ$60:DC$285,4,FALSE))","v":""},{"$f":"IF(ISNA(VLOOKUP(C363,Master!CQ$60:DC$285,5,FALSE)),\"\",VLOOKUP(C363,Master!CQ$60:DC$285,5,FALSE))","v":""},{"$f":"IF(ISNA(VLOOKUP(C363,Master!CQ$60:DC$285,6,FALSE)),\"\",VLOOKUP(C363,Master!CQ$60:DC$285,6,FALSE))","v":""},"","","","","","",{"$nulls":16},"","","","","","",0,0,"",0,{"$f":"IF(AND(I363=\"\"),0,ROUND((I363+ROUND(I363*$AK$10,0))/2,0)*(IF(O363=\"FIX PAY\",0,1)))","v":0},0,null,0,"","",null,null,"","","","","","",null,10,"",0,0,0,0,"","","",null,null,"",0,1,0,0,0,1,0,1,0,0,""]
[null,2202,18,{"$f":"IF(ISNA(VLOOKUP(C364,Master!CQ$60:DC$285,3,FALSE)),\"\",VLOOKUP(C364,Master!CQ$60:DC$285,3,FALSE))","v":""},{"$f":"IF(ISNA(VLOOKUP(C364,Master!CQ$60:DC$285,7,FALSE)),\"\",VLOOKUP(C364,Master!CQ$60:DC$285,7,FALSE))","v":""},{"$f":"IF(ISNA(VLOOKUP(C364,Master!CQ$60:DC$285,8,FALSE)),\"\",VLOOKUP(C364,Master!CQ$60:DC$285,8,FALSE))","v":""},{"$f":"IF(ISNA(VLOOKUP(C364,Master!CQ$60:DC$285,4,FALSE)),\"\",VLOOKUP(C364,Master!CQ$60:DC$285,4,FALSE))","v":""},{"$f":"IF(ISNA(VLOOKUP(C364,Master!CQ$60:DC$285,5,FALSE)),\"\",VLOOKUP(C364,Master!CQ$60:DC$285,5,FALSE))","v":""},{"$f":"IF(ISNA(VLOOKUP(C364,Master!CQ$60:DC$285,6,FALSE)),\"\",VLOOKUP(C364,Master!CQ$60:DC$285,6,FALSE))","v":""},"","","","","","",{"$nulls":16},"","","","","","",0,0,"",0,{"$f":"IF(AND(I364=\"\"),0,ROUND((I364+ROUND(I364*$AK$10,0))/2,0)*(IF(O364=\"FIX PAY\",0,1)))","v":0},0,null,0,"","",null,null,"","","","","","",null,11,"",0,0,0,0,"","","",null,null,"",0,1,0,0,0,1,0,1,0,0,""]
[null,2202,19,{"$f":"IF(ISNA(VLOOKUP(C365,Master!CQ$60:DC$285,3,FALSE)),\"\",VLOOKUP(C365,Master!CQ$60:DC$285,3,FALSE))","v":""},{"$f":"IF(ISNA(VLOOKUP(C365,Master!CQ$60:DC$285,7,FALSE)),\"\",VLOOKUP(C365,Master!CQ$60:DC$285,7,FALSE))","v":""},{"$f":"IF(ISNA(VLOOKUP(C365,Master!CQ$60:DC$285,8,FALSE)),\"\",VLOOKUP(C365,Master!CQ$60:DC$285,8,FALSE))","v":""},{"$f":"IF(ISNA(VLOOKUP(C365,Master!CQ$60:DC$285,4,FALSE)),\"\",VLOOKUP(C365,Master!CQ$60:DC$285,4,FALSE))","v":""},{"$f":"IF(ISNA(VLOOKUP(C365,Master!CQ$60:DC$285,5,FALSE)),\"\",VLOOKUP(C365,Master!CQ$60:DC$285,5,FALSE))","v":""},{"$f":"IF(ISNA(VLOOKUP(C365,Master!CQ$60:DC$285,6,FALSE)),\"\",VLOOKUP(C365,Master!CQ$60:DC$285,6,FALSE))","v":""},"","","","","","",{"$nulls":16},"","","","","","",0,0,"",0,{"$f":"IF(AND(I365=\"\"),0,ROUND((I365+ROUND(I365*$AK$10,0))/2,0)*(IF(O365=\"FIX PAY\",0,1)))","v":0},0,null,0,"","",null,null,"","","","","","",null,12,"",0,0,0,0,"","","",null,null,"",0,1,0,0,0,1,0,1,0,0,""]
[null,2202,20,{"$f":"IF(ISNA(VLOOKUP(C366,Master!CQ$60:DC$285,3,FALSE)),\"\",VLOOKUP(C366,Master!CQ$60:DC$285,3,FALSE))","v":""},{"$f":"IF(ISNA(VLOOKUP(C366,Master!CQ$60:DC$285,7,FALSE)),\"\",VLOOKUP(C366,Master!CQ$60:DC$285,7,FALSE))","v":""},{"$f":"IF(ISNA(VLOOKUP(C366,Master!CQ$60:DC$285,8,FALSE)),\"\",VLOOKUP(C366,Master!CQ$60:DC$285,8,FALSE))","v":""},{"$f":"IF(ISNA(VLOOKUP(C366,Master!CQ$60:DC$285,4,FALSE)),\"\",VLOOKUP(C366,Master!CQ$60:DC$285,4,FALSE))","v":""},{"$f":"IF(ISNA(VLOOKUP(C366,Master!CQ$60:DC$285,5,FALSE)),\"\",VLOOKUP(C366,Master!CQ$60:DC$285,5,FALSE))","v":""},{"$f":"IF(ISNA(VLOOKUP(C366,Master!CQ$60:DC$285,6,FALSE)),\"\",VLOOKUP(C366,Master!CQ$60:DC$285,6,FALSE))","v":""},{"$f":"IF(AND(H366=\"\"),\"\",I366*12)","v":""},{"$f":"IF(AND(H366=\"\"),\"\",\"Not Applicable\")","v":""},{"$f":"IF(AND(H366=\"\"),\"\",\"0\")","v":""},{"$f":"IF(AND(H366=\"\"),\"\",J366+L366)","v":""},{"$f":"IF(AND(H366=\"\"),\"\",M366)","v":""},{"$f":"IF(AND(H366=\"\"),\"\",\"SANVIDA\")","v":""},{"$nulls":16},{"$f":"IF(AND(I366=\"\"),\"\",(IF(O366=\"FIX PAY\",0,(I366-ROUNDUP(ROUND((I366*3%)-(I366*3%)*3%,0),-1)))))","v":""},{"$f":"IF(AND(I366=\"\"),\"\",$M366*$BQ366)","v":""},{"$f":"IF(AND(I366=\"\"),\"\",$M366*$BR366)","v":""},{"$f":"IF(AND(I366=\"\"),\"\",$M366*$BS366)","v":""},{"$f":"IF(AND(I366=\"\"),\"\",$M366*$BT366)","v":""},{"$f":"IF(AND(I366=\"\"),\"\",ROUND((AG366+AH366)*$AK$10,0)*BU366)","v":""},0,0,{"$f":"IF(AND(I366=\"\"),\"\",ROUND((AG366+AH366)*$AN$10,0)*BU366)","v":""},{"$f":"$G$221*BR366*BU366*(IF(I366<=0,0,1))*(IF(H366<=4800,1,0))","v":0},{"$f":"IF(AND(I366=\"\"),0,ROUND((I366+ROUND(I366*$AK$10,0))/2,0)*(IF(O366=\"FIX PAY\",0,1)))","v":0},{"$f":"IF(G366=\"CLERK GRADE I\",1,IF(G366=\"CLERK GRADE II\",1,0))*75*12*BU366*(IF(I366<=0,0,1))*BV366","v":0},null,{"$f":"(IF(G366=\"LAB BOY\",180,IF(G366=\"JAMADAR\",180,IF(G366=\"PEON\",180,0))))*12*BU366*(IF(I366<=0,0,1))","v":0},{"$f":"IF(AND(I366=\"\"),\"\",SUM(AK366:AS366)+AG366+AH366)","v":""},{"$f":"IF(AND(I366=\"\"),\"\",AT366)","v":""},null,null,{"$f":"IF(AND(I366=\"\"),\"\",AU366+AV366+AW366)","v":""},{"$f":"IF(AND(I366=\"\"),\"\",N366*BQ366)","v":""},{"$f":"IF(AND(I366=\"\"),\"\",N366*BR366)","v":""},{"$f":"IF(AND(I366=\"\"),\"\",N366*BS366)","v":""},{"$f":"IF(AND(I366=\"\"),\"\",N366*BT366)","v":""},{"$f":"IF(AND(I366=\"\"),\"\",ROUND((AY366+AZ366)*$BC$10,0)*BU366)","v":""},null,12,{"$f":"IF(AND(I366=\"\"),\"\",ROUND((AY366+AZ366)*$BF$10,0)*BU366)","v":""},{"$f":"3387*2*BR366*BU366*(IF(I366<=0,0,1))*(IF(H366<=4800,1,0))","v":0},{"$f":"IF(AND(I366=\"\"),0,ROUND((AF366+ROUND(AF366*$AK$10,0))/2,0)*(IF(O366=\"FIX PAY\",0,1)))","v":0},{"$f":"IF(G366=\"CLERK GRADE I\",1,IF(G366=\"CLERK GRADE II\",1,0))*75*12*BU366*(IF(I366<=0,0,1))*BV366","v":0},{"$f":"IF(AND(G366=\"\"),0,(IF(G366=\"ASSISTANT\",12,IF(G366=\"CLERK GRADE I\",12,IF(G366=\"CLERK GRADE II\",12,IF(G366=\"FIELDMAN & FIELD REC\",12,IF(G366=\"LAB BOY\",12,IF(G366=\"JAMADAR\",12,IF(G366=\"PEON\",12,10))))))))*(MINA(ROUND(AF366*6%,0),600))*(IF($U366=\"yes\",1,)))","v":0},{"$f":"IF(AND(I366=\"\"),\"\",(IF(G366=\"LAB BOY\",150,IF(G366=\"JAMADAR\",150,IF(G366=\"PEON\",150,0))))*12*BU366*(IF(I366<=0,0,1)))","v":""},{"$f":"IF(AND(I366=\"\"),\"\",SUM(BC366:BK366)+AY366+AZ366)","v":""},{"$f":"IF(AND(I366=\"\"),\"\",BL366)","v":""},null,null,{"$f":"IF(AND(I366=\"\"),\"\",BM366+BN366+BO366)","v":""},{"$f":"(IF(G366=\"PRINCIPAL\",1,IF(G366=\"H M\",1,IF(G366=\"AGRICULTURE INST\",1,IF(G366=\"TEACHER-1ST\",1,IF(G366=\"PTI  I  (13)\",1,IF(G366=\"AGRICULTURE TEACH\",1,IF(G366=\"INSTRUCTOR\",1,0))))))))+(IF(G366=\"JR TEACHER\",1,IF(G366=\"LIBRARIAN I\",1,0)))*(IF(O366=\"FIX PAY\",0,1))","v":0},{"$f":"IF(BQ366<=0,1,0)*(IF(O366=\"FIX PAY\",0,1))","v":1},{"$f":"(IF(G366=\"PRINCIPAL (16)\",1,IF(G366=\"V P (14)\",1,IF(G366=\"H M (14)\",1,IF(G366=\"AGRICULTURE INST (13)\",1,IF(G366=\"TEACHER-1ST (13)\",1,IF(G366=\"PTI  I  (13)\",1,IF(G366=\"AGRICULTURE TEACH (13)\",1,IF(G366=\"INSTRUCTOR (13)\",1,0))))))))+(IF(G366=\"JR TEACHER (13)\",1,IF(G366=\"LIBRARIAN I (13)\",1,0))))*(IF(O366=\"FIX PAY\",1,0))","v":0},{"$f":"IF(BS366<=0,1,0)*(IF(O366=\"FIX PAY\",1,0))","v":0},{"$f":"IF(O366=\"FIX PAY\",1,0)","v":0},{"$f":"IF(X366=\"No\",0,1)","v":1},0,{"$f":"IF(I366<=0,0,1)","v":1},{"$f":"IF(O366=\"SANVIDA\",1,0)","v":0},{"$f":"IF(BY366>0,I366,0)","v":0},""]
[{"$nulls":6},"TOTAL NON GAZETTED SANVIDA",null,null,{"$f":"SUM(J347:J365)","v":393600},null,{"$f":"SUM(L347:L365)","v":0},{"$f":"SUM(M347:M365)","v":393600},{"$f":"SUM(N347:N365)","v":393600},{"$nulls":30},0]
[{"$nulls":6},"TOTAL GAZETTED + NON GAZETTED SANVIDA",null,null,{"$f":"J345+J367","v":393600},null,{"$f":"L345+L367","v":0},{"$f":"M345+M367","v":393600},{"$f":"N345+N367","v":393600},{"$nulls":30},0]
[{"$nulls":6},"TOTAL REGULAR + FIXED + SANVIDA",null,null,{"$f":"J226+J339+J368","v":4705200},null,{"$f":"L226+L339+L368","v":77600},{"$f":"M226+M339+M368","v":7945396.4},{"$f":"N226+N339+N368","v":6981407},{"$nulls":4},0,{"$nulls":25},0]
[{"$nulls":6},"TRAVELLING ALLOWANCE",{"$nulls":5},{"$f":"'Formet 9'!M12","v":50000},{"$f":"'Formet 9'!L12","v":0},{"$nulls":4},0,{"$nulls":25},0]
[{"$nulls":6},"MEDICAL ALLOWANCE",{"$nulls":5},{"$f":"'Formet 9'!M13","v":0},{"$f":"'Formet 9'!L13","v":0},{"$nulls":4},0,{"$nulls":25},0]
[{"$nulls":6},"TOTAL FORMAT 8",null,null,{"$f":"SUM(J369:J371)","v":4705200},null,{"$f":"SUM(L369:L371)","v":77600},{"$f":"SUM(M369:M371)","v":7995396.4},{"$f":"SUM(N369:N371)","v":6981407},{"$nulls":4},{"$f":"SUM(S12:S371)","v":115158},{"$nulls":6},{"$f":"SUM(Z12:Z371)","v":0},0,0,0,0,0,{"$f":"SUM(AF12:AF246)","v":348800},848400,3057200,0,483600,0,0,0,0,{"$f":"SUM(AO27:AO246)","v":0},{"$f":"SUM(AP12:AP246)","v":226490},0,0,0,4132090,4132090,0,0,4132090,823600,2967200,0,483600,0,0,0,0,{"$f":"SUM(BG27:BG246)","v":0},{"$f":"SUM(BH12:BH246)","v":219887},0,0,0,4010687,4010687,0,0,4010687,1,215,0,2,2,218,9,202,0]
[]
[{"$nulls":12},{"$f":"Master!E2","v":"ç/kkukpk;Z]"}]
[{"$nulls":12},{"$f":"Master!H2","v":"jkmekfo jk;eyok³k"}]
{"$rows_empty":351}
[{"$nulls":4},"प्रधानाचार्य","PRINCIPAL",6600]
[{"$nulls":4},"प्रधानाध्यापक‌","HEAD MASTER",5400]
[{"$nulls":4},"कृषि शिक्षा प्रभारी","AGRICULTURE INST",4800]
[{"$nulls":4},"कृषि अध्यापक","AGRICULTURE TEACH",4800]
[{"$nulls":4},"प्रशिक्षक","INSTRUCTOR",4800]
[{"$nulls":4},"व्याख्याता (स्कूल शिक्षा)","TEACHER-I",4800]
[{"$nulls":4},"पुस्तकालय अध्यक्ष श्रेणी I","LIBRARIAN I",4800]
[{"$nulls":4},"शारीरिक शिक्षक श्रेणी I","PTI  I",4800]
[{"$nulls":4},"वरिष्ठ अध्यापक","TEACHER-II",4200]
[{"$nulls":4},"शारीरिक शिक्षक श्रेणी II","PTI II",4200]
[{"$nulls":4},"पुस्तकालय अध्यक्ष श्रेणी II","LIBRARIAN II",4200]
[{"$nulls":4},"पुस्तकालय अध्यक्ष श्रेणी III","LIBRARIAN III",3600]
[{"$nulls":4},"अध्यापक","TEACHER-III",3600]
[{"$nulls":4},"शारीरिक शिक्षक श्रेणी III","PTI  III",3600]
[{"$nulls":4},"सहायक कार्यालय अधीक्षक","ASSISTANT",3600]
[{"$nulls":4},"प्रयोगशाला सहायक","LAB ASST",2800]
[{"$nulls":4},"लिपिक ग्रेड I","CLERK GRADE I",2800]
[{"$nulls":4},"फील्ड मैन व फील्ड रिक़ॉर्डर","FIELDMAN & FIELD REC",2400]
[{"$nulls":4},"लिपिक ग्रेड II","CLERK GRADE II",2400]
[{"$nulls":4},"चतुर्थ श्रेणी कर्मचारी","PEON",1700]
[{"$nulls":4},"जमादार","JAMADAR",1700]
[{"$nulls":4},"प्रयोगशाला परिचारक","LAB BOY",1700]

{"sheet":"Formet 9","index":12,"n_rows":35,"n_cols":20,"rows_kept":35,"merged":[[0,15,0,19],[0,20,35,20],[1,0,1,19],[2,0,2,19],[3,0,3,19],[4,7,4,8],[4,10,4,13],[5,2,5,14],[5,15,5,18],[6,0,6,19],[7,0,8,0],[7,1,8,1],[7,2,8,2],[7,3,7,5],[7,7,7,9],[7,10,8,10],[7,11,8,11],[7,12,7,14],[7,15,7,17],[7,18,8,18],[7,19,8,19],[31,1,31,2],[33,15,33,18],[34,15,36,18]]}
[{"$nulls":15},{"$f":"Summary!$C$1","v":{"v":12345,"d":"OFFICE ID : 12345"}}]
[{"$f":"'Cover Page'!A1","v":"ç/kkukpk;Z] jkmekfo jk;eyok³k ¼vkWfQl vkbZ-Mh- la[;k %&12345½"}]
["izi= 9"]
["         O;; ds foLr`r ctV vuqeku ¼e; laosru foLr`r 'kh\"kZ lfgr½"]
[{"$nulls":7},"fofÙk; o\"kZ",null,{"$f":"G9","v":"2023-24"},"¼ 1 vizSy ls 31 ekpZ rd ½ dk"]
[null,null,{"$f":"A2","v":"ç/kkukpk;Z] jkmekfo jk;eyok³k ¼vkWfQl vkbZ-Mh- la[;k %&12345½"},{"$nulls":12},"foHkkx dk uke %& f'k{kk foHkkx"]
[{"$f":"Summary!A5","v":"BUDGET HEAD : 2202 -सामान्य शिक्षा-02-109 -राजकीय माध्यमिक विद्यालय-07 -राष्ट्रीय माध्यमिक शिक्षा अभियान-01 -माध्यमिक शिक्षा अभियान- सामान्य व्यय (S.F. + C.A.)"}]
["Ø-la-","foLr`r ys[kk 'kh\"kZd","nrer @izHk`r","okLrfod O;; vkadM+s ¼xr rhu o\"kksZa ds½",null,null,"vk; O;; vuqeku pkyw o\"kZ","okLrfod O;; vkadM+s ",null,null,"vxLr ls ekpZ rd dk lEHkkfor O;; ¼pkyw o\"kZ½","l'kksf/kr vuqeku ¼pkyw o\"kZ½ ¼09$11½","vk; O;;d vuqeku \n¼vkxkeh o\"kZ½",null,null,"o`f) ¼$½ ;k deh ¼&½",null,null,"uohu vkbZVe gk¡@ugha","fo'ks\"k fooj.k"]
[{"$nulls":3},{"$f":"CONCATENATE((MID(Master!E4,1,4)-3),\"-\",(MID(Master!E4,6,2)-3))","v":"2020-21"},{"$f":"CONCATENATE((MID(Master!E4,1,4)-2),\"-\",(MID(Master!E4,6,2)-2))","v":"2021-22"},{"$f":"CONCATENATE((MID(Master!E4,1,4)-1),\"-\",(MID(Master!E4,6,2)-1))","v":"2022-23"},{"$f":"CONCATENATE((MID(Master!E4,1,4)),\"-\",(MID(Master!E4,6,2)))","v":"2023-24"},"vxLr ls ekpZ rd ¼xr o\"kZ½","vizSy ls tqykbZ rd ¼pkyw o\"kZ½","dkWye 8 o 9 dk ;ksx",null,null,"dfeVsM ¼000000000½","uohu ¼000½","dqy ¼13$14½","dkWye 7 o 12 esa","dkWye 10 o 12 esa","dkWye 12 o 15 esa"]
[1,2,3,4,5,6,7,8,9,10,11,12,13,14,15,16,17,18,19,20]
[1,"laosru",null,{"$f":"Master!F11","v":0},{"$f":"Master!G11","v":0},{"$f":"Master!J11","v":0},{"$f":"Master!E11","v":0},{"$f":"Master!I11","v":0},{"$f":"Master!K11","v":0},{"$f":"H11+I11","v":0},{"$f":"'Formet 8'!N369-'Formet 9'!I11","v":6981407},{"$f":"I11+K11","v":6981407},{"$f":"'Formet 8'!M369","v":{"v":7945396.4,"d":"7945396"}},0,{"$f":"SUM(M11:N11)","v":{"v":7945396.4,"d":"7945396"}},{"$f":"L11-I11","v":6981407},{"$f":"L11-J11","v":6981407},{"$f":"L11-M11","v":{"v":-963989.4000000004,"d":"-963989"}},"ugha"]
[2,";k=k O;;",null,{"$f":"Master!F12","v":0},{"$f":"Master!G12","v":0},{"$f":"Master!J12","v":0},{"$f":"Master!E12","v":0},{"$f":"Master!I12","v":0},{"$f":"Master!K12","v":0},{"$f":"H12+I12","v":0},{"$f":"G12-I12","v":0},{"$f":"I12+K12","v":0},50000,0,{"$f":"SUM(M12:N12)","v":50000},{"$f":"L12-I12","v":0},{"$f":"L12-J12","v":0},{"$f":"L12-M12","v":-50000},"ugha"]
[3,"fpfdRlk O;;",null,{"$f":"Master!F13","v":0},{"$f":"Master!G13","v":0},{"$f":"Master!J13","v":0},{"$f":"Master!E13","v":0},{"$f":"Master!I13","v":0},{"$f":"Master!K13","v":0},{"$f":"H13+I13","v":0},{"$f":"G13","v":0},{"$f":"I13+K13","v":0},{"$f":"G13","v":0},0,{"$f":"SUM(M13:N13)","v":0},{"$f":"L13-I13","v":0},{"$f":"L13-J13","v":0},{"$f":"L13-M13","v":0},"ugha"]
[null,"dqy ;ksx izi= 8",null,{"$f":"SUM(D11:D13)","v":0},{"$f":"SUM(E11:E13)","v":0},0,0,0,0,0,6981407,6981407,{"v":7995396.4,"d":"7995396"},0,{"v":7995396.4,"d":"7995396"},6981407,6981407,{"v":-1013989.4000000004,"d":"-1013989"}]
[null,"dk;kZy; O;;",null,{"$f":"Master!F15","v":0},{"$f":"Master!G15","v":0},{"$f":"Master!J15","v":0},{"$f":"Master!E15","v":0},{"$f":"Master!I15","v":0},{"$f":"Master!K15","v":0},0,0,2500,2500,0,0,0,0,0]
[1,"Mkd fVdV",null,{"$f":"Master!F16","v":0},{"$f":"Master!G16","v":0},{"$f":"Master!J16","v":0},{"$f":"Master!E16","v":0},{"$f":"Master!I16","v":0},{"$f":"Master!K16","v":0},{"$f":"SUM(H16:I16)","v":0},0,{"$f":"I16+K16","v":0},{"$f":"L16","v":0},0,{"$f":"SUM(M16:N16)","v":0},{"$f":"L16-I16","v":0},{"$f":"L16-J16","v":0},{"$f":"L16-M16","v":0},"ugha"]
[2,"nwjHkk\"k",null,{"$f":"Master!F17","v":0},{"$f":"Master!G17","v":0},{"$f":"Master!J17","v":0},{"$f":"Master!E17","v":0},{"$f":"Master!I17","v":0},{"$f":"Master!K17","v":0},0,0,0,{"$f":"L17","v":0},0,0,0,0,0,"ugha"]
[3,"fctyh ikuh",null,{"$f":"Master!F18","v":0},{"$f":"Master!G18","v":0},{"$f":"Master!J18","v":0},{"$f":"Master!E18","v":0},{"$f":"Master!I18","v":0},{"$f":"Master!K18","v":0},0,0,0,0,0,0,0,0,0,"ugha"]
[4,"iqLrdsa o pkVZ~l",null,{"$f":"Master!F19","v":0},{"$f":"Master!G19","v":0},{"$f":"Master!J19","v":0},{"$f":"Master!E19","v":0},{"$f":"Master!I19","v":0},{"$f":"Master!K19","v":0},0,0,0,0,0,0,0,0,0,"ugha"]
[5,"QuhZpj",null,{"$f":"Master!F20","v":0},{"$f":"Master!G20","v":0},{"$f":"Master!J20","v":0},{"$f":"Master!E20","v":0},{"$f":"Master!I20","v":0},{"$f":"Master!K20","v":0},0,0,0,0,0,0,0,0,0,"ugha"]
[6,"vU; O;;",null,{"$f":"Master!F21","v":0},{"$f":"Master!G21","v":0},{"$f":"Master!J21","v":0},{"$f":"Master!E21","v":0},{"$f":"Master!I21","v":0},{"$f":"Master!K21","v":0},0,0,0,0,0,0,0,0,0,"ugha"]
[7,"LVs'kujh",null,{"$f":"Master!F22","v":0},{"$f":"Master!G22","v":0},{"$f":"Master!J22","v":0},{"$f":"Master!E22","v":0},{"$f":"Master!I22","v":0},{"$f":"Master!K22","v":0},0,0,0,0,0,0,0,0,0,"ugha"]
[8,"NikbZ",null,{"$f":"Master!F23","v":0},{"$f":"Master!G23","v":0},{"$f":"Master!J23","v":0},{"$f":"Master!E23","v":0},{"$f":"Master!I23","v":0},{"$f":"Master!K23","v":0},0,0,{"$f":"I23+K23","v":0},0,0,0,0,0,0,"ugha"]
[null,"dqy ;ksx dk;kZy; O;; ¼v½",null,{"$f":"SUM(D15:D23)","v":0},{"$f":"SUM(E15:E23)","v":0},0,0,0,0,0,0,2500,2500,0,0,0,0,0]
[1,"fofo/k",null,{"$f":"Master!F25","v":0},{"$f":"Master!G25","v":0},{"$f":"Master!J25","v":0},{"$f":"Master!E25","v":0},{"$f":"Master!I25","v":0},{"$f":"Master!K25","v":0},{"$f":"SUM(H25:I25)","v":0},0,{"$f":"I25+K25","v":0},0,0,{"$f":"SUM(M25:N25)","v":0},{"$f":"L25-I25","v":0},{"$f":"L25-J25","v":0},{"$f":"L25-M25","v":0},"ugha"]
[2,"iqLrdky;",null,{"$f":"Master!F26","v":0},{"$f":"Master!G26","v":0},{"$f":"Master!J26","v":0},{"$f":"Master!E26","v":0},{"$f":"Master!I26","v":0},{"$f":"Master!K26","v":0},{"$f":"SUM(H26:I26)","v":0},0,{"$f":"I26+K26","v":0},0,0,{"$f":"SUM(M26:N26)","v":0},{"$f":"L26-I26","v":0},{"$f":"L26-J26","v":0},{"$f":"L26-M26","v":0},"ugha"]
[3,"iz;ksx'kkyk",null,{"$f":"Master!F27","v":0},{"$f":"Master!G27","v":0},{"$f":"Master!J27","v":0},{"$f":"Master!E27","v":0},{"$f":"Master!I27","v":0},{"$f":"Master!K27","v":0},{"$f":"SUM(H27:I27)","v":0},0,{"$f":"I27+K27","v":0},0,0,{"$f":"SUM(M27:N27)","v":0},{"$f":"L27-I27","v":0},{"$f":"L27-J27","v":0},{"$f":"L27-M27","v":0},"ugha"]
[4,"fof'k\"V lsok,sa",null,{"$f":"Master!F28","v":0},{"$f":"Master!G28","v":0},{"$f":"Master!J28","v":0},{"$f":"Master!E28","v":0},{"$f":"Master!I28","v":0},{"$f":"Master!K28","v":0},{"$f":"SUM(H28:I28)","v":0},0,{"$f":"I28+K28","v":0},0,0,{"$f":"SUM(M28:N28)","v":0},{"$f":"L28-I28","v":0},{"$f":"L28-J28","v":0},{"$f":"L28-M28","v":0},"ugha"]
[5,"ofnZ;ka",null,{"$f":"Master!F29","v":0},{"$f":"Master!G29","v":0},{"$f":"Master!J29","v":0},{"$f":"Master!E29","v":0},{"$f":"Master!I29","v":0},{"$f":"Master!K29","v":0},{"$f":"SUM(H29:I29)","v":0},0,{"$f":"I29+K29","v":0},0,0,{"$f":"SUM(M29:N29)","v":0},{"$f":"L29-I29","v":0},{"$f":"L29-J29","v":0},{"$f":"L29-M29","v":0},"ugha"]
[null,"dqy ;ksx 1 ls 7 ¼c½",null,{"$f":"SUM(D25:D29)","v":0},{"$f":"SUM(E25:E29)","v":0},0,0,0,0,0,0,0,0,0,0,0,0,0,{"$f":"SUM(S25:S29)","v":0}]
[null,"dqy ;ksx ¼v½$¼c½",null,{"$f":"SUM(D24,D30)","v":0},{"$f":"SUM(E24,E30)","v":0},0,0,0,0,0,0,2500,2500,0,0,0,0,0]
[null,"loZ ;ksx",null,{"$f":"SUM(D31,D14)","v":0},{"$f":"SUM(E31,E14)","v":0},0,0,0,0,0,6981407,6983907,{"v":7997896.4,"d":"7997896"},0,{"v":7995396.4,"d":"7995396"},6981407,6981407,{"v":-1013989.4000000004,"d":"-1013989"}]
[]
[{"$nulls":15},{"$f":"Master!E2","v":"ç/kkukpk;Z]"}]
[{"$nulls":15},{"$f":"Master!H2","v":"jkmekfo jk;eyok³k"}]

{"sheet":"GA2","index":13,"n_rows":22,"n_cols":14,"rows_kept":22,"merged":[[0,0,0,11],[0,12,0,13],[0,14,22,14],[1,0,1,11],[1,12,1,13],[2,0,2,13],[3,0,3,2],[3,3,3,13],[4,0,4,2],[4,3,4,4],[4,5,4,13],[5,0,6,0],[5,1,6,1],[5,2,5,4],[5,6,5,8],[5,9,6,9],[5,10,6,10],[5,11,5,13],[19,0,22,9],[19,10,19,13],[20,10,20,13],[21,10,22,13]]}
["             jktLFkku ljdkj",{"$nulls":11},"izi= 9 ¼th-,-­2½"]
["             ¼ vuqHkkxkf/kdkfj;kas }kjk vius foHkkxk/;{kks dks izsf\"kr djus gsrq½",{"$nulls":11},"ctV esU;wvy"]
["forh; o\"kZ 2023&24 ds fy, fuf'pr O;;ksa¼ vf/kdkfj;ksa ,ao deZpkfj;ksa ds laosru½  dk foLr`r vk;­O;;d vuqeku ¼ vizsy ls ekpZ rd½"]
["eq[; 'kh\"kZd",null,null,{"$f":"Summary!A5","v":"BUDGET HEAD : 2202 -सामान्य शिक्षा-02-109 -राजकीय माध्यमिक विद्यालय-07 -राष्ट्रीय माध्यमिक शिक्षा अभियान-01 -माध्यमिक शिक्षा अभियान- सामान्य व्यय (S.F. + C.A.)"}]
["y/kq 'kh\"kZd",null,null,"dk;kZy; dk uke %",null,{"$f":"'Cover Page'!A1","v":"ç/kkukpk;Z] jkmekfo jk;eyok³k ¼vkWfQl vkbZ-Mh- la[;k %&12345½"}]
["S.No.","Account Head","Actuals okLrfod vkadMs",null,null,"Budget Estimate for ","Actuals okLrfod O;; vkadMs",null,null,"Revised Estimates for 2023­24","Budget Estimate for 2024­25","Increment¼ $½or decrese¼­½between columns"]
[null,null,{"$f":"Master!F8","v":"2020-21"},{"$f":"Master!G8","v":"2021-22"},{"$f":"Master!H8","v":"2022-23"},{"$f":"Master!K8","v":"2023-24"},"vxLr ls ekpZ rd ¼xr o\"kZ½","vizSy ls tqykbZ rd ¼pkyw o\"kZ½","Total of columns 7 & 8",null,null,"6 and 10","9 and 10","10 and 11"]
[1,2,3,4,5,6,7,8,9,10,11,12,13,14]
[1,"Salary-01",{"$f":"'Formet 9'!D11","v":0},{"$f":"'Formet 9'!E11","v":0},{"$f":"'Formet 9'!F11","v":0},{"$f":"'Formet 9'!G11","v":0},{"$f":"'Formet 9'!H11","v":0},{"$f":"'Formet 9'!I11","v":0},{"$f":"G9+H9","v":0},{"$f":"'Formet 9'!L11","v":6981407},{"$f":"'Formet 9'!M11","v":{"v":7945396.4,"d":"7945396"}},{"$f":"F9-J9","v":-6981407},{"$f":"I9-J9","v":-6981407},{"v":-963989.4000000004,"d":"-963989"}]
[2,"T.E.-03",{"$f":"'Formet 9'!D12","v":0},{"$f":"'Formet 9'!E12","v":0},{"$f":"'Formet 9'!F12","v":0},{"$f":"'Formet 9'!G12","v":0},{"$f":"'Formet 9'!H12","v":0},{"$f":"'Formet 9'!I12","v":0},{"$f":"G10+H10","v":0},{"$f":"'Formet 9'!L12","v":0},{"$f":"'Formet 9'!M12","v":50000},{"$f":"F10-J10","v":0},0,-50000]
[3,"Medical-04",{"$f":"'Formet 9'!D13","v":0},{"$f":"'Formet 9'!E13","v":0},{"$f":"'Formet 9'!F13","v":0},{"$f":"'Formet 9'!G13","v":0},{"$f":"'Formet 9'!H13","v":0},{"$f":"'Formet 9'!I13","v":0},{"$f":"G11+H11","v":0},{"$f":"F11","v":0},{"$f":"J11","v":0},{"$f":"F11-J11","v":0},0,0]
[4,"O.E.-05",0,0,0,0,0,0,0,{"$f":"'Formet 9'!L15","v":2500},{"$f":"'Formet 9'!M15","v":2500},0,0,0]
[5,"Rent - 09",0,0,0,0,0,0,0,0,0,0,0,0]
[6,"Misc.-28",0,0,0,0,0,0,0,0,0,0,0,0]
[7,"Library-31",0,0,0,0,0,0,0,0,0,0,0,0]
[8,"Lab-33",0,0,0,0,0,0,0,0,0,0,0,0]
[9,"Liveries-37",0,0,0,0,0,0,0,0,0,0,0,0]
[10,"Spl.Ser-57",0,0,0,0,0,0,0,0,0,0,0,0]
[null,"Total",{"$f":"SUM(C9:C18)","v":0},{"$f":"SUM(D9:D18)","v":0},0,0,0,0,0,6983907,{"v":7997896.4,"d":"7997896"},-6981407,-6981407,{"v":-1013989.4000000004,"d":"-1013989"}]
[]
[{"$nulls":10},{"$f":"Master!E2","v":"ç/kkukpk;Z]"}]
[{"$nulls":10},{"$f":"Master!H2","v":"jkmekfo jk;eyok³k"}]

{"sheet":"GA3","index":14,"n_rows":19,"n_cols":14,"rows_kept":19,"merged":[[0,0,0,11],[0,12,0,13],[0,14,19,14],[1,0,1,11],[1,12,1,13],[2,0,2,13],[3,0,3,2],[3,3,3,13],[4,0,4,2],[4,3,4,4],[4,5,4,13],[5,0,6,0],[5,1,6,1],[5,2,5,4],[5,5,6,5],[5,6,5,8],[5,9,6,9],[5,10,6,10],[5,11,5,13],[16,0,19,9],[16,10,16,13],[17,10,17,13],[18,10,19,13]]}
["             jktLFkku ljdkj",{"$nulls":11},"izi= 9 ¼th-,-­3½"]
["             ¼ vuqHkkxkf/kdkfj;kas }kjk vius foHkkxk/;{kks dks izsf\"kr djus gsrq½",{"$nulls":11},"ctV esU;wvy"]
["foÙkh; o\"kZ 2023&24 ds fy, fuf'pr O;;ksa dk foLr`r vk;­O;;d vuqeku ¼vçsy] 2023 ls ekpZ] 2024 rd½"]
["eq[; 'kh\"kZd",null,null,{"$f":"Summary!A5","v":"BUDGET HEAD : 2202 -सामान्य शिक्षा-02-109 -राजकीय माध्यमिक विद्यालय-07 -राष्ट्रीय माध्यमिक शिक्षा अभियान-01 -माध्यमिक शिक्षा अभियान- सामान्य व्यय (S.F. + C.A.)"}]
["y/kq 'kh\"kZd",null,null,"dk;kZy; dk uke %",null,{"$f":"'Cover Page'!A1","v":"ç/kkukpk;Z] jkmekfo jk;eyok³k ¼vkWfQl vkbZ-Mh- la[;k %&12345½"}]
["S.No.","Account Head","Actuals okLrfod vkadMs",null,null,"Budget Estimate for 2023­24","Actuals okLrfod O;; vkadMs",null,null,"Revised Estimates for 2023­24","Budget Estimate for 2024­25","Increment¼ $½or decrese¼­½between columns"]
[null,null,"2020-21","2021-22","2022-23",null,"vxLr ls ekpZ rd ¼xr o\"kZ½","vizSy ls tqykbZ rd ¼pkyw o\"kZ½","dkWye 7 o 8 dk ;ksx",null,null,"6 and 10","9 and 10","10 and 11"]
[1,2,3,4,5,6,7,8,9,10,11,12,13,14]
[1,{"$f":"' Formet 10'!B9","v":"izos'k 'kqYd"},{"$f":"' Formet 10'!C9","v":0},{"$f":"' Formet 10'!D9","v":0},{"$f":"' Formet 10'!E9","v":0},{"$f":"' Formet 10'!F9","v":0},{"$f":"' Formet 10'!G9","v":0},{"$f":"' Formet 10'!H9","v":0},{"$f":"' Formet 10'!I9","v":0},{"$f":"' Formet 10'!K9","v":0},{"$f":"' Formet 10'!L9","v":0},{"$f":"F9-J9","v":0},{"$f":"I9-J9","v":0},{"$f":"J9-K9","v":0}]
[2,{"$f":"' Formet 10'!B10","v":"Vh-lh- 'kqYd"},{"$f":"' Formet 10'!C10","v":0},{"$f":"' Formet 10'!D10","v":0},{"$f":"' Formet 10'!E10","v":0},{"$f":"' Formet 10'!F10","v":0},{"$f":"' Formet 10'!G10","v":0},{"$f":"' Formet 10'!H10","v":0},{"$f":"' Formet 10'!I10","v":0},{"$f":"' Formet 10'!K10","v":0},{"$f":"' Formet 10'!L10","v":0},{"$f":"F10-J10","v":0},{"$f":"I10-J10","v":0},0]
[3,{"$f":"' Formet 10'!B11","v":"uhykeh"},{"$f":"' Formet 10'!C11","v":0},{"$f":"' Formet 10'!D11","v":0},{"$f":"' Formet 10'!E11","v":0},{"$f":"' Formet 10'!F11","v":0},{"$f":"' Formet 10'!G11","v":0},{"$f":"' Formet 10'!H11","v":0},{"$f":"' Formet 10'!I11","v":0},{"$f":"' Formet 10'!K11","v":0},{"$f":"' Formet 10'!L11","v":0},0,0,0]
[4,{"$f":"' Formet 10'!B12","v":"Hkou fdjk;k"},{"$f":"' Formet 10'!C12","v":0},{"$f":"' Formet 10'!D12","v":0},{"$f":"' Formet 10'!E12","v":0},{"$f":"' Formet 10'!F12","v":0},{"$f":"' Formet 10'!G12","v":0},{"$f":"' Formet 10'!H12","v":0},{"$f":"' Formet 10'!I12","v":0},{"$f":"' Formet 10'!K12","v":0},{"$f":"' Formet 10'!L12","v":0},0,0,0]
[5,{"$f":"' Formet 10'!B13","v":"vU; vk; ¼fo|kFkhZ nq/kZ chek½"},{"$f":"' Formet 10'!C13","v":0},{"$f":"' Formet 10'!D13","v":0},{"$f":"' Formet 10'!E13","v":0},{"$f":"' Formet 10'!F13","v":0},{"$f":"' Formet 10'!G13","v":0},{"$f":"' Formet 10'!H13","v":0},{"$f":"' Formet 10'!I13","v":0},{"$f":"' Formet 10'!K13","v":0},{"$f":"' Formet 10'!L13","v":0},0,0,0]
[6,{"$f":"' Formet 10'!B14","v":"va'knku @ o`fRrnku"},{"$f":"' Formet 10'!C14","v":0},{"$f":"' Formet 10'!D14","v":0},{"$f":"' Formet 10'!E14","v":0},{"$f":"' Formet 10'!F14","v":0},{"$f":"' Formet 10'!G14","v":0},{"$f":"' Formet 10'!H14","v":0},{"$f":"' Formet 10'!I14","v":0},{"$f":"' Formet 10'!K14","v":0},{"$f":"' Formet 10'!L14","v":0},0,0,0]
[7,{"$f":"' Formet 10'!B15","v":0},{"$f":"' Formet 10'!C15","v":0},{"$f":"' Formet 10'!D15","v":0},{"$f":"' Formet 10'!E15","v":0},{"$f":"' Formet 10'!F15","v":0},{"$f":"' Formet 10'!G15","v":0},{"$f":"' Formet 10'!H15","v":0},{"$f":"' Formet 10'!I15","v":0},{"$f":"' Formet 10'!K15","v":0},{"$f":"' Formet 10'!L15","v":0},0,0,0]
[null,"Total",{"$f":"SUM(C9:C15)","v":0},{"$f":"SUM(D9:D15)","v":0},0,0,0,0,0,0,0,0,0,0]
[]
[{"$nulls":10},{"$f":"Master!E2","v":"ç/kkukpk;Z]"}]
[{"$nulls":10},{"$f":"Master!H2","v":"jkmekfo jk;eyok³k"}]

{"sheet":"9 (GA-4)","index":15,"n_rows":36,"n_cols":14,"rows_kept":36,"merged":[[0,0,0,9],[0,11,0,13],[0,14,1048575,14],[1,4,1,5],[1,6,1,7],[1,8,1,11],[2,2,2,3],[2,9,2,13],[3,0,3,13],[4,0,5,0],[4,1,5,1],[4,2,4,4],[4,6,4,8],[4,9,5,9],[4,10,5,10],[4,11,4,13],[7,2,7,13],[11,2,11,13],[33,0,35,10],[33,11,34,13],[35,11,1048575,13]]}
["    O;; ds foLr`r ctV vuqeku ¼e; laosru foLr`r 'kh\"kZ lfgr½",{"$nulls":10},"çi=&9 ¼G.A.-4½"]
[{"$nulls":4},"fofÙk; o\"kZ%&",null,{"$f":"F6","v":"2023-24"},null,{"$f":"'Formet 9'!K5","v":"¼ 1 vizSy ls 31 ekpZ rd ½ dk"}]
[null,"Office ID:-",{"$f":"'Formet 9'!P1","v":12345},{"$nulls":6},"foHkkx dk uke %& f'k{kk foHkkx"]
[{"$f":"'Cover Page'!A1","v":"ç/kkukpk;Z] jkmekfo jk;eyok³k ¼vkWfQl vkbZ-Mh- la[;k %&12345½"}]
["Ø-la-","foLr`r ys[kk 'kh\"kZd","okLrfod O;; vkadMs ¼xr rhu o\"kksZa ds½",null,null,"vk; O;; vuqeku pkyw o\"kZ","okLrfod O;; vkadM+s ",null,null,"la'kksf/kr vuqeku o\"kZ 2023&24 ","vk; O;;d vuqeku o\"kZ 2024&25","o`f) ¼$½ ;k deh ¼&½"]
[null,null,{"$f":"'Formet 9'!D9","v":"2020-21"},{"$f":"'Formet 9'!E9","v":"2021-22"},{"$f":"'Formet 9'!F9","v":"2022-23"},{"$f":"Master!E4","v":"2023-24"},"vxLr ls ekpZ rd ¼xr o\"kZ½","vizSy ls tqykbZ rd ¼pkyw o\"kZ½","dkWye 7 o 8 dk ;ksx",null,null,"dkWye 6 o 11 esa","dkWye 9 o 10 esa","dkWye 10 o 11 esa"]
[1,2,3,4,5,6,7,8,9,10,11,12,13,14]
[1,"]01 laosru"]
[null,"d- osru jktif=r",0,0,0,0,0,0,{"$f":"G9+H9","v":0},{"$f":"Summary!B8","v":823600},{"$f":"Summary!C8","v":848400},{"$f":"K9-F9","v":848400},{"$f":"J9-I9","v":823600},{"$f":"K9-J9","v":24800}]
[null,"[k- osru vjktif=r",{"$f":"'Formet 9'!D11","v":0},{"$f":"'Formet 9'!E11","v":0},{"$f":"'Formet 9'!F11","v":0},{"$f":"'Formet 9'!G11","v":0},{"$f":"'Formet 9'!H11","v":0},{"$f":"'Formet 9'!I11","v":0},{"$f":"G10+H10","v":0},{"$f":"Summary!B9","v":2967200},{"$f":"Summary!C9","v":3057200},{"$f":"K10-F10","v":3057200},{"$f":"J10-I10","v":2967200},{"$f":"K10-J10","v":90000}]
[null,";ksx osru & ¼ d ls [k rd ½",{"$f":"SUM(C9:C10)","v":0},{"$f":"SUM(D9:D10)","v":0},0,0,0,0,0,3790800,3905600,3905600,3790800,114800]
[2,"HkRrs ,oa ekuns;&kk "]
[null," 1- eagxkbZ HkRrk",{"$nulls":7},{"$f":"Summary!B12","v":1592136},{"$f":"Summary!C12","v":1640352},{"$f":"K13-F13","v":1640352},{"$f":"J13-I13","v":1592136},{"$f":"K13-J13","v":48216}]
[null," 2- eagxkbZ HkRrk ,fj;j",{"$nulls":7},{"$f":"Summary!B13","v":38280},{"$f":"Summary!C13","v":{"v":77708.40000000001,"d":"77708"}},{"v":77708.40000000001,"d":"77708"},38280,{"v":39428.40000000001,"d":"39428"}]
[null," 3- fLFkjhdj.k @ p;fur osru @ vU;",{"$nulls":7},{"$f":"Summary!B14","v":0},{"$f":"Summary!C14","v":744610},744610,0,744610]
[null," 4- edku fdjk;k HkRrk",{"$nulls":7},{"$f":"Summary!B15","v":341172},{"$f":"Summary!C15","v":351504},351504,341172,10332]
[null," 5- lefiZr vodk'k osru",{"$nulls":7},{"$f":"Summary!B16","v":219887},{"$f":"Summary!C16","v":226490},226490,219887,6603]
[null," 6- 'kgjh HkRrk",{"$nulls":7},{"$f":"Summary!B17","v":0},{"$f":"Summary!C17","v":0},0,0,0]
[null," 7- cksul",{"$nulls":7},{"$f":"Summary!B18","v":121932},{"$f":"Summary!C18","v":121932},121932,121932,0]
[null," 8- fn- 20-01-06 ls fu;qDr dkfeZdksa dks fu;r ikfjJfed",{"$nulls":7},{"$f":"Summary!B19","v":483600},{"$f":"Summary!C19","v":483600},483600,483600,0]
[null," 9- lafonk dkfeZdksa dks fu;r ikfjJfed",{"$nulls":7},{"$f":"Summary!B20","v":393600},{"$f":"Summary!C20","v":393600},393600,393600,0]
[null,"10- iz-v- HkRrk",{"$nulls":7},{"$f":"Summary!B21","v":0},{"$f":"Summary!C21","v":0},0,0,0]
[null,"11- jksdM+ HkRrk",{"$nulls":7},{"$f":"Summary!B22","v":0},{"$f":"Summary!C22","v":0},0,0,0]
[null,"12- /kqykbZ HkRrk",{"$nulls":7},{"$f":"Summary!B23","v":0},{"$f":"Summary!C23","v":0},0,0,0]
[null,"13- lkbZfdy HkRrk",{"$nulls":7},{"$f":"Summary!B24","v":0},{"$f":"Summary!C24","v":0},0,0,0]
[null,"14- fodkykax HkRrk",{"$nulls":7},{"$f":"Summary!B25","v":0},{"$f":"Summary!C25","v":0},0,0,0]
[null,"15- vU; HkRrs",{"$nulls":7},{"$f":"Summary!B26","v":0},{"$f":"Summary!C26","v":0},0,0,0]
[null,";ksx&¼ 1ls 15 ½ HkRrs ,oa ekuns;&kk",{"$f":"SUM(C13:C27)","v":0},{"$f":"SUM(D13:D27)","v":0},0,0,0,0,0,3190607,{"v":4039796.4,"d":"4039796"},{"v":4039796.4,"d":"4039796"},3190607,{"v":849189.3999999999,"d":"849189"}]
[null,";ksx laosru   k+++  ,oa kk",{"$f":"SUM(C11,C28)","v":0},{"$f":"SUM(D11,D28)","v":0},0,0,0,0,0,6981407,{"v":7945396.4,"d":"7945396"},{"v":7945396.4,"d":"7945396"},6981407,{"v":963989.4000000004,"d":"963989"}]
[3,"89 va'knk;h is'ku ;kstuk esa ljdkj dk va'knku",{"$nulls":7},{"$f":"Summary!B29","v":0},{"$f":"Summary!C29","v":0},0,0,0]
[4,";k=k O;;",{"$nulls":7},{"$f":"Summary!B30","v":0},{"$f":"Summary!C30","v":50000},50000,0,50000]
[5,"fpfdRlk O;;",{"$nulls":7},{"$f":"Summary!B31","v":0},{"$f":"Summary!C31","v":0},0,0,0]
[null,"loZ ;ksx & ¼QkeZ th-,-&4½",{"$f":"SUM(C29,C31:C32)","v":0},{"$f":"SUM(D29,D31:D32)","v":0},0,0,0,0,0,6981407,{"v":7995396.4,"d":"7995396"}]
[{"$nulls":11},{"$f":"Master!E2","v":"ç/kkukpk;Z]"}]
[]
[{"$nulls":11},{"$f":"Master!H2","v":"jkmekfo jk;eyok³k"}]

{"sheet":" Formet 10","index":16,"n_rows":19,"n_cols":15,"rows_kept":19,"merged":[[0,11,0,14],[0,15,19,15],[1,0,1,14],[2,0,2,14],[3,2,3,7],[3,9,3,13],[4,0,4,11],[4,12,4,14],[5,0,6,0],[5,1,6,1],[5,2,5,4],[5,6,5,8],[5,9,6,9],[5,10,6,10],[5,11,6,11],[5,12,5,14],[14,0,14,1],[15,0,19,10],[15,11,16,14],[17,11,17,14],[18,11,20,14]]}
[{"$nulls":11},{"$f":"Summary!$C$1","v":{"v":12345,"d":"OFFICE ID 12345"}}]
[{"$f":"'Cover Page'!A1","v":"ç/kkukpk;Z] jkmekfo jk;eyok³k ¼vkWfQl vkbZ-Mh- la[;k %&12345½"}]
["izi= 10"]
[null,null,"vk; dk foLr`r ctV vuqeku foÙkh; o\"kZ",{"$nulls":5},{"$f":"F7","v":"2023-24"},"¼ 1 vizSy ls 31 ekpZ rd ½ dk"]
[{"$f":"'Formet 9'!A7","v":"BUDGET HEAD : 2202 -सामान्य शिक्षा-02-109 -राजकीय माध्यमिक विद्यालय-07 -राष्ट्रीय माध्यमिक शिक्षा अभियान-01 -माध्यमिक शिक्षा अभियान- सामान्य व्यय (S.F. + C.A.)"},{"$nulls":11},"foHkkx dk uke %& f'k{kk foHkkx"]
["Ø-la-","ys[ks dk 'kh\"kZ & eq[; 'kh\"kZ @ mi&eq[; 'kh\"kZ @ y?kq 'kh\"kZ @ mi&'ksh\"kZ @ xqzi 'kh\"kZ","okLrfod vk; vkadM+s \n¼xr rhu o\"kksZa ds½",null,null,"vk; O;; vuqeku pkyw o\"kZ","okLrfod vk; ds vkadM+s ",null,null,"vxLr ls ekpZ rd dk lEHkkfor vk; ¼pkyw o\"kZ½","l'kksf/kr vuqeku ¼pkyw o\"kZ½ ¼08$10½","vk; O;;d vuqeku ¼vkxkeh o\"kZ½","o`f) ¼$½ ;k deh ¼&½"]
[null,null,{"$f":"Master!E36","v":"2020-21"},{"$f":"Master!F36","v":"2021-22"},{"$f":"Master!G36","v":"2022-23"},{"$f":"Master!H36","v":"2023-24"},{"$f":"Master!I36","v":"vxLr 22 ls ekpZ 23 rd"},{"$f":"Master!J36","v":"vizSy 23 ls tqykbZ 23 rd"},{"$f":"Master!K36","v":"dkWye 7 o 8 dk ;ksx"},{"$nulls":3},"dkWye 6 o 11 esa","dkWye 9 o 11 esa","dkWye 11 o 12 esa"]
[1,2,3,4,5,6,7,8,9,10,11,12,13,14,15]
[1,{"$f":"Master!D38","v":"izos'k 'kqYd"},{"$f":"Master!E38","v":0},{"$f":"Master!F38","v":0},{"$f":"Master!G38","v":0},{"$f":"Master!H38","v":0},{"$f":"Master!I38","v":0},{"$f":"Master!J38","v":0},{"$f":"Master!K38","v":0},{"$f":"Master!L38","v":0},{"$f":"Master!M38","v":0},{"$f":"Master!N38","v":0},{"$f":"K9-F9","v":0},{"$f":"K9-I9","v":0},{"$f":"L9-K9","v":0}]
[2,{"$f":"Master!D39","v":"Vh-lh- 'kqYd"},{"$f":"Master!E39","v":0},{"$f":"Master!F39","v":0},{"$f":"Master!G39","v":0},{"$f":"Master!H39","v":0},{"$f":"Master!I39","v":0},{"$f":"Master!J39","v":0},{"$f":"Master!K39","v":0},{"$f":"Master!L39","v":0},{"$f":"Master!M39","v":0},{"$f":"Master!N39","v":0},{"$f":"K10-F10","v":0},{"$f":"K10-I10","v":0},{"$f":"L10-K10","v":0}]
[3,{"$f":"Master!D40","v":"uhykeh"},{"$f":"Master!E40","v":0},{"$f":"Master!F40","v":0},{"$f":"Master!G40","v":0},{"$f":"Master!H40","v":0},{"$f":"Master!I40","v":0},{"$f":"Master!J40","v":0},{"$f":"Master!K40","v":0},{"$f":"Master!L40","v":0},{"$f":"Master!M40","v":0},{"$f":"Master!N40","v":0},{"$f":"K11-F11","v":0},{"$f":"K11-I11","v":0},{"$f":"L11-K11","v":0}]
[4,{"$f":"Master!D41","v":"Hkou fdjk;k"},{"$f":"Master!E41","v":0},{"$f":"Master!F41","v":0},{"$f":"Master!G41","v":0},{"$f":"Master!H41","v":0},{"$f":"Master!I41","v":0},{"$f":"Master!J41","v":0},{"$f":"Master!K41","v":0},{"$f":"Master!L41","v":0},{"$f":"Master!M41","v":0},{"$f":"Master!N41","v":0},{"$f":"K12-F12","v":0},{"$f":"K12-I12","v":0},{"$f":"L12-K12","v":0}]
[5,{"$f":"Master!D42","v":"vU; vk; ¼fo|kFkhZ nq/kZ chek½"},{"$f":"Master!E42","v":0},{"$f":"Master!F42","v":0},{"$f":"Master!G42","v":0},{"$f":"Master!H42","v":0},{"$f":"Master!I42","v":0},{"$f":"Master!J42","v":0},{"$f":"Master!K42","v":0},{"$f":"Master!L42","v":0},{"$f":"Master!M42","v":0},{"$f":"Master!N42","v":0},{"$f":"K13-F13","v":0},{"$f":"K13-I13","v":0},{"$f":"L13-K13","v":0}]
[6,{"$f":"Master!D43","v":"va'knku @ o`fRrnku"},{"$f":"Master!E43","v":0},{"$f":"Master!F43","v":0},{"$f":"Master!G43","v":0},{"$f":"Master!H43","v":0},{"$f":"Master!I43","v":0},{"$f":"Master!J43","v":0},{"$f":"Master!K43","v":0},{"$f":"Master!L43","v":0},{"$f":"Master!M43","v":0},{"$f":"Master!N43","v":0},0,0,0]
["GRAND TOTAL",null,{"$f":"SUM(C9:C14)","v":0},{"$f":"SUM(D9:D14)","v":0},0,0,0,0,0,0,0,0,0,0,0]
[]
[]
[{"$nulls":11},{"$f":"Master!E2","v":"ç/kkukpk;Z]"}]
[{"$nulls":11},{"$f":"Master!H2","v":"jkmekfo jk;eyok³k"}]

{"sheet":"Namankan","index":17,"n_rows":23,"n_cols":23,"rows_kept":23,"merged":[[0,0,0,17],[0,18,0,22],[0,23,24,23],[1,0,1,22],[2,9,2,13],[4,0,5,0],[4,1,5,1],[4,2,4,4],[4,5,4,7],[4,8,4,10],[4,11,4,13],[4,14,4,16],[4,17,4,19],[4,20,4,22],[19,0,1048575,16],[19,17,20,22],[21,17,21,22],[22,17,24,22]]}
[{"$f":"sharansh!B1","v":"vk; dk foLr`r ctV vuqeku foÙkh; o\"kZ  ¼ 1 vizSy ls 31 ekpZ rd ½ dk"},{"$nulls":17},{"$f":"Summary!$C$1","v":{"v":12345,"d":"OFFICE ID : 12345"}}]
[{"$f":"Summary!A2","v":"ç/kkukpk;Z] jkmekfo jk;eyok³k ¼vkWfQl vkbZ-Mh- la[;k %&12345½"}]
[{"$nulls":9}," नामांकन"]
[]
["क्रं.स.","कक्षा","सामान्य",null,null,"एस.टी.",null,null,"एस.सी.",null,null,"ओ.बी.सी.",null,null,"एस.बी.सी.",null,null,"कुल नामांकित",null,null,"अल्पसंख्यक नामांकन"]
[null,null,"बालक","बालिका","कुल","बालक","बालिका","कुल","बालक","बालिका","कुल","बालक","बालिका","कुल","बालक","बालिका","कुल","बालक","बालिका","कुल","बालक","बालिका","कुल"]
[1,"I",0,0,{"$f":"SUM(C7:D7)","v":0},0,0,{"$f":"SUM(F7:G7)","v":0},0,0,{"$f":"SUM(I7:J7)","v":0},0,0,{"$f":"SUM(L7:M7)","v":0},0,0,{"$f":"SUM(O7:P7)","v":0},{"$f":"C7+F7+I7+L7+O7","v":0},{"$f":"D7+G7+J7+M7+P7","v":0},{"$f":"SUM(R7:S7)","v":0},0,0,{"$f":"U7+V7","v":0}]
[2,"II",0,0,{"$f":"SUM(C8:D8)","v":0},0,0,{"$f":"SUM(F8:G8)","v":0},0,0,{"$f":"SUM(I8:J8)","v":0},0,0,{"$f":"SUM(L8:M8)","v":0},0,0,{"$f":"SUM(O8:P8)","v":0},{"$f":"C8+F8+I8+L8+O8","v":0},{"$f":"D8+G8+J8+M8+P8","v":0},{"$f":"SUM(R8:S8)","v":0},0,0,0]
[3,"III",0,0,0,0,0,0,0,0,0,0,0,0,0,0,0,0,0,0,0,0,0]
[4,"IV",0,0,0,0,0,0,0,0,0,0,0,0,0,0,0,0,0,0,0,0,0]
[5,"V",0,0,0,0,0,0,0,0,0,0,0,0,0,0,0,0,0,0,0,0,0]
[6,"VI",0,0,0,0,0,0,0,0,0,0,0,0,0,0,0,0,0,0,0,0,0]
[7,"VII",0,0,0,0,0,0,0,0,0,0,0,0,0,0,0,0,0,0,0,0,0]
[8,"VIII",0,0,0,0,0,0,0,0,0,0,0,0,0,0,0,0,0,0,0,0,0]
[9,"IX",0,0,0,0,0,0,0,0,0,0,0,0,0,0,0,0,0,0,0,0,0]
[10,"X",0,0,0,0,0,0,0,0,0,0,0,0,0,0,0,0,0,0,0,0,0]
[11,"XI",0,0,0,0,0,0,0,0,0,0,0,0,0,0,0,0,0,0,0,0,0]
[12,"XII",0,0,0,0,0,0,0,0,0,0,0,0,0,0,0,0,0,0,0,0,0]
["TOTAL",null,{"$f":"SUM(C7:C18)","v":0},{"$f":"SUM(D7:D18)","v":0},0,0,0,0,0,0,0,0,0,0,0,0,0,0,0,0,0,0,0]
[]
[]
[{"$nulls":17},{"$f":"Master!E2","v":"ç/kkukpk;Z]"}]
[{"$nulls":17},{"$f":"Master!H2","v":"jkmekfo jk;eyok³k"}]

{"sheet":"01 Salary","index":18,"n_rows":14,"n_cols":8,"rows_kept":14,"merged":[[0,6,0,7],[0,8,13,8],[1,0,1,7],[2,0,2,7],[3,0,3,7],[4,0,4,7],[6,0,7,0],[6,1,7,1],[6,2,7,2],[6,3,7,3],[6,4,7,4],[6,5,7,5],[9,0,10,0],[9,1,10,1],[9,2,10,2],[12,6,12,7],[13,6,15,7]]}
[{"$nulls":6},{"$f":"Summary!$C$1","v":{"v":12345,"d":"OFFICE ID 12345"}}]
[{"$f":"Summary!A2","v":"ç/kkukpk;Z] jkmekfo jk;eyok³k ¼vkWfQl vkbZ-Mh- la[;k %&12345½"}]
["izi=&01"]
[{"$f":"Summary!A5","v":"BUDGET HEAD : 2202 -सामान्य शिक्षा-02-109 -राजकीय माध्यमिक विद्यालय-07 -राष्ट्रीय माध्यमिक शिक्षा अभियान-01 -माध्यमिक शिक्षा अभियान- सामान्य व्यय (S.F. + C.A.)"}]
["ys[kk en & 01 laosru dk x.kuk @ ekax izi=       ¼jkf'k yk[kksaa es½ fofr; o\"kZ%2023&24"]
[]
["Ø- la-","vkWfQl vkbZMh","fo|ky; dk uke","fofÙk; o\"kZ 2023&24 esa      01 laosru esa vkoafVr jkf'k","07@23 rd dk okLrfod O;;","08@23 ls 03@24 rd gksus okyk vuqekfur O;;","fofÙk; o\"kZ 2023&24 esa gksus okyk dqy O;; ","o\"kZ 2023&24 vfrfjDr ds fy;s vko';drk"]
[{"$nulls":6},";ksx dkWye ¼5$6½",";ksx dkWye ¼4&7½"]
[1,2,3,4,5,6,7,8]
[1,{"$f":"$G$1","v":12345},{"$f":"Master!F2","v":0},{"$f":"'Formet 9'!G11","v":0},{"$f":"'Formet 9'!I11","v":0},{"$f":"'Formet 9'!K11","v":6981407},{"$f":"E10+F10","v":6981407},{"$f":"G10-D10","v":6981407}]
[]
[]
[{"$nulls":6},{"$f":"Master!E2","v":"ç/kkukpk;Z]"}]
[{"$nulls":6},{"$f":"Master!H2","v":"jkmekfo jk;eyok³k"}]

{"sheet":"P-2","index":19,"n_rows":11,"n_cols":8,"rows_kept":11,"merged":[[0,0,0,7],[0,8,10,8],[1,0,1,7],[2,0,2,7],[3,0,3,1],[3,2,3,4],[3,5,3,6],[4,0,4,7],[5,0,6,0],[5,1,6,1],[5,2,6,2],[5,3,6,3],[5,4,6,4],[5,5,5,7],[9,0,9,7],[10,0,10,4],[10,5,10,7]]}
[{"$f":"A!D3","v":"ç/kkukpk;Z] jkmekfo jk;eyok³k ¼vkWfQl vkbZ-Mh- la[;k %&12345½"}]
["çi=&2"]
["foHkkx esa fy, Lohd`r VsfyQksu rFkk eksckbZy dk fooj.k"]
[{"$f":"CONCATENATE(\"Budget Head\",\":-\",Master!G5)","v":"Budget Head:-2202-02-109-(07)-(01) (STATE FUND+CENTRAL ASS.)"},null,{"$f":"CONCATENATE(' Formet 10'!C4,\"  \",' Formet 10'!J4)","v":"vk; dk foLr`r ctV vuqeku foÙkh; o\"kZ  ¼ 1 vizSy ls 31 ekpZ rd ½ dk"},null,null,"vkWfQl vkbZMh%&",null,{"$f":"Master!E3","v":12345}]
[{"$f":"A!B9","v":"2202 -सामान्य शिक्षा-02-109 -राजकीय माध्यमिक विद्यालय-07 -राष्ट्रीय माध्यमिक शिक्षा अभियान-01 -माध्यमिक शिक्षा अभियान- सामान्य व्यय (S.F. + C.A.)"}]
["dza0la0","ys[kksa dk 'kh\"kZ nh?kZ 'kh\"kZ@ minh?kZ 'kh\"kZ@y/kq 'kh\"kZ@mi'kh\"kZ","jkT; fuf/k@dsUnzh; lgk;rk","dk;kZy; dk uke","inuke","VsfyQksuksa dh la[;k"]
[{"$nulls":5},"dk;kZy;","fuokl","eksckbZy"]
[1,2,3,4,5,6,7,8]
[1,{"$f":"VLOOKUP(Master!E5,Master!AI4:AN35,3,FALSE)","v":"2202 -सामान्य शिक्षा-02-109 -राजकीय माध्यमिक विद्यालय-07 -राष्ट्रीय माध्यमिक शिक्षा अभियान-01 -माध्यमिक शिक्षा अभियान- सामान्य व्यय (S.F. + C.A.)"},"jkT; fuf/k",{"$f":"Master!H2","v":"jkmekfo jk;eyok³k"},{"$f":"Master!E2","v":"ç/kkukpk;Z]"},0,0,0]
["izekf.kr fd;k tkrk gS fd inksa ds lanHkZ esa mi;qZä lwpuk dh esjs }kjk O;fäxr :i ls tkap dj yh xbZ gS\n vkSj bls lgh ik;k x;k gSA"]
[{"$nulls":5},{"$f":"sharansh!B2","v":"ç/kkukpk;Z] jkmekfo jk;eyok³k ¼vkWfQl vkbZ-Mh- la[;k %&12345½"}]

{"sheet":"P 3","index":20,"n_rows":11,"n_cols":10,"rows_kept":11,"merged":[[0,0,0,9],[0,10,10,16383],[1,0,1,9],[2,0,2,9],[3,0,3,2],[3,3,3,6],[3,7,3,8],[4,0,4,9],[5,0,6,0],[5,1,6,1],[5,2,6,2],[5,3,6,3],[5,4,6,4],[5,5,5,6],[5,7,5,9],[9,0,9,9],[10,0,10,6],[10,7,10,9]]}
[{"$f":"'01 Salary'!A2:H2","v":"ç/kkukpk;Z] jkmekfo jk;eyok³k ¼vkWfQl vkbZ-Mh- la[;k %&12345½"}]
["çi=&3"]
["foHkkx esa miyC/k dEI;wVlZ ,oa fdjk, ij fy, x, dEI;wVlZ dh lwpuk"]
[{"$f":"'P-2'!A4:E4","v":"Budget Head:-2202-02-109-(07)-(01) (STATE FUND+CENTRAL ASS.)"},null,null,{"$f":"'P-2'!C4","v":"vk; dk foLr`r ctV vuqeku foÙkh; o\"kZ  ¼ 1 vizSy ls 31 ekpZ rd ½ dk"},{"$nulls":3},"vkWfQl vkbZMh%&",null,{"$f":"'P-2'!H4","v":12345}]
[{"$f":"'P-2'!A5:H5","v":"2202 -सामान्य शिक्षा-02-109 -राजकीय माध्यमिक विद्यालय-07 -राष्ट्रीय माध्यमिक शिक्षा अभियान-01 -माध्यमिक शिक्षा अभियान- सामान्य व्यय (S.F. + C.A.)"}]
["dza0la0","ys[kksa dk 'kh\"kZ nh?kZ 'kh\"kZ@ minh?kZ 'kh\"kZ@y/kq 'kh\"kZ@mi'kh\"kZ","jkT; fuf/k@dsUnzh; lgk;rk","dk;kZy; dk uke","inuke","foHkkxh;",null,"fdjk;s ij fy, x, dEI;wVlZ dh la[;k"]
[{"$nulls":5},"dEI;wVlZ ¼la[;k½","fçaVj ¼la[;k½","e'khu fon esu","dsoy e'khu","okf\"kZd foRrh; Hkkj ¼:- lgL=ksa esa½"]
[1,2,3,4,5,6,7,8,9,10]
[1,{"$f":"'P-2'!B9","v":"2202 -सामान्य शिक्षा-02-109 -राजकीय माध्यमिक विद्यालय-07 -राष्ट्रीय माध्यमिक शिक्षा अभियान-01 -माध्यमिक शिक्षा अभियान- सामान्य व्यय (S.F. + C.A.)"},{"$f":"'P-2'!C9","v":"jkT; fuf/k"},{"$f":"'P-2'!D9","v":"jkmekfo jk;eyok³k"},{"$f":"'P-2'!E9","v":"ç/kkukpk;Z]"},0,0,0,0,0]
["izekf.kr fd;k tkrk gS fd inksa ds lanHkZ esa mi;qZä lwpuk dh esjs }kjk O;fäxr :i ls tkap dj yh xbZ gS\n vkSj bls lgh ik;k x;k gSA"]
[{"$nulls":7},{"$f":"'P-2'!F11","v":"ç/kkukpk;Z] jkmekfo jk;eyok³k ¼vkWfQl vkbZ-Mh- la[;k %&12345½"}]

{"sheet":"P 4(A)","index":21,"n_rows":12,"n_cols":12,"rows_kept":12,"merged":[[0,0,0,11],[0,12,11,12],[1,0,1,11],[2,0,2,11],[3,0,3,3],[3,4,3,8],[3,9,3,10],[4,0,4,11],[5,0,7,0],[5,1,7,1],[5,2,7,2],[5,3,7,3],[5,4,7,4],[5,5,5,11],[6,5,6,9],[6,10,6,11],[10,0,10,11],[11,0,11,4],[11,5,11,9],[11,10,11,11]]}
[{"$f":"'P-2'!A1:H1","v":"ç/kkukpk;Z] jkmekfo jk;eyok³k ¼vkWfQl vkbZ-Mh- la[;k %&12345½"}]
["çi=&4 ¼v½"]
["foHkkx esa miyC/k okguksa dh lwph"]
[{"$f":"'P-2'!A4:E4","v":"Budget Head:-2202-02-109-(07)-(01) (STATE FUND+CENTRAL ASS.)"},{"$nulls":3},{"$f":"'P 3'!D4","v":"vk; dk foLr`r ctV vuqeku foÙkh; o\"kZ  ¼ 1 vizSy ls 31 ekpZ rd ½ dk"},{"$nulls":4},"vkWfQl vkbZMh%&",null,{"$f":"Master!E3","v":12345}]
[{"$f":"'P-2'!A5:H5","v":"2202 -सामान्य शिक्षा-02-109 -राजकीय माध्यमिक विद्यालय-07 -राष्ट्रीय माध्यमिक शिक्षा अभियान-01 -माध्यमिक शिक्षा अभियान- सामान्य व्यय (S.F. + C.A.)"}]
["dza0la0","ys[kksa dk 'kh\"kZ nh?kZ 'kh\"kZ@ minh?kZ 'kh\"kZ@y/kq 'kh\"kZ@mi'kh\"kZ","jkT; fuf/k@dsUnzh; lgk;rk","dk;kZy; dk uke","inuke","okguksa dk fooj.k"]
[{"$nulls":5},"foHkkxh; okgu",{"$nulls":4},"fdjk;s ij fy, x, okgu"]
[{"$nulls":5},"okgu dk çdkj&thi@ dj@vU;","okgu la[;k","Ø; dk o\"kZ","31-08-2023 rd fdyksehVj pkyu","jftLVªs'ku la[;k","la[;k","fiNys o\"kZ esa O;; dh xbZ jkf'k"]
[1,2,3,4,5,6,7,8,9,10,11,12]
[1,{"$f":"'P-2'!B9","v":"2202 -सामान्य शिक्षा-02-109 -राजकीय माध्यमिक विद्यालय-07 -राष्ट्रीय माध्यमिक शिक्षा अभियान-01 -माध्यमिक शिक्षा अभियान- सामान्य व्यय (S.F. + C.A.)"},{"$f":"'P-2'!C9","v":"jkT; fuf/k"},{"$f":"'P-2'!D9","v":"jkmekfo jk;eyok³k"},{"$f":"'P-2'!E9","v":"ç/kkukpk;Z]"},0,0,0,0,null,0,0]
["izekf.kr fd;k tkrk gS fd inksa ds lanHkZ esa mi;qZä lwpuk dh esjs }kjk O;fäxr :i ls tkap dj yh xbZ gS\n vkSj bls lgh ik;k x;k gSA"]
[{"$nulls":5},{"$f":"'P 3'!E11","v":0},{"$nulls":4},{"$f":"'P 3'!H11","v":"ç/kkukpk;Z] jkmekfo jk;eyok³k ¼vkWfQl vkbZ-Mh- la[;k %&12345½"}]

{"sheet":"(1) Prapatra kh","index":22,"n_rows":17,"n_cols":12,"rows_kept":17,"hidden":true,"merged":[[0,7,0,8],[1,0,1,8],[2,0,2,8],[3,0,3,8],[4,0,6,0],[4,1,4,4],[4,5,4,8],[5,1,5,2],[5,3,5,4],[5,5,5,6],[5,7,5,8],[15,7,15,8],[16,7,18,8]]}
[{"$nulls":7},{"$f":"Summary!$C$1","v":{"v":12345,"d":"OFFICE ID 12345"}}]
[{"$f":"Summary!$A$2","v":"ç/kkukpk;Z] jkmekfo jk;eyok³k ¼vkWfQl vkbZ-Mh- la[;k %&12345½"}]
["vk; izi=k &1 ¼[k½"]
["vk; O;;d vuqeku l= 2019&2020 ,oa la'kksf/kr l= 2018&2019"]
["fooj.k","izos'k 'kqYd @ 10/-",{"$nulls":3},"LFkkukUrj.k 'kqYd @ 5/-"]
[null,"o\"kZ 2019&20 dk la'kksf/kr",null,"o\"kZ 2020&21 dk vuqekfur",null,"o\"kZ 2019&20 dk la'kksf/kr",null,"o\"kZ 2020&21 dk vuqekfur"]
[null,"Nk=k la[;k","jkf'k","Nk=k la[;k","jkf'k","Nk=k la[;k","jkf'k","Nk=k la[;k","jkf'k",null,"RE","BE"]
["d{kk 9",{"$f":"Master!D50","v":0},{"$f":"B8*10","v":0},{"$f":"Master!I50","v":0},{"$f":"D8*10","v":0},{"$f":"Master!F50","v":0},{"$f":"F8*5","v":0},{"$f":"Master!K50","v":0},{"$f":"H8*5","v":0},null,{"$f":"C8+G8","v":0},{"$f":"E8+I8","v":0}]
["d{kk 10",{"$f":"Master!D51","v":0},{"$f":"B9*10","v":0},{"$f":"Master!I51","v":0},{"$f":"D9*10","v":0},{"$f":"Master!F51","v":0},{"$f":"F9*5","v":0},{"$f":"Master!K51","v":0},{"$f":"H9*5","v":0},null,{"$f":"C9+G9","v":0},{"$f":"E9+I9","v":0}]
["d{kk 11",{"$f":"Master!D52","v":0},{"$f":"B10*10","v":0},{"$f":"Master!I52","v":0},{"$f":"D10*10","v":0},{"$f":"Master!F52","v":0},{"$f":"F10*5","v":0},{"$f":"Master!K52","v":0},{"$f":"H10*5","v":0},null,{"$f":"C10+G10","v":0},{"$f":"E10+I10","v":0}]
["d{kk 12",{"$f":"Master!D53","v":0},{"$f":"B11*10","v":0},{"$f":"Master!I53","v":0},{"$f":"D11*10","v":0},{"$f":"Master!F53","v":0},{"$f":"F11*5","v":0},{"$f":"Master!K53","v":0},{"$f":"H11*5","v":0},null,{"$f":"C11+G11","v":0},{"$f":"E11+I11","v":0}]
["dqy ;ksx",{"$f":"SUM(B8:B11)","v":0},0,0,0,0,0,0,0,null,{"$f":"SUM(K8:K11)","v":0},{"$f":"SUM(L8:L11)","v":0}]
[]
[]
[]
[{"$nulls":7},{"$f":"Master!E2","v":"ç/kkukpk;Z]"}]
[{"$nulls":7},{"$f":"Master!F2","v":0}]

{"sheet":"Pending TA-Med List","index":23,"n_rows":53,"n_cols":18,"rows_kept":53,"merged":[[0,6,0,8],[0,15,0,17],[0,18,53,18],[1,0,1,8],[1,9,1,17],[2,0,2,8],[2,9,2,17],[3,0,3,8],[3,9,3,17],[4,0,4,8],[4,9,4,17],[5,0,6,0],[5,1,6,1],[5,8,6,8],[5,9,6,9],[5,10,6,10],[5,17,6,17],[51,5,51,8],[51,14,51,17],[52,5,54,8],[52,14,54,17]]}
[{"$nulls":6},{"$f":"Summary!$C$1","v":{"v":12345,"d":"OFFICE ID 12345"}},{"$nulls":8},{"$f":"Summary!$C$1","v":{"v":12345,"d":"OFFICE ID 12345"}}]
["GOVERNMENT OF RAJASTHAN ",{"$nulls":8},"GOVERNMENT OF RAJASTHAN "]
[{"$f":"Summary!$A$3","v":"Principal Govt. Sr. Sec. School Raimalwada"},{"$nulls":8},{"$f":"Summary!$A$3","v":"Principal Govt. Sr. Sec. School Raimalwada"}]
["L I S T   O F   P E N D I N G   T. A.   C L A I M S   FOR FY 2023-24",{"$nulls":8},"L I S T   O F   P E N D I N G   M E D I C A L   C L A I M S   FOR FY 2023-24"]
[{"$f":"Summary!A5","v":"BUDGET HEAD : 2202 -सामान्य शिक्षा-02-109 -राजकीय माध्यमिक विद्यालय-07 -राष्ट्रीय माध्यमिक शिक्षा अभियान-01 -माध्यमिक शिक्षा अभियान- सामान्य व्यय (S.F. + C.A.)"},{"$nulls":8},{"$f":"Summary!A5","v":"BUDGET HEAD : 2202 -सामान्य शिक्षा-02-109 -राजकीय माध्यमिक विद्यालय-07 -राष्ट्रीय माध्यमिक शिक्षा अभियान-01 -माध्यमिक शिक्षा अभियान- सामान्य व्यय (S.F. + C.A.)"}]
["S.No.","NAME OF EMPLOYEE","UP TO","FY","FY","FY","FY","FY","TOTAL","S.No.","NAME OF EMPLOYEE","UP TO","FY","FY","FY","FY","FY","TOTAL"]
[null,null,{"$f":"Master!G288","v":"2019-03-31"},{"$f":"Master!H288","v":"2019-20"},{"$f":"Master!I288","v":"2020-21"},{"$f":"Master!J288","v":"2021-22"},{"$f":"Master!K288","v":"2022-23"},{"$f":"Master!L288","v":"2023-24"},{"$nulls":3},{"$f":"C7","v":"2019-03-31"},{"$f":"D7","v":"2019-20"},"2020-21","2021-22","2022-23","2023-24"]
[1,{"$f":"IF(Master!D289=\"\",\"\",Master!D289)","v":""},{"$f":"IF(Master!D289=\"\",\"\",Master!G289)","v":""},{"$f":"IF(Master!D289=\"\",\"\",Master!H289)","v":""},{"$f":"IF(Master!D289=\"\",\"\",Master!I289)","v":""},{"$f":"IF(Master!D289=\"\",\"\",Master!J289)","v":""},{"$f":"IF(Master!D289=\"\",\"\",Master!K289)","v":""},{"$f":"IF(Master!D289=\"\",\"\",Master!L289)","v":""},{"$f":"IF(AND(B8=\"\"),\"\",SUM(C8:H8))","v":""},1,{"$f":"IF(Master!D333=\"\",\"\",Master!D333)","v":""},{"$f":"IF(Master!$D333=\"\",\"\",Master!G333)","v":""},{"$f":"IF(Master!$D333=\"\",\"\",Master!H333)","v":""},{"$f":"IF(Master!$D333=\"\",\"\",Master!I333)","v":""},{"$f":"IF(Master!$D333=\"\",\"\",Master!J333)","v":""},{"$f":"IF(Master!$D333=\"\",\"\",Master!K333)","v":""},{"$f":"IF(Master!$D333=\"\",\"\",Master!L333)","v":""},{"$f":"IF(AND(K8=\"\"),\"\",SUM(L8:Q8))","v":""}]
[2,{"$f":"IF(Master!D290=\"\",\"\",Master!D290)","v":""},{"$f":"IF(Master!D290=\"\",\"\",Master!G290)","v":""},{"$f":"IF(Master!D290=\"\",\"\",Master!H290)","v":""},{"$f":"IF(Master!D290=\"\",\"\",Master!I290)","v":""},{"$f":"IF(Master!D290=\"\",\"\",Master!J290)","v":""},{"$f":"IF(Master!D290=\"\",\"\",Master!K290)","v":""},{"$f":"IF(Master!D290=\"\",\"\",Master!L290)","v":""},{"$f":"IF(AND(B9=\"\"),\"\",SUM(C9:H9))","v":""},2,{"$f":"IF(Master!D334=\"\",\"\",Master!D334)","v":""},{"$f":"IF(Master!$D334=\"\",\"\",Master!G334)","v":""},{"$f":"IF(Master!$D334=\"\",\"\",Master!H334)","v":""},{"$f":"IF(Master!$D334=\"\",\"\",Master!I334)","v":""},{"$f":"IF(Master!$D334=\"\",\"\",Master!J334)","v":""},{"$f":"IF(Master!$D334=\"\",\"\",Master!K334)","v":""},{"$f":"IF(Master!$D334=\"\",\"\",Master!L334)","v":""},{"$f":"IF(AND(K9=\"\"),\"\",SUM(L9:Q9))","v":""}]
[3,{"$f":"IF(Master!D291=\"\",\"\",Master!D291)","v":""},{"$f":"IF(Master!D291=\"\",\"\",Master!G291)","v":""},{"$f":"IF(Master!D291=\"\",\"\",Master!H291)","v":""},{"$f":"IF(Master!D291=\"\",\"\",Master!I291)","v":""},{"$f":"IF(Master!D291=\"\",\"\",Master!J291)","v":""},{"$f":"IF(Master!D291=\"\",\"\",Master!K291)","v":""},{"$f":"IF(Master!D291=\"\",\"\",Master!L291)","v":""},"",3,{"$f":"IF(Master!D335=\"\",\"\",Master!D335)","v":""},{"$f":"IF(Master!$D335=\"\",\"\",Master!G335)","v":""},{"$f":"IF(Master!$D335=\"\",\"\",Master!H335)","v":""},{"$f":"IF(Master!$D335=\"\",\"\",Master!I335)","v":""},{"$f":"IF(Master!$D335=\"\",\"\",Master!J335)","v":""},{"$f":"IF(Master!$D335=\"\",\"\",Master!K335)","v":""},{"$f":"IF(Master!$D335=\"\",\"\",Master!L335)","v":""},""]
[4,{"$f":"IF(Master!D292=\"\",\"\",Master!D292)","v":""},{"$f":"IF(Master!D292=\"\",\"\",Master!G292)","v":""},{"$f":"IF(Master!D292=\"\",\"\",Master!H292)","v":""},{"$f":"IF(Master!D292=\"\",\"\",Master!I292)","v":""},{"$f":"IF(Master!D292=\"\",\"\",Master!J292)","v":""},{"$f":"IF(Master!D292=\"\",\"\",Master!K292)","v":""},{"$f":"IF(Master!D292=\"\",\"\",Master!L292)","v":""},"",4,{"$f":"IF(Master!D336=\"\",\"\",Master!D336)","v":""},{"$f":"IF(Master!$D336=\"\",\"\",Master!G336)","v":""},{"$f":"IF(Master!$D336=\"\",\"\",Master!H336)","v":""},{"$f":"IF(Master!$D336=\"\",\"\",Master!I336)","v":""},{"$f":"IF(Master!$D336=\"\",\"\",Master!J336)","v":""},{"$f":"IF(Master!$D336=\"\",\"\",Master!K336)","v":""},{"$f":"IF(Master!$D336=\"\",\"\",Master!L336)","v":""},""]
[5,{"$f":"IF(Master!D293=\"\",\"\",Master!D293)","v":""},{"$f":"IF(Master!D293=\"\",\"\",Master!G293)","v":""},{"$f":"IF(Master!D293=\"\",\"\",Master!H293)","v":""},{"$f":"IF(Master!D293=\"\",\"\",Master!I293)","v":""},{"$f":"IF(Master!D293=\"\",\"\",Master!J293)","v":""},{"$f":"IF(Master!D293=\"\",\"\",Master!K293)","v":""},{"$f":"IF(Master!D293=\"\",\"\",Master!L293)","v":""},"",5,{"$f":"IF(Master!D337=\"\",\"\",Master!D337)","v":""},{"$f":"IF(Master!$D337=\"\",\"\",Master!G337)","v":""},{"$f":"IF(Master!$D337=\"\",\"\",Master!H337)","v":""},{"$f":"IF(Master!$D337=\"\",\"\",Master!I337)","v":""},{"$f":"IF(Master!$D337=\"\",\"\",Master!J337)","v":""},{"$f":"IF(Master!$D337=\"\",\"\",Master!K337)","v":""},{"$f":"IF(Master!$D337=\"\",\"\",Master!L337)","v":""},""]
[6,{"$f":"IF(Master!D294=\"\",\"\",Master!D294)","v":""},{"$f":"IF(Master!D294=\"\",\"\",Master!G294)","v":""},{"$f":"IF(Master!D294=\"\",\"\",Master!H294)","v":""},{"$f":"IF(Master!D294=\"\",\"\",Master!I294)","v":""},{"$f":"IF(Master!D294=\"\",\"\",Master!J294)","v":""},{"$f":"IF(Master!D294=\"\",\"\",Master!K294)","v":""},{"$f":"IF(Master!D294=\"\",\"\",Master!L294)","v":""},"",6,{"$f":"IF(Master!D338=\"\",\"\",Master!D338)","v":""},{"$f":"IF(Master!$D338=\"\",\"\",Master!G338)","v":""},{"$f":"IF(Master!$D338=\"\",\"\",Master!H338)","v":""},{"$f":"IF(Master!$D338=\"\",\"\",Master!I338)","v":""},{"$f":"IF(Master!$D338=\"\",\"\",Master!J338)","v":""},{"$f":"IF(Master!$D338=\"\",\"\",Master!K338)","v":""},{"$f":"IF(Master!$D338=\"\",\"\",Master!L338)","v":""},""]
[7,{"$f":"IF(Master!D295=\"\",\"\",Master!D295)","v":""},{"$f":"IF(Master!D295=\"\",\"\",Master!G295)","v":""},{"$f":"IF(Master!D295=\"\",\"\",Master!H295)","v":""},{"$f":"IF(Master!D295=\"\",\"\",Master!I295)","v":""},{"$f":"IF(Master!D295=\"\",\"\",Master!J295)","v":""},{"$f":"IF(Master!D295=\"\",\"\",Master!K295)","v":""},{"$f":"IF(Master!D295=\"\",\"\",Master!L295)","v":""},"",7,{"$f":"IF(Master!D339=\"\",\"\",Master!D339)","v":""},{"$f":"IF(Master!$D339=\"\",\"\",Master!G339)","v":""},{"$f":"IF(Master!$D339=\"\",\"\",Master!H339)","v":""},{"$f":"IF(Master!$D339=\"\",\"\",Master!I339)","v":""},{"$f":"IF(Master!$D339=\"\",\"\",Master!J339)","v":""},{"$f":"IF(Master!$D339=\"\",\"\",Master!K339)","v":""},{"$f":"IF(Master!$D339=\"\",\"\",Master!L339)","v":""},""]
[8,{"$f":"IF(Master!D296=\"\",\"\",Master!D296)","v":""},{"$f":"IF(Master!D296=\"\",\"\",Master!G296)","v":""},{"$f":"IF(Master!D296=\"\",\"\",Master!H296)","v":""},{"$f":"IF(Master!D296=\"\",\"\",Master!I296)","v":""},{"$f":"IF(Master!D296=\"\",\"\",Master!J296)","v":""},{"$f":"IF(Master!D296=\"\",\"\",Master!K296)","v":""},{"$f":"IF(Master!D296=\"\",\"\",Master!L296)","v":""},"",8,{"$f":"IF(Master!D340=\"\",\"\",Master!D340)","v":""},{"$f":"IF(Master!$D340=\"\",\"\",Master!G340)","v":""},{"$f":"IF(Master!$D340=\"\",\"\",Master!H340)","v":""},{"$f":"IF(Master!$D340=\"\",\"\",Master!I340)","v":""},{"$f":"IF(Master!$D340=\"\",\"\",Master!J340)","v":""},{"$f":"IF(Master!$D340=\"\",\"\",Master!K340)","v":""},{"$f":"IF(Master!$D340=\"\",\"\",Master!L340)","v":""},""]
[9,{"$f":"IF(Master!D297=\"\",\"\",Master!D297)","v":""},{"$f":"IF(Master!D297=\"\",\"\",Master!G297)","v":""},{"$f":"IF(Master!D297=\"\",\"\",Master!H297)","v":""},{"$f":"IF(Master!D297=\"\",\"\",Master!I297)","v":""},{"$f":"IF(Master!D297=\"\",\"\",Master!J297)","v":""},{"$f":"IF(Master!D297=\"\",\"\",Master!K297)","v":""},{"$f":"IF(Master!D297=\"\",\"\",Master!L297)","v":""},"",9,{"$f":"IF(Master!D341=\"\",\"\",Master!D341)","v":""},{"$f":"IF(Master!$D341=\"\",\"\",Master!G341)","v":""},{"$f":"IF(Master!$D341=\"\",\"\",Master!H341)","v":""},{"$f":"IF(Master!$D341=\"\",\"\",Master!I341)","v":""},{"$f":"IF(Master!$D341=\"\",\"\",Master!J341)","v":""},{"$f":"IF(Master!$D341=\"\",\"\",Master!K341)","v":""},{"$f":"IF(Master!$D341=\"\",\"\",Master!L341)","v":""},""]
[10,{"$f":"IF(Master!D298=\"\",\"\",Master!D298)","v":""},{"$f":"IF(Master!D298=\"\",\"\",Master!G298)","v":""},{"$f":"IF(Master!D298=\"\",\"\",Master!H298)","v":""},{"$f":"IF(Master!D298=\"\",\"\",Master!I298)","v":""},{"$f":"IF(Master!D298=\"\",\"\",Master!J298)","v":""},{"$f":"IF(Master!D298=\"\",\"\",Master!K298)","v":""},{"$f":"IF(Master!D298=\"\",\"\",Master!L298)","v":""},"",10,{"$f":"IF(Master!D342=\"\",\"\",Master!D342)","v":""},{"$f":"IF(Master!$D342=\"\",\"\",Master!G342)","v":""},{"$f":"IF(Master!$D342=\"\",\"\",Master!H342)","v":""},{"$f":"IF(Master!$D342=\"\",\"\",Master!I342)","v":""},{"$f":"IF(Master!$D342=\"\",\"\",Master!J342)","v":""},{"$f":"IF(Master!$D342=\"\",\"\",Master!K342)","v":""},{"$f":"IF(Master!$D342=\"\",\"\",Master!L342)","v":""},""]
[11,{"$f":"IF(Master!D299=\"\",\"\",Master!D299)","v":""},{"$f":"IF(Master!D299=\"\",\"\",Master!G299)","v":""},{"$f":"IF(Master!D299=\"\",\"\",Master!H299)","v":""},{"$f":"IF(Master!D299=\"\",\"\",Master!I299)","v":""},{"$f":"IF(Master!D299=\"\",\"\",Master!J299)","v":""},{"$f":"IF(Master!D299=\"\",\"\",Master!K299)","v":""},{"$f":"IF(Master!D299=\"\",\"\",Master!L299)","v":""},"",11,{"$f":"IF(Master!D343=\"\",\"\",Master!D343)","v":""},{"$f":"IF(Master!$D343=\"\",\"\",Master!G343)","v":""},{"$f":"IF(Master!$D343=\"\",\"\",Master!H343)","v":""},{"$f":"IF(Master!$D343=\"\",\"\",Master!I343)","v":""},{"$f":"IF(Master!$D343=\"\",\"\",Master!J343)","v":""},{"$f":"IF(Master!$D343=\"\",\"\",Master!K343)","v":""},{"$f":"IF(Master!$D343=\"\",\"\",Master!L343)","v":""},""]
[12,{"$f":"IF(Master!D300=\"\",\"\",Master!D300)","v":""},{"$f":"IF(Master!D300=\"\",\"\",Master!G300)","v":""},{"$f":"IF(Master!D300=\"\",\"\",Master!H300)","v":""},{"$f":"IF(Master!D300=\"\",\"\",Master!I300)","v":""},{"$f":"IF(Master!D300=\"\",\"\",Master!J300)","v":""},{"$f":"IF(Master!D300=\"\",\"\",Master!K300)","v":""},{"$f":"IF(Master!D300=\"\",\"\",Master!L300)","v":""},"",12,{"$f":"IF(Master!D344=\"\",\"\",Master!D344)","v":""},{"$f":"IF(Master!$D344=\"\",\"\",Master!G344)","v":""},{"$f":"IF(Master!$D344=\"\",\"\",Master!H344)","v":""},{"$f":"IF(Master!$D344=\"\",\"\",Master!I344)","v":""},{"$f":"IF(Master!$D344=\"\",\"\",Master!J344)","v":""},{"$f":"IF(Master!$D344=\"\",\"\",Master!K344)","v":""},{"$f":"IF(Master!$D344=\"\",\"\",Master!L344)","v":""},""]
[13,{"$f":"IF(Master!D301=\"\",\"\",Master!D301)","v":""},{"$f":"IF(Master!D301=\"\",\"\",Master!G301)","v":""},{"$f":"IF(Master!D301=\"\",\"\",Master!H301)","v":""},{"$f":"IF(Master!D301=\"\",\"\",Master!I301)","v":""},{"$f":"IF(Master!D301=\"\",\"\",Master!J301)","v":""},{"$f":"IF(Master!D301=\"\",\"\",Master!K301)","v":""},{"$f":"IF(Master!D301=\"\",\"\",Master!L301)","v":""},"",13,{"$f":"IF(Master!D345=\"\",\"\",Master!D345)","v":""},{"$f":"IF(Master!$D345=\"\",\"\",Master!G345)","v":""},{"$f":"IF(Master!$D345=\"\",\"\",Master!H345)","v":""},{"$f":"IF(Master!$D345=\"\",\"\",Master!I345)","v":""},{"$f":"IF(Master!$D345=\"\",\"\",Master!J345)","v":""},{"$f":"IF(Master!$D345=\"\",\"\",Master!K345)","v":""},{"$f":"IF(Master!$D345=\"\",\"\",Master!L345)","v":""},""]
[14,{"$f":"IF(Master!D302=\"\",\"\",Master!D302)","v":""},{"$f":"IF(Master!D302=\"\",\"\",Master!G302)","v":""},{"$f":"IF(Master!D302=\"\",\"\",Master!H302)","v":""},{"$f":"IF(Master!D302=\"\",\"\",Master!I302)","v":""},{"$f":"IF(Master!D302=\"\",\"\",Master!J302)","v":""},{"$f":"IF(Master!D302=\"\",\"\",Master!K302)","v":""},{"$f":"IF(Master!D302=\"\",\"\",Master!L302)","v":""},"",14,{"$f":"IF(Master!D346=\"\",\"\",Master!D346)","v":""},{"$f":"IF(Master!$D346=\"\",\"\",Master!G346)","v":""},{"$f":"IF(Master!$D346=\"\",\"\",Master!H346)","v":""},{"$f":"IF(Master!$D346=\"\",\"\",Master!I346)","v":""},{"$f":"IF(Master!$D346=\"\",\"\",Master!J346)","v":""},{"$f":"IF(Master!$D346=\"\",\"\",Master!K346)","v":""},{"$f":"IF(Master!$D346=\"\",\"\",Master!L346)","v":""},""]
[15,{"$f":"IF(Master!D303=\"\",\"\",Master!D303)","v":""},{"$f":"IF(Master!D303=\"\",\"\",Master!G303)","v":""},{"$f":"IF(Master!D303=\"\",\"\",Master!H303)","v":""},{"$f":"IF(Master!D303=\"\",\"\",Master!I303)","v":""},{"$f":"IF(Master!D303=\"\",\"\",Master!J303)","v":""},{"$f":"IF(Master!D303=\"\",\"\",Master!K303)","v":""},{"$f":"IF(Master!D303=\"\",\"\",Master!L303)","v":""},"",15,{"$f":"IF(Master!D347=\"\",\"\",Master!D347)","v":""},{"$f":"IF(Master!$D347=\"\",\"\",Master!G347)","v":""},{"$f":"IF(Master!$D347=\"\",\"\",Master!H347)","v":""},{"$f":"IF(Master!$D347=\"\",\"\",Master!I347)","v":""},{"$f":"IF(Master!$D347=\"\",\"\",Master!J347)","v":""},{"$f":"IF(Master!$D347=\"\",\"\",Master!K347)","v":""},{"$f":"IF(Master!$D347=\"\",\"\",Master!L347)","v":""},""]
[16,{"$f":"IF(Master!D304=\"\",\"\",Master!D304)","v":""},{"$f":"IF(Master!D304=\"\",\"\",Master!G304)","v":""},{"$f":"IF(Master!D304=\"\",\"\",Master!H304)","v":""},{"$f":"IF(Master!D304=\"\",\"\",Master!I304)","v":""},{"$f":"IF(Master!D304=\"\",\"\",Master!J304)","v":""},{"$f":"IF(Master!D304=\"\",\"\",Master!K304)","v":""},{"$f":"IF(Master!D304=\"\",\"\",Master!L304)","v":""},"",16,{"$f":"IF(Master!D348=\"\",\"\",Master!D348)","v":""},{"$f":"IF(Master!$D348=\"\",\"\",Master!G348)","v":""},{"$f":"IF(Master!$D348=\"\",\"\",Master!H348)","v":""},{"$f":"IF(Master!$D348=\"\",\"\",Master!I348)","v":""},{"$f":"IF(Master!$D348=\"\",\"\",Master!J348)","v":""},{"$f":"IF(Master!$D348=\"\",\"\",Master!K348)","v":""},{"$f":"IF(Master!$D348=\"\",\"\",Master!L348)","v":""},""]
[17,{"$f":"IF(Master!D305=\"\",\"\",Master!D305)","v":""},{"$f":"IF(Master!D305=\"\",\"\",Master!G305)","v":""},{"$f":"IF(Master!D305=\"\",\"\",Master!H305)","v":""},{"$f":"IF(Master!D305=\"\",\"\",Master!I305)","v":""},{"$f":"IF(Master!D305=\"\",\"\",Master!J305)","v":""},{"$f":"IF(Master!D305=\"\",\"\",Master!K305)","v":""},{"$f":"IF(Master!D305=\"\",\"\",Master!L305)","v":""},"",17,{"$f":"IF(Master!D349=\"\",\"\",Master!D349)","v":""},{"$f":"IF(Master!$D349=\"\",\"\",Master!G349)","v":""},{"$f":"IF(Master!$D349=\"\",\"\",Master!H349)","v":""},{"$f":"IF(Master!$D349=\"\",\"\",Master!I349)","v":""},{"$f":"IF(Master!$D349=\"\",\"\",Master!J349)","v":""},{"$f":"IF(Master!$D349=\"\",\"\",Master!K349)","v":""},{"$f":"IF(Master!$D349=\"\",\"\",Master!L349)","v":""},""]
[18,{"$f":"IF(Master!D306=\"\",\"\",Master!D306)","v":""},{"$f":"IF(Master!D306=\"\",\"\",Master!G306)","v":""},{"$f":"IF(Master!D306=\"\",\"\",Master!H306)","v":""},{"$f":"IF(Master!D306=\"\",\"\",Master!I306)","v":""},{"$f":"IF(Master!D306=\"\",\"\",Master!J306)","v":""},{"$f":"IF(Master!D306=\"\",\"\",Master!K306)","v":""},{"$f":"IF(Master!D306=\"\",\"\",Master!L306)","v":""},"",18,{"$f":"IF(Master!D350=\"\",\"\",Master!D350)","v":""},{"$f":"IF(Master!$D350=\"\",\"\",Master!G350)","v":""},{"$f":"IF(Master!$D350=\"\",\"\",Master!H350)","v":""},{"$f":"IF(Master!$D350=\"\",\"\",Master!I350)","v":""},{"$f":"IF(Master!$D350=\"\",\"\",Master!J350)","v":""},{"$f":"IF(Master!$D350=\"\",\"\",Master!K350)","v":""},{"$f":"IF(Master!$D350=\"\",\"\",Master!L350)","v":""},""]
[19,{"$f":"IF(Master!D307=\"\",\"\",Master!D307)","v":""},{"$f":"IF(Master!D307=\"\",\"\",Master!G307)","v":""},{"$f":"IF(Master!D307=\"\",\"\",Master!H307)","v":""},{"$f":"IF(Master!D307=\"\",\"\",Master!I307)","v":""},{"$f":"IF(Master!D307=\"\",\"\",Master!J307)","v":""},{"$f":"IF(Master!D307=\"\",\"\",Master!K307)","v":""},{"$f":"IF(Master!D307=\"\",\"\",Master!L307)","v":""},"",19,{"$f":"IF(Master!D351=\"\",\"\",Master!D351)","v":""},{"$f":"IF(Master!$D351=\"\",\"\",Master!G351)","v":""},{"$f":"IF(Master!$D351=\"\",\"\",Master!H351)","v":""},{"$f":"IF(Master!$D351=\"\",\"\",Master!I351)","v":""},{"$f":"IF(Master!$D351=\"\",\"\",Master!J351)","v":""},{"$f":"IF(Master!$D351=\"\",\"\",Master!K351)","v":""},{"$f":"IF(Master!$D351=\"\",\"\",Master!L351)","v":""},""]
[20,{"$f":"IF(Master!D308=\"\",\"\",Master!D308)","v":""},{"$f":"IF(Master!D308=\"\",\"\",Master!G308)","v":""},{"$f":"IF(Master!D308=\"\",\"\",Master!H308)","v":""},{"$f":"IF(Master!D308=\"\",\"\",Master!I308)","v":""},{"$f":"IF(Master!D308=\"\",\"\",Master!J308)","v":""},{"$f":"IF(Master!D308=\"\",\"\",Master!K308)","v":""},{"$f":"IF(Master!D308=\"\",\"\",Master!L308)","v":""},"",20,{"$f":"IF(Master!D352=\"\",\"\",Master!D352)","v":""},{"$f":"IF(Master!$D352=\"\",\"\",Master!G352)","v":""},{"$f":"IF(Master!$D352=\"\",\"\",Master!H352)","v":""},{"$f":"IF(Master!$D352=\"\",\"\",Master!I352)","v":""},{"$f":"IF(Master!$D352=\"\",\"\",Master!J352)","v":""},{"$f":"IF(Master!$D352=\"\",\"\",Master!K352)","v":""},{"$f":"IF(Master!$D352=\"\",\"\",Master!L352)","v":""},""]
[21,{"$f":"IF(Master!D309=\"\",\"\",Master!D309)","v":""},{"$f":"IF(Master!D309=\"\",\"\",Master!G309)","v":""},{"$f":"IF(Master!D309=\"\",\"\",Master!H309)","v":""},{"$f":"IF(Master!D309=\"\",\"\",Master!I309)","v":""},{"$f":"IF(Master!D309=\"\",\"\",Master!J309)","v":""},{"$f":"IF(Master!D309=\"\",\"\",Master!K309)","v":""},{"$f":"IF(Master!D309=\"\",\"\",Master!L309)","v":""},"",21,{"$f":"IF(Master!D353=\"\",\"\",Master!D353)","v":""},{"$f":"IF(Master!$D353=\"\",\"\",Master!G353)","v":""},{"$f":"IF(Master!$D353=\"\",\"\",Master!H353)","v":""},{"$f":"IF(Master!$D353=\"\",\"\",Master!I353)","v":""},{"$f":"IF(Master!$D353=\"\",\"\",Master!J353)","v":""},{"$f":"IF(Master!$D353=\"\",\"\",Master!K353)","v":""},{"$f":"IF(Master!$D353=\"\",\"\",Master!L353)","v":""},""]
[22,{"$f":"IF(Master!D310=\"\",\"\",Master!D310)","v":""},{"$f":"IF(Master!D310=\"\",\"\",Master!G310)","v":""},{"$f":"IF(Master!D310=\"\",\"\",Master!H310)","v":""},{"$f":"IF(Master!D310=\"\",\"\",Master!I310)","v":""},{"$f":"IF(Master!D310=\"\",\"\",Master!J310)","v":""},{"$f":"IF(Master!D310=\"\",\"\",Master!K310)","v":""},{"$f":"IF(Master!D310=\"\",\"\",Master!L310)","v":""},"",22,{"$f":"IF(Master!D354=\"\",\"\",Master!D354)","v":""},{"$f":"IF(Master!$D354=\"\",\"\",Master!G354)","v":""},{"$f":"IF(Master!$D354=\"\",\"\",Master!H354)","v":""},{"$f":"IF(Master!$D354=\"\",\"\",Master!I354)","v":""},{"$f":"IF(Master!$D354=\"\",\"\",Master!J354)","v":""},{"$f":"IF(Master!$D354=\"\",\"\",Master!K354)","v":""},{"$f":"IF(Master!$D354=\"\",\"\",Master!L354)","v":""},""]
[23,{"$f":"IF(Master!D311=\"\",\"\",Master!D311)","v":""},{"$f":"IF(Master!D311=\"\",\"\",Master!G311)","v":""},{"$f":"IF(Master!D311=\"\",\"\",Master!H311)","v":""},{"$f":"IF(Master!D311=\"\",\"\",Master!I311)","v":""},{"$f":"IF(Master!D311=\"\",\"\",Master!J311)","v":""},{"$f":"IF(Master!D311=\"\",\"\",Master!K311)","v":""},{"$f":"IF(Master!D311=\"\",\"\",Master!L311)","v":""},"",23,{"$f":"IF(Master!D355=\"\",\"\",Master!D355)","v":""},{"$f":"IF(Master!$D355=\"\",\"\",Master!G355)","v":""},{"$f":"IF(Master!$D355=\"\",\"\",Master!H355)","v":""},{"$f":"IF(Master!$D355=\"\",\"\",Master!I355)","v":""},{"$f":"IF(Master!$D355=\"\",\"\",Master!J355)","v":""},{"$f":"IF(Master!$D355=\"\",\"\",Master!K355)","v":""},{"$f":"IF(Master!$D355=\"\",\"\",Master!L355)","v":""},""]
[24,{"$f":"IF(Master!D312=\"\",\"\",Master!D312)","v":""},{"$f":"IF(Master!D312=\"\",\"\",Master!G312)","v":""},{"$f":"IF(Master!D312=\"\",\"\",Master!H312)","v":""},{"$f":"IF(Master!D312=\"\",\"\",Master!I312)","v":""},{"$f":"IF(Master!D312=\"\",\"\",Master!J312)","v":""},{"$f":"IF(Master!D312=\"\",\"\",Master!K312)","v":""},{"$f":"IF(Master!D312=\"\",\"\",Master!L312)","v":""},"",24,{"$f":"IF(Master!D356=\"\",\"\",Master!D356)","v":""},{"$f":"IF(Master!$D356=\"\",\"\",Master!G356)","v":""},{"$f":"IF(Master!$D356=\"\",\"\",Master!H356)","v":""},{"$f":"IF(Master!$D356=\"\",\"\",Master!I356)","v":""},{"$f":"IF(Master!$D356=\"\",\"\",Master!J356)","v":""},{"$f":"IF(Master!$D356=\"\",\"\",Master!K356)","v":""},{"$f":"IF(Master!$D356=\"\",\"\",Master!L356)","v":""},""]
[25,{"$f":"IF(Master!D313=\"\",\"\",Master!D313)","v":""},{"$f":"IF(Master!D313=\"\",\"\",Master!G313)","v":""},{"$f":"IF(Master!D313=\"\",\"\",Master!H313)","v":""},{"$f":"IF(Master!D313=\"\",\"\",Master!I313)","v":""},{"$f":"IF(Master!D313=\"\",\"\",Master!J313)","v":""},{"$f":"IF(Master!D313=\"\",\"\",Master!K313)","v":""},{"$f":"IF(Master!D313=\"\",\"\",Master!L313)","v":""},"",25,{"$f":"IF(Master!D357=\"\",\"\",Master!D357)","v":""},{"$f":"IF(Master!$D357=\"\",\"\",Master!G357)","v":""},{"$f":"IF(Master!$D357=\"\",\"\",Master!H357)","v":""},{"$f":"IF(Master!$D357=\"\",\"\",Master!I357)","v":""},{"$f":"IF(Master!$D357=\"\",\"\",Master!J357)","v":""},{"$f":"IF(Master!$D357=\"\",\"\",Master!K357)","v":""},{"$f":"IF(Master!$D357=\"\",\"\",Master!L357)","v":""},""]
[26,{"$f":"IF(Master!D314=\"\",\"\",Master!D314)","v":""},{"$f":"IF(Master!D314=\"\",\"\",Master!G314)","v":""},{"$f":"IF(Master!D314=\"\",\"\",Master!H314)","v":""},{"$f":"IF(Master!D314=\"\",\"\",Master!I314)","v":""},{"$f":"IF(Master!D314=\"\",\"\",Master!J314)","v":""},{"$f":"IF(Master!D314=\"\",\"\",Master!K314)","v":""},{"$f":"IF(Master!D314=\"\",\"\",Master!L314)","v":""},"",26,{"$f":"IF(Master!D358=\"\",\"\",Master!D358)","v":""},{"$f":"IF(Master!$D358=\"\",\"\",Master!G358)","v":""},{"$f":"IF(Master!$D358=\"\",\"\",Master!H358)","v":""},{"$f":"IF(Master!$D358=\"\",\"\",Master!I358)","v":""},{"$f":"IF(Master!$D358=\"\",\"\",Master!J358)","v":""},{"$f":"IF(Master!$D358=\"\",\"\",Master!K358)","v":""},{"$f":"IF(Master!$D358=\"\",\"\",Master!L358)","v":""},""]
[27,{"$f":"IF(Master!D315=\"\",\"\",Master!D315)","v":""},{"$f":"IF(Master!D315=\"\",\"\",Master!G315)","v":""},{"$f":"IF(Master!D315=\"\",\"\",Master!H315)","v":""},{"$f":"IF(Master!D315=\"\",\"\",Master!I315)","v":""},{"$f":"IF(Master!D315=\"\",\"\",Master!J315)","v":""},{"$f":"IF(Master!D315=\"\",\"\",Master!K315)","v":""},{"$f":"IF(Master!D315=\"\",\"\",Master!L315)","v":""},"",27,{"$f":"IF(Master!D359=\"\",\"\",Master!D359)","v":""},{"$f":"IF(Master!$D359=\"\",\"\",Master!G359)","v":""},{"$f":"IF(Master!$D359=\"\",\"\",Master!H359)","v":""},{"$f":"IF(Master!$D359=\"\",\"\",Master!I359)","v":""},{"$f":"IF(Master!$D359=\"\",\"\",Master!J359)","v":""},{"$f":"IF(Master!$D359=\"\",\"\",Master!K359)","v":""},{"$f":"IF(Master!$D359=\"\",\"\",Master!L359)","v":""},""]
[28,{"$f":"IF(Master!D316=\"\",\"\",Master!D316)","v":""},{"$f":"IF(Master!D316=\"\",\"\",Master!G316)","v":""},{"$f":"IF(Master!D316=\"\",\"\",Master!H316)","v":""},{"$f":"IF(Master!D316=\"\",\"\",Master!I316)","v":""},{"$f":"IF(Master!D316=\"\",\"\",Master!J316)","v":""},{"$f":"IF(Master!D316=\"\",\"\",Master!K316)","v":""},{"$f":"IF(Master!D316=\"\",\"\",Master!L316)","v":""},"",28,{"$f":"IF(Master!D360=\"\",\"\",Master!D360)","v":""},{"$f":"IF(Master!$D360=\"\",\"\",Master!G360)","v":""},{"$f":"IF(Master!$D360=\"\",\"\",Master!H360)","v":""},{"$f":"IF(Master!$D360=\"\",\"\",Master!I360)","v":""},{"$f":"IF(Master!$D360=\"\",\"\",Master!J360)","v":""},{"$f":"IF(Master!$D360=\"\",\"\",Master!K360)","v":""},{"$f":"IF(Master!$D360=\"\",\"\",Master!L360)","v":""},""]
[29,{"$f":"IF(Master!D317=\"\",\"\",Master!D317)","v":""},{"$f":"IF(Master!D317=\"\",\"\",Master!G317)","v":""},{"$f":"IF(Master!D317=\"\",\"\",Master!H317)","v":""},{"$f":"IF(Master!D317=\"\",\"\",Master!I317)","v":""},{"$f":"IF(Master!D317=\"\",\"\",Master!J317)","v":""},{"$f":"IF(Master!D317=\"\",\"\",Master!K317)","v":""},{"$f":"IF(Master!D317=\"\",\"\",Master!L317)","v":""},"",29,{"$f":"IF(Master!D361=\"\",\"\",Master!D361)","v":""},{"$f":"IF(Master!$D361=\"\",\"\",Master!G361)","v":""},{"$f":"IF(Master!$D361=\"\",\"\",Master!H361)","v":""},{"$f":"IF(Master!$D361=\"\",\"\",Master!I361)","v":""},{"$f":"IF(Master!$D361=\"\",\"\",Master!J361)","v":""},{"$f":"IF(Master!$D361=\"\",\"\",Master!K361)","v":""},{"$f":"IF(Master!$D361=\"\",\"\",Master!L361)","v":""},""]
[30,{"$f":"IF(Master!D318=\"\",\"\",Master!D318)","v":""},{"$f":"IF(Master!D318=\"\",\"\",Master!G318)","v":""},{"$f":"IF(Master!D318=\"\",\"\",Master!H318)","v":""},{"$f":"IF(Master!D318=\"\",\"\",Master!I318)","v":""},{"$f":"IF(Master!D318=\"\",\"\",Master!J318)","v":""},{"$f":"IF(Master!D318=\"\",\"\",Master!K318)","v":""},{"$f":"IF(Master!D318=\"\",\"\",Master!L318)","v":""},"",30,{"$f":"IF(Master!D362=\"\",\"\",Master!D362)","v":""},{"$f":"IF(Master!$D362=\"\",\"\",Master!G362)","v":""},{"$f":"IF(Master!$D362=\"\",\"\",Master!H362)","v":""},{"$f":"IF(Master!$D362=\"\",\"\",Master!I362)","v":""},{"$f":"IF(Master!$D362=\"\",\"\",Master!J362)","v":""},{"$f":"IF(Master!$D362=\"\",\"\",Master!K362)","v":""},{"$f":"IF(Master!$D362=\"\",\"\",Master!L362)","v":""},""]
[31,{"$f":"IF(Master!D319=\"\",\"\",Master!D319)","v":""},{"$f":"IF(Master!D319=\"\",\"\",Master!G319)","v":""},{"$f":"IF(Master!D319=\"\",\"\",Master!H319)","v":""},{"$f":"IF(Master!D319=\"\",\"\",Master!I319)","v":""},{"$f":"IF(Master!D319=\"\",\"\",Master!J319)","v":""},{"$f":"IF(Master!D319=\"\",\"\",Master!K319)","v":""},{"$f":"IF(Master!D319=\"\",\"\",Master!L319)","v":""},"",31,{"$f":"IF(Master!D363=\"\",\"\",Master!D363)","v":""},{"$f":"IF(Master!$D363=\"\",\"\",Master!G363)","v":""},{"$f":"IF(Master!$D363=\"\",\"\",Master!H363)","v":""},{"$f":"IF(Master!$D363=\"\",\"\",Master!I363)","v":""},{"$f":"IF(Master!$D363=\"\",\"\",Master!J363)","v":""},{"$f":"IF(Master!$D363=\"\",\"\",Master!K363)","v":""},{"$f":"IF(Master!$D363=\"\",\"\",Master!L363)","v":""},""]
[32,{"$f":"IF(Master!D320=\"\",\"\",Master!D320)","v":""},{"$f":"IF(Master!D320=\"\",\"\",Master!G320)","v":""},{"$f":"IF(Master!D320=\"\",\"\",Master!H320)","v":""},{"$f":"IF(Master!D320=\"\",\"\",Master!I320)","v":""},{"$f":"IF(Master!D320=\"\",\"\",Master!J320)","v":""},{"$f":"IF(Master!D320=\"\",\"\",Master!K320)","v":""},{"$f":"IF(Master!D320=\"\",\"\",Master!L320)","v":""},"",32,{"$f":"IF(Master!D364=\"\",\"\",Master!D364)","v":""},{"$f":"IF(Master!$D364=\"\",\"\",Master!G364)","v":""},{"$f":"IF(Master!$D364=\"\",\"\",Master!H364)","v":""},{"$f":"IF(Master!$D364=\"\",\"\",Master!I364)","v":""},{"$f":"IF(Master!$D364=\"\",\"\",Master!J364)","v":""},{"$f":"IF(Master!$D364=\"\",\"\",Master!K364)","v":""},{"$f":"IF(Master!$D364=\"\",\"\",Master!L364)","v":""},""]
[33,{"$f":"IF(Master!D321=\"\",\"\",Master!D321)","v":""},{"$f":"IF(Master!D321=\"\",\"\",Master!G321)","v":""},{"$f":"IF(Master!D321=\"\",\"\",Master!H321)","v":""},{"$f":"IF(Master!D321=\"\",\"\",Master!I321)","v":""},{"$f":"IF(Master!D321=\"\",\"\",Master!J321)","v":""},{"$f":"IF(Master!D321=\"\",\"\",Master!K321)","v":""},{"$f":"IF(Master!D321=\"\",\"\",Master!L321)","v":""},"",33,{"$f":"IF(Master!D365=\"\",\"\",Master!D365)","v":""},{"$f":"IF(Master!$D365=\"\",\"\",Master!G365)","v":""},{"$f":"IF(Master!$D365=\"\",\"\",Master!H365)","v":""},{"$f":"IF(Master!$D365=\"\",\"\",Master!I365)","v":""},{"$f":"IF(Master!$D365=\"\",\"\",Master!J365)","v":""},{"$f":"IF(Master!$D365=\"\",\"\",Master!K365)","v":""},{"$f":"IF(Master!$D365=\"\",\"\",Master!L365)","v":""},""]
[34,{"$f":"IF(Master!D322=\"\",\"\",Master!D322)","v":""},{"$f":"IF(Master!D322=\"\",\"\",Master!G322)","v":""},{"$f":"IF(Master!D322=\"\",\"\",Master!H322)","v":""},{"$f":"IF(Master!D322=\"\",\"\",Master!I322)","v":""},{"$f":"IF(Master!D322=\"\",\"\",Master!J322)","v":""},{"$f":"IF(Master!D322=\"\",\"\",Master!K322)","v":""},{"$f":"IF(Master!D322=\"\",\"\",Master!L322)","v":""},"",34,{"$f":"IF(Master!D366=\"\",\"\",Master!D366)","v":""},{"$f":"IF(Master!$D366=\"\",\"\",Master!G366)","v":""},{"$f":"IF(Master!$D366=\"\",\"\",Master!H366)","v":""},{"$f":"IF(Master!$D366=\"\",\"\",Master!I366)","v":""},{"$f":"IF(Master!$D366=\"\",\"\",Master!J366)","v":""},{"$f":"IF(Master!$D366=\"\",\"\",Master!K366)","v":""},{"$f":"IF(Master!$D366=\"\",\"\",Master!L366)","v":""},""]
[35,{"$f":"IF(Master!D323=\"\",\"\",Master!D323)","v":""},{"$f":"IF(Master!D323=\"\",\"\",Master!G323)","v":""},{"$f":"IF(Master!D323=\"\",\"\",Master!H323)","v":""},{"$f":"IF(Master!D323=\"\",\"\",Master!I323)","v":""},{"$f":"IF(Master!D323=\"\",\"\",Master!J323)","v":""},{"$f":"IF(Master!D323=\"\",\"\",Master!K323)","v":""},{"$f":"IF(Master!D323=\"\",\"\",Master!L323)","v":""},"",35,{"$f":"IF(Master!D367=\"\",\"\",Master!D367)","v":""},{"$f":"IF(Master!$D367=\"\",\"\",Master!G367)","v":""},{"$f":"IF(Master!$D367=\"\",\"\",Master!H367)","v":""},{"$f":"IF(Master!$D367=\"\",\"\",Master!I367)","v":""},{"$f":"IF(Master!$D367=\"\",\"\",Master!J367)","v":""},{"$f":"IF(Master!$D367=\"\",\"\",Master!K367)","v":""},{"$f":"IF(Master!$D367=\"\",\"\",Master!L367)","v":""},""]
[36,{"$f":"IF(Master!D324=\"\",\"\",Master!D324)","v":""},{"$f":"IF(Master!D324=\"\",\"\",Master!G324)","v":""},{"$f":"IF(Master!D324=\"\",\"\",Master!H324)","v":""},{"$f":"IF(Master!D324=\"\",\"\",Master!I324)","v":""},{"$f":"IF(Master!D324=\"\",\"\",Master!J324)","v":""},{"$f":"IF(Master!D324=\"\",\"\",Master!K324)","v":""},{"$f":"IF(Master!D324=\"\",\"\",Master!L324)","v":""},"",36,{"$f":"IF(Master!D368=\"\",\"\",Master!D368)","v":""},{"$f":"IF(Master!$D368=\"\",\"\",Master!G368)","v":""},{"$f":"IF(Master!$D368=\"\",\"\",Master!H368)","v":""},{"$f":"IF(Master!$D368=\"\",\"\",Master!I368)","v":""},{"$f":"IF(Master!$D368=\"\",\"\",Master!J368)","v":""},{"$f":"IF(Master!$D368=\"\",\"\",Master!K368)","v":""},{"$f":"IF(Master!$D368=\"\",\"\",Master!L368)","v":""},""]
[37,{"$f":"IF(Master!D325=\"\",\"\",Master!D325)","v":""},{"$f":"IF(Master!D325=\"\",\"\",Master!G325)","v":""},{"$f":"IF(Master!D325=\"\",\"\",Master!H325)","v":""},{"$f":"IF(Master!D325=\"\",\"\",Master!I325)","v":""},{"$f":"IF(Master!D325=\"\",\"\",Master!J325)","v":""},{"$f":"IF(Master!D325=\"\",\"\",Master!K325)","v":""},{"$f":"IF(Master!D325=\"\",\"\",Master!L325)","v":""},"",37,{"$f":"IF(Master!D369=\"\",\"\",Master!D369)","v":""},{"$f":"IF(Master!$D369=\"\",\"\",Master!G369)","v":""},{"$f":"IF(Master!$D369=\"\",\"\",Master!H369)","v":""},{"$f":"IF(Master!$D369=\"\",\"\",Master!I369)","v":""},{"$f":"IF(Master!$D369=\"\",\"\",Master!J369)","v":""},{"$f":"IF(Master!$D369=\"\",\"\",Master!K369)","v":""},{"$f":"IF(Master!$D369=\"\",\"\",Master!L369)","v":""},""]
[38,{"$f":"IF(Master!D326=\"\",\"\",Master!D326)","v":""},{"$f":"IF(Master!D326=\"\",\"\",Master!G326)","v":""},{"$f":"IF(Master!D326=\"\",\"\",Master!H326)","v":""},{"$f":"IF(Master!D326=\"\",\"\",Master!I326)","v":""},{"$f":"IF(Master!D326=\"\",\"\",Master!J326)","v":""},{"$f":"IF(Master!D326=\"\",\"\",Master!K326)","v":""},{"$f":"IF(Master!D326=\"\",\"\",Master!L326)","v":""},"",38,{"$f":"IF(Master!D370=\"\",\"\",Master!D370)","v":""},{"$f":"IF(Master!$D370=\"\",\"\",Master!G370)","v":""},{"$f":"IF(Master!$D370=\"\",\"\",Master!H370)","v":""},{"$f":"IF(Master!$D370=\"\",\"\",Master!I370)","v":""},{"$f":"IF(Master!$D370=\"\",\"\",Master!J370)","v":""},{"$f":"IF(Master!$D370=\"\",\"\",Master!K370)","v":""},{"$f":"IF(Master!$D370=\"\",\"\",Master!L370)","v":""},""]
[39,{"$f":"IF(Master!D327=\"\",\"\",Master!D327)","v":""},{"$f":"IF(Master!D327=\"\",\"\",Master!G327)","v":""},{"$f":"IF(Master!D327=\"\",\"\",Master!H327)","v":""},{"$f":"IF(Master!D327=\"\",\"\",Master!I327)","v":""},{"$f":"IF(Master!D327=\"\",\"\",Master!J327)","v":""},{"$f":"IF(Master!D327=\"\",\"\",Master!K327)","v":""},{"$f":"IF(Master!D327=\"\",\"\",Master!L327)","v":""},"",39,{"$f":"IF(Master!D371=\"\",\"\",Master!D371)","v":""},{"$f":"IF(Master!$D371=\"\",\"\",Master!G371)","v":""},{"$f":"IF(Master!$D371=\"\",\"\",Master!H371)","v":""},{"$f":"IF(Master!$D371=\"\",\"\",Master!I371)","v":""},{"$f":"IF(Master!$D371=\"\",\"\",Master!J371)","v":""},{"$f":"IF(Master!$D371=\"\",\"\",Master!K371)","v":""},{"$f":"IF(Master!$D371=\"\",\"\",Master!L371)","v":""},""]
[40,{"$f":"IF(Master!D328=\"\",\"\",Master!D328)","v":""},{"$f":"IF(Master!D328=\"\",\"\",Master!G328)","v":""},{"$f":"IF(Master!D328=\"\",\"\",Master!H328)","v":""},{"$f":"IF(Master!D328=\"\",\"\",Master!I328)","v":""},{"$f":"IF(Master!D328=\"\",\"\",Master!J328)","v":""},{"$f":"IF(Master!D328=\"\",\"\",Master!K328)","v":""},{"$f":"IF(Master!D328=\"\",\"\",Master!L328)","v":""},"",40,{"$f":"IF(Master!D372=\"\",\"\",Master!D372)","v":""},{"$f":"IF(Master!$D372=\"\",\"\",Master!G372)","v":""},{"$f":"IF(Master!$D372=\"\",\"\",Master!H372)","v":""},{"$f":"IF(Master!$D372=\"\",\"\",Master!I372)","v":""},{"$f":"IF(Master!$D372=\"\",\"\",Master!J372)","v":""},{"$f":"IF(Master!$D372=\"\",\"\",Master!K372)","v":""},{"$f":"IF(Master!$D372=\"\",\"\",Master!L372)","v":""},""]
[null,"Total ",{"$f":"SUM(C8:C47)","v":0},{"$f":"SUM(D8:D47)","v":0},0,0,0,0,0,null,"Total ",{"$f":"SUM(L8:L47)","v":0},{"$f":"SUM(M8:M47)","v":0},0,0,0,0,0]
[null,"Total Rounded ",{"$f":"ROUNDUP(C48,-2)","v":0},0,0,0,0,0,0,null,"Total Rounded",{"$f":"ROUNDUP(L48,-2)","v":0},0,0,0,0,0,0]
[]
[]
[{"$nulls":5},{"$f":"Master!E2","v":"ç/kkukpk;Z]"},{"$nulls":8},{"$f":"F52","v":"ç/kkukpk;Z]"}]
[{"$nulls":5},{"$f":"Master!H2","v":"jkmekfo jk;eyok³k"},{"$nulls":8},{"$f":"Master!H2","v":"jkmekfo jk;eyok³k"}]

{"sheet":"Scholership","index":24,"n_rows":42,"n_cols":21,"rows_kept":42,"hidden":true,"merged":[[0,0,0,20],[1,0,1,20],[2,0,2,20],[3,0,4,0],[3,1,4,2],[3,3,4,3],[3,4,4,10],[3,11,4,17],[3,18,3,20],[5,1,5,2],[5,4,5,10],[5,11,5,17],[6,0,7,0],[8,0,9,0],[10,0,11,0],[12,0,12,3],[13,0,13,20],[14,0,14,20],[15,0,15,20],[16,0,17,0],[16,1,17,2],[16,3,17,3],[16,4,17,10],[16,11,17,17],[16,18,16,20],[18,1,18,2],[18,4,18,10],[18,11,18,17],[19,0,20,0],[21,0,22,0],[23,0,24,0],[25,0,25,3],[26,0,26,20],[27,0,27,20],[28,0,28,20],[29,0,30,0],[29,1,30,2],[29,3,30,3],[29,4,30,10],[29,11,30,17],[29,18,29,20],[31,1,31,2],[31,4,31,10],[31,11,31,17],[32,0,33,0],[34,0,35,0],[36,0,37,0],[38,0,38,3],[40,17,40,20],[41,17,42,20]]}
[{"$f":"Summary!$A$2","v":"ç/kkukpk;Z] jkmekfo jk;eyok³k ¼vkWfQl vkbZ-Mh- la[;k %&12345½"}]
["izi= la[;k 13"]
["vuqlwfpr tkfr ds Nk=k o Nk=kkvksa ds fy, Nk=ko``fRr dk fooj.k"]
["d{kk","Nk= @ Nk=k la[;k",null,"nj","o\"kZ 2019&20 ds fy, \nla'kksf/kr vuqeku\n10 ekg ds fy,",{"$nulls":6},"o\"kZ 2020&21 ds fy, \nvuqekfur jkf'k \n10 ekg ds fy,",{"$nulls":6},"xr o\"kZ dh cdk;k jkf'k"]
[{"$nulls":18},"o\"kZ","jkf'k",";ksx ¼5$7½"]
[1,2,null,3,4,{"$nulls":6},5,{"$nulls":6},6,7,8]
["d{kk 6 ls 8 rd","Nk= ",{"$f":"Namankan!I12+Namankan!I13+Namankan!I14","v":0},75,{"$f":"C7","v":0},"X",{"$f":"D7","v":75},"X",10,"=",{"$f":"E7*G7*I7","v":0},{"$f":"IF(C7<=0,0,(E7+5))","v":0},"X",{"$f":"D7","v":75},"X",10,"=",{"$f":"L7*N7*P7","v":0}]
[null,"Nk=k",{"$f":"Namankan!J12+Namankan!J13+Namankan!J14","v":0},125,0,"X",125,"X",10,"=",0,0,"X",{"$f":"D8","v":125},"X",10,"=",0]
["d{kk 9 ls 10 rd","Nk= ",{"$f":"Namankan!I15+Namankan!I16","v":0},225,0,"X",225,"X",10,"=",0,0,"X",{"$f":"D9","v":225},"X",10,"=",0]
[null,"Nk=k",{"$f":"Namankan!J15+Namankan!J16","v":0},225,0,"X",225,"X",10,"=",0,0,"X",100,"X",10,"=",0]
["d{kk 11 ls 12 rd","Nk= ",{"$f":"Namankan!I17+Namankan!I18","v":0},230,0,"X",230,"X",10,"=",0,0,"X",{"$f":"D11","v":230},"X",10,"=",0]
[null,"Nk=k",{"$f":"Namankan!J17+Namankan!J18","v":0},230,0,"X",230,"X",10,"=",0,0,"X",100,"X",10,"=",0]
["dqy ;ksx",{"$nulls":9},{"$f":"SUM(K7:K12)","v":0},{"$nulls":6},{"$f":"SUM(R7:R12)","v":0}]
[{"$f":"Summary!$A$2","v":"ç/kkukpk;Z] jkmekfo jk;eyok³k ¼vkWfQl vkbZ-Mh- la[;k %&12345½"}]
["izi= la[;k 13"]
["vuqlwfpr tu tkfr ds Nk= o Nk=kvksa ds fy, Nk=o``fRr dk fooj.k"]
["d{kk","Nk= @ Nk=k la[;k",null,"nj","o\"kZ 2019&20 ds fy, \nla'kksf/kr vuqeku\n10 ekg ds fy,",{"$nulls":6},"o\"kZ 2020&21 ds fy, \nvuqekfur jkf'k \n10 ekg ds fy,",{"$nulls":6},"xr o\"kZ dh cdk;k jkf'k"]
[{"$nulls":18},"o\"kZ","jkf'k",";ksx ¼5$7½"]
[1,2,null,3,4,{"$nulls":6},5,{"$nulls":6},6,7,8]
["d{kk 6 ls 8 rd","Nk= ",{"$f":"Namankan!F12+Namankan!F13+Namankan!F14","v":0},75,{"$f":"C20","v":0},"X",{"$f":"D20","v":75},"X",10,"=",{"$f":"E20*G20*I20","v":0},{"$f":"IF(C20<=0,0,(E20+5))","v":0},"X",{"$f":"D20","v":75},"X",10,"=",{"$f":"L20*N20*P20","v":0}]
[null,"Nk=k",{"$f":"Namankan!G12+Namankan!G13+Namankan!G14","v":0},125,0,"X",125,"X",10,"=",0,0,"X",{"$f":"D21","v":125},"X",10,"=",0]
["d{kk 9 ls 10 rd","Nk= ",{"$f":"Namankan!F15+Namankan!F16","v":0},225,0,"X",225,"X",10,"=",0,0,"X",{"$f":"D22","v":225},"X",10,"=",0]
[null,"Nk=k",{"$f":"Namankan!G15+Namankan!G16","v":0},225,0,"X",225,"X",10,"=",0,0,"X",100,"X",10,"=",0]
["d{kk 11 ls 12 rd","Nk= ",{"$f":"Namankan!F17+Namankan!F18","v":0},230,0,"X",230,"X",10,"=",0,0,"X",{"$f":"D24","v":230},"X",10,"=",0]
[null,"Nk=k",{"$f":"Namankan!G17+Namankan!G18","v":0},230,0,"X",230,"X",10,"=",0,0,"X",100,"X",10,"=",0]
["dqy ;ksx",{"$nulls":9},{"$f":"SUM(K20:K25)","v":0},{"$nulls":6},{"$f":"SUM(R20:R25)","v":0}]
[{"$f":"Summary!$A$2","v":"ç/kkukpk;Z] jkmekfo jk;eyok³k ¼vkWfQl vkbZ-Mh- la[;k %&12345½"}]
["izi=k la[;k 13"]
["vU; fiNM+k oxZ ds Nk= o Nk=kvksa ds fy, Nk=o``fRr dk fooj.k"]
["d{kk","Nk= @ Nk=k la[;k",null,"nj","o\"kZ 2019&20 ds fy, \nla'kksf/kr vuqeku\n10 ekg ds fy,",{"$nulls":6},"o\"kZ 2020&21 ds fy, \nvuqekfur jkf'k \n10 ekg ds fy,",{"$nulls":6},"xr o\"kZ dh cdk;k jkf'k"]
[{"$nulls":18},"o\"kZ","jkf'k",";ksx ¼5$7½"]
[1,2,null,3,4,{"$nulls":6},5,{"$nulls":6},6,7,8]
["d{kk 6 ls 8 rd","Nk= ",{"$f":"Namankan!L12+Namankan!L13+Namankan!L14+Namankan!O12+Namankan!O13+Namankan!O14","v":0},40,{"$f":"C33","v":0},"X",{"$f":"D33","v":40},"X",10,"=",{"$f":"E33*G33*I33","v":0},{"$f":"IF(C33<=0,0,(E33+5))","v":0},"X",{"$f":"D33","v":40},"X",10,"=",{"$f":"L33*N33*P33","v":0}]
[null,"Nk=k",{"$f":"Namankan!M12+Namankan!M13+Namankan!M14+Namankan!P12+Namankan!P13+Namankan!P14","v":0},40,0,"X",40,"X",10,"=",0,0,"X",40,"X",10,"=",0]
["d{kk 9 ls 10 rd","Nk= ",{"$f":"Namankan!L15+Namankan!L16+Namankan!O15+Namankan!O16","v":0},50,0,"X",50,"X",10,"=",0,0,"X",50,"X",10,"=",0]
[null,"Nk=k",{"$f":"Namankan!M15+Namankan!M16+Namankan!P15+Namankan!P16","v":0},50,0,"X",50,"X",10,"=",0,0,"X",50,"X",10,"=",0]
["d{kk 11 ls 12 rd","Nk= ",{"$f":"Namankan!L17+Namankan!L18+Namankan!O17+Namankan!O18","v":0},90,0,"X",90,"X",10,"=",0,0,"X",90,"X",10,"=",0]
[null,"Nk=k",{"$f":"Namankan!M17+Namankan!M18+Namankan!P17+Namankan!P18","v":0},90,0,"X",90,"X",10,"=",0,0,"X",90,"X",10,"=",0]
["dqy ;ksx",{"$nulls":9},{"$f":"SUM(K33:K38)","v":0},{"$nulls":6},{"$f":"SUM(R33:R38)","v":0}]
[]
[{"$nulls":17},{"$f":"Master!E2","v":"ç/kkukpk;Z]"}]
[{"$nulls":17},{"$f":"Master!F2","v":0}]

{"sheet":"PL Encash","index":25,"n_rows":15,"n_cols":8,"rows_kept":15,"merged":[[0,5,0,6],[0,8,14,8],[1,0,1,6],[2,0,2,6],[3,0,3,6],[11,7,14,7],[13,5,13,6],[14,5,16,6]]}
[{"$nulls":5},{"$f":"Summary!$C$1","v":{"v":12345,"d":"OFFICE ID 12345"}}]
[{"$f":"Summary!$A$2","v":"ç/kkukpk;Z] jkmekfo jk;eyok³k ¼vkWfQl vkbZ-Mh- la[;k %&12345½"},{"$nulls":6},{"$f":"Master!$C$4","v":"ctV vuqeku fofÙk; o\"kZ %"}]
["vodk'k udnhdj.k Hkqxrku fooj.k",{"$nulls":6},{"$f":"Master!$E$4","v":"2023-24"}]
["BUDGET HEAD : 2071 - Pension and other Retirement Benefits  115 - Leave encashment    01 - Civil  104 - Gratuities "]
["Ø- la-","deZpkjh dk uke","in","lsokfuo`fr frfFk","vodk'k dh la[;k","ewy osru","Hkqxrku ;ksX; dqy jkf'k",{"$f":"'Formet 8'!G217","v":{"v":0.42,"d":"DA @42%"}}]
[1,2,3,4,5,6,7]
[1,"&","-","-",0,0,{"$f":"ROUND(E7/30*F7,0)+ROUND(E7/30*H7,0)","v":0},{"$f":"ROUND(F7*H5,0)","v":0}]
[2,"&","-","-",0,0,{"$f":"ROUND(E8/30*F8,0)+ROUND(E8/30*H8,0)","v":0},{"$f":"ROUND(F8*H6,0)","v":0}]
[3,"&","-","-",0,0,{"$f":"ROUND(E9/30*F9,0)+ROUND(E9/30*H9,0)","v":0},{"$f":"ROUND(F9*H7,0)","v":0}]
[4,"&","-","-",0,0,{"$f":"ROUND(E10/30*F10,0)+ROUND(E10/30*H10,0)","v":0},{"$f":"ROUND(F10*H8,0)","v":0}]
[4,"&","-","-",0,0,{"$f":"ROUND(E11/30*F11,0)+ROUND(E11/30*H11,0)","v":0},{"$f":"ROUND(F11*H9,0)","v":0}]
[]
[]
[{"$nulls":5},{"$f":"Master!E2","v":"ç/kkukpk;Z]"}]
[{"$nulls":5},{"$f":"Master!H2","v":"jkmekfo jk;eyok³k"}]

{"sheet":"Liveries","index":26,"n_rows":16,"n_cols":19,"rows_kept":16,"merged":[[0,16,0,18],[0,19,17,19],[1,0,1,18],[2,0,2,18],[3,0,3,18],[4,0,4,18],[5,0,7,0],[5,1,7,1],[5,2,5,5],[5,6,7,6],[5,7,5,16],[5,17,7,17],[5,18,7,18],[6,2,7,2],[6,3,7,3],[6,4,7,4],[6,5,7,5],[6,7,6,9],[6,10,6,12],[6,13,6,15],[6,16,7,16],[14,15,14,18],[15,15,17,18]]}
[{"$nulls":16},{"$f":"Summary!$C$1","v":{"v":12345,"d":"OFFICE ID 12345"}}]
[{"$f":"Summary!$A$2","v":"ç/kkukpk;Z] jkmekfo jk;eyok³k ¼vkWfQl vkbZ-Mh- la[;k %&12345½"}]
["ofnZ;ksa lEcU/kh O;; fooj.k "]
["fofÙk; o\"kZ 2023&24"]
[{"$f":"abc!A4","v":"BUDGET HEAD : 2202 -सामान्य शिक्षा-02-109 -राजकीय माध्यमिक विद्यालय-07 -राष्ट्रीय माध्यमिक शिक्षा अभियान-01 -माध्यमिक शिक्षा अभियान- सामान्य व्यय (S.F. + C.A.)"}]
["Ø-la-","fo|ky;@dk;kZy; dk uke","Lohd`r in",{"$nulls":3},"ctV vkoaVu","dk;Zjr in",{"$nulls":9},"ofnZ;ksa ij O;; gsrq jkf'k dh vk';drk","cpr ;k vkf/kD;"]
[null,null,"teknkj","iz;ksx'kkyk lsod","prqFkZ Js.kh deZpkjh ",";ksx",null,"teknkj",null,null,"iz;ksx'kkyk lsod",null,null,"prqFkZ Js.kh deZpkjh ",null,null,"dqy ;ksx"]
[{"$nulls":7},"iq:\"k","efgyk",";ksx","iq:\"k","efgyk",";ksx","iq:\"k","efgyk",";ksx"]
[1,2,3,4,5,6,7,8,9,10,11,12,13,14,15,16,17,18,19]
[1,{"$f":"$P$16","v":"jkmekfo jk;eyok³k"},{"$f":"'Format 1A'!F30","v":0},{"$f":"'[2](4) Format 1(A)'!F29","v":0},0,{"$f":"SUM(C10:E10)","v":0},0,{"$f":"'Formet 8'!V584","v":0},{"$f":"'Formet 8'!W584","v":0},{"$f":"SUM(H10:I10)","v":0},{"$f":"'Formet 8'!X584","v":0},{"$f":"'Formet 8'!Y584","v":0},{"$f":"SUM(K10:L10)","v":0},{"$f":"'Formet 8'!Z584","v":0},{"$f":"'Formet 8'!AA584","v":0},{"$f":"SUM(N10:O10)","v":0},{"$f":"J10+M10+P10","v":0},{"$f":"H10*1800+I10*1800+(K10+N10)*1650+(L10+O10)*1950","v":0},{"$f":"G10-R10","v":0}]
[null,"Total",{"$f":"SUM(C10:C10)","v":0},{"$f":"SUM(D10:D10)","v":0},0,0,0,0,0,0,0,0,0,0,0,0,0,0,0]
[]
[]
[]
[{"$nulls":15},{"$f":"Master!E2","v":"ç/kkukpk;Z]"}]
[{"$nulls":15},{"$f":"Master!H2","v":"jkmekfo jk;eyok³k"}]

{"sheet":"Fix Pay","index":27,"n_rows":120,"n_cols":66,"rows_kept":120,"merged":[[0,8,0,10],[0,11,122,11],[1,0,1,10],[2,0,2,10],[3,0,3,10],[4,0,4,10],[5,0,5,10],[116,0,116,6],[117,0,122,4],[117,5,118,10],[119,5,122,10]]}
[{"$nulls":8},{"$f":"Summary!$C$1","v":{"v":12345,"d":"OFFICE ID 12345"}}]
[{"$f":"Summary!$A$3","v":"Principal Govt. Sr. Sec. School Raimalwada"},{"$nulls":11},"Grade Pay",1300,1400,1650,1800,1850,1900,2000,2100,2400,2800,3200,3600,4200,4800,5400,6000,6600,6800,7200,7600,8200,8700,8900,10000]
["Income-Expenditure Estimate Of Salary",{"$nulls":11},"FIX PAY",4850,5050,5300,5600,5900,6100,6400,6750,7900,8950,10000,11100,13050,15000,16800,18200,20200,21300,22600,23950,26650,36900,38900,43800,"PRINCIPAL (16)","V P (14)","H M (14)","AGRICULTURE INST (13)","TEACHER-1ST (13)","PTI  I  (13)","AGRICULTURE TEACH (13)","INSTRUCTOR (13)","JR TEACHER (13)","LIBRARIAN I (13)","ASSISTANT (11)","TEACHER-2ND (12)","JR TEACHER (12)","PTI   II  (12)","LIBRARIAN II (12)","LAB ASST (11)","UDC (9)","PTI  III  (10)","TEACHER-3RD (10)","LIBRARIAN III (10)","LAB ASST (9)","LDC (6)","FIELDMAN & FIELD REC (6) ","LAB BOY (2)","JAMADAR (2)","PEON (2)","PEON (1)"]
["For FY - 2020-21 (April 2020 to March 2021)"]
["FORM 1-POST WISE SALARY DETAIL - FIXED"]
[{"$f":"Summary!A5","v":"BUDGET HEAD : 2202 -सामान्य शिक्षा-02-109 -राजकीय माध्यमिक विद्यालय-07 -राष्ट्रीय माध्यमिक शिक्षा अभियान-01 -माध्यमिक शिक्षा अभियान- सामान्य व्यय (S.F. + C.A.)"},{"$nulls":63},"2025-03-31","2024-03-31"]
["S.No.","Name of Employee","Post","Date of Joining","Date Completion of Probatation","Basic Pay On Fixation Completed","Pay Metrix Level","Salary on 1st March 23","Salary of 12 Month","Budget Estimate For FY \n2024-25","Revised Estimate For FY \n2023-24",{"$nulls":53},"REGULAR MONTH BEFORE 31-03-2024","REGULAR MONTH BEFORE 31-03-2023"]
[1,2,3,4,5,6,7,8,10,12,13,{"$nulls":53},{"$f":"IF(OR(E9=\"\",BN8>0),\"\",IF($BM$6<E9,0,($BM$6-E9)/30))","v":{"v":10.133333333333333,"d":"10.1"}},{"$f":"IF(E9=\"\",\"\",IF($BN$6<E9,0,($BN$6-E9)/30))","v":{"v":0,"d":"0.0"}}]
[1,{"$f":"IF(MAX('Formet 8'!$A$228:$A$337)<'Fix Pay'!$A9,\"\",VLOOKUP($A9,'Formet 8'!$A$228:$O$337,4,0))","v":"ASDGDSG"},{"$f":"IF(MAX('Formet 8'!$A$228:$A$337)<'Fix Pay'!$A9,\"\",VLOOKUP($A9,'Formet 8'!$A$228:$O$337,7,0))","v":"LECTURER"},"2022-05-31",{"$f":"IF(B9=\"\",\"\",D9+365+366)","v":"2024-05-31"},33800,"LP-10",23700,{"$f":"IF(B9=\"\",\"\",H9*12)","v":284400},{"$f":"IF(OR(BM9=\"\",BM9=0),F9*12,((12-BM9)*H9+BM9*F9))","v":386410},{"$f":"IF(OR(BN9=\"\",BN9=0),H9*12,((12-BN9)*F9+BN9*H9))","v":284400},{"$nulls":53},10.1,{"$f":"IF(E10=\"\",\"\",IF($BN$6<E10,0,($BN$6-E10)/30))","v":{"v":0,"d":"0.0"}}]
[2,{"$f":"IF(MAX('Formet 8'!$A$228:$A$337)<'Fix Pay'!$A10,\"\",VLOOKUP($A10,'Formet 8'!$A$228:$O$337,4,0))","v":"DFBDZFB"},{"$f":"IF(MAX('Formet 8'!$A$228:$A$337)<'Fix Pay'!$A10,\"\",VLOOKUP($A10,'Formet 8'!$A$228:$O$337,7,0))","v":"TEACHER-III"},"2022-06-01",{"$f":"IF(B10=\"\",\"\",D10+365+366)","v":"2024-06-01"},33800,"LP-10",23700,{"$f":"IF(B10=\"\",\"\",H10*12)","v":284400},{"$f":"IF(OR(BM10=\"\",BM10=0),F10*12,((12-BM10)*H10+BM10*F10))","v":405600},{"$f":"IF(OR(BN10=\"\",BN10=0),H10*12,((12-BN10)*F10+BN10*H10))","v":284400},{"$nulls":53},"",""]
[3,{"$f":"IF(MAX('Formet 8'!$A$228:$A$337)<'Fix Pay'!$A11,\"\",VLOOKUP($A11,'Formet 8'!$A$228:$O$337,4,0))","v":""},{"$f":"IF(MAX('Formet 8'!$A$228:$A$337)<'Fix Pay'!$A11,\"\",VLOOKUP($A11,'Formet 8'!$A$228:$O$337,7,0))","v":""},null,"",{"$nulls":3},"",0,0,{"$nulls":53},"",""]
[4,{"$f":"IF(MAX('Formet 8'!$A$228:$A$337)<'Fix Pay'!$A12,\"\",VLOOKUP($A12,'Formet 8'!$A$228:$O$337,4,0))","v":""},{"$f":"IF(MAX('Formet 8'!$A$228:$A$337)<'Fix Pay'!$A12,\"\",VLOOKUP($A12,'Formet 8'!$A$228:$O$337,7,0))","v":""},null,"",{"$nulls":3},"",0,0,{"$nulls":53},"",""]
[5,{"$f":"IF(MAX('Formet 8'!$A$228:$A$337)<'Fix Pay'!$A13,\"\",VLOOKUP($A13,'Formet 8'!$A$228:$O$337,4,0))","v":""},{"$f":"IF(MAX('Formet 8'!$A$228:$A$337)<'Fix Pay'!$A13,\"\",VLOOKUP($A13,'Formet 8'!$A$228:$O$337,7,0))","v":""},null,"",{"$nulls":3},"",0,0,{"$nulls":53},"",""]
[6,{"$f":"IF(MAX('Formet 8'!$A$228:$A$337)<'Fix Pay'!$A14,\"\",VLOOKUP($A14,'Formet 8'!$A$228:$O$337,4,0))","v":""},{"$f":"IF(MAX('Formet 8'!$A$228:$A$337)<'Fix Pay'!$A14,\"\",VLOOKUP($A14,'Formet 8'!$A$228:$O$337,7,0))","v":""},null,"",{"$nulls":3},"",0,0,{"$nulls":53},{"$f":"IF(OR(E15=\"\",BN14>0),\"\",IF($BM$6<E15,0,($BM$6-E15)/30))","v":""},""]
[7,{"$f":"IF(MAX('Formet 8'!$A$228:$A$337)<'Fix Pay'!$A15,\"\",VLOOKUP($A15,'Formet 8'!$A$228:$O$337,4,0))","v":""},{"$f":"IF(MAX('Formet 8'!$A$228:$A$337)<'Fix Pay'!$A15,\"\",VLOOKUP($A15,'Formet 8'!$A$228:$O$337,7,0))","v":""},null,"",{"$nulls":3},"",0,0,{"$nulls":53},{"$f":"IF(OR(E16=\"\",BN15>0),\"\",IF($BM$6<E16,0,($BM$6-E16)/30))","v":""},""]
[8,{"$f":"IF(MAX('Formet 8'!$A$228:$A$337)<'Fix Pay'!$A16,\"\",VLOOKUP($A16,'Formet 8'!$A$228:$O$337,4,0))","v":""},{"$f":"IF(MAX('Formet 8'!$A$228:$A$337)<'Fix Pay'!$A16,\"\",VLOOKUP($A16,'Formet 8'!$A$228:$O$337,7,0))","v":""},null,"",{"$nulls":3},"",0,0,{"$nulls":53},"",""]
[9,{"$f":"IF(MAX('Formet 8'!$A$228:$A$337)<'Fix Pay'!$A17,\"\",VLOOKUP($A17,'Formet 8'!$A$228:$O$337,4,0))","v":""},{"$f":"IF(MAX('Formet 8'!$A$228:$A$337)<'Fix Pay'!$A17,\"\",VLOOKUP($A17,'Formet 8'!$A$228:$O$337,7,0))","v":""},null,"",{"$nulls":3},"",0,0,{"$nulls":53},"",""]
[10,{"$f":"IF(MAX('Formet 8'!$A$228:$A$337)<'Fix Pay'!$A18,\"\",VLOOKUP($A18,'Formet 8'!$A$228:$O$337,4,0))","v":""},{"$f":"IF(MAX('Formet 8'!$A$228:$A$337)<'Fix Pay'!$A18,\"\",VLOOKUP($A18,'Formet 8'!$A$228:$O$337,7,0))","v":""},null,"",{"$nulls":3},"",0,0,{"$nulls":53},"",""]
[11,{"$f":"IF(MAX('Formet 8'!$A$228:$A$337)<'Fix Pay'!$A19,\"\",VLOOKUP($A19,'Formet 8'!$A$228:$O$337,4,0))","v":""},{"$f":"IF(MAX('Formet 8'!$A$228:$A$337)<'Fix Pay'!$A19,\"\",VLOOKUP($A19,'Formet 8'!$A$228:$O$337,7,0))","v":""},null,"",{"$nulls":3},"",0,0,{"$nulls":53},"",""]
[12,{"$f":"IF(MAX('Formet 8'!$A$228:$A$337)<'Fix Pay'!$A20,\"\",VLOOKUP($A20,'Formet 8'!$A$228:$O$337,4,0))","v":""},{"$f":"IF(MAX('Formet 8'!$A$228:$A$337)<'Fix Pay'!$A20,\"\",VLOOKUP($A20,'Formet 8'!$A$228:$O$337,7,0))","v":""},null,"",{"$nulls":3},"",0,0,{"$nulls":53},"",""]
[13,{"$f":"IF(MAX('Formet 8'!$A$228:$A$337)<'Fix Pay'!$A21,\"\",VLOOKUP($A21,'Formet 8'!$A$228:$O$337,4,0))","v":""},{"$f":"IF(MAX('Formet 8'!$A$228:$A$337)<'Fix Pay'!$A21,\"\",VLOOKUP($A21,'Formet 8'!$A$228:$O$337,7,0))","v":""},null,"",{"$nulls":3},"",0,0,{"$nulls":53},"",""]
[14,{"$f":"IF(MAX('Formet 8'!$A$228:$A$337)<'Fix Pay'!$A22,\"\",VLOOKUP($A22,'Formet 8'!$A$228:$O$337,4,0))","v":""},{"$f":"IF(MAX('Formet 8'!$A$228:$A$337)<'Fix Pay'!$A22,\"\",VLOOKUP($A22,'Formet 8'!$A$228:$O$337,7,0))","v":""},null,"",{"$nulls":3},"",0,0,{"$nulls":53},"",""]
[15,{"$f":"IF(MAX('Formet 8'!$A$228:$A$337)<'Fix Pay'!$A23,\"\",VLOOKUP($A23,'Formet 8'!$A$228:$O$337,4,0))","v":""},{"$f":"IF(MAX('Formet 8'!$A$228:$A$337)<'Fix Pay'!$A23,\"\",VLOOKUP($A23,'Formet 8'!$A$228:$O$337,7,0))","v":""},null,"",{"$nulls":3},"",0,0,{"$nulls":53},"",""]
[16,{"$f":"IF(MAX('Formet 8'!$A$228:$A$337)<'Fix Pay'!$A24,\"\",VLOOKUP($A24,'Formet 8'!$A$228:$O$337,4,0))","v":""},{"$f":"IF(MAX('Formet 8'!$A$228:$A$337)<'Fix Pay'!$A24,\"\",VLOOKUP($A24,'Formet 8'!$A$228:$O$337,7,0))","v":""},null,"",{"$nulls":3},"",0,0,{"$nulls":53},"",""]
[17,{"$f":"IF(MAX('Formet 8'!$A$228:$A$337)<'Fix Pay'!$A25,\"\",VLOOKUP($A25,'Formet 8'!$A$228:$O$337,4,0))","v":""},{"$f":"IF(MAX('Formet 8'!$A$228:$A$337)<'Fix Pay'!$A25,\"\",VLOOKUP($A25,'Formet 8'!$A$228:$O$337,7,0))","v":""},null,"",{"$nulls":3},"",0,0,{"$nulls":53},"",""]
[18,{"$f":"IF(MAX('Formet 8'!$A$228:$A$337)<'Fix Pay'!$A26,\"\",VLOOKUP($A26,'Formet 8'!$A$228:$O$337,4,0))","v":""},{"$f":"IF(MAX('Formet 8'!$A$228:$A$337)<'Fix Pay'!$A26,\"\",VLOOKUP($A26,'Formet 8'!$A$228:$O$337,7,0))","v":""},null,"",{"$nulls":3},"",0,0,{"$nulls":53},"",""]
[19,{"$f":"IF(MAX('Formet 8'!$A$228:$A$337)<'Fix Pay'!$A27,\"\",VLOOKUP($A27,'Formet 8'!$A$228:$O$337,4,0))","v":""},{"$f":"IF(MAX('Formet 8'!$A$228:$A$337)<'Fix Pay'!$A27,\"\",VLOOKUP($A27,'Formet 8'!$A$228:$O$337,7,0))","v":""},null,"",{"$nulls":3},"",0,0,{"$nulls":53},"",""]
[20,{"$f":"IF(MAX('Formet 8'!$A$228:$A$337)<'Fix Pay'!$A28,\"\",VLOOKUP($A28,'Formet 8'!$A$228:$O$337,4,0))","v":""},{"$f":"IF(MAX('Formet 8'!$A$228:$A$337)<'Fix Pay'!$A28,\"\",VLOOKUP($A28,'Formet 8'!$A$228:$O$337,7,0))","v":""},null,"",{"$nulls":3},"",0,0,{"$nulls":53},"",""]
[21,{"$f":"IF(MAX('Formet 8'!$A$228:$A$337)<'Fix Pay'!$A29,\"\",VLOOKUP($A29,'Formet 8'!$A$228:$O$337,4,0))","v":""},{"$f":"IF(MAX('Formet 8'!$A$228:$A$337)<'Fix Pay'!$A29,\"\",VLOOKUP($A29,'Formet 8'!$A$228:$O$337,7,0))","v":""},null,"",{"$nulls":3},"",0,0,{"$nulls":53},"",""]
[22,{"$f":"IF(MAX('Formet 8'!$A$228:$A$337)<'Fix Pay'!$A30,\"\",VLOOKUP($A30,'Formet 8'!$A$228:$O$337,4,0))","v":""},{"$f":"IF(MAX('Formet 8'!$A$228:$A$337)<'Fix Pay'!$A30,\"\",VLOOKUP($A30,'Formet 8'!$A$228:$O$337,7,0))","v":""},null,"",{"$nulls":3},"",0,0,{"$nulls":53},"",""]
[23,{"$f":"IF(MAX('Formet 8'!$A$228:$A$337)<'Fix Pay'!$A31,\"\",VLOOKUP($A31,'Formet 8'!$A$228:$O$337,4,0))","v":""},{"$f":"IF(MAX('Formet 8'!$A$228:$A$337)<'Fix Pay'!$A31,\"\",VLOOKUP($A31,'Formet 8'!$A$228:$O$337,7,0))","v":""},null,"",{"$nulls":3},"",0,0,{"$nulls":53},"",""]
[24,{"$f":"IF(MAX('Formet 8'!$A$228:$A$337)<'Fix Pay'!$A32,\"\",VLOOKUP($A32,'Formet 8'!$A$228:$O$337,4,0))","v":""},{"$f":"IF(MAX('Formet 8'!$A$228:$A$337)<'Fix Pay'!$A32,\"\",VLOOKUP($A32,'Formet 8'!$A$228:$O$337,7,0))","v":""},null,"",{"$nulls":3},"",0,0,{"$nulls":53},"",""]
[25,{"$f":"IF(MAX('Formet 8'!$A$228:$A$337)<'Fix Pay'!$A33,\"\",VLOOKUP($A33,'Formet 8'!$A$228:$O$337,4,0))","v":""},{"$f":"IF(MAX('Formet 8'!$A$228:$A$337)<'Fix Pay'!$A33,\"\",VLOOKUP($A33,'Formet 8'!$A$228:$O$337,7,0))","v":""},null,"",{"$nulls":3},"",0,0,{"$nulls":53},"",""]
[26,{"$f":"IF(MAX('Formet 8'!$A$228:$A$337)<'Fix Pay'!$A34,\"\",VLOOKUP($A34,'Formet 8'!$A$228:$O$337,4,0))","v":""},{"$f":"IF(MAX('Formet 8'!$A$228:$A$337)<'Fix Pay'!$A34,\"\",VLOOKUP($A34,'Formet 8'!$A$228:$O$337,7,0))","v":""},null,"",{"$nulls":3},"",0,0,{"$nulls":53},"",""]
[27,{"$f":"IF(MAX('Formet 8'!$A$228:$A$337)<'Fix Pay'!$A35,\"\",VLOOKUP($A35,'Formet 8'!$A$228:$O$337,4,0))","v":""},{"$f":"IF(MAX('Formet 8'!$A$228:$A$337)<'Fix Pay'!$A35,\"\",VLOOKUP($A35,'Formet 8'!$A$228:$O$337,7,0))","v":""},null,"",{"$nulls":3},"",0,0,{"$nulls":53},"",""]
[28,{"$f":"IF(MAX('Formet 8'!$A$228:$A$337)<'Fix Pay'!$A36,\"\",VLOOKUP($A36,'Formet 8'!$A$228:$O$337,4,0))","v":""},{"$f":"IF(MAX('Formet 8'!$A$228:$A$337)<'Fix Pay'!$A36,\"\",VLOOKUP($A36,'Formet 8'!$A$228:$O$337,7,0))","v":""},null,"",{"$nulls":3},"",0,0,{"$nulls":53},"",""]
[29,{"$f":"IF(MAX('Formet 8'!$A$228:$A$337)<'Fix Pay'!$A37,\"\",VLOOKUP($A37,'Formet 8'!$A$228:$O$337,4,0))","v":""},{"$f":"IF(MAX('Formet 8'!$A$228:$A$337)<'Fix Pay'!$A37,\"\",VLOOKUP($A37,'Formet 8'!$A$228:$O$337,7,0))","v":""},null,"",{"$nulls":3},"",0,0,{"$nulls":53},"",""]
[30,{"$f":"IF(MAX('Formet 8'!$A$228:$A$337)<'Fix Pay'!$A38,\"\",VLOOKUP($A38,'Formet 8'!$A$228:$O$337,4,0))","v":""},{"$f":"IF(MAX('Formet 8'!$A$228:$A$337)<'Fix Pay'!$A38,\"\",VLOOKUP($A38,'Formet 8'!$A$228:$O$337,7,0))","v":""},null,"",{"$nulls":3},"",0,0,{"$nulls":53},"",""]
[31,{"$f":"IF(MAX('Formet 8'!$A$228:$A$337)<'Fix Pay'!$A39,\"\",VLOOKUP($A39,'Formet 8'!$A$228:$O$337,4,0))","v":""},{"$f":"IF(MAX('Formet 8'!$A$228:$A$337)<'Fix Pay'!$A39,\"\",VLOOKUP($A39,'Formet 8'!$A$228:$O$337,7,0))","v":""},null,"",{"$nulls":3},"",0,0,{"$nulls":53},"",""]
[32,{"$f":"IF(MAX('Formet 8'!$A$228:$A$337)<'Fix Pay'!$A40,\"\",VLOOKUP($A40,'Formet 8'!$A$228:$O$337,4,0))","v":""},{"$f":"IF(MAX('Formet 8'!$A$228:$A$337)<'Fix Pay'!$A40,\"\",VLOOKUP($A40,'Formet 8'!$A$228:$O$337,7,0))","v":""},null,"",{"$nulls":3},"",0,0,{"$nulls":53},"",""]
[33,{"$f":"IF(MAX('Formet 8'!$A$228:$A$337)<'Fix Pay'!$A41,\"\",VLOOKUP($A41,'Formet 8'!$A$228:$O$337,4,0))","v":""},{"$f":"IF(MAX('Formet 8'!$A$228:$A$337)<'Fix Pay'!$A41,\"\",VLOOKUP($A41,'Formet 8'!$A$228:$O$337,7,0))","v":""},null,"",{"$nulls":3},"",0,0,{"$nulls":53},"",""]
[34,{"$f":"IF(MAX('Formet 8'!$A$228:$A$337)<'Fix Pay'!$A42,\"\",VLOOKUP($A42,'Formet 8'!$A$228:$O$337,4,0))","v":""},{"$f":"IF(MAX('Formet 8'!$A$228:$A$337)<'Fix Pay'!$A42,\"\",VLOOKUP($A42,'Formet 8'!$A$228:$O$337,7,0))","v":""},null,"",{"$nulls":3},"",0,0,{"$nulls":53},"",""]
[35,{"$f":"IF(MAX('Formet 8'!$A$228:$A$337)<'Fix Pay'!$A43,\"\",VLOOKUP($A43,'Formet 8'!$A$228:$O$337,4,0))","v":""},{"$f":"IF(MAX('Formet 8'!$A$228:$A$337)<'Fix Pay'!$A43,\"\",VLOOKUP($A43,'Formet 8'!$A$228:$O$337,7,0))","v":""},null,"",{"$nulls":3},"",0,0,{"$nulls":53},"",""]
[36,{"$f":"IF(MAX('Formet 8'!$A$228:$A$337)<'Fix Pay'!$A44,\"\",VLOOKUP($A44,'Formet 8'!$A$228:$O$337,4,0))","v":""},{"$f":"IF(MAX('Formet 8'!$A$228:$A$337)<'Fix Pay'!$A44,\"\",VLOOKUP($A44,'Formet 8'!$A$228:$O$337,7,0))","v":""},null,"",{"$nulls":3},"",0,0,{"$nulls":53},"",""]
[37,{"$f":"IF(MAX('Formet 8'!$A$228:$A$337)<'Fix Pay'!$A45,\"\",VLOOKUP($A45,'Formet 8'!$A$228:$O$337,4,0))","v":""},{"$f":"IF(MAX('Formet 8'!$A$228:$A$337)<'Fix Pay'!$A45,\"\",VLOOKUP($A45,'Formet 8'!$A$228:$O$337,7,0))","v":""},null,"",{"$nulls":3},"",0,0,{"$nulls":53},"",""]
[38,{"$f":"IF(MAX('Formet 8'!$A$228:$A$337)<'Fix Pay'!$A46,\"\",VLOOKUP($A46,'Formet 8'!$A$228:$O$337,4,0))","v":""},{"$f":"IF(MAX('Formet 8'!$A$228:$A$337)<'Fix Pay'!$A46,\"\",VLOOKUP($A46,'Formet 8'!$A$228:$O$337,7,0))","v":""},null,"",{"$nulls":3},"",0,0,{"$nulls":53},"",""]
[39,{"$f":"IF(MAX('Formet 8'!$A$228:$A$337)<'Fix Pay'!$A47,\"\",VLOOKUP($A47,'Formet 8'!$A$228:$O$337,4,0))","v":""},{"$f":"IF(MAX('Formet 8'!$A$228:$A$337)<'Fix Pay'!$A47,\"\",VLOOKUP($A47,'Formet 8'!$A$228:$O$337,7,0))","v":""},null,"",{"$nulls":3},"",0,0,{"$nulls":53},"",""]
[40,{"$f":"IF(MAX('Formet 8'!$A$228:$A$337)<'Fix Pay'!$A48,\"\",VLOOKUP($A48,'Formet 8'!$A$228:$O$337,4,0))","v":""},{"$f":"IF(MAX('Formet 8'!$A$228:$A$337)<'Fix Pay'!$A48,\"\",VLOOKUP($A48,'Formet 8'!$A$228:$O$337,7,0))","v":""},null,"",{"$nulls":3},"",0,0,{"$nulls":53},"",""]
[41,{"$f":"IF(MAX('Formet 8'!$A$228:$A$337)<'Fix Pay'!$A49,\"\",VLOOKUP($A49,'Formet 8'!$A$228:$O$337,4,0))","v":""},{"$f":"IF(MAX('Formet 8'!$A$228:$A$337)<'Fix Pay'!$A49,\"\",VLOOKUP($A49,'Formet 8'!$A$228:$O$337,7,0))","v":""},null,"",{"$nulls":3},"",0,0,{"$nulls":53},"",""]
[42,{"$f":"IF(MAX('Formet 8'!$A$228:$A$337)<'Fix Pay'!$A50,\"\",VLOOKUP($A50,'Formet 8'!$A$228:$O$337,4,0))","v":""},{"$f":"IF(MAX('Formet 8'!$A$228:$A$337)<'Fix Pay'!$A50,\"\",VLOOKUP($A50,'Formet 8'!$A$228:$O$337,7,0))","v":""},null,"",{"$nulls":3},"",0,0,{"$nulls":53},"",""]
[43,{"$f":"IF(MAX('Formet 8'!$A$228:$A$337)<'Fix Pay'!$A51,\"\",VLOOKUP($A51,'Formet 8'!$A$228:$O$337,4,0))","v":""},{"$f":"IF(MAX('Formet 8'!$A$228:$A$337)<'Fix Pay'!$A51,\"\",VLOOKUP($A51,'Formet 8'!$A$228:$O$337,7,0))","v":""},null,"",{"$nulls":3},"",0,0,{"$nulls":53},"",""]
[44,{"$f":"IF(MAX('Formet 8'!$A$228:$A$337)<'Fix Pay'!$A52,\"\",VLOOKUP($A52,'Formet 8'!$A$228:$O$337,4,0))","v":""},{"$f":"IF(MAX('Formet 8'!$A$228:$A$337)<'Fix Pay'!$A52,\"\",VLOOKUP($A52,'Formet 8'!$A$228:$O$337,7,0))","v":""},null,"",{"$nulls":3},"",0,0,{"$nulls":53},"",""]
[45,{"$f":"IF(MAX('Formet 8'!$A$228:$A$337)<'Fix Pay'!$A53,\"\",VLOOKUP($A53,'Formet 8'!$A$228:$O$337,4,0))","v":""},{"$f":"IF(MAX('Formet 8'!$A$228:$A$337)<'Fix Pay'!$A53,\"\",VLOOKUP($A53,'Formet 8'!$A$228:$O$337,7,0))","v":""},null,"",{"$nulls":3},"",0,0,{"$nulls":53},"",""]
[46,{"$f":"IF(MAX('Formet 8'!$A$228:$A$337)<'Fix Pay'!$A54,\"\",VLOOKUP($A54,'Formet 8'!$A$228:$O$337,4,0))","v":""},{"$f":"IF(MAX('Formet 8'!$A$228:$A$337)<'Fix Pay'!$A54,\"\",VLOOKUP($A54,'Formet 8'!$A$228:$O$337,7,0))","v":""},null,"",{"$nulls":3},"",0,0,{"$nulls":53},"",""]
[47,{"$f":"IF(MAX('Formet 8'!$A$228:$A$337)<'Fix Pay'!$A55,\"\",VLOOKUP($A55,'Formet 8'!$A$228:$O$337,4,0))","v":""},{"$f":"IF(MAX('Formet 8'!$A$228:$A$337)<'Fix Pay'!$A55,\"\",VLOOKUP($A55,'Formet 8'!$A$228:$O$337,7,0))","v":""},null,"",{"$nulls":3},"",0,0,{"$nulls":53},"",""]
[48,{"$f":"IF(MAX('Formet 8'!$A$228:$A$337)<'Fix Pay'!$A56,\"\",VLOOKUP($A56,'Formet 8'!$A$228:$O$337,4,0))","v":""},{"$f":"IF(MAX('Formet 8'!$A$228:$A$337)<'Fix Pay'!$A56,\"\",VLOOKUP($A56,'Formet 8'!$A$228:$O$337,7,0))","v":""},null,"",{"$nulls":3},"",0,0,{"$nulls":53},"",""]
[49,{"$f":"IF(MAX('Formet 8'!$A$228:$A$337)<'Fix Pay'!$A57,\"\",VLOOKUP($A57,'Formet 8'!$A$228:$O$337,4,0))","v":""},{"$f":"IF(MAX('Formet 8'!$A$228:$A$337)<'Fix Pay'!$A57,\"\",VLOOKUP($A57,'Formet 8'!$A$228:$O$337,7,0))","v":""},null,"",{"$nulls":3},"",0,0,{"$nulls":53},"",""]
[50,{"$f":"IF(MAX('Formet 8'!$A$228:$A$337)<'Fix Pay'!$A58,\"\",VLOOKUP($A58,'Formet 8'!$A$228:$O$337,4,0))","v":""},{"$f":"IF(MAX('Formet 8'!$A$228:$A$337)<'Fix Pay'!$A58,\"\",VLOOKUP($A58,'Formet 8'!$A$228:$O$337,7,0))","v":""},null,"",{"$nulls":3},"",0,0,{"$nulls":53},"",""]
[51,{"$f":"IF(MAX('Formet 8'!$A$228:$A$337)<'Fix Pay'!$A59,\"\",VLOOKUP($A59,'Formet 8'!$A$228:$O$337,4,0))","v":""},{"$f":"IF(MAX('Formet 8'!$A$228:$A$337)<'Fix Pay'!$A59,\"\",VLOOKUP($A59,'Formet 8'!$A$228:$O$337,7,0))","v":""},null,"",{"$nulls":3},"",0,0,{"$nulls":53},"",""]
[52,{"$f":"IF(MAX('Formet 8'!$A$228:$A$337)<'Fix Pay'!$A60,\"\",VLOOKUP($A60,'Formet 8'!$A$228:$O$337,4,0))","v":""},{"$f":"IF(MAX('Formet 8'!$A$228:$A$337)<'Fix Pay'!$A60,\"\",VLOOKUP($A60,'Formet 8'!$A$228:$O$337,7,0))","v":""},null,"",{"$nulls":3},"",0,0,{"$nulls":53},"",""]
[53,{"$f":"IF(MAX('Formet 8'!$A$228:$A$337)<'Fix Pay'!$A61,\"\",VLOOKUP($A61,'Formet 8'!$A$228:$O$337,4,0))","v":""},{"$f":"IF(MAX('Formet 8'!$A$228:$A$337)<'Fix Pay'!$A61,\"\",VLOOKUP($A61,'Formet 8'!$A$228:$O$337,7,0))","v":""},null,"",{"$nulls":3},"",0,0,{"$nulls":53},"",""]
[54,{"$f":"IF(MAX('Formet 8'!$A$228:$A$337)<'Fix Pay'!$A62,\"\",VLOOKUP($A62,'Formet 8'!$A$228:$O$337,4,0))","v":""},{"$f":"IF(MAX('Formet 8'!$A$228:$A$337)<'Fix Pay'!$A62,\"\",VLOOKUP($A62,'Formet 8'!$A$228:$O$337,7,0))","v":""},null,"",{"$nulls":3},"",0,0,{"$nulls":53},"",""]
[55,{"$f":"IF(MAX('Formet 8'!$A$228:$A$337)<'Fix Pay'!$A63,\"\",VLOOKUP($A63,'Formet 8'!$A$228:$O$337,4,0))","v":""},{"$f":"IF(MAX('Formet 8'!$A$228:$A$337)<'Fix Pay'!$A63,\"\",VLOOKUP($A63,'Formet 8'!$A$228:$O$337,7,0))","v":""},null,"",{"$nulls":3},"",0,0,{"$nulls":53},"",""]
[56,{"$f":"IF(MAX('Formet 8'!$A$228:$A$337)<'Fix Pay'!$A64,\"\",VLOOKUP($A64,'Formet 8'!$A$228:$O$337,4,0))","v":""},{"$f":"IF(MAX('Formet 8'!$A$228:$A$337)<'Fix Pay'!$A64,\"\",VLOOKUP($A64,'Formet 8'!$A$228:$O$337,7,0))","v":""},null,"",{"$nulls":3},"",0,0,{"$nulls":53},"",""]
[57,{"$f":"IF(MAX('Formet 8'!$A$228:$A$337)<'Fix Pay'!$A65,\"\",VLOOKUP($A65,'Formet 8'!$A$228:$O$337,4,0))","v":""},{"$f":"IF(MAX('Formet 8'!$A$228:$A$337)<'Fix Pay'!$A65,\"\",VLOOKUP($A65,'Formet 8'!$A$228:$O$337,7,0))","v":""},null,"",{"$nulls":3},"",0,0,{"$nulls":53},"",""]
[58,{"$f":"IF(MAX('Formet 8'!$A$228:$A$337)<'Fix Pay'!$A66,\"\",VLOOKUP($A66,'Formet 8'!$A$228:$O$337,4,0))","v":""},{"$f":"IF(MAX('Formet 8'!$A$228:$A$337)<'Fix Pay'!$A66,\"\",VLOOKUP($A66,'Formet 8'!$A$228:$O$337,7,0))","v":""},null,"",{"$nulls":3},"",0,0,{"$nulls":53},"",""]
[59,{"$f":"IF(MAX('Formet 8'!$A$228:$A$337)<'Fix Pay'!$A67,\"\",VLOOKUP($A67,'Formet 8'!$A$228:$O$337,4,0))","v":""},{"$f":"IF(MAX('Formet 8'!$A$228:$A$337)<'Fix Pay'!$A67,\"\",VLOOKUP($A67,'Formet 8'!$A$228:$O$337,7,0))","v":""},null,"",{"$nulls":3},"",0,0,{"$nulls":53},"",""]
[60,{"$f":"IF(MAX('Formet 8'!$A$228:$A$337)<'Fix Pay'!$A68,\"\",VLOOKUP($A68,'Formet 8'!$A$228:$O$337,4,0))","v":""},{"$f":"IF(MAX('Formet 8'!$A$228:$A$337)<'Fix Pay'!$A68,\"\",VLOOKUP($A68,'Formet 8'!$A$228:$O$337,7,0))","v":""},null,"",{"$nulls":3},"",0,0,{"$nulls":53},"",""]
[61,{"$f":"IF(MAX('Formet 8'!$A$228:$A$337)<'Fix Pay'!$A69,\"\",VLOOKUP($A69,'Formet 8'!$A$228:$O$337,4,0))","v":""},{"$f":"IF(MAX('Formet 8'!$A$228:$A$337)<'Fix Pay'!$A69,\"\",VLOOKUP($A69,'Formet 8'!$A$228:$O$337,7,0))","v":""},null,"",{"$nulls":3},"",0,0,{"$nulls":53},"",""]
[62,{"$f":"IF(MAX('Formet 8'!$A$228:$A$337)<'Fix Pay'!$A70,\"\",VLOOKUP($A70,'Formet 8'!$A$228:$O$337,4,0))","v":""},{"$f":"IF(MAX('Formet 8'!$A$228:$A$337)<'Fix Pay'!$A70,\"\",VLOOKUP($A70,'Formet 8'!$A$228:$O$337,7,0))","v":""},null,"",{"$nulls":3},"",0,0,{"$nulls":53},"",""]
[63,{"$f":"IF(MAX('Formet 8'!$A$228:$A$337)<'Fix Pay'!$A71,\"\",VLOOKUP($A71,'Formet 8'!$A$228:$O$337,4,0))","v":""},{"$f":"IF(MAX('Formet 8'!$A$228:$A$337)<'Fix Pay'!$A71,\"\",VLOOKUP($A71,'Formet 8'!$A$228:$O$337,7,0))","v":""},null,"",{"$nulls":3},"",0,0,{"$nulls":53},"",""]
[64,{"$f":"IF(MAX('Formet 8'!$A$228:$A$337)<'Fix Pay'!$A72,\"\",VLOOKUP($A72,'Formet 8'!$A$228:$O$337,4,0))","v":""},{"$f":"IF(MAX('Formet 8'!$A$228:$A$337)<'Fix Pay'!$A72,\"\",VLOOKUP($A72,'Formet 8'!$A$228:$O$337,7,0))","v":""},null,"",{"$nulls":3},"",0,0,{"$nulls":53},"",""]
[65,{"$f":"IF(MAX('Formet 8'!$A$228:$A$337)<'Fix Pay'!$A73,\"\",VLOOKUP($A73,'Formet 8'!$A$228:$O$337,4,0))","v":""},{"$f":"IF(MAX('Formet 8'!$A$228:$A$337)<'Fix Pay'!$A73,\"\",VLOOKUP($A73,'Formet 8'!$A$228:$O$337,7,0))","v":""},null,"",{"$nulls":3},"",0,0,{"$nulls":53},"",{"$f":"IF(E74=\"\",\"\",IF($BN$6<E74,0,($BN$6-E74)/30))","v":""}]
[66,{"$f":"IF(MAX('Formet 8'!$A$228:$A$337)<'Fix Pay'!$A74,\"\",VLOOKUP($A74,'Formet 8'!$A$228:$O$337,4,0))","v":""},{"$f":"IF(MAX('Formet 8'!$A$228:$A$337)<'Fix Pay'!$A74,\"\",VLOOKUP($A74,'Formet 8'!$A$228:$O$337,7,0))","v":""},null,{"$f":"IF(B74=\"\",\"\",D74+365+366)","v":""},{"$nulls":3},{"$f":"IF(B74=\"\",\"\",H74*12)","v":""},{"$f":"IF(OR(BM74=\"\",BM74=0),F74*12,((12-BM74)*H74+BM74*F74))","v":0},{"$f":"IF(OR(BN74=\"\",BN74=0),H74*12,((12-BN74)*F74+BN74*H74))","v":0},{"$nulls":53},"",""]
[67,{"$f":"IF(MAX('Formet 8'!$A$228:$A$337)<'Fix Pay'!$A75,\"\",VLOOKUP($A75,'Formet 8'!$A$228:$O$337,4,0))","v":""},{"$f":"IF(MAX('Formet 8'!$A$228:$A$337)<'Fix Pay'!$A75,\"\",VLOOKUP($A75,'Formet 8'!$A$228:$O$337,7,0))","v":""},null,"",{"$nulls":3},"",0,0,{"$nulls":53},"",""]
[68,{"$f":"IF(MAX('Formet 8'!$A$228:$A$337)<'Fix Pay'!$A76,\"\",VLOOKUP($A76,'Formet 8'!$A$228:$O$337,4,0))","v":""},{"$f":"IF(MAX('Formet 8'!$A$228:$A$337)<'Fix Pay'!$A76,\"\",VLOOKUP($A76,'Formet 8'!$A$228:$O$337,7,0))","v":""},null,"",{"$nulls":3},"",0,0,{"$nulls":53},"",""]
[69,{"$f":"IF(MAX('Formet 8'!$A$228:$A$337)<'Fix Pay'!$A77,\"\",VLOOKUP($A77,'Formet 8'!$A$228:$O$337,4,0))","v":""},{"$f":"IF(MAX('Formet 8'!$A$228:$A$337)<'Fix Pay'!$A77,\"\",VLOOKUP($A77,'Formet 8'!$A$228:$O$337,7,0))","v":""},null,"",{"$nulls":3},"",0,0,{"$nulls":53},"",""]
[70,{"$f":"IF(MAX('Formet 8'!$A$228:$A$337)<'Fix Pay'!$A78,\"\",VLOOKUP($A78,'Formet 8'!$A$228:$O$337,4,0))","v":""},{"$f":"IF(MAX('Formet 8'!$A$228:$A$337)<'Fix Pay'!$A78,\"\",VLOOKUP($A78,'Formet 8'!$A$228:$O$337,7,0))","v":""},null,"",{"$nulls":3},"",0,0,{"$nulls":53},"",""]
[71,{"$f":"IF(MAX('Formet 8'!$A$228:$A$337)<'Fix Pay'!$A79,\"\",VLOOKUP($A79,'Formet 8'!$A$228:$O$337,4,0))","v":""},{"$f":"IF(MAX('Formet 8'!$A$228:$A$337)<'Fix Pay'!$A79,\"\",VLOOKUP($A79,'Formet 8'!$A$228:$O$337,7,0))","v":""},null,"",{"$nulls":3},"",0,0,{"$nulls":53},{"$f":"IF(OR(E80=\"\",BN79>0),\"\",IF($BM$6<E80,0,($BM$6-E80)/30))","v":""},""]
[72,{"$f":"IF(MAX('Formet 8'!$A$228:$A$337)<'Fix Pay'!$A80,\"\",VLOOKUP($A80,'Formet 8'!$A$228:$O$337,4,0))","v":""},{"$f":"IF(MAX('Formet 8'!$A$228:$A$337)<'Fix Pay'!$A80,\"\",VLOOKUP($A80,'Formet 8'!$A$228:$O$337,7,0))","v":""},null,"",{"$nulls":3},"",0,0,{"$nulls":53},"",""]
[73,{"$f":"IF(MAX('Formet 8'!$A$228:$A$337)<'Fix Pay'!$A81,\"\",VLOOKUP($A81,'Formet 8'!$A$228:$O$337,4,0))","v":""},{"$f":"IF(MAX('Formet 8'!$A$228:$A$337)<'Fix Pay'!$A81,\"\",VLOOKUP($A81,'Formet 8'!$A$228:$O$337,7,0))","v":""},null,"",{"$nulls":3},"",0,0,{"$nulls":53},"",""]
[74,{"$f":"IF(MAX('Formet 8'!$A$228:$A$337)<'Fix Pay'!$A82,\"\",VLOOKUP($A82,'Formet 8'!$A$228:$O$337,4,0))","v":""},{"$f":"IF(MAX('Formet 8'!$A$228:$A$337)<'Fix Pay'!$A82,\"\",VLOOKUP($A82,'Formet 8'!$A$228:$O$337,7,0))","v":""},null,"",{"$nulls":3},"",0,0,{"$nulls":53},"",""]
[75,{"$f":"IF(MAX('Formet 8'!$A$228:$A$337)<'Fix Pay'!$A83,\"\",VLOOKUP($A83,'Formet 8'!$A$228:$O$337,4,0))","v":""},{"$f":"IF(MAX('Formet 8'!$A$228:$A$337)<'Fix Pay'!$A83,\"\",VLOOKUP($A83,'Formet 8'!$A$228:$O$337,7,0))","v":""},null,"",{"$nulls":3},"",0,0,{"$nulls":53},"",""]
[76,{"$f":"IF(MAX('Formet 8'!$A$228:$A$337)<'Fix Pay'!$A84,\"\",VLOOKUP($A84,'Formet 8'!$A$228:$O$337,4,0))","v":""},{"$f":"IF(MAX('Formet 8'!$A$228:$A$337)<'Fix Pay'!$A84,\"\",VLOOKUP($A84,'Formet 8'!$A$228:$O$337,7,0))","v":""},null,"",{"$nulls":3},"",0,0,{"$nulls":53},"",""]
[77,{"$f":"IF(MAX('Formet 8'!$A$228:$A$337)<'Fix Pay'!$A85,\"\",VLOOKUP($A85,'Formet 8'!$A$228:$O$337,4,0))","v":""},{"$f":"IF(MAX('Formet 8'!$A$228:$A$337)<'Fix Pay'!$A85,\"\",VLOOKUP($A85,'Formet 8'!$A$228:$O$337,7,0))","v":""},null,"",{"$nulls":3},"",0,0,{"$nulls":53},"",""]
[78,{"$f":"IF(MAX('Formet 8'!$A$228:$A$337)<'Fix Pay'!$A86,\"\",VLOOKUP($A86,'Formet 8'!$A$228:$O$337,4,0))","v":""},{"$f":"IF(MAX('Formet 8'!$A$228:$A$337)<'Fix Pay'!$A86,\"\",VLOOKUP($A86,'Formet 8'!$A$228:$O$337,7,0))","v":""},null,"",{"$nulls":3},"",0,0,{"$nulls":53},"",""]
[79,{"$f":"IF(MAX('Formet 8'!$A$228:$A$337)<'Fix Pay'!$A87,\"\",VLOOKUP($A87,'Formet 8'!$A$228:$O$337,4,0))","v":""},{"$f":"IF(MAX('Formet 8'!$A$228:$A$337)<'Fix Pay'!$A87,\"\",VLOOKUP($A87,'Formet 8'!$A$228:$O$337,7,0))","v":""},null,"",{"$nulls":3},"",0,0,{"$nulls":53},"",""]
[80,{"$f":"IF(MAX('Formet 8'!$A$228:$A$337)<'Fix Pay'!$A88,\"\",VLOOKUP($A88,'Formet 8'!$A$228:$O$337,4,0))","v":""},{"$f":"IF(MAX('Formet 8'!$A$228:$A$337)<'Fix Pay'!$A88,\"\",VLOOKUP($A88,'Formet 8'!$A$228:$O$337,7,0))","v":""},null,"",{"$nulls":3},"",0,0,{"$nulls":53},"",""]
[81,{"$f":"IF(MAX('Formet 8'!$A$228:$A$337)<'Fix Pay'!$A89,\"\",VLOOKUP($A89,'Formet 8'!$A$228:$O$337,4,0))","v":""},{"$f":"IF(MAX('Formet 8'!$A$228:$A$337)<'Fix Pay'!$A89,\"\",VLOOKUP($A89,'Formet 8'!$A$228:$O$337,7,0))","v":""},null,"",{"$nulls":3},"",0,0,{"$nulls":53},"",""]
[82,{"$f":"IF(MAX('Formet 8'!$A$228:$A$337)<'Fix Pay'!$A90,\"\",VLOOKUP($A90,'Formet 8'!$A$228:$O$337,4,0))","v":""},{"$f":"IF(MAX('Formet 8'!$A$228:$A$337)<'Fix Pay'!$A90,\"\",VLOOKUP($A90,'Formet 8'!$A$228:$O$337,7,0))","v":""},null,"",{"$nulls":3},"",0,0,{"$nulls":53},"",""]
[83,{"$f":"IF(MAX('Formet 8'!$A$228:$A$337)<'Fix Pay'!$A91,\"\",VLOOKUP($A91,'Formet 8'!$A$228:$O$337,4,0))","v":""},{"$f":"IF(MAX('Formet 8'!$A$228:$A$337)<'Fix Pay'!$A91,\"\",VLOOKUP($A91,'Formet 8'!$A$228:$O$337,7,0))","v":""},null,"",{"$nulls":3},"",0,0,{"$nulls":53},"",""]
[84,{"$f":"IF(MAX('Formet 8'!$A$228:$A$337)<'Fix Pay'!$A92,\"\",VLOOKUP($A92,'Formet 8'!$A$228:$O$337,4,0))","v":""},{"$f":"IF(MAX('Formet 8'!$A$228:$A$337)<'Fix Pay'!$A92,\"\",VLOOKUP($A92,'Formet 8'!$A$228:$O$337,7,0))","v":""},null,"",{"$nulls":3},"",0,0,{"$nulls":53},"",""]
[85,{"$f":"IF(MAX('Formet 8'!$A$228:$A$337)<'Fix Pay'!$A93,\"\",VLOOKUP($A93,'Formet 8'!$A$228:$O$337,4,0))","v":""},{"$f":"IF(MAX('Formet 8'!$A$228:$A$337)<'Fix Pay'!$A93,\"\",VLOOKUP($A93,'Formet 8'!$A$228:$O$337,7,0))","v":""},null,"",{"$nulls":3},"",0,0,{"$nulls":53},"",""]
[86,{"$f":"IF(MAX('Formet 8'!$A$228:$A$337)<'Fix Pay'!$A94,\"\",VLOOKUP($A94,'Formet 8'!$A$228:$O$337,4,0))","v":""},{"$f":"IF(MAX('Formet 8'!$A$228:$A$337)<'Fix Pay'!$A94,\"\",VLOOKUP($A94,'Formet 8'!$A$228:$O$337,7,0))","v":""},null,"",{"$nulls":3},"",0,0,{"$nulls":53},"",""]
[87,{"$f":"IF(MAX('Formet 8'!$A$228:$A$337)<'Fix Pay'!$A95,\"\",VLOOKUP($A95,'Formet 8'!$A$228:$O$337,4,0))","v":""},{"$f":"IF(MAX('Formet 8'!$A$228:$A$337)<'Fix Pay'!$A95,\"\",VLOOKUP($A95,'Formet 8'!$A$228:$O$337,7,0))","v":""},null,"",{"$nulls":3},"",0,0,{"$nulls":53},"",""]
[88,{"$f":"IF(MAX('Formet 8'!$A$228:$A$337)<'Fix Pay'!$A96,\"\",VLOOKUP($A96,'Formet 8'!$A$228:$O$337,4,0))","v":""},{"$f":"IF(MAX('Formet 8'!$A$228:$A$337)<'Fix Pay'!$A96,\"\",VLOOKUP($A96,'Formet 8'!$A$228:$O$337,7,0))","v":""},null,"",{"$nulls":3},"",0,0,{"$nulls":53},"",""]
[89,{"$f":"IF(MAX('Formet 8'!$A$228:$A$337)<'Fix Pay'!$A97,\"\",VLOOKUP($A97,'Formet 8'!$A$228:$O$337,4,0))","v":""},{"$f":"IF(MAX('Formet 8'!$A$228:$A$337)<'Fix Pay'!$A97,\"\",VLOOKUP($A97,'Formet 8'!$A$228:$O$337,7,0))","v":""},null,"",{"$nulls":3},"",0,0,{"$nulls":53},"",""]
[90,{"$f":"IF(MAX('Formet 8'!$A$228:$A$337)<'Fix Pay'!$A98,\"\",VLOOKUP($A98,'Formet 8'!$A$228:$O$337,4,0))","v":""},{"$f":"IF(MAX('Formet 8'!$A$228:$A$337)<'Fix Pay'!$A98,\"\",VLOOKUP($A98,'Formet 8'!$A$228:$O$337,7,0))","v":""},null,"",{"$nulls":3},"",0,0,{"$nulls":53},"",""]
[91,{"$f":"IF(MAX('Formet 8'!$A$228:$A$337)<'Fix Pay'!$A99,\"\",VLOOKUP($A99,'Formet 8'!$A$228:$O$337,4,0))","v":""},{"$f":"IF(MAX('Formet 8'!$A$228:$A$337)<'Fix Pay'!$A99,\"\",VLOOKUP($A99,'Formet 8'!$A$228:$O$337,7,0))","v":""},null,"",{"$nulls":3},"",0,0,{"$nulls":53},"",""]
[92,{"$f":"IF(MAX('Formet 8'!$A$228:$A$337)<'Fix Pay'!$A100,\"\",VLOOKUP($A100,'Formet 8'!$A$228:$O$337,4,0))","v":""},{"$f":"IF(MAX('Formet 8'!$A$228:$A$337)<'Fix Pay'!$A100,\"\",VLOOKUP($A100,'Formet 8'!$A$228:$O$337,7,0))","v":""},null,"",{"$nulls":3},"",0,0,{"$nulls":53},"",""]
[93,{"$f":"IF(MAX('Formet 8'!$A$228:$A$337)<'Fix Pay'!$A101,\"\",VLOOKUP($A101,'Formet 8'!$A$228:$O$337,4,0))","v":""},{"$f":"IF(MAX('Formet 8'!$A$228:$A$337)<'Fix Pay'!$A101,\"\",VLOOKUP($A101,'Formet 8'!$A$228:$O$337,7,0))","v":""},null,"",{"$nulls":3},"",0,0,{"$nulls":53},"",""]
[94,{"$f":"IF(MAX('Formet 8'!$A$228:$A$337)<'Fix Pay'!$A102,\"\",VLOOKUP($A102,'Formet 8'!$A$228:$O$337,4,0))","v":""},{"$f":"IF(MAX('Formet 8'!$A$228:$A$337)<'Fix Pay'!$A102,\"\",VLOOKUP($A102,'Formet 8'!$A$228:$O$337,7,0))","v":""},null,"",{"$nulls":3},"",0,0,{"$nulls":53},"",""]
[95,{"$f":"IF(MAX('Formet 8'!$A$228:$A$337)<'Fix Pay'!$A103,\"\",VLOOKUP($A103,'Formet 8'!$A$228:$O$337,4,0))","v":""},{"$f":"IF(MAX('Formet 8'!$A$228:$A$337)<'Fix Pay'!$A103,\"\",VLOOKUP($A103,'Formet 8'!$A$228:$O$337,7,0))","v":""},null,"",{"$nulls":3},"",0,0,{"$nulls":53},"",""]
[96,{"$f":"IF(MAX('Formet 8'!$A$228:$A$337)<'Fix Pay'!$A104,\"\",VLOOKUP($A104,'Formet 8'!$A$228:$O$337,4,0))","v":""},{"$f":"IF(MAX('Formet 8'!$A$228:$A$337)<'Fix Pay'!$A104,\"\",VLOOKUP($A104,'Formet 8'!$A$228:$O$337,7,0))","v":""},null,"",{"$nulls":3},"",0,0,{"$nulls":53},"",""]
[97,{"$f":"IF(MAX('Formet 8'!$A$228:$A$337)<'Fix Pay'!$A105,\"\",VLOOKUP($A105,'Formet 8'!$A$228:$O$337,4,0))","v":""},{"$f":"IF(MAX('Formet 8'!$A$228:$A$337)<'Fix Pay'!$A105,\"\",VLOOKUP($A105,'Formet 8'!$A$228:$O$337,7,0))","v":""},null,"",{"$nulls":3},"",0,0,{"$nulls":53},"",""]
[98,{"$f":"IF(MAX('Formet 8'!$A$228:$A$337)<'Fix Pay'!$A106,\"\",VLOOKUP($A106,'Formet 8'!$A$228:$O$337,4,0))","v":""},{"$f":"IF(MAX('Formet 8'!$A$228:$A$337)<'Fix Pay'!$A106,\"\",VLOOKUP($A106,'Formet 8'!$A$228:$O$337,7,0))","v":""},null,"",{"$nulls":3},"",0,0,{"$nulls":53},"",""]
[99,{"$f":"IF(MAX('Formet 8'!$A$228:$A$337)<'Fix Pay'!$A107,\"\",VLOOKUP($A107,'Formet 8'!$A$228:$O$337,4,0))","v":""},{"$f":"IF(MAX('Formet 8'!$A$228:$A$337)<'Fix Pay'!$A107,\"\",VLOOKUP($A107,'Formet 8'!$A$228:$O$337,7,0))","v":""},null,"",{"$nulls":3},"",0,0,{"$nulls":53},"",""]
[100,{"$f":"IF(MAX('Formet 8'!$A$228:$A$337)<'Fix Pay'!$A108,\"\",VLOOKUP($A108,'Formet 8'!$A$228:$O$337,4,0))","v":""},{"$f":"IF(MAX('Formet 8'!$A$228:$A$337)<'Fix Pay'!$A108,\"\",VLOOKUP($A108,'Formet 8'!$A$228:$O$337,7,0))","v":""},null,"",{"$nulls":3},"",0,0,{"$nulls":53},"",""]
[101,{"$f":"IF(MAX('Formet 8'!$A$228:$A$337)<'Fix Pay'!$A109,\"\",VLOOKUP($A109,'Formet 8'!$A$228:$O$337,4,0))","v":""},{"$f":"IF(MAX('Formet 8'!$A$228:$A$337)<'Fix Pay'!$A109,\"\",VLOOKUP($A109,'Formet 8'!$A$228:$O$337,7,0))","v":""},null,"",{"$nulls":3},"",0,0,{"$nulls":53},"",""]
[102,{"$f":"IF(MAX('Formet 8'!$A$228:$A$337)<'Fix Pay'!$A110,\"\",VLOOKUP($A110,'Formet 8'!$A$228:$O$337,4,0))","v":""},{"$f":"IF(MAX('Formet 8'!$A$228:$A$337)<'Fix Pay'!$A110,\"\",VLOOKUP($A110,'Formet 8'!$A$228:$O$337,7,0))","v":""},null,"",{"$nulls":3},"",0,0,{"$nulls":53},"",""]
[103,{"$f":"IF(MAX('Formet 8'!$A$228:$A$337)<'Fix Pay'!$A111,\"\",VLOOKUP($A111,'Formet 8'!$A$228:$O$337,4,0))","v":""},{"$f":"IF(MAX('Formet 8'!$A$228:$A$337)<'Fix Pay'!$A111,\"\",VLOOKUP($A111,'Formet 8'!$A$228:$O$337,7,0))","v":""},null,"",{"$nulls":3},"",0,0,{"$nulls":53},"",""]
[104,{"$f":"IF(MAX('Formet 8'!$A$228:$A$337)<'Fix Pay'!$A112,\"\",VLOOKUP($A112,'Formet 8'!$A$228:$O$337,4,0))","v":""},{"$f":"IF(MAX('Formet 8'!$A$228:$A$337)<'Fix Pay'!$A112,\"\",VLOOKUP($A112,'Formet 8'!$A$228:$O$337,7,0))","v":""},null,"",{"$nulls":3},"",0,0,{"$nulls":53},"",""]
[105,{"$f":"IF(MAX('Formet 8'!$A$228:$A$337)<'Fix Pay'!$A113,\"\",VLOOKUP($A113,'Formet 8'!$A$228:$O$337,4,0))","v":""},{"$f":"IF(MAX('Formet 8'!$A$228:$A$337)<'Fix Pay'!$A113,\"\",VLOOKUP($A113,'Formet 8'!$A$228:$O$337,7,0))","v":""},null,"",{"$nulls":3},"",0,0,{"$nulls":53},"",""]
[106,{"$f":"IF(MAX('Formet 8'!$A$228:$A$337)<'Fix Pay'!$A114,\"\",VLOOKUP($A114,'Formet 8'!$A$228:$O$337,4,0))","v":""},{"$f":"IF(MAX('Formet 8'!$A$228:$A$337)<'Fix Pay'!$A114,\"\",VLOOKUP($A114,'Formet 8'!$A$228:$O$337,7,0))","v":""},null,"",{"$nulls":3},"",0,0,{"$nulls":53},"",""]
[107,{"$f":"IF(MAX('Formet 8'!$A$228:$A$337)<'Fix Pay'!$A115,\"\",VLOOKUP($A115,'Formet 8'!$A$228:$O$337,4,0))","v":""},{"$f":"IF(MAX('Formet 8'!$A$228:$A$337)<'Fix Pay'!$A115,\"\",VLOOKUP($A115,'Formet 8'!$A$228:$O$337,7,0))","v":""},null,"",{"$nulls":3},"",0,0,{"$nulls":53},"",""]
[108,{"$f":"IF(MAX('Formet 8'!$A$228:$A$337)<'Fix Pay'!$A116,\"\",VLOOKUP($A116,'Formet 8'!$A$228:$O$337,4,0))","v":""},{"$f":"IF(MAX('Formet 8'!$A$228:$A$337)<'Fix Pay'!$A116,\"\",VLOOKUP($A116,'Formet 8'!$A$228:$O$337,7,0))","v":""},null,"",{"$nulls":3},"",0,0,{"$nulls":53},"",""]
["TOTAL",{"$nulls":6},{"$f":"SUM(H9:H33)","v":47400},{"$f":"SUM(I9:I33)","v":568800},{"$f":"SUM(J9:J33)","v":792010},{"$f":"SUM(K9:K33)","v":568800},{"$nulls":53},{"$f":"J117-H117","v":744610},{"$f":"K117-I117","v":0}]
[]
[]
[{"$nulls":5},{"$f":"'Cover Page'!A1","v":"ç/kkukpk;Z] jkmekfo jk;eyok³k ¼vkWfQl vkbZ-Mh- la[;k %&12345½"}]

{"sheet":"Fix Pay NPS","index":28,"n_rows":156,"n_cols":66,"rows_kept":156,"hidden":true,"merged":[[0,6,0,13],[1,0,1,13],[2,0,2,12],[3,0,3,13],[4,0,4,13],[5,0,5,13],[152,0,152,13],[153,0,153,11],[153,12,153,13],[154,0,154,11],[154,12,154,13],[155,0,155,11],[155,12,155,13]]}
[{"$nulls":6},{"$f":"Summary!$C$1","v":{"v":12345,"d":"OFFICE ID 12345"}}]
[{"$f":"Summary!$A$3","v":"Principal Govt. Sr. Sec. School Raimalwada"},{"$nulls":13},"Grade Pay",1300,1400,1650,1800,1850,1900,2000,2100,2400,2800,3200,3600,4200,4800,5400,6000,6600,6800,7200,7600,8200,8700,8900,10000]
[{"$nulls":14},"FIX PAY",4850,5050,5300,5600,5900,6100,6400,6750,7900,8950,10000,11100,13050,15000,16800,18200,20200,21300,22600,23950,26650,36900,38900,43800,"PRINCIPAL (16)","V P (14)","H M (14)","AGRICULTURE INST (13)","TEACHER-1ST (13)","PTI  I  (13)","AGRICULTURE TEACH (13)","INSTRUCTOR (13)","JR TEACHER (13)","LIBRARIAN I (13)","ASSISTANT (11)","TEACHER-2ND (12)","JR TEACHER (12)","PTI   II  (12)","LIBRARIAN II (12)","LAB ASST (11)","UDC (9)","PTI  III  (10)","TEACHER-3RD (10)","LIBRARIAN III (10)","LAB ASST (9)","LDC (6)","FIELDMAN & FIELD REC (6) ","LAB BOY (2)","JAMADAR (2)","PEON (2)","PEON (1)"]
["For FY - 2020-21 (April 2020 to March 2021)"]
["FORMAT NPS DETAIL (EMP. AFTER 01-01-2004)"]
[{"$f":"Summary!A5","v":"BUDGET HEAD : 2202 -सामान्य शिक्षा-02-109 -राजकीय माध्यमिक विद्यालय-07 -राष्ट्रीय माध्यमिक शिक्षा अभियान-01 -माध्यमिक शिक्षा अभियान- सामान्य व्यय (S.F. + C.A.)"}]
["S.No.","Name of Employee","Post","Pay Metrix Level","Salary on 1 July, 2020","pkyw o\"kZ ds fy, la'kksf/kr vuqeku","DA (17%)","Total (6+7)","NPS (Basic+DA*10/100)","vkxkeh o\"kZ ds vuqekfur fy;s jde ","DA (17%)","Total (10+11)","NPS (Basic+DA*10/100)","Total NPS (9+12)"]
[1,2,3,4,5,6,7,8,9,10,11,11,12,13]
[1,"vtey jke","TEACHER-III","L-10",33800,401600,{"$f":"ROUND(F9*17/100,0)","v":68272},{"$f":"F9+G9","v":469872},{"$f":"ROUND(H9*0.1,0)","v":46987},413600,{"$f":"ROUND(J9*17/100,0)","v":70312},{"$f":"J9+K9","v":483912},{"$f":"ROUND(L9*0.1,0)","v":48391},{"$f":"I9+M9","v":95378}]
[2,"vkuUn dqekjh 'kekZ","TEACHER-III","L-10",33800,401600,{"$f":"ROUND(F10*17/100,0)","v":68272},{"$f":"F10+G10","v":469872},{"$f":"ROUND(H10*0.1,0)","v":46987},413600,{"$f":"ROUND(J10*17/100,0)","v":70312},{"$f":"J10+K10","v":483912},{"$f":"ROUND(L10*0.1,0)","v":48391},{"$f":"I10+M10","v":95378}]
[3,"vfuy dqekj ehuk","TEACHER-III","L-11",46500,552400,93908,646308,64631,569200,96764,665964,66596,131227]
[4,"vk'kk dqekjh","TEACHER-III","L-10",38000,451600,76772,528372,52837,464800,79016,543816,54382,107219]
[5,"v'kksd dqekj","TEACHER-III","L-10",38000,451600,76772,528372,52837,464800,79016,543816,54382,107219]
[6,"ctjaxx yky","TEACHER-III","L-10",38000,451600,76772,528372,52837,464800,79016,543816,54382,107219]
[7,"HkkxhjFk","TEACHER-III","L-10",40300,478800,81396,560196,56020,493200,83844,577044,57704,113724]
[8,"Hkaojk jke","TEACHER-III","L-10",40300,478800,81396,560196,56020,493200,83844,577044,57704,113724]
[9,"Hkkseflag","TEACHER-III","L-10",40300,478800,81396,560196,56020,493200,83844,577044,57704,113724]
[10,"psruk","TEACHER-III","L-10",40300,478800,81396,560196,56020,493200,83844,577044,57704,113724]
[11,"nhikjke","TEACHER-III","L-10",38000,451600,76772,528372,52837,464800,79016,543816,54382,107219]
[12,"fnfidk HkkVh","TEACHER-III","L-10",34800,413600,70312,483912,48391,425600,72352,497952,49795,98186]
[13,"/keZohj flag","TEACHER-III","L-10",38000,451600,76772,528372,52837,464800,79016,543816,54382,107219]
[14,"/kesZUnz","TEACHER-III","L-10",46500,552400,93908,646308,64631,569200,96764,665964,66596,131227]
[15,"fMEiy dqekjh","TEACHER-III","L-10",34800,413600,70312,483912,48391,425600,72352,497952,49795,98186]
[16,"x.ks'kjke xksnkjk","TEACHER-III","L-11",52300,621600,105672,727272,72727,640400,108868,749268,74927,147654]
[17,"x.ks'kjke","TEACHER-III","L-10",34800,413600,70312,483912,48391,425600,72352,497952,49795,98186]
[18,"xkSjUrh ckbZ ehuk","TEACHER-III","L-10",33800,401600,68272,469872,46987,413600,70312,483912,48391,95378]
[19,"fxj/kkjh yky tkVo","TEACHER-III","L-10",38000,451600,76772,528372,52837,464800,79016,543816,54382,107219]
[20,"gqdek jke","TEACHER-III","L-10",40300,478800,81396,560196,56020,493200,83844,577044,57704,113724]
[21,"t;ukjk;.k","TEACHER-III","L-10",40300,478800,81396,560196,56020,493200,83844,577044,57704,113724]
[22,"ftrsUnz dqekj ehuk","TEACHER-III","L-10",38000,451600,76772,528372,52837,464800,79016,543816,54382,107219]
[23,"dYiuk","TEACHER-III","L-10",34800,413600,70312,483912,48391,425600,72352,497952,49795,98186]
[24,"deys'k ;kno","TEACHER-III","L-10",38000,451600,76772,528372,52837,464800,79016,543816,54382,107219]
[25,"dkuflag","TEACHER-III","L-11",46500,552400,93908,646308,64631,569200,96764,665964,66596,131227]
[26,"[ksyUrh ehuk","TEACHER-III","L-10",38000,451600,76772,528372,52837,464800,79016,543816,54382,107219]
[27,"dqEHkkjke xksnkjk","TEACHER-III","L-11",45100,536000,91120,627120,62712,552400,93908,646308,64631,127343]
[28,"fdj.k HkkVh","TEACHER-III","L-10",38000,451600,76772,528372,52837,464800,79016,543816,54382,107219]
[29,"dqynhi tk[kM","TEACHER-III","L-10",38000,451600,76772,528372,52837,464800,79016,543816,54382,107219]
[30,"dq'k dqekj HknkSfj;k","TEACHER-III","L-10",39100,464800,79016,543816,54382,478800,81396,560196,56020,110402]
[31,"egkohj izlkn ;kno","TEACHER-III","L-10",40300,478800,81396,560196,56020,493200,83844,577044,57704,113724]
[32,"egsUnz dqekj /krjoky","TEACHER-III","L-10",38000,451600,76772,528372,52837,464800,79016,543816,54382,107219]
[33,"ekaxqnku","TEACHER-III","L-10",33800,401600,68272,469872,46987,413600,70312,483912,48391,95378]
[34,"eatw dqekjh","TEACHER-III","L-10",34800,413600,70312,483912,48391,425600,72352,497952,49795,98186]
[35,"ehuk dqekjh dqynhi","TEACHER-III","L-10",38000,451600,76772,528372,52837,464800,79016,543816,54382,107219]
[36,"ewykjke flgkx","Prabodhak","L-11",46500,552400,93908,646308,64631,569200,96764,665964,66596,131227]
[37,"eqds'k xqtZj","TEACHER-III","L-10",38000,451600,76772,528372,52837,464800,79016,543816,54382,107219]
[38,"eqds'k dqekj ehuk","TEACHER-III","L-10",38000,451600,76772,528372,52837,464800,79016,543816,54382,107219]
[39,"eqds'k dqekj ehuk","TEACHER-III","L-10",38000,451600,76772,528372,52837,464800,79016,543816,54382,107219]
[40,"eqUuk jke es?koky","TEACHER-III","L-11",46500,552400,93908,646308,64631,569200,96764,665964,66596,131227]
[41,"ukud pUn","TEACHER-III","L-10",38000,451600,76772,528372,52837,464800,79016,543816,54382,107219]
[42,"ueZnk tk[kM","TEACHER-III","L-10",34800,413600,70312,483912,48391,425600,72352,497952,49795,98186]
[43,"ujs'k dqekj iwfu;ka","TEACHER-III","L-10",38000,451600,76772,528372,52837,464800,79016,543816,54382,107219]
[44,"ukFkwyky oekZ","TEACHER-III","L-10",38000,451600,76772,528372,52837,464800,79016,543816,54382,107219]
[45,"ujs'k dqekj","TEACHER-III","L-10",39100,464800,79016,543816,54382,478800,81396,560196,56020,110402]
[46,"vkse izdk'k","TEACHER-III","L-10",33800,401600,68272,469872,46987,413600,70312,483912,48391,95378]
[47,"d`\".k vorkj cSjok","TEACHER-III","L-10",38000,451600,76772,528372,52837,464800,79016,543816,54382,107219]
[48,"izrki jke tkafxM","TEACHER-III","L-10",38000,451600,76772,528372,52837,464800,79016,543816,54382,107219]
[49,"jQhd","TEACHER-III","L-10",38000,451600,76772,528372,52837,464800,79016,543816,54382,107219]
[50,"jktu","TEACHER-III","L-10",36900,438400,74528,512928,51293,451600,76772,528372,52837,104130]
[51,"jkds'k dqekj","TEACHER-III","L-10",40300,478800,81396,560196,56020,493200,83844,577044,57704,113724]
[52,"jkds'k lSu","TEACHER-III","L-10",38000,451600,76772,528372,52837,464800,79016,543816,54382,107219]
[53,"jkefuokl","TEACHER-III","L-10",22700,269600,45832,315432,31543,278000,47260,325260,32526,64069]
[54,"js'kekjke fo'uksbZ","TEACHER-III","L-10",38000,451600,76772,528372,52837,464800,79016,543816,54382,107219]
[55,"lghjke","TEACHER-III","L-10",33800,401600,68272,469872,46987,413600,70312,483912,48391,95378]
[56,"le> jkt ehuk","TEACHER-III","L-10",40300,478800,81396,560196,56020,493200,83844,577044,57704,113724]
[57,"ljkst nsoh","TEACHER-III","L-10",34800,413600,70312,483912,48391,425600,72352,497952,49795,98186]
[58," 'kSrku flag","TEACHER-III","L-10",33800,401600,68272,469872,46987,413600,70312,483912,48391,95378]
[59," 'kdqUryk nsoh","TEACHER-III","L-10",40300,478800,81396,560196,56020,493200,83844,577044,57704,113724]
[60,"f'keyk ehuk","TEACHER-III","L-10",40300,478800,81396,560196,56020,493200,83844,577044,57704,113724]
[61,"lhrkjke","TEACHER-III","L-10",40300,478800,81396,560196,56020,493200,83844,577044,57704,113724]
[62,"lqeu pkS/kjh","TEACHER-III","L-10",38000,451600,76772,528372,52837,464800,79016,543816,54382,107219]
[63,"lqeu dqekjh","TEACHER-III","L-10",33800,401600,68272,469872,46987,413600,70312,483912,48391,95378]
[64,"lqjs'k pUn cSjok","TEACHER-III","L-10",40300,478800,{"$f":"ROUND(F72*17/100,0)","v":81396},{"$f":"F72+G72","v":560196},{"$f":"ROUND(H72*0.1,0)","v":56020},493200,{"$f":"ROUND(J72*17/100,0)","v":83844},{"$f":"J72+K72","v":577044},{"$f":"ROUND(L72*0.1,0)","v":57704},113724]
[65,"lqjs'k tk;loky","TEACHER-III","L-10",40300,478800,81396,560196,56020,493200,83844,577044,57704,113724]
[66,"lqjs'k dqekj ehuk","TEACHER-III","L-10",22700,269600,45832,315432,31543,278000,47260,325260,32526,{"$f":"I74+M74","v":64069}]
[67,"rkjkpUnz es?koky","TEACHER-III","L-10",40300,478800,81396,560196,56020,493200,83844,577044,57704,113724]
[68,"fotsUnz dqekj","TEACHER-III","L-10",38000,451600,76772,528372,52837,464800,79016,543816,54382,107219]
[69,"foØe tks'kh","TEACHER-III","L-10",40300,478800,81396,560196,56020,493200,83844,577044,57704,113724]
[70,"foey dqekj lSuh","TEACHER-III","L-10",40300,478800,81396,560196,56020,493200,83844,577044,57704,113724]
[71,"foeyk","TEACHER-III","L-10",34800,413600,70312,483912,48391,425600,72352,497952,49795,98186]
[72,"toku jke","TEACHER-III","L-10",38000,451600,76772,528372,52837,464800,79016,543816,54382,107219]
[73,";ksxsUnz flag <kdk","TEACHER-III","L-11",46500,552400,93908,646308,64631,569200,96764,665964,66596,131227]
[74,{"$f":"'Formet 8'!D238","v":"DFBDZFB"},{"$f":"'Formet 8'!G238","v":"TEACHER-III"},"LP-10",23700,{"$f":"ROUND(E82*12,0)","v":284400},0,{"$f":"F82+G82","v":284400},28440,{"$f":"H82+I82","v":312840},0,{"$f":"J82+K82","v":312840},31284,59724]
[75,{"$f":"'Formet 8'!D239","v":""},{"$f":"'Formet 8'!G239","v":""},"LP-10",23700,{"$f":"ROUND(E83*12,0)","v":284400},0,{"$f":"F83+G83","v":284400},28440,312840,0,{"$f":"J83+K83","v":312840},31284,59724]
[76,{"$f":"'Formet 8'!D240","v":""},{"$f":"'Formet 8'!G240","v":""},"LP-10",23700,284400,0,284400,28440,312840,0,312840,31284,59724]
[77,{"$f":"'Formet 8'!D241","v":""},{"$f":"'Formet 8'!G241","v":""},"LP-10",23700,284400,0,284400,28440,312840,0,312840,31284,59724]
[78,{"$f":"'Formet 8'!D242","v":""},{"$f":"'Formet 8'!G242","v":""},"LP-10",23700,284400,0,284400,28440,312840,0,312840,31284,59724]
[79,{"$f":"'Formet 8'!D243","v":""},{"$f":"'Formet 8'!G243","v":""},"LP-10",23700,284400,0,284400,28440,312840,0,312840,31284,59724]
[80,{"$f":"'Formet 8'!D244","v":""},{"$f":"'Formet 8'!G244","v":""},"LP-10",23700,284400,0,284400,28440,312840,0,312840,31284,59724]
[81,{"$f":"'Formet 8'!D245","v":""},{"$f":"'Formet 8'!G245","v":""},"LP-10",23700,284400,0,284400,28440,312840,0,312840,31284,59724]
[82,{"$f":"'Formet 8'!D246","v":""},{"$f":"'Formet 8'!G246","v":""},"LP-10",23700,284400,0,284400,28440,312840,0,312840,31284,59724]
[83,{"$f":"'Formet 8'!D247","v":""},{"$f":"'Formet 8'!G247","v":""},"LP-10",23700,284400,0,284400,28440,312840,0,312840,31284,59724]
[84,{"$f":"'Formet 8'!D248","v":""},{"$f":"'Formet 8'!G248","v":""},"LP-10",23700,284400,0,284400,28440,312840,0,312840,31284,59724]
[85,{"$f":"'Formet 8'!D249","v":""},{"$f":"'Formet 8'!G249","v":""},"LP-10",23700,284400,0,284400,28440,312840,0,312840,31284,59724]
[86,{"$f":"'Formet 8'!D250","v":""},{"$f":"'Formet 8'!G250","v":""},"LP-10",23700,284400,0,284400,28440,312840,0,312840,31284,59724]
[87,{"$f":"'Formet 8'!D251","v":""},{"$f":"'Formet 8'!G251","v":""},"LP-10",23700,284400,0,284400,28440,312840,0,312840,31284,59724]
[88,{"$f":"'Formet 8'!D252","v":""},{"$f":"'Formet 8'!G252","v":""},"LP-10",23700,284400,0,284400,28440,312840,0,312840,31284,59724]
[89,{"$f":"'Formet 8'!D253","v":""},{"$f":"'Formet 8'!G253","v":""},"LP-10",23700,284400,0,284400,28440,312840,0,312840,31284,59724]
[90,{"$f":"'Formet 8'!D254","v":""},{"$f":"'Formet 8'!G254","v":""},"LP-10",23700,284400,0,284400,28440,312840,0,312840,31284,59724]
[91,{"$f":"'Formet 8'!D255","v":""},{"$f":"'Formet 8'!G255","v":""},"LP-10",23700,284400,0,284400,28440,312840,0,312840,31284,59724]
[92,{"$f":"'Formet 8'!D256","v":""},{"$f":"'Formet 8'!G256","v":""},"LP-10",23700,284400,0,284400,28440,312840,0,312840,31284,59724]
[93,{"$f":"'Formet 8'!D257","v":""},{"$f":"'Formet 8'!G257","v":""},"LP-10",23700,284400,0,284400,28440,312840,0,312840,31284,59724]
[94,{"$f":"'Formet 8'!D258","v":""},{"$f":"'Formet 8'!G258","v":""},"LP-10",23700,284400,0,284400,28440,312840,0,312840,31284,59724]
[95,{"$f":"'Formet 8'!D259","v":""},{"$f":"'Formet 8'!G259","v":""},"LP-10",23700,284400,0,284400,28440,312840,0,312840,31284,59724]
[96,{"$f":"'Formet 8'!D260","v":""},{"$f":"'Formet 8'!G260","v":""},"LP-10",23700,284400,0,284400,28440,312840,0,312840,31284,59724]
[97,{"$f":"'Formet 8'!D261","v":""},{"$f":"'Formet 8'!G261","v":""},"LP-10",23700,284400,0,284400,28440,312840,0,312840,31284,59724]
[98,{"$f":"'Formet 8'!D262","v":""},{"$f":"'Formet 8'!G262","v":""},"LP-10",23700,284400,0,284400,28440,312840,0,312840,31284,59724]
[99,{"$f":"'Formet 8'!D263","v":""},{"$f":"'Formet 8'!G263","v":""},"LP-10",23700,284400,0,284400,28440,312840,0,312840,31284,59724]
[100,{"$f":"'Formet 8'!D264","v":""},{"$f":"'Formet 8'!G264","v":""},"LP-10",23700,284400,0,284400,28440,312840,0,312840,31284,59724]
[101,{"$f":"'Formet 8'!D265","v":""},{"$f":"'Formet 8'!G265","v":""},"LP-10",23700,284400,0,284400,28440,312840,0,312840,31284,59724]
[104,{"$f":"'Formet 8'!D266","v":""},{"$f":"'Formet 8'!G266","v":""}]
[105,{"$f":"'Formet 8'!D267","v":""},{"$f":"'Formet 8'!G267","v":""}]
[106,{"$f":"'Formet 8'!D268","v":""},{"$f":"'Formet 8'!G268","v":""}]
[107,{"$f":"'Formet 8'!D269","v":""},{"$f":"'Formet 8'!G269","v":""}]
[108,{"$f":"'Formet 8'!D270","v":""},{"$f":"'Formet 8'!G270","v":""}]
[109,{"$f":"'Formet 8'!D271","v":""},{"$f":"'Formet 8'!G271","v":""}]
[110,{"$f":"'Formet 8'!D272","v":""},{"$f":"'Formet 8'!G272","v":""}]
[111]
[112]
[113]
[114]
[115]
[116]
[117]
[118]
[119]
[120]
[121]
[122]
[123]
[124]
[125]
[126]
[127]
[128]
[129]
[130]
[131]
[132]
[133]
[134]
[135]
[136]
[137]
[138]
[139]
[140]
[141]
[142]
[143]
[144]
[145]
[null,"TOTAL",{"$nulls":4},{"$f":"SUM(G82:G151)","v":0},null,{"$f":"SUM(I8:I151)","v":4684660},{"$nulls":3},{"$f":"SUM(M8:M151)","v":4879797},{"$f":"I152+M152","v":9564457}]
[]
["DA Arr. (5%) NPS 2020-21",{"$nulls":11},{"$f":"ROUND('Formet 8'!N218*0.1,0)","v":3828}]
["DA Arr. (5%) NPS 2021-22",{"$nulls":11},{"$f":"ROUND('Formet 8'!M218*0.1,0)","v":7771}]
["Grand Total Of NPS",{"$nulls":11},{"$f":"N152+M154+M155","v":9576056}]

{"sheet":"DA AREAR","index":29,"n_rows":209,"n_cols":7,"rows_kept":209,"merged":[[0,0,0,6],[0,7,208,7],[1,0,1,6],[2,0,2,6],[3,0,3,6],[206,0,206,4],[207,0,207,6],[208,0,208,4],[208,5,208,6]]}
[{"$f":"Summary!$A$2","v":"ç/kkukpk;Z] jkmekfo jk;eyok³k ¼vkWfQl vkbZ-Mh- la[;k %&12345½"}]
["izi="]
["osru fLFkjhdj.k ,oa eagxkbZ HkRrs dk ,fj;j"]
[{"$f":"'Formet 9'!A7","v":"BUDGET HEAD : 2202 -सामान्य शिक्षा-02-109 -राजकीय माध्यमिक विद्यालय-07 -राष्ट्रीय माध्यमिक शिक्षा अभियान-01 -माध्यमिक शिक्षा अभियान- सामान्य व्यय (S.F. + C.A.)"}]
["Ø-la-","uke vf/kdkjh@ deZpkjh","inuke","osru","c<s gq,s eagxkbZ HkRrs dh nj","l'kksf/kr vuqeku ¼pkyw o\"kZ½","vk; O;;d vuqeku ¼vkxkeh o\"kZ½"]
["1","2","3","4","5","6","7"]
[1,{"$f":"IF(MAX('Formet 8'!$A$12:$A$213)<$A7,\"\",VLOOKUP($A7,'Formet 8'!$A$12:$O$213,4,0))","v":"ABC"},{"$f":"IF(MAX('Formet 8'!$A$12:$A$213)<$A7,\"\",VLOOKUP($A7,'Formet 8'!$A$12:$O$213,7,0))","v":"PRINCIPAL"},{"$f":"IF(MAX('Formet 8'!$A$12:$A$213)<$A7,\"\",VLOOKUP($A7,'Formet 8'!$A$12:$O$213,9,0))","v":69300},{"$f":"IF(AND(D7=\"\"),\"\",'Formet 8'!E$218)","v":{"v":0.04,"d":"4%"}},{"$f":"IF(AND(D7=\"\"),\"\",ROUND((D7*E7)*3,0))","v":8316},{"$f":"IF(AND(D7=\"\"),\"\",(ROUND(D7*103%,0)*E7*3)+F7)","v":{"v":16881.48,"d":"16881"}}]
[2,{"$f":"IF(MAX('Formet 8'!$A$12:$A$213)<$A8,\"\",VLOOKUP($A8,'Formet 8'!$A$12:$O$213,4,0))","v":"FGD"},{"$f":"IF(MAX('Formet 8'!$A$12:$A$213)<$A8,\"\",VLOOKUP($A8,'Formet 8'!$A$12:$O$213,7,0))","v":"TEACHER-II"},{"$f":"IF(MAX('Formet 8'!$A$12:$A$213)<$A8,\"\",VLOOKUP($A8,'Formet 8'!$A$12:$O$213,9,0))","v":45100},{"$f":"IF(AND(D8=\"\"),\"\",'Formet 8'!E$218)","v":{"v":0.04,"d":"4%"}},{"$f":"IF(AND(D8=\"\"),\"\",ROUND((D8*E8)*3,0))","v":5412},{"$f":"IF(AND(D8=\"\"),\"\",(ROUND(D8*103%,0)*E8*3)+F8)","v":{"v":10986.36,"d":"10986"}}]
[3,{"$f":"IF(MAX('Formet 8'!$A$12:$A$213)<$A9,\"\",VLOOKUP($A9,'Formet 8'!$A$12:$O$213,4,0))","v":"ZGD"},{"$f":"IF(MAX('Formet 8'!$A$12:$A$213)<$A9,\"\",VLOOKUP($A9,'Formet 8'!$A$12:$O$213,7,0))","v":"TEACHER-III"},{"$f":"IF(MAX('Formet 8'!$A$12:$A$213)<$A9,\"\",VLOOKUP($A9,'Formet 8'!$A$12:$O$213,9,0))","v":36900},{"$f":"IF(AND(D9=\"\"),\"\",'Formet 8'!E$218)","v":{"v":0.04,"d":"4%"}},4428,{"v":8988.84,"d":"8989"}]
[4,{"$f":"IF(MAX('Formet 8'!$A$12:$A$213)<$A10,\"\",VLOOKUP($A10,'Formet 8'!$A$12:$O$213,4,0))","v":"DBCZFB"},{"$f":"IF(MAX('Formet 8'!$A$12:$A$213)<$A10,\"\",VLOOKUP($A10,'Formet 8'!$A$12:$O$213,7,0))","v":"TEACHER-III"},{"$f":"IF(MAX('Formet 8'!$A$12:$A$213)<$A10,\"\",VLOOKUP($A10,'Formet 8'!$A$12:$O$213,9,0))","v":49300},{"$f":"IF(AND(D10=\"\"),\"\",'Formet 8'!E$218)","v":{"v":0.04,"d":"4%"}},5916,{"v":12009.48,"d":"12009"}]
[5,{"$f":"IF(MAX('Formet 8'!$A$12:$A$213)<$A11,\"\",VLOOKUP($A11,'Formet 8'!$A$12:$O$213,4,0))","v":"D"},{"$f":"IF(MAX('Formet 8'!$A$12:$A$213)<$A11,\"\",VLOOKUP($A11,'Formet 8'!$A$12:$O$213,7,0))","v":"TEACHER-III"},{"$f":"IF(MAX('Formet 8'!$A$12:$A$213)<$A11,\"\",VLOOKUP($A11,'Formet 8'!$A$12:$O$213,9,0))","v":40300},{"$f":"IF(AND(D11=\"\"),\"\",'Formet 8'!E$218)","v":{"v":0.04,"d":"4%"}},{"$f":"IF(AND(D11=\"\"),\"\",ROUND((D11*E11)*3,0))","v":4836},{"v":9817.08,"d":"9817"}]
[6,{"$f":"IF(MAX('Formet 8'!$A$12:$A$213)<$A12,\"\",VLOOKUP($A12,'Formet 8'!$A$12:$O$213,4,0))","v":"BCBD"},{"$f":"IF(MAX('Formet 8'!$A$12:$A$213)<$A12,\"\",VLOOKUP($A12,'Formet 8'!$A$12:$O$213,7,0))","v":"TEACHER-III"},{"$f":"IF(MAX('Formet 8'!$A$12:$A$213)<$A12,\"\",VLOOKUP($A12,'Formet 8'!$A$12:$O$213,9,0))","v":45100},{"$f":"IF(AND(D12=\"\"),\"\",'Formet 8'!E$218)","v":{"v":0.04,"d":"4%"}},{"$f":"IF(AND(D12=\"\"),\"\",ROUND((D12*E12)*3,0))","v":5412},{"v":10986.36,"d":"10986"}]
[7,{"$f":"IF(MAX('Formet 8'!$A$12:$A$213)<$A13,\"\",VLOOKUP($A13,'Formet 8'!$A$12:$O$213,4,0))","v":"GBGCBD"},{"$f":"IF(MAX('Formet 8'!$A$12:$A$213)<$A13,\"\",VLOOKUP($A13,'Formet 8'!$A$12:$O$213,7,0))","v":"PEON"},{"$f":"IF(MAX('Formet 8'!$A$12:$A$213)<$A13,\"\",VLOOKUP($A13,'Formet 8'!$A$12:$O$213,9,0))","v":33000},{"$f":"IF(AND(D13=\"\"),\"\",'Formet 8'!E$218)","v":{"v":0.04,"d":"4%"}},3960,{"v":8038.8,"d":"8039"}]
[8,{"$f":"IF(MAX('Formet 8'!$A$12:$A$213)<$A14,\"\",VLOOKUP($A14,'Formet 8'!$A$12:$O$213,4,0))","v":""},{"$f":"IF(MAX('Formet 8'!$A$12:$A$213)<$A14,\"\",VLOOKUP($A14,'Formet 8'!$A$12:$O$213,7,0))","v":""},{"$f":"IF(MAX('Formet 8'!$A$12:$A$213)<$A14,\"\",VLOOKUP($A14,'Formet 8'!$A$12:$O$213,9,0))","v":""},{"$f":"IF(AND(D14=\"\"),\"\",'Formet 8'!E$218)","v":""},"",""]
[9,{"$f":"IF(MAX('Formet 8'!$A$12:$A$213)<$A15,\"\",VLOOKUP($A15,'Formet 8'!$A$12:$O$213,4,0))","v":""},{"$f":"IF(MAX('Formet 8'!$A$12:$A$213)<$A15,\"\",VLOOKUP($A15,'Formet 8'!$A$12:$O$213,7,0))","v":""},{"$f":"IF(MAX('Formet 8'!$A$12:$A$213)<$A15,\"\",VLOOKUP($A15,'Formet 8'!$A$12:$O$213,9,0))","v":""},{"$f":"IF(AND(D15=\"\"),\"\",'Formet 8'!E$218)","v":""},"",""]
[10,{"$f":"IF(MAX('Formet 8'!$A$12:$A$213)<$A16,\"\",VLOOKUP($A16,'Formet 8'!$A$12:$O$213,4,0))","v":""},{"$f":"IF(MAX('Formet 8'!$A$12:$A$213)<$A16,\"\",VLOOKUP($A16,'Formet 8'!$A$12:$O$213,7,0))","v":""},{"$f":"IF(MAX('Formet 8'!$A$12:$A$213)<$A16,\"\",VLOOKUP($A16,'Formet 8'!$A$12:$O$213,9,0))","v":""},{"$f":"IF(AND(D16=\"\"),\"\",'Formet 8'!E$218)","v":""},"",""]
[11,{"$f":"IF(MAX('Formet 8'!$A$12:$A$213)<$A17,\"\",VLOOKUP($A17,'Formet 8'!$A$12:$O$213,4,0))","v":""},{"$f":"IF(MAX('Formet 8'!$A$12:$A$213)<$A17,\"\",VLOOKUP($A17,'Formet 8'!$A$12:$O$213,7,0))","v":""},{"$f":"IF(MAX('Formet 8'!$A$12:$A$213)<$A17,\"\",VLOOKUP($A17,'Formet 8'!$A$12:$O$213,9,0))","v":""},{"$f":"IF(AND(D17=\"\"),\"\",'Formet 8'!E$218)","v":""},"",""]
[12,{"$f":"IF(MAX('Formet 8'!$A$12:$A$213)<$A18,\"\",VLOOKUP($A18,'Formet 8'!$A$12:$O$213,4,0))","v":""},{"$f":"IF(MAX('Formet 8'!$A$12:$A$213)<$A18,\"\",VLOOKUP($A18,'Formet 8'!$A$12:$O$213,7,0))","v":""},{"$f":"IF(MAX('Formet 8'!$A$12:$A$213)<$A18,\"\",VLOOKUP($A18,'Formet 8'!$A$12:$O$213,9,0))","v":""},{"$f":"IF(AND(D18=\"\"),\"\",'Formet 8'!E$218)","v":""},"",""]
[13,{"$f":"IF(MAX('Formet 8'!$A$12:$A$213)<$A19,\"\",VLOOKUP($A19,'Formet 8'!$A$12:$O$213,4,0))","v":""},{"$f":"IF(MAX('Formet 8'!$A$12:$A$213)<$A19,\"\",VLOOKUP($A19,'Formet 8'!$A$12:$O$213,7,0))","v":""},{"$f":"IF(MAX('Formet 8'!$A$12:$A$213)<$A19,\"\",VLOOKUP($A19,'Formet 8'!$A$12:$O$213,9,0))","v":""},{"$f":"IF(AND(D19=\"\"),\"\",'Formet 8'!E$218)","v":""},"",""]
[14,{"$f":"IF(MAX('Formet 8'!$A$12:$A$213)<$A20,\"\",VLOOKUP($A20,'Formet 8'!$A$12:$O$213,4,0))","v":""},{"$f":"IF(MAX('Formet 8'!$A$12:$A$213)<$A20,\"\",VLOOKUP($A20,'Formet 8'!$A$12:$O$213,7,0))","v":""},{"$f":"IF(MAX('Formet 8'!$A$12:$A$213)<$A20,\"\",VLOOKUP($A20,'Formet 8'!$A$12:$O$213,9,0))","v":""},{"$f":"IF(AND(D20=\"\"),\"\",'Formet 8'!E$218)","v":""},"",""]
[15,{"$f":"IF(MAX('Formet 8'!$A$12:$A$213)<$A21,\"\",VLOOKUP($A21,'Formet 8'!$A$12:$O$213,4,0))","v":""},{"$f":"IF(MAX('Formet 8'!$A$12:$A$213)<$A21,\"\",VLOOKUP($A21,'Formet 8'!$A$12:$O$213,7,0))","v":""},{"$f":"IF(MAX('Formet 8'!$A$12:$A$213)<$A21,\"\",VLOOKUP($A21,'Formet 8'!$A$12:$O$213,9,0))","v":""},{"$f":"IF(AND(D21=\"\"),\"\",'Formet 8'!E$218)","v":""},"",""]
[16,{"$f":"IF(MAX('Formet 8'!$A$12:$A$213)<$A22,\"\",VLOOKUP($A22,'Formet 8'!$A$12:$O$213,4,0))","v":""},{"$f":"IF(MAX('Formet 8'!$A$12:$A$213)<$A22,\"\",VLOOKUP($A22,'Formet 8'!$A$12:$O$213,7,0))","v":""},{"$f":"IF(MAX('Formet 8'!$A$12:$A$213)<$A22,\"\",VLOOKUP($A22,'Formet 8'!$A$12:$O$213,9,0))","v":""},{"$f":"IF(AND(D22=\"\"),\"\",'Formet 8'!E$218)","v":""},"",""]
[17,{"$f":"IF(MAX('Formet 8'!$A$12:$A$213)<$A23,\"\",VLOOKUP($A23,'Formet 8'!$A$12:$O$213,4,0))","v":""},{"$f":"IF(MAX('Formet 8'!$A$12:$A$213)<$A23,\"\",VLOOKUP($A23,'Formet 8'!$A$12:$O$213,7,0))","v":""},{"$f":"IF(MAX('Formet 8'!$A$12:$A$213)<$A23,\"\",VLOOKUP($A23,'Formet 8'!$A$12:$O$213,9,0))","v":""},{"$f":"IF(AND(D23=\"\"),\"\",'Formet 8'!E$218)","v":""},"",""]
[18,{"$f":"IF(MAX('Formet 8'!$A$12:$A$213)<$A24,\"\",VLOOKUP($A24,'Formet 8'!$A$12:$O$213,4,0))","v":""},{"$f":"IF(MAX('Formet 8'!$A$12:$A$213)<$A24,\"\",VLOOKUP($A24,'Formet 8'!$A$12:$O$213,7,0))","v":""},{"$f":"IF(MAX('Formet 8'!$A$12:$A$213)<$A24,\"\",VLOOKUP($A24,'Formet 8'!$A$12:$O$213,9,0))","v":""},{"$f":"IF(AND(D24=\"\"),\"\",'Formet 8'!E$218)","v":""},"",""]
[19,{"$f":"IF(MAX('Formet 8'!$A$12:$A$213)<$A25,\"\",VLOOKUP($A25,'Formet 8'!$A$12:$O$213,4,0))","v":""},{"$f":"IF(MAX('Formet 8'!$A$12:$A$213)<$A25,\"\",VLOOKUP($A25,'Formet 8'!$A$12:$O$213,7,0))","v":""},{"$f":"IF(MAX('Formet 8'!$A$12:$A$213)<$A25,\"\",VLOOKUP($A25,'Formet 8'!$A$12:$O$213,9,0))","v":""},{"$f":"IF(AND(D25=\"\"),\"\",'Formet 8'!E$218)","v":""},"",""]
[20,{"$f":"IF(MAX('Formet 8'!$A$12:$A$213)<$A26,\"\",VLOOKUP($A26,'Formet 8'!$A$12:$O$213,4,0))","v":""},{"$f":"IF(MAX('Formet 8'!$A$12:$A$213)<$A26,\"\",VLOOKUP($A26,'Formet 8'!$A$12:$O$213,7,0))","v":""},{"$f":"IF(MAX('Formet 8'!$A$12:$A$213)<$A26,\"\",VLOOKUP($A26,'Formet 8'!$A$12:$O$213,9,0))","v":""},{"$f":"IF(AND(D26=\"\"),\"\",'Formet 8'!E$218)","v":""},"",""]
[21,{"$f":"IF(MAX('Formet 8'!$A$12:$A$213)<$A27,\"\",VLOOKUP($A27,'Formet 8'!$A$12:$O$213,4,0))","v":""},{"$f":"IF(MAX('Formet 8'!$A$12:$A$213)<$A27,\"\",VLOOKUP($A27,'Formet 8'!$A$12:$O$213,7,0))","v":""},{"$f":"IF(MAX('Formet 8'!$A$12:$A$213)<$A27,\"\",VLOOKUP($A27,'Formet 8'!$A$12:$O$213,9,0))","v":""},{"$f":"IF(AND(D27=\"\"),\"\",'Formet 8'!E$218)","v":""},"",""]
[22,{"$f":"IF(MAX('Formet 8'!$A$12:$A$213)<$A28,\"\",VLOOKUP($A28,'Formet 8'!$A$12:$O$213,4,0))","v":""},{"$f":"IF(MAX('Formet 8'!$A$12:$A$213)<$A28,\"\",VLOOKUP($A28,'Formet 8'!$A$12:$O$213,7,0))","v":""},{"$f":"IF(MAX('Formet 8'!$A$12:$A$213)<$A28,\"\",VLOOKUP($A28,'Formet 8'!$A$12:$O$213,9,0))","v":""},{"$f":"IF(AND(D28=\"\"),\"\",'Formet 8'!E$218)","v":""},"",""]
[23,{"$f":"IF(MAX('Formet 8'!$A$12:$A$213)<$A29,\"\",VLOOKUP($A29,'Formet 8'!$A$12:$O$213,4,0))","v":""},{"$f":"IF(MAX('Formet 8'!$A$12:$A$213)<$A29,\"\",VLOOKUP($A29,'Formet 8'!$A$12:$O$213,7,0))","v":""},{"$f":"IF(MAX('Formet 8'!$A$12:$A$213)<$A29,\"\",VLOOKUP($A29,'Formet 8'!$A$12:$O$213,9,0))","v":""},{"$f":"IF(AND(D29=\"\"),\"\",'Formet 8'!E$218)","v":""},"",""]
[24,{"$f":"IF(MAX('Formet 8'!$A$12:$A$213)<$A30,\"\",VLOOKUP($A30,'Formet 8'!$A$12:$O$213,4,0))","v":""},{"$f":"IF(MAX('Formet 8'!$A$12:$A$213)<$A30,\"\",VLOOKUP($A30,'Formet 8'!$A$12:$O$213,7,0))","v":""},{"$f":"IF(MAX('Formet 8'!$A$12:$A$213)<$A30,\"\",VLOOKUP($A30,'Formet 8'!$A$12:$O$213,9,0))","v":""},{"$f":"IF(AND(D30=\"\"),\"\",'Formet 8'!E$218)","v":""},"",""]
[25,{"$f":"IF(MAX('Formet 8'!$A$12:$A$213)<$A31,\"\",VLOOKUP($A31,'Formet 8'!$A$12:$O$213,4,0))","v":""},{"$f":"IF(MAX('Formet 8'!$A$12:$A$213)<$A31,\"\",VLOOKUP($A31,'Formet 8'!$A$12:$O$213,7,0))","v":""},{"$f":"IF(MAX('Formet 8'!$A$12:$A$213)<$A31,\"\",VLOOKUP($A31,'Formet 8'!$A$12:$O$213,9,0))","v":""},{"$f":"IF(AND(D31=\"\"),\"\",'Formet 8'!E$218)","v":""},"",""]
[26,{"$f":"IF(MAX('Formet 8'!$A$12:$A$213)<$A32,\"\",VLOOKUP($A32,'Formet 8'!$A$12:$O$213,4,0))","v":""},{"$f":"IF(MAX('Formet 8'!$A$12:$A$213)<$A32,\"\",VLOOKUP($A32,'Formet 8'!$A$12:$O$213,7,0))","v":""},{"$f":"IF(MAX('Formet 8'!$A$12:$A$213)<$A32,\"\",VLOOKUP($A32,'Formet 8'!$A$12:$O$213,9,0))","v":""},{"$f":"IF(AND(D32=\"\"),\"\",'Formet 8'!E$218)","v":""},"",""]
[27,{"$f":"IF(MAX('Formet 8'!$A$12:$A$213)<$A33,\"\",VLOOKUP($A33,'Formet 8'!$A$12:$O$213,4,0))","v":""},{"$f":"IF(MAX('Formet 8'!$A$12:$A$213)<$A33,\"\",VLOOKUP($A33,'Formet 8'!$A$12:$O$213,7,0))","v":""},{"$f":"IF(MAX('Formet 8'!$A$12:$A$213)<$A33,\"\",VLOOKUP($A33,'Formet 8'!$A$12:$O$213,9,0))","v":""},{"$f":"IF(AND(D33=\"\"),\"\",'Formet 8'!E$218)","v":""},"",""]
[28,{"$f":"IF(MAX('Formet 8'!$A$12:$A$213)<$A34,\"\",VLOOKUP($A34,'Formet 8'!$A$12:$O$213,4,0))","v":""},{"$f":"IF(MAX('Formet 8'!$A$12:$A$213)<$A34,\"\",VLOOKUP($A34,'Formet 8'!$A$12:$O$213,7,0))","v":""},{"$f":"IF(MAX('Formet 8'!$A$12:$A$213)<$A34,\"\",VLOOKUP($A34,'Formet 8'!$A$12:$O$213,9,0))","v":""},{"$f":"IF(AND(D34=\"\"),\"\",'Formet 8'!E$218)","v":""},"",""]
[29,{"$f":"IF(MAX('Formet 8'!$A$12:$A$213)<$A35,\"\",VLOOKUP($A35,'Formet 8'!$A$12:$O$213,4,0))","v":""},{"$f":"IF(MAX('Formet 8'!$A$12:$A$213)<$A35,\"\",VLOOKUP($A35,'Formet 8'!$A$12:$O$213,7,0))","v":""},{"$f":"IF(MAX('Formet 8'!$A$12:$A$213)<$A35,\"\",VLOOKUP($A35,'Formet 8'!$A$12:$O$213,9,0))","v":""},{"$f":"IF(AND(D35=\"\"),\"\",'Formet 8'!E$218)","v":""},"",""]
[30,{"$f":"IF(MAX('Formet 8'!$A$12:$A$213)<$A36,\"\",VLOOKUP($A36,'Formet 8'!$A$12:$O$213,4,0))","v":""},{"$f":"IF(MAX('Formet 8'!$A$12:$A$213)<$A36,\"\",VLOOKUP($A36,'Formet 8'!$A$12:$O$213,7,0))","v":""},{"$f":"IF(MAX('Formet 8'!$A$12:$A$213)<$A36,\"\",VLOOKUP($A36,'Formet 8'!$A$12:$O$213,9,0))","v":""},{"$f":"IF(AND(D36=\"\"),\"\",'Formet 8'!E$218)","v":""},"",""]
[31,{"$f":"IF(MAX('Formet 8'!$A$12:$A$213)<$A37,\"\",VLOOKUP($A37,'Formet 8'!$A$12:$O$213,4,0))","v":""},{"$f":"IF(MAX('Formet 8'!$A$12:$A$213)<$A37,\"\",VLOOKUP($A37,'Formet 8'!$A$12:$O$213,7,0))","v":""},{"$f":"IF(MAX('Formet 8'!$A$12:$A$213)<$A37,\"\",VLOOKUP($A37,'Formet 8'!$A$12:$O$213,9,0))","v":""},{"$f":"IF(AND(D37=\"\"),\"\",'Formet 8'!E$218)","v":""},"",""]
[32,{"$f":"IF(MAX('Formet 8'!$A$12:$A$213)<$A38,\"\",VLOOKUP($A38,'Formet 8'!$A$12:$O$213,4,0))","v":""},{"$f":"IF(MAX('Formet 8'!$A$12:$A$213)<$A38,\"\",VLOOKUP($A38,'Formet 8'!$A$12:$O$213,7,0))","v":""},{"$f":"IF(MAX('Formet 8'!$A$12:$A$213)<$A38,\"\",VLOOKUP($A38,'Formet 8'!$A$12:$O$213,9,0))","v":""},{"$f":"IF(AND(D38=\"\"),\"\",'Formet 8'!E$218)","v":""},"",""]
[33,{"$f":"IF(MAX('Formet 8'!$A$12:$A$213)<$A39,\"\",VLOOKUP($A39,'Formet 8'!$A$12:$O$213,4,0))","v":""},{"$f":"IF(MAX('Formet 8'!$A$12:$A$213)<$A39,\"\",VLOOKUP($A39,'Formet 8'!$A$12:$O$213,7,0))","v":""},{"$f":"IF(MAX('Formet 8'!$A$12:$A$213)<$A39,\"\",VLOOKUP($A39,'Formet 8'!$A$12:$O$213,9,0))","v":""},{"$f":"IF(AND(D39=\"\"),\"\",'Formet 8'!E$218)","v":""},"",""]
[34,{"$f":"IF(MAX('Formet 8'!$A$12:$A$213)<$A40,\"\",VLOOKUP($A40,'Formet 8'!$A$12:$O$213,4,0))","v":""},{"$f":"IF(MAX('Formet 8'!$A$12:$A$213)<$A40,\"\",VLOOKUP($A40,'Formet 8'!$A$12:$O$213,7,0))","v":""},{"$f":"IF(MAX('Formet 8'!$A$12:$A$213)<$A40,\"\",VLOOKUP($A40,'Formet 8'!$A$12:$O$213,9,0))","v":""},{"$f":"IF(AND(D40=\"\"),\"\",'Formet 8'!E$218)","v":""},"",""]
[35,{"$f":"IF(MAX('Formet 8'!$A$12:$A$213)<$A41,\"\",VLOOKUP($A41,'Formet 8'!$A$12:$O$213,4,0))","v":""},{"$f":"IF(MAX('Formet 8'!$A$12:$A$213)<$A41,\"\",VLOOKUP($A41,'Formet 8'!$A$12:$O$213,7,0))","v":""},{"$f":"IF(MAX('Formet 8'!$A$12:$A$213)<$A41,\"\",VLOOKUP($A41,'Formet 8'!$A$12:$O$213,9,0))","v":""},{"$f":"IF(AND(D41=\"\"),\"\",'Formet 8'!E$218)","v":""},"",""]
[36,{"$f":"IF(MAX('Formet 8'!$A$12:$A$213)<$A42,\"\",VLOOKUP($A42,'Formet 8'!$A$12:$O$213,4,0))","v":""},{"$f":"IF(MAX('Formet 8'!$A$12:$A$213)<$A42,\"\",VLOOKUP($A42,'Formet 8'!$A$12:$O$213,7,0))","v":""},{"$f":"IF(MAX('Formet 8'!$A$12:$A$213)<$A42,\"\",VLOOKUP($A42,'Formet 8'!$A$12:$O$213,9,0))","v":""},{"$f":"IF(AND(D42=\"\"),\"\",'Formet 8'!E$218)","v":""},"",""]
[37,{"$f":"IF(MAX('Formet 8'!$A$12:$A$213)<$A43,\"\",VLOOKUP($A43,'Formet 8'!$A$12:$O$213,4,0))","v":""},{"$f":"IF(MAX('Formet 8'!$A$12:$A$213)<$A43,\"\",VLOOKUP($A43,'Formet 8'!$A$12:$O$213,7,0))","v":""},{"$f":"IF(MAX('Formet 8'!$A$12:$A$213)<$A43,\"\",VLOOKUP($A43,'Formet 8'!$A$12:$O$213,9,0))","v":""},{"$f":"IF(AND(D43=\"\"),\"\",'Formet 8'!E$218)","v":""},"",""]
[38,{"$f":"IF(MAX('Formet 8'!$A$12:$A$213)<$A44,\"\",VLOOKUP($A44,'Formet 8'!$A$12:$O$213,4,0))","v":""},{"$f":"IF(MAX('Formet 8'!$A$12:$A$213)<$A44,\"\",VLOOKUP($A44,'Formet 8'!$A$12:$O$213,7,0))","v":""},{"$f":"IF(MAX('Formet 8'!$A$12:$A$213)<$A44,\"\",VLOOKUP($A44,'Formet 8'!$A$12:$O$213,9,0))","v":""},{"$f":"IF(AND(D44=\"\"),\"\",'Formet 8'!E$218)","v":""},"",""]
[39,{"$f":"IF(MAX('Formet 8'!$A$12:$A$213)<$A45,\"\",VLOOKUP($A45,'Formet 8'!$A$12:$O$213,4,0))","v":""},{"$f":"IF(MAX('Formet 8'!$A$12:$A$213)<$A45,\"\",VLOOKUP($A45,'Formet 8'!$A$12:$O$213,7,0))","v":""},{"$f":"IF(MAX('Formet 8'!$A$12:$A$213)<$A45,\"\",VLOOKUP($A45,'Formet 8'!$A$12:$O$213,9,0))","v":""},{"$f":"IF(AND(D45=\"\"),\"\",'Formet 8'!E$218)","v":""},"",""]
[40,{"$f":"IF(MAX('Formet 8'!$A$12:$A$213)<$A46,\"\",VLOOKUP($A46,'Formet 8'!$A$12:$O$213,4,0))","v":""},{"$f":"IF(MAX('Formet 8'!$A$12:$A$213)<$A46,\"\",VLOOKUP($A46,'Formet 8'!$A$12:$O$213,7,0))","v":""},{"$f":"IF(MAX('Formet 8'!$A$12:$A$213)<$A46,\"\",VLOOKUP($A46,'Formet 8'!$A$12:$O$213,9,0))","v":""},{"$f":"IF(AND(D46=\"\"),\"\",'Formet 8'!E$218)","v":""},"",""]
[41,{"$f":"IF(MAX('Formet 8'!$A$12:$A$213)<$A47,\"\",VLOOKUP($A47,'Formet 8'!$A$12:$O$213,4,0))","v":""},{"$f":"IF(MAX('Formet 8'!$A$12:$A$213)<$A47,\"\",VLOOKUP($A47,'Formet 8'!$A$12:$O$213,7,0))","v":""},{"$f":"IF(MAX('Formet 8'!$A$12:$A$213)<$A47,\"\",VLOOKUP($A47,'Formet 8'!$A$12:$O$213,9,0))","v":""},{"$f":"IF(AND(D47=\"\"),\"\",'Formet 8'!E$218)","v":""},"",""]
[42,{"$f":"IF(MAX('Formet 8'!$A$12:$A$213)<$A48,\"\",VLOOKUP($A48,'Formet 8'!$A$12:$O$213,4,0))","v":""},{"$f":"IF(MAX('Formet 8'!$A$12:$A$213)<$A48,\"\",VLOOKUP($A48,'Formet 8'!$A$12:$O$213,7,0))","v":""},{"$f":"IF(MAX('Formet 8'!$A$12:$A$213)<$A48,\"\",VLOOKUP($A48,'Formet 8'!$A$12:$O$213,9,0))","v":""},{"$f":"IF(AND(D48=\"\"),\"\",'Formet 8'!E$218)","v":""},"",""]
[43,{"$f":"IF(MAX('Formet 8'!$A$12:$A$213)<$A49,\"\",VLOOKUP($A49,'Formet 8'!$A$12:$O$213,4,0))","v":""},{"$f":"IF(MAX('Formet 8'!$A$12:$A$213)<$A49,\"\",VLOOKUP($A49,'Formet 8'!$A$12:$O$213,7,0))","v":""},{"$f":"IF(MAX('Formet 8'!$A$12:$A$213)<$A49,\"\",VLOOKUP($A49,'Formet 8'!$A$12:$O$213,9,0))","v":""},{"$f":"IF(AND(D49=\"\"),\"\",'Formet 8'!E$218)","v":""},"",""]
[44,{"$f":"IF(MAX('Formet 8'!$A$12:$A$213)<$A50,\"\",VLOOKUP($A50,'Formet 8'!$A$12:$O$213,4,0))","v":""},{"$f":"IF(MAX('Formet 8'!$A$12:$A$213)<$A50,\"\",VLOOKUP($A50,'Formet 8'!$A$12:$O$213,7,0))","v":""},{"$f":"IF(MAX('Formet 8'!$A$12:$A$213)<$A50,\"\",VLOOKUP($A50,'Formet 8'!$A$12:$O$213,9,0))","v":""},{"$f":"IF(AND(D50=\"\"),\"\",'Formet 8'!E$218)","v":""},"",""]
[45,{"$f":"IF(MAX('Formet 8'!$A$12:$A$213)<$A51,\"\",VLOOKUP($A51,'Formet 8'!$A$12:$O$213,4,0))","v":""},{"$f":"IF(MAX('Formet 8'!$A$12:$A$213)<$A51,\"\",VLOOKUP($A51,'Formet 8'!$A$12:$O$213,7,0))","v":""},{"$f":"IF(MAX('Formet 8'!$A$12:$A$213)<$A51,\"\",VLOOKUP($A51,'Formet 8'!$A$12:$O$213,9,0))","v":""},{"$f":"IF(AND(D51=\"\"),\"\",'Formet 8'!E$218)","v":""},"",""]
[46,{"$f":"IF(MAX('Formet 8'!$A$12:$A$213)<$A52,\"\",VLOOKUP($A52,'Formet 8'!$A$12:$O$213,4,0))","v":""},{"$f":"IF(MAX('Formet 8'!$A$12:$A$213)<$A52,\"\",VLOOKUP($A52,'Formet 8'!$A$12:$O$213,7,0))","v":""},{"$f":"IF(MAX('Formet 8'!$A$12:$A$213)<$A52,\"\",VLOOKUP($A52,'Formet 8'!$A$12:$O$213,9,0))","v":""},{"$f":"IF(AND(D52=\"\"),\"\",'Formet 8'!E$218)","v":""},"",""]
[47,{"$f":"IF(MAX('Formet 8'!$A$12:$A$213)<$A53,\"\",VLOOKUP($A53,'Formet 8'!$A$12:$O$213,4,0))","v":""},{"$f":"IF(MAX('Formet 8'!$A$12:$A$213)<$A53,\"\",VLOOKUP($A53,'Formet 8'!$A$12:$O$213,7,0))","v":""},{"$f":"IF(MAX('Formet 8'!$A$12:$A$213)<$A53,\"\",VLOOKUP($A53,'Formet 8'!$A$12:$O$213,9,0))","v":""},{"$f":"IF(AND(D53=\"\"),\"\",'Formet 8'!E$218)","v":""},"",""]
[48,{"$f":"IF(MAX('Formet 8'!$A$12:$A$213)<$A54,\"\",VLOOKUP($A54,'Formet 8'!$A$12:$O$213,4,0))","v":""},{"$f":"IF(MAX('Formet 8'!$A$12:$A$213)<$A54,\"\",VLOOKUP($A54,'Formet 8'!$A$12:$O$213,7,0))","v":""},{"$f":"IF(MAX('Formet 8'!$A$12:$A$213)<$A54,\"\",VLOOKUP($A54,'Formet 8'!$A$12:$O$213,9,0))","v":""},{"$f":"IF(AND(D54=\"\"),\"\",'Formet 8'!E$218)","v":""},"",""]
[49,{"$f":"IF(MAX('Formet 8'!$A$12:$A$213)<$A55,\"\",VLOOKUP($A55,'Formet 8'!$A$12:$O$213,4,0))","v":""},{"$f":"IF(MAX('Formet 8'!$A$12:$A$213)<$A55,\"\",VLOOKUP($A55,'Formet 8'!$A$12:$O$213,7,0))","v":""},{"$f":"IF(MAX('Formet 8'!$A$12:$A$213)<$A55,\"\",VLOOKUP($A55,'Formet 8'!$A$12:$O$213,9,0))","v":""},{"$f":"IF(AND(D55=\"\"),\"\",'Formet 8'!E$218)","v":""},"",""]
[50,{"$f":"IF(MAX('Formet 8'!$A$12:$A$213)<$A56,\"\",VLOOKUP($A56,'Formet 8'!$A$12:$O$213,4,0))","v":""},{"$f":"IF(MAX('Formet 8'!$A$12:$A$213)<$A56,\"\",VLOOKUP($A56,'Formet 8'!$A$12:$O$213,7,0))","v":""},{"$f":"IF(MAX('Formet 8'!$A$12:$A$213)<$A56,\"\",VLOOKUP($A56,'Formet 8'!$A$12:$O$213,9,0))","v":""},{"$f":"IF(AND(D56=\"\"),\"\",'Formet 8'!E$218)","v":""},"",""]
[51,{"$f":"IF(MAX('Formet 8'!$A$12:$A$213)<$A57,\"\",VLOOKUP($A57,'Formet 8'!$A$12:$O$213,4,0))","v":""},{"$f":"IF(MAX('Formet 8'!$A$12:$A$213)<$A57,\"\",VLOOKUP($A57,'Formet 8'!$A$12:$O$213,7,0))","v":""},{"$f":"IF(MAX('Formet 8'!$A$12:$A$213)<$A57,\"\",VLOOKUP($A57,'Formet 8'!$A$12:$O$213,9,0))","v":""},{"$f":"IF(AND(D57=\"\"),\"\",'Formet 8'!E$218)","v":""},"",""]
[52,{"$f":"IF(MAX('Formet 8'!$A$12:$A$213)<$A58,\"\",VLOOKUP($A58,'Formet 8'!$A$12:$O$213,4,0))","v":""},{"$f":"IF(MAX('Formet 8'!$A$12:$A$213)<$A58,\"\",VLOOKUP($A58,'Formet 8'!$A$12:$O$213,7,0))","v":""},{"$f":"IF(MAX('Formet 8'!$A$12:$A$213)<$A58,\"\",VLOOKUP($A58,'Formet 8'!$A$12:$O$213,9,0))","v":""},{"$f":"IF(AND(D58=\"\"),\"\",'Formet 8'!E$218)","v":""},"",""]
[53,{"$f":"IF(MAX('Formet 8'!$A$12:$A$213)<$A59,\"\",VLOOKUP($A59,'Formet 8'!$A$12:$O$213,4,0))","v":""},{"$f":"IF(MAX('Formet 8'!$A$12:$A$213)<$A59,\"\",VLOOKUP($A59,'Formet 8'!$A$12:$O$213,7,0))","v":""},{"$f":"IF(MAX('Formet 8'!$A$12:$A$213)<$A59,\"\",VLOOKUP($A59,'Formet 8'!$A$12:$O$213,9,0))","v":""},{"$f":"IF(AND(D59=\"\"),\"\",'Formet 8'!E$218)","v":""},"",""]
[54,{"$f":"IF(MAX('Formet 8'!$A$12:$A$213)<$A60,\"\",VLOOKUP($A60,'Formet 8'!$A$12:$O$213,4,0))","v":""},{"$f":"IF(MAX('Formet 8'!$A$12:$A$213)<$A60,\"\",VLOOKUP($A60,'Formet 8'!$A$12:$O$213,7,0))","v":""},{"$f":"IF(MAX('Formet 8'!$A$12:$A$213)<$A60,\"\",VLOOKUP($A60,'Formet 8'!$A$12:$O$213,9,0))","v":""},{"$f":"IF(AND(D60=\"\"),\"\",'Formet 8'!E$218)","v":""},"",""]
[55,{"$f":"IF(MAX('Formet 8'!$A$12:$A$213)<$A61,\"\",VLOOKUP($A61,'Formet 8'!$A$12:$O$213,4,0))","v":""},{"$f":"IF(MAX('Formet 8'!$A$12:$A$213)<$A61,\"\",VLOOKUP($A61,'Formet 8'!$A$12:$O$213,7,0))","v":""},{"$f":"IF(MAX('Formet 8'!$A$12:$A$213)<$A61,\"\",VLOOKUP($A61,'Formet 8'!$A$12:$O$213,9,0))","v":""},{"$f":"IF(AND(D61=\"\"),\"\",'Formet 8'!E$218)","v":""},"",""]
[56,{"$f":"IF(MAX('Formet 8'!$A$12:$A$213)<$A62,\"\",VLOOKUP($A62,'Formet 8'!$A$12:$O$213,4,0))","v":""},{"$f":"IF(MAX('Formet 8'!$A$12:$A$213)<$A62,\"\",VLOOKUP($A62,'Formet 8'!$A$12:$O$213,7,0))","v":""},{"$f":"IF(MAX('Formet 8'!$A$12:$A$213)<$A62,\"\",VLOOKUP($A62,'Formet 8'!$A$12:$O$213,9,0))","v":""},{"$f":"IF(AND(D62=\"\"),\"\",'Formet 8'!E$218)","v":""},"",""]
[57,{"$f":"IF(MAX('Formet 8'!$A$12:$A$213)<$A63,\"\",VLOOKUP($A63,'Formet 8'!$A$12:$O$213,4,0))","v":""},{"$f":"IF(MAX('Formet 8'!$A$12:$A$213)<$A63,\"\",VLOOKUP($A63,'Formet 8'!$A$12:$O$213,7,0))","v":""},{"$f":"IF(MAX('Formet 8'!$A$12:$A$213)<$A63,\"\",VLOOKUP($A63,'Formet 8'!$A$12:$O$213,9,0))","v":""},{"$f":"IF(AND(D63=\"\"),\"\",'Formet 8'!E$218)","v":""},"",""]
[58,{"$f":"IF(MAX('Formet 8'!$A$12:$A$213)<$A64,\"\",VLOOKUP($A64,'Formet 8'!$A$12:$O$213,4,0))","v":""},{"$f":"IF(MAX('Formet 8'!$A$12:$A$213)<$A64,\"\",VLOOKUP($A64,'Formet 8'!$A$12:$O$213,7,0))","v":""},{"$f":"IF(MAX('Formet 8'!$A$12:$A$213)<$A64,\"\",VLOOKUP($A64,'Formet 8'!$A$12:$O$213,9,0))","v":""},{"$f":"IF(AND(D64=\"\"),\"\",'Formet 8'!E$218)","v":""},"",""]
[59,{"$f":"IF(MAX('Formet 8'!$A$12:$A$213)<$A65,\"\",VLOOKUP($A65,'Formet 8'!$A$12:$O$213,4,0))","v":""},{"$f":"IF(MAX('Formet 8'!$A$12:$A$213)<$A65,\"\",VLOOKUP($A65,'Formet 8'!$A$12:$O$213,7,0))","v":""},{"$f":"IF(MAX('Formet 8'!$A$12:$A$213)<$A65,\"\",VLOOKUP($A65,'Formet 8'!$A$12:$O$213,9,0))","v":""},{"$f":"IF(AND(D65=\"\"),\"\",'Formet 8'!E$218)","v":""},"",""]
[60,{"$f":"IF(MAX('Formet 8'!$A$12:$A$213)<$A66,\"\",VLOOKUP($A66,'Formet 8'!$A$12:$O$213,4,0))","v":""},{"$f":"IF(MAX('Formet 8'!$A$12:$A$213)<$A66,\"\",VLOOKUP($A66,'Formet 8'!$A$12:$O$213,7,0))","v":""},{"$f":"IF(MAX('Formet 8'!$A$12:$A$213)<$A66,\"\",VLOOKUP($A66,'Formet 8'!$A$12:$O$213,9,0))","v":""},{"$f":"IF(AND(D66=\"\"),\"\",'Formet 8'!E$218)","v":""},"",""]
[61,{"$f":"IF(MAX('Formet 8'!$A$12:$A$213)<$A67,\"\",VLOOKUP($A67,'Formet 8'!$A$12:$O$213,4,0))","v":""},{"$f":"IF(MAX('Formet 8'!$A$12:$A$213)<$A67,\"\",VLOOKUP($A67,'Formet 8'!$A$12:$O$213,7,0))","v":""},{"$f":"IF(MAX('Formet 8'!$A$12:$A$213)<$A67,\"\",VLOOKUP($A67,'Formet 8'!$A$12:$O$213,9,0))","v":""},{"$f":"IF(AND(D67=\"\"),\"\",'Formet 8'!E$218)","v":""},"",""]
[62,{"$f":"IF(MAX('Formet 8'!$A$12:$A$213)<$A68,\"\",VLOOKUP($A68,'Formet 8'!$A$12:$O$213,4,0))","v":""},{"$f":"IF(MAX('Formet 8'!$A$12:$A$213)<$A68,\"\",VLOOKUP($A68,'Formet 8'!$A$12:$O$213,7,0))","v":""},{"$f":"IF(MAX('Formet 8'!$A$12:$A$213)<$A68,\"\",VLOOKUP($A68,'Formet 8'!$A$12:$O$213,9,0))","v":""},{"$f":"IF(AND(D68=\"\"),\"\",'Formet 8'!E$218)","v":""},"",""]
[63,{"$f":"IF(MAX('Formet 8'!$A$12:$A$213)<$A69,\"\",VLOOKUP($A69,'Formet 8'!$A$12:$O$213,4,0))","v":""},{"$f":"IF(MAX('Formet 8'!$A$12:$A$213)<$A69,\"\",VLOOKUP($A69,'Formet 8'!$A$12:$O$213,7,0))","v":""},{"$f":"IF(MAX('Formet 8'!$A$12:$A$213)<$A69,\"\",VLOOKUP($A69,'Formet 8'!$A$12:$O$213,9,0))","v":""},{"$f":"IF(AND(D69=\"\"),\"\",'Formet 8'!E$218)","v":""},"",""]
[64,{"$f":"IF(MAX('Formet 8'!$A$12:$A$213)<$A70,\"\",VLOOKUP($A70,'Formet 8'!$A$12:$O$213,4,0))","v":""},{"$f":"IF(MAX('Formet 8'!$A$12:$A$213)<$A70,\"\",VLOOKUP($A70,'Formet 8'!$A$12:$O$213,7,0))","v":""},{"$f":"IF(MAX('Formet 8'!$A$12:$A$213)<$A70,\"\",VLOOKUP($A70,'Formet 8'!$A$12:$O$213,9,0))","v":""},{"$f":"IF(AND(D70=\"\"),\"\",'Formet 8'!E$218)","v":""},"",""]
[65,{"$f":"IF(MAX('Formet 8'!$A$12:$A$213)<$A71,\"\",VLOOKUP($A71,'Formet 8'!$A$12:$O$213,4,0))","v":""},{"$f":"IF(MAX('Formet 8'!$A$12:$A$213)<$A71,\"\",VLOOKUP($A71,'Formet 8'!$A$12:$O$213,7,0))","v":""},{"$f":"IF(MAX('Formet 8'!$A$12:$A$213)<$A71,\"\",VLOOKUP($A71,'Formet 8'!$A$12:$O$213,9,0))","v":""},{"$f":"IF(AND(D71=\"\"),\"\",'Formet 8'!E$218)","v":""},"",""]
[66,{"$f":"IF(MAX('Formet 8'!$A$12:$A$213)<$A72,\"\",VLOOKUP($A72,'Formet 8'!$A$12:$O$213,4,0))","v":""},{"$f":"IF(MAX('Formet 8'!$A$12:$A$213)<$A72,\"\",VLOOKUP($A72,'Formet 8'!$A$12:$O$213,7,0))","v":""},{"$f":"IF(MAX('Formet 8'!$A$12:$A$213)<$A72,\"\",VLOOKUP($A72,'Formet 8'!$A$12:$O$213,9,0))","v":""},{"$f":"IF(AND(D72=\"\"),\"\",'Formet 8'!E$218)","v":""},"",{"$f":"IF(AND(D72=\"\"),\"\",(ROUND(D72*103%,0)*E72*3)+F72)","v":""}]
[67,{"$f":"IF(MAX('Formet 8'!$A$12:$A$213)<$A73,\"\",VLOOKUP($A73,'Formet 8'!$A$12:$O$213,4,0))","v":""},{"$f":"IF(MAX('Formet 8'!$A$12:$A$213)<$A73,\"\",VLOOKUP($A73,'Formet 8'!$A$12:$O$213,7,0))","v":""},{"$f":"IF(MAX('Formet 8'!$A$12:$A$213)<$A73,\"\",VLOOKUP($A73,'Formet 8'!$A$12:$O$213,9,0))","v":""},{"$f":"IF(AND(D73=\"\"),\"\",'Formet 8'!E$218)","v":""},"",""]
[68,{"$f":"IF(MAX('Formet 8'!$A$12:$A$213)<$A74,\"\",VLOOKUP($A74,'Formet 8'!$A$12:$O$213,4,0))","v":""},{"$f":"IF(MAX('Formet 8'!$A$12:$A$213)<$A74,\"\",VLOOKUP($A74,'Formet 8'!$A$12:$O$213,7,0))","v":""},{"$f":"IF(MAX('Formet 8'!$A$12:$A$213)<$A74,\"\",VLOOKUP($A74,'Formet 8'!$A$12:$O$213,9,0))","v":""},{"$f":"IF(AND(D74=\"\"),\"\",'Formet 8'!E$218)","v":""},"",""]
[69,{"$f":"IF(MAX('Formet 8'!$A$12:$A$213)<$A75,\"\",VLOOKUP($A75,'Formet 8'!$A$12:$O$213,4,0))","v":""},{"$f":"IF(MAX('Formet 8'!$A$12:$A$213)<$A75,\"\",VLOOKUP($A75,'Formet 8'!$A$12:$O$213,7,0))","v":""},{"$f":"IF(MAX('Formet 8'!$A$12:$A$213)<$A75,\"\",VLOOKUP($A75,'Formet 8'!$A$12:$O$213,9,0))","v":""},{"$f":"IF(AND(D75=\"\"),\"\",'Formet 8'!E$218)","v":""},"",""]
[70,{"$f":"IF(MAX('Formet 8'!$A$12:$A$213)<$A76,\"\",VLOOKUP($A76,'Formet 8'!$A$12:$O$213,4,0))","v":""},{"$f":"IF(MAX('Formet 8'!$A$12:$A$213)<$A76,\"\",VLOOKUP($A76,'Formet 8'!$A$12:$O$213,7,0))","v":""},{"$f":"IF(MAX('Formet 8'!$A$12:$A$213)<$A76,\"\",VLOOKUP($A76,'Formet 8'!$A$12:$O$213,9,0))","v":""},{"$f":"IF(AND(D76=\"\"),\"\",'Formet 8'!E$218)","v":""},{"$f":"IF(AND(D76=\"\"),\"\",ROUND((D76*E76)*3,0))","v":""},""]
[71,{"$f":"IF(MAX('Formet 8'!$A$12:$A$213)<$A77,\"\",VLOOKUP($A77,'Formet 8'!$A$12:$O$213,4,0))","v":""},{"$f":"IF(MAX('Formet 8'!$A$12:$A$213)<$A77,\"\",VLOOKUP($A77,'Formet 8'!$A$12:$O$213,7,0))","v":""},{"$f":"IF(MAX('Formet 8'!$A$12:$A$213)<$A77,\"\",VLOOKUP($A77,'Formet 8'!$A$12:$O$213,9,0))","v":""},{"$f":"IF(AND(D77=\"\"),\"\",'Formet 8'!E$218)","v":""},"",""]
[72,{"$f":"IF(MAX('Formet 8'!$A$12:$A$213)<$A78,\"\",VLOOKUP($A78,'Formet 8'!$A$12:$O$213,4,0))","v":""},{"$f":"IF(MAX('Formet 8'!$A$12:$A$213)<$A78,\"\",VLOOKUP($A78,'Formet 8'!$A$12:$O$213,7,0))","v":""},{"$f":"IF(MAX('Formet 8'!$A$12:$A$213)<$A78,\"\",VLOOKUP($A78,'Formet 8'!$A$12:$O$213,9,0))","v":""},{"$f":"IF(AND(D78=\"\"),\"\",'Formet 8'!E$218)","v":""},"",""]
[73,{"$f":"IF(MAX('Formet 8'!$A$12:$A$213)<$A79,\"\",VLOOKUP($A79,'Formet 8'!$A$12:$O$213,4,0))","v":""},{"$f":"IF(MAX('Formet 8'!$A$12:$A$213)<$A79,\"\",VLOOKUP($A79,'Formet 8'!$A$12:$O$213,7,0))","v":""},{"$f":"IF(MAX('Formet 8'!$A$12:$A$213)<$A79,\"\",VLOOKUP($A79,'Formet 8'!$A$12:$O$213,9,0))","v":""},{"$f":"IF(AND(D79=\"\"),\"\",'Formet 8'!E$218)","v":""},"",""]
[74,{"$f":"IF(MAX('Formet 8'!$A$12:$A$213)<$A80,\"\",VLOOKUP($A80,'Formet 8'!$A$12:$O$213,4,0))","v":""},{"$f":"IF(MAX('Formet 8'!$A$12:$A$213)<$A80,\"\",VLOOKUP($A80,'Formet 8'!$A$12:$O$213,7,0))","v":""},{"$f":"IF(MAX('Formet 8'!$A$12:$A$213)<$A80,\"\",VLOOKUP($A80,'Formet 8'!$A$12:$O$213,9,0))","v":""},{"$f":"IF(AND(D80=\"\"),\"\",'Formet 8'!E$218)","v":""},"",""]
[75,{"$f":"IF(MAX('Formet 8'!$A$12:$A$213)<$A81,\"\",VLOOKUP($A81,'Formet 8'!$A$12:$O$213,4,0))","v":""},{"$f":"IF(MAX('Formet 8'!$A$12:$A$213)<$A81,\"\",VLOOKUP($A81,'Formet 8'!$A$12:$O$213,7,0))","v":""},{"$f":"IF(MAX('Formet 8'!$A$12:$A$213)<$A81,\"\",VLOOKUP($A81,'Formet 8'!$A$12:$O$213,9,0))","v":""},{"$f":"IF(AND(D81=\"\"),\"\",'Formet 8'!E$218)","v":""},"",""]
[76,{"$f":"IF(MAX('Formet 8'!$A$12:$A$213)<$A82,\"\",VLOOKUP($A82,'Formet 8'!$A$12:$O$213,4,0))","v":""},{"$f":"IF(MAX('Formet 8'!$A$12:$A$213)<$A82,\"\",VLOOKUP($A82,'Formet 8'!$A$12:$O$213,7,0))","v":""},{"$f":"IF(MAX('Formet 8'!$A$12:$A$213)<$A82,\"\",VLOOKUP($A82,'Formet 8'!$A$12:$O$213,9,0))","v":""},{"$f":"IF(AND(D82=\"\"),\"\",'Formet 8'!E$218)","v":""},"",""]
[77,{"$f":"IF(MAX('Formet 8'!$A$12:$A$213)<$A83,\"\",VLOOKUP($A83,'Formet 8'!$A$12:$O$213,4,0))","v":""},{"$f":"IF(MAX('Formet 8'!$A$12:$A$213)<$A83,\"\",VLOOKUP($A83,'Formet 8'!$A$12:$O$213,7,0))","v":""},{"$f":"IF(MAX('Formet 8'!$A$12:$A$213)<$A83,\"\",VLOOKUP($A83,'Formet 8'!$A$12:$O$213,9,0))","v":""},{"$f":"IF(AND(D83=\"\"),\"\",'Formet 8'!E$218)","v":""},"",""]
[78,{"$f":"IF(MAX('Formet 8'!$A$12:$A$213)<$A84,\"\",VLOOKUP($A84,'Formet 8'!$A$12:$O$213,4,0))","v":""},{"$f":"IF(MAX('Formet 8'!$A$12:$A$213)<$A84,\"\",VLOOKUP($A84,'Formet 8'!$A$12:$O$213,7,0))","v":""},{"$f":"IF(MAX('Formet 8'!$A$12:$A$213)<$A84,\"\",VLOOKUP($A84,'Formet 8'!$A$12:$O$213,9,0))","v":""},{"$f":"IF(AND(D84=\"\"),\"\",'Formet 8'!E$218)","v":""},"",""]
[79,{"$f":"IF(MAX('Formet 8'!$A$12:$A$213)<$A85,\"\",VLOOKUP($A85,'Formet 8'!$A$12:$O$213,4,0))","v":""},{"$f":"IF(MAX('Formet 8'!$A$12:$A$213)<$A85,\"\",VLOOKUP($A85,'Formet 8'!$A$12:$O$213,7,0))","v":""},{"$f":"IF(MAX('Formet 8'!$A$12:$A$213)<$A85,\"\",VLOOKUP($A85,'Formet 8'!$A$12:$O$213,9,0))","v":""},{"$f":"IF(AND(D85=\"\"),\"\",'Formet 8'!E$218)","v":""},"",""]
[80,{"$f":"IF(MAX('Formet 8'!$A$12:$A$213)<$A86,\"\",VLOOKUP($A86,'Formet 8'!$A$12:$O$213,4,0))","v":""},{"$f":"IF(MAX('Formet 8'!$A$12:$A$213)<$A86,\"\",VLOOKUP($A86,'Formet 8'!$A$12:$O$213,7,0))","v":""},{"$f":"IF(MAX('Formet 8'!$A$12:$A$213)<$A86,\"\",VLOOKUP($A86,'Formet 8'!$A$12:$O$213,9,0))","v":""},{"$f":"IF(AND(D86=\"\"),\"\",'Formet 8'!E$218)","v":""},"",""]
[81,{"$f":"IF(MAX('Formet 8'!$A$12:$A$213)<$A87,\"\",VLOOKUP($A87,'Formet 8'!$A$12:$O$213,4,0))","v":""},{"$f":"IF(MAX('Formet 8'!$A$12:$A$213)<$A87,\"\",VLOOKUP($A87,'Formet 8'!$A$12:$O$213,7,0))","v":""},{"$f":"IF(MAX('Formet 8'!$A$12:$A$213)<$A87,\"\",VLOOKUP($A87,'Formet 8'!$A$12:$O$213,9,0))","v":""},{"$f":"IF(AND(D87=\"\"),\"\",'Formet 8'!E$218)","v":""},"",""]
[82,{"$f":"IF(MAX('Formet 8'!$A$12:$A$213)<$A88,\"\",VLOOKUP($A88,'Formet 8'!$A$12:$O$213,4,0))","v":""},{"$f":"IF(MAX('Formet 8'!$A$12:$A$213)<$A88,\"\",VLOOKUP($A88,'Formet 8'!$A$12:$O$213,7,0))","v":""},{"$f":"IF(MAX('Formet 8'!$A$12:$A$213)<$A88,\"\",VLOOKUP($A88,'Formet 8'!$A$12:$O$213,9,0))","v":""},{"$f":"IF(AND(D88=\"\"),\"\",'Formet 8'!E$218)","v":""},"",""]
[83,{"$f":"IF(MAX('Formet 8'!$A$12:$A$213)<$A89,\"\",VLOOKUP($A89,'Formet 8'!$A$12:$O$213,4,0))","v":""},{"$f":"IF(MAX('Formet 8'!$A$12:$A$213)<$A89,\"\",VLOOKUP($A89,'Formet 8'!$A$12:$O$213,7,0))","v":""},{"$f":"IF(MAX('Formet 8'!$A$12:$A$213)<$A89,\"\",VLOOKUP($A89,'Formet 8'!$A$12:$O$213,9,0))","v":""},{"$f":"IF(AND(D89=\"\"),\"\",'Formet 8'!E$218)","v":""},"",""]
[84,{"$f":"IF(MAX('Formet 8'!$A$12:$A$213)<$A90,\"\",VLOOKUP($A90,'Formet 8'!$A$12:$O$213,4,0))","v":""},{"$f":"IF(MAX('Formet 8'!$A$12:$A$213)<$A90,\"\",VLOOKUP($A90,'Formet 8'!$A$12:$O$213,7,0))","v":""},{"$f":"IF(MAX('Formet 8'!$A$12:$A$213)<$A90,\"\",VLOOKUP($A90,'Formet 8'!$A$12:$O$213,9,0))","v":""},{"$f":"IF(AND(D90=\"\"),\"\",'Formet 8'!E$218)","v":""},"",""]
[85,{"$f":"IF(MAX('Formet 8'!$A$12:$A$213)<$A91,\"\",VLOOKUP($A91,'Formet 8'!$A$12:$O$213,4,0))","v":""},{"$f":"IF(MAX('Formet 8'!$A$12:$A$213)<$A91,\"\",VLOOKUP($A91,'Formet 8'!$A$12:$O$213,7,0))","v":""},{"$f":"IF(MAX('Formet 8'!$A$12:$A$213)<$A91,\"\",VLOOKUP($A91,'Formet 8'!$A$12:$O$213,9,0))","v":""},{"$f":"IF(AND(D91=\"\"),\"\",'Formet 8'!E$218)","v":""},"",""]
[86,{"$f":"IF(MAX('Formet 8'!$A$12:$A$213)<$A92,\"\",VLOOKUP($A92,'Formet 8'!$A$12:$O$213,4,0))","v":""},{"$f":"IF(MAX('Formet 8'!$A$12:$A$213)<$A92,\"\",VLOOKUP($A92,'Formet 8'!$A$12:$O$213,7,0))","v":""},{"$f":"IF(MAX('Formet 8'!$A$12:$A$213)<$A92,\"\",VLOOKUP($A92,'Formet 8'!$A$12:$O$213,9,0))","v":""},{"$f":"IF(AND(D92=\"\"),\"\",'Formet 8'!E$218)","v":""},"",""]
[87,{"$f":"IF(MAX('Formet 8'!$A$12:$A$213)<$A93,\"\",VLOOKUP($A93,'Formet 8'!$A$12:$O$213,4,0))","v":""},{"$f":"IF(MAX('Formet 8'!$A$12:$A$213)<$A93,\"\",VLOOKUP($A93,'Formet 8'!$A$12:$O$213,7,0))","v":""},{"$f":"IF(MAX('Formet 8'!$A$12:$A$213)<$A93,\"\",VLOOKUP($A93,'Formet 8'!$A$12:$O$213,9,0))","v":""},{"$f":"IF(AND(D93=\"\"),\"\",'Formet 8'!E$218)","v":""},"",""]
[88,{"$f":"IF(MAX('Formet 8'!$A$12:$A$213)<$A94,\"\",VLOOKUP($A94,'Formet 8'!$A$12:$O$213,4,0))","v":""},{"$f":"IF(MAX('Formet 8'!$A$12:$A$213)<$A94,\"\",VLOOKUP($A94,'Formet 8'!$A$12:$O$213,7,0))","v":""},{"$f":"IF(MAX('Formet 8'!$A$12:$A$213)<$A94,\"\",VLOOKUP($A94,'Formet 8'!$A$12:$O$213,9,0))","v":""},{"$f":"IF(AND(D94=\"\"),\"\",'Formet 8'!E$218)","v":""},"",""]
[89,{"$f":"IF(MAX('Formet 8'!$A$12:$A$213)<$A95,\"\",VLOOKUP($A95,'Formet 8'!$A$12:$O$213,4,0))","v":""},{"$f":"IF(MAX('Formet 8'!$A$12:$A$213)<$A95,\"\",VLOOKUP($A95,'Formet 8'!$A$12:$O$213,7,0))","v":""},{"$f":"IF(MAX('Formet 8'!$A$12:$A$213)<$A95,\"\",VLOOKUP($A95,'Formet 8'!$A$12:$O$213,9,0))","v":""},{"$f":"IF(AND(D95=\"\"),\"\",'Formet 8'!E$218)","v":""},"",""]
[90,{"$f":"IF(MAX('Formet 8'!$A$12:$A$213)<$A96,\"\",VLOOKUP($A96,'Formet 8'!$A$12:$O$213,4,0))","v":""},{"$f":"IF(MAX('Formet 8'!$A$12:$A$213)<$A96,\"\",VLOOKUP($A96,'Formet 8'!$A$12:$O$213,7,0))","v":""},{"$f":"IF(MAX('Formet 8'!$A$12:$A$213)<$A96,\"\",VLOOKUP($A96,'Formet 8'!$A$12:$O$213,9,0))","v":""},{"$f":"IF(AND(D96=\"\"),\"\",'Formet 8'!E$218)","v":""},"",""]
[91,{"$f":"IF(MAX('Formet 8'!$A$12:$A$213)<$A97,\"\",VLOOKUP($A97,'Formet 8'!$A$12:$O$213,4,0))","v":""},{"$f":"IF(MAX('Formet 8'!$A$12:$A$213)<$A97,\"\",VLOOKUP($A97,'Formet 8'!$A$12:$O$213,7,0))","v":""},{"$f":"IF(MAX('Formet 8'!$A$12:$A$213)<$A97,\"\",VLOOKUP($A97,'Formet 8'!$A$12:$O$213,9,0))","v":""},{"$f":"IF(AND(D97=\"\"),\"\",'Formet 8'!E$218)","v":""},"",""]
[92,{"$f":"IF(MAX('Formet 8'!$A$12:$A$213)<$A98,\"\",VLOOKUP($A98,'Formet 8'!$A$12:$O$213,4,0))","v":""},{"$f":"IF(MAX('Formet 8'!$A$12:$A$213)<$A98,\"\",VLOOKUP($A98,'Formet 8'!$A$12:$O$213,7,0))","v":""},{"$f":"IF(MAX('Formet 8'!$A$12:$A$213)<$A98,\"\",VLOOKUP($A98,'Formet 8'!$A$12:$O$213,9,0))","v":""},{"$f":"IF(AND(D98=\"\"),\"\",'Formet 8'!E$218)","v":""},"",""]
[93,{"$f":"IF(MAX('Formet 8'!$A$12:$A$213)<$A99,\"\",VLOOKUP($A99,'Formet 8'!$A$12:$O$213,4,0))","v":""},{"$f":"IF(MAX('Formet 8'!$A$12:$A$213)<$A99,\"\",VLOOKUP($A99,'Formet 8'!$A$12:$O$213,7,0))","v":""},{"$f":"IF(MAX('Formet 8'!$A$12:$A$213)<$A99,\"\",VLOOKUP($A99,'Formet 8'!$A$12:$O$213,9,0))","v":""},{"$f":"IF(AND(D99=\"\"),\"\",'Formet 8'!E$218)","v":""},"",""]
[94,{"$f":"IF(MAX('Formet 8'!$A$12:$A$213)<$A100,\"\",VLOOKUP($A100,'Formet 8'!$A$12:$O$213,4,0))","v":""},{"$f":"IF(MAX('Formet 8'!$A$12:$A$213)<$A100,\"\",VLOOKUP($A100,'Formet 8'!$A$12:$O$213,7,0))","v":""},{"$f":"IF(MAX('Formet 8'!$A$12:$A$213)<$A100,\"\",VLOOKUP($A100,'Formet 8'!$A$12:$O$213,9,0))","v":""},{"$f":"IF(AND(D100=\"\"),\"\",'Formet 8'!E$218)","v":""},"",""]
[95,{"$f":"IF(MAX('Formet 8'!$A$12:$A$213)<$A101,\"\",VLOOKUP($A101,'Formet 8'!$A$12:$O$213,4,0))","v":""},{"$f":"IF(MAX('Formet 8'!$A$12:$A$213)<$A101,\"\",VLOOKUP($A101,'Formet 8'!$A$12:$O$213,7,0))","v":""},{"$f":"IF(MAX('Formet 8'!$A$12:$A$213)<$A101,\"\",VLOOKUP($A101,'Formet 8'!$A$12:$O$213,9,0))","v":""},{"$f":"IF(AND(D101=\"\"),\"\",'Formet 8'!E$218)","v":""},"",""]
[96,{"$f":"IF(MAX('Formet 8'!$A$12:$A$213)<$A102,\"\",VLOOKUP($A102,'Formet 8'!$A$12:$O$213,4,0))","v":""},{"$f":"IF(MAX('Formet 8'!$A$12:$A$213)<$A102,\"\",VLOOKUP($A102,'Formet 8'!$A$12:$O$213,7,0))","v":""},{"$f":"IF(MAX('Formet 8'!$A$12:$A$213)<$A102,\"\",VLOOKUP($A102,'Formet 8'!$A$12:$O$213,9,0))","v":""},{"$f":"IF(AND(D102=\"\"),\"\",'Formet 8'!E$218)","v":""},"",""]
[97,{"$f":"IF(MAX('Formet 8'!$A$12:$A$213)<$A103,\"\",VLOOKUP($A103,'Formet 8'!$A$12:$O$213,4,0))","v":""},{"$f":"IF(MAX('Formet 8'!$A$12:$A$213)<$A103,\"\",VLOOKUP($A103,'Formet 8'!$A$12:$O$213,7,0))","v":""},{"$f":"IF(MAX('Formet 8'!$A$12:$A$213)<$A103,\"\",VLOOKUP($A103,'Formet 8'!$A$12:$O$213,9,0))","v":""},{"$f":"IF(AND(D103=\"\"),\"\",'Formet 8'!E$218)","v":""},"",""]
[98,{"$f":"IF(MAX('Formet 8'!$A$12:$A$213)<$A104,\"\",VLOOKUP($A104,'Formet 8'!$A$12:$O$213,4,0))","v":""},{"$f":"IF(MAX('Formet 8'!$A$12:$A$213)<$A104,\"\",VLOOKUP($A104,'Formet 8'!$A$12:$O$213,7,0))","v":""},{"$f":"IF(MAX('Formet 8'!$A$12:$A$213)<$A104,\"\",VLOOKUP($A104,'Formet 8'!$A$12:$O$213,9,0))","v":""},{"$f":"IF(AND(D104=\"\"),\"\",'Formet 8'!E$218)","v":""},"",""]
[99,{"$f":"IF(MAX('Formet 8'!$A$12:$A$213)<$A105,\"\",VLOOKUP($A105,'Formet 8'!$A$12:$O$213,4,0))","v":""},{"$f":"IF(MAX('Formet 8'!$A$12:$A$213)<$A105,\"\",VLOOKUP($A105,'Formet 8'!$A$12:$O$213,7,0))","v":""},{"$f":"IF(MAX('Formet 8'!$A$12:$A$213)<$A105,\"\",VLOOKUP($A105,'Formet 8'!$A$12:$O$213,9,0))","v":""},{"$f":"IF(AND(D105=\"\"),\"\",'Formet 8'!E$218)","v":""},"",""]
[100,{"$f":"IF(MAX('Formet 8'!$A$12:$A$213)<$A106,\"\",VLOOKUP($A106,'Formet 8'!$A$12:$O$213,4,0))","v":""},{"$f":"IF(MAX('Formet 8'!$A$12:$A$213)<$A106,\"\",VLOOKUP($A106,'Formet 8'!$A$12:$O$213,7,0))","v":""},{"$f":"IF(MAX('Formet 8'!$A$12:$A$213)<$A106,\"\",VLOOKUP($A106,'Formet 8'!$A$12:$O$213,9,0))","v":""},{"$f":"IF(AND(D106=\"\"),\"\",'Formet 8'!E$218)","v":""},"",""]
[101,{"$f":"IF(MAX('Formet 8'!$A$12:$A$213)<$A107,\"\",VLOOKUP($A107,'Formet 8'!$A$12:$O$213,4,0))","v":""},{"$f":"IF(MAX('Formet 8'!$A$12:$A$213)<$A107,\"\",VLOOKUP($A107,'Formet 8'!$A$12:$O$213,7,0))","v":""},{"$f":"IF(MAX('Formet 8'!$A$12:$A$213)<$A107,\"\",VLOOKUP($A107,'Formet 8'!$A$12:$O$213,9,0))","v":""},{"$f":"IF(AND(D107=\"\"),\"\",'Formet 8'!E$218)","v":""},"",""]
[102,{"$f":"IF(MAX('Formet 8'!$A$12:$A$213)<$A108,\"\",VLOOKUP($A108,'Formet 8'!$A$12:$O$213,4,0))","v":""},{"$f":"IF(MAX('Formet 8'!$A$12:$A$213)<$A108,\"\",VLOOKUP($A108,'Formet 8'!$A$12:$O$213,7,0))","v":""},{"$f":"IF(MAX('Formet 8'!$A$12:$A$213)<$A108,\"\",VLOOKUP($A108,'Formet 8'!$A$12:$O$213,9,0))","v":""},{"$f":"IF(AND(D108=\"\"),\"\",'Formet 8'!E$218)","v":""},"",""]
[103,{"$f":"IF(MAX('Formet 8'!$A$12:$A$213)<$A109,\"\",VLOOKUP($A109,'Formet 8'!$A$12:$O$213,4,0))","v":""},{"$f":"IF(MAX('Formet 8'!$A$12:$A$213)<$A109,\"\",VLOOKUP($A109,'Formet 8'!$A$12:$O$213,7,0))","v":""},{"$f":"IF(MAX('Formet 8'!$A$12:$A$213)<$A109,\"\",VLOOKUP($A109,'Formet 8'!$A$12:$O$213,9,0))","v":""},{"$f":"IF(AND(D109=\"\"),\"\",'Formet 8'!E$218)","v":""},"",""]
[104,{"$f":"IF(MAX('Formet 8'!$A$12:$A$213)<$A110,\"\",VLOOKUP($A110,'Formet 8'!$A$12:$O$213,4,0))","v":""},{"$f":"IF(MAX('Formet 8'!$A$12:$A$213)<$A110,\"\",VLOOKUP($A110,'Formet 8'!$A$12:$O$213,7,0))","v":""},{"$f":"IF(MAX('Formet 8'!$A$12:$A$213)<$A110,\"\",VLOOKUP($A110,'Formet 8'!$A$12:$O$213,9,0))","v":""},{"$f":"IF(AND(D110=\"\"),\"\",'Formet 8'!E$218)","v":""},"",""]
[105,{"$f":"IF(MAX('Formet 8'!$A$12:$A$213)<$A111,\"\",VLOOKUP($A111,'Formet 8'!$A$12:$O$213,4,0))","v":""},{"$f":"IF(MAX('Formet 8'!$A$12:$A$213)<$A111,\"\",VLOOKUP($A111,'Formet 8'!$A$12:$O$213,7,0))","v":""},{"$f":"IF(MAX('Formet 8'!$A$12:$A$213)<$A111,\"\",VLOOKUP($A111,'Formet 8'!$A$12:$O$213,9,0))","v":""},{"$f":"IF(AND(D111=\"\"),\"\",'Formet 8'!E$218)","v":""},"",""]
[106,{"$f":"IF(MAX('Formet 8'!$A$12:$A$213)<$A112,\"\",VLOOKUP($A112,'Formet 8'!$A$12:$O$213,4,0))","v":""},{"$f":"IF(MAX('Formet 8'!$A$12:$A$213)<$A112,\"\",VLOOKUP($A112,'Formet 8'!$A$12:$O$213,7,0))","v":""},{"$f":"IF(MAX('Formet 8'!$A$12:$A$213)<$A112,\"\",VLOOKUP($A112,'Formet 8'!$A$12:$O$213,9,0))","v":""},{"$f":"IF(AND(D112=\"\"),\"\",'Formet 8'!E$218)","v":""},"",""]
[107,{"$f":"IF(MAX('Formet 8'!$A$12:$A$213)<$A113,\"\",VLOOKUP($A113,'Formet 8'!$A$12:$O$213,4,0))","v":""},{"$f":"IF(MAX('Formet 8'!$A$12:$A$213)<$A113,\"\",VLOOKUP($A113,'Formet 8'!$A$12:$O$213,7,0))","v":""},{"$f":"IF(MAX('Formet 8'!$A$12:$A$213)<$A113,\"\",VLOOKUP($A113,'Formet 8'!$A$12:$O$213,9,0))","v":""},{"$f":"IF(AND(D113=\"\"),\"\",'Formet 8'!E$218)","v":""},"",""]
[108,{"$f":"IF(MAX('Formet 8'!$A$12:$A$213)<$A114,\"\",VLOOKUP($A114,'Formet 8'!$A$12:$O$213,4,0))","v":""},{"$f":"IF(MAX('Formet 8'!$A$12:$A$213)<$A114,\"\",VLOOKUP($A114,'Formet 8'!$A$12:$O$213,7,0))","v":""},{"$f":"IF(MAX('Formet 8'!$A$12:$A$213)<$A114,\"\",VLOOKUP($A114,'Formet 8'!$A$12:$O$213,9,0))","v":""},{"$f":"IF(AND(D114=\"\"),\"\",'Formet 8'!E$218)","v":""},"",""]
[109,{"$f":"IF(MAX('Formet 8'!$A$12:$A$213)<$A115,\"\",VLOOKUP($A115,'Formet 8'!$A$12:$O$213,4,0))","v":""},{"$f":"IF(MAX('Formet 8'!$A$12:$A$213)<$A115,\"\",VLOOKUP($A115,'Formet 8'!$A$12:$O$213,7,0))","v":""},{"$f":"IF(MAX('Formet 8'!$A$12:$A$213)<$A115,\"\",VLOOKUP($A115,'Formet 8'!$A$12:$O$213,9,0))","v":""},{"$f":"IF(AND(D115=\"\"),\"\",'Formet 8'!E$218)","v":""},"",""]
[110,{"$f":"IF(MAX('Formet 8'!$A$12:$A$213)<$A116,\"\",VLOOKUP($A116,'Formet 8'!$A$12:$O$213,4,0))","v":""},{"$f":"IF(MAX('Formet 8'!$A$12:$A$213)<$A116,\"\",VLOOKUP($A116,'Formet 8'!$A$12:$O$213,7,0))","v":""},{"$f":"IF(MAX('Formet 8'!$A$12:$A$213)<$A116,\"\",VLOOKUP($A116,'Formet 8'!$A$12:$O$213,9,0))","v":""},{"$f":"IF(AND(D116=\"\"),\"\",'Formet 8'!E$218)","v":""},"",""]
[111,{"$f":"IF(MAX('Formet 8'!$A$12:$A$213)<$A117,\"\",VLOOKUP($A117,'Formet 8'!$A$12:$O$213,4,0))","v":""},{"$f":"IF(MAX('Formet 8'!$A$12:$A$213)<$A117,\"\",VLOOKUP($A117,'Formet 8'!$A$12:$O$213,7,0))","v":""},{"$f":"IF(MAX('Formet 8'!$A$12:$A$213)<$A117,\"\",VLOOKUP($A117,'Formet 8'!$A$12:$O$213,9,0))","v":""},{"$f":"IF(AND(D117=\"\"),\"\",'Formet 8'!E$218)","v":""},"",""]
[112,{"$f":"IF(MAX('Formet 8'!$A$12:$A$213)<$A118,\"\",VLOOKUP($A118,'Formet 8'!$A$12:$O$213,4,0))","v":""},{"$f":"IF(MAX('Formet 8'!$A$12:$A$213)<$A118,\"\",VLOOKUP($A118,'Formet 8'!$A$12:$O$213,7,0))","v":""},{"$f":"IF(MAX('Formet 8'!$A$12:$A$213)<$A118,\"\",VLOOKUP($A118,'Formet 8'!$A$12:$O$213,9,0))","v":""},{"$f":"IF(AND(D118=\"\"),\"\",'Formet 8'!E$218)","v":""},"",""]
[113,{"$f":"IF(MAX('Formet 8'!$A$12:$A$213)<$A119,\"\",VLOOKUP($A119,'Formet 8'!$A$12:$O$213,4,0))","v":""},{"$f":"IF(MAX('Formet 8'!$A$12:$A$213)<$A119,\"\",VLOOKUP($A119,'Formet 8'!$A$12:$O$213,7,0))","v":""},{"$f":"IF(MAX('Formet 8'!$A$12:$A$213)<$A119,\"\",VLOOKUP($A119,'Formet 8'!$A$12:$O$213,9,0))","v":""},{"$f":"IF(AND(D119=\"\"),\"\",'Formet 8'!E$218)","v":""},"",""]
[114,{"$f":"IF(MAX('Formet 8'!$A$12:$A$213)<$A120,\"\",VLOOKUP($A120,'Formet 8'!$A$12:$O$213,4,0))","v":""},{"$f":"IF(MAX('Formet 8'!$A$12:$A$213)<$A120,\"\",VLOOKUP($A120,'Formet 8'!$A$12:$O$213,7,0))","v":""},{"$f":"IF(MAX('Formet 8'!$A$12:$A$213)<$A120,\"\",VLOOKUP($A120,'Formet 8'!$A$12:$O$213,9,0))","v":""},{"$f":"IF(AND(D120=\"\"),\"\",'Formet 8'!E$218)","v":""},"",""]
[115,{"$f":"IF(MAX('Formet 8'!$A$12:$A$213)<$A121,\"\",VLOOKUP($A121,'Formet 8'!$A$12:$O$213,4,0))","v":""},{"$f":"IF(MAX('Formet 8'!$A$12:$A$213)<$A121,\"\",VLOOKUP($A121,'Formet 8'!$A$12:$O$213,7,0))","v":""},{"$f":"IF(MAX('Formet 8'!$A$12:$A$213)<$A121,\"\",VLOOKUP($A121,'Formet 8'!$A$12:$O$213,9,0))","v":""},{"$f":"IF(AND(D121=\"\"),\"\",'Formet 8'!E$218)","v":""},"",""]
[116,{"$f":"IF(MAX('Formet 8'!$A$12:$A$213)<$A122,\"\",VLOOKUP($A122,'Formet 8'!$A$12:$O$213,4,0))","v":""},{"$f":"IF(MAX('Formet 8'!$A$12:$A$213)<$A122,\"\",VLOOKUP($A122,'Formet 8'!$A$12:$O$213,7,0))","v":""},{"$f":"IF(MAX('Formet 8'!$A$12:$A$213)<$A122,\"\",VLOOKUP($A122,'Formet 8'!$A$12:$O$213,9,0))","v":""},{"$f":"IF(AND(D122=\"\"),\"\",'Formet 8'!E$218)","v":""},"",""]
[117,{"$f":"IF(MAX('Formet 8'!$A$12:$A$213)<$A123,\"\",VLOOKUP($A123,'Formet 8'!$A$12:$O$213,4,0))","v":""},{"$f":"IF(MAX('Formet 8'!$A$12:$A$213)<$A123,\"\",VLOOKUP($A123,'Formet 8'!$A$12:$O$213,7,0))","v":""},{"$f":"IF(MAX('Formet 8'!$A$12:$A$213)<$A123,\"\",VLOOKUP($A123,'Formet 8'!$A$12:$O$213,9,0))","v":""},{"$f":"IF(AND(D123=\"\"),\"\",'Formet 8'!E$218)","v":""},"",""]
[118,{"$f":"IF(MAX('Formet 8'!$A$12:$A$213)<$A124,\"\",VLOOKUP($A124,'Formet 8'!$A$12:$O$213,4,0))","v":""},{"$f":"IF(MAX('Formet 8'!$A$12:$A$213)<$A124,\"\",VLOOKUP($A124,'Formet 8'!$A$12:$O$213,7,0))","v":""},{"$f":"IF(MAX('Formet 8'!$A$12:$A$213)<$A124,\"\",VLOOKUP($A124,'Formet 8'!$A$12:$O$213,9,0))","v":""},{"$f":"IF(AND(D124=\"\"),\"\",'Formet 8'!E$218)","v":""},"",""]
[119,{"$f":"IF(MAX('Formet 8'!$A$12:$A$213)<$A125,\"\",VLOOKUP($A125,'Formet 8'!$A$12:$O$213,4,0))","v":""},{"$f":"IF(MAX('Formet 8'!$A$12:$A$213)<$A125,\"\",VLOOKUP($A125,'Formet 8'!$A$12:$O$213,7,0))","v":""},{"$f":"IF(MAX('Formet 8'!$A$12:$A$213)<$A125,\"\",VLOOKUP($A125,'Formet 8'!$A$12:$O$213,9,0))","v":""},{"$f":"IF(AND(D125=\"\"),\"\",'Formet 8'!E$218)","v":""},"",""]
[120,{"$f":"IF(MAX('Formet 8'!$A$12:$A$213)<$A126,\"\",VLOOKUP($A126,'Formet 8'!$A$12:$O$213,4,0))","v":""},{"$f":"IF(MAX('Formet 8'!$A$12:$A$213)<$A126,\"\",VLOOKUP($A126,'Formet 8'!$A$12:$O$213,7,0))","v":""},{"$f":"IF(MAX('Formet 8'!$A$12:$A$213)<$A126,\"\",VLOOKUP($A126,'Formet 8'!$A$12:$O$213,9,0))","v":""},{"$f":"IF(AND(D126=\"\"),\"\",'Formet 8'!E$218)","v":""},"",""]
[121,{"$f":"IF(MAX('Formet 8'!$A$12:$A$213)<$A127,\"\",VLOOKUP($A127,'Formet 8'!$A$12:$O$213,4,0))","v":""},{"$f":"IF(MAX('Formet 8'!$A$12:$A$213)<$A127,\"\",VLOOKUP($A127,'Formet 8'!$A$12:$O$213,7,0))","v":""},{"$f":"IF(MAX('Formet 8'!$A$12:$A$213)<$A127,\"\",VLOOKUP($A127,'Formet 8'!$A$12:$O$213,9,0))","v":""},{"$f":"IF(AND(D127=\"\"),\"\",'Formet 8'!E$218)","v":""},"",""]
[122,{"$f":"IF(MAX('Formet 8'!$A$12:$A$213)<$A128,\"\",VLOOKUP($A128,'Formet 8'!$A$12:$O$213,4,0))","v":""},{"$f":"IF(MAX('Formet 8'!$A$12:$A$213)<$A128,\"\",VLOOKUP($A128,'Formet 8'!$A$12:$O$213,7,0))","v":""},{"$f":"IF(MAX('Formet 8'!$A$12:$A$213)<$A128,\"\",VLOOKUP($A128,'Formet 8'!$A$12:$O$213,9,0))","v":""},{"$f":"IF(AND(D128=\"\"),\"\",'Formet 8'!E$218)","v":""},"",""]
[123,{"$f":"IF(MAX('Formet 8'!$A$12:$A$213)<$A129,\"\",VLOOKUP($A129,'Formet 8'!$A$12:$O$213,4,0))","v":""},{"$f":"IF(MAX('Formet 8'!$A$12:$A$213)<$A129,\"\",VLOOKUP($A129,'Formet 8'!$A$12:$O$213,7,0))","v":""},{"$f":"IF(MAX('Formet 8'!$A$12:$A$213)<$A129,\"\",VLOOKUP($A129,'Formet 8'!$A$12:$O$213,9,0))","v":""},{"$f":"IF(AND(D129=\"\"),\"\",'Formet 8'!E$218)","v":""},"",""]
[124,{"$f":"IF(MAX('Formet 8'!$A$12:$A$213)<$A130,\"\",VLOOKUP($A130,'Formet 8'!$A$12:$O$213,4,0))","v":""},{"$f":"IF(MAX('Formet 8'!$A$12:$A$213)<$A130,\"\",VLOOKUP($A130,'Formet 8'!$A$12:$O$213,7,0))","v":""},{"$f":"IF(MAX('Formet 8'!$A$12:$A$213)<$A130,\"\",VLOOKUP($A130,'Formet 8'!$A$12:$O$213,9,0))","v":""},{"$f":"IF(AND(D130=\"\"),\"\",'Formet 8'!E$218)","v":""},"",""]
[125,{"$f":"IF(MAX('Formet 8'!$A$12:$A$213)<$A131,\"\",VLOOKUP($A131,'Formet 8'!$A$12:$O$213,4,0))","v":""},{"$f":"IF(MAX('Formet 8'!$A$12:$A$213)<$A131,\"\",VLOOKUP($A131,'Formet 8'!$A$12:$O$213,7,0))","v":""},{"$f":"IF(MAX('Formet 8'!$A$12:$A$213)<$A131,\"\",VLOOKUP($A131,'Formet 8'!$A$12:$O$213,9,0))","v":""},{"$f":"IF(AND(D131=\"\"),\"\",'Formet 8'!E$218)","v":""},"",""]
[126,{"$f":"IF(MAX('Formet 8'!$A$12:$A$213)<$A132,\"\",VLOOKUP($A132,'Formet 8'!$A$12:$O$213,4,0))","v":""},{"$f":"IF(MAX('Formet 8'!$A$12:$A$213)<$A132,\"\",VLOOKUP($A132,'Formet 8'!$A$12:$O$213,7,0))","v":""},{"$f":"IF(MAX('Formet 8'!$A$12:$A$213)<$A132,\"\",VLOOKUP($A132,'Formet 8'!$A$12:$O$213,9,0))","v":""},{"$f":"IF(AND(D132=\"\"),\"\",'Formet 8'!E$218)","v":""},"",""]
[127,{"$f":"IF(MAX('Formet 8'!$A$12:$A$213)<$A133,\"\",VLOOKUP($A133,'Formet 8'!$A$12:$O$213,4,0))","v":""},{"$f":"IF(MAX('Formet 8'!$A$12:$A$213)<$A133,\"\",VLOOKUP($A133,'Formet 8'!$A$12:$O$213,7,0))","v":""},{"$f":"IF(MAX('Formet 8'!$A$12:$A$213)<$A133,\"\",VLOOKUP($A133,'Formet 8'!$A$12:$O$213,9,0))","v":""},{"$f":"IF(AND(D133=\"\"),\"\",'Formet 8'!E$218)","v":""},"",""]
[128,{"$f":"IF(MAX('Formet 8'!$A$12:$A$213)<$A134,\"\",VLOOKUP($A134,'Formet 8'!$A$12:$O$213,4,0))","v":""},{"$f":"IF(MAX('Formet 8'!$A$12:$A$213)<$A134,\"\",VLOOKUP($A134,'Formet 8'!$A$12:$O$213,7,0))","v":""},{"$f":"IF(MAX('Formet 8'!$A$12:$A$213)<$A134,\"\",VLOOKUP($A134,'Formet 8'!$A$12:$O$213,9,0))","v":""},{"$f":"IF(AND(D134=\"\"),\"\",'Formet 8'!E$218)","v":""},"",""]
[129,{"$f":"IF(MAX('Formet 8'!$A$12:$A$213)<$A135,\"\",VLOOKUP($A135,'Formet 8'!$A$12:$O$213,4,0))","v":""},{"$f":"IF(MAX('Formet 8'!$A$12:$A$213)<$A135,\"\",VLOOKUP($A135,'Formet 8'!$A$12:$O$213,7,0))","v":""},{"$f":"IF(MAX('Formet 8'!$A$12:$A$213)<$A135,\"\",VLOOKUP($A135,'Formet 8'!$A$12:$O$213,9,0))","v":""},{"$f":"IF(AND(D135=\"\"),\"\",'Formet 8'!E$218)","v":""},"",""]
[130,{"$f":"IF(MAX('Formet 8'!$A$12:$A$213)<$A136,\"\",VLOOKUP($A136,'Formet 8'!$A$12:$O$213,4,0))","v":""},{"$f":"IF(MAX('Formet 8'!$A$12:$A$213)<$A136,\"\",VLOOKUP($A136,'Formet 8'!$A$12:$O$213,7,0))","v":""},{"$f":"IF(MAX('Formet 8'!$A$12:$A$213)<$A136,\"\",VLOOKUP($A136,'Formet 8'!$A$12:$O$213,9,0))","v":""},{"$f":"IF(AND(D136=\"\"),\"\",'Formet 8'!E$218)","v":""},"",{"$f":"IF(AND(D136=\"\"),\"\",(ROUND(D136*103%,0)*E136*3)+F136)","v":""}]
[131,{"$f":"IF(MAX('Formet 8'!$A$12:$A$213)<$A137,\"\",VLOOKUP($A137,'Formet 8'!$A$12:$O$213,4,0))","v":""},{"$f":"IF(MAX('Formet 8'!$A$12:$A$213)<$A137,\"\",VLOOKUP($A137,'Formet 8'!$A$12:$O$213,7,0))","v":""},{"$f":"IF(MAX('Formet 8'!$A$12:$A$213)<$A137,\"\",VLOOKUP($A137,'Formet 8'!$A$12:$O$213,9,0))","v":""},{"$f":"IF(AND(D137=\"\"),\"\",'Formet 8'!E$218)","v":""},"",""]
[132,{"$f":"IF(MAX('Formet 8'!$A$12:$A$213)<$A138,\"\",VLOOKUP($A138,'Formet 8'!$A$12:$O$213,4,0))","v":""},{"$f":"IF(MAX('Formet 8'!$A$12:$A$213)<$A138,\"\",VLOOKUP($A138,'Formet 8'!$A$12:$O$213,7,0))","v":""},{"$f":"IF(MAX('Formet 8'!$A$12:$A$213)<$A138,\"\",VLOOKUP($A138,'Formet 8'!$A$12:$O$213,9,0))","v":""},{"$f":"IF(AND(D138=\"\"),\"\",'Formet 8'!E$218)","v":""},"",""]
[133,{"$f":"IF(MAX('Formet 8'!$A$12:$A$213)<$A139,\"\",VLOOKUP($A139,'Formet 8'!$A$12:$O$213,4,0))","v":""},{"$f":"IF(MAX('Formet 8'!$A$12:$A$213)<$A139,\"\",VLOOKUP($A139,'Formet 8'!$A$12:$O$213,7,0))","v":""},{"$f":"IF(MAX('Formet 8'!$A$12:$A$213)<$A139,\"\",VLOOKUP($A139,'Formet 8'!$A$12:$O$213,9,0))","v":""},{"$f":"IF(AND(D139=\"\"),\"\",'Formet 8'!E$218)","v":""},"",""]
[134,{"$f":"IF(MAX('Formet 8'!$A$12:$A$213)<$A140,\"\",VLOOKUP($A140,'Formet 8'!$A$12:$O$213,4,0))","v":""},{"$f":"IF(MAX('Formet 8'!$A$12:$A$213)<$A140,\"\",VLOOKUP($A140,'Formet 8'!$A$12:$O$213,7,0))","v":""},{"$f":"IF(MAX('Formet 8'!$A$12:$A$213)<$A140,\"\",VLOOKUP($A140,'Formet 8'!$A$12:$O$213,9,0))","v":""},{"$f":"IF(AND(D140=\"\"),\"\",'Formet 8'!E$218)","v":""},{"$f":"IF(AND(D140=\"\"),\"\",ROUND((D140*E140)*3,0))","v":""},""]
[135,{"$f":"IF(MAX('Formet 8'!$A$12:$A$213)<$A141,\"\",VLOOKUP($A141,'Formet 8'!$A$12:$O$213,4,0))","v":""},{"$f":"IF(MAX('Formet 8'!$A$12:$A$213)<$A141,\"\",VLOOKUP($A141,'Formet 8'!$A$12:$O$213,7,0))","v":""},{"$f":"IF(MAX('Formet 8'!$A$12:$A$213)<$A141,\"\",VLOOKUP($A141,'Formet 8'!$A$12:$O$213,9,0))","v":""},{"$f":"IF(AND(D141=\"\"),\"\",'Formet 8'!E$218)","v":""},"",""]
[136,{"$f":"IF(MAX('Formet 8'!$A$12:$A$213)<$A142,\"\",VLOOKUP($A142,'Formet 8'!$A$12:$O$213,4,0))","v":""},{"$f":"IF(MAX('Formet 8'!$A$12:$A$213)<$A142,\"\",VLOOKUP($A142,'Formet 8'!$A$12:$O$213,7,0))","v":""},{"$f":"IF(MAX('Formet 8'!$A$12:$A$213)<$A142,\"\",VLOOKUP($A142,'Formet 8'!$A$12:$O$213,9,0))","v":""},{"$f":"IF(AND(D142=\"\"),\"\",'Formet 8'!E$218)","v":""},"",""]
[137,{"$f":"IF(MAX('Formet 8'!$A$12:$A$213)<$A143,\"\",VLOOKUP($A143,'Formet 8'!$A$12:$O$213,4,0))","v":""},{"$f":"IF(MAX('Formet 8'!$A$12:$A$213)<$A143,\"\",VLOOKUP($A143,'Formet 8'!$A$12:$O$213,7,0))","v":""},{"$f":"IF(MAX('Formet 8'!$A$12:$A$213)<$A143,\"\",VLOOKUP($A143,'Formet 8'!$A$12:$O$213,9,0))","v":""},{"$f":"IF(AND(D143=\"\"),\"\",'Formet 8'!E$218)","v":""},"",""]
[138,{"$f":"IF(MAX('Formet 8'!$A$12:$A$213)<$A144,\"\",VLOOKUP($A144,'Formet 8'!$A$12:$O$213,4,0))","v":""},{"$f":"IF(MAX('Formet 8'!$A$12:$A$213)<$A144,\"\",VLOOKUP($A144,'Formet 8'!$A$12:$O$213,7,0))","v":""},{"$f":"IF(MAX('Formet 8'!$A$12:$A$213)<$A144,\"\",VLOOKUP($A144,'Formet 8'!$A$12:$O$213,9,0))","v":""},{"$f":"IF(AND(D144=\"\"),\"\",'Formet 8'!E$218)","v":""},"",""]
[139,{"$f":"IF(MAX('Formet 8'!$A$12:$A$213)<$A145,\"\",VLOOKUP($A145,'Formet 8'!$A$12:$O$213,4,0))","v":""},{"$f":"IF(MAX('Formet 8'!$A$12:$A$213)<$A145,\"\",VLOOKUP($A145,'Formet 8'!$A$12:$O$213,7,0))","v":""},{"$f":"IF(MAX('Formet 8'!$A$12:$A$213)<$A145,\"\",VLOOKUP($A145,'Formet 8'!$A$12:$O$213,9,0))","v":""},{"$f":"IF(AND(D145=\"\"),\"\",'Formet 8'!E$218)","v":""},"",""]
[140,{"$f":"IF(MAX('Formet 8'!$A$12:$A$213)<$A146,\"\",VLOOKUP($A146,'Formet 8'!$A$12:$O$213,4,0))","v":""},{"$f":"IF(MAX('Formet 8'!$A$12:$A$213)<$A146,\"\",VLOOKUP($A146,'Formet 8'!$A$12:$O$213,7,0))","v":""},{"$f":"IF(MAX('Formet 8'!$A$12:$A$213)<$A146,\"\",VLOOKUP($A146,'Formet 8'!$A$12:$O$213,9,0))","v":""},{"$f":"IF(AND(D146=\"\"),\"\",'Formet 8'!E$218)","v":""},"",""]
[141,{"$f":"IF(MAX('Formet 8'!$A$12:$A$213)<$A147,\"\",VLOOKUP($A147,'Formet 8'!$A$12:$O$213,4,0))","v":""},{"$f":"IF(MAX('Formet 8'!$A$12:$A$213)<$A147,\"\",VLOOKUP($A147,'Formet 8'!$A$12:$O$213,7,0))","v":""},{"$f":"IF(MAX('Formet 8'!$A$12:$A$213)<$A147,\"\",VLOOKUP($A147,'Formet 8'!$A$12:$O$213,9,0))","v":""},{"$f":"IF(AND(D147=\"\"),\"\",'Formet 8'!E$218)","v":""},"",""]
[142,{"$f":"IF(MAX('Formet 8'!$A$12:$A$213)<$A148,\"\",VLOOKUP($A148,'Formet 8'!$A$12:$O$213,4,0))","v":""},{"$f":"IF(MAX('Formet 8'!$A$12:$A$213)<$A148,\"\",VLOOKUP($A148,'Formet 8'!$A$12:$O$213,7,0))","v":""},{"$f":"IF(MAX('Formet 8'!$A$12:$A$213)<$A148,\"\",VLOOKUP($A148,'Formet 8'!$A$12:$O$213,9,0))","v":""},{"$f":"IF(AND(D148=\"\"),\"\",'Formet 8'!E$218)","v":""},"",""]
[143,{"$f":"IF(MAX('Formet 8'!$A$12:$A$213)<$A149,\"\",VLOOKUP($A149,'Formet 8'!$A$12:$O$213,4,0))","v":""},{"$f":"IF(MAX('Formet 8'!$A$12:$A$213)<$A149,\"\",VLOOKUP($A149,'Formet 8'!$A$12:$O$213,7,0))","v":""},{"$f":"IF(MAX('Formet 8'!$A$12:$A$213)<$A149,\"\",VLOOKUP($A149,'Formet 8'!$A$12:$O$213,9,0))","v":""},{"$f":"IF(AND(D149=\"\"),\"\",'Formet 8'!E$218)","v":""},"",""]
[144,{"$f":"IF(MAX('Formet 8'!$A$12:$A$213)<$A150,\"\",VLOOKUP($A150,'Formet 8'!$A$12:$O$213,4,0))","v":""},{"$f":"IF(MAX('Formet 8'!$A$12:$A$213)<$A150,\"\",VLOOKUP($A150,'Formet 8'!$A$12:$O$213,7,0))","v":""},{"$f":"IF(MAX('Formet 8'!$A$12:$A$213)<$A150,\"\",VLOOKUP($A150,'Formet 8'!$A$12:$O$213,9,0))","v":""},{"$f":"IF(AND(D150=\"\"),\"\",'Formet 8'!E$218)","v":""},"",""]
[145,{"$f":"IF(MAX('Formet 8'!$A$12:$A$213)<$A151,\"\",VLOOKUP($A151,'Formet 8'!$A$12:$O$213,4,0))","v":""},{"$f":"IF(MAX('Formet 8'!$A$12:$A$213)<$A151,\"\",VLOOKUP($A151,'Formet 8'!$A$12:$O$213,7,0))","v":""},{"$f":"IF(MAX('Formet 8'!$A$12:$A$213)<$A151,\"\",VLOOKUP($A151,'Formet 8'!$A$12:$O$213,9,0))","v":""},{"$f":"IF(AND(D151=\"\"),\"\",'Formet 8'!E$218)","v":""},"",""]
[146,{"$f":"IF(MAX('Formet 8'!$A$12:$A$213)<$A152,\"\",VLOOKUP($A152,'Formet 8'!$A$12:$O$213,4,0))","v":""},{"$f":"IF(MAX('Formet 8'!$A$12:$A$213)<$A152,\"\",VLOOKUP($A152,'Formet 8'!$A$12:$O$213,7,0))","v":""},{"$f":"IF(MAX('Formet 8'!$A$12:$A$213)<$A152,\"\",VLOOKUP($A152,'Formet 8'!$A$12:$O$213,9,0))","v":""},{"$f":"IF(AND(D152=\"\"),\"\",'Formet 8'!E$218)","v":""},"",""]
[147,{"$f":"IF(MAX('Formet 8'!$A$12:$A$213)<$A153,\"\",VLOOKUP($A153,'Formet 8'!$A$12:$O$213,4,0))","v":""},{"$f":"IF(MAX('Formet 8'!$A$12:$A$213)<$A153,\"\",VLOOKUP($A153,'Formet 8'!$A$12:$O$213,7,0))","v":""},{"$f":"IF(MAX('Formet 8'!$A$12:$A$213)<$A153,\"\",VLOOKUP($A153,'Formet 8'!$A$12:$O$213,9,0))","v":""},{"$f":"IF(AND(D153=\"\"),\"\",'Formet 8'!E$218)","v":""},"",""]
[148,{"$f":"IF(MAX('Formet 8'!$A$12:$A$213)<$A154,\"\",VLOOKUP($A154,'Formet 8'!$A$12:$O$213,4,0))","v":""},{"$f":"IF(MAX('Formet 8'!$A$12:$A$213)<$A154,\"\",VLOOKUP($A154,'Formet 8'!$A$12:$O$213,7,0))","v":""},{"$f":"IF(MAX('Formet 8'!$A$12:$A$213)<$A154,\"\",VLOOKUP($A154,'Formet 8'!$A$12:$O$213,9,0))","v":""},{"$f":"IF(AND(D154=\"\"),\"\",'Formet 8'!E$218)","v":""},"",""]
[149,{"$f":"IF(MAX('Formet 8'!$A$12:$A$213)<$A155,\"\",VLOOKUP($A155,'Formet 8'!$A$12:$O$213,4,0))","v":""},{"$f":"IF(MAX('Formet 8'!$A$12:$A$213)<$A155,\"\",VLOOKUP($A155,'Formet 8'!$A$12:$O$213,7,0))","v":""},{"$f":"IF(MAX('Formet 8'!$A$12:$A$213)<$A155,\"\",VLOOKUP($A155,'Formet 8'!$A$12:$O$213,9,0))","v":""},{"$f":"IF(AND(D155=\"\"),\"\",'Formet 8'!E$218)","v":""},"",""]
[150,{"$f":"IF(MAX('Formet 8'!$A$12:$A$213)<$A156,\"\",VLOOKUP($A156,'Formet 8'!$A$12:$O$213,4,0))","v":""},{"$f":"IF(MAX('Formet 8'!$A$12:$A$213)<$A156,\"\",VLOOKUP($A156,'Formet 8'!$A$12:$O$213,7,0))","v":""},{"$f":"IF(MAX('Formet 8'!$A$12:$A$213)<$A156,\"\",VLOOKUP($A156,'Formet 8'!$A$12:$O$213,9,0))","v":""},{"$f":"IF(AND(D156=\"\"),\"\",'Formet 8'!E$218)","v":""},"",""]
[151,{"$f":"IF(MAX('Formet 8'!$A$12:$A$213)<$A157,\"\",VLOOKUP($A157,'Formet 8'!$A$12:$O$213,4,0))","v":""},{"$f":"IF(MAX('Formet 8'!$A$12:$A$213)<$A157,\"\",VLOOKUP($A157,'Formet 8'!$A$12:$O$213,7,0))","v":""},{"$f":"IF(MAX('Formet 8'!$A$12:$A$213)<$A157,\"\",VLOOKUP($A157,'Formet 8'!$A$12:$O$213,9,0))","v":""},{"$f":"IF(AND(D157=\"\"),\"\",'Formet 8'!E$218)","v":""},"",""]
[152,{"$f":"IF(MAX('Formet 8'!$A$12:$A$213)<$A158,\"\",VLOOKUP($A158,'Formet 8'!$A$12:$O$213,4,0))","v":""},{"$f":"IF(MAX('Formet 8'!$A$12:$A$213)<$A158,\"\",VLOOKUP($A158,'Formet 8'!$A$12:$O$213,7,0))","v":""},{"$f":"IF(MAX('Formet 8'!$A$12:$A$213)<$A158,\"\",VLOOKUP($A158,'Formet 8'!$A$12:$O$213,9,0))","v":""},{"$f":"IF(AND(D158=\"\"),\"\",'Formet 8'!E$218)","v":""},"",""]
[153,{"$f":"IF(MAX('Formet 8'!$A$12:$A$213)<$A159,\"\",VLOOKUP($A159,'Formet 8'!$A$12:$O$213,4,0))","v":""},{"$f":"IF(MAX('Formet 8'!$A$12:$A$213)<$A159,\"\",VLOOKUP($A159,'Formet 8'!$A$12:$O$213,7,0))","v":""},{"$f":"IF(MAX('Formet 8'!$A$12:$A$213)<$A159,\"\",VLOOKUP($A159,'Formet 8'!$A$12:$O$213,9,0))","v":""},{"$f":"IF(AND(D159=\"\"),\"\",'Formet 8'!E$218)","v":""},"",""]
[154,{"$f":"IF(MAX('Formet 8'!$A$12:$A$213)<$A160,\"\",VLOOKUP($A160,'Formet 8'!$A$12:$O$213,4,0))","v":""},{"$f":"IF(MAX('Formet 8'!$A$12:$A$213)<$A160,\"\",VLOOKUP($A160,'Formet 8'!$A$12:$O$213,7,0))","v":""},{"$f":"IF(MAX('Formet 8'!$A$12:$A$213)<$A160,\"\",VLOOKUP($A160,'Formet 8'!$A$12:$O$213,9,0))","v":""},{"$f":"IF(AND(D160=\"\"),\"\",'Formet 8'!E$218)","v":""},"",""]
[155,{"$f":"IF(MAX('Formet 8'!$A$12:$A$213)<$A161,\"\",VLOOKUP($A161,'Formet 8'!$A$12:$O$213,4,0))","v":""},{"$f":"IF(MAX('Formet 8'!$A$12:$A$213)<$A161,\"\",VLOOKUP($A161,'Formet 8'!$A$12:$O$213,7,0))","v":""},{"$f":"IF(MAX('Formet 8'!$A$12:$A$213)<$A161,\"\",VLOOKUP($A161,'Formet 8'!$A$12:$O$213,9,0))","v":""},{"$f":"IF(AND(D161=\"\"),\"\",'Formet 8'!E$218)","v":""},"",""]
[156,{"$f":"IF(MAX('Formet 8'!$A$12:$A$213)<$A162,\"\",VLOOKUP($A162,'Formet 8'!$A$12:$O$213,4,0))","v":""},{"$f":"IF(MAX('Formet 8'!$A$12:$A$213)<$A162,\"\",VLOOKUP($A162,'Formet 8'!$A$12:$O$213,7,0))","v":""},{"$f":"IF(MAX('Formet 8'!$A$12:$A$213)<$A162,\"\",VLOOKUP($A162,'Formet 8'!$A$12:$O$213,9,0))","v":""},{"$f":"IF(AND(D162=\"\"),\"\",'Formet 8'!E$218)","v":""},"",""]
[157,{"$f":"IF(MAX('Formet 8'!$A$12:$A$213)<$A163,\"\",VLOOKUP($A163,'Formet 8'!$A$12:$O$213,4,0))","v":""},{"$f":"IF(MAX('Formet 8'!$A$12:$A$213)<$A163,\"\",VLOOKUP($A163,'Formet 8'!$A$12:$O$213,7,0))","v":""},{"$f":"IF(MAX('Formet 8'!$A$12:$A$213)<$A163,\"\",VLOOKUP($A163,'Formet 8'!$A$12:$O$213,9,0))","v":""},{"$f":"IF(AND(D163=\"\"),\"\",'Formet 8'!E$218)","v":""},"",""]
[158,{"$f":"IF(MAX('Formet 8'!$A$12:$A$213)<$A164,\"\",VLOOKUP($A164,'Formet 8'!$A$12:$O$213,4,0))","v":""},{"$f":"IF(MAX('Formet 8'!$A$12:$A$213)<$A164,\"\",VLOOKUP($A164,'Formet 8'!$A$12:$O$213,7,0))","v":""},{"$f":"IF(MAX('Formet 8'!$A$12:$A$213)<$A164,\"\",VLOOKUP($A164,'Formet 8'!$A$12:$O$213,9,0))","v":""},{"$f":"IF(AND(D164=\"\"),\"\",'Formet 8'!E$218)","v":""},"",""]
[159,{"$f":"IF(MAX('Formet 8'!$A$12:$A$213)<$A165,\"\",VLOOKUP($A165,'Formet 8'!$A$12:$O$213,4,0))","v":""},{"$f":"IF(MAX('Formet 8'!$A$12:$A$213)<$A165,\"\",VLOOKUP($A165,'Formet 8'!$A$12:$O$213,7,0))","v":""},{"$f":"IF(MAX('Formet 8'!$A$12:$A$213)<$A165,\"\",VLOOKUP($A165,'Formet 8'!$A$12:$O$213,9,0))","v":""},{"$f":"IF(AND(D165=\"\"),\"\",'Formet 8'!E$218)","v":""},"",""]
[160,{"$f":"IF(MAX('Formet 8'!$A$12:$A$213)<$A166,\"\",VLOOKUP($A166,'Formet 8'!$A$12:$O$213,4,0))","v":""},{"$f":"IF(MAX('Formet 8'!$A$12:$A$213)<$A166,\"\",VLOOKUP($A166,'Formet 8'!$A$12:$O$213,7,0))","v":""},{"$f":"IF(MAX('Formet 8'!$A$12:$A$213)<$A166,\"\",VLOOKUP($A166,'Formet 8'!$A$12:$O$213,9,0))","v":""},{"$f":"IF(AND(D166=\"\"),\"\",'Formet 8'!E$218)","v":""},"",""]
[161,{"$f":"IF(MAX('Formet 8'!$A$12:$A$213)<$A167,\"\",VLOOKUP($A167,'Formet 8'!$A$12:$O$213,4,0))","v":""},{"$f":"IF(MAX('Formet 8'!$A$12:$A$213)<$A167,\"\",VLOOKUP($A167,'Formet 8'!$A$12:$O$213,7,0))","v":""},{"$f":"IF(MAX('Formet 8'!$A$12:$A$213)<$A167,\"\",VLOOKUP($A167,'Formet 8'!$A$12:$O$213,9,0))","v":""},{"$f":"IF(AND(D167=\"\"),\"\",'Formet 8'!E$218)","v":""},"",""]
[162,{"$f":"IF(MAX('Formet 8'!$A$12:$A$213)<$A168,\"\",VLOOKUP($A168,'Formet 8'!$A$12:$O$213,4,0))","v":""},{"$f":"IF(MAX('Formet 8'!$A$12:$A$213)<$A168,\"\",VLOOKUP($A168,'Formet 8'!$A$12:$O$213,7,0))","v":""},{"$f":"IF(MAX('Formet 8'!$A$12:$A$213)<$A168,\"\",VLOOKUP($A168,'Formet 8'!$A$12:$O$213,9,0))","v":""},{"$f":"IF(AND(D168=\"\"),\"\",'Formet 8'!E$218)","v":""},"",""]
[163,{"$f":"IF(MAX('Formet 8'!$A$12:$A$213)<$A169,\"\",VLOOKUP($A169,'Formet 8'!$A$12:$O$213,4,0))","v":""},{"$f":"IF(MAX('Formet 8'!$A$12:$A$213)<$A169,\"\",VLOOKUP($A169,'Formet 8'!$A$12:$O$213,7,0))","v":""},{"$f":"IF(MAX('Formet 8'!$A$12:$A$213)<$A169,\"\",VLOOKUP($A169,'Formet 8'!$A$12:$O$213,9,0))","v":""},{"$f":"IF(AND(D169=\"\"),\"\",'Formet 8'!E$218)","v":""},"",""]
[164,{"$f":"IF(MAX('Formet 8'!$A$12:$A$213)<$A170,\"\",VLOOKUP($A170,'Formet 8'!$A$12:$O$213,4,0))","v":""},{"$f":"IF(MAX('Formet 8'!$A$12:$A$213)<$A170,\"\",VLOOKUP($A170,'Formet 8'!$A$12:$O$213,7,0))","v":""},{"$f":"IF(MAX('Formet 8'!$A$12:$A$213)<$A170,\"\",VLOOKUP($A170,'Formet 8'!$A$12:$O$213,9,0))","v":""},{"$f":"IF(AND(D170=\"\"),\"\",'Formet 8'!E$218)","v":""},"",""]
[165,{"$f":"IF(MAX('Formet 8'!$A$12:$A$213)<$A171,\"\",VLOOKUP($A171,'Formet 8'!$A$12:$O$213,4,0))","v":""},{"$f":"IF(MAX('Formet 8'!$A$12:$A$213)<$A171,\"\",VLOOKUP($A171,'Formet 8'!$A$12:$O$213,7,0))","v":""},{"$f":"IF(MAX('Formet 8'!$A$12:$A$213)<$A171,\"\",VLOOKUP($A171,'Formet 8'!$A$12:$O$213,9,0))","v":""},{"$f":"IF(AND(D171=\"\"),\"\",'Formet 8'!E$218)","v":""},"",""]
[166,{"$f":"IF(MAX('Formet 8'!$A$12:$A$213)<$A172,\"\",VLOOKUP($A172,'Formet 8'!$A$12:$O$213,4,0))","v":""},{"$f":"IF(MAX('Formet 8'!$A$12:$A$213)<$A172,\"\",VLOOKUP($A172,'Formet 8'!$A$12:$O$213,7,0))","v":""},{"$f":"IF(MAX('Formet 8'!$A$12:$A$213)<$A172,\"\",VLOOKUP($A172,'Formet 8'!$A$12:$O$213,9,0))","v":""},{"$f":"IF(AND(D172=\"\"),\"\",'Formet 8'!E$218)","v":""},"",""]
[167,{"$f":"IF(MAX('Formet 8'!$A$12:$A$213)<$A173,\"\",VLOOKUP($A173,'Formet 8'!$A$12:$O$213,4,0))","v":""},{"$f":"IF(MAX('Formet 8'!$A$12:$A$213)<$A173,\"\",VLOOKUP($A173,'Formet 8'!$A$12:$O$213,7,0))","v":""},{"$f":"IF(MAX('Formet 8'!$A$12:$A$213)<$A173,\"\",VLOOKUP($A173,'Formet 8'!$A$12:$O$213,9,0))","v":""},{"$f":"IF(AND(D173=\"\"),\"\",'Formet 8'!E$218)","v":""},"",""]
[168,{"$f":"IF(MAX('Formet 8'!$A$12:$A$213)<$A174,\"\",VLOOKUP($A174,'Formet 8'!$A$12:$O$213,4,0))","v":""},{"$f":"IF(MAX('Formet 8'!$A$12:$A$213)<$A174,\"\",VLOOKUP($A174,'Formet 8'!$A$12:$O$213,7,0))","v":""},{"$f":"IF(MAX('Formet 8'!$A$12:$A$213)<$A174,\"\",VLOOKUP($A174,'Formet 8'!$A$12:$O$213,9,0))","v":""},{"$f":"IF(AND(D174=\"\"),\"\",'Formet 8'!E$218)","v":""},"",""]
[169,{"$f":"IF(MAX('Formet 8'!$A$12:$A$213)<$A175,\"\",VLOOKUP($A175,'Formet 8'!$A$12:$O$213,4,0))","v":""},{"$f":"IF(MAX('Formet 8'!$A$12:$A$213)<$A175,\"\",VLOOKUP($A175,'Formet 8'!$A$12:$O$213,7,0))","v":""},{"$f":"IF(MAX('Formet 8'!$A$12:$A$213)<$A175,\"\",VLOOKUP($A175,'Formet 8'!$A$12:$O$213,9,0))","v":""},{"$f":"IF(AND(D175=\"\"),\"\",'Formet 8'!E$218)","v":""},"",""]
[170,{"$f":"IF(MAX('Formet 8'!$A$12:$A$213)<$A176,\"\",VLOOKUP($A176,'Formet 8'!$A$12:$O$213,4,0))","v":""},{"$f":"IF(MAX('Formet 8'!$A$12:$A$213)<$A176,\"\",VLOOKUP($A176,'Formet 8'!$A$12:$O$213,7,0))","v":""},{"$f":"IF(MAX('Formet 8'!$A$12:$A$213)<$A176,\"\",VLOOKUP($A176,'Formet 8'!$A$12:$O$213,9,0))","v":""},{"$f":"IF(AND(D176=\"\"),\"\",'Formet 8'!E$218)","v":""},"",""]
[171,{"$f":"IF(MAX('Formet 8'!$A$12:$A$213)<$A177,\"\",VLOOKUP($A177,'Formet 8'!$A$12:$O$213,4,0))","v":""},{"$f":"IF(MAX('Formet 8'!$A$12:$A$213)<$A177,\"\",VLOOKUP($A177,'Formet 8'!$A$12:$O$213,7,0))","v":""},{"$f":"IF(MAX('Formet 8'!$A$12:$A$213)<$A177,\"\",VLOOKUP($A177,'Formet 8'!$A$12:$O$213,9,0))","v":""},{"$f":"IF(AND(D177=\"\"),\"\",'Formet 8'!E$218)","v":""},"",""]
[172,{"$f":"IF(MAX('Formet 8'!$A$12:$A$213)<$A178,\"\",VLOOKUP($A178,'Formet 8'!$A$12:$O$213,4,0))","v":""},{"$f":"IF(MAX('Formet 8'!$A$12:$A$213)<$A178,\"\",VLOOKUP($A178,'Formet 8'!$A$12:$O$213,7,0))","v":""},{"$f":"IF(MAX('Formet 8'!$A$12:$A$213)<$A178,\"\",VLOOKUP($A178,'Formet 8'!$A$12:$O$213,9,0))","v":""},{"$f":"IF(AND(D178=\"\"),\"\",'Formet 8'!E$218)","v":""},"",""]
[173,{"$f":"IF(MAX('Formet 8'!$A$12:$A$213)<$A179,\"\",VLOOKUP($A179,'Formet 8'!$A$12:$O$213,4,0))","v":""},{"$f":"IF(MAX('Formet 8'!$A$12:$A$213)<$A179,\"\",VLOOKUP($A179,'Formet 8'!$A$12:$O$213,7,0))","v":""},{"$f":"IF(MAX('Formet 8'!$A$12:$A$213)<$A179,\"\",VLOOKUP($A179,'Formet 8'!$A$12:$O$213,9,0))","v":""},{"$f":"IF(AND(D179=\"\"),\"\",'Formet 8'!E$218)","v":""},"",""]
[174,{"$f":"IF(MAX('Formet 8'!$A$12:$A$213)<$A180,\"\",VLOOKUP($A180,'Formet 8'!$A$12:$O$213,4,0))","v":""},{"$f":"IF(MAX('Formet 8'!$A$12:$A$213)<$A180,\"\",VLOOKUP($A180,'Formet 8'!$A$12:$O$213,7,0))","v":""},{"$f":"IF(MAX('Formet 8'!$A$12:$A$213)<$A180,\"\",VLOOKUP($A180,'Formet 8'!$A$12:$O$213,9,0))","v":""},{"$f":"IF(AND(D180=\"\"),\"\",'Formet 8'!E$218)","v":""},"",""]
[175,{"$f":"IF(MAX('Formet 8'!$A$12:$A$213)<$A181,\"\",VLOOKUP($A181,'Formet 8'!$A$12:$O$213,4,0))","v":""},{"$f":"IF(MAX('Formet 8'!$A$12:$A$213)<$A181,\"\",VLOOKUP($A181,'Formet 8'!$A$12:$O$213,7,0))","v":""},{"$f":"IF(MAX('Formet 8'!$A$12:$A$213)<$A181,\"\",VLOOKUP($A181,'Formet 8'!$A$12:$O$213,9,0))","v":""},{"$f":"IF(AND(D181=\"\"),\"\",'Formet 8'!E$218)","v":""},"",""]
[176,{"$f":"IF(MAX('Formet 8'!$A$12:$A$213)<$A182,\"\",VLOOKUP($A182,'Formet 8'!$A$12:$O$213,4,0))","v":""},{"$f":"IF(MAX('Formet 8'!$A$12:$A$213)<$A182,\"\",VLOOKUP($A182,'Formet 8'!$A$12:$O$213,7,0))","v":""},{"$f":"IF(MAX('Formet 8'!$A$12:$A$213)<$A182,\"\",VLOOKUP($A182,'Formet 8'!$A$12:$O$213,9,0))","v":""},{"$f":"IF(AND(D182=\"\"),\"\",'Formet 8'!E$218)","v":""},"",""]
[177,{"$f":"IF(MAX('Formet 8'!$A$12:$A$213)<$A183,\"\",VLOOKUP($A183,'Formet 8'!$A$12:$O$213,4,0))","v":""},{"$f":"IF(MAX('Formet 8'!$A$12:$A$213)<$A183,\"\",VLOOKUP($A183,'Formet 8'!$A$12:$O$213,7,0))","v":""},{"$f":"IF(MAX('Formet 8'!$A$12:$A$213)<$A183,\"\",VLOOKUP($A183,'Formet 8'!$A$12:$O$213,9,0))","v":""},{"$f":"IF(AND(D183=\"\"),\"\",'Formet 8'!E$218)","v":""},"",""]
[178,{"$f":"IF(MAX('Formet 8'!$A$12:$A$213)<$A184,\"\",VLOOKUP($A184,'Formet 8'!$A$12:$O$213,4,0))","v":""},{"$f":"IF(MAX('Formet 8'!$A$12:$A$213)<$A184,\"\",VLOOKUP($A184,'Formet 8'!$A$12:$O$213,7,0))","v":""},{"$f":"IF(MAX('Formet 8'!$A$12:$A$213)<$A184,\"\",VLOOKUP($A184,'Formet 8'!$A$12:$O$213,9,0))","v":""},{"$f":"IF(AND(D184=\"\"),\"\",'Formet 8'!E$218)","v":""},"",""]
[179,{"$f":"IF(MAX('Formet 8'!$A$12:$A$213)<$A185,\"\",VLOOKUP($A185,'Formet 8'!$A$12:$O$213,4,0))","v":""},{"$f":"IF(MAX('Formet 8'!$A$12:$A$213)<$A185,\"\",VLOOKUP($A185,'Formet 8'!$A$12:$O$213,7,0))","v":""},{"$f":"IF(MAX('Formet 8'!$A$12:$A$213)<$A185,\"\",VLOOKUP($A185,'Formet 8'!$A$12:$O$213,9,0))","v":""},{"$f":"IF(AND(D185=\"\"),\"\",'Formet 8'!E$218)","v":""},"",""]
[180,{"$f":"IF(MAX('Formet 8'!$A$12:$A$213)<$A186,\"\",VLOOKUP($A186,'Formet 8'!$A$12:$O$213,4,0))","v":""},{"$f":"IF(MAX('Formet 8'!$A$12:$A$213)<$A186,\"\",VLOOKUP($A186,'Formet 8'!$A$12:$O$213,7,0))","v":""},{"$f":"IF(MAX('Formet 8'!$A$12:$A$213)<$A186,\"\",VLOOKUP($A186,'Formet 8'!$A$12:$O$213,9,0))","v":""},{"$f":"IF(AND(D186=\"\"),\"\",'Formet 8'!E$218)","v":""},"",""]
[181,{"$f":"IF(MAX('Formet 8'!$A$12:$A$213)<$A187,\"\",VLOOKUP($A187,'Formet 8'!$A$12:$O$213,4,0))","v":""},{"$f":"IF(MAX('Formet 8'!$A$12:$A$213)<$A187,\"\",VLOOKUP($A187,'Formet 8'!$A$12:$O$213,7,0))","v":""},{"$f":"IF(MAX('Formet 8'!$A$12:$A$213)<$A187,\"\",VLOOKUP($A187,'Formet 8'!$A$12:$O$213,9,0))","v":""},{"$f":"IF(AND(D187=\"\"),\"\",'Formet 8'!E$218)","v":""},"",""]
[182,{"$f":"IF(MAX('Formet 8'!$A$12:$A$213)<$A188,\"\",VLOOKUP($A188,'Formet 8'!$A$12:$O$213,4,0))","v":""},{"$f":"IF(MAX('Formet 8'!$A$12:$A$213)<$A188,\"\",VLOOKUP($A188,'Formet 8'!$A$12:$O$213,7,0))","v":""},{"$f":"IF(MAX('Formet 8'!$A$12:$A$213)<$A188,\"\",VLOOKUP($A188,'Formet 8'!$A$12:$O$213,9,0))","v":""},{"$f":"IF(AND(D188=\"\"),\"\",'Formet 8'!E$218)","v":""},"",""]
[183,{"$f":"IF(MAX('Formet 8'!$A$12:$A$213)<$A189,\"\",VLOOKUP($A189,'Formet 8'!$A$12:$O$213,4,0))","v":""},{"$f":"IF(MAX('Formet 8'!$A$12:$A$213)<$A189,\"\",VLOOKUP($A189,'Formet 8'!$A$12:$O$213,7,0))","v":""},{"$f":"IF(MAX('Formet 8'!$A$12:$A$213)<$A189,\"\",VLOOKUP($A189,'Formet 8'!$A$12:$O$213,9,0))","v":""},{"$f":"IF(AND(D189=\"\"),\"\",'Formet 8'!E$218)","v":""},"",""]
[184,{"$f":"IF(MAX('Formet 8'!$A$12:$A$213)<$A190,\"\",VLOOKUP($A190,'Formet 8'!$A$12:$O$213,4,0))","v":""},{"$f":"IF(MAX('Formet 8'!$A$12:$A$213)<$A190,\"\",VLOOKUP($A190,'Formet 8'!$A$12:$O$213,7,0))","v":""},{"$f":"IF(MAX('Formet 8'!$A$12:$A$213)<$A190,\"\",VLOOKUP($A190,'Formet 8'!$A$12:$O$213,9,0))","v":""},{"$f":"IF(AND(D190=\"\"),\"\",'Formet 8'!E$218)","v":""},"",""]
[185,{"$f":"IF(MAX('Formet 8'!$A$12:$A$213)<$A191,\"\",VLOOKUP($A191,'Formet 8'!$A$12:$O$213,4,0))","v":""},{"$f":"IF(MAX('Formet 8'!$A$12:$A$213)<$A191,\"\",VLOOKUP($A191,'Formet 8'!$A$12:$O$213,7,0))","v":""},{"$f":"IF(MAX('Formet 8'!$A$12:$A$213)<$A191,\"\",VLOOKUP($A191,'Formet 8'!$A$12:$O$213,9,0))","v":""},{"$f":"IF(AND(D191=\"\"),\"\",'Formet 8'!E$218)","v":""},"",""]
[186,{"$f":"IF(MAX('Formet 8'!$A$12:$A$213)<$A192,\"\",VLOOKUP($A192,'Formet 8'!$A$12:$O$213,4,0))","v":""},{"$f":"IF(MAX('Formet 8'!$A$12:$A$213)<$A192,\"\",VLOOKUP($A192,'Formet 8'!$A$12:$O$213,7,0))","v":""},{"$f":"IF(MAX('Formet 8'!$A$12:$A$213)<$A192,\"\",VLOOKUP($A192,'Formet 8'!$A$12:$O$213,9,0))","v":""},{"$f":"IF(AND(D192=\"\"),\"\",'Formet 8'!E$218)","v":""},"",""]
[187,{"$f":"IF(MAX('Formet 8'!$A$12:$A$213)<$A193,\"\",VLOOKUP($A193,'Formet 8'!$A$12:$O$213,4,0))","v":""},{"$f":"IF(MAX('Formet 8'!$A$12:$A$213)<$A193,\"\",VLOOKUP($A193,'Formet 8'!$A$12:$O$213,7,0))","v":""},{"$f":"IF(MAX('Formet 8'!$A$12:$A$213)<$A193,\"\",VLOOKUP($A193,'Formet 8'!$A$12:$O$213,9,0))","v":""},{"$f":"IF(AND(D193=\"\"),\"\",'Formet 8'!E$218)","v":""},"",""]
[188,{"$f":"IF(MAX('Formet 8'!$A$12:$A$213)<$A194,\"\",VLOOKUP($A194,'Formet 8'!$A$12:$O$213,4,0))","v":""},{"$f":"IF(MAX('Formet 8'!$A$12:$A$213)<$A194,\"\",VLOOKUP($A194,'Formet 8'!$A$12:$O$213,7,0))","v":""},{"$f":"IF(MAX('Formet 8'!$A$12:$A$213)<$A194,\"\",VLOOKUP($A194,'Formet 8'!$A$12:$O$213,9,0))","v":""},{"$f":"IF(AND(D194=\"\"),\"\",'Formet 8'!E$218)","v":""},"",""]
[189,{"$f":"IF(MAX('Formet 8'!$A$12:$A$213)<$A195,\"\",VLOOKUP($A195,'Formet 8'!$A$12:$O$213,4,0))","v":""},{"$f":"IF(MAX('Formet 8'!$A$12:$A$213)<$A195,\"\",VLOOKUP($A195,'Formet 8'!$A$12:$O$213,7,0))","v":""},{"$f":"IF(MAX('Formet 8'!$A$12:$A$213)<$A195,\"\",VLOOKUP($A195,'Formet 8'!$A$12:$O$213,9,0))","v":""},{"$f":"IF(AND(D195=\"\"),\"\",'Formet 8'!E$218)","v":""},"",""]
[190,{"$f":"IF(MAX('Formet 8'!$A$12:$A$213)<$A196,\"\",VLOOKUP($A196,'Formet 8'!$A$12:$O$213,4,0))","v":""},{"$f":"IF(MAX('Formet 8'!$A$12:$A$213)<$A196,\"\",VLOOKUP($A196,'Formet 8'!$A$12:$O$213,7,0))","v":""},{"$f":"IF(MAX('Formet 8'!$A$12:$A$213)<$A196,\"\",VLOOKUP($A196,'Formet 8'!$A$12:$O$213,9,0))","v":""},{"$f":"IF(AND(D196=\"\"),\"\",'Formet 8'!E$218)","v":""},"",""]
[191,{"$f":"IF(MAX('Formet 8'!$A$12:$A$213)<$A197,\"\",VLOOKUP($A197,'Formet 8'!$A$12:$O$213,4,0))","v":""},{"$f":"IF(MAX('Formet 8'!$A$12:$A$213)<$A197,\"\",VLOOKUP($A197,'Formet 8'!$A$12:$O$213,7,0))","v":""},{"$f":"IF(MAX('Formet 8'!$A$12:$A$213)<$A197,\"\",VLOOKUP($A197,'Formet 8'!$A$12:$O$213,9,0))","v":""},{"$f":"IF(AND(D197=\"\"),\"\",'Formet 8'!E$218)","v":""},"",""]
[192,{"$f":"IF(MAX('Formet 8'!$A$12:$A$213)<$A198,\"\",VLOOKUP($A198,'Formet 8'!$A$12:$O$213,4,0))","v":""},{"$f":"IF(MAX('Formet 8'!$A$12:$A$213)<$A198,\"\",VLOOKUP($A198,'Formet 8'!$A$12:$O$213,7,0))","v":""},{"$f":"IF(MAX('Formet 8'!$A$12:$A$213)<$A198,\"\",VLOOKUP($A198,'Formet 8'!$A$12:$O$213,9,0))","v":""},{"$f":"IF(AND(D198=\"\"),\"\",'Formet 8'!E$218)","v":""},"",""]
[193,{"$f":"IF(MAX('Formet 8'!$A$12:$A$213)<$A199,\"\",VLOOKUP($A199,'Formet 8'!$A$12:$O$213,4,0))","v":""},{"$f":"IF(MAX('Formet 8'!$A$12:$A$213)<$A199,\"\",VLOOKUP($A199,'Formet 8'!$A$12:$O$213,7,0))","v":""},{"$f":"IF(MAX('Formet 8'!$A$12:$A$213)<$A199,\"\",VLOOKUP($A199,'Formet 8'!$A$12:$O$213,9,0))","v":""},{"$f":"IF(AND(D199=\"\"),\"\",'Formet 8'!E$218)","v":""},"",""]
[194,{"$f":"IF(MAX('Formet 8'!$A$12:$A$213)<$A200,\"\",VLOOKUP($A200,'Formet 8'!$A$12:$O$213,4,0))","v":""},{"$f":"IF(MAX('Formet 8'!$A$12:$A$213)<$A200,\"\",VLOOKUP($A200,'Formet 8'!$A$12:$O$213,7,0))","v":""},{"$f":"IF(MAX('Formet 8'!$A$12:$A$213)<$A200,\"\",VLOOKUP($A200,'Formet 8'!$A$12:$O$213,9,0))","v":""},{"$f":"IF(AND(D200=\"\"),\"\",'Formet 8'!E$218)","v":""},"",{"$f":"IF(AND(D200=\"\"),\"\",(ROUND(D200*103%,0)*E200*3)+F200)","v":""}]
[195,{"$f":"IF(MAX('Formet 8'!$A$12:$A$213)<$A201,\"\",VLOOKUP($A201,'Formet 8'!$A$12:$O$213,4,0))","v":""},{"$f":"IF(MAX('Formet 8'!$A$12:$A$213)<$A201,\"\",VLOOKUP($A201,'Formet 8'!$A$12:$O$213,7,0))","v":""},{"$f":"IF(MAX('Formet 8'!$A$12:$A$213)<$A201,\"\",VLOOKUP($A201,'Formet 8'!$A$12:$O$213,9,0))","v":""},{"$f":"IF(AND(D201=\"\"),\"\",'Formet 8'!E$218)","v":""},"",""]
[196,{"$f":"IF(MAX('Formet 8'!$A$12:$A$213)<$A202,\"\",VLOOKUP($A202,'Formet 8'!$A$12:$O$213,4,0))","v":""},{"$f":"IF(MAX('Formet 8'!$A$12:$A$213)<$A202,\"\",VLOOKUP($A202,'Formet 8'!$A$12:$O$213,7,0))","v":""},{"$f":"IF(MAX('Formet 8'!$A$12:$A$213)<$A202,\"\",VLOOKUP($A202,'Formet 8'!$A$12:$O$213,9,0))","v":""},{"$f":"IF(AND(D202=\"\"),\"\",'Formet 8'!E$218)","v":""},"",""]
[197,{"$f":"IF(MAX('Formet 8'!$A$12:$A$213)<$A203,\"\",VLOOKUP($A203,'Formet 8'!$A$12:$O$213,4,0))","v":""},{"$f":"IF(MAX('Formet 8'!$A$12:$A$213)<$A203,\"\",VLOOKUP($A203,'Formet 8'!$A$12:$O$213,7,0))","v":""},{"$f":"IF(MAX('Formet 8'!$A$12:$A$213)<$A203,\"\",VLOOKUP($A203,'Formet 8'!$A$12:$O$213,9,0))","v":""},{"$f":"IF(AND(D203=\"\"),\"\",'Formet 8'!E$218)","v":""},"",""]
[198,{"$f":"IF(MAX('Formet 8'!$A$12:$A$213)<$A204,\"\",VLOOKUP($A204,'Formet 8'!$A$12:$O$213,4,0))","v":""},{"$f":"IF(MAX('Formet 8'!$A$12:$A$213)<$A204,\"\",VLOOKUP($A204,'Formet 8'!$A$12:$O$213,7,0))","v":""},{"$f":"IF(MAX('Formet 8'!$A$12:$A$213)<$A204,\"\",VLOOKUP($A204,'Formet 8'!$A$12:$O$213,9,0))","v":""},{"$f":"IF(AND(D204=\"\"),\"\",'Formet 8'!E$218)","v":""},{"$f":"IF(AND(D204=\"\"),\"\",ROUND((D204*E204)*3,0))","v":""},""]
[199,{"$f":"IF(MAX('Formet 8'!$A$12:$A$213)<$A205,\"\",VLOOKUP($A205,'Formet 8'!$A$12:$O$213,4,0))","v":""},{"$f":"IF(MAX('Formet 8'!$A$12:$A$213)<$A205,\"\",VLOOKUP($A205,'Formet 8'!$A$12:$O$213,7,0))","v":""},{"$f":"IF(MAX('Formet 8'!$A$12:$A$213)<$A205,\"\",VLOOKUP($A205,'Formet 8'!$A$12:$O$213,9,0))","v":""},{"$f":"IF(AND(D205=\"\"),\"\",'Formet 8'!E$218)","v":""},"",""]
[200,{"$f":"IF(MAX('Formet 8'!$A$12:$A$213)<$A206,\"\",VLOOKUP($A206,'Formet 8'!$A$12:$O$213,4,0))","v":""},{"$f":"IF(MAX('Formet 8'!$A$12:$A$213)<$A206,\"\",VLOOKUP($A206,'Formet 8'!$A$12:$O$213,7,0))","v":""},{"$f":"IF(MAX('Formet 8'!$A$12:$A$213)<$A206,\"\",VLOOKUP($A206,'Formet 8'!$A$12:$O$213,9,0))","v":""},{"$f":"IF(AND(D206=\"\"),\"\",'Formet 8'!E$218)","v":""},"",""]
[{"$nulls":5},{"$f":"SUM(F7:F206)","v":38280},{"$f":"SUM(G7:G206)","v":{"v":77708.40000000001,"d":"77708"}}]
[]
[{"$nulls":5},{"$f":"'Fix Pay'!F120","v":"ç/kkukpk;Z] jkmekfo jk;eyok³k ¼vkWfQl vkbZ-Mh- la[;k %&12345½"}]

{"sheet":"Sanvida","index":30,"n_rows":33,"n_cols":64,"rows_kept":33,"merged":[[0,8,0,10],[0,11,33,11],[1,0,1,10],[2,0,2,10],[3,0,3,10],[4,0,4,10],[5,0,5,10],[28,0,28,7],[29,0,1048575,7],[29,8,29,10],[31,8,31,10],[32,8,33,10]]}
[{"$nulls":8},{"$f":"[2]Summary!$C$1","v":{"v":14807,"d":"OFFICE ID 14807"}}]
[{"$f":"Summary!$A$3","v":"Principal Govt. Sr. Sec. School Raimalwada"},{"$nulls":11},"Grade Pay",1300,1400,1650,1800,1850,1900,2000,2100,2400,2800,3200,3600,4200,4800,5400,6000,6600,6800,7200,7600,8200,8700,8900,10000]
["Income-Expenditure Estimate Of Salary",{"$nulls":11},"FIX PAY",4850,5050,5300,5600,5900,6100,6400,6750,7900,8950,10000,11100,13050,15000,16800,18200,20200,21300,22600,23950,26650,36900,38900,43800,"PRINCIPAL (16)","V P (14)","H M (14)","AGRICULTURE INST (13)","TEACHER-1ST (13)","PTI  I  (13)","AGRICULTURE TEACH (13)","INSTRUCTOR (13)","JR TEACHER (13)","LIBRARIAN I (13)","ASSISTANT (11)","TEACHER-2ND (12)","JR TEACHER (12)","PTI   II  (12)","LIBRARIAN II (12)","LAB ASST (11)","UDC (9)","PTI  III  (10)","TEACHER-3RD (10)","LIBRARIAN III (10)","LAB ASST (9)","LDC (6)","FIELDMAN & FIELD REC (6) ","LAB BOY (2)","JAMADAR (2)","PEON (2)","PEON (1)"]
["For FY - 2020-21 (April 2020 to March 2021)"]
["FORM 1-POST WISE SALARY DETAIL - (FIXED -SANVIDA)"]
[{"$f":"abc!A4","v":"BUDGET HEAD : 2202 -सामान्य शिक्षा-02-109 -राजकीय माध्यमिक विद्यालय-07 -राष्ट्रीय माध्यमिक शिक्षा अभियान-01 -माध्यमिक शिक्षा अभियान- सामान्य व्यय (S.F. + C.A.)"}]
["S.No.","Name of Employee","Post","Date of Joining","Date Completion of Probatation","Pay Band","Grade Pay","Salary on 1st March 22","Salary of 12 Month","Budget Estimate For FY \n2024-25","Revised Estimate For FY \n2023-25"]
[1,2,3,4,5,6,7,8,10,12,13]
[1,{"$f":"IF('Formet 8'!D347=\"\",\"\",'Formet 8'!D347)","v":"CGBCB"},{"$f":"IF('Formet 8'!D347=\"\",\"\",'Formet 8'!G347)","v":"Sanvida Employee"},"--","--",{"$f":"IF('Formet 8'!D347=\"\",\"\",'Formet 8'!F347)","v":0},{"$f":"IF('Formet 8'!D347=\"\",\"\",'Formet 8'!H347)","v":"-"},{"$f":"IF('Formet 8'!D347=\"\",\"\",'Formet 8'!I347)","v":16400},{"$f":"IF('Formet 8'!D347=\"\",\"\",H9*12)","v":196800},{"$f":"IF('Formet 8'!D347=\"\",\"\",I9)","v":196800},{"$f":"IF('Formet 8'!D347=\"\",\"\",J9)","v":196800}]
[2,{"$f":"IF('Formet 8'!D348=\"\",\"\",'Formet 8'!D348)","v":"DGGBC"},{"$f":"IF('Formet 8'!D348=\"\",\"\",'Formet 8'!G348)","v":"Sanvida Employee"},"--","--",{"$f":"IF('Formet 8'!D348=\"\",\"\",'Formet 8'!F348)","v":0},{"$f":"IF('Formet 8'!D348=\"\",\"\",'Formet 8'!H348)","v":"-"},{"$f":"IF('Formet 8'!D348=\"\",\"\",'Formet 8'!I348)","v":16400},{"$f":"IF('Formet 8'!D348=\"\",\"\",H10*12)","v":196800},{"$f":"IF('Formet 8'!D348=\"\",\"\",I10)","v":196800},{"$f":"IF('Formet 8'!D348=\"\",\"\",J10)","v":196800}]
[3,{"$f":"IF('Formet 8'!D349=\"\",\"\",'Formet 8'!D349)","v":""},{"$f":"IF('Formet 8'!D349=\"\",\"\",'Formet 8'!G349)","v":""},"--","--",{"$f":"IF('Formet 8'!D349=\"\",\"\",'Formet 8'!F349)","v":""},{"$f":"IF('Formet 8'!D349=\"\",\"\",'Formet 8'!H349)","v":""},{"$f":"IF('Formet 8'!D349=\"\",\"\",'Formet 8'!I349)","v":""},{"$f":"IF('Formet 8'!D349=\"\",\"\",H11*12)","v":""},{"$f":"IF('Formet 8'!D349=\"\",\"\",I11)","v":""},{"$f":"IF('Formet 8'!D349=\"\",\"\",J11)","v":""}]
[4,{"$f":"IF('Formet 8'!D350=\"\",\"\",'Formet 8'!D350)","v":""},{"$f":"IF('Formet 8'!D350=\"\",\"\",'Formet 8'!G350)","v":""},"--","--",{"$f":"IF('Formet 8'!D350=\"\",\"\",'Formet 8'!F350)","v":""},{"$f":"IF('Formet 8'!D350=\"\",\"\",'Formet 8'!H350)","v":""},{"$f":"IF('Formet 8'!D350=\"\",\"\",'Formet 8'!I350)","v":""},{"$f":"IF('Formet 8'!D350=\"\",\"\",H12*12)","v":""},{"$f":"IF('Formet 8'!D350=\"\",\"\",I12)","v":""},{"$f":"IF('Formet 8'!D350=\"\",\"\",J12)","v":""}]
[5,{"$f":"IF('Formet 8'!D351=\"\",\"\",'Formet 8'!D351)","v":""},{"$f":"IF('Formet 8'!D351=\"\",\"\",'Formet 8'!G351)","v":""},"--","--",{"$f":"IF('Formet 8'!D351=\"\",\"\",'Formet 8'!F351)","v":""},{"$f":"IF('Formet 8'!D351=\"\",\"\",'Formet 8'!H351)","v":""},{"$f":"IF('Formet 8'!D351=\"\",\"\",'Formet 8'!I351)","v":""},{"$f":"IF('Formet 8'!D351=\"\",\"\",H13*12)","v":""},{"$f":"IF('Formet 8'!D351=\"\",\"\",I13)","v":""},{"$f":"IF('Formet 8'!D351=\"\",\"\",J13)","v":""}]
[6,{"$f":"IF('Formet 8'!D352=\"\",\"\",'Formet 8'!D352)","v":""},{"$f":"IF('Formet 8'!D352=\"\",\"\",'Formet 8'!G352)","v":""},"--","--",{"$f":"IF('Formet 8'!D352=\"\",\"\",'Formet 8'!F352)","v":""},{"$f":"IF('Formet 8'!D352=\"\",\"\",'Formet 8'!H352)","v":""},{"$f":"IF('Formet 8'!D352=\"\",\"\",'Formet 8'!I352)","v":""},{"$f":"IF('Formet 8'!D352=\"\",\"\",H14*12)","v":""},{"$f":"IF('Formet 8'!D352=\"\",\"\",I14)","v":""},{"$f":"IF('Formet 8'!D352=\"\",\"\",J14)","v":""}]
[7,{"$f":"IF('Formet 8'!D353=\"\",\"\",'Formet 8'!D353)","v":""},{"$f":"IF('Formet 8'!D353=\"\",\"\",'Formet 8'!G353)","v":""},"--","--",{"$f":"IF('Formet 8'!D353=\"\",\"\",'Formet 8'!F353)","v":""},{"$f":"IF('Formet 8'!D353=\"\",\"\",'Formet 8'!H353)","v":""},{"$f":"IF('Formet 8'!D353=\"\",\"\",'Formet 8'!I353)","v":""},{"$f":"IF('Formet 8'!D353=\"\",\"\",H15*12)","v":""},{"$f":"IF('Formet 8'!D353=\"\",\"\",I15)","v":""},{"$f":"IF('Formet 8'!D353=\"\",\"\",J15)","v":""}]
[8,{"$f":"IF('Formet 8'!D354=\"\",\"\",'Formet 8'!D354)","v":""},{"$f":"IF('Formet 8'!D354=\"\",\"\",'Formet 8'!G354)","v":""},"--","--",{"$f":"IF('Formet 8'!D354=\"\",\"\",'Formet 8'!F354)","v":""},{"$f":"IF('Formet 8'!D354=\"\",\"\",'Formet 8'!H354)","v":""},{"$f":"IF('Formet 8'!D354=\"\",\"\",'Formet 8'!I354)","v":""},{"$f":"IF('Formet 8'!D354=\"\",\"\",H16*12)","v":""},{"$f":"IF('Formet 8'!D354=\"\",\"\",I16)","v":""},{"$f":"IF('Formet 8'!D354=\"\",\"\",J16)","v":""}]
[9,{"$f":"IF('Formet 8'!D355=\"\",\"\",'Formet 8'!D355)","v":""},{"$f":"IF('Formet 8'!D355=\"\",\"\",'Formet 8'!G355)","v":""},"--","--",{"$f":"IF('Formet 8'!D355=\"\",\"\",'Formet 8'!F355)","v":""},{"$f":"IF('Formet 8'!D355=\"\",\"\",'Formet 8'!H355)","v":""},{"$f":"IF('Formet 8'!D355=\"\",\"\",'Formet 8'!I355)","v":""},{"$f":"IF('Formet 8'!D355=\"\",\"\",H17*12)","v":""},{"$f":"IF('Formet 8'!D355=\"\",\"\",I17)","v":""},{"$f":"IF('Formet 8'!D355=\"\",\"\",J17)","v":""}]
[10,{"$f":"IF('Formet 8'!D356=\"\",\"\",'Formet 8'!D356)","v":""},{"$f":"IF('Formet 8'!D356=\"\",\"\",'Formet 8'!G356)","v":""},"--","--",{"$f":"IF('Formet 8'!D356=\"\",\"\",'Formet 8'!F356)","v":""},{"$f":"IF('Formet 8'!D356=\"\",\"\",'Formet 8'!H356)","v":""},{"$f":"IF('Formet 8'!D356=\"\",\"\",'Formet 8'!I356)","v":""},{"$f":"IF('Formet 8'!D356=\"\",\"\",H18*12)","v":""},{"$f":"IF('Formet 8'!D356=\"\",\"\",I18)","v":""},{"$f":"IF('Formet 8'!D356=\"\",\"\",J18)","v":""}]
[11,{"$f":"IF('Formet 8'!D357=\"\",\"\",'Formet 8'!D357)","v":""},{"$f":"IF('Formet 8'!D357=\"\",\"\",'Formet 8'!G357)","v":""},"--","--",{"$f":"IF('Formet 8'!D357=\"\",\"\",'Formet 8'!F357)","v":""},{"$f":"IF('Formet 8'!D357=\"\",\"\",'Formet 8'!H357)","v":""},{"$f":"IF('Formet 8'!D357=\"\",\"\",'Formet 8'!I357)","v":""},{"$f":"IF('Formet 8'!D357=\"\",\"\",H19*12)","v":""},{"$f":"IF('Formet 8'!D357=\"\",\"\",I19)","v":""},{"$f":"IF('Formet 8'!D357=\"\",\"\",J19)","v":""}]
[12,{"$f":"IF('Formet 8'!D358=\"\",\"\",'Formet 8'!D358)","v":""},{"$f":"IF('Formet 8'!D358=\"\",\"\",'Formet 8'!G358)","v":""},"--","--",{"$f":"IF('Formet 8'!D358=\"\",\"\",'Formet 8'!F358)","v":""},{"$f":"IF('Formet 8'!D358=\"\",\"\",'Formet 8'!H358)","v":""},{"$f":"IF('Formet 8'!D358=\"\",\"\",'Formet 8'!I358)","v":""},{"$f":"IF('Formet 8'!D358=\"\",\"\",H20*12)","v":""},{"$f":"IF('Formet 8'!D358=\"\",\"\",I20)","v":""},{"$f":"IF('Formet 8'!D358=\"\",\"\",J20)","v":""}]
[13,{"$f":"IF('Formet 8'!D359=\"\",\"\",'Formet 8'!D359)","v":""},{"$f":"IF('Formet 8'!D359=\"\",\"\",'Formet 8'!G359)","v":""},"--","--",{"$f":"IF('Formet 8'!D359=\"\",\"\",'Formet 8'!F359)","v":""},{"$f":"IF('Formet 8'!D359=\"\",\"\",'Formet 8'!H359)","v":""},{"$f":"IF('Formet 8'!D359=\"\",\"\",'Formet 8'!I359)","v":""},{"$f":"IF('Formet 8'!D359=\"\",\"\",H21*12)","v":""},{"$f":"IF('Formet 8'!D359=\"\",\"\",I21)","v":""},{"$f":"IF('Formet 8'!D359=\"\",\"\",J21)","v":""}]
[14,{"$f":"IF('Formet 8'!D360=\"\",\"\",'Formet 8'!D360)","v":""},{"$f":"IF('Formet 8'!D360=\"\",\"\",'Formet 8'!G360)","v":""},"--","--",{"$f":"IF('Formet 8'!D360=\"\",\"\",'Formet 8'!F360)","v":""},{"$f":"IF('Formet 8'!D360=\"\",\"\",'Formet 8'!H360)","v":""},{"$f":"IF('Formet 8'!D360=\"\",\"\",'Formet 8'!I360)","v":""},{"$f":"IF('Formet 8'!D360=\"\",\"\",H22*12)","v":""},{"$f":"IF('Formet 8'!D360=\"\",\"\",I22)","v":""},{"$f":"IF('Formet 8'!D360=\"\",\"\",J22)","v":""}]
[15,{"$f":"IF('Formet 8'!D361=\"\",\"\",'Formet 8'!D361)","v":""},{"$f":"IF('Formet 8'!D361=\"\",\"\",'Formet 8'!G361)","v":""},"--","--",{"$f":"IF('Formet 8'!D361=\"\",\"\",'Formet 8'!F361)","v":""},{"$f":"IF('Formet 8'!D361=\"\",\"\",'Formet 8'!H361)","v":""},{"$f":"IF('Formet 8'!D361=\"\",\"\",'Formet 8'!I361)","v":""},{"$f":"IF('Formet 8'!D361=\"\",\"\",H23*12)","v":""},{"$f":"IF('Formet 8'!D361=\"\",\"\",I23)","v":""},{"$f":"IF('Formet 8'!D361=\"\",\"\",J23)","v":""}]
[16,{"$f":"IF('Formet 8'!D362=\"\",\"\",'Formet 8'!D362)","v":""},{"$f":"IF('Formet 8'!D362=\"\",\"\",'Formet 8'!G362)","v":""},"--","--",{"$f":"IF('Formet 8'!D362=\"\",\"\",'Formet 8'!F362)","v":""},{"$f":"IF('Formet 8'!D362=\"\",\"\",'Formet 8'!H362)","v":""},{"$f":"IF('Formet 8'!D362=\"\",\"\",'Formet 8'!I362)","v":""},{"$f":"IF('Formet 8'!D362=\"\",\"\",H24*12)","v":""},{"$f":"IF('Formet 8'!D362=\"\",\"\",I24)","v":""},{"$f":"IF('Formet 8'!D362=\"\",\"\",J24)","v":""}]
[17,{"$f":"IF('Formet 8'!D363=\"\",\"\",'Formet 8'!D363)","v":""},{"$f":"IF('Formet 8'!D363=\"\",\"\",'Formet 8'!G363)","v":""},"--","--",{"$f":"IF('Formet 8'!D363=\"\",\"\",'Formet 8'!F363)","v":""},{"$f":"IF('Formet 8'!D363=\"\",\"\",'Formet 8'!H363)","v":""},{"$f":"IF('Formet 8'!D363=\"\",\"\",'Formet 8'!I363)","v":""},{"$f":"IF('Formet 8'!D363=\"\",\"\",H25*12)","v":""},{"$f":"IF('Formet 8'!D363=\"\",\"\",I25)","v":""},{"$f":"IF('Formet 8'!D363=\"\",\"\",J25)","v":""}]
[18,{"$f":"IF('Formet 8'!D364=\"\",\"\",'Formet 8'!D364)","v":""},{"$f":"IF('Formet 8'!D364=\"\",\"\",'Formet 8'!G364)","v":""},"--","--",{"$f":"IF('Formet 8'!D364=\"\",\"\",'Formet 8'!F364)","v":""},{"$f":"IF('Formet 8'!D364=\"\",\"\",'Formet 8'!H364)","v":""},{"$f":"IF('Formet 8'!D364=\"\",\"\",'Formet 8'!I364)","v":""},{"$f":"IF('Formet 8'!D364=\"\",\"\",H26*12)","v":""},{"$f":"IF('Formet 8'!D364=\"\",\"\",I26)","v":""},{"$f":"IF('Formet 8'!D364=\"\",\"\",J26)","v":""}]
[19,{"$f":"IF('Formet 8'!D365=\"\",\"\",'Formet 8'!D365)","v":""},{"$f":"IF('Formet 8'!D365=\"\",\"\",'Formet 8'!G365)","v":""},"--","--",{"$f":"IF('Formet 8'!D365=\"\",\"\",'Formet 8'!F365)","v":""},{"$f":"IF('Formet 8'!D365=\"\",\"\",'Formet 8'!H365)","v":""},{"$f":"IF('Formet 8'!D365=\"\",\"\",'Formet 8'!I365)","v":""},{"$f":"IF('Formet 8'!D365=\"\",\"\",H27*12)","v":""},{"$f":"IF('Formet 8'!D365=\"\",\"\",I27)","v":""},{"$f":"IF('Formet 8'!D365=\"\",\"\",J27)","v":""}]
[20,{"$f":"IF('Formet 8'!D366=\"\",\"\",'Formet 8'!D366)","v":""},{"$f":"IF('Formet 8'!D366=\"\",\"\",'Formet 8'!G366)","v":""},"--","--",{"$f":"IF('Formet 8'!D366=\"\",\"\",'Formet 8'!F366)","v":""},{"$f":"IF('Formet 8'!D366=\"\",\"\",'Formet 8'!H366)","v":""},{"$f":"IF('Formet 8'!D366=\"\",\"\",'Formet 8'!I366)","v":""},{"$f":"IF('Formet 8'!D366=\"\",\"\",H28*12)","v":""},{"$f":"IF('Formet 8'!D366=\"\",\"\",I28)","v":""},{"$f":"IF('Formet 8'!D366=\"\",\"\",J28)","v":""}]
["TOTAL",{"$nulls":7},{"$f":"SUM(I9:I28)","v":393600},{"$f":"SUM(J9:J28)","v":393600},393600]
[]
[]
[{"$nulls":8},{"$f":"Master!E2","v":"ç/kkukpk;Z]"}]
[{"$nulls":8},{"$f":"Master!H2","v":"jkmekfo jk;eyok³k"}]

{"sheet":"Income","index":31,"n_rows":19,"n_cols":6,"rows_kept":19,"hidden":true,"merged":[[0,4,0,5],[1,0,1,5],[2,0,2,5],[3,0,3,3],[3,4,3,5],[4,0,4,3],[5,0,5,3],[6,0,8,0],[6,1,8,1],[9,0,9,3],[10,0,12,0],[10,1,12,1],[13,0,13,3],[17,4,17,5],[18,4,18,5]]}
[{"$nulls":4},{"$f":"Summary!$C$1","v":{"v":12345,"d":"OFFICE ID 12345"}}]
[{"$f":"Summary!$A$2","v":"ç/kkukpk;Z] jkmekfo jk;eyok³k ¼vkWfQl vkbZ-Mh- la[;k %&12345½"}]
["vk; O;;d vuqeku 2018&19 ,oa la'kksf/kr vuqeku 2019&20"]
["ek/;fed fo|ky;ks dh la[;k",{"$nulls":3},"                        ek/;fed f'k{kk                                                       "]
["lhfu;j mPp ek/;fed fo|ky;ks dh la[;k"]
["fooj.k",{"$nulls":3},"o\"kZ 2019&2020 dk la'kksf/kr vuqeku","o\"kZ 2020&2021 dk vk; O;;d vuqeku"]
["1-","va'knku @ o`fRrnku ls vk;","1-","va'knku o`fRrnku nkrk dk uke o iz;kstu"]
[null,null,"¼d½","Jh@Jherh ------------------------------------------------------------",0,0]
[null,null,"¼[k½","Jh@Jherh ------------------------------------------------------------",0,0]
["dqy ;ksx ¼va'knku @ o`fRrnku½",{"$nulls":3},{"$f":"SUM(E7:E9)","v":0},{"$f":"SUM(F7:F9)","v":0}]
["2-","fofo/k vk; dk fooj.k","1-","viz;ksT; lkeku dh uhykeh }kjk vk;",0,0]
[null,null,"2-","'kkyk Hkou dk vU; iz;kstu esa mi;ksx ysus ij 'kqYd ls vk;",0,0]
[null,null,"3-","vU; fofo/k vk;",0,0]
["dqy fofo/k vk;",{"$nulls":3},{"$f":"SUM(E10:E13)","v":0},{"$f":"SUM(F10:F13)","v":0}]
[]
[]
[]
[{"$nulls":4},{"$f":"Master!E2","v":"ç/kkukpk;Z]"}]
[{"$nulls":4},{"$f":"Master!F2","v":0}]

{"sheet":"Vardi","index":32,"n_rows":11,"n_cols":11,"rows_kept":11,"merged":[[0,3,0,4],[0,8,0,10],[0,11,11,11],[1,0,1,10],[2,0,2,10],[3,0,3,10],[7,0,12,7],[7,8,8,10],[9,8,9,10],[10,8,12,10]]}
[{"$nulls":8},{"$f":"Summary!$C$1","v":{"v":12345,"d":"OFFICE ID 12345"}}]
[{"$f":"Summary!$A$2","v":"ç/kkukpk;Z] jkmekfo jk;eyok³k ¼vkWfQl vkbZ-Mh- la[;k %&12345½"}]
["ofnZ;ksa ds O;; dk izi=  "]
[{"$f":"Summary!A5","v":"BUDGET HEAD : 2202 -सामान्य शिक्षा-02-109 -राजकीय माध्यमिक विद्यालय-07 -राष्ट्रीय माध्यमिक शिक्षा अभियान-01 -माध्यमिक शिक्षा अभियान- सामान्य व्यय (S.F. + C.A.)"}]
["Ø-la0","dkfeZd dh la[;k","efgyk","nj","jkf'k","iq#\"k","nj","jkf'k",";ksx","izkIr ctV vkoaVu 2019&20","vf/kD;@cpr"]
[1,4,5,6,"7(5X6)",8,9,"10(8X9)","11(7+10)",12,"13(11-12)"]
[1,0,0,1950,{"$f":"C7*D7","v":0},0,1650,{"$f":"F7*G7","v":0},{"$f":"E7+H7","v":0},0,0]
[]
[]
[{"$nulls":8},{"$f":"Master!E2","v":"ç/kkukpk;Z]"}]
[{"$nulls":8},{"$f":"Master!H2","v":"jkmekfo jk;eyok³k"}]

{"sheet":"7th pay fix. arr.","index":33,"n_rows":41,"n_cols":9,"rows_kept":41,"hidden":true,"merged":[[0,3,0,4],[0,7,0,8],[1,0,1,8],[2,0,2,8],[3,0,3,8],[4,0,4,8],[39,7,39,8],[40,7,41,8]]}
[{"$nulls":7},{"$f":"Summary!$C$1","v":{"v":12345,"d":"OFFICE ID 12345"}}]
[{"$f":"Summary!$A$2","v":"ç/kkukpk;Z] jkmekfo jk;eyok³k ¼vkWfQl vkbZ-Mh- la[;k %&12345½"}]
["lkrosa osru ds fQDls'ku ,fj;j O;; dk izi=  "]
[{"$f":"Summary!A5","v":"BUDGET HEAD : 2202 -सामान्य शिक्षा-02-109 -राजकीय माध्यमिक विद्यालय-07 -राष्ट्रीय माध्यमिक शिक्षा अभियान-01 -माध्यमिक शिक्षा अभियान- सामान्य व्यय (S.F. + C.A.)"}]
["7th pay Fixation arrear paid & to be paid  during 2019-20"]
["S.No","Name","Post ","1st 30%","2nd 30%","3rd 40%","01-10-17 to -------","Total","Budget (NP,PLAN etc"]
[1,{"$f":"IF(AND(Master!D60=\"\"),\"\",Master!D60)","v":"ABC"},{"$f":"IF(AND(Master!E60=\"\"),\"\",Master!E60)","v":"PRINCIPAL"},{"$nulls":4},{"$f":"IF(AND(B7=\"\"),\"\",D7+E7+F7+G7)","v":0}]
[2,{"$f":"IF(AND(Master!D61=\"\"),\"\",Master!D61)","v":"ASDGDSG"},{"$f":"IF(AND(Master!E61=\"\"),\"\",Master!E61)","v":"LECTURER"},{"$nulls":4},{"$f":"IF(AND(B8=\"\"),\"\",D8+E8+F8+G8)","v":0}]
[3,{"$f":"IF(AND(Master!D62=\"\"),\"\",Master!D62)","v":"FGD"},{"$f":"IF(AND(Master!E62=\"\"),\"\",Master!E62)","v":"TEACHER-II"},{"$nulls":4},0]
[4,{"$f":"IF(AND(Master!D63=\"\"),\"\",Master!D63)","v":"ZGD"},{"$f":"IF(AND(Master!E63=\"\"),\"\",Master!E63)","v":"TEACHER-III"},{"$nulls":4},0]
[5,{"$f":"IF(AND(Master!D64=\"\"),\"\",Master!D64)","v":"DFBDZFB"},{"$f":"IF(AND(Master!E64=\"\"),\"\",Master!E64)","v":"TEACHER-III"},{"$nulls":4},0]
[6,{"$f":"IF(AND(Master!D65=\"\"),\"\",Master!D65)","v":"DBCZFB"},{"$f":"IF(AND(Master!E65=\"\"),\"\",Master!E65)","v":"TEACHER-III"},{"$nulls":4},0]
[7,{"$f":"IF(AND(Master!D66=\"\"),\"\",Master!D66)","v":"D"},{"$f":"IF(AND(Master!E66=\"\"),\"\",Master!E66)","v":"TEACHER-III"},{"$nulls":4},0]
[8,{"$f":"IF(AND(Master!D67=\"\"),\"\",Master!D67)","v":"BCBD"},{"$f":"IF(AND(Master!E67=\"\"),\"\",Master!E67)","v":"TEACHER-III"},{"$nulls":4},0]
[9,{"$f":"IF(AND(Master!D68=\"\"),\"\",Master!D68)","v":"GBGCBD"},{"$f":"IF(AND(Master!E68=\"\"),\"\",Master!E68)","v":"PEON"},{"$nulls":4},0]
[10,{"$f":"IF(AND(Master!D69=\"\"),\"\",Master!D69)","v":"CGBCB"},{"$f":"IF(AND(Master!E69=\"\"),\"\",Master!E69)","v":"Sanvida Employee"},{"$nulls":4},0]
[11,{"$f":"IF(AND(Master!D70=\"\"),\"\",Master!D70)","v":"DGGBC"},{"$f":"IF(AND(Master!E70=\"\"),\"\",Master!E70)","v":"Sanvida Employee"},{"$nulls":4},0]
[12,{"$f":"IF(AND(Master!D71=\"\"),\"\",Master!D71)","v":"पद रिक्त"},{"$f":"IF(AND(Master!E71=\"\"),\"\",Master!E71)","v":"TEACHER-III"},{"$nulls":4},0]
[13,{"$f":"IF(AND(Master!D72=\"\"),\"\",Master!D72)","v":"पद रिक्त"},{"$f":"IF(AND(Master!E72=\"\"),\"\",Master!E72)","v":"TEACHER-III"},{"$nulls":4},0]
[14,{"$f":"IF(AND(Master!D73=\"\"),\"\",Master!D73)","v":"पद रिक्त"},{"$f":"IF(AND(Master!E73=\"\"),\"\",Master!E73)","v":"TEACHER-III"},{"$nulls":4},0]
[15,{"$f":"IF(AND(Master!D74=\"\"),\"\",Master!D74)","v":"पद रिक्त"},{"$f":"IF(AND(Master!E74=\"\"),\"\",Master!E74)","v":"TEACHER-III"},{"$nulls":4},0]
[16,{"$f":"IF(AND(Master!D75=\"\"),\"\",Master!D75)","v":"पद रिक्त"},{"$f":"IF(AND(Master!E75=\"\"),\"\",Master!E75)","v":"TEACHER-III"},{"$nulls":4},0]
[17,{"$f":"IF(AND(Master!D76=\"\"),\"\",Master!D76)","v":"पद रिक्त"},{"$f":"IF(AND(Master!E76=\"\"),\"\",Master!E76)","v":"PTI  III"},{"$nulls":4},0]
[18,{"$f":"IF(AND(Master!D77=\"\"),\"\",Master!D77)","v":"पद रिक्त"},{"$f":"IF(AND(Master!E77=\"\"),\"\",Master!E77)","v":"TEACHER-III"},{"$nulls":4},0]
[19,{"$f":"IF(AND(Master!D78=\"\"),\"\",Master!D78)","v":"पद रिक्त"},{"$f":"IF(AND(Master!E78=\"\"),\"\",Master!E78)","v":"TEACHER-III"},{"$nulls":4},0]
[20,{"$f":"IF(AND(Master!D79=\"\"),\"\",Master!D79)","v":"पद रिक्त"},{"$f":"IF(AND(Master!E79=\"\"),\"\",Master!E79)","v":"TEACHER-III"},{"$nulls":4},0]
[21,{"$f":"IF(AND(Master!D80=\"\"),\"\",Master!D80)","v":"पद रिक्त"},{"$f":"IF(AND(Master!E80=\"\"),\"\",Master!E80)","v":"TEACHER-II"},{"$nulls":4},0]
[22,{"$f":"IF(AND(Master!D81=\"\"),\"\",Master!D81)","v":"पद रिक्त"},{"$f":"IF(AND(Master!E81=\"\"),\"\",Master!E81)","v":"TEACHER-III"},{"$nulls":4},0]
[23,{"$f":"IF(AND(Master!D82=\"\"),\"\",Master!D82)","v":"पद रिक्त"},{"$f":"IF(AND(Master!E82=\"\"),\"\",Master!E82)","v":"TEACHER-III"},{"$nulls":4},0]
[24,{"$f":"IF(AND(Master!D83=\"\"),\"\",Master!D83)","v":"पद रिक्त"},{"$f":"IF(AND(Master!E83=\"\"),\"\",Master!E83)","v":"TEACHER-III"},{"$nulls":4},0]
[25,{"$f":"IF(AND(Master!D84=\"\"),\"\",Master!D84)","v":"पद रिक्त"},{"$f":"IF(AND(Master!E84=\"\"),\"\",Master!E84)","v":"PTI  III"},{"$nulls":4},0]
[26,{"$f":"IF(AND(Master!D85=\"\"),\"\",Master!D85)","v":"पद रिक्त"},{"$f":"IF(AND(Master!E85=\"\"),\"\",Master!E85)","v":"TEACHER-III"},{"$nulls":4},0]
[27,{"$f":"IF(AND(Master!D86=\"\"),\"\",Master!D86)","v":""},{"$f":"IF(AND(Master!E86=\"\"),\"\",Master!E86)","v":""},{"$nulls":4},""]
[28,{"$f":"IF(AND(Master!D87=\"\"),\"\",Master!D87)","v":""},{"$f":"IF(AND(Master!E87=\"\"),\"\",Master!E87)","v":""},{"$nulls":4},""]
[29,{"$f":"IF(AND(Master!D88=\"\"),\"\",Master!D88)","v":""},{"$f":"IF(AND(Master!E88=\"\"),\"\",Master!E88)","v":""},{"$nulls":4},""]
[30,{"$f":"IF(AND(Master!D89=\"\"),\"\",Master!D89)","v":""},{"$f":"IF(AND(Master!E89=\"\"),\"\",Master!E89)","v":""},{"$nulls":4},""]
[31,{"$f":"IF(AND(Master!D90=\"\"),\"\",Master!D90)","v":""},{"$f":"IF(AND(Master!E90=\"\"),\"\",Master!E90)","v":""},{"$nulls":4},""]
[]
[]
[{"$nulls":7},{"$f":"Master!E2","v":"ç/kkukpk;Z]"}]
[{"$nulls":7},{"$f":"Master!F2","v":0}]

{"sheet":"vidhyarthimitra","index":34,"n_rows":16,"n_cols":8,"rows_kept":16,"hidden":true,"merged":[[0,0,0,7],[2,0,2,7],[3,0,3,1],[3,2,3,7],[4,0,4,7],[5,0,5,7],[14,5,14,6],[15,5,16,6]]}
[{"$f":"Summary!A2","v":"ç/kkukpk;Z] jkmekfo jk;eyok³k ¼vkWfQl vkbZ-Mh- la[;k %&12345½"}]
[]
["izi= & 4"]
[{"$f":"Summary!$C$1","v":{"v":12345,"d":"OFFICE ID 12345"}},null,{"$f":"Summary!A5","v":"BUDGET HEAD : 2202 -सामान्य शिक्षा-02-109 -राजकीय माध्यमिक विद्यालय-07 -राष्ट्रीय माध्यमिक शिक्षा अभियान-01 -माध्यमिक शिक्षा अभियान- सामान्य व्यय (S.F. + C.A.)"}]
["lafonk ¼fo|kFkhZ fe= ;kstukUrxZr½ o\"kZ 2019&20 ds O;; dh lwpuk"]
[]
["dza-la-","Iyku@ukWu Iyku","lafonk fo|kFkhZ fe= dk uke","in ftlds fo:} dk;Zjr gS","fo\"k;","fo|ky; esa izFke dk;Zxzg.k frfFk","orZeku l= dh dk;Zxzg.k frfFk","okLrfod O;; 2018&19"]
[1,2,3,4,5,6,7,8]
[]
[{"$nulls":4},"NIL"]
[]
[{"$nulls":6},";ksx",{"$f":"SUM(H9:H11)","v":0}]
[]
[]
[{"$nulls":5},{"$f":"Master!E2","v":"ç/kkukpk;Z]"}]
[{"$nulls":5},{"$f":"Master!F2","v":0}]

{"sheet":"P-14","index":35,"n_rows":26,"n_cols":12,"rows_kept":26,"merged":[[0,3,0,5],[0,6,0,7],[0,8,28,8],[1,0,1,7],[2,0,2,7],[3,0,3,1],[3,2,3,5],[4,0,4,7],[5,0,6,0],[5,1,6,1],[5,2,5,6],[14,0,14,7],[15,0,16,0],[15,1,16,1],[15,2,15,6],[23,0,23,7],[24,0,1048575,5],[24,6,24,7],[25,6,27,7]]}
[{"$nulls":3},"izi= 14",null,null,{"$f":"[3]Summary!$C$1","v":{"v":32940,"d":"OFFICE ID 32940"}}]
[{"$f":"abc!A2","v":"ç/kkukpk;Z] jkmekfo jk;eyok³k ¼vkWfQl vkbZ-Mh- la[;k %&12345½"}]
["¼ih-Mh- [kkrs ds 'ks\"k dh lwpuk½"]
["ekax la[;k&24 ys[kken%&",null,{"$f":"Master!G5","v":"2202-02-109-(07)-(01) (STATE FUND+CENTRAL ASS.)"},{"$nulls":4},"foHkkx dk uke %& f'k{kk foHkkx"]
[{"$f":"A!A4","v":"BUDGET HEAD : 2202 -सामान्य शिक्षा-02-109 -राजकीय माध्यमिक विद्यालय-07 -राष्ट्रीय माध्यमिक शिक्षा अभियान-01 -माध्यमिक शिक्षा अभियान- सामान्य व्यय (S.F. + C.A.)"}]
["Ø-la-","fooj.k","12&lgk;rkFkZ xS vuqnku laosru",{"$nulls":4},"92&lgk;rkFkZ vuqnku"]
[null,null,";k=k O;;","fpfdRlk O;;","dk;kZy; O;;","ofnZ;k",";ksx","laosru"]
[1,2,3,4,5,6,7,8]
[1,"01-04-2023 dks 'ks\"k",{"$f":"'P-7'!C13","v":35380},{"$f":"'P-7'!D13","v":50000},{"$f":"'P-7'!E13","v":28260},{"$f":"'P-7'!F13","v":2000},{"$f":"SUM(C9:F9)","v":115640},{"$f":"'P-7'!H13","v":996188}]
[2,"fofr; o\"kZ 2023&24 esa çkIr jkf'k",0,0,0,0,{"$f":"SUM(C10:F10)","v":0},52500000]
[3,";ksx",{"$f":"C9+C10","v":35380},50000,28260,2000,115640,{"$f":"H9+H10","v":53496188}]
[4,"fofr; o\"kZ 2023&24 esa O;; jkf'k ",0,0,0,0,0,{"$f":"'Formet 9'!I11","v":0}]
[5,"31-08-2023 dks 'ks\"k jkf'k ",{"$f":"C11-C12","v":35380},50000,28260,2000,115640,{"$f":"H11-H12","v":53496188}]
[]
["ekax la[;k&30 ys[kken 2202&01&197&15&01 ¼jkT; fuf/k½"]
["Ø-la-","fooj.k","12&lgk;rkFkZ xS vuqnku laosru",{"$nulls":4},"92&lgk;rkFkZ vuqnku"]
[null,null,";k=k O;;","fpfdRlk O;;","dk;kZy; O;;","ofnZ;k",";ksx","laosru"]
[1,2,3,4,5,6,7,8]
[1,"01-04-2023 dks 'ks\"k",0,0,0,0,0,0]
[2,"fofr; o\"kZ 2023&24 esa çkIr jkf'k",0,0,0,0,0,0,{"$nulls":3}," "]
[3,";ksx",{"$f":"C19+C20","v":0},0,0,0,0,0]
[4,"fofr; o\"kZ 2023&24 esa O;; jkf'k ",0,0,0,0,0,0]
[5,"31-08-2023 dks 'ks\"k jkf'k ",{"$f":"C21-C22","v":0},0,0,0,0,0]
["izekf.kr fd;k tkrk gS fd inksa ds lanHkZ esa mi;qZä lwpuk dh esjs }kjk O;fäxr :i ls tkap dj yh xbZ gS\n vkSj bls lgh ik;k x;k gSA"]
[]
[{"$nulls":6},{"$f":"sharansh!B2","v":"ç/kkukpk;Z] jkmekfo jk;eyok³k ¼vkWfQl vkbZ-Mh- la[;k %&12345½"}]

{"sheet":"P-7","index":36,"n_rows":26,"n_cols":8,"rows_kept":26,"merged":[[0,3,0,5],[0,6,0,7],[0,8,28,16383],[1,0,1,7],[2,0,2,7],[3,0,3,1],[3,2,3,6],[4,0,4,7],[5,0,6,0],[5,1,6,1],[5,2,5,6],[14,0,14,7],[15,0,16,0],[15,1,16,1],[15,2,15,6],[23,0,23,7],[24,0,1048575,5],[24,6,24,7],[25,6,27,7]]}
[{"$nulls":3},"izi= 07",null,null,{"$f":"[3]Summary!$C$1","v":{"v":32940,"d":"OFFICE ID 32940"}}]
[{"$f":"'P-14'!A2:H2","v":"ç/kkukpk;Z] jkmekfo jk;eyok³k ¼vkWfQl vkbZ-Mh- la[;k %&12345½"}]
["¼ih-Mh- [kkrs ds 'ks\"k dh lwpuk½"]
["ekax la[;k&24 ys[kken%&",null,{"$f":"Master!G5","v":"2202-02-109-(07)-(01) (STATE FUND+CENTRAL ASS.)"},{"$nulls":4},"foHkkx dk uke %& f'k{kk foHkkx"]
[{"$f":"A!A4","v":"BUDGET HEAD : 2202 -सामान्य शिक्षा-02-109 -राजकीय माध्यमिक विद्यालय-07 -राष्ट्रीय माध्यमिक शिक्षा अभियान-01 -माध्यमिक शिक्षा अभियान- सामान्य व्यय (S.F. + C.A.)"}]
["Ø-la-","fooj.k","12&lgk;rkFkZ xS vuqnku laosru",{"$nulls":4},"92&lgk;rkFkZ vuqnku"]
[null,null,";k=k O;;","fpfdRlk O;;","dk;kZy; O;;","ofnZ;k",";ksx","laosru"]
[1,2,3,4,5,6,7,8]
[1,"01-04-2022 dks 'ks\"k",49510,50000,50000,2000,{"$f":"SUM(C9:F9)","v":151510},-452705]
[2,"fofr; o\"kZ 2022-23 esa çkIr jkf'k",0,0,0,0,{"$f":"SUM(C10:F10)","v":0},85000000]
[3,";ksx",{"$f":"C9+C10","v":49510},50000,50000,2000,151510,{"$f":"H9+H10","v":84547295}]
[4,"fofr; o\"kZ 2022&23 esa O;; jkf'k",14130,0,21740,0,0,83551107]
[5,"31-03-2023 dks 'ks\"k jkf'k ",{"$f":"C11-C12","v":35380},50000,28260,2000,151510,{"$f":"H11-H12","v":996188}]
[]
["ekax la[;k&30 ys[kken 2202&01&197&15&01 ¼jkT; fuf/k½"]
["Ø-la-","fooj.k","12&lgk;rkFkZ xS vuqnku laosru",{"$nulls":4},"92&lgk;rkFkZ vuqnku"]
[null,null,";k=k O;;","fpfdRlk O;;","dk;kZy; O;;","ofnZ;k",";ksx","laosru"]
[1,2,3,4,5,6,7,8]
[1,"01-04-2022 dks 'ks\"k",0,0,0,0,0,0]
[2,"fofr; o\"kZ 2022-23 esa çkIr jkf'k",0,0,0,0,0,0]
[3,";ksx",{"$f":"C19+C20","v":0},0,0,0,0,0]
[4,"fofr; o\"kZ 2022&23 esa O;; jkf'k",0,0,0,0,0,0]
[5,"31-03-2023 dks 'ks\"k jkf'k ",{"$f":"C21-C22","v":0},0,0,0,0,0]
["izekf.kr fd;k tkrk gS fd inksa ds lanHkZ esa mi;qZä lwpuk dh esjs }kjk O;fäxr :i ls tkap dj yh xbZ gS\n vkSj bls lgh ik;k x;k gSA"]
[]
[{"$nulls":6},{"$f":"'P-14'!G26","v":"ç/kkukpk;Z] jkmekfo jk;eyok³k ¼vkWfQl vkbZ-Mh- la[;k %&12345½"}]

{"sheet":"P-5","index":37,"n_rows":13,"n_cols":10,"rows_kept":13,"merged":[[0,8,0,9],[0,10,15,10],[1,0,1,9],[2,0,2,7],[2,8,2,9],[3,0,3,9],[4,0,4,9],[5,0,6,0],[5,1,6,1],[5,2,6,2],[5,3,6,3],[5,4,6,4],[5,5,6,5],[5,6,5,8],[5,9,6,9],[10,0,10,9],[11,0,14,7],[11,8,11,9],[12,8,14,9],[15,0,1048575,9]]}
[{"$nulls":8},{"$f":"[3]Summary!$C$1","v":{"v":32940,"d":"OFFICE ID 32940"}}]
[{"$f":"'P-14'!A2:H2","v":"ç/kkukpk;Z] jkmekfo jk;eyok³k ¼vkWfQl vkbZ-Mh- la[;k %&12345½"}]
["                                   izi= 05¼dsoy iapk;r jkt en gsrq½",{"$nulls":7},"foHkkx dk uke %& f'k{kk foHkkx"]
["v- ih-Mh- [kkrks esa gLrkUrfjr jkf'k ,oa mlds mi;ksx dh faLFkfr dk fooj.k"]
[{"$f":"abc!A4","v":"BUDGET HEAD : 2202 -सामान्य शिक्षा-02-109 -राजकीय माध्यमिक विद्यालय-07 -राष्ट्रीय माध्यमिक शिक्षा अभियान-01 -माध्यमिक शिक्षा अभियान- सामान्य व्यय (S.F. + C.A.)"}]
["Ø-la-","futh fu{ksi [kkrk la[;k ¼e; laiw.kZ 'kh\"kZ lfgr½ ftlesa jkf'k LFkkukUrfjr  dh tkrh gSa","[kkrs dk uke","midks\"kky; ¼dks\"kky;½ dk uke","foHkkxh;@ xSj fiHkkxh;","01-04-2022 dks çkjfEHkd 'ks\"k jkf'k","2023&24",null,null,"31-08-2023 dks 'ks\"k ¼6$8&9½"]
[{"$nulls":6},"iw.kZ 'kh\"kZ ftlesa jkf'k gLrkUrfjr dh xbZ","gLrkUrfjr jkf'k","fnuksd 31 vxLr] 2023 rd O;; jkf'k"]
[1,2,3,4,5,6,7,8,9,10]
[1,{"$f":"abc!A4","v":"BUDGET HEAD : 2202 -सामान्य शिक्षा-02-109 -राजकीय माध्यमिक विद्यालय-07 -राष्ट्रीय माध्यमिक शिक्षा अभियान-01 -माध्यमिक शिक्षा अभियान- सामान्य व्यय (S.F. + C.A.)"},"P.D.-6292","Osian (Jodhpur-Rural)","foHkkxh;",{"$f":"'P-14'!H9","v":996188},"00&laosru rFkk vU;",{"$f":"'P-14'!H10","v":52500000},{"$f":"'P-14'!H12","v":0},{"$f":"F9+H9-I9","v":53496188}]
[]
["izekf.kr fd;k tkrk gS fd inksa ds lanHkZ esa mi;qZä lwpuk dh esjs }kjk O;fäxr :i ls tkap dj yh xbZ gS\n vkSj bls lgh ik;k x;k gSA"]
[]
[{"$nulls":8},{"$f":"'P-7'!G26","v":"ç/kkukpk;Z] jkmekfo jk;eyok³k ¼vkWfQl vkbZ-Mh- la[;k %&12345½"}]

{"sheet":"Bonus Calc.","index":38,"n_rows":153,"n_cols":10,"rows_kept":153,"merged":[[0,0,0,9],[0,10,152,10],[1,0,1,9],[2,0,2,9],[3,0,3,9],[4,0,4,9],[5,0,6,0],[5,1,6,1],[5,2,6,2],[5,3,6,3],[5,4,6,4],[5,5,6,5],[5,6,6,6],[5,7,6,7],[5,8,6,8],[5,9,6,9],[151,0,151,7],[151,8,151,9],[152,0,152,6],[152,7,152,9]]}
[{"$f":"CONCATENATE(abc!A2,\"  \",\"¼\",abc!C3,abc!D3,\"½\")","v":"ç/kkukpk;Z] jkmekfo jk;eyok³k ¼vkWfQl vkbZ-Mh- la[;k %&12345½  ¼MhMhvks dksM&12345½"}]
[{"$f":"Master!G5","v":"2202-02-109-(07)-(01) (STATE FUND+CENTRAL ASS.)"}]
[{"$f":"abc!A4","v":"BUDGET HEAD : 2202 -सामान्य शिक्षा-02-109 -राजकीय माध्यमिक विद्यालय-07 -राष्ट्रीय माध्यमिक शिक्षा अभियान-01 -माध्यमिक शिक्षा अभियान- सामान्य व्यय (S.F. + C.A.)"}]
["çi="]
["cksul x.kuk"]
["Ø-la-","deZpkjh dk uke","Post","Pay Matrics Level","Basic Pay","Employee ID No.","GPF/PRAN No.","Gender","Bonus Amount","GAZETTED / NON GAZETTED "]
[]
[1,{"$f":"'Formet 8'!D27","v":"FGD"},{"$f":"'Formet 8'!G27","v":"TEACHER-II"},{"$f":"'Formet 8'!H27","v":"L-11"},{"$f":"'Formet 8'!I27","v":45100},{"$f":"'Formet 8'!E27","v":"RJJO201325036050"},{"$f":"'Formet 8'!F27","v":0},null,{"$f":"IF(B8=\"\",\"\",6774)","v":6774},{"$f":"IF(B8=\"\",\"\",\"NON GAZETTED - REGULAR\")","v":"NON GAZETTED - REGULAR"}]
[2,{"$f":"'Formet 8'!D28","v":"ZGD"},{"$f":"'Formet 8'!G28","v":"TEACHER-III"},{"$f":"'Formet 8'!H28","v":"L-10"},{"$f":"'Formet 8'!I28","v":36900},{"$f":"'Formet 8'!E28","v":"RJJO201725019704"},{"$f":"'Formet 8'!F28","v":0},null,{"$f":"IF(B9=\"\",\"\",6774)","v":6774},{"$f":"IF(B9=\"\",\"\",\"NON GAZETTED - REGULAR\")","v":"NON GAZETTED - REGULAR"}]
[3,{"$f":"'Formet 8'!D29","v":"DBCZFB"},{"$f":"'Formet 8'!G29","v":"TEACHER-III"},{"$f":"'Formet 8'!H29","v":"L-11"},{"$f":"'Formet 8'!I29","v":49300},{"$f":"'Formet 8'!E29","v":"RJJO200725008042"},{"$f":"'Formet 8'!F29","v":0},null,6774,"NON GAZETTED - REGULAR"]
[4,{"$f":"'Formet 8'!D30","v":"D"},{"$f":"'Formet 8'!G30","v":"TEACHER-III"},{"$f":"'Formet 8'!H30","v":"L-10"},{"$f":"'Formet 8'!I30","v":40300},{"$f":"'Formet 8'!E30","v":"RJJO201525034739"},{"$f":"'Formet 8'!F30","v":0},null,6774,"NON GAZETTED - REGULAR"]
[5,{"$f":"'Formet 8'!D31","v":"BCBD"},{"$f":"'Formet 8'!G31","v":"TEACHER-III"},{"$f":"'Formet 8'!H31","v":"L-11"},{"$f":"'Formet 8'!I31","v":45100},{"$f":"'Formet 8'!E31","v":"RJJO201325036063"},{"$f":"'Formet 8'!F31","v":0},null,6774,"NON GAZETTED - REGULAR"]
[6,{"$f":"'Formet 8'!D32","v":"GBGCBD"},{"$f":"'Formet 8'!G32","v":"PEON"},{"$f":"'Formet 8'!H32","v":"L-3"},{"$f":"'Formet 8'!I32","v":33000},{"$f":"'Formet 8'!E32","v":"RJSR201834028851"},{"$f":"'Formet 8'!F32","v":0},null,6774,"NON GAZETTED - REGULAR"]
[7,{"$f":"'Formet 8'!D33","v":"पद रिक्त"},{"$f":"'Formet 8'!G33","v":"TEACHER-III"},{"$f":"'Formet 8'!H33","v":"L-10"},{"$f":"'Formet 8'!I33","v":0},{"$f":"'Formet 8'!E33","v":"-"},{"$f":"'Formet 8'!F33","v":0},null,6774,"NON GAZETTED - REGULAR"]
[8,{"$f":"'Formet 8'!D34","v":"पद रिक्त"},{"$f":"'Formet 8'!G34","v":"TEACHER-III"},{"$f":"'Formet 8'!H34","v":"L-10"},{"$f":"'Formet 8'!I34","v":0},{"$f":"'Formet 8'!E34","v":"-"},{"$f":"'Formet 8'!F34","v":0},null,6774,"NON GAZETTED - REGULAR"]
[9,{"$f":"'Formet 8'!D35","v":"पद रिक्त"},{"$f":"'Formet 8'!G35","v":"PTI  III"},{"$f":"'Formet 8'!H35","v":"L-10"},{"$f":"'Formet 8'!I35","v":0},{"$f":"'Formet 8'!E35","v":"-"},{"$f":"'Formet 8'!F35","v":0},null,6774,"NON GAZETTED - REGULAR"]
[10,{"$f":"'Formet 8'!D36","v":"पद रिक्त"},{"$f":"'Formet 8'!G36","v":"TEACHER-III"},{"$f":"'Formet 8'!H36","v":"L-10"},{"$f":"'Formet 8'!I36","v":0},{"$f":"'Formet 8'!E36","v":"-"},{"$f":"'Formet 8'!F36","v":0},null,6774,"NON GAZETTED - REGULAR"]
[11,{"$f":"'Formet 8'!D37","v":"पद रिक्त"},{"$f":"'Formet 8'!G37","v":"TEACHER-III"},{"$f":"'Formet 8'!H37","v":"L-10"},{"$f":"'Formet 8'!I37","v":0},{"$f":"'Formet 8'!E37","v":"-"},{"$f":"'Formet 8'!F37","v":0},null,6774,"NON GAZETTED - REGULAR"]
[12,{"$f":"'Formet 8'!D38","v":"पद रिक्त"},{"$f":"'Formet 8'!G38","v":"TEACHER-III"},{"$f":"'Formet 8'!H38","v":"L-10"},{"$f":"'Formet 8'!I38","v":0},{"$f":"'Formet 8'!E38","v":"-"},{"$f":"'Formet 8'!F38","v":0},null,6774,"NON GAZETTED - REGULAR"]
[13,{"$f":"'Formet 8'!D39","v":"पद रिक्त"},{"$f":"'Formet 8'!G39","v":"TEACHER-II"},{"$f":"'Formet 8'!H39","v":"L-11"},{"$f":"'Formet 8'!I39","v":0},{"$f":"'Formet 8'!E39","v":"-"},{"$f":"'Formet 8'!F39","v":0},null,6774,"NON GAZETTED - REGULAR"]
[14,{"$f":"'Formet 8'!D40","v":"पद रिक्त"},{"$f":"'Formet 8'!G40","v":"TEACHER-III"},{"$f":"'Formet 8'!H40","v":"L-10"},{"$f":"'Formet 8'!I40","v":0},{"$f":"'Formet 8'!E40","v":"-"},{"$f":"'Formet 8'!F40","v":0},null,6774,"NON GAZETTED - REGULAR"]
[15,{"$f":"'Formet 8'!D41","v":"पद रिक्त"},{"$f":"'Formet 8'!G41","v":"TEACHER-III"},{"$f":"'Formet 8'!H41","v":"L-10"},{"$f":"'Formet 8'!I41","v":0},{"$f":"'Formet 8'!E41","v":"-"},{"$f":"'Formet 8'!F41","v":0},null,6774,"NON GAZETTED - REGULAR"]
[16,{"$f":"'Formet 8'!D42","v":"पद रिक्त"},{"$f":"'Formet 8'!G42","v":"TEACHER-III"},{"$f":"'Formet 8'!H42","v":"L-10"},{"$f":"'Formet 8'!I42","v":0},{"$f":"'Formet 8'!E42","v":"-"},{"$f":"'Formet 8'!F42","v":0},null,6774,"NON GAZETTED - REGULAR"]
[17,{"$f":"'Formet 8'!D43","v":"पद रिक्त"},{"$f":"'Formet 8'!G43","v":"PTI  III"},{"$f":"'Formet 8'!H43","v":"L-10"},{"$f":"'Formet 8'!I43","v":0},{"$f":"'Formet 8'!E43","v":"-"},{"$f":"'Formet 8'!F43","v":0},null,6774,"NON GAZETTED - REGULAR"]
[18,{"$f":"'Formet 8'!D44","v":"पद रिक्त"},{"$f":"'Formet 8'!G44","v":"TEACHER-III"},{"$f":"'Formet 8'!H44","v":"L-10"},{"$f":"'Formet 8'!I44","v":0},{"$f":"'Formet 8'!E44","v":"-"},{"$f":"'Formet 8'!F44","v":0},null,6774,"NON GAZETTED - REGULAR"]
[19,{"$f":"'Formet 8'!D45","v":""},{"$f":"'Formet 8'!G45","v":""},{"$f":"'Formet 8'!H45","v":""},{"$f":"'Formet 8'!I45","v":""},{"$f":"'Formet 8'!E45","v":""},{"$f":"'Formet 8'!F45","v":""},null,"",""]
[20,{"$f":"'Formet 8'!D46","v":""},{"$f":"'Formet 8'!G46","v":""},{"$f":"'Formet 8'!H46","v":""},{"$f":"'Formet 8'!I46","v":""},{"$f":"'Formet 8'!E46","v":""},{"$f":"'Formet 8'!F46","v":""},null,"",""]
[21,{"$f":"'Formet 8'!D47","v":""},{"$f":"'Formet 8'!G47","v":""},{"$f":"'Formet 8'!H47","v":""},{"$f":"'Formet 8'!I47","v":""},{"$f":"'Formet 8'!E47","v":""},{"$f":"'Formet 8'!F47","v":""},null,"",""]
[22,{"$f":"'Formet 8'!D48","v":""},{"$f":"'Formet 8'!G48","v":""},{"$f":"'Formet 8'!H48","v":""},{"$f":"'Formet 8'!I48","v":""},{"$f":"'Formet 8'!E48","v":""},{"$f":"'Formet 8'!F48","v":""},null,"",""]
[23,{"$f":"'Formet 8'!D49","v":""},{"$f":"'Formet 8'!G49","v":""},{"$f":"'Formet 8'!H49","v":""},{"$f":"'Formet 8'!I49","v":""},{"$f":"'Formet 8'!E49","v":""},{"$f":"'Formet 8'!F49","v":""},null,"",""]
[24,{"$f":"'Formet 8'!D50","v":""},{"$f":"'Formet 8'!G50","v":""},{"$f":"'Formet 8'!H50","v":""},{"$f":"'Formet 8'!I50","v":""},{"$f":"'Formet 8'!E50","v":""},{"$f":"'Formet 8'!F50","v":""},null,"",""]
[25,{"$f":"'Formet 8'!D51","v":""},{"$f":"'Formet 8'!G51","v":""},{"$f":"'Formet 8'!H51","v":""},{"$f":"'Formet 8'!I51","v":""},{"$f":"'Formet 8'!E51","v":""},{"$f":"'Formet 8'!F51","v":""},null,"",""]
[26,{"$f":"'Formet 8'!D52","v":""},{"$f":"'Formet 8'!G52","v":""},{"$f":"'Formet 8'!H52","v":""},{"$f":"'Formet 8'!I52","v":""},{"$f":"'Formet 8'!E52","v":""},{"$f":"'Formet 8'!F52","v":""},null,"",""]
[27,{"$f":"'Formet 8'!D53","v":""},{"$f":"'Formet 8'!G53","v":""},{"$f":"'Formet 8'!H53","v":""},{"$f":"'Formet 8'!I53","v":""},{"$f":"'Formet 8'!E53","v":""},{"$f":"'Formet 8'!F53","v":""},null,"",""]
[28,{"$f":"'Formet 8'!D54","v":""},{"$f":"'Formet 8'!G54","v":""},{"$f":"'Formet 8'!H54","v":""},{"$f":"'Formet 8'!I54","v":""},{"$f":"'Formet 8'!E54","v":""},{"$f":"'Formet 8'!F54","v":""},null,"",""]
[29,{"$f":"'Formet 8'!D55","v":""},{"$f":"'Formet 8'!G55","v":""},{"$f":"'Formet 8'!H55","v":""},{"$f":"'Formet 8'!I55","v":""},{"$f":"'Formet 8'!E55","v":""},{"$f":"'Formet 8'!F55","v":""},null,"",""]
[30,{"$f":"'Formet 8'!D56","v":""},{"$f":"'Formet 8'!G56","v":""},{"$f":"'Formet 8'!H56","v":""},{"$f":"'Formet 8'!I56","v":""},{"$f":"'Formet 8'!E56","v":""},{"$f":"'Formet 8'!F56","v":""},null,"",""]
[31,{"$f":"'Formet 8'!D57","v":""},{"$f":"'Formet 8'!G57","v":""},{"$f":"'Formet 8'!H57","v":""},{"$f":"'Formet 8'!I57","v":""},{"$f":"'Formet 8'!E57","v":""},{"$f":"'Formet 8'!F57","v":""},null,"",""]
[32,{"$f":"'Formet 8'!D58","v":""},{"$f":"'Formet 8'!G58","v":""},{"$f":"'Formet 8'!H58","v":""},{"$f":"'Formet 8'!I58","v":""},{"$f":"'Formet 8'!E58","v":""},{"$f":"'Formet 8'!F58","v":""},null,"",""]
[33,{"$f":"'Formet 8'!D59","v":""},{"$f":"'Formet 8'!G59","v":""},{"$f":"'Formet 8'!H59","v":""},{"$f":"'Formet 8'!I59","v":""},{"$f":"'Formet 8'!E59","v":""},{"$f":"'Formet 8'!F59","v":""},null,"",""]
[34,{"$f":"'Formet 8'!D60","v":""},{"$f":"'Formet 8'!G60","v":""},{"$f":"'Formet 8'!H60","v":""},{"$f":"'Formet 8'!I60","v":""},{"$f":"'Formet 8'!E60","v":""},{"$f":"'Formet 8'!F60","v":""},null,"",""]
[35,{"$f":"'Formet 8'!D61","v":""},{"$f":"'Formet 8'!G61","v":""},{"$f":"'Formet 8'!H61","v":""},{"$f":"'Formet 8'!I61","v":""},{"$f":"'Formet 8'!E61","v":""},{"$f":"'Formet 8'!F61","v":""},null,"",""]
[36,{"$f":"'Formet 8'!D62","v":""},{"$f":"'Formet 8'!G62","v":""},{"$f":"'Formet 8'!H62","v":""},{"$f":"'Formet 8'!I62","v":""},{"$f":"'Formet 8'!E62","v":""},{"$f":"'Formet 8'!F62","v":""},null,"",""]
[37,{"$f":"'Formet 8'!D63","v":""},{"$f":"'Formet 8'!G63","v":""},{"$f":"'Formet 8'!H63","v":""},{"$f":"'Formet 8'!I63","v":""},{"$f":"'Formet 8'!E63","v":""},{"$f":"'Formet 8'!F63","v":""},null,"",""]
[38,{"$f":"'Formet 8'!D64","v":""},{"$f":"'Formet 8'!G64","v":""},{"$f":"'Formet 8'!H64","v":""},{"$f":"'Formet 8'!I64","v":""},{"$f":"'Formet 8'!E64","v":""},{"$f":"'Formet 8'!F64","v":""},null,"",""]
[39,{"$f":"'Formet 8'!D65","v":""},{"$f":"'Formet 8'!G65","v":""},{"$f":"'Formet 8'!H65","v":""},{"$f":"'Formet 8'!I65","v":""},{"$f":"'Formet 8'!E65","v":""},{"$f":"'Formet 8'!F65","v":""},null,"",""]
[40,{"$f":"'Formet 8'!D66","v":""},{"$f":"'Formet 8'!G66","v":""},{"$f":"'Formet 8'!H66","v":""},{"$f":"'Formet 8'!I66","v":""},{"$f":"'Formet 8'!E66","v":""},{"$f":"'Formet 8'!F66","v":""},null,"",""]
[41,{"$f":"'Formet 8'!D67","v":""},{"$f":"'Formet 8'!G67","v":""},{"$f":"'Formet 8'!H67","v":""},{"$f":"'Formet 8'!I67","v":""},{"$f":"'Formet 8'!E67","v":""},{"$f":"'Formet 8'!F67","v":""},null,"",""]
[42,{"$f":"'Formet 8'!D68","v":""},{"$f":"'Formet 8'!G68","v":""},{"$f":"'Formet 8'!H68","v":""},{"$f":"'Formet 8'!I68","v":""},{"$f":"'Formet 8'!E68","v":""},{"$f":"'Formet 8'!F68","v":""},null,"",""]
[43,{"$f":"'Formet 8'!D69","v":""},{"$f":"'Formet 8'!G69","v":""},{"$f":"'Formet 8'!H69","v":""},{"$f":"'Formet 8'!I69","v":""},{"$f":"'Formet 8'!E69","v":""},{"$f":"'Formet 8'!F69","v":""},null,"",""]
[44,{"$f":"'Formet 8'!D70","v":""},{"$f":"'Formet 8'!G70","v":""},{"$f":"'Formet 8'!H70","v":""},{"$f":"'Formet 8'!I70","v":""},{"$f":"'Formet 8'!E70","v":""},{"$f":"'Formet 8'!F70","v":""},null,"",""]
[45,{"$f":"'Formet 8'!D71","v":""},{"$f":"'Formet 8'!G71","v":""},{"$f":"'Formet 8'!H71","v":""},{"$f":"'Formet 8'!I71","v":""},{"$f":"'Formet 8'!E71","v":""},{"$f":"'Formet 8'!F71","v":""},null,"",""]
[46,{"$f":"'Formet 8'!D72","v":""},{"$f":"'Formet 8'!G72","v":""},{"$f":"'Formet 8'!H72","v":""},{"$f":"'Formet 8'!I72","v":""},{"$f":"'Formet 8'!E72","v":""},{"$f":"'Formet 8'!F72","v":""},null,"",""]
[47,{"$f":"'Formet 8'!D73","v":""},{"$f":"'Formet 8'!G73","v":""},{"$f":"'Formet 8'!H73","v":""},{"$f":"'Formet 8'!I73","v":""},{"$f":"'Formet 8'!E73","v":""},{"$f":"'Formet 8'!F73","v":""},null,"",""]
[48,{"$f":"'Formet 8'!D74","v":""},{"$f":"'Formet 8'!G74","v":""},{"$f":"'Formet 8'!H74","v":""},{"$f":"'Formet 8'!I74","v":""},{"$f":"'Formet 8'!E74","v":""},{"$f":"'Formet 8'!F74","v":""},null,"",""]
[49,{"$f":"'Formet 8'!D75","v":""},{"$f":"'Formet 8'!G75","v":""},{"$f":"'Formet 8'!H75","v":""},{"$f":"'Formet 8'!I75","v":""},{"$f":"'Formet 8'!E75","v":""},{"$f":"'Formet 8'!F75","v":""},null,"",""]
[50,{"$f":"'Formet 8'!D76","v":""},{"$f":"'Formet 8'!G76","v":""},{"$f":"'Formet 8'!H76","v":""},{"$f":"'Formet 8'!I76","v":""},{"$f":"'Formet 8'!E76","v":""},{"$f":"'Formet 8'!F76","v":""},null,"",""]
[51,{"$f":"'Formet 8'!D77","v":""},{"$f":"'Formet 8'!G77","v":""},{"$f":"'Formet 8'!H77","v":""},{"$f":"'Formet 8'!I77","v":""},{"$f":"'Formet 8'!E77","v":""},{"$f":"'Formet 8'!F77","v":""},null,"",""]
[52,{"$f":"'Formet 8'!D78","v":""},{"$f":"'Formet 8'!G78","v":""},{"$f":"'Formet 8'!H78","v":""},{"$f":"'Formet 8'!I78","v":""},{"$f":"'Formet 8'!E78","v":""},{"$f":"'Formet 8'!F78","v":""},null,"",""]
[53,{"$f":"'Formet 8'!D79","v":""},{"$f":"'Formet 8'!G79","v":""},{"$f":"'Formet 8'!H79","v":""},{"$f":"'Formet 8'!I79","v":""},{"$f":"'Formet 8'!E79","v":""},{"$f":"'Formet 8'!F79","v":""},null,"",""]
[54,{"$f":"'Formet 8'!D80","v":""},{"$f":"'Formet 8'!G80","v":""},{"$f":"'Formet 8'!H80","v":""},{"$f":"'Formet 8'!I80","v":""},{"$f":"'Formet 8'!E80","v":""},{"$f":"'Formet 8'!F80","v":""},null,"",""]
[55,{"$f":"'Formet 8'!D81","v":""},{"$f":"'Formet 8'!G81","v":""},{"$f":"'Formet 8'!H81","v":""},{"$f":"'Formet 8'!I81","v":""},{"$f":"'Formet 8'!E81","v":""},{"$f":"'Formet 8'!F81","v":""},null,"",""]
[56,{"$f":"'Formet 8'!D82","v":""},{"$f":"'Formet 8'!G82","v":""},{"$f":"'Formet 8'!H82","v":""},{"$f":"'Formet 8'!I82","v":""},{"$f":"'Formet 8'!E82","v":""},{"$f":"'Formet 8'!F82","v":""},null,"",""]
[57,{"$f":"'Formet 8'!D83","v":""},{"$f":"'Formet 8'!G83","v":""},{"$f":"'Formet 8'!H83","v":""},{"$f":"'Formet 8'!I83","v":""},{"$f":"'Formet 8'!E83","v":""},{"$f":"'Formet 8'!F83","v":""},null,"",""]
[58,{"$f":"'Formet 8'!D84","v":""},{"$f":"'Formet 8'!G84","v":""},{"$f":"'Formet 8'!H84","v":""},{"$f":"'Formet 8'!I84","v":""},{"$f":"'Formet 8'!E84","v":""},{"$f":"'Formet 8'!F84","v":""},null,"",""]
[59,{"$f":"'Formet 8'!D85","v":""},{"$f":"'Formet 8'!G85","v":""},{"$f":"'Formet 8'!H85","v":""},{"$f":"'Formet 8'!I85","v":""},{"$f":"'Formet 8'!E85","v":""},{"$f":"'Formet 8'!F85","v":""},null,"",""]
[60,{"$f":"'Formet 8'!D86","v":""},{"$f":"'Formet 8'!G86","v":""},{"$f":"'Formet 8'!H86","v":""},{"$f":"'Formet 8'!I86","v":""},{"$f":"'Formet 8'!E86","v":""},{"$f":"'Formet 8'!F86","v":""},null,"",""]
[61,{"$f":"'Formet 8'!D87","v":""},{"$f":"'Formet 8'!G87","v":""},{"$f":"'Formet 8'!H87","v":""},{"$f":"'Formet 8'!I87","v":""},{"$f":"'Formet 8'!E87","v":""},{"$f":"'Formet 8'!F87","v":""},null,"",""]
[62,{"$f":"'Formet 8'!D88","v":""},{"$f":"'Formet 8'!G88","v":""},{"$f":"'Formet 8'!H88","v":""},{"$f":"'Formet 8'!I88","v":""},{"$f":"'Formet 8'!E88","v":""},{"$f":"'Formet 8'!F88","v":""},null,"",""]
[63,{"$f":"'Formet 8'!D89","v":""},{"$f":"'Formet 8'!G89","v":""},{"$f":"'Formet 8'!H89","v":""},{"$f":"'Formet 8'!I89","v":""},{"$f":"'Formet 8'!E89","v":""},{"$f":"'Formet 8'!F89","v":""},null,"",""]
[64,{"$f":"'Formet 8'!D90","v":""},{"$f":"'Formet 8'!G90","v":""},{"$f":"'Formet 8'!H90","v":""},{"$f":"'Formet 8'!I90","v":""},{"$f":"'Formet 8'!E90","v":""},{"$f":"'Formet 8'!F90","v":""},null,"",""]
[65,{"$f":"'Formet 8'!D91","v":""},{"$f":"'Formet 8'!G91","v":""},{"$f":"'Formet 8'!H91","v":""},{"$f":"'Formet 8'!I91","v":""},{"$f":"'Formet 8'!E91","v":""},{"$f":"'Formet 8'!F91","v":""},null,"",""]
[66,{"$f":"'Formet 8'!D92","v":""},{"$f":"'Formet 8'!G92","v":""},{"$f":"'Formet 8'!H92","v":""},{"$f":"'Formet 8'!I92","v":""},{"$f":"'Formet 8'!E92","v":""},{"$f":"'Formet 8'!F92","v":""},null,{"$f":"IF(B73=\"\",\"\",6774)","v":""},{"$f":"IF(B73=\"\",\"\",\"NON GAZETTED - REGULAR\")","v":""}]
[67,{"$f":"'Formet 8'!D93","v":""},{"$f":"'Formet 8'!G93","v":""},{"$f":"'Formet 8'!H93","v":""},{"$f":"'Formet 8'!I93","v":""},{"$f":"'Formet 8'!E93","v":""},{"$f":"'Formet 8'!F93","v":""},null,"",""]
[68,{"$f":"'Formet 8'!D94","v":""},{"$f":"'Formet 8'!G94","v":""},{"$f":"'Formet 8'!H94","v":""},{"$f":"'Formet 8'!I94","v":""},{"$f":"'Formet 8'!E94","v":""},{"$f":"'Formet 8'!F94","v":""},null,"",""]
[69,{"$f":"'Formet 8'!D95","v":""},{"$f":"'Formet 8'!G95","v":""},{"$f":"'Formet 8'!H95","v":""},{"$f":"'Formet 8'!I95","v":""},{"$f":"'Formet 8'!E95","v":""},{"$f":"'Formet 8'!F95","v":""},null,"",""]
[70,{"$f":"'Formet 8'!D96","v":""},{"$f":"'Formet 8'!G96","v":""},{"$f":"'Formet 8'!H96","v":""},{"$f":"'Formet 8'!I96","v":""},{"$f":"'Formet 8'!E96","v":""},{"$f":"'Formet 8'!F96","v":""},null,"",""]
[71,{"$f":"'Formet 8'!D97","v":""},{"$f":"'Formet 8'!G97","v":""},{"$f":"'Formet 8'!H97","v":""},{"$f":"'Formet 8'!I97","v":""},{"$f":"'Formet 8'!E97","v":""},{"$f":"'Formet 8'!F97","v":""},null,"",""]
[72,{"$f":"'Formet 8'!D98","v":""},{"$f":"'Formet 8'!G98","v":""},{"$f":"'Formet 8'!H98","v":""},{"$f":"'Formet 8'!I98","v":""},{"$f":"'Formet 8'!E98","v":""},{"$f":"'Formet 8'!F98","v":""},null,"",""]
[73,{"$f":"'Formet 8'!D99","v":""},{"$f":"'Formet 8'!G99","v":""},{"$f":"'Formet 8'!H99","v":""},{"$f":"'Formet 8'!I99","v":""},{"$f":"'Formet 8'!E99","v":""},{"$f":"'Formet 8'!F99","v":""},null,"",""]
[74,{"$f":"'Formet 8'!D100","v":""},{"$f":"'Formet 8'!G100","v":""},{"$f":"'Formet 8'!H100","v":""},{"$f":"'Formet 8'!I100","v":""},{"$f":"'Formet 8'!E100","v":""},{"$f":"'Formet 8'!F100","v":""},null,"",""]
[75,{"$f":"'Formet 8'!D101","v":""},{"$f":"'Formet 8'!G101","v":""},{"$f":"'Formet 8'!H101","v":""},{"$f":"'Formet 8'!I101","v":""},{"$f":"'Formet 8'!E101","v":""},{"$f":"'Formet 8'!F101","v":""},null,"",""]
[76,{"$f":"'Formet 8'!D102","v":""},{"$f":"'Formet 8'!G102","v":""},{"$f":"'Formet 8'!H102","v":""},{"$f":"'Formet 8'!I102","v":""},{"$f":"'Formet 8'!E102","v":""},{"$f":"'Formet 8'!F102","v":""},null,"",""]
[77,{"$f":"'Formet 8'!D103","v":""},{"$f":"'Formet 8'!G103","v":""},{"$f":"'Formet 8'!H103","v":""},{"$f":"'Formet 8'!I103","v":""},{"$f":"'Formet 8'!E103","v":""},{"$f":"'Formet 8'!F103","v":""},null,"",""]
[78,{"$f":"'Formet 8'!D104","v":""},{"$f":"'Formet 8'!G104","v":""},{"$f":"'Formet 8'!H104","v":""},{"$f":"'Formet 8'!I104","v":""},{"$f":"'Formet 8'!E104","v":""},{"$f":"'Formet 8'!F104","v":""},null,"",""]
[79,{"$f":"'Formet 8'!D105","v":""},{"$f":"'Formet 8'!G105","v":""},{"$f":"'Formet 8'!H105","v":""},{"$f":"'Formet 8'!I105","v":""},{"$f":"'Formet 8'!E105","v":""},{"$f":"'Formet 8'!F105","v":""},null,"",""]
[80,{"$f":"'Formet 8'!D106","v":""},{"$f":"'Formet 8'!G106","v":""},{"$f":"'Formet 8'!H106","v":""},{"$f":"'Formet 8'!I106","v":""},{"$f":"'Formet 8'!E106","v":""},{"$f":"'Formet 8'!F106","v":""},null,"",""]
[81,{"$f":"'Formet 8'!D107","v":""},{"$f":"'Formet 8'!G107","v":""},{"$f":"'Formet 8'!H107","v":""},{"$f":"'Formet 8'!I107","v":""},{"$f":"'Formet 8'!E107","v":""},{"$f":"'Formet 8'!F107","v":""},null,"",""]
[82,{"$f":"'Formet 8'!D108","v":""},{"$f":"'Formet 8'!G108","v":""},{"$f":"'Formet 8'!H108","v":""},{"$f":"'Formet 8'!I108","v":""},{"$f":"'Formet 8'!E108","v":""},{"$f":"'Formet 8'!F108","v":""},null,"",""]
[83,{"$f":"'Formet 8'!D109","v":""},{"$f":"'Formet 8'!G109","v":""},{"$f":"'Formet 8'!H109","v":""},{"$f":"'Formet 8'!I109","v":""},{"$f":"'Formet 8'!E109","v":""},{"$f":"'Formet 8'!F109","v":""},null,"",""]
[84,{"$f":"'Formet 8'!D110","v":""},{"$f":"'Formet 8'!G110","v":""},{"$f":"'Formet 8'!H110","v":""},{"$f":"'Formet 8'!I110","v":""},{"$f":"'Formet 8'!E110","v":""},{"$f":"'Formet 8'!F110","v":""},null,"",""]
[85,{"$f":"'Formet 8'!D111","v":""},{"$f":"'Formet 8'!G111","v":""},{"$f":"'Formet 8'!H111","v":""},{"$f":"'Formet 8'!I111","v":""},{"$f":"'Formet 8'!E111","v":""},{"$f":"'Formet 8'!F111","v":""},null,"",""]
[86,{"$f":"'Formet 8'!D112","v":""},{"$f":"'Formet 8'!G112","v":""},{"$f":"'Formet 8'!H112","v":""},{"$f":"'Formet 8'!I112","v":""},{"$f":"'Formet 8'!E112","v":""},{"$f":"'Formet 8'!F112","v":""},null,"",""]
[87,{"$f":"'Formet 8'!D113","v":""},{"$f":"'Formet 8'!G113","v":""},{"$f":"'Formet 8'!H113","v":""},{"$f":"'Formet 8'!I113","v":""},{"$f":"'Formet 8'!E113","v":""},{"$f":"'Formet 8'!F113","v":""},null,"",""]
[88,{"$f":"'Formet 8'!D114","v":""},{"$f":"'Formet 8'!G114","v":""},{"$f":"'Formet 8'!H114","v":""},{"$f":"'Formet 8'!I114","v":""},{"$f":"'Formet 8'!E114","v":""},{"$f":"'Formet 8'!F114","v":""},null,"",""]
[89,{"$f":"'Formet 8'!D115","v":""},{"$f":"'Formet 8'!G115","v":""},{"$f":"'Formet 8'!H115","v":""},{"$f":"'Formet 8'!I115","v":""},{"$f":"'Formet 8'!E115","v":""},{"$f":"'Formet 8'!F115","v":""},null,"",""]
[90,{"$f":"'Formet 8'!D116","v":""},{"$f":"'Formet 8'!G116","v":""},{"$f":"'Formet 8'!H116","v":""},{"$f":"'Formet 8'!I116","v":""},{"$f":"'Formet 8'!E116","v":""},{"$f":"'Formet 8'!F116","v":""},null,"",""]
[91,{"$f":"'Formet 8'!D117","v":""},{"$f":"'Formet 8'!G117","v":""},{"$f":"'Formet 8'!H117","v":""},{"$f":"'Formet 8'!I117","v":""},{"$f":"'Formet 8'!E117","v":""},{"$f":"'Formet 8'!F117","v":""},null,"",""]
[92,{"$f":"'Formet 8'!D118","v":""},{"$f":"'Formet 8'!G118","v":""},{"$f":"'Formet 8'!H118","v":""},{"$f":"'Formet 8'!I118","v":""},{"$f":"'Formet 8'!E118","v":""},{"$f":"'Formet 8'!F118","v":""},null,"",""]
[93,{"$f":"'Formet 8'!D119","v":""},{"$f":"'Formet 8'!G119","v":""},{"$f":"'Formet 8'!H119","v":""},{"$f":"'Formet 8'!I119","v":""},{"$f":"'Formet 8'!E119","v":""},{"$f":"'Formet 8'!F119","v":""},null,"",""]
[94,{"$f":"'Formet 8'!D120","v":""},{"$f":"'Formet 8'!G120","v":""},{"$f":"'Formet 8'!H120","v":""},{"$f":"'Formet 8'!I120","v":""},{"$f":"'Formet 8'!E120","v":""},{"$f":"'Formet 8'!F120","v":""},null,"",""]
[95,{"$f":"'Formet 8'!D121","v":""},{"$f":"'Formet 8'!G121","v":""},{"$f":"'Formet 8'!H121","v":""},{"$f":"'Formet 8'!I121","v":""},{"$f":"'Formet 8'!E121","v":""},{"$f":"'Formet 8'!F121","v":""},null,"",""]
[96,{"$f":"'Formet 8'!D122","v":""},{"$f":"'Formet 8'!G122","v":""},{"$f":"'Formet 8'!H122","v":""},{"$f":"'Formet 8'!I122","v":""},{"$f":"'Formet 8'!E122","v":""},{"$f":"'Formet 8'!F122","v":""},null,"",""]
[97,{"$f":"'Formet 8'!D123","v":""},{"$f":"'Formet 8'!G123","v":""},{"$f":"'Formet 8'!H123","v":""},{"$f":"'Formet 8'!I123","v":""},{"$f":"'Formet 8'!E123","v":""},{"$f":"'Formet 8'!F123","v":""},null,"",""]
[98,{"$f":"'Formet 8'!D124","v":""},{"$f":"'Formet 8'!G124","v":""},{"$f":"'Formet 8'!H124","v":""},{"$f":"'Formet 8'!I124","v":""},{"$f":"'Formet 8'!E124","v":""},{"$f":"'Formet 8'!F124","v":""},null,"",""]
[99,{"$f":"'Formet 8'!D125","v":""},{"$f":"'Formet 8'!G125","v":""},{"$f":"'Formet 8'!H125","v":""},{"$f":"'Formet 8'!I125","v":""},{"$f":"'Formet 8'!E125","v":""},{"$f":"'Formet 8'!F125","v":""},null,"",""]
[100,{"$f":"'Formet 8'!D126","v":""},{"$f":"'Formet 8'!G126","v":""},{"$f":"'Formet 8'!H126","v":""},{"$f":"'Formet 8'!I126","v":""},{"$f":"'Formet 8'!E126","v":""},{"$f":"'Formet 8'!F126","v":""},null,"",""]
[101,{"$f":"'Formet 8'!D127","v":""},{"$f":"'Formet 8'!G127","v":""},{"$f":"'Formet 8'!H127","v":""},{"$f":"'Formet 8'!I127","v":""},{"$f":"'Formet 8'!E127","v":""},{"$f":"'Formet 8'!F127","v":""},null,"",""]
[102,{"$f":"'Formet 8'!D128","v":""},{"$f":"'Formet 8'!G128","v":""},{"$f":"'Formet 8'!H128","v":""},{"$f":"'Formet 8'!I128","v":""},{"$f":"'Formet 8'!E128","v":""},{"$f":"'Formet 8'!F128","v":""},null,"",""]
[103,{"$f":"'Formet 8'!D129","v":""},{"$f":"'Formet 8'!G129","v":""},{"$f":"'Formet 8'!H129","v":""},{"$f":"'Formet 8'!I129","v":""},{"$f":"'Formet 8'!E129","v":""},{"$f":"'Formet 8'!F129","v":""},null,"",""]
[104,{"$f":"'Formet 8'!D130","v":""},{"$f":"'Formet 8'!G130","v":""},{"$f":"'Formet 8'!H130","v":""},{"$f":"'Formet 8'!I130","v":""},{"$f":"'Formet 8'!E130","v":""},{"$f":"'Formet 8'!F130","v":""},null,"",""]
[105,{"$f":"'Formet 8'!D131","v":""},{"$f":"'Formet 8'!G131","v":""},{"$f":"'Formet 8'!H131","v":""},{"$f":"'Formet 8'!I131","v":""},{"$f":"'Formet 8'!E131","v":""},{"$f":"'Formet 8'!F131","v":""},null,"",""]
[106,{"$f":"'Formet 8'!D132","v":""},{"$f":"'Formet 8'!G132","v":""},{"$f":"'Formet 8'!H132","v":""},{"$f":"'Formet 8'!I132","v":""},{"$f":"'Formet 8'!E132","v":""},{"$f":"'Formet 8'!F132","v":""},null,"",""]
[107,{"$f":"'Formet 8'!D133","v":""},{"$f":"'Formet 8'!G133","v":""},{"$f":"'Formet 8'!H133","v":""},{"$f":"'Formet 8'!I133","v":""},{"$f":"'Formet 8'!E133","v":""},{"$f":"'Formet 8'!F133","v":""},null,"",""]
[108,{"$f":"'Formet 8'!D134","v":""},{"$f":"'Formet 8'!G134","v":""},{"$f":"'Formet 8'!H134","v":""},{"$f":"'Formet 8'!I134","v":""},{"$f":"'Formet 8'!E134","v":""},{"$f":"'Formet 8'!F134","v":""},null,"",""]
[109,{"$f":"'Formet 8'!D135","v":""},{"$f":"'Formet 8'!G135","v":""},{"$f":"'Formet 8'!H135","v":""},{"$f":"'Formet 8'!I135","v":""},{"$f":"'Formet 8'!E135","v":""},{"$f":"'Formet 8'!F135","v":""},null,"",""]
[110,{"$f":"'Formet 8'!D136","v":""},{"$f":"'Formet 8'!G136","v":""},{"$f":"'Formet 8'!H136","v":""},{"$f":"'Formet 8'!I136","v":""},{"$f":"'Formet 8'!E136","v":""},{"$f":"'Formet 8'!F136","v":""},null,"",""]
[111,{"$f":"'Formet 8'!D137","v":""},{"$f":"'Formet 8'!G137","v":""},{"$f":"'Formet 8'!H137","v":""},{"$f":"'Formet 8'!I137","v":""},{"$f":"'Formet 8'!E137","v":""},{"$f":"'Formet 8'!F137","v":""},null,"",""]
[112,{"$f":"'Formet 8'!D138","v":""},{"$f":"'Formet 8'!G138","v":""},{"$f":"'Formet 8'!H138","v":""},{"$f":"'Formet 8'!I138","v":""},{"$f":"'Formet 8'!E138","v":""},{"$f":"'Formet 8'!F138","v":""},null,"",""]
[113,{"$f":"'Formet 8'!D139","v":""},{"$f":"'Formet 8'!G139","v":""},{"$f":"'Formet 8'!H139","v":""},{"$f":"'Formet 8'!I139","v":""},{"$f":"'Formet 8'!E139","v":""},{"$f":"'Formet 8'!F139","v":""},null,"",""]
[114,{"$f":"'Formet 8'!D140","v":""},{"$f":"'Formet 8'!G140","v":""},{"$f":"'Formet 8'!H140","v":""},{"$f":"'Formet 8'!I140","v":""},{"$f":"'Formet 8'!E140","v":""},{"$f":"'Formet 8'!F140","v":""},null,"",""]
[115,{"$f":"'Formet 8'!D141","v":""},{"$f":"'Formet 8'!G141","v":""},{"$f":"'Formet 8'!H141","v":""},{"$f":"'Formet 8'!I141","v":""},{"$f":"'Formet 8'!E141","v":""},{"$f":"'Formet 8'!F141","v":""},null,"",""]
[116,{"$f":"'Formet 8'!D142","v":""},{"$f":"'Formet 8'!G142","v":""},{"$f":"'Formet 8'!H142","v":""},{"$f":"'Formet 8'!I142","v":""},{"$f":"'Formet 8'!E142","v":""},{"$f":"'Formet 8'!F142","v":""},null,"",""]
[117,{"$f":"'Formet 8'!D143","v":""},{"$f":"'Formet 8'!G143","v":""},{"$f":"'Formet 8'!H143","v":""},{"$f":"'Formet 8'!I143","v":""},{"$f":"'Formet 8'!E143","v":""},{"$f":"'Formet 8'!F143","v":""},null,"",""]
[118,{"$f":"'Formet 8'!D144","v":""},{"$f":"'Formet 8'!G144","v":""},{"$f":"'Formet 8'!H144","v":""},{"$f":"'Formet 8'!I144","v":""},{"$f":"'Formet 8'!E144","v":""},{"$f":"'Formet 8'!F144","v":""},null,"",""]
[119,{"$f":"'Formet 8'!D145","v":""},{"$f":"'Formet 8'!G145","v":""},{"$f":"'Formet 8'!H145","v":""},{"$f":"'Formet 8'!I145","v":""},{"$f":"'Formet 8'!E145","v":""},{"$f":"'Formet 8'!F145","v":""},null,"",""]
[120,{"$f":"'Formet 8'!D146","v":""},{"$f":"'Formet 8'!G146","v":""},{"$f":"'Formet 8'!H146","v":""},{"$f":"'Formet 8'!I146","v":""},{"$f":"'Formet 8'!E146","v":""},{"$f":"'Formet 8'!F146","v":""},null,"",""]
[121,{"$f":"'Formet 8'!D147","v":""},{"$f":"'Formet 8'!G147","v":""},{"$f":"'Formet 8'!H147","v":""},{"$f":"'Formet 8'!I147","v":""},{"$f":"'Formet 8'!E147","v":""},{"$f":"'Formet 8'!F147","v":""},null,"",""]
[122,{"$f":"'Formet 8'!D148","v":""},{"$f":"'Formet 8'!G148","v":""},{"$f":"'Formet 8'!H148","v":""},{"$f":"'Formet 8'!I148","v":""},{"$f":"'Formet 8'!E148","v":""},{"$f":"'Formet 8'!F148","v":""},null,"",""]
[123,{"$f":"'Formet 8'!D149","v":""},{"$f":"'Formet 8'!G149","v":""},{"$f":"'Formet 8'!H149","v":""},{"$f":"'Formet 8'!I149","v":""},{"$f":"'Formet 8'!E149","v":""},{"$f":"'Formet 8'!F149","v":""},null,"",""]
[124,{"$f":"'Formet 8'!D150","v":""},{"$f":"'Formet 8'!G150","v":""},{"$f":"'Formet 8'!H150","v":""},{"$f":"'Formet 8'!I150","v":""},{"$f":"'Formet 8'!E150","v":""},{"$f":"'Formet 8'!F150","v":""},null,"",""]
[125,{"$f":"'Formet 8'!D151","v":""},{"$f":"'Formet 8'!G151","v":""},{"$f":"'Formet 8'!H151","v":""},{"$f":"'Formet 8'!I151","v":""},{"$f":"'Formet 8'!E151","v":""},{"$f":"'Formet 8'!F151","v":""},null,"",""]
[126,{"$f":"'Formet 8'!D152","v":""},{"$f":"'Formet 8'!G152","v":""},{"$f":"'Formet 8'!H152","v":""},{"$f":"'Formet 8'!I152","v":""},{"$f":"'Formet 8'!E152","v":""},{"$f":"'Formet 8'!F152","v":""},null,"",""]
[127,{"$f":"'Formet 8'!D153","v":""},{"$f":"'Formet 8'!G153","v":""},{"$f":"'Formet 8'!H153","v":""},{"$f":"'Formet 8'!I153","v":""},{"$f":"'Formet 8'!E153","v":""},{"$f":"'Formet 8'!F153","v":""},null,"",""]
[128,{"$f":"'Formet 8'!D154","v":""},{"$f":"'Formet 8'!G154","v":""},{"$f":"'Formet 8'!H154","v":""},{"$f":"'Formet 8'!I154","v":""},{"$f":"'Formet 8'!E154","v":""},{"$f":"'Formet 8'!F154","v":""},null,"",""]
[129,{"$f":"'Formet 8'!D155","v":""},{"$f":"'Formet 8'!G155","v":""},{"$f":"'Formet 8'!H155","v":""},{"$f":"'Formet 8'!I155","v":""},{"$f":"'Formet 8'!E155","v":""},{"$f":"'Formet 8'!F155","v":""},null,"",""]
[130,{"$f":"'Formet 8'!D156","v":""},{"$f":"'Formet 8'!G156","v":""},{"$f":"'Formet 8'!H156","v":""},{"$f":"'Formet 8'!I156","v":""},{"$f":"'Formet 8'!E156","v":""},{"$f":"'Formet 8'!F156","v":""},null,{"$f":"IF(B137=\"\",\"\",6774)","v":""},{"$f":"IF(B137=\"\",\"\",\"NON GAZETTED - REGULAR\")","v":""}]
[131,{"$f":"'Formet 8'!D157","v":""},{"$f":"'Formet 8'!G157","v":""},{"$f":"'Formet 8'!H157","v":""},{"$f":"'Formet 8'!I157","v":""},{"$f":"'Formet 8'!E157","v":""},{"$f":"'Formet 8'!F157","v":""},null,"",""]
[132,{"$f":"'Formet 8'!D158","v":""},{"$f":"'Formet 8'!G158","v":""},{"$f":"'Formet 8'!H158","v":""},{"$f":"'Formet 8'!I158","v":""},{"$f":"'Formet 8'!E158","v":""},{"$f":"'Formet 8'!F158","v":""},null,"",""]
[133,{"$nulls":7},"",""]
[134,{"$nulls":7},"",""]
[135,{"$nulls":7},"",""]
[136,{"$nulls":7},"",""]
[137,{"$nulls":7},"",""]
[138,{"$nulls":7},"",""]
[139,{"$nulls":7},"",""]
[140,{"$nulls":7},"",""]
[141,{"$nulls":7},"",""]
[142,{"$nulls":7},"",""]
[143,{"$nulls":7},"",""]
[144,{"$nulls":7},"",""]
["Total Amount (Rs.)=",{"$nulls":7},{"$f":"SUM(I8:I151)","v":121932}]
[{"$nulls":7},{"$f":"sharansh!B2","v":"ç/kkukpk;Z] jkmekfo jk;eyok³k ¼vkWfQl vkbZ-Mh- la[;k %&12345½"}]