{"text_format":"3","workbook":"xlsx","n_sheets":7,"sheets":["Help","Master","Result Entry","Result Sheet","Statics","Mark Sheet 1x1","Mark Sheet 1x2"],"not_rendered":{"images":3,"defined_names":2},"read":"whole","date_system":"1900"}

{"sheet":"Help","index":0,"n_rows":10,"n_cols":3,"rows_kept":10,"merged":[[0,0,0,3],[1,0,9,0],[1,1,1,2],[1,3,9,3],[2,1,2,2],[3,1,3,2],[4,1,4,2],[5,1,5,2],[9,1,9,2],[10,0,10,3]]}
[]
[null,"For Help"]
[null,"For Help watch the video o my Youtube Channel"]
[null,"https://youtu.be/QWmVZqxh1yE"]
[null,"OR search the youtube channel \"Learn with ummed tarad\""]
[null,"For my latest and updated usefull program visit links given bellow"]
[null,"https://rajteachers.net/ummed-tarad-excel-software","https://rajsevak.com/ummed-tarad-excel-software/"]
[null,"https://shalaweb.com/ummed-tarad/","https://studywithrsm.com/ummed-tarad-excel-programmer-teacher/"]
[null,"https://www.ashwinisharma.com/p/ummed-tarad-excel-programs.html","https://shalasugam.com/mr-ummed-tarad-excel-software/"]
[null,"नोट:-हालाँकि यह प्रोग्राम पूर्णतया सावधानी के साथ बनाया गया है फिर भी किसी त्रुटि की स्थिति में आपके विवेक के साथ विभागीय नियम ही अंतिम रूप से मान्य होंगे, इसे अंतिम रूप देने से पहले अच्छी तरह से अवश्य जाँच लेवें"]

{"sheet":"Master","index":1,"n_rows":21,"n_cols":28,"rows_kept":21,"merged":[[0,0,0,22],[1,1,1,4],[1,5,1,8],[1,9,1,16],[1,17,17,17],[1,18,10,19],[1,20,10,21],[1,22,17,22],[2,0,19,0],[2,1,2,16],[3,1,3,16],[4,1,4,8],[4,9,17,9],[4,10,4,11],[4,12,19,12],[4,13,4,16],[5,1,5,2],[5,4,5,8],[6,1,6,8],[7,1,8,2],[7,3,8,3],[7,4,8,8],[9,1,9,8],[10,1,11,2],[10,3,11,3],[10,4,11,8],[11,18,11,21],[12,1,12,8],[12,18,13,21],[13,1,13,2],[13,4,13,8],[14,1,14,8],[14,18,14,21],[15,1,15,2],[15,4,15,8],[15,18,16,21],[16,1,16,8],[17,1,17,2],[17,4,17,8],[17,18,19,21],[18,1,18,8],[19,1,19,2],[19,4,19,8],[20,0,20,22]]}
[]
[null,"t; fgUn",{"$nulls":3},"oUns ekrje~",{"$nulls":3},"t; fgUn"]
[]
[null,"RESULT PREPARATION PROGRAM",{"$nulls":24},"2019-20","PRIMARY"]
[{"$nulls":10},"Subject Detail",null,null,"Staff Detail",{"$nulls":12},"2019-21","UPPER PRIMARY"]
[null,"SESSION",null,":-","2022-23",{"$nulls":5},"Sr. No.","Subject's Name",null,"Sr. No.","Name","Sr. No.","Name",{"$nulls":9},"2019-22","SECONDARY"]
[{"$nulls":10},{"$f":"IF(L7>1,1,0)","v":1},"Hindi",null,{"$f":"IF(O7>1,1,0)","v":1},"A",{"$f":"IF(Q7>1,N18+1,0)","v":0},{"$nulls":10},"2019-21","UPPER PRIMARY"]
[null,"SCHOOL'S FULL NAME",null,":-","Govt.Sr.Sec.Sch. ",{"$nulls":5},{"$f":"IF(L8>1,K7+1,0)","v":2},"English",null,{"$f":"IF(O8>1,N7+1,0)","v":2},"B",{"$f":"IF(Q8>1,P7+1,0)","v":0}]
[{"$nulls":10},{"$f":"IF(L9>1,K8+1,0)","v":3},"Mathematics",null,{"$f":"IF(O9>1,N8+1,0)","v":3},"C",{"$f":"IF(Q9>1,P8+1,0)","v":0},{"$nulls":10},"2019-22","SECONDARY"]
[{"$nulls":10},{"$f":"IF(L10>1,K9+1,0)","v":4},"Env. Study",null,{"$f":"IF(O10>1,N9+1,0)","v":4},"D",0,{"$nulls":10},"2019-23","SR. SECONDARY"]
[null,"ADDRESS",null,":-","P.S.-Bapini (Jodhpur)",{"$nulls":5},{"$f":"IF(L11>1,K10+1,0)","v":5},"ART EDU.",null,{"$f":"IF(O11>1,N10+1,0)","v":5},"E",0]
[{"$nulls":10},{"$f":"IF(L12>1,K11+1,0)","v":6},"H&P. EDU.",null,{"$f":"IF(O12>1,N11+1,0)","v":0},null,0,null,null,"CREATOR:-",{"$nulls":7},"2019-24"]
[{"$nulls":10},{"$f":"IF(L13>1,K12+1,0)","v":7},"WORK EXP.",null,0,null,0,null,null,"UMMED TARAD",{"$nulls":7},"2019-23","SR. SECONDARY"]
[null,"U-DISE CODE",null,":-",{"v":810000000,"d":"0810000000"},{"$nulls":5},0,null,null,0,null,0,{"$nulls":10},"2019-24"]
[{"$nulls":10},0,null,null,0,null,0,null,null,"(GSSS RAIMALWADA)",{"$nulls":7},"2019-25"]
[null,"NAME OF PRINCIPAL",null,":-",{"$nulls":6},0,null,null,0,null,0,null,null,"MOBILE NO.-9166973141",{"$nulls":7},"2019-26"]
[{"$nulls":10},0,null,null,0,null,0,{"$nulls":10},"2019-25"]
[null,"SCHOOL TYPE",null,":-","Sr. Secondary",{"$nulls":5},{"$f":"IF(L18>1,K17+1,0)","v":0},null,null,{"$f":"IF(O18>1,N17+1,0)","v":0},null,{"$f":"IF(Q18>1,P17+1,0)","v":0},null,null,"EMAIL ID-ummedtrdedu@gmail.com",{"$nulls":7},"2019-26"]
[{"$nulls":10},0,null,null,0,null,0]
[null,"Result Date",null,":-","2023-05-24",{"$nulls":5},0,null,null,0,null,0]
["Update on:-01-04-2023",{"$nulls":25},"2019-27"]

{"sheet":"Result Entry","index":2,"n_rows":138,"n_cols":128,"rows_kept":138,"merged":[[0,1,1,9],[0,10,0,23],[0,24,0,37],[0,38,0,51],[0,52,0,65],[0,66,0,108],[0,109,107,110],[1,10,1,17],[1,19,1,23],[1,24,1,108],[2,1,2,4],[2,5,2,6],[2,8,2,9],[2,10,2,23],[2,24,2,37],[2,38,2,51],[2,52,2,65],[2,66,2,73],[2,74,2,81],[2,82,2,89],[2,90,2,97],[2,98,2,100],[2,101,2,107],[2,108,6,108],[3,1,3,4],[3,5,3,6],[3,8,3,9],[3,10,3,23],[3,24,3,37],[3,38,3,51],[3,52,3,65],[3,66,3,73],[3,74,3,81],[3,82,3,89],[3,90,3,97],[3,98,6,98],[3,99,6,99],[3,100,6,100],[3,101,6,101],[3,102,6,102],[3,103,6,103],[3,104,6,104],[3,105,6,105],[3,107,6,107],[4,1,4,9],[4,10,4,12],[4,13,4,16],[4,17,4,19],[4,21,5,21],[4,22,6,22],[4,24,4,26],[4,27,4,30],[4,31,4,33],[4,35,5,35],[4,36,6,36],[4,38,4,40],[4,41,4,44],[4,45,4,47],[4,49,5,49],[4,50,6,50],[4,52,4,54],[4,55,4,58],[4,59,4,61],[4,63,5,63],[4,64,6,64],[4,66,5,66],[4,67,5,67],[4,68,5,68],[4,69,5,69],[4,70,5,70],[4,71,5,71],[4,72,6,72],[4,74,5,74],[4,75,5,75],[4,76,5,76],[4,77,5,77],[4,78,5,78],[4,79,5,79],[4,80,6,80],[4,82,5,82],[4,83,5,83],[4,84,5,84],[4,85,5,85],[4,86,5,86],[4,87,5,87],[4,88,6,88],[4,90,5,90],[4,91,5,91],[4,92,5,92],[4,93,5,93],[4,94,5,94],[4,95,5,95],[4,96,6,96],[5,1,6,1],[5,2,6,2],[5,3,6,3],[5,4,6,4],[5,5,6,5],[5,6,6,6],[5,7,6,7],[5,8,6,8],[5,9,6,9],[5,23,6,23],[5,37,6,37],[5,51,6,51],[5,65,6,65],[5,73,6,73],[5,81,6,81],[5,89,6,89],[5,97,6,97],[6,112,6,115],[6,116,6,119],[6,120,6,123],[6,124,6,127]]}
[null,{"$f":"Master!E8","v":"Govt.Sr.Sec.Sch. "},{"$nulls":8},{"$f":"Master!E8","v":"Govt.Sr.Sec.Sch. "},{"$nulls":13},{"$f":"$K$1","v":"Govt.Sr.Sec.Sch. "},{"$nulls":13},{"$f":"$K$1","v":"Govt.Sr.Sec.Sch. "},{"$nulls":13},{"$f":"$K$1","v":"Govt.Sr.Sec.Sch. "},{"$nulls":13},{"$f":"Master!E8","v":"Govt.Sr.Sec.Sch. "}]
[{"$nulls":10},"Result Date:-",{"$nulls":8},{"$f":"Master!E20","v":"2023-05-24"},{"$nulls":4},"Result Entry"]
[null,"School U-Dise Code :-",{"$nulls":3},{"$f":"Master!E14","v":{"v":810000000,"d":"0810000000"}},null,"Session :-",{"$f":"Master!E6","v":"2022-23"},null,"Hindi",{"$nulls":13},"Mathematics",{"$nulls":13},"English",{"$nulls":27},"Env. Study",{"$nulls":7},"WORK EXP.",{"$nulls":7},"ART EDU.",{"$nulls":7},"H&P. EDU.",{"$nulls":7},"Attendance",null,null,"Statics",{"$nulls":6},"Remark"]
[null,"Class -",{"$nulls":3},2,null,"Saction :-","(A)",{"$nulls":89},"Total Attendance","Student's Attendance","Attandance %","Grad Total","Obtained Marks","Percentage","Whole Grade (A/B/C/D/E)","Result",null,"Position in Class"]
[null,"Student Related Basic Details",{"$nulls":8},"Test",null,null,"Half Yeary",{"$nulls":3},"Yearly",{"$nulls":3},"Total","MARKS %","Grd.","Test",null,null,"Half Yeary",{"$nulls":3},"Yearly",{"$nulls":3},"Total","MARKS %","Grd.","Test",null,null,"Half Yeary",{"$nulls":3},"Yearly",{"$nulls":3},"Total","MARKS %","Grd.","Test",null,null,"Half Yeary",{"$nulls":3},"Yearly",{"$nulls":3},"Total","MARKS %","Grd.","Half Yearly","Yeary","3rd Ev.","4th Ev.","5th Ev.","Total","MARKS %","Grd.","Half Yearly","Yearly","3rd Ev.","4th Ev.","5th Ev.","Total","MARKS %","Grd.","Half Yearly","Yearly","3rd Ev.","4th Ev.","5th Ev.","Total","MARKS %","Grd.","Half Yearly","Yeary","3rd Ev.","4th Ev.","5th Ev.","Total","MARKS %","Grd."]
[null,"Sr. No.","Class","Scholar Number","School Adm. Date","Roll Number","Student's Name","Father's Name","Mother's Name","Date Of Birth","First Test","Second Test","Total Test","Written","Internal Evo.","Oral","Total","Written","Internal Evo.","Oral","Total",null,null,"A+/A/B/C/D","First Test","Second Test","Total Test","Written","Internal Evo.","Oral","Total","Written","Internal Evo.","Oral","Total",null,null,"A+/A/B/C/D","First Test","Second Test","Total Test","Written","Internal Evo.","Oral","Total","Written","Internal Evo.","Oral","Total",null,null,"A+/A/B/C/D","First Test","Second Test","Total Test","Written","Internal Evo.","Oral","Total","Written","Internal Evo.","Oral","Total",null,null,"A/B/C/D/E",{"$nulls":7},"A/B/C/D/E",{"$nulls":7},"A/B/C/D/E",{"$nulls":7},"A/B/C/D/E",{"$nulls":7},"A/B/C/D/E"]
[{"$nulls":10},0,0,{"$f":"SUM(K7:L7)","v":0},30,0,70,{"$f":"SUM(N7:P7)","v":100},30,0,70,{"$f":"SUM(R7:T7)","v":100},{"$f":"M7+Q7+U7","v":200},null,null,0,0,{"$f":"SUM(Y7:Z7)","v":0},30,0,70,{"$f":"SUM(AB7:AD7)","v":100},30,0,70,{"$f":"SUM(AF7:AH7)","v":100},{"$f":"AA7+AE7+AI7","v":200},null,null,0,0,{"$f":"SUM(AM7:AN7)","v":0},15,0,35,{"$f":"SUM(AP7:AR7)","v":50},15,0,35,{"$f":"SUM(AT7:AV7)","v":50},{"$f":"AO7+AS7+AW7","v":100},null,null,0,0,{"$f":"SUM(BA7:BB7)","v":0},0,0,0,{"$f":"SUM(BD7:BF7)","v":0},0,0,0,{"$f":"SUM(BH7:BJ7)","v":0},{"$f":"BC7+BG7+BK7","v":0},null,null,50,50,0,0,0,{"$f":"SUM(BO7:BS7)","v":100},null,null,25,25,0,0,0,{"$f":"SUM(BW7:CA7)","v":50},null,null,25,25,0,0,0,{"$f":"SUM(CE7:CI7)","v":50},null,null,50,50,0,0,0,{"$f":"SUM(CM7:CQ7)","v":100},{"$nulls":16},{"$f":"BO3","v":"Env. Study"},{"$nulls":3},{"$f":"BW3","v":"WORK EXP."},{"$nulls":3},{"$f":"CE3","v":"ART EDU."},{"$nulls":3},{"$f":"CM3","v":"H&P. EDU."}]
[null,0,0,0,0,0,0,0,0,0,0,{"$nulls":4},0,{"$f":"SUM(K8:P8)","v":0},0,null,0,{"$f":"SUM(R8:T8)","v":0},0,null,0,0,{"$nulls":4},0,{"$f":"SUM(Y8:AD8)","v":0},0,null,0,{"$f":"SUM(AF8:AH8)","v":0},0,null,0,0,{"$nulls":4},0,{"$f":"SUM(AM8:AR8)","v":0},0,null,0,{"$f":"SUM(AT8:AV8)","v":0},0,null,0,0,{"$nulls":4},0,{"$f":"SUM(BA8:BF8)","v":0},0,null,0,{"$f":"SUM(BH8:BJ8)","v":0},0,null,0,0,{"$nulls":4},0,null,0,0,{"$nulls":4},0,null,0,0,{"$nulls":4},0,null,0,0,{"$nulls":4},0,null,0,0,0,0,0,0,0,0,0,null,0,0]
[{"$f":"F9","v":301},1,{"$f":"IF(D9>0,$F$4,0)","v":2},1,null,301,"a","b","c","2200-05-04",null,null,{"$f":"SUM(K9:L9)","v":0},29,null,65,{"$f":"SUM(N9:P9)","v":94},null,null,70,{"$f":"SUM(R9:T9)","v":70},{"$f":"M9+Q9+U9","v":164},{"$f":"IF(OR(V9=\"\",V$7=\"\"),\"\",V9/V$7*100)","v":{"v":82,"d":"82.00"}},{"$f":"IF(OR(W9=\"\",$F9=\"\",$F9=\"ab\",$F9=\"ml\"),\"\",IF(W9>=86,\"A\",IF(W9>=71,\"B\",IF(W9>=51,\"C\",IF(W9>=31,\"D\",IF(W9=0,0,\"E\"))))))","v":"B"},null,null,{"$f":"SUM(Y9:Z9)","v":0},15,null,55,{"$f":"SUM(AB9:AD9)","v":70},20,null,40,{"$f":"SUM(AF9:AH9)","v":60},{"$f":"AA9+AE9+AI9","v":130},{"$f":"IF(OR(AJ9=\"\",AJ$7=\"\"),\"\",AJ9/AJ$7*100)","v":{"v":65,"d":"65.00"}},{"$f":"IF(OR(AK9=\"\",$F9=\"\",$F9=\"ab\",$F9=\"ml\"),\"\",IF(AK9>=86,\"A\",IF(AK9>=71,\"B\",IF(AK9>=51,\"C\",IF(AK9>=31,\"D\",IF(AK9=0,0,\"E\"))))))","v":"C"},null,null,{"$f":"SUM(AM9:AN9)","v":0},10,null,20,{"$f":"SUM(AP9:AR9)","v":30},10,null,30,{"$f":"SUM(AT9:AV9)","v":40},{"$f":"AO9+AS9+AW9","v":70},{"$f":"IF(OR(AX9=\"\",AX$7=\"\"),\"\",AX9/AX$7*100)","v":{"v":70,"d":"70.00"}},{"$f":"IF(OR(AY9=\"\",$F9=\"\",$F9=\"ab\",$F9=\"ml\"),\"\",IF(AY9>=86,\"A\",IF(AY9>=71,\"B\",IF(AY9>=51,\"C\",IF(AY9>=31,\"D\",IF(AY9=0,0,\"E\"))))))","v":"C"},0,0,{"$f":"SUM(BA9:BB9)","v":0},0,0,0,{"$f":"SUM(BD9:BF9)","v":0},0,0,0,{"$f":"SUM(BH9:BJ9)","v":0},{"$f":"BC9+BG9+BK9","v":0},{"$f":"IF(OR(BL$7=0,0),\"\",ROUNDUP(BL9/BL$7*100,0))","v":""},{"$f":"IF(OR(BM9=\"\",$F9=\"\",$F9=\"ab\",$F9=\"ml\"),\"\",IF(BM9>85,\"A\",IF(BM9>70,\"B\",IF(BM9>50,\"C\",IF(BM9>30,\"D\",IF(BM9=0,0,\"E\"))))))","v":""},20,40,{"$nulls":3},{"$f":"SUM(BO9:BS9)","v":60},{"$f":"IF(OR(BT9=\"\",BT$7=\"\"),\"\",BT9/BT$7*100)","v":{"v":60,"d":"60.00"}},{"$f":"IF(OR(BU9=\"\",$F9=\"\",$F9=\"ab\",$F9=\"ml\"),\"\",IF(BU9>=86,\"A\",IF(BU9>=71,\"B\",IF(BU9>=51,\"C\",IF(BU9>=31,\"D\",IF(BU9=0,0,\"E\"))))))","v":"C"},20,20,0,0,0,{"$f":"SUM(BW9:CA9)","v":40},{"$f":"IF(OR(CB9=\"\",CB$7=\"\"),\"\",CB9/CB$7*100)","v":{"v":80,"d":"80.00"}},{"$f":"IF(OR(CC9=\"\",$F9=\"\",$F9=\"ab\",$F9=\"ml\"),\"\",IF(CC9>=86,\"A\",IF(CC9>=71,\"B\",IF(CC9>=51,\"C\",IF(CC9>=31,\"D\",IF(CC9=0,0,\"E\"))))))","v":"B"},20,20,0,0,0,{"$f":"SUM(CE9:CI9)","v":40},{"$f":"IF(OR(CJ9=\"\",CJ$7=\"\"),\"\",CJ9/CJ$7*100)","v":80},{"$f":"IF(OR(CK9=\"\",$F9=\"\",$F9=\"ab\",$F9=\"ml\"),\"\",IF(CK9>=86,\"A\",IF(CK9>=71,\"B\",IF(CK9>=51,\"C\",IF(CK9>=31,\"D\",IF(CK9=0,0,\"E\"))))))","v":"B"},20,20,{"$nulls":3},{"$f":"SUM(CM9:CQ9)","v":40},{"$f":"IF(OR(CR9=\"\",CR$7=\"\"),\"\",CR9/CR$7*100)","v":{"v":40,"d":"40.00"}},{"$f":"IF(OR(CS9=\"\",$F9=\"\",$F9=\"ab\",$F9=\"ml\"),\"\",IF(CS9>=86,\"A\",IF(CS9>=71,\"B\",IF(CS9>=51,\"C\",IF(CS9>=31,\"D\",IF(CS9=0,0,\"E\"))))))","v":"D"},null,null,{"$f":"IF(OR(CU9=0,CV9=0),\"\",CV9/CU9*100)","v":""},{"$f":"IF(OR($V$7=\"\",$AJ$7=\"\",$AX$7=\"\",$BL$7=\"\"),\"\",SUM($V$7,$AJ$7,$AX$7,$BL$7))","v":500},{"$f":"IF(OR(V9=\"\",AJ9=\"\",AX9=\"\"),\"\",SUM(V9,AJ9,AX9))","v":364},{"$f":"IF(CX9>0,CY9/CX9*100)","v":{"v":72.8,"d":"72.80"}},{"$f":"IF(OR($F9=\"\",$F9=\"ab\",$F9=\"ml\"),\"\",IF(CZ9>=86,\"A\",IF(CZ9>=71,\"B\",IF(CZ9>=51,\"C\",IF(CZ9>=31,\"D\",IF(CZ9=0,0,\"E\"))))))","v":"B"},{"$f":"IF(F9=\"TC\",\"Transfered\",IF(OR(F9=\"\",F9=\"DROP\",X9=\"\",AL9=\"\",AZ9=\"\"),\"\",IF(CZ9<33,\"Promoted\",\"Passed\")))","v":"Passed"},{"$f":"IF(DB9=\"Passed\",CZ9,\"\")","v":72.8},{"$f":"IF(DC9=\"\",\"\",SUMPRODUCT((DC9<DC$9:DC$108)/COUNTIF(DC$9:DC$108,DC$9:DC$108)))","v":0.999999999999998},{"$f":"IF(DA9=\"A+\",\"Excellent\",IF(DA9=\"A\",\"Excellent\",IF(DA9=\"B\",\"Very Good\",IF(DA9=\"C\",\"Good\",IF(DA9=\"D\",\"Average\",IF(DA9=\"E\",\"Needs Improvement\",0))))))","v":"Very Good"},{"$nulls":3},{"$f":"BT9","v":60},"/",{"$f":"$BT$7","v":100},{"$f":"CONCATENATE(DI9,DJ9,DK9)","v":"60/100"},{"$f":"CB9","v":40},"/",{"$f":"$CB$7","v":50},{"$f":"CONCATENATE(DM9,DN9,DO9)","v":"40/50"},{"$f":"CJ9","v":40},"/",{"$f":"$CJ$7","v":50},{"$f":"CONCATENATE(DQ9,DR9,DS9)","v":"40/50"},{"$f":"CR9","v":40},"/",{"$f":"$CR$7","v":100},{"$f":"CONCATENATE(DU9,DV9,DW9)","v":"40/100"}]
[{"$f":"F10","v":302},2,{"$f":"IF(D10>0,$F$4,0)","v":2},2,null,302,"f","Father's Name","f","1998-08-05",null,null,{"$f":"SUM(K10:L10)","v":0},{"$nulls":3},{"$f":"SUM(N10:P10)","v":0},{"$nulls":3},{"$f":"SUM(R10:T10)","v":0},{"$f":"M10+Q10+U10","v":0},{"$f":"IF(OR(V10=\"\",V$7=\"\"),\"\",V10/V$7*100)","v":{"v":0,"d":"0.00"}},{"$f":"IF(OR(W10=\"\",$F10=\"\",$F10=\"ab\",$F10=\"ml\"),\"\",IF(W10>=86,\"A\",IF(W10>=71,\"B\",IF(W10>=51,\"C\",IF(W10>=31,\"D\",IF(W10=0,0,\"E\"))))))","v":0},null,null,{"$f":"SUM(Y10:Z10)","v":0},{"$nulls":3},{"$f":"SUM(AB10:AD10)","v":0},{"$nulls":3},{"$f":"SUM(AF10:AH10)","v":0},{"$f":"AA10+AE10+AI10","v":0},{"$f":"IF(OR(AJ10=\"\",AJ$7=\"\"),\"\",AJ10/AJ$7*100)","v":{"v":0,"d":"0.00"}},{"$f":"IF(OR(AK10=\"\",$F10=\"\",$F10=\"ab\",$F10=\"ml\"),\"\",IF(AK10>=86,\"A\",IF(AK10>=71,\"B\",IF(AK10>=51,\"C\",IF(AK10>=31,\"D\",IF(AK10=0,0,\"E\"))))))","v":0},null,null,{"$f":"SUM(AM10:AN10)","v":0},{"$nulls":3},{"$f":"SUM(AP10:AR10)","v":0},{"$nulls":3},{"$f":"SUM(AT10:AV10)","v":0},{"$f":"AO10+AS10+AW10","v":0},{"$f":"IF(OR(AX10=\"\",AX$7=\"\"),\"\",AX10/AX$7*100)","v":{"v":0,"d":"0.00"}},{"$f":"IF(OR(AY10=\"\",$F10=\"\",$F10=\"ab\",$F10=\"ml\"),\"\",IF(AY10>=86,\"A\",IF(AY10>=71,\"B\",IF(AY10>=51,\"C\",IF(AY10>=31,\"D\",IF(AY10=0,0,\"E\"))))))","v":0},0,0,{"$f":"SUM(BA10:BB10)","v":0},0,0,0,{"$f":"SUM(BD10:BF10)","v":0},0,0,0,{"$f":"SUM(BH10:BJ10)","v":0},{"$f":"BC10+BG10+BK10","v":0},{"$f":"IF(OR(BL$7=0,0),\"\",ROUNDUP(BL10/BL$7*100,0))","v":""},{"$f":"IF(OR(BM10=\"\",$F10=\"\",$F10=\"ab\",$F10=\"ml\"),\"\",IF(BM10>85,\"A\",IF(BM10>70,\"B\",IF(BM10>50,\"C\",IF(BM10>30,\"D\",IF(BM10=0,0,\"E\"))))))","v":""},{"$nulls":5},0,{"$f":"IF(OR(BT10=\"\",BT$7=\"\"),\"\",BT10/BT$7*100)","v":{"v":0,"d":"0.00"}},{"$f":"IF(OR(BU10=\"\",$F10=\"\",$F10=\"ab\",$F10=\"ml\"),\"\",IF(BU10>=86,\"A\",IF(BU10>=71,\"B\",IF(BU10>=51,\"C\",IF(BU10>=31,\"D\",IF(BU10=0,0,\"E\"))))))","v":0},{"$nulls":5},0,{"$f":"IF(OR(CB10=\"\",CB$7=\"\"),\"\",CB10/CB$7*100)","v":{"v":0,"d":"0.00"}},{"$f":"IF(OR(CC10=\"\",$F10=\"\",$F10=\"ab\",$F10=\"ml\"),\"\",IF(CC10>=86,\"A\",IF(CC10>=71,\"B\",IF(CC10>=51,\"C\",IF(CC10>=31,\"D\",IF(CC10=0,0,\"E\"))))))","v":0},{"$nulls":5},0,{"$f":"IF(OR(CJ10=\"\",CJ$7=\"\"),\"\",CJ10/CJ$7*100)","v":0},{"$f":"IF(OR(CK10=\"\",$F10=\"\",$F10=\"ab\",$F10=\"ml\"),\"\",IF(CK10>=86,\"A\",IF(CK10>=71,\"B\",IF(CK10>=51,\"C\",IF(CK10>=31,\"D\",IF(CK10=0,0,\"E\"))))))","v":0},{"$nulls":5},0,{"$f":"IF(OR(CR10=\"\",CR$7=\"\"),\"\",CR10/CR$7*100)","v":{"v":0,"d":"0.00"}},{"$f":"IF(OR(CS10=\"\",$F10=\"\",$F10=\"ab\",$F10=\"ml\"),\"\",IF(CS10>=86,\"A\",IF(CS10>=71,\"B\",IF(CS10>=51,\"C\",IF(CS10>=31,\"D\",IF(CS10=0,0,\"E\"))))))","v":0},null,null,{"$f":"IF(OR(CU10=\"\",CV10=\"\"),\"\",CV10/CU10*100)","v":""},500,{"$f":"IF(OR(V10=\"\",AJ10=\"\",AX10=\"\"),\"\",SUM(V10,AJ10,AX10))","v":0},{"$f":"IF(CX10>0,CY10/CX10*100)","v":{"v":0,"d":"0.00"}},{"$f":"IF(OR($F10=\"\",$F10=\"ab\",$F10=\"ml\"),\"\",IF(CZ10>=86,\"A\",IF(CZ10>=71,\"B\",IF(CZ10>=51,\"C\",IF(CZ10>=31,\"D\",IF(CZ10=0,0,\"E\"))))))","v":0},{"$f":"IF(F10=\"TC\",\"Transfered\",IF(OR(F10=\"\",F10=\"DROP\",X10=\"\",AL10=\"\",AZ10=\"\"),\"\",IF(CZ10<33,\"Promoted\",\"Passed\")))","v":"Promoted"},{"$f":"IF(DB10=\"Passed\",CZ10,\"\")","v":""},{"$f":"IF(DC10=\"\",\"\",SUMPRODUCT((DC10<DC$9:DC$108)/COUNTIF(DC$9:DC$108,DC$9:DC$108)))","v":""},{"$f":"IF(DA10=\"A+\",\"Excellent\",IF(DA10=\"A\",\"Excellent\",IF(DA10=\"B\",\"Very Good\",IF(DA10=\"C\",\"Good\",IF(DA10=\"D\",\"Average\",IF(DA10=\"E\",\"Needs Improvement\",0))))))","v":0},{"$nulls":3},{"$f":"BT10","v":0},"/",{"$f":"$BT$7","v":100},{"$f":"CONCATENATE(DI10,DJ10,DK10)","v":"0/100"},{"$f":"CB10","v":0},"/",{"$f":"$CB$7","v":50},{"$f":"CONCATENATE(DM10,DN10,DO10)","v":"0/50"},{"$f":"CJ10","v":0},"/",{"$f":"$CJ$7","v":50},{"$f":"CONCATENATE(DQ10,DR10,DS10)","v":"0/50"},{"$f":"CR10","v":0},"/",{"$f":"$CR$7","v":100},{"$f":"CONCATENATE(DU10,DV10,DW10)","v":"0/100"}]
[0,3,0,{"$nulls":7},0,0,0,0,0,0,0,0,0,0,0,0,{"v":0,"d":"0.00"},"",0,0,0,0,0,0,0,0,0,0,0,{"$f":"AA11+AE11+AI11","v":0},{"v":0,"d":"0.00"},"",0,0,0,0,0,0,0,0,0,0,0,0,{"v":0,"d":"0.00"},"",0,0,0,0,0,0,0,0,0,0,0,0,"","",{"$nulls":5},0,{"v":0,"d":"0.00"},"",{"$nulls":5},0,{"v":0,"d":"0.00"},"",{"$nulls":5},0,0,"",{"$nulls":5},0,{"v":0,"d":"0.00"},"",null,null,"",500,0,{"v":0,"d":"0.00"},"","","","",0,{"$nulls":3},0,"/",100,"0/100",0,"/",50,"0/50",0,"/",50,"0/50",0,"/",100,"0/100"]
[0,4,0,{"$nulls":7},0,0,0,0,0,0,0,0,0,0,0,0,{"v":0,"d":"0.00"},"",0,0,0,0,0,0,0,0,0,0,0,0,{"v":0,"d":"0.00"},"",0,0,0,0,0,0,0,0,0,0,0,0,{"v":0,"d":"0.00"},"",0,0,0,0,0,0,0,0,0,0,0,0,"","",{"$nulls":5},0,{"v":0,"d":"0.00"},"",{"$nulls":5},0,{"v":0,"d":"0.00"},"",{"$nulls":5},0,0,"",{"$nulls":5},0,{"v":0,"d":"0.00"},"",null,null,"",500,0,{"v":0,"d":"0.00"},"","","","",0,{"$nulls":3},0,"/",100,"0/100",0,"/",50,"0/50",0,"/",50,"0/50",0,"/",100,"0/100"]
[0,5,{"$f":"IF(D13>0,$F$4,0)","v":0},{"$nulls":7},0,0,{"$f":"SUM(K13:L13)","v":0},0,0,0,{"$f":"SUM(N13:P13)","v":0},0,0,0,{"$f":"SUM(R13:T13)","v":0},{"$f":"M13+Q13+U13","v":0},{"v":0,"d":"0.00"},"",0,0,0,0,0,0,0,0,0,0,0,0,{"v":0,"d":"0.00"},"",0,0,0,0,0,0,0,0,0,0,0,0,{"v":0,"d":"0.00"},"",0,0,0,0,0,0,0,0,0,0,0,0,"","",{"$nulls":5},0,{"v":0,"d":"0.00"},"",{"$nulls":5},0,{"v":0,"d":"0.00"},"",{"$nulls":5},0,0,"",{"$nulls":5},0,{"v":0,"d":"0.00"},"",null,null,"",500,0,{"v":0,"d":"0.00"},"","","","",0,{"$nulls":3},0,"/",100,"0/100",0,"/",50,"0/50",0,"/",50,"0/50",0,"/",100,"0/100"]
[0,6,0,{"$nulls":7},0,0,0,0,0,0,0,0,0,0,0,0,{"v":0,"d":"0.00"},"",0,0,0,0,0,0,0,0,0,0,0,0,{"v":0,"d":"0.00"},"",0,0,0,0,0,0,0,0,0,0,0,0,{"v":0,"d":"0.00"},"",0,0,0,0,0,0,0,0,0,0,0,0,"","",{"$nulls":5},0,{"v":0,"d":"0.00"},"",{"$nulls":5},0,{"v":0,"d":"0.00"},"",{"$nulls":5},0,0,"",{"$nulls":5},0,{"v":0,"d":"0.00"},"",null,null,"",500,0,{"v":0,"d":"0.00"},"","","","",0,{"$nulls":3},0,"/",100,"0/100",0,"/",50,"0/50",0,"/",50,"0/50",0,"/",100,"0/100"]
[0,7,0,{"$nulls":7},0,0,0,0,0,0,0,0,0,0,0,0,{"v":0,"d":"0.00"},"",0,0,0,0,0,0,0,0,0,0,0,0,{"v":0,"d":"0.00"},"",0,0,0,0,0,0,0,0,0,0,0,0,{"v":0,"d":"0.00"},"",0,0,0,0,0,0,0,0,0,0,0,0,"","",{"$nulls":5},0,{"v":0,"d":"0.00"},"",{"$nulls":5},0,{"v":0,"d":"0.00"},"",{"$nulls":5},0,0,"",{"$nulls":5},0,{"v":0,"d":"0.00"},"",null,null,"",500,0,{"v":0,"d":"0.00"},"","","","",0,{"$nulls":3},0,"/",100,"0/100",0,"/",50,"0/50",0,"/",50,"0/50",0,"/",100,"0/100"]
[0,8,0,{"$nulls":7},0,0,0,0,0,0,0,0,0,0,0,0,{"v":0,"d":"0.00"},"",0,0,0,0,0,0,0,0,0,0,0,0,{"v":0,"d":"0.00"},"",0,0,0,0,0,0,0,0,0,0,0,0,{"v":0,"d":"0.00"},"",0,0,0,0,0,0,0,0,0,0,0,0,"","",{"$nulls":5},0,{"v":0,"d":"0.00"},"",{"$nulls":5},0,{"v":0,"d":"0.00"},"",{"$nulls":5},0,0,"",{"$nulls":5},0,{"v":0,"d":"0.00"},"",null,null,"",500,0,{"v":0,"d":"0.00"},"","","","",0,{"$nulls":3},0,"/",100,"0/100",0,"/",50,"0/50",0,"/",50,"0/50",0,"/",100,"0/100"]
[0,9,0,{"$nulls":7},0,0,0,0,0,0,0,0,0,0,0,0,{"v":0,"d":"0.00"},"",0,0,0,0,0,0,0,0,0,0,0,0,{"v":0,"d":"0.00"},"",0,0,0,0,0,0,0,0,0,0,0,0,{"v":0,"d":"0.00"},"",0,0,0,0,0,0,0,0,0,0,0,0,"","",{"$nulls":5},0,{"v":0,"d":"0.00"},"",{"$nulls":5},0,{"v":0,"d":"0.00"},"",{"$nulls":5},0,0,"",{"$nulls":5},0,{"v":0,"d":"0.00"},"",null,null,"",500,0,{"v":0,"d":"0.00"},"","","","",0,{"$nulls":3},0,"/",100,"0/100",0,"/",50,"0/50",0,"/",50,"0/50",0,"/",100,"0/100"]
[0,10,0,{"$nulls":7},0,0,0,0,0,0,0,0,0,0,0,0,{"v":0,"d":"0.00"},"",0,0,0,0,0,0,0,0,0,0,0,0,{"v":0,"d":"0.00"},"",0,0,0,0,0,0,0,0,0,0,0,0,{"v":0,"d":"0.00"},"",0,0,0,0,0,0,0,0,0,0,0,0,"","",{"$nulls":5},0,{"v":0,"d":"0.00"},"",{"$nulls":5},0,{"v":0,"d":"0.00"},"",{"$nulls":5},0,0,"",{"$nulls":5},0,{"v":0,"d":"0.00"},"",null,null,"",500,0,{"v":0,"d":"0.00"},"","","","",0,{"$nulls":3},0,"/",100,"0/100",0,"/",50,"0/50",0,"/",50,"0/50",0,"/",100,"0/100"]
[0,11,0,{"$nulls":7},0,0,0,0,0,0,0,0,0,0,0,0,{"v":0,"d":"0.00"},"",0,0,0,0,0,0,0,0,0,0,0,0,{"v":0,"d":"0.00"},"",0,0,0,0,0,0,0,0,0,0,0,0,{"v":0,"d":"0.00"},"",0,0,0,0,0,0,0,0,0,0,0,0,"","",{"$nulls":5},0,{"v":0,"d":"0.00"},"",{"$nulls":5},0,{"v":0,"d":"0.00"},"",{"$nulls":5},0,0,"",{"$nulls":5},0,{"v":0,"d":"0.00"},"",null,null,"",500,0,{"v":0,"d":"0.00"},"","","","",0,{"$nulls":3},0,"/",100,"0/100",0,"/",50,"0/50",0,"/",50,"0/50",0,"/",100,"0/100"]
[0,12,0,{"$nulls":7},0,0,0,0,0,0,0,0,0,0,0,0,{"v":0,"d":"0.00"},"",0,0,0,0,0,0,0,0,0,0,0,0,{"v":0,"d":"0.00"},"",0,0,0,0,0,0,0,0,0,0,0,0,{"v":0,"d":"0.00"},"",0,0,0,0,0,0,0,0,0,0,0,0,"","",{"$nulls":5},0,{"v":0,"d":"0.00"},"",{"$nulls":5},0,{"v":0,"d":"0.00"},"",{"$nulls":5},0,0,"",{"$nulls":5},0,{"v":0,"d":"0.00"},"",null,null,"",500,0,{"v":0,"d":"0.00"},"","","","",0,{"$nulls":3},0,"/",100,"0/100",0,"/",50,"0/50",0,"/",50,"0/50",0,"/",100,"0/100"]
[0,13,0,{"$nulls":7},0,0,0,0,0,0,0,0,0,0,0,0,{"v":0,"d":"0.00"},"",0,0,0,0,0,0,0,0,0,0,0,0,{"v":0,"d":"0.00"},"",0,0,0,0,0,0,0,0,0,0,0,0,{"v":0,"d":"0.00"},"",0,0,0,0,0,0,0,0,0,0,0,0,"","",{"$nulls":5},0,{"v":0,"d":"0.00"},"",{"$nulls":5},0,{"v":0,"d":"0.00"},"",{"$nulls":5},0,0,"",{"$nulls":5},0,{"v":0,"d":"0.00"},"",null,null,"",500,0,{"v":0,"d":"0.00"},"","","","",0,{"$nulls":3},0,"/",100,"0/100",0,"/",50,"0/50",0,"/",50,"0/50",0,"/",100,"0/100"]
[0,14,0,{"$nulls":7},0,0,0,0,0,0,0,0,0,0,0,0,{"v":0,"d":"0.00"},"",0,0,0,0,0,0,0,0,0,0,0,0,{"v":0,"d":"0.00"},"",0,0,0,0,0,0,0,0,0,0,0,0,{"v":0,"d":"0.00"},"",0,0,0,0,0,0,0,0,0,0,0,0,"","",{"$nulls":5},0,{"v":0,"d":"0.00"},"",{"$nulls":5},0,{"v":0,"d":"0.00"},"",{"$nulls":5},0,0,"",{"$nulls":5},0,{"v":0,"d":"0.00"},"",null,null,"",500,0,{"v":0,"d":"0.00"},"","","","",0,{"$nulls":3},0,"/",100,"0/100",0,"/",50,"0/50",0,"/",50,"0/50",0,"/",100,"0/100"]
[0,15,0,{"$nulls":7},0,0,0,0,0,0,0,0,0,0,0,0,{"v":0,"d":"0.00"},"",0,0,0,0,0,0,0,0,0,0,0,0,{"v":0,"d":"0.00"},"",0,0,0,0,0,0,0,0,0,0,0,0,{"v":0,"d":"0.00"},"",0,0,0,0,0,0,0,0,0,0,0,0,"","",{"$nulls":5},0,{"v":0,"d":"0.00"},"",{"$nulls":5},0,{"v":0,"d":"0.00"},"",{"$nulls":5},0,0,"",{"$nulls":5},0,{"v":0,"d":"0.00"},"",null,null,"",500,0,{"v":0,"d":"0.00"},"","","","",0,{"$nulls":3},0,"/",100,"0/100",0,"/",50,"0/50",0,"/",50,"0/50",0,"/",100,"0/100"]
[0,16,0,{"$nulls":7},0,0,0,0,0,0,0,0,0,0,0,0,{"v":0,"d":"0.00"},"",0,0,0,0,0,0,0,0,0,0,0,0,{"v":0,"d":"0.00"},"",0,0,0,0,0,0,0,0,0,0,0,0,{"v":0,"d":"0.00"},"",0,0,0,0,0,0,0,0,0,0,0,0,"","",{"$nulls":5},0,{"v":0,"d":"0.00"},"",{"$nulls":5},0,{"v":0,"d":"0.00"},"",{"$nulls":5},0,0,"",{"$nulls":5},0,{"v":0,"d":"0.00"},"",null,null,"",500,0,{"v":0,"d":"0.00"},"","","","",0,{"$nulls":3},0,"/",100,"0/100",0,"/",50,"0/50",0,"/",50,"0/50",0,"/",100,"0/100"]
[0,17,0,{"$nulls":7},0,0,0,0,0,0,0,0,0,0,0,0,{"v":0,"d":"0.00"},"",0,0,0,0,0,0,0,0,0,0,0,0,{"v":0,"d":"0.00"},"",0,0,0,0,0,0,0,0,0,0,0,0,{"v":0,"d":"0.00"},"",0,0,0,0,0,0,0,0,0,0,0,0,"","",{"$nulls":5},0,{"v":0,"d":"0.00"},"",{"$nulls":5},0,{"v":0,"d":"0.00"},"",{"$nulls":5},0,0,"",{"$nulls":5},0,{"v":0,"d":"0.00"},"",null,null,"",500,0,{"v":0,"d":"0.00"},"","","","",0,{"$nulls":3},0,"/",100,"0/100",0,"/",50,"0/50",0,"/",50,"0/50",0,"/",100,"0/100"]
[0,18,0,{"$nulls":7},0,0,0,0,0,0,0,0,0,0,0,0,{"v":0,"d":"0.00"},"",0,0,0,0,0,0,0,0,0,0,0,0,{"v":0,"d":"0.00"},"",0,0,0,0,0,0,0,0,0,0,0,0,{"v":0,"d":"0.00"},"",0,0,0,0,0,0,0,0,0,0,0,0,"","",{"$nulls":5},0,{"v":0,"d":"0.00"},"",{"$nulls":5},0,{"v":0,"d":"0.00"},"",{"$nulls":5},0,0,"",{"$nulls":5},0,{"v":0,"d":"0.00"},"",null,null,"",500,0,{"v":0,"d":"0.00"},"","","","",0,{"$nulls":3},0,"/",100,"0/100",0,"/",50,"0/50",0,"/",50,"0/50",0,"/",100,"0/100"]
[0,19,0,{"$nulls":7},0,0,0,0,0,0,0,0,0,0,0,0,{"v":0,"d":"0.00"},"",0,0,0,0,0,0,0,0,0,0,0,0,{"v":0,"d":"0.00"},"",0,0,0,0,0,0,0,0,0,0,0,0,{"v":0,"d":"0.00"},"",0,0,0,0,0,0,0,0,0,0,0,0,"","",{"$nulls":5},0,{"v":0,"d":"0.00"},"",{"$nulls":5},0,{"v":0,"d":"0.00"},"",{"$nulls":5},0,0,"",{"$nulls":5},0,{"v":0,"d":"0.00"},"",null,null,"",500,0,{"v":0,"d":"0.00"},"","","","",0,{"$nulls":3},0,"/",100,"0/100",0,"/",50,"0/50",0,"/",50,"0/50",0,"/",100,"0/100"]
[0,20,0,{"$nulls":7},0,0,0,0,0,0,0,0,0,0,0,0,{"v":0,"d":"0.00"},"",0,0,0,0,0,0,0,0,0,0,0,0,{"v":0,"d":"0.00"},"",0,0,0,0,0,0,0,0,0,0,0,0,{"v":0,"d":"0.00"},"",0,0,0,0,0,0,0,0,0,0,0,0,"","",{"$nulls":5},0,{"v":0,"d":"0.00"},"",{"$nulls":5},0,{"v":0,"d":"0.00"},"",{"$nulls":5},0,0,"",{"$nulls":5},0,{"v":0,"d":"0.00"},"",null,null,"",500,0,{"v":0,"d":"0.00"},"","","","",0,{"$nulls":3},0,"/",100,"0/100",0,"/",50,"0/50",0,"/",50,"0/50",0,"/",100,"0/100"]
[0,21,0,{"$nulls":7},0,0,0,0,0,0,0,0,0,0,0,0,{"v":0,"d":"0.00"},"",0,0,0,0,0,0,0,0,0,0,0,0,{"v":0,"d":"0.00"},"",0,0,0,0,0,0,0,0,0,0,0,0,{"v":0,"d":"0.00"},"",0,0,0,0,0,0,0,0,0,0,0,0,"","",{"$nulls":5},0,{"v":0,"d":"0.00"},"",{"$nulls":5},0,{"v":0,"d":"0.00"},"",{"$nulls":5},0,0,"",{"$nulls":5},0,{"v":0,"d":"0.00"},"",null,null,"",500,0,{"v":0,"d":"0.00"},"","","","",0,{"$nulls":3},0,"/",100,"0/100",0,"/",50,"0/50",0,"/",50,"0/50",0,"/",100,"0/100"]
[0,22,0,{"$nulls":7},0,0,0,0,0,0,0,0,0,0,0,0,{"v":0,"d":"0.00"},"",0,0,0,0,0,0,0,0,0,0,0,0,{"v":0,"d":"0.00"},"",0,0,0,0,0,0,0,0,0,0,0,0,{"v":0,"d":"0.00"},"",0,0,0,0,0,0,0,0,0,0,0,0,"","",{"$nulls":5},0,{"v":0,"d":"0.00"},"",{"$nulls":5},0,{"v":0,"d":"0.00"},"",{"$nulls":5},0,0,"",{"$nulls":5},0,{"v":0,"d":"0.00"},"",null,null,"",500,0,{"v":0,"d":"0.00"},"","","","",0,{"$nulls":3},0,"/",100,"0/100",0,"/",50,"0/50",0,"/",50,"0/50",0,"/",100,"0/100"]
[0,23,0,{"$nulls":7},0,0,0,0,0,0,0,0,0,0,0,0,{"v":0,"d":"0.00"},"",0,0,0,0,0,0,0,0,0,0,0,0,{"v":0,"d":"0.00"},"",0,0,0,0,0,0,0,0,0,0,0,0,{"v":0,"d":"0.00"},"",0,0,0,0,0,0,0,0,0,0,0,0,"","",{"$nulls":5},0,{"v":0,"d":"0.00"},"",{"$nulls":5},0,{"v":0,"d":"0.00"},"",{"$nulls":5},0,0,"",{"$nulls":5},0,{"v":0,"d":"0.00"},"",null,null,"",500,0,{"v":0,"d":"0.00"},"","","","",0,{"$nulls":3},0,"/",100,"0/100",0,"/",50,"0/50",0,"/",50,"0/50",0,"/",100,"0/100"]
[0,24,0,{"$nulls":7},0,0,0,0,0,0,0,0,0,0,0,0,{"v":0,"d":"0.00"},"",0,0,0,0,0,0,0,0,0,0,0,0,{"v":0,"d":"0.00"},"",0,0,0,0,0,0,0,0,0,0,0,0,{"v":0,"d":"0.00"},"",0,0,0,0,0,0,0,0,0,0,0,0,"","",{"$nulls":5},0,{"v":0,"d":"0.00"},"",{"$nulls":5},0,{"v":0,"d":"0.00"},"",{"$nulls":5},0,0,"",{"$nulls":5},0,{"v":0,"d":"0.00"},"",null,null,"",500,0,{"v":0,"d":"0.00"},"","","","",0,{"$nulls":3},0,"/",100,"0/100",0,"/",50,"0/50",0,"/",50,"0/50",0,"/",100,"0/100"]
[0,25,0,{"$nulls":7},0,0,0,0,0,0,0,0,0,0,0,0,{"v":0,"d":"0.00"},"",0,0,0,0,0,0,0,0,0,0,0,0,{"v":0,"d":"0.00"},"",0,0,0,0,0,0,0,0,0,0,0,0,{"v":0,"d":"0.00"},"",0,0,0,0,0,0,0,0,0,0,0,0,"","",{"$nulls":5},0,{"v":0,"d":"0.00"},"",{"$nulls":5},0,{"v":0,"d":"0.00"},"",{"$nulls":5},0,0,"",{"$nulls":5},0,{"v":0,"d":"0.00"},"",null,null,"",500,0,{"v":0,"d":"0.00"},"","","","",0,{"$nulls":3},0,"/",100,"0/100",0,"/",50,"0/50",0,"/",50,"0/50",0,"/",100,"0/100"]
[0,26,0,{"$nulls":7},0,0,0,0,0,0,0,0,0,0,0,0,{"v":0,"d":"0.00"},"",0,0,0,0,0,0,0,0,0,0,0,0,{"v":0,"d":"0.00"},"",0,0,0,0,0,0,0,0,0,0,0,0,{"v":0,"d":"0.00"},"",0,0,0,0,0,0,0,0,0,0,0,0,"","",{"$nulls":5},0,{"v":0,"d":"0.00"},"",{"$nulls":5},0,{"v":0,"d":"0.00"},"",{"$nulls":5},0,0,"",{"$nulls":5},0,{"v":0,"d":"0.00"},"",null,null,"",500,0,{"v":0,"d":"0.00"},"","","","",0,{"$nulls":3},0,"/",100,"0/100",0,"/",50,"0/50",0,"/",50,"0/50",0,"/",100,"0/100"]
[0,27,0,{"$nulls":7},0,0,0,0,0,0,0,0,0,0,0,0,{"v":0,"d":"0.00"},"",0,0,0,0,0,0,0,0,0,0,0,0,{"v":0,"d":"0.00"},"",0,0,0,0,0,0,0,0,0,0,0,0,{"v":0,"d":"0.00"},"",0,0,0,0,0,0,0,0,0,0,0,0,"","",{"$nulls":5},0,{"v":0,"d":"0.00"},"",{"$nulls":5},0,{"v":0,"d":"0.00"},"",{"$nulls":5},0,0,"",{"$nulls":5},0,{"v":0,"d":"0.00"},"",null,null,"",500,0,{"v":0,"d":"0.00"},"","","","",0,{"$nulls":3},0,"/",100,"0/100",0,"/",50,"0/50",0,"/",50,"0/50",0,"/",100,"0/100"]
[0,28,0,{"$nulls":7},0,0,0,0,0,0,0,0,0,0,0,0,{"v":0,"d":"0.00"},"",0,0,0,0,0,0,0,0,0,0,0,0,{"v":0,"d":"0.00"},"",0,0,0,0,0,0,0,0,0,0,0,0,{"v":0,"d":"0.00"},"",0,0,0,0,0,0,0,0,0,0,0,0,"","",{"$nulls":5},0,{"v":0,"d":"0.00"},"",{"$nulls":5},0,{"v":0,"d":"0.00"},"",{"$nulls":5},0,0,"",{"$nulls":5},0,{"v":0,"d":"0.00"},"",null,null,"",500,0,{"v":0,"d":"0.00"},"","","","",0,{"$nulls":3},0,"/",100,"0/100",0,"/",50,"0/50",0,"/",50,"0/50",0,"/",100,"0/100"]
[0,29,0,{"$nulls":7},0,0,0,0,0,0,0,0,0,0,0,0,{"v":0,"d":"0.00"},"",0,0,0,0,0,0,0,0,0,0,0,0,{"v":0,"d":"0.00"},"",0,0,0,0,0,0,0,0,0,0,0,0,{"v":0,"d":"0.00"},"",0,0,0,0,0,0,0,0,0,0,0,0,"","",{"$nulls":5},0,{"v":0,"d":"0.00"},"",{"$nulls":5},0,{"v":0,"d":"0.00"},"",{"$nulls":5},0,0,"",{"$nulls":5},0,{"v":0,"d":"0.00"},"",null,null,"",500,0,{"v":0,"d":"0.00"},"","","","",0,{"$nulls":3},0,"/",100,"0/100",0,"/",50,"0/50",0,"/",50,"0/50",0,"/",100,"0/100"]
[0,30,0,{"$nulls":7},0,0,0,0,0,0,0,0,0,0,0,0,{"v":0,"d":"0.00"},"",0,0,0,0,0,0,0,0,0,0,0,0,{"v":0,"d":"0.00"},"",0,0,0,0,0,0,0,0,0,0,0,0,{"v":0,"d":"0.00"},"",0,0,0,0,0,0,0,0,0,0,0,0,"","",{"$nulls":5},0,{"v":0,"d":"0.00"},"",{"$nulls":5},0,{"v":0,"d":"0.00"},"",{"$nulls":5},0,0,"",{"$nulls":5},0,{"v":0,"d":"0.00"},"",null,null,"",500,0,{"v":0,"d":"0.00"},"","","","",0,{"$nulls":3},0,"/",100,"0/100",0,"/",50,"0/50",0,"/",50,"0/50",0,"/",100,"0/100"]
[0,31,0,{"$nulls":7},0,0,0,0,0,0,0,0,0,0,0,0,{"v":0,"d":"0.00"},"",0,0,0,0,0,0,0,0,0,0,0,0,{"v":0,"d":"0.00"},"",0,0,0,0,0,0,0,0,0,0,0,0,{"v":0,"d":"0.00"},"",0,0,0,0,0,0,0,0,0,0,0,0,"","",{"$nulls":5},0,{"v":0,"d":"0.00"},"",{"$nulls":5},0,{"v":0,"d":"0.00"},"",{"$nulls":5},0,0,"",{"$nulls":5},0,{"v":0,"d":"0.00"},"",null,null,"",500,0,{"v":0,"d":"0.00"},"","","","",0,{"$nulls":3},0,"/",100,"0/100",0,"/",50,"0/50",0,"/",50,"0/50",0,"/",100,"0/100"]
[0,32,0,{"$nulls":7},0,0,0,0,0,0,0,0,0,0,0,0,{"v":0,"d":"0.00"},"",0,0,0,0,0,0,0,0,0,0,0,0,{"v":0,"d":"0.00"},"",0,0,0,0,0,0,0,0,0,0,0,0,{"v":0,"d":"0.00"},"",0,0,0,0,0,0,0,0,0,0,0,0,"","",{"$nulls":5},0,{"v":0,"d":"0.00"},"",{"$nulls":5},0,{"v":0,"d":"0.00"},"",{"$nulls":5},0,0,"",{"$nulls":5},0,{"v":0,"d":"0.00"},"",null,null,"",500,0,{"v":0,"d":"0.00"},"","","","",0,{"$nulls":3},0,"/",100,"0/100",0,"/",50,"0/50",0,"/",50,"0/50",0,"/",100,"0/100"]
[0,33,0,{"$nulls":7},0,0,0,0,0,0,0,0,0,0,0,0,{"v":0,"d":"0.00"},"",0,0,0,0,0,0,0,0,0,0,0,0,{"v":0,"d":"0.00"},"",0,0,0,0,0,0,0,0,0,0,0,0,{"v":0,"d":"0.00"},"",0,0,0,0,0,0,0,0,0,0,0,0,"","",{"$nulls":5},{"$f":"SUM(BO41:BS41)","v":0},{"v":0,"d":"0.00"},"",{"$nulls":5},{"$f":"SUM(BW41:CA41)","v":0},{"v":0,"d":"0.00"},"",{"$nulls":5},{"$f":"SUM(CE41:CI41)","v":0},0,"",{"$nulls":5},{"$f":"SUM(CM41:CQ41)","v":0},{"v":0,"d":"0.00"},"",null,null,"",{"$f":"IF(OR($V$7=\"\",$AJ$7=\"\",$AX$7=\"\",$BL$7=\"\"),\"\",SUM($V$7,$AJ$7,$AX$7,$BL$7))","v":500},0,{"v":0,"d":"0.00"},"","","","",0,{"$nulls":3},0,"/",100,"0/100",0,"/",50,"0/50",0,"/",50,"0/50",0,"/",100,"0/100"]
[0,34,0,{"$nulls":7},0,0,0,0,0,0,0,0,0,0,0,0,{"v":0,"d":"0.00"},"",0,0,0,0,0,0,0,0,0,0,0,0,{"v":0,"d":"0.00"},"",0,0,0,0,0,0,0,0,0,0,0,0,{"v":0,"d":"0.00"},"",0,0,0,0,0,0,0,0,0,0,0,0,"","",{"$nulls":5},0,{"v":0,"d":"0.00"},"",{"$nulls":5},0,{"v":0,"d":"0.00"},"",{"$nulls":5},0,0,"",{"$nulls":5},0,{"v":0,"d":"0.00"},"",null,null,"",500,0,{"v":0,"d":"0.00"},"","","","",0,{"$nulls":3},0,"/",100,"0/100",0,"/",50,"0/50",0,"/",50,"0/50",0,"/",100,"0/100"]
[0,35,0,{"$nulls":7},0,0,0,0,0,0,0,0,0,0,0,0,{"v":0,"d":"0.00"},"",0,0,0,0,0,0,0,0,0,0,0,0,{"v":0,"d":"0.00"},"",0,0,0,0,0,0,0,0,0,0,0,0,{"v":0,"d":"0.00"},"",0,0,0,0,0,0,0,0,0,0,0,0,"","",{"$nulls":5},0,{"v":0,"d":"0.00"},"",{"$nulls":5},0,{"v":0,"d":"0.00"},"",{"$nulls":5},0,0,"",{"$nulls":5},0,{"v":0,"d":"0.00"},"",null,null,"",500,0,{"v":0,"d":"0.00"},"","","","",0,{"$nulls":3},0,"/",100,"0/100",0,"/",50,"0/50",0,"/",50,"0/50",0,"/",100,"0/100"]
[0,36,0,{"$nulls":7},0,0,0,0,0,0,0,0,0,0,0,0,{"v":0,"d":"0.00"},"",0,0,0,0,0,0,0,0,0,0,0,0,{"v":0,"d":"0.00"},"",0,0,0,0,0,0,0,0,0,0,0,0,{"v":0,"d":"0.00"},"",0,0,0,0,0,0,0,0,0,0,0,0,"","",{"$nulls":5},0,{"v":0,"d":"0.00"},"",{"$nulls":5},0,{"v":0,"d":"0.00"},"",{"$nulls":5},0,0,"",{"$nulls":5},0,{"v":0,"d":"0.00"},"",null,null,"",500,0,{"v":0,"d":"0.00"},"","","","",0,{"$nulls":3},0,"/",100,"0/100",0,"/",50,"0/50",0,"/",50,"0/50",0,"/",100,"0/100"]
[0,37,0,{"$nulls":7},0,0,0,0,0,0,0,0,0,0,0,0,{"v":0,"d":"0.00"},"",0,0,0,0,0,0,0,0,0,0,0,0,{"v":0,"d":"0.00"},"",0,0,0,0,0,0,0,0,0,0,0,0,{"v":0,"d":"0.00"},"",0,0,0,0,0,0,0,0,0,0,0,0,"","",{"$nulls":5},0,{"v":0,"d":"0.00"},"",{"$nulls":5},0,{"v":0,"d":"0.00"},"",{"$nulls":5},0,0,"",{"$nulls":5},0,{"v":0,"d":"0.00"},"",null,null,"",500,0,{"v":0,"d":"0.00"},"","","","",0,{"$nulls":3},0,"/",100,"0/100",0,"/",50,"0/50",0,"/",50,"0/50",0,"/",100,"0/100"]
[0,38,0,{"$nulls":7},0,0,0,0,0,0,0,0,0,0,0,0,{"v":0,"d":"0.00"},"",0,0,0,0,0,0,0,0,0,0,0,0,{"v":0,"d":"0.00"},"",0,0,0,0,0,0,0,0,0,0,0,0,{"v":0,"d":"0.00"},"",0,0,0,0,0,0,0,0,0,0,0,0,"","",{"$nulls":5},0,{"v":0,"d":"0.00"},"",{"$nulls":5},0,{"v":0,"d":"0.00"},"",{"$nulls":5},0,0,"",{"$nulls":5},0,{"v":0,"d":"0.00"},"",null,null,"",500,0,{"v":0,"d":"0.00"},"","","","",0,{"$nulls":3},0,"/",100,"0/100",0,"/",50,"0/50",0,"/",50,"0/50",0,"/",100,"0/100"]
[0,39,0,{"$nulls":7},0,0,0,0,0,0,0,0,0,0,0,0,{"v":0,"d":"0.00"},"",0,0,0,0,0,0,0,0,0,0,0,0,{"v":0,"d":"0.00"},"",0,0,0,0,0,0,0,0,0,0,0,0,{"v":0,"d":"0.00"},"",0,0,0,0,0,0,0,0,0,0,0,0,"","",{"$nulls":5},0,{"v":0,"d":"0.00"},"",{"$nulls":5},0,{"v":0,"d":"0.00"},"",{"$nulls":5},0,0,"",{"$nulls":5},0,{"v":0,"d":"0.00"},"",null,null,"",500,0,{"v":0,"d":"0.00"},"","","","",0,{"$nulls":3},0,"/",100,"0/100",0,"/",50,"0/50",0,"/",50,"0/50",0,"/",100,"0/100"]
[0,40,0,{"$nulls":7},0,0,0,0,0,0,0,0,0,0,0,0,{"v":0,"d":"0.00"},"",0,0,0,0,0,0,0,0,0,0,0,0,{"v":0,"d":"0.00"},"",0,0,0,0,0,0,0,0,0,0,0,0,{"v":0,"d":"0.00"},"",0,0,0,0,0,0,0,0,0,0,0,0,"","",{"$nulls":5},0,{"v":0,"d":"0.00"},"",{"$nulls":5},0,{"v":0,"d":"0.00"},"",{"$nulls":5},0,0,"",{"$nulls":5},0,{"v":0,"d":"0.00"},"",null,null,"",500,0,{"v":0,"d":"0.00"},"","","","",0,{"$nulls":3},0,"/",100,"0/100",0,"/",50,"0/50",0,"/",50,"0/50",0,"/",100,"0/100"]
[0,41,0,{"$nulls":7},0,0,0,0,0,0,0,0,0,0,0,0,{"v":0,"d":"0.00"},"",0,0,0,0,0,0,0,0,0,0,0,0,{"v":0,"d":"0.00"},"",0,0,0,0,0,0,0,0,0,0,0,0,{"v":0,"d":"0.00"},"",0,0,0,0,0,0,0,0,0,0,0,0,"","",{"$nulls":5},0,{"v":0,"d":"0.00"},"",{"$nulls":5},0,{"v":0,"d":"0.00"},"",{"$nulls":5},0,0,"",{"$nulls":5},0,{"v":0,"d":"0.00"},"",null,null,"",500,0,{"v":0,"d":"0.00"},"","","","",0,{"$nulls":3},0,"/",100,"0/100",0,"/",50,"0/50",0,"/",50,"0/50",0,"/",100,"0/100"]
[0,42,0,{"$nulls":7},0,0,0,0,0,0,0,0,0,0,0,0,{"v":0,"d":"0.00"},"",0,0,0,0,0,0,0,0,0,0,0,0,{"v":0,"d":"0.00"},"",0,0,0,0,0,0,0,0,0,0,0,0,{"v":0,"d":"0.00"},"",0,0,0,0,0,0,0,0,0,0,0,0,"","",{"$nulls":5},0,{"v":0,"d":"0.00"},"",{"$nulls":5},0,{"v":0,"d":"0.00"},"",{"$nulls":5},0,0,"",{"$nulls":5},0,{"v":0,"d":"0.00"},"",null,null,"",500,0,{"v":0,"d":"0.00"},"","","","",0,{"$nulls":3},0,"/",100,"0/100",0,"/",50,"0/50",0,"/",50,"0/50",0,"/",100,"0/100"]
[0,43,0,{"$nulls":7},0,0,0,0,0,0,0,0,0,0,0,0,{"v":0,"d":"0.00"},"",0,0,0,0,0,0,0,0,0,0,0,0,{"v":0,"d":"0.00"},"",0,0,0,0,0,0,0,0,0,0,0,0,{"v":0,"d":"0.00"},"",0,0,0,0,0,0,0,0,0,0,0,0,"","",{"$nulls":5},0,{"v":0,"d":"0.00"},"",{"$nulls":5},0,{"v":0,"d":"0.00"},"",{"$nulls":5},0,0,"",{"$nulls":5},0,{"v":0,"d":"0.00"},"",null,null,"",500,0,{"v":0,"d":"0.00"},"","","","",0,{"$nulls":3},0,"/",100,"0/100",0,"/",50,"0/50",0,"/",50,"0/50",0,"/",100,"0/100"]
[0,44,0,{"$nulls":7},0,0,0,0,0,0,0,0,0,0,0,0,{"v":0,"d":"0.00"},"",0,0,0,0,0,0,0,0,0,0,0,0,{"v":0,"d":"0.00"},"",0,0,0,0,0,0,0,0,0,0,0,0,{"v":0,"d":"0.00"},"",0,0,0,0,0,0,0,0,0,0,0,0,"","",{"$nulls":5},0,{"v":0,"d":"0.00"},"",{"$nulls":5},0,{"v":0,"d":"0.00"},"",{"$nulls":5},0,0,"",{"$nulls":5},0,{"v":0,"d":"0.00"},"",null,null,"",500,0,{"v":0,"d":"0.00"},"","","","",0,{"$nulls":3},0,"/",100,"0/100",0,"/",50,"0/50",0,"/",50,"0/50",0,"/",100,"0/100"]
[0,45,0,{"$nulls":7},0,0,0,0,0,0,0,0,0,0,0,0,{"v":0,"d":"0.00"},"",0,0,0,0,0,0,0,0,0,0,0,0,{"v":0,"d":"0.00"},"",0,0,0,0,0,0,0,0,0,0,0,0,{"v":0,"d":"0.00"},"",0,0,0,0,0,0,0,0,0,0,0,0,"","",{"$nulls":5},0,{"v":0,"d":"0.00"},"",{"$nulls":5},0,{"v":0,"d":"0.00"},"",{"$nulls":5},0,0,"",{"$nulls":5},0,{"v":0,"d":"0.00"},"",null,null,"",500,0,{"v":0,"d":"0.00"},"","","","",0,{"$nulls":3},0,"/",100,"0/100",0,"/",50,"0/50",0,"/",50,"0/50",0,"/",100,"0/100"]
[0,46,0,{"$nulls":7},0,0,0,0,0,0,0,0,0,0,0,0,{"v":0,"d":"0.00"},"",0,0,0,0,0,0,0,0,0,0,0,0,{"v":0,"d":"0.00"},"",0,0,0,0,0,0,0,0,0,0,0,0,{"v":0,"d":"0.00"},"",0,0,0,0,0,0,0,0,0,0,0,0,"","",{"$nulls":5},0,{"v":0,"d":"0.00"},"",{"$nulls":5},0,{"v":0,"d":"0.00"},"",{"$nulls":5},0,0,"",{"$nulls":5},0,{"v":0,"d":"0.00"},"",null,null,"",500,0,{"v":0,"d":"0.00"},"","","","",0,{"$nulls":3},0,"/",100,"0/100",0,"/",50,"0/50",0,"/",50,"0/50",0,"/",100,"0/100"]
[0,47,0,{"$nulls":7},0,0,0,0,0,0,0,0,0,0,0,0,{"v":0,"d":"0.00"},"",0,0,0,0,0,0,0,0,0,0,0,0,{"v":0,"d":"0.00"},"",0,0,0,0,0,0,0,0,0,0,0,0,{"v":0,"d":"0.00"},"",0,0,0,0,0,0,0,0,0,0,0,0,"","",{"$nulls":5},0,{"v":0,"d":"0.00"},"",{"$nulls":5},0,{"v":0,"d":"0.00"},"",{"$nulls":5},0,0,"",{"$nulls":5},0,{"v":0,"d":"0.00"},"",null,null,"",500,0,{"v":0,"d":"0.00"},"","","","",0,{"$nulls":3},0,"/",100,"0/100",0,"/",50,"0/50",0,"/",50,"0/50",0,"/",100,"0/100"]
[0,48,0,{"$nulls":7},0,0,0,0,0,0,0,0,0,0,0,0,{"v":0,"d":"0.00"},"",0,0,0,0,0,0,0,0,0,0,0,0,{"v":0,"d":"0.00"},"",0,0,0,0,0,0,0,0,0,0,0,0,{"v":0,"d":"0.00"},"",0,0,0,0,0,0,0,0,0,0,0,0,"","",{"$nulls":5},0,{"v":0,"d":"0.00"},"",{"$nulls":5},0,{"v":0,"d":"0.00"},"",{"$nulls":5},0,0,"",{"$nulls":5},0,{"v":0,"d":"0.00"},"",null,null,"",500,0,{"v":0,"d":"0.00"},"","","","",0,{"$nulls":3},0,"/",100,"0/100",0,"/",50,"0/50",0,"/",50,"0/50",0,"/",100,"0/100"]
[0,49,0,{"$nulls":7},0,0,0,0,0,0,0,0,0,0,0,0,{"v":0,"d":"0.00"},"",0,0,0,0,0,0,0,0,0,0,0,0,{"v":0,"d":"0.00"},"",0,0,0,0,0,0,0,0,0,0,0,0,{"v":0,"d":"0.00"},"",0,0,0,0,0,0,0,0,0,0,0,0,"","",{"$nulls":5},0,{"v":0,"d":"0.00"},"",{"$nulls":5},0,{"v":0,"d":"0.00"},"",{"$nulls":5},0,0,"",{"$nulls":5},0,{"v":0,"d":"0.00"},"",null,null,"",500,0,{"v":0,"d":"0.00"},"","","","",0,{"$nulls":3},0,"/",100,"0/100",0,"/",50,"0/50",0,"/",50,"0/50",0,"/",100,"0/100"]
[0,50,0,{"$nulls":7},0,0,0,0,0,0,0,0,0,0,0,0,{"v":0,"d":"0.00"},"",0,0,0,0,0,0,0,0,0,0,0,0,{"v":0,"d":"0.00"},"",0,0,0,0,0,0,0,0,0,0,0,0,{"v":0,"d":"0.00"},"",0,0,0,0,0,0,0,0,0,0,0,0,"","",{"$nulls":5},0,{"v":0,"d":"0.00"},"",{"$nulls":5},0,{"v":0,"d":"0.00"},"",{"$nulls":5},0,0,"",{"$nulls":5},0,{"v":0,"d":"0.00"},"",null,null,"",500,0,{"v":0,"d":"0.00"},"","","","",0,{"$nulls":3},0,"/",100,"0/100",0,"/",50,"0/50",0,"/",50,"0/50",0,"/",100,"0/100"]
[0,51,0,{"$nulls":7},0,0,0,0,0,0,0,0,0,0,0,0,{"v":0,"d":"0.00"},"",0,0,0,0,0,0,0,0,0,0,0,0,{"v":0,"d":"0.00"},"",0,0,0,0,0,0,0,0,0,0,0,0,{"v":0,"d":"0.00"},"",0,0,0,0,0,0,0,0,0,0,0,0,"","",{"$nulls":5},0,{"v":0,"d":"0.00"},"",{"$nulls":5},0,{"v":0,"d":"0.00"},"",{"$nulls":5},0,0,"",{"$nulls":5},0,{"v":0,"d":"0.00"},"",null,null,"",500,0,{"v":0,"d":"0.00"},"","","","",0,{"$nulls":3},0,"/",100,"0/100",0,"/",50,"0/50",0,"/",50,"0/50",0,"/",100,"0/100"]
[0,52,0,{"$nulls":7},0,0,0,0,0,0,0,0,0,0,0,0,{"v":0,"d":"0.00"},"",0,0,0,0,0,0,0,0,0,0,0,0,{"v":0,"d":"0.00"},"",0,0,0,0,0,0,0,0,0,0,0,0,{"v":0,"d":"0.00"},"",0,0,0,0,0,0,0,0,0,0,0,0,"","",{"$nulls":5},0,{"v":0,"d":"0.00"},"",{"$nulls":5},0,{"v":0,"d":"0.00"},"",{"$nulls":5},0,0,"",{"$nulls":5},0,{"v":0,"d":"0.00"},"",null,null,"",500,0,{"v":0,"d":"0.00"},"","","","",0,{"$nulls":3},0,"/",100,"0/100",0,"/",50,"0/50",0,"/",50,"0/50",0,"/",100,"0/100"]
[0,53,0,{"$nulls":7},0,0,0,0,0,0,0,0,0,0,0,0,{"v":0,"d":"0.00"},"",0,0,0,0,0,0,0,0,0,0,0,0,{"v":0,"d":"0.00"},"",0,0,0,0,0,0,0,0,0,0,0,0,{"v":0,"d":"0.00"},"",0,0,0,0,0,0,0,0,0,0,0,0,"","",{"$nulls":5},0,{"v":0,"d":"0.00"},"",{"$nulls":5},0,{"v":0,"d":"0.00"},"",{"$nulls":5},0,0,"",{"$nulls":5},0,{"v":0,"d":"0.00"},"",null,null,"",500,0,{"v":0,"d":"0.00"},"","","","",0,{"$nulls":3},0,"/",100,"0/100",0,"/",50,"0/50",0,"/",50,"0/50",0,"/",100,"0/100"]
[0,54,0,{"$nulls":7},0,0,0,0,0,0,0,0,0,0,0,0,{"v":0,"d":"0.00"},"",0,0,0,0,0,0,0,0,0,0,0,0,{"v":0,"d":"0.00"},"",0,0,0,0,0,0,0,0,0,0,0,0,{"v":0,"d":"0.00"},"",0,0,0,0,0,0,0,0,0,0,0,0,"","",{"$nulls":5},0,{"v":0,"d":"0.00"},"",{"$nulls":5},0,{"v":0,"d":"0.00"},"",{"$nulls":5},0,0,"",{"$nulls":5},0,{"v":0,"d":"0.00"},"",null,null,"",500,0,{"v":0,"d":"0.00"},"","","","",0,{"$nulls":3},0,"/",100,"0/100",0,"/",50,"0/50",0,"/",50,"0/50",0,"/",100,"0/100"]
[0,55,0,{"$nulls":7},0,0,0,0,0,0,0,0,0,0,0,0,{"v":0,"d":"0.00"},"",0,0,0,0,0,0,0,0,0,0,0,0,{"v":0,"d":"0.00"},"",0,0,0,0,0,0,0,0,0,0,0,0,{"v":0,"d":"0.00"},"",0,0,0,0,0,0,0,0,0,0,0,0,"","",{"$nulls":5},0,{"v":0,"d":"0.00"},"",{"$nulls":5},0,{"v":0,"d":"0.00"},"",{"$nulls":5},0,0,"",{"$nulls":5},0,{"v":0,"d":"0.00"},"",null,null,"",500,0,{"v":0,"d":"0.00"},"","","","",0,{"$nulls":3},0,"/",100,"0/100",0,"/",50,"0/50",0,"/",50,"0/50",0,"/",100,"0/100"]
[0,56,0,{"$nulls":7},0,0,0,0,0,0,0,0,0,0,0,0,{"v":0,"d":"0.00"},"",0,0,0,0,0,0,0,0,0,0,0,0,{"v":0,"d":"0.00"},"",0,0,0,0,0,0,0,0,0,0,0,0,{"v":0,"d":"0.00"},"",0,0,0,0,0,0,0,0,0,0,0,0,"","",{"$nulls":5},0,{"v":0,"d":"0.00"},"",{"$nulls":5},0,{"v":0,"d":"0.00"},"",{"$nulls":5},0,0,"",{"$nulls":5},0,{"v":0,"d":"0.00"},"",null,null,"",500,0,{"v":0,"d":"0.00"},"","","","",0,{"$nulls":3},0,"/",100,"0/100",0,"/",50,"0/50",0,"/",50,"0/50",0,"/",100,"0/100"]
[0,57,0,{"$nulls":7},0,0,0,0,0,0,0,0,0,0,0,0,{"v":0,"d":"0.00"},"",0,0,0,0,0,0,0,0,0,0,0,0,{"v":0,"d":"0.00"},"",0,0,0,0,0,0,0,0,0,0,0,0,{"v":0,"d":"0.00"},"",0,0,0,0,0,0,0,0,0,0,0,0,"","",{"$nulls":5},0,{"v":0,"d":"0.00"},"",{"$nulls":5},0,{"v":0,"d":"0.00"},"",{"$nulls":5},0,0,"",{"$nulls":5},0,{"v":0,"d":"0.00"},"",null,null,"",500,0,{"v":0,"d":"0.00"},"","","","",0,{"$nulls":3},0,"/",100,"0/100",0,"/",50,"0/50",0,"/",50,"0/50",0,"/",100,"0/100"]
[0,58,0,{"$nulls":7},0,0,0,0,0,0,0,0,0,0,0,0,{"v":0,"d":"0.00"},"",0,0,0,0,0,0,0,0,0,0,0,0,{"v":0,"d":"0.00"},"",0,0,0,0,0,0,0,0,0,0,0,0,{"v":0,"d":"0.00"},"",0,0,0,0,0,0,0,0,0,0,0,0,"","",{"$nulls":5},0,{"v":0,"d":"0.00"},"",{"$nulls":5},0,{"v":0,"d":"0.00"},"",{"$nulls":5},0,0,"",{"$nulls":5},0,{"v":0,"d":"0.00"},"",null,null,"",500,0,{"v":0,"d":"0.00"},"","","","",0,{"$nulls":3},0,"/",100,"0/100",0,"/",50,"0/50",0,"/",50,"0/50",0,"/",100,"0/100"]
[0,59,0,{"$nulls":7},0,0,0,0,0,0,0,0,0,0,0,0,{"v":0,"d":"0.00"},"",0,0,0,0,0,0,0,0,0,0,0,0,{"v":0,"d":"0.00"},"",0,0,0,0,0,0,0,0,0,0,0,0,{"v":0,"d":"0.00"},"",0,0,0,0,0,0,0,0,0,0,0,0,"","",{"$nulls":5},0,{"v":0,"d":"0.00"},"",{"$nulls":5},0,{"v":0,"d":"0.00"},"",{"$nulls":5},0,0,"",{"$nulls":5},0,{"v":0,"d":"0.00"},"",null,null,"",500,0,{"v":0,"d":"0.00"},"","","","",0,{"$nulls":3},0,"/",100,"0/100",0,"/",50,"0/50",0,"/",50,"0/50",0,"/",100,"0/100"]
[0,60,0,{"$nulls":7},0,0,0,0,0,0,0,0,0,0,0,0,{"v":0,"d":"0.00"},"",0,0,0,0,0,0,0,0,0,0,0,0,{"v":0,"d":"0.00"},"",0,0,0,0,0,0,0,0,0,0,0,0,{"v":0,"d":"0.00"},"",0,0,0,0,0,0,0,0,0,0,0,0,"","",{"$nulls":5},0,{"v":0,"d":"0.00"},"",{"$nulls":5},0,{"v":0,"d":"0.00"},"",{"$nulls":5},0,0,"",{"$nulls":5},0,{"v":0,"d":"0.00"},"",null,null,"",500,0,{"v":0,"d":"0.00"},"","","","",0,{"$nulls":3},0,"/",100,"0/100",0,"/",50,"0/50",0,"/",50,"0/50",0,"/",100,"0/100"]
[0,61,0,{"$nulls":7},0,0,0,0,0,0,0,0,0,0,0,0,{"v":0,"d":"0.00"},"",0,0,0,0,0,0,0,0,0,0,0,0,{"v":0,"d":"0.00"},"",0,0,0,0,0,0,0,0,0,0,0,0,{"v":0,"d":"0.00"},"",0,0,0,0,0,0,0,0,0,0,0,0,"","",{"$nulls":5},0,{"v":0,"d":"0.00"},"",{"$nulls":5},0,{"v":0,"d":"0.00"},"",{"$nulls":5},0,0,"",{"$nulls":5},0,{"v":0,"d":"0.00"},"",null,null,"",500,0,{"v":0,"d":"0.00"},"","","","",0,{"$nulls":3},0,"/",100,"0/100",0,"/",50,"0/50",0,"/",50,"0/50",0,"/",100,"0/100"]
[0,62,0,{"$nulls":7},0,0,0,0,0,0,0,0,0,0,0,0,{"v":0,"d":"0.00"},"",0,0,0,0,0,0,0,0,0,0,0,0,{"v":0,"d":"0.00"},"",0,0,0,0,0,0,0,0,0,0,0,0,{"v":0,"d":"0.00"},"",0,0,0,0,0,0,0,0,0,0,0,0,"","",{"$nulls":5},0,{"v":0,"d":"0.00"},"",{"$nulls":5},0,{"v":0,"d":"0.00"},"",{"$nulls":5},0,0,"",{"$nulls":5},0,{"v":0,"d":"0.00"},"",null,null,"",500,0,{"v":0,"d":"0.00"},"","","","",0,{"$nulls":3},0,"/",100,"0/100",0,"/",50,"0/50",0,"/",50,"0/50",0,"/",100,"0/100"]
[0,63,0,{"$nulls":7},0,0,0,0,0,0,0,0,0,0,0,0,{"v":0,"d":"0.00"},"",0,0,0,0,0,0,0,0,0,0,0,0,{"v":0,"d":"0.00"},"",0,0,0,0,0,0,0,0,0,0,0,0,{"v":0,"d":"0.00"},"",0,0,0,0,0,0,0,0,0,0,0,0,"","",{"$nulls":5},0,{"v":0,"d":"0.00"},"",{"$nulls":5},0,{"v":0,"d":"0.00"},"",{"$nulls":5},0,0,"",{"$nulls":5},0,{"v":0,"d":"0.00"},"",null,null,"",500,0,{"v":0,"d":"0.00"},"","","","",0,{"$nulls":3},0,"/",100,"0/100",0,"/",50,"0/50",0,"/",50,"0/50",0,"/",100,"0/100"]
[0,64,0,{"$nulls":7},0,0,0,0,0,0,0,0,0,0,0,0,{"v":0,"d":"0.00"},"",0,0,0,0,0,0,0,0,0,0,0,0,{"v":0,"d":"0.00"},"",0,0,0,0,0,0,0,0,0,0,0,0,{"v":0,"d":"0.00"},"",0,0,0,0,0,0,0,0,0,0,0,0,"","",{"$nulls":5},0,{"v":0,"d":"0.00"},"",{"$nulls":5},0,{"v":0,"d":"0.00"},"",{"$nulls":5},0,0,"",{"$nulls":5},0,{"v":0,"d":"0.00"},"",null,null,"",500,0,{"v":0,"d":"0.00"},"","","","",0,{"$nulls":3},0,"/",100,"0/100",0,"/",50,"0/50",0,"/",50,"0/50",0,"/",100,"0/100"]
[0,65,0,{"$nulls":7},0,0,0,0,0,0,0,0,0,0,0,0,{"v":0,"d":"0.00"},"",0,0,0,0,0,0,0,0,0,0,0,0,{"v":0,"d":"0.00"},"",0,0,0,0,0,0,0,0,0,0,0,0,{"v":0,"d":"0.00"},"",0,0,0,0,0,0,0,0,0,0,0,0,"","",{"$nulls":5},{"$f":"SUM(BO73:BS73)","v":0},{"v":0,"d":"0.00"},"",{"$nulls":5},{"$f":"SUM(BW73:CA73)","v":0},{"v":0,"d":"0.00"},"",{"$nulls":5},{"$f":"SUM(CE73:CI73)","v":0},0,"",{"$nulls":5},{"$f":"SUM(CM73:CQ73)","v":0},{"v":0,"d":"0.00"},"",null,null,"",{"$f":"IF(OR($V$7=\"\",$AJ$7=\"\",$AX$7=\"\",$BL$7=\"\"),\"\",SUM($V$7,$AJ$7,$AX$7,$BL$7))","v":500},0,{"v":0,"d":"0.00"},"","","","",0,{"$nulls":3},0,"/",100,"0/100",0,"/",50,"0/50",0,"/",50,"0/50",0,"/",100,"0/100"]
[{"$f":"F74","v":0},66,{"$f":"IF(D74>0,$F$4,0)","v":0},{"$nulls":7},0,0,0,0,0,0,0,0,0,0,0,0,{"$f":"IF(OR(V74=\"\",V$7=\"\"),\"\",V74/V$7*100)","v":{"v":0,"d":"0.00"}},{"$f":"IF(OR(W74=\"\",$F74=\"\",$F74=\"ab\",$F74=\"ml\"),\"\",IF(W74>=86,\"A\",IF(W74>=71,\"B\",IF(W74>=51,\"C\",IF(W74>=31,\"D\",IF(W74=0,0,\"E\"))))))","v":""},0,0,{"$f":"SUM(Y74:Z74)","v":0},0,0,0,{"$f":"SUM(AB74:AD74)","v":0},0,0,0,{"$f":"SUM(AF74:AH74)","v":0},{"$f":"AA74+AE74+AI74","v":0},{"$f":"IF(OR(AJ74=\"\",AJ$7=\"\"),\"\",AJ74/AJ$7*100)","v":{"v":0,"d":"0.00"}},{"$f":"IF(OR(AK74=\"\",$F74=\"\",$F74=\"ab\",$F74=\"ml\"),\"\",IF(AK74>=86,\"A\",IF(AK74>=71,\"B\",IF(AK74>=51,\"C\",IF(AK74>=31,\"D\",IF(AK74=0,0,\"E\"))))))","v":""},0,0,{"$f":"SUM(AM74:AN74)","v":0},0,0,0,{"$f":"SUM(AP74:AR74)","v":0},0,0,0,{"$f":"SUM(AT74:AV74)","v":0},{"$f":"AO74+AS74+AW74","v":0},{"$f":"IF(OR(AX74=\"\",AX$7=\"\"),\"\",AX74/AX$7*100)","v":{"v":0,"d":"0.00"}},{"$f":"IF(OR(AY74=\"\",$F74=\"\",$F74=\"ab\",$F74=\"ml\"),\"\",IF(AY74>=86,\"A\",IF(AY74>=71,\"B\",IF(AY74>=51,\"C\",IF(AY74>=31,\"D\",IF(AY74=0,0,\"E\"))))))","v":""},0,0,{"$f":"SUM(BA74:BB74)","v":0},0,0,0,{"$f":"SUM(BD74:BF74)","v":0},0,0,0,{"$f":"SUM(BH74:BJ74)","v":0},{"$f":"BC74+BG74+BK74","v":0},{"$f":"IF(OR(BL$7=0,0),\"\",ROUNDUP(BL74/BL$7*100,0))","v":""},{"$f":"IF(OR(BM74=\"\",$F74=\"\",$F74=\"ab\",$F74=\"ml\"),\"\",IF(BM74>85,\"A\",IF(BM74>70,\"B\",IF(BM74>50,\"C\",IF(BM74>30,\"D\",IF(BM74=0,0,\"E\"))))))","v":""},{"$nulls":5},0,{"$f":"IF(OR(BT74=\"\",BT$7=\"\"),\"\",BT74/BT$7*100)","v":{"v":0,"d":"0.00"}},{"$f":"IF(OR(BU74=\"\",$F74=\"\",$F74=\"ab\",$F74=\"ml\"),\"\",IF(BU74>=86,\"A\",IF(BU74>=71,\"B\",IF(BU74>=51,\"C\",IF(BU74>=31,\"D\",IF(BU74=0,0,\"E\"))))))","v":""},{"$nulls":5},0,{"$f":"IF(OR(CB74=\"\",CB$7=\"\"),\"\",CB74/CB$7*100)","v":{"v":0,"d":"0.00"}},{"$f":"IF(OR(CC74=\"\",$F74=\"\",$F74=\"ab\",$F74=\"ml\"),\"\",IF(CC74>=86,\"A\",IF(CC74>=71,\"B\",IF(CC74>=51,\"C\",IF(CC74>=31,\"D\",IF(CC74=0,0,\"E\"))))))","v":""},{"$nulls":5},0,{"$f":"IF(OR(CJ74=\"\",CJ$7=\"\"),\"\",CJ74/CJ$7*100)","v":0},{"$f":"IF(OR(CK74=\"\",$F74=\"\",$F74=\"ab\",$F74=\"ml\"),\"\",IF(CK74>=86,\"A\",IF(CK74>=71,\"B\",IF(CK74>=51,\"C\",IF(CK74>=31,\"D\",IF(CK74=0,0,\"E\"))))))","v":""},{"$nulls":5},0,{"$f":"IF(OR(CR74=\"\",CR$7=\"\"),\"\",CR74/CR$7*100)","v":{"v":0,"d":"0.00"}},{"$f":"IF(OR(CS74=\"\",$F74=\"\",$F74=\"ab\",$F74=\"ml\"),\"\",IF(CS74>=86,\"A\",IF(CS74>=71,\"B\",IF(CS74>=51,\"C\",IF(CS74>=31,\"D\",IF(CS74=0,0,\"E\"))))))","v":""},null,null,{"$f":"IF(OR(CU74=\"\",CV74=\"\"),\"\",CV74/CU74*100)","v":""},500,{"$f":"IF(OR(V74=\"\",AJ74=\"\",AX74=\"\"),\"\",SUM(V74,AJ74,AX74))","v":0},{"$f":"IF(CX74>0,CY74/CX74*100)","v":{"v":0,"d":"0.00"}},{"$f":"IF(OR($F74=\"\",$F74=\"ab\",$F74=\"ml\"),\"\",IF(CZ74>=86,\"A\",IF(CZ74>=71,\"B\",IF(CZ74>=51,\"C\",IF(CZ74>=31,\"D\",IF(CZ74=0,0,\"E\"))))))","v":""},{"$f":"IF(F74=\"TC\",\"Transfered\",IF(OR(F74=\"\",F74=\"DROP\",X74=\"\",AL74=\"\",AZ74=\"\"),\"\",IF(CZ74<33,\"Promoted\",\"Passed\")))","v":""},{"$f":"IF(DB74=\"Passed\",CZ74,\"\")","v":""},{"$f":"IF(DC74=\"\",\"\",SUMPRODUCT((DC74<DC$9:DC$108)/COUNTIF(DC$9:DC$108,DC$9:DC$108)))","v":""},{"$f":"IF(DA74=\"A+\",\"Excellent\",IF(DA74=\"A\",\"Excellent\",IF(DA74=\"B\",\"Very Good\",IF(DA74=\"C\",\"Good\",IF(DA74=\"D\",\"Average\",IF(DA74=\"E\",\"Needs Improvement\",0))))))","v":0},{"$nulls":3},{"$f":"BT74","v":0},"/",{"$f":"$BT$7","v":100},{"$f":"CONCATENATE(DI74,DJ74,DK74)","v":"0/100"},{"$f":"CB74","v":0},"/",{"$f":"$CB$7","v":50},{"$f":"CONCATENATE(DM74,DN74,DO74)","v":"0/50"},{"$f":"CJ74","v":0},"/",{"$f":"$CJ$7","v":50},{"$f":"CONCATENATE(DQ74,DR74,DS74)","v":"0/50"},{"$f":"CR74","v":0},"/",{"$f":"$CR$7","v":100},{"$f":"CONCATENATE(DU74,DV74,DW74)","v":"0/100"}]
[0,67,0,{"$nulls":7},0,0,0,0,0,0,0,0,0,0,0,0,{"v":0,"d":"0.00"},"",0,0,0,0,0,0,0,0,0,0,0,0,{"v":0,"d":"0.00"},"",0,0,0,0,0,0,0,0,0,0,0,0,{"v":0,"d":"0.00"},"",0,0,0,0,0,0,0,0,0,0,0,0,"","",{"$nulls":5},0,{"v":0,"d":"0.00"},"",{"$nulls":5},0,{"v":0,"d":"0.00"},"",{"$nulls":5},0,0,"",{"$nulls":5},0,{"v":0,"d":"0.00"},"",null,null,"",500,0,{"v":0,"d":"0.00"},"","","","",0,{"$nulls":3},0,"/",100,"0/100",0,"/",50,"0/50",0,"/",50,"0/50",0,"/",100,"0/100"]
[0,68,0,{"$nulls":7},0,0,0,0,0,0,0,0,0,0,0,0,{"v":0,"d":"0.00"},"",0,0,0,0,0,0,0,0,0,0,0,0,{"v":0,"d":"0.00"},"",0,0,0,0,0,0,0,0,0,0,0,0,{"v":0,"d":"0.00"},"",0,0,0,0,0,0,0,0,0,0,0,0,"","",{"$nulls":5},0,{"v":0,"d":"0.00"},"",{"$nulls":5},0,{"v":0,"d":"0.00"},"",{"$nulls":5},0,0,"",{"$nulls":5},0,{"v":0,"d":"0.00"},"",null,null,"",500,0,{"v":0,"d":"0.00"},"","","","",0,{"$nulls":3},0,"/",100,"0/100",0,"/",50,"0/50",0,"/",50,"0/50",0,"/",100,"0/100"]
[0,69,0,{"$nulls":7},0,0,{"$f":"SUM(K77:L77)","v":0},0,0,0,{"$f":"SUM(N77:P77)","v":0},0,0,0,{"$f":"SUM(R77:T77)","v":0},{"$f":"M77+Q77+U77","v":0},{"v":0,"d":"0.00"},"",0,0,0,0,0,0,0,0,0,0,0,0,{"v":0,"d":"0.00"},"",0,0,0,0,0,0,0,0,0,0,0,0,{"v":0,"d":"0.00"},"",0,0,0,0,0,0,0,0,0,0,0,0,"","",{"$nulls":5},0,{"v":0,"d":"0.00"},"",{"$nulls":5},0,{"v":0,"d":"0.00"},"",{"$nulls":5},0,0,"",{"$nulls":5},0,{"v":0,"d":"0.00"},"",null,null,"",500,0,{"v":0,"d":"0.00"},"","","","",0,{"$nulls":3},0,"/",100,"0/100",0,"/",50,"0/50",0,"/",50,"0/50",0,"/",100,"0/100"]
[0,70,0,{"$nulls":7},0,0,0,0,0,0,0,0,0,0,0,0,{"v":0,"d":"0.00"},"",0,0,0,0,0,0,0,0,0,0,0,0,{"v":0,"d":"0.00"},"",0,0,0,0,0,0,0,0,0,0,0,0,{"v":0,"d":"0.00"},"",0,0,0,0,0,0,0,0,0,0,0,0,"","",{"$nulls":5},0,{"v":0,"d":"0.00"},"",{"$nulls":5},0,{"v":0,"d":"0.00"},"",{"$nulls":5},0,0,"",{"$nulls":5},0,{"v":0,"d":"0.00"},"",null,null,"",500,0,{"v":0,"d":"0.00"},"","","","",0,{"$nulls":3},0,"/",100,"0/100",0,"/",50,"0/50",0,"/",50,"0/50",0,"/",100,"0/100"]
[0,71,0,{"$nulls":7},0,0,0,0,0,0,0,0,0,0,0,0,{"v":0,"d":"0.00"},"",0,0,0,0,0,0,0,0,0,0,0,0,{"v":0,"d":"0.00"},"",0,0,0,0,0,0,0,0,0,0,0,0,{"v":0,"d":"0.00"},"",0,0,0,0,0,0,0,0,0,0,0,0,"","",{"$nulls":5},0,{"v":0,"d":"0.00"},"",{"$nulls":5},0,{"v":0,"d":"0.00"},"",{"$nulls":5},0,0,"",{"$nulls":5},0,{"v":0,"d":"0.00"},"",null,null,"",500,0,{"v":0,"d":"0.00"},"","","","",0,{"$nulls":3},0,"/",100,"0/100",0,"/",50,"0/50",0,"/",50,"0/50",0,"/",100,"0/100"]
[0,72,0,{"$nulls":7},0,0,0,0,0,0,0,0,0,0,0,0,{"v":0,"d":"0.00"},"",0,0,0,0,0,0,0,0,0,0,0,0,{"v":0,"d":"0.00"},"",0,0,0,0,0,0,0,0,0,0,0,0,{"v":0,"d":"0.00"},"",0,0,0,0,0,0,0,0,0,0,0,0,"","",{"$nulls":5},0,{"v":0,"d":"0.00"},"",{"$nulls":5},0,{"v":0,"d":"0.00"},"",{"$nulls":5},0,0,"",{"$nulls":5},0,{"v":0,"d":"0.00"},"",null,null,"",500,0,{"v":0,"d":"0.00"},"","","","",0,{"$nulls":3},0,"/",100,"0/100",0,"/",50,"0/50",0,"/",50,"0/50",0,"/",100,"0/100"]
[0,73,0,{"$nulls":7},0,0,0,0,0,0,0,0,0,0,0,0,{"v":0,"d":"0.00"},"",0,0,0,0,0,0,0,0,0,0,0,0,{"v":0,"d":"0.00"},"",0,0,0,0,0,0,0,0,0,0,0,0,{"v":0,"d":"0.00"},"",0,0,0,0,0,0,0,0,0,0,0,0,"","",{"$nulls":5},0,{"v":0,"d":"0.00"},"",{"$nulls":5},0,{"v":0,"d":"0.00"},"",{"$nulls":5},0,0,"",{"$nulls":5},0,{"v":0,"d":"0.00"},"",null,null,"",500,0,{"v":0,"d":"0.00"},"","","","",0,{"$nulls":3},0,"/",100,"0/100",0,"/",50,"0/50",0,"/",50,"0/50",0,"/",100,"0/100"]
[0,74,0,{"$nulls":7},0,0,0,0,0,0,0,0,0,0,0,0,{"v":0,"d":"0.00"},"",0,0,0,0,0,0,0,0,0,0,0,0,{"v":0,"d":"0.00"},"",0,0,0,0,0,0,0,0,0,0,0,0,{"v":0,"d":"0.00"},"",0,0,0,0,0,0,0,0,0,0,0,0,"","",{"$nulls":5},0,{"v":0,"d":"0.00"},"",{"$nulls":5},0,{"v":0,"d":"0.00"},"",{"$nulls":5},0,0,"",{"$nulls":5},0,{"v":0,"d":"0.00"},"",null,null,"",500,0,{"v":0,"d":"0.00"},"","","","",0,{"$nulls":3},0,"/",100,"0/100",0,"/",50,"0/50",0,"/",50,"0/50",0,"/",100,"0/100"]
[0,75,0,{"$nulls":7},0,0,0,0,0,0,0,0,0,0,0,0,{"v":0,"d":"0.00"},"",0,0,0,0,0,0,0,0,0,0,0,0,{"v":0,"d":"0.00"},"",0,0,0,0,0,0,0,0,0,0,0,0,{"v":0,"d":"0.00"},"",0,0,0,0,0,0,0,0,0,0,0,0,"","",{"$nulls":5},0,{"v":0,"d":"0.00"},"",{"$nulls":5},0,{"v":0,"d":"0.00"},"",{"$nulls":5},0,0,"",{"$nulls":5},0,{"v":0,"d":"0.00"},"",null,null,"",500,0,{"v":0,"d":"0.00"},"","","","",0,{"$nulls":3},0,"/",100,"0/100",0,"/",50,"0/50",0,"/",50,"0/50",0,"/",100,"0/100"]
[0,76,0,{"$nulls":7},0,0,0,0,0,0,0,0,0,0,0,0,{"v":0,"d":"0.00"},"",0,0,0,0,0,0,0,0,0,0,0,0,{"v":0,"d":"0.00"},"",0,0,0,0,0,0,0,0,0,0,0,0,{"v":0,"d":"0.00"},"",0,0,0,0,0,0,0,0,0,0,0,0,"","",{"$nulls":5},0,{"v":0,"d":"0.00"},"",{"$nulls":5},0,{"v":0,"d":"0.00"},"",{"$nulls":5},0,0,"",{"$nulls":5},0,{"v":0,"d":"0.00"},"",null,null,"",500,0,{"v":0,"d":"0.00"},"","","","",0,{"$nulls":3},0,"/",100,"0/100",0,"/",50,"0/50",0,"/",50,"0/50",0,"/",100,"0/100"]
[0,77,0,{"$nulls":7},0,0,0,0,0,0,0,0,0,0,0,0,{"v":0,"d":"0.00"},"",0,0,0,0,0,0,0,0,0,0,0,0,{"v":0,"d":"0.00"},"",0,0,0,0,0,0,0,0,0,0,0,0,{"v":0,"d":"0.00"},"",0,0,0,0,0,0,0,0,0,0,0,0,"","",{"$nulls":5},0,{"v":0,"d":"0.00"},"",{"$nulls":5},0,{"v":0,"d":"0.00"},"",{"$nulls":5},0,0,"",{"$nulls":5},0,{"v":0,"d":"0.00"},"",null,null,"",500,0,{"v":0,"d":"0.00"},"","","","",0,{"$nulls":3},0,"/",100,"0/100",0,"/",50,"0/50",0,"/",50,"0/50",0,"/",100,"0/100"]
[0,78,0,{"$nulls":7},0,0,0,0,0,0,0,0,0,0,0,0,{"v":0,"d":"0.00"},"",0,0,0,0,0,0,0,0,0,0,0,0,{"v":0,"d":"0.00"},"",0,0,0,0,0,0,0,0,0,0,0,0,{"v":0,"d":"0.00"},"",0,0,0,0,0,0,0,0,0,0,0,0,"","",{"$nulls":5},0,{"v":0,"d":"0.00"},"",{"$nulls":5},0,{"v":0,"d":"0.00"},"",{"$nulls":5},0,0,"",{"$nulls":5},0,{"v":0,"d":"0.00"},"",null,null,"",500,0,{"v":0,"d":"0.00"},"","","","",0,{"$nulls":3},0,"/",100,"0/100",0,"/",50,"0/50",0,"/",50,"0/50",0,"/",100,"0/100"]
[0,79,0,{"$nulls":7},0,0,0,0,0,0,0,0,0,0,0,0,{"v":0,"d":"0.00"},"",0,0,0,0,0,0,0,0,0,0,0,0,{"v":0,"d":"0.00"},"",0,0,0,0,0,0,0,0,0,0,0,0,{"v":0,"d":"0.00"},"",0,0,0,0,0,0,0,0,0,0,0,0,"","",{"$nulls":5},0,{"v":0,"d":"0.00"},"",{"$nulls":5},0,{"v":0,"d":"0.00"},"",{"$nulls":5},0,0,"",{"$nulls":5},0,{"v":0,"d":"0.00"},"",null,null,"",500,0,{"v":0,"d":"0.00"},"","","","",0,{"$nulls":3},0,"/",100,"0/100",0,"/",50,"0/50",0,"/",50,"0/50",0,"/",100,"0/100"]
[0,80,0,{"$nulls":7},0,0,0,0,0,0,0,0,0,0,0,0,{"v":0,"d":"0.00"},"",0,0,0,0,0,0,0,0,0,0,0,0,{"v":0,"d":"0.00"},"",0,0,0,0,0,0,0,0,0,0,0,0,{"v":0,"d":"0.00"},"",0,0,0,0,0,0,0,0,0,0,0,0,"","",{"$nulls":5},0,{"v":0,"d":"0.00"},"",{"$nulls":5},0,{"v":0,"d":"0.00"},"",{"$nulls":5},0,0,"",{"$nulls":5},0,{"v":0,"d":"0.00"},"",null,null,"",500,0,{"v":0,"d":"0.00"},"","","","",0,{"$nulls":3},0,"/",100,"0/100",0,"/",50,"0/50",0,"/",50,"0/50",0,"/",100,"0/100"]
[0,81,0,{"$nulls":7},0,0,0,0,0,0,0,0,0,0,0,0,{"v":0,"d":"0.00"},"",0,0,0,0,0,0,0,0,0,0,0,0,{"v":0,"d":"0.00"},"",0,0,0,0,0,0,0,0,0,0,0,0,{"v":0,"d":"0.00"},"",0,0,0,0,0,0,0,0,0,0,0,0,"","",{"$nulls":5},0,{"v":0,"d":"0.00"},"",{"$nulls":5},0,{"v":0,"d":"0.00"},"",{"$nulls":5},0,0,"",{"$nulls":5},0,{"v":0,"d":"0.00"},"",null,null,"",500,0,{"v":0,"d":"0.00"},"","","","",0,{"$nulls":3},0,"/",100,"0/100",0,"/",50,"0/50",0,"/",50,"0/50",0,"/",100,"0/100"]
[0,82,0,{"$nulls":7},0,0,0,0,0,0,0,0,0,0,0,0,{"v":0,"d":"0.00"},"",0,0,0,0,0,0,0,0,0,0,0,0,{"v":0,"d":"0.00"},"",0,0,0,0,0,0,0,0,0,0,0,0,{"v":0,"d":"0.00"},"",0,0,0,0,0,0,0,0,0,0,0,0,"","",{"$nulls":5},0,{"v":0,"d":"0.00"},"",{"$nulls":5},0,{"v":0,"d":"0.00"},"",{"$nulls":5},0,0,"",{"$nulls":5},0,{"v":0,"d":"0.00"},"",null,null,"",500,0,{"v":0,"d":"0.00"},"","","","",0,{"$nulls":3},0,"/",100,"0/100",0,"/",50,"0/50",0,"/",50,"0/50",0,"/",100,"0/100"]
[0,83,0,{"$nulls":7},0,0,0,0,0,0,0,0,0,0,0,0,{"v":0,"d":"0.00"},"",0,0,0,0,0,0,0,0,0,0,0,0,{"v":0,"d":"0.00"},"",0,0,0,0,0,0,0,0,0,0,0,0,{"v":0,"d":"0.00"},"",0,0,0,0,0,0,0,0,0,0,0,0,"","",{"$nulls":5},0,{"v":0,"d":"0.00"},"",{"$nulls":5},0,{"v":0,"d":"0.00"},"",{"$nulls":5},0,0,"",{"$nulls":5},0,{"v":0,"d":"0.00"},"",null,null,"",500,0,{"v":0,"d":"0.00"},"","","","",0,{"$nulls":3},0,"/",100,"0/100",0,"/",50,"0/50",0,"/",50,"0/50",0,"/",100,"0/100"]
[0,84,0,{"$nulls":7},0,0,0,0,0,0,0,0,0,0,0,0,{"v":0,"d":"0.00"},"",0,0,0,0,0,0,0,0,0,0,0,0,{"v":0,"d":"0.00"},"",0,0,0,0,0,0,0,0,0,0,0,0,{"v":0,"d":"0.00"},"",0,0,0,0,0,0,0,0,0,0,0,0,"","",{"$nulls":5},0,{"v":0,"d":"0.00"},"",{"$nulls":5},0,{"v":0,"d":"0.00"},"",{"$nulls":5},0,0,"",{"$nulls":5},0,{"v":0,"d":"0.00"},"",null,null,"",500,0,{"v":0,"d":"0.00"},"","","","",0,{"$nulls":3},0,"/",100,"0/100",0,"/",50,"0/50",0,"/",50,"0/50",0,"/",100,"0/100"]
[0,85,0,{"$nulls":7},0,0,0,0,0,0,0,0,0,0,0,0,{"v":0,"d":"0.00"},"",0,0,0,0,0,0,0,0,0,0,0,0,{"v":0,"d":"0.00"},"",0,0,0,0,0,0,0,0,0,0,0,0,{"v":0,"d":"0.00"},"",0,0,0,0,0,0,0,0,0,0,0,0,"","",{"$nulls":5},0,{"v":0,"d":"0.00"},"",{"$nulls":5},0,{"v":0,"d":"0.00"},"",{"$nulls":5},0,0,"",{"$nulls":5},0,{"v":0,"d":"0.00"},"",null,null,"",500,0,{"v":0,"d":"0.00"},"","","","",0,{"$nulls":3},0,"/",100,"0/100",0,"/",50,"0/50",0,"/",50,"0/50",0,"/",100,"0/100"]
[0,86,0,{"$nulls":7},0,0,0,0,0,0,0,0,0,0,0,0,{"v":0,"d":"0.00"},"",0,0,0,0,0,0,0,0,0,0,0,0,{"v":0,"d":"0.00"},"",0,0,0,0,0,0,0,0,0,0,0,0,{"v":0,"d":"0.00"},"",0,0,0,0,0,0,0,0,0,0,0,0,"","",{"$nulls":5},0,{"v":0,"d":"0.00"},"",{"$nulls":5},0,{"v":0,"d":"0.00"},"",{"$nulls":5},0,0,"",{"$nulls":5},0,{"v":0,"d":"0.00"},"",null,null,"",500,0,{"v":0,"d":"0.00"},"","","","",0,{"$nulls":3},0,"/",100,"0/100",0,"/",50,"0/50",0,"/",50,"0/50",0,"/",100,"0/100"]
[0,87,0,{"$nulls":7},0,0,0,0,0,0,0,0,0,0,0,0,{"v":0,"d":"0.00"},"",0,0,0,0,0,0,0,0,0,0,0,0,{"v":0,"d":"0.00"},"",0,0,0,0,0,0,0,0,0,0,0,0,{"v":0,"d":"0.00"},"",0,0,0,0,0,0,0,0,0,0,0,0,"","",{"$nulls":5},0,{"v":0,"d":"0.00"},"",{"$nulls":5},0,{"v":0,"d":"0.00"},"",{"$nulls":5},0,0,"",{"$nulls":5},0,{"v":0,"d":"0.00"},"",null,null,"",500,0,{"v":0,"d":"0.00"},"","","","",0,{"$nulls":3},0,"/",100,"0/100",0,"/",50,"0/50",0,"/",50,"0/50",0,"/",100,"0/100"]
[0,88,0,{"$nulls":7},0,0,0,0,0,0,0,0,0,0,0,0,{"v":0,"d":"0.00"},"",0,0,0,0,0,0,0,0,0,0,0,0,{"v":0,"d":"0.00"},"",0,0,0,0,0,0,0,0,0,0,0,0,{"v":0,"d":"0.00"},"",0,0,0,0,0,0,0,0,0,0,0,0,"","",{"$nulls":5},0,{"v":0,"d":"0.00"},"",{"$nulls":5},0,{"v":0,"d":"0.00"},"",{"$nulls":5},0,0,"",{"$nulls":5},0,{"v":0,"d":"0.00"},"",null,null,"",500,0,{"v":0,"d":"0.00"},"","","","",0,{"$nulls":3},0,"/",100,"0/100",0,"/",50,"0/50",0,"/",50,"0/50",0,"/",100,"0/100"]
[0,89,0,{"$nulls":7},0,0,0,0,0,0,0,0,0,0,0,0,{"v":0,"d":"0.00"},"",0,0,0,0,0,0,0,0,0,0,0,0,{"v":0,"d":"0.00"},"",0,0,0,0,0,0,0,0,0,0,0,0,{"v":0,"d":"0.00"},"",0,0,0,0,0,0,0,0,0,0,0,0,"","",{"$nulls":5},0,{"v":0,"d":"0.00"},"",{"$nulls":5},0,{"v":0,"d":"0.00"},"",{"$nulls":5},0,0,"",{"$nulls":5},0,{"v":0,"d":"0.00"},"",null,null,"",500,0,{"v":0,"d":"0.00"},"","","","",0,{"$nulls":3},0,"/",100,"0/100",0,"/",50,"0/50",0,"/",50,"0/50",0,"/",100,"0/100"]
[0,90,0,{"$nulls":7},0,0,0,0,0,0,0,0,0,0,0,0,{"v":0,"d":"0.00"},"",0,0,0,0,0,0,0,0,0,0,0,0,{"v":0,"d":"0.00"},"",0,0,0,0,0,0,0,0,0,0,0,0,{"v":0,"d":"0.00"},"",0,0,0,0,0,0,0,0,0,0,0,0,"","",{"$nulls":5},0,{"v":0,"d":"0.00"},"",{"$nulls":5},0,{"v":0,"d":"0.00"},"",{"$nulls":5},0,0,"",{"$nulls":5},0,{"v":0,"d":"0.00"},"",null,null,"",500,0,{"v":0,"d":"0.00"},"","","","",0,{"$nulls":3},0,"/",100,"0/100",0,"/",50,"0/50",0,"/",50,"0/50",0,"/",100,"0/100"]
[0,91,0,{"$nulls":7},0,0,0,0,0,0,0,0,0,0,0,0,{"v":0,"d":"0.00"},"",0,0,0,0,0,0,0,0,0,0,0,0,{"v":0,"d":"0.00"},"",0,0,0,0,0,0,0,0,0,0,0,0,{"v":0,"d":"0.00"},"",0,0,0,0,0,0,0,0,0,0,0,0,"","",{"$nulls":5},0,{"v":0,"d":"0.00"},"",{"$nulls":5},0,{"v":0,"d":"0.00"},"",{"$nulls":5},0,0,"",{"$nulls":5},0,{"v":0,"d":"0.00"},"",null,null,"",500,0,{"v":0,"d":"0.00"},"","","","",0,{"$nulls":3},0,"/",100,"0/100",0,"/",50,"0/50",0,"/",50,"0/50",0,"/",100,"0/100"]
[0,92,0,{"$nulls":7},0,0,0,0,0,0,0,0,0,0,0,0,{"v":0,"d":"0.00"},"",0,0,0,0,0,0,0,0,0,0,0,0,{"v":0,"d":"0.00"},"",0,0,0,0,0,0,0,0,0,0,0,0,{"v":0,"d":"0.00"},"",0,0,0,0,0,0,0,0,0,0,0,0,"","",{"$nulls":5},0,{"v":0,"d":"0.00"},"",{"$nulls":5},0,{"v":0,"d":"0.00"},"",{"$nulls":5},0,0,"",{"$nulls":5},0,{"v":0,"d":"0.00"},"",null,null,"",500,0,{"v":0,"d":"0.00"},"","","","",0,{"$nulls":3},0,"/",100,"0/100",0,"/",50,"0/50",0,"/",50,"0/50",0,"/",100,"0/100"]
[0,93,0,{"$nulls":7},0,0,0,0,0,0,0,0,0,0,0,0,{"v":0,"d":"0.00"},"",0,0,0,0,0,0,0,0,0,0,0,0,{"v":0,"d":"0.00"},"",0,0,0,0,0,0,0,0,0,0,0,0,{"v":0,"d":"0.00"},"",0,0,0,0,0,0,0,0,0,0,0,0,"","",{"$nulls":5},0,{"v":0,"d":"0.00"},"",{"$nulls":5},0,{"v":0,"d":"0.00"},"",{"$nulls":5},0,0,"",{"$nulls":5},0,{"v":0,"d":"0.00"},"",null,null,"",500,0,{"v":0,"d":"0.00"},"","","","",0,{"$nulls":3},0,"/",100,"0/100",0,"/",50,"0/50",0,"/",50,"0/50",0,"/",100,"0/100"]
[0,94,0,{"$nulls":7},0,0,0,0,0,0,0,0,0,0,0,0,{"v":0,"d":"0.00"},"",0,0,0,0,0,0,0,0,0,0,0,0,{"v":0,"d":"0.00"},"",0,0,0,0,0,0,0,0,0,0,0,0,{"v":0,"d":"0.00"},"",0,0,0,0,0,0,0,0,0,0,0,0,"","",{"$nulls":5},0,{"v":0,"d":"0.00"},"",{"$nulls":5},0,{"v":0,"d":"0.00"},"",{"$nulls":5},0,0,"",{"$nulls":5},0,{"v":0,"d":"0.00"},"",null,null,"",500,0,{"v":0,"d":"0.00"},"","","","",0,{"$nulls":3},0,"/",100,"0/100",0,"/",50,"0/50",0,"/",50,"0/50",0,"/",100,"0/100"]
[0,95,0,{"$nulls":7},0,0,0,0,0,0,0,0,0,0,0,0,{"v":0,"d":"0.00"},"",0,0,0,0,0,0,0,0,0,0,0,0,{"v":0,"d":"0.00"},"",0,0,0,0,0,0,0,0,0,0,0,0,{"v":0,"d":"0.00"},"",0,0,0,0,0,0,0,0,0,0,0,0,"","",{"$nulls":5},0,{"v":0,"d":"0.00"},"",{"$nulls":5},0,{"v":0,"d":"0.00"},"",{"$nulls":5},0,0,"",{"$nulls":5},0,{"v":0,"d":"0.00"},"",null,null,"",500,0,{"v":0,"d":"0.00"},"","","","",0,{"$nulls":3},0,"/",100,"0/100",0,"/",50,"0/50",0,"/",50,"0/50",0,"/",100,"0/100"]
[0,96,0,{"$nulls":7},0,0,0,0,0,0,0,0,0,0,0,0,{"v":0,"d":"0.00"},"",0,0,0,0,0,0,0,0,0,0,0,0,{"v":0,"d":"0.00"},"",0,0,0,0,0,0,0,0,0,0,0,0,{"v":0,"d":"0.00"},"",0,0,0,0,0,0,0,0,0,0,0,0,"","",{"$nulls":5},0,{"v":0,"d":"0.00"},"",{"$nulls":5},0,{"v":0,"d":"0.00"},"",{"$nulls":5},0,0,"",{"$nulls":5},0,{"v":0,"d":"0.00"},"",null,null,"",500,0,{"v":0,"d":"0.00"},"","","","",0,{"$nulls":3},0,"/",100,"0/100",0,"/",50,"0/50",0,"/",50,"0/50",0,"/",100,"0/100"]
[0,97,0,{"$nulls":7},0,0,0,0,0,0,0,0,0,0,0,0,{"v":0,"d":"0.00"},"",0,0,0,0,0,0,0,0,0,0,0,0,{"v":0,"d":"0.00"},"",0,0,0,0,0,0,0,0,0,0,0,0,{"v":0,"d":"0.00"},"",0,0,0,0,0,0,0,0,0,0,0,0,"","",{"$nulls":5},{"$f":"SUM(BO105:BS105)","v":0},{"v":0,"d":"0.00"},"",{"$nulls":5},{"$f":"SUM(BW105:CA105)","v":0},{"v":0,"d":"0.00"},"",{"$nulls":5},{"$f":"SUM(CE105:CI105)","v":0},0,"",{"$nulls":5},{"$f":"SUM(CM105:CQ105)","v":0},{"v":0,"d":"0.00"},"",null,null,"",500,0,{"v":0,"d":"0.00"},"","","","",0,{"$nulls":3},0,"/",100,"0/100",0,"/",50,"0/50",0,"/",50,"0/50",0,"/",100,"0/100"]
[0,98,0,{"$nulls":7},0,0,0,0,0,0,0,0,0,0,0,0,{"v":0,"d":"0.00"},"",0,0,0,0,0,0,0,0,0,0,0,0,{"v":0,"d":"0.00"},"",0,0,0,0,0,0,0,0,0,0,0,0,{"v":0,"d":"0.00"},"",0,0,0,0,0,0,0,0,0,0,0,0,"","",{"$nulls":5},0,{"v":0,"d":"0.00"},"",{"$nulls":5},0,{"v":0,"d":"0.00"},"",{"$nulls":5},0,0,"",{"$nulls":5},0,{"v":0,"d":"0.00"},"",null,null,"",500,0,{"v":0,"d":"0.00"},"","","","",0,{"$nulls":3},0,"/",100,"0/100",0,"/",50,"0/50",0,"/",50,"0/50",0,"/",100,"0/100"]
[0,99,0,{"$nulls":7},0,0,0,0,0,0,0,0,0,0,0,0,{"v":0,"d":"0.00"},"",0,0,0,0,0,0,0,0,0,0,0,0,{"v":0,"d":"0.00"},"",0,0,0,0,0,0,0,0,0,0,0,0,{"v":0,"d":"0.00"},"",0,0,0,0,0,0,0,0,0,0,0,0,"","",{"$nulls":5},0,{"v":0,"d":"0.00"},"",{"$nulls":5},0,{"v":0,"d":"0.00"},"",{"$nulls":5},0,0,"",{"$nulls":5},0,{"v":0,"d":"0.00"},"",null,null,"",500,0,{"v":0,"d":"0.00"},"","","","",0,{"$nulls":3},0,"/",100,"0/100",0,"/",50,"0/50",0,"/",50,"0/50",0,"/",100,"0/100"]
[0,100,0,{"$nulls":7},0,0,0,0,0,0,0,0,0,0,0,0,{"v":0,"d":"0.00"},"",0,0,0,0,0,0,0,0,0,0,0,0,{"v":0,"d":"0.00"},"",0,0,0,0,0,0,0,0,0,0,0,0,{"v":0,"d":"0.00"},"",0,0,0,0,0,0,0,0,0,0,0,0,"","",{"$nulls":5},0,{"v":0,"d":"0.00"},"",{"$nulls":5},0,{"v":0,"d":"0.00"},"",{"$nulls":5},0,0,"",{"$nulls":5},0,{"v":0,"d":"0.00"},"",null,null,"",500,0,{"v":0,"d":"0.00"},"","","","",0,{"$nulls":3},0,"/",100,"0/100",0,"/",50,"0/50",0,"/",50,"0/50",0,"/",100,"0/100"]
[null,1,2,3,4,5,6,7,8,9,10,11,12,13,14,15,16,17,18,19,20,21,22,23,24,25,26,27,28,29,30,31,32,33,34,35,36,37,38,39,40,41,42,43,44,45,46,47,48,49,50,51,52,53,54,55,56,57,58,59,60,61,62,63,64,65,66,67,68,69,70,71,72,73,74,75,76,77,78,79,80,81,82,83,84,85,86,87,88,89,90,91,92,93,94,95,96,97,98,99,100,101,102,103,104,105,106,107,108,109,110,111,112,113,114,115,116,117,118,119,120,121,122,123,124,125,126,127]
[]
[{"$nulls":7},{"$f":"Master!L7","v":"Hindi"},{"$f":"Master!O7","v":"A"}]
[{"$nulls":7},{"$f":"Master!L8","v":"English"},{"$f":"Master!O8","v":"B"}]
[{"$nulls":7},{"$f":"Master!L9","v":"Mathematics"},{"$f":"Master!O9","v":"C"}]
[{"$nulls":7},{"$f":"Master!L10","v":"Env. Study"},{"$f":"Master!O10","v":"D"}]
[{"$nulls":7},{"$f":"Master!L11","v":"ART EDU."},{"$f":"Master!O11","v":"E"}]
[{"$nulls":7},{"$f":"Master!L12","v":"H&P. EDU."},{"$f":"Master!O12","v":0}]
[{"$nulls":7},{"$f":"Master!L13","v":"WORK EXP."},{"$f":"Master!O13","v":0}]
[{"$nulls":7},{"$f":"Master!L14","v":0},{"$f":"Master!O14","v":0}]
[{"$nulls":7},{"$f":"Master!L15","v":0},{"$f":"Master!O15","v":0}]
[{"$nulls":7},{"$f":"Master!L16","v":0},{"$f":"Master!O16","v":0}]
[{"$nulls":7},{"$f":"Master!L17","v":0},{"$f":"Master!O17","v":0}]
[{"$nulls":7},{"$f":"Master!L18","v":0},{"$f":"Master!O18","v":0}]
[{"$nulls":7},{"$f":"Master!L19","v":0},{"$f":"Master!O19","v":0}]
[{"$nulls":7},{"$f":"Master!L20","v":0},{"$f":"Master!O20","v":0}]
[{"$nulls":8},{"$f":"Master!Q7","v":0}]
[{"$nulls":8},{"$f":"Master!Q8","v":0}]
[{"$nulls":8},{"$f":"Master!Q9","v":0}]
[{"$nulls":8},{"$f":"Master!Q10","v":0}]
[{"$nulls":8},{"$f":"Master!Q11","v":0}]
[{"$nulls":8},{"$f":"Master!Q12","v":0}]
[{"$nulls":8},{"$f":"Master!Q13","v":0}]
[{"$nulls":8},{"$f":"Master!Q14","v":0}]
[{"$nulls":8},{"$f":"Master!Q15","v":0}]
[{"$nulls":8},{"$f":"Master!Q16","v":0}]
[{"$nulls":8},{"$f":"Master!Q17","v":0}]
[{"$nulls":8},{"$f":"Master!Q18","v":0}]
[{"$nulls":8},{"$f":"Master!Q19","v":0}]
[{"$nulls":8},{"$f":"Master!Q20","v":0}]

{"sheet":"Result Sheet","index":3,"n_rows":111,"n_cols":107,"rows_kept":111,"merged":[[0,0,0,106],[1,0,110,0],[1,1,1,5],[1,9,1,22],[1,23,1,36],[1,37,1,50],[1,51,1,64],[1,65,1,72],[1,73,1,80],[1,81,1,88],[1,89,1,96],[1,97,1,99],[1,100,1,106],[2,1,2,4],[2,5,2,8],[2,9,2,22],[2,23,2,36],[2,37,2,50],[2,51,2,64],[2,65,2,72],[2,73,2,80],[2,81,2,88],[2,89,2,96],[2,97,5,97],[2,98,5,98],[2,99,5,99],[2,100,5,100],[2,101,5,101],[2,102,5,102],[2,103,5,103],[2,104,5,104],[2,106,5,106],[3,1,3,3],[3,4,3,5],[3,7,3,8],[3,9,3,11],[3,12,3,15],[3,16,3,18],[3,20,4,20],[3,21,5,21],[3,23,3,25],[3,26,3,29],[3,30,3,32],[3,34,4,34],[3,35,5,35],[3,37,3,39],[3,40,3,43],[3,44,3,46],[3,48,4,48],[3,49,5,49],[3,51,3,53],[3,54,3,57],[3,58,3,60],[3,62,4,62],[3,63,5,63],[3,65,4,65],[3,66,4,66],[3,67,4,67],[3,68,4,68],[3,69,4,69],[3,70,4,70],[3,71,5,71],[3,73,4,73],[3,74,4,74],[3,75,4,75],[3,76,4,76],[3,77,4,77],[3,78,4,78],[3,79,5,79],[3,81,4,81],[3,82,4,82],[3,83,4,83],[3,84,4,84],[3,85,4,85],[3,86,4,86],[3,87,5,87],[3,89,4,89],[3,90,4,90],[3,91,4,91],[3,92,4,92],[3,93,4,93],[3,94,4,94],[3,95,5,95],[4,1,5,1],[4,2,5,2],[4,3,5,3],[4,4,5,4],[4,5,5,5],[4,6,5,6],[4,7,5,7],[4,8,5,8],[4,22,5,22],[4,36,5,36],[4,50,5,50],[4,64,5,64],[4,72,5,72],[4,80,5,80],[4,88,5,88],[4,96,5,96],[106,1,106,8],[106,9,106,22],[106,23,106,36],[106,37,106,50],[106,51,106,64],[106,65,106,106],[107,1,107,8],[107,9,107,22],[107,23,107,36],[107,37,107,50],[107,51,107,64],[107,65,107,72],[107,73,107,77],[107,78,107,82],[107,84,107,86],[107,88,107,98],[107,99,107,101],[107,102,107,103],[107,104,107,105],[108,1,109,8],[108,9,108,11],[108,13,108,14],[108,20,108,22],[108,23,108,25],[108,27,108,28],[108,34,108,36],[108,37,108,39],[108,41,108,42],[108,48,108,50],[108,51,108,53],[108,55,108,56],[108,62,108,64],[108,65,108,72],[108,73,108,77],[108,78,108,82],[108,84,108,86],[108,88,108,98],[108,99,108,101],[108,102,108,103],[108,104,108,105],[109,9,109,11],[109,13,109,14],[109,20,109,22],[109,23,109,25],[109,27,109,28],[109,34,109,36],[109,37,109,39],[109,41,109,42],[109,48,109,50],[109,51,109,53],[109,55,109,56],[109,62,109,64],[109,65,109,82],[109,84,109,106],[110,1,110,8],[110,9,110,22],[110,23,110,36],[110,37,110,50],[110,51,110,64],[110,65,110,82],[110,84,110,106]]}
[]
[null,"Result Sheet",{"$nulls":7},{"$f":"'Result Entry'!K3","v":"Hindi"},{"$nulls":13},{"$f":"'Result Entry'!Y3","v":"Mathematics"},{"$nulls":13},{"$f":"'Result Entry'!AM3","v":"English"},{"$nulls":13},{"$f":"'Result Entry'!BA3","v":0},{"$nulls":13},{"$f":"'Result Entry'!BO3","v":"Env. Study"},{"$nulls":7},{"$f":"'Result Entry'!BW3","v":"WORK EXP."},{"$nulls":7},{"$f":"'Result Entry'!CE3","v":"ART EDU."},{"$nulls":7},{"$f":"'Result Entry'!CM3","v":"H&P. EDU."},{"$nulls":7},"Attendance",null,null,"Statics"]
[null,"School' Name:-",{"$nulls":3},{"$f":"Master!E8","v":"Govt.Sr.Sec.Sch. "},{"$nulls":3},{"$f":"'Result Entry'!K4","v":0},{"$nulls":13},{"$f":"'Result Entry'!Y4","v":0},{"$nulls":13},{"$f":"'Result Entry'!AM4","v":0},{"$nulls":13},{"$f":"'Result Entry'!BA4","v":0},{"$nulls":13},{"$f":"'Result Entry'!BO4","v":0},{"$nulls":7},{"$f":"'Result Entry'!BW4","v":0},{"$nulls":7},{"$f":"'Result Entry'!CE4","v":0},{"$nulls":7},{"$f":"'Result Entry'!CM4","v":0},{"$nulls":7},"Total Attendance","Student's Attendance","Attandance %","Grad Total","Obtained Marks","Percentage",{"$f":"'Result Entry'!DA4","v":"Whole Grade (A/B/C/D/E)"},"Result",null,"Position in Class"]
[null,"Class:-",null,null,{"$f":"CONCATENATE('Result Entry'!F4,'Result Entry'!I4)","v":"2(A)"},null,"Session:-",{"$f":"Master!$E$6","v":"2022-23"},null,"Test",null,null,"Half Yeary",{"$nulls":3},"Yearly",{"$nulls":3},"Total","MARKS %","Grd.","Test",null,null,"Half Yeary",{"$nulls":3},"Yearly",{"$nulls":3},"Total","MARKS %","Grd.","Test",null,null,"Half Yeary",{"$nulls":3},"Yearly",{"$nulls":3},"Total","MARKS %","Grd.","Test",null,null,"Half Yeary",{"$nulls":3},"Yearly",{"$nulls":3},"Total","MARKS %","Grd.",{"$f":"'Result Entry'!BO5","v":"Half Yearly"},{"$f":"'Result Entry'!BP5","v":"Yeary"},{"$f":"'Result Entry'!BQ5","v":"3rd Ev."},{"$f":"'Result Entry'!BR5","v":"4th Ev."},{"$f":"'Result Entry'!BS5","v":"5th Ev."},"Total","MARKS %","Grd.",{"$f":"'Result Entry'!BW5","v":"Half Yearly"},{"$f":"'Result Entry'!BX5","v":"Yearly"},{"$f":"'Result Entry'!BY5","v":"3rd Ev."},{"$f":"'Result Entry'!BZ5","v":"4th Ev."},{"$f":"'Result Entry'!CA5","v":"5th Ev."},"Total","MARKS %","Grd.",{"$f":"'Result Entry'!CE5","v":"Half Yearly"},{"$f":"'Result Entry'!CF5","v":"Yearly"},{"$f":"'Result Entry'!CG5","v":"3rd Ev."},{"$f":"'Result Entry'!CH5","v":"4th Ev."},{"$f":"'Result Entry'!CI5","v":"5th Ev."},"Total","MARKS %","Grd.",{"$f":"'Result Entry'!CM5","v":"Half Yearly"},{"$f":"'Result Entry'!CN5","v":"Yeary"},{"$f":"'Result Entry'!CO5","v":"3rd Ev."},{"$f":"'Result Entry'!CP5","v":"4th Ev."},{"$f":"'Result Entry'!CQ5","v":"5th Ev."},"Total","MARKS %","Grd."]
[null,"Sr. No.","Scholar Number","School Adm. Date","Roll Number","Student's Name","Father's Name","Mother's Name","Date Of Birth","First Test","Second Test","Total Test","Written","Internal Evo.","Oral","Total","Written","Internal Evo.","Oral","Total",null,null,{"$f":"'Result Entry'!X6","v":"A+/A/B/C/D"},"First Test","Second Test","Total Test","Written","Internal Evo.","Oral","Total","Written","Internal Evo.","Oral","Total",null,null,{"$f":"'Result Entry'!AL6","v":"A+/A/B/C/D"},"First Test","Second Test","Total Test","Written","Internal Evo.","Oral","Total","Written","Internal Evo.","Oral","Total",null,null,{"$f":"'Result Entry'!AZ6","v":"A+/A/B/C/D"},"First Test","Second Test","Total Test","Written","Internal Evo.","Oral","Total","Written","Internal Evo.","Oral","Total",null,null,"A/B/C/D/E",{"$nulls":7},{"$f":"'Result Entry'!BV6","v":"A/B/C/D/E"},{"$nulls":7},{"$f":"'Result Entry'!CD6","v":"A/B/C/D/E"},{"$nulls":7},{"$f":"'Result Entry'!CL6","v":"A/B/C/D/E"},{"$nulls":7},{"$f":"'Result Entry'!CT6","v":"A/B/C/D/E"}]
[{"$nulls":9},{"$f":"'Result Entry'!K7","v":0},{"$f":"'Result Entry'!L7","v":0},{"$f":"'Result Entry'!M7","v":0},{"$f":"'Result Entry'!N7","v":30},{"$f":"'Result Entry'!O7","v":0},{"$f":"'Result Entry'!P7","v":70},{"$f":"'Result Entry'!Q7","v":100},{"$f":"'Result Entry'!R7","v":30},{"$f":"'Result Entry'!S7","v":0},{"$f":"'Result Entry'!T7","v":70},{"$f":"'Result Entry'!U7","v":100},{"$f":"L6+P6+T6","v":200},null,null,{"$f":"'Result Entry'!Y7","v":0},{"$f":"'Result Entry'!Z7","v":0},{"$f":"'Result Entry'!AA7","v":0},{"$f":"'Result Entry'!AB7","v":30},{"$f":"'Result Entry'!AC7","v":0},{"$f":"'Result Entry'!AD7","v":70},{"$f":"'Result Entry'!AE7","v":100},{"$f":"'Result Entry'!AF7","v":30},{"$f":"'Result Entry'!AG7","v":0},{"$f":"'Result Entry'!AH7","v":70},{"$f":"'Result Entry'!AI7","v":100},{"$f":"'Result Entry'!AJ7","v":200},null,null,{"$f":"'Result Entry'!AM7","v":0},{"$f":"'Result Entry'!AN7","v":0},{"$f":"'Result Entry'!AO7","v":0},{"$f":"'Result Entry'!AP7","v":15},{"$f":"'Result Entry'!AQ7","v":0},{"$f":"'Result Entry'!AR7","v":35},{"$f":"'Result Entry'!AS7","v":50},{"$f":"'Result Entry'!AT7","v":15},{"$f":"'Result Entry'!AU7","v":0},{"$f":"'Result Entry'!AV7","v":35},{"$f":"'Result Entry'!AW7","v":50},{"$f":"'Result Entry'!AX7","v":100},null,null,{"$f":"'Result Entry'!BA7","v":0},{"$f":"'Result Entry'!BB7","v":0},{"$f":"'Result Entry'!BC7","v":0},{"$f":"'Result Entry'!BD7","v":0},{"$f":"'Result Entry'!BE7","v":0},{"$f":"'Result Entry'!BF7","v":0},{"$f":"'Result Entry'!BG7","v":0},{"$f":"'Result Entry'!BH7","v":0},{"$f":"'Result Entry'!BI7","v":0},{"$f":"'Result Entry'!BJ7","v":0},{"$f":"'Result Entry'!BK7","v":0},{"$f":"'Result Entry'!BL7","v":0},null,null,{"$f":"'Result Entry'!BO7","v":50},{"$f":"'Result Entry'!BP7","v":50},{"$f":"'Result Entry'!BQ7","v":0},{"$f":"'Result Entry'!BR7","v":0},{"$f":"'Result Entry'!BS7","v":0},{"$f":"'Result Entry'!BT7","v":100},null,null,{"$f":"'Result Entry'!BW7","v":25},{"$f":"'Result Entry'!BX7","v":25},{"$f":"'Result Entry'!BY7","v":0},{"$f":"'Result Entry'!BZ7","v":0},{"$f":"'Result Entry'!CA7","v":0},{"$f":"'Result Entry'!CB7","v":50},null,null,{"$f":"'Result Entry'!CE7","v":25},{"$f":"'Result Entry'!CF7","v":25},{"$f":"'Result Entry'!CG7","v":0},{"$f":"'Result Entry'!CH7","v":0},{"$f":"'Result Entry'!CI7","v":0},{"$f":"'Result Entry'!CJ7","v":50},null,null,{"$f":"'Result Entry'!CM7","v":50},{"$f":"'Result Entry'!CN7","v":50},{"$f":"'Result Entry'!CO7","v":0},{"$f":"'Result Entry'!CP7","v":0},{"$f":"'Result Entry'!CQ7","v":0},{"$f":"'Result Entry'!CR7","v":100}]
[null,{"$f":"IF(C7>0,1,0)","v":1},{"$f":"'Result Entry'!D9","v":1},{"$f":"'Result Entry'!E9","v":0},{"$f":"'Result Entry'!F9","v":301},{"$f":"'Result Entry'!G9","v":"a"},{"$f":"'Result Entry'!H9","v":"b"},{"$f":"'Result Entry'!I9","v":"c"},{"$f":"'Result Entry'!J9","v":"2200-05-04"},{"$f":"'Result Entry'!K9","v":0},{"$f":"'Result Entry'!L9","v":0},{"$f":"'Result Entry'!M9","v":0},{"$f":"'Result Entry'!N9","v":29},{"$f":"'Result Entry'!O9","v":0},{"$f":"'Result Entry'!P9","v":65},{"$f":"'Result Entry'!Q9","v":94},{"$f":"'Result Entry'!R9","v":0},{"$f":"'Result Entry'!S9","v":0},{"$f":"'Result Entry'!T9","v":70},{"$f":"'Result Entry'!U9","v":70},{"$f":"'Result Entry'!V9","v":164},{"$f":"'Result Entry'!W9","v":82},{"$f":"'Result Entry'!X9","v":"B"},{"$f":"'Result Entry'!Y9","v":0},{"$f":"'Result Entry'!Z9","v":0},{"$f":"'Result Entry'!AA9","v":0},{"$f":"'Result Entry'!AB9","v":15},{"$f":"'Result Entry'!AC9","v":0},{"$f":"'Result Entry'!AD9","v":55},{"$f":"'Result Entry'!AE9","v":70},{"$f":"'Result Entry'!AF9","v":20},{"$f":"'Result Entry'!AG9","v":0},{"$f":"'Result Entry'!AH9","v":40},{"$f":"'Result Entry'!AI9","v":60},{"$f":"'Result Entry'!AJ9","v":130},{"$f":"'Result Entry'!AK9","v":65},{"$f":"'Result Entry'!AL9","v":"C"},{"$f":"'Result Entry'!AM9","v":0},{"$f":"'Result Entry'!AN9","v":0},{"$f":"'Result Entry'!AO9","v":0},{"$f":"'Result Entry'!AP9","v":10},{"$f":"'Result Entry'!AQ9","v":0},{"$f":"'Result Entry'!AR9","v":20},{"$f":"'Result Entry'!AS9","v":30},{"$f":"'Result Entry'!AT9","v":10},{"$f":"'Result Entry'!AU9","v":0},{"$f":"'Result Entry'!AV9","v":30},{"$f":"'Result Entry'!AW9","v":40},{"$f":"'Result Entry'!AX9","v":70},{"$f":"'Result Entry'!AY9","v":70},{"$f":"'Result Entry'!AZ9","v":"C"},{"$f":"'Result Entry'!BA9","v":0},{"$f":"'Result Entry'!BB9","v":0},{"$f":"'Result Entry'!BC9","v":0},{"$f":"'Result Entry'!BD9","v":0},{"$f":"'Result Entry'!BE9","v":0},{"$f":"'Result Entry'!BF9","v":0},{"$f":"'Result Entry'!BG9","v":0},{"$f":"'Result Entry'!BH9","v":0},{"$f":"'Result Entry'!BI9","v":0},{"$f":"'Result Entry'!BJ9","v":0},{"$f":"'Result Entry'!BK9","v":0},{"$f":"'Result Entry'!BL9","v":0},{"$f":"'Result Entry'!BM9","v":""},{"$f":"'Result Entry'!BN9","v":""},{"$f":"'Result Entry'!BO9","v":20},{"$f":"'Result Entry'!BP9","v":40},{"$f":"'Result Entry'!BQ9","v":0},{"$f":"'Result Entry'!BR9","v":0},{"$f":"'Result Entry'!BS9","v":0},{"$f":"'Result Entry'!BT9","v":60},{"$f":"'Result Entry'!BU9","v":60},{"$f":"'Result Entry'!BV9","v":"C"},{"$f":"'Result Entry'!BW9","v":20},{"$f":"'Result Entry'!BX9","v":20},{"$f":"'Result Entry'!BY9","v":0},{"$f":"'Result Entry'!BZ9","v":0},{"$f":"'Result Entry'!CA9","v":0},{"$f":"'Result Entry'!CB9","v":40},{"$f":"'Result Entry'!CC9","v":80},{"$f":"'Result Entry'!CD9","v":"B"},{"$f":"'Result Entry'!CE9","v":20},{"$f":"'Result Entry'!CF9","v":20},{"$f":"'Result Entry'!CG9","v":0},{"$f":"'Result Entry'!CH9","v":0},{"$f":"'Result Entry'!CI9","v":0},{"$f":"'Result Entry'!CJ9","v":40},{"$f":"'Result Entry'!CK9","v":80},{"$f":"'Result Entry'!CL9","v":"B"},{"$f":"'Result Entry'!CM9","v":20},{"$f":"'Result Entry'!CN9","v":20},{"$f":"'Result Entry'!CO9","v":0},{"$f":"'Result Entry'!CP9","v":0},{"$f":"'Result Entry'!CQ9","v":0},{"$f":"'Result Entry'!CR9","v":40},{"$f":"'Result Entry'!CS9","v":40},{"$f":"'Result Entry'!CT9","v":"D"},{"$f":"'Result Entry'!CU9","v":0},{"$f":"'Result Entry'!CV9","v":0},{"$f":"'Result Entry'!CW9","v":""},{"$f":"'Result Entry'!CX9","v":500},{"$f":"'Result Entry'!CY9","v":364},{"$f":"'Result Entry'!CZ9","v":{"v":72.8,"d":"72.80"}},{"$f":"'Result Entry'!DA9","v":"B"},{"$f":"'Result Entry'!DB9","v":"Passed"},{"$f":"'Result Entry'!DC9","v":72.8},{"$f":"'Result Entry'!DD9","v":0.999999999999998}]
[null,{"$f":"IF(C8>0,B7+1,0)","v":2},{"$f":"'Result Entry'!D10","v":2},{"$f":"'Result Entry'!E10","v":0},{"$f":"'Result Entry'!F10","v":302},{"$f":"'Result Entry'!G10","v":"f"},{"$f":"'Result Entry'!H10","v":"Father's Name"},{"$f":"'Result Entry'!I10","v":"f"},{"$f":"'Result Entry'!J10","v":"1998-08-05"},{"$f":"'Result Entry'!K10","v":0},{"$f":"'Result Entry'!L10","v":0},{"$f":"'Result Entry'!M10","v":0},{"$f":"'Result Entry'!N10","v":0},{"$f":"'Result Entry'!O10","v":0},{"$f":"'Result Entry'!P10","v":0},{"$f":"'Result Entry'!Q10","v":0},{"$f":"'Result Entry'!R10","v":0},{"$f":"'Result Entry'!S10","v":0},{"$f":"'Result Entry'!T10","v":0},{"$f":"'Result Entry'!U10","v":0},{"$f":"'Result Entry'!V10","v":0},{"$f":"'Result Entry'!W10","v":0},{"$f":"'Result Entry'!X10","v":0},{"$f":"'Result Entry'!Y10","v":0},{"$f":"'Result Entry'!Z10","v":0},{"$f":"'Result Entry'!AA10","v":0},{"$f":"'Result Entry'!AB10","v":0},{"$f":"'Result Entry'!AC10","v":0},{"$f":"'Result Entry'!AD10","v":0},{"$f":"'Result Entry'!AE10","v":0},{"$f":"'Result Entry'!AF10","v":0},{"$f":"'Result Entry'!AG10","v":0},{"$f":"'Result Entry'!AH10","v":0},{"$f":"'Result Entry'!AI10","v":0},{"$f":"'Result Entry'!AJ10","v":0},{"$f":"'Result Entry'!AK10","v":0},{"$f":"'Result Entry'!AL10","v":0},{"$f":"'Result Entry'!AM10","v":0},{"$f":"'Result Entry'!AN10","v":0},{"$f":"'Result Entry'!AO10","v":0},{"$f":"'Result Entry'!AP10","v":0},{"$f":"'Result Entry'!AQ10","v":0},{"$f":"'Result Entry'!AR10","v":0},{"$f":"'Result Entry'!AS10","v":0},{"$f":"'Result Entry'!AT10","v":0},{"$f":"'Result Entry'!AU10","v":0},{"$f":"'Result Entry'!AV10","v":0},{"$f":"'Result Entry'!AW10","v":0},{"$f":"'Result Entry'!AX10","v":0},{"$f":"'Result Entry'!AY10","v":0},{"$f":"'Result Entry'!AZ10","v":0},{"$f":"'Result Entry'!BA10","v":0},{"$f":"'Result Entry'!BB10","v":0},{"$f":"'Result Entry'!BC10","v":0},{"$f":"'Result Entry'!BD10","v":0},{"$f":"'Result Entry'!BE10","v":0},{"$f":"'Result Entry'!BF10","v":0},{"$f":"'Result Entry'!BG10","v":0},{"$f":"'Result Entry'!BH10","v":0},{"$f":"'Result Entry'!BI10","v":0},{"$f":"'Result Entry'!BJ10","v":0},{"$f":"'Result Entry'!BK10","v":0},{"$f":"'Result Entry'!BL10","v":0},{"$f":"'Result Entry'!BM10","v":""},{"$f":"'Result Entry'!BN10","v":""},{"$f":"'Result Entry'!BO10","v":0},{"$f":"'Result Entry'!BP10","v":0},{"$f":"'Result Entry'!BQ10","v":0},{"$f":"'Result Entry'!BR10","v":0},{"$f":"'Result Entry'!BS10","v":0},{"$f":"'Result Entry'!BT10","v":0},{"$f":"'Result Entry'!BU10","v":0},{"$f":"'Result Entry'!BV10","v":0},{"$f":"'Result Entry'!BW10","v":0},{"$f":"'Result Entry'!BX10","v":0},{"$f":"'Result Entry'!BY10","v":0},{"$f":"'Result Entry'!BZ10","v":0},{"$f":"'Result Entry'!CA10","v":0},{"$f":"'Result Entry'!CB10","v":0},{"$f":"'Result Entry'!CC10","v":0},{"$f":"'Result Entry'!CD10","v":0},{"$f":"'Result Entry'!CE10","v":0},{"$f":"'Result Entry'!CF10","v":0},{"$f":"'Result Entry'!CG10","v":0},{"$f":"'Result Entry'!CH10","v":0},{"$f":"'Result Entry'!CI10","v":0},{"$f":"'Result Entry'!CJ10","v":0},{"$f":"'Result Entry'!CK10","v":0},{"$f":"'Result Entry'!CL10","v":0},{"$f":"'Result Entry'!CM10","v":0},{"$f":"'Result Entry'!CN10","v":0},{"$f":"'Result Entry'!CO10","v":0},{"$f":"'Result Entry'!CP10","v":0},{"$f":"'Result Entry'!CQ10","v":0},{"$f":"'Result Entry'!CR10","v":0},{"$f":"'Result Entry'!CS10","v":0},{"$f":"'Result Entry'!CT10","v":0},{"$f":"'Result Entry'!CU10","v":0},{"$f":"'Result Entry'!CV10","v":0},{"$f":"'Result Entry'!CW10","v":""},{"$f":"'Result Entry'!CX10","v":500},{"$f":"'Result Entry'!CY10","v":0},{"$f":"'Result Entry'!CZ10","v":{"v":0,"d":"0.00"}},{"$f":"'Result Entry'!DA10","v":0},{"$f":"'Result Entry'!DB10","v":"Promoted"},{"$f":"'Result Entry'!DC10","v":""},{"$f":"'Result Entry'!DD10","v":""}]
[null,{"$f":"IF(C9>0,B8+1,0)","v":0},{"$f":"'Result Entry'!D11","v":0},{"$f":"'Result Entry'!E11","v":0},{"$f":"'Result Entry'!F11","v":0},{"$f":"'Result Entry'!G11","v":0},{"$f":"'Result Entry'!H11","v":0},{"$f":"'Result Entry'!I11","v":0},{"$f":"'Result Entry'!J11","v":"00:00:00"},{"$f":"'Result Entry'!K11","v":0},{"$f":"'Result Entry'!L11","v":0},{"$f":"'Result Entry'!M11","v":0},{"$f":"'Result Entry'!N11","v":0},{"$f":"'Result Entry'!O11","v":0},{"$f":"'Result Entry'!P11","v":0},{"$f":"'Result Entry'!Q11","v":0},{"$f":"'Result Entry'!R11","v":0},{"$f":"'Result Entry'!S11","v":0},{"$f":"'Result Entry'!T11","v":0},{"$f":"'Result Entry'!U11","v":0},{"$f":"'Result Entry'!V11","v":0},{"$f":"'Result Entry'!W11","v":0},{"$f":"'Result Entry'!X11","v":""},{"$f":"'Result Entry'!Y11","v":0},{"$f":"'Result Entry'!Z11","v":0},{"$f":"'Result Entry'!AA11","v":0},{"$f":"'Result Entry'!AB11","v":0},{"$f":"'Result Entry'!AC11","v":0},{"$f":"'Result Entry'!AD11","v":0},{"$f":"'Result Entry'!AE11","v":0},{"$f":"'Result Entry'!AF11","v":0},{"$f":"'Result Entry'!AG11","v":0},{"$f":"'Result Entry'!AH11","v":0},{"$f":"'Result Entry'!AI11","v":0},{"$f":"'Result Entry'!AJ11","v":0},{"$f":"'Result Entry'!AK11","v":0},{"$f":"'Result Entry'!AL11","v":""},{"$f":"'Result Entry'!AM11","v":0},{"$f":"'Result Entry'!AN11","v":0},{"$f":"'Result Entry'!AO11","v":0},{"$f":"'Result Entry'!AP11","v":0},{"$f":"'Result Entry'!AQ11","v":0},{"$f":"'Result Entry'!AR11","v":0},{"$f":"'Result Entry'!AS11","v":0},{"$f":"'Result Entry'!AT11","v":0},{"$f":"'Result Entry'!AU11","v":0},{"$f":"'Result Entry'!AV11","v":0},{"$f":"'Result Entry'!AW11","v":0},{"$f":"'Result Entry'!AX11","v":0},{"$f":"'Result Entry'!AY11","v":0},{"$f":"'Result Entry'!AZ11","v":""},{"$f":"'Result Entry'!BA11","v":0},{"$f":"'Result Entry'!BB11","v":0},{"$f":"'Result Entry'!BC11","v":0},{"$f":"'Result Entry'!BD11","v":0},{"$f":"'Result Entry'!BE11","v":0},{"$f":"'Result Entry'!BF11","v":0},{"$f":"'Result Entry'!BG11","v":0},{"$f":"'Result Entry'!BH11","v":0},{"$f":"'Result Entry'!BI11","v":0},{"$f":"'Result Entry'!BJ11","v":0},{"$f":"'Result Entry'!BK11","v":0},{"$f":"'Result Entry'!BL11","v":0},{"$f":"'Result Entry'!BM11","v":""},{"$f":"'Result Entry'!BN11","v":""},{"$f":"'Result Entry'!BO11","v":0},{"$f":"'Result Entry'!BP11","v":0},{"$f":"'Result Entry'!BQ11","v":0},{"$f":"'Result Entry'!BR11","v":0},{"$f":"'Result Entry'!BS11","v":0},{"$f":"'Result Entry'!BT11","v":0},{"$f":"'Result Entry'!BU11","v":0},{"$f":"'Result Entry'!BV11","v":""},{"$f":"'Result Entry'!BW11","v":0},{"$f":"'Result Entry'!BX11","v":0},{"$f":"'Result Entry'!BY11","v":0},{"$f":"'Result Entry'!BZ11","v":0},{"$f":"'Result Entry'!CA11","v":0},{"$f":"'Result Entry'!CB11","v":0},{"$f":"'Result Entry'!CC11","v":0},{"$f":"'Result Entry'!CD11","v":""},{"$f":"'Result Entry'!CE11","v":0},{"$f":"'Result Entry'!CF11","v":0},{"$f":"'Result Entry'!CG11","v":0},{"$f":"'Result Entry'!CH11","v":0},{"$f":"'Result Entry'!CI11","v":0},{"$f":"'Result Entry'!CJ11","v":0},{"$f":"'Result Entry'!CK11","v":0},{"$f":"'Result Entry'!CL11","v":""},{"$f":"'Result Entry'!CM11","v":0},{"$f":"'Result Entry'!CN11","v":0},{"$f":"'Result Entry'!CO11","v":0},{"$f":"'Result Entry'!CP11","v":0},{"$f":"'Result Entry'!CQ11","v":0},{"$f":"'Result Entry'!CR11","v":0},{"$f":"'Result Entry'!CS11","v":0},{"$f":"'Result Entry'!CT11","v":""},{"$f":"'Result Entry'!CU11","v":0},{"$f":"'Result Entry'!CV11","v":0},{"$f":"'Result Entry'!CW11","v":""},{"$f":"'Result Entry'!CX11","v":500},{"$f":"'Result Entry'!CY11","v":0},{"$f":"'Result Entry'!CZ11","v":{"v":0,"d":"0.00"}},{"$f":"'Result Entry'!DA11","v":""},{"$f":"'Result Entry'!DB11","v":""},{"$f":"'Result Entry'!DC11","v":""},{"$f":"'Result Entry'!DD11","v":""}]
[null,0,{"$f":"'Result Entry'!D12","v":0},{"$f":"'Result Entry'!E12","v":0},{"$f":"'Result Entry'!F12","v":0},{"$f":"'Result Entry'!G12","v":0},{"$f":"'Result Entry'!H12","v":0},{"$f":"'Result Entry'!I12","v":0},{"$f":"'Result Entry'!J12","v":"00:00:00"},{"$f":"'Result Entry'!K12","v":0},{"$f":"'Result Entry'!L12","v":0},{"$f":"'Result Entry'!M12","v":0},{"$f":"'Result Entry'!N12","v":0},{"$f":"'Result Entry'!O12","v":0},{"$f":"'Result Entry'!P12","v":0},{"$f":"'Result Entry'!Q12","v":0},{"$f":"'Result Entry'!R12","v":0},{"$f":"'Result Entry'!S12","v":0},{"$f":"'Result Entry'!T12","v":0},{"$f":"'Result Entry'!U12","v":0},{"$f":"'Result Entry'!V12","v":0},{"$f":"'Result Entry'!W12","v":0},{"$f":"'Result Entry'!X12","v":""},{"$f":"'Result Entry'!Y12","v":0},{"$f":"'Result Entry'!Z12","v":0},{"$f":"'Result Entry'!AA12","v":0},{"$f":"'Result Entry'!AB12","v":0},{"$f":"'Result Entry'!AC12","v":0},{"$f":"'Result Entry'!AD12","v":0},{"$f":"'Result Entry'!AE12","v":0},{"$f":"'Result Entry'!AF12","v":0},{"$f":"'Result Entry'!AG12","v":0},{"$f":"'Result Entry'!AH12","v":0},{"$f":"'Result Entry'!AI12","v":0},{"$f":"'Result Entry'!AJ12","v":0},{"$f":"'Result Entry'!AK12","v":0},{"$f":"'Result Entry'!AL12","v":""},{"$f":"'Result Entry'!AM12","v":0},{"$f":"'Result Entry'!AN12","v":0},{"$f":"'Result Entry'!AO12","v":0},{"$f":"'Result Entry'!AP12","v":0},{"$f":"'Result Entry'!AQ12","v":0},{"$f":"'Result Entry'!AR12","v":0},{"$f":"'Result Entry'!AS12","v":0},{"$f":"'Result Entry'!AT12","v":0},{"$f":"'Result Entry'!AU12","v":0},{"$f":"'Result Entry'!AV12","v":0},{"$f":"'Result Entry'!AW12","v":0},{"$f":"'Result Entry'!AX12","v":0},{"$f":"'Result Entry'!AY12","v":0},{"$f":"'Result Entry'!AZ12","v":""},{"$f":"'Result Entry'!BA12","v":0},{"$f":"'Result Entry'!BB12","v":0},{"$f":"'Result Entry'!BC12","v":0},{"$f":"'Result Entry'!BD12","v":0},{"$f":"'Result Entry'!BE12","v":0},{"$f":"'Result Entry'!BF12","v":0},{"$f":"'Result Entry'!BG12","v":0},{"$f":"'Result Entry'!BH12","v":0},{"$f":"'Result Entry'!BI12","v":0},{"$f":"'Result Entry'!BJ12","v":0},{"$f":"'Result Entry'!BK12","v":0},{"$f":"'Result Entry'!BL12","v":0},{"$f":"'Result Entry'!BM12","v":""},{"$f":"'Result Entry'!BN12","v":""},{"$f":"'Result Entry'!BO12","v":0},{"$f":"'Result Entry'!BP12","v":0},{"$f":"'Result Entry'!BQ12","v":0},{"$f":"'Result Entry'!BR12","v":0},{"$f":"'Result Entry'!BS12","v":0},{"$f":"'Result Entry'!BT12","v":0},{"$f":"'Result Entry'!BU12","v":0},{"$f":"'Result Entry'!BV12","v":""},{"$f":"'Result Entry'!BW12","v":0},{"$f":"'Result Entry'!BX12","v":0},{"$f":"'Result Entry'!BY12","v":0},{"$f":"'Result Entry'!BZ12","v":0},{"$f":"'Result Entry'!CA12","v":0},{"$f":"'Result Entry'!CB12","v":0},{"$f":"'Result Entry'!CC12","v":0},{"$f":"'Result Entry'!CD12","v":""},{"$f":"'Result Entry'!CE12","v":0},{"$f":"'Result Entry'!CF12","v":0},{"$f":"'Result Entry'!CG12","v":0},{"$f":"'Result Entry'!CH12","v":0},{"$f":"'Result Entry'!CI12","v":0},{"$f":"'Result Entry'!CJ12","v":0},{"$f":"'Result Entry'!CK12","v":0},{"$f":"'Result Entry'!CL12","v":""},{"$f":"'Result Entry'!CM12","v":0},{"$f":"'Result Entry'!CN12","v":0},{"$f":"'Result Entry'!CO12","v":0},{"$f":"'Result Entry'!CP12","v":0},{"$f":"'Result Entry'!CQ12","v":0},{"$f":"'Result Entry'!CR12","v":0},{"$f":"'Result Entry'!CS12","v":0},{"$f":"'Result Entry'!CT12","v":""},{"$f":"'Result Entry'!CU12","v":0},{"$f":"'Result Entry'!CV12","v":0},{"$f":"'Result Entry'!CW12","v":""},{"$f":"'Result Entry'!CX12","v":500},{"$f":"'Result Entry'!CY12","v":0},{"$f":"'Result Entry'!CZ12","v":{"v":0,"d":"0.00"}},{"$f":"'Result Entry'!DA12","v":""},{"$f":"'Result Entry'!DB12","v":""},{"$f":"'Result Entry'!DC12","v":""},{"$f":"'Result Entry'!DD12","v":""}]
[null,0,{"$f":"'Result Entry'!D13","v":0},{"$f":"'Result Entry'!E13","v":0},{"$f":"'Result Entry'!F13","v":0},{"$f":"'Result Entry'!G13","v":0},{"$f":"'Result Entry'!H13","v":0},{"$f":"'Result Entry'!I13","v":0},{"$f":"'Result Entry'!J13","v":"00:00:00"},{"$f":"'Result Entry'!K13","v":0},{"$f":"'Result Entry'!L13","v":0},{"$f":"'Result Entry'!M13","v":0},{"$f":"'Result Entry'!N13","v":0},{"$f":"'Result Entry'!O13","v":0},{"$f":"'Result Entry'!P13","v":0},{"$f":"'Result Entry'!Q13","v":0},{"$f":"'Result Entry'!R13","v":0},{"$f":"'Result Entry'!S13","v":0},{"$f":"'Result Entry'!T13","v":0},{"$f":"'Result Entry'!U13","v":0},{"$f":"'Result Entry'!V13","v":0},{"$f":"'Result Entry'!W13","v":0},{"$f":"'Result Entry'!X13","v":""},{"$f":"'Result Entry'!Y13","v":0},{"$f":"'Result Entry'!Z13","v":0},{"$f":"'Result Entry'!AA13","v":0},{"$f":"'Result Entry'!AB13","v":0},{"$f":"'Result Entry'!AC13","v":0},{"$f":"'Result Entry'!AD13","v":0},{"$f":"'Result Entry'!AE13","v":0},{"$f":"'Result Entry'!AF13","v":0},{"$f":"'Result Entry'!AG13","v":0},{"$f":"'Result Entry'!AH13","v":0},{"$f":"'Result Entry'!AI13","v":0},{"$f":"'Result Entry'!AJ13","v":0},{"$f":"'Result Entry'!AK13","v":0},{"$f":"'Result Entry'!AL13","v":""},{"$f":"'Result Entry'!AM13","v":0},{"$f":"'Result Entry'!AN13","v":0},{"$f":"'Result Entry'!AO13","v":0},{"$f":"'Result Entry'!AP13","v":0},{"$f":"'Result Entry'!AQ13","v":0},{"$f":"'Result Entry'!AR13","v":0},{"$f":"'Result Entry'!AS13","v":0},{"$f":"'Result Entry'!AT13","v":0},{"$f":"'Result Entry'!AU13","v":0},{"$f":"'Result Entry'!AV13","v":0},{"$f":"'Result Entry'!AW13","v":0},{"$f":"'Result Entry'!AX13","v":0},{"$f":"'Result Entry'!AY13","v":0},{"$f":"'Result Entry'!AZ13","v":""},{"$f":"'Result Entry'!BA13","v":0},{"$f":"'Result Entry'!BB13","v":0},{"$f":"'Result Entry'!BC13","v":0},{"$f":"'Result Entry'!BD13","v":0},{"$f":"'Result Entry'!BE13","v":0},{"$f":"'Result Entry'!BF13","v":0},{"$f":"'Result Entry'!BG13","v":0},{"$f":"'Result Entry'!BH13","v":0},{"$f":"'Result Entry'!BI13","v":0},{"$f":"'Result Entry'!BJ13","v":0},{"$f":"'Result Entry'!BK13","v":0},{"$f":"'Result Entry'!BL13","v":0},{"$f":"'Result Entry'!BM13","v":""},{"$f":"'Result Entry'!BN13","v":""},{"$f":"'Result Entry'!BO13","v":0},{"$f":"'Result Entry'!BP13","v":0},{"$f":"'Result Entry'!BQ13","v":0},{"$f":"'Result Entry'!BR13","v":0},{"$f":"'Result Entry'!BS13","v":0},{"$f":"'Result Entry'!BT13","v":0},{"$f":"'Result Entry'!BU13","v":0},{"$f":"'Result Entry'!BV13","v":""},{"$f":"'Result Entry'!BW13","v":0},{"$f":"'Result Entry'!BX13","v":0},{"$f":"'Result Entry'!BY13","v":0},{"$f":"'Result Entry'!BZ13","v":0},{"$f":"'Result Entry'!CA13","v":0},{"$f":"'Result Entry'!CB13","v":0},{"$f":"'Result Entry'!CC13","v":0},{"$f":"'Result Entry'!CD13","v":""},{"$f":"'Result Entry'!CE13","v":0},{"$f":"'Result Entry'!CF13","v":0},{"$f":"'Result Entry'!CG13","v":0},{"$f":"'Result Entry'!CH13","v":0},{"$f":"'Result Entry'!CI13","v":0},{"$f":"'Result Entry'!CJ13","v":0},{"$f":"'Result Entry'!CK13","v":0},{"$f":"'Result Entry'!CL13","v":""},{"$f":"'Result Entry'!CM13","v":0},{"$f":"'Result Entry'!CN13","v":0},{"$f":"'Result Entry'!CO13","v":0},{"$f":"'Result Entry'!CP13","v":0},{"$f":"'Result Entry'!CQ13","v":0},{"$f":"'Result Entry'!CR13","v":0},{"$f":"'Result Entry'!CS13","v":0},{"$f":"'Result Entry'!CT13","v":""},{"$f":"'Result Entry'!CU13","v":0},{"$f":"'Result Entry'!CV13","v":0},{"$f":"'Result Entry'!CW13","v":""},{"$f":"'Result Entry'!CX13","v":500},{"$f":"'Result Entry'!CY13","v":0},{"$f":"'Result Entry'!CZ13","v":{"v":0,"d":"0.00"}},{"$f":"'Result Entry'!DA13","v":""},{"$f":"'Result Entry'!DB13","v":""},{"$f":"'Result Entry'!DC13","v":""},{"$f":"'Result Entry'!DD13","v":""}]
[null,0,{"$f":"'Result Entry'!D14","v":0},{"$f":"'Result Entry'!E14","v":0},{"$f":"'Result Entry'!F14","v":0},{"$f":"'Result Entry'!G14","v":0},{"$f":"'Result Entry'!H14","v":0},{"$f":"'Result Entry'!I14","v":0},{"$f":"'Result Entry'!J14","v":"00:00:00"},{"$f":"'Result Entry'!K14","v":0},{"$f":"'Result Entry'!L14","v":0},{"$f":"'Result Entry'!M14","v":0},{"$f":"'Result Entry'!N14","v":0},{"$f":"'Result Entry'!O14","v":0},{"$f":"'Result Entry'!P14","v":0},{"$f":"'Result Entry'!Q14","v":0},{"$f":"'Result Entry'!R14","v":0},{"$f":"'Result Entry'!S14","v":0},{"$f":"'Result Entry'!T14","v":0},{"$f":"'Result Entry'!U14","v":0},{"$f":"'Result Entry'!V14","v":0},{"$f":"'Result Entry'!W14","v":0},{"$f":"'Result Entry'!X14","v":""},{"$f":"'Result Entry'!Y14","v":0},{"$f":"'Result Entry'!Z14","v":0},{"$f":"'Result Entry'!AA14","v":0},{"$f":"'Result Entry'!AB14","v":0},{"$f":"'Result Entry'!AC14","v":0},{"$f":"'Result Entry'!AD14","v":0},{"$f":"'Result Entry'!AE14","v":0},{"$f":"'Result Entry'!AF14","v":0},{"$f":"'Result Entry'!AG14","v":0},{"$f":"'Result Entry'!AH14","v":0},{"$f":"'Result Entry'!AI14","v":0},{"$f":"'Result Entry'!AJ14","v":0},{"$f":"'Result Entry'!AK14","v":0},{"$f":"'Result Entry'!AL14","v":""},{"$f":"'Result Entry'!AM14","v":0},{"$f":"'Result Entry'!AN14","v":0},{"$f":"'Result Entry'!AO14","v":0},{"$f":"'Result Entry'!AP14","v":0},{"$f":"'Result Entry'!AQ14","v":0},{"$f":"'Result Entry'!AR14","v":0},{"$f":"'Result Entry'!AS14","v":0},{"$f":"'Result Entry'!AT14","v":0},{"$f":"'Result Entry'!AU14","v":0},{"$f":"'Result Entry'!AV14","v":0},{"$f":"'Result Entry'!AW14","v":0},{"$f":"'Result Entry'!AX14","v":0},{"$f":"'Result Entry'!AY14","v":0},{"$f":"'Result Entry'!AZ14","v":""},{"$f":"'Result Entry'!BA14","v":0},{"$f":"'Result Entry'!BB14","v":0},{"$f":"'Result Entry'!BC14","v":0},{"$f":"'Result Entry'!BD14","v":0},{"$f":"'Result Entry'!BE14","v":0},{"$f":"'Result Entry'!BF14","v":0},{"$f":"'Result Entry'!BG14","v":0},{"$f":"'Result Entry'!BH14","v":0},{"$f":"'Result Entry'!BI14","v":0},{"$f":"'Result Entry'!BJ14","v":0},{"$f":"'Result Entry'!BK14","v":0},{"$f":"'Result Entry'!BL14","v":0},{"$f":"'Result Entry'!BM14","v":""},{"$f":"'Result Entry'!BN14","v":""},{"$f":"'Result Entry'!BO14","v":0},{"$f":"'Result Entry'!BP14","v":0},{"$f":"'Result Entry'!BQ14","v":0},{"$f":"'Result Entry'!BR14","v":0},{"$f":"'Result Entry'!BS14","v":0},{"$f":"'Result Entry'!BT14","v":0},{"$f":"'Result Entry'!BU14","v":0},{"$f":"'Result Entry'!BV14","v":""},{"$f":"'Result Entry'!BW14","v":0},{"$f":"'Result Entry'!BX14","v":0},{"$f":"'Result Entry'!BY14","v":0},{"$f":"'Result Entry'!BZ14","v":0},{"$f":"'Result Entry'!CA14","v":0},{"$f":"'Result Entry'!CB14","v":0},{"$f":"'Result Entry'!CC14","v":0},{"$f":"'Result Entry'!CD14","v":""},{"$f":"'Result Entry'!CE14","v":0},{"$f":"'Result Entry'!CF14","v":0},{"$f":"'Result Entry'!CG14","v":0},{"$f":"'Result Entry'!CH14","v":0},{"$f":"'Result Entry'!CI14","v":0},{"$f":"'Result Entry'!CJ14","v":0},{"$f":"'Result Entry'!CK14","v":0},{"$f":"'Result Entry'!CL14","v":""},{"$f":"'Result Entry'!CM14","v":0},{"$f":"'Result Entry'!CN14","v":0},{"$f":"'Result Entry'!CO14","v":0},{"$f":"'Result Entry'!CP14","v":0},{"$f":"'Result Entry'!CQ14","v":0},{"$f":"'Result Entry'!CR14","v":0},{"$f":"'Result Entry'!CS14","v":0},{"$f":"'Result Entry'!CT14","v":""},{"$f":"'Result Entry'!CU14","v":0},{"$f":"'Result Entry'!CV14","v":0},{"$f":"'Result Entry'!CW14","v":""},{"$f":"'Result Entry'!CX14","v":500},{"$f":"'Result Entry'!CY14","v":0},{"$f":"'Result Entry'!CZ14","v":{"v":0,"d":"0.00"}},{"$f":"'Result Entry'!DA14","v":""},{"$f":"'Result Entry'!DB14","v":""},{"$f":"'Result Entry'!DC14","v":""},{"$f":"'Result Entry'!DD14","v":""}]
[null,0,{"$f":"'Result Entry'!D15","v":0},{"$f":"'Result Entry'!E15","v":0},{"$f":"'Result Entry'!F15","v":0},{"$f":"'Result Entry'!G15","v":0},{"$f":"'Result Entry'!H15","v":0},{"$f":"'Result Entry'!I15","v":0},{"$f":"'Result Entry'!J15","v":"00:00:00"},{"$f":"'Result Entry'!K15","v":0},{"$f":"'Result Entry'!L15","v":0},{"$f":"'Result Entry'!M15","v":0},{"$f":"'Result Entry'!N15","v":0},{"$f":"'Result Entry'!O15","v":0},{"$f":"'Result Entry'!P15","v":0},{"$f":"'Result Entry'!Q15","v":0},{"$f":"'Result Entry'!R15","v":0},{"$f":"'Result Entry'!S15","v":0},{"$f":"'Result Entry'!T15","v":0},{"$f":"'Result Entry'!U15","v":0},{"$f":"'Result Entry'!V15","v":0},{"$f":"'Result Entry'!W15","v":0},{"$f":"'Result Entry'!X15","v":""},{"$f":"'Result Entry'!Y15","v":0},{"$f":"'Result Entry'!Z15","v":0},{"$f":"'Result Entry'!AA15","v":0},{"$f":"'Result Entry'!AB15","v":0},{"$f":"'Result Entry'!AC15","v":0},{"$f":"'Result Entry'!AD15","v":0},{"$f":"'Result Entry'!AE15","v":0},{"$f":"'Result Entry'!AF15","v":0},{"$f":"'Result Entry'!AG15","v":0},{"$f":"'Result Entry'!AH15","v":0},{"$f":"'Result Entry'!AI15","v":0},{"$f":"'Result Entry'!AJ15","v":0},{"$f":"'Result Entry'!AK15","v":0},{"$f":"'Result Entry'!AL15","v":""},{"$f":"'Result Entry'!AM15","v":0},{"$f":"'Result Entry'!AN15","v":0},{"$f":"'Result Entry'!AO15","v":0},{"$f":"'Result Entry'!AP15","v":0},{"$f":"'Result Entry'!AQ15","v":0},{"$f":"'Result Entry'!AR15","v":0},{"$f":"'Result Entry'!AS15","v":0},{"$f":"'Result Entry'!AT15","v":0},{"$f":"'Result Entry'!AU15","v":0},{"$f":"'Result Entry'!AV15","v":0},{"$f":"'Result Entry'!AW15","v":0},{"$f":"'Result Entry'!AX15","v":0},{"$f":"'Result Entry'!AY15","v":0},{"$f":"'Result Entry'!AZ15","v":""},{"$f":"'Result Entry'!BA15","v":0},{"$f":"'Result Entry'!BB15","v":0},{"$f":"'Result Entry'!BC15","v":0},{"$f":"'Result Entry'!BD15","v":0},{"$f":"'Result Entry'!BE15","v":0},{"$f":"'Result Entry'!BF15","v":0},{"$f":"'Result Entry'!BG15","v":0},{"$f":"'Result Entry'!BH15","v":0},{"$f":"'Result Entry'!BI15","v":0},{"$f":"'Result Entry'!BJ15","v":0},{"$f":"'Result Entry'!BK15","v":0},{"$f":"'Result Entry'!BL15","v":0},{"$f":"'Result Entry'!BM15","v":""},{"$f":"'Result Entry'!BN15","v":""},{"$f":"'Result Entry'!BO15","v":0},{"$f":"'Result Entry'!BP15","v":0},{"$f":"'Result Entry'!BQ15","v":0},{"$f":"'Result Entry'!BR15","v":0},{"$f":"'Result Entry'!BS15","v":0},{"$f":"'Result Entry'!BT15","v":0},{"$f":"'Result Entry'!BU15","v":0},{"$f":"'Result Entry'!BV15","v":""},{"$f":"'Result Entry'!BW15","v":0},{"$f":"'Result Entry'!BX15","v":0},{"$f":"'Result Entry'!BY15","v":0},{"$f":"'Result Entry'!BZ15","v":0},{"$f":"'Result Entry'!CA15","v":0},{"$f":"'Result Entry'!CB15","v":0},{"$f":"'Result Entry'!CC15","v":0},{"$f":"'Result Entry'!CD15","v":""},{"$f":"'Result Entry'!CE15","v":0},{"$f":"'Result Entry'!CF15","v":0},{"$f":"'Result Entry'!CG15","v":0},{"$f":"'Result Entry'!CH15","v":0},{"$f":"'Result Entry'!CI15","v":0},{"$f":"'Result Entry'!CJ15","v":0},{"$f":"'Result Entry'!CK15","v":0},{"$f":"'Result Entry'!CL15","v":""},{"$f":"'Result Entry'!CM15","v":0},{"$f":"'Result Entry'!CN15","v":0},{"$f":"'Result Entry'!CO15","v":0},{"$f":"'Result Entry'!CP15","v":0},{"$f":"'Result Entry'!CQ15","v":0},{"$f":"'Result Entry'!CR15","v":0},{"$f":"'Result Entry'!CS15","v":0},{"$f":"'Result Entry'!CT15","v":""},{"$f":"'Result Entry'!CU15","v":0},{"$f":"'Result Entry'!CV15","v":0},{"$f":"'Result Entry'!CW15","v":""},{"$f":"'Result Entry'!CX15","v":500},{"$f":"'Result Entry'!CY15","v":0},{"$f":"'Result Entry'!CZ15","v":{"v":0,"d":"0.00"}},{"$f":"'Result Entry'!DA15","v":""},{"$f":"'Result Entry'!DB15","v":""},{"$f":"'Result Entry'!DC15","v":""},{"$f":"'Result Entry'!DD15","v":""}]
[null,0,{"$f":"'Result Entry'!D16","v":0},{"$f":"'Result Entry'!E16","v":0},{"$f":"'Result Entry'!F16","v":0},{"$f":"'Result Entry'!G16","v":0},{"$f":"'Result Entry'!H16","v":0},{"$f":"'Result Entry'!I16","v":0},{"$f":"'Result Entry'!J16","v":"00:00:00"},{"$f":"'Result Entry'!K16","v":0},{"$f":"'Result Entry'!L16","v":0},{"$f":"'Result Entry'!M16","v":0},{"$f":"'Result Entry'!N16","v":0},{"$f":"'Result Entry'!O16","v":0},{"$f":"'Result Entry'!P16","v":0},{"$f":"'Result Entry'!Q16","v":0},{"$f":"'Result Entry'!R16","v":0},{"$f":"'Result Entry'!S16","v":0},{"$f":"'Result Entry'!T16","v":0},{"$f":"'Result Entry'!U16","v":0},{"$f":"'Result Entry'!V16","v":0},{"$f":"'Result Entry'!W16","v":0},{"$f":"'Result Entry'!X16","v":""},{"$f":"'Result Entry'!Y16","v":0},{"$f":"'Result Entry'!Z16","v":0},{"$f":"'Result Entry'!AA16","v":0},{"$f":"'Result Entry'!AB16","v":0},{"$f":"'Result Entry'!AC16","v":0},{"$f":"'Result Entry'!AD16","v":0},{"$f":"'Result Entry'!AE16","v":0},{"$f":"'Result Entry'!AF16","v":0},{"$f":"'Result Entry'!AG16","v":0},{"$f":"'Result Entry'!AH16","v":0},{"$f":"'Result Entry'!AI16","v":0},{"$f":"'Result Entry'!AJ16","v":0},{"$f":"'Result Entry'!AK16","v":0},{"$f":"'Result Entry'!AL16","v":""},{"$f":"'Result Entry'!AM16","v":0},{"$f":"'Result Entry'!AN16","v":0},{"$f":"'Result Entry'!AO16","v":0},{"$f":"'Result Entry'!AP16","v":0},{"$f":"'Result Entry'!AQ16","v":0},{"$f":"'Result Entry'!AR16","v":0},{"$f":"'Result Entry'!AS16","v":0},{"$f":"'Result Entry'!AT16","v":0},{"$f":"'Result Entry'!AU16","v":0},{"$f":"'Result Entry'!AV16","v":0},{"$f":"'Result Entry'!AW16","v":0},{"$f":"'Result Entry'!AX16","v":0},{"$f":"'Result Entry'!AY16","v":0},{"$f":"'Result Entry'!AZ16","v":""},{"$f":"'Result Entry'!BA16","v":0},{"$f":"'Result Entry'!BB16","v":0},{"$f":"'Result Entry'!BC16","v":0},{"$f":"'Result Entry'!BD16","v":0},{"$f":"'Result Entry'!BE16","v":0},{"$f":"'Result Entry'!BF16","v":0},{"$f":"'Result Entry'!BG16","v":0},{"$f":"'Result Entry'!BH16","v":0},{"$f":"'Result Entry'!BI16","v":0},{"$f":"'Result Entry'!BJ16","v":0},{"$f":"'Result Entry'!BK16","v":0},{"$f":"'Result Entry'!BL16","v":0},{"$f":"'Result Entry'!BM16","v":""},{"$f":"'Result Entry'!BN16","v":""},{"$f":"'Result Entry'!BO16","v":0},{"$f":"'Result Entry'!BP16","v":0},{"$f":"'Result Entry'!BQ16","v":0},{"$f":"'Result Entry'!BR16","v":0},{"$f":"'Result Entry'!BS16","v":0},{"$f":"'Result Entry'!BT16","v":0},{"$f":"'Result Entry'!BU16","v":0},{"$f":"'Result Entry'!BV16","v":""},{"$f":"'Result Entry'!BW16","v":0},{"$f":"'Result Entry'!BX16","v":0},{"$f":"'Result Entry'!BY16","v":0},{"$f":"'Result Entry'!BZ16","v":0},{"$f":"'Result Entry'!CA16","v":0},{"$f":"'Result Entry'!CB16","v":0},{"$f":"'Result Entry'!CC16","v":0},{"$f":"'Result Entry'!CD16","v":""},{"$f":"'Result Entry'!CE16","v":0},{"$f":"'Result Entry'!CF16","v":0},{"$f":"'Result Entry'!CG16","v":0},{"$f":"'Result Entry'!CH16","v":0},{"$f":"'Result Entry'!CI16","v":0},{"$f":"'Result Entry'!CJ16","v":0},{"$f":"'Result Entry'!CK16","v":0},{"$f":"'Result Entry'!CL16","v":""},{"$f":"'Result Entry'!CM16","v":0},{"$f":"'Result Entry'!CN16","v":0},{"$f":"'Result Entry'!CO16","v":0},{"$f":"'Result Entry'!CP16","v":0},{"$f":"'Result Entry'!CQ16","v":0},{"$f":"'Result Entry'!CR16","v":0},{"$f":"'Result Entry'!CS16","v":0},{"$f":"'Result Entry'!CT16","v":""},{"$f":"'Result Entry'!CU16","v":0},{"$f":"'Result Entry'!CV16","v":0},{"$f":"'Result Entry'!CW16","v":""},{"$f":"'Result Entry'!CX16","v":500},{"$f":"'Result Entry'!CY16","v":0},{"$f":"'Result Entry'!CZ16","v":{"v":0,"d":"0.00"}},{"$f":"'Result Entry'!DA16","v":""},{"$f":"'Result Entry'!DB16","v":""},{"$f":"'Result Entry'!DC16","v":""},{"$f":"'Result Entry'!DD16","v":""}]
[null,0,{"$f":"'Result Entry'!D17","v":0},{"$f":"'Result Entry'!E17","v":0},{"$f":"'Result Entry'!F17","v":0},{"$f":"'Result Entry'!G17","v":0},{"$f":"'Result Entry'!H17","v":0},{"$f":"'Result Entry'!I17","v":0},{"$f":"'Result Entry'!J17","v":"00:00:00"},{"$f":"'Result Entry'!K17","v":0},{"$f":"'Result Entry'!L17","v":0},{"$f":"'Result Entry'!M17","v":0},{"$f":"'Result Entry'!N17","v":0},{"$f":"'Result Entry'!O17","v":0},{"$f":"'Result Entry'!P17","v":0},{"$f":"'Result Entry'!Q17","v":0},{"$f":"'Result Entry'!R17","v":0},{"$f":"'Result Entry'!S17","v":0},{"$f":"'Result Entry'!T17","v":0},{"$f":"'Result Entry'!U17","v":0},{"$f":"'Result Entry'!V17","v":0},{"$f":"'Result Entry'!W17","v":0},{"$f":"'Result Entry'!X17","v":""},{"$f":"'Result Entry'!Y17","v":0},{"$f":"'Result Entry'!Z17","v":0},{"$f":"'Result Entry'!AA17","v":0},{"$f":"'Result Entry'!AB17","v":0},{"$f":"'Result Entry'!AC17","v":0},{"$f":"'Result Entry'!AD17","v":0},{"$f":"'Result Entry'!AE17","v":0},{"$f":"'Result Entry'!AF17","v":0},{"$f":"'Result Entry'!AG17","v":0},{"$f":"'Result Entry'!AH17","v":0},{"$f":"'Result Entry'!AI17","v":0},{"$f":"'Result Entry'!AJ17","v":0},{"$f":"'Result Entry'!AK17","v":0},{"$f":"'Result Entry'!AL17","v":""},{"$f":"'Result Entry'!AM17","v":0},{"$f":"'Result Entry'!AN17","v":0},{"$f":"'Result Entry'!AO17","v":0},{"$f":"'Result Entry'!AP17","v":0},{"$f":"'Result Entry'!AQ17","v":0},{"$f":"'Result Entry'!AR17","v":0},{"$f":"'Result Entry'!AS17","v":0},{"$f":"'Result Entry'!AT17","v":0},{"$f":"'Result Entry'!AU17","v":0},{"$f":"'Result Entry'!AV17","v":0},{"$f":"'Result Entry'!AW17","v":0},{"$f":"'Result Entry'!AX17","v":0},{"$f":"'Result Entry'!AY17","v":0},{"$f":"'Result Entry'!AZ17","v":""},{"$f":"'Result Entry'!BA17","v":0},{"$f":"'Result Entry'!BB17","v":0},{"$f":"'Result Entry'!BC17","v":0},{"$f":"'Result Entry'!BD17","v":0},{"$f":"'Result Entry'!BE17","v":0},{"$f":"'Result Entry'!BF17","v":0},{"$f":"'Result Entry'!BG17","v":0},{"$f":"'Result Entry'!BH17","v":0},{"$f":"'Result Entry'!BI17","v":0},{"$f":"'Result Entry'!BJ17","v":0},{"$f":"'Result Entry'!BK17","v":0},{"$f":"'Result Entry'!BL17","v":0},{"$f":"'Result Entry'!BM17","v":""},{"$f":"'Result Entry'!BN17","v":""},{"$f":"'Result Entry'!BO17","v":0},{"$f":"'Result Entry'!BP17","v":0},{"$f":"'Result Entry'!BQ17","v":0},{"$f":"'Result Entry'!BR17","v":0},{"$f":"'Result Entry'!BS17","v":0},{"$f":"'Result Entry'!BT17","v":0},{"$f":"'Result Entry'!BU17","v":0},{"$f":"'Result Entry'!BV17","v":""},{"$f":"'Result Entry'!BW17","v":0},{"$f":"'Result Entry'!BX17","v":0},{"$f":"'Result Entry'!BY17","v":0},{"$f":"'Result Entry'!BZ17","v":0},{"$f":"'Result Entry'!CA17","v":0},{"$f":"'Result Entry'!CB17","v":0},{"$f":"'Result Entry'!CC17","v":0},{"$f":"'Result Entry'!CD17","v":""},{"$f":"'Result Entry'!CE17","v":0},{"$f":"'Result Entry'!CF17","v":0},{"$f":"'Result Entry'!CG17","v":0},{"$f":"'Result Entry'!CH17","v":0},{"$f":"'Result Entry'!CI17","v":0},{"$f":"'Result Entry'!CJ17","v":0},{"$f":"'Result Entry'!CK17","v":0},{"$f":"'Result Entry'!CL17","v":""},{"$f":"'Result Entry'!CM17","v":0},{"$f":"'Result Entry'!CN17","v":0},{"$f":"'Result Entry'!CO17","v":0},{"$f":"'Result Entry'!CP17","v":0},{"$f":"'Result Entry'!CQ17","v":0},{"$f":"'Result Entry'!CR17","v":0},{"$f":"'Result Entry'!CS17","v":0},{"$f":"'Result Entry'!CT17","v":""},{"$f":"'Result Entry'!CU17","v":0},{"$f":"'Result Entry'!CV17","v":0},{"$f":"'Result Entry'!CW17","v":""},{"$f":"'Result Entry'!CX17","v":500},{"$f":"'Result Entry'!CY17","v":0},{"$f":"'Result Entry'!CZ17","v":{"v":0,"d":"0.00"}},{"$f":"'Result Entry'!DA17","v":""},{"$f":"'Result Entry'!DB17","v":""},{"$f":"'Result Entry'!DC17","v":""},{"$f":"'Result Entry'!DD17","v":""}]
[null,0,{"$f":"'Result Entry'!D18","v":0},{"$f":"'Result Entry'!E18","v":0},{"$f":"'Result Entry'!F18","v":0},{"$f":"'Result Entry'!G18","v":0},{"$f":"'Result Entry'!H18","v":0},{"$f":"'Result Entry'!I18","v":0},{"$f":"'Result Entry'!J18","v":"00:00:00"},{"$f":"'Result Entry'!K18","v":0},{"$f":"'Result Entry'!L18","v":0},{"$f":"'Result Entry'!M18","v":0},{"$f":"'Result Entry'!N18","v":0},{"$f":"'Result Entry'!O18","v":0},{"$f":"'Result Entry'!P18","v":0},{"$f":"'Result Entry'!Q18","v":0},{"$f":"'Result Entry'!R18","v":0},{"$f":"'Result Entry'!S18","v":0},{"$f":"'Result Entry'!T18","v":0},{"$f":"'Result Entry'!U18","v":0},{"$f":"'Result Entry'!V18","v":0},{"$f":"'Result Entry'!W18","v":0},{"$f":"'Result Entry'!X18","v":""},{"$f":"'Result Entry'!Y18","v":0},{"$f":"'Result Entry'!Z18","v":0},{"$f":"'Result Entry'!AA18","v":0},{"$f":"'Result Entry'!AB18","v":0},{"$f":"'Result Entry'!AC18","v":0},{"$f":"'Result Entry'!AD18","v":0},{"$f":"'Result Entry'!AE18","v":0},{"$f":"'Result Entry'!AF18","v":0},{"$f":"'Result Entry'!AG18","v":0},{"$f":"'Result Entry'!AH18","v":0},{"$f":"'Result Entry'!AI18","v":0},{"$f":"'Result Entry'!AJ18","v":0},{"$f":"'Result Entry'!AK18","v":0},{"$f":"'Result Entry'!AL18","v":""},{"$f":"'Result Entry'!AM18","v":0},{"$f":"'Result Entry'!AN18","v":0},{"$f":"'Result Entry'!AO18","v":0},{"$f":"'Result Entry'!AP18","v":0},{"$f":"'Result Entry'!AQ18","v":0},{"$f":"'Result Entry'!AR18","v":0},{"$f":"'Result Entry'!AS18","v":0},{"$f":"'Result Entry'!AT18","v":0},{"$f":"'Result Entry'!AU18","v":0},{"$f":"'Result Entry'!AV18","v":0},{"$f":"'Result Entry'!AW18","v":0},{"$f":"'Result Entry'!AX18","v":0},{"$f":"'Result Entry'!AY18","v":0},{"$f":"'Result Entry'!AZ18","v":""},{"$f":"'Result Entry'!BA18","v":0},{"$f":"'Result Entry'!BB18","v":0},{"$f":"'Result Entry'!BC18","v":0},{"$f":"'Result Entry'!BD18","v":0},{"$f":"'Result Entry'!BE18","v":0},{"$f":"'Result Entry'!BF18","v":0},{"$f":"'Result Entry'!BG18","v":0},{"$f":"'Result Entry'!BH18","v":0},{"$f":"'Result Entry'!BI18","v":0},{"$f":"'Result Entry'!BJ18","v":0},{"$f":"'Result Entry'!BK18","v":0},{"$f":"'Result Entry'!BL18","v":0},{"$f":"'Result Entry'!BM18","v":""},{"$f":"'Result Entry'!BN18","v":""},{"$f":"'Result Entry'!BO18","v":0},{"$f":"'Result Entry'!BP18","v":0},{"$f":"'Result Entry'!BQ18","v":0},{"$f":"'Result Entry'!BR18","v":0},{"$f":"'Result Entry'!BS18","v":0},{"$f":"'Result Entry'!BT18","v":0},{"$f":"'Result Entry'!BU18","v":0},{"$f":"'Result Entry'!BV18","v":""},{"$f":"'Result Entry'!BW18","v":0},{"$f":"'Result Entry'!BX18","v":0},{"$f":"'Result Entry'!BY18","v":0},{"$f":"'Result Entry'!BZ18","v":0},{"$f":"'Result Entry'!CA18","v":0},{"$f":"'Result Entry'!CB18","v":0},{"$f":"'Result Entry'!CC18","v":0},{"$f":"'Result Entry'!CD18","v":""},{"$f":"'Result Entry'!CE18","v":0},{"$f":"'Result Entry'!CF18","v":0},{"$f":"'Result Entry'!CG18","v":0},{"$f":"'Result Entry'!CH18","v":0},{"$f":"'Result Entry'!CI18","v":0},{"$f":"'Result Entry'!CJ18","v":0},{"$f":"'Result Entry'!CK18","v":0},{"$f":"'Result Entry'!CL18","v":""},{"$f":"'Result Entry'!CM18","v":0},{"$f":"'Result Entry'!CN18","v":0},{"$f":"'Result Entry'!CO18","v":0},{"$f":"'Result Entry'!CP18","v":0},{"$f":"'Result Entry'!CQ18","v":0},{"$f":"'Result Entry'!CR18","v":0},{"$f":"'Result Entry'!CS18","v":0},{"$f":"'Result Entry'!CT18","v":""},{"$f":"'Result Entry'!CU18","v":0},{"$f":"'Result Entry'!CV18","v":0},{"$f":"'Result Entry'!CW18","v":""},{"$f":"'Result Entry'!CX18","v":500},{"$f":"'Result Entry'!CY18","v":0},{"$f":"'Result Entry'!CZ18","v":{"v":0,"d":"0.00"}},{"$f":"'Result Entry'!DA18","v":""},{"$f":"'Result Entry'!DB18","v":""},{"$f":"'Result Entry'!DC18","v":""},{"$f":"'Result Entry'!DD18","v":""}]
[null,0,{"$f":"'Result Entry'!D19","v":0},{"$f":"'Result Entry'!E19","v":0},{"$f":"'Result Entry'!F19","v":0},{"$f":"'Result Entry'!G19","v":0},{"$f":"'Result Entry'!H19","v":0},{"$f":"'Result Entry'!I19","v":0},{"$f":"'Result Entry'!J19","v":"00:00:00"},{"$f":"'Result Entry'!K19","v":0},{"$f":"'Result Entry'!L19","v":0},{"$f":"'Result Entry'!M19","v":0},{"$f":"'Result Entry'!N19","v":0},{"$f":"'Result Entry'!O19","v":0},{"$f":"'Result Entry'!P19","v":0},{"$f":"'Result Entry'!Q19","v":0},{"$f":"'Result Entry'!R19","v":0},{"$f":"'Result Entry'!S19","v":0},{"$f":"'Result Entry'!T19","v":0},{"$f":"'Result Entry'!U19","v":0},{"$f":"'Result Entry'!V19","v":0},{"$f":"'Result Entry'!W19","v":0},{"$f":"'Result Entry'!X19","v":""},{"$f":"'Result Entry'!Y19","v":0},{"$f":"'Result Entry'!Z19","v":0},{"$f":"'Result Entry'!AA19","v":0},{"$f":"'Result Entry'!AB19","v":0},{"$f":"'Result Entry'!AC19","v":0},{"$f":"'Result Entry'!AD19","v":0},{"$f":"'Result Entry'!AE19","v":0},{"$f":"'Result Entry'!AF19","v":0},{"$f":"'Result Entry'!AG19","v":0},{"$f":"'Result Entry'!AH19","v":0},{"$f":"'Result Entry'!AI19","v":0},{"$f":"'Result Entry'!AJ19","v":0},{"$f":"'Result Entry'!AK19","v":0},{"$f":"'Result Entry'!AL19","v":""},{"$f":"'Result Entry'!AM19","v":0},{"$f":"'Result Entry'!AN19","v":0},{"$f":"'Result Entry'!AO19","v":0},{"$f":"'Result Entry'!AP19","v":0},{"$f":"'Result Entry'!AQ19","v":0},{"$f":"'Result Entry'!AR19","v":0},{"$f":"'Result Entry'!AS19","v":0},{"$f":"'Result Entry'!AT19","v":0},{"$f":"'Result Entry'!AU19","v":0},{"$f":"'Result Entry'!AV19","v":0},{"$f":"'Result Entry'!AW19","v":0},{"$f":"'Result Entry'!AX19","v":0},{"$f":"'Result Entry'!AY19","v":0},{"$f":"'Result Entry'!AZ19","v":""},{"$f":"'Result Entry'!BA19","v":0},{"$f":"'Result Entry'!BB19","v":0},{"$f":"'Result Entry'!BC19","v":0},{"$f":"'Result Entry'!BD19","v":0},{"$f":"'Result Entry'!BE19","v":0},{"$f":"'Result Entry'!BF19","v":0},{"$f":"'Result Entry'!BG19","v":0},{"$f":"'Result Entry'!BH19","v":0},{"$f":"'Result Entry'!BI19","v":0},{"$f":"'Result Entry'!BJ19","v":0},{"$f":"'Result Entry'!BK19","v":0},{"$f":"'Result Entry'!BL19","v":0},{"$f":"'Result Entry'!BM19","v":""},{"$f":"'Result Entry'!BN19","v":""},{"$f":"'Result Entry'!BO19","v":0},{"$f":"'Result Entry'!BP19","v":0},{"$f":"'Result Entry'!BQ19","v":0},{"$f":"'Result Entry'!BR19","v":0},{"$f":"'Result Entry'!BS19","v":0},{"$f":"'Result Entry'!BT19","v":0},{"$f":"'Result Entry'!BU19","v":0},{"$f":"'Result Entry'!BV19","v":""},{"$f":"'Result Entry'!BW19","v":0},{"$f":"'Result Entry'!BX19","v":0},{"$f":"'Result Entry'!BY19","v":0},{"$f":"'Result Entry'!BZ19","v":0},{"$f":"'Result Entry'!CA19","v":0},{"$f":"'Result Entry'!CB19","v":0},{"$f":"'Result Entry'!CC19","v":0},{"$f":"'Result Entry'!CD19","v":""},{"$f":"'Result Entry'!CE19","v":0},{"$f":"'Result Entry'!CF19","v":0},{"$f":"'Result Entry'!CG19","v":0},{"$f":"'Result Entry'!CH19","v":0},{"$f":"'Result Entry'!CI19","v":0},{"$f":"'Result Entry'!CJ19","v":0},{"$f":"'Result Entry'!CK19","v":0},{"$f":"'Result Entry'!CL19","v":""},{"$f":"'Result Entry'!CM19","v":0},{"$f":"'Result Entry'!CN19","v":0},{"$f":"'Result Entry'!CO19","v":0},{"$f":"'Result Entry'!CP19","v":0},{"$f":"'Result Entry'!CQ19","v":0},{"$f":"'Result Entry'!CR19","v":0},{"$f":"'Result Entry'!CS19","v":0},{"$f":"'Result Entry'!CT19","v":""},{"$f":"'Result Entry'!CU19","v":0},{"$f":"'Result Entry'!CV19","v":0},{"$f":"'Result Entry'!CW19","v":""},{"$f":"'Result Entry'!CX19","v":500},{"$f":"'Result Entry'!CY19","v":0},{"$f":"'Result Entry'!CZ19","v":{"v":0,"d":"0.00"}},{"$f":"'Result Entry'!DA19","v":""},{"$f":"'Result Entry'!DB19","v":""},{"$f":"'Result Entry'!DC19","v":""},{"$f":"'Result Entry'!DD19","v":""}]
[null,0,{"$f":"'Result Entry'!D20","v":0},{"$f":"'Result Entry'!E20","v":0},{"$f":"'Result Entry'!F20","v":0},{"$f":"'Result Entry'!G20","v":0},{"$f":"'Result Entry'!H20","v":0},{"$f":"'Result Entry'!I20","v":0},{"$f":"'Result Entry'!J20","v":"00:00:00"},{"$f":"'Result Entry'!K20","v":0},{"$f":"'Result Entry'!L20","v":0},{"$f":"'Result Entry'!M20","v":0},{"$f":"'Result Entry'!N20","v":0},{"$f":"'Result Entry'!O20","v":0},{"$f":"'Result Entry'!P20","v":0},{"$f":"'Result Entry'!Q20","v":0},{"$f":"'Result Entry'!R20","v":0},{"$f":"'Result Entry'!S20","v":0},{"$f":"'Result Entry'!T20","v":0},{"$f":"'Result Entry'!U20","v":0},{"$f":"'Result Entry'!V20","v":0},{"$f":"'Result Entry'!W20","v":0},{"$f":"'Result Entry'!X20","v":""},{"$f":"'Result Entry'!Y20","v":0},{"$f":"'Result Entry'!Z20","v":0},{"$f":"'Result Entry'!AA20","v":0},{"$f":"'Result Entry'!AB20","v":0},{"$f":"'Result Entry'!AC20","v":0},{"$f":"'Result Entry'!AD20","v":0},{"$f":"'Result Entry'!AE20","v":0},{"$f":"'Result Entry'!AF20","v":0},{"$f":"'Result Entry'!AG20","v":0},{"$f":"'Result Entry'!AH20","v":0},{"$f":"'Result Entry'!AI20","v":0},{"$f":"'Result Entry'!AJ20","v":0},{"$f":"'Result Entry'!AK20","v":0},{"$f":"'Result Entry'!AL20","v":""},{"$f":"'Result Entry'!AM20","v":0},{"$f":"'Result Entry'!AN20","v":0},{"$f":"'Result Entry'!AO20","v":0},{"$f":"'Result Entry'!AP20","v":0},{"$f":"'Result Entry'!AQ20","v":0},{"$f":"'Result Entry'!AR20","v":0},{"$f":"'Result Entry'!AS20","v":0},{"$f":"'Result Entry'!AT20","v":0},{"$f":"'Result Entry'!AU20","v":0},{"$f":"'Result Entry'!AV20","v":0},{"$f":"'Result Entry'!AW20","v":0},{"$f":"'Result Entry'!AX20","v":0},{"$f":"'Result Entry'!AY20","v":0},{"$f":"'Result Entry'!AZ20","v":""},{"$f":"'Result Entry'!BA20","v":0},{"$f":"'Result Entry'!BB20","v":0},{"$f":"'Result Entry'!BC20","v":0},{"$f":"'Result Entry'!BD20","v":0},{"$f":"'Result Entry'!BE20","v":0},{"$f":"'Result Entry'!BF20","v":0},{"$f":"'Result Entry'!BG20","v":0},{"$f":"'Result Entry'!BH20","v":0},{"$f":"'Result Entry'!BI20","v":0},{"$f":"'Result Entry'!BJ20","v":0},{"$f":"'Result Entry'!BK20","v":0},{"$f":"'Result Entry'!BL20","v":0},{"$f":"'Result Entry'!BM20","v":""},{"$f":"'Result Entry'!BN20","v":""},{"$f":"'Result Entry'!BO20","v":0},{"$f":"'Result Entry'!BP20","v":0},{"$f":"'Result Entry'!BQ20","v":0},{"$f":"'Result Entry'!BR20","v":0},{"$f":"'Result Entry'!BS20","v":0},{"$f":"'Result Entry'!BT20","v":0},{"$f":"'Result Entry'!BU20","v":0},{"$f":"'Result Entry'!BV20","v":""},{"$f":"'Result Entry'!BW20","v":0},{"$f":"'Result Entry'!BX20","v":0},{"$f":"'Result Entry'!BY20","v":0},{"$f":"'Result Entry'!BZ20","v":0},{"$f":"'Result Entry'!CA20","v":0},{"$f":"'Result Entry'!CB20","v":0},{"$f":"'Result Entry'!CC20","v":0},{"$f":"'Result Entry'!CD20","v":""},{"$f":"'Result Entry'!CE20","v":0},{"$f":"'Result Entry'!CF20","v":0},{"$f":"'Result Entry'!CG20","v":0},{"$f":"'Result Entry'!CH20","v":0},{"$f":"'Result Entry'!CI20","v":0},{"$f":"'Result Entry'!CJ20","v":0},{"$f":"'Result Entry'!CK20","v":0},{"$f":"'Result Entry'!CL20","v":""},{"$f":"'Result Entry'!CM20","v":0},{"$f":"'Result Entry'!CN20","v":0},{"$f":"'Result Entry'!CO20","v":0},{"$f":"'Result Entry'!CP20","v":0},{"$f":"'Result Entry'!CQ20","v":0},{"$f":"'Result Entry'!CR20","v":0},{"$f":"'Result Entry'!CS20","v":0},{"$f":"'Result Entry'!CT20","v":""},{"$f":"'Result Entry'!CU20","v":0},{"$f":"'Result Entry'!CV20","v":0},{"$f":"'Result Entry'!CW20","v":""},{"$f":"'Result Entry'!CX20","v":500},{"$f":"'Result Entry'!CY20","v":0},{"$f":"'Result Entry'!CZ20","v":{"v":0,"d":"0.00"}},{"$f":"'Result Entry'!DA20","v":""},{"$f":"'Result Entry'!DB20","v":""},{"$f":"'Result Entry'!DC20","v":""},{"$f":"'Result Entry'!DD20","v":""}]
[null,0,{"$f":"'Result Entry'!D21","v":0},{"$f":"'Result Entry'!E21","v":0},{"$f":"'Result Entry'!F21","v":0},{"$f":"'Result Entry'!G21","v":0},{"$f":"'Result Entry'!H21","v":0},{"$f":"'Result Entry'!I21","v":0},{"$f":"'Result Entry'!J21","v":"00:00:00"},{"$f":"'Result Entry'!K21","v":0},{"$f":"'Result Entry'!L21","v":0},{"$f":"'Result Entry'!M21","v":0},{"$f":"'Result Entry'!N21","v":0},{"$f":"'Result Entry'!O21","v":0},{"$f":"'Result Entry'!P21","v":0},{"$f":"'Result Entry'!Q21","v":0},{"$f":"'Result Entry'!R21","v":0},{"$f":"'Result Entry'!S21","v":0},{"$f":"'Result Entry'!T21","v":0},{"$f":"'Result Entry'!U21","v":0},{"$f":"'Result Entry'!V21","v":0},{"$f":"'Result Entry'!W21","v":0},{"$f":"'Result Entry'!X21","v":""},{"$f":"'Result Entry'!Y21","v":0},{"$f":"'Result Entry'!Z21","v":0},{"$f":"'Result Entry'!AA21","v":0},{"$f":"'Result Entry'!AB21","v":0},{"$f":"'Result Entry'!AC21","v":0},{"$f":"'Result Entry'!AD21","v":0},{"$f":"'Result Entry'!AE21","v":0},{"$f":"'Result Entry'!AF21","v":0},{"$f":"'Result Entry'!AG21","v":0},{"$f":"'Result Entry'!AH21","v":0},{"$f":"'Result Entry'!AI21","v":0},{"$f":"'Result Entry'!AJ21","v":0},{"$f":"'Result Entry'!AK21","v":0},{"$f":"'Result Entry'!AL21","v":""},{"$f":"'Result Entry'!AM21","v":0},{"$f":"'Result Entry'!AN21","v":0},{"$f":"'Result Entry'!AO21","v":0},{"$f":"'Result Entry'!AP21","v":0},{"$f":"'Result Entry'!AQ21","v":0},{"$f":"'Result Entry'!AR21","v":0},{"$f":"'Result Entry'!AS21","v":0},{"$f":"'Result Entry'!AT21","v":0},{"$f":"'Result Entry'!AU21","v":0},{"$f":"'Result Entry'!AV21","v":0},{"$f":"'Result Entry'!AW21","v":0},{"$f":"'Result Entry'!AX21","v":0},{"$f":"'Result Entry'!AY21","v":0},{"$f":"'Result Entry'!AZ21","v":""},{"$f":"'Result Entry'!BA21","v":0},{"$f":"'Result Entry'!BB21","v":0},{"$f":"'Result Entry'!BC21","v":0},{"$f":"'Result Entry'!BD21","v":0},{"$f":"'Result Entry'!BE21","v":0},{"$f":"'Result Entry'!BF21","v":0},{"$f":"'Result Entry'!BG21","v":0},{"$f":"'Result Entry'!BH21","v":0},{"$f":"'Result Entry'!BI21","v":0},{"$f":"'Result Entry'!BJ21","v":0},{"$f":"'Result Entry'!BK21","v":0},{"$f":"'Result Entry'!BL21","v":0},{"$f":"'Result Entry'!BM21","v":""},{"$f":"'Result Entry'!BN21","v":""},{"$f":"'Result Entry'!BO21","v":0},{"$f":"'Result Entry'!BP21","v":0},{"$f":"'Result Entry'!BQ21","v":0},{"$f":"'Result Entry'!BR21","v":0},{"$f":"'Result Entry'!BS21","v":0},{"$f":"'Result Entry'!BT21","v":0},{"$f":"'Result Entry'!BU21","v":0},{"$f":"'Result Entry'!BV21","v":""},{"$f":"'Result Entry'!BW21","v":0},{"$f":"'Result Entry'!BX21","v":0},{"$f":"'Result Entry'!BY21","v":0},{"$f":"'Result Entry'!BZ21","v":0},{"$f":"'Result Entry'!CA21","v":0},{"$f":"'Result Entry'!CB21","v":0},{"$f":"'Result Entry'!CC21","v":0},{"$f":"'Result Entry'!CD21","v":""},{"$f":"'Result Entry'!CE21","v":0},{"$f":"'Result Entry'!CF21","v":0},{"$f":"'Result Entry'!CG21","v":0},{"$f":"'Result Entry'!CH21","v":0},{"$f":"'Result Entry'!CI21","v":0},{"$f":"'Result Entry'!CJ21","v":0},{"$f":"'Result Entry'!CK21","v":0},{"$f":"'Result Entry'!CL21","v":""},{"$f":"'Result Entry'!CM21","v":0},{"$f":"'Result Entry'!CN21","v":0},{"$f":"'Result Entry'!CO21","v":0},{"$f":"'Result Entry'!CP21","v":0},{"$f":"'Result Entry'!CQ21","v":0},{"$f":"'Result Entry'!CR21","v":0},{"$f":"'Result Entry'!CS21","v":0},{"$f":"'Result Entry'!CT21","v":""},{"$f":"'Result Entry'!CU21","v":0},{"$f":"'Result Entry'!CV21","v":0},{"$f":"'Result Entry'!CW21","v":""},{"$f":"'Result Entry'!CX21","v":500},{"$f":"'Result Entry'!CY21","v":0},{"$f":"'Result Entry'!CZ21","v":{"v":0,"d":"0.00"}},{"$f":"'Result Entry'!DA21","v":""},{"$f":"'Result Entry'!DB21","v":""},{"$f":"'Result Entry'!DC21","v":""},{"$f":"'Result Entry'!DD21","v":""}]
[null,0,{"$f":"'Result Entry'!D22","v":0},{"$f":"'Result Entry'!E22","v":0},{"$f":"'Result Entry'!F22","v":0},{"$f":"'Result Entry'!G22","v":0},{"$f":"'Result Entry'!H22","v":0},{"$f":"'Result Entry'!I22","v":0},{"$f":"'Result Entry'!J22","v":"00:00:00"},{"$f":"'Result Entry'!K22","v":0},{"$f":"'Result Entry'!L22","v":0},{"$f":"'Result Entry'!M22","v":0},{"$f":"'Result Entry'!N22","v":0},{"$f":"'Result Entry'!O22","v":0},{"$f":"'Result Entry'!P22","v":0},{"$f":"'Result Entry'!Q22","v":0},{"$f":"'Result Entry'!R22","v":0},{"$f":"'Result Entry'!S22","v":0},{"$f":"'Result Entry'!T22","v":0},{"$f":"'Result Entry'!U22","v":0},{"$f":"'Result Entry'!V22","v":0},{"$f":"'Result Entry'!W22","v":0},{"$f":"'Result Entry'!X22","v":""},{"$f":"'Result Entry'!Y22","v":0},{"$f":"'Result Entry'!Z22","v":0},{"$f":"'Result Entry'!AA22","v":0},{"$f":"'Result Entry'!AB22","v":0},{"$f":"'Result Entry'!AC22","v":0},{"$f":"'Result Entry'!AD22","v":0},{"$f":"'Result Entry'!AE22","v":0},{"$f":"'Result Entry'!AF22","v":0},{"$f":"'Result Entry'!AG22","v":0},{"$f":"'Result Entry'!AH22","v":0},{"$f":"'Result Entry'!AI22","v":0},{"$f":"'Result Entry'!AJ22","v":0},{"$f":"'Result Entry'!AK22","v":0},{"$f":"'Result Entry'!AL22","v":""},{"$f":"'Result Entry'!AM22","v":0},{"$f":"'Result Entry'!AN22","v":0},{"$f":"'Result Entry'!AO22","v":0},{"$f":"'Result Entry'!AP22","v":0},{"$f":"'Result Entry'!AQ22","v":0},{"$f":"'Result Entry'!AR22","v":0},{"$f":"'Result Entry'!AS22","v":0},{"$f":"'Result Entry'!AT22","v":0},{"$f":"'Result Entry'!AU22","v":0},{"$f":"'Result Entry'!AV22","v":0},{"$f":"'Result Entry'!AW22","v":0},{"$f":"'Result Entry'!AX22","v":0},{"$f":"'Result Entry'!AY22","v":0},{"$f":"'Result Entry'!AZ22","v":""},{"$f":"'Result Entry'!BA22","v":0},{"$f":"'Result Entry'!BB22","v":0},{"$f":"'Result Entry'!BC22","v":0},{"$f":"'Result Entry'!BD22","v":0},{"$f":"'Result Entry'!BE22","v":0},{"$f":"'Result Entry'!BF22","v":0},{"$f":"'Result Entry'!BG22","v":0},{"$f":"'Result Entry'!BH22","v":0},{"$f":"'Result Entry'!BI22","v":0},{"$f":"'Result Entry'!BJ22","v":0},{"$f":"'Result Entry'!BK22","v":0},{"$f":"'Result Entry'!BL22","v":0},{"$f":"'Result Entry'!BM22","v":""},{"$f":"'Result Entry'!BN22","v":""},{"$f":"'Result Entry'!BO22","v":0},{"$f":"'Result Entry'!BP22","v":0},{"$f":"'Result Entry'!BQ22","v":0},{"$f":"'Result Entry'!BR22","v":0},{"$f":"'Result Entry'!BS22","v":0},{"$f":"'Result Entry'!BT22","v":0},{"$f":"'Result Entry'!BU22","v":0},{"$f":"'Result Entry'!BV22","v":""},{"$f":"'Result Entry'!BW22","v":0},{"$f":"'Result Entry'!BX22","v":0},{"$f":"'Result Entry'!BY22","v":0},{"$f":"'Result Entry'!BZ22","v":0},{"$f":"'Result Entry'!CA22","v":0},{"$f":"'Result Entry'!CB22","v":0},{"$f":"'Result Entry'!CC22","v":0},{"$f":"'Result Entry'!CD22","v":""},{"$f":"'Result Entry'!CE22","v":0},{"$f":"'Result Entry'!CF22","v":0},{"$f":"'Result Entry'!CG22","v":0},{"$f":"'Result Entry'!CH22","v":0},{"$f":"'Result Entry'!CI22","v":0},{"$f":"'Result Entry'!CJ22","v":0},{"$f":"'Result Entry'!CK22","v":0},{"$f":"'Result Entry'!CL22","v":""},{"$f":"'Result Entry'!CM22","v":0},{"$f":"'Result Entry'!CN22","v":0},{"$f":"'Result Entry'!CO22","v":0},{"$f":"'Result Entry'!CP22","v":0},{"$f":"'Result Entry'!CQ22","v":0},{"$f":"'Result Entry'!CR22","v":0},{"$f":"'Result Entry'!CS22","v":0},{"$f":"'Result Entry'!CT22","v":""},{"$f":"'Result Entry'!CU22","v":0},{"$f":"'Result Entry'!CV22","v":0},{"$f":"'Result Entry'!CW22","v":""},{"$f":"'Result Entry'!CX22","v":500},{"$f":"'Result Entry'!CY22","v":0},{"$f":"'Result Entry'!CZ22","v":{"v":0,"d":"0.00"}},{"$f":"'Result Entry'!DA22","v":""},{"$f":"'Result Entry'!DB22","v":""},{"$f":"'Result Entry'!DC22","v":""},{"$f":"'Result Entry'!DD22","v":""}]
[null,0,{"$f":"'Result Entry'!D23","v":0},{"$f":"'Result Entry'!E23","v":0},{"$f":"'Result Entry'!F23","v":0},{"$f":"'Result Entry'!G23","v":0},{"$f":"'Result Entry'!H23","v":0},{"$f":"'Result Entry'!I23","v":0},{"$f":"'Result Entry'!J23","v":"00:00:00"},{"$f":"'Result Entry'!K23","v":0},{"$f":"'Result Entry'!L23","v":0},{"$f":"'Result Entry'!M23","v":0},{"$f":"'Result Entry'!N23","v":0},{"$f":"'Result Entry'!O23","v":0},{"$f":"'Result Entry'!P23","v":0},{"$f":"'Result Entry'!Q23","v":0},{"$f":"'Result Entry'!R23","v":0},{"$f":"'Result Entry'!S23","v":0},{"$f":"'Result Entry'!T23","v":0},{"$f":"'Result Entry'!U23","v":0},{"$f":"'Result Entry'!V23","v":0},{"$f":"'Result Entry'!W23","v":0},{"$f":"'Result Entry'!X23","v":""},{"$f":"'Result Entry'!Y23","v":0},{"$f":"'Result Entry'!Z23","v":0},{"$f":"'Result Entry'!AA23","v":0},{"$f":"'Result Entry'!AB23","v":0},{"$f":"'Result Entry'!AC23","v":0},{"$f":"'Result Entry'!AD23","v":0},{"$f":"'Result Entry'!AE23","v":0},{"$f":"'Result Entry'!AF23","v":0},{"$f":"'Result Entry'!AG23","v":0},{"$f":"'Result Entry'!AH23","v":0},{"$f":"'Result Entry'!AI23","v":0},{"$f":"'Result Entry'!AJ23","v":0},{"$f":"'Result Entry'!AK23","v":0},{"$f":"'Result Entry'!AL23","v":""},{"$f":"'Result Entry'!AM23","v":0},{"$f":"'Result Entry'!AN23","v":0},{"$f":"'Result Entry'!AO23","v":0},{"$f":"'Result Entry'!AP23","v":0},{"$f":"'Result Entry'!AQ23","v":0},{"$f":"'Result Entry'!AR23","v":0},{"$f":"'Result Entry'!AS23","v":0},{"$f":"'Result Entry'!AT23","v":0},{"$f":"'Result Entry'!AU23","v":0},{"$f":"'Result Entry'!AV23","v":0},{"$f":"'Result Entry'!AW23","v":0},{"$f":"'Result Entry'!AX23","v":0},{"$f":"'Result Entry'!AY23","v":0},{"$f":"'Result Entry'!AZ23","v":""},{"$f":"'Result Entry'!BA23","v":0},{"$f":"'Result Entry'!BB23","v":0},{"$f":"'Result Entry'!BC23","v":0},{"$f":"'Result Entry'!BD23","v":0},{"$f":"'Result Entry'!BE23","v":0},{"$f":"'Result Entry'!BF23","v":0},{"$f":"'Result Entry'!BG23","v":0},{"$f":"'Result Entry'!BH23","v":0},{"$f":"'Result Entry'!BI23","v":0},{"$f":"'Result Entry'!BJ23","v":0},{"$f":"'Result Entry'!BK23","v":0},{"$f":"'Result Entry'!BL23","v":0},{"$f":"'Result Entry'!BM23","v":""},{"$f":"'Result Entry'!BN23","v":""},{"$f":"'Result Entry'!BO23","v":0},{"$f":"'Result Entry'!BP23","v":0},{"$f":"'Result Entry'!BQ23","v":0},{"$f":"'Result Entry'!BR23","v":0},{"$f":"'Result Entry'!BS23","v":0},{"$f":"'Result Entry'!BT23","v":0},{"$f":"'Result Entry'!BU23","v":0},{"$f":"'Result Entry'!BV23","v":""},{"$f":"'Result Entry'!BW23","v":0},{"$f":"'Result Entry'!BX23","v":0},{"$f":"'Result Entry'!BY23","v":0},{"$f":"'Result Entry'!BZ23","v":0},{"$f":"'Result Entry'!CA23","v":0},{"$f":"'Result Entry'!CB23","v":0},{"$f":"'Result Entry'!CC23","v":0},{"$f":"'Result Entry'!CD23","v":""},{"$f":"'Result Entry'!CE23","v":0},{"$f":"'Result Entry'!CF23","v":0},{"$f":"'Result Entry'!CG23","v":0},{"$f":"'Result Entry'!CH23","v":0},{"$f":"'Result Entry'!CI23","v":0},{"$f":"'Result Entry'!CJ23","v":0},{"$f":"'Result Entry'!CK23","v":0},{"$f":"'Result Entry'!CL23","v":""},{"$f":"'Result Entry'!CM23","v":0},{"$f":"'Result Entry'!CN23","v":0},{"$f":"'Result Entry'!CO23","v":0},{"$f":"'Result Entry'!CP23","v":0},{"$f":"'Result Entry'!CQ23","v":0},{"$f":"'Result Entry'!CR23","v":0},{"$f":"'Result Entry'!CS23","v":0},{"$f":"'Result Entry'!CT23","v":""},{"$f":"'Result Entry'!CU23","v":0},{"$f":"'Result Entry'!CV23","v":0},{"$f":"'Result Entry'!CW23","v":""},{"$f":"'Result Entry'!CX23","v":500},{"$f":"'Result Entry'!CY23","v":0},{"$f":"'Result Entry'!CZ23","v":{"v":0,"d":"0.00"}},{"$f":"'Result Entry'!DA23","v":""},{"$f":"'Result Entry'!DB23","v":""},{"$f":"'Result Entry'!DC23","v":""},{"$f":"'Result Entry'!DD23","v":""}]
[null,0,{"$f":"'Result Entry'!D24","v":0},{"$f":"'Result Entry'!E24","v":0},{"$f":"'Result Entry'!F24","v":0},{"$f":"'Result Entry'!G24","v":0},{"$f":"'Result Entry'!H24","v":0},{"$f":"'Result Entry'!I24","v":0},{"$f":"'Result Entry'!J24","v":"00:00:00"},{"$f":"'Result Entry'!K24","v":0},{"$f":"'Result Entry'!L24","v":0},{"$f":"'Result Entry'!M24","v":0},{"$f":"'Result Entry'!N24","v":0},{"$f":"'Result Entry'!O24","v":0},{"$f":"'Result Entry'!P24","v":0},{"$f":"'Result Entry'!Q24","v":0},{"$f":"'Result Entry'!R24","v":0},{"$f":"'Result Entry'!S24","v":0},{"$f":"'Result Entry'!T24","v":0},{"$f":"'Result Entry'!U24","v":0},{"$f":"'Result Entry'!V24","v":0},{"$f":"'Result Entry'!W24","v":0},{"$f":"'Result Entry'!X24","v":""},{"$f":"'Result Entry'!Y24","v":0},{"$f":"'Result Entry'!Z24","v":0},{"$f":"'Result Entry'!AA24","v":0},{"$f":"'Result Entry'!AB24","v":0},{"$f":"'Result Entry'!AC24","v":0},{"$f":"'Result Entry'!AD24","v":0},{"$f":"'Result Entry'!AE24","v":0},{"$f":"'Result Entry'!AF24","v":0},{"$f":"'Result Entry'!AG24","v":0},{"$f":"'Result Entry'!AH24","v":0},{"$f":"'Result Entry'!AI24","v":0},{"$f":"'Result Entry'!AJ24","v":0},{"$f":"'Result Entry'!AK24","v":0},{"$f":"'Result Entry'!AL24","v":""},{"$f":"'Result Entry'!AM24","v":0},{"$f":"'Result Entry'!AN24","v":0},{"$f":"'Result Entry'!AO24","v":0},{"$f":"'Result Entry'!AP24","v":0},{"$f":"'Result Entry'!AQ24","v":0},{"$f":"'Result Entry'!AR24","v":0},{"$f":"'Result Entry'!AS24","v":0},{"$f":"'Result Entry'!AT24","v":0},{"$f":"'Result Entry'!AU24","v":0},{"$f":"'Result Entry'!AV24","v":0},{"$f":"'Result Entry'!AW24","v":0},{"$f":"'Result Entry'!AX24","v":0},{"$f":"'Result Entry'!AY24","v":0},{"$f":"'Result Entry'!AZ24","v":""},{"$f":"'Result Entry'!BA24","v":0},{"$f":"'Result Entry'!BB24","v":0},{"$f":"'Result Entry'!BC24","v":0},{"$f":"'Result Entry'!BD24","v":0},{"$f":"'Result Entry'!BE24","v":0},{"$f":"'Result Entry'!BF24","v":0},{"$f":"'Result Entry'!BG24","v":0},{"$f":"'Result Entry'!BH24","v":0},{"$f":"'Result Entry'!BI24","v":0},{"$f":"'Result Entry'!BJ24","v":0},{"$f":"'Result Entry'!BK24","v":0},{"$f":"'Result Entry'!BL24","v":0},{"$f":"'Result Entry'!BM24","v":""},{"$f":"'Result Entry'!BN24","v":""},{"$f":"'Result Entry'!BO24","v":0},{"$f":"'Result Entry'!BP24","v":0},{"$f":"'Result Entry'!BQ24","v":0},{"$f":"'Result Entry'!BR24","v":0},{"$f":"'Result Entry'!BS24","v":0},{"$f":"'Result Entry'!BT24","v":0},{"$f":"'Result Entry'!BU24","v":0},{"$f":"'Result Entry'!BV24","v":""},{"$f":"'Result Entry'!BW24","v":0},{"$f":"'Result Entry'!BX24","v":0},{"$f":"'Result Entry'!BY24","v":0},{"$f":"'Result Entry'!BZ24","v":0},{"$f":"'Result Entry'!CA24","v":0},{"$f":"'Result Entry'!CB24","v":0},{"$f":"'Result Entry'!CC24","v":0},{"$f":"'Result Entry'!CD24","v":""},{"$f":"'Result Entry'!CE24","v":0},{"$f":"'Result Entry'!CF24","v":0},{"$f":"'Result Entry'!CG24","v":0},{"$f":"'Result Entry'!CH24","v":0},{"$f":"'Result Entry'!CI24","v":0},{"$f":"'Result Entry'!CJ24","v":0},{"$f":"'Result Entry'!CK24","v":0},{"$f":"'Result Entry'!CL24","v":""},{"$f":"'Result Entry'!CM24","v":0},{"$f":"'Result Entry'!CN24","v":0},{"$f":"'Result Entry'!CO24","v":0},{"$f":"'Result Entry'!CP24","v":0},{"$f":"'Result Entry'!CQ24","v":0},{"$f":"'Result Entry'!CR24","v":0},{"$f":"'Result Entry'!CS24","v":0},{"$f":"'Result Entry'!CT24","v":""},{"$f":"'Result Entry'!CU24","v":0},{"$f":"'Result Entry'!CV24","v":0},{"$f":"'Result Entry'!CW24","v":""},{"$f":"'Result Entry'!CX24","v":500},{"$f":"'Result Entry'!CY24","v":0},{"$f":"'Result Entry'!CZ24","v":{"v":0,"d":"0.00"}},{"$f":"'Result Entry'!DA24","v":""},{"$f":"'Result Entry'!DB24","v":""},{"$f":"'Result Entry'!DC24","v":""},{"$f":"'Result Entry'!DD24","v":""}]
[null,0,{"$f":"'Result Entry'!D25","v":0},{"$f":"'Result Entry'!E25","v":0},{"$f":"'Result Entry'!F25","v":0},{"$f":"'Result Entry'!G25","v":0},{"$f":"'Result Entry'!H25","v":0},{"$f":"'Result Entry'!I25","v":0},{"$f":"'Result Entry'!J25","v":"00:00:00"},{"$f":"'Result Entry'!K25","v":0},{"$f":"'Result Entry'!L25","v":0},{"$f":"'Result Entry'!M25","v":0},{"$f":"'Result Entry'!N25","v":0},{"$f":"'Result Entry'!O25","v":0},{"$f":"'Result Entry'!P25","v":0},{"$f":"'Result Entry'!Q25","v":0},{"$f":"'Result Entry'!R25","v":0},{"$f":"'Result Entry'!S25","v":0},{"$f":"'Result Entry'!T25","v":0},{"$f":"'Result Entry'!U25","v":0},{"$f":"'Result Entry'!V25","v":0},{"$f":"'Result Entry'!W25","v":0},{"$f":"'Result Entry'!X25","v":""},{"$f":"'Result Entry'!Y25","v":0},{"$f":"'Result Entry'!Z25","v":0},{"$f":"'Result Entry'!AA25","v":0},{"$f":"'Result Entry'!AB25","v":0},{"$f":"'Result Entry'!AC25","v":0},{"$f":"'Result Entry'!AD25","v":0},{"$f":"'Result Entry'!AE25","v":0},{"$f":"'Result Entry'!AF25","v":0},{"$f":"'Result Entry'!AG25","v":0},{"$f":"'Result Entry'!AH25","v":0},{"$f":"'Result Entry'!AI25","v":0},{"$f":"'Result Entry'!AJ25","v":0},{"$f":"'Result Entry'!AK25","v":0},{"$f":"'Result Entry'!AL25","v":""},{"$f":"'Result Entry'!AM25","v":0},{"$f":"'Result Entry'!AN25","v":0},{"$f":"'Result Entry'!AO25","v":0},{"$f":"'Result Entry'!AP25","v":0},{"$f":"'Result Entry'!AQ25","v":0},{"$f":"'Result Entry'!AR25","v":0},{"$f":"'Result Entry'!AS25","v":0},{"$f":"'Result Entry'!AT25","v":0},{"$f":"'Result Entry'!AU25","v":0},{"$f":"'Result Entry'!AV25","v":0},{"$f":"'Result Entry'!AW25","v":0},{"$f":"'Result Entry'!AX25","v":0},{"$f":"'Result Entry'!AY25","v":0},{"$f":"'Result Entry'!AZ25","v":""},{"$f":"'Result Entry'!BA25","v":0},{"$f":"'Result Entry'!BB25","v":0},{"$f":"'Result Entry'!BC25","v":0},{"$f":"'Result Entry'!BD25","v":0},{"$f":"'Result Entry'!BE25","v":0},{"$f":"'Result Entry'!BF25","v":0},{"$f":"'Result Entry'!BG25","v":0},{"$f":"'Result Entry'!BH25","v":0},{"$f":"'Result Entry'!BI25","v":0},{"$f":"'Result Entry'!BJ25","v":0},{"$f":"'Result Entry'!BK25","v":0},{"$f":"'Result Entry'!BL25","v":0},{"$f":"'Result Entry'!BM25","v":""},{"$f":"'Result Entry'!BN25","v":""},{"$f":"'Result Entry'!BO25","v":0},{"$f":"'Result Entry'!BP25","v":0},{"$f":"'Result Entry'!BQ25","v":0},{"$f":"'Result Entry'!BR25","v":0},{"$f":"'Result Entry'!BS25","v":0},{"$f":"'Result Entry'!BT25","v":0},{"$f":"'Result Entry'!BU25","v":0},{"$f":"'Result Entry'!BV25","v":""},{"$f":"'Result Entry'!BW25","v":0},{"$f":"'Result Entry'!BX25","v":0},{"$f":"'Result Entry'!BY25","v":0},{"$f":"'Result Entry'!BZ25","v":0},{"$f":"'Result Entry'!CA25","v":0},{"$f":"'Result Entry'!CB25","v":0},{"$f":"'Result Entry'!CC25","v":0},{"$f":"'Result Entry'!CD25","v":""},{"$f":"'Result Entry'!CE25","v":0},{"$f":"'Result Entry'!CF25","v":0},{"$f":"'Result Entry'!CG25","v":0},{"$f":"'Result Entry'!CH25","v":0},{"$f":"'Result Entry'!CI25","v":0},{"$f":"'Result Entry'!CJ25","v":0},{"$f":"'Result Entry'!CK25","v":0},{"$f":"'Result Entry'!CL25","v":""},{"$f":"'Result Entry'!CM25","v":0},{"$f":"'Result Entry'!CN25","v":0},{"$f":"'Result Entry'!CO25","v":0},{"$f":"'Result Entry'!CP25","v":0},{"$f":"'Result Entry'!CQ25","v":0},{"$f":"'Result Entry'!CR25","v":0},{"$f":"'Result Entry'!CS25","v":0},{"$f":"'Result Entry'!CT25","v":""},{"$f":"'Result Entry'!CU25","v":0},{"$f":"'Result Entry'!CV25","v":0},{"$f":"'Result Entry'!CW25","v":""},{"$f":"'Result Entry'!CX25","v":500},{"$f":"'Result Entry'!CY25","v":0},{"$f":"'Result Entry'!CZ25","v":{"v":0,"d":"0.00"}},{"$f":"'Result Entry'!DA25","v":""},{"$f":"'Result Entry'!DB25","v":""},{"$f":"'Result Entry'!DC25","v":""},{"$f":"'Result Entry'!DD25","v":""}]
[null,0,{"$f":"'Result Entry'!D26","v":0},{"$f":"'Result Entry'!E26","v":0},{"$f":"'Result Entry'!F26","v":0},{"$f":"'Result Entry'!G26","v":0},{"$f":"'Result Entry'!H26","v":0},{"$f":"'Result Entry'!I26","v":0},{"$f":"'Result Entry'!J26","v":"00:00:00"},{"$f":"'Result Entry'!K26","v":0},{"$f":"'Result Entry'!L26","v":0},{"$f":"'Result Entry'!M26","v":0},{"$f":"'Result Entry'!N26","v":0},{"$f":"'Result Entry'!O26","v":0},{"$f":"'Result Entry'!P26","v":0},{"$f":"'Result Entry'!Q26","v":0},{"$f":"'Result Entry'!R26","v":0},{"$f":"'Result Entry'!S26","v":0},{"$f":"'Result Entry'!T26","v":0},{"$f":"'Result Entry'!U26","v":0},{"$f":"'Result Entry'!V26","v":0},{"$f":"'Result Entry'!W26","v":0},{"$f":"'Result Entry'!X26","v":""},{"$f":"'Result Entry'!Y26","v":0},{"$f":"'Result Entry'!Z26","v":0},{"$f":"'Result Entry'!AA26","v":0},{"$f":"'Result Entry'!AB26","v":0},{"$f":"'Result Entry'!AC26","v":0},{"$f":"'Result Entry'!AD26","v":0},{"$f":"'Result Entry'!AE26","v":0},{"$f":"'Result Entry'!AF26","v":0},{"$f":"'Result Entry'!AG26","v":0},{"$f":"'Result Entry'!AH26","v":0},{"$f":"'Result Entry'!AI26","v":0},{"$f":"'Result Entry'!AJ26","v":0},{"$f":"'Result Entry'!AK26","v":0},{"$f":"'Result Entry'!AL26","v":""},{"$f":"'Result Entry'!AM26","v":0},{"$f":"'Result Entry'!AN26","v":0},{"$f":"'Result Entry'!AO26","v":0},{"$f":"'Result Entry'!AP26","v":0},{"$f":"'Result Entry'!AQ26","v":0},{"$f":"'Result Entry'!AR26","v":0},{"$f":"'Result Entry'!AS26","v":0},{"$f":"'Result Entry'!AT26","v":0},{"$f":"'Result Entry'!AU26","v":0},{"$f":"'Result Entry'!AV26","v":0},{"$f":"'Result Entry'!AW26","v":0},{"$f":"'Result Entry'!AX26","v":0},{"$f":"'Result Entry'!AY26","v":0},{"$f":"'Result Entry'!AZ26","v":""},{"$f":"'Result Entry'!BA26","v":0},{"$f":"'Result Entry'!BB26","v":0},{"$f":"'Result Entry'!BC26","v":0},{"$f":"'Result Entry'!BD26","v":0},{"$f":"'Result Entry'!BE26","v":0},{"$f":"'Result Entry'!BF26","v":0},{"$f":"'Result Entry'!BG26","v":0},{"$f":"'Result Entry'!BH26","v":0},{"$f":"'Result Entry'!BI26","v":0},{"$f":"'Result Entry'!BJ26","v":0},{"$f":"'Result Entry'!BK26","v":0},{"$f":"'Result Entry'!BL26","v":0},{"$f":"'Result Entry'!BM26","v":""},{"$f":"'Result Entry'!BN26","v":""},{"$f":"'Result Entry'!BO26","v":0},{"$f":"'Result Entry'!BP26","v":0},{"$f":"'Result Entry'!BQ26","v":0},{"$f":"'Result Entry'!BR26","v":0},{"$f":"'Result Entry'!BS26","v":0},{"$f":"'Result Entry'!BT26","v":0},{"$f":"'Result Entry'!BU26","v":0},{"$f":"'Result Entry'!BV26","v":""},{"$f":"'Result Entry'!BW26","v":0},{"$f":"'Result Entry'!BX26","v":0},{"$f":"'Result Entry'!BY26","v":0},{"$f":"'Result Entry'!BZ26","v":0},{"$f":"'Result Entry'!CA26","v":0},{"$f":"'Result Entry'!CB26","v":0},{"$f":"'Result Entry'!CC26","v":0},{"$f":"'Result Entry'!CD26","v":""},{"$f":"'Result Entry'!CE26","v":0},{"$f":"'Result Entry'!CF26","v":0},{"$f":"'Result Entry'!CG26","v":0},{"$f":"'Result Entry'!CH26","v":0},{"$f":"'Result Entry'!CI26","v":0},{"$f":"'Result Entry'!CJ26","v":0},{"$f":"'Result Entry'!CK26","v":0},{"$f":"'Result Entry'!CL26","v":""},{"$f":"'Result Entry'!CM26","v":0},{"$f":"'Result Entry'!CN26","v":0},{"$f":"'Result Entry'!CO26","v":0},{"$f":"'Result Entry'!CP26","v":0},{"$f":"'Result Entry'!CQ26","v":0},{"$f":"'Result Entry'!CR26","v":0},{"$f":"'Result Entry'!CS26","v":0},{"$f":"'Result Entry'!CT26","v":""},{"$f":"'Result Entry'!CU26","v":0},{"$f":"'Result Entry'!CV26","v":0},{"$f":"'Result Entry'!CW26","v":""},{"$f":"'Result Entry'!CX26","v":500},{"$f":"'Result Entry'!CY26","v":0},{"$f":"'Result Entry'!CZ26","v":{"v":0,"d":"0.00"}},{"$f":"'Result Entry'!DA26","v":""},{"$f":"'Result Entry'!DB26","v":""},{"$f":"'Result Entry'!DC26","v":""},{"$f":"'Result Entry'!DD26","v":""}]
[null,0,{"$f":"'Result Entry'!D27","v":0},{"$f":"'Result Entry'!E27","v":0},{"$f":"'Result Entry'!F27","v":0},{"$f":"'Result Entry'!G27","v":0},{"$f":"'Result Entry'!H27","v":0},{"$f":"'Result Entry'!I27","v":0},{"$f":"'Result Entry'!J27","v":"00:00:00"},{"$f":"'Result Entry'!K27","v":0},{"$f":"'Result Entry'!L27","v":0},{"$f":"'Result Entry'!M27","v":0},{"$f":"'Result Entry'!N27","v":0},{"$f":"'Result Entry'!O27","v":0},{"$f":"'Result Entry'!P27","v":0},{"$f":"'Result Entry'!Q27","v":0},{"$f":"'Result Entry'!R27","v":0},{"$f":"'Result Entry'!S27","v":0},{"$f":"'Result Entry'!T27","v":0},{"$f":"'Result Entry'!U27","v":0},{"$f":"'Result Entry'!V27","v":0},{"$f":"'Result Entry'!W27","v":0},{"$f":"'Result Entry'!X27","v":""},{"$f":"'Result Entry'!Y27","v":0},{"$f":"'Result Entry'!Z27","v":0},{"$f":"'Result Entry'!AA27","v":0},{"$f":"'Result Entry'!AB27","v":0},{"$f":"'Result Entry'!AC27","v":0},{"$f":"'Result Entry'!AD27","v":0},{"$f":"'Result Entry'!AE27","v":0},{"$f":"'Result Entry'!AF27","v":0},{"$f":"'Result Entry'!AG27","v":0},{"$f":"'Result Entry'!AH27","v":0},{"$f":"'Result Entry'!AI27","v":0},{"$f":"'Result Entry'!AJ27","v":0},{"$f":"'Result Entry'!AK27","v":0},{"$f":"'Result Entry'!AL27","v":""},{"$f":"'Result Entry'!AM27","v":0},{"$f":"'Result Entry'!AN27","v":0},{"$f":"'Result Entry'!AO27","v":0},{"$f":"'Result Entry'!AP27","v":0},{"$f":"'Result Entry'!AQ27","v":0},{"$f":"'Result Entry'!AR27","v":0},{"$f":"'Result Entry'!AS27","v":0},{"$f":"'Result Entry'!AT27","v":0},{"$f":"'Result Entry'!AU27","v":0},{"$f":"'Result Entry'!AV27","v":0},{"$f":"'Result Entry'!AW27","v":0},{"$f":"'Result Entry'!AX27","v":0},{"$f":"'Result Entry'!AY27","v":0},{"$f":"'Result Entry'!AZ27","v":""},{"$f":"'Result Entry'!BA27","v":0},{"$f":"'Result Entry'!BB27","v":0},{"$f":"'Result Entry'!BC27","v":0},{"$f":"'Result Entry'!BD27","v":0},{"$f":"'Result Entry'!BE27","v":0},{"$f":"'Result Entry'!BF27","v":0},{"$f":"'Result Entry'!BG27","v":0},{"$f":"'Result Entry'!BH27","v":0},{"$f":"'Result Entry'!BI27","v":0},{"$f":"'Result Entry'!BJ27","v":0},{"$f":"'Result Entry'!BK27","v":0},{"$f":"'Result Entry'!BL27","v":0},{"$f":"'Result Entry'!BM27","v":""},{"$f":"'Result Entry'!BN27","v":""},{"$f":"'Result Entry'!BO27","v":0},{"$f":"'Result Entry'!BP27","v":0},{"$f":"'Result Entry'!BQ27","v":0},{"$f":"'Result Entry'!BR27","v":0},{"$f":"'Result Entry'!BS27","v":0},{"$f":"'Result Entry'!BT27","v":0},{"$f":"'Result Entry'!BU27","v":0},{"$f":"'Result Entry'!BV27","v":""},{"$f":"'Result Entry'!BW27","v":0},{"$f":"'Result Entry'!BX27","v":0},{"$f":"'Result Entry'!BY27","v":0},{"$f":"'Result Entry'!BZ27","v":0},{"$f":"'Result Entry'!CA27","v":0},{"$f":"'Result Entry'!CB27","v":0},{"$f":"'Result Entry'!CC27","v":0},{"$f":"'Result Entry'!CD27","v":""},{"$f":"'Result Entry'!CE27","v":0},{"$f":"'Result Entry'!CF27","v":0},{"$f":"'Result Entry'!CG27","v":0},{"$f":"'Result Entry'!CH27","v":0},{"$f":"'Result Entry'!CI27","v":0},{"$f":"'Result Entry'!CJ27","v":0},{"$f":"'Result Entry'!CK27","v":0},{"$f":"'Result Entry'!CL27","v":""},{"$f":"'Result Entry'!CM27","v":0},{"$f":"'Result Entry'!CN27","v":0},{"$f":"'Result Entry'!CO27","v":0},{"$f":"'Result Entry'!CP27","v":0},{"$f":"'Result Entry'!CQ27","v":0},{"$f":"'Result Entry'!CR27","v":0},{"$f":"'Result Entry'!CS27","v":0},{"$f":"'Result Entry'!CT27","v":""},{"$f":"'Result Entry'!CU27","v":0},{"$f":"'Result Entry'!CV27","v":0},{"$f":"'Result Entry'!CW27","v":""},{"$f":"'Result Entry'!CX27","v":500},{"$f":"'Result Entry'!CY27","v":0},{"$f":"'Result Entry'!CZ27","v":{"v":0,"d":"0.00"}},{"$f":"'Result Entry'!DA27","v":""},{"$f":"'Result Entry'!DB27","v":""},{"$f":"'Result Entry'!DC27","v":""},{"$f":"'Result Entry'!DD27","v":""}]
[null,0,{"$f":"'Result Entry'!D28","v":0},{"$f":"'Result Entry'!E28","v":0},{"$f":"'Result Entry'!F28","v":0},{"$f":"'Result Entry'!G28","v":0},{"$f":"'Result Entry'!H28","v":0},{"$f":"'Result Entry'!I28","v":0},{"$f":"'Result Entry'!J28","v":"00:00:00"},{"$f":"'Result Entry'!K28","v":0},{"$f":"'Result Entry'!L28","v":0},{"$f":"'Result Entry'!M28","v":0},{"$f":"'Result Entry'!N28","v":0},{"$f":"'Result Entry'!O28","v":0},{"$f":"'Result Entry'!P28","v":0},{"$f":"'Result Entry'!Q28","v":0},{"$f":"'Result Entry'!R28","v":0},{"$f":"'Result Entry'!S28","v":0},{"$f":"'Result Entry'!T28","v":0},{"$f":"'Result Entry'!U28","v":0},{"$f":"'Result Entry'!V28","v":0},{"$f":"'Result Entry'!W28","v":0},{"$f":"'Result Entry'!X28","v":""},{"$f":"'Result Entry'!Y28","v":0},{"$f":"'Result Entry'!Z28","v":0},{"$f":"'Result Entry'!AA28","v":0},{"$f":"'Result Entry'!AB28","v":0},{"$f":"'Result Entry'!AC28","v":0},{"$f":"'Result Entry'!AD28","v":0},{"$f":"'Result Entry'!AE28","v":0},{"$f":"'Result Entry'!AF28","v":0},{"$f":"'Result Entry'!AG28","v":0},{"$f":"'Result Entry'!AH28","v":0},{"$f":"'Result Entry'!AI28","v":0},{"$f":"'Result Entry'!AJ28","v":0},{"$f":"'Result Entry'!AK28","v":0},{"$f":"'Result Entry'!AL28","v":""},{"$f":"'Result Entry'!AM28","v":0},{"$f":"'Result Entry'!AN28","v":0},{"$f":"'Result Entry'!AO28","v":0},{"$f":"'Result Entry'!AP28","v":0},{"$f":"'Result Entry'!AQ28","v":0},{"$f":"'Result Entry'!AR28","v":0},{"$f":"'Result Entry'!AS28","v":0},{"$f":"'Result Entry'!AT28","v":0},{"$f":"'Result Entry'!AU28","v":0},{"$f":"'Result Entry'!AV28","v":0},{"$f":"'Result Entry'!AW28","v":0},{"$f":"'Result Entry'!AX28","v":0},{"$f":"'Result Entry'!AY28","v":0},{"$f":"'Result Entry'!AZ28","v":""},{"$f":"'Result Entry'!BA28","v":0},{"$f":"'Result Entry'!BB28","v":0},{"$f":"'Result Entry'!BC28","v":0},{"$f":"'Result Entry'!BD28","v":0},{"$f":"'Result Entry'!BE28","v":0},{"$f":"'Result Entry'!BF28","v":0},{"$f":"'Result Entry'!BG28","v":0},{"$f":"'Result Entry'!BH28","v":0},{"$f":"'Result Entry'!BI28","v":0},{"$f":"'Result Entry'!BJ28","v":0},{"$f":"'Result Entry'!BK28","v":0},{"$f":"'Result Entry'!BL28","v":0},{"$f":"'Result Entry'!BM28","v":""},{"$f":"'Result Entry'!BN28","v":""},{"$f":"'Result Entry'!BO28","v":0},{"$f":"'Result Entry'!BP28","v":0},{"$f":"'Result Entry'!BQ28","v":0},{"$f":"'Result Entry'!BR28","v":0},{"$f":"'Result Entry'!BS28","v":0},{"$f":"'Result Entry'!BT28","v":0},{"$f":"'Result Entry'!BU28","v":0},{"$f":"'Result Entry'!BV28","v":""},{"$f":"'Result Entry'!BW28","v":0},{"$f":"'Result Entry'!BX28","v":0},{"$f":"'Result Entry'!BY28","v":0},{"$f":"'Result Entry'!BZ28","v":0},{"$f":"'Result Entry'!CA28","v":0},{"$f":"'Result Entry'!CB28","v":0},{"$f":"'Result Entry'!CC28","v":0},{"$f":"'Result Entry'!CD28","v":""},{"$f":"'Result Entry'!CE28","v":0},{"$f":"'Result Entry'!CF28","v":0},{"$f":"'Result Entry'!CG28","v":0},{"$f":"'Result Entry'!CH28","v":0},{"$f":"'Result Entry'!CI28","v":0},{"$f":"'Result Entry'!CJ28","v":0},{"$f":"'Result Entry'!CK28","v":0},{"$f":"'Result Entry'!CL28","v":""},{"$f":"'Result Entry'!CM28","v":0},{"$f":"'Result Entry'!CN28","v":0},{"$f":"'Result Entry'!CO28","v":0},{"$f":"'Result Entry'!CP28","v":0},{"$f":"'Result Entry'!CQ28","v":0},{"$f":"'Result Entry'!CR28","v":0},{"$f":"'Result Entry'!CS28","v":0},{"$f":"'Result Entry'!CT28","v":""},{"$f":"'Result Entry'!CU28","v":0},{"$f":"'Result Entry'!CV28","v":0},{"$f":"'Result Entry'!CW28","v":""},{"$f":"'Result Entry'!CX28","v":500},{"$f":"'Result Entry'!CY28","v":0},{"$f":"'Result Entry'!CZ28","v":{"v":0,"d":"0.00"}},{"$f":"'Result Entry'!DA28","v":""},{"$f":"'Result Entry'!DB28","v":""},{"$f":"'Result Entry'!DC28","v":""},{"$f":"'Result Entry'!DD28","v":""}]
[null,0,{"$f":"'Result Entry'!D29","v":0},{"$f":"'Result Entry'!E29","v":0},{"$f":"'Result Entry'!F29","v":0},{"$f":"'Result Entry'!G29","v":0},{"$f":"'Result Entry'!H29","v":0},{"$f":"'Result Entry'!I29","v":0},{"$f":"'Result Entry'!J29","v":"00:00:00"},{"$f":"'Result Entry'!K29","v":0},{"$f":"'Result Entry'!L29","v":0},{"$f":"'Result Entry'!M29","v":0},{"$f":"'Result Entry'!N29","v":0},{"$f":"'Result Entry'!O29","v":0},{"$f":"'Result Entry'!P29","v":0},{"$f":"'Result Entry'!Q29","v":0},{"$f":"'Result Entry'!R29","v":0},{"$f":"'Result Entry'!S29","v":0},{"$f":"'Result Entry'!T29","v":0},{"$f":"'Result Entry'!U29","v":0},{"$f":"'Result Entry'!V29","v":0},{"$f":"'Result Entry'!W29","v":0},{"$f":"'Result Entry'!X29","v":""},{"$f":"'Result Entry'!Y29","v":0},{"$f":"'Result Entry'!Z29","v":0},{"$f":"'Result Entry'!AA29","v":0},{"$f":"'Result Entry'!AB29","v":0},{"$f":"'Result Entry'!AC29","v":0},{"$f":"'Result Entry'!AD29","v":0},{"$f":"'Result Entry'!AE29","v":0},{"$f":"'Result Entry'!AF29","v":0},{"$f":"'Result Entry'!AG29","v":0},{"$f":"'Result Entry'!AH29","v":0},{"$f":"'Result Entry'!AI29","v":0},{"$f":"'Result Entry'!AJ29","v":0},{"$f":"'Result Entry'!AK29","v":0},{"$f":"'Result Entry'!AL29","v":""},{"$f":"'Result Entry'!AM29","v":0},{"$f":"'Result Entry'!AN29","v":0},{"$f":"'Result Entry'!AO29","v":0},{"$f":"'Result Entry'!AP29","v":0},{"$f":"'Result Entry'!AQ29","v":0},{"$f":"'Result Entry'!AR29","v":0},{"$f":"'Result Entry'!AS29","v":0},{"$f":"'Result Entry'!AT29","v":0},{"$f":"'Result Entry'!AU29","v":0},{"$f":"'Result Entry'!AV29","v":0},{"$f":"'Result Entry'!AW29","v":0},{"$f":"'Result Entry'!AX29","v":0},{"$f":"'Result Entry'!AY29","v":0},{"$f":"'Result Entry'!AZ29","v":""},{"$f":"'Result Entry'!BA29","v":0},{"$f":"'Result Entry'!BB29","v":0},{"$f":"'Result Entry'!BC29","v":0},{"$f":"'Result Entry'!BD29","v":0},{"$f":"'Result Entry'!BE29","v":0},{"$f":"'Result Entry'!BF29","v":0},{"$f":"'Result Entry'!BG29","v":0},{"$f":"'Result Entry'!BH29","v":0},{"$f":"'Result Entry'!BI29","v":0},{"$f":"'Result Entry'!BJ29","v":0},{"$f":"'Result Entry'!BK29","v":0},{"$f":"'Result Entry'!BL29","v":0},{"$f":"'Result Entry'!BM29","v":""},{"$f":"'Result Entry'!BN29","v":""},{"$f":"'Result Entry'!BO29","v":0},{"$f":"'Result Entry'!BP29","v":0},{"$f":"'Result Entry'!BQ29","v":0},{"$f":"'Result Entry'!BR29","v":0},{"$f":"'Result Entry'!BS29","v":0},{"$f":"'Result Entry'!BT29","v":0},{"$f":"'Result Entry'!BU29","v":0},{"$f":"'Result Entry'!BV29","v":""},{"$f":"'Result Entry'!BW29","v":0},{"$f":"'Result Entry'!BX29","v":0},{"$f":"'Result Entry'!BY29","v":0},{"$f":"'Result Entry'!BZ29","v":0},{"$f":"'Result Entry'!CA29","v":0},{"$f":"'Result Entry'!CB29","v":0},{"$f":"'Result Entry'!CC29","v":0},{"$f":"'Result Entry'!CD29","v":""},{"$f":"'Result Entry'!CE29","v":0},{"$f":"'Result Entry'!CF29","v":0},{"$f":"'Result Entry'!CG29","v":0},{"$f":"'Result Entry'!CH29","v":0},{"$f":"'Result Entry'!CI29","v":0},{"$f":"'Result Entry'!CJ29","v":0},{"$f":"'Result Entry'!CK29","v":0},{"$f":"'Result Entry'!CL29","v":""},{"$f":"'Result Entry'!CM29","v":0},{"$f":"'Result Entry'!CN29","v":0},{"$f":"'Result Entry'!CO29","v":0},{"$f":"'Result Entry'!CP29","v":0},{"$f":"'Result Entry'!CQ29","v":0},{"$f":"'Result Entry'!CR29","v":0},{"$f":"'Result Entry'!CS29","v":0},{"$f":"'Result Entry'!CT29","v":""},{"$f":"'Result Entry'!CU29","v":0},{"$f":"'Result Entry'!CV29","v":0},{"$f":"'Result Entry'!CW29","v":""},{"$f":"'Result Entry'!CX29","v":500},{"$f":"'Result Entry'!CY29","v":0},{"$f":"'Result Entry'!CZ29","v":{"v":0,"d":"0.00"}},{"$f":"'Result Entry'!DA29","v":""},{"$f":"'Result Entry'!DB29","v":""},{"$f":"'Result Entry'!DC29","v":""},{"$f":"'Result Entry'!DD29","v":""}]
[null,0,{"$f":"'Result Entry'!D30","v":0},{"$f":"'Result Entry'!E30","v":0},{"$f":"'Result Entry'!F30","v":0},{"$f":"'Result Entry'!G30","v":0},{"$f":"'Result Entry'!H30","v":0},{"$f":"'Result Entry'!I30","v":0},{"$f":"'Result Entry'!J30","v":"00:00:00"},{"$f":"'Result Entry'!K30","v":0},{"$f":"'Result Entry'!L30","v":0},{"$f":"'Result Entry'!M30","v":0},{"$f":"'Result Entry'!N30","v":0},{"$f":"'Result Entry'!O30","v":0},{"$f":"'Result Entry'!P30","v":0},{"$f":"'Result Entry'!Q30","v":0},{"$f":"'Result Entry'!R30","v":0},{"$f":"'Result Entry'!S30","v":0},{"$f":"'Result Entry'!T30","v":0},{"$f":"'Result Entry'!U30","v":0},{"$f":"'Result Entry'!V30","v":0},{"$f":"'Result Entry'!W30","v":0},{"$f":"'Result Entry'!X30","v":""},{"$f":"'Result Entry'!Y30","v":0},{"$f":"'Result Entry'!Z30","v":0},{"$f":"'Result Entry'!AA30","v":0},{"$f":"'Result Entry'!AB30","v":0},{"$f":"'Result Entry'!AC30","v":0},{"$f":"'Result Entry'!AD30","v":0},{"$f":"'Result Entry'!AE30","v":0},{"$f":"'Result Entry'!AF30","v":0},{"$f":"'Result Entry'!AG30","v":0},{"$f":"'Result Entry'!AH30","v":0},{"$f":"'Result Entry'!AI30","v":0},{"$f":"'Result Entry'!AJ30","v":0},{"$f":"'Result Entry'!AK30","v":0},{"$f":"'Result Entry'!AL30","v":""},{"$f":"'Result Entry'!AM30","v":0},{"$f":"'Result Entry'!AN30","v":0},{"$f":"'Result Entry'!AO30","v":0},{"$f":"'Result Entry'!AP30","v":0},{"$f":"'Result Entry'!AQ30","v":0},{"$f":"'Result Entry'!AR30","v":0},{"$f":"'Result Entry'!AS30","v":0},{"$f":"'Result Entry'!AT30","v":0},{"$f":"'Result Entry'!AU30","v":0},{"$f":"'Result Entry'!AV30","v":0},{"$f":"'Result Entry'!AW30","v":0},{"$f":"'Result Entry'!AX30","v":0},{"$f":"'Result Entry'!AY30","v":0},{"$f":"'Result Entry'!AZ30","v":""},{"$f":"'Result Entry'!BA30","v":0},{"$f":"'Result Entry'!BB30","v":0},{"$f":"'Result Entry'!BC30","v":0},{"$f":"'Result Entry'!BD30","v":0},{"$f":"'Result Entry'!BE30","v":0},{"$f":"'Result Entry'!BF30","v":0},{"$f":"'Result Entry'!BG30","v":0},{"$f":"'Result Entry'!BH30","v":0},{"$f":"'Result Entry'!BI30","v":0},{"$f":"'Result Entry'!BJ30","v":0},{"$f":"'Result Entry'!BK30","v":0},{"$f":"'Result Entry'!BL30","v":0},{"$f":"'Result Entry'!BM30","v":""},{"$f":"'Result Entry'!BN30","v":""},{"$f":"'Result Entry'!BO30","v":0},{"$f":"'Result Entry'!BP30","v":0},{"$f":"'Result Entry'!BQ30","v":0},{"$f":"'Result Entry'!BR30","v":0},{"$f":"'Result Entry'!BS30","v":0},{"$f":"'Result Entry'!BT30","v":0},{"$f":"'Result Entry'!BU30","v":0},{"$f":"'Result Entry'!BV30","v":""},{"$f":"'Result Entry'!BW30","v":0},{"$f":"'Result Entry'!BX30","v":0},{"$f":"'Result Entry'!BY30","v":0},{"$f":"'Result Entry'!BZ30","v":0},{"$f":"'Result Entry'!CA30","v":0},{"$f":"'Result Entry'!CB30","v":0},{"$f":"'Result Entry'!CC30","v":0},{"$f":"'Result Entry'!CD30","v":""},{"$f":"'Result Entry'!CE30","v":0},{"$f":"'Result Entry'!CF30","v":0},{"$f":"'Result Entry'!CG30","v":0},{"$f":"'Result Entry'!CH30","v":0},{"$f":"'Result Entry'!CI30","v":0},{"$f":"'Result Entry'!CJ30","v":0},{"$f":"'Result Entry'!CK30","v":0},{"$f":"'Result Entry'!CL30","v":""},{"$f":"'Result Entry'!CM30","v":0},{"$f":"'Result Entry'!CN30","v":0},{"$f":"'Result Entry'!CO30","v":0},{"$f":"'Result Entry'!CP30","v":0},{"$f":"'Result Entry'!CQ30","v":0},{"$f":"'Result Entry'!CR30","v":0},{"$f":"'Result Entry'!CS30","v":0},{"$f":"'Result Entry'!CT30","v":""},{"$f":"'Result Entry'!CU30","v":0},{"$f":"'Result Entry'!CV30","v":0},{"$f":"'Result Entry'!CW30","v":""},{"$f":"'Result Entry'!CX30","v":500},{"$f":"'Result Entry'!CY30","v":0},{"$f":"'Result Entry'!CZ30","v":{"v":0,"d":"0.00"}},{"$f":"'Result Entry'!DA30","v":""},{"$f":"'Result Entry'!DB30","v":""},{"$f":"'Result Entry'!DC30","v":""},{"$f":"'Result Entry'!DD30","v":""}]
[null,0,{"$f":"'Result Entry'!D31","v":0},{"$f":"'Result Entry'!E31","v":0},{"$f":"'Result Entry'!F31","v":0},{"$f":"'Result Entry'!G31","v":0},{"$f":"'Result Entry'!H31","v":0},{"$f":"'Result Entry'!I31","v":0},{"$f":"'Result Entry'!J31","v":"00:00:00"},{"$f":"'Result Entry'!K31","v":0},{"$f":"'Result Entry'!L31","v":0},{"$f":"'Result Entry'!M31","v":0},{"$f":"'Result Entry'!N31","v":0},{"$f":"'Result Entry'!O31","v":0},{"$f":"'Result Entry'!P31","v":0},{"$f":"'Result Entry'!Q31","v":0},{"$f":"'Result Entry'!R31","v":0},{"$f":"'Result Entry'!S31","v":0},{"$f":"'Result Entry'!T31","v":0},{"$f":"'Result Entry'!U31","v":0},{"$f":"'Result Entry'!V31","v":0},{"$f":"'Result Entry'!W31","v":0},{"$f":"'Result Entry'!X31","v":""},{"$f":"'Result Entry'!Y31","v":0},{"$f":"'Result Entry'!Z31","v":0},{"$f":"'Result Entry'!AA31","v":0},{"$f":"'Result Entry'!AB31","v":0},{"$f":"'Result Entry'!AC31","v":0},{"$f":"'Result Entry'!AD31","v":0},{"$f":"'Result Entry'!AE31","v":0},{"$f":"'Result Entry'!AF31","v":0},{"$f":"'Result Entry'!AG31","v":0},{"$f":"'Result Entry'!AH31","v":0},{"$f":"'Result Entry'!AI31","v":0},{"$f":"'Result Entry'!AJ31","v":0},{"$f":"'Result Entry'!AK31","v":0},{"$f":"'Result Entry'!AL31","v":""},{"$f":"'Result Entry'!AM31","v":0},{"$f":"'Result Entry'!AN31","v":0},{"$f":"'Result Entry'!AO31","v":0},{"$f":"'Result Entry'!AP31","v":0},{"$f":"'Result Entry'!AQ31","v":0},{"$f":"'Result Entry'!AR31","v":0},{"$f":"'Result Entry'!AS31","v":0},{"$f":"'Result Entry'!AT31","v":0},{"$f":"'Result Entry'!AU31","v":0},{"$f":"'Result Entry'!AV31","v":0},{"$f":"'Result Entry'!AW31","v":0},{"$f":"'Result Entry'!AX31","v":0},{"$f":"'Result Entry'!AY31","v":0},{"$f":"'Result Entry'!AZ31","v":""},{"$f":"'Result Entry'!BA31","v":0},{"$f":"'Result Entry'!BB31","v":0},{"$f":"'Result Entry'!BC31","v":0},{"$f":"'Result Entry'!BD31","v":0},{"$f":"'Result Entry'!BE31","v":0},{"$f":"'Result Entry'!BF31","v":0},{"$f":"'Result Entry'!BG31","v":0},{"$f":"'Result Entry'!BH31","v":0},{"$f":"'Result Entry'!BI31","v":0},{"$f":"'Result Entry'!BJ31","v":0},{"$f":"'Result Entry'!BK31","v":0},{"$f":"'Result Entry'!BL31","v":0},{"$f":"'Result Entry'!BM31","v":""},{"$f":"'Result Entry'!BN31","v":""},{"$f":"'Result Entry'!BO31","v":0},{"$f":"'Result Entry'!BP31","v":0},{"$f":"'Result Entry'!BQ31","v":0},{"$f":"'Result Entry'!BR31","v":0},{"$f":"'Result Entry'!BS31","v":0},{"$f":"'Result Entry'!BT31","v":0},{"$f":"'Result Entry'!BU31","v":0},{"$f":"'Result Entry'!BV31","v":""},{"$f":"'Result Entry'!BW31","v":0},{"$f":"'Result Entry'!BX31","v":0},{"$f":"'Result Entry'!BY31","v":0},{"$f":"'Result Entry'!BZ31","v":0},{"$f":"'Result Entry'!CA31","v":0},{"$f":"'Result Entry'!CB31","v":0},{"$f":"'Result Entry'!CC31","v":0},{"$f":"'Result Entry'!CD31","v":""},{"$f":"'Result Entry'!CE31","v":0},{"$f":"'Result Entry'!CF31","v":0},{"$f":"'Result Entry'!CG31","v":0},{"$f":"'Result Entry'!CH31","v":0},{"$f":"'Result Entry'!CI31","v":0},{"$f":"'Result Entry'!CJ31","v":0},{"$f":"'Result Entry'!CK31","v":0},{"$f":"'Result Entry'!CL31","v":""},{"$f":"'Result Entry'!CM31","v":0},{"$f":"'Result Entry'!CN31","v":0},{"$f":"'Result Entry'!CO31","v":0},{"$f":"'Result Entry'!CP31","v":0},{"$f":"'Result Entry'!CQ31","v":0},{"$f":"'Result Entry'!CR31","v":0},{"$f":"'Result Entry'!CS31","v":0},{"$f":"'Result Entry'!CT31","v":""},{"$f":"'Result Entry'!CU31","v":0},{"$f":"'Result Entry'!CV31","v":0},{"$f":"'Result Entry'!CW31","v":""},{"$f":"'Result Entry'!CX31","v":500},{"$f":"'Result Entry'!CY31","v":0},{"$f":"'Result Entry'!CZ31","v":{"v":0,"d":"0.00"}},{"$f":"'Result Entry'!DA31","v":""},{"$f":"'Result Entry'!DB31","v":""},{"$f":"'Result Entry'!DC31","v":""},{"$f":"'Result Entry'!DD31","v":""}]
[null,0,{"$f":"'Result Entry'!D32","v":0},{"$f":"'Result Entry'!E32","v":0},{"$f":"'Result Entry'!F32","v":0},{"$f":"'Result Entry'!G32","v":0},{"$f":"'Result Entry'!H32","v":0},{"$f":"'Result Entry'!I32","v":0},{"$f":"'Result Entry'!J32","v":"00:00:00"},{"$f":"'Result Entry'!K32","v":0},{"$f":"'Result Entry'!L32","v":0},{"$f":"'Result Entry'!M32","v":0},{"$f":"'Result Entry'!N32","v":0},{"$f":"'Result Entry'!O32","v":0},{"$f":"'Result Entry'!P32","v":0},{"$f":"'Result Entry'!Q32","v":0},{"$f":"'Result Entry'!R32","v":0},{"$f":"'Result Entry'!S32","v":0},{"$f":"'Result Entry'!T32","v":0},{"$f":"'Result Entry'!U32","v":0},{"$f":"'Result Entry'!V32","v":0},{"$f":"'Result Entry'!W32","v":0},{"$f":"'Result Entry'!X32","v":""},{"$f":"'Result Entry'!Y32","v":0},{"$f":"'Result Entry'!Z32","v":0},{"$f":"'Result Entry'!AA32","v":0},{"$f":"'Result Entry'!AB32","v":0},{"$f":"'Result Entry'!AC32","v":0},{"$f":"'Result Entry'!AD32","v":0},{"$f":"'Result Entry'!AE32","v":0},{"$f":"'Result Entry'!AF32","v":0},{"$f":"'Result Entry'!AG32","v":0},{"$f":"'Result Entry'!AH32","v":0},{"$f":"'Result Entry'!AI32","v":0},{"$f":"'Result Entry'!AJ32","v":0},{"$f":"'Result Entry'!AK32","v":0},{"$f":"'Result Entry'!AL32","v":""},{"$f":"'Result Entry'!AM32","v":0},{"$f":"'Result Entry'!AN32","v":0},{"$f":"'Result Entry'!AO32","v":0},{"$f":"'Result Entry'!AP32","v":0},{"$f":"'Result Entry'!AQ32","v":0},{"$f":"'Result Entry'!AR32","v":0},{"$f":"'Result Entry'!AS32","v":0},{"$f":"'Result Entry'!AT32","v":0},{"$f":"'Result Entry'!AU32","v":0},{"$f":"'Result Entry'!AV32","v":0},{"$f":"'Result Entry'!AW32","v":0},{"$f":"'Result Entry'!AX32","v":0},{"$f":"'Result Entry'!AY32","v":0},{"$f":"'Result Entry'!AZ32","v":""},{"$f":"'Result Entry'!BA32","v":0},{"$f":"'Result Entry'!BB32","v":0},{"$f":"'Result Entry'!BC32","v":0},{"$f":"'Result Entry'!BD32","v":0},{"$f":"'Result Entry'!BE32","v":0},{"$f":"'Result Entry'!BF32","v":0},{"$f":"'Result Entry'!BG32","v":0},{"$f":"'Result Entry'!BH32","v":0},{"$f":"'Result Entry'!BI32","v":0},{"$f":"'Result Entry'!BJ32","v":0},{"$f":"'Result Entry'!BK32","v":0},{"$f":"'Result Entry'!BL32","v":0},{"$f":"'Result Entry'!BM32","v":""},{"$f":"'Result Entry'!BN32","v":""},{"$f":"'Result Entry'!BO32","v":0},{"$f":"'Result Entry'!BP32","v":0},{"$f":"'Result Entry'!BQ32","v":0},{"$f":"'Result Entry'!BR32","v":0},{"$f":"'Result Entry'!BS32","v":0},{"$f":"'Result Entry'!BT32","v":0},{"$f":"'Result Entry'!BU32","v":0},{"$f":"'Result Entry'!BV32","v":""},{"$f":"'Result Entry'!BW32","v":0},{"$f":"'Result Entry'!BX32","v":0},{"$f":"'Result Entry'!BY32","v":0},{"$f":"'Result Entry'!BZ32","v":0},{"$f":"'Result Entry'!CA32","v":0},{"$f":"'Result Entry'!CB32","v":0},{"$f":"'Result Entry'!CC32","v":0},{"$f":"'Result Entry'!CD32","v":""},{"$f":"'Result Entry'!CE32","v":0},{"$f":"'Result Entry'!CF32","v":0},{"$f":"'Result Entry'!CG32","v":0},{"$f":"'Result Entry'!CH32","v":0},{"$f":"'Result Entry'!CI32","v":0},{"$f":"'Result Entry'!CJ32","v":0},{"$f":"'Result Entry'!CK32","v":0},{"$f":"'Result Entry'!CL32","v":""},{"$f":"'Result Entry'!CM32","v":0},{"$f":"'Result Entry'!CN32","v":0},{"$f":"'Result Entry'!CO32","v":0},{"$f":"'Result Entry'!CP32","v":0},{"$f":"'Result Entry'!CQ32","v":0},{"$f":"'Result Entry'!CR32","v":0},{"$f":"'Result Entry'!CS32","v":0},{"$f":"'Result Entry'!CT32","v":""},{"$f":"'Result Entry'!CU32","v":0},{"$f":"'Result Entry'!CV32","v":0},{"$f":"'Result Entry'!CW32","v":""},{"$f":"'Result Entry'!CX32","v":500},{"$f":"'Result Entry'!CY32","v":0},{"$f":"'Result Entry'!CZ32","v":{"v":0,"d":"0.00"}},{"$f":"'Result Entry'!DA32","v":""},{"$f":"'Result Entry'!DB32","v":""},{"$f":"'Result Entry'!DC32","v":""},{"$f":"'Result Entry'!DD32","v":""}]
[null,0,{"$f":"'Result Entry'!D33","v":0},{"$f":"'Result Entry'!E33","v":0},{"$f":"'Result Entry'!F33","v":0},{"$f":"'Result Entry'!G33","v":0},{"$f":"'Result Entry'!H33","v":0},{"$f":"'Result Entry'!I33","v":0},{"$f":"'Result Entry'!J33","v":"00:00:00"},{"$f":"'Result Entry'!K33","v":0},{"$f":"'Result Entry'!L33","v":0},{"$f":"'Result Entry'!M33","v":0},{"$f":"'Result Entry'!N33","v":0},{"$f":"'Result Entry'!O33","v":0},{"$f":"'Result Entry'!P33","v":0},{"$f":"'Result Entry'!Q33","v":0},{"$f":"'Result Entry'!R33","v":0},{"$f":"'Result Entry'!S33","v":0},{"$f":"'Result Entry'!T33","v":0},{"$f":"'Result Entry'!U33","v":0},{"$f":"'Result Entry'!V33","v":0},{"$f":"'Result Entry'!W33","v":0},{"$f":"'Result Entry'!X33","v":""},{"$f":"'Result Entry'!Y33","v":0},{"$f":"'Result Entry'!Z33","v":0},{"$f":"'Result Entry'!AA33","v":0},{"$f":"'Result Entry'!AB33","v":0},{"$f":"'Result Entry'!AC33","v":0},{"$f":"'Result Entry'!AD33","v":0},{"$f":"'Result Entry'!AE33","v":0},{"$f":"'Result Entry'!AF33","v":0},{"$f":"'Result Entry'!AG33","v":0},{"$f":"'Result Entry'!AH33","v":0},{"$f":"'Result Entry'!AI33","v":0},{"$f":"'Result Entry'!AJ33","v":0},{"$f":"'Result Entry'!AK33","v":0},{"$f":"'Result Entry'!AL33","v":""},{"$f":"'Result Entry'!AM33","v":0},{"$f":"'Result Entry'!AN33","v":0},{"$f":"'Result Entry'!AO33","v":0},{"$f":"'Result Entry'!AP33","v":0},{"$f":"'Result Entry'!AQ33","v":0},{"$f":"'Result Entry'!AR33","v":0},{"$f":"'Result Entry'!AS33","v":0},{"$f":"'Result Entry'!AT33","v":0},{"$f":"'Result Entry'!AU33","v":0},{"$f":"'Result Entry'!AV33","v":0},{"$f":"'Result Entry'!AW33","v":0},{"$f":"'Result Entry'!AX33","v":0},{"$f":"'Result Entry'!AY33","v":0},{"$f":"'Result Entry'!AZ33","v":""},{"$f":"'Result Entry'!BA33","v":0},{"$f":"'Result Entry'!BB33","v":0},{"$f":"'Result Entry'!BC33","v":0},{"$f":"'Result Entry'!BD33","v":0},{"$f":"'Result Entry'!BE33","v":0},{"$f":"'Result Entry'!BF33","v":0},{"$f":"'Result Entry'!BG33","v":0},{"$f":"'Result Entry'!BH33","v":0},{"$f":"'Result Entry'!BI33","v":0},{"$f":"'Result Entry'!BJ33","v":0},{"$f":"'Result Entry'!BK33","v":0},{"$f":"'Result Entry'!BL33","v":0},{"$f":"'Result Entry'!BM33","v":""},{"$f":"'Result Entry'!BN33","v":""},{"$f":"'Result Entry'!BO33","v":0},{"$f":"'Result Entry'!BP33","v":0},{"$f":"'Result Entry'!BQ33","v":0},{"$f":"'Result Entry'!BR33","v":0},{"$f":"'Result Entry'!BS33","v":0},{"$f":"'Result Entry'!BT33","v":0},{"$f":"'Result Entry'!BU33","v":0},{"$f":"'Result Entry'!BV33","v":""},{"$f":"'Result Entry'!BW33","v":0},{"$f":"'Result Entry'!BX33","v":0},{"$f":"'Result Entry'!BY33","v":0},{"$f":"'Result Entry'!BZ33","v":0},{"$f":"'Result Entry'!CA33","v":0},{"$f":"'Result Entry'!CB33","v":0},{"$f":"'Result Entry'!CC33","v":0},{"$f":"'Result Entry'!CD33","v":""},{"$f":"'Result Entry'!CE33","v":0},{"$f":"'Result Entry'!CF33","v":0},{"$f":"'Result Entry'!CG33","v":0},{"$f":"'Result Entry'!CH33","v":0},{"$f":"'Result Entry'!CI33","v":0},{"$f":"'Result Entry'!CJ33","v":0},{"$f":"'Result Entry'!CK33","v":0},{"$f":"'Result Entry'!CL33","v":""},{"$f":"'Result Entry'!CM33","v":0},{"$f":"'Result Entry'!CN33","v":0},{"$f":"'Result Entry'!CO33","v":0},{"$f":"'Result Entry'!CP33","v":0},{"$f":"'Result Entry'!CQ33","v":0},{"$f":"'Result Entry'!CR33","v":0},{"$f":"'Result Entry'!CS33","v":0},{"$f":"'Result Entry'!CT33","v":""},{"$f":"'Result Entry'!CU33","v":0},{"$f":"'Result Entry'!CV33","v":0},{"$f":"'Result Entry'!CW33","v":""},{"$f":"'Result Entry'!CX33","v":500},{"$f":"'Result Entry'!CY33","v":0},{"$f":"'Result Entry'!CZ33","v":{"v":0,"d":"0.00"}},{"$f":"'Result Entry'!DA33","v":""},{"$f":"'Result Entry'!DB33","v":""},{"$f":"'Result Entry'!DC33","v":""},{"$f":"'Result Entry'!DD33","v":""}]
[null,0,{"$f":"'Result Entry'!D34","v":0},{"$f":"'Result Entry'!E34","v":0},{"$f":"'Result Entry'!F34","v":0},{"$f":"'Result Entry'!G34","v":0},{"$f":"'Result Entry'!H34","v":0},{"$f":"'Result Entry'!I34","v":0},{"$f":"'Result Entry'!J34","v":"00:00:00"},{"$f":"'Result Entry'!K34","v":0},{"$f":"'Result Entry'!L34","v":0},{"$f":"'Result Entry'!M34","v":0},{"$f":"'Result Entry'!N34","v":0},{"$f":"'Result Entry'!O34","v":0},{"$f":"'Result Entry'!P34","v":0},{"$f":"'Result Entry'!Q34","v":0},{"$f":"'Result Entry'!R34","v":0},{"$f":"'Result Entry'!S34","v":0},{"$f":"'Result Entry'!T34","v":0},{"$f":"'Result Entry'!U34","v":0},{"$f":"'Result Entry'!V34","v":0},{"$f":"'Result Entry'!W34","v":0},{"$f":"'Result Entry'!X34","v":""},{"$f":"'Result Entry'!Y34","v":0},{"$f":"'Result Entry'!Z34","v":0},{"$f":"'Result Entry'!AA34","v":0},{"$f":"'Result Entry'!AB34","v":0},{"$f":"'Result Entry'!AC34","v":0},{"$f":"'Result Entry'!AD34","v":0},{"$f":"'Result Entry'!AE34","v":0},{"$f":"'Result Entry'!AF34","v":0},{"$f":"'Result Entry'!AG34","v":0},{"$f":"'Result Entry'!AH34","v":0},{"$f":"'Result Entry'!AI34","v":0},{"$f":"'Result Entry'!AJ34","v":0},{"$f":"'Result Entry'!AK34","v":0},{"$f":"'Result Entry'!AL34","v":""},{"$f":"'Result Entry'!AM34","v":0},{"$f":"'Result Entry'!AN34","v":0},{"$f":"'Result Entry'!AO34","v":0},{"$f":"'Result Entry'!AP34","v":0},{"$f":"'Result Entry'!AQ34","v":0},{"$f":"'Result Entry'!AR34","v":0},{"$f":"'Result Entry'!AS34","v":0},{"$f":"'Result Entry'!AT34","v":0},{"$f":"'Result Entry'!AU34","v":0},{"$f":"'Result Entry'!AV34","v":0},{"$f":"'Result Entry'!AW34","v":0},{"$f":"'Result Entry'!AX34","v":0},{"$f":"'Result Entry'!AY34","v":0},{"$f":"'Result Entry'!AZ34","v":""},{"$f":"'Result Entry'!BA34","v":0},{"$f":"'Result Entry'!BB34","v":0},{"$f":"'Result Entry'!BC34","v":0},{"$f":"'Result Entry'!BD34","v":0},{"$f":"'Result Entry'!BE34","v":0},{"$f":"'Result Entry'!BF34","v":0},{"$f":"'Result Entry'!BG34","v":0},{"$f":"'Result Entry'!BH34","v":0},{"$f":"'Result Entry'!BI34","v":0},{"$f":"'Result Entry'!BJ34","v":0},{"$f":"'Result Entry'!BK34","v":0},{"$f":"'Result Entry'!BL34","v":0},{"$f":"'Result Entry'!BM34","v":""},{"$f":"'Result Entry'!BN34","v":""},{"$f":"'Result Entry'!BO34","v":0},{"$f":"'Result Entry'!BP34","v":0},{"$f":"'Result Entry'!BQ34","v":0},{"$f":"'Result Entry'!BR34","v":0},{"$f":"'Result Entry'!BS34","v":0},{"$f":"'Result Entry'!BT34","v":0},{"$f":"'Result Entry'!BU34","v":0},{"$f":"'Result Entry'!BV34","v":""},{"$f":"'Result Entry'!BW34","v":0},{"$f":"'Result Entry'!BX34","v":0},{"$f":"'Result Entry'!BY34","v":0},{"$f":"'Result Entry'!BZ34","v":0},{"$f":"'Result Entry'!CA34","v":0},{"$f":"'Result Entry'!CB34","v":0},{"$f":"'Result Entry'!CC34","v":0},{"$f":"'Result Entry'!CD34","v":""},{"$f":"'Result Entry'!CE34","v":0},{"$f":"'Result Entry'!CF34","v":0},{"$f":"'Result Entry'!CG34","v":0},{"$f":"'Result Entry'!CH34","v":0},{"$f":"'Result Entry'!CI34","v":0},{"$f":"'Result Entry'!CJ34","v":0},{"$f":"'Result Entry'!CK34","v":0},{"$f":"'Result Entry'!CL34","v":""},{"$f":"'Result Entry'!CM34","v":0},{"$f":"'Result Entry'!CN34","v":0},{"$f":"'Result Entry'!CO34","v":0},{"$f":"'Result Entry'!CP34","v":0},{"$f":"'Result Entry'!CQ34","v":0},{"$f":"'Result Entry'!CR34","v":0},{"$f":"'Result Entry'!CS34","v":0},{"$f":"'Result Entry'!CT34","v":""},{"$f":"'Result Entry'!CU34","v":0},{"$f":"'Result Entry'!CV34","v":0},{"$f":"'Result Entry'!CW34","v":""},{"$f":"'Result Entry'!CX34","v":500},{"$f":"'Result Entry'!CY34","v":0},{"$f":"'Result Entry'!CZ34","v":{"v":0,"d":"0.00"}},{"$f":"'Result Entry'!DA34","v":""},{"$f":"'Result Entry'!DB34","v":""},{"$f":"'Result Entry'!DC34","v":""},{"$f":"'Result Entry'!DD34","v":""}]
[null,0,{"$f":"'Result Entry'!D35","v":0},{"$f":"'Result Entry'!E35","v":0},{"$f":"'Result Entry'!F35","v":0},{"$f":"'Result Entry'!G35","v":0},{"$f":"'Result Entry'!H35","v":0},{"$f":"'Result Entry'!I35","v":0},{"$f":"'Result Entry'!J35","v":"00:00:00"},{"$f":"'Result Entry'!K35","v":0},{"$f":"'Result Entry'!L35","v":0},{"$f":"'Result Entry'!M35","v":0},{"$f":"'Result Entry'!N35","v":0},{"$f":"'Result Entry'!O35","v":0},{"$f":"'Result Entry'!P35","v":0},{"$f":"'Result Entry'!Q35","v":0},{"$f":"'Result Entry'!R35","v":0},{"$f":"'Result Entry'!S35","v":0},{"$f":"'Result Entry'!T35","v":0},{"$f":"'Result Entry'!U35","v":0},{"$f":"'Result Entry'!V35","v":0},{"$f":"'Result Entry'!W35","v":0},{"$f":"'Result Entry'!X35","v":""},{"$f":"'Result Entry'!Y35","v":0},{"$f":"'Result Entry'!Z35","v":0},{"$f":"'Result Entry'!AA35","v":0},{"$f":"'Result Entry'!AB35","v":0},{"$f":"'Result Entry'!AC35","v":0},{"$f":"'Result Entry'!AD35","v":0},{"$f":"'Result Entry'!AE35","v":0},{"$f":"'Result Entry'!AF35","v":0},{"$f":"'Result Entry'!AG35","v":0},{"$f":"'Result Entry'!AH35","v":0},{"$f":"'Result Entry'!AI35","v":0},{"$f":"'Result Entry'!AJ35","v":0},{"$f":"'Result Entry'!AK35","v":0},{"$f":"'Result Entry'!AL35","v":""},{"$f":"'Result Entry'!AM35","v":0},{"$f":"'Result Entry'!AN35","v":0},{"$f":"'Result Entry'!AO35","v":0},{"$f":"'Result Entry'!AP35","v":0},{"$f":"'Result Entry'!AQ35","v":0},{"$f":"'Result Entry'!AR35","v":0},{"$f":"'Result Entry'!AS35","v":0},{"$f":"'Result Entry'!AT35","v":0},{"$f":"'Result Entry'!AU35","v":0},{"$f":"'Result Entry'!AV35","v":0},{"$f":"'Result Entry'!AW35","v":0},{"$f":"'Result Entry'!AX35","v":0},{"$f":"'Result Entry'!AY35","v":0},{"$f":"'Result Entry'!AZ35","v":""},{"$f":"'Result Entry'!BA35","v":0},{"$f":"'Result Entry'!BB35","v":0},{"$f":"'Result Entry'!BC35","v":0},{"$f":"'Result Entry'!BD35","v":0},{"$f":"'Result Entry'!BE35","v":0},{"$f":"'Result Entry'!BF35","v":0},{"$f":"'Result Entry'!BG35","v":0},{"$f":"'Result Entry'!BH35","v":0},{"$f":"'Result Entry'!BI35","v":0},{"$f":"'Result Entry'!BJ35","v":0},{"$f":"'Result Entry'!BK35","v":0},{"$f":"'Result Entry'!BL35","v":0},{"$f":"'Result Entry'!BM35","v":""},{"$f":"'Result Entry'!BN35","v":""},{"$f":"'Result Entry'!BO35","v":0},{"$f":"'Result Entry'!BP35","v":0},{"$f":"'Result Entry'!BQ35","v":0},{"$f":"'Result Entry'!BR35","v":0},{"$f":"'Result Entry'!BS35","v":0},{"$f":"'Result Entry'!BT35","v":0},{"$f":"'Result Entry'!BU35","v":0},{"$f":"'Result Entry'!BV35","v":""},{"$f":"'Result Entry'!BW35","v":0},{"$f":"'Result Entry'!BX35","v":0},{"$f":"'Result Entry'!BY35","v":0},{"$f":"'Result Entry'!BZ35","v":0},{"$f":"'Result Entry'!CA35","v":0},{"$f":"'Result Entry'!CB35","v":0},{"$f":"'Result Entry'!CC35","v":0},{"$f":"'Result Entry'!CD35","v":""},{"$f":"'Result Entry'!CE35","v":0},{"$f":"'Result Entry'!CF35","v":0},{"$f":"'Result Entry'!CG35","v":0},{"$f":"'Result Entry'!CH35","v":0},{"$f":"'Result Entry'!CI35","v":0},{"$f":"'Result Entry'!CJ35","v":0},{"$f":"'Result Entry'!CK35","v":0},{"$f":"'Result Entry'!CL35","v":""},{"$f":"'Result Entry'!CM35","v":0},{"$f":"'Result Entry'!CN35","v":0},{"$f":"'Result Entry'!CO35","v":0},{"$f":"'Result Entry'!CP35","v":0},{"$f":"'Result Entry'!CQ35","v":0},{"$f":"'Result Entry'!CR35","v":0},{"$f":"'Result Entry'!CS35","v":0},{"$f":"'Result Entry'!CT35","v":""},{"$f":"'Result Entry'!CU35","v":0},{"$f":"'Result Entry'!CV35","v":0},{"$f":"'Result Entry'!CW35","v":""},{"$f":"'Result Entry'!CX35","v":500},{"$f":"'Result Entry'!CY35","v":0},{"$f":"'Result Entry'!CZ35","v":{"v":0,"d":"0.00"}},{"$f":"'Result Entry'!DA35","v":""},{"$f":"'Result Entry'!DB35","v":""},{"$f":"'Result Entry'!DC35","v":""},{"$f":"'Result Entry'!DD35","v":""}]
[null,0,{"$f":"'Result Entry'!D36","v":0},{"$f":"'Result Entry'!E36","v":0},{"$f":"'Result Entry'!F36","v":0},{"$f":"'Result Entry'!G36","v":0},{"$f":"'Result Entry'!H36","v":0},{"$f":"'Result Entry'!I36","v":0},{"$f":"'Result Entry'!J36","v":"00:00:00"},{"$f":"'Result Entry'!K36","v":0},{"$f":"'Result Entry'!L36","v":0},{"$f":"'Result Entry'!M36","v":0},{"$f":"'Result Entry'!N36","v":0},{"$f":"'Result Entry'!O36","v":0},{"$f":"'Result Entry'!P36","v":0},{"$f":"'Result Entry'!Q36","v":0},{"$f":"'Result Entry'!R36","v":0},{"$f":"'Result Entry'!S36","v":0},{"$f":"'Result Entry'!T36","v":0},{"$f":"'Result Entry'!U36","v":0},{"$f":"'Result Entry'!V36","v":0},{"$f":"'Result Entry'!W36","v":0},{"$f":"'Result Entry'!X36","v":""},{"$f":"'Result Entry'!Y36","v":0},{"$f":"'Result Entry'!Z36","v":0},{"$f":"'Result Entry'!AA36","v":0},{"$f":"'Result Entry'!AB36","v":0},{"$f":"'Result Entry'!AC36","v":0},{"$f":"'Result Entry'!AD36","v":0},{"$f":"'Result Entry'!AE36","v":0},{"$f":"'Result Entry'!AF36","v":0},{"$f":"'Result Entry'!AG36","v":0},{"$f":"'Result Entry'!AH36","v":0},{"$f":"'Result Entry'!AI36","v":0},{"$f":"'Result Entry'!AJ36","v":0},{"$f":"'Result Entry'!AK36","v":0},{"$f":"'Result Entry'!AL36","v":""},{"$f":"'Result Entry'!AM36","v":0},{"$f":"'Result Entry'!AN36","v":0},{"$f":"'Result Entry'!AO36","v":0},{"$f":"'Result Entry'!AP36","v":0},{"$f":"'Result Entry'!AQ36","v":0},{"$f":"'Result Entry'!AR36","v":0},{"$f":"'Result Entry'!AS36","v":0},{"$f":"'Result Entry'!AT36","v":0},{"$f":"'Result Entry'!AU36","v":0},{"$f":"'Result Entry'!AV36","v":0},{"$f":"'Result Entry'!AW36","v":0},{"$f":"'Result Entry'!AX36","v":0},{"$f":"'Result Entry'!AY36","v":0},{"$f":"'Result Entry'!AZ36","v":""},{"$f":"'Result Entry'!BA36","v":0},{"$f":"'Result Entry'!BB36","v":0},{"$f":"'Result Entry'!BC36","v":0},{"$f":"'Result Entry'!BD36","v":0},{"$f":"'Result Entry'!BE36","v":0},{"$f":"'Result Entry'!BF36","v":0},{"$f":"'Result Entry'!BG36","v":0},{"$f":"'Result Entry'!BH36","v":0},{"$f":"'Result Entry'!BI36","v":0},{"$f":"'Result Entry'!BJ36","v":0},{"$f":"'Result Entry'!BK36","v":0},{"$f":"'Result Entry'!BL36","v":0},{"$f":"'Result Entry'!BM36","v":""},{"$f":"'Result Entry'!BN36","v":""},{"$f":"'Result Entry'!BO36","v":0},{"$f":"'Result Entry'!BP36","v":0},{"$f":"'Result Entry'!BQ36","v":0},{"$f":"'Result Entry'!BR36","v":0},{"$f":"'Result Entry'!BS36","v":0},{"$f":"'Result Entry'!BT36","v":0},{"$f":"'Result Entry'!BU36","v":0},{"$f":"'Result Entry'!BV36","v":""},{"$f":"'Result Entry'!BW36","v":0},{"$f":"'Result Entry'!BX36","v":0},{"$f":"'Result Entry'!BY36","v":0},{"$f":"'Result Entry'!BZ36","v":0},{"$f":"'Result Entry'!CA36","v":0},{"$f":"'Result Entry'!CB36","v":0},{"$f":"'Result Entry'!CC36","v":0},{"$f":"'Result Entry'!CD36","v":""},{"$f":"'Result Entry'!CE36","v":0},{"$f":"'Result Entry'!CF36","v":0},{"$f":"'Result Entry'!CG36","v":0},{"$f":"'Result Entry'!CH36","v":0},{"$f":"'Result Entry'!CI36","v":0},{"$f":"'Result Entry'!CJ36","v":0},{"$f":"'Result Entry'!CK36","v":0},{"$f":"'Result Entry'!CL36","v":""},{"$f":"'Result Entry'!CM36","v":0},{"$f":"'Result Entry'!CN36","v":0},{"$f":"'Result Entry'!CO36","v":0},{"$f":"'Result Entry'!CP36","v":0},{"$f":"'Result Entry'!CQ36","v":0},{"$f":"'Result Entry'!CR36","v":0},{"$f":"'Result Entry'!CS36","v":0},{"$f":"'Result Entry'!CT36","v":""},{"$f":"'Result Entry'!CU36","v":0},{"$f":"'Result Entry'!CV36","v":0},{"$f":"'Result Entry'!CW36","v":""},{"$f":"'Result Entry'!CX36","v":500},{"$f":"'Result Entry'!CY36","v":0},{"$f":"'Result Entry'!CZ36","v":{"v":0,"d":"0.00"}},{"$f":"'Result Entry'!DA36","v":""},{"$f":"'Result Entry'!DB36","v":""},{"$f":"'Result Entry'!DC36","v":""},{"$f":"'Result Entry'!DD36","v":""}]
[null,0,{"$f":"'Result Entry'!D37","v":0},{"$f":"'Result Entry'!E37","v":0},{"$f":"'Result Entry'!F37","v":0},{"$f":"'Result Entry'!G37","v":0},{"$f":"'Result Entry'!H37","v":0},{"$f":"'Result Entry'!I37","v":0},{"$f":"'Result Entry'!J37","v":"00:00:00"},{"$f":"'Result Entry'!K37","v":0},{"$f":"'Result Entry'!L37","v":0},{"$f":"'Result Entry'!M37","v":0},{"$f":"'Result Entry'!N37","v":0},{"$f":"'Result Entry'!O37","v":0},{"$f":"'Result Entry'!P37","v":0},{"$f":"'Result Entry'!Q37","v":0},{"$f":"'Result Entry'!R37","v":0},{"$f":"'Result Entry'!S37","v":0},{"$f":"'Result Entry'!T37","v":0},{"$f":"'Result Entry'!U37","v":0},{"$f":"'Result Entry'!V37","v":0},{"$f":"'Result Entry'!W37","v":0},{"$f":"'Result Entry'!X37","v":""},{"$f":"'Result Entry'!Y37","v":0},{"$f":"'Result Entry'!Z37","v":0},{"$f":"'Result Entry'!AA37","v":0},{"$f":"'Result Entry'!AB37","v":0},{"$f":"'Result Entry'!AC37","v":0},{"$f":"'Result Entry'!AD37","v":0},{"$f":"'Result Entry'!AE37","v":0},{"$f":"'Result Entry'!AF37","v":0},{"$f":"'Result Entry'!AG37","v":0},{"$f":"'Result Entry'!AH37","v":0},{"$f":"'Result Entry'!AI37","v":0},{"$f":"'Result Entry'!AJ37","v":0},{"$f":"'Result Entry'!AK37","v":0},{"$f":"'Result Entry'!AL37","v":""},{"$f":"'Result Entry'!AM37","v":0},{"$f":"'Result Entry'!AN37","v":0},{"$f":"'Result Entry'!AO37","v":0},{"$f":"'Result Entry'!AP37","v":0},{"$f":"'Result Entry'!AQ37","v":0},{"$f":"'Result Entry'!AR37","v":0},{"$f":"'Result Entry'!AS37","v":0},{"$f":"'Result Entry'!AT37","v":0},{"$f":"'Result Entry'!AU37","v":0},{"$f":"'Result Entry'!AV37","v":0},{"$f":"'Result Entry'!AW37","v":0},{"$f":"'Result Entry'!AX37","v":0},{"$f":"'Result Entry'!AY37","v":0},{"$f":"'Result Entry'!AZ37","v":""},{"$f":"'Result Entry'!BA37","v":0},{"$f":"'Result Entry'!BB37","v":0},{"$f":"'Result Entry'!BC37","v":0},{"$f":"'Result Entry'!BD37","v":0},{"$f":"'Result Entry'!BE37","v":0},{"$f":"'Result Entry'!BF37","v":0},{"$f":"'Result Entry'!BG37","v":0},{"$f":"'Result Entry'!BH37","v":0},{"$f":"'Result Entry'!BI37","v":0},{"$f":"'Result Entry'!BJ37","v":0},{"$f":"'Result Entry'!BK37","v":0},{"$f":"'Result Entry'!BL37","v":0},{"$f":"'Result Entry'!BM37","v":""},{"$f":"'Result Entry'!BN37","v":""},{"$f":"'Result Entry'!BO37","v":0},{"$f":"'Result Entry'!BP37","v":0},{"$f":"'Result Entry'!BQ37","v":0},{"$f":"'Result Entry'!BR37","v":0},{"$f":"'Result Entry'!BS37","v":0},{"$f":"'Result Entry'!BT37","v":0},{"$f":"'Result Entry'!BU37","v":0},{"$f":"'Result Entry'!BV37","v":""},{"$f":"'Result Entry'!BW37","v":0},{"$f":"'Result Entry'!BX37","v":0},{"$f":"'Result Entry'!BY37","v":0},{"$f":"'Result Entry'!BZ37","v":0},{"$f":"'Result Entry'!CA37","v":0},{"$f":"'Result Entry'!CB37","v":0},{"$f":"'Result Entry'!CC37","v":0},{"$f":"'Result Entry'!CD37","v":""},{"$f":"'Result Entry'!CE37","v":0},{"$f":"'Result Entry'!CF37","v":0},{"$f":"'Result Entry'!CG37","v":0},{"$f":"'Result Entry'!CH37","v":0},{"$f":"'Result Entry'!CI37","v":0},{"$f":"'Result Entry'!CJ37","v":0},{"$f":"'Result Entry'!CK37","v":0},{"$f":"'Result Entry'!CL37","v":""},{"$f":"'Result Entry'!CM37","v":0},{"$f":"'Result Entry'!CN37","v":0},{"$f":"'Result Entry'!CO37","v":0},{"$f":"'Result Entry'!CP37","v":0},{"$f":"'Result Entry'!CQ37","v":0},{"$f":"'Result Entry'!CR37","v":0},{"$f":"'Result Entry'!CS37","v":0},{"$f":"'Result Entry'!CT37","v":""},{"$f":"'Result Entry'!CU37","v":0},{"$f":"'Result Entry'!CV37","v":0},{"$f":"'Result Entry'!CW37","v":""},{"$f":"'Result Entry'!CX37","v":500},{"$f":"'Result Entry'!CY37","v":0},{"$f":"'Result Entry'!CZ37","v":{"v":0,"d":"0.00"}},{"$f":"'Result Entry'!DA37","v":""},{"$f":"'Result Entry'!DB37","v":""},{"$f":"'Result Entry'!DC37","v":""},{"$f":"'Result Entry'!DD37","v":""}]
[null,0,{"$f":"'Result Entry'!D38","v":0},{"$f":"'Result Entry'!E38","v":0},{"$f":"'Result Entry'!F38","v":0},{"$f":"'Result Entry'!G38","v":0},{"$f":"'Result Entry'!H38","v":0},{"$f":"'Result Entry'!I38","v":0},{"$f":"'Result Entry'!J38","v":"00:00:00"},{"$f":"'Result Entry'!K38","v":0},{"$f":"'Result Entry'!L38","v":0},{"$f":"'Result Entry'!M38","v":0},{"$f":"'Result Entry'!N38","v":0},{"$f":"'Result Entry'!O38","v":0},{"$f":"'Result Entry'!P38","v":0},{"$f":"'Result Entry'!Q38","v":0},{"$f":"'Result Entry'!R38","v":0},{"$f":"'Result Entry'!S38","v":0},{"$f":"'Result Entry'!T38","v":0},{"$f":"'Result Entry'!U38","v":0},{"$f":"'Result Entry'!V38","v":0},{"$f":"'Result Entry'!W38","v":0},{"$f":"'Result Entry'!X38","v":""},{"$f":"'Result Entry'!Y38","v":0},{"$f":"'Result Entry'!Z38","v":0},{"$f":"'Result Entry'!AA38","v":0},{"$f":"'Result Entry'!AB38","v":0},{"$f":"'Result Entry'!AC38","v":0},{"$f":"'Result Entry'!AD38","v":0},{"$f":"'Result Entry'!AE38","v":0},{"$f":"'Result Entry'!AF38","v":0},{"$f":"'Result Entry'!AG38","v":0},{"$f":"'Result Entry'!AH38","v":0},{"$f":"'Result Entry'!AI38","v":0},{"$f":"'Result Entry'!AJ38","v":0},{"$f":"'Result Entry'!AK38","v":0},{"$f":"'Result Entry'!AL38","v":""},{"$f":"'Result Entry'!AM38","v":0},{"$f":"'Result Entry'!AN38","v":0},{"$f":"'Result Entry'!AO38","v":0},{"$f":"'Result Entry'!AP38","v":0},{"$f":"'Result Entry'!AQ38","v":0},{"$f":"'Result Entry'!AR38","v":0},{"$f":"'Result Entry'!AS38","v":0},{"$f":"'Result Entry'!AT38","v":0},{"$f":"'Result Entry'!AU38","v":0},{"$f":"'Result Entry'!AV38","v":0},{"$f":"'Result Entry'!AW38","v":0},{"$f":"'Result Entry'!AX38","v":0},{"$f":"'Result Entry'!AY38","v":0},{"$f":"'Result Entry'!AZ38","v":""},{"$f":"'Result Entry'!BA38","v":0},{"$f":"'Result Entry'!BB38","v":0},{"$f":"'Result Entry'!BC38","v":0},{"$f":"'Result Entry'!BD38","v":0},{"$f":"'Result Entry'!BE38","v":0},{"$f":"'Result Entry'!BF38","v":0},{"$f":"'Result Entry'!BG38","v":0},{"$f":"'Result Entry'!BH38","v":0},{"$f":"'Result Entry'!BI38","v":0},{"$f":"'Result Entry'!BJ38","v":0},{"$f":"'Result Entry'!BK38","v":0},{"$f":"'Result Entry'!BL38","v":0},{"$f":"'Result Entry'!BM38","v":""},{"$f":"'Result Entry'!BN38","v":""},{"$f":"'Result Entry'!BO38","v":0},{"$f":"'Result Entry'!BP38","v":0},{"$f":"'Result Entry'!BQ38","v":0},{"$f":"'Result Entry'!BR38","v":0},{"$f":"'Result Entry'!BS38","v":0},{"$f":"'Result Entry'!BT38","v":0},{"$f":"'Result Entry'!BU38","v":0},{"$f":"'Result Entry'!BV38","v":""},{"$f":"'Result Entry'!BW38","v":0},{"$f":"'Result Entry'!BX38","v":0},{"$f":"'Result Entry'!BY38","v":0},{"$f":"'Result Entry'!BZ38","v":0},{"$f":"'Result Entry'!CA38","v":0},{"$f":"'Result Entry'!CB38","v":0},{"$f":"'Result Entry'!CC38","v":0},{"$f":"'Result Entry'!CD38","v":""},{"$f":"'Result Entry'!CE38","v":0},{"$f":"'Result Entry'!CF38","v":0},{"$f":"'Result Entry'!CG38","v":0},{"$f":"'Result Entry'!CH38","v":0},{"$f":"'Result Entry'!CI38","v":0},{"$f":"'Result Entry'!CJ38","v":0},{"$f":"'Result Entry'!CK38","v":0},{"$f":"'Result Entry'!CL38","v":""},{"$f":"'Result Entry'!CM38","v":0},{"$f":"'Result Entry'!CN38","v":0},{"$f":"'Result Entry'!CO38","v":0},{"$f":"'Result Entry'!CP38","v":0},{"$f":"'Result Entry'!CQ38","v":0},{"$f":"'Result Entry'!CR38","v":0},{"$f":"'Result Entry'!CS38","v":0},{"$f":"'Result Entry'!CT38","v":""},{"$f":"'Result Entry'!CU38","v":0},{"$f":"'Result Entry'!CV38","v":0},{"$f":"'Result Entry'!CW38","v":""},{"$f":"'Result Entry'!CX38","v":500},{"$f":"'Result Entry'!CY38","v":0},{"$f":"'Result Entry'!CZ38","v":{"v":0,"d":"0.00"}},{"$f":"'Result Entry'!DA38","v":""},{"$f":"'Result Entry'!DB38","v":""},{"$f":"'Result Entry'!DC38","v":""},{"$f":"'Result Entry'!DD38","v":""}]
[null,0,{"$f":"'Result Entry'!D39","v":0},{"$f":"'Result Entry'!E39","v":0},{"$f":"'Result Entry'!F39","v":0},{"$f":"'Result Entry'!G39","v":0},{"$f":"'Result Entry'!H39","v":0},{"$f":"'Result Entry'!I39","v":0},{"$f":"'Result Entry'!J39","v":"00:00:00"},{"$f":"'Result Entry'!K39","v":0},{"$f":"'Result Entry'!L39","v":0},{"$f":"'Result Entry'!M39","v":0},{"$f":"'Result Entry'!N39","v":0},{"$f":"'Result Entry'!O39","v":0},{"$f":"'Result Entry'!P39","v":0},{"$f":"'Result Entry'!Q39","v":0},{"$f":"'Result Entry'!R39","v":0},{"$f":"'Result Entry'!S39","v":0},{"$f":"'Result Entry'!T39","v":0},{"$f":"'Result Entry'!U39","v":0},{"$f":"'Result Entry'!V39","v":0},{"$f":"'Result Entry'!W39","v":0},{"$f":"'Result Entry'!X39","v":""},{"$f":"'Result Entry'!Y39","v":0},{"$f":"'Result Entry'!Z39","v":0},{"$f":"'Result Entry'!AA39","v":0},{"$f":"'Result Entry'!AB39","v":0},{"$f":"'Result Entry'!AC39","v":0},{"$f":"'Result Entry'!AD39","v":0},{"$f":"'Result Entry'!AE39","v":0},{"$f":"'Result Entry'!AF39","v":0},{"$f":"'Result Entry'!AG39","v":0},{"$f":"'Result Entry'!AH39","v":0},{"$f":"'Result Entry'!AI39","v":0},{"$f":"'Result Entry'!AJ39","v":0},{"$f":"'Result Entry'!AK39","v":0},{"$f":"'Result Entry'!AL39","v":""},{"$f":"'Result Entry'!AM39","v":0},{"$f":"'Result Entry'!AN39","v":0},{"$f":"'Result Entry'!AO39","v":0},{"$f":"'Result Entry'!AP39","v":0},{"$f":"'Result Entry'!AQ39","v":0},{"$f":"'Result Entry'!AR39","v":0},{"$f":"'Result Entry'!AS39","v":0},{"$f":"'Result Entry'!AT39","v":0},{"$f":"'Result Entry'!AU39","v":0},{"$f":"'Result Entry'!AV39","v":0},{"$f":"'Result Entry'!AW39","v":0},{"$f":"'Result Entry'!AX39","v":0},{"$f":"'Result Entry'!AY39","v":0},{"$f":"'Result Entry'!AZ39","v":""},{"$f":"'Result Entry'!BA39","v":0},{"$f":"'Result Entry'!BB39","v":0},{"$f":"'Result Entry'!BC39","v":0},{"$f":"'Result Entry'!BD39","v":0},{"$f":"'Result Entry'!BE39","v":0},{"$f":"'Result Entry'!BF39","v":0},{"$f":"'Result Entry'!BG39","v":0},{"$f":"'Result Entry'!BH39","v":0},{"$f":"'Result Entry'!BI39","v":0},{"$f":"'Result Entry'!BJ39","v":0},{"$f":"'Result Entry'!BK39","v":0},{"$f":"'Result Entry'!BL39","v":0},{"$f":"'Result Entry'!BM39","v":""},{"$f":"'Result Entry'!BN39","v":""},{"$f":"'Result Entry'!BO39","v":0},{"$f":"'Result Entry'!BP39","v":0},{"$f":"'Result Entry'!BQ39","v":0},{"$f":"'Result Entry'!BR39","v":0},{"$f":"'Result Entry'!BS39","v":0},{"$f":"'Result Entry'!BT39","v":0},{"$f":"'Result Entry'!BU39","v":0},{"$f":"'Result Entry'!BV39","v":""},{"$f":"'Result Entry'!BW39","v":0},{"$f":"'Result Entry'!BX39","v":0},{"$f":"'Result Entry'!BY39","v":0},{"$f":"'Result Entry'!BZ39","v":0},{"$f":"'Result Entry'!CA39","v":0},{"$f":"'Result Entry'!CB39","v":0},{"$f":"'Result Entry'!CC39","v":0},{"$f":"'Result Entry'!CD39","v":""},{"$f":"'Result Entry'!CE39","v":0},{"$f":"'Result Entry'!CF39","v":0},{"$f":"'Result Entry'!CG39","v":0},{"$f":"'Result Entry'!CH39","v":0},{"$f":"'Result Entry'!CI39","v":0},{"$f":"'Result Entry'!CJ39","v":0},{"$f":"'Result Entry'!CK39","v":0},{"$f":"'Result Entry'!CL39","v":""},{"$f":"'Result Entry'!CM39","v":0},{"$f":"'Result Entry'!CN39","v":0},{"$f":"'Result Entry'!CO39","v":0},{"$f":"'Result Entry'!CP39","v":0},{"$f":"'Result Entry'!CQ39","v":0},{"$f":"'Result Entry'!CR39","v":0},{"$f":"'Result Entry'!CS39","v":0},{"$f":"'Result Entry'!CT39","v":""},{"$f":"'Result Entry'!CU39","v":0},{"$f":"'Result Entry'!CV39","v":0},{"$f":"'Result Entry'!CW39","v":""},{"$f":"'Result Entry'!CX39","v":500},{"$f":"'Result Entry'!CY39","v":0},{"$f":"'Result Entry'!CZ39","v":{"v":0,"d":"0.00"}},{"$f":"'Result Entry'!DA39","v":""},{"$f":"'Result Entry'!DB39","v":""},{"$f":"'Result Entry'!DC39","v":""},{"$f":"'Result Entry'!DD39","v":""}]
[null,0,{"$f":"'Result Entry'!D40","v":0},{"$f":"'Result Entry'!E40","v":0},{"$f":"'Result Entry'!F40","v":0},{"$f":"'Result Entry'!G40","v":0},{"$f":"'Result Entry'!H40","v":0},{"$f":"'Result Entry'!I40","v":0},{"$f":"'Result Entry'!J40","v":"00:00:00"},{"$f":"'Result Entry'!K40","v":0},{"$f":"'Result Entry'!L40","v":0},{"$f":"'Result Entry'!M40","v":0},{"$f":"'Result Entry'!N40","v":0},{"$f":"'Result Entry'!O40","v":0},{"$f":"'Result Entry'!P40","v":0},{"$f":"'Result Entry'!Q40","v":0},{"$f":"'Result Entry'!R40","v":0},{"$f":"'Result Entry'!S40","v":0},{"$f":"'Result Entry'!T40","v":0},{"$f":"'Result Entry'!U40","v":0},{"$f":"'Result Entry'!V40","v":0},{"$f":"'Result Entry'!W40","v":0},{"$f":"'Result Entry'!X40","v":""},{"$f":"'Result Entry'!Y40","v":0},{"$f":"'Result Entry'!Z40","v":0},{"$f":"'Result Entry'!AA40","v":0},{"$f":"'Result Entry'!AB40","v":0},{"$f":"'Result Entry'!AC40","v":0},{"$f":"'Result Entry'!AD40","v":0},{"$f":"'Result Entry'!AE40","v":0},{"$f":"'Result Entry'!AF40","v":0},{"$f":"'Result Entry'!AG40","v":0},{"$f":"'Result Entry'!AH40","v":0},{"$f":"'Result Entry'!AI40","v":0},{"$f":"'Result Entry'!AJ40","v":0},{"$f":"'Result Entry'!AK40","v":0},{"$f":"'Result Entry'!AL40","v":""},{"$f":"'Result Entry'!AM40","v":0},{"$f":"'Result Entry'!AN40","v":0},{"$f":"'Result Entry'!AO40","v":0},{"$f":"'Result Entry'!AP40","v":0},{"$f":"'Result Entry'!AQ40","v":0},{"$f":"'Result Entry'!AR40","v":0},{"$f":"'Result Entry'!AS40","v":0},{"$f":"'Result Entry'!AT40","v":0},{"$f":"'Result Entry'!AU40","v":0},{"$f":"'Result Entry'!AV40","v":0},{"$f":"'Result Entry'!AW40","v":0},{"$f":"'Result Entry'!AX40","v":0},{"$f":"'Result Entry'!AY40","v":0},{"$f":"'Result Entry'!AZ40","v":""},{"$f":"'Result Entry'!BA40","v":0},{"$f":"'Result Entry'!BB40","v":0},{"$f":"'Result Entry'!BC40","v":0},{"$f":"'Result Entry'!BD40","v":0},{"$f":"'Result Entry'!BE40","v":0},{"$f":"'Result Entry'!BF40","v":0},{"$f":"'Result Entry'!BG40","v":0},{"$f":"'Result Entry'!BH40","v":0},{"$f":"'Result Entry'!BI40","v":0},{"$f":"'Result Entry'!BJ40","v":0},{"$f":"'Result Entry'!BK40","v":0},{"$f":"'Result Entry'!BL40","v":0},{"$f":"'Result Entry'!BM40","v":""},{"$f":"'Result Entry'!BN40","v":""},{"$f":"'Result Entry'!BO40","v":0},{"$f":"'Result Entry'!BP40","v":0},{"$f":"'Result Entry'!BQ40","v":0},{"$f":"'Result Entry'!BR40","v":0},{"$f":"'Result Entry'!BS40","v":0},{"$f":"'Result Entry'!BT40","v":0},{"$f":"'Result Entry'!BU40","v":0},{"$f":"'Result Entry'!BV40","v":""},{"$f":"'Result Entry'!BW40","v":0},{"$f":"'Result Entry'!BX40","v":0},{"$f":"'Result Entry'!BY40","v":0},{"$f":"'Result Entry'!BZ40","v":0},{"$f":"'Result Entry'!CA40","v":0},{"$f":"'Result Entry'!CB40","v":0},{"$f":"'Result Entry'!CC40","v":0},{"$f":"'Result Entry'!CD40","v":""},{"$f":"'Result Entry'!CE40","v":0},{"$f":"'Result Entry'!CF40","v":0},{"$f":"'Result Entry'!CG40","v":0},{"$f":"'Result Entry'!CH40","v":0},{"$f":"'Result Entry'!CI40","v":0},{"$f":"'Result Entry'!CJ40","v":0},{"$f":"'Result Entry'!CK40","v":0},{"$f":"'Result Entry'!CL40","v":""},{"$f":"'Result Entry'!CM40","v":0},{"$f":"'Result Entry'!CN40","v":0},{"$f":"'Result Entry'!CO40","v":0},{"$f":"'Result Entry'!CP40","v":0},{"$f":"'Result Entry'!CQ40","v":0},{"$f":"'Result Entry'!CR40","v":0},{"$f":"'Result Entry'!CS40","v":0},{"$f":"'Result Entry'!CT40","v":""},{"$f":"'Result Entry'!CU40","v":0},{"$f":"'Result Entry'!CV40","v":0},{"$f":"'Result Entry'!CW40","v":""},{"$f":"'Result Entry'!CX40","v":500},{"$f":"'Result Entry'!CY40","v":0},{"$f":"'Result Entry'!CZ40","v":{"v":0,"d":"0.00"}},{"$f":"'Result Entry'!DA40","v":""},{"$f":"'Result Entry'!DB40","v":""},{"$f":"'Result Entry'!DC40","v":""},{"$f":"'Result Entry'!DD40","v":""}]
[null,0,{"$f":"'Result Entry'!D41","v":0},{"$f":"'Result Entry'!E41","v":0},{"$f":"'Result Entry'!F41","v":0},{"$f":"'Result Entry'!G41","v":0},{"$f":"'Result Entry'!H41","v":0},{"$f":"'Result Entry'!I41","v":0},{"$f":"'Result Entry'!J41","v":"00:00:00"},{"$f":"'Result Entry'!K41","v":0},{"$f":"'Result Entry'!L41","v":0},{"$f":"'Result Entry'!M41","v":0},{"$f":"'Result Entry'!N41","v":0},{"$f":"'Result Entry'!O41","v":0},{"$f":"'Result Entry'!P41","v":0},{"$f":"'Result Entry'!Q41","v":0},{"$f":"'Result Entry'!R41","v":0},{"$f":"'Result Entry'!S41","v":0},{"$f":"'Result Entry'!T41","v":0},{"$f":"'Result Entry'!U41","v":0},{"$f":"'Result Entry'!V41","v":0},{"$f":"'Result Entry'!W41","v":0},{"$f":"'Result Entry'!X41","v":""},{"$f":"'Result Entry'!Y41","v":0},{"$f":"'Result Entry'!Z41","v":0},{"$f":"'Result Entry'!AA41","v":0},{"$f":"'Result Entry'!AB41","v":0},{"$f":"'Result Entry'!AC41","v":0},{"$f":"'Result Entry'!AD41","v":0},{"$f":"'Result Entry'!AE41","v":0},{"$f":"'Result Entry'!AF41","v":0},{"$f":"'Result Entry'!AG41","v":0},{"$f":"'Result Entry'!AH41","v":0},{"$f":"'Result Entry'!AI41","v":0},{"$f":"'Result Entry'!AJ41","v":0},{"$f":"'Result Entry'!AK41","v":0},{"$f":"'Result Entry'!AL41","v":""},{"$f":"'Result Entry'!AM41","v":0},{"$f":"'Result Entry'!AN41","v":0},{"$f":"'Result Entry'!AO41","v":0},{"$f":"'Result Entry'!AP41","v":0},{"$f":"'Result Entry'!AQ41","v":0},{"$f":"'Result Entry'!AR41","v":0},{"$f":"'Result Entry'!AS41","v":0},{"$f":"'Result Entry'!AT41","v":0},{"$f":"'Result Entry'!AU41","v":0},{"$f":"'Result Entry'!AV41","v":0},{"$f":"'Result Entry'!AW41","v":0},{"$f":"'Result Entry'!AX41","v":0},{"$f":"'Result Entry'!AY41","v":0},{"$f":"'Result Entry'!AZ41","v":""},{"$f":"'Result Entry'!BA41","v":0},{"$f":"'Result Entry'!BB41","v":0},{"$f":"'Result Entry'!BC41","v":0},{"$f":"'Result Entry'!BD41","v":0},{"$f":"'Result Entry'!BE41","v":0},{"$f":"'Result Entry'!BF41","v":0},{"$f":"'Result Entry'!BG41","v":0},{"$f":"'Result Entry'!BH41","v":0},{"$f":"'Result Entry'!BI41","v":0},{"$f":"'Result Entry'!BJ41","v":0},{"$f":"'Result Entry'!BK41","v":0},{"$f":"'Result Entry'!BL41","v":0},{"$f":"'Result Entry'!BM41","v":""},{"$f":"'Result Entry'!BN41","v":""},{"$f":"'Result Entry'!BO41","v":0},{"$f":"'Result Entry'!BP41","v":0},{"$f":"'Result Entry'!BQ41","v":0},{"$f":"'Result Entry'!BR41","v":0},{"$f":"'Result Entry'!BS41","v":0},{"$f":"'Result Entry'!BT41","v":0},{"$f":"'Result Entry'!BU41","v":0},{"$f":"'Result Entry'!BV41","v":""},{"$f":"'Result Entry'!BW41","v":0},{"$f":"'Result Entry'!BX41","v":0},{"$f":"'Result Entry'!BY41","v":0},{"$f":"'Result Entry'!BZ41","v":0},{"$f":"'Result Entry'!CA41","v":0},{"$f":"'Result Entry'!CB41","v":0},{"$f":"'Result Entry'!CC41","v":0},{"$f":"'Result Entry'!CD41","v":""},{"$f":"'Result Entry'!CE41","v":0},{"$f":"'Result Entry'!CF41","v":0},{"$f":"'Result Entry'!CG41","v":0},{"$f":"'Result Entry'!CH41","v":0},{"$f":"'Result Entry'!CI41","v":0},{"$f":"'Result Entry'!CJ41","v":0},{"$f":"'Result Entry'!CK41","v":0},{"$f":"'Result Entry'!CL41","v":""},{"$f":"'Result Entry'!CM41","v":0},{"$f":"'Result Entry'!CN41","v":0},{"$f":"'Result Entry'!CO41","v":0},{"$f":"'Result Entry'!CP41","v":0},{"$f":"'Result Entry'!CQ41","v":0},{"$f":"'Result Entry'!CR41","v":0},{"$f":"'Result Entry'!CS41","v":0},{"$f":"'Result Entry'!CT41","v":""},{"$f":"'Result Entry'!CU41","v":0},{"$f":"'Result Entry'!CV41","v":0},{"$f":"'Result Entry'!CW41","v":""},{"$f":"'Result Entry'!CX41","v":500},{"$f":"'Result Entry'!CY41","v":0},{"$f":"'Result Entry'!CZ41","v":{"v":0,"d":"0.00"}},{"$f":"'Result Entry'!DA41","v":""},{"$f":"'Result Entry'!DB41","v":""},{"$f":"'Result Entry'!DC41","v":""},{"$f":"'Result Entry'!DD41","v":""}]
[null,0,{"$f":"'Result Entry'!D42","v":0},{"$f":"'Result Entry'!E42","v":0},{"$f":"'Result Entry'!F42","v":0},{"$f":"'Result Entry'!G42","v":0},{"$f":"'Result Entry'!H42","v":0},{"$f":"'Result Entry'!I42","v":0},{"$f":"'Result Entry'!J42","v":"00:00:00"},{"$f":"'Result Entry'!K42","v":0},{"$f":"'Result Entry'!L42","v":0},{"$f":"'Result Entry'!M42","v":0},{"$f":"'Result Entry'!N42","v":0},{"$f":"'Result Entry'!O42","v":0},{"$f":"'Result Entry'!P42","v":0},{"$f":"'Result Entry'!Q42","v":0},{"$f":"'Result Entry'!R42","v":0},{"$f":"'Result Entry'!S42","v":0},{"$f":"'Result Entry'!T42","v":0},{"$f":"'Result Entry'!U42","v":0},{"$f":"'Result Entry'!V42","v":0},{"$f":"'Result Entry'!W42","v":0},{"$f":"'Result Entry'!X42","v":""},{"$f":"'Result Entry'!Y42","v":0},{"$f":"'Result Entry'!Z42","v":0},{"$f":"'Result Entry'!AA42","v":0},{"$f":"'Result Entry'!AB42","v":0},{"$f":"'Result Entry'!AC42","v":0},{"$f":"'Result Entry'!AD42","v":0},{"$f":"'Result Entry'!AE42","v":0},{"$f":"'Result Entry'!AF42","v":0},{"$f":"'Result Entry'!AG42","v":0},{"$f":"'Result Entry'!AH42","v":0},{"$f":"'Result Entry'!AI42","v":0},{"$f":"'Result Entry'!AJ42","v":0},{"$f":"'Result Entry'!AK42","v":0},{"$f":"'Result Entry'!AL42","v":""},{"$f":"'Result Entry'!AM42","v":0},{"$f":"'Result Entry'!AN42","v":0},{"$f":"'Result Entry'!AO42","v":0},{"$f":"'Result Entry'!AP42","v":0},{"$f":"'Result Entry'!AQ42","v":0},{"$f":"'Result Entry'!AR42","v":0},{"$f":"'Result Entry'!AS42","v":0},{"$f":"'Result Entry'!AT42","v":0},{"$f":"'Result Entry'!AU42","v":0},{"$f":"'Result Entry'!AV42","v":0},{"$f":"'Result Entry'!AW42","v":0},{"$f":"'Result Entry'!AX42","v":0},{"$f":"'Result Entry'!AY42","v":0},{"$f":"'Result Entry'!AZ42","v":""},{"$f":"'Result Entry'!BA42","v":0},{"$f":"'Result Entry'!BB42","v":0},{"$f":"'Result Entry'!BC42","v":0},{"$f":"'Result Entry'!BD42","v":0},{"$f":"'Result Entry'!BE42","v":0},{"$f":"'Result Entry'!BF42","v":0},{"$f":"'Result Entry'!BG42","v":0},{"$f":"'Result Entry'!BH42","v":0},{"$f":"'Result Entry'!BI42","v":0},{"$f":"'Result Entry'!BJ42","v":0},{"$f":"'Result Entry'!BK42","v":0},{"$f":"'Result Entry'!BL42","v":0},{"$f":"'Result Entry'!BM42","v":""},{"$f":"'Result Entry'!BN42","v":""},{"$f":"'Result Entry'!BO42","v":0},{"$f":"'Result Entry'!BP42","v":0},{"$f":"'Result Entry'!BQ42","v":0},{"$f":"'Result Entry'!BR42","v":0},{"$f":"'Result Entry'!BS42","v":0},{"$f":"'Result Entry'!BT42","v":0},{"$f":"'Result Entry'!BU42","v":0},{"$f":"'Result Entry'!BV42","v":""},{"$f":"'Result Entry'!BW42","v":0},{"$f":"'Result Entry'!BX42","v":0},{"$f":"'Result Entry'!BY42","v":0},{"$f":"'Result Entry'!BZ42","v":0},{"$f":"'Result Entry'!CA42","v":0},{"$f":"'Result Entry'!CB42","v":0},{"$f":"'Result Entry'!CC42","v":0},{"$f":"'Result Entry'!CD42","v":""},{"$f":"'Result Entry'!CE42","v":0},{"$f":"'Result Entry'!CF42","v":0},{"$f":"'Result Entry'!CG42","v":0},{"$f":"'Result Entry'!CH42","v":0},{"$f":"'Result Entry'!CI42","v":0},{"$f":"'Result Entry'!CJ42","v":0},{"$f":"'Result Entry'!CK42","v":0},{"$f":"'Result Entry'!CL42","v":""},{"$f":"'Result Entry'!CM42","v":0},{"$f":"'Result Entry'!CN42","v":0},{"$f":"'Result Entry'!CO42","v":0},{"$f":"'Result Entry'!CP42","v":0},{"$f":"'Result Entry'!CQ42","v":0},{"$f":"'Result Entry'!CR42","v":0},{"$f":"'Result Entry'!CS42","v":0},{"$f":"'Result Entry'!CT42","v":""},{"$f":"'Result Entry'!CU42","v":0},{"$f":"'Result Entry'!CV42","v":0},{"$f":"'Result Entry'!CW42","v":""},{"$f":"'Result Entry'!CX42","v":500},{"$f":"'Result Entry'!CY42","v":0},{"$f":"'Result Entry'!CZ42","v":{"v":0,"d":"0.00"}},{"$f":"'Result Entry'!DA42","v":""},{"$f":"'Result Entry'!DB42","v":""},{"$f":"'Result Entry'!DC42","v":""},{"$f":"'Result Entry'!DD42","v":""}]
[null,0,{"$f":"'Result Entry'!D43","v":0},{"$f":"'Result Entry'!E43","v":0},{"$f":"'Result Entry'!F43","v":0},{"$f":"'Result Entry'!G43","v":0},{"$f":"'Result Entry'!H43","v":0},{"$f":"'Result Entry'!I43","v":0},{"$f":"'Result Entry'!J43","v":"00:00:00"},{"$f":"'Result Entry'!K43","v":0},{"$f":"'Result Entry'!L43","v":0},{"$f":"'Result Entry'!M43","v":0},{"$f":"'Result Entry'!N43","v":0},{"$f":"'Result Entry'!O43","v":0},{"$f":"'Result Entry'!P43","v":0},{"$f":"'Result Entry'!Q43","v":0},{"$f":"'Result Entry'!R43","v":0},{"$f":"'Result Entry'!S43","v":0},{"$f":"'Result Entry'!T43","v":0},{"$f":"'Result Entry'!U43","v":0},{"$f":"'Result Entry'!V43","v":0},{"$f":"'Result Entry'!W43","v":0},{"$f":"'Result Entry'!X43","v":""},{"$f":"'Result Entry'!Y43","v":0},{"$f":"'Result Entry'!Z43","v":0},{"$f":"'Result Entry'!AA43","v":0},{"$f":"'Result Entry'!AB43","v":0},{"$f":"'Result Entry'!AC43","v":0},{"$f":"'Result Entry'!AD43","v":0},{"$f":"'Result Entry'!AE43","v":0},{"$f":"'Result Entry'!AF43","v":0},{"$f":"'Result Entry'!AG43","v":0},{"$f":"'Result Entry'!AH43","v":0},{"$f":"'Result Entry'!AI43","v":0},{"$f":"'Result Entry'!AJ43","v":0},{"$f":"'Result Entry'!AK43","v":0},{"$f":"'Result Entry'!AL43","v":""},{"$f":"'Result Entry'!AM43","v":0},{"$f":"'Result Entry'!AN43","v":0},{"$f":"'Result Entry'!AO43","v":0},{"$f":"'Result Entry'!AP43","v":0},{"$f":"'Result Entry'!AQ43","v":0},{"$f":"'Result Entry'!AR43","v":0},{"$f":"'Result Entry'!AS43","v":0},{"$f":"'Result Entry'!AT43","v":0},{"$f":"'Result Entry'!AU43","v":0},{"$f":"'Result Entry'!AV43","v":0},{"$f":"'Result Entry'!AW43","v":0},{"$f":"'Result Entry'!AX43","v":0},{"$f":"'Result Entry'!AY43","v":0},{"$f":"'Result Entry'!AZ43","v":""},{"$f":"'Result Entry'!BA43","v":0},{"$f":"'Result Entry'!BB43","v":0},{"$f":"'Result Entry'!BC43","v":0},{"$f":"'Result Entry'!BD43","v":0},{"$f":"'Result Entry'!BE43","v":0},{"$f":"'Result Entry'!BF43","v":0},{"$f":"'Result Entry'!BG43","v":0},{"$f":"'Result Entry'!BH43","v":0},{"$f":"'Result Entry'!BI43","v":0},{"$f":"'Result Entry'!BJ43","v":0},{"$f":"'Result Entry'!BK43","v":0},{"$f":"'Result Entry'!BL43","v":0},{"$f":"'Result Entry'!BM43","v":""},{"$f":"'Result Entry'!BN43","v":""},{"$f":"'Result Entry'!BO43","v":0},{"$f":"'Result Entry'!BP43","v":0},{"$f":"'Result Entry'!BQ43","v":0},{"$f":"'Result Entry'!BR43","v":0},{"$f":"'Result Entry'!BS43","v":0},{"$f":"'Result Entry'!BT43","v":0},{"$f":"'Result Entry'!BU43","v":0},{"$f":"'Result Entry'!BV43","v":""},{"$f":"'Result Entry'!BW43","v":0},{"$f":"'Result Entry'!BX43","v":0},{"$f":"'Result Entry'!BY43","v":0},{"$f":"'Result Entry'!BZ43","v":0},{"$f":"'Result Entry'!CA43","v":0},{"$f":"'Result Entry'!CB43","v":0},{"$f":"'Result Entry'!CC43","v":0},{"$f":"'Result Entry'!CD43","v":""},{"$f":"'Result Entry'!CE43","v":0},{"$f":"'Result Entry'!CF43","v":0},{"$f":"'Result Entry'!CG43","v":0},{"$f":"'Result Entry'!CH43","v":0},{"$f":"'Result Entry'!CI43","v":0},{"$f":"'Result Entry'!CJ43","v":0},{"$f":"'Result Entry'!CK43","v":0},{"$f":"'Result Entry'!CL43","v":""},{"$f":"'Result Entry'!CM43","v":0},{"$f":"'Result Entry'!CN43","v":0},{"$f":"'Result Entry'!CO43","v":0},{"$f":"'Result Entry'!CP43","v":0},{"$f":"'Result Entry'!CQ43","v":0},{"$f":"'Result Entry'!CR43","v":0},{"$f":"'Result Entry'!CS43","v":0},{"$f":"'Result Entry'!CT43","v":""},{"$f":"'Result Entry'!CU43","v":0},{"$f":"'Result Entry'!CV43","v":0},{"$f":"'Result Entry'!CW43","v":""},{"$f":"'Result Entry'!CX43","v":500},{"$f":"'Result Entry'!CY43","v":0},{"$f":"'Result Entry'!CZ43","v":{"v":0,"d":"0.00"}},{"$f":"'Result Entry'!DA43","v":""},{"$f":"'Result Entry'!DB43","v":""},{"$f":"'Result Entry'!DC43","v":""},{"$f":"'Result Entry'!DD43","v":""}]
[null,0,{"$f":"'Result Entry'!D44","v":0},{"$f":"'Result Entry'!E44","v":0},{"$f":"'Result Entry'!F44","v":0},{"$f":"'Result Entry'!G44","v":0},{"$f":"'Result Entry'!H44","v":0},{"$f":"'Result Entry'!I44","v":0},{"$f":"'Result Entry'!J44","v":"00:00:00"},{"$f":"'Result Entry'!K44","v":0},{"$f":"'Result Entry'!L44","v":0},{"$f":"'Result Entry'!M44","v":0},{"$f":"'Result Entry'!N44","v":0},{"$f":"'Result Entry'!O44","v":0},{"$f":"'Result Entry'!P44","v":0},{"$f":"'Result Entry'!Q44","v":0},{"$f":"'Result Entry'!R44","v":0},{"$f":"'Result Entry'!S44","v":0},{"$f":"'Result Entry'!T44","v":0},{"$f":"'Result Entry'!U44","v":0},{"$f":"'Result Entry'!V44","v":0},{"$f":"'Result Entry'!W44","v":0},{"$f":"'Result Entry'!X44","v":""},{"$f":"'Result Entry'!Y44","v":0},{"$f":"'Result Entry'!Z44","v":0},{"$f":"'Result Entry'!AA44","v":0},{"$f":"'Result Entry'!AB44","v":0},{"$f":"'Result Entry'!AC44","v":0},{"$f":"'Result Entry'!AD44","v":0},{"$f":"'Result Entry'!AE44","v":0},{"$f":"'Result Entry'!AF44","v":0},{"$f":"'Result Entry'!AG44","v":0},{"$f":"'Result Entry'!AH44","v":0},{"$f":"'Result Entry'!AI44","v":0},{"$f":"'Result Entry'!AJ44","v":0},{"$f":"'Result Entry'!AK44","v":0},{"$f":"'Result Entry'!AL44","v":""},{"$f":"'Result Entry'!AM44","v":0},{"$f":"'Result Entry'!AN44","v":0},{"$f":"'Result Entry'!AO44","v":0},{"$f":"'Result Entry'!AP44","v":0},{"$f":"'Result Entry'!AQ44","v":0},{"$f":"'Result Entry'!AR44","v":0},{"$f":"'Result Entry'!AS44","v":0},{"$f":"'Result Entry'!AT44","v":0},{"$f":"'Result Entry'!AU44","v":0},{"$f":"'Result Entry'!AV44","v":0},{"$f":"'Result Entry'!AW44","v":0},{"$f":"'Result Entry'!AX44","v":0},{"$f":"'Result Entry'!AY44","v":0},{"$f":"'Result Entry'!AZ44","v":""},{"$f":"'Result Entry'!BA44","v":0},{"$f":"'Result Entry'!BB44","v":0},{"$f":"'Result Entry'!BC44","v":0},{"$f":"'Result Entry'!BD44","v":0},{"$f":"'Result Entry'!BE44","v":0},{"$f":"'Result Entry'!BF44","v":0},{"$f":"'Result Entry'!BG44","v":0},{"$f":"'Result Entry'!BH44","v":0},{"$f":"'Result Entry'!BI44","v":0},{"$f":"'Result Entry'!BJ44","v":0},{"$f":"'Result Entry'!BK44","v":0},{"$f":"'Result Entry'!BL44","v":0},{"$f":"'Result Entry'!BM44","v":""},{"$f":"'Result Entry'!BN44","v":""},{"$f":"'Result Entry'!BO44","v":0},{"$f":"'Result Entry'!BP44","v":0},{"$f":"'Result Entry'!BQ44","v":0},{"$f":"'Result Entry'!BR44","v":0},{"$f":"'Result Entry'!BS44","v":0},{"$f":"'Result Entry'!BT44","v":0},{"$f":"'Result Entry'!BU44","v":0},{"$f":"'Result Entry'!BV44","v":""},{"$f":"'Result Entry'!BW44","v":0},{"$f":"'Result Entry'!BX44","v":0},{"$f":"'Result Entry'!BY44","v":0},{"$f":"'Result Entry'!BZ44","v":0},{"$f":"'Result Entry'!CA44","v":0},{"$f":"'Result Entry'!CB44","v":0},{"$f":"'Result Entry'!CC44","v":0},{"$f":"'Result Entry'!CD44","v":""},{"$f":"'Result Entry'!CE44","v":0},{"$f":"'Result Entry'!CF44","v":0},{"$f":"'Result Entry'!CG44","v":0},{"$f":"'Result Entry'!CH44","v":0},{"$f":"'Result Entry'!CI44","v":0},{"$f":"'Result Entry'!CJ44","v":0},{"$f":"'Result Entry'!CK44","v":0},{"$f":"'Result Entry'!CL44","v":""},{"$f":"'Result Entry'!CM44","v":0},{"$f":"'Result Entry'!CN44","v":0},{"$f":"'Result Entry'!CO44","v":0},{"$f":"'Result Entry'!CP44","v":0},{"$f":"'Result Entry'!CQ44","v":0},{"$f":"'Result Entry'!CR44","v":0},{"$f":"'Result Entry'!CS44","v":0},{"$f":"'Result Entry'!CT44","v":""},{"$f":"'Result Entry'!CU44","v":0},{"$f":"'Result Entry'!CV44","v":0},{"$f":"'Result Entry'!CW44","v":""},{"$f":"'Result Entry'!CX44","v":500},{"$f":"'Result Entry'!CY44","v":0},{"$f":"'Result Entry'!CZ44","v":{"v":0,"d":"0.00"}},{"$f":"'Result Entry'!DA44","v":""},{"$f":"'Result Entry'!DB44","v":""},{"$f":"'Result Entry'!DC44","v":""},{"$f":"'Result Entry'!DD44","v":""}]
[null,0,{"$f":"'Result Entry'!D45","v":0},{"$f":"'Result Entry'!E45","v":0},{"$f":"'Result Entry'!F45","v":0},{"$f":"'Result Entry'!G45","v":0},{"$f":"'Result Entry'!H45","v":0},{"$f":"'Result Entry'!I45","v":0},{"$f":"'Result Entry'!J45","v":"00:00:00"},{"$f":"'Result Entry'!K45","v":0},{"$f":"'Result Entry'!L45","v":0},{"$f":"'Result Entry'!M45","v":0},{"$f":"'Result Entry'!N45","v":0},{"$f":"'Result Entry'!O45","v":0},{"$f":"'Result Entry'!P45","v":0},{"$f":"'Result Entry'!Q45","v":0},{"$f":"'Result Entry'!R45","v":0},{"$f":"'Result Entry'!S45","v":0},{"$f":"'Result Entry'!T45","v":0},{"$f":"'Result Entry'!U45","v":0},{"$f":"'Result Entry'!V45","v":0},{"$f":"'Result Entry'!W45","v":0},{"$f":"'Result Entry'!X45","v":""},{"$f":"'Result Entry'!Y45","v":0},{"$f":"'Result Entry'!Z45","v":0},{"$f":"'Result Entry'!AA45","v":0},{"$f":"'Result Entry'!AB45","v":0},{"$f":"'Result Entry'!AC45","v":0},{"$f":"'Result Entry'!AD45","v":0},{"$f":"'Result Entry'!AE45","v":0},{"$f":"'Result Entry'!AF45","v":0},{"$f":"'Result Entry'!AG45","v":0},{"$f":"'Result Entry'!AH45","v":0},{"$f":"'Result Entry'!AI45","v":0},{"$f":"'Result Entry'!AJ45","v":0},{"$f":"'Result Entry'!AK45","v":0},{"$f":"'Result Entry'!AL45","v":""},{"$f":"'Result Entry'!AM45","v":0},{"$f":"'Result Entry'!AN45","v":0},{"$f":"'Result Entry'!AO45","v":0},{"$f":"'Result Entry'!AP45","v":0},{"$f":"'Result Entry'!AQ45","v":0},{"$f":"'Result Entry'!AR45","v":0},{"$f":"'Result Entry'!AS45","v":0},{"$f":"'Result Entry'!AT45","v":0},{"$f":"'Result Entry'!AU45","v":0},{"$f":"'Result Entry'!AV45","v":0},{"$f":"'Result Entry'!AW45","v":0},{"$f":"'Result Entry'!AX45","v":0},{"$f":"'Result Entry'!AY45","v":0},{"$f":"'Result Entry'!AZ45","v":""},{"$f":"'Result Entry'!BA45","v":0},{"$f":"'Result Entry'!BB45","v":0},{"$f":"'Result Entry'!BC45","v":0},{"$f":"'Result Entry'!BD45","v":0},{"$f":"'Result Entry'!BE45","v":0},{"$f":"'Result Entry'!BF45","v":0},{"$f":"'Result Entry'!BG45","v":0},{"$f":"'Result Entry'!BH45","v":0},{"$f":"'Result Entry'!BI45","v":0},{"$f":"'Result Entry'!BJ45","v":0},{"$f":"'Result Entry'!BK45","v":0},{"$f":"'Result Entry'!BL45","v":0},{"$f":"'Result Entry'!BM45","v":""},{"$f":"'Result Entry'!BN45","v":""},{"$f":"'Result Entry'!BO45","v":0},{"$f":"'Result Entry'!BP45","v":0},{"$f":"'Result Entry'!BQ45","v":0},{"$f":"'Result Entry'!BR45","v":0},{"$f":"'Result Entry'!BS45","v":0},{"$f":"'Result Entry'!BT45","v":0},{"$f":"'Result Entry'!BU45","v":0},{"$f":"'Result Entry'!BV45","v":""},{"$f":"'Result Entry'!BW45","v":0},{"$f":"'Result Entry'!BX45","v":0},{"$f":"'Result Entry'!BY45","v":0},{"$f":"'Result Entry'!BZ45","v":0},{"$f":"'Result Entry'!CA45","v":0},{"$f":"'Result Entry'!CB45","v":0},{"$f":"'Result Entry'!CC45","v":0},{"$f":"'Result Entry'!CD45","v":""},{"$f":"'Result Entry'!CE45","v":0},{"$f":"'Result Entry'!CF45","v":0},{"$f":"'Result Entry'!CG45","v":0},{"$f":"'Result Entry'!CH45","v":0},{"$f":"'Result Entry'!CI45","v":0},{"$f":"'Result Entry'!CJ45","v":0},{"$f":"'Result Entry'!CK45","v":0},{"$f":"'Result Entry'!CL45","v":""},{"$f":"'Result Entry'!CM45","v":0},{"$f":"'Result Entry'!CN45","v":0},{"$f":"'Result Entry'!CO45","v":0},{"$f":"'Result Entry'!CP45","v":0},{"$f":"'Result Entry'!CQ45","v":0},{"$f":"'Result Entry'!CR45","v":0},{"$f":"'Result Entry'!CS45","v":0},{"$f":"'Result Entry'!CT45","v":""},{"$f":"'Result Entry'!CU45","v":0},{"$f":"'Result Entry'!CV45","v":0},{"$f":"'Result Entry'!CW45","v":""},{"$f":"'Result Entry'!CX45","v":500},{"$f":"'Result Entry'!CY45","v":0},{"$f":"'Result Entry'!CZ45","v":{"v":0,"d":"0.00"}},{"$f":"'Result Entry'!DA45","v":""},{"$f":"'Result Entry'!DB45","v":""},{"$f":"'Result Entry'!DC45","v":""},{"$f":"'Result Entry'!DD45","v":""}]
[null,0,{"$f":"'Result Entry'!D46","v":0},{"$f":"'Result Entry'!E46","v":0},{"$f":"'Result Entry'!F46","v":0},{"$f":"'Result Entry'!G46","v":0},{"$f":"'Result Entry'!H46","v":0},{"$f":"'Result Entry'!I46","v":0},{"$f":"'Result Entry'!J46","v":"00:00:00"},{"$f":"'Result Entry'!K46","v":0},{"$f":"'Result Entry'!L46","v":0},{"$f":"'Result Entry'!M46","v":0},{"$f":"'Result Entry'!N46","v":0},{"$f":"'Result Entry'!O46","v":0},{"$f":"'Result Entry'!P46","v":0},{"$f":"'Result Entry'!Q46","v":0},{"$f":"'Result Entry'!R46","v":0},{"$f":"'Result Entry'!S46","v":0},{"$f":"'Result Entry'!T46","v":0},{"$f":"'Result Entry'!U46","v":0},{"$f":"'Result Entry'!V46","v":0},{"$f":"'Result Entry'!W46","v":0},{"$f":"'Result Entry'!X46","v":""},{"$f":"'Result Entry'!Y46","v":0},{"$f":"'Result Entry'!Z46","v":0},{"$f":"'Result Entry'!AA46","v":0},{"$f":"'Result Entry'!AB46","v":0},{"$f":"'Result Entry'!AC46","v":0},{"$f":"'Result Entry'!AD46","v":0},{"$f":"'Result Entry'!AE46","v":0},{"$f":"'Result Entry'!AF46","v":0},{"$f":"'Result Entry'!AG46","v":0},{"$f":"'Result Entry'!AH46","v":0},{"$f":"'Result Entry'!AI46","v":0},{"$f":"'Result Entry'!AJ46","v":0},{"$f":"'Result Entry'!AK46","v":0},{"$f":"'Result Entry'!AL46","v":""},{"$f":"'Result Entry'!AM46","v":0},{"$f":"'Result Entry'!AN46","v":0},{"$f":"'Result Entry'!AO46","v":0},{"$f":"'Result Entry'!AP46","v":0},{"$f":"'Result Entry'!AQ46","v":0},{"$f":"'Result Entry'!AR46","v":0},{"$f":"'Result Entry'!AS46","v":0},{"$f":"'Result Entry'!AT46","v":0},{"$f":"'Result Entry'!AU46","v":0},{"$f":"'Result Entry'!AV46","v":0},{"$f":"'Result Entry'!AW46","v":0},{"$f":"'Result Entry'!AX46","v":0},{"$f":"'Result Entry'!AY46","v":0},{"$f":"'Result Entry'!AZ46","v":""},{"$f":"'Result Entry'!BA46","v":0},{"$f":"'Result Entry'!BB46","v":0},{"$f":"'Result Entry'!BC46","v":0},{"$f":"'Result Entry'!BD46","v":0},{"$f":"'Result Entry'!BE46","v":0},{"$f":"'Result Entry'!BF46","v":0},{"$f":"'Result Entry'!BG46","v":0},{"$f":"'Result Entry'!BH46","v":0},{"$f":"'Result Entry'!BI46","v":0},{"$f":"'Result Entry'!BJ46","v":0},{"$f":"'Result Entry'!BK46","v":0},{"$f":"'Result Entry'!BL46","v":0},{"$f":"'Result Entry'!BM46","v":""},{"$f":"'Result Entry'!BN46","v":""},{"$f":"'Result Entry'!BO46","v":0},{"$f":"'Result Entry'!BP46","v":0},{"$f":"'Result Entry'!BQ46","v":0},{"$f":"'Result Entry'!BR46","v":0},{"$f":"'Result Entry'!BS46","v":0},{"$f":"'Result Entry'!BT46","v":0},{"$f":"'Result Entry'!BU46","v":0},{"$f":"'Result Entry'!BV46","v":""},{"$f":"'Result Entry'!BW46","v":0},{"$f":"'Result Entry'!BX46","v":0},{"$f":"'Result Entry'!BY46","v":0},{"$f":"'Result Entry'!BZ46","v":0},{"$f":"'Result Entry'!CA46","v":0},{"$f":"'Result Entry'!CB46","v":0},{"$f":"'Result Entry'!CC46","v":0},{"$f":"'Result Entry'!CD46","v":""},{"$f":"'Result Entry'!CE46","v":0},{"$f":"'Result Entry'!CF46","v":0},{"$f":"'Result Entry'!CG46","v":0},{"$f":"'Result Entry'!CH46","v":0},{"$f":"'Result Entry'!CI46","v":0},{"$f":"'Result Entry'!CJ46","v":0},{"$f":"'Result Entry'!CK46","v":0},{"$f":"'Result Entry'!CL46","v":""},{"$f":"'Result Entry'!CM46","v":0},{"$f":"'Result Entry'!CN46","v":0},{"$f":"'Result Entry'!CO46","v":0},{"$f":"'Result Entry'!CP46","v":0},{"$f":"'Result Entry'!CQ46","v":0},{"$f":"'Result Entry'!CR46","v":0},{"$f":"'Result Entry'!CS46","v":0},{"$f":"'Result Entry'!CT46","v":""},{"$f":"'Result Entry'!CU46","v":0},{"$f":"'Result Entry'!CV46","v":0},{"$f":"'Result Entry'!CW46","v":""},{"$f":"'Result Entry'!CX46","v":500},{"$f":"'Result Entry'!CY46","v":0},{"$f":"'Result Entry'!CZ46","v":{"v":0,"d":"0.00"}},{"$f":"'Result Entry'!DA46","v":""},{"$f":"'Result Entry'!DB46","v":""},{"$f":"'Result Entry'!DC46","v":""},{"$f":"'Result Entry'!DD46","v":""}]
[null,0,{"$f":"'Result Entry'!D47","v":0},{"$f":"'Result Entry'!E47","v":0},{"$f":"'Result Entry'!F47","v":0},{"$f":"'Result Entry'!G47","v":0},{"$f":"'Result Entry'!H47","v":0},{"$f":"'Result Entry'!I47","v":0},{"$f":"'Result Entry'!J47","v":"00:00:00"},{"$f":"'Result Entry'!K47","v":0},{"$f":"'Result Entry'!L47","v":0},{"$f":"'Result Entry'!M47","v":0},{"$f":"'Result Entry'!N47","v":0},{"$f":"'Result Entry'!O47","v":0},{"$f":"'Result Entry'!P47","v":0},{"$f":"'Result Entry'!Q47","v":0},{"$f":"'Result Entry'!R47","v":0},{"$f":"'Result Entry'!S47","v":0},{"$f":"'Result Entry'!T47","v":0},{"$f":"'Result Entry'!U47","v":0},{"$f":"'Result Entry'!V47","v":0},{"$f":"'Result Entry'!W47","v":0},{"$f":"'Result Entry'!X47","v":""},{"$f":"'Result Entry'!Y47","v":0},{"$f":"'Result Entry'!Z47","v":0},{"$f":"'Result Entry'!AA47","v":0},{"$f":"'Result Entry'!AB47","v":0},{"$f":"'Result Entry'!AC47","v":0},{"$f":"'Result Entry'!AD47","v":0},{"$f":"'Result Entry'!AE47","v":0},{"$f":"'Result Entry'!AF47","v":0},{"$f":"'Result Entry'!AG47","v":0},{"$f":"'Result Entry'!AH47","v":0},{"$f":"'Result Entry'!AI47","v":0},{"$f":"'Result Entry'!AJ47","v":0},{"$f":"'Result Entry'!AK47","v":0},{"$f":"'Result Entry'!AL47","v":""},{"$f":"'Result Entry'!AM47","v":0},{"$f":"'Result Entry'!AN47","v":0},{"$f":"'Result Entry'!AO47","v":0},{"$f":"'Result Entry'!AP47","v":0},{"$f":"'Result Entry'!AQ47","v":0},{"$f":"'Result Entry'!AR47","v":0},{"$f":"'Result Entry'!AS47","v":0},{"$f":"'Result Entry'!AT47","v":0},{"$f":"'Result Entry'!AU47","v":0},{"$f":"'Result Entry'!AV47","v":0},{"$f":"'Result Entry'!AW47","v":0},{"$f":"'Result Entry'!AX47","v":0},{"$f":"'Result Entry'!AY47","v":0},{"$f":"'Result Entry'!AZ47","v":""},{"$f":"'Result Entry'!BA47","v":0},{"$f":"'Result Entry'!BB47","v":0},{"$f":"'Result Entry'!BC47","v":0},{"$f":"'Result Entry'!BD47","v":0},{"$f":"'Result Entry'!BE47","v":0},{"$f":"'Result Entry'!BF47","v":0},{"$f":"'Result Entry'!BG47","v":0},{"$f":"'Result Entry'!BH47","v":0},{"$f":"'Result Entry'!BI47","v":0},{"$f":"'Result Entry'!BJ47","v":0},{"$f":"'Result Entry'!BK47","v":0},{"$f":"'Result Entry'!BL47","v":0},{"$f":"'Result Entry'!BM47","v":""},{"$f":"'Result Entry'!BN47","v":""},{"$f":"'Result Entry'!BO47","v":0},{"$f":"'Result Entry'!BP47","v":0},{"$f":"'Result Entry'!BQ47","v":0},{"$f":"'Result Entry'!BR47","v":0},{"$f":"'Result Entry'!BS47","v":0},{"$f":"'Result Entry'!BT47","v":0},{"$f":"'Result Entry'!BU47","v":0},{"$f":"'Result Entry'!BV47","v":""},{"$f":"'Result Entry'!BW47","v":0},{"$f":"'Result Entry'!BX47","v":0},{"$f":"'Result Entry'!BY47","v":0},{"$f":"'Result Entry'!BZ47","v":0},{"$f":"'Result Entry'!CA47","v":0},{"$f":"'Result Entry'!CB47","v":0},{"$f":"'Result Entry'!CC47","v":0},{"$f":"'Result Entry'!CD47","v":""},{"$f":"'Result Entry'!CE47","v":0},{"$f":"'Result Entry'!CF47","v":0},{"$f":"'Result Entry'!CG47","v":0},{"$f":"'Result Entry'!CH47","v":0},{"$f":"'Result Entry'!CI47","v":0},{"$f":"'Result Entry'!CJ47","v":0},{"$f":"'Result Entry'!CK47","v":0},{"$f":"'Result Entry'!CL47","v":""},{"$f":"'Result Entry'!CM47","v":0},{"$f":"'Result Entry'!CN47","v":0},{"$f":"'Result Entry'!CO47","v":0},{"$f":"'Result Entry'!CP47","v":0},{"$f":"'Result Entry'!CQ47","v":0},{"$f":"'Result Entry'!CR47","v":0},{"$f":"'Result Entry'!CS47","v":0},{"$f":"'Result Entry'!CT47","v":""},{"$f":"'Result Entry'!CU47","v":0},{"$f":"'Result Entry'!CV47","v":0},{"$f":"'Result Entry'!CW47","v":""},{"$f":"'Result Entry'!CX47","v":500},{"$f":"'Result Entry'!CY47","v":0},{"$f":"'Result Entry'!CZ47","v":{"v":0,"d":"0.00"}},{"$f":"'Result Entry'!DA47","v":""},{"$f":"'Result Entry'!DB47","v":""},{"$f":"'Result Entry'!DC47","v":""},{"$f":"'Result Entry'!DD47","v":""}]
[null,0,{"$f":"'Result Entry'!D48","v":0},{"$f":"'Result Entry'!E48","v":0},{"$f":"'Result Entry'!F48","v":0},{"$f":"'Result Entry'!G48","v":0},{"$f":"'Result Entry'!H48","v":0},{"$f":"'Result Entry'!I48","v":0},{"$f":"'Result Entry'!J48","v":"00:00:00"},{"$f":"'Result Entry'!K48","v":0},{"$f":"'Result Entry'!L48","v":0},{"$f":"'Result Entry'!M48","v":0},{"$f":"'Result Entry'!N48","v":0},{"$f":"'Result Entry'!O48","v":0},{"$f":"'Result Entry'!P48","v":0},{"$f":"'Result Entry'!Q48","v":0},{"$f":"'Result Entry'!R48","v":0},{"$f":"'Result Entry'!S48","v":0},{"$f":"'Result Entry'!T48","v":0},{"$f":"'Result Entry'!U48","v":0},{"$f":"'Result Entry'!V48","v":0},{"$f":"'Result Entry'!W48","v":0},{"$f":"'Result Entry'!X48","v":""},{"$f":"'Result Entry'!Y48","v":0},{"$f":"'Result Entry'!Z48","v":0},{"$f":"'Result Entry'!AA48","v":0},{"$f":"'Result Entry'!AB48","v":0},{"$f":"'Result Entry'!AC48","v":0},{"$f":"'Result Entry'!AD48","v":0},{"$f":"'Result Entry'!AE48","v":0},{"$f":"'Result Entry'!AF48","v":0},{"$f":"'Result Entry'!AG48","v":0},{"$f":"'Result Entry'!AH48","v":0},{"$f":"'Result Entry'!AI48","v":0},{"$f":"'Result Entry'!AJ48","v":0},{"$f":"'Result Entry'!AK48","v":0},{"$f":"'Result Entry'!AL48","v":""},{"$f":"'Result Entry'!AM48","v":0},{"$f":"'Result Entry'!AN48","v":0},{"$f":"'Result Entry'!AO48","v":0},{"$f":"'Result Entry'!AP48","v":0},{"$f":"'Result Entry'!AQ48","v":0},{"$f":"'Result Entry'!AR48","v":0},{"$f":"'Result Entry'!AS48","v":0},{"$f":"'Result Entry'!AT48","v":0},{"$f":"'Result Entry'!AU48","v":0},{"$f":"'Result Entry'!AV48","v":0},{"$f":"'Result Entry'!AW48","v":0},{"$f":"'Result Entry'!AX48","v":0},{"$f":"'Result Entry'!AY48","v":0},{"$f":"'Result Entry'!AZ48","v":""},{"$f":"'Result Entry'!BA48","v":0},{"$f":"'Result Entry'!BB48","v":0},{"$f":"'Result Entry'!BC48","v":0},{"$f":"'Result Entry'!BD48","v":0},{"$f":"'Result Entry'!BE48","v":0},{"$f":"'Result Entry'!BF48","v":0},{"$f":"'Result Entry'!BG48","v":0},{"$f":"'Result Entry'!BH48","v":0},{"$f":"'Result Entry'!BI48","v":0},{"$f":"'Result Entry'!BJ48","v":0},{"$f":"'Result Entry'!BK48","v":0},{"$f":"'Result Entry'!BL48","v":0},{"$f":"'Result Entry'!BM48","v":""},{"$f":"'Result Entry'!BN48","v":""},{"$f":"'Result Entry'!BO48","v":0},{"$f":"'Result Entry'!BP48","v":0},{"$f":"'Result Entry'!BQ48","v":0},{"$f":"'Result Entry'!BR48","v":0},{"$f":"'Result Entry'!BS48","v":0},{"$f":"'Result Entry'!BT48","v":0},{"$f":"'Result Entry'!BU48","v":0},{"$f":"'Result Entry'!BV48","v":""},{"$f":"'Result Entry'!BW48","v":0},{"$f":"'Result Entry'!BX48","v":0},{"$f":"'Result Entry'!BY48","v":0},{"$f":"'Result Entry'!BZ48","v":0},{"$f":"'Result Entry'!CA48","v":0},{"$f":"'Result Entry'!CB48","v":0},{"$f":"'Result Entry'!CC48","v":0},{"$f":"'Result Entry'!CD48","v":""},{"$f":"'Result Entry'!CE48","v":0},{"$f":"'Result Entry'!CF48","v":0},{"$f":"'Result Entry'!CG48","v":0},{"$f":"'Result Entry'!CH48","v":0},{"$f":"'Result Entry'!CI48","v":0},{"$f":"'Result Entry'!CJ48","v":0},{"$f":"'Result Entry'!CK48","v":0},{"$f":"'Result Entry'!CL48","v":""},{"$f":"'Result Entry'!CM48","v":0},{"$f":"'Result Entry'!CN48","v":0},{"$f":"'Result Entry'!CO48","v":0},{"$f":"'Result Entry'!CP48","v":0},{"$f":"'Result Entry'!CQ48","v":0},{"$f":"'Result Entry'!CR48","v":0},{"$f":"'Result Entry'!CS48","v":0},{"$f":"'Result Entry'!CT48","v":""},{"$f":"'Result Entry'!CU48","v":0},{"$f":"'Result Entry'!CV48","v":0},{"$f":"'Result Entry'!CW48","v":""},{"$f":"'Result Entry'!CX48","v":500},{"$f":"'Result Entry'!CY48","v":0},{"$f":"'Result Entry'!CZ48","v":{"v":0,"d":"0.00"}},{"$f":"'Result Entry'!DA48","v":""},{"$f":"'Result Entry'!DB48","v":""},{"$f":"'Result Entry'!DC48","v":""},{"$f":"'Result Entry'!DD48","v":""}]
[null,0,{"$f":"'Result Entry'!D49","v":0},{"$f":"'Result Entry'!E49","v":0},{"$f":"'Result Entry'!F49","v":0},{"$f":"'Result Entry'!G49","v":0},{"$f":"'Result Entry'!H49","v":0},{"$f":"'Result Entry'!I49","v":0},{"$f":"'Result Entry'!J49","v":"00:00:00"},{"$f":"'Result Entry'!K49","v":0},{"$f":"'Result Entry'!L49","v":0},{"$f":"'Result Entry'!M49","v":0},{"$f":"'Result Entry'!N49","v":0},{"$f":"'Result Entry'!O49","v":0},{"$f":"'Result Entry'!P49","v":0},{"$f":"'Result Entry'!Q49","v":0},{"$f":"'Result Entry'!R49","v":0},{"$f":"'Result Entry'!S49","v":0},{"$f":"'Result Entry'!T49","v":0},{"$f":"'Result Entry'!U49","v":0},{"$f":"'Result Entry'!V49","v":0},{"$f":"'Result Entry'!W49","v":0},{"$f":"'Result Entry'!X49","v":""},{"$f":"'Result Entry'!Y49","v":0},{"$f":"'Result Entry'!Z49","v":0},{"$f":"'Result Entry'!AA49","v":0},{"$f":"'Result Entry'!AB49","v":0},{"$f":"'Result Entry'!AC49","v":0},{"$f":"'Result Entry'!AD49","v":0},{"$f":"'Result Entry'!AE49","v":0},{"$f":"'Result Entry'!AF49","v":0},{"$f":"'Result Entry'!AG49","v":0},{"$f":"'Result Entry'!AH49","v":0},{"$f":"'Result Entry'!AI49","v":0},{"$f":"'Result Entry'!AJ49","v":0},{"$f":"'Result Entry'!AK49","v":0},{"$f":"'Result Entry'!AL49","v":""},{"$f":"'Result Entry'!AM49","v":0},{"$f":"'Result Entry'!AN49","v":0},{"$f":"'Result Entry'!AO49","v":0},{"$f":"'Result Entry'!AP49","v":0},{"$f":"'Result Entry'!AQ49","v":0},{"$f":"'Result Entry'!AR49","v":0},{"$f":"'Result Entry'!AS49","v":0},{"$f":"'Result Entry'!AT49","v":0},{"$f":"'Result Entry'!AU49","v":0},{"$f":"'Result Entry'!AV49","v":0},{"$f":"'Result Entry'!AW49","v":0},{"$f":"'Result Entry'!AX49","v":0},{"$f":"'Result Entry'!AY49","v":0},{"$f":"'Result Entry'!AZ49","v":""},{"$f":"'Result Entry'!BA49","v":0},{"$f":"'Result Entry'!BB49","v":0},{"$f":"'Result Entry'!BC49","v":0},{"$f":"'Result Entry'!BD49","v":0},{"$f":"'Result Entry'!BE49","v":0},{"$f":"'Result Entry'!BF49","v":0},{"$f":"'Result Entry'!BG49","v":0},{"$f":"'Result Entry'!BH49","v":0},{"$f":"'Result Entry'!BI49","v":0},{"$f":"'Result Entry'!BJ49","v":0},{"$f":"'Result Entry'!BK49","v":0},{"$f":"'Result Entry'!BL49","v":0},{"$f":"'Result Entry'!BM49","v":""},{"$f":"'Result Entry'!BN49","v":""},{"$f":"'Result Entry'!BO49","v":0},{"$f":"'Result Entry'!BP49","v":0},{"$f":"'Result Entry'!BQ49","v":0},{"$f":"'Result Entry'!BR49","v":0},{"$f":"'Result Entry'!BS49","v":0},{"$f":"'Result Entry'!BT49","v":0},{"$f":"'Result Entry'!BU49","v":0},{"$f":"'Result Entry'!BV49","v":""},{"$f":"'Result Entry'!BW49","v":0},{"$f":"'Result Entry'!BX49","v":0},{"$f":"'Result Entry'!BY49","v":0},{"$f":"'Result Entry'!BZ49","v":0},{"$f":"'Result Entry'!CA49","v":0},{"$f":"'Result Entry'!CB49","v":0},{"$f":"'Result Entry'!CC49","v":0},{"$f":"'Result Entry'!CD49","v":""},{"$f":"'Result Entry'!CE49","v":0},{"$f":"'Result Entry'!CF49","v":0},{"$f":"'Result Entry'!CG49","v":0},{"$f":"'Result Entry'!CH49","v":0},{"$f":"'Result Entry'!CI49","v":0},{"$f":"'Result Entry'!CJ49","v":0},{"$f":"'Result Entry'!CK49","v":0},{"$f":"'Result Entry'!CL49","v":""},{"$f":"'Result Entry'!CM49","v":0},{"$f":"'Result Entry'!CN49","v":0},{"$f":"'Result Entry'!CO49","v":0},{"$f":"'Result Entry'!CP49","v":0},{"$f":"'Result Entry'!CQ49","v":0},{"$f":"'Result Entry'!CR49","v":0},{"$f":"'Result Entry'!CS49","v":0},{"$f":"'Result Entry'!CT49","v":""},{"$f":"'Result Entry'!CU49","v":0},{"$f":"'Result Entry'!CV49","v":0},{"$f":"'Result Entry'!CW49","v":""},{"$f":"'Result Entry'!CX49","v":500},{"$f":"'Result Entry'!CY49","v":0},{"$f":"'Result Entry'!CZ49","v":{"v":0,"d":"0.00"}},{"$f":"'Result Entry'!DA49","v":""},{"$f":"'Result Entry'!DB49","v":""},{"$f":"'Result Entry'!DC49","v":""},{"$f":"'Result Entry'!DD49","v":""}]
[null,0,{"$f":"'Result Entry'!D50","v":0},{"$f":"'Result Entry'!E50","v":0},{"$f":"'Result Entry'!F50","v":0},{"$f":"'Result Entry'!G50","v":0},{"$f":"'Result Entry'!H50","v":0},{"$f":"'Result Entry'!I50","v":0},{"$f":"'Result Entry'!J50","v":"00:00:00"},{"$f":"'Result Entry'!K50","v":0},{"$f":"'Result Entry'!L50","v":0},{"$f":"'Result Entry'!M50","v":0},{"$f":"'Result Entry'!N50","v":0},{"$f":"'Result Entry'!O50","v":0},{"$f":"'Result Entry'!P50","v":0},{"$f":"'Result Entry'!Q50","v":0},{"$f":"'Result Entry'!R50","v":0},{"$f":"'Result Entry'!S50","v":0},{"$f":"'Result Entry'!T50","v":0},{"$f":"'Result Entry'!U50","v":0},{"$f":"'Result Entry'!V50","v":0},{"$f":"'Result Entry'!W50","v":0},{"$f":"'Result Entry'!X50","v":""},{"$f":"'Result Entry'!Y50","v":0},{"$f":"'Result Entry'!Z50","v":0},{"$f":"'Result Entry'!AA50","v":0},{"$f":"'Result Entry'!AB50","v":0},{"$f":"'Result Entry'!AC50","v":0},{"$f":"'Result Entry'!AD50","v":0},{"$f":"'Result Entry'!AE50","v":0},{"$f":"'Result Entry'!AF50","v":0},{"$f":"'Result Entry'!AG50","v":0},{"$f":"'Result Entry'!AH50","v":0},{"$f":"'Result Entry'!AI50","v":0},{"$f":"'Result Entry'!AJ50","v":0},{"$f":"'Result Entry'!AK50","v":0},{"$f":"'Result Entry'!AL50","v":""},{"$f":"'Result Entry'!AM50","v":0},{"$f":"'Result Entry'!AN50","v":0},{"$f":"'Result Entry'!AO50","v":0},{"$f":"'Result Entry'!AP50","v":0},{"$f":"'Result Entry'!AQ50","v":0},{"$f":"'Result Entry'!AR50","v":0},{"$f":"'Result Entry'!AS50","v":0},{"$f":"'Result Entry'!AT50","v":0},{"$f":"'Result Entry'!AU50","v":0},{"$f":"'Result Entry'!AV50","v":0},{"$f":"'Result Entry'!AW50","v":0},{"$f":"'Result Entry'!AX50","v":0},{"$f":"'Result Entry'!AY50","v":0},{"$f":"'Result Entry'!AZ50","v":""},{"$f":"'Result Entry'!BA50","v":0},{"$f":"'Result Entry'!BB50","v":0},{"$f":"'Result Entry'!BC50","v":0},{"$f":"'Result Entry'!BD50","v":0},{"$f":"'Result Entry'!BE50","v":0},{"$f":"'Result Entry'!BF50","v":0},{"$f":"'Result Entry'!BG50","v":0},{"$f":"'Result Entry'!BH50","v":0},{"$f":"'Result Entry'!BI50","v":0},{"$f":"'Result Entry'!BJ50","v":0},{"$f":"'Result Entry'!BK50","v":0},{"$f":"'Result Entry'!BL50","v":0},{"$f":"'Result Entry'!BM50","v":""},{"$f":"'Result Entry'!BN50","v":""},{"$f":"'Result Entry'!BO50","v":0},{"$f":"'Result Entry'!BP50","v":0},{"$f":"'Result Entry'!BQ50","v":0},{"$f":"'Result Entry'!BR50","v":0},{"$f":"'Result Entry'!BS50","v":0},{"$f":"'Result Entry'!BT50","v":0},{"$f":"'Result Entry'!BU50","v":0},{"$f":"'Result Entry'!BV50","v":""},{"$f":"'Result Entry'!BW50","v":0},{"$f":"'Result Entry'!BX50","v":0},{"$f":"'Result Entry'!BY50","v":0},{"$f":"'Result Entry'!BZ50","v":0},{"$f":"'Result Entry'!CA50","v":0},{"$f":"'Result Entry'!CB50","v":0},{"$f":"'Result Entry'!CC50","v":0},{"$f":"'Result Entry'!CD50","v":""},{"$f":"'Result Entry'!CE50","v":0},{"$f":"'Result Entry'!CF50","v":0},{"$f":"'Result Entry'!CG50","v":0},{"$f":"'Result Entry'!CH50","v":0},{"$f":"'Result Entry'!CI50","v":0},{"$f":"'Result Entry'!CJ50","v":0},{"$f":"'Result Entry'!CK50","v":0},{"$f":"'Result Entry'!CL50","v":""},{"$f":"'Result Entry'!CM50","v":0},{"$f":"'Result Entry'!CN50","v":0},{"$f":"'Result Entry'!CO50","v":0},{"$f":"'Result Entry'!CP50","v":0},{"$f":"'Result Entry'!CQ50","v":0},{"$f":"'Result Entry'!CR50","v":0},{"$f":"'Result Entry'!CS50","v":0},{"$f":"'Result Entry'!CT50","v":""},{"$f":"'Result Entry'!CU50","v":0},{"$f":"'Result Entry'!CV50","v":0},{"$f":"'Result Entry'!CW50","v":""},{"$f":"'Result Entry'!CX50","v":500},{"$f":"'Result Entry'!CY50","v":0},{"$f":"'Result Entry'!CZ50","v":{"v":0,"d":"0.00"}},{"$f":"'Result Entry'!DA50","v":""},{"$f":"'Result Entry'!DB50","v":""},{"$f":"'Result Entry'!DC50","v":""},{"$f":"'Result Entry'!DD50","v":""}]
[null,0,{"$f":"'Result Entry'!D51","v":0},{"$f":"'Result Entry'!E51","v":0},{"$f":"'Result Entry'!F51","v":0},{"$f":"'Result Entry'!G51","v":0},{"$f":"'Result Entry'!H51","v":0},{"$f":"'Result Entry'!I51","v":0},{"$f":"'Result Entry'!J51","v":"00:00:00"},{"$f":"'Result Entry'!K51","v":0},{"$f":"'Result Entry'!L51","v":0},{"$f":"'Result Entry'!M51","v":0},{"$f":"'Result Entry'!N51","v":0},{"$f":"'Result Entry'!O51","v":0},{"$f":"'Result Entry'!P51","v":0},{"$f":"'Result Entry'!Q51","v":0},{"$f":"'Result Entry'!R51","v":0},{"$f":"'Result Entry'!S51","v":0},{"$f":"'Result Entry'!T51","v":0},{"$f":"'Result Entry'!U51","v":0},{"$f":"'Result Entry'!V51","v":0},{"$f":"'Result Entry'!W51","v":0},{"$f":"'Result Entry'!X51","v":""},{"$f":"'Result Entry'!Y51","v":0},{"$f":"'Result Entry'!Z51","v":0},{"$f":"'Result Entry'!AA51","v":0},{"$f":"'Result Entry'!AB51","v":0},{"$f":"'Result Entry'!AC51","v":0},{"$f":"'Result Entry'!AD51","v":0},{"$f":"'Result Entry'!AE51","v":0},{"$f":"'Result Entry'!AF51","v":0},{"$f":"'Result Entry'!AG51","v":0},{"$f":"'Result Entry'!AH51","v":0},{"$f":"'Result Entry'!AI51","v":0},{"$f":"'Result Entry'!AJ51","v":0},{"$f":"'Result Entry'!AK51","v":0},{"$f":"'Result Entry'!AL51","v":""},{"$f":"'Result Entry'!AM51","v":0},{"$f":"'Result Entry'!AN51","v":0},{"$f":"'Result Entry'!AO51","v":0},{"$f":"'Result Entry'!AP51","v":0},{"$f":"'Result Entry'!AQ51","v":0},{"$f":"'Result Entry'!AR51","v":0},{"$f":"'Result Entry'!AS51","v":0},{"$f":"'Result Entry'!AT51","v":0},{"$f":"'Result Entry'!AU51","v":0},{"$f":"'Result Entry'!AV51","v":0},{"$f":"'Result Entry'!AW51","v":0},{"$f":"'Result Entry'!AX51","v":0},{"$f":"'Result Entry'!AY51","v":0},{"$f":"'Result Entry'!AZ51","v":""},{"$f":"'Result Entry'!BA51","v":0},{"$f":"'Result Entry'!BB51","v":0},{"$f":"'Result Entry'!BC51","v":0},{"$f":"'Result Entry'!BD51","v":0},{"$f":"'Result Entry'!BE51","v":0},{"$f":"'Result Entry'!BF51","v":0},{"$f":"'Result Entry'!BG51","v":0},{"$f":"'Result Entry'!BH51","v":0},{"$f":"'Result Entry'!BI51","v":0},{"$f":"'Result Entry'!BJ51","v":0},{"$f":"'Result Entry'!BK51","v":0},{"$f":"'Result Entry'!BL51","v":0},{"$f":"'Result Entry'!BM51","v":""},{"$f":"'Result Entry'!BN51","v":""},{"$f":"'Result Entry'!BO51","v":0},{"$f":"'Result Entry'!BP51","v":0},{"$f":"'Result Entry'!BQ51","v":0},{"$f":"'Result Entry'!BR51","v":0},{"$f":"'Result Entry'!BS51","v":0},{"$f":"'Result Entry'!BT51","v":0},{"$f":"'Result Entry'!BU51","v":0},{"$f":"'Result Entry'!BV51","v":""},{"$f":"'Result Entry'!BW51","v":0},{"$f":"'Result Entry'!BX51","v":0},{"$f":"'Result Entry'!BY51","v":0},{"$f":"'Result Entry'!BZ51","v":0},{"$f":"'Result Entry'!CA51","v":0},{"$f":"'Result Entry'!CB51","v":0},{"$f":"'Result Entry'!CC51","v":0},{"$f":"'Result Entry'!CD51","v":""},{"$f":"'Result Entry'!CE51","v":0},{"$f":"'Result Entry'!CF51","v":0},{"$f":"'Result Entry'!CG51","v":0},{"$f":"'Result Entry'!CH51","v":0},{"$f":"'Result Entry'!CI51","v":0},{"$f":"'Result Entry'!CJ51","v":0},{"$f":"'Result Entry'!CK51","v":0},{"$f":"'Result Entry'!CL51","v":""},{"$f":"'Result Entry'!CM51","v":0},{"$f":"'Result Entry'!CN51","v":0},{"$f":"'Result Entry'!CO51","v":0},{"$f":"'Result Entry'!CP51","v":0},{"$f":"'Result Entry'!CQ51","v":0},{"$f":"'Result Entry'!CR51","v":0},{"$f":"'Result Entry'!CS51","v":0},{"$f":"'Result Entry'!CT51","v":""},{"$f":"'Result Entry'!CU51","v":0},{"$f":"'Result Entry'!CV51","v":0},{"$f":"'Result Entry'!CW51","v":""},{"$f":"'Result Entry'!CX51","v":500},{"$f":"'Result Entry'!CY51","v":0},{"$f":"'Result Entry'!CZ51","v":{"v":0,"d":"0.00"}},{"$f":"'Result Entry'!DA51","v":""},{"$f":"'Result Entry'!DB51","v":""},{"$f":"'Result Entry'!DC51","v":""},{"$f":"'Result Entry'!DD51","v":""}]
[null,0,{"$f":"'Result Entry'!D52","v":0},{"$f":"'Result Entry'!E52","v":0},{"$f":"'Result Entry'!F52","v":0},{"$f":"'Result Entry'!G52","v":0},{"$f":"'Result Entry'!H52","v":0},{"$f":"'Result Entry'!I52","v":0},{"$f":"'Result Entry'!J52","v":"00:00:00"},{"$f":"'Result Entry'!K52","v":0},{"$f":"'Result Entry'!L52","v":0},{"$f":"'Result Entry'!M52","v":0},{"$f":"'Result Entry'!N52","v":0},{"$f":"'Result Entry'!O52","v":0},{"$f":"'Result Entry'!P52","v":0},{"$f":"'Result Entry'!Q52","v":0},{"$f":"'Result Entry'!R52","v":0},{"$f":"'Result Entry'!S52","v":0},{"$f":"'Result Entry'!T52","v":0},{"$f":"'Result Entry'!U52","v":0},{"$f":"'Result Entry'!V52","v":0},{"$f":"'Result Entry'!W52","v":0},{"$f":"'Result Entry'!X52","v":""},{"$f":"'Result Entry'!Y52","v":0},{"$f":"'Result Entry'!Z52","v":0},{"$f":"'Result Entry'!AA52","v":0},{"$f":"'Result Entry'!AB52","v":0},{"$f":"'Result Entry'!AC52","v":0},{"$f":"'Result Entry'!AD52","v":0},{"$f":"'Result Entry'!AE52","v":0},{"$f":"'Result Entry'!AF52","v":0},{"$f":"'Result Entry'!AG52","v":0},{"$f":"'Result Entry'!AH52","v":0},{"$f":"'Result Entry'!AI52","v":0},{"$f":"'Result Entry'!AJ52","v":0},{"$f":"'Result Entry'!AK52","v":0},{"$f":"'Result Entry'!AL52","v":""},{"$f":"'Result Entry'!AM52","v":0},{"$f":"'Result Entry'!AN52","v":0},{"$f":"'Result Entry'!AO52","v":0},{"$f":"'Result Entry'!AP52","v":0},{"$f":"'Result Entry'!AQ52","v":0},{"$f":"'Result Entry'!AR52","v":0},{"$f":"'Result Entry'!AS52","v":0},{"$f":"'Result Entry'!AT52","v":0},{"$f":"'Result Entry'!AU52","v":0},{"$f":"'Result Entry'!AV52","v":0},{"$f":"'Result Entry'!AW52","v":0},{"$f":"'Result Entry'!AX52","v":0},{"$f":"'Result Entry'!AY52","v":0},{"$f":"'Result Entry'!AZ52","v":""},{"$f":"'Result Entry'!BA52","v":0},{"$f":"'Result Entry'!BB52","v":0},{"$f":"'Result Entry'!BC52","v":0},{"$f":"'Result Entry'!BD52","v":0},{"$f":"'Result Entry'!BE52","v":0},{"$f":"'Result Entry'!BF52","v":0},{"$f":"'Result Entry'!BG52","v":0},{"$f":"'Result Entry'!BH52","v":0},{"$f":"'Result Entry'!BI52","v":0},{"$f":"'Result Entry'!BJ52","v":0},{"$f":"'Result Entry'!BK52","v":0},{"$f":"'Result Entry'!BL52","v":0},{"$f":"'Result Entry'!BM52","v":""},{"$f":"'Result Entry'!BN52","v":""},{"$f":"'Result Entry'!BO52","v":0},{"$f":"'Result Entry'!BP52","v":0},{"$f":"'Result Entry'!BQ52","v":0},{"$f":"'Result Entry'!BR52","v":0},{"$f":"'Result Entry'!BS52","v":0},{"$f":"'Result Entry'!BT52","v":0},{"$f":"'Result Entry'!BU52","v":0},{"$f":"'Result Entry'!BV52","v":""},{"$f":"'Result Entry'!BW52","v":0},{"$f":"'Result Entry'!BX52","v":0},{"$f":"'Result Entry'!BY52","v":0},{"$f":"'Result Entry'!BZ52","v":0},{"$f":"'Result Entry'!CA52","v":0},{"$f":"'Result Entry'!CB52","v":0},{"$f":"'Result Entry'!CC52","v":0},{"$f":"'Result Entry'!CD52","v":""},{"$f":"'Result Entry'!CE52","v":0},{"$f":"'Result Entry'!CF52","v":0},{"$f":"'Result Entry'!CG52","v":0},{"$f":"'Result Entry'!CH52","v":0},{"$f":"'Result Entry'!CI52","v":0},{"$f":"'Result Entry'!CJ52","v":0},{"$f":"'Result Entry'!CK52","v":0},{"$f":"'Result Entry'!CL52","v":""},{"$f":"'Result Entry'!CM52","v":0},{"$f":"'Result Entry'!CN52","v":0},{"$f":"'Result Entry'!CO52","v":0},{"$f":"'Result Entry'!CP52","v":0},{"$f":"'Result Entry'!CQ52","v":0},{"$f":"'Result Entry'!CR52","v":0},{"$f":"'Result Entry'!CS52","v":0},{"$f":"'Result Entry'!CT52","v":""},{"$f":"'Result Entry'!CU52","v":0},{"$f":"'Result Entry'!CV52","v":0},{"$f":"'Result Entry'!CW52","v":""},{"$f":"'Result Entry'!CX52","v":500},{"$f":"'Result Entry'!CY52","v":0},{"$f":"'Result Entry'!CZ52","v":{"v":0,"d":"0.00"}},{"$f":"'Result Entry'!DA52","v":""},{"$f":"'Result Entry'!DB52","v":""},{"$f":"'Result Entry'!DC52","v":""},{"$f":"'Result Entry'!DD52","v":""}]
[null,0,{"$f":"'Result Entry'!D53","v":0},{"$f":"'Result Entry'!E53","v":0},{"$f":"'Result Entry'!F53","v":0},{"$f":"'Result Entry'!G53","v":0},{"$f":"'Result Entry'!H53","v":0},{"$f":"'Result Entry'!I53","v":0},{"$f":"'Result Entry'!J53","v":"00:00:00"},{"$f":"'Result Entry'!K53","v":0},{"$f":"'Result Entry'!L53","v":0},{"$f":"'Result Entry'!M53","v":0},{"$f":"'Result Entry'!N53","v":0},{"$f":"'Result Entry'!O53","v":0},{"$f":"'Result Entry'!P53","v":0},{"$f":"'Result Entry'!Q53","v":0},{"$f":"'Result Entry'!R53","v":0},{"$f":"'Result Entry'!S53","v":0},{"$f":"'Result Entry'!T53","v":0},{"$f":"'Result Entry'!U53","v":0},{"$f":"'Result Entry'!V53","v":0},{"$f":"'Result Entry'!W53","v":0},{"$f":"'Result Entry'!X53","v":""},{"$f":"'Result Entry'!Y53","v":0},{"$f":"'Result Entry'!Z53","v":0},{"$f":"'Result Entry'!AA53","v":0},{"$f":"'Result Entry'!AB53","v":0},{"$f":"'Result Entry'!AC53","v":0},{"$f":"'Result Entry'!AD53","v":0},{"$f":"'Result Entry'!AE53","v":0},{"$f":"'Result Entry'!AF53","v":0},{"$f":"'Result Entry'!AG53","v":0},{"$f":"'Result Entry'!AH53","v":0},{"$f":"'Result Entry'!AI53","v":0},{"$f":"'Result Entry'!AJ53","v":0},{"$f":"'Result Entry'!AK53","v":0},{"$f":"'Result Entry'!AL53","v":""},{"$f":"'Result Entry'!AM53","v":0},{"$f":"'Result Entry'!AN53","v":0},{"$f":"'Result Entry'!AO53","v":0},{"$f":"'Result Entry'!AP53","v":0},{"$f":"'Result Entry'!AQ53","v":0},{"$f":"'Result Entry'!AR53","v":0},{"$f":"'Result Entry'!AS53","v":0},{"$f":"'Result Entry'!AT53","v":0},{"$f":"'Result Entry'!AU53","v":0},{"$f":"'Result Entry'!AV53","v":0},{"$f":"'Result Entry'!AW53","v":0},{"$f":"'Result Entry'!AX53","v":0},{"$f":"'Result Entry'!AY53","v":0},{"$f":"'Result Entry'!AZ53","v":""},{"$f":"'Result Entry'!BA53","v":0},{"$f":"'Result Entry'!BB53","v":0},{"$f":"'Result Entry'!BC53","v":0},{"$f":"'Result Entry'!BD53","v":0},{"$f":"'Result Entry'!BE53","v":0},{"$f":"'Result Entry'!BF53","v":0},{"$f":"'Result Entry'!BG53","v":0},{"$f":"'Result Entry'!BH53","v":0},{"$f":"'Result Entry'!BI53","v":0},{"$f":"'Result Entry'!BJ53","v":0},{"$f":"'Result Entry'!BK53","v":0},{"$f":"'Result Entry'!BL53","v":0},{"$f":"'Result Entry'!BM53","v":""},{"$f":"'Result Entry'!BN53","v":""},{"$f":"'Result Entry'!BO53","v":0},{"$f":"'Result Entry'!BP53","v":0},{"$f":"'Result Entry'!BQ53","v":0},{"$f":"'Result Entry'!BR53","v":0},{"$f":"'Result Entry'!BS53","v":0},{"$f":"'Result Entry'!BT53","v":0},{"$f":"'Result Entry'!BU53","v":0},{"$f":"'Result Entry'!BV53","v":""},{"$f":"'Result Entry'!BW53","v":0},{"$f":"'Result Entry'!BX53","v":0},{"$f":"'Result Entry'!BY53","v":0},{"$f":"'Result Entry'!BZ53","v":0},{"$f":"'Result Entry'!CA53","v":0},{"$f":"'Result Entry'!CB53","v":0},{"$f":"'Result Entry'!CC53","v":0},{"$f":"'Result Entry'!CD53","v":""},{"$f":"'Result Entry'!CE53","v":0},{"$f":"'Result Entry'!CF53","v":0},{"$f":"'Result Entry'!CG53","v":0},{"$f":"'Result Entry'!CH53","v":0},{"$f":"'Result Entry'!CI53","v":0},{"$f":"'Result Entry'!CJ53","v":0},{"$f":"'Result Entry'!CK53","v":0},{"$f":"'Result Entry'!CL53","v":""},{"$f":"'Result Entry'!CM53","v":0},{"$f":"'Result Entry'!CN53","v":0},{"$f":"'Result Entry'!CO53","v":0},{"$f":"'Result Entry'!CP53","v":0},{"$f":"'Result Entry'!CQ53","v":0},{"$f":"'Result Entry'!CR53","v":0},{"$f":"'Result Entry'!CS53","v":0},{"$f":"'Result Entry'!CT53","v":""},{"$f":"'Result Entry'!CU53","v":0},{"$f":"'Result Entry'!CV53","v":0},{"$f":"'Result Entry'!CW53","v":""},{"$f":"'Result Entry'!CX53","v":500},{"$f":"'Result Entry'!CY53","v":0},{"$f":"'Result Entry'!CZ53","v":{"v":0,"d":"0.00"}},{"$f":"'Result Entry'!DA53","v":""},{"$f":"'Result Entry'!DB53","v":""},{"$f":"'Result Entry'!DC53","v":""},{"$f":"'Result Entry'!DD53","v":""}]
[null,0,{"$f":"'Result Entry'!D54","v":0},{"$f":"'Result Entry'!E54","v":0},{"$f":"'Result Entry'!F54","v":0},{"$f":"'Result Entry'!G54","v":0},{"$f":"'Result Entry'!H54","v":0},{"$f":"'Result Entry'!I54","v":0},{"$f":"'Result Entry'!J54","v":"00:00:00"},{"$f":"'Result Entry'!K54","v":0},{"$f":"'Result Entry'!L54","v":0},{"$f":"'Result Entry'!M54","v":0},{"$f":"'Result Entry'!N54","v":0},{"$f":"'Result Entry'!O54","v":0},{"$f":"'Result Entry'!P54","v":0},{"$f":"'Result Entry'!Q54","v":0},{"$f":"'Result Entry'!R54","v":0},{"$f":"'Result Entry'!S54","v":0},{"$f":"'Result Entry'!T54","v":0},{"$f":"'Result Entry'!U54","v":0},{"$f":"'Result Entry'!V54","v":0},{"$f":"'Result Entry'!W54","v":0},{"$f":"'Result Entry'!X54","v":""},{"$f":"'Result Entry'!Y54","v":0},{"$f":"'Result Entry'!Z54","v":0},{"$f":"'Result Entry'!AA54","v":0},{"$f":"'Result Entry'!AB54","v":0},{"$f":"'Result Entry'!AC54","v":0},{"$f":"'Result Entry'!AD54","v":0},{"$f":"'Result Entry'!AE54","v":0},{"$f":"'Result Entry'!AF54","v":0},{"$f":"'Result Entry'!AG54","v":0},{"$f":"'Result Entry'!AH54","v":0},{"$f":"'Result Entry'!AI54","v":0},{"$f":"'Result Entry'!AJ54","v":0},{"$f":"'Result Entry'!AK54","v":0},{"$f":"'Result Entry'!AL54","v":""},{"$f":"'Result Entry'!AM54","v":0},{"$f":"'Result Entry'!AN54","v":0},{"$f":"'Result Entry'!AO54","v":0},{"$f":"'Result Entry'!AP54","v":0},{"$f":"'Result Entry'!AQ54","v":0},{"$f":"'Result Entry'!AR54","v":0},{"$f":"'Result Entry'!AS54","v":0},{"$f":"'Result Entry'!AT54","v":0},{"$f":"'Result Entry'!AU54","v":0},{"$f":"'Result Entry'!AV54","v":0},{"$f":"'Result Entry'!AW54","v":0},{"$f":"'Result Entry'!AX54","v":0},{"$f":"'Result Entry'!AY54","v":0},{"$f":"'Result Entry'!AZ54","v":""},{"$f":"'Result Entry'!BA54","v":0},{"$f":"'Result Entry'!BB54","v":0},{"$f":"'Result Entry'!BC54","v":0},{"$f":"'Result Entry'!BD54","v":0},{"$f":"'Result Entry'!BE54","v":0},{"$f":"'Result Entry'!BF54","v":0},{"$f":"'Result Entry'!BG54","v":0},{"$f":"'Result Entry'!BH54","v":0},{"$f":"'Result Entry'!BI54","v":0},{"$f":"'Result Entry'!BJ54","v":0},{"$f":"'Result Entry'!BK54","v":0},{"$f":"'Result Entry'!BL54","v":0},{"$f":"'Result Entry'!BM54","v":""},{"$f":"'Result Entry'!BN54","v":""},{"$f":"'Result Entry'!BO54","v":0},{"$f":"'Result Entry'!BP54","v":0},{"$f":"'Result Entry'!BQ54","v":0},{"$f":"'Result Entry'!BR54","v":0},{"$f":"'Result Entry'!BS54","v":0},{"$f":"'Result Entry'!BT54","v":0},{"$f":"'Result Entry'!BU54","v":0},{"$f":"'Result Entry'!BV54","v":""},{"$f":"'Result Entry'!BW54","v":0},{"$f":"'Result Entry'!BX54","v":0},{"$f":"'Result Entry'!BY54","v":0},{"$f":"'Result Entry'!BZ54","v":0},{"$f":"'Result Entry'!CA54","v":0},{"$f":"'Result Entry'!CB54","v":0},{"$f":"'Result Entry'!CC54","v":0},{"$f":"'Result Entry'!CD54","v":""},{"$f":"'Result Entry'!CE54","v":0},{"$f":"'Result Entry'!CF54","v":0},{"$f":"'Result Entry'!CG54","v":0},{"$f":"'Result Entry'!CH54","v":0},{"$f":"'Result Entry'!CI54","v":0},{"$f":"'Result Entry'!CJ54","v":0},{"$f":"'Result Entry'!CK54","v":0},{"$f":"'Result Entry'!CL54","v":""},{"$f":"'Result Entry'!CM54","v":0},{"$f":"'Result Entry'!CN54","v":0},{"$f":"'Result Entry'!CO54","v":0},{"$f":"'Result Entry'!CP54","v":0},{"$f":"'Result Entry'!CQ54","v":0},{"$f":"'Result Entry'!CR54","v":0},{"$f":"'Result Entry'!CS54","v":0},{"$f":"'Result Entry'!CT54","v":""},{"$f":"'Result Entry'!CU54","v":0},{"$f":"'Result Entry'!CV54","v":0},{"$f":"'Result Entry'!CW54","v":""},{"$f":"'Result Entry'!CX54","v":500},{"$f":"'Result Entry'!CY54","v":0},{"$f":"'Result Entry'!CZ54","v":{"v":0,"d":"0.00"}},{"$f":"'Result Entry'!DA54","v":""},{"$f":"'Result Entry'!DB54","v":""},{"$f":"'Result Entry'!DC54","v":""},{"$f":"'Result Entry'!DD54","v":""}]
[null,0,{"$f":"'Result Entry'!D55","v":0},{"$f":"'Result Entry'!E55","v":0},{"$f":"'Result Entry'!F55","v":0},{"$f":"'Result Entry'!G55","v":0},{"$f":"'Result Entry'!H55","v":0},{"$f":"'Result Entry'!I55","v":0},{"$f":"'Result Entry'!J55","v":"00:00:00"},{"$f":"'Result Entry'!K55","v":0},{"$f":"'Result Entry'!L55","v":0},{"$f":"'Result Entry'!M55","v":0},{"$f":"'Result Entry'!N55","v":0},{"$f":"'Result Entry'!O55","v":0},{"$f":"'Result Entry'!P55","v":0},{"$f":"'Result Entry'!Q55","v":0},{"$f":"'Result Entry'!R55","v":0},{"$f":"'Result Entry'!S55","v":0},{"$f":"'Result Entry'!T55","v":0},{"$f":"'Result Entry'!U55","v":0},{"$f":"'Result Entry'!V55","v":0},{"$f":"'Result Entry'!W55","v":0},{"$f":"'Result Entry'!X55","v":""},{"$f":"'Result Entry'!Y55","v":0},{"$f":"'Result Entry'!Z55","v":0},{"$f":"'Result Entry'!AA55","v":0},{"$f":"'Result Entry'!AB55","v":0},{"$f":"'Result Entry'!AC55","v":0},{"$f":"'Result Entry'!AD55","v":0},{"$f":"'Result Entry'!AE55","v":0},{"$f":"'Result Entry'!AF55","v":0},{"$f":"'Result Entry'!AG55","v":0},{"$f":"'Result Entry'!AH55","v":0},{"$f":"'Result Entry'!AI55","v":0},{"$f":"'Result Entry'!AJ55","v":0},{"$f":"'Result Entry'!AK55","v":0},{"$f":"'Result Entry'!AL55","v":""},{"$f":"'Result Entry'!AM55","v":0},{"$f":"'Result Entry'!AN55","v":0},{"$f":"'Result Entry'!AO55","v":0},{"$f":"'Result Entry'!AP55","v":0},{"$f":"'Result Entry'!AQ55","v":0},{"$f":"'Result Entry'!AR55","v":0},{"$f":"'Result Entry'!AS55","v":0},{"$f":"'Result Entry'!AT55","v":0},{"$f":"'Result Entry'!AU55","v":0},{"$f":"'Result Entry'!AV55","v":0},{"$f":"'Result Entry'!AW55","v":0},{"$f":"'Result Entry'!AX55","v":0},{"$f":"'Result Entry'!AY55","v":0},{"$f":"'Result Entry'!AZ55","v":""},{"$f":"'Result Entry'!BA55","v":0},{"$f":"'Result Entry'!BB55","v":0},{"$f":"'Result Entry'!BC55","v":0},{"$f":"'Result Entry'!BD55","v":0},{"$f":"'Result Entry'!BE55","v":0},{"$f":"'Result Entry'!BF55","v":0},{"$f":"'Result Entry'!BG55","v":0},{"$f":"'Result Entry'!BH55","v":0},{"$f":"'Result Entry'!BI55","v":0},{"$f":"'Result Entry'!BJ55","v":0},{"$f":"'Result Entry'!BK55","v":0},{"$f":"'Result Entry'!BL55","v":0},{"$f":"'Result Entry'!BM55","v":""},{"$f":"'Result Entry'!BN55","v":""},{"$f":"'Result Entry'!BO55","v":0},{"$f":"'Result Entry'!BP55","v":0},{"$f":"'Result Entry'!BQ55","v":0},{"$f":"'Result Entry'!BR55","v":0},{"$f":"'Result Entry'!BS55","v":0},{"$f":"'Result Entry'!BT55","v":0},{"$f":"'Result Entry'!BU55","v":0},{"$f":"'Result Entry'!BV55","v":""},{"$f":"'Result Entry'!BW55","v":0},{"$f":"'Result Entry'!BX55","v":0},{"$f":"'Result Entry'!BY55","v":0},{"$f":"'Result Entry'!BZ55","v":0},{"$f":"'Result Entry'!CA55","v":0},{"$f":"'Result Entry'!CB55","v":0},{"$f":"'Result Entry'!CC55","v":0},{"$f":"'Result Entry'!CD55","v":""},{"$f":"'Result Entry'!CE55","v":0},{"$f":"'Result Entry'!CF55","v":0},{"$f":"'Result Entry'!CG55","v":0},{"$f":"'Result Entry'!CH55","v":0},{"$f":"'Result Entry'!CI55","v":0},{"$f":"'Result Entry'!CJ55","v":0},{"$f":"'Result Entry'!CK55","v":0},{"$f":"'Result Entry'!CL55","v":""},{"$f":"'Result Entry'!CM55","v":0},{"$f":"'Result Entry'!CN55","v":0},{"$f":"'Result Entry'!CO55","v":0},{"$f":"'Result Entry'!CP55","v":0},{"$f":"'Result Entry'!CQ55","v":0},{"$f":"'Result Entry'!CR55","v":0},{"$f":"'Result Entry'!CS55","v":0},{"$f":"'Result Entry'!CT55","v":""},{"$f":"'Result Entry'!CU55","v":0},{"$f":"'Result Entry'!CV55","v":0},{"$f":"'Result Entry'!CW55","v":""},{"$f":"'Result Entry'!CX55","v":500},{"$f":"'Result Entry'!CY55","v":0},{"$f":"'Result Entry'!CZ55","v":{"v":0,"d":"0.00"}},{"$f":"'Result Entry'!DA55","v":""},{"$f":"'Result Entry'!DB55","v":""},{"$f":"'Result Entry'!DC55","v":""},{"$f":"'Result Entry'!DD55","v":""}]
[null,0,{"$f":"'Result Entry'!D56","v":0},{"$f":"'Result Entry'!E56","v":0},{"$f":"'Result Entry'!F56","v":0},{"$f":"'Result Entry'!G56","v":0},{"$f":"'Result Entry'!H56","v":0},{"$f":"'Result Entry'!I56","v":0},{"$f":"'Result Entry'!J56","v":"00:00:00"},{"$f":"'Result Entry'!K56","v":0},{"$f":"'Result Entry'!L56","v":0},{"$f":"'Result Entry'!M56","v":0},{"$f":"'Result Entry'!N56","v":0},{"$f":"'Result Entry'!O56","v":0},{"$f":"'Result Entry'!P56","v":0},{"$f":"'Result Entry'!Q56","v":0},{"$f":"'Result Entry'!R56","v":0},{"$f":"'Result Entry'!S56","v":0},{"$f":"'Result Entry'!T56","v":0},{"$f":"'Result Entry'!U56","v":0},{"$f":"'Result Entry'!V56","v":0},{"$f":"'Result Entry'!W56","v":0},{"$f":"'Result Entry'!X56","v":""},{"$f":"'Result Entry'!Y56","v":0},{"$f":"'Result Entry'!Z56","v":0},{"$f":"'Result Entry'!AA56","v":0},{"$f":"'Result Entry'!AB56","v":0},{"$f":"'Result Entry'!AC56","v":0},{"$f":"'Result Entry'!AD56","v":0},{"$f":"'Result Entry'!AE56","v":0},{"$f":"'Result Entry'!AF56","v":0},{"$f":"'Result Entry'!AG56","v":0},{"$f":"'Result Entry'!AH56","v":0},{"$f":"'Result Entry'!AI56","v":0},{"$f":"'Result Entry'!AJ56","v":0},{"$f":"'Result Entry'!AK56","v":0},{"$f":"'Result Entry'!AL56","v":""},{"$f":"'Result Entry'!AM56","v":0},{"$f":"'Result Entry'!AN56","v":0},{"$f":"'Result Entry'!AO56","v":0},{"$f":"'Result Entry'!AP56","v":0},{"$f":"'Result Entry'!AQ56","v":0},{"$f":"'Result Entry'!AR56","v":0},{"$f":"'Result Entry'!AS56","v":0},{"$f":"'Result Entry'!AT56","v":0},{"$f":"'Result Entry'!AU56","v":0},{"$f":"'Result Entry'!AV56","v":0},{"$f":"'Result Entry'!AW56","v":0},{"$f":"'Result Entry'!AX56","v":0},{"$f":"'Result Entry'!AY56","v":0},{"$f":"'Result Entry'!AZ56","v":""},{"$f":"'Result Entry'!BA56","v":0},{"$f":"'Result Entry'!BB56","v":0},{"$f":"'Result Entry'!BC56","v":0},{"$f":"'Result Entry'!BD56","v":0},{"$f":"'Result Entry'!BE56","v":0},{"$f":"'Result Entry'!BF56","v":0},{"$f":"'Result Entry'!BG56","v":0},{"$f":"'Result Entry'!BH56","v":0},{"$f":"'Result Entry'!BI56","v":0},{"$f":"'Result Entry'!BJ56","v":0},{"$f":"'Result Entry'!BK56","v":0},{"$f":"'Result Entry'!BL56","v":0},{"$f":"'Result Entry'!BM56","v":""},{"$f":"'Result Entry'!BN56","v":""},{"$f":"'Result Entry'!BO56","v":0},{"$f":"'Result Entry'!BP56","v":0},{"$f":"'Result Entry'!BQ56","v":0},{"$f":"'Result Entry'!BR56","v":0},{"$f":"'Result Entry'!BS56","v":0},{"$f":"'Result Entry'!BT56","v":0},{"$f":"'Result Entry'!BU56","v":0},{"$f":"'Result Entry'!BV56","v":""},{"$f":"'Result Entry'!BW56","v":0},{"$f":"'Result Entry'!BX56","v":0},{"$f":"'Result Entry'!BY56","v":0},{"$f":"'Result Entry'!BZ56","v":0},{"$f":"'Result Entry'!CA56","v":0},{"$f":"'Result Entry'!CB56","v":0},{"$f":"'Result Entry'!CC56","v":0},{"$f":"'Result Entry'!CD56","v":""},{"$f":"'Result Entry'!CE56","v":0},{"$f":"'Result Entry'!CF56","v":0},{"$f":"'Result Entry'!CG56","v":0},{"$f":"'Result Entry'!CH56","v":0},{"$f":"'Result Entry'!CI56","v":0},{"$f":"'Result Entry'!CJ56","v":0},{"$f":"'Result Entry'!CK56","v":0},{"$f":"'Result Entry'!CL56","v":""},{"$f":"'Result Entry'!CM56","v":0},{"$f":"'Result Entry'!CN56","v":0},{"$f":"'Result Entry'!CO56","v":0},{"$f":"'Result Entry'!CP56","v":0},{"$f":"'Result Entry'!CQ56","v":0},{"$f":"'Result Entry'!CR56","v":0},{"$f":"'Result Entry'!CS56","v":0},{"$f":"'Result Entry'!CT56","v":""},{"$f":"'Result Entry'!CU56","v":0},{"$f":"'Result Entry'!CV56","v":0},{"$f":"'Result Entry'!CW56","v":""},{"$f":"'Result Entry'!CX56","v":500},{"$f":"'Result Entry'!CY56","v":0},{"$f":"'Result Entry'!CZ56","v":{"v":0,"d":"0.00"}},{"$f":"'Result Entry'!DA56","v":""},{"$f":"'Result Entry'!DB56","v":""},{"$f":"'Result Entry'!DC56","v":""},{"$f":"'Result Entry'!DD56","v":""}]
[null,0,{"$f":"'Result Entry'!D57","v":0},{"$f":"'Result Entry'!E57","v":0},{"$f":"'Result Entry'!F57","v":0},{"$f":"'Result Entry'!G57","v":0},{"$f":"'Result Entry'!H57","v":0},{"$f":"'Result Entry'!I57","v":0},{"$f":"'Result Entry'!J57","v":"00:00:00"},{"$f":"'Result Entry'!K57","v":0},{"$f":"'Result Entry'!L57","v":0},{"$f":"'Result Entry'!M57","v":0},{"$f":"'Result Entry'!N57","v":0},{"$f":"'Result Entry'!O57","v":0},{"$f":"'Result Entry'!P57","v":0},{"$f":"'Result Entry'!Q57","v":0},{"$f":"'Result Entry'!R57","v":0},{"$f":"'Result Entry'!S57","v":0},{"$f":"'Result Entry'!T57","v":0},{"$f":"'Result Entry'!U57","v":0},{"$f":"'Result Entry'!V57","v":0},{"$f":"'Result Entry'!W57","v":0},{"$f":"'Result Entry'!X57","v":""},{"$f":"'Result Entry'!Y57","v":0},{"$f":"'Result Entry'!Z57","v":0},{"$f":"'Result Entry'!AA57","v":0},{"$f":"'Result Entry'!AB57","v":0},{"$f":"'Result Entry'!AC57","v":0},{"$f":"'Result Entry'!AD57","v":0},{"$f":"'Result Entry'!AE57","v":0},{"$f":"'Result Entry'!AF57","v":0},{"$f":"'Result Entry'!AG57","v":0},{"$f":"'Result Entry'!AH57","v":0},{"$f":"'Result Entry'!AI57","v":0},{"$f":"'Result Entry'!AJ57","v":0},{"$f":"'Result Entry'!AK57","v":0},{"$f":"'Result Entry'!AL57","v":""},{"$f":"'Result Entry'!AM57","v":0},{"$f":"'Result Entry'!AN57","v":0},{"$f":"'Result Entry'!AO57","v":0},{"$f":"'Result Entry'!AP57","v":0},{"$f":"'Result Entry'!AQ57","v":0},{"$f":"'Result Entry'!AR57","v":0},{"$f":"'Result Entry'!AS57","v":0},{"$f":"'Result Entry'!AT57","v":0},{"$f":"'Result Entry'!AU57","v":0},{"$f":"'Result Entry'!AV57","v":0},{"$f":"'Result Entry'!AW57","v":0},{"$f":"'Result Entry'!AX57","v":0},{"$f":"'Result Entry'!AY57","v":0},{"$f":"'Result Entry'!AZ57","v":""},{"$f":"'Result Entry'!BA57","v":0},{"$f":"'Result Entry'!BB57","v":0},{"$f":"'Result Entry'!BC57","v":0},{"$f":"'Result Entry'!BD57","v":0},{"$f":"'Result Entry'!BE57","v":0},{"$f":"'Result Entry'!BF57","v":0},{"$f":"'Result Entry'!BG57","v":0},{"$f":"'Result Entry'!BH57","v":0},{"$f":"'Result Entry'!BI57","v":0},{"$f":"'Result Entry'!BJ57","v":0},{"$f":"'Result Entry'!BK57","v":0},{"$f":"'Result Entry'!BL57","v":0},{"$f":"'Result Entry'!BM57","v":""},{"$f":"'Result Entry'!BN57","v":""},{"$f":"'Result Entry'!BO57","v":0},{"$f":"'Result Entry'!BP57","v":0},{"$f":"'Result Entry'!BQ57","v":0},{"$f":"'Result Entry'!BR57","v":0},{"$f":"'Result Entry'!BS57","v":0},{"$f":"'Result Entry'!BT57","v":0},{"$f":"'Result Entry'!BU57","v":0},{"$f":"'Result Entry'!BV57","v":""},{"$f":"'Result Entry'!BW57","v":0},{"$f":"'Result Entry'!BX57","v":0},{"$f":"'Result Entry'!BY57","v":0},{"$f":"'Result Entry'!BZ57","v":0},{"$f":"'Result Entry'!CA57","v":0},{"$f":"'Result Entry'!CB57","v":0},{"$f":"'Result Entry'!CC57","v":0},{"$f":"'Result Entry'!CD57","v":""},{"$f":"'Result Entry'!CE57","v":0},{"$f":"'Result Entry'!CF57","v":0},{"$f":"'Result Entry'!CG57","v":0},{"$f":"'Result Entry'!CH57","v":0},{"$f":"'Result Entry'!CI57","v":0},{"$f":"'Result Entry'!CJ57","v":0},{"$f":"'Result Entry'!CK57","v":0},{"$f":"'Result Entry'!CL57","v":""},{"$f":"'Result Entry'!CM57","v":0},{"$f":"'Result Entry'!CN57","v":0},{"$f":"'Result Entry'!CO57","v":0},{"$f":"'Result Entry'!CP57","v":0},{"$f":"'Result Entry'!CQ57","v":0},{"$f":"'Result Entry'!CR57","v":0},{"$f":"'Result Entry'!CS57","v":0},{"$f":"'Result Entry'!CT57","v":""},{"$f":"'Result Entry'!CU57","v":0},{"$f":"'Result Entry'!CV57","v":0},{"$f":"'Result Entry'!CW57","v":""},{"$f":"'Result Entry'!CX57","v":500},{"$f":"'Result Entry'!CY57","v":0},{"$f":"'Result Entry'!CZ57","v":{"v":0,"d":"0.00"}},{"$f":"'Result Entry'!DA57","v":""},{"$f":"'Result Entry'!DB57","v":""},{"$f":"'Result Entry'!DC57","v":""},{"$f":"'Result Entry'!DD57","v":""}]
[null,0,{"$f":"'Result Entry'!D58","v":0},{"$f":"'Result Entry'!E58","v":0},{"$f":"'Result Entry'!F58","v":0},{"$f":"'Result Entry'!G58","v":0},{"$f":"'Result Entry'!H58","v":0},{"$f":"'Result Entry'!I58","v":0},{"$f":"'Result Entry'!J58","v":"00:00:00"},{"$f":"'Result Entry'!K58","v":0},{"$f":"'Result Entry'!L58","v":0},{"$f":"'Result Entry'!M58","v":0},{"$f":"'Result Entry'!N58","v":0},{"$f":"'Result Entry'!O58","v":0},{"$f":"'Result Entry'!P58","v":0},{"$f":"'Result Entry'!Q58","v":0},{"$f":"'Result Entry'!R58","v":0},{"$f":"'Result Entry'!S58","v":0},{"$f":"'Result Entry'!T58","v":0},{"$f":"'Result Entry'!U58","v":0},{"$f":"'Result Entry'!V58","v":0},{"$f":"'Result Entry'!W58","v":0},{"$f":"'Result Entry'!X58","v":""},{"$f":"'Result Entry'!Y58","v":0},{"$f":"'Result Entry'!Z58","v":0},{"$f":"'Result Entry'!AA58","v":0},{"$f":"'Result Entry'!AB58","v":0},{"$f":"'Result Entry'!AC58","v":0},{"$f":"'Result Entry'!AD58","v":0},{"$f":"'Result Entry'!AE58","v":0},{"$f":"'Result Entry'!AF58","v":0},{"$f":"'Result Entry'!AG58","v":0},{"$f":"'Result Entry'!AH58","v":0},{"$f":"'Result Entry'!AI58","v":0},{"$f":"'Result Entry'!AJ58","v":0},{"$f":"'Result Entry'!AK58","v":0},{"$f":"'Result Entry'!AL58","v":""},{"$f":"'Result Entry'!AM58","v":0},{"$f":"'Result Entry'!AN58","v":0},{"$f":"'Result Entry'!AO58","v":0},{"$f":"'Result Entry'!AP58","v":0},{"$f":"'Result Entry'!AQ58","v":0},{"$f":"'Result Entry'!AR58","v":0},{"$f":"'Result Entry'!AS58","v":0},{"$f":"'Result Entry'!AT58","v":0},{"$f":"'Result Entry'!AU58","v":0},{"$f":"'Result Entry'!AV58","v":0},{"$f":"'Result Entry'!AW58","v":0},{"$f":"'Result Entry'!AX58","v":0},{"$f":"'Result Entry'!AY58","v":0},{"$f":"'Result Entry'!AZ58","v":""},{"$f":"'Result Entry'!BA58","v":0},{"$f":"'Result Entry'!BB58","v":0},{"$f":"'Result Entry'!BC58","v":0},{"$f":"'Result Entry'!BD58","v":0},{"$f":"'Result Entry'!BE58","v":0},{"$f":"'Result Entry'!BF58","v":0},{"$f":"'Result Entry'!BG58","v":0},{"$f":"'Result Entry'!BH58","v":0},{"$f":"'Result Entry'!BI58","v":0},{"$f":"'Result Entry'!BJ58","v":0},{"$f":"'Result Entry'!BK58","v":0},{"$f":"'Result Entry'!BL58","v":0},{"$f":"'Result Entry'!BM58","v":""},{"$f":"'Result Entry'!BN58","v":""},{"$f":"'Result Entry'!BO58","v":0},{"$f":"'Result Entry'!BP58","v":0},{"$f":"'Result Entry'!BQ58","v":0},{"$f":"'Result Entry'!BR58","v":0},{"$f":"'Result Entry'!BS58","v":0},{"$f":"'Result Entry'!BT58","v":0},{"$f":"'Result Entry'!BU58","v":0},{"$f":"'Result Entry'!BV58","v":""},{"$f":"'Result Entry'!BW58","v":0},{"$f":"'Result Entry'!BX58","v":0},{"$f":"'Result Entry'!BY58","v":0},{"$f":"'Result Entry'!BZ58","v":0},{"$f":"'Result Entry'!CA58","v":0},{"$f":"'Result Entry'!CB58","v":0},{"$f":"'Result Entry'!CC58","v":0},{"$f":"'Result Entry'!CD58","v":""},{"$f":"'Result Entry'!CE58","v":0},{"$f":"'Result Entry'!CF58","v":0},{"$f":"'Result Entry'!CG58","v":0},{"$f":"'Result Entry'!CH58","v":0},{"$f":"'Result Entry'!CI58","v":0},{"$f":"'Result Entry'!CJ58","v":0},{"$f":"'Result Entry'!CK58","v":0},{"$f":"'Result Entry'!CL58","v":""},{"$f":"'Result Entry'!CM58","v":0},{"$f":"'Result Entry'!CN58","v":0},{"$f":"'Result Entry'!CO58","v":0},{"$f":"'Result Entry'!CP58","v":0},{"$f":"'Result Entry'!CQ58","v":0},{"$f":"'Result Entry'!CR58","v":0},{"$f":"'Result Entry'!CS58","v":0},{"$f":"'Result Entry'!CT58","v":""},{"$f":"'Result Entry'!CU58","v":0},{"$f":"'Result Entry'!CV58","v":0},{"$f":"'Result Entry'!CW58","v":""},{"$f":"'Result Entry'!CX58","v":500},{"$f":"'Result Entry'!CY58","v":0},{"$f":"'Result Entry'!CZ58","v":{"v":0,"d":"0.00"}},{"$f":"'Result Entry'!DA58","v":""},{"$f":"'Result Entry'!DB58","v":""},{"$f":"'Result Entry'!DC58","v":""},{"$f":"'Result Entry'!DD58","v":""}]
[null,0,{"$f":"'Result Entry'!D59","v":0},{"$f":"'Result Entry'!E59","v":0},{"$f":"'Result Entry'!F59","v":0},{"$f":"'Result Entry'!G59","v":0},{"$f":"'Result Entry'!H59","v":0},{"$f":"'Result Entry'!I59","v":0},{"$f":"'Result Entry'!J59","v":"00:00:00"},{"$f":"'Result Entry'!K59","v":0},{"$f":"'Result Entry'!L59","v":0},{"$f":"'Result Entry'!M59","v":0},{"$f":"'Result Entry'!N59","v":0},{"$f":"'Result Entry'!O59","v":0},{"$f":"'Result Entry'!P59","v":0},{"$f":"'Result Entry'!Q59","v":0},{"$f":"'Result Entry'!R59","v":0},{"$f":"'Result Entry'!S59","v":0},{"$f":"'Result Entry'!T59","v":0},{"$f":"'Result Entry'!U59","v":0},{"$f":"'Result Entry'!V59","v":0},{"$f":"'Result Entry'!W59","v":0},{"$f":"'Result Entry'!X59","v":""},{"$f":"'Result Entry'!Y59","v":0},{"$f":"'Result Entry'!Z59","v":0},{"$f":"'Result Entry'!AA59","v":0},{"$f":"'Result Entry'!AB59","v":0},{"$f":"'Result Entry'!AC59","v":0},{"$f":"'Result Entry'!AD59","v":0},{"$f":"'Result Entry'!AE59","v":0},{"$f":"'Result Entry'!AF59","v":0},{"$f":"'Result Entry'!AG59","v":0},{"$f":"'Result Entry'!AH59","v":0},{"$f":"'Result Entry'!AI59","v":0},{"$f":"'Result Entry'!AJ59","v":0},{"$f":"'Result Entry'!AK59","v":0},{"$f":"'Result Entry'!AL59","v":""},{"$f":"'Result Entry'!AM59","v":0},{"$f":"'Result Entry'!AN59","v":0},{"$f":"'Result Entry'!AO59","v":0},{"$f":"'Result Entry'!AP59","v":0},{"$f":"'Result Entry'!AQ59","v":0},{"$f":"'Result Entry'!AR59","v":0},{"$f":"'Result Entry'!AS59","v":0},{"$f":"'Result Entry'!AT59","v":0},{"$f":"'Result Entry'!AU59","v":0},{"$f":"'Result Entry'!AV59","v":0},{"$f":"'Result Entry'!AW59","v":0},{"$f":"'Result Entry'!AX59","v":0},{"$f":"'Result Entry'!AY59","v":0},{"$f":"'Result Entry'!AZ59","v":""},{"$f":"'Result Entry'!BA59","v":0},{"$f":"'Result Entry'!BB59","v":0},{"$f":"'Result Entry'!BC59","v":0},{"$f":"'Result Entry'!BD59","v":0},{"$f":"'Result Entry'!BE59","v":0},{"$f":"'Result Entry'!BF59","v":0},{"$f":"'Result Entry'!BG59","v":0},{"$f":"'Result Entry'!BH59","v":0},{"$f":"'Result Entry'!BI59","v":0},{"$f":"'Result Entry'!BJ59","v":0},{"$f":"'Result Entry'!BK59","v":0},{"$f":"'Result Entry'!BL59","v":0},{"$f":"'Result Entry'!BM59","v":""},{"$f":"'Result Entry'!BN59","v":""},{"$f":"'Result Entry'!BO59","v":0},{"$f":"'Result Entry'!BP59","v":0},{"$f":"'Result Entry'!BQ59","v":0},{"$f":"'Result Entry'!BR59","v":0},{"$f":"'Result Entry'!BS59","v":0},{"$f":"'Result Entry'!BT59","v":0},{"$f":"'Result Entry'!BU59","v":0},{"$f":"'Result Entry'!BV59","v":""},{"$f":"'Result Entry'!BW59","v":0},{"$f":"'Result Entry'!BX59","v":0},{"$f":"'Result Entry'!BY59","v":0},{"$f":"'Result Entry'!BZ59","v":0},{"$f":"'Result Entry'!CA59","v":0},{"$f":"'Result Entry'!CB59","v":0},{"$f":"'Result Entry'!CC59","v":0},{"$f":"'Result Entry'!CD59","v":""},{"$f":"'Result Entry'!CE59","v":0},{"$f":"'Result Entry'!CF59","v":0},{"$f":"'Result Entry'!CG59","v":0},{"$f":"'Result Entry'!CH59","v":0},{"$f":"'Result Entry'!CI59","v":0},{"$f":"'Result Entry'!CJ59","v":0},{"$f":"'Result Entry'!CK59","v":0},{"$f":"'Result Entry'!CL59","v":""},{"$f":"'Result Entry'!CM59","v":0},{"$f":"'Result Entry'!CN59","v":0},{"$f":"'Result Entry'!CO59","v":0},{"$f":"'Result Entry'!CP59","v":0},{"$f":"'Result Entry'!CQ59","v":0},{"$f":"'Result Entry'!CR59","v":0},{"$f":"'Result Entry'!CS59","v":0},{"$f":"'Result Entry'!CT59","v":""},{"$f":"'Result Entry'!CU59","v":0},{"$f":"'Result Entry'!CV59","v":0},{"$f":"'Result Entry'!CW59","v":""},{"$f":"'Result Entry'!CX59","v":500},{"$f":"'Result Entry'!CY59","v":0},{"$f":"'Result Entry'!CZ59","v":{"v":0,"d":"0.00"}},{"$f":"'Result Entry'!DA59","v":""},{"$f":"'Result Entry'!DB59","v":""},{"$f":"'Result Entry'!DC59","v":""},{"$f":"'Result Entry'!DD59","v":""}]
[null,0,{"$f":"'Result Entry'!D60","v":0},{"$f":"'Result Entry'!E60","v":0},{"$f":"'Result Entry'!F60","v":0},{"$f":"'Result Entry'!G60","v":0},{"$f":"'Result Entry'!H60","v":0},{"$f":"'Result Entry'!I60","v":0},{"$f":"'Result Entry'!J60","v":"00:00:00"},{"$f":"'Result Entry'!K60","v":0},{"$f":"'Result Entry'!L60","v":0},{"$f":"'Result Entry'!M60","v":0},{"$f":"'Result Entry'!N60","v":0},{"$f":"'Result Entry'!O60","v":0},{"$f":"'Result Entry'!P60","v":0},{"$f":"'Result Entry'!Q60","v":0},{"$f":"'Result Entry'!R60","v":0},{"$f":"'Result Entry'!S60","v":0},{"$f":"'Result Entry'!T60","v":0},{"$f":"'Result Entry'!U60","v":0},{"$f":"'Result Entry'!V60","v":0},{"$f":"'Result Entry'!W60","v":0},{"$f":"'Result Entry'!X60","v":""},{"$f":"'Result Entry'!Y60","v":0},{"$f":"'Result Entry'!Z60","v":0},{"$f":"'Result Entry'!AA60","v":0},{"$f":"'Result Entry'!AB60","v":0},{"$f":"'Result Entry'!AC60","v":0},{"$f":"'Result Entry'!AD60","v":0},{"$f":"'Result Entry'!AE60","v":0},{"$f":"'Result Entry'!AF60","v":0},{"$f":"'Result Entry'!AG60","v":0},{"$f":"'Result Entry'!AH60","v":0},{"$f":"'Result Entry'!AI60","v":0},{"$f":"'Result Entry'!AJ60","v":0},{"$f":"'Result Entry'!AK60","v":0},{"$f":"'Result Entry'!AL60","v":""},{"$f":"'Result Entry'!AM60","v":0},{"$f":"'Result Entry'!AN60","v":0},{"$f":"'Result Entry'!AO60","v":0},{"$f":"'Result Entry'!AP60","v":0},{"$f":"'Result Entry'!AQ60","v":0},{"$f":"'Result Entry'!AR60","v":0},{"$f":"'Result Entry'!AS60","v":0},{"$f":"'Result Entry'!AT60","v":0},{"$f":"'Result Entry'!AU60","v":0},{"$f":"'Result Entry'!AV60","v":0},{"$f":"'Result Entry'!AW60","v":0},{"$f":"'Result Entry'!AX60","v":0},{"$f":"'Result Entry'!AY60","v":0},{"$f":"'Result Entry'!AZ60","v":""},{"$f":"'Result Entry'!BA60","v":0},{"$f":"'Result Entry'!BB60","v":0},{"$f":"'Result Entry'!BC60","v":0},{"$f":"'Result Entry'!BD60","v":0},{"$f":"'Result Entry'!BE60","v":0},{"$f":"'Result Entry'!BF60","v":0},{"$f":"'Result Entry'!BG60","v":0},{"$f":"'Result Entry'!BH60","v":0},{"$f":"'Result Entry'!BI60","v":0},{"$f":"'Result Entry'!BJ60","v":0},{"$f":"'Result Entry'!BK60","v":0},{"$f":"'Result Entry'!BL60","v":0},{"$f":"'Result Entry'!BM60","v":""},{"$f":"'Result Entry'!BN60","v":""},{"$f":"'Result Entry'!BO60","v":0},{"$f":"'Result Entry'!BP60","v":0},{"$f":"'Result Entry'!BQ60","v":0},{"$f":"'Result Entry'!BR60","v":0},{"$f":"'Result Entry'!BS60","v":0},{"$f":"'Result Entry'!BT60","v":0},{"$f":"'Result Entry'!BU60","v":0},{"$f":"'Result Entry'!BV60","v":""},{"$f":"'Result Entry'!BW60","v":0},{"$f":"'Result Entry'!BX60","v":0},{"$f":"'Result Entry'!BY60","v":0},{"$f":"'Result Entry'!BZ60","v":0},{"$f":"'Result Entry'!CA60","v":0},{"$f":"'Result Entry'!CB60","v":0},{"$f":"'Result Entry'!CC60","v":0},{"$f":"'Result Entry'!CD60","v":""},{"$f":"'Result Entry'!CE60","v":0},{"$f":"'Result Entry'!CF60","v":0},{"$f":"'Result Entry'!CG60","v":0},{"$f":"'Result Entry'!CH60","v":0},{"$f":"'Result Entry'!CI60","v":0},{"$f":"'Result Entry'!CJ60","v":0},{"$f":"'Result Entry'!CK60","v":0},{"$f":"'Result Entry'!CL60","v":""},{"$f":"'Result Entry'!CM60","v":0},{"$f":"'Result Entry'!CN60","v":0},{"$f":"'Result Entry'!CO60","v":0},{"$f":"'Result Entry'!CP60","v":0},{"$f":"'Result Entry'!CQ60","v":0},{"$f":"'Result Entry'!CR60","v":0},{"$f":"'Result Entry'!CS60","v":0},{"$f":"'Result Entry'!CT60","v":""},{"$f":"'Result Entry'!CU60","v":0},{"$f":"'Result Entry'!CV60","v":0},{"$f":"'Result Entry'!CW60","v":""},{"$f":"'Result Entry'!CX60","v":500},{"$f":"'Result Entry'!CY60","v":0},{"$f":"'Result Entry'!CZ60","v":{"v":0,"d":"0.00"}},{"$f":"'Result Entry'!DA60","v":""},{"$f":"'Result Entry'!DB60","v":""},{"$f":"'Result Entry'!DC60","v":""},{"$f":"'Result Entry'!DD60","v":""}]
[null,0,{"$f":"'Result Entry'!D61","v":0},{"$f":"'Result Entry'!E61","v":0},{"$f":"'Result Entry'!F61","v":0},{"$f":"'Result Entry'!G61","v":0},{"$f":"'Result Entry'!H61","v":0},{"$f":"'Result Entry'!I61","v":0},{"$f":"'Result Entry'!J61","v":"00:00:00"},{"$f":"'Result Entry'!K61","v":0},{"$f":"'Result Entry'!L61","v":0},{"$f":"'Result Entry'!M61","v":0},{"$f":"'Result Entry'!N61","v":0},{"$f":"'Result Entry'!O61","v":0},{"$f":"'Result Entry'!P61","v":0},{"$f":"'Result Entry'!Q61","v":0},{"$f":"'Result Entry'!R61","v":0},{"$f":"'Result Entry'!S61","v":0},{"$f":"'Result Entry'!T61","v":0},{"$f":"'Result Entry'!U61","v":0},{"$f":"'Result Entry'!V61","v":0},{"$f":"'Result Entry'!W61","v":0},{"$f":"'Result Entry'!X61","v":""},{"$f":"'Result Entry'!Y61","v":0},{"$f":"'Result Entry'!Z61","v":0},{"$f":"'Result Entry'!AA61","v":0},{"$f":"'Result Entry'!AB61","v":0},{"$f":"'Result Entry'!AC61","v":0},{"$f":"'Result Entry'!AD61","v":0},{"$f":"'Result Entry'!AE61","v":0},{"$f":"'Result Entry'!AF61","v":0},{"$f":"'Result Entry'!AG61","v":0},{"$f":"'Result Entry'!AH61","v":0},{"$f":"'Result Entry'!AI61","v":0},{"$f":"'Result Entry'!AJ61","v":0},{"$f":"'Result Entry'!AK61","v":0},{"$f":"'Result Entry'!AL61","v":""},{"$f":"'Result Entry'!AM61","v":0},{"$f":"'Result Entry'!AN61","v":0},{"$f":"'Result Entry'!AO61","v":0},{"$f":"'Result Entry'!AP61","v":0},{"$f":"'Result Entry'!AQ61","v":0},{"$f":"'Result Entry'!AR61","v":0},{"$f":"'Result Entry'!AS61","v":0},{"$f":"'Result Entry'!AT61","v":0},{"$f":"'Result Entry'!AU61","v":0},{"$f":"'Result Entry'!AV61","v":0},{"$f":"'Result Entry'!AW61","v":0},{"$f":"'Result Entry'!AX61","v":0},{"$f":"'Result Entry'!AY61","v":0},{"$f":"'Result Entry'!AZ61","v":""},{"$f":"'Result Entry'!BA61","v":0},{"$f":"'Result Entry'!BB61","v":0},{"$f":"'Result Entry'!BC61","v":0},{"$f":"'Result Entry'!BD61","v":0},{"$f":"'Result Entry'!BE61","v":0},{"$f":"'Result Entry'!BF61","v":0},{"$f":"'Result Entry'!BG61","v":0},{"$f":"'Result Entry'!BH61","v":0},{"$f":"'Result Entry'!BI61","v":0},{"$f":"'Result Entry'!BJ61","v":0},{"$f":"'Result Entry'!BK61","v":0},{"$f":"'Result Entry'!BL61","v":0},{"$f":"'Result Entry'!BM61","v":""},{"$f":"'Result Entry'!BN61","v":""},{"$f":"'Result Entry'!BO61","v":0},{"$f":"'Result Entry'!BP61","v":0},{"$f":"'Result Entry'!BQ61","v":0},{"$f":"'Result Entry'!BR61","v":0},{"$f":"'Result Entry'!BS61","v":0},{"$f":"'Result Entry'!BT61","v":0},{"$f":"'Result Entry'!BU61","v":0},{"$f":"'Result Entry'!BV61","v":""},{"$f":"'Result Entry'!BW61","v":0},{"$f":"'Result Entry'!BX61","v":0},{"$f":"'Result Entry'!BY61","v":0},{"$f":"'Result Entry'!BZ61","v":0},{"$f":"'Result Entry'!CA61","v":0},{"$f":"'Result Entry'!CB61","v":0},{"$f":"'Result Entry'!CC61","v":0},{"$f":"'Result Entry'!CD61","v":""},{"$f":"'Result Entry'!CE61","v":0},{"$f":"'Result Entry'!CF61","v":0},{"$f":"'Result Entry'!CG61","v":0},{"$f":"'Result Entry'!CH61","v":0},{"$f":"'Result Entry'!CI61","v":0},{"$f":"'Result Entry'!CJ61","v":0},{"$f":"'Result Entry'!CK61","v":0},{"$f":"'Result Entry'!CL61","v":""},{"$f":"'Result Entry'!CM61","v":0},{"$f":"'Result Entry'!CN61","v":0},{"$f":"'Result Entry'!CO61","v":0},{"$f":"'Result Entry'!CP61","v":0},{"$f":"'Result Entry'!CQ61","v":0},{"$f":"'Result Entry'!CR61","v":0},{"$f":"'Result Entry'!CS61","v":0},{"$f":"'Result Entry'!CT61","v":""},{"$f":"'Result Entry'!CU61","v":0},{"$f":"'Result Entry'!CV61","v":0},{"$f":"'Result Entry'!CW61","v":""},{"$f":"'Result Entry'!CX61","v":500},{"$f":"'Result Entry'!CY61","v":0},{"$f":"'Result Entry'!CZ61","v":{"v":0,"d":"0.00"}},{"$f":"'Result Entry'!DA61","v":""},{"$f":"'Result Entry'!DB61","v":""},{"$f":"'Result Entry'!DC61","v":""},{"$f":"'Result Entry'!DD61","v":""}]
[null,0,{"$f":"'Result Entry'!D62","v":0},{"$f":"'Result Entry'!E62","v":0},{"$f":"'Result Entry'!F62","v":0},{"$f":"'Result Entry'!G62","v":0},{"$f":"'Result Entry'!H62","v":0},{"$f":"'Result Entry'!I62","v":0},{"$f":"'Result Entry'!J62","v":"00:00:00"},{"$f":"'Result Entry'!K62","v":0},{"$f":"'Result Entry'!L62","v":0},{"$f":"'Result Entry'!M62","v":0},{"$f":"'Result Entry'!N62","v":0},{"$f":"'Result Entry'!O62","v":0},{"$f":"'Result Entry'!P62","v":0},{"$f":"'Result Entry'!Q62","v":0},{"$f":"'Result Entry'!R62","v":0},{"$f":"'Result Entry'!S62","v":0},{"$f":"'Result Entry'!T62","v":0},{"$f":"'Result Entry'!U62","v":0},{"$f":"'Result Entry'!V62","v":0},{"$f":"'Result Entry'!W62","v":0},{"$f":"'Result Entry'!X62","v":""},{"$f":"'Result Entry'!Y62","v":0},{"$f":"'Result Entry'!Z62","v":0},{"$f":"'Result Entry'!AA62","v":0},{"$f":"'Result Entry'!AB62","v":0},{"$f":"'Result Entry'!AC62","v":0},{"$f":"'Result Entry'!AD62","v":0},{"$f":"'Result Entry'!AE62","v":0},{"$f":"'Result Entry'!AF62","v":0},{"$f":"'Result Entry'!AG62","v":0},{"$f":"'Result Entry'!AH62","v":0},{"$f":"'Result Entry'!AI62","v":0},{"$f":"'Result Entry'!AJ62","v":0},{"$f":"'Result Entry'!AK62","v":0},{"$f":"'Result Entry'!AL62","v":""},{"$f":"'Result Entry'!AM62","v":0},{"$f":"'Result Entry'!AN62","v":0},{"$f":"'Result Entry'!AO62","v":0},{"$f":"'Result Entry'!AP62","v":0},{"$f":"'Result Entry'!AQ62","v":0},{"$f":"'Result Entry'!AR62","v":0},{"$f":"'Result Entry'!AS62","v":0},{"$f":"'Result Entry'!AT62","v":0},{"$f":"'Result Entry'!AU62","v":0},{"$f":"'Result Entry'!AV62","v":0},{"$f":"'Result Entry'!AW62","v":0},{"$f":"'Result Entry'!AX62","v":0},{"$f":"'Result Entry'!AY62","v":0},{"$f":"'Result Entry'!AZ62","v":""},{"$f":"'Result Entry'!BA62","v":0},{"$f":"'Result Entry'!BB62","v":0},{"$f":"'Result Entry'!BC62","v":0},{"$f":"'Result Entry'!BD62","v":0},{"$f":"'Result Entry'!BE62","v":0},{"$f":"'Result Entry'!BF62","v":0},{"$f":"'Result Entry'!BG62","v":0},{"$f":"'Result Entry'!BH62","v":0},{"$f":"'Result Entry'!BI62","v":0},{"$f":"'Result Entry'!BJ62","v":0},{"$f":"'Result Entry'!BK62","v":0},{"$f":"'Result Entry'!BL62","v":0},{"$f":"'Result Entry'!BM62","v":""},{"$f":"'Result Entry'!BN62","v":""},{"$f":"'Result Entry'!BO62","v":0},{"$f":"'Result Entry'!BP62","v":0},{"$f":"'Result Entry'!BQ62","v":0},{"$f":"'Result Entry'!BR62","v":0},{"$f":"'Result Entry'!BS62","v":0},{"$f":"'Result Entry'!BT62","v":0},{"$f":"'Result Entry'!BU62","v":0},{"$f":"'Result Entry'!BV62","v":""},{"$f":"'Result Entry'!BW62","v":0},{"$f":"'Result Entry'!BX62","v":0},{"$f":"'Result Entry'!BY62","v":0},{"$f":"'Result Entry'!BZ62","v":0},{"$f":"'Result Entry'!CA62","v":0},{"$f":"'Result Entry'!CB62","v":0},{"$f":"'Result Entry'!CC62","v":0},{"$f":"'Result Entry'!CD62","v":""},{"$f":"'Result Entry'!CE62","v":0},{"$f":"'Result Entry'!CF62","v":0},{"$f":"'Result Entry'!CG62","v":0},{"$f":"'Result Entry'!CH62","v":0},{"$f":"'Result Entry'!CI62","v":0},{"$f":"'Result Entry'!CJ62","v":0},{"$f":"'Result Entry'!CK62","v":0},{"$f":"'Result Entry'!CL62","v":""},{"$f":"'Result Entry'!CM62","v":0},{"$f":"'Result Entry'!CN62","v":0},{"$f":"'Result Entry'!CO62","v":0},{"$f":"'Result Entry'!CP62","v":0},{"$f":"'Result Entry'!CQ62","v":0},{"$f":"'Result Entry'!CR62","v":0},{"$f":"'Result Entry'!CS62","v":0},{"$f":"'Result Entry'!CT62","v":""},{"$f":"'Result Entry'!CU62","v":0},{"$f":"'Result Entry'!CV62","v":0},{"$f":"'Result Entry'!CW62","v":""},{"$f":"'Result Entry'!CX62","v":500},{"$f":"'Result Entry'!CY62","v":0},{"$f":"'Result Entry'!CZ62","v":{"v":0,"d":"0.00"}},{"$f":"'Result Entry'!DA62","v":""},{"$f":"'Result Entry'!DB62","v":""},{"$f":"'Result Entry'!DC62","v":""},{"$f":"'Result Entry'!DD62","v":""}]
[null,0,{"$f":"'Result Entry'!D63","v":0},{"$f":"'Result Entry'!E63","v":0},{"$f":"'Result Entry'!F63","v":0},{"$f":"'Result Entry'!G63","v":0},{"$f":"'Result Entry'!H63","v":0},{"$f":"'Result Entry'!I63","v":0},{"$f":"'Result Entry'!J63","v":"00:00:00"},{"$f":"'Result Entry'!K63","v":0},{"$f":"'Result Entry'!L63","v":0},{"$f":"'Result Entry'!M63","v":0},{"$f":"'Result Entry'!N63","v":0},{"$f":"'Result Entry'!O63","v":0},{"$f":"'Result Entry'!P63","v":0},{"$f":"'Result Entry'!Q63","v":0},{"$f":"'Result Entry'!R63","v":0},{"$f":"'Result Entry'!S63","v":0},{"$f":"'Result Entry'!T63","v":0},{"$f":"'Result Entry'!U63","v":0},{"$f":"'Result Entry'!V63","v":0},{"$f":"'Result Entry'!W63","v":0},{"$f":"'Result Entry'!X63","v":""},{"$f":"'Result Entry'!Y63","v":0},{"$f":"'Result Entry'!Z63","v":0},{"$f":"'Result Entry'!AA63","v":0},{"$f":"'Result Entry'!AB63","v":0},{"$f":"'Result Entry'!AC63","v":0},{"$f":"'Result Entry'!AD63","v":0},{"$f":"'Result Entry'!AE63","v":0},{"$f":"'Result Entry'!AF63","v":0},{"$f":"'Result Entry'!AG63","v":0},{"$f":"'Result Entry'!AH63","v":0},{"$f":"'Result Entry'!AI63","v":0},{"$f":"'Result Entry'!AJ63","v":0},{"$f":"'Result Entry'!AK63","v":0},{"$f":"'Result Entry'!AL63","v":""},{"$f":"'Result Entry'!AM63","v":0},{"$f":"'Result Entry'!AN63","v":0},{"$f":"'Result Entry'!AO63","v":0},{"$f":"'Result Entry'!AP63","v":0},{"$f":"'Result Entry'!AQ63","v":0},{"$f":"'Result Entry'!AR63","v":0},{"$f":"'Result Entry'!AS63","v":0},{"$f":"'Result Entry'!AT63","v":0},{"$f":"'Result Entry'!AU63","v":0},{"$f":"'Result Entry'!AV63","v":0},{"$f":"'Result Entry'!AW63","v":0},{"$f":"'Result Entry'!AX63","v":0},{"$f":"'Result Entry'!AY63","v":0},{"$f":"'Result Entry'!AZ63","v":""},{"$f":"'Result Entry'!BA63","v":0},{"$f":"'Result Entry'!BB63","v":0},{"$f":"'Result Entry'!BC63","v":0},{"$f":"'Result Entry'!BD63","v":0},{"$f":"'Result Entry'!BE63","v":0},{"$f":"'Result Entry'!BF63","v":0},{"$f":"'Result Entry'!BG63","v":0},{"$f":"'Result Entry'!BH63","v":0},{"$f":"'Result Entry'!BI63","v":0},{"$f":"'Result Entry'!BJ63","v":0},{"$f":"'Result Entry'!BK63","v":0},{"$f":"'Result Entry'!BL63","v":0},{"$f":"'Result Entry'!BM63","v":""},{"$f":"'Result Entry'!BN63","v":""},{"$f":"'Result Entry'!BO63","v":0},{"$f":"'Result Entry'!BP63","v":0},{"$f":"'Result Entry'!BQ63","v":0},{"$f":"'Result Entry'!BR63","v":0},{"$f":"'Result Entry'!BS63","v":0},{"$f":"'Result Entry'!BT63","v":0},{"$f":"'Result Entry'!BU63","v":0},{"$f":"'Result Entry'!BV63","v":""},{"$f":"'Result Entry'!BW63","v":0},{"$f":"'Result Entry'!BX63","v":0},{"$f":"'Result Entry'!BY63","v":0},{"$f":"'Result Entry'!BZ63","v":0},{"$f":"'Result Entry'!CA63","v":0},{"$f":"'Result Entry'!CB63","v":0},{"$f":"'Result Entry'!CC63","v":0},{"$f":"'Result Entry'!CD63","v":""},{"$f":"'Result Entry'!CE63","v":0},{"$f":"'Result Entry'!CF63","v":0},{"$f":"'Result Entry'!CG63","v":0},{"$f":"'Result Entry'!CH63","v":0},{"$f":"'Result Entry'!CI63","v":0},{"$f":"'Result Entry'!CJ63","v":0},{"$f":"'Result Entry'!CK63","v":0},{"$f":"'Result Entry'!CL63","v":""},{"$f":"'Result Entry'!CM63","v":0},{"$f":"'Result Entry'!CN63","v":0},{"$f":"'Result Entry'!CO63","v":0},{"$f":"'Result Entry'!CP63","v":0},{"$f":"'Result Entry'!CQ63","v":0},{"$f":"'Result Entry'!CR63","v":0},{"$f":"'Result Entry'!CS63","v":0},{"$f":"'Result Entry'!CT63","v":""},{"$f":"'Result Entry'!CU63","v":0},{"$f":"'Result Entry'!CV63","v":0},{"$f":"'Result Entry'!CW63","v":""},{"$f":"'Result Entry'!CX63","v":500},{"$f":"'Result Entry'!CY63","v":0},{"$f":"'Result Entry'!CZ63","v":{"v":0,"d":"0.00"}},{"$f":"'Result Entry'!DA63","v":""},{"$f":"'Result Entry'!DB63","v":""},{"$f":"'Result Entry'!DC63","v":""},{"$f":"'Result Entry'!DD63","v":""}]
[null,0,{"$f":"'Result Entry'!D64","v":0},{"$f":"'Result Entry'!E64","v":0},{"$f":"'Result Entry'!F64","v":0},{"$f":"'Result Entry'!G64","v":0},{"$f":"'Result Entry'!H64","v":0},{"$f":"'Result Entry'!I64","v":0},{"$f":"'Result Entry'!J64","v":"00:00:00"},{"$f":"'Result Entry'!K64","v":0},{"$f":"'Result Entry'!L64","v":0},{"$f":"'Result Entry'!M64","v":0},{"$f":"'Result Entry'!N64","v":0},{"$f":"'Result Entry'!O64","v":0},{"$f":"'Result Entry'!P64","v":0},{"$f":"'Result Entry'!Q64","v":0},{"$f":"'Result Entry'!R64","v":0},{"$f":"'Result Entry'!S64","v":0},{"$f":"'Result Entry'!T64","v":0},{"$f":"'Result Entry'!U64","v":0},{"$f":"'Result Entry'!V64","v":0},{"$f":"'Result Entry'!W64","v":0},{"$f":"'Result Entry'!X64","v":""},{"$f":"'Result Entry'!Y64","v":0},{"$f":"'Result Entry'!Z64","v":0},{"$f":"'Result Entry'!AA64","v":0},{"$f":"'Result Entry'!AB64","v":0},{"$f":"'Result Entry'!AC64","v":0},{"$f":"'Result Entry'!AD64","v":0},{"$f":"'Result Entry'!AE64","v":0},{"$f":"'Result Entry'!AF64","v":0},{"$f":"'Result Entry'!AG64","v":0},{"$f":"'Result Entry'!AH64","v":0},{"$f":"'Result Entry'!AI64","v":0},{"$f":"'Result Entry'!AJ64","v":0},{"$f":"'Result Entry'!AK64","v":0},{"$f":"'Result Entry'!AL64","v":""},{"$f":"'Result Entry'!AM64","v":0},{"$f":"'Result Entry'!AN64","v":0},{"$f":"'Result Entry'!AO64","v":0},{"$f":"'Result Entry'!AP64","v":0},{"$f":"'Result Entry'!AQ64","v":0},{"$f":"'Result Entry'!AR64","v":0},{"$f":"'Result Entry'!AS64","v":0},{"$f":"'Result Entry'!AT64","v":0},{"$f":"'Result Entry'!AU64","v":0},{"$f":"'Result Entry'!AV64","v":0},{"$f":"'Result Entry'!AW64","v":0},{"$f":"'Result Entry'!AX64","v":0},{"$f":"'Result Entry'!AY64","v":0},{"$f":"'Result Entry'!AZ64","v":""},{"$f":"'Result Entry'!BA64","v":0},{"$f":"'Result Entry'!BB64","v":0},{"$f":"'Result Entry'!BC64","v":0},{"$f":"'Result Entry'!BD64","v":0},{"$f":"'Result Entry'!BE64","v":0},{"$f":"'Result Entry'!BF64","v":0},{"$f":"'Result Entry'!BG64","v":0},{"$f":"'Result Entry'!BH64","v":0},{"$f":"'Result Entry'!BI64","v":0},{"$f":"'Result Entry'!BJ64","v":0},{"$f":"'Result Entry'!BK64","v":0},{"$f":"'Result Entry'!BL64","v":0},{"$f":"'Result Entry'!BM64","v":""},{"$f":"'Result Entry'!BN64","v":""},{"$f":"'Result Entry'!BO64","v":0},{"$f":"'Result Entry'!BP64","v":0},{"$f":"'Result Entry'!BQ64","v":0},{"$f":"'Result Entry'!BR64","v":0},{"$f":"'Result Entry'!BS64","v":0},{"$f":"'Result Entry'!BT64","v":0},{"$f":"'Result Entry'!BU64","v":0},{"$f":"'Result Entry'!BV64","v":""},{"$f":"'Result Entry'!BW64","v":0},{"$f":"'Result Entry'!BX64","v":0},{"$f":"'Result Entry'!BY64","v":0},{"$f":"'Result Entry'!BZ64","v":0},{"$f":"'Result Entry'!CA64","v":0},{"$f":"'Result Entry'!CB64","v":0},{"$f":"'Result Entry'!CC64","v":0},{"$f":"'Result Entry'!CD64","v":""},{"$f":"'Result Entry'!CE64","v":0},{"$f":"'Result Entry'!CF64","v":0},{"$f":"'Result Entry'!CG64","v":0},{"$f":"'Result Entry'!CH64","v":0},{"$f":"'Result Entry'!CI64","v":0},{"$f":"'Result Entry'!CJ64","v":0},{"$f":"'Result Entry'!CK64","v":0},{"$f":"'Result Entry'!CL64","v":""},{"$f":"'Result Entry'!CM64","v":0},{"$f":"'Result Entry'!CN64","v":0},{"$f":"'Result Entry'!CO64","v":0},{"$f":"'Result Entry'!CP64","v":0},{"$f":"'Result Entry'!CQ64","v":0},{"$f":"'Result Entry'!CR64","v":0},{"$f":"'Result Entry'!CS64","v":0},{"$f":"'Result Entry'!CT64","v":""},{"$f":"'Result Entry'!CU64","v":0},{"$f":"'Result Entry'!CV64","v":0},{"$f":"'Result Entry'!CW64","v":""},{"$f":"'Result Entry'!CX64","v":500},{"$f":"'Result Entry'!CY64","v":0},{"$f":"'Result Entry'!CZ64","v":{"v":0,"d":"0.00"}},{"$f":"'Result Entry'!DA64","v":""},{"$f":"'Result Entry'!DB64","v":""},{"$f":"'Result Entry'!DC64","v":""},{"$f":"'Result Entry'!DD64","v":""}]
[null,0,{"$f":"'Result Entry'!D65","v":0},{"$f":"'Result Entry'!E65","v":0},{"$f":"'Result Entry'!F65","v":0},{"$f":"'Result Entry'!G65","v":0},{"$f":"'Result Entry'!H65","v":0},{"$f":"'Result Entry'!I65","v":0},{"$f":"'Result Entry'!J65","v":"00:00:00"},{"$f":"'Result Entry'!K65","v":0},{"$f":"'Result Entry'!L65","v":0},{"$f":"'Result Entry'!M65","v":0},{"$f":"'Result Entry'!N65","v":0},{"$f":"'Result Entry'!O65","v":0},{"$f":"'Result Entry'!P65","v":0},{"$f":"'Result Entry'!Q65","v":0},{"$f":"'Result Entry'!R65","v":0},{"$f":"'Result Entry'!S65","v":0},{"$f":"'Result Entry'!T65","v":0},{"$f":"'Result Entry'!U65","v":0},{"$f":"'Result Entry'!V65","v":0},{"$f":"'Result Entry'!W65","v":0},{"$f":"'Result Entry'!X65","v":""},{"$f":"'Result Entry'!Y65","v":0},{"$f":"'Result Entry'!Z65","v":0},{"$f":"'Result Entry'!AA65","v":0},{"$f":"'Result Entry'!AB65","v":0},{"$f":"'Result Entry'!AC65","v":0},{"$f":"'Result Entry'!AD65","v":0},{"$f":"'Result Entry'!AE65","v":0},{"$f":"'Result Entry'!AF65","v":0},{"$f":"'Result Entry'!AG65","v":0},{"$f":"'Result Entry'!AH65","v":0},{"$f":"'Result Entry'!AI65","v":0},{"$f":"'Result Entry'!AJ65","v":0},{"$f":"'Result Entry'!AK65","v":0},{"$f":"'Result Entry'!AL65","v":""},{"$f":"'Result Entry'!AM65","v":0},{"$f":"'Result Entry'!AN65","v":0},{"$f":"'Result Entry'!AO65","v":0},{"$f":"'Result Entry'!AP65","v":0},{"$f":"'Result Entry'!AQ65","v":0},{"$f":"'Result Entry'!AR65","v":0},{"$f":"'Result Entry'!AS65","v":0},{"$f":"'Result Entry'!AT65","v":0},{"$f":"'Result Entry'!AU65","v":0},{"$f":"'Result Entry'!AV65","v":0},{"$f":"'Result Entry'!AW65","v":0},{"$f":"'Result Entry'!AX65","v":0},{"$f":"'Result Entry'!AY65","v":0},{"$f":"'Result Entry'!AZ65","v":""},{"$f":"'Result Entry'!BA65","v":0},{"$f":"'Result Entry'!BB65","v":0},{"$f":"'Result Entry'!BC65","v":0},{"$f":"'Result Entry'!BD65","v":0},{"$f":"'Result Entry'!BE65","v":0},{"$f":"'Result Entry'!BF65","v":0},{"$f":"'Result Entry'!BG65","v":0},{"$f":"'Result Entry'!BH65","v":0},{"$f":"'Result Entry'!BI65","v":0},{"$f":"'Result Entry'!BJ65","v":0},{"$f":"'Result Entry'!BK65","v":0},{"$f":"'Result Entry'!BL65","v":0},{"$f":"'Result Entry'!BM65","v":""},{"$f":"'Result Entry'!BN65","v":""},{"$f":"'Result Entry'!BO65","v":0},{"$f":"'Result Entry'!BP65","v":0},{"$f":"'Result Entry'!BQ65","v":0},{"$f":"'Result Entry'!BR65","v":0},{"$f":"'Result Entry'!BS65","v":0},{"$f":"'Result Entry'!BT65","v":0},{"$f":"'Result Entry'!BU65","v":0},{"$f":"'Result Entry'!BV65","v":""},{"$f":"'Result Entry'!BW65","v":0},{"$f":"'Result Entry'!BX65","v":0},{"$f":"'Result Entry'!BY65","v":0},{"$f":"'Result Entry'!BZ65","v":0},{"$f":"'Result Entry'!CA65","v":0},{"$f":"'Result Entry'!CB65","v":0},{"$f":"'Result Entry'!CC65","v":0},{"$f":"'Result Entry'!CD65","v":""},{"$f":"'Result Entry'!CE65","v":0},{"$f":"'Result Entry'!CF65","v":0},{"$f":"'Result Entry'!CG65","v":0},{"$f":"'Result Entry'!CH65","v":0},{"$f":"'Result Entry'!CI65","v":0},{"$f":"'Result Entry'!CJ65","v":0},{"$f":"'Result Entry'!CK65","v":0},{"$f":"'Result Entry'!CL65","v":""},{"$f":"'Result Entry'!CM65","v":0},{"$f":"'Result Entry'!CN65","v":0},{"$f":"'Result Entry'!CO65","v":0},{"$f":"'Result Entry'!CP65","v":0},{"$f":"'Result Entry'!CQ65","v":0},{"$f":"'Result Entry'!CR65","v":0},{"$f":"'Result Entry'!CS65","v":0},{"$f":"'Result Entry'!CT65","v":""},{"$f":"'Result Entry'!CU65","v":0},{"$f":"'Result Entry'!CV65","v":0},{"$f":"'Result Entry'!CW65","v":""},{"$f":"'Result Entry'!CX65","v":500},{"$f":"'Result Entry'!CY65","v":0},{"$f":"'Result Entry'!CZ65","v":{"v":0,"d":"0.00"}},{"$f":"'Result Entry'!DA65","v":""},{"$f":"'Result Entry'!DB65","v":""},{"$f":"'Result Entry'!DC65","v":""},{"$f":"'Result Entry'!DD65","v":""}]
[null,0,{"$f":"'Result Entry'!D66","v":0},{"$f":"'Result Entry'!E66","v":0},{"$f":"'Result Entry'!F66","v":0},{"$f":"'Result Entry'!G66","v":0},{"$f":"'Result Entry'!H66","v":0},{"$f":"'Result Entry'!I66","v":0},{"$f":"'Result Entry'!J66","v":"00:00:00"},{"$f":"'Result Entry'!K66","v":0},{"$f":"'Result Entry'!L66","v":0},{"$f":"'Result Entry'!M66","v":0},{"$f":"'Result Entry'!N66","v":0},{"$f":"'Result Entry'!O66","v":0},{"$f":"'Result Entry'!P66","v":0},{"$f":"'Result Entry'!Q66","v":0},{"$f":"'Result Entry'!R66","v":0},{"$f":"'Result Entry'!S66","v":0},{"$f":"'Result Entry'!T66","v":0},{"$f":"'Result Entry'!U66","v":0},{"$f":"'Result Entry'!V66","v":0},{"$f":"'Result Entry'!W66","v":0},{"$f":"'Result Entry'!X66","v":""},{"$f":"'Result Entry'!Y66","v":0},{"$f":"'Result Entry'!Z66","v":0},{"$f":"'Result Entry'!AA66","v":0},{"$f":"'Result Entry'!AB66","v":0},{"$f":"'Result Entry'!AC66","v":0},{"$f":"'Result Entry'!AD66","v":0},{"$f":"'Result Entry'!AE66","v":0},{"$f":"'Result Entry'!AF66","v":0},{"$f":"'Result Entry'!AG66","v":0},{"$f":"'Result Entry'!AH66","v":0},{"$f":"'Result Entry'!AI66","v":0},{"$f":"'Result Entry'!AJ66","v":0},{"$f":"'Result Entry'!AK66","v":0},{"$f":"'Result Entry'!AL66","v":""},{"$f":"'Result Entry'!AM66","v":0},{"$f":"'Result Entry'!AN66","v":0},{"$f":"'Result Entry'!AO66","v":0},{"$f":"'Result Entry'!AP66","v":0},{"$f":"'Result Entry'!AQ66","v":0},{"$f":"'Result Entry'!AR66","v":0},{"$f":"'Result Entry'!AS66","v":0},{"$f":"'Result Entry'!AT66","v":0},{"$f":"'Result Entry'!AU66","v":0},{"$f":"'Result Entry'!AV66","v":0},{"$f":"'Result Entry'!AW66","v":0},{"$f":"'Result Entry'!AX66","v":0},{"$f":"'Result Entry'!AY66","v":0},{"$f":"'Result Entry'!AZ66","v":""},{"$f":"'Result Entry'!BA66","v":0},{"$f":"'Result Entry'!BB66","v":0},{"$f":"'Result Entry'!BC66","v":0},{"$f":"'Result Entry'!BD66","v":0},{"$f":"'Result Entry'!BE66","v":0},{"$f":"'Result Entry'!BF66","v":0},{"$f":"'Result Entry'!BG66","v":0},{"$f":"'Result Entry'!BH66","v":0},{"$f":"'Result Entry'!BI66","v":0},{"$f":"'Result Entry'!BJ66","v":0},{"$f":"'Result Entry'!BK66","v":0},{"$f":"'Result Entry'!BL66","v":0},{"$f":"'Result Entry'!BM66","v":""},{"$f":"'Result Entry'!BN66","v":""},{"$f":"'Result Entry'!BO66","v":0},{"$f":"'Result Entry'!BP66","v":0},{"$f":"'Result Entry'!BQ66","v":0},{"$f":"'Result Entry'!BR66","v":0},{"$f":"'Result Entry'!BS66","v":0},{"$f":"'Result Entry'!BT66","v":0},{"$f":"'Result Entry'!BU66","v":0},{"$f":"'Result Entry'!BV66","v":""},{"$f":"'Result Entry'!BW66","v":0},{"$f":"'Result Entry'!BX66","v":0},{"$f":"'Result Entry'!BY66","v":0},{"$f":"'Result Entry'!BZ66","v":0},{"$f":"'Result Entry'!CA66","v":0},{"$f":"'Result Entry'!CB66","v":0},{"$f":"'Result Entry'!CC66","v":0},{"$f":"'Result Entry'!CD66","v":""},{"$f":"'Result Entry'!CE66","v":0},{"$f":"'Result Entry'!CF66","v":0},{"$f":"'Result Entry'!CG66","v":0},{"$f":"'Result Entry'!CH66","v":0},{"$f":"'Result Entry'!CI66","v":0},{"$f":"'Result Entry'!CJ66","v":0},{"$f":"'Result Entry'!CK66","v":0},{"$f":"'Result Entry'!CL66","v":""},{"$f":"'Result Entry'!CM66","v":0},{"$f":"'Result Entry'!CN66","v":0},{"$f":"'Result Entry'!CO66","v":0},{"$f":"'Result Entry'!CP66","v":0},{"$f":"'Result Entry'!CQ66","v":0},{"$f":"'Result Entry'!CR66","v":0},{"$f":"'Result Entry'!CS66","v":0},{"$f":"'Result Entry'!CT66","v":""},{"$f":"'Result Entry'!CU66","v":0},{"$f":"'Result Entry'!CV66","v":0},{"$f":"'Result Entry'!CW66","v":""},{"$f":"'Result Entry'!CX66","v":500},{"$f":"'Result Entry'!CY66","v":0},{"$f":"'Result Entry'!CZ66","v":{"v":0,"d":"0.00"}},{"$f":"'Result Entry'!DA66","v":""},{"$f":"'Result Entry'!DB66","v":""},{"$f":"'Result Entry'!DC66","v":""},{"$f":"'Result Entry'!DD66","v":""}]
[null,0,{"$f":"'Result Entry'!D67","v":0},{"$f":"'Result Entry'!E67","v":0},{"$f":"'Result Entry'!F67","v":0},{"$f":"'Result Entry'!G67","v":0},{"$f":"'Result Entry'!H67","v":0},{"$f":"'Result Entry'!I67","v":0},{"$f":"'Result Entry'!J67","v":"00:00:00"},{"$f":"'Result Entry'!K67","v":0},{"$f":"'Result Entry'!L67","v":0},{"$f":"'Result Entry'!M67","v":0},{"$f":"'Result Entry'!N67","v":0},{"$f":"'Result Entry'!O67","v":0},{"$f":"'Result Entry'!P67","v":0},{"$f":"'Result Entry'!Q67","v":0},{"$f":"'Result Entry'!R67","v":0},{"$f":"'Result Entry'!S67","v":0},{"$f":"'Result Entry'!T67","v":0},{"$f":"'Result Entry'!U67","v":0},{"$f":"'Result Entry'!V67","v":0},{"$f":"'Result Entry'!W67","v":0},{"$f":"'Result Entry'!X67","v":""},{"$f":"'Result Entry'!Y67","v":0},{"$f":"'Result Entry'!Z67","v":0},{"$f":"'Result Entry'!AA67","v":0},{"$f":"'Result Entry'!AB67","v":0},{"$f":"'Result Entry'!AC67","v":0},{"$f":"'Result Entry'!AD67","v":0},{"$f":"'Result Entry'!AE67","v":0},{"$f":"'Result Entry'!AF67","v":0},{"$f":"'Result Entry'!AG67","v":0},{"$f":"'Result Entry'!AH67","v":0},{"$f":"'Result Entry'!AI67","v":0},{"$f":"'Result Entry'!AJ67","v":0},{"$f":"'Result Entry'!AK67","v":0},{"$f":"'Result Entry'!AL67","v":""},{"$f":"'Result Entry'!AM67","v":0},{"$f":"'Result Entry'!AN67","v":0},{"$f":"'Result Entry'!AO67","v":0},{"$f":"'Result Entry'!AP67","v":0},{"$f":"'Result Entry'!AQ67","v":0},{"$f":"'Result Entry'!AR67","v":0},{"$f":"'Result Entry'!AS67","v":0},{"$f":"'Result Entry'!AT67","v":0},{"$f":"'Result Entry'!AU67","v":0},{"$f":"'Result Entry'!AV67","v":0},{"$f":"'Result Entry'!AW67","v":0},{"$f":"'Result Entry'!AX67","v":0},{"$f":"'Result Entry'!AY67","v":0},{"$f":"'Result Entry'!AZ67","v":""},{"$f":"'Result Entry'!BA67","v":0},{"$f":"'Result Entry'!BB67","v":0},{"$f":"'Result Entry'!BC67","v":0},{"$f":"'Result Entry'!BD67","v":0},{"$f":"'Result Entry'!BE67","v":0},{"$f":"'Result Entry'!BF67","v":0},{"$f":"'Result Entry'!BG67","v":0},{"$f":"'Result Entry'!BH67","v":0},{"$f":"'Result Entry'!BI67","v":0},{"$f":"'Result Entry'!BJ67","v":0},{"$f":"'Result Entry'!BK67","v":0},{"$f":"'Result Entry'!BL67","v":0},{"$f":"'Result Entry'!BM67","v":""},{"$f":"'Result Entry'!BN67","v":""},{"$f":"'Result Entry'!BO67","v":0},{"$f":"'Result Entry'!BP67","v":0},{"$f":"'Result Entry'!BQ67","v":0},{"$f":"'Result Entry'!BR67","v":0},{"$f":"'Result Entry'!BS67","v":0},{"$f":"'Result Entry'!BT67","v":0},{"$f":"'Result Entry'!BU67","v":0},{"$f":"'Result Entry'!BV67","v":""},{"$f":"'Result Entry'!BW67","v":0},{"$f":"'Result Entry'!BX67","v":0},{"$f":"'Result Entry'!BY67","v":0},{"$f":"'Result Entry'!BZ67","v":0},{"$f":"'Result Entry'!CA67","v":0},{"$f":"'Result Entry'!CB67","v":0},{"$f":"'Result Entry'!CC67","v":0},{"$f":"'Result Entry'!CD67","v":""},{"$f":"'Result Entry'!CE67","v":0},{"$f":"'Result Entry'!CF67","v":0},{"$f":"'Result Entry'!CG67","v":0},{"$f":"'Result Entry'!CH67","v":0},{"$f":"'Result Entry'!CI67","v":0},{"$f":"'Result Entry'!CJ67","v":0},{"$f":"'Result Entry'!CK67","v":0},{"$f":"'Result Entry'!CL67","v":""},{"$f":"'Result Entry'!CM67","v":0},{"$f":"'Result Entry'!CN67","v":0},{"$f":"'Result Entry'!CO67","v":0},{"$f":"'Result Entry'!CP67","v":0},{"$f":"'Result Entry'!CQ67","v":0},{"$f":"'Result Entry'!CR67","v":0},{"$f":"'Result Entry'!CS67","v":0},{"$f":"'Result Entry'!CT67","v":""},{"$f":"'Result Entry'!CU67","v":0},{"$f":"'Result Entry'!CV67","v":0},{"$f":"'Result Entry'!CW67","v":""},{"$f":"'Result Entry'!CX67","v":500},{"$f":"'Result Entry'!CY67","v":0},{"$f":"'Result Entry'!CZ67","v":{"v":0,"d":"0.00"}},{"$f":"'Result Entry'!DA67","v":""},{"$f":"'Result Entry'!DB67","v":""},{"$f":"'Result Entry'!DC67","v":""},{"$f":"'Result Entry'!DD67","v":""}]
[null,0,{"$f":"'Result Entry'!D68","v":0},{"$f":"'Result Entry'!E68","v":0},{"$f":"'Result Entry'!F68","v":0},{"$f":"'Result Entry'!G68","v":0},{"$f":"'Result Entry'!H68","v":0},{"$f":"'Result Entry'!I68","v":0},{"$f":"'Result Entry'!J68","v":"00:00:00"},{"$f":"'Result Entry'!K68","v":0},{"$f":"'Result Entry'!L68","v":0},{"$f":"'Result Entry'!M68","v":0},{"$f":"'Result Entry'!N68","v":0},{"$f":"'Result Entry'!O68","v":0},{"$f":"'Result Entry'!P68","v":0},{"$f":"'Result Entry'!Q68","v":0},{"$f":"'Result Entry'!R68","v":0},{"$f":"'Result Entry'!S68","v":0},{"$f":"'Result Entry'!T68","v":0},{"$f":"'Result Entry'!U68","v":0},{"$f":"'Result Entry'!V68","v":0},{"$f":"'Result Entry'!W68","v":0},{"$f":"'Result Entry'!X68","v":""},{"$f":"'Result Entry'!Y68","v":0},{"$f":"'Result Entry'!Z68","v":0},{"$f":"'Result Entry'!AA68","v":0},{"$f":"'Result Entry'!AB68","v":0},{"$f":"'Result Entry'!AC68","v":0},{"$f":"'Result Entry'!AD68","v":0},{"$f":"'Result Entry'!AE68","v":0},{"$f":"'Result Entry'!AF68","v":0},{"$f":"'Result Entry'!AG68","v":0},{"$f":"'Result Entry'!AH68","v":0},{"$f":"'Result Entry'!AI68","v":0},{"$f":"'Result Entry'!AJ68","v":0},{"$f":"'Result Entry'!AK68","v":0},{"$f":"'Result Entry'!AL68","v":""},{"$f":"'Result Entry'!AM68","v":0},{"$f":"'Result Entry'!AN68","v":0},{"$f":"'Result Entry'!AO68","v":0},{"$f":"'Result Entry'!AP68","v":0},{"$f":"'Result Entry'!AQ68","v":0},{"$f":"'Result Entry'!AR68","v":0},{"$f":"'Result Entry'!AS68","v":0},{"$f":"'Result Entry'!AT68","v":0},{"$f":"'Result Entry'!AU68","v":0},{"$f":"'Result Entry'!AV68","v":0},{"$f":"'Result Entry'!AW68","v":0},{"$f":"'Result Entry'!AX68","v":0},{"$f":"'Result Entry'!AY68","v":0},{"$f":"'Result Entry'!AZ68","v":""},{"$f":"'Result Entry'!BA68","v":0},{"$f":"'Result Entry'!BB68","v":0},{"$f":"'Result Entry'!BC68","v":0},{"$f":"'Result Entry'!BD68","v":0},{"$f":"'Result Entry'!BE68","v":0},{"$f":"'Result Entry'!BF68","v":0},{"$f":"'Result Entry'!BG68","v":0},{"$f":"'Result Entry'!BH68","v":0},{"$f":"'Result Entry'!BI68","v":0},{"$f":"'Result Entry'!BJ68","v":0},{"$f":"'Result Entry'!BK68","v":0},{"$f":"'Result Entry'!BL68","v":0},{"$f":"'Result Entry'!BM68","v":""},{"$f":"'Result Entry'!BN68","v":""},{"$f":"'Result Entry'!BO68","v":0},{"$f":"'Result Entry'!BP68","v":0},{"$f":"'Result Entry'!BQ68","v":0},{"$f":"'Result Entry'!BR68","v":0},{"$f":"'Result Entry'!BS68","v":0},{"$f":"'Result Entry'!BT68","v":0},{"$f":"'Result Entry'!BU68","v":0},{"$f":"'Result Entry'!BV68","v":""},{"$f":"'Result Entry'!BW68","v":0},{"$f":"'Result Entry'!BX68","v":0},{"$f":"'Result Entry'!BY68","v":0},{"$f":"'Result Entry'!BZ68","v":0},{"$f":"'Result Entry'!CA68","v":0},{"$f":"'Result Entry'!CB68","v":0},{"$f":"'Result Entry'!CC68","v":0},{"$f":"'Result Entry'!CD68","v":""},{"$f":"'Result Entry'!CE68","v":0},{"$f":"'Result Entry'!CF68","v":0},{"$f":"'Result Entry'!CG68","v":0},{"$f":"'Result Entry'!CH68","v":0},{"$f":"'Result Entry'!CI68","v":0},{"$f":"'Result Entry'!CJ68","v":0},{"$f":"'Result Entry'!CK68","v":0},{"$f":"'Result Entry'!CL68","v":""},{"$f":"'Result Entry'!CM68","v":0},{"$f":"'Result Entry'!CN68","v":0},{"$f":"'Result Entry'!CO68","v":0},{"$f":"'Result Entry'!CP68","v":0},{"$f":"'Result Entry'!CQ68","v":0},{"$f":"'Result Entry'!CR68","v":0},{"$f":"'Result Entry'!CS68","v":0},{"$f":"'Result Entry'!CT68","v":""},{"$f":"'Result Entry'!CU68","v":0},{"$f":"'Result Entry'!CV68","v":0},{"$f":"'Result Entry'!CW68","v":""},{"$f":"'Result Entry'!CX68","v":500},{"$f":"'Result Entry'!CY68","v":0},{"$f":"'Result Entry'!CZ68","v":{"v":0,"d":"0.00"}},{"$f":"'Result Entry'!DA68","v":""},{"$f":"'Result Entry'!DB68","v":""},{"$f":"'Result Entry'!DC68","v":""},{"$f":"'Result Entry'!DD68","v":""}]
[null,0,{"$f":"'Result Entry'!D69","v":0},{"$f":"'Result Entry'!E69","v":0},{"$f":"'Result Entry'!F69","v":0},{"$f":"'Result Entry'!G69","v":0},{"$f":"'Result Entry'!H69","v":0},{"$f":"'Result Entry'!I69","v":0},{"$f":"'Result Entry'!J69","v":"00:00:00"},{"$f":"'Result Entry'!K69","v":0},{"$f":"'Result Entry'!L69","v":0},{"$f":"'Result Entry'!M69","v":0},{"$f":"'Result Entry'!N69","v":0},{"$f":"'Result Entry'!O69","v":0},{"$f":"'Result Entry'!P69","v":0},{"$f":"'Result Entry'!Q69","v":0},{"$f":"'Result Entry'!R69","v":0},{"$f":"'Result Entry'!S69","v":0},{"$f":"'Result Entry'!T69","v":0},{"$f":"'Result Entry'!U69","v":0},{"$f":"'Result Entry'!V69","v":0},{"$f":"'Result Entry'!W69","v":0},{"$f":"'Result Entry'!X69","v":""},{"$f":"'Result Entry'!Y69","v":0},{"$f":"'Result Entry'!Z69","v":0},{"$f":"'Result Entry'!AA69","v":0},{"$f":"'Result Entry'!AB69","v":0},{"$f":"'Result Entry'!AC69","v":0},{"$f":"'Result Entry'!AD69","v":0},{"$f":"'Result Entry'!AE69","v":0},{"$f":"'Result Entry'!AF69","v":0},{"$f":"'Result Entry'!AG69","v":0},{"$f":"'Result Entry'!AH69","v":0},{"$f":"'Result Entry'!AI69","v":0},{"$f":"'Result Entry'!AJ69","v":0},{"$f":"'Result Entry'!AK69","v":0},{"$f":"'Result Entry'!AL69","v":""},{"$f":"'Result Entry'!AM69","v":0},{"$f":"'Result Entry'!AN69","v":0},{"$f":"'Result Entry'!AO69","v":0},{"$f":"'Result Entry'!AP69","v":0},{"$f":"'Result Entry'!AQ69","v":0},{"$f":"'Result Entry'!AR69","v":0},{"$f":"'Result Entry'!AS69","v":0},{"$f":"'Result Entry'!AT69","v":0},{"$f":"'Result Entry'!AU69","v":0},{"$f":"'Result Entry'!AV69","v":0},{"$f":"'Result Entry'!AW69","v":0},{"$f":"'Result Entry'!AX69","v":0},{"$f":"'Result Entry'!AY69","v":0},{"$f":"'Result Entry'!AZ69","v":""},{"$f":"'Result Entry'!BA69","v":0},{"$f":"'Result Entry'!BB69","v":0},{"$f":"'Result Entry'!BC69","v":0},{"$f":"'Result Entry'!BD69","v":0},{"$f":"'Result Entry'!BE69","v":0},{"$f":"'Result Entry'!BF69","v":0},{"$f":"'Result Entry'!BG69","v":0},{"$f":"'Result Entry'!BH69","v":0},{"$f":"'Result Entry'!BI69","v":0},{"$f":"'Result Entry'!BJ69","v":0},{"$f":"'Result Entry'!BK69","v":0},{"$f":"'Result Entry'!BL69","v":0},{"$f":"'Result Entry'!BM69","v":""},{"$f":"'Result Entry'!BN69","v":""},{"$f":"'Result Entry'!BO69","v":0},{"$f":"'Result Entry'!BP69","v":0},{"$f":"'Result Entry'!BQ69","v":0},{"$f":"'Result Entry'!BR69","v":0},{"$f":"'Result Entry'!BS69","v":0},{"$f":"'Result Entry'!BT69","v":0},{"$f":"'Result Entry'!BU69","v":0},{"$f":"'Result Entry'!BV69","v":""},{"$f":"'Result Entry'!BW69","v":0},{"$f":"'Result Entry'!BX69","v":0},{"$f":"'Result Entry'!BY69","v":0},{"$f":"'Result Entry'!BZ69","v":0},{"$f":"'Result Entry'!CA69","v":0},{"$f":"'Result Entry'!CB69","v":0},{"$f":"'Result Entry'!CC69","v":0},{"$f":"'Result Entry'!CD69","v":""},{"$f":"'Result Entry'!CE69","v":0},{"$f":"'Result Entry'!CF69","v":0},{"$f":"'Result Entry'!CG69","v":0},{"$f":"'Result Entry'!CH69","v":0},{"$f":"'Result Entry'!CI69","v":0},{"$f":"'Result Entry'!CJ69","v":0},{"$f":"'Result Entry'!CK69","v":0},{"$f":"'Result Entry'!CL69","v":""},{"$f":"'Result Entry'!CM69","v":0},{"$f":"'Result Entry'!CN69","v":0},{"$f":"'Result Entry'!CO69","v":0},{"$f":"'Result Entry'!CP69","v":0},{"$f":"'Result Entry'!CQ69","v":0},{"$f":"'Result Entry'!CR69","v":0},{"$f":"'Result Entry'!CS69","v":0},{"$f":"'Result Entry'!CT69","v":""},{"$f":"'Result Entry'!CU69","v":0},{"$f":"'Result Entry'!CV69","v":0},{"$f":"'Result Entry'!CW69","v":""},{"$f":"'Result Entry'!CX69","v":500},{"$f":"'Result Entry'!CY69","v":0},{"$f":"'Result Entry'!CZ69","v":{"v":0,"d":"0.00"}},{"$f":"'Result Entry'!DA69","v":""},{"$f":"'Result Entry'!DB69","v":""},{"$f":"'Result Entry'!DC69","v":""},{"$f":"'Result Entry'!DD69","v":""}]
[null,0,{"$f":"'Result Entry'!D70","v":0},{"$f":"'Result Entry'!E70","v":0},{"$f":"'Result Entry'!F70","v":0},{"$f":"'Result Entry'!G70","v":0},{"$f":"'Result Entry'!H70","v":0},{"$f":"'Result Entry'!I70","v":0},{"$f":"'Result Entry'!J70","v":"00:00:00"},{"$f":"'Result Entry'!K70","v":0},{"$f":"'Result Entry'!L70","v":0},{"$f":"'Result Entry'!M70","v":0},{"$f":"'Result Entry'!N70","v":0},{"$f":"'Result Entry'!O70","v":0},{"$f":"'Result Entry'!P70","v":0},{"$f":"'Result Entry'!Q70","v":0},{"$f":"'Result Entry'!R70","v":0},{"$f":"'Result Entry'!S70","v":0},{"$f":"'Result Entry'!T70","v":0},{"$f":"'Result Entry'!U70","v":0},{"$f":"'Result Entry'!V70","v":0},{"$f":"'Result Entry'!W70","v":0},{"$f":"'Result Entry'!X70","v":""},{"$f":"'Result Entry'!Y70","v":0},{"$f":"'Result Entry'!Z70","v":0},{"$f":"'Result Entry'!AA70","v":0},{"$f":"'Result Entry'!AB70","v":0},{"$f":"'Result Entry'!AC70","v":0},{"$f":"'Result Entry'!AD70","v":0},{"$f":"'Result Entry'!AE70","v":0},{"$f":"'Result Entry'!AF70","v":0},{"$f":"'Result Entry'!AG70","v":0},{"$f":"'Result Entry'!AH70","v":0},{"$f":"'Result Entry'!AI70","v":0},{"$f":"'Result Entry'!AJ70","v":0},{"$f":"'Result Entry'!AK70","v":0},{"$f":"'Result Entry'!AL70","v":""},{"$f":"'Result Entry'!AM70","v":0},{"$f":"'Result Entry'!AN70","v":0},{"$f":"'Result Entry'!AO70","v":0},{"$f":"'Result Entry'!AP70","v":0},{"$f":"'Result Entry'!AQ70","v":0},{"$f":"'Result Entry'!AR70","v":0},{"$f":"'Result Entry'!AS70","v":0},{"$f":"'Result Entry'!AT70","v":0},{"$f":"'Result Entry'!AU70","v":0},{"$f":"'Result Entry'!AV70","v":0},{"$f":"'Result Entry'!AW70","v":0},{"$f":"'Result Entry'!AX70","v":0},{"$f":"'Result Entry'!AY70","v":0},{"$f":"'Result Entry'!AZ70","v":""},{"$f":"'Result Entry'!BA70","v":0},{"$f":"'Result Entry'!BB70","v":0},{"$f":"'Result Entry'!BC70","v":0},{"$f":"'Result Entry'!BD70","v":0},{"$f":"'Result Entry'!BE70","v":0},{"$f":"'Result Entry'!BF70","v":0},{"$f":"'Result Entry'!BG70","v":0},{"$f":"'Result Entry'!BH70","v":0},{"$f":"'Result Entry'!BI70","v":0},{"$f":"'Result Entry'!BJ70","v":0},{"$f":"'Result Entry'!BK70","v":0},{"$f":"'Result Entry'!BL70","v":0},{"$f":"'Result Entry'!BM70","v":""},{"$f":"'Result Entry'!BN70","v":""},{"$f":"'Result Entry'!BO70","v":0},{"$f":"'Result Entry'!BP70","v":0},{"$f":"'Result Entry'!BQ70","v":0},{"$f":"'Result Entry'!BR70","v":0},{"$f":"'Result Entry'!BS70","v":0},{"$f":"'Result Entry'!BT70","v":0},{"$f":"'Result Entry'!BU70","v":0},{"$f":"'Result Entry'!BV70","v":""},{"$f":"'Result Entry'!BW70","v":0},{"$f":"'Result Entry'!BX70","v":0},{"$f":"'Result Entry'!BY70","v":0},{"$f":"'Result Entry'!BZ70","v":0},{"$f":"'Result Entry'!CA70","v":0},{"$f":"'Result Entry'!CB70","v":0},{"$f":"'Result Entry'!CC70","v":0},{"$f":"'Result Entry'!CD70","v":""},{"$f":"'Result Entry'!CE70","v":0},{"$f":"'Result Entry'!CF70","v":0},{"$f":"'Result Entry'!CG70","v":0},{"$f":"'Result Entry'!CH70","v":0},{"$f":"'Result Entry'!CI70","v":0},{"$f":"'Result Entry'!CJ70","v":0},{"$f":"'Result Entry'!CK70","v":0},{"$f":"'Result Entry'!CL70","v":""},{"$f":"'Result Entry'!CM70","v":0},{"$f":"'Result Entry'!CN70","v":0},{"$f":"'Result Entry'!CO70","v":0},{"$f":"'Result Entry'!CP70","v":0},{"$f":"'Result Entry'!CQ70","v":0},{"$f":"'Result Entry'!CR70","v":0},{"$f":"'Result Entry'!CS70","v":0},{"$f":"'Result Entry'!CT70","v":""},{"$f":"'Result Entry'!CU70","v":0},{"$f":"'Result Entry'!CV70","v":0},{"$f":"'Result Entry'!CW70","v":""},{"$f":"'Result Entry'!CX70","v":500},{"$f":"'Result Entry'!CY70","v":0},{"$f":"'Result Entry'!CZ70","v":{"v":0,"d":"0.00"}},{"$f":"'Result Entry'!DA70","v":""},{"$f":"'Result Entry'!DB70","v":""},{"$f":"'Result Entry'!DC70","v":""},{"$f":"'Result Entry'!DD70","v":""}]
[null,0,{"$f":"'Result Entry'!D71","v":0},{"$f":"'Result Entry'!E71","v":0},{"$f":"'Result Entry'!F71","v":0},{"$f":"'Result Entry'!G71","v":0},{"$f":"'Result Entry'!H71","v":0},{"$f":"'Result Entry'!I71","v":0},{"$f":"'Result Entry'!J71","v":"00:00:00"},{"$f":"'Result Entry'!K71","v":0},{"$f":"'Result Entry'!L71","v":0},{"$f":"'Result Entry'!M71","v":0},{"$f":"'Result Entry'!N71","v":0},{"$f":"'Result Entry'!O71","v":0},{"$f":"'Result Entry'!P71","v":0},{"$f":"'Result Entry'!Q71","v":0},{"$f":"'Result Entry'!R71","v":0},{"$f":"'Result Entry'!S71","v":0},{"$f":"'Result Entry'!T71","v":0},{"$f":"'Result Entry'!U71","v":0},{"$f":"'Result Entry'!V71","v":0},{"$f":"'Result Entry'!W71","v":0},{"$f":"'Result Entry'!X71","v":""},{"$f":"'Result Entry'!Y71","v":0},{"$f":"'Result Entry'!Z71","v":0},{"$f":"'Result Entry'!AA71","v":0},{"$f":"'Result Entry'!AB71","v":0},{"$f":"'Result Entry'!AC71","v":0},{"$f":"'Result Entry'!AD71","v":0},{"$f":"'Result Entry'!AE71","v":0},{"$f":"'Result Entry'!AF71","v":0},{"$f":"'Result Entry'!AG71","v":0},{"$f":"'Result Entry'!AH71","v":0},{"$f":"'Result Entry'!AI71","v":0},{"$f":"'Result Entry'!AJ71","v":0},{"$f":"'Result Entry'!AK71","v":0},{"$f":"'Result Entry'!AL71","v":""},{"$f":"'Result Entry'!AM71","v":0},{"$f":"'Result Entry'!AN71","v":0},{"$f":"'Result Entry'!AO71","v":0},{"$f":"'Result Entry'!AP71","v":0},{"$f":"'Result Entry'!AQ71","v":0},{"$f":"'Result Entry'!AR71","v":0},{"$f":"'Result Entry'!AS71","v":0},{"$f":"'Result Entry'!AT71","v":0},{"$f":"'Result Entry'!AU71","v":0},{"$f":"'Result Entry'!AV71","v":0},{"$f":"'Result Entry'!AW71","v":0},{"$f":"'Result Entry'!AX71","v":0},{"$f":"'Result Entry'!AY71","v":0},{"$f":"'Result Entry'!AZ71","v":""},{"$f":"'Result Entry'!BA71","v":0},{"$f":"'Result Entry'!BB71","v":0},{"$f":"'Result Entry'!BC71","v":0},{"$f":"'Result Entry'!BD71","v":0},{"$f":"'Result Entry'!BE71","v":0},{"$f":"'Result Entry'!BF71","v":0},{"$f":"'Result Entry'!BG71","v":0},{"$f":"'Result Entry'!BH71","v":0},{"$f":"'Result Entry'!BI71","v":0},{"$f":"'Result Entry'!BJ71","v":0},{"$f":"'Result Entry'!BK71","v":0},{"$f":"'Result Entry'!BL71","v":0},{"$f":"'Result Entry'!BM71","v":""},{"$f":"'Result Entry'!BN71","v":""},{"$f":"'Result Entry'!BO71","v":0},{"$f":"'Result Entry'!BP71","v":0},{"$f":"'Result Entry'!BQ71","v":0},{"$f":"'Result Entry'!BR71","v":0},{"$f":"'Result Entry'!BS71","v":0},{"$f":"'Result Entry'!BT71","v":0},{"$f":"'Result Entry'!BU71","v":0},{"$f":"'Result Entry'!BV71","v":""},{"$f":"'Result Entry'!BW71","v":0},{"$f":"'Result Entry'!BX71","v":0},{"$f":"'Result Entry'!BY71","v":0},{"$f":"'Result Entry'!BZ71","v":0},{"$f":"'Result Entry'!CA71","v":0},{"$f":"'Result Entry'!CB71","v":0},{"$f":"'Result Entry'!CC71","v":0},{"$f":"'Result Entry'!CD71","v":""},{"$f":"'Result Entry'!CE71","v":0},{"$f":"'Result Entry'!CF71","v":0},{"$f":"'Result Entry'!CG71","v":0},{"$f":"'Result Entry'!CH71","v":0},{"$f":"'Result Entry'!CI71","v":0},{"$f":"'Result Entry'!CJ71","v":0},{"$f":"'Result Entry'!CK71","v":0},{"$f":"'Result Entry'!CL71","v":""},{"$f":"'Result Entry'!CM71","v":0},{"$f":"'Result Entry'!CN71","v":0},{"$f":"'Result Entry'!CO71","v":0},{"$f":"'Result Entry'!CP71","v":0},{"$f":"'Result Entry'!CQ71","v":0},{"$f":"'Result Entry'!CR71","v":0},{"$f":"'Result Entry'!CS71","v":0},{"$f":"'Result Entry'!CT71","v":""},{"$f":"'Result Entry'!CU71","v":0},{"$f":"'Result Entry'!CV71","v":0},{"$f":"'Result Entry'!CW71","v":""},{"$f":"'Result Entry'!CX71","v":500},{"$f":"'Result Entry'!CY71","v":0},{"$f":"'Result Entry'!CZ71","v":{"v":0,"d":"0.00"}},{"$f":"'Result Entry'!DA71","v":""},{"$f":"'Result Entry'!DB71","v":""},{"$f":"'Result Entry'!DC71","v":""},{"$f":"'Result Entry'!DD71","v":""}]
[null,0,{"$f":"'Result Entry'!D72","v":0},{"$f":"'Result Entry'!E72","v":0},{"$f":"'Result Entry'!F72","v":0},{"$f":"'Result Entry'!G72","v":0},{"$f":"'Result Entry'!H72","v":0},{"$f":"'Result Entry'!I72","v":0},{"$f":"'Result Entry'!J72","v":"00:00:00"},{"$f":"'Result Entry'!K72","v":0},{"$f":"'Result Entry'!L72","v":0},{"$f":"'Result Entry'!M72","v":0},{"$f":"'Result Entry'!N72","v":0},{"$f":"'Result Entry'!O72","v":0},{"$f":"'Result Entry'!P72","v":0},{"$f":"'Result Entry'!Q72","v":0},{"$f":"'Result Entry'!R72","v":0},{"$f":"'Result Entry'!S72","v":0},{"$f":"'Result Entry'!T72","v":0},{"$f":"'Result Entry'!U72","v":0},{"$f":"'Result Entry'!V72","v":0},{"$f":"'Result Entry'!W72","v":0},{"$f":"'Result Entry'!X72","v":""},{"$f":"'Result Entry'!Y72","v":0},{"$f":"'Result Entry'!Z72","v":0},{"$f":"'Result Entry'!AA72","v":0},{"$f":"'Result Entry'!AB72","v":0},{"$f":"'Result Entry'!AC72","v":0},{"$f":"'Result Entry'!AD72","v":0},{"$f":"'Result Entry'!AE72","v":0},{"$f":"'Result Entry'!AF72","v":0},{"$f":"'Result Entry'!AG72","v":0},{"$f":"'Result Entry'!AH72","v":0},{"$f":"'Result Entry'!AI72","v":0},{"$f":"'Result Entry'!AJ72","v":0},{"$f":"'Result Entry'!AK72","v":0},{"$f":"'Result Entry'!AL72","v":""},{"$f":"'Result Entry'!AM72","v":0},{"$f":"'Result Entry'!AN72","v":0},{"$f":"'Result Entry'!AO72","v":0},{"$f":"'Result Entry'!AP72","v":0},{"$f":"'Result Entry'!AQ72","v":0},{"$f":"'Result Entry'!AR72","v":0},{"$f":"'Result Entry'!AS72","v":0},{"$f":"'Result Entry'!AT72","v":0},{"$f":"'Result Entry'!AU72","v":0},{"$f":"'Result Entry'!AV72","v":0},{"$f":"'Result Entry'!AW72","v":0},{"$f":"'Result Entry'!AX72","v":0},{"$f":"'Result Entry'!AY72","v":0},{"$f":"'Result Entry'!AZ72","v":""},{"$f":"'Result Entry'!BA72","v":0},{"$f":"'Result Entry'!BB72","v":0},{"$f":"'Result Entry'!BC72","v":0},{"$f":"'Result Entry'!BD72","v":0},{"$f":"'Result Entry'!BE72","v":0},{"$f":"'Result Entry'!BF72","v":0},{"$f":"'Result Entry'!BG72","v":0},{"$f":"'Result Entry'!BH72","v":0},{"$f":"'Result Entry'!BI72","v":0},{"$f":"'Result Entry'!BJ72","v":0},{"$f":"'Result Entry'!BK72","v":0},{"$f":"'Result Entry'!BL72","v":0},{"$f":"'Result Entry'!BM72","v":""},{"$f":"'Result Entry'!BN72","v":""},{"$f":"'Result Entry'!BO72","v":0},{"$f":"'Result Entry'!BP72","v":0},{"$f":"'Result Entry'!BQ72","v":0},{"$f":"'Result Entry'!BR72","v":0},{"$f":"'Result Entry'!BS72","v":0},{"$f":"'Result Entry'!BT72","v":0},{"$f":"'Result Entry'!BU72","v":0},{"$f":"'Result Entry'!BV72","v":""},{"$f":"'Result Entry'!BW72","v":0},{"$f":"'Result Entry'!BX72","v":0},{"$f":"'Result Entry'!BY72","v":0},{"$f":"'Result Entry'!BZ72","v":0},{"$f":"'Result Entry'!CA72","v":0},{"$f":"'Result Entry'!CB72","v":0},{"$f":"'Result Entry'!CC72","v":0},{"$f":"'Result Entry'!CD72","v":""},{"$f":"'Result Entry'!CE72","v":0},{"$f":"'Result Entry'!CF72","v":0},{"$f":"'Result Entry'!CG72","v":0},{"$f":"'Result Entry'!CH72","v":0},{"$f":"'Result Entry'!CI72","v":0},{"$f":"'Result Entry'!CJ72","v":0},{"$f":"'Result Entry'!CK72","v":0},{"$f":"'Result Entry'!CL72","v":""},{"$f":"'Result Entry'!CM72","v":0},{"$f":"'Result Entry'!CN72","v":0},{"$f":"'Result Entry'!CO72","v":0},{"$f":"'Result Entry'!CP72","v":0},{"$f":"'Result Entry'!CQ72","v":0},{"$f":"'Result Entry'!CR72","v":0},{"$f":"'Result Entry'!CS72","v":0},{"$f":"'Result Entry'!CT72","v":""},{"$f":"'Result Entry'!CU72","v":0},{"$f":"'Result Entry'!CV72","v":0},{"$f":"'Result Entry'!CW72","v":""},{"$f":"'Result Entry'!CX72","v":500},{"$f":"'Result Entry'!CY72","v":0},{"$f":"'Result Entry'!CZ72","v":{"v":0,"d":"0.00"}},{"$f":"'Result Entry'!DA72","v":""},{"$f":"'Result Entry'!DB72","v":""},{"$f":"'Result Entry'!DC72","v":""},{"$f":"'Result Entry'!DD72","v":""}]
[null,0,{"$f":"'Result Entry'!D73","v":0},{"$f":"'Result Entry'!E73","v":0},{"$f":"'Result Entry'!F73","v":0},{"$f":"'Result Entry'!G73","v":0},{"$f":"'Result Entry'!H73","v":0},{"$f":"'Result Entry'!I73","v":0},{"$f":"'Result Entry'!J73","v":"00:00:00"},{"$f":"'Result Entry'!K73","v":0},{"$f":"'Result Entry'!L73","v":0},{"$f":"'Result Entry'!M73","v":0},{"$f":"'Result Entry'!N73","v":0},{"$f":"'Result Entry'!O73","v":0},{"$f":"'Result Entry'!P73","v":0},{"$f":"'Result Entry'!Q73","v":0},{"$f":"'Result Entry'!R73","v":0},{"$f":"'Result Entry'!S73","v":0},{"$f":"'Result Entry'!T73","v":0},{"$f":"'Result Entry'!U73","v":0},{"$f":"'Result Entry'!V73","v":0},{"$f":"'Result Entry'!W73","v":0},{"$f":"'Result Entry'!X73","v":""},{"$f":"'Result Entry'!Y73","v":0},{"$f":"'Result Entry'!Z73","v":0},{"$f":"'Result Entry'!AA73","v":0},{"$f":"'Result Entry'!AB73","v":0},{"$f":"'Result Entry'!AC73","v":0},{"$f":"'Result Entry'!AD73","v":0},{"$f":"'Result Entry'!AE73","v":0},{"$f":"'Result Entry'!AF73","v":0},{"$f":"'Result Entry'!AG73","v":0},{"$f":"'Result Entry'!AH73","v":0},{"$f":"'Result Entry'!AI73","v":0},{"$f":"'Result Entry'!AJ73","v":0},{"$f":"'Result Entry'!AK73","v":0},{"$f":"'Result Entry'!AL73","v":""},{"$f":"'Result Entry'!AM73","v":0},{"$f":"'Result Entry'!AN73","v":0},{"$f":"'Result Entry'!AO73","v":0},{"$f":"'Result Entry'!AP73","v":0},{"$f":"'Result Entry'!AQ73","v":0},{"$f":"'Result Entry'!AR73","v":0},{"$f":"'Result Entry'!AS73","v":0},{"$f":"'Result Entry'!AT73","v":0},{"$f":"'Result Entry'!AU73","v":0},{"$f":"'Result Entry'!AV73","v":0},{"$f":"'Result Entry'!AW73","v":0},{"$f":"'Result Entry'!AX73","v":0},{"$f":"'Result Entry'!AY73","v":0},{"$f":"'Result Entry'!AZ73","v":""},{"$f":"'Result Entry'!BA73","v":0},{"$f":"'Result Entry'!BB73","v":0},{"$f":"'Result Entry'!BC73","v":0},{"$f":"'Result Entry'!BD73","v":0},{"$f":"'Result Entry'!BE73","v":0},{"$f":"'Result Entry'!BF73","v":0},{"$f":"'Result Entry'!BG73","v":0},{"$f":"'Result Entry'!BH73","v":0},{"$f":"'Result Entry'!BI73","v":0},{"$f":"'Result Entry'!BJ73","v":0},{"$f":"'Result Entry'!BK73","v":0},{"$f":"'Result Entry'!BL73","v":0},{"$f":"'Result Entry'!BM73","v":""},{"$f":"'Result Entry'!BN73","v":""},{"$f":"'Result Entry'!BO73","v":0},{"$f":"'Result Entry'!BP73","v":0},{"$f":"'Result Entry'!BQ73","v":0},{"$f":"'Result Entry'!BR73","v":0},{"$f":"'Result Entry'!BS73","v":0},{"$f":"'Result Entry'!BT73","v":0},{"$f":"'Result Entry'!BU73","v":0},{"$f":"'Result Entry'!BV73","v":""},{"$f":"'Result Entry'!BW73","v":0},{"$f":"'Result Entry'!BX73","v":0},{"$f":"'Result Entry'!BY73","v":0},{"$f":"'Result Entry'!BZ73","v":0},{"$f":"'Result Entry'!CA73","v":0},{"$f":"'Result Entry'!CB73","v":0},{"$f":"'Result Entry'!CC73","v":0},{"$f":"'Result Entry'!CD73","v":""},{"$f":"'Result Entry'!CE73","v":0},{"$f":"'Result Entry'!CF73","v":0},{"$f":"'Result Entry'!CG73","v":0},{"$f":"'Result Entry'!CH73","v":0},{"$f":"'Result Entry'!CI73","v":0},{"$f":"'Result Entry'!CJ73","v":0},{"$f":"'Result Entry'!CK73","v":0},{"$f":"'Result Entry'!CL73","v":""},{"$f":"'Result Entry'!CM73","v":0},{"$f":"'Result Entry'!CN73","v":0},{"$f":"'Result Entry'!CO73","v":0},{"$f":"'Result Entry'!CP73","v":0},{"$f":"'Result Entry'!CQ73","v":0},{"$f":"'Result Entry'!CR73","v":0},{"$f":"'Result Entry'!CS73","v":0},{"$f":"'Result Entry'!CT73","v":""},{"$f":"'Result Entry'!CU73","v":0},{"$f":"'Result Entry'!CV73","v":0},{"$f":"'Result Entry'!CW73","v":""},{"$f":"'Result Entry'!CX73","v":500},{"$f":"'Result Entry'!CY73","v":0},{"$f":"'Result Entry'!CZ73","v":{"v":0,"d":"0.00"}},{"$f":"'Result Entry'!DA73","v":""},{"$f":"'Result Entry'!DB73","v":""},{"$f":"'Result Entry'!DC73","v":""},{"$f":"'Result Entry'!DD73","v":""}]
[null,0,{"$f":"'Result Entry'!D74","v":0},{"$f":"'Result Entry'!E74","v":0},{"$f":"'Result Entry'!F74","v":0},{"$f":"'Result Entry'!G74","v":0},{"$f":"'Result Entry'!H74","v":0},{"$f":"'Result Entry'!I74","v":0},{"$f":"'Result Entry'!J74","v":"00:00:00"},{"$f":"'Result Entry'!K74","v":0},{"$f":"'Result Entry'!L74","v":0},{"$f":"'Result Entry'!M74","v":0},{"$f":"'Result Entry'!N74","v":0},{"$f":"'Result Entry'!O74","v":0},{"$f":"'Result Entry'!P74","v":0},{"$f":"'Result Entry'!Q74","v":0},{"$f":"'Result Entry'!R74","v":0},{"$f":"'Result Entry'!S74","v":0},{"$f":"'Result Entry'!T74","v":0},{"$f":"'Result Entry'!U74","v":0},{"$f":"'Result Entry'!V74","v":0},{"$f":"'Result Entry'!W74","v":0},{"$f":"'Result Entry'!X74","v":""},{"$f":"'Result Entry'!Y74","v":0},{"$f":"'Result Entry'!Z74","v":0},{"$f":"'Result Entry'!AA74","v":0},{"$f":"'Result Entry'!AB74","v":0},{"$f":"'Result Entry'!AC74","v":0},{"$f":"'Result Entry'!AD74","v":0},{"$f":"'Result Entry'!AE74","v":0},{"$f":"'Result Entry'!AF74","v":0},{"$f":"'Result Entry'!AG74","v":0},{"$f":"'Result Entry'!AH74","v":0},{"$f":"'Result Entry'!AI74","v":0},{"$f":"'Result Entry'!AJ74","v":0},{"$f":"'Result Entry'!AK74","v":0},{"$f":"'Result Entry'!AL74","v":""},{"$f":"'Result Entry'!AM74","v":0},{"$f":"'Result Entry'!AN74","v":0},{"$f":"'Result Entry'!AO74","v":0},{"$f":"'Result Entry'!AP74","v":0},{"$f":"'Result Entry'!AQ74","v":0},{"$f":"'Result Entry'!AR74","v":0},{"$f":"'Result Entry'!AS74","v":0},{"$f":"'Result Entry'!AT74","v":0},{"$f":"'Result Entry'!AU74","v":0},{"$f":"'Result Entry'!AV74","v":0},{"$f":"'Result Entry'!AW74","v":0},{"$f":"'Result Entry'!AX74","v":0},{"$f":"'Result Entry'!AY74","v":0},{"$f":"'Result Entry'!AZ74","v":""},{"$f":"'Result Entry'!BA74","v":0},{"$f":"'Result Entry'!BB74","v":0},{"$f":"'Result Entry'!BC74","v":0},{"$f":"'Result Entry'!BD74","v":0},{"$f":"'Result Entry'!BE74","v":0},{"$f":"'Result Entry'!BF74","v":0},{"$f":"'Result Entry'!BG74","v":0},{"$f":"'Result Entry'!BH74","v":0},{"$f":"'Result Entry'!BI74","v":0},{"$f":"'Result Entry'!BJ74","v":0},{"$f":"'Result Entry'!BK74","v":0},{"$f":"'Result Entry'!BL74","v":0},{"$f":"'Result Entry'!BM74","v":""},{"$f":"'Result Entry'!BN74","v":""},{"$f":"'Result Entry'!BO74","v":0},{"$f":"'Result Entry'!BP74","v":0},{"$f":"'Result Entry'!BQ74","v":0},{"$f":"'Result Entry'!BR74","v":0},{"$f":"'Result Entry'!BS74","v":0},{"$f":"'Result Entry'!BT74","v":0},{"$f":"'Result Entry'!BU74","v":0},{"$f":"'Result Entry'!BV74","v":""},{"$f":"'Result Entry'!BW74","v":0},{"$f":"'Result Entry'!BX74","v":0},{"$f":"'Result Entry'!BY74","v":0},{"$f":"'Result Entry'!BZ74","v":0},{"$f":"'Result Entry'!CA74","v":0},{"$f":"'Result Entry'!CB74","v":0},{"$f":"'Result Entry'!CC74","v":0},{"$f":"'Result Entry'!CD74","v":""},{"$f":"'Result Entry'!CE74","v":0},{"$f":"'Result Entry'!CF74","v":0},{"$f":"'Result Entry'!CG74","v":0},{"$f":"'Result Entry'!CH74","v":0},{"$f":"'Result Entry'!CI74","v":0},{"$f":"'Result Entry'!CJ74","v":0},{"$f":"'Result Entry'!CK74","v":0},{"$f":"'Result Entry'!CL74","v":""},{"$f":"'Result Entry'!CM74","v":0},{"$f":"'Result Entry'!CN74","v":0},{"$f":"'Result Entry'!CO74","v":0},{"$f":"'Result Entry'!CP74","v":0},{"$f":"'Result Entry'!CQ74","v":0},{"$f":"'Result Entry'!CR74","v":0},{"$f":"'Result Entry'!CS74","v":0},{"$f":"'Result Entry'!CT74","v":""},{"$f":"'Result Entry'!CU74","v":0},{"$f":"'Result Entry'!CV74","v":0},{"$f":"'Result Entry'!CW74","v":""},{"$f":"'Result Entry'!CX74","v":500},{"$f":"'Result Entry'!CY74","v":0},{"$f":"'Result Entry'!CZ74","v":{"v":0,"d":"0.00"}},{"$f":"'Result Entry'!DA74","v":""},{"$f":"'Result Entry'!DB74","v":""},{"$f":"'Result Entry'!DC74","v":""},{"$f":"'Result Entry'!DD74","v":""}]
[null,{"$f":"IF(C73>0,B72+1,0)","v":0},{"$f":"'Result Entry'!D75","v":0},{"$f":"'Result Entry'!E75","v":0},{"$f":"'Result Entry'!F75","v":0},{"$f":"'Result Entry'!G75","v":0},{"$f":"'Result Entry'!H75","v":0},{"$f":"'Result Entry'!I75","v":0},{"$f":"'Result Entry'!J75","v":"00:00:00"},{"$f":"'Result Entry'!K75","v":0},{"$f":"'Result Entry'!L75","v":0},{"$f":"'Result Entry'!M75","v":0},{"$f":"'Result Entry'!N75","v":0},{"$f":"'Result Entry'!O75","v":0},{"$f":"'Result Entry'!P75","v":0},{"$f":"'Result Entry'!Q75","v":0},{"$f":"'Result Entry'!R75","v":0},{"$f":"'Result Entry'!S75","v":0},{"$f":"'Result Entry'!T75","v":0},{"$f":"'Result Entry'!U75","v":0},{"$f":"'Result Entry'!V75","v":0},{"$f":"'Result Entry'!W75","v":0},{"$f":"'Result Entry'!X75","v":""},{"$f":"'Result Entry'!Y75","v":0},{"$f":"'Result Entry'!Z75","v":0},{"$f":"'Result Entry'!AA75","v":0},{"$f":"'Result Entry'!AB75","v":0},{"$f":"'Result Entry'!AC75","v":0},{"$f":"'Result Entry'!AD75","v":0},{"$f":"'Result Entry'!AE75","v":0},{"$f":"'Result Entry'!AF75","v":0},{"$f":"'Result Entry'!AG75","v":0},{"$f":"'Result Entry'!AH75","v":0},{"$f":"'Result Entry'!AI75","v":0},{"$f":"'Result Entry'!AJ75","v":0},{"$f":"'Result Entry'!AK75","v":0},{"$f":"'Result Entry'!AL75","v":""},{"$f":"'Result Entry'!AM75","v":0},{"$f":"'Result Entry'!AN75","v":0},{"$f":"'Result Entry'!AO75","v":0},{"$f":"'Result Entry'!AP75","v":0},{"$f":"'Result Entry'!AQ75","v":0},{"$f":"'Result Entry'!AR75","v":0},{"$f":"'Result Entry'!AS75","v":0},{"$f":"'Result Entry'!AT75","v":0},{"$f":"'Result Entry'!AU75","v":0},{"$f":"'Result Entry'!AV75","v":0},{"$f":"'Result Entry'!AW75","v":0},{"$f":"'Result Entry'!AX75","v":0},{"$f":"'Result Entry'!AY75","v":0},{"$f":"'Result Entry'!AZ75","v":""},{"$f":"'Result Entry'!BA75","v":0},{"$f":"'Result Entry'!BB75","v":0},{"$f":"'Result Entry'!BC75","v":0},{"$f":"'Result Entry'!BD75","v":0},{"$f":"'Result Entry'!BE75","v":0},{"$f":"'Result Entry'!BF75","v":0},{"$f":"'Result Entry'!BG75","v":0},{"$f":"'Result Entry'!BH75","v":0},{"$f":"'Result Entry'!BI75","v":0},{"$f":"'Result Entry'!BJ75","v":0},{"$f":"'Result Entry'!BK75","v":0},{"$f":"'Result Entry'!BL75","v":0},{"$f":"'Result Entry'!BM75","v":""},{"$f":"'Result Entry'!BN75","v":""},{"$f":"'Result Entry'!BO75","v":0},{"$f":"'Result Entry'!BP75","v":0},{"$f":"'Result Entry'!BQ75","v":0},{"$f":"'Result Entry'!BR75","v":0},{"$f":"'Result Entry'!BS75","v":0},{"$f":"'Result Entry'!BT75","v":0},{"$f":"'Result Entry'!BU75","v":0},{"$f":"'Result Entry'!BV75","v":""},{"$f":"'Result Entry'!BW75","v":0},{"$f":"'Result Entry'!BX75","v":0},{"$f":"'Result Entry'!BY75","v":0},{"$f":"'Result Entry'!BZ75","v":0},{"$f":"'Result Entry'!CA75","v":0},{"$f":"'Result Entry'!CB75","v":0},{"$f":"'Result Entry'!CC75","v":0},{"$f":"'Result Entry'!CD75","v":""},{"$f":"'Result Entry'!CE75","v":0},{"$f":"'Result Entry'!CF75","v":0},{"$f":"'Result Entry'!CG75","v":0},{"$f":"'Result Entry'!CH75","v":0},{"$f":"'Result Entry'!CI75","v":0},{"$f":"'Result Entry'!CJ75","v":0},{"$f":"'Result Entry'!CK75","v":0},{"$f":"'Result Entry'!CL75","v":""},{"$f":"'Result Entry'!CM75","v":0},{"$f":"'Result Entry'!CN75","v":0},{"$f":"'Result Entry'!CO75","v":0},{"$f":"'Result Entry'!CP75","v":0},{"$f":"'Result Entry'!CQ75","v":0},{"$f":"'Result Entry'!CR75","v":0},{"$f":"'Result Entry'!CS75","v":0},{"$f":"'Result Entry'!CT75","v":""},{"$f":"'Result Entry'!CU75","v":0},{"$f":"'Result Entry'!CV75","v":0},{"$f":"'Result Entry'!CW75","v":""},{"$f":"'Result Entry'!CX75","v":500},{"$f":"'Result Entry'!CY75","v":0},{"$f":"'Result Entry'!CZ75","v":{"v":0,"d":"0.00"}},{"$f":"'Result Entry'!DA75","v":""},{"$f":"'Result Entry'!DB75","v":""},{"$f":"'Result Entry'!DC75","v":""},{"$f":"'Result Entry'!DD75","v":""}]
[null,0,{"$f":"'Result Entry'!D76","v":0},{"$f":"'Result Entry'!E76","v":0},{"$f":"'Result Entry'!F76","v":0},{"$f":"'Result Entry'!G76","v":0},{"$f":"'Result Entry'!H76","v":0},{"$f":"'Result Entry'!I76","v":0},{"$f":"'Result Entry'!J76","v":"00:00:00"},{"$f":"'Result Entry'!K76","v":0},{"$f":"'Result Entry'!L76","v":0},{"$f":"'Result Entry'!M76","v":0},{"$f":"'Result Entry'!N76","v":0},{"$f":"'Result Entry'!O76","v":0},{"$f":"'Result Entry'!P76","v":0},{"$f":"'Result Entry'!Q76","v":0},{"$f":"'Result Entry'!R76","v":0},{"$f":"'Result Entry'!S76","v":0},{"$f":"'Result Entry'!T76","v":0},{"$f":"'Result Entry'!U76","v":0},{"$f":"'Result Entry'!V76","v":0},{"$f":"'Result Entry'!W76","v":0},{"$f":"'Result Entry'!X76","v":""},{"$f":"'Result Entry'!Y76","v":0},{"$f":"'Result Entry'!Z76","v":0},{"$f":"'Result Entry'!AA76","v":0},{"$f":"'Result Entry'!AB76","v":0},{"$f":"'Result Entry'!AC76","v":0},{"$f":"'Result Entry'!AD76","v":0},{"$f":"'Result Entry'!AE76","v":0},{"$f":"'Result Entry'!AF76","v":0},{"$f":"'Result Entry'!AG76","v":0},{"$f":"'Result Entry'!AH76","v":0},{"$f":"'Result Entry'!AI76","v":0},{"$f":"'Result Entry'!AJ76","v":0},{"$f":"'Result Entry'!AK76","v":0},{"$f":"'Result Entry'!AL76","v":""},{"$f":"'Result Entry'!AM76","v":0},{"$f":"'Result Entry'!AN76","v":0},{"$f":"'Result Entry'!AO76","v":0},{"$f":"'Result Entry'!AP76","v":0},{"$f":"'Result Entry'!AQ76","v":0},{"$f":"'Result Entry'!AR76","v":0},{"$f":"'Result Entry'!AS76","v":0},{"$f":"'Result Entry'!AT76","v":0},{"$f":"'Result Entry'!AU76","v":0},{"$f":"'Result Entry'!AV76","v":0},{"$f":"'Result Entry'!AW76","v":0},{"$f":"'Result Entry'!AX76","v":0},{"$f":"'Result Entry'!AY76","v":0},{"$f":"'Result Entry'!AZ76","v":""},{"$f":"'Result Entry'!BA76","v":0},{"$f":"'Result Entry'!BB76","v":0},{"$f":"'Result Entry'!BC76","v":0},{"$f":"'Result Entry'!BD76","v":0},{"$f":"'Result Entry'!BE76","v":0},{"$f":"'Result Entry'!BF76","v":0},{"$f":"'Result Entry'!BG76","v":0},{"$f":"'Result Entry'!BH76","v":0},{"$f":"'Result Entry'!BI76","v":0},{"$f":"'Result Entry'!BJ76","v":0},{"$f":"'Result Entry'!BK76","v":0},{"$f":"'Result Entry'!BL76","v":0},{"$f":"'Result Entry'!BM76","v":""},{"$f":"'Result Entry'!BN76","v":""},{"$f":"'Result Entry'!BO76","v":0},{"$f":"'Result Entry'!BP76","v":0},{"$f":"'Result Entry'!BQ76","v":0},{"$f":"'Result Entry'!BR76","v":0},{"$f":"'Result Entry'!BS76","v":0},{"$f":"'Result Entry'!BT76","v":0},{"$f":"'Result Entry'!BU76","v":0},{"$f":"'Result Entry'!BV76","v":""},{"$f":"'Result Entry'!BW76","v":0},{"$f":"'Result Entry'!BX76","v":0},{"$f":"'Result Entry'!BY76","v":0},{"$f":"'Result Entry'!BZ76","v":0},{"$f":"'Result Entry'!CA76","v":0},{"$f":"'Result Entry'!CB76","v":0},{"$f":"'Result Entry'!CC76","v":0},{"$f":"'Result Entry'!CD76","v":""},{"$f":"'Result Entry'!CE76","v":0},{"$f":"'Result Entry'!CF76","v":0},{"$f":"'Result Entry'!CG76","v":0},{"$f":"'Result Entry'!CH76","v":0},{"$f":"'Result Entry'!CI76","v":0},{"$f":"'Result Entry'!CJ76","v":0},{"$f":"'Result Entry'!CK76","v":0},{"$f":"'Result Entry'!CL76","v":""},{"$f":"'Result Entry'!CM76","v":0},{"$f":"'Result Entry'!CN76","v":0},{"$f":"'Result Entry'!CO76","v":0},{"$f":"'Result Entry'!CP76","v":0},{"$f":"'Result Entry'!CQ76","v":0},{"$f":"'Result Entry'!CR76","v":0},{"$f":"'Result Entry'!CS76","v":0},{"$f":"'Result Entry'!CT76","v":""},{"$f":"'Result Entry'!CU76","v":0},{"$f":"'Result Entry'!CV76","v":0},{"$f":"'Result Entry'!CW76","v":""},{"$f":"'Result Entry'!CX76","v":500},{"$f":"'Result Entry'!CY76","v":0},{"$f":"'Result Entry'!CZ76","v":{"v":0,"d":"0.00"}},{"$f":"'Result Entry'!DA76","v":""},{"$f":"'Result Entry'!DB76","v":""},{"$f":"'Result Entry'!DC76","v":""},{"$f":"'Result Entry'!DD76","v":""}]
[null,0,{"$f":"'Result Entry'!D77","v":0},{"$f":"'Result Entry'!E77","v":0},{"$f":"'Result Entry'!F77","v":0},{"$f":"'Result Entry'!G77","v":0},{"$f":"'Result Entry'!H77","v":0},{"$f":"'Result Entry'!I77","v":0},{"$f":"'Result Entry'!J77","v":"00:00:00"},{"$f":"'Result Entry'!K77","v":0},{"$f":"'Result Entry'!L77","v":0},{"$f":"'Result Entry'!M77","v":0},{"$f":"'Result Entry'!N77","v":0},{"$f":"'Result Entry'!O77","v":0},{"$f":"'Result Entry'!P77","v":0},{"$f":"'Result Entry'!Q77","v":0},{"$f":"'Result Entry'!R77","v":0},{"$f":"'Result Entry'!S77","v":0},{"$f":"'Result Entry'!T77","v":0},{"$f":"'Result Entry'!U77","v":0},{"$f":"'Result Entry'!V77","v":0},{"$f":"'Result Entry'!W77","v":0},{"$f":"'Result Entry'!X77","v":""},{"$f":"'Result Entry'!Y77","v":0},{"$f":"'Result Entry'!Z77","v":0},{"$f":"'Result Entry'!AA77","v":0},{"$f":"'Result Entry'!AB77","v":0},{"$f":"'Result Entry'!AC77","v":0},{"$f":"'Result Entry'!AD77","v":0},{"$f":"'Result Entry'!AE77","v":0},{"$f":"'Result Entry'!AF77","v":0},{"$f":"'Result Entry'!AG77","v":0},{"$f":"'Result Entry'!AH77","v":0},{"$f":"'Result Entry'!AI77","v":0},{"$f":"'Result Entry'!AJ77","v":0},{"$f":"'Result Entry'!AK77","v":0},{"$f":"'Result Entry'!AL77","v":""},{"$f":"'Result Entry'!AM77","v":0},{"$f":"'Result Entry'!AN77","v":0},{"$f":"'Result Entry'!AO77","v":0},{"$f":"'Result Entry'!AP77","v":0},{"$f":"'Result Entry'!AQ77","v":0},{"$f":"'Result Entry'!AR77","v":0},{"$f":"'Result Entry'!AS77","v":0},{"$f":"'Result Entry'!AT77","v":0},{"$f":"'Result Entry'!AU77","v":0},{"$f":"'Result Entry'!AV77","v":0},{"$f":"'Result Entry'!AW77","v":0},{"$f":"'Result Entry'!AX77","v":0},{"$f":"'Result Entry'!AY77","v":0},{"$f":"'Result Entry'!AZ77","v":""},{"$f":"'Result Entry'!BA77","v":0},{"$f":"'Result Entry'!BB77","v":0},{"$f":"'Result Entry'!BC77","v":0},{"$f":"'Result Entry'!BD77","v":0},{"$f":"'Result Entry'!BE77","v":0},{"$f":"'Result Entry'!BF77","v":0},{"$f":"'Result Entry'!BG77","v":0},{"$f":"'Result Entry'!BH77","v":0},{"$f":"'Result Entry'!BI77","v":0},{"$f":"'Result Entry'!BJ77","v":0},{"$f":"'Result Entry'!BK77","v":0},{"$f":"'Result Entry'!BL77","v":0},{"$f":"'Result Entry'!BM77","v":""},{"$f":"'Result Entry'!BN77","v":""},{"$f":"'Result Entry'!BO77","v":0},{"$f":"'Result Entry'!BP77","v":0},{"$f":"'Result Entry'!BQ77","v":0},{"$f":"'Result Entry'!BR77","v":0},{"$f":"'Result Entry'!BS77","v":0},{"$f":"'Result Entry'!BT77","v":0},{"$f":"'Result Entry'!BU77","v":0},{"$f":"'Result Entry'!BV77","v":""},{"$f":"'Result Entry'!BW77","v":0},{"$f":"'Result Entry'!BX77","v":0},{"$f":"'Result Entry'!BY77","v":0},{"$f":"'Result Entry'!BZ77","v":0},{"$f":"'Result Entry'!CA77","v":0},{"$f":"'Result Entry'!CB77","v":0},{"$f":"'Result Entry'!CC77","v":0},{"$f":"'Result Entry'!CD77","v":""},{"$f":"'Result Entry'!CE77","v":0},{"$f":"'Result Entry'!CF77","v":0},{"$f":"'Result Entry'!CG77","v":0},{"$f":"'Result Entry'!CH77","v":0},{"$f":"'Result Entry'!CI77","v":0},{"$f":"'Result Entry'!CJ77","v":0},{"$f":"'Result Entry'!CK77","v":0},{"$f":"'Result Entry'!CL77","v":""},{"$f":"'Result Entry'!CM77","v":0},{"$f":"'Result Entry'!CN77","v":0},{"$f":"'Result Entry'!CO77","v":0},{"$f":"'Result Entry'!CP77","v":0},{"$f":"'Result Entry'!CQ77","v":0},{"$f":"'Result Entry'!CR77","v":0},{"$f":"'Result Entry'!CS77","v":0},{"$f":"'Result Entry'!CT77","v":""},{"$f":"'Result Entry'!CU77","v":0},{"$f":"'Result Entry'!CV77","v":0},{"$f":"'Result Entry'!CW77","v":""},{"$f":"'Result Entry'!CX77","v":500},{"$f":"'Result Entry'!CY77","v":0},{"$f":"'Result Entry'!CZ77","v":{"v":0,"d":"0.00"}},{"$f":"'Result Entry'!DA77","v":""},{"$f":"'Result Entry'!DB77","v":""},{"$f":"'Result Entry'!DC77","v":""},{"$f":"'Result Entry'!DD77","v":""}]
[null,0,{"$f":"'Result Entry'!D78","v":0},{"$f":"'Result Entry'!E78","v":0},{"$f":"'Result Entry'!F78","v":0},{"$f":"'Result Entry'!G78","v":0},{"$f":"'Result Entry'!H78","v":0},{"$f":"'Result Entry'!I78","v":0},{"$f":"'Result Entry'!J78","v":"00:00:00"},{"$f":"'Result Entry'!K78","v":0},{"$f":"'Result Entry'!L78","v":0},{"$f":"'Result Entry'!M78","v":0},{"$f":"'Result Entry'!N78","v":0},{"$f":"'Result Entry'!O78","v":0},{"$f":"'Result Entry'!P78","v":0},{"$f":"'Result Entry'!Q78","v":0},{"$f":"'Result Entry'!R78","v":0},{"$f":"'Result Entry'!S78","v":0},{"$f":"'Result Entry'!T78","v":0},{"$f":"'Result Entry'!U78","v":0},{"$f":"'Result Entry'!V78","v":0},{"$f":"'Result Entry'!W78","v":0},{"$f":"'Result Entry'!X78","v":""},{"$f":"'Result Entry'!Y78","v":0},{"$f":"'Result Entry'!Z78","v":0},{"$f":"'Result Entry'!AA78","v":0},{"$f":"'Result Entry'!AB78","v":0},{"$f":"'Result Entry'!AC78","v":0},{"$f":"'Result Entry'!AD78","v":0},{"$f":"'Result Entry'!AE78","v":0},{"$f":"'Result Entry'!AF78","v":0},{"$f":"'Result Entry'!AG78","v":0},{"$f":"'Result Entry'!AH78","v":0},{"$f":"'Result Entry'!AI78","v":0},{"$f":"'Result Entry'!AJ78","v":0},{"$f":"'Result Entry'!AK78","v":0},{"$f":"'Result Entry'!AL78","v":""},{"$f":"'Result Entry'!AM78","v":0},{"$f":"'Result Entry'!AN78","v":0},{"$f":"'Result Entry'!AO78","v":0},{"$f":"'Result Entry'!AP78","v":0},{"$f":"'Result Entry'!AQ78","v":0},{"$f":"'Result Entry'!AR78","v":0},{"$f":"'Result Entry'!AS78","v":0},{"$f":"'Result Entry'!AT78","v":0},{"$f":"'Result Entry'!AU78","v":0},{"$f":"'Result Entry'!AV78","v":0},{"$f":"'Result Entry'!AW78","v":0},{"$f":"'Result Entry'!AX78","v":0},{"$f":"'Result Entry'!AY78","v":0},{"$f":"'Result Entry'!AZ78","v":""},{"$f":"'Result Entry'!BA78","v":0},{"$f":"'Result Entry'!BB78","v":0},{"$f":"'Result Entry'!BC78","v":0},{"$f":"'Result Entry'!BD78","v":0},{"$f":"'Result Entry'!BE78","v":0},{"$f":"'Result Entry'!BF78","v":0},{"$f":"'Result Entry'!BG78","v":0},{"$f":"'Result Entry'!BH78","v":0},{"$f":"'Result Entry'!BI78","v":0},{"$f":"'Result Entry'!BJ78","v":0},{"$f":"'Result Entry'!BK78","v":0},{"$f":"'Result Entry'!BL78","v":0},{"$f":"'Result Entry'!BM78","v":""},{"$f":"'Result Entry'!BN78","v":""},{"$f":"'Result Entry'!BO78","v":0},{"$f":"'Result Entry'!BP78","v":0},{"$f":"'Result Entry'!BQ78","v":0},{"$f":"'Result Entry'!BR78","v":0},{"$f":"'Result Entry'!BS78","v":0},{"$f":"'Result Entry'!BT78","v":0},{"$f":"'Result Entry'!BU78","v":0},{"$f":"'Result Entry'!BV78","v":""},{"$f":"'Result Entry'!BW78","v":0},{"$f":"'Result Entry'!BX78","v":0},{"$f":"'Result Entry'!BY78","v":0},{"$f":"'Result Entry'!BZ78","v":0},{"$f":"'Result Entry'!CA78","v":0},{"$f":"'Result Entry'!CB78","v":0},{"$f":"'Result Entry'!CC78","v":0},{"$f":"'Result Entry'!CD78","v":""},{"$f":"'Result Entry'!CE78","v":0},{"$f":"'Result Entry'!CF78","v":0},{"$f":"'Result Entry'!CG78","v":0},{"$f":"'Result Entry'!CH78","v":0},{"$f":"'Result Entry'!CI78","v":0},{"$f":"'Result Entry'!CJ78","v":0},{"$f":"'Result Entry'!CK78","v":0},{"$f":"'Result Entry'!CL78","v":""},{"$f":"'Result Entry'!CM78","v":0},{"$f":"'Result Entry'!CN78","v":0},{"$f":"'Result Entry'!CO78","v":0},{"$f":"'Result Entry'!CP78","v":0},{"$f":"'Result Entry'!CQ78","v":0},{"$f":"'Result Entry'!CR78","v":0},{"$f":"'Result Entry'!CS78","v":0},{"$f":"'Result Entry'!CT78","v":""},{"$f":"'Result Entry'!CU78","v":0},{"$f":"'Result Entry'!CV78","v":0},{"$f":"'Result Entry'!CW78","v":""},{"$f":"'Result Entry'!CX78","v":500},{"$f":"'Result Entry'!CY78","v":0},{"$f":"'Result Entry'!CZ78","v":{"v":0,"d":"0.00"}},{"$f":"'Result Entry'!DA78","v":""},{"$f":"'Result Entry'!DB78","v":""},{"$f":"'Result Entry'!DC78","v":""},{"$f":"'Result Entry'!DD78","v":""}]
[null,0,{"$f":"'Result Entry'!D79","v":0},{"$f":"'Result Entry'!E79","v":0},{"$f":"'Result Entry'!F79","v":0},{"$f":"'Result Entry'!G79","v":0},{"$f":"'Result Entry'!H79","v":0},{"$f":"'Result Entry'!I79","v":0},{"$f":"'Result Entry'!J79","v":"00:00:00"},{"$f":"'Result Entry'!K79","v":0},{"$f":"'Result Entry'!L79","v":0},{"$f":"'Result Entry'!M79","v":0},{"$f":"'Result Entry'!N79","v":0},{"$f":"'Result Entry'!O79","v":0},{"$f":"'Result Entry'!P79","v":0},{"$f":"'Result Entry'!Q79","v":0},{"$f":"'Result Entry'!R79","v":0},{"$f":"'Result Entry'!S79","v":0},{"$f":"'Result Entry'!T79","v":0},{"$f":"'Result Entry'!U79","v":0},{"$f":"'Result Entry'!V79","v":0},{"$f":"'Result Entry'!W79","v":0},{"$f":"'Result Entry'!X79","v":""},{"$f":"'Result Entry'!Y79","v":0},{"$f":"'Result Entry'!Z79","v":0},{"$f":"'Result Entry'!AA79","v":0},{"$f":"'Result Entry'!AB79","v":0},{"$f":"'Result Entry'!AC79","v":0},{"$f":"'Result Entry'!AD79","v":0},{"$f":"'Result Entry'!AE79","v":0},{"$f":"'Result Entry'!AF79","v":0},{"$f":"'Result Entry'!AG79","v":0},{"$f":"'Result Entry'!AH79","v":0},{"$f":"'Result Entry'!AI79","v":0},{"$f":"'Result Entry'!AJ79","v":0},{"$f":"'Result Entry'!AK79","v":0},{"$f":"'Result Entry'!AL79","v":""},{"$f":"'Result Entry'!AM79","v":0},{"$f":"'Result Entry'!AN79","v":0},{"$f":"'Result Entry'!AO79","v":0},{"$f":"'Result Entry'!AP79","v":0},{"$f":"'Result Entry'!AQ79","v":0},{"$f":"'Result Entry'!AR79","v":0},{"$f":"'Result Entry'!AS79","v":0},{"$f":"'Result Entry'!AT79","v":0},{"$f":"'Result Entry'!AU79","v":0},{"$f":"'Result Entry'!AV79","v":0},{"$f":"'Result Entry'!AW79","v":0},{"$f":"'Result Entry'!AX79","v":0},{"$f":"'Result Entry'!AY79","v":0},{"$f":"'Result Entry'!AZ79","v":""},{"$f":"'Result Entry'!BA79","v":0},{"$f":"'Result Entry'!BB79","v":0},{"$f":"'Result Entry'!BC79","v":0},{"$f":"'Result Entry'!BD79","v":0},{"$f":"'Result Entry'!BE79","v":0},{"$f":"'Result Entry'!BF79","v":0},{"$f":"'Result Entry'!BG79","v":0},{"$f":"'Result Entry'!BH79","v":0},{"$f":"'Result Entry'!BI79","v":0},{"$f":"'Result Entry'!BJ79","v":0},{"$f":"'Result Entry'!BK79","v":0},{"$f":"'Result Entry'!BL79","v":0},{"$f":"'Result Entry'!BM79","v":""},{"$f":"'Result Entry'!BN79","v":""},{"$f":"'Result Entry'!BO79","v":0},{"$f":"'Result Entry'!BP79","v":0},{"$f":"'Result Entry'!BQ79","v":0},{"$f":"'Result Entry'!BR79","v":0},{"$f":"'Result Entry'!BS79","v":0},{"$f":"'Result Entry'!BT79","v":0},{"$f":"'Result Entry'!BU79","v":0},{"$f":"'Result Entry'!BV79","v":""},{"$f":"'Result Entry'!BW79","v":0},{"$f":"'Result Entry'!BX79","v":0},{"$f":"'Result Entry'!BY79","v":0},{"$f":"'Result Entry'!BZ79","v":0},{"$f":"'Result Entry'!CA79","v":0},{"$f":"'Result Entry'!CB79","v":0},{"$f":"'Result Entry'!CC79","v":0},{"$f":"'Result Entry'!CD79","v":""},{"$f":"'Result Entry'!CE79","v":0},{"$f":"'Result Entry'!CF79","v":0},{"$f":"'Result Entry'!CG79","v":0},{"$f":"'Result Entry'!CH79","v":0},{"$f":"'Result Entry'!CI79","v":0},{"$f":"'Result Entry'!CJ79","v":0},{"$f":"'Result Entry'!CK79","v":0},{"$f":"'Result Entry'!CL79","v":""},{"$f":"'Result Entry'!CM79","v":0},{"$f":"'Result Entry'!CN79","v":0},{"$f":"'Result Entry'!CO79","v":0},{"$f":"'Result Entry'!CP79","v":0},{"$f":"'Result Entry'!CQ79","v":0},{"$f":"'Result Entry'!CR79","v":0},{"$f":"'Result Entry'!CS79","v":0},{"$f":"'Result Entry'!CT79","v":""},{"$f":"'Result Entry'!CU79","v":0},{"$f":"'Result Entry'!CV79","v":0},{"$f":"'Result Entry'!CW79","v":""},{"$f":"'Result Entry'!CX79","v":500},{"$f":"'Result Entry'!CY79","v":0},{"$f":"'Result Entry'!CZ79","v":{"v":0,"d":"0.00"}},{"$f":"'Result Entry'!DA79","v":""},{"$f":"'Result Entry'!DB79","v":""},{"$f":"'Result Entry'!DC79","v":""},{"$f":"'Result Entry'!DD79","v":""}]
[null,0,{"$f":"'Result Entry'!D80","v":0},{"$f":"'Result Entry'!E80","v":0},{"$f":"'Result Entry'!F80","v":0},{"$f":"'Result Entry'!G80","v":0},{"$f":"'Result Entry'!H80","v":0},{"$f":"'Result Entry'!I80","v":0},{"$f":"'Result Entry'!J80","v":"00:00:00"},{"$f":"'Result Entry'!K80","v":0},{"$f":"'Result Entry'!L80","v":0},{"$f":"'Result Entry'!M80","v":0},{"$f":"'Result Entry'!N80","v":0},{"$f":"'Result Entry'!O80","v":0},{"$f":"'Result Entry'!P80","v":0},{"$f":"'Result Entry'!Q80","v":0},{"$f":"'Result Entry'!R80","v":0},{"$f":"'Result Entry'!S80","v":0},{"$f":"'Result Entry'!T80","v":0},{"$f":"'Result Entry'!U80","v":0},{"$f":"'Result Entry'!V80","v":0},{"$f":"'Result Entry'!W80","v":0},{"$f":"'Result Entry'!X80","v":""},{"$f":"'Result Entry'!Y80","v":0},{"$f":"'Result Entry'!Z80","v":0},{"$f":"'Result Entry'!AA80","v":0},{"$f":"'Result Entry'!AB80","v":0},{"$f":"'Result Entry'!AC80","v":0},{"$f":"'Result Entry'!AD80","v":0},{"$f":"'Result Entry'!AE80","v":0},{"$f":"'Result Entry'!AF80","v":0},{"$f":"'Result Entry'!AG80","v":0},{"$f":"'Result Entry'!AH80","v":0},{"$f":"'Result Entry'!AI80","v":0},{"$f":"'Result Entry'!AJ80","v":0},{"$f":"'Result Entry'!AK80","v":0},{"$f":"'Result Entry'!AL80","v":""},{"$f":"'Result Entry'!AM80","v":0},{"$f":"'Result Entry'!AN80","v":0},{"$f":"'Result Entry'!AO80","v":0},{"$f":"'Result Entry'!AP80","v":0},{"$f":"'Result Entry'!AQ80","v":0},{"$f":"'Result Entry'!AR80","v":0},{"$f":"'Result Entry'!AS80","v":0},{"$f":"'Result Entry'!AT80","v":0},{"$f":"'Result Entry'!AU80","v":0},{"$f":"'Result Entry'!AV80","v":0},{"$f":"'Result Entry'!AW80","v":0},{"$f":"'Result Entry'!AX80","v":0},{"$f":"'Result Entry'!AY80","v":0},{"$f":"'Result Entry'!AZ80","v":""},{"$f":"'Result Entry'!BA80","v":0},{"$f":"'Result Entry'!BB80","v":0},{"$f":"'Result Entry'!BC80","v":0},{"$f":"'Result Entry'!BD80","v":0},{"$f":"'Result Entry'!BE80","v":0},{"$f":"'Result Entry'!BF80","v":0},{"$f":"'Result Entry'!BG80","v":0},{"$f":"'Result Entry'!BH80","v":0},{"$f":"'Result Entry'!BI80","v":0},{"$f":"'Result Entry'!BJ80","v":0},{"$f":"'Result Entry'!BK80","v":0},{"$f":"'Result Entry'!BL80","v":0},{"$f":"'Result Entry'!BM80","v":""},{"$f":"'Result Entry'!BN80","v":""},{"$f":"'Result Entry'!BO80","v":0},{"$f":"'Result Entry'!BP80","v":0},{"$f":"'Result Entry'!BQ80","v":0},{"$f":"'Result Entry'!BR80","v":0},{"$f":"'Result Entry'!BS80","v":0},{"$f":"'Result Entry'!BT80","v":0},{"$f":"'Result Entry'!BU80","v":0},{"$f":"'Result Entry'!BV80","v":""},{"$f":"'Result Entry'!BW80","v":0},{"$f":"'Result Entry'!BX80","v":0},{"$f":"'Result Entry'!BY80","v":0},{"$f":"'Result Entry'!BZ80","v":0},{"$f":"'Result Entry'!CA80","v":0},{"$f":"'Result Entry'!CB80","v":0},{"$f":"'Result Entry'!CC80","v":0},{"$f":"'Result Entry'!CD80","v":""},{"$f":"'Result Entry'!CE80","v":0},{"$f":"'Result Entry'!CF80","v":0},{"$f":"'Result Entry'!CG80","v":0},{"$f":"'Result Entry'!CH80","v":0},{"$f":"'Result Entry'!CI80","v":0},{"$f":"'Result Entry'!CJ80","v":0},{"$f":"'Result Entry'!CK80","v":0},{"$f":"'Result Entry'!CL80","v":""},{"$f":"'Result Entry'!CM80","v":0},{"$f":"'Result Entry'!CN80","v":0},{"$f":"'Result Entry'!CO80","v":0},{"$f":"'Result Entry'!CP80","v":0},{"$f":"'Result Entry'!CQ80","v":0},{"$f":"'Result Entry'!CR80","v":0},{"$f":"'Result Entry'!CS80","v":0},{"$f":"'Result Entry'!CT80","v":""},{"$f":"'Result Entry'!CU80","v":0},{"$f":"'Result Entry'!CV80","v":0},{"$f":"'Result Entry'!CW80","v":""},{"$f":"'Result Entry'!CX80","v":500},{"$f":"'Result Entry'!CY80","v":0},{"$f":"'Result Entry'!CZ80","v":{"v":0,"d":"0.00"}},{"$f":"'Result Entry'!DA80","v":""},{"$f":"'Result Entry'!DB80","v":""},{"$f":"'Result Entry'!DC80","v":""},{"$f":"'Result Entry'!DD80","v":""}]
[null,0,{"$f":"'Result Entry'!D81","v":0},{"$f":"'Result Entry'!E81","v":0},{"$f":"'Result Entry'!F81","v":0},{"$f":"'Result Entry'!G81","v":0},{"$f":"'Result Entry'!H81","v":0},{"$f":"'Result Entry'!I81","v":0},{"$f":"'Result Entry'!J81","v":"00:00:00"},{"$f":"'Result Entry'!K81","v":0},{"$f":"'Result Entry'!L81","v":0},{"$f":"'Result Entry'!M81","v":0},{"$f":"'Result Entry'!N81","v":0},{"$f":"'Result Entry'!O81","v":0},{"$f":"'Result Entry'!P81","v":0},{"$f":"'Result Entry'!Q81","v":0},{"$f":"'Result Entry'!R81","v":0},{"$f":"'Result Entry'!S81","v":0},{"$f":"'Result Entry'!T81","v":0},{"$f":"'Result Entry'!U81","v":0},{"$f":"'Result Entry'!V81","v":0},{"$f":"'Result Entry'!W81","v":0},{"$f":"'Result Entry'!X81","v":""},{"$f":"'Result Entry'!Y81","v":0},{"$f":"'Result Entry'!Z81","v":0},{"$f":"'Result Entry'!AA81","v":0},{"$f":"'Result Entry'!AB81","v":0},{"$f":"'Result Entry'!AC81","v":0},{"$f":"'Result Entry'!AD81","v":0},{"$f":"'Result Entry'!AE81","v":0},{"$f":"'Result Entry'!AF81","v":0},{"$f":"'Result Entry'!AG81","v":0},{"$f":"'Result Entry'!AH81","v":0},{"$f":"'Result Entry'!AI81","v":0},{"$f":"'Result Entry'!AJ81","v":0},{"$f":"'Result Entry'!AK81","v":0},{"$f":"'Result Entry'!AL81","v":""},{"$f":"'Result Entry'!AM81","v":0},{"$f":"'Result Entry'!AN81","v":0},{"$f":"'Result Entry'!AO81","v":0},{"$f":"'Result Entry'!AP81","v":0},{"$f":"'Result Entry'!AQ81","v":0},{"$f":"'Result Entry'!AR81","v":0},{"$f":"'Result Entry'!AS81","v":0},{"$f":"'Result Entry'!AT81","v":0},{"$f":"'Result Entry'!AU81","v":0},{"$f":"'Result Entry'!AV81","v":0},{"$f":"'Result Entry'!AW81","v":0},{"$f":"'Result Entry'!AX81","v":0},{"$f":"'Result Entry'!AY81","v":0},{"$f":"'Result Entry'!AZ81","v":""},{"$f":"'Result Entry'!BA81","v":0},{"$f":"'Result Entry'!BB81","v":0},{"$f":"'Result Entry'!BC81","v":0},{"$f":"'Result Entry'!BD81","v":0},{"$f":"'Result Entry'!BE81","v":0},{"$f":"'Result Entry'!BF81","v":0},{"$f":"'Result Entry'!BG81","v":0},{"$f":"'Result Entry'!BH81","v":0},{"$f":"'Result Entry'!BI81","v":0},{"$f":"'Result Entry'!BJ81","v":0},{"$f":"'Result Entry'!BK81","v":0},{"$f":"'Result Entry'!BL81","v":0},{"$f":"'Result Entry'!BM81","v":""},{"$f":"'Result Entry'!BN81","v":""},{"$f":"'Result Entry'!BO81","v":0},{"$f":"'Result Entry'!BP81","v":0},{"$f":"'Result Entry'!BQ81","v":0},{"$f":"'Result Entry'!BR81","v":0},{"$f":"'Result Entry'!BS81","v":0},{"$f":"'Result Entry'!BT81","v":0},{"$f":"'Result Entry'!BU81","v":0},{"$f":"'Result Entry'!BV81","v":""},{"$f":"'Result Entry'!BW81","v":0},{"$f":"'Result Entry'!BX81","v":0},{"$f":"'Result Entry'!BY81","v":0},{"$f":"'Result Entry'!BZ81","v":0},{"$f":"'Result Entry'!CA81","v":0},{"$f":"'Result Entry'!CB81","v":0},{"$f":"'Result Entry'!CC81","v":0},{"$f":"'Result Entry'!CD81","v":""},{"$f":"'Result Entry'!CE81","v":0},{"$f":"'Result Entry'!CF81","v":0},{"$f":"'Result Entry'!CG81","v":0},{"$f":"'Result Entry'!CH81","v":0},{"$f":"'Result Entry'!CI81","v":0},{"$f":"'Result Entry'!CJ81","v":0},{"$f":"'Result Entry'!CK81","v":0},{"$f":"'Result Entry'!CL81","v":""},{"$f":"'Result Entry'!CM81","v":0},{"$f":"'Result Entry'!CN81","v":0},{"$f":"'Result Entry'!CO81","v":0},{"$f":"'Result Entry'!CP81","v":0},{"$f":"'Result Entry'!CQ81","v":0},{"$f":"'Result Entry'!CR81","v":0},{"$f":"'Result Entry'!CS81","v":0},{"$f":"'Result Entry'!CT81","v":""},{"$f":"'Result Entry'!CU81","v":0},{"$f":"'Result Entry'!CV81","v":0},{"$f":"'Result Entry'!CW81","v":""},{"$f":"'Result Entry'!CX81","v":500},{"$f":"'Result Entry'!CY81","v":0},{"$f":"'Result Entry'!CZ81","v":{"v":0,"d":"0.00"}},{"$f":"'Result Entry'!DA81","v":""},{"$f":"'Result Entry'!DB81","v":""},{"$f":"'Result Entry'!DC81","v":""},{"$f":"'Result Entry'!DD81","v":""}]
[null,0,{"$f":"'Result Entry'!D82","v":0},{"$f":"'Result Entry'!E82","v":0},{"$f":"'Result Entry'!F82","v":0},{"$f":"'Result Entry'!G82","v":0},{"$f":"'Result Entry'!H82","v":0},{"$f":"'Result Entry'!I82","v":0},{"$f":"'Result Entry'!J82","v":"00:00:00"},{"$f":"'Result Entry'!K82","v":0},{"$f":"'Result Entry'!L82","v":0},{"$f":"'Result Entry'!M82","v":0},{"$f":"'Result Entry'!N82","v":0},{"$f":"'Result Entry'!O82","v":0},{"$f":"'Result Entry'!P82","v":0},{"$f":"'Result Entry'!Q82","v":0},{"$f":"'Result Entry'!R82","v":0},{"$f":"'Result Entry'!S82","v":0},{"$f":"'Result Entry'!T82","v":0},{"$f":"'Result Entry'!U82","v":0},{"$f":"'Result Entry'!V82","v":0},{"$f":"'Result Entry'!W82","v":0},{"$f":"'Result Entry'!X82","v":""},{"$f":"'Result Entry'!Y82","v":0},{"$f":"'Result Entry'!Z82","v":0},{"$f":"'Result Entry'!AA82","v":0},{"$f":"'Result Entry'!AB82","v":0},{"$f":"'Result Entry'!AC82","v":0},{"$f":"'Result Entry'!AD82","v":0},{"$f":"'Result Entry'!AE82","v":0},{"$f":"'Result Entry'!AF82","v":0},{"$f":"'Result Entry'!AG82","v":0},{"$f":"'Result Entry'!AH82","v":0},{"$f":"'Result Entry'!AI82","v":0},{"$f":"'Result Entry'!AJ82","v":0},{"$f":"'Result Entry'!AK82","v":0},{"$f":"'Result Entry'!AL82","v":""},{"$f":"'Result Entry'!AM82","v":0},{"$f":"'Result Entry'!AN82","v":0},{"$f":"'Result Entry'!AO82","v":0},{"$f":"'Result Entry'!AP82","v":0},{"$f":"'Result Entry'!AQ82","v":0},{"$f":"'Result Entry'!AR82","v":0},{"$f":"'Result Entry'!AS82","v":0},{"$f":"'Result Entry'!AT82","v":0},{"$f":"'Result Entry'!AU82","v":0},{"$f":"'Result Entry'!AV82","v":0},{"$f":"'Result Entry'!AW82","v":0},{"$f":"'Result Entry'!AX82","v":0},{"$f":"'Result Entry'!AY82","v":0},{"$f":"'Result Entry'!AZ82","v":""},{"$f":"'Result Entry'!BA82","v":0},{"$f":"'Result Entry'!BB82","v":0},{"$f":"'Result Entry'!BC82","v":0},{"$f":"'Result Entry'!BD82","v":0},{"$f":"'Result Entry'!BE82","v":0},{"$f":"'Result Entry'!BF82","v":0},{"$f":"'Result Entry'!BG82","v":0},{"$f":"'Result Entry'!BH82","v":0},{"$f":"'Result Entry'!BI82","v":0},{"$f":"'Result Entry'!BJ82","v":0},{"$f":"'Result Entry'!BK82","v":0},{"$f":"'Result Entry'!BL82","v":0},{"$f":"'Result Entry'!BM82","v":""},{"$f":"'Result Entry'!BN82","v":""},{"$f":"'Result Entry'!BO82","v":0},{"$f":"'Result Entry'!BP82","v":0},{"$f":"'Result Entry'!BQ82","v":0},{"$f":"'Result Entry'!BR82","v":0},{"$f":"'Result Entry'!BS82","v":0},{"$f":"'Result Entry'!BT82","v":0},{"$f":"'Result Entry'!BU82","v":0},{"$f":"'Result Entry'!BV82","v":""},{"$f":"'Result Entry'!BW82","v":0},{"$f":"'Result Entry'!BX82","v":0},{"$f":"'Result Entry'!BY82","v":0},{"$f":"'Result Entry'!BZ82","v":0},{"$f":"'Result Entry'!CA82","v":0},{"$f":"'Result Entry'!CB82","v":0},{"$f":"'Result Entry'!CC82","v":0},{"$f":"'Result Entry'!CD82","v":""},{"$f":"'Result Entry'!CE82","v":0},{"$f":"'Result Entry'!CF82","v":0},{"$f":"'Result Entry'!CG82","v":0},{"$f":"'Result Entry'!CH82","v":0},{"$f":"'Result Entry'!CI82","v":0},{"$f":"'Result Entry'!CJ82","v":0},{"$f":"'Result Entry'!CK82","v":0},{"$f":"'Result Entry'!CL82","v":""},{"$f":"'Result Entry'!CM82","v":0},{"$f":"'Result Entry'!CN82","v":0},{"$f":"'Result Entry'!CO82","v":0},{"$f":"'Result Entry'!CP82","v":0},{"$f":"'Result Entry'!CQ82","v":0},{"$f":"'Result Entry'!CR82","v":0},{"$f":"'Result Entry'!CS82","v":0},{"$f":"'Result Entry'!CT82","v":""},{"$f":"'Result Entry'!CU82","v":0},{"$f":"'Result Entry'!CV82","v":0},{"$f":"'Result Entry'!CW82","v":""},{"$f":"'Result Entry'!CX82","v":500},{"$f":"'Result Entry'!CY82","v":0},{"$f":"'Result Entry'!CZ82","v":{"v":0,"d":"0.00"}},{"$f":"'Result Entry'!DA82","v":""},{"$f":"'Result Entry'!DB82","v":""},{"$f":"'Result Entry'!DC82","v":""},{"$f":"'Result Entry'!DD82","v":""}]
[null,0,{"$f":"'Result Entry'!D83","v":0},{"$f":"'Result Entry'!E83","v":0},{"$f":"'Result Entry'!F83","v":0},{"$f":"'Result Entry'!G83","v":0},{"$f":"'Result Entry'!H83","v":0},{"$f":"'Result Entry'!I83","v":0},{"$f":"'Result Entry'!J83","v":"00:00:00"},{"$f":"'Result Entry'!K83","v":0},{"$f":"'Result Entry'!L83","v":0},{"$f":"'Result Entry'!M83","v":0},{"$f":"'Result Entry'!N83","v":0},{"$f":"'Result Entry'!O83","v":0},{"$f":"'Result Entry'!P83","v":0},{"$f":"'Result Entry'!Q83","v":0},{"$f":"'Result Entry'!R83","v":0},{"$f":"'Result Entry'!S83","v":0},{"$f":"'Result Entry'!T83","v":0},{"$f":"'Result Entry'!U83","v":0},{"$f":"'Result Entry'!V83","v":0},{"$f":"'Result Entry'!W83","v":0},{"$f":"'Result Entry'!X83","v":""},{"$f":"'Result Entry'!Y83","v":0},{"$f":"'Result Entry'!Z83","v":0},{"$f":"'Result Entry'!AA83","v":0},{"$f":"'Result Entry'!AB83","v":0},{"$f":"'Result Entry'!AC83","v":0},{"$f":"'Result Entry'!AD83","v":0},{"$f":"'Result Entry'!AE83","v":0},{"$f":"'Result Entry'!AF83","v":0},{"$f":"'Result Entry'!AG83","v":0},{"$f":"'Result Entry'!AH83","v":0},{"$f":"'Result Entry'!AI83","v":0},{"$f":"'Result Entry'!AJ83","v":0},{"$f":"'Result Entry'!AK83","v":0},{"$f":"'Result Entry'!AL83","v":""},{"$f":"'Result Entry'!AM83","v":0},{"$f":"'Result Entry'!AN83","v":0},{"$f":"'Result Entry'!AO83","v":0},{"$f":"'Result Entry'!AP83","v":0},{"$f":"'Result Entry'!AQ83","v":0},{"$f":"'Result Entry'!AR83","v":0},{"$f":"'Result Entry'!AS83","v":0},{"$f":"'Result Entry'!AT83","v":0},{"$f":"'Result Entry'!AU83","v":0},{"$f":"'Result Entry'!AV83","v":0},{"$f":"'Result Entry'!AW83","v":0},{"$f":"'Result Entry'!AX83","v":0},{"$f":"'Result Entry'!AY83","v":0},{"$f":"'Result Entry'!AZ83","v":""},{"$f":"'Result Entry'!BA83","v":0},{"$f":"'Result Entry'!BB83","v":0},{"$f":"'Result Entry'!BC83","v":0},{"$f":"'Result Entry'!BD83","v":0},{"$f":"'Result Entry'!BE83","v":0},{"$f":"'Result Entry'!BF83","v":0},{"$f":"'Result Entry'!BG83","v":0},{"$f":"'Result Entry'!BH83","v":0},{"$f":"'Result Entry'!BI83","v":0},{"$f":"'Result Entry'!BJ83","v":0},{"$f":"'Result Entry'!BK83","v":0},{"$f":"'Result Entry'!BL83","v":0},{"$f":"'Result Entry'!BM83","v":""},{"$f":"'Result Entry'!BN83","v":""},{"$f":"'Result Entry'!BO83","v":0},{"$f":"'Result Entry'!BP83","v":0},{"$f":"'Result Entry'!BQ83","v":0},{"$f":"'Result Entry'!BR83","v":0},{"$f":"'Result Entry'!BS83","v":0},{"$f":"'Result Entry'!BT83","v":0},{"$f":"'Result Entry'!BU83","v":0},{"$f":"'Result Entry'!BV83","v":""},{"$f":"'Result Entry'!BW83","v":0},{"$f":"'Result Entry'!BX83","v":0},{"$f":"'Result Entry'!BY83","v":0},{"$f":"'Result Entry'!BZ83","v":0},{"$f":"'Result Entry'!CA83","v":0},{"$f":"'Result Entry'!CB83","v":0},{"$f":"'Result Entry'!CC83","v":0},{"$f":"'Result Entry'!CD83","v":""},{"$f":"'Result Entry'!CE83","v":0},{"$f":"'Result Entry'!CF83","v":0},{"$f":"'Result Entry'!CG83","v":0},{"$f":"'Result Entry'!CH83","v":0},{"$f":"'Result Entry'!CI83","v":0},{"$f":"'Result Entry'!CJ83","v":0},{"$f":"'Result Entry'!CK83","v":0},{"$f":"'Result Entry'!CL83","v":""},{"$f":"'Result Entry'!CM83","v":0},{"$f":"'Result Entry'!CN83","v":0},{"$f":"'Result Entry'!CO83","v":0},{"$f":"'Result Entry'!CP83","v":0},{"$f":"'Result Entry'!CQ83","v":0},{"$f":"'Result Entry'!CR83","v":0},{"$f":"'Result Entry'!CS83","v":0},{"$f":"'Result Entry'!CT83","v":""},{"$f":"'Result Entry'!CU83","v":0},{"$f":"'Result Entry'!CV83","v":0},{"$f":"'Result Entry'!CW83","v":""},{"$f":"'Result Entry'!CX83","v":500},{"$f":"'Result Entry'!CY83","v":0},{"$f":"'Result Entry'!CZ83","v":{"v":0,"d":"0.00"}},{"$f":"'Result Entry'!DA83","v":""},{"$f":"'Result Entry'!DB83","v":""},{"$f":"'Result Entry'!DC83","v":""},{"$f":"'Result Entry'!DD83","v":""}]
[null,0,{"$f":"'Result Entry'!D84","v":0},{"$f":"'Result Entry'!E84","v":0},{"$f":"'Result Entry'!F84","v":0},{"$f":"'Result Entry'!G84","v":0},{"$f":"'Result Entry'!H84","v":0},{"$f":"'Result Entry'!I84","v":0},{"$f":"'Result Entry'!J84","v":"00:00:00"},{"$f":"'Result Entry'!K84","v":0},{"$f":"'Result Entry'!L84","v":0},{"$f":"'Result Entry'!M84","v":0},{"$f":"'Result Entry'!N84","v":0},{"$f":"'Result Entry'!O84","v":0},{"$f":"'Result Entry'!P84","v":0},{"$f":"'Result Entry'!Q84","v":0},{"$f":"'Result Entry'!R84","v":0},{"$f":"'Result Entry'!S84","v":0},{"$f":"'Result Entry'!T84","v":0},{"$f":"'Result Entry'!U84","v":0},{"$f":"'Result Entry'!V84","v":0},{"$f":"'Result Entry'!W84","v":0},{"$f":"'Result Entry'!X84","v":""},{"$f":"'Result Entry'!Y84","v":0},{"$f":"'Result Entry'!Z84","v":0},{"$f":"'Result Entry'!AA84","v":0},{"$f":"'Result Entry'!AB84","v":0},{"$f":"'Result Entry'!AC84","v":0},{"$f":"'Result Entry'!AD84","v":0},{"$f":"'Result Entry'!AE84","v":0},{"$f":"'Result Entry'!AF84","v":0},{"$f":"'Result Entry'!AG84","v":0},{"$f":"'Result Entry'!AH84","v":0},{"$f":"'Result Entry'!AI84","v":0},{"$f":"'Result Entry'!AJ84","v":0},{"$f":"'Result Entry'!AK84","v":0},{"$f":"'Result Entry'!AL84","v":""},{"$f":"'Result Entry'!AM84","v":0},{"$f":"'Result Entry'!AN84","v":0},{"$f":"'Result Entry'!AO84","v":0},{"$f":"'Result Entry'!AP84","v":0},{"$f":"'Result Entry'!AQ84","v":0},{"$f":"'Result Entry'!AR84","v":0},{"$f":"'Result Entry'!AS84","v":0},{"$f":"'Result Entry'!AT84","v":0},{"$f":"'Result Entry'!AU84","v":0},{"$f":"'Result Entry'!AV84","v":0},{"$f":"'Result Entry'!AW84","v":0},{"$f":"'Result Entry'!AX84","v":0},{"$f":"'Result Entry'!AY84","v":0},{"$f":"'Result Entry'!AZ84","v":""},{"$f":"'Result Entry'!BA84","v":0},{"$f":"'Result Entry'!BB84","v":0},{"$f":"'Result Entry'!BC84","v":0},{"$f":"'Result Entry'!BD84","v":0},{"$f":"'Result Entry'!BE84","v":0},{"$f":"'Result Entry'!BF84","v":0},{"$f":"'Result Entry'!BG84","v":0},{"$f":"'Result Entry'!BH84","v":0},{"$f":"'Result Entry'!BI84","v":0},{"$f":"'Result Entry'!BJ84","v":0},{"$f":"'Result Entry'!BK84","v":0},{"$f":"'Result Entry'!BL84","v":0},{"$f":"'Result Entry'!BM84","v":""},{"$f":"'Result Entry'!BN84","v":""},{"$f":"'Result Entry'!BO84","v":0},{"$f":"'Result Entry'!BP84","v":0},{"$f":"'Result Entry'!BQ84","v":0},{"$f":"'Result Entry'!BR84","v":0},{"$f":"'Result Entry'!BS84","v":0},{"$f":"'Result Entry'!BT84","v":0},{"$f":"'Result Entry'!BU84","v":0},{"$f":"'Result Entry'!BV84","v":""},{"$f":"'Result Entry'!BW84","v":0},{"$f":"'Result Entry'!BX84","v":0},{"$f":"'Result Entry'!BY84","v":0},{"$f":"'Result Entry'!BZ84","v":0},{"$f":"'Result Entry'!CA84","v":0},{"$f":"'Result Entry'!CB84","v":0},{"$f":"'Result Entry'!CC84","v":0},{"$f":"'Result Entry'!CD84","v":""},{"$f":"'Result Entry'!CE84","v":0},{"$f":"'Result Entry'!CF84","v":0},{"$f":"'Result Entry'!CG84","v":0},{"$f":"'Result Entry'!CH84","v":0},{"$f":"'Result Entry'!CI84","v":0},{"$f":"'Result Entry'!CJ84","v":0},{"$f":"'Result Entry'!CK84","v":0},{"$f":"'Result Entry'!CL84","v":""},{"$f":"'Result Entry'!CM84","v":0},{"$f":"'Result Entry'!CN84","v":0},{"$f":"'Result Entry'!CO84","v":0},{"$f":"'Result Entry'!CP84","v":0},{"$f":"'Result Entry'!CQ84","v":0},{"$f":"'Result Entry'!CR84","v":0},{"$f":"'Result Entry'!CS84","v":0},{"$f":"'Result Entry'!CT84","v":""},{"$f":"'Result Entry'!CU84","v":0},{"$f":"'Result Entry'!CV84","v":0},{"$f":"'Result Entry'!CW84","v":""},{"$f":"'Result Entry'!CX84","v":500},{"$f":"'Result Entry'!CY84","v":0},{"$f":"'Result Entry'!CZ84","v":{"v":0,"d":"0.00"}},{"$f":"'Result Entry'!DA84","v":""},{"$f":"'Result Entry'!DB84","v":""},{"$f":"'Result Entry'!DC84","v":""},{"$f":"'Result Entry'!DD84","v":""}]
[null,0,{"$f":"'Result Entry'!D85","v":0},{"$f":"'Result Entry'!E85","v":0},{"$f":"'Result Entry'!F85","v":0},{"$f":"'Result Entry'!G85","v":0},{"$f":"'Result Entry'!H85","v":0},{"$f":"'Result Entry'!I85","v":0},{"$f":"'Result Entry'!J85","v":"00:00:00"},{"$f":"'Result Entry'!K85","v":0},{"$f":"'Result Entry'!L85","v":0},{"$f":"'Result Entry'!M85","v":0},{"$f":"'Result Entry'!N85","v":0},{"$f":"'Result Entry'!O85","v":0},{"$f":"'Result Entry'!P85","v":0},{"$f":"'Result Entry'!Q85","v":0},{"$f":"'Result Entry'!R85","v":0},{"$f":"'Result Entry'!S85","v":0},{"$f":"'Result Entry'!T85","v":0},{"$f":"'Result Entry'!U85","v":0},{"$f":"'Result Entry'!V85","v":0},{"$f":"'Result Entry'!W85","v":0},{"$f":"'Result Entry'!X85","v":""},{"$f":"'Result Entry'!Y85","v":0},{"$f":"'Result Entry'!Z85","v":0},{"$f":"'Result Entry'!AA85","v":0},{"$f":"'Result Entry'!AB85","v":0},{"$f":"'Result Entry'!AC85","v":0},{"$f":"'Result Entry'!AD85","v":0},{"$f":"'Result Entry'!AE85","v":0},{"$f":"'Result Entry'!AF85","v":0},{"$f":"'Result Entry'!AG85","v":0},{"$f":"'Result Entry'!AH85","v":0},{"$f":"'Result Entry'!AI85","v":0},{"$f":"'Result Entry'!AJ85","v":0},{"$f":"'Result Entry'!AK85","v":0},{"$f":"'Result Entry'!AL85","v":""},{"$f":"'Result Entry'!AM85","v":0},{"$f":"'Result Entry'!AN85","v":0},{"$f":"'Result Entry'!AO85","v":0},{"$f":"'Result Entry'!AP85","v":0},{"$f":"'Result Entry'!AQ85","v":0},{"$f":"'Result Entry'!AR85","v":0},{"$f":"'Result Entry'!AS85","v":0},{"$f":"'Result Entry'!AT85","v":0},{"$f":"'Result Entry'!AU85","v":0},{"$f":"'Result Entry'!AV85","v":0},{"$f":"'Result Entry'!AW85","v":0},{"$f":"'Result Entry'!AX85","v":0},{"$f":"'Result Entry'!AY85","v":0},{"$f":"'Result Entry'!AZ85","v":""},{"$f":"'Result Entry'!BA85","v":0},{"$f":"'Result Entry'!BB85","v":0},{"$f":"'Result Entry'!BC85","v":0},{"$f":"'Result Entry'!BD85","v":0},{"$f":"'Result Entry'!BE85","v":0},{"$f":"'Result Entry'!BF85","v":0},{"$f":"'Result Entry'!BG85","v":0},{"$f":"'Result Entry'!BH85","v":0},{"$f":"'Result Entry'!BI85","v":0},{"$f":"'Result Entry'!BJ85","v":0},{"$f":"'Result Entry'!BK85","v":0},{"$f":"'Result Entry'!BL85","v":0},{"$f":"'Result Entry'!BM85","v":""},{"$f":"'Result Entry'!BN85","v":""},{"$f":"'Result Entry'!BO85","v":0},{"$f":"'Result Entry'!BP85","v":0},{"$f":"'Result Entry'!BQ85","v":0},{"$f":"'Result Entry'!BR85","v":0},{"$f":"'Result Entry'!BS85","v":0},{"$f":"'Result Entry'!BT85","v":0},{"$f":"'Result Entry'!BU85","v":0},{"$f":"'Result Entry'!BV85","v":""},{"$f":"'Result Entry'!BW85","v":0},{"$f":"'Result Entry'!BX85","v":0},{"$f":"'Result Entry'!BY85","v":0},{"$f":"'Result Entry'!BZ85","v":0},{"$f":"'Result Entry'!CA85","v":0},{"$f":"'Result Entry'!CB85","v":0},{"$f":"'Result Entry'!CC85","v":0},{"$f":"'Result Entry'!CD85","v":""},{"$f":"'Result Entry'!CE85","v":0},{"$f":"'Result Entry'!CF85","v":0},{"$f":"'Result Entry'!CG85","v":0},{"$f":"'Result Entry'!CH85","v":0},{"$f":"'Result Entry'!CI85","v":0},{"$f":"'Result Entry'!CJ85","v":0},{"$f":"'Result Entry'!CK85","v":0},{"$f":"'Result Entry'!CL85","v":""},{"$f":"'Result Entry'!CM85","v":0},{"$f":"'Result Entry'!CN85","v":0},{"$f":"'Result Entry'!CO85","v":0},{"$f":"'Result Entry'!CP85","v":0},{"$f":"'Result Entry'!CQ85","v":0},{"$f":"'Result Entry'!CR85","v":0},{"$f":"'Result Entry'!CS85","v":0},{"$f":"'Result Entry'!CT85","v":""},{"$f":"'Result Entry'!CU85","v":0},{"$f":"'Result Entry'!CV85","v":0},{"$f":"'Result Entry'!CW85","v":""},{"$f":"'Result Entry'!CX85","v":500},{"$f":"'Result Entry'!CY85","v":0},{"$f":"'Result Entry'!CZ85","v":{"v":0,"d":"0.00"}},{"$f":"'Result Entry'!DA85","v":""},{"$f":"'Result Entry'!DB85","v":""},{"$f":"'Result Entry'!DC85","v":""},{"$f":"'Result Entry'!DD85","v":""}]
[null,0,{"$f":"'Result Entry'!D86","v":0},{"$f":"'Result Entry'!E86","v":0},{"$f":"'Result Entry'!F86","v":0},{"$f":"'Result Entry'!G86","v":0},{"$f":"'Result Entry'!H86","v":0},{"$f":"'Result Entry'!I86","v":0},{"$f":"'Result Entry'!J86","v":"00:00:00"},{"$f":"'Result Entry'!K86","v":0},{"$f":"'Result Entry'!L86","v":0},{"$f":"'Result Entry'!M86","v":0},{"$f":"'Result Entry'!N86","v":0},{"$f":"'Result Entry'!O86","v":0},{"$f":"'Result Entry'!P86","v":0},{"$f":"'Result Entry'!Q86","v":0},{"$f":"'Result Entry'!R86","v":0},{"$f":"'Result Entry'!S86","v":0},{"$f":"'Result Entry'!T86","v":0},{"$f":"'Result Entry'!U86","v":0},{"$f":"'Result Entry'!V86","v":0},{"$f":"'Result Entry'!W86","v":0},{"$f":"'Result Entry'!X86","v":""},{"$f":"'Result Entry'!Y86","v":0},{"$f":"'Result Entry'!Z86","v":0},{"$f":"'Result Entry'!AA86","v":0},{"$f":"'Result Entry'!AB86","v":0},{"$f":"'Result Entry'!AC86","v":0},{"$f":"'Result Entry'!AD86","v":0},{"$f":"'Result Entry'!AE86","v":0},{"$f":"'Result Entry'!AF86","v":0},{"$f":"'Result Entry'!AG86","v":0},{"$f":"'Result Entry'!AH86","v":0},{"$f":"'Result Entry'!AI86","v":0},{"$f":"'Result Entry'!AJ86","v":0},{"$f":"'Result Entry'!AK86","v":0},{"$f":"'Result Entry'!AL86","v":""},{"$f":"'Result Entry'!AM86","v":0},{"$f":"'Result Entry'!AN86","v":0},{"$f":"'Result Entry'!AO86","v":0},{"$f":"'Result Entry'!AP86","v":0},{"$f":"'Result Entry'!AQ86","v":0},{"$f":"'Result Entry'!AR86","v":0},{"$f":"'Result Entry'!AS86","v":0},{"$f":"'Result Entry'!AT86","v":0},{"$f":"'Result Entry'!AU86","v":0},{"$f":"'Result Entry'!AV86","v":0},{"$f":"'Result Entry'!AW86","v":0},{"$f":"'Result Entry'!AX86","v":0},{"$f":"'Result Entry'!AY86","v":0},{"$f":"'Result Entry'!AZ86","v":""},{"$f":"'Result Entry'!BA86","v":0},{"$f":"'Result Entry'!BB86","v":0},{"$f":"'Result Entry'!BC86","v":0},{"$f":"'Result Entry'!BD86","v":0},{"$f":"'Result Entry'!BE86","v":0},{"$f":"'Result Entry'!BF86","v":0},{"$f":"'Result Entry'!BG86","v":0},{"$f":"'Result Entry'!BH86","v":0},{"$f":"'Result Entry'!BI86","v":0},{"$f":"'Result Entry'!BJ86","v":0},{"$f":"'Result Entry'!BK86","v":0},{"$f":"'Result Entry'!BL86","v":0},{"$f":"'Result Entry'!BM86","v":""},{"$f":"'Result Entry'!BN86","v":""},{"$f":"'Result Entry'!BO86","v":0},{"$f":"'Result Entry'!BP86","v":0},{"$f":"'Result Entry'!BQ86","v":0},{"$f":"'Result Entry'!BR86","v":0},{"$f":"'Result Entry'!BS86","v":0},{"$f":"'Result Entry'!BT86","v":0},{"$f":"'Result Entry'!BU86","v":0},{"$f":"'Result Entry'!BV86","v":""},{"$f":"'Result Entry'!BW86","v":0},{"$f":"'Result Entry'!BX86","v":0},{"$f":"'Result Entry'!BY86","v":0},{"$f":"'Result Entry'!BZ86","v":0},{"$f":"'Result Entry'!CA86","v":0},{"$f":"'Result Entry'!CB86","v":0},{"$f":"'Result Entry'!CC86","v":0},{"$f":"'Result Entry'!CD86","v":""},{"$f":"'Result Entry'!CE86","v":0},{"$f":"'Result Entry'!CF86","v":0},{"$f":"'Result Entry'!CG86","v":0},{"$f":"'Result Entry'!CH86","v":0},{"$f":"'Result Entry'!CI86","v":0},{"$f":"'Result Entry'!CJ86","v":0},{"$f":"'Result Entry'!CK86","v":0},{"$f":"'Result Entry'!CL86","v":""},{"$f":"'Result Entry'!CM86","v":0},{"$f":"'Result Entry'!CN86","v":0},{"$f":"'Result Entry'!CO86","v":0},{"$f":"'Result Entry'!CP86","v":0},{"$f":"'Result Entry'!CQ86","v":0},{"$f":"'Result Entry'!CR86","v":0},{"$f":"'Result Entry'!CS86","v":0},{"$f":"'Result Entry'!CT86","v":""},{"$f":"'Result Entry'!CU86","v":0},{"$f":"'Result Entry'!CV86","v":0},{"$f":"'Result Entry'!CW86","v":""},{"$f":"'Result Entry'!CX86","v":500},{"$f":"'Result Entry'!CY86","v":0},{"$f":"'Result Entry'!CZ86","v":{"v":0,"d":"0.00"}},{"$f":"'Result Entry'!DA86","v":""},{"$f":"'Result Entry'!DB86","v":""},{"$f":"'Result Entry'!DC86","v":""},{"$f":"'Result Entry'!DD86","v":""}]
[null,0,{"$f":"'Result Entry'!D87","v":0},{"$f":"'Result Entry'!E87","v":0},{"$f":"'Result Entry'!F87","v":0},{"$f":"'Result Entry'!G87","v":0},{"$f":"'Result Entry'!H87","v":0},{"$f":"'Result Entry'!I87","v":0},{"$f":"'Result Entry'!J87","v":"00:00:00"},{"$f":"'Result Entry'!K87","v":0},{"$f":"'Result Entry'!L87","v":0},{"$f":"'Result Entry'!M87","v":0},{"$f":"'Result Entry'!N87","v":0},{"$f":"'Result Entry'!O87","v":0},{"$f":"'Result Entry'!P87","v":0},{"$f":"'Result Entry'!Q87","v":0},{"$f":"'Result Entry'!R87","v":0},{"$f":"'Result Entry'!S87","v":0},{"$f":"'Result Entry'!T87","v":0},{"$f":"'Result Entry'!U87","v":0},{"$f":"'Result Entry'!V87","v":0},{"$f":"'Result Entry'!W87","v":0},{"$f":"'Result Entry'!X87","v":""},{"$f":"'Result Entry'!Y87","v":0},{"$f":"'Result Entry'!Z87","v":0},{"$f":"'Result Entry'!AA87","v":0},{"$f":"'Result Entry'!AB87","v":0},{"$f":"'Result Entry'!AC87","v":0},{"$f":"'Result Entry'!AD87","v":0},{"$f":"'Result Entry'!AE87","v":0},{"$f":"'Result Entry'!AF87","v":0},{"$f":"'Result Entry'!AG87","v":0},{"$f":"'Result Entry'!AH87","v":0},{"$f":"'Result Entry'!AI87","v":0},{"$f":"'Result Entry'!AJ87","v":0},{"$f":"'Result Entry'!AK87","v":0},{"$f":"'Result Entry'!AL87","v":""},{"$f":"'Result Entry'!AM87","v":0},{"$f":"'Result Entry'!AN87","v":0},{"$f":"'Result Entry'!AO87","v":0},{"$f":"'Result Entry'!AP87","v":0},{"$f":"'Result Entry'!AQ87","v":0},{"$f":"'Result Entry'!AR87","v":0},{"$f":"'Result Entry'!AS87","v":0},{"$f":"'Result Entry'!AT87","v":0},{"$f":"'Result Entry'!AU87","v":0},{"$f":"'Result Entry'!AV87","v":0},{"$f":"'Result Entry'!AW87","v":0},{"$f":"'Result Entry'!AX87","v":0},{"$f":"'Result Entry'!AY87","v":0},{"$f":"'Result Entry'!AZ87","v":""},{"$f":"'Result Entry'!BA87","v":0},{"$f":"'Result Entry'!BB87","v":0},{"$f":"'Result Entry'!BC87","v":0},{"$f":"'Result Entry'!BD87","v":0},{"$f":"'Result Entry'!BE87","v":0},{"$f":"'Result Entry'!BF87","v":0},{"$f":"'Result Entry'!BG87","v":0},{"$f":"'Result Entry'!BH87","v":0},{"$f":"'Result Entry'!BI87","v":0},{"$f":"'Result Entry'!BJ87","v":0},{"$f":"'Result Entry'!BK87","v":0},{"$f":"'Result Entry'!BL87","v":0},{"$f":"'Result Entry'!BM87","v":""},{"$f":"'Result Entry'!BN87","v":""},{"$f":"'Result Entry'!BO87","v":0},{"$f":"'Result Entry'!BP87","v":0},{"$f":"'Result Entry'!BQ87","v":0},{"$f":"'Result Entry'!BR87","v":0},{"$f":"'Result Entry'!BS87","v":0},{"$f":"'Result Entry'!BT87","v":0},{"$f":"'Result Entry'!BU87","v":0},{"$f":"'Result Entry'!BV87","v":""},{"$f":"'Result Entry'!BW87","v":0},{"$f":"'Result Entry'!BX87","v":0},{"$f":"'Result Entry'!BY87","v":0},{"$f":"'Result Entry'!BZ87","v":0},{"$f":"'Result Entry'!CA87","v":0},{"$f":"'Result Entry'!CB87","v":0},{"$f":"'Result Entry'!CC87","v":0},{"$f":"'Result Entry'!CD87","v":""},{"$f":"'Result Entry'!CE87","v":0},{"$f":"'Result Entry'!CF87","v":0},{"$f":"'Result Entry'!CG87","v":0},{"$f":"'Result Entry'!CH87","v":0},{"$f":"'Result Entry'!CI87","v":0},{"$f":"'Result Entry'!CJ87","v":0},{"$f":"'Result Entry'!CK87","v":0},{"$f":"'Result Entry'!CL87","v":""},{"$f":"'Result Entry'!CM87","v":0},{"$f":"'Result Entry'!CN87","v":0},{"$f":"'Result Entry'!CO87","v":0},{"$f":"'Result Entry'!CP87","v":0},{"$f":"'Result Entry'!CQ87","v":0},{"$f":"'Result Entry'!CR87","v":0},{"$f":"'Result Entry'!CS87","v":0},{"$f":"'Result Entry'!CT87","v":""},{"$f":"'Result Entry'!CU87","v":0},{"$f":"'Result Entry'!CV87","v":0},{"$f":"'Result Entry'!CW87","v":""},{"$f":"'Result Entry'!CX87","v":500},{"$f":"'Result Entry'!CY87","v":0},{"$f":"'Result Entry'!CZ87","v":{"v":0,"d":"0.00"}},{"$f":"'Result Entry'!DA87","v":""},{"$f":"'Result Entry'!DB87","v":""},{"$f":"'Result Entry'!DC87","v":""},{"$f":"'Result Entry'!DD87","v":""}]
[null,0,{"$f":"'Result Entry'!D88","v":0},{"$f":"'Result Entry'!E88","v":0},{"$f":"'Result Entry'!F88","v":0},{"$f":"'Result Entry'!G88","v":0},{"$f":"'Result Entry'!H88","v":0},{"$f":"'Result Entry'!I88","v":0},{"$f":"'Result Entry'!J88","v":"00:00:00"},{"$f":"'Result Entry'!K88","v":0},{"$f":"'Result Entry'!L88","v":0},{"$f":"'Result Entry'!M88","v":0},{"$f":"'Result Entry'!N88","v":0},{"$f":"'Result Entry'!O88","v":0},{"$f":"'Result Entry'!P88","v":0},{"$f":"'Result Entry'!Q88","v":0},{"$f":"'Result Entry'!R88","v":0},{"$f":"'Result Entry'!S88","v":0},{"$f":"'Result Entry'!T88","v":0},{"$f":"'Result Entry'!U88","v":0},{"$f":"'Result Entry'!V88","v":0},{"$f":"'Result Entry'!W88","v":0},{"$f":"'Result Entry'!X88","v":""},{"$f":"'Result Entry'!Y88","v":0},{"$f":"'Result Entry'!Z88","v":0},{"$f":"'Result Entry'!AA88","v":0},{"$f":"'Result Entry'!AB88","v":0},{"$f":"'Result Entry'!AC88","v":0},{"$f":"'Result Entry'!AD88","v":0},{"$f":"'Result Entry'!AE88","v":0},{"$f":"'Result Entry'!AF88","v":0},{"$f":"'Result Entry'!AG88","v":0},{"$f":"'Result Entry'!AH88","v":0},{"$f":"'Result Entry'!AI88","v":0},{"$f":"'Result Entry'!AJ88","v":0},{"$f":"'Result Entry'!AK88","v":0},{"$f":"'Result Entry'!AL88","v":""},{"$f":"'Result Entry'!AM88","v":0},{"$f":"'Result Entry'!AN88","v":0},{"$f":"'Result Entry'!AO88","v":0},{"$f":"'Result Entry'!AP88","v":0},{"$f":"'Result Entry'!AQ88","v":0},{"$f":"'Result Entry'!AR88","v":0},{"$f":"'Result Entry'!AS88","v":0},{"$f":"'Result Entry'!AT88","v":0},{"$f":"'Result Entry'!AU88","v":0},{"$f":"'Result Entry'!AV88","v":0},{"$f":"'Result Entry'!AW88","v":0},{"$f":"'Result Entry'!AX88","v":0},{"$f":"'Result Entry'!AY88","v":0},{"$f":"'Result Entry'!AZ88","v":""},{"$f":"'Result Entry'!BA88","v":0},{"$f":"'Result Entry'!BB88","v":0},{"$f":"'Result Entry'!BC88","v":0},{"$f":"'Result Entry'!BD88","v":0},{"$f":"'Result Entry'!BE88","v":0},{"$f":"'Result Entry'!BF88","v":0},{"$f":"'Result Entry'!BG88","v":0},{"$f":"'Result Entry'!BH88","v":0},{"$f":"'Result Entry'!BI88","v":0},{"$f":"'Result Entry'!BJ88","v":0},{"$f":"'Result Entry'!BK88","v":0},{"$f":"'Result Entry'!BL88","v":0},{"$f":"'Result Entry'!BM88","v":""},{"$f":"'Result Entry'!BN88","v":""},{"$f":"'Result Entry'!BO88","v":0},{"$f":"'Result Entry'!BP88","v":0},{"$f":"'Result Entry'!BQ88","v":0},{"$f":"'Result Entry'!BR88","v":0},{"$f":"'Result Entry'!BS88","v":0},{"$f":"'Result Entry'!BT88","v":0},{"$f":"'Result Entry'!BU88","v":0},{"$f":"'Result Entry'!BV88","v":""},{"$f":"'Result Entry'!BW88","v":0},{"$f":"'Result Entry'!BX88","v":0},{"$f":"'Result Entry'!BY88","v":0},{"$f":"'Result Entry'!BZ88","v":0},{"$f":"'Result Entry'!CA88","v":0},{"$f":"'Result Entry'!CB88","v":0},{"$f":"'Result Entry'!CC88","v":0},{"$f":"'Result Entry'!CD88","v":""},{"$f":"'Result Entry'!CE88","v":0},{"$f":"'Result Entry'!CF88","v":0},{"$f":"'Result Entry'!CG88","v":0},{"$f":"'Result Entry'!CH88","v":0},{"$f":"'Result Entry'!CI88","v":0},{"$f":"'Result Entry'!CJ88","v":0},{"$f":"'Result Entry'!CK88","v":0},{"$f":"'Result Entry'!CL88","v":""},{"$f":"'Result Entry'!CM88","v":0},{"$f":"'Result Entry'!CN88","v":0},{"$f":"'Result Entry'!CO88","v":0},{"$f":"'Result Entry'!CP88","v":0},{"$f":"'Result Entry'!CQ88","v":0},{"$f":"'Result Entry'!CR88","v":0},{"$f":"'Result Entry'!CS88","v":0},{"$f":"'Result Entry'!CT88","v":""},{"$f":"'Result Entry'!CU88","v":0},{"$f":"'Result Entry'!CV88","v":0},{"$f":"'Result Entry'!CW88","v":""},{"$f":"'Result Entry'!CX88","v":500},{"$f":"'Result Entry'!CY88","v":0},{"$f":"'Result Entry'!CZ88","v":{"v":0,"d":"0.00"}},{"$f":"'Result Entry'!DA88","v":""},{"$f":"'Result Entry'!DB88","v":""},{"$f":"'Result Entry'!DC88","v":""},{"$f":"'Result Entry'!DD88","v":""}]
[null,0,{"$f":"'Result Entry'!D89","v":0},{"$f":"'Result Entry'!E89","v":0},{"$f":"'Result Entry'!F89","v":0},{"$f":"'Result Entry'!G89","v":0},{"$f":"'Result Entry'!H89","v":0},{"$f":"'Result Entry'!I89","v":0},{"$f":"'Result Entry'!J89","v":"00:00:00"},{"$f":"'Result Entry'!K89","v":0},{"$f":"'Result Entry'!L89","v":0},{"$f":"'Result Entry'!M89","v":0},{"$f":"'Result Entry'!N89","v":0},{"$f":"'Result Entry'!O89","v":0},{"$f":"'Result Entry'!P89","v":0},{"$f":"'Result Entry'!Q89","v":0},{"$f":"'Result Entry'!R89","v":0},{"$f":"'Result Entry'!S89","v":0},{"$f":"'Result Entry'!T89","v":0},{"$f":"'Result Entry'!U89","v":0},{"$f":"'Result Entry'!V89","v":0},{"$f":"'Result Entry'!W89","v":0},{"$f":"'Result Entry'!X89","v":""},{"$f":"'Result Entry'!Y89","v":0},{"$f":"'Result Entry'!Z89","v":0},{"$f":"'Result Entry'!AA89","v":0},{"$f":"'Result Entry'!AB89","v":0},{"$f":"'Result Entry'!AC89","v":0},{"$f":"'Result Entry'!AD89","v":0},{"$f":"'Result Entry'!AE89","v":0},{"$f":"'Result Entry'!AF89","v":0},{"$f":"'Result Entry'!AG89","v":0},{"$f":"'Result Entry'!AH89","v":0},{"$f":"'Result Entry'!AI89","v":0},{"$f":"'Result Entry'!AJ89","v":0},{"$f":"'Result Entry'!AK89","v":0},{"$f":"'Result Entry'!AL89","v":""},{"$f":"'Result Entry'!AM89","v":0},{"$f":"'Result Entry'!AN89","v":0},{"$f":"'Result Entry'!AO89","v":0},{"$f":"'Result Entry'!AP89","v":0},{"$f":"'Result Entry'!AQ89","v":0},{"$f":"'Result Entry'!AR89","v":0},{"$f":"'Result Entry'!AS89","v":0},{"$f":"'Result Entry'!AT89","v":0},{"$f":"'Result Entry'!AU89","v":0},{"$f":"'Result Entry'!AV89","v":0},{"$f":"'Result Entry'!AW89","v":0},{"$f":"'Result Entry'!AX89","v":0},{"$f":"'Result Entry'!AY89","v":0},{"$f":"'Result Entry'!AZ89","v":""},{"$f":"'Result Entry'!BA89","v":0},{"$f":"'Result Entry'!BB89","v":0},{"$f":"'Result Entry'!BC89","v":0},{"$f":"'Result Entry'!BD89","v":0},{"$f":"'Result Entry'!BE89","v":0},{"$f":"'Result Entry'!BF89","v":0},{"$f":"'Result Entry'!BG89","v":0},{"$f":"'Result Entry'!BH89","v":0},{"$f":"'Result Entry'!BI89","v":0},{"$f":"'Result Entry'!BJ89","v":0},{"$f":"'Result Entry'!BK89","v":0},{"$f":"'Result Entry'!BL89","v":0},{"$f":"'Result Entry'!BM89","v":""},{"$f":"'Result Entry'!BN89","v":""},{"$f":"'Result Entry'!BO89","v":0},{"$f":"'Result Entry'!BP89","v":0},{"$f":"'Result Entry'!BQ89","v":0},{"$f":"'Result Entry'!BR89","v":0},{"$f":"'Result Entry'!BS89","v":0},{"$f":"'Result Entry'!BT89","v":0},{"$f":"'Result Entry'!BU89","v":0},{"$f":"'Result Entry'!BV89","v":""},{"$f":"'Result Entry'!BW89","v":0},{"$f":"'Result Entry'!BX89","v":0},{"$f":"'Result Entry'!BY89","v":0},{"$f":"'Result Entry'!BZ89","v":0},{"$f":"'Result Entry'!CA89","v":0},{"$f":"'Result Entry'!CB89","v":0},{"$f":"'Result Entry'!CC89","v":0},{"$f":"'Result Entry'!CD89","v":""},{"$f":"'Result Entry'!CE89","v":0},{"$f":"'Result Entry'!CF89","v":0},{"$f":"'Result Entry'!CG89","v":0},{"$f":"'Result Entry'!CH89","v":0},{"$f":"'Result Entry'!CI89","v":0},{"$f":"'Result Entry'!CJ89","v":0},{"$f":"'Result Entry'!CK89","v":0},{"$f":"'Result Entry'!CL89","v":""},{"$f":"'Result Entry'!CM89","v":0},{"$f":"'Result Entry'!CN89","v":0},{"$f":"'Result Entry'!CO89","v":0},{"$f":"'Result Entry'!CP89","v":0},{"$f":"'Result Entry'!CQ89","v":0},{"$f":"'Result Entry'!CR89","v":0},{"$f":"'Result Entry'!CS89","v":0},{"$f":"'Result Entry'!CT89","v":""},{"$f":"'Result Entry'!CU89","v":0},{"$f":"'Result Entry'!CV89","v":0},{"$f":"'Result Entry'!CW89","v":""},{"$f":"'Result Entry'!CX89","v":500},{"$f":"'Result Entry'!CY89","v":0},{"$f":"'Result Entry'!CZ89","v":{"v":0,"d":"0.00"}},{"$f":"'Result Entry'!DA89","v":""},{"$f":"'Result Entry'!DB89","v":""},{"$f":"'Result Entry'!DC89","v":""},{"$f":"'Result Entry'!DD89","v":""}]
[null,0,{"$f":"'Result Entry'!D90","v":0},{"$f":"'Result Entry'!E90","v":0},{"$f":"'Result Entry'!F90","v":0},{"$f":"'Result Entry'!G90","v":0},{"$f":"'Result Entry'!H90","v":0},{"$f":"'Result Entry'!I90","v":0},{"$f":"'Result Entry'!J90","v":"00:00:00"},{"$f":"'Result Entry'!K90","v":0},{"$f":"'Result Entry'!L90","v":0},{"$f":"'Result Entry'!M90","v":0},{"$f":"'Result Entry'!N90","v":0},{"$f":"'Result Entry'!O90","v":0},{"$f":"'Result Entry'!P90","v":0},{"$f":"'Result Entry'!Q90","v":0},{"$f":"'Result Entry'!R90","v":0},{"$f":"'Result Entry'!S90","v":0},{"$f":"'Result Entry'!T90","v":0},{"$f":"'Result Entry'!U90","v":0},{"$f":"'Result Entry'!V90","v":0},{"$f":"'Result Entry'!W90","v":0},{"$f":"'Result Entry'!X90","v":""},{"$f":"'Result Entry'!Y90","v":0},{"$f":"'Result Entry'!Z90","v":0},{"$f":"'Result Entry'!AA90","v":0},{"$f":"'Result Entry'!AB90","v":0},{"$f":"'Result Entry'!AC90","v":0},{"$f":"'Result Entry'!AD90","v":0},{"$f":"'Result Entry'!AE90","v":0},{"$f":"'Result Entry'!AF90","v":0},{"$f":"'Result Entry'!AG90","v":0},{"$f":"'Result Entry'!AH90","v":0},{"$f":"'Result Entry'!AI90","v":0},{"$f":"'Result Entry'!AJ90","v":0},{"$f":"'Result Entry'!AK90","v":0},{"$f":"'Result Entry'!AL90","v":""},{"$f":"'Result Entry'!AM90","v":0},{"$f":"'Result Entry'!AN90","v":0},{"$f":"'Result Entry'!AO90","v":0},{"$f":"'Result Entry'!AP90","v":0},{"$f":"'Result Entry'!AQ90","v":0},{"$f":"'Result Entry'!AR90","v":0},{"$f":"'Result Entry'!AS90","v":0},{"$f":"'Result Entry'!AT90","v":0},{"$f":"'Result Entry'!AU90","v":0},{"$f":"'Result Entry'!AV90","v":0},{"$f":"'Result Entry'!AW90","v":0},{"$f":"'Result Entry'!AX90","v":0},{"$f":"'Result Entry'!AY90","v":0},{"$f":"'Result Entry'!AZ90","v":""},{"$f":"'Result Entry'!BA90","v":0},{"$f":"'Result Entry'!BB90","v":0},{"$f":"'Result Entry'!BC90","v":0},{"$f":"'Result Entry'!BD90","v":0},{"$f":"'Result Entry'!BE90","v":0},{"$f":"'Result Entry'!BF90","v":0},{"$f":"'Result Entry'!BG90","v":0},{"$f":"'Result Entry'!BH90","v":0},{"$f":"'Result Entry'!BI90","v":0},{"$f":"'Result Entry'!BJ90","v":0},{"$f":"'Result Entry'!BK90","v":0},{"$f":"'Result Entry'!BL90","v":0},{"$f":"'Result Entry'!BM90","v":""},{"$f":"'Result Entry'!BN90","v":""},{"$f":"'Result Entry'!BO90","v":0},{"$f":"'Result Entry'!BP90","v":0},{"$f":"'Result Entry'!BQ90","v":0},{"$f":"'Result Entry'!BR90","v":0},{"$f":"'Result Entry'!BS90","v":0},{"$f":"'Result Entry'!BT90","v":0},{"$f":"'Result Entry'!BU90","v":0},{"$f":"'Result Entry'!BV90","v":""},{"$f":"'Result Entry'!BW90","v":0},{"$f":"'Result Entry'!BX90","v":0},{"$f":"'Result Entry'!BY90","v":0},{"$f":"'Result Entry'!BZ90","v":0},{"$f":"'Result Entry'!CA90","v":0},{"$f":"'Result Entry'!CB90","v":0},{"$f":"'Result Entry'!CC90","v":0},{"$f":"'Result Entry'!CD90","v":""},{"$f":"'Result Entry'!CE90","v":0},{"$f":"'Result Entry'!CF90","v":0},{"$f":"'Result Entry'!CG90","v":0},{"$f":"'Result Entry'!CH90","v":0},{"$f":"'Result Entry'!CI90","v":0},{"$f":"'Result Entry'!CJ90","v":0},{"$f":"'Result Entry'!CK90","v":0},{"$f":"'Result Entry'!CL90","v":""},{"$f":"'Result Entry'!CM90","v":0},{"$f":"'Result Entry'!CN90","v":0},{"$f":"'Result Entry'!CO90","v":0},{"$f":"'Result Entry'!CP90","v":0},{"$f":"'Result Entry'!CQ90","v":0},{"$f":"'Result Entry'!CR90","v":0},{"$f":"'Result Entry'!CS90","v":0},{"$f":"'Result Entry'!CT90","v":""},{"$f":"'Result Entry'!CU90","v":0},{"$f":"'Result Entry'!CV90","v":0},{"$f":"'Result Entry'!CW90","v":""},{"$f":"'Result Entry'!CX90","v":500},{"$f":"'Result Entry'!CY90","v":0},{"$f":"'Result Entry'!CZ90","v":{"v":0,"d":"0.00"}},{"$f":"'Result Entry'!DA90","v":""},{"$f":"'Result Entry'!DB90","v":""},{"$f":"'Result Entry'!DC90","v":""},{"$f":"'Result Entry'!DD90","v":""}]
[null,0,{"$f":"'Result Entry'!D91","v":0},{"$f":"'Result Entry'!E91","v":0},{"$f":"'Result Entry'!F91","v":0},{"$f":"'Result Entry'!G91","v":0},{"$f":"'Result Entry'!H91","v":0},{"$f":"'Result Entry'!I91","v":0},{"$f":"'Result Entry'!J91","v":"00:00:00"},{"$f":"'Result Entry'!K91","v":0},{"$f":"'Result Entry'!L91","v":0},{"$f":"'Result Entry'!M91","v":0},{"$f":"'Result Entry'!N91","v":0},{"$f":"'Result Entry'!O91","v":0},{"$f":"'Result Entry'!P91","v":0},{"$f":"'Result Entry'!Q91","v":0},{"$f":"'Result Entry'!R91","v":0},{"$f":"'Result Entry'!S91","v":0},{"$f":"'Result Entry'!T91","v":0},{"$f":"'Result Entry'!U91","v":0},{"$f":"'Result Entry'!V91","v":0},{"$f":"'Result Entry'!W91","v":0},{"$f":"'Result Entry'!X91","v":""},{"$f":"'Result Entry'!Y91","v":0},{"$f":"'Result Entry'!Z91","v":0},{"$f":"'Result Entry'!AA91","v":0},{"$f":"'Result Entry'!AB91","v":0},{"$f":"'Result Entry'!AC91","v":0},{"$f":"'Result Entry'!AD91","v":0},{"$f":"'Result Entry'!AE91","v":0},{"$f":"'Result Entry'!AF91","v":0},{"$f":"'Result Entry'!AG91","v":0},{"$f":"'Result Entry'!AH91","v":0},{"$f":"'Result Entry'!AI91","v":0},{"$f":"'Result Entry'!AJ91","v":0},{"$f":"'Result Entry'!AK91","v":0},{"$f":"'Result Entry'!AL91","v":""},{"$f":"'Result Entry'!AM91","v":0},{"$f":"'Result Entry'!AN91","v":0},{"$f":"'Result Entry'!AO91","v":0},{"$f":"'Result Entry'!AP91","v":0},{"$f":"'Result Entry'!AQ91","v":0},{"$f":"'Result Entry'!AR91","v":0},{"$f":"'Result Entry'!AS91","v":0},{"$f":"'Result Entry'!AT91","v":0},{"$f":"'Result Entry'!AU91","v":0},{"$f":"'Result Entry'!AV91","v":0},{"$f":"'Result Entry'!AW91","v":0},{"$f":"'Result Entry'!AX91","v":0},{"$f":"'Result Entry'!AY91","v":0},{"$f":"'Result Entry'!AZ91","v":""},{"$f":"'Result Entry'!BA91","v":0},{"$f":"'Result Entry'!BB91","v":0},{"$f":"'Result Entry'!BC91","v":0},{"$f":"'Result Entry'!BD91","v":0},{"$f":"'Result Entry'!BE91","v":0},{"$f":"'Result Entry'!BF91","v":0},{"$f":"'Result Entry'!BG91","v":0},{"$f":"'Result Entry'!BH91","v":0},{"$f":"'Result Entry'!BI91","v":0},{"$f":"'Result Entry'!BJ91","v":0},{"$f":"'Result Entry'!BK91","v":0},{"$f":"'Result Entry'!BL91","v":0},{"$f":"'Result Entry'!BM91","v":""},{"$f":"'Result Entry'!BN91","v":""},{"$f":"'Result Entry'!BO91","v":0},{"$f":"'Result Entry'!BP91","v":0},{"$f":"'Result Entry'!BQ91","v":0},{"$f":"'Result Entry'!BR91","v":0},{"$f":"'Result Entry'!BS91","v":0},{"$f":"'Result Entry'!BT91","v":0},{"$f":"'Result Entry'!BU91","v":0},{"$f":"'Result Entry'!BV91","v":""},{"$f":"'Result Entry'!BW91","v":0},{"$f":"'Result Entry'!BX91","v":0},{"$f":"'Result Entry'!BY91","v":0},{"$f":"'Result Entry'!BZ91","v":0},{"$f":"'Result Entry'!CA91","v":0},{"$f":"'Result Entry'!CB91","v":0},{"$f":"'Result Entry'!CC91","v":0},{"$f":"'Result Entry'!CD91","v":""},{"$f":"'Result Entry'!CE91","v":0},{"$f":"'Result Entry'!CF91","v":0},{"$f":"'Result Entry'!CG91","v":0},{"$f":"'Result Entry'!CH91","v":0},{"$f":"'Result Entry'!CI91","v":0},{"$f":"'Result Entry'!CJ91","v":0},{"$f":"'Result Entry'!CK91","v":0},{"$f":"'Result Entry'!CL91","v":""},{"$f":"'Result Entry'!CM91","v":0},{"$f":"'Result Entry'!CN91","v":0},{"$f":"'Result Entry'!CO91","v":0},{"$f":"'Result Entry'!CP91","v":0},{"$f":"'Result Entry'!CQ91","v":0},{"$f":"'Result Entry'!CR91","v":0},{"$f":"'Result Entry'!CS91","v":0},{"$f":"'Result Entry'!CT91","v":""},{"$f":"'Result Entry'!CU91","v":0},{"$f":"'Result Entry'!CV91","v":0},{"$f":"'Result Entry'!CW91","v":""},{"$f":"'Result Entry'!CX91","v":500},{"$f":"'Result Entry'!CY91","v":0},{"$f":"'Result Entry'!CZ91","v":{"v":0,"d":"0.00"}},{"$f":"'Result Entry'!DA91","v":""},{"$f":"'Result Entry'!DB91","v":""},{"$f":"'Result Entry'!DC91","v":""},{"$f":"'Result Entry'!DD91","v":""}]
[null,0,{"$f":"'Result Entry'!D92","v":0},{"$f":"'Result Entry'!E92","v":0},{"$f":"'Result Entry'!F92","v":0},{"$f":"'Result Entry'!G92","v":0},{"$f":"'Result Entry'!H92","v":0},{"$f":"'Result Entry'!I92","v":0},{"$f":"'Result Entry'!J92","v":"00:00:00"},{"$f":"'Result Entry'!K92","v":0},{"$f":"'Result Entry'!L92","v":0},{"$f":"'Result Entry'!M92","v":0},{"$f":"'Result Entry'!N92","v":0},{"$f":"'Result Entry'!O92","v":0},{"$f":"'Result Entry'!P92","v":0},{"$f":"'Result Entry'!Q92","v":0},{"$f":"'Result Entry'!R92","v":0},{"$f":"'Result Entry'!S92","v":0},{"$f":"'Result Entry'!T92","v":0},{"$f":"'Result Entry'!U92","v":0},{"$f":"'Result Entry'!V92","v":0},{"$f":"'Result Entry'!W92","v":0},{"$f":"'Result Entry'!X92","v":""},{"$f":"'Result Entry'!Y92","v":0},{"$f":"'Result Entry'!Z92","v":0},{"$f":"'Result Entry'!AA92","v":0},{"$f":"'Result Entry'!AB92","v":0},{"$f":"'Result Entry'!AC92","v":0},{"$f":"'Result Entry'!AD92","v":0},{"$f":"'Result Entry'!AE92","v":0},{"$f":"'Result Entry'!AF92","v":0},{"$f":"'Result Entry'!AG92","v":0},{"$f":"'Result Entry'!AH92","v":0},{"$f":"'Result Entry'!AI92","v":0},{"$f":"'Result Entry'!AJ92","v":0},{"$f":"'Result Entry'!AK92","v":0},{"$f":"'Result Entry'!AL92","v":""},{"$f":"'Result Entry'!AM92","v":0},{"$f":"'Result Entry'!AN92","v":0},{"$f":"'Result Entry'!AO92","v":0},{"$f":"'Result Entry'!AP92","v":0},{"$f":"'Result Entry'!AQ92","v":0},{"$f":"'Result Entry'!AR92","v":0},{"$f":"'Result Entry'!AS92","v":0},{"$f":"'Result Entry'!AT92","v":0},{"$f":"'Result Entry'!AU92","v":0},{"$f":"'Result Entry'!AV92","v":0},{"$f":"'Result Entry'!AW92","v":0},{"$f":"'Result Entry'!AX92","v":0},{"$f":"'Result Entry'!AY92","v":0},{"$f":"'Result Entry'!AZ92","v":""},{"$f":"'Result Entry'!BA92","v":0},{"$f":"'Result Entry'!BB92","v":0},{"$f":"'Result Entry'!BC92","v":0},{"$f":"'Result Entry'!BD92","v":0},{"$f":"'Result Entry'!BE92","v":0},{"$f":"'Result Entry'!BF92","v":0},{"$f":"'Result Entry'!BG92","v":0},{"$f":"'Result Entry'!BH92","v":0},{"$f":"'Result Entry'!BI92","v":0},{"$f":"'Result Entry'!BJ92","v":0},{"$f":"'Result Entry'!BK92","v":0},{"$f":"'Result Entry'!BL92","v":0},{"$f":"'Result Entry'!BM92","v":""},{"$f":"'Result Entry'!BN92","v":""},{"$f":"'Result Entry'!BO92","v":0},{"$f":"'Result Entry'!BP92","v":0},{"$f":"'Result Entry'!BQ92","v":0},{"$f":"'Result Entry'!BR92","v":0},{"$f":"'Result Entry'!BS92","v":0},{"$f":"'Result Entry'!BT92","v":0},{"$f":"'Result Entry'!BU92","v":0},{"$f":"'Result Entry'!BV92","v":""},{"$f":"'Result Entry'!BW92","v":0},{"$f":"'Result Entry'!BX92","v":0},{"$f":"'Result Entry'!BY92","v":0},{"$f":"'Result Entry'!BZ92","v":0},{"$f":"'Result Entry'!CA92","v":0},{"$f":"'Result Entry'!CB92","v":0},{"$f":"'Result Entry'!CC92","v":0},{"$f":"'Result Entry'!CD92","v":""},{"$f":"'Result Entry'!CE92","v":0},{"$f":"'Result Entry'!CF92","v":0},{"$f":"'Result Entry'!CG92","v":0},{"$f":"'Result Entry'!CH92","v":0},{"$f":"'Result Entry'!CI92","v":0},{"$f":"'Result Entry'!CJ92","v":0},{"$f":"'Result Entry'!CK92","v":0},{"$f":"'Result Entry'!CL92","v":""},{"$f":"'Result Entry'!CM92","v":0},{"$f":"'Result Entry'!CN92","v":0},{"$f":"'Result Entry'!CO92","v":0},{"$f":"'Result Entry'!CP92","v":0},{"$f":"'Result Entry'!CQ92","v":0},{"$f":"'Result Entry'!CR92","v":0},{"$f":"'Result Entry'!CS92","v":0},{"$f":"'Result Entry'!CT92","v":""},{"$f":"'Result Entry'!CU92","v":0},{"$f":"'Result Entry'!CV92","v":0},{"$f":"'Result Entry'!CW92","v":""},{"$f":"'Result Entry'!CX92","v":500},{"$f":"'Result Entry'!CY92","v":0},{"$f":"'Result Entry'!CZ92","v":{"v":0,"d":"0.00"}},{"$f":"'Result Entry'!DA92","v":""},{"$f":"'Result Entry'!DB92","v":""},{"$f":"'Result Entry'!DC92","v":""},{"$f":"'Result Entry'!DD92","v":""}]
[null,0,{"$f":"'Result Entry'!D93","v":0},{"$f":"'Result Entry'!E93","v":0},{"$f":"'Result Entry'!F93","v":0},{"$f":"'Result Entry'!G93","v":0},{"$f":"'Result Entry'!H93","v":0},{"$f":"'Result Entry'!I93","v":0},{"$f":"'Result Entry'!J93","v":"00:00:00"},{"$f":"'Result Entry'!K93","v":0},{"$f":"'Result Entry'!L93","v":0},{"$f":"'Result Entry'!M93","v":0},{"$f":"'Result Entry'!N93","v":0},{"$f":"'Result Entry'!O93","v":0},{"$f":"'Result Entry'!P93","v":0},{"$f":"'Result Entry'!Q93","v":0},{"$f":"'Result Entry'!R93","v":0},{"$f":"'Result Entry'!S93","v":0},{"$f":"'Result Entry'!T93","v":0},{"$f":"'Result Entry'!U93","v":0},{"$f":"'Result Entry'!V93","v":0},{"$f":"'Result Entry'!W93","v":0},{"$f":"'Result Entry'!X93","v":""},{"$f":"'Result Entry'!Y93","v":0},{"$f":"'Result Entry'!Z93","v":0},{"$f":"'Result Entry'!AA93","v":0},{"$f":"'Result Entry'!AB93","v":0},{"$f":"'Result Entry'!AC93","v":0},{"$f":"'Result Entry'!AD93","v":0},{"$f":"'Result Entry'!AE93","v":0},{"$f":"'Result Entry'!AF93","v":0},{"$f":"'Result Entry'!AG93","v":0},{"$f":"'Result Entry'!AH93","v":0},{"$f":"'Result Entry'!AI93","v":0},{"$f":"'Result Entry'!AJ93","v":0},{"$f":"'Result Entry'!AK93","v":0},{"$f":"'Result Entry'!AL93","v":""},{"$f":"'Result Entry'!AM93","v":0},{"$f":"'Result Entry'!AN93","v":0},{"$f":"'Result Entry'!AO93","v":0},{"$f":"'Result Entry'!AP93","v":0},{"$f":"'Result Entry'!AQ93","v":0},{"$f":"'Result Entry'!AR93","v":0},{"$f":"'Result Entry'!AS93","v":0},{"$f":"'Result Entry'!AT93","v":0},{"$f":"'Result Entry'!AU93","v":0},{"$f":"'Result Entry'!AV93","v":0},{"$f":"'Result Entry'!AW93","v":0},{"$f":"'Result Entry'!AX93","v":0},{"$f":"'Result Entry'!AY93","v":0},{"$f":"'Result Entry'!AZ93","v":""},{"$f":"'Result Entry'!BA93","v":0},{"$f":"'Result Entry'!BB93","v":0},{"$f":"'Result Entry'!BC93","v":0},{"$f":"'Result Entry'!BD93","v":0},{"$f":"'Result Entry'!BE93","v":0},{"$f":"'Result Entry'!BF93","v":0},{"$f":"'Result Entry'!BG93","v":0},{"$f":"'Result Entry'!BH93","v":0},{"$f":"'Result Entry'!BI93","v":0},{"$f":"'Result Entry'!BJ93","v":0},{"$f":"'Result Entry'!BK93","v":0},{"$f":"'Result Entry'!BL93","v":0},{"$f":"'Result Entry'!BM93","v":""},{"$f":"'Result Entry'!BN93","v":""},{"$f":"'Result Entry'!BO93","v":0},{"$f":"'Result Entry'!BP93","v":0},{"$f":"'Result Entry'!BQ93","v":0},{"$f":"'Result Entry'!BR93","v":0},{"$f":"'Result Entry'!BS93","v":0},{"$f":"'Result Entry'!BT93","v":0},{"$f":"'Result Entry'!BU93","v":0},{"$f":"'Result Entry'!BV93","v":""},{"$f":"'Result Entry'!BW93","v":0},{"$f":"'Result Entry'!BX93","v":0},{"$f":"'Result Entry'!BY93","v":0},{"$f":"'Result Entry'!BZ93","v":0},{"$f":"'Result Entry'!CA93","v":0},{"$f":"'Result Entry'!CB93","v":0},{"$f":"'Result Entry'!CC93","v":0},{"$f":"'Result Entry'!CD93","v":""},{"$f":"'Result Entry'!CE93","v":0},{"$f":"'Result Entry'!CF93","v":0},{"$f":"'Result Entry'!CG93","v":0},{"$f":"'Result Entry'!CH93","v":0},{"$f":"'Result Entry'!CI93","v":0},{"$f":"'Result Entry'!CJ93","v":0},{"$f":"'Result Entry'!CK93","v":0},{"$f":"'Result Entry'!CL93","v":""},{"$f":"'Result Entry'!CM93","v":0},{"$f":"'Result Entry'!CN93","v":0},{"$f":"'Result Entry'!CO93","v":0},{"$f":"'Result Entry'!CP93","v":0},{"$f":"'Result Entry'!CQ93","v":0},{"$f":"'Result Entry'!CR93","v":0},{"$f":"'Result Entry'!CS93","v":0},{"$f":"'Result Entry'!CT93","v":""},{"$f":"'Result Entry'!CU93","v":0},{"$f":"'Result Entry'!CV93","v":0},{"$f":"'Result Entry'!CW93","v":""},{"$f":"'Result Entry'!CX93","v":500},{"$f":"'Result Entry'!CY93","v":0},{"$f":"'Result Entry'!CZ93","v":{"v":0,"d":"0.00"}},{"$f":"'Result Entry'!DA93","v":""},{"$f":"'Result Entry'!DB93","v":""},{"$f":"'Result Entry'!DC93","v":""},{"$f":"'Result Entry'!DD93","v":""}]
[null,0,{"$f":"'Result Entry'!D94","v":0},{"$f":"'Result Entry'!E94","v":0},{"$f":"'Result Entry'!F94","v":0},{"$f":"'Result Entry'!G94","v":0},{"$f":"'Result Entry'!H94","v":0},{"$f":"'Result Entry'!I94","v":0},{"$f":"'Result Entry'!J94","v":"00:00:00"},{"$f":"'Result Entry'!K94","v":0},{"$f":"'Result Entry'!L94","v":0},{"$f":"'Result Entry'!M94","v":0},{"$f":"'Result Entry'!N94","v":0},{"$f":"'Result Entry'!O94","v":0},{"$f":"'Result Entry'!P94","v":0},{"$f":"'Result Entry'!Q94","v":0},{"$f":"'Result Entry'!R94","v":0},{"$f":"'Result Entry'!S94","v":0},{"$f":"'Result Entry'!T94","v":0},{"$f":"'Result Entry'!U94","v":0},{"$f":"'Result Entry'!V94","v":0},{"$f":"'Result Entry'!W94","v":0},{"$f":"'Result Entry'!X94","v":""},{"$f":"'Result Entry'!Y94","v":0},{"$f":"'Result Entry'!Z94","v":0},{"$f":"'Result Entry'!AA94","v":0},{"$f":"'Result Entry'!AB94","v":0},{"$f":"'Result Entry'!AC94","v":0},{"$f":"'Result Entry'!AD94","v":0},{"$f":"'Result Entry'!AE94","v":0},{"$f":"'Result Entry'!AF94","v":0},{"$f":"'Result Entry'!AG94","v":0},{"$f":"'Result Entry'!AH94","v":0},{"$f":"'Result Entry'!AI94","v":0},{"$f":"'Result Entry'!AJ94","v":0},{"$f":"'Result Entry'!AK94","v":0},{"$f":"'Result Entry'!AL94","v":""},{"$f":"'Result Entry'!AM94","v":0},{"$f":"'Result Entry'!AN94","v":0},{"$f":"'Result Entry'!AO94","v":0},{"$f":"'Result Entry'!AP94","v":0},{"$f":"'Result Entry'!AQ94","v":0},{"$f":"'Result Entry'!AR94","v":0},{"$f":"'Result Entry'!AS94","v":0},{"$f":"'Result Entry'!AT94","v":0},{"$f":"'Result Entry'!AU94","v":0},{"$f":"'Result Entry'!AV94","v":0},{"$f":"'Result Entry'!AW94","v":0},{"$f":"'Result Entry'!AX94","v":0},{"$f":"'Result Entry'!AY94","v":0},{"$f":"'Result Entry'!AZ94","v":""},{"$f":"'Result Entry'!BA94","v":0},{"$f":"'Result Entry'!BB94","v":0},{"$f":"'Result Entry'!BC94","v":0},{"$f":"'Result Entry'!BD94","v":0},{"$f":"'Result Entry'!BE94","v":0},{"$f":"'Result Entry'!BF94","v":0},{"$f":"'Result Entry'!BG94","v":0},{"$f":"'Result Entry'!BH94","v":0},{"$f":"'Result Entry'!BI94","v":0},{"$f":"'Result Entry'!BJ94","v":0},{"$f":"'Result Entry'!BK94","v":0},{"$f":"'Result Entry'!BL94","v":0},{"$f":"'Result Entry'!BM94","v":""},{"$f":"'Result Entry'!BN94","v":""},{"$f":"'Result Entry'!BO94","v":0},{"$f":"'Result Entry'!BP94","v":0},{"$f":"'Result Entry'!BQ94","v":0},{"$f":"'Result Entry'!BR94","v":0},{"$f":"'Result Entry'!BS94","v":0},{"$f":"'Result Entry'!BT94","v":0},{"$f":"'Result Entry'!BU94","v":0},{"$f":"'Result Entry'!BV94","v":""},{"$f":"'Result Entry'!BW94","v":0},{"$f":"'Result Entry'!BX94","v":0},{"$f":"'Result Entry'!BY94","v":0},{"$f":"'Result Entry'!BZ94","v":0},{"$f":"'Result Entry'!CA94","v":0},{"$f":"'Result Entry'!CB94","v":0},{"$f":"'Result Entry'!CC94","v":0},{"$f":"'Result Entry'!CD94","v":""},{"$f":"'Result Entry'!CE94","v":0},{"$f":"'Result Entry'!CF94","v":0},{"$f":"'Result Entry'!CG94","v":0},{"$f":"'Result Entry'!CH94","v":0},{"$f":"'Result Entry'!CI94","v":0},{"$f":"'Result Entry'!CJ94","v":0},{"$f":"'Result Entry'!CK94","v":0},{"$f":"'Result Entry'!CL94","v":""},{"$f":"'Result Entry'!CM94","v":0},{"$f":"'Result Entry'!CN94","v":0},{"$f":"'Result Entry'!CO94","v":0},{"$f":"'Result Entry'!CP94","v":0},{"$f":"'Result Entry'!CQ94","v":0},{"$f":"'Result Entry'!CR94","v":0},{"$f":"'Result Entry'!CS94","v":0},{"$f":"'Result Entry'!CT94","v":""},{"$f":"'Result Entry'!CU94","v":0},{"$f":"'Result Entry'!CV94","v":0},{"$f":"'Result Entry'!CW94","v":""},{"$f":"'Result Entry'!CX94","v":500},{"$f":"'Result Entry'!CY94","v":0},{"$f":"'Result Entry'!CZ94","v":{"v":0,"d":"0.00"}},{"$f":"'Result Entry'!DA94","v":""},{"$f":"'Result Entry'!DB94","v":""},{"$f":"'Result Entry'!DC94","v":""},{"$f":"'Result Entry'!DD94","v":""}]
[null,0,{"$f":"'Result Entry'!D95","v":0},{"$f":"'Result Entry'!E95","v":0},{"$f":"'Result Entry'!F95","v":0},{"$f":"'Result Entry'!G95","v":0},{"$f":"'Result Entry'!H95","v":0},{"$f":"'Result Entry'!I95","v":0},{"$f":"'Result Entry'!J95","v":"00:00:00"},{"$f":"'Result Entry'!K95","v":0},{"$f":"'Result Entry'!L95","v":0},{"$f":"'Result Entry'!M95","v":0},{"$f":"'Result Entry'!N95","v":0},{"$f":"'Result Entry'!O95","v":0},{"$f":"'Result Entry'!P95","v":0},{"$f":"'Result Entry'!Q95","v":0},{"$f":"'Result Entry'!R95","v":0},{"$f":"'Result Entry'!S95","v":0},{"$f":"'Result Entry'!T95","v":0},{"$f":"'Result Entry'!U95","v":0},{"$f":"'Result Entry'!V95","v":0},{"$f":"'Result Entry'!W95","v":0},{"$f":"'Result Entry'!X95","v":""},{"$f":"'Result Entry'!Y95","v":0},{"$f":"'Result Entry'!Z95","v":0},{"$f":"'Result Entry'!AA95","v":0},{"$f":"'Result Entry'!AB95","v":0},{"$f":"'Result Entry'!AC95","v":0},{"$f":"'Result Entry'!AD95","v":0},{"$f":"'Result Entry'!AE95","v":0},{"$f":"'Result Entry'!AF95","v":0},{"$f":"'Result Entry'!AG95","v":0},{"$f":"'Result Entry'!AH95","v":0},{"$f":"'Result Entry'!AI95","v":0},{"$f":"'Result Entry'!AJ95","v":0},{"$f":"'Result Entry'!AK95","v":0},{"$f":"'Result Entry'!AL95","v":""},{"$f":"'Result Entry'!AM95","v":0},{"$f":"'Result Entry'!AN95","v":0},{"$f":"'Result Entry'!AO95","v":0},{"$f":"'Result Entry'!AP95","v":0},{"$f":"'Result Entry'!AQ95","v":0},{"$f":"'Result Entry'!AR95","v":0},{"$f":"'Result Entry'!AS95","v":0},{"$f":"'Result Entry'!AT95","v":0},{"$f":"'Result Entry'!AU95","v":0},{"$f":"'Result Entry'!AV95","v":0},{"$f":"'Result Entry'!AW95","v":0},{"$f":"'Result Entry'!AX95","v":0},{"$f":"'Result Entry'!AY95","v":0},{"$f":"'Result Entry'!AZ95","v":""},{"$f":"'Result Entry'!BA95","v":0},{"$f":"'Result Entry'!BB95","v":0},{"$f":"'Result Entry'!BC95","v":0},{"$f":"'Result Entry'!BD95","v":0},{"$f":"'Result Entry'!BE95","v":0},{"$f":"'Result Entry'!BF95","v":0},{"$f":"'Result Entry'!BG95","v":0},{"$f":"'Result Entry'!BH95","v":0},{"$f":"'Result Entry'!BI95","v":0},{"$f":"'Result Entry'!BJ95","v":0},{"$f":"'Result Entry'!BK95","v":0},{"$f":"'Result Entry'!BL95","v":0},{"$f":"'Result Entry'!BM95","v":""},{"$f":"'Result Entry'!BN95","v":""},{"$f":"'Result Entry'!BO95","v":0},{"$f":"'Result Entry'!BP95","v":0},{"$f":"'Result Entry'!BQ95","v":0},{"$f":"'Result Entry'!BR95","v":0},{"$f":"'Result Entry'!BS95","v":0},{"$f":"'Result Entry'!BT95","v":0},{"$f":"'Result Entry'!BU95","v":0},{"$f":"'Result Entry'!BV95","v":""},{"$f":"'Result Entry'!BW95","v":0},{"$f":"'Result Entry'!BX95","v":0},{"$f":"'Result Entry'!BY95","v":0},{"$f":"'Result Entry'!BZ95","v":0},{"$f":"'Result Entry'!CA95","v":0},{"$f":"'Result Entry'!CB95","v":0},{"$f":"'Result Entry'!CC95","v":0},{"$f":"'Result Entry'!CD95","v":""},{"$f":"'Result Entry'!CE95","v":0},{"$f":"'Result Entry'!CF95","v":0},{"$f":"'Result Entry'!CG95","v":0},{"$f":"'Result Entry'!CH95","v":0},{"$f":"'Result Entry'!CI95","v":0},{"$f":"'Result Entry'!CJ95","v":0},{"$f":"'Result Entry'!CK95","v":0},{"$f":"'Result Entry'!CL95","v":""},{"$f":"'Result Entry'!CM95","v":0},{"$f":"'Result Entry'!CN95","v":0},{"$f":"'Result Entry'!CO95","v":0},{"$f":"'Result Entry'!CP95","v":0},{"$f":"'Result Entry'!CQ95","v":0},{"$f":"'Result Entry'!CR95","v":0},{"$f":"'Result Entry'!CS95","v":0},{"$f":"'Result Entry'!CT95","v":""},{"$f":"'Result Entry'!CU95","v":0},{"$f":"'Result Entry'!CV95","v":0},{"$f":"'Result Entry'!CW95","v":""},{"$f":"'Result Entry'!CX95","v":500},{"$f":"'Result Entry'!CY95","v":0},{"$f":"'Result Entry'!CZ95","v":{"v":0,"d":"0.00"}},{"$f":"'Result Entry'!DA95","v":""},{"$f":"'Result Entry'!DB95","v":""},{"$f":"'Result Entry'!DC95","v":""},{"$f":"'Result Entry'!DD95","v":""}]
[null,0,{"$f":"'Result Entry'!D96","v":0},{"$f":"'Result Entry'!E96","v":0},{"$f":"'Result Entry'!F96","v":0},{"$f":"'Result Entry'!G96","v":0},{"$f":"'Result Entry'!H96","v":0},{"$f":"'Result Entry'!I96","v":0},{"$f":"'Result Entry'!J96","v":"00:00:00"},{"$f":"'Result Entry'!K96","v":0},{"$f":"'Result Entry'!L96","v":0},{"$f":"'Result Entry'!M96","v":0},{"$f":"'Result Entry'!N96","v":0},{"$f":"'Result Entry'!O96","v":0},{"$f":"'Result Entry'!P96","v":0},{"$f":"'Result Entry'!Q96","v":0},{"$f":"'Result Entry'!R96","v":0},{"$f":"'Result Entry'!S96","v":0},{"$f":"'Result Entry'!T96","v":0},{"$f":"'Result Entry'!U96","v":0},{"$f":"'Result Entry'!V96","v":0},{"$f":"'Result Entry'!W96","v":0},{"$f":"'Result Entry'!X96","v":""},{"$f":"'Result Entry'!Y96","v":0},{"$f":"'Result Entry'!Z96","v":0},{"$f":"'Result Entry'!AA96","v":0},{"$f":"'Result Entry'!AB96","v":0},{"$f":"'Result Entry'!AC96","v":0},{"$f":"'Result Entry'!AD96","v":0},{"$f":"'Result Entry'!AE96","v":0},{"$f":"'Result Entry'!AF96","v":0},{"$f":"'Result Entry'!AG96","v":0},{"$f":"'Result Entry'!AH96","v":0},{"$f":"'Result Entry'!AI96","v":0},{"$f":"'Result Entry'!AJ96","v":0},{"$f":"'Result Entry'!AK96","v":0},{"$f":"'Result Entry'!AL96","v":""},{"$f":"'Result Entry'!AM96","v":0},{"$f":"'Result Entry'!AN96","v":0},{"$f":"'Result Entry'!AO96","v":0},{"$f":"'Result Entry'!AP96","v":0},{"$f":"'Result Entry'!AQ96","v":0},{"$f":"'Result Entry'!AR96","v":0},{"$f":"'Result Entry'!AS96","v":0},{"$f":"'Result Entry'!AT96","v":0},{"$f":"'Result Entry'!AU96","v":0},{"$f":"'Result Entry'!AV96","v":0},{"$f":"'Result Entry'!AW96","v":0},{"$f":"'Result Entry'!AX96","v":0},{"$f":"'Result Entry'!AY96","v":0},{"$f":"'Result Entry'!AZ96","v":""},{"$f":"'Result Entry'!BA96","v":0},{"$f":"'Result Entry'!BB96","v":0},{"$f":"'Result Entry'!BC96","v":0},{"$f":"'Result Entry'!BD96","v":0},{"$f":"'Result Entry'!BE96","v":0},{"$f":"'Result Entry'!BF96","v":0},{"$f":"'Result Entry'!BG96","v":0},{"$f":"'Result Entry'!BH96","v":0},{"$f":"'Result Entry'!BI96","v":0},{"$f":"'Result Entry'!BJ96","v":0},{"$f":"'Result Entry'!BK96","v":0},{"$f":"'Result Entry'!BL96","v":0},{"$f":"'Result Entry'!BM96","v":""},{"$f":"'Result Entry'!BN96","v":""},{"$f":"'Result Entry'!BO96","v":0},{"$f":"'Result Entry'!BP96","v":0},{"$f":"'Result Entry'!BQ96","v":0},{"$f":"'Result Entry'!BR96","v":0},{"$f":"'Result Entry'!BS96","v":0},{"$f":"'Result Entry'!BT96","v":0},{"$f":"'Result Entry'!BU96","v":0},{"$f":"'Result Entry'!BV96","v":""},{"$f":"'Result Entry'!BW96","v":0},{"$f":"'Result Entry'!BX96","v":0},{"$f":"'Result Entry'!BY96","v":0},{"$f":"'Result Entry'!BZ96","v":0},{"$f":"'Result Entry'!CA96","v":0},{"$f":"'Result Entry'!CB96","v":0},{"$f":"'Result Entry'!CC96","v":0},{"$f":"'Result Entry'!CD96","v":""},{"$f":"'Result Entry'!CE96","v":0},{"$f":"'Result Entry'!CF96","v":0},{"$f":"'Result Entry'!CG96","v":0},{"$f":"'Result Entry'!CH96","v":0},{"$f":"'Result Entry'!CI96","v":0},{"$f":"'Result Entry'!CJ96","v":0},{"$f":"'Result Entry'!CK96","v":0},{"$f":"'Result Entry'!CL96","v":""},{"$f":"'Result Entry'!CM96","v":0},{"$f":"'Result Entry'!CN96","v":0},{"$f":"'Result Entry'!CO96","v":0},{"$f":"'Result Entry'!CP96","v":0},{"$f":"'Result Entry'!CQ96","v":0},{"$f":"'Result Entry'!CR96","v":0},{"$f":"'Result Entry'!CS96","v":0},{"$f":"'Result Entry'!CT96","v":""},{"$f":"'Result Entry'!CU96","v":0},{"$f":"'Result Entry'!CV96","v":0},{"$f":"'Result Entry'!CW96","v":""},{"$f":"'Result Entry'!CX96","v":500},{"$f":"'Result Entry'!CY96","v":0},{"$f":"'Result Entry'!CZ96","v":{"v":0,"d":"0.00"}},{"$f":"'Result Entry'!DA96","v":""},{"$f":"'Result Entry'!DB96","v":""},{"$f":"'Result Entry'!DC96","v":""},{"$f":"'Result Entry'!DD96","v":""}]
[null,0,{"$f":"'Result Entry'!D97","v":0},{"$f":"'Result Entry'!E97","v":0},{"$f":"'Result Entry'!F97","v":0},{"$f":"'Result Entry'!G97","v":0},{"$f":"'Result Entry'!H97","v":0},{"$f":"'Result Entry'!I97","v":0},{"$f":"'Result Entry'!J97","v":"00:00:00"},{"$f":"'Result Entry'!K97","v":0},{"$f":"'Result Entry'!L97","v":0},{"$f":"'Result Entry'!M97","v":0},{"$f":"'Result Entry'!N97","v":0},{"$f":"'Result Entry'!O97","v":0},{"$f":"'Result Entry'!P97","v":0},{"$f":"'Result Entry'!Q97","v":0},{"$f":"'Result Entry'!R97","v":0},{"$f":"'Result Entry'!S97","v":0},{"$f":"'Result Entry'!T97","v":0},{"$f":"'Result Entry'!U97","v":0},{"$f":"'Result Entry'!V97","v":0},{"$f":"'Result Entry'!W97","v":0},{"$f":"'Result Entry'!X97","v":""},{"$f":"'Result Entry'!Y97","v":0},{"$f":"'Result Entry'!Z97","v":0},{"$f":"'Result Entry'!AA97","v":0},{"$f":"'Result Entry'!AB97","v":0},{"$f":"'Result Entry'!AC97","v":0},{"$f":"'Result Entry'!AD97","v":0},{"$f":"'Result Entry'!AE97","v":0},{"$f":"'Result Entry'!AF97","v":0},{"$f":"'Result Entry'!AG97","v":0},{"$f":"'Result Entry'!AH97","v":0},{"$f":"'Result Entry'!AI97","v":0},{"$f":"'Result Entry'!AJ97","v":0},{"$f":"'Result Entry'!AK97","v":0},{"$f":"'Result Entry'!AL97","v":""},{"$f":"'Result Entry'!AM97","v":0},{"$f":"'Result Entry'!AN97","v":0},{"$f":"'Result Entry'!AO97","v":0},{"$f":"'Result Entry'!AP97","v":0},{"$f":"'Result Entry'!AQ97","v":0},{"$f":"'Result Entry'!AR97","v":0},{"$f":"'Result Entry'!AS97","v":0},{"$f":"'Result Entry'!AT97","v":0},{"$f":"'Result Entry'!AU97","v":0},{"$f":"'Result Entry'!AV97","v":0},{"$f":"'Result Entry'!AW97","v":0},{"$f":"'Result Entry'!AX97","v":0},{"$f":"'Result Entry'!AY97","v":0},{"$f":"'Result Entry'!AZ97","v":""},{"$f":"'Result Entry'!BA97","v":0},{"$f":"'Result Entry'!BB97","v":0},{"$f":"'Result Entry'!BC97","v":0},{"$f":"'Result Entry'!BD97","v":0},{"$f":"'Result Entry'!BE97","v":0},{"$f":"'Result Entry'!BF97","v":0},{"$f":"'Result Entry'!BG97","v":0},{"$f":"'Result Entry'!BH97","v":0},{"$f":"'Result Entry'!BI97","v":0},{"$f":"'Result Entry'!BJ97","v":0},{"$f":"'Result Entry'!BK97","v":0},{"$f":"'Result Entry'!BL97","v":0},{"$f":"'Result Entry'!BM97","v":""},{"$f":"'Result Entry'!BN97","v":""},{"$f":"'Result Entry'!BO97","v":0},{"$f":"'Result Entry'!BP97","v":0},{"$f":"'Result Entry'!BQ97","v":0},{"$f":"'Result Entry'!BR97","v":0},{"$f":"'Result Entry'!BS97","v":0},{"$f":"'Result Entry'!BT97","v":0},{"$f":"'Result Entry'!BU97","v":0},{"$f":"'Result Entry'!BV97","v":""},{"$f":"'Result Entry'!BW97","v":0},{"$f":"'Result Entry'!BX97","v":0},{"$f":"'Result Entry'!BY97","v":0},{"$f":"'Result Entry'!BZ97","v":0},{"$f":"'Result Entry'!CA97","v":0},{"$f":"'Result Entry'!CB97","v":0},{"$f":"'Result Entry'!CC97","v":0},{"$f":"'Result Entry'!CD97","v":""},{"$f":"'Result Entry'!CE97","v":0},{"$f":"'Result Entry'!CF97","v":0},{"$f":"'Result Entry'!CG97","v":0},{"$f":"'Result Entry'!CH97","v":0},{"$f":"'Result Entry'!CI97","v":0},{"$f":"'Result Entry'!CJ97","v":0},{"$f":"'Result Entry'!CK97","v":0},{"$f":"'Result Entry'!CL97","v":""},{"$f":"'Result Entry'!CM97","v":0},{"$f":"'Result Entry'!CN97","v":0},{"$f":"'Result Entry'!CO97","v":0},{"$f":"'Result Entry'!CP97","v":0},{"$f":"'Result Entry'!CQ97","v":0},{"$f":"'Result Entry'!CR97","v":0},{"$f":"'Result Entry'!CS97","v":0},{"$f":"'Result Entry'!CT97","v":""},{"$f":"'Result Entry'!CU97","v":0},{"$f":"'Result Entry'!CV97","v":0},{"$f":"'Result Entry'!CW97","v":""},{"$f":"'Result Entry'!CX97","v":500},{"$f":"'Result Entry'!CY97","v":0},{"$f":"'Result Entry'!CZ97","v":{"v":0,"d":"0.00"}},{"$f":"'Result Entry'!DA97","v":""},{"$f":"'Result Entry'!DB97","v":""},{"$f":"'Result Entry'!DC97","v":""},{"$f":"'Result Entry'!DD97","v":""}]
[null,0,{"$f":"'Result Entry'!D98","v":0},{"$f":"'Result Entry'!E98","v":0},{"$f":"'Result Entry'!F98","v":0},{"$f":"'Result Entry'!G98","v":0},{"$f":"'Result Entry'!H98","v":0},{"$f":"'Result Entry'!I98","v":0},{"$f":"'Result Entry'!J98","v":"00:00:00"},{"$f":"'Result Entry'!K98","v":0},{"$f":"'Result Entry'!L98","v":0},{"$f":"'Result Entry'!M98","v":0},{"$f":"'Result Entry'!N98","v":0},{"$f":"'Result Entry'!O98","v":0},{"$f":"'Result Entry'!P98","v":0},{"$f":"'Result Entry'!Q98","v":0},{"$f":"'Result Entry'!R98","v":0},{"$f":"'Result Entry'!S98","v":0},{"$f":"'Result Entry'!T98","v":0},{"$f":"'Result Entry'!U98","v":0},{"$f":"'Result Entry'!V98","v":0},{"$f":"'Result Entry'!W98","v":0},{"$f":"'Result Entry'!X98","v":""},{"$f":"'Result Entry'!Y98","v":0},{"$f":"'Result Entry'!Z98","v":0},{"$f":"'Result Entry'!AA98","v":0},{"$f":"'Result Entry'!AB98","v":0},{"$f":"'Result Entry'!AC98","v":0},{"$f":"'Result Entry'!AD98","v":0},{"$f":"'Result Entry'!AE98","v":0},{"$f":"'Result Entry'!AF98","v":0},{"$f":"'Result Entry'!AG98","v":0},{"$f":"'Result Entry'!AH98","v":0},{"$f":"'Result Entry'!AI98","v":0},{"$f":"'Result Entry'!AJ98","v":0},{"$f":"'Result Entry'!AK98","v":0},{"$f":"'Result Entry'!AL98","v":""},{"$f":"'Result Entry'!AM98","v":0},{"$f":"'Result Entry'!AN98","v":0},{"$f":"'Result Entry'!AO98","v":0},{"$f":"'Result Entry'!AP98","v":0},{"$f":"'Result Entry'!AQ98","v":0},{"$f":"'Result Entry'!AR98","v":0},{"$f":"'Result Entry'!AS98","v":0},{"$f":"'Result Entry'!AT98","v":0},{"$f":"'Result Entry'!AU98","v":0},{"$f":"'Result Entry'!AV98","v":0},{"$f":"'Result Entry'!AW98","v":0},{"$f":"'Result Entry'!AX98","v":0},{"$f":"'Result Entry'!AY98","v":0},{"$f":"'Result Entry'!AZ98","v":""},{"$f":"'Result Entry'!BA98","v":0},{"$f":"'Result Entry'!BB98","v":0},{"$f":"'Result Entry'!BC98","v":0},{"$f":"'Result Entry'!BD98","v":0},{"$f":"'Result Entry'!BE98","v":0},{"$f":"'Result Entry'!BF98","v":0},{"$f":"'Result Entry'!BG98","v":0},{"$f":"'Result Entry'!BH98","v":0},{"$f":"'Result Entry'!BI98","v":0},{"$f":"'Result Entry'!BJ98","v":0},{"$f":"'Result Entry'!BK98","v":0},{"$f":"'Result Entry'!BL98","v":0},{"$f":"'Result Entry'!BM98","v":""},{"$f":"'Result Entry'!BN98","v":""},{"$f":"'Result Entry'!BO98","v":0},{"$f":"'Result Entry'!BP98","v":0},{"$f":"'Result Entry'!BQ98","v":0},{"$f":"'Result Entry'!BR98","v":0},{"$f":"'Result Entry'!BS98","v":0},{"$f":"'Result Entry'!BT98","v":0},{"$f":"'Result Entry'!BU98","v":0},{"$f":"'Result Entry'!BV98","v":""},{"$f":"'Result Entry'!BW98","v":0},{"$f":"'Result Entry'!BX98","v":0},{"$f":"'Result Entry'!BY98","v":0},{"$f":"'Result Entry'!BZ98","v":0},{"$f":"'Result Entry'!CA98","v":0},{"$f":"'Result Entry'!CB98","v":0},{"$f":"'Result Entry'!CC98","v":0},{"$f":"'Result Entry'!CD98","v":""},{"$f":"'Result Entry'!CE98","v":0},{"$f":"'Result Entry'!CF98","v":0},{"$f":"'Result Entry'!CG98","v":0},{"$f":"'Result Entry'!CH98","v":0},{"$f":"'Result Entry'!CI98","v":0},{"$f":"'Result Entry'!CJ98","v":0},{"$f":"'Result Entry'!CK98","v":0},{"$f":"'Result Entry'!CL98","v":""},{"$f":"'Result Entry'!CM98","v":0},{"$f":"'Result Entry'!CN98","v":0},{"$f":"'Result Entry'!CO98","v":0},{"$f":"'Result Entry'!CP98","v":0},{"$f":"'Result Entry'!CQ98","v":0},{"$f":"'Result Entry'!CR98","v":0},{"$f":"'Result Entry'!CS98","v":0},{"$f":"'Result Entry'!CT98","v":""},{"$f":"'Result Entry'!CU98","v":0},{"$f":"'Result Entry'!CV98","v":0},{"$f":"'Result Entry'!CW98","v":""},{"$f":"'Result Entry'!CX98","v":500},{"$f":"'Result Entry'!CY98","v":0},{"$f":"'Result Entry'!CZ98","v":{"v":0,"d":"0.00"}},{"$f":"'Result Entry'!DA98","v":""},{"$f":"'Result Entry'!DB98","v":""},{"$f":"'Result Entry'!DC98","v":""},{"$f":"'Result Entry'!DD98","v":""}]
[null,0,{"$f":"'Result Entry'!D99","v":0},{"$f":"'Result Entry'!E99","v":0},{"$f":"'Result Entry'!F99","v":0},{"$f":"'Result Entry'!G99","v":0},{"$f":"'Result Entry'!H99","v":0},{"$f":"'Result Entry'!I99","v":0},{"$f":"'Result Entry'!J99","v":"00:00:00"},{"$f":"'Result Entry'!K99","v":0},{"$f":"'Result Entry'!L99","v":0},{"$f":"'Result Entry'!M99","v":0},{"$f":"'Result Entry'!N99","v":0},{"$f":"'Result Entry'!O99","v":0},{"$f":"'Result Entry'!P99","v":0},{"$f":"'Result Entry'!Q99","v":0},{"$f":"'Result Entry'!R99","v":0},{"$f":"'Result Entry'!S99","v":0},{"$f":"'Result Entry'!T99","v":0},{"$f":"'Result Entry'!U99","v":0},{"$f":"'Result Entry'!V99","v":0},{"$f":"'Result Entry'!W99","v":0},{"$f":"'Result Entry'!X99","v":""},{"$f":"'Result Entry'!Y99","v":0},{"$f":"'Result Entry'!Z99","v":0},{"$f":"'Result Entry'!AA99","v":0},{"$f":"'Result Entry'!AB99","v":0},{"$f":"'Result Entry'!AC99","v":0},{"$f":"'Result Entry'!AD99","v":0},{"$f":"'Result Entry'!AE99","v":0},{"$f":"'Result Entry'!AF99","v":0},{"$f":"'Result Entry'!AG99","v":0},{"$f":"'Result Entry'!AH99","v":0},{"$f":"'Result Entry'!AI99","v":0},{"$f":"'Result Entry'!AJ99","v":0},{"$f":"'Result Entry'!AK99","v":0},{"$f":"'Result Entry'!AL99","v":""},{"$f":"'Result Entry'!AM99","v":0},{"$f":"'Result Entry'!AN99","v":0},{"$f":"'Result Entry'!AO99","v":0},{"$f":"'Result Entry'!AP99","v":0},{"$f":"'Result Entry'!AQ99","v":0},{"$f":"'Result Entry'!AR99","v":0},{"$f":"'Result Entry'!AS99","v":0},{"$f":"'Result Entry'!AT99","v":0},{"$f":"'Result Entry'!AU99","v":0},{"$f":"'Result Entry'!AV99","v":0},{"$f":"'Result Entry'!AW99","v":0},{"$f":"'Result Entry'!AX99","v":0},{"$f":"'Result Entry'!AY99","v":0},{"$f":"'Result Entry'!AZ99","v":""},{"$f":"'Result Entry'!BA99","v":0},{"$f":"'Result Entry'!BB99","v":0},{"$f":"'Result Entry'!BC99","v":0},{"$f":"'Result Entry'!BD99","v":0},{"$f":"'Result Entry'!BE99","v":0},{"$f":"'Result Entry'!BF99","v":0},{"$f":"'Result Entry'!BG99","v":0},{"$f":"'Result Entry'!BH99","v":0},{"$f":"'Result Entry'!BI99","v":0},{"$f":"'Result Entry'!BJ99","v":0},{"$f":"'Result Entry'!BK99","v":0},{"$f":"'Result Entry'!BL99","v":0},{"$f":"'Result Entry'!BM99","v":""},{"$f":"'Result Entry'!BN99","v":""},{"$f":"'Result Entry'!BO99","v":0},{"$f":"'Result Entry'!BP99","v":0},{"$f":"'Result Entry'!BQ99","v":0},{"$f":"'Result Entry'!BR99","v":0},{"$f":"'Result Entry'!BS99","v":0},{"$f":"'Result Entry'!BT99","v":0},{"$f":"'Result Entry'!BU99","v":0},{"$f":"'Result Entry'!BV99","v":""},{"$f":"'Result Entry'!BW99","v":0},{"$f":"'Result Entry'!BX99","v":0},{"$f":"'Result Entry'!BY99","v":0},{"$f":"'Result Entry'!BZ99","v":0},{"$f":"'Result Entry'!CA99","v":0},{"$f":"'Result Entry'!CB99","v":0},{"$f":"'Result Entry'!CC99","v":0},{"$f":"'Result Entry'!CD99","v":""},{"$f":"'Result Entry'!CE99","v":0},{"$f":"'Result Entry'!CF99","v":0},{"$f":"'Result Entry'!CG99","v":0},{"$f":"'Result Entry'!CH99","v":0},{"$f":"'Result Entry'!CI99","v":0},{"$f":"'Result Entry'!CJ99","v":0},{"$f":"'Result Entry'!CK99","v":0},{"$f":"'Result Entry'!CL99","v":""},{"$f":"'Result Entry'!CM99","v":0},{"$f":"'Result Entry'!CN99","v":0},{"$f":"'Result Entry'!CO99","v":0},{"$f":"'Result Entry'!CP99","v":0},{"$f":"'Result Entry'!CQ99","v":0},{"$f":"'Result Entry'!CR99","v":0},{"$f":"'Result Entry'!CS99","v":0},{"$f":"'Result Entry'!CT99","v":""},{"$f":"'Result Entry'!CU99","v":0},{"$f":"'Result Entry'!CV99","v":0},{"$f":"'Result Entry'!CW99","v":""},{"$f":"'Result Entry'!CX99","v":500},{"$f":"'Result Entry'!CY99","v":0},{"$f":"'Result Entry'!CZ99","v":{"v":0,"d":"0.00"}},{"$f":"'Result Entry'!DA99","v":""},{"$f":"'Result Entry'!DB99","v":""},{"$f":"'Result Entry'!DC99","v":""},{"$f":"'Result Entry'!DD99","v":""}]
[null,0,{"$f":"'Result Entry'!D100","v":0},{"$f":"'Result Entry'!E100","v":0},{"$f":"'Result Entry'!F100","v":0},{"$f":"'Result Entry'!G100","v":0},{"$f":"'Result Entry'!H100","v":0},{"$f":"'Result Entry'!I100","v":0},{"$f":"'Result Entry'!J100","v":"00:00:00"},{"$f":"'Result Entry'!K100","v":0},{"$f":"'Result Entry'!L100","v":0},{"$f":"'Result Entry'!M100","v":0},{"$f":"'Result Entry'!N100","v":0},{"$f":"'Result Entry'!O100","v":0},{"$f":"'Result Entry'!P100","v":0},{"$f":"'Result Entry'!Q100","v":0},{"$f":"'Result Entry'!R100","v":0},{"$f":"'Result Entry'!S100","v":0},{"$f":"'Result Entry'!T100","v":0},{"$f":"'Result Entry'!U100","v":0},{"$f":"'Result Entry'!V100","v":0},{"$f":"'Result Entry'!W100","v":0},{"$f":"'Result Entry'!X100","v":""},{"$f":"'Result Entry'!Y100","v":0},{"$f":"'Result Entry'!Z100","v":0},{"$f":"'Result Entry'!AA100","v":0},{"$f":"'Result Entry'!AB100","v":0},{"$f":"'Result Entry'!AC100","v":0},{"$f":"'Result Entry'!AD100","v":0},{"$f":"'Result Entry'!AE100","v":0},{"$f":"'Result Entry'!AF100","v":0},{"$f":"'Result Entry'!AG100","v":0},{"$f":"'Result Entry'!AH100","v":0},{"$f":"'Result Entry'!AI100","v":0},{"$f":"'Result Entry'!AJ100","v":0},{"$f":"'Result Entry'!AK100","v":0},{"$f":"'Result Entry'!AL100","v":""},{"$f":"'Result Entry'!AM100","v":0},{"$f":"'Result Entry'!AN100","v":0},{"$f":"'Result Entry'!AO100","v":0},{"$f":"'Result Entry'!AP100","v":0},{"$f":"'Result Entry'!AQ100","v":0},{"$f":"'Result Entry'!AR100","v":0},{"$f":"'Result Entry'!AS100","v":0},{"$f":"'Result Entry'!AT100","v":0},{"$f":"'Result Entry'!AU100","v":0},{"$f":"'Result Entry'!AV100","v":0},{"$f":"'Result Entry'!AW100","v":0},{"$f":"'Result Entry'!AX100","v":0},{"$f":"'Result Entry'!AY100","v":0},{"$f":"'Result Entry'!AZ100","v":""},{"$f":"'Result Entry'!BA100","v":0},{"$f":"'Result Entry'!BB100","v":0},{"$f":"'Result Entry'!BC100","v":0},{"$f":"'Result Entry'!BD100","v":0},{"$f":"'Result Entry'!BE100","v":0},{"$f":"'Result Entry'!BF100","v":0},{"$f":"'Result Entry'!BG100","v":0},{"$f":"'Result Entry'!BH100","v":0},{"$f":"'Result Entry'!BI100","v":0},{"$f":"'Result Entry'!BJ100","v":0},{"$f":"'Result Entry'!BK100","v":0},{"$f":"'Result Entry'!BL100","v":0},{"$f":"'Result Entry'!BM100","v":""},{"$f":"'Result Entry'!BN100","v":""},{"$f":"'Result Entry'!BO100","v":0},{"$f":"'Result Entry'!BP100","v":0},{"$f":"'Result Entry'!BQ100","v":0},{"$f":"'Result Entry'!BR100","v":0},{"$f":"'Result Entry'!BS100","v":0},{"$f":"'Result Entry'!BT100","v":0},{"$f":"'Result Entry'!BU100","v":0},{"$f":"'Result Entry'!BV100","v":""},{"$f":"'Result Entry'!BW100","v":0},{"$f":"'Result Entry'!BX100","v":0},{"$f":"'Result Entry'!BY100","v":0},{"$f":"'Result Entry'!BZ100","v":0},{"$f":"'Result Entry'!CA100","v":0},{"$f":"'Result Entry'!CB100","v":0},{"$f":"'Result Entry'!CC100","v":0},{"$f":"'Result Entry'!CD100","v":""},{"$f":"'Result Entry'!CE100","v":0},{"$f":"'Result Entry'!CF100","v":0},{"$f":"'Result Entry'!CG100","v":0},{"$f":"'Result Entry'!CH100","v":0},{"$f":"'Result Entry'!CI100","v":0},{"$f":"'Result Entry'!CJ100","v":0},{"$f":"'Result Entry'!CK100","v":0},{"$f":"'Result Entry'!CL100","v":""},{"$f":"'Result Entry'!CM100","v":0},{"$f":"'Result Entry'!CN100","v":0},{"$f":"'Result Entry'!CO100","v":0},{"$f":"'Result Entry'!CP100","v":0},{"$f":"'Result Entry'!CQ100","v":0},{"$f":"'Result Entry'!CR100","v":0},{"$f":"'Result Entry'!CS100","v":0},{"$f":"'Result Entry'!CT100","v":""},{"$f":"'Result Entry'!CU100","v":0},{"$f":"'Result Entry'!CV100","v":0},{"$f":"'Result Entry'!CW100","v":""},{"$f":"'Result Entry'!CX100","v":500},{"$f":"'Result Entry'!CY100","v":0},{"$f":"'Result Entry'!CZ100","v":{"v":0,"d":"0.00"}},{"$f":"'Result Entry'!DA100","v":""},{"$f":"'Result Entry'!DB100","v":""},{"$f":"'Result Entry'!DC100","v":""},{"$f":"'Result Entry'!DD100","v":""}]
[null,0,{"$f":"'Result Entry'!D101","v":0},{"$f":"'Result Entry'!E101","v":0},{"$f":"'Result Entry'!F101","v":0},{"$f":"'Result Entry'!G101","v":0},{"$f":"'Result Entry'!H101","v":0},{"$f":"'Result Entry'!I101","v":0},{"$f":"'Result Entry'!J101","v":"00:00:00"},{"$f":"'Result Entry'!K101","v":0},{"$f":"'Result Entry'!L101","v":0},{"$f":"'Result Entry'!M101","v":0},{"$f":"'Result Entry'!N101","v":0},{"$f":"'Result Entry'!O101","v":0},{"$f":"'Result Entry'!P101","v":0},{"$f":"'Result Entry'!Q101","v":0},{"$f":"'Result Entry'!R101","v":0},{"$f":"'Result Entry'!S101","v":0},{"$f":"'Result Entry'!T101","v":0},{"$f":"'Result Entry'!U101","v":0},{"$f":"'Result Entry'!V101","v":0},{"$f":"'Result Entry'!W101","v":0},{"$f":"'Result Entry'!X101","v":""},{"$f":"'Result Entry'!Y101","v":0},{"$f":"'Result Entry'!Z101","v":0},{"$f":"'Result Entry'!AA101","v":0},{"$f":"'Result Entry'!AB101","v":0},{"$f":"'Result Entry'!AC101","v":0},{"$f":"'Result Entry'!AD101","v":0},{"$f":"'Result Entry'!AE101","v":0},{"$f":"'Result Entry'!AF101","v":0},{"$f":"'Result Entry'!AG101","v":0},{"$f":"'Result Entry'!AH101","v":0},{"$f":"'Result Entry'!AI101","v":0},{"$f":"'Result Entry'!AJ101","v":0},{"$f":"'Result Entry'!AK101","v":0},{"$f":"'Result Entry'!AL101","v":""},{"$f":"'Result Entry'!AM101","v":0},{"$f":"'Result Entry'!AN101","v":0},{"$f":"'Result Entry'!AO101","v":0},{"$f":"'Result Entry'!AP101","v":0},{"$f":"'Result Entry'!AQ101","v":0},{"$f":"'Result Entry'!AR101","v":0},{"$f":"'Result Entry'!AS101","v":0},{"$f":"'Result Entry'!AT101","v":0},{"$f":"'Result Entry'!AU101","v":0},{"$f":"'Result Entry'!AV101","v":0},{"$f":"'Result Entry'!AW101","v":0},{"$f":"'Result Entry'!AX101","v":0},{"$f":"'Result Entry'!AY101","v":0},{"$f":"'Result Entry'!AZ101","v":""},{"$f":"'Result Entry'!BA101","v":0},{"$f":"'Result Entry'!BB101","v":0},{"$f":"'Result Entry'!BC101","v":0},{"$f":"'Result Entry'!BD101","v":0},{"$f":"'Result Entry'!BE101","v":0},{"$f":"'Result Entry'!BF101","v":0},{"$f":"'Result Entry'!BG101","v":0},{"$f":"'Result Entry'!BH101","v":0},{"$f":"'Result Entry'!BI101","v":0},{"$f":"'Result Entry'!BJ101","v":0},{"$f":"'Result Entry'!BK101","v":0},{"$f":"'Result Entry'!BL101","v":0},{"$f":"'Result Entry'!BM101","v":""},{"$f":"'Result Entry'!BN101","v":""},{"$f":"'Result Entry'!BO101","v":0},{"$f":"'Result Entry'!BP101","v":0},{"$f":"'Result Entry'!BQ101","v":0},{"$f":"'Result Entry'!BR101","v":0},{"$f":"'Result Entry'!BS101","v":0},{"$f":"'Result Entry'!BT101","v":0},{"$f":"'Result Entry'!BU101","v":0},{"$f":"'Result Entry'!BV101","v":""},{"$f":"'Result Entry'!BW101","v":0},{"$f":"'Result Entry'!BX101","v":0},{"$f":"'Result Entry'!BY101","v":0},{"$f":"'Result Entry'!BZ101","v":0},{"$f":"'Result Entry'!CA101","v":0},{"$f":"'Result Entry'!CB101","v":0},{"$f":"'Result Entry'!CC101","v":0},{"$f":"'Result Entry'!CD101","v":""},{"$f":"'Result Entry'!CE101","v":0},{"$f":"'Result Entry'!CF101","v":0},{"$f":"'Result Entry'!CG101","v":0},{"$f":"'Result Entry'!CH101","v":0},{"$f":"'Result Entry'!CI101","v":0},{"$f":"'Result Entry'!CJ101","v":0},{"$f":"'Result Entry'!CK101","v":0},{"$f":"'Result Entry'!CL101","v":""},{"$f":"'Result Entry'!CM101","v":0},{"$f":"'Result Entry'!CN101","v":0},{"$f":"'Result Entry'!CO101","v":0},{"$f":"'Result Entry'!CP101","v":0},{"$f":"'Result Entry'!CQ101","v":0},{"$f":"'Result Entry'!CR101","v":0},{"$f":"'Result Entry'!CS101","v":0},{"$f":"'Result Entry'!CT101","v":""},{"$f":"'Result Entry'!CU101","v":0},{"$f":"'Result Entry'!CV101","v":0},{"$f":"'Result Entry'!CW101","v":""},{"$f":"'Result Entry'!CX101","v":500},{"$f":"'Result Entry'!CY101","v":0},{"$f":"'Result Entry'!CZ101","v":{"v":0,"d":"0.00"}},{"$f":"'Result Entry'!DA101","v":""},{"$f":"'Result Entry'!DB101","v":""},{"$f":"'Result Entry'!DC101","v":""},{"$f":"'Result Entry'!DD101","v":""}]
[null,0,{"$f":"'Result Entry'!D102","v":0},{"$f":"'Result Entry'!E102","v":0},{"$f":"'Result Entry'!F102","v":0},{"$f":"'Result Entry'!G102","v":0},{"$f":"'Result Entry'!H102","v":0},{"$f":"'Result Entry'!I102","v":0},{"$f":"'Result Entry'!J102","v":"00:00:00"},{"$f":"'Result Entry'!K102","v":0},{"$f":"'Result Entry'!L102","v":0},{"$f":"'Result Entry'!M102","v":0},{"$f":"'Result Entry'!N102","v":0},{"$f":"'Result Entry'!O102","v":0},{"$f":"'Result Entry'!P102","v":0},{"$f":"'Result Entry'!Q102","v":0},{"$f":"'Result Entry'!R102","v":0},{"$f":"'Result Entry'!S102","v":0},{"$f":"'Result Entry'!T102","v":0},{"$f":"'Result Entry'!U102","v":0},{"$f":"'Result Entry'!V102","v":0},{"$f":"'Result Entry'!W102","v":0},{"$f":"'Result Entry'!X102","v":""},{"$f":"'Result Entry'!Y102","v":0},{"$f":"'Result Entry'!Z102","v":0},{"$f":"'Result Entry'!AA102","v":0},{"$f":"'Result Entry'!AB102","v":0},{"$f":"'Result Entry'!AC102","v":0},{"$f":"'Result Entry'!AD102","v":0},{"$f":"'Result Entry'!AE102","v":0},{"$f":"'Result Entry'!AF102","v":0},{"$f":"'Result Entry'!AG102","v":0},{"$f":"'Result Entry'!AH102","v":0},{"$f":"'Result Entry'!AI102","v":0},{"$f":"'Result Entry'!AJ102","v":0},{"$f":"'Result Entry'!AK102","v":0},{"$f":"'Result Entry'!AL102","v":""},{"$f":"'Result Entry'!AM102","v":0},{"$f":"'Result Entry'!AN102","v":0},{"$f":"'Result Entry'!AO102","v":0},{"$f":"'Result Entry'!AP102","v":0},{"$f":"'Result Entry'!AQ102","v":0},{"$f":"'Result Entry'!AR102","v":0},{"$f":"'Result Entry'!AS102","v":0},{"$f":"'Result Entry'!AT102","v":0},{"$f":"'Result Entry'!AU102","v":0},{"$f":"'Result Entry'!AV102","v":0},{"$f":"'Result Entry'!AW102","v":0},{"$f":"'Result Entry'!AX102","v":0},{"$f":"'Result Entry'!AY102","v":0},{"$f":"'Result Entry'!AZ102","v":""},{"$f":"'Result Entry'!BA102","v":0},{"$f":"'Result Entry'!BB102","v":0},{"$f":"'Result Entry'!BC102","v":0},{"$f":"'Result Entry'!BD102","v":0},{"$f":"'Result Entry'!BE102","v":0},{"$f":"'Result Entry'!BF102","v":0},{"$f":"'Result Entry'!BG102","v":0},{"$f":"'Result Entry'!BH102","v":0},{"$f":"'Result Entry'!BI102","v":0},{"$f":"'Result Entry'!BJ102","v":0},{"$f":"'Result Entry'!BK102","v":0},{"$f":"'Result Entry'!BL102","v":0},{"$f":"'Result Entry'!BM102","v":""},{"$f":"'Result Entry'!BN102","v":""},{"$f":"'Result Entry'!BO102","v":0},{"$f":"'Result Entry'!BP102","v":0},{"$f":"'Result Entry'!BQ102","v":0},{"$f":"'Result Entry'!BR102","v":0},{"$f":"'Result Entry'!BS102","v":0},{"$f":"'Result Entry'!BT102","v":0},{"$f":"'Result Entry'!BU102","v":0},{"$f":"'Result Entry'!BV102","v":""},{"$f":"'Result Entry'!BW102","v":0},{"$f":"'Result Entry'!BX102","v":0},{"$f":"'Result Entry'!BY102","v":0},{"$f":"'Result Entry'!BZ102","v":0},{"$f":"'Result Entry'!CA102","v":0},{"$f":"'Result Entry'!CB102","v":0},{"$f":"'Result Entry'!CC102","v":0},{"$f":"'Result Entry'!CD102","v":""},{"$f":"'Result Entry'!CE102","v":0},{"$f":"'Result Entry'!CF102","v":0},{"$f":"'Result Entry'!CG102","v":0},{"$f":"'Result Entry'!CH102","v":0},{"$f":"'Result Entry'!CI102","v":0},{"$f":"'Result Entry'!CJ102","v":0},{"$f":"'Result Entry'!CK102","v":0},{"$f":"'Result Entry'!CL102","v":""},{"$f":"'Result Entry'!CM102","v":0},{"$f":"'Result Entry'!CN102","v":0},{"$f":"'Result Entry'!CO102","v":0},{"$f":"'Result Entry'!CP102","v":0},{"$f":"'Result Entry'!CQ102","v":0},{"$f":"'Result Entry'!CR102","v":0},{"$f":"'Result Entry'!CS102","v":0},{"$f":"'Result Entry'!CT102","v":""},{"$f":"'Result Entry'!CU102","v":0},{"$f":"'Result Entry'!CV102","v":0},{"$f":"'Result Entry'!CW102","v":""},{"$f":"'Result Entry'!CX102","v":500},{"$f":"'Result Entry'!CY102","v":0},{"$f":"'Result Entry'!CZ102","v":{"v":0,"d":"0.00"}},{"$f":"'Result Entry'!DA102","v":""},{"$f":"'Result Entry'!DB102","v":""},{"$f":"'Result Entry'!DC102","v":""},{"$f":"'Result Entry'!DD102","v":""}]
[null,0,{"$f":"'Result Entry'!D103","v":0},{"$f":"'Result Entry'!E103","v":0},{"$f":"'Result Entry'!F103","v":0},{"$f":"'Result Entry'!G103","v":0},{"$f":"'Result Entry'!H103","v":0},{"$f":"'Result Entry'!I103","v":0},{"$f":"'Result Entry'!J103","v":"00:00:00"},{"$f":"'Result Entry'!K103","v":0},{"$f":"'Result Entry'!L103","v":0},{"$f":"'Result Entry'!M103","v":0},{"$f":"'Result Entry'!N103","v":0},{"$f":"'Result Entry'!O103","v":0},{"$f":"'Result Entry'!P103","v":0},{"$f":"'Result Entry'!Q103","v":0},{"$f":"'Result Entry'!R103","v":0},{"$f":"'Result Entry'!S103","v":0},{"$f":"'Result Entry'!T103","v":0},{"$f":"'Result Entry'!U103","v":0},{"$f":"'Result Entry'!V103","v":0},{"$f":"'Result Entry'!W103","v":0},{"$f":"'Result Entry'!X103","v":""},{"$f":"'Result Entry'!Y103","v":0},{"$f":"'Result Entry'!Z103","v":0},{"$f":"'Result Entry'!AA103","v":0},{"$f":"'Result Entry'!AB103","v":0},{"$f":"'Result Entry'!AC103","v":0},{"$f":"'Result Entry'!AD103","v":0},{"$f":"'Result Entry'!AE103","v":0},{"$f":"'Result Entry'!AF103","v":0},{"$f":"'Result Entry'!AG103","v":0},{"$f":"'Result Entry'!AH103","v":0},{"$f":"'Result Entry'!AI103","v":0},{"$f":"'Result Entry'!AJ103","v":0},{"$f":"'Result Entry'!AK103","v":0},{"$f":"'Result Entry'!AL103","v":""},{"$f":"'Result Entry'!AM103","v":0},{"$f":"'Result Entry'!AN103","v":0},{"$f":"'Result Entry'!AO103","v":0},{"$f":"'Result Entry'!AP103","v":0},{"$f":"'Result Entry'!AQ103","v":0},{"$f":"'Result Entry'!AR103","v":0},{"$f":"'Result Entry'!AS103","v":0},{"$f":"'Result Entry'!AT103","v":0},{"$f":"'Result Entry'!AU103","v":0},{"$f":"'Result Entry'!AV103","v":0},{"$f":"'Result Entry'!AW103","v":0},{"$f":"'Result Entry'!AX103","v":0},{"$f":"'Result Entry'!AY103","v":0},{"$f":"'Result Entry'!AZ103","v":""},{"$f":"'Result Entry'!BA103","v":0},{"$f":"'Result Entry'!BB103","v":0},{"$f":"'Result Entry'!BC103","v":0},{"$f":"'Result Entry'!BD103","v":0},{"$f":"'Result Entry'!BE103","v":0},{"$f":"'Result Entry'!BF103","v":0},{"$f":"'Result Entry'!BG103","v":0},{"$f":"'Result Entry'!BH103","v":0},{"$f":"'Result Entry'!BI103","v":0},{"$f":"'Result Entry'!BJ103","v":0},{"$f":"'Result Entry'!BK103","v":0},{"$f":"'Result Entry'!BL103","v":0},{"$f":"'Result Entry'!BM103","v":""},{"$f":"'Result Entry'!BN103","v":""},{"$f":"'Result Entry'!BO103","v":0},{"$f":"'Result Entry'!BP103","v":0},{"$f":"'Result Entry'!BQ103","v":0},{"$f":"'Result Entry'!BR103","v":0},{"$f":"'Result Entry'!BS103","v":0},{"$f":"'Result Entry'!BT103","v":0},{"$f":"'Result Entry'!BU103","v":0},{"$f":"'Result Entry'!BV103","v":""},{"$f":"'Result Entry'!BW103","v":0},{"$f":"'Result Entry'!BX103","v":0},{"$f":"'Result Entry'!BY103","v":0},{"$f":"'Result Entry'!BZ103","v":0},{"$f":"'Result Entry'!CA103","v":0},{"$f":"'Result Entry'!CB103","v":0},{"$f":"'Result Entry'!CC103","v":0},{"$f":"'Result Entry'!CD103","v":""},{"$f":"'Result Entry'!CE103","v":0},{"$f":"'Result Entry'!CF103","v":0},{"$f":"'Result Entry'!CG103","v":0},{"$f":"'Result Entry'!CH103","v":0},{"$f":"'Result Entry'!CI103","v":0},{"$f":"'Result Entry'!CJ103","v":0},{"$f":"'Result Entry'!CK103","v":0},{"$f":"'Result Entry'!CL103","v":""},{"$f":"'Result Entry'!CM103","v":0},{"$f":"'Result Entry'!CN103","v":0},{"$f":"'Result Entry'!CO103","v":0},{"$f":"'Result Entry'!CP103","v":0},{"$f":"'Result Entry'!CQ103","v":0},{"$f":"'Result Entry'!CR103","v":0},{"$f":"'Result Entry'!CS103","v":0},{"$f":"'Result Entry'!CT103","v":""},{"$f":"'Result Entry'!CU103","v":0},{"$f":"'Result Entry'!CV103","v":0},{"$f":"'Result Entry'!CW103","v":""},{"$f":"'Result Entry'!CX103","v":500},{"$f":"'Result Entry'!CY103","v":0},{"$f":"'Result Entry'!CZ103","v":{"v":0,"d":"0.00"}},{"$f":"'Result Entry'!DA103","v":""},{"$f":"'Result Entry'!DB103","v":""},{"$f":"'Result Entry'!DC103","v":""},{"$f":"'Result Entry'!DD103","v":""}]
[null,0,{"$f":"'Result Entry'!D104","v":0},{"$f":"'Result Entry'!E104","v":0},{"$f":"'Result Entry'!F104","v":0},{"$f":"'Result Entry'!G104","v":0},{"$f":"'Result Entry'!H104","v":0},{"$f":"'Result Entry'!I104","v":0},{"$f":"'Result Entry'!J104","v":"00:00:00"},{"$f":"'Result Entry'!K104","v":0},{"$f":"'Result Entry'!L104","v":0},{"$f":"'Result Entry'!M104","v":0},{"$f":"'Result Entry'!N104","v":0},{"$f":"'Result Entry'!O104","v":0},{"$f":"'Result Entry'!P104","v":0},{"$f":"'Result Entry'!Q104","v":0},{"$f":"'Result Entry'!R104","v":0},{"$f":"'Result Entry'!S104","v":0},{"$f":"'Result Entry'!T104","v":0},{"$f":"'Result Entry'!U104","v":0},{"$f":"'Result Entry'!V104","v":0},{"$f":"'Result Entry'!W104","v":0},{"$f":"'Result Entry'!X104","v":""},{"$f":"'Result Entry'!Y104","v":0},{"$f":"'Result Entry'!Z104","v":0},{"$f":"'Result Entry'!AA104","v":0},{"$f":"'Result Entry'!AB104","v":0},{"$f":"'Result Entry'!AC104","v":0},{"$f":"'Result Entry'!AD104","v":0},{"$f":"'Result Entry'!AE104","v":0},{"$f":"'Result Entry'!AF104","v":0},{"$f":"'Result Entry'!AG104","v":0},{"$f":"'Result Entry'!AH104","v":0},{"$f":"'Result Entry'!AI104","v":0},{"$f":"'Result Entry'!AJ104","v":0},{"$f":"'Result Entry'!AK104","v":0},{"$f":"'Result Entry'!AL104","v":""},{"$f":"'Result Entry'!AM104","v":0},{"$f":"'Result Entry'!AN104","v":0},{"$f":"'Result Entry'!AO104","v":0},{"$f":"'Result Entry'!AP104","v":0},{"$f":"'Result Entry'!AQ104","v":0},{"$f":"'Result Entry'!AR104","v":0},{"$f":"'Result Entry'!AS104","v":0},{"$f":"'Result Entry'!AT104","v":0},{"$f":"'Result Entry'!AU104","v":0},{"$f":"'Result Entry'!AV104","v":0},{"$f":"'Result Entry'!AW104","v":0},{"$f":"'Result Entry'!AX104","v":0},{"$f":"'Result Entry'!AY104","v":0},{"$f":"'Result Entry'!AZ104","v":""},{"$f":"'Result Entry'!BA104","v":0},{"$f":"'Result Entry'!BB104","v":0},{"$f":"'Result Entry'!BC104","v":0},{"$f":"'Result Entry'!BD104","v":0},{"$f":"'Result Entry'!BE104","v":0},{"$f":"'Result Entry'!BF104","v":0},{"$f":"'Result Entry'!BG104","v":0},{"$f":"'Result Entry'!BH104","v":0},{"$f":"'Result Entry'!BI104","v":0},{"$f":"'Result Entry'!BJ104","v":0},{"$f":"'Result Entry'!BK104","v":0},{"$f":"'Result Entry'!BL104","v":0},{"$f":"'Result Entry'!BM104","v":""},{"$f":"'Result Entry'!BN104","v":""},{"$f":"'Result Entry'!BO104","v":0},{"$f":"'Result Entry'!BP104","v":0},{"$f":"'Result Entry'!BQ104","v":0},{"$f":"'Result Entry'!BR104","v":0},{"$f":"'Result Entry'!BS104","v":0},{"$f":"'Result Entry'!BT104","v":0},{"$f":"'Result Entry'!BU104","v":0},{"$f":"'Result Entry'!BV104","v":""},{"$f":"'Result Entry'!BW104","v":0},{"$f":"'Result Entry'!BX104","v":0},{"$f":"'Result Entry'!BY104","v":0},{"$f":"'Result Entry'!BZ104","v":0},{"$f":"'Result Entry'!CA104","v":0},{"$f":"'Result Entry'!CB104","v":0},{"$f":"'Result Entry'!CC104","v":0},{"$f":"'Result Entry'!CD104","v":""},{"$f":"'Result Entry'!CE104","v":0},{"$f":"'Result Entry'!CF104","v":0},{"$f":"'Result Entry'!CG104","v":0},{"$f":"'Result Entry'!CH104","v":0},{"$f":"'Result Entry'!CI104","v":0},{"$f":"'Result Entry'!CJ104","v":0},{"$f":"'Result Entry'!CK104","v":0},{"$f":"'Result Entry'!CL104","v":""},{"$f":"'Result Entry'!CM104","v":0},{"$f":"'Result Entry'!CN104","v":0},{"$f":"'Result Entry'!CO104","v":0},{"$f":"'Result Entry'!CP104","v":0},{"$f":"'Result Entry'!CQ104","v":0},{"$f":"'Result Entry'!CR104","v":0},{"$f":"'Result Entry'!CS104","v":0},{"$f":"'Result Entry'!CT104","v":""},{"$f":"'Result Entry'!CU104","v":0},{"$f":"'Result Entry'!CV104","v":0},{"$f":"'Result Entry'!CW104","v":""},{"$f":"'Result Entry'!CX104","v":500},{"$f":"'Result Entry'!CY104","v":0},{"$f":"'Result Entry'!CZ104","v":{"v":0,"d":"0.00"}},{"$f":"'Result Entry'!DA104","v":""},{"$f":"'Result Entry'!DB104","v":""},{"$f":"'Result Entry'!DC104","v":""},{"$f":"'Result Entry'!DD104","v":""}]
[null,0,{"$f":"'Result Entry'!D105","v":0},{"$f":"'Result Entry'!E105","v":0},{"$f":"'Result Entry'!F105","v":0},{"$f":"'Result Entry'!G105","v":0},{"$f":"'Result Entry'!H105","v":0},{"$f":"'Result Entry'!I105","v":0},{"$f":"'Result Entry'!J105","v":"00:00:00"},{"$f":"'Result Entry'!K105","v":0},{"$f":"'Result Entry'!L105","v":0},{"$f":"'Result Entry'!M105","v":0},{"$f":"'Result Entry'!N105","v":0},{"$f":"'Result Entry'!O105","v":0},{"$f":"'Result Entry'!P105","v":0},{"$f":"'Result Entry'!Q105","v":0},{"$f":"'Result Entry'!R105","v":0},{"$f":"'Result Entry'!S105","v":0},{"$f":"'Result Entry'!T105","v":0},{"$f":"'Result Entry'!U105","v":0},{"$f":"'Result Entry'!V105","v":0},{"$f":"'Result Entry'!W105","v":0},{"$f":"'Result Entry'!X105","v":""},{"$f":"'Result Entry'!Y105","v":0},{"$f":"'Result Entry'!Z105","v":0},{"$f":"'Result Entry'!AA105","v":0},{"$f":"'Result Entry'!AB105","v":0},{"$f":"'Result Entry'!AC105","v":0},{"$f":"'Result Entry'!AD105","v":0},{"$f":"'Result Entry'!AE105","v":0},{"$f":"'Result Entry'!AF105","v":0},{"$f":"'Result Entry'!AG105","v":0},{"$f":"'Result Entry'!AH105","v":0},{"$f":"'Result Entry'!AI105","v":0},{"$f":"'Result Entry'!AJ105","v":0},{"$f":"'Result Entry'!AK105","v":0},{"$f":"'Result Entry'!AL105","v":""},{"$f":"'Result Entry'!AM105","v":0},{"$f":"'Result Entry'!AN105","v":0},{"$f":"'Result Entry'!AO105","v":0},{"$f":"'Result Entry'!AP105","v":0},{"$f":"'Result Entry'!AQ105","v":0},{"$f":"'Result Entry'!AR105","v":0},{"$f":"'Result Entry'!AS105","v":0},{"$f":"'Result Entry'!AT105","v":0},{"$f":"'Result Entry'!AU105","v":0},{"$f":"'Result Entry'!AV105","v":0},{"$f":"'Result Entry'!AW105","v":0},{"$f":"'Result Entry'!AX105","v":0},{"$f":"'Result Entry'!AY105","v":0},{"$f":"'Result Entry'!AZ105","v":""},{"$f":"'Result Entry'!BA105","v":0},{"$f":"'Result Entry'!BB105","v":0},{"$f":"'Result Entry'!BC105","v":0},{"$f":"'Result Entry'!BD105","v":0},{"$f":"'Result Entry'!BE105","v":0},{"$f":"'Result Entry'!BF105","v":0},{"$f":"'Result Entry'!BG105","v":0},{"$f":"'Result Entry'!BH105","v":0},{"$f":"'Result Entry'!BI105","v":0},{"$f":"'Result Entry'!BJ105","v":0},{"$f":"'Result Entry'!BK105","v":0},{"$f":"'Result Entry'!BL105","v":0},{"$f":"'Result Entry'!BM105","v":""},{"$f":"'Result Entry'!BN105","v":""},{"$f":"'Result Entry'!BO105","v":0},{"$f":"'Result Entry'!BP105","v":0},{"$f":"'Result Entry'!BQ105","v":0},{"$f":"'Result Entry'!BR105","v":0},{"$f":"'Result Entry'!BS105","v":0},{"$f":"'Result Entry'!BT105","v":0},{"$f":"'Result Entry'!BU105","v":0},{"$f":"'Result Entry'!BV105","v":""},{"$f":"'Result Entry'!BW105","v":0},{"$f":"'Result Entry'!BX105","v":0},{"$f":"'Result Entry'!BY105","v":0},{"$f":"'Result Entry'!BZ105","v":0},{"$f":"'Result Entry'!CA105","v":0},{"$f":"'Result Entry'!CB105","v":0},{"$f":"'Result Entry'!CC105","v":0},{"$f":"'Result Entry'!CD105","v":""},{"$f":"'Result Entry'!CE105","v":0},{"$f":"'Result Entry'!CF105","v":0},{"$f":"'Result Entry'!CG105","v":0},{"$f":"'Result Entry'!CH105","v":0},{"$f":"'Result Entry'!CI105","v":0},{"$f":"'Result Entry'!CJ105","v":0},{"$f":"'Result Entry'!CK105","v":0},{"$f":"'Result Entry'!CL105","v":""},{"$f":"'Result Entry'!CM105","v":0},{"$f":"'Result Entry'!CN105","v":0},{"$f":"'Result Entry'!CO105","v":0},{"$f":"'Result Entry'!CP105","v":0},{"$f":"'Result Entry'!CQ105","v":0},{"$f":"'Result Entry'!CR105","v":0},{"$f":"'Result Entry'!CS105","v":0},{"$f":"'Result Entry'!CT105","v":""},{"$f":"'Result Entry'!CU105","v":0},{"$f":"'Result Entry'!CV105","v":0},{"$f":"'Result Entry'!CW105","v":""},{"$f":"'Result Entry'!CX105","v":500},{"$f":"'Result Entry'!CY105","v":0},{"$f":"'Result Entry'!CZ105","v":{"v":0,"d":"0.00"}},{"$f":"'Result Entry'!DA105","v":""},{"$f":"'Result Entry'!DB105","v":""},{"$f":"'Result Entry'!DC105","v":""},{"$f":"'Result Entry'!DD105","v":""}]
[null,0,{"$f":"'Result Entry'!D106","v":0},{"$f":"'Result Entry'!E106","v":0},{"$f":"'Result Entry'!F106","v":0},{"$f":"'Result Entry'!G106","v":0},{"$f":"'Result Entry'!H106","v":0},{"$f":"'Result Entry'!I106","v":0},{"$f":"'Result Entry'!J106","v":"00:00:00"},{"$f":"'Result Entry'!K106","v":0},{"$f":"'Result Entry'!L106","v":0},{"$f":"'Result Entry'!M106","v":0},{"$f":"'Result Entry'!N106","v":0},{"$f":"'Result Entry'!O106","v":0},{"$f":"'Result Entry'!P106","v":0},{"$f":"'Result Entry'!Q106","v":0},{"$f":"'Result Entry'!R106","v":0},{"$f":"'Result Entry'!S106","v":0},{"$f":"'Result Entry'!T106","v":0},{"$f":"'Result Entry'!U106","v":0},{"$f":"'Result Entry'!V106","v":0},{"$f":"'Result Entry'!W106","v":0},{"$f":"'Result Entry'!X106","v":""},{"$f":"'Result Entry'!Y106","v":0},{"$f":"'Result Entry'!Z106","v":0},{"$f":"'Result Entry'!AA106","v":0},{"$f":"'Result Entry'!AB106","v":0},{"$f":"'Result Entry'!AC106","v":0},{"$f":"'Result Entry'!AD106","v":0},{"$f":"'Result Entry'!AE106","v":0},{"$f":"'Result Entry'!AF106","v":0},{"$f":"'Result Entry'!AG106","v":0},{"$f":"'Result Entry'!AH106","v":0},{"$f":"'Result Entry'!AI106","v":0},{"$f":"'Result Entry'!AJ106","v":0},{"$f":"'Result Entry'!AK106","v":0},{"$f":"'Result Entry'!AL106","v":""},{"$f":"'Result Entry'!AM106","v":0},{"$f":"'Result Entry'!AN106","v":0},{"$f":"'Result Entry'!AO106","v":0},{"$f":"'Result Entry'!AP106","v":0},{"$f":"'Result Entry'!AQ106","v":0},{"$f":"'Result Entry'!AR106","v":0},{"$f":"'Result Entry'!AS106","v":0},{"$f":"'Result Entry'!AT106","v":0},{"$f":"'Result Entry'!AU106","v":0},{"$f":"'Result Entry'!AV106","v":0},{"$f":"'Result Entry'!AW106","v":0},{"$f":"'Result Entry'!AX106","v":0},{"$f":"'Result Entry'!AY106","v":0},{"$f":"'Result Entry'!AZ106","v":""},{"$f":"'Result Entry'!BA106","v":0},{"$f":"'Result Entry'!BB106","v":0},{"$f":"'Result Entry'!BC106","v":0},{"$f":"'Result Entry'!BD106","v":0},{"$f":"'Result Entry'!BE106","v":0},{"$f":"'Result Entry'!BF106","v":0},{"$f":"'Result Entry'!BG106","v":0},{"$f":"'Result Entry'!BH106","v":0},{"$f":"'Result Entry'!BI106","v":0},{"$f":"'Result Entry'!BJ106","v":0},{"$f":"'Result Entry'!BK106","v":0},{"$f":"'Result Entry'!BL106","v":0},{"$f":"'Result Entry'!BM106","v":""},{"$f":"'Result Entry'!BN106","v":""},{"$f":"'Result Entry'!BO106","v":0},{"$f":"'Result Entry'!BP106","v":0},{"$f":"'Result Entry'!BQ106","v":0},{"$f":"'Result Entry'!BR106","v":0},{"$f":"'Result Entry'!BS106","v":0},{"$f":"'Result Entry'!BT106","v":0},{"$f":"'Result Entry'!BU106","v":0},{"$f":"'Result Entry'!BV106","v":""},{"$f":"'Result Entry'!BW106","v":0},{"$f":"'Result Entry'!BX106","v":0},{"$f":"'Result Entry'!BY106","v":0},{"$f":"'Result Entry'!BZ106","v":0},{"$f":"'Result Entry'!CA106","v":0},{"$f":"'Result Entry'!CB106","v":0},{"$f":"'Result Entry'!CC106","v":0},{"$f":"'Result Entry'!CD106","v":""},{"$f":"'Result Entry'!CE106","v":0},{"$f":"'Result Entry'!CF106","v":0},{"$f":"'Result Entry'!CG106","v":0},{"$f":"'Result Entry'!CH106","v":0},{"$f":"'Result Entry'!CI106","v":0},{"$f":"'Result Entry'!CJ106","v":0},{"$f":"'Result Entry'!CK106","v":0},{"$f":"'Result Entry'!CL106","v":""},{"$f":"'Result Entry'!CM106","v":0},{"$f":"'Result Entry'!CN106","v":0},{"$f":"'Result Entry'!CO106","v":0},{"$f":"'Result Entry'!CP106","v":0},{"$f":"'Result Entry'!CQ106","v":0},{"$f":"'Result Entry'!CR106","v":0},{"$f":"'Result Entry'!CS106","v":0},{"$f":"'Result Entry'!CT106","v":""},{"$f":"'Result Entry'!CU106","v":0},{"$f":"'Result Entry'!CV106","v":0},{"$f":"'Result Entry'!CW106","v":""},{"$f":"'Result Entry'!CX106","v":500},{"$f":"'Result Entry'!CY106","v":0},{"$f":"'Result Entry'!CZ106","v":{"v":0,"d":"0.00"}},{"$f":"'Result Entry'!DA106","v":""},{"$f":"'Result Entry'!DB106","v":""},{"$f":"'Result Entry'!DC106","v":""},{"$f":"'Result Entry'!DD106","v":""}]
[null,0,{"$f":"'Result Entry'!D107","v":0},{"$f":"'Result Entry'!E107","v":0},{"$f":"'Result Entry'!F107","v":0},{"$f":"'Result Entry'!G107","v":0},{"$f":"'Result Entry'!H107","v":0},{"$f":"'Result Entry'!I107","v":0},{"$f":"'Result Entry'!J107","v":"00:00:00"},{"$f":"'Result Entry'!K107","v":0},{"$f":"'Result Entry'!L107","v":0},{"$f":"'Result Entry'!M107","v":0},{"$f":"'Result Entry'!N107","v":0},{"$f":"'Result Entry'!O107","v":0},{"$f":"'Result Entry'!P107","v":0},{"$f":"'Result Entry'!Q107","v":0},{"$f":"'Result Entry'!R107","v":0},{"$f":"'Result Entry'!S107","v":0},{"$f":"'Result Entry'!T107","v":0},{"$f":"'Result Entry'!U107","v":0},{"$f":"'Result Entry'!V107","v":0},{"$f":"'Result Entry'!W107","v":0},{"$f":"'Result Entry'!X107","v":""},{"$f":"'Result Entry'!Y107","v":0},{"$f":"'Result Entry'!Z107","v":0},{"$f":"'Result Entry'!AA107","v":0},{"$f":"'Result Entry'!AB107","v":0},{"$f":"'Result Entry'!AC107","v":0},{"$f":"'Result Entry'!AD107","v":0},{"$f":"'Result Entry'!AE107","v":0},{"$f":"'Result Entry'!AF107","v":0},{"$f":"'Result Entry'!AG107","v":0},{"$f":"'Result Entry'!AH107","v":0},{"$f":"'Result Entry'!AI107","v":0},{"$f":"'Result Entry'!AJ107","v":0},{"$f":"'Result Entry'!AK107","v":0},{"$f":"'Result Entry'!AL107","v":""},{"$f":"'Result Entry'!AM107","v":0},{"$f":"'Result Entry'!AN107","v":0},{"$f":"'Result Entry'!AO107","v":0},{"$f":"'Result Entry'!AP107","v":0},{"$f":"'Result Entry'!AQ107","v":0},{"$f":"'Result Entry'!AR107","v":0},{"$f":"'Result Entry'!AS107","v":0},{"$f":"'Result Entry'!AT107","v":0},{"$f":"'Result Entry'!AU107","v":0},{"$f":"'Result Entry'!AV107","v":0},{"$f":"'Result Entry'!AW107","v":0},{"$f":"'Result Entry'!AX107","v":0},{"$f":"'Result Entry'!AY107","v":0},{"$f":"'Result Entry'!AZ107","v":""},{"$f":"'Result Entry'!BA107","v":0},{"$f":"'Result Entry'!BB107","v":0},{"$f":"'Result Entry'!BC107","v":0},{"$f":"'Result Entry'!BD107","v":0},{"$f":"'Result Entry'!BE107","v":0},{"$f":"'Result Entry'!BF107","v":0},{"$f":"'Result Entry'!BG107","v":0},{"$f":"'Result Entry'!BH107","v":0},{"$f":"'Result Entry'!BI107","v":0},{"$f":"'Result Entry'!BJ107","v":0},{"$f":"'Result Entry'!BK107","v":0},{"$f":"'Result Entry'!BL107","v":0},{"$f":"'Result Entry'!BM107","v":""},{"$f":"'Result Entry'!BN107","v":""},{"$f":"'Result Entry'!BO107","v":0},{"$f":"'Result Entry'!BP107","v":0},{"$f":"'Result Entry'!BQ107","v":0},{"$f":"'Result Entry'!BR107","v":0},{"$f":"'Result Entry'!BS107","v":0},{"$f":"'Result Entry'!BT107","v":0},{"$f":"'Result Entry'!BU107","v":0},{"$f":"'Result Entry'!BV107","v":""},{"$f":"'Result Entry'!BW107","v":0},{"$f":"'Result Entry'!BX107","v":0},{"$f":"'Result Entry'!BY107","v":0},{"$f":"'Result Entry'!BZ107","v":0},{"$f":"'Result Entry'!CA107","v":0},{"$f":"'Result Entry'!CB107","v":0},{"$f":"'Result Entry'!CC107","v":0},{"$f":"'Result Entry'!CD107","v":""},{"$f":"'Result Entry'!CE107","v":0},{"$f":"'Result Entry'!CF107","v":0},{"$f":"'Result Entry'!CG107","v":0},{"$f":"'Result Entry'!CH107","v":0},{"$f":"'Result Entry'!CI107","v":0},{"$f":"'Result Entry'!CJ107","v":0},{"$f":"'Result Entry'!CK107","v":0},{"$f":"'Result Entry'!CL107","v":""},{"$f":"'Result Entry'!CM107","v":0},{"$f":"'Result Entry'!CN107","v":0},{"$f":"'Result Entry'!CO107","v":0},{"$f":"'Result Entry'!CP107","v":0},{"$f":"'Result Entry'!CQ107","v":0},{"$f":"'Result Entry'!CR107","v":0},{"$f":"'Result Entry'!CS107","v":0},{"$f":"'Result Entry'!CT107","v":""},{"$f":"'Result Entry'!CU107","v":0},{"$f":"'Result Entry'!CV107","v":0},{"$f":"'Result Entry'!CW107","v":""},{"$f":"'Result Entry'!CX107","v":500},{"$f":"'Result Entry'!CY107","v":0},{"$f":"'Result Entry'!CZ107","v":{"v":0,"d":"0.00"}},{"$f":"'Result Entry'!DA107","v":""},{"$f":"'Result Entry'!DB107","v":""},{"$f":"'Result Entry'!DC107","v":""},{"$f":"'Result Entry'!DD107","v":""}]
[null,0,{"$f":"'Result Entry'!D108","v":0},{"$f":"'Result Entry'!E108","v":0},{"$f":"'Result Entry'!F108","v":0},{"$f":"'Result Entry'!G108","v":0},{"$f":"'Result Entry'!H108","v":0},{"$f":"'Result Entry'!I108","v":0},{"$f":"'Result Entry'!J108","v":"00:00:00"},{"$f":"'Result Entry'!K108","v":0},{"$f":"'Result Entry'!L108","v":0},{"$f":"'Result Entry'!M108","v":0},{"$f":"'Result Entry'!N108","v":0},{"$f":"'Result Entry'!O108","v":0},{"$f":"'Result Entry'!P108","v":0},{"$f":"'Result Entry'!Q108","v":0},{"$f":"'Result Entry'!R108","v":0},{"$f":"'Result Entry'!S108","v":0},{"$f":"'Result Entry'!T108","v":0},{"$f":"'Result Entry'!U108","v":0},{"$f":"'Result Entry'!V108","v":0},{"$f":"'Result Entry'!W108","v":0},{"$f":"'Result Entry'!X108","v":""},{"$f":"'Result Entry'!Y108","v":0},{"$f":"'Result Entry'!Z108","v":0},{"$f":"'Result Entry'!AA108","v":0},{"$f":"'Result Entry'!AB108","v":0},{"$f":"'Result Entry'!AC108","v":0},{"$f":"'Result Entry'!AD108","v":0},{"$f":"'Result Entry'!AE108","v":0},{"$f":"'Result Entry'!AF108","v":0},{"$f":"'Result Entry'!AG108","v":0},{"$f":"'Result Entry'!AH108","v":0},{"$f":"'Result Entry'!AI108","v":0},{"$f":"'Result Entry'!AJ108","v":0},{"$f":"'Result Entry'!AK108","v":0},{"$f":"'Result Entry'!AL108","v":""},{"$f":"'Result Entry'!AM108","v":0},{"$f":"'Result Entry'!AN108","v":0},{"$f":"'Result Entry'!AO108","v":0},{"$f":"'Result Entry'!AP108","v":0},{"$f":"'Result Entry'!AQ108","v":0},{"$f":"'Result Entry'!AR108","v":0},{"$f":"'Result Entry'!AS108","v":0},{"$f":"'Result Entry'!AT108","v":0},{"$f":"'Result Entry'!AU108","v":0},{"$f":"'Result Entry'!AV108","v":0},{"$f":"'Result Entry'!AW108","v":0},{"$f":"'Result Entry'!AX108","v":0},{"$f":"'Result Entry'!AY108","v":0},{"$f":"'Result Entry'!AZ108","v":""},{"$f":"'Result Entry'!BA108","v":0},{"$f":"'Result Entry'!BB108","v":0},{"$f":"'Result Entry'!BC108","v":0},{"$f":"'Result Entry'!BD108","v":0},{"$f":"'Result Entry'!BE108","v":0},{"$f":"'Result Entry'!BF108","v":0},{"$f":"'Result Entry'!BG108","v":0},{"$f":"'Result Entry'!BH108","v":0},{"$f":"'Result Entry'!BI108","v":0},{"$f":"'Result Entry'!BJ108","v":0},{"$f":"'Result Entry'!BK108","v":0},{"$f":"'Result Entry'!BL108","v":0},{"$f":"'Result Entry'!BM108","v":""},{"$f":"'Result Entry'!BN108","v":""},{"$f":"'Result Entry'!BO108","v":0},{"$f":"'Result Entry'!BP108","v":0},{"$f":"'Result Entry'!BQ108","v":0},{"$f":"'Result Entry'!BR108","v":0},{"$f":"'Result Entry'!BS108","v":0},{"$f":"'Result Entry'!BT108","v":0},{"$f":"'Result Entry'!BU108","v":0},{"$f":"'Result Entry'!BV108","v":""},{"$f":"'Result Entry'!BW108","v":0},{"$f":"'Result Entry'!BX108","v":0},{"$f":"'Result Entry'!BY108","v":0},{"$f":"'Result Entry'!BZ108","v":0},{"$f":"'Result Entry'!CA108","v":0},{"$f":"'Result Entry'!CB108","v":0},{"$f":"'Result Entry'!CC108","v":0},{"$f":"'Result Entry'!CD108","v":""},{"$f":"'Result Entry'!CE108","v":0},{"$f":"'Result Entry'!CF108","v":0},{"$f":"'Result Entry'!CG108","v":0},{"$f":"'Result Entry'!CH108","v":0},{"$f":"'Result Entry'!CI108","v":0},{"$f":"'Result Entry'!CJ108","v":0},{"$f":"'Result Entry'!CK108","v":0},{"$f":"'Result Entry'!CL108","v":""},{"$f":"'Result Entry'!CM108","v":0},{"$f":"'Result Entry'!CN108","v":0},{"$f":"'Result Entry'!CO108","v":0},{"$f":"'Result Entry'!CP108","v":0},{"$f":"'Result Entry'!CQ108","v":0},{"$f":"'Result Entry'!CR108","v":0},{"$f":"'Result Entry'!CS108","v":0},{"$f":"'Result Entry'!CT108","v":""},{"$f":"'Result Entry'!CU108","v":0},{"$f":"'Result Entry'!CV108","v":0},{"$f":"'Result Entry'!CW108","v":""},{"$f":"'Result Entry'!CX108","v":500},{"$f":"'Result Entry'!CY108","v":0},{"$f":"'Result Entry'!CZ108","v":{"v":0,"d":"0.00"}},{"$f":"'Result Entry'!DA108","v":""},{"$f":"'Result Entry'!DB108","v":""},{"$f":"'Result Entry'!DC108","v":""},{"$f":"'Result Entry'!DD108","v":""}]
[null,"SUBJECT ↠",{"$nulls":7},{"$f":"J2","v":"Hindi"},{"$nulls":13},{"$f":"X2","v":"Mathematics"},{"$nulls":13},{"$f":"AL2","v":"English"},{"$nulls":13},{"$f":"AZ2","v":0},{"$nulls":13},"OVERALL RESULT"]
[null,"SUBJECT TEACHER ↠",{"$nulls":7},{"$f":"J3","v":0},{"$nulls":13},{"$f":"X3","v":0},{"$nulls":13},{"$f":"AL3","v":0},{"$nulls":13},{"$f":"AZ3","v":0},{"$nulls":13},"TOTAL ENROLLED",{"$nulls":7},"NSO",{"$nulls":4},"Total Entered",{"$nulls":5},"Overall Grd \"A\"",{"$nulls":3},"Overall Grd \"B\"",{"$nulls":10},"Overall Grd \"C\"",null,null,"Overall Grd \"D\"",null,"Overall Grd \"E\"",null,"Total"]
[null,"RESULT SUMMARY ↠",{"$nulls":7},"TOTAL ENROLLED",null,null,"NSO","TOTAL ENTERED",null,"A","B","C","D","E","TOTAL",null,null,"TOTAL ENROLLED",null,null,"NSO","TOTAL ENTERED",null,"A","B","C","D","E","TOTAL",null,null,"TOTAL ENROLLED",null,null,"NSO","TOTAL ENTERED",null,"A","B","C","D","E","TOTAL",null,null,"TOTAL ENROLLED",null,null,"NSO","TOTAL ENTERED",null,"A","B","C","D","E","TOTAL",null,null,{"$f":"MAX($B$7:$B$106)","v":2},{"$nulls":7},{"$f":"COUNTIF($E$7:$E$107,\"NSO\")","v":0},{"$nulls":4},{"$f":"BN109-BV109","v":2},{"$nulls":5},{"$f":"COUNTIF($CZ$8:$CZ$106,\"A\")","v":0},{"$nulls":3},{"$f":"COUNTIF($CZ$8:$CZ$106,\"B\")","v":0},{"$nulls":10},{"$f":"COUNTIF($CZ$8:$CZ$106,\"C\")","v":0},null,null,{"$f":"COUNTIF($CZ$8:$CZ$106,\"D\")","v":0},null,{"$f":"COUNTIF($CZ$8:$CZ$106,\"E\")","v":0},null,{"$f":"SUM(CG109:DB109)","v":0}]
[{"$nulls":9},{"$f":"IF(J$2=0,0,MAX($B$7:$B$107))","v":2},null,null,{"$f":"COUNTIF($E$7:$E$107,\"NSO\")","v":0},{"$f":"J110-M100","v":2},null,{"$f":"COUNTIF(W7:W106,\"A\")","v":0},{"$f":"COUNTIF(W7:W106,\"B\")","v":1},{"$f":"COUNTIF(W7:W106,\"C\")","v":0},{"$f":"COUNTIF(W7:W106,\"D\")","v":0},{"$f":"COUNTIF(W7:W106,\"E\")","v":0},{"$f":"P110+Q110+R110+S110+T110","v":1},null,null,{"$f":"IF(X$2=0,0,MAX($B$7:$B$107))","v":2},null,null,{"$f":"COUNTIF($E$7:$E$107,\"NSO\")","v":0},{"$f":"X110-AA100","v":2},null,{"$f":"COUNTIF(AK7:AK106,\"A\")","v":0},{"$f":"COUNTIF(AK7:AK106,\"B\")","v":0},{"$f":"COUNTIF(AK7:AK106,\"C\")","v":1},{"$f":"COUNTIF(AK7:AK106,\"D\")","v":0},{"$f":"COUNTIF(AK7:AK106,\"E\")","v":0},{"$f":"AD110+AE110+AF110+AG110+AH110","v":1},null,null,{"$f":"IF(AL$2=0,0,MAX($B$7:$B$107))","v":2},null,null,{"$f":"COUNTIF($E$7:$E$107,\"NSO\")","v":0},{"$f":"AL110-AO100","v":2},null,{"$f":"COUNTIF(AY7:AY106,\"A\")","v":0},{"$f":"COUNTIF(AY7:AY106,\"B\")","v":0},{"$f":"COUNTIF(AY7:AY106,\"C\")","v":1},{"$f":"COUNTIF(AY7:AY106,\"D\")","v":0},{"$f":"COUNTIF(AY7:AY106,\"E\")","v":0},{"$f":"AR110+AS110+AT110+AU110+AV110","v":1},null,null,{"$f":"IF(AZ$2=0,0,MAX($B$7:$B$107))","v":0},null,null,{"$f":"COUNTIF($E$7:$E$107,\"NSO\")","v":0},{"$f":"AZ110-BC100","v":0},null,{"$f":"COUNTIF(BM7:BM106,\"A\")","v":0},{"$f":"COUNTIF(BM7:BM106,\"B\")","v":0},{"$f":"COUNTIF(BM7:BM106,\"C\")","v":0},{"$f":"COUNTIF(BM7:BM106,\"D\")","v":0},{"$f":"COUNTIF(BM7:BM106,\"E\")","v":0},{"$f":"BF110+BG110+BH110+BI110+BJ110","v":0},null,null,"Signature Of Exam Incharge :-"]
[null,"SIGNATURE OF SUBJECT TEACHER ↠",{"$nulls":63},"Signature Of HM/Principal :-"]

{"sheet":"Statics","index":4,"n_rows":6,"n_cols":30,"rows_kept":6,"merged":[[0,0,0,29],[1,0,1,29],[2,0,2,10],[2,11,2,15],[2,16,2,29],[3,0,4,0],[3,1,4,1],[3,2,3,8],[3,9,3,15],[3,16,3,22],[3,23,3,29]]}
[{"$f":"CONCATENATE(Master!B8,Master!D8,Master!E8,Master!E11)","v":"SCHOOL'S FULL NAME:-Govt.Sr.Sec.Sch. P.S.-Bapini (Jodhpur)"}]
[{"$f":"CONCATENATE(,Master!B14,Master!D14,0,Master!E14)","v":"U-DISE CODE:-0810000000"}]
["Subject wise Result Summary ",{"$nulls":10},{"$f":"CONCATENATE('Result Entry'!B4,'Result Entry'!F4,'Result Entry'!I4)","v":"Class -2(A)"},{"$nulls":4},{"$f":"CONCATENATE(Master!B6,Master!D6,Master!E6)","v":"SESSION:-2022-23"}]
["Sr. No.","Class",{"$f":"'Result Sheet'!J107","v":"Hindi"},{"$nulls":6},{"$f":"'Result Sheet'!X107","v":"Mathematics"},{"$nulls":6},{"$f":"'Result Sheet'!AL107","v":"English"},{"$nulls":6},{"$f":"'Result Sheet'!AZ107","v":0}]
[null,null,"Total Entered","Grd-A","Grd-B","Grd-C","Grd-D","Grd-E","Total","Total Entered","Grd-A","Grd-B","Grd-C","Grd-D","Grd-E","Total","Total Entered","Grd-A","Grd-B","Grd-C","Grd-D","Grd-E","Total","Total Entered","Grd-A","Grd-B","Grd-C","Grd-D","Grd-E","Total"]
[1,{"$f":"L3","v":"Class -2(A)"},{"$f":"'Result Sheet'!N110","v":2},{"$f":"'Result Sheet'!P110","v":0},{"$f":"'Result Sheet'!Q110","v":1},{"$f":"'Result Sheet'!R110","v":0},{"$f":"'Result Sheet'!S110","v":0},{"$f":"'Result Sheet'!T110","v":0},{"$f":"SUM(D6:H6)","v":1},{"$f":"'Result Sheet'!AB110","v":2},{"$f":"'Result Sheet'!AD110","v":0},{"$f":"'Result Sheet'!AE110","v":0},{"$f":"'Result Sheet'!AF110","v":1},{"$f":"'Result Sheet'!AG110","v":0},{"$f":"'Result Sheet'!AH110","v":0},{"$f":"SUM(K6:O6)","v":1},{"$f":"'Result Sheet'!AP110","v":2},{"$f":"'Result Sheet'!AR110","v":0},{"$f":"'Result Sheet'!AS110","v":0},{"$f":"'Result Sheet'!AT110","v":1},{"$f":"'Result Sheet'!AU110","v":0},{"$f":"'Result Sheet'!AV110","v":0},{"$f":"SUM(Q6:V6)","v":3},{"$f":"'Result Sheet'!BD110","v":0},{"$f":"'Result Sheet'!BF110","v":0},{"$f":"'Result Sheet'!BG110","v":0},{"$f":"'Result Sheet'!BH110","v":0},{"$f":"'Result Sheet'!BI110","v":0},{"$f":"'Result Sheet'!BJ110","v":0},{"$f":"SUM(X6:AC6)","v":0}]

{"sheet":"Mark Sheet 1x1","index":5,"n_rows":3799,"n_cols":13,"rows_kept":3799,"merged":[[0,0,0,13],[1,1,1,12],[1,13,37,13],[2,1,3,1],[2,2,3,2],[2,3,2,12],[3,3,3,12],[4,1,6,1],[4,2,5,8],[4,9,4,10],[4,11,4,12],[5,9,6,10],[5,11,6,12],[6,2,6,7],[7,2,7,5],[7,7,7,12],[8,2,8,5],[8,7,8,12],[9,2,9,5],[9,7,9,12],[10,2,10,5],[10,7,10,12],[11,2,11,5],[11,7,11,12],[12,2,12,5],[12,7,12,12],[13,2,13,6],[13,10,13,11],[14,2,14,6],[14,10,14,11],[15,2,15,6],[15,10,15,11],[16,2,16,6],[16,10,16,11],[17,2,17,6],[17,10,17,11],[18,2,18,6],[18,10,18,11],[19,2,19,6],[19,10,19,11],[20,2,20,12],[21,2,22,4],[21,5,21,6],[21,7,21,8],[22,5,22,6],[22,7,22,8],[23,2,23,7],[23,8,23,9],[23,11,23,12],[24,2,24,7],[24,8,24,9],[24,11,24,12],[25,2,26,4],[25,5,26,6],[25,7,26,7],[25,8,25,9],[25,10,25,12],[26,8,26,9],[26,10,26,12],[27,2,27,4],[27,5,27,6],[27,8,28,12],[28,2,28,4],[28,5,28,6],[29,2,29,4],[29,5,29,6],[29,8,31,9],[29,10,31,12],[30,2,30,7],[31,3,31,4],[31,5,31,7],[32,3,32,4],[32,5,32,7],[32,8,35,12],[33,3,33,4],[33,5,33,7],[34,3,34,4],[34,5,34,7],[35,3,35,4],[35,5,35,7],[36,3,36,4],[36,5,36,7],[36,8,36,12],[37,0,37,12],[38,0,38,13],[39,1,39,12],[39,13,75,13],[40,1,41,1],[40,2,41,2],[40,3,40,12],[41,3,41,12],[42,1,44,1],[42,2,43,8],[42,9,42,10],[42,11,42,12],[43,9,44,10],[43,11,44,12],[44,2,44,7],[45,2,45,5],[45,7,45,12],[46,2,46,5],[46,7,46,12],[47,2,47,5],[47,7,47,12],[48,2,48,5],[48,7,48,12],[49,2,49,5],[49,7,49,12],[50,2,50,5],[50,7,50,12],[51,2,51,6],[51,10,51,11],[52,2,52,6],[52,10,52,11],[53,2,53,6],[53,10,53,11],[54,2,54,6],[54,10,54,11],[55,2,55,6],[55,10,55,11],[56,2,56,6],[56,10,56,11],[57,2,57,6],[57,10,57,11],[58,2,58,12],[59,2,60,4],[59,5,59,6],[59,7,59,8],[60,5,60,6],[60,7,60,8],[61,2,61,7],[61,8,61,9],[61,11,61,12],[62,2,62,7],[62,8,62,9],[62,11,62,12],[63,2,64,4],[63,5,64,6],[63,7,64,7],[63,8,63,9],[63,10,63,12],[64,8,64,9],[64,10,64,12],[65,2,65,4],[65,5,65,6],[65,8,66,12],[66,2,66,4],[66,5,66,6],[67,2,67,4],[67,5,67,6],[67,8,69,9],[67,10,69,12],[68,2,68,7],[69,3,69,4],[69,5,69,7],[70,3,70,4],[70,5,70,7],[70,8,73,12],[71,3,71,4],[71,5,71,7],[72,3,72,4],[72,5,72,7],[73,3,73,4],[73,5,73,7],[74,3,74,4],[74,5,74,7],[74,8,74,12],[75,0,75,12],[77,1,77,12],[77,13,113,13],[78,1,79,1],[78,2,79,2],[78,3,78,12],[79,3,79,12],[80,1,82,1],[80,2,81,8],[80,9,80,10],[80,11,80,12],[81,9,82,10],[81,11,82,12],[82,2,82,7],[83,2,83,5],[83,7,83,12],[84,2,84,5],[84,7,84,12],[85,2,85,5],[85,7,85,12],[86,2,86,5],[86,7,86,12],[87,2,87,5],[87,7,87,12],[88,2,88,5],[88,7,88,12],[89,2,89,6],[89,10,89,11],[90,2,90,6],[90,10,90,11],[91,2,91,6],[91,10,91,11],[92,2,92,6],[92,10,92,11],[93,2,93,6],[93,10,93,11],[94,2,94,6],[94,10,94,11],[95,2,95,6],[95,10,95,11],[96,2,96,12],[97,2,98,4],[97,5,97,6],[97,7,97,8],[98,5,98,6],[98,7,98,8],[99,2,99,7],[99,8,99,9],[99,11,99,12],[100,2,100,7],[100,8,100,9],[100,11,100,12],[101,8,101,9],[101,10,101,12],[102,8,102,9],[102,10,102,12],[103,2,103,4],[103,5,103,6],[103,8,104,12],[104,2,104,4],[104,5,104,6],[105,2,105,4],[105,5,105,6],[105,8,107,9],[105,10,107,12],[106,2,106,7],[107,3,107,4],[107,5,107,7],[108,3,108,4],[108,5,108,7],[108,8,111,12],[109,3,109,4],[109,5,109,7],[110,3,110,4],[110,5,110,7],[111,3,111,4],[111,5,111,7],[112,3,112,4],[112,5,112,7],[112,8,112,12],[113,0,113,12],[114,0,114,13],[115,1,115,12],[115,13,151,13],[116,1,117,1],[116,2,117,2],[116,3,116,12],[117,3,117,12],[118,1,120,1],[118,2,119,8],[118,9,118,10],[118,11,118,12],[119,9,120,10],[119,11,120,12],[120,2,120,7],[121,2,121,5],[121,7,121,12],[122,2,122,5],[122,7,122,12],[123,2,123,5],[123,7,123,12],[124,2,124,5],[124,7,124,12],[125,2,125,5],[125,7,125,12],[126,2,126,5],[126,7,126,12],[127,2,127,6],[127,10,127,11],[128,2,128,6],[128,10,128,11],[129,2,129,6],[129,10,129,11],[130,2,130,6],[130,10,130,11],[131,2,131,6],[131,10,131,11],[132,2,132,6],[132,10,132,11],[133,2,133,6],[133,10,133,11],[134,2,134,12],[135,2,136,4],[135,5,135,6],[135,7,135,8],[136,5,136,6],[136,7,136,8],[137,2,137,7],[137,8,137,9],[137,11,137,12],[138,2,138,7],[138,8,138,9],[138,11,138,12],[139,8,139,9],[139,10,139,12],[140,8,140,9],[140,10,140,12],[141,2,141,4],[141,5,141,6],[141,8,142,12],[142,2,142,4],[142,5,142,6],[143,2,143,4],[143,5,143,6],[143,8,145,9],[143,10,145,12],[144,2,144,7],[145,3,145,4],[145,5,145,7],[146,3,146,4],[146,5,146,7],[146,8,149,12],[147,3,147,4],[147,5,147,7],[148,3,148,4],[148,5,148,7],[149,3,149,4],[149,5,149,7],[150,3,150,4],[150,5,150,7],[150,8,150,12],[151,0,151,12],[153,1,153,12],[153,13,189,13],[154,1,155,1],[154,2,155,2],[154,3,154,12],[155,3,155,12],[156,1,158,1],[156,2,157,8],[156,9,156,10],[156,11,156,12],[157,9,158,10],[157,11,158,12],[158,2,158,7],[159,2,159,5],[159,7,159,12],[160,2,160,5],[160,7,160,12],[161,2,161,5],[161,7,161,12],[162,2,162,5],[162,7,162,12],[163,2,163,5],[163,7,163,12],[164,2,164,5],[164,7,164,12],[165,2,165,6],[165,10,165,11],[166,2,166,6],[166,10,166,11],[167,2,167,6],[167,10,167,11],[168,2,168,6],[168,10,168,11],[169,2,169,6],[169,10,169,11],[170,2,170,6],[170,10,170,11],[171,2,171,6],[171,10,171,11],[172,2,172,12],[173,2,174,4],[173,5,173,6],[173,7,173,8],[174,5,174,6],[174,7,174,8],[175,2,175,7],[175,8,175,9],[175,11,175,12],[176,2,176,7],[176,8,176,9],[176,11,176,12],[177,8,177,9],[177,10,177,12],[178,8,178,9],[178,10,178,12],[179,2,179,4],[179,5,179,6],[179,8,180,12],[180,2,180,4],[180,5,180,6],[181,2,181,4],[181,5,181,6],[181,8,183,9],[181,10,183,12],[182,2,182,7],[183,3,183,4],[183,5,183,7],[184,3,184,4],[184,5,184,7],[184,8,187,12],[185,3,185,4],[185,5,185,7],[186,3,186,4],[186,5,186,7],[187,3,187,4],[187,5,187,7],[188,3,188,4],[188,5,188,7],[188,8,188,12],[189,0,189,12],[190,0,190,13],[191,1,191,12],[191,13,227,13],[192,1,193,1],[192,2,193,2],[192,3,192,12],[193,3,193,12],[194,1,196,1],[194,2,195,8],[194,9,194,10],[194,11,194,12],[195,9,196,10],[195,11,196,12],[196,2,196,7],[197,2,197,5],[197,7,197,12],[198,2,198,5],[198,7,198,12],[199,2,199,5],[199,7,199,12],[200,2,200,5],[200,7,200,12],[201,2,201,5],[201,7,201,12],[202,2,202,5],[202,7,202,12],[203,2,203,6],[203,10,203,11],[204,2,204,6],[204,10,204,11],[205,2,205,6],[205,10,205,11],[206,2,206,6],[206,10,206,11],[207,2,207,6],[207,10,207,11],[208,2,208,6],[208,10,208,11],[209,2,209,6],[209,10,209,11],[210,2,210,12],[211,2,212,4],[211,5,211,6],[211,7,211,8],[212,5,212,6],[212,7,212,8],[213,2,213,7],[213,8,213,9],[213,11,213,12],[214,2,214,7],[214,8,214,9],[214,11,214,12],[215,8,215,9],[215,10,215,12],[216,8,216,9],[216,10,216,12],[217,2,217,4],[217,5,217,6],[217,8,218,12],[218,2,218,4],[218,5,218,6],[219,2,219,4],[219,5,219,6],[219,8,221,9],[219,10,221,12],[220,2,220,7],[221,3,221,4],[221,5,221,7],[222,3,222,4],[222,5,222,7],[222,8,225,12],[223,3,223,4],[223,5,223,7],[224,3,224,4],[224,5,224,7],[225,3,225,4],[225,5,225,7],[226,3,226,4],[226,5,226,7],[226,8,226,12],[227,0,227,12],[228,0,228,13],[229,1,229,12],[229,13,265,13],[230,1,231,1],[230,2,231,2],[230,3,230,12],[231,3,231,12],[232,1,234,1],[232,2,233,8],[232,9,232,10],[232,11,232,12],[233,9,234,10],[233,11,234,12],[234,2,234,7],[235,2,235,5],[235,7,235,12],[236,2,236,5],[236,7,236,12],[237,2,237,5],[237,7,237,12],[238,2,238,5],[240,2,240,5],[240,7,240,12],[241,2,241,6],[241,10,241,11],[242,2,242,6],[242,10,242,11],[243,2,243,6],[243,10,243,11],[244,2,244,6],[244,10,244,11],[245,2,245,6],[245,10,245,11],[247,2,247,6],[247,10,247,11],[248,2,248,12],[249,2,250,4],[249,5,249,6],[249,7,249,8],[250,5,250,6],[250,7,250,8],[255,2,255,4],[255,5,255,6],[255,8,256,12],[256,2,256,4],[256,5,256,6],[257,2,257,4],[257,5,257,6],[257,8,259,9],[257,10,259,12],[258,2,258,7],[259,3,259,4],[259,5,259,7],[260,3,260,4],[260,5,260,7],[260,8,263,12],[261,3,261,4],[261,5,261,7],[262,3,262,4],[262,5,262,7],[263,3,263,4],[263,5,263,7],[264,3,264,4],[264,5,264,7],[264,8,264,12],[265,0,265,12],[267,1,267,12],[267,13,303,13],[268,1,269,1],[268,2,269,2],[268,3,268,12],[269,3,269,12],[270,1,272,1],[270,2,271,8],[270,9,270,10],[270,11,270,12],[271,9,272,10],[271,11,272,12],[272,2,272,7],[273,2,273,5],[273,7,273,12],[274,2,274,5],[274,7,274,12],[275,2,275,5],[275,7,275,12],[276,2,276,5],[276,7,276,12],[277,2,277,5],[277,7,277,12],[278,2,278,5],[278,7,278,12],[279,2,279,6],[279,10,279,11],[280,2,280,6],[280,10,280,11],[281,2,281,6],[281,10,281,11],[282,2,282,6],[282,10,282,11],[283,2,283,6],[283,10,283,11],[284,2,284,6],[284,10,284,11],[285,2,285,6],[285,10,285,11],[286,2,286,12],[287,2,288,4],[287,5,287,6],[287,7,287,8],[288,5,288,6],[288,7,288,8],[289,2,289,7],[289,8,289,9],[289,11,289,12],[290,2,290,7],[290,8,290,9],[290,11,290,12],[291,8,291,9],[291,10,291,12],[292,8,292,9],[292,10,292,12],[293,2,293,4],[293,5,293,6],[293,8,294,12],[294,2,294,4],[294,5,294,6],[295,2,295,4],[295,5,295,6],[295,8,297,9],[295,10,297,12],[296,2,296,7],[297,3,297,4],[297,5,297,7],[298,3,298,4],[298,5,298,7],[298,8,301,12],[299,3,299,4],[299,5,299,7],[300,3,300,4],[300,5,300,7],[301,3,301,4],[301,5,301,7],[302,3,302,4],[302,5,302,7],[302,8,302,12],[303,0,303,12],[304,0,304,13],[305,1,305,12],[305,13,341,13],[306,1,307,1],[306,2,307,2],[306,3,306,12],[307,3,307,12],[308,1,310,1],[308,2,309,8],[308,9,308,10],[308,11,308,12],[309,9,310,10],[309,11,310,12],[310,2,310,7],[311,2,311,5],[311,7,311,12],[312,2,312,5],[312,7,312,12],[313,2,313,5],[313,7,313,12],[314,2,314,5],[314,7,314,12],[315,2,315,5],[315,7,315,12],[316,2,316,5],[316,7,316,12],[317,2,317,6],[317,10,317,11],[318,2,318,6],[318,10,318,11],[319,2,319,6],[319,10,319,11],[320,2,320,6],[320,10,320,11],[321,2,321,6],[321,10,321,11],[322,2,322,6],[322,10,322,11],[323,2,323,6],[323,10,323,11],[324,2,324,12],[325,2,326,4],[325,5,325,6],[325,7,325,8],[326,5,326,6],[326,7,326,8],[327,2,327,7],[327,8,327,9],[327,11,327,12],[328,2,328,7],[328,8,328,9],[328,11,328,12],[329,8,329,9],[329,10,329,12],[330,8,330,9],[330,10,330,12],[331,2,331,4],[331,5,331,6],[331,8,332,12],[332,2,332,4],[332,5,332,6],[333,2,333,4],[333,5,333,6],[333,8,335,9],[333,10,335,12],[334,2,334,7],[335,3,335,4],[335,5,335,7],[336,3,336,4],[336,5,336,7],[336,8,339,12],[337,3,337,4],[337,5,337,7],[338,3,338,4],[338,5,338,7],[339,3,339,4],[339,5,339,7],[340,3,340,4],[340,5,340,7],[340,8,340,12],[341,0,341,12],[342,0,342,13],[343,1,343,12],[343,13,379,13],[344,1,345,1],[344,2,345,2],[344,3,344,12],[345,3,345,12],[346,1,348,1],[346,2,347,8],[346,9,346,10],[346,11,346,12],[347,9,348,10],[347,11,348,12],[348,2,348,7],[349,2,349,5],[349,7,349,12],[350,2,350,5],[350,7,350,12],[351,2,351,5],[351,7,351,12],[352,2,352,5],[352,7,352,12],[353,2,353,5],[353,7,353,12],[354,2,354,5],[354,7,354,12],[355,2,355,6],[355,10,355,11],[356,2,356,6],[356,10,356,11],[357,2,357,6],[357,10,357,11],[358,2,358,6],[358,10,358,11],[359,2,359,6],[359,10,359,11],[360,2,360,6],[360,10,360,11],[361,2,361,6],[361,10,361,11],[362,2,362,12],[363,2,364,4],[363,5,363,6],[363,7,363,8],[364,5,364,6],[364,7,364,8],[365,2,365,7],[365,8,365,9],[365,11,365,12],[366,2,366,7],[366,8,366,9],[366,11,366,12],[367,8,367,9],[367,10,367,12],[368,8,368,9],[368,10,368,12],[369,2,369,4],[369,5,369,6],[369,8,370,12],[370,2,370,4],[370,5,370,6],[371,2,371,4],[371,5,371,6],[371,8,373,9],[371,10,373,12],[372,2,372,7],[373,3,373,4],[373,5,373,7],[374,3,374,4],[374,5,374,7],[374,8,377,12],[375,3,375,4],[375,5,375,7],[376,3,376,4],[376,5,376,7],[377,3,377,4],[377,5,377,7],[378,3,378,4],[378,5,378,7],[378,8,378,12],[379,0,379,12],[380,0,380,13],[381,1,381,12],[381,13,417,13],[382,1,383,1],[382,2,383,2],[382,3,382,12],[383,3,383,12],[384,1,386,1],[384,2,385,8],[384,9,384,10],[384,11,384,12],[385,9,386,10],[385,11,386,12],[386,2,386,7],[387,2,387,5],[387,7,387,12],[388,2,388,5],[388,7,388,12],[389,2,389,5],[389,7,389,12],[390,2,390,5],[390,7,390,12],[391,2,391,5],[391,7,391,12],[392,2,392,5],[392,7,392,12],[393,2,393,6],[393,10,393,11],[394,2,394,6],[394,10,394,11],[395,2,395,6],[395,10,395,11],[396,2,396,6],[396,10,396,11],[397,2,397,6],[397,10,397,11],[398,2,398,6],[398,10,398,11],[399,2,399,6],[399,10,399,11],[400,2,400,12],[401,2,402,4],[401,5,401,6],[401,7,401,8],[402,5,402,6],[402,7,402,8],[403,2,403,7],[403,8,403,9],[403,11,403,12],[404,2,404,7],[404,8,404,9],[404,11,404,12],[405,8,405,9],[405,10,405,12],[406,8,406,9],[406,10,406,12],[407,2,407,4],[407,5,407,6],[407,8,408,12],[408,2,408,4],[408,5,408,6],[409,2,409,4],[409,5,409,6],[409,8,411,9],[409,10,411,12],[410,2,410,7],[411,3,411,4],[411,5,411,7],[412,3,412,4],[412,5,412,7],[412,8,415,12],[413,3,413,4],[413,5,413,7],[414,3,414,4],[414,5,414,7],[415,3,415,4],[415,5,415,7],[416,3,416,4],[416,5,416,7],[416,8,416,12],[417,0,417,12],[418,0,418,13],[419,1,419,12],[419,13,455,13],[420,1,421,1],[420,2,421,2],[420,3,420,12],[421,3,421,12],[422,1,424,1],[422,2,423,8],[422,9,422,10],[422,11,422,12],[423,9,424,10],[423,11,424,12],[424,2,424,7],[425,2,425,5],[425,7,425,12],[426,2,426,5],[426,7,426,12],[427,2,427,5],[427,7,427,12],[428,2,428,5],[428,7,428,12],[429,2,429,5],[429,7,429,12],[430,2,430,5],[430,7,430,12],[431,2,431,6],[431,10,431,11],[432,2,432,6],[432,10,432,11],[433,2,433,6],[433,10,433,11],[434,2,434,6],[434,10,434,11],[435,2,435,6],[435,10,435,11],[436,2,436,6],[436,10,436,11],[437,2,437,6],[437,10,437,11],[438,2,438,12],[439,2,440,4],[439,5,439,6],[439,7,439,8],[440,5,440,6],[440,7,440,8],[441,2,441,7],[441,8,441,9],[441,11,441,12],[442,2,442,7],[442,8,442,9],[442,11,442,12],[443,8,443,9],[443,10,443,12],[444,8,444,9],[444,10,444,12],[445,2,445,4],[445,5,445,6],[445,8,446,12],[446,2,446,4],[446,5,446,6],[447,2,447,4],[447,5,447,6],[447,8,449,9],[447,10,449,12],[448,2,448,7],[449,3,449,4],[449,5,449,7],[450,3,450,4],[450,5,450,7],[450,8,453,12],[451,3,451,4],[451,5,451,7],[452,3,452,4],[452,5,452,7],[453,3,453,4],[453,5,453,7],[454,3,454,4],[454,5,454,7],[454,8,454,12],[455,0,455,12],[456,0,456,13],[457,1,457,12],[457,13,493,13],[458,1,459,1],[458,2,459,2],[458,3,458,12],[459,3,459,12],[460,1,462,1],[460,2,461,8],[460,9,460,10],[460,11,460,12],[461,9,462,10],[461,11,462,12],[462,2,462,7],[463,2,463,5],[465,2,465,5],[465,7,465,12],[466,2,466,5],[468,2,468,5],[468,7,468,12],[469,2,469,6],[469,10,469,11],[470,2,470,6],[470,10,470,11],[471,2,471,6],[471,10,471,11],[472,2,472,6],[472,10,472,11],[473,2,473,6],[473,10,473,11],[474,2,474,6],[474,10,474,11],[475,2,475,6],[475,10,475,11],[476,2,476,12],[477,2,478,4],[477,5,477,6],[477,7,477,8],[478,5,478,6],[478,7,478,8]],"merged_total":8400,"flags":["merged_cut"]}
[]
[1,"Department Of Education, Rajasthan"]
[null,{"$f":"IF(I7>0,CONCATENATE(C7,I7),0)","v":"Roll No.:-301"},null,{"$f":"Master!$E$8","v":"Govt.Sr.Sec.Sch. "}]
[{"$nulls":3},{"$f":"Master!$E$11","v":"P.S.-Bapini (Jodhpur)"}]
[null,null,"Report Card",{"$nulls":6},"U-DISE Code:-",null,{"$f":"Master!$E$14","v":{"v":810000000,"d":"0810000000"}}]
[{"$nulls":9},"Session:-",null,{"$f":"Master!$E$6","v":"2022-23"}]
[null,null,"Roll No.:-",{"$nulls":5},{"$f":"VLOOKUP($A2,'Result Entry'!$B$9:$F$108,5,0)","v":301}]
[null,"◐","Scholar Number",{"$nulls":3},"↠",{"$f":"VLOOKUP($A2,'Result Entry'!$B$9:$DX$108,3,0)","v":1}]
[null,"◐","Student's Name",{"$nulls":3},"↠",{"$f":"VLOOKUP($A2,'Result Entry'!$B$9:$DX$108,6,0)","v":"a"}]
[null,"◐","Father's Name",{"$nulls":3},"↠",{"$f":"VLOOKUP($A2,'Result Entry'!$B$9:$DX$108,7,0)","v":"b"}]
[null,"◐","Mother's Name ",{"$nulls":3},"↠",{"$f":"VLOOKUP($A2,'Result Entry'!$B$9:$DX$108,8,0)","v":"c"}]
[null,"◐","Class & Section",{"$nulls":3},"↠",{"$f":"CONCATENATE('Result Entry'!$F$4,'Result Entry'!$I$4)","v":"2(A)"}]
[null,"◐","Date Of Birth",{"$nulls":3},"↠",{"$f":"VLOOKUP($A2,'Result Entry'!$B$9:$DX$108,9,0)","v":"2200-05-04"}]
[null,"◐","Subject",{"$nulls":4},"Half Yearly","Total (T+H.Y.)","Yearly","Grand Total",null,"Subject Grade"]
[null,"◐","Max. Marks",{"$nulls":4},{"$f":"'Result Entry'!$Q$7","v":100},{"$f":"G15+H15","v":100},{"$f":"'Result Entry'!$U$7","v":100},{"$f":"I15+J15","v":200},null,"A/B/C/D/E"]
[null,"◐",{"$f":"'Result Entry'!$K$3","v":"Hindi"},{"$nulls":4},{"$f":"IF(OR(C16=\"\",$I7=\"NSO\"),\"\",VLOOKUP($A2,'Result Entry'!$B$9:$DX$108,16,0))","v":94},{"$f":"SUM(G16,H16)","v":94},{"$f":"IF(OR(C16=\"\",$I7=\"NSO\"),\"\",VLOOKUP($A2,'Result Entry'!$B$9:$DX$108,20,0))","v":70},{"$f":"SUM(I16,J16)","v":164},null,{"$f":"IF(OR(C16=\"\",$I7=\"NSO\"),\"\",VLOOKUP($A2,'Result Entry'!$B$9:$DX$108,23,0))","v":"B"}]
[null,"◐",{"$f":"'Result Entry'!$Y$3","v":"Mathematics"},{"$nulls":4},{"$f":"IF(OR(C17=\"\",$I7=\"NSO\"),\"\",VLOOKUP($A2,'Result Entry'!$B$9:$DX$108,30,0))","v":70},{"$f":"SUM(G17,H17)","v":70},{"$f":"IF(OR(C17=\"\",$I7=\"NSO\"),\"\",VLOOKUP($A2,'Result Entry'!$B$9:$DX$108,34,0))","v":60},{"$f":"SUM(I17,J17)","v":130},null,{"$f":"IF(OR(C17=\"\",$I7=\"NSO\"),\"\",VLOOKUP($A2,'Result Entry'!$B$9:$DX$108,37,0))","v":"C"}]
[null,"◐",{"$f":"'Result Entry'!$BO$3","v":"Env. Study"},{"$nulls":4},{"$f":"IF(OR(C18=\"\",$I7=\"NSO\"),\"\",VLOOKUP($A2,'Result Entry'!$B$9:$DX$108,66,0))","v":20},{"$f":"SUM(G18,H18)","v":20},{"$f":"IF(OR(C18=\"\",$I7=\"NSO\"),\"\",VLOOKUP($A2,'Result Entry'!$B$9:$DX$108,67,0))","v":40},{"$f":"SUM(I18,J18)","v":60},null,{"$f":"IF(OR(C18=\"\",$I7=\"NSO\"),\"\",VLOOKUP($A2,'Result Entry'!$B$9:$DX$108,73,0))","v":"C"}]
[null,"◐","Max. Marks",{"$nulls":4},{"$f":"'Result Entry'!$AS$7","v":50},50,{"$f":"'Result Entry'!$AW$7","v":50},100,null,"A/B/C/D/E"]
[null,"◐",{"$f":"'Result Entry'!$AM$3","v":"English"},{"$nulls":4},{"$f":"IF(OR(C20=\"\",$I7=\"NSO\"),\"\",VLOOKUP($A2,'Result Entry'!$B$9:$DX$108,44,0))","v":30},30,{"$f":"IF(OR(C20=\"\",$I7=\"NSO\"),\"\",VLOOKUP($A2,'Result Entry'!$B$9:$DX$108,48,0))","v":40},70,null,{"$f":"IF(OR(C20=\"\",$I7=\"NSO\"),\"\",VLOOKUP($A2,'Result Entry'!$B$9:$DX$108,51,0))","v":"C"}]
[null,"◐"]
[null,"◐","Overall Result",null,null,"Total Max. Marks",null,"Total Obtained Marks",null,"Percentage","Overall Grade","Result","Position in Class"]
[null,"◐",{"$nulls":3},{"$f":"IF(OR($I7=\"\",$I7=\"NSO\"),\"\",VLOOKUP($A2,'Result Entry'!$B$9:$DX$108,101,0))","v":500},null,{"$f":"IF(OR($I7=\"\",$I7=\"NSO\"),\"\",VLOOKUP($A2,'Result Entry'!$B$9:$DX$108,102,0))","v":364},null,{"$f":"IF(OR($I7=\"\",$I7=\"NSO\"),\"\",VLOOKUP($A2,'Result Entry'!$B$9:$DX$108,103,0))","v":{"v":72.8,"d":"72.80"}},{"$f":"IF(OR($I7=\"\",$I7=\"NSO\"),\"\",VLOOKUP($A2,'Result Entry'!$B$9:$DX$108,104,0))","v":"B"},{"$f":"IF(OR($I7=\"\",$I7=\"NSO\"),\"\",VLOOKUP($A2,'Result Entry'!$B$9:$DX$108,105,0))","v":"Passed"},{"$f":"IF(OR($I7=\"\",$I7=\"NSO\"),\"\",VLOOKUP($A2,'Result Entry'!$B$9:$DX$108,107,0))","v":0.999999999999998}]
[null,"◐",{"$nulls":6},"Total Meetings :-",null,{"$f":"IF(OR($I7=\"\",$I7=\"NSO\"),\"\",VLOOKUP($A2,'Result Entry'!$B$9:$DX$108,98,0))","v":0},"Attedance %"]
[null,"◐","Extra Subjects",{"$nulls":5},"Student's Meetings :-",null,{"$f":"IF(OR($I7=\"\",$I7=\"NSO\"),\"\",VLOOKUP($A2,'Result Entry'!$B$9:$DX$108,99,0))","v":0},{"$f":"IF(OR($I7=\"\",$I7=\"NSO\"),\"\",VLOOKUP($A2,'Result Entry'!$B$9:$DX$108,100,0))","v":""}]
[null,"◐","Subject",null,null,"Total Marks",null,"GRADE","Remark :-",null,{"$f":"IF(OR($I7=\"\",$I7=\"NSO\"),\"\",VLOOKUP($A2,'Result Entry'!$B$9:$DX$108,108,0))","v":"Very Good"}]
[null,"◐",{"$nulls":6},"Result Date :-",null,{"$f":"'Result Entry'!$T$2","v":"2023-05-24"}]
[null,"◐",{"$f":"'Result Entry'!$BW$3","v":"WORK EXP."},null,null,{"$f":"IF(OR(C28=\"\",$I7=\"NSO\"),\"\",VLOOKUP($A2,'Result Entry'!$B$9:$DX$108,119,0))","v":"40/50"},null,{"$f":"IF(OR(C28=\"\",$I7=\"NSO\"),\"\",VLOOKUP($A2,'Result Entry'!$B$9:$DX$108,81,0))","v":"B"}]
[null,null,{"$f":"'Result Entry'!$CE$3","v":"ART EDU."},null,null,{"$f":"IF(OR(C29=\"\",$I7=\"NSO\"),\"\",VLOOKUP($A2,'Result Entry'!$B$9:$DX$108,123,0))","v":"40/50"},null,{"$f":"IF(OR(C29=\"\",$I7=\"NSO\"),\"\",VLOOKUP($A2,'Result Entry'!$B$9:$DX$108,89,0))","v":"B"}]
[null,"◐",{"$f":"'Result Entry'!$CM$3","v":"H&P. EDU."},null,null,{"$f":"IF(OR(C30=\"\",$I7=\"NSO\"),\"\",VLOOKUP($A2,'Result Entry'!$B$9:$DX$108,127,0))","v":"40/100"},null,{"$f":"IF(OR(C30=\"\",$I7=\"NSO\"),\"\",VLOOKUP($A2,'Result Entry'!$B$9:$DX$108,97,0))","v":"D"},"Signature Of The Class Teacher"]
[null,"◐","Grading System"]
[null,"◐","Grd.","% Range",null,"Description"]
[null,"◐","A","86-100",null,"Excellent",null,null,"Signature And Seal Of Principal/H.M."]
[null,"◐","B","71-85",null,"Very Good"]
[null,"◐","C","51-70",null,"Good"]
[null,"◐","D","31-50",null,"Average"]
[null,"◐","E","0-30",null,"Needs Improvement",null,null,"Wish bright future"]
[]
[]
[{"$f":"A2+1","v":2},"Department Of Education, Rajasthan"]
[null,{"$f":"IF(I45>0,CONCATENATE(C45,I45),0)","v":"Roll No.:-302"},null,{"$f":"Master!$E$8","v":"Govt.Sr.Sec.Sch. "}]
[{"$nulls":3},{"$f":"Master!$E$11","v":"P.S.-Bapini (Jodhpur)"}]
[null,null,"Report Card",{"$nulls":6},"U-DISE Code:-",null,{"$f":"Master!$E$14","v":{"v":810000000,"d":"0810000000"}}]
[{"$nulls":9},"Session:-",null,{"$f":"Master!$E$6","v":"2022-23"}]
[null,null,"Roll No.:-",{"$nulls":5},{"$f":"VLOOKUP($A40,'Result Entry'!$B$9:$F$108,5,0)","v":302}]
[null,"◐","Scholar Number",{"$nulls":3},"↠",{"$f":"VLOOKUP($A40,'Result Entry'!$B$9:$DX$108,3,0)","v":2}]
[null,"◐","Student's Name",{"$nulls":3},"↠",{"$f":"VLOOKUP($A40,'Result Entry'!$B$9:$DX$108,6,0)","v":"f"}]
[null,"◐","Father's Name",{"$nulls":3},"↠",{"$f":"VLOOKUP($A40,'Result Entry'!$B$9:$DX$108,7,0)","v":"Father's Name"}]
[null,"◐","Mother's Name ",{"$nulls":3},"↠",{"$f":"VLOOKUP($A40,'Result Entry'!$B$9:$DX$108,8,0)","v":"f"}]
[null,"◐","Class & Section",{"$nulls":3},"↠",{"$f":"CONCATENATE('Result Entry'!$F$4,'Result Entry'!$I$4)","v":"2(A)"}]
[null,"◐","Date Of Birth",{"$nulls":3},"↠",{"$f":"VLOOKUP($A40,'Result Entry'!$B$9:$DX$108,9,0)","v":"1998-08-05"}]
[null,"◐","Subject",{"$nulls":4},"Half Yearly","Total (T+H.Y.)","Yearly","Grand Total",null,"Subject Grade"]
[null,"◐","Max. Marks",{"$nulls":4},{"$f":"'Result Entry'!$Q$7","v":100},{"$f":"G53+H53","v":100},{"$f":"'Result Entry'!$U$7","v":100},{"$f":"I53+J53","v":200},null,"A/B/C/D/E"]
[null,"◐",{"$f":"'Result Entry'!$K$3","v":"Hindi"},{"$nulls":4},{"$f":"IF(OR(C54=\"\",$I45=\"NSO\"),\"\",VLOOKUP($A40,'Result Entry'!$B$9:$DX$108,16,0))","v":0},{"$f":"SUM(G54,H54)","v":0},{"$f":"IF(OR(C54=\"\",$I45=\"NSO\"),\"\",VLOOKUP($A40,'Result Entry'!$B$9:$DX$108,20,0))","v":0},{"$f":"SUM(I54,J54)","v":0},null,{"$f":"IF(OR(C54=\"\",$I45=\"NSO\"),\"\",VLOOKUP($A40,'Result Entry'!$B$9:$DX$108,23,0))","v":0}]
[null,"◐",{"$f":"'Result Entry'!$Y$3","v":"Mathematics"},{"$nulls":4},{"$f":"IF(OR(C55=\"\",$I45=\"NSO\"),\"\",VLOOKUP($A40,'Result Entry'!$B$9:$DX$108,30,0))","v":0},{"$f":"SUM(G55,H55)","v":0},{"$f":"IF(OR(C55=\"\",$I45=\"NSO\"),\"\",VLOOKUP($A40,'Result Entry'!$B$9:$DX$108,34,0))","v":0},{"$f":"SUM(I55,J55)","v":0},null,{"$f":"IF(OR(C55=\"\",$I45=\"NSO\"),\"\",VLOOKUP($A40,'Result Entry'!$B$9:$DX$108,37,0))","v":0}]
[null,"◐",{"$f":"'Result Entry'!$BO$3","v":"Env. Study"},{"$nulls":4},{"$f":"IF(OR(C56=\"\",$I45=\"NSO\"),\"\",VLOOKUP($A40,'Result Entry'!$B$9:$DX$108,66,0))","v":0},0,{"$f":"IF(OR(C56=\"\",$I45=\"NSO\"),\"\",VLOOKUP($A40,'Result Entry'!$B$9:$DX$108,67,0))","v":0},0,null,{"$f":"IF(OR(C56=\"\",$I45=\"NSO\"),\"\",VLOOKUP($A40,'Result Entry'!$B$9:$DX$108,73,0))","v":0}]
[null,"◐","Max. Marks",{"$nulls":4},{"$f":"'Result Entry'!$AS$7","v":50},50,{"$f":"'Result Entry'!$AW$7","v":50},100,null,"A/B/C/D/E"]
[null,"◐",{"$f":"'Result Entry'!$AM$3","v":"English"},{"$nulls":4},{"$f":"IF(OR(C58=\"\",$I45=\"NSO\"),\"\",VLOOKUP($A40,'Result Entry'!$B$9:$DX$108,44,0))","v":0},0,{"$f":"IF(OR(C58=\"\",$I45=\"NSO\"),\"\",VLOOKUP($A40,'Result Entry'!$B$9:$DX$108,48,0))","v":0},0,null,{"$f":"IF(OR(C58=\"\",$I45=\"NSO\"),\"\",VLOOKUP($A40,'Result Entry'!$B$9:$DX$108,51,0))","v":0}]
[null,"◐"]
[null,"◐","Overall Result",null,null,"Total Max. Marks",null,"Total Obtained Marks",null,"Percentage","Overall Grade","Result","Position in Class"]
[null,"◐",{"$nulls":3},{"$f":"IF(OR($I45=\"\",$I45=\"NSO\"),\"\",VLOOKUP($A40,'Result Entry'!$B$9:$DX$108,101,0))","v":500},null,{"$f":"IF(OR($I45=\"\",$I45=\"NSO\"),\"\",VLOOKUP($A40,'Result Entry'!$B$9:$DX$108,102,0))","v":0},null,{"$f":"IF(OR($I45=\"\",$I45=\"NSO\"),\"\",VLOOKUP($A40,'Result Entry'!$B$9:$DX$108,103,0))","v":{"v":0,"d":"0.00"}},{"$f":"IF(OR($I45=\"\",$I45=\"NSO\"),\"\",VLOOKUP($A40,'Result Entry'!$B$9:$DX$108,104,0))","v":0},{"$f":"IF(OR($I45=\"\",$I45=\"NSO\"),\"\",VLOOKUP($A40,'Result Entry'!$B$9:$DX$108,105,0))","v":"Promoted"},{"$f":"IF(OR($I45=\"\",$I45=\"NSO\"),\"\",VLOOKUP($A40,'Result Entry'!$B$9:$DX$108,107,0))","v":""}]
[null,"◐",{"$nulls":6},"Total Meetings :-",null,{"$f":"IF(OR($I45=\"\",$I45=\"NSO\"),\"\",VLOOKUP($A40,'Result Entry'!$B$9:$DX$108,98,0))","v":0},"Attedance %"]
[null,"◐","Extra Subjects",{"$nulls":5},"Student's Meetings :-",null,{"$f":"IF(OR($I45=\"\",$I45=\"NSO\"),\"\",VLOOKUP($A40,'Result Entry'!$B$9:$DX$108,99,0))","v":0},{"$f":"IF(OR($I45=\"\",$I45=\"NSO\"),\"\",VLOOKUP($A40,'Result Entry'!$B$9:$DX$108,100,0))","v":""}]
[null,"◐","Subject",null,null,"Total Marks",null,"GRADE","Remark :-",null,{"$f":"IF(OR($I45=\"\",$I45=\"NSO\"),\"\",VLOOKUP($A40,'Result Entry'!$B$9:$DX$108,108,0))","v":0}]
[null,"◐",{"$nulls":6},"Result Date :-",null,{"$f":"'Result Entry'!$T$2","v":"2023-05-24"}]
[null,"◐",{"$f":"'Result Entry'!$BW$3","v":"WORK EXP."},null,null,{"$f":"IF(OR(C66=\"\",$I45=\"NSO\"),\"\",VLOOKUP($A40,'Result Entry'!$B$9:$DX$108,119,0))","v":"0/50"},null,{"$f":"IF(OR(C66=\"\",$I45=\"NSO\"),\"\",VLOOKUP($A40,'Result Entry'!$B$9:$DX$108,81,0))","v":0}]
[null,null,{"$f":"'Result Entry'!$CE$3","v":"ART EDU."},null,null,{"$f":"IF(OR(C67=\"\",$I45=\"NSO\"),\"\",VLOOKUP($A40,'Result Entry'!$B$9:$DX$108,123,0))","v":"0/50"},null,{"$f":"IF(OR(C67=\"\",$I45=\"NSO\"),\"\",VLOOKUP($A40,'Result Entry'!$B$9:$DX$108,89,0))","v":0}]
[null,"◐",{"$f":"'Result Entry'!$CM$3","v":"H&P. EDU."},null,null,{"$f":"IF(OR(C68=\"\",$I45=\"NSO\"),\"\",VLOOKUP($A40,'Result Entry'!$B$9:$DX$108,127,0))","v":"0/100"},null,{"$f":"IF(OR(C68=\"\",$I45=\"NSO\"),\"\",VLOOKUP($A40,'Result Entry'!$B$9:$DX$108,97,0))","v":0},"Signature Of The Class Teacher"]
[null,"◐","Grading System"]
[null,"◐","Grd.","% Range",null,"Description"]
[null,"◐","A","86-100",null,"Excellent",null,null,"Signature And Seal Of Principal/H.M."]
[null,"◐","B","71-85",null,"Very Good"]
[null,"◐","C","51-70",null,"Good"]
[null,"◐","D","31-50",null,"Average"]
[null,"◐","E","0-30",null,"Needs Improvement",null,null,"Wish bright future"]
[]
[]
[{"$f":"A40+1","v":3},"Department Of Education, Rajasthan"]
[null,{"$f":"IF(I83>0,CONCATENATE(C83,I83),0)","v":0},null,{"$f":"Master!$E$8","v":"Govt.Sr.Sec.Sch. "}]
[{"$nulls":3},{"$f":"Master!$E$11","v":"P.S.-Bapini (Jodhpur)"}]
[null,null,"Report Card",{"$nulls":6},"U-DISE Code:-",null,{"$f":"Master!$E$14","v":{"v":810000000,"d":"0810000000"}}]
[{"$nulls":9},"Session:-",null,{"$f":"Master!$E$6","v":"2022-23"}]
[null,null,"Roll No.:-",{"$nulls":5},{"$f":"VLOOKUP($A78,'Result Entry'!$B$9:$F$108,5,0)","v":0}]
[null,"◐","Scholar Number",{"$nulls":3},"↠",{"$f":"VLOOKUP($A78,'Result Entry'!$B$9:$DX$108,3,0)","v":0}]
[null,"◐","Student's Name",{"$nulls":3},"↠",{"$f":"VLOOKUP($A78,'Result Entry'!$B$9:$DX$108,6,0)","v":0}]
[null,"◐","Father's Name",{"$nulls":3},"↠",{"$f":"VLOOKUP($A78,'Result Entry'!$B$9:$DX$108,7,0)","v":0}]
[null,"◐","Mother's Name ",{"$nulls":3},"↠",{"$f":"VLOOKUP($A78,'Result Entry'!$B$9:$DX$108,8,0)","v":0}]
[null,"◐","Class & Section",{"$nulls":3},"↠",{"$f":"CONCATENATE('Result Entry'!$F$4,'Result Entry'!$I$4)","v":"2(A)"}]
[null,"◐","Date Of Birth",{"$nulls":3},"↠",{"$f":"VLOOKUP($A78,'Result Entry'!$B$9:$DX$108,9,0)","v":"00:00:00"}]
[null,"◐","Subject",{"$nulls":4},"Half Yearly","Total (T+H.Y.)","Yearly","Grand Total",null,"Subject Grade"]
[null,"◐","Max. Marks",{"$nulls":4},{"$f":"'Result Entry'!$Q$7","v":100},{"$f":"G91+H91","v":100},{"$f":"'Result Entry'!$U$7","v":100},{"$f":"I91+J91","v":200},null,"A/B/C/D/E"]
[null,"◐",{"$f":"'Result Entry'!$K$3","v":"Hindi"},{"$nulls":4},{"$f":"IF(OR(C92=\"\",$I83=\"NSO\"),\"\",VLOOKUP($A78,'Result Entry'!$B$9:$DX$108,16,0))","v":0},{"$f":"SUM(G92,H92)","v":0},{"$f":"IF(OR(C92=\"\",$I83=\"NSO\"),\"\",VLOOKUP($A78,'Result Entry'!$B$9:$DX$108,20,0))","v":0},{"$f":"SUM(I92,J92)","v":0},null,{"$f":"IF(OR(C92=\"\",$I83=\"NSO\"),\"\",VLOOKUP($A78,'Result Entry'!$B$9:$DX$108,23,0))","v":""}]
[null,"◐",{"$f":"'Result Entry'!$Y$3","v":"Mathematics"},{"$nulls":4},{"$f":"IF(OR(C93=\"\",$I83=\"NSO\"),\"\",VLOOKUP($A78,'Result Entry'!$B$9:$DX$108,30,0))","v":0},{"$f":"SUM(G93,H93)","v":0},{"$f":"IF(OR(C93=\"\",$I83=\"NSO\"),\"\",VLOOKUP($A78,'Result Entry'!$B$9:$DX$108,34,0))","v":0},{"$f":"SUM(I93,J93)","v":0},null,{"$f":"IF(OR(C93=\"\",$I83=\"NSO\"),\"\",VLOOKUP($A78,'Result Entry'!$B$9:$DX$108,37,0))","v":""}]
[null,"◐",{"$f":"'Result Entry'!$BO$3","v":"Env. Study"},{"$nulls":4},{"$f":"IF(OR(C94=\"\",$I83=\"NSO\"),\"\",VLOOKUP($A78,'Result Entry'!$B$9:$DX$108,66,0))","v":0},0,{"$f":"IF(OR(C94=\"\",$I83=\"NSO\"),\"\",VLOOKUP($A78,'Result Entry'!$B$9:$DX$108,67,0))","v":0},0,null,{"$f":"IF(OR(C94=\"\",$I83=\"NSO\"),\"\",VLOOKUP($A78,'Result Entry'!$B$9:$DX$108,73,0))","v":""}]
[null,"◐","Max. Marks",{"$nulls":4},{"$f":"'Result Entry'!$AS$7","v":50},50,{"$f":"'Result Entry'!$AW$7","v":50},100,null,"A/B/C/D/E"]
[null,"◐",{"$f":"'Result Entry'!$AM$3","v":"English"},{"$nulls":4},{"$f":"IF(OR(C96=\"\",$I83=\"NSO\"),\"\",VLOOKUP($A78,'Result Entry'!$B$9:$DX$108,44,0))","v":0},0,{"$f":"IF(OR(C96=\"\",$I83=\"NSO\"),\"\",VLOOKUP($A78,'Result Entry'!$B$9:$DX$108,48,0))","v":0},0,null,{"$f":"IF(OR(C96=\"\",$I83=\"NSO\"),\"\",VLOOKUP($A78,'Result Entry'!$B$9:$DX$108,51,0))","v":""}]
[null,"◐"]
[null,"◐","Overall Result",null,null,"Total Max. Marks",null,"Total Obtained Marks",null,"Percentage","Overall Grade","Result","Position in Class"]
[null,"◐",{"$nulls":3},{"$f":"IF(OR($I83=\"\",$I83=\"NSO\"),\"\",VLOOKUP($A78,'Result Entry'!$B$9:$DX$108,101,0))","v":500},null,{"$f":"IF(OR($I83=\"\",$I83=\"NSO\"),\"\",VLOOKUP($A78,'Result Entry'!$B$9:$DX$108,102,0))","v":0},null,{"$f":"IF(OR($I83=\"\",$I83=\"NSO\"),\"\",VLOOKUP($A78,'Result Entry'!$B$9:$DX$108,103,0))","v":{"v":0,"d":"0.00"}},{"$f":"IF(OR($I83=\"\",$I83=\"NSO\"),\"\",VLOOKUP($A78,'Result Entry'!$B$9:$DX$108,104,0))","v":""},{"$f":"IF(OR($I83=\"\",$I83=\"NSO\"),\"\",VLOOKUP($A78,'Result Entry'!$B$9:$DX$108,105,0))","v":""},{"$f":"IF(OR($I83=\"\",$I83=\"NSO\"),\"\",VLOOKUP($A78,'Result Entry'!$B$9:$DX$108,107,0))","v":""}]
[null,"◐",{"$nulls":6},"Total Meetings :-",null,{"$f":"IF(OR($I83=\"\",$I83=\"NSO\"),\"\",VLOOKUP($A78,'Result Entry'!$B$9:$DX$108,98,0))","v":0},"Attedance %"]
[null,"◐","Extra Subjects",{"$nulls":5},"Student's Meetings :-",null,{"$f":"IF(OR($I83=\"\",$I83=\"NSO\"),\"\",VLOOKUP($A78,'Result Entry'!$B$9:$DX$108,99,0))","v":0},{"$f":"IF(OR($I83=\"\",$I83=\"NSO\"),\"\",VLOOKUP($A78,'Result Entry'!$B$9:$DX$108,100,0))","v":""}]
[null,"◐","Subject",null,null,"Total Marks",null,"GRADE","Remark :-",null,{"$f":"IF(OR($I83=\"\",$I83=\"NSO\"),\"\",VLOOKUP($A78,'Result Entry'!$B$9:$DX$108,108,0))","v":0}]
[null,"◐",{"$nulls":6},"Result Date :-",null,{"$f":"'Result Entry'!$T$2","v":"2023-05-24"}]
[null,"◐",{"$f":"'Result Entry'!$BW$3","v":"WORK EXP."},null,null,{"$f":"IF(OR(C104=\"\",$I83=\"NSO\"),\"\",VLOOKUP($A78,'Result Entry'!$B$9:$DX$108,119,0))","v":"0/50"},null,{"$f":"IF(OR(C104=\"\",$I83=\"NSO\"),\"\",VLOOKUP($A78,'Result Entry'!$B$9:$DX$108,81,0))","v":""}]
[null,null,{"$f":"'Result Entry'!$CE$3","v":"ART EDU."},null,null,{"$f":"IF(OR(C105=\"\",$I83=\"NSO\"),\"\",VLOOKUP($A78,'Result Entry'!$B$9:$DX$108,123,0))","v":"0/50"},null,{"$f":"IF(OR(C105=\"\",$I83=\"NSO\"),\"\",VLOOKUP($A78,'Result Entry'!$B$9:$DX$108,89,0))","v":""}]
[null,"◐",{"$f":"'Result Entry'!$CM$3","v":"H&P. EDU."},null,null,{"$f":"IF(OR(C106=\"\",$I83=\"NSO\"),\"\",VLOOKUP($A78,'Result Entry'!$B$9:$DX$108,127,0))","v":"0/100"},null,{"$f":"IF(OR(C106=\"\",$I83=\"NSO\"),\"\",VLOOKUP($A78,'Result Entry'!$B$9:$DX$108,97,0))","v":""},"Signature Of The Class Teacher"]
[null,"◐","Grading System"]
[null,"◐","Grd.","% Range",null,"Description"]
[null,"◐","A","86-100",null,"Excellent",null,null,"Signature And Seal Of Principal/H.M."]
[null,"◐","B","71-85",null,"Very Good"]
[null,"◐","C","51-70",null,"Good"]
[null,"◐","D","31-50",null,"Average"]
[null,"◐","E","0-30",null,"Needs Improvement",null,null,"Wish bright future"]
[]
[]
[{"$f":"A78+1","v":4},"Department Of Education, Rajasthan"]
[null,{"$f":"IF(I121>0,CONCATENATE(C121,I121),0)","v":0},null,{"$f":"Master!$E$8","v":"Govt.Sr.Sec.Sch. "}]
[{"$nulls":3},{"$f":"Master!$E$11","v":"P.S.-Bapini (Jodhpur)"}]
[null,null,"Report Card",{"$nulls":6},"U-DISE Code:-",null,{"$f":"Master!$E$14","v":{"v":810000000,"d":"0810000000"}}]
[{"$nulls":9},"Session:-",null,{"$f":"Master!$E$6","v":"2022-23"}]
[null,null,"Roll No.:-",{"$nulls":5},{"$f":"VLOOKUP($A116,'Result Entry'!$B$9:$F$108,5,0)","v":0}]
[null,"◐","Scholar Number",{"$nulls":3},"↠",{"$f":"VLOOKUP($A116,'Result Entry'!$B$9:$DX$108,3,0)","v":0}]
[null,"◐","Student's Name",{"$nulls":3},"↠",{"$f":"VLOOKUP($A116,'Result Entry'!$B$9:$DX$108,6,0)","v":0}]
[null,"◐","Father's Name",{"$nulls":3},"↠",{"$f":"VLOOKUP($A116,'Result Entry'!$B$9:$DX$108,7,0)","v":0}]
[null,"◐","Mother's Name ",{"$nulls":3},"↠",{"$f":"VLOOKUP($A116,'Result Entry'!$B$9:$DX$108,8,0)","v":0}]
[null,"◐","Class & Section",{"$nulls":3},"↠",{"$f":"CONCATENATE('Result Entry'!$F$4,'Result Entry'!$I$4)","v":"2(A)"}]
[null,"◐","Date Of Birth",{"$nulls":3},"↠",{"$f":"VLOOKUP($A116,'Result Entry'!$B$9:$DX$108,9,0)","v":"00:00:00"}]
[null,"◐","Subject",{"$nulls":4},"Half Yearly","Total (T+H.Y.)","Yearly","Grand Total",null,"Subject Grade"]
[null,"◐","Max. Marks",{"$nulls":4},{"$f":"'Result Entry'!$Q$7","v":100},{"$f":"G129+H129","v":100},{"$f":"'Result Entry'!$U$7","v":100},{"$f":"I129+J129","v":200},null,"A/B/C/D/E"]
[null,"◐",{"$f":"'Result Entry'!$K$3","v":"Hindi"},{"$nulls":4},{"$f":"IF(OR(C130=\"\",$I121=\"NSO\"),\"\",VLOOKUP($A116,'Result Entry'!$B$9:$DX$108,16,0))","v":0},{"$f":"SUM(G130,H130)","v":0},{"$f":"IF(OR(C130=\"\",$I121=\"NSO\"),\"\",VLOOKUP($A116,'Result Entry'!$B$9:$DX$108,20,0))","v":0},{"$f":"SUM(I130,J130)","v":0},null,{"$f":"IF(OR(C130=\"\",$I121=\"NSO\"),\"\",VLOOKUP($A116,'Result Entry'!$B$9:$DX$108,23,0))","v":""}]
[null,"◐",{"$f":"'Result Entry'!$Y$3","v":"Mathematics"},{"$nulls":4},{"$f":"IF(OR(C131=\"\",$I121=\"NSO\"),\"\",VLOOKUP($A116,'Result Entry'!$B$9:$DX$108,30,0))","v":0},{"$f":"SUM(G131,H131)","v":0},{"$f":"IF(OR(C131=\"\",$I121=\"NSO\"),\"\",VLOOKUP($A116,'Result Entry'!$B$9:$DX$108,34,0))","v":0},{"$f":"SUM(I131,J131)","v":0},null,{"$f":"IF(OR(C131=\"\",$I121=\"NSO\"),\"\",VLOOKUP($A116,'Result Entry'!$B$9:$DX$108,37,0))","v":""}]
[null,"◐",{"$f":"'Result Entry'!$BO$3","v":"Env. Study"},{"$nulls":4},{"$f":"IF(OR(C132=\"\",$I121=\"NSO\"),\"\",VLOOKUP($A116,'Result Entry'!$B$9:$DX$108,66,0))","v":0},0,{"$f":"IF(OR(C132=\"\",$I121=\"NSO\"),\"\",VLOOKUP($A116,'Result Entry'!$B$9:$DX$108,67,0))","v":0},0,null,{"$f":"IF(OR(C132=\"\",$I121=\"NSO\"),\"\",VLOOKUP($A116,'Result Entry'!$B$9:$DX$108,73,0))","v":""}]
[null,"◐","Max. Marks",{"$nulls":4},{"$f":"'Result Entry'!$AS$7","v":50},50,{"$f":"'Result Entry'!$AW$7","v":50},100,null,"A/B/C/D/E"]
[null,"◐",{"$f":"'Result Entry'!$AM$3","v":"English"},{"$nulls":4},{"$f":"IF(OR(C134=\"\",$I121=\"NSO\"),\"\",VLOOKUP($A116,'Result Entry'!$B$9:$DX$108,44,0))","v":0},0,{"$f":"IF(OR(C134=\"\",$I121=\"NSO\"),\"\",VLOOKUP($A116,'Result Entry'!$B$9:$DX$108,48,0))","v":0},0,null,{"$f":"IF(OR(C134=\"\",$I121=\"NSO\"),\"\",VLOOKUP($A116,'Result Entry'!$B$9:$DX$108,51,0))","v":""}]
[null,"◐"]
[null,"◐","Overall Result",null,null,"Total Max. Marks",null,"Total Obtained Marks",null,"Percentage","Overall Grade","Result","Position in Class"]
[null,"◐",{"$nulls":3},{"$f":"IF(OR($I121=\"\",$I121=\"NSO\"),\"\",VLOOKUP($A116,'Result Entry'!$B$9:$DX$108,101,0))","v":500},null,{"$f":"IF(OR($I121=\"\",$I121=\"NSO\"),\"\",VLOOKUP($A116,'Result Entry'!$B$9:$DX$108,102,0))","v":0},null,{"$f":"IF(OR($I121=\"\",$I121=\"NSO\"),\"\",VLOOKUP($A116,'Result Entry'!$B$9:$DX$108,103,0))","v":{"v":0,"d":"0.00"}},{"$f":"IF(OR($I121=\"\",$I121=\"NSO\"),\"\",VLOOKUP($A116,'Result Entry'!$B$9:$DX$108,104,0))","v":""},{"$f":"IF(OR($I121=\"\",$I121=\"NSO\"),\"\",VLOOKUP($A116,'Result Entry'!$B$9:$DX$108,105,0))","v":""},{"$f":"IF(OR($I121=\"\",$I121=\"NSO\"),\"\",VLOOKUP($A116,'Result Entry'!$B$9:$DX$108,107,0))","v":""}]
[null,"◐",{"$nulls":6},"Total Meetings :-",null,{"$f":"IF(OR($I121=\"\",$I121=\"NSO\"),\"\",VLOOKUP($A116,'Result Entry'!$B$9:$DX$108,98,0))","v":0},"Attedance %"]
[null,"◐","Extra Subjects",{"$nulls":5},"Student's Meetings :-",null,{"$f":"IF(OR($I121=\"\",$I121=\"NSO\"),\"\",VLOOKUP($A116,'Result Entry'!$B$9:$DX$108,99,0))","v":0},{"$f":"IF(OR($I121=\"\",$I121=\"NSO\"),\"\",VLOOKUP($A116,'Result Entry'!$B$9:$DX$108,100,0))","v":""}]
[null,"◐","Subject",null,null,"Total Marks",null,"GRADE","Remark :-",null,{"$f":"IF(OR($I121=\"\",$I121=\"NSO\"),\"\",VLOOKUP($A116,'Result Entry'!$B$9:$DX$108,108,0))","v":0}]
[null,"◐",{"$nulls":6},"Result Date :-",null,{"$f":"'Result Entry'!$T$2","v":"2023-05-24"}]
[null,"◐",{"$f":"'Result Entry'!$BW$3","v":"WORK EXP."},null,null,{"$f":"IF(OR(C142=\"\",$I121=\"NSO\"),\"\",VLOOKUP($A116,'Result Entry'!$B$9:$DX$108,119,0))","v":"0/50"},null,{"$f":"IF(OR(C142=\"\",$I121=\"NSO\"),\"\",VLOOKUP($A116,'Result Entry'!$B$9:$DX$108,81,0))","v":""}]
[null,null,{"$f":"'Result Entry'!$CE$3","v":"ART EDU."},null,null,{"$f":"IF(OR(C143=\"\",$I121=\"NSO\"),\"\",VLOOKUP($A116,'Result Entry'!$B$9:$DX$108,123,0))","v":"0/50"},null,{"$f":"IF(OR(C143=\"\",$I121=\"NSO\"),\"\",VLOOKUP($A116,'Result Entry'!$B$9:$DX$108,89,0))","v":""}]
[null,"◐",{"$f":"'Result Entry'!$CM$3","v":"H&P. EDU."},null,null,{"$f":"IF(OR(C144=\"\",$I121=\"NSO\"),\"\",VLOOKUP($A116,'Result Entry'!$B$9:$DX$108,127,0))","v":"0/100"},null,{"$f":"IF(OR(C144=\"\",$I121=\"NSO\"),\"\",VLOOKUP($A116,'Result Entry'!$B$9:$DX$108,97,0))","v":""},"Signature Of The Class Teacher"]
[null,"◐","Grading System"]
[null,"◐","Grd.","% Range",null,"Description"]
[null,"◐","A","86-100",null,"Excellent",null,null,"Signature And Seal Of Principal/H.M."]
[null,"◐","B","71-85",null,"Very Good"]
[null,"◐","C","51-70",null,"Good"]
[null,"◐","D","31-50",null,"Average"]
[null,"◐","E","0-30",null,"Needs Improvement",null,null,"Wish bright future"]
[]
[]
[{"$f":"A116+1","v":5},"Department Of Education, Rajasthan"]
[null,{"$f":"IF(I159>0,CONCATENATE(C159,I159),0)","v":0},null,{"$f":"Master!$E$8","v":"Govt.Sr.Sec.Sch. "}]
[{"$nulls":3},{"$f":"Master!$E$11","v":"P.S.-Bapini (Jodhpur)"}]
[null,null,"Report Card",{"$nulls":6},"U-DISE Code:-",null,{"$f":"Master!$E$14","v":{"v":810000000,"d":"0810000000"}}]
[{"$nulls":9},"Session:-",null,{"$f":"Master!$E$6","v":"2022-23"}]
[null,null,"Roll No.:-",{"$nulls":5},{"$f":"VLOOKUP($A154,'Result Entry'!$B$9:$F$108,5,0)","v":0}]
[null,"◐","Scholar Number",{"$nulls":3},"↠",{"$f":"VLOOKUP($A154,'Result Entry'!$B$9:$DX$108,3,0)","v":0}]
[null,"◐","Student's Name",{"$nulls":3},"↠",{"$f":"VLOOKUP($A154,'Result Entry'!$B$9:$DX$108,6,0)","v":0}]
[null,"◐","Father's Name",{"$nulls":3},"↠",{"$f":"VLOOKUP($A154,'Result Entry'!$B$9:$DX$108,7,0)","v":0}]
[null,"◐","Mother's Name ",{"$nulls":3},"↠",{"$f":"VLOOKUP($A154,'Result Entry'!$B$9:$DX$108,8,0)","v":0}]
[null,"◐","Class & Section",{"$nulls":3},"↠",{"$f":"CONCATENATE('Result Entry'!$F$4,'Result Entry'!$I$4)","v":"2(A)"}]
[null,"◐","Date Of Birth",{"$nulls":3},"↠",{"$f":"VLOOKUP($A154,'Result Entry'!$B$9:$DX$108,9,0)","v":"00:00:00"}]
[null,"◐","Subject",{"$nulls":4},"Half Yearly","Total (T+H.Y.)","Yearly","Grand Total",null,"Subject Grade"]
[null,"◐","Max. Marks",{"$nulls":4},{"$f":"'Result Entry'!$Q$7","v":100},{"$f":"G167+H167","v":100},{"$f":"'Result Entry'!$U$7","v":100},{"$f":"I167+J167","v":200},null,"A/B/C/D/E"]
[null,"◐",{"$f":"'Result Entry'!$K$3","v":"Hindi"},{"$nulls":4},{"$f":"IF(OR(C168=\"\",$I159=\"NSO\"),\"\",VLOOKUP($A154,'Result Entry'!$B$9:$DX$108,16,0))","v":0},{"$f":"SUM(G168,H168)","v":0},{"$f":"IF(OR(C168=\"\",$I159=\"NSO\"),\"\",VLOOKUP($A154,'Result Entry'!$B$9:$DX$108,20,0))","v":0},{"$f":"SUM(I168,J168)","v":0},null,{"$f":"IF(OR(C168=\"\",$I159=\"NSO\"),\"\",VLOOKUP($A154,'Result Entry'!$B$9:$DX$108,23,0))","v":""}]
[null,"◐",{"$f":"'Result Entry'!$Y$3","v":"Mathematics"},{"$nulls":4},{"$f":"IF(OR(C169=\"\",$I159=\"NSO\"),\"\",VLOOKUP($A154,'Result Entry'!$B$9:$DX$108,30,0))","v":0},{"$f":"SUM(G169,H169)","v":0},{"$f":"IF(OR(C169=\"\",$I159=\"NSO\"),\"\",VLOOKUP($A154,'Result Entry'!$B$9:$DX$108,34,0))","v":0},{"$f":"SUM(I169,J169)","v":0},null,{"$f":"IF(OR(C169=\"\",$I159=\"NSO\"),\"\",VLOOKUP($A154,'Result Entry'!$B$9:$DX$108,37,0))","v":""}]
[null,"◐",{"$f":"'Result Entry'!$BO$3","v":"Env. Study"},{"$nulls":4},{"$f":"IF(OR(C170=\"\",$I159=\"NSO\"),\"\",VLOOKUP($A154,'Result Entry'!$B$9:$DX$108,66,0))","v":0},0,{"$f":"IF(OR(C170=\"\",$I159=\"NSO\"),\"\",VLOOKUP($A154,'Result Entry'!$B$9:$DX$108,67,0))","v":0},0,null,{"$f":"IF(OR(C170=\"\",$I159=\"NSO\"),\"\",VLOOKUP($A154,'Result Entry'!$B$9:$DX$108,73,0))","v":""}]
[null,"◐","Max. Marks",{"$nulls":4},{"$f":"'Result Entry'!$AS$7","v":50},50,{"$f":"'Result Entry'!$AW$7","v":50},100,null,"A/B/C/D/E"]
[null,"◐",{"$f":"'Result Entry'!$AM$3","v":"English"},{"$nulls":4},{"$f":"IF(OR(C172=\"\",$I159=\"NSO\"),\"\",VLOOKUP($A154,'Result Entry'!$B$9:$DX$108,44,0))","v":0},0,{"$f":"IF(OR(C172=\"\",$I159=\"NSO\"),\"\",VLOOKUP($A154,'Result Entry'!$B$9:$DX$108,48,0))","v":0},0,null,{"$f":"IF(OR(C172=\"\",$I159=\"NSO\"),\"\",VLOOKUP($A154,'Result Entry'!$B$9:$DX$108,51,0))","v":""}]
[null,"◐"]
[null,"◐","Overall Result",null,null,"Total Max. Marks",null,"Total Obtained Marks",null,"Percentage","Overall Grade","Result","Position in Class"]
[null,"◐",{"$nulls":3},{"$f":"IF(OR($I159=\"\",$I159=\"NSO\"),\"\",VLOOKUP($A154,'Result Entry'!$B$9:$DX$108,101,0))","v":500},null,{"$f":"IF(OR($I159=\"\",$I159=\"NSO\"),\"\",VLOOKUP($A154,'Result Entry'!$B$9:$DX$108,102,0))","v":0},null,{"$f":"IF(OR($I159=\"\",$I159=\"NSO\"),\"\",VLOOKUP($A154,'Result Entry'!$B$9:$DX$108,103,0))","v":{"v":0,"d":"0.00"}},{"$f":"IF(OR($I159=\"\",$I159=\"NSO\"),\"\",VLOOKUP($A154,'Result Entry'!$B$9:$DX$108,104,0))","v":""},{"$f":"IF(OR($I159=\"\",$I159=\"NSO\"),\"\",VLOOKUP($A154,'Result Entry'!$B$9:$DX$108,105,0))","v":""},{"$f":"IF(OR($I159=\"\",$I159=\"NSO\"),\"\",VLOOKUP($A154,'Result Entry'!$B$9:$DX$108,107,0))","v":""}]
[null,"◐",{"$nulls":6},"Total Meetings :-",null,{"$f":"IF(OR($I159=\"\",$I159=\"NSO\"),\"\",VLOOKUP($A154,'Result Entry'!$B$9:$DX$108,98,0))","v":0},"Attedance %"]
[null,"◐","Extra Subjects",{"$nulls":5},"Student's Meetings :-",null,{"$f":"IF(OR($I159=\"\",$I159=\"NSO\"),\"\",VLOOKUP($A154,'Result Entry'!$B$9:$DX$108,99,0))","v":0},{"$f":"IF(OR($I159=\"\",$I159=\"NSO\"),\"\",VLOOKUP($A154,'Result Entry'!$B$9:$DX$108,100,0))","v":""}]
[null,"◐","Subject",null,null,"Total Marks",null,"GRADE","Remark :-",null,{"$f":"IF(OR($I159=\"\",$I159=\"NSO\"),\"\",VLOOKUP($A154,'Result Entry'!$B$9:$DX$108,108,0))","v":0}]
[null,"◐",{"$nulls":6},"Result Date :-",null,{"$f":"'Result Entry'!$T$2","v":"2023-05-24"}]
[null,"◐",{"$f":"'Result Entry'!$BW$3","v":"WORK EXP."},null,null,{"$f":"IF(OR(C180=\"\",$I159=\"NSO\"),\"\",VLOOKUP($A154,'Result Entry'!$B$9:$DX$108,119,0))","v":"0/50"},null,{"$f":"IF(OR(C180=\"\",$I159=\"NSO\"),\"\",VLOOKUP($A154,'Result Entry'!$B$9:$DX$108,81,0))","v":""}]
[null,null,{"$f":"'Result Entry'!$CE$3","v":"ART EDU."},null,null,{"$f":"IF(OR(C181=\"\",$I159=\"NSO\"),\"\",VLOOKUP($A154,'Result Entry'!$B$9:$DX$108,123,0))","v":"0/50"},null,{"$f":"IF(OR(C181=\"\",$I159=\"NSO\"),\"\",VLOOKUP($A154,'Result Entry'!$B$9:$DX$108,89,0))","v":""}]
[null,"◐",{"$f":"'Result Entry'!$CM$3","v":"H&P. EDU."},null,null,{"$f":"IF(OR(C182=\"\",$I159=\"NSO\"),\"\",VLOOKUP($A154,'Result Entry'!$B$9:$DX$108,127,0))","v":"0/100"},null,{"$f":"IF(OR(C182=\"\",$I159=\"NSO\"),\"\",VLOOKUP($A154,'Result Entry'!$B$9:$DX$108,97,0))","v":""},"Signature Of The Class Teacher"]
[null,"◐","Grading System"]
[null,"◐","Grd.","% Range",null,"Description"]
[null,"◐","A","86-100",null,"Excellent",null,null,"Signature And Seal Of Principal/H.M."]
[null,"◐","B","71-85",null,"Very Good"]
[null,"◐","C","51-70",null,"Good"]
[null,"◐","D","31-50",null,"Average"]
[null,"◐","E","0-30",null,"Needs Improvement",null,null,"Wish bright future"]
[]
[]
[{"$f":"A154+1","v":6},"Department Of Education, Rajasthan"]
[null,{"$f":"IF(I197>0,CONCATENATE(C197,I197),0)","v":0},null,{"$f":"Master!$E$8","v":"Govt.Sr.Sec.Sch. "}]
[{"$nulls":3},{"$f":"Master!$E$11","v":"P.S.-Bapini (Jodhpur)"}]
[null,null,"Report Card",{"$nulls":6},"U-DISE Code:-",null,{"$f":"Master!$E$14","v":{"v":810000000,"d":"0810000000"}}]
[{"$nulls":9},"Session:-",null,{"$f":"Master!$E$6","v":"2022-23"}]
[null,null,"Roll No.:-",{"$nulls":5},{"$f":"VLOOKUP($A192,'Result Entry'!$B$9:$F$108,5,0)","v":0}]
[null,"◐","Scholar Number",{"$nulls":3},"↠",{"$f":"VLOOKUP($A192,'Result Entry'!$B$9:$DX$108,3,0)","v":0}]
[null,"◐","Student's Name",{"$nulls":3},"↠",{"$f":"VLOOKUP($A192,'Result Entry'!$B$9:$DX$108,6,0)","v":0}]
[null,"◐","Father's Name",{"$nulls":3},"↠",{"$f":"VLOOKUP($A192,'Result Entry'!$B$9:$DX$108,7,0)","v":0}]
[null,"◐","Mother's Name ",{"$nulls":3},"↠",{"$f":"VLOOKUP($A192,'Result Entry'!$B$9:$DX$108,8,0)","v":0}]
[null,"◐","Class & Section",{"$nulls":3},"↠",{"$f":"CONCATENATE('Result Entry'!$F$4,'Result Entry'!$I$4)","v":"2(A)"}]
[null,"◐","Date Of Birth",{"$nulls":3},"↠",{"$f":"VLOOKUP($A192,'Result Entry'!$B$9:$DX$108,9,0)","v":"00:00:00"}]
[null,"◐","Subject",{"$nulls":4},"Half Yearly","Total (T+H.Y.)","Yearly","Grand Total",null,"Subject Grade"]
[null,"◐","Max. Marks",{"$nulls":4},{"$f":"'Result Entry'!$Q$7","v":100},{"$f":"G205+H205","v":100},{"$f":"'Result Entry'!$U$7","v":100},{"$f":"I205+J205","v":200},null,"A/B/C/D/E"]
[null,"◐",{"$f":"'Result Entry'!$K$3","v":"Hindi"},{"$nulls":4},{"$f":"IF(OR(C206=\"\",$I197=\"NSO\"),\"\",VLOOKUP($A192,'Result Entry'!$B$9:$DX$108,16,0))","v":0},{"$f":"SUM(G206,H206)","v":0},{"$f":"IF(OR(C206=\"\",$I197=\"NSO\"),\"\",VLOOKUP($A192,'Result Entry'!$B$9:$DX$108,20,0))","v":0},{"$f":"SUM(I206,J206)","v":0},null,{"$f":"IF(OR(C206=\"\",$I197=\"NSO\"),\"\",VLOOKUP($A192,'Result Entry'!$B$9:$DX$108,23,0))","v":""}]
[null,"◐",{"$f":"'Result Entry'!$Y$3","v":"Mathematics"},{"$nulls":4},{"$f":"IF(OR(C207=\"\",$I197=\"NSO\"),\"\",VLOOKUP($A192,'Result Entry'!$B$9:$DX$108,30,0))","v":0},{"$f":"SUM(G207,H207)","v":0},{"$f":"IF(OR(C207=\"\",$I197=\"NSO\"),\"\",VLOOKUP($A192,'Result Entry'!$B$9:$DX$108,34,0))","v":0},{"$f":"SUM(I207,J207)","v":0},null,{"$f":"IF(OR(C207=\"\",$I197=\"NSO\"),\"\",VLOOKUP($A192,'Result Entry'!$B$9:$DX$108,37,0))","v":""}]
[null,"◐",{"$f":"'Result Entry'!$BO$3","v":"Env. Study"},{"$nulls":4},{"$f":"IF(OR(C208=\"\",$I197=\"NSO\"),\"\",VLOOKUP($A192,'Result Entry'!$B$9:$DX$108,66,0))","v":0},0,{"$f":"IF(OR(C208=\"\",$I197=\"NSO\"),\"\",VLOOKUP($A192,'Result Entry'!$B$9:$DX$108,67,0))","v":0},0,null,{"$f":"IF(OR(C208=\"\",$I197=\"NSO\"),\"\",VLOOKUP($A192,'Result Entry'!$B$9:$DX$108,73,0))","v":""}]
[null,"◐","Max. Marks",{"$nulls":4},{"$f":"'Result Entry'!$AS$7","v":50},50,{"$f":"'Result Entry'!$AW$7","v":50},100,null,"A/B/C/D/E"]
[null,"◐",{"$f":"'Result Entry'!$AM$3","v":"English"},{"$nulls":4},{"$f":"IF(OR(C210=\"\",$I197=\"NSO\"),\"\",VLOOKUP($A192,'Result Entry'!$B$9:$DX$108,44,0))","v":0},0,{"$f":"IF(OR(C210=\"\",$I197=\"NSO\"),\"\",VLOOKUP($A192,'Result Entry'!$B$9:$DX$108,48,0))","v":0},0,null,{"$f":"IF(OR(C210=\"\",$I197=\"NSO\"),\"\",VLOOKUP($A192,'Result Entry'!$B$9:$DX$108,51,0))","v":""}]
[null,"◐"]
[null,"◐","Overall Result",null,null,"Total Max. Marks",null,"Total Obtained Marks",null,"Percentage","Overall Grade","Result","Position in Class"]
[null,"◐",{"$nulls":3},{"$f":"IF(OR($I197=\"\",$I197=\"NSO\"),\"\",VLOOKUP($A192,'Result Entry'!$B$9:$DX$108,101,0))","v":500},null,{"$f":"IF(OR($I197=\"\",$I197=\"NSO\"),\"\",VLOOKUP($A192,'Result Entry'!$B$9:$DX$108,102,0))","v":0},null,{"$f":"IF(OR($I197=\"\",$I197=\"NSO\"),\"\",VLOOKUP($A192,'Result Entry'!$B$9:$DX$108,103,0))","v":{"v":0,"d":"0.00"}},{"$f":"IF(OR($I197=\"\",$I197=\"NSO\"),\"\",VLOOKUP($A192,'Result Entry'!$B$9:$DX$108,104,0))","v":""},{"$f":"IF(OR($I197=\"\",$I197=\"NSO\"),\"\",VLOOKUP($A192,'Result Entry'!$B$9:$DX$108,105,0))","v":""},{"$f":"IF(OR($I197=\"\",$I197=\"NSO\"),\"\",VLOOKUP($A192,'Result Entry'!$B$9:$DX$108,107,0))","v":""}]
[null,"◐",{"$nulls":6},"Total Meetings :-",null,{"$f":"IF(OR($I197=\"\",$I197=\"NSO\"),\"\",VLOOKUP($A192,'Result Entry'!$B$9:$DX$108,98,0))","v":0},"Attedance %"]
[null,"◐","Extra Subjects",{"$nulls":5},"Student's Meetings :-",null,{"$f":"IF(OR($I197=\"\",$I197=\"NSO\"),\"\",VLOOKUP($A192,'Result Entry'!$B$9:$DX$108,99,0))","v":0},{"$f":"IF(OR($I197=\"\",$I197=\"NSO\"),\"\",VLOOKUP($A192,'Result Entry'!$B$9:$DX$108,100,0))","v":""}]
[null,"◐","Subject",null,null,"Total Marks",null,"GRADE","Remark :-",null,{"$f":"IF(OR($I197=\"\",$I197=\"NSO\"),\"\",VLOOKUP($A192,'Result Entry'!$B$9:$DX$108,108,0))","v":0}]
[null,"◐",{"$nulls":6},"Result Date :-",null,{"$f":"'Result Entry'!$T$2","v":"2023-05-24"}]
[null,"◐",{"$f":"'Result Entry'!$BW$3","v":"WORK EXP."},null,null,{"$f":"IF(OR(C218=\"\",$I197=\"NSO\"),\"\",VLOOKUP($A192,'Result Entry'!$B$9:$DX$108,119,0))","v":"0/50"},null,{"$f":"IF(OR(C218=\"\",$I197=\"NSO\"),\"\",VLOOKUP($A192,'Result Entry'!$B$9:$DX$108,81,0))","v":""}]
[null,null,{"$f":"'Result Entry'!$CE$3","v":"ART EDU."},null,null,{"$f":"IF(OR(C219=\"\",$I197=\"NSO\"),\"\",VLOOKUP($A192,'Result Entry'!$B$9:$DX$108,123,0))","v":"0/50"},null,{"$f":"IF(OR(C219=\"\",$I197=\"NSO\"),\"\",VLOOKUP($A192,'Result Entry'!$B$9:$DX$108,89,0))","v":""}]
[null,"◐",{"$f":"'Result Entry'!$CM$3","v":"H&P. EDU."},null,null,{"$f":"IF(OR(C220=\"\",$I197=\"NSO\"),\"\",VLOOKUP($A192,'Result Entry'!$B$9:$DX$108,127,0))","v":"0/100"},null,{"$f":"IF(OR(C220=\"\",$I197=\"NSO\"),\"\",VLOOKUP($A192,'Result Entry'!$B$9:$DX$108,97,0))","v":""},"Signature Of The Class Teacher"]
[null,"◐","Grading System"]
[null,"◐","Grd.","% Range",null,"Description"]
[null,"◐","A","86-100",null,"Excellent",null,null,"Signature And Seal Of Principal/H.M."]
[null,"◐","B","71-85",null,"Very Good"]
[null,"◐","C","51-70",null,"Good"]
[null,"◐","D","31-50",null,"Average"]
[null,"◐","E","0-30",null,"Needs Improvement",null,null,"Wish bright future"]
[]
[]
[{"$f":"A192+1","v":7},"Department Of Education, Rajasthan"]
[null,{"$f":"IF(I235>0,CONCATENATE(C235,I235),0)","v":0},null,{"$f":"Master!$E$8","v":"Govt.Sr.Sec.Sch. "}]
[{"$nulls":3},{"$f":"Master!$E$11","v":"P.S.-Bapini (Jodhpur)"}]
[null,null,"Report Card",{"$nulls":6},"U-DISE Code:-",null,{"$f":"Master!$E$14","v":{"v":810000000,"d":"0810000000"}}]
[{"$nulls":9},"Session:-",null,{"$f":"Master!$E$6","v":"2022-23"}]
[null,null,"Roll No.:-",{"$nulls":5},{"$f":"VLOOKUP($A230,'Result Entry'!$B$9:$F$108,5,0)","v":0}]
[null,"◐","Scholar Number",{"$nulls":3},"↠",{"$f":"VLOOKUP($A230,'Result Entry'!$B$9:$DX$108,3,0)","v":0}]
[null,"◐","Student's Name",{"$nulls":3},"↠",{"$f":"VLOOKUP($A230,'Result Entry'!$B$9:$DX$108,6,0)","v":0}]
[null,"◐","Father's Name",{"$nulls":3},"↠",{"$f":"VLOOKUP($A230,'Result Entry'!$B$9:$DX$108,7,0)","v":0}]
[null,"◐","Mother's Name ",{"$nulls":3},"↠",{"$f":"VLOOKUP($A230,'Result Entry'!$B$9:$DX$108,8,0)","v":0}]
[null,"◐","Class & Section",{"$nulls":3},"↠",{"$f":"CONCATENATE('Result Entry'!$F$4,'Result Entry'!$I$4)","v":"2(A)"}]
[null,"◐","Date Of Birth",{"$nulls":3},"↠",{"$f":"VLOOKUP($A230,'Result Entry'!$B$9:$DX$108,9,0)","v":"00:00:00"}]
[null,"◐","Subject",{"$nulls":4},"Half Yearly","Total (T+H.Y.)","Yearly","Grand Total",null,"Subject Grade"]
[null,"◐","Max. Marks",{"$nulls":4},{"$f":"'Result Entry'!$Q$7","v":100},{"$f":"G243+H243","v":100},{"$f":"'Result Entry'!$U$7","v":100},{"$f":"I243+J243","v":200},null,"A/B/C/D/E"]
[null,"◐",{"$f":"'Result Entry'!$K$3","v":"Hindi"},{"$nulls":4},{"$f":"IF(OR(C244=\"\",$I235=\"NSO\"),\"\",VLOOKUP($A230,'Result Entry'!$B$9:$DX$108,16,0))","v":0},{"$f":"SUM(G244,H244)","v":0},{"$f":"IF(OR(C244=\"\",$I235=\"NSO\"),\"\",VLOOKUP($A230,'Result Entry'!$B$9:$DX$108,20,0))","v":0},{"$f":"SUM(I244,J244)","v":0},null,{"$f":"IF(OR(C244=\"\",$I235=\"NSO\"),\"\",VLOOKUP($A230,'Result Entry'!$B$9:$DX$108,23,0))","v":""}]
[null,"◐",{"$f":"'Result Entry'!$Y$3","v":"Mathematics"},{"$nulls":4},{"$f":"IF(OR(C245=\"\",$I235=\"NSO\"),\"\",VLOOKUP($A230,'Result Entry'!$B$9:$DX$108,30,0))","v":0},{"$f":"SUM(G245,H245)","v":0},{"$f":"IF(OR(C245=\"\",$I235=\"NSO\"),\"\",VLOOKUP($A230,'Result Entry'!$B$9:$DX$108,34,0))","v":0},{"$f":"SUM(I245,J245)","v":0},null,{"$f":"IF(OR(C245=\"\",$I235=\"NSO\"),\"\",VLOOKUP($A230,'Result Entry'!$B$9:$DX$108,37,0))","v":""}]
[null,"◐",{"$f":"'Result Entry'!$BO$3","v":"Env. Study"},{"$nulls":4},{"$f":"IF(OR(C246=\"\",$I235=\"NSO\"),\"\",VLOOKUP($A230,'Result Entry'!$B$9:$DX$108,66,0))","v":0},0,{"$f":"IF(OR(C246=\"\",$I235=\"NSO\"),\"\",VLOOKUP($A230,'Result Entry'!$B$9:$DX$108,67,0))","v":0},0,null,{"$f":"IF(OR(C246=\"\",$I235=\"NSO\"),\"\",VLOOKUP($A230,'Result Entry'!$B$9:$DX$108,73,0))","v":""}]
[null,"◐","Max. Marks",{"$nulls":4},{"$f":"'Result Entry'!$AS$7","v":50},50,{"$f":"'Result Entry'!$AW$7","v":50},100,null,"A/B/C/D/E"]
[null,"◐",{"$f":"'Result Entry'!$AM$3","v":"English"},{"$nulls":4},{"$f":"IF(OR(C248=\"\",$I235=\"NSO\"),\"\",VLOOKUP($A230,'Result Entry'!$B$9:$DX$108,44,0))","v":0},0,{"$f":"IF(OR(C248=\"\",$I235=\"NSO\"),\"\",VLOOKUP($A230,'Result Entry'!$B$9:$DX$108,48,0))","v":0},0,null,{"$f":"IF(OR(C248=\"\",$I235=\"NSO\"),\"\",VLOOKUP($A230,'Result Entry'!$B$9:$DX$108,51,0))","v":""}]
[null,"◐"]
[null,"◐","Overall Result",null,null,"Total Max. Marks",null,"Total Obtained Marks",null,"Percentage","Overall Grade","Result","Position in Class"]
[null,"◐",{"$nulls":3},{"$f":"IF(OR($I235=\"\",$I235=\"NSO\"),\"\",VLOOKUP($A230,'Result Entry'!$B$9:$DX$108,101,0))","v":500},null,{"$f":"IF(OR($I235=\"\",$I235=\"NSO\"),\"\",VLOOKUP($A230,'Result Entry'!$B$9:$DX$108,102,0))","v":0},null,{"$f":"IF(OR($I235=\"\",$I235=\"NSO\"),\"\",VLOOKUP($A230,'Result Entry'!$B$9:$DX$108,103,0))","v":{"v":0,"d":"0.00"}},{"$f":"IF(OR($I235=\"\",$I235=\"NSO\"),\"\",VLOOKUP($A230,'Result Entry'!$B$9:$DX$108,104,0))","v":""},{"$f":"IF(OR($I235=\"\",$I235=\"NSO\"),\"\",VLOOKUP($A230,'Result Entry'!$B$9:$DX$108,105,0))","v":""},{"$f":"IF(OR($I235=\"\",$I235=\"NSO\"),\"\",VLOOKUP($A230,'Result Entry'!$B$9:$DX$108,107,0))","v":""}]
[null,"◐",{"$nulls":6},"Total Meetings :-",null,{"$f":"IF(OR($I235=\"\",$I235=\"NSO\"),\"\",VLOOKUP($A230,'Result Entry'!$B$9:$DX$108,98,0))","v":0},"Attedance %"]
[null,"◐","Extra Subjects",{"$nulls":5},"Student's Meetings :-",null,{"$f":"IF(OR($I235=\"\",$I235=\"NSO\"),\"\",VLOOKUP($A230,'Result Entry'!$B$9:$DX$108,99,0))","v":0},{"$f":"IF(OR($I235=\"\",$I235=\"NSO\"),\"\",VLOOKUP($A230,'Result Entry'!$B$9:$DX$108,100,0))","v":""}]
[null,"◐","Subject",null,null,"Total Marks",null,"GRADE","Remark :-",null,{"$f":"IF(OR($I235=\"\",$I235=\"NSO\"),\"\",VLOOKUP($A230,'Result Entry'!$B$9:$DX$108,108,0))","v":0}]
[null,"◐",{"$nulls":6},"Result Date :-",null,{"$f":"'Result Entry'!$T$2","v":"2023-05-24"}]
[null,"◐",{"$f":"'Result Entry'!$BW$3","v":"WORK EXP."},null,null,{"$f":"IF(OR(C256=\"\",$I235=\"NSO\"),\"\",VLOOKUP($A230,'Result Entry'!$B$9:$DX$108,119,0))","v":"0/50"},null,{"$f":"IF(OR(C256=\"\",$I235=\"NSO\"),\"\",VLOOKUP($A230,'Result Entry'!$B$9:$DX$108,81,0))","v":""}]
[null,null,{"$f":"'Result Entry'!$CE$3","v":"ART EDU."},null,null,{"$f":"IF(OR(C257=\"\",$I235=\"NSO\"),\"\",VLOOKUP($A230,'Result Entry'!$B$9:$DX$108,123,0))","v":"0/50"},null,{"$f":"IF(OR(C257=\"\",$I235=\"NSO\"),\"\",VLOOKUP($A230,'Result Entry'!$B$9:$DX$108,89,0))","v":""}]
[null,"◐",{"$f":"'Result Entry'!$CM$3","v":"H&P. EDU."},null,null,{"$f":"IF(OR(C258=\"\",$I235=\"NSO\"),\"\",VLOOKUP($A230,'Result Entry'!$B$9:$DX$108,127,0))","v":"0/100"},null,{"$f":"IF(OR(C258=\"\",$I235=\"NSO\"),\"\",VLOOKUP($A230,'Result Entry'!$B$9:$DX$108,97,0))","v":""},"Signature Of The Class Teacher"]
[null,"◐","Grading System"]
[null,"◐","Grd.","% Range",null,"Description"]
[null,"◐","A","86-100",null,"Excellent",null,null,"Signature And Seal Of Principal/H.M."]
[null,"◐","B","71-85",null,"Very Good"]
[null,"◐","C","51-70",null,"Good"]
[null,"◐","D","31-50",null,"Average"]
[null,"◐","E","0-30",null,"Needs Improvement",null,null,"Wish bright future"]
[]
[]
[{"$f":"A230+1","v":8},"Department Of Education, Rajasthan"]
[null,{"$f":"IF(I273>0,CONCATENATE(C273,I273),0)","v":0},null,{"$f":"Master!$E$8","v":"Govt.Sr.Sec.Sch. "}]
[{"$nulls":3},{"$f":"Master!$E$11","v":"P.S.-Bapini (Jodhpur)"}]
[null,null,"Report Card",{"$nulls":6},"U-DISE Code:-",null,{"$f":"Master!$E$14","v":{"v":810000000,"d":"0810000000"}}]
[{"$nulls":9},"Session:-",null,{"$f":"Master!$E$6","v":"2022-23"}]
[null,null,"Roll No.:-",{"$nulls":5},{"$f":"VLOOKUP($A268,'Result Entry'!$B$9:$F$108,5,0)","v":0}]
[null,"◐","Scholar Number",{"$nulls":3},"↠",{"$f":"VLOOKUP($A268,'Result Entry'!$B$9:$DX$108,3,0)","v":0}]
[null,"◐","Student's Name",{"$nulls":3},"↠",{"$f":"VLOOKUP($A268,'Result Entry'!$B$9:$DX$108,6,0)","v":0}]
[null,"◐","Father's Name",{"$nulls":3},"↠",{"$f":"VLOOKUP($A268,'Result Entry'!$B$9:$DX$108,7,0)","v":0}]
[null,"◐","Mother's Name ",{"$nulls":3},"↠",{"$f":"VLOOKUP($A268,'Result Entry'!$B$9:$DX$108,8,0)","v":0}]
[null,"◐","Class & Section",{"$nulls":3},"↠",{"$f":"CONCATENATE('Result Entry'!$F$4,'Result Entry'!$I$4)","v":"2(A)"}]
[null,"◐","Date Of Birth",{"$nulls":3},"↠",{"$f":"VLOOKUP($A268,'Result Entry'!$B$9:$DX$108,9,0)","v":"00:00:00"}]
[null,"◐","Subject",{"$nulls":4},"Half Yearly","Total (T+H.Y.)","Yearly","Grand Total",null,"Subject Grade"]
[null,"◐","Max. Marks",{"$nulls":4},{"$f":"'Result Entry'!$Q$7","v":100},{"$f":"G281+H281","v":100},{"$f":"'Result Entry'!$U$7","v":100},{"$f":"I281+J281","v":200},null,"A/B/C/D/E"]
[null,"◐",{"$f":"'Result Entry'!$K$3","v":"Hindi"},{"$nulls":4},{"$f":"IF(OR(C282=\"\",$I273=\"NSO\"),\"\",VLOOKUP($A268,'Result Entry'!$B$9:$DX$108,16,0))","v":0},{"$f":"SUM(G282,H282)","v":0},{"$f":"IF(OR(C282=\"\",$I273=\"NSO\"),\"\",VLOOKUP($A268,'Result Entry'!$B$9:$DX$108,20,0))","v":0},{"$f":"SUM(I282,J282)","v":0},null,{"$f":"IF(OR(C282=\"\",$I273=\"NSO\"),\"\",VLOOKUP($A268,'Result Entry'!$B$9:$DX$108,23,0))","v":""}]
[null,"◐",{"$f":"'Result Entry'!$Y$3","v":"Mathematics"},{"$nulls":4},{"$f":"IF(OR(C283=\"\",$I273=\"NSO\"),\"\",VLOOKUP($A268,'Result Entry'!$B$9:$DX$108,30,0))","v":0},{"$f":"SUM(G283,H283)","v":0},{"$f":"IF(OR(C283=\"\",$I273=\"NSO\"),\"\",VLOOKUP($A268,'Result Entry'!$B$9:$DX$108,34,0))","v":0},{"$f":"SUM(I283,J283)","v":0},null,{"$f":"IF(OR(C283=\"\",$I273=\"NSO\"),\"\",VLOOKUP($A268,'Result Entry'!$B$9:$DX$108,37,0))","v":""}]
[null,"◐",{"$f":"'Result Entry'!$BO$3","v":"Env. Study"},{"$nulls":4},{"$f":"IF(OR(C284=\"\",$I273=\"NSO\"),\"\",VLOOKUP($A268,'Result Entry'!$B$9:$DX$108,66,0))","v":0},0,{"$f":"IF(OR(C284=\"\",$I273=\"NSO\"),\"\",VLOOKUP($A268,'Result Entry'!$B$9:$DX$108,67,0))","v":0},0,null,{"$f":"IF(OR(C284=\"\",$I273=\"NSO\"),\"\",VLOOKUP($A268,'Result Entry'!$B$9:$DX$108,73,0))","v":""}]
[null,"◐","Max. Marks",{"$nulls":4},{"$f":"'Result Entry'!$AS$7","v":50},50,{"$f":"'Result Entry'!$AW$7","v":50},100,null,"A/B/C/D/E"]
[null,"◐",{"$f":"'Result Entry'!$AM$3","v":"English"},{"$nulls":4},{"$f":"IF(OR(C286=\"\",$I273=\"NSO\"),\"\",VLOOKUP($A268,'Result Entry'!$B$9:$DX$108,44,0))","v":0},0,{"$f":"IF(OR(C286=\"\",$I273=\"NSO\"),\"\",VLOOKUP($A268,'Result Entry'!$B$9:$DX$108,48,0))","v":0},0,null,{"$f":"IF(OR(C286=\"\",$I273=\"NSO\"),\"\",VLOOKUP($A268,'Result Entry'!$B$9:$DX$108,51,0))","v":""}]
[null,"◐"]
[null,"◐","Overall Result",null,null,"Total Max. Marks",null,"Total Obtained Marks",null,"Percentage","Overall Grade","Result","Position in Class"]
[null,"◐",{"$nulls":3},{"$f":"IF(OR($I273=\"\",$I273=\"NSO\"),\"\",VLOOKUP($A268,'Result Entry'!$B$9:$DX$108,101,0))","v":500},null,{"$f":"IF(OR($I273=\"\",$I273=\"NSO\"),\"\",VLOOKUP($A268,'Result Entry'!$B$9:$DX$108,102,0))","v":0},null,{"$f":"IF(OR($I273=\"\",$I273=\"NSO\"),\"\",VLOOKUP($A268,'Result Entry'!$B$9:$DX$108,103,0))","v":{"v":0,"d":"0.00"}},{"$f":"IF(OR($I273=\"\",$I273=\"NSO\"),\"\",VLOOKUP($A268,'Result Entry'!$B$9:$DX$108,104,0))","v":""},{"$f":"IF(OR($I273=\"\",$I273=\"NSO\"),\"\",VLOOKUP($A268,'Result Entry'!$B$9:$DX$108,105,0))","v":""},{"$f":"IF(OR($I273=\"\",$I273=\"NSO\"),\"\",VLOOKUP($A268,'Result Entry'!$B$9:$DX$108,107,0))","v":""}]
[null,"◐",{"$nulls":6},"Total Meetings :-",null,{"$f":"IF(OR($I273=\"\",$I273=\"NSO\"),\"\",VLOOKUP($A268,'Result Entry'!$B$9:$DX$108,98,0))","v":0},"Attedance %"]
[null,"◐","Extra Subjects",{"$nulls":5},"Student's Meetings :-",null,{"$f":"IF(OR($I273=\"\",$I273=\"NSO\"),\"\",VLOOKUP($A268,'Result Entry'!$B$9:$DX$108,99,0))","v":0},{"$f":"IF(OR($I273=\"\",$I273=\"NSO\"),\"\",VLOOKUP($A268,'Result Entry'!$B$9:$DX$108,100,0))","v":""}]
[null,"◐","Subject",null,null,"Total Marks",null,"GRADE","Remark :-",null,{"$f":"IF(OR($I273=\"\",$I273=\"NSO\"),\"\",VLOOKUP($A268,'Result Entry'!$B$9:$DX$108,108,0))","v":0}]
[null,"◐",{"$nulls":6},"Result Date :-",null,{"$f":"'Result Entry'!$T$2","v":"2023-05-24"}]
[null,"◐",{"$f":"'Result Entry'!$BW$3","v":"WORK EXP."},null,null,{"$f":"IF(OR(C294=\"\",$I273=\"NSO\"),\"\",VLOOKUP($A268,'Result Entry'!$B$9:$DX$108,119,0))","v":"0/50"},null,{"$f":"IF(OR(C294=\"\",$I273=\"NSO\"),\"\",VLOOKUP($A268,'Result Entry'!$B$9:$DX$108,81,0))","v":""}]
[null,null,{"$f":"'Result Entry'!$CE$3","v":"ART EDU."},null,null,{"$f":"IF(OR(C295=\"\",$I273=\"NSO\"),\"\",VLOOKUP($A268,'Result Entry'!$B$9:$DX$108,123,0))","v":"0/50"},null,{"$f":"IF(OR(C295=\"\",$I273=\"NSO\"),\"\",VLOOKUP($A268,'Result Entry'!$B$9:$DX$108,89,0))","v":""}]
[null,"◐",{"$f":"'Result Entry'!$CM$3","v":"H&P. EDU."},null,null,{"$f":"IF(OR(C296=\"\",$I273=\"NSO\"),\"\",VLOOKUP($A268,'Result Entry'!$B$9:$DX$108,127,0))","v":"0/100"},null,{"$f":"IF(OR(C296=\"\",$I273=\"NSO\"),\"\",VLOOKUP($A268,'Result Entry'!$B$9:$DX$108,97,0))","v":""},"Signature Of The Class Teacher"]
[null,"◐","Grading System"]
[null,"◐","Grd.","% Range",null,"Description"]
[null,"◐","A","86-100",null,"Excellent",null,null,"Signature And Seal Of Principal/H.M."]
[null,"◐","B","71-85",null,"Very Good"]
[null,"◐","C","51-70",null,"Good"]
[null,"◐","D","31-50",null,"Average"]
[null,"◐","E","0-30",null,"Needs Improvement",null,null,"Wish bright future"]
[]
[]
[{"$f":"A268+1","v":9},"Department Of Education, Rajasthan"]
[null,{"$f":"IF(I311>0,CONCATENATE(C311,I311),0)","v":0},null,{"$f":"Master!$E$8","v":"Govt.Sr.Sec.Sch. "}]
[{"$nulls":3},{"$f":"Master!$E$11","v":"P.S.-Bapini (Jodhpur)"}]
[null,null,"Report Card",{"$nulls":6},"U-DISE Code:-",null,{"$f":"Master!$E$14","v":{"v":810000000,"d":"0810000000"}}]
[{"$nulls":9},"Session:-",null,{"$f":"Master!$E$6","v":"2022-23"}]
[null,null,"Roll No.:-",{"$nulls":5},{"$f":"VLOOKUP($A306,'Result Entry'!$B$9:$F$108,5,0)","v":0}]
[null,"◐","Scholar Number",{"$nulls":3},"↠",{"$f":"VLOOKUP($A306,'Result Entry'!$B$9:$DX$108,3,0)","v":0}]
[null,"◐","Student's Name",{"$nulls":3},"↠",{"$f":"VLOOKUP($A306,'Result Entry'!$B$9:$DX$108,6,0)","v":0}]
[null,"◐","Father's Name",{"$nulls":3},"↠",{"$f":"VLOOKUP($A306,'Result Entry'!$B$9:$DX$108,7,0)","v":0}]
[null,"◐","Mother's Name ",{"$nulls":3},"↠",{"$f":"VLOOKUP($A306,'Result Entry'!$B$9:$DX$108,8,0)","v":0}]
[null,"◐","Class & Section",{"$nulls":3},"↠",{"$f":"CONCATENATE('Result Entry'!$F$4,'Result Entry'!$I$4)","v":"2(A)"}]
[null,"◐","Date Of Birth",{"$nulls":3},"↠",{"$f":"VLOOKUP($A306,'Result Entry'!$B$9:$DX$108,9,0)","v":"00:00:00"}]
[null,"◐","Subject",{"$nulls":4},"Half Yearly","Total (T+H.Y.)","Yearly","Grand Total",null,"Subject Grade"]
[null,"◐","Max. Marks",{"$nulls":4},{"$f":"'Result Entry'!$Q$7","v":100},{"$f":"G319+H319","v":100},{"$f":"'Result Entry'!$U$7","v":100},{"$f":"I319+J319","v":200},null,"A/B/C/D/E"]
[null,"◐",{"$f":"'Result Entry'!$K$3","v":"Hindi"},{"$nulls":4},{"$f":"IF(OR(C320=\"\",$I311=\"NSO\"),\"\",VLOOKUP($A306,'Result Entry'!$B$9:$DX$108,16,0))","v":0},{"$f":"SUM(G320,H320)","v":0},{"$f":"IF(OR(C320=\"\",$I311=\"NSO\"),\"\",VLOOKUP($A306,'Result Entry'!$B$9:$DX$108,20,0))","v":0},{"$f":"SUM(I320,J320)","v":0},null,{"$f":"IF(OR(C320=\"\",$I311=\"NSO\"),\"\",VLOOKUP($A306,'Result Entry'!$B$9:$DX$108,23,0))","v":""}]
[null,"◐",{"$f":"'Result Entry'!$Y$3","v":"Mathematics"},{"$nulls":4},{"$f":"IF(OR(C321=\"\",$I311=\"NSO\"),\"\",VLOOKUP($A306,'Result Entry'!$B$9:$DX$108,30,0))","v":0},{"$f":"SUM(G321,H321)","v":0},{"$f":"IF(OR(C321=\"\",$I311=\"NSO\"),\"\",VLOOKUP($A306,'Result Entry'!$B$9:$DX$108,34,0))","v":0},{"$f":"SUM(I321,J321)","v":0},null,{"$f":"IF(OR(C321=\"\",$I311=\"NSO\"),\"\",VLOOKUP($A306,'Result Entry'!$B$9:$DX$108,37,0))","v":""}]
[null,"◐",{"$f":"'Result Entry'!$BO$3","v":"Env. Study"},{"$nulls":4},{"$f":"IF(OR(C322=\"\",$I311=\"NSO\"),\"\",VLOOKUP($A306,'Result Entry'!$B$9:$DX$108,66,0))","v":0},0,{"$f":"IF(OR(C322=\"\",$I311=\"NSO\"),\"\",VLOOKUP($A306,'Result Entry'!$B$9:$DX$108,67,0))","v":0},0,null,{"$f":"IF(OR(C322=\"\",$I311=\"NSO\"),\"\",VLOOKUP($A306,'Result Entry'!$B$9:$DX$108,73,0))","v":""}]
[null,"◐","Max. Marks",{"$nulls":4},{"$f":"'Result Entry'!$AS$7","v":50},50,{"$f":"'Result Entry'!$AW$7","v":50},100,null,"A/B/C/D/E"]
[null,"◐",{"$f":"'Result Entry'!$AM$3","v":"English"},{"$nulls":4},{"$f":"IF(OR(C324=\"\",$I311=\"NSO\"),\"\",VLOOKUP($A306,'Result Entry'!$B$9:$DX$108,44,0))","v":0},0,{"$f":"IF(OR(C324=\"\",$I311=\"NSO\"),\"\",VLOOKUP($A306,'Result Entry'!$B$9:$DX$108,48,0))","v":0},0,null,{"$f":"IF(OR(C324=\"\",$I311=\"NSO\"),\"\",VLOOKUP($A306,'Result Entry'!$B$9:$DX$108,51,0))","v":""}]
[null,"◐"]
[null,"◐","Overall Result",null,null,"Total Max. Marks",null,"Total Obtained Marks",null,"Percentage","Overall Grade","Result","Position in Class"]
[null,"◐",{"$nulls":3},{"$f":"IF(OR($I311=\"\",$I311=\"NSO\"),\"\",VLOOKUP($A306,'Result Entry'!$B$9:$DX$108,101,0))","v":500},null,{"$f":"IF(OR($I311=\"\",$I311=\"NSO\"),\"\",VLOOKUP($A306,'Result Entry'!$B$9:$DX$108,102,0))","v":0},null,{"$f":"IF(OR($I311=\"\",$I311=\"NSO\"),\"\",VLOOKUP($A306,'Result Entry'!$B$9:$DX$108,103,0))","v":{"v":0,"d":"0.00"}},{"$f":"IF(OR($I311=\"\",$I311=\"NSO\"),\"\",VLOOKUP($A306,'Result Entry'!$B$9:$DX$108,104,0))","v":""},{"$f":"IF(OR($I311=\"\",$I311=\"NSO\"),\"\",VLOOKUP($A306,'Result Entry'!$B$9:$DX$108,105,0))","v":""},{"$f":"IF(OR($I311=\"\",$I311=\"NSO\"),\"\",VLOOKUP($A306,'Result Entry'!$B$9:$DX$108,107,0))","v":""}]
[null,"◐",{"$nulls":6},"Total Meetings :-",null,{"$f":"IF(OR($I311=\"\",$I311=\"NSO\"),\"\",VLOOKUP($A306,'Result Entry'!$B$9:$DX$108,98,0))","v":0},"Attedance %"]
[null,"◐","Extra Subjects",{"$nulls":5},"Student's Meetings :-",null,{"$f":"IF(OR($I311=\"\",$I311=\"NSO\"),\"\",VLOOKUP($A306,'Result Entry'!$B$9:$DX$108,99,0))","v":0},{"$f":"IF(OR($I311=\"\",$I311=\"NSO\"),\"\",VLOOKUP($A306,'Result Entry'!$B$9:$DX$108,100,0))","v":""}]
[null,"◐","Subject",null,null,"Total Marks",null,"GRADE","Remark :-",null,{"$f":"IF(OR($I311=\"\",$I311=\"NSO\"),\"\",VLOOKUP($A306,'Result Entry'!$B$9:$DX$108,108,0))","v":0}]
[null,"◐",{"$nulls":6},"Result Date :-",null,{"$f":"'Result Entry'!$T$2","v":"2023-05-24"}]
[null,"◐",{"$f":"'Result Entry'!$BW$3","v":"WORK EXP."},null,null,{"$f":"IF(OR(C332=\"\",$I311=\"NSO\"),\"\",VLOOKUP($A306,'Result Entry'!$B$9:$DX$108,119,0))","v":"0/50"},null,{"$f":"IF(OR(C332=\"\",$I311=\"NSO\"),\"\",VLOOKUP($A306,'Result Entry'!$B$9:$DX$108,81,0))","v":""}]
[null,null,{"$f":"'Result Entry'!$CE$3","v":"ART EDU."},null,null,{"$f":"IF(OR(C333=\"\",$I311=\"NSO\"),\"\",VLOOKUP($A306,'Result Entry'!$B$9:$DX$108,123,0))","v":"0/50"},null,{"$f":"IF(OR(C333=\"\",$I311=\"NSO\"),\"\",VLOOKUP($A306,'Result Entry'!$B$9:$DX$108,89,0))","v":""}]
[null,"◐",{"$f":"'Result Entry'!$CM$3","v":"H&P. EDU."},null,null,{"$f":"IF(OR(C334=\"\",$I311=\"NSO\"),\"\",VLOOKUP($A306,'Result Entry'!$B$9:$DX$108,127,0))","v":"0/100"},null,{"$f":"IF(OR(C334=\"\",$I311=\"NSO\"),\"\",VLOOKUP($A306,'Result Entry'!$B$9:$DX$108,97,0))","v":""},"Signature Of The Class Teacher"]
[null,"◐","Grading System"]
[null,"◐","Grd.","% Range",null,"Description"]
[null,"◐","A","86-100",null,"Excellent",null,null,"Signature And Seal Of Principal/H.M."]
[null,"◐","B","71-85",null,"Very Good"]
[null,"◐","C","51-70",null,"Good"]
[null,"◐","D","31-50",null,"Average"]
[null,"◐","E","0-30",null,"Needs Improvement",null,null,"Wish bright future"]
[]
[]
[{"$f":"A306+1","v":10},"Department Of Education, Rajasthan"]
[null,{"$f":"IF(I349>0,CONCATENATE(C349,I349),0)","v":0},null,{"$f":"Master!$E$8","v":"Govt.Sr.Sec.Sch. "}]
[{"$nulls":3},{"$f":"Master!$E$11","v":"P.S.-Bapini (Jodhpur)"}]
[null,null,"Report Card",{"$nulls":6},"U-DISE Code:-",null,{"$f":"Master!$E$14","v":{"v":810000000,"d":"0810000000"}}]
[{"$nulls":9},"Session:-",null,{"$f":"Master!$E$6","v":"2022-23"}]
[null,null,"Roll No.:-",{"$nulls":5},{"$f":"VLOOKUP($A344,'Result Entry'!$B$9:$F$108,5,0)","v":0}]
[null,"◐","Scholar Number",{"$nulls":3},"↠",{"$f":"VLOOKUP($A344,'Result Entry'!$B$9:$DX$108,3,0)","v":0}]
[null,"◐","Student's Name",{"$nulls":3},"↠",{"$f":"VLOOKUP($A344,'Result Entry'!$B$9:$DX$108,6,0)","v":0}]
[null,"◐","Father's Name",{"$nulls":3},"↠",{"$f":"VLOOKUP($A344,'Result Entry'!$B$9:$DX$108,7,0)","v":0}]
[null,"◐","Mother's Name ",{"$nulls":3},"↠",{"$f":"VLOOKUP($A344,'Result Entry'!$B$9:$DX$108,8,0)","v":0}]
[null,"◐","Class & Section",{"$nulls":3},"↠",{"$f":"CONCATENATE('Result Entry'!$F$4,'Result Entry'!$I$4)","v":"2(A)"}]
[null,"◐","Date Of Birth",{"$nulls":3},"↠",{"$f":"VLOOKUP($A344,'Result Entry'!$B$9:$DX$108,9,0)","v":"00:00:00"}]
[null,"◐","Subject",{"$nulls":4},"Half Yearly","Total (T+H.Y.)","Yearly","Grand Total",null,"Subject Grade"]
[null,"◐","Max. Marks",{"$nulls":4},{"$f":"'Result Entry'!$Q$7","v":100},{"$f":"G357+H357","v":100},{"$f":"'Result Entry'!$U$7","v":100},{"$f":"I357+J357","v":200},null,"A/B/C/D/E"]
[null,"◐",{"$f":"'Result Entry'!$K$3","v":"Hindi"},{"$nulls":4},{"$f":"IF(OR(C358=\"\",$I349=\"NSO\"),\"\",VLOOKUP($A344,'Result Entry'!$B$9:$DX$108,16,0))","v":0},{"$f":"SUM(G358,H358)","v":0},{"$f":"IF(OR(C358=\"\",$I349=\"NSO\"),\"\",VLOOKUP($A344,'Result Entry'!$B$9:$DX$108,20,0))","v":0},{"$f":"SUM(I358,J358)","v":0},null,{"$f":"IF(OR(C358=\"\",$I349=\"NSO\"),\"\",VLOOKUP($A344,'Result Entry'!$B$9:$DX$108,23,0))","v":""}]
[null,"◐",{"$f":"'Result Entry'!$Y$3","v":"Mathematics"},{"$nulls":4},{"$f":"IF(OR(C359=\"\",$I349=\"NSO\"),\"\",VLOOKUP($A344,'Result Entry'!$B$9:$DX$108,30,0))","v":0},{"$f":"SUM(G359,H359)","v":0},{"$f":"IF(OR(C359=\"\",$I349=\"NSO\"),\"\",VLOOKUP($A344,'Result Entry'!$B$9:$DX$108,34,0))","v":0},{"$f":"SUM(I359,J359)","v":0},null,{"$f":"IF(OR(C359=\"\",$I349=\"NSO\"),\"\",VLOOKUP($A344,'Result Entry'!$B$9:$DX$108,37,0))","v":""}]
[null,"◐",{"$f":"'Result Entry'!$BO$3","v":"Env. Study"},{"$nulls":4},{"$f":"IF(OR(C360=\"\",$I349=\"NSO\"),\"\",VLOOKUP($A344,'Result Entry'!$B$9:$DX$108,66,0))","v":0},0,{"$f":"IF(OR(C360=\"\",$I349=\"NSO\"),\"\",VLOOKUP($A344,'Result Entry'!$B$9:$DX$108,67,0))","v":0},0,null,{"$f":"IF(OR(C360=\"\",$I349=\"NSO\"),\"\",VLOOKUP($A344,'Result Entry'!$B$9:$DX$108,73,0))","v":""}]
[null,"◐","Max. Marks",{"$nulls":4},{"$f":"'Result Entry'!$AS$7","v":50},50,{"$f":"'Result Entry'!$AW$7","v":50},100,null,"A/B/C/D/E"]
[null,"◐",{"$f":"'Result Entry'!$AM$3","v":"English"},{"$nulls":4},{"$f":"IF(OR(C362=\"\",$I349=\"NSO\"),\"\",VLOOKUP($A344,'Result Entry'!$B$9:$DX$108,44,0))","v":0},0,{"$f":"IF(OR(C362=\"\",$I349=\"NSO\"),\"\",VLOOKUP($A344,'Result Entry'!$B$9:$DX$108,48,0))","v":0},0,null,{"$f":"IF(OR(C362=\"\",$I349=\"NSO\"),\"\",VLOOKUP($A344,'Result Entry'!$B$9:$DX$108,51,0))","v":""}]
[null,"◐"]
[null,"◐","Overall Result",null,null,"Total Max. Marks",null,"Total Obtained Marks",null,"Percentage","Overall Grade","Result","Position in Class"]
[null,"◐",{"$nulls":3},{"$f":"IF(OR($I349=\"\",$I349=\"NSO\"),\"\",VLOOKUP($A344,'Result Entry'!$B$9:$DX$108,101,0))","v":500},null,{"$f":"IF(OR($I349=\"\",$I349=\"NSO\"),\"\",VLOOKUP($A344,'Result Entry'!$B$9:$DX$108,102,0))","v":0},null,{"$f":"IF(OR($I349=\"\",$I349=\"NSO\"),\"\",VLOOKUP($A344,'Result Entry'!$B$9:$DX$108,103,0))","v":{"v":0,"d":"0.00"}},{"$f":"IF(OR($I349=\"\",$I349=\"NSO\"),\"\",VLOOKUP($A344,'Result Entry'!$B$9:$DX$108,104,0))","v":""},{"$f":"IF(OR($I349=\"\",$I349=\"NSO\"),\"\",VLOOKUP($A344,'Result Entry'!$B$9:$DX$108,105,0))","v":""},{"$f":"IF(OR($I349=\"\",$I349=\"NSO\"),\"\",VLOOKUP($A344,'Result Entry'!$B$9:$DX$108,107,0))","v":""}]
[null,"◐",{"$nulls":6},"Total Meetings :-",null,{"$f":"IF(OR($I349=\"\",$I349=\"NSO\"),\"\",VLOOKUP($A344,'Result Entry'!$B$9:$DX$108,98,0))","v":0},"Attedance %"]
[null,"◐","Extra Subjects",{"$nulls":5},"Student's Meetings :-",null,{"$f":"IF(OR($I349=\"\",$I349=\"NSO\"),\"\",VLOOKUP($A344,'Result Entry'!$B$9:$DX$108,99,0))","v":0},{"$f":"IF(OR($I349=\"\",$I349=\"NSO\"),\"\",VLOOKUP($A344,'Result Entry'!$B$9:$DX$108,100,0))","v":""}]
[null,"◐","Subject",null,null,"Total Marks",null,"GRADE","Remark :-",null,{"$f":"IF(OR($I349=\"\",$I349=\"NSO\"),\"\",VLOOKUP($A344,'Result Entry'!$B$9:$DX$108,108,0))","v":0}]
[null,"◐",{"$nulls":6},"Result Date :-",null,{"$f":"'Result Entry'!$T$2","v":"2023-05-24"}]
[null,"◐",{"$f":"'Result Entry'!$BW$3","v":"WORK EXP."},null,null,{"$f":"IF(OR(C370=\"\",$I349=\"NSO\"),\"\",VLOOKUP($A344,'Result Entry'!$B$9:$DX$108,119,0))","v":"0/50"},null,{"$f":"IF(OR(C370=\"\",$I349=\"NSO\"),\"\",VLOOKUP($A344,'Result Entry'!$B$9:$DX$108,81,0))","v":""}]
[null,null,{"$f":"'Result Entry'!$CE$3","v":"ART EDU."},null,null,{"$f":"IF(OR(C371=\"\",$I349=\"NSO\"),\"\",VLOOKUP($A344,'Result Entry'!$B$9:$DX$108,123,0))","v":"0/50"},null,{"$f":"IF(OR(C371=\"\",$I349=\"NSO\"),\"\",VLOOKUP($A344,'Result Entry'!$B$9:$DX$108,89,0))","v":""}]
[null,"◐",{"$f":"'Result Entry'!$CM$3","v":"H&P. EDU."},null,null,{"$f":"IF(OR(C372=\"\",$I349=\"NSO\"),\"\",VLOOKUP($A344,'Result Entry'!$B$9:$DX$108,127,0))","v":"0/100"},null,{"$f":"IF(OR(C372=\"\",$I349=\"NSO\"),\"\",VLOOKUP($A344,'Result Entry'!$B$9:$DX$108,97,0))","v":""},"Signature Of The Class Teacher"]
[null,"◐","Grading System"]
[null,"◐","Grd.","% Range",null,"Description"]
[null,"◐","A","86-100",null,"Excellent",null,null,"Signature And Seal Of Principal/H.M."]
[null,"◐","B","71-85",null,"Very Good"]
[null,"◐","C","51-70",null,"Good"]
[null,"◐","D","31-50",null,"Average"]
[null,"◐","E","0-30",null,"Needs Improvement",null,null,"Wish bright future"]
[]
[]
[{"$f":"A344+1","v":11},"Department Of Education, Rajasthan"]
[null,{"$f":"IF(I387>0,CONCATENATE(C387,I387),0)","v":0},null,{"$f":"Master!$E$8","v":"Govt.Sr.Sec.Sch. "}]
[{"$nulls":3},{"$f":"Master!$E$11","v":"P.S.-Bapini (Jodhpur)"}]
[null,null,"Report Card",{"$nulls":6},"U-DISE Code:-",null,{"$f":"Master!$E$14","v":{"v":810000000,"d":"0810000000"}}]
[{"$nulls":9},"Session:-",null,{"$f":"Master!$E$6","v":"2022-23"}]
[null,null,"Roll No.:-",{"$nulls":5},{"$f":"VLOOKUP($A382,'Result Entry'!$B$9:$F$108,5,0)","v":0}]
[null,"◐","Scholar Number",{"$nulls":3},"↠",{"$f":"VLOOKUP($A382,'Result Entry'!$B$9:$DX$108,3,0)","v":0}]
[null,"◐","Student's Name",{"$nulls":3},"↠",{"$f":"VLOOKUP($A382,'Result Entry'!$B$9:$DX$108,6,0)","v":0}]
[null,"◐","Father's Name",{"$nulls":3},"↠",{"$f":"VLOOKUP($A382,'Result Entry'!$B$9:$DX$108,7,0)","v":0}]
[null,"◐","Mother's Name ",{"$nulls":3},"↠",{"$f":"VLOOKUP($A382,'Result Entry'!$B$9:$DX$108,8,0)","v":0}]
[null,"◐","Class & Section",{"$nulls":3},"↠",{"$f":"CONCATENATE('Result Entry'!$F$4,'Result Entry'!$I$4)","v":"2(A)"}]
[null,"◐","Date Of Birth",{"$nulls":3},"↠",{"$f":"VLOOKUP($A382,'Result Entry'!$B$9:$DX$108,9,0)","v":"00:00:00"}]
[null,"◐","Subject",{"$nulls":4},"Half Yearly","Total (T+H.Y.)","Yearly","Grand Total",null,"Subject Grade"]
[null,"◐","Max. Marks",{"$nulls":4},{"$f":"'Result Entry'!$Q$7","v":100},{"$f":"G395+H395","v":100},{"$f":"'Result Entry'!$U$7","v":100},{"$f":"I395+J395","v":200},null,"A/B/C/D/E"]
[null,"◐",{"$f":"'Result Entry'!$K$3","v":"Hindi"},{"$nulls":4},{"$f":"IF(OR(C396=\"\",$I387=\"NSO\"),\"\",VLOOKUP($A382,'Result Entry'!$B$9:$DX$108,16,0))","v":0},{"$f":"SUM(G396,H396)","v":0},{"$f":"IF(OR(C396=\"\",$I387=\"NSO\"),\"\",VLOOKUP($A382,'Result Entry'!$B$9:$DX$108,20,0))","v":0},{"$f":"SUM(I396,J396)","v":0},null,{"$f":"IF(OR(C396=\"\",$I387=\"NSO\"),\"\",VLOOKUP($A382,'Result Entry'!$B$9:$DX$108,23,0))","v":""}]
[null,"◐",{"$f":"'Result Entry'!$Y$3","v":"Mathematics"},{"$nulls":4},{"$f":"IF(OR(C397=\"\",$I387=\"NSO\"),\"\",VLOOKUP($A382,'Result Entry'!$B$9:$DX$108,30,0))","v":0},{"$f":"SUM(G397,H397)","v":0},{"$f":"IF(OR(C397=\"\",$I387=\"NSO\"),\"\",VLOOKUP($A382,'Result Entry'!$B$9:$DX$108,34,0))","v":0},{"$f":"SUM(I397,J397)","v":0},null,{"$f":"IF(OR(C397=\"\",$I387=\"NSO\"),\"\",VLOOKUP($A382,'Result Entry'!$B$9:$DX$108,37,0))","v":""}]
[null,"◐",{"$f":"'Result Entry'!$BO$3","v":"Env. Study"},{"$nulls":4},{"$f":"IF(OR(C398=\"\",$I387=\"NSO\"),\"\",VLOOKUP($A382,'Result Entry'!$B$9:$DX$108,66,0))","v":0},0,{"$f":"IF(OR(C398=\"\",$I387=\"NSO\"),\"\",VLOOKUP($A382,'Result Entry'!$B$9:$DX$108,67,0))","v":0},0,null,{"$f":"IF(OR(C398=\"\",$I387=\"NSO\"),\"\",VLOOKUP($A382,'Result Entry'!$B$9:$DX$108,73,0))","v":""}]
[null,"◐","Max. Marks",{"$nulls":4},{"$f":"'Result Entry'!$AS$7","v":50},50,{"$f":"'Result Entry'!$AW$7","v":50},100,null,"A/B/C/D/E"]
[null,"◐",{"$f":"'Result Entry'!$AM$3","v":"English"},{"$nulls":4},{"$f":"IF(OR(C400=\"\",$I387=\"NSO\"),\"\",VLOOKUP($A382,'Result Entry'!$B$9:$DX$108,44,0))","v":0},0,{"$f":"IF(OR(C400=\"\",$I387=\"NSO\"),\"\",VLOOKUP($A382,'Result Entry'!$B$9:$DX$108,48,0))","v":0},0,null,{"$f":"IF(OR(C400=\"\",$I387=\"NSO\"),\"\",VLOOKUP($A382,'Result Entry'!$B$9:$DX$108,51,0))","v":""}]
[null,"◐"]
[null,"◐","Overall Result",null,null,"Total Max. Marks",null,"Total Obtained Marks",null,"Percentage","Overall Grade","Result","Position in Class"]
[null,"◐",{"$nulls":3},{"$f":"IF(OR($I387=\"\",$I387=\"NSO\"),\"\",VLOOKUP($A382,'Result Entry'!$B$9:$DX$108,101,0))","v":500},null,{"$f":"IF(OR($I387=\"\",$I387=\"NSO\"),\"\",VLOOKUP($A382,'Result Entry'!$B$9:$DX$108,102,0))","v":0},null,{"$f":"IF(OR($I387=\"\",$I387=\"NSO\"),\"\",VLOOKUP($A382,'Result Entry'!$B$9:$DX$108,103,0))","v":{"v":0,"d":"0.00"}},{"$f":"IF(OR($I387=\"\",$I387=\"NSO\"),\"\",VLOOKUP($A382,'Result Entry'!$B$9:$DX$108,104,0))","v":""},{"$f":"IF(OR($I387=\"\",$I387=\"NSO\"),\"\",VLOOKUP($A382,'Result Entry'!$B$9:$DX$108,105,0))","v":""},{"$f":"IF(OR($I387=\"\",$I387=\"NSO\"),\"\",VLOOKUP($A382,'Result Entry'!$B$9:$DX$108,107,0))","v":""}]
[null,"◐",{"$nulls":6},"Total Meetings :-",null,{"$f":"IF(OR($I387=\"\",$I387=\"NSO\"),\"\",VLOOKUP($A382,'Result Entry'!$B$9:$DX$108,98,0))","v":0},"Attedance %"]
[null,"◐","Extra Subjects",{"$nulls":5},"Student's Meetings :-",null,{"$f":"IF(OR($I387=\"\",$I387=\"NSO\"),\"\",VLOOKUP($A382,'Result Entry'!$B$9:$DX$108,99,0))","v":0},{"$f":"IF(OR($I387=\"\",$I387=\"NSO\"),\"\",VLOOKUP($A382,'Result Entry'!$B$9:$DX$108,100,0))","v":""}]
[null,"◐","Subject",null,null,"Total Marks",null,"GRADE","Remark :-",null,{"$f":"IF(OR($I387=\"\",$I387=\"NSO\"),\"\",VLOOKUP($A382,'Result Entry'!$B$9:$DX$108,108,0))","v":0}]
[null,"◐",{"$nulls":6},"Result Date :-",null,{"$f":"'Result Entry'!$T$2","v":"2023-05-24"}]
[null,"◐",{"$f":"'Result Entry'!$BW$3","v":"WORK EXP."},null,null,{"$f":"IF(OR(C408=\"\",$I387=\"NSO\"),\"\",VLOOKUP($A382,'Result Entry'!$B$9:$DX$108,119,0))","v":"0/50"},null,{"$f":"IF(OR(C408=\"\",$I387=\"NSO\"),\"\",VLOOKUP($A382,'Result Entry'!$B$9:$DX$108,81,0))","v":""}]
[null,null,{"$f":"'Result Entry'!$CE$3","v":"ART EDU."},null,null,{"$f":"IF(OR(C409=\"\",$I387=\"NSO\"),\"\",VLOOKUP($A382,'Result Entry'!$B$9:$DX$108,123,0))","v":"0/50"},null,{"$f":"IF(OR(C409=\"\",$I387=\"NSO\"),\"\",VLOOKUP($A382,'Result Entry'!$B$9:$DX$108,89,0))","v":""}]
[null,"◐",{"$f":"'Result Entry'!$CM$3","v":"H&P. EDU."},null,null,{"$f":"IF(OR(C410=\"\",$I387=\"NSO\"),\"\",VLOOKUP($A382,'Result Entry'!$B$9:$DX$108,127,0))","v":"0/100"},null,{"$f":"IF(OR(C410=\"\",$I387=\"NSO\"),\"\",VLOOKUP($A382,'Result Entry'!$B$9:$DX$108,97,0))","v":""},"Signature Of The Class Teacher"]
[null,"◐","Grading System"]
[null,"◐","Grd.","% Range",null,"Description"]
[null,"◐","A","86-100",null,"Excellent",null,null,"Signature And Seal Of Principal/H.M."]
[null,"◐","B","71-85",null,"Very Good"]
[null,"◐","C","51-70",null,"Good"]
[null,"◐","D","31-50",null,"Average"]
[null,"◐","E","0-30",null,"Needs Improvement",null,null,"Wish bright future"]
[]
[]
[{"$f":"A382+1","v":12},"Department Of Education, Rajasthan"]
[null,{"$f":"IF(I425>0,CONCATENATE(C425,I425),0)","v":0},null,{"$f":"Master!$E$8","v":"Govt.Sr.Sec.Sch. "}]
[{"$nulls":3},{"$f":"Master!$E$11","v":"P.S.-Bapini (Jodhpur)"}]
[null,null,"Report Card",{"$nulls":6},"U-DISE Code:-",null,{"$f":"Master!$E$14","v":{"v":810000000,"d":"0810000000"}}]
[{"$nulls":9},"Session:-",null,{"$f":"Master!$E$6","v":"2022-23"}]
[null,null,"Roll No.:-",{"$nulls":5},{"$f":"VLOOKUP($A420,'Result Entry'!$B$9:$F$108,5,0)","v":0}]
[null,"◐","Scholar Number",{"$nulls":3},"↠",{"$f":"VLOOKUP($A420,'Result Entry'!$B$9:$DX$108,3,0)","v":0}]
[null,"◐","Student's Name",{"$nulls":3},"↠",{"$f":"VLOOKUP($A420,'Result Entry'!$B$9:$DX$108,6,0)","v":0}]
[null,"◐","Father's Name",{"$nulls":3},"↠",{"$f":"VLOOKUP($A420,'Result Entry'!$B$9:$DX$108,7,0)","v":0}]
[null,"◐","Mother's Name ",{"$nulls":3},"↠",{"$f":"VLOOKUP($A420,'Result Entry'!$B$9:$DX$108,8,0)","v":0}]
[null,"◐","Class & Section",{"$nulls":3},"↠",{"$f":"CONCATENATE('Result Entry'!$F$4,'Result Entry'!$I$4)","v":"2(A)"}]
[null,"◐","Date Of Birth",{"$nulls":3},"↠",{"$f":"VLOOKUP($A420,'Result Entry'!$B$9:$DX$108,9,0)","v":"00:00:00"}]
[null,"◐","Subject",{"$nulls":4},"Half Yearly","Total (T+H.Y.)","Yearly","Grand Total",null,"Subject Grade"]
[null,"◐","Max. Marks",{"$nulls":4},{"$f":"'Result Entry'!$Q$7","v":100},{"$f":"G433+H433","v":100},{"$f":"'Result Entry'!$U$7","v":100},{"$f":"I433+J433","v":200},null,"A/B/C/D/E"]
[null,"◐",{"$f":"'Result Entry'!$K$3","v":"Hindi"},{"$nulls":4},{"$f":"IF(OR(C434=\"\",$I425=\"NSO\"),\"\",VLOOKUP($A420,'Result Entry'!$B$9:$DX$108,16,0))","v":0},{"$f":"SUM(G434,H434)","v":0},{"$f":"IF(OR(C434=\"\",$I425=\"NSO\"),\"\",VLOOKUP($A420,'Result Entry'!$B$9:$DX$108,20,0))","v":0},{"$f":"SUM(I434,J434)","v":0},null,{"$f":"IF(OR(C434=\"\",$I425=\"NSO\"),\"\",VLOOKUP($A420,'Result Entry'!$B$9:$DX$108,23,0))","v":""}]
[null,"◐",{"$f":"'Result Entry'!$Y$3","v":"Mathematics"},{"$nulls":4},{"$f":"IF(OR(C435=\"\",$I425=\"NSO\"),\"\",VLOOKUP($A420,'Result Entry'!$B$9:$DX$108,30,0))","v":0},{"$f":"SUM(G435,H435)","v":0},{"$f":"IF(OR(C435=\"\",$I425=\"NSO\"),\"\",VLOOKUP($A420,'Result Entry'!$B$9:$DX$108,34,0))","v":0},{"$f":"SUM(I435,J435)","v":0},null,{"$f":"IF(OR(C435=\"\",$I425=\"NSO\"),\"\",VLOOKUP($A420,'Result Entry'!$B$9:$DX$108,37,0))","v":""}]
[null,"◐",{"$f":"'Result Entry'!$BO$3","v":"Env. Study"},{"$nulls":4},{"$f":"IF(OR(C436=\"\",$I425=\"NSO\"),\"\",VLOOKUP($A420,'Result Entry'!$B$9:$DX$108,66,0))","v":0},0,{"$f":"IF(OR(C436=\"\",$I425=\"NSO\"),\"\",VLOOKUP($A420,'Result Entry'!$B$9:$DX$108,67,0))","v":0},0,null,{"$f":"IF(OR(C436=\"\",$I425=\"NSO\"),\"\",VLOOKUP($A420,'Result Entry'!$B$9:$DX$108,73,0))","v":""}]
[null,"◐","Max. Marks",{"$nulls":4},{"$f":"'Result Entry'!$AS$7","v":50},50,{"$f":"'Result Entry'!$AW$7","v":50},100,null,"A/B/C/D/E"]
[null,"◐",{"$f":"'Result Entry'!$AM$3","v":"English"},{"$nulls":4},{"$f":"IF(OR(C438=\"\",$I425=\"NSO\"),\"\",VLOOKUP($A420,'Result Entry'!$B$9:$DX$108,44,0))","v":0},0,{"$f":"IF(OR(C438=\"\",$I425=\"NSO\"),\"\",VLOOKUP($A420,'Result Entry'!$B$9:$DX$108,48,0))","v":0},0,null,{"$f":"IF(OR(C438=\"\",$I425=\"NSO\"),\"\",VLOOKUP($A420,'Result Entry'!$B$9:$DX$108,51,0))","v":""}]
[null,"◐"]
[null,"◐","Overall Result",null,null,"Total Max. Marks",null,"Total Obtained Marks",null,"Percentage","Overall Grade","Result","Position in Class"]
[null,"◐",{"$nulls":3},{"$f":"IF(OR($I425=\"\",$I425=\"NSO\"),\"\",VLOOKUP($A420,'Result Entry'!$B$9:$DX$108,101,0))","v":500},null,{"$f":"IF(OR($I425=\"\",$I425=\"NSO\"),\"\",VLOOKUP($A420,'Result Entry'!$B$9:$DX$108,102,0))","v":0},null,{"$f":"IF(OR($I425=\"\",$I425=\"NSO\"),\"\",VLOOKUP($A420,'Result Entry'!$B$9:$DX$108,103,0))","v":{"v":0,"d":"0.00"}},{"$f":"IF(OR($I425=\"\",$I425=\"NSO\"),\"\",VLOOKUP($A420,'Result Entry'!$B$9:$DX$108,104,0))","v":""},{"$f":"IF(OR($I425=\"\",$I425=\"NSO\"),\"\",VLOOKUP($A420,'Result Entry'!$B$9:$DX$108,105,0))","v":""},{"$f":"IF(OR($I425=\"\",$I425=\"NSO\"),\"\",VLOOKUP($A420,'Result Entry'!$B$9:$DX$108,107,0))","v":""}]
[null,"◐",{"$nulls":6},"Total Meetings :-",null,{"$f":"IF(OR($I425=\"\",$I425=\"NSO\"),\"\",VLOOKUP($A420,'Result Entry'!$B$9:$DX$108,98,0))","v":0},"Attedance %"]
[null,"◐","Extra Subjects",{"$nulls":5},"Student's Meetings :-",null,{"$f":"IF(OR($I425=\"\",$I425=\"NSO\"),\"\",VLOOKUP($A420,'Result Entry'!$B$9:$DX$108,99,0))","v":0},{"$f":"IF(OR($I425=\"\",$I425=\"NSO\"),\"\",VLOOKUP($A420,'Result Entry'!$B$9:$DX$108,100,0))","v":""}]
[null,"◐","Subject",null,null,"Total Marks",null,"GRADE","Remark :-",null,{"$f":"IF(OR($I425=\"\",$I425=\"NSO\"),\"\",VLOOKUP($A420,'Result Entry'!$B$9:$DX$108,108,0))","v":0}]
[null,"◐",{"$nulls":6},"Result Date :-",null,{"$f":"'Result Entry'!$T$2","v":"2023-05-24"}]
[null,"◐",{"$f":"'Result Entry'!$BW$3","v":"WORK EXP."},null,null,{"$f":"IF(OR(C446=\"\",$I425=\"NSO\"),\"\",VLOOKUP($A420,'Result Entry'!$B$9:$DX$108,119,0))","v":"0/50"},null,{"$f":"IF(OR(C446=\"\",$I425=\"NSO\"),\"\",VLOOKUP($A420,'Result Entry'!$B$9:$DX$108,81,0))","v":""}]
[null,null,{"$f":"'Result Entry'!$CE$3","v":"ART EDU."},null,null,{"$f":"IF(OR(C447=\"\",$I425=\"NSO\"),\"\",VLOOKUP($A420,'Result Entry'!$B$9:$DX$108,123,0))","v":"0/50"},null,{"$f":"IF(OR(C447=\"\",$I425=\"NSO\"),\"\",VLOOKUP($A420,'Result Entry'!$B$9:$DX$108,89,0))","v":""}]
[null,"◐",{"$f":"'Result Entry'!$CM$3","v":"H&P. EDU."},null,null,{"$f":"IF(OR(C448=\"\",$I425=\"NSO\"),\"\",VLOOKUP($A420,'Result Entry'!$B$9:$DX$108,127,0))","v":"0/100"},null,{"$f":"IF(OR(C448=\"\",$I425=\"NSO\"),\"\",VLOOKUP($A420,'Result Entry'!$B$9:$DX$108,97,0))","v":""},"Signature Of The Class Teacher"]
[null,"◐","Grading System"]
[null,"◐","Grd.","% Range",null,"Description"]
[null,"◐","A","86-100",null,"Excellent",null,null,"Signature And Seal Of Principal/H.M."]
[null,"◐","B","71-85",null,"Very Good"]
[null,"◐","C","51-70",null,"Good"]
[null,"◐","D","31-50",null,"Average"]
[null,"◐","E","0-30",null,"Needs Improvement",null,null,"Wish bright future"]
[]
[]
[{"$f":"A420+1","v":13},"Department Of Education, Rajasthan"]
[null,{"$f":"IF(I463>0,CONCATENATE(C463,I463),0)","v":0},null,{"$f":"Master!$E$8","v":"Govt.Sr.Sec.Sch. "}]
[{"$nulls":3},{"$f":"Master!$E$11","v":"P.S.-Bapini (Jodhpur)"}]
[null,null,"Report Card",{"$nulls":6},"U-DISE Code:-",null,{"$f":"Master!$E$14","v":{"v":810000000,"d":"0810000000"}}]
[{"$nulls":9},"Session:-",null,{"$f":"Master!$E$6","v":"2022-23"}]
[null,null,"Roll No.:-",{"$nulls":5},{"$f":"VLOOKUP($A458,'Result Entry'!$B$9:$F$108,5,0)","v":0}]
[null,"◐","Scholar Number",{"$nulls":3},"↠",{"$f":"VLOOKUP($A458,'Result Entry'!$B$9:$DX$108,3,0)","v":0}]
[null,"◐","Student's Name",{"$nulls":3},"↠",{"$f":"VLOOKUP($A458,'Result Entry'!$B$9:$DX$108,6,0)","v":0}]
[null,"◐","Father's Name",{"$nulls":3},"↠",{"$f":"VLOOKUP($A458,'Result Entry'!$B$9:$DX$108,7,0)","v":0}]
[null,"◐","Mother's Name ",{"$nulls":3},"↠",{"$f":"VLOOKUP($A458,'Result Entry'!$B$9:$DX$108,8,0)","v":0}]
[null,"◐","Class & Section",{"$nulls":3},"↠",{"$f":"CONCATENATE('Result Entry'!$F$4,'Result Entry'!$I$4)","v":"2(A)"}]
[null,"◐","Date Of Birth",{"$nulls":3},"↠",{"$f":"VLOOKUP($A458,'Result Entry'!$B$9:$DX$108,9,0)","v":"00:00:00"}]
[null,"◐","Subject",{"$nulls":4},"Half Yearly","Total (T+H.Y.)","Yearly","Grand Total",null,"Subject Grade"]
[null,"◐","Max. Marks",{"$nulls":4},{"$f":"'Result Entry'!$Q$7","v":100},{"$f":"G471+H471","v":100},{"$f":"'Result Entry'!$U$7","v":100},{"$f":"I471+J471","v":200},null,"A/B/C/D/E"]
[null,"◐",{"$f":"'Result Entry'!$K$3","v":"Hindi"},{"$nulls":4},{"$f":"IF(OR(C472=\"\",$I463=\"NSO\"),\"\",VLOOKUP($A458,'Result Entry'!$B$9:$DX$108,16,0))","v":0},{"$f":"SUM(G472,H472)","v":0},{"$f":"IF(OR(C472=\"\",$I463=\"NSO\"),\"\",VLOOKUP($A458,'Result Entry'!$B$9:$DX$108,20,0))","v":0},{"$f":"SUM(I472,J472)","v":0},null,{"$f":"IF(OR(C472=\"\",$I463=\"NSO\"),\"\",VLOOKUP($A458,'Result Entry'!$B$9:$DX$108,23,0))","v":""}]
[null,"◐",{"$f":"'Result Entry'!$Y$3","v":"Mathematics"},{"$nulls":4},{"$f":"IF(OR(C473=\"\",$I463=\"NSO\"),\"\",VLOOKUP($A458,'Result Entry'!$B$9:$DX$108,30,0))","v":0},{"$f":"SUM(G473,H473)","v":0},{"$f":"IF(OR(C473=\"\",$I463=\"NSO\"),\"\",VLOOKUP($A458,'Result Entry'!$B$9:$DX$108,34,0))","v":0},{"$f":"SUM(I473,J473)","v":0},null,{"$f":"IF(OR(C473=\"\",$I463=\"NSO\"),\"\",VLOOKUP($A458,'Result Entry'!$B$9:$DX$108,37,0))","v":""}]
[null,"◐",{"$f":"'Result Entry'!$BO$3","v":"Env. Study"},{"$nulls":4},{"$f":"IF(OR(C474=\"\",$I463=\"NSO\"),\"\",VLOOKUP($A458,'Result Entry'!$B$9:$DX$108,66,0))","v":0},0,{"$f":"IF(OR(C474=\"\",$I463=\"NSO\"),\"\",VLOOKUP($A458,'Result Entry'!$B$9:$DX$108,67,0))","v":0},0,null,{"$f":"IF(OR(C474=\"\",$I463=\"NSO\"),\"\",VLOOKUP($A458,'Result Entry'!$B$9:$DX$108,73,0))","v":""}]
[null,"◐","Max. Marks",{"$nulls":4},{"$f":"'Result Entry'!$AS$7","v":50},50,{"$f":"'Result Entry'!$AW$7","v":50},100,null,"A/B/C/D/E"]
[null,"◐",{"$f":"'Result Entry'!$AM$3","v":"English"},{"$nulls":4},{"$f":"IF(OR(C476=\"\",$I463=\"NSO\"),\"\",VLOOKUP($A458,'Result Entry'!$B$9:$DX$108,44,0))","v":0},0,{"$f":"IF(OR(C476=\"\",$I463=\"NSO\"),\"\",VLOOKUP($A458,'Result Entry'!$B$9:$DX$108,48,0))","v":0},0,null,{"$f":"IF(OR(C476=\"\",$I463=\"NSO\"),\"\",VLOOKUP($A458,'Result Entry'!$B$9:$DX$108,51,0))","v":""}]
[null,"◐"]
[null,"◐","Overall Result",null,null,"Total Max. Marks",null,"Total Obtained Marks",null,"Percentage","Overall Grade","Result","Position in Class"]
[null,"◐",{"$nulls":3},{"$f":"IF(OR($I463=\"\",$I463=\"NSO\"),\"\",VLOOKUP($A458,'Result Entry'!$B$9:$DX$108,101,0))","v":500},null,{"$f":"IF(OR($I463=\"\",$I463=\"NSO\"),\"\",VLOOKUP($A458,'Result Entry'!$B$9:$DX$108,102,0))","v":0},null,{"$f":"IF(OR($I463=\"\",$I463=\"NSO\"),\"\",VLOOKUP($A458,'Result Entry'!$B$9:$DX$108,103,0))","v":{"v":0,"d":"0.00"}},{"$f":"IF(OR($I463=\"\",$I463=\"NSO\"),\"\",VLOOKUP($A458,'Result Entry'!$B$9:$DX$108,104,0))","v":""},{"$f":"IF(OR($I463=\"\",$I463=\"NSO\"),\"\",VLOOKUP($A458,'Result Entry'!$B$9:$DX$108,105,0))","v":""},{"$f":"IF(OR($I463=\"\",$I463=\"NSO\"),\"\",VLOOKUP($A458,'Result Entry'!$B$9:$DX$108,107,0))","v":""}]
[null,"◐",{"$nulls":6},"Total Meetings :-",null,{"$f":"IF(OR($I463=\"\",$I463=\"NSO\"),\"\",VLOOKUP($A458,'Result Entry'!$B$9:$DX$108,98,0))","v":0},"Attedance %"]
[null,"◐","Extra Subjects",{"$nulls":5},"Student's Meetings :-",null,{"$f":"IF(OR($I463=\"\",$I463=\"NSO\"),\"\",VLOOKUP($A458,'Result Entry'!$B$9:$DX$108,99,0))","v":0},{"$f":"IF(OR($I463=\"\",$I463=\"NSO\"),\"\",VLOOKUP($A458,'Result Entry'!$B$9:$DX$108,100,0))","v":""}]
[null,"◐","Subject",null,null,"Total Marks",null,"GRADE","Remark :-",null,{"$f":"IF(OR($I463=\"\",$I463=\"NSO\"),\"\",VLOOKUP($A458,'Result Entry'!$B$9:$DX$108,108,0))","v":0}]
[null,"◐",{"$nulls":6},"Result Date :-",null,{"$f":"'Result Entry'!$T$2","v":"2023-05-24"}]
[null,"◐",{"$f":"'Result Entry'!$BW$3","v":"WORK EXP."},null,null,{"$f":"IF(OR(C484=\"\",$I463=\"NSO\"),\"\",VLOOKUP($A458,'Result Entry'!$B$9:$DX$108,119,0))","v":"0/50"},null,{"$f":"IF(OR(C484=\"\",$I463=\"NSO\"),\"\",VLOOKUP($A458,'Result Entry'!$B$9:$DX$108,81,0))","v":""}]
[null,null,{"$f":"'Result Entry'!$CE$3","v":"ART EDU."},null,null,{"$f":"IF(OR(C485=\"\",$I463=\"NSO\"),\"\",VLOOKUP($A458,'Result Entry'!$B$9:$DX$108,123,0))","v":"0/50"},null,{"$f":"IF(OR(C485=\"\",$I463=\"NSO\"),\"\",VLOOKUP($A458,'Result Entry'!$B$9:$DX$108,89,0))","v":""}]
[null,"◐",{"$f":"'Result Entry'!$CM$3","v":"H&P. EDU."},null,null,{"$f":"IF(OR(C486=\"\",$I463=\"NSO\"),\"\",VLOOKUP($A458,'Result Entry'!$B$9:$DX$108,127,0))","v":"0/100"},null,{"$f":"IF(OR(C486=\"\",$I463=\"NSO\"),\"\",VLOOKUP($A458,'Result Entry'!$B$9:$DX$108,97,0))","v":""},"Signature Of The Class Teacher"]
[null,"◐","Grading System"]
[null,"◐","Grd.","% Range",null,"Description"]
[null,"◐","A","86-100",null,"Excellent",null,null,"Signature And Seal Of Principal/H.M."]
[null,"◐","B","71-85",null,"Very Good"]
[null,"◐","C","51-70",null,"Good"]
[null,"◐","D","31-50",null,"Average"]
[null,"◐","E","0-30",null,"Needs Improvement",null,null,"Wish bright future"]
[]
[]
[{"$f":"A458+1","v":14},"Department Of Education, Rajasthan"]
[null,{"$f":"IF(I501>0,CONCATENATE(C501,I501),0)","v":0},null,{"$f":"Master!$E$8","v":"Govt.Sr.Sec.Sch. "}]
[{"$nulls":3},{"$f":"Master!$E$11","v":"P.S.-Bapini (Jodhpur)"}]
[null,null,"Report Card",{"$nulls":6},"U-DISE Code:-",null,{"$f":"Master!$E$14","v":{"v":810000000,"d":"0810000000"}}]
[{"$nulls":9},"Session:-",null,{"$f":"Master!$E$6","v":"2022-23"}]
[null,null,"Roll No.:-",{"$nulls":5},{"$f":"VLOOKUP($A496,'Result Entry'!$B$9:$F$108,5,0)","v":0}]
[null,"◐","Scholar Number",{"$nulls":3},"↠",{"$f":"VLOOKUP($A496,'Result Entry'!$B$9:$DX$108,3,0)","v":0}]
[null,"◐","Student's Name",{"$nulls":3},"↠",{"$f":"VLOOKUP($A496,'Result Entry'!$B$9:$DX$108,6,0)","v":0}]
[null,"◐","Father's Name",{"$nulls":3},"↠",{"$f":"VLOOKUP($A496,'Result Entry'!$B$9:$DX$108,7,0)","v":0}]
[null,"◐","Mother's Name ",{"$nulls":3},"↠",{"$f":"VLOOKUP($A496,'Result Entry'!$B$9:$DX$108,8,0)","v":0}]
[null,"◐","Class & Section",{"$nulls":3},"↠",{"$f":"CONCATENATE('Result Entry'!$F$4,'Result Entry'!$I$4)","v":"2(A)"}]
[null,"◐","Date Of Birth",{"$nulls":3},"↠",{"$f":"VLOOKUP($A496,'Result Entry'!$B$9:$DX$108,9,0)","v":"00:00:00"}]
[null,"◐","Subject",{"$nulls":4},"Half Yearly","Total (T+H.Y.)","Yearly","Grand Total",null,"Subject Grade"]
[null,"◐","Max. Marks",{"$nulls":4},{"$f":"'Result Entry'!$Q$7","v":100},{"$f":"G509+H509","v":100},{"$f":"'Result Entry'!$U$7","v":100},{"$f":"I509+J509","v":200},null,"A/B/C/D/E"]
[null,"◐",{"$f":"'Result Entry'!$K$3","v":"Hindi"},{"$nulls":4},{"$f":"IF(OR(C510=\"\",$I501=\"NSO\"),\"\",VLOOKUP($A496,'Result Entry'!$B$9:$DX$108,16,0))","v":0},{"$f":"SUM(G510,H510)","v":0},{"$f":"IF(OR(C510=\"\",$I501=\"NSO\"),\"\",VLOOKUP($A496,'Result Entry'!$B$9:$DX$108,20,0))","v":0},{"$f":"SUM(I510,J510)","v":0},null,{"$f":"IF(OR(C510=\"\",$I501=\"NSO\"),\"\",VLOOKUP($A496,'Result Entry'!$B$9:$DX$108,23,0))","v":""}]
[null,"◐",{"$f":"'Result Entry'!$Y$3","v":"Mathematics"},{"$nulls":4},{"$f":"IF(OR(C511=\"\",$I501=\"NSO\"),\"\",VLOOKUP($A496,'Result Entry'!$B$9:$DX$108,30,0))","v":0},{"$f":"SUM(G511,H511)","v":0},{"$f":"IF(OR(C511=\"\",$I501=\"NSO\"),\"\",VLOOKUP($A496,'Result Entry'!$B$9:$DX$108,34,0))","v":0},{"$f":"SUM(I511,J511)","v":0},null,{"$f":"IF(OR(C511=\"\",$I501=\"NSO\"),\"\",VLOOKUP($A496,'Result Entry'!$B$9:$DX$108,37,0))","v":""}]
[null,"◐",{"$f":"'Result Entry'!$BO$3","v":"Env. Study"},{"$nulls":4},{"$f":"IF(OR(C512=\"\",$I501=\"NSO\"),\"\",VLOOKUP($A496,'Result Entry'!$B$9:$DX$108,66,0))","v":0},0,{"$f":"IF(OR(C512=\"\",$I501=\"NSO\"),\"\",VLOOKUP($A496,'Result Entry'!$B$9:$DX$108,67,0))","v":0},0,null,{"$f":"IF(OR(C512=\"\",$I501=\"NSO\"),\"\",VLOOKUP($A496,'Result Entry'!$B$9:$DX$108,73,0))","v":""}]
[null,"◐","Max. Marks",{"$nulls":4},{"$f":"'Result Entry'!$AS$7","v":50},50,{"$f":"'Result Entry'!$AW$7","v":50},100,null,"A/B/C/D/E"]
[null,"◐",{"$f":"'Result Entry'!$AM$3","v":"English"},{"$nulls":4},{"$f":"IF(OR(C514=\"\",$I501=\"NSO\"),\"\",VLOOKUP($A496,'Result Entry'!$B$9:$DX$108,44,0))","v":0},0,{"$f":"IF(OR(C514=\"\",$I501=\"NSO\"),\"\",VLOOKUP($A496,'Result Entry'!$B$9:$DX$108,48,0))","v":0},0,null,{"$f":"IF(OR(C514=\"\",$I501=\"NSO\"),\"\",VLOOKUP($A496,'Result Entry'!$B$9:$DX$108,51,0))","v":""}]
[null,"◐"]
[null,"◐","Overall Result",null,null,"Total Max. Marks",null,"Total Obtained Marks",null,"Percentage","Overall Grade","Result","Position in Class"]
[null,"◐",{"$nulls":3},{"$f":"IF(OR($I501=\"\",$I501=\"NSO\"),\"\",VLOOKUP($A496,'Result Entry'!$B$9:$DX$108,101,0))","v":500},null,{"$f":"IF(OR($I501=\"\",$I501=\"NSO\"),\"\",VLOOKUP($A496,'Result Entry'!$B$9:$DX$108,102,0))","v":0},null,{"$f":"IF(OR($I501=\"\",$I501=\"NSO\"),\"\",VLOOKUP($A496,'Result Entry'!$B$9:$DX$108,103,0))","v":{"v":0,"d":"0.00"}},{"$f":"IF(OR($I501=\"\",$I501=\"NSO\"),\"\",VLOOKUP($A496,'Result Entry'!$B$9:$DX$108,104,0))","v":""},{"$f":"IF(OR($I501=\"\",$I501=\"NSO\"),\"\",VLOOKUP($A496,'Result Entry'!$B$9:$DX$108,105,0))","v":""},{"$f":"IF(OR($I501=\"\",$I501=\"NSO\"),\"\",VLOOKUP($A496,'Result Entry'!$B$9:$DX$108,107,0))","v":""}]
[null,"◐",{"$nulls":6},"Total Meetings :-",null,{"$f":"IF(OR($I501=\"\",$I501=\"NSO\"),\"\",VLOOKUP($A496,'Result Entry'!$B$9:$DX$108,98,0))","v":0},"Attedance %"]
[null,"◐","Extra Subjects",{"$nulls":5},"Student's Meetings :-",null,{"$f":"IF(OR($I501=\"\",$I501=\"NSO\"),\"\",VLOOKUP($A496,'Result Entry'!$B$9:$DX$108,99,0))","v":0},{"$f":"IF(OR($I501=\"\",$I501=\"NSO\"),\"\",VLOOKUP($A496,'Result Entry'!$B$9:$DX$108,100,0))","v":""}]
[null,"◐","Subject",null,null,"Total Marks",null,"GRADE","Remark :-",null,{"$f":"IF(OR($I501=\"\",$I501=\"NSO\"),\"\",VLOOKUP($A496,'Result Entry'!$B$9:$DX$108,108,0))","v":0}]
[null,"◐",{"$nulls":6},"Result Date :-",null,{"$f":"'Result Entry'!$T$2","v":"2023-05-24"}]
[null,"◐",{"$f":"'Result Entry'!$BW$3","v":"WORK EXP."},null,null,{"$f":"IF(OR(C522=\"\",$I501=\"NSO\"),\"\",VLOOKUP($A496,'Result Entry'!$B$9:$DX$108,119,0))","v":"0/50"},null,{"$f":"IF(OR(C522=\"\",$I501=\"NSO\"),\"\",VLOOKUP($A496,'Result Entry'!$B$9:$DX$108,81,0))","v":""}]
[null,null,{"$f":"'Result Entry'!$CE$3","v":"ART EDU."},null,null,{"$f":"IF(OR(C523=\"\",$I501=\"NSO\"),\"\",VLOOKUP($A496,'Result Entry'!$B$9:$DX$108,123,0))","v":"0/50"},null,{"$f":"IF(OR(C523=\"\",$I501=\"NSO\"),\"\",VLOOKUP($A496,'Result Entry'!$B$9:$DX$108,89,0))","v":""}]
[null,"◐",{"$f":"'Result Entry'!$CM$3","v":"H&P. EDU."},null,null,{"$f":"IF(OR(C524=\"\",$I501=\"NSO\"),\"\",VLOOKUP($A496,'Result Entry'!$B$9:$DX$108,127,0))","v":"0/100"},null,{"$f":"IF(OR(C524=\"\",$I501=\"NSO\"),\"\",VLOOKUP($A496,'Result Entry'!$B$9:$DX$108,97,0))","v":""},"Signature Of The Class Teacher"]
[null,"◐","Grading System"]
[null,"◐","Grd.","% Range",null,"Description"]
[null,"◐","A","86-100",null,"Excellent",null,null,"Signature And Seal Of Principal/H.M."]
[null,"◐","B","71-85",null,"Very Good"]
[null,"◐","C","51-70",null,"Good"]
[null,"◐","D","31-50",null,"Average"]
[null,"◐","E","0-30",null,"Needs Improvement",null,null,"Wish bright future"]
[]
[]
[{"$f":"A496+1","v":15},"Department Of Education, Rajasthan"]
[null,{"$f":"IF(I539>0,CONCATENATE(C539,I539),0)","v":0},null,{"$f":"Master!$E$8","v":"Govt.Sr.Sec.Sch. "}]
[{"$nulls":3},{"$f":"Master!$E$11","v":"P.S.-Bapini (Jodhpur)"}]
[null,null,"Report Card",{"$nulls":6},"U-DISE Code:-",null,{"$f":"Master!$E$14","v":{"v":810000000,"d":"0810000000"}}]
[{"$nulls":9},"Session:-",null,{"$f":"Master!$E$6","v":"2022-23"}]
[null,null,"Roll No.:-",{"$nulls":5},{"$f":"VLOOKUP($A534,'Result Entry'!$B$9:$F$108,5,0)","v":0}]
[null,"◐","Scholar Number",{"$nulls":3},"↠",{"$f":"VLOOKUP($A534,'Result Entry'!$B$9:$DX$108,3,0)","v":0}]
[null,"◐","Student's Name",{"$nulls":3},"↠",{"$f":"VLOOKUP($A534,'Result Entry'!$B$9:$DX$108,6,0)","v":0}]
[null,"◐","Father's Name",{"$nulls":3},"↠",{"$f":"VLOOKUP($A534,'Result Entry'!$B$9:$DX$108,7,0)","v":0}]
[null,"◐","Mother's Name ",{"$nulls":3},"↠",{"$f":"VLOOKUP($A534,'Result Entry'!$B$9:$DX$108,8,0)","v":0}]
[null,"◐","Class & Section",{"$nulls":3},"↠",{"$f":"CONCATENATE('Result Entry'!$F$4,'Result Entry'!$I$4)","v":"2(A)"}]
[null,"◐","Date Of Birth",{"$nulls":3},"↠",{"$f":"VLOOKUP($A534,'Result Entry'!$B$9:$DX$108,9,0)","v":"00:00:00"}]
[null,"◐","Subject",{"$nulls":4},"Half Yearly","Total (T+H.Y.)","Yearly","Grand Total",null,"Subject Grade"]
[null,"◐","Max. Marks",{"$nulls":4},{"$f":"'Result Entry'!$Q$7","v":100},{"$f":"G547+H547","v":100},{"$f":"'Result Entry'!$U$7","v":100},{"$f":"I547+J547","v":200},null,"A/B/C/D/E"]
[null,"◐",{"$f":"'Result Entry'!$K$3","v":"Hindi"},{"$nulls":4},{"$f":"IF(OR(C548=\"\",$I539=\"NSO\"),\"\",VLOOKUP($A534,'Result Entry'!$B$9:$DX$108,16,0))","v":0},{"$f":"SUM(G548,H548)","v":0},{"$f":"IF(OR(C548=\"\",$I539=\"NSO\"),\"\",VLOOKUP($A534,'Result Entry'!$B$9:$DX$108,20,0))","v":0},{"$f":"SUM(I548,J548)","v":0},null,{"$f":"IF(OR(C548=\"\",$I539=\"NSO\"),\"\",VLOOKUP($A534,'Result Entry'!$B$9:$DX$108,23,0))","v":""}]
[null,"◐",{"$f":"'Result Entry'!$Y$3","v":"Mathematics"},{"$nulls":4},{"$f":"IF(OR(C549=\"\",$I539=\"NSO\"),\"\",VLOOKUP($A534,'Result Entry'!$B$9:$DX$108,30,0))","v":0},{"$f":"SUM(G549,H549)","v":0},{"$f":"IF(OR(C549=\"\",$I539=\"NSO\"),\"\",VLOOKUP($A534,'Result Entry'!$B$9:$DX$108,34,0))","v":0},{"$f":"SUM(I549,J549)","v":0},null,{"$f":"IF(OR(C549=\"\",$I539=\"NSO\"),\"\",VLOOKUP($A534,'Result Entry'!$B$9:$DX$108,37,0))","v":""}]
[null,"◐",{"$f":"'Result Entry'!$BO$3","v":"Env. Study"},{"$nulls":4},{"$f":"IF(OR(C550=\"\",$I539=\"NSO\"),\"\",VLOOKUP($A534,'Result Entry'!$B$9:$DX$108,66,0))","v":0},0,{"$f":"IF(OR(C550=\"\",$I539=\"NSO\"),\"\",VLOOKUP($A534,'Result Entry'!$B$9:$DX$108,67,0))","v":0},0,null,{"$f":"IF(OR(C550=\"\",$I539=\"NSO\"),\"\",VLOOKUP($A534,'Result Entry'!$B$9:$DX$108,73,0))","v":""}]
[null,"◐","Max. Marks",{"$nulls":4},{"$f":"'Result Entry'!$AS$7","v":50},50,{"$f":"'Result Entry'!$AW$7","v":50},100,null,"A/B/C/D/E"]
[null,"◐",{"$f":"'Result Entry'!$AM$3","v":"English"},{"$nulls":4},{"$f":"IF(OR(C552=\"\",$I539=\"NSO\"),\"\",VLOOKUP($A534,'Result Entry'!$B$9:$DX$108,44,0))","v":0},0,{"$f":"IF(OR(C552=\"\",$I539=\"NSO\"),\"\",VLOOKUP($A534,'Result Entry'!$B$9:$DX$108,48,0))","v":0},0,null,{"$f":"IF(OR(C552=\"\",$I539=\"NSO\"),\"\",VLOOKUP($A534,'Result Entry'!$B$9:$DX$108,51,0))","v":""}]
[null,"◐"]
[null,"◐","Overall Result",null,null,"Total Max. Marks",null,"Total Obtained Marks",null,"Percentage","Overall Grade","Result","Position in Class"]
[null,"◐",{"$nulls":3},{"$f":"IF(OR($I539=\"\",$I539=\"NSO\"),\"\",VLOOKUP($A534,'Result Entry'!$B$9:$DX$108,101,0))","v":500},null,{"$f":"IF(OR($I539=\"\",$I539=\"NSO\"),\"\",VLOOKUP($A534,'Result Entry'!$B$9:$DX$108,102,0))","v":0},null,{"$f":"IF(OR($I539=\"\",$I539=\"NSO\"),\"\",VLOOKUP($A534,'Result Entry'!$B$9:$DX$108,103,0))","v":{"v":0,"d":"0.00"}},{"$f":"IF(OR($I539=\"\",$I539=\"NSO\"),\"\",VLOOKUP($A534,'Result Entry'!$B$9:$DX$108,104,0))","v":""},{"$f":"IF(OR($I539=\"\",$I539=\"NSO\"),\"\",VLOOKUP($A534,'Result Entry'!$B$9:$DX$108,105,0))","v":""},{"$f":"IF(OR($I539=\"\",$I539=\"NSO\"),\"\",VLOOKUP($A534,'Result Entry'!$B$9:$DX$108,107,0))","v":""}]
[null,"◐",{"$nulls":6},"Total Meetings :-",null,{"$f":"IF(OR($I539=\"\",$I539=\"NSO\"),\"\",VLOOKUP($A534,'Result Entry'!$B$9:$DX$108,98,0))","v":0},"Attedance %"]
[null,"◐","Extra Subjects",{"$nulls":5},"Student's Meetings :-",null,{"$f":"IF(OR($I539=\"\",$I539=\"NSO\"),\"\",VLOOKUP($A534,'Result Entry'!$B$9:$DX$108,99,0))","v":0},{"$f":"IF(OR($I539=\"\",$I539=\"NSO\"),\"\",VLOOKUP($A534,'Result Entry'!$B$9:$DX$108,100,0))","v":""}]
[null,"◐","Subject",null,null,"Total Marks",null,"GRADE","Remark :-",null,{"$f":"IF(OR($I539=\"\",$I539=\"NSO\"),\"\",VLOOKUP($A534,'Result Entry'!$B$9:$DX$108,108,0))","v":0}]
[null,"◐",{"$nulls":6},"Result Date :-",null,{"$f":"'Result Entry'!$T$2","v":"2023-05-24"}]
[null,"◐",{"$f":"'Result Entry'!$BW$3","v":"WORK EXP."},null,null,{"$f":"IF(OR(C560=\"\",$I539=\"NSO\"),\"\",VLOOKUP($A534,'Result Entry'!$B$9:$DX$108,119,0))","v":"0/50"},null,{"$f":"IF(OR(C560=\"\",$I539=\"NSO\"),\"\",VLOOKUP($A534,'Result Entry'!$B$9:$DX$108,81,0))","v":""}]
[null,null,{"$f":"'Result Entry'!$CE$3","v":"ART EDU."},null,null,{"$f":"IF(OR(C561=\"\",$I539=\"NSO\"),\"\",VLOOKUP($A534,'Result Entry'!$B$9:$DX$108,123,0))","v":"0/50"},null,{"$f":"IF(OR(C561=\"\",$I539=\"NSO\"),\"\",VLOOKUP($A534,'Result Entry'!$B$9:$DX$108,89,0))","v":""}]
[null,"◐",{"$f":"'Result Entry'!$CM$3","v":"H&P. EDU."},null,null,{"$f":"IF(OR(C562=\"\",$I539=\"NSO\"),\"\",VLOOKUP($A534,'Result Entry'!$B$9:$DX$108,127,0))","v":"0/100"},null,{"$f":"IF(OR(C562=\"\",$I539=\"NSO\"),\"\",VLOOKUP($A534,'Result Entry'!$B$9:$DX$108,97,0))","v":""},"Signature Of The Class Teacher"]
[null,"◐","Grading System"]
[null,"◐","Grd.","% Range",null,"Description"]
[null,"◐","A","86-100",null,"Excellent",null,null,"Signature And Seal Of Principal/H.M."]
[null,"◐","B","71-85",null,"Very Good"]
[null,"◐","C","51-70",null,"Good"]
[null,"◐","D","31-50",null,"Average"]
[null,"◐","E","0-30",null,"Needs Improvement",null,null,"Wish bright future"]
[]
[]
[{"$f":"A534+1","v":16},"Department Of Education, Rajasthan"]
[null,{"$f":"IF(I577>0,CONCATENATE(C577,I577),0)","v":0},null,{"$f":"Master!$E$8","v":"Govt.Sr.Sec.Sch. "}]
[{"$nulls":3},{"$f":"Master!$E$11","v":"P.S.-Bapini (Jodhpur)"}]
[null,null,"Report Card",{"$nulls":6},"U-DISE Code:-",null,{"$f":"Master!$E$14","v":{"v":810000000,"d":"0810000000"}}]
[{"$nulls":9},"Session:-",null,{"$f":"Master!$E$6","v":"2022-23"}]
[null,null,"Roll No.:-",{"$nulls":5},{"$f":"VLOOKUP($A572,'Result Entry'!$B$9:$F$108,5,0)","v":0}]
[null,"◐","Scholar Number",{"$nulls":3},"↠",{"$f":"VLOOKUP($A572,'Result Entry'!$B$9:$DX$108,3,0)","v":0}]
[null,"◐","Student's Name",{"$nulls":3},"↠",{"$f":"VLOOKUP($A572,'Result Entry'!$B$9:$DX$108,6,0)","v":0}]
[null,"◐","Father's Name",{"$nulls":3},"↠",{"$f":"VLOOKUP($A572,'Result Entry'!$B$9:$DX$108,7,0)","v":0}]
[null,"◐","Mother's Name ",{"$nulls":3},"↠",{"$f":"VLOOKUP($A572,'Result Entry'!$B$9:$DX$108,8,0)","v":0}]
[null,"◐","Class & Section",{"$nulls":3},"↠",{"$f":"CONCATENATE('Result Entry'!$F$4,'Result Entry'!$I$4)","v":"2(A)"}]
[null,"◐","Date Of Birth",{"$nulls":3},"↠",{"$f":"VLOOKUP($A572,'Result Entry'!$B$9:$DX$108,9,0)","v":"00:00:00"}]
[null,"◐","Subject",{"$nulls":4},"Half Yearly","Total (T+H.Y.)","Yearly","Grand Total",null,"Subject Grade"]
[null,"◐","Max. Marks",{"$nulls":4},{"$f":"'Result Entry'!$Q$7","v":100},{"$f":"G585+H585","v":100},{"$f":"'Result Entry'!$U$7","v":100},{"$f":"I585+J585","v":200},null,"A/B/C/D/E"]
[null,"◐",{"$f":"'Result Entry'!$K$3","v":"Hindi"},{"$nulls":4},{"$f":"IF(OR(C586=\"\",$I577=\"NSO\"),\"\",VLOOKUP($A572,'Result Entry'!$B$9:$DX$108,16,0))","v":0},{"$f":"SUM(G586,H586)","v":0},{"$f":"IF(OR(C586=\"\",$I577=\"NSO\"),\"\",VLOOKUP($A572,'Result Entry'!$B$9:$DX$108,20,0))","v":0},{"$f":"SUM(I586,J586)","v":0},null,{"$f":"IF(OR(C586=\"\",$I577=\"NSO\"),\"\",VLOOKUP($A572,'Result Entry'!$B$9:$DX$108,23,0))","v":""}]
[null,"◐",{"$f":"'Result Entry'!$Y$3","v":"Mathematics"},{"$nulls":4},{"$f":"IF(OR(C587=\"\",$I577=\"NSO\"),\"\",VLOOKUP($A572,'Result Entry'!$B$9:$DX$108,30,0))","v":0},{"$f":"SUM(G587,H587)","v":0},{"$f":"IF(OR(C587=\"\",$I577=\"NSO\"),\"\",VLOOKUP($A572,'Result Entry'!$B$9:$DX$108,34,0))","v":0},{"$f":"SUM(I587,J587)","v":0},null,{"$f":"IF(OR(C587=\"\",$I577=\"NSO\"),\"\",VLOOKUP($A572,'Result Entry'!$B$9:$DX$108,37,0))","v":""}]
[null,"◐",{"$f":"'Result Entry'!$BO$3","v":"Env. Study"},{"$nulls":4},{"$f":"IF(OR(C588=\"\",$I577=\"NSO\"),\"\",VLOOKUP($A572,'Result Entry'!$B$9:$DX$108,66,0))","v":0},0,{"$f":"IF(OR(C588=\"\",$I577=\"NSO\"),\"\",VLOOKUP($A572,'Result Entry'!$B$9:$DX$108,67,0))","v":0},0,null,{"$f":"IF(OR(C588=\"\",$I577=\"NSO\"),\"\",VLOOKUP($A572,'Result Entry'!$B$9:$DX$108,73,0))","v":""}]
[null,"◐","Max. Marks",{"$nulls":4},{"$f":"'Result Entry'!$AS$7","v":50},50,{"$f":"'Result Entry'!$AW$7","v":50},100,null,"A/B/C/D/E"]
[null,"◐",{"$f":"'Result Entry'!$AM$3","v":"English"},{"$nulls":4},{"$f":"IF(OR(C590=\"\",$I577=\"NSO\"),\"\",VLOOKUP($A572,'Result Entry'!$B$9:$DX$108,44,0))","v":0},0,{"$f":"IF(OR(C590=\"\",$I577=\"NSO\"),\"\",VLOOKUP($A572,'Result Entry'!$B$9:$DX$108,48,0))","v":0},0,null,{"$f":"IF(OR(C590=\"\",$I577=\"NSO\"),\"\",VLOOKUP($A572,'Result Entry'!$B$9:$DX$108,51,0))","v":""}]
[null,"◐"]
[null,"◐","Overall Result",null,null,"Total Max. Marks",null,"Total Obtained Marks",null,"Percentage","Overall Grade","Result","Position in Class"]
[null,"◐",{"$nulls":3},{"$f":"IF(OR($I577=\"\",$I577=\"NSO\"),\"\",VLOOKUP($A572,'Result Entry'!$B$9:$DX$108,101,0))","v":500},null,{"$f":"IF(OR($I577=\"\",$I577=\"NSO\"),\"\",VLOOKUP($A572,'Result Entry'!$B$9:$DX$108,102,0))","v":0},null,{"$f":"IF(OR($I577=\"\",$I577=\"NSO\"),\"\",VLOOKUP($A572,'Result Entry'!$B$9:$DX$108,103,0))","v":{"v":0,"d":"0.00"}},{"$f":"IF(OR($I577=\"\",$I577=\"NSO\"),\"\",VLOOKUP($A572,'Result Entry'!$B$9:$DX$108,104,0))","v":""},{"$f":"IF(OR($I577=\"\",$I577=\"NSO\"),\"\",VLOOKUP($A572,'Result Entry'!$B$9:$DX$108,105,0))","v":""},{"$f":"IF(OR($I577=\"\",$I577=\"NSO\"),\"\",VLOOKUP($A572,'Result Entry'!$B$9:$DX$108,107,0))","v":""}]
[null,"◐",{"$nulls":6},"Total Meetings :-",null,{"$f":"IF(OR($I577=\"\",$I577=\"NSO\"),\"\",VLOOKUP($A572,'Result Entry'!$B$9:$DX$108,98,0))","v":0},"Attedance %"]
[null,"◐","Extra Subjects",{"$nulls":5},"Student's Meetings :-",null,{"$f":"IF(OR($I577=\"\",$I577=\"NSO\"),\"\",VLOOKUP($A572,'Result Entry'!$B$9:$DX$108,99,0))","v":0},{"$f":"IF(OR($I577=\"\",$I577=\"NSO\"),\"\",VLOOKUP($A572,'Result Entry'!$B$9:$DX$108,100,0))","v":""}]
[null,"◐","Subject",null,null,"Total Marks",null,"GRADE","Remark :-",null,{"$f":"IF(OR($I577=\"\",$I577=\"NSO\"),\"\",VLOOKUP($A572,'Result Entry'!$B$9:$DX$108,108,0))","v":0}]
[null,"◐",{"$nulls":6},"Result Date :-",null,{"$f":"'Result Entry'!$T$2","v":"2023-05-24"}]
[null,"◐",{"$f":"'Result Entry'!$BW$3","v":"WORK EXP."},null,null,{"$f":"IF(OR(C598=\"\",$I577=\"NSO\"),\"\",VLOOKUP($A572,'Result Entry'!$B$9:$DX$108,119,0))","v":"0/50"},null,{"$f":"IF(OR(C598=\"\",$I577=\"NSO\"),\"\",VLOOKUP($A572,'Result Entry'!$B$9:$DX$108,81,0))","v":""}]
[null,null,{"$f":"'Result Entry'!$CE$3","v":"ART EDU."},null,null,{"$f":"IF(OR(C599=\"\",$I577=\"NSO\"),\"\",VLOOKUP($A572,'Result Entry'!$B$9:$DX$108,123,0))","v":"0/50"},null,{"$f":"IF(OR(C599=\"\",$I577=\"NSO\"),\"\",VLOOKUP($A572,'Result Entry'!$B$9:$DX$108,89,0))","v":""}]
[null,"◐",{"$f":"'Result Entry'!$CM$3","v":"H&P. EDU."},null,null,{"$f":"IF(OR(C600=\"\",$I577=\"NSO\"),\"\",VLOOKUP($A572,'Result Entry'!$B$9:$DX$108,127,0))","v":"0/100"},null,{"$f":"IF(OR(C600=\"\",$I577=\"NSO\"),\"\",VLOOKUP($A572,'Result Entry'!$B$9:$DX$108,97,0))","v":""},"Signature Of The Class Teacher"]
[null,"◐","Grading System"]
[null,"◐","Grd.","% Range",null,"Description"]
[null,"◐","A","86-100",null,"Excellent",null,null,"Signature And Seal Of Principal/H.M."]
[null,"◐","B","71-85",null,"Very Good"]
[null,"◐","C","51-70",null,"Good"]
[null,"◐","D","31-50",null,"Average"]
[null,"◐","E","0-30",null,"Needs Improvement",null,null,"Wish bright future"]
[]
[]
[{"$f":"A572+1","v":17},"Department Of Education, Rajasthan"]
[null,{"$f":"IF(I615>0,CONCATENATE(C615,I615),0)","v":0},null,{"$f":"Master!$E$8","v":"Govt.Sr.Sec.Sch. "}]
[{"$nulls":3},{"$f":"Master!$E$11","v":"P.S.-Bapini (Jodhpur)"}]
[null,null,"Report Card",{"$nulls":6},"U-DISE Code:-",null,{"$f":"Master!$E$14","v":{"v":810000000,"d":"0810000000"}}]
[{"$nulls":9},"Session:-",null,{"$f":"Master!$E$6","v":"2022-23"}]
[null,null,"Roll No.:-",{"$nulls":5},{"$f":"VLOOKUP($A610,'Result Entry'!$B$9:$F$108,5,0)","v":0}]
[null,"◐","Scholar Number",{"$nulls":3},"↠",{"$f":"VLOOKUP($A610,'Result Entry'!$B$9:$DX$108,3,0)","v":0}]
[null,"◐","Student's Name",{"$nulls":3},"↠",{"$f":"VLOOKUP($A610,'Result Entry'!$B$9:$DX$108,6,0)","v":0}]
[null,"◐","Father's Name",{"$nulls":3},"↠",{"$f":"VLOOKUP($A610,'Result Entry'!$B$9:$DX$108,7,0)","v":0}]
[null,"◐","Mother's Name ",{"$nulls":3},"↠",{"$f":"VLOOKUP($A610,'Result Entry'!$B$9:$DX$108,8,0)","v":0}]
[null,"◐","Class & Section",{"$nulls":3},"↠",{"$f":"CONCATENATE('Result Entry'!$F$4,'Result Entry'!$I$4)","v":"2(A)"}]
[null,"◐","Date Of Birth",{"$nulls":3},"↠",{"$f":"VLOOKUP($A610,'Result Entry'!$B$9:$DX$108,9,0)","v":"00:00:00"}]
[null,"◐","Subject",{"$nulls":4},"Half Yearly","Total (T+H.Y.)","Yearly","Grand Total",null,"Subject Grade"]
[null,"◐","Max. Marks",{"$nulls":4},{"$f":"'Result Entry'!$Q$7","v":100},{"$f":"G623+H623","v":100},{"$f":"'Result Entry'!$U$7","v":100},{"$f":"I623+J623","v":200},null,"A/B/C/D/E"]
[null,"◐",{"$f":"'Result Entry'!$K$3","v":"Hindi"},{"$nulls":4},{"$f":"IF(OR(C624=\"\",$I615=\"NSO\"),\"\",VLOOKUP($A610,'Result Entry'!$B$9:$DX$108,16,0))","v":0},{"$f":"SUM(G624,H624)","v":0},{"$f":"IF(OR(C624=\"\",$I615=\"NSO\"),\"\",VLOOKUP($A610,'Result Entry'!$B$9:$DX$108,20,0))","v":0},{"$f":"SUM(I624,J624)","v":0},null,{"$f":"IF(OR(C624=\"\",$I615=\"NSO\"),\"\",VLOOKUP($A610,'Result Entry'!$B$9:$DX$108,23,0))","v":""}]
[null,"◐",{"$f":"'Result Entry'!$Y$3","v":"Mathematics"},{"$nulls":4},{"$f":"IF(OR(C625=\"\",$I615=\"NSO\"),\"\",VLOOKUP($A610,'Result Entry'!$B$9:$DX$108,30,0))","v":0},{"$f":"SUM(G625,H625)","v":0},{"$f":"IF(OR(C625=\"\",$I615=\"NSO\"),\"\",VLOOKUP($A610,'Result Entry'!$B$9:$DX$108,34,0))","v":0},{"$f":"SUM(I625,J625)","v":0},null,{"$f":"IF(OR(C625=\"\",$I615=\"NSO\"),\"\",VLOOKUP($A610,'Result Entry'!$B$9:$DX$108,37,0))","v":""}]
[null,"◐",{"$f":"'Result Entry'!$BO$3","v":"Env. Study"},{"$nulls":4},{"$f":"IF(OR(C626=\"\",$I615=\"NSO\"),\"\",VLOOKUP($A610,'Result Entry'!$B$9:$DX$108,66,0))","v":0},0,{"$f":"IF(OR(C626=\"\",$I615=\"NSO\"),\"\",VLOOKUP($A610,'Result Entry'!$B$9:$DX$108,67,0))","v":0},0,null,{"$f":"IF(OR(C626=\"\",$I615=\"NSO\"),\"\",VLOOKUP($A610,'Result Entry'!$B$9:$DX$108,73,0))","v":""}]
[null,"◐","Max. Marks",{"$nulls":4},{"$f":"'Result Entry'!$AS$7","v":50},50,{"$f":"'Result Entry'!$AW$7","v":50},100,null,"A/B/C/D/E"]
[null,"◐",{"$f":"'Result Entry'!$AM$3","v":"English"},{"$nulls":4},{"$f":"IF(OR(C628=\"\",$I615=\"NSO\"),\"\",VLOOKUP($A610,'Result Entry'!$B$9:$DX$108,44,0))","v":0},0,{"$f":"IF(OR(C628=\"\",$I615=\"NSO\"),\"\",VLOOKUP($A610,'Result Entry'!$B$9:$DX$108,48,0))","v":0},0,null,{"$f":"IF(OR(C628=\"\",$I615=\"NSO\"),\"\",VLOOKUP($A610,'Result Entry'!$B$9:$DX$108,51,0))","v":""}]
[null,"◐"]
[null,"◐","Overall Result",null,null,"Total Max. Marks",null,"Total Obtained Marks",null,"Percentage","Overall Grade","Result","Position in Class"]
[null,"◐",{"$nulls":3},{"$f":"IF(OR($I615=\"\",$I615=\"NSO\"),\"\",VLOOKUP($A610,'Result Entry'!$B$9:$DX$108,101,0))","v":500},null,{"$f":"IF(OR($I615=\"\",$I615=\"NSO\"),\"\",VLOOKUP($A610,'Result Entry'!$B$9:$DX$108,102,0))","v":0},null,{"$f":"IF(OR($I615=\"\",$I615=\"NSO\"),\"\",VLOOKUP($A610,'Result Entry'!$B$9:$DX$108,103,0))","v":{"v":0,"d":"0.00"}},{"$f":"IF(OR($I615=\"\",$I615=\"NSO\"),\"\",VLOOKUP($A610,'Result Entry'!$B$9:$DX$108,104,0))","v":""},{"$f":"IF(OR($I615=\"\",$I615=\"NSO\"),\"\",VLOOKUP($A610,'Result Entry'!$B$9:$DX$108,105,0))","v":""},{"$f":"IF(OR($I615=\"\",$I615=\"NSO\"),\"\",VLOOKUP($A610,'Result Entry'!$B$9:$DX$108,107,0))","v":""}]
[null,"◐",{"$nulls":6},"Total Meetings :-",null,{"$f":"IF(OR($I615=\"\",$I615=\"NSO\"),\"\",VLOOKUP($A610,'Result Entry'!$B$9:$DX$108,98,0))","v":0},"Attedance %"]
[null,"◐","Extra Subjects",{"$nulls":5},"Student's Meetings :-",null,{"$f":"IF(OR($I615=\"\",$I615=\"NSO\"),\"\",VLOOKUP($A610,'Result Entry'!$B$9:$DX$108,99,0))","v":0},{"$f":"IF(OR($I615=\"\",$I615=\"NSO\"),\"\",VLOOKUP($A610,'Result Entry'!$B$9:$DX$108,100,0))","v":""}]
[null,"◐","Subject",null,null,"Total Marks",null,"GRADE","Remark :-",null,{"$f":"IF(OR($I615=\"\",$I615=\"NSO\"),\"\",VLOOKUP($A610,'Result Entry'!$B$9:$DX$108,108,0))","v":0}]
[null,"◐",{"$nulls":6},"Result Date :-",null,{"$f":"'Result Entry'!$T$2","v":"2023-05-24"}]
[null,"◐",{"$f":"'Result Entry'!$BW$3","v":"WORK EXP."},null,null,{"$f":"IF(OR(C636=\"\",$I615=\"NSO\"),\"\",VLOOKUP($A610,'Result Entry'!$B$9:$DX$108,119,0))","v":"0/50"},null,{"$f":"IF(OR(C636=\"\",$I615=\"NSO\"),\"\",VLOOKUP($A610,'Result Entry'!$B$9:$DX$108,81,0))","v":""}]
[null,null,{"$f":"'Result Entry'!$CE$3","v":"ART EDU."},null,null,{"$f":"IF(OR(C637=\"\",$I615=\"NSO\"),\"\",VLOOKUP($A610,'Result Entry'!$B$9:$DX$108,123,0))","v":"0/50"},null,{"$f":"IF(OR(C637=\"\",$I615=\"NSO\"),\"\",VLOOKUP($A610,'Result Entry'!$B$9:$DX$108,89,0))","v":""}]
[null,"◐",{"$f":"'Result Entry'!$CM$3","v":"H&P. EDU."},null,null,{"$f":"IF(OR(C638=\"\",$I615=\"NSO\"),\"\",VLOOKUP($A610,'Result Entry'!$B$9:$DX$108,127,0))","v":"0/100"},null,{"$f":"IF(OR(C638=\"\",$I615=\"NSO\"),\"\",VLOOKUP($A610,'Result Entry'!$B$9:$DX$108,97,0))","v":""},"Signature Of The Class Teacher"]
[null,"◐","Grading System"]
[null,"◐","Grd.","% Range",null,"Description"]
[null,"◐","A","86-100",null,"Excellent",null,null,"Signature And Seal Of Principal/H.M."]
[null,"◐","B","71-85",null,"Very Good"]
[null,"◐","C","51-70",null,"Good"]
[null,"◐","D","31-50",null,"Average"]
[null,"◐","E","0-30",null,"Needs Improvement",null,null,"Wish bright future"]
[]
[]
[{"$f":"A610+1","v":18},"Department Of Education, Rajasthan"]
[null,{"$f":"IF(I653>0,CONCATENATE(C653,I653),0)","v":0},null,{"$f":"Master!$E$8","v":"Govt.Sr.Sec.Sch. "}]
[{"$nulls":3},{"$f":"Master!$E$11","v":"P.S.-Bapini (Jodhpur)"}]
[null,null,"Report Card",{"$nulls":6},"U-DISE Code:-",null,{"$f":"Master!$E$14","v":{"v":810000000,"d":"0810000000"}}]
[{"$nulls":9},"Session:-",null,{"$f":"Master!$E$6","v":"2022-23"}]
[null,null,"Roll No.:-",{"$nulls":5},{"$f":"VLOOKUP($A648,'Result Entry'!$B$9:$F$108,5,0)","v":0}]
[null,"◐","Scholar Number",{"$nulls":3},"↠",{"$f":"VLOOKUP($A648,'Result Entry'!$B$9:$DX$108,3,0)","v":0}]
[null,"◐","Student's Name",{"$nulls":3},"↠",{"$f":"VLOOKUP($A648,'Result Entry'!$B$9:$DX$108,6,0)","v":0}]
[null,"◐","Father's Name",{"$nulls":3},"↠",{"$f":"VLOOKUP($A648,'Result Entry'!$B$9:$DX$108,7,0)","v":0}]
[null,"◐","Mother's Name ",{"$nulls":3},"↠",{"$f":"VLOOKUP($A648,'Result Entry'!$B$9:$DX$108,8,0)","v":0}]
[null,"◐","Class & Section",{"$nulls":3},"↠",{"$f":"CONCATENATE('Result Entry'!$F$4,'Result Entry'!$I$4)","v":"2(A)"}]
[null,"◐","Date Of Birth",{"$nulls":3},"↠",{"$f":"VLOOKUP($A648,'Result Entry'!$B$9:$DX$108,9,0)","v":"00:00:00"}]
[null,"◐","Subject",{"$nulls":4},"Half Yearly","Total (T+H.Y.)","Yearly","Grand Total",null,"Subject Grade"]
[null,"◐","Max. Marks",{"$nulls":4},{"$f":"'Result Entry'!$Q$7","v":100},{"$f":"G661+H661","v":100},{"$f":"'Result Entry'!$U$7","v":100},{"$f":"I661+J661","v":200},null,"A/B/C/D/E"]
[null,"◐",{"$f":"'Result Entry'!$K$3","v":"Hindi"},{"$nulls":4},{"$f":"IF(OR(C662=\"\",$I653=\"NSO\"),\"\",VLOOKUP($A648,'Result Entry'!$B$9:$DX$108,16,0))","v":0},{"$f":"SUM(G662,H662)","v":0},{"$f":"IF(OR(C662=\"\",$I653=\"NSO\"),\"\",VLOOKUP($A648,'Result Entry'!$B$9:$DX$108,20,0))","v":0},{"$f":"SUM(I662,J662)","v":0},null,{"$f":"IF(OR(C662=\"\",$I653=\"NSO\"),\"\",VLOOKUP($A648,'Result Entry'!$B$9:$DX$108,23,0))","v":""}]
[null,"◐",{"$f":"'Result Entry'!$Y$3","v":"Mathematics"},{"$nulls":4},{"$f":"IF(OR(C663=\"\",$I653=\"NSO\"),\"\",VLOOKUP($A648,'Result Entry'!$B$9:$DX$108,30,0))","v":0},{"$f":"SUM(G663,H663)","v":0},{"$f":"IF(OR(C663=\"\",$I653=\"NSO\"),\"\",VLOOKUP($A648,'Result Entry'!$B$9:$DX$108,34,0))","v":0},{"$f":"SUM(I663,J663)","v":0},null,{"$f":"IF(OR(C663=\"\",$I653=\"NSO\"),\"\",VLOOKUP($A648,'Result Entry'!$B$9:$DX$108,37,0))","v":""}]
[null,"◐",{"$f":"'Result Entry'!$BO$3","v":"Env. Study"},{"$nulls":4},{"$f":"IF(OR(C664=\"\",$I653=\"NSO\"),\"\",VLOOKUP($A648,'Result Entry'!$B$9:$DX$108,66,0))","v":0},0,{"$f":"IF(OR(C664=\"\",$I653=\"NSO\"),\"\",VLOOKUP($A648,'Result Entry'!$B$9:$DX$108,67,0))","v":0},0,null,{"$f":"IF(OR(C664=\"\",$I653=\"NSO\"),\"\",VLOOKUP($A648,'Result Entry'!$B$9:$DX$108,73,0))","v":""}]
[null,"◐","Max. Marks",{"$nulls":4},{"$f":"'Result Entry'!$AS$7","v":50},50,{"$f":"'Result Entry'!$AW$7","v":50},100,null,"A/B/C/D/E"]
[null,"◐",{"$f":"'Result Entry'!$AM$3","v":"English"},{"$nulls":4},{"$f":"IF(OR(C666=\"\",$I653=\"NSO\"),\"\",VLOOKUP($A648,'Result Entry'!$B$9:$DX$108,44,0))","v":0},0,{"$f":"IF(OR(C666=\"\",$I653=\"NSO\"),\"\",VLOOKUP($A648,'Result Entry'!$B$9:$DX$108,48,0))","v":0},0,null,{"$f":"IF(OR(C666=\"\",$I653=\"NSO\"),\"\",VLOOKUP($A648,'Result Entry'!$B$9:$DX$108,51,0))","v":""}]
[null,"◐"]
[null,"◐","Overall Result",null,null,"Total Max. Marks",null,"Total Obtained Marks",null,"Percentage","Overall Grade","Result","Position in Class"]
[null,"◐",{"$nulls":3},{"$f":"IF(OR($I653=\"\",$I653=\"NSO\"),\"\",VLOOKUP($A648,'Result Entry'!$B$9:$DX$108,101,0))","v":500},null,{"$f":"IF(OR($I653=\"\",$I653=\"NSO\"),\"\",VLOOKUP($A648,'Result Entry'!$B$9:$DX$108,102,0))","v":0},null,{"$f":"IF(OR($I653=\"\",$I653=\"NSO\"),\"\",VLOOKUP($A648,'Result Entry'!$B$9:$DX$108,103,0))","v":{"v":0,"d":"0.00"}},{"$f":"IF(OR($I653=\"\",$I653=\"NSO\"),\"\",VLOOKUP($A648,'Result Entry'!$B$9:$DX$108,104,0))","v":""},{"$f":"IF(OR($I653=\"\",$I653=\"NSO\"),\"\",VLOOKUP($A648,'Result Entry'!$B$9:$DX$108,105,0))","v":""},{"$f":"IF(OR($I653=\"\",$I653=\"NSO\"),\"\",VLOOKUP($A648,'Result Entry'!$B$9:$DX$108,107,0))","v":""}]
[null,"◐",{"$nulls":6},"Total Meetings :-",null,{"$f":"IF(OR($I653=\"\",$I653=\"NSO\"),\"\",VLOOKUP($A648,'Result Entry'!$B$9:$DX$108,98,0))","v":0},"Attedance %"]
[null,"◐","Extra Subjects",{"$nulls":5},"Student's Meetings :-",null,{"$f":"IF(OR($I653=\"\",$I653=\"NSO\"),\"\",VLOOKUP($A648,'Result Entry'!$B$9:$DX$108,99,0))","v":0},{"$f":"IF(OR($I653=\"\",$I653=\"NSO\"),\"\",VLOOKUP($A648,'Result Entry'!$B$9:$DX$108,100,0))","v":""}]
[null,"◐","Subject",null,null,"Total Marks",null,"GRADE","Remark :-",null,{"$f":"IF(OR($I653=\"\",$I653=\"NSO\"),\"\",VLOOKUP($A648,'Result Entry'!$B$9:$DX$108,108,0))","v":0}]
[null,"◐",{"$nulls":6},"Result Date :-",null,{"$f":"'Result Entry'!$T$2","v":"2023-05-24"}]
[null,"◐",{"$f":"'Result Entry'!$BW$3","v":"WORK EXP."},null,null,{"$f":"IF(OR(C674=\"\",$I653=\"NSO\"),\"\",VLOOKUP($A648,'Result Entry'!$B$9:$DX$108,119,0))","v":"0/50"},null,{"$f":"IF(OR(C674=\"\",$I653=\"NSO\"),\"\",VLOOKUP($A648,'Result Entry'!$B$9:$DX$108,81,0))","v":""}]
[null,null,{"$f":"'Result Entry'!$CE$3","v":"ART EDU."},null,null,{"$f":"IF(OR(C675=\"\",$I653=\"NSO\"),\"\",VLOOKUP($A648,'Result Entry'!$B$9:$DX$108,123,0))","v":"0/50"},null,{"$f":"IF(OR(C675=\"\",$I653=\"NSO\"),\"\",VLOOKUP($A648,'Result Entry'!$B$9:$DX$108,89,0))","v":""}]
[null,"◐",{"$f":"'Result Entry'!$CM$3","v":"H&P. EDU."},null,null,{"$f":"IF(OR(C676=\"\",$I653=\"NSO\"),\"\",VLOOKUP($A648,'Result Entry'!$B$9:$DX$108,127,0))","v":"0/100"},null,{"$f":"IF(OR(C676=\"\",$I653=\"NSO\"),\"\",VLOOKUP($A648,'Result Entry'!$B$9:$DX$108,97,0))","v":""},"Signature Of The Class Teacher"]
[null,"◐","Grading System"]
[null,"◐","Grd.","% Range",null,"Description"]
[null,"◐","A","86-100",null,"Excellent",null,null,"Signature And Seal Of Principal/H.M."]
[null,"◐","B","71-85",null,"Very Good"]
[null,"◐","C","51-70",null,"Good"]
[null,"◐","D","31-50",null,"Average"]
[null,"◐","E","0-30",null,"Needs Improvement",null,null,"Wish bright future"]
[]
[]
[{"$f":"A648+1","v":19},"Department Of Education, Rajasthan"]
[null,{"$f":"IF(I691>0,CONCATENATE(C691,I691),0)","v":0},null,{"$f":"Master!$E$8","v":"Govt.Sr.Sec.Sch. "}]
[{"$nulls":3},{"$f":"Master!$E$11","v":"P.S.-Bapini (Jodhpur)"}]
[null,null,"Report Card",{"$nulls":6},"U-DISE Code:-",null,{"$f":"Master!$E$14","v":{"v":810000000,"d":"0810000000"}}]
[{"$nulls":9},"Session:-",null,{"$f":"Master!$E$6","v":"2022-23"}]
[null,null,"Roll No.:-",{"$nulls":5},{"$f":"VLOOKUP($A686,'Result Entry'!$B$9:$F$108,5,0)","v":0}]
[null,"◐","Scholar Number",{"$nulls":3},"↠",{"$f":"VLOOKUP($A686,'Result Entry'!$B$9:$DX$108,3,0)","v":0}]
[null,"◐","Student's Name",{"$nulls":3},"↠",{"$f":"VLOOKUP($A686,'Result Entry'!$B$9:$DX$108,6,0)","v":0}]
[null,"◐","Father's Name",{"$nulls":3},"↠",{"$f":"VLOOKUP($A686,'Result Entry'!$B$9:$DX$108,7,0)","v":0}]
[null,"◐","Mother's Name ",{"$nulls":3},"↠",{"$f":"VLOOKUP($A686,'Result Entry'!$B$9:$DX$108,8,0)","v":0}]
[null,"◐","Class & Section",{"$nulls":3},"↠",{"$f":"CONCATENATE('Result Entry'!$F$4,'Result Entry'!$I$4)","v":"2(A)"}]
[null,"◐","Date Of Birth",{"$nulls":3},"↠",{"$f":"VLOOKUP($A686,'Result Entry'!$B$9:$DX$108,9,0)","v":"00:00:00"}]
[null,"◐","Subject",{"$nulls":4},"Half Yearly","Total (T+H.Y.)","Yearly","Grand Total",null,"Subject Grade"]
[null,"◐","Max. Marks",{"$nulls":4},{"$f":"'Result Entry'!$Q$7","v":100},{"$f":"G699+H699","v":100},{"$f":"'Result Entry'!$U$7","v":100},{"$f":"I699+J699","v":200},null,"A/B/C/D/E"]
[null,"◐",{"$f":"'Result Entry'!$K$3","v":"Hindi"},{"$nulls":4},{"$f":"IF(OR(C700=\"\",$I691=\"NSO\"),\"\",VLOOKUP($A686,'Result Entry'!$B$9:$DX$108,16,0))","v":0},{"$f":"SUM(G700,H700)","v":0},{"$f":"IF(OR(C700=\"\",$I691=\"NSO\"),\"\",VLOOKUP($A686,'Result Entry'!$B$9:$DX$108,20,0))","v":0},{"$f":"SUM(I700,J700)","v":0},null,{"$f":"IF(OR(C700=\"\",$I691=\"NSO\"),\"\",VLOOKUP($A686,'Result Entry'!$B$9:$DX$108,23,0))","v":""}]
[null,"◐",{"$f":"'Result Entry'!$Y$3","v":"Mathematics"},{"$nulls":4},{"$f":"IF(OR(C701=\"\",$I691=\"NSO\"),\"\",VLOOKUP($A686,'Result Entry'!$B$9:$DX$108,30,0))","v":0},{"$f":"SUM(G701,H701)","v":0},{"$f":"IF(OR(C701=\"\",$I691=\"NSO\"),\"\",VLOOKUP($A686,'Result Entry'!$B$9:$DX$108,34,0))","v":0},{"$f":"SUM(I701,J701)","v":0},null,{"$f":"IF(OR(C701=\"\",$I691=\"NSO\"),\"\",VLOOKUP($A686,'Result Entry'!$B$9:$DX$108,37,0))","v":""}]
[null,"◐",{"$f":"'Result Entry'!$BO$3","v":"Env. Study"},{"$nulls":4},{"$f":"IF(OR(C702=\"\",$I691=\"NSO\"),\"\",VLOOKUP($A686,'Result Entry'!$B$9:$DX$108,66,0))","v":0},0,{"$f":"IF(OR(C702=\"\",$I691=\"NSO\"),\"\",VLOOKUP($A686,'Result Entry'!$B$9:$DX$108,67,0))","v":0},0,null,{"$f":"IF(OR(C702=\"\",$I691=\"NSO\"),\"\",VLOOKUP($A686,'Result Entry'!$B$9:$DX$108,73,0))","v":""}]
[null,"◐","Max. Marks",{"$nulls":4},{"$f":"'Result Entry'!$AS$7","v":50},50,{"$f":"'Result Entry'!$AW$7","v":50},100,null,"A/B/C/D/E"]
[null,"◐",{"$f":"'Result Entry'!$AM$3","v":"English"},{"$nulls":4},{"$f":"IF(OR(C704=\"\",$I691=\"NSO\"),\"\",VLOOKUP($A686,'Result Entry'!$B$9:$DX$108,44,0))","v":0},0,{"$f":"IF(OR(C704=\"\",$I691=\"NSO\"),\"\",VLOOKUP($A686,'Result Entry'!$B$9:$DX$108,48,0))","v":0},0,null,{"$f":"IF(OR(C704=\"\",$I691=\"NSO\"),\"\",VLOOKUP($A686,'Result Entry'!$B$9:$DX$108,51,0))","v":""}]
[null,"◐"]
[null,"◐","Overall Result",null,null,"Total Max. Marks",null,"Total Obtained Marks",null,"Percentage","Overall Grade","Result","Position in Class"]
[null,"◐",{"$nulls":3},{"$f":"IF(OR($I691=\"\",$I691=\"NSO\"),\"\",VLOOKUP($A686,'Result Entry'!$B$9:$DX$108,101,0))","v":500},null,{"$f":"IF(OR($I691=\"\",$I691=\"NSO\"),\"\",VLOOKUP($A686,'Result Entry'!$B$9:$DX$108,102,0))","v":0},null,{"$f":"IF(OR($I691=\"\",$I691=\"NSO\"),\"\",VLOOKUP($A686,'Result Entry'!$B$9:$DX$108,103,0))","v":{"v":0,"d":"0.00"}},{"$f":"IF(OR($I691=\"\",$I691=\"NSO\"),\"\",VLOOKUP($A686,'Result Entry'!$B$9:$DX$108,104,0))","v":""},{"$f":"IF(OR($I691=\"\",$I691=\"NSO\"),\"\",VLOOKUP($A686,'Result Entry'!$B$9:$DX$108,105,0))","v":""},{"$f":"IF(OR($I691=\"\",$I691=\"NSO\"),\"\",VLOOKUP($A686,'Result Entry'!$B$9:$DX$108,107,0))","v":""}]
[null,"◐",{"$nulls":6},"Total Meetings :-",null,{"$f":"IF(OR($I691=\"\",$I691=\"NSO\"),\"\",VLOOKUP($A686,'Result Entry'!$B$9:$DX$108,98,0))","v":0},"Attedance %"]
[null,"◐","Extra Subjects",{"$nulls":5},"Student's Meetings :-",null,{"$f":"IF(OR($I691=\"\",$I691=\"NSO\"),\"\",VLOOKUP($A686,'Result Entry'!$B$9:$DX$108,99,0))","v":0},{"$f":"IF(OR($I691=\"\",$I691=\"NSO\"),\"\",VLOOKUP($A686,'Result Entry'!$B$9:$DX$108,100,0))","v":""}]
[null,"◐","Subject",null,null,"Total Marks",null,"GRADE","Remark :-",null,{"$f":"IF(OR($I691=\"\",$I691=\"NSO\"),\"\",VLOOKUP($A686,'Result Entry'!$B$9:$DX$108,108,0))","v":0}]
[null,"◐",{"$nulls":6},"Result Date :-",null,{"$f":"'Result Entry'!$T$2","v":"2023-05-24"}]
[null,"◐",{"$f":"'Result Entry'!$BW$3","v":"WORK EXP."},null,null,{"$f":"IF(OR(C712=\"\",$I691=\"NSO\"),\"\",VLOOKUP($A686,'Result Entry'!$B$9:$DX$108,119,0))","v":"0/50"},null,{"$f":"IF(OR(C712=\"\",$I691=\"NSO\"),\"\",VLOOKUP($A686,'Result Entry'!$B$9:$DX$108,81,0))","v":""}]
[null,null,{"$f":"'Result Entry'!$CE$3","v":"ART EDU."},null,null,{"$f":"IF(OR(C713=\"\",$I691=\"NSO\"),\"\",VLOOKUP($A686,'Result Entry'!$B$9:$DX$108,123,0))","v":"0/50"},null,{"$f":"IF(OR(C713=\"\",$I691=\"NSO\"),\"\",VLOOKUP($A686,'Result Entry'!$B$9:$DX$108,89,0))","v":""}]
[null,"◐",{"$f":"'Result Entry'!$CM$3","v":"H&P. EDU."},null,null,{"$f":"IF(OR(C714=\"\",$I691=\"NSO\"),\"\",VLOOKUP($A686,'Result Entry'!$B$9:$DX$108,127,0))","v":"0/100"},null,{"$f":"IF(OR(C714=\"\",$I691=\"NSO\"),\"\",VLOOKUP($A686,'Result Entry'!$B$9:$DX$108,97,0))","v":""},"Signature Of The Class Teacher"]
[null,"◐","Grading System"]
[null,"◐","Grd.","% Range",null,"Description"]
[null,"◐","A","86-100",null,"Excellent",null,null,"Signature And Seal Of Principal/H.M."]
[null,"◐","B","71-85",null,"Very Good"]
[null,"◐","C","51-70",null,"Good"]
[null,"◐","D","31-50",null,"Average"]
[null,"◐","E","0-30",null,"Needs Improvement",null,null,"Wish bright future"]
[]
[]
[{"$f":"A686+1","v":20},"Department Of Education, Rajasthan"]
[null,{"$f":"IF(I729>0,CONCATENATE(C729,I729),0)","v":0},null,{"$f":"Master!$E$8","v":"Govt.Sr.Sec.Sch. "}]
[{"$nulls":3},{"$f":"Master!$E$11","v":"P.S.-Bapini (Jodhpur)"}]
[null,null,"Report Card",{"$nulls":6},"U-DISE Code:-",null,{"$f":"Master!$E$14","v":{"v":810000000,"d":"0810000000"}}]
[{"$nulls":9},"Session:-",null,{"$f":"Master!$E$6","v":"2022-23"}]
[null,null,"Roll No.:-",{"$nulls":5},{"$f":"VLOOKUP($A724,'Result Entry'!$B$9:$F$108,5,0)","v":0}]
[null,"◐","Scholar Number",{"$nulls":3},"↠",{"$f":"VLOOKUP($A724,'Result Entry'!$B$9:$DX$108,3,0)","v":0}]
[null,"◐","Student's Name",{"$nulls":3},"↠",{"$f":"VLOOKUP($A724,'Result Entry'!$B$9:$DX$108,6,0)","v":0}]
[null,"◐","Father's Name",{"$nulls":3},"↠",{"$f":"VLOOKUP($A724,'Result Entry'!$B$9:$DX$108,7,0)","v":0}]
[null,"◐","Mother's Name ",{"$nulls":3},"↠",{"$f":"VLOOKUP($A724,'Result Entry'!$B$9:$DX$108,8,0)","v":0}]
[null,"◐","Class & Section",{"$nulls":3},"↠",{"$f":"CONCATENATE('Result Entry'!$F$4,'Result Entry'!$I$4)","v":"2(A)"}]
[null,"◐","Date Of Birth",{"$nulls":3},"↠",{"$f":"VLOOKUP($A724,'Result Entry'!$B$9:$DX$108,9,0)","v":"00:00:00"}]
[null,"◐","Subject",{"$nulls":4},"Half Yearly","Total (T+H.Y.)","Yearly","Grand Total",null,"Subject Grade"]
[null,"◐","Max. Marks",{"$nulls":4},{"$f":"'Result Entry'!$Q$7","v":100},{"$f":"G737+H737","v":100},{"$f":"'Result Entry'!$U$7","v":100},{"$f":"I737+J737","v":200},null,"A/B/C/D/E"]
[null,"◐",{"$f":"'Result Entry'!$K$3","v":"Hindi"},{"$nulls":4},{"$f":"IF(OR(C738=\"\",$I729=\"NSO\"),\"\",VLOOKUP($A724,'Result Entry'!$B$9:$DX$108,16,0))","v":0},{"$f":"SUM(G738,H738)","v":0},{"$f":"IF(OR(C738=\"\",$I729=\"NSO\"),\"\",VLOOKUP($A724,'Result Entry'!$B$9:$DX$108,20,0))","v":0},{"$f":"SUM(I738,J738)","v":0},null,{"$f":"IF(OR(C738=\"\",$I729=\"NSO\"),\"\",VLOOKUP($A724,'Result Entry'!$B$9:$DX$108,23,0))","v":""}]
[null,"◐",{"$f":"'Result Entry'!$Y$3","v":"Mathematics"},{"$nulls":4},{"$f":"IF(OR(C739=\"\",$I729=\"NSO\"),\"\",VLOOKUP($A724,'Result Entry'!$B$9:$DX$108,30,0))","v":0},{"$f":"SUM(G739,H739)","v":0},{"$f":"IF(OR(C739=\"\",$I729=\"NSO\"),\"\",VLOOKUP($A724,'Result Entry'!$B$9:$DX$108,34,0))","v":0},{"$f":"SUM(I739,J739)","v":0},null,{"$f":"IF(OR(C739=\"\",$I729=\"NSO\"),\"\",VLOOKUP($A724,'Result Entry'!$B$9:$DX$108,37,0))","v":""}]
[null,"◐",{"$f":"'Result Entry'!$BO$3","v":"Env. Study"},{"$nulls":4},{"$f":"IF(OR(C740=\"\",$I729=\"NSO\"),\"\",VLOOKUP($A724,'Result Entry'!$B$9:$DX$108,66,0))","v":0},0,{"$f":"IF(OR(C740=\"\",$I729=\"NSO\"),\"\",VLOOKUP($A724,'Result Entry'!$B$9:$DX$108,67,0))","v":0},0,null,{"$f":"IF(OR(C740=\"\",$I729=\"NSO\"),\"\",VLOOKUP($A724,'Result Entry'!$B$9:$DX$108,73,0))","v":""}]
[null,"◐","Max. Marks",{"$nulls":4},{"$f":"'Result Entry'!$AS$7","v":50},50,{"$f":"'Result Entry'!$AW$7","v":50},100,null,"A/B/C/D/E"]
[null,"◐",{"$f":"'Result Entry'!$AM$3","v":"English"},{"$nulls":4},{"$f":"IF(OR(C742=\"\",$I729=\"NSO\"),\"\",VLOOKUP($A724,'Result Entry'!$B$9:$DX$108,44,0))","v":0},0,{"$f":"IF(OR(C742=\"\",$I729=\"NSO\"),\"\",VLOOKUP($A724,'Result Entry'!$B$9:$DX$108,48,0))","v":0},0,null,{"$f":"IF(OR(C742=\"\",$I729=\"NSO\"),\"\",VLOOKUP($A724,'Result Entry'!$B$9:$DX$108,51,0))","v":""}]
[null,"◐"]
[null,"◐","Overall Result",null,null,"Total Max. Marks",null,"Total Obtained Marks",null,"Percentage","Overall Grade","Result","Position in Class"]
[null,"◐",{"$nulls":3},{"$f":"IF(OR($I729=\"\",$I729=\"NSO\"),\"\",VLOOKUP($A724,'Result Entry'!$B$9:$DX$108,101,0))","v":500},null,{"$f":"IF(OR($I729=\"\",$I729=\"NSO\"),\"\",VLOOKUP($A724,'Result Entry'!$B$9:$DX$108,102,0))","v":0},null,{"$f":"IF(OR($I729=\"\",$I729=\"NSO\"),\"\",VLOOKUP($A724,'Result Entry'!$B$9:$DX$108,103,0))","v":{"v":0,"d":"0.00"}},{"$f":"IF(OR($I729=\"\",$I729=\"NSO\"),\"\",VLOOKUP($A724,'Result Entry'!$B$9:$DX$108,104,0))","v":""},{"$f":"IF(OR($I729=\"\",$I729=\"NSO\"),\"\",VLOOKUP($A724,'Result Entry'!$B$9:$DX$108,105,0))","v":""},{"$f":"IF(OR($I729=\"\",$I729=\"NSO\"),\"\",VLOOKUP($A724,'Result Entry'!$B$9:$DX$108,107,0))","v":""}]
[null,"◐",{"$nulls":6},"Total Meetings :-",null,{"$f":"IF(OR($I729=\"\",$I729=\"NSO\"),\"\",VLOOKUP($A724,'Result Entry'!$B$9:$DX$108,98,0))","v":0},"Attedance %"]
[null,"◐","Extra Subjects",{"$nulls":5},"Student's Meetings :-",null,{"$f":"IF(OR($I729=\"\",$I729=\"NSO\"),\"\",VLOOKUP($A724,'Result Entry'!$B$9:$DX$108,99,0))","v":0},{"$f":"IF(OR($I729=\"\",$I729=\"NSO\"),\"\",VLOOKUP($A724,'Result Entry'!$B$9:$DX$108,100,0))","v":""}]
[null,"◐","Subject",null,null,"Total Marks",null,"GRADE","Remark :-",null,{"$f":"IF(OR($I729=\"\",$I729=\"NSO\"),\"\",VLOOKUP($A724,'Result Entry'!$B$9:$DX$108,108,0))","v":0}]
[null,"◐",{"$nulls":6},"Result Date :-",null,{"$f":"'Result Entry'!$T$2","v":"2023-05-24"}]
[null,"◐",{"$f":"'Result Entry'!$BW$3","v":"WORK EXP."},null,null,{"$f":"IF(OR(C750=\"\",$I729=\"NSO\"),\"\",VLOOKUP($A724,'Result Entry'!$B$9:$DX$108,119,0))","v":"0/50"},null,{"$f":"IF(OR(C750=\"\",$I729=\"NSO\"),\"\",VLOOKUP($A724,'Result Entry'!$B$9:$DX$108,81,0))","v":""}]
[null,null,{"$f":"'Result Entry'!$CE$3","v":"ART EDU."},null,null,{"$f":"IF(OR(C751=\"\",$I729=\"NSO\"),\"\",VLOOKUP($A724,'Result Entry'!$B$9:$DX$108,123,0))","v":"0/50"},null,{"$f":"IF(OR(C751=\"\",$I729=\"NSO\"),\"\",VLOOKUP($A724,'Result Entry'!$B$9:$DX$108,89,0))","v":""}]
[null,"◐",{"$f":"'Result Entry'!$CM$3","v":"H&P. EDU."},null,null,{"$f":"IF(OR(C752=\"\",$I729=\"NSO\"),\"\",VLOOKUP($A724,'Result Entry'!$B$9:$DX$108,127,0))","v":"0/100"},null,{"$f":"IF(OR(C752=\"\",$I729=\"NSO\"),\"\",VLOOKUP($A724,'Result Entry'!$B$9:$DX$108,97,0))","v":""},"Signature Of The Class Teacher"]
[null,"◐","Grading System"]
[null,"◐","Grd.","% Range",null,"Description"]
[null,"◐","A","86-100",null,"Excellent",null,null,"Signature And Seal Of Principal/H.M."]
[null,"◐","B","71-85",null,"Very Good"]
[null,"◐","C","51-70",null,"Good"]
[null,"◐","D","31-50",null,"Average"]
[null,"◐","E","0-30",null,"Needs Improvement",null,null,"Wish bright future"]
[]
[]
[{"$f":"A724+1","v":21},"Department Of Education, Rajasthan"]
[null,{"$f":"IF(I767>0,CONCATENATE(C767,I767),0)","v":0},null,{"$f":"Master!$E$8","v":"Govt.Sr.Sec.Sch. "}]
[{"$nulls":3},{"$f":"Master!$E$11","v":"P.S.-Bapini (Jodhpur)"}]
[null,null,"Report Card",{"$nulls":6},"U-DISE Code:-",null,{"$f":"Master!$E$14","v":{"v":810000000,"d":"0810000000"}}]
[{"$nulls":9},"Session:-",null,{"$f":"Master!$E$6","v":"2022-23"}]
[null,null,"Roll No.:-",{"$nulls":5},{"$f":"VLOOKUP($A762,'Result Entry'!$B$9:$F$108,5,0)","v":0}]
[null,"◐","Scholar Number",{"$nulls":3},"↠",{"$f":"VLOOKUP($A762,'Result Entry'!$B$9:$DX$108,3,0)","v":0}]
[null,"◐","Student's Name",{"$nulls":3},"↠",{"$f":"VLOOKUP($A762,'Result Entry'!$B$9:$DX$108,6,0)","v":0}]
[null,"◐","Father's Name",{"$nulls":3},"↠",{"$f":"VLOOKUP($A762,'Result Entry'!$B$9:$DX$108,7,0)","v":0}]
[null,"◐","Mother's Name ",{"$nulls":3},"↠",{"$f":"VLOOKUP($A762,'Result Entry'!$B$9:$DX$108,8,0)","v":0}]
[null,"◐","Class & Section",{"$nulls":3},"↠",{"$f":"CONCATENATE('Result Entry'!$F$4,'Result Entry'!$I$4)","v":"2(A)"}]
[null,"◐","Date Of Birth",{"$nulls":3},"↠",{"$f":"VLOOKUP($A762,'Result Entry'!$B$9:$DX$108,9,0)","v":"00:00:00"}]
[null,"◐","Subject",{"$nulls":4},"Half Yearly","Total (T+H.Y.)","Yearly","Grand Total",null,"Subject Grade"]
[null,"◐","Max. Marks",{"$nulls":4},{"$f":"'Result Entry'!$Q$7","v":100},{"$f":"G775+H775","v":100},{"$f":"'Result Entry'!$U$7","v":100},{"$f":"I775+J775","v":200},null,"A/B/C/D/E"]
[null,"◐",{"$f":"'Result Entry'!$K$3","v":"Hindi"},{"$nulls":4},{"$f":"IF(OR(C776=\"\",$I767=\"NSO\"),\"\",VLOOKUP($A762,'Result Entry'!$B$9:$DX$108,16,0))","v":0},{"$f":"SUM(G776,H776)","v":0},{"$f":"IF(OR(C776=\"\",$I767=\"NSO\"),\"\",VLOOKUP($A762,'Result Entry'!$B$9:$DX$108,20,0))","v":0},{"$f":"SUM(I776,J776)","v":0},null,{"$f":"IF(OR(C776=\"\",$I767=\"NSO\"),\"\",VLOOKUP($A762,'Result Entry'!$B$9:$DX$108,23,0))","v":""}]
[null,"◐",{"$f":"'Result Entry'!$Y$3","v":"Mathematics"},{"$nulls":4},{"$f":"IF(OR(C777=\"\",$I767=\"NSO\"),\"\",VLOOKUP($A762,'Result Entry'!$B$9:$DX$108,30,0))","v":0},{"$f":"SUM(G777,H777)","v":0},{"$f":"IF(OR(C777=\"\",$I767=\"NSO\"),\"\",VLOOKUP($A762,'Result Entry'!$B$9:$DX$108,34,0))","v":0},{"$f":"SUM(I777,J777)","v":0},null,{"$f":"IF(OR(C777=\"\",$I767=\"NSO\"),\"\",VLOOKUP($A762,'Result Entry'!$B$9:$DX$108,37,0))","v":""}]
[null,"◐",{"$f":"'Result Entry'!$BO$3","v":"Env. Study"},{"$nulls":4},{"$f":"IF(OR(C778=\"\",$I767=\"NSO\"),\"\",VLOOKUP($A762,'Result Entry'!$B$9:$DX$108,66,0))","v":0},0,{"$f":"IF(OR(C778=\"\",$I767=\"NSO\"),\"\",VLOOKUP($A762,'Result Entry'!$B$9:$DX$108,67,0))","v":0},0,null,{"$f":"IF(OR(C778=\"\",$I767=\"NSO\"),\"\",VLOOKUP($A762,'Result Entry'!$B$9:$DX$108,73,0))","v":""}]
[null,"◐","Max. Marks",{"$nulls":4},{"$f":"'Result Entry'!$AS$7","v":50},50,{"$f":"'Result Entry'!$AW$7","v":50},100,null,"A/B/C/D/E"]
[null,"◐",{"$f":"'Result Entry'!$AM$3","v":"English"},{"$nulls":4},{"$f":"IF(OR(C780=\"\",$I767=\"NSO\"),\"\",VLOOKUP($A762,'Result Entry'!$B$9:$DX$108,44,0))","v":0},0,{"$f":"IF(OR(C780=\"\",$I767=\"NSO\"),\"\",VLOOKUP($A762,'Result Entry'!$B$9:$DX$108,48,0))","v":0},0,null,{"$f":"IF(OR(C780=\"\",$I767=\"NSO\"),\"\",VLOOKUP($A762,'Result Entry'!$B$9:$DX$108,51,0))","v":""}]
[null,"◐"]
[null,"◐","Overall Result",null,null,"Total Max. Marks",null,"Total Obtained Marks",null,"Percentage","Overall Grade","Result","Position in Class"]
[null,"◐",{"$nulls":3},{"$f":"IF(OR($I767=\"\",$I767=\"NSO\"),\"\",VLOOKUP($A762,'Result Entry'!$B$9:$DX$108,101,0))","v":500},null,{"$f":"IF(OR($I767=\"\",$I767=\"NSO\"),\"\",VLOOKUP($A762,'Result Entry'!$B$9:$DX$108,102,0))","v":0},null,{"$f":"IF(OR($I767=\"\",$I767=\"NSO\"),\"\",VLOOKUP($A762,'Result Entry'!$B$9:$DX$108,103,0))","v":{"v":0,"d":"0.00"}},{"$f":"IF(OR($I767=\"\",$I767=\"NSO\"),\"\",VLOOKUP($A762,'Result Entry'!$B$9:$DX$108,104,0))","v":""},{"$f":"IF(OR($I767=\"\",$I767=\"NSO\"),\"\",VLOOKUP($A762,'Result Entry'!$B$9:$DX$108,105,0))","v":""},{"$f":"IF(OR($I767=\"\",$I767=\"NSO\"),\"\",VLOOKUP($A762,'Result Entry'!$B$9:$DX$108,107,0))","v":""}]
[null,"◐",{"$nulls":6},"Total Meetings :-",null,{"$f":"IF(OR($I767=\"\",$I767=\"NSO\"),\"\",VLOOKUP($A762,'Result Entry'!$B$9:$DX$108,98,0))","v":0},"Attedance %"]
[null,"◐","Extra Subjects",{"$nulls":5},"Student's Meetings :-",null,{"$f":"IF(OR($I767=\"\",$I767=\"NSO\"),\"\",VLOOKUP($A762,'Result Entry'!$B$9:$DX$108,99,0))","v":0},{"$f":"IF(OR($I767=\"\",$I767=\"NSO\"),\"\",VLOOKUP($A762,'Result Entry'!$B$9:$DX$108,100,0))","v":""}]
[null,"◐","Subject",null,null,"Total Marks",null,"GRADE","Remark :-",null,{"$f":"IF(OR($I767=\"\",$I767=\"NSO\"),\"\",VLOOKUP($A762,'Result Entry'!$B$9:$DX$108,108,0))","v":0}]
[null,"◐",{"$nulls":6},"Result Date :-",null,{"$f":"'Result Entry'!$T$2","v":"2023-05-24"}]
[null,"◐",{"$f":"'Result Entry'!$BW$3","v":"WORK EXP."},null,null,{"$f":"IF(OR(C788=\"\",$I767=\"NSO\"),\"\",VLOOKUP($A762,'Result Entry'!$B$9:$DX$108,119,0))","v":"0/50"},null,{"$f":"IF(OR(C788=\"\",$I767=\"NSO\"),\"\",VLOOKUP($A762,'Result Entry'!$B$9:$DX$108,81,0))","v":""}]
[null,null,{"$f":"'Result Entry'!$CE$3","v":"ART EDU."},null,null,{"$f":"IF(OR(C789=\"\",$I767=\"NSO\"),\"\",VLOOKUP($A762,'Result Entry'!$B$9:$DX$108,123,0))","v":"0/50"},null,{"$f":"IF(OR(C789=\"\",$I767=\"NSO\"),\"\",VLOOKUP($A762,'Result Entry'!$B$9:$DX$108,89,0))","v":""}]
[null,"◐",{"$f":"'Result Entry'!$CM$3","v":"H&P. EDU."},null,null,{"$f":"IF(OR(C790=\"\",$I767=\"NSO\"),\"\",VLOOKUP($A762,'Result Entry'!$B$9:$DX$108,127,0))","v":"0/100"},null,{"$f":"IF(OR(C790=\"\",$I767=\"NSO\"),\"\",VLOOKUP($A762,'Result Entry'!$B$9:$DX$108,97,0))","v":""},"Signature Of The Class Teacher"]
[null,"◐","Grading System"]
[null,"◐","Grd.","% Range",null,"Description"]
[null,"◐","A","86-100",null,"Excellent",null,null,"Signature And Seal Of Principal/H.M."]
[null,"◐","B","71-85",null,"Very Good"]
[null,"◐","C","51-70",null,"Good"]
[null,"◐","D","31-50",null,"Average"]
[null,"◐","E","0-30",null,"Needs Improvement",null,null,"Wish bright future"]
[]
[]
[{"$f":"A762+1","v":22},"Department Of Education, Rajasthan"]
[null,{"$f":"IF(I805>0,CONCATENATE(C805,I805),0)","v":0},null,{"$f":"Master!$E$8","v":"Govt.Sr.Sec.Sch. "}]
[{"$nulls":3},{"$f":"Master!$E$11","v":"P.S.-Bapini (Jodhpur)"}]
[null,null,"Report Card",{"$nulls":6},"U-DISE Code:-",null,{"$f":"Master!$E$14","v":{"v":810000000,"d":"0810000000"}}]
[{"$nulls":9},"Session:-",null,{"$f":"Master!$E$6","v":"2022-23"}]
[null,null,"Roll No.:-",{"$nulls":5},{"$f":"VLOOKUP($A800,'Result Entry'!$B$9:$F$108,5,0)","v":0}]
[null,"◐","Scholar Number",{"$nulls":3},"↠",{"$f":"VLOOKUP($A800,'Result Entry'!$B$9:$DX$108,3,0)","v":0}]
[null,"◐","Student's Name",{"$nulls":3},"↠",{"$f":"VLOOKUP($A800,'Result Entry'!$B$9:$DX$108,6,0)","v":0}]
[null,"◐","Father's Name",{"$nulls":3},"↠",{"$f":"VLOOKUP($A800,'Result Entry'!$B$9:$DX$108,7,0)","v":0}]
[null,"◐","Mother's Name ",{"$nulls":3},"↠",{"$f":"VLOOKUP($A800,'Result Entry'!$B$9:$DX$108,8,0)","v":0}]
[null,"◐","Class & Section",{"$nulls":3},"↠",{"$f":"CONCATENATE('Result Entry'!$F$4,'Result Entry'!$I$4)","v":"2(A)"}]
[null,"◐","Date Of Birth",{"$nulls":3},"↠",{"$f":"VLOOKUP($A800,'Result Entry'!$B$9:$DX$108,9,0)","v":"00:00:00"}]
[null,"◐","Subject",{"$nulls":4},"Half Yearly","Total (T+H.Y.)","Yearly","Grand Total",null,"Subject Grade"]
[null,"◐","Max. Marks",{"$nulls":4},{"$f":"'Result Entry'!$Q$7","v":100},{"$f":"G813+H813","v":100},{"$f":"'Result Entry'!$U$7","v":100},{"$f":"I813+J813","v":200},null,"A/B/C/D/E"]
[null,"◐",{"$f":"'Result Entry'!$K$3","v":"Hindi"},{"$nulls":4},{"$f":"IF(OR(C814=\"\",$I805=\"NSO\"),\"\",VLOOKUP($A800,'Result Entry'!$B$9:$DX$108,16,0))","v":0},{"$f":"SUM(G814,H814)","v":0},{"$f":"IF(OR(C814=\"\",$I805=\"NSO\"),\"\",VLOOKUP($A800,'Result Entry'!$B$9:$DX$108,20,0))","v":0},{"$f":"SUM(I814,J814)","v":0},null,{"$f":"IF(OR(C814=\"\",$I805=\"NSO\"),\"\",VLOOKUP($A800,'Result Entry'!$B$9:$DX$108,23,0))","v":""}]
[null,"◐",{"$f":"'Result Entry'!$Y$3","v":"Mathematics"},{"$nulls":4},{"$f":"IF(OR(C815=\"\",$I805=\"NSO\"),\"\",VLOOKUP($A800,'Result Entry'!$B$9:$DX$108,30,0))","v":0},{"$f":"SUM(G815,H815)","v":0},{"$f":"IF(OR(C815=\"\",$I805=\"NSO\"),\"\",VLOOKUP($A800,'Result Entry'!$B$9:$DX$108,34,0))","v":0},{"$f":"SUM(I815,J815)","v":0},null,{"$f":"IF(OR(C815=\"\",$I805=\"NSO\"),\"\",VLOOKUP($A800,'Result Entry'!$B$9:$DX$108,37,0))","v":""}]
[null,"◐",{"$f":"'Result Entry'!$BO$3","v":"Env. Study"},{"$nulls":4},{"$f":"IF(OR(C816=\"\",$I805=\"NSO\"),\"\",VLOOKUP($A800,'Result Entry'!$B$9:$DX$108,66,0))","v":0},0,{"$f":"IF(OR(C816=\"\",$I805=\"NSO\"),\"\",VLOOKUP($A800,'Result Entry'!$B$9:$DX$108,67,0))","v":0},0,null,{"$f":"IF(OR(C816=\"\",$I805=\"NSO\"),\"\",VLOOKUP($A800,'Result Entry'!$B$9:$DX$108,73,0))","v":""}]
[null,"◐","Max. Marks",{"$nulls":4},{"$f":"'Result Entry'!$AS$7","v":50},50,{"$f":"'Result Entry'!$AW$7","v":50},100,null,"A/B/C/D/E"]
[null,"◐",{"$f":"'Result Entry'!$AM$3","v":"English"},{"$nulls":4},{"$f":"IF(OR(C818=\"\",$I805=\"NSO\"),\"\",VLOOKUP($A800,'Result Entry'!$B$9:$DX$108,44,0))","v":0},0,{"$f":"IF(OR(C818=\"\",$I805=\"NSO\"),\"\",VLOOKUP($A800,'Result Entry'!$B$9:$DX$108,48,0))","v":0},0,null,{"$f":"IF(OR(C818=\"\",$I805=\"NSO\"),\"\",VLOOKUP($A800,'Result Entry'!$B$9:$DX$108,51,0))","v":""}]
[null,"◐"]
[null,"◐","Overall Result",null,null,"Total Max. Marks",null,"Total Obtained Marks",null,"Percentage","Overall Grade","Result","Position in Class"]
[null,"◐",{"$nulls":3},{"$f":"IF(OR($I805=\"\",$I805=\"NSO\"),\"\",VLOOKUP($A800,'Result Entry'!$B$9:$DX$108,101,0))","v":500},null,{"$f":"IF(OR($I805=\"\",$I805=\"NSO\"),\"\",VLOOKUP($A800,'Result Entry'!$B$9:$DX$108,102,0))","v":0},null,{"$f":"IF(OR($I805=\"\",$I805=\"NSO\"),\"\",VLOOKUP($A800,'Result Entry'!$B$9:$DX$108,103,0))","v":{"v":0,"d":"0.00"}},{"$f":"IF(OR($I805=\"\",$I805=\"NSO\"),\"\",VLOOKUP($A800,'Result Entry'!$B$9:$DX$108,104,0))","v":""},{"$f":"IF(OR($I805=\"\",$I805=\"NSO\"),\"\",VLOOKUP($A800,'Result Entry'!$B$9:$DX$108,105,0))","v":""},{"$f":"IF(OR($I805=\"\",$I805=\"NSO\"),\"\",VLOOKUP($A800,'Result Entry'!$B$9:$DX$108,107,0))","v":""}]
[null,"◐",{"$nulls":6},"Total Meetings :-",null,{"$f":"IF(OR($I805=\"\",$I805=\"NSO\"),\"\",VLOOKUP($A800,'Result Entry'!$B$9:$DX$108,98,0))","v":0},"Attedance %"]
[null,"◐","Extra Subjects",{"$nulls":5},"Student's Meetings :-",null,{"$f":"IF(OR($I805=\"\",$I805=\"NSO\"),\"\",VLOOKUP($A800,'Result Entry'!$B$9:$DX$108,99,0))","v":0},{"$f":"IF(OR($I805=\"\",$I805=\"NSO\"),\"\",VLOOKUP($A800,'Result Entry'!$B$9:$DX$108,100,0))","v":""}]
[null,"◐","Subject",null,null,"Total Marks",null,"GRADE","Remark :-",null,{"$f":"IF(OR($I805=\"\",$I805=\"NSO\"),\"\",VLOOKUP($A800,'Result Entry'!$B$9:$DX$108,108,0))","v":0}]
[null,"◐",{"$nulls":6},"Result Date :-",null,{"$f":"'Result Entry'!$T$2","v":"2023-05-24"}]
[null,"◐",{"$f":"'Result Entry'!$BW$3","v":"WORK EXP."},null,null,{"$f":"IF(OR(C826=\"\",$I805=\"NSO\"),\"\",VLOOKUP($A800,'Result Entry'!$B$9:$DX$108,119,0))","v":"0/50"},null,{"$f":"IF(OR(C826=\"\",$I805=\"NSO\"),\"\",VLOOKUP($A800,'Result Entry'!$B$9:$DX$108,81,0))","v":""}]
[null,null,{"$f":"'Result Entry'!$CE$3","v":"ART EDU."},null,null,{"$f":"IF(OR(C827=\"\",$I805=\"NSO\"),\"\",VLOOKUP($A800,'Result Entry'!$B$9:$DX$108,123,0))","v":"0/50"},null,{"$f":"IF(OR(C827=\"\",$I805=\"NSO\"),\"\",VLOOKUP($A800,'Result Entry'!$B$9:$DX$108,89,0))","v":""}]
[null,"◐",{"$f":"'Result Entry'!$CM$3","v":"H&P. EDU."},null,null,{"$f":"IF(OR(C828=\"\",$I805=\"NSO\"),\"\",VLOOKUP($A800,'Result Entry'!$B$9:$DX$108,127,0))","v":"0/100"},null,{"$f":"IF(OR(C828=\"\",$I805=\"NSO\"),\"\",VLOOKUP($A800,'Result Entry'!$B$9:$DX$108,97,0))","v":""},"Signature Of The Class Teacher"]
[null,"◐","Grading System"]
[null,"◐","Grd.","% Range",null,"Description"]
[null,"◐","A","86-100",null,"Excellent",null,null,"Signature And Seal Of Principal/H.M."]
[null,"◐","B","71-85",null,"Very Good"]
[null,"◐","C","51-70",null,"Good"]
[null,"◐","D","31-50",null,"Average"]
[null,"◐","E","0-30",null,"Needs Improvement",null,null,"Wish bright future"]
[]
[]
[{"$f":"A800+1","v":23},"Department Of Education, Rajasthan"]
[null,{"$f":"IF(I843>0,CONCATENATE(C843,I843),0)","v":0},null,{"$f":"Master!$E$8","v":"Govt.Sr.Sec.Sch. "}]
[{"$nulls":3},{"$f":"Master!$E$11","v":"P.S.-Bapini (Jodhpur)"}]
[null,null,"Report Card",{"$nulls":6},"U-DISE Code:-",null,{"$f":"Master!$E$14","v":{"v":810000000,"d":"0810000000"}}]
[{"$nulls":9},"Session:-",null,{"$f":"Master!$E$6","v":"2022-23"}]
[null,null,"Roll No.:-",{"$nulls":5},{"$f":"VLOOKUP($A838,'Result Entry'!$B$9:$F$108,5,0)","v":0}]
[null,"◐","Scholar Number",{"$nulls":3},"↠",{"$f":"VLOOKUP($A838,'Result Entry'!$B$9:$DX$108,3,0)","v":0}]
[null,"◐","Student's Name",{"$nulls":3},"↠",{"$f":"VLOOKUP($A838,'Result Entry'!$B$9:$DX$108,6,0)","v":0}]
[null,"◐","Father's Name",{"$nulls":3},"↠",{"$f":"VLOOKUP($A838,'Result Entry'!$B$9:$DX$108,7,0)","v":0}]
[null,"◐","Mother's Name ",{"$nulls":3},"↠",{"$f":"VLOOKUP($A838,'Result Entry'!$B$9:$DX$108,8,0)","v":0}]
[null,"◐","Class & Section",{"$nulls":3},"↠",{"$f":"CONCATENATE('Result Entry'!$F$4,'Result Entry'!$I$4)","v":"2(A)"}]
[null,"◐","Date Of Birth",{"$nulls":3},"↠",{"$f":"VLOOKUP($A838,'Result Entry'!$B$9:$DX$108,9,0)","v":"00:00:00"}]
[null,"◐","Subject",{"$nulls":4},"Half Yearly","Total (T+H.Y.)","Yearly","Grand Total",null,"Subject Grade"]
[null,"◐","Max. Marks",{"$nulls":4},{"$f":"'Result Entry'!$Q$7","v":100},{"$f":"G851+H851","v":100},{"$f":"'Result Entry'!$U$7","v":100},{"$f":"I851+J851","v":200},null,"A/B/C/D/E"]
[null,"◐",{"$f":"'Result Entry'!$K$3","v":"Hindi"},{"$nulls":4},{"$f":"IF(OR(C852=\"\",$I843=\"NSO\"),\"\",VLOOKUP($A838,'Result Entry'!$B$9:$DX$108,16,0))","v":0},{"$f":"SUM(G852,H852)","v":0},{"$f":"IF(OR(C852=\"\",$I843=\"NSO\"),\"\",VLOOKUP($A838,'Result Entry'!$B$9:$DX$108,20,0))","v":0},{"$f":"SUM(I852,J852)","v":0},null,{"$f":"IF(OR(C852=\"\",$I843=\"NSO\"),\"\",VLOOKUP($A838,'Result Entry'!$B$9:$DX$108,23,0))","v":""}]
[null,"◐",{"$f":"'Result Entry'!$Y$3","v":"Mathematics"},{"$nulls":4},{"$f":"IF(OR(C853=\"\",$I843=\"NSO\"),\"\",VLOOKUP($A838,'Result Entry'!$B$9:$DX$108,30,0))","v":0},{"$f":"SUM(G853,H853)","v":0},{"$f":"IF(OR(C853=\"\",$I843=\"NSO\"),\"\",VLOOKUP($A838,'Result Entry'!$B$9:$DX$108,34,0))","v":0},{"$f":"SUM(I853,J853)","v":0},null,{"$f":"IF(OR(C853=\"\",$I843=\"NSO\"),\"\",VLOOKUP($A838,'Result Entry'!$B$9:$DX$108,37,0))","v":""}]
[null,"◐",{"$f":"'Result Entry'!$BO$3","v":"Env. Study"},{"$nulls":4},{"$f":"IF(OR(C854=\"\",$I843=\"NSO\"),\"\",VLOOKUP($A838,'Result Entry'!$B$9:$DX$108,66,0))","v":0},0,{"$f":"IF(OR(C854=\"\",$I843=\"NSO\"),\"\",VLOOKUP($A838,'Result Entry'!$B$9:$DX$108,67,0))","v":0},0,null,{"$f":"IF(OR(C854=\"\",$I843=\"NSO\"),\"\",VLOOKUP($A838,'Result Entry'!$B$9:$DX$108,73,0))","v":""}]
[null,"◐","Max. Marks",{"$nulls":4},{"$f":"'Result Entry'!$AS$7","v":50},50,{"$f":"'Result Entry'!$AW$7","v":50},100,null,"A/B/C/D/E"]
[null,"◐",{"$f":"'Result Entry'!$AM$3","v":"English"},{"$nulls":4},{"$f":"IF(OR(C856=\"\",$I843=\"NSO\"),\"\",VLOOKUP($A838,'Result Entry'!$B$9:$DX$108,44,0))","v":0},0,{"$f":"IF(OR(C856=\"\",$I843=\"NSO\"),\"\",VLOOKUP($A838,'Result Entry'!$B$9:$DX$108,48,0))","v":0},0,null,{"$f":"IF(OR(C856=\"\",$I843=\"NSO\"),\"\",VLOOKUP($A838,'Result Entry'!$B$9:$DX$108,51,0))","v":""}]
[null,"◐"]
[null,"◐","Overall Result",null,null,"Total Max. Marks",null,"Total Obtained Marks",null,"Percentage","Overall Grade","Result","Position in Class"]
[null,"◐",{"$nulls":3},{"$f":"IF(OR($I843=\"\",$I843=\"NSO\"),\"\",VLOOKUP($A838,'Result Entry'!$B$9:$DX$108,101,0))","v":500},null,{"$f":"IF(OR($I843=\"\",$I843=\"NSO\"),\"\",VLOOKUP($A838,'Result Entry'!$B$9:$DX$108,102,0))","v":0},null,{"$f":"IF(OR($I843=\"\",$I843=\"NSO\"),\"\",VLOOKUP($A838,'Result Entry'!$B$9:$DX$108,103,0))","v":{"v":0,"d":"0.00"}},{"$f":"IF(OR($I843=\"\",$I843=\"NSO\"),\"\",VLOOKUP($A838,'Result Entry'!$B$9:$DX$108,104,0))","v":""},{"$f":"IF(OR($I843=\"\",$I843=\"NSO\"),\"\",VLOOKUP($A838,'Result Entry'!$B$9:$DX$108,105,0))","v":""},{"$f":"IF(OR($I843=\"\",$I843=\"NSO\"),\"\",VLOOKUP($A838,'Result Entry'!$B$9:$DX$108,107,0))","v":""}]
[null,"◐",{"$nulls":6},"Total Meetings :-",null,{"$f":"IF(OR($I843=\"\",$I843=\"NSO\"),\"\",VLOOKUP($A838,'Result Entry'!$B$9:$DX$108,98,0))","v":0},"Attedance %"]
[null,"◐","Extra Subjects",{"$nulls":5},"Student's Meetings :-",null,{"$f":"IF(OR($I843=\"\",$I843=\"NSO\"),\"\",VLOOKUP($A838,'Result Entry'!$B$9:$DX$108,99,0))","v":0},{"$f":"IF(OR($I843=\"\",$I843=\"NSO\"),\"\",VLOOKUP($A838,'Result Entry'!$B$9:$DX$108,100,0))","v":""}]
[null,"◐","Subject",null,null,"Total Marks",null,"GRADE","Remark :-",null,{"$f":"IF(OR($I843=\"\",$I843=\"NSO\"),\"\",VLOOKUP($A838,'Result Entry'!$B$9:$DX$108,108,0))","v":0}]
[null,"◐",{"$nulls":6},"Result Date :-",null,{"$f":"'Result Entry'!$T$2","v":"2023-05-24"}]
[null,"◐",{"$f":"'Result Entry'!$BW$3","v":"WORK EXP."},null,null,{"$f":"IF(OR(C864=\"\",$I843=\"NSO\"),\"\",VLOOKUP($A838,'Result Entry'!$B$9:$DX$108,119,0))","v":"0/50"},null,{"$f":"IF(OR(C864=\"\",$I843=\"NSO\"),\"\",VLOOKUP($A838,'Result Entry'!$B$9:$DX$108,81,0))","v":""}]
[null,null,{"$f":"'Result Entry'!$CE$3","v":"ART EDU."},null,null,{"$f":"IF(OR(C865=\"\",$I843=\"NSO\"),\"\",VLOOKUP($A838,'Result Entry'!$B$9:$DX$108,123,0))","v":"0/50"},null,{"$f":"IF(OR(C865=\"\",$I843=\"NSO\"),\"\",VLOOKUP($A838,'Result Entry'!$B$9:$DX$108,89,0))","v":""}]
[null,"◐",{"$f":"'Result Entry'!$CM$3","v":"H&P. EDU."},null,null,{"$f":"IF(OR(C866=\"\",$I843=\"NSO\"),\"\",VLOOKUP($A838,'Result Entry'!$B$9:$DX$108,127,0))","v":"0/100"},null,{"$f":"IF(OR(C866=\"\",$I843=\"NSO\"),\"\",VLOOKUP($A838,'Result Entry'!$B$9:$DX$108,97,0))","v":""},"Signature Of The Class Teacher"]
[null,"◐","Grading System"]
[null,"◐","Grd.","% Range",null,"Description"]
[null,"◐","A","86-100",null,"Excellent",null,null,"Signature And Seal Of Principal/H.M."]
[null,"◐","B","71-85",null,"Very Good"]
[null,"◐","C","51-70",null,"Good"]
[null,"◐","D","31-50",null,"Average"]
[null,"◐","E","0-30",null,"Needs Improvement",null,null,"Wish bright future"]
[]
[]
[{"$f":"A838+1","v":24},"Department Of Education, Rajasthan"]
[null,{"$f":"IF(I881>0,CONCATENATE(C881,I881),0)","v":0},null,{"$f":"Master!$E$8","v":"Govt.Sr.Sec.Sch. "}]
[{"$nulls":3},{"$f":"Master!$E$11","v":"P.S.-Bapini (Jodhpur)"}]
[null,null,"Report Card",{"$nulls":6},"U-DISE Code:-",null,{"$f":"Master!$E$14","v":{"v":810000000,"d":"0810000000"}}]
[{"$nulls":9},"Session:-",null,{"$f":"Master!$E$6","v":"2022-23"}]
[null,null,"Roll No.:-",{"$nulls":5},{"$f":"VLOOKUP($A876,'Result Entry'!$B$9:$F$108,5,0)","v":0}]
[null,"◐","Scholar Number",{"$nulls":3},"↠",{"$f":"VLOOKUP($A876,'Result Entry'!$B$9:$DX$108,3,0)","v":0}]
[null,"◐","Student's Name",{"$nulls":3},"↠",{"$f":"VLOOKUP($A876,'Result Entry'!$B$9:$DX$108,6,0)","v":0}]
[null,"◐","Father's Name",{"$nulls":3},"↠",{"$f":"VLOOKUP($A876,'Result Entry'!$B$9:$DX$108,7,0)","v":0}]
[null,"◐","Mother's Name ",{"$nulls":3},"↠",{"$f":"VLOOKUP($A876,'Result Entry'!$B$9:$DX$108,8,0)","v":0}]
[null,"◐","Class & Section",{"$nulls":3},"↠",{"$f":"CONCATENATE('Result Entry'!$F$4,'Result Entry'!$I$4)","v":"2(A)"}]
[null,"◐","Date Of Birth",{"$nulls":3},"↠",{"$f":"VLOOKUP($A876,'Result Entry'!$B$9:$DX$108,9,0)","v":"00:00:00"}]
[null,"◐","Subject",{"$nulls":4},"Half Yearly","Total (T+H.Y.)","Yearly","Grand Total",null,"Subject Grade"]
[null,"◐","Max. Marks",{"$nulls":4},{"$f":"'Result Entry'!$Q$7","v":100},{"$f":"G889+H889","v":100},{"$f":"'Result Entry'!$U$7","v":100},{"$f":"I889+J889","v":200},null,"A/B/C/D/E"]
[null,"◐",{"$f":"'Result Entry'!$K$3","v":"Hindi"},{"$nulls":4},{"$f":"IF(OR(C890=\"\",$I881=\"NSO\"),\"\",VLOOKUP($A876,'Result Entry'!$B$9:$DX$108,16,0))","v":0},{"$f":"SUM(G890,H890)","v":0},{"$f":"IF(OR(C890=\"\",$I881=\"NSO\"),\"\",VLOOKUP($A876,'Result Entry'!$B$9:$DX$108,20,0))","v":0},{"$f":"SUM(I890,J890)","v":0},null,{"$f":"IF(OR(C890=\"\",$I881=\"NSO\"),\"\",VLOOKUP($A876,'Result Entry'!$B$9:$DX$108,23,0))","v":""}]
[null,"◐",{"$f":"'Result Entry'!$Y$3","v":"Mathematics"},{"$nulls":4},{"$f":"IF(OR(C891=\"\",$I881=\"NSO\"),\"\",VLOOKUP($A876,'Result Entry'!$B$9:$DX$108,30,0))","v":0},{"$f":"SUM(G891,H891)","v":0},{"$f":"IF(OR(C891=\"\",$I881=\"NSO\"),\"\",VLOOKUP($A876,'Result Entry'!$B$9:$DX$108,34,0))","v":0},{"$f":"SUM(I891,J891)","v":0},null,{"$f":"IF(OR(C891=\"\",$I881=\"NSO\"),\"\",VLOOKUP($A876,'Result Entry'!$B$9:$DX$108,37,0))","v":""}]
[null,"◐",{"$f":"'Result Entry'!$BO$3","v":"Env. Study"},{"$nulls":4},{"$f":"IF(OR(C892=\"\",$I881=\"NSO\"),\"\",VLOOKUP($A876,'Result Entry'!$B$9:$DX$108,66,0))","v":0},0,{"$f":"IF(OR(C892=\"\",$I881=\"NSO\"),\"\",VLOOKUP($A876,'Result Entry'!$B$9:$DX$108,67,0))","v":0},0,null,{"$f":"IF(OR(C892=\"\",$I881=\"NSO\"),\"\",VLOOKUP($A876,'Result Entry'!$B$9:$DX$108,73,0))","v":""}]
[null,"◐","Max. Marks",{"$nulls":4},{"$f":"'Result Entry'!$AS$7","v":50},50,{"$f":"'Result Entry'!$AW$7","v":50},100,null,"A/B/C/D/E"]
[null,"◐",{"$f":"'Result Entry'!$AM$3","v":"English"},{"$nulls":4},{"$f":"IF(OR(C894=\"\",$I881=\"NSO\"),\"\",VLOOKUP($A876,'Result Entry'!$B$9:$DX$108,44,0))","v":0},0,{"$f":"IF(OR(C894=\"\",$I881=\"NSO\"),\"\",VLOOKUP($A876,'Result Entry'!$B$9:$DX$108,48,0))","v":0},0,null,{"$f":"IF(OR(C894=\"\",$I881=\"NSO\"),\"\",VLOOKUP($A876,'Result Entry'!$B$9:$DX$108,51,0))","v":""}]
[null,"◐"]
[null,"◐","Overall Result",null,null,"Total Max. Marks",null,"Total Obtained Marks",null,"Percentage","Overall Grade","Result","Position in Class"]
[null,"◐",{"$nulls":3},{"$f":"IF(OR($I881=\"\",$I881=\"NSO\"),\"\",VLOOKUP($A876,'Result Entry'!$B$9:$DX$108,101,0))","v":500},null,{"$f":"IF(OR($I881=\"\",$I881=\"NSO\"),\"\",VLOOKUP($A876,'Result Entry'!$B$9:$DX$108,102,0))","v":0},null,{"$f":"IF(OR($I881=\"\",$I881=\"NSO\"),\"\",VLOOKUP($A876,'Result Entry'!$B$9:$DX$108,103,0))","v":{"v":0,"d":"0.00"}},{"$f":"IF(OR($I881=\"\",$I881=\"NSO\"),\"\",VLOOKUP($A876,'Result Entry'!$B$9:$DX$108,104,0))","v":""},{"$f":"IF(OR($I881=\"\",$I881=\"NSO\"),\"\",VLOOKUP($A876,'Result Entry'!$B$9:$DX$108,105,0))","v":""},{"$f":"IF(OR($I881=\"\",$I881=\"NSO\"),\"\",VLOOKUP($A876,'Result Entry'!$B$9:$DX$108,107,0))","v":""}]
[null,"◐",{"$nulls":6},"Total Meetings :-",null,{"$f":"IF(OR($I881=\"\",$I881=\"NSO\"),\"\",VLOOKUP($A876,'Result Entry'!$B$9:$DX$108,98,0))","v":0},"Attedance %"]
[null,"◐","Extra Subjects",{"$nulls":5},"Student's Meetings :-",null,{"$f":"IF(OR($I881=\"\",$I881=\"NSO\"),\"\",VLOOKUP($A876,'Result Entry'!$B$9:$DX$108,99,0))","v":0},{"$f":"IF(OR($I881=\"\",$I881=\"NSO\"),\"\",VLOOKUP($A876,'Result Entry'!$B$9:$DX$108,100,0))","v":""}]
[null,"◐","Subject",null,null,"Total Marks",null,"GRADE","Remark :-",null,{"$f":"IF(OR($I881=\"\",$I881=\"NSO\"),\"\",VLOOKUP($A876,'Result Entry'!$B$9:$DX$108,108,0))","v":0}]
[null,"◐",{"$nulls":6},"Result Date :-",null,{"$f":"'Result Entry'!$T$2","v":"2023-05-24"}]
[null,"◐",{"$f":"'Result Entry'!$BW$3","v":"WORK EXP."},null,null,{"$f":"IF(OR(C902=\"\",$I881=\"NSO\"),\"\",VLOOKUP($A876,'Result Entry'!$B$9:$DX$108,119,0))","v":"0/50"},null,{"$f":"IF(OR(C902=\"\",$I881=\"NSO\"),\"\",VLOOKUP($A876,'Result Entry'!$B$9:$DX$108,81,0))","v":""}]
[null,null,{"$f":"'Result Entry'!$CE$3","v":"ART EDU."},null,null,{"$f":"IF(OR(C903=\"\",$I881=\"NSO\"),\"\",VLOOKUP($A876,'Result Entry'!$B$9:$DX$108,123,0))","v":"0/50"},null,{"$f":"IF(OR(C903=\"\",$I881=\"NSO\"),\"\",VLOOKUP($A876,'Result Entry'!$B$9:$DX$108,89,0))","v":""}]
[null,"◐",{"$f":"'Result Entry'!$CM$3","v":"H&P. EDU."},null,null,{"$f":"IF(OR(C904=\"\",$I881=\"NSO\"),\"\",VLOOKUP($A876,'Result Entry'!$B$9:$DX$108,127,0))","v":"0/100"},null,{"$f":"IF(OR(C904=\"\",$I881=\"NSO\"),\"\",VLOOKUP($A876,'Result Entry'!$B$9:$DX$108,97,0))","v":""},"Signature Of The Class Teacher"]
[null,"◐","Grading System"]
[null,"◐","Grd.","% Range",null,"Description"]
[null,"◐","A","86-100",null,"Excellent",null,null,"Signature And Seal Of Principal/H.M."]
[null,"◐","B","71-85",null,"Very Good"]
[null,"◐","C","51-70",null,"Good"]
[null,"◐","D","31-50",null,"Average"]
[null,"◐","E","0-30",null,"Needs Improvement",null,null,"Wish bright future"]
[]
[]
[{"$f":"A876+1","v":25},"Department Of Education, Rajasthan"]
[null,{"$f":"IF(I919>0,CONCATENATE(C919,I919),0)","v":0},null,{"$f":"Master!$E$8","v":"Govt.Sr.Sec.Sch. "}]
[{"$nulls":3},{"$f":"Master!$E$11","v":"P.S.-Bapini (Jodhpur)"}]
[null,null,"Report Card",{"$nulls":6},"U-DISE Code:-",null,{"$f":"Master!$E$14","v":{"v":810000000,"d":"0810000000"}}]
[{"$nulls":9},"Session:-",null,{"$f":"Master!$E$6","v":"2022-23"}]
[null,null,"Roll No.:-",{"$nulls":5},{"$f":"VLOOKUP($A914,'Result Entry'!$B$9:$F$108,5,0)","v":0}]
[null,"◐","Scholar Number",{"$nulls":3},"↠",{"$f":"VLOOKUP($A914,'Result Entry'!$B$9:$DX$108,3,0)","v":0}]
[null,"◐","Student's Name",{"$nulls":3},"↠",{"$f":"VLOOKUP($A914,'Result Entry'!$B$9:$DX$108,6,0)","v":0}]
[null,"◐","Father's Name",{"$nulls":3},"↠",{"$f":"VLOOKUP($A914,'Result Entry'!$B$9:$DX$108,7,0)","v":0}]
[null,"◐","Mother's Name ",{"$nulls":3},"↠",{"$f":"VLOOKUP($A914,'Result Entry'!$B$9:$DX$108,8,0)","v":0}]
[null,"◐","Class & Section",{"$nulls":3},"↠",{"$f":"CONCATENATE('Result Entry'!$F$4,'Result Entry'!$I$4)","v":"2(A)"}]
[null,"◐","Date Of Birth",{"$nulls":3},"↠",{"$f":"VLOOKUP($A914,'Result Entry'!$B$9:$DX$108,9,0)","v":"00:00:00"}]
[null,"◐","Subject",{"$nulls":4},"Half Yearly","Total (T+H.Y.)","Yearly","Grand Total",null,"Subject Grade"]
[null,"◐","Max. Marks",{"$nulls":4},{"$f":"'Result Entry'!$Q$7","v":100},{"$f":"G927+H927","v":100},{"$f":"'Result Entry'!$U$7","v":100},{"$f":"I927+J927","v":200},null,"A/B/C/D/E"]
[null,"◐",{"$f":"'Result Entry'!$K$3","v":"Hindi"},{"$nulls":4},{"$f":"IF(OR(C928=\"\",$I919=\"NSO\"),\"\",VLOOKUP($A914,'Result Entry'!$B$9:$DX$108,16,0))","v":0},{"$f":"SUM(G928,H928)","v":0},{"$f":"IF(OR(C928=\"\",$I919=\"NSO\"),\"\",VLOOKUP($A914,'Result Entry'!$B$9:$DX$108,20,0))","v":0},{"$f":"SUM(I928,J928)","v":0},null,{"$f":"IF(OR(C928=\"\",$I919=\"NSO\"),\"\",VLOOKUP($A914,'Result Entry'!$B$9:$DX$108,23,0))","v":""}]
[null,"◐",{"$f":"'Result Entry'!$Y$3","v":"Mathematics"},{"$nulls":4},{"$f":"IF(OR(C929=\"\",$I919=\"NSO\"),\"\",VLOOKUP($A914,'Result Entry'!$B$9:$DX$108,30,0))","v":0},{"$f":"SUM(G929,H929)","v":0},{"$f":"IF(OR(C929=\"\",$I919=\"NSO\"),\"\",VLOOKUP($A914,'Result Entry'!$B$9:$DX$108,34,0))","v":0},{"$f":"SUM(I929,J929)","v":0},null,{"$f":"IF(OR(C929=\"\",$I919=\"NSO\"),\"\",VLOOKUP($A914,'Result Entry'!$B$9:$DX$108,37,0))","v":""}]
[null,"◐",{"$f":"'Result Entry'!$BO$3","v":"Env. Study"},{"$nulls":4},{"$f":"IF(OR(C930=\"\",$I919=\"NSO\"),\"\",VLOOKUP($A914,'Result Entry'!$B$9:$DX$108,66,0))","v":0},0,{"$f":"IF(OR(C930=\"\",$I919=\"NSO\"),\"\",VLOOKUP($A914,'Result Entry'!$B$9:$DX$108,67,0))","v":0},0,null,{"$f":"IF(OR(C930=\"\",$I919=\"NSO\"),\"\",VLOOKUP($A914,'Result Entry'!$B$9:$DX$108,73,0))","v":""}]
[null,"◐","Max. Marks",{"$nulls":4},{"$f":"'Result Entry'!$AS$7","v":50},50,{"$f":"'Result Entry'!$AW$7","v":50},100,null,"A/B/C/D/E"]
[null,"◐",{"$f":"'Result Entry'!$AM$3","v":"English"},{"$nulls":4},{"$f":"IF(OR(C932=\"\",$I919=\"NSO\"),\"\",VLOOKUP($A914,'Result Entry'!$B$9:$DX$108,44,0))","v":0},0,{"$f":"IF(OR(C932=\"\",$I919=\"NSO\"),\"\",VLOOKUP($A914,'Result Entry'!$B$9:$DX$108,48,0))","v":0},0,null,{"$f":"IF(OR(C932=\"\",$I919=\"NSO\"),\"\",VLOOKUP($A914,'Result Entry'!$B$9:$DX$108,51,0))","v":""}]
[null,"◐"]
[null,"◐","Overall Result",null,null,"Total Max. Marks",null,"Total Obtained Marks",null,"Percentage","Overall Grade","Result","Position in Class"]
[null,"◐",{"$nulls":3},{"$f":"IF(OR($I919=\"\",$I919=\"NSO\"),\"\",VLOOKUP($A914,'Result Entry'!$B$9:$DX$108,101,0))","v":500},null,{"$f":"IF(OR($I919=\"\",$I919=\"NSO\"),\"\",VLOOKUP($A914,'Result Entry'!$B$9:$DX$108,102,0))","v":0},null,{"$f":"IF(OR($I919=\"\",$I919=\"NSO\"),\"\",VLOOKUP($A914,'Result Entry'!$B$9:$DX$108,103,0))","v":{"v":0,"d":"0.00"}},{"$f":"IF(OR($I919=\"\",$I919=\"NSO\"),\"\",VLOOKUP($A914,'Result Entry'!$B$9:$DX$108,104,0))","v":""},{"$f":"IF(OR($I919=\"\",$I919=\"NSO\"),\"\",VLOOKUP($A914,'Result Entry'!$B$9:$DX$108,105,0))","v":""},{"$f":"IF(OR($I919=\"\",$I919=\"NSO\"),\"\",VLOOKUP($A914,'Result Entry'!$B$9:$DX$108,107,0))","v":""}]
[null,"◐",{"$nulls":6},"Total Meetings :-",null,{"$f":"IF(OR($I919=\"\",$I919=\"NSO\"),\"\",VLOOKUP($A914,'Result Entry'!$B$9:$DX$108,98,0))","v":0},"Attedance %"]
[null,"◐","Extra Subjects",{"$nulls":5},"Student's Meetings :-",null,{"$f":"IF(OR($I919=\"\",$I919=\"NSO\"),\"\",VLOOKUP($A914,'Result Entry'!$B$9:$DX$108,99,0))","v":0},{"$f":"IF(OR($I919=\"\",$I919=\"NSO\"),\"\",VLOOKUP($A914,'Result Entry'!$B$9:$DX$108,100,0))","v":""}]
[null,"◐","Subject",null,null,"Total Marks",null,"GRADE","Remark :-",null,{"$f":"IF(OR($I919=\"\",$I919=\"NSO\"),\"\",VLOOKUP($A914,'Result Entry'!$B$9:$DX$108,108,0))","v":0}]
[null,"◐",{"$nulls":6},"Result Date :-",null,{"$f":"'Result Entry'!$T$2","v":"2023-05-24"}]
[null,"◐",{"$f":"'Result Entry'!$BW$3","v":"WORK EXP."},null,null,{"$f":"IF(OR(C940=\"\",$I919=\"NSO\"),\"\",VLOOKUP($A914,'Result Entry'!$B$9:$DX$108,119,0))","v":"0/50"},null,{"$f":"IF(OR(C940=\"\",$I919=\"NSO\"),\"\",VLOOKUP($A914,'Result Entry'!$B$9:$DX$108,81,0))","v":""}]
[null,null,{"$f":"'Result Entry'!$CE$3","v":"ART EDU."},null,null,{"$f":"IF(OR(C941=\"\",$I919=\"NSO\"),\"\",VLOOKUP($A914,'Result Entry'!$B$9:$DX$108,123,0))","v":"0/50"},null,{"$f":"IF(OR(C941=\"\",$I919=\"NSO\"),\"\",VLOOKUP($A914,'Result Entry'!$B$9:$DX$108,89,0))","v":""}]
[null,"◐",{"$f":"'Result Entry'!$CM$3","v":"H&P. EDU."},null,null,{"$f":"IF(OR(C942=\"\",$I919=\"NSO\"),\"\",VLOOKUP($A914,'Result Entry'!$B$9:$DX$108,127,0))","v":"0/100"},null,{"$f":"IF(OR(C942=\"\",$I919=\"NSO\"),\"\",VLOOKUP($A914,'Result Entry'!$B$9:$DX$108,97,0))","v":""},"Signature Of The Class Teacher"]
[null,"◐","Grading System"]
[null,"◐","Grd.","% Range",null,"Description"]
[null,"◐","A","86-100",null,"Excellent",null,null,"Signature And Seal Of Principal/H.M."]
[null,"◐","B","71-85",null,"Very Good"]
[null,"◐","C","51-70",null,"Good"]
[null,"◐","D","31-50",null,"Average"]
[null,"◐","E","0-30",null,"Needs Improvement",null,null,"Wish bright future"]
[]
[]
[{"$f":"A914+1","v":26},"Department Of Education, Rajasthan"]
[null,{"$f":"IF(I957>0,CONCATENATE(C957,I957),0)","v":0},null,{"$f":"Master!$E$8","v":"Govt.Sr.Sec.Sch. "}]
[{"$nulls":3},{"$f":"Master!$E$11","v":"P.S.-Bapini (Jodhpur)"}]
[null,null,"Report Card",{"$nulls":6},"U-DISE Code:-",null,{"$f":"Master!$E$14","v":{"v":810000000,"d":"0810000000"}}]
[{"$nulls":9},"Session:-",null,{"$f":"Master!$E$6","v":"2022-23"}]
[null,null,"Roll No.:-",{"$nulls":5},{"$f":"VLOOKUP($A952,'Result Entry'!$B$9:$F$108,5,0)","v":0}]
[null,"◐","Scholar Number",{"$nulls":3},"↠",{"$f":"VLOOKUP($A952,'Result Entry'!$B$9:$DX$108,3,0)","v":0}]
[null,"◐","Student's Name",{"$nulls":3},"↠",{"$f":"VLOOKUP($A952,'Result Entry'!$B$9:$DX$108,6,0)","v":0}]
[null,"◐","Father's Name",{"$nulls":3},"↠",{"$f":"VLOOKUP($A952,'Result Entry'!$B$9:$DX$108,7,0)","v":0}]
[null,"◐","Mother's Name ",{"$nulls":3},"↠",{"$f":"VLOOKUP($A952,'Result Entry'!$B$9:$DX$108,8,0)","v":0}]
[null,"◐","Class & Section",{"$nulls":3},"↠",{"$f":"CONCATENATE('Result Entry'!$F$4,'Result Entry'!$I$4)","v":"2(A)"}]
[null,"◐","Date Of Birth",{"$nulls":3},"↠",{"$f":"VLOOKUP($A952,'Result Entry'!$B$9:$DX$108,9,0)","v":"00:00:00"}]
[null,"◐","Subject",{"$nulls":4},"Half Yearly","Total (T+H.Y.)","Yearly","Grand Total",null,"Subject Grade"]
[null,"◐","Max. Marks",{"$nulls":4},{"$f":"'Result Entry'!$Q$7","v":100},{"$f":"G965+H965","v":100},{"$f":"'Result Entry'!$U$7","v":100},{"$f":"I965+J965","v":200},null,"A/B/C/D/E"]
[null,"◐",{"$f":"'Result Entry'!$K$3","v":"Hindi"},{"$nulls":4},{"$f":"IF(OR(C966=\"\",$I957=\"NSO\"),\"\",VLOOKUP($A952,'Result Entry'!$B$9:$DX$108,16,0))","v":0},{"$f":"SUM(G966,H966)","v":0},{"$f":"IF(OR(C966=\"\",$I957=\"NSO\"),\"\",VLOOKUP($A952,'Result Entry'!$B$9:$DX$108,20,0))","v":0},{"$f":"SUM(I966,J966)","v":0},null,{"$f":"IF(OR(C966=\"\",$I957=\"NSO\"),\"\",VLOOKUP($A952,'Result Entry'!$B$9:$DX$108,23,0))","v":""}]
[null,"◐",{"$f":"'Result Entry'!$Y$3","v":"Mathematics"},{"$nulls":4},{"$f":"IF(OR(C967=\"\",$I957=\"NSO\"),\"\",VLOOKUP($A952,'Result Entry'!$B$9:$DX$108,30,0))","v":0},{"$f":"SUM(G967,H967)","v":0},{"$f":"IF(OR(C967=\"\",$I957=\"NSO\"),\"\",VLOOKUP($A952,'Result Entry'!$B$9:$DX$108,34,0))","v":0},{"$f":"SUM(I967,J967)","v":0},null,{"$f":"IF(OR(C967=\"\",$I957=\"NSO\"),\"\",VLOOKUP($A952,'Result Entry'!$B$9:$DX$108,37,0))","v":""}]
[null,"◐",{"$f":"'Result Entry'!$BO$3","v":"Env. Study"},{"$nulls":4},{"$f":"IF(OR(C968=\"\",$I957=\"NSO\"),\"\",VLOOKUP($A952,'Result Entry'!$B$9:$DX$108,66,0))","v":0},0,{"$f":"IF(OR(C968=\"\",$I957=\"NSO\"),\"\",VLOOKUP($A952,'Result Entry'!$B$9:$DX$108,67,0))","v":0},0,null,{"$f":"IF(OR(C968=\"\",$I957=\"NSO\"),\"\",VLOOKUP($A952,'Result Entry'!$B$9:$DX$108,73,0))","v":""}]
[null,"◐","Max. Marks",{"$nulls":4},{"$f":"'Result Entry'!$AS$7","v":50},50,{"$f":"'Result Entry'!$AW$7","v":50},100,null,"A/B/C/D/E"]
[null,"◐",{"$f":"'Result Entry'!$AM$3","v":"English"},{"$nulls":4},{"$f":"IF(OR(C970=\"\",$I957=\"NSO\"),\"\",VLOOKUP($A952,'Result Entry'!$B$9:$DX$108,44,0))","v":0},0,{"$f":"IF(OR(C970=\"\",$I957=\"NSO\"),\"\",VLOOKUP($A952,'Result Entry'!$B$9:$DX$108,48,0))","v":0},0,null,{"$f":"IF(OR(C970=\"\",$I957=\"NSO\"),\"\",VLOOKUP($A952,'Result Entry'!$B$9:$DX$108,51,0))","v":""}]
[null,"◐"]
[null,"◐","Overall Result",null,null,"Total Max. Marks",null,"Total Obtained Marks",null,"Percentage","Overall Grade","Result","Position in Class"]
[null,"◐",{"$nulls":3},{"$f":"IF(OR($I957=\"\",$I957=\"NSO\"),\"\",VLOOKUP($A952,'Result Entry'!$B$9:$DX$108,101,0))","v":500},null,{"$f":"IF(OR($I957=\"\",$I957=\"NSO\"),\"\",VLOOKUP($A952,'Result Entry'!$B$9:$DX$108,102,0))","v":0},null,{"$f":"IF(OR($I957=\"\",$I957=\"NSO\"),\"\",VLOOKUP($A952,'Result Entry'!$B$9:$DX$108,103,0))","v":{"v":0,"d":"0.00"}},{"$f":"IF(OR($I957=\"\",$I957=\"NSO\"),\"\",VLOOKUP($A952,'Result Entry'!$B$9:$DX$108,104,0))","v":""},{"$f":"IF(OR($I957=\"\",$I957=\"NSO\"),\"\",VLOOKUP($A952,'Result Entry'!$B$9:$DX$108,105,0))","v":""},{"$f":"IF(OR($I957=\"\",$I957=\"NSO\"),\"\",VLOOKUP($A952,'Result Entry'!$B$9:$DX$108,107,0))","v":""}]
[null,"◐",{"$nulls":6},"Total Meetings :-",null,{"$f":"IF(OR($I957=\"\",$I957=\"NSO\"),\"\",VLOOKUP($A952,'Result Entry'!$B$9:$DX$108,98,0))","v":0},"Attedance %"]
[null,"◐","Extra Subjects",{"$nulls":5},"Student's Meetings :-",null,{"$f":"IF(OR($I957=\"\",$I957=\"NSO\"),\"\",VLOOKUP($A952,'Result Entry'!$B$9:$DX$108,99,0))","v":0},{"$f":"IF(OR($I957=\"\",$I957=\"NSO\"),\"\",VLOOKUP($A952,'Result Entry'!$B$9:$DX$108,100,0))","v":""}]
[null,"◐","Subject",null,null,"Total Marks",null,"GRADE","Remark :-",null,{"$f":"IF(OR($I957=\"\",$I957=\"NSO\"),\"\",VLOOKUP($A952,'Result Entry'!$B$9:$DX$108,108,0))","v":0}]
[null,"◐",{"$nulls":6},"Result Date :-",null,{"$f":"'Result Entry'!$T$2","v":"2023-05-24"}]
[null,"◐",{"$f":"'Result Entry'!$BW$3","v":"WORK EXP."},null,null,{"$f":"IF(OR(C978=\"\",$I957=\"NSO\"),\"\",VLOOKUP($A952,'Result Entry'!$B$9:$DX$108,119,0))","v":"0/50"},null,{"$f":"IF(OR(C978=\"\",$I957=\"NSO\"),\"\",VLOOKUP($A952,'Result Entry'!$B$9:$DX$108,81,0))","v":""}]
[null,null,{"$f":"'Result Entry'!$CE$3","v":"ART EDU."},null,null,{"$f":"IF(OR(C979=\"\",$I957=\"NSO\"),\"\",VLOOKUP($A952,'Result Entry'!$B$9:$DX$108,123,0))","v":"0/50"},null,{"$f":"IF(OR(C979=\"\",$I957=\"NSO\"),\"\",VLOOKUP($A952,'Result Entry'!$B$9:$DX$108,89,0))","v":""}]
[null,"◐",{"$f":"'Result Entry'!$CM$3","v":"H&P. EDU."},null,null,{"$f":"IF(OR(C980=\"\",$I957=\"NSO\"),\"\",VLOOKUP($A952,'Result Entry'!$B$9:$DX$108,127,0))","v":"0/100"},null,{"$f":"IF(OR(C980=\"\",$I957=\"NSO\"),\"\",VLOOKUP($A952,'Result Entry'!$B$9:$DX$108,97,0))","v":""},"Signature Of The Class Teacher"]
[null,"◐","Grading System"]
[null,"◐","Grd.","% Range",null,"Description"]
[null,"◐","A","86-100",null,"Excellent",null,null,"Signature And Seal Of Principal/H.M."]
[null,"◐","B","71-85",null,"Very Good"]
[null,"◐","C","51-70",null,"Good"]
[null,"◐","D","31-50",null,"Average"]
[null,"◐","E","0-30",null,"Needs Improvement",null,null,"Wish bright future"]
[]
[]
[{"$f":"A952+1","v":27},"Department Of Education, Rajasthan"]
[null,{"$f":"IF(I995>0,CONCATENATE(C995,I995),0)","v":0},null,{"$f":"Master!$E$8","v":"Govt.Sr.Sec.Sch. "}]
[{"$nulls":3},{"$f":"Master!$E$11","v":"P.S.-Bapini (Jodhpur)"}]
[null,null,"Report Card",{"$nulls":6},"U-DISE Code:-",null,{"$f":"Master!$E$14","v":{"v":810000000,"d":"0810000000"}}]
[{"$nulls":9},"Session:-",null,{"$f":"Master!$E$6","v":"2022-23"}]
[null,null,"Roll No.:-",{"$nulls":5},{"$f":"VLOOKUP($A990,'Result Entry'!$B$9:$F$108,5,0)","v":0}]
[null,"◐","Scholar Number",{"$nulls":3},"↠",{"$f":"VLOOKUP($A990,'Result Entry'!$B$9:$DX$108,3,0)","v":0}]
[null,"◐","Student's Name",{"$nulls":3},"↠",{"$f":"VLOOKUP($A990,'Result Entry'!$B$9:$DX$108,6,0)","v":0}]
[null,"◐","Father's Name",{"$nulls":3},"↠",{"$f":"VLOOKUP($A990,'Result Entry'!$B$9:$DX$108,7,0)","v":0}]
[null,"◐","Mother's Name ",{"$nulls":3},"↠",{"$f":"VLOOKUP($A990,'Result Entry'!$B$9:$DX$108,8,0)","v":0}]
[null,"◐","Class & Section",{"$nulls":3},"↠",{"$f":"CONCATENATE('Result Entry'!$F$4,'Result Entry'!$I$4)","v":"2(A)"}]
[null,"◐","Date Of Birth",{"$nulls":3},"↠",{"$f":"VLOOKUP($A990,'Result Entry'!$B$9:$DX$108,9,0)","v":"00:00:00"}]
[null,"◐","Subject",{"$nulls":4},"Half Yearly","Total (T+H.Y.)","Yearly","Grand Total",null,"Subject Grade"]
[null,"◐","Max. Marks",{"$nulls":4},{"$f":"'Result Entry'!$Q$7","v":100},{"$f":"G1003+H1003","v":100},{"$f":"'Result Entry'!$U$7","v":100},{"$f":"I1003+J1003","v":200},null,"A/B/C/D/E"]
[null,"◐",{"$f":"'Result Entry'!$K$3","v":"Hindi"},{"$nulls":4},{"$f":"IF(OR(C1004=\"\",$I995=\"NSO\"),\"\",VLOOKUP($A990,'Result Entry'!$B$9:$DX$108,16,0))","v":0},{"$f":"SUM(G1004,H1004)","v":0},{"$f":"IF(OR(C1004=\"\",$I995=\"NSO\"),\"\",VLOOKUP($A990,'Result Entry'!$B$9:$DX$108,20,0))","v":0},{"$f":"SUM(I1004,J1004)","v":0},null,{"$f":"IF(OR(C1004=\"\",$I995=\"NSO\"),\"\",VLOOKUP($A990,'Result Entry'!$B$9:$DX$108,23,0))","v":""}]
[null,"◐",{"$f":"'Result Entry'!$Y$3","v":"Mathematics"},{"$nulls":4},{"$f":"IF(OR(C1005=\"\",$I995=\"NSO\"),\"\",VLOOKUP($A990,'Result Entry'!$B$9:$DX$108,30,0))","v":0},{"$f":"SUM(G1005,H1005)","v":0},{"$f":"IF(OR(C1005=\"\",$I995=\"NSO\"),\"\",VLOOKUP($A990,'Result Entry'!$B$9:$DX$108,34,0))","v":0},{"$f":"SUM(I1005,J1005)","v":0},null,{"$f":"IF(OR(C1005=\"\",$I995=\"NSO\"),\"\",VLOOKUP($A990,'Result Entry'!$B$9:$DX$108,37,0))","v":""}]
[null,"◐",{"$f":"'Result Entry'!$BO$3","v":"Env. Study"},{"$nulls":4},{"$f":"IF(OR(C1006=\"\",$I995=\"NSO\"),\"\",VLOOKUP($A990,'Result Entry'!$B$9:$DX$108,66,0))","v":0},0,{"$f":"IF(OR(C1006=\"\",$I995=\"NSO\"),\"\",VLOOKUP($A990,'Result Entry'!$B$9:$DX$108,67,0))","v":0},0,null,{"$f":"IF(OR(C1006=\"\",$I995=\"NSO\"),\"\",VLOOKUP($A990,'Result Entry'!$B$9:$DX$108,73,0))","v":""}]
[null,"◐","Max. Marks",{"$nulls":4},{"$f":"'Result Entry'!$AS$7","v":50},50,{"$f":"'Result Entry'!$AW$7","v":50},100,null,"A/B/C/D/E"]
[null,"◐",{"$f":"'Result Entry'!$AM$3","v":"English"},{"$nulls":4},{"$f":"IF(OR(C1008=\"\",$I995=\"NSO\"),\"\",VLOOKUP($A990,'Result Entry'!$B$9:$DX$108,44,0))","v":0},0,{"$f":"IF(OR(C1008=\"\",$I995=\"NSO\"),\"\",VLOOKUP($A990,'Result Entry'!$B$9:$DX$108,48,0))","v":0},0,null,{"$f":"IF(OR(C1008=\"\",$I995=\"NSO\"),\"\",VLOOKUP($A990,'Result Entry'!$B$9:$DX$108,51,0))","v":""}]
[null,"◐"]
[null,"◐","Overall Result",null,null,"Total Max. Marks",null,"Total Obtained Marks",null,"Percentage","Overall Grade","Result","Position in Class"]
[null,"◐",{"$nulls":3},{"$f":"IF(OR($I995=\"\",$I995=\"NSO\"),\"\",VLOOKUP($A990,'Result Entry'!$B$9:$DX$108,101,0))","v":500},null,{"$f":"IF(OR($I995=\"\",$I995=\"NSO\"),\"\",VLOOKUP($A990,'Result Entry'!$B$9:$DX$108,102,0))","v":0},null,{"$f":"IF(OR($I995=\"\",$I995=\"NSO\"),\"\",VLOOKUP($A990,'Result Entry'!$B$9:$DX$108,103,0))","v":{"v":0,"d":"0.00"}},{"$f":"IF(OR($I995=\"\",$I995=\"NSO\"),\"\",VLOOKUP($A990,'Result Entry'!$B$9:$DX$108,104,0))","v":""},{"$f":"IF(OR($I995=\"\",$I995=\"NSO\"),\"\",VLOOKUP($A990,'Result Entry'!$B$9:$DX$108,105,0))","v":""},{"$f":"IF(OR($I995=\"\",$I995=\"NSO\"),\"\",VLOOKUP($A990,'Result Entry'!$B$9:$DX$108,107,0))","v":""}]
[null,"◐",{"$nulls":6},"Total Meetings :-",null,{"$f":"IF(OR($I995=\"\",$I995=\"NSO\"),\"\",VLOOKUP($A990,'Result Entry'!$B$9:$DX$108,98,0))","v":0},"Attedance %"]
[null,"◐","Extra Subjects",{"$nulls":5},"Student's Meetings :-",null,{"$f":"IF(OR($I995=\"\",$I995=\"NSO\"),\"\",VLOOKUP($A990,'Result Entry'!$B$9:$DX$108,99,0))","v":0},{"$f":"IF(OR($I995=\"\",$I995=\"NSO\"),\"\",VLOOKUP($A990,'Result Entry'!$B$9:$DX$108,100,0))","v":""}]
[null,"◐","Subject",null,null,"Total Marks",null,"GRADE","Remark :-",null,{"$f":"IF(OR($I995=\"\",$I995=\"NSO\"),\"\",VLOOKUP($A990,'Result Entry'!$B$9:$DX$108,108,0))","v":0}]
[null,"◐",{"$nulls":6},"Result Date :-",null,{"$f":"'Result Entry'!$T$2","v":"2023-05-24"}]
[null,"◐",{"$f":"'Result Entry'!$BW$3","v":"WORK EXP."},null,null,{"$f":"IF(OR(C1016=\"\",$I995=\"NSO\"),\"\",VLOOKUP($A990,'Result Entry'!$B$9:$DX$108,119,0))","v":"0/50"},null,{"$f":"IF(OR(C1016=\"\",$I995=\"NSO\"),\"\",VLOOKUP($A990,'Result Entry'!$B$9:$DX$108,81,0))","v":""}]
[null,null,{"$f":"'Result Entry'!$CE$3","v":"ART EDU."},null,null,{"$f":"IF(OR(C1017=\"\",$I995=\"NSO\"),\"\",VLOOKUP($A990,'Result Entry'!$B$9:$DX$108,123,0))","v":"0/50"},null,{"$f":"IF(OR(C1017=\"\",$I995=\"NSO\"),\"\",VLOOKUP($A990,'Result Entry'!$B$9:$DX$108,89,0))","v":""}]
[null,"◐",{"$f":"'Result Entry'!$CM$3","v":"H&P. EDU."},null,null,{"$f":"IF(OR(C1018=\"\",$I995=\"NSO\"),\"\",VLOOKUP($A990,'Result Entry'!$B$9:$DX$108,127,0))","v":"0/100"},null,{"$f":"IF(OR(C1018=\"\",$I995=\"NSO\"),\"\",VLOOKUP($A990,'Result Entry'!$B$9:$DX$108,97,0))","v":""},"Signature Of The Class Teacher"]
[null,"◐","Grading System"]
[null,"◐","Grd.","% Range",null,"Description"]
[null,"◐","A","86-100",null,"Excellent",null,null,"Signature And Seal Of Principal/H.M."]
[null,"◐","B","71-85",null,"Very Good"]
[null,"◐","C","51-70",null,"Good"]
[null,"◐","D","31-50",null,"Average"]
[null,"◐","E","0-30",null,"Needs Improvement",null,null,"Wish bright future"]
[]
[]
[{"$f":"A990+1","v":28},"Department Of Education, Rajasthan"]
[null,{"$f":"IF(I1033>0,CONCATENATE(C1033,I1033),0)","v":0},null,{"$f":"Master!$E$8","v":"Govt.Sr.Sec.Sch. "}]
[{"$nulls":3},{"$f":"Master!$E$11","v":"P.S.-Bapini (Jodhpur)"}]
[null,null,"Report Card",{"$nulls":6},"U-DISE Code:-",null,{"$f":"Master!$E$14","v":{"v":810000000,"d":"0810000000"}}]
[{"$nulls":9},"Session:-",null,{"$f":"Master!$E$6","v":"2022-23"}]
[null,null,"Roll No.:-",{"$nulls":5},{"$f":"VLOOKUP($A1028,'Result Entry'!$B$9:$F$108,5,0)","v":0}]
[null,"◐","Scholar Number",{"$nulls":3},"↠",{"$f":"VLOOKUP($A1028,'Result Entry'!$B$9:$DX$108,3,0)","v":0}]
[null,"◐","Student's Name",{"$nulls":3},"↠",{"$f":"VLOOKUP($A1028,'Result Entry'!$B$9:$DX$108,6,0)","v":0}]
[null,"◐","Father's Name",{"$nulls":3},"↠",{"$f":"VLOOKUP($A1028,'Result Entry'!$B$9:$DX$108,7,0)","v":0}]
[null,"◐","Mother's Name ",{"$nulls":3},"↠",{"$f":"VLOOKUP($A1028,'Result Entry'!$B$9:$DX$108,8,0)","v":0}]
[null,"◐","Class & Section",{"$nulls":3},"↠",{"$f":"CONCATENATE('Result Entry'!$F$4,'Result Entry'!$I$4)","v":"2(A)"}]
[null,"◐","Date Of Birth",{"$nulls":3},"↠",{"$f":"VLOOKUP($A1028,'Result Entry'!$B$9:$DX$108,9,0)","v":"00:00:00"}]
[null,"◐","Subject",{"$nulls":4},"Half Yearly","Total (T+H.Y.)","Yearly","Grand Total",null,"Subject Grade"]
[null,"◐","Max. Marks",{"$nulls":4},{"$f":"'Result Entry'!$Q$7","v":100},{"$f":"G1041+H1041","v":100},{"$f":"'Result Entry'!$U$7","v":100},{"$f":"I1041+J1041","v":200},null,"A/B/C/D/E"]
[null,"◐",{"$f":"'Result Entry'!$K$3","v":"Hindi"},{"$nulls":4},{"$f":"IF(OR(C1042=\"\",$I1033=\"NSO\"),\"\",VLOOKUP($A1028,'Result Entry'!$B$9:$DX$108,16,0))","v":0},{"$f":"SUM(G1042,H1042)","v":0},{"$f":"IF(OR(C1042=\"\",$I1033=\"NSO\"),\"\",VLOOKUP($A1028,'Result Entry'!$B$9:$DX$108,20,0))","v":0},{"$f":"SUM(I1042,J1042)","v":0},null,{"$f":"IF(OR(C1042=\"\",$I1033=\"NSO\"),\"\",VLOOKUP($A1028,'Result Entry'!$B$9:$DX$108,23,0))","v":""}]
[null,"◐",{"$f":"'Result Entry'!$Y$3","v":"Mathematics"},{"$nulls":4},{"$f":"IF(OR(C1043=\"\",$I1033=\"NSO\"),\"\",VLOOKUP($A1028,'Result Entry'!$B$9:$DX$108,30,0))","v":0},{"$f":"SUM(G1043,H1043)","v":0},{"$f":"IF(OR(C1043=\"\",$I1033=\"NSO\"),\"\",VLOOKUP($A1028,'Result Entry'!$B$9:$DX$108,34,0))","v":0},{"$f":"SUM(I1043,J1043)","v":0},null,{"$f":"IF(OR(C1043=\"\",$I1033=\"NSO\"),\"\",VLOOKUP($A1028,'Result Entry'!$B$9:$DX$108,37,0))","v":""}]
[null,"◐",{"$f":"'Result Entry'!$BO$3","v":"Env. Study"},{"$nulls":4},{"$f":"IF(OR(C1044=\"\",$I1033=\"NSO\"),\"\",VLOOKUP($A1028,'Result Entry'!$B$9:$DX$108,66,0))","v":0},0,{"$f":"IF(OR(C1044=\"\",$I1033=\"NSO\"),\"\",VLOOKUP($A1028,'Result Entry'!$B$9:$DX$108,67,0))","v":0},0,null,{"$f":"IF(OR(C1044=\"\",$I1033=\"NSO\"),\"\",VLOOKUP($A1028,'Result Entry'!$B$9:$DX$108,73,0))","v":""}]
[null,"◐","Max. Marks",{"$nulls":4},{"$f":"'Result Entry'!$AS$7","v":50},50,{"$f":"'Result Entry'!$AW$7","v":50},100,null,"A/B/C/D/E"]
[null,"◐",{"$f":"'Result Entry'!$AM$3","v":"English"},{"$nulls":4},{"$f":"IF(OR(C1046=\"\",$I1033=\"NSO\"),\"\",VLOOKUP($A1028,'Result Entry'!$B$9:$DX$108,44,0))","v":0},0,{"$f":"IF(OR(C1046=\"\",$I1033=\"NSO\"),\"\",VLOOKUP($A1028,'Result Entry'!$B$9:$DX$108,48,0))","v":0},0,null,{"$f":"IF(OR(C1046=\"\",$I1033=\"NSO\"),\"\",VLOOKUP($A1028,'Result Entry'!$B$9:$DX$108,51,0))","v":""}]
[null,"◐"]
[null,"◐","Overall Result",null,null,"Total Max. Marks",null,"Total Obtained Marks",null,"Percentage","Overall Grade","Result","Position in Class"]
[null,"◐",{"$nulls":3},{"$f":"IF(OR($I1033=\"\",$I1033=\"NSO\"),\"\",VLOOKUP($A1028,'Result Entry'!$B$9:$DX$108,101,0))","v":500},null,{"$f":"IF(OR($I1033=\"\",$I1033=\"NSO\"),\"\",VLOOKUP($A1028,'Result Entry'!$B$9:$DX$108,102,0))","v":0},null,{"$f":"IF(OR($I1033=\"\",$I1033=\"NSO\"),\"\",VLOOKUP($A1028,'Result Entry'!$B$9:$DX$108,103,0))","v":{"v":0,"d":"0.00"}},{"$f":"IF(OR($I1033=\"\",$I1033=\"NSO\"),\"\",VLOOKUP($A1028,'Result Entry'!$B$9:$DX$108,104,0))","v":""},{"$f":"IF(OR($I1033=\"\",$I1033=\"NSO\"),\"\",VLOOKUP($A1028,'Result Entry'!$B$9:$DX$108,105,0))","v":""},{"$f":"IF(OR($I1033=\"\",$I1033=\"NSO\"),\"\",VLOOKUP($A1028,'Result Entry'!$B$9:$DX$108,107,0))","v":""}]
[null,"◐",{"$nulls":6},"Total Meetings :-",null,{"$f":"IF(OR($I1033=\"\",$I1033=\"NSO\"),\"\",VLOOKUP($A1028,'Result Entry'!$B$9:$DX$108,98,0))","v":0},"Attedance %"]
[null,"◐","Extra Subjects",{"$nulls":5},"Student's Meetings :-",null,{"$f":"IF(OR($I1033=\"\",$I1033=\"NSO\"),\"\",VLOOKUP($A1028,'Result Entry'!$B$9:$DX$108,99,0))","v":0},{"$f":"IF(OR($I1033=\"\",$I1033=\"NSO\"),\"\",VLOOKUP($A1028,'Result Entry'!$B$9:$DX$108,100,0))","v":""}]
[null,"◐","Subject",null,null,"Total Marks",null,"GRADE","Remark :-",null,{"$f":"IF(OR($I1033=\"\",$I1033=\"NSO\"),\"\",VLOOKUP($A1028,'Result Entry'!$B$9:$DX$108,108,0))","v":0}]
[null,"◐",{"$nulls":6},"Result Date :-",null,{"$f":"'Result Entry'!$T$2","v":"2023-05-24"}]
[null,"◐",{"$f":"'Result Entry'!$BW$3","v":"WORK EXP."},null,null,{"$f":"IF(OR(C1054=\"\",$I1033=\"NSO\"),\"\",VLOOKUP($A1028,'Result Entry'!$B$9:$DX$108,119,0))","v":"0/50"},null,{"$f":"IF(OR(C1054=\"\",$I1033=\"NSO\"),\"\",VLOOKUP($A1028,'Result Entry'!$B$9:$DX$108,81,0))","v":""}]
[null,null,{"$f":"'Result Entry'!$CE$3","v":"ART EDU."},null,null,{"$f":"IF(OR(C1055=\"\",$I1033=\"NSO\"),\"\",VLOOKUP($A1028,'Result Entry'!$B$9:$DX$108,123,0))","v":"0/50"},null,{"$f":"IF(OR(C1055=\"\",$I1033=\"NSO\"),\"\",VLOOKUP($A1028,'Result Entry'!$B$9:$DX$108,89,0))","v":""}]
[null,"◐",{"$f":"'Result Entry'!$CM$3","v":"H&P. EDU."},null,null,{"$f":"IF(OR(C1056=\"\",$I1033=\"NSO\"),\"\",VLOOKUP($A1028,'Result Entry'!$B$9:$DX$108,127,0))","v":"0/100"},null,{"$f":"IF(OR(C1056=\"\",$I1033=\"NSO\"),\"\",VLOOKUP($A1028,'Result Entry'!$B$9:$DX$108,97,0))","v":""},"Signature Of The Class Teacher"]
[null,"◐","Grading System"]
[null,"◐","Grd.","% Range",null,"Description"]
[null,"◐","A","86-100",null,"Excellent",null,null,"Signature And Seal Of Principal/H.M."]
[null,"◐","B","71-85",null,"Very Good"]
[null,"◐","C","51-70",null,"Good"]
[null,"◐","D","31-50",null,"Average"]
[null,"◐","E","0-30",null,"Needs Improvement",null,null,"Wish bright future"]
[]
[]
[{"$f":"A1028+1","v":29},"Department Of Education, Rajasthan"]
[null,{"$f":"IF(I1071>0,CONCATENATE(C1071,I1071),0)","v":0},null,{"$f":"Master!$E$8","v":"Govt.Sr.Sec.Sch. "}]
[{"$nulls":3},{"$f":"Master!$E$11","v":"P.S.-Bapini (Jodhpur)"}]
[null,null,"Report Card",{"$nulls":6},"U-DISE Code:-",null,{"$f":"Master!$E$14","v":{"v":810000000,"d":"0810000000"}}]
[{"$nulls":9},"Session:-",null,{"$f":"Master!$E$6","v":"2022-23"}]
[null,null,"Roll No.:-",{"$nulls":5},{"$f":"VLOOKUP($A1066,'Result Entry'!$B$9:$F$108,5,0)","v":0}]
[null,"◐","Scholar Number",{"$nulls":3},"↠",{"$f":"VLOOKUP($A1066,'Result Entry'!$B$9:$DX$108,3,0)","v":0}]
[null,"◐","Student's Name",{"$nulls":3},"↠",{"$f":"VLOOKUP($A1066,'Result Entry'!$B$9:$DX$108,6,0)","v":0}]
[null,"◐","Father's Name",{"$nulls":3},"↠",{"$f":"VLOOKUP($A1066,'Result Entry'!$B$9:$DX$108,7,0)","v":0}]
[null,"◐","Mother's Name ",{"$nulls":3},"↠",{"$f":"VLOOKUP($A1066,'Result Entry'!$B$9:$DX$108,8,0)","v":0}]
[null,"◐","Class & Section",{"$nulls":3},"↠",{"$f":"CONCATENATE('Result Entry'!$F$4,'Result Entry'!$I$4)","v":"2(A)"}]
[null,"◐","Date Of Birth",{"$nulls":3},"↠",{"$f":"VLOOKUP($A1066,'Result Entry'!$B$9:$DX$108,9,0)","v":"00:00:00"}]
[null,"◐","Subject",{"$nulls":4},"Half Yearly","Total (T+H.Y.)","Yearly","Grand Total",null,"Subject Grade"]
[null,"◐","Max. Marks",{"$nulls":4},{"$f":"'Result Entry'!$Q$7","v":100},{"$f":"G1079+H1079","v":100},{"$f":"'Result Entry'!$U$7","v":100},{"$f":"I1079+J1079","v":200},null,"A/B/C/D/E"]
[null,"◐",{"$f":"'Result Entry'!$K$3","v":"Hindi"},{"$nulls":4},{"$f":"IF(OR(C1080=\"\",$I1071=\"NSO\"),\"\",VLOOKUP($A1066,'Result Entry'!$B$9:$DX$108,16,0))","v":0},{"$f":"SUM(G1080,H1080)","v":0},{"$f":"IF(OR(C1080=\"\",$I1071=\"NSO\"),\"\",VLOOKUP($A1066,'Result Entry'!$B$9:$DX$108,20,0))","v":0},{"$f":"SUM(I1080,J1080)","v":0},null,{"$f":"IF(OR(C1080=\"\",$I1071=\"NSO\"),\"\",VLOOKUP($A1066,'Result Entry'!$B$9:$DX$108,23,0))","v":""}]
[null,"◐",{"$f":"'Result Entry'!$Y$3","v":"Mathematics"},{"$nulls":4},{"$f":"IF(OR(C1081=\"\",$I1071=\"NSO\"),\"\",VLOOKUP($A1066,'Result Entry'!$B$9:$DX$108,30,0))","v":0},{"$f":"SUM(G1081,H1081)","v":0},{"$f":"IF(OR(C1081=\"\",$I1071=\"NSO\"),\"\",VLOOKUP($A1066,'Result Entry'!$B$9:$DX$108,34,0))","v":0},{"$f":"SUM(I1081,J1081)","v":0},null,{"$f":"IF(OR(C1081=\"\",$I1071=\"NSO\"),\"\",VLOOKUP($A1066,'Result Entry'!$B$9:$DX$108,37,0))","v":""}]
[null,"◐",{"$f":"'Result Entry'!$BO$3","v":"Env. Study"},{"$nulls":4},{"$f":"IF(OR(C1082=\"\",$I1071=\"NSO\"),\"\",VLOOKUP($A1066,'Result Entry'!$B$9:$DX$108,66,0))","v":0},0,{"$f":"IF(OR(C1082=\"\",$I1071=\"NSO\"),\"\",VLOOKUP($A1066,'Result Entry'!$B$9:$DX$108,67,0))","v":0},0,null,{"$f":"IF(OR(C1082=\"\",$I1071=\"NSO\"),\"\",VLOOKUP($A1066,'Result Entry'!$B$9:$DX$108,73,0))","v":""}]
[null,"◐","Max. Marks",{"$nulls":4},{"$f":"'Result Entry'!$AS$7","v":50},50,{"$f":"'Result Entry'!$AW$7","v":50},100,null,"A/B/C/D/E"]
[null,"◐",{"$f":"'Result Entry'!$AM$3","v":"English"},{"$nulls":4},{"$f":"IF(OR(C1084=\"\",$I1071=\"NSO\"),\"\",VLOOKUP($A1066,'Result Entry'!$B$9:$DX$108,44,0))","v":0},0,{"$f":"IF(OR(C1084=\"\",$I1071=\"NSO\"),\"\",VLOOKUP($A1066,'Result Entry'!$B$9:$DX$108,48,0))","v":0},0,null,{"$f":"IF(OR(C1084=\"\",$I1071=\"NSO\"),\"\",VLOOKUP($A1066,'Result Entry'!$B$9:$DX$108,51,0))","v":""}]
[null,"◐"]
[null,"◐","Overall Result",null,null,"Total Max. Marks",null,"Total Obtained Marks",null,"Percentage","Overall Grade","Result","Position in Class"]
[null,"◐",{"$nulls":3},{"$f":"IF(OR($I1071=\"\",$I1071=\"NSO\"),\"\",VLOOKUP($A1066,'Result Entry'!$B$9:$DX$108,101,0))","v":500},null,{"$f":"IF(OR($I1071=\"\",$I1071=\"NSO\"),\"\",VLOOKUP($A1066,'Result Entry'!$B$9:$DX$108,102,0))","v":0},null,{"$f":"IF(OR($I1071=\"\",$I1071=\"NSO\"),\"\",VLOOKUP($A1066,'Result Entry'!$B$9:$DX$108,103,0))","v":{"v":0,"d":"0.00"}},{"$f":"IF(OR($I1071=\"\",$I1071=\"NSO\"),\"\",VLOOKUP($A1066,'Result Entry'!$B$9:$DX$108,104,0))","v":""},{"$f":"IF(OR($I1071=\"\",$I1071=\"NSO\"),\"\",VLOOKUP($A1066,'Result Entry'!$B$9:$DX$108,105,0))","v":""},{"$f":"IF(OR($I1071=\"\",$I1071=\"NSO\"),\"\",VLOOKUP($A1066,'Result Entry'!$B$9:$DX$108,107,0))","v":""}]
[null,"◐",{"$nulls":6},"Total Meetings :-",null,{"$f":"IF(OR($I1071=\"\",$I1071=\"NSO\"),\"\",VLOOKUP($A1066,'Result Entry'!$B$9:$DX$108,98,0))","v":0},"Attedance %"]
[null,"◐","Extra Subjects",{"$nulls":5},"Student's Meetings :-",null,{"$f":"IF(OR($I1071=\"\",$I1071=\"NSO\"),\"\",VLOOKUP($A1066,'Result Entry'!$B$9:$DX$108,99,0))","v":0},{"$f":"IF(OR($I1071=\"\",$I1071=\"NSO\"),\"\",VLOOKUP($A1066,'Result Entry'!$B$9:$DX$108,100,0))","v":""}]
[null,"◐","Subject",null,null,"Total Marks",null,"GRADE","Remark :-",null,{"$f":"IF(OR($I1071=\"\",$I1071=\"NSO\"),\"\",VLOOKUP($A1066,'Result Entry'!$B$9:$DX$108,108,0))","v":0}]
[null,"◐",{"$nulls":6},"Result Date :-",null,{"$f":"'Result Entry'!$T$2","v":"2023-05-24"}]
[null,"◐",{"$f":"'Result Entry'!$BW$3","v":"WORK EXP."},null,null,{"$f":"IF(OR(C1092=\"\",$I1071=\"NSO\"),\"\",VLOOKUP($A1066,'Result Entry'!$B$9:$DX$108,119,0))","v":"0/50"},null,{"$f":"IF(OR(C1092=\"\",$I1071=\"NSO\"),\"\",VLOOKUP($A1066,'Result Entry'!$B$9:$DX$108,81,0))","v":""}]
[null,null,{"$f":"'Result Entry'!$CE$3","v":"ART EDU."},null,null,{"$f":"IF(OR(C1093=\"\",$I1071=\"NSO\"),\"\",VLOOKUP($A1066,'Result Entry'!$B$9:$DX$108,123,0))","v":"0/50"},null,{"$f":"IF(OR(C1093=\"\",$I1071=\"NSO\"),\"\",VLOOKUP($A1066,'Result Entry'!$B$9:$DX$108,89,0))","v":""}]
[null,"◐",{"$f":"'Result Entry'!$CM$3","v":"H&P. EDU."},null,null,{"$f":"IF(OR(C1094=\"\",$I1071=\"NSO\"),\"\",VLOOKUP($A1066,'Result Entry'!$B$9:$DX$108,127,0))","v":"0/100"},null,{"$f":"IF(OR(C1094=\"\",$I1071=\"NSO\"),\"\",VLOOKUP($A1066,'Result Entry'!$B$9:$DX$108,97,0))","v":""},"Signature Of The Class Teacher"]
[null,"◐","Grading System"]
[null,"◐","Grd.","% Range",null,"Description"]
[null,"◐","A","86-100",null,"Excellent",null,null,"Signature And Seal Of Principal/H.M."]
[null,"◐","B","71-85",null,"Very Good"]
[null,"◐","C","51-70",null,"Good"]
[null,"◐","D","31-50",null,"Average"]
[null,"◐","E","0-30",null,"Needs Improvement",null,null,"Wish bright future"]
[]
[]
[{"$f":"A1066+1","v":30},"Department Of Education, Rajasthan"]
[null,{"$f":"IF(I1109>0,CONCATENATE(C1109,I1109),0)","v":0},null,{"$f":"Master!$E$8","v":"Govt.Sr.Sec.Sch. "}]
[{"$nulls":3},{"$f":"Master!$E$11","v":"P.S.-Bapini (Jodhpur)"}]
[null,null,"Report Card",{"$nulls":6},"U-DISE Code:-",null,{"$f":"Master!$E$14","v":{"v":810000000,"d":"0810000000"}}]
[{"$nulls":9},"Session:-",null,{"$f":"Master!$E$6","v":"2022-23"}]
[null,null,"Roll No.:-",{"$nulls":5},{"$f":"VLOOKUP($A1104,'Result Entry'!$B$9:$F$108,5,0)","v":0}]
[null,"◐","Scholar Number",{"$nulls":3},"↠",{"$f":"VLOOKUP($A1104,'Result Entry'!$B$9:$DX$108,3,0)","v":0}]
[null,"◐","Student's Name",{"$nulls":3},"↠",{"$f":"VLOOKUP($A1104,'Result Entry'!$B$9:$DX$108,6,0)","v":0}]
[null,"◐","Father's Name",{"$nulls":3},"↠",{"$f":"VLOOKUP($A1104,'Result Entry'!$B$9:$DX$108,7,0)","v":0}]
[null,"◐","Mother's Name ",{"$nulls":3},"↠",{"$f":"VLOOKUP($A1104,'Result Entry'!$B$9:$DX$108,8,0)","v":0}]
[null,"◐","Class & Section",{"$nulls":3},"↠",{"$f":"CONCATENATE('Result Entry'!$F$4,'Result Entry'!$I$4)","v":"2(A)"}]
[null,"◐","Date Of Birth",{"$nulls":3},"↠",{"$f":"VLOOKUP($A1104,'Result Entry'!$B$9:$DX$108,9,0)","v":"00:00:00"}]
[null,"◐","Subject",{"$nulls":4},"Half Yearly","Total (T+H.Y.)","Yearly","Grand Total",null,"Subject Grade"]
[null,"◐","Max. Marks",{"$nulls":4},{"$f":"'Result Entry'!$Q$7","v":100},{"$f":"G1117+H1117","v":100},{"$f":"'Result Entry'!$U$7","v":100},{"$f":"I1117+J1117","v":200},null,"A/B/C/D/E"]
[null,"◐",{"$f":"'Result Entry'!$K$3","v":"Hindi"},{"$nulls":4},{"$f":"IF(OR(C1118=\"\",$I1109=\"NSO\"),\"\",VLOOKUP($A1104,'Result Entry'!$B$9:$DX$108,16,0))","v":0},{"$f":"SUM(G1118,H1118)","v":0},{"$f":"IF(OR(C1118=\"\",$I1109=\"NSO\"),\"\",VLOOKUP($A1104,'Result Entry'!$B$9:$DX$108,20,0))","v":0},{"$f":"SUM(I1118,J1118)","v":0},null,{"$f":"IF(OR(C1118=\"\",$I1109=\"NSO\"),\"\",VLOOKUP($A1104,'Result Entry'!$B$9:$DX$108,23,0))","v":""}]
[null,"◐",{"$f":"'Result Entry'!$Y$3","v":"Mathematics"},{"$nulls":4},{"$f":"IF(OR(C1119=\"\",$I1109=\"NSO\"),\"\",VLOOKUP($A1104,'Result Entry'!$B$9:$DX$108,30,0))","v":0},{"$f":"SUM(G1119,H1119)","v":0},{"$f":"IF(OR(C1119=\"\",$I1109=\"NSO\"),\"\",VLOOKUP($A1104,'Result Entry'!$B$9:$DX$108,34,0))","v":0},{"$f":"SUM(I1119,J1119)","v":0},null,{"$f":"IF(OR(C1119=\"\",$I1109=\"NSO\"),\"\",VLOOKUP($A1104,'Result Entry'!$B$9:$DX$108,37,0))","v":""}]
[null,"◐",{"$f":"'Result Entry'!$BO$3","v":"Env. Study"},{"$nulls":4},{"$f":"IF(OR(C1120=\"\",$I1109=\"NSO\"),\"\",VLOOKUP($A1104,'Result Entry'!$B$9:$DX$108,66,0))","v":0},0,{"$f":"IF(OR(C1120=\"\",$I1109=\"NSO\"),\"\",VLOOKUP($A1104,'Result Entry'!$B$9:$DX$108,67,0))","v":0},0,null,{"$f":"IF(OR(C1120=\"\",$I1109=\"NSO\"),\"\",VLOOKUP($A1104,'Result Entry'!$B$9:$DX$108,73,0))","v":""}]
[null,"◐","Max. Marks",{"$nulls":4},{"$f":"'Result Entry'!$AS$7","v":50},50,{"$f":"'Result Entry'!$AW$7","v":50},100,null,"A/B/C/D/E"]
[null,"◐",{"$f":"'Result Entry'!$AM$3","v":"English"},{"$nulls":4},{"$f":"IF(OR(C1122=\"\",$I1109=\"NSO\"),\"\",VLOOKUP($A1104,'Result Entry'!$B$9:$DX$108,44,0))","v":0},0,{"$f":"IF(OR(C1122=\"\",$I1109=\"NSO\"),\"\",VLOOKUP($A1104,'Result Entry'!$B$9:$DX$108,48,0))","v":0},0,null,{"$f":"IF(OR(C1122=\"\",$I1109=\"NSO\"),\"\",VLOOKUP($A1104,'Result Entry'!$B$9:$DX$108,51,0))","v":""}]
[null,"◐"]
[null,"◐","Overall Result",null,null,"Total Max. Marks",null,"Total Obtained Marks",null,"Percentage","Overall Grade","Result","Position in Class"]
[null,"◐",{"$nulls":3},{"$f":"IF(OR($I1109=\"\",$I1109=\"NSO\"),\"\",VLOOKUP($A1104,'Result Entry'!$B$9:$DX$108,101,0))","v":500},null,{"$f":"IF(OR($I1109=\"\",$I1109=\"NSO\"),\"\",VLOOKUP($A1104,'Result Entry'!$B$9:$DX$108,102,0))","v":0},null,{"$f":"IF(OR($I1109=\"\",$I1109=\"NSO\"),\"\",VLOOKUP($A1104,'Result Entry'!$B$9:$DX$108,103,0))","v":{"v":0,"d":"0.00"}},{"$f":"IF(OR($I1109=\"\",$I1109=\"NSO\"),\"\",VLOOKUP($A1104,'Result Entry'!$B$9:$DX$108,104,0))","v":""},{"$f":"IF(OR($I1109=\"\",$I1109=\"NSO\"),\"\",VLOOKUP($A1104,'Result Entry'!$B$9:$DX$108,105,0))","v":""},{"$f":"IF(OR($I1109=\"\",$I1109=\"NSO\"),\"\",VLOOKUP($A1104,'Result Entry'!$B$9:$DX$108,107,0))","v":""}]
[null,"◐",{"$nulls":6},"Total Meetings :-",null,{"$f":"IF(OR($I1109=\"\",$I1109=\"NSO\"),\"\",VLOOKUP($A1104,'Result Entry'!$B$9:$DX$108,98,0))","v":0},"Attedance %"]
[null,"◐","Extra Subjects",{"$nulls":5},"Student's Meetings :-",null,{"$f":"IF(OR($I1109=\"\",$I1109=\"NSO\"),\"\",VLOOKUP($A1104,'Result Entry'!$B$9:$DX$108,99,0))","v":0},{"$f":"IF(OR($I1109=\"\",$I1109=\"NSO\"),\"\",VLOOKUP($A1104,'Result Entry'!$B$9:$DX$108,100,0))","v":""}]
[null,"◐","Subject",null,null,"Total Marks",null,"GRADE","Remark :-",null,{"$f":"IF(OR($I1109=\"\",$I1109=\"NSO\"),\"\",VLOOKUP($A1104,'Result Entry'!$B$9:$DX$108,108,0))","v":0}]
[null,"◐",{"$nulls":6},"Result Date :-",null,{"$f":"'Result Entry'!$T$2","v":"2023-05-24"}]
[null,"◐",{"$f":"'Result Entry'!$BW$3","v":"WORK EXP."},null,null,{"$f":"IF(OR(C1130=\"\",$I1109=\"NSO\"),\"\",VLOOKUP($A1104,'Result Entry'!$B$9:$DX$108,119,0))","v":"0/50"},null,{"$f":"IF(OR(C1130=\"\",$I1109=\"NSO\"),\"\",VLOOKUP($A1104,'Result Entry'!$B$9:$DX$108,81,0))","v":""}]
[null,null,{"$f":"'Result Entry'!$CE$3","v":"ART EDU."},null,null,{"$f":"IF(OR(C1131=\"\",$I1109=\"NSO\"),\"\",VLOOKUP($A1104,'Result Entry'!$B$9:$DX$108,123,0))","v":"0/50"},null,{"$f":"IF(OR(C1131=\"\",$I1109=\"NSO\"),\"\",VLOOKUP($A1104,'Result Entry'!$B$9:$DX$108,89,0))","v":""}]
[null,"◐",{"$f":"'Result Entry'!$CM$3","v":"H&P. EDU."},null,null,{"$f":"IF(OR(C1132=\"\",$I1109=\"NSO\"),\"\",VLOOKUP($A1104,'Result Entry'!$B$9:$DX$108,127,0))","v":"0/100"},null,{"$f":"IF(OR(C1132=\"\",$I1109=\"NSO\"),\"\",VLOOKUP($A1104,'Result Entry'!$B$9:$DX$108,97,0))","v":""},"Signature Of The Class Teacher"]
[null,"◐","Grading System"]
[null,"◐","Grd.","% Range",null,"Description"]
[null,"◐","A","86-100",null,"Excellent",null,null,"Signature And Seal Of Principal/H.M."]
[null,"◐","B","71-85",null,"Very Good"]
[null,"◐","C","51-70",null,"Good"]
[null,"◐","D","31-50",null,"Average"]
[null,"◐","E","0-30",null,"Needs Improvement",null,null,"Wish bright future"]
[]
[]
[{"$f":"A1104+1","v":31},"Department Of Education, Rajasthan"]
[null,{"$f":"IF(I1147>0,CONCATENATE(C1147,I1147),0)","v":0},null,{"$f":"Master!$E$8","v":"Govt.Sr.Sec.Sch. "}]
[{"$nulls":3},{"$f":"Master!$E$11","v":"P.S.-Bapini (Jodhpur)"}]
[null,null,"Report Card",{"$nulls":6},"U-DISE Code:-",null,{"$f":"Master!$E$14","v":{"v":810000000,"d":"0810000000"}}]
[{"$nulls":9},"Session:-",null,{"$f":"Master!$E$6","v":"2022-23"}]
[null,null,"Roll No.:-",{"$nulls":5},{"$f":"VLOOKUP($A1142,'Result Entry'!$B$9:$F$108,5,0)","v":0}]
[null,"◐","Scholar Number",{"$nulls":3},"↠",{"$f":"VLOOKUP($A1142,'Result Entry'!$B$9:$DX$108,3,0)","v":0}]
[null,"◐","Student's Name",{"$nulls":3},"↠",{"$f":"VLOOKUP($A1142,'Result Entry'!$B$9:$DX$108,6,0)","v":0}]
[null,"◐","Father's Name",{"$nulls":3},"↠",{"$f":"VLOOKUP($A1142,'Result Entry'!$B$9:$DX$108,7,0)","v":0}]
[null,"◐","Mother's Name ",{"$nulls":3},"↠",{"$f":"VLOOKUP($A1142,'Result Entry'!$B$9:$DX$108,8,0)","v":0}]
[null,"◐","Class & Section",{"$nulls":3},"↠",{"$f":"CONCATENATE('Result Entry'!$F$4,'Result Entry'!$I$4)","v":"2(A)"}]
[null,"◐","Date Of Birth",{"$nulls":3},"↠",{"$f":"VLOOKUP($A1142,'Result Entry'!$B$9:$DX$108,9,0)","v":"00:00:00"}]
[null,"◐","Subject",{"$nulls":4},"Half Yearly","Total (T+H.Y.)","Yearly","Grand Total",null,"Subject Grade"]
[null,"◐","Max. Marks",{"$nulls":4},{"$f":"'Result Entry'!$Q$7","v":100},{"$f":"G1155+H1155","v":100},{"$f":"'Result Entry'!$U$7","v":100},{"$f":"I1155+J1155","v":200},null,"A/B/C/D/E"]
[null,"◐",{"$f":"'Result Entry'!$K$3","v":"Hindi"},{"$nulls":4},{"$f":"IF(OR(C1156=\"\",$I1147=\"NSO\"),\"\",VLOOKUP($A1142,'Result Entry'!$B$9:$DX$108,16,0))","v":0},{"$f":"SUM(G1156,H1156)","v":0},{"$f":"IF(OR(C1156=\"\",$I1147=\"NSO\"),\"\",VLOOKUP($A1142,'Result Entry'!$B$9:$DX$108,20,0))","v":0},{"$f":"SUM(I1156,J1156)","v":0},null,{"$f":"IF(OR(C1156=\"\",$I1147=\"NSO\"),\"\",VLOOKUP($A1142,'Result Entry'!$B$9:$DX$108,23,0))","v":""}]
[null,"◐",{"$f":"'Result Entry'!$Y$3","v":"Mathematics"},{"$nulls":4},{"$f":"IF(OR(C1157=\"\",$I1147=\"NSO\"),\"\",VLOOKUP($A1142,'Result Entry'!$B$9:$DX$108,30,0))","v":0},{"$f":"SUM(G1157,H1157)","v":0},{"$f":"IF(OR(C1157=\"\",$I1147=\"NSO\"),\"\",VLOOKUP($A1142,'Result Entry'!$B$9:$DX$108,34,0))","v":0},{"$f":"SUM(I1157,J1157)","v":0},null,{"$f":"IF(OR(C1157=\"\",$I1147=\"NSO\"),\"\",VLOOKUP($A1142,'Result Entry'!$B$9:$DX$108,37,0))","v":""}]
[null,"◐",{"$f":"'Result Entry'!$BO$3","v":"Env. Study"},{"$nulls":4},{"$f":"IF(OR(C1158=\"\",$I1147=\"NSO\"),\"\",VLOOKUP($A1142,'Result Entry'!$B$9:$DX$108,66,0))","v":0},0,{"$f":"IF(OR(C1158=\"\",$I1147=\"NSO\"),\"\",VLOOKUP($A1142,'Result Entry'!$B$9:$DX$108,67,0))","v":0},0,null,{"$f":"IF(OR(C1158=\"\",$I1147=\"NSO\"),\"\",VLOOKUP($A1142,'Result Entry'!$B$9:$DX$108,73,0))","v":""}]
[null,"◐","Max. Marks",{"$nulls":4},{"$f":"'Result Entry'!$AS$7","v":50},50,{"$f":"'Result Entry'!$AW$7","v":50},100,null,"A/B/C/D/E"]
[null,"◐",{"$f":"'Result Entry'!$AM$3","v":"English"},{"$nulls":4},{"$f":"IF(OR(C1160=\"\",$I1147=\"NSO\"),\"\",VLOOKUP($A1142,'Result Entry'!$B$9:$DX$108,44,0))","v":0},0,{"$f":"IF(OR(C1160=\"\",$I1147=\"NSO\"),\"\",VLOOKUP($A1142,'Result Entry'!$B$9:$DX$108,48,0))","v":0},0,null,{"$f":"IF(OR(C1160=\"\",$I1147=\"NSO\"),\"\",VLOOKUP($A1142,'Result Entry'!$B$9:$DX$108,51,0))","v":""}]
[null,"◐"]
[null,"◐","Overall Result",null,null,"Total Max. Marks",null,"Total Obtained Marks",null,"Percentage","Overall Grade","Result","Position in Class"]
[null,"◐",{"$nulls":3},{"$f":"IF(OR($I1147=\"\",$I1147=\"NSO\"),\"\",VLOOKUP($A1142,'Result Entry'!$B$9:$DX$108,101,0))","v":500},null,{"$f":"IF(OR($I1147=\"\",$I1147=\"NSO\"),\"\",VLOOKUP($A1142,'Result Entry'!$B$9:$DX$108,102,0))","v":0},null,{"$f":"IF(OR($I1147=\"\",$I1147=\"NSO\"),\"\",VLOOKUP($A1142,'Result Entry'!$B$9:$DX$108,103,0))","v":{"v":0,"d":"0.00"}},{"$f":"IF(OR($I1147=\"\",$I1147=\"NSO\"),\"\",VLOOKUP($A1142,'Result Entry'!$B$9:$DX$108,104,0))","v":""},{"$f":"IF(OR($I1147=\"\",$I1147=\"NSO\"),\"\",VLOOKUP($A1142,'Result Entry'!$B$9:$DX$108,105,0))","v":""},{"$f":"IF(OR($I1147=\"\",$I1147=\"NSO\"),\"\",VLOOKUP($A1142,'Result Entry'!$B$9:$DX$108,107,0))","v":""}]
[null,"◐",{"$nulls":6},"Total Meetings :-",null,{"$f":"IF(OR($I1147=\"\",$I1147=\"NSO\"),\"\",VLOOKUP($A1142,'Result Entry'!$B$9:$DX$108,98,0))","v":0},"Attedance %"]
[null,"◐","Extra Subjects",{"$nulls":5},"Student's Meetings :-",null,{"$f":"IF(OR($I1147=\"\",$I1147=\"NSO\"),\"\",VLOOKUP($A1142,'Result Entry'!$B$9:$DX$108,99,0))","v":0},{"$f":"IF(OR($I1147=\"\",$I1147=\"NSO\"),\"\",VLOOKUP($A1142,'Result Entry'!$B$9:$DX$108,100,0))","v":""}]
[null,"◐","Subject",null,null,"Total Marks",null,"GRADE","Remark :-",null,{"$f":"IF(OR($I1147=\"\",$I1147=\"NSO\"),\"\",VLOOKUP($A1142,'Result Entry'!$B$9:$DX$108,108,0))","v":0}]
[null,"◐",{"$nulls":6},"Result Date :-",null,{"$f":"'Result Entry'!$T$2","v":"2023-05-24"}]
[null,"◐",{"$f":"'Result Entry'!$BW$3","v":"WORK EXP."},null,null,{"$f":"IF(OR(C1168=\"\",$I1147=\"NSO\"),\"\",VLOOKUP($A1142,'Result Entry'!$B$9:$DX$108,119,0))","v":"0/50"},null,{"$f":"IF(OR(C1168=\"\",$I1147=\"NSO\"),\"\",VLOOKUP($A1142,'Result Entry'!$B$9:$DX$108,81,0))","v":""}]
[null,null,{"$f":"'Result Entry'!$CE$3","v":"ART EDU."},null,null,{"$f":"IF(OR(C1169=\"\",$I1147=\"NSO\"),\"\",VLOOKUP($A1142,'Result Entry'!$B$9:$DX$108,123,0))","v":"0/50"},null,{"$f":"IF(OR(C1169=\"\",$I1147=\"NSO\"),\"\",VLOOKUP($A1142,'Result Entry'!$B$9:$DX$108,89,0))","v":""}]
[null,"◐",{"$f":"'Result Entry'!$CM$3","v":"H&P. EDU."},null,null,{"$f":"IF(OR(C1170=\"\",$I1147=\"NSO\"),\"\",VLOOKUP($A1142,'Result Entry'!$B$9:$DX$108,127,0))","v":"0/100"},null,{"$f":"IF(OR(C1170=\"\",$I1147=\"NSO\"),\"\",VLOOKUP($A1142,'Result Entry'!$B$9:$DX$108,97,0))","v":""},"Signature Of The Class Teacher"]
[null,"◐","Grading System"]
[null,"◐","Grd.","% Range",null,"Description"]
[null,"◐","A","86-100",null,"Excellent",null,null,"Signature And Seal Of Principal/H.M."]
[null,"◐","B","71-85",null,"Very Good"]
[null,"◐","C","51-70",null,"Good"]
[null,"◐","D","31-50",null,"Average"]
[null,"◐","E","0-30",null,"Needs Improvement",null,null,"Wish bright future"]
[]
[]
[{"$f":"A1142+1","v":32},"Department Of Education, Rajasthan"]
[null,{"$f":"IF(I1185>0,CONCATENATE(C1185,I1185),0)","v":0},null,{"$f":"Master!$E$8","v":"Govt.Sr.Sec.Sch. "}]
[{"$nulls":3},{"$f":"Master!$E$11","v":"P.S.-Bapini (Jodhpur)"}]
[null,null,"Report Card",{"$nulls":6},"U-DISE Code:-",null,{"$f":"Master!$E$14","v":{"v":810000000,"d":"0810000000"}}]
[{"$nulls":9},"Session:-",null,{"$f":"Master!$E$6","v":"2022-23"}]
[null,null,"Roll No.:-",{"$nulls":5},{"$f":"VLOOKUP($A1180,'Result Entry'!$B$9:$F$108,5,0)","v":0}]
[null,"◐","Scholar Number",{"$nulls":3},"↠",{"$f":"VLOOKUP($A1180,'Result Entry'!$B$9:$DX$108,3,0)","v":0}]
[null,"◐","Student's Name",{"$nulls":3},"↠",{"$f":"VLOOKUP($A1180,'Result Entry'!$B$9:$DX$108,6,0)","v":0}]
[null,"◐","Father's Name",{"$nulls":3},"↠",{"$f":"VLOOKUP($A1180,'Result Entry'!$B$9:$DX$108,7,0)","v":0}]
[null,"◐","Mother's Name ",{"$nulls":3},"↠",{"$f":"VLOOKUP($A1180,'Result Entry'!$B$9:$DX$108,8,0)","v":0}]
[null,"◐","Class & Section",{"$nulls":3},"↠",{"$f":"CONCATENATE('Result Entry'!$F$4,'Result Entry'!$I$4)","v":"2(A)"}]
[null,"◐","Date Of Birth",{"$nulls":3},"↠",{"$f":"VLOOKUP($A1180,'Result Entry'!$B$9:$DX$108,9,0)","v":"00:00:00"}]
[null,"◐","Subject",{"$nulls":4},"Half Yearly","Total (T+H.Y.)","Yearly","Grand Total",null,"Subject Grade"]
[null,"◐","Max. Marks",{"$nulls":4},{"$f":"'Result Entry'!$Q$7","v":100},{"$f":"G1193+H1193","v":100},{"$f":"'Result Entry'!$U$7","v":100},{"$f":"I1193+J1193","v":200},null,"A/B/C/D/E"]
[null,"◐",{"$f":"'Result Entry'!$K$3","v":"Hindi"},{"$nulls":4},{"$f":"IF(OR(C1194=\"\",$I1185=\"NSO\"),\"\",VLOOKUP($A1180,'Result Entry'!$B$9:$DX$108,16,0))","v":0},{"$f":"SUM(G1194,H1194)","v":0},{"$f":"IF(OR(C1194=\"\",$I1185=\"NSO\"),\"\",VLOOKUP($A1180,'Result Entry'!$B$9:$DX$108,20,0))","v":0},{"$f":"SUM(I1194,J1194)","v":0},null,{"$f":"IF(OR(C1194=\"\",$I1185=\"NSO\"),\"\",VLOOKUP($A1180,'Result Entry'!$B$9:$DX$108,23,0))","v":""}]
[null,"◐",{"$f":"'Result Entry'!$Y$3","v":"Mathematics"},{"$nulls":4},{"$f":"IF(OR(C1195=\"\",$I1185=\"NSO\"),\"\",VLOOKUP($A1180,'Result Entry'!$B$9:$DX$108,30,0))","v":0},{"$f":"SUM(G1195,H1195)","v":0},{"$f":"IF(OR(C1195=\"\",$I1185=\"NSO\"),\"\",VLOOKUP($A1180,'Result Entry'!$B$9:$DX$108,34,0))","v":0},{"$f":"SUM(I1195,J1195)","v":0},null,{"$f":"IF(OR(C1195=\"\",$I1185=\"NSO\"),\"\",VLOOKUP($A1180,'Result Entry'!$B$9:$DX$108,37,0))","v":""}]
[null,"◐",{"$f":"'Result Entry'!$BO$3","v":"Env. Study"},{"$nulls":4},{"$f":"IF(OR(C1196=\"\",$I1185=\"NSO\"),\"\",VLOOKUP($A1180,'Result Entry'!$B$9:$DX$108,66,0))","v":0},0,{"$f":"IF(OR(C1196=\"\",$I1185=\"NSO\"),\"\",VLOOKUP($A1180,'Result Entry'!$B$9:$DX$108,67,0))","v":0},0,null,{"$f":"IF(OR(C1196=\"\",$I1185=\"NSO\"),\"\",VLOOKUP($A1180,'Result Entry'!$B$9:$DX$108,73,0))","v":""}]
[null,"◐","Max. Marks",{"$nulls":4},{"$f":"'Result Entry'!$AS$7","v":50},50,{"$f":"'Result Entry'!$AW$7","v":50},100,null,"A/B/C/D/E"]
[null,"◐",{"$f":"'Result Entry'!$AM$3","v":"English"},{"$nulls":4},{"$f":"IF(OR(C1198=\"\",$I1185=\"NSO\"),\"\",VLOOKUP($A1180,'Result Entry'!$B$9:$DX$108,44,0))","v":0},0,{"$f":"IF(OR(C1198=\"\",$I1185=\"NSO\"),\"\",VLOOKUP($A1180,'Result Entry'!$B$9:$DX$108,48,0))","v":0},0,null,{"$f":"IF(OR(C1198=\"\",$I1185=\"NSO\"),\"\",VLOOKUP($A1180,'Result Entry'!$B$9:$DX$108,51,0))","v":""}]
[null,"◐"]
[null,"◐","Overall Result",null,null,"Total Max. Marks",null,"Total Obtained Marks",null,"Percentage","Overall Grade","Result","Position in Class"]
[null,"◐",{"$nulls":3},{"$f":"IF(OR($I1185=\"\",$I1185=\"NSO\"),\"\",VLOOKUP($A1180,'Result Entry'!$B$9:$DX$108,101,0))","v":500},null,{"$f":"IF(OR($I1185=\"\",$I1185=\"NSO\"),\"\",VLOOKUP($A1180,'Result Entry'!$B$9:$DX$108,102,0))","v":0},null,{"$f":"IF(OR($I1185=\"\",$I1185=\"NSO\"),\"\",VLOOKUP($A1180,'Result Entry'!$B$9:$DX$108,103,0))","v":{"v":0,"d":"0.00"}},{"$f":"IF(OR($I1185=\"\",$I1185=\"NSO\"),\"\",VLOOKUP($A1180,'Result Entry'!$B$9:$DX$108,104,0))","v":""},{"$f":"IF(OR($I1185=\"\",$I1185=\"NSO\"),\"\",VLOOKUP($A1180,'Result Entry'!$B$9:$DX$108,105,0))","v":""},{"$f":"IF(OR($I1185=\"\",$I1185=\"NSO\"),\"\",VLOOKUP($A1180,'Result Entry'!$B$9:$DX$108,107,0))","v":""}]
[null,"◐",{"$nulls":6},"Total Meetings :-",null,{"$f":"IF(OR($I1185=\"\",$I1185=\"NSO\"),\"\",VLOOKUP($A1180,'Result Entry'!$B$9:$DX$108,98,0))","v":0},"Attedance %"]
[null,"◐","Extra Subjects",{"$nulls":5},"Student's Meetings :-",null,{"$f":"IF(OR($I1185=\"\",$I1185=\"NSO\"),\"\",VLOOKUP($A1180,'Result Entry'!$B$9:$DX$108,99,0))","v":0},{"$f":"IF(OR($I1185=\"\",$I1185=\"NSO\"),\"\",VLOOKUP($A1180,'Result Entry'!$B$9:$DX$108,100,0))","v":""}]
[null,"◐","Subject",null,null,"Total Marks",null,"GRADE","Remark :-",null,{"$f":"IF(OR($I1185=\"\",$I1185=\"NSO\"),\"\",VLOOKUP($A1180,'Result Entry'!$B$9:$DX$108,108,0))","v":0}]
[null,"◐",{"$nulls":6},"Result Date :-",null,{"$f":"'Result Entry'!$T$2","v":"2023-05-24"}]
[null,"◐",{"$f":"'Result Entry'!$BW$3","v":"WORK EXP."},null,null,{"$f":"IF(OR(C1206=\"\",$I1185=\"NSO\"),\"\",VLOOKUP($A1180,'Result Entry'!$B$9:$DX$108,119,0))","v":"0/50"},null,{"$f":"IF(OR(C1206=\"\",$I1185=\"NSO\"),\"\",VLOOKUP($A1180,'Result Entry'!$B$9:$DX$108,81,0))","v":""}]
[null,null,{"$f":"'Result Entry'!$CE$3","v":"ART EDU."},null,null,{"$f":"IF(OR(C1207=\"\",$I1185=\"NSO\"),\"\",VLOOKUP($A1180,'Result Entry'!$B$9:$DX$108,123,0))","v":"0/50"},null,{"$f":"IF(OR(C1207=\"\",$I1185=\"NSO\"),\"\",VLOOKUP($A1180,'Result Entry'!$B$9:$DX$108,89,0))","v":""}]
[null,"◐",{"$f":"'Result Entry'!$CM$3","v":"H&P. EDU."},null,null,{"$f":"IF(OR(C1208=\"\",$I1185=\"NSO\"),\"\",VLOOKUP($A1180,'Result Entry'!$B$9:$DX$108,127,0))","v":"0/100"},null,{"$f":"IF(OR(C1208=\"\",$I1185=\"NSO\"),\"\",VLOOKUP($A1180,'Result Entry'!$B$9:$DX$108,97,0))","v":""},"Signature Of The Class Teacher"]
[null,"◐","Grading System"]
[null,"◐","Grd.","% Range",null,"Description"]
[null,"◐","A","86-100",null,"Excellent",null,null,"Signature And Seal Of Principal/H.M."]
[null,"◐","B","71-85",null,"Very Good"]
[null,"◐","C","51-70",null,"Good"]
[null,"◐","D","31-50",null,"Average"]
[null,"◐","E","0-30",null,"Needs Improvement",null,null,"Wish bright future"]
[]
[]
[{"$f":"A1180+1","v":33},"Department Of Education, Rajasthan"]
[null,{"$f":"IF(I1223>0,CONCATENATE(C1223,I1223),0)","v":0},null,{"$f":"Master!$E$8","v":"Govt.Sr.Sec.Sch. "}]
[{"$nulls":3},{"$f":"Master!$E$11","v":"P.S.-Bapini (Jodhpur)"}]
[null,null,"Report Card",{"$nulls":6},"U-DISE Code:-",null,{"$f":"Master!$E$14","v":{"v":810000000,"d":"0810000000"}}]
[{"$nulls":9},"Session:-",null,{"$f":"Master!$E$6","v":"2022-23"}]
[null,null,"Roll No.:-",{"$nulls":5},{"$f":"VLOOKUP($A1218,'Result Entry'!$B$9:$F$108,5,0)","v":0}]
[null,"◐","Scholar Number",{"$nulls":3},"↠",{"$f":"VLOOKUP($A1218,'Result Entry'!$B$9:$DX$108,3,0)","v":0}]
[null,"◐","Student's Name",{"$nulls":3},"↠",{"$f":"VLOOKUP($A1218,'Result Entry'!$B$9:$DX$108,6,0)","v":0}]
[null,"◐","Father's Name",{"$nulls":3},"↠",{"$f":"VLOOKUP($A1218,'Result Entry'!$B$9:$DX$108,7,0)","v":0}]
[null,"◐","Mother's Name ",{"$nulls":3},"↠",{"$f":"VLOOKUP($A1218,'Result Entry'!$B$9:$DX$108,8,0)","v":0}]
[null,"◐","Class & Section",{"$nulls":3},"↠",{"$f":"CONCATENATE('Result Entry'!$F$4,'Result Entry'!$I$4)","v":"2(A)"}]
[null,"◐","Date Of Birth",{"$nulls":3},"↠",{"$f":"VLOOKUP($A1218,'Result Entry'!$B$9:$DX$108,9,0)","v":"00:00:00"}]
[null,"◐","Subject",{"$nulls":4},"Half Yearly","Total (T+H.Y.)","Yearly","Grand Total",null,"Subject Grade"]
[null,"◐","Max. Marks",{"$nulls":4},{"$f":"'Result Entry'!$Q$7","v":100},{"$f":"G1231+H1231","v":100},{"$f":"'Result Entry'!$U$7","v":100},{"$f":"I1231+J1231","v":200},null,"A/B/C/D/E"]
[null,"◐",{"$f":"'Result Entry'!$K$3","v":"Hindi"},{"$nulls":4},{"$f":"IF(OR(C1232=\"\",$I1223=\"NSO\"),\"\",VLOOKUP($A1218,'Result Entry'!$B$9:$DX$108,16,0))","v":0},{"$f":"SUM(G1232,H1232)","v":0},{"$f":"IF(OR(C1232=\"\",$I1223=\"NSO\"),\"\",VLOOKUP($A1218,'Result Entry'!$B$9:$DX$108,20,0))","v":0},{"$f":"SUM(I1232,J1232)","v":0},null,{"$f":"IF(OR(C1232=\"\",$I1223=\"NSO\"),\"\",VLOOKUP($A1218,'Result Entry'!$B$9:$DX$108,23,0))","v":""}]
[null,"◐",{"$f":"'Result Entry'!$Y$3","v":"Mathematics"},{"$nulls":4},{"$f":"IF(OR(C1233=\"\",$I1223=\"NSO\"),\"\",VLOOKUP($A1218,'Result Entry'!$B$9:$DX$108,30,0))","v":0},{"$f":"SUM(G1233,H1233)","v":0},{"$f":"IF(OR(C1233=\"\",$I1223=\"NSO\"),\"\",VLOOKUP($A1218,'Result Entry'!$B$9:$DX$108,34,0))","v":0},{"$f":"SUM(I1233,J1233)","v":0},null,{"$f":"IF(OR(C1233=\"\",$I1223=\"NSO\"),\"\",VLOOKUP($A1218,'Result Entry'!$B$9:$DX$108,37,0))","v":""}]
[null,"◐",{"$f":"'Result Entry'!$BO$3","v":"Env. Study"},{"$nulls":4},{"$f":"IF(OR(C1234=\"\",$I1223=\"NSO\"),\"\",VLOOKUP($A1218,'Result Entry'!$B$9:$DX$108,66,0))","v":0},0,{"$f":"IF(OR(C1234=\"\",$I1223=\"NSO\"),\"\",VLOOKUP($A1218,'Result Entry'!$B$9:$DX$108,67,0))","v":0},0,null,{"$f":"IF(OR(C1234=\"\",$I1223=\"NSO\"),\"\",VLOOKUP($A1218,'Result Entry'!$B$9:$DX$108,73,0))","v":""}]
[null,"◐","Max. Marks",{"$nulls":4},{"$f":"'Result Entry'!$AS$7","v":50},50,{"$f":"'Result Entry'!$AW$7","v":50},100,null,"A/B/C/D/E"]
[null,"◐",{"$f":"'Result Entry'!$AM$3","v":"English"},{"$nulls":4},{"$f":"IF(OR(C1236=\"\",$I1223=\"NSO\"),\"\",VLOOKUP($A1218,'Result Entry'!$B$9:$DX$108,44,0))","v":0},0,{"$f":"IF(OR(C1236=\"\",$I1223=\"NSO\"),\"\",VLOOKUP($A1218,'Result Entry'!$B$9:$DX$108,48,0))","v":0},0,null,{"$f":"IF(OR(C1236=\"\",$I1223=\"NSO\"),\"\",VLOOKUP($A1218,'Result Entry'!$B$9:$DX$108,51,0))","v":""}]
[null,"◐"]
[null,"◐","Overall Result",null,null,"Total Max. Marks",null,"Total Obtained Marks",null,"Percentage","Overall Grade","Result","Position in Class"]
[null,"◐",{"$nulls":3},{"$f":"IF(OR($I1223=\"\",$I1223=\"NSO\"),\"\",VLOOKUP($A1218,'Result Entry'!$B$9:$DX$108,101,0))","v":500},null,{"$f":"IF(OR($I1223=\"\",$I1223=\"NSO\"),\"\",VLOOKUP($A1218,'Result Entry'!$B$9:$DX$108,102,0))","v":0},null,{"$f":"IF(OR($I1223=\"\",$I1223=\"NSO\"),\"\",VLOOKUP($A1218,'Result Entry'!$B$9:$DX$108,103,0))","v":{"v":0,"d":"0.00"}},{"$f":"IF(OR($I1223=\"\",$I1223=\"NSO\"),\"\",VLOOKUP($A1218,'Result Entry'!$B$9:$DX$108,104,0))","v":""},{"$f":"IF(OR($I1223=\"\",$I1223=\"NSO\"),\"\",VLOOKUP($A1218,'Result Entry'!$B$9:$DX$108,105,0))","v":""},{"$f":"IF(OR($I1223=\"\",$I1223=\"NSO\"),\"\",VLOOKUP($A1218,'Result Entry'!$B$9:$DX$108,107,0))","v":""}]
[null,"◐",{"$nulls":6},"Total Meetings :-",null,{"$f":"IF(OR($I1223=\"\",$I1223=\"NSO\"),\"\",VLOOKUP($A1218,'Result Entry'!$B$9:$DX$108,98,0))","v":0},"Attedance %"]
[null,"◐","Extra Subjects",{"$nulls":5},"Student's Meetings :-",null,{"$f":"IF(OR($I1223=\"\",$I1223=\"NSO\"),\"\",VLOOKUP($A1218,'Result Entry'!$B$9:$DX$108,99,0))","v":0},{"$f":"IF(OR($I1223=\"\",$I1223=\"NSO\"),\"\",VLOOKUP($A1218,'Result Entry'!$B$9:$DX$108,100,0))","v":""}]
[null,"◐","Subject",null,null,"Total Marks",null,"GRADE","Remark :-",null,{"$f":"IF(OR($I1223=\"\",$I1223=\"NSO\"),\"\",VLOOKUP($A1218,'Result Entry'!$B$9:$DX$108,108,0))","v":0}]
[null,"◐",{"$nulls":6},"Result Date :-",null,{"$f":"'Result Entry'!$T$2","v":"2023-05-24"}]
[null,"◐",{"$f":"'Result Entry'!$BW$3","v":"WORK EXP."},null,null,{"$f":"IF(OR(C1244=\"\",$I1223=\"NSO\"),\"\",VLOOKUP($A1218,'Result Entry'!$B$9:$DX$108,119,0))","v":"0/50"},null,{"$f":"IF(OR(C1244=\"\",$I1223=\"NSO\"),\"\",VLOOKUP($A1218,'Result Entry'!$B$9:$DX$108,81,0))","v":""}]
[null,null,{"$f":"'Result Entry'!$CE$3","v":"ART EDU."},null,null,{"$f":"IF(OR(C1245=\"\",$I1223=\"NSO\"),\"\",VLOOKUP($A1218,'Result Entry'!$B$9:$DX$108,123,0))","v":"0/50"},null,{"$f":"IF(OR(C1245=\"\",$I1223=\"NSO\"),\"\",VLOOKUP($A1218,'Result Entry'!$B$9:$DX$108,89,0))","v":""}]
[null,"◐",{"$f":"'Result Entry'!$CM$3","v":"H&P. EDU."},null,null,{"$f":"IF(OR(C1246=\"\",$I1223=\"NSO\"),\"\",VLOOKUP($A1218,'Result Entry'!$B$9:$DX$108,127,0))","v":"0/100"},null,{"$f":"IF(OR(C1246=\"\",$I1223=\"NSO\"),\"\",VLOOKUP($A1218,'Result Entry'!$B$9:$DX$108,97,0))","v":""},"Signature Of The Class Teacher"]
[null,"◐","Grading System"]
[null,"◐","Grd.","% Range",null,"Description"]
[null,"◐","A","86-100",null,"Excellent",null,null,"Signature And Seal Of Principal/H.M."]
[null,"◐","B","71-85",null,"Very Good"]
[null,"◐","C","51-70",null,"Good"]
[null,"◐","D","31-50",null,"Average"]
[null,"◐","E","0-30",null,"Needs Improvement",null,null,"Wish bright future"]
[]
[]
[{"$f":"A1218+1","v":34},"Department Of Education, Rajasthan"]
[null,{"$f":"IF(I1261>0,CONCATENATE(C1261,I1261),0)","v":0},null,{"$f":"Master!$E$8","v":"Govt.Sr.Sec.Sch. "}]
[{"$nulls":3},{"$f":"Master!$E$11","v":"P.S.-Bapini (Jodhpur)"}]
[null,null,"Report Card",{"$nulls":6},"U-DISE Code:-",null,{"$f":"Master!$E$14","v":{"v":810000000,"d":"0810000000"}}]
[{"$nulls":9},"Session:-",null,{"$f":"Master!$E$6","v":"2022-23"}]
[null,null,"Roll No.:-",{"$nulls":5},{"$f":"VLOOKUP($A1256,'Result Entry'!$B$9:$F$108,5,0)","v":0}]
[null,"◐","Scholar Number",{"$nulls":3},"↠",{"$f":"VLOOKUP($A1256,'Result Entry'!$B$9:$DX$108,3,0)","v":0}]
[null,"◐","Student's Name",{"$nulls":3},"↠",{"$f":"VLOOKUP($A1256,'Result Entry'!$B$9:$DX$108,6,0)","v":0}]
[null,"◐","Father's Name",{"$nulls":3},"↠",{"$f":"VLOOKUP($A1256,'Result Entry'!$B$9:$DX$108,7,0)","v":0}]
[null,"◐","Mother's Name ",{"$nulls":3},"↠",{"$f":"VLOOKUP($A1256,'Result Entry'!$B$9:$DX$108,8,0)","v":0}]
[null,"◐","Class & Section",{"$nulls":3},"↠",{"$f":"CONCATENATE('Result Entry'!$F$4,'Result Entry'!$I$4)","v":"2(A)"}]
[null,"◐","Date Of Birth",{"$nulls":3},"↠",{"$f":"VLOOKUP($A1256,'Result Entry'!$B$9:$DX$108,9,0)","v":"00:00:00"}]
[null,"◐","Subject",{"$nulls":4},"Half Yearly","Total (T+H.Y.)","Yearly","Grand Total",null,"Subject Grade"]
[null,"◐","Max. Marks",{"$nulls":4},{"$f":"'Result Entry'!$Q$7","v":100},{"$f":"G1269+H1269","v":100},{"$f":"'Result Entry'!$U$7","v":100},{"$f":"I1269+J1269","v":200},null,"A/B/C/D/E"]
[null,"◐",{"$f":"'Result Entry'!$K$3","v":"Hindi"},{"$nulls":4},{"$f":"IF(OR(C1270=\"\",$I1261=\"NSO\"),\"\",VLOOKUP($A1256,'Result Entry'!$B$9:$DX$108,16,0))","v":0},{"$f":"SUM(G1270,H1270)","v":0},{"$f":"IF(OR(C1270=\"\",$I1261=\"NSO\"),\"\",VLOOKUP($A1256,'Result Entry'!$B$9:$DX$108,20,0))","v":0},{"$f":"SUM(I1270,J1270)","v":0},null,{"$f":"IF(OR(C1270=\"\",$I1261=\"NSO\"),\"\",VLOOKUP($A1256,'Result Entry'!$B$9:$DX$108,23,0))","v":""}]
[null,"◐",{"$f":"'Result Entry'!$Y$3","v":"Mathematics"},{"$nulls":4},{"$f":"IF(OR(C1271=\"\",$I1261=\"NSO\"),\"\",VLOOKUP($A1256,'Result Entry'!$B$9:$DX$108,30,0))","v":0},{"$f":"SUM(G1271,H1271)","v":0},{"$f":"IF(OR(C1271=\"\",$I1261=\"NSO\"),\"\",VLOOKUP($A1256,'Result Entry'!$B$9:$DX$108,34,0))","v":0},{"$f":"SUM(I1271,J1271)","v":0},null,{"$f":"IF(OR(C1271=\"\",$I1261=\"NSO\"),\"\",VLOOKUP($A1256,'Result Entry'!$B$9:$DX$108,37,0))","v":""}]
[null,"◐",{"$f":"'Result Entry'!$BO$3","v":"Env. Study"},{"$nulls":4},{"$f":"IF(OR(C1272=\"\",$I1261=\"NSO\"),\"\",VLOOKUP($A1256,'Result Entry'!$B$9:$DX$108,66,0))","v":0},0,{"$f":"IF(OR(C1272=\"\",$I1261=\"NSO\"),\"\",VLOOKUP($A1256,'Result Entry'!$B$9:$DX$108,67,0))","v":0},0,null,{"$f":"IF(OR(C1272=\"\",$I1261=\"NSO\"),\"\",VLOOKUP($A1256,'Result Entry'!$B$9:$DX$108,73,0))","v":""}]
[null,"◐","Max. Marks",{"$nulls":4},{"$f":"'Result Entry'!$AS$7","v":50},50,{"$f":"'Result Entry'!$AW$7","v":50},100,null,"A/B/C/D/E"]
[null,"◐",{"$f":"'Result Entry'!$AM$3","v":"English"},{"$nulls":4},{"$f":"IF(OR(C1274=\"\",$I1261=\"NSO\"),\"\",VLOOKUP($A1256,'Result Entry'!$B$9:$DX$108,44,0))","v":0},0,{"$f":"IF(OR(C1274=\"\",$I1261=\"NSO\"),\"\",VLOOKUP($A1256,'Result Entry'!$B$9:$DX$108,48,0))","v":0},0,null,{"$f":"IF(OR(C1274=\"\",$I1261=\"NSO\"),\"\",VLOOKUP($A1256,'Result Entry'!$B$9:$DX$108,51,0))","v":""}]
[null,"◐"]
[null,"◐","Overall Result",null,null,"Total Max. Marks",null,"Total Obtained Marks",null,"Percentage","Overall Grade","Result","Position in Class"]
[null,"◐",{"$nulls":3},{"$f":"IF(OR($I1261=\"\",$I1261=\"NSO\"),\"\",VLOOKUP($A1256,'Result Entry'!$B$9:$DX$108,101,0))","v":500},null,{"$f":"IF(OR($I1261=\"\",$I1261=\"NSO\"),\"\",VLOOKUP($A1256,'Result Entry'!$B$9:$DX$108,102,0))","v":0},null,{"$f":"IF(OR($I1261=\"\",$I1261=\"NSO\"),\"\",VLOOKUP($A1256,'Result Entry'!$B$9:$DX$108,103,0))","v":{"v":0,"d":"0.00"}},{"$f":"IF(OR($I1261=\"\",$I1261=\"NSO\"),\"\",VLOOKUP($A1256,'Result Entry'!$B$9:$DX$108,104,0))","v":""},{"$f":"IF(OR($I1261=\"\",$I1261=\"NSO\"),\"\",VLOOKUP($A1256,'Result Entry'!$B$9:$DX$108,105,0))","v":""},{"$f":"IF(OR($I1261=\"\",$I1261=\"NSO\"),\"\",VLOOKUP($A1256,'Result Entry'!$B$9:$DX$108,107,0))","v":""}]
[null,"◐",{"$nulls":6},"Total Meetings :-",null,{"$f":"IF(OR($I1261=\"\",$I1261=\"NSO\"),\"\",VLOOKUP($A1256,'Result Entry'!$B$9:$DX$108,98,0))","v":0},"Attedance %"]
[null,"◐","Extra Subjects",{"$nulls":5},"Student's Meetings :-",null,{"$f":"IF(OR($I1261=\"\",$I1261=\"NSO\"),\"\",VLOOKUP($A1256,'Result Entry'!$B$9:$DX$108,99,0))","v":0},{"$f":"IF(OR($I1261=\"\",$I1261=\"NSO\"),\"\",VLOOKUP($A1256,'Result Entry'!$B$9:$DX$108,100,0))","v":""}]
[null,"◐","Subject",null,null,"Total Marks",null,"GRADE","Remark :-",null,{"$f":"IF(OR($I1261=\"\",$I1261=\"NSO\"),\"\",VLOOKUP($A1256,'Result Entry'!$B$9:$DX$108,108,0))","v":0}]
[null,"◐",{"$nulls":6},"Result Date :-",null,{"$f":"'Result Entry'!$T$2","v":"2023-05-24"}]
[null,"◐",{"$f":"'Result Entry'!$BW$3","v":"WORK EXP."},null,null,{"$f":"IF(OR(C1282=\"\",$I1261=\"NSO\"),\"\",VLOOKUP($A1256,'Result Entry'!$B$9:$DX$108,119,0))","v":"0/50"},null,{"$f":"IF(OR(C1282=\"\",$I1261=\"NSO\"),\"\",VLOOKUP($A1256,'Result Entry'!$B$9:$DX$108,81,0))","v":""}]
[null,null,{"$f":"'Result Entry'!$CE$3","v":"ART EDU."},null,null,{"$f":"IF(OR(C1283=\"\",$I1261=\"NSO\"),\"\",VLOOKUP($A1256,'Result Entry'!$B$9:$DX$108,123,0))","v":"0/50"},null,{"$f":"IF(OR(C1283=\"\",$I1261=\"NSO\"),\"\",VLOOKUP($A1256,'Result Entry'!$B$9:$DX$108,89,0))","v":""}]
[null,"◐",{"$f":"'Result Entry'!$CM$3","v":"H&P. EDU."},null,null,{"$f":"IF(OR(C1284=\"\",$I1261=\"NSO\"),\"\",VLOOKUP($A1256,'Result Entry'!$B$9:$DX$108,127,0))","v":"0/100"},null,{"$f":"IF(OR(C1284=\"\",$I1261=\"NSO\"),\"\",VLOOKUP($A1256,'Result Entry'!$B$9:$DX$108,97,0))","v":""},"Signature Of The Class Teacher"]
[null,"◐","Grading System"]
[null,"◐","Grd.","% Range",null,"Description"]
[null,"◐","A","86-100",null,"Excellent",null,null,"Signature And Seal Of Principal/H.M."]
[null,"◐","B","71-85",null,"Very Good"]
[null,"◐","C","51-70",null,"Good"]
[null,"◐","D","31-50",null,"Average"]
[null,"◐","E","0-30",null,"Needs Improvement",null,null,"Wish bright future"]
[]
[]
[{"$f":"A1256+1","v":35},"Department Of Education, Rajasthan"]
[null,{"$f":"IF(I1299>0,CONCATENATE(C1299,I1299),0)","v":0},null,{"$f":"Master!$E$8","v":"Govt.Sr.Sec.Sch. "}]
[{"$nulls":3},{"$f":"Master!$E$11","v":"P.S.-Bapini (Jodhpur)"}]
[null,null,"Report Card",{"$nulls":6},"U-DISE Code:-",null,{"$f":"Master!$E$14","v":{"v":810000000,"d":"0810000000"}}]
[{"$nulls":9},"Session:-",null,{"$f":"Master!$E$6","v":"2022-23"}]
[null,null,"Roll No.:-",{"$nulls":5},{"$f":"VLOOKUP($A1294,'Result Entry'!$B$9:$F$108,5,0)","v":0}]
[null,"◐","Scholar Number",{"$nulls":3},"↠",{"$f":"VLOOKUP($A1294,'Result Entry'!$B$9:$DX$108,3,0)","v":0}]
[null,"◐","Student's Name",{"$nulls":3},"↠",{"$f":"VLOOKUP($A1294,'Result Entry'!$B$9:$DX$108,6,0)","v":0}]
[null,"◐","Father's Name",{"$nulls":3},"↠",{"$f":"VLOOKUP($A1294,'Result Entry'!$B$9:$DX$108,7,0)","v":0}]
[null,"◐","Mother's Name ",{"$nulls":3},"↠",{"$f":"VLOOKUP($A1294,'Result Entry'!$B$9:$DX$108,8,0)","v":0}]
[null,"◐","Class & Section",{"$nulls":3},"↠",{"$f":"CONCATENATE('Result Entry'!$F$4,'Result Entry'!$I$4)","v":"2(A)"}]
[null,"◐","Date Of Birth",{"$nulls":3},"↠",{"$f":"VLOOKUP($A1294,'Result Entry'!$B$9:$DX$108,9,0)","v":"00:00:00"}]
[null,"◐","Subject",{"$nulls":4},"Half Yearly","Total (T+H.Y.)","Yearly","Grand Total",null,"Subject Grade"]
[null,"◐","Max. Marks",{"$nulls":4},{"$f":"'Result Entry'!$Q$7","v":100},{"$f":"G1307+H1307","v":100},{"$f":"'Result Entry'!$U$7","v":100},{"$f":"I1307+J1307","v":200},null,"A/B/C/D/E"]
[null,"◐",{"$f":"'Result Entry'!$K$3","v":"Hindi"},{"$nulls":4},{"$f":"IF(OR(C1308=\"\",$I1299=\"NSO\"),\"\",VLOOKUP($A1294,'Result Entry'!$B$9:$DX$108,16,0))","v":0},{"$f":"SUM(G1308,H1308)","v":0},{"$f":"IF(OR(C1308=\"\",$I1299=\"NSO\"),\"\",VLOOKUP($A1294,'Result Entry'!$B$9:$DX$108,20,0))","v":0},{"$f":"SUM(I1308,J1308)","v":0},null,{"$f":"IF(OR(C1308=\"\",$I1299=\"NSO\"),\"\",VLOOKUP($A1294,'Result Entry'!$B$9:$DX$108,23,0))","v":""}]
[null,"◐",{"$f":"'Result Entry'!$Y$3","v":"Mathematics"},{"$nulls":4},{"$f":"IF(OR(C1309=\"\",$I1299=\"NSO\"),\"\",VLOOKUP($A1294,'Result Entry'!$B$9:$DX$108,30,0))","v":0},{"$f":"SUM(G1309,H1309)","v":0},{"$f":"IF(OR(C1309=\"\",$I1299=\"NSO\"),\"\",VLOOKUP($A1294,'Result Entry'!$B$9:$DX$108,34,0))","v":0},{"$f":"SUM(I1309,J1309)","v":0},null,{"$f":"IF(OR(C1309=\"\",$I1299=\"NSO\"),\"\",VLOOKUP($A1294,'Result Entry'!$B$9:$DX$108,37,0))","v":""}]
[null,"◐",{"$f":"'Result Entry'!$BO$3","v":"Env. Study"},{"$nulls":4},{"$f":"IF(OR(C1310=\"\",$I1299=\"NSO\"),\"\",VLOOKUP($A1294,'Result Entry'!$B$9:$DX$108,66,0))","v":0},0,{"$f":"IF(OR(C1310=\"\",$I1299=\"NSO\"),\"\",VLOOKUP($A1294,'Result Entry'!$B$9:$DX$108,67,0))","v":0},0,null,{"$f":"IF(OR(C1310=\"\",$I1299=\"NSO\"),\"\",VLOOKUP($A1294,'Result Entry'!$B$9:$DX$108,73,0))","v":""}]
[null,"◐","Max. Marks",{"$nulls":4},{"$f":"'Result Entry'!$AS$7","v":50},50,{"$f":"'Result Entry'!$AW$7","v":50},100,null,"A/B/C/D/E"]
[null,"◐",{"$f":"'Result Entry'!$AM$3","v":"English"},{"$nulls":4},{"$f":"IF(OR(C1312=\"\",$I1299=\"NSO\"),\"\",VLOOKUP($A1294,'Result Entry'!$B$9:$DX$108,44,0))","v":0},0,{"$f":"IF(OR(C1312=\"\",$I1299=\"NSO\"),\"\",VLOOKUP($A1294,'Result Entry'!$B$9:$DX$108,48,0))","v":0},0,null,{"$f":"IF(OR(C1312=\"\",$I1299=\"NSO\"),\"\",VLOOKUP($A1294,'Result Entry'!$B$9:$DX$108,51,0))","v":""}]
[null,"◐"]
[null,"◐","Overall Result",null,null,"Total Max. Marks",null,"Total Obtained Marks",null,"Percentage","Overall Grade","Result","Position in Class"]
[null,"◐",{"$nulls":3},{"$f":"IF(OR($I1299=\"\",$I1299=\"NSO\"),\"\",VLOOKUP($A1294,'Result Entry'!$B$9:$DX$108,101,0))","v":500},null,{"$f":"IF(OR($I1299=\"\",$I1299=\"NSO\"),\"\",VLOOKUP($A1294,'Result Entry'!$B$9:$DX$108,102,0))","v":0},null,{"$f":"IF(OR($I1299=\"\",$I1299=\"NSO\"),\"\",VLOOKUP($A1294,'Result Entry'!$B$9:$DX$108,103,0))","v":{"v":0,"d":"0.00"}},{"$f":"IF(OR($I1299=\"\",$I1299=\"NSO\"),\"\",VLOOKUP($A1294,'Result Entry'!$B$9:$DX$108,104,0))","v":""},{"$f":"IF(OR($I1299=\"\",$I1299=\"NSO\"),\"\",VLOOKUP($A1294,'Result Entry'!$B$9:$DX$108,105,0))","v":""},{"$f":"IF(OR($I1299=\"\",$I1299=\"NSO\"),\"\",VLOOKUP($A1294,'Result Entry'!$B$9:$DX$108,107,0))","v":""}]
[null,"◐",{"$nulls":6},"Total Meetings :-",null,{"$f":"IF(OR($I1299=\"\",$I1299=\"NSO\"),\"\",VLOOKUP($A1294,'Result Entry'!$B$9:$DX$108,98,0))","v":0},"Attedance %"]
[null,"◐","Extra Subjects",{"$nulls":5},"Student's Meetings :-",null,{"$f":"IF(OR($I1299=\"\",$I1299=\"NSO\"),\"\",VLOOKUP($A1294,'Result Entry'!$B$9:$DX$108,99,0))","v":0},{"$f":"IF(OR($I1299=\"\",$I1299=\"NSO\"),\"\",VLOOKUP($A1294,'Result Entry'!$B$9:$DX$108,100,0))","v":""}]
[null,"◐","Subject",null,null,"Total Marks",null,"GRADE","Remark :-",null,{"$f":"IF(OR($I1299=\"\",$I1299=\"NSO\"),\"\",VLOOKUP($A1294,'Result Entry'!$B$9:$DX$108,108,0))","v":0}]
[null,"◐",{"$nulls":6},"Result Date :-",null,{"$f":"'Result Entry'!$T$2","v":"2023-05-24"}]
[null,"◐",{"$f":"'Result Entry'!$BW$3","v":"WORK EXP."},null,null,{"$f":"IF(OR(C1320=\"\",$I1299=\"NSO\"),\"\",VLOOKUP($A1294,'Result Entry'!$B$9:$DX$108,119,0))","v":"0/50"},null,{"$f":"IF(OR(C1320=\"\",$I1299=\"NSO\"),\"\",VLOOKUP($A1294,'Result Entry'!$B$9:$DX$108,81,0))","v":""}]
[null,null,{"$f":"'Result Entry'!$CE$3","v":"ART EDU."},null,null,{"$f":"IF(OR(C1321=\"\",$I1299=\"NSO\"),\"\",VLOOKUP($A1294,'Result Entry'!$B$9:$DX$108,123,0))","v":"0/50"},null,{"$f":"IF(OR(C1321=\"\",$I1299=\"NSO\"),\"\",VLOOKUP($A1294,'Result Entry'!$B$9:$DX$108,89,0))","v":""}]
[null,"◐",{"$f":"'Result Entry'!$CM$3","v":"H&P. EDU."},null,null,{"$f":"IF(OR(C1322=\"\",$I1299=\"NSO\"),\"\",VLOOKUP($A1294,'Result Entry'!$B$9:$DX$108,127,0))","v":"0/100"},null,{"$f":"IF(OR(C1322=\"\",$I1299=\"NSO\"),\"\",VLOOKUP($A1294,'Result Entry'!$B$9:$DX$108,97,0))","v":""},"Signature Of The Class Teacher"]
[null,"◐","Grading System"]
[null,"◐","Grd.","% Range",null,"Description"]
[null,"◐","A","86-100",null,"Excellent",null,null,"Signature And Seal Of Principal/H.M."]
[null,"◐","B","71-85",null,"Very Good"]
[null,"◐","C","51-70",null,"Good"]
[null,"◐","D","31-50",null,"Average"]
[null,"◐","E","0-30",null,"Needs Improvement",null,null,"Wish bright future"]
[]
[]
[{"$f":"A1294+1","v":36},"Department Of Education, Rajasthan"]
[null,{"$f":"IF(I1337>0,CONCATENATE(C1337,I1337),0)","v":0},null,{"$f":"Master!$E$8","v":"Govt.Sr.Sec.Sch. "}]
[{"$nulls":3},{"$f":"Master!$E$11","v":"P.S.-Bapini (Jodhpur)"}]
[null,null,"Report Card",{"$nulls":6},"U-DISE Code:-",null,{"$f":"Master!$E$14","v":{"v":810000000,"d":"0810000000"}}]
[{"$nulls":9},"Session:-",null,{"$f":"Master!$E$6","v":"2022-23"}]
[null,null,"Roll No.:-",{"$nulls":5},{"$f":"VLOOKUP($A1332,'Result Entry'!$B$9:$F$108,5,0)","v":0}]
[null,"◐","Scholar Number",{"$nulls":3},"↠",{"$f":"VLOOKUP($A1332,'Result Entry'!$B$9:$DX$108,3,0)","v":0}]
[null,"◐","Student's Name",{"$nulls":3},"↠",{"$f":"VLOOKUP($A1332,'Result Entry'!$B$9:$DX$108,6,0)","v":0}]
[null,"◐","Father's Name",{"$nulls":3},"↠",{"$f":"VLOOKUP($A1332,'Result Entry'!$B$9:$DX$108,7,0)","v":0}]
[null,"◐","Mother's Name ",{"$nulls":3},"↠",{"$f":"VLOOKUP($A1332,'Result Entry'!$B$9:$DX$108,8,0)","v":0}]
[null,"◐","Class & Section",{"$nulls":3},"↠",{"$f":"CONCATENATE('Result Entry'!$F$4,'Result Entry'!$I$4)","v":"2(A)"}]
[null,"◐","Date Of Birth",{"$nulls":3},"↠",{"$f":"VLOOKUP($A1332,'Result Entry'!$B$9:$DX$108,9,0)","v":"00:00:00"}]
[null,"◐","Subject",{"$nulls":4},"Half Yearly","Total (T+H.Y.)","Yearly","Grand Total",null,"Subject Grade"]
[null,"◐","Max. Marks",{"$nulls":4},{"$f":"'Result Entry'!$Q$7","v":100},{"$f":"G1345+H1345","v":100},{"$f":"'Result Entry'!$U$7","v":100},{"$f":"I1345+J1345","v":200},null,"A/B/C/D/E"]
[null,"◐",{"$f":"'Result Entry'!$K$3","v":"Hindi"},{"$nulls":4},{"$f":"IF(OR(C1346=\"\",$I1337=\"NSO\"),\"\",VLOOKUP($A1332,'Result Entry'!$B$9:$DX$108,16,0))","v":0},{"$f":"SUM(G1346,H1346)","v":0},{"$f":"IF(OR(C1346=\"\",$I1337=\"NSO\"),\"\",VLOOKUP($A1332,'Result Entry'!$B$9:$DX$108,20,0))","v":0},{"$f":"SUM(I1346,J1346)","v":0},null,{"$f":"IF(OR(C1346=\"\",$I1337=\"NSO\"),\"\",VLOOKUP($A1332,'Result Entry'!$B$9:$DX$108,23,0))","v":""}]
[null,"◐",{"$f":"'Result Entry'!$Y$3","v":"Mathematics"},{"$nulls":4},{"$f":"IF(OR(C1347=\"\",$I1337=\"NSO\"),\"\",VLOOKUP($A1332,'Result Entry'!$B$9:$DX$108,30,0))","v":0},{"$f":"SUM(G1347,H1347)","v":0},{"$f":"IF(OR(C1347=\"\",$I1337=\"NSO\"),\"\",VLOOKUP($A1332,'Result Entry'!$B$9:$DX$108,34,0))","v":0},{"$f":"SUM(I1347,J1347)","v":0},null,{"$f":"IF(OR(C1347=\"\",$I1337=\"NSO\"),\"\",VLOOKUP($A1332,'Result Entry'!$B$9:$DX$108,37,0))","v":""}]
[null,"◐",{"$f":"'Result Entry'!$BO$3","v":"Env. Study"},{"$nulls":4},{"$f":"IF(OR(C1348=\"\",$I1337=\"NSO\"),\"\",VLOOKUP($A1332,'Result Entry'!$B$9:$DX$108,66,0))","v":0},0,{"$f":"IF(OR(C1348=\"\",$I1337=\"NSO\"),\"\",VLOOKUP($A1332,'Result Entry'!$B$9:$DX$108,67,0))","v":0},0,null,{"$f":"IF(OR(C1348=\"\",$I1337=\"NSO\"),\"\",VLOOKUP($A1332,'Result Entry'!$B$9:$DX$108,73,0))","v":""}]
[null,"◐","Max. Marks",{"$nulls":4},{"$f":"'Result Entry'!$AS$7","v":50},50,{"$f":"'Result Entry'!$AW$7","v":50},100,null,"A/B/C/D/E"]
[null,"◐",{"$f":"'Result Entry'!$AM$3","v":"English"},{"$nulls":4},{"$f":"IF(OR(C1350=\"\",$I1337=\"NSO\"),\"\",VLOOKUP($A1332,'Result Entry'!$B$9:$DX$108,44,0))","v":0},0,{"$f":"IF(OR(C1350=\"\",$I1337=\"NSO\"),\"\",VLOOKUP($A1332,'Result Entry'!$B$9:$DX$108,48,0))","v":0},0,null,{"$f":"IF(OR(C1350=\"\",$I1337=\"NSO\"),\"\",VLOOKUP($A1332,'Result Entry'!$B$9:$DX$108,51,0))","v":""}]
[null,"◐"]
[null,"◐","Overall Result",null,null,"Total Max. Marks",null,"Total Obtained Marks",null,"Percentage","Overall Grade","Result","Position in Class"]
[null,"◐",{"$nulls":3},{"$f":"IF(OR($I1337=\"\",$I1337=\"NSO\"),\"\",VLOOKUP($A1332,'Result Entry'!$B$9:$DX$108,101,0))","v":500},null,{"$f":"IF(OR($I1337=\"\",$I1337=\"NSO\"),\"\",VLOOKUP($A1332,'Result Entry'!$B$9:$DX$108,102,0))","v":0},null,{"$f":"IF(OR($I1337=\"\",$I1337=\"NSO\"),\"\",VLOOKUP($A1332,'Result Entry'!$B$9:$DX$108,103,0))","v":{"v":0,"d":"0.00"}},{"$f":"IF(OR($I1337=\"\",$I1337=\"NSO\"),\"\",VLOOKUP($A1332,'Result Entry'!$B$9:$DX$108,104,0))","v":""},{"$f":"IF(OR($I1337=\"\",$I1337=\"NSO\"),\"\",VLOOKUP($A1332,'Result Entry'!$B$9:$DX$108,105,0))","v":""},{"$f":"IF(OR($I1337=\"\",$I1337=\"NSO\"),\"\",VLOOKUP($A1332,'Result Entry'!$B$9:$DX$108,107,0))","v":""}]
[null,"◐",{"$nulls":6},"Total Meetings :-",null,{"$f":"IF(OR($I1337=\"\",$I1337=\"NSO\"),\"\",VLOOKUP($A1332,'Result Entry'!$B$9:$DX$108,98,0))","v":0},"Attedance %"]
[null,"◐","Extra Subjects",{"$nulls":5},"Student's Meetings :-",null,{"$f":"IF(OR($I1337=\"\",$I1337=\"NSO\"),\"\",VLOOKUP($A1332,'Result Entry'!$B$9:$DX$108,99,0))","v":0},{"$f":"IF(OR($I1337=\"\",$I1337=\"NSO\"),\"\",VLOOKUP($A1332,'Result Entry'!$B$9:$DX$108,100,0))","v":""}]
[null,"◐","Subject",null,null,"Total Marks",null,"GRADE","Remark :-",null,{"$f":"IF(OR($I1337=\"\",$I1337=\"NSO\"),\"\",VLOOKUP($A1332,'Result Entry'!$B$9:$DX$108,108,0))","v":0}]
[null,"◐",{"$nulls":6},"Result Date :-",null,{"$f":"'Result Entry'!$T$2","v":"2023-05-24"}]
[null,"◐",{"$f":"'Result Entry'!$BW$3","v":"WORK EXP."},null,null,{"$f":"IF(OR(C1358=\"\",$I1337=\"NSO\"),\"\",VLOOKUP($A1332,'Result Entry'!$B$9:$DX$108,119,0))","v":"0/50"},null,{"$f":"IF(OR(C1358=\"\",$I1337=\"NSO\"),\"\",VLOOKUP($A1332,'Result Entry'!$B$9:$DX$108,81,0))","v":""}]
[null,null,{"$f":"'Result Entry'!$CE$3","v":"ART EDU."},null,null,{"$f":"IF(OR(C1359=\"\",$I1337=\"NSO\"),\"\",VLOOKUP($A1332,'Result Entry'!$B$9:$DX$108,123,0))","v":"0/50"},null,{"$f":"IF(OR(C1359=\"\",$I1337=\"NSO\"),\"\",VLOOKUP($A1332,'Result Entry'!$B$9:$DX$108,89,0))","v":""}]
[null,"◐",{"$f":"'Result Entry'!$CM$3","v":"H&P. EDU."},null,null,{"$f":"IF(OR(C1360=\"\",$I1337=\"NSO\"),\"\",VLOOKUP($A1332,'Result Entry'!$B$9:$DX$108,127,0))","v":"0/100"},null,{"$f":"IF(OR(C1360=\"\",$I1337=\"NSO\"),\"\",VLOOKUP($A1332,'Result Entry'!$B$9:$DX$108,97,0))","v":""},"Signature Of The Class Teacher"]
[null,"◐","Grading System"]
[null,"◐","Grd.","% Range",null,"Description"]
[null,"◐","A","86-100",null,"Excellent",null,null,"Signature And Seal Of Principal/H.M."]
[null,"◐","B","71-85",null,"Very Good"]
[null,"◐","C","51-70",null,"Good"]
[null,"◐","D","31-50",null,"Average"]
[null,"◐","E","0-30",null,"Needs Improvement",null,null,"Wish bright future"]
[]
[]
[{"$f":"A1332+1","v":37},"Department Of Education, Rajasthan"]
[null,{"$f":"IF(I1375>0,CONCATENATE(C1375,I1375),0)","v":0},null,{"$f":"Master!$E$8","v":"Govt.Sr.Sec.Sch. "}]
[{"$nulls":3},{"$f":"Master!$E$11","v":"P.S.-Bapini (Jodhpur)"}]
[null,null,"Report Card",{"$nulls":6},"U-DISE Code:-",null,{"$f":"Master!$E$14","v":{"v":810000000,"d":"0810000000"}}]
[{"$nulls":9},"Session:-",null,{"$f":"Master!$E$6","v":"2022-23"}]
[null,null,"Roll No.:-",{"$nulls":5},{"$f":"VLOOKUP($A1370,'Result Entry'!$B$9:$F$108,5,0)","v":0}]
[null,"◐","Scholar Number",{"$nulls":3},"↠",{"$f":"VLOOKUP($A1370,'Result Entry'!$B$9:$DX$108,3,0)","v":0}]
[null,"◐","Student's Name",{"$nulls":3},"↠",{"$f":"VLOOKUP($A1370,'Result Entry'!$B$9:$DX$108,6,0)","v":0}]
[null,"◐","Father's Name",{"$nulls":3},"↠",{"$f":"VLOOKUP($A1370,'Result Entry'!$B$9:$DX$108,7,0)","v":0}]
[null,"◐","Mother's Name ",{"$nulls":3},"↠",{"$f":"VLOOKUP($A1370,'Result Entry'!$B$9:$DX$108,8,0)","v":0}]
[null,"◐","Class & Section",{"$nulls":3},"↠",{"$f":"CONCATENATE('Result Entry'!$F$4,'Result Entry'!$I$4)","v":"2(A)"}]
[null,"◐","Date Of Birth",{"$nulls":3},"↠",{"$f":"VLOOKUP($A1370,'Result Entry'!$B$9:$DX$108,9,0)","v":"00:00:00"}]
[null,"◐","Subject",{"$nulls":4},"Half Yearly","Total (T+H.Y.)","Yearly","Grand Total",null,"Subject Grade"]
[null,"◐","Max. Marks",{"$nulls":4},{"$f":"'Result Entry'!$Q$7","v":100},{"$f":"G1383+H1383","v":100},{"$f":"'Result Entry'!$U$7","v":100},{"$f":"I1383+J1383","v":200},null,"A/B/C/D/E"]
[null,"◐",{"$f":"'Result Entry'!$K$3","v":"Hindi"},{"$nulls":4},{"$f":"IF(OR(C1384=\"\",$I1375=\"NSO\"),\"\",VLOOKUP($A1370,'Result Entry'!$B$9:$DX$108,16,0))","v":0},{"$f":"SUM(G1384,H1384)","v":0},{"$f":"IF(OR(C1384=\"\",$I1375=\"NSO\"),\"\",VLOOKUP($A1370,'Result Entry'!$B$9:$DX$108,20,0))","v":0},{"$f":"SUM(I1384,J1384)","v":0},null,{"$f":"IF(OR(C1384=\"\",$I1375=\"NSO\"),\"\",VLOOKUP($A1370,'Result Entry'!$B$9:$DX$108,23,0))","v":""}]
[null,"◐",{"$f":"'Result Entry'!$Y$3","v":"Mathematics"},{"$nulls":4},{"$f":"IF(OR(C1385=\"\",$I1375=\"NSO\"),\"\",VLOOKUP($A1370,'Result Entry'!$B$9:$DX$108,30,0))","v":0},{"$f":"SUM(G1385,H1385)","v":0},{"$f":"IF(OR(C1385=\"\",$I1375=\"NSO\"),\"\",VLOOKUP($A1370,'Result Entry'!$B$9:$DX$108,34,0))","v":0},{"$f":"SUM(I1385,J1385)","v":0},null,{"$f":"IF(OR(C1385=\"\",$I1375=\"NSO\"),\"\",VLOOKUP($A1370,'Result Entry'!$B$9:$DX$108,37,0))","v":""}]
[null,"◐",{"$f":"'Result Entry'!$BO$3","v":"Env. Study"},{"$nulls":4},{"$f":"IF(OR(C1386=\"\",$I1375=\"NSO\"),\"\",VLOOKUP($A1370,'Result Entry'!$B$9:$DX$108,66,0))","v":0},0,{"$f":"IF(OR(C1386=\"\",$I1375=\"NSO\"),\"\",VLOOKUP($A1370,'Result Entry'!$B$9:$DX$108,67,0))","v":0},0,null,{"$f":"IF(OR(C1386=\"\",$I1375=\"NSO\"),\"\",VLOOKUP($A1370,'Result Entry'!$B$9:$DX$108,73,0))","v":""}]
[null,"◐","Max. Marks",{"$nulls":4},{"$f":"'Result Entry'!$AS$7","v":50},50,{"$f":"'Result Entry'!$AW$7","v":50},100,null,"A/B/C/D/E"]
[null,"◐",{"$f":"'Result Entry'!$AM$3","v":"English"},{"$nulls":4},{"$f":"IF(OR(C1388=\"\",$I1375=\"NSO\"),\"\",VLOOKUP($A1370,'Result Entry'!$B$9:$DX$108,44,0))","v":0},0,{"$f":"IF(OR(C1388=\"\",$I1375=\"NSO\"),\"\",VLOOKUP($A1370,'Result Entry'!$B$9:$DX$108,48,0))","v":0},0,null,{"$f":"IF(OR(C1388=\"\",$I1375=\"NSO\"),\"\",VLOOKUP($A1370,'Result Entry'!$B$9:$DX$108,51,0))","v":""}]
[null,"◐"]
[null,"◐","Overall Result",null,null,"Total Max. Marks",null,"Total Obtained Marks",null,"Percentage","Overall Grade","Result","Position in Class"]
[null,"◐",{"$nulls":3},{"$f":"IF(OR($I1375=\"\",$I1375=\"NSO\"),\"\",VLOOKUP($A1370,'Result Entry'!$B$9:$DX$108,101,0))","v":500},null,{"$f":"IF(OR($I1375=\"\",$I1375=\"NSO\"),\"\",VLOOKUP($A1370,'Result Entry'!$B$9:$DX$108,102,0))","v":0},null,{"$f":"IF(OR($I1375=\"\",$I1375=\"NSO\"),\"\",VLOOKUP($A1370,'Result Entry'!$B$9:$DX$108,103,0))","v":{"v":0,"d":"0.00"}},{"$f":"IF(OR($I1375=\"\",$I1375=\"NSO\"),\"\",VLOOKUP($A1370,'Result Entry'!$B$9:$DX$108,104,0))","v":""},{"$f":"IF(OR($I1375=\"\",$I1375=\"NSO\"),\"\",VLOOKUP($A1370,'Result Entry'!$B$9:$DX$108,105,0))","v":""},{"$f":"IF(OR($I1375=\"\",$I1375=\"NSO\"),\"\",VLOOKUP($A1370,'Result Entry'!$B$9:$DX$108,107,0))","v":""}]
[null,"◐",{"$nulls":6},"Total Meetings :-",null,{"$f":"IF(OR($I1375=\"\",$I1375=\"NSO\"),\"\",VLOOKUP($A1370,'Result Entry'!$B$9:$DX$108,98,0))","v":0},"Attedance %"]
[null,"◐","Extra Subjects",{"$nulls":5},"Student's Meetings :-",null,{"$f":"IF(OR($I1375=\"\",$I1375=\"NSO\"),\"\",VLOOKUP($A1370,'Result Entry'!$B$9:$DX$108,99,0))","v":0},{"$f":"IF(OR($I1375=\"\",$I1375=\"NSO\"),\"\",VLOOKUP($A1370,'Result Entry'!$B$9:$DX$108,100,0))","v":""}]
[null,"◐","Subject",null,null,"Total Marks",null,"GRADE","Remark :-",null,{"$f":"IF(OR($I1375=\"\",$I1375=\"NSO\"),\"\",VLOOKUP($A1370,'Result Entry'!$B$9:$DX$108,108,0))","v":0}]
[null,"◐",{"$nulls":6},"Result Date :-",null,{"$f":"'Result Entry'!$T$2","v":"2023-05-24"}]
[null,"◐",{"$f":"'Result Entry'!$BW$3","v":"WORK EXP."},null,null,{"$f":"IF(OR(C1396=\"\",$I1375=\"NSO\"),\"\",VLOOKUP($A1370,'Result Entry'!$B$9:$DX$108,119,0))","v":"0/50"},null,{"$f":"IF(OR(C1396=\"\",$I1375=\"NSO\"),\"\",VLOOKUP($A1370,'Result Entry'!$B$9:$DX$108,81,0))","v":""}]
[null,null,{"$f":"'Result Entry'!$CE$3","v":"ART EDU."},null,null,{"$f":"IF(OR(C1397=\"\",$I1375=\"NSO\"),\"\",VLOOKUP($A1370,'Result Entry'!$B$9:$DX$108,123,0))","v":"0/50"},null,{"$f":"IF(OR(C1397=\"\",$I1375=\"NSO\"),\"\",VLOOKUP($A1370,'Result Entry'!$B$9:$DX$108,89,0))","v":""}]
[null,"◐",{"$f":"'Result Entry'!$CM$3","v":"H&P. EDU."},null,null,{"$f":"IF(OR(C1398=\"\",$I1375=\"NSO\"),\"\",VLOOKUP($A1370,'Result Entry'!$B$9:$DX$108,127,0))","v":"0/100"},null,{"$f":"IF(OR(C1398=\"\",$I1375=\"NSO\"),\"\",VLOOKUP($A1370,'Result Entry'!$B$9:$DX$108,97,0))","v":""},"Signature Of The Class Teacher"]
[null,"◐","Grading System"]
[null,"◐","Grd.","% Range",null,"Description"]
[null,"◐","A","86-100",null,"Excellent",null,null,"Signature And Seal Of Principal/H.M."]
[null,"◐","B","71-85",null,"Very Good"]
[null,"◐","C","51-70",null,"Good"]
[null,"◐","D","31-50",null,"Average"]
[null,"◐","E","0-30",null,"Needs Improvement",null,null,"Wish bright future"]
[]
[]
[{"$f":"A1370+1","v":38},"Department Of Education, Rajasthan"]
[null,{"$f":"IF(I1413>0,CONCATENATE(C1413,I1413),0)","v":0},null,{"$f":"Master!$E$8","v":"Govt.Sr.Sec.Sch. "}]
[{"$nulls":3},{"$f":"Master!$E$11","v":"P.S.-Bapini (Jodhpur)"}]
[null,null,"Report Card",{"$nulls":6},"U-DISE Code:-",null,{"$f":"Master!$E$14","v":{"v":810000000,"d":"0810000000"}}]
[{"$nulls":9},"Session:-",null,{"$f":"Master!$E$6","v":"2022-23"}]
[null,null,"Roll No.:-",{"$nulls":5},{"$f":"VLOOKUP($A1408,'Result Entry'!$B$9:$F$108,5,0)","v":0}]
[null,"◐","Scholar Number",{"$nulls":3},"↠",{"$f":"VLOOKUP($A1408,'Result Entry'!$B$9:$DX$108,3,0)","v":0}]
[null,"◐","Student's Name",{"$nulls":3},"↠",{"$f":"VLOOKUP($A1408,'Result Entry'!$B$9:$DX$108,6,0)","v":0}]
[null,"◐","Father's Name",{"$nulls":3},"↠",{"$f":"VLOOKUP($A1408,'Result Entry'!$B$9:$DX$108,7,0)","v":0}]
[null,"◐","Mother's Name ",{"$nulls":3},"↠",{"$f":"VLOOKUP($A1408,'Result Entry'!$B$9:$DX$108,8,0)","v":0}]
[null,"◐","Class & Section",{"$nulls":3},"↠",{"$f":"CONCATENATE('Result Entry'!$F$4,'Result Entry'!$I$4)","v":"2(A)"}]
[null,"◐","Date Of Birth",{"$nulls":3},"↠",{"$f":"VLOOKUP($A1408,'Result Entry'!$B$9:$DX$108,9,0)","v":"00:00:00"}]
[null,"◐","Subject",{"$nulls":4},"Half Yearly","Total (T+H.Y.)","Yearly","Grand Total",null,"Subject Grade"]
[null,"◐","Max. Marks",{"$nulls":4},{"$f":"'Result Entry'!$Q$7","v":100},{"$f":"G1421+H1421","v":100},{"$f":"'Result Entry'!$U$7","v":100},{"$f":"I1421+J1421","v":200},null,"A/B/C/D/E"]
[null,"◐",{"$f":"'Result Entry'!$K$3","v":"Hindi"},{"$nulls":4},{"$f":"IF(OR(C1422=\"\",$I1413=\"NSO\"),\"\",VLOOKUP($A1408,'Result Entry'!$B$9:$DX$108,16,0))","v":0},{"$f":"SUM(G1422,H1422)","v":0},{"$f":"IF(OR(C1422=\"\",$I1413=\"NSO\"),\"\",VLOOKUP($A1408,'Result Entry'!$B$9:$DX$108,20,0))","v":0},{"$f":"SUM(I1422,J1422)","v":0},null,{"$f":"IF(OR(C1422=\"\",$I1413=\"NSO\"),\"\",VLOOKUP($A1408,'Result Entry'!$B$9:$DX$108,23,0))","v":""}]
[null,"◐",{"$f":"'Result Entry'!$Y$3","v":"Mathematics"},{"$nulls":4},{"$f":"IF(OR(C1423=\"\",$I1413=\"NSO\"),\"\",VLOOKUP($A1408,'Result Entry'!$B$9:$DX$108,30,0))","v":0},{"$f":"SUM(G1423,H1423)","v":0},{"$f":"IF(OR(C1423=\"\",$I1413=\"NSO\"),\"\",VLOOKUP($A1408,'Result Entry'!$B$9:$DX$108,34,0))","v":0},{"$f":"SUM(I1423,J1423)","v":0},null,{"$f":"IF(OR(C1423=\"\",$I1413=\"NSO\"),\"\",VLOOKUP($A1408,'Result Entry'!$B$9:$DX$108,37,0))","v":""}]
[null,"◐",{"$f":"'Result Entry'!$BO$3","v":"Env. Study"},{"$nulls":4},{"$f":"IF(OR(C1424=\"\",$I1413=\"NSO\"),\"\",VLOOKUP($A1408,'Result Entry'!$B$9:$DX$108,66,0))","v":0},0,{"$f":"IF(OR(C1424=\"\",$I1413=\"NSO\"),\"\",VLOOKUP($A1408,'Result Entry'!$B$9:$DX$108,67,0))","v":0},0,null,{"$f":"IF(OR(C1424=\"\",$I1413=\"NSO\"),\"\",VLOOKUP($A1408,'Result Entry'!$B$9:$DX$108,73,0))","v":""}]
[null,"◐","Max. Marks",{"$nulls":4},{"$f":"'Result Entry'!$AS$7","v":50},50,{"$f":"'Result Entry'!$AW$7","v":50},100,null,"A/B/C/D/E"]
[null,"◐",{"$f":"'Result Entry'!$AM$3","v":"English"},{"$nulls":4},{"$f":"IF(OR(C1426=\"\",$I1413=\"NSO\"),\"\",VLOOKUP($A1408,'Result Entry'!$B$9:$DX$108,44,0))","v":0},0,{"$f":"IF(OR(C1426=\"\",$I1413=\"NSO\"),\"\",VLOOKUP($A1408,'Result Entry'!$B$9:$DX$108,48,0))","v":0},0,null,{"$f":"IF(OR(C1426=\"\",$I1413=\"NSO\"),\"\",VLOOKUP($A1408,'Result Entry'!$B$9:$DX$108,51,0))","v":""}]
[null,"◐"]
[null,"◐","Overall Result",null,null,"Total Max. Marks",null,"Total Obtained Marks",null,"Percentage","Overall Grade","Result","Position in Class"]
[null,"◐",{"$nulls":3},{"$f":"IF(OR($I1413=\"\",$I1413=\"NSO\"),\"\",VLOOKUP($A1408,'Result Entry'!$B$9:$DX$108,101,0))","v":500},null,{"$f":"IF(OR($I1413=\"\",$I1413=\"NSO\"),\"\",VLOOKUP($A1408,'Result Entry'!$B$9:$DX$108,102,0))","v":0},null,{"$f":"IF(OR($I1413=\"\",$I1413=\"NSO\"),\"\",VLOOKUP($A1408,'Result Entry'!$B$9:$DX$108,103,0))","v":{"v":0,"d":"0.00"}},{"$f":"IF(OR($I1413=\"\",$I1413=\"NSO\"),\"\",VLOOKUP($A1408,'Result Entry'!$B$9:$DX$108,104,0))","v":""},{"$f":"IF(OR($I1413=\"\",$I1413=\"NSO\"),\"\",VLOOKUP($A1408,'Result Entry'!$B$9:$DX$108,105,0))","v":""},{"$f":"IF(OR($I1413=\"\",$I1413=\"NSO\"),\"\",VLOOKUP($A1408,'Result Entry'!$B$9:$DX$108,107,0))","v":""}]
[null,"◐",{"$nulls":6},"Total Meetings :-",null,{"$f":"IF(OR($I1413=\"\",$I1413=\"NSO\"),\"\",VLOOKUP($A1408,'Result Entry'!$B$9:$DX$108,98,0))","v":0},"Attedance %"]
[null,"◐","Extra Subjects",{"$nulls":5},"Student's Meetings :-",null,{"$f":"IF(OR($I1413=\"\",$I1413=\"NSO\"),\"\",VLOOKUP($A1408,'Result Entry'!$B$9:$DX$108,99,0))","v":0},{"$f":"IF(OR($I1413=\"\",$I1413=\"NSO\"),\"\",VLOOKUP($A1408,'Result Entry'!$B$9:$DX$108,100,0))","v":""}]
[null,"◐","Subject",null,null,"Total Marks",null,"GRADE","Remark :-",null,{"$f":"IF(OR($I1413=\"\",$I1413=\"NSO\"),\"\",VLOOKUP($A1408,'Result Entry'!$B$9:$DX$108,108,0))","v":0}]
[null,"◐",{"$nulls":6},"Result Date :-",null,{"$f":"'Result Entry'!$T$2","v":"2023-05-24"}]
[null,"◐",{"$f":"'Result Entry'!$BW$3","v":"WORK EXP."},null,null,{"$f":"IF(OR(C1434=\"\",$I1413=\"NSO\"),\"\",VLOOKUP($A1408,'Result Entry'!$B$9:$DX$108,119,0))","v":"0/50"},null,{"$f":"IF(OR(C1434=\"\",$I1413=\"NSO\"),\"\",VLOOKUP($A1408,'Result Entry'!$B$9:$DX$108,81,0))","v":""}]
[null,null,{"$f":"'Result Entry'!$CE$3","v":"ART EDU."},null,null,{"$f":"IF(OR(C1435=\"\",$I1413=\"NSO\"),\"\",VLOOKUP($A1408,'Result Entry'!$B$9:$DX$108,123,0))","v":"0/50"},null,{"$f":"IF(OR(C1435=\"\",$I1413=\"NSO\"),\"\",VLOOKUP($A1408,'Result Entry'!$B$9:$DX$108,89,0))","v":""}]
[null,"◐",{"$f":"'Result Entry'!$CM$3","v":"H&P. EDU."},null,null,{"$f":"IF(OR(C1436=\"\",$I1413=\"NSO\"),\"\",VLOOKUP($A1408,'Result Entry'!$B$9:$DX$108,127,0))","v":"0/100"},null,{"$f":"IF(OR(C1436=\"\",$I1413=\"NSO\"),\"\",VLOOKUP($A1408,'Result Entry'!$B$9:$DX$108,97,0))","v":""},"Signature Of The Class Teacher"]
[null,"◐","Grading System"]
[null,"◐","Grd.","% Range",null,"Description"]
[null,"◐","A","86-100",null,"Excellent",null,null,"Signature And Seal Of Principal/H.M."]
[null,"◐","B","71-85",null,"Very Good"]
[null,"◐","C","51-70",null,"Good"]
[null,"◐","D","31-50",null,"Average"]
[null,"◐","E","0-30",null,"Needs Improvement",null,null,"Wish bright future"]
[]
[]
[{"$f":"A1408+1","v":39},"Department Of Education, Rajasthan"]
[null,{"$f":"IF(I1451>0,CONCATENATE(C1451,I1451),0)","v":0},null,{"$f":"Master!$E$8","v":"Govt.Sr.Sec.Sch. "}]
[{"$nulls":3},{"$f":"Master!$E$11","v":"P.S.-Bapini (Jodhpur)"}]
[null,null,"Report Card",{"$nulls":6},"U-DISE Code:-",null,{"$f":"Master!$E$14","v":{"v":810000000,"d":"0810000000"}}]
[{"$nulls":9},"Session:-",null,{"$f":"Master!$E$6","v":"2022-23"}]
[null,null,"Roll No.:-",{"$nulls":5},{"$f":"VLOOKUP($A1446,'Result Entry'!$B$9:$F$108,5,0)","v":0}]
[null,"◐","Scholar Number",{"$nulls":3},"↠",{"$f":"VLOOKUP($A1446,'Result Entry'!$B$9:$DX$108,3,0)","v":0}]
[null,"◐","Student's Name",{"$nulls":3},"↠",{"$f":"VLOOKUP($A1446,'Result Entry'!$B$9:$DX$108,6,0)","v":0}]
[null,"◐","Father's Name",{"$nulls":3},"↠",{"$f":"VLOOKUP($A1446,'Result Entry'!$B$9:$DX$108,7,0)","v":0}]
[null,"◐","Mother's Name ",{"$nulls":3},"↠",{"$f":"VLOOKUP($A1446,'Result Entry'!$B$9:$DX$108,8,0)","v":0}]
[null,"◐","Class & Section",{"$nulls":3},"↠",{"$f":"CONCATENATE('Result Entry'!$F$4,'Result Entry'!$I$4)","v":"2(A)"}]
[null,"◐","Date Of Birth",{"$nulls":3},"↠",{"$f":"VLOOKUP($A1446,'Result Entry'!$B$9:$DX$108,9,0)","v":"00:00:00"}]
[null,"◐","Subject",{"$nulls":4},"Half Yearly","Total (T+H.Y.)","Yearly","Grand Total",null,"Subject Grade"]
[null,"◐","Max. Marks",{"$nulls":4},{"$f":"'Result Entry'!$Q$7","v":100},{"$f":"G1459+H1459","v":100},{"$f":"'Result Entry'!$U$7","v":100},{"$f":"I1459+J1459","v":200},null,"A/B/C/D/E"]
[null,"◐",{"$f":"'Result Entry'!$K$3","v":"Hindi"},{"$nulls":4},{"$f":"IF(OR(C1460=\"\",$I1451=\"NSO\"),\"\",VLOOKUP($A1446,'Result Entry'!$B$9:$DX$108,16,0))","v":0},{"$f":"SUM(G1460,H1460)","v":0},{"$f":"IF(OR(C1460=\"\",$I1451=\"NSO\"),\"\",VLOOKUP($A1446,'Result Entry'!$B$9:$DX$108,20,0))","v":0},{"$f":"SUM(I1460,J1460)","v":0},null,{"$f":"IF(OR(C1460=\"\",$I1451=\"NSO\"),\"\",VLOOKUP($A1446,'Result Entry'!$B$9:$DX$108,23,0))","v":""}]
[null,"◐",{"$f":"'Result Entry'!$Y$3","v":"Mathematics"},{"$nulls":4},{"$f":"IF(OR(C1461=\"\",$I1451=\"NSO\"),\"\",VLOOKUP($A1446,'Result Entry'!$B$9:$DX$108,30,0))","v":0},{"$f":"SUM(G1461,H1461)","v":0},{"$f":"IF(OR(C1461=\"\",$I1451=\"NSO\"),\"\",VLOOKUP($A1446,'Result Entry'!$B$9:$DX$108,34,0))","v":0},{"$f":"SUM(I1461,J1461)","v":0},null,{"$f":"IF(OR(C1461=\"\",$I1451=\"NSO\"),\"\",VLOOKUP($A1446,'Result Entry'!$B$9:$DX$108,37,0))","v":""}]
[null,"◐",{"$f":"'Result Entry'!$BO$3","v":"Env. Study"},{"$nulls":4},{"$f":"IF(OR(C1462=\"\",$I1451=\"NSO\"),\"\",VLOOKUP($A1446,'Result Entry'!$B$9:$DX$108,66,0))","v":0},0,{"$f":"IF(OR(C1462=\"\",$I1451=\"NSO\"),\"\",VLOOKUP($A1446,'Result Entry'!$B$9:$DX$108,67,0))","v":0},0,null,{"$f":"IF(OR(C1462=\"\",$I1451=\"NSO\"),\"\",VLOOKUP($A1446,'Result Entry'!$B$9:$DX$108,73,0))","v":""}]
[null,"◐","Max. Marks",{"$nulls":4},{"$f":"'Result Entry'!$AS$7","v":50},50,{"$f":"'Result Entry'!$AW$7","v":50},100,null,"A/B/C/D/E"]
[null,"◐",{"$f":"'Result Entry'!$AM$3","v":"English"},{"$nulls":4},{"$f":"IF(OR(C1464=\"\",$I1451=\"NSO\"),\"\",VLOOKUP($A1446,'Result Entry'!$B$9:$DX$108,44,0))","v":0},0,{"$f":"IF(OR(C1464=\"\",$I1451=\"NSO\"),\"\",VLOOKUP($A1446,'Result Entry'!$B$9:$DX$108,48,0))","v":0},0,null,{"$f":"IF(OR(C1464=\"\",$I1451=\"NSO\"),\"\",VLOOKUP($A1446,'Result Entry'!$B$9:$DX$108,51,0))","v":""}]
[null,"◐"]
[null,"◐","Overall Result",null,null,"Total Max. Marks",null,"Total Obtained Marks",null,"Percentage","Overall Grade","Result","Position in Class"]
[null,"◐",{"$nulls":3},{"$f":"IF(OR($I1451=\"\",$I1451=\"NSO\"),\"\",VLOOKUP($A1446,'Result Entry'!$B$9:$DX$108,101,0))","v":500},null,{"$f":"IF(OR($I1451=\"\",$I1451=\"NSO\"),\"\",VLOOKUP($A1446,'Result Entry'!$B$9:$DX$108,102,0))","v":0},null,{"$f":"IF(OR($I1451=\"\",$I1451=\"NSO\"),\"\",VLOOKUP($A1446,'Result Entry'!$B$9:$DX$108,103,0))","v":{"v":0,"d":"0.00"}},{"$f":"IF(OR($I1451=\"\",$I1451=\"NSO\"),\"\",VLOOKUP($A1446,'Result Entry'!$B$9:$DX$108,104,0))","v":""},{"$f":"IF(OR($I1451=\"\",$I1451=\"NSO\"),\"\",VLOOKUP($A1446,'Result Entry'!$B$9:$DX$108,105,0))","v":""},{"$f":"IF(OR($I1451=\"\",$I1451=\"NSO\"),\"\",VLOOKUP($A1446,'Result Entry'!$B$9:$DX$108,107,0))","v":""}]
[null,"◐",{"$nulls":6},"Total Meetings :-",null,{"$f":"IF(OR($I1451=\"\",$I1451=\"NSO\"),\"\",VLOOKUP($A1446,'Result Entry'!$B$9:$DX$108,98,0))","v":0},"Attedance %"]
[null,"◐","Extra Subjects",{"$nulls":5},"Student's Meetings :-",null,{"$f":"IF(OR($I1451=\"\",$I1451=\"NSO\"),\"\",VLOOKUP($A1446,'Result Entry'!$B$9:$DX$108,99,0))","v":0},{"$f":"IF(OR($I1451=\"\",$I1451=\"NSO\"),\"\",VLOOKUP($A1446,'Result Entry'!$B$9:$DX$108,100,0))","v":""}]
[null,"◐","Subject",null,null,"Total Marks",null,"GRADE","Remark :-",null,{"$f":"IF(OR($I1451=\"\",$I1451=\"NSO\"),\"\",VLOOKUP($A1446,'Result Entry'!$B$9:$DX$108,108,0))","v":0}]
[null,"◐",{"$nulls":6},"Result Date :-",null,{"$f":"'Result Entry'!$T$2","v":"2023-05-24"}]
[null,"◐",{"$f":"'Result Entry'!$BW$3","v":"WORK EXP."},null,null,{"$f":"IF(OR(C1472=\"\",$I1451=\"NSO\"),\"\",VLOOKUP($A1446,'Result Entry'!$B$9:$DX$108,119,0))","v":"0/50"},null,{"$f":"IF(OR(C1472=\"\",$I1451=\"NSO\"),\"\",VLOOKUP($A1446,'Result Entry'!$B$9:$DX$108,81,0))","v":""}]
[null,null,{"$f":"'Result Entry'!$CE$3","v":"ART EDU."},null,null,{"$f":"IF(OR(C1473=\"\",$I1451=\"NSO\"),\"\",VLOOKUP($A1446,'Result Entry'!$B$9:$DX$108,123,0))","v":"0/50"},null,{"$f":"IF(OR(C1473=\"\",$I1451=\"NSO\"),\"\",VLOOKUP($A1446,'Result Entry'!$B$9:$DX$108,89,0))","v":""}]
[null,"◐",{"$f":"'Result Entry'!$CM$3","v":"H&P. EDU."},null,null,{"$f":"IF(OR(C1474=\"\",$I1451=\"NSO\"),\"\",VLOOKUP($A1446,'Result Entry'!$B$9:$DX$108,127,0))","v":"0/100"},null,{"$f":"IF(OR(C1474=\"\",$I1451=\"NSO\"),\"\",VLOOKUP($A1446,'Result Entry'!$B$9:$DX$108,97,0))","v":""},"Signature Of The Class Teacher"]
[null,"◐","Grading System"]
[null,"◐","Grd.","% Range",null,"Description"]
[null,"◐","A","86-100",null,"Excellent",null,null,"Signature And Seal Of Principal/H.M."]
[null,"◐","B","71-85",null,"Very Good"]
[null,"◐","C","51-70",null,"Good"]
[null,"◐","D","31-50",null,"Average"]
[null,"◐","E","0-30",null,"Needs Improvement",null,null,"Wish bright future"]
[]
[]
[{"$f":"A1446+1","v":40},"Department Of Education, Rajasthan"]
[null,{"$f":"IF(I1489>0,CONCATENATE(C1489,I1489),0)","v":0},null,{"$f":"Master!$E$8","v":"Govt.Sr.Sec.Sch. "}]
[{"$nulls":3},{"$f":"Master!$E$11","v":"P.S.-Bapini (Jodhpur)"}]
[null,null,"Report Card",{"$nulls":6},"U-DISE Code:-",null,{"$f":"Master!$E$14","v":{"v":810000000,"d":"0810000000"}}]
[{"$nulls":9},"Session:-",null,{"$f":"Master!$E$6","v":"2022-23"}]
[null,null,"Roll No.:-",{"$nulls":5},{"$f":"VLOOKUP($A1484,'Result Entry'!$B$9:$F$108,5,0)","v":0}]
[null,"◐","Scholar Number",{"$nulls":3},"↠",{"$f":"VLOOKUP($A1484,'Result Entry'!$B$9:$DX$108,3,0)","v":0}]
[null,"◐","Student's Name",{"$nulls":3},"↠",{"$f":"VLOOKUP($A1484,'Result Entry'!$B$9:$DX$108,6,0)","v":0}]
[null,"◐","Father's Name",{"$nulls":3},"↠",{"$f":"VLOOKUP($A1484,'Result Entry'!$B$9:$DX$108,7,0)","v":0}]
[null,"◐","Mother's Name ",{"$nulls":3},"↠",{"$f":"VLOOKUP($A1484,'Result Entry'!$B$9:$DX$108,8,0)","v":0}]
[null,"◐","Class & Section",{"$nulls":3},"↠",{"$f":"CONCATENATE('Result Entry'!$F$4,'Result Entry'!$I$4)","v":"2(A)"}]
[null,"◐","Date Of Birth",{"$nulls":3},"↠",{"$f":"VLOOKUP($A1484,'Result Entry'!$B$9:$DX$108,9,0)","v":"00:00:00"}]
[null,"◐","Subject",{"$nulls":4},"Half Yearly","Total (T+H.Y.)","Yearly","Grand Total",null,"Subject Grade"]
[null,"◐","Max. Marks",{"$nulls":4},{"$f":"'Result Entry'!$Q$7","v":100},{"$f":"G1497+H1497","v":100},{"$f":"'Result Entry'!$U$7","v":100},{"$f":"I1497+J1497","v":200},null,"A/B/C/D/E"]
[null,"◐",{"$f":"'Result Entry'!$K$3","v":"Hindi"},{"$nulls":4},{"$f":"IF(OR(C1498=\"\",$I1489=\"NSO\"),\"\",VLOOKUP($A1484,'Result Entry'!$B$9:$DX$108,16,0))","v":0},{"$f":"SUM(G1498,H1498)","v":0},{"$f":"IF(OR(C1498=\"\",$I1489=\"NSO\"),\"\",VLOOKUP($A1484,'Result Entry'!$B$9:$DX$108,20,0))","v":0},{"$f":"SUM(I1498,J1498)","v":0},null,{"$f":"IF(OR(C1498=\"\",$I1489=\"NSO\"),\"\",VLOOKUP($A1484,'Result Entry'!$B$9:$DX$108,23,0))","v":""}]
[null,"◐",{"$f":"'Result Entry'!$Y$3","v":"Mathematics"},{"$nulls":4},{"$f":"IF(OR(C1499=\"\",$I1489=\"NSO\"),\"\",VLOOKUP($A1484,'Result Entry'!$B$9:$DX$108,30,0))","v":0},{"$f":"SUM(G1499,H1499)","v":0},{"$f":"IF(OR(C1499=\"\",$I1489=\"NSO\"),\"\",VLOOKUP($A1484,'Result Entry'!$B$9:$DX$108,34,0))","v":0},{"$f":"SUM(I1499,J1499)","v":0},null,{"$f":"IF(OR(C1499=\"\",$I1489=\"NSO\"),\"\",VLOOKUP($A1484,'Result Entry'!$B$9:$DX$108,37,0))","v":""}]
[null,"◐",{"$f":"'Result Entry'!$BO$3","v":"Env. Study"},{"$nulls":4},{"$f":"IF(OR(C1500=\"\",$I1489=\"NSO\"),\"\",VLOOKUP($A1484,'Result Entry'!$B$9:$DX$108,66,0))","v":0},0,{"$f":"IF(OR(C1500=\"\",$I1489=\"NSO\"),\"\",VLOOKUP($A1484,'Result Entry'!$B$9:$DX$108,67,0))","v":0},0,null,{"$f":"IF(OR(C1500=\"\",$I1489=\"NSO\"),\"\",VLOOKUP($A1484,'Result Entry'!$B$9:$DX$108,73,0))","v":""}]
[null,"◐","Max. Marks",{"$nulls":4},{"$f":"'Result Entry'!$AS$7","v":50},50,{"$f":"'Result Entry'!$AW$7","v":50},100,null,"A/B/C/D/E"]
[null,"◐",{"$f":"'Result Entry'!$AM$3","v":"English"},{"$nulls":4},{"$f":"IF(OR(C1502=\"\",$I1489=\"NSO\"),\"\",VLOOKUP($A1484,'Result Entry'!$B$9:$DX$108,44,0))","v":0},0,{"$f":"IF(OR(C1502=\"\",$I1489=\"NSO\"),\"\",VLOOKUP($A1484,'Result Entry'!$B$9:$DX$108,48,0))","v":0},0,null,{"$f":"IF(OR(C1502=\"\",$I1489=\"NSO\"),\"\",VLOOKUP($A1484,'Result Entry'!$B$9:$DX$108,51,0))","v":""}]
[null,"◐"]
[null,"◐","Overall Result",null,null,"Total Max. Marks",null,"Total Obtained Marks",null,"Percentage","Overall Grade","Result","Position in Class"]
[null,"◐",{"$nulls":3},{"$f":"IF(OR($I1489=\"\",$I1489=\"NSO\"),\"\",VLOOKUP($A1484,'Result Entry'!$B$9:$DX$108,101,0))","v":500},null,{"$f":"IF(OR($I1489=\"\",$I1489=\"NSO\"),\"\",VLOOKUP($A1484,'Result Entry'!$B$9:$DX$108,102,0))","v":0},null,{"$f":"IF(OR($I1489=\"\",$I1489=\"NSO\"),\"\",VLOOKUP($A1484,'Result Entry'!$B$9:$DX$108,103,0))","v":{"v":0,"d":"0.00"}},{"$f":"IF(OR($I1489=\"\",$I1489=\"NSO\"),\"\",VLOOKUP($A1484,'Result Entry'!$B$9:$DX$108,104,0))","v":""},{"$f":"IF(OR($I1489=\"\",$I1489=\"NSO\"),\"\",VLOOKUP($A1484,'Result Entry'!$B$9:$DX$108,105,0))","v":""},{"$f":"IF(OR($I1489=\"\",$I1489=\"NSO\"),\"\",VLOOKUP($A1484,'Result Entry'!$B$9:$DX$108,107,0))","v":""}]
[null,"◐",{"$nulls":6},"Total Meetings :-",null,{"$f":"IF(OR($I1489=\"\",$I1489=\"NSO\"),\"\",VLOOKUP($A1484,'Result Entry'!$B$9:$DX$108,98,0))","v":0},"Attedance %"]
[null,"◐","Extra Subjects",{"$nulls":5},"Student's Meetings :-",null,{"$f":"IF(OR($I1489=\"\",$I1489=\"NSO\"),\"\",VLOOKUP($A1484,'Result Entry'!$B$9:$DX$108,99,0))","v":0},{"$f":"IF(OR($I1489=\"\",$I1489=\"NSO\"),\"\",VLOOKUP($A1484,'Result Entry'!$B$9:$DX$108,100,0))","v":""}]
[null,"◐","Subject",null,null,"Total Marks",null,"GRADE","Remark :-",null,{"$f":"IF(OR($I1489=\"\",$I1489=\"NSO\"),\"\",VLOOKUP($A1484,'Result Entry'!$B$9:$DX$108,108,0))","v":0}]
[null,"◐",{"$nulls":6},"Result Date :-",null,{"$f":"'Result Entry'!$T$2","v":"2023-05-24"}]
[null,"◐",{"$f":"'Result Entry'!$BW$3","v":"WORK EXP."},null,null,{"$f":"IF(OR(C1510=\"\",$I1489=\"NSO\"),\"\",VLOOKUP($A1484,'Result Entry'!$B$9:$DX$108,119,0))","v":"0/50"},null,{"$f":"IF(OR(C1510=\"\",$I1489=\"NSO\"),\"\",VLOOKUP($A1484,'Result Entry'!$B$9:$DX$108,81,0))","v":""}]
[null,null,{"$f":"'Result Entry'!$CE$3","v":"ART EDU."},null,null,{"$f":"IF(OR(C1511=\"\",$I1489=\"NSO\"),\"\",VLOOKUP($A1484,'Result Entry'!$B$9:$DX$108,123,0))","v":"0/50"},null,{"$f":"IF(OR(C1511=\"\",$I1489=\"NSO\"),\"\",VLOOKUP($A1484,'Result Entry'!$B$9:$DX$108,89,0))","v":""}]
[null,"◐",{"$f":"'Result Entry'!$CM$3","v":"H&P. EDU."},null,null,{"$f":"IF(OR(C1512=\"\",$I1489=\"NSO\"),\"\",VLOOKUP($A1484,'Result Entry'!$B$9:$DX$108,127,0))","v":"0/100"},null,{"$f":"IF(OR(C1512=\"\",$I1489=\"NSO\"),\"\",VLOOKUP($A1484,'Result Entry'!$B$9:$DX$108,97,0))","v":""},"Signature Of The Class Teacher"]
[null,"◐","Grading System"]
[null,"◐","Grd.","% Range",null,"Description"]
[null,"◐","A","86-100",null,"Excellent",null,null,"Signature And Seal Of Principal/H.M."]
[null,"◐","B","71-85",null,"Very Good"]
[null,"◐","C","51-70",null,"Good"]
[null,"◐","D","31-50",null,"Average"]
[null,"◐","E","0-30",null,"Needs Improvement",null,null,"Wish bright future"]
[]
[]
[{"$f":"A1484+1","v":41},"Department Of Education, Rajasthan"]
[null,{"$f":"IF(I1527>0,CONCATENATE(C1527,I1527),0)","v":0},null,{"$f":"Master!$E$8","v":"Govt.Sr.Sec.Sch. "}]
[{"$nulls":3},{"$f":"Master!$E$11","v":"P.S.-Bapini (Jodhpur)"}]
[null,null,"Report Card",{"$nulls":6},"U-DISE Code:-",null,{"$f":"Master!$E$14","v":{"v":810000000,"d":"0810000000"}}]
[{"$nulls":9},"Session:-",null,{"$f":"Master!$E$6","v":"2022-23"}]
[null,null,"Roll No.:-",{"$nulls":5},{"$f":"VLOOKUP($A1522,'Result Entry'!$B$9:$F$108,5,0)","v":0}]
[null,"◐","Scholar Number",{"$nulls":3},"↠",{"$f":"VLOOKUP($A1522,'Result Entry'!$B$9:$DX$108,3,0)","v":0}]
[null,"◐","Student's Name",{"$nulls":3},"↠",{"$f":"VLOOKUP($A1522,'Result Entry'!$B$9:$DX$108,6,0)","v":0}]
[null,"◐","Father's Name",{"$nulls":3},"↠",{"$f":"VLOOKUP($A1522,'Result Entry'!$B$9:$DX$108,7,0)","v":0}]
[null,"◐","Mother's Name ",{"$nulls":3},"↠",{"$f":"VLOOKUP($A1522,'Result Entry'!$B$9:$DX$108,8,0)","v":0}]
[null,"◐","Class & Section",{"$nulls":3},"↠",{"$f":"CONCATENATE('Result Entry'!$F$4,'Result Entry'!$I$4)","v":"2(A)"}]
[null,"◐","Date Of Birth",{"$nulls":3},"↠",{"$f":"VLOOKUP($A1522,'Result Entry'!$B$9:$DX$108,9,0)","v":"00:00:00"}]
[null,"◐","Subject",{"$nulls":4},"Half Yearly","Total (T+H.Y.)","Yearly","Grand Total",null,"Subject Grade"]
[null,"◐","Max. Marks",{"$nulls":4},{"$f":"'Result Entry'!$Q$7","v":100},{"$f":"G1535+H1535","v":100},{"$f":"'Result Entry'!$U$7","v":100},{"$f":"I1535+J1535","v":200},null,"A/B/C/D/E"]
[null,"◐",{"$f":"'Result Entry'!$K$3","v":"Hindi"},{"$nulls":4},{"$f":"IF(OR(C1536=\"\",$I1527=\"NSO\"),\"\",VLOOKUP($A1522,'Result Entry'!$B$9:$DX$108,16,0))","v":0},{"$f":"SUM(G1536,H1536)","v":0},{"$f":"IF(OR(C1536=\"\",$I1527=\"NSO\"),\"\",VLOOKUP($A1522,'Result Entry'!$B$9:$DX$108,20,0))","v":0},{"$f":"SUM(I1536,J1536)","v":0},null,{"$f":"IF(OR(C1536=\"\",$I1527=\"NSO\"),\"\",VLOOKUP($A1522,'Result Entry'!$B$9:$DX$108,23,0))","v":""}]
[null,"◐",{"$f":"'Result Entry'!$Y$3","v":"Mathematics"},{"$nulls":4},{"$f":"IF(OR(C1537=\"\",$I1527=\"NSO\"),\"\",VLOOKUP($A1522,'Result Entry'!$B$9:$DX$108,30,0))","v":0},{"$f":"SUM(G1537,H1537)","v":0},{"$f":"IF(OR(C1537=\"\",$I1527=\"NSO\"),\"\",VLOOKUP($A1522,'Result Entry'!$B$9:$DX$108,34,0))","v":0},{"$f":"SUM(I1537,J1537)","v":0},null,{"$f":"IF(OR(C1537=\"\",$I1527=\"NSO\"),\"\",VLOOKUP($A1522,'Result Entry'!$B$9:$DX$108,37,0))","v":""}]
[null,"◐",{"$f":"'Result Entry'!$BO$3","v":"Env. Study"},{"$nulls":4},{"$f":"IF(OR(C1538=\"\",$I1527=\"NSO\"),\"\",VLOOKUP($A1522,'Result Entry'!$B$9:$DX$108,66,0))","v":0},0,{"$f":"IF(OR(C1538=\"\",$I1527=\"NSO\"),\"\",VLOOKUP($A1522,'Result Entry'!$B$9:$DX$108,67,0))","v":0},0,null,{"$f":"IF(OR(C1538=\"\",$I1527=\"NSO\"),\"\",VLOOKUP($A1522,'Result Entry'!$B$9:$DX$108,73,0))","v":""}]
[null,"◐","Max. Marks",{"$nulls":4},{"$f":"'Result Entry'!$AS$7","v":50},50,{"$f":"'Result Entry'!$AW$7","v":50},100,null,"A/B/C/D/E"]
[null,"◐",{"$f":"'Result Entry'!$AM$3","v":"English"},{"$nulls":4},{"$f":"IF(OR(C1540=\"\",$I1527=\"NSO\"),\"\",VLOOKUP($A1522,'Result Entry'!$B$9:$DX$108,44,0))","v":0},0,{"$f":"IF(OR(C1540=\"\",$I1527=\"NSO\"),\"\",VLOOKUP($A1522,'Result Entry'!$B$9:$DX$108,48,0))","v":0},0,null,{"$f":"IF(OR(C1540=\"\",$I1527=\"NSO\"),\"\",VLOOKUP($A1522,'Result Entry'!$B$9:$DX$108,51,0))","v":""}]
[null,"◐"]
[null,"◐","Overall Result",null,null,"Total Max. Marks",null,"Total Obtained Marks",null,"Percentage","Overall Grade","Result","Position in Class"]
[null,"◐",{"$nulls":3},{"$f":"IF(OR($I1527=\"\",$I1527=\"NSO\"),\"\",VLOOKUP($A1522,'Result Entry'!$B$9:$DX$108,101,0))","v":500},null,{"$f":"IF(OR($I1527=\"\",$I1527=\"NSO\"),\"\",VLOOKUP($A1522,'Result Entry'!$B$9:$DX$108,102,0))","v":0},null,{"$f":"IF(OR($I1527=\"\",$I1527=\"NSO\"),\"\",VLOOKUP($A1522,'Result Entry'!$B$9:$DX$108,103,0))","v":{"v":0,"d":"0.00"}},{"$f":"IF(OR($I1527=\"\",$I1527=\"NSO\"),\"\",VLOOKUP($A1522,'Result Entry'!$B$9:$DX$108,104,0))","v":""},{"$f":"IF(OR($I1527=\"\",$I1527=\"NSO\"),\"\",VLOOKUP($A1522,'Result Entry'!$B$9:$DX$108,105,0))","v":""},{"$f":"IF(OR($I1527=\"\",$I1527=\"NSO\"),\"\",VLOOKUP($A1522,'Result Entry'!$B$9:$DX$108,107,0))","v":""}]
[null,"◐",{"$nulls":6},"Total Meetings :-",null,{"$f":"IF(OR($I1527=\"\",$I1527=\"NSO\"),\"\",VLOOKUP($A1522,'Result Entry'!$B$9:$DX$108,98,0))","v":0},"Attedance %"]
[null,"◐","Extra Subjects",{"$nulls":5},"Student's Meetings :-",null,{"$f":"IF(OR($I1527=\"\",$I1527=\"NSO\"),\"\",VLOOKUP($A1522,'Result Entry'!$B$9:$DX$108,99,0))","v":0},{"$f":"IF(OR($I1527=\"\",$I1527=\"NSO\"),\"\",VLOOKUP($A1522,'Result Entry'!$B$9:$DX$108,100,0))","v":""}]
[null,"◐","Subject",null,null,"Total Marks",null,"GRADE","Remark :-",null,{"$f":"IF(OR($I1527=\"\",$I1527=\"NSO\"),\"\",VLOOKUP($A1522,'Result Entry'!$B$9:$DX$108,108,0))","v":0}]
[null,"◐",{"$nulls":6},"Result Date :-",null,{"$f":"'Result Entry'!$T$2","v":"2023-05-24"}]
[null,"◐",{"$f":"'Result Entry'!$BW$3","v":"WORK EXP."},null,null,{"$f":"IF(OR(C1548=\"\",$I1527=\"NSO\"),\"\",VLOOKUP($A1522,'Result Entry'!$B$9:$DX$108,119,0))","v":"0/50"},null,{"$f":"IF(OR(C1548=\"\",$I1527=\"NSO\"),\"\",VLOOKUP($A1522,'Result Entry'!$B$9:$DX$108,81,0))","v":""}]
[null,null,{"$f":"'Result Entry'!$CE$3","v":"ART EDU."},null,null,{"$f":"IF(OR(C1549=\"\",$I1527=\"NSO\"),\"\",VLOOKUP($A1522,'Result Entry'!$B$9:$DX$108,123,0))","v":"0/50"},null,{"$f":"IF(OR(C1549=\"\",$I1527=\"NSO\"),\"\",VLOOKUP($A1522,'Result Entry'!$B$9:$DX$108,89,0))","v":""}]
[null,"◐",{"$f":"'Result Entry'!$CM$3","v":"H&P. EDU."},null,null,{"$f":"IF(OR(C1550=\"\",$I1527=\"NSO\"),\"\",VLOOKUP($A1522,'Result Entry'!$B$9:$DX$108,127,0))","v":"0/100"},null,{"$f":"IF(OR(C1550=\"\",$I1527=\"NSO\"),\"\",VLOOKUP($A1522,'Result Entry'!$B$9:$DX$108,97,0))","v":""},"Signature Of The Class Teacher"]
[null,"◐","Grading System"]
[null,"◐","Grd.","% Range",null,"Description"]
[null,"◐","A","86-100",null,"Excellent",null,null,"Signature And Seal Of Principal/H.M."]
[null,"◐","B","71-85",null,"Very Good"]
[null,"◐","C","51-70",null,"Good"]
[null,"◐","D","31-50",null,"Average"]
[null,"◐","E","0-30",null,"Needs Improvement",null,null,"Wish bright future"]
[]
[]
[{"$f":"A1522+1","v":42},"Department Of Education, Rajasthan"]
[null,{"$f":"IF(I1565>0,CONCATENATE(C1565,I1565),0)","v":0},null,{"$f":"Master!$E$8","v":"Govt.Sr.Sec.Sch. "}]
[{"$nulls":3},{"$f":"Master!$E$11","v":"P.S.-Bapini (Jodhpur)"}]
[null,null,"Report Card",{"$nulls":6},"U-DISE Code:-",null,{"$f":"Master!$E$14","v":{"v":810000000,"d":"0810000000"}}]
[{"$nulls":9},"Session:-",null,{"$f":"Master!$E$6","v":"2022-23"}]
[null,null,"Roll No.:-",{"$nulls":5},{"$f":"VLOOKUP($A1560,'Result Entry'!$B$9:$F$108,5,0)","v":0}]
[null,"◐","Scholar Number",{"$nulls":3},"↠",{"$f":"VLOOKUP($A1560,'Result Entry'!$B$9:$DX$108,3,0)","v":0}]
[null,"◐","Student's Name",{"$nulls":3},"↠",{"$f":"VLOOKUP($A1560,'Result Entry'!$B$9:$DX$108,6,0)","v":0}]
[null,"◐","Father's Name",{"$nulls":3},"↠",{"$f":"VLOOKUP($A1560,'Result Entry'!$B$9:$DX$108,7,0)","v":0}]
[null,"◐","Mother's Name ",{"$nulls":3},"↠",{"$f":"VLOOKUP($A1560,'Result Entry'!$B$9:$DX$108,8,0)","v":0}]
[null,"◐","Class & Section",{"$nulls":3},"↠",{"$f":"CONCATENATE('Result Entry'!$F$4,'Result Entry'!$I$4)","v":"2(A)"}]
[null,"◐","Date Of Birth",{"$nulls":3},"↠",{"$f":"VLOOKUP($A1560,'Result Entry'!$B$9:$DX$108,9,0)","v":"00:00:00"}]
[null,"◐","Subject",{"$nulls":4},"Half Yearly","Total (T+H.Y.)","Yearly","Grand Total",null,"Subject Grade"]
[null,"◐","Max. Marks",{"$nulls":4},{"$f":"'Result Entry'!$Q$7","v":100},{"$f":"G1573+H1573","v":100},{"$f":"'Result Entry'!$U$7","v":100},{"$f":"I1573+J1573","v":200},null,"A/B/C/D/E"]
[null,"◐",{"$f":"'Result Entry'!$K$3","v":"Hindi"},{"$nulls":4},{"$f":"IF(OR(C1574=\"\",$I1565=\"NSO\"),\"\",VLOOKUP($A1560,'Result Entry'!$B$9:$DX$108,16,0))","v":0},{"$f":"SUM(G1574,H1574)","v":0},{"$f":"IF(OR(C1574=\"\",$I1565=\"NSO\"),\"\",VLOOKUP($A1560,'Result Entry'!$B$9:$DX$108,20,0))","v":0},{"$f":"SUM(I1574,J1574)","v":0},null,{"$f":"IF(OR(C1574=\"\",$I1565=\"NSO\"),\"\",VLOOKUP($A1560,'Result Entry'!$B$9:$DX$108,23,0))","v":""}]
[null,"◐",{"$f":"'Result Entry'!$Y$3","v":"Mathematics"},{"$nulls":4},{"$f":"IF(OR(C1575=\"\",$I1565=\"NSO\"),\"\",VLOOKUP($A1560,'Result Entry'!$B$9:$DX$108,30,0))","v":0},{"$f":"SUM(G1575,H1575)","v":0},{"$f":"IF(OR(C1575=\"\",$I1565=\"NSO\"),\"\",VLOOKUP($A1560,'Result Entry'!$B$9:$DX$108,34,0))","v":0},{"$f":"SUM(I1575,J1575)","v":0},null,{"$f":"IF(OR(C1575=\"\",$I1565=\"NSO\"),\"\",VLOOKUP($A1560,'Result Entry'!$B$9:$DX$108,37,0))","v":""}]
[null,"◐",{"$f":"'Result Entry'!$BO$3","v":"Env. Study"},{"$nulls":4},{"$f":"IF(OR(C1576=\"\",$I1565=\"NSO\"),\"\",VLOOKUP($A1560,'Result Entry'!$B$9:$DX$108,66,0))","v":0},0,{"$f":"IF(OR(C1576=\"\",$I1565=\"NSO\"),\"\",VLOOKUP($A1560,'Result Entry'!$B$9:$DX$108,67,0))","v":0},0,null,{"$f":"IF(OR(C1576=\"\",$I1565=\"NSO\"),\"\",VLOOKUP($A1560,'Result Entry'!$B$9:$DX$108,73,0))","v":""}]
[null,"◐","Max. Marks",{"$nulls":4},{"$f":"'Result Entry'!$AS$7","v":50},50,{"$f":"'Result Entry'!$AW$7","v":50},100,null,"A/B/C/D/E"]
[null,"◐",{"$f":"'Result Entry'!$AM$3","v":"English"},{"$nulls":4},{"$f":"IF(OR(C1578=\"\",$I1565=\"NSO\"),\"\",VLOOKUP($A1560,'Result Entry'!$B$9:$DX$108,44,0))","v":0},0,{"$f":"IF(OR(C1578=\"\",$I1565=\"NSO\"),\"\",VLOOKUP($A1560,'Result Entry'!$B$9:$DX$108,48,0))","v":0},0,null,{"$f":"IF(OR(C1578=\"\",$I1565=\"NSO\"),\"\",VLOOKUP($A1560,'Result Entry'!$B$9:$DX$108,51,0))","v":""}]
[null,"◐"]
[null,"◐","Overall Result",null,null,"Total Max. Marks",null,"Total Obtained Marks",null,"Percentage","Overall Grade","Result","Position in Class"]
[null,"◐",{"$nulls":3},{"$f":"IF(OR($I1565=\"\",$I1565=\"NSO\"),\"\",VLOOKUP($A1560,'Result Entry'!$B$9:$DX$108,101,0))","v":500},null,{"$f":"IF(OR($I1565=\"\",$I1565=\"NSO\"),\"\",VLOOKUP($A1560,'Result Entry'!$B$9:$DX$108,102,0))","v":0},null,{"$f":"IF(OR($I1565=\"\",$I1565=\"NSO\"),\"\",VLOOKUP($A1560,'Result Entry'!$B$9:$DX$108,103,0))","v":{"v":0,"d":"0.00"}},{"$f":"IF(OR($I1565=\"\",$I1565=\"NSO\"),\"\",VLOOKUP($A1560,'Result Entry'!$B$9:$DX$108,104,0))","v":""},{"$f":"IF(OR($I1565=\"\",$I1565=\"NSO\"),\"\",VLOOKUP($A1560,'Result Entry'!$B$9:$DX$108,105,0))","v":""},{"$f":"IF(OR($I1565=\"\",$I1565=\"NSO\"),\"\",VLOOKUP($A1560,'Result Entry'!$B$9:$DX$108,107,0))","v":""}]
[null,"◐",{"$nulls":6},"Total Meetings :-",null,{"$f":"IF(OR($I1565=\"\",$I1565=\"NSO\"),\"\",VLOOKUP($A1560,'Result Entry'!$B$9:$DX$108,98,0))","v":0},"Attedance %"]
[null,"◐","Extra Subjects",{"$nulls":5},"Student's Meetings :-",null,{"$f":"IF(OR($I1565=\"\",$I1565=\"NSO\"),\"\",VLOOKUP($A1560,'Result Entry'!$B$9:$DX$108,99,0))","v":0},{"$f":"IF(OR($I1565=\"\",$I1565=\"NSO\"),\"\",VLOOKUP($A1560,'Result Entry'!$B$9:$DX$108,100,0))","v":""}]
[null,"◐","Subject",null,null,"Total Marks",null,"GRADE","Remark :-",null,{"$f":"IF(OR($I1565=\"\",$I1565=\"NSO\"),\"\",VLOOKUP($A1560,'Result Entry'!$B$9:$DX$108,108,0))","v":0}]
[null,"◐",{"$nulls":6},"Result Date :-",null,{"$f":"'Result Entry'!$T$2","v":"2023-05-24"}]
[null,"◐",{"$f":"'Result Entry'!$BW$3","v":"WORK EXP."},null,null,{"$f":"IF(OR(C1586=\"\",$I1565=\"NSO\"),\"\",VLOOKUP($A1560,'Result Entry'!$B$9:$DX$108,119,0))","v":"0/50"},null,{"$f":"IF(OR(C1586=\"\",$I1565=\"NSO\"),\"\",VLOOKUP($A1560,'Result Entry'!$B$9:$DX$108,81,0))","v":""}]
[null,null,{"$f":"'Result Entry'!$CE$3","v":"ART EDU."},null,null,{"$f":"IF(OR(C1587=\"\",$I1565=\"NSO\"),\"\",VLOOKUP($A1560,'Result Entry'!$B$9:$DX$108,123,0))","v":"0/50"},null,{"$f":"IF(OR(C1587=\"\",$I1565=\"NSO\"),\"\",VLOOKUP($A1560,'Result Entry'!$B$9:$DX$108,89,0))","v":""}]
[null,"◐",{"$f":"'Result Entry'!$CM$3","v":"H&P. EDU."},null,null,{"$f":"IF(OR(C1588=\"\",$I1565=\"NSO\"),\"\",VLOOKUP($A1560,'Result Entry'!$B$9:$DX$108,127,0))","v":"0/100"},null,{"$f":"IF(OR(C1588=\"\",$I1565=\"NSO\"),\"\",VLOOKUP($A1560,'Result Entry'!$B$9:$DX$108,97,0))","v":""},"Signature Of The Class Teacher"]
[null,"◐","Grading System"]
[null,"◐","Grd.","% Range",null,"Description"]
[null,"◐","A","86-100",null,"Excellent",null,null,"Signature And Seal Of Principal/H.M."]
[null,"◐","B","71-85",null,"Very Good"]
[null,"◐","C","51-70",null,"Good"]
[null,"◐","D","31-50",null,"Average"]
[null,"◐","E","0-30",null,"Needs Improvement",null,null,"Wish bright future"]
[]
[]
[{"$f":"A1560+1","v":43},"Department Of Education, Rajasthan"]
[null,{"$f":"IF(I1603>0,CONCATENATE(C1603,I1603),0)","v":0},null,{"$f":"Master!$E$8","v":"Govt.Sr.Sec.Sch. "}]
[{"$nulls":3},{"$f":"Master!$E$11","v":"P.S.-Bapini (Jodhpur)"}]
[null,null,"Report Card",{"$nulls":6},"U-DISE Code:-",null,{"$f":"Master!$E$14","v":{"v":810000000,"d":"0810000000"}}]
[{"$nulls":9},"Session:-",null,{"$f":"Master!$E$6","v":"2022-23"}]
[null,null,"Roll No.:-",{"$nulls":5},{"$f":"VLOOKUP($A1598,'Result Entry'!$B$9:$F$108,5,0)","v":0}]
[null,"◐","Scholar Number",{"$nulls":3},"↠",{"$f":"VLOOKUP($A1598,'Result Entry'!$B$9:$DX$108,3,0)","v":0}]
[null,"◐","Student's Name",{"$nulls":3},"↠",{"$f":"VLOOKUP($A1598,'Result Entry'!$B$9:$DX$108,6,0)","v":0}]
[null,"◐","Father's Name",{"$nulls":3},"↠",{"$f":"VLOOKUP($A1598,'Result Entry'!$B$9:$DX$108,7,0)","v":0}]
[null,"◐","Mother's Name ",{"$nulls":3},"↠",{"$f":"VLOOKUP($A1598,'Result Entry'!$B$9:$DX$108,8,0)","v":0}]
[null,"◐","Class & Section",{"$nulls":3},"↠",{"$f":"CONCATENATE('Result Entry'!$F$4,'Result Entry'!$I$4)","v":"2(A)"}]
[null,"◐","Date Of Birth",{"$nulls":3},"↠",{"$f":"VLOOKUP($A1598,'Result Entry'!$B$9:$DX$108,9,0)","v":"00:00:00"}]
[null,"◐","Subject",{"$nulls":4},"Half Yearly","Total (T+H.Y.)","Yearly","Grand Total",null,"Subject Grade"]
[null,"◐","Max. Marks",{"$nulls":4},{"$f":"'Result Entry'!$Q$7","v":100},{"$f":"G1611+H1611","v":100},{"$f":"'Result Entry'!$U$7","v":100},{"$f":"I1611+J1611","v":200},null,"A/B/C/D/E"]
[null,"◐",{"$f":"'Result Entry'!$K$3","v":"Hindi"},{"$nulls":4},{"$f":"IF(OR(C1612=\"\",$I1603=\"NSO\"),\"\",VLOOKUP($A1598,'Result Entry'!$B$9:$DX$108,16,0))","v":0},{"$f":"SUM(G1612,H1612)","v":0},{"$f":"IF(OR(C1612=\"\",$I1603=\"NSO\"),\"\",VLOOKUP($A1598,'Result Entry'!$B$9:$DX$108,20,0))","v":0},{"$f":"SUM(I1612,J1612)","v":0},null,{"$f":"IF(OR(C1612=\"\",$I1603=\"NSO\"),\"\",VLOOKUP($A1598,'Result Entry'!$B$9:$DX$108,23,0))","v":""}]
[null,"◐",{"$f":"'Result Entry'!$Y$3","v":"Mathematics"},{"$nulls":4},{"$f":"IF(OR(C1613=\"\",$I1603=\"NSO\"),\"\",VLOOKUP($A1598,'Result Entry'!$B$9:$DX$108,30,0))","v":0},{"$f":"SUM(G1613,H1613)","v":0},{"$f":"IF(OR(C1613=\"\",$I1603=\"NSO\"),\"\",VLOOKUP($A1598,'Result Entry'!$B$9:$DX$108,34,0))","v":0},{"$f":"SUM(I1613,J1613)","v":0},null,{"$f":"IF(OR(C1613=\"\",$I1603=\"NSO\"),\"\",VLOOKUP($A1598,'Result Entry'!$B$9:$DX$108,37,0))","v":""}]
[null,"◐",{"$f":"'Result Entry'!$BO$3","v":"Env. Study"},{"$nulls":4},{"$f":"IF(OR(C1614=\"\",$I1603=\"NSO\"),\"\",VLOOKUP($A1598,'Result Entry'!$B$9:$DX$108,66,0))","v":0},0,{"$f":"IF(OR(C1614=\"\",$I1603=\"NSO\"),\"\",VLOOKUP($A1598,'Result Entry'!$B$9:$DX$108,67,0))","v":0},0,null,{"$f":"IF(OR(C1614=\"\",$I1603=\"NSO\"),\"\",VLOOKUP($A1598,'Result Entry'!$B$9:$DX$108,73,0))","v":""}]
[null,"◐","Max. Marks",{"$nulls":4},{"$f":"'Result Entry'!$AS$7","v":50},50,{"$f":"'Result Entry'!$AW$7","v":50},100,null,"A/B/C/D/E"]
[null,"◐",{"$f":"'Result Entry'!$AM$3","v":"English"},{"$nulls":4},{"$f":"IF(OR(C1616=\"\",$I1603=\"NSO\"),\"\",VLOOKUP($A1598,'Result Entry'!$B$9:$DX$108,44,0))","v":0},0,{"$f":"IF(OR(C1616=\"\",$I1603=\"NSO\"),\"\",VLOOKUP($A1598,'Result Entry'!$B$9:$DX$108,48,0))","v":0},0,null,{"$f":"IF(OR(C1616=\"\",$I1603=\"NSO\"),\"\",VLOOKUP($A1598,'Result Entry'!$B$9:$DX$108,51,0))","v":""}]
[null,"◐"]
[null,"◐","Overall Result",null,null,"Total Max. Marks",null,"Total Obtained Marks",null,"Percentage","Overall Grade","Result","Position in Class"]
[null,"◐",{"$nulls":3},{"$f":"IF(OR($I1603=\"\",$I1603=\"NSO\"),\"\",VLOOKUP($A1598,'Result Entry'!$B$9:$DX$108,101,0))","v":500},null,{"$f":"IF(OR($I1603=\"\",$I1603=\"NSO\"),\"\",VLOOKUP($A1598,'Result Entry'!$B$9:$DX$108,102,0))","v":0},null,{"$f":"IF(OR($I1603=\"\",$I1603=\"NSO\"),\"\",VLOOKUP($A1598,'Result Entry'!$B$9:$DX$108,103,0))","v":{"v":0,"d":"0.00"}},{"$f":"IF(OR($I1603=\"\",$I1603=\"NSO\"),\"\",VLOOKUP($A1598,'Result Entry'!$B$9:$DX$108,104,0))","v":""},{"$f":"IF(OR($I1603=\"\",$I1603=\"NSO\"),\"\",VLOOKUP($A1598,'Result Entry'!$B$9:$DX$108,105,0))","v":""},{"$f":"IF(OR($I1603=\"\",$I1603=\"NSO\"),\"\",VLOOKUP($A1598,'Result Entry'!$B$9:$DX$108,107,0))","v":""}]
[null,"◐",{"$nulls":6},"Total Meetings :-",null,{"$f":"IF(OR($I1603=\"\",$I1603=\"NSO\"),\"\",VLOOKUP($A1598,'Result Entry'!$B$9:$DX$108,98,0))","v":0},"Attedance %"]
[null,"◐","Extra Subjects",{"$nulls":5},"Student's Meetings :-",null,{"$f":"IF(OR($I1603=\"\",$I1603=\"NSO\"),\"\",VLOOKUP($A1598,'Result Entry'!$B$9:$DX$108,99,0))","v":0},{"$f":"IF(OR($I1603=\"\",$I1603=\"NSO\"),\"\",VLOOKUP($A1598,'Result Entry'!$B$9:$DX$108,100,0))","v":""}]
[null,"◐","Subject",null,null,"Total Marks",null,"GRADE","Remark :-",null,{"$f":"IF(OR($I1603=\"\",$I1603=\"NSO\"),\"\",VLOOKUP($A1598,'Result Entry'!$B$9:$DX$108,108,0))","v":0}]
[null,"◐",{"$nulls":6},"Result Date :-",null,{"$f":"'Result Entry'!$T$2","v":"2023-05-24"}]
[null,"◐",{"$f":"'Result Entry'!$BW$3","v":"WORK EXP."},null,null,{"$f":"IF(OR(C1624=\"\",$I1603=\"NSO\"),\"\",VLOOKUP($A1598,'Result Entry'!$B$9:$DX$108,119,0))","v":"0/50"},null,{"$f":"IF(OR(C1624=\"\",$I1603=\"NSO\"),\"\",VLOOKUP($A1598,'Result Entry'!$B$9:$DX$108,81,0))","v":""}]
[null,null,{"$f":"'Result Entry'!$CE$3","v":"ART EDU."},null,null,{"$f":"IF(OR(C1625=\"\",$I1603=\"NSO\"),\"\",VLOOKUP($A1598,'Result Entry'!$B$9:$DX$108,123,0))","v":"0/50"},null,{"$f":"IF(OR(C1625=\"\",$I1603=\"NSO\"),\"\",VLOOKUP($A1598,'Result Entry'!$B$9:$DX$108,89,0))","v":""}]
[null,"◐",{"$f":"'Result Entry'!$CM$3","v":"H&P. EDU."},null,null,{"$f":"IF(OR(C1626=\"\",$I1603=\"NSO\"),\"\",VLOOKUP($A1598,'Result Entry'!$B$9:$DX$108,127,0))","v":"0/100"},null,{"$f":"IF(OR(C1626=\"\",$I1603=\"NSO\"),\"\",VLOOKUP($A1598,'Result Entry'!$B$9:$DX$108,97,0))","v":""},"Signature Of The Class Teacher"]
[null,"◐","Grading System"]
[null,"◐","Grd.","% Range",null,"Description"]
[null,"◐","A","86-100",null,"Excellent",null,null,"Signature And Seal Of Principal/H.M."]
[null,"◐","B","71-85",null,"Very Good"]
[null,"◐","C","51-70",null,"Good"]
[null,"◐","D","31-50",null,"Average"]
[null,"◐","E","0-30",null,"Needs Improvement",null,null,"Wish bright future"]
[]
[]
[{"$f":"A1598+1","v":44},"Department Of Education, Rajasthan"]
[null,{"$f":"IF(I1641>0,CONCATENATE(C1641,I1641),0)","v":0},null,{"$f":"Master!$E$8","v":"Govt.Sr.Sec.Sch. "}]
[{"$nulls":3},{"$f":"Master!$E$11","v":"P.S.-Bapini (Jodhpur)"}]
[null,null,"Report Card",{"$nulls":6},"U-DISE Code:-",null,{"$f":"Master!$E$14","v":{"v":810000000,"d":"0810000000"}}]
[{"$nulls":9},"Session:-",null,{"$f":"Master!$E$6","v":"2022-23"}]
[null,null,"Roll No.:-",{"$nulls":5},{"$f":"VLOOKUP($A1636,'Result Entry'!$B$9:$F$108,5,0)","v":0}]
[null,"◐","Scholar Number",{"$nulls":3},"↠",{"$f":"VLOOKUP($A1636,'Result Entry'!$B$9:$DX$108,3,0)","v":0}]
[null,"◐","Student's Name",{"$nulls":3},"↠",{"$f":"VLOOKUP($A1636,'Result Entry'!$B$9:$DX$108,6,0)","v":0}]
[null,"◐","Father's Name",{"$nulls":3},"↠",{"$f":"VLOOKUP($A1636,'Result Entry'!$B$9:$DX$108,7,0)","v":0}]
[null,"◐","Mother's Name ",{"$nulls":3},"↠",{"$f":"VLOOKUP($A1636,'Result Entry'!$B$9:$DX$108,8,0)","v":0}]
[null,"◐","Class & Section",{"$nulls":3},"↠",{"$f":"CONCATENATE('Result Entry'!$F$4,'Result Entry'!$I$4)","v":"2(A)"}]
[null,"◐","Date Of Birth",{"$nulls":3},"↠",{"$f":"VLOOKUP($A1636,'Result Entry'!$B$9:$DX$108,9,0)","v":"00:00:00"}]
[null,"◐","Subject",{"$nulls":4},"Half Yearly","Total (T+H.Y.)","Yearly","Grand Total",null,"Subject Grade"]
[null,"◐","Max. Marks",{"$nulls":4},{"$f":"'Result Entry'!$Q$7","v":100},{"$f":"G1649+H1649","v":100},{"$f":"'Result Entry'!$U$7","v":100},{"$f":"I1649+J1649","v":200},null,"A/B/C/D/E"]
[null,"◐",{"$f":"'Result Entry'!$K$3","v":"Hindi"},{"$nulls":4},{"$f":"IF(OR(C1650=\"\",$I1641=\"NSO\"),\"\",VLOOKUP($A1636,'Result Entry'!$B$9:$DX$108,16,0))","v":0},{"$f":"SUM(G1650,H1650)","v":0},{"$f":"IF(OR(C1650=\"\",$I1641=\"NSO\"),\"\",VLOOKUP($A1636,'Result Entry'!$B$9:$DX$108,20,0))","v":0},{"$f":"SUM(I1650,J1650)","v":0},null,{"$f":"IF(OR(C1650=\"\",$I1641=\"NSO\"),\"\",VLOOKUP($A1636,'Result Entry'!$B$9:$DX$108,23,0))","v":""}]
[null,"◐",{"$f":"'Result Entry'!$Y$3","v":"Mathematics"},{"$nulls":4},{"$f":"IF(OR(C1651=\"\",$I1641=\"NSO\"),\"\",VLOOKUP($A1636,'Result Entry'!$B$9:$DX$108,30,0))","v":0},{"$f":"SUM(G1651,H1651)","v":0},{"$f":"IF(OR(C1651=\"\",$I1641=\"NSO\"),\"\",VLOOKUP($A1636,'Result Entry'!$B$9:$DX$108,34,0))","v":0},{"$f":"SUM(I1651,J1651)","v":0},null,{"$f":"IF(OR(C1651=\"\",$I1641=\"NSO\"),\"\",VLOOKUP($A1636,'Result Entry'!$B$9:$DX$108,37,0))","v":""}]
[null,"◐",{"$f":"'Result Entry'!$BO$3","v":"Env. Study"},{"$nulls":4},{"$f":"IF(OR(C1652=\"\",$I1641=\"NSO\"),\"\",VLOOKUP($A1636,'Result Entry'!$B$9:$DX$108,66,0))","v":0},0,{"$f":"IF(OR(C1652=\"\",$I1641=\"NSO\"),\"\",VLOOKUP($A1636,'Result Entry'!$B$9:$DX$108,67,0))","v":0},0,null,{"$f":"IF(OR(C1652=\"\",$I1641=\"NSO\"),\"\",VLOOKUP($A1636,'Result Entry'!$B$9:$DX$108,73,0))","v":""}]
[null,"◐","Max. Marks",{"$nulls":4},{"$f":"'Result Entry'!$AS$7","v":50},50,{"$f":"'Result Entry'!$AW$7","v":50},100,null,"A/B/C/D/E"]
[null,"◐",{"$f":"'Result Entry'!$AM$3","v":"English"},{"$nulls":4},{"$f":"IF(OR(C1654=\"\",$I1641=\"NSO\"),\"\",VLOOKUP($A1636,'Result Entry'!$B$9:$DX$108,44,0))","v":0},0,{"$f":"IF(OR(C1654=\"\",$I1641=\"NSO\"),\"\",VLOOKUP($A1636,'Result Entry'!$B$9:$DX$108,48,0))","v":0},0,null,{"$f":"IF(OR(C1654=\"\",$I1641=\"NSO\"),\"\",VLOOKUP($A1636,'Result Entry'!$B$9:$DX$108,51,0))","v":""}]
[null,"◐"]
[null,"◐","Overall Result",null,null,"Total Max. Marks",null,"Total Obtained Marks",null,"Percentage","Overall Grade","Result","Position in Class"]
[null,"◐",{"$nulls":3},{"$f":"IF(OR($I1641=\"\",$I1641=\"NSO\"),\"\",VLOOKUP($A1636,'Result Entry'!$B$9:$DX$108,101,0))","v":500},null,{"$f":"IF(OR($I1641=\"\",$I1641=\"NSO\"),\"\",VLOOKUP($A1636,'Result Entry'!$B$9:$DX$108,102,0))","v":0},null,{"$f":"IF(OR($I1641=\"\",$I1641=\"NSO\"),\"\",VLOOKUP($A1636,'Result Entry'!$B$9:$DX$108,103,0))","v":{"v":0,"d":"0.00"}},{"$f":"IF(OR($I1641=\"\",$I1641=\"NSO\"),\"\",VLOOKUP($A1636,'Result Entry'!$B$9:$DX$108,104,0))","v":""},{"$f":"IF(OR($I1641=\"\",$I1641=\"NSO\"),\"\",VLOOKUP($A1636,'Result Entry'!$B$9:$DX$108,105,0))","v":""},{"$f":"IF(OR($I1641=\"\",$I1641=\"NSO\"),\"\",VLOOKUP($A1636,'Result Entry'!$B$9:$DX$108,107,0))","v":""}]
[null,"◐",{"$nulls":6},"Total Meetings :-",null,{"$f":"IF(OR($I1641=\"\",$I1641=\"NSO\"),\"\",VLOOKUP($A1636,'Result Entry'!$B$9:$DX$108,98,0))","v":0},"Attedance %"]
[null,"◐","Extra Subjects",{"$nulls":5},"Student's Meetings :-",null,{"$f":"IF(OR($I1641=\"\",$I1641=\"NSO\"),\"\",VLOOKUP($A1636,'Result Entry'!$B$9:$DX$108,99,0))","v":0},{"$f":"IF(OR($I1641=\"\",$I1641=\"NSO\"),\"\",VLOOKUP($A1636,'Result Entry'!$B$9:$DX$108,100,0))","v":""}]
[null,"◐","Subject",null,null,"Total Marks",null,"GRADE","Remark :-",null,{"$f":"IF(OR($I1641=\"\",$I1641=\"NSO\"),\"\",VLOOKUP($A1636,'Result Entry'!$B$9:$DX$108,108,0))","v":0}]
[null,"◐",{"$nulls":6},"Result Date :-",null,{"$f":"'Result Entry'!$T$2","v":"2023-05-24"}]
[null,"◐",{"$f":"'Result Entry'!$BW$3","v":"WORK EXP."},null,null,{"$f":"IF(OR(C1662=\"\",$I1641=\"NSO\"),\"\",VLOOKUP($A1636,'Result Entry'!$B$9:$DX$108,119,0))","v":"0/50"},null,{"$f":"IF(OR(C1662=\"\",$I1641=\"NSO\"),\"\",VLOOKUP($A1636,'Result Entry'!$B$9:$DX$108,81,0))","v":""}]
[null,null,{"$f":"'Result Entry'!$CE$3","v":"ART EDU."},null,null,{"$f":"IF(OR(C1663=\"\",$I1641=\"NSO\"),\"\",VLOOKUP($A1636,'Result Entry'!$B$9:$DX$108,123,0))","v":"0/50"},null,{"$f":"IF(OR(C1663=\"\",$I1641=\"NSO\"),\"\",VLOOKUP($A1636,'Result Entry'!$B$9:$DX$108,89,0))","v":""}]
[null,"◐",{"$f":"'Result Entry'!$CM$3","v":"H&P. EDU."},null,null,{"$f":"IF(OR(C1664=\"\",$I1641=\"NSO\"),\"\",VLOOKUP($A1636,'Result Entry'!$B$9:$DX$108,127,0))","v":"0/100"},null,{"$f":"IF(OR(C1664=\"\",$I1641=\"NSO\"),\"\",VLOOKUP($A1636,'Result Entry'!$B$9:$DX$108,97,0))","v":""},"Signature Of The Class Teacher"]
[null,"◐","Grading System"]
[null,"◐","Grd.","% Range",null,"Description"]
[null,"◐","A","86-100",null,"Excellent",null,null,"Signature And Seal Of Principal/H.M."]
[null,"◐","B","71-85",null,"Very Good"]
[null,"◐","C","51-70",null,"Good"]
[null,"◐","D","31-50",null,"Average"]
[null,"◐","E","0-30",null,"Needs Improvement",null,null,"Wish bright future"]
[]
[]
[{"$f":"A1636+1","v":45},"Department Of Education, Rajasthan"]
[null,{"$f":"IF(I1679>0,CONCATENATE(C1679,I1679),0)","v":0},null,{"$f":"Master!$E$8","v":"Govt.Sr.Sec.Sch. "}]
[{"$nulls":3},{"$f":"Master!$E$11","v":"P.S.-Bapini (Jodhpur)"}]
[null,null,"Report Card",{"$nulls":6},"U-DISE Code:-",null,{"$f":"Master!$E$14","v":{"v":810000000,"d":"0810000000"}}]
[{"$nulls":9},"Session:-",null,{"$f":"Master!$E$6","v":"2022-23"}]
[null,null,"Roll No.:-",{"$nulls":5},{"$f":"VLOOKUP($A1674,'Result Entry'!$B$9:$F$108,5,0)","v":0}]
[null,"◐","Scholar Number",{"$nulls":3},"↠",{"$f":"VLOOKUP($A1674,'Result Entry'!$B$9:$DX$108,3,0)","v":0}]
[null,"◐","Student's Name",{"$nulls":3},"↠",{"$f":"VLOOKUP($A1674,'Result Entry'!$B$9:$DX$108,6,0)","v":0}]
[null,"◐","Father's Name",{"$nulls":3},"↠",{"$f":"VLOOKUP($A1674,'Result Entry'!$B$9:$DX$108,7,0)","v":0}]
[null,"◐","Mother's Name ",{"$nulls":3},"↠",{"$f":"VLOOKUP($A1674,'Result Entry'!$B$9:$DX$108,8,0)","v":0}]
[null,"◐","Class & Section",{"$nulls":3},"↠",{"$f":"CONCATENATE('Result Entry'!$F$4,'Result Entry'!$I$4)","v":"2(A)"}]
[null,"◐","Date Of Birth",{"$nulls":3},"↠",{"$f":"VLOOKUP($A1674,'Result Entry'!$B$9:$DX$108,9,0)","v":"00:00:00"}]
[null,"◐","Subject",{"$nulls":4},"Half Yearly","Total (T+H.Y.)","Yearly","Grand Total",null,"Subject Grade"]
[null,"◐","Max. Marks",{"$nulls":4},{"$f":"'Result Entry'!$Q$7","v":100},{"$f":"G1687+H1687","v":100},{"$f":"'Result Entry'!$U$7","v":100},{"$f":"I1687+J1687","v":200},null,"A/B/C/D/E"]
[null,"◐",{"$f":"'Result Entry'!$K$3","v":"Hindi"},{"$nulls":4},{"$f":"IF(OR(C1688=\"\",$I1679=\"NSO\"),\"\",VLOOKUP($A1674,'Result Entry'!$B$9:$DX$108,16,0))","v":0},{"$f":"SUM(G1688,H1688)","v":0},{"$f":"IF(OR(C1688=\"\",$I1679=\"NSO\"),\"\",VLOOKUP($A1674,'Result Entry'!$B$9:$DX$108,20,0))","v":0},{"$f":"SUM(I1688,J1688)","v":0},null,{"$f":"IF(OR(C1688=\"\",$I1679=\"NSO\"),\"\",VLOOKUP($A1674,'Result Entry'!$B$9:$DX$108,23,0))","v":""}]
[null,"◐",{"$f":"'Result Entry'!$Y$3","v":"Mathematics"},{"$nulls":4},{"$f":"IF(OR(C1689=\"\",$I1679=\"NSO\"),\"\",VLOOKUP($A1674,'Result Entry'!$B$9:$DX$108,30,0))","v":0},{"$f":"SUM(G1689,H1689)","v":0},{"$f":"IF(OR(C1689=\"\",$I1679=\"NSO\"),\"\",VLOOKUP($A1674,'Result Entry'!$B$9:$DX$108,34,0))","v":0},{"$f":"SUM(I1689,J1689)","v":0},null,{"$f":"IF(OR(C1689=\"\",$I1679=\"NSO\"),\"\",VLOOKUP($A1674,'Result Entry'!$B$9:$DX$108,37,0))","v":""}]
[null,"◐",{"$f":"'Result Entry'!$BO$3","v":"Env. Study"},{"$nulls":4},{"$f":"IF(OR(C1690=\"\",$I1679=\"NSO\"),\"\",VLOOKUP($A1674,'Result Entry'!$B$9:$DX$108,66,0))","v":0},0,{"$f":"IF(OR(C1690=\"\",$I1679=\"NSO\"),\"\",VLOOKUP($A1674,'Result Entry'!$B$9:$DX$108,67,0))","v":0},0,null,{"$f":"IF(OR(C1690=\"\",$I1679=\"NSO\"),\"\",VLOOKUP($A1674,'Result Entry'!$B$9:$DX$108,73,0))","v":""}]
[null,"◐","Max. Marks",{"$nulls":4},{"$f":"'Result Entry'!$AS$7","v":50},50,{"$f":"'Result Entry'!$AW$7","v":50},100,null,"A/B/C/D/E"]
[null,"◐",{"$f":"'Result Entry'!$AM$3","v":"English"},{"$nulls":4},{"$f":"IF(OR(C1692=\"\",$I1679=\"NSO\"),\"\",VLOOKUP($A1674,'Result Entry'!$B$9:$DX$108,44,0))","v":0},0,{"$f":"IF(OR(C1692=\"\",$I1679=\"NSO\"),\"\",VLOOKUP($A1674,'Result Entry'!$B$9:$DX$108,48,0))","v":0},0,null,{"$f":"IF(OR(C1692=\"\",$I1679=\"NSO\"),\"\",VLOOKUP($A1674,'Result Entry'!$B$9:$DX$108,51,0))","v":""}]
[null,"◐"]
[null,"◐","Overall Result",null,null,"Total Max. Marks",null,"Total Obtained Marks",null,"Percentage","Overall Grade","Result","Position in Class"]
[null,"◐",{"$nulls":3},{"$f":"IF(OR($I1679=\"\",$I1679=\"NSO\"),\"\",VLOOKUP($A1674,'Result Entry'!$B$9:$DX$108,101,0))","v":500},null,{"$f":"IF(OR($I1679=\"\",$I1679=\"NSO\"),\"\",VLOOKUP($A1674,'Result Entry'!$B$9:$DX$108,102,0))","v":0},null,{"$f":"IF(OR($I1679=\"\",$I1679=\"NSO\"),\"\",VLOOKUP($A1674,'Result Entry'!$B$9:$DX$108,103,0))","v":{"v":0,"d":"0.00"}},{"$f":"IF(OR($I1679=\"\",$I1679=\"NSO\"),\"\",VLOOKUP($A1674,'Result Entry'!$B$9:$DX$108,104,0))","v":""},{"$f":"IF(OR($I1679=\"\",$I1679=\"NSO\"),\"\",VLOOKUP($A1674,'Result Entry'!$B$9:$DX$108,105,0))","v":""},{"$f":"IF(OR($I1679=\"\",$I1679=\"NSO\"),\"\",VLOOKUP($A1674,'Result Entry'!$B$9:$DX$108,107,0))","v":""}]
[null,"◐",{"$nulls":6},"Total Meetings :-",null,{"$f":"IF(OR($I1679=\"\",$I1679=\"NSO\"),\"\",VLOOKUP($A1674,'Result Entry'!$B$9:$DX$108,98,0))","v":0},"Attedance %"]
[null,"◐","Extra Subjects",{"$nulls":5},"Student's Meetings :-",null,{"$f":"IF(OR($I1679=\"\",$I1679=\"NSO\"),\"\",VLOOKUP($A1674,'Result Entry'!$B$9:$DX$108,99,0))","v":0},{"$f":"IF(OR($I1679=\"\",$I1679=\"NSO\"),\"\",VLOOKUP($A1674,'Result Entry'!$B$9:$DX$108,100,0))","v":""}]
[null,"◐","Subject",null,null,"Total Marks",null,"GRADE","Remark :-",null,{"$f":"IF(OR($I1679=\"\",$I1679=\"NSO\"),\"\",VLOOKUP($A1674,'Result Entry'!$B$9:$DX$108,108,0))","v":0}]
[null,"◐",{"$nulls":6},"Result Date :-",null,{"$f":"'Result Entry'!$T$2","v":"2023-05-24"}]
[null,"◐",{"$f":"'Result Entry'!$BW$3","v":"WORK EXP."},null,null,{"$f":"IF(OR(C1700=\"\",$I1679=\"NSO\"),\"\",VLOOKUP($A1674,'Result Entry'!$B$9:$DX$108,119,0))","v":"0/50"},null,{"$f":"IF(OR(C1700=\"\",$I1679=\"NSO\"),\"\",VLOOKUP($A1674,'Result Entry'!$B$9:$DX$108,81,0))","v":""}]
[null,null,{"$f":"'Result Entry'!$CE$3","v":"ART EDU."},null,null,{"$f":"IF(OR(C1701=\"\",$I1679=\"NSO\"),\"\",VLOOKUP($A1674,'Result Entry'!$B$9:$DX$108,123,0))","v":"0/50"},null,{"$f":"IF(OR(C1701=\"\",$I1679=\"NSO\"),\"\",VLOOKUP($A1674,'Result Entry'!$B$9:$DX$108,89,0))","v":""}]
[null,"◐",{"$f":"'Result Entry'!$CM$3","v":"H&P. EDU."},null,null,{"$f":"IF(OR(C1702=\"\",$I1679=\"NSO\"),\"\",VLOOKUP($A1674,'Result Entry'!$B$9:$DX$108,127,0))","v":"0/100"},null,{"$f":"IF(OR(C1702=\"\",$I1679=\"NSO\"),\"\",VLOOKUP($A1674,'Result Entry'!$B$9:$DX$108,97,0))","v":""},"Signature Of The Class Teacher"]
[null,"◐","Grading System"]
[null,"◐","Grd.","% Range",null,"Description"]
[null,"◐","A","86-100",null,"Excellent",null,null,"Signature And Seal Of Principal/H.M."]
[null,"◐","B","71-85",null,"Very Good"]
[null,"◐","C","51-70",null,"Good"]
[null,"◐","D","31-50",null,"Average"]
[null,"◐","E","0-30",null,"Needs Improvement",null,null,"Wish bright future"]
[]
[]
[{"$f":"A1674+1","v":46},"Department Of Education, Rajasthan"]
[null,{"$f":"IF(I1717>0,CONCATENATE(C1717,I1717),0)","v":0},null,{"$f":"Master!$E$8","v":"Govt.Sr.Sec.Sch. "}]
[{"$nulls":3},{"$f":"Master!$E$11","v":"P.S.-Bapini (Jodhpur)"}]
[null,null,"Report Card",{"$nulls":6},"U-DISE Code:-",null,{"$f":"Master!$E$14","v":{"v":810000000,"d":"0810000000"}}]
[{"$nulls":9},"Session:-",null,{"$f":"Master!$E$6","v":"2022-23"}]
[null,null,"Roll No.:-",{"$nulls":5},{"$f":"VLOOKUP($A1712,'Result Entry'!$B$9:$F$108,5,0)","v":0}]
[null,"◐","Scholar Number",{"$nulls":3},"↠",{"$f":"VLOOKUP($A1712,'Result Entry'!$B$9:$DX$108,3,0)","v":0}]
[null,"◐","Student's Name",{"$nulls":3},"↠",{"$f":"VLOOKUP($A1712,'Result Entry'!$B$9:$DX$108,6,0)","v":0}]
[null,"◐","Father's Name",{"$nulls":3},"↠",{"$f":"VLOOKUP($A1712,'Result Entry'!$B$9:$DX$108,7,0)","v":0}]
[null,"◐","Mother's Name ",{"$nulls":3},"↠",{"$f":"VLOOKUP($A1712,'Result Entry'!$B$9:$DX$108,8,0)","v":0}]
[null,"◐","Class & Section",{"$nulls":3},"↠",{"$f":"CONCATENATE('Result Entry'!$F$4,'Result Entry'!$I$4)","v":"2(A)"}]
[null,"◐","Date Of Birth",{"$nulls":3},"↠",{"$f":"VLOOKUP($A1712,'Result Entry'!$B$9:$DX$108,9,0)","v":"00:00:00"}]
[null,"◐","Subject",{"$nulls":4},"Half Yearly","Total (T+H.Y.)","Yearly","Grand Total",null,"Subject Grade"]
[null,"◐","Max. Marks",{"$nulls":4},{"$f":"'Result Entry'!$Q$7","v":100},{"$f":"G1725+H1725","v":100},{"$f":"'Result Entry'!$U$7","v":100},{"$f":"I1725+J1725","v":200},null,"A/B/C/D/E"]
[null,"◐",{"$f":"'Result Entry'!$K$3","v":"Hindi"},{"$nulls":4},{"$f":"IF(OR(C1726=\"\",$I1717=\"NSO\"),\"\",VLOOKUP($A1712,'Result Entry'!$B$9:$DX$108,16,0))","v":0},{"$f":"SUM(G1726,H1726)","v":0},{"$f":"IF(OR(C1726=\"\",$I1717=\"NSO\"),\"\",VLOOKUP($A1712,'Result Entry'!$B$9:$DX$108,20,0))","v":0},{"$f":"SUM(I1726,J1726)","v":0},null,{"$f":"IF(OR(C1726=\"\",$I1717=\"NSO\"),\"\",VLOOKUP($A1712,'Result Entry'!$B$9:$DX$108,23,0))","v":""}]
[null,"◐",{"$f":"'Result Entry'!$Y$3","v":"Mathematics"},{"$nulls":4},{"$f":"IF(OR(C1727=\"\",$I1717=\"NSO\"),\"\",VLOOKUP($A1712,'Result Entry'!$B$9:$DX$108,30,0))","v":0},{"$f":"SUM(G1727,H1727)","v":0},{"$f":"IF(OR(C1727=\"\",$I1717=\"NSO\"),\"\",VLOOKUP($A1712,'Result Entry'!$B$9:$DX$108,34,0))","v":0},{"$f":"SUM(I1727,J1727)","v":0},null,{"$f":"IF(OR(C1727=\"\",$I1717=\"NSO\"),\"\",VLOOKUP($A1712,'Result Entry'!$B$9:$DX$108,37,0))","v":""}]
[null,"◐",{"$f":"'Result Entry'!$BO$3","v":"Env. Study"},{"$nulls":4},{"$f":"IF(OR(C1728=\"\",$I1717=\"NSO\"),\"\",VLOOKUP($A1712,'Result Entry'!$B$9:$DX$108,66,0))","v":0},0,{"$f":"IF(OR(C1728=\"\",$I1717=\"NSO\"),\"\",VLOOKUP($A1712,'Result Entry'!$B$9:$DX$108,67,0))","v":0},0,null,{"$f":"IF(OR(C1728=\"\",$I1717=\"NSO\"),\"\",VLOOKUP($A1712,'Result Entry'!$B$9:$DX$108,73,0))","v":""}]
[null,"◐","Max. Marks",{"$nulls":4},{"$f":"'Result Entry'!$AS$7","v":50},50,{"$f":"'Result Entry'!$AW$7","v":50},100,null,"A/B/C/D/E"]
[null,"◐",{"$f":"'Result Entry'!$AM$3","v":"English"},{"$nulls":4},{"$f":"IF(OR(C1730=\"\",$I1717=\"NSO\"),\"\",VLOOKUP($A1712,'Result Entry'!$B$9:$DX$108,44,0))","v":0},0,{"$f":"IF(OR(C1730=\"\",$I1717=\"NSO\"),\"\",VLOOKUP($A1712,'Result Entry'!$B$9:$DX$108,48,0))","v":0},0,null,{"$f":"IF(OR(C1730=\"\",$I1717=\"NSO\"),\"\",VLOOKUP($A1712,'Result Entry'!$B$9:$DX$108,51,0))","v":""}]
[null,"◐"]
[null,"◐","Overall Result",null,null,"Total Max. Marks",null,"Total Obtained Marks",null,"Percentage","Overall Grade","Result","Position in Class"]
[null,"◐",{"$nulls":3},{"$f":"IF(OR($I1717=\"\",$I1717=\"NSO\"),\"\",VLOOKUP($A1712,'Result Entry'!$B$9:$DX$108,101,0))","v":500},null,{"$f":"IF(OR($I1717=\"\",$I1717=\"NSO\"),\"\",VLOOKUP($A1712,'Result Entry'!$B$9:$DX$108,102,0))","v":0},null,{"$f":"IF(OR($I1717=\"\",$I1717=\"NSO\"),\"\",VLOOKUP($A1712,'Result Entry'!$B$9:$DX$108,103,0))","v":{"v":0,"d":"0.00"}},{"$f":"IF(OR($I1717=\"\",$I1717=\"NSO\"),\"\",VLOOKUP($A1712,'Result Entry'!$B$9:$DX$108,104,0))","v":""},{"$f":"IF(OR($I1717=\"\",$I1717=\"NSO\"),\"\",VLOOKUP($A1712,'Result Entry'!$B$9:$DX$108,105,0))","v":""},{"$f":"IF(OR($I1717=\"\",$I1717=\"NSO\"),\"\",VLOOKUP($A1712,'Result Entry'!$B$9:$DX$108,107,0))","v":""}]
[null,"◐",{"$nulls":6},"Total Meetings :-",null,{"$f":"IF(OR($I1717=\"\",$I1717=\"NSO\"),\"\",VLOOKUP($A1712,'Result Entry'!$B$9:$DX$108,98,0))","v":0},"Attedance %"]
[null,"◐","Extra Subjects",{"$nulls":5},"Student's Meetings :-",null,{"$f":"IF(OR($I1717=\"\",$I1717=\"NSO\"),\"\",VLOOKUP($A1712,'Result Entry'!$B$9:$DX$108,99,0))","v":0},{"$f":"IF(OR($I1717=\"\",$I1717=\"NSO\"),\"\",VLOOKUP($A1712,'Result Entry'!$B$9:$DX$108,100,0))","v":""}]
[null,"◐","Subject",null,null,"Total Marks",null,"GRADE","Remark :-",null,{"$f":"IF(OR($I1717=\"\",$I1717=\"NSO\"),\"\",VLOOKUP($A1712,'Result Entry'!$B$9:$DX$108,108,0))","v":0}]
[null,"◐",{"$nulls":6},"Result Date :-",null,{"$f":"'Result Entry'!$T$2","v":"2023-05-24"}]
[null,"◐",{"$f":"'Result Entry'!$BW$3","v":"WORK EXP."},null,null,{"$f":"IF(OR(C1738=\"\",$I1717=\"NSO\"),\"\",VLOOKUP($A1712,'Result Entry'!$B$9:$DX$108,119,0))","v":"0/50"},null,{"$f":"IF(OR(C1738=\"\",$I1717=\"NSO\"),\"\",VLOOKUP($A1712,'Result Entry'!$B$9:$DX$108,81,0))","v":""}]
[null,null,{"$f":"'Result Entry'!$CE$3","v":"ART EDU."},null,null,{"$f":"IF(OR(C1739=\"\",$I1717=\"NSO\"),\"\",VLOOKUP($A1712,'Result Entry'!$B$9:$DX$108,123,0))","v":"0/50"},null,{"$f":"IF(OR(C1739=\"\",$I1717=\"NSO\"),\"\",VLOOKUP($A1712,'Result Entry'!$B$9:$DX$108,89,0))","v":""}]
[null,"◐",{"$f":"'Result Entry'!$CM$3","v":"H&P. EDU."},null,null,{"$f":"IF(OR(C1740=\"\",$I1717=\"NSO\"),\"\",VLOOKUP($A1712,'Result Entry'!$B$9:$DX$108,127,0))","v":"0/100"},null,{"$f":"IF(OR(C1740=\"\",$I1717=\"NSO\"),\"\",VLOOKUP($A1712,'Result Entry'!$B$9:$DX$108,97,0))","v":""},"Signature Of The Class Teacher"]
[null,"◐","Grading System"]
[null,"◐","Grd.","% Range",null,"Description"]
[null,"◐","A","86-100",null,"Excellent",null,null,"Signature And Seal Of Principal/H.M."]
[null,"◐","B","71-85",null,"Very Good"]
[null,"◐","C","51-70",null,"Good"]
[null,"◐","D","31-50",null,"Average"]
[null,"◐","E","0-30",null,"Needs Improvement",null,null,"Wish bright future"]
[]
[]
[{"$f":"A1712+1","v":47},"Department Of Education, Rajasthan"]
[null,{"$f":"IF(I1755>0,CONCATENATE(C1755,I1755),0)","v":0},null,{"$f":"Master!$E$8","v":"Govt.Sr.Sec.Sch. "}]
[{"$nulls":3},{"$f":"Master!$E$11","v":"P.S.-Bapini (Jodhpur)"}]
[null,null,"Report Card",{"$nulls":6},"U-DISE Code:-",null,{"$f":"Master!$E$14","v":{"v":810000000,"d":"0810000000"}}]
[{"$nulls":9},"Session:-",null,{"$f":"Master!$E$6","v":"2022-23"}]
[null,null,"Roll No.:-",{"$nulls":5},{"$f":"VLOOKUP($A1750,'Result Entry'!$B$9:$F$108,5,0)","v":0}]
[null,"◐","Scholar Number",{"$nulls":3},"↠",{"$f":"VLOOKUP($A1750,'Result Entry'!$B$9:$DX$108,3,0)","v":0}]
[null,"◐","Student's Name",{"$nulls":3},"↠",{"$f":"VLOOKUP($A1750,'Result Entry'!$B$9:$DX$108,6,0)","v":0}]
[null,"◐","Father's Name",{"$nulls":3},"↠",{"$f":"VLOOKUP($A1750,'Result Entry'!$B$9:$DX$108,7,0)","v":0}]
[null,"◐","Mother's Name ",{"$nulls":3},"↠",{"$f":"VLOOKUP($A1750,'Result Entry'!$B$9:$DX$108,8,0)","v":0}]
[null,"◐","Class & Section",{"$nulls":3},"↠",{"$f":"CONCATENATE('Result Entry'!$F$4,'Result Entry'!$I$4)","v":"2(A)"}]
[null,"◐","Date Of Birth",{"$nulls":3},"↠",{"$f":"VLOOKUP($A1750,'Result Entry'!$B$9:$DX$108,9,0)","v":"00:00:00"}]
[null,"◐","Subject",{"$nulls":4},"Half Yearly","Total (T+H.Y.)","Yearly","Grand Total",null,"Subject Grade"]
[null,"◐","Max. Marks",{"$nulls":4},{"$f":"'Result Entry'!$Q$7","v":100},{"$f":"G1763+H1763","v":100},{"$f":"'Result Entry'!$U$7","v":100},{"$f":"I1763+J1763","v":200},null,"A/B/C/D/E"]
[null,"◐",{"$f":"'Result Entry'!$K$3","v":"Hindi"},{"$nulls":4},{"$f":"IF(OR(C1764=\"\",$I1755=\"NSO\"),\"\",VLOOKUP($A1750,'Result Entry'!$B$9:$DX$108,16,0))","v":0},{"$f":"SUM(G1764,H1764)","v":0},{"$f":"IF(OR(C1764=\"\",$I1755=\"NSO\"),\"\",VLOOKUP($A1750,'Result Entry'!$B$9:$DX$108,20,0))","v":0},{"$f":"SUM(I1764,J1764)","v":0},null,{"$f":"IF(OR(C1764=\"\",$I1755=\"NSO\"),\"\",VLOOKUP($A1750,'Result Entry'!$B$9:$DX$108,23,0))","v":""}]
[null,"◐",{"$f":"'Result Entry'!$Y$3","v":"Mathematics"},{"$nulls":4},{"$f":"IF(OR(C1765=\"\",$I1755=\"NSO\"),\"\",VLOOKUP($A1750,'Result Entry'!$B$9:$DX$108,30,0))","v":0},{"$f":"SUM(G1765,H1765)","v":0},{"$f":"IF(OR(C1765=\"\",$I1755=\"NSO\"),\"\",VLOOKUP($A1750,'Result Entry'!$B$9:$DX$108,34,0))","v":0},{"$f":"SUM(I1765,J1765)","v":0},null,{"$f":"IF(OR(C1765=\"\",$I1755=\"NSO\"),\"\",VLOOKUP($A1750,'Result Entry'!$B$9:$DX$108,37,0))","v":""}]
[null,"◐",{"$f":"'Result Entry'!$BO$3","v":"Env. Study"},{"$nulls":4},{"$f":"IF(OR(C1766=\"\",$I1755=\"NSO\"),\"\",VLOOKUP($A1750,'Result Entry'!$B$9:$DX$108,66,0))","v":0},0,{"$f":"IF(OR(C1766=\"\",$I1755=\"NSO\"),\"\",VLOOKUP($A1750,'Result Entry'!$B$9:$DX$108,67,0))","v":0},0,null,{"$f":"IF(OR(C1766=\"\",$I1755=\"NSO\"),\"\",VLOOKUP($A1750,'Result Entry'!$B$9:$DX$108,73,0))","v":""}]
[null,"◐","Max. Marks",{"$nulls":4},{"$f":"'Result Entry'!$AS$7","v":50},50,{"$f":"'Result Entry'!$AW$7","v":50},100,null,"A/B/C/D/E"]
[null,"◐",{"$f":"'Result Entry'!$AM$3","v":"English"},{"$nulls":4},{"$f":"IF(OR(C1768=\"\",$I1755=\"NSO\"),\"\",VLOOKUP($A1750,'Result Entry'!$B$9:$DX$108,44,0))","v":0},0,{"$f":"IF(OR(C1768=\"\",$I1755=\"NSO\"),\"\",VLOOKUP($A1750,'Result Entry'!$B$9:$DX$108,48,0))","v":0},0,null,{"$f":"IF(OR(C1768=\"\",$I1755=\"NSO\"),\"\",VLOOKUP($A1750,'Result Entry'!$B$9:$DX$108,51,0))","v":""}]
[null,"◐"]
[null,"◐","Overall Result",null,null,"Total Max. Marks",null,"Total Obtained Marks",null,"Percentage","Overall Grade","Result","Position in Class"]
[null,"◐",{"$nulls":3},{"$f":"IF(OR($I1755=\"\",$I1755=\"NSO\"),\"\",VLOOKUP($A1750,'Result Entry'!$B$9:$DX$108,101,0))","v":500},null,{"$f":"IF(OR($I1755=\"\",$I1755=\"NSO\"),\"\",VLOOKUP($A1750,'Result Entry'!$B$9:$DX$108,102,0))","v":0},null,{"$f":"IF(OR($I1755=\"\",$I1755=\"NSO\"),\"\",VLOOKUP($A1750,'Result Entry'!$B$9:$DX$108,103,0))","v":{"v":0,"d":"0.00"}},{"$f":"IF(OR($I1755=\"\",$I1755=\"NSO\"),\"\",VLOOKUP($A1750,'Result Entry'!$B$9:$DX$108,104,0))","v":""},{"$f":"IF(OR($I1755=\"\",$I1755=\"NSO\"),\"\",VLOOKUP($A1750,'Result Entry'!$B$9:$DX$108,105,0))","v":""},{"$f":"IF(OR($I1755=\"\",$I1755=\"NSO\"),\"\",VLOOKUP($A1750,'Result Entry'!$B$9:$DX$108,107,0))","v":""}]
[null,"◐",{"$nulls":6},"Total Meetings :-",null,{"$f":"IF(OR($I1755=\"\",$I1755=\"NSO\"),\"\",VLOOKUP($A1750,'Result Entry'!$B$9:$DX$108,98,0))","v":0},"Attedance %"]
[null,"◐","Extra Subjects",{"$nulls":5},"Student's Meetings :-",null,{"$f":"IF(OR($I1755=\"\",$I1755=\"NSO\"),\"\",VLOOKUP($A1750,'Result Entry'!$B$9:$DX$108,99,0))","v":0},{"$f":"IF(OR($I1755=\"\",$I1755=\"NSO\"),\"\",VLOOKUP($A1750,'Result Entry'!$B$9:$DX$108,100,0))","v":""}]
[null,"◐","Subject",null,null,"Total Marks",null,"GRADE","Remark :-",null,{"$f":"IF(OR($I1755=\"\",$I1755=\"NSO\"),\"\",VLOOKUP($A1750,'Result Entry'!$B$9:$DX$108,108,0))","v":0}]
[null,"◐",{"$nulls":6},"Result Date :-",null,{"$f":"'Result Entry'!$T$2","v":"2023-05-24"}]
[null,"◐",{"$f":"'Result Entry'!$BW$3","v":"WORK EXP."},null,null,{"$f":"IF(OR(C1776=\"\",$I1755=\"NSO\"),\"\",VLOOKUP($A1750,'Result Entry'!$B$9:$DX$108,119,0))","v":"0/50"},null,{"$f":"IF(OR(C1776=\"\",$I1755=\"NSO\"),\"\",VLOOKUP($A1750,'Result Entry'!$B$9:$DX$108,81,0))","v":""}]
[null,null,{"$f":"'Result Entry'!$CE$3","v":"ART EDU."},null,null,{"$f":"IF(OR(C1777=\"\",$I1755=\"NSO\"),\"\",VLOOKUP($A1750,'Result Entry'!$B$9:$DX$108,123,0))","v":"0/50"},null,{"$f":"IF(OR(C1777=\"\",$I1755=\"NSO\"),\"\",VLOOKUP($A1750,'Result Entry'!$B$9:$DX$108,89,0))","v":""}]
[null,"◐",{"$f":"'Result Entry'!$CM$3","v":"H&P. EDU."},null,null,{"$f":"IF(OR(C1778=\"\",$I1755=\"NSO\"),\"\",VLOOKUP($A1750,'Result Entry'!$B$9:$DX$108,127,0))","v":"0/100"},null,{"$f":"IF(OR(C1778=\"\",$I1755=\"NSO\"),\"\",VLOOKUP($A1750,'Result Entry'!$B$9:$DX$108,97,0))","v":""},"Signature Of The Class Teacher"]
[null,"◐","Grading System"]
[null,"◐","Grd.","% Range",null,"Description"]
[null,"◐","A","86-100",null,"Excellent",null,null,"Signature And Seal Of Principal/H.M."]
[null,"◐","B","71-85",null,"Very Good"]
[null,"◐","C","51-70",null,"Good"]
[null,"◐","D","31-50",null,"Average"]
[null,"◐","E","0-30",null,"Needs Improvement",null,null,"Wish bright future"]
[]
[]
[{"$f":"A1750+1","v":48},"Department Of Education, Rajasthan"]
[null,{"$f":"IF(I1793>0,CONCATENATE(C1793,I1793),0)","v":0},null,{"$f":"Master!$E$8","v":"Govt.Sr.Sec.Sch. "}]
[{"$nulls":3},{"$f":"Master!$E$11","v":"P.S.-Bapini (Jodhpur)"}]
[null,null,"Report Card",{"$nulls":6},"U-DISE Code:-",null,{"$f":"Master!$E$14","v":{"v":810000000,"d":"0810000000"}}]
[{"$nulls":9},"Session:-",null,{"$f":"Master!$E$6","v":"2022-23"}]
[null,null,"Roll No.:-",{"$nulls":5},{"$f":"VLOOKUP($A1788,'Result Entry'!$B$9:$F$108,5,0)","v":0}]
[null,"◐","Scholar Number",{"$nulls":3},"↠",{"$f":"VLOOKUP($A1788,'Result Entry'!$B$9:$DX$108,3,0)","v":0}]
[null,"◐","Student's Name",{"$nulls":3},"↠",{"$f":"VLOOKUP($A1788,'Result Entry'!$B$9:$DX$108,6,0)","v":0}]
[null,"◐","Father's Name",{"$nulls":3},"↠",{"$f":"VLOOKUP($A1788,'Result Entry'!$B$9:$DX$108,7,0)","v":0}]
[null,"◐","Mother's Name ",{"$nulls":3},"↠",{"$f":"VLOOKUP($A1788,'Result Entry'!$B$9:$DX$108,8,0)","v":0}]
[null,"◐","Class & Section",{"$nulls":3},"↠",{"$f":"CONCATENATE('Result Entry'!$F$4,'Result Entry'!$I$4)","v":"2(A)"}]
[null,"◐","Date Of Birth",{"$nulls":3},"↠",{"$f":"VLOOKUP($A1788,'Result Entry'!$B$9:$DX$108,9,0)","v":"00:00:00"}]
[null,"◐","Subject",{"$nulls":4},"Half Yearly","Total (T+H.Y.)","Yearly","Grand Total",null,"Subject Grade"]
[null,"◐","Max. Marks",{"$nulls":4},{"$f":"'Result Entry'!$Q$7","v":100},{"$f":"G1801+H1801","v":100},{"$f":"'Result Entry'!$U$7","v":100},{"$f":"I1801+J1801","v":200},null,"A/B/C/D/E"]
[null,"◐",{"$f":"'Result Entry'!$K$3","v":"Hindi"},{"$nulls":4},{"$f":"IF(OR(C1802=\"\",$I1793=\"NSO\"),\"\",VLOOKUP($A1788,'Result Entry'!$B$9:$DX$108,16,0))","v":0},{"$f":"SUM(G1802,H1802)","v":0},{"$f":"IF(OR(C1802=\"\",$I1793=\"NSO\"),\"\",VLOOKUP($A1788,'Result Entry'!$B$9:$DX$108,20,0))","v":0},{"$f":"SUM(I1802,J1802)","v":0},null,{"$f":"IF(OR(C1802=\"\",$I1793=\"NSO\"),\"\",VLOOKUP($A1788,'Result Entry'!$B$9:$DX$108,23,0))","v":""}]
[null,"◐",{"$f":"'Result Entry'!$Y$3","v":"Mathematics"},{"$nulls":4},{"$f":"IF(OR(C1803=\"\",$I1793=\"NSO\"),\"\",VLOOKUP($A1788,'Result Entry'!$B$9:$DX$108,30,0))","v":0},{"$f":"SUM(G1803,H1803)","v":0},{"$f":"IF(OR(C1803=\"\",$I1793=\"NSO\"),\"\",VLOOKUP($A1788,'Result Entry'!$B$9:$DX$108,34,0))","v":0},{"$f":"SUM(I1803,J1803)","v":0},null,{"$f":"IF(OR(C1803=\"\",$I1793=\"NSO\"),\"\",VLOOKUP($A1788,'Result Entry'!$B$9:$DX$108,37,0))","v":""}]
[null,"◐",{"$f":"'Result Entry'!$BO$3","v":"Env. Study"},{"$nulls":4},{"$f":"IF(OR(C1804=\"\",$I1793=\"NSO\"),\"\",VLOOKUP($A1788,'Result Entry'!$B$9:$DX$108,66,0))","v":0},0,{"$f":"IF(OR(C1804=\"\",$I1793=\"NSO\"),\"\",VLOOKUP($A1788,'Result Entry'!$B$9:$DX$108,67,0))","v":0},0,null,{"$f":"IF(OR(C1804=\"\",$I1793=\"NSO\"),\"\",VLOOKUP($A1788,'Result Entry'!$B$9:$DX$108,73,0))","v":""}]
[null,"◐","Max. Marks",{"$nulls":4},{"$f":"'Result Entry'!$AS$7","v":50},50,{"$f":"'Result Entry'!$AW$7","v":50},100,null,"A/B/C/D/E"]
[null,"◐",{"$f":"'Result Entry'!$AM$3","v":"English"},{"$nulls":4},{"$f":"IF(OR(C1806=\"\",$I1793=\"NSO\"),\"\",VLOOKUP($A1788,'Result Entry'!$B$9:$DX$108,44,0))","v":0},0,{"$f":"IF(OR(C1806=\"\",$I1793=\"NSO\"),\"\",VLOOKUP($A1788,'Result Entry'!$B$9:$DX$108,48,0))","v":0},0,null,{"$f":"IF(OR(C1806=\"\",$I1793=\"NSO\"),\"\",VLOOKUP($A1788,'Result Entry'!$B$9:$DX$108,51,0))","v":""}]
[null,"◐"]
[null,"◐","Overall Result",null,null,"Total Max. Marks",null,"Total Obtained Marks",null,"Percentage","Overall Grade","Result","Position in Class"]
[null,"◐",{"$nulls":3},{"$f":"IF(OR($I1793=\"\",$I1793=\"NSO\"),\"\",VLOOKUP($A1788,'Result Entry'!$B$9:$DX$108,101,0))","v":500},null,{"$f":"IF(OR($I1793=\"\",$I1793=\"NSO\"),\"\",VLOOKUP($A1788,'Result Entry'!$B$9:$DX$108,102,0))","v":0},null,{"$f":"IF(OR($I1793=\"\",$I1793=\"NSO\"),\"\",VLOOKUP($A1788,'Result Entry'!$B$9:$DX$108,103,0))","v":{"v":0,"d":"0.00"}},{"$f":"IF(OR($I1793=\"\",$I1793=\"NSO\"),\"\",VLOOKUP($A1788,'Result Entry'!$B$9:$DX$108,104,0))","v":""},{"$f":"IF(OR($I1793=\"\",$I1793=\"NSO\"),\"\",VLOOKUP($A1788,'Result Entry'!$B$9:$DX$108,105,0))","v":""},{"$f":"IF(OR($I1793=\"\",$I1793=\"NSO\"),\"\",VLOOKUP($A1788,'Result Entry'!$B$9:$DX$108,107,0))","v":""}]
[null,"◐",{"$nulls":6},"Total Meetings :-",null,{"$f":"IF(OR($I1793=\"\",$I1793=\"NSO\"),\"\",VLOOKUP($A1788,'Result Entry'!$B$9:$DX$108,98,0))","v":0},"Attedance %"]
[null,"◐","Extra Subjects",{"$nulls":5},"Student's Meetings :-",null,{"$f":"IF(OR($I1793=\"\",$I1793=\"NSO\"),\"\",VLOOKUP($A1788,'Result Entry'!$B$9:$DX$108,99,0))","v":0},{"$f":"IF(OR($I1793=\"\",$I1793=\"NSO\"),\"\",VLOOKUP($A1788,'Result Entry'!$B$9:$DX$108,100,0))","v":""}]
[null,"◐","Subject",null,null,"Total Marks",null,"GRADE","Remark :-",null,{"$f":"IF(OR($I1793=\"\",$I1793=\"NSO\"),\"\",VLOOKUP($A1788,'Result Entry'!$B$9:$DX$108,108,0))","v":0}]
[null,"◐",{"$nulls":6},"Result Date :-",null,{"$f":"'Result Entry'!$T$2","v":"2023-05-24"}]
[null,"◐",{"$f":"'Result Entry'!$BW$3","v":"WORK EXP."},null,null,{"$f":"IF(OR(C1814=\"\",$I1793=\"NSO\"),\"\",VLOOKUP($A1788,'Result Entry'!$B$9:$DX$108,119,0))","v":"0/50"},null,{"$f":"IF(OR(C1814=\"\",$I1793=\"NSO\"),\"\",VLOOKUP($A1788,'Result Entry'!$B$9:$DX$108,81,0))","v":""}]
[null,null,{"$f":"'Result Entry'!$CE$3","v":"ART EDU."},null,null,{"$f":"IF(OR(C1815=\"\",$I1793=\"NSO\"),\"\",VLOOKUP($A1788,'Result Entry'!$B$9:$DX$108,123,0))","v":"0/50"},null,{"$f":"IF(OR(C1815=\"\",$I1793=\"NSO\"),\"\",VLOOKUP($A1788,'Result Entry'!$B$9:$DX$108,89,0))","v":""}]
[null,"◐",{"$f":"'Result Entry'!$CM$3","v":"H&P. EDU."},null,null,{"$f":"IF(OR(C1816=\"\",$I1793=\"NSO\"),\"\",VLOOKUP($A1788,'Result Entry'!$B$9:$DX$108,127,0))","v":"0/100"},null,{"$f":"IF(OR(C1816=\"\",$I1793=\"NSO\"),\"\",VLOOKUP($A1788,'Result Entry'!$B$9:$DX$108,97,0))","v":""},"Signature Of The Class Teacher"]
[null,"◐","Grading System"]
[null,"◐","Grd.","% Range",null,"Description"]
[null,"◐","A","86-100",null,"Excellent",null,null,"Signature And Seal Of Principal/H.M."]
[null,"◐","B","71-85",null,"Very Good"]
[null,"◐","C","51-70",null,"Good"]
[null,"◐","D","31-50",null,"Average"]
[null,"◐","E","0-30",null,"Needs Improvement",null,null,"Wish bright future"]
[]
[]
[{"$f":"A1788+1","v":49},"Department Of Education, Rajasthan"]
[null,{"$f":"IF(I1831>0,CONCATENATE(C1831,I1831),0)","v":0},null,{"$f":"Master!$E$8","v":"Govt.Sr.Sec.Sch. "}]
[{"$nulls":3},{"$f":"Master!$E$11","v":"P.S.-Bapini (Jodhpur)"}]
[null,null,"Report Card",{"$nulls":6},"U-DISE Code:-",null,{"$f":"Master!$E$14","v":{"v":810000000,"d":"0810000000"}}]
[{"$nulls":9},"Session:-",null,{"$f":"Master!$E$6","v":"2022-23"}]
[null,null,"Roll No.:-",{"$nulls":5},{"$f":"VLOOKUP($A1826,'Result Entry'!$B$9:$F$108,5,0)","v":0}]
[null,"◐","Scholar Number",{"$nulls":3},"↠",{"$f":"VLOOKUP($A1826,'Result Entry'!$B$9:$DX$108,3,0)","v":0}]
[null,"◐","Student's Name",{"$nulls":3},"↠",{"$f":"VLOOKUP($A1826,'Result Entry'!$B$9:$DX$108,6,0)","v":0}]
[null,"◐","Father's Name",{"$nulls":3},"↠",{"$f":"VLOOKUP($A1826,'Result Entry'!$B$9:$DX$108,7,0)","v":0}]
[null,"◐","Mother's Name ",{"$nulls":3},"↠",{"$f":"VLOOKUP($A1826,'Result Entry'!$B$9:$DX$108,8,0)","v":0}]
[null,"◐","Class & Section",{"$nulls":3},"↠",{"$f":"CONCATENATE('Result Entry'!$F$4,'Result Entry'!$I$4)","v":"2(A)"}]
[null,"◐","Date Of Birth",{"$nulls":3},"↠",{"$f":"VLOOKUP($A1826,'Result Entry'!$B$9:$DX$108,9,0)","v":"00:00:00"}]
[null,"◐","Subject",{"$nulls":4},"Half Yearly","Total (T+H.Y.)","Yearly","Grand Total",null,"Subject Grade"]
[null,"◐","Max. Marks",{"$nulls":4},{"$f":"'Result Entry'!$Q$7","v":100},{"$f":"G1839+H1839","v":100},{"$f":"'Result Entry'!$U$7","v":100},{"$f":"I1839+J1839","v":200},null,"A/B/C/D/E"]
[null,"◐",{"$f":"'Result Entry'!$K$3","v":"Hindi"},{"$nulls":4},{"$f":"IF(OR(C1840=\"\",$I1831=\"NSO\"),\"\",VLOOKUP($A1826,'Result Entry'!$B$9:$DX$108,16,0))","v":0},{"$f":"SUM(G1840,H1840)","v":0},{"$f":"IF(OR(C1840=\"\",$I1831=\"NSO\"),\"\",VLOOKUP($A1826,'Result Entry'!$B$9:$DX$108,20,0))","v":0},{"$f":"SUM(I1840,J1840)","v":0},null,{"$f":"IF(OR(C1840=\"\",$I1831=\"NSO\"),\"\",VLOOKUP($A1826,'Result Entry'!$B$9:$DX$108,23,0))","v":""}]
[null,"◐",{"$f":"'Result Entry'!$Y$3","v":"Mathematics"},{"$nulls":4},{"$f":"IF(OR(C1841=\"\",$I1831=\"NSO\"),\"\",VLOOKUP($A1826,'Result Entry'!$B$9:$DX$108,30,0))","v":0},{"$f":"SUM(G1841,H1841)","v":0},{"$f":"IF(OR(C1841=\"\",$I1831=\"NSO\"),\"\",VLOOKUP($A1826,'Result Entry'!$B$9:$DX$108,34,0))","v":0},{"$f":"SUM(I1841,J1841)","v":0},null,{"$f":"IF(OR(C1841=\"\",$I1831=\"NSO\"),\"\",VLOOKUP($A1826,'Result Entry'!$B$9:$DX$108,37,0))","v":""}]
[null,"◐",{"$f":"'Result Entry'!$BO$3","v":"Env. Study"},{"$nulls":4},{"$f":"IF(OR(C1842=\"\",$I1831=\"NSO\"),\"\",VLOOKUP($A1826,'Result Entry'!$B$9:$DX$108,66,0))","v":0},0,{"$f":"IF(OR(C1842=\"\",$I1831=\"NSO\"),\"\",VLOOKUP($A1826,'Result Entry'!$B$9:$DX$108,67,0))","v":0},0,null,{"$f":"IF(OR(C1842=\"\",$I1831=\"NSO\"),\"\",VLOOKUP($A1826,'Result Entry'!$B$9:$DX$108,73,0))","v":""}]
[null,"◐","Max. Marks",{"$nulls":4},{"$f":"'Result Entry'!$AS$7","v":50},50,{"$f":"'Result Entry'!$AW$7","v":50},100,null,"A/B/C/D/E"]
[null,"◐",{"$f":"'Result Entry'!$AM$3","v":"English"},{"$nulls":4},{"$f":"IF(OR(C1844=\"\",$I1831=\"NSO\"),\"\",VLOOKUP($A1826,'Result Entry'!$B$9:$DX$108,44,0))","v":0},0,{"$f":"IF(OR(C1844=\"\",$I1831=\"NSO\"),\"\",VLOOKUP($A1826,'Result Entry'!$B$9:$DX$108,48,0))","v":0},0,null,{"$f":"IF(OR(C1844=\"\",$I1831=\"NSO\"),\"\",VLOOKUP($A1826,'Result Entry'!$B$9:$DX$108,51,0))","v":""}]
[null,"◐"]
[null,"◐","Overall Result",null,null,"Total Max. Marks",null,"Total Obtained Marks",null,"Percentage","Overall Grade","Result","Position in Class"]
[null,"◐",{"$nulls":3},{"$f":"IF(OR($I1831=\"\",$I1831=\"NSO\"),\"\",VLOOKUP($A1826,'Result Entry'!$B$9:$DX$108,101,0))","v":500},null,{"$f":"IF(OR($I1831=\"\",$I1831=\"NSO\"),\"\",VLOOKUP($A1826,'Result Entry'!$B$9:$DX$108,102,0))","v":0},null,{"$f":"IF(OR($I1831=\"\",$I1831=\"NSO\"),\"\",VLOOKUP($A1826,'Result Entry'!$B$9:$DX$108,103,0))","v":{"v":0,"d":"0.00"}},{"$f":"IF(OR($I1831=\"\",$I1831=\"NSO\"),\"\",VLOOKUP($A1826,'Result Entry'!$B$9:$DX$108,104,0))","v":""},{"$f":"IF(OR($I1831=\"\",$I1831=\"NSO\"),\"\",VLOOKUP($A1826,'Result Entry'!$B$9:$DX$108,105,0))","v":""},{"$f":"IF(OR($I1831=\"\",$I1831=\"NSO\"),\"\",VLOOKUP($A1826,'Result Entry'!$B$9:$DX$108,107,0))","v":""}]
[null,"◐",{"$nulls":6},"Total Meetings :-",null,{"$f":"IF(OR($I1831=\"\",$I1831=\"NSO\"),\"\",VLOOKUP($A1826,'Result Entry'!$B$9:$DX$108,98,0))","v":0},"Attedance %"]
[null,"◐","Extra Subjects",{"$nulls":5},"Student's Meetings :-",null,{"$f":"IF(OR($I1831=\"\",$I1831=\"NSO\"),\"\",VLOOKUP($A1826,'Result Entry'!$B$9:$DX$108,99,0))","v":0},{"$f":"IF(OR($I1831=\"\",$I1831=\"NSO\"),\"\",VLOOKUP($A1826,'Result Entry'!$B$9:$DX$108,100,0))","v":""}]
[null,"◐","Subject",null,null,"Total Marks",null,"GRADE","Remark :-",null,{"$f":"IF(OR($I1831=\"\",$I1831=\"NSO\"),\"\",VLOOKUP($A1826,'Result Entry'!$B$9:$DX$108,108,0))","v":0}]
[null,"◐",{"$nulls":6},"Result Date :-",null,{"$f":"'Result Entry'!$T$2","v":"2023-05-24"}]
[null,"◐",{"$f":"'Result Entry'!$BW$3","v":"WORK EXP."},null,null,{"$f":"IF(OR(C1852=\"\",$I1831=\"NSO\"),\"\",VLOOKUP($A1826,'Result Entry'!$B$9:$DX$108,119,0))","v":"0/50"},null,{"$f":"IF(OR(C1852=\"\",$I1831=\"NSO\"),\"\",VLOOKUP($A1826,'Result Entry'!$B$9:$DX$108,81,0))","v":""}]
[null,null,{"$f":"'Result Entry'!$CE$3","v":"ART EDU."},null,null,{"$f":"IF(OR(C1853=\"\",$I1831=\"NSO\"),\"\",VLOOKUP($A1826,'Result Entry'!$B$9:$DX$108,123,0))","v":"0/50"},null,{"$f":"IF(OR(C1853=\"\",$I1831=\"NSO\"),\"\",VLOOKUP($A1826,'Result Entry'!$B$9:$DX$108,89,0))","v":""}]
[null,"◐",{"$f":"'Result Entry'!$CM$3","v":"H&P. EDU."},null,null,{"$f":"IF(OR(C1854=\"\",$I1831=\"NSO\"),\"\",VLOOKUP($A1826,'Result Entry'!$B$9:$DX$108,127,0))","v":"0/100"},null,{"$f":"IF(OR(C1854=\"\",$I1831=\"NSO\"),\"\",VLOOKUP($A1826,'Result Entry'!$B$9:$DX$108,97,0))","v":""},"Signature Of The Class Teacher"]
[null,"◐","Grading System"]
[null,"◐","Grd.","% Range",null,"Description"]
[null,"◐","A","86-100",null,"Excellent",null,null,"Signature And Seal Of Principal/H.M."]
[null,"◐","B","71-85",null,"Very Good"]
[null,"◐","C","51-70",null,"Good"]
[null,"◐","D","31-50",null,"Average"]
[null,"◐","E","0-30",null,"Needs Improvement",null,null,"Wish bright future"]
[]
[]
[{"$f":"A1826+1","v":50},"Department Of Education, Rajasthan"]
[null,{"$f":"IF(I1869>0,CONCATENATE(C1869,I1869),0)","v":0},null,{"$f":"Master!$E$8","v":"Govt.Sr.Sec.Sch. "}]
[{"$nulls":3},{"$f":"Master!$E$11","v":"P.S.-Bapini (Jodhpur)"}]
[null,null,"Report Card",{"$nulls":6},"U-DISE Code:-",null,{"$f":"Master!$E$14","v":{"v":810000000,"d":"0810000000"}}]
[{"$nulls":9},"Session:-",null,{"$f":"Master!$E$6","v":"2022-23"}]
[null,null,"Roll No.:-",{"$nulls":5},{"$f":"VLOOKUP($A1864,'Result Entry'!$B$9:$F$108,5,0)","v":0}]
[null,"◐","Scholar Number",{"$nulls":3},"↠",{"$f":"VLOOKUP($A1864,'Result Entry'!$B$9:$DX$108,3,0)","v":0}]
[null,"◐","Student's Name",{"$nulls":3},"↠",{"$f":"VLOOKUP($A1864,'Result Entry'!$B$9:$DX$108,6,0)","v":0}]
[null,"◐","Father's Name",{"$nulls":3},"↠",{"$f":"VLOOKUP($A1864,'Result Entry'!$B$9:$DX$108,7,0)","v":0}]
[null,"◐","Mother's Name ",{"$nulls":3},"↠",{"$f":"VLOOKUP($A1864,'Result Entry'!$B$9:$DX$108,8,0)","v":0}]
[null,"◐","Class & Section",{"$nulls":3},"↠",{"$f":"CONCATENATE('Result Entry'!$F$4,'Result Entry'!$I$4)","v":"2(A)"}]
[null,"◐","Date Of Birth",{"$nulls":3},"↠",{"$f":"VLOOKUP($A1864,'Result Entry'!$B$9:$DX$108,9,0)","v":"00:00:00"}]
[null,"◐","Subject",{"$nulls":4},"Half Yearly","Total (T+H.Y.)","Yearly","Grand Total",null,"Subject Grade"]
[null,"◐","Max. Marks",{"$nulls":4},{"$f":"'Result Entry'!$Q$7","v":100},{"$f":"G1877+H1877","v":100},{"$f":"'Result Entry'!$U$7","v":100},{"$f":"I1877+J1877","v":200},null,"A/B/C/D/E"]
[null,"◐",{"$f":"'Result Entry'!$K$3","v":"Hindi"},{"$nulls":4},{"$f":"IF(OR(C1878=\"\",$I1869=\"NSO\"),\"\",VLOOKUP($A1864,'Result Entry'!$B$9:$DX$108,16,0))","v":0},{"$f":"SUM(G1878,H1878)","v":0},{"$f":"IF(OR(C1878=\"\",$I1869=\"NSO\"),\"\",VLOOKUP($A1864,'Result Entry'!$B$9:$DX$108,20,0))","v":0},{"$f":"SUM(I1878,J1878)","v":0},null,{"$f":"IF(OR(C1878=\"\",$I1869=\"NSO\"),\"\",VLOOKUP($A1864,'Result Entry'!$B$9:$DX$108,23,0))","v":""}]
[null,"◐",{"$f":"'Result Entry'!$Y$3","v":"Mathematics"},{"$nulls":4},{"$f":"IF(OR(C1879=\"\",$I1869=\"NSO\"),\"\",VLOOKUP($A1864,'Result Entry'!$B$9:$DX$108,30,0))","v":0},{"$f":"SUM(G1879,H1879)","v":0},{"$f":"IF(OR(C1879=\"\",$I1869=\"NSO\"),\"\",VLOOKUP($A1864,'Result Entry'!$B$9:$DX$108,34,0))","v":0},{"$f":"SUM(I1879,J1879)","v":0},null,{"$f":"IF(OR(C1879=\"\",$I1869=\"NSO\"),\"\",VLOOKUP($A1864,'Result Entry'!$B$9:$DX$108,37,0))","v":""}]
[null,"◐",{"$f":"'Result Entry'!$BO$3","v":"Env. Study"},{"$nulls":4},{"$f":"IF(OR(C1880=\"\",$I1869=\"NSO\"),\"\",VLOOKUP($A1864,'Result Entry'!$B$9:$DX$108,66,0))","v":0},0,{"$f":"IF(OR(C1880=\"\",$I1869=\"NSO\"),\"\",VLOOKUP($A1864,'Result Entry'!$B$9:$DX$108,67,0))","v":0},0,null,{"$f":"IF(OR(C1880=\"\",$I1869=\"NSO\"),\"\",VLOOKUP($A1864,'Result Entry'!$B$9:$DX$108,73,0))","v":""}]
[null,"◐","Max. Marks",{"$nulls":4},{"$f":"'Result Entry'!$AS$7","v":50},50,{"$f":"'Result Entry'!$AW$7","v":50},100,null,"A/B/C/D/E"]
[null,"◐",{"$f":"'Result Entry'!$AM$3","v":"English"},{"$nulls":4},{"$f":"IF(OR(C1882=\"\",$I1869=\"NSO\"),\"\",VLOOKUP($A1864,'Result Entry'!$B$9:$DX$108,44,0))","v":0},0,{"$f":"IF(OR(C1882=\"\",$I1869=\"NSO\"),\"\",VLOOKUP($A1864,'Result Entry'!$B$9:$DX$108,48,0))","v":0},0,null,{"$f":"IF(OR(C1882=\"\",$I1869=\"NSO\"),\"\",VLOOKUP($A1864,'Result Entry'!$B$9:$DX$108,51,0))","v":""}]
[null,"◐"]
[null,"◐","Overall Result",null,null,"Total Max. Marks",null,"Total Obtained Marks",null,"Percentage","Overall Grade","Result","Position in Class"]
[null,"◐",{"$nulls":3},{"$f":"IF(OR($I1869=\"\",$I1869=\"NSO\"),\"\",VLOOKUP($A1864,'Result Entry'!$B$9:$DX$108,101,0))","v":500},null,{"$f":"IF(OR($I1869=\"\",$I1869=\"NSO\"),\"\",VLOOKUP($A1864,'Result Entry'!$B$9:$DX$108,102,0))","v":0},null,{"$f":"IF(OR($I1869=\"\",$I1869=\"NSO\"),\"\",VLOOKUP($A1864,'Result Entry'!$B$9:$DX$108,103,0))","v":{"v":0,"d":"0.00"}},{"$f":"IF(OR($I1869=\"\",$I1869=\"NSO\"),\"\",VLOOKUP($A1864,'Result Entry'!$B$9:$DX$108,104,0))","v":""},{"$f":"IF(OR($I1869=\"\",$I1869=\"NSO\"),\"\",VLOOKUP($A1864,'Result Entry'!$B$9:$DX$108,105,0))","v":""},{"$f":"IF(OR($I1869=\"\",$I1869=\"NSO\"),\"\",VLOOKUP($A1864,'Result Entry'!$B$9:$DX$108,107,0))","v":""}]
[null,"◐",{"$nulls":6},"Total Meetings :-",null,{"$f":"IF(OR($I1869=\"\",$I1869=\"NSO\"),\"\",VLOOKUP($A1864,'Result Entry'!$B$9:$DX$108,98,0))","v":0},"Attedance %"]
[null,"◐","Extra Subjects",{"$nulls":5},"Student's Meetings :-",null,{"$f":"IF(OR($I1869=\"\",$I1869=\"NSO\"),\"\",VLOOKUP($A1864,'Result Entry'!$B$9:$DX$108,99,0))","v":0},{"$f":"IF(OR($I1869=\"\",$I1869=\"NSO\"),\"\",VLOOKUP($A1864,'Result Entry'!$B$9:$DX$108,100,0))","v":""}]
[null,"◐","Subject",null,null,"Total Marks",null,"GRADE","Remark :-",null,{"$f":"IF(OR($I1869=\"\",$I1869=\"NSO\"),\"\",VLOOKUP($A1864,'Result Entry'!$B$9:$DX$108,108,0))","v":0}]
[null,"◐",{"$nulls":6},"Result Date :-",null,{"$f":"'Result Entry'!$T$2","v":"2023-05-24"}]
[null,"◐",{"$f":"'Result Entry'!$BW$3","v":"WORK EXP."},null,null,{"$f":"IF(OR(C1890=\"\",$I1869=\"NSO\"),\"\",VLOOKUP($A1864,'Result Entry'!$B$9:$DX$108,119,0))","v":"0/50"},null,{"$f":"IF(OR(C1890=\"\",$I1869=\"NSO\"),\"\",VLOOKUP($A1864,'Result Entry'!$B$9:$DX$108,81,0))","v":""}]
[null,null,{"$f":"'Result Entry'!$CE$3","v":"ART EDU."},null,null,{"$f":"IF(OR(C1891=\"\",$I1869=\"NSO\"),\"\",VLOOKUP($A1864,'Result Entry'!$B$9:$DX$108,123,0))","v":"0/50"},null,{"$f":"IF(OR(C1891=\"\",$I1869=\"NSO\"),\"\",VLOOKUP($A1864,'Result Entry'!$B$9:$DX$108,89,0))","v":""}]
[null,"◐",{"$f":"'Result Entry'!$CM$3","v":"H&P. EDU."},null,null,{"$f":"IF(OR(C1892=\"\",$I1869=\"NSO\"),\"\",VLOOKUP($A1864,'Result Entry'!$B$9:$DX$108,127,0))","v":"0/100"},null,{"$f":"IF(OR(C1892=\"\",$I1869=\"NSO\"),\"\",VLOOKUP($A1864,'Result Entry'!$B$9:$DX$108,97,0))","v":""},"Signature Of The Class Teacher"]
[null,"◐","Grading System"]
[null,"◐","Grd.","% Range",null,"Description"]
[null,"◐","A","86-100",null,"Excellent",null,null,"Signature And Seal Of Principal/H.M."]
[null,"◐","B","71-85",null,"Very Good"]
[null,"◐","C","51-70",null,"Good"]
[null,"◐","D","31-50",null,"Average"]
[null,"◐","E","0-30",null,"Needs Improvement",null,null,"Wish bright future"]
[]
[]
[{"$f":"A1864+1","v":51},"Department Of Education, Rajasthan"]
[null,{"$f":"IF(I1907>0,CONCATENATE(C1907,I1907),0)","v":0},null,{"$f":"Master!$E$8","v":"Govt.Sr.Sec.Sch. "}]
[{"$nulls":3},{"$f":"Master!$E$11","v":"P.S.-Bapini (Jodhpur)"}]
[null,null,"Report Card",{"$nulls":6},"U-DISE Code:-",null,{"$f":"Master!$E$14","v":{"v":810000000,"d":"0810000000"}}]
[{"$nulls":9},"Session:-",null,{"$f":"Master!$E$6","v":"2022-23"}]
[null,null,"Roll No.:-",{"$nulls":5},{"$f":"VLOOKUP($A1902,'Result Entry'!$B$9:$F$108,5,0)","v":0}]
[null,"◐","Scholar Number",{"$nulls":3},"↠",{"$f":"VLOOKUP($A1902,'Result Entry'!$B$9:$DX$108,3,0)","v":0}]
[null,"◐","Student's Name",{"$nulls":3},"↠",{"$f":"VLOOKUP($A1902,'Result Entry'!$B$9:$DX$108,6,0)","v":0}]
[null,"◐","Father's Name",{"$nulls":3},"↠",{"$f":"VLOOKUP($A1902,'Result Entry'!$B$9:$DX$108,7,0)","v":0}]
[null,"◐","Mother's Name ",{"$nulls":3},"↠",{"$f":"VLOOKUP($A1902,'Result Entry'!$B$9:$DX$108,8,0)","v":0}]
[null,"◐","Class & Section",{"$nulls":3},"↠",{"$f":"CONCATENATE('Result Entry'!$F$4,'Result Entry'!$I$4)","v":"2(A)"}]
[null,"◐","Date Of Birth",{"$nulls":3},"↠",{"$f":"VLOOKUP($A1902,'Result Entry'!$B$9:$DX$108,9,0)","v":"00:00:00"}]
[null,"◐","Subject",{"$nulls":4},"Half Yearly","Total (T+H.Y.)","Yearly","Grand Total",null,"Subject Grade"]
[null,"◐","Max. Marks",{"$nulls":4},{"$f":"'Result Entry'!$Q$7","v":100},{"$f":"G1915+H1915","v":100},{"$f":"'Result Entry'!$U$7","v":100},{"$f":"I1915+J1915","v":200},null,"A/B/C/D/E"]
[null,"◐",{"$f":"'Result Entry'!$K$3","v":"Hindi"},{"$nulls":4},{"$f":"IF(OR(C1916=\"\",$I1907=\"NSO\"),\"\",VLOOKUP($A1902,'Result Entry'!$B$9:$DX$108,16,0))","v":0},{"$f":"SUM(G1916,H1916)","v":0},{"$f":"IF(OR(C1916=\"\",$I1907=\"NSO\"),\"\",VLOOKUP($A1902,'Result Entry'!$B$9:$DX$108,20,0))","v":0},{"$f":"SUM(I1916,J1916)","v":0},null,{"$f":"IF(OR(C1916=\"\",$I1907=\"NSO\"),\"\",VLOOKUP($A1902,'Result Entry'!$B$9:$DX$108,23,0))","v":""}]
[null,"◐",{"$f":"'Result Entry'!$Y$3","v":"Mathematics"},{"$nulls":4},{"$f":"IF(OR(C1917=\"\",$I1907=\"NSO\"),\"\",VLOOKUP($A1902,'Result Entry'!$B$9:$DX$108,30,0))","v":0},{"$f":"SUM(G1917,H1917)","v":0},{"$f":"IF(OR(C1917=\"\",$I1907=\"NSO\"),\"\",VLOOKUP($A1902,'Result Entry'!$B$9:$DX$108,34,0))","v":0},{"$f":"SUM(I1917,J1917)","v":0},null,{"$f":"IF(OR(C1917=\"\",$I1907=\"NSO\"),\"\",VLOOKUP($A1902,'Result Entry'!$B$9:$DX$108,37,0))","v":""}]
[null,"◐",{"$f":"'Result Entry'!$BO$3","v":"Env. Study"},{"$nulls":4},{"$f":"IF(OR(C1918=\"\",$I1907=\"NSO\"),\"\",VLOOKUP($A1902,'Result Entry'!$B$9:$DX$108,66,0))","v":0},0,{"$f":"IF(OR(C1918=\"\",$I1907=\"NSO\"),\"\",VLOOKUP($A1902,'Result Entry'!$B$9:$DX$108,67,0))","v":0},0,null,{"$f":"IF(OR(C1918=\"\",$I1907=\"NSO\"),\"\",VLOOKUP($A1902,'Result Entry'!$B$9:$DX$108,73,0))","v":""}]
[null,"◐","Max. Marks",{"$nulls":4},{"$f":"'Result Entry'!$AS$7","v":50},50,{"$f":"'Result Entry'!$AW$7","v":50},100,null,"A/B/C/D/E"]
[null,"◐",{"$f":"'Result Entry'!$AM$3","v":"English"},{"$nulls":4},{"$f":"IF(OR(C1920=\"\",$I1907=\"NSO\"),\"\",VLOOKUP($A1902,'Result Entry'!$B$9:$DX$108,44,0))","v":0},0,{"$f":"IF(OR(C1920=\"\",$I1907=\"NSO\"),\"\",VLOOKUP($A1902,'Result Entry'!$B$9:$DX$108,48,0))","v":0},0,null,{"$f":"IF(OR(C1920=\"\",$I1907=\"NSO\"),\"\",VLOOKUP($A1902,'Result Entry'!$B$9:$DX$108,51,0))","v":""}]
[null,"◐"]
[null,"◐","Overall Result",null,null,"Total Max. Marks",null,"Total Obtained Marks",null,"Percentage","Overall Grade","Result","Position in Class"]
[null,"◐",{"$nulls":3},{"$f":"IF(OR($I1907=\"\",$I1907=\"NSO\"),\"\",VLOOKUP($A1902,'Result Entry'!$B$9:$DX$108,101,0))","v":500},null,{"$f":"IF(OR($I1907=\"\",$I1907=\"NSO\"),\"\",VLOOKUP($A1902,'Result Entry'!$B$9:$DX$108,102,0))","v":0},null,{"$f":"IF(OR($I1907=\"\",$I1907=\"NSO\"),\"\",VLOOKUP($A1902,'Result Entry'!$B$9:$DX$108,103,0))","v":{"v":0,"d":"0.00"}},{"$f":"IF(OR($I1907=\"\",$I1907=\"NSO\"),\"\",VLOOKUP($A1902,'Result Entry'!$B$9:$DX$108,104,0))","v":""},{"$f":"IF(OR($I1907=\"\",$I1907=\"NSO\"),\"\",VLOOKUP($A1902,'Result Entry'!$B$9:$DX$108,105,0))","v":""},{"$f":"IF(OR($I1907=\"\",$I1907=\"NSO\"),\"\",VLOOKUP($A1902,'Result Entry'!$B$9:$DX$108,107,0))","v":""}]
[null,"◐",{"$nulls":6},"Total Meetings :-",null,{"$f":"IF(OR($I1907=\"\",$I1907=\"NSO\"),\"\",VLOOKUP($A1902,'Result Entry'!$B$9:$DX$108,98,0))","v":0},"Attedance %"]
[null,"◐","Extra Subjects",{"$nulls":5},"Student's Meetings :-",null,{"$f":"IF(OR($I1907=\"\",$I1907=\"NSO\"),\"\",VLOOKUP($A1902,'Result Entry'!$B$9:$DX$108,99,0))","v":0},{"$f":"IF(OR($I1907=\"\",$I1907=\"NSO\"),\"\",VLOOKUP($A1902,'Result Entry'!$B$9:$DX$108,100,0))","v":""}]
[null,"◐","Subject",null,null,"Total Marks",null,"GRADE","Remark :-",null,{"$f":"IF(OR($I1907=\"\",$I1907=\"NSO\"),\"\",VLOOKUP($A1902,'Result Entry'!$B$9:$DX$108,108,0))","v":0}]
[null,"◐",{"$nulls":6},"Result Date :-",null,{"$f":"'Result Entry'!$T$2","v":"2023-05-24"}]
[null,"◐",{"$f":"'Result Entry'!$BW$3","v":"WORK EXP."},null,null,{"$f":"IF(OR(C1928=\"\",$I1907=\"NSO\"),\"\",VLOOKUP($A1902,'Result Entry'!$B$9:$DX$108,119,0))","v":"0/50"},null,{"$f":"IF(OR(C1928=\"\",$I1907=\"NSO\"),\"\",VLOOKUP($A1902,'Result Entry'!$B$9:$DX$108,81,0))","v":""}]
[null,null,{"$f":"'Result Entry'!$CE$3","v":"ART EDU."},null,null,{"$f":"IF(OR(C1929=\"\",$I1907=\"NSO\"),\"\",VLOOKUP($A1902,'Result Entry'!$B$9:$DX$108,123,0))","v":"0/50"},null,{"$f":"IF(OR(C1929=\"\",$I1907=\"NSO\"),\"\",VLOOKUP($A1902,'Result Entry'!$B$9:$DX$108,89,0))","v":""}]
[null,"◐",{"$f":"'Result Entry'!$CM$3","v":"H&P. EDU."},null,null,{"$f":"IF(OR(C1930=\"\",$I1907=\"NSO\"),\"\",VLOOKUP($A1902,'Result Entry'!$B$9:$DX$108,127,0))","v":"0/100"},null,{"$f":"IF(OR(C1930=\"\",$I1907=\"NSO\"),\"\",VLOOKUP($A1902,'Result Entry'!$B$9:$DX$108,97,0))","v":""},"Signature Of The Class Teacher"]
[null,"◐","Grading System"]
[null,"◐","Grd.","% Range",null,"Description"]
[null,"◐","A","86-100",null,"Excellent",null,null,"Signature And Seal Of Principal/H.M."]
[null,"◐","B","71-85",null,"Very Good"]
[null,"◐","C","51-70",null,"Good"]
[null,"◐","D","31-50",null,"Average"]
[null,"◐","E","0-30",null,"Needs Improvement",null,null,"Wish bright future"]
[]
[]
[{"$f":"A1902+1","v":52},"Department Of Education, Rajasthan"]
[null,{"$f":"IF(I1945>0,CONCATENATE(C1945,I1945),0)","v":0},null,{"$f":"Master!$E$8","v":"Govt.Sr.Sec.Sch. "}]
[{"$nulls":3},{"$f":"Master!$E$11","v":"P.S.-Bapini (Jodhpur)"}]
[null,null,"Report Card",{"$nulls":6},"U-DISE Code:-",null,{"$f":"Master!$E$14","v":{"v":810000000,"d":"0810000000"}}]
[{"$nulls":9},"Session:-",null,{"$f":"Master!$E$6","v":"2022-23"}]
[null,null,"Roll No.:-",{"$nulls":5},{"$f":"VLOOKUP($A1940,'Result Entry'!$B$9:$F$108,5,0)","v":0}]
[null,"◐","Scholar Number",{"$nulls":3},"↠",{"$f":"VLOOKUP($A1940,'Result Entry'!$B$9:$DX$108,3,0)","v":0}]
[null,"◐","Student's Name",{"$nulls":3},"↠",{"$f":"VLOOKUP($A1940,'Result Entry'!$B$9:$DX$108,6,0)","v":0}]
[null,"◐","Father's Name",{"$nulls":3},"↠",{"$f":"VLOOKUP($A1940,'Result Entry'!$B$9:$DX$108,7,0)","v":0}]
[null,"◐","Mother's Name ",{"$nulls":3},"↠",{"$f":"VLOOKUP($A1940,'Result Entry'!$B$9:$DX$108,8,0)","v":0}]
[null,"◐","Class & Section",{"$nulls":3},"↠",{"$f":"CONCATENATE('Result Entry'!$F$4,'Result Entry'!$I$4)","v":"2(A)"}]
[null,"◐","Date Of Birth",{"$nulls":3},"↠",{"$f":"VLOOKUP($A1940,'Result Entry'!$B$9:$DX$108,9,0)","v":"00:00:00"}]
[null,"◐","Subject",{"$nulls":4},"Half Yearly","Total (T+H.Y.)","Yearly","Grand Total",null,"Subject Grade"]
[null,"◐","Max. Marks",{"$nulls":4},{"$f":"'Result Entry'!$Q$7","v":100},{"$f":"G1953+H1953","v":100},{"$f":"'Result Entry'!$U$7","v":100},{"$f":"I1953+J1953","v":200},null,"A/B/C/D/E"]
[null,"◐",{"$f":"'Result Entry'!$K$3","v":"Hindi"},{"$nulls":4},{"$f":"IF(OR(C1954=\"\",$I1945=\"NSO\"),\"\",VLOOKUP($A1940,'Result Entry'!$B$9:$DX$108,16,0))","v":0},{"$f":"SUM(G1954,H1954)","v":0},{"$f":"IF(OR(C1954=\"\",$I1945=\"NSO\"),\"\",VLOOKUP($A1940,'Result Entry'!$B$9:$DX$108,20,0))","v":0},{"$f":"SUM(I1954,J1954)","v":0},null,{"$f":"IF(OR(C1954=\"\",$I1945=\"NSO\"),\"\",VLOOKUP($A1940,'Result Entry'!$B$9:$DX$108,23,0))","v":""}]
[null,"◐",{"$f":"'Result Entry'!$Y$3","v":"Mathematics"},{"$nulls":4},{"$f":"IF(OR(C1955=\"\",$I1945=\"NSO\"),\"\",VLOOKUP($A1940,'Result Entry'!$B$9:$DX$108,30,0))","v":0},{"$f":"SUM(G1955,H1955)","v":0},{"$f":"IF(OR(C1955=\"\",$I1945=\"NSO\"),\"\",VLOOKUP($A1940,'Result Entry'!$B$9:$DX$108,34,0))","v":0},{"$f":"SUM(I1955,J1955)","v":0},null,{"$f":"IF(OR(C1955=\"\",$I1945=\"NSO\"),\"\",VLOOKUP($A1940,'Result Entry'!$B$9:$DX$108,37,0))","v":""}]
[null,"◐",{"$f":"'Result Entry'!$BO$3","v":"Env. Study"},{"$nulls":4},{"$f":"IF(OR(C1956=\"\",$I1945=\"NSO\"),\"\",VLOOKUP($A1940,'Result Entry'!$B$9:$DX$108,66,0))","v":0},0,{"$f":"IF(OR(C1956=\"\",$I1945=\"NSO\"),\"\",VLOOKUP($A1940,'Result Entry'!$B$9:$DX$108,67,0))","v":0},0,null,{"$f":"IF(OR(C1956=\"\",$I1945=\"NSO\"),\"\",VLOOKUP($A1940,'Result Entry'!$B$9:$DX$108,73,0))","v":""}]
[null,"◐","Max. Marks",{"$nulls":4},{"$f":"'Result Entry'!$AS$7","v":50},50,{"$f":"'Result Entry'!$AW$7","v":50},100,null,"A/B/C/D/E"]
[null,"◐",{"$f":"'Result Entry'!$AM$3","v":"English"},{"$nulls":4},{"$f":"IF(OR(C1958=\"\",$I1945=\"NSO\"),\"\",VLOOKUP($A1940,'Result Entry'!$B$9:$DX$108,44,0))","v":0},0,{"$f":"IF(OR(C1958=\"\",$I1945=\"NSO\"),\"\",VLOOKUP($A1940,'Result Entry'!$B$9:$DX$108,48,0))","v":0},0,null,{"$f":"IF(OR(C1958=\"\",$I1945=\"NSO\"),\"\",VLOOKUP($A1940,'Result Entry'!$B$9:$DX$108,51,0))","v":""}]
[null,"◐"]
[null,"◐","Overall Result",null,null,"Total Max. Marks",null,"Total Obtained Marks",null,"Percentage","Overall Grade","Result","Position in Class"]
[null,"◐",{"$nulls":3},{"$f":"IF(OR($I1945=\"\",$I1945=\"NSO\"),\"\",VLOOKUP($A1940,'Result Entry'!$B$9:$DX$108,101,0))","v":500},null,{"$f":"IF(OR($I1945=\"\",$I1945=\"NSO\"),\"\",VLOOKUP($A1940,'Result Entry'!$B$9:$DX$108,102,0))","v":0},null,{"$f":"IF(OR($I1945=\"\",$I1945=\"NSO\"),\"\",VLOOKUP($A1940,'Result Entry'!$B$9:$DX$108,103,0))","v":{"v":0,"d":"0.00"}},{"$f":"IF(OR($I1945=\"\",$I1945=\"NSO\"),\"\",VLOOKUP($A1940,'Result Entry'!$B$9:$DX$108,104,0))","v":""},{"$f":"IF(OR($I1945=\"\",$I1945=\"NSO\"),\"\",VLOOKUP($A1940,'Result Entry'!$B$9:$DX$108,105,0))","v":""},{"$f":"IF(OR($I1945=\"\",$I1945=\"NSO\"),\"\",VLOOKUP($A1940,'Result Entry'!$B$9:$DX$108,107,0))","v":""}]
[null,"◐",{"$nulls":6},"Total Meetings :-",null,{"$f":"IF(OR($I1945=\"\",$I1945=\"NSO\"),\"\",VLOOKUP($A1940,'Result Entry'!$B$9:$DX$108,98,0))","v":0},"Attedance %"]
[null,"◐","Extra Subjects",{"$nulls":5},"Student's Meetings :-",null,{"$f":"IF(OR($I1945=\"\",$I1945=\"NSO\"),\"\",VLOOKUP($A1940,'Result Entry'!$B$9:$DX$108,99,0))","v":0},{"$f":"IF(OR($I1945=\"\",$I1945=\"NSO\"),\"\",VLOOKUP($A1940,'Result Entry'!$B$9:$DX$108,100,0))","v":""}]
[null,"◐","Subject",null,null,"Total Marks",null,"GRADE","Remark :-",null,{"$f":"IF(OR($I1945=\"\",$I1945=\"NSO\"),\"\",VLOOKUP($A1940,'Result Entry'!$B$9:$DX$108,108,0))","v":0}]
[null,"◐",{"$nulls":6},"Result Date :-",null,{"$f":"'Result Entry'!$T$2","v":"2023-05-24"}]
[null,"◐",{"$f":"'Result Entry'!$BW$3","v":"WORK EXP."},null,null,{"$f":"IF(OR(C1966=\"\",$I1945=\"NSO\"),\"\",VLOOKUP($A1940,'Result Entry'!$B$9:$DX$108,119,0))","v":"0/50"},null,{"$f":"IF(OR(C1966=\"\",$I1945=\"NSO\"),\"\",VLOOKUP($A1940,'Result Entry'!$B$9:$DX$108,81,0))","v":""}]
[null,null,{"$f":"'Result Entry'!$CE$3","v":"ART EDU."},null,null,{"$f":"IF(OR(C1967=\"\",$I1945=\"NSO\"),\"\",VLOOKUP($A1940,'Result Entry'!$B$9:$DX$108,123,0))","v":"0/50"},null,{"$f":"IF(OR(C1967=\"\",$I1945=\"NSO\"),\"\",VLOOKUP($A1940,'Result Entry'!$B$9:$DX$108,89,0))","v":""}]
[null,"◐",{"$f":"'Result Entry'!$CM$3","v":"H&P. EDU."},null,null,{"$f":"IF(OR(C1968=\"\",$I1945=\"NSO\"),\"\",VLOOKUP($A1940,'Result Entry'!$B$9:$DX$108,127,0))","v":"0/100"},null,{"$f":"IF(OR(C1968=\"\",$I1945=\"NSO\"),\"\",VLOOKUP($A1940,'Result Entry'!$B$9:$DX$108,97,0))","v":""},"Signature Of The Class Teacher"]
[null,"◐","Grading System"]
[null,"◐","Grd.","% Range",null,"Description"]
[null,"◐","A","86-100",null,"Excellent",null,null,"Signature And Seal Of Principal/H.M."]
[null,"◐","B","71-85",null,"Very Good"]
[null,"◐","C","51-70",null,"Good"]
[null,"◐","D","31-50",null,"Average"]
[null,"◐","E","0-30",null,"Needs Improvement",null,null,"Wish bright future"]
[]
[]
[{"$f":"A1940+1","v":53},"Department Of Education, Rajasthan"]
[null,{"$f":"IF(I1983>0,CONCATENATE(C1983,I1983),0)","v":0},null,{"$f":"Master!$E$8","v":"Govt.Sr.Sec.Sch. "}]
[{"$nulls":3},{"$f":"Master!$E$11","v":"P.S.-Bapini (Jodhpur)"}]
[null,null,"Report Card",{"$nulls":6},"U-DISE Code:-",null,{"$f":"Master!$E$14","v":{"v":810000000,"d":"0810000000"}}]
[{"$nulls":9},"Session:-",null,{"$f":"Master!$E$6","v":"2022-23"}]
[null,null,"Roll No.:-",{"$nulls":5},{"$f":"VLOOKUP($A1978,'Result Entry'!$B$9:$F$108,5,0)","v":0}]
[null,"◐","Scholar Number",{"$nulls":3},"↠",{"$f":"VLOOKUP($A1978,'Result Entry'!$B$9:$DX$108,3,0)","v":0}]
[null,"◐","Student's Name",{"$nulls":3},"↠",{"$f":"VLOOKUP($A1978,'Result Entry'!$B$9:$DX$108,6,0)","v":0}]
[null,"◐","Father's Name",{"$nulls":3},"↠",{"$f":"VLOOKUP($A1978,'Result Entry'!$B$9:$DX$108,7,0)","v":0}]
[null,"◐","Mother's Name ",{"$nulls":3},"↠",{"$f":"VLOOKUP($A1978,'Result Entry'!$B$9:$DX$108,8,0)","v":0}]
[null,"◐","Class & Section",{"$nulls":3},"↠",{"$f":"CONCATENATE('Result Entry'!$F$4,'Result Entry'!$I$4)","v":"2(A)"}]
[null,"◐","Date Of Birth",{"$nulls":3},"↠",{"$f":"VLOOKUP($A1978,'Result Entry'!$B$9:$DX$108,9,0)","v":"00:00:00"}]
[null,"◐","Subject",{"$nulls":4},"Half Yearly","Total (T+H.Y.)","Yearly","Grand Total",null,"Subject Grade"]
[null,"◐","Max. Marks",{"$nulls":4},{"$f":"'Result Entry'!$Q$7","v":100},{"$f":"G1991+H1991","v":100},{"$f":"'Result Entry'!$U$7","v":100},{"$f":"I1991+J1991","v":200},null,"A/B/C/D/E"]
[null,"◐",{"$f":"'Result Entry'!$K$3","v":"Hindi"},{"$nulls":4},{"$f":"IF(OR(C1992=\"\",$I1983=\"NSO\"),\"\",VLOOKUP($A1978,'Result Entry'!$B$9:$DX$108,16,0))","v":0},{"$f":"SUM(G1992,H1992)","v":0},{"$f":"IF(OR(C1992=\"\",$I1983=\"NSO\"),\"\",VLOOKUP($A1978,'Result Entry'!$B$9:$DX$108,20,0))","v":0},{"$f":"SUM(I1992,J1992)","v":0},null,{"$f":"IF(OR(C1992=\"\",$I1983=\"NSO\"),\"\",VLOOKUP($A1978,'Result Entry'!$B$9:$DX$108,23,0))","v":""}]
[null,"◐",{"$f":"'Result Entry'!$Y$3","v":"Mathematics"},{"$nulls":4},{"$f":"IF(OR(C1993=\"\",$I1983=\"NSO\"),\"\",VLOOKUP($A1978,'Result Entry'!$B$9:$DX$108,30,0))","v":0},{"$f":"SUM(G1993,H1993)","v":0},{"$f":"IF(OR(C1993=\"\",$I1983=\"NSO\"),\"\",VLOOKUP($A1978,'Result Entry'!$B$9:$DX$108,34,0))","v":0},{"$f":"SUM(I1993,J1993)","v":0},null,{"$f":"IF(OR(C1993=\"\",$I1983=\"NSO\"),\"\",VLOOKUP($A1978,'Result Entry'!$B$9:$DX$108,37,0))","v":""}]
[null,"◐",{"$f":"'Result Entry'!$BO$3","v":"Env. Study"},{"$nulls":4},{"$f":"IF(OR(C1994=\"\",$I1983=\"NSO\"),\"\",VLOOKUP($A1978,'Result Entry'!$B$9:$DX$108,66,0))","v":0},0,{"$f":"IF(OR(C1994=\"\",$I1983=\"NSO\"),\"\",VLOOKUP($A1978,'Result Entry'!$B$9:$DX$108,67,0))","v":0},0,null,{"$f":"IF(OR(C1994=\"\",$I1983=\"NSO\"),\"\",VLOOKUP($A1978,'Result Entry'!$B$9:$DX$108,73,0))","v":""}]
[null,"◐","Max. Marks",{"$nulls":4},{"$f":"'Result Entry'!$AS$7","v":50},50,{"$f":"'Result Entry'!$AW$7","v":50},100,null,"A/B/C/D/E"]
[null,"◐",{"$f":"'Result Entry'!$AM$3","v":"English"},{"$nulls":4},{"$f":"IF(OR(C1996=\"\",$I1983=\"NSO\"),\"\",VLOOKUP($A1978,'Result Entry'!$B$9:$DX$108,44,0))","v":0},0,{"$f":"IF(OR(C1996=\"\",$I1983=\"NSO\"),\"\",VLOOKUP($A1978,'Result Entry'!$B$9:$DX$108,48,0))","v":0},0,null,{"$f":"IF(OR(C1996=\"\",$I1983=\"NSO\"),\"\",VLOOKUP($A1978,'Result Entry'!$B$9:$DX$108,51,0))","v":""}]
[null,"◐"]
[null,"◐","Overall Result",null,null,"Total Max. Marks",null,"Total Obtained Marks",null,"Percentage","Overall Grade","Result","Position in Class"]
[null,"◐",{"$nulls":3},{"$f":"IF(OR($I1983=\"\",$I1983=\"NSO\"),\"\",VLOOKUP($A1978,'Result Entry'!$B$9:$DX$108,101,0))","v":500},null,{"$f":"IF(OR($I1983=\"\",$I1983=\"NSO\"),\"\",VLOOKUP($A1978,'Result Entry'!$B$9:$DX$108,102,0))","v":0},null,{"$f":"IF(OR($I1983=\"\",$I1983=\"NSO\"),\"\",VLOOKUP($A1978,'Result Entry'!$B$9:$DX$108,103,0))","v":{"v":0,"d":"0.00"}},{"$f":"IF(OR($I1983=\"\",$I1983=\"NSO\"),\"\",VLOOKUP($A1978,'Result Entry'!$B$9:$DX$108,104,0))","v":""},{"$f":"IF(OR($I1983=\"\",$I1983=\"NSO\"),\"\",VLOOKUP($A1978,'Result Entry'!$B$9:$DX$108,105,0))","v":""},{"$f":"IF(OR($I1983=\"\",$I1983=\"NSO\"),\"\",VLOOKUP($A1978,'Result Entry'!$B$9:$DX$108,107,0))","v":""}]
[null,"◐",{"$nulls":6},"Total Meetings :-",null,{"$f":"IF(OR($I1983=\"\",$I1983=\"NSO\"),\"\",VLOOKUP($A1978,'Result Entry'!$B$9:$DX$108,98,0))","v":0},"Attedance %"]
[null,"◐","Extra Subjects",{"$nulls":5},"Student's Meetings :-",null,{"$f":"IF(OR($I1983=\"\",$I1983=\"NSO\"),\"\",VLOOKUP($A1978,'Result Entry'!$B$9:$DX$108,99,0))","v":0},{"$f":"IF(OR($I1983=\"\",$I1983=\"NSO\"),\"\",VLOOKUP($A1978,'Result Entry'!$B$9:$DX$108,100,0))","v":""}]
[null,"◐","Subject",null,null,"Total Marks",null,"GRADE","Remark :-",null,{"$f":"IF(OR($I1983=\"\",$I1983=\"NSO\"),\"\",VLOOKUP($A1978,'Result Entry'!$B$9:$DX$108,108,0))","v":0}]
[null,"◐",{"$nulls":6},"Result Date :-",null,{"$f":"'Result Entry'!$T$2","v":"2023-05-24"}]
[null,"◐",{"$f":"'Result Entry'!$BW$3","v":"WORK EXP."},null,null,{"$f":"IF(OR(C2004=\"\",$I1983=\"NSO\"),\"\",VLOOKUP($A1978,'Result Entry'!$B$9:$DX$108,119,0))","v":"0/50"},null,{"$f":"IF(OR(C2004=\"\",$I1983=\"NSO\"),\"\",VLOOKUP($A1978,'Result Entry'!$B$9:$DX$108,81,0))","v":""}]
[null,null,{"$f":"'Result Entry'!$CE$3","v":"ART EDU."},null,null,{"$f":"IF(OR(C2005=\"\",$I1983=\"NSO\"),\"\",VLOOKUP($A1978,'Result Entry'!$B$9:$DX$108,123,0))","v":"0/50"},null,{"$f":"IF(OR(C2005=\"\",$I1983=\"NSO\"),\"\",VLOOKUP($A1978,'Result Entry'!$B$9:$DX$108,89,0))","v":""}]
[null,"◐",{"$f":"'Result Entry'!$CM$3","v":"H&P. EDU."},null,null,{"$f":"IF(OR(C2006=\"\",$I1983=\"NSO\"),\"\",VLOOKUP($A1978,'Result Entry'!$B$9:$DX$108,127,0))","v":"0/100"},null,{"$f":"IF(OR(C2006=\"\",$I1983=\"NSO\"),\"\",VLOOKUP($A1978,'Result Entry'!$B$9:$DX$108,97,0))","v":""},"Signature Of The Class Teacher"]
[null,"◐","Grading System"]
[null,"◐","Grd.","% Range",null,"Description"]
[null,"◐","A","86-100",null,"Excellent",null,null,"Signature And Seal Of Principal/H.M."]
[null,"◐","B","71-85",null,"Very Good"]
[null,"◐","C","51-70",null,"Good"]
[null,"◐","D","31-50",null,"Average"]
[null,"◐","E","0-30",null,"Needs Improvement",null,null,"Wish bright future"]
[]
[]
[{"$f":"A1978+1","v":54},"Department Of Education, Rajasthan"]
[null,{"$f":"IF(I2021>0,CONCATENATE(C2021,I2021),0)","v":0},null,{"$f":"Master!$E$8","v":"Govt.Sr.Sec.Sch. "}]
[{"$nulls":3},{"$f":"Master!$E$11","v":"P.S.-Bapini (Jodhpur)"}]
[null,null,"Report Card",{"$nulls":6},"U-DISE Code:-",null,{"$f":"Master!$E$14","v":{"v":810000000,"d":"0810000000"}}]
[{"$nulls":9},"Session:-",null,{"$f":"Master!$E$6","v":"2022-23"}]
[null,null,"Roll No.:-",{"$nulls":5},{"$f":"VLOOKUP($A2016,'Result Entry'!$B$9:$F$108,5,0)","v":0}]
[null,"◐","Scholar Number",{"$nulls":3},"↠",{"$f":"VLOOKUP($A2016,'Result Entry'!$B$9:$DX$108,3,0)","v":0}]
[null,"◐","Student's Name",{"$nulls":3},"↠",{"$f":"VLOOKUP($A2016,'Result Entry'!$B$9:$DX$108,6,0)","v":0}]
[null,"◐","Father's Name",{"$nulls":3},"↠",{"$f":"VLOOKUP($A2016,'Result Entry'!$B$9:$DX$108,7,0)","v":0}]
[null,"◐","Mother's Name ",{"$nulls":3},"↠",{"$f":"VLOOKUP($A2016,'Result Entry'!$B$9:$DX$108,8,0)","v":0}]
[null,"◐","Class & Section",{"$nulls":3},"↠",{"$f":"CONCATENATE('Result Entry'!$F$4,'Result Entry'!$I$4)","v":"2(A)"}]
[null,"◐","Date Of Birth",{"$nulls":3},"↠",{"$f":"VLOOKUP($A2016,'Result Entry'!$B$9:$DX$108,9,0)","v":"00:00:00"}]
[null,"◐","Subject",{"$nulls":4},"Half Yearly","Total (T+H.Y.)","Yearly","Grand Total",null,"Subject Grade"]
[null,"◐","Max. Marks",{"$nulls":4},{"$f":"'Result Entry'!$Q$7","v":100},{"$f":"G2029+H2029","v":100},{"$f":"'Result Entry'!$U$7","v":100},{"$f":"I2029+J2029","v":200},null,"A/B/C/D/E"]
[null,"◐",{"$f":"'Result Entry'!$K$3","v":"Hindi"},{"$nulls":4},{"$f":"IF(OR(C2030=\"\",$I2021=\"NSO\"),\"\",VLOOKUP($A2016,'Result Entry'!$B$9:$DX$108,16,0))","v":0},{"$f":"SUM(G2030,H2030)","v":0},{"$f":"IF(OR(C2030=\"\",$I2021=\"NSO\"),\"\",VLOOKUP($A2016,'Result Entry'!$B$9:$DX$108,20,0))","v":0},{"$f":"SUM(I2030,J2030)","v":0},null,{"$f":"IF(OR(C2030=\"\",$I2021=\"NSO\"),\"\",VLOOKUP($A2016,'Result Entry'!$B$9:$DX$108,23,0))","v":""}]
[null,"◐",{"$f":"'Result Entry'!$Y$3","v":"Mathematics"},{"$nulls":4},{"$f":"IF(OR(C2031=\"\",$I2021=\"NSO\"),\"\",VLOOKUP($A2016,'Result Entry'!$B$9:$DX$108,30,0))","v":0},{"$f":"SUM(G2031,H2031)","v":0},{"$f":"IF(OR(C2031=\"\",$I2021=\"NSO\"),\"\",VLOOKUP($A2016,'Result Entry'!$B$9:$DX$108,34,0))","v":0},{"$f":"SUM(I2031,J2031)","v":0},null,{"$f":"IF(OR(C2031=\"\",$I2021=\"NSO\"),\"\",VLOOKUP($A2016,'Result Entry'!$B$9:$DX$108,37,0))","v":""}]
[null,"◐",{"$f":"'Result Entry'!$BO$3","v":"Env. Study"},{"$nulls":4},{"$f":"IF(OR(C2032=\"\",$I2021=\"NSO\"),\"\",VLOOKUP($A2016,'Result Entry'!$B$9:$DX$108,66,0))","v":0},0,{"$f":"IF(OR(C2032=\"\",$I2021=\"NSO\"),\"\",VLOOKUP($A2016,'Result Entry'!$B$9:$DX$108,67,0))","v":0},0,null,{"$f":"IF(OR(C2032=\"\",$I2021=\"NSO\"),\"\",VLOOKUP($A2016,'Result Entry'!$B$9:$DX$108,73,0))","v":""}]
[null,"◐","Max. Marks",{"$nulls":4},{"$f":"'Result Entry'!$AS$7","v":50},50,{"$f":"'Result Entry'!$AW$7","v":50},100,null,"A/B/C/D/E"]
[null,"◐",{"$f":"'Result Entry'!$AM$3","v":"English"},{"$nulls":4},{"$f":"IF(OR(C2034=\"\",$I2021=\"NSO\"),\"\",VLOOKUP($A2016,'Result Entry'!$B$9:$DX$108,44,0))","v":0},0,{"$f":"IF(OR(C2034=\"\",$I2021=\"NSO\"),\"\",VLOOKUP($A2016,'Result Entry'!$B$9:$DX$108,48,0))","v":0},0,null,{"$f":"IF(OR(C2034=\"\",$I2021=\"NSO\"),\"\",VLOOKUP($A2016,'Result Entry'!$B$9:$DX$108,51,0))","v":""}]
[null,"◐"]
[null,"◐","Overall Result",null,null,"Total Max. Marks",null,"Total Obtained Marks",null,"Percentage","Overall Grade","Result","Position in Class"]
[null,"◐",{"$nulls":3},{"$f":"IF(OR($I2021=\"\",$I2021=\"NSO\"),\"\",VLOOKUP($A2016,'Result Entry'!$B$9:$DX$108,101,0))","v":500},null,{"$f":"IF(OR($I2021=\"\",$I2021=\"NSO\"),\"\",VLOOKUP($A2016,'Result Entry'!$B$9:$DX$108,102,0))","v":0},null,{"$f":"IF(OR($I2021=\"\",$I2021=\"NSO\"),\"\",VLOOKUP($A2016,'Result Entry'!$B$9:$DX$108,103,0))","v":{"v":0,"d":"0.00"}},{"$f":"IF(OR($I2021=\"\",$I2021=\"NSO\"),\"\",VLOOKUP($A2016,'Result Entry'!$B$9:$DX$108,104,0))","v":""},{"$f":"IF(OR($I2021=\"\",$I2021=\"NSO\"),\"\",VLOOKUP($A2016,'Result Entry'!$B$9:$DX$108,105,0))","v":""},{"$f":"IF(OR($I2021=\"\",$I2021=\"NSO\"),\"\",VLOOKUP($A2016,'Result Entry'!$B$9:$DX$108,107,0))","v":""}]
[null,"◐",{"$nulls":6},"Total Meetings :-",null,{"$f":"IF(OR($I2021=\"\",$I2021=\"NSO\"),\"\",VLOOKUP($A2016,'Result Entry'!$B$9:$DX$108,98,0))","v":0},"Attedance %"]
[null,"◐","Extra Subjects",{"$nulls":5},"Student's Meetings :-",null,{"$f":"IF(OR($I2021=\"\",$I2021=\"NSO\"),\"\",VLOOKUP($A2016,'Result Entry'!$B$9:$DX$108,99,0))","v":0},{"$f":"IF(OR($I2021=\"\",$I2021=\"NSO\"),\"\",VLOOKUP($A2016,'Result Entry'!$B$9:$DX$108,100,0))","v":""}]
[null,"◐","Subject",null,null,"Total Marks",null,"GRADE","Remark :-",null,{"$f":"IF(OR($I2021=\"\",$I2021=\"NSO\"),\"\",VLOOKUP($A2016,'Result Entry'!$B$9:$DX$108,108,0))","v":0}]
[null,"◐",{"$nulls":6},"Result Date :-",null,{"$f":"'Result Entry'!$T$2","v":"2023-05-24"}]
[null,"◐",{"$f":"'Result Entry'!$BW$3","v":"WORK EXP."},null,null,{"$f":"IF(OR(C2042=\"\",$I2021=\"NSO\"),\"\",VLOOKUP($A2016,'Result Entry'!$B$9:$DX$108,119,0))","v":"0/50"},null,{"$f":"IF(OR(C2042=\"\",$I2021=\"NSO\"),\"\",VLOOKUP($A2016,'Result Entry'!$B$9:$DX$108,81,0))","v":""}]
[null,null,{"$f":"'Result Entry'!$CE$3","v":"ART EDU."},null,null,{"$f":"IF(OR(C2043=\"\",$I2021=\"NSO\"),\"\",VLOOKUP($A2016,'Result Entry'!$B$9:$DX$108,123,0))","v":"0/50"},null,{"$f":"IF(OR(C2043=\"\",$I2021=\"NSO\"),\"\",VLOOKUP($A2016,'Result Entry'!$B$9:$DX$108,89,0))","v":""}]
[null,"◐",{"$f":"'Result Entry'!$CM$3","v":"H&P. EDU."},null,null,{"$f":"IF(OR(C2044=\"\",$I2021=\"NSO\"),\"\",VLOOKUP($A2016,'Result Entry'!$B$9:$DX$108,127,0))","v":"0/100"},null,{"$f":"IF(OR(C2044=\"\",$I2021=\"NSO\"),\"\",VLOOKUP($A2016,'Result Entry'!$B$9:$DX$108,97,0))","v":""},"Signature Of The Class Teacher"]
[null,"◐","Grading System"]
[null,"◐","Grd.","% Range",null,"Description"]
[null,"◐","A","86-100",null,"Excellent",null,null,"Signature And Seal Of Principal/H.M."]
[null,"◐","B","71-85",null,"Very Good"]
[null,"◐","C","51-70",null,"Good"]
[null,"◐","D","31-50",null,"Average"]
[null,"◐","E","0-30",null,"Needs Improvement",null,null,"Wish bright future"]
[]
[]
[{"$f":"A2016+1","v":55},"Department Of Education, Rajasthan"]
[null,{"$f":"IF(I2059>0,CONCATENATE(C2059,I2059),0)","v":0},null,{"$f":"Master!$E$8","v":"Govt.Sr.Sec.Sch. "}]
[{"$nulls":3},{"$f":"Master!$E$11","v":"P.S.-Bapini (Jodhpur)"}]
[null,null,"Report Card",{"$nulls":6},"U-DISE Code:-",null,{"$f":"Master!$E$14","v":{"v":810000000,"d":"0810000000"}}]
[{"$nulls":9},"Session:-",null,{"$f":"Master!$E$6","v":"2022-23"}]
[null,null,"Roll No.:-",{"$nulls":5},{"$f":"VLOOKUP($A2054,'Result Entry'!$B$9:$F$108,5,0)","v":0}]
[null,"◐","Scholar Number",{"$nulls":3},"↠",{"$f":"VLOOKUP($A2054,'Result Entry'!$B$9:$DX$108,3,0)","v":0}]
[null,"◐","Student's Name",{"$nulls":3},"↠",{"$f":"VLOOKUP($A2054,'Result Entry'!$B$9:$DX$108,6,0)","v":0}]
[null,"◐","Father's Name",{"$nulls":3},"↠",{"$f":"VLOOKUP($A2054,'Result Entry'!$B$9:$DX$108,7,0)","v":0}]
[null,"◐","Mother's Name ",{"$nulls":3},"↠",{"$f":"VLOOKUP($A2054,'Result Entry'!$B$9:$DX$108,8,0)","v":0}]
[null,"◐","Class & Section",{"$nulls":3},"↠",{"$f":"CONCATENATE('Result Entry'!$F$4,'Result Entry'!$I$4)","v":"2(A)"}]
[null,"◐","Date Of Birth",{"$nulls":3},"↠",{"$f":"VLOOKUP($A2054,'Result Entry'!$B$9:$DX$108,9,0)","v":"00:00:00"}]
[null,"◐","Subject",{"$nulls":4},"Half Yearly","Total (T+H.Y.)","Yearly","Grand Total",null,"Subject Grade"]
[null,"◐","Max. Marks",{"$nulls":4},{"$f":"'Result Entry'!$Q$7","v":100},{"$f":"G2067+H2067","v":100},{"$f":"'Result Entry'!$U$7","v":100},{"$f":"I2067+J2067","v":200},null,"A/B/C/D/E"]
[null,"◐",{"$f":"'Result Entry'!$K$3","v":"Hindi"},{"$nulls":4},{"$f":"IF(OR(C2068=\"\",$I2059=\"NSO\"),\"\",VLOOKUP($A2054,'Result Entry'!$B$9:$DX$108,16,0))","v":0},{"$f":"SUM(G2068,H2068)","v":0},{"$f":"IF(OR(C2068=\"\",$I2059=\"NSO\"),\"\",VLOOKUP($A2054,'Result Entry'!$B$9:$DX$108,20,0))","v":0},{"$f":"SUM(I2068,J2068)","v":0},null,{"$f":"IF(OR(C2068=\"\",$I2059=\"NSO\"),\"\",VLOOKUP($A2054,'Result Entry'!$B$9:$DX$108,23,0))","v":""}]
[null,"◐",{"$f":"'Result Entry'!$Y$3","v":"Mathematics"},{"$nulls":4},{"$f":"IF(OR(C2069=\"\",$I2059=\"NSO\"),\"\",VLOOKUP($A2054,'Result Entry'!$B$9:$DX$108,30,0))","v":0},{"$f":"SUM(G2069,H2069)","v":0},{"$f":"IF(OR(C2069=\"\",$I2059=\"NSO\"),\"\",VLOOKUP($A2054,'Result Entry'!$B$9:$DX$108,34,0))","v":0},{"$f":"SUM(I2069,J2069)","v":0},null,{"$f":"IF(OR(C2069=\"\",$I2059=\"NSO\"),\"\",VLOOKUP($A2054,'Result Entry'!$B$9:$DX$108,37,0))","v":""}]
[null,"◐",{"$f":"'Result Entry'!$BO$3","v":"Env. Study"},{"$nulls":4},{"$f":"IF(OR(C2070=\"\",$I2059=\"NSO\"),\"\",VLOOKUP($A2054,'Result Entry'!$B$9:$DX$108,66,0))","v":0},0,{"$f":"IF(OR(C2070=\"\",$I2059=\"NSO\"),\"\",VLOOKUP($A2054,'Result Entry'!$B$9:$DX$108,67,0))","v":0},0,null,{"$f":"IF(OR(C2070=\"\",$I2059=\"NSO\"),\"\",VLOOKUP($A2054,'Result Entry'!$B$9:$DX$108,73,0))","v":""}]
[null,"◐","Max. Marks",{"$nulls":4},{"$f":"'Result Entry'!$AS$7","v":50},50,{"$f":"'Result Entry'!$AW$7","v":50},100,null,"A/B/C/D/E"]
[null,"◐",{"$f":"'Result Entry'!$AM$3","v":"English"},{"$nulls":4},{"$f":"IF(OR(C2072=\"\",$I2059=\"NSO\"),\"\",VLOOKUP($A2054,'Result Entry'!$B$9:$DX$108,44,0))","v":0},0,{"$f":"IF(OR(C2072=\"\",$I2059=\"NSO\"),\"\",VLOOKUP($A2054,'Result Entry'!$B$9:$DX$108,48,0))","v":0},0,null,{"$f":"IF(OR(C2072=\"\",$I2059=\"NSO\"),\"\",VLOOKUP($A2054,'Result Entry'!$B$9:$DX$108,51,0))","v":""}]
[null,"◐"]
[null,"◐","Overall Result",null,null,"Total Max. Marks",null,"Total Obtained Marks",null,"Percentage","Overall Grade","Result","Position in Class"]
[null,"◐",{"$nulls":3},{"$f":"IF(OR($I2059=\"\",$I2059=\"NSO\"),\"\",VLOOKUP($A2054,'Result Entry'!$B$9:$DX$108,101,0))","v":500},null,{"$f":"IF(OR($I2059=\"\",$I2059=\"NSO\"),\"\",VLOOKUP($A2054,'Result Entry'!$B$9:$DX$108,102,0))","v":0},null,{"$f":"IF(OR($I2059=\"\",$I2059=\"NSO\"),\"\",VLOOKUP($A2054,'Result Entry'!$B$9:$DX$108,103,0))","v":{"v":0,"d":"0.00"}},{"$f":"IF(OR($I2059=\"\",$I2059=\"NSO\"),\"\",VLOOKUP($A2054,'Result Entry'!$B$9:$DX$108,104,0))","v":""},{"$f":"IF(OR($I2059=\"\",$I2059=\"NSO\"),\"\",VLOOKUP($A2054,'Result Entry'!$B$9:$DX$108,105,0))","v":""},{"$f":"IF(OR($I2059=\"\",$I2059=\"NSO\"),\"\",VLOOKUP($A2054,'Result Entry'!$B$9:$DX$108,107,0))","v":""}]
[null,"◐",{"$nulls":6},"Total Meetings :-",null,{"$f":"IF(OR($I2059=\"\",$I2059=\"NSO\"),\"\",VLOOKUP($A2054,'Result Entry'!$B$9:$DX$108,98,0))","v":0},"Attedance %"]
[null,"◐","Extra Subjects",{"$nulls":5},"Student's Meetings :-",null,{"$f":"IF(OR($I2059=\"\",$I2059=\"NSO\"),\"\",VLOOKUP($A2054,'Result Entry'!$B$9:$DX$108,99,0))","v":0},{"$f":"IF(OR($I2059=\"\",$I2059=\"NSO\"),\"\",VLOOKUP($A2054,'Result Entry'!$B$9:$DX$108,100,0))","v":""}]
[null,"◐","Subject",null,null,"Total Marks",null,"GRADE","Remark :-",null,{"$f":"IF(OR($I2059=\"\",$I2059=\"NSO\"),\"\",VLOOKUP($A2054,'Result Entry'!$B$9:$DX$108,108,0))","v":0}]
[null,"◐",{"$nulls":6},"Result Date :-",null,{"$f":"'Result Entry'!$T$2","v":"2023-05-24"}]
[null,"◐",{"$f":"'Result Entry'!$BW$3","v":"WORK EXP."},null,null,{"$f":"IF(OR(C2080=\"\",$I2059=\"NSO\"),\"\",VLOOKUP($A2054,'Result Entry'!$B$9:$DX$108,119,0))","v":"0/50"},null,{"$f":"IF(OR(C2080=\"\",$I2059=\"NSO\"),\"\",VLOOKUP($A2054,'Result Entry'!$B$9:$DX$108,81,0))","v":""}]
[null,null,{"$f":"'Result Entry'!$CE$3","v":"ART EDU."},null,null,{"$f":"IF(OR(C2081=\"\",$I2059=\"NSO\"),\"\",VLOOKUP($A2054,'Result Entry'!$B$9:$DX$108,123,0))","v":"0/50"},null,{"$f":"IF(OR(C2081=\"\",$I2059=\"NSO\"),\"\",VLOOKUP($A2054,'Result Entry'!$B$9:$DX$108,89,0))","v":""}]
[null,"◐",{"$f":"'Result Entry'!$CM$3","v":"H&P. EDU."},null,null,{"$f":"IF(OR(C2082=\"\",$I2059=\"NSO\"),\"\",VLOOKUP($A2054,'Result Entry'!$B$9:$DX$108,127,0))","v":"0/100"},null,{"$f":"IF(OR(C2082=\"\",$I2059=\"NSO\"),\"\",VLOOKUP($A2054,'Result Entry'!$B$9:$DX$108,97,0))","v":""},"Signature Of The Class Teacher"]
[null,"◐","Grading System"]
[null,"◐","Grd.","% Range",null,"Description"]
[null,"◐","A","86-100",null,"Excellent",null,null,"Signature And Seal Of Principal/H.M."]
[null,"◐","B","71-85",null,"Very Good"]
[null,"◐","C","51-70",null,"Good"]
[null,"◐","D","31-50",null,"Average"]
[null,"◐","E","0-30",null,"Needs Improvement",null,null,"Wish bright future"]
[]
[]
[{"$f":"A2054+1","v":56},"Department Of Education, Rajasthan"]
[null,{"$f":"IF(I2097>0,CONCATENATE(C2097,I2097),0)","v":0},null,{"$f":"Master!$E$8","v":"Govt.Sr.Sec.Sch. "}]
[{"$nulls":3},{"$f":"Master!$E$11","v":"P.S.-Bapini (Jodhpur)"}]
[null,null,"Report Card",{"$nulls":6},"U-DISE Code:-",null,{"$f":"Master!$E$14","v":{"v":810000000,"d":"0810000000"}}]
[{"$nulls":9},"Session:-",null,{"$f":"Master!$E$6","v":"2022-23"}]
[null,null,"Roll No.:-",{"$nulls":5},{"$f":"VLOOKUP($A2092,'Result Entry'!$B$9:$F$108,5,0)","v":0}]
[null,"◐","Scholar Number",{"$nulls":3},"↠",{"$f":"VLOOKUP($A2092,'Result Entry'!$B$9:$DX$108,3,0)","v":0}]
[null,"◐","Student's Name",{"$nulls":3},"↠",{"$f":"VLOOKUP($A2092,'Result Entry'!$B$9:$DX$108,6,0)","v":0}]
[null,"◐","Father's Name",{"$nulls":3},"↠",{"$f":"VLOOKUP($A2092,'Result Entry'!$B$9:$DX$108,7,0)","v":0}]
[null,"◐","Mother's Name ",{"$nulls":3},"↠",{"$f":"VLOOKUP($A2092,'Result Entry'!$B$9:$DX$108,8,0)","v":0}]
[null,"◐","Class & Section",{"$nulls":3},"↠",{"$f":"CONCATENATE('Result Entry'!$F$4,'Result Entry'!$I$4)","v":"2(A)"}]
[null,"◐","Date Of Birth",{"$nulls":3},"↠",{"$f":"VLOOKUP($A2092,'Result Entry'!$B$9:$DX$108,9,0)","v":"00:00:00"}]
[null,"◐","Subject",{"$nulls":4},"Half Yearly","Total (T+H.Y.)","Yearly","Grand Total",null,"Subject Grade"]
[null,"◐","Max. Marks",{"$nulls":4},{"$f":"'Result Entry'!$Q$7","v":100},{"$f":"G2105+H2105","v":100},{"$f":"'Result Entry'!$U$7","v":100},{"$f":"I2105+J2105","v":200},null,"A/B/C/D/E"]
[null,"◐",{"$f":"'Result Entry'!$K$3","v":"Hindi"},{"$nulls":4},{"$f":"IF(OR(C2106=\"\",$I2097=\"NSO\"),\"\",VLOOKUP($A2092,'Result Entry'!$B$9:$DX$108,16,0))","v":0},{"$f":"SUM(G2106,H2106)","v":0},{"$f":"IF(OR(C2106=\"\",$I2097=\"NSO\"),\"\",VLOOKUP($A2092,'Result Entry'!$B$9:$DX$108,20,0))","v":0},{"$f":"SUM(I2106,J2106)","v":0},null,{"$f":"IF(OR(C2106=\"\",$I2097=\"NSO\"),\"\",VLOOKUP($A2092,'Result Entry'!$B$9:$DX$108,23,0))","v":""}]
[null,"◐",{"$f":"'Result Entry'!$Y$3","v":"Mathematics"},{"$nulls":4},{"$f":"IF(OR(C2107=\"\",$I2097=\"NSO\"),\"\",VLOOKUP($A2092,'Result Entry'!$B$9:$DX$108,30,0))","v":0},{"$f":"SUM(G2107,H2107)","v":0},{"$f":"IF(OR(C2107=\"\",$I2097=\"NSO\"),\"\",VLOOKUP($A2092,'Result Entry'!$B$9:$DX$108,34,0))","v":0},{"$f":"SUM(I2107,J2107)","v":0},null,{"$f":"IF(OR(C2107=\"\",$I2097=\"NSO\"),\"\",VLOOKUP($A2092,'Result Entry'!$B$9:$DX$108,37,0))","v":""}]
[null,"◐",{"$f":"'Result Entry'!$BO$3","v":"Env. Study"},{"$nulls":4},{"$f":"IF(OR(C2108=\"\",$I2097=\"NSO\"),\"\",VLOOKUP($A2092,'Result Entry'!$B$9:$DX$108,66,0))","v":0},0,{"$f":"IF(OR(C2108=\"\",$I2097=\"NSO\"),\"\",VLOOKUP($A2092,'Result Entry'!$B$9:$DX$108,67,0))","v":0},0,null,{"$f":"IF(OR(C2108=\"\",$I2097=\"NSO\"),\"\",VLOOKUP($A2092,'Result Entry'!$B$9:$DX$108,73,0))","v":""}]
[null,"◐","Max. Marks",{"$nulls":4},{"$f":"'Result Entry'!$AS$7","v":50},50,{"$f":"'Result Entry'!$AW$7","v":50},100,null,"A/B/C/D/E"]
[null,"◐",{"$f":"'Result Entry'!$AM$3","v":"English"},{"$nulls":4},{"$f":"IF(OR(C2110=\"\",$I2097=\"NSO\"),\"\",VLOOKUP($A2092,'Result Entry'!$B$9:$DX$108,44,0))","v":0},0,{"$f":"IF(OR(C2110=\"\",$I2097=\"NSO\"),\"\",VLOOKUP($A2092,'Result Entry'!$B$9:$DX$108,48,0))","v":0},0,null,{"$f":"IF(OR(C2110=\"\",$I2097=\"NSO\"),\"\",VLOOKUP($A2092,'Result Entry'!$B$9:$DX$108,51,0))","v":""}]
[null,"◐"]
[null,"◐","Overall Result",null,null,"Total Max. Marks",null,"Total Obtained Marks",null,"Percentage","Overall Grade","Result","Position in Class"]
[null,"◐",{"$nulls":3},{"$f":"IF(OR($I2097=\"\",$I2097=\"NSO\"),\"\",VLOOKUP($A2092,'Result Entry'!$B$9:$DX$108,101,0))","v":500},null,{"$f":"IF(OR($I2097=\"\",$I2097=\"NSO\"),\"\",VLOOKUP($A2092,'Result Entry'!$B$9:$DX$108,102,0))","v":0},null,{"$f":"IF(OR($I2097=\"\",$I2097=\"NSO\"),\"\",VLOOKUP($A2092,'Result Entry'!$B$9:$DX$108,103,0))","v":{"v":0,"d":"0.00"}},{"$f":"IF(OR($I2097=\"\",$I2097=\"NSO\"),\"\",VLOOKUP($A2092,'Result Entry'!$B$9:$DX$108,104,0))","v":""},{"$f":"IF(OR($I2097=\"\",$I2097=\"NSO\"),\"\",VLOOKUP($A2092,'Result Entry'!$B$9:$DX$108,105,0))","v":""},{"$f":"IF(OR($I2097=\"\",$I2097=\"NSO\"),\"\",VLOOKUP($A2092,'Result Entry'!$B$9:$DX$108,107,0))","v":""}]
[null,"◐",{"$nulls":6},"Total Meetings :-",null,{"$f":"IF(OR($I2097=\"\",$I2097=\"NSO\"),\"\",VLOOKUP($A2092,'Result Entry'!$B$9:$DX$108,98,0))","v":0},"Attedance %"]
[null,"◐","Extra Subjects",{"$nulls":5},"Student's Meetings :-",null,{"$f":"IF(OR($I2097=\"\",$I2097=\"NSO\"),\"\",VLOOKUP($A2092,'Result Entry'!$B$9:$DX$108,99,0))","v":0},{"$f":"IF(OR($I2097=\"\",$I2097=\"NSO\"),\"\",VLOOKUP($A2092,'Result Entry'!$B$9:$DX$108,100,0))","v":""}]
[null,"◐","Subject",null,null,"Total Marks",null,"GRADE","Remark :-",null,{"$f":"IF(OR($I2097=\"\",$I2097=\"NSO\"),\"\",VLOOKUP($A2092,'Result Entry'!$B$9:$DX$108,108,0))","v":0}]
[null,"◐",{"$nulls":6},"Result Date :-",null,{"$f":"'Result Entry'!$T$2","v":"2023-05-24"}]
[null,"◐",{"$f":"'Result Entry'!$BW$3","v":"WORK EXP."},null,null,{"$f":"IF(OR(C2118=\"\",$I2097=\"NSO\"),\"\",VLOOKUP($A2092,'Result Entry'!$B$9:$DX$108,119,0))","v":"0/50"},null,{"$f":"IF(OR(C2118=\"\",$I2097=\"NSO\"),\"\",VLOOKUP($A2092,'Result Entry'!$B$9:$DX$108,81,0))","v":""}]
[null,null,{"$f":"'Result Entry'!$CE$3","v":"ART EDU."},null,null,{"$f":"IF(OR(C2119=\"\",$I2097=\"NSO\"),\"\",VLOOKUP($A2092,'Result Entry'!$B$9:$DX$108,123,0))","v":"0/50"},null,{"$f":"IF(OR(C2119=\"\",$I2097=\"NSO\"),\"\",VLOOKUP($A2092,'Result Entry'!$B$9:$DX$108,89,0))","v":""}]
[null,"◐",{"$f":"'Result Entry'!$CM$3","v":"H&P. EDU."},null,null,{"$f":"IF(OR(C2120=\"\",$I2097=\"NSO\"),\"\",VLOOKUP($A2092,'Result Entry'!$B$9:$DX$108,127,0))","v":"0/100"},null,{"$f":"IF(OR(C2120=\"\",$I2097=\"NSO\"),\"\",VLOOKUP($A2092,'Result Entry'!$B$9:$DX$108,97,0))","v":""},"Signature Of The Class Teacher"]
[null,"◐","Grading System"]
[null,"◐","Grd.","% Range",null,"Description"]
[null,"◐","A","86-100",null,"Excellent",null,null,"Signature And Seal Of Principal/H.M."]
[null,"◐","B","71-85",null,"Very Good"]
[null,"◐","C","51-70",null,"Good"]
[null,"◐","D","31-50",null,"Average"]
[null,"◐","E","0-30",null,"Needs Improvement",null,null,"Wish bright future"]
[]
[]
[{"$f":"A2092+1","v":57},"Department Of Education, Rajasthan"]
[null,{"$f":"IF(I2135>0,CONCATENATE(C2135,I2135),0)","v":0},null,{"$f":"Master!$E$8","v":"Govt.Sr.Sec.Sch. "}]
[{"$nulls":3},{"$f":"Master!$E$11","v":"P.S.-Bapini (Jodhpur)"}]
[null,null,"Report Card",{"$nulls":6},"U-DISE Code:-",null,{"$f":"Master!$E$14","v":{"v":810000000,"d":"0810000000"}}]
[{"$nulls":9},"Session:-",null,{"$f":"Master!$E$6","v":"2022-23"}]
[null,null,"Roll No.:-",{"$nulls":5},{"$f":"VLOOKUP($A2130,'Result Entry'!$B$9:$F$108,5,0)","v":0}]
[null,"◐","Scholar Number",{"$nulls":3},"↠",{"$f":"VLOOKUP($A2130,'Result Entry'!$B$9:$DX$108,3,0)","v":0}]
[null,"◐","Student's Name",{"$nulls":3},"↠",{"$f":"VLOOKUP($A2130,'Result Entry'!$B$9:$DX$108,6,0)","v":0}]
[null,"◐","Father's Name",{"$nulls":3},"↠",{"$f":"VLOOKUP($A2130,'Result Entry'!$B$9:$DX$108,7,0)","v":0}]
[null,"◐","Mother's Name ",{"$nulls":3},"↠",{"$f":"VLOOKUP($A2130,'Result Entry'!$B$9:$DX$108,8,0)","v":0}]
[null,"◐","Class & Section",{"$nulls":3},"↠",{"$f":"CONCATENATE('Result Entry'!$F$4,'Result Entry'!$I$4)","v":"2(A)"}]
[null,"◐","Date Of Birth",{"$nulls":3},"↠",{"$f":"VLOOKUP($A2130,'Result Entry'!$B$9:$DX$108,9,0)","v":"00:00:00"}]
[null,"◐","Subject",{"$nulls":4},"Half Yearly","Total (T+H.Y.)","Yearly","Grand Total",null,"Subject Grade"]
[null,"◐","Max. Marks",{"$nulls":4},{"$f":"'Result Entry'!$Q$7","v":100},{"$f":"G2143+H2143","v":100},{"$f":"'Result Entry'!$U$7","v":100},{"$f":"I2143+J2143","v":200},null,"A/B/C/D/E"]
[null,"◐",{"$f":"'Result Entry'!$K$3","v":"Hindi"},{"$nulls":4},{"$f":"IF(OR(C2144=\"\",$I2135=\"NSO\"),\"\",VLOOKUP($A2130,'Result Entry'!$B$9:$DX$108,16,0))","v":0},{"$f":"SUM(G2144,H2144)","v":0},{"$f":"IF(OR(C2144=\"\",$I2135=\"NSO\"),\"\",VLOOKUP($A2130,'Result Entry'!$B$9:$DX$108,20,0))","v":0},{"$f":"SUM(I2144,J2144)","v":0},null,{"$f":"IF(OR(C2144=\"\",$I2135=\"NSO\"),\"\",VLOOKUP($A2130,'Result Entry'!$B$9:$DX$108,23,0))","v":""}]
[null,"◐",{"$f":"'Result Entry'!$Y$3","v":"Mathematics"},{"$nulls":4},{"$f":"IF(OR(C2145=\"\",$I2135=\"NSO\"),\"\",VLOOKUP($A2130,'Result Entry'!$B$9:$DX$108,30,0))","v":0},{"$f":"SUM(G2145,H2145)","v":0},{"$f":"IF(OR(C2145=\"\",$I2135=\"NSO\"),\"\",VLOOKUP($A2130,'Result Entry'!$B$9:$DX$108,34,0))","v":0},{"$f":"SUM(I2145,J2145)","v":0},null,{"$f":"IF(OR(C2145=\"\",$I2135=\"NSO\"),\"\",VLOOKUP($A2130,'Result Entry'!$B$9:$DX$108,37,0))","v":""}]
[null,"◐",{"$f":"'Result Entry'!$BO$3","v":"Env. Study"},{"$nulls":4},{"$f":"IF(OR(C2146=\"\",$I2135=\"NSO\"),\"\",VLOOKUP($A2130,'Result Entry'!$B$9:$DX$108,66,0))","v":0},0,{"$f":"IF(OR(C2146=\"\",$I2135=\"NSO\"),\"\",VLOOKUP($A2130,'Result Entry'!$B$9:$DX$108,67,0))","v":0},0,null,{"$f":"IF(OR(C2146=\"\",$I2135=\"NSO\"),\"\",VLOOKUP($A2130,'Result Entry'!$B$9:$DX$108,73,0))","v":""}]
[null,"◐","Max. Marks",{"$nulls":4},{"$f":"'Result Entry'!$AS$7","v":50},50,{"$f":"'Result Entry'!$AW$7","v":50},100,null,"A/B/C/D/E"]
[null,"◐",{"$f":"'Result Entry'!$AM$3","v":"English"},{"$nulls":4},{"$f":"IF(OR(C2148=\"\",$I2135=\"NSO\"),\"\",VLOOKUP($A2130,'Result Entry'!$B$9:$DX$108,44,0))","v":0},0,{"$f":"IF(OR(C2148=\"\",$I2135=\"NSO\"),\"\",VLOOKUP($A2130,'Result Entry'!$B$9:$DX$108,48,0))","v":0},0,null,{"$f":"IF(OR(C2148=\"\",$I2135=\"NSO\"),\"\",VLOOKUP($A2130,'Result Entry'!$B$9:$DX$108,51,0))","v":""}]
[null,"◐"]
[null,"◐","Overall Result",null,null,"Total Max. Marks",null,"Total Obtained Marks",null,"Percentage","Overall Grade","Result","Position in Class"]
[null,"◐",{"$nulls":3},{"$f":"IF(OR($I2135=\"\",$I2135=\"NSO\"),\"\",VLOOKUP($A2130,'Result Entry'!$B$9:$DX$108,101,0))","v":500},null,{"$f":"IF(OR($I2135=\"\",$I2135=\"NSO\"),\"\",VLOOKUP($A2130,'Result Entry'!$B$9:$DX$108,102,0))","v":0},null,{"$f":"IF(OR($I2135=\"\",$I2135=\"NSO\"),\"\",VLOOKUP($A2130,'Result Entry'!$B$9:$DX$108,103,0))","v":{"v":0,"d":"0.00"}},{"$f":"IF(OR($I2135=\"\",$I2135=\"NSO\"),\"\",VLOOKUP($A2130,'Result Entry'!$B$9:$DX$108,104,0))","v":""},{"$f":"IF(OR($I2135=\"\",$I2135=\"NSO\"),\"\",VLOOKUP($A2130,'Result Entry'!$B$9:$DX$108,105,0))","v":""},{"$f":"IF(OR($I2135=\"\",$I2135=\"NSO\"),\"\",VLOOKUP($A2130,'Result Entry'!$B$9:$DX$108,107,0))","v":""}]
[null,"◐",{"$nulls":6},"Total Meetings :-",null,{"$f":"IF(OR($I2135=\"\",$I2135=\"NSO\"),\"\",VLOOKUP($A2130,'Result Entry'!$B$9:$DX$108,98,0))","v":0},"Attedance %"]
[null,"◐","Extra Subjects",{"$nulls":5},"Student's Meetings :-",null,{"$f":"IF(OR($I2135=\"\",$I2135=\"NSO\"),\"\",VLOOKUP($A2130,'Result Entry'!$B$9:$DX$108,99,0))","v":0},{"$f":"IF(OR($I2135=\"\",$I2135=\"NSO\"),\"\",VLOOKUP($A2130,'Result Entry'!$B$9:$DX$108,100,0))","v":""}]
[null,"◐","Subject",null,null,"Total Marks",null,"GRADE","Remark :-",null,{"$f":"IF(OR($I2135=\"\",$I2135=\"NSO\"),\"\",VLOOKUP($A2130,'Result Entry'!$B$9:$DX$108,108,0))","v":0}]
[null,"◐",{"$nulls":6},"Result Date :-",null,{"$f":"'Result Entry'!$T$2","v":"2023-05-24"}]
[null,"◐",{"$f":"'Result Entry'!$BW$3","v":"WORK EXP."},null,null,{"$f":"IF(OR(C2156=\"\",$I2135=\"NSO\"),\"\",VLOOKUP($A2130,'Result Entry'!$B$9:$DX$108,119,0))","v":"0/50"},null,{"$f":"IF(OR(C2156=\"\",$I2135=\"NSO\"),\"\",VLOOKUP($A2130,'Result Entry'!$B$9:$DX$108,81,0))","v":""}]
[null,null,{"$f":"'Result Entry'!$CE$3","v":"ART EDU."},null,null,{"$f":"IF(OR(C2157=\"\",$I2135=\"NSO\"),\"\",VLOOKUP($A2130,'Result Entry'!$B$9:$DX$108,123,0))","v":"0/50"},null,{"$f":"IF(OR(C2157=\"\",$I2135=\"NSO\"),\"\",VLOOKUP($A2130,'Result Entry'!$B$9:$DX$108,89,0))","v":""}]
[null,"◐",{"$f":"'Result Entry'!$CM$3","v":"H&P. EDU."},null,null,{"$f":"IF(OR(C2158=\"\",$I2135=\"NSO\"),\"\",VLOOKUP($A2130,'Result Entry'!$B$9:$DX$108,127,0))","v":"0/100"},null,{"$f":"IF(OR(C2158=\"\",$I2135=\"NSO\"),\"\",VLOOKUP($A2130,'Result Entry'!$B$9:$DX$108,97,0))","v":""},"Signature Of The Class Teacher"]
[null,"◐","Grading System"]
[null,"◐","Grd.","% Range",null,"Description"]
[null,"◐","A","86-100",null,"Excellent",null,null,"Signature And Seal Of Principal/H.M."]
[null,"◐","B","71-85",null,"Very Good"]
[null,"◐","C","51-70",null,"Good"]
[null,"◐","D","31-50",null,"Average"]
[null,"◐","E","0-30",null,"Needs Improvement",null,null,"Wish bright future"]
[]
[]
[{"$f":"A2130+1","v":58},"Department Of Education, Rajasthan"]
[null,{"$f":"IF(I2173>0,CONCATENATE(C2173,I2173),0)","v":0},null,{"$f":"Master!$E$8","v":"Govt.Sr.Sec.Sch. "}]
[{"$nulls":3},{"$f":"Master!$E$11","v":"P.S.-Bapini (Jodhpur)"}]
[null,null,"Report Card",{"$nulls":6},"U-DISE Code:-",null,{"$f":"Master!$E$14","v":{"v":810000000,"d":"0810000000"}}]
[{"$nulls":9},"Session:-",null,{"$f":"Master!$E$6","v":"2022-23"}]
[null,null,"Roll No.:-",{"$nulls":5},{"$f":"VLOOKUP($A2168,'Result Entry'!$B$9:$F$108,5,0)","v":0}]
[null,"◐","Scholar Number",{"$nulls":3},"↠",{"$f":"VLOOKUP($A2168,'Result Entry'!$B$9:$DX$108,3,0)","v":0}]
[null,"◐","Student's Name",{"$nulls":3},"↠",{"$f":"VLOOKUP($A2168,'Result Entry'!$B$9:$DX$108,6,0)","v":0}]
[null,"◐","Father's Name",{"$nulls":3},"↠",{"$f":"VLOOKUP($A2168,'Result Entry'!$B$9:$DX$108,7,0)","v":0}]
[null,"◐","Mother's Name ",{"$nulls":3},"↠",{"$f":"VLOOKUP($A2168,'Result Entry'!$B$9:$DX$108,8,0)","v":0}]
[null,"◐","Class & Section",{"$nulls":3},"↠",{"$f":"CONCATENATE('Result Entry'!$F$4,'Result Entry'!$I$4)","v":"2(A)"}]
[null,"◐","Date Of Birth",{"$nulls":3},"↠",{"$f":"VLOOKUP($A2168,'Result Entry'!$B$9:$DX$108,9,0)","v":"00:00:00"}]
[null,"◐","Subject",{"$nulls":4},"Half Yearly","Total (T+H.Y.)","Yearly","Grand Total",null,"Subject Grade"]
[null,"◐","Max. Marks",{"$nulls":4},{"$f":"'Result Entry'!$Q$7","v":100},{"$f":"G2181+H2181","v":100},{"$f":"'Result Entry'!$U$7","v":100},{"$f":"I2181+J2181","v":200},null,"A/B/C/D/E"]
[null,"◐",{"$f":"'Result Entry'!$K$3","v":"Hindi"},{"$nulls":4},{"$f":"IF(OR(C2182=\"\",$I2173=\"NSO\"),\"\",VLOOKUP($A2168,'Result Entry'!$B$9:$DX$108,16,0))","v":0},{"$f":"SUM(G2182,H2182)","v":0},{"$f":"IF(OR(C2182=\"\",$I2173=\"NSO\"),\"\",VLOOKUP($A2168,'Result Entry'!$B$9:$DX$108,20,0))","v":0},{"$f":"SUM(I2182,J2182)","v":0},null,{"$f":"IF(OR(C2182=\"\",$I2173=\"NSO\"),\"\",VLOOKUP($A2168,'Result Entry'!$B$9:$DX$108,23,0))","v":""}]
[null,"◐",{"$f":"'Result Entry'!$Y$3","v":"Mathematics"},{"$nulls":4},{"$f":"IF(OR(C2183=\"\",$I2173=\"NSO\"),\"\",VLOOKUP($A2168,'Result Entry'!$B$9:$DX$108,30,0))","v":0},{"$f":"SUM(G2183,H2183)","v":0},{"$f":"IF(OR(C2183=\"\",$I2173=\"NSO\"),\"\",VLOOKUP($A2168,'Result Entry'!$B$9:$DX$108,34,0))","v":0},{"$f":"SUM(I2183,J2183)","v":0},null,{"$f":"IF(OR(C2183=\"\",$I2173=\"NSO\"),\"\",VLOOKUP($A2168,'Result Entry'!$B$9:$DX$108,37,0))","v":""}]
[null,"◐",{"$f":"'Result Entry'!$BO$3","v":"Env. Study"},{"$nulls":4},{"$f":"IF(OR(C2184=\"\",$I2173=\"NSO\"),\"\",VLOOKUP($A2168,'Result Entry'!$B$9:$DX$108,66,0))","v":0},0,{"$f":"IF(OR(C2184=\"\",$I2173=\"NSO\"),\"\",VLOOKUP($A2168,'Result Entry'!$B$9:$DX$108,67,0))","v":0},0,null,{"$f":"IF(OR(C2184=\"\",$I2173=\"NSO\"),\"\",VLOOKUP($A2168,'Result Entry'!$B$9:$DX$108,73,0))","v":""}]
[null,"◐","Max. Marks",{"$nulls":4},{"$f":"'Result Entry'!$AS$7","v":50},50,{"$f":"'Result Entry'!$AW$7","v":50},100,null,"A/B/C/D/E"]
[null,"◐",{"$f":"'Result Entry'!$AM$3","v":"English"},{"$nulls":4},{"$f":"IF(OR(C2186=\"\",$I2173=\"NSO\"),\"\",VLOOKUP($A2168,'Result Entry'!$B$9:$DX$108,44,0))","v":0},0,{"$f":"IF(OR(C2186=\"\",$I2173=\"NSO\"),\"\",VLOOKUP($A2168,'Result Entry'!$B$9:$DX$108,48,0))","v":0},0,null,{"$f":"IF(OR(C2186=\"\",$I2173=\"NSO\"),\"\",VLOOKUP($A2168,'Result Entry'!$B$9:$DX$108,51,0))","v":""}]
[null,"◐"]
[null,"◐","Overall Result",null,null,"Total Max. Marks",null,"Total Obtained Marks",null,"Percentage","Overall Grade","Result","Position in Class"]
[null,"◐",{"$nulls":3},{"$f":"IF(OR($I2173=\"\",$I2173=\"NSO\"),\"\",VLOOKUP($A2168,'Result Entry'!$B$9:$DX$108,101,0))","v":500},null,{"$f":"IF(OR($I2173=\"\",$I2173=\"NSO\"),\"\",VLOOKUP($A2168,'Result Entry'!$B$9:$DX$108,102,0))","v":0},null,{"$f":"IF(OR($I2173=\"\",$I2173=\"NSO\"),\"\",VLOOKUP($A2168,'Result Entry'!$B$9:$DX$108,103,0))","v":{"v":0,"d":"0.00"}},{"$f":"IF(OR($I2173=\"\",$I2173=\"NSO\"),\"\",VLOOKUP($A2168,'Result Entry'!$B$9:$DX$108,104,0))","v":""},{"$f":"IF(OR($I2173=\"\",$I2173=\"NSO\"),\"\",VLOOKUP($A2168,'Result Entry'!$B$9:$DX$108,105,0))","v":""},{"$f":"IF(OR($I2173=\"\",$I2173=\"NSO\"),\"\",VLOOKUP($A2168,'Result Entry'!$B$9:$DX$108,107,0))","v":""}]
[null,"◐",{"$nulls":6},"Total Meetings :-",null,{"$f":"IF(OR($I2173=\"\",$I2173=\"NSO\"),\"\",VLOOKUP($A2168,'Result Entry'!$B$9:$DX$108,98,0))","v":0},"Attedance %"]
[null,"◐","Extra Subjects",{"$nulls":5},"Student's Meetings :-",null,{"$f":"IF(OR($I2173=\"\",$I2173=\"NSO\"),\"\",VLOOKUP($A2168,'Result Entry'!$B$9:$DX$108,99,0))","v":0},{"$f":"IF(OR($I2173=\"\",$I2173=\"NSO\"),\"\",VLOOKUP($A2168,'Result Entry'!$B$9:$DX$108,100,0))","v":""}]
[null,"◐","Subject",null,null,"Total Marks",null,"GRADE","Remark :-",null,{"$f":"IF(OR($I2173=\"\",$I2173=\"NSO\"),\"\",VLOOKUP($A2168,'Result Entry'!$B$9:$DX$108,108,0))","v":0}]
[null,"◐",{"$nulls":6},"Result Date :-",null,{"$f":"'Result Entry'!$T$2","v":"2023-05-24"}]
[null,"◐",{"$f":"'Result Entry'!$BW$3","v":"WORK EXP."},null,null,{"$f":"IF(OR(C2194=\"\",$I2173=\"NSO\"),\"\",VLOOKUP($A2168,'Result Entry'!$B$9:$DX$108,119,0))","v":"0/50"},null,{"$f":"IF(OR(C2194=\"\",$I2173=\"NSO\"),\"\",VLOOKUP($A2168,'Result Entry'!$B$9:$DX$108,81,0))","v":""}]
[null,null,{"$f":"'Result Entry'!$CE$3","v":"ART EDU."},null,null,{"$f":"IF(OR(C2195=\"\",$I2173=\"NSO\"),\"\",VLOOKUP($A2168,'Result Entry'!$B$9:$DX$108,123,0))","v":"0/50"},null,{"$f":"IF(OR(C2195=\"\",$I2173=\"NSO\"),\"\",VLOOKUP($A2168,'Result Entry'!$B$9:$DX$108,89,0))","v":""}]
[null,"◐",{"$f":"'Result Entry'!$CM$3","v":"H&P. EDU."},null,null,{"$f":"IF(OR(C2196=\"\",$I2173=\"NSO\"),\"\",VLOOKUP($A2168,'Result Entry'!$B$9:$DX$108,127,0))","v":"0/100"},null,{"$f":"IF(OR(C2196=\"\",$I2173=\"NSO\"),\"\",VLOOKUP($A2168,'Result Entry'!$B$9:$DX$108,97,0))","v":""},"Signature Of The Class Teacher"]
[null,"◐","Grading System"]
[null,"◐","Grd.","% Range",null,"Description"]
[null,"◐","A","86-100",null,"Excellent",null,null,"Signature And Seal Of Principal/H.M."]
[null,"◐","B","71-85",null,"Very Good"]
[null,"◐","C","51-70",null,"Good"]
[null,"◐","D","31-50",null,"Average"]
[null,"◐","E","0-30",null,"Needs Improvement",null,null,"Wish bright future"]
[]
[]
[{"$f":"A2168+1","v":59},"Department Of Education, Rajasthan"]
[null,{"$f":"IF(I2211>0,CONCATENATE(C2211,I2211),0)","v":0},null,{"$f":"Master!$E$8","v":"Govt.Sr.Sec.Sch. "}]
[{"$nulls":3},{"$f":"Master!$E$11","v":"P.S.-Bapini (Jodhpur)"}]
[null,null,"Report Card",{"$nulls":6},"U-DISE Code:-",null,{"$f":"Master!$E$14","v":{"v":810000000,"d":"0810000000"}}]
[{"$nulls":9},"Session:-",null,{"$f":"Master!$E$6","v":"2022-23"}]
[null,null,"Roll No.:-",{"$nulls":5},{"$f":"VLOOKUP($A2206,'Result Entry'!$B$9:$F$108,5,0)","v":0}]
[null,"◐","Scholar Number",{"$nulls":3},"↠",{"$f":"VLOOKUP($A2206,'Result Entry'!$B$9:$DX$108,3,0)","v":0}]
[null,"◐","Student's Name",{"$nulls":3},"↠",{"$f":"VLOOKUP($A2206,'Result Entry'!$B$9:$DX$108,6,0)","v":0}]
[null,"◐","Father's Name",{"$nulls":3},"↠",{"$f":"VLOOKUP($A2206,'Result Entry'!$B$9:$DX$108,7,0)","v":0}]
[null,"◐","Mother's Name ",{"$nulls":3},"↠",{"$f":"VLOOKUP($A2206,'Result Entry'!$B$9:$DX$108,8,0)","v":0}]
[null,"◐","Class & Section",{"$nulls":3},"↠",{"$f":"CONCATENATE('Result Entry'!$F$4,'Result Entry'!$I$4)","v":"2(A)"}]
[null,"◐","Date Of Birth",{"$nulls":3},"↠",{"$f":"VLOOKUP($A2206,'Result Entry'!$B$9:$DX$108,9,0)","v":"00:00:00"}]
[null,"◐","Subject",{"$nulls":4},"Half Yearly","Total (T+H.Y.)","Yearly","Grand Total",null,"Subject Grade"]
[null,"◐","Max. Marks",{"$nulls":4},{"$f":"'Result Entry'!$Q$7","v":100},{"$f":"G2219+H2219","v":100},{"$f":"'Result Entry'!$U$7","v":100},{"$f":"I2219+J2219","v":200},null,"A/B/C/D/E"]
[null,"◐",{"$f":"'Result Entry'!$K$3","v":"Hindi"},{"$nulls":4},{"$f":"IF(OR(C2220=\"\",$I2211=\"NSO\"),\"\",VLOOKUP($A2206,'Result Entry'!$B$9:$DX$108,16,0))","v":0},{"$f":"SUM(G2220,H2220)","v":0},{"$f":"IF(OR(C2220=\"\",$I2211=\"NSO\"),\"\",VLOOKUP($A2206,'Result Entry'!$B$9:$DX$108,20,0))","v":0},{"$f":"SUM(I2220,J2220)","v":0},null,{"$f":"IF(OR(C2220=\"\",$I2211=\"NSO\"),\"\",VLOOKUP($A2206,'Result Entry'!$B$9:$DX$108,23,0))","v":""}]
[null,"◐",{"$f":"'Result Entry'!$Y$3","v":"Mathematics"},{"$nulls":4},{"$f":"IF(OR(C2221=\"\",$I2211=\"NSO\"),\"\",VLOOKUP($A2206,'Result Entry'!$B$9:$DX$108,30,0))","v":0},{"$f":"SUM(G2221,H2221)","v":0},{"$f":"IF(OR(C2221=\"\",$I2211=\"NSO\"),\"\",VLOOKUP($A2206,'Result Entry'!$B$9:$DX$108,34,0))","v":0},{"$f":"SUM(I2221,J2221)","v":0},null,{"$f":"IF(OR(C2221=\"\",$I2211=\"NSO\"),\"\",VLOOKUP($A2206,'Result Entry'!$B$9:$DX$108,37,0))","v":""}]
[null,"◐",{"$f":"'Result Entry'!$BO$3","v":"Env. Study"},{"$nulls":4},{"$f":"IF(OR(C2222=\"\",$I2211=\"NSO\"),\"\",VLOOKUP($A2206,'Result Entry'!$B$9:$DX$108,66,0))","v":0},0,{"$f":"IF(OR(C2222=\"\",$I2211=\"NSO\"),\"\",VLOOKUP($A2206,'Result Entry'!$B$9:$DX$108,67,0))","v":0},0,null,{"$f":"IF(OR(C2222=\"\",$I2211=\"NSO\"),\"\",VLOOKUP($A2206,'Result Entry'!$B$9:$DX$108,73,0))","v":""}]
[null,"◐","Max. Marks",{"$nulls":4},{"$f":"'Result Entry'!$AS$7","v":50},50,{"$f":"'Result Entry'!$AW$7","v":50},100,null,"A/B/C/D/E"]
[null,"◐",{"$f":"'Result Entry'!$AM$3","v":"English"},{"$nulls":4},{"$f":"IF(OR(C2224=\"\",$I2211=\"NSO\"),\"\",VLOOKUP($A2206,'Result Entry'!$B$9:$DX$108,44,0))","v":0},0,{"$f":"IF(OR(C2224=\"\",$I2211=\"NSO\"),\"\",VLOOKUP($A2206,'Result Entry'!$B$9:$DX$108,48,0))","v":0},0,null,{"$f":"IF(OR(C2224=\"\",$I2211=\"NSO\"),\"\",VLOOKUP($A2206,'Result Entry'!$B$9:$DX$108,51,0))","v":""}]
[null,"◐"]
[null,"◐","Overall Result",null,null,"Total Max. Marks",null,"Total Obtained Marks",null,"Percentage","Overall Grade","Result","Position in Class"]
[null,"◐",{"$nulls":3},{"$f":"IF(OR($I2211=\"\",$I2211=\"NSO\"),\"\",VLOOKUP($A2206,'Result Entry'!$B$9:$DX$108,101,0))","v":500},null,{"$f":"IF(OR($I2211=\"\",$I2211=\"NSO\"),\"\",VLOOKUP($A2206,'Result Entry'!$B$9:$DX$108,102,0))","v":0},null,{"$f":"IF(OR($I2211=\"\",$I2211=\"NSO\"),\"\",VLOOKUP($A2206,'Result Entry'!$B$9:$DX$108,103,0))","v":{"v":0,"d":"0.00"}},{"$f":"IF(OR($I2211=\"\",$I2211=\"NSO\"),\"\",VLOOKUP($A2206,'Result Entry'!$B$9:$DX$108,104,0))","v":""},{"$f":"IF(OR($I2211=\"\",$I2211=\"NSO\"),\"\",VLOOKUP($A2206,'Result Entry'!$B$9:$DX$108,105,0))","v":""},{"$f":"IF(OR($I2211=\"\",$I2211=\"NSO\"),\"\",VLOOKUP($A2206,'Result Entry'!$B$9:$DX$108,107,0))","v":""}]
[null,"◐",{"$nulls":6},"Total Meetings :-",null,{"$f":"IF(OR($I2211=\"\",$I2211=\"NSO\"),\"\",VLOOKUP($A2206,'Result Entry'!$B$9:$DX$108,98,0))","v":0},"Attedance %"]
[null,"◐","Extra Subjects",{"$nulls":5},"Student's Meetings :-",null,{"$f":"IF(OR($I2211=\"\",$I2211=\"NSO\"),\"\",VLOOKUP($A2206,'Result Entry'!$B$9:$DX$108,99,0))","v":0},{"$f":"IF(OR($I2211=\"\",$I2211=\"NSO\"),\"\",VLOOKUP($A2206,'Result Entry'!$B$9:$DX$108,100,0))","v":""}]
[null,"◐","Subject",null,null,"Total Marks",null,"GRADE","Remark :-",null,{"$f":"IF(OR($I2211=\"\",$I2211=\"NSO\"),\"\",VLOOKUP($A2206,'Result Entry'!$B$9:$DX$108,108,0))","v":0}]
[null,"◐",{"$nulls":6},"Result Date :-",null,{"$f":"'Result Entry'!$T$2","v":"2023-05-24"}]
[null,"◐",{"$f":"'Result Entry'!$BW$3","v":"WORK EXP."},null,null,{"$f":"IF(OR(C2232=\"\",$I2211=\"NSO\"),\"\",VLOOKUP($A2206,'Result Entry'!$B$9:$DX$108,119,0))","v":"0/50"},null,{"$f":"IF(OR(C2232=\"\",$I2211=\"NSO\"),\"\",VLOOKUP($A2206,'Result Entry'!$B$9:$DX$108,81,0))","v":""}]
[null,null,{"$f":"'Result Entry'!$CE$3","v":"ART EDU."},null,null,{"$f":"IF(OR(C2233=\"\",$I2211=\"NSO\"),\"\",VLOOKUP($A2206,'Result Entry'!$B$9:$DX$108,123,0))","v":"0/50"},null,{"$f":"IF(OR(C2233=\"\",$I2211=\"NSO\"),\"\",VLOOKUP($A2206,'Result Entry'!$B$9:$DX$108,89,0))","v":""}]
[null,"◐",{"$f":"'Result Entry'!$CM$3","v":"H&P. EDU."},null,null,{"$f":"IF(OR(C2234=\"\",$I2211=\"NSO\"),\"\",VLOOKUP($A2206,'Result Entry'!$B$9:$DX$108,127,0))","v":"0/100"},null,{"$f":"IF(OR(C2234=\"\",$I2211=\"NSO\"),\"\",VLOOKUP($A2206,'Result Entry'!$B$9:$DX$108,97,0))","v":""},"Signature Of The Class Teacher"]
[null,"◐","Grading System"]
[null,"◐","Grd.","% Range",null,"Description"]
[null,"◐","A","86-100",null,"Excellent",null,null,"Signature And Seal Of Principal/H.M."]
[null,"◐","B","71-85",null,"Very Good"]
[null,"◐","C","51-70",null,"Good"]
[null,"◐","D","31-50",null,"Average"]
[null,"◐","E","0-30",null,"Needs Improvement",null,null,"Wish bright future"]
[]
[]
[{"$f":"A2206+1","v":60},"Department Of Education, Rajasthan"]
[null,{"$f":"IF(I2249>0,CONCATENATE(C2249,I2249),0)","v":0},null,{"$f":"Master!$E$8","v":"Govt.Sr.Sec.Sch. "}]
[{"$nulls":3},{"$f":"Master!$E$11","v":"P.S.-Bapini (Jodhpur)"}]
[null,null,"Report Card",{"$nulls":6},"U-DISE Code:-",null,{"$f":"Master!$E$14","v":{"v":810000000,"d":"0810000000"}}]
[{"$nulls":9},"Session:-",null,{"$f":"Master!$E$6","v":"2022-23"}]
[null,null,"Roll No.:-",{"$nulls":5},{"$f":"VLOOKUP($A2244,'Result Entry'!$B$9:$F$108,5,0)","v":0}]
[null,"◐","Scholar Number",{"$nulls":3},"↠",{"$f":"VLOOKUP($A2244,'Result Entry'!$B$9:$DX$108,3,0)","v":0}]
[null,"◐","Student's Name",{"$nulls":3},"↠",{"$f":"VLOOKUP($A2244,'Result Entry'!$B$9:$DX$108,6,0)","v":0}]
[null,"◐","Father's Name",{"$nulls":3},"↠",{"$f":"VLOOKUP($A2244,'Result Entry'!$B$9:$DX$108,7,0)","v":0}]
[null,"◐","Mother's Name ",{"$nulls":3},"↠",{"$f":"VLOOKUP($A2244,'Result Entry'!$B$9:$DX$108,8,0)","v":0}]
[null,"◐","Class & Section",{"$nulls":3},"↠",{"$f":"CONCATENATE('Result Entry'!$F$4,'Result Entry'!$I$4)","v":"2(A)"}]
[null,"◐","Date Of Birth",{"$nulls":3},"↠",{"$f":"VLOOKUP($A2244,'Result Entry'!$B$9:$DX$108,9,0)","v":"00:00:00"}]
[null,"◐","Subject",{"$nulls":4},"Half Yearly","Total (T+H.Y.)","Yearly","Grand Total",null,"Subject Grade"]
[null,"◐","Max. Marks",{"$nulls":4},{"$f":"'Result Entry'!$Q$7","v":100},{"$f":"G2257+H2257","v":100},{"$f":"'Result Entry'!$U$7","v":100},{"$f":"I2257+J2257","v":200},null,"A/B/C/D/E"]
[null,"◐",{"$f":"'Result Entry'!$K$3","v":"Hindi"},{"$nulls":4},{"$f":"IF(OR(C2258=\"\",$I2249=\"NSO\"),\"\",VLOOKUP($A2244,'Result Entry'!$B$9:$DX$108,16,0))","v":0},{"$f":"SUM(G2258,H2258)","v":0},{"$f":"IF(OR(C2258=\"\",$I2249=\"NSO\"),\"\",VLOOKUP($A2244,'Result Entry'!$B$9:$DX$108,20,0))","v":0},{"$f":"SUM(I2258,J2258)","v":0},null,{"$f":"IF(OR(C2258=\"\",$I2249=\"NSO\"),\"\",VLOOKUP($A2244,'Result Entry'!$B$9:$DX$108,23,0))","v":""}]
[null,"◐",{"$f":"'Result Entry'!$Y$3","v":"Mathematics"},{"$nulls":4},{"$f":"IF(OR(C2259=\"\",$I2249=\"NSO\"),\"\",VLOOKUP($A2244,'Result Entry'!$B$9:$DX$108,30,0))","v":0},{"$f":"SUM(G2259,H2259)","v":0},{"$f":"IF(OR(C2259=\"\",$I2249=\"NSO\"),\"\",VLOOKUP($A2244,'Result Entry'!$B$9:$DX$108,34,0))","v":0},{"$f":"SUM(I2259,J2259)","v":0},null,{"$f":"IF(OR(C2259=\"\",$I2249=\"NSO\"),\"\",VLOOKUP($A2244,'Result Entry'!$B$9:$DX$108,37,0))","v":""}]
[null,"◐",{"$f":"'Result Entry'!$BO$3","v":"Env. Study"},{"$nulls":4},{"$f":"IF(OR(C2260=\"\",$I2249=\"NSO\"),\"\",VLOOKUP($A2244,'Result Entry'!$B$9:$DX$108,66,0))","v":0},0,{"$f":"IF(OR(C2260=\"\",$I2249=\"NSO\"),\"\",VLOOKUP($A2244,'Result Entry'!$B$9:$DX$108,67,0))","v":0},0,null,{"$f":"IF(OR(C2260=\"\",$I2249=\"NSO\"),\"\",VLOOKUP($A2244,'Result Entry'!$B$9:$DX$108,73,0))","v":""}]
[null,"◐","Max. Marks",{"$nulls":4},{"$f":"'Result Entry'!$AS$7","v":50},50,{"$f":"'Result Entry'!$AW$7","v":50},100,null,"A/B/C/D/E"]
[null,"◐",{"$f":"'Result Entry'!$AM$3","v":"English"},{"$nulls":4},{"$f":"IF(OR(C2262=\"\",$I2249=\"NSO\"),\"\",VLOOKUP($A2244,'Result Entry'!$B$9:$DX$108,44,0))","v":0},0,{"$f":"IF(OR(C2262=\"\",$I2249=\"NSO\"),\"\",VLOOKUP($A2244,'Result Entry'!$B$9:$DX$108,48,0))","v":0},0,null,{"$f":"IF(OR(C2262=\"\",$I2249=\"NSO\"),\"\",VLOOKUP($A2244,'Result Entry'!$B$9:$DX$108,51,0))","v":""}]
[null,"◐"]
[null,"◐","Overall Result",null,null,"Total Max. Marks",null,"Total Obtained Marks",null,"Percentage","Overall Grade","Result","Position in Class"]
[null,"◐",{"$nulls":3},{"$f":"IF(OR($I2249=\"\",$I2249=\"NSO\"),\"\",VLOOKUP($A2244,'Result Entry'!$B$9:$DX$108,101,0))","v":500},null,{"$f":"IF(OR($I2249=\"\",$I2249=\"NSO\"),\"\",VLOOKUP($A2244,'Result Entry'!$B$9:$DX$108,102,0))","v":0},null,{"$f":"IF(OR($I2249=\"\",$I2249=\"NSO\"),\"\",VLOOKUP($A2244,'Result Entry'!$B$9:$DX$108,103,0))","v":{"v":0,"d":"0.00"}},{"$f":"IF(OR($I2249=\"\",$I2249=\"NSO\"),\"\",VLOOKUP($A2244,'Result Entry'!$B$9:$DX$108,104,0))","v":""},{"$f":"IF(OR($I2249=\"\",$I2249=\"NSO\"),\"\",VLOOKUP($A2244,'Result Entry'!$B$9:$DX$108,105,0))","v":""},{"$f":"IF(OR($I2249=\"\",$I2249=\"NSO\"),\"\",VLOOKUP($A2244,'Result Entry'!$B$9:$DX$108,107,0))","v":""}]
[null,"◐",{"$nulls":6},"Total Meetings :-",null,{"$f":"IF(OR($I2249=\"\",$I2249=\"NSO\"),\"\",VLOOKUP($A2244,'Result Entry'!$B$9:$DX$108,98,0))","v":0},"Attedance %"]
[null,"◐","Extra Subjects",{"$nulls":5},"Student's Meetings :-",null,{"$f":"IF(OR($I2249=\"\",$I2249=\"NSO\"),\"\",VLOOKUP($A2244,'Result Entry'!$B$9:$DX$108,99,0))","v":0},{"$f":"IF(OR($I2249=\"\",$I2249=\"NSO\"),\"\",VLOOKUP($A2244,'Result Entry'!$B$9:$DX$108,100,0))","v":""}]
[null,"◐","Subject",null,null,"Total Marks",null,"GRADE","Remark :-",null,{"$f":"IF(OR($I2249=\"\",$I2249=\"NSO\"),\"\",VLOOKUP($A2244,'Result Entry'!$B$9:$DX$108,108,0))","v":0}]
[null,"◐",{"$nulls":6},"Result Date :-",null,{"$f":"'Result Entry'!$T$2","v":"2023-05-24"}]
[null,"◐",{"$f":"'Result Entry'!$BW$3","v":"WORK EXP."},null,null,{"$f":"IF(OR(C2270=\"\",$I2249=\"NSO\"),\"\",VLOOKUP($A2244,'Result Entry'!$B$9:$DX$108,119,0))","v":"0/50"},null,{"$f":"IF(OR(C2270=\"\",$I2249=\"NSO\"),\"\",VLOOKUP($A2244,'Result Entry'!$B$9:$DX$108,81,0))","v":""}]
[null,null,{"$f":"'Result Entry'!$CE$3","v":"ART EDU."},null,null,{"$f":"IF(OR(C2271=\"\",$I2249=\"NSO\"),\"\",VLOOKUP($A2244,'Result Entry'!$B$9:$DX$108,123,0))","v":"0/50"},null,{"$f":"IF(OR(C2271=\"\",$I2249=\"NSO\"),\"\",VLOOKUP($A2244,'Result Entry'!$B$9:$DX$108,89,0))","v":""}]
[null,"◐",{"$f":"'Result Entry'!$CM$3","v":"H&P. EDU."},null,null,{"$f":"IF(OR(C2272=\"\",$I2249=\"NSO\"),\"\",VLOOKUP($A2244,'Result Entry'!$B$9:$DX$108,127,0))","v":"0/100"},null,{"$f":"IF(OR(C2272=\"\",$I2249=\"NSO\"),\"\",VLOOKUP($A2244,'Result Entry'!$B$9:$DX$108,97,0))","v":""},"Signature Of The Class Teacher"]
[null,"◐","Grading System"]
[null,"◐","Grd.","% Range",null,"Description"]
[null,"◐","A","86-100",null,"Excellent",null,null,"Signature And Seal Of Principal/H.M."]
[null,"◐","B","71-85",null,"Very Good"]
[null,"◐","C","51-70",null,"Good"]
[null,"◐","D","31-50",null,"Average"]
[null,"◐","E","0-30",null,"Needs Improvement",null,null,"Wish bright future"]
[]
[]
[{"$f":"A2244+1","v":61},"Department Of Education, Rajasthan"]
[null,{"$f":"IF(I2287>0,CONCATENATE(C2287,I2287),0)","v":0},null,{"$f":"Master!$E$8","v":"Govt.Sr.Sec.Sch. "}]
[{"$nulls":3},{"$f":"Master!$E$11","v":"P.S.-Bapini (Jodhpur)"}]
[null,null,"Report Card",{"$nulls":6},"U-DISE Code:-",null,{"$f":"Master!$E$14","v":{"v":810000000,"d":"0810000000"}}]
[{"$nulls":9},"Session:-",null,{"$f":"Master!$E$6","v":"2022-23"}]
[null,null,"Roll No.:-",{"$nulls":5},{"$f":"VLOOKUP($A2282,'Result Entry'!$B$9:$F$108,5,0)","v":0}]
[null,"◐","Scholar Number",{"$nulls":3},"↠",{"$f":"VLOOKUP($A2282,'Result Entry'!$B$9:$DX$108,3,0)","v":0}]
[null,"◐","Student's Name",{"$nulls":3},"↠",{"$f":"VLOOKUP($A2282,'Result Entry'!$B$9:$DX$108,6,0)","v":0}]
[null,"◐","Father's Name",{"$nulls":3},"↠",{"$f":"VLOOKUP($A2282,'Result Entry'!$B$9:$DX$108,7,0)","v":0}]
[null,"◐","Mother's Name ",{"$nulls":3},"↠",{"$f":"VLOOKUP($A2282,'Result Entry'!$B$9:$DX$108,8,0)","v":0}]
[null,"◐","Class & Section",{"$nulls":3},"↠",{"$f":"CONCATENATE('Result Entry'!$F$4,'Result Entry'!$I$4)","v":"2(A)"}]
[null,"◐","Date Of Birth",{"$nulls":3},"↠",{"$f":"VLOOKUP($A2282,'Result Entry'!$B$9:$DX$108,9,0)","v":"00:00:00"}]
[null,"◐","Subject",{"$nulls":4},"Half Yearly","Total (T+H.Y.)","Yearly","Grand Total",null,"Subject Grade"]
[null,"◐","Max. Marks",{"$nulls":4},{"$f":"'Result Entry'!$Q$7","v":100},{"$f":"G2295+H2295","v":100},{"$f":"'Result Entry'!$U$7","v":100},{"$f":"I2295+J2295","v":200},null,"A/B/C/D/E"]
[null,"◐",{"$f":"'Result Entry'!$K$3","v":"Hindi"},{"$nulls":4},{"$f":"IF(OR(C2296=\"\",$I2287=\"NSO\"),\"\",VLOOKUP($A2282,'Result Entry'!$B$9:$DX$108,16,0))","v":0},{"$f":"SUM(G2296,H2296)","v":0},{"$f":"IF(OR(C2296=\"\",$I2287=\"NSO\"),\"\",VLOOKUP($A2282,'Result Entry'!$B$9:$DX$108,20,0))","v":0},{"$f":"SUM(I2296,J2296)","v":0},null,{"$f":"IF(OR(C2296=\"\",$I2287=\"NSO\"),\"\",VLOOKUP($A2282,'Result Entry'!$B$9:$DX$108,23,0))","v":""}]
[null,"◐",{"$f":"'Result Entry'!$Y$3","v":"Mathematics"},{"$nulls":4},{"$f":"IF(OR(C2297=\"\",$I2287=\"NSO\"),\"\",VLOOKUP($A2282,'Result Entry'!$B$9:$DX$108,30,0))","v":0},{"$f":"SUM(G2297,H2297)","v":0},{"$f":"IF(OR(C2297=\"\",$I2287=\"NSO\"),\"\",VLOOKUP($A2282,'Result Entry'!$B$9:$DX$108,34,0))","v":0},{"$f":"SUM(I2297,J2297)","v":0},null,{"$f":"IF(OR(C2297=\"\",$I2287=\"NSO\"),\"\",VLOOKUP($A2282,'Result Entry'!$B$9:$DX$108,37,0))","v":""}]
[null,"◐",{"$f":"'Result Entry'!$BO$3","v":"Env. Study"},{"$nulls":4},{"$f":"IF(OR(C2298=\"\",$I2287=\"NSO\"),\"\",VLOOKUP($A2282,'Result Entry'!$B$9:$DX$108,66,0))","v":0},0,{"$f":"IF(OR(C2298=\"\",$I2287=\"NSO\"),\"\",VLOOKUP($A2282,'Result Entry'!$B$9:$DX$108,67,0))","v":0},0,null,{"$f":"IF(OR(C2298=\"\",$I2287=\"NSO\"),\"\",VLOOKUP($A2282,'Result Entry'!$B$9:$DX$108,73,0))","v":""}]
[null,"◐","Max. Marks",{"$nulls":4},{"$f":"'Result Entry'!$AS$7","v":50},50,{"$f":"'Result Entry'!$AW$7","v":50},100,null,"A/B/C/D/E"]
[null,"◐",{"$f":"'Result Entry'!$AM$3","v":"English"},{"$nulls":4},{"$f":"IF(OR(C2300=\"\",$I2287=\"NSO\"),\"\",VLOOKUP($A2282,'Result Entry'!$B$9:$DX$108,44,0))","v":0},0,{"$f":"IF(OR(C2300=\"\",$I2287=\"NSO\"),\"\",VLOOKUP($A2282,'Result Entry'!$B$9:$DX$108,48,0))","v":0},0,null,{"$f":"IF(OR(C2300=\"\",$I2287=\"NSO\"),\"\",VLOOKUP($A2282,'Result Entry'!$B$9:$DX$108,51,0))","v":""}]
[null,"◐"]
[null,"◐","Overall Result",null,null,"Total Max. Marks",null,"Total Obtained Marks",null,"Percentage","Overall Grade","Result","Position in Class"]
[null,"◐",{"$nulls":3},{"$f":"IF(OR($I2287=\"\",$I2287=\"NSO\"),\"\",VLOOKUP($A2282,'Result Entry'!$B$9:$DX$108,101,0))","v":500},null,{"$f":"IF(OR($I2287=\"\",$I2287=\"NSO\"),\"\",VLOOKUP($A2282,'Result Entry'!$B$9:$DX$108,102,0))","v":0},null,{"$f":"IF(OR($I2287=\"\",$I2287=\"NSO\"),\"\",VLOOKUP($A2282,'Result Entry'!$B$9:$DX$108,103,0))","v":{"v":0,"d":"0.00"}},{"$f":"IF(OR($I2287=\"\",$I2287=\"NSO\"),\"\",VLOOKUP($A2282,'Result Entry'!$B$9:$DX$108,104,0))","v":""},{"$f":"IF(OR($I2287=\"\",$I2287=\"NSO\"),\"\",VLOOKUP($A2282,'Result Entry'!$B$9:$DX$108,105,0))","v":""},{"$f":"IF(OR($I2287=\"\",$I2287=\"NSO\"),\"\",VLOOKUP($A2282,'Result Entry'!$B$9:$DX$108,107,0))","v":""}]
[null,"◐",{"$nulls":6},"Total Meetings :-",null,{"$f":"IF(OR($I2287=\"\",$I2287=\"NSO\"),\"\",VLOOKUP($A2282,'Result Entry'!$B$9:$DX$108,98,0))","v":0},"Attedance %"]
[null,"◐","Extra Subjects",{"$nulls":5},"Student's Meetings :-",null,{"$f":"IF(OR($I2287=\"\",$I2287=\"NSO\"),\"\",VLOOKUP($A2282,'Result Entry'!$B$9:$DX$108,99,0))","v":0},{"$f":"IF(OR($I2287=\"\",$I2287=\"NSO\"),\"\",VLOOKUP($A2282,'Result Entry'!$B$9:$DX$108,100,0))","v":""}]
[null,"◐","Subject",null,null,"Total Marks",null,"GRADE","Remark :-",null,{"$f":"IF(OR($I2287=\"\",$I2287=\"NSO\"),\"\",VLOOKUP($A2282,'Result Entry'!$B$9:$DX$108,108,0))","v":0}]
[null,"◐",{"$nulls":6},"Result Date :-",null,{"$f":"'Result Entry'!$T$2","v":"2023-05-24"}]
[null,"◐",{"$f":"'Result Entry'!$BW$3","v":"WORK EXP."},null,null,{"$f":"IF(OR(C2308=\"\",$I2287=\"NSO\"),\"\",VLOOKUP($A2282,'Result Entry'!$B$9:$DX$108,119,0))","v":"0/50"},null,{"$f":"IF(OR(C2308=\"\",$I2287=\"NSO\"),\"\",VLOOKUP($A2282,'Result Entry'!$B$9:$DX$108,81,0))","v":""}]
[null,null,{"$f":"'Result Entry'!$CE$3","v":"ART EDU."},null,null,{"$f":"IF(OR(C2309=\"\",$I2287=\"NSO\"),\"\",VLOOKUP($A2282,'Result Entry'!$B$9:$DX$108,123,0))","v":"0/50"},null,{"$f":"IF(OR(C2309=\"\",$I2287=\"NSO\"),\"\",VLOOKUP($A2282,'Result Entry'!$B$9:$DX$108,89,0))","v":""}]
[null,"◐",{"$f":"'Result Entry'!$CM$3","v":"H&P. EDU."},null,null,{"$f":"IF(OR(C2310=\"\",$I2287=\"NSO\"),\"\",VLOOKUP($A2282,'Result Entry'!$B$9:$DX$108,127,0))","v":"0/100"},null,{"$f":"IF(OR(C2310=\"\",$I2287=\"NSO\"),\"\",VLOOKUP($A2282,'Result Entry'!$B$9:$DX$108,97,0))","v":""},"Signature Of The Class Teacher"]
[null,"◐","Grading System"]
[null,"◐","Grd.","% Range",null,"Description"]
[null,"◐","A","86-100",null,"Excellent",null,null,"Signature And Seal Of Principal/H.M."]
[null,"◐","B","71-85",null,"Very Good"]
[null,"◐","C","51-70",null,"Good"]
[null,"◐","D","31-50",null,"Average"]
[null,"◐","E","0-30",null,"Needs Improvement",null,null,"Wish bright future"]
[]
[]
[{"$f":"A2282+1","v":62},"Department Of Education, Rajasthan"]
[null,{"$f":"IF(I2325>0,CONCATENATE(C2325,I2325),0)","v":0},null,{"$f":"Master!$E$8","v":"Govt.Sr.Sec.Sch. "}]
[{"$nulls":3},{"$f":"Master!$E$11","v":"P.S.-Bapini (Jodhpur)"}]
[null,null,"Report Card",{"$nulls":6},"U-DISE Code:-",null,{"$f":"Master!$E$14","v":{"v":810000000,"d":"0810000000"}}]
[{"$nulls":9},"Session:-",null,{"$f":"Master!$E$6","v":"2022-23"}]
[null,null,"Roll No.:-",{"$nulls":5},{"$f":"VLOOKUP($A2320,'Result Entry'!$B$9:$F$108,5,0)","v":0}]
[null,"◐","Scholar Number",{"$nulls":3},"↠",{"$f":"VLOOKUP($A2320,'Result Entry'!$B$9:$DX$108,3,0)","v":0}]
[null,"◐","Student's Name",{"$nulls":3},"↠",{"$f":"VLOOKUP($A2320,'Result Entry'!$B$9:$DX$108,6,0)","v":0}]
[null,"◐","Father's Name",{"$nulls":3},"↠",{"$f":"VLOOKUP($A2320,'Result Entry'!$B$9:$DX$108,7,0)","v":0}]
[null,"◐","Mother's Name ",{"$nulls":3},"↠",{"$f":"VLOOKUP($A2320,'Result Entry'!$B$9:$DX$108,8,0)","v":0}]
[null,"◐","Class & Section",{"$nulls":3},"↠",{"$f":"CONCATENATE('Result Entry'!$F$4,'Result Entry'!$I$4)","v":"2(A)"}]
[null,"◐","Date Of Birth",{"$nulls":3},"↠",{"$f":"VLOOKUP($A2320,'Result Entry'!$B$9:$DX$108,9,0)","v":"00:00:00"}]
[null,"◐","Subject",{"$nulls":4},"Half Yearly","Total (T+H.Y.)","Yearly","Grand Total",null,"Subject Grade"]
[null,"◐","Max. Marks",{"$nulls":4},{"$f":"'Result Entry'!$Q$7","v":100},{"$f":"G2333+H2333","v":100},{"$f":"'Result Entry'!$U$7","v":100},{"$f":"I2333+J2333","v":200},null,"A/B/C/D/E"]
[null,"◐",{"$f":"'Result Entry'!$K$3","v":"Hindi"},{"$nulls":4},{"$f":"IF(OR(C2334=\"\",$I2325=\"NSO\"),\"\",VLOOKUP($A2320,'Result Entry'!$B$9:$DX$108,16,0))","v":0},{"$f":"SUM(G2334,H2334)","v":0},{"$f":"IF(OR(C2334=\"\",$I2325=\"NSO\"),\"\",VLOOKUP($A2320,'Result Entry'!$B$9:$DX$108,20,0))","v":0},{"$f":"SUM(I2334,J2334)","v":0},null,{"$f":"IF(OR(C2334=\"\",$I2325=\"NSO\"),\"\",VLOOKUP($A2320,'Result Entry'!$B$9:$DX$108,23,0))","v":""}]
[null,"◐",{"$f":"'Result Entry'!$Y$3","v":"Mathematics"},{"$nulls":4},{"$f":"IF(OR(C2335=\"\",$I2325=\"NSO\"),\"\",VLOOKUP($A2320,'Result Entry'!$B$9:$DX$108,30,0))","v":0},{"$f":"SUM(G2335,H2335)","v":0},{"$f":"IF(OR(C2335=\"\",$I2325=\"NSO\"),\"\",VLOOKUP($A2320,'Result Entry'!$B$9:$DX$108,34,0))","v":0},{"$f":"SUM(I2335,J2335)","v":0},null,{"$f":"IF(OR(C2335=\"\",$I2325=\"NSO\"),\"\",VLOOKUP($A2320,'Result Entry'!$B$9:$DX$108,37,0))","v":""}]
[null,"◐",{"$f":"'Result Entry'!$BO$3","v":"Env. Study"},{"$nulls":4},{"$f":"IF(OR(C2336=\"\",$I2325=\"NSO\"),\"\",VLOOKUP($A2320,'Result Entry'!$B$9:$DX$108,66,0))","v":0},0,{"$f":"IF(OR(C2336=\"\",$I2325=\"NSO\"),\"\",VLOOKUP($A2320,'Result Entry'!$B$9:$DX$108,67,0))","v":0},0,null,{"$f":"IF(OR(C2336=\"\",$I2325=\"NSO\"),\"\",VLOOKUP($A2320,'Result Entry'!$B$9:$DX$108,73,0))","v":""}]
[null,"◐","Max. Marks",{"$nulls":4},{"$f":"'Result Entry'!$AS$7","v":50},50,{"$f":"'Result Entry'!$AW$7","v":50},100,null,"A/B/C/D/E"]
[null,"◐",{"$f":"'Result Entry'!$AM$3","v":"English"},{"$nulls":4},{"$f":"IF(OR(C2338=\"\",$I2325=\"NSO\"),\"\",VLOOKUP($A2320,'Result Entry'!$B$9:$DX$108,44,0))","v":0},0,{"$f":"IF(OR(C2338=\"\",$I2325=\"NSO\"),\"\",VLOOKUP($A2320,'Result Entry'!$B$9:$DX$108,48,0))","v":0},0,null,{"$f":"IF(OR(C2338=\"\",$I2325=\"NSO\"),\"\",VLOOKUP($A2320,'Result Entry'!$B$9:$DX$108,51,0))","v":""}]
[null,"◐"]
[null,"◐","Overall Result",null,null,"Total Max. Marks",null,"Total Obtained Marks",null,"Percentage","Overall Grade","Result","Position in Class"]
[null,"◐",{"$nulls":3},{"$f":"IF(OR($I2325=\"\",$I2325=\"NSO\"),\"\",VLOOKUP($A2320,'Result Entry'!$B$9:$DX$108,101,0))","v":500},null,{"$f":"IF(OR($I2325=\"\",$I2325=\"NSO\"),\"\",VLOOKUP($A2320,'Result Entry'!$B$9:$DX$108,102,0))","v":0},null,{"$f":"IF(OR($I2325=\"\",$I2325=\"NSO\"),\"\",VLOOKUP($A2320,'Result Entry'!$B$9:$DX$108,103,0))","v":{"v":0,"d":"0.00"}},{"$f":"IF(OR($I2325=\"\",$I2325=\"NSO\"),\"\",VLOOKUP($A2320,'Result Entry'!$B$9:$DX$108,104,0))","v":""},{"$f":"IF(OR($I2325=\"\",$I2325=\"NSO\"),\"\",VLOOKUP($A2320,'Result Entry'!$B$9:$DX$108,105,0))","v":""},{"$f":"IF(OR($I2325=\"\",$I2325=\"NSO\"),\"\",VLOOKUP($A2320,'Result Entry'!$B$9:$DX$108,107,0))","v":""}]
[null,"◐",{"$nulls":6},"Total Meetings :-",null,{"$f":"IF(OR($I2325=\"\",$I2325=\"NSO\"),\"\",VLOOKUP($A2320,'Result Entry'!$B$9:$DX$108,98,0))","v":0},"Attedance %"]
[null,"◐","Extra Subjects",{"$nulls":5},"Student's Meetings :-",null,{"$f":"IF(OR($I2325=\"\",$I2325=\"NSO\"),\"\",VLOOKUP($A2320,'Result Entry'!$B$9:$DX$108,99,0))","v":0},{"$f":"IF(OR($I2325=\"\",$I2325=\"NSO\"),\"\",VLOOKUP($A2320,'Result Entry'!$B$9:$DX$108,100,0))","v":""}]
[null,"◐","Subject",null,null,"Total Marks",null,"GRADE","Remark :-",null,{"$f":"IF(OR($I2325=\"\",$I2325=\"NSO\"),\"\",VLOOKUP($A2320,'Result Entry'!$B$9:$DX$108,108,0))","v":0}]
[null,"◐",{"$nulls":6},"Result Date :-",null,{"$f":"'Result Entry'!$T$2","v":"2023-05-24"}]
[null,"◐",{"$f":"'Result Entry'!$BW$3","v":"WORK EXP."},null,null,{"$f":"IF(OR(C2346=\"\",$I2325=\"NSO\"),\"\",VLOOKUP($A2320,'Result Entry'!$B$9:$DX$108,119,0))","v":"0/50"},null,{"$f":"IF(OR(C2346=\"\",$I2325=\"NSO\"),\"\",VLOOKUP($A2320,'Result Entry'!$B$9:$DX$108,81,0))","v":""}]
[null,null,{"$f":"'Result Entry'!$CE$3","v":"ART EDU."},null,null,{"$f":"IF(OR(C2347=\"\",$I2325=\"NSO\"),\"\",VLOOKUP($A2320,'Result Entry'!$B$9:$DX$108,123,0))","v":"0/50"},null,{"$f":"IF(OR(C2347=\"\",$I2325=\"NSO\"),\"\",VLOOKUP($A2320,'Result Entry'!$B$9:$DX$108,89,0))","v":""}]
[null,"◐",{"$f":"'Result Entry'!$CM$3","v":"H&P. EDU."},null,null,{"$f":"IF(OR(C2348=\"\",$I2325=\"NSO\"),\"\",VLOOKUP($A2320,'Result Entry'!$B$9:$DX$108,127,0))","v":"0/100"},null,{"$f":"IF(OR(C2348=\"\",$I2325=\"NSO\"),\"\",VLOOKUP($A2320,'Result Entry'!$B$9:$DX$108,97,0))","v":""},"Signature Of The Class Teacher"]
[null,"◐","Grading System"]
[null,"◐","Grd.","% Range",null,"Description"]
[null,"◐","A","86-100",null,"Excellent",null,null,"Signature And Seal Of Principal/H.M."]
[null,"◐","B","71-85",null,"Very Good"]
[null,"◐","C","51-70",null,"Good"]
[null,"◐","D","31-50",null,"Average"]
[null,"◐","E","0-30",null,"Needs Improvement",null,null,"Wish bright future"]
[]
[]
[{"$f":"A2320+1","v":63},"Department Of Education, Rajasthan"]
[null,{"$f":"IF(I2363>0,CONCATENATE(C2363,I2363),0)","v":0},null,{"$f":"Master!$E$8","v":"Govt.Sr.Sec.Sch. "}]
[{"$nulls":3},{"$f":"Master!$E$11","v":"P.S.-Bapini (Jodhpur)"}]
[null,null,"Report Card",{"$nulls":6},"U-DISE Code:-",null,{"$f":"Master!$E$14","v":{"v":810000000,"d":"0810000000"}}]
[{"$nulls":9},"Session:-",null,{"$f":"Master!$E$6","v":"2022-23"}]
[null,null,"Roll No.:-",{"$nulls":5},{"$f":"VLOOKUP($A2358,'Result Entry'!$B$9:$F$108,5,0)","v":0}]
[null,"◐","Scholar Number",{"$nulls":3},"↠",{"$f":"VLOOKUP($A2358,'Result Entry'!$B$9:$DX$108,3,0)","v":0}]
[null,"◐","Student's Name",{"$nulls":3},"↠",{"$f":"VLOOKUP($A2358,'Result Entry'!$B$9:$DX$108,6,0)","v":0}]
[null,"◐","Father's Name",{"$nulls":3},"↠",{"$f":"VLOOKUP($A2358,'Result Entry'!$B$9:$DX$108,7,0)","v":0}]
[null,"◐","Mother's Name ",{"$nulls":3},"↠",{"$f":"VLOOKUP($A2358,'Result Entry'!$B$9:$DX$108,8,0)","v":0}]
[null,"◐","Class & Section",{"$nulls":3},"↠",{"$f":"CONCATENATE('Result Entry'!$F$4,'Result Entry'!$I$4)","v":"2(A)"}]
[null,"◐","Date Of Birth",{"$nulls":3},"↠",{"$f":"VLOOKUP($A2358,'Result Entry'!$B$9:$DX$108,9,0)","v":"00:00:00"}]
[null,"◐","Subject",{"$nulls":4},"Half Yearly","Total (T+H.Y.)","Yearly","Grand Total",null,"Subject Grade"]
[null,"◐","Max. Marks",{"$nulls":4},{"$f":"'Result Entry'!$Q$7","v":100},{"$f":"G2371+H2371","v":100},{"$f":"'Result Entry'!$U$7","v":100},{"$f":"I2371+J2371","v":200},null,"A/B/C/D/E"]
[null,"◐",{"$f":"'Result Entry'!$K$3","v":"Hindi"},{"$nulls":4},{"$f":"IF(OR(C2372=\"\",$I2363=\"NSO\"),\"\",VLOOKUP($A2358,'Result Entry'!$B$9:$DX$108,16,0))","v":0},{"$f":"SUM(G2372,H2372)","v":0},{"$f":"IF(OR(C2372=\"\",$I2363=\"NSO\"),\"\",VLOOKUP($A2358,'Result Entry'!$B$9:$DX$108,20,0))","v":0},{"$f":"SUM(I2372,J2372)","v":0},null,{"$f":"IF(OR(C2372=\"\",$I2363=\"NSO\"),\"\",VLOOKUP($A2358,'Result Entry'!$B$9:$DX$108,23,0))","v":""}]
[null,"◐",{"$f":"'Result Entry'!$Y$3","v":"Mathematics"},{"$nulls":4},{"$f":"IF(OR(C2373=\"\",$I2363=\"NSO\"),\"\",VLOOKUP($A2358,'Result Entry'!$B$9:$DX$108,30,0))","v":0},{"$f":"SUM(G2373,H2373)","v":0},{"$f":"IF(OR(C2373=\"\",$I2363=\"NSO\"),\"\",VLOOKUP($A2358,'Result Entry'!$B$9:$DX$108,34,0))","v":0},{"$f":"SUM(I2373,J2373)","v":0},null,{"$f":"IF(OR(C2373=\"\",$I2363=\"NSO\"),\"\",VLOOKUP($A2358,'Result Entry'!$B$9:$DX$108,37,0))","v":""}]
[null,"◐",{"$f":"'Result Entry'!$BO$3","v":"Env. Study"},{"$nulls":4},{"$f":"IF(OR(C2374=\"\",$I2363=\"NSO\"),\"\",VLOOKUP($A2358,'Result Entry'!$B$9:$DX$108,66,0))","v":0},0,{"$f":"IF(OR(C2374=\"\",$I2363=\"NSO\"),\"\",VLOOKUP($A2358,'Result Entry'!$B$9:$DX$108,67,0))","v":0},0,null,{"$f":"IF(OR(C2374=\"\",$I2363=\"NSO\"),\"\",VLOOKUP($A2358,'Result Entry'!$B$9:$DX$108,73,0))","v":""}]
[null,"◐","Max. Marks",{"$nulls":4},{"$f":"'Result Entry'!$AS$7","v":50},50,{"$f":"'Result Entry'!$AW$7","v":50},100,null,"A/B/C/D/E"]
[null,"◐",{"$f":"'Result Entry'!$AM$3","v":"English"},{"$nulls":4},{"$f":"IF(OR(C2376=\"\",$I2363=\"NSO\"),\"\",VLOOKUP($A2358,'Result Entry'!$B$9:$DX$108,44,0))","v":0},0,{"$f":"IF(OR(C2376=\"\",$I2363=\"NSO\"),\"\",VLOOKUP($A2358,'Result Entry'!$B$9:$DX$108,48,0))","v":0},0,null,{"$f":"IF(OR(C2376=\"\",$I2363=\"NSO\"),\"\",VLOOKUP($A2358,'Result Entry'!$B$9:$DX$108,51,0))","v":""}]
[null,"◐"]
[null,"◐","Overall Result",null,null,"Total Max. Marks",null,"Total Obtained Marks",null,"Percentage","Overall Grade","Result","Position in Class"]
[null,"◐",{"$nulls":3},{"$f":"IF(OR($I2363=\"\",$I2363=\"NSO\"),\"\",VLOOKUP($A2358,'Result Entry'!$B$9:$DX$108,101,0))","v":500},null,{"$f":"IF(OR($I2363=\"\",$I2363=\"NSO\"),\"\",VLOOKUP($A2358,'Result Entry'!$B$9:$DX$108,102,0))","v":0},null,{"$f":"IF(OR($I2363=\"\",$I2363=\"NSO\"),\"\",VLOOKUP($A2358,'Result Entry'!$B$9:$DX$108,103,0))","v":{"v":0,"d":"0.00"}},{"$f":"IF(OR($I2363=\"\",$I2363=\"NSO\"),\"\",VLOOKUP($A2358,'Result Entry'!$B$9:$DX$108,104,0))","v":""},{"$f":"IF(OR($I2363=\"\",$I2363=\"NSO\"),\"\",VLOOKUP($A2358,'Result Entry'!$B$9:$DX$108,105,0))","v":""},{"$f":"IF(OR($I2363=\"\",$I2363=\"NSO\"),\"\",VLOOKUP($A2358,'Result Entry'!$B$9:$DX$108,107,0))","v":""}]
[null,"◐",{"$nulls":6},"Total Meetings :-",null,{"$f":"IF(OR($I2363=\"\",$I2363=\"NSO\"),\"\",VLOOKUP($A2358,'Result Entry'!$B$9:$DX$108,98,0))","v":0},"Attedance %"]
[null,"◐","Extra Subjects",{"$nulls":5},"Student's Meetings :-",null,{"$f":"IF(OR($I2363=\"\",$I2363=\"NSO\"),\"\",VLOOKUP($A2358,'Result Entry'!$B$9:$DX$108,99,0))","v":0},{"$f":"IF(OR($I2363=\"\",$I2363=\"NSO\"),\"\",VLOOKUP($A2358,'Result Entry'!$B$9:$DX$108,100,0))","v":""}]
[null,"◐","Subject",null,null,"Total Marks",null,"GRADE","Remark :-",null,{"$f":"IF(OR($I2363=\"\",$I2363=\"NSO\"),\"\",VLOOKUP($A2358,'Result Entry'!$B$9:$DX$108,108,0))","v":0}]
[null,"◐",{"$nulls":6},"Result Date :-",null,{"$f":"'Result Entry'!$T$2","v":"2023-05-24"}]
[null,"◐",{"$f":"'Result Entry'!$BW$3","v":"WORK EXP."},null,null,{"$f":"IF(OR(C2384=\"\",$I2363=\"NSO\"),\"\",VLOOKUP($A2358,'Result Entry'!$B$9:$DX$108,119,0))","v":"0/50"},null,{"$f":"IF(OR(C2384=\"\",$I2363=\"NSO\"),\"\",VLOOKUP($A2358,'Result Entry'!$B$9:$DX$108,81,0))","v":""}]
[null,null,{"$f":"'Result Entry'!$CE$3","v":"ART EDU."},null,null,{"$f":"IF(OR(C2385=\"\",$I2363=\"NSO\"),\"\",VLOOKUP($A2358,'Result Entry'!$B$9:$DX$108,123,0))","v":"0/50"},null,{"$f":"IF(OR(C2385=\"\",$I2363=\"NSO\"),\"\",VLOOKUP($A2358,'Result Entry'!$B$9:$DX$108,89,0))","v":""}]
[null,"◐",{"$f":"'Result Entry'!$CM$3","v":"H&P. EDU."},null,null,{"$f":"IF(OR(C2386=\"\",$I2363=\"NSO\"),\"\",VLOOKUP($A2358,'Result Entry'!$B$9:$DX$108,127,0))","v":"0/100"},null,{"$f":"IF(OR(C2386=\"\",$I2363=\"NSO\"),\"\",VLOOKUP($A2358,'Result Entry'!$B$9:$DX$108,97,0))","v":""},"Signature Of The Class Teacher"]
[null,"◐","Grading System"]
[null,"◐","Grd.","% Range",null,"Description"]
[null,"◐","A","86-100",null,"Excellent",null,null,"Signature And Seal Of Principal/H.M."]
[null,"◐","B","71-85",null,"Very Good"]
[null,"◐","C","51-70",null,"Good"]
[null,"◐","D","31-50",null,"Average"]
[null,"◐","E","0-30",null,"Needs Improvement",null,null,"Wish bright future"]
[]
[]
[{"$f":"A2358+1","v":64},"Department Of Education, Rajasthan"]
[null,{"$f":"IF(I2401>0,CONCATENATE(C2401,I2401),0)","v":0},null,{"$f":"Master!$E$8","v":"Govt.Sr.Sec.Sch. "}]
[{"$nulls":3},{"$f":"Master!$E$11","v":"P.S.-Bapini (Jodhpur)"}]
[null,null,"Report Card",{"$nulls":6},"U-DISE Code:-",null,{"$f":"Master!$E$14","v":{"v":810000000,"d":"0810000000"}}]
[{"$nulls":9},"Session:-",null,{"$f":"Master!$E$6","v":"2022-23"}]
[null,null,"Roll No.:-",{"$nulls":5},{"$f":"VLOOKUP($A2396,'Result Entry'!$B$9:$F$108,5,0)","v":0}]
[null,"◐","Scholar Number",{"$nulls":3},"↠",{"$f":"VLOOKUP($A2396,'Result Entry'!$B$9:$DX$108,3,0)","v":0}]
[null,"◐","Student's Name",{"$nulls":3},"↠",{"$f":"VLOOKUP($A2396,'Result Entry'!$B$9:$DX$108,6,0)","v":0}]
[null,"◐","Father's Name",{"$nulls":3},"↠",{"$f":"VLOOKUP($A2396,'Result Entry'!$B$9:$DX$108,7,0)","v":0}]
[null,"◐","Mother's Name ",{"$nulls":3},"↠",{"$f":"VLOOKUP($A2396,'Result Entry'!$B$9:$DX$108,8,0)","v":0}]
[null,"◐","Class & Section",{"$nulls":3},"↠",{"$f":"CONCATENATE('Result Entry'!$F$4,'Result Entry'!$I$4)","v":"2(A)"}]
[null,"◐","Date Of Birth",{"$nulls":3},"↠",{"$f":"VLOOKUP($A2396,'Result Entry'!$B$9:$DX$108,9,0)","v":"00:00:00"}]
[null,"◐","Subject",{"$nulls":4},"Half Yearly","Total (T+H.Y.)","Yearly","Grand Total",null,"Subject Grade"]
[null,"◐","Max. Marks",{"$nulls":4},{"$f":"'Result Entry'!$Q$7","v":100},{"$f":"G2409+H2409","v":100},{"$f":"'Result Entry'!$U$7","v":100},{"$f":"I2409+J2409","v":200},null,"A/B/C/D/E"]
[null,"◐",{"$f":"'Result Entry'!$K$3","v":"Hindi"},{"$nulls":4},{"$f":"IF(OR(C2410=\"\",$I2401=\"NSO\"),\"\",VLOOKUP($A2396,'Result Entry'!$B$9:$DX$108,16,0))","v":0},{"$f":"SUM(G2410,H2410)","v":0},{"$f":"IF(OR(C2410=\"\",$I2401=\"NSO\"),\"\",VLOOKUP($A2396,'Result Entry'!$B$9:$DX$108,20,0))","v":0},{"$f":"SUM(I2410,J2410)","v":0},null,{"$f":"IF(OR(C2410=\"\",$I2401=\"NSO\"),\"\",VLOOKUP($A2396,'Result Entry'!$B$9:$DX$108,23,0))","v":""}]
[null,"◐",{"$f":"'Result Entry'!$Y$3","v":"Mathematics"},{"$nulls":4},{"$f":"IF(OR(C2411=\"\",$I2401=\"NSO\"),\"\",VLOOKUP($A2396,'Result Entry'!$B$9:$DX$108,30,0))","v":0},{"$f":"SUM(G2411,H2411)","v":0},{"$f":"IF(OR(C2411=\"\",$I2401=\"NSO\"),\"\",VLOOKUP($A2396,'Result Entry'!$B$9:$DX$108,34,0))","v":0},{"$f":"SUM(I2411,J2411)","v":0},null,{"$f":"IF(OR(C2411=\"\",$I2401=\"NSO\"),\"\",VLOOKUP($A2396,'Result Entry'!$B$9:$DX$108,37,0))","v":""}]
[null,"◐",{"$f":"'Result Entry'!$BO$3","v":"Env. Study"},{"$nulls":4},{"$f":"IF(OR(C2412=\"\",$I2401=\"NSO\"),\"\",VLOOKUP($A2396,'Result Entry'!$B$9:$DX$108,66,0))","v":0},0,{"$f":"IF(OR(C2412=\"\",$I2401=\"NSO\"),\"\",VLOOKUP($A2396,'Result Entry'!$B$9:$DX$108,67,0))","v":0},0,null,{"$f":"IF(OR(C2412=\"\",$I2401=\"NSO\"),\"\",VLOOKUP($A2396,'Result Entry'!$B$9:$DX$108,73,0))","v":""}]
[null,"◐","Max. Marks",{"$nulls":4},{"$f":"'Result Entry'!$AS$7","v":50},50,{"$f":"'Result Entry'!$AW$7","v":50},100,null,"A/B/C/D/E"]
[null,"◐",{"$f":"'Result Entry'!$AM$3","v":"English"},{"$nulls":4},{"$f":"IF(OR(C2414=\"\",$I2401=\"NSO\"),\"\",VLOOKUP($A2396,'Result Entry'!$B$9:$DX$108,44,0))","v":0},0,{"$f":"IF(OR(C2414=\"\",$I2401=\"NSO\"),\"\",VLOOKUP($A2396,'Result Entry'!$B$9:$DX$108,48,0))","v":0},0,null,{"$f":"IF(OR(C2414=\"\",$I2401=\"NSO\"),\"\",VLOOKUP($A2396,'Result Entry'!$B$9:$DX$108,51,0))","v":""}]
[null,"◐"]
[null,"◐","Overall Result",null,null,"Total Max. Marks",null,"Total Obtained Marks",null,"Percentage","Overall Grade","Result","Position in Class"]
[null,"◐",{"$nulls":3},{"$f":"IF(OR($I2401=\"\",$I2401=\"NSO\"),\"\",VLOOKUP($A2396,'Result Entry'!$B$9:$DX$108,101,0))","v":500},null,{"$f":"IF(OR($I2401=\"\",$I2401=\"NSO\"),\"\",VLOOKUP($A2396,'Result Entry'!$B$9:$DX$108,102,0))","v":0},null,{"$f":"IF(OR($I2401=\"\",$I2401=\"NSO\"),\"\",VLOOKUP($A2396,'Result Entry'!$B$9:$DX$108,103,0))","v":{"v":0,"d":"0.00"}},{"$f":"IF(OR($I2401=\"\",$I2401=\"NSO\"),\"\",VLOOKUP($A2396,'Result Entry'!$B$9:$DX$108,104,0))","v":""},{"$f":"IF(OR($I2401=\"\",$I2401=\"NSO\"),\"\",VLOOKUP($A2396,'Result Entry'!$B$9:$DX$108,105,0))","v":""},{"$f":"IF(OR($I2401=\"\",$I2401=\"NSO\"),\"\",VLOOKUP($A2396,'Result Entry'!$B$9:$DX$108,107,0))","v":""}]
[null,"◐",{"$nulls":6},"Total Meetings :-",null,{"$f":"IF(OR($I2401=\"\",$I2401=\"NSO\"),\"\",VLOOKUP($A2396,'Result Entry'!$B$9:$DX$108,98,0))","v":0},"Attedance %"]
[null,"◐","Extra Subjects",{"$nulls":5},"Student's Meetings :-",null,{"$f":"IF(OR($I2401=\"\",$I2401=\"NSO\"),\"\",VLOOKUP($A2396,'Result Entry'!$B$9:$DX$108,99,0))","v":0},{"$f":"IF(OR($I2401=\"\",$I2401=\"NSO\"),\"\",VLOOKUP($A2396,'Result Entry'!$B$9:$DX$108,100,0))","v":""}]
[null,"◐","Subject",null,null,"Total Marks",null,"GRADE","Remark :-",null,{"$f":"IF(OR($I2401=\"\",$I2401=\"NSO\"),\"\",VLOOKUP($A2396,'Result Entry'!$B$9:$DX$108,108,0))","v":0}]
[null,"◐",{"$nulls":6},"Result Date :-",null,{"$f":"'Result Entry'!$T$2","v":"2023-05-24"}]
[null,"◐",{"$f":"'Result Entry'!$BW$3","v":"WORK EXP."},null,null,{"$f":"IF(OR(C2422=\"\",$I2401=\"NSO\"),\"\",VLOOKUP($A2396,'Result Entry'!$B$9:$DX$108,119,0))","v":"0/50"},null,{"$f":"IF(OR(C2422=\"\",$I2401=\"NSO\"),\"\",VLOOKUP($A2396,'Result Entry'!$B$9:$DX$108,81,0))","v":""}]
[null,null,{"$f":"'Result Entry'!$CE$3","v":"ART EDU."},null,null,{"$f":"IF(OR(C2423=\"\",$I2401=\"NSO\"),\"\",VLOOKUP($A2396,'Result Entry'!$B$9:$DX$108,123,0))","v":"0/50"},null,{"$f":"IF(OR(C2423=\"\",$I2401=\"NSO\"),\"\",VLOOKUP($A2396,'Result Entry'!$B$9:$DX$108,89,0))","v":""}]
[null,"◐",{"$f":"'Result Entry'!$CM$3","v":"H&P. EDU."},null,null,{"$f":"IF(OR(C2424=\"\",$I2401=\"NSO\"),\"\",VLOOKUP($A2396,'Result Entry'!$B$9:$DX$108,127,0))","v":"0/100"},null,{"$f":"IF(OR(C2424=\"\",$I2401=\"NSO\"),\"\",VLOOKUP($A2396,'Result Entry'!$B$9:$DX$108,97,0))","v":""},"Signature Of The Class Teacher"]
[null,"◐","Grading System"]
[null,"◐","Grd.","% Range",null,"Description"]
[null,"◐","A","86-100",null,"Excellent",null,null,"Signature And Seal Of Principal/H.M."]
[null,"◐","B","71-85",null,"Very Good"]
[null,"◐","C","51-70",null,"Good"]
[null,"◐","D","31-50",null,"Average"]
[null,"◐","E","0-30",null,"Needs Improvement",null,null,"Wish bright future"]
[]
[]
[{"$f":"A2396+1","v":65},"Department Of Education, Rajasthan"]
[null,{"$f":"IF(I2439>0,CONCATENATE(C2439,I2439),0)","v":0},null,{"$f":"Master!$E$8","v":"Govt.Sr.Sec.Sch. "}]
[{"$nulls":3},{"$f":"Master!$E$11","v":"P.S.-Bapini (Jodhpur)"}]
[null,null,"Report Card",{"$nulls":6},"U-DISE Code:-",null,{"$f":"Master!$E$14","v":{"v":810000000,"d":"0810000000"}}]
[{"$nulls":9},"Session:-",null,{"$f":"Master!$E$6","v":"2022-23"}]
[null,null,"Roll No.:-",{"$nulls":5},{"$f":"VLOOKUP($A2434,'Result Entry'!$B$9:$F$108,5,0)","v":0}]
[null,"◐","Scholar Number",{"$nulls":3},"↠",{"$f":"VLOOKUP($A2434,'Result Entry'!$B$9:$DX$108,3,0)","v":0}]
[null,"◐","Student's Name",{"$nulls":3},"↠",{"$f":"VLOOKUP($A2434,'Result Entry'!$B$9:$DX$108,6,0)","v":0}]
[null,"◐","Father's Name",{"$nulls":3},"↠",{"$f":"VLOOKUP($A2434,'Result Entry'!$B$9:$DX$108,7,0)","v":0}]
[null,"◐","Mother's Name ",{"$nulls":3},"↠",{"$f":"VLOOKUP($A2434,'Result Entry'!$B$9:$DX$108,8,0)","v":0}]
[null,"◐","Class & Section",{"$nulls":3},"↠",{"$f":"CONCATENATE('Result Entry'!$F$4,'Result Entry'!$I$4)","v":"2(A)"}]
[null,"◐","Date Of Birth",{"$nulls":3},"↠",{"$f":"VLOOKUP($A2434,'Result Entry'!$B$9:$DX$108,9,0)","v":"00:00:00"}]
[null,"◐","Subject",{"$nulls":4},"Half Yearly","Total (T+H.Y.)","Yearly","Grand Total",null,"Subject Grade"]
[null,"◐","Max. Marks",{"$nulls":4},{"$f":"'Result Entry'!$Q$7","v":100},{"$f":"G2447+H2447","v":100},{"$f":"'Result Entry'!$U$7","v":100},{"$f":"I2447+J2447","v":200},null,"A/B/C/D/E"]
[null,"◐",{"$f":"'Result Entry'!$K$3","v":"Hindi"},{"$nulls":4},{"$f":"IF(OR(C2448=\"\",$I2439=\"NSO\"),\"\",VLOOKUP($A2434,'Result Entry'!$B$9:$DX$108,16,0))","v":0},{"$f":"SUM(G2448,H2448)","v":0},{"$f":"IF(OR(C2448=\"\",$I2439=\"NSO\"),\"\",VLOOKUP($A2434,'Result Entry'!$B$9:$DX$108,20,0))","v":0},{"$f":"SUM(I2448,J2448)","v":0},null,{"$f":"IF(OR(C2448=\"\",$I2439=\"NSO\"),\"\",VLOOKUP($A2434,'Result Entry'!$B$9:$DX$108,23,0))","v":""}]
[null,"◐",{"$f":"'Result Entry'!$Y$3","v":"Mathematics"},{"$nulls":4},{"$f":"IF(OR(C2449=\"\",$I2439=\"NSO\"),\"\",VLOOKUP($A2434,'Result Entry'!$B$9:$DX$108,30,0))","v":0},{"$f":"SUM(G2449,H2449)","v":0},{"$f":"IF(OR(C2449=\"\",$I2439=\"NSO\"),\"\",VLOOKUP($A2434,'Result Entry'!$B$9:$DX$108,34,0))","v":0},{"$f":"SUM(I2449,J2449)","v":0},null,{"$f":"IF(OR(C2449=\"\",$I2439=\"NSO\"),\"\",VLOOKUP($A2434,'Result Entry'!$B$9:$DX$108,37,0))","v":""}]
[null,"◐",{"$f":"'Result Entry'!$BO$3","v":"Env. Study"},{"$nulls":4},{"$f":"IF(OR(C2450=\"\",$I2439=\"NSO\"),\"\",VLOOKUP($A2434,'Result Entry'!$B$9:$DX$108,66,0))","v":0},0,{"$f":"IF(OR(C2450=\"\",$I2439=\"NSO\"),\"\",VLOOKUP($A2434,'Result Entry'!$B$9:$DX$108,67,0))","v":0},0,null,{"$f":"IF(OR(C2450=\"\",$I2439=\"NSO\"),\"\",VLOOKUP($A2434,'Result Entry'!$B$9:$DX$108,73,0))","v":""}]
[null,"◐","Max. Marks",{"$nulls":4},{"$f":"'Result Entry'!$AS$7","v":50},50,{"$f":"'Result Entry'!$AW$7","v":50},100,null,"A/B/C/D/E"]
[null,"◐",{"$f":"'Result Entry'!$AM$3","v":"English"},{"$nulls":4},{"$f":"IF(OR(C2452=\"\",$I2439=\"NSO\"),\"\",VLOOKUP($A2434,'Result Entry'!$B$9:$DX$108,44,0))","v":0},0,{"$f":"IF(OR(C2452=\"\",$I2439=\"NSO\"),\"\",VLOOKUP($A2434,'Result Entry'!$B$9:$DX$108,48,0))","v":0},0,null,{"$f":"IF(OR(C2452=\"\",$I2439=\"NSO\"),\"\",VLOOKUP($A2434,'Result Entry'!$B$9:$DX$108,51,0))","v":""}]
[null,"◐"]
[null,"◐","Overall Result",null,null,"Total Max. Marks",null,"Total Obtained Marks",null,"Percentage","Overall Grade","Result","Position in Class"]
[null,"◐",{"$nulls":3},{"$f":"IF(OR($I2439=\"\",$I2439=\"NSO\"),\"\",VLOOKUP($A2434,'Result Entry'!$B$9:$DX$108,101,0))","v":500},null,{"$f":"IF(OR($I2439=\"\",$I2439=\"NSO\"),\"\",VLOOKUP($A2434,'Result Entry'!$B$9:$DX$108,102,0))","v":0},null,{"$f":"IF(OR($I2439=\"\",$I2439=\"NSO\"),\"\",VLOOKUP($A2434,'Result Entry'!$B$9:$DX$108,103,0))","v":{"v":0,"d":"0.00"}},{"$f":"IF(OR($I2439=\"\",$I2439=\"NSO\"),\"\",VLOOKUP($A2434,'Result Entry'!$B$9:$DX$108,104,0))","v":""},{"$f":"IF(OR($I2439=\"\",$I2439=\"NSO\"),\"\",VLOOKUP($A2434,'Result Entry'!$B$9:$DX$108,105,0))","v":""},{"$f":"IF(OR($I2439=\"\",$I2439=\"NSO\"),\"\",VLOOKUP($A2434,'Result Entry'!$B$9:$DX$108,107,0))","v":""}]
[null,"◐",{"$nulls":6},"Total Meetings :-",null,{"$f":"IF(OR($I2439=\"\",$I2439=\"NSO\"),\"\",VLOOKUP($A2434,'Result Entry'!$B$9:$DX$108,98,0))","v":0},"Attedance %"]
[null,"◐","Extra Subjects",{"$nulls":5},"Student's Meetings :-",null,{"$f":"IF(OR($I2439=\"\",$I2439=\"NSO\"),\"\",VLOOKUP($A2434,'Result Entry'!$B$9:$DX$108,99,0))","v":0},{"$f":"IF(OR($I2439=\"\",$I2439=\"NSO\"),\"\",VLOOKUP($A2434,'Result Entry'!$B$9:$DX$108,100,0))","v":""}]
[null,"◐","Subject",null,null,"Total Marks",null,"GRADE","Remark :-",null,{"$f":"IF(OR($I2439=\"\",$I2439=\"NSO\"),\"\",VLOOKUP($A2434,'Result Entry'!$B$9:$DX$108,108,0))","v":0}]
[null,"◐",{"$nulls":6},"Result Date :-",null,{"$f":"'Result Entry'!$T$2","v":"2023-05-24"}]
[null,"◐",{"$f":"'Result Entry'!$BW$3","v":"WORK EXP."},null,null,{"$f":"IF(OR(C2460=\"\",$I2439=\"NSO\"),\"\",VLOOKUP($A2434,'Result Entry'!$B$9:$DX$108,119,0))","v":"0/50"},null,{"$f":"IF(OR(C2460=\"\",$I2439=\"NSO\"),\"\",VLOOKUP($A2434,'Result Entry'!$B$9:$DX$108,81,0))","v":""}]
[null,null,{"$f":"'Result Entry'!$CE$3","v":"ART EDU."},null,null,{"$f":"IF(OR(C2461=\"\",$I2439=\"NSO\"),\"\",VLOOKUP($A2434,'Result Entry'!$B$9:$DX$108,123,0))","v":"0/50"},null,{"$f":"IF(OR(C2461=\"\",$I2439=\"NSO\"),\"\",VLOOKUP($A2434,'Result Entry'!$B$9:$DX$108,89,0))","v":""}]
[null,"◐",{"$f":"'Result Entry'!$CM$3","v":"H&P. EDU."},null,null,{"$f":"IF(OR(C2462=\"\",$I2439=\"NSO\"),\"\",VLOOKUP($A2434,'Result Entry'!$B$9:$DX$108,127,0))","v":"0/100"},null,{"$f":"IF(OR(C2462=\"\",$I2439=\"NSO\"),\"\",VLOOKUP($A2434,'Result Entry'!$B$9:$DX$108,97,0))","v":""},"Signature Of The Class Teacher"]
[null,"◐","Grading System"]
[null,"◐","Grd.","% Range",null,"Description"]
[null,"◐","A","86-100",null,"Excellent",null,null,"Signature And Seal Of Principal/H.M."]
[null,"◐","B","71-85",null,"Very Good"]
[null,"◐","C","51-70",null,"Good"]
[null,"◐","D","31-50",null,"Average"]
[null,"◐","E","0-30",null,"Needs Improvement",null,null,"Wish bright future"]
[]
[]
[{"$f":"A2434+1","v":66},"Department Of Education, Rajasthan"]
[null,{"$f":"IF(I2477>0,CONCATENATE(C2477,I2477),0)","v":0},null,{"$f":"Master!$E$8","v":"Govt.Sr.Sec.Sch. "}]
[{"$nulls":3},{"$f":"Master!$E$11","v":"P.S.-Bapini (Jodhpur)"}]
[null,null,"Report Card",{"$nulls":6},"U-DISE Code:-",null,{"$f":"Master!$E$14","v":{"v":810000000,"d":"0810000000"}}]
[{"$nulls":9},"Session:-",null,{"$f":"Master!$E$6","v":"2022-23"}]
[null,null,"Roll No.:-",{"$nulls":5},{"$f":"VLOOKUP($A2472,'Result Entry'!$B$9:$F$108,5,0)","v":0}]
[null,"◐","Scholar Number",{"$nulls":3},"↠",{"$f":"VLOOKUP($A2472,'Result Entry'!$B$9:$DX$108,3,0)","v":0}]
[null,"◐","Student's Name",{"$nulls":3},"↠",{"$f":"VLOOKUP($A2472,'Result Entry'!$B$9:$DX$108,6,0)","v":0}]
[null,"◐","Father's Name",{"$nulls":3},"↠",{"$f":"VLOOKUP($A2472,'Result Entry'!$B$9:$DX$108,7,0)","v":0}]
[null,"◐","Mother's Name ",{"$nulls":3},"↠",{"$f":"VLOOKUP($A2472,'Result Entry'!$B$9:$DX$108,8,0)","v":0}]
[null,"◐","Class & Section",{"$nulls":3},"↠",{"$f":"CONCATENATE('Result Entry'!$F$4,'Result Entry'!$I$4)","v":"2(A)"}]
[null,"◐","Date Of Birth",{"$nulls":3},"↠",{"$f":"VLOOKUP($A2472,'Result Entry'!$B$9:$DX$108,9,0)","v":"00:00:00"}]
[null,"◐","Subject",{"$nulls":4},"Half Yearly","Total (T+H.Y.)","Yearly","Grand Total",null,"Subject Grade"]
[null,"◐","Max. Marks",{"$nulls":4},{"$f":"'Result Entry'!$Q$7","v":100},{"$f":"G2485+H2485","v":100},{"$f":"'Result Entry'!$U$7","v":100},{"$f":"I2485+J2485","v":200},null,"A/B/C/D/E"]
[null,"◐",{"$f":"'Result Entry'!$K$3","v":"Hindi"},{"$nulls":4},{"$f":"IF(OR(C2486=\"\",$I2477=\"NSO\"),\"\",VLOOKUP($A2472,'Result Entry'!$B$9:$DX$108,16,0))","v":0},{"$f":"SUM(G2486,H2486)","v":0},{"$f":"IF(OR(C2486=\"\",$I2477=\"NSO\"),\"\",VLOOKUP($A2472,'Result Entry'!$B$9:$DX$108,20,0))","v":0},{"$f":"SUM(I2486,J2486)","v":0},null,{"$f":"IF(OR(C2486=\"\",$I2477=\"NSO\"),\"\",VLOOKUP($A2472,'Result Entry'!$B$9:$DX$108,23,0))","v":""}]
[null,"◐",{"$f":"'Result Entry'!$Y$3","v":"Mathematics"},{"$nulls":4},{"$f":"IF(OR(C2487=\"\",$I2477=\"NSO\"),\"\",VLOOKUP($A2472,'Result Entry'!$B$9:$DX$108,30,0))","v":0},{"$f":"SUM(G2487,H2487)","v":0},{"$f":"IF(OR(C2487=\"\",$I2477=\"NSO\"),\"\",VLOOKUP($A2472,'Result Entry'!$B$9:$DX$108,34,0))","v":0},{"$f":"SUM(I2487,J2487)","v":0},null,{"$f":"IF(OR(C2487=\"\",$I2477=\"NSO\"),\"\",VLOOKUP($A2472,'Result Entry'!$B$9:$DX$108,37,0))","v":""}]
[null,"◐",{"$f":"'Result Entry'!$BO$3","v":"Env. Study"},{"$nulls":4},{"$f":"IF(OR(C2488=\"\",$I2477=\"NSO\"),\"\",VLOOKUP($A2472,'Result Entry'!$B$9:$DX$108,66,0))","v":0},0,{"$f":"IF(OR(C2488=\"\",$I2477=\"NSO\"),\"\",VLOOKUP($A2472,'Result Entry'!$B$9:$DX$108,67,0))","v":0},0,null,{"$f":"IF(OR(C2488=\"\",$I2477=\"NSO\"),\"\",VLOOKUP($A2472,'Result Entry'!$B$9:$DX$108,73,0))","v":""}]
[null,"◐","Max. Marks",{"$nulls":4},{"$f":"'Result Entry'!$AS$7","v":50},50,{"$f":"'Result Entry'!$AW$7","v":50},100,null,"A/B/C/D/E"]
[null,"◐",{"$f":"'Result Entry'!$AM$3","v":"English"},{"$nulls":4},{"$f":"IF(OR(C2490=\"\",$I2477=\"NSO\"),\"\",VLOOKUP($A2472,'Result Entry'!$B$9:$DX$108,44,0))","v":0},0,{"$f":"IF(OR(C2490=\"\",$I2477=\"NSO\"),\"\",VLOOKUP($A2472,'Result Entry'!$B$9:$DX$108,48,0))","v":0},0,null,{"$f":"IF(OR(C2490=\"\",$I2477=\"NSO\"),\"\",VLOOKUP($A2472,'Result Entry'!$B$9:$DX$108,51,0))","v":""}]
[null,"◐"]
[null,"◐","Overall Result",null,null,"Total Max. Marks",null,"Total Obtained Marks",null,"Percentage","Overall Grade","Result","Position in Class"]
[null,"◐",{"$nulls":3},{"$f":"IF(OR($I2477=\"\",$I2477=\"NSO\"),\"\",VLOOKUP($A2472,'Result Entry'!$B$9:$DX$108,101,0))","v":500},null,{"$f":"IF(OR($I2477=\"\",$I2477=\"NSO\"),\"\",VLOOKUP($A2472,'Result Entry'!$B$9:$DX$108,102,0))","v":0},null,{"$f":"IF(OR($I2477=\"\",$I2477=\"NSO\"),\"\",VLOOKUP($A2472,'Result Entry'!$B$9:$DX$108,103,0))","v":{"v":0,"d":"0.00"}},{"$f":"IF(OR($I2477=\"\",$I2477=\"NSO\"),\"\",VLOOKUP($A2472,'Result Entry'!$B$9:$DX$108,104,0))","v":""},{"$f":"IF(OR($I2477=\"\",$I2477=\"NSO\"),\"\",VLOOKUP($A2472,'Result Entry'!$B$9:$DX$108,105,0))","v":""},{"$f":"IF(OR($I2477=\"\",$I2477=\"NSO\"),\"\",VLOOKUP($A2472,'Result Entry'!$B$9:$DX$108,107,0))","v":""}]
[null,"◐",{"$nulls":6},"Total Meetings :-",null,{"$f":"IF(OR($I2477=\"\",$I2477=\"NSO\"),\"\",VLOOKUP($A2472,'Result Entry'!$B$9:$DX$108,98,0))","v":0},"Attedance %"]
[null,"◐","Extra Subjects",{"$nulls":5},"Student's Meetings :-",null,{"$f":"IF(OR($I2477=\"\",$I2477=\"NSO\"),\"\",VLOOKUP($A2472,'Result Entry'!$B$9:$DX$108,99,0))","v":0},{"$f":"IF(OR($I2477=\"\",$I2477=\"NSO\"),\"\",VLOOKUP($A2472,'Result Entry'!$B$9:$DX$108,100,0))","v":""}]
[null,"◐","Subject",null,null,"Total Marks",null,"GRADE","Remark :-",null,{"$f":"IF(OR($I2477=\"\",$I2477=\"NSO\"),\"\",VLOOKUP($A2472,'Result Entry'!$B$9:$DX$108,108,0))","v":0}]
[null,"◐",{"$nulls":6},"Result Date :-",null,{"$f":"'Result Entry'!$T$2","v":"2023-05-24"}]
[null,"◐",{"$f":"'Result Entry'!$BW$3","v":"WORK EXP."},null,null,{"$f":"IF(OR(C2498=\"\",$I2477=\"NSO\"),\"\",VLOOKUP($A2472,'Result Entry'!$B$9:$DX$108,119,0))","v":"0/50"},null,{"$f":"IF(OR(C2498=\"\",$I2477=\"NSO\"),\"\",VLOOKUP($A2472,'Result Entry'!$B$9:$DX$108,81,0))","v":""}]
[null,null,{"$f":"'Result Entry'!$CE$3","v":"ART EDU."},null,null,{"$f":"IF(OR(C2499=\"\",$I2477=\"NSO\"),\"\",VLOOKUP($A2472,'Result Entry'!$B$9:$DX$108,123,0))","v":"0/50"},null,{"$f":"IF(OR(C2499=\"\",$I2477=\"NSO\"),\"\",VLOOKUP($A2472,'Result Entry'!$B$9:$DX$108,89,0))","v":""}]
[null,"◐",{"$f":"'Result Entry'!$CM$3","v":"H&P. EDU."},null,null,{"$f":"IF(OR(C2500=\"\",$I2477=\"NSO\"),\"\",VLOOKUP($A2472,'Result Entry'!$B$9:$DX$108,127,0))","v":"0/100"},null,{"$f":"IF(OR(C2500=\"\",$I2477=\"NSO\"),\"\",VLOOKUP($A2472,'Result Entry'!$B$9:$DX$108,97,0))","v":""},"Signature Of The Class Teacher"]
[null,"◐","Grading System"]
[null,"◐","Grd.","% Range",null,"Description"]
[null,"◐","A","86-100",null,"Excellent",null,null,"Signature And Seal Of Principal/H.M."]
[null,"◐","B","71-85",null,"Very Good"]
[null,"◐","C","51-70",null,"Good"]
[null,"◐","D","31-50",null,"Average"]
[null,"◐","E","0-30",null,"Needs Improvement",null,null,"Wish bright future"]
[]
[]
[{"$f":"A2472+1","v":67},"Department Of Education, Rajasthan"]
[null,{"$f":"IF(I2515>0,CONCATENATE(C2515,I2515),0)","v":0},null,{"$f":"Master!$E$8","v":"Govt.Sr.Sec.Sch. "}]
[{"$nulls":3},{"$f":"Master!$E$11","v":"P.S.-Bapini (Jodhpur)"}]
[null,null,"Report Card",{"$nulls":6},"U-DISE Code:-",null,{"$f":"Master!$E$14","v":{"v":810000000,"d":"0810000000"}}]
[{"$nulls":9},"Session:-",null,{"$f":"Master!$E$6","v":"2022-23"}]
[null,null,"Roll No.:-",{"$nulls":5},{"$f":"VLOOKUP($A2510,'Result Entry'!$B$9:$F$108,5,0)","v":0}]
[null,"◐","Scholar Number",{"$nulls":3},"↠",{"$f":"VLOOKUP($A2510,'Result Entry'!$B$9:$DX$108,3,0)","v":0}]
[null,"◐","Student's Name",{"$nulls":3},"↠",{"$f":"VLOOKUP($A2510,'Result Entry'!$B$9:$DX$108,6,0)","v":0}]
[null,"◐","Father's Name",{"$nulls":3},"↠",{"$f":"VLOOKUP($A2510,'Result Entry'!$B$9:$DX$108,7,0)","v":0}]
[null,"◐","Mother's Name ",{"$nulls":3},"↠",{"$f":"VLOOKUP($A2510,'Result Entry'!$B$9:$DX$108,8,0)","v":0}]
[null,"◐","Class & Section",{"$nulls":3},"↠",{"$f":"CONCATENATE('Result Entry'!$F$4,'Result Entry'!$I$4)","v":"2(A)"}]
[null,"◐","Date Of Birth",{"$nulls":3},"↠",{"$f":"VLOOKUP($A2510,'Result Entry'!$B$9:$DX$108,9,0)","v":"00:00:00"}]
[null,"◐","Subject",{"$nulls":4},"Half Yearly","Total (T+H.Y.)","Yearly","Grand Total",null,"Subject Grade"]
[null,"◐","Max. Marks",{"$nulls":4},{"$f":"'Result Entry'!$Q$7","v":100},{"$f":"G2523+H2523","v":100},{"$f":"'Result Entry'!$U$7","v":100},{"$f":"I2523+J2523","v":200},null,"A/B/C/D/E"]
[null,"◐",{"$f":"'Result Entry'!$K$3","v":"Hindi"},{"$nulls":4},{"$f":"IF(OR(C2524=\"\",$I2515=\"NSO\"),\"\",VLOOKUP($A2510,'Result Entry'!$B$9:$DX$108,16,0))","v":0},{"$f":"SUM(G2524,H2524)","v":0},{"$f":"IF(OR(C2524=\"\",$I2515=\"NSO\"),\"\",VLOOKUP($A2510,'Result Entry'!$B$9:$DX$108,20,0))","v":0},{"$f":"SUM(I2524,J2524)","v":0},null,{"$f":"IF(OR(C2524=\"\",$I2515=\"NSO\"),\"\",VLOOKUP($A2510,'Result Entry'!$B$9:$DX$108,23,0))","v":""}]
[null,"◐",{"$f":"'Result Entry'!$Y$3","v":"Mathematics"},{"$nulls":4},{"$f":"IF(OR(C2525=\"\",$I2515=\"NSO\"),\"\",VLOOKUP($A2510,'Result Entry'!$B$9:$DX$108,30,0))","v":0},{"$f":"SUM(G2525,H2525)","v":0},{"$f":"IF(OR(C2525=\"\",$I2515=\"NSO\"),\"\",VLOOKUP($A2510,'Result Entry'!$B$9:$DX$108,34,0))","v":0},{"$f":"SUM(I2525,J2525)","v":0},null,{"$f":"IF(OR(C2525=\"\",$I2515=\"NSO\"),\"\",VLOOKUP($A2510,'Result Entry'!$B$9:$DX$108,37,0))","v":""}]
[null,"◐",{"$f":"'Result Entry'!$BO$3","v":"Env. Study"},{"$nulls":4},{"$f":"IF(OR(C2526=\"\",$I2515=\"NSO\"),\"\",VLOOKUP($A2510,'Result Entry'!$B$9:$DX$108,66,0))","v":0},0,{"$f":"IF(OR(C2526=\"\",$I2515=\"NSO\"),\"\",VLOOKUP($A2510,'Result Entry'!$B$9:$DX$108,67,0))","v":0},0,null,{"$f":"IF(OR(C2526=\"\",$I2515=\"NSO\"),\"\",VLOOKUP($A2510,'Result Entry'!$B$9:$DX$108,73,0))","v":""}]
[null,"◐","Max. Marks",{"$nulls":4},{"$f":"'Result Entry'!$AS$7","v":50},50,{"$f":"'Result Entry'!$AW$7","v":50},100,null,"A/B/C/D/E"]
[null,"◐",{"$f":"'Result Entry'!$AM$3","v":"English"},{"$nulls":4},{"$f":"IF(OR(C2528=\"\",$I2515=\"NSO\"),\"\",VLOOKUP($A2510,'Result Entry'!$B$9:$DX$108,44,0))","v":0},0,{"$f":"IF(OR(C2528=\"\",$I2515=\"NSO\"),\"\",VLOOKUP($A2510,'Result Entry'!$B$9:$DX$108,48,0))","v":0},0,null,{"$f":"IF(OR(C2528=\"\",$I2515=\"NSO\"),\"\",VLOOKUP($A2510,'Result Entry'!$B$9:$DX$108,51,0))","v":""}]
[null,"◐"]
[null,"◐","Overall Result",null,null,"Total Max. Marks",null,"Total Obtained Marks",null,"Percentage","Overall Grade","Result","Position in Class"]
[null,"◐",{"$nulls":3},{"$f":"IF(OR($I2515=\"\",$I2515=\"NSO\"),\"\",VLOOKUP($A2510,'Result Entry'!$B$9:$DX$108,101,0))","v":500},null,{"$f":"IF(OR($I2515=\"\",$I2515=\"NSO\"),\"\",VLOOKUP($A2510,'Result Entry'!$B$9:$DX$108,102,0))","v":0},null,{"$f":"IF(OR($I2515=\"\",$I2515=\"NSO\"),\"\",VLOOKUP($A2510,'Result Entry'!$B$9:$DX$108,103,0))","v":{"v":0,"d":"0.00"}},{"$f":"IF(OR($I2515=\"\",$I2515=\"NSO\"),\"\",VLOOKUP($A2510,'Result Entry'!$B$9:$DX$108,104,0))","v":""},{"$f":"IF(OR($I2515=\"\",$I2515=\"NSO\"),\"\",VLOOKUP($A2510,'Result Entry'!$B$9:$DX$108,105,0))","v":""},{"$f":"IF(OR($I2515=\"\",$I2515=\"NSO\"),\"\",VLOOKUP($A2510,'Result Entry'!$B$9:$DX$108,107,0))","v":""}]
[null,"◐",{"$nulls":6},"Total Meetings :-",null,{"$f":"IF(OR($I2515=\"\",$I2515=\"NSO\"),\"\",VLOOKUP($A2510,'Result Entry'!$B$9:$DX$108,98,0))","v":0},"Attedance %"]
[null,"◐","Extra Subjects",{"$nulls":5},"Student's Meetings :-",null,{"$f":"IF(OR($I2515=\"\",$I2515=\"NSO\"),\"\",VLOOKUP($A2510,'Result Entry'!$B$9:$DX$108,99,0))","v":0},{"$f":"IF(OR($I2515=\"\",$I2515=\"NSO\"),\"\",VLOOKUP($A2510,'Result Entry'!$B$9:$DX$108,100,0))","v":""}]
[null,"◐","Subject",null,null,"Total Marks",null,"GRADE","Remark :-",null,{"$f":"IF(OR($I2515=\"\",$I2515=\"NSO\"),\"\",VLOOKUP($A2510,'Result Entry'!$B$9:$DX$108,108,0))","v":0}]
[null,"◐",{"$nulls":6},"Result Date :-",null,{"$f":"'Result Entry'!$T$2","v":"2023-05-24"}]
[null,"◐",{"$f":"'Result Entry'!$BW$3","v":"WORK EXP."},null,null,{"$f":"IF(OR(C2536=\"\",$I2515=\"NSO\"),\"\",VLOOKUP($A2510,'Result Entry'!$B$9:$DX$108,119,0))","v":"0/50"},null,{"$f":"IF(OR(C2536=\"\",$I2515=\"NSO\"),\"\",VLOOKUP($A2510,'Result Entry'!$B$9:$DX$108,81,0))","v":""}]
[null,null,{"$f":"'Result Entry'!$CE$3","v":"ART EDU."},null,null,{"$f":"IF(OR(C2537=\"\",$I2515=\"NSO\"),\"\",VLOOKUP($A2510,'Result Entry'!$B$9:$DX$108,123,0))","v":"0/50"},null,{"$f":"IF(OR(C2537=\"\",$I2515=\"NSO\"),\"\",VLOOKUP($A2510,'Result Entry'!$B$9:$DX$108,89,0))","v":""}]
[null,"◐",{"$f":"'Result Entry'!$CM$3","v":"H&P. EDU."},null,null,{"$f":"IF(OR(C2538=\"\",$I2515=\"NSO\"),\"\",VLOOKUP($A2510,'Result Entry'!$B$9:$DX$108,127,0))","v":"0/100"},null,{"$f":"IF(OR(C2538=\"\",$I2515=\"NSO\"),\"\",VLOOKUP($A2510,'Result Entry'!$B$9:$DX$108,97,0))","v":""},"Signature Of The Class Teacher"]
[null,"◐","Grading System"]
[null,"◐","Grd.","% Range",null,"Description"]
[null,"◐","A","86-100",null,"Excellent",null,null,"Signature And Seal Of Principal/H.M."]
[null,"◐","B","71-85",null,"Very Good"]
[null,"◐","C","51-70",null,"Good"]
[null,"◐","D","31-50",null,"Average"]
[null,"◐","E","0-30",null,"Needs Improvement",null,null,"Wish bright future"]
[]
[]
[{"$f":"A2510+1","v":68},"Department Of Education, Rajasthan"]
[null,{"$f":"IF(I2553>0,CONCATENATE(C2553,I2553),0)","v":0},null,{"$f":"Master!$E$8","v":"Govt.Sr.Sec.Sch. "}]
[{"$nulls":3},{"$f":"Master!$E$11","v":"P.S.-Bapini (Jodhpur)"}]
[null,null,"Report Card",{"$nulls":6},"U-DISE Code:-",null,{"$f":"Master!$E$14","v":{"v":810000000,"d":"0810000000"}}]
[{"$nulls":9},"Session:-",null,{"$f":"Master!$E$6","v":"2022-23"}]
[null,null,"Roll No.:-",{"$nulls":5},{"$f":"VLOOKUP($A2548,'Result Entry'!$B$9:$F$108,5,0)","v":0}]
[null,"◐","Scholar Number",{"$nulls":3},"↠",{"$f":"VLOOKUP($A2548,'Result Entry'!$B$9:$DX$108,3,0)","v":0}]
[null,"◐","Student's Name",{"$nulls":3},"↠",{"$f":"VLOOKUP($A2548,'Result Entry'!$B$9:$DX$108,6,0)","v":0}]
[null,"◐","Father's Name",{"$nulls":3},"↠",{"$f":"VLOOKUP($A2548,'Result Entry'!$B$9:$DX$108,7,0)","v":0}]
[null,"◐","Mother's Name ",{"$nulls":3},"↠",{"$f":"VLOOKUP($A2548,'Result Entry'!$B$9:$DX$108,8,0)","v":0}]
[null,"◐","Class & Section",{"$nulls":3},"↠",{"$f":"CONCATENATE('Result Entry'!$F$4,'Result Entry'!$I$4)","v":"2(A)"}]
[null,"◐","Date Of Birth",{"$nulls":3},"↠",{"$f":"VLOOKUP($A2548,'Result Entry'!$B$9:$DX$108,9,0)","v":"00:00:00"}]
[null,"◐","Subject",{"$nulls":4},"Half Yearly","Total (T+H.Y.)","Yearly","Grand Total",null,"Subject Grade"]
[null,"◐","Max. Marks",{"$nulls":4},{"$f":"'Result Entry'!$Q$7","v":100},{"$f":"G2561+H2561","v":100},{"$f":"'Result Entry'!$U$7","v":100},{"$f":"I2561+J2561","v":200},null,"A/B/C/D/E"]
[null,"◐",{"$f":"'Result Entry'!$K$3","v":"Hindi"},{"$nulls":4},{"$f":"IF(OR(C2562=\"\",$I2553=\"NSO\"),\"\",VLOOKUP($A2548,'Result Entry'!$B$9:$DX$108,16,0))","v":0},{"$f":"SUM(G2562,H2562)","v":0},{"$f":"IF(OR(C2562=\"\",$I2553=\"NSO\"),\"\",VLOOKUP($A2548,'Result Entry'!$B$9:$DX$108,20,0))","v":0},{"$f":"SUM(I2562,J2562)","v":0},null,{"$f":"IF(OR(C2562=\"\",$I2553=\"NSO\"),\"\",VLOOKUP($A2548,'Result Entry'!$B$9:$DX$108,23,0))","v":""}]
[null,"◐",{"$f":"'Result Entry'!$Y$3","v":"Mathematics"},{"$nulls":4},{"$f":"IF(OR(C2563=\"\",$I2553=\"NSO\"),\"\",VLOOKUP($A2548,'Result Entry'!$B$9:$DX$108,30,0))","v":0},{"$f":"SUM(G2563,H2563)","v":0},{"$f":"IF(OR(C2563=\"\",$I2553=\"NSO\"),\"\",VLOOKUP($A2548,'Result Entry'!$B$9:$DX$108,34,0))","v":0},{"$f":"SUM(I2563,J2563)","v":0},null,{"$f":"IF(OR(C2563=\"\",$I2553=\"NSO\"),\"\",VLOOKUP($A2548,'Result Entry'!$B$9:$DX$108,37,0))","v":""}]
[null,"◐",{"$f":"'Result Entry'!$BO$3","v":"Env. Study"},{"$nulls":4},{"$f":"IF(OR(C2564=\"\",$I2553=\"NSO\"),\"\",VLOOKUP($A2548,'Result Entry'!$B$9:$DX$108,66,0))","v":0},0,{"$f":"IF(OR(C2564=\"\",$I2553=\"NSO\"),\"\",VLOOKUP($A2548,'Result Entry'!$B$9:$DX$108,67,0))","v":0},0,null,{"$f":"IF(OR(C2564=\"\",$I2553=\"NSO\"),\"\",VLOOKUP($A2548,'Result Entry'!$B$9:$DX$108,73,0))","v":""}]
[null,"◐","Max. Marks",{"$nulls":4},{"$f":"'Result Entry'!$AS$7","v":50},50,{"$f":"'Result Entry'!$AW$7","v":50},100,null,"A/B/C/D/E"]
[null,"◐",{"$f":"'Result Entry'!$AM$3","v":"English"},{"$nulls":4},{"$f":"IF(OR(C2566=\"\",$I2553=\"NSO\"),\"\",VLOOKUP($A2548,'Result Entry'!$B$9:$DX$108,44,0))","v":0},0,{"$f":"IF(OR(C2566=\"\",$I2553=\"NSO\"),\"\",VLOOKUP($A2548,'Result Entry'!$B$9:$DX$108,48,0))","v":0},0,null,{"$f":"IF(OR(C2566=\"\",$I2553=\"NSO\"),\"\",VLOOKUP($A2548,'Result Entry'!$B$9:$DX$108,51,0))","v":""}]
[null,"◐"]
[null,"◐","Overall Result",null,null,"Total Max. Marks",null,"Total Obtained Marks",null,"Percentage","Overall Grade","Result","Position in Class"]
[null,"◐",{"$nulls":3},{"$f":"IF(OR($I2553=\"\",$I2553=\"NSO\"),\"\",VLOOKUP($A2548,'Result Entry'!$B$9:$DX$108,101,0))","v":500},null,{"$f":"IF(OR($I2553=\"\",$I2553=\"NSO\"),\"\",VLOOKUP($A2548,'Result Entry'!$B$9:$DX$108,102,0))","v":0},null,{"$f":"IF(OR($I2553=\"\",$I2553=\"NSO\"),\"\",VLOOKUP($A2548,'Result Entry'!$B$9:$DX$108,103,0))","v":{"v":0,"d":"0.00"}},{"$f":"IF(OR($I2553=\"\",$I2553=\"NSO\"),\"\",VLOOKUP($A2548,'Result Entry'!$B$9:$DX$108,104,0))","v":""},{"$f":"IF(OR($I2553=\"\",$I2553=\"NSO\"),\"\",VLOOKUP($A2548,'Result Entry'!$B$9:$DX$108,105,0))","v":""},{"$f":"IF(OR($I2553=\"\",$I2553=\"NSO\"),\"\",VLOOKUP($A2548,'Result Entry'!$B$9:$DX$108,107,0))","v":""}]
[null,"◐",{"$nulls":6},"Total Meetings :-",null,{"$f":"IF(OR($I2553=\"\",$I2553=\"NSO\"),\"\",VLOOKUP($A2548,'Result Entry'!$B$9:$DX$108,98,0))","v":0},"Attedance %"]
[null,"◐","Extra Subjects",{"$nulls":5},"Student's Meetings :-",null,{"$f":"IF(OR($I2553=\"\",$I2553=\"NSO\"),\"\",VLOOKUP($A2548,'Result Entry'!$B$9:$DX$108,99,0))","v":0},{"$f":"IF(OR($I2553=\"\",$I2553=\"NSO\"),\"\",VLOOKUP($A2548,'Result Entry'!$B$9:$DX$108,100,0))","v":""}]
[null,"◐","Subject",null,null,"Total Marks",null,"GRADE","Remark :-",null,{"$f":"IF(OR($I2553=\"\",$I2553=\"NSO\"),\"\",VLOOKUP($A2548,'Result Entry'!$B$9:$DX$108,108,0))","v":0}]
[null,"◐",{"$nulls":6},"Result Date :-",null,{"$f":"'Result Entry'!$T$2","v":"2023-05-24"}]
[null,"◐",{"$f":"'Result Entry'!$BW$3","v":"WORK EXP."},null,null,{"$f":"IF(OR(C2574=\"\",$I2553=\"NSO\"),\"\",VLOOKUP($A2548,'Result Entry'!$B$9:$DX$108,119,0))","v":"0/50"},null,{"$f":"IF(OR(C2574=\"\",$I2553=\"NSO\"),\"\",VLOOKUP($A2548,'Result Entry'!$B$9:$DX$108,81,0))","v":""}]
[null,null,{"$f":"'Result Entry'!$CE$3","v":"ART EDU."},null,null,{"$f":"IF(OR(C2575=\"\",$I2553=\"NSO\"),\"\",VLOOKUP($A2548,'Result Entry'!$B$9:$DX$108,123,0))","v":"0/50"},null,{"$f":"IF(OR(C2575=\"\",$I2553=\"NSO\"),\"\",VLOOKUP($A2548,'Result Entry'!$B$9:$DX$108,89,0))","v":""}]
[null,"◐",{"$f":"'Result Entry'!$CM$3","v":"H&P. EDU."},null,null,{"$f":"IF(OR(C2576=\"\",$I2553=\"NSO\"),\"\",VLOOKUP($A2548,'Result Entry'!$B$9:$DX$108,127,0))","v":"0/100"},null,{"$f":"IF(OR(C2576=\"\",$I2553=\"NSO\"),\"\",VLOOKUP($A2548,'Result Entry'!$B$9:$DX$108,97,0))","v":""},"Signature Of The Class Teacher"]
[null,"◐","Grading System"]
[null,"◐","Grd.","% Range",null,"Description"]
[null,"◐","A","86-100",null,"Excellent",null,null,"Signature And Seal Of Principal/H.M."]
[null,"◐","B","71-85",null,"Very Good"]
[null,"◐","C","51-70",null,"Good"]
[null,"◐","D","31-50",null,"Average"]
[null,"◐","E","0-30",null,"Needs Improvement",null,null,"Wish bright future"]
[]
[]
[{"$f":"A2548+1","v":69},"Department Of Education, Rajasthan"]
[null,{"$f":"IF(I2591>0,CONCATENATE(C2591,I2591),0)","v":0},null,{"$f":"Master!$E$8","v":"Govt.Sr.Sec.Sch. "}]
[{"$nulls":3},{"$f":"Master!$E$11","v":"P.S.-Bapini (Jodhpur)"}]
[null,null,"Report Card",{"$nulls":6},"U-DISE Code:-",null,{"$f":"Master!$E$14","v":{"v":810000000,"d":"0810000000"}}]
[{"$nulls":9},"Session:-",null,{"$f":"Master!$E$6","v":"2022-23"}]
[null,null,"Roll No.:-",{"$nulls":5},{"$f":"VLOOKUP($A2586,'Result Entry'!$B$9:$F$108,5,0)","v":0}]
[null,"◐","Scholar Number",{"$nulls":3},"↠",{"$f":"VLOOKUP($A2586,'Result Entry'!$B$9:$DX$108,3,0)","v":0}]
[null,"◐","Student's Name",{"$nulls":3},"↠",{"$f":"VLOOKUP($A2586,'Result Entry'!$B$9:$DX$108,6,0)","v":0}]
[null,"◐","Father's Name",{"$nulls":3},"↠",{"$f":"VLOOKUP($A2586,'Result Entry'!$B$9:$DX$108,7,0)","v":0}]
[null,"◐","Mother's Name ",{"$nulls":3},"↠",{"$f":"VLOOKUP($A2586,'Result Entry'!$B$9:$DX$108,8,0)","v":0}]
[null,"◐","Class & Section",{"$nulls":3},"↠",{"$f":"CONCATENATE('Result Entry'!$F$4,'Result Entry'!$I$4)","v":"2(A)"}]
[null,"◐","Date Of Birth",{"$nulls":3},"↠",{"$f":"VLOOKUP($A2586,'Result Entry'!$B$9:$DX$108,9,0)","v":"00:00:00"}]
[null,"◐","Subject",{"$nulls":4},"Half Yearly","Total (T+H.Y.)","Yearly","Grand Total",null,"Subject Grade"]
[null,"◐","Max. Marks",{"$nulls":4},{"$f":"'Result Entry'!$Q$7","v":100},{"$f":"G2599+H2599","v":100},{"$f":"'Result Entry'!$U$7","v":100},{"$f":"I2599+J2599","v":200},null,"A/B/C/D/E"]
[null,"◐",{"$f":"'Result Entry'!$K$3","v":"Hindi"},{"$nulls":4},{"$f":"IF(OR(C2600=\"\",$I2591=\"NSO\"),\"\",VLOOKUP($A2586,'Result Entry'!$B$9:$DX$108,16,0))","v":0},{"$f":"SUM(G2600,H2600)","v":0},{"$f":"IF(OR(C2600=\"\",$I2591=\"NSO\"),\"\",VLOOKUP($A2586,'Result Entry'!$B$9:$DX$108,20,0))","v":0},{"$f":"SUM(I2600,J2600)","v":0},null,{"$f":"IF(OR(C2600=\"\",$I2591=\"NSO\"),\"\",VLOOKUP($A2586,'Result Entry'!$B$9:$DX$108,23,0))","v":""}]
[null,"◐",{"$f":"'Result Entry'!$Y$3","v":"Mathematics"},{"$nulls":4},{"$f":"IF(OR(C2601=\"\",$I2591=\"NSO\"),\"\",VLOOKUP($A2586,'Result Entry'!$B$9:$DX$108,30,0))","v":0},{"$f":"SUM(G2601,H2601)","v":0},{"$f":"IF(OR(C2601=\"\",$I2591=\"NSO\"),\"\",VLOOKUP($A2586,'Result Entry'!$B$9:$DX$108,34,0))","v":0},{"$f":"SUM(I2601,J2601)","v":0},null,{"$f":"IF(OR(C2601=\"\",$I2591=\"NSO\"),\"\",VLOOKUP($A2586,'Result Entry'!$B$9:$DX$108,37,0))","v":""}]
[null,"◐",{"$f":"'Result Entry'!$BO$3","v":"Env. Study"},{"$nulls":4},{"$f":"IF(OR(C2602=\"\",$I2591=\"NSO\"),\"\",VLOOKUP($A2586,'Result Entry'!$B$9:$DX$108,66,0))","v":0},0,{"$f":"IF(OR(C2602=\"\",$I2591=\"NSO\"),\"\",VLOOKUP($A2586,'Result Entry'!$B$9:$DX$108,67,0))","v":0},0,null,{"$f":"IF(OR(C2602=\"\",$I2591=\"NSO\"),\"\",VLOOKUP($A2586,'Result Entry'!$B$9:$DX$108,73,0))","v":""}]
[null,"◐","Max. Marks",{"$nulls":4},{"$f":"'Result Entry'!$AS$7","v":50},50,{"$f":"'Result Entry'!$AW$7","v":50},100,null,"A/B/C/D/E"]
[null,"◐",{"$f":"'Result Entry'!$AM$3","v":"English"},{"$nulls":4},{"$f":"IF(OR(C2604=\"\",$I2591=\"NSO\"),\"\",VLOOKUP($A2586,'Result Entry'!$B$9:$DX$108,44,0))","v":0},0,{"$f":"IF(OR(C2604=\"\",$I2591=\"NSO\"),\"\",VLOOKUP($A2586,'Result Entry'!$B$9:$DX$108,48,0))","v":0},0,null,{"$f":"IF(OR(C2604=\"\",$I2591=\"NSO\"),\"\",VLOOKUP($A2586,'Result Entry'!$B$9:$DX$108,51,0))","v":""}]
[null,"◐"]
[null,"◐","Overall Result",null,null,"Total Max. Marks",null,"Total Obtained Marks",null,"Percentage","Overall Grade","Result","Position in Class"]
[null,"◐",{"$nulls":3},{"$f":"IF(OR($I2591=\"\",$I2591=\"NSO\"),\"\",VLOOKUP($A2586,'Result Entry'!$B$9:$DX$108,101,0))","v":500},null,{"$f":"IF(OR($I2591=\"\",$I2591=\"NSO\"),\"\",VLOOKUP($A2586,'Result Entry'!$B$9:$DX$108,102,0))","v":0},null,{"$f":"IF(OR($I2591=\"\",$I2591=\"NSO\"),\"\",VLOOKUP($A2586,'Result Entry'!$B$9:$DX$108,103,0))","v":{"v":0,"d":"0.00"}},{"$f":"IF(OR($I2591=\"\",$I2591=\"NSO\"),\"\",VLOOKUP($A2586,'Result Entry'!$B$9:$DX$108,104,0))","v":""},{"$f":"IF(OR($I2591=\"\",$I2591=\"NSO\"),\"\",VLOOKUP($A2586,'Result Entry'!$B$9:$DX$108,105,0))","v":""},{"$f":"IF(OR($I2591=\"\",$I2591=\"NSO\"),\"\",VLOOKUP($A2586,'Result Entry'!$B$9:$DX$108,107,0))","v":""}]
[null,"◐",{"$nulls":6},"Total Meetings :-",null,{"$f":"IF(OR($I2591=\"\",$I2591=\"NSO\"),\"\",VLOOKUP($A2586,'Result Entry'!$B$9:$DX$108,98,0))","v":0},"Attedance %"]
[null,"◐","Extra Subjects",{"$nulls":5},"Student's Meetings :-",null,{"$f":"IF(OR($I2591=\"\",$I2591=\"NSO\"),\"\",VLOOKUP($A2586,'Result Entry'!$B$9:$DX$108,99,0))","v":0},{"$f":"IF(OR($I2591=\"\",$I2591=\"NSO\"),\"\",VLOOKUP($A2586,'Result Entry'!$B$9:$DX$108,100,0))","v":""}]
[null,"◐","Subject",null,null,"Total Marks",null,"GRADE","Remark :-",null,{"$f":"IF(OR($I2591=\"\",$I2591=\"NSO\"),\"\",VLOOKUP($A2586,'Result Entry'!$B$9:$DX$108,108,0))","v":0}]
[null,"◐",{"$nulls":6},"Result Date :-",null,{"$f":"'Result Entry'!$T$2","v":"2023-05-24"}]
[null,"◐",{"$f":"'Result Entry'!$BW$3","v":"WORK EXP."},null,null,{"$f":"IF(OR(C2612=\"\",$I2591=\"NSO\"),\"\",VLOOKUP($A2586,'Result Entry'!$B$9:$DX$108,119,0))","v":"0/50"},null,{"$f":"IF(OR(C2612=\"\",$I2591=\"NSO\"),\"\",VLOOKUP($A2586,'Result Entry'!$B$9:$DX$108,81,0))","v":""}]
[null,null,{"$f":"'Result Entry'!$CE$3","v":"ART EDU."},null,null,{"$f":"IF(OR(C2613=\"\",$I2591=\"NSO\"),\"\",VLOOKUP($A2586,'Result Entry'!$B$9:$DX$108,123,0))","v":"0/50"},null,{"$f":"IF(OR(C2613=\"\",$I2591=\"NSO\"),\"\",VLOOKUP($A2586,'Result Entry'!$B$9:$DX$108,89,0))","v":""}]
[null,"◐",{"$f":"'Result Entry'!$CM$3","v":"H&P. EDU."},null,null,{"$f":"IF(OR(C2614=\"\",$I2591=\"NSO\"),\"\",VLOOKUP($A2586,'Result Entry'!$B$9:$DX$108,127,0))","v":"0/100"},null,{"$f":"IF(OR(C2614=\"\",$I2591=\"NSO\"),\"\",VLOOKUP($A2586,'Result Entry'!$B$9:$DX$108,97,0))","v":""},"Signature Of The Class Teacher"]
[null,"◐","Grading System"]
[null,"◐","Grd.","% Range",null,"Description"]
[null,"◐","A","86-100",null,"Excellent",null,null,"Signature And Seal Of Principal/H.M."]
[null,"◐","B","71-85",null,"Very Good"]
[null,"◐","C","51-70",null,"Good"]
[null,"◐","D","31-50",null,"Average"]
[null,"◐","E","0-30",null,"Needs Improvement",null,null,"Wish bright future"]
[]
[]
[{"$f":"A2586+1","v":70},"Department Of Education, Rajasthan"]
[null,{"$f":"IF(I2629>0,CONCATENATE(C2629,I2629),0)","v":0},null,{"$f":"Master!$E$8","v":"Govt.Sr.Sec.Sch. "}]
[{"$nulls":3},{"$f":"Master!$E$11","v":"P.S.-Bapini (Jodhpur)"}]
[null,null,"Report Card",{"$nulls":6},"U-DISE Code:-",null,{"$f":"Master!$E$14","v":{"v":810000000,"d":"0810000000"}}]
[{"$nulls":9},"Session:-",null,{"$f":"Master!$E$6","v":"2022-23"}]
[null,null,"Roll No.:-",{"$nulls":5},{"$f":"VLOOKUP($A2624,'Result Entry'!$B$9:$F$108,5,0)","v":0}]
[null,"◐","Scholar Number",{"$nulls":3},"↠",{"$f":"VLOOKUP($A2624,'Result Entry'!$B$9:$DX$108,3,0)","v":0}]
[null,"◐","Student's Name",{"$nulls":3},"↠",{"$f":"VLOOKUP($A2624,'Result Entry'!$B$9:$DX$108,6,0)","v":0}]
[null,"◐","Father's Name",{"$nulls":3},"↠",{"$f":"VLOOKUP($A2624,'Result Entry'!$B$9:$DX$108,7,0)","v":0}]
[null,"◐","Mother's Name ",{"$nulls":3},"↠",{"$f":"VLOOKUP($A2624,'Result Entry'!$B$9:$DX$108,8,0)","v":0}]
[null,"◐","Class & Section",{"$nulls":3},"↠",{"$f":"CONCATENATE('Result Entry'!$F$4,'Result Entry'!$I$4)","v":"2(A)"}]
[null,"◐","Date Of Birth",{"$nulls":3},"↠",{"$f":"VLOOKUP($A2624,'Result Entry'!$B$9:$DX$108,9,0)","v":"00:00:00"}]
[null,"◐","Subject",{"$nulls":4},"Half Yearly","Total (T+H.Y.)","Yearly","Grand Total",null,"Subject Grade"]
[null,"◐","Max. Marks",{"$nulls":4},{"$f":"'Result Entry'!$Q$7","v":100},{"$f":"G2637+H2637","v":100},{"$f":"'Result Entry'!$U$7","v":100},{"$f":"I2637+J2637","v":200},null,"A/B/C/D/E"]
[null,"◐",{"$f":"'Result Entry'!$K$3","v":"Hindi"},{"$nulls":4},{"$f":"IF(OR(C2638=\"\",$I2629=\"NSO\"),\"\",VLOOKUP($A2624,'Result Entry'!$B$9:$DX$108,16,0))","v":0},{"$f":"SUM(G2638,H2638)","v":0},{"$f":"IF(OR(C2638=\"\",$I2629=\"NSO\"),\"\",VLOOKUP($A2624,'Result Entry'!$B$9:$DX$108,20,0))","v":0},{"$f":"SUM(I2638,J2638)","v":0},null,{"$f":"IF(OR(C2638=\"\",$I2629=\"NSO\"),\"\",VLOOKUP($A2624,'Result Entry'!$B$9:$DX$108,23,0))","v":""}]
[null,"◐",{"$f":"'Result Entry'!$Y$3","v":"Mathematics"},{"$nulls":4},{"$f":"IF(OR(C2639=\"\",$I2629=\"NSO\"),\"\",VLOOKUP($A2624,'Result Entry'!$B$9:$DX$108,30,0))","v":0},{"$f":"SUM(G2639,H2639)","v":0},{"$f":"IF(OR(C2639=\"\",$I2629=\"NSO\"),\"\",VLOOKUP($A2624,'Result Entry'!$B$9:$DX$108,34,0))","v":0},{"$f":"SUM(I2639,J2639)","v":0},null,{"$f":"IF(OR(C2639=\"\",$I2629=\"NSO\"),\"\",VLOOKUP($A2624,'Result Entry'!$B$9:$DX$108,37,0))","v":""}]
[null,"◐",{"$f":"'Result Entry'!$BO$3","v":"Env. Study"},{"$nulls":4},{"$f":"IF(OR(C2640=\"\",$I2629=\"NSO\"),\"\",VLOOKUP($A2624,'Result Entry'!$B$9:$DX$108,66,0))","v":0},0,{"$f":"IF(OR(C2640=\"\",$I2629=\"NSO\"),\"\",VLOOKUP($A2624,'Result Entry'!$B$9:$DX$108,67,0))","v":0},0,null,{"$f":"IF(OR(C2640=\"\",$I2629=\"NSO\"),\"\",VLOOKUP($A2624,'Result Entry'!$B$9:$DX$108,73,0))","v":""}]
[null,"◐","Max. Marks",{"$nulls":4},{"$f":"'Result Entry'!$AS$7","v":50},50,{"$f":"'Result Entry'!$AW$7","v":50},100,null,"A/B/C/D/E"]
[null,"◐",{"$f":"'Result Entry'!$AM$3","v":"English"},{"$nulls":4},{"$f":"IF(OR(C2642=\"\",$I2629=\"NSO\"),\"\",VLOOKUP($A2624,'Result Entry'!$B$9:$DX$108,44,0))","v":0},0,{"$f":"IF(OR(C2642=\"\",$I2629=\"NSO\"),\"\",VLOOKUP($A2624,'Result Entry'!$B$9:$DX$108,48,0))","v":0},0,null,{"$f":"IF(OR(C2642=\"\",$I2629=\"NSO\"),\"\",VLOOKUP($A2624,'Result Entry'!$B$9:$DX$108,51,0))","v":""}]
[null,"◐"]
[null,"◐","Overall Result",null,null,"Total Max. Marks",null,"Total Obtained Marks",null,"Percentage","Overall Grade","Result","Position in Class"]
[null,"◐",{"$nulls":3},{"$f":"IF(OR($I2629=\"\",$I2629=\"NSO\"),\"\",VLOOKUP($A2624,'Result Entry'!$B$9:$DX$108,101,0))","v":500},null,{"$f":"IF(OR($I2629=\"\",$I2629=\"NSO\"),\"\",VLOOKUP($A2624,'Result Entry'!$B$9:$DX$108,102,0))","v":0},null,{"$f":"IF(OR($I2629=\"\",$I2629=\"NSO\"),\"\",VLOOKUP($A2624,'Result Entry'!$B$9:$DX$108,103,0))","v":{"v":0,"d":"0.00"}},{"$f":"IF(OR($I2629=\"\",$I2629=\"NSO\"),\"\",VLOOKUP($A2624,'Result Entry'!$B$9:$DX$108,104,0))","v":""},{"$f":"IF(OR($I2629=\"\",$I2629=\"NSO\"),\"\",VLOOKUP($A2624,'Result Entry'!$B$9:$DX$108,105,0))","v":""},{"$f":"IF(OR($I2629=\"\",$I2629=\"NSO\"),\"\",VLOOKUP($A2624,'Result Entry'!$B$9:$DX$108,107,0))","v":""}]
[null,"◐",{"$nulls":6},"Total Meetings :-",null,{"$f":"IF(OR($I2629=\"\",$I2629=\"NSO\"),\"\",VLOOKUP($A2624,'Result Entry'!$B$9:$DX$108,98,0))","v":0},"Attedance %"]
[null,"◐","Extra Subjects",{"$nulls":5},"Student's Meetings :-",null,{"$f":"IF(OR($I2629=\"\",$I2629=\"NSO\"),\"\",VLOOKUP($A2624,'Result Entry'!$B$9:$DX$108,99,0))","v":0},{"$f":"IF(OR($I2629=\"\",$I2629=\"NSO\"),\"\",VLOOKUP($A2624,'Result Entry'!$B$9:$DX$108,100,0))","v":""}]
[null,"◐","Subject",null,null,"Total Marks",null,"GRADE","Remark :-",null,{"$f":"IF(OR($I2629=\"\",$I2629=\"NSO\"),\"\",VLOOKUP($A2624,'Result Entry'!$B$9:$DX$108,108,0))","v":0}]
[null,"◐",{"$nulls":6},"Result Date :-",null,{"$f":"'Result Entry'!$T$2","v":"2023-05-24"}]
[null,"◐",{"$f":"'Result Entry'!$BW$3","v":"WORK EXP."},null,null,{"$f":"IF(OR(C2650=\"\",$I2629=\"NSO\"),\"\",VLOOKUP($A2624,'Result Entry'!$B$9:$DX$108,119,0))","v":"0/50"},null,{"$f":"IF(OR(C2650=\"\",$I2629=\"NSO\"),\"\",VLOOKUP($A2624,'Result Entry'!$B$9:$DX$108,81,0))","v":""}]
[null,null,{"$f":"'Result Entry'!$CE$3","v":"ART EDU."},null,null,{"$f":"IF(OR(C2651=\"\",$I2629=\"NSO\"),\"\",VLOOKUP($A2624,'Result Entry'!$B$9:$DX$108,123,0))","v":"0/50"},null,{"$f":"IF(OR(C2651=\"\",$I2629=\"NSO\"),\"\",VLOOKUP($A2624,'Result Entry'!$B$9:$DX$108,89,0))","v":""}]
[null,"◐",{"$f":"'Result Entry'!$CM$3","v":"H&P. EDU."},null,null,{"$f":"IF(OR(C2652=\"\",$I2629=\"NSO\"),\"\",VLOOKUP($A2624,'Result Entry'!$B$9:$DX$108,127,0))","v":"0/100"},null,{"$f":"IF(OR(C2652=\"\",$I2629=\"NSO\"),\"\",VLOOKUP($A2624,'Result Entry'!$B$9:$DX$108,97,0))","v":""},"Signature Of The Class Teacher"]
[null,"◐","Grading System"]
[null,"◐","Grd.","% Range",null,"Description"]
[null,"◐","A","86-100",null,"Excellent",null,null,"Signature And Seal Of Principal/H.M."]
[null,"◐","B","71-85",null,"Very Good"]
[null,"◐","C","51-70",null,"Good"]
[null,"◐","D","31-50",null,"Average"]
[null,"◐","E","0-30",null,"Needs Improvement",null,null,"Wish bright future"]
[]
[]
[{"$f":"A2624+1","v":71},"Department Of Education, Rajasthan"]
[null,{"$f":"IF(I2667>0,CONCATENATE(C2667,I2667),0)","v":0},null,{"$f":"Master!$E$8","v":"Govt.Sr.Sec.Sch. "}]
[{"$nulls":3},{"$f":"Master!$E$11","v":"P.S.-Bapini (Jodhpur)"}]
[null,null,"Report Card",{"$nulls":6},"U-DISE Code:-",null,{"$f":"Master!$E$14","v":{"v":810000000,"d":"0810000000"}}]
[{"$nulls":9},"Session:-",null,{"$f":"Master!$E$6","v":"2022-23"}]
[null,null,"Roll No.:-",{"$nulls":5},{"$f":"VLOOKUP($A2662,'Result Entry'!$B$9:$F$108,5,0)","v":0}]
[null,"◐","Scholar Number",{"$nulls":3},"↠",{"$f":"VLOOKUP($A2662,'Result Entry'!$B$9:$DX$108,3,0)","v":0}]
[null,"◐","Student's Name",{"$nulls":3},"↠",{"$f":"VLOOKUP($A2662,'Result Entry'!$B$9:$DX$108,6,0)","v":0}]
[null,"◐","Father's Name",{"$nulls":3},"↠",{"$f":"VLOOKUP($A2662,'Result Entry'!$B$9:$DX$108,7,0)","v":0}]
[null,"◐","Mother's Name ",{"$nulls":3},"↠",{"$f":"VLOOKUP($A2662,'Result Entry'!$B$9:$DX$108,8,0)","v":0}]
[null,"◐","Class & Section",{"$nulls":3},"↠",{"$f":"CONCATENATE('Result Entry'!$F$4,'Result Entry'!$I$4)","v":"2(A)"}]
[null,"◐","Date Of Birth",{"$nulls":3},"↠",{"$f":"VLOOKUP($A2662,'Result Entry'!$B$9:$DX$108,9,0)","v":"00:00:00"}]
[null,"◐","Subject",{"$nulls":4},"Half Yearly","Total (T+H.Y.)","Yearly","Grand Total",null,"Subject Grade"]
[null,"◐","Max. Marks",{"$nulls":4},{"$f":"'Result Entry'!$Q$7","v":100},{"$f":"G2675+H2675","v":100},{"$f":"'Result Entry'!$U$7","v":100},{"$f":"I2675+J2675","v":200},null,"A/B/C/D/E"]
[null,"◐",{"$f":"'Result Entry'!$K$3","v":"Hindi"},{"$nulls":4},{"$f":"IF(OR(C2676=\"\",$I2667=\"NSO\"),\"\",VLOOKUP($A2662,'Result Entry'!$B$9:$DX$108,16,0))","v":0},{"$f":"SUM(G2676,H2676)","v":0},{"$f":"IF(OR(C2676=\"\",$I2667=\"NSO\"),\"\",VLOOKUP($A2662,'Result Entry'!$B$9:$DX$108,20,0))","v":0},{"$f":"SUM(I2676,J2676)","v":0},null,{"$f":"IF(OR(C2676=\"\",$I2667=\"NSO\"),\"\",VLOOKUP($A2662,'Result Entry'!$B$9:$DX$108,23,0))","v":""}]
[null,"◐",{"$f":"'Result Entry'!$Y$3","v":"Mathematics"},{"$nulls":4},{"$f":"IF(OR(C2677=\"\",$I2667=\"NSO\"),\"\",VLOOKUP($A2662,'Result Entry'!$B$9:$DX$108,30,0))","v":0},{"$f":"SUM(G2677,H2677)","v":0},{"$f":"IF(OR(C2677=\"\",$I2667=\"NSO\"),\"\",VLOOKUP($A2662,'Result Entry'!$B$9:$DX$108,34,0))","v":0},{"$f":"SUM(I2677,J2677)","v":0},null,{"$f":"IF(OR(C2677=\"\",$I2667=\"NSO\"),\"\",VLOOKUP($A2662,'Result Entry'!$B$9:$DX$108,37,0))","v":""}]
[null,"◐",{"$f":"'Result Entry'!$BO$3","v":"Env. Study"},{"$nulls":4},{"$f":"IF(OR(C2678=\"\",$I2667=\"NSO\"),\"\",VLOOKUP($A2662,'Result Entry'!$B$9:$DX$108,66,0))","v":0},0,{"$f":"IF(OR(C2678=\"\",$I2667=\"NSO\"),\"\",VLOOKUP($A2662,'Result Entry'!$B$9:$DX$108,67,0))","v":0},0,null,{"$f":"IF(OR(C2678=\"\",$I2667=\"NSO\"),\"\",VLOOKUP($A2662,'Result Entry'!$B$9:$DX$108,73,0))","v":""}]
[null,"◐","Max. Marks",{"$nulls":4},{"$f":"'Result Entry'!$AS$7","v":50},50,{"$f":"'Result Entry'!$AW$7","v":50},100,null,"A/B/C/D/E"]
[null,"◐",{"$f":"'Result Entry'!$AM$3","v":"English"},{"$nulls":4},{"$f":"IF(OR(C2680=\"\",$I2667=\"NSO\"),\"\",VLOOKUP($A2662,'Result Entry'!$B$9:$DX$108,44,0))","v":0},0,{"$f":"IF(OR(C2680=\"\",$I2667=\"NSO\"),\"\",VLOOKUP($A2662,'Result Entry'!$B$9:$DX$108,48,0))","v":0},0,null,{"$f":"IF(OR(C2680=\"\",$I2667=\"NSO\"),\"\",VLOOKUP($A2662,'Result Entry'!$B$9:$DX$108,51,0))","v":""}]
[null,"◐"]
[null,"◐","Overall Result",null,null,"Total Max. Marks",null,"Total Obtained Marks",null,"Percentage","Overall Grade","Result","Position in Class"]
[null,"◐",{"$nulls":3},{"$f":"IF(OR($I2667=\"\",$I2667=\"NSO\"),\"\",VLOOKUP($A2662,'Result Entry'!$B$9:$DX$108,101,0))","v":500},null,{"$f":"IF(OR($I2667=\"\",$I2667=\"NSO\"),\"\",VLOOKUP($A2662,'Result Entry'!$B$9:$DX$108,102,0))","v":0},null,{"$f":"IF(OR($I2667=\"\",$I2667=\"NSO\"),\"\",VLOOKUP($A2662,'Result Entry'!$B$9:$DX$108,103,0))","v":{"v":0,"d":"0.00"}},{"$f":"IF(OR($I2667=\"\",$I2667=\"NSO\"),\"\",VLOOKUP($A2662,'Result Entry'!$B$9:$DX$108,104,0))","v":""},{"$f":"IF(OR($I2667=\"\",$I2667=\"NSO\"),\"\",VLOOKUP($A2662,'Result Entry'!$B$9:$DX$108,105,0))","v":""},{"$f":"IF(OR($I2667=\"\",$I2667=\"NSO\"),\"\",VLOOKUP($A2662,'Result Entry'!$B$9:$DX$108,107,0))","v":""}]
[null,"◐",{"$nulls":6},"Total Meetings :-",null,{"$f":"IF(OR($I2667=\"\",$I2667=\"NSO\"),\"\",VLOOKUP($A2662,'Result Entry'!$B$9:$DX$108,98,0))","v":0},"Attedance %"]
[null,"◐","Extra Subjects",{"$nulls":5},"Student's Meetings :-",null,{"$f":"IF(OR($I2667=\"\",$I2667=\"NSO\"),\"\",VLOOKUP($A2662,'Result Entry'!$B$9:$DX$108,99,0))","v":0},{"$f":"IF(OR($I2667=\"\",$I2667=\"NSO\"),\"\",VLOOKUP($A2662,'Result Entry'!$B$9:$DX$108,100,0))","v":""}]
[null,"◐","Subject",null,null,"Total Marks",null,"GRADE","Remark :-",null,{"$f":"IF(OR($I2667=\"\",$I2667=\"NSO\"),\"\",VLOOKUP($A2662,'Result Entry'!$B$9:$DX$108,108,0))","v":0}]
[null,"◐",{"$nulls":6},"Result Date :-",null,{"$f":"'Result Entry'!$T$2","v":"2023-05-24"}]
[null,"◐",{"$f":"'Result Entry'!$BW$3","v":"WORK EXP."},null,null,{"$f":"IF(OR(C2688=\"\",$I2667=\"NSO\"),\"\",VLOOKUP($A2662,'Result Entry'!$B$9:$DX$108,119,0))","v":"0/50"},null,{"$f":"IF(OR(C2688=\"\",$I2667=\"NSO\"),\"\",VLOOKUP($A2662,'Result Entry'!$B$9:$DX$108,81,0))","v":""}]
[null,null,{"$f":"'Result Entry'!$CE$3","v":"ART EDU."},null,null,{"$f":"IF(OR(C2689=\"\",$I2667=\"NSO\"),\"\",VLOOKUP($A2662,'Result Entry'!$B$9:$DX$108,123,0))","v":"0/50"},null,{"$f":"IF(OR(C2689=\"\",$I2667=\"NSO\"),\"\",VLOOKUP($A2662,'Result Entry'!$B$9:$DX$108,89,0))","v":""}]
[null,"◐",{"$f":"'Result Entry'!$CM$3","v":"H&P. EDU."},null,null,{"$f":"IF(OR(C2690=\"\",$I2667=\"NSO\"),\"\",VLOOKUP($A2662,'Result Entry'!$B$9:$DX$108,127,0))","v":"0/100"},null,{"$f":"IF(OR(C2690=\"\",$I2667=\"NSO\"),\"\",VLOOKUP($A2662,'Result Entry'!$B$9:$DX$108,97,0))","v":""},"Signature Of The Class Teacher"]
[null,"◐","Grading System"]
[null,"◐","Grd.","% Range",null,"Description"]
[null,"◐","A","86-100",null,"Excellent",null,null,"Signature And Seal Of Principal/H.M."]
[null,"◐","B","71-85",null,"Very Good"]
[null,"◐","C","51-70",null,"Good"]
[null,"◐","D","31-50",null,"Average"]
[null,"◐","E","0-30",null,"Needs Improvement",null,null,"Wish bright future"]
[]
[]
[{"$f":"A2662+1","v":72},"Department Of Education, Rajasthan"]
[null,{"$f":"IF(I2705>0,CONCATENATE(C2705,I2705),0)","v":0},null,{"$f":"Master!$E$8","v":"Govt.Sr.Sec.Sch. "}]
[{"$nulls":3},{"$f":"Master!$E$11","v":"P.S.-Bapini (Jodhpur)"}]
[null,null,"Report Card",{"$nulls":6},"U-DISE Code:-",null,{"$f":"Master!$E$14","v":{"v":810000000,"d":"0810000000"}}]
[{"$nulls":9},"Session:-",null,{"$f":"Master!$E$6","v":"2022-23"}]
[null,null,"Roll No.:-",{"$nulls":5},{"$f":"VLOOKUP($A2700,'Result Entry'!$B$9:$F$108,5,0)","v":0}]
[null,"◐","Scholar Number",{"$nulls":3},"↠",{"$f":"VLOOKUP($A2700,'Result Entry'!$B$9:$DX$108,3,0)","v":0}]
[null,"◐","Student's Name",{"$nulls":3},"↠",{"$f":"VLOOKUP($A2700,'Result Entry'!$B$9:$DX$108,6,0)","v":0}]
[null,"◐","Father's Name",{"$nulls":3},"↠",{"$f":"VLOOKUP($A2700,'Result Entry'!$B$9:$DX$108,7,0)","v":0}]
[null,"◐","Mother's Name ",{"$nulls":3},"↠",{"$f":"VLOOKUP($A2700,'Result Entry'!$B$9:$DX$108,8,0)","v":0}]
[null,"◐","Class & Section",{"$nulls":3},"↠",{"$f":"CONCATENATE('Result Entry'!$F$4,'Result Entry'!$I$4)","v":"2(A)"}]
[null,"◐","Date Of Birth",{"$nulls":3},"↠",{"$f":"VLOOKUP($A2700,'Result Entry'!$B$9:$DX$108,9,0)","v":"00:00:00"}]
[null,"◐","Subject",{"$nulls":4},"Half Yearly","Total (T+H.Y.)","Yearly","Grand Total",null,"Subject Grade"]
[null,"◐","Max. Marks",{"$nulls":4},{"$f":"'Result Entry'!$Q$7","v":100},{"$f":"G2713+H2713","v":100},{"$f":"'Result Entry'!$U$7","v":100},{"$f":"I2713+J2713","v":200},null,"A/B/C/D/E"]
[null,"◐",{"$f":"'Result Entry'!$K$3","v":"Hindi"},{"$nulls":4},{"$f":"IF(OR(C2714=\"\",$I2705=\"NSO\"),\"\",VLOOKUP($A2700,'Result Entry'!$B$9:$DX$108,16,0))","v":0},{"$f":"SUM(G2714,H2714)","v":0},{"$f":"IF(OR(C2714=\"\",$I2705=\"NSO\"),\"\",VLOOKUP($A2700,'Result Entry'!$B$9:$DX$108,20,0))","v":0},{"$f":"SUM(I2714,J2714)","v":0},null,{"$f":"IF(OR(C2714=\"\",$I2705=\"NSO\"),\"\",VLOOKUP($A2700,'Result Entry'!$B$9:$DX$108,23,0))","v":""}]
[null,"◐",{"$f":"'Result Entry'!$Y$3","v":"Mathematics"},{"$nulls":4},{"$f":"IF(OR(C2715=\"\",$I2705=\"NSO\"),\"\",VLOOKUP($A2700,'Result Entry'!$B$9:$DX$108,30,0))","v":0},{"$f":"SUM(G2715,H2715)","v":0},{"$f":"IF(OR(C2715=\"\",$I2705=\"NSO\"),\"\",VLOOKUP($A2700,'Result Entry'!$B$9:$DX$108,34,0))","v":0},{"$f":"SUM(I2715,J2715)","v":0},null,{"$f":"IF(OR(C2715=\"\",$I2705=\"NSO\"),\"\",VLOOKUP($A2700,'Result Entry'!$B$9:$DX$108,37,0))","v":""}]
[null,"◐",{"$f":"'Result Entry'!$BO$3","v":"Env. Study"},{"$nulls":4},{"$f":"IF(OR(C2716=\"\",$I2705=\"NSO\"),\"\",VLOOKUP($A2700,'Result Entry'!$B$9:$DX$108,66,0))","v":0},0,{"$f":"IF(OR(C2716=\"\",$I2705=\"NSO\"),\"\",VLOOKUP($A2700,'Result Entry'!$B$9:$DX$108,67,0))","v":0},0,null,{"$f":"IF(OR(C2716=\"\",$I2705=\"NSO\"),\"\",VLOOKUP($A2700,'Result Entry'!$B$9:$DX$108,73,0))","v":""}]
[null,"◐","Max. Marks",{"$nulls":4},{"$f":"'Result Entry'!$AS$7","v":50},50,{"$f":"'Result Entry'!$AW$7","v":50},100,null,"A/B/C/D/E"]
[null,"◐",{"$f":"'Result Entry'!$AM$3","v":"English"},{"$nulls":4},{"$f":"IF(OR(C2718=\"\",$I2705=\"NSO\"),\"\",VLOOKUP($A2700,'Result Entry'!$B$9:$DX$108,44,0))","v":0},0,{"$f":"IF(OR(C2718=\"\",$I2705=\"NSO\"),\"\",VLOOKUP($A2700,'Result Entry'!$B$9:$DX$108,48,0))","v":0},0,null,{"$f":"IF(OR(C2718=\"\",$I2705=\"NSO\"),\"\",VLOOKUP($A2700,'Result Entry'!$B$9:$DX$108,51,0))","v":""}]
[null,"◐"]
[null,"◐","Overall Result",null,null,"Total Max. Marks",null,"Total Obtained Marks",null,"Percentage","Overall Grade","Result","Position in Class"]
[null,"◐",{"$nulls":3},{"$f":"IF(OR($I2705=\"\",$I2705=\"NSO\"),\"\",VLOOKUP($A2700,'Result Entry'!$B$9:$DX$108,101,0))","v":500},null,{"$f":"IF(OR($I2705=\"\",$I2705=\"NSO\"),\"\",VLOOKUP($A2700,'Result Entry'!$B$9:$DX$108,102,0))","v":0},null,{"$f":"IF(OR($I2705=\"\",$I2705=\"NSO\"),\"\",VLOOKUP($A2700,'Result Entry'!$B$9:$DX$108,103,0))","v":{"v":0,"d":"0.00"}},{"$f":"IF(OR($I2705=\"\",$I2705=\"NSO\"),\"\",VLOOKUP($A2700,'Result Entry'!$B$9:$DX$108,104,0))","v":""},{"$f":"IF(OR($I2705=\"\",$I2705=\"NSO\"),\"\",VLOOKUP($A2700,'Result Entry'!$B$9:$DX$108,105,0))","v":""},{"$f":"IF(OR($I2705=\"\",$I2705=\"NSO\"),\"\",VLOOKUP($A2700,'Result Entry'!$B$9:$DX$108,107,0))","v":""}]
[null,"◐",{"$nulls":6},"Total Meetings :-",null,{"$f":"IF(OR($I2705=\"\",$I2705=\"NSO\"),\"\",VLOOKUP($A2700,'Result Entry'!$B$9:$DX$108,98,0))","v":0},"Attedance %"]
[null,"◐","Extra Subjects",{"$nulls":5},"Student's Meetings :-",null,{"$f":"IF(OR($I2705=\"\",$I2705=\"NSO\"),\"\",VLOOKUP($A2700,'Result Entry'!$B$9:$DX$108,99,0))","v":0},{"$f":"IF(OR($I2705=\"\",$I2705=\"NSO\"),\"\",VLOOKUP($A2700,'Result Entry'!$B$9:$DX$108,100,0))","v":""}]
[null,"◐","Subject",null,null,"Total Marks",null,"GRADE","Remark :-",null,{"$f":"IF(OR($I2705=\"\",$I2705=\"NSO\"),\"\",VLOOKUP($A2700,'Result Entry'!$B$9:$DX$108,108,0))","v":0}]
[null,"◐",{"$nulls":6},"Result Date :-",null,{"$f":"'Result Entry'!$T$2","v":"2023-05-24"}]
[null,"◐",{"$f":"'Result Entry'!$BW$3","v":"WORK EXP."},null,null,{"$f":"IF(OR(C2726=\"\",$I2705=\"NSO\"),\"\",VLOOKUP($A2700,'Result Entry'!$B$9:$DX$108,119,0))","v":"0/50"},null,{"$f":"IF(OR(C2726=\"\",$I2705=\"NSO\"),\"\",VLOOKUP($A2700,'Result Entry'!$B$9:$DX$108,81,0))","v":""}]
[null,null,{"$f":"'Result Entry'!$CE$3","v":"ART EDU."},null,null,{"$f":"IF(OR(C2727=\"\",$I2705=\"NSO\"),\"\",VLOOKUP($A2700,'Result Entry'!$B$9:$DX$108,123,0))","v":"0/50"},null,{"$f":"IF(OR(C2727=\"\",$I2705=\"NSO\"),\"\",VLOOKUP($A2700,'Result Entry'!$B$9:$DX$108,89,0))","v":""}]
[null,"◐",{"$f":"'Result Entry'!$CM$3","v":"H&P. EDU."},null,null,{"$f":"IF(OR(C2728=\"\",$I2705=\"NSO\"),\"\",VLOOKUP($A2700,'Result Entry'!$B$9:$DX$108,127,0))","v":"0/100"},null,{"$f":"IF(OR(C2728=\"\",$I2705=\"NSO\"),\"\",VLOOKUP($A2700,'Result Entry'!$B$9:$DX$108,97,0))","v":""},"Signature Of The Class Teacher"]
[null,"◐","Grading System"]
[null,"◐","Grd.","% Range",null,"Description"]
[null,"◐","A","86-100",null,"Excellent",null,null,"Signature And Seal Of Principal/H.M."]
[null,"◐","B","71-85",null,"Very Good"]
[null,"◐","C","51-70",null,"Good"]
[null,"◐","D","31-50",null,"Average"]
[null,"◐","E","0-30",null,"Needs Improvement",null,null,"Wish bright future"]
[]
[]
[{"$f":"A2700+1","v":73},"Department Of Education, Rajasthan"]
[null,{"$f":"IF(I2743>0,CONCATENATE(C2743,I2743),0)","v":0},null,{"$f":"Master!$E$8","v":"Govt.Sr.Sec.Sch. "}]
[{"$nulls":3},{"$f":"Master!$E$11","v":"P.S.-Bapini (Jodhpur)"}]
[null,null,"Report Card",{"$nulls":6},"U-DISE Code:-",null,{"$f":"Master!$E$14","v":{"v":810000000,"d":"0810000000"}}]
[{"$nulls":9},"Session:-",null,{"$f":"Master!$E$6","v":"2022-23"}]
[null,null,"Roll No.:-",{"$nulls":5},{"$f":"VLOOKUP($A2738,'Result Entry'!$B$9:$F$108,5,0)","v":0}]
[null,"◐","Scholar Number",{"$nulls":3},"↠",{"$f":"VLOOKUP($A2738,'Result Entry'!$B$9:$DX$108,3,0)","v":0}]
[null,"◐","Student's Name",{"$nulls":3},"↠",{"$f":"VLOOKUP($A2738,'Result Entry'!$B$9:$DX$108,6,0)","v":0}]
[null,"◐","Father's Name",{"$nulls":3},"↠",{"$f":"VLOOKUP($A2738,'Result Entry'!$B$9:$DX$108,7,0)","v":0}]
[null,"◐","Mother's Name ",{"$nulls":3},"↠",{"$f":"VLOOKUP($A2738,'Result Entry'!$B$9:$DX$108,8,0)","v":0}]
[null,"◐","Class & Section",{"$nulls":3},"↠",{"$f":"CONCATENATE('Result Entry'!$F$4,'Result Entry'!$I$4)","v":"2(A)"}]
[null,"◐","Date Of Birth",{"$nulls":3},"↠",{"$f":"VLOOKUP($A2738,'Result Entry'!$B$9:$DX$108,9,0)","v":"00:00:00"}]
[null,"◐","Subject",{"$nulls":4},"Half Yearly","Total (T+H.Y.)","Yearly","Grand Total",null,"Subject Grade"]
[null,"◐","Max. Marks",{"$nulls":4},{"$f":"'Result Entry'!$Q$7","v":100},{"$f":"G2751+H2751","v":100},{"$f":"'Result Entry'!$U$7","v":100},{"$f":"I2751+J2751","v":200},null,"A/B/C/D/E"]
[null,"◐",{"$f":"'Result Entry'!$K$3","v":"Hindi"},{"$nulls":4},{"$f":"IF(OR(C2752=\"\",$I2743=\"NSO\"),\"\",VLOOKUP($A2738,'Result Entry'!$B$9:$DX$108,16,0))","v":0},{"$f":"SUM(G2752,H2752)","v":0},{"$f":"IF(OR(C2752=\"\",$I2743=\"NSO\"),\"\",VLOOKUP($A2738,'Result Entry'!$B$9:$DX$108,20,0))","v":0},{"$f":"SUM(I2752,J2752)","v":0},null,{"$f":"IF(OR(C2752=\"\",$I2743=\"NSO\"),\"\",VLOOKUP($A2738,'Result Entry'!$B$9:$DX$108,23,0))","v":""}]
[null,"◐",{"$f":"'Result Entry'!$Y$3","v":"Mathematics"},{"$nulls":4},{"$f":"IF(OR(C2753=\"\",$I2743=\"NSO\"),\"\",VLOOKUP($A2738,'Result Entry'!$B$9:$DX$108,30,0))","v":0},{"$f":"SUM(G2753,H2753)","v":0},{"$f":"IF(OR(C2753=\"\",$I2743=\"NSO\"),\"\",VLOOKUP($A2738,'Result Entry'!$B$9:$DX$108,34,0))","v":0},{"$f":"SUM(I2753,J2753)","v":0},null,{"$f":"IF(OR(C2753=\"\",$I2743=\"NSO\"),\"\",VLOOKUP($A2738,'Result Entry'!$B$9:$DX$108,37,0))","v":""}]
[null,"◐",{"$f":"'Result Entry'!$BO$3","v":"Env. Study"},{"$nulls":4},{"$f":"IF(OR(C2754=\"\",$I2743=\"NSO\"),\"\",VLOOKUP($A2738,'Result Entry'!$B$9:$DX$108,66,0))","v":0},0,{"$f":"IF(OR(C2754=\"\",$I2743=\"NSO\"),\"\",VLOOKUP($A2738,'Result Entry'!$B$9:$DX$108,67,0))","v":0},0,null,{"$f":"IF(OR(C2754=\"\",$I2743=\"NSO\"),\"\",VLOOKUP($A2738,'Result Entry'!$B$9:$DX$108,73,0))","v":""}]
[null,"◐","Max. Marks",{"$nulls":4},{"$f":"'Result Entry'!$AS$7","v":50},50,{"$f":"'Result Entry'!$AW$7","v":50},100,null,"A/B/C/D/E"]
[null,"◐",{"$f":"'Result Entry'!$AM$3","v":"English"},{"$nulls":4},{"$f":"IF(OR(C2756=\"\",$I2743=\"NSO\"),\"\",VLOOKUP($A2738,'Result Entry'!$B$9:$DX$108,44,0))","v":0},0,{"$f":"IF(OR(C2756=\"\",$I2743=\"NSO\"),\"\",VLOOKUP($A2738,'Result Entry'!$B$9:$DX$108,48,0))","v":0},0,null,{"$f":"IF(OR(C2756=\"\",$I2743=\"NSO\"),\"\",VLOOKUP($A2738,'Result Entry'!$B$9:$DX$108,51,0))","v":""}]
[null,"◐"]
[null,"◐","Overall Result",null,null,"Total Max. Marks",null,"Total Obtained Marks",null,"Percentage","Overall Grade","Result","Position in Class"]
[null,"◐",{"$nulls":3},{"$f":"IF(OR($I2743=\"\",$I2743=\"NSO\"),\"\",VLOOKUP($A2738,'Result Entry'!$B$9:$DX$108,101,0))","v":500},null,{"$f":"IF(OR($I2743=\"\",$I2743=\"NSO\"),\"\",VLOOKUP($A2738,'Result Entry'!$B$9:$DX$108,102,0))","v":0},null,{"$f":"IF(OR($I2743=\"\",$I2743=\"NSO\"),\"\",VLOOKUP($A2738,'Result Entry'!$B$9:$DX$108,103,0))","v":{"v":0,"d":"0.00"}},{"$f":"IF(OR($I2743=\"\",$I2743=\"NSO\"),\"\",VLOOKUP($A2738,'Result Entry'!$B$9:$DX$108,104,0))","v":""},{"$f":"IF(OR($I2743=\"\",$I2743=\"NSO\"),\"\",VLOOKUP($A2738,'Result Entry'!$B$9:$DX$108,105,0))","v":""},{"$f":"IF(OR($I2743=\"\",$I2743=\"NSO\"),\"\",VLOOKUP($A2738,'Result Entry'!$B$9:$DX$108,107,0))","v":""}]
[null,"◐",{"$nulls":6},"Total Meetings :-",null,{"$f":"IF(OR($I2743=\"\",$I2743=\"NSO\"),\"\",VLOOKUP($A2738,'Result Entry'!$B$9:$DX$108,98,0))","v":0},"Attedance %"]
[null,"◐","Extra Subjects",{"$nulls":5},"Student's Meetings :-",null,{"$f":"IF(OR($I2743=\"\",$I2743=\"NSO\"),\"\",VLOOKUP($A2738,'Result Entry'!$B$9:$DX$108,99,0))","v":0},{"$f":"IF(OR($I2743=\"\",$I2743=\"NSO\"),\"\",VLOOKUP($A2738,'Result Entry'!$B$9:$DX$108,100,0))","v":""}]
[null,"◐","Subject",null,null,"Total Marks",null,"GRADE","Remark :-",null,{"$f":"IF(OR($I2743=\"\",$I2743=\"NSO\"),\"\",VLOOKUP($A2738,'Result Entry'!$B$9:$DX$108,108,0))","v":0}]
[null,"◐",{"$nulls":6},"Result Date :-",null,{"$f":"'Result Entry'!$T$2","v":"2023-05-24"}]
[null,"◐",{"$f":"'Result Entry'!$BW$3","v":"WORK EXP."},null,null,{"$f":"IF(OR(C2764=\"\",$I2743=\"NSO\"),\"\",VLOOKUP($A2738,'Result Entry'!$B$9:$DX$108,119,0))","v":"0/50"},null,{"$f":"IF(OR(C2764=\"\",$I2743=\"NSO\"),\"\",VLOOKUP($A2738,'Result Entry'!$B$9:$DX$108,81,0))","v":""}]
[null,null,{"$f":"'Result Entry'!$CE$3","v":"ART EDU."},null,null,{"$f":"IF(OR(C2765=\"\",$I2743=\"NSO\"),\"\",VLOOKUP($A2738,'Result Entry'!$B$9:$DX$108,123,0))","v":"0/50"},null,{"$f":"IF(OR(C2765=\"\",$I2743=\"NSO\"),\"\",VLOOKUP($A2738,'Result Entry'!$B$9:$DX$108,89,0))","v":""}]
[null,"◐",{"$f":"'Result Entry'!$CM$3","v":"H&P. EDU."},null,null,{"$f":"IF(OR(C2766=\"\",$I2743=\"NSO\"),\"\",VLOOKUP($A2738,'Result Entry'!$B$9:$DX$108,127,0))","v":"0/100"},null,{"$f":"IF(OR(C2766=\"\",$I2743=\"NSO\"),\"\",VLOOKUP($A2738,'Result Entry'!$B$9:$DX$108,97,0))","v":""},"Signature Of The Class Teacher"]
[null,"◐","Grading System"]
[null,"◐","Grd.","% Range",null,"Description"]
[null,"◐","A","86-100",null,"Excellent",null,null,"Signature And Seal Of Principal/H.M."]
[null,"◐","B","71-85",null,"Very Good"]
[null,"◐","C","51-70",null,"Good"]
[null,"◐","D","31-50",null,"Average"]
[null,"◐","E","0-30",null,"Needs Improvement",null,null,"Wish bright future"]
[]
[]
[{"$f":"A2738+1","v":74},"Department Of Education, Rajasthan"]
[null,{"$f":"IF(I2781>0,CONCATENATE(C2781,I2781),0)","v":0},null,{"$f":"Master!$E$8","v":"Govt.Sr.Sec.Sch. "}]
[{"$nulls":3},{"$f":"Master!$E$11","v":"P.S.-Bapini (Jodhpur)"}]
[null,null,"Report Card",{"$nulls":6},"U-DISE Code:-",null,{"$f":"Master!$E$14","v":{"v":810000000,"d":"0810000000"}}]
[{"$nulls":9},"Session:-",null,{"$f":"Master!$E$6","v":"2022-23"}]
[null,null,"Roll No.:-",{"$nulls":5},{"$f":"VLOOKUP($A2776,'Result Entry'!$B$9:$F$108,5,0)","v":0}]
[null,"◐","Scholar Number",{"$nulls":3},"↠",{"$f":"VLOOKUP($A2776,'Result Entry'!$B$9:$DX$108,3,0)","v":0}]
[null,"◐","Student's Name",{"$nulls":3},"↠",{"$f":"VLOOKUP($A2776,'Result Entry'!$B$9:$DX$108,6,0)","v":0}]
[null,"◐","Father's Name",{"$nulls":3},"↠",{"$f":"VLOOKUP($A2776,'Result Entry'!$B$9:$DX$108,7,0)","v":0}]
[null,"◐","Mother's Name ",{"$nulls":3},"↠",{"$f":"VLOOKUP($A2776,'Result Entry'!$B$9:$DX$108,8,0)","v":0}]
[null,"◐","Class & Section",{"$nulls":3},"↠",{"$f":"CONCATENATE('Result Entry'!$F$4,'Result Entry'!$I$4)","v":"2(A)"}]
[null,"◐","Date Of Birth",{"$nulls":3},"↠",{"$f":"VLOOKUP($A2776,'Result Entry'!$B$9:$DX$108,9,0)","v":"00:00:00"}]
[null,"◐","Subject",{"$nulls":4},"Half Yearly","Total (T+H.Y.)","Yearly","Grand Total",null,"Subject Grade"]
[null,"◐","Max. Marks",{"$nulls":4},{"$f":"'Result Entry'!$Q$7","v":100},{"$f":"G2789+H2789","v":100},{"$f":"'Result Entry'!$U$7","v":100},{"$f":"I2789+J2789","v":200},null,"A/B/C/D/E"]
[null,"◐",{"$f":"'Result Entry'!$K$3","v":"Hindi"},{"$nulls":4},{"$f":"IF(OR(C2790=\"\",$I2781=\"NSO\"),\"\",VLOOKUP($A2776,'Result Entry'!$B$9:$DX$108,16,0))","v":0},{"$f":"SUM(G2790,H2790)","v":0},{"$f":"IF(OR(C2790=\"\",$I2781=\"NSO\"),\"\",VLOOKUP($A2776,'Result Entry'!$B$9:$DX$108,20,0))","v":0},{"$f":"SUM(I2790,J2790)","v":0},null,{"$f":"IF(OR(C2790=\"\",$I2781=\"NSO\"),\"\",VLOOKUP($A2776,'Result Entry'!$B$9:$DX$108,23,0))","v":""}]
[null,"◐",{"$f":"'Result Entry'!$Y$3","v":"Mathematics"},{"$nulls":4},{"$f":"IF(OR(C2791=\"\",$I2781=\"NSO\"),\"\",VLOOKUP($A2776,'Result Entry'!$B$9:$DX$108,30,0))","v":0},{"$f":"SUM(G2791,H2791)","v":0},{"$f":"IF(OR(C2791=\"\",$I2781=\"NSO\"),\"\",VLOOKUP($A2776,'Result Entry'!$B$9:$DX$108,34,0))","v":0},{"$f":"SUM(I2791,J2791)","v":0},null,{"$f":"IF(OR(C2791=\"\",$I2781=\"NSO\"),\"\",VLOOKUP($A2776,'Result Entry'!$B$9:$DX$108,37,0))","v":""}]
[null,"◐",{"$f":"'Result Entry'!$BO$3","v":"Env. Study"},{"$nulls":4},{"$f":"IF(OR(C2792=\"\",$I2781=\"NSO\"),\"\",VLOOKUP($A2776,'Result Entry'!$B$9:$DX$108,66,0))","v":0},0,{"$f":"IF(OR(C2792=\"\",$I2781=\"NSO\"),\"\",VLOOKUP($A2776,'Result Entry'!$B$9:$DX$108,67,0))","v":0},0,null,{"$f":"IF(OR(C2792=\"\",$I2781=\"NSO\"),\"\",VLOOKUP($A2776,'Result Entry'!$B$9:$DX$108,73,0))","v":""}]
[null,"◐","Max. Marks",{"$nulls":4},{"$f":"'Result Entry'!$AS$7","v":50},50,{"$f":"'Result Entry'!$AW$7","v":50},100,null,"A/B/C/D/E"]
[null,"◐",{"$f":"'Result Entry'!$AM$3","v":"English"},{"$nulls":4},{"$f":"IF(OR(C2794=\"\",$I2781=\"NSO\"),\"\",VLOOKUP($A2776,'Result Entry'!$B$9:$DX$108,44,0))","v":0},0,{"$f":"IF(OR(C2794=\"\",$I2781=\"NSO\"),\"\",VLOOKUP($A2776,'Result Entry'!$B$9:$DX$108,48,0))","v":0},0,null,{"$f":"IF(OR(C2794=\"\",$I2781=\"NSO\"),\"\",VLOOKUP($A2776,'Result Entry'!$B$9:$DX$108,51,0))","v":""}]
[null,"◐"]
[null,"◐","Overall Result",null,null,"Total Max. Marks",null,"Total Obtained Marks",null,"Percentage","Overall Grade","Result","Position in Class"]
[null,"◐",{"$nulls":3},{"$f":"IF(OR($I2781=\"\",$I2781=\"NSO\"),\"\",VLOOKUP($A2776,'Result Entry'!$B$9:$DX$108,101,0))","v":500},null,{"$f":"IF(OR($I2781=\"\",$I2781=\"NSO\"),\"\",VLOOKUP($A2776,'Result Entry'!$B$9:$DX$108,102,0))","v":0},null,{"$f":"IF(OR($I2781=\"\",$I2781=\"NSO\"),\"\",VLOOKUP($A2776,'Result Entry'!$B$9:$DX$108,103,0))","v":{"v":0,"d":"0.00"}},{"$f":"IF(OR($I2781=\"\",$I2781=\"NSO\"),\"\",VLOOKUP($A2776,'Result Entry'!$B$9:$DX$108,104,0))","v":""},{"$f":"IF(OR($I2781=\"\",$I2781=\"NSO\"),\"\",VLOOKUP($A2776,'Result Entry'!$B$9:$DX$108,105,0))","v":""},{"$f":"IF(OR($I2781=\"\",$I2781=\"NSO\"),\"\",VLOOKUP($A2776,'Result Entry'!$B$9:$DX$108,107,0))","v":""}]
[null,"◐",{"$nulls":6},"Total Meetings :-",null,{"$f":"IF(OR($I2781=\"\",$I2781=\"NSO\"),\"\",VLOOKUP($A2776,'Result Entry'!$B$9:$DX$108,98,0))","v":0},"Attedance %"]
[null,"◐","Extra Subjects",{"$nulls":5},"Student's Meetings :-",null,{"$f":"IF(OR($I2781=\"\",$I2781=\"NSO\"),\"\",VLOOKUP($A2776,'Result Entry'!$B$9:$DX$108,99,0))","v":0},{"$f":"IF(OR($I2781=\"\",$I2781=\"NSO\"),\"\",VLOOKUP($A2776,'Result Entry'!$B$9:$DX$108,100,0))","v":""}]
[null,"◐","Subject",null,null,"Total Marks",null,"GRADE","Remark :-",null,{"$f":"IF(OR($I2781=\"\",$I2781=\"NSO\"),\"\",VLOOKUP($A2776,'Result Entry'!$B$9:$DX$108,108,0))","v":0}]
[null,"◐",{"$nulls":6},"Result Date :-",null,{"$f":"'Result Entry'!$T$2","v":"2023-05-24"}]
[null,"◐",{"$f":"'Result Entry'!$BW$3","v":"WORK EXP."},null,null,{"$f":"IF(OR(C2802=\"\",$I2781=\"NSO\"),\"\",VLOOKUP($A2776,'Result Entry'!$B$9:$DX$108,119,0))","v":"0/50"},null,{"$f":"IF(OR(C2802=\"\",$I2781=\"NSO\"),\"\",VLOOKUP($A2776,'Result Entry'!$B$9:$DX$108,81,0))","v":""}]
[null,null,{"$f":"'Result Entry'!$CE$3","v":"ART EDU."},null,null,{"$f":"IF(OR(C2803=\"\",$I2781=\"NSO\"),\"\",VLOOKUP($A2776,'Result Entry'!$B$9:$DX$108,123,0))","v":"0/50"},null,{"$f":"IF(OR(C2803=\"\",$I2781=\"NSO\"),\"\",VLOOKUP($A2776,'Result Entry'!$B$9:$DX$108,89,0))","v":""}]
[null,"◐",{"$f":"'Result Entry'!$CM$3","v":"H&P. EDU."},null,null,{"$f":"IF(OR(C2804=\"\",$I2781=\"NSO\"),\"\",VLOOKUP($A2776,'Result Entry'!$B$9:$DX$108,127,0))","v":"0/100"},null,{"$f":"IF(OR(C2804=\"\",$I2781=\"NSO\"),\"\",VLOOKUP($A2776,'Result Entry'!$B$9:$DX$108,97,0))","v":""},"Signature Of The Class Teacher"]
[null,"◐","Grading System"]
[null,"◐","Grd.","% Range",null,"Description"]
[null,"◐","A","86-100",null,"Excellent",null,null,"Signature And Seal Of Principal/H.M."]
[null,"◐","B","71-85",null,"Very Good"]
[null,"◐","C","51-70",null,"Good"]
[null,"◐","D","31-50",null,"Average"]
[null,"◐","E","0-30",null,"Needs Improvement",null,null,"Wish bright future"]
[]
[]
[{"$f":"A2776+1","v":75},"Department Of Education, Rajasthan"]
[null,{"$f":"IF(I2819>0,CONCATENATE(C2819,I2819),0)","v":0},null,{"$f":"Master!$E$8","v":"Govt.Sr.Sec.Sch. "}]
[{"$nulls":3},{"$f":"Master!$E$11","v":"P.S.-Bapini (Jodhpur)"}]
[null,null,"Report Card",{"$nulls":6},"U-DISE Code:-",null,{"$f":"Master!$E$14","v":{"v":810000000,"d":"0810000000"}}]
[{"$nulls":9},"Session:-",null,{"$f":"Master!$E$6","v":"2022-23"}]
[null,null,"Roll No.:-",{"$nulls":5},{"$f":"VLOOKUP($A2814,'Result Entry'!$B$9:$F$108,5,0)","v":0}]
[null,"◐","Scholar Number",{"$nulls":3},"↠",{"$f":"VLOOKUP($A2814,'Result Entry'!$B$9:$DX$108,3,0)","v":0}]
[null,"◐","Student's Name",{"$nulls":3},"↠",{"$f":"VLOOKUP($A2814,'Result Entry'!$B$9:$DX$108,6,0)","v":0}]
[null,"◐","Father's Name",{"$nulls":3},"↠",{"$f":"VLOOKUP($A2814,'Result Entry'!$B$9:$DX$108,7,0)","v":0}]
[null,"◐","Mother's Name ",{"$nulls":3},"↠",{"$f":"VLOOKUP($A2814,'Result Entry'!$B$9:$DX$108,8,0)","v":0}]
[null,"◐","Class & Section",{"$nulls":3},"↠",{"$f":"CONCATENATE('Result Entry'!$F$4,'Result Entry'!$I$4)","v":"2(A)"}]
[null,"◐","Date Of Birth",{"$nulls":3},"↠",{"$f":"VLOOKUP($A2814,'Result Entry'!$B$9:$DX$108,9,0)","v":"00:00:00"}]
[null,"◐","Subject",{"$nulls":4},"Half Yearly","Total (T+H.Y.)","Yearly","Grand Total",null,"Subject Grade"]
[null,"◐","Max. Marks",{"$nulls":4},{"$f":"'Result Entry'!$Q$7","v":100},{"$f":"G2827+H2827","v":100},{"$f":"'Result Entry'!$U$7","v":100},{"$f":"I2827+J2827","v":200},null,"A/B/C/D/E"]
[null,"◐",{"$f":"'Result Entry'!$K$3","v":"Hindi"},{"$nulls":4},{"$f":"IF(OR(C2828=\"\",$I2819=\"NSO\"),\"\",VLOOKUP($A2814,'Result Entry'!$B$9:$DX$108,16,0))","v":0},{"$f":"SUM(G2828,H2828)","v":0},{"$f":"IF(OR(C2828=\"\",$I2819=\"NSO\"),\"\",VLOOKUP($A2814,'Result Entry'!$B$9:$DX$108,20,0))","v":0},{"$f":"SUM(I2828,J2828)","v":0},null,{"$f":"IF(OR(C2828=\"\",$I2819=\"NSO\"),\"\",VLOOKUP($A2814,'Result Entry'!$B$9:$DX$108,23,0))","v":""}]
[null,"◐",{"$f":"'Result Entry'!$Y$3","v":"Mathematics"},{"$nulls":4},{"$f":"IF(OR(C2829=\"\",$I2819=\"NSO\"),\"\",VLOOKUP($A2814,'Result Entry'!$B$9:$DX$108,30,0))","v":0},{"$f":"SUM(G2829,H2829)","v":0},{"$f":"IF(OR(C2829=\"\",$I2819=\"NSO\"),\"\",VLOOKUP($A2814,'Result Entry'!$B$9:$DX$108,34,0))","v":0},{"$f":"SUM(I2829,J2829)","v":0},null,{"$f":"IF(OR(C2829=\"\",$I2819=\"NSO\"),\"\",VLOOKUP($A2814,'Result Entry'!$B$9:$DX$108,37,0))","v":""}]
[null,"◐",{"$f":"'Result Entry'!$BO$3","v":"Env. Study"},{"$nulls":4},{"$f":"IF(OR(C2830=\"\",$I2819=\"NSO\"),\"\",VLOOKUP($A2814,'Result Entry'!$B$9:$DX$108,66,0))","v":0},0,{"$f":"IF(OR(C2830=\"\",$I2819=\"NSO\"),\"\",VLOOKUP($A2814,'Result Entry'!$B$9:$DX$108,67,0))","v":0},0,null,{"$f":"IF(OR(C2830=\"\",$I2819=\"NSO\"),\"\",VLOOKUP($A2814,'Result Entry'!$B$9:$DX$108,73,0))","v":""}]
[null,"◐","Max. Marks",{"$nulls":4},{"$f":"'Result Entry'!$AS$7","v":50},50,{"$f":"'Result Entry'!$AW$7","v":50},100,null,"A/B/C/D/E"]
[null,"◐",{"$f":"'Result Entry'!$AM$3","v":"English"},{"$nulls":4},{"$f":"IF(OR(C2832=\"\",$I2819=\"NSO\"),\"\",VLOOKUP($A2814,'Result Entry'!$B$9:$DX$108,44,0))","v":0},0,{"$f":"IF(OR(C2832=\"\",$I2819=\"NSO\"),\"\",VLOOKUP($A2814,'Result Entry'!$B$9:$DX$108,48,0))","v":0},0,null,{"$f":"IF(OR(C2832=\"\",$I2819=\"NSO\"),\"\",VLOOKUP($A2814,'Result Entry'!$B$9:$DX$108,51,0))","v":""}]
[null,"◐"]
[null,"◐","Overall Result",null,null,"Total Max. Marks",null,"Total Obtained Marks",null,"Percentage","Overall Grade","Result","Position in Class"]
[null,"◐",{"$nulls":3},{"$f":"IF(OR($I2819=\"\",$I2819=\"NSO\"),\"\",VLOOKUP($A2814,'Result Entry'!$B$9:$DX$108,101,0))","v":500},null,{"$f":"IF(OR($I2819=\"\",$I2819=\"NSO\"),\"\",VLOOKUP($A2814,'Result Entry'!$B$9:$DX$108,102,0))","v":0},null,{"$f":"IF(OR($I2819=\"\",$I2819=\"NSO\"),\"\",VLOOKUP($A2814,'Result Entry'!$B$9:$DX$108,103,0))","v":{"v":0,"d":"0.00"}},{"$f":"IF(OR($I2819=\"\",$I2819=\"NSO\"),\"\",VLOOKUP($A2814,'Result Entry'!$B$9:$DX$108,104,0))","v":""},{"$f":"IF(OR($I2819=\"\",$I2819=\"NSO\"),\"\",VLOOKUP($A2814,'Result Entry'!$B$9:$DX$108,105,0))","v":""},{"$f":"IF(OR($I2819=\"\",$I2819=\"NSO\"),\"\",VLOOKUP($A2814,'Result Entry'!$B$9:$DX$108,107,0))","v":""}]
[null,"◐",{"$nulls":6},"Total Meetings :-",null,{"$f":"IF(OR($I2819=\"\",$I2819=\"NSO\"),\"\",VLOOKUP($A2814,'Result Entry'!$B$9:$DX$108,98,0))","v":0},"Attedance %"]
[null,"◐","Extra Subjects",{"$nulls":5},"Student's Meetings :-",null,{"$f":"IF(OR($I2819=\"\",$I2819=\"NSO\"),\"\",VLOOKUP($A2814,'Result Entry'!$B$9:$DX$108,99,0))","v":0},{"$f":"IF(OR($I2819=\"\",$I2819=\"NSO\"),\"\",VLOOKUP($A2814,'Result Entry'!$B$9:$DX$108,100,0))","v":""}]
[null,"◐","Subject",null,null,"Total Marks",null,"GRADE","Remark :-",null,{"$f":"IF(OR($I2819=\"\",$I2819=\"NSO\"),\"\",VLOOKUP($A2814,'Result Entry'!$B$9:$DX$108,108,0))","v":0}]
[null,"◐",{"$nulls":6},"Result Date :-",null,{"$f":"'Result Entry'!$T$2","v":"2023-05-24"}]
[null,"◐",{"$f":"'Result Entry'!$BW$3","v":"WORK EXP."},null,null,{"$f":"IF(OR(C2840=\"\",$I2819=\"NSO\"),\"\",VLOOKUP($A2814,'Result Entry'!$B$9:$DX$108,119,0))","v":"0/50"},null,{"$f":"IF(OR(C2840=\"\",$I2819=\"NSO\"),\"\",VLOOKUP($A2814,'Result Entry'!$B$9:$DX$108,81,0))","v":""}]
[null,null,{"$f":"'Result Entry'!$CE$3","v":"ART EDU."},null,null,{"$f":"IF(OR(C2841=\"\",$I2819=\"NSO\"),\"\",VLOOKUP($A2814,'Result Entry'!$B$9:$DX$108,123,0))","v":"0/50"},null,{"$f":"IF(OR(C2841=\"\",$I2819=\"NSO\"),\"\",VLOOKUP($A2814,'Result Entry'!$B$9:$DX$108,89,0))","v":""}]
[null,"◐",{"$f":"'Result Entry'!$CM$3","v":"H&P. EDU."},null,null,{"$f":"IF(OR(C2842=\"\",$I2819=\"NSO\"),\"\",VLOOKUP($A2814,'Result Entry'!$B$9:$DX$108,127,0))","v":"0/100"},null,{"$f":"IF(OR(C2842=\"\",$I2819=\"NSO\"),\"\",VLOOKUP($A2814,'Result Entry'!$B$9:$DX$108,97,0))","v":""},"Signature Of The Class Teacher"]
[null,"◐","Grading System"]
[null,"◐","Grd.","% Range",null,"Description"]
[null,"◐","A","86-100",null,"Excellent",null,null,"Signature And Seal Of Principal/H.M."]
[null,"◐","B","71-85",null,"Very Good"]
[null,"◐","C","51-70",null,"Good"]
[null,"◐","D","31-50",null,"Average"]
[null,"◐","E","0-30",null,"Needs Improvement",null,null,"Wish bright future"]
[]
[]
[{"$f":"A2814+1","v":76},"Department Of Education, Rajasthan"]
[null,{"$f":"IF(I2857>0,CONCATENATE(C2857,I2857),0)","v":0},null,{"$f":"Master!$E$8","v":"Govt.Sr.Sec.Sch. "}]
[{"$nulls":3},{"$f":"Master!$E$11","v":"P.S.-Bapini (Jodhpur)"}]
[null,null,"Report Card",{"$nulls":6},"U-DISE Code:-",null,{"$f":"Master!$E$14","v":{"v":810000000,"d":"0810000000"}}]
[{"$nulls":9},"Session:-",null,{"$f":"Master!$E$6","v":"2022-23"}]
[null,null,"Roll No.:-",{"$nulls":5},{"$f":"VLOOKUP($A2852,'Result Entry'!$B$9:$F$108,5,0)","v":0}]
[null,"◐","Scholar Number",{"$nulls":3},"↠",{"$f":"VLOOKUP($A2852,'Result Entry'!$B$9:$DX$108,3,0)","v":0}]
[null,"◐","Student's Name",{"$nulls":3},"↠",{"$f":"VLOOKUP($A2852,'Result Entry'!$B$9:$DX$108,6,0)","v":0}]
[null,"◐","Father's Name",{"$nulls":3},"↠",{"$f":"VLOOKUP($A2852,'Result Entry'!$B$9:$DX$108,7,0)","v":0}]
[null,"◐","Mother's Name ",{"$nulls":3},"↠",{"$f":"VLOOKUP($A2852,'Result Entry'!$B$9:$DX$108,8,0)","v":0}]
[null,"◐","Class & Section",{"$nulls":3},"↠",{"$f":"CONCATENATE('Result Entry'!$F$4,'Result Entry'!$I$4)","v":"2(A)"}]
[null,"◐","Date Of Birth",{"$nulls":3},"↠",{"$f":"VLOOKUP($A2852,'Result Entry'!$B$9:$DX$108,9,0)","v":"00:00:00"}]
[null,"◐","Subject",{"$nulls":4},"Half Yearly","Total (T+H.Y.)","Yearly","Grand Total",null,"Subject Grade"]
[null,"◐","Max. Marks",{"$nulls":4},{"$f":"'Result Entry'!$Q$7","v":100},{"$f":"G2865+H2865","v":100},{"$f":"'Result Entry'!$U$7","v":100},{"$f":"I2865+J2865","v":200},null,"A/B/C/D/E"]
[null,"◐",{"$f":"'Result Entry'!$K$3","v":"Hindi"},{"$nulls":4},{"$f":"IF(OR(C2866=\"\",$I2857=\"NSO\"),\"\",VLOOKUP($A2852,'Result Entry'!$B$9:$DX$108,16,0))","v":0},{"$f":"SUM(G2866,H2866)","v":0},{"$f":"IF(OR(C2866=\"\",$I2857=\"NSO\"),\"\",VLOOKUP($A2852,'Result Entry'!$B$9:$DX$108,20,0))","v":0},{"$f":"SUM(I2866,J2866)","v":0},null,{"$f":"IF(OR(C2866=\"\",$I2857=\"NSO\"),\"\",VLOOKUP($A2852,'Result Entry'!$B$9:$DX$108,23,0))","v":""}]
[null,"◐",{"$f":"'Result Entry'!$Y$3","v":"Mathematics"},{"$nulls":4},{"$f":"IF(OR(C2867=\"\",$I2857=\"NSO\"),\"\",VLOOKUP($A2852,'Result Entry'!$B$9:$DX$108,30,0))","v":0},{"$f":"SUM(G2867,H2867)","v":0},{"$f":"IF(OR(C2867=\"\",$I2857=\"NSO\"),\"\",VLOOKUP($A2852,'Result Entry'!$B$9:$DX$108,34,0))","v":0},{"$f":"SUM(I2867,J2867)","v":0},null,{"$f":"IF(OR(C2867=\"\",$I2857=\"NSO\"),\"\",VLOOKUP($A2852,'Result Entry'!$B$9:$DX$108,37,0))","v":""}]
[null,"◐",{"$f":"'Result Entry'!$BO$3","v":"Env. Study"},{"$nulls":4},{"$f":"IF(OR(C2868=\"\",$I2857=\"NSO\"),\"\",VLOOKUP($A2852,'Result Entry'!$B$9:$DX$108,66,0))","v":0},0,{"$f":"IF(OR(C2868=\"\",$I2857=\"NSO\"),\"\",VLOOKUP($A2852,'Result Entry'!$B$9:$DX$108,67,0))","v":0},0,null,{"$f":"IF(OR(C2868=\"\",$I2857=\"NSO\"),\"\",VLOOKUP($A2852,'Result Entry'!$B$9:$DX$108,73,0))","v":""}]
[null,"◐","Max. Marks",{"$nulls":4},{"$f":"'Result Entry'!$AS$7","v":50},50,{"$f":"'Result Entry'!$AW$7","v":50},100,null,"A/B/C/D/E"]
[null,"◐",{"$f":"'Result Entry'!$AM$3","v":"English"},{"$nulls":4},{"$f":"IF(OR(C2870=\"\",$I2857=\"NSO\"),\"\",VLOOKUP($A2852,'Result Entry'!$B$9:$DX$108,44,0))","v":0},0,{"$f":"IF(OR(C2870=\"\",$I2857=\"NSO\"),\"\",VLOOKUP($A2852,'Result Entry'!$B$9:$DX$108,48,0))","v":0},0,null,{"$f":"IF(OR(C2870=\"\",$I2857=\"NSO\"),\"\",VLOOKUP($A2852,'Result Entry'!$B$9:$DX$108,51,0))","v":""}]
[null,"◐"]
[null,"◐","Overall Result",null,null,"Total Max. Marks",null,"Total Obtained Marks",null,"Percentage","Overall Grade","Result","Position in Class"]
[null,"◐",{"$nulls":3},{"$f":"IF(OR($I2857=\"\",$I2857=\"NSO\"),\"\",VLOOKUP($A2852,'Result Entry'!$B$9:$DX$108,101,0))","v":500},null,{"$f":"IF(OR($I2857=\"\",$I2857=\"NSO\"),\"\",VLOOKUP($A2852,'Result Entry'!$B$9:$DX$108,102,0))","v":0},null,{"$f":"IF(OR($I2857=\"\",$I2857=\"NSO\"),\"\",VLOOKUP($A2852,'Result Entry'!$B$9:$DX$108,103,0))","v":{"v":0,"d":"0.00"}},{"$f":"IF(OR($I2857=\"\",$I2857=\"NSO\"),\"\",VLOOKUP($A2852,'Result Entry'!$B$9:$DX$108,104,0))","v":""},{"$f":"IF(OR($I2857=\"\",$I2857=\"NSO\"),\"\",VLOOKUP($A2852,'Result Entry'!$B$9:$DX$108,105,0))","v":""},{"$f":"IF(OR($I2857=\"\",$I2857=\"NSO\"),\"\",VLOOKUP($A2852,'Result Entry'!$B$9:$DX$108,107,0))","v":""}]
[null,"◐",{"$nulls":6},"Total Meetings :-",null,{"$f":"IF(OR($I2857=\"\",$I2857=\"NSO\"),\"\",VLOOKUP($A2852,'Result Entry'!$B$9:$DX$108,98,0))","v":0},"Attedance %"]
[null,"◐","Extra Subjects",{"$nulls":5},"Student's Meetings :-",null,{"$f":"IF(OR($I2857=\"\",$I2857=\"NSO\"),\"\",VLOOKUP($A2852,'Result Entry'!$B$9:$DX$108,99,0))","v":0},{"$f":"IF(OR($I2857=\"\",$I2857=\"NSO\"),\"\",VLOOKUP($A2852,'Result Entry'!$B$9:$DX$108,100,0))","v":""}]
[null,"◐","Subject",null,null,"Total Marks",null,"GRADE","Remark :-",null,{"$f":"IF(OR($I2857=\"\",$I2857=\"NSO\"),\"\",VLOOKUP($A2852,'Result Entry'!$B$9:$DX$108,108,0))","v":0}]
[null,"◐",{"$nulls":6},"Result Date :-",null,{"$f":"'Result Entry'!$T$2","v":"2023-05-24"}]
[null,"◐",{"$f":"'Result Entry'!$BW$3","v":"WORK EXP."},null,null,{"$f":"IF(OR(C2878=\"\",$I2857=\"NSO\"),\"\",VLOOKUP($A2852,'Result Entry'!$B$9:$DX$108,119,0))","v":"0/50"},null,{"$f":"IF(OR(C2878=\"\",$I2857=\"NSO\"),\"\",VLOOKUP($A2852,'Result Entry'!$B$9:$DX$108,81,0))","v":""}]
[null,null,{"$f":"'Result Entry'!$CE$3","v":"ART EDU."},null,null,{"$f":"IF(OR(C2879=\"\",$I2857=\"NSO\"),\"\",VLOOKUP($A2852,'Result Entry'!$B$9:$DX$108,123,0))","v":"0/50"},null,{"$f":"IF(OR(C2879=\"\",$I2857=\"NSO\"),\"\",VLOOKUP($A2852,'Result Entry'!$B$9:$DX$108,89,0))","v":""}]
[null,"◐",{"$f":"'Result Entry'!$CM$3","v":"H&P. EDU."},null,null,{"$f":"IF(OR(C2880=\"\",$I2857=\"NSO\"),\"\",VLOOKUP($A2852,'Result Entry'!$B$9:$DX$108,127,0))","v":"0/100"},null,{"$f":"IF(OR(C2880=\"\",$I2857=\"NSO\"),\"\",VLOOKUP($A2852,'Result Entry'!$B$9:$DX$108,97,0))","v":""},"Signature Of The Class Teacher"]
[null,"◐","Grading System"]
[null,"◐","Grd.","% Range",null,"Description"]
[null,"◐","A","86-100",null,"Excellent",null,null,"Signature And Seal Of Principal/H.M."]
[null,"◐","B","71-85",null,"Very Good"]
[null,"◐","C","51-70",null,"Good"]
[null,"◐","D","31-50",null,"Average"]
[null,"◐","E","0-30",null,"Needs Improvement",null,null,"Wish bright future"]
[]
[]
[{"$f":"A2852+1","v":77},"Department Of Education, Rajasthan"]
[null,{"$f":"IF(I2895>0,CONCATENATE(C2895,I2895),0)","v":0},null,{"$f":"Master!$E$8","v":"Govt.Sr.Sec.Sch. "}]
[{"$nulls":3},{"$f":"Master!$E$11","v":"P.S.-Bapini (Jodhpur)"}]
[null,null,"Report Card",{"$nulls":6},"U-DISE Code:-",null,{"$f":"Master!$E$14","v":{"v":810000000,"d":"0810000000"}}]
[{"$nulls":9},"Session:-",null,{"$f":"Master!$E$6","v":"2022-23"}]
[null,null,"Roll No.:-",{"$nulls":5},{"$f":"VLOOKUP($A2890,'Result Entry'!$B$9:$F$108,5,0)","v":0}]
[null,"◐","Scholar Number",{"$nulls":3},"↠",{"$f":"VLOOKUP($A2890,'Result Entry'!$B$9:$DX$108,3,0)","v":0}]
[null,"◐","Student's Name",{"$nulls":3},"↠",{"$f":"VLOOKUP($A2890,'Result Entry'!$B$9:$DX$108,6,0)","v":0}]
[null,"◐","Father's Name",{"$nulls":3},"↠",{"$f":"VLOOKUP($A2890,'Result Entry'!$B$9:$DX$108,7,0)","v":0}]
[null,"◐","Mother's Name ",{"$nulls":3},"↠",{"$f":"VLOOKUP($A2890,'Result Entry'!$B$9:$DX$108,8,0)","v":0}]
[null,"◐","Class & Section",{"$nulls":3},"↠",{"$f":"CONCATENATE('Result Entry'!$F$4,'Result Entry'!$I$4)","v":"2(A)"}]
[null,"◐","Date Of Birth",{"$nulls":3},"↠",{"$f":"VLOOKUP($A2890,'Result Entry'!$B$9:$DX$108,9,0)","v":"00:00:00"}]
[null,"◐","Subject",{"$nulls":4},"Half Yearly","Total (T+H.Y.)","Yearly","Grand Total",null,"Subject Grade"]
[null,"◐","Max. Marks",{"$nulls":4},{"$f":"'Result Entry'!$Q$7","v":100},{"$f":"G2903+H2903","v":100},{"$f":"'Result Entry'!$U$7","v":100},{"$f":"I2903+J2903","v":200},null,"A/B/C/D/E"]
[null,"◐",{"$f":"'Result Entry'!$K$3","v":"Hindi"},{"$nulls":4},{"$f":"IF(OR(C2904=\"\",$I2895=\"NSO\"),\"\",VLOOKUP($A2890,'Result Entry'!$B$9:$DX$108,16,0))","v":0},{"$f":"SUM(G2904,H2904)","v":0},{"$f":"IF(OR(C2904=\"\",$I2895=\"NSO\"),\"\",VLOOKUP($A2890,'Result Entry'!$B$9:$DX$108,20,0))","v":0},{"$f":"SUM(I2904,J2904)","v":0},null,{"$f":"IF(OR(C2904=\"\",$I2895=\"NSO\"),\"\",VLOOKUP($A2890,'Result Entry'!$B$9:$DX$108,23,0))","v":""}]
[null,"◐",{"$f":"'Result Entry'!$Y$3","v":"Mathematics"},{"$nulls":4},{"$f":"IF(OR(C2905=\"\",$I2895=\"NSO\"),\"\",VLOOKUP($A2890,'Result Entry'!$B$9:$DX$108,30,0))","v":0},{"$f":"SUM(G2905,H2905)","v":0},{"$f":"IF(OR(C2905=\"\",$I2895=\"NSO\"),\"\",VLOOKUP($A2890,'Result Entry'!$B$9:$DX$108,34,0))","v":0},{"$f":"SUM(I2905,J2905)","v":0},null,{"$f":"IF(OR(C2905=\"\",$I2895=\"NSO\"),\"\",VLOOKUP($A2890,'Result Entry'!$B$9:$DX$108,37,0))","v":""}]
[null,"◐",{"$f":"'Result Entry'!$BO$3","v":"Env. Study"},{"$nulls":4},{"$f":"IF(OR(C2906=\"\",$I2895=\"NSO\"),\"\",VLOOKUP($A2890,'Result Entry'!$B$9:$DX$108,66,0))","v":0},0,{"$f":"IF(OR(C2906=\"\",$I2895=\"NSO\"),\"\",VLOOKUP($A2890,'Result Entry'!$B$9:$DX$108,67,0))","v":0},0,null,{"$f":"IF(OR(C2906=\"\",$I2895=\"NSO\"),\"\",VLOOKUP($A2890,'Result Entry'!$B$9:$DX$108,73,0))","v":""}]
[null,"◐","Max. Marks",{"$nulls":4},{"$f":"'Result Entry'!$AS$7","v":50},50,{"$f":"'Result Entry'!$AW$7","v":50},100,null,"A/B/C/D/E"]
[null,"◐",{"$f":"'Result Entry'!$AM$3","v":"English"},{"$nulls":4},{"$f":"IF(OR(C2908=\"\",$I2895=\"NSO\"),\"\",VLOOKUP($A2890,'Result Entry'!$B$9:$DX$108,44,0))","v":0},0,{"$f":"IF(OR(C2908=\"\",$I2895=\"NSO\"),\"\",VLOOKUP($A2890,'Result Entry'!$B$9:$DX$108,48,0))","v":0},0,null,{"$f":"IF(OR(C2908=\"\",$I2895=\"NSO\"),\"\",VLOOKUP($A2890,'Result Entry'!$B$9:$DX$108,51,0))","v":""}]
[null,"◐"]
[null,"◐","Overall Result",null,null,"Total Max. Marks",null,"Total Obtained Marks",null,"Percentage","Overall Grade","Result","Position in Class"]
[null,"◐",{"$nulls":3},{"$f":"IF(OR($I2895=\"\",$I2895=\"NSO\"),\"\",VLOOKUP($A2890,'Result Entry'!$B$9:$DX$108,101,0))","v":500},null,{"$f":"IF(OR($I2895=\"\",$I2895=\"NSO\"),\"\",VLOOKUP($A2890,'Result Entry'!$B$9:$DX$108,102,0))","v":0},null,{"$f":"IF(OR($I2895=\"\",$I2895=\"NSO\"),\"\",VLOOKUP($A2890,'Result Entry'!$B$9:$DX$108,103,0))","v":{"v":0,"d":"0.00"}},{"$f":"IF(OR($I2895=\"\",$I2895=\"NSO\"),\"\",VLOOKUP($A2890,'Result Entry'!$B$9:$DX$108,104,0))","v":""},{"$f":"IF(OR($I2895=\"\",$I2895=\"NSO\"),\"\",VLOOKUP($A2890,'Result Entry'!$B$9:$DX$108,105,0))","v":""},{"$f":"IF(OR($I2895=\"\",$I2895=\"NSO\"),\"\",VLOOKUP($A2890,'Result Entry'!$B$9:$DX$108,107,0))","v":""}]
[null,"◐",{"$nulls":6},"Total Meetings :-",null,{"$f":"IF(OR($I2895=\"\",$I2895=\"NSO\"),\"\",VLOOKUP($A2890,'Result Entry'!$B$9:$DX$108,98,0))","v":0},"Attedance %"]
[null,"◐","Extra Subjects",{"$nulls":5},"Student's Meetings :-",null,{"$f":"IF(OR($I2895=\"\",$I2895=\"NSO\"),\"\",VLOOKUP($A2890,'Result Entry'!$B$9:$DX$108,99,0))","v":0},{"$f":"IF(OR($I2895=\"\",$I2895=\"NSO\"),\"\",VLOOKUP($A2890,'Result Entry'!$B$9:$DX$108,100,0))","v":""}]
[null,"◐","Subject",null,null,"Total Marks",null,"GRADE","Remark :-",null,{"$f":"IF(OR($I2895=\"\",$I2895=\"NSO\"),\"\",VLOOKUP($A2890,'Result Entry'!$B$9:$DX$108,108,0))","v":0}]
[null,"◐",{"$nulls":6},"Result Date :-",null,{"$f":"'Result Entry'!$T$2","v":"2023-05-24"}]
[null,"◐",{"$f":"'Result Entry'!$BW$3","v":"WORK EXP."},null,null,{"$f":"IF(OR(C2916=\"\",$I2895=\"NSO\"),\"\",VLOOKUP($A2890,'Result Entry'!$B$9:$DX$108,119,0))","v":"0/50"},null,{"$f":"IF(OR(C2916=\"\",$I2895=\"NSO\"),\"\",VLOOKUP($A2890,'Result Entry'!$B$9:$DX$108,81,0))","v":""}]
[null,null,{"$f":"'Result Entry'!$CE$3","v":"ART EDU."},null,null,{"$f":"IF(OR(C2917=\"\",$I2895=\"NSO\"),\"\",VLOOKUP($A2890,'Result Entry'!$B$9:$DX$108,123,0))","v":"0/50"},null,{"$f":"IF(OR(C2917=\"\",$I2895=\"NSO\"),\"\",VLOOKUP($A2890,'Result Entry'!$B$9:$DX$108,89,0))","v":""}]
[null,"◐",{"$f":"'Result Entry'!$CM$3","v":"H&P. EDU."},null,null,{"$f":"IF(OR(C2918=\"\",$I2895=\"NSO\"),\"\",VLOOKUP($A2890,'Result Entry'!$B$9:$DX$108,127,0))","v":"0/100"},null,{"$f":"IF(OR(C2918=\"\",$I2895=\"NSO\"),\"\",VLOOKUP($A2890,'Result Entry'!$B$9:$DX$108,97,0))","v":""},"Signature Of The Class Teacher"]
[null,"◐","Grading System"]
[null,"◐","Grd.","% Range",null,"Description"]
[null,"◐","A","86-100",null,"Excellent",null,null,"Signature And Seal Of Principal/H.M."]
[null,"◐","B","71-85",null,"Very Good"]
[null,"◐","C","51-70",null,"Good"]
[null,"◐","D","31-50",null,"Average"]
[null,"◐","E","0-30",null,"Needs Improvement",null,null,"Wish bright future"]
[]
[]
[{"$f":"A2890+1","v":78},"Department Of Education, Rajasthan"]
[null,{"$f":"IF(I2933>0,CONCATENATE(C2933,I2933),0)","v":0},null,{"$f":"Master!$E$8","v":"Govt.Sr.Sec.Sch. "}]
[{"$nulls":3},{"$f":"Master!$E$11","v":"P.S.-Bapini (Jodhpur)"}]
[null,null,"Report Card",{"$nulls":6},"U-DISE Code:-",null,{"$f":"Master!$E$14","v":{"v":810000000,"d":"0810000000"}}]
[{"$nulls":9},"Session:-",null,{"$f":"Master!$E$6","v":"2022-23"}]
[null,null,"Roll No.:-",{"$nulls":5},{"$f":"VLOOKUP($A2928,'Result Entry'!$B$9:$F$108,5,0)","v":0}]
[null,"◐","Scholar Number",{"$nulls":3},"↠",{"$f":"VLOOKUP($A2928,'Result Entry'!$B$9:$DX$108,3,0)","v":0}]
[null,"◐","Student's Name",{"$nulls":3},"↠",{"$f":"VLOOKUP($A2928,'Result Entry'!$B$9:$DX$108,6,0)","v":0}]
[null,"◐","Father's Name",{"$nulls":3},"↠",{"$f":"VLOOKUP($A2928,'Result Entry'!$B$9:$DX$108,7,0)","v":0}]
[null,"◐","Mother's Name ",{"$nulls":3},"↠",{"$f":"VLOOKUP($A2928,'Result Entry'!$B$9:$DX$108,8,0)","v":0}]
[null,"◐","Class & Section",{"$nulls":3},"↠",{"$f":"CONCATENATE('Result Entry'!$F$4,'Result Entry'!$I$4)","v":"2(A)"}]
[null,"◐","Date Of Birth",{"$nulls":3},"↠",{"$f":"VLOOKUP($A2928,'Result Entry'!$B$9:$DX$108,9,0)","v":"00:00:00"}]
[null,"◐","Subject",{"$nulls":4},"Half Yearly","Total (T+H.Y.)","Yearly","Grand Total",null,"Subject Grade"]
[null,"◐","Max. Marks",{"$nulls":4},{"$f":"'Result Entry'!$Q$7","v":100},{"$f":"G2941+H2941","v":100},{"$f":"'Result Entry'!$U$7","v":100},{"$f":"I2941+J2941","v":200},null,"A/B/C/D/E"]
[null,"◐",{"$f":"'Result Entry'!$K$3","v":"Hindi"},{"$nulls":4},{"$f":"IF(OR(C2942=\"\",$I2933=\"NSO\"),\"\",VLOOKUP($A2928,'Result Entry'!$B$9:$DX$108,16,0))","v":0},{"$f":"SUM(G2942,H2942)","v":0},{"$f":"IF(OR(C2942=\"\",$I2933=\"NSO\"),\"\",VLOOKUP($A2928,'Result Entry'!$B$9:$DX$108,20,0))","v":0},{"$f":"SUM(I2942,J2942)","v":0},null,{"$f":"IF(OR(C2942=\"\",$I2933=\"NSO\"),\"\",VLOOKUP($A2928,'Result Entry'!$B$9:$DX$108,23,0))","v":""}]
[null,"◐",{"$f":"'Result Entry'!$Y$3","v":"Mathematics"},{"$nulls":4},{"$f":"IF(OR(C2943=\"\",$I2933=\"NSO\"),\"\",VLOOKUP($A2928,'Result Entry'!$B$9:$DX$108,30,0))","v":0},{"$f":"SUM(G2943,H2943)","v":0},{"$f":"IF(OR(C2943=\"\",$I2933=\"NSO\"),\"\",VLOOKUP($A2928,'Result Entry'!$B$9:$DX$108,34,0))","v":0},{"$f":"SUM(I2943,J2943)","v":0},null,{"$f":"IF(OR(C2943=\"\",$I2933=\"NSO\"),\"\",VLOOKUP($A2928,'Result Entry'!$B$9:$DX$108,37,0))","v":""}]
[null,"◐",{"$f":"'Result Entry'!$BO$3","v":"Env. Study"},{"$nulls":4},{"$f":"IF(OR(C2944=\"\",$I2933=\"NSO\"),\"\",VLOOKUP($A2928,'Result Entry'!$B$9:$DX$108,66,0))","v":0},0,{"$f":"IF(OR(C2944=\"\",$I2933=\"NSO\"),\"\",VLOOKUP($A2928,'Result Entry'!$B$9:$DX$108,67,0))","v":0},0,null,{"$f":"IF(OR(C2944=\"\",$I2933=\"NSO\"),\"\",VLOOKUP($A2928,'Result Entry'!$B$9:$DX$108,73,0))","v":""}]
[null,"◐","Max. Marks",{"$nulls":4},{"$f":"'Result Entry'!$AS$7","v":50},50,{"$f":"'Result Entry'!$AW$7","v":50},100,null,"A/B/C/D/E"]
[null,"◐",{"$f":"'Result Entry'!$AM$3","v":"English"},{"$nulls":4},{"$f":"IF(OR(C2946=\"\",$I2933=\"NSO\"),\"\",VLOOKUP($A2928,'Result Entry'!$B$9:$DX$108,44,0))","v":0},0,{"$f":"IF(OR(C2946=\"\",$I2933=\"NSO\"),\"\",VLOOKUP($A2928,'Result Entry'!$B$9:$DX$108,48,0))","v":0},0,null,{"$f":"IF(OR(C2946=\"\",$I2933=\"NSO\"),\"\",VLOOKUP($A2928,'Result Entry'!$B$9:$DX$108,51,0))","v":""}]
[null,"◐"]
[null,"◐","Overall Result",null,null,"Total Max. Marks",null,"Total Obtained Marks",null,"Percentage","Overall Grade","Result","Position in Class"]
[null,"◐",{"$nulls":3},{"$f":"IF(OR($I2933=\"\",$I2933=\"NSO\"),\"\",VLOOKUP($A2928,'Result Entry'!$B$9:$DX$108,101,0))","v":500},null,{"$f":"IF(OR($I2933=\"\",$I2933=\"NSO\"),\"\",VLOOKUP($A2928,'Result Entry'!$B$9:$DX$108,102,0))","v":0},null,{"$f":"IF(OR($I2933=\"\",$I2933=\"NSO\"),\"\",VLOOKUP($A2928,'Result Entry'!$B$9:$DX$108,103,0))","v":{"v":0,"d":"0.00"}},{"$f":"IF(OR($I2933=\"\",$I2933=\"NSO\"),\"\",VLOOKUP($A2928,'Result Entry'!$B$9:$DX$108,104,0))","v":""},{"$f":"IF(OR($I2933=\"\",$I2933=\"NSO\"),\"\",VLOOKUP($A2928,'Result Entry'!$B$9:$DX$108,105,0))","v":""},{"$f":"IF(OR($I2933=\"\",$I2933=\"NSO\"),\"\",VLOOKUP($A2928,'Result Entry'!$B$9:$DX$108,107,0))","v":""}]
[null,"◐",{"$nulls":6},"Total Meetings :-",null,{"$f":"IF(OR($I2933=\"\",$I2933=\"NSO\"),\"\",VLOOKUP($A2928,'Result Entry'!$B$9:$DX$108,98,0))","v":0},"Attedance %"]
[null,"◐","Extra Subjects",{"$nulls":5},"Student's Meetings :-",null,{"$f":"IF(OR($I2933=\"\",$I2933=\"NSO\"),\"\",VLOOKUP($A2928,'Result Entry'!$B$9:$DX$108,99,0))","v":0},{"$f":"IF(OR($I2933=\"\",$I2933=\"NSO\"),\"\",VLOOKUP($A2928,'Result Entry'!$B$9:$DX$108,100,0))","v":""}]
[null,"◐","Subject",null,null,"Total Marks",null,"GRADE","Remark :-",null,{"$f":"IF(OR($I2933=\"\",$I2933=\"NSO\"),\"\",VLOOKUP($A2928,'Result Entry'!$B$9:$DX$108,108,0))","v":0}]
[null,"◐",{"$nulls":6},"Result Date :-",null,{"$f":"'Result Entry'!$T$2","v":"2023-05-24"}]
[null,"◐",{"$f":"'Result Entry'!$BW$3","v":"WORK EXP."},null,null,{"$f":"IF(OR(C2954=\"\",$I2933=\"NSO\"),\"\",VLOOKUP($A2928,'Result Entry'!$B$9:$DX$108,119,0))","v":"0/50"},null,{"$f":"IF(OR(C2954=\"\",$I2933=\"NSO\"),\"\",VLOOKUP($A2928,'Result Entry'!$B$9:$DX$108,81,0))","v":""}]
[null,null,{"$f":"'Result Entry'!$CE$3","v":"ART EDU."},null,null,{"$f":"IF(OR(C2955=\"\",$I2933=\"NSO\"),\"\",VLOOKUP($A2928,'Result Entry'!$B$9:$DX$108,123,0))","v":"0/50"},null,{"$f":"IF(OR(C2955=\"\",$I2933=\"NSO\"),\"\",VLOOKUP($A2928,'Result Entry'!$B$9:$DX$108,89,0))","v":""}]
[null,"◐",{"$f":"'Result Entry'!$CM$3","v":"H&P. EDU."},null,null,{"$f":"IF(OR(C2956=\"\",$I2933=\"NSO\"),\"\",VLOOKUP($A2928,'Result Entry'!$B$9:$DX$108,127,0))","v":"0/100"},null,{"$f":"IF(OR(C2956=\"\",$I2933=\"NSO\"),\"\",VLOOKUP($A2928,'Result Entry'!$B$9:$DX$108,97,0))","v":""},"Signature Of The Class Teacher"]
[null,"◐","Grading System"]
[null,"◐","Grd.","% Range",null,"Description"]
[null,"◐","A","86-100",null,"Excellent",null,null,"Signature And Seal Of Principal/H.M."]
[null,"◐","B","71-85",null,"Very Good"]
[null,"◐","C","51-70",null,"Good"]
[null,"◐","D","31-50",null,"Average"]
[null,"◐","E","0-30",null,"Needs Improvement",null,null,"Wish bright future"]
[]
[]
[{"$f":"A2928+1","v":79},"Department Of Education, Rajasthan"]
[null,{"$f":"IF(I2971>0,CONCATENATE(C2971,I2971),0)","v":0},null,{"$f":"Master!$E$8","v":"Govt.Sr.Sec.Sch. "}]
[{"$nulls":3},{"$f":"Master!$E$11","v":"P.S.-Bapini (Jodhpur)"}]
[null,null,"Report Card",{"$nulls":6},"U-DISE Code:-",null,{"$f":"Master!$E$14","v":{"v":810000000,"d":"0810000000"}}]
[{"$nulls":9},"Session:-",null,{"$f":"Master!$E$6","v":"2022-23"}]
[null,null,"Roll No.:-",{"$nulls":5},{"$f":"VLOOKUP($A2966,'Result Entry'!$B$9:$F$108,5,0)","v":0}]
[null,"◐","Scholar Number",{"$nulls":3},"↠",{"$f":"VLOOKUP($A2966,'Result Entry'!$B$9:$DX$108,3,0)","v":0}]
[null,"◐","Student's Name",{"$nulls":3},"↠",{"$f":"VLOOKUP($A2966,'Result Entry'!$B$9:$DX$108,6,0)","v":0}]
[null,"◐","Father's Name",{"$nulls":3},"↠",{"$f":"VLOOKUP($A2966,'Result Entry'!$B$9:$DX$108,7,0)","v":0}]
[null,"◐","Mother's Name ",{"$nulls":3},"↠",{"$f":"VLOOKUP($A2966,'Result Entry'!$B$9:$DX$108,8,0)","v":0}]
[null,"◐","Class & Section",{"$nulls":3},"↠",{"$f":"CONCATENATE('Result Entry'!$F$4,'Result Entry'!$I$4)","v":"2(A)"}]
[null,"◐","Date Of Birth",{"$nulls":3},"↠",{"$f":"VLOOKUP($A2966,'Result Entry'!$B$9:$DX$108,9,0)","v":"00:00:00"}]
[null,"◐","Subject",{"$nulls":4},"Half Yearly","Total (T+H.Y.)","Yearly","Grand Total",null,"Subject Grade"]
[null,"◐","Max. Marks",{"$nulls":4},{"$f":"'Result Entry'!$Q$7","v":100},{"$f":"G2979+H2979","v":100},{"$f":"'Result Entry'!$U$7","v":100},{"$f":"I2979+J2979","v":200},null,"A/B/C/D/E"]
[null,"◐",{"$f":"'Result Entry'!$K$3","v":"Hindi"},{"$nulls":4},{"$f":"IF(OR(C2980=\"\",$I2971=\"NSO\"),\"\",VLOOKUP($A2966,'Result Entry'!$B$9:$DX$108,16,0))","v":0},{"$f":"SUM(G2980,H2980)","v":0},{"$f":"IF(OR(C2980=\"\",$I2971=\"NSO\"),\"\",VLOOKUP($A2966,'Result Entry'!$B$9:$DX$108,20,0))","v":0},{"$f":"SUM(I2980,J2980)","v":0},null,{"$f":"IF(OR(C2980=\"\",$I2971=\"NSO\"),\"\",VLOOKUP($A2966,'Result Entry'!$B$9:$DX$108,23,0))","v":""}]
[null,"◐",{"$f":"'Result Entry'!$Y$3","v":"Mathematics"},{"$nulls":4},{"$f":"IF(OR(C2981=\"\",$I2971=\"NSO\"),\"\",VLOOKUP($A2966,'Result Entry'!$B$9:$DX$108,30,0))","v":0},{"$f":"SUM(G2981,H2981)","v":0},{"$f":"IF(OR(C2981=\"\",$I2971=\"NSO\"),\"\",VLOOKUP($A2966,'Result Entry'!$B$9:$DX$108,34,0))","v":0},{"$f":"SUM(I2981,J2981)","v":0},null,{"$f":"IF(OR(C2981=\"\",$I2971=\"NSO\"),\"\",VLOOKUP($A2966,'Result Entry'!$B$9:$DX$108,37,0))","v":""}]
[null,"◐",{"$f":"'Result Entry'!$BO$3","v":"Env. Study"},{"$nulls":4},{"$f":"IF(OR(C2982=\"\",$I2971=\"NSO\"),\"\",VLOOKUP($A2966,'Result Entry'!$B$9:$DX$108,66,0))","v":0},0,{"$f":"IF(OR(C2982=\"\",$I2971=\"NSO\"),\"\",VLOOKUP($A2966,'Result Entry'!$B$9:$DX$108,67,0))","v":0},0,null,{"$f":"IF(OR(C2982=\"\",$I2971=\"NSO\"),\"\",VLOOKUP($A2966,'Result Entry'!$B$9:$DX$108,73,0))","v":""}]
[null,"◐","Max. Marks",{"$nulls":4},{"$f":"'Result Entry'!$AS$7","v":50},50,{"$f":"'Result Entry'!$AW$7","v":50},100,null,"A/B/C/D/E"]
[null,"◐",{"$f":"'Result Entry'!$AM$3","v":"English"},{"$nulls":4},{"$f":"IF(OR(C2984=\"\",$I2971=\"NSO\"),\"\",VLOOKUP($A2966,'Result Entry'!$B$9:$DX$108,44,0))","v":0},0,{"$f":"IF(OR(C2984=\"\",$I2971=\"NSO\"),\"\",VLOOKUP($A2966,'Result Entry'!$B$9:$DX$108,48,0))","v":0},0,null,{"$f":"IF(OR(C2984=\"\",$I2971=\"NSO\"),\"\",VLOOKUP($A2966,'Result Entry'!$B$9:$DX$108,51,0))","v":""}]
[null,"◐"]
[null,"◐","Overall Result",null,null,"Total Max. Marks",null,"Total Obtained Marks",null,"Percentage","Overall Grade","Result","Position in Class"]
[null,"◐",{"$nulls":3},{"$f":"IF(OR($I2971=\"\",$I2971=\"NSO\"),\"\",VLOOKUP($A2966,'Result Entry'!$B$9:$DX$108,101,0))","v":500},null,{"$f":"IF(OR($I2971=\"\",$I2971=\"NSO\"),\"\",VLOOKUP($A2966,'Result Entry'!$B$9:$DX$108,102,0))","v":0},null,{"$f":"IF(OR($I2971=\"\",$I2971=\"NSO\"),\"\",VLOOKUP($A2966,'Result Entry'!$B$9:$DX$108,103,0))","v":{"v":0,"d":"0.00"}},{"$f":"IF(OR($I2971=\"\",$I2971=\"NSO\"),\"\",VLOOKUP($A2966,'Result Entry'!$B$9:$DX$108,104,0))","v":""},{"$f":"IF(OR($I2971=\"\",$I2971=\"NSO\"),\"\",VLOOKUP($A2966,'Result Entry'!$B$9:$DX$108,105,0))","v":""},{"$f":"IF(OR($I2971=\"\",$I2971=\"NSO\"),\"\",VLOOKUP($A2966,'Result Entry'!$B$9:$DX$108,107,0))","v":""}]
[null,"◐",{"$nulls":6},"Total Meetings :-",null,{"$f":"IF(OR($I2971=\"\",$I2971=\"NSO\"),\"\",VLOOKUP($A2966,'Result Entry'!$B$9:$DX$108,98,0))","v":0},"Attedance %"]
[null,"◐","Extra Subjects",{"$nulls":5},"Student's Meetings :-",null,{"$f":"IF(OR($I2971=\"\",$I2971=\"NSO\"),\"\",VLOOKUP($A2966,'Result Entry'!$B$9:$DX$108,99,0))","v":0},{"$f":"IF(OR($I2971=\"\",$I2971=\"NSO\"),\"\",VLOOKUP($A2966,'Result Entry'!$B$9:$DX$108,100,0))","v":""}]
[null,"◐","Subject",null,null,"Total Marks",null,"GRADE","Remark :-",null,{"$f":"IF(OR($I2971=\"\",$I2971=\"NSO\"),\"\",VLOOKUP($A2966,'Result Entry'!$B$9:$DX$108,108,0))","v":0}]
[null,"◐",{"$nulls":6},"Result Date :-",null,{"$f":"'Result Entry'!$T$2","v":"2023-05-24"}]
[null,"◐",{"$f":"'Result Entry'!$BW$3","v":"WORK EXP."},null,null,{"$f":"IF(OR(C2992=\"\",$I2971=\"NSO\"),\"\",VLOOKUP($A2966,'Result Entry'!$B$9:$DX$108,119,0))","v":"0/50"},null,{"$f":"IF(OR(C2992=\"\",$I2971=\"NSO\"),\"\",VLOOKUP($A2966,'Result Entry'!$B$9:$DX$108,81,0))","v":""}]
[null,null,{"$f":"'Result Entry'!$CE$3","v":"ART EDU."},null,null,{"$f":"IF(OR(C2993=\"\",$I2971=\"NSO\"),\"\",VLOOKUP($A2966,'Result Entry'!$B$9:$DX$108,123,0))","v":"0/50"},null,{"$f":"IF(OR(C2993=\"\",$I2971=\"NSO\"),\"\",VLOOKUP($A2966,'Result Entry'!$B$9:$DX$108,89,0))","v":""}]
[null,"◐",{"$f":"'Result Entry'!$CM$3","v":"H&P. EDU."},null,null,{"$f":"IF(OR(C2994=\"\",$I2971=\"NSO\"),\"\",VLOOKUP($A2966,'Result Entry'!$B$9:$DX$108,127,0))","v":"0/100"},null,{"$f":"IF(OR(C2994=\"\",$I2971=\"NSO\"),\"\",VLOOKUP($A2966,'Result Entry'!$B$9:$DX$108,97,0))","v":""},"Signature Of The Class Teacher"]
[null,"◐","Grading System"]
[null,"◐","Grd.","% Range",null,"Description"]
[null,"◐","A","86-100",null,"Excellent",null,null,"Signature And Seal Of Principal/H.M."]
[null,"◐","B","71-85",null,"Very Good"]
[null,"◐","C","51-70",null,"Good"]
[null,"◐","D","31-50",null,"Average"]
[null,"◐","E","0-30",null,"Needs Improvement",null,null,"Wish bright future"]
[]
[]
[{"$f":"A2966+1","v":80},"Department Of Education, Rajasthan"]
[null,{"$f":"IF(I3009>0,CONCATENATE(C3009,I3009),0)","v":0},null,{"$f":"Master!$E$8","v":"Govt.Sr.Sec.Sch. "}]
[{"$nulls":3},{"$f":"Master!$E$11","v":"P.S.-Bapini (Jodhpur)"}]
[null,null,"Report Card",{"$nulls":6},"U-DISE Code:-",null,{"$f":"Master!$E$14","v":{"v":810000000,"d":"0810000000"}}]
[{"$nulls":9},"Session:-",null,{"$f":"Master!$E$6","v":"2022-23"}]
[null,null,"Roll No.:-",{"$nulls":5},{"$f":"VLOOKUP($A3004,'Result Entry'!$B$9:$F$108,5,0)","v":0}]
[null,"◐","Scholar Number",{"$nulls":3},"↠",{"$f":"VLOOKUP($A3004,'Result Entry'!$B$9:$DX$108,3,0)","v":0}]
[null,"◐","Student's Name",{"$nulls":3},"↠",{"$f":"VLOOKUP($A3004,'Result Entry'!$B$9:$DX$108,6,0)","v":0}]
[null,"◐","Father's Name",{"$nulls":3},"↠",{"$f":"VLOOKUP($A3004,'Result Entry'!$B$9:$DX$108,7,0)","v":0}]
[null,"◐","Mother's Name ",{"$nulls":3},"↠",{"$f":"VLOOKUP($A3004,'Result Entry'!$B$9:$DX$108,8,0)","v":0}]
[null,"◐","Class & Section",{"$nulls":3},"↠",{"$f":"CONCATENATE('Result Entry'!$F$4,'Result Entry'!$I$4)","v":"2(A)"}]
[null,"◐","Date Of Birth",{"$nulls":3},"↠",{"$f":"VLOOKUP($A3004,'Result Entry'!$B$9:$DX$108,9,0)","v":"00:00:00"}]
[null,"◐","Subject",{"$nulls":4},"Half Yearly","Total (T+H.Y.)","Yearly","Grand Total",null,"Subject Grade"]
[null,"◐","Max. Marks",{"$nulls":4},{"$f":"'Result Entry'!$Q$7","v":100},{"$f":"G3017+H3017","v":100},{"$f":"'Result Entry'!$U$7","v":100},{"$f":"I3017+J3017","v":200},null,"A/B/C/D/E"]
[null,"◐",{"$f":"'Result Entry'!$K$3","v":"Hindi"},{"$nulls":4},{"$f":"IF(OR(C3018=\"\",$I3009=\"NSO\"),\"\",VLOOKUP($A3004,'Result Entry'!$B$9:$DX$108,16,0))","v":0},{"$f":"SUM(G3018,H3018)","v":0},{"$f":"IF(OR(C3018=\"\",$I3009=\"NSO\"),\"\",VLOOKUP($A3004,'Result Entry'!$B$9:$DX$108,20,0))","v":0},{"$f":"SUM(I3018,J3018)","v":0},null,{"$f":"IF(OR(C3018=\"\",$I3009=\"NSO\"),\"\",VLOOKUP($A3004,'Result Entry'!$B$9:$DX$108,23,0))","v":""}]
[null,"◐",{"$f":"'Result Entry'!$Y$3","v":"Mathematics"},{"$nulls":4},{"$f":"IF(OR(C3019=\"\",$I3009=\"NSO\"),\"\",VLOOKUP($A3004,'Result Entry'!$B$9:$DX$108,30,0))","v":0},{"$f":"SUM(G3019,H3019)","v":0},{"$f":"IF(OR(C3019=\"\",$I3009=\"NSO\"),\"\",VLOOKUP($A3004,'Result Entry'!$B$9:$DX$108,34,0))","v":0},{"$f":"SUM(I3019,J3019)","v":0},null,{"$f":"IF(OR(C3019=\"\",$I3009=\"NSO\"),\"\",VLOOKUP($A3004,'Result Entry'!$B$9:$DX$108,37,0))","v":""}]
[null,"◐",{"$f":"'Result Entry'!$BO$3","v":"Env. Study"},{"$nulls":4},{"$f":"IF(OR(C3020=\"\",$I3009=\"NSO\"),\"\",VLOOKUP($A3004,'Result Entry'!$B$9:$DX$108,66,0))","v":0},0,{"$f":"IF(OR(C3020=\"\",$I3009=\"NSO\"),\"\",VLOOKUP($A3004,'Result Entry'!$B$9:$DX$108,67,0))","v":0},0,null,{"$f":"IF(OR(C3020=\"\",$I3009=\"NSO\"),\"\",VLOOKUP($A3004,'Result Entry'!$B$9:$DX$108,73,0))","v":""}]
[null,"◐","Max. Marks",{"$nulls":4},{"$f":"'Result Entry'!$AS$7","v":50},50,{"$f":"'Result Entry'!$AW$7","v":50},100,null,"A/B/C/D/E"]
[null,"◐",{"$f":"'Result Entry'!$AM$3","v":"English"},{"$nulls":4},{"$f":"IF(OR(C3022=\"\",$I3009=\"NSO\"),\"\",VLOOKUP($A3004,'Result Entry'!$B$9:$DX$108,44,0))","v":0},0,{"$f":"IF(OR(C3022=\"\",$I3009=\"NSO\"),\"\",VLOOKUP($A3004,'Result Entry'!$B$9:$DX$108,48,0))","v":0},0,null,{"$f":"IF(OR(C3022=\"\",$I3009=\"NSO\"),\"\",VLOOKUP($A3004,'Result Entry'!$B$9:$DX$108,51,0))","v":""}]
[null,"◐"]
[null,"◐","Overall Result",null,null,"Total Max. Marks",null,"Total Obtained Marks",null,"Percentage","Overall Grade","Result","Position in Class"]
[null,"◐",{"$nulls":3},{"$f":"IF(OR($I3009=\"\",$I3009=\"NSO\"),\"\",VLOOKUP($A3004,'Result Entry'!$B$9:$DX$108,101,0))","v":500},null,{"$f":"IF(OR($I3009=\"\",$I3009=\"NSO\"),\"\",VLOOKUP($A3004,'Result Entry'!$B$9:$DX$108,102,0))","v":0},null,{"$f":"IF(OR($I3009=\"\",$I3009=\"NSO\"),\"\",VLOOKUP($A3004,'Result Entry'!$B$9:$DX$108,103,0))","v":{"v":0,"d":"0.00"}},{"$f":"IF(OR($I3009=\"\",$I3009=\"NSO\"),\"\",VLOOKUP($A3004,'Result Entry'!$B$9:$DX$108,104,0))","v":""},{"$f":"IF(OR($I3009=\"\",$I3009=\"NSO\"),\"\",VLOOKUP($A3004,'Result Entry'!$B$9:$DX$108,105,0))","v":""},{"$f":"IF(OR($I3009=\"\",$I3009=\"NSO\"),\"\",VLOOKUP($A3004,'Result Entry'!$B$9:$DX$108,107,0))","v":""}]
[null,"◐",{"$nulls":6},"Total Meetings :-",null,{"$f":"IF(OR($I3009=\"\",$I3009=\"NSO\"),\"\",VLOOKUP($A3004,'Result Entry'!$B$9:$DX$108,98,0))","v":0},"Attedance %"]
[null,"◐","Extra Subjects",{"$nulls":5},"Student's Meetings :-",null,{"$f":"IF(OR($I3009=\"\",$I3009=\"NSO\"),\"\",VLOOKUP($A3004,'Result Entry'!$B$9:$DX$108,99,0))","v":0},{"$f":"IF(OR($I3009=\"\",$I3009=\"NSO\"),\"\",VLOOKUP($A3004,'Result Entry'!$B$9:$DX$108,100,0))","v":""}]
[null,"◐","Subject",null,null,"Total Marks",null,"GRADE","Remark :-",null,{"$f":"IF(OR($I3009=\"\",$I3009=\"NSO\"),\"\",VLOOKUP($A3004,'Result Entry'!$B$9:$DX$108,108,0))","v":0}]
[null,"◐",{"$nulls":6},"Result Date :-",null,{"$f":"'Result Entry'!$T$2","v":"2023-05-24"}]
[null,"◐",{"$f":"'Result Entry'!$BW$3","v":"WORK EXP."},null,null,{"$f":"IF(OR(C3030=\"\",$I3009=\"NSO\"),\"\",VLOOKUP($A3004,'Result Entry'!$B$9:$DX$108,119,0))","v":"0/50"},null,{"$f":"IF(OR(C3030=\"\",$I3009=\"NSO\"),\"\",VLOOKUP($A3004,'Result Entry'!$B$9:$DX$108,81,0))","v":""}]
[null,null,{"$f":"'Result Entry'!$CE$3","v":"ART EDU."},null,null,{"$f":"IF(OR(C3031=\"\",$I3009=\"NSO\"),\"\",VLOOKUP($A3004,'Result Entry'!$B$9:$DX$108,123,0))","v":"0/50"},null,{"$f":"IF(OR(C3031=\"\",$I3009=\"NSO\"),\"\",VLOOKUP($A3004,'Result Entry'!$B$9:$DX$108,89,0))","v":""}]
[null,"◐",{"$f":"'Result Entry'!$CM$3","v":"H&P. EDU."},null,null,{"$f":"IF(OR(C3032=\"\",$I3009=\"NSO\"),\"\",VLOOKUP($A3004,'Result Entry'!$B$9:$DX$108,127,0))","v":"0/100"},null,{"$f":"IF(OR(C3032=\"\",$I3009=\"NSO\"),\"\",VLOOKUP($A3004,'Result Entry'!$B$9:$DX$108,97,0))","v":""},"Signature Of The Class Teacher"]
[null,"◐","Grading System"]
[null,"◐","Grd.","% Range",null,"Description"]
[null,"◐","A","86-100",null,"Excellent",null,null,"Signature And Seal Of Principal/H.M."]
[null,"◐","B","71-85",null,"Very Good"]
[null,"◐","C","51-70",null,"Good"]
[null,"◐","D","31-50",null,"Average"]
[null,"◐","E","0-30",null,"Needs Improvement",null,null,"Wish bright future"]
[]
[]
[{"$f":"A3004+1","v":81},"Department Of Education, Rajasthan"]
[null,{"$f":"IF(I3047>0,CONCATENATE(C3047,I3047),0)","v":0},null,{"$f":"Master!$E$8","v":"Govt.Sr.Sec.Sch. "}]
[{"$nulls":3},{"$f":"Master!$E$11","v":"P.S.-Bapini (Jodhpur)"}]
[null,null,"Report Card",{"$nulls":6},"U-DISE Code:-",null,{"$f":"Master!$E$14","v":{"v":810000000,"d":"0810000000"}}]
[{"$nulls":9},"Session:-",null,{"$f":"Master!$E$6","v":"2022-23"}]
[null,null,"Roll No.:-",{"$nulls":5},{"$f":"VLOOKUP($A3042,'Result Entry'!$B$9:$F$108,5,0)","v":0}]
[null,"◐","Scholar Number",{"$nulls":3},"↠",{"$f":"VLOOKUP($A3042,'Result Entry'!$B$9:$DX$108,3,0)","v":0}]
[null,"◐","Student's Name",{"$nulls":3},"↠",{"$f":"VLOOKUP($A3042,'Result Entry'!$B$9:$DX$108,6,0)","v":0}]
[null,"◐","Father's Name",{"$nulls":3},"↠",{"$f":"VLOOKUP($A3042,'Result Entry'!$B$9:$DX$108,7,0)","v":0}]
[null,"◐","Mother's Name ",{"$nulls":3},"↠",{"$f":"VLOOKUP($A3042,'Result Entry'!$B$9:$DX$108,8,0)","v":0}]
[null,"◐","Class & Section",{"$nulls":3},"↠",{"$f":"CONCATENATE('Result Entry'!$F$4,'Result Entry'!$I$4)","v":"2(A)"}]
[null,"◐","Date Of Birth",{"$nulls":3},"↠",{"$f":"VLOOKUP($A3042,'Result Entry'!$B$9:$DX$108,9,0)","v":"00:00:00"}]
[null,"◐","Subject",{"$nulls":4},"Half Yearly","Total (T+H.Y.)","Yearly","Grand Total",null,"Subject Grade"]
[null,"◐","Max. Marks",{"$nulls":4},{"$f":"'Result Entry'!$Q$7","v":100},{"$f":"G3055+H3055","v":100},{"$f":"'Result Entry'!$U$7","v":100},{"$f":"I3055+J3055","v":200},null,"A/B/C/D/E"]
[null,"◐",{"$f":"'Result Entry'!$K$3","v":"Hindi"},{"$nulls":4},{"$f":"IF(OR(C3056=\"\",$I3047=\"NSO\"),\"\",VLOOKUP($A3042,'Result Entry'!$B$9:$DX$108,16,0))","v":0},{"$f":"SUM(G3056,H3056)","v":0},{"$f":"IF(OR(C3056=\"\",$I3047=\"NSO\"),\"\",VLOOKUP($A3042,'Result Entry'!$B$9:$DX$108,20,0))","v":0},{"$f":"SUM(I3056,J3056)","v":0},null,{"$f":"IF(OR(C3056=\"\",$I3047=\"NSO\"),\"\",VLOOKUP($A3042,'Result Entry'!$B$9:$DX$108,23,0))","v":""}]
[null,"◐",{"$f":"'Result Entry'!$Y$3","v":"Mathematics"},{"$nulls":4},{"$f":"IF(OR(C3057=\"\",$I3047=\"NSO\"),\"\",VLOOKUP($A3042,'Result Entry'!$B$9:$DX$108,30,0))","v":0},{"$f":"SUM(G3057,H3057)","v":0},{"$f":"IF(OR(C3057=\"\",$I3047=\"NSO\"),\"\",VLOOKUP($A3042,'Result Entry'!$B$9:$DX$108,34,0))","v":0},{"$f":"SUM(I3057,J3057)","v":0},null,{"$f":"IF(OR(C3057=\"\",$I3047=\"NSO\"),\"\",VLOOKUP($A3042,'Result Entry'!$B$9:$DX$108,37,0))","v":""}]
[null,"◐",{"$f":"'Result Entry'!$BO$3","v":"Env. Study"},{"$nulls":4},{"$f":"IF(OR(C3058=\"\",$I3047=\"NSO\"),\"\",VLOOKUP($A3042,'Result Entry'!$B$9:$DX$108,66,0))","v":0},0,{"$f":"IF(OR(C3058=\"\",$I3047=\"NSO\"),\"\",VLOOKUP($A3042,'Result Entry'!$B$9:$DX$108,67,0))","v":0},0,null,{"$f":"IF(OR(C3058=\"\",$I3047=\"NSO\"),\"\",VLOOKUP($A3042,'Result Entry'!$B$9:$DX$108,73,0))","v":""}]
[null,"◐","Max. Marks",{"$nulls":4},{"$f":"'Result Entry'!$AS$7","v":50},50,{"$f":"'Result Entry'!$AW$7","v":50},100,null,"A/B/C/D/E"]
[null,"◐",{"$f":"'Result Entry'!$AM$3","v":"English"},{"$nulls":4},{"$f":"IF(OR(C3060=\"\",$I3047=\"NSO\"),\"\",VLOOKUP($A3042,'Result Entry'!$B$9:$DX$108,44,0))","v":0},0,{"$f":"IF(OR(C3060=\"\",$I3047=\"NSO\"),\"\",VLOOKUP($A3042,'Result Entry'!$B$9:$DX$108,48,0))","v":0},0,null,{"$f":"IF(OR(C3060=\"\",$I3047=\"NSO\"),\"\",VLOOKUP($A3042,'Result Entry'!$B$9:$DX$108,51,0))","v":""}]
[null,"◐"]
[null,"◐","Overall Result",null,null,"Total Max. Marks",null,"Total Obtained Marks",null,"Percentage","Overall Grade","Result","Position in Class"]
[null,"◐",{"$nulls":3},{"$f":"IF(OR($I3047=\"\",$I3047=\"NSO\"),\"\",VLOOKUP($A3042,'Result Entry'!$B$9:$DX$108,101,0))","v":500},null,{"$f":"IF(OR($I3047=\"\",$I3047=\"NSO\"),\"\",VLOOKUP($A3042,'Result Entry'!$B$9:$DX$108,102,0))","v":0},null,{"$f":"IF(OR($I3047=\"\",$I3047=\"NSO\"),\"\",VLOOKUP($A3042,'Result Entry'!$B$9:$DX$108,103,0))","v":{"v":0,"d":"0.00"}},{"$f":"IF(OR($I3047=\"\",$I3047=\"NSO\"),\"\",VLOOKUP($A3042,'Result Entry'!$B$9:$DX$108,104,0))","v":""},{"$f":"IF(OR($I3047=\"\",$I3047=\"NSO\"),\"\",VLOOKUP($A3042,'Result Entry'!$B$9:$DX$108,105,0))","v":""},{"$f":"IF(OR($I3047=\"\",$I3047=\"NSO\"),\"\",VLOOKUP($A3042,'Result Entry'!$B$9:$DX$108,107,0))","v":""}]
[null,"◐",{"$nulls":6},"Total Meetings :-",null,{"$f":"IF(OR($I3047=\"\",$I3047=\"NSO\"),\"\",VLOOKUP($A3042,'Result Entry'!$B$9:$DX$108,98,0))","v":0},"Attedance %"]
[null,"◐","Extra Subjects",{"$nulls":5},"Student's Meetings :-",null,{"$f":"IF(OR($I3047=\"\",$I3047=\"NSO\"),\"\",VLOOKUP($A3042,'Result Entry'!$B$9:$DX$108,99,0))","v":0},{"$f":"IF(OR($I3047=\"\",$I3047=\"NSO\"),\"\",VLOOKUP($A3042,'Result Entry'!$B$9:$DX$108,100,0))","v":""}]
[null,"◐","Subject",null,null,"Total Marks",null,"GRADE","Remark :-",null,{"$f":"IF(OR($I3047=\"\",$I3047=\"NSO\"),\"\",VLOOKUP($A3042,'Result Entry'!$B$9:$DX$108,108,0))","v":0}]
[null,"◐",{"$nulls":6},"Result Date :-",null,{"$f":"'Result Entry'!$T$2","v":"2023-05-24"}]
[null,"◐",{"$f":"'Result Entry'!$BW$3","v":"WORK EXP."},null,null,{"$f":"IF(OR(C3068=\"\",$I3047=\"NSO\"),\"\",VLOOKUP($A3042,'Result Entry'!$B$9:$DX$108,119,0))","v":"0/50"},null,{"$f":"IF(OR(C3068=\"\",$I3047=\"NSO\"),\"\",VLOOKUP($A3042,'Result Entry'!$B$9:$DX$108,81,0))","v":""}]
[null,null,{"$f":"'Result Entry'!$CE$3","v":"ART EDU."},null,null,{"$f":"IF(OR(C3069=\"\",$I3047=\"NSO\"),\"\",VLOOKUP($A3042,'Result Entry'!$B$9:$DX$108,123,0))","v":"0/50"},null,{"$f":"IF(OR(C3069=\"\",$I3047=\"NSO\"),\"\",VLOOKUP($A3042,'Result Entry'!$B$9:$DX$108,89,0))","v":""}]
[null,"◐",{"$f":"'Result Entry'!$CM$3","v":"H&P. EDU."},null,null,{"$f":"IF(OR(C3070=\"\",$I3047=\"NSO\"),\"\",VLOOKUP($A3042,'Result Entry'!$B$9:$DX$108,127,0))","v":"0/100"},null,{"$f":"IF(OR(C3070=\"\",$I3047=\"NSO\"),\"\",VLOOKUP($A3042,'Result Entry'!$B$9:$DX$108,97,0))","v":""},"Signature Of The Class Teacher"]
[null,"◐","Grading System"]
[null,"◐","Grd.","% Range",null,"Description"]
[null,"◐","A","86-100",null,"Excellent",null,null,"Signature And Seal Of Principal/H.M."]
[null,"◐","B","71-85",null,"Very Good"]
[null,"◐","C","51-70",null,"Good"]
[null,"◐","D","31-50",null,"Average"]
[null,"◐","E","0-30",null,"Needs Improvement",null,null,"Wish bright future"]
[]
[]
[{"$f":"A3042+1","v":82},"Department Of Education, Rajasthan"]
[null,{"$f":"IF(I3085>0,CONCATENATE(C3085,I3085),0)","v":0},null,{"$f":"Master!$E$8","v":"Govt.Sr.Sec.Sch. "}]
[{"$nulls":3},{"$f":"Master!$E$11","v":"P.S.-Bapini (Jodhpur)"}]
[null,null,"Report Card",{"$nulls":6},"U-DISE Code:-",null,{"$f":"Master!$E$14","v":{"v":810000000,"d":"0810000000"}}]
[{"$nulls":9},"Session:-",null,{"$f":"Master!$E$6","v":"2022-23"}]
[null,null,"Roll No.:-",{"$nulls":5},{"$f":"VLOOKUP($A3080,'Result Entry'!$B$9:$F$108,5,0)","v":0}]
[null,"◐","Scholar Number",{"$nulls":3},"↠",{"$f":"VLOOKUP($A3080,'Result Entry'!$B$9:$DX$108,3,0)","v":0}]
[null,"◐","Student's Name",{"$nulls":3},"↠",{"$f":"VLOOKUP($A3080,'Result Entry'!$B$9:$DX$108,6,0)","v":0}]
[null,"◐","Father's Name",{"$nulls":3},"↠",{"$f":"VLOOKUP($A3080,'Result Entry'!$B$9:$DX$108,7,0)","v":0}]
[null,"◐","Mother's Name ",{"$nulls":3},"↠",{"$f":"VLOOKUP($A3080,'Result Entry'!$B$9:$DX$108,8,0)","v":0}]
[null,"◐","Class & Section",{"$nulls":3},"↠",{"$f":"CONCATENATE('Result Entry'!$F$4,'Result Entry'!$I$4)","v":"2(A)"}]
[null,"◐","Date Of Birth",{"$nulls":3},"↠",{"$f":"VLOOKUP($A3080,'Result Entry'!$B$9:$DX$108,9,0)","v":"00:00:00"}]
[null,"◐","Subject",{"$nulls":4},"Half Yearly","Total (T+H.Y.)","Yearly","Grand Total",null,"Subject Grade"]
[null,"◐","Max. Marks",{"$nulls":4},{"$f":"'Result Entry'!$Q$7","v":100},{"$f":"G3093+H3093","v":100},{"$f":"'Result Entry'!$U$7","v":100},{"$f":"I3093+J3093","v":200},null,"A/B/C/D/E"]
[null,"◐",{"$f":"'Result Entry'!$K$3","v":"Hindi"},{"$nulls":4},{"$f":"IF(OR(C3094=\"\",$I3085=\"NSO\"),\"\",VLOOKUP($A3080,'Result Entry'!$B$9:$DX$108,16,0))","v":0},{"$f":"SUM(G3094,H3094)","v":0},{"$f":"IF(OR(C3094=\"\",$I3085=\"NSO\"),\"\",VLOOKUP($A3080,'Result Entry'!$B$9:$DX$108,20,0))","v":0},{"$f":"SUM(I3094,J3094)","v":0},null,{"$f":"IF(OR(C3094=\"\",$I3085=\"NSO\"),\"\",VLOOKUP($A3080,'Result Entry'!$B$9:$DX$108,23,0))","v":""}]
[null,"◐",{"$f":"'Result Entry'!$Y$3","v":"Mathematics"},{"$nulls":4},{"$f":"IF(OR(C3095=\"\",$I3085=\"NSO\"),\"\",VLOOKUP($A3080,'Result Entry'!$B$9:$DX$108,30,0))","v":0},{"$f":"SUM(G3095,H3095)","v":0},{"$f":"IF(OR(C3095=\"\",$I3085=\"NSO\"),\"\",VLOOKUP($A3080,'Result Entry'!$B$9:$DX$108,34,0))","v":0},{"$f":"SUM(I3095,J3095)","v":0},null,{"$f":"IF(OR(C3095=\"\",$I3085=\"NSO\"),\"\",VLOOKUP($A3080,'Result Entry'!$B$9:$DX$108,37,0))","v":""}]
[null,"◐",{"$f":"'Result Entry'!$BO$3","v":"Env. Study"},{"$nulls":4},{"$f":"IF(OR(C3096=\"\",$I3085=\"NSO\"),\"\",VLOOKUP($A3080,'Result Entry'!$B$9:$DX$108,66,0))","v":0},0,{"$f":"IF(OR(C3096=\"\",$I3085=\"NSO\"),\"\",VLOOKUP($A3080,'Result Entry'!$B$9:$DX$108,67,0))","v":0},0,null,{"$f":"IF(OR(C3096=\"\",$I3085=\"NSO\"),\"\",VLOOKUP($A3080,'Result Entry'!$B$9:$DX$108,73,0))","v":""}]
[null,"◐","Max. Marks",{"$nulls":4},{"$f":"'Result Entry'!$AS$7","v":50},50,{"$f":"'Result Entry'!$AW$7","v":50},100,null,"A/B/C/D/E"]
[null,"◐",{"$f":"'Result Entry'!$AM$3","v":"English"},{"$nulls":4},{"$f":"IF(OR(C3098=\"\",$I3085=\"NSO\"),\"\",VLOOKUP($A3080,'Result Entry'!$B$9:$DX$108,44,0))","v":0},0,{"$f":"IF(OR(C3098=\"\",$I3085=\"NSO\"),\"\",VLOOKUP($A3080,'Result Entry'!$B$9:$DX$108,48,0))","v":0},0,null,{"$f":"IF(OR(C3098=\"\",$I3085=\"NSO\"),\"\",VLOOKUP($A3080,'Result Entry'!$B$9:$DX$108,51,0))","v":""}]
[null,"◐"]
[null,"◐","Overall Result",null,null,"Total Max. Marks",null,"Total Obtained Marks",null,"Percentage","Overall Grade","Result","Position in Class"]
[null,"◐",{"$nulls":3},{"$f":"IF(OR($I3085=\"\",$I3085=\"NSO\"),\"\",VLOOKUP($A3080,'Result Entry'!$B$9:$DX$108,101,0))","v":500},null,{"$f":"IF(OR($I3085=\"\",$I3085=\"NSO\"),\"\",VLOOKUP($A3080,'Result Entry'!$B$9:$DX$108,102,0))","v":0},null,{"$f":"IF(OR($I3085=\"\",$I3085=\"NSO\"),\"\",VLOOKUP($A3080,'Result Entry'!$B$9:$DX$108,103,0))","v":{"v":0,"d":"0.00"}},{"$f":"IF(OR($I3085=\"\",$I3085=\"NSO\"),\"\",VLOOKUP($A3080,'Result Entry'!$B$9:$DX$108,104,0))","v":""},{"$f":"IF(OR($I3085=\"\",$I3085=\"NSO\"),\"\",VLOOKUP($A3080,'Result Entry'!$B$9:$DX$108,105,0))","v":""},{"$f":"IF(OR($I3085=\"\",$I3085=\"NSO\"),\"\",VLOOKUP($A3080,'Result Entry'!$B$9:$DX$108,107,0))","v":""}]
[null,"◐",{"$nulls":6},"Total Meetings :-",null,{"$f":"IF(OR($I3085=\"\",$I3085=\"NSO\"),\"\",VLOOKUP($A3080,'Result Entry'!$B$9:$DX$108,98,0))","v":0},"Attedance %"]
[null,"◐","Extra Subjects",{"$nulls":5},"Student's Meetings :-",null,{"$f":"IF(OR($I3085=\"\",$I3085=\"NSO\"),\"\",VLOOKUP($A3080,'Result Entry'!$B$9:$DX$108,99,0))","v":0},{"$f":"IF(OR($I3085=\"\",$I3085=\"NSO\"),\"\",VLOOKUP($A3080,'Result Entry'!$B$9:$DX$108,100,0))","v":""}]
[null,"◐","Subject",null,null,"Total Marks",null,"GRADE","Remark :-",null,{"$f":"IF(OR($I3085=\"\",$I3085=\"NSO\"),\"\",VLOOKUP($A3080,'Result Entry'!$B$9:$DX$108,108,0))","v":0}]
[null,"◐",{"$nulls":6},"Result Date :-",null,{"$f":"'Result Entry'!$T$2","v":"2023-05-24"}]
[null,"◐",{"$f":"'Result Entry'!$BW$3","v":"WORK EXP."},null,null,{"$f":"IF(OR(C3106=\"\",$I3085=\"NSO\"),\"\",VLOOKUP($A3080,'Result Entry'!$B$9:$DX$108,119,0))","v":"0/50"},null,{"$f":"IF(OR(C3106=\"\",$I3085=\"NSO\"),\"\",VLOOKUP($A3080,'Result Entry'!$B$9:$DX$108,81,0))","v":""}]
[null,null,{"$f":"'Result Entry'!$CE$3","v":"ART EDU."},null,null,{"$f":"IF(OR(C3107=\"\",$I3085=\"NSO\"),\"\",VLOOKUP($A3080,'Result Entry'!$B$9:$DX$108,123,0))","v":"0/50"},null,{"$f":"IF(OR(C3107=\"\",$I3085=\"NSO\"),\"\",VLOOKUP($A3080,'Result Entry'!$B$9:$DX$108,89,0))","v":""}]
[null,"◐",{"$f":"'Result Entry'!$CM$3","v":"H&P. EDU."},null,null,{"$f":"IF(OR(C3108=\"\",$I3085=\"NSO\"),\"\",VLOOKUP($A3080,'Result Entry'!$B$9:$DX$108,127,0))","v":"0/100"},null,{"$f":"IF(OR(C3108=\"\",$I3085=\"NSO\"),\"\",VLOOKUP($A3080,'Result Entry'!$B$9:$DX$108,97,0))","v":""},"Signature Of The Class Teacher"]
[null,"◐","Grading System"]
[null,"◐","Grd.","% Range",null,"Description"]
[null,"◐","A","86-100",null,"Excellent",null,null,"Signature And Seal Of Principal/H.M."]
[null,"◐","B","71-85",null,"Very Good"]
[null,"◐","C","51-70",null,"Good"]
[null,"◐","D","31-50",null,"Average"]
[null,"◐","E","0-30",null,"Needs Improvement",null,null,"Wish bright future"]
[]
[]
[{"$f":"A3080+1","v":83},"Department Of Education, Rajasthan"]
[null,{"$f":"IF(I3123>0,CONCATENATE(C3123,I3123),0)","v":0},null,{"$f":"Master!$E$8","v":"Govt.Sr.Sec.Sch. "}]
[{"$nulls":3},{"$f":"Master!$E$11","v":"P.S.-Bapini (Jodhpur)"}]
[null,null,"Report Card",{"$nulls":6},"U-DISE Code:-",null,{"$f":"Master!$E$14","v":{"v":810000000,"d":"0810000000"}}]
[{"$nulls":9},"Session:-",null,{"$f":"Master!$E$6","v":"2022-23"}]
[null,null,"Roll No.:-",{"$nulls":5},{"$f":"VLOOKUP($A3118,'Result Entry'!$B$9:$F$108,5,0)","v":0}]
[null,"◐","Scholar Number",{"$nulls":3},"↠",{"$f":"VLOOKUP($A3118,'Result Entry'!$B$9:$DX$108,3,0)","v":0}]
[null,"◐","Student's Name",{"$nulls":3},"↠",{"$f":"VLOOKUP($A3118,'Result Entry'!$B$9:$DX$108,6,0)","v":0}]
[null,"◐","Father's Name",{"$nulls":3},"↠",{"$f":"VLOOKUP($A3118,'Result Entry'!$B$9:$DX$108,7,0)","v":0}]
[null,"◐","Mother's Name ",{"$nulls":3},"↠",{"$f":"VLOOKUP($A3118,'Result Entry'!$B$9:$DX$108,8,0)","v":0}]
[null,"◐","Class & Section",{"$nulls":3},"↠",{"$f":"CONCATENATE('Result Entry'!$F$4,'Result Entry'!$I$4)","v":"2(A)"}]
[null,"◐","Date Of Birth",{"$nulls":3},"↠",{"$f":"VLOOKUP($A3118,'Result Entry'!$B$9:$DX$108,9,0)","v":"00:00:00"}]
[null,"◐","Subject",{"$nulls":4},"Half Yearly","Total (T+H.Y.)","Yearly","Grand Total",null,"Subject Grade"]
[null,"◐","Max. Marks",{"$nulls":4},{"$f":"'Result Entry'!$Q$7","v":100},{"$f":"G3131+H3131","v":100},{"$f":"'Result Entry'!$U$7","v":100},{"$f":"I3131+J3131","v":200},null,"A/B/C/D/E"]
[null,"◐",{"$f":"'Result Entry'!$K$3","v":"Hindi"},{"$nulls":4},{"$f":"IF(OR(C3132=\"\",$I3123=\"NSO\"),\"\",VLOOKUP($A3118,'Result Entry'!$B$9:$DX$108,16,0))","v":0},{"$f":"SUM(G3132,H3132)","v":0},{"$f":"IF(OR(C3132=\"\",$I3123=\"NSO\"),\"\",VLOOKUP($A3118,'Result Entry'!$B$9:$DX$108,20,0))","v":0},{"$f":"SUM(I3132,J3132)","v":0},null,{"$f":"IF(OR(C3132=\"\",$I3123=\"NSO\"),\"\",VLOOKUP($A3118,'Result Entry'!$B$9:$DX$108,23,0))","v":""}]
[null,"◐",{"$f":"'Result Entry'!$Y$3","v":"Mathematics"},{"$nulls":4},{"$f":"IF(OR(C3133=\"\",$I3123=\"NSO\"),\"\",VLOOKUP($A3118,'Result Entry'!$B$9:$DX$108,30,0))","v":0},{"$f":"SUM(G3133,H3133)","v":0},{"$f":"IF(OR(C3133=\"\",$I3123=\"NSO\"),\"\",VLOOKUP($A3118,'Result Entry'!$B$9:$DX$108,34,0))","v":0},{"$f":"SUM(I3133,J3133)","v":0},null,{"$f":"IF(OR(C3133=\"\",$I3123=\"NSO\"),\"\",VLOOKUP($A3118,'Result Entry'!$B$9:$DX$108,37,0))","v":""}]
[null,"◐",{"$f":"'Result Entry'!$BO$3","v":"Env. Study"},{"$nulls":4},{"$f":"IF(OR(C3134=\"\",$I3123=\"NSO\"),\"\",VLOOKUP($A3118,'Result Entry'!$B$9:$DX$108,66,0))","v":0},0,{"$f":"IF(OR(C3134=\"\",$I3123=\"NSO\"),\"\",VLOOKUP($A3118,'Result Entry'!$B$9:$DX$108,67,0))","v":0},0,null,{"$f":"IF(OR(C3134=\"\",$I3123=\"NSO\"),\"\",VLOOKUP($A3118,'Result Entry'!$B$9:$DX$108,73,0))","v":""}]
[null,"◐","Max. Marks",{"$nulls":4},{"$f":"'Result Entry'!$AS$7","v":50},50,{"$f":"'Result Entry'!$AW$7","v":50},100,null,"A/B/C/D/E"]
[null,"◐",{"$f":"'Result Entry'!$AM$3","v":"English"},{"$nulls":4},{"$f":"IF(OR(C3136=\"\",$I3123=\"NSO\"),\"\",VLOOKUP($A3118,'Result Entry'!$B$9:$DX$108,44,0))","v":0},0,{"$f":"IF(OR(C3136=\"\",$I3123=\"NSO\"),\"\",VLOOKUP($A3118,'Result Entry'!$B$9:$DX$108,48,0))","v":0},0,null,{"$f":"IF(OR(C3136=\"\",$I3123=\"NSO\"),\"\",VLOOKUP($A3118,'Result Entry'!$B$9:$DX$108,51,0))","v":""}]
[null,"◐"]
[null,"◐","Overall Result",null,null,"Total Max. Marks",null,"Total Obtained Marks",null,"Percentage","Overall Grade","Result","Position in Class"]
[null,"◐",{"$nulls":3},{"$f":"IF(OR($I3123=\"\",$I3123=\"NSO\"),\"\",VLOOKUP($A3118,'Result Entry'!$B$9:$DX$108,101,0))","v":500},null,{"$f":"IF(OR($I3123=\"\",$I3123=\"NSO\"),\"\",VLOOKUP($A3118,'Result Entry'!$B$9:$DX$108,102,0))","v":0},null,{"$f":"IF(OR($I3123=\"\",$I3123=\"NSO\"),\"\",VLOOKUP($A3118,'Result Entry'!$B$9:$DX$108,103,0))","v":{"v":0,"d":"0.00"}},{"$f":"IF(OR($I3123=\"\",$I3123=\"NSO\"),\"\",VLOOKUP($A3118,'Result Entry'!$B$9:$DX$108,104,0))","v":""},{"$f":"IF(OR($I3123=\"\",$I3123=\"NSO\"),\"\",VLOOKUP($A3118,'Result Entry'!$B$9:$DX$108,105,0))","v":""},{"$f":"IF(OR($I3123=\"\",$I3123=\"NSO\"),\"\",VLOOKUP($A3118,'Result Entry'!$B$9:$DX$108,107,0))","v":""}]
[null,"◐",{"$nulls":6},"Total Meetings :-",null,{"$f":"IF(OR($I3123=\"\",$I3123=\"NSO\"),\"\",VLOOKUP($A3118,'Result Entry'!$B$9:$DX$108,98,0))","v":0},"Attedance %"]
[null,"◐","Extra Subjects",{"$nulls":5},"Student's Meetings :-",null,{"$f":"IF(OR($I3123=\"\",$I3123=\"NSO\"),\"\",VLOOKUP($A3118,'Result Entry'!$B$9:$DX$108,99,0))","v":0},{"$f":"IF(OR($I3123=\"\",$I3123=\"NSO\"),\"\",VLOOKUP($A3118,'Result Entry'!$B$9:$DX$108,100,0))","v":""}]
[null,"◐","Subject",null,null,"Total Marks",null,"GRADE","Remark :-",null,{"$f":"IF(OR($I3123=\"\",$I3123=\"NSO\"),\"\",VLOOKUP($A3118,'Result Entry'!$B$9:$DX$108,108,0))","v":0}]
[null,"◐",{"$nulls":6},"Result Date :-",null,{"$f":"'Result Entry'!$T$2","v":"2023-05-24"}]
[null,"◐",{"$f":"'Result Entry'!$BW$3","v":"WORK EXP."},null,null,{"$f":"IF(OR(C3144=\"\",$I3123=\"NSO\"),\"\",VLOOKUP($A3118,'Result Entry'!$B$9:$DX$108,119,0))","v":"0/50"},null,{"$f":"IF(OR(C3144=\"\",$I3123=\"NSO\"),\"\",VLOOKUP($A3118,'Result Entry'!$B$9:$DX$108,81,0))","v":""}]
[null,null,{"$f":"'Result Entry'!$CE$3","v":"ART EDU."},null,null,{"$f":"IF(OR(C3145=\"\",$I3123=\"NSO\"),\"\",VLOOKUP($A3118,'Result Entry'!$B$9:$DX$108,123,0))","v":"0/50"},null,{"$f":"IF(OR(C3145=\"\",$I3123=\"NSO\"),\"\",VLOOKUP($A3118,'Result Entry'!$B$9:$DX$108,89,0))","v":""}]
[null,"◐",{"$f":"'Result Entry'!$CM$3","v":"H&P. EDU."},null,null,{"$f":"IF(OR(C3146=\"\",$I3123=\"NSO\"),\"\",VLOOKUP($A3118,'Result Entry'!$B$9:$DX$108,127,0))","v":"0/100"},null,{"$f":"IF(OR(C3146=\"\",$I3123=\"NSO\"),\"\",VLOOKUP($A3118,'Result Entry'!$B$9:$DX$108,97,0))","v":""},"Signature Of The Class Teacher"]
[null,"◐","Grading System"]
[null,"◐","Grd.","% Range",null,"Description"]
[null,"◐","A","86-100",null,"Excellent",null,null,"Signature And Seal Of Principal/H.M."]
[null,"◐","B","71-85",null,"Very Good"]
[null,"◐","C","51-70",null,"Good"]
[null,"◐","D","31-50",null,"Average"]
[null,"◐","E","0-30",null,"Needs Improvement",null,null,"Wish bright future"]
[]
[]
[{"$f":"A3118+1","v":84},"Department Of Education, Rajasthan"]
[null,{"$f":"IF(I3161>0,CONCATENATE(C3161,I3161),0)","v":0},null,{"$f":"Master!$E$8","v":"Govt.Sr.Sec.Sch. "}]
[{"$nulls":3},{"$f":"Master!$E$11","v":"P.S.-Bapini (Jodhpur)"}]
[null,null,"Report Card",{"$nulls":6},"U-DISE Code:-",null,{"$f":"Master!$E$14","v":{"v":810000000,"d":"0810000000"}}]
[{"$nulls":9},"Session:-",null,{"$f":"Master!$E$6","v":"2022-23"}]
[null,null,"Roll No.:-",{"$nulls":5},{"$f":"VLOOKUP($A3156,'Result Entry'!$B$9:$F$108,5,0)","v":0}]
[null,"◐","Scholar Number",{"$nulls":3},"↠",{"$f":"VLOOKUP($A3156,'Result Entry'!$B$9:$DX$108,3,0)","v":0}]
[null,"◐","Student's Name",{"$nulls":3},"↠",{"$f":"VLOOKUP($A3156,'Result Entry'!$B$9:$DX$108,6,0)","v":0}]
[null,"◐","Father's Name",{"$nulls":3},"↠",{"$f":"VLOOKUP($A3156,'Result Entry'!$B$9:$DX$108,7,0)","v":0}]
[null,"◐","Mother's Name ",{"$nulls":3},"↠",{"$f":"VLOOKUP($A3156,'Result Entry'!$B$9:$DX$108,8,0)","v":0}]
[null,"◐","Class & Section",{"$nulls":3},"↠",{"$f":"CONCATENATE('Result Entry'!$F$4,'Result Entry'!$I$4)","v":"2(A)"}]
[null,"◐","Date Of Birth",{"$nulls":3},"↠",{"$f":"VLOOKUP($A3156,'Result Entry'!$B$9:$DX$108,9,0)","v":"00:00:00"}]
[null,"◐","Subject",{"$nulls":4},"Half Yearly","Total (T+H.Y.)","Yearly","Grand Total",null,"Subject Grade"]
[null,"◐","Max. Marks",{"$nulls":4},{"$f":"'Result Entry'!$Q$7","v":100},{"$f":"G3169+H3169","v":100},{"$f":"'Result Entry'!$U$7","v":100},{"$f":"I3169+J3169","v":200},null,"A/B/C/D/E"]
[null,"◐",{"$f":"'Result Entry'!$K$3","v":"Hindi"},{"$nulls":4},{"$f":"IF(OR(C3170=\"\",$I3161=\"NSO\"),\"\",VLOOKUP($A3156,'Result Entry'!$B$9:$DX$108,16,0))","v":0},{"$f":"SUM(G3170,H3170)","v":0},{"$f":"IF(OR(C3170=\"\",$I3161=\"NSO\"),\"\",VLOOKUP($A3156,'Result Entry'!$B$9:$DX$108,20,0))","v":0},{"$f":"SUM(I3170,J3170)","v":0},null,{"$f":"IF(OR(C3170=\"\",$I3161=\"NSO\"),\"\",VLOOKUP($A3156,'Result Entry'!$B$9:$DX$108,23,0))","v":""}]
[null,"◐",{"$f":"'Result Entry'!$Y$3","v":"Mathematics"},{"$nulls":4},{"$f":"IF(OR(C3171=\"\",$I3161=\"NSO\"),\"\",VLOOKUP($A3156,'Result Entry'!$B$9:$DX$108,30,0))","v":0},{"$f":"SUM(G3171,H3171)","v":0},{"$f":"IF(OR(C3171=\"\",$I3161=\"NSO\"),\"\",VLOOKUP($A3156,'Result Entry'!$B$9:$DX$108,34,0))","v":0},{"$f":"SUM(I3171,J3171)","v":0},null,{"$f":"IF(OR(C3171=\"\",$I3161=\"NSO\"),\"\",VLOOKUP($A3156,'Result Entry'!$B$9:$DX$108,37,0))","v":""}]
[null,"◐",{"$f":"'Result Entry'!$BO$3","v":"Env. Study"},{"$nulls":4},{"$f":"IF(OR(C3172=\"\",$I3161=\"NSO\"),\"\",VLOOKUP($A3156,'Result Entry'!$B$9:$DX$108,66,0))","v":0},0,{"$f":"IF(OR(C3172=\"\",$I3161=\"NSO\"),\"\",VLOOKUP($A3156,'Result Entry'!$B$9:$DX$108,67,0))","v":0},0,null,{"$f":"IF(OR(C3172=\"\",$I3161=\"NSO\"),\"\",VLOOKUP($A3156,'Result Entry'!$B$9:$DX$108,73,0))","v":""}]
[null,"◐","Max. Marks",{"$nulls":4},{"$f":"'Result Entry'!$AS$7","v":50},50,{"$f":"'Result Entry'!$AW$7","v":50},100,null,"A/B/C/D/E"]
[null,"◐",{"$f":"'Result Entry'!$AM$3","v":"English"},{"$nulls":4},{"$f":"IF(OR(C3174=\"\",$I3161=\"NSO\"),\"\",VLOOKUP($A3156,'Result Entry'!$B$9:$DX$108,44,0))","v":0},0,{"$f":"IF(OR(C3174=\"\",$I3161=\"NSO\"),\"\",VLOOKUP($A3156,'Result Entry'!$B$9:$DX$108,48,0))","v":0},0,null,{"$f":"IF(OR(C3174=\"\",$I3161=\"NSO\"),\"\",VLOOKUP($A3156,'Result Entry'!$B$9:$DX$108,51,0))","v":""}]
[null,"◐"]
[null,"◐","Overall Result",null,null,"Total Max. Marks",null,"Total Obtained Marks",null,"Percentage","Overall Grade","Result","Position in Class"]
[null,"◐",{"$nulls":3},{"$f":"IF(OR($I3161=\"\",$I3161=\"NSO\"),\"\",VLOOKUP($A3156,'Result Entry'!$B$9:$DX$108,101,0))","v":500},null,{"$f":"IF(OR($I3161=\"\",$I3161=\"NSO\"),\"\",VLOOKUP($A3156,'Result Entry'!$B$9:$DX$108,102,0))","v":0},null,{"$f":"IF(OR($I3161=\"\",$I3161=\"NSO\"),\"\",VLOOKUP($A3156,'Result Entry'!$B$9:$DX$108,103,0))","v":{"v":0,"d":"0.00"}},{"$f":"IF(OR($I3161=\"\",$I3161=\"NSO\"),\"\",VLOOKUP($A3156,'Result Entry'!$B$9:$DX$108,104,0))","v":""},{"$f":"IF(OR($I3161=\"\",$I3161=\"NSO\"),\"\",VLOOKUP($A3156,'Result Entry'!$B$9:$DX$108,105,0))","v":""},{"$f":"IF(OR($I3161=\"\",$I3161=\"NSO\"),\"\",VLOOKUP($A3156,'Result Entry'!$B$9:$DX$108,107,0))","v":""}]
[null,"◐",{"$nulls":6},"Total Meetings :-",null,{"$f":"IF(OR($I3161=\"\",$I3161=\"NSO\"),\"\",VLOOKUP($A3156,'Result Entry'!$B$9:$DX$108,98,0))","v":0},"Attedance %"]
[null,"◐","Extra Subjects",{"$nulls":5},"Student's Meetings :-",null,{"$f":"IF(OR($I3161=\"\",$I3161=\"NSO\"),\"\",VLOOKUP($A3156,'Result Entry'!$B$9:$DX$108,99,0))","v":0},{"$f":"IF(OR($I3161=\"\",$I3161=\"NSO\"),\"\",VLOOKUP($A3156,'Result Entry'!$B$9:$DX$108,100,0))","v":""}]
[null,"◐","Subject",null,null,"Total Marks",null,"GRADE","Remark :-",null,{"$f":"IF(OR($I3161=\"\",$I3161=\"NSO\"),\"\",VLOOKUP($A3156,'Result Entry'!$B$9:$DX$108,108,0))","v":0}]
[null,"◐",{"$nulls":6},"Result Date :-",null,{"$f":"'Result Entry'!$T$2","v":"2023-05-24"}]
[null,"◐",{"$f":"'Result Entry'!$BW$3","v":"WORK EXP."},null,null,{"$f":"IF(OR(C3182=\"\",$I3161=\"NSO\"),\"\",VLOOKUP($A3156,'Result Entry'!$B$9:$DX$108,119,0))","v":"0/50"},null,{"$f":"IF(OR(C3182=\"\",$I3161=\"NSO\"),\"\",VLOOKUP($A3156,'Result Entry'!$B$9:$DX$108,81,0))","v":""}]
[null,null,{"$f":"'Result Entry'!$CE$3","v":"ART EDU."},null,null,{"$f":"IF(OR(C3183=\"\",$I3161=\"NSO\"),\"\",VLOOKUP($A3156,'Result Entry'!$B$9:$DX$108,123,0))","v":"0/50"},null,{"$f":"IF(OR(C3183=\"\",$I3161=\"NSO\"),\"\",VLOOKUP($A3156,'Result Entry'!$B$9:$DX$108,89,0))","v":""}]
[null,"◐",{"$f":"'Result Entry'!$CM$3","v":"H&P. EDU."},null,null,{"$f":"IF(OR(C3184=\"\",$I3161=\"NSO\"),\"\",VLOOKUP($A3156,'Result Entry'!$B$9:$DX$108,127,0))","v":"0/100"},null,{"$f":"IF(OR(C3184=\"\",$I3161=\"NSO\"),\"\",VLOOKUP($A3156,'Result Entry'!$B$9:$DX$108,97,0))","v":""},"Signature Of The Class Teacher"]
[null,"◐","Grading System"]
[null,"◐","Grd.","% Range",null,"Description"]
[null,"◐","A","86-100",null,"Excellent",null,null,"Signature And Seal Of Principal/H.M."]
[null,"◐","B","71-85",null,"Very Good"]
[null,"◐","C","51-70",null,"Good"]
[null,"◐","D","31-50",null,"Average"]
[null,"◐","E","0-30",null,"Needs Improvement",null,null,"Wish bright future"]
[]
[]
[{"$f":"A3156+1","v":85},"Department Of Education, Rajasthan"]
[null,{"$f":"IF(I3199>0,CONCATENATE(C3199,I3199),0)","v":0},null,{"$f":"Master!$E$8","v":"Govt.Sr.Sec.Sch. "}]
[{"$nulls":3},{"$f":"Master!$E$11","v":"P.S.-Bapini (Jodhpur)"}]
[null,null,"Report Card",{"$nulls":6},"U-DISE Code:-",null,{"$f":"Master!$E$14","v":{"v":810000000,"d":"0810000000"}}]
[{"$nulls":9},"Session:-",null,{"$f":"Master!$E$6","v":"2022-23"}]
[null,null,"Roll No.:-",{"$nulls":5},{"$f":"VLOOKUP($A3194,'Result Entry'!$B$9:$F$108,5,0)","v":0}]
[null,"◐","Scholar Number",{"$nulls":3},"↠",{"$f":"VLOOKUP($A3194,'Result Entry'!$B$9:$DX$108,3,0)","v":0}]
[null,"◐","Student's Name",{"$nulls":3},"↠",{"$f":"VLOOKUP($A3194,'Result Entry'!$B$9:$DX$108,6,0)","v":0}]
[null,"◐","Father's Name",{"$nulls":3},"↠",{"$f":"VLOOKUP($A3194,'Result Entry'!$B$9:$DX$108,7,0)","v":0}]
[null,"◐","Mother's Name ",{"$nulls":3},"↠",{"$f":"VLOOKUP($A3194,'Result Entry'!$B$9:$DX$108,8,0)","v":0}]
[null,"◐","Class & Section",{"$nulls":3},"↠",{"$f":"CONCATENATE('Result Entry'!$F$4,'Result Entry'!$I$4)","v":"2(A)"}]
[null,"◐","Date Of Birth",{"$nulls":3},"↠",{"$f":"VLOOKUP($A3194,'Result Entry'!$B$9:$DX$108,9,0)","v":"00:00:00"}]
[null,"◐","Subject",{"$nulls":4},"Half Yearly","Total (T+H.Y.)","Yearly","Grand Total",null,"Subject Grade"]
[null,"◐","Max. Marks",{"$nulls":4},{"$f":"'Result Entry'!$Q$7","v":100},{"$f":"G3207+H3207","v":100},{"$f":"'Result Entry'!$U$7","v":100},{"$f":"I3207+J3207","v":200},null,"A/B/C/D/E"]
[null,"◐",{"$f":"'Result Entry'!$K$3","v":"Hindi"},{"$nulls":4},{"$f":"IF(OR(C3208=\"\",$I3199=\"NSO\"),\"\",VLOOKUP($A3194,'Result Entry'!$B$9:$DX$108,16,0))","v":0},{"$f":"SUM(G3208,H3208)","v":0},{"$f":"IF(OR(C3208=\"\",$I3199=\"NSO\"),\"\",VLOOKUP($A3194,'Result Entry'!$B$9:$DX$108,20,0))","v":0},{"$f":"SUM(I3208,J3208)","v":0},null,{"$f":"IF(OR(C3208=\"\",$I3199=\"NSO\"),\"\",VLOOKUP($A3194,'Result Entry'!$B$9:$DX$108,23,0))","v":""}]
[null,"◐",{"$f":"'Result Entry'!$Y$3","v":"Mathematics"},{"$nulls":4},{"$f":"IF(OR(C3209=\"\",$I3199=\"NSO\"),\"\",VLOOKUP($A3194,'Result Entry'!$B$9:$DX$108,30,0))","v":0},{"$f":"SUM(G3209,H3209)","v":0},{"$f":"IF(OR(C3209=\"\",$I3199=\"NSO\"),\"\",VLOOKUP($A3194,'Result Entry'!$B$9:$DX$108,34,0))","v":0},{"$f":"SUM(I3209,J3209)","v":0},null,{"$f":"IF(OR(C3209=\"\",$I3199=\"NSO\"),\"\",VLOOKUP($A3194,'Result Entry'!$B$9:$DX$108,37,0))","v":""}]
[null,"◐",{"$f":"'Result Entry'!$BO$3","v":"Env. Study"},{"$nulls":4},{"$f":"IF(OR(C3210=\"\",$I3199=\"NSO\"),\"\",VLOOKUP($A3194,'Result Entry'!$B$9:$DX$108,66,0))","v":0},0,{"$f":"IF(OR(C3210=\"\",$I3199=\"NSO\"),\"\",VLOOKUP($A3194,'Result Entry'!$B$9:$DX$108,67,0))","v":0},0,null,{"$f":"IF(OR(C3210=\"\",$I3199=\"NSO\"),\"\",VLOOKUP($A3194,'Result Entry'!$B$9:$DX$108,73,0))","v":""}]
[null,"◐","Max. Marks",{"$nulls":4},{"$f":"'Result Entry'!$AS$7","v":50},50,{"$f":"'Result Entry'!$AW$7","v":50},100,null,"A/B/C/D/E"]
[null,"◐",{"$f":"'Result Entry'!$AM$3","v":"English"},{"$nulls":4},{"$f":"IF(OR(C3212=\"\",$I3199=\"NSO\"),\"\",VLOOKUP($A3194,'Result Entry'!$B$9:$DX$108,44,0))","v":0},0,{"$f":"IF(OR(C3212=\"\",$I3199=\"NSO\"),\"\",VLOOKUP($A3194,'Result Entry'!$B$9:$DX$108,48,0))","v":0},0,null,{"$f":"IF(OR(C3212=\"\",$I3199=\"NSO\"),\"\",VLOOKUP($A3194,'Result Entry'!$B$9:$DX$108,51,0))","v":""}]
[null,"◐"]
[null,"◐","Overall Result",null,null,"Total Max. Marks",null,"Total Obtained Marks",null,"Percentage","Overall Grade","Result","Position in Class"]
[null,"◐",{"$nulls":3},{"$f":"IF(OR($I3199=\"\",$I3199=\"NSO\"),\"\",VLOOKUP($A3194,'Result Entry'!$B$9:$DX$108,101,0))","v":500},null,{"$f":"IF(OR($I3199=\"\",$I3199=\"NSO\"),\"\",VLOOKUP($A3194,'Result Entry'!$B$9:$DX$108,102,0))","v":0},null,{"$f":"IF(OR($I3199=\"\",$I3199=\"NSO\"),\"\",VLOOKUP($A3194,'Result Entry'!$B$9:$DX$108,103,0))","v":{"v":0,"d":"0.00"}},{"$f":"IF(OR($I3199=\"\",$I3199=\"NSO\"),\"\",VLOOKUP($A3194,'Result Entry'!$B$9:$DX$108,104,0))","v":""},{"$f":"IF(OR($I3199=\"\",$I3199=\"NSO\"),\"\",VLOOKUP($A3194,'Result Entry'!$B$9:$DX$108,105,0))","v":""},{"$f":"IF(OR($I3199=\"\",$I3199=\"NSO\"),\"\",VLOOKUP($A3194,'Result Entry'!$B$9:$DX$108,107,0))","v":""}]
[null,"◐",{"$nulls":6},"Total Meetings :-",null,{"$f":"IF(OR($I3199=\"\",$I3199=\"NSO\"),\"\",VLOOKUP($A3194,'Result Entry'!$B$9:$DX$108,98,0))","v":0},"Attedance %"]
[null,"◐","Extra Subjects",{"$nulls":5},"Student's Meetings :-",null,{"$f":"IF(OR($I3199=\"\",$I3199=\"NSO\"),\"\",VLOOKUP($A3194,'Result Entry'!$B$9:$DX$108,99,0))","v":0},{"$f":"IF(OR($I3199=\"\",$I3199=\"NSO\"),\"\",VLOOKUP($A3194,'Result Entry'!$B$9:$DX$108,100,0))","v":""}]
[null,"◐","Subject",null,null,"Total Marks",null,"GRADE","Remark :-",null,{"$f":"IF(OR($I3199=\"\",$I3199=\"NSO\"),\"\",VLOOKUP($A3194,'Result Entry'!$B$9:$DX$108,108,0))","v":0}]
[null,"◐",{"$nulls":6},"Result Date :-",null,{"$f":"'Result Entry'!$T$2","v":"2023-05-24"}]
[null,"◐",{"$f":"'Result Entry'!$BW$3","v":"WORK EXP."},null,null,{"$f":"IF(OR(C3220=\"\",$I3199=\"NSO\"),\"\",VLOOKUP($A3194,'Result Entry'!$B$9:$DX$108,119,0))","v":"0/50"},null,{"$f":"IF(OR(C3220=\"\",$I3199=\"NSO\"),\"\",VLOOKUP($A3194,'Result Entry'!$B$9:$DX$108,81,0))","v":""}]
[null,null,{"$f":"'Result Entry'!$CE$3","v":"ART EDU."},null,null,{"$f":"IF(OR(C3221=\"\",$I3199=\"NSO\"),\"\",VLOOKUP($A3194,'Result Entry'!$B$9:$DX$108,123,0))","v":"0/50"},null,{"$f":"IF(OR(C3221=\"\",$I3199=\"NSO\"),\"\",VLOOKUP($A3194,'Result Entry'!$B$9:$DX$108,89,0))","v":""}]
[null,"◐",{"$f":"'Result Entry'!$CM$3","v":"H&P. EDU."},null,null,{"$f":"IF(OR(C3222=\"\",$I3199=\"NSO\"),\"\",VLOOKUP($A3194,'Result Entry'!$B$9:$DX$108,127,0))","v":"0/100"},null,{"$f":"IF(OR(C3222=\"\",$I3199=\"NSO\"),\"\",VLOOKUP($A3194,'Result Entry'!$B$9:$DX$108,97,0))","v":""},"Signature Of The Class Teacher"]
[null,"◐","Grading System"]
[null,"◐","Grd.","% Range",null,"Description"]
[null,"◐","A","86-100",null,"Excellent",null,null,"Signature And Seal Of Principal/H.M."]
[null,"◐","B","71-85",null,"Very Good"]
[null,"◐","C","51-70",null,"Good"]
[null,"◐","D","31-50",null,"Average"]
[null,"◐","E","0-30",null,"Needs Improvement",null,null,"Wish bright future"]
[]
[]
[{"$f":"A3194+1","v":86},"Department Of Education, Rajasthan"]
[null,{"$f":"IF(I3237>0,CONCATENATE(C3237,I3237),0)","v":0},null,{"$f":"Master!$E$8","v":"Govt.Sr.Sec.Sch. "}]
[{"$nulls":3},{"$f":"Master!$E$11","v":"P.S.-Bapini (Jodhpur)"}]
[null,null,"Report Card",{"$nulls":6},"U-DISE Code:-",null,{"$f":"Master!$E$14","v":{"v":810000000,"d":"0810000000"}}]
[{"$nulls":9},"Session:-",null,{"$f":"Master!$E$6","v":"2022-23"}]
[null,null,"Roll No.:-",{"$nulls":5},{"$f":"VLOOKUP($A3232,'Result Entry'!$B$9:$F$108,5,0)","v":0}]
[null,"◐","Scholar Number",{"$nulls":3},"↠",{"$f":"VLOOKUP($A3232,'Result Entry'!$B$9:$DX$108,3,0)","v":0}]
[null,"◐","Student's Name",{"$nulls":3},"↠",{"$f":"VLOOKUP($A3232,'Result Entry'!$B$9:$DX$108,6,0)","v":0}]
[null,"◐","Father's Name",{"$nulls":3},"↠",{"$f":"VLOOKUP($A3232,'Result Entry'!$B$9:$DX$108,7,0)","v":0}]
[null,"◐","Mother's Name ",{"$nulls":3},"↠",{"$f":"VLOOKUP($A3232,'Result Entry'!$B$9:$DX$108,8,0)","v":0}]
[null,"◐","Class & Section",{"$nulls":3},"↠",{"$f":"CONCATENATE('Result Entry'!$F$4,'Result Entry'!$I$4)","v":"2(A)"}]
[null,"◐","Date Of Birth",{"$nulls":3},"↠",{"$f":"VLOOKUP($A3232,'Result Entry'!$B$9:$DX$108,9,0)","v":"00:00:00"}]
[null,"◐","Subject",{"$nulls":4},"Half Yearly","Total (T+H.Y.)","Yearly","Grand Total",null,"Subject Grade"]
[null,"◐","Max. Marks",{"$nulls":4},{"$f":"'Result Entry'!$Q$7","v":100},{"$f":"G3245+H3245","v":100},{"$f":"'Result Entry'!$U$7","v":100},{"$f":"I3245+J3245","v":200},null,"A/B/C/D/E"]
[null,"◐",{"$f":"'Result Entry'!$K$3","v":"Hindi"},{"$nulls":4},{"$f":"IF(OR(C3246=\"\",$I3237=\"NSO\"),\"\",VLOOKUP($A3232,'Result Entry'!$B$9:$DX$108,16,0))","v":0},{"$f":"SUM(G3246,H3246)","v":0},{"$f":"IF(OR(C3246=\"\",$I3237=\"NSO\"),\"\",VLOOKUP($A3232,'Result Entry'!$B$9:$DX$108,20,0))","v":0},{"$f":"SUM(I3246,J3246)","v":0},null,{"$f":"IF(OR(C3246=\"\",$I3237=\"NSO\"),\"\",VLOOKUP($A3232,'Result Entry'!$B$9:$DX$108,23,0))","v":""}]
[null,"◐",{"$f":"'Result Entry'!$Y$3","v":"Mathematics"},{"$nulls":4},{"$f":"IF(OR(C3247=\"\",$I3237=\"NSO\"),\"\",VLOOKUP($A3232,'Result Entry'!$B$9:$DX$108,30,0))","v":0},{"$f":"SUM(G3247,H3247)","v":0},{"$f":"IF(OR(C3247=\"\",$I3237=\"NSO\"),\"\",VLOOKUP($A3232,'Result Entry'!$B$9:$DX$108,34,0))","v":0},{"$f":"SUM(I3247,J3247)","v":0},null,{"$f":"IF(OR(C3247=\"\",$I3237=\"NSO\"),\"\",VLOOKUP($A3232,'Result Entry'!$B$9:$DX$108,37,0))","v":""}]
[null,"◐",{"$f":"'Result Entry'!$BO$3","v":"Env. Study"},{"$nulls":4},{"$f":"IF(OR(C3248=\"\",$I3237=\"NSO\"),\"\",VLOOKUP($A3232,'Result Entry'!$B$9:$DX$108,66,0))","v":0},0,{"$f":"IF(OR(C3248=\"\",$I3237=\"NSO\"),\"\",VLOOKUP($A3232,'Result Entry'!$B$9:$DX$108,67,0))","v":0},0,null,{"$f":"IF(OR(C3248=\"\",$I3237=\"NSO\"),\"\",VLOOKUP($A3232,'Result Entry'!$B$9:$DX$108,73,0))","v":""}]
[null,"◐","Max. Marks",{"$nulls":4},{"$f":"'Result Entry'!$AS$7","v":50},50,{"$f":"'Result Entry'!$AW$7","v":50},100,null,"A/B/C/D/E"]
[null,"◐",{"$f":"'Result Entry'!$AM$3","v":"English"},{"$nulls":4},{"$f":"IF(OR(C3250=\"\",$I3237=\"NSO\"),\"\",VLOOKUP($A3232,'Result Entry'!$B$9:$DX$108,44,0))","v":0},0,{"$f":"IF(OR(C3250=\"\",$I3237=\"NSO\"),\"\",VLOOKUP($A3232,'Result Entry'!$B$9:$DX$108,48,0))","v":0},0,null,{"$f":"IF(OR(C3250=\"\",$I3237=\"NSO\"),\"\",VLOOKUP($A3232,'Result Entry'!$B$9:$DX$108,51,0))","v":""}]
[null,"◐"]
[null,"◐","Overall Result",null,null,"Total Max. Marks",null,"Total Obtained Marks",null,"Percentage","Overall Grade","Result","Position in Class"]
[null,"◐",{"$nulls":3},{"$f":"IF(OR($I3237=\"\",$I3237=\"NSO\"),\"\",VLOOKUP($A3232,'Result Entry'!$B$9:$DX$108,101,0))","v":500},null,{"$f":"IF(OR($I3237=\"\",$I3237=\"NSO\"),\"\",VLOOKUP($A3232,'Result Entry'!$B$9:$DX$108,102,0))","v":0},null,{"$f":"IF(OR($I3237=\"\",$I3237=\"NSO\"),\"\",VLOOKUP($A3232,'Result Entry'!$B$9:$DX$108,103,0))","v":{"v":0,"d":"0.00"}},{"$f":"IF(OR($I3237=\"\",$I3237=\"NSO\"),\"\",VLOOKUP($A3232,'Result Entry'!$B$9:$DX$108,104,0))","v":""},{"$f":"IF(OR($I3237=\"\",$I3237=\"NSO\"),\"\",VLOOKUP($A3232,'Result Entry'!$B$9:$DX$108,105,0))","v":""},{"$f":"IF(OR($I3237=\"\",$I3237=\"NSO\"),\"\",VLOOKUP($A3232,'Result Entry'!$B$9:$DX$108,107,0))","v":""}]
[null,"◐",{"$nulls":6},"Total Meetings :-",null,{"$f":"IF(OR($I3237=\"\",$I3237=\"NSO\"),\"\",VLOOKUP($A3232,'Result Entry'!$B$9:$DX$108,98,0))","v":0},"Attedance %"]
[null,"◐","Extra Subjects",{"$nulls":5},"Student's Meetings :-",null,{"$f":"IF(OR($I3237=\"\",$I3237=\"NSO\"),\"\",VLOOKUP($A3232,'Result Entry'!$B$9:$DX$108,99,0))","v":0},{"$f":"IF(OR($I3237=\"\",$I3237=\"NSO\"),\"\",VLOOKUP($A3232,'Result Entry'!$B$9:$DX$108,100,0))","v":""}]
[null,"◐","Subject",null,null,"Total Marks",null,"GRADE","Remark :-",null,{"$f":"IF(OR($I3237=\"\",$I3237=\"NSO\"),\"\",VLOOKUP($A3232,'Result Entry'!$B$9:$DX$108,108,0))","v":0}]
[null,"◐",{"$nulls":6},"Result Date :-",null,{"$f":"'Result Entry'!$T$2","v":"2023-05-24"}]
[null,"◐",{"$f":"'Result Entry'!$BW$3","v":"WORK EXP."},null,null,{"$f":"IF(OR(C3258=\"\",$I3237=\"NSO\"),\"\",VLOOKUP($A3232,'Result Entry'!$B$9:$DX$108,119,0))","v":"0/50"},null,{"$f":"IF(OR(C3258=\"\",$I3237=\"NSO\"),\"\",VLOOKUP($A3232,'Result Entry'!$B$9:$DX$108,81,0))","v":""}]
[null,null,{"$f":"'Result Entry'!$CE$3","v":"ART EDU."},null,null,{"$f":"IF(OR(C3259=\"\",$I3237=\"NSO\"),\"\",VLOOKUP($A3232,'Result Entry'!$B$9:$DX$108,123,0))","v":"0/50"},null,{"$f":"IF(OR(C3259=\"\",$I3237=\"NSO\"),\"\",VLOOKUP($A3232,'Result Entry'!$B$9:$DX$108,89,0))","v":""}]
[null,"◐",{"$f":"'Result Entry'!$CM$3","v":"H&P. EDU."},null,null,{"$f":"IF(OR(C3260=\"\",$I3237=\"NSO\"),\"\",VLOOKUP($A3232,'Result Entry'!$B$9:$DX$108,127,0))","v":"0/100"},null,{"$f":"IF(OR(C3260=\"\",$I3237=\"NSO\"),\"\",VLOOKUP($A3232,'Result Entry'!$B$9:$DX$108,97,0))","v":""},"Signature Of The Class Teacher"]
[null,"◐","Grading System"]
[null,"◐","Grd.","% Range",null,"Description"]
[null,"◐","A","86-100",null,"Excellent",null,null,"Signature And Seal Of Principal/H.M."]
[null,"◐","B","71-85",null,"Very Good"]
[null,"◐","C","51-70",null,"Good"]
[null,"◐","D","31-50",null,"Average"]
[null,"◐","E","0-30",null,"Needs Improvement",null,null,"Wish bright future"]
[]
[]
[{"$f":"A3232+1","v":87},"Department Of Education, Rajasthan"]
[null,{"$f":"IF(I3275>0,CONCATENATE(C3275,I3275),0)","v":0},null,{"$f":"Master!$E$8","v":"Govt.Sr.Sec.Sch. "}]
[{"$nulls":3},{"$f":"Master!$E$11","v":"P.S.-Bapini (Jodhpur)"}]
[null,null,"Report Card",{"$nulls":6},"U-DISE Code:-",null,{"$f":"Master!$E$14","v":{"v":810000000,"d":"0810000000"}}]
[{"$nulls":9},"Session:-",null,{"$f":"Master!$E$6","v":"2022-23"}]
[null,null,"Roll No.:-",{"$nulls":5},{"$f":"VLOOKUP($A3270,'Result Entry'!$B$9:$F$108,5,0)","v":0}]
[null,"◐","Scholar Number",{"$nulls":3},"↠",{"$f":"VLOOKUP($A3270,'Result Entry'!$B$9:$DX$108,3,0)","v":0}]
[null,"◐","Student's Name",{"$nulls":3},"↠",{"$f":"VLOOKUP($A3270,'Result Entry'!$B$9:$DX$108,6,0)","v":0}]
[null,"◐","Father's Name",{"$nulls":3},"↠",{"$f":"VLOOKUP($A3270,'Result Entry'!$B$9:$DX$108,7,0)","v":0}]
[null,"◐","Mother's Name ",{"$nulls":3},"↠",{"$f":"VLOOKUP($A3270,'Result Entry'!$B$9:$DX$108,8,0)","v":0}]
[null,"◐","Class & Section",{"$nulls":3},"↠",{"$f":"CONCATENATE('Result Entry'!$F$4,'Result Entry'!$I$4)","v":"2(A)"}]
[null,"◐","Date Of Birth",{"$nulls":3},"↠",{"$f":"VLOOKUP($A3270,'Result Entry'!$B$9:$DX$108,9,0)","v":"00:00:00"}]
[null,"◐","Subject",{"$nulls":4},"Half Yearly","Total (T+H.Y.)","Yearly","Grand Total",null,"Subject Grade"]
[null,"◐","Max. Marks",{"$nulls":4},{"$f":"'Result Entry'!$Q$7","v":100},{"$f":"G3283+H3283","v":100},{"$f":"'Result Entry'!$U$7","v":100},{"$f":"I3283+J3283","v":200},null,"A/B/C/D/E"]
[null,"◐",{"$f":"'Result Entry'!$K$3","v":"Hindi"},{"$nulls":4},{"$f":"IF(OR(C3284=\"\",$I3275=\"NSO\"),\"\",VLOOKUP($A3270,'Result Entry'!$B$9:$DX$108,16,0))","v":0},{"$f":"SUM(G3284,H3284)","v":0},{"$f":"IF(OR(C3284=\"\",$I3275=\"NSO\"),\"\",VLOOKUP($A3270,'Result Entry'!$B$9:$DX$108,20,0))","v":0},{"$f":"SUM(I3284,J3284)","v":0},null,{"$f":"IF(OR(C3284=\"\",$I3275=\"NSO\"),\"\",VLOOKUP($A3270,'Result Entry'!$B$9:$DX$108,23,0))","v":""}]
[null,"◐",{"$f":"'Result Entry'!$Y$3","v":"Mathematics"},{"$nulls":4},{"$f":"IF(OR(C3285=\"\",$I3275=\"NSO\"),\"\",VLOOKUP($A3270,'Result Entry'!$B$9:$DX$108,30,0))","v":0},{"$f":"SUM(G3285,H3285)","v":0},{"$f":"IF(OR(C3285=\"\",$I3275=\"NSO\"),\"\",VLOOKUP($A3270,'Result Entry'!$B$9:$DX$108,34,0))","v":0},{"$f":"SUM(I3285,J3285)","v":0},null,{"$f":"IF(OR(C3285=\"\",$I3275=\"NSO\"),\"\",VLOOKUP($A3270,'Result Entry'!$B$9:$DX$108,37,0))","v":""}]
[null,"◐",{"$f":"'Result Entry'!$BO$3","v":"Env. Study"},{"$nulls":4},{"$f":"IF(OR(C3286=\"\",$I3275=\"NSO\"),\"\",VLOOKUP($A3270,'Result Entry'!$B$9:$DX$108,66,0))","v":0},0,{"$f":"IF(OR(C3286=\"\",$I3275=\"NSO\"),\"\",VLOOKUP($A3270,'Result Entry'!$B$9:$DX$108,67,0))","v":0},0,null,{"$f":"IF(OR(C3286=\"\",$I3275=\"NSO\"),\"\",VLOOKUP($A3270,'Result Entry'!$B$9:$DX$108,73,0))","v":""}]
[null,"◐","Max. Marks",{"$nulls":4},{"$f":"'Result Entry'!$AS$7","v":50},50,{"$f":"'Result Entry'!$AW$7","v":50},100,null,"A/B/C/D/E"]
[null,"◐",{"$f":"'Result Entry'!$AM$3","v":"English"},{"$nulls":4},{"$f":"IF(OR(C3288=\"\",$I3275=\"NSO\"),\"\",VLOOKUP($A3270,'Result Entry'!$B$9:$DX$108,44,0))","v":0},0,{"$f":"IF(OR(C3288=\"\",$I3275=\"NSO\"),\"\",VLOOKUP($A3270,'Result Entry'!$B$9:$DX$108,48,0))","v":0},0,null,{"$f":"IF(OR(C3288=\"\",$I3275=\"NSO\"),\"\",VLOOKUP($A3270,'Result Entry'!$B$9:$DX$108,51,0))","v":""}]
[null,"◐"]
[null,"◐","Overall Result",null,null,"Total Max. Marks",null,"Total Obtained Marks",null,"Percentage","Overall Grade","Result","Position in Class"]
[null,"◐",{"$nulls":3},{"$f":"IF(OR($I3275=\"\",$I3275=\"NSO\"),\"\",VLOOKUP($A3270,'Result Entry'!$B$9:$DX$108,101,0))","v":500},null,{"$f":"IF(OR($I3275=\"\",$I3275=\"NSO\"),\"\",VLOOKUP($A3270,'Result Entry'!$B$9:$DX$108,102,0))","v":0},null,{"$f":"IF(OR($I3275=\"\",$I3275=\"NSO\"),\"\",VLOOKUP($A3270,'Result Entry'!$B$9:$DX$108,103,0))","v":{"v":0,"d":"0.00"}},{"$f":"IF(OR($I3275=\"\",$I3275=\"NSO\"),\"\",VLOOKUP($A3270,'Result Entry'!$B$9:$DX$108,104,0))","v":""},{"$f":"IF(OR($I3275=\"\",$I3275=\"NSO\"),\"\",VLOOKUP($A3270,'Result Entry'!$B$9:$DX$108,105,0))","v":""},{"$f":"IF(OR($I3275=\"\",$I3275=\"NSO\"),\"\",VLOOKUP($A3270,'Result Entry'!$B$9:$DX$108,107,0))","v":""}]
[null,"◐",{"$nulls":6},"Total Meetings :-",null,{"$f":"IF(OR($I3275=\"\",$I3275=\"NSO\"),\"\",VLOOKUP($A3270,'Result Entry'!$B$9:$DX$108,98,0))","v":0},"Attedance %"]
[null,"◐","Extra Subjects",{"$nulls":5},"Student's Meetings :-",null,{"$f":"IF(OR($I3275=\"\",$I3275=\"NSO\"),\"\",VLOOKUP($A3270,'Result Entry'!$B$9:$DX$108,99,0))","v":0},{"$f":"IF(OR($I3275=\"\",$I3275=\"NSO\"),\"\",VLOOKUP($A3270,'Result Entry'!$B$9:$DX$108,100,0))","v":""}]
[null,"◐","Subject",null,null,"Total Marks",null,"GRADE","Remark :-",null,{"$f":"IF(OR($I3275=\"\",$I3275=\"NSO\"),\"\",VLOOKUP($A3270,'Result Entry'!$B$9:$DX$108,108,0))","v":0}]
[null,"◐",{"$nulls":6},"Result Date :-",null,{"$f":"'Result Entry'!$T$2","v":"2023-05-24"}]
[null,"◐",{"$f":"'Result Entry'!$BW$3","v":"WORK EXP."},null,null,{"$f":"IF(OR(C3296=\"\",$I3275=\"NSO\"),\"\",VLOOKUP($A3270,'Result Entry'!$B$9:$DX$108,119,0))","v":"0/50"},null,{"$f":"IF(OR(C3296=\"\",$I3275=\"NSO\"),\"\",VLOOKUP($A3270,'Result Entry'!$B$9:$DX$108,81,0))","v":""}]
[null,null,{"$f":"'Result Entry'!$CE$3","v":"ART EDU."},null,null,{"$f":"IF(OR(C3297=\"\",$I3275=\"NSO\"),\"\",VLOOKUP($A3270,'Result Entry'!$B$9:$DX$108,123,0))","v":"0/50"},null,{"$f":"IF(OR(C3297=\"\",$I3275=\"NSO\"),\"\",VLOOKUP($A3270,'Result Entry'!$B$9:$DX$108,89,0))","v":""}]
[null,"◐",{"$f":"'Result Entry'!$CM$3","v":"H&P. EDU."},null,null,{"$f":"IF(OR(C3298=\"\",$I3275=\"NSO\"),\"\",VLOOKUP($A3270,'Result Entry'!$B$9:$DX$108,127,0))","v":"0/100"},null,{"$f":"IF(OR(C3298=\"\",$I3275=\"NSO\"),\"\",VLOOKUP($A3270,'Result Entry'!$B$9:$DX$108,97,0))","v":""},"Signature Of The Class Teacher"]
[null,"◐","Grading System"]
[null,"◐","Grd.","% Range",null,"Description"]
[null,"◐","A","86-100",null,"Excellent",null,null,"Signature And Seal Of Principal/H.M."]
[null,"◐","B","71-85",null,"Very Good"]
[null,"◐","C","51-70",null,"Good"]
[null,"◐","D","31-50",null,"Average"]
[null,"◐","E","0-30",null,"Needs Improvement",null,null,"Wish bright future"]
[]
[]
[{"$f":"A3270+1","v":88},"Department Of Education, Rajasthan"]
[null,{"$f":"IF(I3313>0,CONCATENATE(C3313,I3313),0)","v":0},null,{"$f":"Master!$E$8","v":"Govt.Sr.Sec.Sch. "}]
[{"$nulls":3},{"$f":"Master!$E$11","v":"P.S.-Bapini (Jodhpur)"}]
[null,null,"Report Card",{"$nulls":6},"U-DISE Code:-",null,{"$f":"Master!$E$14","v":{"v":810000000,"d":"0810000000"}}]
[{"$nulls":9},"Session:-",null,{"$f":"Master!$E$6","v":"2022-23"}]
[null,null,"Roll No.:-",{"$nulls":5},{"$f":"VLOOKUP($A3308,'Result Entry'!$B$9:$F$108,5,0)","v":0}]
[null,"◐","Scholar Number",{"$nulls":3},"↠",{"$f":"VLOOKUP($A3308,'Result Entry'!$B$9:$DX$108,3,0)","v":0}]
[null,"◐","Student's Name",{"$nulls":3},"↠",{"$f":"VLOOKUP($A3308,'Result Entry'!$B$9:$DX$108,6,0)","v":0}]
[null,"◐","Father's Name",{"$nulls":3},"↠",{"$f":"VLOOKUP($A3308,'Result Entry'!$B$9:$DX$108,7,0)","v":0}]
[null,"◐","Mother's Name ",{"$nulls":3},"↠",{"$f":"VLOOKUP($A3308,'Result Entry'!$B$9:$DX$108,8,0)","v":0}]
[null,"◐","Class & Section",{"$nulls":3},"↠",{"$f":"CONCATENATE('Result Entry'!$F$4,'Result Entry'!$I$4)","v":"2(A)"}]
[null,"◐","Date Of Birth",{"$nulls":3},"↠",{"$f":"VLOOKUP($A3308,'Result Entry'!$B$9:$DX$108,9,0)","v":"00:00:00"}]
[null,"◐","Subject",{"$nulls":4},"Half Yearly","Total (T+H.Y.)","Yearly","Grand Total",null,"Subject Grade"]
[null,"◐","Max. Marks",{"$nulls":4},{"$f":"'Result Entry'!$Q$7","v":100},{"$f":"G3321+H3321","v":100},{"$f":"'Result Entry'!$U$7","v":100},{"$f":"I3321+J3321","v":200},null,"A/B/C/D/E"]
[null,"◐",{"$f":"'Result Entry'!$K$3","v":"Hindi"},{"$nulls":4},{"$f":"IF(OR(C3322=\"\",$I3313=\"NSO\"),\"\",VLOOKUP($A3308,'Result Entry'!$B$9:$DX$108,16,0))","v":0},{"$f":"SUM(G3322,H3322)","v":0},{"$f":"IF(OR(C3322=\"\",$I3313=\"NSO\"),\"\",VLOOKUP($A3308,'Result Entry'!$B$9:$DX$108,20,0))","v":0},{"$f":"SUM(I3322,J3322)","v":0},null,{"$f":"IF(OR(C3322=\"\",$I3313=\"NSO\"),\"\",VLOOKUP($A3308,'Result Entry'!$B$9:$DX$108,23,0))","v":""}]
[null,"◐",{"$f":"'Result Entry'!$Y$3","v":"Mathematics"},{"$nulls":4},{"$f":"IF(OR(C3323=\"\",$I3313=\"NSO\"),\"\",VLOOKUP($A3308,'Result Entry'!$B$9:$DX$108,30,0))","v":0},{"$f":"SUM(G3323,H3323)","v":0},{"$f":"IF(OR(C3323=\"\",$I3313=\"NSO\"),\"\",VLOOKUP($A3308,'Result Entry'!$B$9:$DX$108,34,0))","v":0},{"$f":"SUM(I3323,J3323)","v":0},null,{"$f":"IF(OR(C3323=\"\",$I3313=\"NSO\"),\"\",VLOOKUP($A3308,'Result Entry'!$B$9:$DX$108,37,0))","v":""}]
[null,"◐",{"$f":"'Result Entry'!$BO$3","v":"Env. Study"},{"$nulls":4},{"$f":"IF(OR(C3324=\"\",$I3313=\"NSO\"),\"\",VLOOKUP($A3308,'Result Entry'!$B$9:$DX$108,66,0))","v":0},0,{"$f":"IF(OR(C3324=\"\",$I3313=\"NSO\"),\"\",VLOOKUP($A3308,'Result Entry'!$B$9:$DX$108,67,0))","v":0},0,null,{"$f":"IF(OR(C3324=\"\",$I3313=\"NSO\"),\"\",VLOOKUP($A3308,'Result Entry'!$B$9:$DX$108,73,0))","v":""}]
[null,"◐","Max. Marks",{"$nulls":4},{"$f":"'Result Entry'!$AS$7","v":50},50,{"$f":"'Result Entry'!$AW$7","v":50},100,null,"A/B/C/D/E"]
[null,"◐",{"$f":"'Result Entry'!$AM$3","v":"English"},{"$nulls":4},{"$f":"IF(OR(C3326=\"\",$I3313=\"NSO\"),\"\",VLOOKUP($A3308,'Result Entry'!$B$9:$DX$108,44,0))","v":0},0,{"$f":"IF(OR(C3326=\"\",$I3313=\"NSO\"),\"\",VLOOKUP($A3308,'Result Entry'!$B$9:$DX$108,48,0))","v":0},0,null,{"$f":"IF(OR(C3326=\"\",$I3313=\"NSO\"),\"\",VLOOKUP($A3308,'Result Entry'!$B$9:$DX$108,51,0))","v":""}]
[null,"◐"]
[null,"◐","Overall Result",null,null,"Total Max. Marks",null,"Total Obtained Marks",null,"Percentage","Overall Grade","Result","Position in Class"]
[null,"◐",{"$nulls":3},{"$f":"IF(OR($I3313=\"\",$I3313=\"NSO\"),\"\",VLOOKUP($A3308,'Result Entry'!$B$9:$DX$108,101,0))","v":500},null,{"$f":"IF(OR($I3313=\"\",$I3313=\"NSO\"),\"\",VLOOKUP($A3308,'Result Entry'!$B$9:$DX$108,102,0))","v":0},null,{"$f":"IF(OR($I3313=\"\",$I3313=\"NSO\"),\"\",VLOOKUP($A3308,'Result Entry'!$B$9:$DX$108,103,0))","v":{"v":0,"d":"0.00"}},{"$f":"IF(OR($I3313=\"\",$I3313=\"NSO\"),\"\",VLOOKUP($A3308,'Result Entry'!$B$9:$DX$108,104,0))","v":""},{"$f":"IF(OR($I3313=\"\",$I3313=\"NSO\"),\"\",VLOOKUP($A3308,'Result Entry'!$B$9:$DX$108,105,0))","v":""},{"$f":"IF(OR($I3313=\"\",$I3313=\"NSO\"),\"\",VLOOKUP($A3308,'Result Entry'!$B$9:$DX$108,107,0))","v":""}]
[null,"◐",{"$nulls":6},"Total Meetings :-",null,{"$f":"IF(OR($I3313=\"\",$I3313=\"NSO\"),\"\",VLOOKUP($A3308,'Result Entry'!$B$9:$DX$108,98,0))","v":0},"Attedance %"]
[null,"◐","Extra Subjects",{"$nulls":5},"Student's Meetings :-",null,{"$f":"IF(OR($I3313=\"\",$I3313=\"NSO\"),\"\",VLOOKUP($A3308,'Result Entry'!$B$9:$DX$108,99,0))","v":0},{"$f":"IF(OR($I3313=\"\",$I3313=\"NSO\"),\"\",VLOOKUP($A3308,'Result Entry'!$B$9:$DX$108,100,0))","v":""}]
[null,"◐","Subject",null,null,"Total Marks",null,"GRADE","Remark :-",null,{"$f":"IF(OR($I3313=\"\",$I3313=\"NSO\"),\"\",VLOOKUP($A3308,'Result Entry'!$B$9:$DX$108,108,0))","v":0}]
[null,"◐",{"$nulls":6},"Result Date :-",null,{"$f":"'Result Entry'!$T$2","v":"2023-05-24"}]
[null,"◐",{"$f":"'Result Entry'!$BW$3","v":"WORK EXP."},null,null,{"$f":"IF(OR(C3334=\"\",$I3313=\"NSO\"),\"\",VLOOKUP($A3308,'Result Entry'!$B$9:$DX$108,119,0))","v":"0/50"},null,{"$f":"IF(OR(C3334=\"\",$I3313=\"NSO\"),\"\",VLOOKUP($A3308,'Result Entry'!$B$9:$DX$108,81,0))","v":""}]
[null,null,{"$f":"'Result Entry'!$CE$3","v":"ART EDU."},null,null,{"$f":"IF(OR(C3335=\"\",$I3313=\"NSO\"),\"\",VLOOKUP($A3308,'Result Entry'!$B$9:$DX$108,123,0))","v":"0/50"},null,{"$f":"IF(OR(C3335=\"\",$I3313=\"NSO\"),\"\",VLOOKUP($A3308,'Result Entry'!$B$9:$DX$108,89,0))","v":""}]
[null,"◐",{"$f":"'Result Entry'!$CM$3","v":"H&P. EDU."},null,null,{"$f":"IF(OR(C3336=\"\",$I3313=\"NSO\"),\"\",VLOOKUP($A3308,'Result Entry'!$B$9:$DX$108,127,0))","v":"0/100"},null,{"$f":"IF(OR(C3336=\"\",$I3313=\"NSO\"),\"\",VLOOKUP($A3308,'Result Entry'!$B$9:$DX$108,97,0))","v":""},"Signature Of The Class Teacher"]
[null,"◐","Grading System"]
[null,"◐","Grd.","% Range",null,"Description"]
[null,"◐","A","86-100",null,"Excellent",null,null,"Signature And Seal Of Principal/H.M."]
[null,"◐","B","71-85",null,"Very Good"]
[null,"◐","C","51-70",null,"Good"]
[null,"◐","D","31-50",null,"Average"]
[null,"◐","E","0-30",null,"Needs Improvement",null,null,"Wish bright future"]
[]
[]
[{"$f":"A3308+1","v":89},"Department Of Education, Rajasthan"]
[null,{"$f":"IF(I3351>0,CONCATENATE(C3351,I3351),0)","v":0},null,{"$f":"Master!$E$8","v":"Govt.Sr.Sec.Sch. "}]
[{"$nulls":3},{"$f":"Master!$E$11","v":"P.S.-Bapini (Jodhpur)"}]
[null,null,"Report Card",{"$nulls":6},"U-DISE Code:-",null,{"$f":"Master!$E$14","v":{"v":810000000,"d":"0810000000"}}]
[{"$nulls":9},"Session:-",null,{"$f":"Master!$E$6","v":"2022-23"}]
[null,null,"Roll No.:-",{"$nulls":5},{"$f":"VLOOKUP($A3346,'Result Entry'!$B$9:$F$108,5,0)","v":0}]
[null,"◐","Scholar Number",{"$nulls":3},"↠",{"$f":"VLOOKUP($A3346,'Result Entry'!$B$9:$DX$108,3,0)","v":0}]
[null,"◐","Student's Name",{"$nulls":3},"↠",{"$f":"VLOOKUP($A3346,'Result Entry'!$B$9:$DX$108,6,0)","v":0}]
[null,"◐","Father's Name",{"$nulls":3},"↠",{"$f":"VLOOKUP($A3346,'Result Entry'!$B$9:$DX$108,7,0)","v":0}]
[null,"◐","Mother's Name ",{"$nulls":3},"↠",{"$f":"VLOOKUP($A3346,'Result Entry'!$B$9:$DX$108,8,0)","v":0}]
[null,"◐","Class & Section",{"$nulls":3},"↠",{"$f":"CONCATENATE('Result Entry'!$F$4,'Result Entry'!$I$4)","v":"2(A)"}]
[null,"◐","Date Of Birth",{"$nulls":3},"↠",{"$f":"VLOOKUP($A3346,'Result Entry'!$B$9:$DX$108,9,0)","v":"00:00:00"}]
[null,"◐","Subject",{"$nulls":4},"Half Yearly","Total (T+H.Y.)","Yearly","Grand Total",null,"Subject Grade"]
[null,"◐","Max. Marks",{"$nulls":4},{"$f":"'Result Entry'!$Q$7","v":100},{"$f":"G3359+H3359","v":100},{"$f":"'Result Entry'!$U$7","v":100},{"$f":"I3359+J3359","v":200},null,"A/B/C/D/E"]
[null,"◐",{"$f":"'Result Entry'!$K$3","v":"Hindi"},{"$nulls":4},{"$f":"IF(OR(C3360=\"\",$I3351=\"NSO\"),\"\",VLOOKUP($A3346,'Result Entry'!$B$9:$DX$108,16,0))","v":0},{"$f":"SUM(G3360,H3360)","v":0},{"$f":"IF(OR(C3360=\"\",$I3351=\"NSO\"),\"\",VLOOKUP($A3346,'Result Entry'!$B$9:$DX$108,20,0))","v":0},{"$f":"SUM(I3360,J3360)","v":0},null,{"$f":"IF(OR(C3360=\"\",$I3351=\"NSO\"),\"\",VLOOKUP($A3346,'Result Entry'!$B$9:$DX$108,23,0))","v":""}]
[null,"◐",{"$f":"'Result Entry'!$Y$3","v":"Mathematics"},{"$nulls":4},{"$f":"IF(OR(C3361=\"\",$I3351=\"NSO\"),\"\",VLOOKUP($A3346,'Result Entry'!$B$9:$DX$108,30,0))","v":0},{"$f":"SUM(G3361,H3361)","v":0},{"$f":"IF(OR(C3361=\"\",$I3351=\"NSO\"),\"\",VLOOKUP($A3346,'Result Entry'!$B$9:$DX$108,34,0))","v":0},{"$f":"SUM(I3361,J3361)","v":0},null,{"$f":"IF(OR(C3361=\"\",$I3351=\"NSO\"),\"\",VLOOKUP($A3346,'Result Entry'!$B$9:$DX$108,37,0))","v":""}]
[null,"◐",{"$f":"'Result Entry'!$BO$3","v":"Env. Study"},{"$nulls":4},{"$f":"IF(OR(C3362=\"\",$I3351=\"NSO\"),\"\",VLOOKUP($A3346,'Result Entry'!$B$9:$DX$108,66,0))","v":0},0,{"$f":"IF(OR(C3362=\"\",$I3351=\"NSO\"),\"\",VLOOKUP($A3346,'Result Entry'!$B$9:$DX$108,67,0))","v":0},0,null,{"$f":"IF(OR(C3362=\"\",$I3351=\"NSO\"),\"\",VLOOKUP($A3346,'Result Entry'!$B$9:$DX$108,73,0))","v":""}]
[null,"◐","Max. Marks",{"$nulls":4},{"$f":"'Result Entry'!$AS$7","v":50},50,{"$f":"'Result Entry'!$AW$7","v":50},100,null,"A/B/C/D/E"]
[null,"◐",{"$f":"'Result Entry'!$AM$3","v":"English"},{"$nulls":4},{"$f":"IF(OR(C3364=\"\",$I3351=\"NSO\"),\"\",VLOOKUP($A3346,'Result Entry'!$B$9:$DX$108,44,0))","v":0},0,{"$f":"IF(OR(C3364=\"\",$I3351=\"NSO\"),\"\",VLOOKUP($A3346,'Result Entry'!$B$9:$DX$108,48,0))","v":0},0,null,{"$f":"IF(OR(C3364=\"\",$I3351=\"NSO\"),\"\",VLOOKUP($A3346,'Result Entry'!$B$9:$DX$108,51,0))","v":""}]
[null,"◐"]
[null,"◐","Overall Result",null,null,"Total Max. Marks",null,"Total Obtained Marks",null,"Percentage","Overall Grade","Result","Position in Class"]
[null,"◐",{"$nulls":3},{"$f":"IF(OR($I3351=\"\",$I3351=\"NSO\"),\"\",VLOOKUP($A3346,'Result Entry'!$B$9:$DX$108,101,0))","v":500},null,{"$f":"IF(OR($I3351=\"\",$I3351=\"NSO\"),\"\",VLOOKUP($A3346,'Result Entry'!$B$9:$DX$108,102,0))","v":0},null,{"$f":"IF(OR($I3351=\"\",$I3351=\"NSO\"),\"\",VLOOKUP($A3346,'Result Entry'!$B$9:$DX$108,103,0))","v":{"v":0,"d":"0.00"}},{"$f":"IF(OR($I3351=\"\",$I3351=\"NSO\"),\"\",VLOOKUP($A3346,'Result Entry'!$B$9:$DX$108,104,0))","v":""},{"$f":"IF(OR($I3351=\"\",$I3351=\"NSO\"),\"\",VLOOKUP($A3346,'Result Entry'!$B$9:$DX$108,105,0))","v":""},{"$f":"IF(OR($I3351=\"\",$I3351=\"NSO\"),\"\",VLOOKUP($A3346,'Result Entry'!$B$9:$DX$108,107,0))","v":""}]
[null,"◐",{"$nulls":6},"Total Meetings :-",null,{"$f":"IF(OR($I3351=\"\",$I3351=\"NSO\"),\"\",VLOOKUP($A3346,'Result Entry'!$B$9:$DX$108,98,0))","v":0},"Attedance %"]
[null,"◐","Extra Subjects",{"$nulls":5},"Student's Meetings :-",null,{"$f":"IF(OR($I3351=\"\",$I3351=\"NSO\"),\"\",VLOOKUP($A3346,'Result Entry'!$B$9:$DX$108,99,0))","v":0},{"$f":"IF(OR($I3351=\"\",$I3351=\"NSO\"),\"\",VLOOKUP($A3346,'Result Entry'!$B$9:$DX$108,100,0))","v":""}]
[null,"◐","Subject",null,null,"Total Marks",null,"GRADE","Remark :-",null,{"$f":"IF(OR($I3351=\"\",$I3351=\"NSO\"),\"\",VLOOKUP($A3346,'Result Entry'!$B$9:$DX$108,108,0))","v":0}]
[null,"◐",{"$nulls":6},"Result Date :-",null,{"$f":"'Result Entry'!$T$2","v":"2023-05-24"}]
[null,"◐",{"$f":"'Result Entry'!$BW$3","v":"WORK EXP."},null,null,{"$f":"IF(OR(C3372=\"\",$I3351=\"NSO\"),\"\",VLOOKUP($A3346,'Result Entry'!$B$9:$DX$108,119,0))","v":"0/50"},null,{"$f":"IF(OR(C3372=\"\",$I3351=\"NSO\"),\"\",VLOOKUP($A3346,'Result Entry'!$B$9:$DX$108,81,0))","v":""}]
[null,null,{"$f":"'Result Entry'!$CE$3","v":"ART EDU."},null,null,{"$f":"IF(OR(C3373=\"\",$I3351=\"NSO\"),\"\",VLOOKUP($A3346,'Result Entry'!$B$9:$DX$108,123,0))","v":"0/50"},null,{"$f":"IF(OR(C3373=\"\",$I3351=\"NSO\"),\"\",VLOOKUP($A3346,'Result Entry'!$B$9:$DX$108,89,0))","v":""}]
[null,"◐",{"$f":"'Result Entry'!$CM$3","v":"H&P. EDU."},null,null,{"$f":"IF(OR(C3374=\"\",$I3351=\"NSO\"),\"\",VLOOKUP($A3346,'Result Entry'!$B$9:$DX$108,127,0))","v":"0/100"},null,{"$f":"IF(OR(C3374=\"\",$I3351=\"NSO\"),\"\",VLOOKUP($A3346,'Result Entry'!$B$9:$DX$108,97,0))","v":""},"Signature Of The Class Teacher"]
[null,"◐","Grading System"]
[null,"◐","Grd.","% Range",null,"Description"]
[null,"◐","A","86-100",null,"Excellent",null,null,"Signature And Seal Of Principal/H.M."]
[null,"◐","B","71-85",null,"Very Good"]
[null,"◐","C","51-70",null,"Good"]
[null,"◐","D","31-50",null,"Average"]
[null,"◐","E","0-30",null,"Needs Improvement",null,null,"Wish bright future"]
[]
[]
[{"$f":"A3346+1","v":90},"Department Of Education, Rajasthan"]
[null,{"$f":"IF(I3389>0,CONCATENATE(C3389,I3389),0)","v":0},null,{"$f":"Master!$E$8","v":"Govt.Sr.Sec.Sch. "}]
[{"$nulls":3},{"$f":"Master!$E$11","v":"P.S.-Bapini (Jodhpur)"}]
[null,null,"Report Card",{"$nulls":6},"U-DISE Code:-",null,{"$f":"Master!$E$14","v":{"v":810000000,"d":"0810000000"}}]
[{"$nulls":9},"Session:-",null,{"$f":"Master!$E$6","v":"2022-23"}]
[null,null,"Roll No.:-",{"$nulls":5},{"$f":"VLOOKUP($A3384,'Result Entry'!$B$9:$F$108,5,0)","v":0}]
[null,"◐","Scholar Number",{"$nulls":3},"↠",{"$f":"VLOOKUP($A3384,'Result Entry'!$B$9:$DX$108,3,0)","v":0}]
[null,"◐","Student's Name",{"$nulls":3},"↠",{"$f":"VLOOKUP($A3384,'Result Entry'!$B$9:$DX$108,6,0)","v":0}]
[null,"◐","Father's Name",{"$nulls":3},"↠",{"$f":"VLOOKUP($A3384,'Result Entry'!$B$9:$DX$108,7,0)","v":0}]
[null,"◐","Mother's Name ",{"$nulls":3},"↠",{"$f":"VLOOKUP($A3384,'Result Entry'!$B$9:$DX$108,8,0)","v":0}]
[null,"◐","Class & Section",{"$nulls":3},"↠",{"$f":"CONCATENATE('Result Entry'!$F$4,'Result Entry'!$I$4)","v":"2(A)"}]
[null,"◐","Date Of Birth",{"$nulls":3},"↠",{"$f":"VLOOKUP($A3384,'Result Entry'!$B$9:$DX$108,9,0)","v":"00:00:00"}]
[null,"◐","Subject",{"$nulls":4},"Half Yearly","Total (T+H.Y.)","Yearly","Grand Total",null,"Subject Grade"]
[null,"◐","Max. Marks",{"$nulls":4},{"$f":"'Result Entry'!$Q$7","v":100},{"$f":"G3397+H3397","v":100},{"$f":"'Result Entry'!$U$7","v":100},{"$f":"I3397+J3397","v":200},null,"A/B/C/D/E"]
[null,"◐",{"$f":"'Result Entry'!$K$3","v":"Hindi"},{"$nulls":4},{"$f":"IF(OR(C3398=\"\",$I3389=\"NSO\"),\"\",VLOOKUP($A3384,'Result Entry'!$B$9:$DX$108,16,0))","v":0},{"$f":"SUM(G3398,H3398)","v":0},{"$f":"IF(OR(C3398=\"\",$I3389=\"NSO\"),\"\",VLOOKUP($A3384,'Result Entry'!$B$9:$DX$108,20,0))","v":0},{"$f":"SUM(I3398,J3398)","v":0},null,{"$f":"IF(OR(C3398=\"\",$I3389=\"NSO\"),\"\",VLOOKUP($A3384,'Result Entry'!$B$9:$DX$108,23,0))","v":""}]
[null,"◐",{"$f":"'Result Entry'!$Y$3","v":"Mathematics"},{"$nulls":4},{"$f":"IF(OR(C3399=\"\",$I3389=\"NSO\"),\"\",VLOOKUP($A3384,'Result Entry'!$B$9:$DX$108,30,0))","v":0},{"$f":"SUM(G3399,H3399)","v":0},{"$f":"IF(OR(C3399=\"\",$I3389=\"NSO\"),\"\",VLOOKUP($A3384,'Result Entry'!$B$9:$DX$108,34,0))","v":0},{"$f":"SUM(I3399,J3399)","v":0},null,{"$f":"IF(OR(C3399=\"\",$I3389=\"NSO\"),\"\",VLOOKUP($A3384,'Result Entry'!$B$9:$DX$108,37,0))","v":""}]
[null,"◐",{"$f":"'Result Entry'!$BO$3","v":"Env. Study"},{"$nulls":4},{"$f":"IF(OR(C3400=\"\",$I3389=\"NSO\"),\"\",VLOOKUP($A3384,'Result Entry'!$B$9:$DX$108,66,0))","v":0},0,{"$f":"IF(OR(C3400=\"\",$I3389=\"NSO\"),\"\",VLOOKUP($A3384,'Result Entry'!$B$9:$DX$108,67,0))","v":0},0,null,{"$f":"IF(OR(C3400=\"\",$I3389=\"NSO\"),\"\",VLOOKUP($A3384,'Result Entry'!$B$9:$DX$108,73,0))","v":""}]
[null,"◐","Max. Marks",{"$nulls":4},{"$f":"'Result Entry'!$AS$7","v":50},50,{"$f":"'Result Entry'!$AW$7","v":50},100,null,"A/B/C/D/E"]
[null,"◐",{"$f":"'Result Entry'!$AM$3","v":"English"},{"$nulls":4},{"$f":"IF(OR(C3402=\"\",$I3389=\"NSO\"),\"\",VLOOKUP($A3384,'Result Entry'!$B$9:$DX$108,44,0))","v":0},0,{"$f":"IF(OR(C3402=\"\",$I3389=\"NSO\"),\"\",VLOOKUP($A3384,'Result Entry'!$B$9:$DX$108,48,0))","v":0},0,null,{"$f":"IF(OR(C3402=\"\",$I3389=\"NSO\"),\"\",VLOOKUP($A3384,'Result Entry'!$B$9:$DX$108,51,0))","v":""}]
[null,"◐"]
[null,"◐","Overall Result",null,null,"Total Max. Marks",null,"Total Obtained Marks",null,"Percentage","Overall Grade","Result","Position in Class"]
[null,"◐",{"$nulls":3},{"$f":"IF(OR($I3389=\"\",$I3389=\"NSO\"),\"\",VLOOKUP($A3384,'Result Entry'!$B$9:$DX$108,101,0))","v":500},null,{"$f":"IF(OR($I3389=\"\",$I3389=\"NSO\"),\"\",VLOOKUP($A3384,'Result Entry'!$B$9:$DX$108,102,0))","v":0},null,{"$f":"IF(OR($I3389=\"\",$I3389=\"NSO\"),\"\",VLOOKUP($A3384,'Result Entry'!$B$9:$DX$108,103,0))","v":{"v":0,"d":"0.00"}},{"$f":"IF(OR($I3389=\"\",$I3389=\"NSO\"),\"\",VLOOKUP($A3384,'Result Entry'!$B$9:$DX$108,104,0))","v":""},{"$f":"IF(OR($I3389=\"\",$I3389=\"NSO\"),\"\",VLOOKUP($A3384,'Result Entry'!$B$9:$DX$108,105,0))","v":""},{"$f":"IF(OR($I3389=\"\",$I3389=\"NSO\"),\"\",VLOOKUP($A3384,'Result Entry'!$B$9:$DX$108,107,0))","v":""}]
[null,"◐",{"$nulls":6},"Total Meetings :-",null,{"$f":"IF(OR($I3389=\"\",$I3389=\"NSO\"),\"\",VLOOKUP($A3384,'Result Entry'!$B$9:$DX$108,98,0))","v":0},"Attedance %"]
[null,"◐","Extra Subjects",{"$nulls":5},"Student's Meetings :-",null,{"$f":"IF(OR($I3389=\"\",$I3389=\"NSO\"),\"\",VLOOKUP($A3384,'Result Entry'!$B$9:$DX$108,99,0))","v":0},{"$f":"IF(OR($I3389=\"\",$I3389=\"NSO\"),\"\",VLOOKUP($A3384,'Result Entry'!$B$9:$DX$108,100,0))","v":""}]
[null,"◐","Subject",null,null,"Total Marks",null,"GRADE","Remark :-",null,{"$f":"IF(OR($I3389=\"\",$I3389=\"NSO\"),\"\",VLOOKUP($A3384,'Result Entry'!$B$9:$DX$108,108,0))","v":0}]
[null,"◐",{"$nulls":6},"Result Date :-",null,{"$f":"'Result Entry'!$T$2","v":"2023-05-24"}]
[null,"◐",{"$f":"'Result Entry'!$BW$3","v":"WORK EXP."},null,null,{"$f":"IF(OR(C3410=\"\",$I3389=\"NSO\"),\"\",VLOOKUP($A3384,'Result Entry'!$B$9:$DX$108,119,0))","v":"0/50"},null,{"$f":"IF(OR(C3410=\"\",$I3389=\"NSO\"),\"\",VLOOKUP($A3384,'Result Entry'!$B$9:$DX$108,81,0))","v":""}]
[null,null,{"$f":"'Result Entry'!$CE$3","v":"ART EDU."},null,null,{"$f":"IF(OR(C3411=\"\",$I3389=\"NSO\"),\"\",VLOOKUP($A3384,'Result Entry'!$B$9:$DX$108,123,0))","v":"0/50"},null,{"$f":"IF(OR(C3411=\"\",$I3389=\"NSO\"),\"\",VLOOKUP($A3384,'Result Entry'!$B$9:$DX$108,89,0))","v":""}]
[null,"◐",{"$f":"'Result Entry'!$CM$3","v":"H&P. EDU."},null,null,{"$f":"IF(OR(C3412=\"\",$I3389=\"NSO\"),\"\",VLOOKUP($A3384,'Result Entry'!$B$9:$DX$108,127,0))","v":"0/100"},null,{"$f":"IF(OR(C3412=\"\",$I3389=\"NSO\"),\"\",VLOOKUP($A3384,'Result Entry'!$B$9:$DX$108,97,0))","v":""},"Signature Of The Class Teacher"]
[null,"◐","Grading System"]
[null,"◐","Grd.","% Range",null,"Description"]
[null,"◐","A","86-100",null,"Excellent",null,null,"Signature And Seal Of Principal/H.M."]
[null,"◐","B","71-85",null,"Very Good"]
[null,"◐","C","51-70",null,"Good"]
[null,"◐","D","31-50",null,"Average"]
[null,"◐","E","0-30",null,"Needs Improvement",null,null,"Wish bright future"]
[]
[]
[{"$f":"A3384+1","v":91},"Department Of Education, Rajasthan"]
[null,{"$f":"IF(I3427>0,CONCATENATE(C3427,I3427),0)","v":0},null,{"$f":"Master!$E$8","v":"Govt.Sr.Sec.Sch. "}]
[{"$nulls":3},{"$f":"Master!$E$11","v":"P.S.-Bapini (Jodhpur)"}]
[null,null,"Report Card",{"$nulls":6},"U-DISE Code:-",null,{"$f":"Master!$E$14","v":{"v":810000000,"d":"0810000000"}}]
[{"$nulls":9},"Session:-",null,{"$f":"Master!$E$6","v":"2022-23"}]
[null,null,"Roll No.:-",{"$nulls":5},{"$f":"VLOOKUP($A3422,'Result Entry'!$B$9:$F$108,5,0)","v":0}]
[null,"◐","Scholar Number",{"$nulls":3},"↠",{"$f":"VLOOKUP($A3422,'Result Entry'!$B$9:$DX$108,3,0)","v":0}]
[null,"◐","Student's Name",{"$nulls":3},"↠",{"$f":"VLOOKUP($A3422,'Result Entry'!$B$9:$DX$108,6,0)","v":0}]
[null,"◐","Father's Name",{"$nulls":3},"↠",{"$f":"VLOOKUP($A3422,'Result Entry'!$B$9:$DX$108,7,0)","v":0}]
[null,"◐","Mother's Name ",{"$nulls":3},"↠",{"$f":"VLOOKUP($A3422,'Result Entry'!$B$9:$DX$108,8,0)","v":0}]
[null,"◐","Class & Section",{"$nulls":3},"↠",{"$f":"CONCATENATE('Result Entry'!$F$4,'Result Entry'!$I$4)","v":"2(A)"}]
[null,"◐","Date Of Birth",{"$nulls":3},"↠",{"$f":"VLOOKUP($A3422,'Result Entry'!$B$9:$DX$108,9,0)","v":"00:00:00"}]
[null,"◐","Subject",{"$nulls":4},"Half Yearly","Total (T+H.Y.)","Yearly","Grand Total",null,"Subject Grade"]
[null,"◐","Max. Marks",{"$nulls":4},{"$f":"'Result Entry'!$Q$7","v":100},{"$f":"G3435+H3435","v":100},{"$f":"'Result Entry'!$U$7","v":100},{"$f":"I3435+J3435","v":200},null,"A/B/C/D/E"]
[null,"◐",{"$f":"'Result Entry'!$K$3","v":"Hindi"},{"$nulls":4},{"$f":"IF(OR(C3436=\"\",$I3427=\"NSO\"),\"\",VLOOKUP($A3422,'Result Entry'!$B$9:$DX$108,16,0))","v":0},{"$f":"SUM(G3436,H3436)","v":0},{"$f":"IF(OR(C3436=\"\",$I3427=\"NSO\"),\"\",VLOOKUP($A3422,'Result Entry'!$B$9:$DX$108,20,0))","v":0},{"$f":"SUM(I3436,J3436)","v":0},null,{"$f":"IF(OR(C3436=\"\",$I3427=\"NSO\"),\"\",VLOOKUP($A3422,'Result Entry'!$B$9:$DX$108,23,0))","v":""}]
[null,"◐",{"$f":"'Result Entry'!$Y$3","v":"Mathematics"},{"$nulls":4},{"$f":"IF(OR(C3437=\"\",$I3427=\"NSO\"),\"\",VLOOKUP($A3422,'Result Entry'!$B$9:$DX$108,30,0))","v":0},{"$f":"SUM(G3437,H3437)","v":0},{"$f":"IF(OR(C3437=\"\",$I3427=\"NSO\"),\"\",VLOOKUP($A3422,'Result Entry'!$B$9:$DX$108,34,0))","v":0},{"$f":"SUM(I3437,J3437)","v":0},null,{"$f":"IF(OR(C3437=\"\",$I3427=\"NSO\"),\"\",VLOOKUP($A3422,'Result Entry'!$B$9:$DX$108,37,0))","v":""}]
[null,"◐",{"$f":"'Result Entry'!$BO$3","v":"Env. Study"},{"$nulls":4},{"$f":"IF(OR(C3438=\"\",$I3427=\"NSO\"),\"\",VLOOKUP($A3422,'Result Entry'!$B$9:$DX$108,66,0))","v":0},0,{"$f":"IF(OR(C3438=\"\",$I3427=\"NSO\"),\"\",VLOOKUP($A3422,'Result Entry'!$B$9:$DX$108,67,0))","v":0},0,null,{"$f":"IF(OR(C3438=\"\",$I3427=\"NSO\"),\"\",VLOOKUP($A3422,'Result Entry'!$B$9:$DX$108,73,0))","v":""}]
[null,"◐","Max. Marks",{"$nulls":4},{"$f":"'Result Entry'!$AS$7","v":50},50,{"$f":"'Result Entry'!$AW$7","v":50},100,null,"A/B/C/D/E"]
[null,"◐",{"$f":"'Result Entry'!$AM$3","v":"English"},{"$nulls":4},{"$f":"IF(OR(C3440=\"\",$I3427=\"NSO\"),\"\",VLOOKUP($A3422,'Result Entry'!$B$9:$DX$108,44,0))","v":0},0,{"$f":"IF(OR(C3440=\"\",$I3427=\"NSO\"),\"\",VLOOKUP($A3422,'Result Entry'!$B$9:$DX$108,48,0))","v":0},0,null,{"$f":"IF(OR(C3440=\"\",$I3427=\"NSO\"),\"\",VLOOKUP($A3422,'Result Entry'!$B$9:$DX$108,51,0))","v":""}]
[null,"◐"]
[null,"◐","Overall Result",null,null,"Total Max. Marks",null,"Total Obtained Marks",null,"Percentage","Overall Grade","Result","Position in Class"]
[null,"◐",{"$nulls":3},{"$f":"IF(OR($I3427=\"\",$I3427=\"NSO\"),\"\",VLOOKUP($A3422,'Result Entry'!$B$9:$DX$108,101,0))","v":500},null,{"$f":"IF(OR($I3427=\"\",$I3427=\"NSO\"),\"\",VLOOKUP($A3422,'Result Entry'!$B$9:$DX$108,102,0))","v":0},null,{"$f":"IF(OR($I3427=\"\",$I3427=\"NSO\"),\"\",VLOOKUP($A3422,'Result Entry'!$B$9:$DX$108,103,0))","v":{"v":0,"d":"0.00"}},{"$f":"IF(OR($I3427=\"\",$I3427=\"NSO\"),\"\",VLOOKUP($A3422,'Result Entry'!$B$9:$DX$108,104,0))","v":""},{"$f":"IF(OR($I3427=\"\",$I3427=\"NSO\"),\"\",VLOOKUP($A3422,'Result Entry'!$B$9:$DX$108,105,0))","v":""},{"$f":"IF(OR($I3427=\"\",$I3427=\"NSO\"),\"\",VLOOKUP($A3422,'Result Entry'!$B$9:$DX$108,107,0))","v":""}]
[null,"◐",{"$nulls":6},"Total Meetings :-",null,{"$f":"IF(OR($I3427=\"\",$I3427=\"NSO\"),\"\",VLOOKUP($A3422,'Result Entry'!$B$9:$DX$108,98,0))","v":0},"Attedance %"]
[null,"◐","Extra Subjects",{"$nulls":5},"Student's Meetings :-",null,{"$f":"IF(OR($I3427=\"\",$I3427=\"NSO\"),\"\",VLOOKUP($A3422,'Result Entry'!$B$9:$DX$108,99,0))","v":0},{"$f":"IF(OR($I3427=\"\",$I3427=\"NSO\"),\"\",VLOOKUP($A3422,'Result Entry'!$B$9:$DX$108,100,0))","v":""}]
[null,"◐","Subject",null,null,"Total Marks",null,"GRADE","Remark :-",null,{"$f":"IF(OR($I3427=\"\",$I3427=\"NSO\"),\"\",VLOOKUP($A3422,'Result Entry'!$B$9:$DX$108,108,0))","v":0}]
[null,"◐",{"$nulls":6},"Result Date :-",null,{"$f":"'Result Entry'!$T$2","v":"2023-05-24"}]
[null,"◐",{"$f":"'Result Entry'!$BW$3","v":"WORK EXP."},null,null,{"$f":"IF(OR(C3448=\"\",$I3427=\"NSO\"),\"\",VLOOKUP($A3422,'Result Entry'!$B$9:$DX$108,119,0))","v":"0/50"},null,{"$f":"IF(OR(C3448=\"\",$I3427=\"NSO\"),\"\",VLOOKUP($A3422,'Result Entry'!$B$9:$DX$108,81,0))","v":""}]
[null,null,{"$f":"'Result Entry'!$CE$3","v":"ART EDU."},null,null,{"$f":"IF(OR(C3449=\"\",$I3427=\"NSO\"),\"\",VLOOKUP($A3422,'Result Entry'!$B$9:$DX$108,123,0))","v":"0/50"},null,{"$f":"IF(OR(C3449=\"\",$I3427=\"NSO\"),\"\",VLOOKUP($A3422,'Result Entry'!$B$9:$DX$108,89,0))","v":""}]
[null,"◐",{"$f":"'Result Entry'!$CM$3","v":"H&P. EDU."},null,null,{"$f":"IF(OR(C3450=\"\",$I3427=\"NSO\"),\"\",VLOOKUP($A3422,'Result Entry'!$B$9:$DX$108,127,0))","v":"0/100"},null,{"$f":"IF(OR(C3450=\"\",$I3427=\"NSO\"),\"\",VLOOKUP($A3422,'Result Entry'!$B$9:$DX$108,97,0))","v":""},"Signature Of The Class Teacher"]
[null,"◐","Grading System"]
[null,"◐","Grd.","% Range",null,"Description"]
[null,"◐","A","86-100",null,"Excellent",null,null,"Signature And Seal Of Principal/H.M."]
[null,"◐","B","71-85",null,"Very Good"]
[null,"◐","C","51-70",null,"Good"]
[null,"◐","D","31-50",null,"Average"]
[null,"◐","E","0-30",null,"Needs Improvement",null,null,"Wish bright future"]
[]
[]
[{"$f":"A3422+1","v":92},"Department Of Education, Rajasthan"]
[null,{"$f":"IF(I3465>0,CONCATENATE(C3465,I3465),0)","v":0},null,{"$f":"Master!$E$8","v":"Govt.Sr.Sec.Sch. "}]
[{"$nulls":3},{"$f":"Master!$E$11","v":"P.S.-Bapini (Jodhpur)"}]
[null,null,"Report Card",{"$nulls":6},"U-DISE Code:-",null,{"$f":"Master!$E$14","v":{"v":810000000,"d":"0810000000"}}]
[{"$nulls":9},"Session:-",null,{"$f":"Master!$E$6","v":"2022-23"}]
[null,null,"Roll No.:-",{"$nulls":5},{"$f":"VLOOKUP($A3460,'Result Entry'!$B$9:$F$108,5,0)","v":0}]
[null,"◐","Scholar Number",{"$nulls":3},"↠",{"$f":"VLOOKUP($A3460,'Result Entry'!$B$9:$DX$108,3,0)","v":0}]
[null,"◐","Student's Name",{"$nulls":3},"↠",{"$f":"VLOOKUP($A3460,'Result Entry'!$B$9:$DX$108,6,0)","v":0}]
[null,"◐","Father's Name",{"$nulls":3},"↠",{"$f":"VLOOKUP($A3460,'Result Entry'!$B$9:$DX$108,7,0)","v":0}]
[null,"◐","Mother's Name ",{"$nulls":3},"↠",{"$f":"VLOOKUP($A3460,'Result Entry'!$B$9:$DX$108,8,0)","v":0}]
[null,"◐","Class & Section",{"$nulls":3},"↠",{"$f":"CONCATENATE('Result Entry'!$F$4,'Result Entry'!$I$4)","v":"2(A)"}]
[null,"◐","Date Of Birth",{"$nulls":3},"↠",{"$f":"VLOOKUP($A3460,'Result Entry'!$B$9:$DX$108,9,0)","v":"00:00:00"}]
[null,"◐","Subject",{"$nulls":4},"Half Yearly","Total (T+H.Y.)","Yearly","Grand Total",null,"Subject Grade"]
[null,"◐","Max. Marks",{"$nulls":4},{"$f":"'Result Entry'!$Q$7","v":100},{"$f":"G3473+H3473","v":100},{"$f":"'Result Entry'!$U$7","v":100},{"$f":"I3473+J3473","v":200},null,"A/B/C/D/E"]
[null,"◐",{"$f":"'Result Entry'!$K$3","v":"Hindi"},{"$nulls":4},{"$f":"IF(OR(C3474=\"\",$I3465=\"NSO\"),\"\",VLOOKUP($A3460,'Result Entry'!$B$9:$DX$108,16,0))","v":0},{"$f":"SUM(G3474,H3474)","v":0},{"$f":"IF(OR(C3474=\"\",$I3465=\"NSO\"),\"\",VLOOKUP($A3460,'Result Entry'!$B$9:$DX$108,20,0))","v":0},{"$f":"SUM(I3474,J3474)","v":0},null,{"$f":"IF(OR(C3474=\"\",$I3465=\"NSO\"),\"\",VLOOKUP($A3460,'Result Entry'!$B$9:$DX$108,23,0))","v":""}]
[null,"◐",{"$f":"'Result Entry'!$Y$3","v":"Mathematics"},{"$nulls":4},{"$f":"IF(OR(C3475=\"\",$I3465=\"NSO\"),\"\",VLOOKUP($A3460,'Result Entry'!$B$9:$DX$108,30,0))","v":0},{"$f":"SUM(G3475,H3475)","v":0},{"$f":"IF(OR(C3475=\"\",$I3465=\"NSO\"),\"\",VLOOKUP($A3460,'Result Entry'!$B$9:$DX$108,34,0))","v":0},{"$f":"SUM(I3475,J3475)","v":0},null,{"$f":"IF(OR(C3475=\"\",$I3465=\"NSO\"),\"\",VLOOKUP($A3460,'Result Entry'!$B$9:$DX$108,37,0))","v":""}]
[null,"◐",{"$f":"'Result Entry'!$BO$3","v":"Env. Study"},{"$nulls":4},{"$f":"IF(OR(C3476=\"\",$I3465=\"NSO\"),\"\",VLOOKUP($A3460,'Result Entry'!$B$9:$DX$108,66,0))","v":0},0,{"$f":"IF(OR(C3476=\"\",$I3465=\"NSO\"),\"\",VLOOKUP($A3460,'Result Entry'!$B$9:$DX$108,67,0))","v":0},0,null,{"$f":"IF(OR(C3476=\"\",$I3465=\"NSO\"),\"\",VLOOKUP($A3460,'Result Entry'!$B$9:$DX$108,73,0))","v":""}]
[null,"◐","Max. Marks",{"$nulls":4},{"$f":"'Result Entry'!$AS$7","v":50},50,{"$f":"'Result Entry'!$AW$7","v":50},100,null,"A/B/C/D/E"]
[null,"◐",{"$f":"'Result Entry'!$AM$3","v":"English"},{"$nulls":4},{"$f":"IF(OR(C3478=\"\",$I3465=\"NSO\"),\"\",VLOOKUP($A3460,'Result Entry'!$B$9:$DX$108,44,0))","v":0},0,{"$f":"IF(OR(C3478=\"\",$I3465=\"NSO\"),\"\",VLOOKUP($A3460,'Result Entry'!$B$9:$DX$108,48,0))","v":0},0,null,{"$f":"IF(OR(C3478=\"\",$I3465=\"NSO\"),\"\",VLOOKUP($A3460,'Result Entry'!$B$9:$DX$108,51,0))","v":""}]
[null,"◐"]
[null,"◐","Overall Result",null,null,"Total Max. Marks",null,"Total Obtained Marks",null,"Percentage","Overall Grade","Result","Position in Class"]
[null,"◐",{"$nulls":3},{"$f":"IF(OR($I3465=\"\",$I3465=\"NSO\"),\"\",VLOOKUP($A3460,'Result Entry'!$B$9:$DX$108,101,0))","v":500},null,{"$f":"IF(OR($I3465=\"\",$I3465=\"NSO\"),\"\",VLOOKUP($A3460,'Result Entry'!$B$9:$DX$108,102,0))","v":0},null,{"$f":"IF(OR($I3465=\"\",$I3465=\"NSO\"),\"\",VLOOKUP($A3460,'Result Entry'!$B$9:$DX$108,103,0))","v":{"v":0,"d":"0.00"}},{"$f":"IF(OR($I3465=\"\",$I3465=\"NSO\"),\"\",VLOOKUP($A3460,'Result Entry'!$B$9:$DX$108,104,0))","v":""},{"$f":"IF(OR($I3465=\"\",$I3465=\"NSO\"),\"\",VLOOKUP($A3460,'Result Entry'!$B$9:$DX$108,105,0))","v":""},{"$f":"IF(OR($I3465=\"\",$I3465=\"NSO\"),\"\",VLOOKUP($A3460,'Result Entry'!$B$9:$DX$108,107,0))","v":""}]
[null,"◐",{"$nulls":6},"Total Meetings :-",null,{"$f":"IF(OR($I3465=\"\",$I3465=\"NSO\"),\"\",VLOOKUP($A3460,'Result Entry'!$B$9:$DX$108,98,0))","v":0},"Attedance %"]
[null,"◐","Extra Subjects",{"$nulls":5},"Student's Meetings :-",null,{"$f":"IF(OR($I3465=\"\",$I3465=\"NSO\"),\"\",VLOOKUP($A3460,'Result Entry'!$B$9:$DX$108,99,0))","v":0},{"$f":"IF(OR($I3465=\"\",$I3465=\"NSO\"),\"\",VLOOKUP($A3460,'Result Entry'!$B$9:$DX$108,100,0))","v":""}]
[null,"◐","Subject",null,null,"Total Marks",null,"GRADE","Remark :-",null,{"$f":"IF(OR($I3465=\"\",$I3465=\"NSO\"),\"\",VLOOKUP($A3460,'Result Entry'!$B$9:$DX$108,108,0))","v":0}]
[null,"◐",{"$nulls":6},"Result Date :-",null,{"$f":"'Result Entry'!$T$2","v":"2023-05-24"}]
[null,"◐",{"$f":"'Result Entry'!$BW$3","v":"WORK EXP."},null,null,{"$f":"IF(OR(C3486=\"\",$I3465=\"NSO\"),\"\",VLOOKUP($A3460,'Result Entry'!$B$9:$DX$108,119,0))","v":"0/50"},null,{"$f":"IF(OR(C3486=\"\",$I3465=\"NSO\"),\"\",VLOOKUP($A3460,'Result Entry'!$B$9:$DX$108,81,0))","v":""}]
[null,null,{"$f":"'Result Entry'!$CE$3","v":"ART EDU."},null,null,{"$f":"IF(OR(C3487=\"\",$I3465=\"NSO\"),\"\",VLOOKUP($A3460,'Result Entry'!$B$9:$DX$108,123,0))","v":"0/50"},null,{"$f":"IF(OR(C3487=\"\",$I3465=\"NSO\"),\"\",VLOOKUP($A3460,'Result Entry'!$B$9:$DX$108,89,0))","v":""}]
[null,"◐",{"$f":"'Result Entry'!$CM$3","v":"H&P. EDU."},null,null,{"$f":"IF(OR(C3488=\"\",$I3465=\"NSO\"),\"\",VLOOKUP($A3460,'Result Entry'!$B$9:$DX$108,127,0))","v":"0/100"},null,{"$f":"IF(OR(C3488=\"\",$I3465=\"NSO\"),\"\",VLOOKUP($A3460,'Result Entry'!$B$9:$DX$108,97,0))","v":""},"Signature Of The Class Teacher"]
[null,"◐","Grading System"]
[null,"◐","Grd.","% Range",null,"Description"]
[null,"◐","A","86-100",null,"Excellent",null,null,"Signature And Seal Of Principal/H.M."]
[null,"◐","B","71-85",null,"Very Good"]
[null,"◐","C","51-70",null,"Good"]
[null,"◐","D","31-50",null,"Average"]
[null,"◐","E","0-30",null,"Needs Improvement",null,null,"Wish bright future"]
[]
[]
[{"$f":"A3460+1","v":93},"Department Of Education, Rajasthan"]
[null,{"$f":"IF(I3503>0,CONCATENATE(C3503,I3503),0)","v":0},null,{"$f":"Master!$E$8","v":"Govt.Sr.Sec.Sch. "}]
[{"$nulls":3},{"$f":"Master!$E$11","v":"P.S.-Bapini (Jodhpur)"}]
[null,null,"Report Card",{"$nulls":6},"U-DISE Code:-",null,{"$f":"Master!$E$14","v":{"v":810000000,"d":"0810000000"}}]
[{"$nulls":9},"Session:-",null,{"$f":"Master!$E$6","v":"2022-23"}]
[null,null,"Roll No.:-",{"$nulls":5},{"$f":"VLOOKUP($A3498,'Result Entry'!$B$9:$F$108,5,0)","v":0}]
[null,"◐","Scholar Number",{"$nulls":3},"↠",{"$f":"VLOOKUP($A3498,'Result Entry'!$B$9:$DX$108,3,0)","v":0}]
[null,"◐","Student's Name",{"$nulls":3},"↠",{"$f":"VLOOKUP($A3498,'Result Entry'!$B$9:$DX$108,6,0)","v":0}]
[null,"◐","Father's Name",{"$nulls":3},"↠",{"$f":"VLOOKUP($A3498,'Result Entry'!$B$9:$DX$108,7,0)","v":0}]
[null,"◐","Mother's Name ",{"$nulls":3},"↠",{"$f":"VLOOKUP($A3498,'Result Entry'!$B$9:$DX$108,8,0)","v":0}]
[null,"◐","Class & Section",{"$nulls":3},"↠",{"$f":"CONCATENATE('Result Entry'!$F$4,'Result Entry'!$I$4)","v":"2(A)"}]
[null,"◐","Date Of Birth",{"$nulls":3},"↠",{"$f":"VLOOKUP($A3498,'Result Entry'!$B$9:$DX$108,9,0)","v":"00:00:00"}]
[null,"◐","Subject",{"$nulls":4},"Half Yearly","Total (T+H.Y.)","Yearly","Grand Total",null,"Subject Grade"]
[null,"◐","Max. Marks",{"$nulls":4},{"$f":"'Result Entry'!$Q$7","v":100},{"$f":"G3511+H3511","v":100},{"$f":"'Result Entry'!$U$7","v":100},{"$f":"I3511+J3511","v":200},null,"A/B/C/D/E"]
[null,"◐",{"$f":"'Result Entry'!$K$3","v":"Hindi"},{"$nulls":4},{"$f":"IF(OR(C3512=\"\",$I3503=\"NSO\"),\"\",VLOOKUP($A3498,'Result Entry'!$B$9:$DX$108,16,0))","v":0},{"$f":"SUM(G3512,H3512)","v":0},{"$f":"IF(OR(C3512=\"\",$I3503=\"NSO\"),\"\",VLOOKUP($A3498,'Result Entry'!$B$9:$DX$108,20,0))","v":0},{"$f":"SUM(I3512,J3512)","v":0},null,{"$f":"IF(OR(C3512=\"\",$I3503=\"NSO\"),\"\",VLOOKUP($A3498,'Result Entry'!$B$9:$DX$108,23,0))","v":""}]
[null,"◐",{"$f":"'Result Entry'!$Y$3","v":"Mathematics"},{"$nulls":4},{"$f":"IF(OR(C3513=\"\",$I3503=\"NSO\"),\"\",VLOOKUP($A3498,'Result Entry'!$B$9:$DX$108,30,0))","v":0},{"$f":"SUM(G3513,H3513)","v":0},{"$f":"IF(OR(C3513=\"\",$I3503=\"NSO\"),\"\",VLOOKUP($A3498,'Result Entry'!$B$9:$DX$108,34,0))","v":0},{"$f":"SUM(I3513,J3513)","v":0},null,{"$f":"IF(OR(C3513=\"\",$I3503=\"NSO\"),\"\",VLOOKUP($A3498,'Result Entry'!$B$9:$DX$108,37,0))","v":""}]
[null,"◐",{"$f":"'Result Entry'!$BO$3","v":"Env. Study"},{"$nulls":4},{"$f":"IF(OR(C3514=\"\",$I3503=\"NSO\"),\"\",VLOOKUP($A3498,'Result Entry'!$B$9:$DX$108,66,0))","v":0},0,{"$f":"IF(OR(C3514=\"\",$I3503=\"NSO\"),\"\",VLOOKUP($A3498,'Result Entry'!$B$9:$DX$108,67,0))","v":0},0,null,{"$f":"IF(OR(C3514=\"\",$I3503=\"NSO\"),\"\",VLOOKUP($A3498,'Result Entry'!$B$9:$DX$108,73,0))","v":""}]
[null,"◐","Max. Marks",{"$nulls":4},{"$f":"'Result Entry'!$AS$7","v":50},50,{"$f":"'Result Entry'!$AW$7","v":50},100,null,"A/B/C/D/E"]
[null,"◐",{"$f":"'Result Entry'!$AM$3","v":"English"},{"$nulls":4},{"$f":"IF(OR(C3516=\"\",$I3503=\"NSO\"),\"\",VLOOKUP($A3498,'Result Entry'!$B$9:$DX$108,44,0))","v":0},0,{"$f":"IF(OR(C3516=\"\",$I3503=\"NSO\"),\"\",VLOOKUP($A3498,'Result Entry'!$B$9:$DX$108,48,0))","v":0},0,null,{"$f":"IF(OR(C3516=\"\",$I3503=\"NSO\"),\"\",VLOOKUP($A3498,'Result Entry'!$B$9:$DX$108,51,0))","v":""}]
[null,"◐"]
[null,"◐","Overall Result",null,null,"Total Max. Marks",null,"Total Obtained Marks",null,"Percentage","Overall Grade","Result","Position in Class"]
[null,"◐",{"$nulls":3},{"$f":"IF(OR($I3503=\"\",$I3503=\"NSO\"),\"\",VLOOKUP($A3498,'Result Entry'!$B$9:$DX$108,101,0))","v":500},null,{"$f":"IF(OR($I3503=\"\",$I3503=\"NSO\"),\"\",VLOOKUP($A3498,'Result Entry'!$B$9:$DX$108,102,0))","v":0},null,{"$f":"IF(OR($I3503=\"\",$I3503=\"NSO\"),\"\",VLOOKUP($A3498,'Result Entry'!$B$9:$DX$108,103,0))","v":{"v":0,"d":"0.00"}},{"$f":"IF(OR($I3503=\"\",$I3503=\"NSO\"),\"\",VLOOKUP($A3498,'Result Entry'!$B$9:$DX$108,104,0))","v":""},{"$f":"IF(OR($I3503=\"\",$I3503=\"NSO\"),\"\",VLOOKUP($A3498,'Result Entry'!$B$9:$DX$108,105,0))","v":""},{"$f":"IF(OR($I3503=\"\",$I3503=\"NSO\"),\"\",VLOOKUP($A3498,'Result Entry'!$B$9:$DX$108,107,0))","v":""}]
[null,"◐",{"$nulls":6},"Total Meetings :-",null,{"$f":"IF(OR($I3503=\"\",$I3503=\"NSO\"),\"\",VLOOKUP($A3498,'Result Entry'!$B$9:$DX$108,98,0))","v":0},"Attedance %"]
[null,"◐","Extra Subjects",{"$nulls":5},"Student's Meetings :-",null,{"$f":"IF(OR($I3503=\"\",$I3503=\"NSO\"),\"\",VLOOKUP($A3498,'Result Entry'!$B$9:$DX$108,99,0))","v":0},{"$f":"IF(OR($I3503=\"\",$I3503=\"NSO\"),\"\",VLOOKUP($A3498,'Result Entry'!$B$9:$DX$108,100,0))","v":""}]
[null,"◐","Subject",null,null,"Total Marks",null,"GRADE","Remark :-",null,{"$f":"IF(OR($I3503=\"\",$I3503=\"NSO\"),\"\",VLOOKUP($A3498,'Result Entry'!$B$9:$DX$108,108,0))","v":0}]
[null,"◐",{"$nulls":6},"Result Date :-",null,{"$f":"'Result Entry'!$T$2","v":"2023-05-24"}]
[null,"◐",{"$f":"'Result Entry'!$BW$3","v":"WORK EXP."},null,null,{"$f":"IF(OR(C3524=\"\",$I3503=\"NSO\"),\"\",VLOOKUP($A3498,'Result Entry'!$B$9:$DX$108,119,0))","v":"0/50"},null,{"$f":"IF(OR(C3524=\"\",$I3503=\"NSO\"),\"\",VLOOKUP($A3498,'Result Entry'!$B$9:$DX$108,81,0))","v":""}]
[null,null,{"$f":"'Result Entry'!$CE$3","v":"ART EDU."},null,null,{"$f":"IF(OR(C3525=\"\",$I3503=\"NSO\"),\"\",VLOOKUP($A3498,'Result Entry'!$B$9:$DX$108,123,0))","v":"0/50"},null,{"$f":"IF(OR(C3525=\"\",$I3503=\"NSO\"),\"\",VLOOKUP($A3498,'Result Entry'!$B$9:$DX$108,89,0))","v":""}]
[null,"◐",{"$f":"'Result Entry'!$CM$3","v":"H&P. EDU."},null,null,{"$f":"IF(OR(C3526=\"\",$I3503=\"NSO\"),\"\",VLOOKUP($A3498,'Result Entry'!$B$9:$DX$108,127,0))","v":"0/100"},null,{"$f":"IF(OR(C3526=\"\",$I3503=\"NSO\"),\"\",VLOOKUP($A3498,'Result Entry'!$B$9:$DX$108,97,0))","v":""},"Signature Of The Class Teacher"]
[null,"◐","Grading System"]
[null,"◐","Grd.","% Range",null,"Description"]
[null,"◐","A","86-100",null,"Excellent",null,null,"Signature And Seal Of Principal/H.M."]
[null,"◐","B","71-85",null,"Very Good"]
[null,"◐","C","51-70",null,"Good"]
[null,"◐","D","31-50",null,"Average"]
[null,"◐","E","0-30",null,"Needs Improvement",null,null,"Wish bright future"]
[]
[]
[{"$f":"A3498+1","v":94},"Department Of Education, Rajasthan"]
[null,{"$f":"IF(I3541>0,CONCATENATE(C3541,I3541),0)","v":0},null,{"$f":"Master!$E$8","v":"Govt.Sr.Sec.Sch. "}]
[{"$nulls":3},{"$f":"Master!$E$11","v":"P.S.-Bapini (Jodhpur)"}]
[null,null,"Report Card",{"$nulls":6},"U-DISE Code:-",null,{"$f":"Master!$E$14","v":{"v":810000000,"d":"0810000000"}}]
[{"$nulls":9},"Session:-",null,{"$f":"Master!$E$6","v":"2022-23"}]
[null,null,"Roll No.:-",{"$nulls":5},{"$f":"VLOOKUP($A3536,'Result Entry'!$B$9:$F$108,5,0)","v":0}]
[null,"◐","Scholar Number",{"$nulls":3},"↠",{"$f":"VLOOKUP($A3536,'Result Entry'!$B$9:$DX$108,3,0)","v":0}]
[null,"◐","Student's Name",{"$nulls":3},"↠",{"$f":"VLOOKUP($A3536,'Result Entry'!$B$9:$DX$108,6,0)","v":0}]
[null,"◐","Father's Name",{"$nulls":3},"↠",{"$f":"VLOOKUP($A3536,'Result Entry'!$B$9:$DX$108,7,0)","v":0}]
[null,"◐","Mother's Name ",{"$nulls":3},"↠",{"$f":"VLOOKUP($A3536,'Result Entry'!$B$9:$DX$108,8,0)","v":0}]
[null,"◐","Class & Section",{"$nulls":3},"↠",{"$f":"CONCATENATE('Result Entry'!$F$4,'Result Entry'!$I$4)","v":"2(A)"}]
[null,"◐","Date Of Birth",{"$nulls":3},"↠",{"$f":"VLOOKUP($A3536,'Result Entry'!$B$9:$DX$108,9,0)","v":"00:00:00"}]
[null,"◐","Subject",{"$nulls":4},"Half Yearly","Total (T+H.Y.)","Yearly","Grand Total",null,"Subject Grade"]
[null,"◐","Max. Marks",{"$nulls":4},{"$f":"'Result Entry'!$Q$7","v":100},{"$f":"G3549+H3549","v":100},{"$f":"'Result Entry'!$U$7","v":100},{"$f":"I3549+J3549","v":200},null,"A/B/C/D/E"]
[null,"◐",{"$f":"'Result Entry'!$K$3","v":"Hindi"},{"$nulls":4},{"$f":"IF(OR(C3550=\"\",$I3541=\"NSO\"),\"\",VLOOKUP($A3536,'Result Entry'!$B$9:$DX$108,16,0))","v":0},{"$f":"SUM(G3550,H3550)","v":0},{"$f":"IF(OR(C3550=\"\",$I3541=\"NSO\"),\"\",VLOOKUP($A3536,'Result Entry'!$B$9:$DX$108,20,0))","v":0},{"$f":"SUM(I3550,J3550)","v":0},null,{"$f":"IF(OR(C3550=\"\",$I3541=\"NSO\"),\"\",VLOOKUP($A3536,'Result Entry'!$B$9:$DX$108,23,0))","v":""}]
[null,"◐",{"$f":"'Result Entry'!$Y$3","v":"Mathematics"},{"$nulls":4},{"$f":"IF(OR(C3551=\"\",$I3541=\"NSO\"),\"\",VLOOKUP($A3536,'Result Entry'!$B$9:$DX$108,30,0))","v":0},{"$f":"SUM(G3551,H3551)","v":0},{"$f":"IF(OR(C3551=\"\",$I3541=\"NSO\"),\"\",VLOOKUP($A3536,'Result Entry'!$B$9:$DX$108,34,0))","v":0},{"$f":"SUM(I3551,J3551)","v":0},null,{"$f":"IF(OR(C3551=\"\",$I3541=\"NSO\"),\"\",VLOOKUP($A3536,'Result Entry'!$B$9:$DX$108,37,0))","v":""}]
[null,"◐",{"$f":"'Result Entry'!$BO$3","v":"Env. Study"},{"$nulls":4},{"$f":"IF(OR(C3552=\"\",$I3541=\"NSO\"),\"\",VLOOKUP($A3536,'Result Entry'!$B$9:$DX$108,66,0))","v":0},0,{"$f":"IF(OR(C3552=\"\",$I3541=\"NSO\"),\"\",VLOOKUP($A3536,'Result Entry'!$B$9:$DX$108,67,0))","v":0},0,null,{"$f":"IF(OR(C3552=\"\",$I3541=\"NSO\"),\"\",VLOOKUP($A3536,'Result Entry'!$B$9:$DX$108,73,0))","v":""}]
[null,"◐","Max. Marks",{"$nulls":4},{"$f":"'Result Entry'!$AS$7","v":50},50,{"$f":"'Result Entry'!$AW$7","v":50},100,null,"A/B/C/D/E"]
[null,"◐",{"$f":"'Result Entry'!$AM$3","v":"English"},{"$nulls":4},{"$f":"IF(OR(C3554=\"\",$I3541=\"NSO\"),\"\",VLOOKUP($A3536,'Result Entry'!$B$9:$DX$108,44,0))","v":0},0,{"$f":"IF(OR(C3554=\"\",$I3541=\"NSO\"),\"\",VLOOKUP($A3536,'Result Entry'!$B$9:$DX$108,48,0))","v":0},0,null,{"$f":"IF(OR(C3554=\"\",$I3541=\"NSO\"),\"\",VLOOKUP($A3536,'Result Entry'!$B$9:$DX$108,51,0))","v":""}]
[null,"◐"]
[null,"◐","Overall Result",null,null,"Total Max. Marks",null,"Total Obtained Marks",null,"Percentage","Overall Grade","Result","Position in Class"]
[null,"◐",{"$nulls":3},{"$f":"IF(OR($I3541=\"\",$I3541=\"NSO\"),\"\",VLOOKUP($A3536,'Result Entry'!$B$9:$DX$108,101,0))","v":500},null,{"$f":"IF(OR($I3541=\"\",$I3541=\"NSO\"),\"\",VLOOKUP($A3536,'Result Entry'!$B$9:$DX$108,102,0))","v":0},null,{"$f":"IF(OR($I3541=\"\",$I3541=\"NSO\"),\"\",VLOOKUP($A3536,'Result Entry'!$B$9:$DX$108,103,0))","v":{"v":0,"d":"0.00"}},{"$f":"IF(OR($I3541=\"\",$I3541=\"NSO\"),\"\",VLOOKUP($A3536,'Result Entry'!$B$9:$DX$108,104,0))","v":""},{"$f":"IF(OR($I3541=\"\",$I3541=\"NSO\"),\"\",VLOOKUP($A3536,'Result Entry'!$B$9:$DX$108,105,0))","v":""},{"$f":"IF(OR($I3541=\"\",$I3541=\"NSO\"),\"\",VLOOKUP($A3536,'Result Entry'!$B$9:$DX$108,107,0))","v":""}]
[null,"◐",{"$nulls":6},"Total Meetings :-",null,{"$f":"IF(OR($I3541=\"\",$I3541=\"NSO\"),\"\",VLOOKUP($A3536,'Result Entry'!$B$9:$DX$108,98,0))","v":0},"Attedance %"]
[null,"◐","Extra Subjects",{"$nulls":5},"Student's Meetings :-",null,{"$f":"IF(OR($I3541=\"\",$I3541=\"NSO\"),\"\",VLOOKUP($A3536,'Result Entry'!$B$9:$DX$108,99,0))","v":0},{"$f":"IF(OR($I3541=\"\",$I3541=\"NSO\"),\"\",VLOOKUP($A3536,'Result Entry'!$B$9:$DX$108,100,0))","v":""}]
[null,"◐","Subject",null,null,"Total Marks",null,"GRADE","Remark :-",null,{"$f":"IF(OR($I3541=\"\",$I3541=\"NSO\"),\"\",VLOOKUP($A3536,'Result Entry'!$B$9:$DX$108,108,0))","v":0}]
[null,"◐",{"$nulls":6},"Result Date :-",null,{"$f":"'Result Entry'!$T$2","v":"2023-05-24"}]
[null,"◐",{"$f":"'Result Entry'!$BW$3","v":"WORK EXP."},null,null,{"$f":"IF(OR(C3562=\"\",$I3541=\"NSO\"),\"\",VLOOKUP($A3536,'Result Entry'!$B$9:$DX$108,119,0))","v":"0/50"},null,{"$f":"IF(OR(C3562=\"\",$I3541=\"NSO\"),\"\",VLOOKUP($A3536,'Result Entry'!$B$9:$DX$108,81,0))","v":""}]
[null,null,{"$f":"'Result Entry'!$CE$3","v":"ART EDU."},null,null,{"$f":"IF(OR(C3563=\"\",$I3541=\"NSO\"),\"\",VLOOKUP($A3536,'Result Entry'!$B$9:$DX$108,123,0))","v":"0/50"},null,{"$f":"IF(OR(C3563=\"\",$I3541=\"NSO\"),\"\",VLOOKUP($A3536,'Result Entry'!$B$9:$DX$108,89,0))","v":""}]
[null,"◐",{"$f":"'Result Entry'!$CM$3","v":"H&P. EDU."},null,null,{"$f":"IF(OR(C3564=\"\",$I3541=\"NSO\"),\"\",VLOOKUP($A3536,'Result Entry'!$B$9:$DX$108,127,0))","v":"0/100"},null,{"$f":"IF(OR(C3564=\"\",$I3541=\"NSO\"),\"\",VLOOKUP($A3536,'Result Entry'!$B$9:$DX$108,97,0))","v":""},"Signature Of The Class Teacher"]
[null,"◐","Grading System"]
[null,"◐","Grd.","% Range",null,"Description"]
[null,"◐","A","86-100",null,"Excellent",null,null,"Signature And Seal Of Principal/H.M."]
[null,"◐","B","71-85",null,"Very Good"]
[null,"◐","C","51-70",null,"Good"]
[null,"◐","D","31-50",null,"Average"]
[null,"◐","E","0-30",null,"Needs Improvement",null,null,"Wish bright future"]
[]
[]
[{"$f":"A3536+1","v":95},"Department Of Education, Rajasthan"]
[null,{"$f":"IF(I3579>0,CONCATENATE(C3579,I3579),0)","v":0},null,{"$f":"Master!$E$8","v":"Govt.Sr.Sec.Sch. "}]
[{"$nulls":3},{"$f":"Master!$E$11","v":"P.S.-Bapini (Jodhpur)"}]
[null,null,"Report Card",{"$nulls":6},"U-DISE Code:-",null,{"$f":"Master!$E$14","v":{"v":810000000,"d":"0810000000"}}]
[{"$nulls":9},"Session:-",null,{"$f":"Master!$E$6","v":"2022-23"}]
[null,null,"Roll No.:-",{"$nulls":5},{"$f":"VLOOKUP($A3574,'Result Entry'!$B$9:$F$108,5,0)","v":0}]
[null,"◐","Scholar Number",{"$nulls":3},"↠",{"$f":"VLOOKUP($A3574,'Result Entry'!$B$9:$DX$108,3,0)","v":0}]
[null,"◐","Student's Name",{"$nulls":3},"↠",{"$f":"VLOOKUP($A3574,'Result Entry'!$B$9:$DX$108,6,0)","v":0}]
[null,"◐","Father's Name",{"$nulls":3},"↠",{"$f":"VLOOKUP($A3574,'Result Entry'!$B$9:$DX$108,7,0)","v":0}]
[null,"◐","Mother's Name ",{"$nulls":3},"↠",{"$f":"VLOOKUP($A3574,'Result Entry'!$B$9:$DX$108,8,0)","v":0}]
[null,"◐","Class & Section",{"$nulls":3},"↠",{"$f":"CONCATENATE('Result Entry'!$F$4,'Result Entry'!$I$4)","v":"2(A)"}]
[null,"◐","Date Of Birth",{"$nulls":3},"↠",{"$f":"VLOOKUP($A3574,'Result Entry'!$B$9:$DX$108,9,0)","v":"00:00:00"}]
[null,"◐","Subject",{"$nulls":4},"Half Yearly","Total (T+H.Y.)","Yearly","Grand Total",null,"Subject Grade"]
[null,"◐","Max. Marks",{"$nulls":4},{"$f":"'Result Entry'!$Q$7","v":100},{"$f":"G3587+H3587","v":100},{"$f":"'Result Entry'!$U$7","v":100},{"$f":"I3587+J3587","v":200},null,"A/B/C/D/E"]
[null,"◐",{"$f":"'Result Entry'!$K$3","v":"Hindi"},{"$nulls":4},{"$f":"IF(OR(C3588=\"\",$I3579=\"NSO\"),\"\",VLOOKUP($A3574,'Result Entry'!$B$9:$DX$108,16,0))","v":0},{"$f":"SUM(G3588,H3588)","v":0},{"$f":"IF(OR(C3588=\"\",$I3579=\"NSO\"),\"\",VLOOKUP($A3574,'Result Entry'!$B$9:$DX$108,20,0))","v":0},{"$f":"SUM(I3588,J3588)","v":0},null,{"$f":"IF(OR(C3588=\"\",$I3579=\"NSO\"),\"\",VLOOKUP($A3574,'Result Entry'!$B$9:$DX$108,23,0))","v":""}]
[null,"◐",{"$f":"'Result Entry'!$Y$3","v":"Mathematics"},{"$nulls":4},{"$f":"IF(OR(C3589=\"\",$I3579=\"NSO\"),\"\",VLOOKUP($A3574,'Result Entry'!$B$9:$DX$108,30,0))","v":0},{"$f":"SUM(G3589,H3589)","v":0},{"$f":"IF(OR(C3589=\"\",$I3579=\"NSO\"),\"\",VLOOKUP($A3574,'Result Entry'!$B$9:$DX$108,34,0))","v":0},{"$f":"SUM(I3589,J3589)","v":0},null,{"$f":"IF(OR(C3589=\"\",$I3579=\"NSO\"),\"\",VLOOKUP($A3574,'Result Entry'!$B$9:$DX$108,37,0))","v":""}]
[null,"◐",{"$f":"'Result Entry'!$BO$3","v":"Env. Study"},{"$nulls":4},{"$f":"IF(OR(C3590=\"\",$I3579=\"NSO\"),\"\",VLOOKUP($A3574,'Result Entry'!$B$9:$DX$108,66,0))","v":0},0,{"$f":"IF(OR(C3590=\"\",$I3579=\"NSO\"),\"\",VLOOKUP($A3574,'Result Entry'!$B$9:$DX$108,67,0))","v":0},0,null,{"$f":"IF(OR(C3590=\"\",$I3579=\"NSO\"),\"\",VLOOKUP($A3574,'Result Entry'!$B$9:$DX$108,73,0))","v":""}]
[null,"◐","Max. Marks",{"$nulls":4},{"$f":"'Result Entry'!$AS$7","v":50},50,{"$f":"'Result Entry'!$AW$7","v":50},100,null,"A/B/C/D/E"]
[null,"◐",{"$f":"'Result Entry'!$AM$3","v":"English"},{"$nulls":4},{"$f":"IF(OR(C3592=\"\",$I3579=\"NSO\"),\"\",VLOOKUP($A3574,'Result Entry'!$B$9:$DX$108,44,0))","v":0},0,{"$f":"IF(OR(C3592=\"\",$I3579=\"NSO\"),\"\",VLOOKUP($A3574,'Result Entry'!$B$9:$DX$108,48,0))","v":0},0,null,{"$f":"IF(OR(C3592=\"\",$I3579=\"NSO\"),\"\",VLOOKUP($A3574,'Result Entry'!$B$9:$DX$108,51,0))","v":""}]
[null,"◐"]
[null,"◐","Overall Result",null,null,"Total Max. Marks",null,"Total Obtained Marks",null,"Percentage","Overall Grade","Result","Position in Class"]
[null,"◐",{"$nulls":3},{"$f":"IF(OR($I3579=\"\",$I3579=\"NSO\"),\"\",VLOOKUP($A3574,'Result Entry'!$B$9:$DX$108,101,0))","v":500},null,{"$f":"IF(OR($I3579=\"\",$I3579=\"NSO\"),\"\",VLOOKUP($A3574,'Result Entry'!$B$9:$DX$108,102,0))","v":0},null,{"$f":"IF(OR($I3579=\"\",$I3579=\"NSO\"),\"\",VLOOKUP($A3574,'Result Entry'!$B$9:$DX$108,103,0))","v":{"v":0,"d":"0.00"}},{"$f":"IF(OR($I3579=\"\",$I3579=\"NSO\"),\"\",VLOOKUP($A3574,'Result Entry'!$B$9:$DX$108,104,0))","v":""},{"$f":"IF(OR($I3579=\"\",$I3579=\"NSO\"),\"\",VLOOKUP($A3574,'Result Entry'!$B$9:$DX$108,105,0))","v":""},{"$f":"IF(OR($I3579=\"\",$I3579=\"NSO\"),\"\",VLOOKUP($A3574,'Result Entry'!$B$9:$DX$108,107,0))","v":""}]
[null,"◐",{"$nulls":6},"Total Meetings :-",null,{"$f":"IF(OR($I3579=\"\",$I3579=\"NSO\"),\"\",VLOOKUP($A3574,'Result Entry'!$B$9:$DX$108,98,0))","v":0},"Attedance %"]
[null,"◐","Extra Subjects",{"$nulls":5},"Student's Meetings :-",null,{"$f":"IF(OR($I3579=\"\",$I3579=\"NSO\"),\"\",VLOOKUP($A3574,'Result Entry'!$B$9:$DX$108,99,0))","v":0},{"$f":"IF(OR($I3579=\"\",$I3579=\"NSO\"),\"\",VLOOKUP($A3574,'Result Entry'!$B$9:$DX$108,100,0))","v":""}]
[null,"◐","Subject",null,null,"Total Marks",null,"GRADE","Remark :-",null,{"$f":"IF(OR($I3579=\"\",$I3579=\"NSO\"),\"\",VLOOKUP($A3574,'Result Entry'!$B$9:$DX$108,108,0))","v":0}]
[null,"◐",{"$nulls":6},"Result Date :-",null,{"$f":"'Result Entry'!$T$2","v":"2023-05-24"}]
[null,"◐",{"$f":"'Result Entry'!$BW$3","v":"WORK EXP."},null,null,{"$f":"IF(OR(C3600=\"\",$I3579=\"NSO\"),\"\",VLOOKUP($A3574,'Result Entry'!$B$9:$DX$108,119,0))","v":"0/50"},null,{"$f":"IF(OR(C3600=\"\",$I3579=\"NSO\"),\"\",VLOOKUP($A3574,'Result Entry'!$B$9:$DX$108,81,0))","v":""}]
[null,null,{"$f":"'Result Entry'!$CE$3","v":"ART EDU."},null,null,{"$f":"IF(OR(C3601=\"\",$I3579=\"NSO\"),\"\",VLOOKUP($A3574,'Result Entry'!$B$9:$DX$108,123,0))","v":"0/50"},null,{"$f":"IF(OR(C3601=\"\",$I3579=\"NSO\"),\"\",VLOOKUP($A3574,'Result Entry'!$B$9:$DX$108,89,0))","v":""}]
[null,"◐",{"$f":"'Result Entry'!$CM$3","v":"H&P. EDU."},null,null,{"$f":"IF(OR(C3602=\"\",$I3579=\"NSO\"),\"\",VLOOKUP($A3574,'Result Entry'!$B$9:$DX$108,127,0))","v":"0/100"},null,{"$f":"IF(OR(C3602=\"\",$I3579=\"NSO\"),\"\",VLOOKUP($A3574,'Result Entry'!$B$9:$DX$108,97,0))","v":""},"Signature Of The Class Teacher"]
[null,"◐","Grading System"]
[null,"◐","Grd.","% Range",null,"Description"]
[null,"◐","A","86-100",null,"Excellent",null,null,"Signature And Seal Of Principal/H.M."]
[null,"◐","B","71-85",null,"Very Good"]
[null,"◐","C","51-70",null,"Good"]
[null,"◐","D","31-50",null,"Average"]
[null,"◐","E","0-30",null,"Needs Improvement",null,null,"Wish bright future"]
[]
[]
[{"$f":"A3574+1","v":96},"Department Of Education, Rajasthan"]
[null,{"$f":"IF(I3617>0,CONCATENATE(C3617,I3617),0)","v":0},null,{"$f":"Master!$E$8","v":"Govt.Sr.Sec.Sch. "}]
[{"$nulls":3},{"$f":"Master!$E$11","v":"P.S.-Bapini (Jodhpur)"}]
[null,null,"Report Card",{"$nulls":6},"U-DISE Code:-",null,{"$f":"Master!$E$14","v":{"v":810000000,"d":"0810000000"}}]
[{"$nulls":9},"Session:-",null,{"$f":"Master!$E$6","v":"2022-23"}]
[null,null,"Roll No.:-",{"$nulls":5},{"$f":"VLOOKUP($A3612,'Result Entry'!$B$9:$F$108,5,0)","v":0}]
[null,"◐","Scholar Number",{"$nulls":3},"↠",{"$f":"VLOOKUP($A3612,'Result Entry'!$B$9:$DX$108,3,0)","v":0}]
[null,"◐","Student's Name",{"$nulls":3},"↠",{"$f":"VLOOKUP($A3612,'Result Entry'!$B$9:$DX$108,6,0)","v":0}]
[null,"◐","Father's Name",{"$nulls":3},"↠",{"$f":"VLOOKUP($A3612,'Result Entry'!$B$9:$DX$108,7,0)","v":0}]
[null,"◐","Mother's Name ",{"$nulls":3},"↠",{"$f":"VLOOKUP($A3612,'Result Entry'!$B$9:$DX$108,8,0)","v":0}]
[null,"◐","Class & Section",{"$nulls":3},"↠",{"$f":"CONCATENATE('Result Entry'!$F$4,'Result Entry'!$I$4)","v":"2(A)"}]
[null,"◐","Date Of Birth",{"$nulls":3},"↠",{"$f":"VLOOKUP($A3612,'Result Entry'!$B$9:$DX$108,9,0)","v":"00:00:00"}]
[null,"◐","Subject",{"$nulls":4},"Half Yearly","Total (T+H.Y.)","Yearly","Grand Total",null,"Subject Grade"]
[null,"◐","Max. Marks",{"$nulls":4},{"$f":"'Result Entry'!$Q$7","v":100},{"$f":"G3625+H3625","v":100},{"$f":"'Result Entry'!$U$7","v":100},{"$f":"I3625+J3625","v":200},null,"A/B/C/D/E"]
[null,"◐",{"$f":"'Result Entry'!$K$3","v":"Hindi"},{"$nulls":4},{"$f":"IF(OR(C3626=\"\",$I3617=\"NSO\"),\"\",VLOOKUP($A3612,'Result Entry'!$B$9:$DX$108,16,0))","v":0},{"$f":"SUM(G3626,H3626)","v":0},{"$f":"IF(OR(C3626=\"\",$I3617=\"NSO\"),\"\",VLOOKUP($A3612,'Result Entry'!$B$9:$DX$108,20,0))","v":0},{"$f":"SUM(I3626,J3626)","v":0},null,{"$f":"IF(OR(C3626=\"\",$I3617=\"NSO\"),\"\",VLOOKUP($A3612,'Result Entry'!$B$9:$DX$108,23,0))","v":""}]
[null,"◐",{"$f":"'Result Entry'!$Y$3","v":"Mathematics"},{"$nulls":4},{"$f":"IF(OR(C3627=\"\",$I3617=\"NSO\"),\"\",VLOOKUP($A3612,'Result Entry'!$B$9:$DX$108,30,0))","v":0},{"$f":"SUM(G3627,H3627)","v":0},{"$f":"IF(OR(C3627=\"\",$I3617=\"NSO\"),\"\",VLOOKUP($A3612,'Result Entry'!$B$9:$DX$108,34,0))","v":0},{"$f":"SUM(I3627,J3627)","v":0},null,{"$f":"IF(OR(C3627=\"\",$I3617=\"NSO\"),\"\",VLOOKUP($A3612,'Result Entry'!$B$9:$DX$108,37,0))","v":""}]
[null,"◐",{"$f":"'Result Entry'!$BO$3","v":"Env. Study"},{"$nulls":4},{"$f":"IF(OR(C3628=\"\",$I3617=\"NSO\"),\"\",VLOOKUP($A3612,'Result Entry'!$B$9:$DX$108,66,0))","v":0},0,{"$f":"IF(OR(C3628=\"\",$I3617=\"NSO\"),\"\",VLOOKUP($A3612,'Result Entry'!$B$9:$DX$108,67,0))","v":0},0,null,{"$f":"IF(OR(C3628=\"\",$I3617=\"NSO\"),\"\",VLOOKUP($A3612,'Result Entry'!$B$9:$DX$108,73,0))","v":""}]
[null,"◐","Max. Marks",{"$nulls":4},{"$f":"'Result Entry'!$AS$7","v":50},50,{"$f":"'Result Entry'!$AW$7","v":50},100,null,"A/B/C/D/E"]
[null,"◐",{"$f":"'Result Entry'!$AM$3","v":"English"},{"$nulls":4},{"$f":"IF(OR(C3630=\"\",$I3617=\"NSO\"),\"\",VLOOKUP($A3612,'Result Entry'!$B$9:$DX$108,44,0))","v":0},0,{"$f":"IF(OR(C3630=\"\",$I3617=\"NSO\"),\"\",VLOOKUP($A3612,'Result Entry'!$B$9:$DX$108,48,0))","v":0},0,null,{"$f":"IF(OR(C3630=\"\",$I3617=\"NSO\"),\"\",VLOOKUP($A3612,'Result Entry'!$B$9:$DX$108,51,0))","v":""}]
[null,"◐"]
[null,"◐","Overall Result",null,null,"Total Max. Marks",null,"Total Obtained Marks",null,"Percentage","Overall Grade","Result","Position in Class"]
[null,"◐",{"$nulls":3},{"$f":"IF(OR($I3617=\"\",$I3617=\"NSO\"),\"\",VLOOKUP($A3612,'Result Entry'!$B$9:$DX$108,101,0))","v":500},null,{"$f":"IF(OR($I3617=\"\",$I3617=\"NSO\"),\"\",VLOOKUP($A3612,'Result Entry'!$B$9:$DX$108,102,0))","v":0},null,{"$f":"IF(OR($I3617=\"\",$I3617=\"NSO\"),\"\",VLOOKUP($A3612,'Result Entry'!$B$9:$DX$108,103,0))","v":{"v":0,"d":"0.00"}},{"$f":"IF(OR($I3617=\"\",$I3617=\"NSO\"),\"\",VLOOKUP($A3612,'Result Entry'!$B$9:$DX$108,104,0))","v":""},{"$f":"IF(OR($I3617=\"\",$I3617=\"NSO\"),\"\",VLOOKUP($A3612,'Result Entry'!$B$9:$DX$108,105,0))","v":""},{"$f":"IF(OR($I3617=\"\",$I3617=\"NSO\"),\"\",VLOOKUP($A3612,'Result Entry'!$B$9:$DX$108,107,0))","v":""}]
[null,"◐",{"$nulls":6},"Total Meetings :-",null,{"$f":"IF(OR($I3617=\"\",$I3617=\"NSO\"),\"\",VLOOKUP($A3612,'Result Entry'!$B$9:$DX$108,98,0))","v":0},"Attedance %"]
[null,"◐","Extra Subjects",{"$nulls":5},"Student's Meetings :-",null,{"$f":"IF(OR($I3617=\"\",$I3617=\"NSO\"),\"\",VLOOKUP($A3612,'Result Entry'!$B$9:$DX$108,99,0))","v":0},{"$f":"IF(OR($I3617=\"\",$I3617=\"NSO\"),\"\",VLOOKUP($A3612,'Result Entry'!$B$9:$DX$108,100,0))","v":""}]
[null,"◐","Subject",null,null,"Total Marks",null,"GRADE","Remark :-",null,{"$f":"IF(OR($I3617=\"\",$I3617=\"NSO\"),\"\",VLOOKUP($A3612,'Result Entry'!$B$9:$DX$108,108,0))","v":0}]
[null,"◐",{"$nulls":6},"Result Date :-",null,{"$f":"'Result Entry'!$T$2","v":"2023-05-24"}]
[null,"◐",{"$f":"'Result Entry'!$BW$3","v":"WORK EXP."},null,null,{"$f":"IF(OR(C3638=\"\",$I3617=\"NSO\"),\"\",VLOOKUP($A3612,'Result Entry'!$B$9:$DX$108,119,0))","v":"0/50"},null,{"$f":"IF(OR(C3638=\"\",$I3617=\"NSO\"),\"\",VLOOKUP($A3612,'Result Entry'!$B$9:$DX$108,81,0))","v":""}]
[null,null,{"$f":"'Result Entry'!$CE$3","v":"ART EDU."},null,null,{"$f":"IF(OR(C3639=\"\",$I3617=\"NSO\"),\"\",VLOOKUP($A3612,'Result Entry'!$B$9:$DX$108,123,0))","v":"0/50"},null,{"$f":"IF(OR(C3639=\"\",$I3617=\"NSO\"),\"\",VLOOKUP($A3612,'Result Entry'!$B$9:$DX$108,89,0))","v":""}]
[null,"◐",{"$f":"'Result Entry'!$CM$3","v":"H&P. EDU."},null,null,{"$f":"IF(OR(C3640=\"\",$I3617=\"NSO\"),\"\",VLOOKUP($A3612,'Result Entry'!$B$9:$DX$108,127,0))","v":"0/100"},null,{"$f":"IF(OR(C3640=\"\",$I3617=\"NSO\"),\"\",VLOOKUP($A3612,'Result Entry'!$B$9:$DX$108,97,0))","v":""},"Signature Of The Class Teacher"]
[null,"◐","Grading System"]
[null,"◐","Grd.","% Range",null,"Description"]
[null,"◐","A","86-100",null,"Excellent",null,null,"Signature And Seal Of Principal/H.M."]
[null,"◐","B","71-85",null,"Very Good"]
[null,"◐","C","51-70",null,"Good"]
[null,"◐","D","31-50",null,"Average"]
[null,"◐","E","0-30",null,"Needs Improvement",null,null,"Wish bright future"]
[]
[]
[{"$f":"A3612+1","v":97},"Department Of Education, Rajasthan"]
[null,{"$f":"IF(I3655>0,CONCATENATE(C3655,I3655),0)","v":0},null,{"$f":"Master!$E$8","v":"Govt.Sr.Sec.Sch. "}]
[{"$nulls":3},{"$f":"Master!$E$11","v":"P.S.-Bapini (Jodhpur)"}]
[null,null,"Report Card",{"$nulls":6},"U-DISE Code:-",null,{"$f":"Master!$E$14","v":{"v":810000000,"d":"0810000000"}}]
[{"$nulls":9},"Session:-",null,{"$f":"Master!$E$6","v":"2022-23"}]
[null,null,"Roll No.:-",{"$nulls":5},{"$f":"VLOOKUP($A3650,'Result Entry'!$B$9:$F$108,5,0)","v":0}]
[null,"◐","Scholar Number",{"$nulls":3},"↠",{"$f":"VLOOKUP($A3650,'Result Entry'!$B$9:$DX$108,3,0)","v":0}]
[null,"◐","Student's Name",{"$nulls":3},"↠",{"$f":"VLOOKUP($A3650,'Result Entry'!$B$9:$DX$108,6,0)","v":0}]
[null,"◐","Father's Name",{"$nulls":3},"↠",{"$f":"VLOOKUP($A3650,'Result Entry'!$B$9:$DX$108,7,0)","v":0}]
[null,"◐","Mother's Name ",{"$nulls":3},"↠",{"$f":"VLOOKUP($A3650,'Result Entry'!$B$9:$DX$108,8,0)","v":0}]
[null,"◐","Class & Section",{"$nulls":3},"↠",{"$f":"CONCATENATE('Result Entry'!$F$4,'Result Entry'!$I$4)","v":"2(A)"}]
[null,"◐","Date Of Birth",{"$nulls":3},"↠",{"$f":"VLOOKUP($A3650,'Result Entry'!$B$9:$DX$108,9,0)","v":"00:00:00"}]
[null,"◐","Subject",{"$nulls":4},"Half Yearly","Total (T+H.Y.)","Yearly","Grand Total",null,"Subject Grade"]
[null,"◐","Max. Marks",{"$nulls":4},{"$f":"'Result Entry'!$Q$7","v":100},{"$f":"G3663+H3663","v":100},{"$f":"'Result Entry'!$U$7","v":100},{"$f":"I3663+J3663","v":200},null,"A/B/C/D/E"]
[null,"◐",{"$f":"'Result Entry'!$K$3","v":"Hindi"},{"$nulls":4},{"$f":"IF(OR(C3664=\"\",$I3655=\"NSO\"),\"\",VLOOKUP($A3650,'Result Entry'!$B$9:$DX$108,16,0))","v":0},{"$f":"SUM(G3664,H3664)","v":0},{"$f":"IF(OR(C3664=\"\",$I3655=\"NSO\"),\"\",VLOOKUP($A3650,'Result Entry'!$B$9:$DX$108,20,0))","v":0},{"$f":"SUM(I3664,J3664)","v":0},null,{"$f":"IF(OR(C3664=\"\",$I3655=\"NSO\"),\"\",VLOOKUP($A3650,'Result Entry'!$B$9:$DX$108,23,0))","v":""}]
[null,"◐",{"$f":"'Result Entry'!$Y$3","v":"Mathematics"},{"$nulls":4},{"$f":"IF(OR(C3665=\"\",$I3655=\"NSO\"),\"\",VLOOKUP($A3650,'Result Entry'!$B$9:$DX$108,30,0))","v":0},{"$f":"SUM(G3665,H3665)","v":0},{"$f":"IF(OR(C3665=\"\",$I3655=\"NSO\"),\"\",VLOOKUP($A3650,'Result Entry'!$B$9:$DX$108,34,0))","v":0},{"$f":"SUM(I3665,J3665)","v":0},null,{"$f":"IF(OR(C3665=\"\",$I3655=\"NSO\"),\"\",VLOOKUP($A3650,'Result Entry'!$B$9:$DX$108,37,0))","v":""}]
[null,"◐",{"$f":"'Result Entry'!$BO$3","v":"Env. Study"},{"$nulls":4},{"$f":"IF(OR(C3666=\"\",$I3655=\"NSO\"),\"\",VLOOKUP($A3650,'Result Entry'!$B$9:$DX$108,66,0))","v":0},0,{"$f":"IF(OR(C3666=\"\",$I3655=\"NSO\"),\"\",VLOOKUP($A3650,'Result Entry'!$B$9:$DX$108,67,0))","v":0},0,null,{"$f":"IF(OR(C3666=\"\",$I3655=\"NSO\"),\"\",VLOOKUP($A3650,'Result Entry'!$B$9:$DX$108,73,0))","v":""}]
[null,"◐","Max. Marks",{"$nulls":4},{"$f":"'Result Entry'!$AS$7","v":50},50,{"$f":"'Result Entry'!$AW$7","v":50},100,null,"A/B/C/D/E"]
[null,"◐",{"$f":"'Result Entry'!$AM$3","v":"English"},{"$nulls":4},{"$f":"IF(OR(C3668=\"\",$I3655=\"NSO\"),\"\",VLOOKUP($A3650,'Result Entry'!$B$9:$DX$108,44,0))","v":0},0,{"$f":"IF(OR(C3668=\"\",$I3655=\"NSO\"),\"\",VLOOKUP($A3650,'Result Entry'!$B$9:$DX$108,48,0))","v":0},0,null,{"$f":"IF(OR(C3668=\"\",$I3655=\"NSO\"),\"\",VLOOKUP($A3650,'Result Entry'!$B$9:$DX$108,51,0))","v":""}]
[null,"◐"]
[null,"◐","Overall Result",null,null,"Total Max. Marks",null,"Total Obtained Marks",null,"Percentage","Overall Grade","Result","Position in Class"]
[null,"◐",{"$nulls":3},{"$f":"IF(OR($I3655=\"\",$I3655=\"NSO\"),\"\",VLOOKUP($A3650,'Result Entry'!$B$9:$DX$108,101,0))","v":500},null,{"$f":"IF(OR($I3655=\"\",$I3655=\"NSO\"),\"\",VLOOKUP($A3650,'Result Entry'!$B$9:$DX$108,102,0))","v":0},null,{"$f":"IF(OR($I3655=\"\",$I3655=\"NSO\"),\"\",VLOOKUP($A3650,'Result Entry'!$B$9:$DX$108,103,0))","v":{"v":0,"d":"0.00"}},{"$f":"IF(OR($I3655=\"\",$I3655=\"NSO\"),\"\",VLOOKUP($A3650,'Result Entry'!$B$9:$DX$108,104,0))","v":""},{"$f":"IF(OR($I3655=\"\",$I3655=\"NSO\"),\"\",VLOOKUP($A3650,'Result Entry'!$B$9:$DX$108,105,0))","v":""},{"$f":"IF(OR($I3655=\"\",$I3655=\"NSO\"),\"\",VLOOKUP($A3650,'Result Entry'!$B$9:$DX$108,107,0))","v":""}]
[null,"◐",{"$nulls":6},"Total Meetings :-",null,{"$f":"IF(OR($I3655=\"\",$I3655=\"NSO\"),\"\",VLOOKUP($A3650,'Result Entry'!$B$9:$DX$108,98,0))","v":0},"Attedance %"]
[null,"◐","Extra Subjects",{"$nulls":5},"Student's Meetings :-",null,{"$f":"IF(OR($I3655=\"\",$I3655=\"NSO\"),\"\",VLOOKUP($A3650,'Result Entry'!$B$9:$DX$108,99,0))","v":0},{"$f":"IF(OR($I3655=\"\",$I3655=\"NSO\"),\"\",VLOOKUP($A3650,'Result Entry'!$B$9:$DX$108,100,0))","v":""}]
[null,"◐","Subject",null,null,"Total Marks",null,"GRADE","Remark :-",null,{"$f":"IF(OR($I3655=\"\",$I3655=\"NSO\"),\"\",VLOOKUP($A3650,'Result Entry'!$B$9:$DX$108,108,0))","v":0}]
[null,"◐",{"$nulls":6},"Result Date :-",null,{"$f":"'Result Entry'!$T$2","v":"2023-05-24"}]
[null,"◐",{"$f":"'Result Entry'!$BW$3","v":"WORK EXP."},null,null,{"$f":"IF(OR(C3676=\"\",$I3655=\"NSO\"),\"\",VLOOKUP($A3650,'Result Entry'!$B$9:$DX$108,119,0))","v":"0/50"},null,{"$f":"IF(OR(C3676=\"\",$I3655=\"NSO\"),\"\",VLOOKUP($A3650,'Result Entry'!$B$9:$DX$108,81,0))","v":""}]
[null,null,{"$f":"'Result Entry'!$CE$3","v":"ART EDU."},null,null,{"$f":"IF(OR(C3677=\"\",$I3655=\"NSO\"),\"\",VLOOKUP($A3650,'Result Entry'!$B$9:$DX$108,123,0))","v":"0/50"},null,{"$f":"IF(OR(C3677=\"\",$I3655=\"NSO\"),\"\",VLOOKUP($A3650,'Result Entry'!$B$9:$DX$108,89,0))","v":""}]
[null,"◐",{"$f":"'Result Entry'!$CM$3","v":"H&P. EDU."},null,null,{"$f":"IF(OR(C3678=\"\",$I3655=\"NSO\"),\"\",VLOOKUP($A3650,'Result Entry'!$B$9:$DX$108,127,0))","v":"0/100"},null,{"$f":"IF(OR(C3678=\"\",$I3655=\"NSO\"),\"\",VLOOKUP($A3650,'Result Entry'!$B$9:$DX$108,97,0))","v":""},"Signature Of The Class Teacher"]
[null,"◐","Grading System"]
[null,"◐","Grd.","% Range",null,"Description"]
[null,"◐","A","86-100",null,"Excellent",null,null,"Signature And Seal Of Principal/H.M."]
[null,"◐","B","71-85",null,"Very Good"]
[null,"◐","C","51-70",null,"Good"]
[null,"◐","D","31-50",null,"Average"]
[null,"◐","E","0-30",null,"Needs Improvement",null,null,"Wish bright future"]
[]
[]
[{"$f":"A3650+1","v":98},"Department Of Education, Rajasthan"]
[null,{"$f":"IF(I3693>0,CONCATENATE(C3693,I3693),0)","v":0},null,{"$f":"Master!$E$8","v":"Govt.Sr.Sec.Sch. "}]
[{"$nulls":3},{"$f":"Master!$E$11","v":"P.S.-Bapini (Jodhpur)"}]
[null,null,"Report Card",{"$nulls":6},"U-DISE Code:-",null,{"$f":"Master!$E$14","v":{"v":810000000,"d":"0810000000"}}]
[{"$nulls":9},"Session:-",null,{"$f":"Master!$E$6","v":"2022-23"}]
[null,null,"Roll No.:-",{"$nulls":5},{"$f":"VLOOKUP($A3688,'Result Entry'!$B$9:$F$108,5,0)","v":0}]
[null,"◐","Scholar Number",{"$nulls":3},"↠",{"$f":"VLOOKUP($A3688,'Result Entry'!$B$9:$DX$108,3,0)","v":0}]
[null,"◐","Student's Name",{"$nulls":3},"↠",{"$f":"VLOOKUP($A3688,'Result Entry'!$B$9:$DX$108,6,0)","v":0}]
[null,"◐","Father's Name",{"$nulls":3},"↠",{"$f":"VLOOKUP($A3688,'Result Entry'!$B$9:$DX$108,7,0)","v":0}]
[null,"◐","Mother's Name ",{"$nulls":3},"↠",{"$f":"VLOOKUP($A3688,'Result Entry'!$B$9:$DX$108,8,0)","v":0}]
[null,"◐","Class & Section",{"$nulls":3},"↠",{"$f":"CONCATENATE('Result Entry'!$F$4,'Result Entry'!$I$4)","v":"2(A)"}]
[null,"◐","Date Of Birth",{"$nulls":3},"↠",{"$f":"VLOOKUP($A3688,'Result Entry'!$B$9:$DX$108,9,0)","v":"00:00:00"}]
[null,"◐","Subject",{"$nulls":4},"Half Yearly","Total (T+H.Y.)","Yearly","Grand Total",null,"Subject Grade"]
[null,"◐","Max. Marks",{"$nulls":4},{"$f":"'Result Entry'!$Q$7","v":100},{"$f":"G3701+H3701","v":100},{"$f":"'Result Entry'!$U$7","v":100},{"$f":"I3701+J3701","v":200},null,"A/B/C/D/E"]
[null,"◐",{"$f":"'Result Entry'!$K$3","v":"Hindi"},{"$nulls":4},{"$f":"IF(OR(C3702=\"\",$I3693=\"NSO\"),\"\",VLOOKUP($A3688,'Result Entry'!$B$9:$DX$108,16,0))","v":0},{"$f":"SUM(G3702,H3702)","v":0},{"$f":"IF(OR(C3702=\"\",$I3693=\"NSO\"),\"\",VLOOKUP($A3688,'Result Entry'!$B$9:$DX$108,20,0))","v":0},{"$f":"SUM(I3702,J3702)","v":0},null,{"$f":"IF(OR(C3702=\"\",$I3693=\"NSO\"),\"\",VLOOKUP($A3688,'Result Entry'!$B$9:$DX$108,23,0))","v":""}]
[null,"◐",{"$f":"'Result Entry'!$Y$3","v":"Mathematics"},{"$nulls":4},{"$f":"IF(OR(C3703=\"\",$I3693=\"NSO\"),\"\",VLOOKUP($A3688,'Result Entry'!$B$9:$DX$108,30,0))","v":0},{"$f":"SUM(G3703,H3703)","v":0},{"$f":"IF(OR(C3703=\"\",$I3693=\"NSO\"),\"\",VLOOKUP($A3688,'Result Entry'!$B$9:$DX$108,34,0))","v":0},{"$f":"SUM(I3703,J3703)","v":0},null,{"$f":"IF(OR(C3703=\"\",$I3693=\"NSO\"),\"\",VLOOKUP($A3688,'Result Entry'!$B$9:$DX$108,37,0))","v":""}]
[null,"◐",{"$f":"'Result Entry'!$BO$3","v":"Env. Study"},{"$nulls":4},{"$f":"IF(OR(C3704=\"\",$I3693=\"NSO\"),\"\",VLOOKUP($A3688,'Result Entry'!$B$9:$DX$108,66,0))","v":0},0,{"$f":"IF(OR(C3704=\"\",$I3693=\"NSO\"),\"\",VLOOKUP($A3688,'Result Entry'!$B$9:$DX$108,67,0))","v":0},0,null,{"$f":"IF(OR(C3704=\"\",$I3693=\"NSO\"),\"\",VLOOKUP($A3688,'Result Entry'!$B$9:$DX$108,73,0))","v":""}]
[null,"◐","Max. Marks",{"$nulls":4},{"$f":"'Result Entry'!$AS$7","v":50},50,{"$f":"'Result Entry'!$AW$7","v":50},100,null,"A/B/C/D/E"]
[null,"◐",{"$f":"'Result Entry'!$AM$3","v":"English"},{"$nulls":4},{"$f":"IF(OR(C3706=\"\",$I3693=\"NSO\"),\"\",VLOOKUP($A3688,'Result Entry'!$B$9:$DX$108,44,0))","v":0},0,{"$f":"IF(OR(C3706=\"\",$I3693=\"NSO\"),\"\",VLOOKUP($A3688,'Result Entry'!$B$9:$DX$108,48,0))","v":0},0,null,{"$f":"IF(OR(C3706=\"\",$I3693=\"NSO\"),\"\",VLOOKUP($A3688,'Result Entry'!$B$9:$DX$108,51,0))","v":""}]
[null,"◐"]
[null,"◐","Overall Result",null,null,"Total Max. Marks",null,"Total Obtained Marks",null,"Percentage","Overall Grade","Result","Position in Class"]
[null,"◐",{"$nulls":3},{"$f":"IF(OR($I3693=\"\",$I3693=\"NSO\"),\"\",VLOOKUP($A3688,'Result Entry'!$B$9:$DX$108,101,0))","v":500},null,{"$f":"IF(OR($I3693=\"\",$I3693=\"NSO\"),\"\",VLOOKUP($A3688,'Result Entry'!$B$9:$DX$108,102,0))","v":0},null,{"$f":"IF(OR($I3693=\"\",$I3693=\"NSO\"),\"\",VLOOKUP($A3688,'Result Entry'!$B$9:$DX$108,103,0))","v":{"v":0,"d":"0.00"}},{"$f":"IF(OR($I3693=\"\",$I3693=\"NSO\"),\"\",VLOOKUP($A3688,'Result Entry'!$B$9:$DX$108,104,0))","v":""},{"$f":"IF(OR($I3693=\"\",$I3693=\"NSO\"),\"\",VLOOKUP($A3688,'Result Entry'!$B$9:$DX$108,105,0))","v":""},{"$f":"IF(OR($I3693=\"\",$I3693=\"NSO\"),\"\",VLOOKUP($A3688,'Result Entry'!$B$9:$DX$108,107,0))","v":""}]
[null,"◐",{"$nulls":6},"Total Meetings :-",null,{"$f":"IF(OR($I3693=\"\",$I3693=\"NSO\"),\"\",VLOOKUP($A3688,'Result Entry'!$B$9:$DX$108,98,0))","v":0},"Attedance %"]
[null,"◐","Extra Subjects",{"$nulls":5},"Student's Meetings :-",null,{"$f":"IF(OR($I3693=\"\",$I3693=\"NSO\"),\"\",VLOOKUP($A3688,'Result Entry'!$B$9:$DX$108,99,0))","v":0},{"$f":"IF(OR($I3693=\"\",$I3693=\"NSO\"),\"\",VLOOKUP($A3688,'Result Entry'!$B$9:$DX$108,100,0))","v":""}]
[null,"◐","Subject",null,null,"Total Marks",null,"GRADE","Remark :-",null,{"$f":"IF(OR($I3693=\"\",$I3693=\"NSO\"),\"\",VLOOKUP($A3688,'Result Entry'!$B$9:$DX$108,108,0))","v":0}]
[null,"◐",{"$nulls":6},"Result Date :-",null,{"$f":"'Result Entry'!$T$2","v":"2023-05-24"}]
[null,"◐",{"$f":"'Result Entry'!$BW$3","v":"WORK EXP."},null,null,{"$f":"IF(OR(C3714=\"\",$I3693=\"NSO\"),\"\",VLOOKUP($A3688,'Result Entry'!$B$9:$DX$108,119,0))","v":"0/50"},null,{"$f":"IF(OR(C3714=\"\",$I3693=\"NSO\"),\"\",VLOOKUP($A3688,'Result Entry'!$B$9:$DX$108,81,0))","v":""}]
[null,null,{"$f":"'Result Entry'!$CE$3","v":"ART EDU."},null,null,{"$f":"IF(OR(C3715=\"\",$I3693=\"NSO\"),\"\",VLOOKUP($A3688,'Result Entry'!$B$9:$DX$108,123,0))","v":"0/50"},null,{"$f":"IF(OR(C3715=\"\",$I3693=\"NSO\"),\"\",VLOOKUP($A3688,'Result Entry'!$B$9:$DX$108,89,0))","v":""}]
[null,"◐",{"$f":"'Result Entry'!$CM$3","v":"H&P. EDU."},null,null,{"$f":"IF(OR(C3716=\"\",$I3693=\"NSO\"),\"\",VLOOKUP($A3688,'Result Entry'!$B$9:$DX$108,127,0))","v":"0/100"},null,{"$f":"IF(OR(C3716=\"\",$I3693=\"NSO\"),\"\",VLOOKUP($A3688,'Result Entry'!$B$9:$DX$108,97,0))","v":""},"Signature Of The Class Teacher"]
[null,"◐","Grading System"]
[null,"◐","Grd.","% Range",null,"Description"]
[null,"◐","A","86-100",null,"Excellent",null,null,"Signature And Seal Of Principal/H.M."]
[null,"◐","B","71-85",null,"Very Good"]
[null,"◐","C","51-70",null,"Good"]
[null,"◐","D","31-50",null,"Average"]
[null,"◐","E","0-30",null,"Needs Improvement",null,null,"Wish bright future"]
[]
[]
[{"$f":"A3688+1","v":99},"Department Of Education, Rajasthan"]
[null,{"$f":"IF(I3731>0,CONCATENATE(C3731,I3731),0)","v":0},null,{"$f":"Master!$E$8","v":"Govt.Sr.Sec.Sch. "}]
[{"$nulls":3},{"$f":"Master!$E$11","v":"P.S.-Bapini (Jodhpur)"}]
[null,null,"Report Card",{"$nulls":6},"U-DISE Code:-",null,{"$f":"Master!$E$14","v":{"v":810000000,"d":"0810000000"}}]
[{"$nulls":9},"Session:-",null,{"$f":"Master!$E$6","v":"2022-23"}]
[null,null,"Roll No.:-",{"$nulls":5},{"$f":"VLOOKUP($A3726,'Result Entry'!$B$9:$F$108,5,0)","v":0}]
[null,"◐","Scholar Number",{"$nulls":3},"↠",{"$f":"VLOOKUP($A3726,'Result Entry'!$B$9:$DX$108,3,0)","v":0}]
[null,"◐","Student's Name",{"$nulls":3},"↠",{"$f":"VLOOKUP($A3726,'Result Entry'!$B$9:$DX$108,6,0)","v":0}]
[null,"◐","Father's Name",{"$nulls":3},"↠",{"$f":"VLOOKUP($A3726,'Result Entry'!$B$9:$DX$108,7,0)","v":0}]
[null,"◐","Mother's Name ",{"$nulls":3},"↠",{"$f":"VLOOKUP($A3726,'Result Entry'!$B$9:$DX$108,8,0)","v":0}]
[null,"◐","Class & Section",{"$nulls":3},"↠",{"$f":"CONCATENATE('Result Entry'!$F$4,'Result Entry'!$I$4)","v":"2(A)"}]
[null,"◐","Date Of Birth",{"$nulls":3},"↠",{"$f":"VLOOKUP($A3726,'Result Entry'!$B$9:$DX$108,9,0)","v":"00:00:00"}]
[null,"◐","Subject",{"$nulls":4},"Half Yearly","Total (T+H.Y.)","Yearly","Grand Total",null,"Subject Grade"]
[null,"◐","Max. Marks",{"$nulls":4},{"$f":"'Result Entry'!$Q$7","v":100},{"$f":"G3739+H3739","v":100},{"$f":"'Result Entry'!$U$7","v":100},{"$f":"I3739+J3739","v":200},null,"A/B/C/D/E"]
[null,"◐",{"$f":"'Result Entry'!$K$3","v":"Hindi"},{"$nulls":4},{"$f":"IF(OR(C3740=\"\",$I3731=\"NSO\"),\"\",VLOOKUP($A3726,'Result Entry'!$B$9:$DX$108,16,0))","v":0},{"$f":"SUM(G3740,H3740)","v":0},{"$f":"IF(OR(C3740=\"\",$I3731=\"NSO\"),\"\",VLOOKUP($A3726,'Result Entry'!$B$9:$DX$108,20,0))","v":0},{"$f":"SUM(I3740,J3740)","v":0},null,{"$f":"IF(OR(C3740=\"\",$I3731=\"NSO\"),\"\",VLOOKUP($A3726,'Result Entry'!$B$9:$DX$108,23,0))","v":""}]
[null,"◐",{"$f":"'Result Entry'!$Y$3","v":"Mathematics"},{"$nulls":4},{"$f":"IF(OR(C3741=\"\",$I3731=\"NSO\"),\"\",VLOOKUP($A3726,'Result Entry'!$B$9:$DX$108,30,0))","v":0},{"$f":"SUM(G3741,H3741)","v":0},{"$f":"IF(OR(C3741=\"\",$I3731=\"NSO\"),\"\",VLOOKUP($A3726,'Result Entry'!$B$9:$DX$108,34,0))","v":0},{"$f":"SUM(I3741,J3741)","v":0},null,{"$f":"IF(OR(C3741=\"\",$I3731=\"NSO\"),\"\",VLOOKUP($A3726,'Result Entry'!$B$9:$DX$108,37,0))","v":""}]
[null,"◐",{"$f":"'Result Entry'!$BO$3","v":"Env. Study"},{"$nulls":4},{"$f":"IF(OR(C3742=\"\",$I3731=\"NSO\"),\"\",VLOOKUP($A3726,'Result Entry'!$B$9:$DX$108,66,0))","v":0},0,{"$f":"IF(OR(C3742=\"\",$I3731=\"NSO\"),\"\",VLOOKUP($A3726,'Result Entry'!$B$9:$DX$108,67,0))","v":0},0,null,{"$f":"IF(OR(C3742=\"\",$I3731=\"NSO\"),\"\",VLOOKUP($A3726,'Result Entry'!$B$9:$DX$108,73,0))","v":""}]
[null,"◐","Max. Marks",{"$nulls":4},{"$f":"'Result Entry'!$AS$7","v":50},50,{"$f":"'Result Entry'!$AW$7","v":50},100,null,"A/B/C/D/E"]
[null,"◐",{"$f":"'Result Entry'!$AM$3","v":"English"},{"$nulls":4},{"$f":"IF(OR(C3744=\"\",$I3731=\"NSO\"),\"\",VLOOKUP($A3726,'Result Entry'!$B$9:$DX$108,44,0))","v":0},0,{"$f":"IF(OR(C3744=\"\",$I3731=\"NSO\"),\"\",VLOOKUP($A3726,'Result Entry'!$B$9:$DX$108,48,0))","v":0},0,null,{"$f":"IF(OR(C3744=\"\",$I3731=\"NSO\"),\"\",VLOOKUP($A3726,'Result Entry'!$B$9:$DX$108,51,0))","v":""}]
[null,"◐"]
[null,"◐","Overall Result",null,null,"Total Max. Marks",null,"Total Obtained Marks",null,"Percentage","Overall Grade","Result","Position in Class"]
[null,"◐",{"$nulls":3},{"$f":"IF(OR($I3731=\"\",$I3731=\"NSO\"),\"\",VLOOKUP($A3726,'Result Entry'!$B$9:$DX$108,101,0))","v":500},null,{"$f":"IF(OR($I3731=\"\",$I3731=\"NSO\"),\"\",VLOOKUP($A3726,'Result Entry'!$B$9:$DX$108,102,0))","v":0},null,{"$f":"IF(OR($I3731=\"\",$I3731=\"NSO\"),\"\",VLOOKUP($A3726,'Result Entry'!$B$9:$DX$108,103,0))","v":{"v":0,"d":"0.00"}},{"$f":"IF(OR($I3731=\"\",$I3731=\"NSO\"),\"\",VLOOKUP($A3726,'Result Entry'!$B$9:$DX$108,104,0))","v":""},{"$f":"IF(OR($I3731=\"\",$I3731=\"NSO\"),\"\",VLOOKUP($A3726,'Result Entry'!$B$9:$DX$108,105,0))","v":""},{"$f":"IF(OR($I3731=\"\",$I3731=\"NSO\"),\"\",VLOOKUP($A3726,'Result Entry'!$B$9:$DX$108,107,0))","v":""}]
[null,"◐",{"$nulls":6},"Total Meetings :-",null,{"$f":"IF(OR($I3731=\"\",$I3731=\"NSO\"),\"\",VLOOKUP($A3726,'Result Entry'!$B$9:$DX$108,98,0))","v":0},"Attedance %"]
[null,"◐","Extra Subjects",{"$nulls":5},"Student's Meetings :-",null,{"$f":"IF(OR($I3731=\"\",$I3731=\"NSO\"),\"\",VLOOKUP($A3726,'Result Entry'!$B$9:$DX$108,99,0))","v":0},{"$f":"IF(OR($I3731=\"\",$I3731=\"NSO\"),\"\",VLOOKUP($A3726,'Result Entry'!$B$9:$DX$108,100,0))","v":""}]
[null,"◐","Subject",null,null,"Total Marks",null,"GRADE","Remark :-",null,{"$f":"IF(OR($I3731=\"\",$I3731=\"NSO\"),\"\",VLOOKUP($A3726,'Result Entry'!$B$9:$DX$108,108,0))","v":0}]
[null,"◐",{"$nulls":6},"Result Date :-",null,{"$f":"'Result Entry'!$T$2","v":"2023-05-24"}]
[null,"◐",{"$f":"'Result Entry'!$BW$3","v":"WORK EXP."},null,null,{"$f":"IF(OR(C3752=\"\",$I3731=\"NSO\"),\"\",VLOOKUP($A3726,'Result Entry'!$B$9:$DX$108,119,0))","v":"0/50"},null,{"$f":"IF(OR(C3752=\"\",$I3731=\"NSO\"),\"\",VLOOKUP($A3726,'Result Entry'!$B$9:$DX$108,81,0))","v":""}]
[null,null,{"$f":"'Result Entry'!$CE$3","v":"ART EDU."},null,null,{"$f":"IF(OR(C3753=\"\",$I3731=\"NSO\"),\"\",VLOOKUP($A3726,'Result Entry'!$B$9:$DX$108,123,0))","v":"0/50"},null,{"$f":"IF(OR(C3753=\"\",$I3731=\"NSO\"),\"\",VLOOKUP($A3726,'Result Entry'!$B$9:$DX$108,89,0))","v":""}]
[null,"◐",{"$f":"'Result Entry'!$CM$3","v":"H&P. EDU."},null,null,{"$f":"IF(OR(C3754=\"\",$I3731=\"NSO\"),\"\",VLOOKUP($A3726,'Result Entry'!$B$9:$DX$108,127,0))","v":"0/100"},null,{"$f":"IF(OR(C3754=\"\",$I3731=\"NSO\"),\"\",VLOOKUP($A3726,'Result Entry'!$B$9:$DX$108,97,0))","v":""},"Signature Of The Class Teacher"]
[null,"◐","Grading System"]
[null,"◐","Grd.","% Range",null,"Description"]
[null,"◐","A","86-100",null,"Excellent",null,null,"Signature And Seal Of Principal/H.M."]
[null,"◐","B","71-85",null,"Very Good"]
[null,"◐","C","51-70",null,"Good"]
[null,"◐","D","31-50",null,"Average"]
[null,"◐","E","0-30",null,"Needs Improvement",null,null,"Wish bright future"]
[]
[]
[{"$f":"A3726+1","v":100},"Department Of Education, Rajasthan"]
[null,{"$f":"IF(I3769>0,CONCATENATE(C3769,I3769),0)","v":0},null,{"$f":"Master!$E$8","v":"Govt.Sr.Sec.Sch. "}]
[{"$nulls":3},{"$f":"Master!$E$11","v":"P.S.-Bapini (Jodhpur)"}]
[null,null,"Report Card",{"$nulls":6},"U-DISE Code:-",null,{"$f":"Master!$E$14","v":{"v":810000000,"d":"0810000000"}}]
[{"$nulls":9},"Session:-",null,{"$f":"Master!$E$6","v":"2022-23"}]
[null,null,"Roll No.:-",{"$nulls":5},{"$f":"VLOOKUP($A3764,'Result Entry'!$B$9:$F$108,5,0)","v":0}]
[null,"◐","Scholar Number",{"$nulls":3},"↠",{"$f":"VLOOKUP($A3764,'Result Entry'!$B$9:$DX$108,3,0)","v":0}]
[null,"◐","Student's Name",{"$nulls":3},"↠",{"$f":"VLOOKUP($A3764,'Result Entry'!$B$9:$DX$108,6,0)","v":0}]
[null,"◐","Father's Name",{"$nulls":3},"↠",{"$f":"VLOOKUP($A3764,'Result Entry'!$B$9:$DX$108,7,0)","v":0}]
[null,"◐","Mother's Name ",{"$nulls":3},"↠",{"$f":"VLOOKUP($A3764,'Result Entry'!$B$9:$DX$108,8,0)","v":0}]
[null,"◐","Class & Section",{"$nulls":3},"↠",{"$f":"CONCATENATE('Result Entry'!$F$4,'Result Entry'!$I$4)","v":"2(A)"}]
[null,"◐","Date Of Birth",{"$nulls":3},"↠",{"$f":"VLOOKUP($A3764,'Result Entry'!$B$9:$DX$108,9,0)","v":"00:00:00"}]
[null,"◐","Subject",{"$nulls":4},"Half Yearly","Total (T+H.Y.)","Yearly","Grand Total",null,"Subject Grade"]
[null,"◐","Max. Marks",{"$nulls":4},{"$f":"'Result Entry'!$Q$7","v":100},{"$f":"G3777+H3777","v":100},{"$f":"'Result Entry'!$U$7","v":100},{"$f":"I3777+J3777","v":200},null,"A/B/C/D/E"]
[null,"◐",{"$f":"'Result Entry'!$K$3","v":"Hindi"},{"$nulls":4},{"$f":"IF(OR(C3778=\"\",$I3769=\"NSO\"),\"\",VLOOKUP($A3764,'Result Entry'!$B$9:$DX$108,16,0))","v":0},{"$f":"SUM(G3778,H3778)","v":0},{"$f":"IF(OR(C3778=\"\",$I3769=\"NSO\"),\"\",VLOOKUP($A3764,'Result Entry'!$B$9:$DX$108,20,0))","v":0},{"$f":"SUM(I3778,J3778)","v":0},null,{"$f":"IF(OR(C3778=\"\",$I3769=\"NSO\"),\"\",VLOOKUP($A3764,'Result Entry'!$B$9:$DX$108,23,0))","v":""}]
[null,"◐",{"$f":"'Result Entry'!$Y$3","v":"Mathematics"},{"$nulls":4},{"$f":"IF(OR(C3779=\"\",$I3769=\"NSO\"),\"\",VLOOKUP($A3764,'Result Entry'!$B$9:$DX$108,30,0))","v":0},{"$f":"SUM(G3779,H3779)","v":0},{"$f":"IF(OR(C3779=\"\",$I3769=\"NSO\"),\"\",VLOOKUP($A3764,'Result Entry'!$B$9:$DX$108,34,0))","v":0},{"$f":"SUM(I3779,J3779)","v":0},null,{"$f":"IF(OR(C3779=\"\",$I3769=\"NSO\"),\"\",VLOOKUP($A3764,'Result Entry'!$B$9:$DX$108,37,0))","v":""}]
[null,"◐",{"$f":"'Result Entry'!$BO$3","v":"Env. Study"},{"$nulls":4},{"$f":"IF(OR(C3780=\"\",$I3769=\"NSO\"),\"\",VLOOKUP($A3764,'Result Entry'!$B$9:$DX$108,66,0))","v":0},0,{"$f":"IF(OR(C3780=\"\",$I3769=\"NSO\"),\"\",VLOOKUP($A3764,'Result Entry'!$B$9:$DX$108,67,0))","v":0},0,null,{"$f":"IF(OR(C3780=\"\",$I3769=\"NSO\"),\"\",VLOOKUP($A3764,'Result Entry'!$B$9:$DX$108,73,0))","v":""}]
[null,"◐","Max. Marks",{"$nulls":4},{"$f":"'Result Entry'!$AS$7","v":50},50,{"$f":"'Result Entry'!$AW$7","v":50},100,null,"A/B/C/D/E"]
[null,"◐",{"$f":"'Result Entry'!$AM$3","v":"English"},{"$nulls":4},{"$f":"IF(OR(C3782=\"\",$I3769=\"NSO\"),\"\",VLOOKUP($A3764,'Result Entry'!$B$9:$DX$108,44,0))","v":0},0,{"$f":"IF(OR(C3782=\"\",$I3769=\"NSO\"),\"\",VLOOKUP($A3764,'Result Entry'!$B$9:$DX$108,48,0))","v":0},0,null,{"$f":"IF(OR(C3782=\"\",$I3769=\"NSO\"),\"\",VLOOKUP($A3764,'Result Entry'!$B$9:$DX$108,51,0))","v":""}]
[null,"◐"]
[null,"◐","Overall Result",null,null,"Total Max. Marks",null,"Total Obtained Marks",null,"Percentage","Overall Grade","Result","Position in Class"]
[null,"◐",{"$nulls":3},{"$f":"IF(OR($I3769=\"\",$I3769=\"NSO\"),\"\",VLOOKUP($A3764,'Result Entry'!$B$9:$DX$108,101,0))","v":500},null,{"$f":"IF(OR($I3769=\"\",$I3769=\"NSO\"),\"\",VLOOKUP($A3764,'Result Entry'!$B$9:$DX$108,102,0))","v":0},null,{"$f":"IF(OR($I3769=\"\",$I3769=\"NSO\"),\"\",VLOOKUP($A3764,'Result Entry'!$B$9:$DX$108,103,0))","v":{"v":0,"d":"0.00"}},{"$f":"IF(OR($I3769=\"\",$I3769=\"NSO\"),\"\",VLOOKUP($A3764,'Result Entry'!$B$9:$DX$108,104,0))","v":""},{"$f":"IF(OR($I3769=\"\",$I3769=\"NSO\"),\"\",VLOOKUP($A3764,'Result Entry'!$B$9:$DX$108,105,0))","v":""},{"$f":"IF(OR($I3769=\"\",$I3769=\"NSO\"),\"\",VLOOKUP($A3764,'Result Entry'!$B$9:$DX$108,107,0))","v":""}]
[null,"◐",{"$nulls":6},"Total Meetings :-",null,{"$f":"IF(OR($I3769=\"\",$I3769=\"NSO\"),\"\",VLOOKUP($A3764,'Result Entry'!$B$9:$DX$108,98,0))","v":0},"Attedance %"]
[null,"◐","Extra Subjects",{"$nulls":5},"Student's Meetings :-",null,{"$f":"IF(OR($I3769=\"\",$I3769=\"NSO\"),\"\",VLOOKUP($A3764,'Result Entry'!$B$9:$DX$108,99,0))","v":0},{"$f":"IF(OR($I3769=\"\",$I3769=\"NSO\"),\"\",VLOOKUP($A3764,'Result Entry'!$B$9:$DX$108,100,0))","v":""}]
[null,"◐","Subject",null,null,"Total Marks",null,"GRADE","Remark :-",null,{"$f":"IF(OR($I3769=\"\",$I3769=\"NSO\"),\"\",VLOOKUP($A3764,'Result Entry'!$B$9:$DX$108,108,0))","v":0}]
[null,"◐",{"$nulls":6},"Result Date :-",null,{"$f":"'Result Entry'!$T$2","v":"2023-05-24"}]
[null,"◐",{"$f":"'Result Entry'!$BW$3","v":"WORK EXP."},null,null,{"$f":"IF(OR(C3790=\"\",$I3769=\"NSO\"),\"\",VLOOKUP($A3764,'Result Entry'!$B$9:$DX$108,119,0))","v":"0/50"},null,{"$f":"IF(OR(C3790=\"\",$I3769=\"NSO\"),\"\",VLOOKUP($A3764,'Result Entry'!$B$9:$DX$108,81,0))","v":""}]
[null,null,{"$f":"'Result Entry'!$CE$3","v":"ART EDU."},null,null,{"$f":"IF(OR(C3791=\"\",$I3769=\"NSO\"),\"\",VLOOKUP($A3764,'Result Entry'!$B$9:$DX$108,123,0))","v":"0/50"},null,{"$f":"IF(OR(C3791=\"\",$I3769=\"NSO\"),\"\",VLOOKUP($A3764,'Result Entry'!$B$9:$DX$108,89,0))","v":""}]
[null,"◐",{"$f":"'Result Entry'!$CM$3","v":"H&P. EDU."},null,null,{"$f":"IF(OR(C3792=\"\",$I3769=\"NSO\"),\"\",VLOOKUP($A3764,'Result Entry'!$B$9:$DX$108,127,0))","v":"0/100"},null,{"$f":"IF(OR(C3792=\"\",$I3769=\"NSO\"),\"\",VLOOKUP($A3764,'Result Entry'!$B$9:$DX$108,97,0))","v":""},"Signature Of The Class Teacher"]
[null,"◐","Grading System"]
[null,"◐","Grd.","% Range",null,"Description"]
[null,"◐","A","86-100",null,"Excellent",null,null,"Signature And Seal Of Principal/H.M."]
[null,"◐","B","71-85",null,"Very Good"]
[null,"◐","C","51-70",null,"Good"]
[null,"◐","D","31-50",null,"Average"]
[null,"◐","E","0-30",null,"Needs Improvement",null,null,"Wish bright future"]

{"sheet":"Mark Sheet 1x2","index":6,"n_rows":3799,"n_cols":13,"rows_kept":3799,"merged":[[0,0,0,13],[1,1,1,12],[1,13,37,13],[2,1,3,1],[2,2,3,2],[2,3,2,12],[3,3,3,12],[4,1,6,1],[4,2,5,8],[4,9,4,10],[4,11,4,12],[5,9,6,10],[5,11,6,12],[6,2,6,7],[7,2,7,5],[7,7,7,12],[8,2,8,5],[8,7,8,12],[9,2,9,5],[9,7,9,12],[10,2,10,5],[10,7,10,12],[11,2,11,5],[11,7,11,12],[12,2,12,5],[12,7,12,12],[13,2,13,6],[13,10,13,11],[14,2,14,6],[14,10,14,11],[15,2,15,6],[15,10,15,11],[16,2,16,6],[16,10,16,11],[17,2,17,6],[17,10,17,11],[18,2,18,6],[18,10,18,11],[19,2,19,6],[19,10,19,11],[20,2,20,12],[21,2,22,4],[21,5,21,6],[21,7,21,8],[22,5,22,6],[22,7,22,8],[23,2,23,7],[23,8,23,9],[23,11,23,12],[24,2,24,7],[24,8,24,9],[24,11,24,12],[25,2,26,4],[25,5,26,6],[25,7,26,7],[25,8,25,9],[25,10,25,12],[26,8,26,9],[26,10,26,12],[27,2,27,4],[27,5,27,6],[27,8,28,12],[28,2,28,4],[28,5,28,6],[29,2,29,4],[29,5,29,6],[29,8,31,9],[29,10,31,12],[30,2,30,7],[31,3,31,4],[31,5,31,7],[32,3,32,4],[32,5,32,7],[32,8,35,12],[33,3,33,4],[33,5,33,7],[34,3,34,4],[34,5,34,7],[35,3,35,4],[35,5,35,7],[36,3,36,4],[36,5,36,7],[36,8,36,12],[37,0,37,12],[38,0,38,13],[39,1,39,12],[39,13,75,13],[40,1,41,1],[40,2,41,2],[40,3,40,12],[41,3,41,12],[42,1,44,1],[42,2,43,8],[42,9,42,10],[42,11,42,12],[43,9,44,10],[43,11,44,12],[44,2,44,7],[45,2,45,5],[45,7,45,12],[46,2,46,5],[46,7,46,12],[47,2,47,5],[47,7,47,12],[48,2,48,5],[48,7,48,12],[49,2,49,5],[49,7,49,12],[50,2,50,5],[50,7,50,12],[51,2,51,6],[51,10,51,11],[52,2,52,6],[52,10,52,11],[53,2,53,6],[53,10,53,11],[54,2,54,6],[54,10,54,11],[55,2,55,6],[55,10,55,11],[56,2,56,6],[56,10,56,11],[57,2,57,6],[57,10,57,11],[58,2,58,12],[59,2,60,4],[59,5,59,6],[59,7,59,8],[60,5,60,6],[60,7,60,8],[61,2,61,7],[61,8,61,9],[61,11,61,12],[62,2,62,7],[62,8,62,9],[62,11,62,12],[63,2,64,4],[63,5,64,6],[63,7,64,7],[63,8,63,9],[63,10,63,12],[64,8,64,9],[64,10,64,12],[65,2,65,4],[65,5,65,6],[65,8,66,12],[66,2,66,4],[66,5,66,6],[67,2,67,4],[67,5,67,6],[67,8,69,9],[67,10,69,12],[68,2,68,7],[69,3,69,4],[69,5,69,7],[70,3,70,4],[70,5,70,7],[70,8,73,12],[71,3,71,4],[71,5,71,7],[72,3,72,4],[72,5,72,7],[73,3,73,4],[73,5,73,7],[74,3,74,4],[74,5,74,7],[74,8,74,12],[75,0,75,12],[76,0,76,13],[77,1,77,12],[77,13,113,13],[78,1,79,1],[78,2,79,2],[78,3,78,12],[79,3,79,12],[80,1,82,1],[80,2,81,8],[80,9,80,10],[80,11,80,12],[81,9,82,10],[81,11,82,12],[82,2,82,7],[83,2,83,5],[83,7,83,12],[84,2,84,5],[84,7,84,12],[85,2,85,5],[85,7,85,12],[86,2,86,5],[86,7,86,12],[87,2,87,5],[87,7,87,12],[88,2,88,5],[88,7,88,12],[89,2,89,6],[89,10,89,11],[90,2,90,6],[90,10,90,11],[91,2,91,6],[91,10,91,11],[92,2,92,6],[92,10,92,11],[93,2,93,6],[93,10,93,11],[94,2,94,6],[94,10,94,11],[95,2,95,6],[95,10,95,11],[96,2,96,12],[97,2,98,4],[97,5,97,6],[97,7,97,8],[98,5,98,6],[98,7,98,8],[99,2,99,7],[99,8,99,9],[99,11,99,12],[100,2,100,7],[100,8,100,9],[100,11,100,12],[101,2,102,4],[101,5,102,6],[101,7,102,7],[101,8,101,9],[101,10,101,12],[102,8,102,9],[102,10,102,12],[103,2,103,4],[103,5,103,6],[103,8,104,12],[104,2,104,4],[104,5,104,6],[105,2,105,4],[105,5,105,6],[105,8,107,9],[105,10,107,12],[106,2,106,7],[107,3,107,4],[107,5,107,7],[108,3,108,4],[108,5,108,7],[108,8,111,12],[109,3,109,4],[109,5,109,7],[110,3,110,4],[110,5,110,7],[111,3,111,4],[111,5,111,7],[112,3,112,4],[112,5,112,7],[112,8,112,12],[113,0,113,12],[114,0,114,13],[115,1,115,12],[115,13,151,13],[116,1,117,1],[116,2,117,2],[116,3,116,12],[117,3,117,12],[118,1,120,1],[118,2,119,8],[118,9,118,10],[118,11,118,12],[119,9,120,10],[119,11,120,12],[120,2,120,7],[121,2,121,5],[121,7,121,12],[122,2,122,5],[122,7,122,12],[123,2,123,5],[123,7,123,12],[124,2,124,5],[124,7,124,12],[125,2,125,5],[125,7,125,12],[126,2,126,5],[126,7,126,12],[127,2,127,6],[127,10,127,11],[128,2,128,6],[128,10,128,11],[129,2,129,6],[129,10,129,11],[130,2,130,6],[130,10,130,11],[131,2,131,6],[131,10,131,11],[132,2,132,6],[132,10,132,11],[133,2,133,6],[133,10,133,11],[134,2,134,12],[135,2,136,4],[135,5,135,6],[135,7,135,8],[136,5,136,6],[136,7,136,8],[137,2,137,7],[137,8,137,9],[137,11,137,12],[138,2,138,7],[138,8,138,9],[138,11,138,12],[139,2,140,4],[139,5,140,6],[139,7,140,7],[139,8,139,9],[139,10,139,12],[140,8,140,9],[140,10,140,12],[141,2,141,4],[141,5,141,6],[141,8,142,12],[142,2,142,4],[142,5,142,6],[143,2,143,4],[143,5,143,6],[143,8,145,9],[143,10,145,12],[144,2,144,7],[145,3,145,4],[145,5,145,7],[146,3,146,4],[146,5,146,7],[146,8,149,12],[147,3,147,4],[147,5,147,7],[148,3,148,4],[148,5,148,7],[149,3,149,4],[149,5,149,7],[150,3,150,4],[150,5,150,7],[150,8,150,12],[151,0,151,12],[152,0,152,13],[153,1,153,12],[153,13,189,13],[154,1,155,1],[154,2,155,2],[154,3,154,12],[155,3,155,12],[156,1,158,1],[156,2,157,8],[156,9,156,10],[156,11,156,12],[157,9,158,10],[157,11,158,12],[158,2,158,7],[159,2,159,5],[159,7,159,12],[160,2,160,5],[160,7,160,12],[161,2,161,5],[161,7,161,12],[162,2,162,5],[162,7,162,12],[163,2,163,5],[163,7,163,12],[164,2,164,5],[164,7,164,12],[165,2,165,6],[165,10,165,11],[166,2,166,6],[166,10,166,11],[167,2,167,6],[167,10,167,11],[168,2,168,6],[168,10,168,11],[169,2,169,6],[169,10,169,11],[170,2,170,6],[170,10,170,11],[171,2,171,6],[171,10,171,11],[172,2,172,12],[173,2,174,4],[173,5,173,6],[173,7,173,8],[174,5,174,6],[174,7,174,8],[175,2,175,7],[175,8,175,9],[175,11,175,12],[176,2,176,7],[176,8,176,9],[176,11,176,12],[177,2,178,4],[177,5,178,6],[177,7,178,7],[177,8,177,9],[177,10,177,12],[178,8,178,9],[178,10,178,12],[179,2,179,4],[179,5,179,6],[179,8,180,12],[180,2,180,4],[180,5,180,6],[181,2,181,4],[181,5,181,6],[181,8,183,9],[181,10,183,12],[182,2,182,7],[183,3,183,4],[183,5,183,7],[184,3,184,4],[184,5,184,7],[184,8,187,12],[185,3,185,4],[185,5,185,7],[186,3,186,4],[186,5,186,7],[187,3,187,4],[187,5,187,7],[188,3,188,4],[188,5,188,7],[188,8,188,12],[189,0,189,12],[190,0,190,13],[191,1,191,12],[191,13,227,13],[192,1,193,1],[192,2,193,2],[192,3,192,12],[193,3,193,12],[194,1,196,1],[194,2,195,8],[194,9,194,10],[194,11,194,12],[195,9,196,10],[195,11,196,12],[196,2,196,7],[197,2,197,5],[197,7,197,12],[198,2,198,5],[198,7,198,12],[199,2,199,5],[199,7,199,12],[200,2,200,5],[200,7,200,12],[201,2,201,5],[201,7,201,12],[202,2,202,5],[202,7,202,12],[203,2,203,6],[203,10,203,11],[204,2,204,6],[204,10,204,11],[205,2,205,6],[205,10,205,11],[206,2,206,6],[206,10,206,11],[207,2,207,6],[207,10,207,11],[208,2,208,6],[208,10,208,11],[209,2,209,6],[209,10,209,11],[210,2,210,12],[211,2,212,4],[211,5,211,6],[211,7,211,8],[212,5,212,6],[212,7,212,8],[213,2,213,7],[213,8,213,9],[213,11,213,12],[214,2,214,7],[214,8,214,9],[214,11,214,12],[215,2,216,4],[215,5,216,6],[215,7,216,7],[215,8,215,9],[215,10,215,12],[216,8,216,9],[216,10,216,12],[217,2,217,4],[217,5,217,6],[217,8,218,12],[218,2,218,4],[218,5,218,6],[219,2,219,4],[219,5,219,6],[219,8,221,9],[219,10,221,12],[220,2,220,7],[221,3,221,4],[221,5,221,7],[222,3,222,4],[222,5,222,7],[222,8,225,12],[223,3,223,4],[223,5,223,7],[224,3,224,4],[224,5,224,7],[225,3,225,4],[225,5,225,7],[226,3,226,4],[226,5,226,7],[226,8,226,12],[227,0,227,12],[228,0,228,13],[229,1,229,12],[229,13,265,13],[230,1,231,1],[230,2,231,2],[230,3,230,12],[231,3,231,12],[232,1,234,1],[232,2,233,8],[232,9,232,10],[232,11,232,12],[233,9,234,10],[233,11,234,12],[234,2,234,7],[235,2,235,5],[235,7,235,12],[236,2,236,5],[236,7,236,12],[237,2,237,5],[237,7,237,12],[238,2,238,5],[238,7,238,12],[239,2,239,5],[239,7,239,12],[240,2,240,5],[240,7,240,12],[241,2,241,6],[241,10,241,11],[242,2,242,6],[242,10,242,11],[243,2,243,6],[243,10,243,11],[244,2,244,6],[244,10,244,11],[245,2,245,6],[245,10,245,11],[246,2,246,6],[246,10,246,11],[247,2,247,6],[247,10,247,11],[248,2,248,12],[249,2,250,4],[249,5,249,6],[249,7,249,8],[250,5,250,6],[250,7,250,8],[251,2,251,7],[251,8,251,9],[251,11,251,12],[252,2,252,7],[252,8,252,9],[252,11,252,12],[253,2,254,4],[253,5,254,6],[253,7,254,7],[253,8,253,9],[253,10,253,12],[254,8,254,9],[254,10,254,12],[255,2,255,4],[255,5,255,6],[255,8,256,12],[256,2,256,4],[256,5,256,6],[257,2,257,4],[257,5,257,6],[257,8,259,9],[257,10,259,12],[258,2,258,7],[259,3,259,4],[259,5,259,7],[260,3,260,4],[260,5,260,7],[260,8,263,12],[261,3,261,4],[261,5,261,7],[262,3,262,4],[262,5,262,7],[263,3,263,4],[263,5,263,7],[264,3,264,4],[264,5,264,7],[264,8,264,12],[265,0,265,12],[266,0,266,13],[267,1,267,12],[267,13,303,13],[268,1,269,1],[268,2,269,2],[268,3,268,12],[269,3,269,12],[270,1,272,1],[270,2,271,8],[270,9,270,10],[270,11,270,12],[271,9,272,10],[271,11,272,12],[272,2,272,7],[273,2,273,5],[273,7,273,12],[274,2,274,5],[274,7,274,12],[275,2,275,5],[275,7,275,12],[276,2,276,5],[276,7,276,12],[277,2,277,5],[277,7,277,12],[278,2,278,5],[278,7,278,12],[279,2,279,6],[279,10,279,11],[280,2,280,6],[280,10,280,11],[281,2,281,6],[281,10,281,11],[282,2,282,6],[282,10,282,11],[283,2,283,6],[283,10,283,11],[284,2,284,6],[284,10,284,11],[285,2,285,6],[285,10,285,11],[286,2,286,12],[287,2,288,4],[287,5,287,6],[287,7,287,8],[288,5,288,6],[288,7,288,8],[289,2,289,7],[289,8,289,9],[289,11,289,12],[290,2,290,7],[290,8,290,9],[290,11,290,12],[291,2,292,4],[291,5,292,6],[291,7,292,7],[291,8,291,9],[291,10,291,12],[292,8,292,9],[292,10,292,12],[293,2,293,4],[293,5,293,6],[293,8,294,12],[294,2,294,4],[294,5,294,6],[295,2,295,4],[295,5,295,6],[295,8,297,9],[295,10,297,12],[296,2,296,7],[297,3,297,4],[297,5,297,7],[298,3,298,4],[298,5,298,7],[298,8,301,12],[299,3,299,4],[299,5,299,7],[300,3,300,4],[300,5,300,7],[301,3,301,4],[301,5,301,7],[302,3,302,4],[302,5,302,7],[302,8,302,12],[303,0,303,12],[304,0,304,13],[305,1,305,12],[305,13,341,13],[306,1,307,1],[306,2,307,2],[306,3,306,12],[307,3,307,12],[308,1,310,1],[308,2,309,8],[308,9,308,10],[308,11,308,12],[309,9,310,10],[309,11,310,12],[310,2,310,7],[311,2,311,5],[311,7,311,12],[312,2,312,5],[312,7,312,12],[313,2,313,5],[313,7,313,12],[314,2,314,5],[314,7,314,12],[315,2,315,5],[315,7,315,12],[316,2,316,5],[316,7,316,12],[317,2,317,6],[317,10,317,11],[318,2,318,6],[318,10,318,11],[319,2,319,6],[319,10,319,11],[320,2,320,6],[320,10,320,11],[321,2,321,6],[321,10,321,11],[322,2,322,6],[322,10,322,11],[323,2,323,6],[323,10,323,11],[324,2,324,12],[325,2,326,4],[325,5,325,6],[325,7,325,8],[326,5,326,6],[326,7,326,8],[327,2,327,7],[327,8,327,9],[327,11,327,12],[328,2,328,7],[328,8,328,9],[328,11,328,12],[329,2,330,4],[329,5,330,6],[329,7,330,7],[329,8,329,9],[329,10,329,12],[330,8,330,9],[330,10,330,12],[331,2,331,4],[331,5,331,6],[331,8,332,12],[332,2,332,4],[332,5,332,6],[333,2,333,4],[333,5,333,6],[333,8,335,9],[333,10,335,12],[334,2,334,7],[335,3,335,4],[335,5,335,7],[336,3,336,4],[336,5,336,7],[336,8,339,12],[337,3,337,4],[337,5,337,7],[338,3,338,4],[338,5,338,7],[339,3,339,4],[339,5,339,7],[340,3,340,4],[340,5,340,7],[340,8,340,12],[341,0,341,12],[342,0,342,13],[343,1,343,12],[343,13,379,13],[344,1,345,1],[344,2,345,2],[344,3,344,12],[345,3,345,12],[346,1,348,1],[346,2,347,8],[346,9,346,10],[346,11,346,12],[347,9,348,10],[347,11,348,12],[348,2,348,7],[349,2,349,5],[349,7,349,12],[350,2,350,5],[350,7,350,12],[351,2,351,5],[351,7,351,12],[352,2,352,5],[352,7,352,12],[353,2,353,5],[353,7,353,12],[354,2,354,5],[354,7,354,12],[355,2,355,6],[355,10,355,11],[356,2,356,6],[356,10,356,11],[357,2,357,6],[357,10,357,11],[358,2,358,6],[358,10,358,11],[359,2,359,6],[359,10,359,11],[360,2,360,6],[360,10,360,11],[361,2,361,6],[361,10,361,11],[362,2,362,12],[363,2,364,4],[363,5,363,6],[363,7,363,8],[364,5,364,6],[364,7,364,8],[365,2,365,7],[365,8,365,9],[365,11,365,12],[366,2,366,7],[366,8,366,9],[366,11,366,12],[367,2,368,4],[367,5,368,6],[367,7,368,7],[367,8,367,9],[367,10,367,12],[368,8,368,9],[368,10,368,12],[369,2,369,4],[369,5,369,6],[369,8,370,12],[370,2,370,4],[370,5,370,6],[371,2,371,4],[371,5,371,6],[371,8,373,9],[371,10,373,12],[372,2,372,7],[373,3,373,4],[373,5,373,7],[374,3,374,4],[374,5,374,7],[374,8,377,12],[375,3,375,4],[375,5,375,7],[376,3,376,4],[376,5,376,7],[377,3,377,4],[377,5,377,7],[378,3,378,4],[378,5,378,7],[378,8,378,12],[379,0,379,12],[380,0,380,13],[381,1,381,12],[381,13,417,13],[382,1,383,1],[382,2,383,2],[382,3,382,12],[383,3,383,12],[385,9,386,10],[385,11,386,12],[386,2,386,7],[387,2,387,5],[387,7,387,12],[388,2,388,5],[388,7,388,12],[405,2,406,4],[405,5,406,6],[405,7,406,7],[443,2,444,4],[443,5,444,6],[443,7,444,7],[481,2,482,4],[481,5,482,6],[481,7,482,7],[519,2,520,4],[519,5,520,6],[519,7,520,7],[557,2,558,4],[557,5,558,6],[557,7,558,7],[595,2,596,4],[595,5,596,6],[595,7,596,7],[684,0,684,13],[685,1,685,12],[685,13,721,13],[686,1,687,1],[686,2,687,2],[686,3,686,12],[687,3,687,12],[689,9,690,10],[689,11,690,12],[690,2,690,7],[691,2,691,5],[691,7,691,12],[692,2,692,5],[692,7,692,12],[709,2,710,4],[709,5,710,6],[709,7,710,7],[747,2,748,4],[747,5,748,6],[747,7,748,7],[785,2,786,4],[785,5,786,6],[785,7,786,7],[823,2,824,4],[823,5,824,6],[823,7,824,7],[861,2,862,4],[861,5,862,6],[861,7,862,7],[899,2,900,4],[899,5,900,6],[899,7,900,7],[912,0,912,13],[913,1,913,12],[913,13,949,13],[914,1,915,1],[914,2,915,2],[914,3,914,12],[915,3,915,12],[917,9,918,10],[917,11,918,12],[918,2,918,7],[919,2,919,5],[919,7,919,12],[920,2,920,5],[920,7,920,12],[937,2,938,4],[937,5,938,6],[937,7,938,7],[975,2,976,4],[975,5,976,6],[975,7,976,7],[1013,2,1014,4],[1013,5,1014,6],[1013,7,1014,7],[1051,2,1052,4],[1051,5,1052,6],[1051,7,1052,7],[1089,2,1090,4],[1089,5,1090,6],[1089,7,1090,7],[1127,2,1128,4],[1127,5,1128,6],[1127,7,1128,7],[1748,0,1748,13],[1749,1,1749,12],[1749,13,1785,13],[1750,1,1751,1],[1750,2,1751,2],[1750,3,1750,12],[1751,3,1751,12],[1753,9,1754,10],[1753,11,1754,12],[1754,2,1754,7],[1755,2,1755,5],[1755,7,1755,12],[1756,2,1756,5],[1756,7,1756,12],[1773,2,1774,4],[1773,5,1774,6],[1773,7,1774,7],[1811,2,1812,4],[1811,5,1812,6],[1811,7,1812,7],[1849,2,1850,4],[1849,5,1850,6],[1849,7,1850,7],[1887,2,1888,4],[1887,5,1888,6],[1887,7,1888,7],[1925,2,1926,4],[1925,5,1926,6],[1925,7,1926,7],[1963,2,1964,4],[1963,5,1964,6],[1963,7,1964,7],[3420,0,3420,13],[3421,1,3421,12],[3421,13,3457,13],[3422,1,3423,1],[3422,2,3423,2],[3422,3,3422,12],[3423,3,3423,12],[3425,9,3426,10],[3425,11,3426,12],[3426,2,3426,7],[3427,2,3427,5],[3427,7,3427,12],[3428,2,3428,5],[3428,7,3428,12],[3445,2,3446,4],[3445,5,3446,6],[3445,7,3446,7],[3483,2,3484,4],[3483,5,3484,6],[3483,7,3484,7],[3521,2,3522,4],[3521,5,3522,6],[3521,7,3522,7],[3559,2,3560,4],[3559,5,3560,6],[3559,7,3560,7],[3597,2,3598,4],[3597,5,3598,6],[3597,7,3598,7],[3635,2,3636,4],[3635,5,3636,6],[3635,7,3636,7]],"merged_total":8400,"flags":["merged_cut"]}
[]
[1,"Department Of Education, Rajasthan"]
[null,{"$f":"IF(I7>0,CONCATENATE(C7,I7),0)","v":"Roll No.:-301"},null,{"$f":"Master!$E$8","v":"Govt.Sr.Sec.Sch. "}]
[{"$nulls":3},{"$f":"Master!$E$11","v":"P.S.-Bapini (Jodhpur)"}]
[null,null,"Report Card",{"$nulls":6},"U-DISE Code:-",null,{"$f":"Master!$E$14","v":{"v":810000000,"d":"0810000000"}}]
[{"$nulls":9},"Session:-",null,{"$f":"Master!$E$6","v":"2022-23"}]
[null,null,"Roll No.:-",{"$nulls":5},{"$f":"VLOOKUP($A2,'Result Entry'!$B$9:$F$108,5,0)","v":301}]
[null,"◐","Scholar Number",{"$nulls":3},"↠",{"$f":"VLOOKUP($A2,'Result Entry'!$B$9:$DX$108,3,0)","v":1}]
[null,"◐","Student's Name",{"$nulls":3},"↠",{"$f":"VLOOKUP($A2,'Result Entry'!$B$9:$DX$108,6,0)","v":"a"}]
[null,"◐","Father's Name",{"$nulls":3},"↠",{"$f":"VLOOKUP($A2,'Result Entry'!$B$9:$DX$108,7,0)","v":"b"}]
[null,"◐","Mother's Name ",{"$nulls":3},"↠",{"$f":"VLOOKUP($A2,'Result Entry'!$B$9:$DX$108,8,0)","v":"c"}]
[null,"◐","Class & Section",{"$nulls":3},"↠",{"$f":"CONCATENATE('Result Entry'!$F$4,'Result Entry'!$I$4)","v":"2(A)"}]
[null,"◐","Date Of Birth",{"$nulls":3},"↠",{"$f":"VLOOKUP($A2,'Result Entry'!$B$9:$DX$108,9,0)","v":"2200-05-04"}]
[null,"◐","Subject",{"$nulls":4},"Half Yearly","Total (T+H.Y.)","Yearly","Grand Total",null,"Subject Grade"]
[null,"◐","Max. Marks",{"$nulls":4},{"$f":"'Result Entry'!$Q$7","v":100},{"$f":"G15+H15","v":100},{"$f":"'Result Entry'!$U$7","v":100},{"$f":"I15+J15","v":200},null,"A/B/C/D/E"]
[null,"◐",{"$f":"'Result Entry'!$K$3","v":"Hindi"},{"$nulls":4},{"$f":"IF(OR(C16=\"\",$I7=\"NSO\"),\"\",VLOOKUP($A2,'Result Entry'!$B$9:$DX$108,16,0))","v":94},{"$f":"SUM(G16,H16)","v":94},{"$f":"IF(OR(C16=\"\",$I7=\"NSO\"),\"\",VLOOKUP($A2,'Result Entry'!$B$9:$DX$108,20,0))","v":70},{"$f":"SUM(I16,J16)","v":164},null,{"$f":"IF(OR(C16=\"\",$I7=\"NSO\"),\"\",VLOOKUP($A2,'Result Entry'!$B$9:$DX$108,23,0))","v":"B"}]
[null,"◐",{"$f":"'Result Entry'!$Y$3","v":"Mathematics"},{"$nulls":4},{"$f":"IF(OR(C17=\"\",$I7=\"NSO\"),\"\",VLOOKUP($A2,'Result Entry'!$B$9:$DX$108,30,0))","v":70},{"$f":"SUM(G17,H17)","v":70},{"$f":"IF(OR(C17=\"\",$I7=\"NSO\"),\"\",VLOOKUP($A2,'Result Entry'!$B$9:$DX$108,34,0))","v":60},{"$f":"SUM(I17,J17)","v":130},null,{"$f":"IF(OR(C17=\"\",$I7=\"NSO\"),\"\",VLOOKUP($A2,'Result Entry'!$B$9:$DX$108,37,0))","v":"C"}]
[null,"◐",{"$f":"'Result Entry'!$BO$3","v":"Env. Study"},{"$nulls":4},{"$f":"IF(OR(C18=\"\",$I7=\"NSO\"),\"\",VLOOKUP($A2,'Result Entry'!$B$9:$DX$108,66,0))","v":20},{"$f":"SUM(G18,H18)","v":20},{"$f":"IF(OR(C18=\"\",$I7=\"NSO\"),\"\",VLOOKUP($A2,'Result Entry'!$B$9:$DX$108,67,0))","v":40},{"$f":"SUM(I18,J18)","v":60},null,{"$f":"IF(OR(C18=\"\",$I7=\"NSO\"),\"\",VLOOKUP($A2,'Result Entry'!$B$9:$DX$108,73,0))","v":"C"}]
[null,"◐","Max. Marks",{"$nulls":4},{"$f":"'Result Entry'!$AS$7","v":50},50,{"$f":"'Result Entry'!$AW$7","v":50},100,null,"A/B/C/D/E"]
[null,"◐",{"$f":"'Result Entry'!$AM$3","v":"English"},{"$nulls":4},{"$f":"IF(OR(C20=\"\",$I7=\"NSO\"),\"\",VLOOKUP($A2,'Result Entry'!$B$9:$DX$108,44,0))","v":30},30,{"$f":"IF(OR(C20=\"\",$I7=\"NSO\"),\"\",VLOOKUP($A2,'Result Entry'!$B$9:$DX$108,48,0))","v":40},70,null,{"$f":"IF(OR(C20=\"\",$I7=\"NSO\"),\"\",VLOOKUP($A2,'Result Entry'!$B$9:$DX$108,51,0))","v":"C"}]
[null,"◐"]
[null,"◐","Overall Result",null,null,"Total Max. Marks",null,"Total Obtained Marks",null,"Percentage","Overall Grade","Result","Position in Class"]
[null,"◐",{"$nulls":3},{"$f":"IF(OR($I7=\"\",$I7=\"NSO\"),\"\",VLOOKUP($A2,'Result Entry'!$B$9:$DX$108,101,0))","v":500},null,{"$f":"IF(OR($I7=\"\",$I7=\"NSO\"),\"\",VLOOKUP($A2,'Result Entry'!$B$9:$DX$108,102,0))","v":364},null,{"$f":"IF(OR($I7=\"\",$I7=\"NSO\"),\"\",VLOOKUP($A2,'Result Entry'!$B$9:$DX$108,103,0))","v":{"v":72.8,"d":"72.80"}},{"$f":"IF(OR($I7=\"\",$I7=\"NSO\"),\"\",VLOOKUP($A2,'Result Entry'!$B$9:$DX$108,104,0))","v":"B"},{"$f":"IF(OR($I7=\"\",$I7=\"NSO\"),\"\",VLOOKUP($A2,'Result Entry'!$B$9:$DX$108,105,0))","v":"Passed"},{"$f":"IF(OR($I7=\"\",$I7=\"NSO\"),\"\",VLOOKUP($A2,'Result Entry'!$B$9:$DX$108,107,0))","v":0.999999999999998}]
[null,"◐",{"$nulls":6},"Total Meetings :-",null,{"$f":"IF(OR($I7=\"\",$I7=\"NSO\"),\"\",VLOOKUP($A2,'Result Entry'!$B$9:$DX$108,98,0))","v":0},"Attedance %"]
[null,"◐","Extra Subjects",{"$nulls":5},"Student's Meetings :-",null,{"$f":"IF(OR($I7=\"\",$I7=\"NSO\"),\"\",VLOOKUP($A2,'Result Entry'!$B$9:$DX$108,99,0))","v":0},{"$f":"IF(OR($I7=\"\",$I7=\"NSO\"),\"\",VLOOKUP($A2,'Result Entry'!$B$9:$DX$108,100,0))","v":""}]
[null,"◐","Subject",null,null,"Total Marks",null,"GRADE","Remark :-",null,{"$f":"IF(OR($I7=\"\",$I7=\"NSO\"),\"\",VLOOKUP($A2,'Result Entry'!$B$9:$DX$108,108,0))","v":"Very Good"}]
[null,"◐",{"$nulls":6},"Result Date :-",null,{"$f":"'Result Entry'!$T$2","v":"2023-05-24"}]
[null,"◐",{"$f":"'Result Entry'!$BW$3","v":"WORK EXP."},null,null,{"$f":"IF(OR(C28=\"\",$I7=\"NSO\"),\"\",VLOOKUP($A2,'Result Entry'!$B$9:$DX$108,119,0))","v":"40/50"},null,{"$f":"IF(OR(C28=\"\",$I7=\"NSO\"),\"\",VLOOKUP($A2,'Result Entry'!$B$9:$DX$108,81,0))","v":"B"}]
[null,null,{"$f":"'Result Entry'!$CE$3","v":"ART EDU."},null,null,{"$f":"IF(OR(C29=\"\",$I7=\"NSO\"),\"\",VLOOKUP($A2,'Result Entry'!$B$9:$DX$108,123,0))","v":"40/50"},null,{"$f":"IF(OR(C29=\"\",$I7=\"NSO\"),\"\",VLOOKUP($A2,'Result Entry'!$B$9:$DX$108,89,0))","v":"B"}]
[null,"◐",{"$f":"'Result Entry'!$CM$3","v":"H&P. EDU."},null,null,{"$f":"IF(OR(C30=\"\",$I7=\"NSO\"),\"\",VLOOKUP($A2,'Result Entry'!$B$9:$DX$108,127,0))","v":"40/100"},null,{"$f":"IF(OR(C30=\"\",$I7=\"NSO\"),\"\",VLOOKUP($A2,'Result Entry'!$B$9:$DX$108,97,0))","v":"D"},"Signature Of The Class Teacher"]
[null,"◐","Grading System"]
[null,"◐","Grd.","% Range",null,"Description"]
[null,"◐","A","86-100",null,"Excellent",null,null,"Signature And Seal Of Principal/H.M."]
[null,"◐","B","71-85",null,"Very Good"]
[null,"◐","C","51-70",null,"Good"]
[null,"◐","D","31-50",null,"Average"]
[null,"◐","E","0-30",null,"Needs Improvement",null,null,"Wish bright future"]
[]
[]
[{"$f":"A2+1","v":2},"Department Of Education, Rajasthan"]
[null,{"$f":"IF(I45>0,CONCATENATE(C45,I45),0)","v":"Roll No.:-302"},null,{"$f":"Master!$E$8","v":"Govt.Sr.Sec.Sch. "}]
[{"$nulls":3},{"$f":"Master!$E$11","v":"P.S.-Bapini (Jodhpur)"}]
[null,null,"Report Card",{"$nulls":6},"U-DISE Code:-",null,{"$f":"Master!$E$14","v":{"v":810000000,"d":"0810000000"}}]
[{"$nulls":9},"Session:-",null,{"$f":"Master!$E$6","v":"2022-23"}]
[null,null,"Roll No.:-",{"$nulls":5},{"$f":"VLOOKUP($A40,'Result Entry'!$B$9:$F$108,5,0)","v":302}]
[null,"◐","Scholar Number",{"$nulls":3},"↠",{"$f":"VLOOKUP($A40,'Result Entry'!$B$9:$DX$108,3,0)","v":2}]
[null,"◐","Student's Name",{"$nulls":3},"↠",{"$f":"VLOOKUP($A40,'Result Entry'!$B$9:$DX$108,6,0)","v":"f"}]
[null,"◐","Father's Name",{"$nulls":3},"↠",{"$f":"VLOOKUP($A40,'Result Entry'!$B$9:$DX$108,7,0)","v":"Father's Name"}]
[null,"◐","Mother's Name ",{"$nulls":3},"↠",{"$f":"VLOOKUP($A40,'Result Entry'!$B$9:$DX$108,8,0)","v":"f"}]
[null,"◐","Class & Section",{"$nulls":3},"↠",{"$f":"CONCATENATE('Result Entry'!$F$4,'Result Entry'!$I$4)","v":"2(A)"}]
[null,"◐","Date Of Birth",{"$nulls":3},"↠",{"$f":"VLOOKUP($A40,'Result Entry'!$B$9:$DX$108,9,0)","v":"1998-08-05"}]
[null,"◐","Subject",{"$nulls":4},"Half Yearly","Total (T+H.Y.)","Yearly","Grand Total",null,"Subject Grade"]
[null,"◐","Max. Marks",{"$nulls":4},{"$f":"'Result Entry'!$Q$7","v":100},{"$f":"G53+H53","v":100},{"$f":"'Result Entry'!$U$7","v":100},{"$f":"I53+J53","v":200},null,"A/B/C/D/E"]
[null,"◐",{"$f":"'Result Entry'!$K$3","v":"Hindi"},{"$nulls":4},{"$f":"IF(OR(C54=\"\",$I45=\"NSO\"),\"\",VLOOKUP($A40,'Result Entry'!$B$9:$DX$108,16,0))","v":0},{"$f":"SUM(G54,H54)","v":0},{"$f":"IF(OR(C54=\"\",$I45=\"NSO\"),\"\",VLOOKUP($A40,'Result Entry'!$B$9:$DX$108,20,0))","v":0},{"$f":"SUM(I54,J54)","v":0},null,{"$f":"IF(OR(C54=\"\",$I45=\"NSO\"),\"\",VLOOKUP($A40,'Result Entry'!$B$9:$DX$108,23,0))","v":0}]
[null,"◐",{"$f":"'Result Entry'!$Y$3","v":"Mathematics"},{"$nulls":4},{"$f":"IF(OR(C55=\"\",$I45=\"NSO\"),\"\",VLOOKUP($A40,'Result Entry'!$B$9:$DX$108,30,0))","v":0},{"$f":"SUM(G55,H55)","v":0},{"$f":"IF(OR(C55=\"\",$I45=\"NSO\"),\"\",VLOOKUP($A40,'Result Entry'!$B$9:$DX$108,34,0))","v":0},{"$f":"SUM(I55,J55)","v":0},null,{"$f":"IF(OR(C55=\"\",$I45=\"NSO\"),\"\",VLOOKUP($A40,'Result Entry'!$B$9:$DX$108,37,0))","v":0}]
[null,"◐",{"$f":"'Result Entry'!$BO$3","v":"Env. Study"},{"$nulls":4},{"$f":"IF(OR(C56=\"\",$I45=\"NSO\"),\"\",VLOOKUP($A40,'Result Entry'!$B$9:$DX$108,66,0))","v":0},{"$f":"SUM(G56,H56)","v":0},{"$f":"IF(OR(C56=\"\",$I45=\"NSO\"),\"\",VLOOKUP($A40,'Result Entry'!$B$9:$DX$108,67,0))","v":0},{"$f":"SUM(I56,J56)","v":0},null,{"$f":"IF(OR(C56=\"\",$I45=\"NSO\"),\"\",VLOOKUP($A40,'Result Entry'!$B$9:$DX$108,73,0))","v":0}]
[null,"◐","Max. Marks",{"$nulls":4},{"$f":"'Result Entry'!$AS$7","v":50},{"$f":"SUM(G57,H57)","v":50},{"$f":"'Result Entry'!$AW$7","v":50},100,null,"A/B/C/D/E"]
[null,"◐",{"$f":"'Result Entry'!$AM$3","v":"English"},{"$nulls":4},{"$f":"IF(OR(C58=\"\",$I45=\"NSO\"),\"\",VLOOKUP($A40,'Result Entry'!$B$9:$DX$108,44,0))","v":0},0,{"$f":"IF(OR(C58=\"\",$I45=\"NSO\"),\"\",VLOOKUP($A40,'Result Entry'!$B$9:$DX$108,48,0))","v":0},0,null,{"$f":"IF(OR(C58=\"\",$I45=\"NSO\"),\"\",VLOOKUP($A40,'Result Entry'!$B$9:$DX$108,51,0))","v":0}]
[null,"◐"]
[null,"◐","Overall Result",null,null,"Total Max. Marks",null,"Total Obtained Marks",null,"Percentage","Overall Grade","Result","Position in Class"]
[null,"◐",{"$nulls":3},{"$f":"IF(OR($I45=\"\",$I45=\"NSO\"),\"\",VLOOKUP($A40,'Result Entry'!$B$9:$DX$108,101,0))","v":500},null,{"$f":"IF(OR($I45=\"\",$I45=\"NSO\"),\"\",VLOOKUP($A40,'Result Entry'!$B$9:$DX$108,102,0))","v":0},null,{"$f":"IF(OR($I45=\"\",$I45=\"NSO\"),\"\",VLOOKUP($A40,'Result Entry'!$B$9:$DX$108,103,0))","v":{"v":0,"d":"0.00"}},{"$f":"IF(OR($I45=\"\",$I45=\"NSO\"),\"\",VLOOKUP($A40,'Result Entry'!$B$9:$DX$108,104,0))","v":0},{"$f":"IF(OR($I45=\"\",$I45=\"NSO\"),\"\",VLOOKUP($A40,'Result Entry'!$B$9:$DX$108,105,0))","v":"Promoted"},{"$f":"IF(OR($I45=\"\",$I45=\"NSO\"),\"\",VLOOKUP($A40,'Result Entry'!$B$9:$DX$108,107,0))","v":""}]
[null,"◐",{"$nulls":6},"Total Meetings :-",null,{"$f":"IF(OR($I45=\"\",$I45=\"NSO\"),\"\",VLOOKUP($A40,'Result Entry'!$B$9:$DX$108,98,0))","v":0},"Attedance %"]
[null,"◐","Extra Subjects",{"$nulls":5},"Student's Meetings :-",null,{"$f":"IF(OR($I45=\"\",$I45=\"NSO\"),\"\",VLOOKUP($A40,'Result Entry'!$B$9:$DX$108,99,0))","v":0},{"$f":"IF(OR($I45=\"\",$I45=\"NSO\"),\"\",VLOOKUP($A40,'Result Entry'!$B$9:$DX$108,100,0))","v":""}]
[null,"◐","Subject",null,null,"Total Marks",null,"GRADE","Remark :-",null,{"$f":"IF(OR($I45=\"\",$I45=\"NSO\"),\"\",VLOOKUP($A40,'Result Entry'!$B$9:$DX$108,108,0))","v":0}]
[null,"◐",{"$nulls":6},"Result Date :-",null,{"$f":"'Result Entry'!$T$2","v":"2023-05-24"}]
[null,"◐",{"$f":"'Result Entry'!$BW$3","v":"WORK EXP."},null,null,{"$f":"IF(OR(C66=\"\",$I45=\"NSO\"),\"\",VLOOKUP($A40,'Result Entry'!$B$9:$DX$108,119,0))","v":"0/50"},null,{"$f":"IF(OR(C66=\"\",$I45=\"NSO\"),\"\",VLOOKUP($A40,'Result Entry'!$B$9:$DX$108,81,0))","v":0}]
[null,null,{"$f":"'Result Entry'!$CE$3","v":"ART EDU."},null,null,{"$f":"IF(OR(C67=\"\",$I45=\"NSO\"),\"\",VLOOKUP($A40,'Result Entry'!$B$9:$DX$108,123,0))","v":"0/50"},null,{"$f":"IF(OR(C67=\"\",$I45=\"NSO\"),\"\",VLOOKUP($A40,'Result Entry'!$B$9:$DX$108,89,0))","v":0}]
[null,"◐",{"$f":"'Result Entry'!$CM$3","v":"H&P. EDU."},null,null,{"$f":"IF(OR(C68=\"\",$I45=\"NSO\"),\"\",VLOOKUP($A40,'Result Entry'!$B$9:$DX$108,127,0))","v":"0/100"},null,{"$f":"IF(OR(C68=\"\",$I45=\"NSO\"),\"\",VLOOKUP($A40,'Result Entry'!$B$9:$DX$108,97,0))","v":0},"Signature Of The Class Teacher"]
[null,"◐","Grading System"]
[null,"◐","Grd.","% Range",null,"Description"]
[null,"◐","A","86-100",null,"Excellent",null,null,"Signature And Seal Of Principal/H.M."]
[null,"◐","B","71-85",null,"Very Good"]
[null,"◐","C","51-70",null,"Good"]
[null,"◐","D","31-50",null,"Average"]
[null,"◐","E","0-30",null,"Needs Improvement",null,null,"Wish bright future"]
[]
[]
[{"$f":"A40+1","v":3},"Department Of Education, Rajasthan"]
[null,{"$f":"IF(I83>0,CONCATENATE(C83,I83),0)","v":0},null,{"$f":"Master!$E$8","v":"Govt.Sr.Sec.Sch. "}]
[{"$nulls":3},{"$f":"Master!$E$11","v":"P.S.-Bapini (Jodhpur)"}]
[null,null,"Report Card",{"$nulls":6},"U-DISE Code:-",null,{"$f":"Master!$E$14","v":{"v":810000000,"d":"0810000000"}}]
[{"$nulls":9},"Session:-",null,{"$f":"Master!$E$6","v":"2022-23"}]
[null,null,"Roll No.:-",{"$nulls":5},{"$f":"VLOOKUP($A78,'Result Entry'!$B$9:$F$108,5,0)","v":0}]
[null,"◐","Scholar Number",{"$nulls":3},"↠",{"$f":"VLOOKUP($A78,'Result Entry'!$B$9:$DX$108,3,0)","v":0}]
[null,"◐","Student's Name",{"$nulls":3},"↠",{"$f":"VLOOKUP($A78,'Result Entry'!$B$9:$DX$108,6,0)","v":0}]
[null,"◐","Father's Name",{"$nulls":3},"↠",{"$f":"VLOOKUP($A78,'Result Entry'!$B$9:$DX$108,7,0)","v":0}]
[null,"◐","Mother's Name ",{"$nulls":3},"↠",{"$f":"VLOOKUP($A78,'Result Entry'!$B$9:$DX$108,8,0)","v":0}]
[null,"◐","Class & Section",{"$nulls":3},"↠",{"$f":"CONCATENATE('Result Entry'!$F$4,'Result Entry'!$I$4)","v":"2(A)"}]
[null,"◐","Date Of Birth",{"$nulls":3},"↠",{"$f":"VLOOKUP($A78,'Result Entry'!$B$9:$DX$108,9,0)","v":"00:00:00"}]
[null,"◐","Subject",{"$nulls":4},"Half Yearly","Total (T+H.Y.)","Yearly","Grand Total",null,"Subject Grade"]
[null,"◐","Max. Marks",{"$nulls":4},{"$f":"'Result Entry'!$Q$7","v":100},{"$f":"G91+H91","v":100},{"$f":"'Result Entry'!$U$7","v":100},{"$f":"I91+J91","v":200},null,"A/B/C/D/E"]
[null,"◐",{"$f":"'Result Entry'!$K$3","v":"Hindi"},{"$nulls":4},{"$f":"IF(OR(C92=\"\",$I83=\"NSO\"),\"\",VLOOKUP($A78,'Result Entry'!$B$9:$DX$108,16,0))","v":0},{"$f":"SUM(G92,H92)","v":0},{"$f":"IF(OR(C92=\"\",$I83=\"NSO\"),\"\",VLOOKUP($A78,'Result Entry'!$B$9:$DX$108,20,0))","v":0},{"$f":"SUM(I92,J92)","v":0},null,{"$f":"IF(OR(C92=\"\",$I83=\"NSO\"),\"\",VLOOKUP($A78,'Result Entry'!$B$9:$DX$108,23,0))","v":""}]
[null,"◐",{"$f":"'Result Entry'!$Y$3","v":"Mathematics"},{"$nulls":4},{"$f":"IF(OR(C93=\"\",$I83=\"NSO\"),\"\",VLOOKUP($A78,'Result Entry'!$B$9:$DX$108,30,0))","v":0},{"$f":"SUM(G93,H93)","v":0},{"$f":"IF(OR(C93=\"\",$I83=\"NSO\"),\"\",VLOOKUP($A78,'Result Entry'!$B$9:$DX$108,34,0))","v":0},{"$f":"SUM(I93,J93)","v":0},null,{"$f":"IF(OR(C93=\"\",$I83=\"NSO\"),\"\",VLOOKUP($A78,'Result Entry'!$B$9:$DX$108,37,0))","v":""}]
[null,"◐",{"$f":"'Result Entry'!$BO$3","v":"Env. Study"},{"$nulls":4},{"$f":"IF(OR(C94=\"\",$I83=\"NSO\"),\"\",VLOOKUP($A78,'Result Entry'!$B$9:$DX$108,66,0))","v":0},0,{"$f":"IF(OR(C94=\"\",$I83=\"NSO\"),\"\",VLOOKUP($A78,'Result Entry'!$B$9:$DX$108,67,0))","v":0},0,null,{"$f":"IF(OR(C94=\"\",$I83=\"NSO\"),\"\",VLOOKUP($A78,'Result Entry'!$B$9:$DX$108,73,0))","v":""}]
[null,"◐","Max. Marks",{"$nulls":4},{"$f":"'Result Entry'!$AS$7","v":50},50,{"$f":"'Result Entry'!$AW$7","v":50},100,null,"A/B/C/D/E"]
[null,"◐",{"$f":"'Result Entry'!$AM$3","v":"English"},{"$nulls":4},{"$f":"IF(OR(C96=\"\",$I83=\"NSO\"),\"\",VLOOKUP($A78,'Result Entry'!$B$9:$DX$108,44,0))","v":0},0,{"$f":"IF(OR(C96=\"\",$I83=\"NSO\"),\"\",VLOOKUP($A78,'Result Entry'!$B$9:$DX$108,48,0))","v":0},0,null,{"$f":"IF(OR(C96=\"\",$I83=\"NSO\"),\"\",VLOOKUP($A78,'Result Entry'!$B$9:$DX$108,51,0))","v":""}]
[null,"◐"]
[null,"◐","Overall Result",null,null,"Total Max. Marks",null,"Total Obtained Marks",null,"Percentage","Overall Grade","Result","Position in Class"]
[null,"◐",{"$nulls":3},{"$f":"IF(OR($I83=\"\",$I83=\"NSO\"),\"\",VLOOKUP($A78,'Result Entry'!$B$9:$DX$108,101,0))","v":500},null,{"$f":"IF(OR($I83=\"\",$I83=\"NSO\"),\"\",VLOOKUP($A78,'Result Entry'!$B$9:$DX$108,102,0))","v":0},null,{"$f":"IF(OR($I83=\"\",$I83=\"NSO\"),\"\",VLOOKUP($A78,'Result Entry'!$B$9:$DX$108,103,0))","v":{"v":0,"d":"0.00"}},{"$f":"IF(OR($I83=\"\",$I83=\"NSO\"),\"\",VLOOKUP($A78,'Result Entry'!$B$9:$DX$108,104,0))","v":""},{"$f":"IF(OR($I83=\"\",$I83=\"NSO\"),\"\",VLOOKUP($A78,'Result Entry'!$B$9:$DX$108,105,0))","v":""},{"$f":"IF(OR($I83=\"\",$I83=\"NSO\"),\"\",VLOOKUP($A78,'Result Entry'!$B$9:$DX$108,107,0))","v":""}]
[null,"◐",{"$nulls":6},"Total Meetings :-",null,{"$f":"IF(OR($I83=\"\",$I83=\"NSO\"),\"\",VLOOKUP($A78,'Result Entry'!$B$9:$DX$108,98,0))","v":0},"Attedance %"]
[null,"◐","Extra Subjects",{"$nulls":5},"Student's Meetings :-",null,{"$f":"IF(OR($I83=\"\",$I83=\"NSO\"),\"\",VLOOKUP($A78,'Result Entry'!$B$9:$DX$108,99,0))","v":0},{"$f":"IF(OR($I83=\"\",$I83=\"NSO\"),\"\",VLOOKUP($A78,'Result Entry'!$B$9:$DX$108,100,0))","v":""}]
[null,"◐","Subject",null,null,"Total Marks",null,"GRADE","Remark :-",null,{"$f":"IF(OR($I83=\"\",$I83=\"NSO\"),\"\",VLOOKUP($A78,'Result Entry'!$B$9:$DX$108,108,0))","v":0}]
[null,"◐",{"$nulls":6},"Result Date :-",null,{"$f":"'Result Entry'!$T$2","v":"2023-05-24"}]
[null,"◐",{"$f":"'Result Entry'!$BW$3","v":"WORK EXP."},null,null,{"$f":"IF(OR(C104=\"\",$I83=\"NSO\"),\"\",VLOOKUP($A78,'Result Entry'!$B$9:$DX$108,119,0))","v":"0/50"},null,{"$f":"IF(OR(C104=\"\",$I83=\"NSO\"),\"\",VLOOKUP($A78,'Result Entry'!$B$9:$DX$108,81,0))","v":""}]
[null,null,{"$f":"'Result Entry'!$CE$3","v":"ART EDU."},null,null,{"$f":"IF(OR(C105=\"\",$I83=\"NSO\"),\"\",VLOOKUP($A78,'Result Entry'!$B$9:$DX$108,123,0))","v":"0/50"},null,{"$f":"IF(OR(C105=\"\",$I83=\"NSO\"),\"\",VLOOKUP($A78,'Result Entry'!$B$9:$DX$108,89,0))","v":""}]
[null,"◐",{"$f":"'Result Entry'!$CM$3","v":"H&P. EDU."},null,null,{"$f":"IF(OR(C106=\"\",$I83=\"NSO\"),\"\",VLOOKUP($A78,'Result Entry'!$B$9:$DX$108,127,0))","v":"0/100"},null,{"$f":"IF(OR(C106=\"\",$I83=\"NSO\"),\"\",VLOOKUP($A78,'Result Entry'!$B$9:$DX$108,97,0))","v":""},"Signature Of The Class Teacher"]
[null,"◐","Grading System"]
[null,"◐","Grd.","% Range",null,"Description"]
[null,"◐","A","86-100",null,"Excellent",null,null,"Signature And Seal Of Principal/H.M."]
[null,"◐","B","71-85",null,"Very Good"]
[null,"◐","C","51-70",null,"Good"]
[null,"◐","D","31-50",null,"Average"]
[null,"◐","E","0-30",null,"Needs Improvement",null,null,"Wish bright future"]
[]
[]
[{"$f":"A78+1","v":4},"Department Of Education, Rajasthan"]
[null,{"$f":"IF(I121>0,CONCATENATE(C121,I121),0)","v":0},null,{"$f":"Master!$E$8","v":"Govt.Sr.Sec.Sch. "}]
[{"$nulls":3},{"$f":"Master!$E$11","v":"P.S.-Bapini (Jodhpur)"}]
[null,null,"Report Card",{"$nulls":6},"U-DISE Code:-",null,{"$f":"Master!$E$14","v":{"v":810000000,"d":"0810000000"}}]
[{"$nulls":9},"Session:-",null,{"$f":"Master!$E$6","v":"2022-23"}]
[null,null,"Roll No.:-",{"$nulls":5},{"$f":"VLOOKUP($A116,'Result Entry'!$B$9:$F$108,5,0)","v":0}]
[null,"◐","Scholar Number",{"$nulls":3},"↠",{"$f":"VLOOKUP($A116,'Result Entry'!$B$9:$DX$108,3,0)","v":0}]
[null,"◐","Student's Name",{"$nulls":3},"↠",{"$f":"VLOOKUP($A116,'Result Entry'!$B$9:$DX$108,6,0)","v":0}]
[null,"◐","Father's Name",{"$nulls":3},"↠",{"$f":"VLOOKUP($A116,'Result Entry'!$B$9:$DX$108,7,0)","v":0}]
[null,"◐","Mother's Name ",{"$nulls":3},"↠",{"$f":"VLOOKUP($A116,'Result Entry'!$B$9:$DX$108,8,0)","v":0}]
[null,"◐","Class & Section",{"$nulls":3},"↠",{"$f":"CONCATENATE('Result Entry'!$F$4,'Result Entry'!$I$4)","v":"2(A)"}]
[null,"◐","Date Of Birth",{"$nulls":3},"↠",{"$f":"VLOOKUP($A116,'Result Entry'!$B$9:$DX$108,9,0)","v":"00:00:00"}]
[null,"◐","Subject",{"$nulls":4},"Half Yearly","Total (T+H.Y.)","Yearly","Grand Total",null,"Subject Grade"]
[null,"◐","Max. Marks",{"$nulls":4},{"$f":"'Result Entry'!$Q$7","v":100},{"$f":"G129+H129","v":100},{"$f":"'Result Entry'!$U$7","v":100},{"$f":"I129+J129","v":200},null,"A/B/C/D/E"]
[null,"◐",{"$f":"'Result Entry'!$K$3","v":"Hindi"},{"$nulls":4},{"$f":"IF(OR(C130=\"\",$I121=\"NSO\"),\"\",VLOOKUP($A116,'Result Entry'!$B$9:$DX$108,16,0))","v":0},{"$f":"SUM(G130,H130)","v":0},{"$f":"IF(OR(C130=\"\",$I121=\"NSO\"),\"\",VLOOKUP($A116,'Result Entry'!$B$9:$DX$108,20,0))","v":0},{"$f":"SUM(I130,J130)","v":0},null,{"$f":"IF(OR(C130=\"\",$I121=\"NSO\"),\"\",VLOOKUP($A116,'Result Entry'!$B$9:$DX$108,23,0))","v":""}]
[null,"◐",{"$f":"'Result Entry'!$Y$3","v":"Mathematics"},{"$nulls":4},{"$f":"IF(OR(C131=\"\",$I121=\"NSO\"),\"\",VLOOKUP($A116,'Result Entry'!$B$9:$DX$108,30,0))","v":0},{"$f":"SUM(G131,H131)","v":0},{"$f":"IF(OR(C131=\"\",$I121=\"NSO\"),\"\",VLOOKUP($A116,'Result Entry'!$B$9:$DX$108,34,0))","v":0},{"$f":"SUM(I131,J131)","v":0},null,{"$f":"IF(OR(C131=\"\",$I121=\"NSO\"),\"\",VLOOKUP($A116,'Result Entry'!$B$9:$DX$108,37,0))","v":""}]
[null,"◐",{"$f":"'Result Entry'!$BO$3","v":"Env. Study"},{"$nulls":4},{"$f":"IF(OR(C132=\"\",$I121=\"NSO\"),\"\",VLOOKUP($A116,'Result Entry'!$B$9:$DX$108,66,0))","v":0},0,{"$f":"IF(OR(C132=\"\",$I121=\"NSO\"),\"\",VLOOKUP($A116,'Result Entry'!$B$9:$DX$108,67,0))","v":0},0,null,{"$f":"IF(OR(C132=\"\",$I121=\"NSO\"),\"\",VLOOKUP($A116,'Result Entry'!$B$9:$DX$108,73,0))","v":""}]
[null,"◐","Max. Marks",{"$nulls":4},{"$f":"'Result Entry'!$AS$7","v":50},50,{"$f":"'Result Entry'!$AW$7","v":50},100,null,"A/B/C/D/E"]
[null,"◐",{"$f":"'Result Entry'!$AM$3","v":"English"},{"$nulls":4},{"$f":"IF(OR(C134=\"\",$I121=\"NSO\"),\"\",VLOOKUP($A116,'Result Entry'!$B$9:$DX$108,44,0))","v":0},0,{"$f":"IF(OR(C134=\"\",$I121=\"NSO\"),\"\",VLOOKUP($A116,'Result Entry'!$B$9:$DX$108,48,0))","v":0},0,null,{"$f":"IF(OR(C134=\"\",$I121=\"NSO\"),\"\",VLOOKUP($A116,'Result Entry'!$B$9:$DX$108,51,0))","v":""}]
[null,"◐"]
[null,"◐","Overall Result",null,null,"Total Max. Marks",null,"Total Obtained Marks",null,"Percentage","Overall Grade","Result","Position in Class"]
[null,"◐",{"$nulls":3},{"$f":"IF(OR($I121=\"\",$I121=\"NSO\"),\"\",VLOOKUP($A116,'Result Entry'!$B$9:$DX$108,101,0))","v":500},null,{"$f":"IF(OR($I121=\"\",$I121=\"NSO\"),\"\",VLOOKUP($A116,'Result Entry'!$B$9:$DX$108,102,0))","v":0},null,{"$f":"IF(OR($I121=\"\",$I121=\"NSO\"),\"\",VLOOKUP($A116,'Result Entry'!$B$9:$DX$108,103,0))","v":{"v":0,"d":"0.00"}},{"$f":"IF(OR($I121=\"\",$I121=\"NSO\"),\"\",VLOOKUP($A116,'Result Entry'!$B$9:$DX$108,104,0))","v":""},{"$f":"IF(OR($I121=\"\",$I121=\"NSO\"),\"\",VLOOKUP($A116,'Result Entry'!$B$9:$DX$108,105,0))","v":""},{"$f":"IF(OR($I121=\"\",$I121=\"NSO\"),\"\",VLOOKUP($A116,'Result Entry'!$B$9:$DX$108,107,0))","v":""}]
[null,"◐",{"$nulls":6},"Total Meetings :-",null,{"$f":"IF(OR($I121=\"\",$I121=\"NSO\"),\"\",VLOOKUP($A116,'Result Entry'!$B$9:$DX$108,98,0))","v":0},"Attedance %"]
[null,"◐","Extra Subjects",{"$nulls":5},"Student's Meetings :-",null,{"$f":"IF(OR($I121=\"\",$I121=\"NSO\"),\"\",VLOOKUP($A116,'Result Entry'!$B$9:$DX$108,99,0))","v":0},{"$f":"IF(OR($I121=\"\",$I121=\"NSO\"),\"\",VLOOKUP($A116,'Result Entry'!$B$9:$DX$108,100,0))","v":""}]
[null,"◐","Subject",null,null,"Total Marks",null,"GRADE","Remark :-",null,{"$f":"IF(OR($I121=\"\",$I121=\"NSO\"),\"\",VLOOKUP($A116,'Result Entry'!$B$9:$DX$108,108,0))","v":0}]
[null,"◐",{"$nulls":6},"Result Date :-",null,{"$f":"'Result Entry'!$T$2","v":"2023-05-24"}]
[null,"◐",{"$f":"'Result Entry'!$BW$3","v":"WORK EXP."},null,null,{"$f":"IF(OR(C142=\"\",$I121=\"NSO\"),\"\",VLOOKUP($A116,'Result Entry'!$B$9:$DX$108,119,0))","v":"0/50"},null,{"$f":"IF(OR(C142=\"\",$I121=\"NSO\"),\"\",VLOOKUP($A116,'Result Entry'!$B$9:$DX$108,81,0))","v":""}]
[null,null,{"$f":"'Result Entry'!$CE$3","v":"ART EDU."},null,null,{"$f":"IF(OR(C143=\"\",$I121=\"NSO\"),\"\",VLOOKUP($A116,'Result Entry'!$B$9:$DX$108,123,0))","v":"0/50"},null,{"$f":"IF(OR(C143=\"\",$I121=\"NSO\"),\"\",VLOOKUP($A116,'Result Entry'!$B$9:$DX$108,89,0))","v":""}]
[null,"◐",{"$f":"'Result Entry'!$CM$3","v":"H&P. EDU."},null,null,{"$f":"IF(OR(C144=\"\",$I121=\"NSO\"),\"\",VLOOKUP($A116,'Result Entry'!$B$9:$DX$108,127,0))","v":"0/100"},null,{"$f":"IF(OR(C144=\"\",$I121=\"NSO\"),\"\",VLOOKUP($A116,'Result Entry'!$B$9:$DX$108,97,0))","v":""},"Signature Of The Class Teacher"]
[null,"◐","Grading System"]
[null,"◐","Grd.","% Range",null,"Description"]
[null,"◐","A","86-100",null,"Excellent",null,null,"Signature And Seal Of Principal/H.M."]
[null,"◐","B","71-85",null,"Very Good"]
[null,"◐","C","51-70",null,"Good"]
[null,"◐","D","31-50",null,"Average"]
[null,"◐","E","0-30",null,"Needs Improvement",null,null,"Wish bright future"]
[]
[]
[{"$f":"A116+1","v":5},"Department Of Education, Rajasthan"]
[null,{"$f":"IF(I159>0,CONCATENATE(C159,I159),0)","v":0},null,{"$f":"Master!$E$8","v":"Govt.Sr.Sec.Sch. "}]
[{"$nulls":3},{"$f":"Master!$E$11","v":"P.S.-Bapini (Jodhpur)"}]
[null,null,"Report Card",{"$nulls":6},"U-DISE Code:-",null,{"$f":"Master!$E$14","v":{"v":810000000,"d":"0810000000"}}]
[{"$nulls":9},"Session:-",null,{"$f":"Master!$E$6","v":"2022-23"}]
[null,null,"Roll No.:-",{"$nulls":5},{"$f":"VLOOKUP($A154,'Result Entry'!$B$9:$F$108,5,0)","v":0}]
[null,"◐","Scholar Number",{"$nulls":3},"↠",{"$f":"VLOOKUP($A154,'Result Entry'!$B$9:$DX$108,3,0)","v":0}]
[null,"◐","Student's Name",{"$nulls":3},"↠",{"$f":"VLOOKUP($A154,'Result Entry'!$B$9:$DX$108,6,0)","v":0}]
[null,"◐","Father's Name",{"$nulls":3},"↠",{"$f":"VLOOKUP($A154,'Result Entry'!$B$9:$DX$108,7,0)","v":0}]
[null,"◐","Mother's Name ",{"$nulls":3},"↠",{"$f":"VLOOKUP($A154,'Result Entry'!$B$9:$DX$108,8,0)","v":0}]
[null,"◐","Class & Section",{"$nulls":3},"↠",{"$f":"CONCATENATE('Result Entry'!$F$4,'Result Entry'!$I$4)","v":"2(A)"}]
[null,"◐","Date Of Birth",{"$nulls":3},"↠",{"$f":"VLOOKUP($A154,'Result Entry'!$B$9:$DX$108,9,0)","v":"00:00:00"}]
[null,"◐","Subject",{"$nulls":4},"Half Yearly","Total (T+H.Y.)","Yearly","Grand Total",null,"Subject Grade"]
[null,"◐","Max. Marks",{"$nulls":4},{"$f":"'Result Entry'!$Q$7","v":100},{"$f":"G167+H167","v":100},{"$f":"'Result Entry'!$U$7","v":100},{"$f":"I167+J167","v":200},null,"A/B/C/D/E"]
[null,"◐",{"$f":"'Result Entry'!$K$3","v":"Hindi"},{"$nulls":4},{"$f":"IF(OR(C168=\"\",$I159=\"NSO\"),\"\",VLOOKUP($A154,'Result Entry'!$B$9:$DX$108,16,0))","v":0},{"$f":"SUM(G168,H168)","v":0},{"$f":"IF(OR(C168=\"\",$I159=\"NSO\"),\"\",VLOOKUP($A154,'Result Entry'!$B$9:$DX$108,20,0))","v":0},{"$f":"SUM(I168,J168)","v":0},null,{"$f":"IF(OR(C168=\"\",$I159=\"NSO\"),\"\",VLOOKUP($A154,'Result Entry'!$B$9:$DX$108,23,0))","v":""}]
[null,"◐",{"$f":"'Result Entry'!$Y$3","v":"Mathematics"},{"$nulls":4},{"$f":"IF(OR(C169=\"\",$I159=\"NSO\"),\"\",VLOOKUP($A154,'Result Entry'!$B$9:$DX$108,30,0))","v":0},{"$f":"SUM(G169,H169)","v":0},{"$f":"IF(OR(C169=\"\",$I159=\"NSO\"),\"\",VLOOKUP($A154,'Result Entry'!$B$9:$DX$108,34,0))","v":0},{"$f":"SUM(I169,J169)","v":0},null,{"$f":"IF(OR(C169=\"\",$I159=\"NSO\"),\"\",VLOOKUP($A154,'Result Entry'!$B$9:$DX$108,37,0))","v":""}]
[null,"◐",{"$f":"'Result Entry'!$BO$3","v":"Env. Study"},{"$nulls":4},{"$f":"IF(OR(C170=\"\",$I159=\"NSO\"),\"\",VLOOKUP($A154,'Result Entry'!$B$9:$DX$108,66,0))","v":0},0,{"$f":"IF(OR(C170=\"\",$I159=\"NSO\"),\"\",VLOOKUP($A154,'Result Entry'!$B$9:$DX$108,67,0))","v":0},0,null,{"$f":"IF(OR(C170=\"\",$I159=\"NSO\"),\"\",VLOOKUP($A154,'Result Entry'!$B$9:$DX$108,73,0))","v":""}]
[null,"◐","Max. Marks",{"$nulls":4},{"$f":"'Result Entry'!$AS$7","v":50},50,{"$f":"'Result Entry'!$AW$7","v":50},100,null,"A/B/C/D/E"]
[null,"◐",{"$f":"'Result Entry'!$AM$3","v":"English"},{"$nulls":4},{"$f":"IF(OR(C172=\"\",$I159=\"NSO\"),\"\",VLOOKUP($A154,'Result Entry'!$B$9:$DX$108,44,0))","v":0},0,{"$f":"IF(OR(C172=\"\",$I159=\"NSO\"),\"\",VLOOKUP($A154,'Result Entry'!$B$9:$DX$108,48,0))","v":0},0,null,{"$f":"IF(OR(C172=\"\",$I159=\"NSO\"),\"\",VLOOKUP($A154,'Result Entry'!$B$9:$DX$108,51,0))","v":""}]
[null,"◐"]
[null,"◐","Overall Result",null,null,"Total Max. Marks",null,"Total Obtained Marks",null,"Percentage","Overall Grade","Result","Position in Class"]
[null,"◐",{"$nulls":3},{"$f":"IF(OR($I159=\"\",$I159=\"NSO\"),\"\",VLOOKUP($A154,'Result Entry'!$B$9:$DX$108,101,0))","v":500},null,{"$f":"IF(OR($I159=\"\",$I159=\"NSO\"),\"\",VLOOKUP($A154,'Result Entry'!$B$9:$DX$108,102,0))","v":0},null,{"$f":"IF(OR($I159=\"\",$I159=\"NSO\"),\"\",VLOOKUP($A154,'Result Entry'!$B$9:$DX$108,103,0))","v":{"v":0,"d":"0.00"}},{"$f":"IF(OR($I159=\"\",$I159=\"NSO\"),\"\",VLOOKUP($A154,'Result Entry'!$B$9:$DX$108,104,0))","v":""},{"$f":"IF(OR($I159=\"\",$I159=\"NSO\"),\"\",VLOOKUP($A154,'Result Entry'!$B$9:$DX$108,105,0))","v":""},{"$f":"IF(OR($I159=\"\",$I159=\"NSO\"),\"\",VLOOKUP($A154,'Result Entry'!$B$9:$DX$108,107,0))","v":""}]
[null,"◐",{"$nulls":6},"Total Meetings :-",null,{"$f":"IF(OR($I159=\"\",$I159=\"NSO\"),\"\",VLOOKUP($A154,'Result Entry'!$B$9:$DX$108,98,0))","v":0},"Attedance %"]
[null,"◐","Extra Subjects",{"$nulls":5},"Student's Meetings :-",null,{"$f":"IF(OR($I159=\"\",$I159=\"NSO\"),\"\",VLOOKUP($A154,'Result Entry'!$B$9:$DX$108,99,0))","v":0},{"$f":"IF(OR($I159=\"\",$I159=\"NSO\"),\"\",VLOOKUP($A154,'Result Entry'!$B$9:$DX$108,100,0))","v":""}]
[null,"◐","Subject",null,null,"Total Marks",null,"GRADE","Remark :-",null,{"$f":"IF(OR($I159=\"\",$I159=\"NSO\"),\"\",VLOOKUP($A154,'Result Entry'!$B$9:$DX$108,108,0))","v":0}]
[null,"◐",{"$nulls":6},"Result Date :-",null,{"$f":"'Result Entry'!$T$2","v":"2023-05-24"}]
[null,"◐",{"$f":"'Result Entry'!$BW$3","v":"WORK EXP."},null,null,{"$f":"IF(OR(C180=\"\",$I159=\"NSO\"),\"\",VLOOKUP($A154,'Result Entry'!$B$9:$DX$108,119,0))","v":"0/50"},null,{"$f":"IF(OR(C180=\"\",$I159=\"NSO\"),\"\",VLOOKUP($A154,'Result Entry'!$B$9:$DX$108,81,0))","v":""}]
[null,null,{"$f":"'Result Entry'!$CE$3","v":"ART EDU."},null,null,{"$f":"IF(OR(C181=\"\",$I159=\"NSO\"),\"\",VLOOKUP($A154,'Result Entry'!$B$9:$DX$108,123,0))","v":"0/50"},null,{"$f":"IF(OR(C181=\"\",$I159=\"NSO\"),\"\",VLOOKUP($A154,'Result Entry'!$B$9:$DX$108,89,0))","v":""}]
[null,"◐",{"$f":"'Result Entry'!$CM$3","v":"H&P. EDU."},null,null,{"$f":"IF(OR(C182=\"\",$I159=\"NSO\"),\"\",VLOOKUP($A154,'Result Entry'!$B$9:$DX$108,127,0))","v":"0/100"},null,{"$f":"IF(OR(C182=\"\",$I159=\"NSO\"),\"\",VLOOKUP($A154,'Result Entry'!$B$9:$DX$108,97,0))","v":""},"Signature Of The Class Teacher"]
[null,"◐","Grading System"]
[null,"◐","Grd.","% Range",null,"Description"]
[null,"◐","A","86-100",null,"Excellent",null,null,"Signature And Seal Of Principal/H.M."]
[null,"◐","B","71-85",null,"Very Good"]
[null,"◐","C","51-70",null,"Good"]
[null,"◐","D","31-50",null,"Average"]
[null,"◐","E","0-30",null,"Needs Improvement",null,null,"Wish bright future"]
[]
[]
[{"$f":"A154+1","v":6},"Department Of Education, Rajasthan"]
[null,{"$f":"IF(I197>0,CONCATENATE(C197,I197),0)","v":0},null,{"$f":"Master!$E$8","v":"Govt.Sr.Sec.Sch. "}]
[{"$nulls":3},{"$f":"Master!$E$11","v":"P.S.-Bapini (Jodhpur)"}]
[null,null,"Report Card",{"$nulls":6},"U-DISE Code:-",null,{"$f":"Master!$E$14","v":{"v":810000000,"d":"0810000000"}}]
[{"$nulls":9},"Session:-",null,{"$f":"Master!$E$6","v":"2022-23"}]
[null,null,"Roll No.:-",{"$nulls":5},{"$f":"VLOOKUP($A192,'Result Entry'!$B$9:$F$108,5,0)","v":0}]
[null,"◐","Scholar Number",{"$nulls":3},"↠",{"$f":"VLOOKUP($A192,'Result Entry'!$B$9:$DX$108,3,0)","v":0}]
[null,"◐","Student's Name",{"$nulls":3},"↠",{"$f":"VLOOKUP($A192,'Result Entry'!$B$9:$DX$108,6,0)","v":0}]
[null,"◐","Father's Name",{"$nulls":3},"↠",{"$f":"VLOOKUP($A192,'Result Entry'!$B$9:$DX$108,7,0)","v":0}]
[null,"◐","Mother's Name ",{"$nulls":3},"↠",{"$f":"VLOOKUP($A192,'Result Entry'!$B$9:$DX$108,8,0)","v":0}]
[null,"◐","Class & Section",{"$nulls":3},"↠",{"$f":"CONCATENATE('Result Entry'!$F$4,'Result Entry'!$I$4)","v":"2(A)"}]
[null,"◐","Date Of Birth",{"$nulls":3},"↠",{"$f":"VLOOKUP($A192,'Result Entry'!$B$9:$DX$108,9,0)","v":"00:00:00"}]
[null,"◐","Subject",{"$nulls":4},"Half Yearly","Total (T+H.Y.)","Yearly","Grand Total",null,"Subject Grade"]
[null,"◐","Max. Marks",{"$nulls":4},{"$f":"'Result Entry'!$Q$7","v":100},{"$f":"G205+H205","v":100},{"$f":"'Result Entry'!$U$7","v":100},{"$f":"I205+J205","v":200},null,"A/B/C/D/E"]
[null,"◐",{"$f":"'Result Entry'!$K$3","v":"Hindi"},{"$nulls":4},{"$f":"IF(OR(C206=\"\",$I197=\"NSO\"),\"\",VLOOKUP($A192,'Result Entry'!$B$9:$DX$108,16,0))","v":0},{"$f":"SUM(G206,H206)","v":0},{"$f":"IF(OR(C206=\"\",$I197=\"NSO\"),\"\",VLOOKUP($A192,'Result Entry'!$B$9:$DX$108,20,0))","v":0},{"$f":"SUM(I206,J206)","v":0},null,{"$f":"IF(OR(C206=\"\",$I197=\"NSO\"),\"\",VLOOKUP($A192,'Result Entry'!$B$9:$DX$108,23,0))","v":""}]
[null,"◐",{"$f":"'Result Entry'!$Y$3","v":"Mathematics"},{"$nulls":4},{"$f":"IF(OR(C207=\"\",$I197=\"NSO\"),\"\",VLOOKUP($A192,'Result Entry'!$B$9:$DX$108,30,0))","v":0},{"$f":"SUM(G207,H207)","v":0},{"$f":"IF(OR(C207=\"\",$I197=\"NSO\"),\"\",VLOOKUP($A192,'Result Entry'!$B$9:$DX$108,34,0))","v":0},{"$f":"SUM(I207,J207)","v":0},null,{"$f":"IF(OR(C207=\"\",$I197=\"NSO\"),\"\",VLOOKUP($A192,'Result Entry'!$B$9:$DX$108,37,0))","v":""}]
[null,"◐",{"$f":"'Result Entry'!$BO$3","v":"Env. Study"},{"$nulls":4},{"$f":"IF(OR(C208=\"\",$I197=\"NSO\"),\"\",VLOOKUP($A192,'Result Entry'!$B$9:$DX$108,66,0))","v":0},0,{"$f":"IF(OR(C208=\"\",$I197=\"NSO\"),\"\",VLOOKUP($A192,'Result Entry'!$B$9:$DX$108,67,0))","v":0},0,null,{"$f":"IF(OR(C208=\"\",$I197=\"NSO\"),\"\",VLOOKUP($A192,'Result Entry'!$B$9:$DX$108,73,0))","v":""}]
[null,"◐","Max. Marks",{"$nulls":4},{"$f":"'Result Entry'!$AS$7","v":50},50,{"$f":"'Result Entry'!$AW$7","v":50},100,null,"A/B/C/D/E"]
[null,"◐",{"$f":"'Result Entry'!$AM$3","v":"English"},{"$nulls":4},{"$f":"IF(OR(C210=\"\",$I197=\"NSO\"),\"\",VLOOKUP($A192,'Result Entry'!$B$9:$DX$108,44,0))","v":0},0,{"$f":"IF(OR(C210=\"\",$I197=\"NSO\"),\"\",VLOOKUP($A192,'Result Entry'!$B$9:$DX$108,48,0))","v":0},0,null,{"$f":"IF(OR(C210=\"\",$I197=\"NSO\"),\"\",VLOOKUP($A192,'Result Entry'!$B$9:$DX$108,51,0))","v":""}]
[null,"◐"]
[null,"◐","Overall Result",null,null,"Total Max. Marks",null,"Total Obtained Marks",null,"Percentage","Overall Grade","Result","Position in Class"]
[null,"◐",{"$nulls":3},{"$f":"IF(OR($I197=\"\",$I197=\"NSO\"),\"\",VLOOKUP($A192,'Result Entry'!$B$9:$DX$108,101,0))","v":500},null,{"$f":"IF(OR($I197=\"\",$I197=\"NSO\"),\"\",VLOOKUP($A192,'Result Entry'!$B$9:$DX$108,102,0))","v":0},null,{"$f":"IF(OR($I197=\"\",$I197=\"NSO\"),\"\",VLOOKUP($A192,'Result Entry'!$B$9:$DX$108,103,0))","v":{"v":0,"d":"0.00"}},{"$f":"IF(OR($I197=\"\",$I197=\"NSO\"),\"\",VLOOKUP($A192,'Result Entry'!$B$9:$DX$108,104,0))","v":""},{"$f":"IF(OR($I197=\"\",$I197=\"NSO\"),\"\",VLOOKUP($A192,'Result Entry'!$B$9:$DX$108,105,0))","v":""},{"$f":"IF(OR($I197=\"\",$I197=\"NSO\"),\"\",VLOOKUP($A192,'Result Entry'!$B$9:$DX$108,107,0))","v":""}]
[null,"◐",{"$nulls":6},"Total Meetings :-",null,{"$f":"IF(OR($I197=\"\",$I197=\"NSO\"),\"\",VLOOKUP($A192,'Result Entry'!$B$9:$DX$108,98,0))","v":0},"Attedance %"]
[null,"◐","Extra Subjects",{"$nulls":5},"Student's Meetings :-",null,{"$f":"IF(OR($I197=\"\",$I197=\"NSO\"),\"\",VLOOKUP($A192,'Result Entry'!$B$9:$DX$108,99,0))","v":0},{"$f":"IF(OR($I197=\"\",$I197=\"NSO\"),\"\",VLOOKUP($A192,'Result Entry'!$B$9:$DX$108,100,0))","v":""}]
[null,"◐","Subject",null,null,"Total Marks",null,"GRADE","Remark :-",null,{"$f":"IF(OR($I197=\"\",$I197=\"NSO\"),\"\",VLOOKUP($A192,'Result Entry'!$B$9:$DX$108,108,0))","v":0}]
[null,"◐",{"$nulls":6},"Result Date :-",null,{"$f":"'Result Entry'!$T$2","v":"2023-05-24"}]
[null,"◐",{"$f":"'Result Entry'!$BW$3","v":"WORK EXP."},null,null,{"$f":"IF(OR(C218=\"\",$I197=\"NSO\"),\"\",VLOOKUP($A192,'Result Entry'!$B$9:$DX$108,119,0))","v":"0/50"},null,{"$f":"IF(OR(C218=\"\",$I197=\"NSO\"),\"\",VLOOKUP($A192,'Result Entry'!$B$9:$DX$108,81,0))","v":""}]
[null,null,{"$f":"'Result Entry'!$CE$3","v":"ART EDU."},null,null,{"$f":"IF(OR(C219=\"\",$I197=\"NSO\"),\"\",VLOOKUP($A192,'Result Entry'!$B$9:$DX$108,123,0))","v":"0/50"},null,{"$f":"IF(OR(C219=\"\",$I197=\"NSO\"),\"\",VLOOKUP($A192,'Result Entry'!$B$9:$DX$108,89,0))","v":""}]
[null,"◐",{"$f":"'Result Entry'!$CM$3","v":"H&P. EDU."},null,null,{"$f":"IF(OR(C220=\"\",$I197=\"NSO\"),\"\",VLOOKUP($A192,'Result Entry'!$B$9:$DX$108,127,0))","v":"0/100"},null,{"$f":"IF(OR(C220=\"\",$I197=\"NSO\"),\"\",VLOOKUP($A192,'Result Entry'!$B$9:$DX$108,97,0))","v":""},"Signature Of The Class Teacher"]
[null,"◐","Grading System"]
[null,"◐","Grd.","% Range",null,"Description"]
[null,"◐","A","86-100",null,"Excellent",null,null,"Signature And Seal Of Principal/H.M."]
[null,"◐","B","71-85",null,"Very Good"]
[null,"◐","C","51-70",null,"Good"]
[null,"◐","D","31-50",null,"Average"]
[null,"◐","E","0-30",null,"Needs Improvement",null,null,"Wish bright future"]
[]
[]
[{"$f":"A192+1","v":7},"Department Of Education, Rajasthan"]
[null,{"$f":"IF(I235>0,CONCATENATE(C235,I235),0)","v":0},null,{"$f":"Master!$E$8","v":"Govt.Sr.Sec.Sch. "}]
[{"$nulls":3},{"$f":"Master!$E$11","v":"P.S.-Bapini (Jodhpur)"}]
[null,null,"Report Card",{"$nulls":6},"U-DISE Code:-",null,{"$f":"Master!$E$14","v":{"v":810000000,"d":"0810000000"}}]
[{"$nulls":9},"Session:-",null,{"$f":"Master!$E$6","v":"2022-23"}]
[null,null,"Roll No.:-",{"$nulls":5},{"$f":"VLOOKUP($A230,'Result Entry'!$B$9:$F$108,5,0)","v":0}]
[null,"◐","Scholar Number",{"$nulls":3},"↠",{"$f":"VLOOKUP($A230,'Result Entry'!$B$9:$DX$108,3,0)","v":0}]
[null,"◐","Student's Name",{"$nulls":3},"↠",{"$f":"VLOOKUP($A230,'Result Entry'!$B$9:$DX$108,6,0)","v":0}]
[null,"◐","Father's Name",{"$nulls":3},"↠",{"$f":"VLOOKUP($A230,'Result Entry'!$B$9:$DX$108,7,0)","v":0}]
[null,"◐","Mother's Name ",{"$nulls":3},"↠",{"$f":"VLOOKUP($A230,'Result Entry'!$B$9:$DX$108,8,0)","v":0}]
[null,"◐","Class & Section",{"$nulls":3},"↠",{"$f":"CONCATENATE('Result Entry'!$F$4,'Result Entry'!$I$4)","v":"2(A)"}]
[null,"◐","Date Of Birth",{"$nulls":3},"↠",{"$f":"VLOOKUP($A230,'Result Entry'!$B$9:$DX$108,9,0)","v":"00:00:00"}]
[null,"◐","Subject",{"$nulls":4},"Half Yearly","Total (T+H.Y.)","Yearly","Grand Total",null,"Subject Grade"]
[null,"◐","Max. Marks",{"$nulls":4},{"$f":"'Result Entry'!$Q$7","v":100},{"$f":"G243+H243","v":100},{"$f":"'Result Entry'!$U$7","v":100},{"$f":"I243+J243","v":200},null,"A/B/C/D/E"]
[null,"◐",{"$f":"'Result Entry'!$K$3","v":"Hindi"},{"$nulls":4},{"$f":"IF(OR(C244=\"\",$I235=\"NSO\"),\"\",VLOOKUP($A230,'Result Entry'!$B$9:$DX$108,16,0))","v":0},{"$f":"SUM(G244,H244)","v":0},{"$f":"IF(OR(C244=\"\",$I235=\"NSO\"),\"\",VLOOKUP($A230,'Result Entry'!$B$9:$DX$108,20,0))","v":0},{"$f":"SUM(I244,J244)","v":0},null,{"$f":"IF(OR(C244=\"\",$I235=\"NSO\"),\"\",VLOOKUP($A230,'Result Entry'!$B$9:$DX$108,23,0))","v":""}]
[null,"◐",{"$f":"'Result Entry'!$Y$3","v":"Mathematics"},{"$nulls":4},{"$f":"IF(OR(C245=\"\",$I235=\"NSO\"),\"\",VLOOKUP($A230,'Result Entry'!$B$9:$DX$108,30,0))","v":0},{"$f":"SUM(G245,H245)","v":0},{"$f":"IF(OR(C245=\"\",$I235=\"NSO\"),\"\",VLOOKUP($A230,'Result Entry'!$B$9:$DX$108,34,0))","v":0},{"$f":"SUM(I245,J245)","v":0},null,{"$f":"IF(OR(C245=\"\",$I235=\"NSO\"),\"\",VLOOKUP($A230,'Result Entry'!$B$9:$DX$108,37,0))","v":""}]
[null,"◐",{"$f":"'Result Entry'!$BO$3","v":"Env. Study"},{"$nulls":4},{"$f":"IF(OR(C246=\"\",$I235=\"NSO\"),\"\",VLOOKUP($A230,'Result Entry'!$B$9:$DX$108,66,0))","v":0},0,{"$f":"IF(OR(C246=\"\",$I235=\"NSO\"),\"\",VLOOKUP($A230,'Result Entry'!$B$9:$DX$108,67,0))","v":0},0,null,{"$f":"IF(OR(C246=\"\",$I235=\"NSO\"),\"\",VLOOKUP($A230,'Result Entry'!$B$9:$DX$108,73,0))","v":""}]
[null,"◐","Max. Marks",{"$nulls":4},{"$f":"'Result Entry'!$AS$7","v":50},50,{"$f":"'Result Entry'!$AW$7","v":50},100,null,"A/B/C/D/E"]
[null,"◐",{"$f":"'Result Entry'!$AM$3","v":"English"},{"$nulls":4},{"$f":"IF(OR(C248=\"\",$I235=\"NSO\"),\"\",VLOOKUP($A230,'Result Entry'!$B$9:$DX$108,44,0))","v":0},0,{"$f":"IF(OR(C248=\"\",$I235=\"NSO\"),\"\",VLOOKUP($A230,'Result Entry'!$B$9:$DX$108,48,0))","v":0},0,null,{"$f":"IF(OR(C248=\"\",$I235=\"NSO\"),\"\",VLOOKUP($A230,'Result Entry'!$B$9:$DX$108,51,0))","v":""}]
[null,"◐"]
[null,"◐","Overall Result",null,null,"Total Max. Marks",null,"Total Obtained Marks",null,"Percentage","Overall Grade","Result","Position in Class"]
[null,"◐",{"$nulls":3},{"$f":"IF(OR($I235=\"\",$I235=\"NSO\"),\"\",VLOOKUP($A230,'Result Entry'!$B$9:$DX$108,101,0))","v":500},null,{"$f":"IF(OR($I235=\"\",$I235=\"NSO\"),\"\",VLOOKUP($A230,'Result Entry'!$B$9:$DX$108,102,0))","v":0},null,{"$f":"IF(OR($I235=\"\",$I235=\"NSO\"),\"\",VLOOKUP($A230,'Result Entry'!$B$9:$DX$108,103,0))","v":{"v":0,"d":"0.00"}},{"$f":"IF(OR($I235=\"\",$I235=\"NSO\"),\"\",VLOOKUP($A230,'Result Entry'!$B$9:$DX$108,104,0))","v":""},{"$f":"IF(OR($I235=\"\",$I235=\"NSO\"),\"\",VLOOKUP($A230,'Result Entry'!$B$9:$DX$108,105,0))","v":""},{"$f":"IF(OR($I235=\"\",$I235=\"NSO\"),\"\",VLOOKUP($A230,'Result Entry'!$B$9:$DX$108,107,0))","v":""}]
[null,"◐",{"$nulls":6},"Total Meetings :-",null,{"$f":"IF(OR($I235=\"\",$I235=\"NSO\"),\"\",VLOOKUP($A230,'Result Entry'!$B$9:$DX$108,98,0))","v":0},"Attedance %"]
[null,"◐","Extra Subjects",{"$nulls":5},"Student's Meetings :-",null,{"$f":"IF(OR($I235=\"\",$I235=\"NSO\"),\"\",VLOOKUP($A230,'Result Entry'!$B$9:$DX$108,99,0))","v":0},{"$f":"IF(OR($I235=\"\",$I235=\"NSO\"),\"\",VLOOKUP($A230,'Result Entry'!$B$9:$DX$108,100,0))","v":""}]
[null,"◐","Subject",null,null,"Total Marks",null,"GRADE","Remark :-",null,{"$f":"IF(OR($I235=\"\",$I235=\"NSO\"),\"\",VLOOKUP($A230,'Result Entry'!$B$9:$DX$108,108,0))","v":0}]
[null,"◐",{"$nulls":6},"Result Date :-",null,{"$f":"'Result Entry'!$T$2","v":"2023-05-24"}]
[null,"◐",{"$f":"'Result Entry'!$BW$3","v":"WORK EXP."},null,null,{"$f":"IF(OR(C256=\"\",$I235=\"NSO\"),\"\",VLOOKUP($A230,'Result Entry'!$B$9:$DX$108,119,0))","v":"0/50"},null,{"$f":"IF(OR(C256=\"\",$I235=\"NSO\"),\"\",VLOOKUP($A230,'Result Entry'!$B$9:$DX$108,81,0))","v":""}]
[null,null,{"$f":"'Result Entry'!$CE$3","v":"ART EDU."},null,null,{"$f":"IF(OR(C257=\"\",$I235=\"NSO\"),\"\",VLOOKUP($A230,'Result Entry'!$B$9:$DX$108,123,0))","v":"0/50"},null,{"$f":"IF(OR(C257=\"\",$I235=\"NSO\"),\"\",VLOOKUP($A230,'Result Entry'!$B$9:$DX$108,89,0))","v":""}]
[null,"◐",{"$f":"'Result Entry'!$CM$3","v":"H&P. EDU."},null,null,{"$f":"IF(OR(C258=\"\",$I235=\"NSO\"),\"\",VLOOKUP($A230,'Result Entry'!$B$9:$DX$108,127,0))","v":"0/100"},null,{"$f":"IF(OR(C258=\"\",$I235=\"NSO\"),\"\",VLOOKUP($A230,'Result Entry'!$B$9:$DX$108,97,0))","v":""},"Signature Of The Class Teacher"]
[null,"◐","Grading System"]
[null,"◐","Grd.","% Range",null,"Description"]
[null,"◐","A","86-100",null,"Excellent",null,null,"Signature And Seal Of Principal/H.M."]
[null,"◐","B","71-85",null,"Very Good"]
[null,"◐","C","51-70",null,"Good"]
[null,"◐","D","31-50",null,"Average"]
[null,"◐","E","0-30",null,"Needs Improvement",null,null,"Wish bright future"]
[]
[]
[{"$f":"A230+1","v":8},"Department Of Education, Rajasthan"]
[null,{"$f":"IF(I273>0,CONCATENATE(C273,I273),0)","v":0},null,{"$f":"Master!$E$8","v":"Govt.Sr.Sec.Sch. "}]
[{"$nulls":3},{"$f":"Master!$E$11","v":"P.S.-Bapini (Jodhpur)"}]
[null,null,"Report Card",{"$nulls":6},"U-DISE Code:-",null,{"$f":"Master!$E$14","v":{"v":810000000,"d":"0810000000"}}]
[{"$nulls":9},"Session:-",null,{"$f":"Master!$E$6","v":"2022-23"}]
[null,null,"Roll No.:-",{"$nulls":5},{"$f":"VLOOKUP($A268,'Result Entry'!$B$9:$F$108,5,0)","v":0}]
[null,"◐","Scholar Number",{"$nulls":3},"↠",{"$f":"VLOOKUP($A268,'Result Entry'!$B$9:$DX$108,3,0)","v":0}]
[null,"◐","Student's Name",{"$nulls":3},"↠",{"$f":"VLOOKUP($A268,'Result Entry'!$B$9:$DX$108,6,0)","v":0}]
[null,"◐","Father's Name",{"$nulls":3},"↠",{"$f":"VLOOKUP($A268,'Result Entry'!$B$9:$DX$108,7,0)","v":0}]
[null,"◐","Mother's Name ",{"$nulls":3},"↠",{"$f":"VLOOKUP($A268,'Result Entry'!$B$9:$DX$108,8,0)","v":0}]
[null,"◐","Class & Section",{"$nulls":3},"↠",{"$f":"CONCATENATE('Result Entry'!$F$4,'Result Entry'!$I$4)","v":"2(A)"}]
[null,"◐","Date Of Birth",{"$nulls":3},"↠",{"$f":"VLOOKUP($A268,'Result Entry'!$B$9:$DX$108,9,0)","v":"00:00:00"}]
[null,"◐","Subject",{"$nulls":4},"Half Yearly","Total (T+H.Y.)","Yearly","Grand Total",null,"Subject Grade"]
[null,"◐","Max. Marks",{"$nulls":4},{"$f":"'Result Entry'!$Q$7","v":100},{"$f":"G281+H281","v":100},{"$f":"'Result Entry'!$U$7","v":100},{"$f":"I281+J281","v":200},null,"A/B/C/D/E"]
[null,"◐",{"$f":"'Result Entry'!$K$3","v":"Hindi"},{"$nulls":4},{"$f":"IF(OR(C282=\"\",$I273=\"NSO\"),\"\",VLOOKUP($A268,'Result Entry'!$B$9:$DX$108,16,0))","v":0},{"$f":"SUM(G282,H282)","v":0},{"$f":"IF(OR(C282=\"\",$I273=\"NSO\"),\"\",VLOOKUP($A268,'Result Entry'!$B$9:$DX$108,20,0))","v":0},{"$f":"SUM(I282,J282)","v":0},null,{"$f":"IF(OR(C282=\"\",$I273=\"NSO\"),\"\",VLOOKUP($A268,'Result Entry'!$B$9:$DX$108,23,0))","v":""}]
[null,"◐",{"$f":"'Result Entry'!$Y$3","v":"Mathematics"},{"$nulls":4},{"$f":"IF(OR(C283=\"\",$I273=\"NSO\"),\"\",VLOOKUP($A268,'Result Entry'!$B$9:$DX$108,30,0))","v":0},{"$f":"SUM(G283,H283)","v":0},{"$f":"IF(OR(C283=\"\",$I273=\"NSO\"),\"\",VLOOKUP($A268,'Result Entry'!$B$9:$DX$108,34,0))","v":0},{"$f":"SUM(I283,J283)","v":0},null,{"$f":"IF(OR(C283=\"\",$I273=\"NSO\"),\"\",VLOOKUP($A268,'Result Entry'!$B$9:$DX$108,37,0))","v":""}]
[null,"◐",{"$f":"'Result Entry'!$BO$3","v":"Env. Study"},{"$nulls":4},{"$f":"IF(OR(C284=\"\",$I273=\"NSO\"),\"\",VLOOKUP($A268,'Result Entry'!$B$9:$DX$108,66,0))","v":0},0,{"$f":"IF(OR(C284=\"\",$I273=\"NSO\"),\"\",VLOOKUP($A268,'Result Entry'!$B$9:$DX$108,67,0))","v":0},0,null,{"$f":"IF(OR(C284=\"\",$I273=\"NSO\"),\"\",VLOOKUP($A268,'Result Entry'!$B$9:$DX$108,73,0))","v":""}]
[null,"◐","Max. Marks",{"$nulls":4},{"$f":"'Result Entry'!$AS$7","v":50},50,{"$f":"'Result Entry'!$AW$7","v":50},100,null,"A/B/C/D/E"]
[null,"◐",{"$f":"'Result Entry'!$AM$3","v":"English"},{"$nulls":4},{"$f":"IF(OR(C286=\"\",$I273=\"NSO\"),\"\",VLOOKUP($A268,'Result Entry'!$B$9:$DX$108,44,0))","v":0},0,{"$f":"IF(OR(C286=\"\",$I273=\"NSO\"),\"\",VLOOKUP($A268,'Result Entry'!$B$9:$DX$108,48,0))","v":0},0,null,{"$f":"IF(OR(C286=\"\",$I273=\"NSO\"),\"\",VLOOKUP($A268,'Result Entry'!$B$9:$DX$108,51,0))","v":""}]
[null,"◐"]
[null,"◐","Overall Result",null,null,"Total Max. Marks",null,"Total Obtained Marks",null,"Percentage","Overall Grade","Result","Position in Class"]
[null,"◐",{"$nulls":3},{"$f":"IF(OR($I273=\"\",$I273=\"NSO\"),\"\",VLOOKUP($A268,'Result Entry'!$B$9:$DX$108,101,0))","v":500},null,{"$f":"IF(OR($I273=\"\",$I273=\"NSO\"),\"\",VLOOKUP($A268,'Result Entry'!$B$9:$DX$108,102,0))","v":0},null,{"$f":"IF(OR($I273=\"\",$I273=\"NSO\"),\"\",VLOOKUP($A268,'Result Entry'!$B$9:$DX$108,103,0))","v":{"v":0,"d":"0.00"}},{"$f":"IF(OR($I273=\"\",$I273=\"NSO\"),\"\",VLOOKUP($A268,'Result Entry'!$B$9:$DX$108,104,0))","v":""},{"$f":"IF(OR($I273=\"\",$I273=\"NSO\"),\"\",VLOOKUP($A268,'Result Entry'!$B$9:$DX$108,105,0))","v":""},{"$f":"IF(OR($I273=\"\",$I273=\"NSO\"),\"\",VLOOKUP($A268,'Result Entry'!$B$9:$DX$108,107,0))","v":""}]
[null,"◐",{"$nulls":6},"Total Meetings :-",null,{"$f":"IF(OR($I273=\"\",$I273=\"NSO\"),\"\",VLOOKUP($A268,'Result Entry'!$B$9:$DX$108,98,0))","v":0},"Attedance %"]
[null,"◐","Extra Subjects",{"$nulls":5},"Student's Meetings :-",null,{"$f":"IF(OR($I273=\"\",$I273=\"NSO\"),\"\",VLOOKUP($A268,'Result Entry'!$B$9:$DX$108,99,0))","v":0},{"$f":"IF(OR($I273=\"\",$I273=\"NSO\"),\"\",VLOOKUP($A268,'Result Entry'!$B$9:$DX$108,100,0))","v":""}]
[null,"◐","Subject",null,null,"Total Marks",null,"GRADE","Remark :-",null,{"$f":"IF(OR($I273=\"\",$I273=\"NSO\"),\"\",VLOOKUP($A268,'Result Entry'!$B$9:$DX$108,108,0))","v":0}]
[null,"◐",{"$nulls":6},"Result Date :-",null,{"$f":"'Result Entry'!$T$2","v":"2023-05-24"}]
[null,"◐",{"$f":"'Result Entry'!$BW$3","v":"WORK EXP."},null,null,{"$f":"IF(OR(C294=\"\",$I273=\"NSO\"),\"\",VLOOKUP($A268,'Result Entry'!$B$9:$DX$108,119,0))","v":"0/50"},null,{"$f":"IF(OR(C294=\"\",$I273=\"NSO\"),\"\",VLOOKUP($A268,'Result Entry'!$B$9:$DX$108,81,0))","v":""}]
[null,null,{"$f":"'Result Entry'!$CE$3","v":"ART EDU."},null,null,{"$f":"IF(OR(C295=\"\",$I273=\"NSO\"),\"\",VLOOKUP($A268,'Result Entry'!$B$9:$DX$108,123,0))","v":"0/50"},null,{"$f":"IF(OR(C295=\"\",$I273=\"NSO\"),\"\",VLOOKUP($A268,'Result Entry'!$B$9:$DX$108,89,0))","v":""}]
[null,"◐",{"$f":"'Result Entry'!$CM$3","v":"H&P. EDU."},null,null,{"$f":"IF(OR(C296=\"\",$I273=\"NSO\"),\"\",VLOOKUP($A268,'Result Entry'!$B$9:$DX$108,127,0))","v":"0/100"},null,{"$f":"IF(OR(C296=\"\",$I273=\"NSO\"),\"\",VLOOKUP($A268,'Result Entry'!$B$9:$DX$108,97,0))","v":""},"Signature Of The Class Teacher"]
[null,"◐","Grading System"]
[null,"◐","Grd.","% Range",null,"Description"]
[null,"◐","A","86-100",null,"Excellent",null,null,"Signature And Seal Of Principal/H.M."]
[null,"◐","B","71-85",null,"Very Good"]
[null,"◐","C","51-70",null,"Good"]
[null,"◐","D","31-50",null,"Average"]
[null,"◐","E","0-30",null,"Needs Improvement",null,null,"Wish bright future"]
[]
[]
[{"$f":"A268+1","v":9},"Department Of Education, Rajasthan"]
[null,{"$f":"IF(I311>0,CONCATENATE(C311,I311),0)","v":0},null,{"$f":"Master!$E$8","v":"Govt.Sr.Sec.Sch. "}]
[{"$nulls":3},{"$f":"Master!$E$11","v":"P.S.-Bapini (Jodhpur)"}]
[null,null,"Report Card",{"$nulls":6},"U-DISE Code:-",null,{"$f":"Master!$E$14","v":{"v":810000000,"d":"0810000000"}}]
[{"$nulls":9},"Session:-",null,{"$f":"Master!$E$6","v":"2022-23"}]
[null,null,"Roll No.:-",{"$nulls":5},{"$f":"VLOOKUP($A306,'Result Entry'!$B$9:$F$108,5,0)","v":0}]
[null,"◐","Scholar Number",{"$nulls":3},"↠",{"$f":"VLOOKUP($A306,'Result Entry'!$B$9:$DX$108,3,0)","v":0}]
[null,"◐","Student's Name",{"$nulls":3},"↠",{"$f":"VLOOKUP($A306,'Result Entry'!$B$9:$DX$108,6,0)","v":0}]
[null,"◐","Father's Name",{"$nulls":3},"↠",{"$f":"VLOOKUP($A306,'Result Entry'!$B$9:$DX$108,7,0)","v":0}]
[null,"◐","Mother's Name ",{"$nulls":3},"↠",{"$f":"VLOOKUP($A306,'Result Entry'!$B$9:$DX$108,8,0)","v":0}]
[null,"◐","Class & Section",{"$nulls":3},"↠",{"$f":"CONCATENATE('Result Entry'!$F$4,'Result Entry'!$I$4)","v":"2(A)"}]
[null,"◐","Date Of Birth",{"$nulls":3},"↠",{"$f":"VLOOKUP($A306,'Result Entry'!$B$9:$DX$108,9,0)","v":"00:00:00"}]
[null,"◐","Subject",{"$nulls":4},"Half Yearly","Total (T+H.Y.)","Yearly","Grand Total",null,"Subject Grade"]
[null,"◐","Max. Marks",{"$nulls":4},{"$f":"'Result Entry'!$Q$7","v":100},{"$f":"G319+H319","v":100},{"$f":"'Result Entry'!$U$7","v":100},{"$f":"I319+J319","v":200},null,"A/B/C/D/E"]
[null,"◐",{"$f":"'Result Entry'!$K$3","v":"Hindi"},{"$nulls":4},{"$f":"IF(OR(C320=\"\",$I311=\"NSO\"),\"\",VLOOKUP($A306,'Result Entry'!$B$9:$DX$108,16,0))","v":0},{"$f":"SUM(G320,H320)","v":0},{"$f":"IF(OR(C320=\"\",$I311=\"NSO\"),\"\",VLOOKUP($A306,'Result Entry'!$B$9:$DX$108,20,0))","v":0},{"$f":"SUM(I320,J320)","v":0},null,{"$f":"IF(OR(C320=\"\",$I311=\"NSO\"),\"\",VLOOKUP($A306,'Result Entry'!$B$9:$DX$108,23,0))","v":""}]
[null,"◐",{"$f":"'Result Entry'!$Y$3","v":"Mathematics"},{"$nulls":4},{"$f":"IF(OR(C321=\"\",$I311=\"NSO\"),\"\",VLOOKUP($A306,'Result Entry'!$B$9:$DX$108,30,0))","v":0},{"$f":"SUM(G321,H321)","v":0},{"$f":"IF(OR(C321=\"\",$I311=\"NSO\"),\"\",VLOOKUP($A306,'Result Entry'!$B$9:$DX$108,34,0))","v":0},{"$f":"SUM(I321,J321)","v":0},null,{"$f":"IF(OR(C321=\"\",$I311=\"NSO\"),\"\",VLOOKUP($A306,'Result Entry'!$B$9:$DX$108,37,0))","v":""}]
[null,"◐",{"$f":"'Result Entry'!$BO$3","v":"Env. Study"},{"$nulls":4},{"$f":"IF(OR(C322=\"\",$I311=\"NSO\"),\"\",VLOOKUP($A306,'Result Entry'!$B$9:$DX$108,66,0))","v":0},0,{"$f":"IF(OR(C322=\"\",$I311=\"NSO\"),\"\",VLOOKUP($A306,'Result Entry'!$B$9:$DX$108,67,0))","v":0},0,null,{"$f":"IF(OR(C322=\"\",$I311=\"NSO\"),\"\",VLOOKUP($A306,'Result Entry'!$B$9:$DX$108,73,0))","v":""}]
[null,"◐","Max. Marks",{"$nulls":4},{"$f":"'Result Entry'!$AS$7","v":50},50,{"$f":"'Result Entry'!$AW$7","v":50},100,null,"A/B/C/D/E"]
[null,"◐",{"$f":"'Result Entry'!$AM$3","v":"English"},{"$nulls":4},{"$f":"IF(OR(C324=\"\",$I311=\"NSO\"),\"\",VLOOKUP($A306,'Result Entry'!$B$9:$DX$108,44,0))","v":0},0,{"$f":"IF(OR(C324=\"\",$I311=\"NSO\"),\"\",VLOOKUP($A306,'Result Entry'!$B$9:$DX$108,48,0))","v":0},0,null,{"$f":"IF(OR(C324=\"\",$I311=\"NSO\"),\"\",VLOOKUP($A306,'Result Entry'!$B$9:$DX$108,51,0))","v":""}]
[null,"◐"]
[null,"◐","Overall Result",null,null,"Total Max. Marks",null,"Total Obtained Marks",null,"Percentage","Overall Grade","Result","Position in Class"]
[null,"◐",{"$nulls":3},{"$f":"IF(OR($I311=\"\",$I311=\"NSO\"),\"\",VLOOKUP($A306,'Result Entry'!$B$9:$DX$108,101,0))","v":500},null,{"$f":"IF(OR($I311=\"\",$I311=\"NSO\"),\"\",VLOOKUP($A306,'Result Entry'!$B$9:$DX$108,102,0))","v":0},null,{"$f":"IF(OR($I311=\"\",$I311=\"NSO\"),\"\",VLOOKUP($A306,'Result Entry'!$B$9:$DX$108,103,0))","v":{"v":0,"d":"0.00"}},{"$f":"IF(OR($I311=\"\",$I311=\"NSO\"),\"\",VLOOKUP($A306,'Result Entry'!$B$9:$DX$108,104,0))","v":""},{"$f":"IF(OR($I311=\"\",$I311=\"NSO\"),\"\",VLOOKUP($A306,'Result Entry'!$B$9:$DX$108,105,0))","v":""},{"$f":"IF(OR($I311=\"\",$I311=\"NSO\"),\"\",VLOOKUP($A306,'Result Entry'!$B$9:$DX$108,107,0))","v":""}]
[null,"◐",{"$nulls":6},"Total Meetings :-",null,{"$f":"IF(OR($I311=\"\",$I311=\"NSO\"),\"\",VLOOKUP($A306,'Result Entry'!$B$9:$DX$108,98,0))","v":0},"Attedance %"]
[null,"◐","Extra Subjects",{"$nulls":5},"Student's Meetings :-",null,{"$f":"IF(OR($I311=\"\",$I311=\"NSO\"),\"\",VLOOKUP($A306,'Result Entry'!$B$9:$DX$108,99,0))","v":0},{"$f":"IF(OR($I311=\"\",$I311=\"NSO\"),\"\",VLOOKUP($A306,'Result Entry'!$B$9:$DX$108,100,0))","v":""}]
[null,"◐","Subject",null,null,"Total Marks",null,"GRADE","Remark :-",null,{"$f":"IF(OR($I311=\"\",$I311=\"NSO\"),\"\",VLOOKUP($A306,'Result Entry'!$B$9:$DX$108,108,0))","v":0}]
[null,"◐",{"$nulls":6},"Result Date :-",null,{"$f":"'Result Entry'!$T$2","v":"2023-05-24"}]
[null,"◐",{"$f":"'Result Entry'!$BW$3","v":"WORK EXP."},null,null,{"$f":"IF(OR(C332=\"\",$I311=\"NSO\"),\"\",VLOOKUP($A306,'Result Entry'!$B$9:$DX$108,119,0))","v":"0/50"},null,{"$f":"IF(OR(C332=\"\",$I311=\"NSO\"),\"\",VLOOKUP($A306,'Result Entry'!$B$9:$DX$108,81,0))","v":""}]
[null,null,{"$f":"'Result Entry'!$CE$3","v":"ART EDU."},null,null,{"$f":"IF(OR(C333=\"\",$I311=\"NSO\"),\"\",VLOOKUP($A306,'Result Entry'!$B$9:$DX$108,123,0))","v":"0/50"},null,{"$f":"IF(OR(C333=\"\",$I311=\"NSO\"),\"\",VLOOKUP($A306,'Result Entry'!$B$9:$DX$108,89,0))","v":""}]
[null,"◐",{"$f":"'Result Entry'!$CM$3","v":"H&P. EDU."},null,null,{"$f":"IF(OR(C334=\"\",$I311=\"NSO\"),\"\",VLOOKUP($A306,'Result Entry'!$B$9:$DX$108,127,0))","v":"0/100"},null,{"$f":"IF(OR(C334=\"\",$I311=\"NSO\"),\"\",VLOOKUP($A306,'Result Entry'!$B$9:$DX$108,97,0))","v":""},"Signature Of The Class Teacher"]
[null,"◐","Grading System"]
[null,"◐","Grd.","% Range",null,"Description"]
[null,"◐","A","86-100",null,"Excellent",null,null,"Signature And Seal Of Principal/H.M."]
[null,"◐","B","71-85",null,"Very Good"]
[null,"◐","C","51-70",null,"Good"]
[null,"◐","D","31-50",null,"Average"]
[null,"◐","E","0-30",null,"Needs Improvement",null,null,"Wish bright future"]
[]
[]
[{"$f":"A306+1","v":10},"Department Of Education, Rajasthan"]
[null,{"$f":"IF(I349>0,CONCATENATE(C349,I349),0)","v":0},null,{"$f":"Master!$E$8","v":"Govt.Sr.Sec.Sch. "}]
[{"$nulls":3},{"$f":"Master!$E$11","v":"P.S.-Bapini (Jodhpur)"}]
[null,null,"Report Card",{"$nulls":6},"U-DISE Code:-",null,{"$f":"Master!$E$14","v":{"v":810000000,"d":"0810000000"}}]
[{"$nulls":9},"Session:-",null,{"$f":"Master!$E$6","v":"2022-23"}]
[null,null,"Roll No.:-",{"$nulls":5},{"$f":"VLOOKUP($A344,'Result Entry'!$B$9:$F$108,5,0)","v":0}]
[null,"◐","Scholar Number",{"$nulls":3},"↠",{"$f":"VLOOKUP($A344,'Result Entry'!$B$9:$DX$108,3,0)","v":0}]
[null,"◐","Student's Name",{"$nulls":3},"↠",{"$f":"VLOOKUP($A344,'Result Entry'!$B$9:$DX$108,6,0)","v":0}]
[null,"◐","Father's Name",{"$nulls":3},"↠",{"$f":"VLOOKUP($A344,'Result Entry'!$B$9:$DX$108,7,0)","v":0}]
[null,"◐","Mother's Name ",{"$nulls":3},"↠",{"$f":"VLOOKUP($A344,'Result Entry'!$B$9:$DX$108,8,0)","v":0}]
[null,"◐","Class & Section",{"$nulls":3},"↠",{"$f":"CONCATENATE('Result Entry'!$F$4,'Result Entry'!$I$4)","v":"2(A)"}]
[null,"◐","Date Of Birth",{"$nulls":3},"↠",{"$f":"VLOOKUP($A344,'Result Entry'!$B$9:$DX$108,9,0)","v":"00:00:00"}]
[null,"◐","Subject",{"$nulls":4},"Half Yearly","Total (T+H.Y.)","Yearly","Grand Total",null,"Subject Grade"]
[null,"◐","Max. Marks",{"$nulls":4},{"$f":"'Result Entry'!$Q$7","v":100},{"$f":"G357+H357","v":100},{"$f":"'Result Entry'!$U$7","v":100},{"$f":"I357+J357","v":200},null,"A/B/C/D/E"]
[null,"◐",{"$f":"'Result Entry'!$K$3","v":"Hindi"},{"$nulls":4},{"$f":"IF(OR(C358=\"\",$I349=\"NSO\"),\"\",VLOOKUP($A344,'Result Entry'!$B$9:$DX$108,16,0))","v":0},{"$f":"SUM(G358,H358)","v":0},{"$f":"IF(OR(C358=\"\",$I349=\"NSO\"),\"\",VLOOKUP($A344,'Result Entry'!$B$9:$DX$108,20,0))","v":0},{"$f":"SUM(I358,J358)","v":0},null,{"$f":"IF(OR(C358=\"\",$I349=\"NSO\"),\"\",VLOOKUP($A344,'Result Entry'!$B$9:$DX$108,23,0))","v":""}]
[null,"◐",{"$f":"'Result Entry'!$Y$3","v":"Mathematics"},{"$nulls":4},{"$f":"IF(OR(C359=\"\",$I349=\"NSO\"),\"\",VLOOKUP($A344,'Result Entry'!$B$9:$DX$108,30,0))","v":0},{"$f":"SUM(G359,H359)","v":0},{"$f":"IF(OR(C359=\"\",$I349=\"NSO\"),\"\",VLOOKUP($A344,'Result Entry'!$B$9:$DX$108,34,0))","v":0},{"$f":"SUM(I359,J359)","v":0},null,{"$f":"IF(OR(C359=\"\",$I349=\"NSO\"),\"\",VLOOKUP($A344,'Result Entry'!$B$9:$DX$108,37,0))","v":""}]
[null,"◐",{"$f":"'Result Entry'!$BO$3","v":"Env. Study"},{"$nulls":4},{"$f":"IF(OR(C360=\"\",$I349=\"NSO\"),\"\",VLOOKUP($A344,'Result Entry'!$B$9:$DX$108,66,0))","v":0},0,{"$f":"IF(OR(C360=\"\",$I349=\"NSO\"),\"\",VLOOKUP($A344,'Result Entry'!$B$9:$DX$108,67,0))","v":0},0,null,{"$f":"IF(OR(C360=\"\",$I349=\"NSO\"),\"\",VLOOKUP($A344,'Result Entry'!$B$9:$DX$108,73,0))","v":""}]
[null,"◐","Max. Marks",{"$nulls":4},{"$f":"'Result Entry'!$AS$7","v":50},50,{"$f":"'Result Entry'!$AW$7","v":50},100,null,"A/B/C/D/E"]
[null,"◐",{"$f":"'Result Entry'!$AM$3","v":"English"},{"$nulls":4},{"$f":"IF(OR(C362=\"\",$I349=\"NSO\"),\"\",VLOOKUP($A344,'Result Entry'!$B$9:$DX$108,44,0))","v":0},0,{"$f":"IF(OR(C362=\"\",$I349=\"NSO\"),\"\",VLOOKUP($A344,'Result Entry'!$B$9:$DX$108,48,0))","v":0},0,null,{"$f":"IF(OR(C362=\"\",$I349=\"NSO\"),\"\",VLOOKUP($A344,'Result Entry'!$B$9:$DX$108,51,0))","v":""}]
[null,"◐"]
[null,"◐","Overall Result",null,null,"Total Max. Marks",null,"Total Obtained Marks",null,"Percentage","Overall Grade","Result","Position in Class"]
[null,"◐",{"$nulls":3},{"$f":"IF(OR($I349=\"\",$I349=\"NSO\"),\"\",VLOOKUP($A344,'Result Entry'!$B$9:$DX$108,101,0))","v":500},null,{"$f":"IF(OR($I349=\"\",$I349=\"NSO\"),\"\",VLOOKUP($A344,'Result Entry'!$B$9:$DX$108,102,0))","v":0},null,{"$f":"IF(OR($I349=\"\",$I349=\"NSO\"),\"\",VLOOKUP($A344,'Result Entry'!$B$9:$DX$108,103,0))","v":{"v":0,"d":"0.00"}},{"$f":"IF(OR($I349=\"\",$I349=\"NSO\"),\"\",VLOOKUP($A344,'Result Entry'!$B$9:$DX$108,104,0))","v":""},{"$f":"IF(OR($I349=\"\",$I349=\"NSO\"),\"\",VLOOKUP($A344,'Result Entry'!$B$9:$DX$108,105,0))","v":""},{"$f":"IF(OR($I349=\"\",$I349=\"NSO\"),\"\",VLOOKUP($A344,'Result Entry'!$B$9:$DX$108,107,0))","v":""}]
[null,"◐",{"$nulls":6},"Total Meetings :-",null,{"$f":"IF(OR($I349=\"\",$I349=\"NSO\"),\"\",VLOOKUP($A344,'Result Entry'!$B$9:$DX$108,98,0))","v":0},"Attedance %"]
[null,"◐","Extra Subjects",{"$nulls":5},"Student's Meetings :-",null,{"$f":"IF(OR($I349=\"\",$I349=\"NSO\"),\"\",VLOOKUP($A344,'Result Entry'!$B$9:$DX$108,99,0))","v":0},{"$f":"IF(OR($I349=\"\",$I349=\"NSO\"),\"\",VLOOKUP($A344,'Result Entry'!$B$9:$DX$108,100,0))","v":""}]
[null,"◐","Subject",null,null,"Total Marks",null,"GRADE","Remark :-",null,{"$f":"IF(OR($I349=\"\",$I349=\"NSO\"),\"\",VLOOKUP($A344,'Result Entry'!$B$9:$DX$108,108,0))","v":0}]
[null,"◐",{"$nulls":6},"Result Date :-",null,{"$f":"'Result Entry'!$T$2","v":"2023-05-24"}]
[null,"◐",{"$f":"'Result Entry'!$BW$3","v":"WORK EXP."},null,null,{"$f":"IF(OR(C370=\"\",$I349=\"NSO\"),\"\",VLOOKUP($A344,'Result Entry'!$B$9:$DX$108,119,0))","v":"0/50"},null,{"$f":"IF(OR(C370=\"\",$I349=\"NSO\"),\"\",VLOOKUP($A344,'Result Entry'!$B$9:$DX$108,81,0))","v":""}]
[null,null,{"$f":"'Result Entry'!$CE$3","v":"ART EDU."},null,null,{"$f":"IF(OR(C371=\"\",$I349=\"NSO\"),\"\",VLOOKUP($A344,'Result Entry'!$B$9:$DX$108,123,0))","v":"0/50"},null,{"$f":"IF(OR(C371=\"\",$I349=\"NSO\"),\"\",VLOOKUP($A344,'Result Entry'!$B$9:$DX$108,89,0))","v":""}]
[null,"◐",{"$f":"'Result Entry'!$CM$3","v":"H&P. EDU."},null,null,{"$f":"IF(OR(C372=\"\",$I349=\"NSO\"),\"\",VLOOKUP($A344,'Result Entry'!$B$9:$DX$108,127,0))","v":"0/100"},null,{"$f":"IF(OR(C372=\"\",$I349=\"NSO\"),\"\",VLOOKUP($A344,'Result Entry'!$B$9:$DX$108,97,0))","v":""},"Signature Of The Class Teacher"]
[null,"◐","Grading System"]
[null,"◐","Grd.","% Range",null,"Description"]
[null,"◐","A","86-100",null,"Excellent",null,null,"Signature And Seal Of Principal/H.M."]
[null,"◐","B","71-85",null,"Very Good"]
[null,"◐","C","51-70",null,"Good"]
[null,"◐","D","31-50",null,"Average"]
[null,"◐","E","0-30",null,"Needs Improvement",null,null,"Wish bright future"]
[]
[]
[{"$f":"A344+1","v":11},"Department Of Education, Rajasthan"]
[null,{"$f":"IF(I387>0,CONCATENATE(C387,I387),0)","v":0},null,{"$f":"Master!$E$8","v":"Govt.Sr.Sec.Sch. "}]
[{"$nulls":3},{"$f":"Master!$E$11","v":"P.S.-Bapini (Jodhpur)"}]
[null,null,"Report Card",{"$nulls":6},"U-DISE Code:-",null,{"$f":"Master!$E$14","v":{"v":810000000,"d":"0810000000"}}]
[{"$nulls":9},"Session:-",null,{"$f":"Master!$E$6","v":"2022-23"}]
[null,null,"Roll No.:-",{"$nulls":5},{"$f":"VLOOKUP($A382,'Result Entry'!$B$9:$F$108,5,0)","v":0}]
[null,"◐","Scholar Number",{"$nulls":3},"↠",{"$f":"VLOOKUP($A382,'Result Entry'!$B$9:$DX$108,3,0)","v":0}]
[null,"◐","Student's Name",{"$nulls":3},"↠",{"$f":"VLOOKUP($A382,'Result Entry'!$B$9:$DX$108,6,0)","v":0}]
[null,"◐","Father's Name",{"$nulls":3},"↠",{"$f":"VLOOKUP($A382,'Result Entry'!$B$9:$DX$108,7,0)","v":0}]
[null,"◐","Mother's Name ",{"$nulls":3},"↠",{"$f":"VLOOKUP($A382,'Result Entry'!$B$9:$DX$108,8,0)","v":0}]
[null,"◐","Class & Section",{"$nulls":3},"↠",{"$f":"CONCATENATE('Result Entry'!$F$4,'Result Entry'!$I$4)","v":"2(A)"}]
[null,"◐","Date Of Birth",{"$nulls":3},"↠",{"$f":"VLOOKUP($A382,'Result Entry'!$B$9:$DX$108,9,0)","v":"00:00:00"}]
[null,"◐","Subject",{"$nulls":4},"Half Yearly","Total (T+H.Y.)","Yearly","Grand Total",null,"Subject Grade"]
[null,"◐","Max. Marks",{"$nulls":4},{"$f":"'Result Entry'!$Q$7","v":100},{"$f":"G395+H395","v":100},{"$f":"'Result Entry'!$U$7","v":100},{"$f":"I395+J395","v":200},null,"A/B/C/D/E"]
[null,"◐",{"$f":"'Result Entry'!$K$3","v":"Hindi"},{"$nulls":4},{"$f":"IF(OR(C396=\"\",$I387=\"NSO\"),\"\",VLOOKUP($A382,'Result Entry'!$B$9:$DX$108,16,0))","v":0},{"$f":"SUM(G396,H396)","v":0},{"$f":"IF(OR(C396=\"\",$I387=\"NSO\"),\"\",VLOOKUP($A382,'Result Entry'!$B$9:$DX$108,20,0))","v":0},{"$f":"SUM(I396,J396)","v":0},null,{"$f":"IF(OR(C396=\"\",$I387=\"NSO\"),\"\",VLOOKUP($A382,'Result Entry'!$B$9:$DX$108,23,0))","v":""}]
[null,"◐",{"$f":"'Result Entry'!$Y$3","v":"Mathematics"},{"$nulls":4},{"$f":"IF(OR(C397=\"\",$I387=\"NSO\"),\"\",VLOOKUP($A382,'Result Entry'!$B$9:$DX$108,30,0))","v":0},{"$f":"SUM(G397,H397)","v":0},{"$f":"IF(OR(C397=\"\",$I387=\"NSO\"),\"\",VLOOKUP($A382,'Result Entry'!$B$9:$DX$108,34,0))","v":0},{"$f":"SUM(I397,J397)","v":0},null,{"$f":"IF(OR(C397=\"\",$I387=\"NSO\"),\"\",VLOOKUP($A382,'Result Entry'!$B$9:$DX$108,37,0))","v":""}]
[null,"◐",{"$f":"'Result Entry'!$BO$3","v":"Env. Study"},{"$nulls":4},{"$f":"IF(OR(C398=\"\",$I387=\"NSO\"),\"\",VLOOKUP($A382,'Result Entry'!$B$9:$DX$108,66,0))","v":0},0,{"$f":"IF(OR(C398=\"\",$I387=\"NSO\"),\"\",VLOOKUP($A382,'Result Entry'!$B$9:$DX$108,67,0))","v":0},0,null,{"$f":"IF(OR(C398=\"\",$I387=\"NSO\"),\"\",VLOOKUP($A382,'Result Entry'!$B$9:$DX$108,73,0))","v":""}]
[null,"◐","Max. Marks",{"$nulls":4},{"$f":"'Result Entry'!$AS$7","v":50},50,{"$f":"'Result Entry'!$AW$7","v":50},100,null,"A/B/C/D/E"]
[null,"◐",{"$f":"'Result Entry'!$AM$3","v":"English"},{"$nulls":4},{"$f":"IF(OR(C400=\"\",$I387=\"NSO\"),\"\",VLOOKUP($A382,'Result Entry'!$B$9:$DX$108,44,0))","v":0},0,{"$f":"IF(OR(C400=\"\",$I387=\"NSO\"),\"\",VLOOKUP($A382,'Result Entry'!$B$9:$DX$108,48,0))","v":0},0,null,{"$f":"IF(OR(C400=\"\",$I387=\"NSO\"),\"\",VLOOKUP($A382,'Result Entry'!$B$9:$DX$108,51,0))","v":""}]
[null,"◐"]
[null,"◐","Overall Result",null,null,"Total Max. Marks",null,"Total Obtained Marks",null,"Percentage","Overall Grade","Result","Position in Class"]
[null,"◐",{"$nulls":3},{"$f":"IF(OR($I387=\"\",$I387=\"NSO\"),\"\",VLOOKUP($A382,'Result Entry'!$B$9:$DX$108,101,0))","v":500},null,{"$f":"IF(OR($I387=\"\",$I387=\"NSO\"),\"\",VLOOKUP($A382,'Result Entry'!$B$9:$DX$108,102,0))","v":0},null,{"$f":"IF(OR($I387=\"\",$I387=\"NSO\"),\"\",VLOOKUP($A382,'Result Entry'!$B$9:$DX$108,103,0))","v":{"v":0,"d":"0.00"}},{"$f":"IF(OR($I387=\"\",$I387=\"NSO\"),\"\",VLOOKUP($A382,'Result Entry'!$B$9:$DX$108,104,0))","v":""},{"$f":"IF(OR($I387=\"\",$I387=\"NSO\"),\"\",VLOOKUP($A382,'Result Entry'!$B$9:$DX$108,105,0))","v":""},{"$f":"IF(OR($I387=\"\",$I387=\"NSO\"),\"\",VLOOKUP($A382,'Result Entry'!$B$9:$DX$108,107,0))","v":""}]
[null,"◐",{"$nulls":6},"Total Meetings :-",null,{"$f":"IF(OR($I387=\"\",$I387=\"NSO\"),\"\",VLOOKUP($A382,'Result Entry'!$B$9:$DX$108,98,0))","v":0},"Attedance %"]
[null,"◐","Extra Subjects",{"$nulls":5},"Student's Meetings :-",null,{"$f":"IF(OR($I387=\"\",$I387=\"NSO\"),\"\",VLOOKUP($A382,'Result Entry'!$B$9:$DX$108,99,0))","v":0},{"$f":"IF(OR($I387=\"\",$I387=\"NSO\"),\"\",VLOOKUP($A382,'Result Entry'!$B$9:$DX$108,100,0))","v":""}]
[null,"◐","Subject",null,null,"Total Marks",null,"GRADE","Remark :-",null,{"$f":"IF(OR($I387=\"\",$I387=\"NSO\"),\"\",VLOOKUP($A382,'Result Entry'!$B$9:$DX$108,108,0))","v":0}]
[null,"◐",{"$nulls":6},"Result Date :-",null,{"$f":"'Result Entry'!$T$2","v":"2023-05-24"}]
[null,"◐",{"$f":"'Result Entry'!$BW$3","v":"WORK EXP."},null,null,{"$f":"IF(OR(C408=\"\",$I387=\"NSO\"),\"\",VLOOKUP($A382,'Result Entry'!$B$9:$DX$108,119,0))","v":"0/50"},null,{"$f":"IF(OR(C408=\"\",$I387=\"NSO\"),\"\",VLOOKUP($A382,'Result Entry'!$B$9:$DX$108,81,0))","v":""}]
[null,null,{"$f":"'Result Entry'!$CE$3","v":"ART EDU."},null,null,{"$f":"IF(OR(C409=\"\",$I387=\"NSO\"),\"\",VLOOKUP($A382,'Result Entry'!$B$9:$DX$108,123,0))","v":"0/50"},null,{"$f":"IF(OR(C409=\"\",$I387=\"NSO\"),\"\",VLOOKUP($A382,'Result Entry'!$B$9:$DX$108,89,0))","v":""}]
[null,"◐",{"$f":"'Result Entry'!$CM$3","v":"H&P. EDU."},null,null,{"$f":"IF(OR(C410=\"\",$I387=\"NSO\"),\"\",VLOOKUP($A382,'Result Entry'!$B$9:$DX$108,127,0))","v":"0/100"},null,{"$f":"IF(OR(C410=\"\",$I387=\"NSO\"),\"\",VLOOKUP($A382,'Result Entry'!$B$9:$DX$108,97,0))","v":""},"Signature Of The Class Teacher"]
[null,"◐","Grading System"]
[null,"◐","Grd.","% Range",null,"Description"]
[null,"◐","A","86-100",null,"Excellent",null,null,"Signature And Seal Of Principal/H.M."]
[null,"◐","B","71-85",null,"Very Good"]
[null,"◐","C","51-70",null,"Good"]
[null,"◐","D","31-50",null,"Average"]
[null,"◐","E","0-30",null,"Needs Improvement",null,null,"Wish bright future"]
[]
[]
[{"$f":"A382+1","v":12},"Department Of Education, Rajasthan"]
[null,{"$f":"IF(I425>0,CONCATENATE(C425,I425),0)","v":0},null,{"$f":"Master!$E$8","v":"Govt.Sr.Sec.Sch. "}]
[{"$nulls":3},{"$f":"Master!$E$11","v":"P.S.-Bapini (Jodhpur)"}]
[null,null,"Report Card",{"$nulls":6},"U-DISE Code:-",null,{"$f":"Master!$E$14","v":{"v":810000000,"d":"0810000000"}}]
[{"$nulls":9},"Session:-",null,{"$f":"Master!$E$6","v":"2022-23"}]
[null,null,"Roll No.:-",{"$nulls":5},{"$f":"VLOOKUP($A420,'Result Entry'!$B$9:$F$108,5,0)","v":0}]
[null,"◐","Scholar Number",{"$nulls":3},"↠",{"$f":"VLOOKUP($A420,'Result Entry'!$B$9:$DX$108,3,0)","v":0}]
[null,"◐","Student's Name",{"$nulls":3},"↠",{"$f":"VLOOKUP($A420,'Result Entry'!$B$9:$DX$108,6,0)","v":0}]
[null,"◐","Father's Name",{"$nulls":3},"↠",{"$f":"VLOOKUP($A420,'Result Entry'!$B$9:$DX$108,7,0)","v":0}]
[null,"◐","Mother's Name ",{"$nulls":3},"↠",{"$f":"VLOOKUP($A420,'Result Entry'!$B$9:$DX$108,8,0)","v":0}]
[null,"◐","Class & Section",{"$nulls":3},"↠",{"$f":"CONCATENATE('Result Entry'!$F$4,'Result Entry'!$I$4)","v":"2(A)"}]
[null,"◐","Date Of Birth",{"$nulls":3},"↠",{"$f":"VLOOKUP($A420,'Result Entry'!$B$9:$DX$108,9,0)","v":"00:00:00"}]
[null,"◐","Subject",{"$nulls":4},"Half Yearly","Total (T+H.Y.)","Yearly","Grand Total",null,"Subject Grade"]
[null,"◐","Max. Marks",{"$nulls":4},{"$f":"'Result Entry'!$Q$7","v":100},{"$f":"G433+H433","v":100},{"$f":"'Result Entry'!$U$7","v":100},{"$f":"I433+J433","v":200},null,"A/B/C/D/E"]
[null,"◐",{"$f":"'Result Entry'!$K$3","v":"Hindi"},{"$nulls":4},{"$f":"IF(OR(C434=\"\",$I425=\"NSO\"),\"\",VLOOKUP($A420,'Result Entry'!$B$9:$DX$108,16,0))","v":0},{"$f":"SUM(G434,H434)","v":0},{"$f":"IF(OR(C434=\"\",$I425=\"NSO\"),\"\",VLOOKUP($A420,'Result Entry'!$B$9:$DX$108,20,0))","v":0},{"$f":"SUM(I434,J434)","v":0},null,{"$f":"IF(OR(C434=\"\",$I425=\"NSO\"),\"\",VLOOKUP($A420,'Result Entry'!$B$9:$DX$108,23,0))","v":""}]
[null,"◐",{"$f":"'Result Entry'!$Y$3","v":"Mathematics"},{"$nulls":4},{"$f":"IF(OR(C435=\"\",$I425=\"NSO\"),\"\",VLOOKUP($A420,'Result Entry'!$B$9:$DX$108,30,0))","v":0},{"$f":"SUM(G435,H435)","v":0},{"$f":"IF(OR(C435=\"\",$I425=\"NSO\"),\"\",VLOOKUP($A420,'Result Entry'!$B$9:$DX$108,34,0))","v":0},{"$f":"SUM(I435,J435)","v":0},null,{"$f":"IF(OR(C435=\"\",$I425=\"NSO\"),\"\",VLOOKUP($A420,'Result Entry'!$B$9:$DX$108,37,0))","v":""}]
[null,"◐",{"$f":"'Result Entry'!$BO$3","v":"Env. Study"},{"$nulls":4},{"$f":"IF(OR(C436=\"\",$I425=\"NSO\"),\"\",VLOOKUP($A420,'Result Entry'!$B$9:$DX$108,66,0))","v":0},0,{"$f":"IF(OR(C436=\"\",$I425=\"NSO\"),\"\",VLOOKUP($A420,'Result Entry'!$B$9:$DX$108,67,0))","v":0},0,null,{"$f":"IF(OR(C436=\"\",$I425=\"NSO\"),\"\",VLOOKUP($A420,'Result Entry'!$B$9:$DX$108,73,0))","v":""}]
[null,"◐","Max. Marks",{"$nulls":4},{"$f":"'Result Entry'!$AS$7","v":50},50,{"$f":"'Result Entry'!$AW$7","v":50},100,null,"A/B/C/D/E"]
[null,"◐",{"$f":"'Result Entry'!$AM$3","v":"English"},{"$nulls":4},{"$f":"IF(OR(C438=\"\",$I425=\"NSO\"),\"\",VLOOKUP($A420,'Result Entry'!$B$9:$DX$108,44,0))","v":0},0,{"$f":"IF(OR(C438=\"\",$I425=\"NSO\"),\"\",VLOOKUP($A420,'Result Entry'!$B$9:$DX$108,48,0))","v":0},0,null,{"$f":"IF(OR(C438=\"\",$I425=\"NSO\"),\"\",VLOOKUP($A420,'Result Entry'!$B$9:$DX$108,51,0))","v":""}]
[null,"◐"]
[null,"◐","Overall Result",null,null,"Total Max. Marks",null,"Total Obtained Marks",null,"Percentage","Overall Grade","Result","Position in Class"]
[null,"◐",{"$nulls":3},{"$f":"IF(OR($I425=\"\",$I425=\"NSO\"),\"\",VLOOKUP($A420,'Result Entry'!$B$9:$DX$108,101,0))","v":500},null,{"$f":"IF(OR($I425=\"\",$I425=\"NSO\"),\"\",VLOOKUP($A420,'Result Entry'!$B$9:$DX$108,102,0))","v":0},null,{"$f":"IF(OR($I425=\"\",$I425=\"NSO\"),\"\",VLOOKUP($A420,'Result Entry'!$B$9:$DX$108,103,0))","v":{"v":0,"d":"0.00"}},{"$f":"IF(OR($I425=\"\",$I425=\"NSO\"),\"\",VLOOKUP($A420,'Result Entry'!$B$9:$DX$108,104,0))","v":""},{"$f":"IF(OR($I425=\"\",$I425=\"NSO\"),\"\",VLOOKUP($A420,'Result Entry'!$B$9:$DX$108,105,0))","v":""},{"$f":"IF(OR($I425=\"\",$I425=\"NSO\"),\"\",VLOOKUP($A420,'Result Entry'!$B$9:$DX$108,107,0))","v":""}]
[null,"◐",{"$nulls":6},"Total Meetings :-",null,{"$f":"IF(OR($I425=\"\",$I425=\"NSO\"),\"\",VLOOKUP($A420,'Result Entry'!$B$9:$DX$108,98,0))","v":0},"Attedance %"]
[null,"◐","Extra Subjects",{"$nulls":5},"Student's Meetings :-",null,{"$f":"IF(OR($I425=\"\",$I425=\"NSO\"),\"\",VLOOKUP($A420,'Result Entry'!$B$9:$DX$108,99,0))","v":0},{"$f":"IF(OR($I425=\"\",$I425=\"NSO\"),\"\",VLOOKUP($A420,'Result Entry'!$B$9:$DX$108,100,0))","v":""}]
[null,"◐","Subject",null,null,"Total Marks",null,"GRADE","Remark :-",null,{"$f":"IF(OR($I425=\"\",$I425=\"NSO\"),\"\",VLOOKUP($A420,'Result Entry'!$B$9:$DX$108,108,0))","v":0}]
[null,"◐",{"$nulls":6},"Result Date :-",null,{"$f":"'Result Entry'!$T$2","v":"2023-05-24"}]
[null,"◐",{"$f":"'Result Entry'!$BW$3","v":"WORK EXP."},null,null,{"$f":"IF(OR(C446=\"\",$I425=\"NSO\"),\"\",VLOOKUP($A420,'Result Entry'!$B$9:$DX$108,119,0))","v":"0/50"},null,{"$f":"IF(OR(C446=\"\",$I425=\"NSO\"),\"\",VLOOKUP($A420,'Result Entry'!$B$9:$DX$108,81,0))","v":""}]
[null,null,{"$f":"'Result Entry'!$CE$3","v":"ART EDU."},null,null,{"$f":"IF(OR(C447=\"\",$I425=\"NSO\"),\"\",VLOOKUP($A420,'Result Entry'!$B$9:$DX$108,123,0))","v":"0/50"},null,{"$f":"IF(OR(C447=\"\",$I425=\"NSO\"),\"\",VLOOKUP($A420,'Result Entry'!$B$9:$DX$108,89,0))","v":""}]
[null,"◐",{"$f":"'Result Entry'!$CM$3","v":"H&P. EDU."},null,null,{"$f":"IF(OR(C448=\"\",$I425=\"NSO\"),\"\",VLOOKUP($A420,'Result Entry'!$B$9:$DX$108,127,0))","v":"0/100"},null,{"$f":"IF(OR(C448=\"\",$I425=\"NSO\"),\"\",VLOOKUP($A420,'Result Entry'!$B$9:$DX$108,97,0))","v":""},"Signature Of The Class Teacher"]
[null,"◐","Grading System"]
[null,"◐","Grd.","% Range",null,"Description"]
[null,"◐","A","86-100",null,"Excellent",null,null,"Signature And Seal Of Principal/H.M."]
[null,"◐","B","71-85",null,"Very Good"]
[null,"◐","C","51-70",null,"Good"]
[null,"◐","D","31-50",null,"Average"]
[null,"◐","E","0-30",null,"Needs Improvement",null,null,"Wish bright future"]
[]
[]
[{"$f":"A420+1","v":13},"Department Of Education, Rajasthan"]
[null,{"$f":"IF(I463>0,CONCATENATE(C463,I463),0)","v":0},null,{"$f":"Master!$E$8","v":"Govt.Sr.Sec.Sch. "}]
[{"$nulls":3},{"$f":"Master!$E$11","v":"P.S.-Bapini (Jodhpur)"}]
[null,null,"Report Card",{"$nulls":6},"U-DISE Code:-",null,{"$f":"Master!$E$14","v":{"v":810000000,"d":"0810000000"}}]
[{"$nulls":9},"Session:-",null,{"$f":"Master!$E$6","v":"2022-23"}]
[null,null,"Roll No.:-",{"$nulls":5},{"$f":"VLOOKUP($A458,'Result Entry'!$B$9:$F$108,5,0)","v":0}]
[null,"◐","Scholar Number",{"$nulls":3},"↠",{"$f":"VLOOKUP($A458,'Result Entry'!$B$9:$DX$108,3,0)","v":0}]
[null,"◐","Student's Name",{"$nulls":3},"↠",{"$f":"VLOOKUP($A458,'Result Entry'!$B$9:$DX$108,6,0)","v":0}]
[null,"◐","Father's Name",{"$nulls":3},"↠",{"$f":"VLOOKUP($A458,'Result Entry'!$B$9:$DX$108,7,0)","v":0}]
[null,"◐","Mother's Name ",{"$nulls":3},"↠",{"$f":"VLOOKUP($A458,'Result Entry'!$B$9:$DX$108,8,0)","v":0}]
[null,"◐","Class & Section",{"$nulls":3},"↠",{"$f":"CONCATENATE('Result Entry'!$F$4,'Result Entry'!$I$4)","v":"2(A)"}]
[null,"◐","Date Of Birth",{"$nulls":3},"↠",{"$f":"VLOOKUP($A458,'Result Entry'!$B$9:$DX$108,9,0)","v":"00:00:00"}]
[null,"◐","Subject",{"$nulls":4},"Half Yearly","Total (T+H.Y.)","Yearly","Grand Total",null,"Subject Grade"]
[null,"◐","Max. Marks",{"$nulls":4},{"$f":"'Result Entry'!$Q$7","v":100},{"$f":"G471+H471","v":100},{"$f":"'Result Entry'!$U$7","v":100},{"$f":"I471+J471","v":200},null,"A/B/C/D/E"]
[null,"◐",{"$f":"'Result Entry'!$K$3","v":"Hindi"},{"$nulls":4},{"$f":"IF(OR(C472=\"\",$I463=\"NSO\"),\"\",VLOOKUP($A458,'Result Entry'!$B$9:$DX$108,16,0))","v":0},{"$f":"SUM(G472,H472)","v":0},{"$f":"IF(OR(C472=\"\",$I463=\"NSO\"),\"\",VLOOKUP($A458,'Result Entry'!$B$9:$DX$108,20,0))","v":0},{"$f":"SUM(I472,J472)","v":0},null,{"$f":"IF(OR(C472=\"\",$I463=\"NSO\"),\"\",VLOOKUP($A458,'Result Entry'!$B$9:$DX$108,23,0))","v":""}]
[null,"◐",{"$f":"'Result Entry'!$Y$3","v":"Mathematics"},{"$nulls":4},{"$f":"IF(OR(C473=\"\",$I463=\"NSO\"),\"\",VLOOKUP($A458,'Result Entry'!$B$9:$DX$108,30,0))","v":0},{"$f":"SUM(G473,H473)","v":0},{"$f":"IF(OR(C473=\"\",$I463=\"NSO\"),\"\",VLOOKUP($A458,'Result Entry'!$B$9:$DX$108,34,0))","v":0},{"$f":"SUM(I473,J473)","v":0},null,{"$f":"IF(OR(C473=\"\",$I463=\"NSO\"),\"\",VLOOKUP($A458,'Result Entry'!$B$9:$DX$108,37,0))","v":""}]
[null,"◐",{"$f":"'Result Entry'!$BO$3","v":"Env. Study"},{"$nulls":4},{"$f":"IF(OR(C474=\"\",$I463=\"NSO\"),\"\",VLOOKUP($A458,'Result Entry'!$B$9:$DX$108,66,0))","v":0},0,{"$f":"IF(OR(C474=\"\",$I463=\"NSO\"),\"\",VLOOKUP($A458,'Result Entry'!$B$9:$DX$108,67,0))","v":0},0,null,{"$f":"IF(OR(C474=\"\",$I463=\"NSO\"),\"\",VLOOKUP($A458,'Result Entry'!$B$9:$DX$108,73,0))","v":""}]
[null,"◐","Max. Marks",{"$nulls":4},{"$f":"'Result Entry'!$AS$7","v":50},50,{"$f":"'Result Entry'!$AW$7","v":50},100,null,"A/B/C/D/E"]
[null,"◐",{"$f":"'Result Entry'!$AM$3","v":"English"},{"$nulls":4},{"$f":"IF(OR(C476=\"\",$I463=\"NSO\"),\"\",VLOOKUP($A458,'Result Entry'!$B$9:$DX$108,44,0))","v":0},0,{"$f":"IF(OR(C476=\"\",$I463=\"NSO\"),\"\",VLOOKUP($A458,'Result Entry'!$B$9:$DX$108,48,0))","v":0},0,null,{"$f":"IF(OR(C476=\"\",$I463=\"NSO\"),\"\",VLOOKUP($A458,'Result Entry'!$B$9:$DX$108,51,0))","v":""}]
[null,"◐"]
[null,"◐","Overall Result",null,null,"Total Max. Marks",null,"Total Obtained Marks",null,"Percentage","Overall Grade","Result","Position in Class"]
[null,"◐",{"$nulls":3},{"$f":"IF(OR($I463=\"\",$I463=\"NSO\"),\"\",VLOOKUP($A458,'Result Entry'!$B$9:$DX$108,101,0))","v":500},null,{"$f":"IF(OR($I463=\"\",$I463=\"NSO\"),\"\",VLOOKUP($A458,'Result Entry'!$B$9:$DX$108,102,0))","v":0},null,{"$f":"IF(OR($I463=\"\",$I463=\"NSO\"),\"\",VLOOKUP($A458,'Result Entry'!$B$9:$DX$108,103,0))","v":{"v":0,"d":"0.00"}},{"$f":"IF(OR($I463=\"\",$I463=\"NSO\"),\"\",VLOOKUP($A458,'Result Entry'!$B$9:$DX$108,104,0))","v":""},{"$f":"IF(OR($I463=\"\",$I463=\"NSO\"),\"\",VLOOKUP($A458,'Result Entry'!$B$9:$DX$108,105,0))","v":""},{"$f":"IF(OR($I463=\"\",$I463=\"NSO\"),\"\",VLOOKUP($A458,'Result Entry'!$B$9:$DX$108,107,0))","v":""}]
[null,"◐",{"$nulls":6},"Total Meetings :-",null,{"$f":"IF(OR($I463=\"\",$I463=\"NSO\"),\"\",VLOOKUP($A458,'Result Entry'!$B$9:$DX$108,98,0))","v":0},"Attedance %"]
[null,"◐","Extra Subjects",{"$nulls":5},"Student's Meetings :-",null,{"$f":"IF(OR($I463=\"\",$I463=\"NSO\"),\"\",VLOOKUP($A458,'Result Entry'!$B$9:$DX$108,99,0))","v":0},{"$f":"IF(OR($I463=\"\",$I463=\"NSO\"),\"\",VLOOKUP($A458,'Result Entry'!$B$9:$DX$108,100,0))","v":""}]
[null,"◐","Subject",null,null,"Total Marks",null,"GRADE","Remark :-",null,{"$f":"IF(OR($I463=\"\",$I463=\"NSO\"),\"\",VLOOKUP($A458,'Result Entry'!$B$9:$DX$108,108,0))","v":0}]
[null,"◐",{"$nulls":6},"Result Date :-",null,{"$f":"'Result Entry'!$T$2","v":"2023-05-24"}]
[null,"◐",{"$f":"'Result Entry'!$BW$3","v":"WORK EXP."},null,null,{"$f":"IF(OR(C484=\"\",$I463=\"NSO\"),\"\",VLOOKUP($A458,'Result Entry'!$B$9:$DX$108,119,0))","v":"0/50"},null,{"$f":"IF(OR(C484=\"\",$I463=\"NSO\"),\"\",VLOOKUP($A458,'Result Entry'!$B$9:$DX$108,81,0))","v":""}]
[null,null,{"$f":"'Result Entry'!$CE$3","v":"ART EDU."},null,null,{"$f":"IF(OR(C485=\"\",$I463=\"NSO\"),\"\",VLOOKUP($A458,'Result Entry'!$B$9:$DX$108,123,0))","v":"0/50"},null,{"$f":"IF(OR(C485=\"\",$I463=\"NSO\"),\"\",VLOOKUP($A458,'Result Entry'!$B$9:$DX$108,89,0))","v":""}]
[null,"◐",{"$f":"'Result Entry'!$CM$3","v":"H&P. EDU."},null,null,{"$f":"IF(OR(C486=\"\",$I463=\"NSO\"),\"\",VLOOKUP($A458,'Result Entry'!$B$9:$DX$108,127,0))","v":"0/100"},null,{"$f":"IF(OR(C486=\"\",$I463=\"NSO\"),\"\",VLOOKUP($A458,'Result Entry'!$B$9:$DX$108,97,0))","v":""},"Signature Of The Class Teacher"]
[null,"◐","Grading System"]
[null,"◐","Grd.","% Range",null,"Description"]
[null,"◐","A","86-100",null,"Excellent",null,null,"Signature And Seal Of Principal/H.M."]
[null,"◐","B","71-85",null,"Very Good"]
[null,"◐","C","51-70",null,"Good"]
[null,"◐","D","31-50",null,"Average"]
[null,"◐","E","0-30",null,"Needs Improvement",null,null,"Wish bright future"]
[]
[]
[{"$f":"A458+1","v":14},"Department Of Education, Rajasthan"]
[null,{"$f":"IF(I501>0,CONCATENATE(C501,I501),0)","v":0},null,{"$f":"Master!$E$8","v":"Govt.Sr.Sec.Sch. "}]
[{"$nulls":3},{"$f":"Master!$E$11","v":"P.S.-Bapini (Jodhpur)"}]
[null,null,"Report Card",{"$nulls":6},"U-DISE Code:-",null,{"$f":"Master!$E$14","v":{"v":810000000,"d":"0810000000"}}]
[{"$nulls":9},"Session:-",null,{"$f":"Master!$E$6","v":"2022-23"}]
[null,null,"Roll No.:-",{"$nulls":5},{"$f":"VLOOKUP($A496,'Result Entry'!$B$9:$F$108,5,0)","v":0}]
[null,"◐","Scholar Number",{"$nulls":3},"↠",{"$f":"VLOOKUP($A496,'Result Entry'!$B$9:$DX$108,3,0)","v":0}]
[null,"◐","Student's Name",{"$nulls":3},"↠",{"$f":"VLOOKUP($A496,'Result Entry'!$B$9:$DX$108,6,0)","v":0}]
[null,"◐","Father's Name",{"$nulls":3},"↠",{"$f":"VLOOKUP($A496,'Result Entry'!$B$9:$DX$108,7,0)","v":0}]
[null,"◐","Mother's Name ",{"$nulls":3},"↠",{"$f":"VLOOKUP($A496,'Result Entry'!$B$9:$DX$108,8,0)","v":0}]
[null,"◐","Class & Section",{"$nulls":3},"↠",{"$f":"CONCATENATE('Result Entry'!$F$4,'Result Entry'!$I$4)","v":"2(A)"}]
[null,"◐","Date Of Birth",{"$nulls":3},"↠",{"$f":"VLOOKUP($A496,'Result Entry'!$B$9:$DX$108,9,0)","v":"00:00:00"}]
[null,"◐","Subject",{"$nulls":4},"Half Yearly","Total (T+H.Y.)","Yearly","Grand Total",null,"Subject Grade"]
[null,"◐","Max. Marks",{"$nulls":4},{"$f":"'Result Entry'!$Q$7","v":100},{"$f":"G509+H509","v":100},{"$f":"'Result Entry'!$U$7","v":100},{"$f":"I509+J509","v":200},null,"A/B/C/D/E"]
[null,"◐",{"$f":"'Result Entry'!$K$3","v":"Hindi"},{"$nulls":4},{"$f":"IF(OR(C510=\"\",$I501=\"NSO\"),\"\",VLOOKUP($A496,'Result Entry'!$B$9:$DX$108,16,0))","v":0},{"$f":"SUM(G510,H510)","v":0},{"$f":"IF(OR(C510=\"\",$I501=\"NSO\"),\"\",VLOOKUP($A496,'Result Entry'!$B$9:$DX$108,20,0))","v":0},{"$f":"SUM(I510,J510)","v":0},null,{"$f":"IF(OR(C510=\"\",$I501=\"NSO\"),\"\",VLOOKUP($A496,'Result Entry'!$B$9:$DX$108,23,0))","v":""}]
[null,"◐",{"$f":"'Result Entry'!$Y$3","v":"Mathematics"},{"$nulls":4},{"$f":"IF(OR(C511=\"\",$I501=\"NSO\"),\"\",VLOOKUP($A496,'Result Entry'!$B$9:$DX$108,30,0))","v":0},{"$f":"SUM(G511,H511)","v":0},{"$f":"IF(OR(C511=\"\",$I501=\"NSO\"),\"\",VLOOKUP($A496,'Result Entry'!$B$9:$DX$108,34,0))","v":0},{"$f":"SUM(I511,J511)","v":0},null,{"$f":"IF(OR(C511=\"\",$I501=\"NSO\"),\"\",VLOOKUP($A496,'Result Entry'!$B$9:$DX$108,37,0))","v":""}]
[null,"◐",{"$f":"'Result Entry'!$BO$3","v":"Env. Study"},{"$nulls":4},{"$f":"IF(OR(C512=\"\",$I501=\"NSO\"),\"\",VLOOKUP($A496,'Result Entry'!$B$9:$DX$108,66,0))","v":0},0,{"$f":"IF(OR(C512=\"\",$I501=\"NSO\"),\"\",VLOOKUP($A496,'Result Entry'!$B$9:$DX$108,67,0))","v":0},0,null,{"$f":"IF(OR(C512=\"\",$I501=\"NSO\"),\"\",VLOOKUP($A496,'Result Entry'!$B$9:$DX$108,73,0))","v":""}]
[null,"◐","Max. Marks",{"$nulls":4},{"$f":"'Result Entry'!$AS$7","v":50},50,{"$f":"'Result Entry'!$AW$7","v":50},100,null,"A/B/C/D/E"]
[null,"◐",{"$f":"'Result Entry'!$AM$3","v":"English"},{"$nulls":4},{"$f":"IF(OR(C514=\"\",$I501=\"NSO\"),\"\",VLOOKUP($A496,'Result Entry'!$B$9:$DX$108,44,0))","v":0},0,{"$f":"IF(OR(C514=\"\",$I501=\"NSO\"),\"\",VLOOKUP($A496,'Result Entry'!$B$9:$DX$108,48,0))","v":0},0,null,{"$f":"IF(OR(C514=\"\",$I501=\"NSO\"),\"\",VLOOKUP($A496,'Result Entry'!$B$9:$DX$108,51,0))","v":""}]
[null,"◐"]
[null,"◐","Overall Result",null,null,"Total Max. Marks",null,"Total Obtained Marks",null,"Percentage","Overall Grade","Result","Position in Class"]
[null,"◐",{"$nulls":3},{"$f":"IF(OR($I501=\"\",$I501=\"NSO\"),\"\",VLOOKUP($A496,'Result Entry'!$B$9:$DX$108,101,0))","v":500},null,{"$f":"IF(OR($I501=\"\",$I501=\"NSO\"),\"\",VLOOKUP($A496,'Result Entry'!$B$9:$DX$108,102,0))","v":0},null,{"$f":"IF(OR($I501=\"\",$I501=\"NSO\"),\"\",VLOOKUP($A496,'Result Entry'!$B$9:$DX$108,103,0))","v":{"v":0,"d":"0.00"}},{"$f":"IF(OR($I501=\"\",$I501=\"NSO\"),\"\",VLOOKUP($A496,'Result Entry'!$B$9:$DX$108,104,0))","v":""},{"$f":"IF(OR($I501=\"\",$I501=\"NSO\"),\"\",VLOOKUP($A496,'Result Entry'!$B$9:$DX$108,105,0))","v":""},{"$f":"IF(OR($I501=\"\",$I501=\"NSO\"),\"\",VLOOKUP($A496,'Result Entry'!$B$9:$DX$108,107,0))","v":""}]
[null,"◐",{"$nulls":6},"Total Meetings :-",null,{"$f":"IF(OR($I501=\"\",$I501=\"NSO\"),\"\",VLOOKUP($A496,'Result Entry'!$B$9:$DX$108,98,0))","v":0},"Attedance %"]
[null,"◐","Extra Subjects",{"$nulls":5},"Student's Meetings :-",null,{"$f":"IF(OR($I501=\"\",$I501=\"NSO\"),\"\",VLOOKUP($A496,'Result Entry'!$B$9:$DX$108,99,0))","v":0},{"$f":"IF(OR($I501=\"\",$I501=\"NSO\"),\"\",VLOOKUP($A496,'Result Entry'!$B$9:$DX$108,100,0))","v":""}]
[null,"◐","Subject",null,null,"Total Marks",null,"GRADE","Remark :-",null,{"$f":"IF(OR($I501=\"\",$I501=\"NSO\"),\"\",VLOOKUP($A496,'Result Entry'!$B$9:$DX$108,108,0))","v":0}]
[null,"◐",{"$nulls":6},"Result Date :-",null,{"$f":"'Result Entry'!$T$2","v":"2023-05-24"}]
[null,"◐",{"$f":"'Result Entry'!$BW$3","v":"WORK EXP."},null,null,{"$f":"IF(OR(C522=\"\",$I501=\"NSO\"),\"\",VLOOKUP($A496,'Result Entry'!$B$9:$DX$108,119,0))","v":"0/50"},null,{"$f":"IF(OR(C522=\"\",$I501=\"NSO\"),\"\",VLOOKUP($A496,'Result Entry'!$B$9:$DX$108,81,0))","v":""}]
[null,null,{"$f":"'Result Entry'!$CE$3","v":"ART EDU."},null,null,{"$f":"IF(OR(C523=\"\",$I501=\"NSO\"),\"\",VLOOKUP($A496,'Result Entry'!$B$9:$DX$108,123,0))","v":"0/50"},null,{"$f":"IF(OR(C523=\"\",$I501=\"NSO\"),\"\",VLOOKUP($A496,'Result Entry'!$B$9:$DX$108,89,0))","v":""}]
[null,"◐",{"$f":"'Result Entry'!$CM$3","v":"H&P. EDU."},null,null,{"$f":"IF(OR(C524=\"\",$I501=\"NSO\"),\"\",VLOOKUP($A496,'Result Entry'!$B$9:$DX$108,127,0))","v":"0/100"},null,{"$f":"IF(OR(C524=\"\",$I501=\"NSO\"),\"\",VLOOKUP($A496,'Result Entry'!$B$9:$DX$108,97,0))","v":""},"Signature Of The Class Teacher"]
[null,"◐","Grading System"]
[null,"◐","Grd.","% Range",null,"Description"]
[null,"◐","A","86-100",null,"Excellent",null,null,"Signature And Seal Of Principal/H.M."]
[null,"◐","B","71-85",null,"Very Good"]
[null,"◐","C","51-70",null,"Good"]
[null,"◐","D","31-50",null,"Average"]
[null,"◐","E","0-30",null,"Needs Improvement",null,null,"Wish bright future"]
[]
[]
[{"$f":"A496+1","v":15},"Department Of Education, Rajasthan"]
[null,{"$f":"IF(I539>0,CONCATENATE(C539,I539),0)","v":0},null,{"$f":"Master!$E$8","v":"Govt.Sr.Sec.Sch. "}]
[{"$nulls":3},{"$f":"Master!$E$11","v":"P.S.-Bapini (Jodhpur)"}]
[null,null,"Report Card",{"$nulls":6},"U-DISE Code:-",null,{"$f":"Master!$E$14","v":{"v":810000000,"d":"0810000000"}}]
[{"$nulls":9},"Session:-",null,{"$f":"Master!$E$6","v":"2022-23"}]
[null,null,"Roll No.:-",{"$nulls":5},{"$f":"VLOOKUP($A534,'Result Entry'!$B$9:$F$108,5,0)","v":0}]
[null,"◐","Scholar Number",{"$nulls":3},"↠",{"$f":"VLOOKUP($A534,'Result Entry'!$B$9:$DX$108,3,0)","v":0}]
[null,"◐","Student's Name",{"$nulls":3},"↠",{"$f":"VLOOKUP($A534,'Result Entry'!$B$9:$DX$108,6,0)","v":0}]
[null,"◐","Father's Name",{"$nulls":3},"↠",{"$f":"VLOOKUP($A534,'Result Entry'!$B$9:$DX$108,7,0)","v":0}]
[null,"◐","Mother's Name ",{"$nulls":3},"↠",{"$f":"VLOOKUP($A534,'Result Entry'!$B$9:$DX$108,8,0)","v":0}]
[null,"◐","Class & Section",{"$nulls":3},"↠",{"$f":"CONCATENATE('Result Entry'!$F$4,'Result Entry'!$I$4)","v":"2(A)"}]
[null,"◐","Date Of Birth",{"$nulls":3},"↠",{"$f":"VLOOKUP($A534,'Result Entry'!$B$9:$DX$108,9,0)","v":"00:00:00"}]
[null,"◐","Subject",{"$nulls":4},"Half Yearly","Total (T+H.Y.)","Yearly","Grand Total",null,"Subject Grade"]
[null,"◐","Max. Marks",{"$nulls":4},{"$f":"'Result Entry'!$Q$7","v":100},{"$f":"G547+H547","v":100},{"$f":"'Result Entry'!$U$7","v":100},{"$f":"I547+J547","v":200},null,"A/B/C/D/E"]
[null,"◐",{"$f":"'Result Entry'!$K$3","v":"Hindi"},{"$nulls":4},{"$f":"IF(OR(C548=\"\",$I539=\"NSO\"),\"\",VLOOKUP($A534,'Result Entry'!$B$9:$DX$108,16,0))","v":0},{"$f":"SUM(G548,H548)","v":0},{"$f":"IF(OR(C548=\"\",$I539=\"NSO\"),\"\",VLOOKUP($A534,'Result Entry'!$B$9:$DX$108,20,0))","v":0},{"$f":"SUM(I548,J548)","v":0},null,{"$f":"IF(OR(C548=\"\",$I539=\"NSO\"),\"\",VLOOKUP($A534,'Result Entry'!$B$9:$DX$108,23,0))","v":""}]
[null,"◐",{"$f":"'Result Entry'!$Y$3","v":"Mathematics"},{"$nulls":4},{"$f":"IF(OR(C549=\"\",$I539=\"NSO\"),\"\",VLOOKUP($A534,'Result Entry'!$B$9:$DX$108,30,0))","v":0},{"$f":"SUM(G549,H549)","v":0},{"$f":"IF(OR(C549=\"\",$I539=\"NSO\"),\"\",VLOOKUP($A534,'Result Entry'!$B$9:$DX$108,34,0))","v":0},{"$f":"SUM(I549,J549)","v":0},null,{"$f":"IF(OR(C549=\"\",$I539=\"NSO\"),\"\",VLOOKUP($A534,'Result Entry'!$B$9:$DX$108,37,0))","v":""}]
[null,"◐",{"$f":"'Result Entry'!$BO$3","v":"Env. Study"},{"$nulls":4},{"$f":"IF(OR(C550=\"\",$I539=\"NSO\"),\"\",VLOOKUP($A534,'Result Entry'!$B$9:$DX$108,66,0))","v":0},0,{"$f":"IF(OR(C550=\"\",$I539=\"NSO\"),\"\",VLOOKUP($A534,'Result Entry'!$B$9:$DX$108,67,0))","v":0},0,null,{"$f":"IF(OR(C550=\"\",$I539=\"NSO\"),\"\",VLOOKUP($A534,'Result Entry'!$B$9:$DX$108,73,0))","v":""}]
[null,"◐","Max. Marks",{"$nulls":4},{"$f":"'Result Entry'!$AS$7","v":50},50,{"$f":"'Result Entry'!$AW$7","v":50},100,null,"A/B/C/D/E"]
[null,"◐",{"$f":"'Result Entry'!$AM$3","v":"English"},{"$nulls":4},{"$f":"IF(OR(C552=\"\",$I539=\"NSO\"),\"\",VLOOKUP($A534,'Result Entry'!$B$9:$DX$108,44,0))","v":0},0,{"$f":"IF(OR(C552=\"\",$I539=\"NSO\"),\"\",VLOOKUP($A534,'Result Entry'!$B$9:$DX$108,48,0))","v":0},0,null,{"$f":"IF(OR(C552=\"\",$I539=\"NSO\"),\"\",VLOOKUP($A534,'Result Entry'!$B$9:$DX$108,51,0))","v":""}]
[null,"◐"]
[null,"◐","Overall Result",null,null,"Total Max. Marks",null,"Total Obtained Marks",null,"Percentage","Overall Grade","Result","Position in Class"]
[null,"◐",{"$nulls":3},{"$f":"IF(OR($I539=\"\",$I539=\"NSO\"),\"\",VLOOKUP($A534,'Result Entry'!$B$9:$DX$108,101,0))","v":500},null,{"$f":"IF(OR($I539=\"\",$I539=\"NSO\"),\"\",VLOOKUP($A534,'Result Entry'!$B$9:$DX$108,102,0))","v":0},null,{"$f":"IF(OR($I539=\"\",$I539=\"NSO\"),\"\",VLOOKUP($A534,'Result Entry'!$B$9:$DX$108,103,0))","v":{"v":0,"d":"0.00"}},{"$f":"IF(OR($I539=\"\",$I539=\"NSO\"),\"\",VLOOKUP($A534,'Result Entry'!$B$9:$DX$108,104,0))","v":""},{"$f":"IF(OR($I539=\"\",$I539=\"NSO\"),\"\",VLOOKUP($A534,'Result Entry'!$B$9:$DX$108,105,0))","v":""},{"$f":"IF(OR($I539=\"\",$I539=\"NSO\"),\"\",VLOOKUP($A534,'Result Entry'!$B$9:$DX$108,107,0))","v":""}]
[null,"◐",{"$nulls":6},"Total Meetings :-",null,{"$f":"IF(OR($I539=\"\",$I539=\"NSO\"),\"\",VLOOKUP($A534,'Result Entry'!$B$9:$DX$108,98,0))","v":0},"Attedance %"]
[null,"◐","Extra Subjects",{"$nulls":5},"Student's Meetings :-",null,{"$f":"IF(OR($I539=\"\",$I539=\"NSO\"),\"\",VLOOKUP($A534,'Result Entry'!$B$9:$DX$108,99,0))","v":0},{"$f":"IF(OR($I539=\"\",$I539=\"NSO\"),\"\",VLOOKUP($A534,'Result Entry'!$B$9:$DX$108,100,0))","v":""}]
[null,"◐","Subject",null,null,"Total Marks",null,"GRADE","Remark :-",null,{"$f":"IF(OR($I539=\"\",$I539=\"NSO\"),\"\",VLOOKUP($A534,'Result Entry'!$B$9:$DX$108,108,0))","v":0}]
[null,"◐",{"$nulls":6},"Result Date :-",null,{"$f":"'Result Entry'!$T$2","v":"2023-05-24"}]
[null,"◐",{"$f":"'Result Entry'!$BW$3","v":"WORK EXP."},null,null,{"$f":"IF(OR(C560=\"\",$I539=\"NSO\"),\"\",VLOOKUP($A534,'Result Entry'!$B$9:$DX$108,119,0))","v":"0/50"},null,{"$f":"IF(OR(C560=\"\",$I539=\"NSO\"),\"\",VLOOKUP($A534,'Result Entry'!$B$9:$DX$108,81,0))","v":""}]
[null,null,{"$f":"'Result Entry'!$CE$3","v":"ART EDU."},null,null,{"$f":"IF(OR(C561=\"\",$I539=\"NSO\"),\"\",VLOOKUP($A534,'Result Entry'!$B$9:$DX$108,123,0))","v":"0/50"},null,{"$f":"IF(OR(C561=\"\",$I539=\"NSO\"),\"\",VLOOKUP($A534,'Result Entry'!$B$9:$DX$108,89,0))","v":""}]
[null,"◐",{"$f":"'Result Entry'!$CM$3","v":"H&P. EDU."},null,null,{"$f":"IF(OR(C562=\"\",$I539=\"NSO\"),\"\",VLOOKUP($A534,'Result Entry'!$B$9:$DX$108,127,0))","v":"0/100"},null,{"$f":"IF(OR(C562=\"\",$I539=\"NSO\"),\"\",VLOOKUP($A534,'Result Entry'!$B$9:$DX$108,97,0))","v":""},"Signature Of The Class Teacher"]
[null,"◐","Grading System"]
[null,"◐","Grd.","% Range",null,"Description"]
[null,"◐","A","86-100",null,"Excellent",null,null,"Signature And Seal Of Principal/H.M."]
[null,"◐","B","71-85",null,"Very Good"]
[null,"◐","C","51-70",null,"Good"]
[null,"◐","D","31-50",null,"Average"]
[null,"◐","E","0-30",null,"Needs Improvement",null,null,"Wish bright future"]
[]
[]
[{"$f":"A534+1","v":16},"Department Of Education, Rajasthan"]
[null,{"$f":"IF(I577>0,CONCATENATE(C577,I577),0)","v":0},null,{"$f":"Master!$E$8","v":"Govt.Sr.Sec.Sch. "}]
[{"$nulls":3},{"$f":"Master!$E$11","v":"P.S.-Bapini (Jodhpur)"}]
[null,null,"Report Card",{"$nulls":6},"U-DISE Code:-",null,{"$f":"Master!$E$14","v":{"v":810000000,"d":"0810000000"}}]
[{"$nulls":9},"Session:-",null,{"$f":"Master!$E$6","v":"2022-23"}]
[null,null,"Roll No.:-",{"$nulls":5},{"$f":"VLOOKUP($A572,'Result Entry'!$B$9:$F$108,5,0)","v":0}]
[null,"◐","Scholar Number",{"$nulls":3},"↠",{"$f":"VLOOKUP($A572,'Result Entry'!$B$9:$DX$108,3,0)","v":0}]
[null,"◐","Student's Name",{"$nulls":3},"↠",{"$f":"VLOOKUP($A572,'Result Entry'!$B$9:$DX$108,6,0)","v":0}]
[null,"◐","Father's Name",{"$nulls":3},"↠",{"$f":"VLOOKUP($A572,'Result Entry'!$B$9:$DX$108,7,0)","v":0}]
[null,"◐","Mother's Name ",{"$nulls":3},"↠",{"$f":"VLOOKUP($A572,'Result Entry'!$B$9:$DX$108,8,0)","v":0}]
[null,"◐","Class & Section",{"$nulls":3},"↠",{"$f":"CONCATENATE('Result Entry'!$F$4,'Result Entry'!$I$4)","v":"2(A)"}]
[null,"◐","Date Of Birth",{"$nulls":3},"↠",{"$f":"VLOOKUP($A572,'Result Entry'!$B$9:$DX$108,9,0)","v":"00:00:00"}]
[null,"◐","Subject",{"$nulls":4},"Half Yearly","Total (T+H.Y.)","Yearly","Grand Total",null,"Subject Grade"]
[null,"◐","Max. Marks",{"$nulls":4},{"$f":"'Result Entry'!$Q$7","v":100},{"$f":"G585+H585","v":100},{"$f":"'Result Entry'!$U$7","v":100},{"$f":"I585+J585","v":200},null,"A/B/C/D/E"]
[null,"◐",{"$f":"'Result Entry'!$K$3","v":"Hindi"},{"$nulls":4},{"$f":"IF(OR(C586=\"\",$I577=\"NSO\"),\"\",VLOOKUP($A572,'Result Entry'!$B$9:$DX$108,16,0))","v":0},{"$f":"SUM(G586,H586)","v":0},{"$f":"IF(OR(C586=\"\",$I577=\"NSO\"),\"\",VLOOKUP($A572,'Result Entry'!$B$9:$DX$108,20,0))","v":0},{"$f":"SUM(I586,J586)","v":0},null,{"$f":"IF(OR(C586=\"\",$I577=\"NSO\"),\"\",VLOOKUP($A572,'Result Entry'!$B$9:$DX$108,23,0))","v":""}]
[null,"◐",{"$f":"'Result Entry'!$Y$3","v":"Mathematics"},{"$nulls":4},{"$f":"IF(OR(C587=\"\",$I577=\"NSO\"),\"\",VLOOKUP($A572,'Result Entry'!$B$9:$DX$108,30,0))","v":0},{"$f":"SUM(G587,H587)","v":0},{"$f":"IF(OR(C587=\"\",$I577=\"NSO\"),\"\",VLOOKUP($A572,'Result Entry'!$B$9:$DX$108,34,0))","v":0},{"$f":"SUM(I587,J587)","v":0},null,{"$f":"IF(OR(C587=\"\",$I577=\"NSO\"),\"\",VLOOKUP($A572,'Result Entry'!$B$9:$DX$108,37,0))","v":""}]
[null,"◐",{"$f":"'Result Entry'!$BO$3","v":"Env. Study"},{"$nulls":4},{"$f":"IF(OR(C588=\"\",$I577=\"NSO\"),\"\",VLOOKUP($A572,'Result Entry'!$B$9:$DX$108,66,0))","v":0},0,{"$f":"IF(OR(C588=\"\",$I577=\"NSO\"),\"\",VLOOKUP($A572,'Result Entry'!$B$9:$DX$108,67,0))","v":0},0,null,{"$f":"IF(OR(C588=\"\",$I577=\"NSO\"),\"\",VLOOKUP($A572,'Result Entry'!$B$9:$DX$108,73,0))","v":""}]
[null,"◐","Max. Marks",{"$nulls":4},{"$f":"'Result Entry'!$AS$7","v":50},50,{"$f":"'Result Entry'!$AW$7","v":50},100,null,"A/B/C/D/E"]
[null,"◐",{"$f":"'Result Entry'!$AM$3","v":"English"},{"$nulls":4},{"$f":"IF(OR(C590=\"\",$I577=\"NSO\"),\"\",VLOOKUP($A572,'Result Entry'!$B$9:$DX$108,44,0))","v":0},0,{"$f":"IF(OR(C590=\"\",$I577=\"NSO\"),\"\",VLOOKUP($A572,'Result Entry'!$B$9:$DX$108,48,0))","v":0},0,null,{"$f":"IF(OR(C590=\"\",$I577=\"NSO\"),\"\",VLOOKUP($A572,'Result Entry'!$B$9:$DX$108,51,0))","v":""}]
[null,"◐"]
[null,"◐","Overall Result",null,null,"Total Max. Marks",null,"Total Obtained Marks",null,"Percentage","Overall Grade","Result","Position in Class"]
[null,"◐",{"$nulls":3},{"$f":"IF(OR($I577=\"\",$I577=\"NSO\"),\"\",VLOOKUP($A572,'Result Entry'!$B$9:$DX$108,101,0))","v":500},null,{"$f":"IF(OR($I577=\"\",$I577=\"NSO\"),\"\",VLOOKUP($A572,'Result Entry'!$B$9:$DX$108,102,0))","v":0},null,{"$f":"IF(OR($I577=\"\",$I577=\"NSO\"),\"\",VLOOKUP($A572,'Result Entry'!$B$9:$DX$108,103,0))","v":{"v":0,"d":"0.00"}},{"$f":"IF(OR($I577=\"\",$I577=\"NSO\"),\"\",VLOOKUP($A572,'Result Entry'!$B$9:$DX$108,104,0))","v":""},{"$f":"IF(OR($I577=\"\",$I577=\"NSO\"),\"\",VLOOKUP($A572,'Result Entry'!$B$9:$DX$108,105,0))","v":""},{"$f":"IF(OR($I577=\"\",$I577=\"NSO\"),\"\",VLOOKUP($A572,'Result Entry'!$B$9:$DX$108,107,0))","v":""}]
[null,"◐",{"$nulls":6},"Total Meetings :-",null,{"$f":"IF(OR($I577=\"\",$I577=\"NSO\"),\"\",VLOOKUP($A572,'Result Entry'!$B$9:$DX$108,98,0))","v":0},"Attedance %"]
[null,"◐","Extra Subjects",{"$nulls":5},"Student's Meetings :-",null,{"$f":"IF(OR($I577=\"\",$I577=\"NSO\"),\"\",VLOOKUP($A572,'Result Entry'!$B$9:$DX$108,99,0))","v":0},{"$f":"IF(OR($I577=\"\",$I577=\"NSO\"),\"\",VLOOKUP($A572,'Result Entry'!$B$9:$DX$108,100,0))","v":""}]
[null,"◐","Subject",null,null,"Total Marks",null,"GRADE","Remark :-",null,{"$f":"IF(OR($I577=\"\",$I577=\"NSO\"),\"\",VLOOKUP($A572,'Result Entry'!$B$9:$DX$108,108,0))","v":0}]
[null,"◐",{"$nulls":6},"Result Date :-",null,{"$f":"'Result Entry'!$T$2","v":"2023-05-24"}]
[null,"◐",{"$f":"'Result Entry'!$BW$3","v":"WORK EXP."},null,null,{"$f":"IF(OR(C598=\"\",$I577=\"NSO\"),\"\",VLOOKUP($A572,'Result Entry'!$B$9:$DX$108,119,0))","v":"0/50"},null,{"$f":"IF(OR(C598=\"\",$I577=\"NSO\"),\"\",VLOOKUP($A572,'Result Entry'!$B$9:$DX$108,81,0))","v":""}]
[null,null,{"$f":"'Result Entry'!$CE$3","v":"ART EDU."},null,null,{"$f":"IF(OR(C599=\"\",$I577=\"NSO\"),\"\",VLOOKUP($A572,'Result Entry'!$B$9:$DX$108,123,0))","v":"0/50"},null,{"$f":"IF(OR(C599=\"\",$I577=\"NSO\"),\"\",VLOOKUP($A572,'Result Entry'!$B$9:$DX$108,89,0))","v":""}]
[null,"◐",{"$f":"'Result Entry'!$CM$3","v":"H&P. EDU."},null,null,{"$f":"IF(OR(C600=\"\",$I577=\"NSO\"),\"\",VLOOKUP($A572,'Result Entry'!$B$9:$DX$108,127,0))","v":"0/100"},null,{"$f":"IF(OR(C600=\"\",$I577=\"NSO\"),\"\",VLOOKUP($A572,'Result Entry'!$B$9:$DX$108,97,0))","v":""},"Signature Of The Class Teacher"]
[null,"◐","Grading System"]
[null,"◐","Grd.","% Range",null,"Description"]
[null,"◐","A","86-100",null,"Excellent",null,null,"Signature And Seal Of Principal/H.M."]
[null,"◐","B","71-85",null,"Very Good"]
[null,"◐","C","51-70",null,"Good"]
[null,"◐","D","31-50",null,"Average"]
[null,"◐","E","0-30",null,"Needs Improvement",null,null,"Wish bright future"]
[]
[]
[{"$f":"A572+1","v":17},"Department Of Education, Rajasthan"]
[null,{"$f":"IF(I615>0,CONCATENATE(C615,I615),0)","v":0},null,{"$f":"Master!$E$8","v":"Govt.Sr.Sec.Sch. "}]
[{"$nulls":3},{"$f":"Master!$E$11","v":"P.S.-Bapini (Jodhpur)"}]
[null,null,"Report Card",{"$nulls":6},"U-DISE Code:-",null,{"$f":"Master!$E$14","v":{"v":810000000,"d":"0810000000"}}]
[{"$nulls":9},"Session:-",null,{"$f":"Master!$E$6","v":"2022-23"}]
[null,null,"Roll No.:-",{"$nulls":5},{"$f":"VLOOKUP($A610,'Result Entry'!$B$9:$F$108,5,0)","v":0}]
[null,"◐","Scholar Number",{"$nulls":3},"↠",{"$f":"VLOOKUP($A610,'Result Entry'!$B$9:$DX$108,3,0)","v":0}]
[null,"◐","Student's Name",{"$nulls":3},"↠",{"$f":"VLOOKUP($A610,'Result Entry'!$B$9:$DX$108,6,0)","v":0}]
[null,"◐","Father's Name",{"$nulls":3},"↠",{"$f":"VLOOKUP($A610,'Result Entry'!$B$9:$DX$108,7,0)","v":0}]
[null,"◐","Mother's Name ",{"$nulls":3},"↠",{"$f":"VLOOKUP($A610,'Result Entry'!$B$9:$DX$108,8,0)","v":0}]
[null,"◐","Class & Section",{"$nulls":3},"↠",{"$f":"CONCATENATE('Result Entry'!$F$4,'Result Entry'!$I$4)","v":"2(A)"}]
[null,"◐","Date Of Birth",{"$nulls":3},"↠",{"$f":"VLOOKUP($A610,'Result Entry'!$B$9:$DX$108,9,0)","v":"00:00:00"}]
[null,"◐","Subject",{"$nulls":4},"Half Yearly","Total (T+H.Y.)","Yearly","Grand Total",null,"Subject Grade"]
[null,"◐","Max. Marks",{"$nulls":4},{"$f":"'Result Entry'!$Q$7","v":100},{"$f":"G623+H623","v":100},{"$f":"'Result Entry'!$U$7","v":100},{"$f":"I623+J623","v":200},null,"A/B/C/D/E"]
[null,"◐",{"$f":"'Result Entry'!$K$3","v":"Hindi"},{"$nulls":4},{"$f":"IF(OR(C624=\"\",$I615=\"NSO\"),\"\",VLOOKUP($A610,'Result Entry'!$B$9:$DX$108,16,0))","v":0},{"$f":"SUM(G624,H624)","v":0},{"$f":"IF(OR(C624=\"\",$I615=\"NSO\"),\"\",VLOOKUP($A610,'Result Entry'!$B$9:$DX$108,20,0))","v":0},{"$f":"SUM(I624,J624)","v":0},null,{"$f":"IF(OR(C624=\"\",$I615=\"NSO\"),\"\",VLOOKUP($A610,'Result Entry'!$B$9:$DX$108,23,0))","v":""}]
[null,"◐",{"$f":"'Result Entry'!$Y$3","v":"Mathematics"},{"$nulls":4},{"$f":"IF(OR(C625=\"\",$I615=\"NSO\"),\"\",VLOOKUP($A610,'Result Entry'!$B$9:$DX$108,30,0))","v":0},{"$f":"SUM(G625,H625)","v":0},{"$f":"IF(OR(C625=\"\",$I615=\"NSO\"),\"\",VLOOKUP($A610,'Result Entry'!$B$9:$DX$108,34,0))","v":0},{"$f":"SUM(I625,J625)","v":0},null,{"$f":"IF(OR(C625=\"\",$I615=\"NSO\"),\"\",VLOOKUP($A610,'Result Entry'!$B$9:$DX$108,37,0))","v":""}]
[null,"◐",{"$f":"'Result Entry'!$BO$3","v":"Env. Study"},{"$nulls":4},{"$f":"IF(OR(C626=\"\",$I615=\"NSO\"),\"\",VLOOKUP($A610,'Result Entry'!$B$9:$DX$108,66,0))","v":0},0,{"$f":"IF(OR(C626=\"\",$I615=\"NSO\"),\"\",VLOOKUP($A610,'Result Entry'!$B$9:$DX$108,67,0))","v":0},0,null,{"$f":"IF(OR(C626=\"\",$I615=\"NSO\"),\"\",VLOOKUP($A610,'Result Entry'!$B$9:$DX$108,73,0))","v":""}]
[null,"◐","Max. Marks",{"$nulls":4},{"$f":"'Result Entry'!$AS$7","v":50},50,{"$f":"'Result Entry'!$AW$7","v":50},100,null,"A/B/C/D/E"]
[null,"◐",{"$f":"'Result Entry'!$AM$3","v":"English"},{"$nulls":4},{"$f":"IF(OR(C628=\"\",$I615=\"NSO\"),\"\",VLOOKUP($A610,'Result Entry'!$B$9:$DX$108,44,0))","v":0},0,{"$f":"IF(OR(C628=\"\",$I615=\"NSO\"),\"\",VLOOKUP($A610,'Result Entry'!$B$9:$DX$108,48,0))","v":0},0,null,{"$f":"IF(OR(C628=\"\",$I615=\"NSO\"),\"\",VLOOKUP($A610,'Result Entry'!$B$9:$DX$108,51,0))","v":""}]
[null,"◐"]
[null,"◐","Overall Result",null,null,"Total Max. Marks",null,"Total Obtained Marks",null,"Percentage","Overall Grade","Result","Position in Class"]
[null,"◐",{"$nulls":3},{"$f":"IF(OR($I615=\"\",$I615=\"NSO\"),\"\",VLOOKUP($A610,'Result Entry'!$B$9:$DX$108,101,0))","v":500},null,{"$f":"IF(OR($I615=\"\",$I615=\"NSO\"),\"\",VLOOKUP($A610,'Result Entry'!$B$9:$DX$108,102,0))","v":0},null,{"$f":"IF(OR($I615=\"\",$I615=\"NSO\"),\"\",VLOOKUP($A610,'Result Entry'!$B$9:$DX$108,103,0))","v":{"v":0,"d":"0.00"}},{"$f":"IF(OR($I615=\"\",$I615=\"NSO\"),\"\",VLOOKUP($A610,'Result Entry'!$B$9:$DX$108,104,0))","v":""},{"$f":"IF(OR($I615=\"\",$I615=\"NSO\"),\"\",VLOOKUP($A610,'Result Entry'!$B$9:$DX$108,105,0))","v":""},{"$f":"IF(OR($I615=\"\",$I615=\"NSO\"),\"\",VLOOKUP($A610,'Result Entry'!$B$9:$DX$108,107,0))","v":""}]
[null,"◐",{"$nulls":6},"Total Meetings :-",null,{"$f":"IF(OR($I615=\"\",$I615=\"NSO\"),\"\",VLOOKUP($A610,'Result Entry'!$B$9:$DX$108,98,0))","v":0},"Attedance %"]
[null,"◐","Extra Subjects",{"$nulls":5},"Student's Meetings :-",null,{"$f":"IF(OR($I615=\"\",$I615=\"NSO\"),\"\",VLOOKUP($A610,'Result Entry'!$B$9:$DX$108,99,0))","v":0},{"$f":"IF(OR($I615=\"\",$I615=\"NSO\"),\"\",VLOOKUP($A610,'Result Entry'!$B$9:$DX$108,100,0))","v":""}]
[null,"◐","Subject",null,null,"Total Marks",null,"GRADE","Remark :-",null,{"$f":"IF(OR($I615=\"\",$I615=\"NSO\"),\"\",VLOOKUP($A610,'Result Entry'!$B$9:$DX$108,108,0))","v":0}]
[null,"◐",{"$nulls":6},"Result Date :-",null,{"$f":"'Result Entry'!$T$2","v":"2023-05-24"}]
[null,"◐",{"$f":"'Result Entry'!$BW$3","v":"WORK EXP."},null,null,{"$f":"IF(OR(C636=\"\",$I615=\"NSO\"),\"\",VLOOKUP($A610,'Result Entry'!$B$9:$DX$108,119,0))","v":"0/50"},null,{"$f":"IF(OR(C636=\"\",$I615=\"NSO\"),\"\",VLOOKUP($A610,'Result Entry'!$B$9:$DX$108,81,0))","v":""}]
[null,null,{"$f":"'Result Entry'!$CE$3","v":"ART EDU."},null,null,{"$f":"IF(OR(C637=\"\",$I615=\"NSO\"),\"\",VLOOKUP($A610,'Result Entry'!$B$9:$DX$108,123,0))","v":"0/50"},null,{"$f":"IF(OR(C637=\"\",$I615=\"NSO\"),\"\",VLOOKUP($A610,'Result Entry'!$B$9:$DX$108,89,0))","v":""}]
[null,"◐",{"$f":"'Result Entry'!$CM$3","v":"H&P. EDU."},null,null,{"$f":"IF(OR(C638=\"\",$I615=\"NSO\"),\"\",VLOOKUP($A610,'Result Entry'!$B$9:$DX$108,127,0))","v":"0/100"},null,{"$f":"IF(OR(C638=\"\",$I615=\"NSO\"),\"\",VLOOKUP($A610,'Result Entry'!$B$9:$DX$108,97,0))","v":""},"Signature Of The Class Teacher"]
[null,"◐","Grading System"]
[null,"◐","Grd.","% Range",null,"Description"]
[null,"◐","A","86-100",null,"Excellent",null,null,"Signature And Seal Of Principal/H.M."]
[null,"◐","B","71-85",null,"Very Good"]
[null,"◐","C","51-70",null,"Good"]
[null,"◐","D","31-50",null,"Average"]
[null,"◐","E","0-30",null,"Needs Improvement",null,null,"Wish bright future"]
[]
[]
[{"$f":"A610+1","v":18},"Department Of Education, Rajasthan"]
[null,{"$f":"IF(I653>0,CONCATENATE(C653,I653),0)","v":0},null,{"$f":"Master!$E$8","v":"Govt.Sr.Sec.Sch. "}]
[{"$nulls":3},{"$f":"Master!$E$11","v":"P.S.-Bapini (Jodhpur)"}]
[null,null,"Report Card",{"$nulls":6},"U-DISE Code:-",null,{"$f":"Master!$E$14","v":{"v":810000000,"d":"0810000000"}}]
[{"$nulls":9},"Session:-",null,{"$f":"Master!$E$6","v":"2022-23"}]
[null,null,"Roll No.:-",{"$nulls":5},{"$f":"VLOOKUP($A648,'Result Entry'!$B$9:$F$108,5,0)","v":0}]
[null,"◐","Scholar Number",{"$nulls":3},"↠",{"$f":"VLOOKUP($A648,'Result Entry'!$B$9:$DX$108,3,0)","v":0}]
[null,"◐","Student's Name",{"$nulls":3},"↠",{"$f":"VLOOKUP($A648,'Result Entry'!$B$9:$DX$108,6,0)","v":0}]
[null,"◐","Father's Name",{"$nulls":3},"↠",{"$f":"VLOOKUP($A648,'Result Entry'!$B$9:$DX$108,7,0)","v":0}]
[null,"◐","Mother's Name ",{"$nulls":3},"↠",{"$f":"VLOOKUP($A648,'Result Entry'!$B$9:$DX$108,8,0)","v":0}]
[null,"◐","Class & Section",{"$nulls":3},"↠",{"$f":"CONCATENATE('Result Entry'!$F$4,'Result Entry'!$I$4)","v":"2(A)"}]
[null,"◐","Date Of Birth",{"$nulls":3},"↠",{"$f":"VLOOKUP($A648,'Result Entry'!$B$9:$DX$108,9,0)","v":"00:00:00"}]
[null,"◐","Subject",{"$nulls":4},"Half Yearly","Total (T+H.Y.)","Yearly","Grand Total",null,"Subject Grade"]
[null,"◐","Max. Marks",{"$nulls":4},{"$f":"'Result Entry'!$Q$7","v":100},{"$f":"G661+H661","v":100},{"$f":"'Result Entry'!$U$7","v":100},{"$f":"I661+J661","v":200},null,"A/B/C/D/E"]
[null,"◐",{"$f":"'Result Entry'!$K$3","v":"Hindi"},{"$nulls":4},{"$f":"IF(OR(C662=\"\",$I653=\"NSO\"),\"\",VLOOKUP($A648,'Result Entry'!$B$9:$DX$108,16,0))","v":0},{"$f":"SUM(G662,H662)","v":0},{"$f":"IF(OR(C662=\"\",$I653=\"NSO\"),\"\",VLOOKUP($A648,'Result Entry'!$B$9:$DX$108,20,0))","v":0},{"$f":"SUM(I662,J662)","v":0},null,{"$f":"IF(OR(C662=\"\",$I653=\"NSO\"),\"\",VLOOKUP($A648,'Result Entry'!$B$9:$DX$108,23,0))","v":""}]
[null,"◐",{"$f":"'Result Entry'!$Y$3","v":"Mathematics"},{"$nulls":4},{"$f":"IF(OR(C663=\"\",$I653=\"NSO\"),\"\",VLOOKUP($A648,'Result Entry'!$B$9:$DX$108,30,0))","v":0},{"$f":"SUM(G663,H663)","v":0},{"$f":"IF(OR(C663=\"\",$I653=\"NSO\"),\"\",VLOOKUP($A648,'Result Entry'!$B$9:$DX$108,34,0))","v":0},{"$f":"SUM(I663,J663)","v":0},null,{"$f":"IF(OR(C663=\"\",$I653=\"NSO\"),\"\",VLOOKUP($A648,'Result Entry'!$B$9:$DX$108,37,0))","v":""}]
[null,"◐",{"$f":"'Result Entry'!$BO$3","v":"Env. Study"},{"$nulls":4},{"$f":"IF(OR(C664=\"\",$I653=\"NSO\"),\"\",VLOOKUP($A648,'Result Entry'!$B$9:$DX$108,66,0))","v":0},0,{"$f":"IF(OR(C664=\"\",$I653=\"NSO\"),\"\",VLOOKUP($A648,'Result Entry'!$B$9:$DX$108,67,0))","v":0},0,null,{"$f":"IF(OR(C664=\"\",$I653=\"NSO\"),\"\",VLOOKUP($A648,'Result Entry'!$B$9:$DX$108,73,0))","v":""}]
[null,"◐","Max. Marks",{"$nulls":4},{"$f":"'Result Entry'!$AS$7","v":50},50,{"$f":"'Result Entry'!$AW$7","v":50},100,null,"A/B/C/D/E"]
[null,"◐",{"$f":"'Result Entry'!$AM$3","v":"English"},{"$nulls":4},{"$f":"IF(OR(C666=\"\",$I653=\"NSO\"),\"\",VLOOKUP($A648,'Result Entry'!$B$9:$DX$108,44,0))","v":0},0,{"$f":"IF(OR(C666=\"\",$I653=\"NSO\"),\"\",VLOOKUP($A648,'Result Entry'!$B$9:$DX$108,48,0))","v":0},0,null,{"$f":"IF(OR(C666=\"\",$I653=\"NSO\"),\"\",VLOOKUP($A648,'Result Entry'!$B$9:$DX$108,51,0))","v":""}]
[null,"◐"]
[null,"◐","Overall Result",null,null,"Total Max. Marks",null,"Total Obtained Marks",null,"Percentage","Overall Grade","Result","Position in Class"]
[null,"◐",{"$nulls":3},{"$f":"IF(OR($I653=\"\",$I653=\"NSO\"),\"\",VLOOKUP($A648,'Result Entry'!$B$9:$DX$108,101,0))","v":500},null,{"$f":"IF(OR($I653=\"\",$I653=\"NSO\"),\"\",VLOOKUP($A648,'Result Entry'!$B$9:$DX$108,102,0))","v":0},null,{"$f":"IF(OR($I653=\"\",$I653=\"NSO\"),\"\",VLOOKUP($A648,'Result Entry'!$B$9:$DX$108,103,0))","v":{"v":0,"d":"0.00"}},{"$f":"IF(OR($I653=\"\",$I653=\"NSO\"),\"\",VLOOKUP($A648,'Result Entry'!$B$9:$DX$108,104,0))","v":""},{"$f":"IF(OR($I653=\"\",$I653=\"NSO\"),\"\",VLOOKUP($A648,'Result Entry'!$B$9:$DX$108,105,0))","v":""},{"$f":"IF(OR($I653=\"\",$I653=\"NSO\"),\"\",VLOOKUP($A648,'Result Entry'!$B$9:$DX$108,107,0))","v":""}]
[null,"◐",{"$nulls":6},"Total Meetings :-",null,{"$f":"IF(OR($I653=\"\",$I653=\"NSO\"),\"\",VLOOKUP($A648,'Result Entry'!$B$9:$DX$108,98,0))","v":0},"Attedance %"]
[null,"◐","Extra Subjects",{"$nulls":5},"Student's Meetings :-",null,{"$f":"IF(OR($I653=\"\",$I653=\"NSO\"),\"\",VLOOKUP($A648,'Result Entry'!$B$9:$DX$108,99,0))","v":0},{"$f":"IF(OR($I653=\"\",$I653=\"NSO\"),\"\",VLOOKUP($A648,'Result Entry'!$B$9:$DX$108,100,0))","v":""}]
[null,"◐","Subject",null,null,"Total Marks",null,"GRADE","Remark :-",null,{"$f":"IF(OR($I653=\"\",$I653=\"NSO\"),\"\",VLOOKUP($A648,'Result Entry'!$B$9:$DX$108,108,0))","v":0}]
[null,"◐",{"$nulls":6},"Result Date :-",null,{"$f":"'Result Entry'!$T$2","v":"2023-05-24"}]
[null,"◐",{"$f":"'Result Entry'!$BW$3","v":"WORK EXP."},null,null,{"$f":"IF(OR(C674=\"\",$I653=\"NSO\"),\"\",VLOOKUP($A648,'Result Entry'!$B$9:$DX$108,119,0))","v":"0/50"},null,{"$f":"IF(OR(C674=\"\",$I653=\"NSO\"),\"\",VLOOKUP($A648,'Result Entry'!$B$9:$DX$108,81,0))","v":""}]
[null,null,{"$f":"'Result Entry'!$CE$3","v":"ART EDU."},null,null,{"$f":"IF(OR(C675=\"\",$I653=\"NSO\"),\"\",VLOOKUP($A648,'Result Entry'!$B$9:$DX$108,123,0))","v":"0/50"},null,{"$f":"IF(OR(C675=\"\",$I653=\"NSO\"),\"\",VLOOKUP($A648,'Result Entry'!$B$9:$DX$108,89,0))","v":""}]
[null,"◐",{"$f":"'Result Entry'!$CM$3","v":"H&P. EDU."},null,null,{"$f":"IF(OR(C676=\"\",$I653=\"NSO\"),\"\",VLOOKUP($A648,'Result Entry'!$B$9:$DX$108,127,0))","v":"0/100"},null,{"$f":"IF(OR(C676=\"\",$I653=\"NSO\"),\"\",VLOOKUP($A648,'Result Entry'!$B$9:$DX$108,97,0))","v":""},"Signature Of The Class Teacher"]
[null,"◐","Grading System"]
[null,"◐","Grd.","% Range",null,"Description"]
[null,"◐","A","86-100",null,"Excellent",null,null,"Signature And Seal Of Principal/H.M."]
[null,"◐","B","71-85",null,"Very Good"]
[null,"◐","C","51-70",null,"Good"]
[null,"◐","D","31-50",null,"Average"]
[null,"◐","E","0-30",null,"Needs Improvement",null,null,"Wish bright future"]
[]
[]
[{"$f":"A648+1","v":19},"Department Of Education, Rajasthan"]
[null,{"$f":"IF(I691>0,CONCATENATE(C691,I691),0)","v":0},null,{"$f":"Master!$E$8","v":"Govt.Sr.Sec.Sch. "}]
[{"$nulls":3},{"$f":"Master!$E$11","v":"P.S.-Bapini (Jodhpur)"}]
[null,null,"Report Card",{"$nulls":6},"U-DISE Code:-",null,{"$f":"Master!$E$14","v":{"v":810000000,"d":"0810000000"}}]
[{"$nulls":9},"Session:-",null,{"$f":"Master!$E$6","v":"2022-23"}]
[null,null,"Roll No.:-",{"$nulls":5},{"$f":"VLOOKUP($A686,'Result Entry'!$B$9:$F$108,5,0)","v":0}]
[null,"◐","Scholar Number",{"$nulls":3},"↠",{"$f":"VLOOKUP($A686,'Result Entry'!$B$9:$DX$108,3,0)","v":0}]
[null,"◐","Student's Name",{"$nulls":3},"↠",{"$f":"VLOOKUP($A686,'Result Entry'!$B$9:$DX$108,6,0)","v":0}]
[null,"◐","Father's Name",{"$nulls":3},"↠",{"$f":"VLOOKUP($A686,'Result Entry'!$B$9:$DX$108,7,0)","v":0}]
[null,"◐","Mother's Name ",{"$nulls":3},"↠",{"$f":"VLOOKUP($A686,'Result Entry'!$B$9:$DX$108,8,0)","v":0}]
[null,"◐","Class & Section",{"$nulls":3},"↠",{"$f":"CONCATENATE('Result Entry'!$F$4,'Result Entry'!$I$4)","v":"2(A)"}]
[null,"◐","Date Of Birth",{"$nulls":3},"↠",{"$f":"VLOOKUP($A686,'Result Entry'!$B$9:$DX$108,9,0)","v":"00:00:00"}]
[null,"◐","Subject",{"$nulls":4},"Half Yearly","Total (T+H.Y.)","Yearly","Grand Total",null,"Subject Grade"]
[null,"◐","Max. Marks",{"$nulls":4},{"$f":"'Result Entry'!$Q$7","v":100},{"$f":"G699+H699","v":100},{"$f":"'Result Entry'!$U$7","v":100},{"$f":"I699+J699","v":200},null,"A/B/C/D/E"]
[null,"◐",{"$f":"'Result Entry'!$K$3","v":"Hindi"},{"$nulls":4},{"$f":"IF(OR(C700=\"\",$I691=\"NSO\"),\"\",VLOOKUP($A686,'Result Entry'!$B$9:$DX$108,16,0))","v":0},{"$f":"SUM(G700,H700)","v":0},{"$f":"IF(OR(C700=\"\",$I691=\"NSO\"),\"\",VLOOKUP($A686,'Result Entry'!$B$9:$DX$108,20,0))","v":0},{"$f":"SUM(I700,J700)","v":0},null,{"$f":"IF(OR(C700=\"\",$I691=\"NSO\"),\"\",VLOOKUP($A686,'Result Entry'!$B$9:$DX$108,23,0))","v":""}]
[null,"◐",{"$f":"'Result Entry'!$Y$3","v":"Mathematics"},{"$nulls":4},{"$f":"IF(OR(C701=\"\",$I691=\"NSO\"),\"\",VLOOKUP($A686,'Result Entry'!$B$9:$DX$108,30,0))","v":0},{"$f":"SUM(G701,H701)","v":0},{"$f":"IF(OR(C701=\"\",$I691=\"NSO\"),\"\",VLOOKUP($A686,'Result Entry'!$B$9:$DX$108,34,0))","v":0},{"$f":"SUM(I701,J701)","v":0},null,{"$f":"IF(OR(C701=\"\",$I691=\"NSO\"),\"\",VLOOKUP($A686,'Result Entry'!$B$9:$DX$108,37,0))","v":""}]
[null,"◐",{"$f":"'Result Entry'!$BO$3","v":"Env. Study"},{"$nulls":4},{"$f":"IF(OR(C702=\"\",$I691=\"NSO\"),\"\",VLOOKUP($A686,'Result Entry'!$B$9:$DX$108,66,0))","v":0},0,{"$f":"IF(OR(C702=\"\",$I691=\"NSO\"),\"\",VLOOKUP($A686,'Result Entry'!$B$9:$DX$108,67,0))","v":0},0,null,{"$f":"IF(OR(C702=\"\",$I691=\"NSO\"),\"\",VLOOKUP($A686,'Result Entry'!$B$9:$DX$108,73,0))","v":""}]
[null,"◐","Max. Marks",{"$nulls":4},{"$f":"'Result Entry'!$AS$7","v":50},50,{"$f":"'Result Entry'!$AW$7","v":50},100,null,"A/B/C/D/E"]
[null,"◐",{"$f":"'Result Entry'!$AM$3","v":"English"},{"$nulls":4},{"$f":"IF(OR(C704=\"\",$I691=\"NSO\"),\"\",VLOOKUP($A686,'Result Entry'!$B$9:$DX$108,44,0))","v":0},0,{"$f":"IF(OR(C704=\"\",$I691=\"NSO\"),\"\",VLOOKUP($A686,'Result Entry'!$B$9:$DX$108,48,0))","v":0},0,null,{"$f":"IF(OR(C704=\"\",$I691=\"NSO\"),\"\",VLOOKUP($A686,'Result Entry'!$B$9:$DX$108,51,0))","v":""}]
[null,"◐"]
[null,"◐","Overall Result",null,null,"Total Max. Marks",null,"Total Obtained Marks",null,"Percentage","Overall Grade","Result","Position in Class"]
[null,"◐",{"$nulls":3},{"$f":"IF(OR($I691=\"\",$I691=\"NSO\"),\"\",VLOOKUP($A686,'Result Entry'!$B$9:$DX$108,101,0))","v":500},null,{"$f":"IF(OR($I691=\"\",$I691=\"NSO\"),\"\",VLOOKUP($A686,'Result Entry'!$B$9:$DX$108,102,0))","v":0},null,{"$f":"IF(OR($I691=\"\",$I691=\"NSO\"),\"\",VLOOKUP($A686,'Result Entry'!$B$9:$DX$108,103,0))","v":{"v":0,"d":"0.00"}},{"$f":"IF(OR($I691=\"\",$I691=\"NSO\"),\"\",VLOOKUP($A686,'Result Entry'!$B$9:$DX$108,104,0))","v":""},{"$f":"IF(OR($I691=\"\",$I691=\"NSO\"),\"\",VLOOKUP($A686,'Result Entry'!$B$9:$DX$108,105,0))","v":""},{"$f":"IF(OR($I691=\"\",$I691=\"NSO\"),\"\",VLOOKUP($A686,'Result Entry'!$B$9:$DX$108,107,0))","v":""}]
[null,"◐",{"$nulls":6},"Total Meetings :-",null,{"$f":"IF(OR($I691=\"\",$I691=\"NSO\"),\"\",VLOOKUP($A686,'Result Entry'!$B$9:$DX$108,98,0))","v":0},"Attedance %"]
[null,"◐","Extra Subjects",{"$nulls":5},"Student's Meetings :-",null,{"$f":"IF(OR($I691=\"\",$I691=\"NSO\"),\"\",VLOOKUP($A686,'Result Entry'!$B$9:$DX$108,99,0))","v":0},{"$f":"IF(OR($I691=\"\",$I691=\"NSO\"),\"\",VLOOKUP($A686,'Result Entry'!$B$9:$DX$108,100,0))","v":""}]
[null,"◐","Subject",null,null,"Total Marks",null,"GRADE","Remark :-",null,{"$f":"IF(OR($I691=\"\",$I691=\"NSO\"),\"\",VLOOKUP($A686,'Result Entry'!$B$9:$DX$108,108,0))","v":0}]
[null,"◐",{"$nulls":6},"Result Date :-",null,{"$f":"'Result Entry'!$T$2","v":"2023-05-24"}]
[null,"◐",{"$f":"'Result Entry'!$BW$3","v":"WORK EXP."},null,null,{"$f":"IF(OR(C712=\"\",$I691=\"NSO\"),\"\",VLOOKUP($A686,'Result Entry'!$B$9:$DX$108,119,0))","v":"0/50"},null,{"$f":"IF(OR(C712=\"\",$I691=\"NSO\"),\"\",VLOOKUP($A686,'Result Entry'!$B$9:$DX$108,81,0))","v":""}]
[null,null,{"$f":"'Result Entry'!$CE$3","v":"ART EDU."},null,null,{"$f":"IF(OR(C713=\"\",$I691=\"NSO\"),\"\",VLOOKUP($A686,'Result Entry'!$B$9:$DX$108,123,0))","v":"0/50"},null,{"$f":"IF(OR(C713=\"\",$I691=\"NSO\"),\"\",VLOOKUP($A686,'Result Entry'!$B$9:$DX$108,89,0))","v":""}]
[null,"◐",{"$f":"'Result Entry'!$CM$3","v":"H&P. EDU."},null,null,{"$f":"IF(OR(C714=\"\",$I691=\"NSO\"),\"\",VLOOKUP($A686,'Result Entry'!$B$9:$DX$108,127,0))","v":"0/100"},null,{"$f":"IF(OR(C714=\"\",$I691=\"NSO\"),\"\",VLOOKUP($A686,'Result Entry'!$B$9:$DX$108,97,0))","v":""},"Signature Of The Class Teacher"]
[null,"◐","Grading System"]
[null,"◐","Grd.","% Range",null,"Description"]
[null,"◐","A","86-100",null,"Excellent",null,null,"Signature And Seal Of Principal/H.M."]
[null,"◐","B","71-85",null,"Very Good"]
[null,"◐","C","51-70",null,"Good"]
[null,"◐","D","31-50",null,"Average"]
[null,"◐","E","0-30",null,"Needs Improvement",null,null,"Wish bright future"]
[]
[]
[{"$f":"A686+1","v":20},"Department Of Education, Rajasthan"]
[null,{"$f":"IF(I729>0,CONCATENATE(C729,I729),0)","v":0},null,{"$f":"Master!$E$8","v":"Govt.Sr.Sec.Sch. "}]
[{"$nulls":3},{"$f":"Master!$E$11","v":"P.S.-Bapini (Jodhpur)"}]
[null,null,"Report Card",{"$nulls":6},"U-DISE Code:-",null,{"$f":"Master!$E$14","v":{"v":810000000,"d":"0810000000"}}]
[{"$nulls":9},"Session:-",null,{"$f":"Master!$E$6","v":"2022-23"}]
[null,null,"Roll No.:-",{"$nulls":5},{"$f":"VLOOKUP($A724,'Result Entry'!$B$9:$F$108,5,0)","v":0}]
[null,"◐","Scholar Number",{"$nulls":3},"↠",{"$f":"VLOOKUP($A724,'Result Entry'!$B$9:$DX$108,3,0)","v":0}]
[null,"◐","Student's Name",{"$nulls":3},"↠",{"$f":"VLOOKUP($A724,'Result Entry'!$B$9:$DX$108,6,0)","v":0}]
[null,"◐","Father's Name",{"$nulls":3},"↠",{"$f":"VLOOKUP($A724,'Result Entry'!$B$9:$DX$108,7,0)","v":0}]
[null,"◐","Mother's Name ",{"$nulls":3},"↠",{"$f":"VLOOKUP($A724,'Result Entry'!$B$9:$DX$108,8,0)","v":0}]
[null,"◐","Class & Section",{"$nulls":3},"↠",{"$f":"CONCATENATE('Result Entry'!$F$4,'Result Entry'!$I$4)","v":"2(A)"}]
[null,"◐","Date Of Birth",{"$nulls":3},"↠",{"$f":"VLOOKUP($A724,'Result Entry'!$B$9:$DX$108,9,0)","v":"00:00:00"}]
[null,"◐","Subject",{"$nulls":4},"Half Yearly","Total (T+H.Y.)","Yearly","Grand Total",null,"Subject Grade"]
[null,"◐","Max. Marks",{"$nulls":4},{"$f":"'Result Entry'!$Q$7","v":100},{"$f":"G737+H737","v":100},{"$f":"'Result Entry'!$U$7","v":100},{"$f":"I737+J737","v":200},null,"A/B/C/D/E"]
[null,"◐",{"$f":"'Result Entry'!$K$3","v":"Hindi"},{"$nulls":4},{"$f":"IF(OR(C738=\"\",$I729=\"NSO\"),\"\",VLOOKUP($A724,'Result Entry'!$B$9:$DX$108,16,0))","v":0},{"$f":"SUM(G738,H738)","v":0},{"$f":"IF(OR(C738=\"\",$I729=\"NSO\"),\"\",VLOOKUP($A724,'Result Entry'!$B$9:$DX$108,20,0))","v":0},{"$f":"SUM(I738,J738)","v":0},null,{"$f":"IF(OR(C738=\"\",$I729=\"NSO\"),\"\",VLOOKUP($A724,'Result Entry'!$B$9:$DX$108,23,0))","v":""}]
[null,"◐",{"$f":"'Result Entry'!$Y$3","v":"Mathematics"},{"$nulls":4},{"$f":"IF(OR(C739=\"\",$I729=\"NSO\"),\"\",VLOOKUP($A724,'Result Entry'!$B$9:$DX$108,30,0))","v":0},{"$f":"SUM(G739,H739)","v":0},{"$f":"IF(OR(C739=\"\",$I729=\"NSO\"),\"\",VLOOKUP($A724,'Result Entry'!$B$9:$DX$108,34,0))","v":0},{"$f":"SUM(I739,J739)","v":0},null,{"$f":"IF(OR(C739=\"\",$I729=\"NSO\"),\"\",VLOOKUP($A724,'Result Entry'!$B$9:$DX$108,37,0))","v":""}]
[null,"◐",{"$f":"'Result Entry'!$BO$3","v":"Env. Study"},{"$nulls":4},{"$f":"IF(OR(C740=\"\",$I729=\"NSO\"),\"\",VLOOKUP($A724,'Result Entry'!$B$9:$DX$108,66,0))","v":0},0,{"$f":"IF(OR(C740=\"\",$I729=\"NSO\"),\"\",VLOOKUP($A724,'Result Entry'!$B$9:$DX$108,67,0))","v":0},0,null,{"$f":"IF(OR(C740=\"\",$I729=\"NSO\"),\"\",VLOOKUP($A724,'Result Entry'!$B$9:$DX$108,73,0))","v":""}]
[null,"◐","Max. Marks",{"$nulls":4},{"$f":"'Result Entry'!$AS$7","v":50},50,{"$f":"'Result Entry'!$AW$7","v":50},100,null,"A/B/C/D/E"]
[null,"◐",{"$f":"'Result Entry'!$AM$3","v":"English"},{"$nulls":4},{"$f":"IF(OR(C742=\"\",$I729=\"NSO\"),\"\",VLOOKUP($A724,'Result Entry'!$B$9:$DX$108,44,0))","v":0},0,{"$f":"IF(OR(C742=\"\",$I729=\"NSO\"),\"\",VLOOKUP($A724,'Result Entry'!$B$9:$DX$108,48,0))","v":0},0,null,{"$f":"IF(OR(C742=\"\",$I729=\"NSO\"),\"\",VLOOKUP($A724,'Result Entry'!$B$9:$DX$108,51,0))","v":""}]
[null,"◐"]
[null,"◐","Overall Result",null,null,"Total Max. Marks",null,"Total Obtained Marks",null,"Percentage","Overall Grade","Result","Position in Class"]
[null,"◐",{"$nulls":3},{"$f":"IF(OR($I729=\"\",$I729=\"NSO\"),\"\",VLOOKUP($A724,'Result Entry'!$B$9:$DX$108,101,0))","v":500},null,{"$f":"IF(OR($I729=\"\",$I729=\"NSO\"),\"\",VLOOKUP($A724,'Result Entry'!$B$9:$DX$108,102,0))","v":0},null,{"$f":"IF(OR($I729=\"\",$I729=\"NSO\"),\"\",VLOOKUP($A724,'Result Entry'!$B$9:$DX$108,103,0))","v":{"v":0,"d":"0.00"}},{"$f":"IF(OR($I729=\"\",$I729=\"NSO\"),\"\",VLOOKUP($A724,'Result Entry'!$B$9:$DX$108,104,0))","v":""},{"$f":"IF(OR($I729=\"\",$I729=\"NSO\"),\"\",VLOOKUP($A724,'Result Entry'!$B$9:$DX$108,105,0))","v":""},{"$f":"IF(OR($I729=\"\",$I729=\"NSO\"),\"\",VLOOKUP($A724,'Result Entry'!$B$9:$DX$108,107,0))","v":""}]
[null,"◐",{"$nulls":6},"Total Meetings :-",null,{"$f":"IF(OR($I729=\"\",$I729=\"NSO\"),\"\",VLOOKUP($A724,'Result Entry'!$B$9:$DX$108,98,0))","v":0},"Attedance %"]
[null,"◐","Extra Subjects",{"$nulls":5},"Student's Meetings :-",null,{"$f":"IF(OR($I729=\"\",$I729=\"NSO\"),\"\",VLOOKUP($A724,'Result Entry'!$B$9:$DX$108,99,0))","v":0},{"$f":"IF(OR($I729=\"\",$I729=\"NSO\"),\"\",VLOOKUP($A724,'Result Entry'!$B$9:$DX$108,100,0))","v":""}]
[null,"◐","Subject",null,null,"Total Marks",null,"GRADE","Remark :-",null,{"$f":"IF(OR($I729=\"\",$I729=\"NSO\"),\"\",VLOOKUP($A724,'Result Entry'!$B$9:$DX$108,108,0))","v":0}]
[null,"◐",{"$nulls":6},"Result Date :-",null,{"$f":"'Result Entry'!$T$2","v":"2023-05-24"}]
[null,"◐",{"$f":"'Result Entry'!$BW$3","v":"WORK EXP."},null,null,{"$f":"IF(OR(C750=\"\",$I729=\"NSO\"),\"\",VLOOKUP($A724,'Result Entry'!$B$9:$DX$108,119,0))","v":"0/50"},null,{"$f":"IF(OR(C750=\"\",$I729=\"NSO\"),\"\",VLOOKUP($A724,'Result Entry'!$B$9:$DX$108,81,0))","v":""}]
[null,null,{"$f":"'Result Entry'!$CE$3","v":"ART EDU."},null,null,{"$f":"IF(OR(C751=\"\",$I729=\"NSO\"),\"\",VLOOKUP($A724,'Result Entry'!$B$9:$DX$108,123,0))","v":"0/50"},null,{"$f":"IF(OR(C751=\"\",$I729=\"NSO\"),\"\",VLOOKUP($A724,'Result Entry'!$B$9:$DX$108,89,0))","v":""}]
[null,"◐",{"$f":"'Result Entry'!$CM$3","v":"H&P. EDU."},null,null,{"$f":"IF(OR(C752=\"\",$I729=\"NSO\"),\"\",VLOOKUP($A724,'Result Entry'!$B$9:$DX$108,127,0))","v":"0/100"},null,{"$f":"IF(OR(C752=\"\",$I729=\"NSO\"),\"\",VLOOKUP($A724,'Result Entry'!$B$9:$DX$108,97,0))","v":""},"Signature Of The Class Teacher"]
[null,"◐","Grading System"]
[null,"◐","Grd.","% Range",null,"Description"]
[null,"◐","A","86-100",null,"Excellent",null,null,"Signature And Seal Of Principal/H.M."]
[null,"◐","B","71-85",null,"Very Good"]
[null,"◐","C","51-70",null,"Good"]
[null,"◐","D","31-50",null,"Average"]
[null,"◐","E","0-30",null,"Needs Improvement",null,null,"Wish bright future"]
[]
[]
[{"$f":"A724+1","v":21},"Department Of Education, Rajasthan"]
[null,{"$f":"IF(I767>0,CONCATENATE(C767,I767),0)","v":0},null,{"$f":"Master!$E$8","v":"Govt.Sr.Sec.Sch. "}]
[{"$nulls":3},{"$f":"Master!$E$11","v":"P.S.-Bapini (Jodhpur)"}]
[null,null,"Report Card",{"$nulls":6},"U-DISE Code:-",null,{"$f":"Master!$E$14","v":{"v":810000000,"d":"0810000000"}}]
[{"$nulls":9},"Session:-",null,{"$f":"Master!$E$6","v":"2022-23"}]
[null,null,"Roll No.:-",{"$nulls":5},{"$f":"VLOOKUP($A762,'Result Entry'!$B$9:$F$108,5,0)","v":0}]
[null,"◐","Scholar Number",{"$nulls":3},"↠",{"$f":"VLOOKUP($A762,'Result Entry'!$B$9:$DX$108,3,0)","v":0}]
[null,"◐","Student's Name",{"$nulls":3},"↠",{"$f":"VLOOKUP($A762,'Result Entry'!$B$9:$DX$108,6,0)","v":0}]
[null,"◐","Father's Name",{"$nulls":3},"↠",{"$f":"VLOOKUP($A762,'Result Entry'!$B$9:$DX$108,7,0)","v":0}]
[null,"◐","Mother's Name ",{"$nulls":3},"↠",{"$f":"VLOOKUP($A762,'Result Entry'!$B$9:$DX$108,8,0)","v":0}]
[null,"◐","Class & Section",{"$nulls":3},"↠",{"$f":"CONCATENATE('Result Entry'!$F$4,'Result Entry'!$I$4)","v":"2(A)"}]
[null,"◐","Date Of Birth",{"$nulls":3},"↠",{"$f":"VLOOKUP($A762,'Result Entry'!$B$9:$DX$108,9,0)","v":"00:00:00"}]
[null,"◐","Subject",{"$nulls":4},"Half Yearly","Total (T+H.Y.)","Yearly","Grand Total",null,"Subject Grade"]
[null,"◐","Max. Marks",{"$nulls":4},{"$f":"'Result Entry'!$Q$7","v":100},{"$f":"G775+H775","v":100},{"$f":"'Result Entry'!$U$7","v":100},{"$f":"I775+J775","v":200},null,"A/B/C/D/E"]
[null,"◐",{"$f":"'Result Entry'!$K$3","v":"Hindi"},{"$nulls":4},{"$f":"IF(OR(C776=\"\",$I767=\"NSO\"),\"\",VLOOKUP($A762,'Result Entry'!$B$9:$DX$108,16,0))","v":0},{"$f":"SUM(G776,H776)","v":0},{"$f":"IF(OR(C776=\"\",$I767=\"NSO\"),\"\",VLOOKUP($A762,'Result Entry'!$B$9:$DX$108,20,0))","v":0},{"$f":"SUM(I776,J776)","v":0},null,{"$f":"IF(OR(C776=\"\",$I767=\"NSO\"),\"\",VLOOKUP($A762,'Result Entry'!$B$9:$DX$108,23,0))","v":""}]
[null,"◐",{"$f":"'Result Entry'!$Y$3","v":"Mathematics"},{"$nulls":4},{"$f":"IF(OR(C777=\"\",$I767=\"NSO\"),\"\",VLOOKUP($A762,'Result Entry'!$B$9:$DX$108,30,0))","v":0},{"$f":"SUM(G777,H777)","v":0},{"$f":"IF(OR(C777=\"\",$I767=\"NSO\"),\"\",VLOOKUP($A762,'Result Entry'!$B$9:$DX$108,34,0))","v":0},{"$f":"SUM(I777,J777)","v":0},null,{"$f":"IF(OR(C777=\"\",$I767=\"NSO\"),\"\",VLOOKUP($A762,'Result Entry'!$B$9:$DX$108,37,0))","v":""}]
[null,"◐",{"$f":"'Result Entry'!$BO$3","v":"Env. Study"},{"$nulls":4},{"$f":"IF(OR(C778=\"\",$I767=\"NSO\"),\"\",VLOOKUP($A762,'Result Entry'!$B$9:$DX$108,66,0))","v":0},0,{"$f":"IF(OR(C778=\"\",$I767=\"NSO\"),\"\",VLOOKUP($A762,'Result Entry'!$B$9:$DX$108,67,0))","v":0},0,null,{"$f":"IF(OR(C778=\"\",$I767=\"NSO\"),\"\",VLOOKUP($A762,'Result Entry'!$B$9:$DX$108,73,0))","v":""}]
[null,"◐","Max. Marks",{"$nulls":4},{"$f":"'Result Entry'!$AS$7","v":50},50,{"$f":"'Result Entry'!$AW$7","v":50},100,null,"A/B/C/D/E"]
[null,"◐",{"$f":"'Result Entry'!$AM$3","v":"English"},{"$nulls":4},{"$f":"IF(OR(C780=\"\",$I767=\"NSO\"),\"\",VLOOKUP($A762,'Result Entry'!$B$9:$DX$108,44,0))","v":0},0,{"$f":"IF(OR(C780=\"\",$I767=\"NSO\"),\"\",VLOOKUP($A762,'Result Entry'!$B$9:$DX$108,48,0))","v":0},0,null,{"$f":"IF(OR(C780=\"\",$I767=\"NSO\"),\"\",VLOOKUP($A762,'Result Entry'!$B$9:$DX$108,51,0))","v":""}]
[null,"◐"]
[null,"◐","Overall Result",null,null,"Total Max. Marks",null,"Total Obtained Marks",null,"Percentage","Overall Grade","Result","Position in Class"]
[null,"◐",{"$nulls":3},{"$f":"IF(OR($I767=\"\",$I767=\"NSO\"),\"\",VLOOKUP($A762,'Result Entry'!$B$9:$DX$108,101,0))","v":500},null,{"$f":"IF(OR($I767=\"\",$I767=\"NSO\"),\"\",VLOOKUP($A762,'Result Entry'!$B$9:$DX$108,102,0))","v":0},null,{"$f":"IF(OR($I767=\"\",$I767=\"NSO\"),\"\",VLOOKUP($A762,'Result Entry'!$B$9:$DX$108,103,0))","v":{"v":0,"d":"0.00"}},{"$f":"IF(OR($I767=\"\",$I767=\"NSO\"),\"\",VLOOKUP($A762,'Result Entry'!$B$9:$DX$108,104,0))","v":""},{"$f":"IF(OR($I767=\"\",$I767=\"NSO\"),\"\",VLOOKUP($A762,'Result Entry'!$B$9:$DX$108,105,0))","v":""},{"$f":"IF(OR($I767=\"\",$I767=\"NSO\"),\"\",VLOOKUP($A762,'Result Entry'!$B$9:$DX$108,107,0))","v":""}]
[null,"◐",{"$nulls":6},"Total Meetings :-",null,{"$f":"IF(OR($I767=\"\",$I767=\"NSO\"),\"\",VLOOKUP($A762,'Result Entry'!$B$9:$DX$108,98,0))","v":0},"Attedance %"]
[null,"◐","Extra Subjects",{"$nulls":5},"Student's Meetings :-",null,{"$f":"IF(OR($I767=\"\",$I767=\"NSO\"),\"\",VLOOKUP($A762,'Result Entry'!$B$9:$DX$108,99,0))","v":0},{"$f":"IF(OR($I767=\"\",$I767=\"NSO\"),\"\",VLOOKUP($A762,'Result Entry'!$B$9:$DX$108,100,0))","v":""}]
[null,"◐","Subject",null,null,"Total Marks",null,"GRADE","Remark :-",null,{"$f":"IF(OR($I767=\"\",$I767=\"NSO\"),\"\",VLOOKUP($A762,'Result Entry'!$B$9:$DX$108,108,0))","v":0}]
[null,"◐",{"$nulls":6},"Result Date :-",null,{"$f":"'Result Entry'!$T$2","v":"2023-05-24"}]
[null,"◐",{"$f":"'Result Entry'!$BW$3","v":"WORK EXP."},null,null,{"$f":"IF(OR(C788=\"\",$I767=\"NSO\"),\"\",VLOOKUP($A762,'Result Entry'!$B$9:$DX$108,119,0))","v":"0/50"},null,{"$f":"IF(OR(C788=\"\",$I767=\"NSO\"),\"\",VLOOKUP($A762,'Result Entry'!$B$9:$DX$108,81,0))","v":""}]
[null,null,{"$f":"'Result Entry'!$CE$3","v":"ART EDU."},null,null,{"$f":"IF(OR(C789=\"\",$I767=\"NSO\"),\"\",VLOOKUP($A762,'Result Entry'!$B$9:$DX$108,123,0))","v":"0/50"},null,{"$f":"IF(OR(C789=\"\",$I767=\"NSO\"),\"\",VLOOKUP($A762,'Result Entry'!$B$9:$DX$108,89,0))","v":""}]
[null,"◐",{"$f":"'Result Entry'!$CM$3","v":"H&P. EDU."},null,null,{"$f":"IF(OR(C790=\"\",$I767=\"NSO\"),\"\",VLOOKUP($A762,'Result Entry'!$B$9:$DX$108,127,0))","v":"0/100"},null,{"$f":"IF(OR(C790=\"\",$I767=\"NSO\"),\"\",VLOOKUP($A762,'Result Entry'!$B$9:$DX$108,97,0))","v":""},"Signature Of The Class Teacher"]
[null,"◐","Grading System"]
[null,"◐","Grd.","% Range",null,"Description"]
[null,"◐","A","86-100",null,"Excellent",null,null,"Signature And Seal Of Principal/H.M."]
[null,"◐","B","71-85",null,"Very Good"]
[null,"◐","C","51-70",null,"Good"]
[null,"◐","D","31-50",null,"Average"]
[null,"◐","E","0-30",null,"Needs Improvement",null,null,"Wish bright future"]
[]
[]
[{"$f":"A762+1","v":22},"Department Of Education, Rajasthan"]
[null,{"$f":"IF(I805>0,CONCATENATE(C805,I805),0)","v":0},null,{"$f":"Master!$E$8","v":"Govt.Sr.Sec.Sch. "}]
[{"$nulls":3},{"$f":"Master!$E$11","v":"P.S.-Bapini (Jodhpur)"}]
[null,null,"Report Card",{"$nulls":6},"U-DISE Code:-",null,{"$f":"Master!$E$14","v":{"v":810000000,"d":"0810000000"}}]
[{"$nulls":9},"Session:-",null,{"$f":"Master!$E$6","v":"2022-23"}]
[null,null,"Roll No.:-",{"$nulls":5},{"$f":"VLOOKUP($A800,'Result Entry'!$B$9:$F$108,5,0)","v":0}]
[null,"◐","Scholar Number",{"$nulls":3},"↠",{"$f":"VLOOKUP($A800,'Result Entry'!$B$9:$DX$108,3,0)","v":0}]
[null,"◐","Student's Name",{"$nulls":3},"↠",{"$f":"VLOOKUP($A800,'Result Entry'!$B$9:$DX$108,6,0)","v":0}]
[null,"◐","Father's Name",{"$nulls":3},"↠",{"$f":"VLOOKUP($A800,'Result Entry'!$B$9:$DX$108,7,0)","v":0}]
[null,"◐","Mother's Name ",{"$nulls":3},"↠",{"$f":"VLOOKUP($A800,'Result Entry'!$B$9:$DX$108,8,0)","v":0}]
[null,"◐","Class & Section",{"$nulls":3},"↠",{"$f":"CONCATENATE('Result Entry'!$F$4,'Result Entry'!$I$4)","v":"2(A)"}]
[null,"◐","Date Of Birth",{"$nulls":3},"↠",{"$f":"VLOOKUP($A800,'Result Entry'!$B$9:$DX$108,9,0)","v":"00:00:00"}]
[null,"◐","Subject",{"$nulls":4},"Half Yearly","Total (T+H.Y.)","Yearly","Grand Total",null,"Subject Grade"]
[null,"◐","Max. Marks",{"$nulls":4},{"$f":"'Result Entry'!$Q$7","v":100},{"$f":"G813+H813","v":100},{"$f":"'Result Entry'!$U$7","v":100},{"$f":"I813+J813","v":200},null,"A/B/C/D/E"]
[null,"◐",{"$f":"'Result Entry'!$K$3","v":"Hindi"},{"$nulls":4},{"$f":"IF(OR(C814=\"\",$I805=\"NSO\"),\"\",VLOOKUP($A800,'Result Entry'!$B$9:$DX$108,16,0))","v":0},{"$f":"SUM(G814,H814)","v":0},{"$f":"IF(OR(C814=\"\",$I805=\"NSO\"),\"\",VLOOKUP($A800,'Result Entry'!$B$9:$DX$108,20,0))","v":0},{"$f":"SUM(I814,J814)","v":0},null,{"$f":"IF(OR(C814=\"\",$I805=\"NSO\"),\"\",VLOOKUP($A800,'Result Entry'!$B$9:$DX$108,23,0))","v":""}]
[null,"◐",{"$f":"'Result Entry'!$Y$3","v":"Mathematics"},{"$nulls":4},{"$f":"IF(OR(C815=\"\",$I805=\"NSO\"),\"\",VLOOKUP($A800,'Result Entry'!$B$9:$DX$108,30,0))","v":0},{"$f":"SUM(G815,H815)","v":0},{"$f":"IF(OR(C815=\"\",$I805=\"NSO\"),\"\",VLOOKUP($A800,'Result Entry'!$B$9:$DX$108,34,0))","v":0},{"$f":"SUM(I815,J815)","v":0},null,{"$f":"IF(OR(C815=\"\",$I805=\"NSO\"),\"\",VLOOKUP($A800,'Result Entry'!$B$9:$DX$108,37,0))","v":""}]
[null,"◐",{"$f":"'Result Entry'!$BO$3","v":"Env. Study"},{"$nulls":4},{"$f":"IF(OR(C816=\"\",$I805=\"NSO\"),\"\",VLOOKUP($A800,'Result Entry'!$B$9:$DX$108,66,0))","v":0},0,{"$f":"IF(OR(C816=\"\",$I805=\"NSO\"),\"\",VLOOKUP($A800,'Result Entry'!$B$9:$DX$108,67,0))","v":0},0,null,{"$f":"IF(OR(C816=\"\",$I805=\"NSO\"),\"\",VLOOKUP($A800,'Result Entry'!$B$9:$DX$108,73,0))","v":""}]
[null,"◐","Max. Marks",{"$nulls":4},{"$f":"'Result Entry'!$AS$7","v":50},50,{"$f":"'Result Entry'!$AW$7","v":50},100,null,"A/B/C/D/E"]
[null,"◐",{"$f":"'Result Entry'!$AM$3","v":"English"},{"$nulls":4},{"$f":"IF(OR(C818=\"\",$I805=\"NSO\"),\"\",VLOOKUP($A800,'Result Entry'!$B$9:$DX$108,44,0))","v":0},0,{"$f":"IF(OR(C818=\"\",$I805=\"NSO\"),\"\",VLOOKUP($A800,'Result Entry'!$B$9:$DX$108,48,0))","v":0},0,null,{"$f":"IF(OR(C818=\"\",$I805=\"NSO\"),\"\",VLOOKUP($A800,'Result Entry'!$B$9:$DX$108,51,0))","v":""}]
[null,"◐"]
[null,"◐","Overall Result",null,null,"Total Max. Marks",null,"Total Obtained Marks",null,"Percentage","Overall Grade","Result","Position in Class"]
[null,"◐",{"$nulls":3},{"$f":"IF(OR($I805=\"\",$I805=\"NSO\"),\"\",VLOOKUP($A800,'Result Entry'!$B$9:$DX$108,101,0))","v":500},null,{"$f":"IF(OR($I805=\"\",$I805=\"NSO\"),\"\",VLOOKUP($A800,'Result Entry'!$B$9:$DX$108,102,0))","v":0},null,{"$f":"IF(OR($I805=\"\",$I805=\"NSO\"),\"\",VLOOKUP($A800,'Result Entry'!$B$9:$DX$108,103,0))","v":{"v":0,"d":"0.00"}},{"$f":"IF(OR($I805=\"\",$I805=\"NSO\"),\"\",VLOOKUP($A800,'Result Entry'!$B$9:$DX$108,104,0))","v":""},{"$f":"IF(OR($I805=\"\",$I805=\"NSO\"),\"\",VLOOKUP($A800,'Result Entry'!$B$9:$DX$108,105,0))","v":""},{"$f":"IF(OR($I805=\"\",$I805=\"NSO\"),\"\",VLOOKUP($A800,'Result Entry'!$B$9:$DX$108,107,0))","v":""}]
[null,"◐",{"$nulls":6},"Total Meetings :-",null,{"$f":"IF(OR($I805=\"\",$I805=\"NSO\"),\"\",VLOOKUP($A800,'Result Entry'!$B$9:$DX$108,98,0))","v":0},"Attedance %"]
[null,"◐","Extra Subjects",{"$nulls":5},"Student's Meetings :-",null,{"$f":"IF(OR($I805=\"\",$I805=\"NSO\"),\"\",VLOOKUP($A800,'Result Entry'!$B$9:$DX$108,99,0))","v":0},{"$f":"IF(OR($I805=\"\",$I805=\"NSO\"),\"\",VLOOKUP($A800,'Result Entry'!$B$9:$DX$108,100,0))","v":""}]
[null,"◐","Subject",null,null,"Total Marks",null,"GRADE","Remark :-",null,{"$f":"IF(OR($I805=\"\",$I805=\"NSO\"),\"\",VLOOKUP($A800,'Result Entry'!$B$9:$DX$108,108,0))","v":0}]
[null,"◐",{"$nulls":6},"Result Date :-",null,{"$f":"'Result Entry'!$T$2","v":"2023-05-24"}]
[null,"◐",{"$f":"'Result Entry'!$BW$3","v":"WORK EXP."},null,null,{"$f":"IF(OR(C826=\"\",$I805=\"NSO\"),\"\",VLOOKUP($A800,'Result Entry'!$B$9:$DX$108,119,0))","v":"0/50"},null,{"$f":"IF(OR(C826=\"\",$I805=\"NSO\"),\"\",VLOOKUP($A800,'Result Entry'!$B$9:$DX$108,81,0))","v":""}]
[null,null,{"$f":"'Result Entry'!$CE$3","v":"ART EDU."},null,null,{"$f":"IF(OR(C827=\"\",$I805=\"NSO\"),\"\",VLOOKUP($A800,'Result Entry'!$B$9:$DX$108,123,0))","v":"0/50"},null,{"$f":"IF(OR(C827=\"\",$I805=\"NSO\"),\"\",VLOOKUP($A800,'Result Entry'!$B$9:$DX$108,89,0))","v":""}]
[null,"◐",{"$f":"'Result Entry'!$CM$3","v":"H&P. EDU."},null,null,{"$f":"IF(OR(C828=\"\",$I805=\"NSO\"),\"\",VLOOKUP($A800,'Result Entry'!$B$9:$DX$108,127,0))","v":"0/100"},null,{"$f":"IF(OR(C828=\"\",$I805=\"NSO\"),\"\",VLOOKUP($A800,'Result Entry'!$B$9:$DX$108,97,0))","v":""},"Signature Of The Class Teacher"]
[null,"◐","Grading System"]
[null,"◐","Grd.","% Range",null,"Description"]
[null,"◐","A","86-100",null,"Excellent",null,null,"Signature And Seal Of Principal/H.M."]
[null,"◐","B","71-85",null,"Very Good"]
[null,"◐","C","51-70",null,"Good"]
[null,"◐","D","31-50",null,"Average"]
[null,"◐","E","0-30",null,"Needs Improvement",null,null,"Wish bright future"]
[]
[]
[{"$f":"A800+1","v":23},"Department Of Education, Rajasthan"]
[null,{"$f":"IF(I843>0,CONCATENATE(C843,I843),0)","v":0},null,{"$f":"Master!$E$8","v":"Govt.Sr.Sec.Sch. "}]
[{"$nulls":3},{"$f":"Master!$E$11","v":"P.S.-Bapini (Jodhpur)"}]
[null,null,"Report Card",{"$nulls":6},"U-DISE Code:-",null,{"$f":"Master!$E$14","v":{"v":810000000,"d":"0810000000"}}]
[{"$nulls":9},"Session:-",null,{"$f":"Master!$E$6","v":"2022-23"}]
[null,null,"Roll No.:-",{"$nulls":5},{"$f":"VLOOKUP($A838,'Result Entry'!$B$9:$F$108,5,0)","v":0}]
[null,"◐","Scholar Number",{"$nulls":3},"↠",{"$f":"VLOOKUP($A838,'Result Entry'!$B$9:$DX$108,3,0)","v":0}]
[null,"◐","Student's Name",{"$nulls":3},"↠",{"$f":"VLOOKUP($A838,'Result Entry'!$B$9:$DX$108,6,0)","v":0}]
[null,"◐","Father's Name",{"$nulls":3},"↠",{"$f":"VLOOKUP($A838,'Result Entry'!$B$9:$DX$108,7,0)","v":0}]
[null,"◐","Mother's Name ",{"$nulls":3},"↠",{"$f":"VLOOKUP($A838,'Result Entry'!$B$9:$DX$108,8,0)","v":0}]
[null,"◐","Class & Section",{"$nulls":3},"↠",{"$f":"CONCATENATE('Result Entry'!$F$4,'Result Entry'!$I$4)","v":"2(A)"}]
[null,"◐","Date Of Birth",{"$nulls":3},"↠",{"$f":"VLOOKUP($A838,'Result Entry'!$B$9:$DX$108,9,0)","v":"00:00:00"}]
[null,"◐","Subject",{"$nulls":4},"Half Yearly","Total (T+H.Y.)","Yearly","Grand Total",null,"Subject Grade"]
[null,"◐","Max. Marks",{"$nulls":4},{"$f":"'Result Entry'!$Q$7","v":100},{"$f":"G851+H851","v":100},{"$f":"'Result Entry'!$U$7","v":100},{"$f":"I851+J851","v":200},null,"A/B/C/D/E"]
[null,"◐",{"$f":"'Result Entry'!$K$3","v":"Hindi"},{"$nulls":4},{"$f":"IF(OR(C852=\"\",$I843=\"NSO\"),\"\",VLOOKUP($A838,'Result Entry'!$B$9:$DX$108,16,0))","v":0},{"$f":"SUM(G852,H852)","v":0},{"$f":"IF(OR(C852=\"\",$I843=\"NSO\"),\"\",VLOOKUP($A838,'Result Entry'!$B$9:$DX$108,20,0))","v":0},{"$f":"SUM(I852,J852)","v":0},null,{"$f":"IF(OR(C852=\"\",$I843=\"NSO\"),\"\",VLOOKUP($A838,'Result Entry'!$B$9:$DX$108,23,0))","v":""}]
[null,"◐",{"$f":"'Result Entry'!$Y$3","v":"Mathematics"},{"$nulls":4},{"$f":"IF(OR(C853=\"\",$I843=\"NSO\"),\"\",VLOOKUP($A838,'Result Entry'!$B$9:$DX$108,30,0))","v":0},{"$f":"SUM(G853,H853)","v":0},{"$f":"IF(OR(C853=\"\",$I843=\"NSO\"),\"\",VLOOKUP($A838,'Result Entry'!$B$9:$DX$108,34,0))","v":0},{"$f":"SUM(I853,J853)","v":0},null,{"$f":"IF(OR(C853=\"\",$I843=\"NSO\"),\"\",VLOOKUP($A838,'Result Entry'!$B$9:$DX$108,37,0))","v":""}]
[null,"◐",{"$f":"'Result Entry'!$BO$3","v":"Env. Study"},{"$nulls":4},{"$f":"IF(OR(C854=\"\",$I843=\"NSO\"),\"\",VLOOKUP($A838,'Result Entry'!$B$9:$DX$108,66,0))","v":0},0,{"$f":"IF(OR(C854=\"\",$I843=\"NSO\"),\"\",VLOOKUP($A838,'Result Entry'!$B$9:$DX$108,67,0))","v":0},0,null,{"$f":"IF(OR(C854=\"\",$I843=\"NSO\"),\"\",VLOOKUP($A838,'Result Entry'!$B$9:$DX$108,73,0))","v":""}]
[null,"◐","Max. Marks",{"$nulls":4},{"$f":"'Result Entry'!$AS$7","v":50},50,{"$f":"'Result Entry'!$AW$7","v":50},100,null,"A/B/C/D/E"]
[null,"◐",{"$f":"'Result Entry'!$AM$3","v":"English"},{"$nulls":4},{"$f":"IF(OR(C856=\"\",$I843=\"NSO\"),\"\",VLOOKUP($A838,'Result Entry'!$B$9:$DX$108,44,0))","v":0},0,{"$f":"IF(OR(C856=\"\",$I843=\"NSO\"),\"\",VLOOKUP($A838,'Result Entry'!$B$9:$DX$108,48,0))","v":0},0,null,{"$f":"IF(OR(C856=\"\",$I843=\"NSO\"),\"\",VLOOKUP($A838,'Result Entry'!$B$9:$DX$108,51,0))","v":""}]
[null,"◐"]
[null,"◐","Overall Result",null,null,"Total Max. Marks",null,"Total Obtained Marks",null,"Percentage","Overall Grade","Result","Position in Class"]
[null,"◐",{"$nulls":3},{"$f":"IF(OR($I843=\"\",$I843=\"NSO\"),\"\",VLOOKUP($A838,'Result Entry'!$B$9:$DX$108,101,0))","v":500},null,{"$f":"IF(OR($I843=\"\",$I843=\"NSO\"),\"\",VLOOKUP($A838,'Result Entry'!$B$9:$DX$108,102,0))","v":0},null,{"$f":"IF(OR($I843=\"\",$I843=\"NSO\"),\"\",VLOOKUP($A838,'Result Entry'!$B$9:$DX$108,103,0))","v":{"v":0,"d":"0.00"}},{"$f":"IF(OR($I843=\"\",$I843=\"NSO\"),\"\",VLOOKUP($A838,'Result Entry'!$B$9:$DX$108,104,0))","v":""},{"$f":"IF(OR($I843=\"\",$I843=\"NSO\"),\"\",VLOOKUP($A838,'Result Entry'!$B$9:$DX$108,105,0))","v":""},{"$f":"IF(OR($I843=\"\",$I843=\"NSO\"),\"\",VLOOKUP($A838,'Result Entry'!$B$9:$DX$108,107,0))","v":""}]
[null,"◐",{"$nulls":6},"Total Meetings :-",null,{"$f":"IF(OR($I843=\"\",$I843=\"NSO\"),\"\",VLOOKUP($A838,'Result Entry'!$B$9:$DX$108,98,0))","v":0},"Attedance %"]
[null,"◐","Extra Subjects",{"$nulls":5},"Student's Meetings :-",null,{"$f":"IF(OR($I843=\"\",$I843=\"NSO\"),\"\",VLOOKUP($A838,'Result Entry'!$B$9:$DX$108,99,0))","v":0},{"$f":"IF(OR($I843=\"\",$I843=\"NSO\"),\"\",VLOOKUP($A838,'Result Entry'!$B$9:$DX$108,100,0))","v":""}]
[null,"◐","Subject",null,null,"Total Marks",null,"GRADE","Remark :-",null,{"$f":"IF(OR($I843=\"\",$I843=\"NSO\"),\"\",VLOOKUP($A838,'Result Entry'!$B$9:$DX$108,108,0))","v":0}]
[null,"◐",{"$nulls":6},"Result Date :-",null,{"$f":"'Result Entry'!$T$2","v":"2023-05-24"}]
[null,"◐",{"$f":"'Result Entry'!$BW$3","v":"WORK EXP."},null,null,{"$f":"IF(OR(C864=\"\",$I843=\"NSO\"),\"\",VLOOKUP($A838,'Result Entry'!$B$9:$DX$108,119,0))","v":"0/50"},null,{"$f":"IF(OR(C864=\"\",$I843=\"NSO\"),\"\",VLOOKUP($A838,'Result Entry'!$B$9:$DX$108,81,0))","v":""}]
[null,null,{"$f":"'Result Entry'!$CE$3","v":"ART EDU."},null,null,{"$f":"IF(OR(C865=\"\",$I843=\"NSO\"),\"\",VLOOKUP($A838,'Result Entry'!$B$9:$DX$108,123,0))","v":"0/50"},null,{"$f":"IF(OR(C865=\"\",$I843=\"NSO\"),\"\",VLOOKUP($A838,'Result Entry'!$B$9:$DX$108,89,0))","v":""}]
[null,"◐",{"$f":"'Result Entry'!$CM$3","v":"H&P. EDU."},null,null,{"$f":"IF(OR(C866=\"\",$I843=\"NSO\"),\"\",VLOOKUP($A838,'Result Entry'!$B$9:$DX$108,127,0))","v":"0/100"},null,{"$f":"IF(OR(C866=\"\",$I843=\"NSO\"),\"\",VLOOKUP($A838,'Result Entry'!$B$9:$DX$108,97,0))","v":""},"Signature Of The Class Teacher"]
[null,"◐","Grading System"]
[null,"◐","Grd.","% Range",null,"Description"]
[null,"◐","A","86-100",null,"Excellent",null,null,"Signature And Seal Of Principal/H.M."]
[null,"◐","B","71-85",null,"Very Good"]
[null,"◐","C","51-70",null,"Good"]
[null,"◐","D","31-50",null,"Average"]
[null,"◐","E","0-30",null,"Needs Improvement",null,null,"Wish bright future"]
[]
[]
[{"$f":"A838+1","v":24},"Department Of Education, Rajasthan"]
[null,{"$f":"IF(I881>0,CONCATENATE(C881,I881),0)","v":0},null,{"$f":"Master!$E$8","v":"Govt.Sr.Sec.Sch. "}]
[{"$nulls":3},{"$f":"Master!$E$11","v":"P.S.-Bapini (Jodhpur)"}]
[null,null,"Report Card",{"$nulls":6},"U-DISE Code:-",null,{"$f":"Master!$E$14","v":{"v":810000000,"d":"0810000000"}}]
[{"$nulls":9},"Session:-",null,{"$f":"Master!$E$6","v":"2022-23"}]
[null,null,"Roll No.:-",{"$nulls":5},{"$f":"VLOOKUP($A876,'Result Entry'!$B$9:$F$108,5,0)","v":0}]
[null,"◐","Scholar Number",{"$nulls":3},"↠",{"$f":"VLOOKUP($A876,'Result Entry'!$B$9:$DX$108,3,0)","v":0}]
[null,"◐","Student's Name",{"$nulls":3},"↠",{"$f":"VLOOKUP($A876,'Result Entry'!$B$9:$DX$108,6,0)","v":0}]
[null,"◐","Father's Name",{"$nulls":3},"↠",{"$f":"VLOOKUP($A876,'Result Entry'!$B$9:$DX$108,7,0)","v":0}]
[null,"◐","Mother's Name ",{"$nulls":3},"↠",{"$f":"VLOOKUP($A876,'Result Entry'!$B$9:$DX$108,8,0)","v":0}]
[null,"◐","Class & Section",{"$nulls":3},"↠",{"$f":"CONCATENATE('Result Entry'!$F$4,'Result Entry'!$I$4)","v":"2(A)"}]
[null,"◐","Date Of Birth",{"$nulls":3},"↠",{"$f":"VLOOKUP($A876,'Result Entry'!$B$9:$DX$108,9,0)","v":"00:00:00"}]
[null,"◐","Subject",{"$nulls":4},"Half Yearly","Total (T+H.Y.)","Yearly","Grand Total",null,"Subject Grade"]
[null,"◐","Max. Marks",{"$nulls":4},{"$f":"'Result Entry'!$Q$7","v":100},{"$f":"G889+H889","v":100},{"$f":"'Result Entry'!$U$7","v":100},{"$f":"I889+J889","v":200},null,"A/B/C/D/E"]
[null,"◐",{"$f":"'Result Entry'!$K$3","v":"Hindi"},{"$nulls":4},{"$f":"IF(OR(C890=\"\",$I881=\"NSO\"),\"\",VLOOKUP($A876,'Result Entry'!$B$9:$DX$108,16,0))","v":0},{"$f":"SUM(G890,H890)","v":0},{"$f":"IF(OR(C890=\"\",$I881=\"NSO\"),\"\",VLOOKUP($A876,'Result Entry'!$B$9:$DX$108,20,0))","v":0},{"$f":"SUM(I890,J890)","v":0},null,{"$f":"IF(OR(C890=\"\",$I881=\"NSO\"),\"\",VLOOKUP($A876,'Result Entry'!$B$9:$DX$108,23,0))","v":""}]
[null,"◐",{"$f":"'Result Entry'!$Y$3","v":"Mathematics"},{"$nulls":4},{"$f":"IF(OR(C891=\"\",$I881=\"NSO\"),\"\",VLOOKUP($A876,'Result Entry'!$B$9:$DX$108,30,0))","v":0},{"$f":"SUM(G891,H891)","v":0},{"$f":"IF(OR(C891=\"\",$I881=\"NSO\"),\"\",VLOOKUP($A876,'Result Entry'!$B$9:$DX$108,34,0))","v":0},{"$f":"SUM(I891,J891)","v":0},null,{"$f":"IF(OR(C891=\"\",$I881=\"NSO\"),\"\",VLOOKUP($A876,'Result Entry'!$B$9:$DX$108,37,0))","v":""}]
[null,"◐",{"$f":"'Result Entry'!$BO$3","v":"Env. Study"},{"$nulls":4},{"$f":"IF(OR(C892=\"\",$I881=\"NSO\"),\"\",VLOOKUP($A876,'Result Entry'!$B$9:$DX$108,66,0))","v":0},0,{"$f":"IF(OR(C892=\"\",$I881=\"NSO\"),\"\",VLOOKUP($A876,'Result Entry'!$B$9:$DX$108,67,0))","v":0},0,null,{"$f":"IF(OR(C892=\"\",$I881=\"NSO\"),\"\",VLOOKUP($A876,'Result Entry'!$B$9:$DX$108,73,0))","v":""}]
[null,"◐","Max. Marks",{"$nulls":4},{"$f":"'Result Entry'!$AS$7","v":50},50,{"$f":"'Result Entry'!$AW$7","v":50},100,null,"A/B/C/D/E"]
[null,"◐",{"$f":"'Result Entry'!$AM$3","v":"English"},{"$nulls":4},{"$f":"IF(OR(C894=\"\",$I881=\"NSO\"),\"\",VLOOKUP($A876,'Result Entry'!$B$9:$DX$108,44,0))","v":0},0,{"$f":"IF(OR(C894=\"\",$I881=\"NSO\"),\"\",VLOOKUP($A876,'Result Entry'!$B$9:$DX$108,48,0))","v":0},0,null,{"$f":"IF(OR(C894=\"\",$I881=\"NSO\"),\"\",VLOOKUP($A876,'Result Entry'!$B$9:$DX$108,51,0))","v":""}]
[null,"◐"]
[null,"◐","Overall Result",null,null,"Total Max. Marks",null,"Total Obtained Marks",null,"Percentage","Overall Grade","Result","Position in Class"]
[null,"◐",{"$nulls":3},{"$f":"IF(OR($I881=\"\",$I881=\"NSO\"),\"\",VLOOKUP($A876,'Result Entry'!$B$9:$DX$108,101,0))","v":500},null,{"$f":"IF(OR($I881=\"\",$I881=\"NSO\"),\"\",VLOOKUP($A876,'Result Entry'!$B$9:$DX$108,102,0))","v":0},null,{"$f":"IF(OR($I881=\"\",$I881=\"NSO\"),\"\",VLOOKUP($A876,'Result Entry'!$B$9:$DX$108,103,0))","v":{"v":0,"d":"0.00"}},{"$f":"IF(OR($I881=\"\",$I881=\"NSO\"),\"\",VLOOKUP($A876,'Result Entry'!$B$9:$DX$108,104,0))","v":""},{"$f":"IF(OR($I881=\"\",$I881=\"NSO\"),\"\",VLOOKUP($A876,'Result Entry'!$B$9:$DX$108,105,0))","v":""},{"$f":"IF(OR($I881=\"\",$I881=\"NSO\"),\"\",VLOOKUP($A876,'Result Entry'!$B$9:$DX$108,107,0))","v":""}]
[null,"◐",{"$nulls":6},"Total Meetings :-",null,{"$f":"IF(OR($I881=\"\",$I881=\"NSO\"),\"\",VLOOKUP($A876,'Result Entry'!$B$9:$DX$108,98,0))","v":0},"Attedance %"]
[null,"◐","Extra Subjects",{"$nulls":5},"Student's Meetings :-",null,{"$f":"IF(OR($I881=\"\",$I881=\"NSO\"),\"\",VLOOKUP($A876,'Result Entry'!$B$9:$DX$108,99,0))","v":0},{"$f":"IF(OR($I881=\"\",$I881=\"NSO\"),\"\",VLOOKUP($A876,'Result Entry'!$B$9:$DX$108,100,0))","v":""}]
[null,"◐","Subject",null,null,"Total Marks",null,"GRADE","Remark :-",null,{"$f":"IF(OR($I881=\"\",$I881=\"NSO\"),\"\",VLOOKUP($A876,'Result Entry'!$B$9:$DX$108,108,0))","v":0}]
[null,"◐",{"$nulls":6},"Result Date :-",null,{"$f":"'Result Entry'!$T$2","v":"2023-05-24"}]
[null,"◐",{"$f":"'Result Entry'!$BW$3","v":"WORK EXP."},null,null,{"$f":"IF(OR(C902=\"\",$I881=\"NSO\"),\"\",VLOOKUP($A876,'Result Entry'!$B$9:$DX$108,119,0))","v":"0/50"},null,{"$f":"IF(OR(C902=\"\",$I881=\"NSO\"),\"\",VLOOKUP($A876,'Result Entry'!$B$9:$DX$108,81,0))","v":""}]
[null,null,{"$f":"'Result Entry'!$CE$3","v":"ART EDU."},null,null,{"$f":"IF(OR(C903=\"\",$I881=\"NSO\"),\"\",VLOOKUP($A876,'Result Entry'!$B$9:$DX$108,123,0))","v":"0/50"},null,{"$f":"IF(OR(C903=\"\",$I881=\"NSO\"),\"\",VLOOKUP($A876,'Result Entry'!$B$9:$DX$108,89,0))","v":""}]
[null,"◐",{"$f":"'Result Entry'!$CM$3","v":"H&P. EDU."},null,null,{"$f":"IF(OR(C904=\"\",$I881=\"NSO\"),\"\",VLOOKUP($A876,'Result Entry'!$B$9:$DX$108,127,0))","v":"0/100"},null,{"$f":"IF(OR(C904=\"\",$I881=\"NSO\"),\"\",VLOOKUP($A876,'Result Entry'!$B$9:$DX$108,97,0))","v":""},"Signature Of The Class Teacher"]
[null,"◐","Grading System"]
[null,"◐","Grd.","% Range",null,"Description"]
[null,"◐","A","86-100",null,"Excellent",null,null,"Signature And Seal Of Principal/H.M."]
[null,"◐","B","71-85",null,"Very Good"]
[null,"◐","C","51-70",null,"Good"]
[null,"◐","D","31-50",null,"Average"]
[null,"◐","E","0-30",null,"Needs Improvement",null,null,"Wish bright future"]
[]
[]
[{"$f":"A876+1","v":25},"Department Of Education, Rajasthan"]
[null,{"$f":"IF(I919>0,CONCATENATE(C919,I919),0)","v":0},null,{"$f":"Master!$E$8","v":"Govt.Sr.Sec.Sch. "}]
[{"$nulls":3},{"$f":"Master!$E$11","v":"P.S.-Bapini (Jodhpur)"}]
[null,null,"Report Card",{"$nulls":6},"U-DISE Code:-",null,{"$f":"Master!$E$14","v":{"v":810000000,"d":"0810000000"}}]
[{"$nulls":9},"Session:-",null,{"$f":"Master!$E$6","v":"2022-23"}]
[null,null,"Roll No.:-",{"$nulls":5},{"$f":"VLOOKUP($A914,'Result Entry'!$B$9:$F$108,5,0)","v":0}]
[null,"◐","Scholar Number",{"$nulls":3},"↠",{"$f":"VLOOKUP($A914,'Result Entry'!$B$9:$DX$108,3,0)","v":0}]
[null,"◐","Student's Name",{"$nulls":3},"↠",{"$f":"VLOOKUP($A914,'Result Entry'!$B$9:$DX$108,6,0)","v":0}]
[null,"◐","Father's Name",{"$nulls":3},"↠",{"$f":"VLOOKUP($A914,'Result Entry'!$B$9:$DX$108,7,0)","v":0}]
[null,"◐","Mother's Name ",{"$nulls":3},"↠",{"$f":"VLOOKUP($A914,'Result Entry'!$B$9:$DX$108,8,0)","v":0}]
[null,"◐","Class & Section",{"$nulls":3},"↠",{"$f":"CONCATENATE('Result Entry'!$F$4,'Result Entry'!$I$4)","v":"2(A)"}]
[null,"◐","Date Of Birth",{"$nulls":3},"↠",{"$f":"VLOOKUP($A914,'Result Entry'!$B$9:$DX$108,9,0)","v":"00:00:00"}]
[null,"◐","Subject",{"$nulls":4},"Half Yearly","Total (T+H.Y.)","Yearly","Grand Total",null,"Subject Grade"]
[null,"◐","Max. Marks",{"$nulls":4},{"$f":"'Result Entry'!$Q$7","v":100},{"$f":"G927+H927","v":100},{"$f":"'Result Entry'!$U$7","v":100},{"$f":"I927+J927","v":200},null,"A/B/C/D/E"]
[null,"◐",{"$f":"'Result Entry'!$K$3","v":"Hindi"},{"$nulls":4},{"$f":"IF(OR(C928=\"\",$I919=\"NSO\"),\"\",VLOOKUP($A914,'Result Entry'!$B$9:$DX$108,16,0))","v":0},{"$f":"SUM(G928,H928)","v":0},{"$f":"IF(OR(C928=\"\",$I919=\"NSO\"),\"\",VLOOKUP($A914,'Result Entry'!$B$9:$DX$108,20,0))","v":0},{"$f":"SUM(I928,J928)","v":0},null,{"$f":"IF(OR(C928=\"\",$I919=\"NSO\"),\"\",VLOOKUP($A914,'Result Entry'!$B$9:$DX$108,23,0))","v":""}]
[null,"◐",{"$f":"'Result Entry'!$Y$3","v":"Mathematics"},{"$nulls":4},{"$f":"IF(OR(C929=\"\",$I919=\"NSO\"),\"\",VLOOKUP($A914,'Result Entry'!$B$9:$DX$108,30,0))","v":0},{"$f":"SUM(G929,H929)","v":0},{"$f":"IF(OR(C929=\"\",$I919=\"NSO\"),\"\",VLOOKUP($A914,'Result Entry'!$B$9:$DX$108,34,0))","v":0},{"$f":"SUM(I929,J929)","v":0},null,{"$f":"IF(OR(C929=\"\",$I919=\"NSO\"),\"\",VLOOKUP($A914,'Result Entry'!$B$9:$DX$108,37,0))","v":""}]
[null,"◐",{"$f":"'Result Entry'!$BO$3","v":"Env. Study"},{"$nulls":4},{"$f":"IF(OR(C930=\"\",$I919=\"NSO\"),\"\",VLOOKUP($A914,'Result Entry'!$B$9:$DX$108,66,0))","v":0},0,{"$f":"IF(OR(C930=\"\",$I919=\"NSO\"),\"\",VLOOKUP($A914,'Result Entry'!$B$9:$DX$108,67,0))","v":0},0,null,{"$f":"IF(OR(C930=\"\",$I919=\"NSO\"),\"\",VLOOKUP($A914,'Result Entry'!$B$9:$DX$108,73,0))","v":""}]
[null,"◐","Max. Marks",{"$nulls":4},{"$f":"'Result Entry'!$AS$7","v":50},50,{"$f":"'Result Entry'!$AW$7","v":50},100,null,"A/B/C/D/E"]
[null,"◐",{"$f":"'Result Entry'!$AM$3","v":"English"},{"$nulls":4},{"$f":"IF(OR(C932=\"\",$I919=\"NSO\"),\"\",VLOOKUP($A914,'Result Entry'!$B$9:$DX$108,44,0))","v":0},0,{"$f":"IF(OR(C932=\"\",$I919=\"NSO\"),\"\",VLOOKUP($A914,'Result Entry'!$B$9:$DX$108,48,0))","v":0},0,null,{"$f":"IF(OR(C932=\"\",$I919=\"NSO\"),\"\",VLOOKUP($A914,'Result Entry'!$B$9:$DX$108,51,0))","v":""}]
[null,"◐"]
[null,"◐","Overall Result",null,null,"Total Max. Marks",null,"Total Obtained Marks",null,"Percentage","Overall Grade","Result","Position in Class"]
[null,"◐",{"$nulls":3},{"$f":"IF(OR($I919=\"\",$I919=\"NSO\"),\"\",VLOOKUP($A914,'Result Entry'!$B$9:$DX$108,101,0))","v":500},null,{"$f":"IF(OR($I919=\"\",$I919=\"NSO\"),\"\",VLOOKUP($A914,'Result Entry'!$B$9:$DX$108,102,0))","v":0},null,{"$f":"IF(OR($I919=\"\",$I919=\"NSO\"),\"\",VLOOKUP($A914,'Result Entry'!$B$9:$DX$108,103,0))","v":{"v":0,"d":"0.00"}},{"$f":"IF(OR($I919=\"\",$I919=\"NSO\"),\"\",VLOOKUP($A914,'Result Entry'!$B$9:$DX$108,104,0))","v":""},{"$f":"IF(OR($I919=\"\",$I919=\"NSO\"),\"\",VLOOKUP($A914,'Result Entry'!$B$9:$DX$108,105,0))","v":""},{"$f":"IF(OR($I919=\"\",$I919=\"NSO\"),\"\",VLOOKUP($A914,'Result Entry'!$B$9:$DX$108,107,0))","v":""}]
[null,"◐",{"$nulls":6},"Total Meetings :-",null,{"$f":"IF(OR($I919=\"\",$I919=\"NSO\"),\"\",VLOOKUP($A914,'Result Entry'!$B$9:$DX$108,98,0))","v":0},"Attedance %"]
[null,"◐","Extra Subjects",{"$nulls":5},"Student's Meetings :-",null,{"$f":"IF(OR($I919=\"\",$I919=\"NSO\"),\"\",VLOOKUP($A914,'Result Entry'!$B$9:$DX$108,99,0))","v":0},{"$f":"IF(OR($I919=\"\",$I919=\"NSO\"),\"\",VLOOKUP($A914,'Result Entry'!$B$9:$DX$108,100,0))","v":""}]
[null,"◐","Subject",null,null,"Total Marks",null,"GRADE","Remark :-",null,{"$f":"IF(OR($I919=\"\",$I919=\"NSO\"),\"\",VLOOKUP($A914,'Result Entry'!$B$9:$DX$108,108,0))","v":0}]
[null,"◐",{"$nulls":6},"Result Date :-",null,{"$f":"'Result Entry'!$T$2","v":"2023-05-24"}]
[null,"◐",{"$f":"'Result Entry'!$BW$3","v":"WORK EXP."},null,null,{"$f":"IF(OR(C940=\"\",$I919=\"NSO\"),\"\",VLOOKUP($A914,'Result Entry'!$B$9:$DX$108,119,0))","v":"0/50"},null,{"$f":"IF(OR(C940=\"\",$I919=\"NSO\"),\"\",VLOOKUP($A914,'Result Entry'!$B$9:$DX$108,81,0))","v":""}]
[null,null,{"$f":"'Result Entry'!$CE$3","v":"ART EDU."},null,null,{"$f":"IF(OR(C941=\"\",$I919=\"NSO\"),\"\",VLOOKUP($A914,'Result Entry'!$B$9:$DX$108,123,0))","v":"0/50"},null,{"$f":"IF(OR(C941=\"\",$I919=\"NSO\"),\"\",VLOOKUP($A914,'Result Entry'!$B$9:$DX$108,89,0))","v":""}]
[null,"◐",{"$f":"'Result Entry'!$CM$3","v":"H&P. EDU."},null,null,{"$f":"IF(OR(C942=\"\",$I919=\"NSO\"),\"\",VLOOKUP($A914,'Result Entry'!$B$9:$DX$108,127,0))","v":"0/100"},null,{"$f":"IF(OR(C942=\"\",$I919=\"NSO\"),\"\",VLOOKUP($A914,'Result Entry'!$B$9:$DX$108,97,0))","v":""},"Signature Of The Class Teacher"]
[null,"◐","Grading System"]
[null,"◐","Grd.","% Range",null,"Description"]
[null,"◐","A","86-100",null,"Excellent",null,null,"Signature And Seal Of Principal/H.M."]
[null,"◐","B","71-85",null,"Very Good"]
[null,"◐","C","51-70",null,"Good"]
[null,"◐","D","31-50",null,"Average"]
[null,"◐","E","0-30",null,"Needs Improvement",null,null,"Wish bright future"]
[]
[]
[{"$f":"A914+1","v":26},"Department Of Education, Rajasthan"]
[null,{"$f":"IF(I957>0,CONCATENATE(C957,I957),0)","v":0},null,{"$f":"Master!$E$8","v":"Govt.Sr.Sec.Sch. "}]
[{"$nulls":3},{"$f":"Master!$E$11","v":"P.S.-Bapini (Jodhpur)"}]
[null,null,"Report Card",{"$nulls":6},"U-DISE Code:-",null,{"$f":"Master!$E$14","v":{"v":810000000,"d":"0810000000"}}]
[{"$nulls":9},"Session:-",null,{"$f":"Master!$E$6","v":"2022-23"}]
[null,null,"Roll No.:-",{"$nulls":5},{"$f":"VLOOKUP($A952,'Result Entry'!$B$9:$F$108,5,0)","v":0}]
[null,"◐","Scholar Number",{"$nulls":3},"↠",{"$f":"VLOOKUP($A952,'Result Entry'!$B$9:$DX$108,3,0)","v":0}]
[null,"◐","Student's Name",{"$nulls":3},"↠",{"$f":"VLOOKUP($A952,'Result Entry'!$B$9:$DX$108,6,0)","v":0}]
[null,"◐","Father's Name",{"$nulls":3},"↠",{"$f":"VLOOKUP($A952,'Result Entry'!$B$9:$DX$108,7,0)","v":0}]
[null,"◐","Mother's Name ",{"$nulls":3},"↠",{"$f":"VLOOKUP($A952,'Result Entry'!$B$9:$DX$108,8,0)","v":0}]
[null,"◐","Class & Section",{"$nulls":3},"↠",{"$f":"CONCATENATE('Result Entry'!$F$4,'Result Entry'!$I$4)","v":"2(A)"}]
[null,"◐","Date Of Birth",{"$nulls":3},"↠",{"$f":"VLOOKUP($A952,'Result Entry'!$B$9:$DX$108,9,0)","v":"00:00:00"}]
[null,"◐","Subject",{"$nulls":4},"Half Yearly","Total (T+H.Y.)","Yearly","Grand Total",null,"Subject Grade"]
[null,"◐","Max. Marks",{"$nulls":4},{"$f":"'Result Entry'!$Q$7","v":100},{"$f":"G965+H965","v":100},{"$f":"'Result Entry'!$U$7","v":100},{"$f":"I965+J965","v":200},null,"A/B/C/D/E"]
[null,"◐",{"$f":"'Result Entry'!$K$3","v":"Hindi"},{"$nulls":4},{"$f":"IF(OR(C966=\"\",$I957=\"NSO\"),\"\",VLOOKUP($A952,'Result Entry'!$B$9:$DX$108,16,0))","v":0},{"$f":"SUM(G966,H966)","v":0},{"$f":"IF(OR(C966=\"\",$I957=\"NSO\"),\"\",VLOOKUP($A952,'Result Entry'!$B$9:$DX$108,20,0))","v":0},{"$f":"SUM(I966,J966)","v":0},null,{"$f":"IF(OR(C966=\"\",$I957=\"NSO\"),\"\",VLOOKUP($A952,'Result Entry'!$B$9:$DX$108,23,0))","v":""}]
[null,"◐",{"$f":"'Result Entry'!$Y$3","v":"Mathematics"},{"$nulls":4},{"$f":"IF(OR(C967=\"\",$I957=\"NSO\"),\"\",VLOOKUP($A952,'Result Entry'!$B$9:$DX$108,30,0))","v":0},{"$f":"SUM(G967,H967)","v":0},{"$f":"IF(OR(C967=\"\",$I957=\"NSO\"),\"\",VLOOKUP($A952,'Result Entry'!$B$9:$DX$108,34,0))","v":0},{"$f":"SUM(I967,J967)","v":0},null,{"$f":"IF(OR(C967=\"\",$I957=\"NSO\"),\"\",VLOOKUP($A952,'Result Entry'!$B$9:$DX$108,37,0))","v":""}]
[null,"◐",{"$f":"'Result Entry'!$BO$3","v":"Env. Study"},{"$nulls":4},{"$f":"IF(OR(C968=\"\",$I957=\"NSO\"),\"\",VLOOKUP($A952,'Result Entry'!$B$9:$DX$108,66,0))","v":0},0,{"$f":"IF(OR(C968=\"\",$I957=\"NSO\"),\"\",VLOOKUP($A952,'Result Entry'!$B$9:$DX$108,67,0))","v":0},0,null,{"$f":"IF(OR(C968=\"\",$I957=\"NSO\"),\"\",VLOOKUP($A952,'Result Entry'!$B$9:$DX$108,73,0))","v":""}]
[null,"◐","Max. Marks",{"$nulls":4},{"$f":"'Result Entry'!$AS$7","v":50},50,{"$f":"'Result Entry'!$AW$7","v":50},100,null,"A/B/C/D/E"]
[null,"◐",{"$f":"'Result Entry'!$AM$3","v":"English"},{"$nulls":4},{"$f":"IF(OR(C970=\"\",$I957=\"NSO\"),\"\",VLOOKUP($A952,'Result Entry'!$B$9:$DX$108,44,0))","v":0},0,{"$f":"IF(OR(C970=\"\",$I957=\"NSO\"),\"\",VLOOKUP($A952,'Result Entry'!$B$9:$DX$108,48,0))","v":0},0,null,{"$f":"IF(OR(C970=\"\",$I957=\"NSO\"),\"\",VLOOKUP($A952,'Result Entry'!$B$9:$DX$108,51,0))","v":""}]
[null,"◐"]
[null,"◐","Overall Result",null,null,"Total Max. Marks",null,"Total Obtained Marks",null,"Percentage","Overall Grade","Result","Position in Class"]
[null,"◐",{"$nulls":3},{"$f":"IF(OR($I957=\"\",$I957=\"NSO\"),\"\",VLOOKUP($A952,'Result Entry'!$B$9:$DX$108,101,0))","v":500},null,{"$f":"IF(OR($I957=\"\",$I957=\"NSO\"),\"\",VLOOKUP($A952,'Result Entry'!$B$9:$DX$108,102,0))","v":0},null,{"$f":"IF(OR($I957=\"\",$I957=\"NSO\"),\"\",VLOOKUP($A952,'Result Entry'!$B$9:$DX$108,103,0))","v":{"v":0,"d":"0.00"}},{"$f":"IF(OR($I957=\"\",$I957=\"NSO\"),\"\",VLOOKUP($A952,'Result Entry'!$B$9:$DX$108,104,0))","v":""},{"$f":"IF(OR($I957=\"\",$I957=\"NSO\"),\"\",VLOOKUP($A952,'Result Entry'!$B$9:$DX$108,105,0))","v":""},{"$f":"IF(OR($I957=\"\",$I957=\"NSO\"),\"\",VLOOKUP($A952,'Result Entry'!$B$9:$DX$108,107,0))","v":""}]
[null,"◐",{"$nulls":6},"Total Meetings :-",null,{"$f":"IF(OR($I957=\"\",$I957=\"NSO\"),\"\",VLOOKUP($A952,'Result Entry'!$B$9:$DX$108,98,0))","v":0},"Attedance %"]
[null,"◐","Extra Subjects",{"$nulls":5},"Student's Meetings :-",null,{"$f":"IF(OR($I957=\"\",$I957=\"NSO\"),\"\",VLOOKUP($A952,'Result Entry'!$B$9:$DX$108,99,0))","v":0},{"$f":"IF(OR($I957=\"\",$I957=\"NSO\"),\"\",VLOOKUP($A952,'Result Entry'!$B$9:$DX$108,100,0))","v":""}]
[null,"◐","Subject",null,null,"Total Marks",null,"GRADE","Remark :-",null,{"$f":"IF(OR($I957=\"\",$I957=\"NSO\"),\"\",VLOOKUP($A952,'Result Entry'!$B$9:$DX$108,108,0))","v":0}]
[null,"◐",{"$nulls":6},"Result Date :-",null,{"$f":"'Result Entry'!$T$2","v":"2023-05-24"}]
[null,"◐",{"$f":"'Result Entry'!$BW$3","v":"WORK EXP."},null,null,{"$f":"IF(OR(C978=\"\",$I957=\"NSO\"),\"\",VLOOKUP($A952,'Result Entry'!$B$9:$DX$108,119,0))","v":"0/50"},null,{"$f":"IF(OR(C978=\"\",$I957=\"NSO\"),\"\",VLOOKUP($A952,'Result Entry'!$B$9:$DX$108,81,0))","v":""}]
[null,null,{"$f":"'Result Entry'!$CE$3","v":"ART EDU."},null,null,{"$f":"IF(OR(C979=\"\",$I957=\"NSO\"),\"\",VLOOKUP($A952,'Result Entry'!$B$9:$DX$108,123,0))","v":"0/50"},null,{"$f":"IF(OR(C979=\"\",$I957=\"NSO\"),\"\",VLOOKUP($A952,'Result Entry'!$B$9:$DX$108,89,0))","v":""}]
[null,"◐",{"$f":"'Result Entry'!$CM$3","v":"H&P. EDU."},null,null,{"$f":"IF(OR(C980=\"\",$I957=\"NSO\"),\"\",VLOOKUP($A952,'Result Entry'!$B$9:$DX$108,127,0))","v":"0/100"},null,{"$f":"IF(OR(C980=\"\",$I957=\"NSO\"),\"\",VLOOKUP($A952,'Result Entry'!$B$9:$DX$108,97,0))","v":""},"Signature Of The Class Teacher"]
[null,"◐","Grading System"]
[null,"◐","Grd.","% Range",null,"Description"]
[null,"◐","A","86-100",null,"Excellent",null,null,"Signature And Seal Of Principal/H.M."]
[null,"◐","B","71-85",null,"Very Good"]
[null,"◐","C","51-70",null,"Good"]
[null,"◐","D","31-50",null,"Average"]
[null,"◐","E","0-30",null,"Needs Improvement",null,null,"Wish bright future"]
[]
[]
[{"$f":"A952+1","v":27},"Department Of Education, Rajasthan"]
[null,{"$f":"IF(I995>0,CONCATENATE(C995,I995),0)","v":0},null,{"$f":"Master!$E$8","v":"Govt.Sr.Sec.Sch. "}]
[{"$nulls":3},{"$f":"Master!$E$11","v":"P.S.-Bapini (Jodhpur)"}]
[null,null,"Report Card",{"$nulls":6},"U-DISE Code:-",null,{"$f":"Master!$E$14","v":{"v":810000000,"d":"0810000000"}}]
[{"$nulls":9},"Session:-",null,{"$f":"Master!$E$6","v":"2022-23"}]
[null,null,"Roll No.:-",{"$nulls":5},{"$f":"VLOOKUP($A990,'Result Entry'!$B$9:$F$108,5,0)","v":0}]
[null,"◐","Scholar Number",{"$nulls":3},"↠",{"$f":"VLOOKUP($A990,'Result Entry'!$B$9:$DX$108,3,0)","v":0}]
[null,"◐","Student's Name",{"$nulls":3},"↠",{"$f":"VLOOKUP($A990,'Result Entry'!$B$9:$DX$108,6,0)","v":0}]
[null,"◐","Father's Name",{"$nulls":3},"↠",{"$f":"VLOOKUP($A990,'Result Entry'!$B$9:$DX$108,7,0)","v":0}]
[null,"◐","Mother's Name ",{"$nulls":3},"↠",{"$f":"VLOOKUP($A990,'Result Entry'!$B$9:$DX$108,8,0)","v":0}]
[null,"◐","Class & Section",{"$nulls":3},"↠",{"$f":"CONCATENATE('Result Entry'!$F$4,'Result Entry'!$I$4)","v":"2(A)"}]
[null,"◐","Date Of Birth",{"$nulls":3},"↠",{"$f":"VLOOKUP($A990,'Result Entry'!$B$9:$DX$108,9,0)","v":"00:00:00"}]
[null,"◐","Subject",{"$nulls":4},"Half Yearly","Total (T+H.Y.)","Yearly","Grand Total",null,"Subject Grade"]
[null,"◐","Max. Marks",{"$nulls":4},{"$f":"'Result Entry'!$Q$7","v":100},{"$f":"G1003+H1003","v":100},{"$f":"'Result Entry'!$U$7","v":100},{"$f":"I1003+J1003","v":200},null,"A/B/C/D/E"]
[null,"◐",{"$f":"'Result Entry'!$K$3","v":"Hindi"},{"$nulls":4},{"$f":"IF(OR(C1004=\"\",$I995=\"NSO\"),\"\",VLOOKUP($A990,'Result Entry'!$B$9:$DX$108,16,0))","v":0},{"$f":"SUM(G1004,H1004)","v":0},{"$f":"IF(OR(C1004=\"\",$I995=\"NSO\"),\"\",VLOOKUP($A990,'Result Entry'!$B$9:$DX$108,20,0))","v":0},{"$f":"SUM(I1004,J1004)","v":0},null,{"$f":"IF(OR(C1004=\"\",$I995=\"NSO\"),\"\",VLOOKUP($A990,'Result Entry'!$B$9:$DX$108,23,0))","v":""}]
[null,"◐",{"$f":"'Result Entry'!$Y$3","v":"Mathematics"},{"$nulls":4},{"$f":"IF(OR(C1005=\"\",$I995=\"NSO\"),\"\",VLOOKUP($A990,'Result Entry'!$B$9:$DX$108,30,0))","v":0},{"$f":"SUM(G1005,H1005)","v":0},{"$f":"IF(OR(C1005=\"\",$I995=\"NSO\"),\"\",VLOOKUP($A990,'Result Entry'!$B$9:$DX$108,34,0))","v":0},{"$f":"SUM(I1005,J1005)","v":0},null,{"$f":"IF(OR(C1005=\"\",$I995=\"NSO\"),\"\",VLOOKUP($A990,'Result Entry'!$B$9:$DX$108,37,0))","v":""}]
[null,"◐",{"$f":"'Result Entry'!$BO$3","v":"Env. Study"},{"$nulls":4},{"$f":"IF(OR(C1006=\"\",$I995=\"NSO\"),\"\",VLOOKUP($A990,'Result Entry'!$B$9:$DX$108,66,0))","v":0},0,{"$f":"IF(OR(C1006=\"\",$I995=\"NSO\"),\"\",VLOOKUP($A990,'Result Entry'!$B$9:$DX$108,67,0))","v":0},0,null,{"$f":"IF(OR(C1006=\"\",$I995=\"NSO\"),\"\",VLOOKUP($A990,'Result Entry'!$B$9:$DX$108,73,0))","v":""}]
[null,"◐","Max. Marks",{"$nulls":4},{"$f":"'Result Entry'!$AS$7","v":50},50,{"$f":"'Result Entry'!$AW$7","v":50},100,null,"A/B/C/D/E"]
[null,"◐",{"$f":"'Result Entry'!$AM$3","v":"English"},{"$nulls":4},{"$f":"IF(OR(C1008=\"\",$I995=\"NSO\"),\"\",VLOOKUP($A990,'Result Entry'!$B$9:$DX$108,44,0))","v":0},0,{"$f":"IF(OR(C1008=\"\",$I995=\"NSO\"),\"\",VLOOKUP($A990,'Result Entry'!$B$9:$DX$108,48,0))","v":0},0,null,{"$f":"IF(OR(C1008=\"\",$I995=\"NSO\"),\"\",VLOOKUP($A990,'Result Entry'!$B$9:$DX$108,51,0))","v":""}]
[null,"◐"]
[null,"◐","Overall Result",null,null,"Total Max. Marks",null,"Total Obtained Marks",null,"Percentage","Overall Grade","Result","Position in Class"]
[null,"◐",{"$nulls":3},{"$f":"IF(OR($I995=\"\",$I995=\"NSO\"),\"\",VLOOKUP($A990,'Result Entry'!$B$9:$DX$108,101,0))","v":500},null,{"$f":"IF(OR($I995=\"\",$I995=\"NSO\"),\"\",VLOOKUP($A990,'Result Entry'!$B$9:$DX$108,102,0))","v":0},null,{"$f":"IF(OR($I995=\"\",$I995=\"NSO\"),\"\",VLOOKUP($A990,'Result Entry'!$B$9:$DX$108,103,0))","v":{"v":0,"d":"0.00"}},{"$f":"IF(OR($I995=\"\",$I995=\"NSO\"),\"\",VLOOKUP($A990,'Result Entry'!$B$9:$DX$108,104,0))","v":""},{"$f":"IF(OR($I995=\"\",$I995=\"NSO\"),\"\",VLOOKUP($A990,'Result Entry'!$B$9:$DX$108,105,0))","v":""},{"$f":"IF(OR($I995=\"\",$I995=\"NSO\"),\"\",VLOOKUP($A990,'Result Entry'!$B$9:$DX$108,107,0))","v":""}]
[null,"◐",{"$nulls":6},"Total Meetings :-",null,{"$f":"IF(OR($I995=\"\",$I995=\"NSO\"),\"\",VLOOKUP($A990,'Result Entry'!$B$9:$DX$108,98,0))","v":0},"Attedance %"]
[null,"◐","Extra Subjects",{"$nulls":5},"Student's Meetings :-",null,{"$f":"IF(OR($I995=\"\",$I995=\"NSO\"),\"\",VLOOKUP($A990,'Result Entry'!$B$9:$DX$108,99,0))","v":0},{"$f":"IF(OR($I995=\"\",$I995=\"NSO\"),\"\",VLOOKUP($A990,'Result Entry'!$B$9:$DX$108,100,0))","v":""}]
[null,"◐","Subject",null,null,"Total Marks",null,"GRADE","Remark :-",null,{"$f":"IF(OR($I995=\"\",$I995=\"NSO\"),\"\",VLOOKUP($A990,'Result Entry'!$B$9:$DX$108,108,0))","v":0}]
[null,"◐",{"$nulls":6},"Result Date :-",null,{"$f":"'Result Entry'!$T$2","v":"2023-05-24"}]
[null,"◐",{"$f":"'Result Entry'!$BW$3","v":"WORK EXP."},null,null,{"$f":"IF(OR(C1016=\"\",$I995=\"NSO\"),\"\",VLOOKUP($A990,'Result Entry'!$B$9:$DX$108,119,0))","v":"0/50"},null,{"$f":"IF(OR(C1016=\"\",$I995=\"NSO\"),\"\",VLOOKUP($A990,'Result Entry'!$B$9:$DX$108,81,0))","v":""}]
[null,null,{"$f":"'Result Entry'!$CE$3","v":"ART EDU."},null,null,{"$f":"IF(OR(C1017=\"\",$I995=\"NSO\"),\"\",VLOOKUP($A990,'Result Entry'!$B$9:$DX$108,123,0))","v":"0/50"},null,{"$f":"IF(OR(C1017=\"\",$I995=\"NSO\"),\"\",VLOOKUP($A990,'Result Entry'!$B$9:$DX$108,89,0))","v":""}]
[null,"◐",{"$f":"'Result Entry'!$CM$3","v":"H&P. EDU."},null,null,{"$f":"IF(OR(C1018=\"\",$I995=\"NSO\"),\"\",VLOOKUP($A990,'Result Entry'!$B$9:$DX$108,127,0))","v":"0/100"},null,{"$f":"IF(OR(C1018=\"\",$I995=\"NSO\"),\"\",VLOOKUP($A990,'Result Entry'!$B$9:$DX$108,97,0))","v":""},"Signature Of The Class Teacher"]
[null,"◐","Grading System"]
[null,"◐","Grd.","% Range",null,"Description"]
[null,"◐","A","86-100",null,"Excellent",null,null,"Signature And Seal Of Principal/H.M."]
[null,"◐","B","71-85",null,"Very Good"]
[null,"◐","C","51-70",null,"Good"]
[null,"◐","D","31-50",null,"Average"]
[null,"◐","E","0-30",null,"Needs Improvement",null,null,"Wish bright future"]
[]
[]
[{"$f":"A990+1","v":28},"Department Of Education, Rajasthan"]
[null,{"$f":"IF(I1033>0,CONCATENATE(C1033,I1033),0)","v":0},null,{"$f":"Master!$E$8","v":"Govt.Sr.Sec.Sch. "}]
[{"$nulls":3},{"$f":"Master!$E$11","v":"P.S.-Bapini (Jodhpur)"}]
[null,null,"Report Card",{"$nulls":6},"U-DISE Code:-",null,{"$f":"Master!$E$14","v":{"v":810000000,"d":"0810000000"}}]
[{"$nulls":9},"Session:-",null,{"$f":"Master!$E$6","v":"2022-23"}]
[null,null,"Roll No.:-",{"$nulls":5},{"$f":"VLOOKUP($A1028,'Result Entry'!$B$9:$F$108,5,0)","v":0}]
[null,"◐","Scholar Number",{"$nulls":3},"↠",{"$f":"VLOOKUP($A1028,'Result Entry'!$B$9:$DX$108,3,0)","v":0}]
[null,"◐","Student's Name",{"$nulls":3},"↠",{"$f":"VLOOKUP($A1028,'Result Entry'!$B$9:$DX$108,6,0)","v":0}]
[null,"◐","Father's Name",{"$nulls":3},"↠",{"$f":"VLOOKUP($A1028,'Result Entry'!$B$9:$DX$108,7,0)","v":0}]
[null,"◐","Mother's Name ",{"$nulls":3},"↠",{"$f":"VLOOKUP($A1028,'Result Entry'!$B$9:$DX$108,8,0)","v":0}]
[null,"◐","Class & Section",{"$nulls":3},"↠",{"$f":"CONCATENATE('Result Entry'!$F$4,'Result Entry'!$I$4)","v":"2(A)"}]
[null,"◐","Date Of Birth",{"$nulls":3},"↠",{"$f":"VLOOKUP($A1028,'Result Entry'!$B$9:$DX$108,9,0)","v":"00:00:00"}]
[null,"◐","Subject",{"$nulls":4},"Half Yearly","Total (T+H.Y.)","Yearly","Grand Total",null,"Subject Grade"]
[null,"◐","Max. Marks",{"$nulls":4},{"$f":"'Result Entry'!$Q$7","v":100},{"$f":"G1041+H1041","v":100},{"$f":"'Result Entry'!$U$7","v":100},{"$f":"I1041+J1041","v":200},null,"A/B/C/D/E"]
[null,"◐",{"$f":"'Result Entry'!$K$3","v":"Hindi"},{"$nulls":4},{"$f":"IF(OR(C1042=\"\",$I1033=\"NSO\"),\"\",VLOOKUP($A1028,'Result Entry'!$B$9:$DX$108,16,0))","v":0},{"$f":"SUM(G1042,H1042)","v":0},{"$f":"IF(OR(C1042=\"\",$I1033=\"NSO\"),\"\",VLOOKUP($A1028,'Result Entry'!$B$9:$DX$108,20,0))","v":0},{"$f":"SUM(I1042,J1042)","v":0},null,{"$f":"IF(OR(C1042=\"\",$I1033=\"NSO\"),\"\",VLOOKUP($A1028,'Result Entry'!$B$9:$DX$108,23,0))","v":""}]
[null,"◐",{"$f":"'Result Entry'!$Y$3","v":"Mathematics"},{"$nulls":4},{"$f":"IF(OR(C1043=\"\",$I1033=\"NSO\"),\"\",VLOOKUP($A1028,'Result Entry'!$B$9:$DX$108,30,0))","v":0},{"$f":"SUM(G1043,H1043)","v":0},{"$f":"IF(OR(C1043=\"\",$I1033=\"NSO\"),\"\",VLOOKUP($A1028,'Result Entry'!$B$9:$DX$108,34,0))","v":0},{"$f":"SUM(I1043,J1043)","v":0},null,{"$f":"IF(OR(C1043=\"\",$I1033=\"NSO\"),\"\",VLOOKUP($A1028,'Result Entry'!$B$9:$DX$108,37,0))","v":""}]
[null,"◐",{"$f":"'Result Entry'!$BO$3","v":"Env. Study"},{"$nulls":4},{"$f":"IF(OR(C1044=\"\",$I1033=\"NSO\"),\"\",VLOOKUP($A1028,'Result Entry'!$B$9:$DX$108,66,0))","v":0},0,{"$f":"IF(OR(C1044=\"\",$I1033=\"NSO\"),\"\",VLOOKUP($A1028,'Result Entry'!$B$9:$DX$108,67,0))","v":0},0,null,{"$f":"IF(OR(C1044=\"\",$I1033=\"NSO\"),\"\",VLOOKUP($A1028,'Result Entry'!$B$9:$DX$108,73,0))","v":""}]
[null,"◐","Max. Marks",{"$nulls":4},{"$f":"'Result Entry'!$AS$7","v":50},50,{"$f":"'Result Entry'!$AW$7","v":50},100,null,"A/B/C/D/E"]
[null,"◐",{"$f":"'Result Entry'!$AM$3","v":"English"},{"$nulls":4},{"$f":"IF(OR(C1046=\"\",$I1033=\"NSO\"),\"\",VLOOKUP($A1028,'Result Entry'!$B$9:$DX$108,44,0))","v":0},0,{"$f":"IF(OR(C1046=\"\",$I1033=\"NSO\"),\"\",VLOOKUP($A1028,'Result Entry'!$B$9:$DX$108,48,0))","v":0},0,null,{"$f":"IF(OR(C1046=\"\",$I1033=\"NSO\"),\"\",VLOOKUP($A1028,'Result Entry'!$B$9:$DX$108,51,0))","v":""}]
[null,"◐"]
[null,"◐","Overall Result",null,null,"Total Max. Marks",null,"Total Obtained Marks",null,"Percentage","Overall Grade","Result","Position in Class"]
[null,"◐",{"$nulls":3},{"$f":"IF(OR($I1033=\"\",$I1033=\"NSO\"),\"\",VLOOKUP($A1028,'Result Entry'!$B$9:$DX$108,101,0))","v":500},null,{"$f":"IF(OR($I1033=\"\",$I1033=\"NSO\"),\"\",VLOOKUP($A1028,'Result Entry'!$B$9:$DX$108,102,0))","v":0},null,{"$f":"IF(OR($I1033=\"\",$I1033=\"NSO\"),\"\",VLOOKUP($A1028,'Result Entry'!$B$9:$DX$108,103,0))","v":{"v":0,"d":"0.00"}},{"$f":"IF(OR($I1033=\"\",$I1033=\"NSO\"),\"\",VLOOKUP($A1028,'Result Entry'!$B$9:$DX$108,104,0))","v":""},{"$f":"IF(OR($I1033=\"\",$I1033=\"NSO\"),\"\",VLOOKUP($A1028,'Result Entry'!$B$9:$DX$108,105,0))","v":""},{"$f":"IF(OR($I1033=\"\",$I1033=\"NSO\"),\"\",VLOOKUP($A1028,'Result Entry'!$B$9:$DX$108,107,0))","v":""}]
[null,"◐",{"$nulls":6},"Total Meetings :-",null,{"$f":"IF(OR($I1033=\"\",$I1033=\"NSO\"),\"\",VLOOKUP($A1028,'Result Entry'!$B$9:$DX$108,98,0))","v":0},"Attedance %"]
[null,"◐","Extra Subjects",{"$nulls":5},"Student's Meetings :-",null,{"$f":"IF(OR($I1033=\"\",$I1033=\"NSO\"),\"\",VLOOKUP($A1028,'Result Entry'!$B$9:$DX$108,99,0))","v":0},{"$f":"IF(OR($I1033=\"\",$I1033=\"NSO\"),\"\",VLOOKUP($A1028,'Result Entry'!$B$9:$DX$108,100,0))","v":""}]
[null,"◐","Subject",null,null,"Total Marks",null,"GRADE","Remark :-",null,{"$f":"IF(OR($I1033=\"\",$I1033=\"NSO\"),\"\",VLOOKUP($A1028,'Result Entry'!$B$9:$DX$108,108,0))","v":0}]
[null,"◐",{"$nulls":6},"Result Date :-",null,{"$f":"'Result Entry'!$T$2","v":"2023-05-24"}]
[null,"◐",{"$f":"'Result Entry'!$BW$3","v":"WORK EXP."},null,null,{"$f":"IF(OR(C1054=\"\",$I1033=\"NSO\"),\"\",VLOOKUP($A1028,'Result Entry'!$B$9:$DX$108,119,0))","v":"0/50"},null,{"$f":"IF(OR(C1054=\"\",$I1033=\"NSO\"),\"\",VLOOKUP($A1028,'Result Entry'!$B$9:$DX$108,81,0))","v":""}]
[null,null,{"$f":"'Result Entry'!$CE$3","v":"ART EDU."},null,null,{"$f":"IF(OR(C1055=\"\",$I1033=\"NSO\"),\"\",VLOOKUP($A1028,'Result Entry'!$B$9:$DX$108,123,0))","v":"0/50"},null,{"$f":"IF(OR(C1055=\"\",$I1033=\"NSO\"),\"\",VLOOKUP($A1028,'Result Entry'!$B$9:$DX$108,89,0))","v":""}]
[null,"◐",{"$f":"'Result Entry'!$CM$3","v":"H&P. EDU."},null,null,{"$f":"IF(OR(C1056=\"\",$I1033=\"NSO\"),\"\",VLOOKUP($A1028,'Result Entry'!$B$9:$DX$108,127,0))","v":"0/100"},null,{"$f":"IF(OR(C1056=\"\",$I1033=\"NSO\"),\"\",VLOOKUP($A1028,'Result Entry'!$B$9:$DX$108,97,0))","v":""},"Signature Of The Class Teacher"]
[null,"◐","Grading System"]
[null,"◐","Grd.","% Range",null,"Description"]
[null,"◐","A","86-100",null,"Excellent",null,null,"Signature And Seal Of Principal/H.M."]
[null,"◐","B","71-85",null,"Very Good"]
[null,"◐","C","51-70",null,"Good"]
[null,"◐","D","31-50",null,"Average"]
[null,"◐","E","0-30",null,"Needs Improvement",null,null,"Wish bright future"]
[]
[]
[{"$f":"A1028+1","v":29},"Department Of Education, Rajasthan"]
[null,{"$f":"IF(I1071>0,CONCATENATE(C1071,I1071),0)","v":0},null,{"$f":"Master!$E$8","v":"Govt.Sr.Sec.Sch. "}]
[{"$nulls":3},{"$f":"Master!$E$11","v":"P.S.-Bapini (Jodhpur)"}]
[null,null,"Report Card",{"$nulls":6},"U-DISE Code:-",null,{"$f":"Master!$E$14","v":{"v":810000000,"d":"0810000000"}}]
[{"$nulls":9},"Session:-",null,{"$f":"Master!$E$6","v":"2022-23"}]
[null,null,"Roll No.:-",{"$nulls":5},{"$f":"VLOOKUP($A1066,'Result Entry'!$B$9:$F$108,5,0)","v":0}]
[null,"◐","Scholar Number",{"$nulls":3},"↠",{"$f":"VLOOKUP($A1066,'Result Entry'!$B$9:$DX$108,3,0)","v":0}]
[null,"◐","Student's Name",{"$nulls":3},"↠",{"$f":"VLOOKUP($A1066,'Result Entry'!$B$9:$DX$108,6,0)","v":0}]
[null,"◐","Father's Name",{"$nulls":3},"↠",{"$f":"VLOOKUP($A1066,'Result Entry'!$B$9:$DX$108,7,0)","v":0}]
[null,"◐","Mother's Name ",{"$nulls":3},"↠",{"$f":"VLOOKUP($A1066,'Result Entry'!$B$9:$DX$108,8,0)","v":0}]
[null,"◐","Class & Section",{"$nulls":3},"↠",{"$f":"CONCATENATE('Result Entry'!$F$4,'Result Entry'!$I$4)","v":"2(A)"}]
[null,"◐","Date Of Birth",{"$nulls":3},"↠",{"$f":"VLOOKUP($A1066,'Result Entry'!$B$9:$DX$108,9,0)","v":"00:00:00"}]
[null,"◐","Subject",{"$nulls":4},"Half Yearly","Total (T+H.Y.)","Yearly","Grand Total",null,"Subject Grade"]
[null,"◐","Max. Marks",{"$nulls":4},{"$f":"'Result Entry'!$Q$7","v":100},{"$f":"G1079+H1079","v":100},{"$f":"'Result Entry'!$U$7","v":100},{"$f":"I1079+J1079","v":200},null,"A/B/C/D/E"]
[null,"◐",{"$f":"'Result Entry'!$K$3","v":"Hindi"},{"$nulls":4},{"$f":"IF(OR(C1080=\"\",$I1071=\"NSO\"),\"\",VLOOKUP($A1066,'Result Entry'!$B$9:$DX$108,16,0))","v":0},{"$f":"SUM(G1080,H1080)","v":0},{"$f":"IF(OR(C1080=\"\",$I1071=\"NSO\"),\"\",VLOOKUP($A1066,'Result Entry'!$B$9:$DX$108,20,0))","v":0},{"$f":"SUM(I1080,J1080)","v":0},null,{"$f":"IF(OR(C1080=\"\",$I1071=\"NSO\"),\"\",VLOOKUP($A1066,'Result Entry'!$B$9:$DX$108,23,0))","v":""}]
[null,"◐",{"$f":"'Result Entry'!$Y$3","v":"Mathematics"},{"$nulls":4},{"$f":"IF(OR(C1081=\"\",$I1071=\"NSO\"),\"\",VLOOKUP($A1066,'Result Entry'!$B$9:$DX$108,30,0))","v":0},{"$f":"SUM(G1081,H1081)","v":0},{"$f":"IF(OR(C1081=\"\",$I1071=\"NSO\"),\"\",VLOOKUP($A1066,'Result Entry'!$B$9:$DX$108,34,0))","v":0},{"$f":"SUM(I1081,J1081)","v":0},null,{"$f":"IF(OR(C1081=\"\",$I1071=\"NSO\"),\"\",VLOOKUP($A1066,'Result Entry'!$B$9:$DX$108,37,0))","v":""}]
[null,"◐",{"$f":"'Result Entry'!$BO$3","v":"Env. Study"},{"$nulls":4},{"$f":"IF(OR(C1082=\"\",$I1071=\"NSO\"),\"\",VLOOKUP($A1066,'Result Entry'!$B$9:$DX$108,66,0))","v":0},0,{"$f":"IF(OR(C1082=\"\",$I1071=\"NSO\"),\"\",VLOOKUP($A1066,'Result Entry'!$B$9:$DX$108,67,0))","v":0},0,null,{"$f":"IF(OR(C1082=\"\",$I1071=\"NSO\"),\"\",VLOOKUP($A1066,'Result Entry'!$B$9:$DX$108,73,0))","v":""}]
[null,"◐","Max. Marks",{"$nulls":4},{"$f":"'Result Entry'!$AS$7","v":50},50,{"$f":"'Result Entry'!$AW$7","v":50},100,null,"A/B/C/D/E"]
[null,"◐",{"$f":"'Result Entry'!$AM$3","v":"English"},{"$nulls":4},{"$f":"IF(OR(C1084=\"\",$I1071=\"NSO\"),\"\",VLOOKUP($A1066,'Result Entry'!$B$9:$DX$108,44,0))","v":0},0,{"$f":"IF(OR(C1084=\"\",$I1071=\"NSO\"),\"\",VLOOKUP($A1066,'Result Entry'!$B$9:$DX$108,48,0))","v":0},0,null,{"$f":"IF(OR(C1084=\"\",$I1071=\"NSO\"),\"\",VLOOKUP($A1066,'Result Entry'!$B$9:$DX$108,51,0))","v":""}]
[null,"◐"]
[null,"◐","Overall Result",null,null,"Total Max. Marks",null,"Total Obtained Marks",null,"Percentage","Overall Grade","Result","Position in Class"]
[null,"◐",{"$nulls":3},{"$f":"IF(OR($I1071=\"\",$I1071=\"NSO\"),\"\",VLOOKUP($A1066,'Result Entry'!$B$9:$DX$108,101,0))","v":500},null,{"$f":"IF(OR($I1071=\"\",$I1071=\"NSO\"),\"\",VLOOKUP($A1066,'Result Entry'!$B$9:$DX$108,102,0))","v":0},null,{"$f":"IF(OR($I1071=\"\",$I1071=\"NSO\"),\"\",VLOOKUP($A1066,'Result Entry'!$B$9:$DX$108,103,0))","v":{"v":0,"d":"0.00"}},{"$f":"IF(OR($I1071=\"\",$I1071=\"NSO\"),\"\",VLOOKUP($A1066,'Result Entry'!$B$9:$DX$108,104,0))","v":""},{"$f":"IF(OR($I1071=\"\",$I1071=\"NSO\"),\"\",VLOOKUP($A1066,'Result Entry'!$B$9:$DX$108,105,0))","v":""},{"$f":"IF(OR($I1071=\"\",$I1071=\"NSO\"),\"\",VLOOKUP($A1066,'Result Entry'!$B$9:$DX$108,107,0))","v":""}]
[null,"◐",{"$nulls":6},"Total Meetings :-",null,{"$f":"IF(OR($I1071=\"\",$I1071=\"NSO\"),\"\",VLOOKUP($A1066,'Result Entry'!$B$9:$DX$108,98,0))","v":0},"Attedance %"]
[null,"◐","Extra Subjects",{"$nulls":5},"Student's Meetings :-",null,{"$f":"IF(OR($I1071=\"\",$I1071=\"NSO\"),\"\",VLOOKUP($A1066,'Result Entry'!$B$9:$DX$108,99,0))","v":0},{"$f":"IF(OR($I1071=\"\",$I1071=\"NSO\"),\"\",VLOOKUP($A1066,'Result Entry'!$B$9:$DX$108,100,0))","v":""}]
[null,"◐","Subject",null,null,"Total Marks",null,"GRADE","Remark :-",null,{"$f":"IF(OR($I1071=\"\",$I1071=\"NSO\"),\"\",VLOOKUP($A1066,'Result Entry'!$B$9:$DX$108,108,0))","v":0}]
[null,"◐",{"$nulls":6},"Result Date :-",null,{"$f":"'Result Entry'!$T$2","v":"2023-05-24"}]
[null,"◐",{"$f":"'Result Entry'!$BW$3","v":"WORK EXP."},null,null,{"$f":"IF(OR(C1092=\"\",$I1071=\"NSO\"),\"\",VLOOKUP($A1066,'Result Entry'!$B$9:$DX$108,119,0))","v":"0/50"},null,{"$f":"IF(OR(C1092=\"\",$I1071=\"NSO\"),\"\",VLOOKUP($A1066,'Result Entry'!$B$9:$DX$108,81,0))","v":""}]
[null,null,{"$f":"'Result Entry'!$CE$3","v":"ART EDU."},null,null,{"$f":"IF(OR(C1093=\"\",$I1071=\"NSO\"),\"\",VLOOKUP($A1066,'Result Entry'!$B$9:$DX$108,123,0))","v":"0/50"},null,{"$f":"IF(OR(C1093=\"\",$I1071=\"NSO\"),\"\",VLOOKUP($A1066,'Result Entry'!$B$9:$DX$108,89,0))","v":""}]
[null,"◐",{"$f":"'Result Entry'!$CM$3","v":"H&P. EDU."},null,null,{"$f":"IF(OR(C1094=\"\",$I1071=\"NSO\"),\"\",VLOOKUP($A1066,'Result Entry'!$B$9:$DX$108,127,0))","v":"0/100"},null,{"$f":"IF(OR(C1094=\"\",$I1071=\"NSO\"),\"\",VLOOKUP($A1066,'Result Entry'!$B$9:$DX$108,97,0))","v":""},"Signature Of The Class Teacher"]
[null,"◐","Grading System"]
[null,"◐","Grd.","% Range",null,"Description"]
[null,"◐","A","86-100",null,"Excellent",null,null,"Signature And Seal Of Principal/H.M."]
[null,"◐","B","71-85",null,"Very Good"]
[null,"◐","C","51-70",null,"Good"]
[null,"◐","D","31-50",null,"Average"]
[null,"◐","E","0-30",null,"Needs Improvement",null,null,"Wish bright future"]
[]
[]
[{"$f":"A1066+1","v":30},"Department Of Education, Rajasthan"]
[null,{"$f":"IF(I1109>0,CONCATENATE(C1109,I1109),0)","v":0},null,{"$f":"Master!$E$8","v":"Govt.Sr.Sec.Sch. "}]
[{"$nulls":3},{"$f":"Master!$E$11","v":"P.S.-Bapini (Jodhpur)"}]
[null,null,"Report Card",{"$nulls":6},"U-DISE Code:-",null,{"$f":"Master!$E$14","v":{"v":810000000,"d":"0810000000"}}]
[{"$nulls":9},"Session:-",null,{"$f":"Master!$E$6","v":"2022-23"}]
[null,null,"Roll No.:-",{"$nulls":5},{"$f":"VLOOKUP($A1104,'Result Entry'!$B$9:$F$108,5,0)","v":0}]
[null,"◐","Scholar Number",{"$nulls":3},"↠",{"$f":"VLOOKUP($A1104,'Result Entry'!$B$9:$DX$108,3,0)","v":0}]
[null,"◐","Student's Name",{"$nulls":3},"↠",{"$f":"VLOOKUP($A1104,'Result Entry'!$B$9:$DX$108,6,0)","v":0}]
[null,"◐","Father's Name",{"$nulls":3},"↠",{"$f":"VLOOKUP($A1104,'Result Entry'!$B$9:$DX$108,7,0)","v":0}]
[null,"◐","Mother's Name ",{"$nulls":3},"↠",{"$f":"VLOOKUP($A1104,'Result Entry'!$B$9:$DX$108,8,0)","v":0}]
[null,"◐","Class & Section",{"$nulls":3},"↠",{"$f":"CONCATENATE('Result Entry'!$F$4,'Result Entry'!$I$4)","v":"2(A)"}]
[null,"◐","Date Of Birth",{"$nulls":3},"↠",{"$f":"VLOOKUP($A1104,'Result Entry'!$B$9:$DX$108,9,0)","v":"00:00:00"}]
[null,"◐","Subject",{"$nulls":4},"Half Yearly","Total (T+H.Y.)","Yearly","Grand Total",null,"Subject Grade"]
[null,"◐","Max. Marks",{"$nulls":4},{"$f":"'Result Entry'!$Q$7","v":100},{"$f":"G1117+H1117","v":100},{"$f":"'Result Entry'!$U$7","v":100},{"$f":"I1117+J1117","v":200},null,"A/B/C/D/E"]
[null,"◐",{"$f":"'Result Entry'!$K$3","v":"Hindi"},{"$nulls":4},{"$f":"IF(OR(C1118=\"\",$I1109=\"NSO\"),\"\",VLOOKUP($A1104,'Result Entry'!$B$9:$DX$108,16,0))","v":0},{"$f":"SUM(G1118,H1118)","v":0},{"$f":"IF(OR(C1118=\"\",$I1109=\"NSO\"),\"\",VLOOKUP($A1104,'Result Entry'!$B$9:$DX$108,20,0))","v":0},{"$f":"SUM(I1118,J1118)","v":0},null,{"$f":"IF(OR(C1118=\"\",$I1109=\"NSO\"),\"\",VLOOKUP($A1104,'Result Entry'!$B$9:$DX$108,23,0))","v":""}]
[null,"◐",{"$f":"'Result Entry'!$Y$3","v":"Mathematics"},{"$nulls":4},{"$f":"IF(OR(C1119=\"\",$I1109=\"NSO\"),\"\",VLOOKUP($A1104,'Result Entry'!$B$9:$DX$108,30,0))","v":0},{"$f":"SUM(G1119,H1119)","v":0},{"$f":"IF(OR(C1119=\"\",$I1109=\"NSO\"),\"\",VLOOKUP($A1104,'Result Entry'!$B$9:$DX$108,34,0))","v":0},{"$f":"SUM(I1119,J1119)","v":0},null,{"$f":"IF(OR(C1119=\"\",$I1109=\"NSO\"),\"\",VLOOKUP($A1104,'Result Entry'!$B$9:$DX$108,37,0))","v":""}]
[null,"◐",{"$f":"'Result Entry'!$BO$3","v":"Env. Study"},{"$nulls":4},{"$f":"IF(OR(C1120=\"\",$I1109=\"NSO\"),\"\",VLOOKUP($A1104,'Result Entry'!$B$9:$DX$108,66,0))","v":0},0,{"$f":"IF(OR(C1120=\"\",$I1109=\"NSO\"),\"\",VLOOKUP($A1104,'Result Entry'!$B$9:$DX$108,67,0))","v":0},0,null,{"$f":"IF(OR(C1120=\"\",$I1109=\"NSO\"),\"\",VLOOKUP($A1104,'Result Entry'!$B$9:$DX$108,73,0))","v":""}]
[null,"◐","Max. Marks",{"$nulls":4},{"$f":"'Result Entry'!$AS$7","v":50},50,{"$f":"'Result Entry'!$AW$7","v":50},100,null,"A/B/C/D/E"]
[null,"◐",{"$f":"'Result Entry'!$AM$3","v":"English"},{"$nulls":4},{"$f":"IF(OR(C1122=\"\",$I1109=\"NSO\"),\"\",VLOOKUP($A1104,'Result Entry'!$B$9:$DX$108,44,0))","v":0},0,{"$f":"IF(OR(C1122=\"\",$I1109=\"NSO\"),\"\",VLOOKUP($A1104,'Result Entry'!$B$9:$DX$108,48,0))","v":0},0,null,{"$f":"IF(OR(C1122=\"\",$I1109=\"NSO\"),\"\",VLOOKUP($A1104,'Result Entry'!$B$9:$DX$108,51,0))","v":""}]
[null,"◐"]
[null,"◐","Overall Result",null,null,"Total Max. Marks",null,"Total Obtained Marks",null,"Percentage","Overall Grade","Result","Position in Class"]
[null,"◐",{"$nulls":3},{"$f":"IF(OR($I1109=\"\",$I1109=\"NSO\"),\"\",VLOOKUP($A1104,'Result Entry'!$B$9:$DX$108,101,0))","v":500},null,{"$f":"IF(OR($I1109=\"\",$I1109=\"NSO\"),\"\",VLOOKUP($A1104,'Result Entry'!$B$9:$DX$108,102,0))","v":0},null,{"$f":"IF(OR($I1109=\"\",$I1109=\"NSO\"),\"\",VLOOKUP($A1104,'Result Entry'!$B$9:$DX$108,103,0))","v":{"v":0,"d":"0.00"}},{"$f":"IF(OR($I1109=\"\",$I1109=\"NSO\"),\"\",VLOOKUP($A1104,'Result Entry'!$B$9:$DX$108,104,0))","v":""},{"$f":"IF(OR($I1109=\"\",$I1109=\"NSO\"),\"\",VLOOKUP($A1104,'Result Entry'!$B$9:$DX$108,105,0))","v":""},{"$f":"IF(OR($I1109=\"\",$I1109=\"NSO\"),\"\",VLOOKUP($A1104,'Result Entry'!$B$9:$DX$108,107,0))","v":""}]
[null,"◐",{"$nulls":6},"Total Meetings :-",null,{"$f":"IF(OR($I1109=\"\",$I1109=\"NSO\"),\"\",VLOOKUP($A1104,'Result Entry'!$B$9:$DX$108,98,0))","v":0},"Attedance %"]
[null,"◐","Extra Subjects",{"$nulls":5},"Student's Meetings :-",null,{"$f":"IF(OR($I1109=\"\",$I1109=\"NSO\"),\"\",VLOOKUP($A1104,'Result Entry'!$B$9:$DX$108,99,0))","v":0},{"$f":"IF(OR($I1109=\"\",$I1109=\"NSO\"),\"\",VLOOKUP($A1104,'Result Entry'!$B$9:$DX$108,100,0))","v":""}]
[null,"◐","Subject",null,null,"Total Marks",null,"GRADE","Remark :-",null,{"$f":"IF(OR($I1109=\"\",$I1109=\"NSO\"),\"\",VLOOKUP($A1104,'Result Entry'!$B$9:$DX$108,108,0))","v":0}]
[null,"◐",{"$nulls":6},"Result Date :-",null,{"$f":"'Result Entry'!$T$2","v":"2023-05-24"}]
[null,"◐",{"$f":"'Result Entry'!$BW$3","v":"WORK EXP."},null,null,{"$f":"IF(OR(C1130=\"\",$I1109=\"NSO\"),\"\",VLOOKUP($A1104,'Result Entry'!$B$9:$DX$108,119,0))","v":"0/50"},null,{"$f":"IF(OR(C1130=\"\",$I1109=\"NSO\"),\"\",VLOOKUP($A1104,'Result Entry'!$B$9:$DX$108,81,0))","v":""}]
[null,null,{"$f":"'Result Entry'!$CE$3","v":"ART EDU."},null,null,{"$f":"IF(OR(C1131=\"\",$I1109=\"NSO\"),\"\",VLOOKUP($A1104,'Result Entry'!$B$9:$DX$108,123,0))","v":"0/50"},null,{"$f":"IF(OR(C1131=\"\",$I1109=\"NSO\"),\"\",VLOOKUP($A1104,'Result Entry'!$B$9:$DX$108,89,0))","v":""}]
[null,"◐",{"$f":"'Result Entry'!$CM$3","v":"H&P. EDU."},null,null,{"$f":"IF(OR(C1132=\"\",$I1109=\"NSO\"),\"\",VLOOKUP($A1104,'Result Entry'!$B$9:$DX$108,127,0))","v":"0/100"},null,{"$f":"IF(OR(C1132=\"\",$I1109=\"NSO\"),\"\",VLOOKUP($A1104,'Result Entry'!$B$9:$DX$108,97,0))","v":""},"Signature Of The Class Teacher"]
[null,"◐","Grading System"]
[null,"◐","Grd.","% Range",null,"Description"]
[null,"◐","A","86-100",null,"Excellent",null,null,"Signature And Seal Of Principal/H.M."]
[null,"◐","B","71-85",null,"Very Good"]
[null,"◐","C","51-70",null,"Good"]
[null,"◐","D","31-50",null,"Average"]
[null,"◐","E","0-30",null,"Needs Improvement",null,null,"Wish bright future"]
[]
[]
[{"$f":"A1104+1","v":31},"Department Of Education, Rajasthan"]
[null,{"$f":"IF(I1147>0,CONCATENATE(C1147,I1147),0)","v":0},null,{"$f":"Master!$E$8","v":"Govt.Sr.Sec.Sch. "}]
[{"$nulls":3},{"$f":"Master!$E$11","v":"P.S.-Bapini (Jodhpur)"}]
[null,null,"Report Card",{"$nulls":6},"U-DISE Code:-",null,{"$f":"Master!$E$14","v":{"v":810000000,"d":"0810000000"}}]
[{"$nulls":9},"Session:-",null,{"$f":"Master!$E$6","v":"2022-23"}]
[null,null,"Roll No.:-",{"$nulls":5},{"$f":"VLOOKUP($A1142,'Result Entry'!$B$9:$F$108,5,0)","v":0}]
[null,"◐","Scholar Number",{"$nulls":3},"↠",{"$f":"VLOOKUP($A1142,'Result Entry'!$B$9:$DX$108,3,0)","v":0}]
[null,"◐","Student's Name",{"$nulls":3},"↠",{"$f":"VLOOKUP($A1142,'Result Entry'!$B$9:$DX$108,6,0)","v":0}]
[null,"◐","Father's Name",{"$nulls":3},"↠",{"$f":"VLOOKUP($A1142,'Result Entry'!$B$9:$DX$108,7,0)","v":0}]
[null,"◐","Mother's Name ",{"$nulls":3},"↠",{"$f":"VLOOKUP($A1142,'Result Entry'!$B$9:$DX$108,8,0)","v":0}]
[null,"◐","Class & Section",{"$nulls":3},"↠",{"$f":"CONCATENATE('Result Entry'!$F$4,'Result Entry'!$I$4)","v":"2(A)"}]
[null,"◐","Date Of Birth",{"$nulls":3},"↠",{"$f":"VLOOKUP($A1142,'Result Entry'!$B$9:$DX$108,9,0)","v":"00:00:00"}]
[null,"◐","Subject",{"$nulls":4},"Half Yearly","Total (T+H.Y.)","Yearly","Grand Total",null,"Subject Grade"]
[null,"◐","Max. Marks",{"$nulls":4},{"$f":"'Result Entry'!$Q$7","v":100},{"$f":"G1155+H1155","v":100},{"$f":"'Result Entry'!$U$7","v":100},{"$f":"I1155+J1155","v":200},null,"A/B/C/D/E"]
[null,"◐",{"$f":"'Result Entry'!$K$3","v":"Hindi"},{"$nulls":4},{"$f":"IF(OR(C1156=\"\",$I1147=\"NSO\"),\"\",VLOOKUP($A1142,'Result Entry'!$B$9:$DX$108,16,0))","v":0},{"$f":"SUM(G1156,H1156)","v":0},{"$f":"IF(OR(C1156=\"\",$I1147=\"NSO\"),\"\",VLOOKUP($A1142,'Result Entry'!$B$9:$DX$108,20,0))","v":0},{"$f":"SUM(I1156,J1156)","v":0},null,{"$f":"IF(OR(C1156=\"\",$I1147=\"NSO\"),\"\",VLOOKUP($A1142,'Result Entry'!$B$9:$DX$108,23,0))","v":""}]
[null,"◐",{"$f":"'Result Entry'!$Y$3","v":"Mathematics"},{"$nulls":4},{"$f":"IF(OR(C1157=\"\",$I1147=\"NSO\"),\"\",VLOOKUP($A1142,'Result Entry'!$B$9:$DX$108,30,0))","v":0},{"$f":"SUM(G1157,H1157)","v":0},{"$f":"IF(OR(C1157=\"\",$I1147=\"NSO\"),\"\",VLOOKUP($A1142,'Result Entry'!$B$9:$DX$108,34,0))","v":0},{"$f":"SUM(I1157,J1157)","v":0},null,{"$f":"IF(OR(C1157=\"\",$I1147=\"NSO\"),\"\",VLOOKUP($A1142,'Result Entry'!$B$9:$DX$108,37,0))","v":""}]
[null,"◐",{"$f":"'Result Entry'!$BO$3","v":"Env. Study"},{"$nulls":4},{"$f":"IF(OR(C1158=\"\",$I1147=\"NSO\"),\"\",VLOOKUP($A1142,'Result Entry'!$B$9:$DX$108,66,0))","v":0},0,{"$f":"IF(OR(C1158=\"\",$I1147=\"NSO\"),\"\",VLOOKUP($A1142,'Result Entry'!$B$9:$DX$108,67,0))","v":0},0,null,{"$f":"IF(OR(C1158=\"\",$I1147=\"NSO\"),\"\",VLOOKUP($A1142,'Result Entry'!$B$9:$DX$108,73,0))","v":""}]
[null,"◐","Max. Marks",{"$nulls":4},{"$f":"'Result Entry'!$AS$7","v":50},50,{"$f":"'Result Entry'!$AW$7","v":50},100,null,"A/B/C/D/E"]
[null,"◐",{"$f":"'Result Entry'!$AM$3","v":"English"},{"$nulls":4},{"$f":"IF(OR(C1160=\"\",$I1147=\"NSO\"),\"\",VLOOKUP($A1142,'Result Entry'!$B$9:$DX$108,44,0))","v":0},0,{"$f":"IF(OR(C1160=\"\",$I1147=\"NSO\"),\"\",VLOOKUP($A1142,'Result Entry'!$B$9:$DX$108,48,0))","v":0},0,null,{"$f":"IF(OR(C1160=\"\",$I1147=\"NSO\"),\"\",VLOOKUP($A1142,'Result Entry'!$B$9:$DX$108,51,0))","v":""}]
[null,"◐"]
[null,"◐","Overall Result",null,null,"Total Max. Marks",null,"Total Obtained Marks",null,"Percentage","Overall Grade","Result","Position in Class"]
[null,"◐",{"$nulls":3},{"$f":"IF(OR($I1147=\"\",$I1147=\"NSO\"),\"\",VLOOKUP($A1142,'Result Entry'!$B$9:$DX$108,101,0))","v":500},null,{"$f":"IF(OR($I1147=\"\",$I1147=\"NSO\"),\"\",VLOOKUP($A1142,'Result Entry'!$B$9:$DX$108,102,0))","v":0},null,{"$f":"IF(OR($I1147=\"\",$I1147=\"NSO\"),\"\",VLOOKUP($A1142,'Result Entry'!$B$9:$DX$108,103,0))","v":{"v":0,"d":"0.00"}},{"$f":"IF(OR($I1147=\"\",$I1147=\"NSO\"),\"\",VLOOKUP($A1142,'Result Entry'!$B$9:$DX$108,104,0))","v":""},{"$f":"IF(OR($I1147=\"\",$I1147=\"NSO\"),\"\",VLOOKUP($A1142,'Result Entry'!$B$9:$DX$108,105,0))","v":""},{"$f":"IF(OR($I1147=\"\",$I1147=\"NSO\"),\"\",VLOOKUP($A1142,'Result Entry'!$B$9:$DX$108,107,0))","v":""}]
[null,"◐",{"$nulls":6},"Total Meetings :-",null,{"$f":"IF(OR($I1147=\"\",$I1147=\"NSO\"),\"\",VLOOKUP($A1142,'Result Entry'!$B$9:$DX$108,98,0))","v":0},"Attedance %"]
[null,"◐","Extra Subjects",{"$nulls":5},"Student's Meetings :-",null,{"$f":"IF(OR($I1147=\"\",$I1147=\"NSO\"),\"\",VLOOKUP($A1142,'Result Entry'!$B$9:$DX$108,99,0))","v":0},{"$f":"IF(OR($I1147=\"\",$I1147=\"NSO\"),\"\",VLOOKUP($A1142,'Result Entry'!$B$9:$DX$108,100,0))","v":""}]
[null,"◐","Subject",null,null,"Total Marks",null,"GRADE","Remark :-",null,{"$f":"IF(OR($I1147=\"\",$I1147=\"NSO\"),\"\",VLOOKUP($A1142,'Result Entry'!$B$9:$DX$108,108,0))","v":0}]
[null,"◐",{"$nulls":6},"Result Date :-",null,{"$f":"'Result Entry'!$T$2","v":"2023-05-24"}]
[null,"◐",{"$f":"'Result Entry'!$BW$3","v":"WORK EXP."},null,null,{"$f":"IF(OR(C1168=\"\",$I1147=\"NSO\"),\"\",VLOOKUP($A1142,'Result Entry'!$B$9:$DX$108,119,0))","v":"0/50"},null,{"$f":"IF(OR(C1168=\"\",$I1147=\"NSO\"),\"\",VLOOKUP($A1142,'Result Entry'!$B$9:$DX$108,81,0))","v":""}]
[null,null,{"$f":"'Result Entry'!$CE$3","v":"ART EDU."},null,null,{"$f":"IF(OR(C1169=\"\",$I1147=\"NSO\"),\"\",VLOOKUP($A1142,'Result Entry'!$B$9:$DX$108,123,0))","v":"0/50"},null,{"$f":"IF(OR(C1169=\"\",$I1147=\"NSO\"),\"\",VLOOKUP($A1142,'Result Entry'!$B$9:$DX$108,89,0))","v":""}]
[null,"◐",{"$f":"'Result Entry'!$CM$3","v":"H&P. EDU."},null,null,{"$f":"IF(OR(C1170=\"\",$I1147=\"NSO\"),\"\",VLOOKUP($A1142,'Result Entry'!$B$9:$DX$108,127,0))","v":"0/100"},null,{"$f":"IF(OR(C1170=\"\",$I1147=\"NSO\"),\"\",VLOOKUP($A1142,'Result Entry'!$B$9:$DX$108,97,0))","v":""},"Signature Of The Class Teacher"]
[null,"◐","Grading System"]
[null,"◐","Grd.","% Range",null,"Description"]
[null,"◐","A","86-100",null,"Excellent",null,null,"Signature And Seal Of Principal/H.M."]
[null,"◐","B","71-85",null,"Very Good"]
[null,"◐","C","51-70",null,"Good"]
[null,"◐","D","31-50",null,"Average"]
[null,"◐","E","0-30",null,"Needs Improvement",null,null,"Wish bright future"]
[]
[]
[{"$f":"A1142+1","v":32},"Department Of Education, Rajasthan"]
[null,{"$f":"IF(I1185>0,CONCATENATE(C1185,I1185),0)","v":0},null,{"$f":"Master!$E$8","v":"Govt.Sr.Sec.Sch. "}]
[{"$nulls":3},{"$f":"Master!$E$11","v":"P.S.-Bapini (Jodhpur)"}]
[null,null,"Report Card",{"$nulls":6},"U-DISE Code:-",null,{"$f":"Master!$E$14","v":{"v":810000000,"d":"0810000000"}}]
[{"$nulls":9},"Session:-",null,{"$f":"Master!$E$6","v":"2022-23"}]
[null,null,"Roll No.:-",{"$nulls":5},{"$f":"VLOOKUP($A1180,'Result Entry'!$B$9:$F$108,5,0)","v":0}]
[null,"◐","Scholar Number",{"$nulls":3},"↠",{"$f":"VLOOKUP($A1180,'Result Entry'!$B$9:$DX$108,3,0)","v":0}]
[null,"◐","Student's Name",{"$nulls":3},"↠",{"$f":"VLOOKUP($A1180,'Result Entry'!$B$9:$DX$108,6,0)","v":0}]
[null,"◐","Father's Name",{"$nulls":3},"↠",{"$f":"VLOOKUP($A1180,'Result Entry'!$B$9:$DX$108,7,0)","v":0}]
[null,"◐","Mother's Name ",{"$nulls":3},"↠",{"$f":"VLOOKUP($A1180,'Result Entry'!$B$9:$DX$108,8,0)","v":0}]
[null,"◐","Class & Section",{"$nulls":3},"↠",{"$f":"CONCATENATE('Result Entry'!$F$4,'Result Entry'!$I$4)","v":"2(A)"}]
[null,"◐","Date Of Birth",{"$nulls":3},"↠",{"$f":"VLOOKUP($A1180,'Result Entry'!$B$9:$DX$108,9,0)","v":"00:00:00"}]
[null,"◐","Subject",{"$nulls":4},"Half Yearly","Total (T+H.Y.)","Yearly","Grand Total",null,"Subject Grade"]
[null,"◐","Max. Marks",{"$nulls":4},{"$f":"'Result Entry'!$Q$7","v":100},{"$f":"G1193+H1193","v":100},{"$f":"'Result Entry'!$U$7","v":100},{"$f":"I1193+J1193","v":200},null,"A/B/C/D/E"]
[null,"◐",{"$f":"'Result Entry'!$K$3","v":"Hindi"},{"$nulls":4},{"$f":"IF(OR(C1194=\"\",$I1185=\"NSO\"),\"\",VLOOKUP($A1180,'Result Entry'!$B$9:$DX$108,16,0))","v":0},{"$f":"SUM(G1194,H1194)","v":0},{"$f":"IF(OR(C1194=\"\",$I1185=\"NSO\"),\"\",VLOOKUP($A1180,'Result Entry'!$B$9:$DX$108,20,0))","v":0},{"$f":"SUM(I1194,J1194)","v":0},null,{"$f":"IF(OR(C1194=\"\",$I1185=\"NSO\"),\"\",VLOOKUP($A1180,'Result Entry'!$B$9:$DX$108,23,0))","v":""}]
[null,"◐",{"$f":"'Result Entry'!$Y$3","v":"Mathematics"},{"$nulls":4},{"$f":"IF(OR(C1195=\"\",$I1185=\"NSO\"),\"\",VLOOKUP($A1180,'Result Entry'!$B$9:$DX$108,30,0))","v":0},{"$f":"SUM(G1195,H1195)","v":0},{"$f":"IF(OR(C1195=\"\",$I1185=\"NSO\"),\"\",VLOOKUP($A1180,'Result Entry'!$B$9:$DX$108,34,0))","v":0},{"$f":"SUM(I1195,J1195)","v":0},null,{"$f":"IF(OR(C1195=\"\",$I1185=\"NSO\"),\"\",VLOOKUP($A1180,'Result Entry'!$B$9:$DX$108,37,0))","v":""}]
[null,"◐",{"$f":"'Result Entry'!$BO$3","v":"Env. Study"},{"$nulls":4},{"$f":"IF(OR(C1196=\"\",$I1185=\"NSO\"),\"\",VLOOKUP($A1180,'Result Entry'!$B$9:$DX$108,66,0))","v":0},0,{"$f":"IF(OR(C1196=\"\",$I1185=\"NSO\"),\"\",VLOOKUP($A1180,'Result Entry'!$B$9:$DX$108,67,0))","v":0},0,null,{"$f":"IF(OR(C1196=\"\",$I1185=\"NSO\"),\"\",VLOOKUP($A1180,'Result Entry'!$B$9:$DX$108,73,0))","v":""}]
[null,"◐","Max. Marks",{"$nulls":4},{"$f":"'Result Entry'!$AS$7","v":50},50,{"$f":"'Result Entry'!$AW$7","v":50},100,null,"A/B/C/D/E"]
[null,"◐",{"$f":"'Result Entry'!$AM$3","v":"English"},{"$nulls":4},{"$f":"IF(OR(C1198=\"\",$I1185=\"NSO\"),\"\",VLOOKUP($A1180,'Result Entry'!$B$9:$DX$108,44,0))","v":0},0,{"$f":"IF(OR(C1198=\"\",$I1185=\"NSO\"),\"\",VLOOKUP($A1180,'Result Entry'!$B$9:$DX$108,48,0))","v":0},0,null,{"$f":"IF(OR(C1198=\"\",$I1185=\"NSO\"),\"\",VLOOKUP($A1180,'Result Entry'!$B$9:$DX$108,51,0))","v":""}]
[null,"◐"]
[null,"◐","Overall Result",null,null,"Total Max. Marks",null,"Total Obtained Marks",null,"Percentage","Overall Grade","Result","Position in Class"]
[null,"◐",{"$nulls":3},{"$f":"IF(OR($I1185=\"\",$I1185=\"NSO\"),\"\",VLOOKUP($A1180,'Result Entry'!$B$9:$DX$108,101,0))","v":500},null,{"$f":"IF(OR($I1185=\"\",$I1185=\"NSO\"),\"\",VLOOKUP($A1180,'Result Entry'!$B$9:$DX$108,102,0))","v":0},null,{"$f":"IF(OR($I1185=\"\",$I1185=\"NSO\"),\"\",VLOOKUP($A1180,'Result Entry'!$B$9:$DX$108,103,0))","v":{"v":0,"d":"0.00"}},{"$f":"IF(OR($I1185=\"\",$I1185=\"NSO\"),\"\",VLOOKUP($A1180,'Result Entry'!$B$9:$DX$108,104,0))","v":""},{"$f":"IF(OR($I1185=\"\",$I1185=\"NSO\"),\"\",VLOOKUP($A1180,'Result Entry'!$B$9:$DX$108,105,0))","v":""},{"$f":"IF(OR($I1185=\"\",$I1185=\"NSO\"),\"\",VLOOKUP($A1180,'Result Entry'!$B$9:$DX$108,107,0))","v":""}]
[null,"◐",{"$nulls":6},"Total Meetings :-",null,{"$f":"IF(OR($I1185=\"\",$I1185=\"NSO\"),\"\",VLOOKUP($A1180,'Result Entry'!$B$9:$DX$108,98,0))","v":0},"Attedance %"]
[null,"◐","Extra Subjects",{"$nulls":5},"Student's Meetings :-",null,{"$f":"IF(OR($I1185=\"\",$I1185=\"NSO\"),\"\",VLOOKUP($A1180,'Result Entry'!$B$9:$DX$108,99,0))","v":0},{"$f":"IF(OR($I1185=\"\",$I1185=\"NSO\"),\"\",VLOOKUP($A1180,'Result Entry'!$B$9:$DX$108,100,0))","v":""}]
[null,"◐","Subject",null,null,"Total Marks",null,"GRADE","Remark :-",null,{"$f":"IF(OR($I1185=\"\",$I1185=\"NSO\"),\"\",VLOOKUP($A1180,'Result Entry'!$B$9:$DX$108,108,0))","v":0}]
[null,"◐",{"$nulls":6},"Result Date :-",null,{"$f":"'Result Entry'!$T$2","v":"2023-05-24"}]
[null,"◐",{"$f":"'Result Entry'!$BW$3","v":"WORK EXP."},null,null,{"$f":"IF(OR(C1206=\"\",$I1185=\"NSO\"),\"\",VLOOKUP($A1180,'Result Entry'!$B$9:$DX$108,119,0))","v":"0/50"},null,{"$f":"IF(OR(C1206=\"\",$I1185=\"NSO\"),\"\",VLOOKUP($A1180,'Result Entry'!$B$9:$DX$108,81,0))","v":""}]
[null,null,{"$f":"'Result Entry'!$CE$3","v":"ART EDU."},null,null,{"$f":"IF(OR(C1207=\"\",$I1185=\"NSO\"),\"\",VLOOKUP($A1180,'Result Entry'!$B$9:$DX$108,123,0))","v":"0/50"},null,{"$f":"IF(OR(C1207=\"\",$I1185=\"NSO\"),\"\",VLOOKUP($A1180,'Result Entry'!$B$9:$DX$108,89,0))","v":""}]
[null,"◐",{"$f":"'Result Entry'!$CM$3","v":"H&P. EDU."},null,null,{"$f":"IF(OR(C1208=\"\",$I1185=\"NSO\"),\"\",VLOOKUP($A1180,'Result Entry'!$B$9:$DX$108,127,0))","v":"0/100"},null,{"$f":"IF(OR(C1208=\"\",$I1185=\"NSO\"),\"\",VLOOKUP($A1180,'Result Entry'!$B$9:$DX$108,97,0))","v":""},"Signature Of The Class Teacher"]
[null,"◐","Grading System"]
[null,"◐","Grd.","% Range",null,"Description"]
[null,"◐","A","86-100",null,"Excellent",null,null,"Signature And Seal Of Principal/H.M."]
[null,"◐","B","71-85",null,"Very Good"]
[null,"◐","C","51-70",null,"Good"]
[null,"◐","D","31-50",null,"Average"]
[null,"◐","E","0-30",null,"Needs Improvement",null,null,"Wish bright future"]
[]
[]
[{"$f":"A1180+1","v":33},"Department Of Education, Rajasthan"]
[null,{"$f":"IF(I1223>0,CONCATENATE(C1223,I1223),0)","v":0},null,{"$f":"Master!$E$8","v":"Govt.Sr.Sec.Sch. "}]
[{"$nulls":3},{"$f":"Master!$E$11","v":"P.S.-Bapini (Jodhpur)"}]
[null,null,"Report Card",{"$nulls":6},"U-DISE Code:-",null,{"$f":"Master!$E$14","v":{"v":810000000,"d":"0810000000"}}]
[{"$nulls":9},"Session:-",null,{"$f":"Master!$E$6","v":"2022-23"}]
[null,null,"Roll No.:-",{"$nulls":5},{"$f":"VLOOKUP($A1218,'Result Entry'!$B$9:$F$108,5,0)","v":0}]
[null,"◐","Scholar Number",{"$nulls":3},"↠",{"$f":"VLOOKUP($A1218,'Result Entry'!$B$9:$DX$108,3,0)","v":0}]
[null,"◐","Student's Name",{"$nulls":3},"↠",{"$f":"VLOOKUP($A1218,'Result Entry'!$B$9:$DX$108,6,0)","v":0}]
[null,"◐","Father's Name",{"$nulls":3},"↠",{"$f":"VLOOKUP($A1218,'Result Entry'!$B$9:$DX$108,7,0)","v":0}]
[null,"◐","Mother's Name ",{"$nulls":3},"↠",{"$f":"VLOOKUP($A1218,'Result Entry'!$B$9:$DX$108,8,0)","v":0}]
[null,"◐","Class & Section",{"$nulls":3},"↠",{"$f":"CONCATENATE('Result Entry'!$F$4,'Result Entry'!$I$4)","v":"2(A)"}]
[null,"◐","Date Of Birth",{"$nulls":3},"↠",{"$f":"VLOOKUP($A1218,'Result Entry'!$B$9:$DX$108,9,0)","v":"00:00:00"}]
[null,"◐","Subject",{"$nulls":4},"Half Yearly","Total (T+H.Y.)","Yearly","Grand Total",null,"Subject Grade"]
[null,"◐","Max. Marks",{"$nulls":4},{"$f":"'Result Entry'!$Q$7","v":100},{"$f":"G1231+H1231","v":100},{"$f":"'Result Entry'!$U$7","v":100},{"$f":"I1231+J1231","v":200},null,"A/B/C/D/E"]
[null,"◐",{"$f":"'Result Entry'!$K$3","v":"Hindi"},{"$nulls":4},{"$f":"IF(OR(C1232=\"\",$I1223=\"NSO\"),\"\",VLOOKUP($A1218,'Result Entry'!$B$9:$DX$108,16,0))","v":0},{"$f":"SUM(G1232,H1232)","v":0},{"$f":"IF(OR(C1232=\"\",$I1223=\"NSO\"),\"\",VLOOKUP($A1218,'Result Entry'!$B$9:$DX$108,20,0))","v":0},{"$f":"SUM(I1232,J1232)","v":0},null,{"$f":"IF(OR(C1232=\"\",$I1223=\"NSO\"),\"\",VLOOKUP($A1218,'Result Entry'!$B$9:$DX$108,23,0))","v":""}]
[null,"◐",{"$f":"'Result Entry'!$Y$3","v":"Mathematics"},{"$nulls":4},{"$f":"IF(OR(C1233=\"\",$I1223=\"NSO\"),\"\",VLOOKUP($A1218,'Result Entry'!$B$9:$DX$108,30,0))","v":0},{"$f":"SUM(G1233,H1233)","v":0},{"$f":"IF(OR(C1233=\"\",$I1223=\"NSO\"),\"\",VLOOKUP($A1218,'Result Entry'!$B$9:$DX$108,34,0))","v":0},{"$f":"SUM(I1233,J1233)","v":0},null,{"$f":"IF(OR(C1233=\"\",$I1223=\"NSO\"),\"\",VLOOKUP($A1218,'Result Entry'!$B$9:$DX$108,37,0))","v":""}]
[null,"◐",{"$f":"'Result Entry'!$BO$3","v":"Env. Study"},{"$nulls":4},{"$f":"IF(OR(C1234=\"\",$I1223=\"NSO\"),\"\",VLOOKUP($A1218,'Result Entry'!$B$9:$DX$108,66,0))","v":0},0,{"$f":"IF(OR(C1234=\"\",$I1223=\"NSO\"),\"\",VLOOKUP($A1218,'Result Entry'!$B$9:$DX$108,67,0))","v":0},0,null,{"$f":"IF(OR(C1234=\"\",$I1223=\"NSO\"),\"\",VLOOKUP($A1218,'Result Entry'!$B$9:$DX$108,73,0))","v":""}]
[null,"◐","Max. Marks",{"$nulls":4},{"$f":"'Result Entry'!$AS$7","v":50},50,{"$f":"'Result Entry'!$AW$7","v":50},100,null,"A/B/C/D/E"]
[null,"◐",{"$f":"'Result Entry'!$AM$3","v":"English"},{"$nulls":4},{"$f":"IF(OR(C1236=\"\",$I1223=\"NSO\"),\"\",VLOOKUP($A1218,'Result Entry'!$B$9:$DX$108,44,0))","v":0},0,{"$f":"IF(OR(C1236=\"\",$I1223=\"NSO\"),\"\",VLOOKUP($A1218,'Result Entry'!$B$9:$DX$108,48,0))","v":0},0,null,{"$f":"IF(OR(C1236=\"\",$I1223=\"NSO\"),\"\",VLOOKUP($A1218,'Result Entry'!$B$9:$DX$108,51,0))","v":""}]
[null,"◐"]
[null,"◐","Overall Result",null,null,"Total Max. Marks",null,"Total Obtained Marks",null,"Percentage","Overall Grade","Result","Position in Class"]
[null,"◐",{"$nulls":3},{"$f":"IF(OR($I1223=\"\",$I1223=\"NSO\"),\"\",VLOOKUP($A1218,'Result Entry'!$B$9:$DX$108,101,0))","v":500},null,{"$f":"IF(OR($I1223=\"\",$I1223=\"NSO\"),\"\",VLOOKUP($A1218,'Result Entry'!$B$9:$DX$108,102,0))","v":0},null,{"$f":"IF(OR($I1223=\"\",$I1223=\"NSO\"),\"\",VLOOKUP($A1218,'Result Entry'!$B$9:$DX$108,103,0))","v":{"v":0,"d":"0.00"}},{"$f":"IF(OR($I1223=\"\",$I1223=\"NSO\"),\"\",VLOOKUP($A1218,'Result Entry'!$B$9:$DX$108,104,0))","v":""},{"$f":"IF(OR($I1223=\"\",$I1223=\"NSO\"),\"\",VLOOKUP($A1218,'Result Entry'!$B$9:$DX$108,105,0))","v":""},{"$f":"IF(OR($I1223=\"\",$I1223=\"NSO\"),\"\",VLOOKUP($A1218,'Result Entry'!$B$9:$DX$108,107,0))","v":""}]
[null,"◐",{"$nulls":6},"Total Meetings :-",null,{"$f":"IF(OR($I1223=\"\",$I1223=\"NSO\"),\"\",VLOOKUP($A1218,'Result Entry'!$B$9:$DX$108,98,0))","v":0},"Attedance %"]
[null,"◐","Extra Subjects",{"$nulls":5},"Student's Meetings :-",null,{"$f":"IF(OR($I1223=\"\",$I1223=\"NSO\"),\"\",VLOOKUP($A1218,'Result Entry'!$B$9:$DX$108,99,0))","v":0},{"$f":"IF(OR($I1223=\"\",$I1223=\"NSO\"),\"\",VLOOKUP($A1218,'Result Entry'!$B$9:$DX$108,100,0))","v":""}]
[null,"◐","Subject",null,null,"Total Marks",null,"GRADE","Remark :-",null,{"$f":"IF(OR($I1223=\"\",$I1223=\"NSO\"),\"\",VLOOKUP($A1218,'Result Entry'!$B$9:$DX$108,108,0))","v":0}]
[null,"◐",{"$nulls":6},"Result Date :-",null,{"$f":"'Result Entry'!$T$2","v":"2023-05-24"}]
[null,"◐",{"$f":"'Result Entry'!$BW$3","v":"WORK EXP."},null,null,{"$f":"IF(OR(C1244=\"\",$I1223=\"NSO\"),\"\",VLOOKUP($A1218,'Result Entry'!$B$9:$DX$108,119,0))","v":"0/50"},null,{"$f":"IF(OR(C1244=\"\",$I1223=\"NSO\"),\"\",VLOOKUP($A1218,'Result Entry'!$B$9:$DX$108,81,0))","v":""}]
[null,null,{"$f":"'Result Entry'!$CE$3","v":"ART EDU."},null,null,{"$f":"IF(OR(C1245=\"\",$I1223=\"NSO\"),\"\",VLOOKUP($A1218,'Result Entry'!$B$9:$DX$108,123,0))","v":"0/50"},null,{"$f":"IF(OR(C1245=\"\",$I1223=\"NSO\"),\"\",VLOOKUP($A1218,'Result Entry'!$B$9:$DX$108,89,0))","v":""}]
[null,"◐",{"$f":"'Result Entry'!$CM$3","v":"H&P. EDU."},null,null,{"$f":"IF(OR(C1246=\"\",$I1223=\"NSO\"),\"\",VLOOKUP($A1218,'Result Entry'!$B$9:$DX$108,127,0))","v":"0/100"},null,{"$f":"IF(OR(C1246=\"\",$I1223=\"NSO\"),\"\",VLOOKUP($A1218,'Result Entry'!$B$9:$DX$108,97,0))","v":""},"Signature Of The Class Teacher"]
[null,"◐","Grading System"]
[null,"◐","Grd.","% Range",null,"Description"]
[null,"◐","A","86-100",null,"Excellent",null,null,"Signature And Seal Of Principal/H.M."]
[null,"◐","B","71-85",null,"Very Good"]
[null,"◐","C","51-70",null,"Good"]
[null,"◐","D","31-50",null,"Average"]
[null,"◐","E","0-30",null,"Needs Improvement",null,null,"Wish bright future"]
[]
[]
[{"$f":"A1218+1","v":34},"Department Of Education, Rajasthan"]
[null,{"$f":"IF(I1261>0,CONCATENATE(C1261,I1261),0)","v":0},null,{"$f":"Master!$E$8","v":"Govt.Sr.Sec.Sch. "}]
[{"$nulls":3},{"$f":"Master!$E$11","v":"P.S.-Bapini (Jodhpur)"}]
[null,null,"Report Card",{"$nulls":6},"U-DISE Code:-",null,{"$f":"Master!$E$14","v":{"v":810000000,"d":"0810000000"}}]
[{"$nulls":9},"Session:-",null,{"$f":"Master!$E$6","v":"2022-23"}]
[null,null,"Roll No.:-",{"$nulls":5},{"$f":"VLOOKUP($A1256,'Result Entry'!$B$9:$F$108,5,0)","v":0}]
[null,"◐","Scholar Number",{"$nulls":3},"↠",{"$f":"VLOOKUP($A1256,'Result Entry'!$B$9:$DX$108,3,0)","v":0}]
[null,"◐","Student's Name",{"$nulls":3},"↠",{"$f":"VLOOKUP($A1256,'Result Entry'!$B$9:$DX$108,6,0)","v":0}]
[null,"◐","Father's Name",{"$nulls":3},"↠",{"$f":"VLOOKUP($A1256,'Result Entry'!$B$9:$DX$108,7,0)","v":0}]
[null,"◐","Mother's Name ",{"$nulls":3},"↠",{"$f":"VLOOKUP($A1256,'Result Entry'!$B$9:$DX$108,8,0)","v":0}]
[null,"◐","Class & Section",{"$nulls":3},"↠",{"$f":"CONCATENATE('Result Entry'!$F$4,'Result Entry'!$I$4)","v":"2(A)"}]
[null,"◐","Date Of Birth",{"$nulls":3},"↠",{"$f":"VLOOKUP($A1256,'Result Entry'!$B$9:$DX$108,9,0)","v":"00:00:00"}]
[null,"◐","Subject",{"$nulls":4},"Half Yearly","Total (T+H.Y.)","Yearly","Grand Total",null,"Subject Grade"]
[null,"◐","Max. Marks",{"$nulls":4},{"$f":"'Result Entry'!$Q$7","v":100},{"$f":"G1269+H1269","v":100},{"$f":"'Result Entry'!$U$7","v":100},{"$f":"I1269+J1269","v":200},null,"A/B/C/D/E"]
[null,"◐",{"$f":"'Result Entry'!$K$3","v":"Hindi"},{"$nulls":4},{"$f":"IF(OR(C1270=\"\",$I1261=\"NSO\"),\"\",VLOOKUP($A1256,'Result Entry'!$B$9:$DX$108,16,0))","v":0},{"$f":"SUM(G1270,H1270)","v":0},{"$f":"IF(OR(C1270=\"\",$I1261=\"NSO\"),\"\",VLOOKUP($A1256,'Result Entry'!$B$9:$DX$108,20,0))","v":0},{"$f":"SUM(I1270,J1270)","v":0},null,{"$f":"IF(OR(C1270=\"\",$I1261=\"NSO\"),\"\",VLOOKUP($A1256,'Result Entry'!$B$9:$DX$108,23,0))","v":""}]
[null,"◐",{"$f":"'Result Entry'!$Y$3","v":"Mathematics"},{"$nulls":4},{"$f":"IF(OR(C1271=\"\",$I1261=\"NSO\"),\"\",VLOOKUP($A1256,'Result Entry'!$B$9:$DX$108,30,0))","v":0},{"$f":"SUM(G1271,H1271)","v":0},{"$f":"IF(OR(C1271=\"\",$I1261=\"NSO\"),\"\",VLOOKUP($A1256,'Result Entry'!$B$9:$DX$108,34,0))","v":0},{"$f":"SUM(I1271,J1271)","v":0},null,{"$f":"IF(OR(C1271=\"\",$I1261=\"NSO\"),\"\",VLOOKUP($A1256,'Result Entry'!$B$9:$DX$108,37,0))","v":""}]
[null,"◐",{"$f":"'Result Entry'!$BO$3","v":"Env. Study"},{"$nulls":4},{"$f":"IF(OR(C1272=\"\",$I1261=\"NSO\"),\"\",VLOOKUP($A1256,'Result Entry'!$B$9:$DX$108,66,0))","v":0},0,{"$f":"IF(OR(C1272=\"\",$I1261=\"NSO\"),\"\",VLOOKUP($A1256,'Result Entry'!$B$9:$DX$108,67,0))","v":0},0,null,{"$f":"IF(OR(C1272=\"\",$I1261=\"NSO\"),\"\",VLOOKUP($A1256,'Result Entry'!$B$9:$DX$108,73,0))","v":""}]
[null,"◐","Max. Marks",{"$nulls":4},{"$f":"'Result Entry'!$AS$7","v":50},50,{"$f":"'Result Entry'!$AW$7","v":50},100,null,"A/B/C/D/E"]
[null,"◐",{"$f":"'Result Entry'!$AM$3","v":"English"},{"$nulls":4},{"$f":"IF(OR(C1274=\"\",$I1261=\"NSO\"),\"\",VLOOKUP($A1256,'Result Entry'!$B$9:$DX$108,44,0))","v":0},0,{"$f":"IF(OR(C1274=\"\",$I1261=\"NSO\"),\"\",VLOOKUP($A1256,'Result Entry'!$B$9:$DX$108,48,0))","v":0},0,null,{"$f":"IF(OR(C1274=\"\",$I1261=\"NSO\"),\"\",VLOOKUP($A1256,'Result Entry'!$B$9:$DX$108,51,0))","v":""}]
[null,"◐"]
[null,"◐","Overall Result",null,null,"Total Max. Marks",null,"Total Obtained Marks",null,"Percentage","Overall Grade","Result","Position in Class"]
[null,"◐",{"$nulls":3},{"$f":"IF(OR($I1261=\"\",$I1261=\"NSO\"),\"\",VLOOKUP($A1256,'Result Entry'!$B$9:$DX$108,101,0))","v":500},null,{"$f":"IF(OR($I1261=\"\",$I1261=\"NSO\"),\"\",VLOOKUP($A1256,'Result Entry'!$B$9:$DX$108,102,0))","v":0},null,{"$f":"IF(OR($I1261=\"\",$I1261=\"NSO\"),\"\",VLOOKUP($A1256,'Result Entry'!$B$9:$DX$108,103,0))","v":{"v":0,"d":"0.00"}},{"$f":"IF(OR($I1261=\"\",$I1261=\"NSO\"),\"\",VLOOKUP($A1256,'Result Entry'!$B$9:$DX$108,104,0))","v":""},{"$f":"IF(OR($I1261=\"\",$I1261=\"NSO\"),\"\",VLOOKUP($A1256,'Result Entry'!$B$9:$DX$108,105,0))","v":""},{"$f":"IF(OR($I1261=\"\",$I1261=\"NSO\"),\"\",VLOOKUP($A1256,'Result Entry'!$B$9:$DX$108,107,0))","v":""}]
[null,"◐",{"$nulls":6},"Total Meetings :-",null,{"$f":"IF(OR($I1261=\"\",$I1261=\"NSO\"),\"\",VLOOKUP($A1256,'Result Entry'!$B$9:$DX$108,98,0))","v":0},"Attedance %"]
[null,"◐","Extra Subjects",{"$nulls":5},"Student's Meetings :-",null,{"$f":"IF(OR($I1261=\"\",$I1261=\"NSO\"),\"\",VLOOKUP($A1256,'Result Entry'!$B$9:$DX$108,99,0))","v":0},{"$f":"IF(OR($I1261=\"\",$I1261=\"NSO\"),\"\",VLOOKUP($A1256,'Result Entry'!$B$9:$DX$108,100,0))","v":""}]
[null,"◐","Subject",null,null,"Total Marks",null,"GRADE","Remark :-",null,{"$f":"IF(OR($I1261=\"\",$I1261=\"NSO\"),\"\",VLOOKUP($A1256,'Result Entry'!$B$9:$DX$108,108,0))","v":0}]
[null,"◐",{"$nulls":6},"Result Date :-",null,{"$f":"'Result Entry'!$T$2","v":"2023-05-24"}]
[null,"◐",{"$f":"'Result Entry'!$BW$3","v":"WORK EXP."},null,null,{"$f":"IF(OR(C1282=\"\",$I1261=\"NSO\"),\"\",VLOOKUP($A1256,'Result Entry'!$B$9:$DX$108,119,0))","v":"0/50"},null,{"$f":"IF(OR(C1282=\"\",$I1261=\"NSO\"),\"\",VLOOKUP($A1256,'Result Entry'!$B$9:$DX$108,81,0))","v":""}]
[null,null,{"$f":"'Result Entry'!$CE$3","v":"ART EDU."},null,null,{"$f":"IF(OR(C1283=\"\",$I1261=\"NSO\"),\"\",VLOOKUP($A1256,'Result Entry'!$B$9:$DX$108,123,0))","v":"0/50"},null,{"$f":"IF(OR(C1283=\"\",$I1261=\"NSO\"),\"\",VLOOKUP($A1256,'Result Entry'!$B$9:$DX$108,89,0))","v":""}]
[null,"◐",{"$f":"'Result Entry'!$CM$3","v":"H&P. EDU."},null,null,{"$f":"IF(OR(C1284=\"\",$I1261=\"NSO\"),\"\",VLOOKUP($A1256,'Result Entry'!$B$9:$DX$108,127,0))","v":"0/100"},null,{"$f":"IF(OR(C1284=\"\",$I1261=\"NSO\"),\"\",VLOOKUP($A1256,'Result Entry'!$B$9:$DX$108,97,0))","v":""},"Signature Of The Class Teacher"]
[null,"◐","Grading System"]
[null,"◐","Grd.","% Range",null,"Description"]
[null,"◐","A","86-100",null,"Excellent",null,null,"Signature And Seal Of Principal/H.M."]
[null,"◐","B","71-85",null,"Very Good"]
[null,"◐","C","51-70",null,"Good"]
[null,"◐","D","31-50",null,"Average"]
[null,"◐","E","0-30",null,"Needs Improvement",null,null,"Wish bright future"]
[]
[]
[{"$f":"A1256+1","v":35},"Department Of Education, Rajasthan"]
[null,{"$f":"IF(I1299>0,CONCATENATE(C1299,I1299),0)","v":0},null,{"$f":"Master!$E$8","v":"Govt.Sr.Sec.Sch. "}]
[{"$nulls":3},{"$f":"Master!$E$11","v":"P.S.-Bapini (Jodhpur)"}]
[null,null,"Report Card",{"$nulls":6},"U-DISE Code:-",null,{"$f":"Master!$E$14","v":{"v":810000000,"d":"0810000000"}}]
[{"$nulls":9},"Session:-",null,{"$f":"Master!$E$6","v":"2022-23"}]
[null,null,"Roll No.:-",{"$nulls":5},{"$f":"VLOOKUP($A1294,'Result Entry'!$B$9:$F$108,5,0)","v":0}]
[null,"◐","Scholar Number",{"$nulls":3},"↠",{"$f":"VLOOKUP($A1294,'Result Entry'!$B$9:$DX$108,3,0)","v":0}]
[null,"◐","Student's Name",{"$nulls":3},"↠",{"$f":"VLOOKUP($A1294,'Result Entry'!$B$9:$DX$108,6,0)","v":0}]
[null,"◐","Father's Name",{"$nulls":3},"↠",{"$f":"VLOOKUP($A1294,'Result Entry'!$B$9:$DX$108,7,0)","v":0}]
[null,"◐","Mother's Name ",{"$nulls":3},"↠",{"$f":"VLOOKUP($A1294,'Result Entry'!$B$9:$DX$108,8,0)","v":0}]
[null,"◐","Class & Section",{"$nulls":3},"↠",{"$f":"CONCATENATE('Result Entry'!$F$4,'Result Entry'!$I$4)","v":"2(A)"}]
[null,"◐","Date Of Birth",{"$nulls":3},"↠",{"$f":"VLOOKUP($A1294,'Result Entry'!$B$9:$DX$108,9,0)","v":"00:00:00"}]
[null,"◐","Subject",{"$nulls":4},"Half Yearly","Total (T+H.Y.)","Yearly","Grand Total",null,"Subject Grade"]
[null,"◐","Max. Marks",{"$nulls":4},{"$f":"'Result Entry'!$Q$7","v":100},{"$f":"G1307+H1307","v":100},{"$f":"'Result Entry'!$U$7","v":100},{"$f":"I1307+J1307","v":200},null,"A/B/C/D/E"]
[null,"◐",{"$f":"'Result Entry'!$K$3","v":"Hindi"},{"$nulls":4},{"$f":"IF(OR(C1308=\"\",$I1299=\"NSO\"),\"\",VLOOKUP($A1294,'Result Entry'!$B$9:$DX$108,16,0))","v":0},{"$f":"SUM(G1308,H1308)","v":0},{"$f":"IF(OR(C1308=\"\",$I1299=\"NSO\"),\"\",VLOOKUP($A1294,'Result Entry'!$B$9:$DX$108,20,0))","v":0},{"$f":"SUM(I1308,J1308)","v":0},null,{"$f":"IF(OR(C1308=\"\",$I1299=\"NSO\"),\"\",VLOOKUP($A1294,'Result Entry'!$B$9:$DX$108,23,0))","v":""}]
[null,"◐",{"$f":"'Result Entry'!$Y$3","v":"Mathematics"},{"$nulls":4},{"$f":"IF(OR(C1309=\"\",$I1299=\"NSO\"),\"\",VLOOKUP($A1294,'Result Entry'!$B$9:$DX$108,30,0))","v":0},{"$f":"SUM(G1309,H1309)","v":0},{"$f":"IF(OR(C1309=\"\",$I1299=\"NSO\"),\"\",VLOOKUP($A1294,'Result Entry'!$B$9:$DX$108,34,0))","v":0},{"$f":"SUM(I1309,J1309)","v":0},null,{"$f":"IF(OR(C1309=\"\",$I1299=\"NSO\"),\"\",VLOOKUP($A1294,'Result Entry'!$B$9:$DX$108,37,0))","v":""}]
[null,"◐",{"$f":"'Result Entry'!$BO$3","v":"Env. Study"},{"$nulls":4},{"$f":"IF(OR(C1310=\"\",$I1299=\"NSO\"),\"\",VLOOKUP($A1294,'Result Entry'!$B$9:$DX$108,66,0))","v":0},0,{"$f":"IF(OR(C1310=\"\",$I1299=\"NSO\"),\"\",VLOOKUP($A1294,'Result Entry'!$B$9:$DX$108,67,0))","v":0},0,null,{"$f":"IF(OR(C1310=\"\",$I1299=\"NSO\"),\"\",VLOOKUP($A1294,'Result Entry'!$B$9:$DX$108,73,0))","v":""}]
[null,"◐","Max. Marks",{"$nulls":4},{"$f":"'Result Entry'!$AS$7","v":50},50,{"$f":"'Result Entry'!$AW$7","v":50},100,null,"A/B/C/D/E"]
[null,"◐",{"$f":"'Result Entry'!$AM$3","v":"English"},{"$nulls":4},{"$f":"IF(OR(C1312=\"\",$I1299=\"NSO\"),\"\",VLOOKUP($A1294,'Result Entry'!$B$9:$DX$108,44,0))","v":0},0,{"$f":"IF(OR(C1312=\"\",$I1299=\"NSO\"),\"\",VLOOKUP($A1294,'Result Entry'!$B$9:$DX$108,48,0))","v":0},0,null,{"$f":"IF(OR(C1312=\"\",$I1299=\"NSO\"),\"\",VLOOKUP($A1294,'Result Entry'!$B$9:$DX$108,51,0))","v":""}]
[null,"◐"]
[null,"◐","Overall Result",null,null,"Total Max. Marks",null,"Total Obtained Marks",null,"Percentage","Overall Grade","Result","Position in Class"]
[null,"◐",{"$nulls":3},{"$f":"IF(OR($I1299=\"\",$I1299=\"NSO\"),\"\",VLOOKUP($A1294,'Result Entry'!$B$9:$DX$108,101,0))","v":500},null,{"$f":"IF(OR($I1299=\"\",$I1299=\"NSO\"),\"\",VLOOKUP($A1294,'Result Entry'!$B$9:$DX$108,102,0))","v":0},null,{"$f":"IF(OR($I1299=\"\",$I1299=\"NSO\"),\"\",VLOOKUP($A1294,'Result Entry'!$B$9:$DX$108,103,0))","v":{"v":0,"d":"0.00"}},{"$f":"IF(OR($I1299=\"\",$I1299=\"NSO\"),\"\",VLOOKUP($A1294,'Result Entry'!$B$9:$DX$108,104,0))","v":""},{"$f":"IF(OR($I1299=\"\",$I1299=\"NSO\"),\"\",VLOOKUP($A1294,'Result Entry'!$B$9:$DX$108,105,0))","v":""},{"$f":"IF(OR($I1299=\"\",$I1299=\"NSO\"),\"\",VLOOKUP($A1294,'Result Entry'!$B$9:$DX$108,107,0))","v":""}]
[null,"◐",{"$nulls":6},"Total Meetings :-",null,{"$f":"IF(OR($I1299=\"\",$I1299=\"NSO\"),\"\",VLOOKUP($A1294,'Result Entry'!$B$9:$DX$108,98,0))","v":0},"Attedance %"]
[null,"◐","Extra Subjects",{"$nulls":5},"Student's Meetings :-",null,{"$f":"IF(OR($I1299=\"\",$I1299=\"NSO\"),\"\",VLOOKUP($A1294,'Result Entry'!$B$9:$DX$108,99,0))","v":0},{"$f":"IF(OR($I1299=\"\",$I1299=\"NSO\"),\"\",VLOOKUP($A1294,'Result Entry'!$B$9:$DX$108,100,0))","v":""}]
[null,"◐","Subject",null,null,"Total Marks",null,"GRADE","Remark :-",null,{"$f":"IF(OR($I1299=\"\",$I1299=\"NSO\"),\"\",VLOOKUP($A1294,'Result Entry'!$B$9:$DX$108,108,0))","v":0}]
[null,"◐",{"$nulls":6},"Result Date :-",null,{"$f":"'Result Entry'!$T$2","v":"2023-05-24"}]
[null,"◐",{"$f":"'Result Entry'!$BW$3","v":"WORK EXP."},null,null,{"$f":"IF(OR(C1320=\"\",$I1299=\"NSO\"),\"\",VLOOKUP($A1294,'Result Entry'!$B$9:$DX$108,119,0))","v":"0/50"},null,{"$f":"IF(OR(C1320=\"\",$I1299=\"NSO\"),\"\",VLOOKUP($A1294,'Result Entry'!$B$9:$DX$108,81,0))","v":""}]
[null,null,{"$f":"'Result Entry'!$CE$3","v":"ART EDU."},null,null,{"$f":"IF(OR(C1321=\"\",$I1299=\"NSO\"),\"\",VLOOKUP($A1294,'Result Entry'!$B$9:$DX$108,123,0))","v":"0/50"},null,{"$f":"IF(OR(C1321=\"\",$I1299=\"NSO\"),\"\",VLOOKUP($A1294,'Result Entry'!$B$9:$DX$108,89,0))","v":""}]
[null,"◐",{"$f":"'Result Entry'!$CM$3","v":"H&P. EDU."},null,null,{"$f":"IF(OR(C1322=\"\",$I1299=\"NSO\"),\"\",VLOOKUP($A1294,'Result Entry'!$B$9:$DX$108,127,0))","v":"0/100"},null,{"$f":"IF(OR(C1322=\"\",$I1299=\"NSO\"),\"\",VLOOKUP($A1294,'Result Entry'!$B$9:$DX$108,97,0))","v":""},"Signature Of The Class Teacher"]
[null,"◐","Grading System"]
[null,"◐","Grd.","% Range",null,"Description"]
[null,"◐","A","86-100",null,"Excellent",null,null,"Signature And Seal Of Principal/H.M."]
[null,"◐","B","71-85",null,"Very Good"]
[null,"◐","C","51-70",null,"Good"]
[null,"◐","D","31-50",null,"Average"]
[null,"◐","E","0-30",null,"Needs Improvement",null,null,"Wish bright future"]
[]
[]
[{"$f":"A1294+1","v":36},"Department Of Education, Rajasthan"]
[null,{"$f":"IF(I1337>0,CONCATENATE(C1337,I1337),0)","v":0},null,{"$f":"Master!$E$8","v":"Govt.Sr.Sec.Sch. "}]
[{"$nulls":3},{"$f":"Master!$E$11","v":"P.S.-Bapini (Jodhpur)"}]
[null,null,"Report Card",{"$nulls":6},"U-DISE Code:-",null,{"$f":"Master!$E$14","v":{"v":810000000,"d":"0810000000"}}]
[{"$nulls":9},"Session:-",null,{"$f":"Master!$E$6","v":"2022-23"}]
[null,null,"Roll No.:-",{"$nulls":5},{"$f":"VLOOKUP($A1332,'Result Entry'!$B$9:$F$108,5,0)","v":0}]
[null,"◐","Scholar Number",{"$nulls":3},"↠",{"$f":"VLOOKUP($A1332,'Result Entry'!$B$9:$DX$108,3,0)","v":0}]
[null,"◐","Student's Name",{"$nulls":3},"↠",{"$f":"VLOOKUP($A1332,'Result Entry'!$B$9:$DX$108,6,0)","v":0}]
[null,"◐","Father's Name",{"$nulls":3},"↠",{"$f":"VLOOKUP($A1332,'Result Entry'!$B$9:$DX$108,7,0)","v":0}]
[null,"◐","Mother's Name ",{"$nulls":3},"↠",{"$f":"VLOOKUP($A1332,'Result Entry'!$B$9:$DX$108,8,0)","v":0}]
[null,"◐","Class & Section",{"$nulls":3},"↠",{"$f":"CONCATENATE('Result Entry'!$F$4,'Result Entry'!$I$4)","v":"2(A)"}]
[null,"◐","Date Of Birth",{"$nulls":3},"↠",{"$f":"VLOOKUP($A1332,'Result Entry'!$B$9:$DX$108,9,0)","v":"00:00:00"}]
[null,"◐","Subject",{"$nulls":4},"Half Yearly","Total (T+H.Y.)","Yearly","Grand Total",null,"Subject Grade"]
[null,"◐","Max. Marks",{"$nulls":4},{"$f":"'Result Entry'!$Q$7","v":100},{"$f":"G1345+H1345","v":100},{"$f":"'Result Entry'!$U$7","v":100},{"$f":"I1345+J1345","v":200},null,"A/B/C/D/E"]
[null,"◐",{"$f":"'Result Entry'!$K$3","v":"Hindi"},{"$nulls":4},{"$f":"IF(OR(C1346=\"\",$I1337=\"NSO\"),\"\",VLOOKUP($A1332,'Result Entry'!$B$9:$DX$108,16,0))","v":0},{"$f":"SUM(G1346,H1346)","v":0},{"$f":"IF(OR(C1346=\"\",$I1337=\"NSO\"),\"\",VLOOKUP($A1332,'Result Entry'!$B$9:$DX$108,20,0))","v":0},{"$f":"SUM(I1346,J1346)","v":0},null,{"$f":"IF(OR(C1346=\"\",$I1337=\"NSO\"),\"\",VLOOKUP($A1332,'Result Entry'!$B$9:$DX$108,23,0))","v":""}]
[null,"◐",{"$f":"'Result Entry'!$Y$3","v":"Mathematics"},{"$nulls":4},{"$f":"IF(OR(C1347=\"\",$I1337=\"NSO\"),\"\",VLOOKUP($A1332,'Result Entry'!$B$9:$DX$108,30,0))","v":0},{"$f":"SUM(G1347,H1347)","v":0},{"$f":"IF(OR(C1347=\"\",$I1337=\"NSO\"),\"\",VLOOKUP($A1332,'Result Entry'!$B$9:$DX$108,34,0))","v":0},{"$f":"SUM(I1347,J1347)","v":0},null,{"$f":"IF(OR(C1347=\"\",$I1337=\"NSO\"),\"\",VLOOKUP($A1332,'Result Entry'!$B$9:$DX$108,37,0))","v":""}]
[null,"◐",{"$f":"'Result Entry'!$BO$3","v":"Env. Study"},{"$nulls":4},{"$f":"IF(OR(C1348=\"\",$I1337=\"NSO\"),\"\",VLOOKUP($A1332,'Result Entry'!$B$9:$DX$108,66,0))","v":0},0,{"$f":"IF(OR(C1348=\"\",$I1337=\"NSO\"),\"\",VLOOKUP($A1332,'Result Entry'!$B$9:$DX$108,67,0))","v":0},0,null,{"$f":"IF(OR(C1348=\"\",$I1337=\"NSO\"),\"\",VLOOKUP($A1332,'Result Entry'!$B$9:$DX$108,73,0))","v":""}]
[null,"◐","Max. Marks",{"$nulls":4},{"$f":"'Result Entry'!$AS$7","v":50},50,{"$f":"'Result Entry'!$AW$7","v":50},100,null,"A/B/C/D/E"]
[null,"◐",{"$f":"'Result Entry'!$AM$3","v":"English"},{"$nulls":4},{"$f":"IF(OR(C1350=\"\",$I1337=\"NSO\"),\"\",VLOOKUP($A1332,'Result Entry'!$B$9:$DX$108,44,0))","v":0},0,{"$f":"IF(OR(C1350=\"\",$I1337=\"NSO\"),\"\",VLOOKUP($A1332,'Result Entry'!$B$9:$DX$108,48,0))","v":0},0,null,{"$f":"IF(OR(C1350=\"\",$I1337=\"NSO\"),\"\",VLOOKUP($A1332,'Result Entry'!$B$9:$DX$108,51,0))","v":""}]
[null,"◐"]
[null,"◐","Overall Result",null,null,"Total Max. Marks",null,"Total Obtained Marks",null,"Percentage","Overall Grade","Result","Position in Class"]
[null,"◐",{"$nulls":3},{"$f":"IF(OR($I1337=\"\",$I1337=\"NSO\"),\"\",VLOOKUP($A1332,'Result Entry'!$B$9:$DX$108,101,0))","v":500},null,{"$f":"IF(OR($I1337=\"\",$I1337=\"NSO\"),\"\",VLOOKUP($A1332,'Result Entry'!$B$9:$DX$108,102,0))","v":0},null,{"$f":"IF(OR($I1337=\"\",$I1337=\"NSO\"),\"\",VLOOKUP($A1332,'Result Entry'!$B$9:$DX$108,103,0))","v":{"v":0,"d":"0.00"}},{"$f":"IF(OR($I1337=\"\",$I1337=\"NSO\"),\"\",VLOOKUP($A1332,'Result Entry'!$B$9:$DX$108,104,0))","v":""},{"$f":"IF(OR($I1337=\"\",$I1337=\"NSO\"),\"\",VLOOKUP($A1332,'Result Entry'!$B$9:$DX$108,105,0))","v":""},{"$f":"IF(OR($I1337=\"\",$I1337=\"NSO\"),\"\",VLOOKUP($A1332,'Result Entry'!$B$9:$DX$108,107,0))","v":""}]
[null,"◐",{"$nulls":6},"Total Meetings :-",null,{"$f":"IF(OR($I1337=\"\",$I1337=\"NSO\"),\"\",VLOOKUP($A1332,'Result Entry'!$B$9:$DX$108,98,0))","v":0},"Attedance %"]
[null,"◐","Extra Subjects",{"$nulls":5},"Student's Meetings :-",null,{"$f":"IF(OR($I1337=\"\",$I1337=\"NSO\"),\"\",VLOOKUP($A1332,'Result Entry'!$B$9:$DX$108,99,0))","v":0},{"$f":"IF(OR($I1337=\"\",$I1337=\"NSO\"),\"\",VLOOKUP($A1332,'Result Entry'!$B$9:$DX$108,100,0))","v":""}]
[null,"◐","Subject",null,null,"Total Marks",null,"GRADE","Remark :-",null,{"$f":"IF(OR($I1337=\"\",$I1337=\"NSO\"),\"\",VLOOKUP($A1332,'Result Entry'!$B$9:$DX$108,108,0))","v":0}]
[null,"◐",{"$nulls":6},"Result Date :-",null,{"$f":"'Result Entry'!$T$2","v":"2023-05-24"}]
[null,"◐",{"$f":"'Result Entry'!$BW$3","v":"WORK EXP."},null,null,{"$f":"IF(OR(C1358=\"\",$I1337=\"NSO\"),\"\",VLOOKUP($A1332,'Result Entry'!$B$9:$DX$108,119,0))","v":"0/50"},null,{"$f":"IF(OR(C1358=\"\",$I1337=\"NSO\"),\"\",VLOOKUP($A1332,'Result Entry'!$B$9:$DX$108,81,0))","v":""}]
[null,null,{"$f":"'Result Entry'!$CE$3","v":"ART EDU."},null,null,{"$f":"IF(OR(C1359=\"\",$I1337=\"NSO\"),\"\",VLOOKUP($A1332,'Result Entry'!$B$9:$DX$108,123,0))","v":"0/50"},null,{"$f":"IF(OR(C1359=\"\",$I1337=\"NSO\"),\"\",VLOOKUP($A1332,'Result Entry'!$B$9:$DX$108,89,0))","v":""}]
[null,"◐",{"$f":"'Result Entry'!$CM$3","v":"H&P. EDU."},null,null,{"$f":"IF(OR(C1360=\"\",$I1337=\"NSO\"),\"\",VLOOKUP($A1332,'Result Entry'!$B$9:$DX$108,127,0))","v":"0/100"},null,{"$f":"IF(OR(C1360=\"\",$I1337=\"NSO\"),\"\",VLOOKUP($A1332,'Result Entry'!$B$9:$DX$108,97,0))","v":""},"Signature Of The Class Teacher"]
[null,"◐","Grading System"]
[null,"◐","Grd.","% Range",null,"Description"]
[null,"◐","A","86-100",null,"Excellent",null,null,"Signature And Seal Of Principal/H.M."]
[null,"◐","B","71-85",null,"Very Good"]
[null,"◐","C","51-70",null,"Good"]
[null,"◐","D","31-50",null,"Average"]
[null,"◐","E","0-30",null,"Needs Improvement",null,null,"Wish bright future"]
[]
[]
[{"$f":"A1332+1","v":37},"Department Of Education, Rajasthan"]
[null,{"$f":"IF(I1375>0,CONCATENATE(C1375,I1375),0)","v":0},null,{"$f":"Master!$E$8","v":"Govt.Sr.Sec.Sch. "}]
[{"$nulls":3},{"$f":"Master!$E$11","v":"P.S.-Bapini (Jodhpur)"}]
[null,null,"Report Card",{"$nulls":6},"U-DISE Code:-",null,{"$f":"Master!$E$14","v":{"v":810000000,"d":"0810000000"}}]
[{"$nulls":9},"Session:-",null,{"$f":"Master!$E$6","v":"2022-23"}]
[null,null,"Roll No.:-",{"$nulls":5},{"$f":"VLOOKUP($A1370,'Result Entry'!$B$9:$F$108,5,0)","v":0}]
[null,"◐","Scholar Number",{"$nulls":3},"↠",{"$f":"VLOOKUP($A1370,'Result Entry'!$B$9:$DX$108,3,0)","v":0}]
[null,"◐","Student's Name",{"$nulls":3},"↠",{"$f":"VLOOKUP($A1370,'Result Entry'!$B$9:$DX$108,6,0)","v":0}]
[null,"◐","Father's Name",{"$nulls":3},"↠",{"$f":"VLOOKUP($A1370,'Result Entry'!$B$9:$DX$108,7,0)","v":0}]
[null,"◐","Mother's Name ",{"$nulls":3},"↠",{"$f":"VLOOKUP($A1370,'Result Entry'!$B$9:$DX$108,8,0)","v":0}]
[null,"◐","Class & Section",{"$nulls":3},"↠",{"$f":"CONCATENATE('Result Entry'!$F$4,'Result Entry'!$I$4)","v":"2(A)"}]
[null,"◐","Date Of Birth",{"$nulls":3},"↠",{"$f":"VLOOKUP($A1370,'Result Entry'!$B$9:$DX$108,9,0)","v":"00:00:00"}]
[null,"◐","Subject",{"$nulls":4},"Half Yearly","Total (T+H.Y.)","Yearly","Grand Total",null,"Subject Grade"]
[null,"◐","Max. Marks",{"$nulls":4},{"$f":"'Result Entry'!$Q$7","v":100},{"$f":"G1383+H1383","v":100},{"$f":"'Result Entry'!$U$7","v":100},{"$f":"I1383+J1383","v":200},null,"A/B/C/D/E"]
[null,"◐",{"$f":"'Result Entry'!$K$3","v":"Hindi"},{"$nulls":4},{"$f":"IF(OR(C1384=\"\",$I1375=\"NSO\"),\"\",VLOOKUP($A1370,'Result Entry'!$B$9:$DX$108,16,0))","v":0},{"$f":"SUM(G1384,H1384)","v":0},{"$f":"IF(OR(C1384=\"\",$I1375=\"NSO\"),\"\",VLOOKUP($A1370,'Result Entry'!$B$9:$DX$108,20,0))","v":0},{"$f":"SUM(I1384,J1384)","v":0},null,{"$f":"IF(OR(C1384=\"\",$I1375=\"NSO\"),\"\",VLOOKUP($A1370,'Result Entry'!$B$9:$DX$108,23,0))","v":""}]
[null,"◐",{"$f":"'Result Entry'!$Y$3","v":"Mathematics"},{"$nulls":4},{"$f":"IF(OR(C1385=\"\",$I1375=\"NSO\"),\"\",VLOOKUP($A1370,'Result Entry'!$B$9:$DX$108,30,0))","v":0},{"$f":"SUM(G1385,H1385)","v":0},{"$f":"IF(OR(C1385=\"\",$I1375=\"NSO\"),\"\",VLOOKUP($A1370,'Result Entry'!$B$9:$DX$108,34,0))","v":0},{"$f":"SUM(I1385,J1385)","v":0},null,{"$f":"IF(OR(C1385=\"\",$I1375=\"NSO\"),\"\",VLOOKUP($A1370,'Result Entry'!$B$9:$DX$108,37,0))","v":""}]
[null,"◐",{"$f":"'Result Entry'!$BO$3","v":"Env. Study"},{"$nulls":4},{"$f":"IF(OR(C1386=\"\",$I1375=\"NSO\"),\"\",VLOOKUP($A1370,'Result Entry'!$B$9:$DX$108,66,0))","v":0},0,{"$f":"IF(OR(C1386=\"\",$I1375=\"NSO\"),\"\",VLOOKUP($A1370,'Result Entry'!$B$9:$DX$108,67,0))","v":0},0,null,{"$f":"IF(OR(C1386=\"\",$I1375=\"NSO\"),\"\",VLOOKUP($A1370,'Result Entry'!$B$9:$DX$108,73,0))","v":""}]
[null,"◐","Max. Marks",{"$nulls":4},{"$f":"'Result Entry'!$AS$7","v":50},50,{"$f":"'Result Entry'!$AW$7","v":50},100,null,"A/B/C/D/E"]
[null,"◐",{"$f":"'Result Entry'!$AM$3","v":"English"},{"$nulls":4},{"$f":"IF(OR(C1388=\"\",$I1375=\"NSO\"),\"\",VLOOKUP($A1370,'Result Entry'!$B$9:$DX$108,44,0))","v":0},0,{"$f":"IF(OR(C1388=\"\",$I1375=\"NSO\"),\"\",VLOOKUP($A1370,'Result Entry'!$B$9:$DX$108,48,0))","v":0},0,null,{"$f":"IF(OR(C1388=\"\",$I1375=\"NSO\"),\"\",VLOOKUP($A1370,'Result Entry'!$B$9:$DX$108,51,0))","v":""}]
[null,"◐"]
[null,"◐","Overall Result",null,null,"Total Max. Marks",null,"Total Obtained Marks",null,"Percentage","Overall Grade","Result","Position in Class"]
[null,"◐",{"$nulls":3},{"$f":"IF(OR($I1375=\"\",$I1375=\"NSO\"),\"\",VLOOKUP($A1370,'Result Entry'!$B$9:$DX$108,101,0))","v":500},null,{"$f":"IF(OR($I1375=\"\",$I1375=\"NSO\"),\"\",VLOOKUP($A1370,'Result Entry'!$B$9:$DX$108,102,0))","v":0},null,{"$f":"IF(OR($I1375=\"\",$I1375=\"NSO\"),\"\",VLOOKUP($A1370,'Result Entry'!$B$9:$DX$108,103,0))","v":{"v":0,"d":"0.00"}},{"$f":"IF(OR($I1375=\"\",$I1375=\"NSO\"),\"\",VLOOKUP($A1370,'Result Entry'!$B$9:$DX$108,104,0))","v":""},{"$f":"IF(OR($I1375=\"\",$I1375=\"NSO\"),\"\",VLOOKUP($A1370,'Result Entry'!$B$9:$DX$108,105,0))","v":""},{"$f":"IF(OR($I1375=\"\",$I1375=\"NSO\"),\"\",VLOOKUP($A1370,'Result Entry'!$B$9:$DX$108,107,0))","v":""}]
[null,"◐",{"$nulls":6},"Total Meetings :-",null,{"$f":"IF(OR($I1375=\"\",$I1375=\"NSO\"),\"\",VLOOKUP($A1370,'Result Entry'!$B$9:$DX$108,98,0))","v":0},"Attedance %"]
[null,"◐","Extra Subjects",{"$nulls":5},"Student's Meetings :-",null,{"$f":"IF(OR($I1375=\"\",$I1375=\"NSO\"),\"\",VLOOKUP($A1370,'Result Entry'!$B$9:$DX$108,99,0))","v":0},{"$f":"IF(OR($I1375=\"\",$I1375=\"NSO\"),\"\",VLOOKUP($A1370,'Result Entry'!$B$9:$DX$108,100,0))","v":""}]
[null,"◐","Subject",null,null,"Total Marks",null,"GRADE","Remark :-",null,{"$f":"IF(OR($I1375=\"\",$I1375=\"NSO\"),\"\",VLOOKUP($A1370,'Result Entry'!$B$9:$DX$108,108,0))","v":0}]
[null,"◐",{"$nulls":6},"Result Date :-",null,{"$f":"'Result Entry'!$T$2","v":"2023-05-24"}]
[null,"◐",{"$f":"'Result Entry'!$BW$3","v":"WORK EXP."},null,null,{"$f":"IF(OR(C1396=\"\",$I1375=\"NSO\"),\"\",VLOOKUP($A1370,'Result Entry'!$B$9:$DX$108,119,0))","v":"0/50"},null,{"$f":"IF(OR(C1396=\"\",$I1375=\"NSO\"),\"\",VLOOKUP($A1370,'Result Entry'!$B$9:$DX$108,81,0))","v":""}]
[null,null,{"$f":"'Result Entry'!$CE$3","v":"ART EDU."},null,null,{"$f":"IF(OR(C1397=\"\",$I1375=\"NSO\"),\"\",VLOOKUP($A1370,'Result Entry'!$B$9:$DX$108,123,0))","v":"0/50"},null,{"$f":"IF(OR(C1397=\"\",$I1375=\"NSO\"),\"\",VLOOKUP($A1370,'Result Entry'!$B$9:$DX$108,89,0))","v":""}]
[null,"◐",{"$f":"'Result Entry'!$CM$3","v":"H&P. EDU."},null,null,{"$f":"IF(OR(C1398=\"\",$I1375=\"NSO\"),\"\",VLOOKUP($A1370,'Result Entry'!$B$9:$DX$108,127,0))","v":"0/100"},null,{"$f":"IF(OR(C1398=\"\",$I1375=\"NSO\"),\"\",VLOOKUP($A1370,'Result Entry'!$B$9:$DX$108,97,0))","v":""},"Signature Of The Class Teacher"]
[null,"◐","Grading System"]
[null,"◐","Grd.","% Range",null,"Description"]
[null,"◐","A","86-100",null,"Excellent",null,null,"Signature And Seal Of Principal/H.M."]
[null,"◐","B","71-85",null,"Very Good"]
[null,"◐","C","51-70",null,"Good"]
[null,"◐","D","31-50",null,"Average"]
[null,"◐","E","0-30",null,"Needs Improvement",null,null,"Wish bright future"]
[]
[]
[{"$f":"A1370+1","v":38},"Department Of Education, Rajasthan"]
[null,{"$f":"IF(I1413>0,CONCATENATE(C1413,I1413),0)","v":0},null,{"$f":"Master!$E$8","v":"Govt.Sr.Sec.Sch. "}]
[{"$nulls":3},{"$f":"Master!$E$11","v":"P.S.-Bapini (Jodhpur)"}]
[null,null,"Report Card",{"$nulls":6},"U-DISE Code:-",null,{"$f":"Master!$E$14","v":{"v":810000000,"d":"0810000000"}}]
[{"$nulls":9},"Session:-",null,{"$f":"Master!$E$6","v":"2022-23"}]
[null,null,"Roll No.:-",{"$nulls":5},{"$f":"VLOOKUP($A1408,'Result Entry'!$B$9:$F$108,5,0)","v":0}]
[null,"◐","Scholar Number",{"$nulls":3},"↠",{"$f":"VLOOKUP($A1408,'Result Entry'!$B$9:$DX$108,3,0)","v":0}]
[null,"◐","Student's Name",{"$nulls":3},"↠",{"$f":"VLOOKUP($A1408,'Result Entry'!$B$9:$DX$108,6,0)","v":0}]
[null,"◐","Father's Name",{"$nulls":3},"↠",{"$f":"VLOOKUP($A1408,'Result Entry'!$B$9:$DX$108,7,0)","v":0}]
[null,"◐","Mother's Name ",{"$nulls":3},"↠",{"$f":"VLOOKUP($A1408,'Result Entry'!$B$9:$DX$108,8,0)","v":0}]
[null,"◐","Class & Section",{"$nulls":3},"↠",{"$f":"CONCATENATE('Result Entry'!$F$4,'Result Entry'!$I$4)","v":"2(A)"}]
[null,"◐","Date Of Birth",{"$nulls":3},"↠",{"$f":"VLOOKUP($A1408,'Result Entry'!$B$9:$DX$108,9,0)","v":"00:00:00"}]
[null,"◐","Subject",{"$nulls":4},"Half Yearly","Total (T+H.Y.)","Yearly","Grand Total",null,"Subject Grade"]
[null,"◐","Max. Marks",{"$nulls":4},{"$f":"'Result Entry'!$Q$7","v":100},{"$f":"G1421+H1421","v":100},{"$f":"'Result Entry'!$U$7","v":100},{"$f":"I1421+J1421","v":200},null,"A/B/C/D/E"]
[null,"◐",{"$f":"'Result Entry'!$K$3","v":"Hindi"},{"$nulls":4},{"$f":"IF(OR(C1422=\"\",$I1413=\"NSO\"),\"\",VLOOKUP($A1408,'Result Entry'!$B$9:$DX$108,16,0))","v":0},{"$f":"SUM(G1422,H1422)","v":0},{"$f":"IF(OR(C1422=\"\",$I1413=\"NSO\"),\"\",VLOOKUP($A1408,'Result Entry'!$B$9:$DX$108,20,0))","v":0},{"$f":"SUM(I1422,J1422)","v":0},null,{"$f":"IF(OR(C1422=\"\",$I1413=\"NSO\"),\"\",VLOOKUP($A1408,'Result Entry'!$B$9:$DX$108,23,0))","v":""}]
[null,"◐",{"$f":"'Result Entry'!$Y$3","v":"Mathematics"},{"$nulls":4},{"$f":"IF(OR(C1423=\"\",$I1413=\"NSO\"),\"\",VLOOKUP($A1408,'Result Entry'!$B$9:$DX$108,30,0))","v":0},{"$f":"SUM(G1423,H1423)","v":0},{"$f":"IF(OR(C1423=\"\",$I1413=\"NSO\"),\"\",VLOOKUP($A1408,'Result Entry'!$B$9:$DX$108,34,0))","v":0},{"$f":"SUM(I1423,J1423)","v":0},null,{"$f":"IF(OR(C1423=\"\",$I1413=\"NSO\"),\"\",VLOOKUP($A1408,'Result Entry'!$B$9:$DX$108,37,0))","v":""}]
[null,"◐",{"$f":"'Result Entry'!$BO$3","v":"Env. Study"},{"$nulls":4},{"$f":"IF(OR(C1424=\"\",$I1413=\"NSO\"),\"\",VLOOKUP($A1408,'Result Entry'!$B$9:$DX$108,66,0))","v":0},0,{"$f":"IF(OR(C1424=\"\",$I1413=\"NSO\"),\"\",VLOOKUP($A1408,'Result Entry'!$B$9:$DX$108,67,0))","v":0},0,null,{"$f":"IF(OR(C1424=\"\",$I1413=\"NSO\"),\"\",VLOOKUP($A1408,'Result Entry'!$B$9:$DX$108,73,0))","v":""}]
[null,"◐","Max. Marks",{"$nulls":4},{"$f":"'Result Entry'!$AS$7","v":50},50,{"$f":"'Result Entry'!$AW$7","v":50},100,null,"A/B/C/D/E"]
[null,"◐",{"$f":"'Result Entry'!$AM$3","v":"English"},{"$nulls":4},{"$f":"IF(OR(C1426=\"\",$I1413=\"NSO\"),\"\",VLOOKUP($A1408,'Result Entry'!$B$9:$DX$108,44,0))","v":0},0,{"$f":"IF(OR(C1426=\"\",$I1413=\"NSO\"),\"\",VLOOKUP($A1408,'Result Entry'!$B$9:$DX$108,48,0))","v":0},0,null,{"$f":"IF(OR(C1426=\"\",$I1413=\"NSO\"),\"\",VLOOKUP($A1408,'Result Entry'!$B$9:$DX$108,51,0))","v":""}]
[null,"◐"]
[null,"◐","Overall Result",null,null,"Total Max. Marks",null,"Total Obtained Marks",null,"Percentage","Overall Grade","Result","Position in Class"]
[null,"◐",{"$nulls":3},{"$f":"IF(OR($I1413=\"\",$I1413=\"NSO\"),\"\",VLOOKUP($A1408,'Result Entry'!$B$9:$DX$108,101,0))","v":500},null,{"$f":"IF(OR($I1413=\"\",$I1413=\"NSO\"),\"\",VLOOKUP($A1408,'Result Entry'!$B$9:$DX$108,102,0))","v":0},null,{"$f":"IF(OR($I1413=\"\",$I1413=\"NSO\"),\"\",VLOOKUP($A1408,'Result Entry'!$B$9:$DX$108,103,0))","v":{"v":0,"d":"0.00"}},{"$f":"IF(OR($I1413=\"\",$I1413=\"NSO\"),\"\",VLOOKUP($A1408,'Result Entry'!$B$9:$DX$108,104,0))","v":""},{"$f":"IF(OR($I1413=\"\",$I1413=\"NSO\"),\"\",VLOOKUP($A1408,'Result Entry'!$B$9:$DX$108,105,0))","v":""},{"$f":"IF(OR($I1413=\"\",$I1413=\"NSO\"),\"\",VLOOKUP($A1408,'Result Entry'!$B$9:$DX$108,107,0))","v":""}]
[null,"◐",{"$nulls":6},"Total Meetings :-",null,{"$f":"IF(OR($I1413=\"\",$I1413=\"NSO\"),\"\",VLOOKUP($A1408,'Result Entry'!$B$9:$DX$108,98,0))","v":0},"Attedance %"]
[null,"◐","Extra Subjects",{"$nulls":5},"Student's Meetings :-",null,{"$f":"IF(OR($I1413=\"\",$I1413=\"NSO\"),\"\",VLOOKUP($A1408,'Result Entry'!$B$9:$DX$108,99,0))","v":0},{"$f":"IF(OR($I1413=\"\",$I1413=\"NSO\"),\"\",VLOOKUP($A1408,'Result Entry'!$B$9:$DX$108,100,0))","v":""}]
[null,"◐","Subject",null,null,"Total Marks",null,"GRADE","Remark :-",null,{"$f":"IF(OR($I1413=\"\",$I1413=\"NSO\"),\"\",VLOOKUP($A1408,'Result Entry'!$B$9:$DX$108,108,0))","v":0}]
[null,"◐",{"$nulls":6},"Result Date :-",null,{"$f":"'Result Entry'!$T$2","v":"2023-05-24"}]
[null,"◐",{"$f":"'Result Entry'!$BW$3","v":"WORK EXP."},null,null,{"$f":"IF(OR(C1434=\"\",$I1413=\"NSO\"),\"\",VLOOKUP($A1408,'Result Entry'!$B$9:$DX$108,119,0))","v":"0/50"},null,{"$f":"IF(OR(C1434=\"\",$I1413=\"NSO\"),\"\",VLOOKUP($A1408,'Result Entry'!$B$9:$DX$108,81,0))","v":""}]
[null,null,{"$f":"'Result Entry'!$CE$3","v":"ART EDU."},null,null,{"$f":"IF(OR(C1435=\"\",$I1413=\"NSO\"),\"\",VLOOKUP($A1408,'Result Entry'!$B$9:$DX$108,123,0))","v":"0/50"},null,{"$f":"IF(OR(C1435=\"\",$I1413=\"NSO\"),\"\",VLOOKUP($A1408,'Result Entry'!$B$9:$DX$108,89,0))","v":""}]
[null,"◐",{"$f":"'Result Entry'!$CM$3","v":"H&P. EDU."},null,null,{"$f":"IF(OR(C1436=\"\",$I1413=\"NSO\"),\"\",VLOOKUP($A1408,'Result Entry'!$B$9:$DX$108,127,0))","v":"0/100"},null,{"$f":"IF(OR(C1436=\"\",$I1413=\"NSO\"),\"\",VLOOKUP($A1408,'Result Entry'!$B$9:$DX$108,97,0))","v":""},"Signature Of The Class Teacher"]
[null,"◐","Grading System"]
[null,"◐","Grd.","% Range",null,"Description"]
[null,"◐","A","86-100",null,"Excellent",null,null,"Signature And Seal Of Principal/H.M."]
[null,"◐","B","71-85",null,"Very Good"]
[null,"◐","C","51-70",null,"Good"]
[null,"◐","D","31-50",null,"Average"]
[null,"◐","E","0-30",null,"Needs Improvement",null,null,"Wish bright future"]
[]
[]
[{"$f":"A1408+1","v":39},"Department Of Education, Rajasthan"]
[null,{"$f":"IF(I1451>0,CONCATENATE(C1451,I1451),0)","v":0},null,{"$f":"Master!$E$8","v":"Govt.Sr.Sec.Sch. "}]
[{"$nulls":3},{"$f":"Master!$E$11","v":"P.S.-Bapini (Jodhpur)"}]
[null,null,"Report Card",{"$nulls":6},"U-DISE Code:-",null,{"$f":"Master!$E$14","v":{"v":810000000,"d":"0810000000"}}]
[{"$nulls":9},"Session:-",null,{"$f":"Master!$E$6","v":"2022-23"}]
[null,null,"Roll No.:-",{"$nulls":5},{"$f":"VLOOKUP($A1446,'Result Entry'!$B$9:$F$108,5,0)","v":0}]
[null,"◐","Scholar Number",{"$nulls":3},"↠",{"$f":"VLOOKUP($A1446,'Result Entry'!$B$9:$DX$108,3,0)","v":0}]
[null,"◐","Student's Name",{"$nulls":3},"↠",{"$f":"VLOOKUP($A1446,'Result Entry'!$B$9:$DX$108,6,0)","v":0}]
[null,"◐","Father's Name",{"$nulls":3},"↠",{"$f":"VLOOKUP($A1446,'Result Entry'!$B$9:$DX$108,7,0)","v":0}]
[null,"◐","Mother's Name ",{"$nulls":3},"↠",{"$f":"VLOOKUP($A1446,'Result Entry'!$B$9:$DX$108,8,0)","v":0}]
[null,"◐","Class & Section",{"$nulls":3},"↠",{"$f":"CONCATENATE('Result Entry'!$F$4,'Result Entry'!$I$4)","v":"2(A)"}]
[null,"◐","Date Of Birth",{"$nulls":3},"↠",{"$f":"VLOOKUP($A1446,'Result Entry'!$B$9:$DX$108,9,0)","v":"00:00:00"}]
[null,"◐","Subject",{"$nulls":4},"Half Yearly","Total (T+H.Y.)","Yearly","Grand Total",null,"Subject Grade"]
[null,"◐","Max. Marks",{"$nulls":4},{"$f":"'Result Entry'!$Q$7","v":100},{"$f":"G1459+H1459","v":100},{"$f":"'Result Entry'!$U$7","v":100},{"$f":"I1459+J1459","v":200},null,"A/B/C/D/E"]
[null,"◐",{"$f":"'Result Entry'!$K$3","v":"Hindi"},{"$nulls":4},{"$f":"IF(OR(C1460=\"\",$I1451=\"NSO\"),\"\",VLOOKUP($A1446,'Result Entry'!$B$9:$DX$108,16,0))","v":0},{"$f":"SUM(G1460,H1460)","v":0},{"$f":"IF(OR(C1460=\"\",$I1451=\"NSO\"),\"\",VLOOKUP($A1446,'Result Entry'!$B$9:$DX$108,20,0))","v":0},{"$f":"SUM(I1460,J1460)","v":0},null,{"$f":"IF(OR(C1460=\"\",$I1451=\"NSO\"),\"\",VLOOKUP($A1446,'Result Entry'!$B$9:$DX$108,23,0))","v":""}]
[null,"◐",{"$f":"'Result Entry'!$Y$3","v":"Mathematics"},{"$nulls":4},{"$f":"IF(OR(C1461=\"\",$I1451=\"NSO\"),\"\",VLOOKUP($A1446,'Result Entry'!$B$9:$DX$108,30,0))","v":0},{"$f":"SUM(G1461,H1461)","v":0},{"$f":"IF(OR(C1461=\"\",$I1451=\"NSO\"),\"\",VLOOKUP($A1446,'Result Entry'!$B$9:$DX$108,34,0))","v":0},{"$f":"SUM(I1461,J1461)","v":0},null,{"$f":"IF(OR(C1461=\"\",$I1451=\"NSO\"),\"\",VLOOKUP($A1446,'Result Entry'!$B$9:$DX$108,37,0))","v":""}]
[null,"◐",{"$f":"'Result Entry'!$BO$3","v":"Env. Study"},{"$nulls":4},{"$f":"IF(OR(C1462=\"\",$I1451=\"NSO\"),\"\",VLOOKUP($A1446,'Result Entry'!$B$9:$DX$108,66,0))","v":0},0,{"$f":"IF(OR(C1462=\"\",$I1451=\"NSO\"),\"\",VLOOKUP($A1446,'Result Entry'!$B$9:$DX$108,67,0))","v":0},0,null,{"$f":"IF(OR(C1462=\"\",$I1451=\"NSO\"),\"\",VLOOKUP($A1446,'Result Entry'!$B$9:$DX$108,73,0))","v":""}]
[null,"◐","Max. Marks",{"$nulls":4},{"$f":"'Result Entry'!$AS$7","v":50},50,{"$f":"'Result Entry'!$AW$7","v":50},100,null,"A/B/C/D/E"]
[null,"◐",{"$f":"'Result Entry'!$AM$3","v":"English"},{"$nulls":4},{"$f":"IF(OR(C1464=\"\",$I1451=\"NSO\"),\"\",VLOOKUP($A1446,'Result Entry'!$B$9:$DX$108,44,0))","v":0},0,{"$f":"IF(OR(C1464=\"\",$I1451=\"NSO\"),\"\",VLOOKUP($A1446,'Result Entry'!$B$9:$DX$108,48,0))","v":0},0,null,{"$f":"IF(OR(C1464=\"\",$I1451=\"NSO\"),\"\",VLOOKUP($A1446,'Result Entry'!$B$9:$DX$108,51,0))","v":""}]
[null,"◐"]
[null,"◐","Overall Result",null,null,"Total Max. Marks",null,"Total Obtained Marks",null,"Percentage","Overall Grade","Result","Position in Class"]
[null,"◐",{"$nulls":3},{"$f":"IF(OR($I1451=\"\",$I1451=\"NSO\"),\"\",VLOOKUP($A1446,'Result Entry'!$B$9:$DX$108,101,0))","v":500},null,{"$f":"IF(OR($I1451=\"\",$I1451=\"NSO\"),\"\",VLOOKUP($A1446,'Result Entry'!$B$9:$DX$108,102,0))","v":0},null,{"$f":"IF(OR($I1451=\"\",$I1451=\"NSO\"),\"\",VLOOKUP($A1446,'Result Entry'!$B$9:$DX$108,103,0))","v":{"v":0,"d":"0.00"}},{"$f":"IF(OR($I1451=\"\",$I1451=\"NSO\"),\"\",VLOOKUP($A1446,'Result Entry'!$B$9:$DX$108,104,0))","v":""},{"$f":"IF(OR($I1451=\"\",$I1451=\"NSO\"),\"\",VLOOKUP($A1446,'Result Entry'!$B$9:$DX$108,105,0))","v":""},{"$f":"IF(OR($I1451=\"\",$I1451=\"NSO\"),\"\",VLOOKUP($A1446,'Result Entry'!$B$9:$DX$108,107,0))","v":""}]
[null,"◐",{"$nulls":6},"Total Meetings :-",null,{"$f":"IF(OR($I1451=\"\",$I1451=\"NSO\"),\"\",VLOOKUP($A1446,'Result Entry'!$B$9:$DX$108,98,0))","v":0},"Attedance %"]
[null,"◐","Extra Subjects",{"$nulls":5},"Student's Meetings :-",null,{"$f":"IF(OR($I1451=\"\",$I1451=\"NSO\"),\"\",VLOOKUP($A1446,'Result Entry'!$B$9:$DX$108,99,0))","v":0},{"$f":"IF(OR($I1451=\"\",$I1451=\"NSO\"),\"\",VLOOKUP($A1446,'Result Entry'!$B$9:$DX$108,100,0))","v":""}]
[null,"◐","Subject",null,null,"Total Marks",null,"GRADE","Remark :-",null,{"$f":"IF(OR($I1451=\"\",$I1451=\"NSO\"),\"\",VLOOKUP($A1446,'Result Entry'!$B$9:$DX$108,108,0))","v":0}]
[null,"◐",{"$nulls":6},"Result Date :-",null,{"$f":"'Result Entry'!$T$2","v":"2023-05-24"}]
[null,"◐",{"$f":"'Result Entry'!$BW$3","v":"WORK EXP."},null,null,{"$f":"IF(OR(C1472=\"\",$I1451=\"NSO\"),\"\",VLOOKUP($A1446,'Result Entry'!$B$9:$DX$108,119,0))","v":"0/50"},null,{"$f":"IF(OR(C1472=\"\",$I1451=\"NSO\"),\"\",VLOOKUP($A1446,'Result Entry'!$B$9:$DX$108,81,0))","v":""}]
[null,null,{"$f":"'Result Entry'!$CE$3","v":"ART EDU."},null,null,{"$f":"IF(OR(C1473=\"\",$I1451=\"NSO\"),\"\",VLOOKUP($A1446,'Result Entry'!$B$9:$DX$108,123,0))","v":"0/50"},null,{"$f":"IF(OR(C1473=\"\",$I1451=\"NSO\"),\"\",VLOOKUP($A1446,'Result Entry'!$B$9:$DX$108,89,0))","v":""}]
[null,"◐",{"$f":"'Result Entry'!$CM$3","v":"H&P. EDU."},null,null,{"$f":"IF(OR(C1474=\"\",$I1451=\"NSO\"),\"\",VLOOKUP($A1446,'Result Entry'!$B$9:$DX$108,127,0))","v":"0/100"},null,{"$f":"IF(OR(C1474=\"\",$I1451=\"NSO\"),\"\",VLOOKUP($A1446,'Result Entry'!$B$9:$DX$108,97,0))","v":""},"Signature Of The Class Teacher"]
[null,"◐","Grading System"]
[null,"◐","Grd.","% Range",null,"Description"]
[null,"◐","A","86-100",null,"Excellent",null,null,"Signature And Seal Of Principal/H.M."]
[null,"◐","B","71-85",null,"Very Good"]
[null,"◐","C","51-70",null,"Good"]
[null,"◐","D","31-50",null,"Average"]
[null,"◐","E","0-30",null,"Needs Improvement",null,null,"Wish bright future"]
[]
[]
[{"$f":"A1446+1","v":40},"Department Of Education, Rajasthan"]
[null,{"$f":"IF(I1489>0,CONCATENATE(C1489,I1489),0)","v":0},null,{"$f":"Master!$E$8","v":"Govt.Sr.Sec.Sch. "}]
[{"$nulls":3},{"$f":"Master!$E$11","v":"P.S.-Bapini (Jodhpur)"}]
[null,null,"Report Card",{"$nulls":6},"U-DISE Code:-",null,{"$f":"Master!$E$14","v":{"v":810000000,"d":"0810000000"}}]
[{"$nulls":9},"Session:-",null,{"$f":"Master!$E$6","v":"2022-23"}]
[null,null,"Roll No.:-",{"$nulls":5},{"$f":"VLOOKUP($A1484,'Result Entry'!$B$9:$F$108,5,0)","v":0}]
[null,"◐","Scholar Number",{"$nulls":3},"↠",{"$f":"VLOOKUP($A1484,'Result Entry'!$B$9:$DX$108,3,0)","v":0}]
[null,"◐","Student's Name",{"$nulls":3},"↠",{"$f":"VLOOKUP($A1484,'Result Entry'!$B$9:$DX$108,6,0)","v":0}]
[null,"◐","Father's Name",{"$nulls":3},"↠",{"$f":"VLOOKUP($A1484,'Result Entry'!$B$9:$DX$108,7,0)","v":0}]
[null,"◐","Mother's Name ",{"$nulls":3},"↠",{"$f":"VLOOKUP($A1484,'Result Entry'!$B$9:$DX$108,8,0)","v":0}]
[null,"◐","Class & Section",{"$nulls":3},"↠",{"$f":"CONCATENATE('Result Entry'!$F$4,'Result Entry'!$I$4)","v":"2(A)"}]
[null,"◐","Date Of Birth",{"$nulls":3},"↠",{"$f":"VLOOKUP($A1484,'Result Entry'!$B$9:$DX$108,9,0)","v":"00:00:00"}]
[null,"◐","Subject",{"$nulls":4},"Half Yearly","Total (T+H.Y.)","Yearly","Grand Total",null,"Subject Grade"]
[null,"◐","Max. Marks",{"$nulls":4},{"$f":"'Result Entry'!$Q$7","v":100},{"$f":"G1497+H1497","v":100},{"$f":"'Result Entry'!$U$7","v":100},{"$f":"I1497+J1497","v":200},null,"A/B/C/D/E"]
[null,"◐",{"$f":"'Result Entry'!$K$3","v":"Hindi"},{"$nulls":4},{"$f":"IF(OR(C1498=\"\",$I1489=\"NSO\"),\"\",VLOOKUP($A1484,'Result Entry'!$B$9:$DX$108,16,0))","v":0},{"$f":"SUM(G1498,H1498)","v":0},{"$f":"IF(OR(C1498=\"\",$I1489=\"NSO\"),\"\",VLOOKUP($A1484,'Result Entry'!$B$9:$DX$108,20,0))","v":0},{"$f":"SUM(I1498,J1498)","v":0},null,{"$f":"IF(OR(C1498=\"\",$I1489=\"NSO\"),\"\",VLOOKUP($A1484,'Result Entry'!$B$9:$DX$108,23,0))","v":""}]
[null,"◐",{"$f":"'Result Entry'!$Y$3","v":"Mathematics"},{"$nulls":4},{"$f":"IF(OR(C1499=\"\",$I1489=\"NSO\"),\"\",VLOOKUP($A1484,'Result Entry'!$B$9:$DX$108,30,0))","v":0},{"$f":"SUM(G1499,H1499)","v":0},{"$f":"IF(OR(C1499=\"\",$I1489=\"NSO\"),\"\",VLOOKUP($A1484,'Result Entry'!$B$9:$DX$108,34,0))","v":0},{"$f":"SUM(I1499,J1499)","v":0},null,{"$f":"IF(OR(C1499=\"\",$I1489=\"NSO\"),\"\",VLOOKUP($A1484,'Result Entry'!$B$9:$DX$108,37,0))","v":""}]
[null,"◐",{"$f":"'Result Entry'!$BO$3","v":"Env. Study"},{"$nulls":4},{"$f":"IF(OR(C1500=\"\",$I1489=\"NSO\"),\"\",VLOOKUP($A1484,'Result Entry'!$B$9:$DX$108,66,0))","v":0},0,{"$f":"IF(OR(C1500=\"\",$I1489=\"NSO\"),\"\",VLOOKUP($A1484,'Result Entry'!$B$9:$DX$108,67,0))","v":0},0,null,{"$f":"IF(OR(C1500=\"\",$I1489=\"NSO\"),\"\",VLOOKUP($A1484,'Result Entry'!$B$9:$DX$108,73,0))","v":""}]
[null,"◐","Max. Marks",{"$nulls":4},{"$f":"'Result Entry'!$AS$7","v":50},50,{"$f":"'Result Entry'!$AW$7","v":50},100,null,"A/B/C/D/E"]
[null,"◐",{"$f":"'Result Entry'!$AM$3","v":"English"},{"$nulls":4},{"$f":"IF(OR(C1502=\"\",$I1489=\"NSO\"),\"\",VLOOKUP($A1484,'Result Entry'!$B$9:$DX$108,44,0))","v":0},0,{"$f":"IF(OR(C1502=\"\",$I1489=\"NSO\"),\"\",VLOOKUP($A1484,'Result Entry'!$B$9:$DX$108,48,0))","v":0},0,null,{"$f":"IF(OR(C1502=\"\",$I1489=\"NSO\"),\"\",VLOOKUP($A1484,'Result Entry'!$B$9:$DX$108,51,0))","v":""}]
[null,"◐"]
[null,"◐","Overall Result",null,null,"Total Max. Marks",null,"Total Obtained Marks",null,"Percentage","Overall Grade","Result","Position in Class"]
[null,"◐",{"$nulls":3},{"$f":"IF(OR($I1489=\"\",$I1489=\"NSO\"),\"\",VLOOKUP($A1484,'Result Entry'!$B$9:$DX$108,101,0))","v":500},null,{"$f":"IF(OR($I1489=\"\",$I1489=\"NSO\"),\"\",VLOOKUP($A1484,'Result Entry'!$B$9:$DX$108,102,0))","v":0},null,{"$f":"IF(OR($I1489=\"\",$I1489=\"NSO\"),\"\",VLOOKUP($A1484,'Result Entry'!$B$9:$DX$108,103,0))","v":{"v":0,"d":"0.00"}},{"$f":"IF(OR($I1489=\"\",$I1489=\"NSO\"),\"\",VLOOKUP($A1484,'Result Entry'!$B$9:$DX$108,104,0))","v":""},{"$f":"IF(OR($I1489=\"\",$I1489=\"NSO\"),\"\",VLOOKUP($A1484,'Result Entry'!$B$9:$DX$108,105,0))","v":""},{"$f":"IF(OR($I1489=\"\",$I1489=\"NSO\"),\"\",VLOOKUP($A1484,'Result Entry'!$B$9:$DX$108,107,0))","v":""}]
[null,"◐",{"$nulls":6},"Total Meetings :-",null,{"$f":"IF(OR($I1489=\"\",$I1489=\"NSO\"),\"\",VLOOKUP($A1484,'Result Entry'!$B$9:$DX$108,98,0))","v":0},"Attedance %"]
[null,"◐","Extra Subjects",{"$nulls":5},"Student's Meetings :-",null,{"$f":"IF(OR($I1489=\"\",$I1489=\"NSO\"),\"\",VLOOKUP($A1484,'Result Entry'!$B$9:$DX$108,99,0))","v":0},{"$f":"IF(OR($I1489=\"\",$I1489=\"NSO\"),\"\",VLOOKUP($A1484,'Result Entry'!$B$9:$DX$108,100,0))","v":""}]
[null,"◐","Subject",null,null,"Total Marks",null,"GRADE","Remark :-",null,{"$f":"IF(OR($I1489=\"\",$I1489=\"NSO\"),\"\",VLOOKUP($A1484,'Result Entry'!$B$9:$DX$108,108,0))","v":0}]
[null,"◐",{"$nulls":6},"Result Date :-",null,{"$f":"'Result Entry'!$T$2","v":"2023-05-24"}]
[null,"◐",{"$f":"'Result Entry'!$BW$3","v":"WORK EXP."},null,null,{"$f":"IF(OR(C1510=\"\",$I1489=\"NSO\"),\"\",VLOOKUP($A1484,'Result Entry'!$B$9:$DX$108,119,0))","v":"0/50"},null,{"$f":"IF(OR(C1510=\"\",$I1489=\"NSO\"),\"\",VLOOKUP($A1484,'Result Entry'!$B$9:$DX$108,81,0))","v":""}]
[null,null,{"$f":"'Result Entry'!$CE$3","v":"ART EDU."},null,null,{"$f":"IF(OR(C1511=\"\",$I1489=\"NSO\"),\"\",VLOOKUP($A1484,'Result Entry'!$B$9:$DX$108,123,0))","v":"0/50"},null,{"$f":"IF(OR(C1511=\"\",$I1489=\"NSO\"),\"\",VLOOKUP($A1484,'Result Entry'!$B$9:$DX$108,89,0))","v":""}]
[null,"◐",{"$f":"'Result Entry'!$CM$3","v":"H&P. EDU."},null,null,{"$f":"IF(OR(C1512=\"\",$I1489=\"NSO\"),\"\",VLOOKUP($A1484,'Result Entry'!$B$9:$DX$108,127,0))","v":"0/100"},null,{"$f":"IF(OR(C1512=\"\",$I1489=\"NSO\"),\"\",VLOOKUP($A1484,'Result Entry'!$B$9:$DX$108,97,0))","v":""},"Signature Of The Class Teacher"]
[null,"◐","Grading System"]
[null,"◐","Grd.","% Range",null,"Description"]
[null,"◐","A","86-100",null,"Excellent",null,null,"Signature And Seal Of Principal/H.M."]
[null,"◐","B","71-85",null,"Very Good"]
[null,"◐","C","51-70",null,"Good"]
[null,"◐","D","31-50",null,"Average"]
[null,"◐","E","0-30",null,"Needs Improvement",null,null,"Wish bright future"]
[]
[]
[{"$f":"A1484+1","v":41},"Department Of Education, Rajasthan"]
[null,{"$f":"IF(I1527>0,CONCATENATE(C1527,I1527),0)","v":0},null,{"$f":"Master!$E$8","v":"Govt.Sr.Sec.Sch. "}]
[{"$nulls":3},{"$f":"Master!$E$11","v":"P.S.-Bapini (Jodhpur)"}]
[null,null,"Report Card",{"$nulls":6},"U-DISE Code:-",null,{"$f":"Master!$E$14","v":{"v":810000000,"d":"0810000000"}}]
[{"$nulls":9},"Session:-",null,{"$f":"Master!$E$6","v":"2022-23"}]
[null,null,"Roll No.:-",{"$nulls":5},{"$f":"VLOOKUP($A1522,'Result Entry'!$B$9:$F$108,5,0)","v":0}]
[null,"◐","Scholar Number",{"$nulls":3},"↠",{"$f":"VLOOKUP($A1522,'Result Entry'!$B$9:$DX$108,3,0)","v":0}]
[null,"◐","Student's Name",{"$nulls":3},"↠",{"$f":"VLOOKUP($A1522,'Result Entry'!$B$9:$DX$108,6,0)","v":0}]
[null,"◐","Father's Name",{"$nulls":3},"↠",{"$f":"VLOOKUP($A1522,'Result Entry'!$B$9:$DX$108,7,0)","v":0}]
[null,"◐","Mother's Name ",{"$nulls":3},"↠",{"$f":"VLOOKUP($A1522,'Result Entry'!$B$9:$DX$108,8,0)","v":0}]
[null,"◐","Class & Section",{"$nulls":3},"↠",{"$f":"CONCATENATE('Result Entry'!$F$4,'Result Entry'!$I$4)","v":"2(A)"}]
[null,"◐","Date Of Birth",{"$nulls":3},"↠",{"$f":"VLOOKUP($A1522,'Result Entry'!$B$9:$DX$108,9,0)","v":"00:00:00"}]
[null,"◐","Subject",{"$nulls":4},"Half Yearly","Total (T+H.Y.)","Yearly","Grand Total",null,"Subject Grade"]
[null,"◐","Max. Marks",{"$nulls":4},{"$f":"'Result Entry'!$Q$7","v":100},{"$f":"G1535+H1535","v":100},{"$f":"'Result Entry'!$U$7","v":100},{"$f":"I1535+J1535","v":200},null,"A/B/C/D/E"]
[null,"◐",{"$f":"'Result Entry'!$K$3","v":"Hindi"},{"$nulls":4},{"$f":"IF(OR(C1536=\"\",$I1527=\"NSO\"),\"\",VLOOKUP($A1522,'Result Entry'!$B$9:$DX$108,16,0))","v":0},{"$f":"SUM(G1536,H1536)","v":0},{"$f":"IF(OR(C1536=\"\",$I1527=\"NSO\"),\"\",VLOOKUP($A1522,'Result Entry'!$B$9:$DX$108,20,0))","v":0},{"$f":"SUM(I1536,J1536)","v":0},null,{"$f":"IF(OR(C1536=\"\",$I1527=\"NSO\"),\"\",VLOOKUP($A1522,'Result Entry'!$B$9:$DX$108,23,0))","v":""}]
[null,"◐",{"$f":"'Result Entry'!$Y$3","v":"Mathematics"},{"$nulls":4},{"$f":"IF(OR(C1537=\"\",$I1527=\"NSO\"),\"\",VLOOKUP($A1522,'Result Entry'!$B$9:$DX$108,30,0))","v":0},{"$f":"SUM(G1537,H1537)","v":0},{"$f":"IF(OR(C1537=\"\",$I1527=\"NSO\"),\"\",VLOOKUP($A1522,'Result Entry'!$B$9:$DX$108,34,0))","v":0},{"$f":"SUM(I1537,J1537)","v":0},null,{"$f":"IF(OR(C1537=\"\",$I1527=\"NSO\"),\"\",VLOOKUP($A1522,'Result Entry'!$B$9:$DX$108,37,0))","v":""}]
[null,"◐",{"$f":"'Result Entry'!$BO$3","v":"Env. Study"},{"$nulls":4},{"$f":"IF(OR(C1538=\"\",$I1527=\"NSO\"),\"\",VLOOKUP($A1522,'Result Entry'!$B$9:$DX$108,66,0))","v":0},0,{"$f":"IF(OR(C1538=\"\",$I1527=\"NSO\"),\"\",VLOOKUP($A1522,'Result Entry'!$B$9:$DX$108,67,0))","v":0},0,null,{"$f":"IF(OR(C1538=\"\",$I1527=\"NSO\"),\"\",VLOOKUP($A1522,'Result Entry'!$B$9:$DX$108,73,0))","v":""}]
[null,"◐","Max. Marks",{"$nulls":4},{"$f":"'Result Entry'!$AS$7","v":50},50,{"$f":"'Result Entry'!$AW$7","v":50},100,null,"A/B/C/D/E"]
[null,"◐",{"$f":"'Result Entry'!$AM$3","v":"English"},{"$nulls":4},{"$f":"IF(OR(C1540=\"\",$I1527=\"NSO\"),\"\",VLOOKUP($A1522,'Result Entry'!$B$9:$DX$108,44,0))","v":0},0,{"$f":"IF(OR(C1540=\"\",$I1527=\"NSO\"),\"\",VLOOKUP($A1522,'Result Entry'!$B$9:$DX$108,48,0))","v":0},0,null,{"$f":"IF(OR(C1540=\"\",$I1527=\"NSO\"),\"\",VLOOKUP($A1522,'Result Entry'!$B$9:$DX$108,51,0))","v":""}]
[null,"◐"]
[null,"◐","Overall Result",null,null,"Total Max. Marks",null,"Total Obtained Marks",null,"Percentage","Overall Grade","Result","Position in Class"]
[null,"◐",{"$nulls":3},{"$f":"IF(OR($I1527=\"\",$I1527=\"NSO\"),\"\",VLOOKUP($A1522,'Result Entry'!$B$9:$DX$108,101,0))","v":500},null,{"$f":"IF(OR($I1527=\"\",$I1527=\"NSO\"),\"\",VLOOKUP($A1522,'Result Entry'!$B$9:$DX$108,102,0))","v":0},null,{"$f":"IF(OR($I1527=\"\",$I1527=\"NSO\"),\"\",VLOOKUP($A1522,'Result Entry'!$B$9:$DX$108,103,0))","v":{"v":0,"d":"0.00"}},{"$f":"IF(OR($I1527=\"\",$I1527=\"NSO\"),\"\",VLOOKUP($A1522,'Result Entry'!$B$9:$DX$108,104,0))","v":""},{"$f":"IF(OR($I1527=\"\",$I1527=\"NSO\"),\"\",VLOOKUP($A1522,'Result Entry'!$B$9:$DX$108,105,0))","v":""},{"$f":"IF(OR($I1527=\"\",$I1527=\"NSO\"),\"\",VLOOKUP($A1522,'Result Entry'!$B$9:$DX$108,107,0))","v":""}]
[null,"◐",{"$nulls":6},"Total Meetings :-",null,{"$f":"IF(OR($I1527=\"\",$I1527=\"NSO\"),\"\",VLOOKUP($A1522,'Result Entry'!$B$9:$DX$108,98,0))","v":0},"Attedance %"]
[null,"◐","Extra Subjects",{"$nulls":5},"Student's Meetings :-",null,{"$f":"IF(OR($I1527=\"\",$I1527=\"NSO\"),\"\",VLOOKUP($A1522,'Result Entry'!$B$9:$DX$108,99,0))","v":0},{"$f":"IF(OR($I1527=\"\",$I1527=\"NSO\"),\"\",VLOOKUP($A1522,'Result Entry'!$B$9:$DX$108,100,0))","v":""}]
[null,"◐","Subject",null,null,"Total Marks",null,"GRADE","Remark :-",null,{"$f":"IF(OR($I1527=\"\",$I1527=\"NSO\"),\"\",VLOOKUP($A1522,'Result Entry'!$B$9:$DX$108,108,0))","v":0}]
[null,"◐",{"$nulls":6},"Result Date :-",null,{"$f":"'Result Entry'!$T$2","v":"2023-05-24"}]
[null,"◐",{"$f":"'Result Entry'!$BW$3","v":"WORK EXP."},null,null,{"$f":"IF(OR(C1548=\"\",$I1527=\"NSO\"),\"\",VLOOKUP($A1522,'Result Entry'!$B$9:$DX$108,119,0))","v":"0/50"},null,{"$f":"IF(OR(C1548=\"\",$I1527=\"NSO\"),\"\",VLOOKUP($A1522,'Result Entry'!$B$9:$DX$108,81,0))","v":""}]
[null,null,{"$f":"'Result Entry'!$CE$3","v":"ART EDU."},null,null,{"$f":"IF(OR(C1549=\"\",$I1527=\"NSO\"),\"\",VLOOKUP($A1522,'Result Entry'!$B$9:$DX$108,123,0))","v":"0/50"},null,{"$f":"IF(OR(C1549=\"\",$I1527=\"NSO\"),\"\",VLOOKUP($A1522,'Result Entry'!$B$9:$DX$108,89,0))","v":""}]
[null,"◐",{"$f":"'Result Entry'!$CM$3","v":"H&P. EDU."},null,null,{"$f":"IF(OR(C1550=\"\",$I1527=\"NSO\"),\"\",VLOOKUP($A1522,'Result Entry'!$B$9:$DX$108,127,0))","v":"0/100"},null,{"$f":"IF(OR(C1550=\"\",$I1527=\"NSO\"),\"\",VLOOKUP($A1522,'Result Entry'!$B$9:$DX$108,97,0))","v":""},"Signature Of The Class Teacher"]
[null,"◐","Grading System"]
[null,"◐","Grd.","% Range",null,"Description"]
[null,"◐","A","86-100",null,"Excellent",null,null,"Signature And Seal Of Principal/H.M."]
[null,"◐","B","71-85",null,"Very Good"]
[null,"◐","C","51-70",null,"Good"]
[null,"◐","D","31-50",null,"Average"]
[null,"◐","E","0-30",null,"Needs Improvement",null,null,"Wish bright future"]
[]
[]
[{"$f":"A1522+1","v":42},"Department Of Education, Rajasthan"]
[null,{"$f":"IF(I1565>0,CONCATENATE(C1565,I1565),0)","v":0},null,{"$f":"Master!$E$8","v":"Govt.Sr.Sec.Sch. "}]
[{"$nulls":3},{"$f":"Master!$E$11","v":"P.S.-Bapini (Jodhpur)"}]
[null,null,"Report Card",{"$nulls":6},"U-DISE Code:-",null,{"$f":"Master!$E$14","v":{"v":810000000,"d":"0810000000"}}]
[{"$nulls":9},"Session:-",null,{"$f":"Master!$E$6","v":"2022-23"}]
[null,null,"Roll No.:-",{"$nulls":5},{"$f":"VLOOKUP($A1560,'Result Entry'!$B$9:$F$108,5,0)","v":0}]
[null,"◐","Scholar Number",{"$nulls":3},"↠",{"$f":"VLOOKUP($A1560,'Result Entry'!$B$9:$DX$108,3,0)","v":0}]
[null,"◐","Student's Name",{"$nulls":3},"↠",{"$f":"VLOOKUP($A1560,'Result Entry'!$B$9:$DX$108,6,0)","v":0}]
[null,"◐","Father's Name",{"$nulls":3},"↠",{"$f":"VLOOKUP($A1560,'Result Entry'!$B$9:$DX$108,7,0)","v":0}]
[null,"◐","Mother's Name ",{"$nulls":3},"↠",{"$f":"VLOOKUP($A1560,'Result Entry'!$B$9:$DX$108,8,0)","v":0}]
[null,"◐","Class & Section",{"$nulls":3},"↠",{"$f":"CONCATENATE('Result Entry'!$F$4,'Result Entry'!$I$4)","v":"2(A)"}]
[null,"◐","Date Of Birth",{"$nulls":3},"↠",{"$f":"VLOOKUP($A1560,'Result Entry'!$B$9:$DX$108,9,0)","v":"00:00:00"}]
[null,"◐","Subject",{"$nulls":4},"Half Yearly","Total (T+H.Y.)","Yearly","Grand Total",null,"Subject Grade"]
[null,"◐","Max. Marks",{"$nulls":4},{"$f":"'Result Entry'!$Q$7","v":100},{"$f":"G1573+H1573","v":100},{"$f":"'Result Entry'!$U$7","v":100},{"$f":"I1573+J1573","v":200},null,"A/B/C/D/E"]
[null,"◐",{"$f":"'Result Entry'!$K$3","v":"Hindi"},{"$nulls":4},{"$f":"IF(OR(C1574=\"\",$I1565=\"NSO\"),\"\",VLOOKUP($A1560,'Result Entry'!$B$9:$DX$108,16,0))","v":0},{"$f":"SUM(G1574,H1574)","v":0},{"$f":"IF(OR(C1574=\"\",$I1565=\"NSO\"),\"\",VLOOKUP($A1560,'Result Entry'!$B$9:$DX$108,20,0))","v":0},{"$f":"SUM(I1574,J1574)","v":0},null,{"$f":"IF(OR(C1574=\"\",$I1565=\"NSO\"),\"\",VLOOKUP($A1560,'Result Entry'!$B$9:$DX$108,23,0))","v":""}]
[null,"◐",{"$f":"'Result Entry'!$Y$3","v":"Mathematics"},{"$nulls":4},{"$f":"IF(OR(C1575=\"\",$I1565=\"NSO\"),\"\",VLOOKUP($A1560,'Result Entry'!$B$9:$DX$108,30,0))","v":0},{"$f":"SUM(G1575,H1575)","v":0},{"$f":"IF(OR(C1575=\"\",$I1565=\"NSO\"),\"\",VLOOKUP($A1560,'Result Entry'!$B$9:$DX$108,34,0))","v":0},{"$f":"SUM(I1575,J1575)","v":0},null,{"$f":"IF(OR(C1575=\"\",$I1565=\"NSO\"),\"\",VLOOKUP($A1560,'Result Entry'!$B$9:$DX$108,37,0))","v":""}]
[null,"◐",{"$f":"'Result Entry'!$BO$3","v":"Env. Study"},{"$nulls":4},{"$f":"IF(OR(C1576=\"\",$I1565=\"NSO\"),\"\",VLOOKUP($A1560,'Result Entry'!$B$9:$DX$108,66,0))","v":0},0,{"$f":"IF(OR(C1576=\"\",$I1565=\"NSO\"),\"\",VLOOKUP($A1560,'Result Entry'!$B$9:$DX$108,67,0))","v":0},0,null,{"$f":"IF(OR(C1576=\"\",$I1565=\"NSO\"),\"\",VLOOKUP($A1560,'Result Entry'!$B$9:$DX$108,73,0))","v":""}]
[null,"◐","Max. Marks",{"$nulls":4},{"$f":"'Result Entry'!$AS$7","v":50},50,{"$f":"'Result Entry'!$AW$7","v":50},100,null,"A/B/C/D/E"]
[null,"◐",{"$f":"'Result Entry'!$AM$3","v":"English"},{"$nulls":4},{"$f":"IF(OR(C1578=\"\",$I1565=\"NSO\"),\"\",VLOOKUP($A1560,'Result Entry'!$B$9:$DX$108,44,0))","v":0},0,{"$f":"IF(OR(C1578=\"\",$I1565=\"NSO\"),\"\",VLOOKUP($A1560,'Result Entry'!$B$9:$DX$108,48,0))","v":0},0,null,{"$f":"IF(OR(C1578=\"\",$I1565=\"NSO\"),\"\",VLOOKUP($A1560,'Result Entry'!$B$9:$DX$108,51,0))","v":""}]
[null,"◐"]
[null,"◐","Overall Result",null,null,"Total Max. Marks",null,"Total Obtained Marks",null,"Percentage","Overall Grade","Result","Position in Class"]
[null,"◐",{"$nulls":3},{"$f":"IF(OR($I1565=\"\",$I1565=\"NSO\"),\"\",VLOOKUP($A1560,'Result Entry'!$B$9:$DX$108,101,0))","v":500},null,{"$f":"IF(OR($I1565=\"\",$I1565=\"NSO\"),\"\",VLOOKUP($A1560,'Result Entry'!$B$9:$DX$108,102,0))","v":0},null,{"$f":"IF(OR($I1565=\"\",$I1565=\"NSO\"),\"\",VLOOKUP($A1560,'Result Entry'!$B$9:$DX$108,103,0))","v":{"v":0,"d":"0.00"}},{"$f":"IF(OR($I1565=\"\",$I1565=\"NSO\"),\"\",VLOOKUP($A1560,'Result Entry'!$B$9:$DX$108,104,0))","v":""},{"$f":"IF(OR($I1565=\"\",$I1565=\"NSO\"),\"\",VLOOKUP($A1560,'Result Entry'!$B$9:$DX$108,105,0))","v":""},{"$f":"IF(OR($I1565=\"\",$I1565=\"NSO\"),\"\",VLOOKUP($A1560,'Result Entry'!$B$9:$DX$108,107,0))","v":""}]
[null,"◐",{"$nulls":6},"Total Meetings :-",null,{"$f":"IF(OR($I1565=\"\",$I1565=\"NSO\"),\"\",VLOOKUP($A1560,'Result Entry'!$B$9:$DX$108,98,0))","v":0},"Attedance %"]
[null,"◐","Extra Subjects",{"$nulls":5},"Student's Meetings :-",null,{"$f":"IF(OR($I1565=\"\",$I1565=\"NSO\"),\"\",VLOOKUP($A1560,'Result Entry'!$B$9:$DX$108,99,0))","v":0},{"$f":"IF(OR($I1565=\"\",$I1565=\"NSO\"),\"\",VLOOKUP($A1560,'Result Entry'!$B$9:$DX$108,100,0))","v":""}]
[null,"◐","Subject",null,null,"Total Marks",null,"GRADE","Remark :-",null,{"$f":"IF(OR($I1565=\"\",$I1565=\"NSO\"),\"\",VLOOKUP($A1560,'Result Entry'!$B$9:$DX$108,108,0))","v":0}]
[null,"◐",{"$nulls":6},"Result Date :-",null,{"$f":"'Result Entry'!$T$2","v":"2023-05-24"}]
[null,"◐",{"$f":"'Result Entry'!$BW$3","v":"WORK EXP."},null,null,{"$f":"IF(OR(C1586=\"\",$I1565=\"NSO\"),\"\",VLOOKUP($A1560,'Result Entry'!$B$9:$DX$108,119,0))","v":"0/50"},null,{"$f":"IF(OR(C1586=\"\",$I1565=\"NSO\"),\"\",VLOOKUP($A1560,'Result Entry'!$B$9:$DX$108,81,0))","v":""}]
[null,null,{"$f":"'Result Entry'!$CE$3","v":"ART EDU."},null,null,{"$f":"IF(OR(C1587=\"\",$I1565=\"NSO\"),\"\",VLOOKUP($A1560,'Result Entry'!$B$9:$DX$108,123,0))","v":"0/50"},null,{"$f":"IF(OR(C1587=\"\",$I1565=\"NSO\"),\"\",VLOOKUP($A1560,'Result Entry'!$B$9:$DX$108,89,0))","v":""}]
[null,"◐",{"$f":"'Result Entry'!$CM$3","v":"H&P. EDU."},null,null,{"$f":"IF(OR(C1588=\"\",$I1565=\"NSO\"),\"\",VLOOKUP($A1560,'Result Entry'!$B$9:$DX$108,127,0))","v":"0/100"},null,{"$f":"IF(OR(C1588=\"\",$I1565=\"NSO\"),\"\",VLOOKUP($A1560,'Result Entry'!$B$9:$DX$108,97,0))","v":""},"Signature Of The Class Teacher"]
[null,"◐","Grading System"]
[null,"◐","Grd.","% Range",null,"Description"]
[null,"◐","A","86-100",null,"Excellent",null,null,"Signature And Seal Of Principal/H.M."]
[null,"◐","B","71-85",null,"Very Good"]
[null,"◐","C","51-70",null,"Good"]
[null,"◐","D","31-50",null,"Average"]
[null,"◐","E","0-30",null,"Needs Improvement",null,null,"Wish bright future"]
[]
[]
[{"$f":"A1560+1","v":43},"Department Of Education, Rajasthan"]
[null,{"$f":"IF(I1603>0,CONCATENATE(C1603,I1603),0)","v":0},null,{"$f":"Master!$E$8","v":"Govt.Sr.Sec.Sch. "}]
[{"$nulls":3},{"$f":"Master!$E$11","v":"P.S.-Bapini (Jodhpur)"}]
[null,null,"Report Card",{"$nulls":6},"U-DISE Code:-",null,{"$f":"Master!$E$14","v":{"v":810000000,"d":"0810000000"}}]
[{"$nulls":9},"Session:-",null,{"$f":"Master!$E$6","v":"2022-23"}]
[null,null,"Roll No.:-",{"$nulls":5},{"$f":"VLOOKUP($A1598,'Result Entry'!$B$9:$F$108,5,0)","v":0}]
[null,"◐","Scholar Number",{"$nulls":3},"↠",{"$f":"VLOOKUP($A1598,'Result Entry'!$B$9:$DX$108,3,0)","v":0}]
[null,"◐","Student's Name",{"$nulls":3},"↠",{"$f":"VLOOKUP($A1598,'Result Entry'!$B$9:$DX$108,6,0)","v":0}]
[null,"◐","Father's Name",{"$nulls":3},"↠",{"$f":"VLOOKUP($A1598,'Result Entry'!$B$9:$DX$108,7,0)","v":0}]
[null,"◐","Mother's Name ",{"$nulls":3},"↠",{"$f":"VLOOKUP($A1598,'Result Entry'!$B$9:$DX$108,8,0)","v":0}]
[null,"◐","Class & Section",{"$nulls":3},"↠",{"$f":"CONCATENATE('Result Entry'!$F$4,'Result Entry'!$I$4)","v":"2(A)"}]
[null,"◐","Date Of Birth",{"$nulls":3},"↠",{"$f":"VLOOKUP($A1598,'Result Entry'!$B$9:$DX$108,9,0)","v":"00:00:00"}]
[null,"◐","Subject",{"$nulls":4},"Half Yearly","Total (T+H.Y.)","Yearly","Grand Total",null,"Subject Grade"]
[null,"◐","Max. Marks",{"$nulls":4},{"$f":"'Result Entry'!$Q$7","v":100},{"$f":"G1611+H1611","v":100},{"$f":"'Result Entry'!$U$7","v":100},{"$f":"I1611+J1611","v":200},null,"A/B/C/D/E"]
[null,"◐",{"$f":"'Result Entry'!$K$3","v":"Hindi"},{"$nulls":4},{"$f":"IF(OR(C1612=\"\",$I1603=\"NSO\"),\"\",VLOOKUP($A1598,'Result Entry'!$B$9:$DX$108,16,0))","v":0},{"$f":"SUM(G1612,H1612)","v":0},{"$f":"IF(OR(C1612=\"\",$I1603=\"NSO\"),\"\",VLOOKUP($A1598,'Result Entry'!$B$9:$DX$108,20,0))","v":0},{"$f":"SUM(I1612,J1612)","v":0},null,{"$f":"IF(OR(C1612=\"\",$I1603=\"NSO\"),\"\",VLOOKUP($A1598,'Result Entry'!$B$9:$DX$108,23,0))","v":""}]
[null,"◐",{"$f":"'Result Entry'!$Y$3","v":"Mathematics"},{"$nulls":4},{"$f":"IF(OR(C1613=\"\",$I1603=\"NSO\"),\"\",VLOOKUP($A1598,'Result Entry'!$B$9:$DX$108,30,0))","v":0},{"$f":"SUM(G1613,H1613)","v":0},{"$f":"IF(OR(C1613=\"\",$I1603=\"NSO\"),\"\",VLOOKUP($A1598,'Result Entry'!$B$9:$DX$108,34,0))","v":0},{"$f":"SUM(I1613,J1613)","v":0},null,{"$f":"IF(OR(C1613=\"\",$I1603=\"NSO\"),\"\",VLOOKUP($A1598,'Result Entry'!$B$9:$DX$108,37,0))","v":""}]
[null,"◐",{"$f":"'Result Entry'!$BO$3","v":"Env. Study"},{"$nulls":4},{"$f":"IF(OR(C1614=\"\",$I1603=\"NSO\"),\"\",VLOOKUP($A1598,'Result Entry'!$B$9:$DX$108,66,0))","v":0},0,{"$f":"IF(OR(C1614=\"\",$I1603=\"NSO\"),\"\",VLOOKUP($A1598,'Result Entry'!$B$9:$DX$108,67,0))","v":0},0,null,{"$f":"IF(OR(C1614=\"\",$I1603=\"NSO\"),\"\",VLOOKUP($A1598,'Result Entry'!$B$9:$DX$108,73,0))","v":""}]
[null,"◐","Max. Marks",{"$nulls":4},{"$f":"'Result Entry'!$AS$7","v":50},50,{"$f":"'Result Entry'!$AW$7","v":50},100,null,"A/B/C/D/E"]
[null,"◐",{"$f":"'Result Entry'!$AM$3","v":"English"},{"$nulls":4},{"$f":"IF(OR(C1616=\"\",$I1603=\"NSO\"),\"\",VLOOKUP($A1598,'Result Entry'!$B$9:$DX$108,44,0))","v":0},0,{"$f":"IF(OR(C1616=\"\",$I1603=\"NSO\"),\"\",VLOOKUP($A1598,'Result Entry'!$B$9:$DX$108,48,0))","v":0},0,null,{"$f":"IF(OR(C1616=\"\",$I1603=\"NSO\"),\"\",VLOOKUP($A1598,'Result Entry'!$B$9:$DX$108,51,0))","v":""}]
[null,"◐"]
[null,"◐","Overall Result",null,null,"Total Max. Marks",null,"Total Obtained Marks",null,"Percentage","Overall Grade","Result","Position in Class"]
[null,"◐",{"$nulls":3},{"$f":"IF(OR($I1603=\"\",$I1603=\"NSO\"),\"\",VLOOKUP($A1598,'Result Entry'!$B$9:$DX$108,101,0))","v":500},null,{"$f":"IF(OR($I1603=\"\",$I1603=\"NSO\"),\"\",VLOOKUP($A1598,'Result Entry'!$B$9:$DX$108,102,0))","v":0},null,{"$f":"IF(OR($I1603=\"\",$I1603=\"NSO\"),\"\",VLOOKUP($A1598,'Result Entry'!$B$9:$DX$108,103,0))","v":{"v":0,"d":"0.00"}},{"$f":"IF(OR($I1603=\"\",$I1603=\"NSO\"),\"\",VLOOKUP($A1598,'Result Entry'!$B$9:$DX$108,104,0))","v":""},{"$f":"IF(OR($I1603=\"\",$I1603=\"NSO\"),\"\",VLOOKUP($A1598,'Result Entry'!$B$9:$DX$108,105,0))","v":""},{"$f":"IF(OR($I1603=\"\",$I1603=\"NSO\"),\"\",VLOOKUP($A1598,'Result Entry'!$B$9:$DX$108,107,0))","v":""}]
[null,"◐",{"$nulls":6},"Total Meetings :-",null,{"$f":"IF(OR($I1603=\"\",$I1603=\"NSO\"),\"\",VLOOKUP($A1598,'Result Entry'!$B$9:$DX$108,98,0))","v":0},"Attedance %"]
[null,"◐","Extra Subjects",{"$nulls":5},"Student's Meetings :-",null,{"$f":"IF(OR($I1603=\"\",$I1603=\"NSO\"),\"\",VLOOKUP($A1598,'Result Entry'!$B$9:$DX$108,99,0))","v":0},{"$f":"IF(OR($I1603=\"\",$I1603=\"NSO\"),\"\",VLOOKUP($A1598,'Result Entry'!$B$9:$DX$108,100,0))","v":""}]
[null,"◐","Subject",null,null,"Total Marks",null,"GRADE","Remark :-",null,{"$f":"IF(OR($I1603=\"\",$I1603=\"NSO\"),\"\",VLOOKUP($A1598,'Result Entry'!$B$9:$DX$108,108,0))","v":0}]
[null,"◐",{"$nulls":6},"Result Date :-",null,{"$f":"'Result Entry'!$T$2","v":"2023-05-24"}]
[null,"◐",{"$f":"'Result Entry'!$BW$3","v":"WORK EXP."},null,null,{"$f":"IF(OR(C1624=\"\",$I1603=\"NSO\"),\"\",VLOOKUP($A1598,'Result Entry'!$B$9:$DX$108,119,0))","v":"0/50"},null,{"$f":"IF(OR(C1624=\"\",$I1603=\"NSO\"),\"\",VLOOKUP($A1598,'Result Entry'!$B$9:$DX$108,81,0))","v":""}]
[null,null,{"$f":"'Result Entry'!$CE$3","v":"ART EDU."},null,null,{"$f":"IF(OR(C1625=\"\",$I1603=\"NSO\"),\"\",VLOOKUP($A1598,'Result Entry'!$B$9:$DX$108,123,0))","v":"0/50"},null,{"$f":"IF(OR(C1625=\"\",$I1603=\"NSO\"),\"\",VLOOKUP($A1598,'Result Entry'!$B$9:$DX$108,89,0))","v":""}]
[null,"◐",{"$f":"'Result Entry'!$CM$3","v":"H&P. EDU."},null,null,{"$f":"IF(OR(C1626=\"\",$I1603=\"NSO\"),\"\",VLOOKUP($A1598,'Result Entry'!$B$9:$DX$108,127,0))","v":"0/100"},null,{"$f":"IF(OR(C1626=\"\",$I1603=\"NSO\"),\"\",VLOOKUP($A1598,'Result Entry'!$B$9:$DX$108,97,0))","v":""},"Signature Of The Class Teacher"]
[null,"◐","Grading System"]
[null,"◐","Grd.","% Range",null,"Description"]
[null,"◐","A","86-100",null,"Excellent",null,null,"Signature And Seal Of Principal/H.M."]
[null,"◐","B","71-85",null,"Very Good"]
[null,"◐","C","51-70",null,"Good"]
[null,"◐","D","31-50",null,"Average"]
[null,"◐","E","0-30",null,"Needs Improvement",null,null,"Wish bright future"]
[]
[]
[{"$f":"A1598+1","v":44},"Department Of Education, Rajasthan"]
[null,{"$f":"IF(I1641>0,CONCATENATE(C1641,I1641),0)","v":0},null,{"$f":"Master!$E$8","v":"Govt.Sr.Sec.Sch. "}]
[{"$nulls":3},{"$f":"Master!$E$11","v":"P.S.-Bapini (Jodhpur)"}]
[null,null,"Report Card",{"$nulls":6},"U-DISE Code:-",null,{"$f":"Master!$E$14","v":{"v":810000000,"d":"0810000000"}}]
[{"$nulls":9},"Session:-",null,{"$f":"Master!$E$6","v":"2022-23"}]
[null,null,"Roll No.:-",{"$nulls":5},{"$f":"VLOOKUP($A1636,'Result Entry'!$B$9:$F$108,5,0)","v":0}]
[null,"◐","Scholar Number",{"$nulls":3},"↠",{"$f":"VLOOKUP($A1636,'Result Entry'!$B$9:$DX$108,3,0)","v":0}]
[null,"◐","Student's Name",{"$nulls":3},"↠",{"$f":"VLOOKUP($A1636,'Result Entry'!$B$9:$DX$108,6,0)","v":0}]
[null,"◐","Father's Name",{"$nulls":3},"↠",{"$f":"VLOOKUP($A1636,'Result Entry'!$B$9:$DX$108,7,0)","v":0}]
[null,"◐","Mother's Name ",{"$nulls":3},"↠",{"$f":"VLOOKUP($A1636,'Result Entry'!$B$9:$DX$108,8,0)","v":0}]
[null,"◐","Class & Section",{"$nulls":3},"↠",{"$f":"CONCATENATE('Result Entry'!$F$4,'Result Entry'!$I$4)","v":"2(A)"}]
[null,"◐","Date Of Birth",{"$nulls":3},"↠",{"$f":"VLOOKUP($A1636,'Result Entry'!$B$9:$DX$108,9,0)","v":"00:00:00"}]
[null,"◐","Subject",{"$nulls":4},"Half Yearly","Total (T+H.Y.)","Yearly","Grand Total",null,"Subject Grade"]
[null,"◐","Max. Marks",{"$nulls":4},{"$f":"'Result Entry'!$Q$7","v":100},{"$f":"G1649+H1649","v":100},{"$f":"'Result Entry'!$U$7","v":100},{"$f":"I1649+J1649","v":200},null,"A/B/C/D/E"]
[null,"◐",{"$f":"'Result Entry'!$K$3","v":"Hindi"},{"$nulls":4},{"$f":"IF(OR(C1650=\"\",$I1641=\"NSO\"),\"\",VLOOKUP($A1636,'Result Entry'!$B$9:$DX$108,16,0))","v":0},{"$f":"SUM(G1650,H1650)","v":0},{"$f":"IF(OR(C1650=\"\",$I1641=\"NSO\"),\"\",VLOOKUP($A1636,'Result Entry'!$B$9:$DX$108,20,0))","v":0},{"$f":"SUM(I1650,J1650)","v":0},null,{"$f":"IF(OR(C1650=\"\",$I1641=\"NSO\"),\"\",VLOOKUP($A1636,'Result Entry'!$B$9:$DX$108,23,0))","v":""}]
[null,"◐",{"$f":"'Result Entry'!$Y$3","v":"Mathematics"},{"$nulls":4},{"$f":"IF(OR(C1651=\"\",$I1641=\"NSO\"),\"\",VLOOKUP($A1636,'Result Entry'!$B$9:$DX$108,30,0))","v":0},{"$f":"SUM(G1651,H1651)","v":0},{"$f":"IF(OR(C1651=\"\",$I1641=\"NSO\"),\"\",VLOOKUP($A1636,'Result Entry'!$B$9:$DX$108,34,0))","v":0},{"$f":"SUM(I1651,J1651)","v":0},null,{"$f":"IF(OR(C1651=\"\",$I1641=\"NSO\"),\"\",VLOOKUP($A1636,'Result Entry'!$B$9:$DX$108,37,0))","v":""}]
[null,"◐",{"$f":"'Result Entry'!$BO$3","v":"Env. Study"},{"$nulls":4},{"$f":"IF(OR(C1652=\"\",$I1641=\"NSO\"),\"\",VLOOKUP($A1636,'Result Entry'!$B$9:$DX$108,66,0))","v":0},0,{"$f":"IF(OR(C1652=\"\",$I1641=\"NSO\"),\"\",VLOOKUP($A1636,'Result Entry'!$B$9:$DX$108,67,0))","v":0},0,null,{"$f":"IF(OR(C1652=\"\",$I1641=\"NSO\"),\"\",VLOOKUP($A1636,'Result Entry'!$B$9:$DX$108,73,0))","v":""}]
[null,"◐","Max. Marks",{"$nulls":4},{"$f":"'Result Entry'!$AS$7","v":50},50,{"$f":"'Result Entry'!$AW$7","v":50},100,null,"A/B/C/D/E"]
[null,"◐",{"$f":"'Result Entry'!$AM$3","v":"English"},{"$nulls":4},{"$f":"IF(OR(C1654=\"\",$I1641=\"NSO\"),\"\",VLOOKUP($A1636,'Result Entry'!$B$9:$DX$108,44,0))","v":0},0,{"$f":"IF(OR(C1654=\"\",$I1641=\"NSO\"),\"\",VLOOKUP($A1636,'Result Entry'!$B$9:$DX$108,48,0))","v":0},0,null,{"$f":"IF(OR(C1654=\"\",$I1641=\"NSO\"),\"\",VLOOKUP($A1636,'Result Entry'!$B$9:$DX$108,51,0))","v":""}]
[null,"◐"]
[null,"◐","Overall Result",null,null,"Total Max. Marks",null,"Total Obtained Marks",null,"Percentage","Overall Grade","Result","Position in Class"]
[null,"◐",{"$nulls":3},{"$f":"IF(OR($I1641=\"\",$I1641=\"NSO\"),\"\",VLOOKUP($A1636,'Result Entry'!$B$9:$DX$108,101,0))","v":500},null,{"$f":"IF(OR($I1641=\"\",$I1641=\"NSO\"),\"\",VLOOKUP($A1636,'Result Entry'!$B$9:$DX$108,102,0))","v":0},null,{"$f":"IF(OR($I1641=\"\",$I1641=\"NSO\"),\"\",VLOOKUP($A1636,'Result Entry'!$B$9:$DX$108,103,0))","v":{"v":0,"d":"0.00"}},{"$f":"IF(OR($I1641=\"\",$I1641=\"NSO\"),\"\",VLOOKUP($A1636,'Result Entry'!$B$9:$DX$108,104,0))","v":""},{"$f":"IF(OR($I1641=\"\",$I1641=\"NSO\"),\"\",VLOOKUP($A1636,'Result Entry'!$B$9:$DX$108,105,0))","v":""},{"$f":"IF(OR($I1641=\"\",$I1641=\"NSO\"),\"\",VLOOKUP($A1636,'Result Entry'!$B$9:$DX$108,107,0))","v":""}]
[null,"◐",{"$nulls":6},"Total Meetings :-",null,{"$f":"IF(OR($I1641=\"\",$I1641=\"NSO\"),\"\",VLOOKUP($A1636,'Result Entry'!$B$9:$DX$108,98,0))","v":0},"Attedance %"]
[null,"◐","Extra Subjects",{"$nulls":5},"Student's Meetings :-",null,{"$f":"IF(OR($I1641=\"\",$I1641=\"NSO\"),\"\",VLOOKUP($A1636,'Result Entry'!$B$9:$DX$108,99,0))","v":0},{"$f":"IF(OR($I1641=\"\",$I1641=\"NSO\"),\"\",VLOOKUP($A1636,'Result Entry'!$B$9:$DX$108,100,0))","v":""}]
[null,"◐","Subject",null,null,"Total Marks",null,"GRADE","Remark :-",null,{"$f":"IF(OR($I1641=\"\",$I1641=\"NSO\"),\"\",VLOOKUP($A1636,'Result Entry'!$B$9:$DX$108,108,0))","v":0}]
[null,"◐",{"$nulls":6},"Result Date :-",null,{"$f":"'Result Entry'!$T$2","v":"2023-05-24"}]
[null,"◐",{"$f":"'Result Entry'!$BW$3","v":"WORK EXP."},null,null,{"$f":"IF(OR(C1662=\"\",$I1641=\"NSO\"),\"\",VLOOKUP($A1636,'Result Entry'!$B$9:$DX$108,119,0))","v":"0/50"},null,{"$f":"IF(OR(C1662=\"\",$I1641=\"NSO\"),\"\",VLOOKUP($A1636,'Result Entry'!$B$9:$DX$108,81,0))","v":""}]
[null,null,{"$f":"'Result Entry'!$CE$3","v":"ART EDU."},null,null,{"$f":"IF(OR(C1663=\"\",$I1641=\"NSO\"),\"\",VLOOKUP($A1636,'Result Entry'!$B$9:$DX$108,123,0))","v":"0/50"},null,{"$f":"IF(OR(C1663=\"\",$I1641=\"NSO\"),\"\",VLOOKUP($A1636,'Result Entry'!$B$9:$DX$108,89,0))","v":""}]
[null,"◐",{"$f":"'Result Entry'!$CM$3","v":"H&P. EDU."},null,null,{"$f":"IF(OR(C1664=\"\",$I1641=\"NSO\"),\"\",VLOOKUP($A1636,'Result Entry'!$B$9:$DX$108,127,0))","v":"0/100"},null,{"$f":"IF(OR(C1664=\"\",$I1641=\"NSO\"),\"\",VLOOKUP($A1636,'Result Entry'!$B$9:$DX$108,97,0))","v":""},"Signature Of The Class Teacher"]
[null,"◐","Grading System"]
[null,"◐","Grd.","% Range",null,"Description"]
[null,"◐","A","86-100",null,"Excellent",null,null,"Signature And Seal Of Principal/H.M."]
[null,"◐","B","71-85",null,"Very Good"]
[null,"◐","C","51-70",null,"Good"]
[null,"◐","D","31-50",null,"Average"]
[null,"◐","E","0-30",null,"Needs Improvement",null,null,"Wish bright future"]
[]
[]
[{"$f":"A1636+1","v":45},"Department Of Education, Rajasthan"]
[null,{"$f":"IF(I1679>0,CONCATENATE(C1679,I1679),0)","v":0},null,{"$f":"Master!$E$8","v":"Govt.Sr.Sec.Sch. "}]
[{"$nulls":3},{"$f":"Master!$E$11","v":"P.S.-Bapini (Jodhpur)"}]
[null,null,"Report Card",{"$nulls":6},"U-DISE Code:-",null,{"$f":"Master!$E$14","v":{"v":810000000,"d":"0810000000"}}]
[{"$nulls":9},"Session:-",null,{"$f":"Master!$E$6","v":"2022-23"}]
[null,null,"Roll No.:-",{"$nulls":5},{"$f":"VLOOKUP($A1674,'Result Entry'!$B$9:$F$108,5,0)","v":0}]
[null,"◐","Scholar Number",{"$nulls":3},"↠",{"$f":"VLOOKUP($A1674,'Result Entry'!$B$9:$DX$108,3,0)","v":0}]
[null,"◐","Student's Name",{"$nulls":3},"↠",{"$f":"VLOOKUP($A1674,'Result Entry'!$B$9:$DX$108,6,0)","v":0}]
[null,"◐","Father's Name",{"$nulls":3},"↠",{"$f":"VLOOKUP($A1674,'Result Entry'!$B$9:$DX$108,7,0)","v":0}]
[null,"◐","Mother's Name ",{"$nulls":3},"↠",{"$f":"VLOOKUP($A1674,'Result Entry'!$B$9:$DX$108,8,0)","v":0}]
[null,"◐","Class & Section",{"$nulls":3},"↠",{"$f":"CONCATENATE('Result Entry'!$F$4,'Result Entry'!$I$4)","v":"2(A)"}]
[null,"◐","Date Of Birth",{"$nulls":3},"↠",{"$f":"VLOOKUP($A1674,'Result Entry'!$B$9:$DX$108,9,0)","v":"00:00:00"}]
[null,"◐","Subject",{"$nulls":4},"Half Yearly","Total (T+H.Y.)","Yearly","Grand Total",null,"Subject Grade"]
[null,"◐","Max. Marks",{"$nulls":4},{"$f":"'Result Entry'!$Q$7","v":100},{"$f":"G1687+H1687","v":100},{"$f":"'Result Entry'!$U$7","v":100},{"$f":"I1687+J1687","v":200},null,"A/B/C/D/E"]
[null,"◐",{"$f":"'Result Entry'!$K$3","v":"Hindi"},{"$nulls":4},{"$f":"IF(OR(C1688=\"\",$I1679=\"NSO\"),\"\",VLOOKUP($A1674,'Result Entry'!$B$9:$DX$108,16,0))","v":0},{"$f":"SUM(G1688,H1688)","v":0},{"$f":"IF(OR(C1688=\"\",$I1679=\"NSO\"),\"\",VLOOKUP($A1674,'Result Entry'!$B$9:$DX$108,20,0))","v":0},{"$f":"SUM(I1688,J1688)","v":0},null,{"$f":"IF(OR(C1688=\"\",$I1679=\"NSO\"),\"\",VLOOKUP($A1674,'Result Entry'!$B$9:$DX$108,23,0))","v":""}]
[null,"◐",{"$f":"'Result Entry'!$Y$3","v":"Mathematics"},{"$nulls":4},{"$f":"IF(OR(C1689=\"\",$I1679=\"NSO\"),\"\",VLOOKUP($A1674,'Result Entry'!$B$9:$DX$108,30,0))","v":0},{"$f":"SUM(G1689,H1689)","v":0},{"$f":"IF(OR(C1689=\"\",$I1679=\"NSO\"),\"\",VLOOKUP($A1674,'Result Entry'!$B$9:$DX$108,34,0))","v":0},{"$f":"SUM(I1689,J1689)","v":0},null,{"$f":"IF(OR(C1689=\"\",$I1679=\"NSO\"),\"\",VLOOKUP($A1674,'Result Entry'!$B$9:$DX$108,37,0))","v":""}]
[null,"◐",{"$f":"'Result Entry'!$BO$3","v":"Env. Study"},{"$nulls":4},{"$f":"IF(OR(C1690=\"\",$I1679=\"NSO\"),\"\",VLOOKUP($A1674,'Result Entry'!$B$9:$DX$108,66,0))","v":0},0,{"$f":"IF(OR(C1690=\"\",$I1679=\"NSO\"),\"\",VLOOKUP($A1674,'Result Entry'!$B$9:$DX$108,67,0))","v":0},0,null,{"$f":"IF(OR(C1690=\"\",$I1679=\"NSO\"),\"\",VLOOKUP($A1674,'Result Entry'!$B$9:$DX$108,73,0))","v":""}]
[null,"◐","Max. Marks",{"$nulls":4},{"$f":"'Result Entry'!$AS$7","v":50},50,{"$f":"'Result Entry'!$AW$7","v":50},100,null,"A/B/C/D/E"]
[null,"◐",{"$f":"'Result Entry'!$AM$3","v":"English"},{"$nulls":4},{"$f":"IF(OR(C1692=\"\",$I1679=\"NSO\"),\"\",VLOOKUP($A1674,'Result Entry'!$B$9:$DX$108,44,0))","v":0},0,{"$f":"IF(OR(C1692=\"\",$I1679=\"NSO\"),\"\",VLOOKUP($A1674,'Result Entry'!$B$9:$DX$108,48,0))","v":0},0,null,{"$f":"IF(OR(C1692=\"\",$I1679=\"NSO\"),\"\",VLOOKUP($A1674,'Result Entry'!$B$9:$DX$108,51,0))","v":""}]
[null,"◐"]
[null,"◐","Overall Result",null,null,"Total Max. Marks",null,"Total Obtained Marks",null,"Percentage","Overall Grade","Result","Position in Class"]
[null,"◐",{"$nulls":3},{"$f":"IF(OR($I1679=\"\",$I1679=\"NSO\"),\"\",VLOOKUP($A1674,'Result Entry'!$B$9:$DX$108,101,0))","v":500},null,{"$f":"IF(OR($I1679=\"\",$I1679=\"NSO\"),\"\",VLOOKUP($A1674,'Result Entry'!$B$9:$DX$108,102,0))","v":0},null,{"$f":"IF(OR($I1679=\"\",$I1679=\"NSO\"),\"\",VLOOKUP($A1674,'Result Entry'!$B$9:$DX$108,103,0))","v":{"v":0,"d":"0.00"}},{"$f":"IF(OR($I1679=\"\",$I1679=\"NSO\"),\"\",VLOOKUP($A1674,'Result Entry'!$B$9:$DX$108,104,0))","v":""},{"$f":"IF(OR($I1679=\"\",$I1679=\"NSO\"),\"\",VLOOKUP($A1674,'Result Entry'!$B$9:$DX$108,105,0))","v":""},{"$f":"IF(OR($I1679=\"\",$I1679=\"NSO\"),\"\",VLOOKUP($A1674,'Result Entry'!$B$9:$DX$108,107,0))","v":""}]
[null,"◐",{"$nulls":6},"Total Meetings :-",null,{"$f":"IF(OR($I1679=\"\",$I1679=\"NSO\"),\"\",VLOOKUP($A1674,'Result Entry'!$B$9:$DX$108,98,0))","v":0},"Attedance %"]
[null,"◐","Extra Subjects",{"$nulls":5},"Student's Meetings :-",null,{"$f":"IF(OR($I1679=\"\",$I1679=\"NSO\"),\"\",VLOOKUP($A1674,'Result Entry'!$B$9:$DX$108,99,0))","v":0},{"$f":"IF(OR($I1679=\"\",$I1679=\"NSO\"),\"\",VLOOKUP($A1674,'Result Entry'!$B$9:$DX$108,100,0))","v":""}]
[null,"◐","Subject",null,null,"Total Marks",null,"GRADE","Remark :-",null,{"$f":"IF(OR($I1679=\"\",$I1679=\"NSO\"),\"\",VLOOKUP($A1674,'Result Entry'!$B$9:$DX$108,108,0))","v":0}]
[null,"◐",{"$nulls":6},"Result Date :-",null,{"$f":"'Result Entry'!$T$2","v":"2023-05-24"}]
[null,"◐",{"$f":"'Result Entry'!$BW$3","v":"WORK EXP."},null,null,{"$f":"IF(OR(C1700=\"\",$I1679=\"NSO\"),\"\",VLOOKUP($A1674,'Result Entry'!$B$9:$DX$108,119,0))","v":"0/50"},null,{"$f":"IF(OR(C1700=\"\",$I1679=\"NSO\"),\"\",VLOOKUP($A1674,'Result Entry'!$B$9:$DX$108,81,0))","v":""}]
[null,null,{"$f":"'Result Entry'!$CE$3","v":"ART EDU."},null,null,{"$f":"IF(OR(C1701=\"\",$I1679=\"NSO\"),\"\",VLOOKUP($A1674,'Result Entry'!$B$9:$DX$108,123,0))","v":"0/50"},null,{"$f":"IF(OR(C1701=\"\",$I1679=\"NSO\"),\"\",VLOOKUP($A1674,'Result Entry'!$B$9:$DX$108,89,0))","v":""}]
[null,"◐",{"$f":"'Result Entry'!$CM$3","v":"H&P. EDU."},null,null,{"$f":"IF(OR(C1702=\"\",$I1679=\"NSO\"),\"\",VLOOKUP($A1674,'Result Entry'!$B$9:$DX$108,127,0))","v":"0/100"},null,{"$f":"IF(OR(C1702=\"\",$I1679=\"NSO\"),\"\",VLOOKUP($A1674,'Result Entry'!$B$9:$DX$108,97,0))","v":""},"Signature Of The Class Teacher"]
[null,"◐","Grading System"]
[null,"◐","Grd.","% Range",null,"Description"]
[null,"◐","A","86-100",null,"Excellent",null,null,"Signature And Seal Of Principal/H.M."]
[null,"◐","B","71-85",null,"Very Good"]
[null,"◐","C","51-70",null,"Good"]
[null,"◐","D","31-50",null,"Average"]
[null,"◐","E","0-30",null,"Needs Improvement",null,null,"Wish bright future"]
[]
[]
[{"$f":"A1674+1","v":46},"Department Of Education, Rajasthan"]
[null,{"$f":"IF(I1717>0,CONCATENATE(C1717,I1717),0)","v":0},null,{"$f":"Master!$E$8","v":"Govt.Sr.Sec.Sch. "}]
[{"$nulls":3},{"$f":"Master!$E$11","v":"P.S.-Bapini (Jodhpur)"}]
[null,null,"Report Card",{"$nulls":6},"U-DISE Code:-",null,{"$f":"Master!$E$14","v":{"v":810000000,"d":"0810000000"}}]
[{"$nulls":9},"Session:-",null,{"$f":"Master!$E$6","v":"2022-23"}]
[null,null,"Roll No.:-",{"$nulls":5},{"$f":"VLOOKUP($A1712,'Result Entry'!$B$9:$F$108,5,0)","v":0}]
[null,"◐","Scholar Number",{"$nulls":3},"↠",{"$f":"VLOOKUP($A1712,'Result Entry'!$B$9:$DX$108,3,0)","v":0}]
[null,"◐","Student's Name",{"$nulls":3},"↠",{"$f":"VLOOKUP($A1712,'Result Entry'!$B$9:$DX$108,6,0)","v":0}]
[null,"◐","Father's Name",{"$nulls":3},"↠",{"$f":"VLOOKUP($A1712,'Result Entry'!$B$9:$DX$108,7,0)","v":0}]
[null,"◐","Mother's Name ",{"$nulls":3},"↠",{"$f":"VLOOKUP($A1712,'Result Entry'!$B$9:$DX$108,8,0)","v":0}]
[null,"◐","Class & Section",{"$nulls":3},"↠",{"$f":"CONCATENATE('Result Entry'!$F$4,'Result Entry'!$I$4)","v":"2(A)"}]
[null,"◐","Date Of Birth",{"$nulls":3},"↠",{"$f":"VLOOKUP($A1712,'Result Entry'!$B$9:$DX$108,9,0)","v":"00:00:00"}]
[null,"◐","Subject",{"$nulls":4},"Half Yearly","Total (T+H.Y.)","Yearly","Grand Total",null,"Subject Grade"]
[null,"◐","Max. Marks",{"$nulls":4},{"$f":"'Result Entry'!$Q$7","v":100},{"$f":"G1725+H1725","v":100},{"$f":"'Result Entry'!$U$7","v":100},{"$f":"I1725+J1725","v":200},null,"A/B/C/D/E"]
[null,"◐",{"$f":"'Result Entry'!$K$3","v":"Hindi"},{"$nulls":4},{"$f":"IF(OR(C1726=\"\",$I1717=\"NSO\"),\"\",VLOOKUP($A1712,'Result Entry'!$B$9:$DX$108,16,0))","v":0},{"$f":"SUM(G1726,H1726)","v":0},{"$f":"IF(OR(C1726=\"\",$I1717=\"NSO\"),\"\",VLOOKUP($A1712,'Result Entry'!$B$9:$DX$108,20,0))","v":0},{"$f":"SUM(I1726,J1726)","v":0},null,{"$f":"IF(OR(C1726=\"\",$I1717=\"NSO\"),\"\",VLOOKUP($A1712,'Result Entry'!$B$9:$DX$108,23,0))","v":""}]
[null,"◐",{"$f":"'Result Entry'!$Y$3","v":"Mathematics"},{"$nulls":4},{"$f":"IF(OR(C1727=\"\",$I1717=\"NSO\"),\"\",VLOOKUP($A1712,'Result Entry'!$B$9:$DX$108,30,0))","v":0},{"$f":"SUM(G1727,H1727)","v":0},{"$f":"IF(OR(C1727=\"\",$I1717=\"NSO\"),\"\",VLOOKUP($A1712,'Result Entry'!$B$9:$DX$108,34,0))","v":0},{"$f":"SUM(I1727,J1727)","v":0},null,{"$f":"IF(OR(C1727=\"\",$I1717=\"NSO\"),\"\",VLOOKUP($A1712,'Result Entry'!$B$9:$DX$108,37,0))","v":""}]
[null,"◐",{"$f":"'Result Entry'!$BO$3","v":"Env. Study"},{"$nulls":4},{"$f":"IF(OR(C1728=\"\",$I1717=\"NSO\"),\"\",VLOOKUP($A1712,'Result Entry'!$B$9:$DX$108,66,0))","v":0},0,{"$f":"IF(OR(C1728=\"\",$I1717=\"NSO\"),\"\",VLOOKUP($A1712,'Result Entry'!$B$9:$DX$108,67,0))","v":0},0,null,{"$f":"IF(OR(C1728=\"\",$I1717=\"NSO\"),\"\",VLOOKUP($A1712,'Result Entry'!$B$9:$DX$108,73,0))","v":""}]
[null,"◐","Max. Marks",{"$nulls":4},{"$f":"'Result Entry'!$AS$7","v":50},50,{"$f":"'Result Entry'!$AW$7","v":50},100,null,"A/B/C/D/E"]
[null,"◐",{"$f":"'Result Entry'!$AM$3","v":"English"},{"$nulls":4},{"$f":"IF(OR(C1730=\"\",$I1717=\"NSO\"),\"\",VLOOKUP($A1712,'Result Entry'!$B$9:$DX$108,44,0))","v":0},0,{"$f":"IF(OR(C1730=\"\",$I1717=\"NSO\"),\"\",VLOOKUP($A1712,'Result Entry'!$B$9:$DX$108,48,0))","v":0},0,null,{"$f":"IF(OR(C1730=\"\",$I1717=\"NSO\"),\"\",VLOOKUP($A1712,'Result Entry'!$B$9:$DX$108,51,0))","v":""}]
[null,"◐"]
[null,"◐","Overall Result",null,null,"Total Max. Marks",null,"Total Obtained Marks",null,"Percentage","Overall Grade","Result","Position in Class"]
[null,"◐",{"$nulls":3},{"$f":"IF(OR($I1717=\"\",$I1717=\"NSO\"),\"\",VLOOKUP($A1712,'Result Entry'!$B$9:$DX$108,101,0))","v":500},null,{"$f":"IF(OR($I1717=\"\",$I1717=\"NSO\"),\"\",VLOOKUP($A1712,'Result Entry'!$B$9:$DX$108,102,0))","v":0},null,{"$f":"IF(OR($I1717=\"\",$I1717=\"NSO\"),\"\",VLOOKUP($A1712,'Result Entry'!$B$9:$DX$108,103,0))","v":{"v":0,"d":"0.00"}},{"$f":"IF(OR($I1717=\"\",$I1717=\"NSO\"),\"\",VLOOKUP($A1712,'Result Entry'!$B$9:$DX$108,104,0))","v":""},{"$f":"IF(OR($I1717=\"\",$I1717=\"NSO\"),\"\",VLOOKUP($A1712,'Result Entry'!$B$9:$DX$108,105,0))","v":""},{"$f":"IF(OR($I1717=\"\",$I1717=\"NSO\"),\"\",VLOOKUP($A1712,'Result Entry'!$B$9:$DX$108,107,0))","v":""}]
[null,"◐",{"$nulls":6},"Total Meetings :-",null,{"$f":"IF(OR($I1717=\"\",$I1717=\"NSO\"),\"\",VLOOKUP($A1712,'Result Entry'!$B$9:$DX$108,98,0))","v":0},"Attedance %"]
[null,"◐","Extra Subjects",{"$nulls":5},"Student's Meetings :-",null,{"$f":"IF(OR($I1717=\"\",$I1717=\"NSO\"),\"\",VLOOKUP($A1712,'Result Entry'!$B$9:$DX$108,99,0))","v":0},{"$f":"IF(OR($I1717=\"\",$I1717=\"NSO\"),\"\",VLOOKUP($A1712,'Result Entry'!$B$9:$DX$108,100,0))","v":""}]
[null,"◐","Subject",null,null,"Total Marks",null,"GRADE","Remark :-",null,{"$f":"IF(OR($I1717=\"\",$I1717=\"NSO\"),\"\",VLOOKUP($A1712,'Result Entry'!$B$9:$DX$108,108,0))","v":0}]
[null,"◐",{"$nulls":6},"Result Date :-",null,{"$f":"'Result Entry'!$T$2","v":"2023-05-24"}]
[null,"◐",{"$f":"'Result Entry'!$BW$3","v":"WORK EXP."},null,null,{"$f":"IF(OR(C1738=\"\",$I1717=\"NSO\"),\"\",VLOOKUP($A1712,'Result Entry'!$B$9:$DX$108,119,0))","v":"0/50"},null,{"$f":"IF(OR(C1738=\"\",$I1717=\"NSO\"),\"\",VLOOKUP($A1712,'Result Entry'!$B$9:$DX$108,81,0))","v":""}]
[null,null,{"$f":"'Result Entry'!$CE$3","v":"ART EDU."},null,null,{"$f":"IF(OR(C1739=\"\",$I1717=\"NSO\"),\"\",VLOOKUP($A1712,'Result Entry'!$B$9:$DX$108,123,0))","v":"0/50"},null,{"$f":"IF(OR(C1739=\"\",$I1717=\"NSO\"),\"\",VLOOKUP($A1712,'Result Entry'!$B$9:$DX$108,89,0))","v":""}]
[null,"◐",{"$f":"'Result Entry'!$CM$3","v":"H&P. EDU."},null,null,{"$f":"IF(OR(C1740=\"\",$I1717=\"NSO\"),\"\",VLOOKUP($A1712,'Result Entry'!$B$9:$DX$108,127,0))","v":"0/100"},null,{"$f":"IF(OR(C1740=\"\",$I1717=\"NSO\"),\"\",VLOOKUP($A1712,'Result Entry'!$B$9:$DX$108,97,0))","v":""},"Signature Of The Class Teacher"]
[null,"◐","Grading System"]
[null,"◐","Grd.","% Range",null,"Description"]
[null,"◐","A","86-100",null,"Excellent",null,null,"Signature And Seal Of Principal/H.M."]
[null,"◐","B","71-85",null,"Very Good"]
[null,"◐","C","51-70",null,"Good"]
[null,"◐","D","31-50",null,"Average"]
[null,"◐","E","0-30",null,"Needs Improvement",null,null,"Wish bright future"]
[]
[]
[{"$f":"A1712+1","v":47},"Department Of Education, Rajasthan"]
[null,{"$f":"IF(I1755>0,CONCATENATE(C1755,I1755),0)","v":0},null,{"$f":"Master!$E$8","v":"Govt.Sr.Sec.Sch. "}]
[{"$nulls":3},{"$f":"Master!$E$11","v":"P.S.-Bapini (Jodhpur)"}]
[null,null,"Report Card",{"$nulls":6},"U-DISE Code:-",null,{"$f":"Master!$E$14","v":{"v":810000000,"d":"0810000000"}}]
[{"$nulls":9},"Session:-",null,{"$f":"Master!$E$6","v":"2022-23"}]
[null,null,"Roll No.:-",{"$nulls":5},{"$f":"VLOOKUP($A1750,'Result Entry'!$B$9:$F$108,5,0)","v":0}]
[null,"◐","Scholar Number",{"$nulls":3},"↠",{"$f":"VLOOKUP($A1750,'Result Entry'!$B$9:$DX$108,3,0)","v":0}]
[null,"◐","Student's Name",{"$nulls":3},"↠",{"$f":"VLOOKUP($A1750,'Result Entry'!$B$9:$DX$108,6,0)","v":0}]
[null,"◐","Father's Name",{"$nulls":3},"↠",{"$f":"VLOOKUP($A1750,'Result Entry'!$B$9:$DX$108,7,0)","v":0}]
[null,"◐","Mother's Name ",{"$nulls":3},"↠",{"$f":"VLOOKUP($A1750,'Result Entry'!$B$9:$DX$108,8,0)","v":0}]
[null,"◐","Class & Section",{"$nulls":3},"↠",{"$f":"CONCATENATE('Result Entry'!$F$4,'Result Entry'!$I$4)","v":"2(A)"}]
[null,"◐","Date Of Birth",{"$nulls":3},"↠",{"$f":"VLOOKUP($A1750,'Result Entry'!$B$9:$DX$108,9,0)","v":"00:00:00"}]
[null,"◐","Subject",{"$nulls":4},"Half Yearly","Total (T+H.Y.)","Yearly","Grand Total",null,"Subject Grade"]
[null,"◐","Max. Marks",{"$nulls":4},{"$f":"'Result Entry'!$Q$7","v":100},{"$f":"G1763+H1763","v":100},{"$f":"'Result Entry'!$U$7","v":100},{"$f":"I1763+J1763","v":200},null,"A/B/C/D/E"]
[null,"◐",{"$f":"'Result Entry'!$K$3","v":"Hindi"},{"$nulls":4},{"$f":"IF(OR(C1764=\"\",$I1755=\"NSO\"),\"\",VLOOKUP($A1750,'Result Entry'!$B$9:$DX$108,16,0))","v":0},{"$f":"SUM(G1764,H1764)","v":0},{"$f":"IF(OR(C1764=\"\",$I1755=\"NSO\"),\"\",VLOOKUP($A1750,'Result Entry'!$B$9:$DX$108,20,0))","v":0},{"$f":"SUM(I1764,J1764)","v":0},null,{"$f":"IF(OR(C1764=\"\",$I1755=\"NSO\"),\"\",VLOOKUP($A1750,'Result Entry'!$B$9:$DX$108,23,0))","v":""}]
[null,"◐",{"$f":"'Result Entry'!$Y$3","v":"Mathematics"},{"$nulls":4},{"$f":"IF(OR(C1765=\"\",$I1755=\"NSO\"),\"\",VLOOKUP($A1750,'Result Entry'!$B$9:$DX$108,30,0))","v":0},{"$f":"SUM(G1765,H1765)","v":0},{"$f":"IF(OR(C1765=\"\",$I1755=\"NSO\"),\"\",VLOOKUP($A1750,'Result Entry'!$B$9:$DX$108,34,0))","v":0},{"$f":"SUM(I1765,J1765)","v":0},null,{"$f":"IF(OR(C1765=\"\",$I1755=\"NSO\"),\"\",VLOOKUP($A1750,'Result Entry'!$B$9:$DX$108,37,0))","v":""}]
[null,"◐",{"$f":"'Result Entry'!$BO$3","v":"Env. Study"},{"$nulls":4},{"$f":"IF(OR(C1766=\"\",$I1755=\"NSO\"),\"\",VLOOKUP($A1750,'Result Entry'!$B$9:$DX$108,66,0))","v":0},0,{"$f":"IF(OR(C1766=\"\",$I1755=\"NSO\"),\"\",VLOOKUP($A1750,'Result Entry'!$B$9:$DX$108,67,0))","v":0},0,null,{"$f":"IF(OR(C1766=\"\",$I1755=\"NSO\"),\"\",VLOOKUP($A1750,'Result Entry'!$B$9:$DX$108,73,0))","v":""}]
[null,"◐","Max. Marks",{"$nulls":4},{"$f":"'Result Entry'!$AS$7","v":50},50,{"$f":"'Result Entry'!$AW$7","v":50},100,null,"A/B/C/D/E"]
[null,"◐",{"$f":"'Result Entry'!$AM$3","v":"English"},{"$nulls":4},{"$f":"IF(OR(C1768=\"\",$I1755=\"NSO\"),\"\",VLOOKUP($A1750,'Result Entry'!$B$9:$DX$108,44,0))","v":0},0,{"$f":"IF(OR(C1768=\"\",$I1755=\"NSO\"),\"\",VLOOKUP($A1750,'Result Entry'!$B$9:$DX$108,48,0))","v":0},0,null,{"$f":"IF(OR(C1768=\"\",$I1755=\"NSO\"),\"\",VLOOKUP($A1750,'Result Entry'!$B$9:$DX$108,51,0))","v":""}]
[null,"◐"]
[null,"◐","Overall Result",null,null,"Total Max. Marks",null,"Total Obtained Marks",null,"Percentage","Overall Grade","Result","Position in Class"]
[null,"◐",{"$nulls":3},{"$f":"IF(OR($I1755=\"\",$I1755=\"NSO\"),\"\",VLOOKUP($A1750,'Result Entry'!$B$9:$DX$108,101,0))","v":500},null,{"$f":"IF(OR($I1755=\"\",$I1755=\"NSO\"),\"\",VLOOKUP($A1750,'Result Entry'!$B$9:$DX$108,102,0))","v":0},null,{"$f":"IF(OR($I1755=\"\",$I1755=\"NSO\"),\"\",VLOOKUP($A1750,'Result Entry'!$B$9:$DX$108,103,0))","v":{"v":0,"d":"0.00"}},{"$f":"IF(OR($I1755=\"\",$I1755=\"NSO\"),\"\",VLOOKUP($A1750,'Result Entry'!$B$9:$DX$108,104,0))","v":""},{"$f":"IF(OR($I1755=\"\",$I1755=\"NSO\"),\"\",VLOOKUP($A1750,'Result Entry'!$B$9:$DX$108,105,0))","v":""},{"$f":"IF(OR($I1755=\"\",$I1755=\"NSO\"),\"\",VLOOKUP($A1750,'Result Entry'!$B$9:$DX$108,107,0))","v":""}]
[null,"◐",{"$nulls":6},"Total Meetings :-",null,{"$f":"IF(OR($I1755=\"\",$I1755=\"NSO\"),\"\",VLOOKUP($A1750,'Result Entry'!$B$9:$DX$108,98,0))","v":0},"Attedance %"]
[null,"◐","Extra Subjects",{"$nulls":5},"Student's Meetings :-",null,{"$f":"IF(OR($I1755=\"\",$I1755=\"NSO\"),\"\",VLOOKUP($A1750,'Result Entry'!$B$9:$DX$108,99,0))","v":0},{"$f":"IF(OR($I1755=\"\",$I1755=\"NSO\"),\"\",VLOOKUP($A1750,'Result Entry'!$B$9:$DX$108,100,0))","v":""}]
[null,"◐","Subject",null,null,"Total Marks",null,"GRADE","Remark :-",null,{"$f":"IF(OR($I1755=\"\",$I1755=\"NSO\"),\"\",VLOOKUP($A1750,'Result Entry'!$B$9:$DX$108,108,0))","v":0}]
[null,"◐",{"$nulls":6},"Result Date :-",null,{"$f":"'Result Entry'!$T$2","v":"2023-05-24"}]
[null,"◐",{"$f":"'Result Entry'!$BW$3","v":"WORK EXP."},null,null,{"$f":"IF(OR(C1776=\"\",$I1755=\"NSO\"),\"\",VLOOKUP($A1750,'Result Entry'!$B$9:$DX$108,119,0))","v":"0/50"},null,{"$f":"IF(OR(C1776=\"\",$I1755=\"NSO\"),\"\",VLOOKUP($A1750,'Result Entry'!$B$9:$DX$108,81,0))","v":""}]
[null,null,{"$f":"'Result Entry'!$CE$3","v":"ART EDU."},null,null,{"$f":"IF(OR(C1777=\"\",$I1755=\"NSO\"),\"\",VLOOKUP($A1750,'Result Entry'!$B$9:$DX$108,123,0))","v":"0/50"},null,{"$f":"IF(OR(C1777=\"\",$I1755=\"NSO\"),\"\",VLOOKUP($A1750,'Result Entry'!$B$9:$DX$108,89,0))","v":""}]
[null,"◐",{"$f":"'Result Entry'!$CM$3","v":"H&P. EDU."},null,null,{"$f":"IF(OR(C1778=\"\",$I1755=\"NSO\"),\"\",VLOOKUP($A1750,'Result Entry'!$B$9:$DX$108,127,0))","v":"0/100"},null,{"$f":"IF(OR(C1778=\"\",$I1755=\"NSO\"),\"\",VLOOKUP($A1750,'Result Entry'!$B$9:$DX$108,97,0))","v":""},"Signature Of The Class Teacher"]
[null,"◐","Grading System"]
[null,"◐","Grd.","% Range",null,"Description"]
[null,"◐","A","86-100",null,"Excellent",null,null,"Signature And Seal Of Principal/H.M."]
[null,"◐","B","71-85",null,"Very Good"]
[null,"◐","C","51-70",null,"Good"]
[null,"◐","D","31-50",null,"Average"]
[null,"◐","E","0-30",null,"Needs Improvement",null,null,"Wish bright future"]
[]
[]
[{"$f":"A1750+1","v":48},"Department Of Education, Rajasthan"]
[null,{"$f":"IF(I1793>0,CONCATENATE(C1793,I1793),0)","v":0},null,{"$f":"Master!$E$8","v":"Govt.Sr.Sec.Sch. "}]
[{"$nulls":3},{"$f":"Master!$E$11","v":"P.S.-Bapini (Jodhpur)"}]
[null,null,"Report Card",{"$nulls":6},"U-DISE Code:-",null,{"$f":"Master!$E$14","v":{"v":810000000,"d":"0810000000"}}]
[{"$nulls":9},"Session:-",null,{"$f":"Master!$E$6","v":"2022-23"}]
[null,null,"Roll No.:-",{"$nulls":5},{"$f":"VLOOKUP($A1788,'Result Entry'!$B$9:$F$108,5,0)","v":0}]
[null,"◐","Scholar Number",{"$nulls":3},"↠",{"$f":"VLOOKUP($A1788,'Result Entry'!$B$9:$DX$108,3,0)","v":0}]
[null,"◐","Student's Name",{"$nulls":3},"↠",{"$f":"VLOOKUP($A1788,'Result Entry'!$B$9:$DX$108,6,0)","v":0}]
[null,"◐","Father's Name",{"$nulls":3},"↠",{"$f":"VLOOKUP($A1788,'Result Entry'!$B$9:$DX$108,7,0)","v":0}]
[null,"◐","Mother's Name ",{"$nulls":3},"↠",{"$f":"VLOOKUP($A1788,'Result Entry'!$B$9:$DX$108,8,0)","v":0}]
[null,"◐","Class & Section",{"$nulls":3},"↠",{"$f":"CONCATENATE('Result Entry'!$F$4,'Result Entry'!$I$4)","v":"2(A)"}]
[null,"◐","Date Of Birth",{"$nulls":3},"↠",{"$f":"VLOOKUP($A1788,'Result Entry'!$B$9:$DX$108,9,0)","v":"00:00:00"}]
[null,"◐","Subject",{"$nulls":4},"Half Yearly","Total (T+H.Y.)","Yearly","Grand Total",null,"Subject Grade"]
[null,"◐","Max. Marks",{"$nulls":4},{"$f":"'Result Entry'!$Q$7","v":100},{"$f":"G1801+H1801","v":100},{"$f":"'Result Entry'!$U$7","v":100},{"$f":"I1801+J1801","v":200},null,"A/B/C/D/E"]
[null,"◐",{"$f":"'Result Entry'!$K$3","v":"Hindi"},{"$nulls":4},{"$f":"IF(OR(C1802=\"\",$I1793=\"NSO\"),\"\",VLOOKUP($A1788,'Result Entry'!$B$9:$DX$108,16,0))","v":0},{"$f":"SUM(G1802,H1802)","v":0},{"$f":"IF(OR(C1802=\"\",$I1793=\"NSO\"),\"\",VLOOKUP($A1788,'Result Entry'!$B$9:$DX$108,20,0))","v":0},{"$f":"SUM(I1802,J1802)","v":0},null,{"$f":"IF(OR(C1802=\"\",$I1793=\"NSO\"),\"\",VLOOKUP($A1788,'Result Entry'!$B$9:$DX$108,23,0))","v":""}]
[null,"◐",{"$f":"'Result Entry'!$Y$3","v":"Mathematics"},{"$nulls":4},{"$f":"IF(OR(C1803=\"\",$I1793=\"NSO\"),\"\",VLOOKUP($A1788,'Result Entry'!$B$9:$DX$108,30,0))","v":0},{"$f":"SUM(G1803,H1803)","v":0},{"$f":"IF(OR(C1803=\"\",$I1793=\"NSO\"),\"\",VLOOKUP($A1788,'Result Entry'!$B$9:$DX$108,34,0))","v":0},{"$f":"SUM(I1803,J1803)","v":0},null,{"$f":"IF(OR(C1803=\"\",$I1793=\"NSO\"),\"\",VLOOKUP($A1788,'Result Entry'!$B$9:$DX$108,37,0))","v":""}]
[null,"◐",{"$f":"'Result Entry'!$BO$3","v":"Env. Study"},{"$nulls":4},{"$f":"IF(OR(C1804=\"\",$I1793=\"NSO\"),\"\",VLOOKUP($A1788,'Result Entry'!$B$9:$DX$108,66,0))","v":0},0,{"$f":"IF(OR(C1804=\"\",$I1793=\"NSO\"),\"\",VLOOKUP($A1788,'Result Entry'!$B$9:$DX$108,67,0))","v":0},0,null,{"$f":"IF(OR(C1804=\"\",$I1793=\"NSO\"),\"\",VLOOKUP($A1788,'Result Entry'!$B$9:$DX$108,73,0))","v":""}]
[null,"◐","Max. Marks",{"$nulls":4},{"$f":"'Result Entry'!$AS$7","v":50},50,{"$f":"'Result Entry'!$AW$7","v":50},100,null,"A/B/C/D/E"]
[null,"◐",{"$f":"'Result Entry'!$AM$3","v":"English"},{"$nulls":4},{"$f":"IF(OR(C1806=\"\",$I1793=\"NSO\"),\"\",VLOOKUP($A1788,'Result Entry'!$B$9:$DX$108,44,0))","v":0},0,{"$f":"IF(OR(C1806=\"\",$I1793=\"NSO\"),\"\",VLOOKUP($A1788,'Result Entry'!$B$9:$DX$108,48,0))","v":0},0,null,{"$f":"IF(OR(C1806=\"\",$I1793=\"NSO\"),\"\",VLOOKUP($A1788,'Result Entry'!$B$9:$DX$108,51,0))","v":""}]
[null,"◐"]
[null,"◐","Overall Result",null,null,"Total Max. Marks",null,"Total Obtained Marks",null,"Percentage","Overall Grade","Result","Position in Class"]
[null,"◐",{"$nulls":3},{"$f":"IF(OR($I1793=\"\",$I1793=\"NSO\"),\"\",VLOOKUP($A1788,'Result Entry'!$B$9:$DX$108,101,0))","v":500},null,{"$f":"IF(OR($I1793=\"\",$I1793=\"NSO\"),\"\",VLOOKUP($A1788,'Result Entry'!$B$9:$DX$108,102,0))","v":0},null,{"$f":"IF(OR($I1793=\"\",$I1793=\"NSO\"),\"\",VLOOKUP($A1788,'Result Entry'!$B$9:$DX$108,103,0))","v":{"v":0,"d":"0.00"}},{"$f":"IF(OR($I1793=\"\",$I1793=\"NSO\"),\"\",VLOOKUP($A1788,'Result Entry'!$B$9:$DX$108,104,0))","v":""},{"$f":"IF(OR($I1793=\"\",$I1793=\"NSO\"),\"\",VLOOKUP($A1788,'Result Entry'!$B$9:$DX$108,105,0))","v":""},{"$f":"IF(OR($I1793=\"\",$I1793=\"NSO\"),\"\",VLOOKUP($A1788,'Result Entry'!$B$9:$DX$108,107,0))","v":""}]
[null,"◐",{"$nulls":6},"Total Meetings :-",null,{"$f":"IF(OR($I1793=\"\",$I1793=\"NSO\"),\"\",VLOOKUP($A1788,'Result Entry'!$B$9:$DX$108,98,0))","v":0},"Attedance %"]
[null,"◐","Extra Subjects",{"$nulls":5},"Student's Meetings :-",null,{"$f":"IF(OR($I1793=\"\",$I1793=\"NSO\"),\"\",VLOOKUP($A1788,'Result Entry'!$B$9:$DX$108,99,0))","v":0},{"$f":"IF(OR($I1793=\"\",$I1793=\"NSO\"),\"\",VLOOKUP($A1788,'Result Entry'!$B$9:$DX$108,100,0))","v":""}]
[null,"◐","Subject",null,null,"Total Marks",null,"GRADE","Remark :-",null,{"$f":"IF(OR($I1793=\"\",$I1793=\"NSO\"),\"\",VLOOKUP($A1788,'Result Entry'!$B$9:$DX$108,108,0))","v":0}]
[null,"◐",{"$nulls":6},"Result Date :-",null,{"$f":"'Result Entry'!$T$2","v":"2023-05-24"}]
[null,"◐",{"$f":"'Result Entry'!$BW$3","v":"WORK EXP."},null,null,{"$f":"IF(OR(C1814=\"\",$I1793=\"NSO\"),\"\",VLOOKUP($A1788,'Result Entry'!$B$9:$DX$108,119,0))","v":"0/50"},null,{"$f":"IF(OR(C1814=\"\",$I1793=\"NSO\"),\"\",VLOOKUP($A1788,'Result Entry'!$B$9:$DX$108,81,0))","v":""}]
[null,null,{"$f":"'Result Entry'!$CE$3","v":"ART EDU."},null,null,{"$f":"IF(OR(C1815=\"\",$I1793=\"NSO\"),\"\",VLOOKUP($A1788,'Result Entry'!$B$9:$DX$108,123,0))","v":"0/50"},null,{"$f":"IF(OR(C1815=\"\",$I1793=\"NSO\"),\"\",VLOOKUP($A1788,'Result Entry'!$B$9:$DX$108,89,0))","v":""}]
[null,"◐",{"$f":"'Result Entry'!$CM$3","v":"H&P. EDU."},null,null,{"$f":"IF(OR(C1816=\"\",$I1793=\"NSO\"),\"\",VLOOKUP($A1788,'Result Entry'!$B$9:$DX$108,127,0))","v":"0/100"},null,{"$f":"IF(OR(C1816=\"\",$I1793=\"NSO\"),\"\",VLOOKUP($A1788,'Result Entry'!$B$9:$DX$108,97,0))","v":""},"Signature Of The Class Teacher"]
[null,"◐","Grading System"]
[null,"◐","Grd.","% Range",null,"Description"]
[null,"◐","A","86-100",null,"Excellent",null,null,"Signature And Seal Of Principal/H.M."]
[null,"◐","B","71-85",null,"Very Good"]
[null,"◐","C","51-70",null,"Good"]
[null,"◐","D","31-50",null,"Average"]
[null,"◐","E","0-30",null,"Needs Improvement",null,null,"Wish bright future"]
[]
[]
[{"$f":"A1788+1","v":49},"Department Of Education, Rajasthan"]
[null,{"$f":"IF(I1831>0,CONCATENATE(C1831,I1831),0)","v":0},null,{"$f":"Master!$E$8","v":"Govt.Sr.Sec.Sch. "}]
[{"$nulls":3},{"$f":"Master!$E$11","v":"P.S.-Bapini (Jodhpur)"}]
[null,null,"Report Card",{"$nulls":6},"U-DISE Code:-",null,{"$f":"Master!$E$14","v":{"v":810000000,"d":"0810000000"}}]
[{"$nulls":9},"Session:-",null,{"$f":"Master!$E$6","v":"2022-23"}]
[null,null,"Roll No.:-",{"$nulls":5},{"$f":"VLOOKUP($A1826,'Result Entry'!$B$9:$F$108,5,0)","v":0}]
[null,"◐","Scholar Number",{"$nulls":3},"↠",{"$f":"VLOOKUP($A1826,'Result Entry'!$B$9:$DX$108,3,0)","v":0}]
[null,"◐","Student's Name",{"$nulls":3},"↠",{"$f":"VLOOKUP($A1826,'Result Entry'!$B$9:$DX$108,6,0)","v":0}]
[null,"◐","Father's Name",{"$nulls":3},"↠",{"$f":"VLOOKUP($A1826,'Result Entry'!$B$9:$DX$108,7,0)","v":0}]
[null,"◐","Mother's Name ",{"$nulls":3},"↠",{"$f":"VLOOKUP($A1826,'Result Entry'!$B$9:$DX$108,8,0)","v":0}]
[null,"◐","Class & Section",{"$nulls":3},"↠",{"$f":"CONCATENATE('Result Entry'!$F$4,'Result Entry'!$I$4)","v":"2(A)"}]
[null,"◐","Date Of Birth",{"$nulls":3},"↠",{"$f":"VLOOKUP($A1826,'Result Entry'!$B$9:$DX$108,9,0)","v":"00:00:00"}]
[null,"◐","Subject",{"$nulls":4},"Half Yearly","Total (T+H.Y.)","Yearly","Grand Total",null,"Subject Grade"]
[null,"◐","Max. Marks",{"$nulls":4},{"$f":"'Result Entry'!$Q$7","v":100},{"$f":"G1839+H1839","v":100},{"$f":"'Result Entry'!$U$7","v":100},{"$f":"I1839+J1839","v":200},null,"A/B/C/D/E"]
[null,"◐",{"$f":"'Result Entry'!$K$3","v":"Hindi"},{"$nulls":4},{"$f":"IF(OR(C1840=\"\",$I1831=\"NSO\"),\"\",VLOOKUP($A1826,'Result Entry'!$B$9:$DX$108,16,0))","v":0},{"$f":"SUM(G1840,H1840)","v":0},{"$f":"IF(OR(C1840=\"\",$I1831=\"NSO\"),\"\",VLOOKUP($A1826,'Result Entry'!$B$9:$DX$108,20,0))","v":0},{"$f":"SUM(I1840,J1840)","v":0},null,{"$f":"IF(OR(C1840=\"\",$I1831=\"NSO\"),\"\",VLOOKUP($A1826,'Result Entry'!$B$9:$DX$108,23,0))","v":""}]
[null,"◐",{"$f":"'Result Entry'!$Y$3","v":"Mathematics"},{"$nulls":4},{"$f":"IF(OR(C1841=\"\",$I1831=\"NSO\"),\"\",VLOOKUP($A1826,'Result Entry'!$B$9:$DX$108,30,0))","v":0},{"$f":"SUM(G1841,H1841)","v":0},{"$f":"IF(OR(C1841=\"\",$I1831=\"NSO\"),\"\",VLOOKUP($A1826,'Result Entry'!$B$9:$DX$108,34,0))","v":0},{"$f":"SUM(I1841,J1841)","v":0},null,{"$f":"IF(OR(C1841=\"\",$I1831=\"NSO\"),\"\",VLOOKUP($A1826,'Result Entry'!$B$9:$DX$108,37,0))","v":""}]
[null,"◐",{"$f":"'Result Entry'!$BO$3","v":"Env. Study"},{"$nulls":4},{"$f":"IF(OR(C1842=\"\",$I1831=\"NSO\"),\"\",VLOOKUP($A1826,'Result Entry'!$B$9:$DX$108,66,0))","v":0},0,{"$f":"IF(OR(C1842=\"\",$I1831=\"NSO\"),\"\",VLOOKUP($A1826,'Result Entry'!$B$9:$DX$108,67,0))","v":0},0,null,{"$f":"IF(OR(C1842=\"\",$I1831=\"NSO\"),\"\",VLOOKUP($A1826,'Result Entry'!$B$9:$DX$108,73,0))","v":""}]
[null,"◐","Max. Marks",{"$nulls":4},{"$f":"'Result Entry'!$AS$7","v":50},50,{"$f":"'Result Entry'!$AW$7","v":50},100,null,"A/B/C/D/E"]
[null,"◐",{"$f":"'Result Entry'!$AM$3","v":"English"},{"$nulls":4},{"$f":"IF(OR(C1844=\"\",$I1831=\"NSO\"),\"\",VLOOKUP($A1826,'Result Entry'!$B$9:$DX$108,44,0))","v":0},0,{"$f":"IF(OR(C1844=\"\",$I1831=\"NSO\"),\"\",VLOOKUP($A1826,'Result Entry'!$B$9:$DX$108,48,0))","v":0},0,null,{"$f":"IF(OR(C1844=\"\",$I1831=\"NSO\"),\"\",VLOOKUP($A1826,'Result Entry'!$B$9:$DX$108,51,0))","v":""}]
[null,"◐"]
[null,"◐","Overall Result",null,null,"Total Max. Marks",null,"Total Obtained Marks",null,"Percentage","Overall Grade","Result","Position in Class"]
[null,"◐",{"$nulls":3},{"$f":"IF(OR($I1831=\"\",$I1831=\"NSO\"),\"\",VLOOKUP($A1826,'Result Entry'!$B$9:$DX$108,101,0))","v":500},null,{"$f":"IF(OR($I1831=\"\",$I1831=\"NSO\"),\"\",VLOOKUP($A1826,'Result Entry'!$B$9:$DX$108,102,0))","v":0},null,{"$f":"IF(OR($I1831=\"\",$I1831=\"NSO\"),\"\",VLOOKUP($A1826,'Result Entry'!$B$9:$DX$108,103,0))","v":{"v":0,"d":"0.00"}},{"$f":"IF(OR($I1831=\"\",$I1831=\"NSO\"),\"\",VLOOKUP($A1826,'Result Entry'!$B$9:$DX$108,104,0))","v":""},{"$f":"IF(OR($I1831=\"\",$I1831=\"NSO\"),\"\",VLOOKUP($A1826,'Result Entry'!$B$9:$DX$108,105,0))","v":""},{"$f":"IF(OR($I1831=\"\",$I1831=\"NSO\"),\"\",VLOOKUP($A1826,'Result Entry'!$B$9:$DX$108,107,0))","v":""}]
[null,"◐",{"$nulls":6},"Total Meetings :-",null,{"$f":"IF(OR($I1831=\"\",$I1831=\"NSO\"),\"\",VLOOKUP($A1826,'Result Entry'!$B$9:$DX$108,98,0))","v":0},"Attedance %"]
[null,"◐","Extra Subjects",{"$nulls":5},"Student's Meetings :-",null,{"$f":"IF(OR($I1831=\"\",$I1831=\"NSO\"),\"\",VLOOKUP($A1826,'Result Entry'!$B$9:$DX$108,99,0))","v":0},{"$f":"IF(OR($I1831=\"\",$I1831=\"NSO\"),\"\",VLOOKUP($A1826,'Result Entry'!$B$9:$DX$108,100,0))","v":""}]
[null,"◐","Subject",null,null,"Total Marks",null,"GRADE","Remark :-",null,{"$f":"IF(OR($I1831=\"\",$I1831=\"NSO\"),\"\",VLOOKUP($A1826,'Result Entry'!$B$9:$DX$108,108,0))","v":0}]
[null,"◐",{"$nulls":6},"Result Date :-",null,{"$f":"'Result Entry'!$T$2","v":"2023-05-24"}]
[null,"◐",{"$f":"'Result Entry'!$BW$3","v":"WORK EXP."},null,null,{"$f":"IF(OR(C1852=\"\",$I1831=\"NSO\"),\"\",VLOOKUP($A1826,'Result Entry'!$B$9:$DX$108,119,0))","v":"0/50"},null,{"$f":"IF(OR(C1852=\"\",$I1831=\"NSO\"),\"\",VLOOKUP($A1826,'Result Entry'!$B$9:$DX$108,81,0))","v":""}]
[null,null,{"$f":"'Result Entry'!$CE$3","v":"ART EDU."},null,null,{"$f":"IF(OR(C1853=\"\",$I1831=\"NSO\"),\"\",VLOOKUP($A1826,'Result Entry'!$B$9:$DX$108,123,0))","v":"0/50"},null,{"$f":"IF(OR(C1853=\"\",$I1831=\"NSO\"),\"\",VLOOKUP($A1826,'Result Entry'!$B$9:$DX$108,89,0))","v":""}]
[null,"◐",{"$f":"'Result Entry'!$CM$3","v":"H&P. EDU."},null,null,{"$f":"IF(OR(C1854=\"\",$I1831=\"NSO\"),\"\",VLOOKUP($A1826,'Result Entry'!$B$9:$DX$108,127,0))","v":"0/100"},null,{"$f":"IF(OR(C1854=\"\",$I1831=\"NSO\"),\"\",VLOOKUP($A1826,'Result Entry'!$B$9:$DX$108,97,0))","v":""},"Signature Of The Class Teacher"]
[null,"◐","Grading System"]
[null,"◐","Grd.","% Range",null,"Description"]
[null,"◐","A","86-100",null,"Excellent",null,null,"Signature And Seal Of Principal/H.M."]
[null,"◐","B","71-85",null,"Very Good"]
[null,"◐","C","51-70",null,"Good"]
[null,"◐","D","31-50",null,"Average"]
[null,"◐","E","0-30",null,"Needs Improvement",null,null,"Wish bright future"]
[]
[]
[{"$f":"A1826+1","v":50},"Department Of Education, Rajasthan"]
[null,{"$f":"IF(I1869>0,CONCATENATE(C1869,I1869),0)","v":0},null,{"$f":"Master!$E$8","v":"Govt.Sr.Sec.Sch. "}]
[{"$nulls":3},{"$f":"Master!$E$11","v":"P.S.-Bapini (Jodhpur)"}]
[null,null,"Report Card",{"$nulls":6},"U-DISE Code:-",null,{"$f":"Master!$E$14","v":{"v":810000000,"d":"0810000000"}}]
[{"$nulls":9},"Session:-",null,{"$f":"Master!$E$6","v":"2022-23"}]
[null,null,"Roll No.:-",{"$nulls":5},{"$f":"VLOOKUP($A1864,'Result Entry'!$B$9:$F$108,5,0)","v":0}]
[null,"◐","Scholar Number",{"$nulls":3},"↠",{"$f":"VLOOKUP($A1864,'Result Entry'!$B$9:$DX$108,3,0)","v":0}]
[null,"◐","Student's Name",{"$nulls":3},"↠",{"$f":"VLOOKUP($A1864,'Result Entry'!$B$9:$DX$108,6,0)","v":0}]
[null,"◐","Father's Name",{"$nulls":3},"↠",{"$f":"VLOOKUP($A1864,'Result Entry'!$B$9:$DX$108,7,0)","v":0}]
[null,"◐","Mother's Name ",{"$nulls":3},"↠",{"$f":"VLOOKUP($A1864,'Result Entry'!$B$9:$DX$108,8,0)","v":0}]
[null,"◐","Class & Section",{"$nulls":3},"↠",{"$f":"CONCATENATE('Result Entry'!$F$4,'Result Entry'!$I$4)","v":"2(A)"}]
[null,"◐","Date Of Birth",{"$nulls":3},"↠",{"$f":"VLOOKUP($A1864,'Result Entry'!$B$9:$DX$108,9,0)","v":"00:00:00"}]
[null,"◐","Subject",{"$nulls":4},"Half Yearly","Total (T+H.Y.)","Yearly","Grand Total",null,"Subject Grade"]
[null,"◐","Max. Marks",{"$nulls":4},{"$f":"'Result Entry'!$Q$7","v":100},{"$f":"G1877+H1877","v":100},{"$f":"'Result Entry'!$U$7","v":100},{"$f":"I1877+J1877","v":200},null,"A/B/C/D/E"]
[null,"◐",{"$f":"'Result Entry'!$K$3","v":"Hindi"},{"$nulls":4},{"$f":"IF(OR(C1878=\"\",$I1869=\"NSO\"),\"\",VLOOKUP($A1864,'Result Entry'!$B$9:$DX$108,16,0))","v":0},{"$f":"SUM(G1878,H1878)","v":0},{"$f":"IF(OR(C1878=\"\",$I1869=\"NSO\"),\"\",VLOOKUP($A1864,'Result Entry'!$B$9:$DX$108,20,0))","v":0},{"$f":"SUM(I1878,J1878)","v":0},null,{"$f":"IF(OR(C1878=\"\",$I1869=\"NSO\"),\"\",VLOOKUP($A1864,'Result Entry'!$B$9:$DX$108,23,0))","v":""}]
[null,"◐",{"$f":"'Result Entry'!$Y$3","v":"Mathematics"},{"$nulls":4},{"$f":"IF(OR(C1879=\"\",$I1869=\"NSO\"),\"\",VLOOKUP($A1864,'Result Entry'!$B$9:$DX$108,30,0))","v":0},{"$f":"SUM(G1879,H1879)","v":0},{"$f":"IF(OR(C1879=\"\",$I1869=\"NSO\"),\"\",VLOOKUP($A1864,'Result Entry'!$B$9:$DX$108,34,0))","v":0},{"$f":"SUM(I1879,J1879)","v":0},null,{"$f":"IF(OR(C1879=\"\",$I1869=\"NSO\"),\"\",VLOOKUP($A1864,'Result Entry'!$B$9:$DX$108,37,0))","v":""}]
[null,"◐",{"$f":"'Result Entry'!$BO$3","v":"Env. Study"},{"$nulls":4},{"$f":"IF(OR(C1880=\"\",$I1869=\"NSO\"),\"\",VLOOKUP($A1864,'Result Entry'!$B$9:$DX$108,66,0))","v":0},0,{"$f":"IF(OR(C1880=\"\",$I1869=\"NSO\"),\"\",VLOOKUP($A1864,'Result Entry'!$B$9:$DX$108,67,0))","v":0},0,null,{"$f":"IF(OR(C1880=\"\",$I1869=\"NSO\"),\"\",VLOOKUP($A1864,'Result Entry'!$B$9:$DX$108,73,0))","v":""}]
[null,"◐","Max. Marks",{"$nulls":4},{"$f":"'Result Entry'!$AS$7","v":50},50,{"$f":"'Result Entry'!$AW$7","v":50},100,null,"A/B/C/D/E"]
[null,"◐",{"$f":"'Result Entry'!$AM$3","v":"English"},{"$nulls":4},{"$f":"IF(OR(C1882=\"\",$I1869=\"NSO\"),\"\",VLOOKUP($A1864,'Result Entry'!$B$9:$DX$108,44,0))","v":0},0,{"$f":"IF(OR(C1882=\"\",$I1869=\"NSO\"),\"\",VLOOKUP($A1864,'Result Entry'!$B$9:$DX$108,48,0))","v":0},0,null,{"$f":"IF(OR(C1882=\"\",$I1869=\"NSO\"),\"\",VLOOKUP($A1864,'Result Entry'!$B$9:$DX$108,51,0))","v":""}]
[null,"◐"]
[null,"◐","Overall Result",null,null,"Total Max. Marks",null,"Total Obtained Marks",null,"Percentage","Overall Grade","Result","Position in Class"]
[null,"◐",{"$nulls":3},{"$f":"IF(OR($I1869=\"\",$I1869=\"NSO\"),\"\",VLOOKUP($A1864,'Result Entry'!$B$9:$DX$108,101,0))","v":500},null,{"$f":"IF(OR($I1869=\"\",$I1869=\"NSO\"),\"\",VLOOKUP($A1864,'Result Entry'!$B$9:$DX$108,102,0))","v":0},null,{"$f":"IF(OR($I1869=\"\",$I1869=\"NSO\"),\"\",VLOOKUP($A1864,'Result Entry'!$B$9:$DX$108,103,0))","v":{"v":0,"d":"0.00"}},{"$f":"IF(OR($I1869=\"\",$I1869=\"NSO\"),\"\",VLOOKUP($A1864,'Result Entry'!$B$9:$DX$108,104,0))","v":""},{"$f":"IF(OR($I1869=\"\",$I1869=\"NSO\"),\"\",VLOOKUP($A1864,'Result Entry'!$B$9:$DX$108,105,0))","v":""},{"$f":"IF(OR($I1869=\"\",$I1869=\"NSO\"),\"\",VLOOKUP($A1864,'Result Entry'!$B$9:$DX$108,107,0))","v":""}]
[null,"◐",{"$nulls":6},"Total Meetings :-",null,{"$f":"IF(OR($I1869=\"\",$I1869=\"NSO\"),\"\",VLOOKUP($A1864,'Result Entry'!$B$9:$DX$108,98,0))","v":0},"Attedance %"]
[null,"◐","Extra Subjects",{"$nulls":5},"Student's Meetings :-",null,{"$f":"IF(OR($I1869=\"\",$I1869=\"NSO\"),\"\",VLOOKUP($A1864,'Result Entry'!$B$9:$DX$108,99,0))","v":0},{"$f":"IF(OR($I1869=\"\",$I1869=\"NSO\"),\"\",VLOOKUP($A1864,'Result Entry'!$B$9:$DX$108,100,0))","v":""}]
[null,"◐","Subject",null,null,"Total Marks",null,"GRADE","Remark :-",null,{"$f":"IF(OR($I1869=\"\",$I1869=\"NSO\"),\"\",VLOOKUP($A1864,'Result Entry'!$B$9:$DX$108,108,0))","v":0}]
[null,"◐",{"$nulls":6},"Result Date :-",null,{"$f":"'Result Entry'!$T$2","v":"2023-05-24"}]
[null,"◐",{"$f":"'Result Entry'!$BW$3","v":"WORK EXP."},null,null,{"$f":"IF(OR(C1890=\"\",$I1869=\"NSO\"),\"\",VLOOKUP($A1864,'Result Entry'!$B$9:$DX$108,119,0))","v":"0/50"},null,{"$f":"IF(OR(C1890=\"\",$I1869=\"NSO\"),\"\",VLOOKUP($A1864,'Result Entry'!$B$9:$DX$108,81,0))","v":""}]
[null,null,{"$f":"'Result Entry'!$CE$3","v":"ART EDU."},null,null,{"$f":"IF(OR(C1891=\"\",$I1869=\"NSO\"),\"\",VLOOKUP($A1864,'Result Entry'!$B$9:$DX$108,123,0))","v":"0/50"},null,{"$f":"IF(OR(C1891=\"\",$I1869=\"NSO\"),\"\",VLOOKUP($A1864,'Result Entry'!$B$9:$DX$108,89,0))","v":""}]
[null,"◐",{"$f":"'Result Entry'!$CM$3","v":"H&P. EDU."},null,null,{"$f":"IF(OR(C1892=\"\",$I1869=\"NSO\"),\"\",VLOOKUP($A1864,'Result Entry'!$B$9:$DX$108,127,0))","v":"0/100"},null,{"$f":"IF(OR(C1892=\"\",$I1869=\"NSO\"),\"\",VLOOKUP($A1864,'Result Entry'!$B$9:$DX$108,97,0))","v":""},"Signature Of The Class Teacher"]
[null,"◐","Grading System"]
[null,"◐","Grd.","% Range",null,"Description"]
[null,"◐","A","86-100",null,"Excellent",null,null,"Signature And Seal Of Principal/H.M."]
[null,"◐","B","71-85",null,"Very Good"]
[null,"◐","C","51-70",null,"Good"]
[null,"◐","D","31-50",null,"Average"]
[null,"◐","E","0-30",null,"Needs Improvement",null,null,"Wish bright future"]
[]
[]
[{"$f":"A1864+1","v":51},"Department Of Education, Rajasthan"]
[null,{"$f":"IF(I1907>0,CONCATENATE(C1907,I1907),0)","v":0},null,{"$f":"Master!$E$8","v":"Govt.Sr.Sec.Sch. "}]
[{"$nulls":3},{"$f":"Master!$E$11","v":"P.S.-Bapini (Jodhpur)"}]
[null,null,"Report Card",{"$nulls":6},"U-DISE Code:-",null,{"$f":"Master!$E$14","v":{"v":810000000,"d":"0810000000"}}]
[{"$nulls":9},"Session:-",null,{"$f":"Master!$E$6","v":"2022-23"}]
[null,null,"Roll No.:-",{"$nulls":5},{"$f":"VLOOKUP($A1902,'Result Entry'!$B$9:$F$108,5,0)","v":0}]
[null,"◐","Scholar Number",{"$nulls":3},"↠",{"$f":"VLOOKUP($A1902,'Result Entry'!$B$9:$DX$108,3,0)","v":0}]
[null,"◐","Student's Name",{"$nulls":3},"↠",{"$f":"VLOOKUP($A1902,'Result Entry'!$B$9:$DX$108,6,0)","v":0}]
[null,"◐","Father's Name",{"$nulls":3},"↠",{"$f":"VLOOKUP($A1902,'Result Entry'!$B$9:$DX$108,7,0)","v":0}]
[null,"◐","Mother's Name ",{"$nulls":3},"↠",{"$f":"VLOOKUP($A1902,'Result Entry'!$B$9:$DX$108,8,0)","v":0}]
[null,"◐","Class & Section",{"$nulls":3},"↠",{"$f":"CONCATENATE('Result Entry'!$F$4,'Result Entry'!$I$4)","v":"2(A)"}]
[null,"◐","Date Of Birth",{"$nulls":3},"↠",{"$f":"VLOOKUP($A1902,'Result Entry'!$B$9:$DX$108,9,0)","v":"00:00:00"}]
[null,"◐","Subject",{"$nulls":4},"Half Yearly","Total (T+H.Y.)","Yearly","Grand Total",null,"Subject Grade"]
[null,"◐","Max. Marks",{"$nulls":4},{"$f":"'Result Entry'!$Q$7","v":100},{"$f":"G1915+H1915","v":100},{"$f":"'Result Entry'!$U$7","v":100},{"$f":"I1915+J1915","v":200},null,"A/B/C/D/E"]
[null,"◐",{"$f":"'Result Entry'!$K$3","v":"Hindi"},{"$nulls":4},{"$f":"IF(OR(C1916=\"\",$I1907=\"NSO\"),\"\",VLOOKUP($A1902,'Result Entry'!$B$9:$DX$108,16,0))","v":0},{"$f":"SUM(G1916,H1916)","v":0},{"$f":"IF(OR(C1916=\"\",$I1907=\"NSO\"),\"\",VLOOKUP($A1902,'Result Entry'!$B$9:$DX$108,20,0))","v":0},{"$f":"SUM(I1916,J1916)","v":0},null,{"$f":"IF(OR(C1916=\"\",$I1907=\"NSO\"),\"\",VLOOKUP($A1902,'Result Entry'!$B$9:$DX$108,23,0))","v":""}]
[null,"◐",{"$f":"'Result Entry'!$Y$3","v":"Mathematics"},{"$nulls":4},{"$f":"IF(OR(C1917=\"\",$I1907=\"NSO\"),\"\",VLOOKUP($A1902,'Result Entry'!$B$9:$DX$108,30,0))","v":0},{"$f":"SUM(G1917,H1917)","v":0},{"$f":"IF(OR(C1917=\"\",$I1907=\"NSO\"),\"\",VLOOKUP($A1902,'Result Entry'!$B$9:$DX$108,34,0))","v":0},{"$f":"SUM(I1917,J1917)","v":0},null,{"$f":"IF(OR(C1917=\"\",$I1907=\"NSO\"),\"\",VLOOKUP($A1902,'Result Entry'!$B$9:$DX$108,37,0))","v":""}]
[null,"◐",{"$f":"'Result Entry'!$BO$3","v":"Env. Study"},{"$nulls":4},{"$f":"IF(OR(C1918=\"\",$I1907=\"NSO\"),\"\",VLOOKUP($A1902,'Result Entry'!$B$9:$DX$108,66,0))","v":0},0,{"$f":"IF(OR(C1918=\"\",$I1907=\"NSO\"),\"\",VLOOKUP($A1902,'Result Entry'!$B$9:$DX$108,67,0))","v":0},0,null,{"$f":"IF(OR(C1918=\"\",$I1907=\"NSO\"),\"\",VLOOKUP($A1902,'Result Entry'!$B$9:$DX$108,73,0))","v":""}]
[null,"◐","Max. Marks",{"$nulls":4},{"$f":"'Result Entry'!$AS$7","v":50},50,{"$f":"'Result Entry'!$AW$7","v":50},100,null,"A/B/C/D/E"]
[null,"◐",{"$f":"'Result Entry'!$AM$3","v":"English"},{"$nulls":4},{"$f":"IF(OR(C1920=\"\",$I1907=\"NSO\"),\"\",VLOOKUP($A1902,'Result Entry'!$B$9:$DX$108,44,0))","v":0},0,{"$f":"IF(OR(C1920=\"\",$I1907=\"NSO\"),\"\",VLOOKUP($A1902,'Result Entry'!$B$9:$DX$108,48,0))","v":0},0,null,{"$f":"IF(OR(C1920=\"\",$I1907=\"NSO\"),\"\",VLOOKUP($A1902,'Result Entry'!$B$9:$DX$108,51,0))","v":""}]
[null,"◐"]
[null,"◐","Overall Result",null,null,"Total Max. Marks",null,"Total Obtained Marks",null,"Percentage","Overall Grade","Result","Position in Class"]
[null,"◐",{"$nulls":3},{"$f":"IF(OR($I1907=\"\",$I1907=\"NSO\"),\"\",VLOOKUP($A1902,'Result Entry'!$B$9:$DX$108,101,0))","v":500},null,{"$f":"IF(OR($I1907=\"\",$I1907=\"NSO\"),\"\",VLOOKUP($A1902,'Result Entry'!$B$9:$DX$108,102,0))","v":0},null,{"$f":"IF(OR($I1907=\"\",$I1907=\"NSO\"),\"\",VLOOKUP($A1902,'Result Entry'!$B$9:$DX$108,103,0))","v":{"v":0,"d":"0.00"}},{"$f":"IF(OR($I1907=\"\",$I1907=\"NSO\"),\"\",VLOOKUP($A1902,'Result Entry'!$B$9:$DX$108,104,0))","v":""},{"$f":"IF(OR($I1907=\"\",$I1907=\"NSO\"),\"\",VLOOKUP($A1902,'Result Entry'!$B$9:$DX$108,105,0))","v":""},{"$f":"IF(OR($I1907=\"\",$I1907=\"NSO\"),\"\",VLOOKUP($A1902,'Result Entry'!$B$9:$DX$108,107,0))","v":""}]
[null,"◐",{"$nulls":6},"Total Meetings :-",null,{"$f":"IF(OR($I1907=\"\",$I1907=\"NSO\"),\"\",VLOOKUP($A1902,'Result Entry'!$B$9:$DX$108,98,0))","v":0},"Attedance %"]
[null,"◐","Extra Subjects",{"$nulls":5},"Student's Meetings :-",null,{"$f":"IF(OR($I1907=\"\",$I1907=\"NSO\"),\"\",VLOOKUP($A1902,'Result Entry'!$B$9:$DX$108,99,0))","v":0},{"$f":"IF(OR($I1907=\"\",$I1907=\"NSO\"),\"\",VLOOKUP($A1902,'Result Entry'!$B$9:$DX$108,100,0))","v":""}]
[null,"◐","Subject",null,null,"Total Marks",null,"GRADE","Remark :-",null,{"$f":"IF(OR($I1907=\"\",$I1907=\"NSO\"),\"\",VLOOKUP($A1902,'Result Entry'!$B$9:$DX$108,108,0))","v":0}]
[null,"◐",{"$nulls":6},"Result Date :-",null,{"$f":"'Result Entry'!$T$2","v":"2023-05-24"}]
[null,"◐",{"$f":"'Result Entry'!$BW$3","v":"WORK EXP."},null,null,{"$f":"IF(OR(C1928=\"\",$I1907=\"NSO\"),\"\",VLOOKUP($A1902,'Result Entry'!$B$9:$DX$108,119,0))","v":"0/50"},null,{"$f":"IF(OR(C1928=\"\",$I1907=\"NSO\"),\"\",VLOOKUP($A1902,'Result Entry'!$B$9:$DX$108,81,0))","v":""}]
[null,null,{"$f":"'Result Entry'!$CE$3","v":"ART EDU."},null,null,{"$f":"IF(OR(C1929=\"\",$I1907=\"NSO\"),\"\",VLOOKUP($A1902,'Result Entry'!$B$9:$DX$108,123,0))","v":"0/50"},null,{"$f":"IF(OR(C1929=\"\",$I1907=\"NSO\"),\"\",VLOOKUP($A1902,'Result Entry'!$B$9:$DX$108,89,0))","v":""}]
[null,"◐",{"$f":"'Result Entry'!$CM$3","v":"H&P. EDU."},null,null,{"$f":"IF(OR(C1930=\"\",$I1907=\"NSO\"),\"\",VLOOKUP($A1902,'Result Entry'!$B$9:$DX$108,127,0))","v":"0/100"},null,{"$f":"IF(OR(C1930=\"\",$I1907=\"NSO\"),\"\",VLOOKUP($A1902,'Result Entry'!$B$9:$DX$108,97,0))","v":""},"Signature Of The Class Teacher"]
[null,"◐","Grading System"]
[null,"◐","Grd.","% Range",null,"Description"]
[null,"◐","A","86-100",null,"Excellent",null,null,"Signature And Seal Of Principal/H.M."]
[null,"◐","B","71-85",null,"Very Good"]
[null,"◐","C","51-70",null,"Good"]
[null,"◐","D","31-50",null,"Average"]
[null,"◐","E","0-30",null,"Needs Improvement",null,null,"Wish bright future"]
[]
[]
[{"$f":"A1902+1","v":52},"Department Of Education, Rajasthan"]
[null,{"$f":"IF(I1945>0,CONCATENATE(C1945,I1945),0)","v":0},null,{"$f":"Master!$E$8","v":"Govt.Sr.Sec.Sch. "}]
[{"$nulls":3},{"$f":"Master!$E$11","v":"P.S.-Bapini (Jodhpur)"}]
[null,null,"Report Card",{"$nulls":6},"U-DISE Code:-",null,{"$f":"Master!$E$14","v":{"v":810000000,"d":"0810000000"}}]
[{"$nulls":9},"Session:-",null,{"$f":"Master!$E$6","v":"2022-23"}]
[null,null,"Roll No.:-",{"$nulls":5},{"$f":"VLOOKUP($A1940,'Result Entry'!$B$9:$F$108,5,0)","v":0}]
[null,"◐","Scholar Number",{"$nulls":3},"↠",{"$f":"VLOOKUP($A1940,'Result Entry'!$B$9:$DX$108,3,0)","v":0}]
[null,"◐","Student's Name",{"$nulls":3},"↠",{"$f":"VLOOKUP($A1940,'Result Entry'!$B$9:$DX$108,6,0)","v":0}]
[null,"◐","Father's Name",{"$nulls":3},"↠",{"$f":"VLOOKUP($A1940,'Result Entry'!$B$9:$DX$108,7,0)","v":0}]
[null,"◐","Mother's Name ",{"$nulls":3},"↠",{"$f":"VLOOKUP($A1940,'Result Entry'!$B$9:$DX$108,8,0)","v":0}]
[null,"◐","Class & Section",{"$nulls":3},"↠",{"$f":"CONCATENATE('Result Entry'!$F$4,'Result Entry'!$I$4)","v":"2(A)"}]
[null,"◐","Date Of Birth",{"$nulls":3},"↠",{"$f":"VLOOKUP($A1940,'Result Entry'!$B$9:$DX$108,9,0)","v":"00:00:00"}]
[null,"◐","Subject",{"$nulls":4},"Half Yearly","Total (T+H.Y.)","Yearly","Grand Total",null,"Subject Grade"]
[null,"◐","Max. Marks",{"$nulls":4},{"$f":"'Result Entry'!$Q$7","v":100},{"$f":"G1953+H1953","v":100},{"$f":"'Result Entry'!$U$7","v":100},{"$f":"I1953+J1953","v":200},null,"A/B/C/D/E"]
[null,"◐",{"$f":"'Result Entry'!$K$3","v":"Hindi"},{"$nulls":4},{"$f":"IF(OR(C1954=\"\",$I1945=\"NSO\"),\"\",VLOOKUP($A1940,'Result Entry'!$B$9:$DX$108,16,0))","v":0},{"$f":"SUM(G1954,H1954)","v":0},{"$f":"IF(OR(C1954=\"\",$I1945=\"NSO\"),\"\",VLOOKUP($A1940,'Result Entry'!$B$9:$DX$108,20,0))","v":0},{"$f":"SUM(I1954,J1954)","v":0},null,{"$f":"IF(OR(C1954=\"\",$I1945=\"NSO\"),\"\",VLOOKUP($A1940,'Result Entry'!$B$9:$DX$108,23,0))","v":""}]
[null,"◐",{"$f":"'Result Entry'!$Y$3","v":"Mathematics"},{"$nulls":4},{"$f":"IF(OR(C1955=\"\",$I1945=\"NSO\"),\"\",VLOOKUP($A1940,'Result Entry'!$B$9:$DX$108,30,0))","v":0},{"$f":"SUM(G1955,H1955)","v":0},{"$f":"IF(OR(C1955=\"\",$I1945=\"NSO\"),\"\",VLOOKUP($A1940,'Result Entry'!$B$9:$DX$108,34,0))","v":0},{"$f":"SUM(I1955,J1955)","v":0},null,{"$f":"IF(OR(C1955=\"\",$I1945=\"NSO\"),\"\",VLOOKUP($A1940,'Result Entry'!$B$9:$DX$108,37,0))","v":""}]
[null,"◐",{"$f":"'Result Entry'!$BO$3","v":"Env. Study"},{"$nulls":4},{"$f":"IF(OR(C1956=\"\",$I1945=\"NSO\"),\"\",VLOOKUP($A1940,'Result Entry'!$B$9:$DX$108,66,0))","v":0},0,{"$f":"IF(OR(C1956=\"\",$I1945=\"NSO\"),\"\",VLOOKUP($A1940,'Result Entry'!$B$9:$DX$108,67,0))","v":0},0,null,{"$f":"IF(OR(C1956=\"\",$I1945=\"NSO\"),\"\",VLOOKUP($A1940,'Result Entry'!$B$9:$DX$108,73,0))","v":""}]
[null,"◐","Max. Marks",{"$nulls":4},{"$f":"'Result Entry'!$AS$7","v":50},50,{"$f":"'Result Entry'!$AW$7","v":50},100,null,"A/B/C/D/E"]
[null,"◐",{"$f":"'Result Entry'!$AM$3","v":"English"},{"$nulls":4},{"$f":"IF(OR(C1958=\"\",$I1945=\"NSO\"),\"\",VLOOKUP($A1940,'Result Entry'!$B$9:$DX$108,44,0))","v":0},0,{"$f":"IF(OR(C1958=\"\",$I1945=\"NSO\"),\"\",VLOOKUP($A1940,'Result Entry'!$B$9:$DX$108,48,0))","v":0},0,null,{"$f":"IF(OR(C1958=\"\",$I1945=\"NSO\"),\"\",VLOOKUP($A1940,'Result Entry'!$B$9:$DX$108,51,0))","v":""}]
[null,"◐"]
[null,"◐","Overall Result",null,null,"Total Max. Marks",null,"Total Obtained Marks",null,"Percentage","Overall Grade","Result","Position in Class"]
[null,"◐",{"$nulls":3},{"$f":"IF(OR($I1945=\"\",$I1945=\"NSO\"),\"\",VLOOKUP($A1940,'Result Entry'!$B$9:$DX$108,101,0))","v":500},null,{"$f":"IF(OR($I1945=\"\",$I1945=\"NSO\"),\"\",VLOOKUP($A1940,'Result Entry'!$B$9:$DX$108,102,0))","v":0},null,{"$f":"IF(OR($I1945=\"\",$I1945=\"NSO\"),\"\",VLOOKUP($A1940,'Result Entry'!$B$9:$DX$108,103,0))","v":{"v":0,"d":"0.00"}},{"$f":"IF(OR($I1945=\"\",$I1945=\"NSO\"),\"\",VLOOKUP($A1940,'Result Entry'!$B$9:$DX$108,104,0))","v":""},{"$f":"IF(OR($I1945=\"\",$I1945=\"NSO\"),\"\",VLOOKUP($A1940,'Result Entry'!$B$9:$DX$108,105,0))","v":""},{"$f":"IF(OR($I1945=\"\",$I1945=\"NSO\"),\"\",VLOOKUP($A1940,'Result Entry'!$B$9:$DX$108,107,0))","v":""}]
[null,"◐",{"$nulls":6},"Total Meetings :-",null,{"$f":"IF(OR($I1945=\"\",$I1945=\"NSO\"),\"\",VLOOKUP($A1940,'Result Entry'!$B$9:$DX$108,98,0))","v":0},"Attedance %"]
[null,"◐","Extra Subjects",{"$nulls":5},"Student's Meetings :-",null,{"$f":"IF(OR($I1945=\"\",$I1945=\"NSO\"),\"\",VLOOKUP($A1940,'Result Entry'!$B$9:$DX$108,99,0))","v":0},{"$f":"IF(OR($I1945=\"\",$I1945=\"NSO\"),\"\",VLOOKUP($A1940,'Result Entry'!$B$9:$DX$108,100,0))","v":""}]
[null,"◐","Subject",null,null,"Total Marks",null,"GRADE","Remark :-",null,{"$f":"IF(OR($I1945=\"\",$I1945=\"NSO\"),\"\",VLOOKUP($A1940,'Result Entry'!$B$9:$DX$108,108,0))","v":0}]
[null,"◐",{"$nulls":6},"Result Date :-",null,{"$f":"'Result Entry'!$T$2","v":"2023-05-24"}]
[null,"◐",{"$f":"'Result Entry'!$BW$3","v":"WORK EXP."},null,null,{"$f":"IF(OR(C1966=\"\",$I1945=\"NSO\"),\"\",VLOOKUP($A1940,'Result Entry'!$B$9:$DX$108,119,0))","v":"0/50"},null,{"$f":"IF(OR(C1966=\"\",$I1945=\"NSO\"),\"\",VLOOKUP($A1940,'Result Entry'!$B$9:$DX$108,81,0))","v":""}]
[null,null,{"$f":"'Result Entry'!$CE$3","v":"ART EDU."},null,null,{"$f":"IF(OR(C1967=\"\",$I1945=\"NSO\"),\"\",VLOOKUP($A1940,'Result Entry'!$B$9:$DX$108,123,0))","v":"0/50"},null,{"$f":"IF(OR(C1967=\"\",$I1945=\"NSO\"),\"\",VLOOKUP($A1940,'Result Entry'!$B$9:$DX$108,89,0))","v":""}]
[null,"◐",{"$f":"'Result Entry'!$CM$3","v":"H&P. EDU."},null,null,{"$f":"IF(OR(C1968=\"\",$I1945=\"NSO\"),\"\",VLOOKUP($A1940,'Result Entry'!$B$9:$DX$108,127,0))","v":"0/100"},null,{"$f":"IF(OR(C1968=\"\",$I1945=\"NSO\"),\"\",VLOOKUP($A1940,'Result Entry'!$B$9:$DX$108,97,0))","v":""},"Signature Of The Class Teacher"]
[null,"◐","Grading System"]
[null,"◐","Grd.","% Range",null,"Description"]
[null,"◐","A","86-100",null,"Excellent",null,null,"Signature And Seal Of Principal/H.M."]
[null,"◐","B","71-85",null,"Very Good"]
[null,"◐","C","51-70",null,"Good"]
[null,"◐","D","31-50",null,"Average"]
[null,"◐","E","0-30",null,"Needs Improvement",null,null,"Wish bright future"]
[]
[]
[{"$f":"A1940+1","v":53},"Department Of Education, Rajasthan"]
[null,{"$f":"IF(I1983>0,CONCATENATE(C1983,I1983),0)","v":0},null,{"$f":"Master!$E$8","v":"Govt.Sr.Sec.Sch. "}]
[{"$nulls":3},{"$f":"Master!$E$11","v":"P.S.-Bapini (Jodhpur)"}]
[null,null,"Report Card",{"$nulls":6},"U-DISE Code:-",null,{"$f":"Master!$E$14","v":{"v":810000000,"d":"0810000000"}}]
[{"$nulls":9},"Session:-",null,{"$f":"Master!$E$6","v":"2022-23"}]
[null,null,"Roll No.:-",{"$nulls":5},{"$f":"VLOOKUP($A1978,'Result Entry'!$B$9:$F$108,5,0)","v":0}]
[null,"◐","Scholar Number",{"$nulls":3},"↠",{"$f":"VLOOKUP($A1978,'Result Entry'!$B$9:$DX$108,3,0)","v":0}]
[null,"◐","Student's Name",{"$nulls":3},"↠",{"$f":"VLOOKUP($A1978,'Result Entry'!$B$9:$DX$108,6,0)","v":0}]
[null,"◐","Father's Name",{"$nulls":3},"↠",{"$f":"VLOOKUP($A1978,'Result Entry'!$B$9:$DX$108,7,0)","v":0}]
[null,"◐","Mother's Name ",{"$nulls":3},"↠",{"$f":"VLOOKUP($A1978,'Result Entry'!$B$9:$DX$108,8,0)","v":0}]
[null,"◐","Class & Section",{"$nulls":3},"↠",{"$f":"CONCATENATE('Result Entry'!$F$4,'Result Entry'!$I$4)","v":"2(A)"}]
[null,"◐","Date Of Birth",{"$nulls":3},"↠",{"$f":"VLOOKUP($A1978,'Result Entry'!$B$9:$DX$108,9,0)","v":"00:00:00"}]
[null,"◐","Subject",{"$nulls":4},"Half Yearly","Total (T+H.Y.)","Yearly","Grand Total",null,"Subject Grade"]
[null,"◐","Max. Marks",{"$nulls":4},{"$f":"'Result Entry'!$Q$7","v":100},{"$f":"G1991+H1991","v":100},{"$f":"'Result Entry'!$U$7","v":100},{"$f":"I1991+J1991","v":200},null,"A/B/C/D/E"]
[null,"◐",{"$f":"'Result Entry'!$K$3","v":"Hindi"},{"$nulls":4},{"$f":"IF(OR(C1992=\"\",$I1983=\"NSO\"),\"\",VLOOKUP($A1978,'Result Entry'!$B$9:$DX$108,16,0))","v":0},{"$f":"SUM(G1992,H1992)","v":0},{"$f":"IF(OR(C1992=\"\",$I1983=\"NSO\"),\"\",VLOOKUP($A1978,'Result Entry'!$B$9:$DX$108,20,0))","v":0},{"$f":"SUM(I1992,J1992)","v":0},null,{"$f":"IF(OR(C1992=\"\",$I1983=\"NSO\"),\"\",VLOOKUP($A1978,'Result Entry'!$B$9:$DX$108,23,0))","v":""}]
[null,"◐",{"$f":"'Result Entry'!$Y$3","v":"Mathematics"},{"$nulls":4},{"$f":"IF(OR(C1993=\"\",$I1983=\"NSO\"),\"\",VLOOKUP($A1978,'Result Entry'!$B$9:$DX$108,30,0))","v":0},{"$f":"SUM(G1993,H1993)","v":0},{"$f":"IF(OR(C1993=\"\",$I1983=\"NSO\"),\"\",VLOOKUP($A1978,'Result Entry'!$B$9:$DX$108,34,0))","v":0},{"$f":"SUM(I1993,J1993)","v":0},null,{"$f":"IF(OR(C1993=\"\",$I1983=\"NSO\"),\"\",VLOOKUP($A1978,'Result Entry'!$B$9:$DX$108,37,0))","v":""}]
[null,"◐",{"$f":"'Result Entry'!$BO$3","v":"Env. Study"},{"$nulls":4},{"$f":"IF(OR(C1994=\"\",$I1983=\"NSO\"),\"\",VLOOKUP($A1978,'Result Entry'!$B$9:$DX$108,66,0))","v":0},0,{"$f":"IF(OR(C1994=\"\",$I1983=\"NSO\"),\"\",VLOOKUP($A1978,'Result Entry'!$B$9:$DX$108,67,0))","v":0},0,null,{"$f":"IF(OR(C1994=\"\",$I1983=\"NSO\"),\"\",VLOOKUP($A1978,'Result Entry'!$B$9:$DX$108,73,0))","v":""}]
[null,"◐","Max. Marks",{"$nulls":4},{"$f":"'Result Entry'!$AS$7","v":50},50,{"$f":"'Result Entry'!$AW$7","v":50},100,null,"A/B/C/D/E"]
[null,"◐",{"$f":"'Result Entry'!$AM$3","v":"English"},{"$nulls":4},{"$f":"IF(OR(C1996=\"\",$I1983=\"NSO\"),\"\",VLOOKUP($A1978,'Result Entry'!$B$9:$DX$108,44,0))","v":0},0,{"$f":"IF(OR(C1996=\"\",$I1983=\"NSO\"),\"\",VLOOKUP($A1978,'Result Entry'!$B$9:$DX$108,48,0))","v":0},0,null,{"$f":"IF(OR(C1996=\"\",$I1983=\"NSO\"),\"\",VLOOKUP($A1978,'Result Entry'!$B$9:$DX$108,51,0))","v":""}]
[null,"◐"]
[null,"◐","Overall Result",null,null,"Total Max. Marks",null,"Total Obtained Marks",null,"Percentage","Overall Grade","Result","Position in Class"]
[null,"◐",{"$nulls":3},{"$f":"IF(OR($I1983=\"\",$I1983=\"NSO\"),\"\",VLOOKUP($A1978,'Result Entry'!$B$9:$DX$108,101,0))","v":500},null,{"$f":"IF(OR($I1983=\"\",$I1983=\"NSO\"),\"\",VLOOKUP($A1978,'Result Entry'!$B$9:$DX$108,102,0))","v":0},null,{"$f":"IF(OR($I1983=\"\",$I1983=\"NSO\"),\"\",VLOOKUP($A1978,'Result Entry'!$B$9:$DX$108,103,0))","v":{"v":0,"d":"0.00"}},{"$f":"IF(OR($I1983=\"\",$I1983=\"NSO\"),\"\",VLOOKUP($A1978,'Result Entry'!$B$9:$DX$108,104,0))","v":""},{"$f":"IF(OR($I1983=\"\",$I1983=\"NSO\"),\"\",VLOOKUP($A1978,'Result Entry'!$B$9:$DX$108,105,0))","v":""},{"$f":"IF(OR($I1983=\"\",$I1983=\"NSO\"),\"\",VLOOKUP($A1978,'Result Entry'!$B$9:$DX$108,107,0))","v":""}]
[null,"◐",{"$nulls":6},"Total Meetings :-",null,{"$f":"IF(OR($I1983=\"\",$I1983=\"NSO\"),\"\",VLOOKUP($A1978,'Result Entry'!$B$9:$DX$108,98,0))","v":0},"Attedance %"]
[null,"◐","Extra Subjects",{"$nulls":5},"Student's Meetings :-",null,{"$f":"IF(OR($I1983=\"\",$I1983=\"NSO\"),\"\",VLOOKUP($A1978,'Result Entry'!$B$9:$DX$108,99,0))","v":0},{"$f":"IF(OR($I1983=\"\",$I1983=\"NSO\"),\"\",VLOOKUP($A1978,'Result Entry'!$B$9:$DX$108,100,0))","v":""}]
[null,"◐","Subject",null,null,"Total Marks",null,"GRADE","Remark :-",null,{"$f":"IF(OR($I1983=\"\",$I1983=\"NSO\"),\"\",VLOOKUP($A1978,'Result Entry'!$B$9:$DX$108,108,0))","v":0}]
[null,"◐",{"$nulls":6},"Result Date :-",null,{"$f":"'Result Entry'!$T$2","v":"2023-05-24"}]
[null,"◐",{"$f":"'Result Entry'!$BW$3","v":"WORK EXP."},null,null,{"$f":"IF(OR(C2004=\"\",$I1983=\"NSO\"),\"\",VLOOKUP($A1978,'Result Entry'!$B$9:$DX$108,119,0))","v":"0/50"},null,{"$f":"IF(OR(C2004=\"\",$I1983=\"NSO\"),\"\",VLOOKUP($A1978,'Result Entry'!$B$9:$DX$108,81,0))","v":""}]
[null,null,{"$f":"'Result Entry'!$CE$3","v":"ART EDU."},null,null,{"$f":"IF(OR(C2005=\"\",$I1983=\"NSO\"),\"\",VLOOKUP($A1978,'Result Entry'!$B$9:$DX$108,123,0))","v":"0/50"},null,{"$f":"IF(OR(C2005=\"\",$I1983=\"NSO\"),\"\",VLOOKUP($A1978,'Result Entry'!$B$9:$DX$108,89,0))","v":""}]
[null,"◐",{"$f":"'Result Entry'!$CM$3","v":"H&P. EDU."},null,null,{"$f":"IF(OR(C2006=\"\",$I1983=\"NSO\"),\"\",VLOOKUP($A1978,'Result Entry'!$B$9:$DX$108,127,0))","v":"0/100"},null,{"$f":"IF(OR(C2006=\"\",$I1983=\"NSO\"),\"\",VLOOKUP($A1978,'Result Entry'!$B$9:$DX$108,97,0))","v":""},"Signature Of The Class Teacher"]
[null,"◐","Grading System"]
[null,"◐","Grd.","% Range",null,"Description"]
[null,"◐","A","86-100",null,"Excellent",null,null,"Signature And Seal Of Principal/H.M."]
[null,"◐","B","71-85",null,"Very Good"]
[null,"◐","C","51-70",null,"Good"]
[null,"◐","D","31-50",null,"Average"]
[null,"◐","E","0-30",null,"Needs Improvement",null,null,"Wish bright future"]
[]
[]
[{"$f":"A1978+1","v":54},"Department Of Education, Rajasthan"]
[null,{"$f":"IF(I2021>0,CONCATENATE(C2021,I2021),0)","v":0},null,{"$f":"Master!$E$8","v":"Govt.Sr.Sec.Sch. "}]
[{"$nulls":3},{"$f":"Master!$E$11","v":"P.S.-Bapini (Jodhpur)"}]
[null,null,"Report Card",{"$nulls":6},"U-DISE Code:-",null,{"$f":"Master!$E$14","v":{"v":810000000,"d":"0810000000"}}]
[{"$nulls":9},"Session:-",null,{"$f":"Master!$E$6","v":"2022-23"}]
[null,null,"Roll No.:-",{"$nulls":5},{"$f":"VLOOKUP($A2016,'Result Entry'!$B$9:$F$108,5,0)","v":0}]
[null,"◐","Scholar Number",{"$nulls":3},"↠",{"$f":"VLOOKUP($A2016,'Result Entry'!$B$9:$DX$108,3,0)","v":0}]
[null,"◐","Student's Name",{"$nulls":3},"↠",{"$f":"VLOOKUP($A2016,'Result Entry'!$B$9:$DX$108,6,0)","v":0}]
[null,"◐","Father's Name",{"$nulls":3},"↠",{"$f":"VLOOKUP($A2016,'Result Entry'!$B$9:$DX$108,7,0)","v":0}]
[null,"◐","Mother's Name ",{"$nulls":3},"↠",{"$f":"VLOOKUP($A2016,'Result Entry'!$B$9:$DX$108,8,0)","v":0}]
[null,"◐","Class & Section",{"$nulls":3},"↠",{"$f":"CONCATENATE('Result Entry'!$F$4,'Result Entry'!$I$4)","v":"2(A)"}]
[null,"◐","Date Of Birth",{"$nulls":3},"↠",{"$f":"VLOOKUP($A2016,'Result Entry'!$B$9:$DX$108,9,0)","v":"00:00:00"}]
[null,"◐","Subject",{"$nulls":4},"Half Yearly","Total (T+H.Y.)","Yearly","Grand Total",null,"Subject Grade"]
[null,"◐","Max. Marks",{"$nulls":4},{"$f":"'Result Entry'!$Q$7","v":100},{"$f":"G2029+H2029","v":100},{"$f":"'Result Entry'!$U$7","v":100},{"$f":"I2029+J2029","v":200},null,"A/B/C/D/E"]
[null,"◐",{"$f":"'Result Entry'!$K$3","v":"Hindi"},{"$nulls":4},{"$f":"IF(OR(C2030=\"\",$I2021=\"NSO\"),\"\",VLOOKUP($A2016,'Result Entry'!$B$9:$DX$108,16,0))","v":0},{"$f":"SUM(G2030,H2030)","v":0},{"$f":"IF(OR(C2030=\"\",$I2021=\"NSO\"),\"\",VLOOKUP($A2016,'Result Entry'!$B$9:$DX$108,20,0))","v":0},{"$f":"SUM(I2030,J2030)","v":0},null,{"$f":"IF(OR(C2030=\"\",$I2021=\"NSO\"),\"\",VLOOKUP($A2016,'Result Entry'!$B$9:$DX$108,23,0))","v":""}]
[null,"◐",{"$f":"'Result Entry'!$Y$3","v":"Mathematics"},{"$nulls":4},{"$f":"IF(OR(C2031=\"\",$I2021=\"NSO\"),\"\",VLOOKUP($A2016,'Result Entry'!$B$9:$DX$108,30,0))","v":0},{"$f":"SUM(G2031,H2031)","v":0},{"$f":"IF(OR(C2031=\"\",$I2021=\"NSO\"),\"\",VLOOKUP($A2016,'Result Entry'!$B$9:$DX$108,34,0))","v":0},{"$f":"SUM(I2031,J2031)","v":0},null,{"$f":"IF(OR(C2031=\"\",$I2021=\"NSO\"),\"\",VLOOKUP($A2016,'Result Entry'!$B$9:$DX$108,37,0))","v":""}]
[null,"◐",{"$f":"'Result Entry'!$BO$3","v":"Env. Study"},{"$nulls":4},{"$f":"IF(OR(C2032=\"\",$I2021=\"NSO\"),\"\",VLOOKUP($A2016,'Result Entry'!$B$9:$DX$108,66,0))","v":0},0,{"$f":"IF(OR(C2032=\"\",$I2021=\"NSO\"),\"\",VLOOKUP($A2016,'Result Entry'!$B$9:$DX$108,67,0))","v":0},0,null,{"$f":"IF(OR(C2032=\"\",$I2021=\"NSO\"),\"\",VLOOKUP($A2016,'Result Entry'!$B$9:$DX$108,73,0))","v":""}]
[null,"◐","Max. Marks",{"$nulls":4},{"$f":"'Result Entry'!$AS$7","v":50},50,{"$f":"'Result Entry'!$AW$7","v":50},100,null,"A/B/C/D/E"]
[null,"◐",{"$f":"'Result Entry'!$AM$3","v":"English"},{"$nulls":4},{"$f":"IF(OR(C2034=\"\",$I2021=\"NSO\"),\"\",VLOOKUP($A2016,'Result Entry'!$B$9:$DX$108,44,0))","v":0},0,{"$f":"IF(OR(C2034=\"\",$I2021=\"NSO\"),\"\",VLOOKUP($A2016,'Result Entry'!$B$9:$DX$108,48,0))","v":0},0,null,{"$f":"IF(OR(C2034=\"\",$I2021=\"NSO\"),\"\",VLOOKUP($A2016,'Result Entry'!$B$9:$DX$108,51,0))","v":""}]
[null,"◐"]
[null,"◐","Overall Result",null,null,"Total Max. Marks",null,"Total Obtained Marks",null,"Percentage","Overall Grade","Result","Position in Class"]
[null,"◐",{"$nulls":3},{"$f":"IF(OR($I2021=\"\",$I2021=\"NSO\"),\"\",VLOOKUP($A2016,'Result Entry'!$B$9:$DX$108,101,0))","v":500},null,{"$f":"IF(OR($I2021=\"\",$I2021=\"NSO\"),\"\",VLOOKUP($A2016,'Result Entry'!$B$9:$DX$108,102,0))","v":0},null,{"$f":"IF(OR($I2021=\"\",$I2021=\"NSO\"),\"\",VLOOKUP($A2016,'Result Entry'!$B$9:$DX$108,103,0))","v":{"v":0,"d":"0.00"}},{"$f":"IF(OR($I2021=\"\",$I2021=\"NSO\"),\"\",VLOOKUP($A2016,'Result Entry'!$B$9:$DX$108,104,0))","v":""},{"$f":"IF(OR($I2021=\"\",$I2021=\"NSO\"),\"\",VLOOKUP($A2016,'Result Entry'!$B$9:$DX$108,105,0))","v":""},{"$f":"IF(OR($I2021=\"\",$I2021=\"NSO\"),\"\",VLOOKUP($A2016,'Result Entry'!$B$9:$DX$108,107,0))","v":""}]
[null,"◐",{"$nulls":6},"Total Meetings :-",null,{"$f":"IF(OR($I2021=\"\",$I2021=\"NSO\"),\"\",VLOOKUP($A2016,'Result Entry'!$B$9:$DX$108,98,0))","v":0},"Attedance %"]
[null,"◐","Extra Subjects",{"$nulls":5},"Student's Meetings :-",null,{"$f":"IF(OR($I2021=\"\",$I2021=\"NSO\"),\"\",VLOOKUP($A2016,'Result Entry'!$B$9:$DX$108,99,0))","v":0},{"$f":"IF(OR($I2021=\"\",$I2021=\"NSO\"),\"\",VLOOKUP($A2016,'Result Entry'!$B$9:$DX$108,100,0))","v":""}]
[null,"◐","Subject",null,null,"Total Marks",null,"GRADE","Remark :-",null,{"$f":"IF(OR($I2021=\"\",$I2021=\"NSO\"),\"\",VLOOKUP($A2016,'Result Entry'!$B$9:$DX$108,108,0))","v":0}]
[null,"◐",{"$nulls":6},"Result Date :-",null,{"$f":"'Result Entry'!$T$2","v":"2023-05-24"}]
[null,"◐",{"$f":"'Result Entry'!$BW$3","v":"WORK EXP."},null,null,{"$f":"IF(OR(C2042=\"\",$I2021=\"NSO\"),\"\",VLOOKUP($A2016,'Result Entry'!$B$9:$DX$108,119,0))","v":"0/50"},null,{"$f":"IF(OR(C2042=\"\",$I2021=\"NSO\"),\"\",VLOOKUP($A2016,'Result Entry'!$B$9:$DX$108,81,0))","v":""}]
[null,null,{"$f":"'Result Entry'!$CE$3","v":"ART EDU."},null,null,{"$f":"IF(OR(C2043=\"\",$I2021=\"NSO\"),\"\",VLOOKUP($A2016,'Result Entry'!$B$9:$DX$108,123,0))","v":"0/50"},null,{"$f":"IF(OR(C2043=\"\",$I2021=\"NSO\"),\"\",VLOOKUP($A2016,'Result Entry'!$B$9:$DX$108,89,0))","v":""}]
[null,"◐",{"$f":"'Result Entry'!$CM$3","v":"H&P. EDU."},null,null,{"$f":"IF(OR(C2044=\"\",$I2021=\"NSO\"),\"\",VLOOKUP($A2016,'Result Entry'!$B$9:$DX$108,127,0))","v":"0/100"},null,{"$f":"IF(OR(C2044=\"\",$I2021=\"NSO\"),\"\",VLOOKUP($A2016,'Result Entry'!$B$9:$DX$108,97,0))","v":""},"Signature Of The Class Teacher"]
[null,"◐","Grading System"]
[null,"◐","Grd.","% Range",null,"Description"]
[null,"◐","A","86-100",null,"Excellent",null,null,"Signature And Seal Of Principal/H.M."]
[null,"◐","B","71-85",null,"Very Good"]
[null,"◐","C","51-70",null,"Good"]
[null,"◐","D","31-50",null,"Average"]
[null,"◐","E","0-30",null,"Needs Improvement",null,null,"Wish bright future"]
[]
[]
[{"$f":"A2016+1","v":55},"Department Of Education, Rajasthan"]
[null,{"$f":"IF(I2059>0,CONCATENATE(C2059,I2059),0)","v":0},null,{"$f":"Master!$E$8","v":"Govt.Sr.Sec.Sch. "}]
[{"$nulls":3},{"$f":"Master!$E$11","v":"P.S.-Bapini (Jodhpur)"}]
[null,null,"Report Card",{"$nulls":6},"U-DISE Code:-",null,{"$f":"Master!$E$14","v":{"v":810000000,"d":"0810000000"}}]
[{"$nulls":9},"Session:-",null,{"$f":"Master!$E$6","v":"2022-23"}]
[null,null,"Roll No.:-",{"$nulls":5},{"$f":"VLOOKUP($A2054,'Result Entry'!$B$9:$F$108,5,0)","v":0}]
[null,"◐","Scholar Number",{"$nulls":3},"↠",{"$f":"VLOOKUP($A2054,'Result Entry'!$B$9:$DX$108,3,0)","v":0}]
[null,"◐","Student's Name",{"$nulls":3},"↠",{"$f":"VLOOKUP($A2054,'Result Entry'!$B$9:$DX$108,6,0)","v":0}]
[null,"◐","Father's Name",{"$nulls":3},"↠",{"$f":"VLOOKUP($A2054,'Result Entry'!$B$9:$DX$108,7,0)","v":0}]
[null,"◐","Mother's Name ",{"$nulls":3},"↠",{"$f":"VLOOKUP($A2054,'Result Entry'!$B$9:$DX$108,8,0)","v":0}]
[null,"◐","Class & Section",{"$nulls":3},"↠",{"$f":"CONCATENATE('Result Entry'!$F$4,'Result Entry'!$I$4)","v":"2(A)"}]
[null,"◐","Date Of Birth",{"$nulls":3},"↠",{"$f":"VLOOKUP($A2054,'Result Entry'!$B$9:$DX$108,9,0)","v":"00:00:00"}]
[null,"◐","Subject",{"$nulls":4},"Half Yearly","Total (T+H.Y.)","Yearly","Grand Total",null,"Subject Grade"]
[null,"◐","Max. Marks",{"$nulls":4},{"$f":"'Result Entry'!$Q$7","v":100},{"$f":"G2067+H2067","v":100},{"$f":"'Result Entry'!$U$7","v":100},{"$f":"I2067+J2067","v":200},null,"A/B/C/D/E"]
[null,"◐",{"$f":"'Result Entry'!$K$3","v":"Hindi"},{"$nulls":4},{"$f":"IF(OR(C2068=\"\",$I2059=\"NSO\"),\"\",VLOOKUP($A2054,'Result Entry'!$B$9:$DX$108,16,0))","v":0},{"$f":"SUM(G2068,H2068)","v":0},{"$f":"IF(OR(C2068=\"\",$I2059=\"NSO\"),\"\",VLOOKUP($A2054,'Result Entry'!$B$9:$DX$108,20,0))","v":0},{"$f":"SUM(I2068,J2068)","v":0},null,{"$f":"IF(OR(C2068=\"\",$I2059=\"NSO\"),\"\",VLOOKUP($A2054,'Result Entry'!$B$9:$DX$108,23,0))","v":""}]
[null,"◐",{"$f":"'Result Entry'!$Y$3","v":"Mathematics"},{"$nulls":4},{"$f":"IF(OR(C2069=\"\",$I2059=\"NSO\"),\"\",VLOOKUP($A2054,'Result Entry'!$B$9:$DX$108,30,0))","v":0},{"$f":"SUM(G2069,H2069)","v":0},{"$f":"IF(OR(C2069=\"\",$I2059=\"NSO\"),\"\",VLOOKUP($A2054,'Result Entry'!$B$9:$DX$108,34,0))","v":0},{"$f":"SUM(I2069,J2069)","v":0},null,{"$f":"IF(OR(C2069=\"\",$I2059=\"NSO\"),\"\",VLOOKUP($A2054,'Result Entry'!$B$9:$DX$108,37,0))","v":""}]
[null,"◐",{"$f":"'Result Entry'!$BO$3","v":"Env. Study"},{"$nulls":4},{"$f":"IF(OR(C2070=\"\",$I2059=\"NSO\"),\"\",VLOOKUP($A2054,'Result Entry'!$B$9:$DX$108,66,0))","v":0},0,{"$f":"IF(OR(C2070=\"\",$I2059=\"NSO\"),\"\",VLOOKUP($A2054,'Result Entry'!$B$9:$DX$108,67,0))","v":0},0,null,{"$f":"IF(OR(C2070=\"\",$I2059=\"NSO\"),\"\",VLOOKUP($A2054,'Result Entry'!$B$9:$DX$108,73,0))","v":""}]
[null,"◐","Max. Marks",{"$nulls":4},{"$f":"'Result Entry'!$AS$7","v":50},50,{"$f":"'Result Entry'!$AW$7","v":50},100,null,"A/B/C/D/E"]
[null,"◐",{"$f":"'Result Entry'!$AM$3","v":"English"},{"$nulls":4},{"$f":"IF(OR(C2072=\"\",$I2059=\"NSO\"),\"\",VLOOKUP($A2054,'Result Entry'!$B$9:$DX$108,44,0))","v":0},0,{"$f":"IF(OR(C2072=\"\",$I2059=\"NSO\"),\"\",VLOOKUP($A2054,'Result Entry'!$B$9:$DX$108,48,0))","v":0},0,null,{"$f":"IF(OR(C2072=\"\",$I2059=\"NSO\"),\"\",VLOOKUP($A2054,'Result Entry'!$B$9:$DX$108,51,0))","v":""}]
[null,"◐"]
[null,"◐","Overall Result",null,null,"Total Max. Marks",null,"Total Obtained Marks",null,"Percentage","Overall Grade","Result","Position in Class"]
[null,"◐",{"$nulls":3},{"$f":"IF(OR($I2059=\"\",$I2059=\"NSO\"),\"\",VLOOKUP($A2054,'Result Entry'!$B$9:$DX$108,101,0))","v":500},null,{"$f":"IF(OR($I2059=\"\",$I2059=\"NSO\"),\"\",VLOOKUP($A2054,'Result Entry'!$B$9:$DX$108,102,0))","v":0},null,{"$f":"IF(OR($I2059=\"\",$I2059=\"NSO\"),\"\",VLOOKUP($A2054,'Result Entry'!$B$9:$DX$108,103,0))","v":{"v":0,"d":"0.00"}},{"$f":"IF(OR($I2059=\"\",$I2059=\"NSO\"),\"\",VLOOKUP($A2054,'Result Entry'!$B$9:$DX$108,104,0))","v":""},{"$f":"IF(OR($I2059=\"\",$I2059=\"NSO\"),\"\",VLOOKUP($A2054,'Result Entry'!$B$9:$DX$108,105,0))","v":""},{"$f":"IF(OR($I2059=\"\",$I2059=\"NSO\"),\"\",VLOOKUP($A2054,'Result Entry'!$B$9:$DX$108,107,0))","v":""}]
[null,"◐",{"$nulls":6},"Total Meetings :-",null,{"$f":"IF(OR($I2059=\"\",$I2059=\"NSO\"),\"\",VLOOKUP($A2054,'Result Entry'!$B$9:$DX$108,98,0))","v":0},"Attedance %"]
[null,"◐","Extra Subjects",{"$nulls":5},"Student's Meetings :-",null,{"$f":"IF(OR($I2059=\"\",$I2059=\"NSO\"),\"\",VLOOKUP($A2054,'Result Entry'!$B$9:$DX$108,99,0))","v":0},{"$f":"IF(OR($I2059=\"\",$I2059=\"NSO\"),\"\",VLOOKUP($A2054,'Result Entry'!$B$9:$DX$108,100,0))","v":""}]
[null,"◐","Subject",null,null,"Total Marks",null,"GRADE","Remark :-",null,{"$f":"IF(OR($I2059=\"\",$I2059=\"NSO\"),\"\",VLOOKUP($A2054,'Result Entry'!$B$9:$DX$108,108,0))","v":0}]
[null,"◐",{"$nulls":6},"Result Date :-",null,{"$f":"'Result Entry'!$T$2","v":"2023-05-24"}]
[null,"◐",{"$f":"'Result Entry'!$BW$3","v":"WORK EXP."},null,null,{"$f":"IF(OR(C2080=\"\",$I2059=\"NSO\"),\"\",VLOOKUP($A2054,'Result Entry'!$B$9:$DX$108,119,0))","v":"0/50"},null,{"$f":"IF(OR(C2080=\"\",$I2059=\"NSO\"),\"\",VLOOKUP($A2054,'Result Entry'!$B$9:$DX$108,81,0))","v":""}]
[null,null,{"$f":"'Result Entry'!$CE$3","v":"ART EDU."},null,null,{"$f":"IF(OR(C2081=\"\",$I2059=\"NSO\"),\"\",VLOOKUP($A2054,'Result Entry'!$B$9:$DX$108,123,0))","v":"0/50"},null,{"$f":"IF(OR(C2081=\"\",$I2059=\"NSO\"),\"\",VLOOKUP($A2054,'Result Entry'!$B$9:$DX$108,89,0))","v":""}]
[null,"◐",{"$f":"'Result Entry'!$CM$3","v":"H&P. EDU."},null,null,{"$f":"IF(OR(C2082=\"\",$I2059=\"NSO\"),\"\",VLOOKUP($A2054,'Result Entry'!$B$9:$DX$108,127,0))","v":"0/100"},null,{"$f":"IF(OR(C2082=\"\",$I2059=\"NSO\"),\"\",VLOOKUP($A2054,'Result Entry'!$B$9:$DX$108,97,0))","v":""},"Signature Of The Class Teacher"]
[null,"◐","Grading System"]
[null,"◐","Grd.","% Range",null,"Description"]
[null,"◐","A","86-100",null,"Excellent",null,null,"Signature And Seal Of Principal/H.M."]
[null,"◐","B","71-85",null,"Very Good"]
[null,"◐","C","51-70",null,"Good"]
[null,"◐","D","31-50",null,"Average"]
[null,"◐","E","0-30",null,"Needs Improvement",null,null,"Wish bright future"]
[]
[]
[{"$f":"A2054+1","v":56},"Department Of Education, Rajasthan"]
[null,{"$f":"IF(I2097>0,CONCATENATE(C2097,I2097),0)","v":0},null,{"$f":"Master!$E$8","v":"Govt.Sr.Sec.Sch. "}]
[{"$nulls":3},{"$f":"Master!$E$11","v":"P.S.-Bapini (Jodhpur)"}]
[null,null,"Report Card",{"$nulls":6},"U-DISE Code:-",null,{"$f":"Master!$E$14","v":{"v":810000000,"d":"0810000000"}}]
[{"$nulls":9},"Session:-",null,{"$f":"Master!$E$6","v":"2022-23"}]
[null,null,"Roll No.:-",{"$nulls":5},{"$f":"VLOOKUP($A2092,'Result Entry'!$B$9:$F$108,5,0)","v":0}]
[null,"◐","Scholar Number",{"$nulls":3},"↠",{"$f":"VLOOKUP($A2092,'Result Entry'!$B$9:$DX$108,3,0)","v":0}]
[null,"◐","Student's Name",{"$nulls":3},"↠",{"$f":"VLOOKUP($A2092,'Result Entry'!$B$9:$DX$108,6,0)","v":0}]
[null,"◐","Father's Name",{"$nulls":3},"↠",{"$f":"VLOOKUP($A2092,'Result Entry'!$B$9:$DX$108,7,0)","v":0}]
[null,"◐","Mother's Name ",{"$nulls":3},"↠",{"$f":"VLOOKUP($A2092,'Result Entry'!$B$9:$DX$108,8,0)","v":0}]
[null,"◐","Class & Section",{"$nulls":3},"↠",{"$f":"CONCATENATE('Result Entry'!$F$4,'Result Entry'!$I$4)","v":"2(A)"}]
[null,"◐","Date Of Birth",{"$nulls":3},"↠",{"$f":"VLOOKUP($A2092,'Result Entry'!$B$9:$DX$108,9,0)","v":"00:00:00"}]
[null,"◐","Subject",{"$nulls":4},"Half Yearly","Total (T+H.Y.)","Yearly","Grand Total",null,"Subject Grade"]
[null,"◐","Max. Marks",{"$nulls":4},{"$f":"'Result Entry'!$Q$7","v":100},{"$f":"G2105+H2105","v":100},{"$f":"'Result Entry'!$U$7","v":100},{"$f":"I2105+J2105","v":200},null,"A/B/C/D/E"]
[null,"◐",{"$f":"'Result Entry'!$K$3","v":"Hindi"},{"$nulls":4},{"$f":"IF(OR(C2106=\"\",$I2097=\"NSO\"),\"\",VLOOKUP($A2092,'Result Entry'!$B$9:$DX$108,16,0))","v":0},{"$f":"SUM(G2106,H2106)","v":0},{"$f":"IF(OR(C2106=\"\",$I2097=\"NSO\"),\"\",VLOOKUP($A2092,'Result Entry'!$B$9:$DX$108,20,0))","v":0},{"$f":"SUM(I2106,J2106)","v":0},null,{"$f":"IF(OR(C2106=\"\",$I2097=\"NSO\"),\"\",VLOOKUP($A2092,'Result Entry'!$B$9:$DX$108,23,0))","v":""}]
[null,"◐",{"$f":"'Result Entry'!$Y$3","v":"Mathematics"},{"$nulls":4},{"$f":"IF(OR(C2107=\"\",$I2097=\"NSO\"),\"\",VLOOKUP($A2092,'Result Entry'!$B$9:$DX$108,30,0))","v":0},{"$f":"SUM(G2107,H2107)","v":0},{"$f":"IF(OR(C2107=\"\",$I2097=\"NSO\"),\"\",VLOOKUP($A2092,'Result Entry'!$B$9:$DX$108,34,0))","v":0},{"$f":"SUM(I2107,J2107)","v":0},null,{"$f":"IF(OR(C2107=\"\",$I2097=\"NSO\"),\"\",VLOOKUP($A2092,'Result Entry'!$B$9:$DX$108,37,0))","v":""}]
[null,"◐",{"$f":"'Result Entry'!$BO$3","v":"Env. Study"},{"$nulls":4},{"$f":"IF(OR(C2108=\"\",$I2097=\"NSO\"),\"\",VLOOKUP($A2092,'Result Entry'!$B$9:$DX$108,66,0))","v":0},0,{"$f":"IF(OR(C2108=\"\",$I2097=\"NSO\"),\"\",VLOOKUP($A2092,'Result Entry'!$B$9:$DX$108,67,0))","v":0},0,null,{"$f":"IF(OR(C2108=\"\",$I2097=\"NSO\"),\"\",VLOOKUP($A2092,'Result Entry'!$B$9:$DX$108,73,0))","v":""}]
[null,"◐","Max. Marks",{"$nulls":4},{"$f":"'Result Entry'!$AS$7","v":50},50,{"$f":"'Result Entry'!$AW$7","v":50},100,null,"A/B/C/D/E"]
[null,"◐",{"$f":"'Result Entry'!$AM$3","v":"English"},{"$nulls":4},{"$f":"IF(OR(C2110=\"\",$I2097=\"NSO\"),\"\",VLOOKUP($A2092,'Result Entry'!$B$9:$DX$108,44,0))","v":0},0,{"$f":"IF(OR(C2110=\"\",$I2097=\"NSO\"),\"\",VLOOKUP($A2092,'Result Entry'!$B$9:$DX$108,48,0))","v":0},0,null,{"$f":"IF(OR(C2110=\"\",$I2097=\"NSO\"),\"\",VLOOKUP($A2092,'Result Entry'!$B$9:$DX$108,51,0))","v":""}]
[null,"◐"]
[null,"◐","Overall Result",null,null,"Total Max. Marks",null,"Total Obtained Marks",null,"Percentage","Overall Grade","Result","Position in Class"]
[null,"◐",{"$nulls":3},{"$f":"IF(OR($I2097=\"\",$I2097=\"NSO\"),\"\",VLOOKUP($A2092,'Result Entry'!$B$9:$DX$108,101,0))","v":500},null,{"$f":"IF(OR($I2097=\"\",$I2097=\"NSO\"),\"\",VLOOKUP($A2092,'Result Entry'!$B$9:$DX$108,102,0))","v":0},null,{"$f":"IF(OR($I2097=\"\",$I2097=\"NSO\"),\"\",VLOOKUP($A2092,'Result Entry'!$B$9:$DX$108,103,0))","v":{"v":0,"d":"0.00"}},{"$f":"IF(OR($I2097=\"\",$I2097=\"NSO\"),\"\",VLOOKUP($A2092,'Result Entry'!$B$9:$DX$108,104,0))","v":""},{"$f":"IF(OR($I2097=\"\",$I2097=\"NSO\"),\"\",VLOOKUP($A2092,'Result Entry'!$B$9:$DX$108,105,0))","v":""},{"$f":"IF(OR($I2097=\"\",$I2097=\"NSO\"),\"\",VLOOKUP($A2092,'Result Entry'!$B$9:$DX$108,107,0))","v":""}]
[null,"◐",{"$nulls":6},"Total Meetings :-",null,{"$f":"IF(OR($I2097=\"\",$I2097=\"NSO\"),\"\",VLOOKUP($A2092,'Result Entry'!$B$9:$DX$108,98,0))","v":0},"Attedance %"]
[null,"◐","Extra Subjects",{"$nulls":5},"Student's Meetings :-",null,{"$f":"IF(OR($I2097=\"\",$I2097=\"NSO\"),\"\",VLOOKUP($A2092,'Result Entry'!$B$9:$DX$108,99,0))","v":0},{"$f":"IF(OR($I2097=\"\",$I2097=\"NSO\"),\"\",VLOOKUP($A2092,'Result Entry'!$B$9:$DX$108,100,0))","v":""}]
[null,"◐","Subject",null,null,"Total Marks",null,"GRADE","Remark :-",null,{"$f":"IF(OR($I2097=\"\",$I2097=\"NSO\"),\"\",VLOOKUP($A2092,'Result Entry'!$B$9:$DX$108,108,0))","v":0}]
[null,"◐",{"$nulls":6},"Result Date :-",null,{"$f":"'Result Entry'!$T$2","v":"2023-05-24"}]
[null,"◐",{"$f":"'Result Entry'!$BW$3","v":"WORK EXP."},null,null,{"$f":"IF(OR(C2118=\"\",$I2097=\"NSO\"),\"\",VLOOKUP($A2092,'Result Entry'!$B$9:$DX$108,119,0))","v":"0/50"},null,{"$f":"IF(OR(C2118=\"\",$I2097=\"NSO\"),\"\",VLOOKUP($A2092,'Result Entry'!$B$9:$DX$108,81,0))","v":""}]
[null,null,{"$f":"'Result Entry'!$CE$3","v":"ART EDU."},null,null,{"$f":"IF(OR(C2119=\"\",$I2097=\"NSO\"),\"\",VLOOKUP($A2092,'Result Entry'!$B$9:$DX$108,123,0))","v":"0/50"},null,{"$f":"IF(OR(C2119=\"\",$I2097=\"NSO\"),\"\",VLOOKUP($A2092,'Result Entry'!$B$9:$DX$108,89,0))","v":""}]
[null,"◐",{"$f":"'Result Entry'!$CM$3","v":"H&P. EDU."},null,null,{"$f":"IF(OR(C2120=\"\",$I2097=\"NSO\"),\"\",VLOOKUP($A2092,'Result Entry'!$B$9:$DX$108,127,0))","v":"0/100"},null,{"$f":"IF(OR(C2120=\"\",$I2097=\"NSO\"),\"\",VLOOKUP($A2092,'Result Entry'!$B$9:$DX$108,97,0))","v":""},"Signature Of The Class Teacher"]
[null,"◐","Grading System"]
[null,"◐","Grd.","% Range",null,"Description"]
[null,"◐","A","86-100",null,"Excellent",null,null,"Signature And Seal Of Principal/H.M."]
[null,"◐","B","71-85",null,"Very Good"]
[null,"◐","C","51-70",null,"Good"]
[null,"◐","D","31-50",null,"Average"]
[null,"◐","E","0-30",null,"Needs Improvement",null,null,"Wish bright future"]
[]
[]
[{"$f":"A2092+1","v":57},"Department Of Education, Rajasthan"]
[null,{"$f":"IF(I2135>0,CONCATENATE(C2135,I2135),0)","v":0},null,{"$f":"Master!$E$8","v":"Govt.Sr.Sec.Sch. "}]
[{"$nulls":3},{"$f":"Master!$E$11","v":"P.S.-Bapini (Jodhpur)"}]
[null,null,"Report Card",{"$nulls":6},"U-DISE Code:-",null,{"$f":"Master!$E$14","v":{"v":810000000,"d":"0810000000"}}]
[{"$nulls":9},"Session:-",null,{"$f":"Master!$E$6","v":"2022-23"}]
[null,null,"Roll No.:-",{"$nulls":5},{"$f":"VLOOKUP($A2130,'Result Entry'!$B$9:$F$108,5,0)","v":0}]
[null,"◐","Scholar Number",{"$nulls":3},"↠",{"$f":"VLOOKUP($A2130,'Result Entry'!$B$9:$DX$108,3,0)","v":0}]
[null,"◐","Student's Name",{"$nulls":3},"↠",{"$f":"VLOOKUP($A2130,'Result Entry'!$B$9:$DX$108,6,0)","v":0}]
[null,"◐","Father's Name",{"$nulls":3},"↠",{"$f":"VLOOKUP($A2130,'Result Entry'!$B$9:$DX$108,7,0)","v":0}]
[null,"◐","Mother's Name ",{"$nulls":3},"↠",{"$f":"VLOOKUP($A2130,'Result Entry'!$B$9:$DX$108,8,0)","v":0}]
[null,"◐","Class & Section",{"$nulls":3},"↠",{"$f":"CONCATENATE('Result Entry'!$F$4,'Result Entry'!$I$4)","v":"2(A)"}]
[null,"◐","Date Of Birth",{"$nulls":3},"↠",{"$f":"VLOOKUP($A2130,'Result Entry'!$B$9:$DX$108,9,0)","v":"00:00:00"}]
[null,"◐","Subject",{"$nulls":4},"Half Yearly","Total (T+H.Y.)","Yearly","Grand Total",null,"Subject Grade"]
[null,"◐","Max. Marks",{"$nulls":4},{"$f":"'Result Entry'!$Q$7","v":100},{"$f":"G2143+H2143","v":100},{"$f":"'Result Entry'!$U$7","v":100},{"$f":"I2143+J2143","v":200},null,"A/B/C/D/E"]
[null,"◐",{"$f":"'Result Entry'!$K$3","v":"Hindi"},{"$nulls":4},{"$f":"IF(OR(C2144=\"\",$I2135=\"NSO\"),\"\",VLOOKUP($A2130,'Result Entry'!$B$9:$DX$108,16,0))","v":0},{"$f":"SUM(G2144,H2144)","v":0},{"$f":"IF(OR(C2144=\"\",$I2135=\"NSO\"),\"\",VLOOKUP($A2130,'Result Entry'!$B$9:$DX$108,20,0))","v":0},{"$f":"SUM(I2144,J2144)","v":0},null,{"$f":"IF(OR(C2144=\"\",$I2135=\"NSO\"),\"\",VLOOKUP($A2130,'Result Entry'!$B$9:$DX$108,23,0))","v":""}]
[null,"◐",{"$f":"'Result Entry'!$Y$3","v":"Mathematics"},{"$nulls":4},{"$f":"IF(OR(C2145=\"\",$I2135=\"NSO\"),\"\",VLOOKUP($A2130,'Result Entry'!$B$9:$DX$108,30,0))","v":0},{"$f":"SUM(G2145,H2145)","v":0},{"$f":"IF(OR(C2145=\"\",$I2135=\"NSO\"),\"\",VLOOKUP($A2130,'Result Entry'!$B$9:$DX$108,34,0))","v":0},{"$f":"SUM(I2145,J2145)","v":0},null,{"$f":"IF(OR(C2145=\"\",$I2135=\"NSO\"),\"\",VLOOKUP($A2130,'Result Entry'!$B$9:$DX$108,37,0))","v":""}]
[null,"◐",{"$f":"'Result Entry'!$BO$3","v":"Env. Study"},{"$nulls":4},{"$f":"IF(OR(C2146=\"\",$I2135=\"NSO\"),\"\",VLOOKUP($A2130,'Result Entry'!$B$9:$DX$108,66,0))","v":0},0,{"$f":"IF(OR(C2146=\"\",$I2135=\"NSO\"),\"\",VLOOKUP($A2130,'Result Entry'!$B$9:$DX$108,67,0))","v":0},0,null,{"$f":"IF(OR(C2146=\"\",$I2135=\"NSO\"),\"\",VLOOKUP($A2130,'Result Entry'!$B$9:$DX$108,73,0))","v":""}]
[null,"◐","Max. Marks",{"$nulls":4},{"$f":"'Result Entry'!$AS$7","v":50},50,{"$f":"'Result Entry'!$AW$7","v":50},100,null,"A/B/C/D/E"]
[null,"◐",{"$f":"'Result Entry'!$AM$3","v":"English"},{"$nulls":4},{"$f":"IF(OR(C2148=\"\",$I2135=\"NSO\"),\"\",VLOOKUP($A2130,'Result Entry'!$B$9:$DX$108,44,0))","v":0},0,{"$f":"IF(OR(C2148=\"\",$I2135=\"NSO\"),\"\",VLOOKUP($A2130,'Result Entry'!$B$9:$DX$108,48,0))","v":0},0,null,{"$f":"IF(OR(C2148=\"\",$I2135=\"NSO\"),\"\",VLOOKUP($A2130,'Result Entry'!$B$9:$DX$108,51,0))","v":""}]
[null,"◐"]
[null,"◐","Overall Result",null,null,"Total Max. Marks",null,"Total Obtained Marks",null,"Percentage","Overall Grade","Result","Position in Class"]
[null,"◐",{"$nulls":3},{"$f":"IF(OR($I2135=\"\",$I2135=\"NSO\"),\"\",VLOOKUP($A2130,'Result Entry'!$B$9:$DX$108,101,0))","v":500},null,{"$f":"IF(OR($I2135=\"\",$I2135=\"NSO\"),\"\",VLOOKUP($A2130,'Result Entry'!$B$9:$DX$108,102,0))","v":0},null,{"$f":"IF(OR($I2135=\"\",$I2135=\"NSO\"),\"\",VLOOKUP($A2130,'Result Entry'!$B$9:$DX$108,103,0))","v":{"v":0,"d":"0.00"}},{"$f":"IF(OR($I2135=\"\",$I2135=\"NSO\"),\"\",VLOOKUP($A2130,'Result Entry'!$B$9:$DX$108,104,0))","v":""},{"$f":"IF(OR($I2135=\"\",$I2135=\"NSO\"),\"\",VLOOKUP($A2130,'Result Entry'!$B$9:$DX$108,105,0))","v":""},{"$f":"IF(OR($I2135=\"\",$I2135=\"NSO\"),\"\",VLOOKUP($A2130,'Result Entry'!$B$9:$DX$108,107,0))","v":""}]
[null,"◐",{"$nulls":6},"Total Meetings :-",null,{"$f":"IF(OR($I2135=\"\",$I2135=\"NSO\"),\"\",VLOOKUP($A2130,'Result Entry'!$B$9:$DX$108,98,0))","v":0},"Attedance %"]
[null,"◐","Extra Subjects",{"$nulls":5},"Student's Meetings :-",null,{"$f":"IF(OR($I2135=\"\",$I2135=\"NSO\"),\"\",VLOOKUP($A2130,'Result Entry'!$B$9:$DX$108,99,0))","v":0},{"$f":"IF(OR($I2135=\"\",$I2135=\"NSO\"),\"\",VLOOKUP($A2130,'Result Entry'!$B$9:$DX$108,100,0))","v":""}]
[null,"◐","Subject",null,null,"Total Marks",null,"GRADE","Remark :-",null,{"$f":"IF(OR($I2135=\"\",$I2135=\"NSO\"),\"\",VLOOKUP($A2130,'Result Entry'!$B$9:$DX$108,108,0))","v":0}]
[null,"◐",{"$nulls":6},"Result Date :-",null,{"$f":"'Result Entry'!$T$2","v":"2023-05-24"}]
[null,"◐",{"$f":"'Result Entry'!$BW$3","v":"WORK EXP."},null,null,{"$f":"IF(OR(C2156=\"\",$I2135=\"NSO\"),\"\",VLOOKUP($A2130,'Result Entry'!$B$9:$DX$108,119,0))","v":"0/50"},null,{"$f":"IF(OR(C2156=\"\",$I2135=\"NSO\"),\"\",VLOOKUP($A2130,'Result Entry'!$B$9:$DX$108,81,0))","v":""}]
[null,null,{"$f":"'Result Entry'!$CE$3","v":"ART EDU."},null,null,{"$f":"IF(OR(C2157=\"\",$I2135=\"NSO\"),\"\",VLOOKUP($A2130,'Result Entry'!$B$9:$DX$108,123,0))","v":"0/50"},null,{"$f":"IF(OR(C2157=\"\",$I2135=\"NSO\"),\"\",VLOOKUP($A2130,'Result Entry'!$B$9:$DX$108,89,0))","v":""}]
[null,"◐",{"$f":"'Result Entry'!$CM$3","v":"H&P. EDU."},null,null,{"$f":"IF(OR(C2158=\"\",$I2135=\"NSO\"),\"\",VLOOKUP($A2130,'Result Entry'!$B$9:$DX$108,127,0))","v":"0/100"},null,{"$f":"IF(OR(C2158=\"\",$I2135=\"NSO\"),\"\",VLOOKUP($A2130,'Result Entry'!$B$9:$DX$108,97,0))","v":""},"Signature Of The Class Teacher"]
[null,"◐","Grading System"]
[null,"◐","Grd.","% Range",null,"Description"]
[null,"◐","A","86-100",null,"Excellent",null,null,"Signature And Seal Of Principal/H.M."]
[null,"◐","B","71-85",null,"Very Good"]
[null,"◐","C","51-70",null,"Good"]
[null,"◐","D","31-50",null,"Average"]
[null,"◐","E","0-30",null,"Needs Improvement",null,null,"Wish bright future"]
[]
[]
[{"$f":"A2130+1","v":58},"Department Of Education, Rajasthan"]
[null,{"$f":"IF(I2173>0,CONCATENATE(C2173,I2173),0)","v":0},null,{"$f":"Master!$E$8","v":"Govt.Sr.Sec.Sch. "}]
[{"$nulls":3},{"$f":"Master!$E$11","v":"P.S.-Bapini (Jodhpur)"}]
[null,null,"Report Card",{"$nulls":6},"U-DISE Code:-",null,{"$f":"Master!$E$14","v":{"v":810000000,"d":"0810000000"}}]
[{"$nulls":9},"Session:-",null,{"$f":"Master!$E$6","v":"2022-23"}]
[null,null,"Roll No.:-",{"$nulls":5},{"$f":"VLOOKUP($A2168,'Result Entry'!$B$9:$F$108,5,0)","v":0}]
[null,"◐","Scholar Number",{"$nulls":3},"↠",{"$f":"VLOOKUP($A2168,'Result Entry'!$B$9:$DX$108,3,0)","v":0}]
[null,"◐","Student's Name",{"$nulls":3},"↠",{"$f":"VLOOKUP($A2168,'Result Entry'!$B$9:$DX$108,6,0)","v":0}]
[null,"◐","Father's Name",{"$nulls":3},"↠",{"$f":"VLOOKUP($A2168,'Result Entry'!$B$9:$DX$108,7,0)","v":0}]
[null,"◐","Mother's Name ",{"$nulls":3},"↠",{"$f":"VLOOKUP($A2168,'Result Entry'!$B$9:$DX$108,8,0)","v":0}]
[null,"◐","Class & Section",{"$nulls":3},"↠",{"$f":"CONCATENATE('Result Entry'!$F$4,'Result Entry'!$I$4)","v":"2(A)"}]
[null,"◐","Date Of Birth",{"$nulls":3},"↠",{"$f":"VLOOKUP($A2168,'Result Entry'!$B$9:$DX$108,9,0)","v":"00:00:00"}]
[null,"◐","Subject",{"$nulls":4},"Half Yearly","Total (T+H.Y.)","Yearly","Grand Total",null,"Subject Grade"]
[null,"◐","Max. Marks",{"$nulls":4},{"$f":"'Result Entry'!$Q$7","v":100},{"$f":"G2181+H2181","v":100},{"$f":"'Result Entry'!$U$7","v":100},{"$f":"I2181+J2181","v":200},null,"A/B/C/D/E"]
[null,"◐",{"$f":"'Result Entry'!$K$3","v":"Hindi"},{"$nulls":4},{"$f":"IF(OR(C2182=\"\",$I2173=\"NSO\"),\"\",VLOOKUP($A2168,'Result Entry'!$B$9:$DX$108,16,0))","v":0},{"$f":"SUM(G2182,H2182)","v":0},{"$f":"IF(OR(C2182=\"\",$I2173=\"NSO\"),\"\",VLOOKUP($A2168,'Result Entry'!$B$9:$DX$108,20,0))","v":0},{"$f":"SUM(I2182,J2182)","v":0},null,{"$f":"IF(OR(C2182=\"\",$I2173=\"NSO\"),\"\",VLOOKUP($A2168,'Result Entry'!$B$9:$DX$108,23,0))","v":""}]
[null,"◐",{"$f":"'Result Entry'!$Y$3","v":"Mathematics"},{"$nulls":4},{"$f":"IF(OR(C2183=\"\",$I2173=\"NSO\"),\"\",VLOOKUP($A2168,'Result Entry'!$B$9:$DX$108,30,0))","v":0},{"$f":"SUM(G2183,H2183)","v":0},{"$f":"IF(OR(C2183=\"\",$I2173=\"NSO\"),\"\",VLOOKUP($A2168,'Result Entry'!$B$9:$DX$108,34,0))","v":0},{"$f":"SUM(I2183,J2183)","v":0},null,{"$f":"IF(OR(C2183=\"\",$I2173=\"NSO\"),\"\",VLOOKUP($A2168,'Result Entry'!$B$9:$DX$108,37,0))","v":""}]
[null,"◐",{"$f":"'Result Entry'!$BO$3","v":"Env. Study"},{"$nulls":4},{"$f":"IF(OR(C2184=\"\",$I2173=\"NSO\"),\"\",VLOOKUP($A2168,'Result Entry'!$B$9:$DX$108,66,0))","v":0},0,{"$f":"IF(OR(C2184=\"\",$I2173=\"NSO\"),\"\",VLOOKUP($A2168,'Result Entry'!$B$9:$DX$108,67,0))","v":0},0,null,{"$f":"IF(OR(C2184=\"\",$I2173=\"NSO\"),\"\",VLOOKUP($A2168,'Result Entry'!$B$9:$DX$108,73,0))","v":""}]
[null,"◐","Max. Marks",{"$nulls":4},{"$f":"'Result Entry'!$AS$7","v":50},50,{"$f":"'Result Entry'!$AW$7","v":50},100,null,"A/B/C/D/E"]
[null,"◐",{"$f":"'Result Entry'!$AM$3","v":"English"},{"$nulls":4},{"$f":"IF(OR(C2186=\"\",$I2173=\"NSO\"),\"\",VLOOKUP($A2168,'Result Entry'!$B$9:$DX$108,44,0))","v":0},0,{"$f":"IF(OR(C2186=\"\",$I2173=\"NSO\"),\"\",VLOOKUP($A2168,'Result Entry'!$B$9:$DX$108,48,0))","v":0},0,null,{"$f":"IF(OR(C2186=\"\",$I2173=\"NSO\"),\"\",VLOOKUP($A2168,'Result Entry'!$B$9:$DX$108,51,0))","v":""}]
[null,"◐"]
[null,"◐","Overall Result",null,null,"Total Max. Marks",null,"Total Obtained Marks",null,"Percentage","Overall Grade","Result","Position in Class"]
[null,"◐",{"$nulls":3},{"$f":"IF(OR($I2173=\"\",$I2173=\"NSO\"),\"\",VLOOKUP($A2168,'Result Entry'!$B$9:$DX$108,101,0))","v":500},null,{"$f":"IF(OR($I2173=\"\",$I2173=\"NSO\"),\"\",VLOOKUP($A2168,'Result Entry'!$B$9:$DX$108,102,0))","v":0},null,{"$f":"IF(OR($I2173=\"\",$I2173=\"NSO\"),\"\",VLOOKUP($A2168,'Result Entry'!$B$9:$DX$108,103,0))","v":{"v":0,"d":"0.00"}},{"$f":"IF(OR($I2173=\"\",$I2173=\"NSO\"),\"\",VLOOKUP($A2168,'Result Entry'!$B$9:$DX$108,104,0))","v":""},{"$f":"IF(OR($I2173=\"\",$I2173=\"NSO\"),\"\",VLOOKUP($A2168,'Result Entry'!$B$9:$DX$108,105,0))","v":""},{"$f":"IF(OR($I2173=\"\",$I2173=\"NSO\"),\"\",VLOOKUP($A2168,'Result Entry'!$B$9:$DX$108,107,0))","v":""}]
[null,"◐",{"$nulls":6},"Total Meetings :-",null,{"$f":"IF(OR($I2173=\"\",$I2173=\"NSO\"),\"\",VLOOKUP($A2168,'Result Entry'!$B$9:$DX$108,98,0))","v":0},"Attedance %"]
[null,"◐","Extra Subjects",{"$nulls":5},"Student's Meetings :-",null,{"$f":"IF(OR($I2173=\"\",$I2173=\"NSO\"),\"\",VLOOKUP($A2168,'Result Entry'!$B$9:$DX$108,99,0))","v":0},{"$f":"IF(OR($I2173=\"\",$I2173=\"NSO\"),\"\",VLOOKUP($A2168,'Result Entry'!$B$9:$DX$108,100,0))","v":""}]
[null,"◐","Subject",null,null,"Total Marks",null,"GRADE","Remark :-",null,{"$f":"IF(OR($I2173=\"\",$I2173=\"NSO\"),\"\",VLOOKUP($A2168,'Result Entry'!$B$9:$DX$108,108,0))","v":0}]
[null,"◐",{"$nulls":6},"Result Date :-",null,{"$f":"'Result Entry'!$T$2","v":"2023-05-24"}]
[null,"◐",{"$f":"'Result Entry'!$BW$3","v":"WORK EXP."},null,null,{"$f":"IF(OR(C2194=\"\",$I2173=\"NSO\"),\"\",VLOOKUP($A2168,'Result Entry'!$B$9:$DX$108,119,0))","v":"0/50"},null,{"$f":"IF(OR(C2194=\"\",$I2173=\"NSO\"),\"\",VLOOKUP($A2168,'Result Entry'!$B$9:$DX$108,81,0))","v":""}]
[null,null,{"$f":"'Result Entry'!$CE$3","v":"ART EDU."},null,null,{"$f":"IF(OR(C2195=\"\",$I2173=\"NSO\"),\"\",VLOOKUP($A2168,'Result Entry'!$B$9:$DX$108,123,0))","v":"0/50"},null,{"$f":"IF(OR(C2195=\"\",$I2173=\"NSO\"),\"\",VLOOKUP($A2168,'Result Entry'!$B$9:$DX$108,89,0))","v":""}]
[null,"◐",{"$f":"'Result Entry'!$CM$3","v":"H&P. EDU."},null,null,{"$f":"IF(OR(C2196=\"\",$I2173=\"NSO\"),\"\",VLOOKUP($A2168,'Result Entry'!$B$9:$DX$108,127,0))","v":"0/100"},null,{"$f":"IF(OR(C2196=\"\",$I2173=\"NSO\"),\"\",VLOOKUP($A2168,'Result Entry'!$B$9:$DX$108,97,0))","v":""},"Signature Of The Class Teacher"]
[null,"◐","Grading System"]
[null,"◐","Grd.","% Range",null,"Description"]
[null,"◐","A","86-100",null,"Excellent",null,null,"Signature And Seal Of Principal/H.M."]
[null,"◐","B","71-85",null,"Very Good"]
[null,"◐","C","51-70",null,"Good"]
[null,"◐","D","31-50",null,"Average"]
[null,"◐","E","0-30",null,"Needs Improvement",null,null,"Wish bright future"]
[]
[]
[{"$f":"A2168+1","v":59},"Department Of Education, Rajasthan"]
[null,{"$f":"IF(I2211>0,CONCATENATE(C2211,I2211),0)","v":0},null,{"$f":"Master!$E$8","v":"Govt.Sr.Sec.Sch. "}]
[{"$nulls":3},{"$f":"Master!$E$11","v":"P.S.-Bapini (Jodhpur)"}]
[null,null,"Report Card",{"$nulls":6},"U-DISE Code:-",null,{"$f":"Master!$E$14","v":{"v":810000000,"d":"0810000000"}}]
[{"$nulls":9},"Session:-",null,{"$f":"Master!$E$6","v":"2022-23"}]
[null,null,"Roll No.:-",{"$nulls":5},{"$f":"VLOOKUP($A2206,'Result Entry'!$B$9:$F$108,5,0)","v":0}]
[null,"◐","Scholar Number",{"$nulls":3},"↠",{"$f":"VLOOKUP($A2206,'Result Entry'!$B$9:$DX$108,3,0)","v":0}]
[null,"◐","Student's Name",{"$nulls":3},"↠",{"$f":"VLOOKUP($A2206,'Result Entry'!$B$9:$DX$108,6,0)","v":0}]
[null,"◐","Father's Name",{"$nulls":3},"↠",{"$f":"VLOOKUP($A2206,'Result Entry'!$B$9:$DX$108,7,0)","v":0}]
[null,"◐","Mother's Name ",{"$nulls":3},"↠",{"$f":"VLOOKUP($A2206,'Result Entry'!$B$9:$DX$108,8,0)","v":0}]
[null,"◐","Class & Section",{"$nulls":3},"↠",{"$f":"CONCATENATE('Result Entry'!$F$4,'Result Entry'!$I$4)","v":"2(A)"}]
[null,"◐","Date Of Birth",{"$nulls":3},"↠",{"$f":"VLOOKUP($A2206,'Result Entry'!$B$9:$DX$108,9,0)","v":"00:00:00"}]
[null,"◐","Subject",{"$nulls":4},"Half Yearly","Total (T+H.Y.)","Yearly","Grand Total",null,"Subject Grade"]
[null,"◐","Max. Marks",{"$nulls":4},{"$f":"'Result Entry'!$Q$7","v":100},{"$f":"G2219+H2219","v":100},{"$f":"'Result Entry'!$U$7","v":100},{"$f":"I2219+J2219","v":200},null,"A/B/C/D/E"]
[null,"◐",{"$f":"'Result Entry'!$K$3","v":"Hindi"},{"$nulls":4},{"$f":"IF(OR(C2220=\"\",$I2211=\"NSO\"),\"\",VLOOKUP($A2206,'Result Entry'!$B$9:$DX$108,16,0))","v":0},{"$f":"SUM(G2220,H2220)","v":0},{"$f":"IF(OR(C2220=\"\",$I2211=\"NSO\"),\"\",VLOOKUP($A2206,'Result Entry'!$B$9:$DX$108,20,0))","v":0},{"$f":"SUM(I2220,J2220)","v":0},null,{"$f":"IF(OR(C2220=\"\",$I2211=\"NSO\"),\"\",VLOOKUP($A2206,'Result Entry'!$B$9:$DX$108,23,0))","v":""}]
[null,"◐",{"$f":"'Result Entry'!$Y$3","v":"Mathematics"},{"$nulls":4},{"$f":"IF(OR(C2221=\"\",$I2211=\"NSO\"),\"\",VLOOKUP($A2206,'Result Entry'!$B$9:$DX$108,30,0))","v":0},{"$f":"SUM(G2221,H2221)","v":0},{"$f":"IF(OR(C2221=\"\",$I2211=\"NSO\"),\"\",VLOOKUP($A2206,'Result Entry'!$B$9:$DX$108,34,0))","v":0},{"$f":"SUM(I2221,J2221)","v":0},null,{"$f":"IF(OR(C2221=\"\",$I2211=\"NSO\"),\"\",VLOOKUP($A2206,'Result Entry'!$B$9:$DX$108,37,0))","v":""}]
[null,"◐",{"$f":"'Result Entry'!$BO$3","v":"Env. Study"},{"$nulls":4},{"$f":"IF(OR(C2222=\"\",$I2211=\"NSO\"),\"\",VLOOKUP($A2206,'Result Entry'!$B$9:$DX$108,66,0))","v":0},0,{"$f":"IF(OR(C2222=\"\",$I2211=\"NSO\"),\"\",VLOOKUP($A2206,'Result Entry'!$B$9:$DX$108,67,0))","v":0},0,null,{"$f":"IF(OR(C2222=\"\",$I2211=\"NSO\"),\"\",VLOOKUP($A2206,'Result Entry'!$B$9:$DX$108,73,0))","v":""}]
[null,"◐","Max. Marks",{"$nulls":4},{"$f":"'Result Entry'!$AS$7","v":50},50,{"$f":"'Result Entry'!$AW$7","v":50},100,null,"A/B/C/D/E"]
[null,"◐",{"$f":"'Result Entry'!$AM$3","v":"English"},{"$nulls":4},{"$f":"IF(OR(C2224=\"\",$I2211=\"NSO\"),\"\",VLOOKUP($A2206,'Result Entry'!$B$9:$DX$108,44,0))","v":0},0,{"$f":"IF(OR(C2224=\"\",$I2211=\"NSO\"),\"\",VLOOKUP($A2206,'Result Entry'!$B$9:$DX$108,48,0))","v":0},0,null,{"$f":"IF(OR(C2224=\"\",$I2211=\"NSO\"),\"\",VLOOKUP($A2206,'Result Entry'!$B$9:$DX$108,51,0))","v":""}]
[null,"◐"]
[null,"◐","Overall Result",null,null,"Total Max. Marks",null,"Total Obtained Marks",null,"Percentage","Overall Grade","Result","Position in Class"]
[null,"◐",{"$nulls":3},{"$f":"IF(OR($I2211=\"\",$I2211=\"NSO\"),\"\",VLOOKUP($A2206,'Result Entry'!$B$9:$DX$108,101,0))","v":500},null,{"$f":"IF(OR($I2211=\"\",$I2211=\"NSO\"),\"\",VLOOKUP($A2206,'Result Entry'!$B$9:$DX$108,102,0))","v":0},null,{"$f":"IF(OR($I2211=\"\",$I2211=\"NSO\"),\"\",VLOOKUP($A2206,'Result Entry'!$B$9:$DX$108,103,0))","v":{"v":0,"d":"0.00"}},{"$f":"IF(OR($I2211=\"\",$I2211=\"NSO\"),\"\",VLOOKUP($A2206,'Result Entry'!$B$9:$DX$108,104,0))","v":""},{"$f":"IF(OR($I2211=\"\",$I2211=\"NSO\"),\"\",VLOOKUP($A2206,'Result Entry'!$B$9:$DX$108,105,0))","v":""},{"$f":"IF(OR($I2211=\"\",$I2211=\"NSO\"),\"\",VLOOKUP($A2206,'Result Entry'!$B$9:$DX$108,107,0))","v":""}]
[null,"◐",{"$nulls":6},"Total Meetings :-",null,{"$f":"IF(OR($I2211=\"\",$I2211=\"NSO\"),\"\",VLOOKUP($A2206,'Result Entry'!$B$9:$DX$108,98,0))","v":0},"Attedance %"]
[null,"◐","Extra Subjects",{"$nulls":5},"Student's Meetings :-",null,{"$f":"IF(OR($I2211=\"\",$I2211=\"NSO\"),\"\",VLOOKUP($A2206,'Result Entry'!$B$9:$DX$108,99,0))","v":0},{"$f":"IF(OR($I2211=\"\",$I2211=\"NSO\"),\"\",VLOOKUP($A2206,'Result Entry'!$B$9:$DX$108,100,0))","v":""}]
[null,"◐","Subject",null,null,"Total Marks",null,"GRADE","Remark :-",null,{"$f":"IF(OR($I2211=\"\",$I2211=\"NSO\"),\"\",VLOOKUP($A2206,'Result Entry'!$B$9:$DX$108,108,0))","v":0}]
[null,"◐",{"$nulls":6},"Result Date :-",null,{"$f":"'Result Entry'!$T$2","v":"2023-05-24"}]
[null,"◐",{"$f":"'Result Entry'!$BW$3","v":"WORK EXP."},null,null,{"$f":"IF(OR(C2232=\"\",$I2211=\"NSO\"),\"\",VLOOKUP($A2206,'Result Entry'!$B$9:$DX$108,119,0))","v":"0/50"},null,{"$f":"IF(OR(C2232=\"\",$I2211=\"NSO\"),\"\",VLOOKUP($A2206,'Result Entry'!$B$9:$DX$108,81,0))","v":""}]
[null,null,{"$f":"'Result Entry'!$CE$3","v":"ART EDU."},null,null,{"$f":"IF(OR(C2233=\"\",$I2211=\"NSO\"),\"\",VLOOKUP($A2206,'Result Entry'!$B$9:$DX$108,123,0))","v":"0/50"},null,{"$f":"IF(OR(C2233=\"\",$I2211=\"NSO\"),\"\",VLOOKUP($A2206,'Result Entry'!$B$9:$DX$108,89,0))","v":""}]
[null,"◐",{"$f":"'Result Entry'!$CM$3","v":"H&P. EDU."},null,null,{"$f":"IF(OR(C2234=\"\",$I2211=\"NSO\"),\"\",VLOOKUP($A2206,'Result Entry'!$B$9:$DX$108,127,0))","v":"0/100"},null,{"$f":"IF(OR(C2234=\"\",$I2211=\"NSO\"),\"\",VLOOKUP($A2206,'Result Entry'!$B$9:$DX$108,97,0))","v":""},"Signature Of The Class Teacher"]
[null,"◐","Grading System"]
[null,"◐","Grd.","% Range",null,"Description"]
[null,"◐","A","86-100",null,"Excellent",null,null,"Signature And Seal Of Principal/H.M."]
[null,"◐","B","71-85",null,"Very Good"]
[null,"◐","C","51-70",null,"Good"]
[null,"◐","D","31-50",null,"Average"]
[null,"◐","E","0-30",null,"Needs Improvement",null,null,"Wish bright future"]
[]
[]
[{"$f":"A2206+1","v":60},"Department Of Education, Rajasthan"]
[null,{"$f":"IF(I2249>0,CONCATENATE(C2249,I2249),0)","v":0},null,{"$f":"Master!$E$8","v":"Govt.Sr.Sec.Sch. "}]
[{"$nulls":3},{"$f":"Master!$E$11","v":"P.S.-Bapini (Jodhpur)"}]
[null,null,"Report Card",{"$nulls":6},"U-DISE Code:-",null,{"$f":"Master!$E$14","v":{"v":810000000,"d":"0810000000"}}]
[{"$nulls":9},"Session:-",null,{"$f":"Master!$E$6","v":"2022-23"}]
[null,null,"Roll No.:-",{"$nulls":5},{"$f":"VLOOKUP($A2244,'Result Entry'!$B$9:$F$108,5,0)","v":0}]
[null,"◐","Scholar Number",{"$nulls":3},"↠",{"$f":"VLOOKUP($A2244,'Result Entry'!$B$9:$DX$108,3,0)","v":0}]
[null,"◐","Student's Name",{"$nulls":3},"↠",{"$f":"VLOOKUP($A2244,'Result Entry'!$B$9:$DX$108,6,0)","v":0}]
[null,"◐","Father's Name",{"$nulls":3},"↠",{"$f":"VLOOKUP($A2244,'Result Entry'!$B$9:$DX$108,7,0)","v":0}]
[null,"◐","Mother's Name ",{"$nulls":3},"↠",{"$f":"VLOOKUP($A2244,'Result Entry'!$B$9:$DX$108,8,0)","v":0}]
[null,"◐","Class & Section",{"$nulls":3},"↠",{"$f":"CONCATENATE('Result Entry'!$F$4,'Result Entry'!$I$4)","v":"2(A)"}]
[null,"◐","Date Of Birth",{"$nulls":3},"↠",{"$f":"VLOOKUP($A2244,'Result Entry'!$B$9:$DX$108,9,0)","v":"00:00:00"}]
[null,"◐","Subject",{"$nulls":4},"Half Yearly","Total (T+H.Y.)","Yearly","Grand Total",null,"Subject Grade"]
[null,"◐","Max. Marks",{"$nulls":4},{"$f":"'Result Entry'!$Q$7","v":100},{"$f":"G2257+H2257","v":100},{"$f":"'Result Entry'!$U$7","v":100},{"$f":"I2257+J2257","v":200},null,"A/B/C/D/E"]
[null,"◐",{"$f":"'Result Entry'!$K$3","v":"Hindi"},{"$nulls":4},{"$f":"IF(OR(C2258=\"\",$I2249=\"NSO\"),\"\",VLOOKUP($A2244,'Result Entry'!$B$9:$DX$108,16,0))","v":0},{"$f":"SUM(G2258,H2258)","v":0},{"$f":"IF(OR(C2258=\"\",$I2249=\"NSO\"),\"\",VLOOKUP($A2244,'Result Entry'!$B$9:$DX$108,20,0))","v":0},{"$f":"SUM(I2258,J2258)","v":0},null,{"$f":"IF(OR(C2258=\"\",$I2249=\"NSO\"),\"\",VLOOKUP($A2244,'Result Entry'!$B$9:$DX$108,23,0))","v":""}]
[null,"◐",{"$f":"'Result Entry'!$Y$3","v":"Mathematics"},{"$nulls":4},{"$f":"IF(OR(C2259=\"\",$I2249=\"NSO\"),\"\",VLOOKUP($A2244,'Result Entry'!$B$9:$DX$108,30,0))","v":0},{"$f":"SUM(G2259,H2259)","v":0},{"$f":"IF(OR(C2259=\"\",$I2249=\"NSO\"),\"\",VLOOKUP($A2244,'Result Entry'!$B$9:$DX$108,34,0))","v":0},{"$f":"SUM(I2259,J2259)","v":0},null,{"$f":"IF(OR(C2259=\"\",$I2249=\"NSO\"),\"\",VLOOKUP($A2244,'Result Entry'!$B$9:$DX$108,37,0))","v":""}]
[null,"◐",{"$f":"'Result Entry'!$BO$3","v":"Env. Study"},{"$nulls":4},{"$f":"IF(OR(C2260=\"\",$I2249=\"NSO\"),\"\",VLOOKUP($A2244,'Result Entry'!$B$9:$DX$108,66,0))","v":0},0,{"$f":"IF(OR(C2260=\"\",$I2249=\"NSO\"),\"\",VLOOKUP($A2244,'Result Entry'!$B$9:$DX$108,67,0))","v":0},0,null,{"$f":"IF(OR(C2260=\"\",$I2249=\"NSO\"),\"\",VLOOKUP($A2244,'Result Entry'!$B$9:$DX$108,73,0))","v":""}]
[null,"◐","Max. Marks",{"$nulls":4},{"$f":"'Result Entry'!$AS$7","v":50},50,{"$f":"'Result Entry'!$AW$7","v":50},100,null,"A/B/C/D/E"]
[null,"◐",{"$f":"'Result Entry'!$AM$3","v":"English"},{"$nulls":4},{"$f":"IF(OR(C2262=\"\",$I2249=\"NSO\"),\"\",VLOOKUP($A2244,'Result Entry'!$B$9:$DX$108,44,0))","v":0},0,{"$f":"IF(OR(C2262=\"\",$I2249=\"NSO\"),\"\",VLOOKUP($A2244,'Result Entry'!$B$9:$DX$108,48,0))","v":0},0,null,{"$f":"IF(OR(C2262=\"\",$I2249=\"NSO\"),\"\",VLOOKUP($A2244,'Result Entry'!$B$9:$DX$108,51,0))","v":""}]
[null,"◐"]
[null,"◐","Overall Result",null,null,"Total Max. Marks",null,"Total Obtained Marks",null,"Percentage","Overall Grade","Result","Position in Class"]
[null,"◐",{"$nulls":3},{"$f":"IF(OR($I2249=\"\",$I2249=\"NSO\"),\"\",VLOOKUP($A2244,'Result Entry'!$B$9:$DX$108,101,0))","v":500},null,{"$f":"IF(OR($I2249=\"\",$I2249=\"NSO\"),\"\",VLOOKUP($A2244,'Result Entry'!$B$9:$DX$108,102,0))","v":0},null,{"$f":"IF(OR($I2249=\"\",$I2249=\"NSO\"),\"\",VLOOKUP($A2244,'Result Entry'!$B$9:$DX$108,103,0))","v":{"v":0,"d":"0.00"}},{"$f":"IF(OR($I2249=\"\",$I2249=\"NSO\"),\"\",VLOOKUP($A2244,'Result Entry'!$B$9:$DX$108,104,0))","v":""},{"$f":"IF(OR($I2249=\"\",$I2249=\"NSO\"),\"\",VLOOKUP($A2244,'Result Entry'!$B$9:$DX$108,105,0))","v":""},{"$f":"IF(OR($I2249=\"\",$I2249=\"NSO\"),\"\",VLOOKUP($A2244,'Result Entry'!$B$9:$DX$108,107,0))","v":""}]
[null,"◐",{"$nulls":6},"Total Meetings :-",null,{"$f":"IF(OR($I2249=\"\",$I2249=\"NSO\"),\"\",VLOOKUP($A2244,'Result Entry'!$B$9:$DX$108,98,0))","v":0},"Attedance %"]
[null,"◐","Extra Subjects",{"$nulls":5},"Student's Meetings :-",null,{"$f":"IF(OR($I2249=\"\",$I2249=\"NSO\"),\"\",VLOOKUP($A2244,'Result Entry'!$B$9:$DX$108,99,0))","v":0},{"$f":"IF(OR($I2249=\"\",$I2249=\"NSO\"),\"\",VLOOKUP($A2244,'Result Entry'!$B$9:$DX$108,100,0))","v":""}]
[null,"◐","Subject",null,null,"Total Marks",null,"GRADE","Remark :-",null,{"$f":"IF(OR($I2249=\"\",$I2249=\"NSO\"),\"\",VLOOKUP($A2244,'Result Entry'!$B$9:$DX$108,108,0))","v":0}]
[null,"◐",{"$nulls":6},"Result Date :-",null,{"$f":"'Result Entry'!$T$2","v":"2023-05-24"}]
[null,"◐",{"$f":"'Result Entry'!$BW$3","v":"WORK EXP."},null,null,{"$f":"IF(OR(C2270=\"\",$I2249=\"NSO\"),\"\",VLOOKUP($A2244,'Result Entry'!$B$9:$DX$108,119,0))","v":"0/50"},null,{"$f":"IF(OR(C2270=\"\",$I2249=\"NSO\"),\"\",VLOOKUP($A2244,'Result Entry'!$B$9:$DX$108,81,0))","v":""}]
[null,null,{"$f":"'Result Entry'!$CE$3","v":"ART EDU."},null,null,{"$f":"IF(OR(C2271=\"\",$I2249=\"NSO\"),\"\",VLOOKUP($A2244,'Result Entry'!$B$9:$DX$108,123,0))","v":"0/50"},null,{"$f":"IF(OR(C2271=\"\",$I2249=\"NSO\"),\"\",VLOOKUP($A2244,'Result Entry'!$B$9:$DX$108,89,0))","v":""}]
[null,"◐",{"$f":"'Result Entry'!$CM$3","v":"H&P. EDU."},null,null,{"$f":"IF(OR(C2272=\"\",$I2249=\"NSO\"),\"\",VLOOKUP($A2244,'Result Entry'!$B$9:$DX$108,127,0))","v":"0/100"},null,{"$f":"IF(OR(C2272=\"\",$I2249=\"NSO\"),\"\",VLOOKUP($A2244,'Result Entry'!$B$9:$DX$108,97,0))","v":""},"Signature Of The Class Teacher"]
[null,"◐","Grading System"]
[null,"◐","Grd.","% Range",null,"Description"]
[null,"◐","A","86-100",null,"Excellent",null,null,"Signature And Seal Of Principal/H.M."]
[null,"◐","B","71-85",null,"Very Good"]
[null,"◐","C","51-70",null,"Good"]
[null,"◐","D","31-50",null,"Average"]
[null,"◐","E","0-30",null,"Needs Improvement",null,null,"Wish bright future"]
[]
[]
[{"$f":"A2244+1","v":61},"Department Of Education, Rajasthan"]
[null,{"$f":"IF(I2287>0,CONCATENATE(C2287,I2287),0)","v":0},null,{"$f":"Master!$E$8","v":"Govt.Sr.Sec.Sch. "}]
[{"$nulls":3},{"$f":"Master!$E$11","v":"P.S.-Bapini (Jodhpur)"}]
[null,null,"Report Card",{"$nulls":6},"U-DISE Code:-",null,{"$f":"Master!$E$14","v":{"v":810000000,"d":"0810000000"}}]
[{"$nulls":9},"Session:-",null,{"$f":"Master!$E$6","v":"2022-23"}]
[null,null,"Roll No.:-",{"$nulls":5},{"$f":"VLOOKUP($A2282,'Result Entry'!$B$9:$F$108,5,0)","v":0}]
[null,"◐","Scholar Number",{"$nulls":3},"↠",{"$f":"VLOOKUP($A2282,'Result Entry'!$B$9:$DX$108,3,0)","v":0}]
[null,"◐","Student's Name",{"$nulls":3},"↠",{"$f":"VLOOKUP($A2282,'Result Entry'!$B$9:$DX$108,6,0)","v":0}]
[null,"◐","Father's Name",{"$nulls":3},"↠",{"$f":"VLOOKUP($A2282,'Result Entry'!$B$9:$DX$108,7,0)","v":0}]
[null,"◐","Mother's Name ",{"$nulls":3},"↠",{"$f":"VLOOKUP($A2282,'Result Entry'!$B$9:$DX$108,8,0)","v":0}]
[null,"◐","Class & Section",{"$nulls":3},"↠",{"$f":"CONCATENATE('Result Entry'!$F$4,'Result Entry'!$I$4)","v":"2(A)"}]
[null,"◐","Date Of Birth",{"$nulls":3},"↠",{"$f":"VLOOKUP($A2282,'Result Entry'!$B$9:$DX$108,9,0)","v":"00:00:00"}]
[null,"◐","Subject",{"$nulls":4},"Half Yearly","Total (T+H.Y.)","Yearly","Grand Total",null,"Subject Grade"]
[null,"◐","Max. Marks",{"$nulls":4},{"$f":"'Result Entry'!$Q$7","v":100},{"$f":"G2295+H2295","v":100},{"$f":"'Result Entry'!$U$7","v":100},{"$f":"I2295+J2295","v":200},null,"A/B/C/D/E"]
[null,"◐",{"$f":"'Result Entry'!$K$3","v":"Hindi"},{"$nulls":4},{"$f":"IF(OR(C2296=\"\",$I2287=\"NSO\"),\"\",VLOOKUP($A2282,'Result Entry'!$B$9:$DX$108,16,0))","v":0},{"$f":"SUM(G2296,H2296)","v":0},{"$f":"IF(OR(C2296=\"\",$I2287=\"NSO\"),\"\",VLOOKUP($A2282,'Result Entry'!$B$9:$DX$108,20,0))","v":0},{"$f":"SUM(I2296,J2296)","v":0},null,{"$f":"IF(OR(C2296=\"\",$I2287=\"NSO\"),\"\",VLOOKUP($A2282,'Result Entry'!$B$9:$DX$108,23,0))","v":""}]
[null,"◐",{"$f":"'Result Entry'!$Y$3","v":"Mathematics"},{"$nulls":4},{"$f":"IF(OR(C2297=\"\",$I2287=\"NSO\"),\"\",VLOOKUP($A2282,'Result Entry'!$B$9:$DX$108,30,0))","v":0},{"$f":"SUM(G2297,H2297)","v":0},{"$f":"IF(OR(C2297=\"\",$I2287=\"NSO\"),\"\",VLOOKUP($A2282,'Result Entry'!$B$9:$DX$108,34,0))","v":0},{"$f":"SUM(I2297,J2297)","v":0},null,{"$f":"IF(OR(C2297=\"\",$I2287=\"NSO\"),\"\",VLOOKUP($A2282,'Result Entry'!$B$9:$DX$108,37,0))","v":""}]
[null,"◐",{"$f":"'Result Entry'!$BO$3","v":"Env. Study"},{"$nulls":4},{"$f":"IF(OR(C2298=\"\",$I2287=\"NSO\"),\"\",VLOOKUP($A2282,'Result Entry'!$B$9:$DX$108,66,0))","v":0},0,{"$f":"IF(OR(C2298=\"\",$I2287=\"NSO\"),\"\",VLOOKUP($A2282,'Result Entry'!$B$9:$DX$108,67,0))","v":0},0,null,{"$f":"IF(OR(C2298=\"\",$I2287=\"NSO\"),\"\",VLOOKUP($A2282,'Result Entry'!$B$9:$DX$108,73,0))","v":""}]
[null,"◐","Max. Marks",{"$nulls":4},{"$f":"'Result Entry'!$AS$7","v":50},50,{"$f":"'Result Entry'!$AW$7","v":50},100,null,"A/B/C/D/E"]
[null,"◐",{"$f":"'Result Entry'!$AM$3","v":"English"},{"$nulls":4},{"$f":"IF(OR(C2300=\"\",$I2287=\"NSO\"),\"\",VLOOKUP($A2282,'Result Entry'!$B$9:$DX$108,44,0))","v":0},0,{"$f":"IF(OR(C2300=\"\",$I2287=\"NSO\"),\"\",VLOOKUP($A2282,'Result Entry'!$B$9:$DX$108,48,0))","v":0},0,null,{"$f":"IF(OR(C2300=\"\",$I2287=\"NSO\"),\"\",VLOOKUP($A2282,'Result Entry'!$B$9:$DX$108,51,0))","v":""}]
[null,"◐"]
[null,"◐","Overall Result",null,null,"Total Max. Marks",null,"Total Obtained Marks",null,"Percentage","Overall Grade","Result","Position in Class"]
[null,"◐",{"$nulls":3},{"$f":"IF(OR($I2287=\"\",$I2287=\"NSO\"),\"\",VLOOKUP($A2282,'Result Entry'!$B$9:$DX$108,101,0))","v":500},null,{"$f":"IF(OR($I2287=\"\",$I2287=\"NSO\"),\"\",VLOOKUP($A2282,'Result Entry'!$B$9:$DX$108,102,0))","v":0},null,{"$f":"IF(OR($I2287=\"\",$I2287=\"NSO\"),\"\",VLOOKUP($A2282,'Result Entry'!$B$9:$DX$108,103,0))","v":{"v":0,"d":"0.00"}},{"$f":"IF(OR($I2287=\"\",$I2287=\"NSO\"),\"\",VLOOKUP($A2282,'Result Entry'!$B$9:$DX$108,104,0))","v":""},{"$f":"IF(OR($I2287=\"\",$I2287=\"NSO\"),\"\",VLOOKUP($A2282,'Result Entry'!$B$9:$DX$108,105,0))","v":""},{"$f":"IF(OR($I2287=\"\",$I2287=\"NSO\"),\"\",VLOOKUP($A2282,'Result Entry'!$B$9:$DX$108,107,0))","v":""}]
[null,"◐",{"$nulls":6},"Total Meetings :-",null,{"$f":"IF(OR($I2287=\"\",$I2287=\"NSO\"),\"\",VLOOKUP($A2282,'Result Entry'!$B$9:$DX$108,98,0))","v":0},"Attedance %"]
[null,"◐","Extra Subjects",{"$nulls":5},"Student's Meetings :-",null,{"$f":"IF(OR($I2287=\"\",$I2287=\"NSO\"),\"\",VLOOKUP($A2282,'Result Entry'!$B$9:$DX$108,99,0))","v":0},{"$f":"IF(OR($I2287=\"\",$I2287=\"NSO\"),\"\",VLOOKUP($A2282,'Result Entry'!$B$9:$DX$108,100,0))","v":""}]
[null,"◐","Subject",null,null,"Total Marks",null,"GRADE","Remark :-",null,{"$f":"IF(OR($I2287=\"\",$I2287=\"NSO\"),\"\",VLOOKUP($A2282,'Result Entry'!$B$9:$DX$108,108,0))","v":0}]
[null,"◐",{"$nulls":6},"Result Date :-",null,{"$f":"'Result Entry'!$T$2","v":"2023-05-24"}]
[null,"◐",{"$f":"'Result Entry'!$BW$3","v":"WORK EXP."},null,null,{"$f":"IF(OR(C2308=\"\",$I2287=\"NSO\"),\"\",VLOOKUP($A2282,'Result Entry'!$B$9:$DX$108,119,0))","v":"0/50"},null,{"$f":"IF(OR(C2308=\"\",$I2287=\"NSO\"),\"\",VLOOKUP($A2282,'Result Entry'!$B$9:$DX$108,81,0))","v":""}]
[null,null,{"$f":"'Result Entry'!$CE$3","v":"ART EDU."},null,null,{"$f":"IF(OR(C2309=\"\",$I2287=\"NSO\"),\"\",VLOOKUP($A2282,'Result Entry'!$B$9:$DX$108,123,0))","v":"0/50"},null,{"$f":"IF(OR(C2309=\"\",$I2287=\"NSO\"),\"\",VLOOKUP($A2282,'Result Entry'!$B$9:$DX$108,89,0))","v":""}]
[null,"◐",{"$f":"'Result Entry'!$CM$3","v":"H&P. EDU."},null,null,{"$f":"IF(OR(C2310=\"\",$I2287=\"NSO\"),\"\",VLOOKUP($A2282,'Result Entry'!$B$9:$DX$108,127,0))","v":"0/100"},null,{"$f":"IF(OR(C2310=\"\",$I2287=\"NSO\"),\"\",VLOOKUP($A2282,'Result Entry'!$B$9:$DX$108,97,0))","v":""},"Signature Of The Class Teacher"]
[null,"◐","Grading System"]
[null,"◐","Grd.","% Range",null,"Description"]
[null,"◐","A","86-100",null,"Excellent",null,null,"Signature And Seal Of Principal/H.M."]
[null,"◐","B","71-85",null,"Very Good"]
[null,"◐","C","51-70",null,"Good"]
[null,"◐","D","31-50",null,"Average"]
[null,"◐","E","0-30",null,"Needs Improvement",null,null,"Wish bright future"]
[]
[]
[{"$f":"A2282+1","v":62},"Department Of Education, Rajasthan"]
[null,{"$f":"IF(I2325>0,CONCATENATE(C2325,I2325),0)","v":0},null,{"$f":"Master!$E$8","v":"Govt.Sr.Sec.Sch. "}]
[{"$nulls":3},{"$f":"Master!$E$11","v":"P.S.-Bapini (Jodhpur)"}]
[null,null,"Report Card",{"$nulls":6},"U-DISE Code:-",null,{"$f":"Master!$E$14","v":{"v":810000000,"d":"0810000000"}}]
[{"$nulls":9},"Session:-",null,{"$f":"Master!$E$6","v":"2022-23"}]
[null,null,"Roll No.:-",{"$nulls":5},{"$f":"VLOOKUP($A2320,'Result Entry'!$B$9:$F$108,5,0)","v":0}]
[null,"◐","Scholar Number",{"$nulls":3},"↠",{"$f":"VLOOKUP($A2320,'Result Entry'!$B$9:$DX$108,3,0)","v":0}]
[null,"◐","Student's Name",{"$nulls":3},"↠",{"$f":"VLOOKUP($A2320,'Result Entry'!$B$9:$DX$108,6,0)","v":0}]
[null,"◐","Father's Name",{"$nulls":3},"↠",{"$f":"VLOOKUP($A2320,'Result Entry'!$B$9:$DX$108,7,0)","v":0}]
[null,"◐","Mother's Name ",{"$nulls":3},"↠",{"$f":"VLOOKUP($A2320,'Result Entry'!$B$9:$DX$108,8,0)","v":0}]
[null,"◐","Class & Section",{"$nulls":3},"↠",{"$f":"CONCATENATE('Result Entry'!$F$4,'Result Entry'!$I$4)","v":"2(A)"}]
[null,"◐","Date Of Birth",{"$nulls":3},"↠",{"$f":"VLOOKUP($A2320,'Result Entry'!$B$9:$DX$108,9,0)","v":"00:00:00"}]
[null,"◐","Subject",{"$nulls":4},"Half Yearly","Total (T+H.Y.)","Yearly","Grand Total",null,"Subject Grade"]
[null,"◐","Max. Marks",{"$nulls":4},{"$f":"'Result Entry'!$Q$7","v":100},{"$f":"G2333+H2333","v":100},{"$f":"'Result Entry'!$U$7","v":100},{"$f":"I2333+J2333","v":200},null,"A/B/C/D/E"]
[null,"◐",{"$f":"'Result Entry'!$K$3","v":"Hindi"},{"$nulls":4},{"$f":"IF(OR(C2334=\"\",$I2325=\"NSO\"),\"\",VLOOKUP($A2320,'Result Entry'!$B$9:$DX$108,16,0))","v":0},{"$f":"SUM(G2334,H2334)","v":0},{"$f":"IF(OR(C2334=\"\",$I2325=\"NSO\"),\"\",VLOOKUP($A2320,'Result Entry'!$B$9:$DX$108,20,0))","v":0},{"$f":"SUM(I2334,J2334)","v":0},null,{"$f":"IF(OR(C2334=\"\",$I2325=\"NSO\"),\"\",VLOOKUP($A2320,'Result Entry'!$B$9:$DX$108,23,0))","v":""}]
[null,"◐",{"$f":"'Result Entry'!$Y$3","v":"Mathematics"},{"$nulls":4},{"$f":"IF(OR(C2335=\"\",$I2325=\"NSO\"),\"\",VLOOKUP($A2320,'Result Entry'!$B$9:$DX$108,30,0))","v":0},{"$f":"SUM(G2335,H2335)","v":0},{"$f":"IF(OR(C2335=\"\",$I2325=\"NSO\"),\"\",VLOOKUP($A2320,'Result Entry'!$B$9:$DX$108,34,0))","v":0},{"$f":"SUM(I2335,J2335)","v":0},null,{"$f":"IF(OR(C2335=\"\",$I2325=\"NSO\"),\"\",VLOOKUP($A2320,'Result Entry'!$B$9:$DX$108,37,0))","v":""}]
[null,"◐",{"$f":"'Result Entry'!$BO$3","v":"Env. Study"},{"$nulls":4},{"$f":"IF(OR(C2336=\"\",$I2325=\"NSO\"),\"\",VLOOKUP($A2320,'Result Entry'!$B$9:$DX$108,66,0))","v":0},0,{"$f":"IF(OR(C2336=\"\",$I2325=\"NSO\"),\"\",VLOOKUP($A2320,'Result Entry'!$B$9:$DX$108,67,0))","v":0},0,null,{"$f":"IF(OR(C2336=\"\",$I2325=\"NSO\"),\"\",VLOOKUP($A2320,'Result Entry'!$B$9:$DX$108,73,0))","v":""}]
[null,"◐","Max. Marks",{"$nulls":4},{"$f":"'Result Entry'!$AS$7","v":50},50,{"$f":"'Result Entry'!$AW$7","v":50},100,null,"A/B/C/D/E"]
[null,"◐",{"$f":"'Result Entry'!$AM$3","v":"English"},{"$nulls":4},{"$f":"IF(OR(C2338=\"\",$I2325=\"NSO\"),\"\",VLOOKUP($A2320,'Result Entry'!$B$9:$DX$108,44,0))","v":0},0,{"$f":"IF(OR(C2338=\"\",$I2325=\"NSO\"),\"\",VLOOKUP($A2320,'Result Entry'!$B$9:$DX$108,48,0))","v":0},0,null,{"$f":"IF(OR(C2338=\"\",$I2325=\"NSO\"),\"\",VLOOKUP($A2320,'Result Entry'!$B$9:$DX$108,51,0))","v":""}]
[null,"◐"]
[null,"◐","Overall Result",null,null,"Total Max. Marks",null,"Total Obtained Marks",null,"Percentage","Overall Grade","Result","Position in Class"]
[null,"◐",{"$nulls":3},{"$f":"IF(OR($I2325=\"\",$I2325=\"NSO\"),\"\",VLOOKUP($A2320,'Result Entry'!$B$9:$DX$108,101,0))","v":500},null,{"$f":"IF(OR($I2325=\"\",$I2325=\"NSO\"),\"\",VLOOKUP($A2320,'Result Entry'!$B$9:$DX$108,102,0))","v":0},null,{"$f":"IF(OR($I2325=\"\",$I2325=\"NSO\"),\"\",VLOOKUP($A2320,'Result Entry'!$B$9:$DX$108,103,0))","v":{"v":0,"d":"0.00"}},{"$f":"IF(OR($I2325=\"\",$I2325=\"NSO\"),\"\",VLOOKUP($A2320,'Result Entry'!$B$9:$DX$108,104,0))","v":""},{"$f":"IF(OR($I2325=\"\",$I2325=\"NSO\"),\"\",VLOOKUP($A2320,'Result Entry'!$B$9:$DX$108,105,0))","v":""},{"$f":"IF(OR($I2325=\"\",$I2325=\"NSO\"),\"\",VLOOKUP($A2320,'Result Entry'!$B$9:$DX$108,107,0))","v":""}]
[null,"◐",{"$nulls":6},"Total Meetings :-",null,{"$f":"IF(OR($I2325=\"\",$I2325=\"NSO\"),\"\",VLOOKUP($A2320,'Result Entry'!$B$9:$DX$108,98,0))","v":0},"Attedance %"]
[null,"◐","Extra Subjects",{"$nulls":5},"Student's Meetings :-",null,{"$f":"IF(OR($I2325=\"\",$I2325=\"NSO\"),\"\",VLOOKUP($A2320,'Result Entry'!$B$9:$DX$108,99,0))","v":0},{"$f":"IF(OR($I2325=\"\",$I2325=\"NSO\"),\"\",VLOOKUP($A2320,'Result Entry'!$B$9:$DX$108,100,0))","v":""}]
[null,"◐","Subject",null,null,"Total Marks",null,"GRADE","Remark :-",null,{"$f":"IF(OR($I2325=\"\",$I2325=\"NSO\"),\"\",VLOOKUP($A2320,'Result Entry'!$B$9:$DX$108,108,0))","v":0}]
[null,"◐",{"$nulls":6},"Result Date :-",null,{"$f":"'Result Entry'!$T$2","v":"2023-05-24"}]
[null,"◐",{"$f":"'Result Entry'!$BW$3","v":"WORK EXP."},null,null,{"$f":"IF(OR(C2346=\"\",$I2325=\"NSO\"),\"\",VLOOKUP($A2320,'Result Entry'!$B$9:$DX$108,119,0))","v":"0/50"},null,{"$f":"IF(OR(C2346=\"\",$I2325=\"NSO\"),\"\",VLOOKUP($A2320,'Result Entry'!$B$9:$DX$108,81,0))","v":""}]
[null,null,{"$f":"'Result Entry'!$CE$3","v":"ART EDU."},null,null,{"$f":"IF(OR(C2347=\"\",$I2325=\"NSO\"),\"\",VLOOKUP($A2320,'Result Entry'!$B$9:$DX$108,123,0))","v":"0/50"},null,{"$f":"IF(OR(C2347=\"\",$I2325=\"NSO\"),\"\",VLOOKUP($A2320,'Result Entry'!$B$9:$DX$108,89,0))","v":""}]
[null,"◐",{"$f":"'Result Entry'!$CM$3","v":"H&P. EDU."},null,null,{"$f":"IF(OR(C2348=\"\",$I2325=\"NSO\"),\"\",VLOOKUP($A2320,'Result Entry'!$B$9:$DX$108,127,0))","v":"0/100"},null,{"$f":"IF(OR(C2348=\"\",$I2325=\"NSO\"),\"\",VLOOKUP($A2320,'Result Entry'!$B$9:$DX$108,97,0))","v":""},"Signature Of The Class Teacher"]
[null,"◐","Grading System"]
[null,"◐","Grd.","% Range",null,"Description"]
[null,"◐","A","86-100",null,"Excellent",null,null,"Signature And Seal Of Principal/H.M."]
[null,"◐","B","71-85",null,"Very Good"]
[null,"◐","C","51-70",null,"Good"]
[null,"◐","D","31-50",null,"Average"]
[null,"◐","E","0-30",null,"Needs Improvement",null,null,"Wish bright future"]
[]
[]
[{"$f":"A2320+1","v":63},"Department Of Education, Rajasthan"]
[null,{"$f":"IF(I2363>0,CONCATENATE(C2363,I2363),0)","v":0},null,{"$f":"Master!$E$8","v":"Govt.Sr.Sec.Sch. "}]
[{"$nulls":3},{"$f":"Master!$E$11","v":"P.S.-Bapini (Jodhpur)"}]
[null,null,"Report Card",{"$nulls":6},"U-DISE Code:-",null,{"$f":"Master!$E$14","v":{"v":810000000,"d":"0810000000"}}]
[{"$nulls":9},"Session:-",null,{"$f":"Master!$E$6","v":"2022-23"}]
[null,null,"Roll No.:-",{"$nulls":5},{"$f":"VLOOKUP($A2358,'Result Entry'!$B$9:$F$108,5,0)","v":0}]
[null,"◐","Scholar Number",{"$nulls":3},"↠",{"$f":"VLOOKUP($A2358,'Result Entry'!$B$9:$DX$108,3,0)","v":0}]
[null,"◐","Student's Name",{"$nulls":3},"↠",{"$f":"VLOOKUP($A2358,'Result Entry'!$B$9:$DX$108,6,0)","v":0}]
[null,"◐","Father's Name",{"$nulls":3},"↠",{"$f":"VLOOKUP($A2358,'Result Entry'!$B$9:$DX$108,7,0)","v":0}]
[null,"◐","Mother's Name ",{"$nulls":3},"↠",{"$f":"VLOOKUP($A2358,'Result Entry'!$B$9:$DX$108,8,0)","v":0}]
[null,"◐","Class & Section",{"$nulls":3},"↠",{"$f":"CONCATENATE('Result Entry'!$F$4,'Result Entry'!$I$4)","v":"2(A)"}]
[null,"◐","Date Of Birth",{"$nulls":3},"↠",{"$f":"VLOOKUP($A2358,'Result Entry'!$B$9:$DX$108,9,0)","v":"00:00:00"}]
[null,"◐","Subject",{"$nulls":4},"Half Yearly","Total (T+H.Y.)","Yearly","Grand Total",null,"Subject Grade"]
[null,"◐","Max. Marks",{"$nulls":4},{"$f":"'Result Entry'!$Q$7","v":100},{"$f":"G2371+H2371","v":100},{"$f":"'Result Entry'!$U$7","v":100},{"$f":"I2371+J2371","v":200},null,"A/B/C/D/E"]
[null,"◐",{"$f":"'Result Entry'!$K$3","v":"Hindi"},{"$nulls":4},{"$f":"IF(OR(C2372=\"\",$I2363=\"NSO\"),\"\",VLOOKUP($A2358,'Result Entry'!$B$9:$DX$108,16,0))","v":0},{"$f":"SUM(G2372,H2372)","v":0},{"$f":"IF(OR(C2372=\"\",$I2363=\"NSO\"),\"\",VLOOKUP($A2358,'Result Entry'!$B$9:$DX$108,20,0))","v":0},{"$f":"SUM(I2372,J2372)","v":0},null,{"$f":"IF(OR(C2372=\"\",$I2363=\"NSO\"),\"\",VLOOKUP($A2358,'Result Entry'!$B$9:$DX$108,23,0))","v":""}]
[null,"◐",{"$f":"'Result Entry'!$Y$3","v":"Mathematics"},{"$nulls":4},{"$f":"IF(OR(C2373=\"\",$I2363=\"NSO\"),\"\",VLOOKUP($A2358,'Result Entry'!$B$9:$DX$108,30,0))","v":0},{"$f":"SUM(G2373,H2373)","v":0},{"$f":"IF(OR(C2373=\"\",$I2363=\"NSO\"),\"\",VLOOKUP($A2358,'Result Entry'!$B$9:$DX$108,34,0))","v":0},{"$f":"SUM(I2373,J2373)","v":0},null,{"$f":"IF(OR(C2373=\"\",$I2363=\"NSO\"),\"\",VLOOKUP($A2358,'Result Entry'!$B$9:$DX$108,37,0))","v":""}]
[null,"◐",{"$f":"'Result Entry'!$BO$3","v":"Env. Study"},{"$nulls":4},{"$f":"IF(OR(C2374=\"\",$I2363=\"NSO\"),\"\",VLOOKUP($A2358,'Result Entry'!$B$9:$DX$108,66,0))","v":0},0,{"$f":"IF(OR(C2374=\"\",$I2363=\"NSO\"),\"\",VLOOKUP($A2358,'Result Entry'!$B$9:$DX$108,67,0))","v":0},0,null,{"$f":"IF(OR(C2374=\"\",$I2363=\"NSO\"),\"\",VLOOKUP($A2358,'Result Entry'!$B$9:$DX$108,73,0))","v":""}]
[null,"◐","Max. Marks",{"$nulls":4},{"$f":"'Result Entry'!$AS$7","v":50},50,{"$f":"'Result Entry'!$AW$7","v":50},100,null,"A/B/C/D/E"]
[null,"◐",{"$f":"'Result Entry'!$AM$3","v":"English"},{"$nulls":4},{"$f":"IF(OR(C2376=\"\",$I2363=\"NSO\"),\"\",VLOOKUP($A2358,'Result Entry'!$B$9:$DX$108,44,0))","v":0},0,{"$f":"IF(OR(C2376=\"\",$I2363=\"NSO\"),\"\",VLOOKUP($A2358,'Result Entry'!$B$9:$DX$108,48,0))","v":0},0,null,{"$f":"IF(OR(C2376=\"\",$I2363=\"NSO\"),\"\",VLOOKUP($A2358,'Result Entry'!$B$9:$DX$108,51,0))","v":""}]
[null,"◐"]
[null,"◐","Overall Result",null,null,"Total Max. Marks",null,"Total Obtained Marks",null,"Percentage","Overall Grade","Result","Position in Class"]
[null,"◐",{"$nulls":3},{"$f":"IF(OR($I2363=\"\",$I2363=\"NSO\"),\"\",VLOOKUP($A2358,'Result Entry'!$B$9:$DX$108,101,0))","v":500},null,{"$f":"IF(OR($I2363=\"\",$I2363=\"NSO\"),\"\",VLOOKUP($A2358,'Result Entry'!$B$9:$DX$108,102,0))","v":0},null,{"$f":"IF(OR($I2363=\"\",$I2363=\"NSO\"),\"\",VLOOKUP($A2358,'Result Entry'!$B$9:$DX$108,103,0))","v":{"v":0,"d":"0.00"}},{"$f":"IF(OR($I2363=\"\",$I2363=\"NSO\"),\"\",VLOOKUP($A2358,'Result Entry'!$B$9:$DX$108,104,0))","v":""},{"$f":"IF(OR($I2363=\"\",$I2363=\"NSO\"),\"\",VLOOKUP($A2358,'Result Entry'!$B$9:$DX$108,105,0))","v":""},{"$f":"IF(OR($I2363=\"\",$I2363=\"NSO\"),\"\",VLOOKUP($A2358,'Result Entry'!$B$9:$DX$108,107,0))","v":""}]
[null,"◐",{"$nulls":6},"Total Meetings :-",null,{"$f":"IF(OR($I2363=\"\",$I2363=\"NSO\"),\"\",VLOOKUP($A2358,'Result Entry'!$B$9:$DX$108,98,0))","v":0},"Attedance %"]
[null,"◐","Extra Subjects",{"$nulls":5},"Student's Meetings :-",null,{"$f":"IF(OR($I2363=\"\",$I2363=\"NSO\"),\"\",VLOOKUP($A2358,'Result Entry'!$B$9:$DX$108,99,0))","v":0},{"$f":"IF(OR($I2363=\"\",$I2363=\"NSO\"),\"\",VLOOKUP($A2358,'Result Entry'!$B$9:$DX$108,100,0))","v":""}]
[null,"◐","Subject",null,null,"Total Marks",null,"GRADE","Remark :-",null,{"$f":"IF(OR($I2363=\"\",$I2363=\"NSO\"),\"\",VLOOKUP($A2358,'Result Entry'!$B$9:$DX$108,108,0))","v":0}]
[null,"◐",{"$nulls":6},"Result Date :-",null,{"$f":"'Result Entry'!$T$2","v":"2023-05-24"}]
[null,"◐",{"$f":"'Result Entry'!$BW$3","v":"WORK EXP."},null,null,{"$f":"IF(OR(C2384=\"\",$I2363=\"NSO\"),\"\",VLOOKUP($A2358,'Result Entry'!$B$9:$DX$108,119,0))","v":"0/50"},null,{"$f":"IF(OR(C2384=\"\",$I2363=\"NSO\"),\"\",VLOOKUP($A2358,'Result Entry'!$B$9:$DX$108,81,0))","v":""}]
[null,null,{"$f":"'Result Entry'!$CE$3","v":"ART EDU."},null,null,{"$f":"IF(OR(C2385=\"\",$I2363=\"NSO\"),\"\",VLOOKUP($A2358,'Result Entry'!$B$9:$DX$108,123,0))","v":"0/50"},null,{"$f":"IF(OR(C2385=\"\",$I2363=\"NSO\"),\"\",VLOOKUP($A2358,'Result Entry'!$B$9:$DX$108,89,0))","v":""}]
[null,"◐",{"$f":"'Result Entry'!$CM$3","v":"H&P. EDU."},null,null,{"$f":"IF(OR(C2386=\"\",$I2363=\"NSO\"),\"\",VLOOKUP($A2358,'Result Entry'!$B$9:$DX$108,127,0))","v":"0/100"},null,{"$f":"IF(OR(C2386=\"\",$I2363=\"NSO\"),\"\",VLOOKUP($A2358,'Result Entry'!$B$9:$DX$108,97,0))","v":""},"Signature Of The Class Teacher"]
[null,"◐","Grading System"]
[null,"◐","Grd.","% Range",null,"Description"]
[null,"◐","A","86-100",null,"Excellent",null,null,"Signature And Seal Of Principal/H.M."]
[null,"◐","B","71-85",null,"Very Good"]
[null,"◐","C","51-70",null,"Good"]
[null,"◐","D","31-50",null,"Average"]
[null,"◐","E","0-30",null,"Needs Improvement",null,null,"Wish bright future"]
[]
[]
[{"$f":"A2358+1","v":64},"Department Of Education, Rajasthan"]
[null,{"$f":"IF(I2401>0,CONCATENATE(C2401,I2401),0)","v":0},null,{"$f":"Master!$E$8","v":"Govt.Sr.Sec.Sch. "}]
[{"$nulls":3},{"$f":"Master!$E$11","v":"P.S.-Bapini (Jodhpur)"}]
[null,null,"Report Card",{"$nulls":6},"U-DISE Code:-",null,{"$f":"Master!$E$14","v":{"v":810000000,"d":"0810000000"}}]
[{"$nulls":9},"Session:-",null,{"$f":"Master!$E$6","v":"2022-23"}]
[null,null,"Roll No.:-",{"$nulls":5},{"$f":"VLOOKUP($A2396,'Result Entry'!$B$9:$F$108,5,0)","v":0}]
[null,"◐","Scholar Number",{"$nulls":3},"↠",{"$f":"VLOOKUP($A2396,'Result Entry'!$B$9:$DX$108,3,0)","v":0}]
[null,"◐","Student's Name",{"$nulls":3},"↠",{"$f":"VLOOKUP($A2396,'Result Entry'!$B$9:$DX$108,6,0)","v":0}]
[null,"◐","Father's Name",{"$nulls":3},"↠",{"$f":"VLOOKUP($A2396,'Result Entry'!$B$9:$DX$108,7,0)","v":0}]
[null,"◐","Mother's Name ",{"$nulls":3},"↠",{"$f":"VLOOKUP($A2396,'Result Entry'!$B$9:$DX$108,8,0)","v":0}]
[null,"◐","Class & Section",{"$nulls":3},"↠",{"$f":"CONCATENATE('Result Entry'!$F$4,'Result Entry'!$I$4)","v":"2(A)"}]
[null,"◐","Date Of Birth",{"$nulls":3},"↠",{"$f":"VLOOKUP($A2396,'Result Entry'!$B$9:$DX$108,9,0)","v":"00:00:00"}]
[null,"◐","Subject",{"$nulls":4},"Half Yearly","Total (T+H.Y.)","Yearly","Grand Total",null,"Subject Grade"]
[null,"◐","Max. Marks",{"$nulls":4},{"$f":"'Result Entry'!$Q$7","v":100},{"$f":"G2409+H2409","v":100},{"$f":"'Result Entry'!$U$7","v":100},{"$f":"I2409+J2409","v":200},null,"A/B/C/D/E"]
[null,"◐",{"$f":"'Result Entry'!$K$3","v":"Hindi"},{"$nulls":4},{"$f":"IF(OR(C2410=\"\",$I2401=\"NSO\"),\"\",VLOOKUP($A2396,'Result Entry'!$B$9:$DX$108,16,0))","v":0},{"$f":"SUM(G2410,H2410)","v":0},{"$f":"IF(OR(C2410=\"\",$I2401=\"NSO\"),\"\",VLOOKUP($A2396,'Result Entry'!$B$9:$DX$108,20,0))","v":0},{"$f":"SUM(I2410,J2410)","v":0},null,{"$f":"IF(OR(C2410=\"\",$I2401=\"NSO\"),\"\",VLOOKUP($A2396,'Result Entry'!$B$9:$DX$108,23,0))","v":""}]
[null,"◐",{"$f":"'Result Entry'!$Y$3","v":"Mathematics"},{"$nulls":4},{"$f":"IF(OR(C2411=\"\",$I2401=\"NSO\"),\"\",VLOOKUP($A2396,'Result Entry'!$B$9:$DX$108,30,0))","v":0},{"$f":"SUM(G2411,H2411)","v":0},{"$f":"IF(OR(C2411=\"\",$I2401=\"NSO\"),\"\",VLOOKUP($A2396,'Result Entry'!$B$9:$DX$108,34,0))","v":0},{"$f":"SUM(I2411,J2411)","v":0},null,{"$f":"IF(OR(C2411=\"\",$I2401=\"NSO\"),\"\",VLOOKUP($A2396,'Result Entry'!$B$9:$DX$108,37,0))","v":""}]
[null,"◐",{"$f":"'Result Entry'!$BO$3","v":"Env. Study"},{"$nulls":4},{"$f":"IF(OR(C2412=\"\",$I2401=\"NSO\"),\"\",VLOOKUP($A2396,'Result Entry'!$B$9:$DX$108,66,0))","v":0},0,{"$f":"IF(OR(C2412=\"\",$I2401=\"NSO\"),\"\",VLOOKUP($A2396,'Result Entry'!$B$9:$DX$108,67,0))","v":0},0,null,{"$f":"IF(OR(C2412=\"\",$I2401=\"NSO\"),\"\",VLOOKUP($A2396,'Result Entry'!$B$9:$DX$108,73,0))","v":""}]
[null,"◐","Max. Marks",{"$nulls":4},{"$f":"'Result Entry'!$AS$7","v":50},50,{"$f":"'Result Entry'!$AW$7","v":50},100,null,"A/B/C/D/E"]
[null,"◐",{"$f":"'Result Entry'!$AM$3","v":"English"},{"$nulls":4},{"$f":"IF(OR(C2414=\"\",$I2401=\"NSO\"),\"\",VLOOKUP($A2396,'Result Entry'!$B$9:$DX$108,44,0))","v":0},0,{"$f":"IF(OR(C2414=\"\",$I2401=\"NSO\"),\"\",VLOOKUP($A2396,'Result Entry'!$B$9:$DX$108,48,0))","v":0},0,null,{"$f":"IF(OR(C2414=\"\",$I2401=\"NSO\"),\"\",VLOOKUP($A2396,'Result Entry'!$B$9:$DX$108,51,0))","v":""}]
[null,"◐"]
[null,"◐","Overall Result",null,null,"Total Max. Marks",null,"Total Obtained Marks",null,"Percentage","Overall Grade","Result","Position in Class"]
[null,"◐",{"$nulls":3},{"$f":"IF(OR($I2401=\"\",$I2401=\"NSO\"),\"\",VLOOKUP($A2396,'Result Entry'!$B$9:$DX$108,101,0))","v":500},null,{"$f":"IF(OR($I2401=\"\",$I2401=\"NSO\"),\"\",VLOOKUP($A2396,'Result Entry'!$B$9:$DX$108,102,0))","v":0},null,{"$f":"IF(OR($I2401=\"\",$I2401=\"NSO\"),\"\",VLOOKUP($A2396,'Result Entry'!$B$9:$DX$108,103,0))","v":{"v":0,"d":"0.00"}},{"$f":"IF(OR($I2401=\"\",$I2401=\"NSO\"),\"\",VLOOKUP($A2396,'Result Entry'!$B$9:$DX$108,104,0))","v":""},{"$f":"IF(OR($I2401=\"\",$I2401=\"NSO\"),\"\",VLOOKUP($A2396,'Result Entry'!$B$9:$DX$108,105,0))","v":""},{"$f":"IF(OR($I2401=\"\",$I2401=\"NSO\"),\"\",VLOOKUP($A2396,'Result Entry'!$B$9:$DX$108,107,0))","v":""}]
[null,"◐",{"$nulls":6},"Total Meetings :-",null,{"$f":"IF(OR($I2401=\"\",$I2401=\"NSO\"),\"\",VLOOKUP($A2396,'Result Entry'!$B$9:$DX$108,98,0))","v":0},"Attedance %"]
[null,"◐","Extra Subjects",{"$nulls":5},"Student's Meetings :-",null,{"$f":"IF(OR($I2401=\"\",$I2401=\"NSO\"),\"\",VLOOKUP($A2396,'Result Entry'!$B$9:$DX$108,99,0))","v":0},{"$f":"IF(OR($I2401=\"\",$I2401=\"NSO\"),\"\",VLOOKUP($A2396,'Result Entry'!$B$9:$DX$108,100,0))","v":""}]
[null,"◐","Subject",null,null,"Total Marks",null,"GRADE","Remark :-",null,{"$f":"IF(OR($I2401=\"\",$I2401=\"NSO\"),\"\",VLOOKUP($A2396,'Result Entry'!$B$9:$DX$108,108,0))","v":0}]
[null,"◐",{"$nulls":6},"Result Date :-",null,{"$f":"'Result Entry'!$T$2","v":"2023-05-24"}]
[null,"◐",{"$f":"'Result Entry'!$BW$3","v":"WORK EXP."},null,null,{"$f":"IF(OR(C2422=\"\",$I2401=\"NSO\"),\"\",VLOOKUP($A2396,'Result Entry'!$B$9:$DX$108,119,0))","v":"0/50"},null,{"$f":"IF(OR(C2422=\"\",$I2401=\"NSO\"),\"\",VLOOKUP($A2396,'Result Entry'!$B$9:$DX$108,81,0))","v":""}]
[null,null,{"$f":"'Result Entry'!$CE$3","v":"ART EDU."},null,null,{"$f":"IF(OR(C2423=\"\",$I2401=\"NSO\"),\"\",VLOOKUP($A2396,'Result Entry'!$B$9:$DX$108,123,0))","v":"0/50"},null,{"$f":"IF(OR(C2423=\"\",$I2401=\"NSO\"),\"\",VLOOKUP($A2396,'Result Entry'!$B$9:$DX$108,89,0))","v":""}]
[null,"◐",{"$f":"'Result Entry'!$CM$3","v":"H&P. EDU."},null,null,{"$f":"IF(OR(C2424=\"\",$I2401=\"NSO\"),\"\",VLOOKUP($A2396,'Result Entry'!$B$9:$DX$108,127,0))","v":"0/100"},null,{"$f":"IF(OR(C2424=\"\",$I2401=\"NSO\"),\"\",VLOOKUP($A2396,'Result Entry'!$B$9:$DX$108,97,0))","v":""},"Signature Of The Class Teacher"]
[null,"◐","Grading System"]
[null,"◐","Grd.","% Range",null,"Description"]
[null,"◐","A","86-100",null,"Excellent",null,null,"Signature And Seal Of Principal/H.M."]
[null,"◐","B","71-85",null,"Very Good"]
[null,"◐","C","51-70",null,"Good"]
[null,"◐","D","31-50",null,"Average"]
[null,"◐","E","0-30",null,"Needs Improvement",null,null,"Wish bright future"]
[]
[]
[{"$f":"A2396+1","v":65},"Department Of Education, Rajasthan"]
[null,{"$f":"IF(I2439>0,CONCATENATE(C2439,I2439),0)","v":0},null,{"$f":"Master!$E$8","v":"Govt.Sr.Sec.Sch. "}]
[{"$nulls":3},{"$f":"Master!$E$11","v":"P.S.-Bapini (Jodhpur)"}]
[null,null,"Report Card",{"$nulls":6},"U-DISE Code:-",null,{"$f":"Master!$E$14","v":{"v":810000000,"d":"0810000000"}}]
[{"$nulls":9},"Session:-",null,{"$f":"Master!$E$6","v":"2022-23"}]
[null,null,"Roll No.:-",{"$nulls":5},{"$f":"VLOOKUP($A2434,'Result Entry'!$B$9:$F$108,5,0)","v":0}]
[null,"◐","Scholar Number",{"$nulls":3},"↠",{"$f":"VLOOKUP($A2434,'Result Entry'!$B$9:$DX$108,3,0)","v":0}]
[null,"◐","Student's Name",{"$nulls":3},"↠",{"$f":"VLOOKUP($A2434,'Result Entry'!$B$9:$DX$108,6,0)","v":0}]
[null,"◐","Father's Name",{"$nulls":3},"↠",{"$f":"VLOOKUP($A2434,'Result Entry'!$B$9:$DX$108,7,0)","v":0}]
[null,"◐","Mother's Name ",{"$nulls":3},"↠",{"$f":"VLOOKUP($A2434,'Result Entry'!$B$9:$DX$108,8,0)","v":0}]
[null,"◐","Class & Section",{"$nulls":3},"↠",{"$f":"CONCATENATE('Result Entry'!$F$4,'Result Entry'!$I$4)","v":"2(A)"}]
[null,"◐","Date Of Birth",{"$nulls":3},"↠",{"$f":"VLOOKUP($A2434,'Result Entry'!$B$9:$DX$108,9,0)","v":"00:00:00"}]
[null,"◐","Subject",{"$nulls":4},"Half Yearly","Total (T+H.Y.)","Yearly","Grand Total",null,"Subject Grade"]
[null,"◐","Max. Marks",{"$nulls":4},{"$f":"'Result Entry'!$Q$7","v":100},{"$f":"G2447+H2447","v":100},{"$f":"'Result Entry'!$U$7","v":100},{"$f":"I2447+J2447","v":200},null,"A/B/C/D/E"]
[null,"◐",{"$f":"'Result Entry'!$K$3","v":"Hindi"},{"$nulls":4},{"$f":"IF(OR(C2448=\"\",$I2439=\"NSO\"),\"\",VLOOKUP($A2434,'Result Entry'!$B$9:$DX$108,16,0))","v":0},{"$f":"SUM(G2448,H2448)","v":0},{"$f":"IF(OR(C2448=\"\",$I2439=\"NSO\"),\"\",VLOOKUP($A2434,'Result Entry'!$B$9:$DX$108,20,0))","v":0},{"$f":"SUM(I2448,J2448)","v":0},null,{"$f":"IF(OR(C2448=\"\",$I2439=\"NSO\"),\"\",VLOOKUP($A2434,'Result Entry'!$B$9:$DX$108,23,0))","v":""}]
[null,"◐",{"$f":"'Result Entry'!$Y$3","v":"Mathematics"},{"$nulls":4},{"$f":"IF(OR(C2449=\"\",$I2439=\"NSO\"),\"\",VLOOKUP($A2434,'Result Entry'!$B$9:$DX$108,30,0))","v":0},{"$f":"SUM(G2449,H2449)","v":0},{"$f":"IF(OR(C2449=\"\",$I2439=\"NSO\"),\"\",VLOOKUP($A2434,'Result Entry'!$B$9:$DX$108,34,0))","v":0},{"$f":"SUM(I2449,J2449)","v":0},null,{"$f":"IF(OR(C2449=\"\",$I2439=\"NSO\"),\"\",VLOOKUP($A2434,'Result Entry'!$B$9:$DX$108,37,0))","v":""}]
[null,"◐",{"$f":"'Result Entry'!$BO$3","v":"Env. Study"},{"$nulls":4},{"$f":"IF(OR(C2450=\"\",$I2439=\"NSO\"),\"\",VLOOKUP($A2434,'Result Entry'!$B$9:$DX$108,66,0))","v":0},0,{"$f":"IF(OR(C2450=\"\",$I2439=\"NSO\"),\"\",VLOOKUP($A2434,'Result Entry'!$B$9:$DX$108,67,0))","v":0},0,null,{"$f":"IF(OR(C2450=\"\",$I2439=\"NSO\"),\"\",VLOOKUP($A2434,'Result Entry'!$B$9:$DX$108,73,0))","v":""}]
[null,"◐","Max. Marks",{"$nulls":4},{"$f":"'Result Entry'!$AS$7","v":50},50,{"$f":"'Result Entry'!$AW$7","v":50},100,null,"A/B/C/D/E"]
[null,"◐",{"$f":"'Result Entry'!$AM$3","v":"English"},{"$nulls":4},{"$f":"IF(OR(C2452=\"\",$I2439=\"NSO\"),\"\",VLOOKUP($A2434,'Result Entry'!$B$9:$DX$108,44,0))","v":0},0,{"$f":"IF(OR(C2452=\"\",$I2439=\"NSO\"),\"\",VLOOKUP($A2434,'Result Entry'!$B$9:$DX$108,48,0))","v":0},0,null,{"$f":"IF(OR(C2452=\"\",$I2439=\"NSO\"),\"\",VLOOKUP($A2434,'Result Entry'!$B$9:$DX$108,51,0))","v":""}]
[null,"◐"]
[null,"◐","Overall Result",null,null,"Total Max. Marks",null,"Total Obtained Marks",null,"Percentage","Overall Grade","Result","Position in Class"]
[null,"◐",{"$nulls":3},{"$f":"IF(OR($I2439=\"\",$I2439=\"NSO\"),\"\",VLOOKUP($A2434,'Result Entry'!$B$9:$DX$108,101,0))","v":500},null,{"$f":"IF(OR($I2439=\"\",$I2439=\"NSO\"),\"\",VLOOKUP($A2434,'Result Entry'!$B$9:$DX$108,102,0))","v":0},null,{"$f":"IF(OR($I2439=\"\",$I2439=\"NSO\"),\"\",VLOOKUP($A2434,'Result Entry'!$B$9:$DX$108,103,0))","v":{"v":0,"d":"0.00"}},{"$f":"IF(OR($I2439=\"\",$I2439=\"NSO\"),\"\",VLOOKUP($A2434,'Result Entry'!$B$9:$DX$108,104,0))","v":""},{"$f":"IF(OR($I2439=\"\",$I2439=\"NSO\"),\"\",VLOOKUP($A2434,'Result Entry'!$B$9:$DX$108,105,0))","v":""},{"$f":"IF(OR($I2439=\"\",$I2439=\"NSO\"),\"\",VLOOKUP($A2434,'Result Entry'!$B$9:$DX$108,107,0))","v":""}]
[null,"◐",{"$nulls":6},"Total Meetings :-",null,{"$f":"IF(OR($I2439=\"\",$I2439=\"NSO\"),\"\",VLOOKUP($A2434,'Result Entry'!$B$9:$DX$108,98,0))","v":0},"Attedance %"]
[null,"◐","Extra Subjects",{"$nulls":5},"Student's Meetings :-",null,{"$f":"IF(OR($I2439=\"\",$I2439=\"NSO\"),\"\",VLOOKUP($A2434,'Result Entry'!$B$9:$DX$108,99,0))","v":0},{"$f":"IF(OR($I2439=\"\",$I2439=\"NSO\"),\"\",VLOOKUP($A2434,'Result Entry'!$B$9:$DX$108,100,0))","v":""}]
[null,"◐","Subject",null,null,"Total Marks",null,"GRADE","Remark :-",null,{"$f":"IF(OR($I2439=\"\",$I2439=\"NSO\"),\"\",VLOOKUP($A2434,'Result Entry'!$B$9:$DX$108,108,0))","v":0}]
[null,"◐",{"$nulls":6},"Result Date :-",null,{"$f":"'Result Entry'!$T$2","v":"2023-05-24"}]
[null,"◐",{"$f":"'Result Entry'!$BW$3","v":"WORK EXP."},null,null,{"$f":"IF(OR(C2460=\"\",$I2439=\"NSO\"),\"\",VLOOKUP($A2434,'Result Entry'!$B$9:$DX$108,119,0))","v":"0/50"},null,{"$f":"IF(OR(C2460=\"\",$I2439=\"NSO\"),\"\",VLOOKUP($A2434,'Result Entry'!$B$9:$DX$108,81,0))","v":""}]
[null,null,{"$f":"'Result Entry'!$CE$3","v":"ART EDU."},null,null,{"$f":"IF(OR(C2461=\"\",$I2439=\"NSO\"),\"\",VLOOKUP($A2434,'Result Entry'!$B$9:$DX$108,123,0))","v":"0/50"},null,{"$f":"IF(OR(C2461=\"\",$I2439=\"NSO\"),\"\",VLOOKUP($A2434,'Result Entry'!$B$9:$DX$108,89,0))","v":""}]
[null,"◐",{"$f":"'Result Entry'!$CM$3","v":"H&P. EDU."},null,null,{"$f":"IF(OR(C2462=\"\",$I2439=\"NSO\"),\"\",VLOOKUP($A2434,'Result Entry'!$B$9:$DX$108,127,0))","v":"0/100"},null,{"$f":"IF(OR(C2462=\"\",$I2439=\"NSO\"),\"\",VLOOKUP($A2434,'Result Entry'!$B$9:$DX$108,97,0))","v":""},"Signature Of The Class Teacher"]
[null,"◐","Grading System"]
[null,"◐","Grd.","% Range",null,"Description"]
[null,"◐","A","86-100",null,"Excellent",null,null,"Signature And Seal Of Principal/H.M."]
[null,"◐","B","71-85",null,"Very Good"]
[null,"◐","C","51-70",null,"Good"]
[null,"◐","D","31-50",null,"Average"]
[null,"◐","E","0-30",null,"Needs Improvement",null,null,"Wish bright future"]
[]
[]
[{"$f":"A2434+1","v":66},"Department Of Education, Rajasthan"]
[null,{"$f":"IF(I2477>0,CONCATENATE(C2477,I2477),0)","v":0},null,{"$f":"Master!$E$8","v":"Govt.Sr.Sec.Sch. "}]
[{"$nulls":3},{"$f":"Master!$E$11","v":"P.S.-Bapini (Jodhpur)"}]
[null,null,"Report Card",{"$nulls":6},"U-DISE Code:-",null,{"$f":"Master!$E$14","v":{"v":810000000,"d":"0810000000"}}]
[{"$nulls":9},"Session:-",null,{"$f":"Master!$E$6","v":"2022-23"}]
[null,null,"Roll No.:-",{"$nulls":5},{"$f":"VLOOKUP($A2472,'Result Entry'!$B$9:$F$108,5,0)","v":0}]
[null,"◐","Scholar Number",{"$nulls":3},"↠",{"$f":"VLOOKUP($A2472,'Result Entry'!$B$9:$DX$108,3,0)","v":0}]
[null,"◐","Student's Name",{"$nulls":3},"↠",{"$f":"VLOOKUP($A2472,'Result Entry'!$B$9:$DX$108,6,0)","v":0}]
[null,"◐","Father's Name",{"$nulls":3},"↠",{"$f":"VLOOKUP($A2472,'Result Entry'!$B$9:$DX$108,7,0)","v":0}]
[null,"◐","Mother's Name ",{"$nulls":3},"↠",{"$f":"VLOOKUP($A2472,'Result Entry'!$B$9:$DX$108,8,0)","v":0}]
[null,"◐","Class & Section",{"$nulls":3},"↠",{"$f":"CONCATENATE('Result Entry'!$F$4,'Result Entry'!$I$4)","v":"2(A)"}]
[null,"◐","Date Of Birth",{"$nulls":3},"↠",{"$f":"VLOOKUP($A2472,'Result Entry'!$B$9:$DX$108,9,0)","v":"00:00:00"}]
[null,"◐","Subject",{"$nulls":4},"Half Yearly","Total (T+H.Y.)","Yearly","Grand Total",null,"Subject Grade"]
[null,"◐","Max. Marks",{"$nulls":4},{"$f":"'Result Entry'!$Q$7","v":100},{"$f":"G2485+H2485","v":100},{"$f":"'Result Entry'!$U$7","v":100},{"$f":"I2485+J2485","v":200},null,"A/B/C/D/E"]
[null,"◐",{"$f":"'Result Entry'!$K$3","v":"Hindi"},{"$nulls":4},{"$f":"IF(OR(C2486=\"\",$I2477=\"NSO\"),\"\",VLOOKUP($A2472,'Result Entry'!$B$9:$DX$108,16,0))","v":0},{"$f":"SUM(G2486,H2486)","v":0},{"$f":"IF(OR(C2486=\"\",$I2477=\"NSO\"),\"\",VLOOKUP($A2472,'Result Entry'!$B$9:$DX$108,20,0))","v":0},{"$f":"SUM(I2486,J2486)","v":0},null,{"$f":"IF(OR(C2486=\"\",$I2477=\"NSO\"),\"\",VLOOKUP($A2472,'Result Entry'!$B$9:$DX$108,23,0))","v":""}]
[null,"◐",{"$f":"'Result Entry'!$Y$3","v":"Mathematics"},{"$nulls":4},{"$f":"IF(OR(C2487=\"\",$I2477=\"NSO\"),\"\",VLOOKUP($A2472,'Result Entry'!$B$9:$DX$108,30,0))","v":0},{"$f":"SUM(G2487,H2487)","v":0},{"$f":"IF(OR(C2487=\"\",$I2477=\"NSO\"),\"\",VLOOKUP($A2472,'Result Entry'!$B$9:$DX$108,34,0))","v":0},{"$f":"SUM(I2487,J2487)","v":0},null,{"$f":"IF(OR(C2487=\"\",$I2477=\"NSO\"),\"\",VLOOKUP($A2472,'Result Entry'!$B$9:$DX$108,37,0))","v":""}]
[null,"◐",{"$f":"'Result Entry'!$BO$3","v":"Env. Study"},{"$nulls":4},{"$f":"IF(OR(C2488=\"\",$I2477=\"NSO\"),\"\",VLOOKUP($A2472,'Result Entry'!$B$9:$DX$108,66,0))","v":0},0,{"$f":"IF(OR(C2488=\"\",$I2477=\"NSO\"),\"\",VLOOKUP($A2472,'Result Entry'!$B$9:$DX$108,67,0))","v":0},0,null,{"$f":"IF(OR(C2488=\"\",$I2477=\"NSO\"),\"\",VLOOKUP($A2472,'Result Entry'!$B$9:$DX$108,73,0))","v":""}]
[null,"◐","Max. Marks",{"$nulls":4},{"$f":"'Result Entry'!$AS$7","v":50},50,{"$f":"'Result Entry'!$AW$7","v":50},100,null,"A/B/C/D/E"]
[null,"◐",{"$f":"'Result Entry'!$AM$3","v":"English"},{"$nulls":4},{"$f":"IF(OR(C2490=\"\",$I2477=\"NSO\"),\"\",VLOOKUP($A2472,'Result Entry'!$B$9:$DX$108,44,0))","v":0},0,{"$f":"IF(OR(C2490=\"\",$I2477=\"NSO\"),\"\",VLOOKUP($A2472,'Result Entry'!$B$9:$DX$108,48,0))","v":0},0,null,{"$f":"IF(OR(C2490=\"\",$I2477=\"NSO\"),\"\",VLOOKUP($A2472,'Result Entry'!$B$9:$DX$108,51,0))","v":""}]
[null,"◐"]
[null,"◐","Overall Result",null,null,"Total Max. Marks",null,"Total Obtained Marks",null,"Percentage","Overall Grade","Result","Position in Class"]
[null,"◐",{"$nulls":3},{"$f":"IF(OR($I2477=\"\",$I2477=\"NSO\"),\"\",VLOOKUP($A2472,'Result Entry'!$B$9:$DX$108,101,0))","v":500},null,{"$f":"IF(OR($I2477=\"\",$I2477=\"NSO\"),\"\",VLOOKUP($A2472,'Result Entry'!$B$9:$DX$108,102,0))","v":0},null,{"$f":"IF(OR($I2477=\"\",$I2477=\"NSO\"),\"\",VLOOKUP($A2472,'Result Entry'!$B$9:$DX$108,103,0))","v":{"v":0,"d":"0.00"}},{"$f":"IF(OR($I2477=\"\",$I2477=\"NSO\"),\"\",VLOOKUP($A2472,'Result Entry'!$B$9:$DX$108,104,0))","v":""},{"$f":"IF(OR($I2477=\"\",$I2477=\"NSO\"),\"\",VLOOKUP($A2472,'Result Entry'!$B$9:$DX$108,105,0))","v":""},{"$f":"IF(OR($I2477=\"\",$I2477=\"NSO\"),\"\",VLOOKUP($A2472,'Result Entry'!$B$9:$DX$108,107,0))","v":""}]
[null,"◐",{"$nulls":6},"Total Meetings :-",null,{"$f":"IF(OR($I2477=\"\",$I2477=\"NSO\"),\"\",VLOOKUP($A2472,'Result Entry'!$B$9:$DX$108,98,0))","v":0},"Attedance %"]
[null,"◐","Extra Subjects",{"$nulls":5},"Student's Meetings :-",null,{"$f":"IF(OR($I2477=\"\",$I2477=\"NSO\"),\"\",VLOOKUP($A2472,'Result Entry'!$B$9:$DX$108,99,0))","v":0},{"$f":"IF(OR($I2477=\"\",$I2477=\"NSO\"),\"\",VLOOKUP($A2472,'Result Entry'!$B$9:$DX$108,100,0))","v":""}]
[null,"◐","Subject",null,null,"Total Marks",null,"GRADE","Remark :-",null,{"$f":"IF(OR($I2477=\"\",$I2477=\"NSO\"),\"\",VLOOKUP($A2472,'Result Entry'!$B$9:$DX$108,108,0))","v":0}]
[null,"◐",{"$nulls":6},"Result Date :-",null,{"$f":"'Result Entry'!$T$2","v":"2023-05-24"}]
[null,"◐",{"$f":"'Result Entry'!$BW$3","v":"WORK EXP."},null,null,{"$f":"IF(OR(C2498=\"\",$I2477=\"NSO\"),\"\",VLOOKUP($A2472,'Result Entry'!$B$9:$DX$108,119,0))","v":"0/50"},null,{"$f":"IF(OR(C2498=\"\",$I2477=\"NSO\"),\"\",VLOOKUP($A2472,'Result Entry'!$B$9:$DX$108,81,0))","v":""}]
[null,null,{"$f":"'Result Entry'!$CE$3","v":"ART EDU."},null,null,{"$f":"IF(OR(C2499=\"\",$I2477=\"NSO\"),\"\",VLOOKUP($A2472,'Result Entry'!$B$9:$DX$108,123,0))","v":"0/50"},null,{"$f":"IF(OR(C2499=\"\",$I2477=\"NSO\"),\"\",VLOOKUP($A2472,'Result Entry'!$B$9:$DX$108,89,0))","v":""}]
[null,"◐",{"$f":"'Result Entry'!$CM$3","v":"H&P. EDU."},null,null,{"$f":"IF(OR(C2500=\"\",$I2477=\"NSO\"),\"\",VLOOKUP($A2472,'Result Entry'!$B$9:$DX$108,127,0))","v":"0/100"},null,{"$f":"IF(OR(C2500=\"\",$I2477=\"NSO\"),\"\",VLOOKUP($A2472,'Result Entry'!$B$9:$DX$108,97,0))","v":""},"Signature Of The Class Teacher"]
[null,"◐","Grading System"]
[null,"◐","Grd.","% Range",null,"Description"]
[null,"◐","A","86-100",null,"Excellent",null,null,"Signature And Seal Of Principal/H.M."]
[null,"◐","B","71-85",null,"Very Good"]
[null,"◐","C","51-70",null,"Good"]
[null,"◐","D","31-50",null,"Average"]
[null,"◐","E","0-30",null,"Needs Improvement",null,null,"Wish bright future"]
[]
[]
[{"$f":"A2472+1","v":67},"Department Of Education, Rajasthan"]
[null,{"$f":"IF(I2515>0,CONCATENATE(C2515,I2515),0)","v":0},null,{"$f":"Master!$E$8","v":"Govt.Sr.Sec.Sch. "}]
[{"$nulls":3},{"$f":"Master!$E$11","v":"P.S.-Bapini (Jodhpur)"}]
[null,null,"Report Card",{"$nulls":6},"U-DISE Code:-",null,{"$f":"Master!$E$14","v":{"v":810000000,"d":"0810000000"}}]
[{"$nulls":9},"Session:-",null,{"$f":"Master!$E$6","v":"2022-23"}]
[null,null,"Roll No.:-",{"$nulls":5},{"$f":"VLOOKUP($A2510,'Result Entry'!$B$9:$F$108,5,0)","v":0}]
[null,"◐","Scholar Number",{"$nulls":3},"↠",{"$f":"VLOOKUP($A2510,'Result Entry'!$B$9:$DX$108,3,0)","v":0}]
[null,"◐","Student's Name",{"$nulls":3},"↠",{"$f":"VLOOKUP($A2510,'Result Entry'!$B$9:$DX$108,6,0)","v":0}]
[null,"◐","Father's Name",{"$nulls":3},"↠",{"$f":"VLOOKUP($A2510,'Result Entry'!$B$9:$DX$108,7,0)","v":0}]
[null,"◐","Mother's Name ",{"$nulls":3},"↠",{"$f":"VLOOKUP($A2510,'Result Entry'!$B$9:$DX$108,8,0)","v":0}]
[null,"◐","Class & Section",{"$nulls":3},"↠",{"$f":"CONCATENATE('Result Entry'!$F$4,'Result Entry'!$I$4)","v":"2(A)"}]
[null,"◐","Date Of Birth",{"$nulls":3},"↠",{"$f":"VLOOKUP($A2510,'Result Entry'!$B$9:$DX$108,9,0)","v":"00:00:00"}]
[null,"◐","Subject",{"$nulls":4},"Half Yearly","Total (T+H.Y.)","Yearly","Grand Total",null,"Subject Grade"]
[null,"◐","Max. Marks",{"$nulls":4},{"$f":"'Result Entry'!$Q$7","v":100},{"$f":"G2523+H2523","v":100},{"$f":"'Result Entry'!$U$7","v":100},{"$f":"I2523+J2523","v":200},null,"A/B/C/D/E"]
[null,"◐",{"$f":"'Result Entry'!$K$3","v":"Hindi"},{"$nulls":4},{"$f":"IF(OR(C2524=\"\",$I2515=\"NSO\"),\"\",VLOOKUP($A2510,'Result Entry'!$B$9:$DX$108,16,0))","v":0},{"$f":"SUM(G2524,H2524)","v":0},{"$f":"IF(OR(C2524=\"\",$I2515=\"NSO\"),\"\",VLOOKUP($A2510,'Result Entry'!$B$9:$DX$108,20,0))","v":0},{"$f":"SUM(I2524,J2524)","v":0},null,{"$f":"IF(OR(C2524=\"\",$I2515=\"NSO\"),\"\",VLOOKUP($A2510,'Result Entry'!$B$9:$DX$108,23,0))","v":""}]
[null,"◐",{"$f":"'Result Entry'!$Y$3","v":"Mathematics"},{"$nulls":4},{"$f":"IF(OR(C2525=\"\",$I2515=\"NSO\"),\"\",VLOOKUP($A2510,'Result Entry'!$B$9:$DX$108,30,0))","v":0},{"$f":"SUM(G2525,H2525)","v":0},{"$f":"IF(OR(C2525=\"\",$I2515=\"NSO\"),\"\",VLOOKUP($A2510,'Result Entry'!$B$9:$DX$108,34,0))","v":0},{"$f":"SUM(I2525,J2525)","v":0},null,{"$f":"IF(OR(C2525=\"\",$I2515=\"NSO\"),\"\",VLOOKUP($A2510,'Result Entry'!$B$9:$DX$108,37,0))","v":""}]
[null,"◐",{"$f":"'Result Entry'!$BO$3","v":"Env. Study"},{"$nulls":4},{"$f":"IF(OR(C2526=\"\",$I2515=\"NSO\"),\"\",VLOOKUP($A2510,'Result Entry'!$B$9:$DX$108,66,0))","v":0},0,{"$f":"IF(OR(C2526=\"\",$I2515=\"NSO\"),\"\",VLOOKUP($A2510,'Result Entry'!$B$9:$DX$108,67,0))","v":0},0,null,{"$f":"IF(OR(C2526=\"\",$I2515=\"NSO\"),\"\",VLOOKUP($A2510,'Result Entry'!$B$9:$DX$108,73,0))","v":""}]
[null,"◐","Max. Marks",{"$nulls":4},{"$f":"'Result Entry'!$AS$7","v":50},50,{"$f":"'Result Entry'!$AW$7","v":50},100,null,"A/B/C/D/E"]
[null,"◐",{"$f":"'Result Entry'!$AM$3","v":"English"},{"$nulls":4},{"$f":"IF(OR(C2528=\"\",$I2515=\"NSO\"),\"\",VLOOKUP($A2510,'Result Entry'!$B$9:$DX$108,44,0))","v":0},0,{"$f":"IF(OR(C2528=\"\",$I2515=\"NSO\"),\"\",VLOOKUP($A2510,'Result Entry'!$B$9:$DX$108,48,0))","v":0},0,null,{"$f":"IF(OR(C2528=\"\",$I2515=\"NSO\"),\"\",VLOOKUP($A2510,'Result Entry'!$B$9:$DX$108,51,0))","v":""}]
[null,"◐"]
[null,"◐","Overall Result",null,null,"Total Max. Marks",null,"Total Obtained Marks",null,"Percentage","Overall Grade","Result","Position in Class"]
[null,"◐",{"$nulls":3},{"$f":"IF(OR($I2515=\"\",$I2515=\"NSO\"),\"\",VLOOKUP($A2510,'Result Entry'!$B$9:$DX$108,101,0))","v":500},null,{"$f":"IF(OR($I2515=\"\",$I2515=\"NSO\"),\"\",VLOOKUP($A2510,'Result Entry'!$B$9:$DX$108,102,0))","v":0},null,{"$f":"IF(OR($I2515=\"\",$I2515=\"NSO\"),\"\",VLOOKUP($A2510,'Result Entry'!$B$9:$DX$108,103,0))","v":{"v":0,"d":"0.00"}},{"$f":"IF(OR($I2515=\"\",$I2515=\"NSO\"),\"\",VLOOKUP($A2510,'Result Entry'!$B$9:$DX$108,104,0))","v":""},{"$f":"IF(OR($I2515=\"\",$I2515=\"NSO\"),\"\",VLOOKUP($A2510,'Result Entry'!$B$9:$DX$108,105,0))","v":""},{"$f":"IF(OR($I2515=\"\",$I2515=\"NSO\"),\"\",VLOOKUP($A2510,'Result Entry'!$B$9:$DX$108,107,0))","v":""}]
[null,"◐",{"$nulls":6},"Total Meetings :-",null,{"$f":"IF(OR($I2515=\"\",$I2515=\"NSO\"),\"\",VLOOKUP($A2510,'Result Entry'!$B$9:$DX$108,98,0))","v":0},"Attedance %"]
[null,"◐","Extra Subjects",{"$nulls":5},"Student's Meetings :-",null,{"$f":"IF(OR($I2515=\"\",$I2515=\"NSO\"),\"\",VLOOKUP($A2510,'Result Entry'!$B$9:$DX$108,99,0))","v":0},{"$f":"IF(OR($I2515=\"\",$I2515=\"NSO\"),\"\",VLOOKUP($A2510,'Result Entry'!$B$9:$DX$108,100,0))","v":""}]
[null,"◐","Subject",null,null,"Total Marks",null,"GRADE","Remark :-",null,{"$f":"IF(OR($I2515=\"\",$I2515=\"NSO\"),\"\",VLOOKUP($A2510,'Result Entry'!$B$9:$DX$108,108,0))","v":0}]
[null,"◐",{"$nulls":6},"Result Date :-",null,{"$f":"'Result Entry'!$T$2","v":"2023-05-24"}]
[null,"◐",{"$f":"'Result Entry'!$BW$3","v":"WORK EXP."},null,null,{"$f":"IF(OR(C2536=\"\",$I2515=\"NSO\"),\"\",VLOOKUP($A2510,'Result Entry'!$B$9:$DX$108,119,0))","v":"0/50"},null,{"$f":"IF(OR(C2536=\"\",$I2515=\"NSO\"),\"\",VLOOKUP($A2510,'Result Entry'!$B$9:$DX$108,81,0))","v":""}]
[null,null,{"$f":"'Result Entry'!$CE$3","v":"ART EDU."},null,null,{"$f":"IF(OR(C2537=\"\",$I2515=\"NSO\"),\"\",VLOOKUP($A2510,'Result Entry'!$B$9:$DX$108,123,0))","v":"0/50"},null,{"$f":"IF(OR(C2537=\"\",$I2515=\"NSO\"),\"\",VLOOKUP($A2510,'Result Entry'!$B$9:$DX$108,89,0))","v":""}]
[null,"◐",{"$f":"'Result Entry'!$CM$3","v":"H&P. EDU."},null,null,{"$f":"IF(OR(C2538=\"\",$I2515=\"NSO\"),\"\",VLOOKUP($A2510,'Result Entry'!$B$9:$DX$108,127,0))","v":"0/100"},null,{"$f":"IF(OR(C2538=\"\",$I2515=\"NSO\"),\"\",VLOOKUP($A2510,'Result Entry'!$B$9:$DX$108,97,0))","v":""},"Signature Of The Class Teacher"]
[null,"◐","Grading System"]
[null,"◐","Grd.","% Range",null,"Description"]
[null,"◐","A","86-100",null,"Excellent",null,null,"Signature And Seal Of Principal/H.M."]
[null,"◐","B","71-85",null,"Very Good"]
[null,"◐","C","51-70",null,"Good"]
[null,"◐","D","31-50",null,"Average"]
[null,"◐","E","0-30",null,"Needs Improvement",null,null,"Wish bright future"]
[]
[]
[{"$f":"A2510+1","v":68},"Department Of Education, Rajasthan"]
[null,{"$f":"IF(I2553>0,CONCATENATE(C2553,I2553),0)","v":0},null,{"$f":"Master!$E$8","v":"Govt.Sr.Sec.Sch. "}]
[{"$nulls":3},{"$f":"Master!$E$11","v":"P.S.-Bapini (Jodhpur)"}]
[null,null,"Report Card",{"$nulls":6},"U-DISE Code:-",null,{"$f":"Master!$E$14","v":{"v":810000000,"d":"0810000000"}}]
[{"$nulls":9},"Session:-",null,{"$f":"Master!$E$6","v":"2022-23"}]
[null,null,"Roll No.:-",{"$nulls":5},{"$f":"VLOOKUP($A2548,'Result Entry'!$B$9:$F$108,5,0)","v":0}]
[null,"◐","Scholar Number",{"$nulls":3},"↠",{"$f":"VLOOKUP($A2548,'Result Entry'!$B$9:$DX$108,3,0)","v":0}]
[null,"◐","Student's Name",{"$nulls":3},"↠",{"$f":"VLOOKUP($A2548,'Result Entry'!$B$9:$DX$108,6,0)","v":0}]
[null,"◐","Father's Name",{"$nulls":3},"↠",{"$f":"VLOOKUP($A2548,'Result Entry'!$B$9:$DX$108,7,0)","v":0}]
[null,"◐","Mother's Name ",{"$nulls":3},"↠",{"$f":"VLOOKUP($A2548,'Result Entry'!$B$9:$DX$108,8,0)","v":0}]
[null,"◐","Class & Section",{"$nulls":3},"↠",{"$f":"CONCATENATE('Result Entry'!$F$4,'Result Entry'!$I$4)","v":"2(A)"}]
[null,"◐","Date Of Birth",{"$nulls":3},"↠",{"$f":"VLOOKUP($A2548,'Result Entry'!$B$9:$DX$108,9,0)","v":"00:00:00"}]
[null,"◐","Subject",{"$nulls":4},"Half Yearly","Total (T+H.Y.)","Yearly","Grand Total",null,"Subject Grade"]
[null,"◐","Max. Marks",{"$nulls":4},{"$f":"'Result Entry'!$Q$7","v":100},{"$f":"G2561+H2561","v":100},{"$f":"'Result Entry'!$U$7","v":100},{"$f":"I2561+J2561","v":200},null,"A/B/C/D/E"]
[null,"◐",{"$f":"'Result Entry'!$K$3","v":"Hindi"},{"$nulls":4},{"$f":"IF(OR(C2562=\"\",$I2553=\"NSO\"),\"\",VLOOKUP($A2548,'Result Entry'!$B$9:$DX$108,16,0))","v":0},{"$f":"SUM(G2562,H2562)","v":0},{"$f":"IF(OR(C2562=\"\",$I2553=\"NSO\"),\"\",VLOOKUP($A2548,'Result Entry'!$B$9:$DX$108,20,0))","v":0},{"$f":"SUM(I2562,J2562)","v":0},null,{"$f":"IF(OR(C2562=\"\",$I2553=\"NSO\"),\"\",VLOOKUP($A2548,'Result Entry'!$B$9:$DX$108,23,0))","v":""}]
[null,"◐",{"$f":"'Result Entry'!$Y$3","v":"Mathematics"},{"$nulls":4},{"$f":"IF(OR(C2563=\"\",$I2553=\"NSO\"),\"\",VLOOKUP($A2548,'Result Entry'!$B$9:$DX$108,30,0))","v":0},{"$f":"SUM(G2563,H2563)","v":0},{"$f":"IF(OR(C2563=\"\",$I2553=\"NSO\"),\"\",VLOOKUP($A2548,'Result Entry'!$B$9:$DX$108,34,0))","v":0},{"$f":"SUM(I2563,J2563)","v":0},null,{"$f":"IF(OR(C2563=\"\",$I2553=\"NSO\"),\"\",VLOOKUP($A2548,'Result Entry'!$B$9:$DX$108,37,0))","v":""}]
[null,"◐",{"$f":"'Result Entry'!$BO$3","v":"Env. Study"},{"$nulls":4},{"$f":"IF(OR(C2564=\"\",$I2553=\"NSO\"),\"\",VLOOKUP($A2548,'Result Entry'!$B$9:$DX$108,66,0))","v":0},0,{"$f":"IF(OR(C2564=\"\",$I2553=\"NSO\"),\"\",VLOOKUP($A2548,'Result Entry'!$B$9:$DX$108,67,0))","v":0},0,null,{"$f":"IF(OR(C2564=\"\",$I2553=\"NSO\"),\"\",VLOOKUP($A2548,'Result Entry'!$B$9:$DX$108,73,0))","v":""}]
[null,"◐","Max. Marks",{"$nulls":4},{"$f":"'Result Entry'!$AS$7","v":50},50,{"$f":"'Result Entry'!$AW$7","v":50},100,null,"A/B/C/D/E"]
[null,"◐",{"$f":"'Result Entry'!$AM$3","v":"English"},{"$nulls":4},{"$f":"IF(OR(C2566=\"\",$I2553=\"NSO\"),\"\",VLOOKUP($A2548,'Result Entry'!$B$9:$DX$108,44,0))","v":0},0,{"$f":"IF(OR(C2566=\"\",$I2553=\"NSO\"),\"\",VLOOKUP($A2548,'Result Entry'!$B$9:$DX$108,48,0))","v":0},0,null,{"$f":"IF(OR(C2566=\"\",$I2553=\"NSO\"),\"\",VLOOKUP($A2548,'Result Entry'!$B$9:$DX$108,51,0))","v":""}]
[null,"◐"]
[null,"◐","Overall Result",null,null,"Total Max. Marks",null,"Total Obtained Marks",null,"Percentage","Overall Grade","Result","Position in Class"]
[null,"◐",{"$nulls":3},{"$f":"IF(OR($I2553=\"\",$I2553=\"NSO\"),\"\",VLOOKUP($A2548,'Result Entry'!$B$9:$DX$108,101,0))","v":500},null,{"$f":"IF(OR($I2553=\"\",$I2553=\"NSO\"),\"\",VLOOKUP($A2548,'Result Entry'!$B$9:$DX$108,102,0))","v":0},null,{"$f":"IF(OR($I2553=\"\",$I2553=\"NSO\"),\"\",VLOOKUP($A2548,'Result Entry'!$B$9:$DX$108,103,0))","v":{"v":0,"d":"0.00"}},{"$f":"IF(OR($I2553=\"\",$I2553=\"NSO\"),\"\",VLOOKUP($A2548,'Result Entry'!$B$9:$DX$108,104,0))","v":""},{"$f":"IF(OR($I2553=\"\",$I2553=\"NSO\"),\"\",VLOOKUP($A2548,'Result Entry'!$B$9:$DX$108,105,0))","v":""},{"$f":"IF(OR($I2553=\"\",$I2553=\"NSO\"),\"\",VLOOKUP($A2548,'Result Entry'!$B$9:$DX$108,107,0))","v":""}]
[null,"◐",{"$nulls":6},"Total Meetings :-",null,{"$f":"IF(OR($I2553=\"\",$I2553=\"NSO\"),\"\",VLOOKUP($A2548,'Result Entry'!$B$9:$DX$108,98,0))","v":0},"Attedance %"]
[null,"◐","Extra Subjects",{"$nulls":5},"Student's Meetings :-",null,{"$f":"IF(OR($I2553=\"\",$I2553=\"NSO\"),\"\",VLOOKUP($A2548,'Result Entry'!$B$9:$DX$108,99,0))","v":0},{"$f":"IF(OR($I2553=\"\",$I2553=\"NSO\"),\"\",VLOOKUP($A2548,'Result Entry'!$B$9:$DX$108,100,0))","v":""}]
[null,"◐","Subject",null,null,"Total Marks",null,"GRADE","Remark :-",null,{"$f":"IF(OR($I2553=\"\",$I2553=\"NSO\"),\"\",VLOOKUP($A2548,'Result Entry'!$B$9:$DX$108,108,0))","v":0}]
[null,"◐",{"$nulls":6},"Result Date :-",null,{"$f":"'Result Entry'!$T$2","v":"2023-05-24"}]
[null,"◐",{"$f":"'Result Entry'!$BW$3","v":"WORK EXP."},null,null,{"$f":"IF(OR(C2574=\"\",$I2553=\"NSO\"),\"\",VLOOKUP($A2548,'Result Entry'!$B$9:$DX$108,119,0))","v":"0/50"},null,{"$f":"IF(OR(C2574=\"\",$I2553=\"NSO\"),\"\",VLOOKUP($A2548,'Result Entry'!$B$9:$DX$108,81,0))","v":""}]
[null,null,{"$f":"'Result Entry'!$CE$3","v":"ART EDU."},null,null,{"$f":"IF(OR(C2575=\"\",$I2553=\"NSO\"),\"\",VLOOKUP($A2548,'Result Entry'!$B$9:$DX$108,123,0))","v":"0/50"},null,{"$f":"IF(OR(C2575=\"\",$I2553=\"NSO\"),\"\",VLOOKUP($A2548,'Result Entry'!$B$9:$DX$108,89,0))","v":""}]
[null,"◐",{"$f":"'Result Entry'!$CM$3","v":"H&P. EDU."},null,null,{"$f":"IF(OR(C2576=\"\",$I2553=\"NSO\"),\"\",VLOOKUP($A2548,'Result Entry'!$B$9:$DX$108,127,0))","v":"0/100"},null,{"$f":"IF(OR(C2576=\"\",$I2553=\"NSO\"),\"\",VLOOKUP($A2548,'Result Entry'!$B$9:$DX$108,97,0))","v":""},"Signature Of The Class Teacher"]
[null,"◐","Grading System"]
[null,"◐","Grd.","% Range",null,"Description"]
[null,"◐","A","86-100",null,"Excellent",null,null,"Signature And Seal Of Principal/H.M."]
[null,"◐","B","71-85",null,"Very Good"]
[null,"◐","C","51-70",null,"Good"]
[null,"◐","D","31-50",null,"Average"]
[null,"◐","E","0-30",null,"Needs Improvement",null,null,"Wish bright future"]
[]
[]
[{"$f":"A2548+1","v":69},"Department Of Education, Rajasthan"]
[null,{"$f":"IF(I2591>0,CONCATENATE(C2591,I2591),0)","v":0},null,{"$f":"Master!$E$8","v":"Govt.Sr.Sec.Sch. "}]
[{"$nulls":3},{"$f":"Master!$E$11","v":"P.S.-Bapini (Jodhpur)"}]
[null,null,"Report Card",{"$nulls":6},"U-DISE Code:-",null,{"$f":"Master!$E$14","v":{"v":810000000,"d":"0810000000"}}]
[{"$nulls":9},"Session:-",null,{"$f":"Master!$E$6","v":"2022-23"}]
[null,null,"Roll No.:-",{"$nulls":5},{"$f":"VLOOKUP($A2586,'Result Entry'!$B$9:$F$108,5,0)","v":0}]
[null,"◐","Scholar Number",{"$nulls":3},"↠",{"$f":"VLOOKUP($A2586,'Result Entry'!$B$9:$DX$108,3,0)","v":0}]
[null,"◐","Student's Name",{"$nulls":3},"↠",{"$f":"VLOOKUP($A2586,'Result Entry'!$B$9:$DX$108,6,0)","v":0}]
[null,"◐","Father's Name",{"$nulls":3},"↠",{"$f":"VLOOKUP($A2586,'Result Entry'!$B$9:$DX$108,7,0)","v":0}]
[null,"◐","Mother's Name ",{"$nulls":3},"↠",{"$f":"VLOOKUP($A2586,'Result Entry'!$B$9:$DX$108,8,0)","v":0}]
[null,"◐","Class & Section",{"$nulls":3},"↠",{"$f":"CONCATENATE('Result Entry'!$F$4,'Result Entry'!$I$4)","v":"2(A)"}]
[null,"◐","Date Of Birth",{"$nulls":3},"↠",{"$f":"VLOOKUP($A2586,'Result Entry'!$B$9:$DX$108,9,0)","v":"00:00:00"}]
[null,"◐","Subject",{"$nulls":4},"Half Yearly","Total (T+H.Y.)","Yearly","Grand Total",null,"Subject Grade"]
[null,"◐","Max. Marks",{"$nulls":4},{"$f":"'Result Entry'!$Q$7","v":100},{"$f":"G2599+H2599","v":100},{"$f":"'Result Entry'!$U$7","v":100},{"$f":"I2599+J2599","v":200},null,"A/B/C/D/E"]
[null,"◐",{"$f":"'Result Entry'!$K$3","v":"Hindi"},{"$nulls":4},{"$f":"IF(OR(C2600=\"\",$I2591=\"NSO\"),\"\",VLOOKUP($A2586,'Result Entry'!$B$9:$DX$108,16,0))","v":0},{"$f":"SUM(G2600,H2600)","v":0},{"$f":"IF(OR(C2600=\"\",$I2591=\"NSO\"),\"\",VLOOKUP($A2586,'Result Entry'!$B$9:$DX$108,20,0))","v":0},{"$f":"SUM(I2600,J2600)","v":0},null,{"$f":"IF(OR(C2600=\"\",$I2591=\"NSO\"),\"\",VLOOKUP($A2586,'Result Entry'!$B$9:$DX$108,23,0))","v":""}]
[null,"◐",{"$f":"'Result Entry'!$Y$3","v":"Mathematics"},{"$nulls":4},{"$f":"IF(OR(C2601=\"\",$I2591=\"NSO\"),\"\",VLOOKUP($A2586,'Result Entry'!$B$9:$DX$108,30,0))","v":0},{"$f":"SUM(G2601,H2601)","v":0},{"$f":"IF(OR(C2601=\"\",$I2591=\"NSO\"),\"\",VLOOKUP($A2586,'Result Entry'!$B$9:$DX$108,34,0))","v":0},{"$f":"SUM(I2601,J2601)","v":0},null,{"$f":"IF(OR(C2601=\"\",$I2591=\"NSO\"),\"\",VLOOKUP($A2586,'Result Entry'!$B$9:$DX$108,37,0))","v":""}]
[null,"◐",{"$f":"'Result Entry'!$BO$3","v":"Env. Study"},{"$nulls":4},{"$f":"IF(OR(C2602=\"\",$I2591=\"NSO\"),\"\",VLOOKUP($A2586,'Result Entry'!$B$9:$DX$108,66,0))","v":0},0,{"$f":"IF(OR(C2602=\"\",$I2591=\"NSO\"),\"\",VLOOKUP($A2586,'Result Entry'!$B$9:$DX$108,67,0))","v":0},0,null,{"$f":"IF(OR(C2602=\"\",$I2591=\"NSO\"),\"\",VLOOKUP($A2586,'Result Entry'!$B$9:$DX$108,73,0))","v":""}]
[null,"◐","Max. Marks",{"$nulls":4},{"$f":"'Result Entry'!$AS$7","v":50},50,{"$f":"'Result Entry'!$AW$7","v":50},100,null,"A/B/C/D/E"]
[null,"◐",{"$f":"'Result Entry'!$AM$3","v":"English"},{"$nulls":4},{"$f":"IF(OR(C2604=\"\",$I2591=\"NSO\"),\"\",VLOOKUP($A2586,'Result Entry'!$B$9:$DX$108,44,0))","v":0},0,{"$f":"IF(OR(C2604=\"\",$I2591=\"NSO\"),\"\",VLOOKUP($A2586,'Result Entry'!$B$9:$DX$108,48,0))","v":0},0,null,{"$f":"IF(OR(C2604=\"\",$I2591=\"NSO\"),\"\",VLOOKUP($A2586,'Result Entry'!$B$9:$DX$108,51,0))","v":""}]
[null,"◐"]
[null,"◐","Overall Result",null,null,"Total Max. Marks",null,"Total Obtained Marks",null,"Percentage","Overall Grade","Result","Position in Class"]
[null,"◐",{"$nulls":3},{"$f":"IF(OR($I2591=\"\",$I2591=\"NSO\"),\"\",VLOOKUP($A2586,'Result Entry'!$B$9:$DX$108,101,0))","v":500},null,{"$f":"IF(OR($I2591=\"\",$I2591=\"NSO\"),\"\",VLOOKUP($A2586,'Result Entry'!$B$9:$DX$108,102,0))","v":0},null,{"$f":"IF(OR($I2591=\"\",$I2591=\"NSO\"),\"\",VLOOKUP($A2586,'Result Entry'!$B$9:$DX$108,103,0))","v":{"v":0,"d":"0.00"}},{"$f":"IF(OR($I2591=\"\",$I2591=\"NSO\"),\"\",VLOOKUP($A2586,'Result Entry'!$B$9:$DX$108,104,0))","v":""},{"$f":"IF(OR($I2591=\"\",$I2591=\"NSO\"),\"\",VLOOKUP($A2586,'Result Entry'!$B$9:$DX$108,105,0))","v":""},{"$f":"IF(OR($I2591=\"\",$I2591=\"NSO\"),\"\",VLOOKUP($A2586,'Result Entry'!$B$9:$DX$108,107,0))","v":""}]
[null,"◐",{"$nulls":6},"Total Meetings :-",null,{"$f":"IF(OR($I2591=\"\",$I2591=\"NSO\"),\"\",VLOOKUP($A2586,'Result Entry'!$B$9:$DX$108,98,0))","v":0},"Attedance %"]
[null,"◐","Extra Subjects",{"$nulls":5},"Student's Meetings :-",null,{"$f":"IF(OR($I2591=\"\",$I2591=\"NSO\"),\"\",VLOOKUP($A2586,'Result Entry'!$B$9:$DX$108,99,0))","v":0},{"$f":"IF(OR($I2591=\"\",$I2591=\"NSO\"),\"\",VLOOKUP($A2586,'Result Entry'!$B$9:$DX$108,100,0))","v":""}]
[null,"◐","Subject",null,null,"Total Marks",null,"GRADE","Remark :-",null,{"$f":"IF(OR($I2591=\"\",$I2591=\"NSO\"),\"\",VLOOKUP($A2586,'Result Entry'!$B$9:$DX$108,108,0))","v":0}]
[null,"◐",{"$nulls":6},"Result Date :-",null,{"$f":"'Result Entry'!$T$2","v":"2023-05-24"}]
[null,"◐",{"$f":"'Result Entry'!$BW$3","v":"WORK EXP."},null,null,{"$f":"IF(OR(C2612=\"\",$I2591=\"NSO\"),\"\",VLOOKUP($A2586,'Result Entry'!$B$9:$DX$108,119,0))","v":"0/50"},null,{"$f":"IF(OR(C2612=\"\",$I2591=\"NSO\"),\"\",VLOOKUP($A2586,'Result Entry'!$B$9:$DX$108,81,0))","v":""}]
[null,null,{"$f":"'Result Entry'!$CE$3","v":"ART EDU."},null,null,{"$f":"IF(OR(C2613=\"\",$I2591=\"NSO\"),\"\",VLOOKUP($A2586,'Result Entry'!$B$9:$DX$108,123,0))","v":"0/50"},null,{"$f":"IF(OR(C2613=\"\",$I2591=\"NSO\"),\"\",VLOOKUP($A2586,'Result Entry'!$B$9:$DX$108,89,0))","v":""}]
[null,"◐",{"$f":"'Result Entry'!$CM$3","v":"H&P. EDU."},null,null,{"$f":"IF(OR(C2614=\"\",$I2591=\"NSO\"),\"\",VLOOKUP($A2586,'Result Entry'!$B$9:$DX$108,127,0))","v":"0/100"},null,{"$f":"IF(OR(C2614=\"\",$I2591=\"NSO\"),\"\",VLOOKUP($A2586,'Result Entry'!$B$9:$DX$108,97,0))","v":""},"Signature Of The Class Teacher"]
[null,"◐","Grading System"]
[null,"◐","Grd.","% Range",null,"Description"]
[null,"◐","A","86-100",null,"Excellent",null,null,"Signature And Seal Of Principal/H.M."]
[null,"◐","B","71-85",null,"Very Good"]
[null,"◐","C","51-70",null,"Good"]
[null,"◐","D","31-50",null,"Average"]
[null,"◐","E","0-30",null,"Needs Improvement",null,null,"Wish bright future"]
[]
[]
[{"$f":"A2586+1","v":70},"Department Of Education, Rajasthan"]
[null,{"$f":"IF(I2629>0,CONCATENATE(C2629,I2629),0)","v":0},null,{"$f":"Master!$E$8","v":"Govt.Sr.Sec.Sch. "}]
[{"$nulls":3},{"$f":"Master!$E$11","v":"P.S.-Bapini (Jodhpur)"}]
[null,null,"Report Card",{"$nulls":6},"U-DISE Code:-",null,{"$f":"Master!$E$14","v":{"v":810000000,"d":"0810000000"}}]
[{"$nulls":9},"Session:-",null,{"$f":"Master!$E$6","v":"2022-23"}]
[null,null,"Roll No.:-",{"$nulls":5},{"$f":"VLOOKUP($A2624,'Result Entry'!$B$9:$F$108,5,0)","v":0}]
[null,"◐","Scholar Number",{"$nulls":3},"↠",{"$f":"VLOOKUP($A2624,'Result Entry'!$B$9:$DX$108,3,0)","v":0}]
[null,"◐","Student's Name",{"$nulls":3},"↠",{"$f":"VLOOKUP($A2624,'Result Entry'!$B$9:$DX$108,6,0)","v":0}]
[null,"◐","Father's Name",{"$nulls":3},"↠",{"$f":"VLOOKUP($A2624,'Result Entry'!$B$9:$DX$108,7,0)","v":0}]
[null,"◐","Mother's Name ",{"$nulls":3},"↠",{"$f":"VLOOKUP($A2624,'Result Entry'!$B$9:$DX$108,8,0)","v":0}]
[null,"◐","Class & Section",{"$nulls":3},"↠",{"$f":"CONCATENATE('Result Entry'!$F$4,'Result Entry'!$I$4)","v":"2(A)"}]
[null,"◐","Date Of Birth",{"$nulls":3},"↠",{"$f":"VLOOKUP($A2624,'Result Entry'!$B$9:$DX$108,9,0)","v":"00:00:00"}]
[null,"◐","Subject",{"$nulls":4},"Half Yearly","Total (T+H.Y.)","Yearly","Grand Total",null,"Subject Grade"]
[null,"◐","Max. Marks",{"$nulls":4},{"$f":"'Result Entry'!$Q$7","v":100},{"$f":"G2637+H2637","v":100},{"$f":"'Result Entry'!$U$7","v":100},{"$f":"I2637+J2637","v":200},null,"A/B/C/D/E"]
[null,"◐",{"$f":"'Result Entry'!$K$3","v":"Hindi"},{"$nulls":4},{"$f":"IF(OR(C2638=\"\",$I2629=\"NSO\"),\"\",VLOOKUP($A2624,'Result Entry'!$B$9:$DX$108,16,0))","v":0},{"$f":"SUM(G2638,H2638)","v":0},{"$f":"IF(OR(C2638=\"\",$I2629=\"NSO\"),\"\",VLOOKUP($A2624,'Result Entry'!$B$9:$DX$108,20,0))","v":0},{"$f":"SUM(I2638,J2638)","v":0},null,{"$f":"IF(OR(C2638=\"\",$I2629=\"NSO\"),\"\",VLOOKUP($A2624,'Result Entry'!$B$9:$DX$108,23,0))","v":""}]
[null,"◐",{"$f":"'Result Entry'!$Y$3","v":"Mathematics"},{"$nulls":4},{"$f":"IF(OR(C2639=\"\",$I2629=\"NSO\"),\"\",VLOOKUP($A2624,'Result Entry'!$B$9:$DX$108,30,0))","v":0},{"$f":"SUM(G2639,H2639)","v":0},{"$f":"IF(OR(C2639=\"\",$I2629=\"NSO\"),\"\",VLOOKUP($A2624,'Result Entry'!$B$9:$DX$108,34,0))","v":0},{"$f":"SUM(I2639,J2639)","v":0},null,{"$f":"IF(OR(C2639=\"\",$I2629=\"NSO\"),\"\",VLOOKUP($A2624,'Result Entry'!$B$9:$DX$108,37,0))","v":""}]
[null,"◐",{"$f":"'Result Entry'!$BO$3","v":"Env. Study"},{"$nulls":4},{"$f":"IF(OR(C2640=\"\",$I2629=\"NSO\"),\"\",VLOOKUP($A2624,'Result Entry'!$B$9:$DX$108,66,0))","v":0},0,{"$f":"IF(OR(C2640=\"\",$I2629=\"NSO\"),\"\",VLOOKUP($A2624,'Result Entry'!$B$9:$DX$108,67,0))","v":0},0,null,{"$f":"IF(OR(C2640=\"\",$I2629=\"NSO\"),\"\",VLOOKUP($A2624,'Result Entry'!$B$9:$DX$108,73,0))","v":""}]
[null,"◐","Max. Marks",{"$nulls":4},{"$f":"'Result Entry'!$AS$7","v":50},50,{"$f":"'Result Entry'!$AW$7","v":50},100,null,"A/B/C/D/E"]
[null,"◐",{"$f":"'Result Entry'!$AM$3","v":"English"},{"$nulls":4},{"$f":"IF(OR(C2642=\"\",$I2629=\"NSO\"),\"\",VLOOKUP($A2624,'Result Entry'!$B$9:$DX$108,44,0))","v":0},0,{"$f":"IF(OR(C2642=\"\",$I2629=\"NSO\"),\"\",VLOOKUP($A2624,'Result Entry'!$B$9:$DX$108,48,0))","v":0},0,null,{"$f":"IF(OR(C2642=\"\",$I2629=\"NSO\"),\"\",VLOOKUP($A2624,'Result Entry'!$B$9:$DX$108,51,0))","v":""}]
[null,"◐"]
[null,"◐","Overall Result",null,null,"Total Max. Marks",null,"Total Obtained Marks",null,"Percentage","Overall Grade","Result","Position in Class"]
[null,"◐",{"$nulls":3},{"$f":"IF(OR($I2629=\"\",$I2629=\"NSO\"),\"\",VLOOKUP($A2624,'Result Entry'!$B$9:$DX$108,101,0))","v":500},null,{"$f":"IF(OR($I2629=\"\",$I2629=\"NSO\"),\"\",VLOOKUP($A2624,'Result Entry'!$B$9:$DX$108,102,0))","v":0},null,{"$f":"IF(OR($I2629=\"\",$I2629=\"NSO\"),\"\",VLOOKUP($A2624,'Result Entry'!$B$9:$DX$108,103,0))","v":{"v":0,"d":"0.00"}},{"$f":"IF(OR($I2629=\"\",$I2629=\"NSO\"),\"\",VLOOKUP($A2624,'Result Entry'!$B$9:$DX$108,104,0))","v":""},{"$f":"IF(OR($I2629=\"\",$I2629=\"NSO\"),\"\",VLOOKUP($A2624,'Result Entry'!$B$9:$DX$108,105,0))","v":""},{"$f":"IF(OR($I2629=\"\",$I2629=\"NSO\"),\"\",VLOOKUP($A2624,'Result Entry'!$B$9:$DX$108,107,0))","v":""}]
[null,"◐",{"$nulls":6},"Total Meetings :-",null,{"$f":"IF(OR($I2629=\"\",$I2629=\"NSO\"),\"\",VLOOKUP($A2624,'Result Entry'!$B$9:$DX$108,98,0))","v":0},"Attedance %"]
[null,"◐","Extra Subjects",{"$nulls":5},"Student's Meetings :-",null,{"$f":"IF(OR($I2629=\"\",$I2629=\"NSO\"),\"\",VLOOKUP($A2624,'Result Entry'!$B$9:$DX$108,99,0))","v":0},{"$f":"IF(OR($I2629=\"\",$I2629=\"NSO\"),\"\",VLOOKUP($A2624,'Result Entry'!$B$9:$DX$108,100,0))","v":""}]
[null,"◐","Subject",null,null,"Total Marks",null,"GRADE","Remark :-",null,{"$f":"IF(OR($I2629=\"\",$I2629=\"NSO\"),\"\",VLOOKUP($A2624,'Result Entry'!$B$9:$DX$108,108,0))","v":0}]
[null,"◐",{"$nulls":6},"Result Date :-",null,{"$f":"'Result Entry'!$T$2","v":"2023-05-24"}]
[null,"◐",{"$f":"'Result Entry'!$BW$3","v":"WORK EXP."},null,null,{"$f":"IF(OR(C2650=\"\",$I2629=\"NSO\"),\"\",VLOOKUP($A2624,'Result Entry'!$B$9:$DX$108,119,0))","v":"0/50"},null,{"$f":"IF(OR(C2650=\"\",$I2629=\"NSO\"),\"\",VLOOKUP($A2624,'Result Entry'!$B$9:$DX$108,81,0))","v":""}]
[null,null,{"$f":"'Result Entry'!$CE$3","v":"ART EDU."},null,null,{"$f":"IF(OR(C2651=\"\",$I2629=\"NSO\"),\"\",VLOOKUP($A2624,'Result Entry'!$B$9:$DX$108,123,0))","v":"0/50"},null,{"$f":"IF(OR(C2651=\"\",$I2629=\"NSO\"),\"\",VLOOKUP($A2624,'Result Entry'!$B$9:$DX$108,89,0))","v":""}]
[null,"◐",{"$f":"'Result Entry'!$CM$3","v":"H&P. EDU."},null,null,{"$f":"IF(OR(C2652=\"\",$I2629=\"NSO\"),\"\",VLOOKUP($A2624,'Result Entry'!$B$9:$DX$108,127,0))","v":"0/100"},null,{"$f":"IF(OR(C2652=\"\",$I2629=\"NSO\"),\"\",VLOOKUP($A2624,'Result Entry'!$B$9:$DX$108,97,0))","v":""},"Signature Of The Class Teacher"]
[null,"◐","Grading System"]
[null,"◐","Grd.","% Range",null,"Description"]
[null,"◐","A","86-100",null,"Excellent",null,null,"Signature And Seal Of Principal/H.M."]
[null,"◐","B","71-85",null,"Very Good"]
[null,"◐","C","51-70",null,"Good"]
[null,"◐","D","31-50",null,"Average"]
[null,"◐","E","0-30",null,"Needs Improvement",null,null,"Wish bright future"]
[]
[]
[{"$f":"A2624+1","v":71},"Department Of Education, Rajasthan"]
[null,{"$f":"IF(I2667>0,CONCATENATE(C2667,I2667),0)","v":0},null,{"$f":"Master!$E$8","v":"Govt.Sr.Sec.Sch. "}]
[{"$nulls":3},{"$f":"Master!$E$11","v":"P.S.-Bapini (Jodhpur)"}]
[null,null,"Report Card",{"$nulls":6},"U-DISE Code:-",null,{"$f":"Master!$E$14","v":{"v":810000000,"d":"0810000000"}}]
[{"$nulls":9},"Session:-",null,{"$f":"Master!$E$6","v":"2022-23"}]
[null,null,"Roll No.:-",{"$nulls":5},{"$f":"VLOOKUP($A2662,'Result Entry'!$B$9:$F$108,5,0)","v":0}]
[null,"◐","Scholar Number",{"$nulls":3},"↠",{"$f":"VLOOKUP($A2662,'Result Entry'!$B$9:$DX$108,3,0)","v":0}]
[null,"◐","Student's Name",{"$nulls":3},"↠",{"$f":"VLOOKUP($A2662,'Result Entry'!$B$9:$DX$108,6,0)","v":0}]
[null,"◐","Father's Name",{"$nulls":3},"↠",{"$f":"VLOOKUP($A2662,'Result Entry'!$B$9:$DX$108,7,0)","v":0}]
[null,"◐","Mother's Name ",{"$nulls":3},"↠",{"$f":"VLOOKUP($A2662,'Result Entry'!$B$9:$DX$108,8,0)","v":0}]
[null,"◐","Class & Section",{"$nulls":3},"↠",{"$f":"CONCATENATE('Result Entry'!$F$4,'Result Entry'!$I$4)","v":"2(A)"}]
[null,"◐","Date Of Birth",{"$nulls":3},"↠",{"$f":"VLOOKUP($A2662,'Result Entry'!$B$9:$DX$108,9,0)","v":"00:00:00"}]
[null,"◐","Subject",{"$nulls":4},"Half Yearly","Total (T+H.Y.)","Yearly","Grand Total",null,"Subject Grade"]
[null,"◐","Max. Marks",{"$nulls":4},{"$f":"'Result Entry'!$Q$7","v":100},{"$f":"G2675+H2675","v":100},{"$f":"'Result Entry'!$U$7","v":100},{"$f":"I2675+J2675","v":200},null,"A/B/C/D/E"]
[null,"◐",{"$f":"'Result Entry'!$K$3","v":"Hindi"},{"$nulls":4},{"$f":"IF(OR(C2676=\"\",$I2667=\"NSO\"),\"\",VLOOKUP($A2662,'Result Entry'!$B$9:$DX$108,16,0))","v":0},{"$f":"SUM(G2676,H2676)","v":0},{"$f":"IF(OR(C2676=\"\",$I2667=\"NSO\"),\"\",VLOOKUP($A2662,'Result Entry'!$B$9:$DX$108,20,0))","v":0},{"$f":"SUM(I2676,J2676)","v":0},null,{"$f":"IF(OR(C2676=\"\",$I2667=\"NSO\"),\"\",VLOOKUP($A2662,'Result Entry'!$B$9:$DX$108,23,0))","v":""}]
[null,"◐",{"$f":"'Result Entry'!$Y$3","v":"Mathematics"},{"$nulls":4},{"$f":"IF(OR(C2677=\"\",$I2667=\"NSO\"),\"\",VLOOKUP($A2662,'Result Entry'!$B$9:$DX$108,30,0))","v":0},{"$f":"SUM(G2677,H2677)","v":0},{"$f":"IF(OR(C2677=\"\",$I2667=\"NSO\"),\"\",VLOOKUP($A2662,'Result Entry'!$B$9:$DX$108,34,0))","v":0},{"$f":"SUM(I2677,J2677)","v":0},null,{"$f":"IF(OR(C2677=\"\",$I2667=\"NSO\"),\"\",VLOOKUP($A2662,'Result Entry'!$B$9:$DX$108,37,0))","v":""}]
[null,"◐",{"$f":"'Result Entry'!$BO$3","v":"Env. Study"},{"$nulls":4},{"$f":"IF(OR(C2678=\"\",$I2667=\"NSO\"),\"\",VLOOKUP($A2662,'Result Entry'!$B$9:$DX$108,66,0))","v":0},0,{"$f":"IF(OR(C2678=\"\",$I2667=\"NSO\"),\"\",VLOOKUP($A2662,'Result Entry'!$B$9:$DX$108,67,0))","v":0},0,null,{"$f":"IF(OR(C2678=\"\",$I2667=\"NSO\"),\"\",VLOOKUP($A2662,'Result Entry'!$B$9:$DX$108,73,0))","v":""}]
[null,"◐","Max. Marks",{"$nulls":4},{"$f":"'Result Entry'!$AS$7","v":50},50,{"$f":"'Result Entry'!$AW$7","v":50},100,null,"A/B/C/D/E"]
[null,"◐",{"$f":"'Result Entry'!$AM$3","v":"English"},{"$nulls":4},{"$f":"IF(OR(C2680=\"\",$I2667=\"NSO\"),\"\",VLOOKUP($A2662,'Result Entry'!$B$9:$DX$108,44,0))","v":0},0,{"$f":"IF(OR(C2680=\"\",$I2667=\"NSO\"),\"\",VLOOKUP($A2662,'Result Entry'!$B$9:$DX$108,48,0))","v":0},0,null,{"$f":"IF(OR(C2680=\"\",$I2667=\"NSO\"),\"\",VLOOKUP($A2662,'Result Entry'!$B$9:$DX$108,51,0))","v":""}]
[null,"◐"]
[null,"◐","Overall Result",null,null,"Total Max. Marks",null,"Total Obtained Marks",null,"Percentage","Overall Grade","Result","Position in Class"]
[null,"◐",{"$nulls":3},{"$f":"IF(OR($I2667=\"\",$I2667=\"NSO\"),\"\",VLOOKUP($A2662,'Result Entry'!$B$9:$DX$108,101,0))","v":500},null,{"$f":"IF(OR($I2667=\"\",$I2667=\"NSO\"),\"\",VLOOKUP($A2662,'Result Entry'!$B$9:$DX$108,102,0))","v":0},null,{"$f":"IF(OR($I2667=\"\",$I2667=\"NSO\"),\"\",VLOOKUP($A2662,'Result Entry'!$B$9:$DX$108,103,0))","v":{"v":0,"d":"0.00"}},{"$f":"IF(OR($I2667=\"\",$I2667=\"NSO\"),\"\",VLOOKUP($A2662,'Result Entry'!$B$9:$DX$108,104,0))","v":""},{"$f":"IF(OR($I2667=\"\",$I2667=\"NSO\"),\"\",VLOOKUP($A2662,'Result Entry'!$B$9:$DX$108,105,0))","v":""},{"$f":"IF(OR($I2667=\"\",$I2667=\"NSO\"),\"\",VLOOKUP($A2662,'Result Entry'!$B$9:$DX$108,107,0))","v":""}]
[null,"◐",{"$nulls":6},"Total Meetings :-",null,{"$f":"IF(OR($I2667=\"\",$I2667=\"NSO\"),\"\",VLOOKUP($A2662,'Result Entry'!$B$9:$DX$108,98,0))","v":0},"Attedance %"]
[null,"◐","Extra Subjects",{"$nulls":5},"Student's Meetings :-",null,{"$f":"IF(OR($I2667=\"\",$I2667=\"NSO\"),\"\",VLOOKUP($A2662,'Result Entry'!$B$9:$DX$108,99,0))","v":0},{"$f":"IF(OR($I2667=\"\",$I2667=\"NSO\"),\"\",VLOOKUP($A2662,'Result Entry'!$B$9:$DX$108,100,0))","v":""}]
[null,"◐","Subject",null,null,"Total Marks",null,"GRADE","Remark :-",null,{"$f":"IF(OR($I2667=\"\",$I2667=\"NSO\"),\"\",VLOOKUP($A2662,'Result Entry'!$B$9:$DX$108,108,0))","v":0}]
[null,"◐",{"$nulls":6},"Result Date :-",null,{"$f":"'Result Entry'!$T$2","v":"2023-05-24"}]
[null,"◐",{"$f":"'Result Entry'!$BW$3","v":"WORK EXP."},null,null,{"$f":"IF(OR(C2688=\"\",$I2667=\"NSO\"),\"\",VLOOKUP($A2662,'Result Entry'!$B$9:$DX$108,119,0))","v":"0/50"},null,{"$f":"IF(OR(C2688=\"\",$I2667=\"NSO\"),\"\",VLOOKUP($A2662,'Result Entry'!$B$9:$DX$108,81,0))","v":""}]
[null,null,{"$f":"'Result Entry'!$CE$3","v":"ART EDU."},null,null,{"$f":"IF(OR(C2689=\"\",$I2667=\"NSO\"),\"\",VLOOKUP($A2662,'Result Entry'!$B$9:$DX$108,123,0))","v":"0/50"},null,{"$f":"IF(OR(C2689=\"\",$I2667=\"NSO\"),\"\",VLOOKUP($A2662,'Result Entry'!$B$9:$DX$108,89,0))","v":""}]
[null,"◐",{"$f":"'Result Entry'!$CM$3","v":"H&P. EDU."},null,null,{"$f":"IF(OR(C2690=\"\",$I2667=\"NSO\"),\"\",VLOOKUP($A2662,'Result Entry'!$B$9:$DX$108,127,0))","v":"0/100"},null,{"$f":"IF(OR(C2690=\"\",$I2667=\"NSO\"),\"\",VLOOKUP($A2662,'Result Entry'!$B$9:$DX$108,97,0))","v":""},"Signature Of The Class Teacher"]
[null,"◐","Grading System"]
[null,"◐","Grd.","% Range",null,"Description"]
[null,"◐","A","86-100",null,"Excellent",null,null,"Signature And Seal Of Principal/H.M."]
[null,"◐","B","71-85",null,"Very Good"]
[null,"◐","C","51-70",null,"Good"]
[null,"◐","D","31-50",null,"Average"]
[null,"◐","E","0-30",null,"Needs Improvement",null,null,"Wish bright future"]
[]
[]
[{"$f":"A2662+1","v":72},"Department Of Education, Rajasthan"]
[null,{"$f":"IF(I2705>0,CONCATENATE(C2705,I2705),0)","v":0},null,{"$f":"Master!$E$8","v":"Govt.Sr.Sec.Sch. "}]
[{"$nulls":3},{"$f":"Master!$E$11","v":"P.S.-Bapini (Jodhpur)"}]
[null,null,"Report Card",{"$nulls":6},"U-DISE Code:-",null,{"$f":"Master!$E$14","v":{"v":810000000,"d":"0810000000"}}]
[{"$nulls":9},"Session:-",null,{"$f":"Master!$E$6","v":"2022-23"}]
[null,null,"Roll No.:-",{"$nulls":5},{"$f":"VLOOKUP($A2700,'Result Entry'!$B$9:$F$108,5,0)","v":0}]
[null,"◐","Scholar Number",{"$nulls":3},"↠",{"$f":"VLOOKUP($A2700,'Result Entry'!$B$9:$DX$108,3,0)","v":0}]
[null,"◐","Student's Name",{"$nulls":3},"↠",{"$f":"VLOOKUP($A2700,'Result Entry'!$B$9:$DX$108,6,0)","v":0}]
[null,"◐","Father's Name",{"$nulls":3},"↠",{"$f":"VLOOKUP($A2700,'Result Entry'!$B$9:$DX$108,7,0)","v":0}]
[null,"◐","Mother's Name ",{"$nulls":3},"↠",{"$f":"VLOOKUP($A2700,'Result Entry'!$B$9:$DX$108,8,0)","v":0}]
[null,"◐","Class & Section",{"$nulls":3},"↠",{"$f":"CONCATENATE('Result Entry'!$F$4,'Result Entry'!$I$4)","v":"2(A)"}]
[null,"◐","Date Of Birth",{"$nulls":3},"↠",{"$f":"VLOOKUP($A2700,'Result Entry'!$B$9:$DX$108,9,0)","v":"00:00:00"}]
[null,"◐","Subject",{"$nulls":4},"Half Yearly","Total (T+H.Y.)","Yearly","Grand Total",null,"Subject Grade"]
[null,"◐","Max. Marks",{"$nulls":4},{"$f":"'Result Entry'!$Q$7","v":100},{"$f":"G2713+H2713","v":100},{"$f":"'Result Entry'!$U$7","v":100},{"$f":"I2713+J2713","v":200},null,"A/B/C/D/E"]
[null,"◐",{"$f":"'Result Entry'!$K$3","v":"Hindi"},{"$nulls":4},{"$f":"IF(OR(C2714=\"\",$I2705=\"NSO\"),\"\",VLOOKUP($A2700,'Result Entry'!$B$9:$DX$108,16,0))","v":0},{"$f":"SUM(G2714,H2714)","v":0},{"$f":"IF(OR(C2714=\"\",$I2705=\"NSO\"),\"\",VLOOKUP($A2700,'Result Entry'!$B$9:$DX$108,20,0))","v":0},{"$f":"SUM(I2714,J2714)","v":0},null,{"$f":"IF(OR(C2714=\"\",$I2705=\"NSO\"),\"\",VLOOKUP($A2700,'Result Entry'!$B$9:$DX$108,23,0))","v":""}]
[null,"◐",{"$f":"'Result Entry'!$Y$3","v":"Mathematics"},{"$nulls":4},{"$f":"IF(OR(C2715=\"\",$I2705=\"NSO\"),\"\",VLOOKUP($A2700,'Result Entry'!$B$9:$DX$108,30,0))","v":0},{"$f":"SUM(G2715,H2715)","v":0},{"$f":"IF(OR(C2715=\"\",$I2705=\"NSO\"),\"\",VLOOKUP($A2700,'Result Entry'!$B$9:$DX$108,34,0))","v":0},{"$f":"SUM(I2715,J2715)","v":0},null,{"$f":"IF(OR(C2715=\"\",$I2705=\"NSO\"),\"\",VLOOKUP($A2700,'Result Entry'!$B$9:$DX$108,37,0))","v":""}]
[null,"◐",{"$f":"'Result Entry'!$BO$3","v":"Env. Study"},{"$nulls":4},{"$f":"IF(OR(C2716=\"\",$I2705=\"NSO\"),\"\",VLOOKUP($A2700,'Result Entry'!$B$9:$DX$108,66,0))","v":0},0,{"$f":"IF(OR(C2716=\"\",$I2705=\"NSO\"),\"\",VLOOKUP($A2700,'Result Entry'!$B$9:$DX$108,67,0))","v":0},0,null,{"$f":"IF(OR(C2716=\"\",$I2705=\"NSO\"),\"\",VLOOKUP($A2700,'Result Entry'!$B$9:$DX$108,73,0))","v":""}]
[null,"◐","Max. Marks",{"$nulls":4},{"$f":"'Result Entry'!$AS$7","v":50},50,{"$f":"'Result Entry'!$AW$7","v":50},100,null,"A/B/C/D/E"]
[null,"◐",{"$f":"'Result Entry'!$AM$3","v":"English"},{"$nulls":4},{"$f":"IF(OR(C2718=\"\",$I2705=\"NSO\"),\"\",VLOOKUP($A2700,'Result Entry'!$B$9:$DX$108,44,0))","v":0},0,{"$f":"IF(OR(C2718=\"\",$I2705=\"NSO\"),\"\",VLOOKUP($A2700,'Result Entry'!$B$9:$DX$108,48,0))","v":0},0,null,{"$f":"IF(OR(C2718=\"\",$I2705=\"NSO\"),\"\",VLOOKUP($A2700,'Result Entry'!$B$9:$DX$108,51,0))","v":""}]
[null,"◐"]
[null,"◐","Overall Result",null,null,"Total Max. Marks",null,"Total Obtained Marks",null,"Percentage","Overall Grade","Result","Position in Class"]
[null,"◐",{"$nulls":3},{"$f":"IF(OR($I2705=\"\",$I2705=\"NSO\"),\"\",VLOOKUP($A2700,'Result Entry'!$B$9:$DX$108,101,0))","v":500},null,{"$f":"IF(OR($I2705=\"\",$I2705=\"NSO\"),\"\",VLOOKUP($A2700,'Result Entry'!$B$9:$DX$108,102,0))","v":0},null,{"$f":"IF(OR($I2705=\"\",$I2705=\"NSO\"),\"\",VLOOKUP($A2700,'Result Entry'!$B$9:$DX$108,103,0))","v":{"v":0,"d":"0.00"}},{"$f":"IF(OR($I2705=\"\",$I2705=\"NSO\"),\"\",VLOOKUP($A2700,'Result Entry'!$B$9:$DX$108,104,0))","v":""},{"$f":"IF(OR($I2705=\"\",$I2705=\"NSO\"),\"\",VLOOKUP($A2700,'Result Entry'!$B$9:$DX$108,105,0))","v":""},{"$f":"IF(OR($I2705=\"\",$I2705=\"NSO\"),\"\",VLOOKUP($A2700,'Result Entry'!$B$9:$DX$108,107,0))","v":""}]
[null,"◐",{"$nulls":6},"Total Meetings :-",null,{"$f":"IF(OR($I2705=\"\",$I2705=\"NSO\"),\"\",VLOOKUP($A2700,'Result Entry'!$B$9:$DX$108,98,0))","v":0},"Attedance %"]
[null,"◐","Extra Subjects",{"$nulls":5},"Student's Meetings :-",null,{"$f":"IF(OR($I2705=\"\",$I2705=\"NSO\"),\"\",VLOOKUP($A2700,'Result Entry'!$B$9:$DX$108,99,0))","v":0},{"$f":"IF(OR($I2705=\"\",$I2705=\"NSO\"),\"\",VLOOKUP($A2700,'Result Entry'!$B$9:$DX$108,100,0))","v":""}]
[null,"◐","Subject",null,null,"Total Marks",null,"GRADE","Remark :-",null,{"$f":"IF(OR($I2705=\"\",$I2705=\"NSO\"),\"\",VLOOKUP($A2700,'Result Entry'!$B$9:$DX$108,108,0))","v":0}]
[null,"◐",{"$nulls":6},"Result Date :-",null,{"$f":"'Result Entry'!$T$2","v":"2023-05-24"}]
[null,"◐",{"$f":"'Result Entry'!$BW$3","v":"WORK EXP."},null,null,{"$f":"IF(OR(C2726=\"\",$I2705=\"NSO\"),\"\",VLOOKUP($A2700,'Result Entry'!$B$9:$DX$108,119,0))","v":"0/50"},null,{"$f":"IF(OR(C2726=\"\",$I2705=\"NSO\"),\"\",VLOOKUP($A2700,'Result Entry'!$B$9:$DX$108,81,0))","v":""}]
[null,null,{"$f":"'Result Entry'!$CE$3","v":"ART EDU."},null,null,{"$f":"IF(OR(C2727=\"\",$I2705=\"NSO\"),\"\",VLOOKUP($A2700,'Result Entry'!$B$9:$DX$108,123,0))","v":"0/50"},null,{"$f":"IF(OR(C2727=\"\",$I2705=\"NSO\"),\"\",VLOOKUP($A2700,'Result Entry'!$B$9:$DX$108,89,0))","v":""}]
[null,"◐",{"$f":"'Result Entry'!$CM$3","v":"H&P. EDU."},null,null,{"$f":"IF(OR(C2728=\"\",$I2705=\"NSO\"),\"\",VLOOKUP($A2700,'Result Entry'!$B$9:$DX$108,127,0))","v":"0/100"},null,{"$f":"IF(OR(C2728=\"\",$I2705=\"NSO\"),\"\",VLOOKUP($A2700,'Result Entry'!$B$9:$DX$108,97,0))","v":""},"Signature Of The Class Teacher"]
[null,"◐","Grading System"]
[null,"◐","Grd.","% Range",null,"Description"]
[null,"◐","A","86-100",null,"Excellent",null,null,"Signature And Seal Of Principal/H.M."]
[null,"◐","B","71-85",null,"Very Good"]
[null,"◐","C","51-70",null,"Good"]
[null,"◐","D","31-50",null,"Average"]
[null,"◐","E","0-30",null,"Needs Improvement",null,null,"Wish bright future"]
[]
[]
[{"$f":"A2700+1","v":73},"Department Of Education, Rajasthan"]
[null,{"$f":"IF(I2743>0,CONCATENATE(C2743,I2743),0)","v":0},null,{"$f":"Master!$E$8","v":"Govt.Sr.Sec.Sch. "}]
[{"$nulls":3},{"$f":"Master!$E$11","v":"P.S.-Bapini (Jodhpur)"}]
[null,null,"Report Card",{"$nulls":6},"U-DISE Code:-",null,{"$f":"Master!$E$14","v":{"v":810000000,"d":"0810000000"}}]
[{"$nulls":9},"Session:-",null,{"$f":"Master!$E$6","v":"2022-23"}]
[null,null,"Roll No.:-",{"$nulls":5},{"$f":"VLOOKUP($A2738,'Result Entry'!$B$9:$F$108,5,0)","v":0}]
[null,"◐","Scholar Number",{"$nulls":3},"↠",{"$f":"VLOOKUP($A2738,'Result Entry'!$B$9:$DX$108,3,0)","v":0}]
[null,"◐","Student's Name",{"$nulls":3},"↠",{"$f":"VLOOKUP($A2738,'Result Entry'!$B$9:$DX$108,6,0)","v":0}]
[null,"◐","Father's Name",{"$nulls":3},"↠",{"$f":"VLOOKUP($A2738,'Result Entry'!$B$9:$DX$108,7,0)","v":0}]
[null,"◐","Mother's Name ",{"$nulls":3},"↠",{"$f":"VLOOKUP($A2738,'Result Entry'!$B$9:$DX$108,8,0)","v":0}]
[null,"◐","Class & Section",{"$nulls":3},"↠",{"$f":"CONCATENATE('Result Entry'!$F$4,'Result Entry'!$I$4)","v":"2(A)"}]
[null,"◐","Date Of Birth",{"$nulls":3},"↠",{"$f":"VLOOKUP($A2738,'Result Entry'!$B$9:$DX$108,9,0)","v":"00:00:00"}]
[null,"◐","Subject",{"$nulls":4},"Half Yearly","Total (T+H.Y.)","Yearly","Grand Total",null,"Subject Grade"]
[null,"◐","Max. Marks",{"$nulls":4},{"$f":"'Result Entry'!$Q$7","v":100},{"$f":"G2751+H2751","v":100},{"$f":"'Result Entry'!$U$7","v":100},{"$f":"I2751+J2751","v":200},null,"A/B/C/D/E"]
[null,"◐",{"$f":"'Result Entry'!$K$3","v":"Hindi"},{"$nulls":4},{"$f":"IF(OR(C2752=\"\",$I2743=\"NSO\"),\"\",VLOOKUP($A2738,'Result Entry'!$B$9:$DX$108,16,0))","v":0},{"$f":"SUM(G2752,H2752)","v":0},{"$f":"IF(OR(C2752=\"\",$I2743=\"NSO\"),\"\",VLOOKUP($A2738,'Result Entry'!$B$9:$DX$108,20,0))","v":0},{"$f":"SUM(I2752,J2752)","v":0},null,{"$f":"IF(OR(C2752=\"\",$I2743=\"NSO\"),\"\",VLOOKUP($A2738,'Result Entry'!$B$9:$DX$108,23,0))","v":""}]
[null,"◐",{"$f":"'Result Entry'!$Y$3","v":"Mathematics"},{"$nulls":4},{"$f":"IF(OR(C2753=\"\",$I2743=\"NSO\"),\"\",VLOOKUP($A2738,'Result Entry'!$B$9:$DX$108,30,0))","v":0},{"$f":"SUM(G2753,H2753)","v":0},{"$f":"IF(OR(C2753=\"\",$I2743=\"NSO\"),\"\",VLOOKUP($A2738,'Result Entry'!$B$9:$DX$108,34,0))","v":0},{"$f":"SUM(I2753,J2753)","v":0},null,{"$f":"IF(OR(C2753=\"\",$I2743=\"NSO\"),\"\",VLOOKUP($A2738,'Result Entry'!$B$9:$DX$108,37,0))","v":""}]
[null,"◐",{"$f":"'Result Entry'!$BO$3","v":"Env. Study"},{"$nulls":4},{"$f":"IF(OR(C2754=\"\",$I2743=\"NSO\"),\"\",VLOOKUP($A2738,'Result Entry'!$B$9:$DX$108,66,0))","v":0},0,{"$f":"IF(OR(C2754=\"\",$I2743=\"NSO\"),\"\",VLOOKUP($A2738,'Result Entry'!$B$9:$DX$108,67,0))","v":0},0,null,{"$f":"IF(OR(C2754=\"\",$I2743=\"NSO\"),\"\",VLOOKUP($A2738,'Result Entry'!$B$9:$DX$108,73,0))","v":""}]
[null,"◐","Max. Marks",{"$nulls":4},{"$f":"'Result Entry'!$AS$7","v":50},50,{"$f":"'Result Entry'!$AW$7","v":50},100,null,"A/B/C/D/E"]
[null,"◐",{"$f":"'Result Entry'!$AM$3","v":"English"},{"$nulls":4},{"$f":"IF(OR(C2756=\"\",$I2743=\"NSO\"),\"\",VLOOKUP($A2738,'Result Entry'!$B$9:$DX$108,44,0))","v":0},0,{"$f":"IF(OR(C2756=\"\",$I2743=\"NSO\"),\"\",VLOOKUP($A2738,'Result Entry'!$B$9:$DX$108,48,0))","v":0},0,null,{"$f":"IF(OR(C2756=\"\",$I2743=\"NSO\"),\"\",VLOOKUP($A2738,'Result Entry'!$B$9:$DX$108,51,0))","v":""}]
[null,"◐"]
[null,"◐","Overall Result",null,null,"Total Max. Marks",null,"Total Obtained Marks",null,"Percentage","Overall Grade","Result","Position in Class"]
[null,"◐",{"$nulls":3},{"$f":"IF(OR($I2743=\"\",$I2743=\"NSO\"),\"\",VLOOKUP($A2738,'Result Entry'!$B$9:$DX$108,101,0))","v":500},null,{"$f":"IF(OR($I2743=\"\",$I2743=\"NSO\"),\"\",VLOOKUP($A2738,'Result Entry'!$B$9:$DX$108,102,0))","v":0},null,{"$f":"IF(OR($I2743=\"\",$I2743=\"NSO\"),\"\",VLOOKUP($A2738,'Result Entry'!$B$9:$DX$108,103,0))","v":{"v":0,"d":"0.00"}},{"$f":"IF(OR($I2743=\"\",$I2743=\"NSO\"),\"\",VLOOKUP($A2738,'Result Entry'!$B$9:$DX$108,104,0))","v":""},{"$f":"IF(OR($I2743=\"\",$I2743=\"NSO\"),\"\",VLOOKUP($A2738,'Result Entry'!$B$9:$DX$108,105,0))","v":""},{"$f":"IF(OR($I2743=\"\",$I2743=\"NSO\"),\"\",VLOOKUP($A2738,'Result Entry'!$B$9:$DX$108,107,0))","v":""}]
[null,"◐",{"$nulls":6},"Total Meetings :-",null,{"$f":"IF(OR($I2743=\"\",$I2743=\"NSO\"),\"\",VLOOKUP($A2738,'Result Entry'!$B$9:$DX$108,98,0))","v":0},"Attedance %"]
[null,"◐","Extra Subjects",{"$nulls":5},"Student's Meetings :-",null,{"$f":"IF(OR($I2743=\"\",$I2743=\"NSO\"),\"\",VLOOKUP($A2738,'Result Entry'!$B$9:$DX$108,99,0))","v":0},{"$f":"IF(OR($I2743=\"\",$I2743=\"NSO\"),\"\",VLOOKUP($A2738,'Result Entry'!$B$9:$DX$108,100,0))","v":""}]
[null,"◐","Subject",null,null,"Total Marks",null,"GRADE","Remark :-",null,{"$f":"IF(OR($I2743=\"\",$I2743=\"NSO\"),\"\",VLOOKUP($A2738,'Result Entry'!$B$9:$DX$108,108,0))","v":0}]
[null,"◐",{"$nulls":6},"Result Date :-",null,{"$f":"'Result Entry'!$T$2","v":"2023-05-24"}]
[null,"◐",{"$f":"'Result Entry'!$BW$3","v":"WORK EXP."},null,null,{"$f":"IF(OR(C2764=\"\",$I2743=\"NSO\"),\"\",VLOOKUP($A2738,'Result Entry'!$B$9:$DX$108,119,0))","v":"0/50"},null,{"$f":"IF(OR(C2764=\"\",$I2743=\"NSO\"),\"\",VLOOKUP($A2738,'Result Entry'!$B$9:$DX$108,81,0))","v":""}]
[null,null,{"$f":"'Result Entry'!$CE$3","v":"ART EDU."},null,null,{"$f":"IF(OR(C2765=\"\",$I2743=\"NSO\"),\"\",VLOOKUP($A2738,'Result Entry'!$B$9:$DX$108,123,0))","v":"0/50"},null,{"$f":"IF(OR(C2765=\"\",$I2743=\"NSO\"),\"\",VLOOKUP($A2738,'Result Entry'!$B$9:$DX$108,89,0))","v":""}]
[null,"◐",{"$f":"'Result Entry'!$CM$3","v":"H&P. EDU."},null,null,{"$f":"IF(OR(C2766=\"\",$I2743=\"NSO\"),\"\",VLOOKUP($A2738,'Result Entry'!$B$9:$DX$108,127,0))","v":"0/100"},null,{"$f":"IF(OR(C2766=\"\",$I2743=\"NSO\"),\"\",VLOOKUP($A2738,'Result Entry'!$B$9:$DX$108,97,0))","v":""},"Signature Of The Class Teacher"]
[null,"◐","Grading System"]
[null,"◐","Grd.","% Range",null,"Description"]
[null,"◐","A","86-100",null,"Excellent",null,null,"Signature And Seal Of Principal/H.M."]
[null,"◐","B","71-85",null,"Very Good"]
[null,"◐","C","51-70",null,"Good"]
[null,"◐","D","31-50",null,"Average"]
[null,"◐","E","0-30",null,"Needs Improvement",null,null,"Wish bright future"]
[]
[]
[{"$f":"A2738+1","v":74},"Department Of Education, Rajasthan"]
[null,{"$f":"IF(I2781>0,CONCATENATE(C2781,I2781),0)","v":0},null,{"$f":"Master!$E$8","v":"Govt.Sr.Sec.Sch. "}]
[{"$nulls":3},{"$f":"Master!$E$11","v":"P.S.-Bapini (Jodhpur)"}]
[null,null,"Report Card",{"$nulls":6},"U-DISE Code:-",null,{"$f":"Master!$E$14","v":{"v":810000000,"d":"0810000000"}}]
[{"$nulls":9},"Session:-",null,{"$f":"Master!$E$6","v":"2022-23"}]
[null,null,"Roll No.:-",{"$nulls":5},{"$f":"VLOOKUP($A2776,'Result Entry'!$B$9:$F$108,5,0)","v":0}]
[null,"◐","Scholar Number",{"$nulls":3},"↠",{"$f":"VLOOKUP($A2776,'Result Entry'!$B$9:$DX$108,3,0)","v":0}]
[null,"◐","Student's Name",{"$nulls":3},"↠",{"$f":"VLOOKUP($A2776,'Result Entry'!$B$9:$DX$108,6,0)","v":0}]
[null,"◐","Father's Name",{"$nulls":3},"↠",{"$f":"VLOOKUP($A2776,'Result Entry'!$B$9:$DX$108,7,0)","v":0}]
[null,"◐","Mother's Name ",{"$nulls":3},"↠",{"$f":"VLOOKUP($A2776,'Result Entry'!$B$9:$DX$108,8,0)","v":0}]
[null,"◐","Class & Section",{"$nulls":3},"↠",{"$f":"CONCATENATE('Result Entry'!$F$4,'Result Entry'!$I$4)","v":"2(A)"}]
[null,"◐","Date Of Birth",{"$nulls":3},"↠",{"$f":"VLOOKUP($A2776,'Result Entry'!$B$9:$DX$108,9,0)","v":"00:00:00"}]
[null,"◐","Subject",{"$nulls":4},"Half Yearly","Total (T+H.Y.)","Yearly","Grand Total",null,"Subject Grade"]
[null,"◐","Max. Marks",{"$nulls":4},{"$f":"'Result Entry'!$Q$7","v":100},{"$f":"G2789+H2789","v":100},{"$f":"'Result Entry'!$U$7","v":100},{"$f":"I2789+J2789","v":200},null,"A/B/C/D/E"]
[null,"◐",{"$f":"'Result Entry'!$K$3","v":"Hindi"},{"$nulls":4},{"$f":"IF(OR(C2790=\"\",$I2781=\"NSO\"),\"\",VLOOKUP($A2776,'Result Entry'!$B$9:$DX$108,16,0))","v":0},{"$f":"SUM(G2790,H2790)","v":0},{"$f":"IF(OR(C2790=\"\",$I2781=\"NSO\"),\"\",VLOOKUP($A2776,'Result Entry'!$B$9:$DX$108,20,0))","v":0},{"$f":"SUM(I2790,J2790)","v":0},null,{"$f":"IF(OR(C2790=\"\",$I2781=\"NSO\"),\"\",VLOOKUP($A2776,'Result Entry'!$B$9:$DX$108,23,0))","v":""}]
[null,"◐",{"$f":"'Result Entry'!$Y$3","v":"Mathematics"},{"$nulls":4},{"$f":"IF(OR(C2791=\"\",$I2781=\"NSO\"),\"\",VLOOKUP($A2776,'Result Entry'!$B$9:$DX$108,30,0))","v":0},{"$f":"SUM(G2791,H2791)","v":0},{"$f":"IF(OR(C2791=\"\",$I2781=\"NSO\"),\"\",VLOOKUP($A2776,'Result Entry'!$B$9:$DX$108,34,0))","v":0},{"$f":"SUM(I2791,J2791)","v":0},null,{"$f":"IF(OR(C2791=\"\",$I2781=\"NSO\"),\"\",VLOOKUP($A2776,'Result Entry'!$B$9:$DX$108,37,0))","v":""}]
[null,"◐",{"$f":"'Result Entry'!$BO$3","v":"Env. Study"},{"$nulls":4},{"$f":"IF(OR(C2792=\"\",$I2781=\"NSO\"),\"\",VLOOKUP($A2776,'Result Entry'!$B$9:$DX$108,66,0))","v":0},0,{"$f":"IF(OR(C2792=\"\",$I2781=\"NSO\"),\"\",VLOOKUP($A2776,'Result Entry'!$B$9:$DX$108,67,0))","v":0},0,null,{"$f":"IF(OR(C2792=\"\",$I2781=\"NSO\"),\"\",VLOOKUP($A2776,'Result Entry'!$B$9:$DX$108,73,0))","v":""}]
[null,"◐","Max. Marks",{"$nulls":4},{"$f":"'Result Entry'!$AS$7","v":50},50,{"$f":"'Result Entry'!$AW$7","v":50},100,null,"A/B/C/D/E"]
[null,"◐",{"$f":"'Result Entry'!$AM$3","v":"English"},{"$nulls":4},{"$f":"IF(OR(C2794=\"\",$I2781=\"NSO\"),\"\",VLOOKUP($A2776,'Result Entry'!$B$9:$DX$108,44,0))","v":0},0,{"$f":"IF(OR(C2794=\"\",$I2781=\"NSO\"),\"\",VLOOKUP($A2776,'Result Entry'!$B$9:$DX$108,48,0))","v":0},0,null,{"$f":"IF(OR(C2794=\"\",$I2781=\"NSO\"),\"\",VLOOKUP($A2776,'Result Entry'!$B$9:$DX$108,51,0))","v":""}]
[null,"◐"]
[null,"◐","Overall Result",null,null,"Total Max. Marks",null,"Total Obtained Marks",null,"Percentage","Overall Grade","Result","Position in Class"]
[null,"◐",{"$nulls":3},{"$f":"IF(OR($I2781=\"\",$I2781=\"NSO\"),\"\",VLOOKUP($A2776,'Result Entry'!$B$9:$DX$108,101,0))","v":500},null,{"$f":"IF(OR($I2781=\"\",$I2781=\"NSO\"),\"\",VLOOKUP($A2776,'Result Entry'!$B$9:$DX$108,102,0))","v":0},null,{"$f":"IF(OR($I2781=\"\",$I2781=\"NSO\"),\"\",VLOOKUP($A2776,'Result Entry'!$B$9:$DX$108,103,0))","v":{"v":0,"d":"0.00"}},{"$f":"IF(OR($I2781=\"\",$I2781=\"NSO\"),\"\",VLOOKUP($A2776,'Result Entry'!$B$9:$DX$108,104,0))","v":""},{"$f":"IF(OR($I2781=\"\",$I2781=\"NSO\"),\"\",VLOOKUP($A2776,'Result Entry'!$B$9:$DX$108,105,0))","v":""},{"$f":"IF(OR($I2781=\"\",$I2781=\"NSO\"),\"\",VLOOKUP($A2776,'Result Entry'!$B$9:$DX$108,107,0))","v":""}]
[null,"◐",{"$nulls":6},"Total Meetings :-",null,{"$f":"IF(OR($I2781=\"\",$I2781=\"NSO\"),\"\",VLOOKUP($A2776,'Result Entry'!$B$9:$DX$108,98,0))","v":0},"Attedance %"]
[null,"◐","Extra Subjects",{"$nulls":5},"Student's Meetings :-",null,{"$f":"IF(OR($I2781=\"\",$I2781=\"NSO\"),\"\",VLOOKUP($A2776,'Result Entry'!$B$9:$DX$108,99,0))","v":0},{"$f":"IF(OR($I2781=\"\",$I2781=\"NSO\"),\"\",VLOOKUP($A2776,'Result Entry'!$B$9:$DX$108,100,0))","v":""}]
[null,"◐","Subject",null,null,"Total Marks",null,"GRADE","Remark :-",null,{"$f":"IF(OR($I2781=\"\",$I2781=\"NSO\"),\"\",VLOOKUP($A2776,'Result Entry'!$B$9:$DX$108,108,0))","v":0}]
[null,"◐",{"$nulls":6},"Result Date :-",null,{"$f":"'Result Entry'!$T$2","v":"2023-05-24"}]
[null,"◐",{"$f":"'Result Entry'!$BW$3","v":"WORK EXP."},null,null,{"$f":"IF(OR(C2802=\"\",$I2781=\"NSO\"),\"\",VLOOKUP($A2776,'Result Entry'!$B$9:$DX$108,119,0))","v":"0/50"},null,{"$f":"IF(OR(C2802=\"\",$I2781=\"NSO\"),\"\",VLOOKUP($A2776,'Result Entry'!$B$9:$DX$108,81,0))","v":""}]
[null,null,{"$f":"'Result Entry'!$CE$3","v":"ART EDU."},null,null,{"$f":"IF(OR(C2803=\"\",$I2781=\"NSO\"),\"\",VLOOKUP($A2776,'Result Entry'!$B$9:$DX$108,123,0))","v":"0/50"},null,{"$f":"IF(OR(C2803=\"\",$I2781=\"NSO\"),\"\",VLOOKUP($A2776,'Result Entry'!$B$9:$DX$108,89,0))","v":""}]
[null,"◐",{"$f":"'Result Entry'!$CM$3","v":"H&P. EDU."},null,null,{"$f":"IF(OR(C2804=\"\",$I2781=\"NSO\"),\"\",VLOOKUP($A2776,'Result Entry'!$B$9:$DX$108,127,0))","v":"0/100"},null,{"$f":"IF(OR(C2804=\"\",$I2781=\"NSO\"),\"\",VLOOKUP($A2776,'Result Entry'!$B$9:$DX$108,97,0))","v":""},"Signature Of The Class Teacher"]
[null,"◐","Grading System"]
[null,"◐","Grd.","% Range",null,"Description"]
[null,"◐","A","86-100",null,"Excellent",null,null,"Signature And Seal Of Principal/H.M."]
[null,"◐","B","71-85",null,"Very Good"]
[null,"◐","C","51-70",null,"Good"]
[null,"◐","D","31-50",null,"Average"]
[null,"◐","E","0-30",null,"Needs Improvement",null,null,"Wish bright future"]
[]
[]
[{"$f":"A2776+1","v":75},"Department Of Education, Rajasthan"]
[null,{"$f":"IF(I2819>0,CONCATENATE(C2819,I2819),0)","v":0},null,{"$f":"Master!$E$8","v":"Govt.Sr.Sec.Sch. "}]
[{"$nulls":3},{"$f":"Master!$E$11","v":"P.S.-Bapini (Jodhpur)"}]
[null,null,"Report Card",{"$nulls":6},"U-DISE Code:-",null,{"$f":"Master!$E$14","v":{"v":810000000,"d":"0810000000"}}]
[{"$nulls":9},"Session:-",null,{"$f":"Master!$E$6","v":"2022-23"}]
[null,null,"Roll No.:-",{"$nulls":5},{"$f":"VLOOKUP($A2814,'Result Entry'!$B$9:$F$108,5,0)","v":0}]
[null,"◐","Scholar Number",{"$nulls":3},"↠",{"$f":"VLOOKUP($A2814,'Result Entry'!$B$9:$DX$108,3,0)","v":0}]
[null,"◐","Student's Name",{"$nulls":3},"↠",{"$f":"VLOOKUP($A2814,'Result Entry'!$B$9:$DX$108,6,0)","v":0}]
[null,"◐","Father's Name",{"$nulls":3},"↠",{"$f":"VLOOKUP($A2814,'Result Entry'!$B$9:$DX$108,7,0)","v":0}]
[null,"◐","Mother's Name ",{"$nulls":3},"↠",{"$f":"VLOOKUP($A2814,'Result Entry'!$B$9:$DX$108,8,0)","v":0}]
[null,"◐","Class & Section",{"$nulls":3},"↠",{"$f":"CONCATENATE('Result Entry'!$F$4,'Result Entry'!$I$4)","v":"2(A)"}]
[null,"◐","Date Of Birth",{"$nulls":3},"↠",{"$f":"VLOOKUP($A2814,'Result Entry'!$B$9:$DX$108,9,0)","v":"00:00:00"}]
[null,"◐","Subject",{"$nulls":4},"Half Yearly","Total (T+H.Y.)","Yearly","Grand Total",null,"Subject Grade"]
[null,"◐","Max. Marks",{"$nulls":4},{"$f":"'Result Entry'!$Q$7","v":100},{"$f":"G2827+H2827","v":100},{"$f":"'Result Entry'!$U$7","v":100},{"$f":"I2827+J2827","v":200},null,"A/B/C/D/E"]
[null,"◐",{"$f":"'Result Entry'!$K$3","v":"Hindi"},{"$nulls":4},{"$f":"IF(OR(C2828=\"\",$I2819=\"NSO\"),\"\",VLOOKUP($A2814,'Result Entry'!$B$9:$DX$108,16,0))","v":0},{"$f":"SUM(G2828,H2828)","v":0},{"$f":"IF(OR(C2828=\"\",$I2819=\"NSO\"),\"\",VLOOKUP($A2814,'Result Entry'!$B$9:$DX$108,20,0))","v":0},{"$f":"SUM(I2828,J2828)","v":0},null,{"$f":"IF(OR(C2828=\"\",$I2819=\"NSO\"),\"\",VLOOKUP($A2814,'Result Entry'!$B$9:$DX$108,23,0))","v":""}]
[null,"◐",{"$f":"'Result Entry'!$Y$3","v":"Mathematics"},{"$nulls":4},{"$f":"IF(OR(C2829=\"\",$I2819=\"NSO\"),\"\",VLOOKUP($A2814,'Result Entry'!$B$9:$DX$108,30,0))","v":0},{"$f":"SUM(G2829,H2829)","v":0},{"$f":"IF(OR(C2829=\"\",$I2819=\"NSO\"),\"\",VLOOKUP($A2814,'Result Entry'!$B$9:$DX$108,34,0))","v":0},{"$f":"SUM(I2829,J2829)","v":0},null,{"$f":"IF(OR(C2829=\"\",$I2819=\"NSO\"),\"\",VLOOKUP($A2814,'Result Entry'!$B$9:$DX$108,37,0))","v":""}]
[null,"◐",{"$f":"'Result Entry'!$BO$3","v":"Env. Study"},{"$nulls":4},{"$f":"IF(OR(C2830=\"\",$I2819=\"NSO\"),\"\",VLOOKUP($A2814,'Result Entry'!$B$9:$DX$108,66,0))","v":0},0,{"$f":"IF(OR(C2830=\"\",$I2819=\"NSO\"),\"\",VLOOKUP($A2814,'Result Entry'!$B$9:$DX$108,67,0))","v":0},0,null,{"$f":"IF(OR(C2830=\"\",$I2819=\"NSO\"),\"\",VLOOKUP($A2814,'Result Entry'!$B$9:$DX$108,73,0))","v":""}]
[null,"◐","Max. Marks",{"$nulls":4},{"$f":"'Result Entry'!$AS$7","v":50},50,{"$f":"'Result Entry'!$AW$7","v":50},100,null,"A/B/C/D/E"]
[null,"◐",{"$f":"'Result Entry'!$AM$3","v":"English"},{"$nulls":4},{"$f":"IF(OR(C2832=\"\",$I2819=\"NSO\"),\"\",VLOOKUP($A2814,'Result Entry'!$B$9:$DX$108,44,0))","v":0},0,{"$f":"IF(OR(C2832=\"\",$I2819=\"NSO\"),\"\",VLOOKUP($A2814,'Result Entry'!$B$9:$DX$108,48,0))","v":0},0,null,{"$f":"IF(OR(C2832=\"\",$I2819=\"NSO\"),\"\",VLOOKUP($A2814,'Result Entry'!$B$9:$DX$108,51,0))","v":""}]
[null,"◐"]
[null,"◐","Overall Result",null,null,"Total Max. Marks",null,"Total Obtained Marks",null,"Percentage","Overall Grade","Result","Position in Class"]
[null,"◐",{"$nulls":3},{"$f":"IF(OR($I2819=\"\",$I2819=\"NSO\"),\"\",VLOOKUP($A2814,'Result Entry'!$B$9:$DX$108,101,0))","v":500},null,{"$f":"IF(OR($I2819=\"\",$I2819=\"NSO\"),\"\",VLOOKUP($A2814,'Result Entry'!$B$9:$DX$108,102,0))","v":0},null,{"$f":"IF(OR($I2819=\"\",$I2819=\"NSO\"),\"\",VLOOKUP($A2814,'Result Entry'!$B$9:$DX$108,103,0))","v":{"v":0,"d":"0.00"}},{"$f":"IF(OR($I2819=\"\",$I2819=\"NSO\"),\"\",VLOOKUP($A2814,'Result Entry'!$B$9:$DX$108,104,0))","v":""},{"$f":"IF(OR($I2819=\"\",$I2819=\"NSO\"),\"\",VLOOKUP($A2814,'Result Entry'!$B$9:$DX$108,105,0))","v":""},{"$f":"IF(OR($I2819=\"\",$I2819=\"NSO\"),\"\",VLOOKUP($A2814,'Result Entry'!$B$9:$DX$108,107,0))","v":""}]
[null,"◐",{"$nulls":6},"Total Meetings :-",null,{"$f":"IF(OR($I2819=\"\",$I2819=\"NSO\"),\"\",VLOOKUP($A2814,'Result Entry'!$B$9:$DX$108,98,0))","v":0},"Attedance %"]
[null,"◐","Extra Subjects",{"$nulls":5},"Student's Meetings :-",null,{"$f":"IF(OR($I2819=\"\",$I2819=\"NSO\"),\"\",VLOOKUP($A2814,'Result Entry'!$B$9:$DX$108,99,0))","v":0},{"$f":"IF(OR($I2819=\"\",$I2819=\"NSO\"),\"\",VLOOKUP($A2814,'Result Entry'!$B$9:$DX$108,100,0))","v":""}]
[null,"◐","Subject",null,null,"Total Marks",null,"GRADE","Remark :-",null,{"$f":"IF(OR($I2819=\"\",$I2819=\"NSO\"),\"\",VLOOKUP($A2814,'Result Entry'!$B$9:$DX$108,108,0))","v":0}]
[null,"◐",{"$nulls":6},"Result Date :-",null,{"$f":"'Result Entry'!$T$2","v":"2023-05-24"}]
[null,"◐",{"$f":"'Result Entry'!$BW$3","v":"WORK EXP."},null,null,{"$f":"IF(OR(C2840=\"\",$I2819=\"NSO\"),\"\",VLOOKUP($A2814,'Result Entry'!$B$9:$DX$108,119,0))","v":"0/50"},null,{"$f":"IF(OR(C2840=\"\",$I2819=\"NSO\"),\"\",VLOOKUP($A2814,'Result Entry'!$B$9:$DX$108,81,0))","v":""}]
[null,null,{"$f":"'Result Entry'!$CE$3","v":"ART EDU."},null,null,{"$f":"IF(OR(C2841=\"\",$I2819=\"NSO\"),\"\",VLOOKUP($A2814,'Result Entry'!$B$9:$DX$108,123,0))","v":"0/50"},null,{"$f":"IF(OR(C2841=\"\",$I2819=\"NSO\"),\"\",VLOOKUP($A2814,'Result Entry'!$B$9:$DX$108,89,0))","v":""}]
[null,"◐",{"$f":"'Result Entry'!$CM$3","v":"H&P. EDU."},null,null,{"$f":"IF(OR(C2842=\"\",$I2819=\"NSO\"),\"\",VLOOKUP($A2814,'Result Entry'!$B$9:$DX$108,127,0))","v":"0/100"},null,{"$f":"IF(OR(C2842=\"\",$I2819=\"NSO\"),\"\",VLOOKUP($A2814,'Result Entry'!$B$9:$DX$108,97,0))","v":""},"Signature Of The Class Teacher"]
[null,"◐","Grading System"]
[null,"◐","Grd.","% Range",null,"Description"]
[null,"◐","A","86-100",null,"Excellent",null,null,"Signature And Seal Of Principal/H.M."]
[null,"◐","B","71-85",null,"Very Good"]
[null,"◐","C","51-70",null,"Good"]
[null,"◐","D","31-50",null,"Average"]
[null,"◐","E","0-30",null,"Needs Improvement",null,null,"Wish bright future"]
[]
[]
[{"$f":"A2814+1","v":76},"Department Of Education, Rajasthan"]
[null,{"$f":"IF(I2857>0,CONCATENATE(C2857,I2857),0)","v":0},null,{"$f":"Master!$E$8","v":"Govt.Sr.Sec.Sch. "}]
[{"$nulls":3},{"$f":"Master!$E$11","v":"P.S.-Bapini (Jodhpur)"}]
[null,null,"Report Card",{"$nulls":6},"U-DISE Code:-",null,{"$f":"Master!$E$14","v":{"v":810000000,"d":"0810000000"}}]
[{"$nulls":9},"Session:-",null,{"$f":"Master!$E$6","v":"2022-23"}]
[null,null,"Roll No.:-",{"$nulls":5},{"$f":"VLOOKUP($A2852,'Result Entry'!$B$9:$F$108,5,0)","v":0}]
[null,"◐","Scholar Number",{"$nulls":3},"↠",{"$f":"VLOOKUP($A2852,'Result Entry'!$B$9:$DX$108,3,0)","v":0}]
[null,"◐","Student's Name",{"$nulls":3},"↠",{"$f":"VLOOKUP($A2852,'Result Entry'!$B$9:$DX$108,6,0)","v":0}]
[null,"◐","Father's Name",{"$nulls":3},"↠",{"$f":"VLOOKUP($A2852,'Result Entry'!$B$9:$DX$108,7,0)","v":0}]
[null,"◐","Mother's Name ",{"$nulls":3},"↠",{"$f":"VLOOKUP($A2852,'Result Entry'!$B$9:$DX$108,8,0)","v":0}]
[null,"◐","Class & Section",{"$nulls":3},"↠",{"$f":"CONCATENATE('Result Entry'!$F$4,'Result Entry'!$I$4)","v":"2(A)"}]
[null,"◐","Date Of Birth",{"$nulls":3},"↠",{"$f":"VLOOKUP($A2852,'Result Entry'!$B$9:$DX$108,9,0)","v":"00:00:00"}]
[null,"◐","Subject",{"$nulls":4},"Half Yearly","Total (T+H.Y.)","Yearly","Grand Total",null,"Subject Grade"]
[null,"◐","Max. Marks",{"$nulls":4},{"$f":"'Result Entry'!$Q$7","v":100},{"$f":"G2865+H2865","v":100},{"$f":"'Result Entry'!$U$7","v":100},{"$f":"I2865+J2865","v":200},null,"A/B/C/D/E"]
[null,"◐",{"$f":"'Result Entry'!$K$3","v":"Hindi"},{"$nulls":4},{"$f":"IF(OR(C2866=\"\",$I2857=\"NSO\"),\"\",VLOOKUP($A2852,'Result Entry'!$B$9:$DX$108,16,0))","v":0},{"$f":"SUM(G2866,H2866)","v":0},{"$f":"IF(OR(C2866=\"\",$I2857=\"NSO\"),\"\",VLOOKUP($A2852,'Result Entry'!$B$9:$DX$108,20,0))","v":0},{"$f":"SUM(I2866,J2866)","v":0},null,{"$f":"IF(OR(C2866=\"\",$I2857=\"NSO\"),\"\",VLOOKUP($A2852,'Result Entry'!$B$9:$DX$108,23,0))","v":""}]
[null,"◐",{"$f":"'Result Entry'!$Y$3","v":"Mathematics"},{"$nulls":4},{"$f":"IF(OR(C2867=\"\",$I2857=\"NSO\"),\"\",VLOOKUP($A2852,'Result Entry'!$B$9:$DX$108,30,0))","v":0},{"$f":"SUM(G2867,H2867)","v":0},{"$f":"IF(OR(C2867=\"\",$I2857=\"NSO\"),\"\",VLOOKUP($A2852,'Result Entry'!$B$9:$DX$108,34,0))","v":0},{"$f":"SUM(I2867,J2867)","v":0},null,{"$f":"IF(OR(C2867=\"\",$I2857=\"NSO\"),\"\",VLOOKUP($A2852,'Result Entry'!$B$9:$DX$108,37,0))","v":""}]
[null,"◐",{"$f":"'Result Entry'!$BO$3","v":"Env. Study"},{"$nulls":4},{"$f":"IF(OR(C2868=\"\",$I2857=\"NSO\"),\"\",VLOOKUP($A2852,'Result Entry'!$B$9:$DX$108,66,0))","v":0},0,{"$f":"IF(OR(C2868=\"\",$I2857=\"NSO\"),\"\",VLOOKUP($A2852,'Result Entry'!$B$9:$DX$108,67,0))","v":0},0,null,{"$f":"IF(OR(C2868=\"\",$I2857=\"NSO\"),\"\",VLOOKUP($A2852,'Result Entry'!$B$9:$DX$108,73,0))","v":""}]
[null,"◐","Max. Marks",{"$nulls":4},{"$f":"'Result Entry'!$AS$7","v":50},50,{"$f":"'Result Entry'!$AW$7","v":50},100,null,"A/B/C/D/E"]
[null,"◐",{"$f":"'Result Entry'!$AM$3","v":"English"},{"$nulls":4},{"$f":"IF(OR(C2870=\"\",$I2857=\"NSO\"),\"\",VLOOKUP($A2852,'Result Entry'!$B$9:$DX$108,44,0))","v":0},0,{"$f":"IF(OR(C2870=\"\",$I2857=\"NSO\"),\"\",VLOOKUP($A2852,'Result Entry'!$B$9:$DX$108,48,0))","v":0},0,null,{"$f":"IF(OR(C2870=\"\",$I2857=\"NSO\"),\"\",VLOOKUP($A2852,'Result Entry'!$B$9:$DX$108,51,0))","v":""}]
[null,"◐"]
[null,"◐","Overall Result",null,null,"Total Max. Marks",null,"Total Obtained Marks",null,"Percentage","Overall Grade","Result","Position in Class"]
[null,"◐",{"$nulls":3},{"$f":"IF(OR($I2857=\"\",$I2857=\"NSO\"),\"\",VLOOKUP($A2852,'Result Entry'!$B$9:$DX$108,101,0))","v":500},null,{"$f":"IF(OR($I2857=\"\",$I2857=\"NSO\"),\"\",VLOOKUP($A2852,'Result Entry'!$B$9:$DX$108,102,0))","v":0},null,{"$f":"IF(OR($I2857=\"\",$I2857=\"NSO\"),\"\",VLOOKUP($A2852,'Result Entry'!$B$9:$DX$108,103,0))","v":{"v":0,"d":"0.00"}},{"$f":"IF(OR($I2857=\"\",$I2857=\"NSO\"),\"\",VLOOKUP($A2852,'Result Entry'!$B$9:$DX$108,104,0))","v":""},{"$f":"IF(OR($I2857=\"\",$I2857=\"NSO\"),\"\",VLOOKUP($A2852,'Result Entry'!$B$9:$DX$108,105,0))","v":""},{"$f":"IF(OR($I2857=\"\",$I2857=\"NSO\"),\"\",VLOOKUP($A2852,'Result Entry'!$B$9:$DX$108,107,0))","v":""}]
[null,"◐",{"$nulls":6},"Total Meetings :-",null,{"$f":"IF(OR($I2857=\"\",$I2857=\"NSO\"),\"\",VLOOKUP($A2852,'Result Entry'!$B$9:$DX$108,98,0))","v":0},"Attedance %"]
[null,"◐","Extra Subjects",{"$nulls":5},"Student's Meetings :-",null,{"$f":"IF(OR($I2857=\"\",$I2857=\"NSO\"),\"\",VLOOKUP($A2852,'Result Entry'!$B$9:$DX$108,99,0))","v":0},{"$f":"IF(OR($I2857=\"\",$I2857=\"NSO\"),\"\",VLOOKUP($A2852,'Result Entry'!$B$9:$DX$108,100,0))","v":""}]
[null,"◐","Subject",null,null,"Total Marks",null,"GRADE","Remark :-",null,{"$f":"IF(OR($I2857=\"\",$I2857=\"NSO\"),\"\",VLOOKUP($A2852,'Result Entry'!$B$9:$DX$108,108,0))","v":0}]
[null,"◐",{"$nulls":6},"Result Date :-",null,{"$f":"'Result Entry'!$T$2","v":"2023-05-24"}]
[null,"◐",{"$f":"'Result Entry'!$BW$3","v":"WORK EXP."},null,null,{"$f":"IF(OR(C2878=\"\",$I2857=\"NSO\"),\"\",VLOOKUP($A2852,'Result Entry'!$B$9:$DX$108,119,0))","v":"0/50"},null,{"$f":"IF(OR(C2878=\"\",$I2857=\"NSO\"),\"\",VLOOKUP($A2852,'Result Entry'!$B$9:$DX$108,81,0))","v":""}]
[null,null,{"$f":"'Result Entry'!$CE$3","v":"ART EDU."},null,null,{"$f":"IF(OR(C2879=\"\",$I2857=\"NSO\"),\"\",VLOOKUP($A2852,'Result Entry'!$B$9:$DX$108,123,0))","v":"0/50"},null,{"$f":"IF(OR(C2879=\"\",$I2857=\"NSO\"),\"\",VLOOKUP($A2852,'Result Entry'!$B$9:$DX$108,89,0))","v":""}]
[null,"◐",{"$f":"'Result Entry'!$CM$3","v":"H&P. EDU."},null,null,{"$f":"IF(OR(C2880=\"\",$I2857=\"NSO\"),\"\",VLOOKUP($A2852,'Result Entry'!$B$9:$DX$108,127,0))","v":"0/100"},null,{"$f":"IF(OR(C2880=\"\",$I2857=\"NSO\"),\"\",VLOOKUP($A2852,'Result Entry'!$B$9:$DX$108,97,0))","v":""},"Signature Of The Class Teacher"]
[null,"◐","Grading System"]
[null,"◐","Grd.","% Range",null,"Description"]
[null,"◐","A","86-100",null,"Excellent",null,null,"Signature And Seal Of Principal/H.M."]
[null,"◐","B","71-85",null,"Very Good"]
[null,"◐","C","51-70",null,"Good"]
[null,"◐","D","31-50",null,"Average"]
[null,"◐","E","0-30",null,"Needs Improvement",null,null,"Wish bright future"]
[]
[]
[{"$f":"A2852+1","v":77},"Department Of Education, Rajasthan"]
[null,{"$f":"IF(I2895>0,CONCATENATE(C2895,I2895),0)","v":0},null,{"$f":"Master!$E$8","v":"Govt.Sr.Sec.Sch. "}]
[{"$nulls":3},{"$f":"Master!$E$11","v":"P.S.-Bapini (Jodhpur)"}]
[null,null,"Report Card",{"$nulls":6},"U-DISE Code:-",null,{"$f":"Master!$E$14","v":{"v":810000000,"d":"0810000000"}}]
[{"$nulls":9},"Session:-",null,{"$f":"Master!$E$6","v":"2022-23"}]
[null,null,"Roll No.:-",{"$nulls":5},{"$f":"VLOOKUP($A2890,'Result Entry'!$B$9:$F$108,5,0)","v":0}]
[null,"◐","Scholar Number",{"$nulls":3},"↠",{"$f":"VLOOKUP($A2890,'Result Entry'!$B$9:$DX$108,3,0)","v":0}]
[null,"◐","Student's Name",{"$nulls":3},"↠",{"$f":"VLOOKUP($A2890,'Result Entry'!$B$9:$DX$108,6,0)","v":0}]
[null,"◐","Father's Name",{"$nulls":3},"↠",{"$f":"VLOOKUP($A2890,'Result Entry'!$B$9:$DX$108,7,0)","v":0}]
[null,"◐","Mother's Name ",{"$nulls":3},"↠",{"$f":"VLOOKUP($A2890,'Result Entry'!$B$9:$DX$108,8,0)","v":0}]
[null,"◐","Class & Section",{"$nulls":3},"↠",{"$f":"CONCATENATE('Result Entry'!$F$4,'Result Entry'!$I$4)","v":"2(A)"}]
[null,"◐","Date Of Birth",{"$nulls":3},"↠",{"$f":"VLOOKUP($A2890,'Result Entry'!$B$9:$DX$108,9,0)","v":"00:00:00"}]
[null,"◐","Subject",{"$nulls":4},"Half Yearly","Total (T+H.Y.)","Yearly","Grand Total",null,"Subject Grade"]
[null,"◐","Max. Marks",{"$nulls":4},{"$f":"'Result Entry'!$Q$7","v":100},{"$f":"G2903+H2903","v":100},{"$f":"'Result Entry'!$U$7","v":100},{"$f":"I2903+J2903","v":200},null,"A/B/C/D/E"]
[null,"◐",{"$f":"'Result Entry'!$K$3","v":"Hindi"},{"$nulls":4},{"$f":"IF(OR(C2904=\"\",$I2895=\"NSO\"),\"\",VLOOKUP($A2890,'Result Entry'!$B$9:$DX$108,16,0))","v":0},{"$f":"SUM(G2904,H2904)","v":0},{"$f":"IF(OR(C2904=\"\",$I2895=\"NSO\"),\"\",VLOOKUP($A2890,'Result Entry'!$B$9:$DX$108,20,0))","v":0},{"$f":"SUM(I2904,J2904)","v":0},null,{"$f":"IF(OR(C2904=\"\",$I2895=\"NSO\"),\"\",VLOOKUP($A2890,'Result Entry'!$B$9:$DX$108,23,0))","v":""}]
[null,"◐",{"$f":"'Result Entry'!$Y$3","v":"Mathematics"},{"$nulls":4},{"$f":"IF(OR(C2905=\"\",$I2895=\"NSO\"),\"\",VLOOKUP($A2890,'Result Entry'!$B$9:$DX$108,30,0))","v":0},{"$f":"SUM(G2905,H2905)","v":0},{"$f":"IF(OR(C2905=\"\",$I2895=\"NSO\"),\"\",VLOOKUP($A2890,'Result Entry'!$B$9:$DX$108,34,0))","v":0},{"$f":"SUM(I2905,J2905)","v":0},null,{"$f":"IF(OR(C2905=\"\",$I2895=\"NSO\"),\"\",VLOOKUP($A2890,'Result Entry'!$B$9:$DX$108,37,0))","v":""}]
[null,"◐",{"$f":"'Result Entry'!$BO$3","v":"Env. Study"},{"$nulls":4},{"$f":"IF(OR(C2906=\"\",$I2895=\"NSO\"),\"\",VLOOKUP($A2890,'Result Entry'!$B$9:$DX$108,66,0))","v":0},0,{"$f":"IF(OR(C2906=\"\",$I2895=\"NSO\"),\"\",VLOOKUP($A2890,'Result Entry'!$B$9:$DX$108,67,0))","v":0},0,null,{"$f":"IF(OR(C2906=\"\",$I2895=\"NSO\"),\"\",VLOOKUP($A2890,'Result Entry'!$B$9:$DX$108,73,0))","v":""}]
[null,"◐","Max. Marks",{"$nulls":4},{"$f":"'Result Entry'!$AS$7","v":50},50,{"$f":"'Result Entry'!$AW$7","v":50},100,null,"A/B/C/D/E"]
[null,"◐",{"$f":"'Result Entry'!$AM$3","v":"English"},{"$nulls":4},{"$f":"IF(OR(C2908=\"\",$I2895=\"NSO\"),\"\",VLOOKUP($A2890,'Result Entry'!$B$9:$DX$108,44,0))","v":0},0,{"$f":"IF(OR(C2908=\"\",$I2895=\"NSO\"),\"\",VLOOKUP($A2890,'Result Entry'!$B$9:$DX$108,48,0))","v":0},0,null,{"$f":"IF(OR(C2908=\"\",$I2895=\"NSO\"),\"\",VLOOKUP($A2890,'Result Entry'!$B$9:$DX$108,51,0))","v":""}]
[null,"◐"]
[null,"◐","Overall Result",null,null,"Total Max. Marks",null,"Total Obtained Marks",null,"Percentage","Overall Grade","Result","Position in Class"]
[null,"◐",{"$nulls":3},{"$f":"IF(OR($I2895=\"\",$I2895=\"NSO\"),\"\",VLOOKUP($A2890,'Result Entry'!$B$9:$DX$108,101,0))","v":500},null,{"$f":"IF(OR($I2895=\"\",$I2895=\"NSO\"),\"\",VLOOKUP($A2890,'Result Entry'!$B$9:$DX$108,102,0))","v":0},null,{"$f":"IF(OR($I2895=\"\",$I2895=\"NSO\"),\"\",VLOOKUP($A2890,'Result Entry'!$B$9:$DX$108,103,0))","v":{"v":0,"d":"0.00"}},{"$f":"IF(OR($I2895=\"\",$I2895=\"NSO\"),\"\",VLOOKUP($A2890,'Result Entry'!$B$9:$DX$108,104,0))","v":""},{"$f":"IF(OR($I2895=\"\",$I2895=\"NSO\"),\"\",VLOOKUP($A2890,'Result Entry'!$B$9:$DX$108,105,0))","v":""},{"$f":"IF(OR($I2895=\"\",$I2895=\"NSO\"),\"\",VLOOKUP($A2890,'Result Entry'!$B$9:$DX$108,107,0))","v":""}]
[null,"◐",{"$nulls":6},"Total Meetings :-",null,{"$f":"IF(OR($I2895=\"\",$I2895=\"NSO\"),\"\",VLOOKUP($A2890,'Result Entry'!$B$9:$DX$108,98,0))","v":0},"Attedance %"]
[null,"◐","Extra Subjects",{"$nulls":5},"Student's Meetings :-",null,{"$f":"IF(OR($I2895=\"\",$I2895=\"NSO\"),\"\",VLOOKUP($A2890,'Result Entry'!$B$9:$DX$108,99,0))","v":0},{"$f":"IF(OR($I2895=\"\",$I2895=\"NSO\"),\"\",VLOOKUP($A2890,'Result Entry'!$B$9:$DX$108,100,0))","v":""}]
[null,"◐","Subject",null,null,"Total Marks",null,"GRADE","Remark :-",null,{"$f":"IF(OR($I2895=\"\",$I2895=\"NSO\"),\"\",VLOOKUP($A2890,'Result Entry'!$B$9:$DX$108,108,0))","v":0}]
[null,"◐",{"$nulls":6},"Result Date :-",null,{"$f":"'Result Entry'!$T$2","v":"2023-05-24"}]
[null,"◐",{"$f":"'Result Entry'!$BW$3","v":"WORK EXP."},null,null,{"$f":"IF(OR(C2916=\"\",$I2895=\"NSO\"),\"\",VLOOKUP($A2890,'Result Entry'!$B$9:$DX$108,119,0))","v":"0/50"},null,{"$f":"IF(OR(C2916=\"\",$I2895=\"NSO\"),\"\",VLOOKUP($A2890,'Result Entry'!$B$9:$DX$108,81,0))","v":""}]
[null,null,{"$f":"'Result Entry'!$CE$3","v":"ART EDU."},null,null,{"$f":"IF(OR(C2917=\"\",$I2895=\"NSO\"),\"\",VLOOKUP($A2890,'Result Entry'!$B$9:$DX$108,123,0))","v":"0/50"},null,{"$f":"IF(OR(C2917=\"\",$I2895=\"NSO\"),\"\",VLOOKUP($A2890,'Result Entry'!$B$9:$DX$108,89,0))","v":""}]
[null,"◐",{"$f":"'Result Entry'!$CM$3","v":"H&P. EDU."},null,null,{"$f":"IF(OR(C2918=\"\",$I2895=\"NSO\"),\"\",VLOOKUP($A2890,'Result Entry'!$B$9:$DX$108,127,0))","v":"0/100"},null,{"$f":"IF(OR(C2918=\"\",$I2895=\"NSO\"),\"\",VLOOKUP($A2890,'Result Entry'!$B$9:$DX$108,97,0))","v":""},"Signature Of The Class Teacher"]
[null,"◐","Grading System"]
[null,"◐","Grd.","% Range",null,"Description"]
[null,"◐","A","86-100",null,"Excellent",null,null,"Signature And Seal Of Principal/H.M."]
[null,"◐","B","71-85",null,"Very Good"]
[null,"◐","C","51-70",null,"Good"]
[null,"◐","D","31-50",null,"Average"]
[null,"◐","E","0-30",null,"Needs Improvement",null,null,"Wish bright future"]
[]
[]
[{"$f":"A2890+1","v":78},"Department Of Education, Rajasthan"]
[null,{"$f":"IF(I2933>0,CONCATENATE(C2933,I2933),0)","v":0},null,{"$f":"Master!$E$8","v":"Govt.Sr.Sec.Sch. "}]
[{"$nulls":3},{"$f":"Master!$E$11","v":"P.S.-Bapini (Jodhpur)"}]
[null,null,"Report Card",{"$nulls":6},"U-DISE Code:-",null,{"$f":"Master!$E$14","v":{"v":810000000,"d":"0810000000"}}]
[{"$nulls":9},"Session:-",null,{"$f":"Master!$E$6","v":"2022-23"}]
[null,null,"Roll No.:-",{"$nulls":5},{"$f":"VLOOKUP($A2928,'Result Entry'!$B$9:$F$108,5,0)","v":0}]
[null,"◐","Scholar Number",{"$nulls":3},"↠",{"$f":"VLOOKUP($A2928,'Result Entry'!$B$9:$DX$108,3,0)","v":0}]
[null,"◐","Student's Name",{"$nulls":3},"↠",{"$f":"VLOOKUP($A2928,'Result Entry'!$B$9:$DX$108,6,0)","v":0}]
[null,"◐","Father's Name",{"$nulls":3},"↠",{"$f":"VLOOKUP($A2928,'Result Entry'!$B$9:$DX$108,7,0)","v":0}]
[null,"◐","Mother's Name ",{"$nulls":3},"↠",{"$f":"VLOOKUP($A2928,'Result Entry'!$B$9:$DX$108,8,0)","v":0}]
[null,"◐","Class & Section",{"$nulls":3},"↠",{"$f":"CONCATENATE('Result Entry'!$F$4,'Result Entry'!$I$4)","v":"2(A)"}]
[null,"◐","Date Of Birth",{"$nulls":3},"↠",{"$f":"VLOOKUP($A2928,'Result Entry'!$B$9:$DX$108,9,0)","v":"00:00:00"}]
[null,"◐","Subject",{"$nulls":4},"Half Yearly","Total (T+H.Y.)","Yearly","Grand Total",null,"Subject Grade"]
[null,"◐","Max. Marks",{"$nulls":4},{"$f":"'Result Entry'!$Q$7","v":100},{"$f":"G2941+H2941","v":100},{"$f":"'Result Entry'!$U$7","v":100},{"$f":"I2941+J2941","v":200},null,"A/B/C/D/E"]
[null,"◐",{"$f":"'Result Entry'!$K$3","v":"Hindi"},{"$nulls":4},{"$f":"IF(OR(C2942=\"\",$I2933=\"NSO\"),\"\",VLOOKUP($A2928,'Result Entry'!$B$9:$DX$108,16,0))","v":0},{"$f":"SUM(G2942,H2942)","v":0},{"$f":"IF(OR(C2942=\"\",$I2933=\"NSO\"),\"\",VLOOKUP($A2928,'Result Entry'!$B$9:$DX$108,20,0))","v":0},{"$f":"SUM(I2942,J2942)","v":0},null,{"$f":"IF(OR(C2942=\"\",$I2933=\"NSO\"),\"\",VLOOKUP($A2928,'Result Entry'!$B$9:$DX$108,23,0))","v":""}]
[null,"◐",{"$f":"'Result Entry'!$Y$3","v":"Mathematics"},{"$nulls":4},{"$f":"IF(OR(C2943=\"\",$I2933=\"NSO\"),\"\",VLOOKUP($A2928,'Result Entry'!$B$9:$DX$108,30,0))","v":0},{"$f":"SUM(G2943,H2943)","v":0},{"$f":"IF(OR(C2943=\"\",$I2933=\"NSO\"),\"\",VLOOKUP($A2928,'Result Entry'!$B$9:$DX$108,34,0))","v":0},{"$f":"SUM(I2943,J2943)","v":0},null,{"$f":"IF(OR(C2943=\"\",$I2933=\"NSO\"),\"\",VLOOKUP($A2928,'Result Entry'!$B$9:$DX$108,37,0))","v":""}]
[null,"◐",{"$f":"'Result Entry'!$BO$3","v":"Env. Study"},{"$nulls":4},{"$f":"IF(OR(C2944=\"\",$I2933=\"NSO\"),\"\",VLOOKUP($A2928,'Result Entry'!$B$9:$DX$108,66,0))","v":0},0,{"$f":"IF(OR(C2944=\"\",$I2933=\"NSO\"),\"\",VLOOKUP($A2928,'Result Entry'!$B$9:$DX$108,67,0))","v":0},0,null,{"$f":"IF(OR(C2944=\"\",$I2933=\"NSO\"),\"\",VLOOKUP($A2928,'Result Entry'!$B$9:$DX$108,73,0))","v":""}]
[null,"◐","Max. Marks",{"$nulls":4},{"$f":"'Result Entry'!$AS$7","v":50},50,{"$f":"'Result Entry'!$AW$7","v":50},100,null,"A/B/C/D/E"]
[null,"◐",{"$f":"'Result Entry'!$AM$3","v":"English"},{"$nulls":4},{"$f":"IF(OR(C2946=\"\",$I2933=\"NSO\"),\"\",VLOOKUP($A2928,'Result Entry'!$B$9:$DX$108,44,0))","v":0},0,{"$f":"IF(OR(C2946=\"\",$I2933=\"NSO\"),\"\",VLOOKUP($A2928,'Result Entry'!$B$9:$DX$108,48,0))","v":0},0,null,{"$f":"IF(OR(C2946=\"\",$I2933=\"NSO\"),\"\",VLOOKUP($A2928,'Result Entry'!$B$9:$DX$108,51,0))","v":""}]
[null,"◐"]
[null,"◐","Overall Result",null,null,"Total Max. Marks",null,"Total Obtained Marks",null,"Percentage","Overall Grade","Result","Position in Class"]
[null,"◐",{"$nulls":3},{"$f":"IF(OR($I2933=\"\",$I2933=\"NSO\"),\"\",VLOOKUP($A2928,'Result Entry'!$B$9:$DX$108,101,0))","v":500},null,{"$f":"IF(OR($I2933=\"\",$I2933=\"NSO\"),\"\",VLOOKUP($A2928,'Result Entry'!$B$9:$DX$108,102,0))","v":0},null,{"$f":"IF(OR($I2933=\"\",$I2933=\"NSO\"),\"\",VLOOKUP($A2928,'Result Entry'!$B$9:$DX$108,103,0))","v":{"v":0,"d":"0.00"}},{"$f":"IF(OR($I2933=\"\",$I2933=\"NSO\"),\"\",VLOOKUP($A2928,'Result Entry'!$B$9:$DX$108,104,0))","v":""},{"$f":"IF(OR($I2933=\"\",$I2933=\"NSO\"),\"\",VLOOKUP($A2928,'Result Entry'!$B$9:$DX$108,105,0))","v":""},{"$f":"IF(OR($I2933=\"\",$I2933=\"NSO\"),\"\",VLOOKUP($A2928,'Result Entry'!$B$9:$DX$108,107,0))","v":""}]
[null,"◐",{"$nulls":6},"Total Meetings :-",null,{"$f":"IF(OR($I2933=\"\",$I2933=\"NSO\"),\"\",VLOOKUP($A2928,'Result Entry'!$B$9:$DX$108,98,0))","v":0},"Attedance %"]
[null,"◐","Extra Subjects",{"$nulls":5},"Student's Meetings :-",null,{"$f":"IF(OR($I2933=\"\",$I2933=\"NSO\"),\"\",VLOOKUP($A2928,'Result Entry'!$B$9:$DX$108,99,0))","v":0},{"$f":"IF(OR($I2933=\"\",$I2933=\"NSO\"),\"\",VLOOKUP($A2928,'Result Entry'!$B$9:$DX$108,100,0))","v":""}]
[null,"◐","Subject",null,null,"Total Marks",null,"GRADE","Remark :-",null,{"$f":"IF(OR($I2933=\"\",$I2933=\"NSO\"),\"\",VLOOKUP($A2928,'Result Entry'!$B$9:$DX$108,108,0))","v":0}]
[null,"◐",{"$nulls":6},"Result Date :-",null,{"$f":"'Result Entry'!$T$2","v":"2023-05-24"}]
[null,"◐",{"$f":"'Result Entry'!$BW$3","v":"WORK EXP."},null,null,{"$f":"IF(OR(C2954=\"\",$I2933=\"NSO\"),\"\",VLOOKUP($A2928,'Result Entry'!$B$9:$DX$108,119,0))","v":"0/50"},null,{"$f":"IF(OR(C2954=\"\",$I2933=\"NSO\"),\"\",VLOOKUP($A2928,'Result Entry'!$B$9:$DX$108,81,0))","v":""}]
[null,null,{"$f":"'Result Entry'!$CE$3","v":"ART EDU."},null,null,{"$f":"IF(OR(C2955=\"\",$I2933=\"NSO\"),\"\",VLOOKUP($A2928,'Result Entry'!$B$9:$DX$108,123,0))","v":"0/50"},null,{"$f":"IF(OR(C2955=\"\",$I2933=\"NSO\"),\"\",VLOOKUP($A2928,'Result Entry'!$B$9:$DX$108,89,0))","v":""}]
[null,"◐",{"$f":"'Result Entry'!$CM$3","v":"H&P. EDU."},null,null,{"$f":"IF(OR(C2956=\"\",$I2933=\"NSO\"),\"\",VLOOKUP($A2928,'Result Entry'!$B$9:$DX$108,127,0))","v":"0/100"},null,{"$f":"IF(OR(C2956=\"\",$I2933=\"NSO\"),\"\",VLOOKUP($A2928,'Result Entry'!$B$9:$DX$108,97,0))","v":""},"Signature Of The Class Teacher"]
[null,"◐","Grading System"]
[null,"◐","Grd.","% Range",null,"Description"]
[null,"◐","A","86-100",null,"Excellent",null,null,"Signature And Seal Of Principal/H.M."]
[null,"◐","B","71-85",null,"Very Good"]
[null,"◐","C","51-70",null,"Good"]
[null,"◐","D","31-50",null,"Average"]
[null,"◐","E","0-30",null,"Needs Improvement",null,null,"Wish bright future"]
[]
[]
[{"$f":"A2928+1","v":79},"Department Of Education, Rajasthan"]
[null,{"$f":"IF(I2971>0,CONCATENATE(C2971,I2971),0)","v":0},null,{"$f":"Master!$E$8","v":"Govt.Sr.Sec.Sch. "}]
[{"$nulls":3},{"$f":"Master!$E$11","v":"P.S.-Bapini (Jodhpur)"}]
[null,null,"Report Card",{"$nulls":6},"U-DISE Code:-",null,{"$f":"Master!$E$14","v":{"v":810000000,"d":"0810000000"}}]
[{"$nulls":9},"Session:-",null,{"$f":"Master!$E$6","v":"2022-23"}]
[null,null,"Roll No.:-",{"$nulls":5},{"$f":"VLOOKUP($A2966,'Result Entry'!$B$9:$F$108,5,0)","v":0}]
[null,"◐","Scholar Number",{"$nulls":3},"↠",{"$f":"VLOOKUP($A2966,'Result Entry'!$B$9:$DX$108,3,0)","v":0}]
[null,"◐","Student's Name",{"$nulls":3},"↠",{"$f":"VLOOKUP($A2966,'Result Entry'!$B$9:$DX$108,6,0)","v":0}]
[null,"◐","Father's Name",{"$nulls":3},"↠",{"$f":"VLOOKUP($A2966,'Result Entry'!$B$9:$DX$108,7,0)","v":0}]
[null,"◐","Mother's Name ",{"$nulls":3},"↠",{"$f":"VLOOKUP($A2966,'Result Entry'!$B$9:$DX$108,8,0)","v":0}]
[null,"◐","Class & Section",{"$nulls":3},"↠",{"$f":"CONCATENATE('Result Entry'!$F$4,'Result Entry'!$I$4)","v":"2(A)"}]
[null,"◐","Date Of Birth",{"$nulls":3},"↠",{"$f":"VLOOKUP($A2966,'Result Entry'!$B$9:$DX$108,9,0)","v":"00:00:00"}]
[null,"◐","Subject",{"$nulls":4},"Half Yearly","Total (T+H.Y.)","Yearly","Grand Total",null,"Subject Grade"]
[null,"◐","Max. Marks",{"$nulls":4},{"$f":"'Result Entry'!$Q$7","v":100},{"$f":"G2979+H2979","v":100},{"$f":"'Result Entry'!$U$7","v":100},{"$f":"I2979+J2979","v":200},null,"A/B/C/D/E"]
[null,"◐",{"$f":"'Result Entry'!$K$3","v":"Hindi"},{"$nulls":4},{"$f":"IF(OR(C2980=\"\",$I2971=\"NSO\"),\"\",VLOOKUP($A2966,'Result Entry'!$B$9:$DX$108,16,0))","v":0},{"$f":"SUM(G2980,H2980)","v":0},{"$f":"IF(OR(C2980=\"\",$I2971=\"NSO\"),\"\",VLOOKUP($A2966,'Result Entry'!$B$9:$DX$108,20,0))","v":0},{"$f":"SUM(I2980,J2980)","v":0},null,{"$f":"IF(OR(C2980=\"\",$I2971=\"NSO\"),\"\",VLOOKUP($A2966,'Result Entry'!$B$9:$DX$108,23,0))","v":""}]
[null,"◐",{"$f":"'Result Entry'!$Y$3","v":"Mathematics"},{"$nulls":4},{"$f":"IF(OR(C2981=\"\",$I2971=\"NSO\"),\"\",VLOOKUP($A2966,'Result Entry'!$B$9:$DX$108,30,0))","v":0},{"$f":"SUM(G2981,H2981)","v":0},{"$f":"IF(OR(C2981=\"\",$I2971=\"NSO\"),\"\",VLOOKUP($A2966,'Result Entry'!$B$9:$DX$108,34,0))","v":0},{"$f":"SUM(I2981,J2981)","v":0},null,{"$f":"IF(OR(C2981=\"\",$I2971=\"NSO\"),\"\",VLOOKUP($A2966,'Result Entry'!$B$9:$DX$108,37,0))","v":""}]
[null,"◐",{"$f":"'Result Entry'!$BO$3","v":"Env. Study"},{"$nulls":4},{"$f":"IF(OR(C2982=\"\",$I2971=\"NSO\"),\"\",VLOOKUP($A2966,'Result Entry'!$B$9:$DX$108,66,0))","v":0},0,{"$f":"IF(OR(C2982=\"\",$I2971=\"NSO\"),\"\",VLOOKUP($A2966,'Result Entry'!$B$9:$DX$108,67,0))","v":0},0,null,{"$f":"IF(OR(C2982=\"\",$I2971=\"NSO\"),\"\",VLOOKUP($A2966,'Result Entry'!$B$9:$DX$108,73,0))","v":""}]
[null,"◐","Max. Marks",{"$nulls":4},{"$f":"'Result Entry'!$AS$7","v":50},50,{"$f":"'Result Entry'!$AW$7","v":50},100,null,"A/B/C/D/E"]
[null,"◐",{"$f":"'Result Entry'!$AM$3","v":"English"},{"$nulls":4},{"$f":"IF(OR(C2984=\"\",$I2971=\"NSO\"),\"\",VLOOKUP($A2966,'Result Entry'!$B$9:$DX$108,44,0))","v":0},0,{"$f":"IF(OR(C2984=\"\",$I2971=\"NSO\"),\"\",VLOOKUP($A2966,'Result Entry'!$B$9:$DX$108,48,0))","v":0},0,null,{"$f":"IF(OR(C2984=\"\",$I2971=\"NSO\"),\"\",VLOOKUP($A2966,'Result Entry'!$B$9:$DX$108,51,0))","v":""}]
[null,"◐"]
[null,"◐","Overall Result",null,null,"Total Max. Marks",null,"Total Obtained Marks",null,"Percentage","Overall Grade","Result","Position in Class"]
[null,"◐",{"$nulls":3},{"$f":"IF(OR($I2971=\"\",$I2971=\"NSO\"),\"\",VLOOKUP($A2966,'Result Entry'!$B$9:$DX$108,101,0))","v":500},null,{"$f":"IF(OR($I2971=\"\",$I2971=\"NSO\"),\"\",VLOOKUP($A2966,'Result Entry'!$B$9:$DX$108,102,0))","v":0},null,{"$f":"IF(OR($I2971=\"\",$I2971=\"NSO\"),\"\",VLOOKUP($A2966,'Result Entry'!$B$9:$DX$108,103,0))","v":{"v":0,"d":"0.00"}},{"$f":"IF(OR($I2971=\"\",$I2971=\"NSO\"),\"\",VLOOKUP($A2966,'Result Entry'!$B$9:$DX$108,104,0))","v":""},{"$f":"IF(OR($I2971=\"\",$I2971=\"NSO\"),\"\",VLOOKUP($A2966,'Result Entry'!$B$9:$DX$108,105,0))","v":""},{"$f":"IF(OR($I2971=\"\",$I2971=\"NSO\"),\"\",VLOOKUP($A2966,'Result Entry'!$B$9:$DX$108,107,0))","v":""}]
[null,"◐",{"$nulls":6},"Total Meetings :-",null,{"$f":"IF(OR($I2971=\"\",$I2971=\"NSO\"),\"\",VLOOKUP($A2966,'Result Entry'!$B$9:$DX$108,98,0))","v":0},"Attedance %"]
[null,"◐","Extra Subjects",{"$nulls":5},"Student's Meetings :-",null,{"$f":"IF(OR($I2971=\"\",$I2971=\"NSO\"),\"\",VLOOKUP($A2966,'Result Entry'!$B$9:$DX$108,99,0))","v":0},{"$f":"IF(OR($I2971=\"\",$I2971=\"NSO\"),\"\",VLOOKUP($A2966,'Result Entry'!$B$9:$DX$108,100,0))","v":""}]
[null,"◐","Subject",null,null,"Total Marks",null,"GRADE","Remark :-",null,{"$f":"IF(OR($I2971=\"\",$I2971=\"NSO\"),\"\",VLOOKUP($A2966,'Result Entry'!$B$9:$DX$108,108,0))","v":0}]
[null,"◐",{"$nulls":6},"Result Date :-",null,{"$f":"'Result Entry'!$T$2","v":"2023-05-24"}]
[null,"◐",{"$f":"'Result Entry'!$BW$3","v":"WORK EXP."},null,null,{"$f":"IF(OR(C2992=\"\",$I2971=\"NSO\"),\"\",VLOOKUP($A2966,'Result Entry'!$B$9:$DX$108,119,0))","v":"0/50"},null,{"$f":"IF(OR(C2992=\"\",$I2971=\"NSO\"),\"\",VLOOKUP($A2966,'Result Entry'!$B$9:$DX$108,81,0))","v":""}]
[null,null,{"$f":"'Result Entry'!$CE$3","v":"ART EDU."},null,null,{"$f":"IF(OR(C2993=\"\",$I2971=\"NSO\"),\"\",VLOOKUP($A2966,'Result Entry'!$B$9:$DX$108,123,0))","v":"0/50"},null,{"$f":"IF(OR(C2993=\"\",$I2971=\"NSO\"),\"\",VLOOKUP($A2966,'Result Entry'!$B$9:$DX$108,89,0))","v":""}]
[null,"◐",{"$f":"'Result Entry'!$CM$3","v":"H&P. EDU."},null,null,{"$f":"IF(OR(C2994=\"\",$I2971=\"NSO\"),\"\",VLOOKUP($A2966,'Result Entry'!$B$9:$DX$108,127,0))","v":"0/100"},null,{"$f":"IF(OR(C2994=\"\",$I2971=\"NSO\"),\"\",VLOOKUP($A2966,'Result Entry'!$B$9:$DX$108,97,0))","v":""},"Signature Of The Class Teacher"]
[null,"◐","Grading System"]
[null,"◐","Grd.","% Range",null,"Description"]
[null,"◐","A","86-100",null,"Excellent",null,null,"Signature And Seal Of Principal/H.M."]
[null,"◐","B","71-85",null,"Very Good"]
[null,"◐","C","51-70",null,"Good"]
[null,"◐","D","31-50",null,"Average"]
[null,"◐","E","0-30",null,"Needs Improvement",null,null,"Wish bright future"]
[]
[]
[{"$f":"A2966+1","v":80},"Department Of Education, Rajasthan"]
[null,{"$f":"IF(I3009>0,CONCATENATE(C3009,I3009),0)","v":0},null,{"$f":"Master!$E$8","v":"Govt.Sr.Sec.Sch. "}]
[{"$nulls":3},{"$f":"Master!$E$11","v":"P.S.-Bapini (Jodhpur)"}]
[null,null,"Report Card",{"$nulls":6},"U-DISE Code:-",null,{"$f":"Master!$E$14","v":{"v":810000000,"d":"0810000000"}}]
[{"$nulls":9},"Session:-",null,{"$f":"Master!$E$6","v":"2022-23"}]
[null,null,"Roll No.:-",{"$nulls":5},{"$f":"VLOOKUP($A3004,'Result Entry'!$B$9:$F$108,5,0)","v":0}]
[null,"◐","Scholar Number",{"$nulls":3},"↠",{"$f":"VLOOKUP($A3004,'Result Entry'!$B$9:$DX$108,3,0)","v":0}]
[null,"◐","Student's Name",{"$nulls":3},"↠",{"$f":"VLOOKUP($A3004,'Result Entry'!$B$9:$DX$108,6,0)","v":0}]
[null,"◐","Father's Name",{"$nulls":3},"↠",{"$f":"VLOOKUP($A3004,'Result Entry'!$B$9:$DX$108,7,0)","v":0}]
[null,"◐","Mother's Name ",{"$nulls":3},"↠",{"$f":"VLOOKUP($A3004,'Result Entry'!$B$9:$DX$108,8,0)","v":0}]
[null,"◐","Class & Section",{"$nulls":3},"↠",{"$f":"CONCATENATE('Result Entry'!$F$4,'Result Entry'!$I$4)","v":"2(A)"}]
[null,"◐","Date Of Birth",{"$nulls":3},"↠",{"$f":"VLOOKUP($A3004,'Result Entry'!$B$9:$DX$108,9,0)","v":"00:00:00"}]
[null,"◐","Subject",{"$nulls":4},"Half Yearly","Total (T+H.Y.)","Yearly","Grand Total",null,"Subject Grade"]
[null,"◐","Max. Marks",{"$nulls":4},{"$f":"'Result Entry'!$Q$7","v":100},{"$f":"G3017+H3017","v":100},{"$f":"'Result Entry'!$U$7","v":100},{"$f":"I3017+J3017","v":200},null,"A/B/C/D/E"]
[null,"◐",{"$f":"'Result Entry'!$K$3","v":"Hindi"},{"$nulls":4},{"$f":"IF(OR(C3018=\"\",$I3009=\"NSO\"),\"\",VLOOKUP($A3004,'Result Entry'!$B$9:$DX$108,16,0))","v":0},{"$f":"SUM(G3018,H3018)","v":0},{"$f":"IF(OR(C3018=\"\",$I3009=\"NSO\"),\"\",VLOOKUP($A3004,'Result Entry'!$B$9:$DX$108,20,0))","v":0},{"$f":"SUM(I3018,J3018)","v":0},null,{"$f":"IF(OR(C3018=\"\",$I3009=\"NSO\"),\"\",VLOOKUP($A3004,'Result Entry'!$B$9:$DX$108,23,0))","v":""}]
[null,"◐",{"$f":"'Result Entry'!$Y$3","v":"Mathematics"},{"$nulls":4},{"$f":"IF(OR(C3019=\"\",$I3009=\"NSO\"),\"\",VLOOKUP($A3004,'Result Entry'!$B$9:$DX$108,30,0))","v":0},{"$f":"SUM(G3019,H3019)","v":0},{"$f":"IF(OR(C3019=\"\",$I3009=\"NSO\"),\"\",VLOOKUP($A3004,'Result Entry'!$B$9:$DX$108,34,0))","v":0},{"$f":"SUM(I3019,J3019)","v":0},null,{"$f":"IF(OR(C3019=\"\",$I3009=\"NSO\"),\"\",VLOOKUP($A3004,'Result Entry'!$B$9:$DX$108,37,0))","v":""}]
[null,"◐",{"$f":"'Result Entry'!$BO$3","v":"Env. Study"},{"$nulls":4},{"$f":"IF(OR(C3020=\"\",$I3009=\"NSO\"),\"\",VLOOKUP($A3004,'Result Entry'!$B$9:$DX$108,66,0))","v":0},0,{"$f":"IF(OR(C3020=\"\",$I3009=\"NSO\"),\"\",VLOOKUP($A3004,'Result Entry'!$B$9:$DX$108,67,0))","v":0},0,null,{"$f":"IF(OR(C3020=\"\",$I3009=\"NSO\"),\"\",VLOOKUP($A3004,'Result Entry'!$B$9:$DX$108,73,0))","v":""}]
[null,"◐","Max. Marks",{"$nulls":4},{"$f":"'Result Entry'!$AS$7","v":50},50,{"$f":"'Result Entry'!$AW$7","v":50},100,null,"A/B/C/D/E"]
[null,"◐",{"$f":"'Result Entry'!$AM$3","v":"English"},{"$nulls":4},{"$f":"IF(OR(C3022=\"\",$I3009=\"NSO\"),\"\",VLOOKUP($A3004,'Result Entry'!$B$9:$DX$108,44,0))","v":0},0,{"$f":"IF(OR(C3022=\"\",$I3009=\"NSO\"),\"\",VLOOKUP($A3004,'Result Entry'!$B$9:$DX$108,48,0))","v":0},0,null,{"$f":"IF(OR(C3022=\"\",$I3009=\"NSO\"),\"\",VLOOKUP($A3004,'Result Entry'!$B$9:$DX$108,51,0))","v":""}]
[null,"◐"]
[null,"◐","Overall Result",null,null,"Total Max. Marks",null,"Total Obtained Marks",null,"Percentage","Overall Grade","Result","Position in Class"]
[null,"◐",{"$nulls":3},{"$f":"IF(OR($I3009=\"\",$I3009=\"NSO\"),\"\",VLOOKUP($A3004,'Result Entry'!$B$9:$DX$108,101,0))","v":500},null,{"$f":"IF(OR($I3009=\"\",$I3009=\"NSO\"),\"\",VLOOKUP($A3004,'Result Entry'!$B$9:$DX$108,102,0))","v":0},null,{"$f":"IF(OR($I3009=\"\",$I3009=\"NSO\"),\"\",VLOOKUP($A3004,'Result Entry'!$B$9:$DX$108,103,0))","v":{"v":0,"d":"0.00"}},{"$f":"IF(OR($I3009=\"\",$I3009=\"NSO\"),\"\",VLOOKUP($A3004,'Result Entry'!$B$9:$DX$108,104,0))","v":""},{"$f":"IF(OR($I3009=\"\",$I3009=\"NSO\"),\"\",VLOOKUP($A3004,'Result Entry'!$B$9:$DX$108,105,0))","v":""},{"$f":"IF(OR($I3009=\"\",$I3009=\"NSO\"),\"\",VLOOKUP($A3004,'Result Entry'!$B$9:$DX$108,107,0))","v":""}]
[null,"◐",{"$nulls":6},"Total Meetings :-",null,{"$f":"IF(OR($I3009=\"\",$I3009=\"NSO\"),\"\",VLOOKUP($A3004,'Result Entry'!$B$9:$DX$108,98,0))","v":0},"Attedance %"]
[null,"◐","Extra Subjects",{"$nulls":5},"Student's Meetings :-",null,{"$f":"IF(OR($I3009=\"\",$I3009=\"NSO\"),\"\",VLOOKUP($A3004,'Result Entry'!$B$9:$DX$108,99,0))","v":0},{"$f":"IF(OR($I3009=\"\",$I3009=\"NSO\"),\"\",VLOOKUP($A3004,'Result Entry'!$B$9:$DX$108,100,0))","v":""}]
[null,"◐","Subject",null,null,"Total Marks",null,"GRADE","Remark :-",null,{"$f":"IF(OR($I3009=\"\",$I3009=\"NSO\"),\"\",VLOOKUP($A3004,'Result Entry'!$B$9:$DX$108,108,0))","v":0}]
[null,"◐",{"$nulls":6},"Result Date :-",null,{"$f":"'Result Entry'!$T$2","v":"2023-05-24"}]
[null,"◐",{"$f":"'Result Entry'!$BW$3","v":"WORK EXP."},null,null,{"$f":"IF(OR(C3030=\"\",$I3009=\"NSO\"),\"\",VLOOKUP($A3004,'Result Entry'!$B$9:$DX$108,119,0))","v":"0/50"},null,{"$f":"IF(OR(C3030=\"\",$I3009=\"NSO\"),\"\",VLOOKUP($A3004,'Result Entry'!$B$9:$DX$108,81,0))","v":""}]
[null,null,{"$f":"'Result Entry'!$CE$3","v":"ART EDU."},null,null,{"$f":"IF(OR(C3031=\"\",$I3009=\"NSO\"),\"\",VLOOKUP($A3004,'Result Entry'!$B$9:$DX$108,123,0))","v":"0/50"},null,{"$f":"IF(OR(C3031=\"\",$I3009=\"NSO\"),\"\",VLOOKUP($A3004,'Result Entry'!$B$9:$DX$108,89,0))","v":""}]
[null,"◐",{"$f":"'Result Entry'!$CM$3","v":"H&P. EDU."},null,null,{"$f":"IF(OR(C3032=\"\",$I3009=\"NSO\"),\"\",VLOOKUP($A3004,'Result Entry'!$B$9:$DX$108,127,0))","v":"0/100"},null,{"$f":"IF(OR(C3032=\"\",$I3009=\"NSO\"),\"\",VLOOKUP($A3004,'Result Entry'!$B$9:$DX$108,97,0))","v":""},"Signature Of The Class Teacher"]
[null,"◐","Grading System"]
[null,"◐","Grd.","% Range",null,"Description"]
[null,"◐","A","86-100",null,"Excellent",null,null,"Signature And Seal Of Principal/H.M."]
[null,"◐","B","71-85",null,"Very Good"]
[null,"◐","C","51-70",null,"Good"]
[null,"◐","D","31-50",null,"Average"]
[null,"◐","E","0-30",null,"Needs Improvement",null,null,"Wish bright future"]
[]
[]
[{"$f":"A3004+1","v":81},"Department Of Education, Rajasthan"]
[null,{"$f":"IF(I3047>0,CONCATENATE(C3047,I3047),0)","v":0},null,{"$f":"Master!$E$8","v":"Govt.Sr.Sec.Sch. "}]
[{"$nulls":3},{"$f":"Master!$E$11","v":"P.S.-Bapini (Jodhpur)"}]
[null,null,"Report Card",{"$nulls":6},"U-DISE Code:-",null,{"$f":"Master!$E$14","v":{"v":810000000,"d":"0810000000"}}]
[{"$nulls":9},"Session:-",null,{"$f":"Master!$E$6","v":"2022-23"}]
[null,null,"Roll No.:-",{"$nulls":5},{"$f":"VLOOKUP($A3042,'Result Entry'!$B$9:$F$108,5,0)","v":0}]
[null,"◐","Scholar Number",{"$nulls":3},"↠",{"$f":"VLOOKUP($A3042,'Result Entry'!$B$9:$DX$108,3,0)","v":0}]
[null,"◐","Student's Name",{"$nulls":3},"↠",{"$f":"VLOOKUP($A3042,'Result Entry'!$B$9:$DX$108,6,0)","v":0}]
[null,"◐","Father's Name",{"$nulls":3},"↠",{"$f":"VLOOKUP($A3042,'Result Entry'!$B$9:$DX$108,7,0)","v":0}]
[null,"◐","Mother's Name ",{"$nulls":3},"↠",{"$f":"VLOOKUP($A3042,'Result Entry'!$B$9:$DX$108,8,0)","v":0}]
[null,"◐","Class & Section",{"$nulls":3},"↠",{"$f":"CONCATENATE('Result Entry'!$F$4,'Result Entry'!$I$4)","v":"2(A)"}]
[null,"◐","Date Of Birth",{"$nulls":3},"↠",{"$f":"VLOOKUP($A3042,'Result Entry'!$B$9:$DX$108,9,0)","v":"00:00:00"}]
[null,"◐","Subject",{"$nulls":4},"Half Yearly","Total (T+H.Y.)","Yearly","Grand Total",null,"Subject Grade"]
[null,"◐","Max. Marks",{"$nulls":4},{"$f":"'Result Entry'!$Q$7","v":100},{"$f":"G3055+H3055","v":100},{"$f":"'Result Entry'!$U$7","v":100},{"$f":"I3055+J3055","v":200},null,"A/B/C/D/E"]
[null,"◐",{"$f":"'Result Entry'!$K$3","v":"Hindi"},{"$nulls":4},{"$f":"IF(OR(C3056=\"\",$I3047=\"NSO\"),\"\",VLOOKUP($A3042,'Result Entry'!$B$9:$DX$108,16,0))","v":0},{"$f":"SUM(G3056,H3056)","v":0},{"$f":"IF(OR(C3056=\"\",$I3047=\"NSO\"),\"\",VLOOKUP($A3042,'Result Entry'!$B$9:$DX$108,20,0))","v":0},{"$f":"SUM(I3056,J3056)","v":0},null,{"$f":"IF(OR(C3056=\"\",$I3047=\"NSO\"),\"\",VLOOKUP($A3042,'Result Entry'!$B$9:$DX$108,23,0))","v":""}]
[null,"◐",{"$f":"'Result Entry'!$Y$3","v":"Mathematics"},{"$nulls":4},{"$f":"IF(OR(C3057=\"\",$I3047=\"NSO\"),\"\",VLOOKUP($A3042,'Result Entry'!$B$9:$DX$108,30,0))","v":0},{"$f":"SUM(G3057,H3057)","v":0},{"$f":"IF(OR(C3057=\"\",$I3047=\"NSO\"),\"\",VLOOKUP($A3042,'Result Entry'!$B$9:$DX$108,34,0))","v":0},{"$f":"SUM(I3057,J3057)","v":0},null,{"$f":"IF(OR(C3057=\"\",$I3047=\"NSO\"),\"\",VLOOKUP($A3042,'Result Entry'!$B$9:$DX$108,37,0))","v":""}]
[null,"◐",{"$f":"'Result Entry'!$BO$3","v":"Env. Study"},{"$nulls":4},{"$f":"IF(OR(C3058=\"\",$I3047=\"NSO\"),\"\",VLOOKUP($A3042,'Result Entry'!$B$9:$DX$108,66,0))","v":0},0,{"$f":"IF(OR(C3058=\"\",$I3047=\"NSO\"),\"\",VLOOKUP($A3042,'Result Entry'!$B$9:$DX$108,67,0))","v":0},0,null,{"$f":"IF(OR(C3058=\"\",$I3047=\"NSO\"),\"\",VLOOKUP($A3042,'Result Entry'!$B$9:$DX$108,73,0))","v":""}]
[null,"◐","Max. Marks",{"$nulls":4},{"$f":"'Result Entry'!$AS$7","v":50},50,{"$f":"'Result Entry'!$AW$7","v":50},100,null,"A/B/C/D/E"]
[null,"◐",{"$f":"'Result Entry'!$AM$3","v":"English"},{"$nulls":4},{"$f":"IF(OR(C3060=\"\",$I3047=\"NSO\"),\"\",VLOOKUP($A3042,'Result Entry'!$B$9:$DX$108,44,0))","v":0},0,{"$f":"IF(OR(C3060=\"\",$I3047=\"NSO\"),\"\",VLOOKUP($A3042,'Result Entry'!$B$9:$DX$108,48,0))","v":0},0,null,{"$f":"IF(OR(C3060=\"\",$I3047=\"NSO\"),\"\",VLOOKUP($A3042,'Result Entry'!$B$9:$DX$108,51,0))","v":""}]
[null,"◐"]
[null,"◐","Overall Result",null,null,"Total Max. Marks",null,"Total Obtained Marks",null,"Percentage","Overall Grade","Result","Position in Class"]
[null,"◐",{"$nulls":3},{"$f":"IF(OR($I3047=\"\",$I3047=\"NSO\"),\"\",VLOOKUP($A3042,'Result Entry'!$B$9:$DX$108,101,0))","v":500},null,{"$f":"IF(OR($I3047=\"\",$I3047=\"NSO\"),\"\",VLOOKUP($A3042,'Result Entry'!$B$9:$DX$108,102,0))","v":0},null,{"$f":"IF(OR($I3047=\"\",$I3047=\"NSO\"),\"\",VLOOKUP($A3042,'Result Entry'!$B$9:$DX$108,103,0))","v":{"v":0,"d":"0.00"}},{"$f":"IF(OR($I3047=\"\",$I3047=\"NSO\"),\"\",VLOOKUP($A3042,'Result Entry'!$B$9:$DX$108,104,0))","v":""},{"$f":"IF(OR($I3047=\"\",$I3047=\"NSO\"),\"\",VLOOKUP($A3042,'Result Entry'!$B$9:$DX$108,105,0))","v":""},{"$f":"IF(OR($I3047=\"\",$I3047=\"NSO\"),\"\",VLOOKUP($A3042,'Result Entry'!$B$9:$DX$108,107,0))","v":""}]
[null,"◐",{"$nulls":6},"Total Meetings :-",null,{"$f":"IF(OR($I3047=\"\",$I3047=\"NSO\"),\"\",VLOOKUP($A3042,'Result Entry'!$B$9:$DX$108,98,0))","v":0},"Attedance %"]
[null,"◐","Extra Subjects",{"$nulls":5},"Student's Meetings :-",null,{"$f":"IF(OR($I3047=\"\",$I3047=\"NSO\"),\"\",VLOOKUP($A3042,'Result Entry'!$B$9:$DX$108,99,0))","v":0},{"$f":"IF(OR($I3047=\"\",$I3047=\"NSO\"),\"\",VLOOKUP($A3042,'Result Entry'!$B$9:$DX$108,100,0))","v":""}]
[null,"◐","Subject",null,null,"Total Marks",null,"GRADE","Remark :-",null,{"$f":"IF(OR($I3047=\"\",$I3047=\"NSO\"),\"\",VLOOKUP($A3042,'Result Entry'!$B$9:$DX$108,108,0))","v":0}]
[null,"◐",{"$nulls":6},"Result Date :-",null,{"$f":"'Result Entry'!$T$2","v":"2023-05-24"}]
[null,"◐",{"$f":"'Result Entry'!$BW$3","v":"WORK EXP."},null,null,{"$f":"IF(OR(C3068=\"\",$I3047=\"NSO\"),\"\",VLOOKUP($A3042,'Result Entry'!$B$9:$DX$108,119,0))","v":"0/50"},null,{"$f":"IF(OR(C3068=\"\",$I3047=\"NSO\"),\"\",VLOOKUP($A3042,'Result Entry'!$B$9:$DX$108,81,0))","v":""}]
[null,null,{"$f":"'Result Entry'!$CE$3","v":"ART EDU."},null,null,{"$f":"IF(OR(C3069=\"\",$I3047=\"NSO\"),\"\",VLOOKUP($A3042,'Result Entry'!$B$9:$DX$108,123,0))","v":"0/50"},null,{"$f":"IF(OR(C3069=\"\",$I3047=\"NSO\"),\"\",VLOOKUP($A3042,'Result Entry'!$B$9:$DX$108,89,0))","v":""}]
[null,"◐",{"$f":"'Result Entry'!$CM$3","v":"H&P. EDU."},null,null,{"$f":"IF(OR(C3070=\"\",$I3047=\"NSO\"),\"\",VLOOKUP($A3042,'Result Entry'!$B$9:$DX$108,127,0))","v":"0/100"},null,{"$f":"IF(OR(C3070=\"\",$I3047=\"NSO\"),\"\",VLOOKUP($A3042,'Result Entry'!$B$9:$DX$108,97,0))","v":""},"Signature Of The Class Teacher"]
[null,"◐","Grading System"]
[null,"◐","Grd.","% Range",null,"Description"]
[null,"◐","A","86-100",null,"Excellent",null,null,"Signature And Seal Of Principal/H.M."]
[null,"◐","B","71-85",null,"Very Good"]
[null,"◐","C","51-70",null,"Good"]
[null,"◐","D","31-50",null,"Average"]
[null,"◐","E","0-30",null,"Needs Improvement",null,null,"Wish bright future"]
[]
[]
[{"$f":"A3042+1","v":82},"Department Of Education, Rajasthan"]
[null,{"$f":"IF(I3085>0,CONCATENATE(C3085,I3085),0)","v":0},null,{"$f":"Master!$E$8","v":"Govt.Sr.Sec.Sch. "}]
[{"$nulls":3},{"$f":"Master!$E$11","v":"P.S.-Bapini (Jodhpur)"}]
[null,null,"Report Card",{"$nulls":6},"U-DISE Code:-",null,{"$f":"Master!$E$14","v":{"v":810000000,"d":"0810000000"}}]
[{"$nulls":9},"Session:-",null,{"$f":"Master!$E$6","v":"2022-23"}]
[null,null,"Roll No.:-",{"$nulls":5},{"$f":"VLOOKUP($A3080,'Result Entry'!$B$9:$F$108,5,0)","v":0}]
[null,"◐","Scholar Number",{"$nulls":3},"↠",{"$f":"VLOOKUP($A3080,'Result Entry'!$B$9:$DX$108,3,0)","v":0}]
[null,"◐","Student's Name",{"$nulls":3},"↠",{"$f":"VLOOKUP($A3080,'Result Entry'!$B$9:$DX$108,6,0)","v":0}]
[null,"◐","Father's Name",{"$nulls":3},"↠",{"$f":"VLOOKUP($A3080,'Result Entry'!$B$9:$DX$108,7,0)","v":0}]
[null,"◐","Mother's Name ",{"$nulls":3},"↠",{"$f":"VLOOKUP($A3080,'Result Entry'!$B$9:$DX$108,8,0)","v":0}]
[null,"◐","Class & Section",{"$nulls":3},"↠",{"$f":"CONCATENATE('Result Entry'!$F$4,'Result Entry'!$I$4)","v":"2(A)"}]
[null,"◐","Date Of Birth",{"$nulls":3},"↠",{"$f":"VLOOKUP($A3080,'Result Entry'!$B$9:$DX$108,9,0)","v":"00:00:00"}]
[null,"◐","Subject",{"$nulls":4},"Half Yearly","Total (T+H.Y.)","Yearly","Grand Total",null,"Subject Grade"]
[null,"◐","Max. Marks",{"$nulls":4},{"$f":"'Result Entry'!$Q$7","v":100},{"$f":"G3093+H3093","v":100},{"$f":"'Result Entry'!$U$7","v":100},{"$f":"I3093+J3093","v":200},null,"A/B/C/D/E"]
[null,"◐",{"$f":"'Result Entry'!$K$3","v":"Hindi"},{"$nulls":4},{"$f":"IF(OR(C3094=\"\",$I3085=\"NSO\"),\"\",VLOOKUP($A3080,'Result Entry'!$B$9:$DX$108,16,0))","v":0},{"$f":"SUM(G3094,H3094)","v":0},{"$f":"IF(OR(C3094=\"\",$I3085=\"NSO\"),\"\",VLOOKUP($A3080,'Result Entry'!$B$9:$DX$108,20,0))","v":0},{"$f":"SUM(I3094,J3094)","v":0},null,{"$f":"IF(OR(C3094=\"\",$I3085=\"NSO\"),\"\",VLOOKUP($A3080,'Result Entry'!$B$9:$DX$108,23,0))","v":""}]
[null,"◐",{"$f":"'Result Entry'!$Y$3","v":"Mathematics"},{"$nulls":4},{"$f":"IF(OR(C3095=\"\",$I3085=\"NSO\"),\"\",VLOOKUP($A3080,'Result Entry'!$B$9:$DX$108,30,0))","v":0},{"$f":"SUM(G3095,H3095)","v":0},{"$f":"IF(OR(C3095=\"\",$I3085=\"NSO\"),\"\",VLOOKUP($A3080,'Result Entry'!$B$9:$DX$108,34,0))","v":0},{"$f":"SUM(I3095,J3095)","v":0},null,{"$f":"IF(OR(C3095=\"\",$I3085=\"NSO\"),\"\",VLOOKUP($A3080,'Result Entry'!$B$9:$DX$108,37,0))","v":""}]
[null,"◐",{"$f":"'Result Entry'!$BO$3","v":"Env. Study"},{"$nulls":4},{"$f":"IF(OR(C3096=\"\",$I3085=\"NSO\"),\"\",VLOOKUP($A3080,'Result Entry'!$B$9:$DX$108,66,0))","v":0},0,{"$f":"IF(OR(C3096=\"\",$I3085=\"NSO\"),\"\",VLOOKUP($A3080,'Result Entry'!$B$9:$DX$108,67,0))","v":0},0,null,{"$f":"IF(OR(C3096=\"\",$I3085=\"NSO\"),\"\",VLOOKUP($A3080,'Result Entry'!$B$9:$DX$108,73,0))","v":""}]
[null,"◐","Max. Marks",{"$nulls":4},{"$f":"'Result Entry'!$AS$7","v":50},50,{"$f":"'Result Entry'!$AW$7","v":50},100,null,"A/B/C/D/E"]
[null,"◐",{"$f":"'Result Entry'!$AM$3","v":"English"},{"$nulls":4},{"$f":"IF(OR(C3098=\"\",$I3085=\"NSO\"),\"\",VLOOKUP($A3080,'Result Entry'!$B$9:$DX$108,44,0))","v":0},0,{"$f":"IF(OR(C3098=\"\",$I3085=\"NSO\"),\"\",VLOOKUP($A3080,'Result Entry'!$B$9:$DX$108,48,0))","v":0},0,null,{"$f":"IF(OR(C3098=\"\",$I3085=\"NSO\"),\"\",VLOOKUP($A3080,'Result Entry'!$B$9:$DX$108,51,0))","v":""}]
[null,"◐"]
[null,"◐","Overall Result",null,null,"Total Max. Marks",null,"Total Obtained Marks",null,"Percentage","Overall Grade","Result","Position in Class"]
[null,"◐",{"$nulls":3},{"$f":"IF(OR($I3085=\"\",$I3085=\"NSO\"),\"\",VLOOKUP($A3080,'Result Entry'!$B$9:$DX$108,101,0))","v":500},null,{"$f":"IF(OR($I3085=\"\",$I3085=\"NSO\"),\"\",VLOOKUP($A3080,'Result Entry'!$B$9:$DX$108,102,0))","v":0},null,{"$f":"IF(OR($I3085=\"\",$I3085=\"NSO\"),\"\",VLOOKUP($A3080,'Result Entry'!$B$9:$DX$108,103,0))","v":{"v":0,"d":"0.00"}},{"$f":"IF(OR($I3085=\"\",$I3085=\"NSO\"),\"\",VLOOKUP($A3080,'Result Entry'!$B$9:$DX$108,104,0))","v":""},{"$f":"IF(OR($I3085=\"\",$I3085=\"NSO\"),\"\",VLOOKUP($A3080,'Result Entry'!$B$9:$DX$108,105,0))","v":""},{"$f":"IF(OR($I3085=\"\",$I3085=\"NSO\"),\"\",VLOOKUP($A3080,'Result Entry'!$B$9:$DX$108,107,0))","v":""}]
[null,"◐",{"$nulls":6},"Total Meetings :-",null,{"$f":"IF(OR($I3085=\"\",$I3085=\"NSO\"),\"\",VLOOKUP($A3080,'Result Entry'!$B$9:$DX$108,98,0))","v":0},"Attedance %"]
[null,"◐","Extra Subjects",{"$nulls":5},"Student's Meetings :-",null,{"$f":"IF(OR($I3085=\"\",$I3085=\"NSO\"),\"\",VLOOKUP($A3080,'Result Entry'!$B$9:$DX$108,99,0))","v":0},{"$f":"IF(OR($I3085=\"\",$I3085=\"NSO\"),\"\",VLOOKUP($A3080,'Result Entry'!$B$9:$DX$108,100,0))","v":""}]
[null,"◐","Subject",null,null,"Total Marks",null,"GRADE","Remark :-",null,{"$f":"IF(OR($I3085=\"\",$I3085=\"NSO\"),\"\",VLOOKUP($A3080,'Result Entry'!$B$9:$DX$108,108,0))","v":0}]
[null,"◐",{"$nulls":6},"Result Date :-",null,{"$f":"'Result Entry'!$T$2","v":"2023-05-24"}]
[null,"◐",{"$f":"'Result Entry'!$BW$3","v":"WORK EXP."},null,null,{"$f":"IF(OR(C3106=\"\",$I3085=\"NSO\"),\"\",VLOOKUP($A3080,'Result Entry'!$B$9:$DX$108,119,0))","v":"0/50"},null,{"$f":"IF(OR(C3106=\"\",$I3085=\"NSO\"),\"\",VLOOKUP($A3080,'Result Entry'!$B$9:$DX$108,81,0))","v":""}]
[null,null,{"$f":"'Result Entry'!$CE$3","v":"ART EDU."},null,null,{"$f":"IF(OR(C3107=\"\",$I3085=\"NSO\"),\"\",VLOOKUP($A3080,'Result Entry'!$B$9:$DX$108,123,0))","v":"0/50"},null,{"$f":"IF(OR(C3107=\"\",$I3085=\"NSO\"),\"\",VLOOKUP($A3080,'Result Entry'!$B$9:$DX$108,89,0))","v":""}]
[null,"◐",{"$f":"'Result Entry'!$CM$3","v":"H&P. EDU."},null,null,{"$f":"IF(OR(C3108=\"\",$I3085=\"NSO\"),\"\",VLOOKUP($A3080,'Result Entry'!$B$9:$DX$108,127,0))","v":"0/100"},null,{"$f":"IF(OR(C3108=\"\",$I3085=\"NSO\"),\"\",VLOOKUP($A3080,'Result Entry'!$B$9:$DX$108,97,0))","v":""},"Signature Of The Class Teacher"]
[null,"◐","Grading System"]
[null,"◐","Grd.","% Range",null,"Description"]
[null,"◐","A","86-100",null,"Excellent",null,null,"Signature And Seal Of Principal/H.M."]
[null,"◐","B","71-85",null,"Very Good"]
[null,"◐","C","51-70",null,"Good"]
[null,"◐","D","31-50",null,"Average"]
[null,"◐","E","0-30",null,"Needs Improvement",null,null,"Wish bright future"]
[]
[]
[{"$f":"A3080+1","v":83},"Department Of Education, Rajasthan"]
[null,{"$f":"IF(I3123>0,CONCATENATE(C3123,I3123),0)","v":0},null,{"$f":"Master!$E$8","v":"Govt.Sr.Sec.Sch. "}]
[{"$nulls":3},{"$f":"Master!$E$11","v":"P.S.-Bapini (Jodhpur)"}]
[null,null,"Report Card",{"$nulls":6},"U-DISE Code:-",null,{"$f":"Master!$E$14","v":{"v":810000000,"d":"0810000000"}}]
[{"$nulls":9},"Session:-",null,{"$f":"Master!$E$6","v":"2022-23"}]
[null,null,"Roll No.:-",{"$nulls":5},{"$f":"VLOOKUP($A3118,'Result Entry'!$B$9:$F$108,5,0)","v":0}]
[null,"◐","Scholar Number",{"$nulls":3},"↠",{"$f":"VLOOKUP($A3118,'Result Entry'!$B$9:$DX$108,3,0)","v":0}]
[null,"◐","Student's Name",{"$nulls":3},"↠",{"$f":"VLOOKUP($A3118,'Result Entry'!$B$9:$DX$108,6,0)","v":0}]
[null,"◐","Father's Name",{"$nulls":3},"↠",{"$f":"VLOOKUP($A3118,'Result Entry'!$B$9:$DX$108,7,0)","v":0}]
[null,"◐","Mother's Name ",{"$nulls":3},"↠",{"$f":"VLOOKUP($A3118,'Result Entry'!$B$9:$DX$108,8,0)","v":0}]
[null,"◐","Class & Section",{"$nulls":3},"↠",{"$f":"CONCATENATE('Result Entry'!$F$4,'Result Entry'!$I$4)","v":"2(A)"}]
[null,"◐","Date Of Birth",{"$nulls":3},"↠",{"$f":"VLOOKUP($A3118,'Result Entry'!$B$9:$DX$108,9,0)","v":"00:00:00"}]
[null,"◐","Subject",{"$nulls":4},"Half Yearly","Total (T+H.Y.)","Yearly","Grand Total",null,"Subject Grade"]
[null,"◐","Max. Marks",{"$nulls":4},{"$f":"'Result Entry'!$Q$7","v":100},{"$f":"G3131+H3131","v":100},{"$f":"'Result Entry'!$U$7","v":100},{"$f":"I3131+J3131","v":200},null,"A/B/C/D/E"]
[null,"◐",{"$f":"'Result Entry'!$K$3","v":"Hindi"},{"$nulls":4},{"$f":"IF(OR(C3132=\"\",$I3123=\"NSO\"),\"\",VLOOKUP($A3118,'Result Entry'!$B$9:$DX$108,16,0))","v":0},{"$f":"SUM(G3132,H3132)","v":0},{"$f":"IF(OR(C3132=\"\",$I3123=\"NSO\"),\"\",VLOOKUP($A3118,'Result Entry'!$B$9:$DX$108,20,0))","v":0},{"$f":"SUM(I3132,J3132)","v":0},null,{"$f":"IF(OR(C3132=\"\",$I3123=\"NSO\"),\"\",VLOOKUP($A3118,'Result Entry'!$B$9:$DX$108,23,0))","v":""}]
[null,"◐",{"$f":"'Result Entry'!$Y$3","v":"Mathematics"},{"$nulls":4},{"$f":"IF(OR(C3133=\"\",$I3123=\"NSO\"),\"\",VLOOKUP($A3118,'Result Entry'!$B$9:$DX$108,30,0))","v":0},{"$f":"SUM(G3133,H3133)","v":0},{"$f":"IF(OR(C3133=\"\",$I3123=\"NSO\"),\"\",VLOOKUP($A3118,'Result Entry'!$B$9:$DX$108,34,0))","v":0},{"$f":"SUM(I3133,J3133)","v":0},null,{"$f":"IF(OR(C3133=\"\",$I3123=\"NSO\"),\"\",VLOOKUP($A3118,'Result Entry'!$B$9:$DX$108,37,0))","v":""}]
[null,"◐",{"$f":"'Result Entry'!$BO$3","v":"Env. Study"},{"$nulls":4},{"$f":"IF(OR(C3134=\"\",$I3123=\"NSO\"),\"\",VLOOKUP($A3118,'Result Entry'!$B$9:$DX$108,66,0))","v":0},0,{"$f":"IF(OR(C3134=\"\",$I3123=\"NSO\"),\"\",VLOOKUP($A3118,'Result Entry'!$B$9:$DX$108,67,0))","v":0},0,null,{"$f":"IF(OR(C3134=\"\",$I3123=\"NSO\"),\"\",VLOOKUP($A3118,'Result Entry'!$B$9:$DX$108,73,0))","v":""}]
[null,"◐","Max. Marks",{"$nulls":4},{"$f":"'Result Entry'!$AS$7","v":50},50,{"$f":"'Result Entry'!$AW$7","v":50},100,null,"A/B/C/D/E"]
[null,"◐",{"$f":"'Result Entry'!$AM$3","v":"English"},{"$nulls":4},{"$f":"IF(OR(C3136=\"\",$I3123=\"NSO\"),\"\",VLOOKUP($A3118,'Result Entry'!$B$9:$DX$108,44,0))","v":0},0,{"$f":"IF(OR(C3136=\"\",$I3123=\"NSO\"),\"\",VLOOKUP($A3118,'Result Entry'!$B$9:$DX$108,48,0))","v":0},0,null,{"$f":"IF(OR(C3136=\"\",$I3123=\"NSO\"),\"\",VLOOKUP($A3118,'Result Entry'!$B$9:$DX$108,51,0))","v":""}]
[null,"◐"]
[null,"◐","Overall Result",null,null,"Total Max. Marks",null,"Total Obtained Marks",null,"Percentage","Overall Grade","Result","Position in Class"]
[null,"◐",{"$nulls":3},{"$f":"IF(OR($I3123=\"\",$I3123=\"NSO\"),\"\",VLOOKUP($A3118,'Result Entry'!$B$9:$DX$108,101,0))","v":500},null,{"$f":"IF(OR($I3123=\"\",$I3123=\"NSO\"),\"\",VLOOKUP($A3118,'Result Entry'!$B$9:$DX$108,102,0))","v":0},null,{"$f":"IF(OR($I3123=\"\",$I3123=\"NSO\"),\"\",VLOOKUP($A3118,'Result Entry'!$B$9:$DX$108,103,0))","v":{"v":0,"d":"0.00"}},{"$f":"IF(OR($I3123=\"\",$I3123=\"NSO\"),\"\",VLOOKUP($A3118,'Result Entry'!$B$9:$DX$108,104,0))","v":""},{"$f":"IF(OR($I3123=\"\",$I3123=\"NSO\"),\"\",VLOOKUP($A3118,'Result Entry'!$B$9:$DX$108,105,0))","v":""},{"$f":"IF(OR($I3123=\"\",$I3123=\"NSO\"),\"\",VLOOKUP($A3118,'Result Entry'!$B$9:$DX$108,107,0))","v":""}]
[null,"◐",{"$nulls":6},"Total Meetings :-",null,{"$f":"IF(OR($I3123=\"\",$I3123=\"NSO\"),\"\",VLOOKUP($A3118,'Result Entry'!$B$9:$DX$108,98,0))","v":0},"Attedance %"]
[null,"◐","Extra Subjects",{"$nulls":5},"Student's Meetings :-",null,{"$f":"IF(OR($I3123=\"\",$I3123=\"NSO\"),\"\",VLOOKUP($A3118,'Result Entry'!$B$9:$DX$108,99,0))","v":0},{"$f":"IF(OR($I3123=\"\",$I3123=\"NSO\"),\"\",VLOOKUP($A3118,'Result Entry'!$B$9:$DX$108,100,0))","v":""}]
[null,"◐","Subject",null,null,"Total Marks",null,"GRADE","Remark :-",null,{"$f":"IF(OR($I3123=\"\",$I3123=\"NSO\"),\"\",VLOOKUP($A3118,'Result Entry'!$B$9:$DX$108,108,0))","v":0}]
[null,"◐",{"$nulls":6},"Result Date :-",null,{"$f":"'Result Entry'!$T$2","v":"2023-05-24"}]
[null,"◐",{"$f":"'Result Entry'!$BW$3","v":"WORK EXP."},null,null,{"$f":"IF(OR(C3144=\"\",$I3123=\"NSO\"),\"\",VLOOKUP($A3118,'Result Entry'!$B$9:$DX$108,119,0))","v":"0/50"},null,{"$f":"IF(OR(C3144=\"\",$I3123=\"NSO\"),\"\",VLOOKUP($A3118,'Result Entry'!$B$9:$DX$108,81,0))","v":""}]
[null,null,{"$f":"'Result Entry'!$CE$3","v":"ART EDU."},null,null,{"$f":"IF(OR(C3145=\"\",$I3123=\"NSO\"),\"\",VLOOKUP($A3118,'Result Entry'!$B$9:$DX$108,123,0))","v":"0/50"},null,{"$f":"IF(OR(C3145=\"\",$I3123=\"NSO\"),\"\",VLOOKUP($A3118,'Result Entry'!$B$9:$DX$108,89,0))","v":""}]
[null,"◐",{"$f":"'Result Entry'!$CM$3","v":"H&P. EDU."},null,null,{"$f":"IF(OR(C3146=\"\",$I3123=\"NSO\"),\"\",VLOOKUP($A3118,'Result Entry'!$B$9:$DX$108,127,0))","v":"0/100"},null,{"$f":"IF(OR(C3146=\"\",$I3123=\"NSO\"),\"\",VLOOKUP($A3118,'Result Entry'!$B$9:$DX$108,97,0))","v":""},"Signature Of The Class Teacher"]
[null,"◐","Grading System"]
[null,"◐","Grd.","% Range",null,"Description"]
[null,"◐","A","86-100",null,"Excellent",null,null,"Signature And Seal Of Principal/H.M."]
[null,"◐","B","71-85",null,"Very Good"]
[null,"◐","C","51-70",null,"Good"]
[null,"◐","D","31-50",null,"Average"]
[null,"◐","E","0-30",null,"Needs Improvement",null,null,"Wish bright future"]
[]
[]
[{"$f":"A3118+1","v":84},"Department Of Education, Rajasthan"]
[null,{"$f":"IF(I3161>0,CONCATENATE(C3161,I3161),0)","v":0},null,{"$f":"Master!$E$8","v":"Govt.Sr.Sec.Sch. "}]
[{"$nulls":3},{"$f":"Master!$E$11","v":"P.S.-Bapini (Jodhpur)"}]
[null,null,"Report Card",{"$nulls":6},"U-DISE Code:-",null,{"$f":"Master!$E$14","v":{"v":810000000,"d":"0810000000"}}]
[{"$nulls":9},"Session:-",null,{"$f":"Master!$E$6","v":"2022-23"}]
[null,null,"Roll No.:-",{"$nulls":5},{"$f":"VLOOKUP($A3156,'Result Entry'!$B$9:$F$108,5,0)","v":0}]
[null,"◐","Scholar Number",{"$nulls":3},"↠",{"$f":"VLOOKUP($A3156,'Result Entry'!$B$9:$DX$108,3,0)","v":0}]
[null,"◐","Student's Name",{"$nulls":3},"↠",{"$f":"VLOOKUP($A3156,'Result Entry'!$B$9:$DX$108,6,0)","v":0}]
[null,"◐","Father's Name",{"$nulls":3},"↠",{"$f":"VLOOKUP($A3156,'Result Entry'!$B$9:$DX$108,7,0)","v":0}]
[null,"◐","Mother's Name ",{"$nulls":3},"↠",{"$f":"VLOOKUP($A3156,'Result Entry'!$B$9:$DX$108,8,0)","v":0}]
[null,"◐","Class & Section",{"$nulls":3},"↠",{"$f":"CONCATENATE('Result Entry'!$F$4,'Result Entry'!$I$4)","v":"2(A)"}]
[null,"◐","Date Of Birth",{"$nulls":3},"↠",{"$f":"VLOOKUP($A3156,'Result Entry'!$B$9:$DX$108,9,0)","v":"00:00:00"}]
[null,"◐","Subject",{"$nulls":4},"Half Yearly","Total (T+H.Y.)","Yearly","Grand Total",null,"Subject Grade"]
[null,"◐","Max. Marks",{"$nulls":4},{"$f":"'Result Entry'!$Q$7","v":100},{"$f":"G3169+H3169","v":100},{"$f":"'Result Entry'!$U$7","v":100},{"$f":"I3169+J3169","v":200},null,"A/B/C/D/E"]
[null,"◐",{"$f":"'Result Entry'!$K$3","v":"Hindi"},{"$nulls":4},{"$f":"IF(OR(C3170=\"\",$I3161=\"NSO\"),\"\",VLOOKUP($A3156,'Result Entry'!$B$9:$DX$108,16,0))","v":0},{"$f":"SUM(G3170,H3170)","v":0},{"$f":"IF(OR(C3170=\"\",$I3161=\"NSO\"),\"\",VLOOKUP($A3156,'Result Entry'!$B$9:$DX$108,20,0))","v":0},{"$f":"SUM(I3170,J3170)","v":0},null,{"$f":"IF(OR(C3170=\"\",$I3161=\"NSO\"),\"\",VLOOKUP($A3156,'Result Entry'!$B$9:$DX$108,23,0))","v":""}]
[null,"◐",{"$f":"'Result Entry'!$Y$3","v":"Mathematics"},{"$nulls":4},{"$f":"IF(OR(C3171=\"\",$I3161=\"NSO\"),\"\",VLOOKUP($A3156,'Result Entry'!$B$9:$DX$108,30,0))","v":0},{"$f":"SUM(G3171,H3171)","v":0},{"$f":"IF(OR(C3171=\"\",$I3161=\"NSO\"),\"\",VLOOKUP($A3156,'Result Entry'!$B$9:$DX$108,34,0))","v":0},{"$f":"SUM(I3171,J3171)","v":0},null,{"$f":"IF(OR(C3171=\"\",$I3161=\"NSO\"),\"\",VLOOKUP($A3156,'Result Entry'!$B$9:$DX$108,37,0))","v":""}]
[null,"◐",{"$f":"'Result Entry'!$BO$3","v":"Env. Study"},{"$nulls":4},{"$f":"IF(OR(C3172=\"\",$I3161=\"NSO\"),\"\",VLOOKUP($A3156,'Result Entry'!$B$9:$DX$108,66,0))","v":0},0,{"$f":"IF(OR(C3172=\"\",$I3161=\"NSO\"),\"\",VLOOKUP($A3156,'Result Entry'!$B$9:$DX$108,67,0))","v":0},0,null,{"$f":"IF(OR(C3172=\"\",$I3161=\"NSO\"),\"\",VLOOKUP($A3156,'Result Entry'!$B$9:$DX$108,73,0))","v":""}]
[null,"◐","Max. Marks",{"$nulls":4},{"$f":"'Result Entry'!$AS$7","v":50},50,{"$f":"'Result Entry'!$AW$7","v":50},100,null,"A/B/C/D/E"]
[null,"◐",{"$f":"'Result Entry'!$AM$3","v":"English"},{"$nulls":4},{"$f":"IF(OR(C3174=\"\",$I3161=\"NSO\"),\"\",VLOOKUP($A3156,'Result Entry'!$B$9:$DX$108,44,0))","v":0},0,{"$f":"IF(OR(C3174=\"\",$I3161=\"NSO\"),\"\",VLOOKUP($A3156,'Result Entry'!$B$9:$DX$108,48,0))","v":0},0,null,{"$f":"IF(OR(C3174=\"\",$I3161=\"NSO\"),\"\",VLOOKUP($A3156,'Result Entry'!$B$9:$DX$108,51,0))","v":""}]
[null,"◐"]
[null,"◐","Overall Result",null,null,"Total Max. Marks",null,"Total Obtained Marks",null,"Percentage","Overall Grade","Result","Position in Class"]
[null,"◐",{"$nulls":3},{"$f":"IF(OR($I3161=\"\",$I3161=\"NSO\"),\"\",VLOOKUP($A3156,'Result Entry'!$B$9:$DX$108,101,0))","v":500},null,{"$f":"IF(OR($I3161=\"\",$I3161=\"NSO\"),\"\",VLOOKUP($A3156,'Result Entry'!$B$9:$DX$108,102,0))","v":0},null,{"$f":"IF(OR($I3161=\"\",$I3161=\"NSO\"),\"\",VLOOKUP($A3156,'Result Entry'!$B$9:$DX$108,103,0))","v":{"v":0,"d":"0.00"}},{"$f":"IF(OR($I3161=\"\",$I3161=\"NSO\"),\"\",VLOOKUP($A3156,'Result Entry'!$B$9:$DX$108,104,0))","v":""},{"$f":"IF(OR($I3161=\"\",$I3161=\"NSO\"),\"\",VLOOKUP($A3156,'Result Entry'!$B$9:$DX$108,105,0))","v":""},{"$f":"IF(OR($I3161=\"\",$I3161=\"NSO\"),\"\",VLOOKUP($A3156,'Result Entry'!$B$9:$DX$108,107,0))","v":""}]
[null,"◐",{"$nulls":6},"Total Meetings :-",null,{"$f":"IF(OR($I3161=\"\",$I3161=\"NSO\"),\"\",VLOOKUP($A3156,'Result Entry'!$B$9:$DX$108,98,0))","v":0},"Attedance %"]
[null,"◐","Extra Subjects",{"$nulls":5},"Student's Meetings :-",null,{"$f":"IF(OR($I3161=\"\",$I3161=\"NSO\"),\"\",VLOOKUP($A3156,'Result Entry'!$B$9:$DX$108,99,0))","v":0},{"$f":"IF(OR($I3161=\"\",$I3161=\"NSO\"),\"\",VLOOKUP($A3156,'Result Entry'!$B$9:$DX$108,100,0))","v":""}]
[null,"◐","Subject",null,null,"Total Marks",null,"GRADE","Remark :-",null,{"$f":"IF(OR($I3161=\"\",$I3161=\"NSO\"),\"\",VLOOKUP($A3156,'Result Entry'!$B$9:$DX$108,108,0))","v":0}]
[null,"◐",{"$nulls":6},"Result Date :-",null,{"$f":"'Result Entry'!$T$2","v":"2023-05-24"}]
[null,"◐",{"$f":"'Result Entry'!$BW$3","v":"WORK EXP."},null,null,{"$f":"IF(OR(C3182=\"\",$I3161=\"NSO\"),\"\",VLOOKUP($A3156,'Result Entry'!$B$9:$DX$108,119,0))","v":"0/50"},null,{"$f":"IF(OR(C3182=\"\",$I3161=\"NSO\"),\"\",VLOOKUP($A3156,'Result Entry'!$B$9:$DX$108,81,0))","v":""}]
[null,null,{"$f":"'Result Entry'!$CE$3","v":"ART EDU."},null,null,{"$f":"IF(OR(C3183=\"\",$I3161=\"NSO\"),\"\",VLOOKUP($A3156,'Result Entry'!$B$9:$DX$108,123,0))","v":"0/50"},null,{"$f":"IF(OR(C3183=\"\",$I3161=\"NSO\"),\"\",VLOOKUP($A3156,'Result Entry'!$B$9:$DX$108,89,0))","v":""}]
[null,"◐",{"$f":"'Result Entry'!$CM$3","v":"H&P. EDU."},null,null,{"$f":"IF(OR(C3184=\"\",$I3161=\"NSO\"),\"\",VLOOKUP($A3156,'Result Entry'!$B$9:$DX$108,127,0))","v":"0/100"},null,{"$f":"IF(OR(C3184=\"\",$I3161=\"NSO\"),\"\",VLOOKUP($A3156,'Result Entry'!$B$9:$DX$108,97,0))","v":""},"Signature Of The Class Teacher"]
[null,"◐","Grading System"]
[null,"◐","Grd.","% Range",null,"Description"]
[null,"◐","A","86-100",null,"Excellent",null,null,"Signature And Seal Of Principal/H.M."]
[null,"◐","B","71-85",null,"Very Good"]
[null,"◐","C","51-70",null,"Good"]
[null,"◐","D","31-50",null,"Average"]
[null,"◐","E","0-30",null,"Needs Improvement",null,null,"Wish bright future"]
[]
[]
[{"$f":"A3156+1","v":85},"Department Of Education, Rajasthan"]
[null,{"$f":"IF(I3199>0,CONCATENATE(C3199,I3199),0)","v":0},null,{"$f":"Master!$E$8","v":"Govt.Sr.Sec.Sch. "}]
[{"$nulls":3},{"$f":"Master!$E$11","v":"P.S.-Bapini (Jodhpur)"}]
[null,null,"Report Card",{"$nulls":6},"U-DISE Code:-",null,{"$f":"Master!$E$14","v":{"v":810000000,"d":"0810000000"}}]
[{"$nulls":9},"Session:-",null,{"$f":"Master!$E$6","v":"2022-23"}]
[null,null,"Roll No.:-",{"$nulls":5},{"$f":"VLOOKUP($A3194,'Result Entry'!$B$9:$F$108,5,0)","v":0}]
[null,"◐","Scholar Number",{"$nulls":3},"↠",{"$f":"VLOOKUP($A3194,'Result Entry'!$B$9:$DX$108,3,0)","v":0}]
[null,"◐","Student's Name",{"$nulls":3},"↠",{"$f":"VLOOKUP($A3194,'Result Entry'!$B$9:$DX$108,6,0)","v":0}]
[null,"◐","Father's Name",{"$nulls":3},"↠",{"$f":"VLOOKUP($A3194,'Result Entry'!$B$9:$DX$108,7,0)","v":0}]
[null,"◐","Mother's Name ",{"$nulls":3},"↠",{"$f":"VLOOKUP($A3194,'Result Entry'!$B$9:$DX$108,8,0)","v":0}]
[null,"◐","Class & Section",{"$nulls":3},"↠",{"$f":"CONCATENATE('Result Entry'!$F$4,'Result Entry'!$I$4)","v":"2(A)"}]
[null,"◐","Date Of Birth",{"$nulls":3},"↠",{"$f":"VLOOKUP($A3194,'Result Entry'!$B$9:$DX$108,9,0)","v":"00:00:00"}]
[null,"◐","Subject",{"$nulls":4},"Half Yearly","Total (T+H.Y.)","Yearly","Grand Total",null,"Subject Grade"]
[null,"◐","Max. Marks",{"$nulls":4},{"$f":"'Result Entry'!$Q$7","v":100},{"$f":"G3207+H3207","v":100},{"$f":"'Result Entry'!$U$7","v":100},{"$f":"I3207+J3207","v":200},null,"A/B/C/D/E"]
[null,"◐",{"$f":"'Result Entry'!$K$3","v":"Hindi"},{"$nulls":4},{"$f":"IF(OR(C3208=\"\",$I3199=\"NSO\"),\"\",VLOOKUP($A3194,'Result Entry'!$B$9:$DX$108,16,0))","v":0},{"$f":"SUM(G3208,H3208)","v":0},{"$f":"IF(OR(C3208=\"\",$I3199=\"NSO\"),\"\",VLOOKUP($A3194,'Result Entry'!$B$9:$DX$108,20,0))","v":0},{"$f":"SUM(I3208,J3208)","v":0},null,{"$f":"IF(OR(C3208=\"\",$I3199=\"NSO\"),\"\",VLOOKUP($A3194,'Result Entry'!$B$9:$DX$108,23,0))","v":""}]
[null,"◐",{"$f":"'Result Entry'!$Y$3","v":"Mathematics"},{"$nulls":4},{"$f":"IF(OR(C3209=\"\",$I3199=\"NSO\"),\"\",VLOOKUP($A3194,'Result Entry'!$B$9:$DX$108,30,0))","v":0},{"$f":"SUM(G3209,H3209)","v":0},{"$f":"IF(OR(C3209=\"\",$I3199=\"NSO\"),\"\",VLOOKUP($A3194,'Result Entry'!$B$9:$DX$108,34,0))","v":0},{"$f":"SUM(I3209,J3209)","v":0},null,{"$f":"IF(OR(C3209=\"\",$I3199=\"NSO\"),\"\",VLOOKUP($A3194,'Result Entry'!$B$9:$DX$108,37,0))","v":""}]
[null,"◐",{"$f":"'Result Entry'!$BO$3","v":"Env. Study"},{"$nulls":4},{"$f":"IF(OR(C3210=\"\",$I3199=\"NSO\"),\"\",VLOOKUP($A3194,'Result Entry'!$B$9:$DX$108,66,0))","v":0},0,{"$f":"IF(OR(C3210=\"\",$I3199=\"NSO\"),\"\",VLOOKUP($A3194,'Result Entry'!$B$9:$DX$108,67,0))","v":0},0,null,{"$f":"IF(OR(C3210=\"\",$I3199=\"NSO\"),\"\",VLOOKUP($A3194,'Result Entry'!$B$9:$DX$108,73,0))","v":""}]
[null,"◐","Max. Marks",{"$nulls":4},{"$f":"'Result Entry'!$AS$7","v":50},50,{"$f":"'Result Entry'!$AW$7","v":50},100,null,"A/B/C/D/E"]
[null,"◐",{"$f":"'Result Entry'!$AM$3","v":"English"},{"$nulls":4},{"$f":"IF(OR(C3212=\"\",$I3199=\"NSO\"),\"\",VLOOKUP($A3194,'Result Entry'!$B$9:$DX$108,44,0))","v":0},0,{"$f":"IF(OR(C3212=\"\",$I3199=\"NSO\"),\"\",VLOOKUP($A3194,'Result Entry'!$B$9:$DX$108,48,0))","v":0},0,null,{"$f":"IF(OR(C3212=\"\",$I3199=\"NSO\"),\"\",VLOOKUP($A3194,'Result Entry'!$B$9:$DX$108,51,0))","v":""}]
[null,"◐"]
[null,"◐","Overall Result",null,null,"Total Max. Marks",null,"Total Obtained Marks",null,"Percentage","Overall Grade","Result","Position in Class"]
[null,"◐",{"$nulls":3},{"$f":"IF(OR($I3199=\"\",$I3199=\"NSO\"),\"\",VLOOKUP($A3194,'Result Entry'!$B$9:$DX$108,101,0))","v":500},null,{"$f":"IF(OR($I3199=\"\",$I3199=\"NSO\"),\"\",VLOOKUP($A3194,'Result Entry'!$B$9:$DX$108,102,0))","v":0},null,{"$f":"IF(OR($I3199=\"\",$I3199=\"NSO\"),\"\",VLOOKUP($A3194,'Result Entry'!$B$9:$DX$108,103,0))","v":{"v":0,"d":"0.00"}},{"$f":"IF(OR($I3199=\"\",$I3199=\"NSO\"),\"\",VLOOKUP($A3194,'Result Entry'!$B$9:$DX$108,104,0))","v":""},{"$f":"IF(OR($I3199=\"\",$I3199=\"NSO\"),\"\",VLOOKUP($A3194,'Result Entry'!$B$9:$DX$108,105,0))","v":""},{"$f":"IF(OR($I3199=\"\",$I3199=\"NSO\"),\"\",VLOOKUP($A3194,'Result Entry'!$B$9:$DX$108,107,0))","v":""}]
[null,"◐",{"$nulls":6},"Total Meetings :-",null,{"$f":"IF(OR($I3199=\"\",$I3199=\"NSO\"),\"\",VLOOKUP($A3194,'Result Entry'!$B$9:$DX$108,98,0))","v":0},"Attedance %"]
[null,"◐","Extra Subjects",{"$nulls":5},"Student's Meetings :-",null,{"$f":"IF(OR($I3199=\"\",$I3199=\"NSO\"),\"\",VLOOKUP($A3194,'Result Entry'!$B$9:$DX$108,99,0))","v":0},{"$f":"IF(OR($I3199=\"\",$I3199=\"NSO\"),\"\",VLOOKUP($A3194,'Result Entry'!$B$9:$DX$108,100,0))","v":""}]
[null,"◐","Subject",null,null,"Total Marks",null,"GRADE","Remark :-",null,{"$f":"IF(OR($I3199=\"\",$I3199=\"NSO\"),\"\",VLOOKUP($A3194,'Result Entry'!$B$9:$DX$108,108,0))","v":0}]
[null,"◐",{"$nulls":6},"Result Date :-",null,{"$f":"'Result Entry'!$T$2","v":"2023-05-24"}]
[null,"◐",{"$f":"'Result Entry'!$BW$3","v":"WORK EXP."},null,null,{"$f":"IF(OR(C3220=\"\",$I3199=\"NSO\"),\"\",VLOOKUP($A3194,'Result Entry'!$B$9:$DX$108,119,0))","v":"0/50"},null,{"$f":"IF(OR(C3220=\"\",$I3199=\"NSO\"),\"\",VLOOKUP($A3194,'Result Entry'!$B$9:$DX$108,81,0))","v":""}]
[null,null,{"$f":"'Result Entry'!$CE$3","v":"ART EDU."},null,null,{"$f":"IF(OR(C3221=\"\",$I3199=\"NSO\"),\"\",VLOOKUP($A3194,'Result Entry'!$B$9:$DX$108,123,0))","v":"0/50"},null,{"$f":"IF(OR(C3221=\"\",$I3199=\"NSO\"),\"\",VLOOKUP($A3194,'Result Entry'!$B$9:$DX$108,89,0))","v":""}]
[null,"◐",{"$f":"'Result Entry'!$CM$3","v":"H&P. EDU."},null,null,{"$f":"IF(OR(C3222=\"\",$I3199=\"NSO\"),\"\",VLOOKUP($A3194,'Result Entry'!$B$9:$DX$108,127,0))","v":"0/100"},null,{"$f":"IF(OR(C3222=\"\",$I3199=\"NSO\"),\"\",VLOOKUP($A3194,'Result Entry'!$B$9:$DX$108,97,0))","v":""},"Signature Of The Class Teacher"]
[null,"◐","Grading System"]
[null,"◐","Grd.","% Range",null,"Description"]
[null,"◐","A","86-100",null,"Excellent",null,null,"Signature And Seal Of Principal/H.M."]
[null,"◐","B","71-85",null,"Very Good"]
[null,"◐","C","51-70",null,"Good"]
[null,"◐","D","31-50",null,"Average"]
[null,"◐","E","0-30",null,"Needs Improvement",null,null,"Wish bright future"]
[]
[]
[{"$f":"A3194+1","v":86},"Department Of Education, Rajasthan"]
[null,{"$f":"IF(I3237>0,CONCATENATE(C3237,I3237),0)","v":0},null,{"$f":"Master!$E$8","v":"Govt.Sr.Sec.Sch. "}]
[{"$nulls":3},{"$f":"Master!$E$11","v":"P.S.-Bapini (Jodhpur)"}]
[null,null,"Report Card",{"$nulls":6},"U-DISE Code:-",null,{"$f":"Master!$E$14","v":{"v":810000000,"d":"0810000000"}}]
[{"$nulls":9},"Session:-",null,{"$f":"Master!$E$6","v":"2022-23"}]
[null,null,"Roll No.:-",{"$nulls":5},{"$f":"VLOOKUP($A3232,'Result Entry'!$B$9:$F$108,5,0)","v":0}]
[null,"◐","Scholar Number",{"$nulls":3},"↠",{"$f":"VLOOKUP($A3232,'Result Entry'!$B$9:$DX$108,3,0)","v":0}]
[null,"◐","Student's Name",{"$nulls":3},"↠",{"$f":"VLOOKUP($A3232,'Result Entry'!$B$9:$DX$108,6,0)","v":0}]
[null,"◐","Father's Name",{"$nulls":3},"↠",{"$f":"VLOOKUP($A3232,'Result Entry'!$B$9:$DX$108,7,0)","v":0}]
[null,"◐","Mother's Name ",{"$nulls":3},"↠",{"$f":"VLOOKUP($A3232,'Result Entry'!$B$9:$DX$108,8,0)","v":0}]
[null,"◐","Class & Section",{"$nulls":3},"↠",{"$f":"CONCATENATE('Result Entry'!$F$4,'Result Entry'!$I$4)","v":"2(A)"}]
[null,"◐","Date Of Birth",{"$nulls":3},"↠",{"$f":"VLOOKUP($A3232,'Result Entry'!$B$9:$DX$108,9,0)","v":"00:00:00"}]
[null,"◐","Subject",{"$nulls":4},"Half Yearly","Total (T+H.Y.)","Yearly","Grand Total",null,"Subject Grade"]
[null,"◐","Max. Marks",{"$nulls":4},{"$f":"'Result Entry'!$Q$7","v":100},{"$f":"G3245+H3245","v":100},{"$f":"'Result Entry'!$U$7","v":100},{"$f":"I3245+J3245","v":200},null,"A/B/C/D/E"]
[null,"◐",{"$f":"'Result Entry'!$K$3","v":"Hindi"},{"$nulls":4},{"$f":"IF(OR(C3246=\"\",$I3237=\"NSO\"),\"\",VLOOKUP($A3232,'Result Entry'!$B$9:$DX$108,16,0))","v":0},{"$f":"SUM(G3246,H3246)","v":0},{"$f":"IF(OR(C3246=\"\",$I3237=\"NSO\"),\"\",VLOOKUP($A3232,'Result Entry'!$B$9:$DX$108,20,0))","v":0},{"$f":"SUM(I3246,J3246)","v":0},null,{"$f":"IF(OR(C3246=\"\",$I3237=\"NSO\"),\"\",VLOOKUP($A3232,'Result Entry'!$B$9:$DX$108,23,0))","v":""}]
[null,"◐",{"$f":"'Result Entry'!$Y$3","v":"Mathematics"},{"$nulls":4},{"$f":"IF(OR(C3247=\"\",$I3237=\"NSO\"),\"\",VLOOKUP($A3232,'Result Entry'!$B$9:$DX$108,30,0))","v":0},{"$f":"SUM(G3247,H3247)","v":0},{"$f":"IF(OR(C3247=\"\",$I3237=\"NSO\"),\"\",VLOOKUP($A3232,'Result Entry'!$B$9:$DX$108,34,0))","v":0},{"$f":"SUM(I3247,J3247)","v":0},null,{"$f":"IF(OR(C3247=\"\",$I3237=\"NSO\"),\"\",VLOOKUP($A3232,'Result Entry'!$B$9:$DX$108,37,0))","v":""}]
[null,"◐",{"$f":"'Result Entry'!$BO$3","v":"Env. Study"},{"$nulls":4},{"$f":"IF(OR(C3248=\"\",$I3237=\"NSO\"),\"\",VLOOKUP($A3232,'Result Entry'!$B$9:$DX$108,66,0))","v":0},0,{"$f":"IF(OR(C3248=\"\",$I3237=\"NSO\"),\"\",VLOOKUP($A3232,'Result Entry'!$B$9:$DX$108,67,0))","v":0},0,null,{"$f":"IF(OR(C3248=\"\",$I3237=\"NSO\"),\"\",VLOOKUP($A3232,'Result Entry'!$B$9:$DX$108,73,0))","v":""}]
[null,"◐","Max. Marks",{"$nulls":4},{"$f":"'Result Entry'!$AS$7","v":50},50,{"$f":"'Result Entry'!$AW$7","v":50},100,null,"A/B/C/D/E"]
[null,"◐",{"$f":"'Result Entry'!$AM$3","v":"English"},{"$nulls":4},{"$f":"IF(OR(C3250=\"\",$I3237=\"NSO\"),\"\",VLOOKUP($A3232,'Result Entry'!$B$9:$DX$108,44,0))","v":0},0,{"$f":"IF(OR(C3250=\"\",$I3237=\"NSO\"),\"\",VLOOKUP($A3232,'Result Entry'!$B$9:$DX$108,48,0))","v":0},0,null,{"$f":"IF(OR(C3250=\"\",$I3237=\"NSO\"),\"\",VLOOKUP($A3232,'Result Entry'!$B$9:$DX$108,51,0))","v":""}]
[null,"◐"]
[null,"◐","Overall Result",null,null,"Total Max. Marks",null,"Total Obtained Marks",null,"Percentage","Overall Grade","Result","Position in Class"]
[null,"◐",{"$nulls":3},{"$f":"IF(OR($I3237=\"\",$I3237=\"NSO\"),\"\",VLOOKUP($A3232,'Result Entry'!$B$9:$DX$108,101,0))","v":500},null,{"$f":"IF(OR($I3237=\"\",$I3237=\"NSO\"),\"\",VLOOKUP($A3232,'Result Entry'!$B$9:$DX$108,102,0))","v":0},null,{"$f":"IF(OR($I3237=\"\",$I3237=\"NSO\"),\"\",VLOOKUP($A3232,'Result Entry'!$B$9:$DX$108,103,0))","v":{"v":0,"d":"0.00"}},{"$f":"IF(OR($I3237=\"\",$I3237=\"NSO\"),\"\",VLOOKUP($A3232,'Result Entry'!$B$9:$DX$108,104,0))","v":""},{"$f":"IF(OR($I3237=\"\",$I3237=\"NSO\"),\"\",VLOOKUP($A3232,'Result Entry'!$B$9:$DX$108,105,0))","v":""},{"$f":"IF(OR($I3237=\"\",$I3237=\"NSO\"),\"\",VLOOKUP($A3232,'Result Entry'!$B$9:$DX$108,107,0))","v":""}]
[null,"◐",{"$nulls":6},"Total Meetings :-",null,{"$f":"IF(OR($I3237=\"\",$I3237=\"NSO\"),\"\",VLOOKUP($A3232,'Result Entry'!$B$9:$DX$108,98,0))","v":0},"Attedance %"]
[null,"◐","Extra Subjects",{"$nulls":5},"Student's Meetings :-",null,{"$f":"IF(OR($I3237=\"\",$I3237=\"NSO\"),\"\",VLOOKUP($A3232,'Result Entry'!$B$9:$DX$108,99,0))","v":0},{"$f":"IF(OR($I3237=\"\",$I3237=\"NSO\"),\"\",VLOOKUP($A3232,'Result Entry'!$B$9:$DX$108,100,0))","v":""}]
[null,"◐","Subject",null,null,"Total Marks",null,"GRADE","Remark :-",null,{"$f":"IF(OR($I3237=\"\",$I3237=\"NSO\"),\"\",VLOOKUP($A3232,'Result Entry'!$B$9:$DX$108,108,0))","v":0}]
[null,"◐",{"$nulls":6},"Result Date :-",null,{"$f":"'Result Entry'!$T$2","v":"2023-05-24"}]
[null,"◐",{"$f":"'Result Entry'!$BW$3","v":"WORK EXP."},null,null,{"$f":"IF(OR(C3258=\"\",$I3237=\"NSO\"),\"\",VLOOKUP($A3232,'Result Entry'!$B$9:$DX$108,119,0))","v":"0/50"},null,{"$f":"IF(OR(C3258=\"\",$I3237=\"NSO\"),\"\",VLOOKUP($A3232,'Result Entry'!$B$9:$DX$108,81,0))","v":""}]
[null,null,{"$f":"'Result Entry'!$CE$3","v":"ART EDU."},null,null,{"$f":"IF(OR(C3259=\"\",$I3237=\"NSO\"),\"\",VLOOKUP($A3232,'Result Entry'!$B$9:$DX$108,123,0))","v":"0/50"},null,{"$f":"IF(OR(C3259=\"\",$I3237=\"NSO\"),\"\",VLOOKUP($A3232,'Result Entry'!$B$9:$DX$108,89,0))","v":""}]
[null,"◐",{"$f":"'Result Entry'!$CM$3","v":"H&P. EDU."},null,null,{"$f":"IF(OR(C3260=\"\",$I3237=\"NSO\"),\"\",VLOOKUP($A3232,'Result Entry'!$B$9:$DX$108,127,0))","v":"0/100"},null,{"$f":"IF(OR(C3260=\"\",$I3237=\"NSO\"),\"\",VLOOKUP($A3232,'Result Entry'!$B$9:$DX$108,97,0))","v":""},"Signature Of The Class Teacher"]
[null,"◐","Grading System"]
[null,"◐","Grd.","% Range",null,"Description"]
[null,"◐","A","86-100",null,"Excellent",null,null,"Signature And Seal Of Principal/H.M."]
[null,"◐","B","71-85",null,"Very Good"]
[null,"◐","C","51-70",null,"Good"]
[null,"◐","D","31-50",null,"Average"]
[null,"◐","E","0-30",null,"Needs Improvement",null,null,"Wish bright future"]
[]
[]
[{"$f":"A3232+1","v":87},"Department Of Education, Rajasthan"]
[null,{"$f":"IF(I3275>0,CONCATENATE(C3275,I3275),0)","v":0},null,{"$f":"Master!$E$8","v":"Govt.Sr.Sec.Sch. "}]
[{"$nulls":3},{"$f":"Master!$E$11","v":"P.S.-Bapini (Jodhpur)"}]
[null,null,"Report Card",{"$nulls":6},"U-DISE Code:-",null,{"$f":"Master!$E$14","v":{"v":810000000,"d":"0810000000"}}]
[{"$nulls":9},"Session:-",null,{"$f":"Master!$E$6","v":"2022-23"}]
[null,null,"Roll No.:-",{"$nulls":5},{"$f":"VLOOKUP($A3270,'Result Entry'!$B$9:$F$108,5,0)","v":0}]
[null,"◐","Scholar Number",{"$nulls":3},"↠",{"$f":"VLOOKUP($A3270,'Result Entry'!$B$9:$DX$108,3,0)","v":0}]
[null,"◐","Student's Name",{"$nulls":3},"↠",{"$f":"VLOOKUP($A3270,'Result Entry'!$B$9:$DX$108,6,0)","v":0}]
[null,"◐","Father's Name",{"$nulls":3},"↠",{"$f":"VLOOKUP($A3270,'Result Entry'!$B$9:$DX$108,7,0)","v":0}]
[null,"◐","Mother's Name ",{"$nulls":3},"↠",{"$f":"VLOOKUP($A3270,'Result Entry'!$B$9:$DX$108,8,0)","v":0}]
[null,"◐","Class & Section",{"$nulls":3},"↠",{"$f":"CONCATENATE('Result Entry'!$F$4,'Result Entry'!$I$4)","v":"2(A)"}]
[null,"◐","Date Of Birth",{"$nulls":3},"↠",{"$f":"VLOOKUP($A3270,'Result Entry'!$B$9:$DX$108,9,0)","v":"00:00:00"}]
[null,"◐","Subject",{"$nulls":4},"Half Yearly","Total (T+H.Y.)","Yearly","Grand Total",null,"Subject Grade"]
[null,"◐","Max. Marks",{"$nulls":4},{"$f":"'Result Entry'!$Q$7","v":100},{"$f":"G3283+H3283","v":100},{"$f":"'Result Entry'!$U$7","v":100},{"$f":"I3283+J3283","v":200},null,"A/B/C/D/E"]
[null,"◐",{"$f":"'Result Entry'!$K$3","v":"Hindi"},{"$nulls":4},{"$f":"IF(OR(C3284=\"\",$I3275=\"NSO\"),\"\",VLOOKUP($A3270,'Result Entry'!$B$9:$DX$108,16,0))","v":0},{"$f":"SUM(G3284,H3284)","v":0},{"$f":"IF(OR(C3284=\"\",$I3275=\"NSO\"),\"\",VLOOKUP($A3270,'Result Entry'!$B$9:$DX$108,20,0))","v":0},{"$f":"SUM(I3284,J3284)","v":0},null,{"$f":"IF(OR(C3284=\"\",$I3275=\"NSO\"),\"\",VLOOKUP($A3270,'Result Entry'!$B$9:$DX$108,23,0))","v":""}]
[null,"◐",{"$f":"'Result Entry'!$Y$3","v":"Mathematics"},{"$nulls":4},{"$f":"IF(OR(C3285=\"\",$I3275=\"NSO\"),\"\",VLOOKUP($A3270,'Result Entry'!$B$9:$DX$108,30,0))","v":0},{"$f":"SUM(G3285,H3285)","v":0},{"$f":"IF(OR(C3285=\"\",$I3275=\"NSO\"),\"\",VLOOKUP($A3270,'Result Entry'!$B$9:$DX$108,34,0))","v":0},{"$f":"SUM(I3285,J3285)","v":0},null,{"$f":"IF(OR(C3285=\"\",$I3275=\"NSO\"),\"\",VLOOKUP($A3270,'Result Entry'!$B$9:$DX$108,37,0))","v":""}]
[null,"◐",{"$f":"'Result Entry'!$BO$3","v":"Env. Study"},{"$nulls":4},{"$f":"IF(OR(C3286=\"\",$I3275=\"NSO\"),\"\",VLOOKUP($A3270,'Result Entry'!$B$9:$DX$108,66,0))","v":0},0,{"$f":"IF(OR(C3286=\"\",$I3275=\"NSO\"),\"\",VLOOKUP($A3270,'Result Entry'!$B$9:$DX$108,67,0))","v":0},0,null,{"$f":"IF(OR(C3286=\"\",$I3275=\"NSO\"),\"\",VLOOKUP($A3270,'Result Entry'!$B$9:$DX$108,73,0))","v":""}]
[null,"◐","Max. Marks",{"$nulls":4},{"$f":"'Result Entry'!$AS$7","v":50},50,{"$f":"'Result Entry'!$AW$7","v":50},100,null,"A/B/C/D/E"]
[null,"◐",{"$f":"'Result Entry'!$AM$3","v":"English"},{"$nulls":4},{"$f":"IF(OR(C3288=\"\",$I3275=\"NSO\"),\"\",VLOOKUP($A3270,'Result Entry'!$B$9:$DX$108,44,0))","v":0},0,{"$f":"IF(OR(C3288=\"\",$I3275=\"NSO\"),\"\",VLOOKUP($A3270,'Result Entry'!$B$9:$DX$108,48,0))","v":0},0,null,{"$f":"IF(OR(C3288=\"\",$I3275=\"NSO\"),\"\",VLOOKUP($A3270,'Result Entry'!$B$9:$DX$108,51,0))","v":""}]
[null,"◐"]
[null,"◐","Overall Result",null,null,"Total Max. Marks",null,"Total Obtained Marks",null,"Percentage","Overall Grade","Result","Position in Class"]
[null,"◐",{"$nulls":3},{"$f":"IF(OR($I3275=\"\",$I3275=\"NSO\"),\"\",VLOOKUP($A3270,'Result Entry'!$B$9:$DX$108,101,0))","v":500},null,{"$f":"IF(OR($I3275=\"\",$I3275=\"NSO\"),\"\",VLOOKUP($A3270,'Result Entry'!$B$9:$DX$108,102,0))","v":0},null,{"$f":"IF(OR($I3275=\"\",$I3275=\"NSO\"),\"\",VLOOKUP($A3270,'Result Entry'!$B$9:$DX$108,103,0))","v":{"v":0,"d":"0.00"}},{"$f":"IF(OR($I3275=\"\",$I3275=\"NSO\"),\"\",VLOOKUP($A3270,'Result Entry'!$B$9:$DX$108,104,0))","v":""},{"$f":"IF(OR($I3275=\"\",$I3275=\"NSO\"),\"\",VLOOKUP($A3270,'Result Entry'!$B$9:$DX$108,105,0))","v":""},{"$f":"IF(OR($I3275=\"\",$I3275=\"NSO\"),\"\",VLOOKUP($A3270,'Result Entry'!$B$9:$DX$108,107,0))","v":""}]
[null,"◐",{"$nulls":6},"Total Meetings :-",null,{"$f":"IF(OR($I3275=\"\",$I3275=\"NSO\"),\"\",VLOOKUP($A3270,'Result Entry'!$B$9:$DX$108,98,0))","v":0},"Attedance %"]
[null,"◐","Extra Subjects",{"$nulls":5},"Student's Meetings :-",null,{"$f":"IF(OR($I3275=\"\",$I3275=\"NSO\"),\"\",VLOOKUP($A3270,'Result Entry'!$B$9:$DX$108,99,0))","v":0},{"$f":"IF(OR($I3275=\"\",$I3275=\"NSO\"),\"\",VLOOKUP($A3270,'Result Entry'!$B$9:$DX$108,100,0))","v":""}]
[null,"◐","Subject",null,null,"Total Marks",null,"GRADE","Remark :-",null,{"$f":"IF(OR($I3275=\"\",$I3275=\"NSO\"),\"\",VLOOKUP($A3270,'Result Entry'!$B$9:$DX$108,108,0))","v":0}]
[null,"◐",{"$nulls":6},"Result Date :-",null,{"$f":"'Result Entry'!$T$2","v":"2023-05-24"}]
[null,"◐",{"$f":"'Result Entry'!$BW$3","v":"WORK EXP."},null,null,{"$f":"IF(OR(C3296=\"\",$I3275=\"NSO\"),\"\",VLOOKUP($A3270,'Result Entry'!$B$9:$DX$108,119,0))","v":"0/50"},null,{"$f":"IF(OR(C3296=\"\",$I3275=\"NSO\"),\"\",VLOOKUP($A3270,'Result Entry'!$B$9:$DX$108,81,0))","v":""}]
[null,null,{"$f":"'Result Entry'!$CE$3","v":"ART EDU."},null,null,{"$f":"IF(OR(C3297=\"\",$I3275=\"NSO\"),\"\",VLOOKUP($A3270,'Result Entry'!$B$9:$DX$108,123,0))","v":"0/50"},null,{"$f":"IF(OR(C3297=\"\",$I3275=\"NSO\"),\"\",VLOOKUP($A3270,'Result Entry'!$B$9:$DX$108,89,0))","v":""}]
[null,"◐",{"$f":"'Result Entry'!$CM$3","v":"H&P. EDU."},null,null,{"$f":"IF(OR(C3298=\"\",$I3275=\"NSO\"),\"\",VLOOKUP($A3270,'Result Entry'!$B$9:$DX$108,127,0))","v":"0/100"},null,{"$f":"IF(OR(C3298=\"\",$I3275=\"NSO\"),\"\",VLOOKUP($A3270,'Result Entry'!$B$9:$DX$108,97,0))","v":""},"Signature Of The Class Teacher"]
[null,"◐","Grading System"]
[null,"◐","Grd.","% Range",null,"Description"]
[null,"◐","A","86-100",null,"Excellent",null,null,"Signature And Seal Of Principal/H.M."]
[null,"◐","B","71-85",null,"Very Good"]
[null,"◐","C","51-70",null,"Good"]
[null,"◐","D","31-50",null,"Average"]
[null,"◐","E","0-30",null,"Needs Improvement",null,null,"Wish bright future"]
[]
[]
[{"$f":"A3270+1","v":88},"Department Of Education, Rajasthan"]
[null,{"$f":"IF(I3313>0,CONCATENATE(C3313,I3313),0)","v":0},null,{"$f":"Master!$E$8","v":"Govt.Sr.Sec.Sch. "}]
[{"$nulls":3},{"$f":"Master!$E$11","v":"P.S.-Bapini (Jodhpur)"}]
[null,null,"Report Card",{"$nulls":6},"U-DISE Code:-",null,{"$f":"Master!$E$14","v":{"v":810000000,"d":"0810000000"}}]
[{"$nulls":9},"Session:-",null,{"$f":"Master!$E$6","v":"2022-23"}]
[null,null,"Roll No.:-",{"$nulls":5},{"$f":"VLOOKUP($A3308,'Result Entry'!$B$9:$F$108,5,0)","v":0}]
[null,"◐","Scholar Number",{"$nulls":3},"↠",{"$f":"VLOOKUP($A3308,'Result Entry'!$B$9:$DX$108,3,0)","v":0}]
[null,"◐","Student's Name",{"$nulls":3},"↠",{"$f":"VLOOKUP($A3308,'Result Entry'!$B$9:$DX$108,6,0)","v":0}]
[null,"◐","Father's Name",{"$nulls":3},"↠",{"$f":"VLOOKUP($A3308,'Result Entry'!$B$9:$DX$108,7,0)","v":0}]
[null,"◐","Mother's Name ",{"$nulls":3},"↠",{"$f":"VLOOKUP($A3308,'Result Entry'!$B$9:$DX$108,8,0)","v":0}]
[null,"◐","Class & Section",{"$nulls":3},"↠",{"$f":"CONCATENATE('Result Entry'!$F$4,'Result Entry'!$I$4)","v":"2(A)"}]
[null,"◐","Date Of Birth",{"$nulls":3},"↠",{"$f":"VLOOKUP($A3308,'Result Entry'!$B$9:$DX$108,9,0)","v":"00:00:00"}]
[null,"◐","Subject",{"$nulls":4},"Half Yearly","Total (T+H.Y.)","Yearly","Grand Total",null,"Subject Grade"]
[null,"◐","Max. Marks",{"$nulls":4},{"$f":"'Result Entry'!$Q$7","v":100},{"$f":"G3321+H3321","v":100},{"$f":"'Result Entry'!$U$7","v":100},{"$f":"I3321+J3321","v":200},null,"A/B/C/D/E"]
[null,"◐",{"$f":"'Result Entry'!$K$3","v":"Hindi"},{"$nulls":4},{"$f":"IF(OR(C3322=\"\",$I3313=\"NSO\"),\"\",VLOOKUP($A3308,'Result Entry'!$B$9:$DX$108,16,0))","v":0},{"$f":"SUM(G3322,H3322)","v":0},{"$f":"IF(OR(C3322=\"\",$I3313=\"NSO\"),\"\",VLOOKUP($A3308,'Result Entry'!$B$9:$DX$108,20,0))","v":0},{"$f":"SUM(I3322,J3322)","v":0},null,{"$f":"IF(OR(C3322=\"\",$I3313=\"NSO\"),\"\",VLOOKUP($A3308,'Result Entry'!$B$9:$DX$108,23,0))","v":""}]
[null,"◐",{"$f":"'Result Entry'!$Y$3","v":"Mathematics"},{"$nulls":4},{"$f":"IF(OR(C3323=\"\",$I3313=\"NSO\"),\"\",VLOOKUP($A3308,'Result Entry'!$B$9:$DX$108,30,0))","v":0},{"$f":"SUM(G3323,H3323)","v":0},{"$f":"IF(OR(C3323=\"\",$I3313=\"NSO\"),\"\",VLOOKUP($A3308,'Result Entry'!$B$9:$DX$108,34,0))","v":0},{"$f":"SUM(I3323,J3323)","v":0},null,{"$f":"IF(OR(C3323=\"\",$I3313=\"NSO\"),\"\",VLOOKUP($A3308,'Result Entry'!$B$9:$DX$108,37,0))","v":""}]
[null,"◐",{"$f":"'Result Entry'!$BO$3","v":"Env. Study"},{"$nulls":4},{"$f":"IF(OR(C3324=\"\",$I3313=\"NSO\"),\"\",VLOOKUP($A3308,'Result Entry'!$B$9:$DX$108,66,0))","v":0},0,{"$f":"IF(OR(C3324=\"\",$I3313=\"NSO\"),\"\",VLOOKUP($A3308,'Result Entry'!$B$9:$DX$108,67,0))","v":0},0,null,{"$f":"IF(OR(C3324=\"\",$I3313=\"NSO\"),\"\",VLOOKUP($A3308,'Result Entry'!$B$9:$DX$108,73,0))","v":""}]
[null,"◐","Max. Marks",{"$nulls":4},{"$f":"'Result Entry'!$AS$7","v":50},50,{"$f":"'Result Entry'!$AW$7","v":50},100,null,"A/B/C/D/E"]
[null,"◐",{"$f":"'Result Entry'!$AM$3","v":"English"},{"$nulls":4},{"$f":"IF(OR(C3326=\"\",$I3313=\"NSO\"),\"\",VLOOKUP($A3308,'Result Entry'!$B$9:$DX$108,44,0))","v":0},0,{"$f":"IF(OR(C3326=\"\",$I3313=\"NSO\"),\"\",VLOOKUP($A3308,'Result Entry'!$B$9:$DX$108,48,0))","v":0},0,null,{"$f":"IF(OR(C3326=\"\",$I3313=\"NSO\"),\"\",VLOOKUP($A3308,'Result Entry'!$B$9:$DX$108,51,0))","v":""}]
[null,"◐"]
[null,"◐","Overall Result",null,null,"Total Max. Marks",null,"Total Obtained Marks",null,"Percentage","Overall Grade","Result","Position in Class"]
[null,"◐",{"$nulls":3},{"$f":"IF(OR($I3313=\"\",$I3313=\"NSO\"),\"\",VLOOKUP($A3308,'Result Entry'!$B$9:$DX$108,101,0))","v":500},null,{"$f":"IF(OR($I3313=\"\",$I3313=\"NSO\"),\"\",VLOOKUP($A3308,'Result Entry'!$B$9:$DX$108,102,0))","v":0},null,{"$f":"IF(OR($I3313=\"\",$I3313=\"NSO\"),\"\",VLOOKUP($A3308,'Result Entry'!$B$9:$DX$108,103,0))","v":{"v":0,"d":"0.00"}},{"$f":"IF(OR($I3313=\"\",$I3313=\"NSO\"),\"\",VLOOKUP($A3308,'Result Entry'!$B$9:$DX$108,104,0))","v":""},{"$f":"IF(OR($I3313=\"\",$I3313=\"NSO\"),\"\",VLOOKUP($A3308,'Result Entry'!$B$9:$DX$108,105,0))","v":""},{"$f":"IF(OR($I3313=\"\",$I3313=\"NSO\"),\"\",VLOOKUP($A3308,'Result Entry'!$B$9:$DX$108,107,0))","v":""}]
[null,"◐",{"$nulls":6},"Total Meetings :-",null,{"$f":"IF(OR($I3313=\"\",$I3313=\"NSO\"),\"\",VLOOKUP($A3308,'Result Entry'!$B$9:$DX$108,98,0))","v":0},"Attedance %"]
[null,"◐","Extra Subjects",{"$nulls":5},"Student's Meetings :-",null,{"$f":"IF(OR($I3313=\"\",$I3313=\"NSO\"),\"\",VLOOKUP($A3308,'Result Entry'!$B$9:$DX$108,99,0))","v":0},{"$f":"IF(OR($I3313=\"\",$I3313=\"NSO\"),\"\",VLOOKUP($A3308,'Result Entry'!$B$9:$DX$108,100,0))","v":""}]
[null,"◐","Subject",null,null,"Total Marks",null,"GRADE","Remark :-",null,{"$f":"IF(OR($I3313=\"\",$I3313=\"NSO\"),\"\",VLOOKUP($A3308,'Result Entry'!$B$9:$DX$108,108,0))","v":0}]
[null,"◐",{"$nulls":6},"Result Date :-",null,{"$f":"'Result Entry'!$T$2","v":"2023-05-24"}]
[null,"◐",{"$f":"'Result Entry'!$BW$3","v":"WORK EXP."},null,null,{"$f":"IF(OR(C3334=\"\",$I3313=\"NSO\"),\"\",VLOOKUP($A3308,'Result Entry'!$B$9:$DX$108,119,0))","v":"0/50"},null,{"$f":"IF(OR(C3334=\"\",$I3313=\"NSO\"),\"\",VLOOKUP($A3308,'Result Entry'!$B$9:$DX$108,81,0))","v":""}]
[null,null,{"$f":"'Result Entry'!$CE$3","v":"ART EDU."},null,null,{"$f":"IF(OR(C3335=\"\",$I3313=\"NSO\"),\"\",VLOOKUP($A3308,'Result Entry'!$B$9:$DX$108,123,0))","v":"0/50"},null,{"$f":"IF(OR(C3335=\"\",$I3313=\"NSO\"),\"\",VLOOKUP($A3308,'Result Entry'!$B$9:$DX$108,89,0))","v":""}]
[null,"◐",{"$f":"'Result Entry'!$CM$3","v":"H&P. EDU."},null,null,{"$f":"IF(OR(C3336=\"\",$I3313=\"NSO\"),\"\",VLOOKUP($A3308,'Result Entry'!$B$9:$DX$108,127,0))","v":"0/100"},null,{"$f":"IF(OR(C3336=\"\",$I3313=\"NSO\"),\"\",VLOOKUP($A3308,'Result Entry'!$B$9:$DX$108,97,0))","v":""},"Signature Of The Class Teacher"]
[null,"◐","Grading System"]
[null,"◐","Grd.","% Range",null,"Description"]
[null,"◐","A","86-100",null,"Excellent",null,null,"Signature And Seal Of Principal/H.M."]
[null,"◐","B","71-85",null,"Very Good"]
[null,"◐","C","51-70",null,"Good"]
[null,"◐","D","31-50",null,"Average"]
[null,"◐","E","0-30",null,"Needs Improvement",null,null,"Wish bright future"]
[]
[]
[{"$f":"A3308+1","v":89},"Department Of Education, Rajasthan"]
[null,{"$f":"IF(I3351>0,CONCATENATE(C3351,I3351),0)","v":0},null,{"$f":"Master!$E$8","v":"Govt.Sr.Sec.Sch. "}]
[{"$nulls":3},{"$f":"Master!$E$11","v":"P.S.-Bapini (Jodhpur)"}]
[null,null,"Report Card",{"$nulls":6},"U-DISE Code:-",null,{"$f":"Master!$E$14","v":{"v":810000000,"d":"0810000000"}}]
[{"$nulls":9},"Session:-",null,{"$f":"Master!$E$6","v":"2022-23"}]
[null,null,"Roll No.:-",{"$nulls":5},{"$f":"VLOOKUP($A3346,'Result Entry'!$B$9:$F$108,5,0)","v":0}]
[null,"◐","Scholar Number",{"$nulls":3},"↠",{"$f":"VLOOKUP($A3346,'Result Entry'!$B$9:$DX$108,3,0)","v":0}]
[null,"◐","Student's Name",{"$nulls":3},"↠",{"$f":"VLOOKUP($A3346,'Result Entry'!$B$9:$DX$108,6,0)","v":0}]
[null,"◐","Father's Name",{"$nulls":3},"↠",{"$f":"VLOOKUP($A3346,'Result Entry'!$B$9:$DX$108,7,0)","v":0}]
[null,"◐","Mother's Name ",{"$nulls":3},"↠",{"$f":"VLOOKUP($A3346,'Result Entry'!$B$9:$DX$108,8,0)","v":0}]
[null,"◐","Class & Section",{"$nulls":3},"↠",{"$f":"CONCATENATE('Result Entry'!$F$4,'Result Entry'!$I$4)","v":"2(A)"}]
[null,"◐","Date Of Birth",{"$nulls":3},"↠",{"$f":"VLOOKUP($A3346,'Result Entry'!$B$9:$DX$108,9,0)","v":"00:00:00"}]
[null,"◐","Subject",{"$nulls":4},"Half Yearly","Total (T+H.Y.)","Yearly","Grand Total",null,"Subject Grade"]
[null,"◐","Max. Marks",{"$nulls":4},{"$f":"'Result Entry'!$Q$7","v":100},{"$f":"G3359+H3359","v":100},{"$f":"'Result Entry'!$U$7","v":100},{"$f":"I3359+J3359","v":200},null,"A/B/C/D/E"]
[null,"◐",{"$f":"'Result Entry'!$K$3","v":"Hindi"},{"$nulls":4},{"$f":"IF(OR(C3360=\"\",$I3351=\"NSO\"),\"\",VLOOKUP($A3346,'Result Entry'!$B$9:$DX$108,16,0))","v":0},{"$f":"SUM(G3360,H3360)","v":0},{"$f":"IF(OR(C3360=\"\",$I3351=\"NSO\"),\"\",VLOOKUP($A3346,'Result Entry'!$B$9:$DX$108,20,0))","v":0},{"$f":"SUM(I3360,J3360)","v":0},null,{"$f":"IF(OR(C3360=\"\",$I3351=\"NSO\"),\"\",VLOOKUP($A3346,'Result Entry'!$B$9:$DX$108,23,0))","v":""}]
[null,"◐",{"$f":"'Result Entry'!$Y$3","v":"Mathematics"},{"$nulls":4},{"$f":"IF(OR(C3361=\"\",$I3351=\"NSO\"),\"\",VLOOKUP($A3346,'Result Entry'!$B$9:$DX$108,30,0))","v":0},{"$f":"SUM(G3361,H3361)","v":0},{"$f":"IF(OR(C3361=\"\",$I3351=\"NSO\"),\"\",VLOOKUP($A3346,'Result Entry'!$B$9:$DX$108,34,0))","v":0},{"$f":"SUM(I3361,J3361)","v":0},null,{"$f":"IF(OR(C3361=\"\",$I3351=\"NSO\"),\"\",VLOOKUP($A3346,'Result Entry'!$B$9:$DX$108,37,0))","v":""}]
[null,"◐",{"$f":"'Result Entry'!$BO$3","v":"Env. Study"},{"$nulls":4},{"$f":"IF(OR(C3362=\"\",$I3351=\"NSO\"),\"\",VLOOKUP($A3346,'Result Entry'!$B$9:$DX$108,66,0))","v":0},0,{"$f":"IF(OR(C3362=\"\",$I3351=\"NSO\"),\"\",VLOOKUP($A3346,'Result Entry'!$B$9:$DX$108,67,0))","v":0},0,null,{"$f":"IF(OR(C3362=\"\",$I3351=\"NSO\"),\"\",VLOOKUP($A3346,'Result Entry'!$B$9:$DX$108,73,0))","v":""}]
[null,"◐","Max. Marks",{"$nulls":4},{"$f":"'Result Entry'!$AS$7","v":50},50,{"$f":"'Result Entry'!$AW$7","v":50},100,null,"A/B/C/D/E"]
[null,"◐",{"$f":"'Result Entry'!$AM$3","v":"English"},{"$nulls":4},{"$f":"IF(OR(C3364=\"\",$I3351=\"NSO\"),\"\",VLOOKUP($A3346,'Result Entry'!$B$9:$DX$108,44,0))","v":0},0,{"$f":"IF(OR(C3364=\"\",$I3351=\"NSO\"),\"\",VLOOKUP($A3346,'Result Entry'!$B$9:$DX$108,48,0))","v":0},0,null,{"$f":"IF(OR(C3364=\"\",$I3351=\"NSO\"),\"\",VLOOKUP($A3346,'Result Entry'!$B$9:$DX$108,51,0))","v":""}]
[null,"◐"]
[null,"◐","Overall Result",null,null,"Total Max. Marks",null,"Total Obtained Marks",null,"Percentage","Overall Grade","Result","Position in Class"]
[null,"◐",{"$nulls":3},{"$f":"IF(OR($I3351=\"\",$I3351=\"NSO\"),\"\",VLOOKUP($A3346,'Result Entry'!$B$9:$DX$108,101,0))","v":500},null,{"$f":"IF(OR($I3351=\"\",$I3351=\"NSO\"),\"\",VLOOKUP($A3346,'Result Entry'!$B$9:$DX$108,102,0))","v":0},null,{"$f":"IF(OR($I3351=\"\",$I3351=\"NSO\"),\"\",VLOOKUP($A3346,'Result Entry'!$B$9:$DX$108,103,0))","v":{"v":0,"d":"0.00"}},{"$f":"IF(OR($I3351=\"\",$I3351=\"NSO\"),\"\",VLOOKUP($A3346,'Result Entry'!$B$9:$DX$108,104,0))","v":""},{"$f":"IF(OR($I3351=\"\",$I3351=\"NSO\"),\"\",VLOOKUP($A3346,'Result Entry'!$B$9:$DX$108,105,0))","v":""},{"$f":"IF(OR($I3351=\"\",$I3351=\"NSO\"),\"\",VLOOKUP($A3346,'Result Entry'!$B$9:$DX$108,107,0))","v":""}]
[null,"◐",{"$nulls":6},"Total Meetings :-",null,{"$f":"IF(OR($I3351=\"\",$I3351=\"NSO\"),\"\",VLOOKUP($A3346,'Result Entry'!$B$9:$DX$108,98,0))","v":0},"Attedance %"]
[null,"◐","Extra Subjects",{"$nulls":5},"Student's Meetings :-",null,{"$f":"IF(OR($I3351=\"\",$I3351=\"NSO\"),\"\",VLOOKUP($A3346,'Result Entry'!$B$9:$DX$108,99,0))","v":0},{"$f":"IF(OR($I3351=\"\",$I3351=\"NSO\"),\"\",VLOOKUP($A3346,'Result Entry'!$B$9:$DX$108,100,0))","v":""}]
[null,"◐","Subject",null,null,"Total Marks",null,"GRADE","Remark :-",null,{"$f":"IF(OR($I3351=\"\",$I3351=\"NSO\"),\"\",VLOOKUP($A3346,'Result Entry'!$B$9:$DX$108,108,0))","v":0}]
[null,"◐",{"$nulls":6},"Result Date :-",null,{"$f":"'Result Entry'!$T$2","v":"2023-05-24"}]
[null,"◐",{"$f":"'Result Entry'!$BW$3","v":"WORK EXP."},null,null,{"$f":"IF(OR(C3372=\"\",$I3351=\"NSO\"),\"\",VLOOKUP($A3346,'Result Entry'!$B$9:$DX$108,119,0))","v":"0/50"},null,{"$f":"IF(OR(C3372=\"\",$I3351=\"NSO\"),\"\",VLOOKUP($A3346,'Result Entry'!$B$9:$DX$108,81,0))","v":""}]
[null,null,{"$f":"'Result Entry'!$CE$3","v":"ART EDU."},null,null,{"$f":"IF(OR(C3373=\"\",$I3351=\"NSO\"),\"\",VLOOKUP($A3346,'Result Entry'!$B$9:$DX$108,123,0))","v":"0/50"},null,{"$f":"IF(OR(C3373=\"\",$I3351=\"NSO\"),\"\",VLOOKUP($A3346,'Result Entry'!$B$9:$DX$108,89,0))","v":""}]
[null,"◐",{"$f":"'Result Entry'!$CM$3","v":"H&P. EDU."},null,null,{"$f":"IF(OR(C3374=\"\",$I3351=\"NSO\"),\"\",VLOOKUP($A3346,'Result Entry'!$B$9:$DX$108,127,0))","v":"0/100"},null,{"$f":"IF(OR(C3374=\"\",$I3351=\"NSO\"),\"\",VLOOKUP($A3346,'Result Entry'!$B$9:$DX$108,97,0))","v":""},"Signature Of The Class Teacher"]
[null,"◐","Grading System"]
[null,"◐","Grd.","% Range",null,"Description"]
[null,"◐","A","86-100",null,"Excellent",null,null,"Signature And Seal Of Principal/H.M."]
[null,"◐","B","71-85",null,"Very Good"]
[null,"◐","C","51-70",null,"Good"]
[null,"◐","D","31-50",null,"Average"]
[null,"◐","E","0-30",null,"Needs Improvement",null,null,"Wish bright future"]
[]
[]
[{"$f":"A3346+1","v":90},"Department Of Education, Rajasthan"]
[null,{"$f":"IF(I3389>0,CONCATENATE(C3389,I3389),0)","v":0},null,{"$f":"Master!$E$8","v":"Govt.Sr.Sec.Sch. "}]
[{"$nulls":3},{"$f":"Master!$E$11","v":"P.S.-Bapini (Jodhpur)"}]
[null,null,"Report Card",{"$nulls":6},"U-DISE Code:-",null,{"$f":"Master!$E$14","v":{"v":810000000,"d":"0810000000"}}]
[{"$nulls":9},"Session:-",null,{"$f":"Master!$E$6","v":"2022-23"}]
[null,null,"Roll No.:-",{"$nulls":5},{"$f":"VLOOKUP($A3384,'Result Entry'!$B$9:$F$108,5,0)","v":0}]
[null,"◐","Scholar Number",{"$nulls":3},"↠",{"$f":"VLOOKUP($A3384,'Result Entry'!$B$9:$DX$108,3,0)","v":0}]
[null,"◐","Student's Name",{"$nulls":3},"↠",{"$f":"VLOOKUP($A3384,'Result Entry'!$B$9:$DX$108,6,0)","v":0}]
[null,"◐","Father's Name",{"$nulls":3},"↠",{"$f":"VLOOKUP($A3384,'Result Entry'!$B$9:$DX$108,7,0)","v":0}]
[null,"◐","Mother's Name ",{"$nulls":3},"↠",{"$f":"VLOOKUP($A3384,'Result Entry'!$B$9:$DX$108,8,0)","v":0}]
[null,"◐","Class & Section",{"$nulls":3},"↠",{"$f":"CONCATENATE('Result Entry'!$F$4,'Result Entry'!$I$4)","v":"2(A)"}]
[null,"◐","Date Of Birth",{"$nulls":3},"↠",{"$f":"VLOOKUP($A3384,'Result Entry'!$B$9:$DX$108,9,0)","v":"00:00:00"}]
[null,"◐","Subject",{"$nulls":4},"Half Yearly","Total (T+H.Y.)","Yearly","Grand Total",null,"Subject Grade"]
[null,"◐","Max. Marks",{"$nulls":4},{"$f":"'Result Entry'!$Q$7","v":100},{"$f":"G3397+H3397","v":100},{"$f":"'Result Entry'!$U$7","v":100},{"$f":"I3397+J3397","v":200},null,"A/B/C/D/E"]
[null,"◐",{"$f":"'Result Entry'!$K$3","v":"Hindi"},{"$nulls":4},{"$f":"IF(OR(C3398=\"\",$I3389=\"NSO\"),\"\",VLOOKUP($A3384,'Result Entry'!$B$9:$DX$108,16,0))","v":0},{"$f":"SUM(G3398,H3398)","v":0},{"$f":"IF(OR(C3398=\"\",$I3389=\"NSO\"),\"\",VLOOKUP($A3384,'Result Entry'!$B$9:$DX$108,20,0))","v":0},{"$f":"SUM(I3398,J3398)","v":0},null,{"$f":"IF(OR(C3398=\"\",$I3389=\"NSO\"),\"\",VLOOKUP($A3384,'Result Entry'!$B$9:$DX$108,23,0))","v":""}]
[null,"◐",{"$f":"'Result Entry'!$Y$3","v":"Mathematics"},{"$nulls":4},{"$f":"IF(OR(C3399=\"\",$I3389=\"NSO\"),\"\",VLOOKUP($A3384,'Result Entry'!$B$9:$DX$108,30,0))","v":0},{"$f":"SUM(G3399,H3399)","v":0},{"$f":"IF(OR(C3399=\"\",$I3389=\"NSO\"),\"\",VLOOKUP($A3384,'Result Entry'!$B$9:$DX$108,34,0))","v":0},{"$f":"SUM(I3399,J3399)","v":0},null,{"$f":"IF(OR(C3399=\"\",$I3389=\"NSO\"),\"\",VLOOKUP($A3384,'Result Entry'!$B$9:$DX$108,37,0))","v":""}]
[null,"◐",{"$f":"'Result Entry'!$BO$3","v":"Env. Study"},{"$nulls":4},{"$f":"IF(OR(C3400=\"\",$I3389=\"NSO\"),\"\",VLOOKUP($A3384,'Result Entry'!$B$9:$DX$108,66,0))","v":0},0,{"$f":"IF(OR(C3400=\"\",$I3389=\"NSO\"),\"\",VLOOKUP($A3384,'Result Entry'!$B$9:$DX$108,67,0))","v":0},0,null,{"$f":"IF(OR(C3400=\"\",$I3389=\"NSO\"),\"\",VLOOKUP($A3384,'Result Entry'!$B$9:$DX$108,73,0))","v":""}]
[null,"◐","Max. Marks",{"$nulls":4},{"$f":"'Result Entry'!$AS$7","v":50},50,{"$f":"'Result Entry'!$AW$7","v":50},100,null,"A/B/C/D/E"]
[null,"◐",{"$f":"'Result Entry'!$AM$3","v":"English"},{"$nulls":4},{"$f":"IF(OR(C3402=\"\",$I3389=\"NSO\"),\"\",VLOOKUP($A3384,'Result Entry'!$B$9:$DX$108,44,0))","v":0},0,{"$f":"IF(OR(C3402=\"\",$I3389=\"NSO\"),\"\",VLOOKUP($A3384,'Result Entry'!$B$9:$DX$108,48,0))","v":0},0,null,{"$f":"IF(OR(C3402=\"\",$I3389=\"NSO\"),\"\",VLOOKUP($A3384,'Result Entry'!$B$9:$DX$108,51,0))","v":""}]
[null,"◐"]
[null,"◐","Overall Result",null,null,"Total Max. Marks",null,"Total Obtained Marks",null,"Percentage","Overall Grade","Result","Position in Class"]
[null,"◐",{"$nulls":3},{"$f":"IF(OR($I3389=\"\",$I3389=\"NSO\"),\"\",VLOOKUP($A3384,'Result Entry'!$B$9:$DX$108,101,0))","v":500},null,{"$f":"IF(OR($I3389=\"\",$I3389=\"NSO\"),\"\",VLOOKUP($A3384,'Result Entry'!$B$9:$DX$108,102,0))","v":0},null,{"$f":"IF(OR($I3389=\"\",$I3389=\"NSO\"),\"\",VLOOKUP($A3384,'Result Entry'!$B$9:$DX$108,103,0))","v":{"v":0,"d":"0.00"}},{"$f":"IF(OR($I3389=\"\",$I3389=\"NSO\"),\"\",VLOOKUP($A3384,'Result Entry'!$B$9:$DX$108,104,0))","v":""},{"$f":"IF(OR($I3389=\"\",$I3389=\"NSO\"),\"\",VLOOKUP($A3384,'Result Entry'!$B$9:$DX$108,105,0))","v":""},{"$f":"IF(OR($I3389=\"\",$I3389=\"NSO\"),\"\",VLOOKUP($A3384,'Result Entry'!$B$9:$DX$108,107,0))","v":""}]
[null,"◐",{"$nulls":6},"Total Meetings :-",null,{"$f":"IF(OR($I3389=\"\",$I3389=\"NSO\"),\"\",VLOOKUP($A3384,'Result Entry'!$B$9:$DX$108,98,0))","v":0},"Attedance %"]
[null,"◐","Extra Subjects",{"$nulls":5},"Student's Meetings :-",null,{"$f":"IF(OR($I3389=\"\",$I3389=\"NSO\"),\"\",VLOOKUP($A3384,'Result Entry'!$B$9:$DX$108,99,0))","v":0},{"$f":"IF(OR($I3389=\"\",$I3389=\"NSO\"),\"\",VLOOKUP($A3384,'Result Entry'!$B$9:$DX$108,100,0))","v":""}]
[null,"◐","Subject",null,null,"Total Marks",null,"GRADE","Remark :-",null,{"$f":"IF(OR($I3389=\"\",$I3389=\"NSO\"),\"\",VLOOKUP($A3384,'Result Entry'!$B$9:$DX$108,108,0))","v":0}]
[null,"◐",{"$nulls":6},"Result Date :-",null,{"$f":"'Result Entry'!$T$2","v":"2023-05-24"}]
[null,"◐",{"$f":"'Result Entry'!$BW$3","v":"WORK EXP."},null,null,{"$f":"IF(OR(C3410=\"\",$I3389=\"NSO\"),\"\",VLOOKUP($A3384,'Result Entry'!$B$9:$DX$108,119,0))","v":"0/50"},null,{"$f":"IF(OR(C3410=\"\",$I3389=\"NSO\"),\"\",VLOOKUP($A3384,'Result Entry'!$B$9:$DX$108,81,0))","v":""}]
[null,null,{"$f":"'Result Entry'!$CE$3","v":"ART EDU."},null,null,{"$f":"IF(OR(C3411=\"\",$I3389=\"NSO\"),\"\",VLOOKUP($A3384,'Result Entry'!$B$9:$DX$108,123,0))","v":"0/50"},null,{"$f":"IF(OR(C3411=\"\",$I3389=\"NSO\"),\"\",VLOOKUP($A3384,'Result Entry'!$B$9:$DX$108,89,0))","v":""}]
[null,"◐",{"$f":"'Result Entry'!$CM$3","v":"H&P. EDU."},null,null,{"$f":"IF(OR(C3412=\"\",$I3389=\"NSO\"),\"\",VLOOKUP($A3384,'Result Entry'!$B$9:$DX$108,127,0))","v":"0/100"},null,{"$f":"IF(OR(C3412=\"\",$I3389=\"NSO\"),\"\",VLOOKUP($A3384,'Result Entry'!$B$9:$DX$108,97,0))","v":""},"Signature Of The Class Teacher"]
[null,"◐","Grading System"]
[null,"◐","Grd.","% Range",null,"Description"]
[null,"◐","A","86-100",null,"Excellent",null,null,"Signature And Seal Of Principal/H.M."]
[null,"◐","B","71-85",null,"Very Good"]
[null,"◐","C","51-70",null,"Good"]
[null,"◐","D","31-50",null,"Average"]
[null,"◐","E","0-30",null,"Needs Improvement",null,null,"Wish bright future"]
[]
[]
[{"$f":"A3384+1","v":91},"Department Of Education, Rajasthan"]
[null,{"$f":"IF(I3427>0,CONCATENATE(C3427,I3427),0)","v":0},null,{"$f":"Master!$E$8","v":"Govt.Sr.Sec.Sch. "}]
[{"$nulls":3},{"$f":"Master!$E$11","v":"P.S.-Bapini (Jodhpur)"}]
[null,null,"Report Card",{"$nulls":6},"U-DISE Code:-",null,{"$f":"Master!$E$14","v":{"v":810000000,"d":"0810000000"}}]
[{"$nulls":9},"Session:-",null,{"$f":"Master!$E$6","v":"2022-23"}]
[null,null,"Roll No.:-",{"$nulls":5},{"$f":"VLOOKUP($A3422,'Result Entry'!$B$9:$F$108,5,0)","v":0}]
[null,"◐","Scholar Number",{"$nulls":3},"↠",{"$f":"VLOOKUP($A3422,'Result Entry'!$B$9:$DX$108,3,0)","v":0}]
[null,"◐","Student's Name",{"$nulls":3},"↠",{"$f":"VLOOKUP($A3422,'Result Entry'!$B$9:$DX$108,6,0)","v":0}]
[null,"◐","Father's Name",{"$nulls":3},"↠",{"$f":"VLOOKUP($A3422,'Result Entry'!$B$9:$DX$108,7,0)","v":0}]
[null,"◐","Mother's Name ",{"$nulls":3},"↠",{"$f":"VLOOKUP($A3422,'Result Entry'!$B$9:$DX$108,8,0)","v":0}]
[null,"◐","Class & Section",{"$nulls":3},"↠",{"$f":"CONCATENATE('Result Entry'!$F$4,'Result Entry'!$I$4)","v":"2(A)"}]
[null,"◐","Date Of Birth",{"$nulls":3},"↠",{"$f":"VLOOKUP($A3422,'Result Entry'!$B$9:$DX$108,9,0)","v":"00:00:00"}]
[null,"◐","Subject",{"$nulls":4},"Half Yearly","Total (T+H.Y.)","Yearly","Grand Total",null,"Subject Grade"]
[null,"◐","Max. Marks",{"$nulls":4},{"$f":"'Result Entry'!$Q$7","v":100},{"$f":"G3435+H3435","v":100},{"$f":"'Result Entry'!$U$7","v":100},{"$f":"I3435+J3435","v":200},null,"A/B/C/D/E"]
[null,"◐",{"$f":"'Result Entry'!$K$3","v":"Hindi"},{"$nulls":4},{"$f":"IF(OR(C3436=\"\",$I3427=\"NSO\"),\"\",VLOOKUP($A3422,'Result Entry'!$B$9:$DX$108,16,0))","v":0},{"$f":"SUM(G3436,H3436)","v":0},{"$f":"IF(OR(C3436=\"\",$I3427=\"NSO\"),\"\",VLOOKUP($A3422,'Result Entry'!$B$9:$DX$108,20,0))","v":0},{"$f":"SUM(I3436,J3436)","v":0},null,{"$f":"IF(OR(C3436=\"\",$I3427=\"NSO\"),\"\",VLOOKUP($A3422,'Result Entry'!$B$9:$DX$108,23,0))","v":""}]
[null,"◐",{"$f":"'Result Entry'!$Y$3","v":"Mathematics"},{"$nulls":4},{"$f":"IF(OR(C3437=\"\",$I3427=\"NSO\"),\"\",VLOOKUP($A3422,'Result Entry'!$B$9:$DX$108,30,0))","v":0},{"$f":"SUM(G3437,H3437)","v":0},{"$f":"IF(OR(C3437=\"\",$I3427=\"NSO\"),\"\",VLOOKUP($A3422,'Result Entry'!$B$9:$DX$108,34,0))","v":0},{"$f":"SUM(I3437,J3437)","v":0},null,{"$f":"IF(OR(C3437=\"\",$I3427=\"NSO\"),\"\",VLOOKUP($A3422,'Result Entry'!$B$9:$DX$108,37,0))","v":""}]
[null,"◐",{"$f":"'Result Entry'!$BO$3","v":"Env. Study"},{"$nulls":4},{"$f":"IF(OR(C3438=\"\",$I3427=\"NSO\"),\"\",VLOOKUP($A3422,'Result Entry'!$B$9:$DX$108,66,0))","v":0},0,{"$f":"IF(OR(C3438=\"\",$I3427=\"NSO\"),\"\",VLOOKUP($A3422,'Result Entry'!$B$9:$DX$108,67,0))","v":0},0,null,{"$f":"IF(OR(C3438=\"\",$I3427=\"NSO\"),\"\",VLOOKUP($A3422,'Result Entry'!$B$9:$DX$108,73,0))","v":""}]
[null,"◐","Max. Marks",{"$nulls":4},{"$f":"'Result Entry'!$AS$7","v":50},50,{"$f":"'Result Entry'!$AW$7","v":50},100,null,"A/B/C/D/E"]
[null,"◐",{"$f":"'Result Entry'!$AM$3","v":"English"},{"$nulls":4},{"$f":"IF(OR(C3440=\"\",$I3427=\"NSO\"),\"\",VLOOKUP($A3422,'Result Entry'!$B$9:$DX$108,44,0))","v":0},0,{"$f":"IF(OR(C3440=\"\",$I3427=\"NSO\"),\"\",VLOOKUP($A3422,'Result Entry'!$B$9:$DX$108,48,0))","v":0},0,null,{"$f":"IF(OR(C3440=\"\",$I3427=\"NSO\"),\"\",VLOOKUP($A3422,'Result Entry'!$B$9:$DX$108,51,0))","v":""}]
[null,"◐"]
[null,"◐","Overall Result",null,null,"Total Max. Marks",null,"Total Obtained Marks",null,"Percentage","Overall Grade","Result","Position in Class"]
[null,"◐",{"$nulls":3},{"$f":"IF(OR($I3427=\"\",$I3427=\"NSO\"),\"\",VLOOKUP($A3422,'Result Entry'!$B$9:$DX$108,101,0))","v":500},null,{"$f":"IF(OR($I3427=\"\",$I3427=\"NSO\"),\"\",VLOOKUP($A3422,'Result Entry'!$B$9:$DX$108,102,0))","v":0},null,{"$f":"IF(OR($I3427=\"\",$I3427=\"NSO\"),\"\",VLOOKUP($A3422,'Result Entry'!$B$9:$DX$108,103,0))","v":{"v":0,"d":"0.00"}},{"$f":"IF(OR($I3427=\"\",$I3427=\"NSO\"),\"\",VLOOKUP($A3422,'Result Entry'!$B$9:$DX$108,104,0))","v":""},{"$f":"IF(OR($I3427=\"\",$I3427=\"NSO\"),\"\",VLOOKUP($A3422,'Result Entry'!$B$9:$DX$108,105,0))","v":""},{"$f":"IF(OR($I3427=\"\",$I3427=\"NSO\"),\"\",VLOOKUP($A3422,'Result Entry'!$B$9:$DX$108,107,0))","v":""}]
[null,"◐",{"$nulls":6},"Total Meetings :-",null,{"$f":"IF(OR($I3427=\"\",$I3427=\"NSO\"),\"\",VLOOKUP($A3422,'Result Entry'!$B$9:$DX$108,98,0))","v":0},"Attedance %"]
[null,"◐","Extra Subjects",{"$nulls":5},"Student's Meetings :-",null,{"$f":"IF(OR($I3427=\"\",$I3427=\"NSO\"),\"\",VLOOKUP($A3422,'Result Entry'!$B$9:$DX$108,99,0))","v":0},{"$f":"IF(OR($I3427=\"\",$I3427=\"NSO\"),\"\",VLOOKUP($A3422,'Result Entry'!$B$9:$DX$108,100,0))","v":""}]
[null,"◐","Subject",null,null,"Total Marks",null,"GRADE","Remark :-",null,{"$f":"IF(OR($I3427=\"\",$I3427=\"NSO\"),\"\",VLOOKUP($A3422,'Result Entry'!$B$9:$DX$108,108,0))","v":0}]
[null,"◐",{"$nulls":6},"Result Date :-",null,{"$f":"'Result Entry'!$T$2","v":"2023-05-24"}]
[null,"◐",{"$f":"'Result Entry'!$BW$3","v":"WORK EXP."},null,null,{"$f":"IF(OR(C3448=\"\",$I3427=\"NSO\"),\"\",VLOOKUP($A3422,'Result Entry'!$B$9:$DX$108,119,0))","v":"0/50"},null,{"$f":"IF(OR(C3448=\"\",$I3427=\"NSO\"),\"\",VLOOKUP($A3422,'Result Entry'!$B$9:$DX$108,81,0))","v":""}]
[null,null,{"$f":"'Result Entry'!$CE$3","v":"ART EDU."},null,null,{"$f":"IF(OR(C3449=\"\",$I3427=\"NSO\"),\"\",VLOOKUP($A3422,'Result Entry'!$B$9:$DX$108,123,0))","v":"0/50"},null,{"$f":"IF(OR(C3449=\"\",$I3427=\"NSO\"),\"\",VLOOKUP($A3422,'Result Entry'!$B$9:$DX$108,89,0))","v":""}]
[null,"◐",{"$f":"'Result Entry'!$CM$3","v":"H&P. EDU."},null,null,{"$f":"IF(OR(C3450=\"\",$I3427=\"NSO\"),\"\",VLOOKUP($A3422,'Result Entry'!$B$9:$DX$108,127,0))","v":"0/100"},null,{"$f":"IF(OR(C3450=\"\",$I3427=\"NSO\"),\"\",VLOOKUP($A3422,'Result Entry'!$B$9:$DX$108,97,0))","v":""},"Signature Of The Class Teacher"]
[null,"◐","Grading System"]
[null,"◐","Grd.","% Range",null,"Description"]
[null,"◐","A","86-100",null,"Excellent",null,null,"Signature And Seal Of Principal/H.M."]
[null,"◐","B","71-85",null,"Very Good"]
[null,"◐","C","51-70",null,"Good"]
[null,"◐","D","31-50",null,"Average"]
[null,"◐","E","0-30",null,"Needs Improvement",null,null,"Wish bright future"]
[]
[]
[{"$f":"A3422+1","v":92},"Department Of Education, Rajasthan"]
[null,{"$f":"IF(I3465>0,CONCATENATE(C3465,I3465),0)","v":0},null,{"$f":"Master!$E$8","v":"Govt.Sr.Sec.Sch. "}]
[{"$nulls":3},{"$f":"Master!$E$11","v":"P.S.-Bapini (Jodhpur)"}]
[null,null,"Report Card",{"$nulls":6},"U-DISE Code:-",null,{"$f":"Master!$E$14","v":{"v":810000000,"d":"0810000000"}}]
[{"$nulls":9},"Session:-",null,{"$f":"Master!$E$6","v":"2022-23"}]
[null,null,"Roll No.:-",{"$nulls":5},{"$f":"VLOOKUP($A3460,'Result Entry'!$B$9:$F$108,5,0)","v":0}]
[null,"◐","Scholar Number",{"$nulls":3},"↠",{"$f":"VLOOKUP($A3460,'Result Entry'!$B$9:$DX$108,3,0)","v":0}]
[null,"◐","Student's Name",{"$nulls":3},"↠",{"$f":"VLOOKUP($A3460,'Result Entry'!$B$9:$DX$108,6,0)","v":0}]
[null,"◐","Father's Name",{"$nulls":3},"↠",{"$f":"VLOOKUP($A3460,'Result Entry'!$B$9:$DX$108,7,0)","v":0}]
[null,"◐","Mother's Name ",{"$nulls":3},"↠",{"$f":"VLOOKUP($A3460,'Result Entry'!$B$9:$DX$108,8,0)","v":0}]
[null,"◐","Class & Section",{"$nulls":3},"↠",{"$f":"CONCATENATE('Result Entry'!$F$4,'Result Entry'!$I$4)","v":"2(A)"}]
[null,"◐","Date Of Birth",{"$nulls":3},"↠",{"$f":"VLOOKUP($A3460,'Result Entry'!$B$9:$DX$108,9,0)","v":"00:00:00"}]
[null,"◐","Subject",{"$nulls":4},"Half Yearly","Total (T+H.Y.)","Yearly","Grand Total",null,"Subject Grade"]
[null,"◐","Max. Marks",{"$nulls":4},{"$f":"'Result Entry'!$Q$7","v":100},{"$f":"G3473+H3473","v":100},{"$f":"'Result Entry'!$U$7","v":100},{"$f":"I3473+J3473","v":200},null,"A/B/C/D/E"]
[null,"◐",{"$f":"'Result Entry'!$K$3","v":"Hindi"},{"$nulls":4},{"$f":"IF(OR(C3474=\"\",$I3465=\"NSO\"),\"\",VLOOKUP($A3460,'Result Entry'!$B$9:$DX$108,16,0))","v":0},{"$f":"SUM(G3474,H3474)","v":0},{"$f":"IF(OR(C3474=\"\",$I3465=\"NSO\"),\"\",VLOOKUP($A3460,'Result Entry'!$B$9:$DX$108,20,0))","v":0},{"$f":"SUM(I3474,J3474)","v":0},null,{"$f":"IF(OR(C3474=\"\",$I3465=\"NSO\"),\"\",VLOOKUP($A3460,'Result Entry'!$B$9:$DX$108,23,0))","v":""}]
[null,"◐",{"$f":"'Result Entry'!$Y$3","v":"Mathematics"},{"$nulls":4},{"$f":"IF(OR(C3475=\"\",$I3465=\"NSO\"),\"\",VLOOKUP($A3460,'Result Entry'!$B$9:$DX$108,30,0))","v":0},{"$f":"SUM(G3475,H3475)","v":0},{"$f":"IF(OR(C3475=\"\",$I3465=\"NSO\"),\"\",VLOOKUP($A3460,'Result Entry'!$B$9:$DX$108,34,0))","v":0},{"$f":"SUM(I3475,J3475)","v":0},null,{"$f":"IF(OR(C3475=\"\",$I3465=\"NSO\"),\"\",VLOOKUP($A3460,'Result Entry'!$B$9:$DX$108,37,0))","v":""}]
[null,"◐",{"$f":"'Result Entry'!$BO$3","v":"Env. Study"},{"$nulls":4},{"$f":"IF(OR(C3476=\"\",$I3465=\"NSO\"),\"\",VLOOKUP($A3460,'Result Entry'!$B$9:$DX$108,66,0))","v":0},0,{"$f":"IF(OR(C3476=\"\",$I3465=\"NSO\"),\"\",VLOOKUP($A3460,'Result Entry'!$B$9:$DX$108,67,0))","v":0},0,null,{"$f":"IF(OR(C3476=\"\",$I3465=\"NSO\"),\"\",VLOOKUP($A3460,'Result Entry'!$B$9:$DX$108,73,0))","v":""}]
[null,"◐","Max. Marks",{"$nulls":4},{"$f":"'Result Entry'!$AS$7","v":50},50,{"$f":"'Result Entry'!$AW$7","v":50},100,null,"A/B/C/D/E"]
[null,"◐",{"$f":"'Result Entry'!$AM$3","v":"English"},{"$nulls":4},{"$f":"IF(OR(C3478=\"\",$I3465=\"NSO\"),\"\",VLOOKUP($A3460,'Result Entry'!$B$9:$DX$108,44,0))","v":0},0,{"$f":"IF(OR(C3478=\"\",$I3465=\"NSO\"),\"\",VLOOKUP($A3460,'Result Entry'!$B$9:$DX$108,48,0))","v":0},0,null,{"$f":"IF(OR(C3478=\"\",$I3465=\"NSO\"),\"\",VLOOKUP($A3460,'Result Entry'!$B$9:$DX$108,51,0))","v":""}]
[null,"◐"]
[null,"◐","Overall Result",null,null,"Total Max. Marks",null,"Total Obtained Marks",null,"Percentage","Overall Grade","Result","Position in Class"]
[null,"◐",{"$nulls":3},{"$f":"IF(OR($I3465=\"\",$I3465=\"NSO\"),\"\",VLOOKUP($A3460,'Result Entry'!$B$9:$DX$108,101,0))","v":500},null,{"$f":"IF(OR($I3465=\"\",$I3465=\"NSO\"),\"\",VLOOKUP($A3460,'Result Entry'!$B$9:$DX$108,102,0))","v":0},null,{"$f":"IF(OR($I3465=\"\",$I3465=\"NSO\"),\"\",VLOOKUP($A3460,'Result Entry'!$B$9:$DX$108,103,0))","v":{"v":0,"d":"0.00"}},{"$f":"IF(OR($I3465=\"\",$I3465=\"NSO\"),\"\",VLOOKUP($A3460,'Result Entry'!$B$9:$DX$108,104,0))","v":""},{"$f":"IF(OR($I3465=\"\",$I3465=\"NSO\"),\"\",VLOOKUP($A3460,'Result Entry'!$B$9:$DX$108,105,0))","v":""},{"$f":"IF(OR($I3465=\"\",$I3465=\"NSO\"),\"\",VLOOKUP($A3460,'Result Entry'!$B$9:$DX$108,107,0))","v":""}]
[null,"◐",{"$nulls":6},"Total Meetings :-",null,{"$f":"IF(OR($I3465=\"\",$I3465=\"NSO\"),\"\",VLOOKUP($A3460,'Result Entry'!$B$9:$DX$108,98,0))","v":0},"Attedance %"]
[null,"◐","Extra Subjects",{"$nulls":5},"Student's Meetings :-",null,{"$f":"IF(OR($I3465=\"\",$I3465=\"NSO\"),\"\",VLOOKUP($A3460,'Result Entry'!$B$9:$DX$108,99,0))","v":0},{"$f":"IF(OR($I3465=\"\",$I3465=\"NSO\"),\"\",VLOOKUP($A3460,'Result Entry'!$B$9:$DX$108,100,0))","v":""}]
[null,"◐","Subject",null,null,"Total Marks",null,"GRADE","Remark :-",null,{"$f":"IF(OR($I3465=\"\",$I3465=\"NSO\"),\"\",VLOOKUP($A3460,'Result Entry'!$B$9:$DX$108,108,0))","v":0}]
[null,"◐",{"$nulls":6},"Result Date :-",null,{"$f":"'Result Entry'!$T$2","v":"2023-05-24"}]
[null,"◐",{"$f":"'Result Entry'!$BW$3","v":"WORK EXP."},null,null,{"$f":"IF(OR(C3486=\"\",$I3465=\"NSO\"),\"\",VLOOKUP($A3460,'Result Entry'!$B$9:$DX$108,119,0))","v":"0/50"},null,{"$f":"IF(OR(C3486=\"\",$I3465=\"NSO\"),\"\",VLOOKUP($A3460,'Result Entry'!$B$9:$DX$108,81,0))","v":""}]
[null,null,{"$f":"'Result Entry'!$CE$3","v":"ART EDU."},null,null,{"$f":"IF(OR(C3487=\"\",$I3465=\"NSO\"),\"\",VLOOKUP($A3460,'Result Entry'!$B$9:$DX$108,123,0))","v":"0/50"},null,{"$f":"IF(OR(C3487=\"\",$I3465=\"NSO\"),\"\",VLOOKUP($A3460,'Result Entry'!$B$9:$DX$108,89,0))","v":""}]
[null,"◐",{"$f":"'Result Entry'!$CM$3","v":"H&P. EDU."},null,null,{"$f":"IF(OR(C3488=\"\",$I3465=\"NSO\"),\"\",VLOOKUP($A3460,'Result Entry'!$B$9:$DX$108,127,0))","v":"0/100"},null,{"$f":"IF(OR(C3488=\"\",$I3465=\"NSO\"),\"\",VLOOKUP($A3460,'Result Entry'!$B$9:$DX$108,97,0))","v":""},"Signature Of The Class Teacher"]
[null,"◐","Grading System"]
[null,"◐","Grd.","% Range",null,"Description"]
[null,"◐","A","86-100",null,"Excellent",null,null,"Signature And Seal Of Principal/H.M."]
[null,"◐","B","71-85",null,"Very Good"]
[null,"◐","C","51-70",null,"Good"]
[null,"◐","D","31-50",null,"Average"]
[null,"◐","E","0-30",null,"Needs Improvement",null,null,"Wish bright future"]
[]
[]
[{"$f":"A3460+1","v":93},"Department Of Education, Rajasthan"]
[null,{"$f":"IF(I3503>0,CONCATENATE(C3503,I3503),0)","v":0},null,{"$f":"Master!$E$8","v":"Govt.Sr.Sec.Sch. "}]
[{"$nulls":3},{"$f":"Master!$E$11","v":"P.S.-Bapini (Jodhpur)"}]
[null,null,"Report Card",{"$nulls":6},"U-DISE Code:-",null,{"$f":"Master!$E$14","v":{"v":810000000,"d":"0810000000"}}]
[{"$nulls":9},"Session:-",null,{"$f":"Master!$E$6","v":"2022-23"}]
[null,null,"Roll No.:-",{"$nulls":5},{"$f":"VLOOKUP($A3498,'Result Entry'!$B$9:$F$108,5,0)","v":0}]
[null,"◐","Scholar Number",{"$nulls":3},"↠",{"$f":"VLOOKUP($A3498,'Result Entry'!$B$9:$DX$108,3,0)","v":0}]
[null,"◐","Student's Name",{"$nulls":3},"↠",{"$f":"VLOOKUP($A3498,'Result Entry'!$B$9:$DX$108,6,0)","v":0}]
[null,"◐","Father's Name",{"$nulls":3},"↠",{"$f":"VLOOKUP($A3498,'Result Entry'!$B$9:$DX$108,7,0)","v":0}]
[null,"◐","Mother's Name ",{"$nulls":3},"↠",{"$f":"VLOOKUP($A3498,'Result Entry'!$B$9:$DX$108,8,0)","v":0}]
[null,"◐","Class & Section",{"$nulls":3},"↠",{"$f":"CONCATENATE('Result Entry'!$F$4,'Result Entry'!$I$4)","v":"2(A)"}]
[null,"◐","Date Of Birth",{"$nulls":3},"↠",{"$f":"VLOOKUP($A3498,'Result Entry'!$B$9:$DX$108,9,0)","v":"00:00:00"}]
[null,"◐","Subject",{"$nulls":4},"Half Yearly","Total (T+H.Y.)","Yearly","Grand Total",null,"Subject Grade"]
[null,"◐","Max. Marks",{"$nulls":4},{"$f":"'Result Entry'!$Q$7","v":100},{"$f":"G3511+H3511","v":100},{"$f":"'Result Entry'!$U$7","v":100},{"$f":"I3511+J3511","v":200},null,"A/B/C/D/E"]
[null,"◐",{"$f":"'Result Entry'!$K$3","v":"Hindi"},{"$nulls":4},{"$f":"IF(OR(C3512=\"\",$I3503=\"NSO\"),\"\",VLOOKUP($A3498,'Result Entry'!$B$9:$DX$108,16,0))","v":0},{"$f":"SUM(G3512,H3512)","v":0},{"$f":"IF(OR(C3512=\"\",$I3503=\"NSO\"),\"\",VLOOKUP($A3498,'Result Entry'!$B$9:$DX$108,20,0))","v":0},{"$f":"SUM(I3512,J3512)","v":0},null,{"$f":"IF(OR(C3512=\"\",$I3503=\"NSO\"),\"\",VLOOKUP($A3498,'Result Entry'!$B$9:$DX$108,23,0))","v":""}]
[null,"◐",{"$f":"'Result Entry'!$Y$3","v":"Mathematics"},{"$nulls":4},{"$f":"IF(OR(C3513=\"\",$I3503=\"NSO\"),\"\",VLOOKUP($A3498,'Result Entry'!$B$9:$DX$108,30,0))","v":0},{"$f":"SUM(G3513,H3513)","v":0},{"$f":"IF(OR(C3513=\"\",$I3503=\"NSO\"),\"\",VLOOKUP($A3498,'Result Entry'!$B$9:$DX$108,34,0))","v":0},{"$f":"SUM(I3513,J3513)","v":0},null,{"$f":"IF(OR(C3513=\"\",$I3503=\"NSO\"),\"\",VLOOKUP($A3498,'Result Entry'!$B$9:$DX$108,37,0))","v":""}]
[null,"◐",{"$f":"'Result Entry'!$BO$3","v":"Env. Study"},{"$nulls":4},{"$f":"IF(OR(C3514=\"\",$I3503=\"NSO\"),\"\",VLOOKUP($A3498,'Result Entry'!$B$9:$DX$108,66,0))","v":0},0,{"$f":"IF(OR(C3514=\"\",$I3503=\"NSO\"),\"\",VLOOKUP($A3498,'Result Entry'!$B$9:$DX$108,67,0))","v":0},0,null,{"$f":"IF(OR(C3514=\"\",$I3503=\"NSO\"),\"\",VLOOKUP($A3498,'Result Entry'!$B$9:$DX$108,73,0))","v":""}]
[null,"◐","Max. Marks",{"$nulls":4},{"$f":"'Result Entry'!$AS$7","v":50},50,{"$f":"'Result Entry'!$AW$7","v":50},100,null,"A/B/C/D/E"]
[null,"◐",{"$f":"'Result Entry'!$AM$3","v":"English"},{"$nulls":4},{"$f":"IF(OR(C3516=\"\",$I3503=\"NSO\"),\"\",VLOOKUP($A3498,'Result Entry'!$B$9:$DX$108,44,0))","v":0},0,{"$f":"IF(OR(C3516=\"\",$I3503=\"NSO\"),\"\",VLOOKUP($A3498,'Result Entry'!$B$9:$DX$108,48,0))","v":0},0,null,{"$f":"IF(OR(C3516=\"\",$I3503=\"NSO\"),\"\",VLOOKUP($A3498,'Result Entry'!$B$9:$DX$108,51,0))","v":""}]
[null,"◐"]
[null,"◐","Overall Result",null,null,"Total Max. Marks",null,"Total Obtained Marks",null,"Percentage","Overall Grade","Result","Position in Class"]
[null,"◐",{"$nulls":3},{"$f":"IF(OR($I3503=\"\",$I3503=\"NSO\"),\"\",VLOOKUP($A3498,'Result Entry'!$B$9:$DX$108,101,0))","v":500},null,{"$f":"IF(OR($I3503=\"\",$I3503=\"NSO\"),\"\",VLOOKUP($A3498,'Result Entry'!$B$9:$DX$108,102,0))","v":0},null,{"$f":"IF(OR($I3503=\"\",$I3503=\"NSO\"),\"\",VLOOKUP($A3498,'Result Entry'!$B$9:$DX$108,103,0))","v":{"v":0,"d":"0.00"}},{"$f":"IF(OR($I3503=\"\",$I3503=\"NSO\"),\"\",VLOOKUP($A3498,'Result Entry'!$B$9:$DX$108,104,0))","v":""},{"$f":"IF(OR($I3503=\"\",$I3503=\"NSO\"),\"\",VLOOKUP($A3498,'Result Entry'!$B$9:$DX$108,105,0))","v":""},{"$f":"IF(OR($I3503=\"\",$I3503=\"NSO\"),\"\",VLOOKUP($A3498,'Result Entry'!$B$9:$DX$108,107,0))","v":""}]
[null,"◐",{"$nulls":6},"Total Meetings :-",null,{"$f":"IF(OR($I3503=\"\",$I3503=\"NSO\"),\"\",VLOOKUP($A3498,'Result Entry'!$B$9:$DX$108,98,0))","v":0},"Attedance %"]
[null,"◐","Extra Subjects",{"$nulls":5},"Student's Meetings :-",null,{"$f":"IF(OR($I3503=\"\",$I3503=\"NSO\"),\"\",VLOOKUP($A3498,'Result Entry'!$B$9:$DX$108,99,0))","v":0},{"$f":"IF(OR($I3503=\"\",$I3503=\"NSO\"),\"\",VLOOKUP($A3498,'Result Entry'!$B$9:$DX$108,100,0))","v":""}]
[null,"◐","Subject",null,null,"Total Marks",null,"GRADE","Remark :-",null,{"$f":"IF(OR($I3503=\"\",$I3503=\"NSO\"),\"\",VLOOKUP($A3498,'Result Entry'!$B$9:$DX$108,108,0))","v":0}]
[null,"◐",{"$nulls":6},"Result Date :-",null,{"$f":"'Result Entry'!$T$2","v":"2023-05-24"}]
[null,"◐",{"$f":"'Result Entry'!$BW$3","v":"WORK EXP."},null,null,{"$f":"IF(OR(C3524=\"\",$I3503=\"NSO\"),\"\",VLOOKUP($A3498,'Result Entry'!$B$9:$DX$108,119,0))","v":"0/50"},null,{"$f":"IF(OR(C3524=\"\",$I3503=\"NSO\"),\"\",VLOOKUP($A3498,'Result Entry'!$B$9:$DX$108,81,0))","v":""}]
[null,null,{"$f":"'Result Entry'!$CE$3","v":"ART EDU."},null,null,{"$f":"IF(OR(C3525=\"\",$I3503=\"NSO\"),\"\",VLOOKUP($A3498,'Result Entry'!$B$9:$DX$108,123,0))","v":"0/50"},null,{"$f":"IF(OR(C3525=\"\",$I3503=\"NSO\"),\"\",VLOOKUP($A3498,'Result Entry'!$B$9:$DX$108,89,0))","v":""}]
[null,"◐",{"$f":"'Result Entry'!$CM$3","v":"H&P. EDU."},null,null,{"$f":"IF(OR(C3526=\"\",$I3503=\"NSO\"),\"\",VLOOKUP($A3498,'Result Entry'!$B$9:$DX$108,127,0))","v":"0/100"},null,{"$f":"IF(OR(C3526=\"\",$I3503=\"NSO\"),\"\",VLOOKUP($A3498,'Result Entry'!$B$9:$DX$108,97,0))","v":""},"Signature Of The Class Teacher"]
[null,"◐","Grading System"]
[null,"◐","Grd.","% Range",null,"Description"]
[null,"◐","A","86-100",null,"Excellent",null,null,"Signature And Seal Of Principal/H.M."]
[null,"◐","B","71-85",null,"Very Good"]
[null,"◐","C","51-70",null,"Good"]
[null,"◐","D","31-50",null,"Average"]
[null,"◐","E","0-30",null,"Needs Improvement",null,null,"Wish bright future"]
[]
[]
[{"$f":"A3498+1","v":94},"Department Of Education, Rajasthan"]
[null,{"$f":"IF(I3541>0,CONCATENATE(C3541,I3541),0)","v":0},null,{"$f":"Master!$E$8","v":"Govt.Sr.Sec.Sch. "}]
[{"$nulls":3},{"$f":"Master!$E$11","v":"P.S.-Bapini (Jodhpur)"}]
[null,null,"Report Card",{"$nulls":6},"U-DISE Code:-",null,{"$f":"Master!$E$14","v":{"v":810000000,"d":"0810000000"}}]
[{"$nulls":9},"Session:-",null,{"$f":"Master!$E$6","v":"2022-23"}]
[null,null,"Roll No.:-",{"$nulls":5},{"$f":"VLOOKUP($A3536,'Result Entry'!$B$9:$F$108,5,0)","v":0}]
[null,"◐","Scholar Number",{"$nulls":3},"↠",{"$f":"VLOOKUP($A3536,'Result Entry'!$B$9:$DX$108,3,0)","v":0}]
[null,"◐","Student's Name",{"$nulls":3},"↠",{"$f":"VLOOKUP($A3536,'Result Entry'!$B$9:$DX$108,6,0)","v":0}]
[null,"◐","Father's Name",{"$nulls":3},"↠",{"$f":"VLOOKUP($A3536,'Result Entry'!$B$9:$DX$108,7,0)","v":0}]
[null,"◐","Mother's Name ",{"$nulls":3},"↠",{"$f":"VLOOKUP($A3536,'Result Entry'!$B$9:$DX$108,8,0)","v":0}]
[null,"◐","Class & Section",{"$nulls":3},"↠",{"$f":"CONCATENATE('Result Entry'!$F$4,'Result Entry'!$I$4)","v":"2(A)"}]
[null,"◐","Date Of Birth",{"$nulls":3},"↠",{"$f":"VLOOKUP($A3536,'Result Entry'!$B$9:$DX$108,9,0)","v":"00:00:00"}]
[null,"◐","Subject",{"$nulls":4},"Half Yearly","Total (T+H.Y.)","Yearly","Grand Total",null,"Subject Grade"]
[null,"◐","Max. Marks",{"$nulls":4},{"$f":"'Result Entry'!$Q$7","v":100},{"$f":"G3549+H3549","v":100},{"$f":"'Result Entry'!$U$7","v":100},{"$f":"I3549+J3549","v":200},null,"A/B/C/D/E"]
[null,"◐",{"$f":"'Result Entry'!$K$3","v":"Hindi"},{"$nulls":4},{"$f":"IF(OR(C3550=\"\",$I3541=\"NSO\"),\"\",VLOOKUP($A3536,'Result Entry'!$B$9:$DX$108,16,0))","v":0},{"$f":"SUM(G3550,H3550)","v":0},{"$f":"IF(OR(C3550=\"\",$I3541=\"NSO\"),\"\",VLOOKUP($A3536,'Result Entry'!$B$9:$DX$108,20,0))","v":0},{"$f":"SUM(I3550,J3550)","v":0},null,{"$f":"IF(OR(C3550=\"\",$I3541=\"NSO\"),\"\",VLOOKUP($A3536,'Result Entry'!$B$9:$DX$108,23,0))","v":""}]
[null,"◐",{"$f":"'Result Entry'!$Y$3","v":"Mathematics"},{"$nulls":4},{"$f":"IF(OR(C3551=\"\",$I3541=\"NSO\"),\"\",VLOOKUP($A3536,'Result Entry'!$B$9:$DX$108,30,0))","v":0},{"$f":"SUM(G3551,H3551)","v":0},{"$f":"IF(OR(C3551=\"\",$I3541=\"NSO\"),\"\",VLOOKUP($A3536,'Result Entry'!$B$9:$DX$108,34,0))","v":0},{"$f":"SUM(I3551,J3551)","v":0},null,{"$f":"IF(OR(C3551=\"\",$I3541=\"NSO\"),\"\",VLOOKUP($A3536,'Result Entry'!$B$9:$DX$108,37,0))","v":""}]
[null,"◐",{"$f":"'Result Entry'!$BO$3","v":"Env. Study"},{"$nulls":4},{"$f":"IF(OR(C3552=\"\",$I3541=\"NSO\"),\"\",VLOOKUP($A3536,'Result Entry'!$B$9:$DX$108,66,0))","v":0},0,{"$f":"IF(OR(C3552=\"\",$I3541=\"NSO\"),\"\",VLOOKUP($A3536,'Result Entry'!$B$9:$DX$108,67,0))","v":0},0,null,{"$f":"IF(OR(C3552=\"\",$I3541=\"NSO\"),\"\",VLOOKUP($A3536,'Result Entry'!$B$9:$DX$108,73,0))","v":""}]
[null,"◐","Max. Marks",{"$nulls":4},{"$f":"'Result Entry'!$AS$7","v":50},50,{"$f":"'Result Entry'!$AW$7","v":50},100,null,"A/B/C/D/E"]
[null,"◐",{"$f":"'Result Entry'!$AM$3","v":"English"},{"$nulls":4},{"$f":"IF(OR(C3554=\"\",$I3541=\"NSO\"),\"\",VLOOKUP($A3536,'Result Entry'!$B$9:$DX$108,44,0))","v":0},0,{"$f":"IF(OR(C3554=\"\",$I3541=\"NSO\"),\"\",VLOOKUP($A3536,'Result Entry'!$B$9:$DX$108,48,0))","v":0},0,null,{"$f":"IF(OR(C3554=\"\",$I3541=\"NSO\"),\"\",VLOOKUP($A3536,'Result Entry'!$B$9:$DX$108,51,0))","v":""}]
[null,"◐"]
[null,"◐","Overall Result",null,null,"Total Max. Marks",null,"Total Obtained Marks",null,"Percentage","Overall Grade","Result","Position in Class"]
[null,"◐",{"$nulls":3},{"$f":"IF(OR($I3541=\"\",$I3541=\"NSO\"),\"\",VLOOKUP($A3536,'Result Entry'!$B$9:$DX$108,101,0))","v":500},null,{"$f":"IF(OR($I3541=\"\",$I3541=\"NSO\"),\"\",VLOOKUP($A3536,'Result Entry'!$B$9:$DX$108,102,0))","v":0},null,{"$f":"IF(OR($I3541=\"\",$I3541=\"NSO\"),\"\",VLOOKUP($A3536,'Result Entry'!$B$9:$DX$108,103,0))","v":{"v":0,"d":"0.00"}},{"$f":"IF(OR($I3541=\"\",$I3541=\"NSO\"),\"\",VLOOKUP($A3536,'Result Entry'!$B$9:$DX$108,104,0))","v":""},{"$f":"IF(OR($I3541=\"\",$I3541=\"NSO\"),\"\",VLOOKUP($A3536,'Result Entry'!$B$9:$DX$108,105,0))","v":""},{"$f":"IF(OR($I3541=\"\",$I3541=\"NSO\"),\"\",VLOOKUP($A3536,'Result Entry'!$B$9:$DX$108,107,0))","v":""}]
[null,"◐",{"$nulls":6},"Total Meetings :-",null,{"$f":"IF(OR($I3541=\"\",$I3541=\"NSO\"),\"\",VLOOKUP($A3536,'Result Entry'!$B$9:$DX$108,98,0))","v":0},"Attedance %"]
[null,"◐","Extra Subjects",{"$nulls":5},"Student's Meetings :-",null,{"$f":"IF(OR($I3541=\"\",$I3541=\"NSO\"),\"\",VLOOKUP($A3536,'Result Entry'!$B$9:$DX$108,99,0))","v":0},{"$f":"IF(OR($I3541=\"\",$I3541=\"NSO\"),\"\",VLOOKUP($A3536,'Result Entry'!$B$9:$DX$108,100,0))","v":""}]
[null,"◐","Subject",null,null,"Total Marks",null,"GRADE","Remark :-",null,{"$f":"IF(OR($I3541=\"\",$I3541=\"NSO\"),\"\",VLOOKUP($A3536,'Result Entry'!$B$9:$DX$108,108,0))","v":0}]
[null,"◐",{"$nulls":6},"Result Date :-",null,{"$f":"'Result Entry'!$T$2","v":"2023-05-24"}]
[null,"◐",{"$f":"'Result Entry'!$BW$3","v":"WORK EXP."},null,null,{"$f":"IF(OR(C3562=\"\",$I3541=\"NSO\"),\"\",VLOOKUP($A3536,'Result Entry'!$B$9:$DX$108,119,0))","v":"0/50"},null,{"$f":"IF(OR(C3562=\"\",$I3541=\"NSO\"),\"\",VLOOKUP($A3536,'Result Entry'!$B$9:$DX$108,81,0))","v":""}]
[null,null,{"$f":"'Result Entry'!$CE$3","v":"ART EDU."},null,null,{"$f":"IF(OR(C3563=\"\",$I3541=\"NSO\"),\"\",VLOOKUP($A3536,'Result Entry'!$B$9:$DX$108,123,0))","v":"0/50"},null,{"$f":"IF(OR(C3563=\"\",$I3541=\"NSO\"),\"\",VLOOKUP($A3536,'Result Entry'!$B$9:$DX$108,89,0))","v":""}]
[null,"◐",{"$f":"'Result Entry'!$CM$3","v":"H&P. EDU."},null,null,{"$f":"IF(OR(C3564=\"\",$I3541=\"NSO\"),\"\",VLOOKUP($A3536,'Result Entry'!$B$9:$DX$108,127,0))","v":"0/100"},null,{"$f":"IF(OR(C3564=\"\",$I3541=\"NSO\"),\"\",VLOOKUP($A3536,'Result Entry'!$B$9:$DX$108,97,0))","v":""},"Signature Of The Class Teacher"]
[null,"◐","Grading System"]
[null,"◐","Grd.","% Range",null,"Description"]
[null,"◐","A","86-100",null,"Excellent",null,null,"Signature And Seal Of Principal/H.M."]
[null,"◐","B","71-85",null,"Very Good"]
[null,"◐","C","51-70",null,"Good"]
[null,"◐","D","31-50",null,"Average"]
[null,"◐","E","0-30",null,"Needs Improvement",null,null,"Wish bright future"]
[]
[]
[{"$f":"A3536+1","v":95},"Department Of Education, Rajasthan"]
[null,{"$f":"IF(I3579>0,CONCATENATE(C3579,I3579),0)","v":0},null,{"$f":"Master!$E$8","v":"Govt.Sr.Sec.Sch. "}]
[{"$nulls":3},{"$f":"Master!$E$11","v":"P.S.-Bapini (Jodhpur)"}]
[null,null,"Report Card",{"$nulls":6},"U-DISE Code:-",null,{"$f":"Master!$E$14","v":{"v":810000000,"d":"0810000000"}}]
[{"$nulls":9},"Session:-",null,{"$f":"Master!$E$6","v":"2022-23"}]
[null,null,"Roll No.:-",{"$nulls":5},{"$f":"VLOOKUP($A3574,'Result Entry'!$B$9:$F$108,5,0)","v":0}]
[null,"◐","Scholar Number",{"$nulls":3},"↠",{"$f":"VLOOKUP($A3574,'Result Entry'!$B$9:$DX$108,3,0)","v":0}]
[null,"◐","Student's Name",{"$nulls":3},"↠",{"$f":"VLOOKUP($A3574,'Result Entry'!$B$9:$DX$108,6,0)","v":0}]
[null,"◐","Father's Name",{"$nulls":3},"↠",{"$f":"VLOOKUP($A3574,'Result Entry'!$B$9:$DX$108,7,0)","v":0}]
[null,"◐","Mother's Name ",{"$nulls":3},"↠",{"$f":"VLOOKUP($A3574,'Result Entry'!$B$9:$DX$108,8,0)","v":0}]
[null,"◐","Class & Section",{"$nulls":3},"↠",{"$f":"CONCATENATE('Result Entry'!$F$4,'Result Entry'!$I$4)","v":"2(A)"}]
[null,"◐","Date Of Birth",{"$nulls":3},"↠",{"$f":"VLOOKUP($A3574,'Result Entry'!$B$9:$DX$108,9,0)","v":"00:00:00"}]
[null,"◐","Subject",{"$nulls":4},"Half Yearly","Total (T+H.Y.)","Yearly","Grand Total",null,"Subject Grade"]
[null,"◐","Max. Marks",{"$nulls":4},{"$f":"'Result Entry'!$Q$7","v":100},{"$f":"G3587+H3587","v":100},{"$f":"'Result Entry'!$U$7","v":100},{"$f":"I3587+J3587","v":200},null,"A/B/C/D/E"]
[null,"◐",{"$f":"'Result Entry'!$K$3","v":"Hindi"},{"$nulls":4},{"$f":"IF(OR(C3588=\"\",$I3579=\"NSO\"),\"\",VLOOKUP($A3574,'Result Entry'!$B$9:$DX$108,16,0))","v":0},{"$f":"SUM(G3588,H3588)","v":0},{"$f":"IF(OR(C3588=\"\",$I3579=\"NSO\"),\"\",VLOOKUP($A3574,'Result Entry'!$B$9:$DX$108,20,0))","v":0},{"$f":"SUM(I3588,J3588)","v":0},null,{"$f":"IF(OR(C3588=\"\",$I3579=\"NSO\"),\"\",VLOOKUP($A3574,'Result Entry'!$B$9:$DX$108,23,0))","v":""}]
[null,"◐",{"$f":"'Result Entry'!$Y$3","v":"Mathematics"},{"$nulls":4},{"$f":"IF(OR(C3589=\"\",$I3579=\"NSO\"),\"\",VLOOKUP($A3574,'Result Entry'!$B$9:$DX$108,30,0))","v":0},{"$f":"SUM(G3589,H3589)","v":0},{"$f":"IF(OR(C3589=\"\",$I3579=\"NSO\"),\"\",VLOOKUP($A3574,'Result Entry'!$B$9:$DX$108,34,0))","v":0},{"$f":"SUM(I3589,J3589)","v":0},null,{"$f":"IF(OR(C3589=\"\",$I3579=\"NSO\"),\"\",VLOOKUP($A3574,'Result Entry'!$B$9:$DX$108,37,0))","v":""}]
[null,"◐",{"$f":"'Result Entry'!$BO$3","v":"Env. Study"},{"$nulls":4},{"$f":"IF(OR(C3590=\"\",$I3579=\"NSO\"),\"\",VLOOKUP($A3574,'Result Entry'!$B$9:$DX$108,66,0))","v":0},0,{"$f":"IF(OR(C3590=\"\",$I3579=\"NSO\"),\"\",VLOOKUP($A3574,'Result Entry'!$B$9:$DX$108,67,0))","v":0},0,null,{"$f":"IF(OR(C3590=\"\",$I3579=\"NSO\"),\"\",VLOOKUP($A3574,'Result Entry'!$B$9:$DX$108,73,0))","v":""}]
[null,"◐","Max. Marks",{"$nulls":4},{"$f":"'Result Entry'!$AS$7","v":50},50,{"$f":"'Result Entry'!$AW$7","v":50},100,null,"A/B/C/D/E"]
[null,"◐",{"$f":"'Result Entry'!$AM$3","v":"English"},{"$nulls":4},{"$f":"IF(OR(C3592=\"\",$I3579=\"NSO\"),\"\",VLOOKUP($A3574,'Result Entry'!$B$9:$DX$108,44,0))","v":0},0,{"$f":"IF(OR(C3592=\"\",$I3579=\"NSO\"),\"\",VLOOKUP($A3574,'Result Entry'!$B$9:$DX$108,48,0))","v":0},0,null,{"$f":"IF(OR(C3592=\"\",$I3579=\"NSO\"),\"\",VLOOKUP($A3574,'Result Entry'!$B$9:$DX$108,51,0))","v":""}]
[null,"◐"]
[null,"◐","Overall Result",null,null,"Total Max. Marks",null,"Total Obtained Marks",null,"Percentage","Overall Grade","Result","Position in Class"]
[null,"◐",{"$nulls":3},{"$f":"IF(OR($I3579=\"\",$I3579=\"NSO\"),\"\",VLOOKUP($A3574,'Result Entry'!$B$9:$DX$108,101,0))","v":500},null,{"$f":"IF(OR($I3579=\"\",$I3579=\"NSO\"),\"\",VLOOKUP($A3574,'Result Entry'!$B$9:$DX$108,102,0))","v":0},null,{"$f":"IF(OR($I3579=\"\",$I3579=\"NSO\"),\"\",VLOOKUP($A3574,'Result Entry'!$B$9:$DX$108,103,0))","v":{"v":0,"d":"0.00"}},{"$f":"IF(OR($I3579=\"\",$I3579=\"NSO\"),\"\",VLOOKUP($A3574,'Result Entry'!$B$9:$DX$108,104,0))","v":""},{"$f":"IF(OR($I3579=\"\",$I3579=\"NSO\"),\"\",VLOOKUP($A3574,'Result Entry'!$B$9:$DX$108,105,0))","v":""},{"$f":"IF(OR($I3579=\"\",$I3579=\"NSO\"),\"\",VLOOKUP($A3574,'Result Entry'!$B$9:$DX$108,107,0))","v":""}]
[null,"◐",{"$nulls":6},"Total Meetings :-",null,{"$f":"IF(OR($I3579=\"\",$I3579=\"NSO\"),\"\",VLOOKUP($A3574,'Result Entry'!$B$9:$DX$108,98,0))","v":0},"Attedance %"]
[null,"◐","Extra Subjects",{"$nulls":5},"Student's Meetings :-",null,{"$f":"IF(OR($I3579=\"\",$I3579=\"NSO\"),\"\",VLOOKUP($A3574,'Result Entry'!$B$9:$DX$108,99,0))","v":0},{"$f":"IF(OR($I3579=\"\",$I3579=\"NSO\"),\"\",VLOOKUP($A3574,'Result Entry'!$B$9:$DX$108,100,0))","v":""}]
[null,"◐","Subject",null,null,"Total Marks",null,"GRADE","Remark :-",null,{"$f":"IF(OR($I3579=\"\",$I3579=\"NSO\"),\"\",VLOOKUP($A3574,'Result Entry'!$B$9:$DX$108,108,0))","v":0}]
[null,"◐",{"$nulls":6},"Result Date :-",null,{"$f":"'Result Entry'!$T$2","v":"2023-05-24"}]
[null,"◐",{"$f":"'Result Entry'!$BW$3","v":"WORK EXP."},null,null,{"$f":"IF(OR(C3600=\"\",$I3579=\"NSO\"),\"\",VLOOKUP($A3574,'Result Entry'!$B$9:$DX$108,119,0))","v":"0/50"},null,{"$f":"IF(OR(C3600=\"\",$I3579=\"NSO\"),\"\",VLOOKUP($A3574,'Result Entry'!$B$9:$DX$108,81,0))","v":""}]
[null,null,{"$f":"'Result Entry'!$CE$3","v":"ART EDU."},null,null,{"$f":"IF(OR(C3601=\"\",$I3579=\"NSO\"),\"\",VLOOKUP($A3574,'Result Entry'!$B$9:$DX$108,123,0))","v":"0/50"},null,{"$f":"IF(OR(C3601=\"\",$I3579=\"NSO\"),\"\",VLOOKUP($A3574,'Result Entry'!$B$9:$DX$108,89,0))","v":""}]
[null,"◐",{"$f":"'Result Entry'!$CM$3","v":"H&P. EDU."},null,null,{"$f":"IF(OR(C3602=\"\",$I3579=\"NSO\"),\"\",VLOOKUP($A3574,'Result Entry'!$B$9:$DX$108,127,0))","v":"0/100"},null,{"$f":"IF(OR(C3602=\"\",$I3579=\"NSO\"),\"\",VLOOKUP($A3574,'Result Entry'!$B$9:$DX$108,97,0))","v":""},"Signature Of The Class Teacher"]
[null,"◐","Grading System"]
[null,"◐","Grd.","% Range",null,"Description"]
[null,"◐","A","86-100",null,"Excellent",null,null,"Signature And Seal Of Principal/H.M."]
[null,"◐","B","71-85",null,"Very Good"]
[null,"◐","C","51-70",null,"Good"]
[null,"◐","D","31-50",null,"Average"]
[null,"◐","E","0-30",null,"Needs Improvement",null,null,"Wish bright future"]
[]
[]
[{"$f":"A3574+1","v":96},"Department Of Education, Rajasthan"]
[null,{"$f":"IF(I3617>0,CONCATENATE(C3617,I3617),0)","v":0},null,{"$f":"Master!$E$8","v":"Govt.Sr.Sec.Sch. "}]
[{"$nulls":3},{"$f":"Master!$E$11","v":"P.S.-Bapini (Jodhpur)"}]
[null,null,"Report Card",{"$nulls":6},"U-DISE Code:-",null,{"$f":"Master!$E$14","v":{"v":810000000,"d":"0810000000"}}]
[{"$nulls":9},"Session:-",null,{"$f":"Master!$E$6","v":"2022-23"}]
[null,null,"Roll No.:-",{"$nulls":5},{"$f":"VLOOKUP($A3612,'Result Entry'!$B$9:$F$108,5,0)","v":0}]
[null,"◐","Scholar Number",{"$nulls":3},"↠",{"$f":"VLOOKUP($A3612,'Result Entry'!$B$9:$DX$108,3,0)","v":0}]
[null,"◐","Student's Name",{"$nulls":3},"↠",{"$f":"VLOOKUP($A3612,'Result Entry'!$B$9:$DX$108,6,0)","v":0}]
[null,"◐","Father's Name",{"$nulls":3},"↠",{"$f":"VLOOKUP($A3612,'Result Entry'!$B$9:$DX$108,7,0)","v":0}]
[null,"◐","Mother's Name ",{"$nulls":3},"↠",{"$f":"VLOOKUP($A3612,'Result Entry'!$B$9:$DX$108,8,0)","v":0}]
[null,"◐","Class & Section",{"$nulls":3},"↠",{"$f":"CONCATENATE('Result Entry'!$F$4,'Result Entry'!$I$4)","v":"2(A)"}]
[null,"◐","Date Of Birth",{"$nulls":3},"↠",{"$f":"VLOOKUP($A3612,'Result Entry'!$B$9:$DX$108,9,0)","v":"00:00:00"}]
[null,"◐","Subject",{"$nulls":4},"Half Yearly","Total (T+H.Y.)","Yearly","Grand Total",null,"Subject Grade"]
[null,"◐","Max. Marks",{"$nulls":4},{"$f":"'Result Entry'!$Q$7","v":100},{"$f":"G3625+H3625","v":100},{"$f":"'Result Entry'!$U$7","v":100},{"$f":"I3625+J3625","v":200},null,"A/B/C/D/E"]
[null,"◐",{"$f":"'Result Entry'!$K$3","v":"Hindi"},{"$nulls":4},{"$f":"IF(OR(C3626=\"\",$I3617=\"NSO\"),\"\",VLOOKUP($A3612,'Result Entry'!$B$9:$DX$108,16,0))","v":0},{"$f":"SUM(G3626,H3626)","v":0},{"$f":"IF(OR(C3626=\"\",$I3617=\"NSO\"),\"\",VLOOKUP($A3612,'Result Entry'!$B$9:$DX$108,20,0))","v":0},{"$f":"SUM(I3626,J3626)","v":0},null,{"$f":"IF(OR(C3626=\"\",$I3617=\"NSO\"),\"\",VLOOKUP($A3612,'Result Entry'!$B$9:$DX$108,23,0))","v":""}]
[null,"◐",{"$f":"'Result Entry'!$Y$3","v":"Mathematics"},{"$nulls":4},{"$f":"IF(OR(C3627=\"\",$I3617=\"NSO\"),\"\",VLOOKUP($A3612,'Result Entry'!$B$9:$DX$108,30,0))","v":0},{"$f":"SUM(G3627,H3627)","v":0},{"$f":"IF(OR(C3627=\"\",$I3617=\"NSO\"),\"\",VLOOKUP($A3612,'Result Entry'!$B$9:$DX$108,34,0))","v":0},{"$f":"SUM(I3627,J3627)","v":0},null,{"$f":"IF(OR(C3627=\"\",$I3617=\"NSO\"),\"\",VLOOKUP($A3612,'Result Entry'!$B$9:$DX$108,37,0))","v":""}]
[null,"◐",{"$f":"'Result Entry'!$BO$3","v":"Env. Study"},{"$nulls":4},{"$f":"IF(OR(C3628=\"\",$I3617=\"NSO\"),\"\",VLOOKUP($A3612,'Result Entry'!$B$9:$DX$108,66,0))","v":0},0,{"$f":"IF(OR(C3628=\"\",$I3617=\"NSO\"),\"\",VLOOKUP($A3612,'Result Entry'!$B$9:$DX$108,67,0))","v":0},0,null,{"$f":"IF(OR(C3628=\"\",$I3617=\"NSO\"),\"\",VLOOKUP($A3612,'Result Entry'!$B$9:$DX$108,73,0))","v":""}]
[null,"◐","Max. Marks",{"$nulls":4},{"$f":"'Result Entry'!$AS$7","v":50},50,{"$f":"'Result Entry'!$AW$7","v":50},100,null,"A/B/C/D/E"]
[null,"◐",{"$f":"'Result Entry'!$AM$3","v":"English"},{"$nulls":4},{"$f":"IF(OR(C3630=\"\",$I3617=\"NSO\"),\"\",VLOOKUP($A3612,'Result Entry'!$B$9:$DX$108,44,0))","v":0},0,{"$f":"IF(OR(C3630=\"\",$I3617=\"NSO\"),\"\",VLOOKUP($A3612,'Result Entry'!$B$9:$DX$108,48,0))","v":0},0,null,{"$f":"IF(OR(C3630=\"\",$I3617=\"NSO\"),\"\",VLOOKUP($A3612,'Result Entry'!$B$9:$DX$108,51,0))","v":""}]
[null,"◐"]
[null,"◐","Overall Result",null,null,"Total Max. Marks",null,"Total Obtained Marks",null,"Percentage","Overall Grade","Result","Position in Class"]
[null,"◐",{"$nulls":3},{"$f":"IF(OR($I3617=\"\",$I3617=\"NSO\"),\"\",VLOOKUP($A3612,'Result Entry'!$B$9:$DX$108,101,0))","v":500},null,{"$f":"IF(OR($I3617=\"\",$I3617=\"NSO\"),\"\",VLOOKUP($A3612,'Result Entry'!$B$9:$DX$108,102,0))","v":0},null,{"$f":"IF(OR($I3617=\"\",$I3617=\"NSO\"),\"\",VLOOKUP($A3612,'Result Entry'!$B$9:$DX$108,103,0))","v":{"v":0,"d":"0.00"}},{"$f":"IF(OR($I3617=\"\",$I3617=\"NSO\"),\"\",VLOOKUP($A3612,'Result Entry'!$B$9:$DX$108,104,0))","v":""},{"$f":"IF(OR($I3617=\"\",$I3617=\"NSO\"),\"\",VLOOKUP($A3612,'Result Entry'!$B$9:$DX$108,105,0))","v":""},{"$f":"IF(OR($I3617=\"\",$I3617=\"NSO\"),\"\",VLOOKUP($A3612,'Result Entry'!$B$9:$DX$108,107,0))","v":""}]
[null,"◐",{"$nulls":6},"Total Meetings :-",null,{"$f":"IF(OR($I3617=\"\",$I3617=\"NSO\"),\"\",VLOOKUP($A3612,'Result Entry'!$B$9:$DX$108,98,0))","v":0},"Attedance %"]
[null,"◐","Extra Subjects",{"$nulls":5},"Student's Meetings :-",null,{"$f":"IF(OR($I3617=\"\",$I3617=\"NSO\"),\"\",VLOOKUP($A3612,'Result Entry'!$B$9:$DX$108,99,0))","v":0},{"$f":"IF(OR($I3617=\"\",$I3617=\"NSO\"),\"\",VLOOKUP($A3612,'Result Entry'!$B$9:$DX$108,100,0))","v":""}]
[null,"◐","Subject",null,null,"Total Marks",null,"GRADE","Remark :-",null,{"$f":"IF(OR($I3617=\"\",$I3617=\"NSO\"),\"\",VLOOKUP($A3612,'Result Entry'!$B$9:$DX$108,108,0))","v":0}]
[null,"◐",{"$nulls":6},"Result Date :-",null,{"$f":"'Result Entry'!$T$2","v":"2023-05-24"}]
[null,"◐",{"$f":"'Result Entry'!$BW$3","v":"WORK EXP."},null,null,{"$f":"IF(OR(C3638=\"\",$I3617=\"NSO\"),\"\",VLOOKUP($A3612,'Result Entry'!$B$9:$DX$108,119,0))","v":"0/50"},null,{"$f":"IF(OR(C3638=\"\",$I3617=\"NSO\"),\"\",VLOOKUP($A3612,'Result Entry'!$B$9:$DX$108,81,0))","v":""}]
[null,null,{"$f":"'Result Entry'!$CE$3","v":"ART EDU."},null,null,{"$f":"IF(OR(C3639=\"\",$I3617=\"NSO\"),\"\",VLOOKUP($A3612,'Result Entry'!$B$9:$DX$108,123,0))","v":"0/50"},null,{"$f":"IF(OR(C3639=\"\",$I3617=\"NSO\"),\"\",VLOOKUP($A3612,'Result Entry'!$B$9:$DX$108,89,0))","v":""}]
[null,"◐",{"$f":"'Result Entry'!$CM$3","v":"H&P. EDU."},null,null,{"$f":"IF(OR(C3640=\"\",$I3617=\"NSO\"),\"\",VLOOKUP($A3612,'Result Entry'!$B$9:$DX$108,127,0))","v":"0/100"},null,{"$f":"IF(OR(C3640=\"\",$I3617=\"NSO\"),\"\",VLOOKUP($A3612,'Result Entry'!$B$9:$DX$108,97,0))","v":""},"Signature Of The Class Teacher"]
[null,"◐","Grading System"]
[null,"◐","Grd.","% Range",null,"Description"]
[null,"◐","A","86-100",null,"Excellent",null,null,"Signature And Seal Of Principal/H.M."]
[null,"◐","B","71-85",null,"Very Good"]
[null,"◐","C","51-70",null,"Good"]
[null,"◐","D","31-50",null,"Average"]
[null,"◐","E","0-30",null,"Needs Improvement",null,null,"Wish bright future"]
[]
[]
[{"$f":"A3612+1","v":97},"Department Of Education, Rajasthan"]
[null,{"$f":"IF(I3655>0,CONCATENATE(C3655,I3655),0)","v":0},null,{"$f":"Master!$E$8","v":"Govt.Sr.Sec.Sch. "}]
[{"$nulls":3},{"$f":"Master!$E$11","v":"P.S.-Bapini (Jodhpur)"}]
[null,null,"Report Card",{"$nulls":6},"U-DISE Code:-",null,{"$f":"Master!$E$14","v":{"v":810000000,"d":"0810000000"}}]
[{"$nulls":9},"Session:-",null,{"$f":"Master!$E$6","v":"2022-23"}]
[null,null,"Roll No.:-",{"$nulls":5},{"$f":"VLOOKUP($A3650,'Result Entry'!$B$9:$F$108,5,0)","v":0}]
[null,"◐","Scholar Number",{"$nulls":3},"↠",{"$f":"VLOOKUP($A3650,'Result Entry'!$B$9:$DX$108,3,0)","v":0}]
[null,"◐","Student's Name",{"$nulls":3},"↠",{"$f":"VLOOKUP($A3650,'Result Entry'!$B$9:$DX$108,6,0)","v":0}]
[null,"◐","Father's Name",{"$nulls":3},"↠",{"$f":"VLOOKUP($A3650,'Result Entry'!$B$9:$DX$108,7,0)","v":0}]
[null,"◐","Mother's Name ",{"$nulls":3},"↠",{"$f":"VLOOKUP($A3650,'Result Entry'!$B$9:$DX$108,8,0)","v":0}]
[null,"◐","Class & Section",{"$nulls":3},"↠",{"$f":"CONCATENATE('Result Entry'!$F$4,'Result Entry'!$I$4)","v":"2(A)"}]
[null,"◐","Date Of Birth",{"$nulls":3},"↠",{"$f":"VLOOKUP($A3650,'Result Entry'!$B$9:$DX$108,9,0)","v":"00:00:00"}]
[null,"◐","Subject",{"$nulls":4},"Half Yearly","Total (T+H.Y.)","Yearly","Grand Total",null,"Subject Grade"]
[null,"◐","Max. Marks",{"$nulls":4},{"$f":"'Result Entry'!$Q$7","v":100},{"$f":"G3663+H3663","v":100},{"$f":"'Result Entry'!$U$7","v":100},{"$f":"I3663+J3663","v":200},null,"A/B/C/D/E"]
[null,"◐",{"$f":"'Result Entry'!$K$3","v":"Hindi"},{"$nulls":4},{"$f":"IF(OR(C3664=\"\",$I3655=\"NSO\"),\"\",VLOOKUP($A3650,'Result Entry'!$B$9:$DX$108,16,0))","v":0},{"$f":"SUM(G3664,H3664)","v":0},{"$f":"IF(OR(C3664=\"\",$I3655=\"NSO\"),\"\",VLOOKUP($A3650,'Result Entry'!$B$9:$DX$108,20,0))","v":0},{"$f":"SUM(I3664,J3664)","v":0},null,{"$f":"IF(OR(C3664=\"\",$I3655=\"NSO\"),\"\",VLOOKUP($A3650,'Result Entry'!$B$9:$DX$108,23,0))","v":""}]
[null,"◐",{"$f":"'Result Entry'!$Y$3","v":"Mathematics"},{"$nulls":4},{"$f":"IF(OR(C3665=\"\",$I3655=\"NSO\"),\"\",VLOOKUP($A3650,'Result Entry'!$B$9:$DX$108,30,0))","v":0},{"$f":"SUM(G3665,H3665)","v":0},{"$f":"IF(OR(C3665=\"\",$I3655=\"NSO\"),\"\",VLOOKUP($A3650,'Result Entry'!$B$9:$DX$108,34,0))","v":0},{"$f":"SUM(I3665,J3665)","v":0},null,{"$f":"IF(OR(C3665=\"\",$I3655=\"NSO\"),\"\",VLOOKUP($A3650,'Result Entry'!$B$9:$DX$108,37,0))","v":""}]
[null,"◐",{"$f":"'Result Entry'!$BO$3","v":"Env. Study"},{"$nulls":4},{"$f":"IF(OR(C3666=\"\",$I3655=\"NSO\"),\"\",VLOOKUP($A3650,'Result Entry'!$B$9:$DX$108,66,0))","v":0},0,{"$f":"IF(OR(C3666=\"\",$I3655=\"NSO\"),\"\",VLOOKUP($A3650,'Result Entry'!$B$9:$DX$108,67,0))","v":0},0,null,{"$f":"IF(OR(C3666=\"\",$I3655=\"NSO\"),\"\",VLOOKUP($A3650,'Result Entry'!$B$9:$DX$108,73,0))","v":""}]
[null,"◐","Max. Marks",{"$nulls":4},{"$f":"'Result Entry'!$AS$7","v":50},50,{"$f":"'Result Entry'!$AW$7","v":50},100,null,"A/B/C/D/E"]
[null,"◐",{"$f":"'Result Entry'!$AM$3","v":"English"},{"$nulls":4},{"$f":"IF(OR(C3668=\"\",$I3655=\"NSO\"),\"\",VLOOKUP($A3650,'Result Entry'!$B$9:$DX$108,44,0))","v":0},0,{"$f":"IF(OR(C3668=\"\",$I3655=\"NSO\"),\"\",VLOOKUP($A3650,'Result Entry'!$B$9:$DX$108,48,0))","v":0},0,null,{"$f":"IF(OR(C3668=\"\",$I3655=\"NSO\"),\"\",VLOOKUP($A3650,'Result Entry'!$B$9:$DX$108,51,0))","v":""}]
[null,"◐"]
[null,"◐","Overall Result",null,null,"Total Max. Marks",null,"Total Obtained Marks",null,"Percentage","Overall Grade","Result","Position in Class"]
[null,"◐",{"$nulls":3},{"$f":"IF(OR($I3655=\"\",$I3655=\"NSO\"),\"\",VLOOKUP($A3650,'Result Entry'!$B$9:$DX$108,101,0))","v":500},null,{"$f":"IF(OR($I3655=\"\",$I3655=\"NSO\"),\"\",VLOOKUP($A3650,'Result Entry'!$B$9:$DX$108,102,0))","v":0},null,{"$f":"IF(OR($I3655=\"\",$I3655=\"NSO\"),\"\",VLOOKUP($A3650,'Result Entry'!$B$9:$DX$108,103,0))","v":{"v":0,"d":"0.00"}},{"$f":"IF(OR($I3655=\"\",$I3655=\"NSO\"),\"\",VLOOKUP($A3650,'Result Entry'!$B$9:$DX$108,104,0))","v":""},{"$f":"IF(OR($I3655=\"\",$I3655=\"NSO\"),\"\",VLOOKUP($A3650,'Result Entry'!$B$9:$DX$108,105,0))","v":""},{"$f":"IF(OR($I3655=\"\",$I3655=\"NSO\"),\"\",VLOOKUP($A3650,'Result Entry'!$B$9:$DX$108,107,0))","v":""}]
[null,"◐",{"$nulls":6},"Total Meetings :-",null,{"$f":"IF(OR($I3655=\"\",$I3655=\"NSO\"),\"\",VLOOKUP($A3650,'Result Entry'!$B$9:$DX$108,98,0))","v":0},"Attedance %"]
[null,"◐","Extra Subjects",{"$nulls":5},"Student's Meetings :-",null,{"$f":"IF(OR($I3655=\"\",$I3655=\"NSO\"),\"\",VLOOKUP($A3650,'Result Entry'!$B$9:$DX$108,99,0))","v":0},{"$f":"IF(OR($I3655=\"\",$I3655=\"NSO\"),\"\",VLOOKUP($A3650,'Result Entry'!$B$9:$DX$108,100,0))","v":""}]
[null,"◐","Subject",null,null,"Total Marks",null,"GRADE","Remark :-",null,{"$f":"IF(OR($I3655=\"\",$I3655=\"NSO\"),\"\",VLOOKUP($A3650,'Result Entry'!$B$9:$DX$108,108,0))","v":0}]
[null,"◐",{"$nulls":6},"Result Date :-",null,{"$f":"'Result Entry'!$T$2","v":"2023-05-24"}]
[null,"◐",{"$f":"'Result Entry'!$BW$3","v":"WORK EXP."},null,null,{"$f":"IF(OR(C3676=\"\",$I3655=\"NSO\"),\"\",VLOOKUP($A3650,'Result Entry'!$B$9:$DX$108,119,0))","v":"0/50"},null,{"$f":"IF(OR(C3676=\"\",$I3655=\"NSO\"),\"\",VLOOKUP($A3650,'Result Entry'!$B$9:$DX$108,81,0))","v":""}]
[null,null,{"$f":"'Result Entry'!$CE$3","v":"ART EDU."},null,null,{"$f":"IF(OR(C3677=\"\",$I3655=\"NSO\"),\"\",VLOOKUP($A3650,'Result Entry'!$B$9:$DX$108,123,0))","v":"0/50"},null,{"$f":"IF(OR(C3677=\"\",$I3655=\"NSO\"),\"\",VLOOKUP($A3650,'Result Entry'!$B$9:$DX$108,89,0))","v":""}]
[null,"◐",{"$f":"'Result Entry'!$CM$3","v":"H&P. EDU."},null,null,{"$f":"IF(OR(C3678=\"\",$I3655=\"NSO\"),\"\",VLOOKUP($A3650,'Result Entry'!$B$9:$DX$108,127,0))","v":"0/100"},null,{"$f":"IF(OR(C3678=\"\",$I3655=\"NSO\"),\"\",VLOOKUP($A3650,'Result Entry'!$B$9:$DX$108,97,0))","v":""},"Signature Of The Class Teacher"]
[null,"◐","Grading System"]
[null,"◐","Grd.","% Range",null,"Description"]
[null,"◐","A","86-100",null,"Excellent",null,null,"Signature And Seal Of Principal/H.M."]
[null,"◐","B","71-85",null,"Very Good"]
[null,"◐","C","51-70",null,"Good"]
[null,"◐","D","31-50",null,"Average"]
[null,"◐","E","0-30",null,"Needs Improvement",null,null,"Wish bright future"]
[]
[]
[{"$f":"A3650+1","v":98},"Department Of Education, Rajasthan"]
[null,{"$f":"IF(I3693>0,CONCATENATE(C3693,I3693),0)","v":0},null,{"$f":"Master!$E$8","v":"Govt.Sr.Sec.Sch. "}]
[{"$nulls":3},{"$f":"Master!$E$11","v":"P.S.-Bapini (Jodhpur)"}]
[null,null,"Report Card",{"$nulls":6},"U-DISE Code:-",null,{"$f":"Master!$E$14","v":{"v":810000000,"d":"0810000000"}}]
[{"$nulls":9},"Session:-",null,{"$f":"Master!$E$6","v":"2022-23"}]
[null,null,"Roll No.:-",{"$nulls":5},{"$f":"VLOOKUP($A3688,'Result Entry'!$B$9:$F$108,5,0)","v":0}]
[null,"◐","Scholar Number",{"$nulls":3},"↠",{"$f":"VLOOKUP($A3688,'Result Entry'!$B$9:$DX$108,3,0)","v":0}]
[null,"◐","Student's Name",{"$nulls":3},"↠",{"$f":"VLOOKUP($A3688,'Result Entry'!$B$9:$DX$108,6,0)","v":0}]
[null,"◐","Father's Name",{"$nulls":3},"↠",{"$f":"VLOOKUP($A3688,'Result Entry'!$B$9:$DX$108,7,0)","v":0}]
[null,"◐","Mother's Name ",{"$nulls":3},"↠",{"$f":"VLOOKUP($A3688,'Result Entry'!$B$9:$DX$108,8,0)","v":0}]
[null,"◐","Class & Section",{"$nulls":3},"↠",{"$f":"CONCATENATE('Result Entry'!$F$4,'Result Entry'!$I$4)","v":"2(A)"}]
[null,"◐","Date Of Birth",{"$nulls":3},"↠",{"$f":"VLOOKUP($A3688,'Result Entry'!$B$9:$DX$108,9,0)","v":"00:00:00"}]
[null,"◐","Subject",{"$nulls":4},"Half Yearly","Total (T+H.Y.)","Yearly","Grand Total",null,"Subject Grade"]
[null,"◐","Max. Marks",{"$nulls":4},{"$f":"'Result Entry'!$Q$7","v":100},{"$f":"G3701+H3701","v":100},{"$f":"'Result Entry'!$U$7","v":100},{"$f":"I3701+J3701","v":200},null,"A/B/C/D/E"]
[null,"◐",{"$f":"'Result Entry'!$K$3","v":"Hindi"},{"$nulls":4},{"$f":"IF(OR(C3702=\"\",$I3693=\"NSO\"),\"\",VLOOKUP($A3688,'Result Entry'!$B$9:$DX$108,16,0))","v":0},{"$f":"SUM(G3702,H3702)","v":0},{"$f":"IF(OR(C3702=\"\",$I3693=\"NSO\"),\"\",VLOOKUP($A3688,'Result Entry'!$B$9:$DX$108,20,0))","v":0},{"$f":"SUM(I3702,J3702)","v":0},null,{"$f":"IF(OR(C3702=\"\",$I3693=\"NSO\"),\"\",VLOOKUP($A3688,'Result Entry'!$B$9:$DX$108,23,0))","v":""}]
[null,"◐",{"$f":"'Result Entry'!$Y$3","v":"Mathematics"},{"$nulls":4},{"$f":"IF(OR(C3703=\"\",$I3693=\"NSO\"),\"\",VLOOKUP($A3688,'Result Entry'!$B$9:$DX$108,30,0))","v":0},{"$f":"SUM(G3703,H3703)","v":0},{"$f":"IF(OR(C3703=\"\",$I3693=\"NSO\"),\"\",VLOOKUP($A3688,'Result Entry'!$B$9:$DX$108,34,0))","v":0},{"$f":"SUM(I3703,J3703)","v":0},null,{"$f":"IF(OR(C3703=\"\",$I3693=\"NSO\"),\"\",VLOOKUP($A3688,'Result Entry'!$B$9:$DX$108,37,0))","v":""}]
[null,"◐",{"$f":"'Result Entry'!$BO$3","v":"Env. Study"},{"$nulls":4},{"$f":"IF(OR(C3704=\"\",$I3693=\"NSO\"),\"\",VLOOKUP($A3688,'Result Entry'!$B$9:$DX$108,66,0))","v":0},0,{"$f":"IF(OR(C3704=\"\",$I3693=\"NSO\"),\"\",VLOOKUP($A3688,'Result Entry'!$B$9:$DX$108,67,0))","v":0},0,null,{"$f":"IF(OR(C3704=\"\",$I3693=\"NSO\"),\"\",VLOOKUP($A3688,'Result Entry'!$B$9:$DX$108,73,0))","v":""}]
[null,"◐","Max. Marks",{"$nulls":4},{"$f":"'Result Entry'!$AS$7","v":50},50,{"$f":"'Result Entry'!$AW$7","v":50},100,null,"A/B/C/D/E"]
[null,"◐",{"$f":"'Result Entry'!$AM$3","v":"English"},{"$nulls":4},{"$f":"IF(OR(C3706=\"\",$I3693=\"NSO\"),\"\",VLOOKUP($A3688,'Result Entry'!$B$9:$DX$108,44,0))","v":0},0,{"$f":"IF(OR(C3706=\"\",$I3693=\"NSO\"),\"\",VLOOKUP($A3688,'Result Entry'!$B$9:$DX$108,48,0))","v":0},0,null,{"$f":"IF(OR(C3706=\"\",$I3693=\"NSO\"),\"\",VLOOKUP($A3688,'Result Entry'!$B$9:$DX$108,51,0))","v":""}]
[null,"◐"]
[null,"◐","Overall Result",null,null,"Total Max. Marks",null,"Total Obtained Marks",null,"Percentage","Overall Grade","Result","Position in Class"]
[null,"◐",{"$nulls":3},{"$f":"IF(OR($I3693=\"\",$I3693=\"NSO\"),\"\",VLOOKUP($A3688,'Result Entry'!$B$9:$DX$108,101,0))","v":500},null,{"$f":"IF(OR($I3693=\"\",$I3693=\"NSO\"),\"\",VLOOKUP($A3688,'Result Entry'!$B$9:$DX$108,102,0))","v":0},null,{"$f":"IF(OR($I3693=\"\",$I3693=\"NSO\"),\"\",VLOOKUP($A3688,'Result Entry'!$B$9:$DX$108,103,0))","v":{"v":0,"d":"0.00"}},{"$f":"IF(OR($I3693=\"\",$I3693=\"NSO\"),\"\",VLOOKUP($A3688,'Result Entry'!$B$9:$DX$108,104,0))","v":""},{"$f":"IF(OR($I3693=\"\",$I3693=\"NSO\"),\"\",VLOOKUP($A3688,'Result Entry'!$B$9:$DX$108,105,0))","v":""},{"$f":"IF(OR($I3693=\"\",$I3693=\"NSO\"),\"\",VLOOKUP($A3688,'Result Entry'!$B$9:$DX$108,107,0))","v":""}]
[null,"◐",{"$nulls":6},"Total Meetings :-",null,{"$f":"IF(OR($I3693=\"\",$I3693=\"NSO\"),\"\",VLOOKUP($A3688,'Result Entry'!$B$9:$DX$108,98,0))","v":0},"Attedance %"]
[null,"◐","Extra Subjects",{"$nulls":5},"Student's Meetings :-",null,{"$f":"IF(OR($I3693=\"\",$I3693=\"NSO\"),\"\",VLOOKUP($A3688,'Result Entry'!$B$9:$DX$108,99,0))","v":0},{"$f":"IF(OR($I3693=\"\",$I3693=\"NSO\"),\"\",VLOOKUP($A3688,'Result Entry'!$B$9:$DX$108,100,0))","v":""}]
[null,"◐","Subject",null,null,"Total Marks",null,"GRADE","Remark :-",null,{"$f":"IF(OR($I3693=\"\",$I3693=\"NSO\"),\"\",VLOOKUP($A3688,'Result Entry'!$B$9:$DX$108,108,0))","v":0}]
[null,"◐",{"$nulls":6},"Result Date :-",null,{"$f":"'Result Entry'!$T$2","v":"2023-05-24"}]
[null,"◐",{"$f":"'Result Entry'!$BW$3","v":"WORK EXP."},null,null,{"$f":"IF(OR(C3714=\"\",$I3693=\"NSO\"),\"\",VLOOKUP($A3688,'Result Entry'!$B$9:$DX$108,119,0))","v":"0/50"},null,{"$f":"IF(OR(C3714=\"\",$I3693=\"NSO\"),\"\",VLOOKUP($A3688,'Result Entry'!$B$9:$DX$108,81,0))","v":""}]
[null,null,{"$f":"'Result Entry'!$CE$3","v":"ART EDU."},null,null,{"$f":"IF(OR(C3715=\"\",$I3693=\"NSO\"),\"\",VLOOKUP($A3688,'Result Entry'!$B$9:$DX$108,123,0))","v":"0/50"},null,{"$f":"IF(OR(C3715=\"\",$I3693=\"NSO\"),\"\",VLOOKUP($A3688,'Result Entry'!$B$9:$DX$108,89,0))","v":""}]
[null,"◐",{"$f":"'Result Entry'!$CM$3","v":"H&P. EDU."},null,null,{"$f":"IF(OR(C3716=\"\",$I3693=\"NSO\"),\"\",VLOOKUP($A3688,'Result Entry'!$B$9:$DX$108,127,0))","v":"0/100"},null,{"$f":"IF(OR(C3716=\"\",$I3693=\"NSO\"),\"\",VLOOKUP($A3688,'Result Entry'!$B$9:$DX$108,97,0))","v":""},"Signature Of The Class Teacher"]
[null,"◐","Grading System"]
[null,"◐","Grd.","% Range",null,"Description"]
[null,"◐","A","86-100",null,"Excellent",null,null,"Signature And Seal Of Principal/H.M."]
[null,"◐","B","71-85",null,"Very Good"]
[null,"◐","C","51-70",null,"Good"]
[null,"◐","D","31-50",null,"Average"]
[null,"◐","E","0-30",null,"Needs Improvement",null,null,"Wish bright future"]
[]
[]
[{"$f":"A3688+1","v":99},"Department Of Education, Rajasthan"]
[null,{"$f":"IF(I3731>0,CONCATENATE(C3731,I3731),0)","v":0},null,{"$f":"Master!$E$8","v":"Govt.Sr.Sec.Sch. "}]
[{"$nulls":3},{"$f":"Master!$E$11","v":"P.S.-Bapini (Jodhpur)"}]
[null,null,"Report Card",{"$nulls":6},"U-DISE Code:-",null,{"$f":"Master!$E$14","v":{"v":810000000,"d":"0810000000"}}]
[{"$nulls":9},"Session:-",null,{"$f":"Master!$E$6","v":"2022-23"}]
[null,null,"Roll No.:-",{"$nulls":5},{"$f":"VLOOKUP($A3726,'Result Entry'!$B$9:$F$108,5,0)","v":0}]
[null,"◐","Scholar Number",{"$nulls":3},"↠",{"$f":"VLOOKUP($A3726,'Result Entry'!$B$9:$DX$108,3,0)","v":0}]
[null,"◐","Student's Name",{"$nulls":3},"↠",{"$f":"VLOOKUP($A3726,'Result Entry'!$B$9:$DX$108,6,0)","v":0}]
[null,"◐","Father's Name",{"$nulls":3},"↠",{"$f":"VLOOKUP($A3726,'Result Entry'!$B$9:$DX$108,7,0)","v":0}]
[null,"◐","Mother's Name ",{"$nulls":3},"↠",{"$f":"VLOOKUP($A3726,'Result Entry'!$B$9:$DX$108,8,0)","v":0}]
[null,"◐","Class & Section",{"$nulls":3},"↠",{"$f":"CONCATENATE('Result Entry'!$F$4,'Result Entry'!$I$4)","v":"2(A)"}]
[null,"◐","Date Of Birth",{"$nulls":3},"↠",{"$f":"VLOOKUP($A3726,'Result Entry'!$B$9:$DX$108,9,0)","v":"00:00:00"}]
[null,"◐","Subject",{"$nulls":4},"Half Yearly","Total (T+H.Y.)","Yearly","Grand Total",null,"Subject Grade"]
[null,"◐","Max. Marks",{"$nulls":4},{"$f":"'Result Entry'!$Q$7","v":100},{"$f":"G3739+H3739","v":100},{"$f":"'Result Entry'!$U$7","v":100},{"$f":"I3739+J3739","v":200},null,"A/B/C/D/E"]
[null,"◐",{"$f":"'Result Entry'!$K$3","v":"Hindi"},{"$nulls":4},{"$f":"IF(OR(C3740=\"\",$I3731=\"NSO\"),\"\",VLOOKUP($A3726,'Result Entry'!$B$9:$DX$108,16,0))","v":0},{"$f":"SUM(G3740,H3740)","v":0},{"$f":"IF(OR(C3740=\"\",$I3731=\"NSO\"),\"\",VLOOKUP($A3726,'Result Entry'!$B$9:$DX$108,20,0))","v":0},{"$f":"SUM(I3740,J3740)","v":0},null,{"$f":"IF(OR(C3740=\"\",$I3731=\"NSO\"),\"\",VLOOKUP($A3726,'Result Entry'!$B$9:$DX$108,23,0))","v":""}]
[null,"◐",{"$f":"'Result Entry'!$Y$3","v":"Mathematics"},{"$nulls":4},{"$f":"IF(OR(C3741=\"\",$I3731=\"NSO\"),\"\",VLOOKUP($A3726,'Result Entry'!$B$9:$DX$108,30,0))","v":0},{"$f":"SUM(G3741,H3741)","v":0},{"$f":"IF(OR(C3741=\"\",$I3731=\"NSO\"),\"\",VLOOKUP($A3726,'Result Entry'!$B$9:$DX$108,34,0))","v":0},{"$f":"SUM(I3741,J3741)","v":0},null,{"$f":"IF(OR(C3741=\"\",$I3731=\"NSO\"),\"\",VLOOKUP($A3726,'Result Entry'!$B$9:$DX$108,37,0))","v":""}]
[null,"◐",{"$f":"'Result Entry'!$BO$3","v":"Env. Study"},{"$nulls":4},{"$f":"IF(OR(C3742=\"\",$I3731=\"NSO\"),\"\",VLOOKUP($A3726,'Result Entry'!$B$9:$DX$108,66,0))","v":0},0,{"$f":"IF(OR(C3742=\"\",$I3731=\"NSO\"),\"\",VLOOKUP($A3726,'Result Entry'!$B$9:$DX$108,67,0))","v":0},0,null,{"$f":"IF(OR(C3742=\"\",$I3731=\"NSO\"),\"\",VLOOKUP($A3726,'Result Entry'!$B$9:$DX$108,73,0))","v":""}]
[null,"◐","Max. Marks",{"$nulls":4},{"$f":"'Result Entry'!$AS$7","v":50},50,{"$f":"'Result Entry'!$AW$7","v":50},100,null,"A/B/C/D/E"]
[null,"◐",{"$f":"'Result Entry'!$AM$3","v":"English"},{"$nulls":4},{"$f":"IF(OR(C3744=\"\",$I3731=\"NSO\"),\"\",VLOOKUP($A3726,'Result Entry'!$B$9:$DX$108,44,0))","v":0},0,{"$f":"IF(OR(C3744=\"\",$I3731=\"NSO\"),\"\",VLOOKUP($A3726,'Result Entry'!$B$9:$DX$108,48,0))","v":0},0,null,{"$f":"IF(OR(C3744=\"\",$I3731=\"NSO\"),\"\",VLOOKUP($A3726,'Result Entry'!$B$9:$DX$108,51,0))","v":""}]
[null,"◐"]
[null,"◐","Overall Result",null,null,"Total Max. Marks",null,"Total Obtained Marks",null,"Percentage","Overall Grade","Result","Position in Class"]
[null,"◐",{"$nulls":3},{"$f":"IF(OR($I3731=\"\",$I3731=\"NSO\"),\"\",VLOOKUP($A3726,'Result Entry'!$B$9:$DX$108,101,0))","v":500},null,{"$f":"IF(OR($I3731=\"\",$I3731=\"NSO\"),\"\",VLOOKUP($A3726,'Result Entry'!$B$9:$DX$108,102,0))","v":0},null,{"$f":"IF(OR($I3731=\"\",$I3731=\"NSO\"),\"\",VLOOKUP($A3726,'Result Entry'!$B$9:$DX$108,103,0))","v":{"v":0,"d":"0.00"}},{"$f":"IF(OR($I3731=\"\",$I3731=\"NSO\"),\"\",VLOOKUP($A3726,'Result Entry'!$B$9:$DX$108,104,0))","v":""},{"$f":"IF(OR($I3731=\"\",$I3731=\"NSO\"),\"\",VLOOKUP($A3726,'Result Entry'!$B$9:$DX$108,105,0))","v":""},{"$f":"IF(OR($I3731=\"\",$I3731=\"NSO\"),\"\",VLOOKUP($A3726,'Result Entry'!$B$9:$DX$108,107,0))","v":""}]
[null,"◐",{"$nulls":6},"Total Meetings :-",null,{"$f":"IF(OR($I3731=\"\",$I3731=\"NSO\"),\"\",VLOOKUP($A3726,'Result Entry'!$B$9:$DX$108,98,0))","v":0},"Attedance %"]
[null,"◐","Extra Subjects",{"$nulls":5},"Student's Meetings :-",null,{"$f":"IF(OR($I3731=\"\",$I3731=\"NSO\"),\"\",VLOOKUP($A3726,'Result Entry'!$B$9:$DX$108,99,0))","v":0},{"$f":"IF(OR($I3731=\"\",$I3731=\"NSO\"),\"\",VLOOKUP($A3726,'Result Entry'!$B$9:$DX$108,100,0))","v":""}]
[null,"◐","Subject",null,null,"Total Marks",null,"GRADE","Remark :-",null,{"$f":"IF(OR($I3731=\"\",$I3731=\"NSO\"),\"\",VLOOKUP($A3726,'Result Entry'!$B$9:$DX$108,108,0))","v":0}]
[null,"◐",{"$nulls":6},"Result Date :-",null,{"$f":"'Result Entry'!$T$2","v":"2023-05-24"}]
[null,"◐",{"$f":"'Result Entry'!$BW$3","v":"WORK EXP."},null,null,{"$f":"IF(OR(C3752=\"\",$I3731=\"NSO\"),\"\",VLOOKUP($A3726,'Result Entry'!$B$9:$DX$108,119,0))","v":"0/50"},null,{"$f":"IF(OR(C3752=\"\",$I3731=\"NSO\"),\"\",VLOOKUP($A3726,'Result Entry'!$B$9:$DX$108,81,0))","v":""}]
[null,null,{"$f":"'Result Entry'!$CE$3","v":"ART EDU."},null,null,{"$f":"IF(OR(C3753=\"\",$I3731=\"NSO\"),\"\",VLOOKUP($A3726,'Result Entry'!$B$9:$DX$108,123,0))","v":"0/50"},null,{"$f":"IF(OR(C3753=\"\",$I3731=\"NSO\"),\"\",VLOOKUP($A3726,'Result Entry'!$B$9:$DX$108,89,0))","v":""}]
[null,"◐",{"$f":"'Result Entry'!$CM$3","v":"H&P. EDU."},null,null,{"$f":"IF(OR(C3754=\"\",$I3731=\"NSO\"),\"\",VLOOKUP($A3726,'Result Entry'!$B$9:$DX$108,127,0))","v":"0/100"},null,{"$f":"IF(OR(C3754=\"\",$I3731=\"NSO\"),\"\",VLOOKUP($A3726,'Result Entry'!$B$9:$DX$108,97,0))","v":""},"Signature Of The Class Teacher"]
[null,"◐","Grading System"]
[null,"◐","Grd.","% Range",null,"Description"]
[null,"◐","A","86-100",null,"Excellent",null,null,"Signature And Seal Of Principal/H.M."]
[null,"◐","B","71-85",null,"Very Good"]
[null,"◐","C","51-70",null,"Good"]
[null,"◐","D","31-50",null,"Average"]
[null,"◐","E","0-30",null,"Needs Improvement",null,null,"Wish bright future"]
[]
[]
[{"$f":"A3726+1","v":100},"Department Of Education, Rajasthan"]
[null,{"$f":"IF(I3769>0,CONCATENATE(C3769,I3769),0)","v":0},null,{"$f":"Master!$E$8","v":"Govt.Sr.Sec.Sch. "}]
[{"$nulls":3},{"$f":"Master!$E$11","v":"P.S.-Bapini (Jodhpur)"}]
[null,null,"Report Card",{"$nulls":6},"U-DISE Code:-",null,{"$f":"Master!$E$14","v":{"v":810000000,"d":"0810000000"}}]
[{"$nulls":9},"Session:-",null,{"$f":"Master!$E$6","v":"2022-23"}]
[null,null,"Roll No.:-",{"$nulls":5},{"$f":"VLOOKUP($A3764,'Result Entry'!$B$9:$F$108,5,0)","v":0}]
[null,"◐","Scholar Number",{"$nulls":3},"↠",{"$f":"VLOOKUP($A3764,'Result Entry'!$B$9:$DX$108,3,0)","v":0}]
[null,"◐","Student's Name",{"$nulls":3},"↠",{"$f":"VLOOKUP($A3764,'Result Entry'!$B$9:$DX$108,6,0)","v":0}]
[null,"◐","Father's Name",{"$nulls":3},"↠",{"$f":"VLOOKUP($A3764,'Result Entry'!$B$9:$DX$108,7,0)","v":0}]
[null,"◐","Mother's Name ",{"$nulls":3},"↠",{"$f":"VLOOKUP($A3764,'Result Entry'!$B$9:$DX$108,8,0)","v":0}]
[null,"◐","Class & Section",{"$nulls":3},"↠",{"$f":"CONCATENATE('Result Entry'!$F$4,'Result Entry'!$I$4)","v":"2(A)"}]
[null,"◐","Date Of Birth",{"$nulls":3},"↠",{"$f":"VLOOKUP($A3764,'Result Entry'!$B$9:$DX$108,9,0)","v":"00:00:00"}]
[null,"◐","Subject",{"$nulls":4},"Half Yearly","Total (T+H.Y.)","Yearly","Grand Total",null,"Subject Grade"]
[null,"◐","Max. Marks",{"$nulls":4},{"$f":"'Result Entry'!$Q$7","v":100},{"$f":"G3777+H3777","v":100},{"$f":"'Result Entry'!$U$7","v":100},{"$f":"I3777+J3777","v":200},null,"A/B/C/D/E"]
[null,"◐",{"$f":"'Result Entry'!$K$3","v":"Hindi"},{"$nulls":4},{"$f":"IF(OR(C3778=\"\",$I3769=\"NSO\"),\"\",VLOOKUP($A3764,'Result Entry'!$B$9:$DX$108,16,0))","v":0},{"$f":"SUM(G3778,H3778)","v":0},{"$f":"IF(OR(C3778=\"\",$I3769=\"NSO\"),\"\",VLOOKUP($A3764,'Result Entry'!$B$9:$DX$108,20,0))","v":0},{"$f":"SUM(I3778,J3778)","v":0},null,{"$f":"IF(OR(C3778=\"\",$I3769=\"NSO\"),\"\",VLOOKUP($A3764,'Result Entry'!$B$9:$DX$108,23,0))","v":""}]
[null,"◐",{"$f":"'Result Entry'!$Y$3","v":"Mathematics"},{"$nulls":4},{"$f":"IF(OR(C3779=\"\",$I3769=\"NSO\"),\"\",VLOOKUP($A3764,'Result Entry'!$B$9:$DX$108,30,0))","v":0},{"$f":"SUM(G3779,H3779)","v":0},{"$f":"IF(OR(C3779=\"\",$I3769=\"NSO\"),\"\",VLOOKUP($A3764,'Result Entry'!$B$9:$DX$108,34,0))","v":0},{"$f":"SUM(I3779,J3779)","v":0},null,{"$f":"IF(OR(C3779=\"\",$I3769=\"NSO\"),\"\",VLOOKUP($A3764,'Result Entry'!$B$9:$DX$108,37,0))","v":""}]
[null,"◐",{"$f":"'Result Entry'!$BO$3","v":"Env. Study"},{"$nulls":4},{"$f":"IF(OR(C3780=\"\",$I3769=\"NSO\"),\"\",VLOOKUP($A3764,'Result Entry'!$B$9:$DX$108,66,0))","v":0},0,{"$f":"IF(OR(C3780=\"\",$I3769=\"NSO\"),\"\",VLOOKUP($A3764,'Result Entry'!$B$9:$DX$108,67,0))","v":0},0,null,{"$f":"IF(OR(C3780=\"\",$I3769=\"NSO\"),\"\",VLOOKUP($A3764,'Result Entry'!$B$9:$DX$108,73,0))","v":""}]
[null,"◐","Max. Marks",{"$nulls":4},{"$f":"'Result Entry'!$AS$7","v":50},50,{"$f":"'Result Entry'!$AW$7","v":50},100,null,"A/B/C/D/E"]
[null,"◐",{"$f":"'Result Entry'!$AM$3","v":"English"},{"$nulls":4},{"$f":"IF(OR(C3782=\"\",$I3769=\"NSO\"),\"\",VLOOKUP($A3764,'Result Entry'!$B$9:$DX$108,44,0))","v":0},0,{"$f":"IF(OR(C3782=\"\",$I3769=\"NSO\"),\"\",VLOOKUP($A3764,'Result Entry'!$B$9:$DX$108,48,0))","v":0},0,null,{"$f":"IF(OR(C3782=\"\",$I3769=\"NSO\"),\"\",VLOOKUP($A3764,'Result Entry'!$B$9:$DX$108,51,0))","v":""}]
[null,"◐"]
[null,"◐","Overall Result",null,null,"Total Max. Marks",null,"Total Obtained Marks",null,"Percentage","Overall Grade","Result","Position in Class"]
[null,"◐",{"$nulls":3},{"$f":"IF(OR($I3769=\"\",$I3769=\"NSO\"),\"\",VLOOKUP($A3764,'Result Entry'!$B$9:$DX$108,101,0))","v":500},null,{"$f":"IF(OR($I3769=\"\",$I3769=\"NSO\"),\"\",VLOOKUP($A3764,'Result Entry'!$B$9:$DX$108,102,0))","v":0},null,{"$f":"IF(OR($I3769=\"\",$I3769=\"NSO\"),\"\",VLOOKUP($A3764,'Result Entry'!$B$9:$DX$108,103,0))","v":{"v":0,"d":"0.00"}},{"$f":"IF(OR($I3769=\"\",$I3769=\"NSO\"),\"\",VLOOKUP($A3764,'Result Entry'!$B$9:$DX$108,104,0))","v":""},{"$f":"IF(OR($I3769=\"\",$I3769=\"NSO\"),\"\",VLOOKUP($A3764,'Result Entry'!$B$9:$DX$108,105,0))","v":""},{"$f":"IF(OR($I3769=\"\",$I3769=\"NSO\"),\"\",VLOOKUP($A3764,'Result Entry'!$B$9:$DX$108,107,0))","v":""}]
[null,"◐",{"$nulls":6},"Total Meetings :-",null,{"$f":"IF(OR($I3769=\"\",$I3769=\"NSO\"),\"\",VLOOKUP($A3764,'Result Entry'!$B$9:$DX$108,98,0))","v":0},"Attedance %"]
[null,"◐","Extra Subjects",{"$nulls":5},"Student's Meetings :-",null,{"$f":"IF(OR($I3769=\"\",$I3769=\"NSO\"),\"\",VLOOKUP($A3764,'Result Entry'!$B$9:$DX$108,99,0))","v":0},{"$f":"IF(OR($I3769=\"\",$I3769=\"NSO\"),\"\",VLOOKUP($A3764,'Result Entry'!$B$9:$DX$108,100,0))","v":""}]
[null,"◐","Subject",null,null,"Total Marks",null,"GRADE","Remark :-",null,{"$f":"IF(OR($I3769=\"\",$I3769=\"NSO\"),\"\",VLOOKUP($A3764,'Result Entry'!$B$9:$DX$108,108,0))","v":0}]
[null,"◐",{"$nulls":6},"Result Date :-",null,{"$f":"'Result Entry'!$T$2","v":"2023-05-24"}]
[null,"◐",{"$f":"'Result Entry'!$BW$3","v":"WORK EXP."},null,null,{"$f":"IF(OR(C3790=\"\",$I3769=\"NSO\"),\"\",VLOOKUP($A3764,'Result Entry'!$B$9:$DX$108,119,0))","v":"0/50"},null,{"$f":"IF(OR(C3790=\"\",$I3769=\"NSO\"),\"\",VLOOKUP($A3764,'Result Entry'!$B$9:$DX$108,81,0))","v":""}]
[null,null,{"$f":"'Result Entry'!$CE$3","v":"ART EDU."},null,null,{"$f":"IF(OR(C3791=\"\",$I3769=\"NSO\"),\"\",VLOOKUP($A3764,'Result Entry'!$B$9:$DX$108,123,0))","v":"0/50"},null,{"$f":"IF(OR(C3791=\"\",$I3769=\"NSO\"),\"\",VLOOKUP($A3764,'Result Entry'!$B$9:$DX$108,89,0))","v":""}]
[null,"◐",{"$f":"'Result Entry'!$CM$3","v":"H&P. EDU."},null,null,{"$f":"IF(OR(C3792=\"\",$I3769=\"NSO\"),\"\",VLOOKUP($A3764,'Result Entry'!$B$9:$DX$108,127,0))","v":"0/100"},null,{"$f":"IF(OR(C3792=\"\",$I3769=\"NSO\"),\"\",VLOOKUP($A3764,'Result Entry'!$B$9:$DX$108,97,0))","v":""},"Signature Of The Class Teacher"]
[null,"◐","Grading System"]
[null,"◐","Grd.","% Range",null,"Description"]
[null,"◐","A","86-100",null,"Excellent",null,null,"Signature And Seal Of Principal/H.M."]
[null,"◐","B","71-85",null,"Very Good"]
[null,"◐","C","51-70",null,"Good"]
[null,"◐","D","31-50",null,"Average"]
[null,"◐","E","0-30",null,"Needs Improvement",null,null,"Wish bright future"]