{"text_format":"3","workbook":"xlsx","n_sheets":5,"sheets":["Master","Student Details Copy From SD","Student Details","Invitation Card  1x2","Invitation Card 100"],"not_rendered":{"images":8},"read":"whole","date_system":"1900"}

{"sheet":"Master","index":0,"n_rows":12,"n_cols":15,"rows_kept":12,"merged":[[0,0,0,15],[1,0,11,0],[1,1,1,12],[1,13,11,13],[1,14,3,14],[1,15,11,15],[2,1,2,12],[3,1,3,12],[4,1,4,3],[4,4,4,12],[4,14,11,14],[5,1,5,3],[5,4,5,12],[6,1,6,3],[6,4,6,12],[7,1,7,3],[7,4,7,12],[8,1,8,3],[8,4,8,12],[9,1,9,3],[9,4,9,12],[10,1,10,3],[10,4,10,12],[11,1,11,3],[11,4,11,5],[11,6,11,12],[12,0,12,15]]}
[]
[null,"विद्यालय में आयोजित होने वाले किसी भी कार्यक्रम के लिए आमंत्रण पत्र तैयार करें "]
[null,"1. सर्वप्रथम शाला दर्पण से स्टूडेंट डिटेल्स को एक्सेल फोर्मेट में डाऊनलोड करके उसके डेटा को इसमें \"Student Details Copy From SD\" शीट में पेस्ट कर देवें l समय की कमी की स्थिति में आप केवल पिताजी के नाम वाले कॉलम की पूर्ती पर देवेl"]
[null,"2. \"Invitation Card  1x2\" शीट पर क्लिक करके वांछित विद्यार्थी के क्रमांक दर्ज कर प्रिंट ले लेवें ।"]
[null,"विद्यालय का नाम:-",null,null,"राजकीय उच्च माध्यमिक विद्यालय रायमलवाडा",{"$nulls":9},"Prepared By :-  Ummed Tarad (Teacher-Gsss Raimalwada, Jodhpur) Mob.No.-9166973141 Email Id:-ummedtrdedu@gmail.com"]
[null,"ब्लॉक एवं जिला:-",null,null,"ब्लॉक-बापिणी (जोधपुर)"]
[null,"कार्यक्रम का नाम:-",null,null,"Republic Day"]
[null,"दिनांक:-",null,null,"2021-03-09"]
[null,"समय:-",null,null,"09:15:00"]
[null,"विशेष आयोजन:-",null,null,"पूर्व छात्र मिल्लन, प्रतिभा एवं भामाशाह सम्मान कार्यक्रम"]
[null,"स्थान:-",null,null,"शाला प्रांगण"]
[null,"निवेदक:-",null,null,"संस्था प्रधान ",null,{"$f":"E5","v":"राजकीय उच्च माध्यमिक विद्यालय रायमलवाडा"}]

{"sheet":"Student Details Copy From SD","index":1,"n_rows":1001,"n_cols":31,"rows_kept":1001}
["Sr. No.","Class","Section","SRNO","DOA","Student Name","Late Status","FatherName","MotherName","Gender","Dob","ClassRollNo","ExamRollNumber","School Total Working Days","Student Total Attendence","Category","Religion","Previous Year Marks","Name Of School","School UDise Code","Aadhar No of Student","Bhamashash Card","Mobile No Student(Father/Mother/Guardian","Student Permanent Address","Annual Parental Income","CWSN Status","BPL Status","Minority Status","Age On Present(In Years)","Co-Curricular Activity","Distance From School"]
[1,{"$nulls":4},"fhmfvjh,",null,"hjfhfh"]
[2,{"$nulls":4},"jygjuguj",null,"hfyhf"]
[3,{"$nulls":4},"jgjg",null,"ufgjgug"]
[4]
[5]
[6]
[7]
[8]
[9]
[10]
[11]
[12]
[13]
[14]
[15]
[16]
[17]
[18]
[19]
[20]
[21]
[22]
[23]
[24]
[25]
[26]
[27]
[28]
[29]
[30]
[31]
[32]
[33]
[34]
[35]
[36]
[37]
[38]
[39]
[40]
[41]
[42]
[43]
[44]
[45]
[46]
[47]
[48]
[49]
[50]
[51]
[52]
[53]
[54]
[55]
[56]
[57]
[58]
[59]
[60]
[61]
[62]
[63]
[64]
[65]
[66]
[67]
[68]
[69]
[70]
[71]
[72]
[73]
[74]
[75]
[76]
[77]
[78]
[79]
[80]
[81]
[82]
[83]
[84]
[85]
[86]
[87]
[88]
[89]
[90]
[91]
[92]
[93]
[94]
[95]
[96]
[97]
[98]
[99]
[100]
[101]
[102]
[103]
[104]
[105]
[106]
[107]
[108]
[109]
[110]
[111]
[112]
[113]
[114]
[115]
[116]
[117]
[118]
[119]
[120]
[121]
[122]
[123]
[124]
[125]
[126]
[127]
[128]
[129]
[130]
[131]
[132]
[133]
[134]
[135]
[136]
[137]
[138]
[139]
[140]
[141]
[142]
[143]
[144]
[145]
[146]
[147]
[148]
[149]
[150]
[151]
[152]
[153]
[154]
[155]
[156]
[157]
[158]
[159]
[160]
[161]
[162]
[163]
[164]
[165]
[166]
[167]
[168]
[169]
[170]
[171]
[172]
[173]
[174]
[175]
[176]
[177]
[178]
[179]
[180]
[181]
[182]
[183]
[184]
[185]
[186]
[187]
[188]
[189]
[190]
[191]
[192]
[193]
[194]
[195]
[196]
[197]
[198]
[199]
[200]
[201]
[202]
[203]
[204]
[205]
[206]
[207]
[208]
[209]
[210]
[211]
[212]
[213]
[214]
[215]
[216]
[217]
[218]
[219]
[220]
[221]
[222]
[223]
[224]
[225]
[226]
[227]
[228]
[229]
[230]
[231]
[232]
[233]
[234]
[235]
[236]
[237]
[238]
[239]
[240]
[241]
[242]
[243]
[244]
[245]
[246]
[247]
[248]
[249]
[250]
[251]
[252]
[253]
[254]
[255]
[256]
[257]
[258]
[259]
[260]
[261]
[262]
[263]
[264]
[265]
[266]
[267]
[268]
[269]
[270]
[271]
[272]
[273]
[274]
[275]
[276]
[277]
[278]
[279]
[280]
[281]
[282]
[283]
[284]
[285]
[286]
[287]
[288]
[289]
[290]
[291]
[292]
[293]
[294]
[295]
[296]
[297]
[298]
[299]
[300]
[301]
[302]
[303]
[304]
[305]
[306]
[307]
[308]
[309]
[310]
[311]
[312]
[313]
[314]
[315]
[316]
[317]
[318]
[319]
[320]
[321]
[322]
[323]
[324]
[325]
[326]
[327]
[328]
[329]
[330]
[331]
[332]
[333]
[334]
[335]
[336]
[337]
[338]
[339]
[340]
[341]
[342]
[343]
[344]
[345]
[346]
[347]
[348]
[349]
[350]
[351]
[352]
[353]
[354]
[355]
[356]
[357]
[358]
[359]
[360]
[361]
[362]
[363]
[364]
[365]
[366]
[367]
[368]
[369]
[370]
[371]
[372]
[373]
[374]
[375]
[376]
[377]
[378]
[379]
[380]
[381]
[382]
[383]
[384]
[385]
[386]
[387]
[388]
[389]
[390]
[391]
[392]
[393]
[394]
[395]
[396]
[397]
[398]
[399]
[400]
[401]
[402]
[403]
[404]
[405]
[406]
[407]
[408]
[409]
[410]
[411]
[412]
[413]
[414]
[415]
[416]
[417]
[418]
[419]
[420]
[421]
[422]
[423]
[424]
[425]
[426]
[427]
[428]
[429]
[430]
[431]
[432]
[433]
[434]
[435]
[436]
[437]
[438]
[439]
[440]
[441]
[442]
[443]
[444]
[445]
[446]
[447]
[448]
[449]
[450]
[451]
[452]
[453]
[454]
[455]
[456]
[457]
[458]
[459]
[460]
[461]
[462]
[463]
[464]
[465]
[466]
[467]
[468]
[469]
[470]
[471]
[472]
[473]
[474]
[475]
[476]
[477]
[478]
[479]
[480]
[481]
[482]
[483]
[484]
[485]
[486]
[487]
[488]
[489]
[490]
[491]
[492]
[493]
[494]
[495]
[496]
[497]
[498]
[499]
[500]
[501]
[502]
[503]
[504]
[505]
[506]
[507]
[508]
[509]
[510]
[511]
[512]
[513]
[514]
[515]
[516]
[517]
[518]
[519]
[520]
[521]
[522]
[523]
[524]
[525]
[526]
[527]
[528]
[529]
[530]
[531]
[532]
[533]
[534]
[535]
[536]
[537]
[538]
[539]
[540]
[541]
[542]
[543]
[544]
[545]
[546]
[547]
[548]
[549]
[550]
[551]
[552]
[553]
[554]
[555]
[556]
[557]
[558]
[559]
[560]
[561]
[562]
[563]
[564]
[565]
[566]
[567]
[568]
[569]
[570]
[571]
[572]
[573]
[574]
[575]
[576]
[577]
[578]
[579]
[580]
[581]
[582]
[583]
[584]
[585]
[586]
[587]
[588]
[589]
[590]
[591]
[592]
[593]
[594]
[595]
[596]
[597]
[598]
[599]
[600]
[601]
[602]
[603]
[604]
[605]
[606]
[607]
[608]
[609]
[610]
[611]
[612]
[613]
[614]
[615]
[616]
[617]
[618]
[619]
[620]
[621]
[622]
[623]
[624]
[625]
[626]
[627]
[628]
[629]
[630]
[631]
[632]
[633]
[634]
[635]
[636]
[637]
[638]
[639]
[640]
[641]
[642]
[643]
[644]
[645]
[646]
[647]
[648]
[649]
[650]
[651]
[652]
[653]
[654]
[655]
[656]
[657]
[658]
[659]
[660]
[661]
[662]
[663]
[664]
[665]
[666]
[667]
[668]
[669]
[670]
[671]
[672]
[673]
[674]
[675]
[676]
[677]
[678]
[679]
[680]
[681]
[682]
[683]
[684]
[685]
[686]
[687]
[688]
[689]
[690]
[691]
[692]
[693]
[694]
[695]
[696]
[697]
[698]
[699]
[700]
[701]
[702]
[703]
[704]
[705]
[706]
[707]
[708]
[709]
[710]
[711]
[712]
[713]
[714]
[715]
[716]
[717]
[718]
[719]
[720]
[721]
[722]
[723]
[724]
[725]
[726]
[727]
[728]
[729]
[730]
[731]
[732]
[733]
[734]
[735]
[736]
[737]
[738]
[739]
[740]
[741]
[742]
[743]
[744]
[745]
[746]
[747]
[748]
[749]
[750]
[751]
[752]
[753]
[754]
[755]
[756]
[757]
[758]
[759]
[760]
[761]
[762]
[763]
[764]
[765]
[766]
[767]
[768]
[769]
[770]
[771]
[772]
[773]
[774]
[775]
[776]
[777]
[778]
[779]
[780]
[781]
[782]
[783]
[784]
[785]
[786]
[787]
[788]
[789]
[790]
[791]
[792]
[793]
[794]
[795]
[796]
[797]
[798]
[799]
[800]
[801]
[802]
[803]
[804]
[805]
[806]
[807]
[808]
[809]
[810]
[811]
[812]
[813]
[814]
[815]
[816]
[817]
[818]
[819]
[820]
[821]
[822]
[823]
[824]
[825]
[826]
[827]
[828]
[829]
[830]
[831]
[832]
[833]
[834]
[835]
[836]
[837]
[838]
[839]
[840]
[841]
[842]
[843]
[844]
[845]
[846]
[847]
[848]
[849]
[850]
[851]
[852]
[853]
[854]
[855]
[856]
[857]
[858]
[859]
[860]
[861]
[862]
[863]
[864]
[865]
[866]
[867]
[868]
[869]
[870]
[871]
[872]
[873]
[874]
[875]
[876]
[877]
[878]
[879]
[880]
[881]
[882]
[883]
[884]
[885]
[886]
[887]
[888]
[889]
[890]
[891]
[892]
[893]
[894]
[895]
[896]
[897]
[898]
[899]
[900]
[901]
[902]
[903]
[904]
[905]
[906]
[907]
[908]
[909]
[910]
[911]
[912]
[913]
[914]
[915]
[916]
[917]
[918]
[919]
[920]
[921]
[922]
[923]
[924]
[925]
[926]
[927]
[928]
[929]
[930]
[931]
[932]
[933]
[934]
[935]
[936]
[937]
[938]
[939]
[940]
[941]
[942]
[943]
[944]
[945]
[946]
[947]
[948]
[949]
[950]
[951]
[952]
[953]
[954]
[955]
[956]
[957]
[958]
[959]
[960]
[961]
[962]
[963]
[964]
[965]
[966]
[967]
[968]
[969]
[970]
[971]
[972]
[973]
[974]
[975]
[976]
[977]
[978]
[979]
[980]
[981]
[982]
[983]
[984]
[985]
[986]
[987]
[988]
[989]
[990]
[991]
[992]
[993]
[994]
[995]
[996]
[997]
[998]
[999]
[1000]

{"sheet":"Student Details","index":2,"n_rows":1002,"n_cols":4,"rows_kept":1002,"hidden":true,"merged":[[0,0,0,1],[0,2,0,3]]}
["School's Name:-"]
["Sr. No.","Class","Student Name","Father's Name"]
[{"$f":"'Student Details Copy From SD'!A2","v":1},{"$f":"'Student Details Copy From SD'!B2","v":0},{"$f":"'Student Details Copy From SD'!F2","v":"fhmfvjh,"},{"$f":"'Student Details Copy From SD'!H2","v":"hjfhfh"}]
[{"$f":"'Student Details Copy From SD'!A3","v":2},{"$f":"'Student Details Copy From SD'!B3","v":0},{"$f":"'Student Details Copy From SD'!F3","v":"jygjuguj"},{"$f":"'Student Details Copy From SD'!H3","v":"hfyhf"}]
[{"$f":"'Student Details Copy From SD'!A4","v":3},{"$f":"'Student Details Copy From SD'!B4","v":0},{"$f":"'Student Details Copy From SD'!F4","v":"jgjg"},{"$f":"'Student Details Copy From SD'!H4","v":"ufgjgug"}]
[{"$f":"'Student Details Copy From SD'!A5","v":4},{"$f":"'Student Details Copy From SD'!B5","v":0},{"$f":"'Student Details Copy From SD'!F5","v":0},{"$f":"'Student Details Copy From SD'!H5","v":0}]
[{"$f":"'Student Details Copy From SD'!A6","v":5},{"$f":"'Student Details Copy From SD'!B6","v":0},{"$f":"'Student Details Copy From SD'!F6","v":0},{"$f":"'Student Details Copy From SD'!H6","v":0}]
[{"$f":"'Student Details Copy From SD'!A7","v":6},{"$f":"'Student Details Copy From SD'!B7","v":0},{"$f":"'Student Details Copy From SD'!F7","v":0},{"$f":"'Student Details Copy From SD'!H7","v":0}]
[{"$f":"'Student Details Copy From SD'!A8","v":7},{"$f":"'Student Details Copy From SD'!B8","v":0},{"$f":"'Student Details Copy From SD'!F8","v":0},{"$f":"'Student Details Copy From SD'!H8","v":0}]
[{"$f":"'Student Details Copy From SD'!A9","v":8},{"$f":"'Student Details Copy From SD'!B9","v":0},{"$f":"'Student Details Copy From SD'!F9","v":0},{"$f":"'Student Details Copy From SD'!H9","v":0}]
[{"$f":"'Student Details Copy From SD'!A10","v":9},{"$f":"'Student Details Copy From SD'!B10","v":0},{"$f":"'Student Details Copy From SD'!F10","v":0},{"$f":"'Student Details Copy From SD'!H10","v":0}]
[{"$f":"'Student Details Copy From SD'!A11","v":10},{"$f":"'Student Details Copy From SD'!B11","v":0},{"$f":"'Student Details Copy From SD'!F11","v":0},{"$f":"'Student Details Copy From SD'!H11","v":0}]
[{"$f":"'Student Details Copy From SD'!A12","v":11},{"$f":"'Student Details Copy From SD'!B12","v":0},{"$f":"'Student Details Copy From SD'!F12","v":0},{"$f":"'Student Details Copy From SD'!H12","v":0}]
[{"$f":"'Student Details Copy From SD'!A13","v":12},{"$f":"'Student Details Copy From SD'!B13","v":0},{"$f":"'Student Details Copy From SD'!F13","v":0},{"$f":"'Student Details Copy From SD'!H13","v":0}]
[{"$f":"'Student Details Copy From SD'!A14","v":13},{"$f":"'Student Details Copy From SD'!B14","v":0},{"$f":"'Student Details Copy From SD'!F14","v":0},{"$f":"'Student Details Copy From SD'!H14","v":0}]
[{"$f":"'Student Details Copy From SD'!A15","v":14},{"$f":"'Student Details Copy From SD'!B15","v":0},{"$f":"'Student Details Copy From SD'!F15","v":0},{"$f":"'Student Details Copy From SD'!H15","v":0}]
[{"$f":"'Student Details Copy From SD'!A16","v":15},{"$f":"'Student Details Copy From SD'!B16","v":0},{"$f":"'Student Details Copy From SD'!F16","v":0},{"$f":"'Student Details Copy From SD'!H16","v":0}]
[{"$f":"'Student Details Copy From SD'!A17","v":16},{"$f":"'Student Details Copy From SD'!B17","v":0},{"$f":"'Student Details Copy From SD'!F17","v":0},{"$f":"'Student Details Copy From SD'!H17","v":0}]
[{"$f":"'Student Details Copy From SD'!A18","v":17},{"$f":"'Student Details Copy From SD'!B18","v":0},{"$f":"'Student Details Copy From SD'!F18","v":0},{"$f":"'Student Details Copy From SD'!H18","v":0}]
[{"$f":"'Student Details Copy From SD'!A19","v":18},{"$f":"'Student Details Copy From SD'!B19","v":0},{"$f":"'Student Details Copy From SD'!F19","v":0},{"$f":"'Student Details Copy From SD'!H19","v":0}]
[{"$f":"'Student Details Copy From SD'!A20","v":19},{"$f":"'Student Details Copy From SD'!B20","v":0},{"$f":"'Student Details Copy From SD'!F20","v":0},{"$f":"'Student Details Copy From SD'!H20","v":0}]
[{"$f":"'Student Details Copy From SD'!A21","v":20},{"$f":"'Student Details Copy From SD'!B21","v":0},{"$f":"'Student Details Copy From SD'!F21","v":0},{"$f":"'Student Details Copy From SD'!H21","v":0}]
[{"$f":"'Student Details Copy From SD'!A22","v":21},{"$f":"'Student Details Copy From SD'!B22","v":0},{"$f":"'Student Details Copy From SD'!F22","v":0},{"$f":"'Student Details Copy From SD'!H22","v":0}]
[{"$f":"'Student Details Copy From SD'!A23","v":22},{"$f":"'Student Details Copy From SD'!B23","v":0},{"$f":"'Student Details Copy From SD'!F23","v":0},{"$f":"'Student Details Copy From SD'!H23","v":0}]
[{"$f":"'Student Details Copy From SD'!A24","v":23},{"$f":"'Student Details Copy From SD'!B24","v":0},{"$f":"'Student Details Copy From SD'!F24","v":0},{"$f":"'Student Details Copy From SD'!H24","v":0}]
[{"$f":"'Student Details Copy From SD'!A25","v":24},{"$f":"'Student Details Copy From SD'!B25","v":0},{"$f":"'Student Details Copy From SD'!F25","v":0},{"$f":"'Student Details Copy From SD'!H25","v":0}]
[{"$f":"'Student Details Copy From SD'!A26","v":25},{"$f":"'Student Details Copy From SD'!B26","v":0},{"$f":"'Student Details Copy From SD'!F26","v":0},{"$f":"'Student Details Copy From SD'!H26","v":0}]
[{"$f":"'Student Details Copy From SD'!A27","v":26},{"$f":"'Student Details Copy From SD'!B27","v":0},{"$f":"'Student Details Copy From SD'!F27","v":0},{"$f":"'Student Details Copy From SD'!H27","v":0}]
[{"$f":"'Student Details Copy From SD'!A28","v":27},{"$f":"'Student Details Copy From SD'!B28","v":0},{"$f":"'Student Details Copy From SD'!F28","v":0},{"$f":"'Student Details Copy From SD'!H28","v":0}]
[{"$f":"'Student Details Copy From SD'!A29","v":28},{"$f":"'Student Details Copy From SD'!B29","v":0},{"$f":"'Student Details Copy From SD'!F29","v":0},{"$f":"'Student Details Copy From SD'!H29","v":0}]
[{"$f":"'Student Details Copy From SD'!A30","v":29},{"$f":"'Student Details Copy From SD'!B30","v":0},{"$f":"'Student Details Copy From SD'!F30","v":0},{"$f":"'Student Details Copy From SD'!H30","v":0}]
[{"$f":"'Student Details Copy From SD'!A31","v":30},{"$f":"'Student Details Copy From SD'!B31","v":0},{"$f":"'Student Details Copy From SD'!F31","v":0},{"$f":"'Student Details Copy From SD'!H31","v":0}]
[{"$f":"'Student Details Copy From SD'!A32","v":31},{"$f":"'Student Details Copy From SD'!B32","v":0},{"$f":"'Student Details Copy From SD'!F32","v":0},{"$f":"'Student Details Copy From SD'!H32","v":0}]
[{"$f":"'Student Details Copy From SD'!A33","v":32},{"$f":"'Student Details Copy From SD'!B33","v":0},{"$f":"'Student Details Copy From SD'!F33","v":0},{"$f":"'Student Details Copy From SD'!H33","v":0}]
[{"$f":"'Student Details Copy From SD'!A34","v":33},{"$f":"'Student Details Copy From SD'!B34","v":0},{"$f":"'Student Details Copy From SD'!F34","v":0},{"$f":"'Student Details Copy From SD'!H34","v":0}]
[{"$f":"'Student Details Copy From SD'!A35","v":34},{"$f":"'Student Details Copy From SD'!B35","v":0},{"$f":"'Student Details Copy From SD'!F35","v":0},{"$f":"'Student Details Copy From SD'!H35","v":0}]
[{"$f":"'Student Details Copy From SD'!A36","v":35},{"$f":"'Student Details Copy From SD'!B36","v":0},{"$f":"'Student Details Copy From SD'!F36","v":0},{"$f":"'Student Details Copy From SD'!H36","v":0}]
[{"$f":"'Student Details Copy From SD'!A37","v":36},{"$f":"'Student Details Copy From SD'!B37","v":0},{"$f":"'Student Details Copy From SD'!F37","v":0},{"$f":"'Student Details Copy From SD'!H37","v":0}]
[{"$f":"'Student Details Copy From SD'!A38","v":37},{"$f":"'Student Details Copy From SD'!B38","v":0},{"$f":"'Student Details Copy From SD'!F38","v":0},{"$f":"'Student Details Copy From SD'!H38","v":0}]
[{"$f":"'Student Details Copy From SD'!A39","v":38},{"$f":"'Student Details Copy From SD'!B39","v":0},{"$f":"'Student Details Copy From SD'!F39","v":0},{"$f":"'Student Details Copy From SD'!H39","v":0}]
[{"$f":"'Student Details Copy From SD'!A40","v":39},{"$f":"'Student Details Copy From SD'!B40","v":0},{"$f":"'Student Details Copy From SD'!F40","v":0},{"$f":"'Student Details Copy From SD'!H40","v":0}]
[{"$f":"'Student Details Copy From SD'!A41","v":40},{"$f":"'Student Details Copy From SD'!B41","v":0},{"$f":"'Student Details Copy From SD'!F41","v":0},{"$f":"'Student Details Copy From SD'!H41","v":0}]
[{"$f":"'Student Details Copy From SD'!A42","v":41},{"$f":"'Student Details Copy From SD'!B42","v":0},{"$f":"'Student Details Copy From SD'!F42","v":0},{"$f":"'Student Details Copy From SD'!H42","v":0}]
[{"$f":"'Student Details Copy From SD'!A43","v":42},{"$f":"'Student Details Copy From SD'!B43","v":0},{"$f":"'Student Details Copy From SD'!F43","v":0},{"$f":"'Student Details Copy From SD'!H43","v":0}]
[{"$f":"'Student Details Copy From SD'!A44","v":43},{"$f":"'Student Details Copy From SD'!B44","v":0},{"$f":"'Student Details Copy From SD'!F44","v":0},{"$f":"'Student Details Copy From SD'!H44","v":0}]
[{"$f":"'Student Details Copy From SD'!A45","v":44},{"$f":"'Student Details Copy From SD'!B45","v":0},{"$f":"'Student Details Copy From SD'!F45","v":0},{"$f":"'Student Details Copy From SD'!H45","v":0}]
[{"$f":"'Student Details Copy From SD'!A46","v":45},{"$f":"'Student Details Copy From SD'!B46","v":0},{"$f":"'Student Details Copy From SD'!F46","v":0},{"$f":"'Student Details Copy From SD'!H46","v":0}]
[{"$f":"'Student Details Copy From SD'!A47","v":46},{"$f":"'Student Details Copy From SD'!B47","v":0},{"$f":"'Student Details Copy From SD'!F47","v":0},{"$f":"'Student Details Copy From SD'!H47","v":0}]
[{"$f":"'Student Details Copy From SD'!A48","v":47},{"$f":"'Student Details Copy From SD'!B48","v":0},{"$f":"'Student Details Copy From SD'!F48","v":0},{"$f":"'Student Details Copy From SD'!H48","v":0}]
[{"$f":"'Student Details Copy From SD'!A49","v":48},{"$f":"'Student Details Copy From SD'!B49","v":0},{"$f":"'Student Details Copy From SD'!F49","v":0},{"$f":"'Student Details Copy From SD'!H49","v":0}]
[{"$f":"'Student Details Copy From SD'!A50","v":49},{"$f":"'Student Details Copy From SD'!B50","v":0},{"$f":"'Student Details Copy From SD'!F50","v":0},{"$f":"'Student Details Copy From SD'!H50","v":0}]
[{"$f":"'Student Details Copy From SD'!A51","v":50},{"$f":"'Student Details Copy From SD'!B51","v":0},{"$f":"'Student Details Copy From SD'!F51","v":0},{"$f":"'Student Details Copy From SD'!H51","v":0}]
[{"$f":"'Student Details Copy From SD'!A52","v":51},{"$f":"'Student Details Copy From SD'!B52","v":0},{"$f":"'Student Details Copy From SD'!F52","v":0},{"$f":"'Student Details Copy From SD'!H52","v":0}]
[{"$f":"'Student Details Copy From SD'!A53","v":52},{"$f":"'Student Details Copy From SD'!B53","v":0},{"$f":"'Student Details Copy From SD'!F53","v":0},{"$f":"'Student Details Copy From SD'!H53","v":0}]
[{"$f":"'Student Details Copy From SD'!A54","v":53},{"$f":"'Student Details Copy From SD'!B54","v":0},{"$f":"'Student Details Copy From SD'!F54","v":0},{"$f":"'Student Details Copy From SD'!H54","v":0}]
[{"$f":"'Student Details Copy From SD'!A55","v":54},{"$f":"'Student Details Copy From SD'!B55","v":0},{"$f":"'Student Details Copy From SD'!F55","v":0},{"$f":"'Student Details Copy From SD'!H55","v":0}]
[{"$f":"'Student Details Copy From SD'!A56","v":55},{"$f":"'Student Details Copy From SD'!B56","v":0},{"$f":"'Student Details Copy From SD'!F56","v":0},{"$f":"'Student Details Copy From SD'!H56","v":0}]
[{"$f":"'Student Details Copy From SD'!A57","v":56},{"$f":"'Student Details Copy From SD'!B57","v":0},{"$f":"'Student Details Copy From SD'!F57","v":0},{"$f":"'Student Details Copy From SD'!H57","v":0}]
[{"$f":"'Student Details Copy From SD'!A58","v":57},{"$f":"'Student Details Copy From SD'!B58","v":0},{"$f":"'Student Details Copy From SD'!F58","v":0},{"$f":"'Student Details Copy From SD'!H58","v":0}]
[{"$f":"'Student Details Copy From SD'!A59","v":58},{"$f":"'Student Details Copy From SD'!B59","v":0},{"$f":"'Student Details Copy From SD'!F59","v":0},{"$f":"'Student Details Copy From SD'!H59","v":0}]
[{"$f":"'Student Details Copy From SD'!A60","v":59},{"$f":"'Student Details Copy From SD'!B60","v":0},{"$f":"'Student Details Copy From SD'!F60","v":0},{"$f":"'Student Details Copy From SD'!H60","v":0}]
[{"$f":"'Student Details Copy From SD'!A61","v":60},{"$f":"'Student Details Copy From SD'!B61","v":0},{"$f":"'Student Details Copy From SD'!F61","v":0},{"$f":"'Student Details Copy From SD'!H61","v":0}]
[{"$f":"'Student Details Copy From SD'!A62","v":61},{"$f":"'Student Details Copy From SD'!B62","v":0},{"$f":"'Student Details Copy From SD'!F62","v":0},{"$f":"'Student Details Copy From SD'!H62","v":0}]
[{"$f":"'Student Details Copy From SD'!A63","v":62},{"$f":"'Student Details Copy From SD'!B63","v":0},{"$f":"'Student Details Copy From SD'!F63","v":0},{"$f":"'Student Details Copy From SD'!H63","v":0}]
[{"$f":"'Student Details Copy From SD'!A64","v":63},{"$f":"'Student Details Copy From SD'!B64","v":0},{"$f":"'Student Details Copy From SD'!F64","v":0},{"$f":"'Student Details Copy From SD'!H64","v":0}]
[{"$f":"'Student Details Copy From SD'!A65","v":64},{"$f":"'Student Details Copy From SD'!B65","v":0},{"$f":"'Student Details Copy From SD'!F65","v":0},{"$f":"'Student Details Copy From SD'!H65","v":0}]
[{"$f":"'Student Details Copy From SD'!A66","v":65},{"$f":"'Student Details Copy From SD'!B66","v":0},{"$f":"'Student Details Copy From SD'!F66","v":0},{"$f":"'Student Details Copy From SD'!H66","v":0}]
[{"$f":"'Student Details Copy From SD'!A67","v":66},{"$f":"'Student Details Copy From SD'!B67","v":0},{"$f":"'Student Details Copy From SD'!F67","v":0},{"$f":"'Student Details Copy From SD'!H67","v":0}]
[{"$f":"'Student Details Copy From SD'!A68","v":67},{"$f":"'Student Details Copy From SD'!B68","v":0},{"$f":"'Student Details Copy From SD'!F68","v":0},{"$f":"'Student Details Copy From SD'!H68","v":0}]
[{"$f":"'Student Details Copy From SD'!A69","v":68},{"$f":"'Student Details Copy From SD'!B69","v":0},{"$f":"'Student Details Copy From SD'!F69","v":0},{"$f":"'Student Details Copy From SD'!H69","v":0}]
[{"$f":"'Student Details Copy From SD'!A70","v":69},{"$f":"'Student Details Copy From SD'!B70","v":0},{"$f":"'Student Details Copy From SD'!F70","v":0},{"$f":"'Student Details Copy From SD'!H70","v":0}]
[{"$f":"'Student Details Copy From SD'!A71","v":70},{"$f":"'Student Details Copy From SD'!B71","v":0},{"$f":"'Student Details Copy From SD'!F71","v":0},{"$f":"'Student Details Copy From SD'!H71","v":0}]
[{"$f":"'Student Details Copy From SD'!A72","v":71},{"$f":"'Student Details Copy From SD'!B72","v":0},{"$f":"'Student Details Copy From SD'!F72","v":0},{"$f":"'Student Details Copy From SD'!H72","v":0}]
[{"$f":"'Student Details Copy From SD'!A73","v":72},{"$f":"'Student Details Copy From SD'!B73","v":0},{"$f":"'Student Details Copy From SD'!F73","v":0},{"$f":"'Student Details Copy From SD'!H73","v":0}]
[{"$f":"'Student Details Copy From SD'!A74","v":73},{"$f":"'Student Details Copy From SD'!B74","v":0},{"$f":"'Student Details Copy From SD'!F74","v":0},{"$f":"'Student Details Copy From SD'!H74","v":0}]
[{"$f":"'Student Details Copy From SD'!A75","v":74},{"$f":"'Student Details Copy From SD'!B75","v":0},{"$f":"'Student Details Copy From SD'!F75","v":0},{"$f":"'Student Details Copy From SD'!H75","v":0}]
[{"$f":"'Student Details Copy From SD'!A76","v":75},{"$f":"'Student Details Copy From SD'!B76","v":0},{"$f":"'Student Details Copy From SD'!F76","v":0},{"$f":"'Student Details Copy From SD'!H76","v":0}]
[{"$f":"'Student Details Copy From SD'!A77","v":76},{"$f":"'Student Details Copy From SD'!B77","v":0},{"$f":"'Student Details Copy From SD'!F77","v":0},{"$f":"'Student Details Copy From SD'!H77","v":0}]
[{"$f":"'Student Details Copy From SD'!A78","v":77},{"$f":"'Student Details Copy From SD'!B78","v":0},{"$f":"'Student Details Copy From SD'!F78","v":0},{"$f":"'Student Details Copy From SD'!H78","v":0}]
[{"$f":"'Student Details Copy From SD'!A79","v":78},{"$f":"'Student Details Copy From SD'!B79","v":0},{"$f":"'Student Details Copy From SD'!F79","v":0},{"$f":"'Student Details Copy From SD'!H79","v":0}]
[{"$f":"'Student Details Copy From SD'!A80","v":79},{"$f":"'Student Details Copy From SD'!B80","v":0},{"$f":"'Student Details Copy From SD'!F80","v":0},{"$f":"'Student Details Copy From SD'!H80","v":0}]
[{"$f":"'Student Details Copy From SD'!A81","v":80},{"$f":"'Student Details Copy From SD'!B81","v":0},{"$f":"'Student Details Copy From SD'!F81","v":0},{"$f":"'Student Details Copy From SD'!H81","v":0}]
[{"$f":"'Student Details Copy From SD'!A82","v":81},{"$f":"'Student Details Copy From SD'!B82","v":0},{"$f":"'Student Details Copy From SD'!F82","v":0},{"$f":"'Student Details Copy From SD'!H82","v":0}]
[{"$f":"'Student Details Copy From SD'!A83","v":82},{"$f":"'Student Details Copy From SD'!B83","v":0},{"$f":"'Student Details Copy From SD'!F83","v":0},{"$f":"'Student Details Copy From SD'!H83","v":0}]
[{"$f":"'Student Details Copy From SD'!A84","v":83},{"$f":"'Student Details Copy From SD'!B84","v":0},{"$f":"'Student Details Copy From SD'!F84","v":0},{"$f":"'Student Details Copy From SD'!H84","v":0}]
[{"$f":"'Student Details Copy From SD'!A85","v":84},{"$f":"'Student Details Copy From SD'!B85","v":0},{"$f":"'Student Details Copy From SD'!F85","v":0},{"$f":"'Student Details Copy From SD'!H85","v":0}]
[{"$f":"'Student Details Copy From SD'!A86","v":85},{"$f":"'Student Details Copy From SD'!B86","v":0},{"$f":"'Student Details Copy From SD'!F86","v":0},{"$f":"'Student Details Copy From SD'!H86","v":0}]
[{"$f":"'Student Details Copy From SD'!A87","v":86},{"$f":"'Student Details Copy From SD'!B87","v":0},{"$f":"'Student Details Copy From SD'!F87","v":0},{"$f":"'Student Details Copy From SD'!H87","v":0}]
[{"$f":"'Student Details Copy From SD'!A88","v":87},{"$f":"'Student Details Copy From SD'!B88","v":0},{"$f":"'Student Details Copy From SD'!F88","v":0},{"$f":"'Student Details Copy From SD'!H88","v":0}]
[{"$f":"'Student Details Copy From SD'!A89","v":88},{"$f":"'Student Details Copy From SD'!B89","v":0},{"$f":"'Student Details Copy From SD'!F89","v":0},{"$f":"'Student Details Copy From SD'!H89","v":0}]
[{"$f":"'Student Details Copy From SD'!A90","v":89},{"$f":"'Student Details Copy From SD'!B90","v":0},{"$f":"'Student Details Copy From SD'!F90","v":0},{"$f":"'Student Details Copy From SD'!H90","v":0}]
[{"$f":"'Student Details Copy From SD'!A91","v":90},{"$f":"'Student Details Copy From SD'!B91","v":0},{"$f":"'Student Details Copy From SD'!F91","v":0},{"$f":"'Student Details Copy From SD'!H91","v":0}]
[{"$f":"'Student Details Copy From SD'!A92","v":91},{"$f":"'Student Details Copy From SD'!B92","v":0},{"$f":"'Student Details Copy From SD'!F92","v":0},{"$f":"'Student Details Copy From SD'!H92","v":0}]
[{"$f":"'Student Details Copy From SD'!A93","v":92},{"$f":"'Student Details Copy From SD'!B93","v":0},{"$f":"'Student Details Copy From SD'!F93","v":0},{"$f":"'Student Details Copy From SD'!H93","v":0}]
[{"$f":"'Student Details Copy From SD'!A94","v":93},{"$f":"'Student Details Copy From SD'!B94","v":0},{"$f":"'Student Details Copy From SD'!F94","v":0},{"$f":"'Student Details Copy From SD'!H94","v":0}]
[{"$f":"'Student Details Copy From SD'!A95","v":94},{"$f":"'Student Details Copy From SD'!B95","v":0},{"$f":"'Student Details Copy From SD'!F95","v":0},{"$f":"'Student Details Copy From SD'!H95","v":0}]
[{"$f":"'Student Details Copy From SD'!A96","v":95},{"$f":"'Student Details Copy From SD'!B96","v":0},{"$f":"'Student Details Copy From SD'!F96","v":0},{"$f":"'Student Details Copy From SD'!H96","v":0}]
[{"$f":"'Student Details Copy From SD'!A97","v":96},{"$f":"'Student Details Copy From SD'!B97","v":0},{"$f":"'Student Details Copy From SD'!F97","v":0},{"$f":"'Student Details Copy From SD'!H97","v":0}]
[{"$f":"'Student Details Copy From SD'!A98","v":97},{"$f":"'Student Details Copy From SD'!B98","v":0},{"$f":"'Student Details Copy From SD'!F98","v":0},{"$f":"'Student Details Copy From SD'!H98","v":0}]
[{"$f":"'Student Details Copy From SD'!A99","v":98},{"$f":"'Student Details Copy From SD'!B99","v":0},{"$f":"'Student Details Copy From SD'!F99","v":0},{"$f":"'Student Details Copy From SD'!H99","v":0}]
[{"$f":"'Student Details Copy From SD'!A100","v":99},{"$f":"'Student Details Copy From SD'!B100","v":0},{"$f":"'Student Details Copy From SD'!F100","v":0},{"$f":"'Student Details Copy From SD'!H100","v":0}]
[{"$f":"'Student Details Copy From SD'!A101","v":100},{"$f":"'Student Details Copy From SD'!B101","v":0},{"$f":"'Student Details Copy From SD'!F101","v":0},{"$f":"'Student Details Copy From SD'!H101","v":0}]
[{"$f":"'Student Details Copy From SD'!A102","v":101},{"$f":"'Student Details Copy From SD'!B102","v":0},{"$f":"'Student Details Copy From SD'!F102","v":0},{"$f":"'Student Details Copy From SD'!H102","v":0}]
[{"$f":"'Student Details Copy From SD'!A103","v":102},{"$f":"'Student Details Copy From SD'!B103","v":0},{"$f":"'Student Details Copy From SD'!F103","v":0},{"$f":"'Student Details Copy From SD'!H103","v":0}]
[{"$f":"'Student Details Copy From SD'!A104","v":103},{"$f":"'Student Details Copy From SD'!B104","v":0},{"$f":"'Student Details Copy From SD'!F104","v":0},{"$f":"'Student Details Copy From SD'!H104","v":0}]
[{"$f":"'Student Details Copy From SD'!A105","v":104},{"$f":"'Student Details Copy From SD'!B105","v":0},{"$f":"'Student Details Copy From SD'!F105","v":0},{"$f":"'Student Details Copy From SD'!H105","v":0}]
[{"$f":"'Student Details Copy From SD'!A106","v":105},{"$f":"'Student Details Copy From SD'!B106","v":0},{"$f":"'Student Details Copy From SD'!F106","v":0},{"$f":"'Student Details Copy From SD'!H106","v":0}]
[{"$f":"'Student Details Copy From SD'!A107","v":106},{"$f":"'Student Details Copy From SD'!B107","v":0},{"$f":"'Student Details Copy From SD'!F107","v":0},{"$f":"'Student Details Copy From SD'!H107","v":0}]
[{"$f":"'Student Details Copy From SD'!A108","v":107},{"$f":"'Student Details Copy From SD'!B108","v":0},{"$f":"'Student Details Copy From SD'!F108","v":0},{"$f":"'Student Details Copy From SD'!H108","v":0}]
[{"$f":"'Student Details Copy From SD'!A109","v":108},{"$f":"'Student Details Copy From SD'!B109","v":0},{"$f":"'Student Details Copy From SD'!F109","v":0},{"$f":"'Student Details Copy From SD'!H109","v":0}]
[{"$f":"'Student Details Copy From SD'!A110","v":109},{"$f":"'Student Details Copy From SD'!B110","v":0},{"$f":"'Student Details Copy From SD'!F110","v":0},{"$f":"'Student Details Copy From SD'!H110","v":0}]
[{"$f":"'Student Details Copy From SD'!A111","v":110},{"$f":"'Student Details Copy From SD'!B111","v":0},{"$f":"'Student Details Copy From SD'!F111","v":0},{"$f":"'Student Details Copy From SD'!H111","v":0}]
[{"$f":"'Student Details Copy From SD'!A112","v":111},{"$f":"'Student Details Copy From SD'!B112","v":0},{"$f":"'Student Details Copy From SD'!F112","v":0},{"$f":"'Student Details Copy From SD'!H112","v":0}]
[{"$f":"'Student Details Copy From SD'!A113","v":112},{"$f":"'Student Details Copy From SD'!B113","v":0},{"$f":"'Student Details Copy From SD'!F113","v":0},{"$f":"'Student Details Copy From SD'!H113","v":0}]
[{"$f":"'Student Details Copy From SD'!A114","v":113},{"$f":"'Student Details Copy From SD'!B114","v":0},{"$f":"'Student Details Copy From SD'!F114","v":0},{"$f":"'Student Details Copy From SD'!H114","v":0}]
[{"$f":"'Student Details Copy From SD'!A115","v":114},{"$f":"'Student Details Copy From SD'!B115","v":0},{"$f":"'Student Details Copy From SD'!F115","v":0},{"$f":"'Student Details Copy From SD'!H115","v":0}]
[{"$f":"'Student Details Copy From SD'!A116","v":115},{"$f":"'Student Details Copy From SD'!B116","v":0},{"$f":"'Student Details Copy From SD'!F116","v":0},{"$f":"'Student Details Copy From SD'!H116","v":0}]
[{"$f":"'Student Details Copy From SD'!A117","v":116},{"$f":"'Student Details Copy From SD'!B117","v":0},{"$f":"'Student Details Copy From SD'!F117","v":0},{"$f":"'Student Details Copy From SD'!H117","v":0}]
[{"$f":"'Student Details Copy From SD'!A118","v":117},{"$f":"'Student Details Copy From SD'!B118","v":0},{"$f":"'Student Details Copy From SD'!F118","v":0},{"$f":"'Student Details Copy From SD'!H118","v":0}]
[{"$f":"'Student Details Copy From SD'!A119","v":118},{"$f":"'Student Details Copy From SD'!B119","v":0},{"$f":"'Student Details Copy From SD'!F119","v":0},{"$f":"'Student Details Copy From SD'!H119","v":0}]
[{"$f":"'Student Details Copy From SD'!A120","v":119},{"$f":"'Student Details Copy From SD'!B120","v":0},{"$f":"'Student Details Copy From SD'!F120","v":0},{"$f":"'Student Details Copy From SD'!H120","v":0}]
[{"$f":"'Student Details Copy From SD'!A121","v":120},{"$f":"'Student Details Copy From SD'!B121","v":0},{"$f":"'Student Details Copy From SD'!F121","v":0},{"$f":"'Student Details Copy From SD'!H121","v":0}]
[{"$f":"'Student Details Copy From SD'!A122","v":121},{"$f":"'Student Details Copy From SD'!B122","v":0},{"$f":"'Student Details Copy From SD'!F122","v":0},{"$f":"'Student Details Copy From SD'!H122","v":0}]
[{"$f":"'Student Details Copy From SD'!A123","v":122},{"$f":"'Student Details Copy From SD'!B123","v":0},{"$f":"'Student Details Copy From SD'!F123","v":0},{"$f":"'Student Details Copy From SD'!H123","v":0}]
[{"$f":"'Student Details Copy From SD'!A124","v":123},{"$f":"'Student Details Copy From SD'!B124","v":0},{"$f":"'Student Details Copy From SD'!F124","v":0},{"$f":"'Student Details Copy From SD'!H124","v":0}]
[{"$f":"'Student Details Copy From SD'!A125","v":124},{"$f":"'Student Details Copy From SD'!B125","v":0},{"$f":"'Student Details Copy From SD'!F125","v":0},{"$f":"'Student Details Copy From SD'!H125","v":0}]
[{"$f":"'Student Details Copy From SD'!A126","v":125},{"$f":"'Student Details Copy From SD'!B126","v":0},{"$f":"'Student Details Copy From SD'!F126","v":0},{"$f":"'Student Details Copy From SD'!H126","v":0}]
[{"$f":"'Student Details Copy From SD'!A127","v":126},{"$f":"'Student Details Copy From SD'!B127","v":0},{"$f":"'Student Details Copy From SD'!F127","v":0},{"$f":"'Student Details Copy From SD'!H127","v":0}]
[{"$f":"'Student Details Copy From SD'!A128","v":127},{"$f":"'Student Details Copy From SD'!B128","v":0},{"$f":"'Student Details Copy From SD'!F128","v":0},{"$f":"'Student Details Copy From SD'!H128","v":0}]
[{"$f":"'Student Details Copy From SD'!A129","v":128},{"$f":"'Student Details Copy From SD'!B129","v":0},{"$f":"'Student Details Copy From SD'!F129","v":0},{"$f":"'Student Details Copy From SD'!H129","v":0}]
[{"$f":"'Student Details Copy From SD'!A130","v":129},{"$f":"'Student Details Copy From SD'!B130","v":0},{"$f":"'Student Details Copy From SD'!F130","v":0},{"$f":"'Student Details Copy From SD'!H130","v":0}]
[{"$f":"'Student Details Copy From SD'!A131","v":130},{"$f":"'Student Details Copy From SD'!B131","v":0},{"$f":"'Student Details Copy From SD'!F131","v":0},{"$f":"'Student Details Copy From SD'!H131","v":0}]
[{"$f":"'Student Details Copy From SD'!A132","v":131},{"$f":"'Student Details Copy From SD'!B132","v":0},{"$f":"'Student Details Copy From SD'!F132","v":0},{"$f":"'Student Details Copy From SD'!H132","v":0}]
[{"$f":"'Student Details Copy From SD'!A133","v":132},{"$f":"'Student Details Copy From SD'!B133","v":0},{"$f":"'Student Details Copy From SD'!F133","v":0},{"$f":"'Student Details Copy From SD'!H133","v":0}]
[{"$f":"'Student Details Copy From SD'!A134","v":133},{"$f":"'Student Details Copy From SD'!B134","v":0},{"$f":"'Student Details Copy From SD'!F134","v":0},{"$f":"'Student Details Copy From SD'!H134","v":0}]
[{"$f":"'Student Details Copy From SD'!A135","v":134},{"$f":"'Student Details Copy From SD'!B135","v":0},{"$f":"'Student Details Copy From SD'!F135","v":0},{"$f":"'Student Details Copy From SD'!H135","v":0}]
[{"$f":"'Student Details Copy From SD'!A136","v":135},{"$f":"'Student Details Copy From SD'!B136","v":0},{"$f":"'Student Details Copy From SD'!F136","v":0},{"$f":"'Student Details Copy From SD'!H136","v":0}]
[{"$f":"'Student Details Copy From SD'!A137","v":136},{"$f":"'Student Details Copy From SD'!B137","v":0},{"$f":"'Student Details Copy From SD'!F137","v":0},{"$f":"'Student Details Copy From SD'!H137","v":0}]
[{"$f":"'Student Details Copy From SD'!A138","v":137},{"$f":"'Student Details Copy From SD'!B138","v":0},{"$f":"'Student Details Copy From SD'!F138","v":0},{"$f":"'Student Details Copy From SD'!H138","v":0}]
[{"$f":"'Student Details Copy From SD'!A139","v":138},{"$f":"'Student Details Copy From SD'!B139","v":0},{"$f":"'Student Details Copy From SD'!F139","v":0},{"$f":"'Student Details Copy From SD'!H139","v":0}]
[{"$f":"'Student Details Copy From SD'!A140","v":139},{"$f":"'Student Details Copy From SD'!B140","v":0},{"$f":"'Student Details Copy From SD'!F140","v":0},{"$f":"'Student Details Copy From SD'!H140","v":0}]
[{"$f":"'Student Details Copy From SD'!A141","v":140},{"$f":"'Student Details Copy From SD'!B141","v":0},{"$f":"'Student Details Copy From SD'!F141","v":0},{"$f":"'Student Details Copy From SD'!H141","v":0}]
[{"$f":"'Student Details Copy From SD'!A142","v":141},{"$f":"'Student Details Copy From SD'!B142","v":0},{"$f":"'Student Details Copy From SD'!F142","v":0},{"$f":"'Student Details Copy From SD'!H142","v":0}]
[{"$f":"'Student Details Copy From SD'!A143","v":142},{"$f":"'Student Details Copy From SD'!B143","v":0},{"$f":"'Student Details Copy From SD'!F143","v":0},{"$f":"'Student Details Copy From SD'!H143","v":0}]
[{"$f":"'Student Details Copy From SD'!A144","v":143},{"$f":"'Student Details Copy From SD'!B144","v":0},{"$f":"'Student Details Copy From SD'!F144","v":0},{"$f":"'Student Details Copy From SD'!H144","v":0}]
[{"$f":"'Student Details Copy From SD'!A145","v":144},{"$f":"'Student Details Copy From SD'!B145","v":0},{"$f":"'Student Details Copy From SD'!F145","v":0},{"$f":"'Student Details Copy From SD'!H145","v":0}]
[{"$f":"'Student Details Copy From SD'!A146","v":145},{"$f":"'Student Details Copy From SD'!B146","v":0},{"$f":"'Student Details Copy From SD'!F146","v":0},{"$f":"'Student Details Copy From SD'!H146","v":0}]
[{"$f":"'Student Details Copy From SD'!A147","v":146},{"$f":"'Student Details Copy From SD'!B147","v":0},{"$f":"'Student Details Copy From SD'!F147","v":0},{"$f":"'Student Details Copy From SD'!H147","v":0}]
[{"$f":"'Student Details Copy From SD'!A148","v":147},{"$f":"'Student Details Copy From SD'!B148","v":0},{"$f":"'Student Details Copy From SD'!F148","v":0},{"$f":"'Student Details Copy From SD'!H148","v":0}]
[{"$f":"'Student Details Copy From SD'!A149","v":148},{"$f":"'Student Details Copy From SD'!B149","v":0},{"$f":"'Student Details Copy From SD'!F149","v":0},{"$f":"'Student Details Copy From SD'!H149","v":0}]
[{"$f":"'Student Details Copy From SD'!A150","v":149},{"$f":"'Student Details Copy From SD'!B150","v":0},{"$f":"'Student Details Copy From SD'!F150","v":0},{"$f":"'Student Details Copy From SD'!H150","v":0}]
[{"$f":"'Student Details Copy From SD'!A151","v":150},{"$f":"'Student Details Copy From SD'!B151","v":0},{"$f":"'Student Details Copy From SD'!F151","v":0},{"$f":"'Student Details Copy From SD'!H151","v":0}]
[{"$f":"'Student Details Copy From SD'!A152","v":151},{"$f":"'Student Details Copy From SD'!B152","v":0},{"$f":"'Student Details Copy From SD'!F152","v":0},{"$f":"'Student Details Copy From SD'!H152","v":0}]
[{"$f":"'Student Details Copy From SD'!A153","v":152},{"$f":"'Student Details Copy From SD'!B153","v":0},{"$f":"'Student Details Copy From SD'!F153","v":0},{"$f":"'Student Details Copy From SD'!H153","v":0}]
[{"$f":"'Student Details Copy From SD'!A154","v":153},{"$f":"'Student Details Copy From SD'!B154","v":0},{"$f":"'Student Details Copy From SD'!F154","v":0},{"$f":"'Student Details Copy From SD'!H154","v":0}]
[{"$f":"'Student Details Copy From SD'!A155","v":154},{"$f":"'Student Details Copy From SD'!B155","v":0},{"$f":"'Student Details Copy From SD'!F155","v":0},{"$f":"'Student Details Copy From SD'!H155","v":0}]
[{"$f":"'Student Details Copy From SD'!A156","v":155},{"$f":"'Student Details Copy From SD'!B156","v":0},{"$f":"'Student Details Copy From SD'!F156","v":0},{"$f":"'Student Details Copy From SD'!H156","v":0}]
[{"$f":"'Student Details Copy From SD'!A157","v":156},{"$f":"'Student Details Copy From SD'!B157","v":0},{"$f":"'Student Details Copy From SD'!F157","v":0},{"$f":"'Student Details Copy From SD'!H157","v":0}]
[{"$f":"'Student Details Copy From SD'!A158","v":157},{"$f":"'Student Details Copy From SD'!B158","v":0},{"$f":"'Student Details Copy From SD'!F158","v":0},{"$f":"'Student Details Copy From SD'!H158","v":0}]
[{"$f":"'Student Details Copy From SD'!A159","v":158},{"$f":"'Student Details Copy From SD'!B159","v":0},{"$f":"'Student Details Copy From SD'!F159","v":0},{"$f":"'Student Details Copy From SD'!H159","v":0}]
[{"$f":"'Student Details Copy From SD'!A160","v":159},{"$f":"'Student Details Copy From SD'!B160","v":0},{"$f":"'Student Details Copy From SD'!F160","v":0},{"$f":"'Student Details Copy From SD'!H160","v":0}]
[{"$f":"'Student Details Copy From SD'!A161","v":160},{"$f":"'Student Details Copy From SD'!B161","v":0},{"$f":"'Student Details Copy From SD'!F161","v":0},{"$f":"'Student Details Copy From SD'!H161","v":0}]
[{"$f":"'Student Details Copy From SD'!A162","v":161},{"$f":"'Student Details Copy From SD'!B162","v":0},{"$f":"'Student Details Copy From SD'!F162","v":0},{"$f":"'Student Details Copy From SD'!H162","v":0}]
[{"$f":"'Student Details Copy From SD'!A163","v":162},{"$f":"'Student Details Copy From SD'!B163","v":0},{"$f":"'Student Details Copy From SD'!F163","v":0},{"$f":"'Student Details Copy From SD'!H163","v":0}]
[{"$f":"'Student Details Copy From SD'!A164","v":163},{"$f":"'Student Details Copy From SD'!B164","v":0},{"$f":"'Student Details Copy From SD'!F164","v":0},{"$f":"'Student Details Copy From SD'!H164","v":0}]
[{"$f":"'Student Details Copy From SD'!A165","v":164},{"$f":"'Student Details Copy From SD'!B165","v":0},{"$f":"'Student Details Copy From SD'!F165","v":0},{"$f":"'Student Details Copy From SD'!H165","v":0}]
[{"$f":"'Student Details Copy From SD'!A166","v":165},{"$f":"'Student Details Copy From SD'!B166","v":0},{"$f":"'Student Details Copy From SD'!F166","v":0},{"$f":"'Student Details Copy From SD'!H166","v":0}]
[{"$f":"'Student Details Copy From SD'!A167","v":166},{"$f":"'Student Details Copy From SD'!B167","v":0},{"$f":"'Student Details Copy From SD'!F167","v":0},{"$f":"'Student Details Copy From SD'!H167","v":0}]
[{"$f":"'Student Details Copy From SD'!A168","v":167},{"$f":"'Student Details Copy From SD'!B168","v":0},{"$f":"'Student Details Copy From SD'!F168","v":0},{"$f":"'Student Details Copy From SD'!H168","v":0}]
[{"$f":"'Student Details Copy From SD'!A169","v":168},{"$f":"'Student Details Copy From SD'!B169","v":0},{"$f":"'Student Details Copy From SD'!F169","v":0},{"$f":"'Student Details Copy From SD'!H169","v":0}]
[{"$f":"'Student Details Copy From SD'!A170","v":169},{"$f":"'Student Details Copy From SD'!B170","v":0},{"$f":"'Student Details Copy From SD'!F170","v":0},{"$f":"'Student Details Copy From SD'!H170","v":0}]
[{"$f":"'Student Details Copy From SD'!A171","v":170},{"$f":"'Student Details Copy From SD'!B171","v":0},{"$f":"'Student Details Copy From SD'!F171","v":0},{"$f":"'Student Details Copy From SD'!H171","v":0}]
[{"$f":"'Student Details Copy From SD'!A172","v":171},{"$f":"'Student Details Copy From SD'!B172","v":0},{"$f":"'Student Details Copy From SD'!F172","v":0},{"$f":"'Student Details Copy From SD'!H172","v":0}]
[{"$f":"'Student Details Copy From SD'!A173","v":172},{"$f":"'Student Details Copy From SD'!B173","v":0},{"$f":"'Student Details Copy From SD'!F173","v":0},{"$f":"'Student Details Copy From SD'!H173","v":0}]
[{"$f":"'Student Details Copy From SD'!A174","v":173},{"$f":"'Student Details Copy From SD'!B174","v":0},{"$f":"'Student Details Copy From SD'!F174","v":0},{"$f":"'Student Details Copy From SD'!H174","v":0}]
[{"$f":"'Student Details Copy From SD'!A175","v":174},{"$f":"'Student Details Copy From SD'!B175","v":0},{"$f":"'Student Details Copy From SD'!F175","v":0},{"$f":"'Student Details Copy From SD'!H175","v":0}]
[{"$f":"'Student Details Copy From SD'!A176","v":175},{"$f":"'Student Details Copy From SD'!B176","v":0},{"$f":"'Student Details Copy From SD'!F176","v":0},{"$f":"'Student Details Copy From SD'!H176","v":0}]
[{"$f":"'Student Details Copy From SD'!A177","v":176},{"$f":"'Student Details Copy From SD'!B177","v":0},{"$f":"'Student Details Copy From SD'!F177","v":0},{"$f":"'Student Details Copy From SD'!H177","v":0}]
[{"$f":"'Student Details Copy From SD'!A178","v":177},{"$f":"'Student Details Copy From SD'!B178","v":0},{"$f":"'Student Details Copy From SD'!F178","v":0},{"$f":"'Student Details Copy From SD'!H178","v":0}]
[{"$f":"'Student Details Copy From SD'!A179","v":178},{"$f":"'Student Details Copy From SD'!B179","v":0},{"$f":"'Student Details Copy From SD'!F179","v":0},{"$f":"'Student Details Copy From SD'!H179","v":0}]
[{"$f":"'Student Details Copy From SD'!A180","v":179},{"$f":"'Student Details Copy From SD'!B180","v":0},{"$f":"'Student Details Copy From SD'!F180","v":0},{"$f":"'Student Details Copy From SD'!H180","v":0}]
[{"$f":"'Student Details Copy From SD'!A181","v":180},{"$f":"'Student Details Copy From SD'!B181","v":0},{"$f":"'Student Details Copy From SD'!F181","v":0},{"$f":"'Student Details Copy From SD'!H181","v":0}]
[{"$f":"'Student Details Copy From SD'!A182","v":181},{"$f":"'Student Details Copy From SD'!B182","v":0},{"$f":"'Student Details Copy From SD'!F182","v":0},{"$f":"'Student Details Copy From SD'!H182","v":0}]
[{"$f":"'Student Details Copy From SD'!A183","v":182},{"$f":"'Student Details Copy From SD'!B183","v":0},{"$f":"'Student Details Copy From SD'!F183","v":0},{"$f":"'Student Details Copy From SD'!H183","v":0}]
[{"$f":"'Student Details Copy From SD'!A184","v":183},{"$f":"'Student Details Copy From SD'!B184","v":0},{"$f":"'Student Details Copy From SD'!F184","v":0},{"$f":"'Student Details Copy From SD'!H184","v":0}]
[{"$f":"'Student Details Copy From SD'!A185","v":184},{"$f":"'Student Details Copy From SD'!B185","v":0},{"$f":"'Student Details Copy From SD'!F185","v":0},{"$f":"'Student Details Copy From SD'!H185","v":0}]
[{"$f":"'Student Details Copy From SD'!A186","v":185},{"$f":"'Student Details Copy From SD'!B186","v":0},{"$f":"'Student Details Copy From SD'!F186","v":0},{"$f":"'Student Details Copy From SD'!H186","v":0}]
[{"$f":"'Student Details Copy From SD'!A187","v":186},{"$f":"'Student Details Copy From SD'!B187","v":0},{"$f":"'Student Details Copy From SD'!F187","v":0},{"$f":"'Student Details Copy From SD'!H187","v":0}]
[{"$f":"'Student Details Copy From SD'!A188","v":187},{"$f":"'Student Details Copy From SD'!B188","v":0},{"$f":"'Student Details Copy From SD'!F188","v":0},{"$f":"'Student Details Copy From SD'!H188","v":0}]
[{"$f":"'Student Details Copy From SD'!A189","v":188},{"$f":"'Student Details Copy From SD'!B189","v":0},{"$f":"'Student Details Copy From SD'!F189","v":0},{"$f":"'Student Details Copy From SD'!H189","v":0}]
[{"$f":"'Student Details Copy From SD'!A190","v":189},{"$f":"'Student Details Copy From SD'!B190","v":0},{"$f":"'Student Details Copy From SD'!F190","v":0},{"$f":"'Student Details Copy From SD'!H190","v":0}]
[{"$f":"'Student Details Copy From SD'!A191","v":190},{"$f":"'Student Details Copy From SD'!B191","v":0},{"$f":"'Student Details Copy From SD'!F191","v":0},{"$f":"'Student Details Copy From SD'!H191","v":0}]
[{"$f":"'Student Details Copy From SD'!A192","v":191},{"$f":"'Student Details Copy From SD'!B192","v":0},{"$f":"'Student Details Copy From SD'!F192","v":0},{"$f":"'Student Details Copy From SD'!H192","v":0}]
[{"$f":"'Student Details Copy From SD'!A193","v":192},{"$f":"'Student Details Copy From SD'!B193","v":0},{"$f":"'Student Details Copy From SD'!F193","v":0},{"$f":"'Student Details Copy From SD'!H193","v":0}]
[{"$f":"'Student Details Copy From SD'!A194","v":193},{"$f":"'Student Details Copy From SD'!B194","v":0},{"$f":"'Student Details Copy From SD'!F194","v":0},{"$f":"'Student Details Copy From SD'!H194","v":0}]
[{"$f":"'Student Details Copy From SD'!A195","v":194},{"$f":"'Student Details Copy From SD'!B195","v":0},{"$f":"'Student Details Copy From SD'!F195","v":0},{"$f":"'Student Details Copy From SD'!H195","v":0}]
[{"$f":"'Student Details Copy From SD'!A196","v":195},{"$f":"'Student Details Copy From SD'!B196","v":0},{"$f":"'Student Details Copy From SD'!F196","v":0},{"$f":"'Student Details Copy From SD'!H196","v":0}]
[{"$f":"'Student Details Copy From SD'!A197","v":196},{"$f":"'Student Details Copy From SD'!B197","v":0},{"$f":"'Student Details Copy From SD'!F197","v":0},{"$f":"'Student Details Copy From SD'!H197","v":0}]
[{"$f":"'Student Details Copy From SD'!A198","v":197},{"$f":"'Student Details Copy From SD'!B198","v":0},{"$f":"'Student Details Copy From SD'!F198","v":0},{"$f":"'Student Details Copy From SD'!H198","v":0}]
[{"$f":"'Student Details Copy From SD'!A199","v":198},{"$f":"'Student Details Copy From SD'!B199","v":0},{"$f":"'Student Details Copy From SD'!F199","v":0},{"$f":"'Student Details Copy From SD'!H199","v":0}]
[{"$f":"'Student Details Copy From SD'!A200","v":199},{"$f":"'Student Details Copy From SD'!B200","v":0},{"$f":"'Student Details Copy From SD'!F200","v":0},{"$f":"'Student Details Copy From SD'!H200","v":0}]
[{"$f":"'Student Details Copy From SD'!A201","v":200},{"$f":"'Student Details Copy From SD'!B201","v":0},{"$f":"'Student Details Copy From SD'!F201","v":0},{"$f":"'Student Details Copy From SD'!H201","v":0}]
[{"$f":"'Student Details Copy From SD'!A202","v":201},{"$f":"'Student Details Copy From SD'!B202","v":0},{"$f":"'Student Details Copy From SD'!F202","v":0},{"$f":"'Student Details Copy From SD'!H202","v":0}]
[{"$f":"'Student Details Copy From SD'!A203","v":202},{"$f":"'Student Details Copy From SD'!B203","v":0},{"$f":"'Student Details Copy From SD'!F203","v":0},{"$f":"'Student Details Copy From SD'!H203","v":0}]
[{"$f":"'Student Details Copy From SD'!A204","v":203},{"$f":"'Student Details Copy From SD'!B204","v":0},{"$f":"'Student Details Copy From SD'!F204","v":0},{"$f":"'Student Details Copy From SD'!H204","v":0}]
[{"$f":"'Student Details Copy From SD'!A205","v":204},{"$f":"'Student Details Copy From SD'!B205","v":0},{"$f":"'Student Details Copy From SD'!F205","v":0},{"$f":"'Student Details Copy From SD'!H205","v":0}]
[{"$f":"'Student Details Copy From SD'!A206","v":205},{"$f":"'Student Details Copy From SD'!B206","v":0},{"$f":"'Student Details Copy From SD'!F206","v":0},{"$f":"'Student Details Copy From SD'!H206","v":0}]
[{"$f":"'Student Details Copy From SD'!A207","v":206},{"$f":"'Student Details Copy From SD'!B207","v":0},{"$f":"'Student Details Copy From SD'!F207","v":0},{"$f":"'Student Details Copy From SD'!H207","v":0}]
[{"$f":"'Student Details Copy From SD'!A208","v":207},{"$f":"'Student Details Copy From SD'!B208","v":0},{"$f":"'Student Details Copy From SD'!F208","v":0},{"$f":"'Student Details Copy From SD'!H208","v":0}]
[{"$f":"'Student Details Copy From SD'!A209","v":208},{"$f":"'Student Details Copy From SD'!B209","v":0},{"$f":"'Student Details Copy From SD'!F209","v":0},{"$f":"'Student Details Copy From SD'!H209","v":0}]
[{"$f":"'Student Details Copy From SD'!A210","v":209},{"$f":"'Student Details Copy From SD'!B210","v":0},{"$f":"'Student Details Copy From SD'!F210","v":0},{"$f":"'Student Details Copy From SD'!H210","v":0}]
[{"$f":"'Student Details Copy From SD'!A211","v":210},{"$f":"'Student Details Copy From SD'!B211","v":0},{"$f":"'Student Details Copy From SD'!F211","v":0},{"$f":"'Student Details Copy From SD'!H211","v":0}]
[{"$f":"'Student Details Copy From SD'!A212","v":211},{"$f":"'Student Details Copy From SD'!B212","v":0},{"$f":"'Student Details Copy From SD'!F212","v":0},{"$f":"'Student Details Copy From SD'!H212","v":0}]
[{"$f":"'Student Details Copy From SD'!A213","v":212},{"$f":"'Student Details Copy From SD'!B213","v":0},{"$f":"'Student Details Copy From SD'!F213","v":0},{"$f":"'Student Details Copy From SD'!H213","v":0}]
[{"$f":"'Student Details Copy From SD'!A214","v":213},{"$f":"'Student Details Copy From SD'!B214","v":0},{"$f":"'Student Details Copy From SD'!F214","v":0},{"$f":"'Student Details Copy From SD'!H214","v":0}]
[{"$f":"'Student Details Copy From SD'!A215","v":214},{"$f":"'Student Details Copy From SD'!B215","v":0},{"$f":"'Student Details Copy From SD'!F215","v":0},{"$f":"'Student Details Copy From SD'!H215","v":0}]
[{"$f":"'Student Details Copy From SD'!A216","v":215},{"$f":"'Student Details Copy From SD'!B216","v":0},{"$f":"'Student Details Copy From SD'!F216","v":0},{"$f":"'Student Details Copy From SD'!H216","v":0}]
[{"$f":"'Student Details Copy From SD'!A217","v":216},{"$f":"'Student Details Copy From SD'!B217","v":0},{"$f":"'Student Details Copy From SD'!F217","v":0},{"$f":"'Student Details Copy From SD'!H217","v":0}]
[{"$f":"'Student Details Copy From SD'!A218","v":217},{"$f":"'Student Details Copy From SD'!B218","v":0},{"$f":"'Student Details Copy From SD'!F218","v":0},{"$f":"'Student Details Copy From SD'!H218","v":0}]
[{"$f":"'Student Details Copy From SD'!A219","v":218},{"$f":"'Student Details Copy From SD'!B219","v":0},{"$f":"'Student Details Copy From SD'!F219","v":0},{"$f":"'Student Details Copy From SD'!H219","v":0}]
[{"$f":"'Student Details Copy From SD'!A220","v":219},{"$f":"'Student Details Copy From SD'!B220","v":0},{"$f":"'Student Details Copy From SD'!F220","v":0},{"$f":"'Student Details Copy From SD'!H220","v":0}]
[{"$f":"'Student Details Copy From SD'!A221","v":220},{"$f":"'Student Details Copy From SD'!B221","v":0},{"$f":"'Student Details Copy From SD'!F221","v":0},{"$f":"'Student Details Copy From SD'!H221","v":0}]
[{"$f":"'Student Details Copy From SD'!A222","v":221},{"$f":"'Student Details Copy From SD'!B222","v":0},{"$f":"'Student Details Copy From SD'!F222","v":0},{"$f":"'Student Details Copy From SD'!H222","v":0}]
[{"$f":"'Student Details Copy From SD'!A223","v":222},{"$f":"'Student Details Copy From SD'!B223","v":0},{"$f":"'Student Details Copy From SD'!F223","v":0},{"$f":"'Student Details Copy From SD'!H223","v":0}]
[{"$f":"'Student Details Copy From SD'!A224","v":223},{"$f":"'Student Details Copy From SD'!B224","v":0},{"$f":"'Student Details Copy From SD'!F224","v":0},{"$f":"'Student Details Copy From SD'!H224","v":0}]
[{"$f":"'Student Details Copy From SD'!A225","v":224},{"$f":"'Student Details Copy From SD'!B225","v":0},{"$f":"'Student Details Copy From SD'!F225","v":0},{"$f":"'Student Details Copy From SD'!H225","v":0}]
[{"$f":"'Student Details Copy From SD'!A226","v":225},{"$f":"'Student Details Copy From SD'!B226","v":0},{"$f":"'Student Details Copy From SD'!F226","v":0},{"$f":"'Student Details Copy From SD'!H226","v":0}]
[{"$f":"'Student Details Copy From SD'!A227","v":226},{"$f":"'Student Details Copy From SD'!B227","v":0},{"$f":"'Student Details Copy From SD'!F227","v":0},{"$f":"'Student Details Copy From SD'!H227","v":0}]
[{"$f":"'Student Details Copy From SD'!A228","v":227},{"$f":"'Student Details Copy From SD'!B228","v":0},{"$f":"'Student Details Copy From SD'!F228","v":0},{"$f":"'Student Details Copy From SD'!H228","v":0}]
[{"$f":"'Student Details Copy From SD'!A229","v":228},{"$f":"'Student Details Copy From SD'!B229","v":0},{"$f":"'Student Details Copy From SD'!F229","v":0},{"$f":"'Student Details Copy From SD'!H229","v":0}]
[{"$f":"'Student Details Copy From SD'!A230","v":229},{"$f":"'Student Details Copy From SD'!B230","v":0},{"$f":"'Student Details Copy From SD'!F230","v":0},{"$f":"'Student Details Copy From SD'!H230","v":0}]
[{"$f":"'Student Details Copy From SD'!A231","v":230},{"$f":"'Student Details Copy From SD'!B231","v":0},{"$f":"'Student Details Copy From SD'!F231","v":0},{"$f":"'Student Details Copy From SD'!H231","v":0}]
[{"$f":"'Student Details Copy From SD'!A232","v":231},{"$f":"'Student Details Copy From SD'!B232","v":0},{"$f":"'Student Details Copy From SD'!F232","v":0},{"$f":"'Student Details Copy From SD'!H232","v":0}]
[{"$f":"'Student Details Copy From SD'!A233","v":232},{"$f":"'Student Details Copy From SD'!B233","v":0},{"$f":"'Student Details Copy From SD'!F233","v":0},{"$f":"'Student Details Copy From SD'!H233","v":0}]
[{"$f":"'Student Details Copy From SD'!A234","v":233},{"$f":"'Student Details Copy From SD'!B234","v":0},{"$f":"'Student Details Copy From SD'!F234","v":0},{"$f":"'Student Details Copy From SD'!H234","v":0}]
[{"$f":"'Student Details Copy From SD'!A235","v":234},{"$f":"'Student Details Copy From SD'!B235","v":0},{"$f":"'Student Details Copy From SD'!F235","v":0},{"$f":"'Student Details Copy From SD'!H235","v":0}]
[{"$f":"'Student Details Copy From SD'!A236","v":235},{"$f":"'Student Details Copy From SD'!B236","v":0},{"$f":"'Student Details Copy From SD'!F236","v":0},{"$f":"'Student Details Copy From SD'!H236","v":0}]
[{"$f":"'Student Details Copy From SD'!A237","v":236},{"$f":"'Student Details Copy From SD'!B237","v":0},{"$f":"'Student Details Copy From SD'!F237","v":0},{"$f":"'Student Details Copy From SD'!H237","v":0}]
[{"$f":"'Student Details Copy From SD'!A238","v":237},{"$f":"'Student Details Copy From SD'!B238","v":0},{"$f":"'Student Details Copy From SD'!F238","v":0},{"$f":"'Student Details Copy From SD'!H238","v":0}]
[{"$f":"'Student Details Copy From SD'!A239","v":238},{"$f":"'Student Details Copy From SD'!B239","v":0},{"$f":"'Student Details Copy From SD'!F239","v":0},{"$f":"'Student Details Copy From SD'!H239","v":0}]
[{"$f":"'Student Details Copy From SD'!A240","v":239},{"$f":"'Student Details Copy From SD'!B240","v":0},{"$f":"'Student Details Copy From SD'!F240","v":0},{"$f":"'Student Details Copy From SD'!H240","v":0}]
[{"$f":"'Student Details Copy From SD'!A241","v":240},{"$f":"'Student Details Copy From SD'!B241","v":0},{"$f":"'Student Details Copy From SD'!F241","v":0},{"$f":"'Student Details Copy From SD'!H241","v":0}]
[{"$f":"'Student Details Copy From SD'!A242","v":241},{"$f":"'Student Details Copy From SD'!B242","v":0},{"$f":"'Student Details Copy From SD'!F242","v":0},{"$f":"'Student Details Copy From SD'!H242","v":0}]
[{"$f":"'Student Details Copy From SD'!A243","v":242},{"$f":"'Student Details Copy From SD'!B243","v":0},{"$f":"'Student Details Copy From SD'!F243","v":0},{"$f":"'Student Details Copy From SD'!H243","v":0}]
[{"$f":"'Student Details Copy From SD'!A244","v":243},{"$f":"'Student Details Copy From SD'!B244","v":0},{"$f":"'Student Details Copy From SD'!F244","v":0},{"$f":"'Student Details Copy From SD'!H244","v":0}]
[{"$f":"'Student Details Copy From SD'!A245","v":244},{"$f":"'Student Details Copy From SD'!B245","v":0},{"$f":"'Student Details Copy From SD'!F245","v":0},{"$f":"'Student Details Copy From SD'!H245","v":0}]
[{"$f":"'Student Details Copy From SD'!A246","v":245},{"$f":"'Student Details Copy From SD'!B246","v":0},{"$f":"'Student Details Copy From SD'!F246","v":0},{"$f":"'Student Details Copy From SD'!H246","v":0}]
[{"$f":"'Student Details Copy From SD'!A247","v":246},{"$f":"'Student Details Copy From SD'!B247","v":0},{"$f":"'Student Details Copy From SD'!F247","v":0},{"$f":"'Student Details Copy From SD'!H247","v":0}]
[{"$f":"'Student Details Copy From SD'!A248","v":247},{"$f":"'Student Details Copy From SD'!B248","v":0},{"$f":"'Student Details Copy From SD'!F248","v":0},{"$f":"'Student Details Copy From SD'!H248","v":0}]
[{"$f":"'Student Details Copy From SD'!A249","v":248},{"$f":"'Student Details Copy From SD'!B249","v":0},{"$f":"'Student Details Copy From SD'!F249","v":0},{"$f":"'Student Details Copy From SD'!H249","v":0}]
[{"$f":"'Student Details Copy From SD'!A250","v":249},{"$f":"'Student Details Copy From SD'!B250","v":0},{"$f":"'Student Details Copy From SD'!F250","v":0},{"$f":"'Student Details Copy From SD'!H250","v":0}]
[{"$f":"'Student Details Copy From SD'!A251","v":250},{"$f":"'Student Details Copy From SD'!B251","v":0},{"$f":"'Student Details Copy From SD'!F251","v":0},{"$f":"'Student Details Copy From SD'!H251","v":0}]
[{"$f":"'Student Details Copy From SD'!A252","v":251},{"$f":"'Student Details Copy From SD'!B252","v":0},{"$f":"'Student Details Copy From SD'!F252","v":0},{"$f":"'Student Details Copy From SD'!H252","v":0}]
[{"$f":"'Student Details Copy From SD'!A253","v":252},{"$f":"'Student Details Copy From SD'!B253","v":0},{"$f":"'Student Details Copy From SD'!F253","v":0},{"$f":"'Student Details Copy From SD'!H253","v":0}]
[{"$f":"'Student Details Copy From SD'!A254","v":253},{"$f":"'Student Details Copy From SD'!B254","v":0},{"$f":"'Student Details Copy From SD'!F254","v":0},{"$f":"'Student Details Copy From SD'!H254","v":0}]
[{"$f":"'Student Details Copy From SD'!A255","v":254},{"$f":"'Student Details Copy From SD'!B255","v":0},{"$f":"'Student Details Copy From SD'!F255","v":0},{"$f":"'Student Details Copy From SD'!H255","v":0}]
[{"$f":"'Student Details Copy From SD'!A256","v":255},{"$f":"'Student Details Copy From SD'!B256","v":0},{"$f":"'Student Details Copy From SD'!F256","v":0},{"$f":"'Student Details Copy From SD'!H256","v":0}]
[{"$f":"'Student Details Copy From SD'!A257","v":256},{"$f":"'Student Details Copy From SD'!B257","v":0},{"$f":"'Student Details Copy From SD'!F257","v":0},{"$f":"'Student Details Copy From SD'!H257","v":0}]
[{"$f":"'Student Details Copy From SD'!A258","v":257},{"$f":"'Student Details Copy From SD'!B258","v":0},{"$f":"'Student Details Copy From SD'!F258","v":0},{"$f":"'Student Details Copy From SD'!H258","v":0}]
[{"$f":"'Student Details Copy From SD'!A259","v":258},{"$f":"'Student Details Copy From SD'!B259","v":0},{"$f":"'Student Details Copy From SD'!F259","v":0},{"$f":"'Student Details Copy From SD'!H259","v":0}]
[{"$f":"'Student Details Copy From SD'!A260","v":259},{"$f":"'Student Details Copy From SD'!B260","v":0},{"$f":"'Student Details Copy From SD'!F260","v":0},{"$f":"'Student Details Copy From SD'!H260","v":0}]
[{"$f":"'Student Details Copy From SD'!A261","v":260},{"$f":"'Student Details Copy From SD'!B261","v":0},{"$f":"'Student Details Copy From SD'!F261","v":0},{"$f":"'Student Details Copy From SD'!H261","v":0}]
[{"$f":"'Student Details Copy From SD'!A262","v":261},{"$f":"'Student Details Copy From SD'!B262","v":0},{"$f":"'Student Details Copy From SD'!F262","v":0},{"$f":"'Student Details Copy From SD'!H262","v":0}]
[{"$f":"'Student Details Copy From SD'!A263","v":262},{"$f":"'Student Details Copy From SD'!B263","v":0},{"$f":"'Student Details Copy From SD'!F263","v":0},{"$f":"'Student Details Copy From SD'!H263","v":0}]
[{"$f":"'Student Details Copy From SD'!A264","v":263},{"$f":"'Student Details Copy From SD'!B264","v":0},{"$f":"'Student Details Copy From SD'!F264","v":0},{"$f":"'Student Details Copy From SD'!H264","v":0}]
[{"$f":"'Student Details Copy From SD'!A265","v":264},{"$f":"'Student Details Copy From SD'!B265","v":0},{"$f":"'Student Details Copy From SD'!F265","v":0},{"$f":"'Student Details Copy From SD'!H265","v":0}]
[{"$f":"'Student Details Copy From SD'!A266","v":265},{"$f":"'Student Details Copy From SD'!B266","v":0},{"$f":"'Student Details Copy From SD'!F266","v":0},{"$f":"'Student Details Copy From SD'!H266","v":0}]
[{"$f":"'Student Details Copy From SD'!A267","v":266},{"$f":"'Student Details Copy From SD'!B267","v":0},{"$f":"'Student Details Copy From SD'!F267","v":0},{"$f":"'Student Details Copy From SD'!H267","v":0}]
[{"$f":"'Student Details Copy From SD'!A268","v":267},{"$f":"'Student Details Copy From SD'!B268","v":0},{"$f":"'Student Details Copy From SD'!F268","v":0},{"$f":"'Student Details Copy From SD'!H268","v":0}]
[{"$f":"'Student Details Copy From SD'!A269","v":268},{"$f":"'Student Details Copy From SD'!B269","v":0},{"$f":"'Student Details Copy From SD'!F269","v":0},{"$f":"'Student Details Copy From SD'!H269","v":0}]
[{"$f":"'Student Details Copy From SD'!A270","v":269},{"$f":"'Student Details Copy From SD'!B270","v":0},{"$f":"'Student Details Copy From SD'!F270","v":0},{"$f":"'Student Details Copy From SD'!H270","v":0}]
[{"$f":"'Student Details Copy From SD'!A271","v":270},{"$f":"'Student Details Copy From SD'!B271","v":0},{"$f":"'Student Details Copy From SD'!F271","v":0},{"$f":"'Student Details Copy From SD'!H271","v":0}]
[{"$f":"'Student Details Copy From SD'!A272","v":271},{"$f":"'Student Details Copy From SD'!B272","v":0},{"$f":"'Student Details Copy From SD'!F272","v":0},{"$f":"'Student Details Copy From SD'!H272","v":0}]
[{"$f":"'Student Details Copy From SD'!A273","v":272},{"$f":"'Student Details Copy From SD'!B273","v":0},{"$f":"'Student Details Copy From SD'!F273","v":0},{"$f":"'Student Details Copy From SD'!H273","v":0}]
[{"$f":"'Student Details Copy From SD'!A274","v":273},{"$f":"'Student Details Copy From SD'!B274","v":0},{"$f":"'Student Details Copy From SD'!F274","v":0},{"$f":"'Student Details Copy From SD'!H274","v":0}]
[{"$f":"'Student Details Copy From SD'!A275","v":274},{"$f":"'Student Details Copy From SD'!B275","v":0},{"$f":"'Student Details Copy From SD'!F275","v":0},{"$f":"'Student Details Copy From SD'!H275","v":0}]
[{"$f":"'Student Details Copy From SD'!A276","v":275},{"$f":"'Student Details Copy From SD'!B276","v":0},{"$f":"'Student Details Copy From SD'!F276","v":0},{"$f":"'Student Details Copy From SD'!H276","v":0}]
[{"$f":"'Student Details Copy From SD'!A277","v":276},{"$f":"'Student Details Copy From SD'!B277","v":0},{"$f":"'Student Details Copy From SD'!F277","v":0},{"$f":"'Student Details Copy From SD'!H277","v":0}]
[{"$f":"'Student Details Copy From SD'!A278","v":277},{"$f":"'Student Details Copy From SD'!B278","v":0},{"$f":"'Student Details Copy From SD'!F278","v":0},{"$f":"'Student Details Copy From SD'!H278","v":0}]
[{"$f":"'Student Details Copy From SD'!A279","v":278},{"$f":"'Student Details Copy From SD'!B279","v":0},{"$f":"'Student Details Copy From SD'!F279","v":0},{"$f":"'Student Details Copy From SD'!H279","v":0}]
[{"$f":"'Student Details Copy From SD'!A280","v":279},{"$f":"'Student Details Copy From SD'!B280","v":0},{"$f":"'Student Details Copy From SD'!F280","v":0},{"$f":"'Student Details Copy From SD'!H280","v":0}]
[{"$f":"'Student Details Copy From SD'!A281","v":280},{"$f":"'Student Details Copy From SD'!B281","v":0},{"$f":"'Student Details Copy From SD'!F281","v":0},{"$f":"'Student Details Copy From SD'!H281","v":0}]
[{"$f":"'Student Details Copy From SD'!A282","v":281},{"$f":"'Student Details Copy From SD'!B282","v":0},{"$f":"'Student Details Copy From SD'!F282","v":0},{"$f":"'Student Details Copy From SD'!H282","v":0}]
[{"$f":"'Student Details Copy From SD'!A283","v":282},{"$f":"'Student Details Copy From SD'!B283","v":0},{"$f":"'Student Details Copy From SD'!F283","v":0},{"$f":"'Student Details Copy From SD'!H283","v":0}]
[{"$f":"'Student Details Copy From SD'!A284","v":283},{"$f":"'Student Details Copy From SD'!B284","v":0},{"$f":"'Student Details Copy From SD'!F284","v":0},{"$f":"'Student Details Copy From SD'!H284","v":0}]
[{"$f":"'Student Details Copy From SD'!A285","v":284},{"$f":"'Student Details Copy From SD'!B285","v":0},{"$f":"'Student Details Copy From SD'!F285","v":0},{"$f":"'Student Details Copy From SD'!H285","v":0}]
[{"$f":"'Student Details Copy From SD'!A286","v":285},{"$f":"'Student Details Copy From SD'!B286","v":0},{"$f":"'Student Details Copy From SD'!F286","v":0},{"$f":"'Student Details Copy From SD'!H286","v":0}]
[{"$f":"'Student Details Copy From SD'!A287","v":286},{"$f":"'Student Details Copy From SD'!B287","v":0},{"$f":"'Student Details Copy From SD'!F287","v":0},{"$f":"'Student Details Copy From SD'!H287","v":0}]
[{"$f":"'Student Details Copy From SD'!A288","v":287},{"$f":"'Student Details Copy From SD'!B288","v":0},{"$f":"'Student Details Copy From SD'!F288","v":0},{"$f":"'Student Details Copy From SD'!H288","v":0}]
[{"$f":"'Student Details Copy From SD'!A289","v":288},{"$f":"'Student Details Copy From SD'!B289","v":0},{"$f":"'Student Details Copy From SD'!F289","v":0},{"$f":"'Student Details Copy From SD'!H289","v":0}]
[{"$f":"'Student Details Copy From SD'!A290","v":289},{"$f":"'Student Details Copy From SD'!B290","v":0},{"$f":"'Student Details Copy From SD'!F290","v":0},{"$f":"'Student Details Copy From SD'!H290","v":0}]
[{"$f":"'Student Details Copy From SD'!A291","v":290},{"$f":"'Student Details Copy From SD'!B291","v":0},{"$f":"'Student Details Copy From SD'!F291","v":0},{"$f":"'Student Details Copy From SD'!H291","v":0}]
[{"$f":"'Student Details Copy From SD'!A292","v":291},{"$f":"'Student Details Copy From SD'!B292","v":0},{"$f":"'Student Details Copy From SD'!F292","v":0},{"$f":"'Student Details Copy From SD'!H292","v":0}]
[{"$f":"'Student Details Copy From SD'!A293","v":292},{"$f":"'Student Details Copy From SD'!B293","v":0},{"$f":"'Student Details Copy From SD'!F293","v":0},{"$f":"'Student Details Copy From SD'!H293","v":0}]
[{"$f":"'Student Details Copy From SD'!A294","v":293},{"$f":"'Student Details Copy From SD'!B294","v":0},{"$f":"'Student Details Copy From SD'!F294","v":0},{"$f":"'Student Details Copy From SD'!H294","v":0}]
[{"$f":"'Student Details Copy From SD'!A295","v":294},{"$f":"'Student Details Copy From SD'!B295","v":0},{"$f":"'Student Details Copy From SD'!F295","v":0},{"$f":"'Student Details Copy From SD'!H295","v":0}]
[{"$f":"'Student Details Copy From SD'!A296","v":295},{"$f":"'Student Details Copy From SD'!B296","v":0},{"$f":"'Student Details Copy From SD'!F296","v":0},{"$f":"'Student Details Copy From SD'!H296","v":0}]
[{"$f":"'Student Details Copy From SD'!A297","v":296},{"$f":"'Student Details Copy From SD'!B297","v":0},{"$f":"'Student Details Copy From SD'!F297","v":0},{"$f":"'Student Details Copy From SD'!H297","v":0}]
[{"$f":"'Student Details Copy From SD'!A298","v":297},{"$f":"'Student Details Copy From SD'!B298","v":0},{"$f":"'Student Details Copy From SD'!F298","v":0},{"$f":"'Student Details Copy From SD'!H298","v":0}]
[{"$f":"'Student Details Copy From SD'!A299","v":298},{"$f":"'Student Details Copy From SD'!B299","v":0},{"$f":"'Student Details Copy From SD'!F299","v":0},{"$f":"'Student Details Copy From SD'!H299","v":0}]
[{"$f":"'Student Details Copy From SD'!A300","v":299},{"$f":"'Student Details Copy From SD'!B300","v":0},{"$f":"'Student Details Copy From SD'!F300","v":0},{"$f":"'Student Details Copy From SD'!H300","v":0}]
[{"$f":"'Student Details Copy From SD'!A301","v":300},{"$f":"'Student Details Copy From SD'!B301","v":0},{"$f":"'Student Details Copy From SD'!F301","v":0},{"$f":"'Student Details Copy From SD'!H301","v":0}]
[{"$f":"'Student Details Copy From SD'!A302","v":301},{"$f":"'Student Details Copy From SD'!B302","v":0},{"$f":"'Student Details Copy From SD'!F302","v":0},{"$f":"'Student Details Copy From SD'!H302","v":0}]
[{"$f":"'Student Details Copy From SD'!A303","v":302},{"$f":"'Student Details Copy From SD'!B303","v":0},{"$f":"'Student Details Copy From SD'!F303","v":0},{"$f":"'Student Details Copy From SD'!H303","v":0}]
[{"$f":"'Student Details Copy From SD'!A304","v":303},{"$f":"'Student Details Copy From SD'!B304","v":0},{"$f":"'Student Details Copy From SD'!F304","v":0},{"$f":"'Student Details Copy From SD'!H304","v":0}]
[{"$f":"'Student Details Copy From SD'!A305","v":304},{"$f":"'Student Details Copy From SD'!B305","v":0},{"$f":"'Student Details Copy From SD'!F305","v":0},{"$f":"'Student Details Copy From SD'!H305","v":0}]
[{"$f":"'Student Details Copy From SD'!A306","v":305},{"$f":"'Student Details Copy From SD'!B306","v":0},{"$f":"'Student Details Copy From SD'!F306","v":0},{"$f":"'Student Details Copy From SD'!H306","v":0}]
[{"$f":"'Student Details Copy From SD'!A307","v":306},{"$f":"'Student Details Copy From SD'!B307","v":0},{"$f":"'Student Details Copy From SD'!F307","v":0},{"$f":"'Student Details Copy From SD'!H307","v":0}]
[{"$f":"'Student Details Copy From SD'!A308","v":307},{"$f":"'Student Details Copy From SD'!B308","v":0},{"$f":"'Student Details Copy From SD'!F308","v":0},{"$f":"'Student Details Copy From SD'!H308","v":0}]
[{"$f":"'Student Details Copy From SD'!A309","v":308},{"$f":"'Student Details Copy From SD'!B309","v":0},{"$f":"'Student Details Copy From SD'!F309","v":0},{"$f":"'Student Details Copy From SD'!H309","v":0}]
[{"$f":"'Student Details Copy From SD'!A310","v":309},{"$f":"'Student Details Copy From SD'!B310","v":0},{"$f":"'Student Details Copy From SD'!F310","v":0},{"$f":"'Student Details Copy From SD'!H310","v":0}]
[{"$f":"'Student Details Copy From SD'!A311","v":310},{"$f":"'Student Details Copy From SD'!B311","v":0},{"$f":"'Student Details Copy From SD'!F311","v":0},{"$f":"'Student Details Copy From SD'!H311","v":0}]
[{"$f":"'Student Details Copy From SD'!A312","v":311},{"$f":"'Student Details Copy From SD'!B312","v":0},{"$f":"'Student Details Copy From SD'!F312","v":0},{"$f":"'Student Details Copy From SD'!H312","v":0}]
[{"$f":"'Student Details Copy From SD'!A313","v":312},{"$f":"'Student Details Copy From SD'!B313","v":0},{"$f":"'Student Details Copy From SD'!F313","v":0},{"$f":"'Student Details Copy From SD'!H313","v":0}]
[{"$f":"'Student Details Copy From SD'!A314","v":313},{"$f":"'Student Details Copy From SD'!B314","v":0},{"$f":"'Student Details Copy From SD'!F314","v":0},{"$f":"'Student Details Copy From SD'!H314","v":0}]
[{"$f":"'Student Details Copy From SD'!A315","v":314},{"$f":"'Student Details Copy From SD'!B315","v":0},{"$f":"'Student Details Copy From SD'!F315","v":0},{"$f":"'Student Details Copy From SD'!H315","v":0}]
[{"$f":"'Student Details Copy From SD'!A316","v":315},{"$f":"'Student Details Copy From SD'!B316","v":0},{"$f":"'Student Details Copy From SD'!F316","v":0},{"$f":"'Student Details Copy From SD'!H316","v":0}]
[{"$f":"'Student Details Copy From SD'!A317","v":316},{"$f":"'Student Details Copy From SD'!B317","v":0},{"$f":"'Student Details Copy From SD'!F317","v":0},{"$f":"'Student Details Copy From SD'!H317","v":0}]
[{"$f":"'Student Details Copy From SD'!A318","v":317},{"$f":"'Student Details Copy From SD'!B318","v":0},{"$f":"'Student Details Copy From SD'!F318","v":0},{"$f":"'Student Details Copy From SD'!H318","v":0}]
[{"$f":"'Student Details Copy From SD'!A319","v":318},{"$f":"'Student Details Copy From SD'!B319","v":0},{"$f":"'Student Details Copy From SD'!F319","v":0},{"$f":"'Student Details Copy From SD'!H319","v":0}]
[{"$f":"'Student Details Copy From SD'!A320","v":319},{"$f":"'Student Details Copy From SD'!B320","v":0},{"$f":"'Student Details Copy From SD'!F320","v":0},{"$f":"'Student Details Copy From SD'!H320","v":0}]
[{"$f":"'Student Details Copy From SD'!A321","v":320},{"$f":"'Student Details Copy From SD'!B321","v":0},{"$f":"'Student Details Copy From SD'!F321","v":0},{"$f":"'Student Details Copy From SD'!H321","v":0}]
[{"$f":"'Student Details Copy From SD'!A322","v":321},{"$f":"'Student Details Copy From SD'!B322","v":0},{"$f":"'Student Details Copy From SD'!F322","v":0},{"$f":"'Student Details Copy From SD'!H322","v":0}]
[{"$f":"'Student Details Copy From SD'!A323","v":322},{"$f":"'Student Details Copy From SD'!B323","v":0},{"$f":"'Student Details Copy From SD'!F323","v":0},{"$f":"'Student Details Copy From SD'!H323","v":0}]
[{"$f":"'Student Details Copy From SD'!A324","v":323},{"$f":"'Student Details Copy From SD'!B324","v":0},{"$f":"'Student Details Copy From SD'!F324","v":0},{"$f":"'Student Details Copy From SD'!H324","v":0}]
[{"$f":"'Student Details Copy From SD'!A325","v":324},{"$f":"'Student Details Copy From SD'!B325","v":0},{"$f":"'Student Details Copy From SD'!F325","v":0},{"$f":"'Student Details Copy From SD'!H325","v":0}]
[{"$f":"'Student Details Copy From SD'!A326","v":325},{"$f":"'Student Details Copy From SD'!B326","v":0},{"$f":"'Student Details Copy From SD'!F326","v":0},{"$f":"'Student Details Copy From SD'!H326","v":0}]
[{"$f":"'Student Details Copy From SD'!A327","v":326},{"$f":"'Student Details Copy From SD'!B327","v":0},{"$f":"'Student Details Copy From SD'!F327","v":0},{"$f":"'Student Details Copy From SD'!H327","v":0}]
[{"$f":"'Student Details Copy From SD'!A328","v":327},{"$f":"'Student Details Copy From SD'!B328","v":0},{"$f":"'Student Details Copy From SD'!F328","v":0},{"$f":"'Student Details Copy From SD'!H328","v":0}]
[{"$f":"'Student Details Copy From SD'!A329","v":328},{"$f":"'Student Details Copy From SD'!B329","v":0},{"$f":"'Student Details Copy From SD'!F329","v":0},{"$f":"'Student Details Copy From SD'!H329","v":0}]
[{"$f":"'Student Details Copy From SD'!A330","v":329},{"$f":"'Student Details Copy From SD'!B330","v":0},{"$f":"'Student Details Copy From SD'!F330","v":0},{"$f":"'Student Details Copy From SD'!H330","v":0}]
[{"$f":"'Student Details Copy From SD'!A331","v":330},{"$f":"'Student Details Copy From SD'!B331","v":0},{"$f":"'Student Details Copy From SD'!F331","v":0},{"$f":"'Student Details Copy From SD'!H331","v":0}]
[{"$f":"'Student Details Copy From SD'!A332","v":331},{"$f":"'Student Details Copy From SD'!B332","v":0},{"$f":"'Student Details Copy From SD'!F332","v":0},{"$f":"'Student Details Copy From SD'!H332","v":0}]
[{"$f":"'Student Details Copy From SD'!A333","v":332},{"$f":"'Student Details Copy From SD'!B333","v":0},{"$f":"'Student Details Copy From SD'!F333","v":0},{"$f":"'Student Details Copy From SD'!H333","v":0}]
[{"$f":"'Student Details Copy From SD'!A334","v":333},{"$f":"'Student Details Copy From SD'!B334","v":0},{"$f":"'Student Details Copy From SD'!F334","v":0},{"$f":"'Student Details Copy From SD'!H334","v":0}]
[{"$f":"'Student Details Copy From SD'!A335","v":334},{"$f":"'Student Details Copy From SD'!B335","v":0},{"$f":"'Student Details Copy From SD'!F335","v":0},{"$f":"'Student Details Copy From SD'!H335","v":0}]
[{"$f":"'Student Details Copy From SD'!A336","v":335},{"$f":"'Student Details Copy From SD'!B336","v":0},{"$f":"'Student Details Copy From SD'!F336","v":0},{"$f":"'Student Details Copy From SD'!H336","v":0}]
[{"$f":"'Student Details Copy From SD'!A337","v":336},{"$f":"'Student Details Copy From SD'!B337","v":0},{"$f":"'Student Details Copy From SD'!F337","v":0},{"$f":"'Student Details Copy From SD'!H337","v":0}]
[{"$f":"'Student Details Copy From SD'!A338","v":337},{"$f":"'Student Details Copy From SD'!B338","v":0},{"$f":"'Student Details Copy From SD'!F338","v":0},{"$f":"'Student Details Copy From SD'!H338","v":0}]
[{"$f":"'Student Details Copy From SD'!A339","v":338},{"$f":"'Student Details Copy From SD'!B339","v":0},{"$f":"'Student Details Copy From SD'!F339","v":0},{"$f":"'Student Details Copy From SD'!H339","v":0}]
[{"$f":"'Student Details Copy From SD'!A340","v":339},{"$f":"'Student Details Copy From SD'!B340","v":0},{"$f":"'Student Details Copy From SD'!F340","v":0},{"$f":"'Student Details Copy From SD'!H340","v":0}]
[{"$f":"'Student Details Copy From SD'!A341","v":340},{"$f":"'Student Details Copy From SD'!B341","v":0},{"$f":"'Student Details Copy From SD'!F341","v":0},{"$f":"'Student Details Copy From SD'!H341","v":0}]
[{"$f":"'Student Details Copy From SD'!A342","v":341},{"$f":"'Student Details Copy From SD'!B342","v":0},{"$f":"'Student Details Copy From SD'!F342","v":0},{"$f":"'Student Details Copy From SD'!H342","v":0}]
[{"$f":"'Student Details Copy From SD'!A343","v":342},{"$f":"'Student Details Copy From SD'!B343","v":0},{"$f":"'Student Details Copy From SD'!F343","v":0},{"$f":"'Student Details Copy From SD'!H343","v":0}]
[{"$f":"'Student Details Copy From SD'!A344","v":343},{"$f":"'Student Details Copy From SD'!B344","v":0},{"$f":"'Student Details Copy From SD'!F344","v":0},{"$f":"'Student Details Copy From SD'!H344","v":0}]
[{"$f":"'Student Details Copy From SD'!A345","v":344},{"$f":"'Student Details Copy From SD'!B345","v":0},{"$f":"'Student Details Copy From SD'!F345","v":0},{"$f":"'Student Details Copy From SD'!H345","v":0}]
[{"$f":"'Student Details Copy From SD'!A346","v":345},{"$f":"'Student Details Copy From SD'!B346","v":0},{"$f":"'Student Details Copy From SD'!F346","v":0},{"$f":"'Student Details Copy From SD'!H346","v":0}]
[{"$f":"'Student Details Copy From SD'!A347","v":346},{"$f":"'Student Details Copy From SD'!B347","v":0},{"$f":"'Student Details Copy From SD'!F347","v":0},{"$f":"'Student Details Copy From SD'!H347","v":0}]
[{"$f":"'Student Details Copy From SD'!A348","v":347},{"$f":"'Student Details Copy From SD'!B348","v":0},{"$f":"'Student Details Copy From SD'!F348","v":0},{"$f":"'Student Details Copy From SD'!H348","v":0}]
[{"$f":"'Student Details Copy From SD'!A349","v":348},{"$f":"'Student Details Copy From SD'!B349","v":0},{"$f":"'Student Details Copy From SD'!F349","v":0},{"$f":"'Student Details Copy From SD'!H349","v":0}]
[{"$f":"'Student Details Copy From SD'!A350","v":349},{"$f":"'Student Details Copy From SD'!B350","v":0},{"$f":"'Student Details Copy From SD'!F350","v":0},{"$f":"'Student Details Copy From SD'!H350","v":0}]
[{"$f":"'Student Details Copy From SD'!A351","v":350},{"$f":"'Student Details Copy From SD'!B351","v":0},{"$f":"'Student Details Copy From SD'!F351","v":0},{"$f":"'Student Details Copy From SD'!H351","v":0}]
[{"$f":"'Student Details Copy From SD'!A352","v":351},{"$f":"'Student Details Copy From SD'!B352","v":0},{"$f":"'Student Details Copy From SD'!F352","v":0},{"$f":"'Student Details Copy From SD'!H352","v":0}]
[{"$f":"'Student Details Copy From SD'!A353","v":352},{"$f":"'Student Details Copy From SD'!B353","v":0},{"$f":"'Student Details Copy From SD'!F353","v":0},{"$f":"'Student Details Copy From SD'!H353","v":0}]
[{"$f":"'Student Details Copy From SD'!A354","v":353},{"$f":"'Student Details Copy From SD'!B354","v":0},{"$f":"'Student Details Copy From SD'!F354","v":0},{"$f":"'Student Details Copy From SD'!H354","v":0}]
[{"$f":"'Student Details Copy From SD'!A355","v":354},{"$f":"'Student Details Copy From SD'!B355","v":0},{"$f":"'Student Details Copy From SD'!F355","v":0},{"$f":"'Student Details Copy From SD'!H355","v":0}]
[{"$f":"'Student Details Copy From SD'!A356","v":355},{"$f":"'Student Details Copy From SD'!B356","v":0},{"$f":"'Student Details Copy From SD'!F356","v":0},{"$f":"'Student Details Copy From SD'!H356","v":0}]
[{"$f":"'Student Details Copy From SD'!A357","v":356},{"$f":"'Student Details Copy From SD'!B357","v":0},{"$f":"'Student Details Copy From SD'!F357","v":0},{"$f":"'Student Details Copy From SD'!H357","v":0}]
[{"$f":"'Student Details Copy From SD'!A358","v":357},{"$f":"'Student Details Copy From SD'!B358","v":0},{"$f":"'Student Details Copy From SD'!F358","v":0},{"$f":"'Student Details Copy From SD'!H358","v":0}]
[{"$f":"'Student Details Copy From SD'!A359","v":358},{"$f":"'Student Details Copy From SD'!B359","v":0},{"$f":"'Student Details Copy From SD'!F359","v":0},{"$f":"'Student Details Copy From SD'!H359","v":0}]
[{"$f":"'Student Details Copy From SD'!A360","v":359},{"$f":"'Student Details Copy From SD'!B360","v":0},{"$f":"'Student Details Copy From SD'!F360","v":0},{"$f":"'Student Details Copy From SD'!H360","v":0}]
[{"$f":"'Student Details Copy From SD'!A361","v":360},{"$f":"'Student Details Copy From SD'!B361","v":0},{"$f":"'Student Details Copy From SD'!F361","v":0},{"$f":"'Student Details Copy From SD'!H361","v":0}]
[{"$f":"'Student Details Copy From SD'!A362","v":361},{"$f":"'Student Details Copy From SD'!B362","v":0},{"$f":"'Student Details Copy From SD'!F362","v":0},{"$f":"'Student Details Copy From SD'!H362","v":0}]
[{"$f":"'Student Details Copy From SD'!A363","v":362},{"$f":"'Student Details Copy From SD'!B363","v":0},{"$f":"'Student Details Copy From SD'!F363","v":0},{"$f":"'Student Details Copy From SD'!H363","v":0}]
[{"$f":"'Student Details Copy From SD'!A364","v":363},{"$f":"'Student Details Copy From SD'!B364","v":0},{"$f":"'Student Details Copy From SD'!F364","v":0},{"$f":"'Student Details Copy From SD'!H364","v":0}]
[{"$f":"'Student Details Copy From SD'!A365","v":364},{"$f":"'Student Details Copy From SD'!B365","v":0},{"$f":"'Student Details Copy From SD'!F365","v":0},{"$f":"'Student Details Copy From SD'!H365","v":0}]
[{"$f":"'Student Details Copy From SD'!A366","v":365},{"$f":"'Student Details Copy From SD'!B366","v":0},{"$f":"'Student Details Copy From SD'!F366","v":0},{"$f":"'Student Details Copy From SD'!H366","v":0}]
[{"$f":"'Student Details Copy From SD'!A367","v":366},{"$f":"'Student Details Copy From SD'!B367","v":0},{"$f":"'Student Details Copy From SD'!F367","v":0},{"$f":"'Student Details Copy From SD'!H367","v":0}]
[{"$f":"'Student Details Copy From SD'!A368","v":367},{"$f":"'Student Details Copy From SD'!B368","v":0},{"$f":"'Student Details Copy From SD'!F368","v":0},{"$f":"'Student Details Copy From SD'!H368","v":0}]
[{"$f":"'Student Details Copy From SD'!A369","v":368},{"$f":"'Student Details Copy From SD'!B369","v":0},{"$f":"'Student Details Copy From SD'!F369","v":0},{"$f":"'Student Details Copy From SD'!H369","v":0}]
[{"$f":"'Student Details Copy From SD'!A370","v":369},{"$f":"'Student Details Copy From SD'!B370","v":0},{"$f":"'Student Details Copy From SD'!F370","v":0},{"$f":"'Student Details Copy From SD'!H370","v":0}]
[{"$f":"'Student Details Copy From SD'!A371","v":370},{"$f":"'Student Details Copy From SD'!B371","v":0},{"$f":"'Student Details Copy From SD'!F371","v":0},{"$f":"'Student Details Copy From SD'!H371","v":0}]
[{"$f":"'Student Details Copy From SD'!A372","v":371},{"$f":"'Student Details Copy From SD'!B372","v":0},{"$f":"'Student Details Copy From SD'!F372","v":0},{"$f":"'Student Details Copy From SD'!H372","v":0}]
[{"$f":"'Student Details Copy From SD'!A373","v":372},{"$f":"'Student Details Copy From SD'!B373","v":0},{"$f":"'Student Details Copy From SD'!F373","v":0},{"$f":"'Student Details Copy From SD'!H373","v":0}]
[{"$f":"'Student Details Copy From SD'!A374","v":373},{"$f":"'Student Details Copy From SD'!B374","v":0},{"$f":"'Student Details Copy From SD'!F374","v":0},{"$f":"'Student Details Copy From SD'!H374","v":0}]
[{"$f":"'Student Details Copy From SD'!A375","v":374},{"$f":"'Student Details Copy From SD'!B375","v":0},{"$f":"'Student Details Copy From SD'!F375","v":0},{"$f":"'Student Details Copy From SD'!H375","v":0}]
[{"$f":"'Student Details Copy From SD'!A376","v":375},{"$f":"'Student Details Copy From SD'!B376","v":0},{"$f":"'Student Details Copy From SD'!F376","v":0},{"$f":"'Student Details Copy From SD'!H376","v":0}]
[{"$f":"'Student Details Copy From SD'!A377","v":376},{"$f":"'Student Details Copy From SD'!B377","v":0},{"$f":"'Student Details Copy From SD'!F377","v":0},{"$f":"'Student Details Copy From SD'!H377","v":0}]
[{"$f":"'Student Details Copy From SD'!A378","v":377},{"$f":"'Student Details Copy From SD'!B378","v":0},{"$f":"'Student Details Copy From SD'!F378","v":0},{"$f":"'Student Details Copy From SD'!H378","v":0}]
[{"$f":"'Student Details Copy From SD'!A379","v":378},{"$f":"'Student Details Copy From SD'!B379","v":0},{"$f":"'Student Details Copy From SD'!F379","v":0},{"$f":"'Student Details Copy From SD'!H379","v":0}]
[{"$f":"'Student Details Copy From SD'!A380","v":379},{"$f":"'Student Details Copy From SD'!B380","v":0},{"$f":"'Student Details Copy From SD'!F380","v":0},{"$f":"'Student Details Copy From SD'!H380","v":0}]
[{"$f":"'Student Details Copy From SD'!A381","v":380},{"$f":"'Student Details Copy From SD'!B381","v":0},{"$f":"'Student Details Copy From SD'!F381","v":0},{"$f":"'Student Details Copy From SD'!H381","v":0}]
[{"$f":"'Student Details Copy From SD'!A382","v":381},{"$f":"'Student Details Copy From SD'!B382","v":0},{"$f":"'Student Details Copy From SD'!F382","v":0},{"$f":"'Student Details Copy From SD'!H382","v":0}]
[{"$f":"'Student Details Copy From SD'!A383","v":382},{"$f":"'Student Details Copy From SD'!B383","v":0},{"$f":"'Student Details Copy From SD'!F383","v":0},{"$f":"'Student Details Copy From SD'!H383","v":0}]
[{"$f":"'Student Details Copy From SD'!A384","v":383},{"$f":"'Student Details Copy From SD'!B384","v":0},{"$f":"'Student Details Copy From SD'!F384","v":0},{"$f":"'Student Details Copy From SD'!H384","v":0}]
[{"$f":"'Student Details Copy From SD'!A385","v":384},{"$f":"'Student Details Copy From SD'!B385","v":0},{"$f":"'Student Details Copy From SD'!F385","v":0},{"$f":"'Student Details Copy From SD'!H385","v":0}]
[{"$f":"'Student Details Copy From SD'!A386","v":385},{"$f":"'Student Details Copy From SD'!B386","v":0},{"$f":"'Student Details Copy From SD'!F386","v":0},{"$f":"'Student Details Copy From SD'!H386","v":0}]
[{"$f":"'Student Details Copy From SD'!A387","v":386},{"$f":"'Student Details Copy From SD'!B387","v":0},{"$f":"'Student Details Copy From SD'!F387","v":0},{"$f":"'Student Details Copy From SD'!H387","v":0}]
[{"$f":"'Student Details Copy From SD'!A388","v":387},{"$f":"'Student Details Copy From SD'!B388","v":0},{"$f":"'Student Details Copy From SD'!F388","v":0},{"$f":"'Student Details Copy From SD'!H388","v":0}]
[{"$f":"'Student Details Copy From SD'!A389","v":388},{"$f":"'Student Details Copy From SD'!B389","v":0},{"$f":"'Student Details Copy From SD'!F389","v":0},{"$f":"'Student Details Copy From SD'!H389","v":0}]
[{"$f":"'Student Details Copy From SD'!A390","v":389},{"$f":"'Student Details Copy From SD'!B390","v":0},{"$f":"'Student Details Copy From SD'!F390","v":0},{"$f":"'Student Details Copy From SD'!H390","v":0}]
[{"$f":"'Student Details Copy From SD'!A391","v":390},{"$f":"'Student Details Copy From SD'!B391","v":0},{"$f":"'Student Details Copy From SD'!F391","v":0},{"$f":"'Student Details Copy From SD'!H391","v":0}]
[{"$f":"'Student Details Copy From SD'!A392","v":391},{"$f":"'Student Details Copy From SD'!B392","v":0},{"$f":"'Student Details Copy From SD'!F392","v":0},{"$f":"'Student Details Copy From SD'!H392","v":0}]
[{"$f":"'Student Details Copy From SD'!A393","v":392},{"$f":"'Student Details Copy From SD'!B393","v":0},{"$f":"'Student Details Copy From SD'!F393","v":0},{"$f":"'Student Details Copy From SD'!H393","v":0}]
[{"$f":"'Student Details Copy From SD'!A394","v":393},{"$f":"'Student Details Copy From SD'!B394","v":0},{"$f":"'Student Details Copy From SD'!F394","v":0},{"$f":"'Student Details Copy From SD'!H394","v":0}]
[{"$f":"'Student Details Copy From SD'!A395","v":394},{"$f":"'Student Details Copy From SD'!B395","v":0},{"$f":"'Student Details Copy From SD'!F395","v":0},{"$f":"'Student Details Copy From SD'!H395","v":0}]
[{"$f":"'Student Details Copy From SD'!A396","v":395},{"$f":"'Student Details Copy From SD'!B396","v":0},{"$f":"'Student Details Copy From SD'!F396","v":0},{"$f":"'Student Details Copy From SD'!H396","v":0}]
[{"$f":"'Student Details Copy From SD'!A397","v":396},{"$f":"'Student Details Copy From SD'!B397","v":0},{"$f":"'Student Details Copy From SD'!F397","v":0},{"$f":"'Student Details Copy From SD'!H397","v":0}]
[{"$f":"'Student Details Copy From SD'!A398","v":397},{"$f":"'Student Details Copy From SD'!B398","v":0},{"$f":"'Student Details Copy From SD'!F398","v":0},{"$f":"'Student Details Copy From SD'!H398","v":0}]
[{"$f":"'Student Details Copy From SD'!A399","v":398},{"$f":"'Student Details Copy From SD'!B399","v":0},{"$f":"'Student Details Copy From SD'!F399","v":0},{"$f":"'Student Details Copy From SD'!H399","v":0}]
[{"$f":"'Student Details Copy From SD'!A400","v":399},{"$f":"'Student Details Copy From SD'!B400","v":0},{"$f":"'Student Details Copy From SD'!F400","v":0},{"$f":"'Student Details Copy From SD'!H400","v":0}]
[{"$f":"'Student Details Copy From SD'!A401","v":400},{"$f":"'Student Details Copy From SD'!B401","v":0},{"$f":"'Student Details Copy From SD'!F401","v":0},{"$f":"'Student Details Copy From SD'!H401","v":0}]
[{"$f":"'Student Details Copy From SD'!A402","v":401},{"$f":"'Student Details Copy From SD'!B402","v":0},{"$f":"'Student Details Copy From SD'!F402","v":0},{"$f":"'Student Details Copy From SD'!H402","v":0}]
[{"$f":"'Student Details Copy From SD'!A403","v":402},{"$f":"'Student Details Copy From SD'!B403","v":0},{"$f":"'Student Details Copy From SD'!F403","v":0},{"$f":"'Student Details Copy From SD'!H403","v":0}]
[{"$f":"'Student Details Copy From SD'!A404","v":403},{"$f":"'Student Details Copy From SD'!B404","v":0},{"$f":"'Student Details Copy From SD'!F404","v":0},{"$f":"'Student Details Copy From SD'!H404","v":0}]
[{"$f":"'Student Details Copy From SD'!A405","v":404},{"$f":"'Student Details Copy From SD'!B405","v":0},{"$f":"'Student Details Copy From SD'!F405","v":0},{"$f":"'Student Details Copy From SD'!H405","v":0}]
[{"$f":"'Student Details Copy From SD'!A406","v":405},{"$f":"'Student Details Copy From SD'!B406","v":0},{"$f":"'Student Details Copy From SD'!F406","v":0},{"$f":"'Student Details Copy From SD'!H406","v":0}]
[{"$f":"'Student Details Copy From SD'!A407","v":406},{"$f":"'Student Details Copy From SD'!B407","v":0},{"$f":"'Student Details Copy From SD'!F407","v":0},{"$f":"'Student Details Copy From SD'!H407","v":0}]
[{"$f":"'Student Details Copy From SD'!A408","v":407},{"$f":"'Student Details Copy From SD'!B408","v":0},{"$f":"'Student Details Copy From SD'!F408","v":0},{"$f":"'Student Details Copy From SD'!H408","v":0}]
[{"$f":"'Student Details Copy From SD'!A409","v":408},{"$f":"'Student Details Copy From SD'!B409","v":0},{"$f":"'Student Details Copy From SD'!F409","v":0},{"$f":"'Student Details Copy From SD'!H409","v":0}]
[{"$f":"'Student Details Copy From SD'!A410","v":409},{"$f":"'Student Details Copy From SD'!B410","v":0},{"$f":"'Student Details Copy From SD'!F410","v":0},{"$f":"'Student Details Copy From SD'!H410","v":0}]
[{"$f":"'Student Details Copy From SD'!A411","v":410},{"$f":"'Student Details Copy From SD'!B411","v":0},{"$f":"'Student Details Copy From SD'!F411","v":0},{"$f":"'Student Details Copy From SD'!H411","v":0}]
[{"$f":"'Student Details Copy From SD'!A412","v":411},{"$f":"'Student Details Copy From SD'!B412","v":0},{"$f":"'Student Details Copy From SD'!F412","v":0},{"$f":"'Student Details Copy From SD'!H412","v":0}]
[{"$f":"'Student Details Copy From SD'!A413","v":412},{"$f":"'Student Details Copy From SD'!B413","v":0},{"$f":"'Student Details Copy From SD'!F413","v":0},{"$f":"'Student Details Copy From SD'!H413","v":0}]
[{"$f":"'Student Details Copy From SD'!A414","v":413},{"$f":"'Student Details Copy From SD'!B414","v":0},{"$f":"'Student Details Copy From SD'!F414","v":0},{"$f":"'Student Details Copy From SD'!H414","v":0}]
[{"$f":"'Student Details Copy From SD'!A415","v":414},{"$f":"'Student Details Copy From SD'!B415","v":0},{"$f":"'Student Details Copy From SD'!F415","v":0},{"$f":"'Student Details Copy From SD'!H415","v":0}]
[{"$f":"'Student Details Copy From SD'!A416","v":415},{"$f":"'Student Details Copy From SD'!B416","v":0},{"$f":"'Student Details Copy From SD'!F416","v":0},{"$f":"'Student Details Copy From SD'!H416","v":0}]
[{"$f":"'Student Details Copy From SD'!A417","v":416},{"$f":"'Student Details Copy From SD'!B417","v":0},{"$f":"'Student Details Copy From SD'!F417","v":0},{"$f":"'Student Details Copy From SD'!H417","v":0}]
[{"$f":"'Student Details Copy From SD'!A418","v":417},{"$f":"'Student Details Copy From SD'!B418","v":0},{"$f":"'Student Details Copy From SD'!F418","v":0},{"$f":"'Student Details Copy From SD'!H418","v":0}]
[{"$f":"'Student Details Copy From SD'!A419","v":418},{"$f":"'Student Details Copy From SD'!B419","v":0},{"$f":"'Student Details Copy From SD'!F419","v":0},{"$f":"'Student Details Copy From SD'!H419","v":0}]
[{"$f":"'Student Details Copy From SD'!A420","v":419},{"$f":"'Student Details Copy From SD'!B420","v":0},{"$f":"'Student Details Copy From SD'!F420","v":0},{"$f":"'Student Details Copy From SD'!H420","v":0}]
[{"$f":"'Student Details Copy From SD'!A421","v":420},{"$f":"'Student Details Copy From SD'!B421","v":0},{"$f":"'Student Details Copy From SD'!F421","v":0},{"$f":"'Student Details Copy From SD'!H421","v":0}]
[{"$f":"'Student Details Copy From SD'!A422","v":421},{"$f":"'Student Details Copy From SD'!B422","v":0},{"$f":"'Student Details Copy From SD'!F422","v":0},{"$f":"'Student Details Copy From SD'!H422","v":0}]
[{"$f":"'Student Details Copy From SD'!A423","v":422},{"$f":"'Student Details Copy From SD'!B423","v":0},{"$f":"'Student Details Copy From SD'!F423","v":0},{"$f":"'Student Details Copy From SD'!H423","v":0}]
[{"$f":"'Student Details Copy From SD'!A424","v":423},{"$f":"'Student Details Copy From SD'!B424","v":0},{"$f":"'Student Details Copy From SD'!F424","v":0},{"$f":"'Student Details Copy From SD'!H424","v":0}]
[{"$f":"'Student Details Copy From SD'!A425","v":424},{"$f":"'Student Details Copy From SD'!B425","v":0},{"$f":"'Student Details Copy From SD'!F425","v":0},{"$f":"'Student Details Copy From SD'!H425","v":0}]
[{"$f":"'Student Details Copy From SD'!A426","v":425},{"$f":"'Student Details Copy From SD'!B426","v":0},{"$f":"'Student Details Copy From SD'!F426","v":0},{"$f":"'Student Details Copy From SD'!H426","v":0}]
[{"$f":"'Student Details Copy From SD'!A427","v":426},{"$f":"'Student Details Copy From SD'!B427","v":0},{"$f":"'Student Details Copy From SD'!F427","v":0},{"$f":"'Student Details Copy From SD'!H427","v":0}]
[{"$f":"'Student Details Copy From SD'!A428","v":427},{"$f":"'Student Details Copy From SD'!B428","v":0},{"$f":"'Student Details Copy From SD'!F428","v":0},{"$f":"'Student Details Copy From SD'!H428","v":0}]
[{"$f":"'Student Details Copy From SD'!A429","v":428},{"$f":"'Student Details Copy From SD'!B429","v":0},{"$f":"'Student Details Copy From SD'!F429","v":0},{"$f":"'Student Details Copy From SD'!H429","v":0}]
[{"$f":"'Student Details Copy From SD'!A430","v":429},{"$f":"'Student Details Copy From SD'!B430","v":0},{"$f":"'Student Details Copy From SD'!F430","v":0},{"$f":"'Student Details Copy From SD'!H430","v":0}]
[{"$f":"'Student Details Copy From SD'!A431","v":430},{"$f":"'Student Details Copy From SD'!B431","v":0},{"$f":"'Student Details Copy From SD'!F431","v":0},{"$f":"'Student Details Copy From SD'!H431","v":0}]
[{"$f":"'Student Details Copy From SD'!A432","v":431},{"$f":"'Student Details Copy From SD'!B432","v":0},{"$f":"'Student Details Copy From SD'!F432","v":0},{"$f":"'Student Details Copy From SD'!H432","v":0}]
[{"$f":"'Student Details Copy From SD'!A433","v":432},{"$f":"'Student Details Copy From SD'!B433","v":0},{"$f":"'Student Details Copy From SD'!F433","v":0},{"$f":"'Student Details Copy From SD'!H433","v":0}]
[{"$f":"'Student Details Copy From SD'!A434","v":433},{"$f":"'Student Details Copy From SD'!B434","v":0},{"$f":"'Student Details Copy From SD'!F434","v":0},{"$f":"'Student Details Copy From SD'!H434","v":0}]
[{"$f":"'Student Details Copy From SD'!A435","v":434},{"$f":"'Student Details Copy From SD'!B435","v":0},{"$f":"'Student Details Copy From SD'!F435","v":0},{"$f":"'Student Details Copy From SD'!H435","v":0}]
[{"$f":"'Student Details Copy From SD'!A436","v":435},{"$f":"'Student Details Copy From SD'!B436","v":0},{"$f":"'Student Details Copy From SD'!F436","v":0},{"$f":"'Student Details Copy From SD'!H436","v":0}]
[{"$f":"'Student Details Copy From SD'!A437","v":436},{"$f":"'Student Details Copy From SD'!B437","v":0},{"$f":"'Student Details Copy From SD'!F437","v":0},{"$f":"'Student Details Copy From SD'!H437","v":0}]
[{"$f":"'Student Details Copy From SD'!A438","v":437},{"$f":"'Student Details Copy From SD'!B438","v":0},{"$f":"'Student Details Copy From SD'!F438","v":0},{"$f":"'Student Details Copy From SD'!H438","v":0}]
[{"$f":"'Student Details Copy From SD'!A439","v":438},{"$f":"'Student Details Copy From SD'!B439","v":0},{"$f":"'Student Details Copy From SD'!F439","v":0},{"$f":"'Student Details Copy From SD'!H439","v":0}]
[{"$f":"'Student Details Copy From SD'!A440","v":439},{"$f":"'Student Details Copy From SD'!B440","v":0},{"$f":"'Student Details Copy From SD'!F440","v":0},{"$f":"'Student Details Copy From SD'!H440","v":0}]
[{"$f":"'Student Details Copy From SD'!A441","v":440},{"$f":"'Student Details Copy From SD'!B441","v":0},{"$f":"'Student Details Copy From SD'!F441","v":0},{"$f":"'Student Details Copy From SD'!H441","v":0}]
[{"$f":"'Student Details Copy From SD'!A442","v":441},{"$f":"'Student Details Copy From SD'!B442","v":0},{"$f":"'Student Details Copy From SD'!F442","v":0},{"$f":"'Student Details Copy From SD'!H442","v":0}]
[{"$f":"'Student Details Copy From SD'!A443","v":442},{"$f":"'Student Details Copy From SD'!B443","v":0},{"$f":"'Student Details Copy From SD'!F443","v":0},{"$f":"'Student Details Copy From SD'!H443","v":0}]
[{"$f":"'Student Details Copy From SD'!A444","v":443},{"$f":"'Student Details Copy From SD'!B444","v":0},{"$f":"'Student Details Copy From SD'!F444","v":0},{"$f":"'Student Details Copy From SD'!H444","v":0}]
[{"$f":"'Student Details Copy From SD'!A445","v":444},{"$f":"'Student Details Copy From SD'!B445","v":0},{"$f":"'Student Details Copy From SD'!F445","v":0},{"$f":"'Student Details Copy From SD'!H445","v":0}]
[{"$f":"'Student Details Copy From SD'!A446","v":445},{"$f":"'Student Details Copy From SD'!B446","v":0},{"$f":"'Student Details Copy From SD'!F446","v":0},{"$f":"'Student Details Copy From SD'!H446","v":0}]
[{"$f":"'Student Details Copy From SD'!A447","v":446},{"$f":"'Student Details Copy From SD'!B447","v":0},{"$f":"'Student Details Copy From SD'!F447","v":0},{"$f":"'Student Details Copy From SD'!H447","v":0}]
[{"$f":"'Student Details Copy From SD'!A448","v":447},{"$f":"'Student Details Copy From SD'!B448","v":0},{"$f":"'Student Details Copy From SD'!F448","v":0},{"$f":"'Student Details Copy From SD'!H448","v":0}]
[{"$f":"'Student Details Copy From SD'!A449","v":448},{"$f":"'Student Details Copy From SD'!B449","v":0},{"$f":"'Student Details Copy From SD'!F449","v":0},{"$f":"'Student Details Copy From SD'!H449","v":0}]
[{"$f":"'Student Details Copy From SD'!A450","v":449},{"$f":"'Student Details Copy From SD'!B450","v":0},{"$f":"'Student Details Copy From SD'!F450","v":0},{"$f":"'Student Details Copy From SD'!H450","v":0}]
[{"$f":"'Student Details Copy From SD'!A451","v":450},{"$f":"'Student Details Copy From SD'!B451","v":0},{"$f":"'Student Details Copy From SD'!F451","v":0},{"$f":"'Student Details Copy From SD'!H451","v":0}]
[{"$f":"'Student Details Copy From SD'!A452","v":451},{"$f":"'Student Details Copy From SD'!B452","v":0},{"$f":"'Student Details Copy From SD'!F452","v":0},{"$f":"'Student Details Copy From SD'!H452","v":0}]
[{"$f":"'Student Details Copy From SD'!A453","v":452},{"$f":"'Student Details Copy From SD'!B453","v":0},{"$f":"'Student Details Copy From SD'!F453","v":0},{"$f":"'Student Details Copy From SD'!H453","v":0}]
[{"$f":"'Student Details Copy From SD'!A454","v":453},{"$f":"'Student Details Copy From SD'!B454","v":0},{"$f":"'Student Details Copy From SD'!F454","v":0},{"$f":"'Student Details Copy From SD'!H454","v":0}]
[{"$f":"'Student Details Copy From SD'!A455","v":454},{"$f":"'Student Details Copy From SD'!B455","v":0},{"$f":"'Student Details Copy From SD'!F455","v":0},{"$f":"'Student Details Copy From SD'!H455","v":0}]
[{"$f":"'Student Details Copy From SD'!A456","v":455},{"$f":"'Student Details Copy From SD'!B456","v":0},{"$f":"'Student Details Copy From SD'!F456","v":0},{"$f":"'Student Details Copy From SD'!H456","v":0}]
[{"$f":"'Student Details Copy From SD'!A457","v":456},{"$f":"'Student Details Copy From SD'!B457","v":0},{"$f":"'Student Details Copy From SD'!F457","v":0},{"$f":"'Student Details Copy From SD'!H457","v":0}]
[{"$f":"'Student Details Copy From SD'!A458","v":457},{"$f":"'Student Details Copy From SD'!B458","v":0},{"$f":"'Student Details Copy From SD'!F458","v":0},{"$f":"'Student Details Copy From SD'!H458","v":0}]
[{"$f":"'Student Details Copy From SD'!A459","v":458},{"$f":"'Student Details Copy From SD'!B459","v":0},{"$f":"'Student Details Copy From SD'!F459","v":0},{"$f":"'Student Details Copy From SD'!H459","v":0}]
[{"$f":"'Student Details Copy From SD'!A460","v":459},{"$f":"'Student Details Copy From SD'!B460","v":0},{"$f":"'Student Details Copy From SD'!F460","v":0},{"$f":"'Student Details Copy From SD'!H460","v":0}]
[{"$f":"'Student Details Copy From SD'!A461","v":460},{"$f":"'Student Details Copy From SD'!B461","v":0},{"$f":"'Student Details Copy From SD'!F461","v":0},{"$f":"'Student Details Copy From SD'!H461","v":0}]
[{"$f":"'Student Details Copy From SD'!A462","v":461},{"$f":"'Student Details Copy From SD'!B462","v":0},{"$f":"'Student Details Copy From SD'!F462","v":0},{"$f":"'Student Details Copy From SD'!H462","v":0}]
[{"$f":"'Student Details Copy From SD'!A463","v":462},{"$f":"'Student Details Copy From SD'!B463","v":0},{"$f":"'Student Details Copy From SD'!F463","v":0},{"$f":"'Student Details Copy From SD'!H463","v":0}]
[{"$f":"'Student Details Copy From SD'!A464","v":463},{"$f":"'Student Details Copy From SD'!B464","v":0},{"$f":"'Student Details Copy From SD'!F464","v":0},{"$f":"'Student Details Copy From SD'!H464","v":0}]
[{"$f":"'Student Details Copy From SD'!A465","v":464},{"$f":"'Student Details Copy From SD'!B465","v":0},{"$f":"'Student Details Copy From SD'!F465","v":0},{"$f":"'Student Details Copy From SD'!H465","v":0}]
[{"$f":"'Student Details Copy From SD'!A466","v":465},{"$f":"'Student Details Copy From SD'!B466","v":0},{"$f":"'Student Details Copy From SD'!F466","v":0},{"$f":"'Student Details Copy From SD'!H466","v":0}]
[{"$f":"'Student Details Copy From SD'!A467","v":466},{"$f":"'Student Details Copy From SD'!B467","v":0},{"$f":"'Student Details Copy From SD'!F467","v":0},{"$f":"'Student Details Copy From SD'!H467","v":0}]
[{"$f":"'Student Details Copy From SD'!A468","v":467},{"$f":"'Student Details Copy From SD'!B468","v":0},{"$f":"'Student Details Copy From SD'!F468","v":0},{"$f":"'Student Details Copy From SD'!H468","v":0}]
[{"$f":"'Student Details Copy From SD'!A469","v":468},{"$f":"'Student Details Copy From SD'!B469","v":0},{"$f":"'Student Details Copy From SD'!F469","v":0},{"$f":"'Student Details Copy From SD'!H469","v":0}]
[{"$f":"'Student Details Copy From SD'!A470","v":469},{"$f":"'Student Details Copy From SD'!B470","v":0},{"$f":"'Student Details Copy From SD'!F470","v":0},{"$f":"'Student Details Copy From SD'!H470","v":0}]
[{"$f":"'Student Details Copy From SD'!A471","v":470},{"$f":"'Student Details Copy From SD'!B471","v":0},{"$f":"'Student Details Copy From SD'!F471","v":0},{"$f":"'Student Details Copy From SD'!H471","v":0}]
[{"$f":"'Student Details Copy From SD'!A472","v":471},{"$f":"'Student Details Copy From SD'!B472","v":0},{"$f":"'Student Details Copy From SD'!F472","v":0},{"$f":"'Student Details Copy From SD'!H472","v":0}]
[{"$f":"'Student Details Copy From SD'!A473","v":472},{"$f":"'Student Details Copy From SD'!B473","v":0},{"$f":"'Student Details Copy From SD'!F473","v":0},{"$f":"'Student Details Copy From SD'!H473","v":0}]
[{"$f":"'Student Details Copy From SD'!A474","v":473},{"$f":"'Student Details Copy From SD'!B474","v":0},{"$f":"'Student Details Copy From SD'!F474","v":0},{"$f":"'Student Details Copy From SD'!H474","v":0}]
[{"$f":"'Student Details Copy From SD'!A475","v":474},{"$f":"'Student Details Copy From SD'!B475","v":0},{"$f":"'Student Details Copy From SD'!F475","v":0},{"$f":"'Student Details Copy From SD'!H475","v":0}]
[{"$f":"'Student Details Copy From SD'!A476","v":475},{"$f":"'Student Details Copy From SD'!B476","v":0},{"$f":"'Student Details Copy From SD'!F476","v":0},{"$f":"'Student Details Copy From SD'!H476","v":0}]
[{"$f":"'Student Details Copy From SD'!A477","v":476},{"$f":"'Student Details Copy From SD'!B477","v":0},{"$f":"'Student Details Copy From SD'!F477","v":0},{"$f":"'Student Details Copy From SD'!H477","v":0}]
[{"$f":"'Student Details Copy From SD'!A478","v":477},{"$f":"'Student Details Copy From SD'!B478","v":0},{"$f":"'Student Details Copy From SD'!F478","v":0},{"$f":"'Student Details Copy From SD'!H478","v":0}]
[{"$f":"'Student Details Copy From SD'!A479","v":478},{"$f":"'Student Details Copy From SD'!B479","v":0},{"$f":"'Student Details Copy From SD'!F479","v":0},{"$f":"'Student Details Copy From SD'!H479","v":0}]
[{"$f":"'Student Details Copy From SD'!A480","v":479},{"$f":"'Student Details Copy From SD'!B480","v":0},{"$f":"'Student Details Copy From SD'!F480","v":0},{"$f":"'Student Details Copy From SD'!H480","v":0}]
[{"$f":"'Student Details Copy From SD'!A481","v":480},{"$f":"'Student Details Copy From SD'!B481","v":0},{"$f":"'Student Details Copy From SD'!F481","v":0},{"$f":"'Student Details Copy From SD'!H481","v":0}]
[{"$f":"'Student Details Copy From SD'!A482","v":481},{"$f":"'Student Details Copy From SD'!B482","v":0},{"$f":"'Student Details Copy From SD'!F482","v":0},{"$f":"'Student Details Copy From SD'!H482","v":0}]
[{"$f":"'Student Details Copy From SD'!A483","v":482},{"$f":"'Student Details Copy From SD'!B483","v":0},{"$f":"'Student Details Copy From SD'!F483","v":0},{"$f":"'Student Details Copy From SD'!H483","v":0}]
[{"$f":"'Student Details Copy From SD'!A484","v":483},{"$f":"'Student Details Copy From SD'!B484","v":0},{"$f":"'Student Details Copy From SD'!F484","v":0},{"$f":"'Student Details Copy From SD'!H484","v":0}]
[{"$f":"'Student Details Copy From SD'!A485","v":484},{"$f":"'Student Details Copy From SD'!B485","v":0},{"$f":"'Student Details Copy From SD'!F485","v":0},{"$f":"'Student Details Copy From SD'!H485","v":0}]
[{"$f":"'Student Details Copy From SD'!A486","v":485},{"$f":"'Student Details Copy From SD'!B486","v":0},{"$f":"'Student Details Copy From SD'!F486","v":0},{"$f":"'Student Details Copy From SD'!H486","v":0}]
[{"$f":"'Student Details Copy From SD'!A487","v":486},{"$f":"'Student Details Copy From SD'!B487","v":0},{"$f":"'Student Details Copy From SD'!F487","v":0},{"$f":"'Student Details Copy From SD'!H487","v":0}]
[{"$f":"'Student Details Copy From SD'!A488","v":487},{"$f":"'Student Details Copy From SD'!B488","v":0},{"$f":"'Student Details Copy From SD'!F488","v":0},{"$f":"'Student Details Copy From SD'!H488","v":0}]
[{"$f":"'Student Details Copy From SD'!A489","v":488},{"$f":"'Student Details Copy From SD'!B489","v":0},{"$f":"'Student Details Copy From SD'!F489","v":0},{"$f":"'Student Details Copy From SD'!H489","v":0}]
[{"$f":"'Student Details Copy From SD'!A490","v":489},{"$f":"'Student Details Copy From SD'!B490","v":0},{"$f":"'Student Details Copy From SD'!F490","v":0},{"$f":"'Student Details Copy From SD'!H490","v":0}]
[{"$f":"'Student Details Copy From SD'!A491","v":490},{"$f":"'Student Details Copy From SD'!B491","v":0},{"$f":"'Student Details Copy From SD'!F491","v":0},{"$f":"'Student Details Copy From SD'!H491","v":0}]
[{"$f":"'Student Details Copy From SD'!A492","v":491},{"$f":"'Student Details Copy From SD'!B492","v":0},{"$f":"'Student Details Copy From SD'!F492","v":0},{"$f":"'Student Details Copy From SD'!H492","v":0}]
[{"$f":"'Student Details Copy From SD'!A493","v":492},{"$f":"'Student Details Copy From SD'!B493","v":0},{"$f":"'Student Details Copy From SD'!F493","v":0},{"$f":"'Student Details Copy From SD'!H493","v":0}]
[{"$f":"'Student Details Copy From SD'!A494","v":493},{"$f":"'Student Details Copy From SD'!B494","v":0},{"$f":"'Student Details Copy From SD'!F494","v":0},{"$f":"'Student Details Copy From SD'!H494","v":0}]
[{"$f":"'Student Details Copy From SD'!A495","v":494},{"$f":"'Student Details Copy From SD'!B495","v":0},{"$f":"'Student Details Copy From SD'!F495","v":0},{"$f":"'Student Details Copy From SD'!H495","v":0}]
[{"$f":"'Student Details Copy From SD'!A496","v":495},{"$f":"'Student Details Copy From SD'!B496","v":0},{"$f":"'Student Details Copy From SD'!F496","v":0},{"$f":"'Student Details Copy From SD'!H496","v":0}]
[{"$f":"'Student Details Copy From SD'!A497","v":496},{"$f":"'Student Details Copy From SD'!B497","v":0},{"$f":"'Student Details Copy From SD'!F497","v":0},{"$f":"'Student Details Copy From SD'!H497","v":0}]
[{"$f":"'Student Details Copy From SD'!A498","v":497},{"$f":"'Student Details Copy From SD'!B498","v":0},{"$f":"'Student Details Copy From SD'!F498","v":0},{"$f":"'Student Details Copy From SD'!H498","v":0}]
[{"$f":"'Student Details Copy From SD'!A499","v":498},{"$f":"'Student Details Copy From SD'!B499","v":0},{"$f":"'Student Details Copy From SD'!F499","v":0},{"$f":"'Student Details Copy From SD'!H499","v":0}]
[{"$f":"'Student Details Copy From SD'!A500","v":499},{"$f":"'Student Details Copy From SD'!B500","v":0},{"$f":"'Student Details Copy From SD'!F500","v":0},{"$f":"'Student Details Copy From SD'!H500","v":0}]
[{"$f":"'Student Details Copy From SD'!A501","v":500},{"$f":"'Student Details Copy From SD'!B501","v":0},{"$f":"'Student Details Copy From SD'!F501","v":0},{"$f":"'Student Details Copy From SD'!H501","v":0}]
[{"$f":"'Student Details Copy From SD'!A502","v":501},{"$f":"'Student Details Copy From SD'!B502","v":0},{"$f":"'Student Details Copy From SD'!F502","v":0},{"$f":"'Student Details Copy From SD'!H502","v":0}]
[{"$f":"'Student Details Copy From SD'!A503","v":502},{"$f":"'Student Details Copy From SD'!B503","v":0},{"$f":"'Student Details Copy From SD'!F503","v":0},{"$f":"'Student Details Copy From SD'!H503","v":0}]
[{"$f":"'Student Details Copy From SD'!A504","v":503},{"$f":"'Student Details Copy From SD'!B504","v":0},{"$f":"'Student Details Copy From SD'!F504","v":0},{"$f":"'Student Details Copy From SD'!H504","v":0}]
[{"$f":"'Student Details Copy From SD'!A505","v":504},{"$f":"'Student Details Copy From SD'!B505","v":0},{"$f":"'Student Details Copy From SD'!F505","v":0},{"$f":"'Student Details Copy From SD'!H505","v":0}]
[{"$f":"'Student Details Copy From SD'!A506","v":505},{"$f":"'Student Details Copy From SD'!B506","v":0},{"$f":"'Student Details Copy From SD'!F506","v":0},{"$f":"'Student Details Copy From SD'!H506","v":0}]
[{"$f":"'Student Details Copy From SD'!A507","v":506},{"$f":"'Student Details Copy From SD'!B507","v":0},{"$f":"'Student Details Copy From SD'!F507","v":0},{"$f":"'Student Details Copy From SD'!H507","v":0}]
[{"$f":"'Student Details Copy From SD'!A508","v":507},{"$f":"'Student Details Copy From SD'!B508","v":0},{"$f":"'Student Details Copy From SD'!F508","v":0},{"$f":"'Student Details Copy From SD'!H508","v":0}]
[{"$f":"'Student Details Copy From SD'!A509","v":508},{"$f":"'Student Details Copy From SD'!B509","v":0},{"$f":"'Student Details Copy From SD'!F509","v":0},{"$f":"'Student Details Copy From SD'!H509","v":0}]
[{"$f":"'Student Details Copy From SD'!A510","v":509},{"$f":"'Student Details Copy From SD'!B510","v":0},{"$f":"'Student Details Copy From SD'!F510","v":0},{"$f":"'Student Details Copy From SD'!H510","v":0}]
[{"$f":"'Student Details Copy From SD'!A511","v":510},{"$f":"'Student Details Copy From SD'!B511","v":0},{"$f":"'Student Details Copy From SD'!F511","v":0},{"$f":"'Student Details Copy From SD'!H511","v":0}]
[{"$f":"'Student Details Copy From SD'!A512","v":511},{"$f":"'Student Details Copy From SD'!B512","v":0},{"$f":"'Student Details Copy From SD'!F512","v":0},{"$f":"'Student Details Copy From SD'!H512","v":0}]
[{"$f":"'Student Details Copy From SD'!A513","v":512},{"$f":"'Student Details Copy From SD'!B513","v":0},{"$f":"'Student Details Copy From SD'!F513","v":0},{"$f":"'Student Details Copy From SD'!H513","v":0}]
[{"$f":"'Student Details Copy From SD'!A514","v":513},{"$f":"'Student Details Copy From SD'!B514","v":0},{"$f":"'Student Details Copy From SD'!F514","v":0},{"$f":"'Student Details Copy From SD'!H514","v":0}]
[{"$f":"'Student Details Copy From SD'!A515","v":514},{"$f":"'Student Details Copy From SD'!B515","v":0},{"$f":"'Student Details Copy From SD'!F515","v":0},{"$f":"'Student Details Copy From SD'!H515","v":0}]
[{"$f":"'Student Details Copy From SD'!A516","v":515},{"$f":"'Student Details Copy From SD'!B516","v":0},{"$f":"'Student Details Copy From SD'!F516","v":0},{"$f":"'Student Details Copy From SD'!H516","v":0}]
[{"$f":"'Student Details Copy From SD'!A517","v":516},{"$f":"'Student Details Copy From SD'!B517","v":0},{"$f":"'Student Details Copy From SD'!F517","v":0},{"$f":"'Student Details Copy From SD'!H517","v":0}]
[{"$f":"'Student Details Copy From SD'!A518","v":517},{"$f":"'Student Details Copy From SD'!B518","v":0},{"$f":"'Student Details Copy From SD'!F518","v":0},{"$f":"'Student Details Copy From SD'!H518","v":0}]
[{"$f":"'Student Details Copy From SD'!A519","v":518},{"$f":"'Student Details Copy From SD'!B519","v":0},{"$f":"'Student Details Copy From SD'!F519","v":0},{"$f":"'Student Details Copy From SD'!H519","v":0}]
[{"$f":"'Student Details Copy From SD'!A520","v":519},{"$f":"'Student Details Copy From SD'!B520","v":0},{"$f":"'Student Details Copy From SD'!F520","v":0},{"$f":"'Student Details Copy From SD'!H520","v":0}]
[{"$f":"'Student Details Copy From SD'!A521","v":520},{"$f":"'Student Details Copy From SD'!B521","v":0},{"$f":"'Student Details Copy From SD'!F521","v":0},{"$f":"'Student Details Copy From SD'!H521","v":0}]
[{"$f":"'Student Details Copy From SD'!A522","v":521},{"$f":"'Student Details Copy From SD'!B522","v":0},{"$f":"'Student Details Copy From SD'!F522","v":0},{"$f":"'Student Details Copy From SD'!H522","v":0}]
[{"$f":"'Student Details Copy From SD'!A523","v":522},{"$f":"'Student Details Copy From SD'!B523","v":0},{"$f":"'Student Details Copy From SD'!F523","v":0},{"$f":"'Student Details Copy From SD'!H523","v":0}]
[{"$f":"'Student Details Copy From SD'!A524","v":523},{"$f":"'Student Details Copy From SD'!B524","v":0},{"$f":"'Student Details Copy From SD'!F524","v":0},{"$f":"'Student Details Copy From SD'!H524","v":0}]
[{"$f":"'Student Details Copy From SD'!A525","v":524},{"$f":"'Student Details Copy From SD'!B525","v":0},{"$f":"'Student Details Copy From SD'!F525","v":0},{"$f":"'Student Details Copy From SD'!H525","v":0}]
[{"$f":"'Student Details Copy From SD'!A526","v":525},{"$f":"'Student Details Copy From SD'!B526","v":0},{"$f":"'Student Details Copy From SD'!F526","v":0},{"$f":"'Student Details Copy From SD'!H526","v":0}]
[{"$f":"'Student Details Copy From SD'!A527","v":526},{"$f":"'Student Details Copy From SD'!B527","v":0},{"$f":"'Student Details Copy From SD'!F527","v":0},{"$f":"'Student Details Copy From SD'!H527","v":0}]
[{"$f":"'Student Details Copy From SD'!A528","v":527},{"$f":"'Student Details Copy From SD'!B528","v":0},{"$f":"'Student Details Copy From SD'!F528","v":0},{"$f":"'Student Details Copy From SD'!H528","v":0}]
[{"$f":"'Student Details Copy From SD'!A529","v":528},{"$f":"'Student Details Copy From SD'!B529","v":0},{"$f":"'Student Details Copy From SD'!F529","v":0},{"$f":"'Student Details Copy From SD'!H529","v":0}]
[{"$f":"'Student Details Copy From SD'!A530","v":529},{"$f":"'Student Details Copy From SD'!B530","v":0},{"$f":"'Student Details Copy From SD'!F530","v":0},{"$f":"'Student Details Copy From SD'!H530","v":0}]
[{"$f":"'Student Details Copy From SD'!A531","v":530},{"$f":"'Student Details Copy From SD'!B531","v":0},{"$f":"'Student Details Copy From SD'!F531","v":0},{"$f":"'Student Details Copy From SD'!H531","v":0}]
[{"$f":"'Student Details Copy From SD'!A532","v":531},{"$f":"'Student Details Copy From SD'!B532","v":0},{"$f":"'Student Details Copy From SD'!F532","v":0},{"$f":"'Student Details Copy From SD'!H532","v":0}]
[{"$f":"'Student Details Copy From SD'!A533","v":532},{"$f":"'Student Details Copy From SD'!B533","v":0},{"$f":"'Student Details Copy From SD'!F533","v":0},{"$f":"'Student Details Copy From SD'!H533","v":0}]
[{"$f":"'Student Details Copy From SD'!A534","v":533},{"$f":"'Student Details Copy From SD'!B534","v":0},{"$f":"'Student Details Copy From SD'!F534","v":0},{"$f":"'Student Details Copy From SD'!H534","v":0}]
[{"$f":"'Student Details Copy From SD'!A535","v":534},{"$f":"'Student Details Copy From SD'!B535","v":0},{"$f":"'Student Details Copy From SD'!F535","v":0},{"$f":"'Student Details Copy From SD'!H535","v":0}]
[{"$f":"'Student Details Copy From SD'!A536","v":535},{"$f":"'Student Details Copy From SD'!B536","v":0},{"$f":"'Student Details Copy From SD'!F536","v":0},{"$f":"'Student Details Copy From SD'!H536","v":0}]
[{"$f":"'Student Details Copy From SD'!A537","v":536},{"$f":"'Student Details Copy From SD'!B537","v":0},{"$f":"'Student Details Copy From SD'!F537","v":0},{"$f":"'Student Details Copy From SD'!H537","v":0}]
[{"$f":"'Student Details Copy From SD'!A538","v":537},{"$f":"'Student Details Copy From SD'!B538","v":0},{"$f":"'Student Details Copy From SD'!F538","v":0},{"$f":"'Student Details Copy From SD'!H538","v":0}]
[{"$f":"'Student Details Copy From SD'!A539","v":538},{"$f":"'Student Details Copy From SD'!B539","v":0},{"$f":"'Student Details Copy From SD'!F539","v":0},{"$f":"'Student Details Copy From SD'!H539","v":0}]
[{"$f":"'Student Details Copy From SD'!A540","v":539},{"$f":"'Student Details Copy From SD'!B540","v":0},{"$f":"'Student Details Copy From SD'!F540","v":0},{"$f":"'Student Details Copy From SD'!H540","v":0}]
[{"$f":"'Student Details Copy From SD'!A541","v":540},{"$f":"'Student Details Copy From SD'!B541","v":0},{"$f":"'Student Details Copy From SD'!F541","v":0},{"$f":"'Student Details Copy From SD'!H541","v":0}]
[{"$f":"'Student Details Copy From SD'!A542","v":541},{"$f":"'Student Details Copy From SD'!B542","v":0},{"$f":"'Student Details Copy From SD'!F542","v":0},{"$f":"'Student Details Copy From SD'!H542","v":0}]
[{"$f":"'Student Details Copy From SD'!A543","v":542},{"$f":"'Student Details Copy From SD'!B543","v":0},{"$f":"'Student Details Copy From SD'!F543","v":0},{"$f":"'Student Details Copy From SD'!H543","v":0}]
[{"$f":"'Student Details Copy From SD'!A544","v":543},{"$f":"'Student Details Copy From SD'!B544","v":0},{"$f":"'Student Details Copy From SD'!F544","v":0},{"$f":"'Student Details Copy From SD'!H544","v":0}]
[{"$f":"'Student Details Copy From SD'!A545","v":544},{"$f":"'Student Details Copy From SD'!B545","v":0},{"$f":"'Student Details Copy From SD'!F545","v":0},{"$f":"'Student Details Copy From SD'!H545","v":0}]
[{"$f":"'Student Details Copy From SD'!A546","v":545},{"$f":"'Student Details Copy From SD'!B546","v":0},{"$f":"'Student Details Copy From SD'!F546","v":0},{"$f":"'Student Details Copy From SD'!H546","v":0}]
[{"$f":"'Student Details Copy From SD'!A547","v":546},{"$f":"'Student Details Copy From SD'!B547","v":0},{"$f":"'Student Details Copy From SD'!F547","v":0},{"$f":"'Student Details Copy From SD'!H547","v":0}]
[{"$f":"'Student Details Copy From SD'!A548","v":547},{"$f":"'Student Details Copy From SD'!B548","v":0},{"$f":"'Student Details Copy From SD'!F548","v":0},{"$f":"'Student Details Copy From SD'!H548","v":0}]
[{"$f":"'Student Details Copy From SD'!A549","v":548},{"$f":"'Student Details Copy From SD'!B549","v":0},{"$f":"'Student Details Copy From SD'!F549","v":0},{"$f":"'Student Details Copy From SD'!H549","v":0}]
[{"$f":"'Student Details Copy From SD'!A550","v":549},{"$f":"'Student Details Copy From SD'!B550","v":0},{"$f":"'Student Details Copy From SD'!F550","v":0},{"$f":"'Student Details Copy From SD'!H550","v":0}]
[{"$f":"'Student Details Copy From SD'!A551","v":550},{"$f":"'Student Details Copy From SD'!B551","v":0},{"$f":"'Student Details Copy From SD'!F551","v":0},{"$f":"'Student Details Copy From SD'!H551","v":0}]
[{"$f":"'Student Details Copy From SD'!A552","v":551},{"$f":"'Student Details Copy From SD'!B552","v":0},{"$f":"'Student Details Copy From SD'!F552","v":0},{"$f":"'Student Details Copy From SD'!H552","v":0}]
[{"$f":"'Student Details Copy From SD'!A553","v":552},{"$f":"'Student Details Copy From SD'!B553","v":0},{"$f":"'Student Details Copy From SD'!F553","v":0},{"$f":"'Student Details Copy From SD'!H553","v":0}]
[{"$f":"'Student Details Copy From SD'!A554","v":553},{"$f":"'Student Details Copy From SD'!B554","v":0},{"$f":"'Student Details Copy From SD'!F554","v":0},{"$f":"'Student Details Copy From SD'!H554","v":0}]
[{"$f":"'Student Details Copy From SD'!A555","v":554},{"$f":"'Student Details Copy From SD'!B555","v":0},{"$f":"'Student Details Copy From SD'!F555","v":0},{"$f":"'Student Details Copy From SD'!H555","v":0}]
[{"$f":"'Student Details Copy From SD'!A556","v":555},{"$f":"'Student Details Copy From SD'!B556","v":0},{"$f":"'Student Details Copy From SD'!F556","v":0},{"$f":"'Student Details Copy From SD'!H556","v":0}]
[{"$f":"'Student Details Copy From SD'!A557","v":556},{"$f":"'Student Details Copy From SD'!B557","v":0},{"$f":"'Student Details Copy From SD'!F557","v":0},{"$f":"'Student Details Copy From SD'!H557","v":0}]
[{"$f":"'Student Details Copy From SD'!A558","v":557},{"$f":"'Student Details Copy From SD'!B558","v":0},{"$f":"'Student Details Copy From SD'!F558","v":0},{"$f":"'Student Details Copy From SD'!H558","v":0}]
[{"$f":"'Student Details Copy From SD'!A559","v":558},{"$f":"'Student Details Copy From SD'!B559","v":0},{"$f":"'Student Details Copy From SD'!F559","v":0},{"$f":"'Student Details Copy From SD'!H559","v":0}]
[{"$f":"'Student Details Copy From SD'!A560","v":559},{"$f":"'Student Details Copy From SD'!B560","v":0},{"$f":"'Student Details Copy From SD'!F560","v":0},{"$f":"'Student Details Copy From SD'!H560","v":0}]
[{"$f":"'Student Details Copy From SD'!A561","v":560},{"$f":"'Student Details Copy From SD'!B561","v":0},{"$f":"'Student Details Copy From SD'!F561","v":0},{"$f":"'Student Details Copy From SD'!H561","v":0}]
[{"$f":"'Student Details Copy From SD'!A562","v":561},{"$f":"'Student Details Copy From SD'!B562","v":0},{"$f":"'Student Details Copy From SD'!F562","v":0},{"$f":"'Student Details Copy From SD'!H562","v":0}]
[{"$f":"'Student Details Copy From SD'!A563","v":562},{"$f":"'Student Details Copy From SD'!B563","v":0},{"$f":"'Student Details Copy From SD'!F563","v":0},{"$f":"'Student Details Copy From SD'!H563","v":0}]
[{"$f":"'Student Details Copy From SD'!A564","v":563},{"$f":"'Student Details Copy From SD'!B564","v":0},{"$f":"'Student Details Copy From SD'!F564","v":0},{"$f":"'Student Details Copy From SD'!H564","v":0}]
[{"$f":"'Student Details Copy From SD'!A565","v":564},{"$f":"'Student Details Copy From SD'!B565","v":0},{"$f":"'Student Details Copy From SD'!F565","v":0},{"$f":"'Student Details Copy From SD'!H565","v":0}]
[{"$f":"'Student Details Copy From SD'!A566","v":565},{"$f":"'Student Details Copy From SD'!B566","v":0},{"$f":"'Student Details Copy From SD'!F566","v":0},{"$f":"'Student Details Copy From SD'!H566","v":0}]
[{"$f":"'Student Details Copy From SD'!A567","v":566},{"$f":"'Student Details Copy From SD'!B567","v":0},{"$f":"'Student Details Copy From SD'!F567","v":0},{"$f":"'Student Details Copy From SD'!H567","v":0}]
[{"$f":"'Student Details Copy From SD'!A568","v":567},{"$f":"'Student Details Copy From SD'!B568","v":0},{"$f":"'Student Details Copy From SD'!F568","v":0},{"$f":"'Student Details Copy From SD'!H568","v":0}]
[{"$f":"'Student Details Copy From SD'!A569","v":568},{"$f":"'Student Details Copy From SD'!B569","v":0},{"$f":"'Student Details Copy From SD'!F569","v":0},{"$f":"'Student Details Copy From SD'!H569","v":0}]
[{"$f":"'Student Details Copy From SD'!A570","v":569},{"$f":"'Student Details Copy From SD'!B570","v":0},{"$f":"'Student Details Copy From SD'!F570","v":0},{"$f":"'Student Details Copy From SD'!H570","v":0}]
[{"$f":"'Student Details Copy From SD'!A571","v":570},{"$f":"'Student Details Copy From SD'!B571","v":0},{"$f":"'Student Details Copy From SD'!F571","v":0},{"$f":"'Student Details Copy From SD'!H571","v":0}]
[{"$f":"'Student Details Copy From SD'!A572","v":571},{"$f":"'Student Details Copy From SD'!B572","v":0},{"$f":"'Student Details Copy From SD'!F572","v":0},{"$f":"'Student Details Copy From SD'!H572","v":0}]
[{"$f":"'Student Details Copy From SD'!A573","v":572},{"$f":"'Student Details Copy From SD'!B573","v":0},{"$f":"'Student Details Copy From SD'!F573","v":0},{"$f":"'Student Details Copy From SD'!H573","v":0}]
[{"$f":"'Student Details Copy From SD'!A574","v":573},{"$f":"'Student Details Copy From SD'!B574","v":0},{"$f":"'Student Details Copy From SD'!F574","v":0},{"$f":"'Student Details Copy From SD'!H574","v":0}]
[{"$f":"'Student Details Copy From SD'!A575","v":574},{"$f":"'Student Details Copy From SD'!B575","v":0},{"$f":"'Student Details Copy From SD'!F575","v":0},{"$f":"'Student Details Copy From SD'!H575","v":0}]
[{"$f":"'Student Details Copy From SD'!A576","v":575},{"$f":"'Student Details Copy From SD'!B576","v":0},{"$f":"'Student Details Copy From SD'!F576","v":0},{"$f":"'Student Details Copy From SD'!H576","v":0}]
[{"$f":"'Student Details Copy From SD'!A577","v":576},{"$f":"'Student Details Copy From SD'!B577","v":0},{"$f":"'Student Details Copy From SD'!F577","v":0},{"$f":"'Student Details Copy From SD'!H577","v":0}]
[{"$f":"'Student Details Copy From SD'!A578","v":577},{"$f":"'Student Details Copy From SD'!B578","v":0},{"$f":"'Student Details Copy From SD'!F578","v":0},{"$f":"'Student Details Copy From SD'!H578","v":0}]
[{"$f":"'Student Details Copy From SD'!A579","v":578},{"$f":"'Student Details Copy From SD'!B579","v":0},{"$f":"'Student Details Copy From SD'!F579","v":0},{"$f":"'Student Details Copy From SD'!H579","v":0}]
[{"$f":"'Student Details Copy From SD'!A580","v":579},{"$f":"'Student Details Copy From SD'!B580","v":0},{"$f":"'Student Details Copy From SD'!F580","v":0},{"$f":"'Student Details Copy From SD'!H580","v":0}]
[{"$f":"'Student Details Copy From SD'!A581","v":580},{"$f":"'Student Details Copy From SD'!B581","v":0},{"$f":"'Student Details Copy From SD'!F581","v":0},{"$f":"'Student Details Copy From SD'!H581","v":0}]
[{"$f":"'Student Details Copy From SD'!A582","v":581},{"$f":"'Student Details Copy From SD'!B582","v":0},{"$f":"'Student Details Copy From SD'!F582","v":0},{"$f":"'Student Details Copy From SD'!H582","v":0}]
[{"$f":"'Student Details Copy From SD'!A583","v":582},{"$f":"'Student Details Copy From SD'!B583","v":0},{"$f":"'Student Details Copy From SD'!F583","v":0},{"$f":"'Student Details Copy From SD'!H583","v":0}]
[{"$f":"'Student Details Copy From SD'!A584","v":583},{"$f":"'Student Details Copy From SD'!B584","v":0},{"$f":"'Student Details Copy From SD'!F584","v":0},{"$f":"'Student Details Copy From SD'!H584","v":0}]
[{"$f":"'Student Details Copy From SD'!A585","v":584},{"$f":"'Student Details Copy From SD'!B585","v":0},{"$f":"'Student Details Copy From SD'!F585","v":0},{"$f":"'Student Details Copy From SD'!H585","v":0}]
[{"$f":"'Student Details Copy From SD'!A586","v":585},{"$f":"'Student Details Copy From SD'!B586","v":0},{"$f":"'Student Details Copy From SD'!F586","v":0},{"$f":"'Student Details Copy From SD'!H586","v":0}]
[{"$f":"'Student Details Copy From SD'!A587","v":586},{"$f":"'Student Details Copy From SD'!B587","v":0},{"$f":"'Student Details Copy From SD'!F587","v":0},{"$f":"'Student Details Copy From SD'!H587","v":0}]
[{"$f":"'Student Details Copy From SD'!A588","v":587},{"$f":"'Student Details Copy From SD'!B588","v":0},{"$f":"'Student Details Copy From SD'!F588","v":0},{"$f":"'Student Details Copy From SD'!H588","v":0}]
[{"$f":"'Student Details Copy From SD'!A589","v":588},{"$f":"'Student Details Copy From SD'!B589","v":0},{"$f":"'Student Details Copy From SD'!F589","v":0},{"$f":"'Student Details Copy From SD'!H589","v":0}]
[{"$f":"'Student Details Copy From SD'!A590","v":589},{"$f":"'Student Details Copy From SD'!B590","v":0},{"$f":"'Student Details Copy From SD'!F590","v":0},{"$f":"'Student Details Copy From SD'!H590","v":0}]
[{"$f":"'Student Details Copy From SD'!A591","v":590},{"$f":"'Student Details Copy From SD'!B591","v":0},{"$f":"'Student Details Copy From SD'!F591","v":0},{"$f":"'Student Details Copy From SD'!H591","v":0}]
[{"$f":"'Student Details Copy From SD'!A592","v":591},{"$f":"'Student Details Copy From SD'!B592","v":0},{"$f":"'Student Details Copy From SD'!F592","v":0},{"$f":"'Student Details Copy From SD'!H592","v":0}]
[{"$f":"'Student Details Copy From SD'!A593","v":592},{"$f":"'Student Details Copy From SD'!B593","v":0},{"$f":"'Student Details Copy From SD'!F593","v":0},{"$f":"'Student Details Copy From SD'!H593","v":0}]
[{"$f":"'Student Details Copy From SD'!A594","v":593},{"$f":"'Student Details Copy From SD'!B594","v":0},{"$f":"'Student Details Copy From SD'!F594","v":0},{"$f":"'Student Details Copy From SD'!H594","v":0}]
[{"$f":"'Student Details Copy From SD'!A595","v":594},{"$f":"'Student Details Copy From SD'!B595","v":0},{"$f":"'Student Details Copy From SD'!F595","v":0},{"$f":"'Student Details Copy From SD'!H595","v":0}]
[{"$f":"'Student Details Copy From SD'!A596","v":595},{"$f":"'Student Details Copy From SD'!B596","v":0},{"$f":"'Student Details Copy From SD'!F596","v":0},{"$f":"'Student Details Copy From SD'!H596","v":0}]
[{"$f":"'Student Details Copy From SD'!A597","v":596},{"$f":"'Student Details Copy From SD'!B597","v":0},{"$f":"'Student Details Copy From SD'!F597","v":0},{"$f":"'Student Details Copy From SD'!H597","v":0}]
[{"$f":"'Student Details Copy From SD'!A598","v":597},{"$f":"'Student Details Copy From SD'!B598","v":0},{"$f":"'Student Details Copy From SD'!F598","v":0},{"$f":"'Student Details Copy From SD'!H598","v":0}]
[{"$f":"'Student Details Copy From SD'!A599","v":598},{"$f":"'Student Details Copy From SD'!B599","v":0},{"$f":"'Student Details Copy From SD'!F599","v":0},{"$f":"'Student Details Copy From SD'!H599","v":0}]
[{"$f":"'Student Details Copy From SD'!A600","v":599},{"$f":"'Student Details Copy From SD'!B600","v":0},{"$f":"'Student Details Copy From SD'!F600","v":0},{"$f":"'Student Details Copy From SD'!H600","v":0}]
[{"$f":"'Student Details Copy From SD'!A601","v":600},{"$f":"'Student Details Copy From SD'!B601","v":0},{"$f":"'Student Details Copy From SD'!F601","v":0},{"$f":"'Student Details Copy From SD'!H601","v":0}]
[{"$f":"'Student Details Copy From SD'!A602","v":601},{"$f":"'Student Details Copy From SD'!B602","v":0},{"$f":"'Student Details Copy From SD'!F602","v":0},{"$f":"'Student Details Copy From SD'!H602","v":0}]
[{"$f":"'Student Details Copy From SD'!A603","v":602},{"$f":"'Student Details Copy From SD'!B603","v":0},{"$f":"'Student Details Copy From SD'!F603","v":0},{"$f":"'Student Details Copy From SD'!H603","v":0}]
[{"$f":"'Student Details Copy From SD'!A604","v":603},{"$f":"'Student Details Copy From SD'!B604","v":0},{"$f":"'Student Details Copy From SD'!F604","v":0},{"$f":"'Student Details Copy From SD'!H604","v":0}]
[{"$f":"'Student Details Copy From SD'!A605","v":604},{"$f":"'Student Details Copy From SD'!B605","v":0},{"$f":"'Student Details Copy From SD'!F605","v":0},{"$f":"'Student Details Copy From SD'!H605","v":0}]
[{"$f":"'Student Details Copy From SD'!A606","v":605},{"$f":"'Student Details Copy From SD'!B606","v":0},{"$f":"'Student Details Copy From SD'!F606","v":0},{"$f":"'Student Details Copy From SD'!H606","v":0}]
[{"$f":"'Student Details Copy From SD'!A607","v":606},{"$f":"'Student Details Copy From SD'!B607","v":0},{"$f":"'Student Details Copy From SD'!F607","v":0},{"$f":"'Student Details Copy From SD'!H607","v":0}]
[{"$f":"'Student Details Copy From SD'!A608","v":607},{"$f":"'Student Details Copy From SD'!B608","v":0},{"$f":"'Student Details Copy From SD'!F608","v":0},{"$f":"'Student Details Copy From SD'!H608","v":0}]
[{"$f":"'Student Details Copy From SD'!A609","v":608},{"$f":"'Student Details Copy From SD'!B609","v":0},{"$f":"'Student Details Copy From SD'!F609","v":0},{"$f":"'Student Details Copy From SD'!H609","v":0}]
[{"$f":"'Student Details Copy From SD'!A610","v":609},{"$f":"'Student Details Copy From SD'!B610","v":0},{"$f":"'Student Details Copy From SD'!F610","v":0},{"$f":"'Student Details Copy From SD'!H610","v":0}]
[{"$f":"'Student Details Copy From SD'!A611","v":610},{"$f":"'Student Details Copy From SD'!B611","v":0},{"$f":"'Student Details Copy From SD'!F611","v":0},{"$f":"'Student Details Copy From SD'!H611","v":0}]
[{"$f":"'Student Details Copy From SD'!A612","v":611},{"$f":"'Student Details Copy From SD'!B612","v":0},{"$f":"'Student Details Copy From SD'!F612","v":0},{"$f":"'Student Details Copy From SD'!H612","v":0}]
[{"$f":"'Student Details Copy From SD'!A613","v":612},{"$f":"'Student Details Copy From SD'!B613","v":0},{"$f":"'Student Details Copy From SD'!F613","v":0},{"$f":"'Student Details Copy From SD'!H613","v":0}]
[{"$f":"'Student Details Copy From SD'!A614","v":613},{"$f":"'Student Details Copy From SD'!B614","v":0},{"$f":"'Student Details Copy From SD'!F614","v":0},{"$f":"'Student Details Copy From SD'!H614","v":0}]
[{"$f":"'Student Details Copy From SD'!A615","v":614},{"$f":"'Student Details Copy From SD'!B615","v":0},{"$f":"'Student Details Copy From SD'!F615","v":0},{"$f":"'Student Details Copy From SD'!H615","v":0}]
[{"$f":"'Student Details Copy From SD'!A616","v":615},{"$f":"'Student Details Copy From SD'!B616","v":0},{"$f":"'Student Details Copy From SD'!F616","v":0},{"$f":"'Student Details Copy From SD'!H616","v":0}]
[{"$f":"'Student Details Copy From SD'!A617","v":616},{"$f":"'Student Details Copy From SD'!B617","v":0},{"$f":"'Student Details Copy From SD'!F617","v":0},{"$f":"'Student Details Copy From SD'!H617","v":0}]
[{"$f":"'Student Details Copy From SD'!A618","v":617},{"$f":"'Student Details Copy From SD'!B618","v":0},{"$f":"'Student Details Copy From SD'!F618","v":0},{"$f":"'Student Details Copy From SD'!H618","v":0}]
[{"$f":"'Student Details Copy From SD'!A619","v":618},{"$f":"'Student Details Copy From SD'!B619","v":0},{"$f":"'Student Details Copy From SD'!F619","v":0},{"$f":"'Student Details Copy From SD'!H619","v":0}]
[{"$f":"'Student Details Copy From SD'!A620","v":619},{"$f":"'Student Details Copy From SD'!B620","v":0},{"$f":"'Student Details Copy From SD'!F620","v":0},{"$f":"'Student Details Copy From SD'!H620","v":0}]
[{"$f":"'Student Details Copy From SD'!A621","v":620},{"$f":"'Student Details Copy From SD'!B621","v":0},{"$f":"'Student Details Copy From SD'!F621","v":0},{"$f":"'Student Details Copy From SD'!H621","v":0}]
[{"$f":"'Student Details Copy From SD'!A622","v":621},{"$f":"'Student Details Copy From SD'!B622","v":0},{"$f":"'Student Details Copy From SD'!F622","v":0},{"$f":"'Student Details Copy From SD'!H622","v":0}]
[{"$f":"'Student Details Copy From SD'!A623","v":622},{"$f":"'Student Details Copy From SD'!B623","v":0},{"$f":"'Student Details Copy From SD'!F623","v":0},{"$f":"'Student Details Copy From SD'!H623","v":0}]
[{"$f":"'Student Details Copy From SD'!A624","v":623},{"$f":"'Student Details Copy From SD'!B624","v":0},{"$f":"'Student Details Copy From SD'!F624","v":0},{"$f":"'Student Details Copy From SD'!H624","v":0}]
[{"$f":"'Student Details Copy From SD'!A625","v":624},{"$f":"'Student Details Copy From SD'!B625","v":0},{"$f":"'Student Details Copy From SD'!F625","v":0},{"$f":"'Student Details Copy From SD'!H625","v":0}]
[{"$f":"'Student Details Copy From SD'!A626","v":625},{"$f":"'Student Details Copy From SD'!B626","v":0},{"$f":"'Student Details Copy From SD'!F626","v":0},{"$f":"'Student Details Copy From SD'!H626","v":0}]
[{"$f":"'Student Details Copy From SD'!A627","v":626},{"$f":"'Student Details Copy From SD'!B627","v":0},{"$f":"'Student Details Copy From SD'!F627","v":0},{"$f":"'Student Details Copy From SD'!H627","v":0}]
[{"$f":"'Student Details Copy From SD'!A628","v":627},{"$f":"'Student Details Copy From SD'!B628","v":0},{"$f":"'Student Details Copy From SD'!F628","v":0},{"$f":"'Student Details Copy From SD'!H628","v":0}]
[{"$f":"'Student Details Copy From SD'!A629","v":628},{"$f":"'Student Details Copy From SD'!B629","v":0},{"$f":"'Student Details Copy From SD'!F629","v":0},{"$f":"'Student Details Copy From SD'!H629","v":0}]
[{"$f":"'Student Details Copy From SD'!A630","v":629},{"$f":"'Student Details Copy From SD'!B630","v":0},{"$f":"'Student Details Copy From SD'!F630","v":0},{"$f":"'Student Details Copy From SD'!H630","v":0}]
[{"$f":"'Student Details Copy From SD'!A631","v":630},{"$f":"'Student Details Copy From SD'!B631","v":0},{"$f":"'Student Details Copy From SD'!F631","v":0},{"$f":"'Student Details Copy From SD'!H631","v":0}]
[{"$f":"'Student Details Copy From SD'!A632","v":631},{"$f":"'Student Details Copy From SD'!B632","v":0},{"$f":"'Student Details Copy From SD'!F632","v":0},{"$f":"'Student Details Copy From SD'!H632","v":0}]
[{"$f":"'Student Details Copy From SD'!A633","v":632},{"$f":"'Student Details Copy From SD'!B633","v":0},{"$f":"'Student Details Copy From SD'!F633","v":0},{"$f":"'Student Details Copy From SD'!H633","v":0}]
[{"$f":"'Student Details Copy From SD'!A634","v":633},{"$f":"'Student Details Copy From SD'!B634","v":0},{"$f":"'Student Details Copy From SD'!F634","v":0},{"$f":"'Student Details Copy From SD'!H634","v":0}]
[{"$f":"'Student Details Copy From SD'!A635","v":634},{"$f":"'Student Details Copy From SD'!B635","v":0},{"$f":"'Student Details Copy From SD'!F635","v":0},{"$f":"'Student Details Copy From SD'!H635","v":0}]
[{"$f":"'Student Details Copy From SD'!A636","v":635},{"$f":"'Student Details Copy From SD'!B636","v":0},{"$f":"'Student Details Copy From SD'!F636","v":0},{"$f":"'Student Details Copy From SD'!H636","v":0}]
[{"$f":"'Student Details Copy From SD'!A637","v":636},{"$f":"'Student Details Copy From SD'!B637","v":0},{"$f":"'Student Details Copy From SD'!F637","v":0},{"$f":"'Student Details Copy From SD'!H637","v":0}]
[{"$f":"'Student Details Copy From SD'!A638","v":637},{"$f":"'Student Details Copy From SD'!B638","v":0},{"$f":"'Student Details Copy From SD'!F638","v":0},{"$f":"'Student Details Copy From SD'!H638","v":0}]
[{"$f":"'Student Details Copy From SD'!A639","v":638},{"$f":"'Student Details Copy From SD'!B639","v":0},{"$f":"'Student Details Copy From SD'!F639","v":0},{"$f":"'Student Details Copy From SD'!H639","v":0}]
[{"$f":"'Student Details Copy From SD'!A640","v":639},{"$f":"'Student Details Copy From SD'!B640","v":0},{"$f":"'Student Details Copy From SD'!F640","v":0},{"$f":"'Student Details Copy From SD'!H640","v":0}]
[{"$f":"'Student Details Copy From SD'!A641","v":640},{"$f":"'Student Details Copy From SD'!B641","v":0},{"$f":"'Student Details Copy From SD'!F641","v":0},{"$f":"'Student Details Copy From SD'!H641","v":0}]
[{"$f":"'Student Details Copy From SD'!A642","v":641},{"$f":"'Student Details Copy From SD'!B642","v":0},{"$f":"'Student Details Copy From SD'!F642","v":0},{"$f":"'Student Details Copy From SD'!H642","v":0}]
[{"$f":"'Student Details Copy From SD'!A643","v":642},{"$f":"'Student Details Copy From SD'!B643","v":0},{"$f":"'Student Details Copy From SD'!F643","v":0},{"$f":"'Student Details Copy From SD'!H643","v":0}]
[{"$f":"'Student Details Copy From SD'!A644","v":643},{"$f":"'Student Details Copy From SD'!B644","v":0},{"$f":"'Student Details Copy From SD'!F644","v":0},{"$f":"'Student Details Copy From SD'!H644","v":0}]
[{"$f":"'Student Details Copy From SD'!A645","v":644},{"$f":"'Student Details Copy From SD'!B645","v":0},{"$f":"'Student Details Copy From SD'!F645","v":0},{"$f":"'Student Details Copy From SD'!H645","v":0}]
[{"$f":"'Student Details Copy From SD'!A646","v":645},{"$f":"'Student Details Copy From SD'!B646","v":0},{"$f":"'Student Details Copy From SD'!F646","v":0},{"$f":"'Student Details Copy From SD'!H646","v":0}]
[{"$f":"'Student Details Copy From SD'!A647","v":646},{"$f":"'Student Details Copy From SD'!B647","v":0},{"$f":"'Student Details Copy From SD'!F647","v":0},{"$f":"'Student Details Copy From SD'!H647","v":0}]
[{"$f":"'Student Details Copy From SD'!A648","v":647},{"$f":"'Student Details Copy From SD'!B648","v":0},{"$f":"'Student Details Copy From SD'!F648","v":0},{"$f":"'Student Details Copy From SD'!H648","v":0}]
[{"$f":"'Student Details Copy From SD'!A649","v":648},{"$f":"'Student Details Copy From SD'!B649","v":0},{"$f":"'Student Details Copy From SD'!F649","v":0},{"$f":"'Student Details Copy From SD'!H649","v":0}]
[{"$f":"'Student Details Copy From SD'!A650","v":649},{"$f":"'Student Details Copy From SD'!B650","v":0},{"$f":"'Student Details Copy From SD'!F650","v":0},{"$f":"'Student Details Copy From SD'!H650","v":0}]
[{"$f":"'Student Details Copy From SD'!A651","v":650},{"$f":"'Student Details Copy From SD'!B651","v":0},{"$f":"'Student Details Copy From SD'!F651","v":0},{"$f":"'Student Details Copy From SD'!H651","v":0}]
[{"$f":"'Student Details Copy From SD'!A652","v":651},{"$f":"'Student Details Copy From SD'!B652","v":0},{"$f":"'Student Details Copy From SD'!F652","v":0},{"$f":"'Student Details Copy From SD'!H652","v":0}]
[{"$f":"'Student Details Copy From SD'!A653","v":652},{"$f":"'Student Details Copy From SD'!B653","v":0},{"$f":"'Student Details Copy From SD'!F653","v":0},{"$f":"'Student Details Copy From SD'!H653","v":0}]
[{"$f":"'Student Details Copy From SD'!A654","v":653},{"$f":"'Student Details Copy From SD'!B654","v":0},{"$f":"'Student Details Copy From SD'!F654","v":0},{"$f":"'Student Details Copy From SD'!H654","v":0}]
[{"$f":"'Student Details Copy From SD'!A655","v":654},{"$f":"'Student Details Copy From SD'!B655","v":0},{"$f":"'Student Details Copy From SD'!F655","v":0},{"$f":"'Student Details Copy From SD'!H655","v":0}]
[{"$f":"'Student Details Copy From SD'!A656","v":655},{"$f":"'Student Details Copy From SD'!B656","v":0},{"$f":"'Student Details Copy From SD'!F656","v":0},{"$f":"'Student Details Copy From SD'!H656","v":0}]
[{"$f":"'Student Details Copy From SD'!A657","v":656},{"$f":"'Student Details Copy From SD'!B657","v":0},{"$f":"'Student Details Copy From SD'!F657","v":0},{"$f":"'Student Details Copy From SD'!H657","v":0}]
[{"$f":"'Student Details Copy From SD'!A658","v":657},{"$f":"'Student Details Copy From SD'!B658","v":0},{"$f":"'Student Details Copy From SD'!F658","v":0},{"$f":"'Student Details Copy From SD'!H658","v":0}]
[{"$f":"'Student Details Copy From SD'!A659","v":658},{"$f":"'Student Details Copy From SD'!B659","v":0},{"$f":"'Student Details Copy From SD'!F659","v":0},{"$f":"'Student Details Copy From SD'!H659","v":0}]
[{"$f":"'Student Details Copy From SD'!A660","v":659},{"$f":"'Student Details Copy From SD'!B660","v":0},{"$f":"'Student Details Copy From SD'!F660","v":0},{"$f":"'Student Details Copy From SD'!H660","v":0}]
[{"$f":"'Student Details Copy From SD'!A661","v":660},{"$f":"'Student Details Copy From SD'!B661","v":0},{"$f":"'Student Details Copy From SD'!F661","v":0},{"$f":"'Student Details Copy From SD'!H661","v":0}]
[{"$f":"'Student Details Copy From SD'!A662","v":661},{"$f":"'Student Details Copy From SD'!B662","v":0},{"$f":"'Student Details Copy From SD'!F662","v":0},{"$f":"'Student Details Copy From SD'!H662","v":0}]
[{"$f":"'Student Details Copy From SD'!A663","v":662},{"$f":"'Student Details Copy From SD'!B663","v":0},{"$f":"'Student Details Copy From SD'!F663","v":0},{"$f":"'Student Details Copy From SD'!H663","v":0}]
[{"$f":"'Student Details Copy From SD'!A664","v":663},{"$f":"'Student Details Copy From SD'!B664","v":0},{"$f":"'Student Details Copy From SD'!F664","v":0},{"$f":"'Student Details Copy From SD'!H664","v":0}]
[{"$f":"'Student Details Copy From SD'!A665","v":664},{"$f":"'Student Details Copy From SD'!B665","v":0},{"$f":"'Student Details Copy From SD'!F665","v":0},{"$f":"'Student Details Copy From SD'!H665","v":0}]
[{"$f":"'Student Details Copy From SD'!A666","v":665},{"$f":"'Student Details Copy From SD'!B666","v":0},{"$f":"'Student Details Copy From SD'!F666","v":0},{"$f":"'Student Details Copy From SD'!H666","v":0}]
[{"$f":"'Student Details Copy From SD'!A667","v":666},{"$f":"'Student Details Copy From SD'!B667","v":0},{"$f":"'Student Details Copy From SD'!F667","v":0},{"$f":"'Student Details Copy From SD'!H667","v":0}]
[{"$f":"'Student Details Copy From SD'!A668","v":667},{"$f":"'Student Details Copy From SD'!B668","v":0},{"$f":"'Student Details Copy From SD'!F668","v":0},{"$f":"'Student Details Copy From SD'!H668","v":0}]
[{"$f":"'Student Details Copy From SD'!A669","v":668},{"$f":"'Student Details Copy From SD'!B669","v":0},{"$f":"'Student Details Copy From SD'!F669","v":0},{"$f":"'Student Details Copy From SD'!H669","v":0}]
[{"$f":"'Student Details Copy From SD'!A670","v":669},{"$f":"'Student Details Copy From SD'!B670","v":0},{"$f":"'Student Details Copy From SD'!F670","v":0},{"$f":"'Student Details Copy From SD'!H670","v":0}]
[{"$f":"'Student Details Copy From SD'!A671","v":670},{"$f":"'Student Details Copy From SD'!B671","v":0},{"$f":"'Student Details Copy From SD'!F671","v":0},{"$f":"'Student Details Copy From SD'!H671","v":0}]
[{"$f":"'Student Details Copy From SD'!A672","v":671},{"$f":"'Student Details Copy From SD'!B672","v":0},{"$f":"'Student Details Copy From SD'!F672","v":0},{"$f":"'Student Details Copy From SD'!H672","v":0}]
[{"$f":"'Student Details Copy From SD'!A673","v":672},{"$f":"'Student Details Copy From SD'!B673","v":0},{"$f":"'Student Details Copy From SD'!F673","v":0},{"$f":"'Student Details Copy From SD'!H673","v":0}]
[{"$f":"'Student Details Copy From SD'!A674","v":673},{"$f":"'Student Details Copy From SD'!B674","v":0},{"$f":"'Student Details Copy From SD'!F674","v":0},{"$f":"'Student Details Copy From SD'!H674","v":0}]
[{"$f":"'Student Details Copy From SD'!A675","v":674},{"$f":"'Student Details Copy From SD'!B675","v":0},{"$f":"'Student Details Copy From SD'!F675","v":0},{"$f":"'Student Details Copy From SD'!H675","v":0}]
[{"$f":"'Student Details Copy From SD'!A676","v":675},{"$f":"'Student Details Copy From SD'!B676","v":0},{"$f":"'Student Details Copy From SD'!F676","v":0},{"$f":"'Student Details Copy From SD'!H676","v":0}]
[{"$f":"'Student Details Copy From SD'!A677","v":676},{"$f":"'Student Details Copy From SD'!B677","v":0},{"$f":"'Student Details Copy From SD'!F677","v":0},{"$f":"'Student Details Copy From SD'!H677","v":0}]
[{"$f":"'Student Details Copy From SD'!A678","v":677},{"$f":"'Student Details Copy From SD'!B678","v":0},{"$f":"'Student Details Copy From SD'!F678","v":0},{"$f":"'Student Details Copy From SD'!H678","v":0}]
[{"$f":"'Student Details Copy From SD'!A679","v":678},{"$f":"'Student Details Copy From SD'!B679","v":0},{"$f":"'Student Details Copy From SD'!F679","v":0},{"$f":"'Student Details Copy From SD'!H679","v":0}]
[{"$f":"'Student Details Copy From SD'!A680","v":679},{"$f":"'Student Details Copy From SD'!B680","v":0},{"$f":"'Student Details Copy From SD'!F680","v":0},{"$f":"'Student Details Copy From SD'!H680","v":0}]
[{"$f":"'Student Details Copy From SD'!A681","v":680},{"$f":"'Student Details Copy From SD'!B681","v":0},{"$f":"'Student Details Copy From SD'!F681","v":0},{"$f":"'Student Details Copy From SD'!H681","v":0}]
[{"$f":"'Student Details Copy From SD'!A682","v":681},{"$f":"'Student Details Copy From SD'!B682","v":0},{"$f":"'Student Details Copy From SD'!F682","v":0},{"$f":"'Student Details Copy From SD'!H682","v":0}]
[{"$f":"'Student Details Copy From SD'!A683","v":682},{"$f":"'Student Details Copy From SD'!B683","v":0},{"$f":"'Student Details Copy From SD'!F683","v":0},{"$f":"'Student Details Copy From SD'!H683","v":0}]
[{"$f":"'Student Details Copy From SD'!A684","v":683},{"$f":"'Student Details Copy From SD'!B684","v":0},{"$f":"'Student Details Copy From SD'!F684","v":0},{"$f":"'Student Details Copy From SD'!H684","v":0}]
[{"$f":"'Student Details Copy From SD'!A685","v":684},{"$f":"'Student Details Copy From SD'!B685","v":0},{"$f":"'Student Details Copy From SD'!F685","v":0},{"$f":"'Student Details Copy From SD'!H685","v":0}]
[{"$f":"'Student Details Copy From SD'!A686","v":685},{"$f":"'Student Details Copy From SD'!B686","v":0},{"$f":"'Student Details Copy From SD'!F686","v":0},{"$f":"'Student Details Copy From SD'!H686","v":0}]
[{"$f":"'Student Details Copy From SD'!A687","v":686},{"$f":"'Student Details Copy From SD'!B687","v":0},{"$f":"'Student Details Copy From SD'!F687","v":0},{"$f":"'Student Details Copy From SD'!H687","v":0}]
[{"$f":"'Student Details Copy From SD'!A688","v":687},{"$f":"'Student Details Copy From SD'!B688","v":0},{"$f":"'Student Details Copy From SD'!F688","v":0},{"$f":"'Student Details Copy From SD'!H688","v":0}]
[{"$f":"'Student Details Copy From SD'!A689","v":688},{"$f":"'Student Details Copy From SD'!B689","v":0},{"$f":"'Student Details Copy From SD'!F689","v":0},{"$f":"'Student Details Copy From SD'!H689","v":0}]
[{"$f":"'Student Details Copy From SD'!A690","v":689},{"$f":"'Student Details Copy From SD'!B690","v":0},{"$f":"'Student Details Copy From SD'!F690","v":0},{"$f":"'Student Details Copy From SD'!H690","v":0}]
[{"$f":"'Student Details Copy From SD'!A691","v":690},{"$f":"'Student Details Copy From SD'!B691","v":0},{"$f":"'Student Details Copy From SD'!F691","v":0},{"$f":"'Student Details Copy From SD'!H691","v":0}]
[{"$f":"'Student Details Copy From SD'!A692","v":691},{"$f":"'Student Details Copy From SD'!B692","v":0},{"$f":"'Student Details Copy From SD'!F692","v":0},{"$f":"'Student Details Copy From SD'!H692","v":0}]
[{"$f":"'Student Details Copy From SD'!A693","v":692},{"$f":"'Student Details Copy From SD'!B693","v":0},{"$f":"'Student Details Copy From SD'!F693","v":0},{"$f":"'Student Details Copy From SD'!H693","v":0}]
[{"$f":"'Student Details Copy From SD'!A694","v":693},{"$f":"'Student Details Copy From SD'!B694","v":0},{"$f":"'Student Details Copy From SD'!F694","v":0},{"$f":"'Student Details Copy From SD'!H694","v":0}]
[{"$f":"'Student Details Copy From SD'!A695","v":694},{"$f":"'Student Details Copy From SD'!B695","v":0},{"$f":"'Student Details Copy From SD'!F695","v":0},{"$f":"'Student Details Copy From SD'!H695","v":0}]
[{"$f":"'Student Details Copy From SD'!A696","v":695},{"$f":"'Student Details Copy From SD'!B696","v":0},{"$f":"'Student Details Copy From SD'!F696","v":0},{"$f":"'Student Details Copy From SD'!H696","v":0}]
[{"$f":"'Student Details Copy From SD'!A697","v":696},{"$f":"'Student Details Copy From SD'!B697","v":0},{"$f":"'Student Details Copy From SD'!F697","v":0},{"$f":"'Student Details Copy From SD'!H697","v":0}]
[{"$f":"'Student Details Copy From SD'!A698","v":697},{"$f":"'Student Details Copy From SD'!B698","v":0},{"$f":"'Student Details Copy From SD'!F698","v":0},{"$f":"'Student Details Copy From SD'!H698","v":0}]
[{"$f":"'Student Details Copy From SD'!A699","v":698},{"$f":"'Student Details Copy From SD'!B699","v":0},{"$f":"'Student Details Copy From SD'!F699","v":0},{"$f":"'Student Details Copy From SD'!H699","v":0}]
[{"$f":"'Student Details Copy From SD'!A700","v":699},{"$f":"'Student Details Copy From SD'!B700","v":0},{"$f":"'Student Details Copy From SD'!F700","v":0},{"$f":"'Student Details Copy From SD'!H700","v":0}]
[{"$f":"'Student Details Copy From SD'!A701","v":700},{"$f":"'Student Details Copy From SD'!B701","v":0},{"$f":"'Student Details Copy From SD'!F701","v":0},{"$f":"'Student Details Copy From SD'!H701","v":0}]
[{"$f":"'Student Details Copy From SD'!A702","v":701},{"$f":"'Student Details Copy From SD'!B702","v":0},{"$f":"'Student Details Copy From SD'!F702","v":0},{"$f":"'Student Details Copy From SD'!H702","v":0}]
[{"$f":"'Student Details Copy From SD'!A703","v":702},{"$f":"'Student Details Copy From SD'!B703","v":0},{"$f":"'Student Details Copy From SD'!F703","v":0},{"$f":"'Student Details Copy From SD'!H703","v":0}]
[{"$f":"'Student Details Copy From SD'!A704","v":703},{"$f":"'Student Details Copy From SD'!B704","v":0},{"$f":"'Student Details Copy From SD'!F704","v":0},{"$f":"'Student Details Copy From SD'!H704","v":0}]
[{"$f":"'Student Details Copy From SD'!A705","v":704},{"$f":"'Student Details Copy From SD'!B705","v":0},{"$f":"'Student Details Copy From SD'!F705","v":0},{"$f":"'Student Details Copy From SD'!H705","v":0}]
[{"$f":"'Student Details Copy From SD'!A706","v":705},{"$f":"'Student Details Copy From SD'!B706","v":0},{"$f":"'Student Details Copy From SD'!F706","v":0},{"$f":"'Student Details Copy From SD'!H706","v":0}]
[{"$f":"'Student Details Copy From SD'!A707","v":706},{"$f":"'Student Details Copy From SD'!B707","v":0},{"$f":"'Student Details Copy From SD'!F707","v":0},{"$f":"'Student Details Copy From SD'!H707","v":0}]
[{"$f":"'Student Details Copy From SD'!A708","v":707},{"$f":"'Student Details Copy From SD'!B708","v":0},{"$f":"'Student Details Copy From SD'!F708","v":0},{"$f":"'Student Details Copy From SD'!H708","v":0}]
[{"$f":"'Student Details Copy From SD'!A709","v":708},{"$f":"'Student Details Copy From SD'!B709","v":0},{"$f":"'Student Details Copy From SD'!F709","v":0},{"$f":"'Student Details Copy From SD'!H709","v":0}]
[{"$f":"'Student Details Copy From SD'!A710","v":709},{"$f":"'Student Details Copy From SD'!B710","v":0},{"$f":"'Student Details Copy From SD'!F710","v":0},{"$f":"'Student Details Copy From SD'!H710","v":0}]
[{"$f":"'Student Details Copy From SD'!A711","v":710},{"$f":"'Student Details Copy From SD'!B711","v":0},{"$f":"'Student Details Copy From SD'!F711","v":0},{"$f":"'Student Details Copy From SD'!H711","v":0}]
[{"$f":"'Student Details Copy From SD'!A712","v":711},{"$f":"'Student Details Copy From SD'!B712","v":0},{"$f":"'Student Details Copy From SD'!F712","v":0},{"$f":"'Student Details Copy From SD'!H712","v":0}]
[{"$f":"'Student Details Copy From SD'!A713","v":712},{"$f":"'Student Details Copy From SD'!B713","v":0},{"$f":"'Student Details Copy From SD'!F713","v":0},{"$f":"'Student Details Copy From SD'!H713","v":0}]
[{"$f":"'Student Details Copy From SD'!A714","v":713},{"$f":"'Student Details Copy From SD'!B714","v":0},{"$f":"'Student Details Copy From SD'!F714","v":0},{"$f":"'Student Details Copy From SD'!H714","v":0}]
[{"$f":"'Student Details Copy From SD'!A715","v":714},{"$f":"'Student Details Copy From SD'!B715","v":0},{"$f":"'Student Details Copy From SD'!F715","v":0},{"$f":"'Student Details Copy From SD'!H715","v":0}]
[{"$f":"'Student Details Copy From SD'!A716","v":715},{"$f":"'Student Details Copy From SD'!B716","v":0},{"$f":"'Student Details Copy From SD'!F716","v":0},{"$f":"'Student Details Copy From SD'!H716","v":0}]
[{"$f":"'Student Details Copy From SD'!A717","v":716},{"$f":"'Student Details Copy From SD'!B717","v":0},{"$f":"'Student Details Copy From SD'!F717","v":0},{"$f":"'Student Details Copy From SD'!H717","v":0}]
[{"$f":"'Student Details Copy From SD'!A718","v":717},{"$f":"'Student Details Copy From SD'!B718","v":0},{"$f":"'Student Details Copy From SD'!F718","v":0},{"$f":"'Student Details Copy From SD'!H718","v":0}]
[{"$f":"'Student Details Copy From SD'!A719","v":718},{"$f":"'Student Details Copy From SD'!B719","v":0},{"$f":"'Student Details Copy From SD'!F719","v":0},{"$f":"'Student Details Copy From SD'!H719","v":0}]
[{"$f":"'Student Details Copy From SD'!A720","v":719},{"$f":"'Student Details Copy From SD'!B720","v":0},{"$f":"'Student Details Copy From SD'!F720","v":0},{"$f":"'Student Details Copy From SD'!H720","v":0}]
[{"$f":"'Student Details Copy From SD'!A721","v":720},{"$f":"'Student Details Copy From SD'!B721","v":0},{"$f":"'Student Details Copy From SD'!F721","v":0},{"$f":"'Student Details Copy From SD'!H721","v":0}]
[{"$f":"'Student Details Copy From SD'!A722","v":721},{"$f":"'Student Details Copy From SD'!B722","v":0},{"$f":"'Student Details Copy From SD'!F722","v":0},{"$f":"'Student Details Copy From SD'!H722","v":0}]
[{"$f":"'Student Details Copy From SD'!A723","v":722},{"$f":"'Student Details Copy From SD'!B723","v":0},{"$f":"'Student Details Copy From SD'!F723","v":0},{"$f":"'Student Details Copy From SD'!H723","v":0}]
[{"$f":"'Student Details Copy From SD'!A724","v":723},{"$f":"'Student Details Copy From SD'!B724","v":0},{"$f":"'Student Details Copy From SD'!F724","v":0},{"$f":"'Student Details Copy From SD'!H724","v":0}]
[{"$f":"'Student Details Copy From SD'!A725","v":724},{"$f":"'Student Details Copy From SD'!B725","v":0},{"$f":"'Student Details Copy From SD'!F725","v":0},{"$f":"'Student Details Copy From SD'!H725","v":0}]
[{"$f":"'Student Details Copy From SD'!A726","v":725},{"$f":"'Student Details Copy From SD'!B726","v":0},{"$f":"'Student Details Copy From SD'!F726","v":0},{"$f":"'Student Details Copy From SD'!H726","v":0}]
[{"$f":"'Student Details Copy From SD'!A727","v":726},{"$f":"'Student Details Copy From SD'!B727","v":0},{"$f":"'Student Details Copy From SD'!F727","v":0},{"$f":"'Student Details Copy From SD'!H727","v":0}]
[{"$f":"'Student Details Copy From SD'!A728","v":727},{"$f":"'Student Details Copy From SD'!B728","v":0},{"$f":"'Student Details Copy From SD'!F728","v":0},{"$f":"'Student Details Copy From SD'!H728","v":0}]
[{"$f":"'Student Details Copy From SD'!A729","v":728},{"$f":"'Student Details Copy From SD'!B729","v":0},{"$f":"'Student Details Copy From SD'!F729","v":0},{"$f":"'Student Details Copy From SD'!H729","v":0}]
[{"$f":"'Student Details Copy From SD'!A730","v":729},{"$f":"'Student Details Copy From SD'!B730","v":0},{"$f":"'Student Details Copy From SD'!F730","v":0},{"$f":"'Student Details Copy From SD'!H730","v":0}]
[{"$f":"'Student Details Copy From SD'!A731","v":730},{"$f":"'Student Details Copy From SD'!B731","v":0},{"$f":"'Student Details Copy From SD'!F731","v":0},{"$f":"'Student Details Copy From SD'!H731","v":0}]
[{"$f":"'Student Details Copy From SD'!A732","v":731},{"$f":"'Student Details Copy From SD'!B732","v":0},{"$f":"'Student Details Copy From SD'!F732","v":0},{"$f":"'Student Details Copy From SD'!H732","v":0}]
[{"$f":"'Student Details Copy From SD'!A733","v":732},{"$f":"'Student Details Copy From SD'!B733","v":0},{"$f":"'Student Details Copy From SD'!F733","v":0},{"$f":"'Student Details Copy From SD'!H733","v":0}]
[{"$f":"'Student Details Copy From SD'!A734","v":733},{"$f":"'Student Details Copy From SD'!B734","v":0},{"$f":"'Student Details Copy From SD'!F734","v":0},{"$f":"'Student Details Copy From SD'!H734","v":0}]
[{"$f":"'Student Details Copy From SD'!A735","v":734},{"$f":"'Student Details Copy From SD'!B735","v":0},{"$f":"'Student Details Copy From SD'!F735","v":0},{"$f":"'Student Details Copy From SD'!H735","v":0}]
[{"$f":"'Student Details Copy From SD'!A736","v":735},{"$f":"'Student Details Copy From SD'!B736","v":0},{"$f":"'Student Details Copy From SD'!F736","v":0},{"$f":"'Student Details Copy From SD'!H736","v":0}]
[{"$f":"'Student Details Copy From SD'!A737","v":736},{"$f":"'Student Details Copy From SD'!B737","v":0},{"$f":"'Student Details Copy From SD'!F737","v":0},{"$f":"'Student Details Copy From SD'!H737","v":0}]
[{"$f":"'Student Details Copy From SD'!A738","v":737},{"$f":"'Student Details Copy From SD'!B738","v":0},{"$f":"'Student Details Copy From SD'!F738","v":0},{"$f":"'Student Details Copy From SD'!H738","v":0}]
[{"$f":"'Student Details Copy From SD'!A739","v":738},{"$f":"'Student Details Copy From SD'!B739","v":0},{"$f":"'Student Details Copy From SD'!F739","v":0},{"$f":"'Student Details Copy From SD'!H739","v":0}]
[{"$f":"'Student Details Copy From SD'!A740","v":739},{"$f":"'Student Details Copy From SD'!B740","v":0},{"$f":"'Student Details Copy From SD'!F740","v":0},{"$f":"'Student Details Copy From SD'!H740","v":0}]
[{"$f":"'Student Details Copy From SD'!A741","v":740},{"$f":"'Student Details Copy From SD'!B741","v":0},{"$f":"'Student Details Copy From SD'!F741","v":0},{"$f":"'Student Details Copy From SD'!H741","v":0}]
[{"$f":"'Student Details Copy From SD'!A742","v":741},{"$f":"'Student Details Copy From SD'!B742","v":0},{"$f":"'Student Details Copy From SD'!F742","v":0},{"$f":"'Student Details Copy From SD'!H742","v":0}]
[{"$f":"'Student Details Copy From SD'!A743","v":742},{"$f":"'Student Details Copy From SD'!B743","v":0},{"$f":"'Student Details Copy From SD'!F743","v":0},{"$f":"'Student Details Copy From SD'!H743","v":0}]
[{"$f":"'Student Details Copy From SD'!A744","v":743},{"$f":"'Student Details Copy From SD'!B744","v":0},{"$f":"'Student Details Copy From SD'!F744","v":0},{"$f":"'Student Details Copy From SD'!H744","v":0}]
[{"$f":"'Student Details Copy From SD'!A745","v":744},{"$f":"'Student Details Copy From SD'!B745","v":0},{"$f":"'Student Details Copy From SD'!F745","v":0},{"$f":"'Student Details Copy From SD'!H745","v":0}]
[{"$f":"'Student Details Copy From SD'!A746","v":745},{"$f":"'Student Details Copy From SD'!B746","v":0},{"$f":"'Student Details Copy From SD'!F746","v":0},{"$f":"'Student Details Copy From SD'!H746","v":0}]
[{"$f":"'Student Details Copy From SD'!A747","v":746},{"$f":"'Student Details Copy From SD'!B747","v":0},{"$f":"'Student Details Copy From SD'!F747","v":0},{"$f":"'Student Details Copy From SD'!H747","v":0}]
[{"$f":"'Student Details Copy From SD'!A748","v":747},{"$f":"'Student Details Copy From SD'!B748","v":0},{"$f":"'Student Details Copy From SD'!F748","v":0},{"$f":"'Student Details Copy From SD'!H748","v":0}]
[{"$f":"'Student Details Copy From SD'!A749","v":748},{"$f":"'Student Details Copy From SD'!B749","v":0},{"$f":"'Student Details Copy From SD'!F749","v":0},{"$f":"'Student Details Copy From SD'!H749","v":0}]
[{"$f":"'Student Details Copy From SD'!A750","v":749},{"$f":"'Student Details Copy From SD'!B750","v":0},{"$f":"'Student Details Copy From SD'!F750","v":0},{"$f":"'Student Details Copy From SD'!H750","v":0}]
[{"$f":"'Student Details Copy From SD'!A751","v":750},{"$f":"'Student Details Copy From SD'!B751","v":0},{"$f":"'Student Details Copy From SD'!F751","v":0},{"$f":"'Student Details Copy From SD'!H751","v":0}]
[{"$f":"'Student Details Copy From SD'!A752","v":751},{"$f":"'Student Details Copy From SD'!B752","v":0},{"$f":"'Student Details Copy From SD'!F752","v":0},{"$f":"'Student Details Copy From SD'!H752","v":0}]
[{"$f":"'Student Details Copy From SD'!A753","v":752},{"$f":"'Student Details Copy From SD'!B753","v":0},{"$f":"'Student Details Copy From SD'!F753","v":0},{"$f":"'Student Details Copy From SD'!H753","v":0}]
[{"$f":"'Student Details Copy From SD'!A754","v":753},{"$f":"'Student Details Copy From SD'!B754","v":0},{"$f":"'Student Details Copy From SD'!F754","v":0},{"$f":"'Student Details Copy From SD'!H754","v":0}]
[{"$f":"'Student Details Copy From SD'!A755","v":754},{"$f":"'Student Details Copy From SD'!B755","v":0},{"$f":"'Student Details Copy From SD'!F755","v":0},{"$f":"'Student Details Copy From SD'!H755","v":0}]
[{"$f":"'Student Details Copy From SD'!A756","v":755},{"$f":"'Student Details Copy From SD'!B756","v":0},{"$f":"'Student Details Copy From SD'!F756","v":0},{"$f":"'Student Details Copy From SD'!H756","v":0}]
[{"$f":"'Student Details Copy From SD'!A757","v":756},{"$f":"'Student Details Copy From SD'!B757","v":0},{"$f":"'Student Details Copy From SD'!F757","v":0},{"$f":"'Student Details Copy From SD'!H757","v":0}]
[{"$f":"'Student Details Copy From SD'!A758","v":757},{"$f":"'Student Details Copy From SD'!B758","v":0},{"$f":"'Student Details Copy From SD'!F758","v":0},{"$f":"'Student Details Copy From SD'!H758","v":0}]
[{"$f":"'Student Details Copy From SD'!A759","v":758},{"$f":"'Student Details Copy From SD'!B759","v":0},{"$f":"'Student Details Copy From SD'!F759","v":0},{"$f":"'Student Details Copy From SD'!H759","v":0}]
[{"$f":"'Student Details Copy From SD'!A760","v":759},{"$f":"'Student Details Copy From SD'!B760","v":0},{"$f":"'Student Details Copy From SD'!F760","v":0},{"$f":"'Student Details Copy From SD'!H760","v":0}]
[{"$f":"'Student Details Copy From SD'!A761","v":760},{"$f":"'Student Details Copy From SD'!B761","v":0},{"$f":"'Student Details Copy From SD'!F761","v":0},{"$f":"'Student Details Copy From SD'!H761","v":0}]
[{"$f":"'Student Details Copy From SD'!A762","v":761},{"$f":"'Student Details Copy From SD'!B762","v":0},{"$f":"'Student Details Copy From SD'!F762","v":0},{"$f":"'Student Details Copy From SD'!H762","v":0}]
[{"$f":"'Student Details Copy From SD'!A763","v":762},{"$f":"'Student Details Copy From SD'!B763","v":0},{"$f":"'Student Details Copy From SD'!F763","v":0},{"$f":"'Student Details Copy From SD'!H763","v":0}]
[{"$f":"'Student Details Copy From SD'!A764","v":763},{"$f":"'Student Details Copy From SD'!B764","v":0},{"$f":"'Student Details Copy From SD'!F764","v":0},{"$f":"'Student Details Copy From SD'!H764","v":0}]
[{"$f":"'Student Details Copy From SD'!A765","v":764},{"$f":"'Student Details Copy From SD'!B765","v":0},{"$f":"'Student Details Copy From SD'!F765","v":0},{"$f":"'Student Details Copy From SD'!H765","v":0}]
[{"$f":"'Student Details Copy From SD'!A766","v":765},{"$f":"'Student Details Copy From SD'!B766","v":0},{"$f":"'Student Details Copy From SD'!F766","v":0},{"$f":"'Student Details Copy From SD'!H766","v":0}]
[{"$f":"'Student Details Copy From SD'!A767","v":766},{"$f":"'Student Details Copy From SD'!B767","v":0},{"$f":"'Student Details Copy From SD'!F767","v":0},{"$f":"'Student Details Copy From SD'!H767","v":0}]
[{"$f":"'Student Details Copy From SD'!A768","v":767},{"$f":"'Student Details Copy From SD'!B768","v":0},{"$f":"'Student Details Copy From SD'!F768","v":0},{"$f":"'Student Details Copy From SD'!H768","v":0}]
[{"$f":"'Student Details Copy From SD'!A769","v":768},{"$f":"'Student Details Copy From SD'!B769","v":0},{"$f":"'Student Details Copy From SD'!F769","v":0},{"$f":"'Student Details Copy From SD'!H769","v":0}]
[{"$f":"'Student Details Copy From SD'!A770","v":769},{"$f":"'Student Details Copy From SD'!B770","v":0},{"$f":"'Student Details Copy From SD'!F770","v":0},{"$f":"'Student Details Copy From SD'!H770","v":0}]
[{"$f":"'Student Details Copy From SD'!A771","v":770},{"$f":"'Student Details Copy From SD'!B771","v":0},{"$f":"'Student Details Copy From SD'!F771","v":0},{"$f":"'Student Details Copy From SD'!H771","v":0}]
[{"$f":"'Student Details Copy From SD'!A772","v":771},{"$f":"'Student Details Copy From SD'!B772","v":0},{"$f":"'Student Details Copy From SD'!F772","v":0},{"$f":"'Student Details Copy From SD'!H772","v":0}]
[{"$f":"'Student Details Copy From SD'!A773","v":772},{"$f":"'Student Details Copy From SD'!B773","v":0},{"$f":"'Student Details Copy From SD'!F773","v":0},{"$f":"'Student Details Copy From SD'!H773","v":0}]
[{"$f":"'Student Details Copy From SD'!A774","v":773},{"$f":"'Student Details Copy From SD'!B774","v":0},{"$f":"'Student Details Copy From SD'!F774","v":0},{"$f":"'Student Details Copy From SD'!H774","v":0}]
[{"$f":"'Student Details Copy From SD'!A775","v":774},{"$f":"'Student Details Copy From SD'!B775","v":0},{"$f":"'Student Details Copy From SD'!F775","v":0},{"$f":"'Student Details Copy From SD'!H775","v":0}]
[{"$f":"'Student Details Copy From SD'!A776","v":775},{"$f":"'Student Details Copy From SD'!B776","v":0},{"$f":"'Student Details Copy From SD'!F776","v":0},{"$f":"'Student Details Copy From SD'!H776","v":0}]
[{"$f":"'Student Details Copy From SD'!A777","v":776},{"$f":"'Student Details Copy From SD'!B777","v":0},{"$f":"'Student Details Copy From SD'!F777","v":0},{"$f":"'Student Details Copy From SD'!H777","v":0}]
[{"$f":"'Student Details Copy From SD'!A778","v":777},{"$f":"'Student Details Copy From SD'!B778","v":0},{"$f":"'Student Details Copy From SD'!F778","v":0},{"$f":"'Student Details Copy From SD'!H778","v":0}]
[{"$f":"'Student Details Copy From SD'!A779","v":778},{"$f":"'Student Details Copy From SD'!B779","v":0},{"$f":"'Student Details Copy From SD'!F779","v":0},{"$f":"'Student Details Copy From SD'!H779","v":0}]
[{"$f":"'Student Details Copy From SD'!A780","v":779},{"$f":"'Student Details Copy From SD'!B780","v":0},{"$f":"'Student Details Copy From SD'!F780","v":0},{"$f":"'Student Details Copy From SD'!H780","v":0}]
[{"$f":"'Student Details Copy From SD'!A781","v":780},{"$f":"'Student Details Copy From SD'!B781","v":0},{"$f":"'Student Details Copy From SD'!F781","v":0},{"$f":"'Student Details Copy From SD'!H781","v":0}]
[{"$f":"'Student Details Copy From SD'!A782","v":781},{"$f":"'Student Details Copy From SD'!B782","v":0},{"$f":"'Student Details Copy From SD'!F782","v":0},{"$f":"'Student Details Copy From SD'!H782","v":0}]
[{"$f":"'Student Details Copy From SD'!A783","v":782},{"$f":"'Student Details Copy From SD'!B783","v":0},{"$f":"'Student Details Copy From SD'!F783","v":0},{"$f":"'Student Details Copy From SD'!H783","v":0}]
[{"$f":"'Student Details Copy From SD'!A784","v":783},{"$f":"'Student Details Copy From SD'!B784","v":0},{"$f":"'Student Details Copy From SD'!F784","v":0},{"$f":"'Student Details Copy From SD'!H784","v":0}]
[{"$f":"'Student Details Copy From SD'!A785","v":784},{"$f":"'Student Details Copy From SD'!B785","v":0},{"$f":"'Student Details Copy From SD'!F785","v":0},{"$f":"'Student Details Copy From SD'!H785","v":0}]
[{"$f":"'Student Details Copy From SD'!A786","v":785},{"$f":"'Student Details Copy From SD'!B786","v":0},{"$f":"'Student Details Copy From SD'!F786","v":0},{"$f":"'Student Details Copy From SD'!H786","v":0}]
[{"$f":"'Student Details Copy From SD'!A787","v":786},{"$f":"'Student Details Copy From SD'!B787","v":0},{"$f":"'Student Details Copy From SD'!F787","v":0},{"$f":"'Student Details Copy From SD'!H787","v":0}]
[{"$f":"'Student Details Copy From SD'!A788","v":787},{"$f":"'Student Details Copy From SD'!B788","v":0},{"$f":"'Student Details Copy From SD'!F788","v":0},{"$f":"'Student Details Copy From SD'!H788","v":0}]
[{"$f":"'Student Details Copy From SD'!A789","v":788},{"$f":"'Student Details Copy From SD'!B789","v":0},{"$f":"'Student Details Copy From SD'!F789","v":0},{"$f":"'Student Details Copy From SD'!H789","v":0}]
[{"$f":"'Student Details Copy From SD'!A790","v":789},{"$f":"'Student Details Copy From SD'!B790","v":0},{"$f":"'Student Details Copy From SD'!F790","v":0},{"$f":"'Student Details Copy From SD'!H790","v":0}]
[{"$f":"'Student Details Copy From SD'!A791","v":790},{"$f":"'Student Details Copy From SD'!B791","v":0},{"$f":"'Student Details Copy From SD'!F791","v":0},{"$f":"'Student Details Copy From SD'!H791","v":0}]
[{"$f":"'Student Details Copy From SD'!A792","v":791},{"$f":"'Student Details Copy From SD'!B792","v":0},{"$f":"'Student Details Copy From SD'!F792","v":0},{"$f":"'Student Details Copy From SD'!H792","v":0}]
[{"$f":"'Student Details Copy From SD'!A793","v":792},{"$f":"'Student Details Copy From SD'!B793","v":0},{"$f":"'Student Details Copy From SD'!F793","v":0},{"$f":"'Student Details Copy From SD'!H793","v":0}]
[{"$f":"'Student Details Copy From SD'!A794","v":793},{"$f":"'Student Details Copy From SD'!B794","v":0},{"$f":"'Student Details Copy From SD'!F794","v":0},{"$f":"'Student Details Copy From SD'!H794","v":0}]
[{"$f":"'Student Details Copy From SD'!A795","v":794},{"$f":"'Student Details Copy From SD'!B795","v":0},{"$f":"'Student Details Copy From SD'!F795","v":0},{"$f":"'Student Details Copy From SD'!H795","v":0}]
[{"$f":"'Student Details Copy From SD'!A796","v":795},{"$f":"'Student Details Copy From SD'!B796","v":0},{"$f":"'Student Details Copy From SD'!F796","v":0},{"$f":"'Student Details Copy From SD'!H796","v":0}]
[{"$f":"'Student Details Copy From SD'!A797","v":796},{"$f":"'Student Details Copy From SD'!B797","v":0},{"$f":"'Student Details Copy From SD'!F797","v":0},{"$f":"'Student Details Copy From SD'!H797","v":0}]
[{"$f":"'Student Details Copy From SD'!A798","v":797},{"$f":"'Student Details Copy From SD'!B798","v":0},{"$f":"'Student Details Copy From SD'!F798","v":0},{"$f":"'Student Details Copy From SD'!H798","v":0}]
[{"$f":"'Student Details Copy From SD'!A799","v":798},{"$f":"'Student Details Copy From SD'!B799","v":0},{"$f":"'Student Details Copy From SD'!F799","v":0},{"$f":"'Student Details Copy From SD'!H799","v":0}]
[{"$f":"'Student Details Copy From SD'!A800","v":799},{"$f":"'Student Details Copy From SD'!B800","v":0},{"$f":"'Student Details Copy From SD'!F800","v":0},{"$f":"'Student Details Copy From SD'!H800","v":0}]
[{"$f":"'Student Details Copy From SD'!A801","v":800},{"$f":"'Student Details Copy From SD'!B801","v":0},{"$f":"'Student Details Copy From SD'!F801","v":0},{"$f":"'Student Details Copy From SD'!H801","v":0}]
[{"$f":"'Student Details Copy From SD'!A802","v":801},{"$f":"'Student Details Copy From SD'!B802","v":0},{"$f":"'Student Details Copy From SD'!F802","v":0},{"$f":"'Student Details Copy From SD'!H802","v":0}]
[{"$f":"'Student Details Copy From SD'!A803","v":802},{"$f":"'Student Details Copy From SD'!B803","v":0},{"$f":"'Student Details Copy From SD'!F803","v":0},{"$f":"'Student Details Copy From SD'!H803","v":0}]
[{"$f":"'Student Details Copy From SD'!A804","v":803},{"$f":"'Student Details Copy From SD'!B804","v":0},{"$f":"'Student Details Copy From SD'!F804","v":0},{"$f":"'Student Details Copy From SD'!H804","v":0}]
[{"$f":"'Student Details Copy From SD'!A805","v":804},{"$f":"'Student Details Copy From SD'!B805","v":0},{"$f":"'Student Details Copy From SD'!F805","v":0},{"$f":"'Student Details Copy From SD'!H805","v":0}]
[{"$f":"'Student Details Copy From SD'!A806","v":805},{"$f":"'Student Details Copy From SD'!B806","v":0},{"$f":"'Student Details Copy From SD'!F806","v":0},{"$f":"'Student Details Copy From SD'!H806","v":0}]
[{"$f":"'Student Details Copy From SD'!A807","v":806},{"$f":"'Student Details Copy From SD'!B807","v":0},{"$f":"'Student Details Copy From SD'!F807","v":0},{"$f":"'Student Details Copy From SD'!H807","v":0}]
[{"$f":"'Student Details Copy From SD'!A808","v":807},{"$f":"'Student Details Copy From SD'!B808","v":0},{"$f":"'Student Details Copy From SD'!F808","v":0},{"$f":"'Student Details Copy From SD'!H808","v":0}]
[{"$f":"'Student Details Copy From SD'!A809","v":808},{"$f":"'Student Details Copy From SD'!B809","v":0},{"$f":"'Student Details Copy From SD'!F809","v":0},{"$f":"'Student Details Copy From SD'!H809","v":0}]
[{"$f":"'Student Details Copy From SD'!A810","v":809},{"$f":"'Student Details Copy From SD'!B810","v":0},{"$f":"'Student Details Copy From SD'!F810","v":0},{"$f":"'Student Details Copy From SD'!H810","v":0}]
[{"$f":"'Student Details Copy From SD'!A811","v":810},{"$f":"'Student Details Copy From SD'!B811","v":0},{"$f":"'Student Details Copy From SD'!F811","v":0},{"$f":"'Student Details Copy From SD'!H811","v":0}]
[{"$f":"'Student Details Copy From SD'!A812","v":811},{"$f":"'Student Details Copy From SD'!B812","v":0},{"$f":"'Student Details Copy From SD'!F812","v":0},{"$f":"'Student Details Copy From SD'!H812","v":0}]
[{"$f":"'Student Details Copy From SD'!A813","v":812},{"$f":"'Student Details Copy From SD'!B813","v":0},{"$f":"'Student Details Copy From SD'!F813","v":0},{"$f":"'Student Details Copy From SD'!H813","v":0}]
[{"$f":"'Student Details Copy From SD'!A814","v":813},{"$f":"'Student Details Copy From SD'!B814","v":0},{"$f":"'Student Details Copy From SD'!F814","v":0},{"$f":"'Student Details Copy From SD'!H814","v":0}]
[{"$f":"'Student Details Copy From SD'!A815","v":814},{"$f":"'Student Details Copy From SD'!B815","v":0},{"$f":"'Student Details Copy From SD'!F815","v":0},{"$f":"'Student Details Copy From SD'!H815","v":0}]
[{"$f":"'Student Details Copy From SD'!A816","v":815},{"$f":"'Student Details Copy From SD'!B816","v":0},{"$f":"'Student Details Copy From SD'!F816","v":0},{"$f":"'Student Details Copy From SD'!H816","v":0}]
[{"$f":"'Student Details Copy From SD'!A817","v":816},{"$f":"'Student Details Copy From SD'!B817","v":0},{"$f":"'Student Details Copy From SD'!F817","v":0},{"$f":"'Student Details Copy From SD'!H817","v":0}]
[{"$f":"'Student Details Copy From SD'!A818","v":817},{"$f":"'Student Details Copy From SD'!B818","v":0},{"$f":"'Student Details Copy From SD'!F818","v":0},{"$f":"'Student Details Copy From SD'!H818","v":0}]
[{"$f":"'Student Details Copy From SD'!A819","v":818},{"$f":"'Student Details Copy From SD'!B819","v":0},{"$f":"'Student Details Copy From SD'!F819","v":0},{"$f":"'Student Details Copy From SD'!H819","v":0}]
[{"$f":"'Student Details Copy From SD'!A820","v":819},{"$f":"'Student Details Copy From SD'!B820","v":0},{"$f":"'Student Details Copy From SD'!F820","v":0},{"$f":"'Student Details Copy From SD'!H820","v":0}]
[{"$f":"'Student Details Copy From SD'!A821","v":820},{"$f":"'Student Details Copy From SD'!B821","v":0},{"$f":"'Student Details Copy From SD'!F821","v":0},{"$f":"'Student Details Copy From SD'!H821","v":0}]
[{"$f":"'Student Details Copy From SD'!A822","v":821},{"$f":"'Student Details Copy From SD'!B822","v":0},{"$f":"'Student Details Copy From SD'!F822","v":0},{"$f":"'Student Details Copy From SD'!H822","v":0}]
[{"$f":"'Student Details Copy From SD'!A823","v":822},{"$f":"'Student Details Copy From SD'!B823","v":0},{"$f":"'Student Details Copy From SD'!F823","v":0},{"$f":"'Student Details Copy From SD'!H823","v":0}]
[{"$f":"'Student Details Copy From SD'!A824","v":823},{"$f":"'Student Details Copy From SD'!B824","v":0},{"$f":"'Student Details Copy From SD'!F824","v":0},{"$f":"'Student Details Copy From SD'!H824","v":0}]
[{"$f":"'Student Details Copy From SD'!A825","v":824},{"$f":"'Student Details Copy From SD'!B825","v":0},{"$f":"'Student Details Copy From SD'!F825","v":0},{"$f":"'Student Details Copy From SD'!H825","v":0}]
[{"$f":"'Student Details Copy From SD'!A826","v":825},{"$f":"'Student Details Copy From SD'!B826","v":0},{"$f":"'Student Details Copy From SD'!F826","v":0},{"$f":"'Student Details Copy From SD'!H826","v":0}]
[{"$f":"'Student Details Copy From SD'!A827","v":826},{"$f":"'Student Details Copy From SD'!B827","v":0},{"$f":"'Student Details Copy From SD'!F827","v":0},{"$f":"'Student Details Copy From SD'!H827","v":0}]
[{"$f":"'Student Details Copy From SD'!A828","v":827},{"$f":"'Student Details Copy From SD'!B828","v":0},{"$f":"'Student Details Copy From SD'!F828","v":0},{"$f":"'Student Details Copy From SD'!H828","v":0}]
[{"$f":"'Student Details Copy From SD'!A829","v":828},{"$f":"'Student Details Copy From SD'!B829","v":0},{"$f":"'Student Details Copy From SD'!F829","v":0},{"$f":"'Student Details Copy From SD'!H829","v":0}]
[{"$f":"'Student Details Copy From SD'!A830","v":829},{"$f":"'Student Details Copy From SD'!B830","v":0},{"$f":"'Student Details Copy From SD'!F830","v":0},{"$f":"'Student Details Copy From SD'!H830","v":0}]
[{"$f":"'Student Details Copy From SD'!A831","v":830},{"$f":"'Student Details Copy From SD'!B831","v":0},{"$f":"'Student Details Copy From SD'!F831","v":0},{"$f":"'Student Details Copy From SD'!H831","v":0}]
[{"$f":"'Student Details Copy From SD'!A832","v":831},{"$f":"'Student Details Copy From SD'!B832","v":0},{"$f":"'Student Details Copy From SD'!F832","v":0},{"$f":"'Student Details Copy From SD'!H832","v":0}]
[{"$f":"'Student Details Copy From SD'!A833","v":832},{"$f":"'Student Details Copy From SD'!B833","v":0},{"$f":"'Student Details Copy From SD'!F833","v":0},{"$f":"'Student Details Copy From SD'!H833","v":0}]
[{"$f":"'Student Details Copy From SD'!A834","v":833},{"$f":"'Student Details Copy From SD'!B834","v":0},{"$f":"'Student Details Copy From SD'!F834","v":0},{"$f":"'Student Details Copy From SD'!H834","v":0}]
[{"$f":"'Student Details Copy From SD'!A835","v":834},{"$f":"'Student Details Copy From SD'!B835","v":0},{"$f":"'Student Details Copy From SD'!F835","v":0},{"$f":"'Student Details Copy From SD'!H835","v":0}]
[{"$f":"'Student Details Copy From SD'!A836","v":835},{"$f":"'Student Details Copy From SD'!B836","v":0},{"$f":"'Student Details Copy From SD'!F836","v":0},{"$f":"'Student Details Copy From SD'!H836","v":0}]
[{"$f":"'Student Details Copy From SD'!A837","v":836},{"$f":"'Student Details Copy From SD'!B837","v":0},{"$f":"'Student Details Copy From SD'!F837","v":0},{"$f":"'Student Details Copy From SD'!H837","v":0}]
[{"$f":"'Student Details Copy From SD'!A838","v":837},{"$f":"'Student Details Copy From SD'!B838","v":0},{"$f":"'Student Details Copy From SD'!F838","v":0},{"$f":"'Student Details Copy From SD'!H838","v":0}]
[{"$f":"'Student Details Copy From SD'!A839","v":838},{"$f":"'Student Details Copy From SD'!B839","v":0},{"$f":"'Student Details Copy From SD'!F839","v":0},{"$f":"'Student Details Copy From SD'!H839","v":0}]
[{"$f":"'Student Details Copy From SD'!A840","v":839},{"$f":"'Student Details Copy From SD'!B840","v":0},{"$f":"'Student Details Copy From SD'!F840","v":0},{"$f":"'Student Details Copy From SD'!H840","v":0}]
[{"$f":"'Student Details Copy From SD'!A841","v":840},{"$f":"'Student Details Copy From SD'!B841","v":0},{"$f":"'Student Details Copy From SD'!F841","v":0},{"$f":"'Student Details Copy From SD'!H841","v":0}]
[{"$f":"'Student Details Copy From SD'!A842","v":841},{"$f":"'Student Details Copy From SD'!B842","v":0},{"$f":"'Student Details Copy From SD'!F842","v":0},{"$f":"'Student Details Copy From SD'!H842","v":0}]
[{"$f":"'Student Details Copy From SD'!A843","v":842},{"$f":"'Student Details Copy From SD'!B843","v":0},{"$f":"'Student Details Copy From SD'!F843","v":0},{"$f":"'Student Details Copy From SD'!H843","v":0}]
[{"$f":"'Student Details Copy From SD'!A844","v":843},{"$f":"'Student Details Copy From SD'!B844","v":0},{"$f":"'Student Details Copy From SD'!F844","v":0},{"$f":"'Student Details Copy From SD'!H844","v":0}]
[{"$f":"'Student Details Copy From SD'!A845","v":844},{"$f":"'Student Details Copy From SD'!B845","v":0},{"$f":"'Student Details Copy From SD'!F845","v":0},{"$f":"'Student Details Copy From SD'!H845","v":0}]
[{"$f":"'Student Details Copy From SD'!A846","v":845},{"$f":"'Student Details Copy From SD'!B846","v":0},{"$f":"'Student Details Copy From SD'!F846","v":0},{"$f":"'Student Details Copy From SD'!H846","v":0}]
[{"$f":"'Student Details Copy From SD'!A847","v":846},{"$f":"'Student Details Copy From SD'!B847","v":0},{"$f":"'Student Details Copy From SD'!F847","v":0},{"$f":"'Student Details Copy From SD'!H847","v":0}]
[{"$f":"'Student Details Copy From SD'!A848","v":847},{"$f":"'Student Details Copy From SD'!B848","v":0},{"$f":"'Student Details Copy From SD'!F848","v":0},{"$f":"'Student Details Copy From SD'!H848","v":0}]
[{"$f":"'Student Details Copy From SD'!A849","v":848},{"$f":"'Student Details Copy From SD'!B849","v":0},{"$f":"'Student Details Copy From SD'!F849","v":0},{"$f":"'Student Details Copy From SD'!H849","v":0}]
[{"$f":"'Student Details Copy From SD'!A850","v":849},{"$f":"'Student Details Copy From SD'!B850","v":0},{"$f":"'Student Details Copy From SD'!F850","v":0},{"$f":"'Student Details Copy From SD'!H850","v":0}]
[{"$f":"'Student Details Copy From SD'!A851","v":850},{"$f":"'Student Details Copy From SD'!B851","v":0},{"$f":"'Student Details Copy From SD'!F851","v":0},{"$f":"'Student Details Copy From SD'!H851","v":0}]
[{"$f":"'Student Details Copy From SD'!A852","v":851},{"$f":"'Student Details Copy From SD'!B852","v":0},{"$f":"'Student Details Copy From SD'!F852","v":0},{"$f":"'Student Details Copy From SD'!H852","v":0}]
[{"$f":"'Student Details Copy From SD'!A853","v":852},{"$f":"'Student Details Copy From SD'!B853","v":0},{"$f":"'Student Details Copy From SD'!F853","v":0},{"$f":"'Student Details Copy From SD'!H853","v":0}]
[{"$f":"'Student Details Copy From SD'!A854","v":853},{"$f":"'Student Details Copy From SD'!B854","v":0},{"$f":"'Student Details Copy From SD'!F854","v":0},{"$f":"'Student Details Copy From SD'!H854","v":0}]
[{"$f":"'Student Details Copy From SD'!A855","v":854},{"$f":"'Student Details Copy From SD'!B855","v":0},{"$f":"'Student Details Copy From SD'!F855","v":0},{"$f":"'Student Details Copy From SD'!H855","v":0}]
[{"$f":"'Student Details Copy From SD'!A856","v":855},{"$f":"'Student Details Copy From SD'!B856","v":0},{"$f":"'Student Details Copy From SD'!F856","v":0},{"$f":"'Student Details Copy From SD'!H856","v":0}]
[{"$f":"'Student Details Copy From SD'!A857","v":856},{"$f":"'Student Details Copy From SD'!B857","v":0},{"$f":"'Student Details Copy From SD'!F857","v":0},{"$f":"'Student Details Copy From SD'!H857","v":0}]
[{"$f":"'Student Details Copy From SD'!A858","v":857},{"$f":"'Student Details Copy From SD'!B858","v":0},{"$f":"'Student Details Copy From SD'!F858","v":0},{"$f":"'Student Details Copy From SD'!H858","v":0}]
[{"$f":"'Student Details Copy From SD'!A859","v":858},{"$f":"'Student Details Copy From SD'!B859","v":0},{"$f":"'Student Details Copy From SD'!F859","v":0},{"$f":"'Student Details Copy From SD'!H859","v":0}]
[{"$f":"'Student Details Copy From SD'!A860","v":859},{"$f":"'Student Details Copy From SD'!B860","v":0},{"$f":"'Student Details Copy From SD'!F860","v":0},{"$f":"'Student Details Copy From SD'!H860","v":0}]
[{"$f":"'Student Details Copy From SD'!A861","v":860},{"$f":"'Student Details Copy From SD'!B861","v":0},{"$f":"'Student Details Copy From SD'!F861","v":0},{"$f":"'Student Details Copy From SD'!H861","v":0}]
[{"$f":"'Student Details Copy From SD'!A862","v":861},{"$f":"'Student Details Copy From SD'!B862","v":0},{"$f":"'Student Details Copy From SD'!F862","v":0},{"$f":"'Student Details Copy From SD'!H862","v":0}]
[{"$f":"'Student Details Copy From SD'!A863","v":862},{"$f":"'Student Details Copy From SD'!B863","v":0},{"$f":"'Student Details Copy From SD'!F863","v":0},{"$f":"'Student Details Copy From SD'!H863","v":0}]
[{"$f":"'Student Details Copy From SD'!A864","v":863},{"$f":"'Student Details Copy From SD'!B864","v":0},{"$f":"'Student Details Copy From SD'!F864","v":0},{"$f":"'Student Details Copy From SD'!H864","v":0}]
[{"$f":"'Student Details Copy From SD'!A865","v":864},{"$f":"'Student Details Copy From SD'!B865","v":0},{"$f":"'Student Details Copy From SD'!F865","v":0},{"$f":"'Student Details Copy From SD'!H865","v":0}]
[{"$f":"'Student Details Copy From SD'!A866","v":865},{"$f":"'Student Details Copy From SD'!B866","v":0},{"$f":"'Student Details Copy From SD'!F866","v":0},{"$f":"'Student Details Copy From SD'!H866","v":0}]
[{"$f":"'Student Details Copy From SD'!A867","v":866},{"$f":"'Student Details Copy From SD'!B867","v":0},{"$f":"'Student Details Copy From SD'!F867","v":0},{"$f":"'Student Details Copy From SD'!H867","v":0}]
[{"$f":"'Student Details Copy From SD'!A868","v":867},{"$f":"'Student Details Copy From SD'!B868","v":0},{"$f":"'Student Details Copy From SD'!F868","v":0},{"$f":"'Student Details Copy From SD'!H868","v":0}]
[{"$f":"'Student Details Copy From SD'!A869","v":868},{"$f":"'Student Details Copy From SD'!B869","v":0},{"$f":"'Student Details Copy From SD'!F869","v":0},{"$f":"'Student Details Copy From SD'!H869","v":0}]
[{"$f":"'Student Details Copy From SD'!A870","v":869},{"$f":"'Student Details Copy From SD'!B870","v":0},{"$f":"'Student Details Copy From SD'!F870","v":0},{"$f":"'Student Details Copy From SD'!H870","v":0}]
[{"$f":"'Student Details Copy From SD'!A871","v":870},{"$f":"'Student Details Copy From SD'!B871","v":0},{"$f":"'Student Details Copy From SD'!F871","v":0},{"$f":"'Student Details Copy From SD'!H871","v":0}]
[{"$f":"'Student Details Copy From SD'!A872","v":871},{"$f":"'Student Details Copy From SD'!B872","v":0},{"$f":"'Student Details Copy From SD'!F872","v":0},{"$f":"'Student Details Copy From SD'!H872","v":0}]
[{"$f":"'Student Details Copy From SD'!A873","v":872},{"$f":"'Student Details Copy From SD'!B873","v":0},{"$f":"'Student Details Copy From SD'!F873","v":0},{"$f":"'Student Details Copy From SD'!H873","v":0}]
[{"$f":"'Student Details Copy From SD'!A874","v":873},{"$f":"'Student Details Copy From SD'!B874","v":0},{"$f":"'Student Details Copy From SD'!F874","v":0},{"$f":"'Student Details Copy From SD'!H874","v":0}]
[{"$f":"'Student Details Copy From SD'!A875","v":874},{"$f":"'Student Details Copy From SD'!B875","v":0},{"$f":"'Student Details Copy From SD'!F875","v":0},{"$f":"'Student Details Copy From SD'!H875","v":0}]
[{"$f":"'Student Details Copy From SD'!A876","v":875},{"$f":"'Student Details Copy From SD'!B876","v":0},{"$f":"'Student Details Copy From SD'!F876","v":0},{"$f":"'Student Details Copy From SD'!H876","v":0}]
[{"$f":"'Student Details Copy From SD'!A877","v":876},{"$f":"'Student Details Copy From SD'!B877","v":0},{"$f":"'Student Details Copy From SD'!F877","v":0},{"$f":"'Student Details Copy From SD'!H877","v":0}]
[{"$f":"'Student Details Copy From SD'!A878","v":877},{"$f":"'Student Details Copy From SD'!B878","v":0},{"$f":"'Student Details Copy From SD'!F878","v":0},{"$f":"'Student Details Copy From SD'!H878","v":0}]
[{"$f":"'Student Details Copy From SD'!A879","v":878},{"$f":"'Student Details Copy From SD'!B879","v":0},{"$f":"'Student Details Copy From SD'!F879","v":0},{"$f":"'Student Details Copy From SD'!H879","v":0}]
[{"$f":"'Student Details Copy From SD'!A880","v":879},{"$f":"'Student Details Copy From SD'!B880","v":0},{"$f":"'Student Details Copy From SD'!F880","v":0},{"$f":"'Student Details Copy From SD'!H880","v":0}]
[{"$f":"'Student Details Copy From SD'!A881","v":880},{"$f":"'Student Details Copy From SD'!B881","v":0},{"$f":"'Student Details Copy From SD'!F881","v":0},{"$f":"'Student Details Copy From SD'!H881","v":0}]
[{"$f":"'Student Details Copy From SD'!A882","v":881},{"$f":"'Student Details Copy From SD'!B882","v":0},{"$f":"'Student Details Copy From SD'!F882","v":0},{"$f":"'Student Details Copy From SD'!H882","v":0}]
[{"$f":"'Student Details Copy From SD'!A883","v":882},{"$f":"'Student Details Copy From SD'!B883","v":0},{"$f":"'Student Details Copy From SD'!F883","v":0},{"$f":"'Student Details Copy From SD'!H883","v":0}]
[{"$f":"'Student Details Copy From SD'!A884","v":883},{"$f":"'Student Details Copy From SD'!B884","v":0},{"$f":"'Student Details Copy From SD'!F884","v":0},{"$f":"'Student Details Copy From SD'!H884","v":0}]
[{"$f":"'Student Details Copy From SD'!A885","v":884},{"$f":"'Student Details Copy From SD'!B885","v":0},{"$f":"'Student Details Copy From SD'!F885","v":0},{"$f":"'Student Details Copy From SD'!H885","v":0}]
[{"$f":"'Student Details Copy From SD'!A886","v":885},{"$f":"'Student Details Copy From SD'!B886","v":0},{"$f":"'Student Details Copy From SD'!F886","v":0},{"$f":"'Student Details Copy From SD'!H886","v":0}]
[{"$f":"'Student Details Copy From SD'!A887","v":886},{"$f":"'Student Details Copy From SD'!B887","v":0},{"$f":"'Student Details Copy From SD'!F887","v":0},{"$f":"'Student Details Copy From SD'!H887","v":0}]
[{"$f":"'Student Details Copy From SD'!A888","v":887},{"$f":"'Student Details Copy From SD'!B888","v":0},{"$f":"'Student Details Copy From SD'!F888","v":0},{"$f":"'Student Details Copy From SD'!H888","v":0}]
[{"$f":"'Student Details Copy From SD'!A889","v":888},{"$f":"'Student Details Copy From SD'!B889","v":0},{"$f":"'Student Details Copy From SD'!F889","v":0},{"$f":"'Student Details Copy From SD'!H889","v":0}]
[{"$f":"'Student Details Copy From SD'!A890","v":889},{"$f":"'Student Details Copy From SD'!B890","v":0},{"$f":"'Student Details Copy From SD'!F890","v":0},{"$f":"'Student Details Copy From SD'!H890","v":0}]
[{"$f":"'Student Details Copy From SD'!A891","v":890},{"$f":"'Student Details Copy From SD'!B891","v":0},{"$f":"'Student Details Copy From SD'!F891","v":0},{"$f":"'Student Details Copy From SD'!H891","v":0}]
[{"$f":"'Student Details Copy From SD'!A892","v":891},{"$f":"'Student Details Copy From SD'!B892","v":0},{"$f":"'Student Details Copy From SD'!F892","v":0},{"$f":"'Student Details Copy From SD'!H892","v":0}]
[{"$f":"'Student Details Copy From SD'!A893","v":892},{"$f":"'Student Details Copy From SD'!B893","v":0},{"$f":"'Student Details Copy From SD'!F893","v":0},{"$f":"'Student Details Copy From SD'!H893","v":0}]
[{"$f":"'Student Details Copy From SD'!A894","v":893},{"$f":"'Student Details Copy From SD'!B894","v":0},{"$f":"'Student Details Copy From SD'!F894","v":0},{"$f":"'Student Details Copy From SD'!H894","v":0}]
[{"$f":"'Student Details Copy From SD'!A895","v":894},{"$f":"'Student Details Copy From SD'!B895","v":0},{"$f":"'Student Details Copy From SD'!F895","v":0},{"$f":"'Student Details Copy From SD'!H895","v":0}]
[{"$f":"'Student Details Copy From SD'!A896","v":895},{"$f":"'Student Details Copy From SD'!B896","v":0},{"$f":"'Student Details Copy From SD'!F896","v":0},{"$f":"'Student Details Copy From SD'!H896","v":0}]
[{"$f":"'Student Details Copy From SD'!A897","v":896},{"$f":"'Student Details Copy From SD'!B897","v":0},{"$f":"'Student Details Copy From SD'!F897","v":0},{"$f":"'Student Details Copy From SD'!H897","v":0}]
[{"$f":"'Student Details Copy From SD'!A898","v":897},{"$f":"'Student Details Copy From SD'!B898","v":0},{"$f":"'Student Details Copy From SD'!F898","v":0},{"$f":"'Student Details Copy From SD'!H898","v":0}]
[{"$f":"'Student Details Copy From SD'!A899","v":898},{"$f":"'Student Details Copy From SD'!B899","v":0},{"$f":"'Student Details Copy From SD'!F899","v":0},{"$f":"'Student Details Copy From SD'!H899","v":0}]
[{"$f":"'Student Details Copy From SD'!A900","v":899},{"$f":"'Student Details Copy From SD'!B900","v":0},{"$f":"'Student Details Copy From SD'!F900","v":0},{"$f":"'Student Details Copy From SD'!H900","v":0}]
[{"$f":"'Student Details Copy From SD'!A901","v":900},{"$f":"'Student Details Copy From SD'!B901","v":0},{"$f":"'Student Details Copy From SD'!F901","v":0},{"$f":"'Student Details Copy From SD'!H901","v":0}]
[{"$f":"'Student Details Copy From SD'!A902","v":901},{"$f":"'Student Details Copy From SD'!B902","v":0},{"$f":"'Student Details Copy From SD'!F902","v":0},{"$f":"'Student Details Copy From SD'!H902","v":0}]
[{"$f":"'Student Details Copy From SD'!A903","v":902},{"$f":"'Student Details Copy From SD'!B903","v":0},{"$f":"'Student Details Copy From SD'!F903","v":0},{"$f":"'Student Details Copy From SD'!H903","v":0}]
[{"$f":"'Student Details Copy From SD'!A904","v":903},{"$f":"'Student Details Copy From SD'!B904","v":0},{"$f":"'Student Details Copy From SD'!F904","v":0},{"$f":"'Student Details Copy From SD'!H904","v":0}]
[{"$f":"'Student Details Copy From SD'!A905","v":904},{"$f":"'Student Details Copy From SD'!B905","v":0},{"$f":"'Student Details Copy From SD'!F905","v":0},{"$f":"'Student Details Copy From SD'!H905","v":0}]
[{"$f":"'Student Details Copy From SD'!A906","v":905},{"$f":"'Student Details Copy From SD'!B906","v":0},{"$f":"'Student Details Copy From SD'!F906","v":0},{"$f":"'Student Details Copy From SD'!H906","v":0}]
[{"$f":"'Student Details Copy From SD'!A907","v":906},{"$f":"'Student Details Copy From SD'!B907","v":0},{"$f":"'Student Details Copy From SD'!F907","v":0},{"$f":"'Student Details Copy From SD'!H907","v":0}]
[{"$f":"'Student Details Copy From SD'!A908","v":907},{"$f":"'Student Details Copy From SD'!B908","v":0},{"$f":"'Student Details Copy From SD'!F908","v":0},{"$f":"'Student Details Copy From SD'!H908","v":0}]
[{"$f":"'Student Details Copy From SD'!A909","v":908},{"$f":"'Student Details Copy From SD'!B909","v":0},{"$f":"'Student Details Copy From SD'!F909","v":0},{"$f":"'Student Details Copy From SD'!H909","v":0}]
[{"$f":"'Student Details Copy From SD'!A910","v":909},{"$f":"'Student Details Copy From SD'!B910","v":0},{"$f":"'Student Details Copy From SD'!F910","v":0},{"$f":"'Student Details Copy From SD'!H910","v":0}]
[{"$f":"'Student Details Copy From SD'!A911","v":910},{"$f":"'Student Details Copy From SD'!B911","v":0},{"$f":"'Student Details Copy From SD'!F911","v":0},{"$f":"'Student Details Copy From SD'!H911","v":0}]
[{"$f":"'Student Details Copy From SD'!A912","v":911},{"$f":"'Student Details Copy From SD'!B912","v":0},{"$f":"'Student Details Copy From SD'!F912","v":0},{"$f":"'Student Details Copy From SD'!H912","v":0}]
[{"$f":"'Student Details Copy From SD'!A913","v":912},{"$f":"'Student Details Copy From SD'!B913","v":0},{"$f":"'Student Details Copy From SD'!F913","v":0},{"$f":"'Student Details Copy From SD'!H913","v":0}]
[{"$f":"'Student Details Copy From SD'!A914","v":913},{"$f":"'Student Details Copy From SD'!B914","v":0},{"$f":"'Student Details Copy From SD'!F914","v":0},{"$f":"'Student Details Copy From SD'!H914","v":0}]
[{"$f":"'Student Details Copy From SD'!A915","v":914},{"$f":"'Student Details Copy From SD'!B915","v":0},{"$f":"'Student Details Copy From SD'!F915","v":0},{"$f":"'Student Details Copy From SD'!H915","v":0}]
[{"$f":"'Student Details Copy From SD'!A916","v":915},{"$f":"'Student Details Copy From SD'!B916","v":0},{"$f":"'Student Details Copy From SD'!F916","v":0},{"$f":"'Student Details Copy From SD'!H916","v":0}]
[{"$f":"'Student Details Copy From SD'!A917","v":916},{"$f":"'Student Details Copy From SD'!B917","v":0},{"$f":"'Student Details Copy From SD'!F917","v":0},{"$f":"'Student Details Copy From SD'!H917","v":0}]
[{"$f":"'Student Details Copy From SD'!A918","v":917},{"$f":"'Student Details Copy From SD'!B918","v":0},{"$f":"'Student Details Copy From SD'!F918","v":0},{"$f":"'Student Details Copy From SD'!H918","v":0}]
[{"$f":"'Student Details Copy From SD'!A919","v":918},{"$f":"'Student Details Copy From SD'!B919","v":0},{"$f":"'Student Details Copy From SD'!F919","v":0},{"$f":"'Student Details Copy From SD'!H919","v":0}]
[{"$f":"'Student Details Copy From SD'!A920","v":919},{"$f":"'Student Details Copy From SD'!B920","v":0},{"$f":"'Student Details Copy From SD'!F920","v":0},{"$f":"'Student Details Copy From SD'!H920","v":0}]
[{"$f":"'Student Details Copy From SD'!A921","v":920},{"$f":"'Student Details Copy From SD'!B921","v":0},{"$f":"'Student Details Copy From SD'!F921","v":0},{"$f":"'Student Details Copy From SD'!H921","v":0}]
[{"$f":"'Student Details Copy From SD'!A922","v":921},{"$f":"'Student Details Copy From SD'!B922","v":0},{"$f":"'Student Details Copy From SD'!F922","v":0},{"$f":"'Student Details Copy From SD'!H922","v":0}]
[{"$f":"'Student Details Copy From SD'!A923","v":922},{"$f":"'Student Details Copy From SD'!B923","v":0},{"$f":"'Student Details Copy From SD'!F923","v":0},{"$f":"'Student Details Copy From SD'!H923","v":0}]
[{"$f":"'Student Details Copy From SD'!A924","v":923},{"$f":"'Student Details Copy From SD'!B924","v":0},{"$f":"'Student Details Copy From SD'!F924","v":0},{"$f":"'Student Details Copy From SD'!H924","v":0}]
[{"$f":"'Student Details Copy From SD'!A925","v":924},{"$f":"'Student Details Copy From SD'!B925","v":0},{"$f":"'Student Details Copy From SD'!F925","v":0},{"$f":"'Student Details Copy From SD'!H925","v":0}]
[{"$f":"'Student Details Copy From SD'!A926","v":925},{"$f":"'Student Details Copy From SD'!B926","v":0},{"$f":"'Student Details Copy From SD'!F926","v":0},{"$f":"'Student Details Copy From SD'!H926","v":0}]
[{"$f":"'Student Details Copy From SD'!A927","v":926},{"$f":"'Student Details Copy From SD'!B927","v":0},{"$f":"'Student Details Copy From SD'!F927","v":0},{"$f":"'Student Details Copy From SD'!H927","v":0}]
[{"$f":"'Student Details Copy From SD'!A928","v":927},{"$f":"'Student Details Copy From SD'!B928","v":0},{"$f":"'Student Details Copy From SD'!F928","v":0},{"$f":"'Student Details Copy From SD'!H928","v":0}]
[{"$f":"'Student Details Copy From SD'!A929","v":928},{"$f":"'Student Details Copy From SD'!B929","v":0},{"$f":"'Student Details Copy From SD'!F929","v":0},{"$f":"'Student Details Copy From SD'!H929","v":0}]
[{"$f":"'Student Details Copy From SD'!A930","v":929},{"$f":"'Student Details Copy From SD'!B930","v":0},{"$f":"'Student Details Copy From SD'!F930","v":0},{"$f":"'Student Details Copy From SD'!H930","v":0}]
[{"$f":"'Student Details Copy From SD'!A931","v":930},{"$f":"'Student Details Copy From SD'!B931","v":0},{"$f":"'Student Details Copy From SD'!F931","v":0},{"$f":"'Student Details Copy From SD'!H931","v":0}]
[{"$f":"'Student Details Copy From SD'!A932","v":931},{"$f":"'Student Details Copy From SD'!B932","v":0},{"$f":"'Student Details Copy From SD'!F932","v":0},{"$f":"'Student Details Copy From SD'!H932","v":0}]
[{"$f":"'Student Details Copy From SD'!A933","v":932},{"$f":"'Student Details Copy From SD'!B933","v":0},{"$f":"'Student Details Copy From SD'!F933","v":0},{"$f":"'Student Details Copy From SD'!H933","v":0}]
[{"$f":"'Student Details Copy From SD'!A934","v":933},{"$f":"'Student Details Copy From SD'!B934","v":0},{"$f":"'Student Details Copy From SD'!F934","v":0},{"$f":"'Student Details Copy From SD'!H934","v":0}]
[{"$f":"'Student Details Copy From SD'!A935","v":934},{"$f":"'Student Details Copy From SD'!B935","v":0},{"$f":"'Student Details Copy From SD'!F935","v":0},{"$f":"'Student Details Copy From SD'!H935","v":0}]
[{"$f":"'Student Details Copy From SD'!A936","v":935},{"$f":"'Student Details Copy From SD'!B936","v":0},{"$f":"'Student Details Copy From SD'!F936","v":0},{"$f":"'Student Details Copy From SD'!H936","v":0}]
[{"$f":"'Student Details Copy From SD'!A937","v":936},{"$f":"'Student Details Copy From SD'!B937","v":0},{"$f":"'Student Details Copy From SD'!F937","v":0},{"$f":"'Student Details Copy From SD'!H937","v":0}]
[{"$f":"'Student Details Copy From SD'!A938","v":937},{"$f":"'Student Details Copy From SD'!B938","v":0},{"$f":"'Student Details Copy From SD'!F938","v":0},{"$f":"'Student Details Copy From SD'!H938","v":0}]
[{"$f":"'Student Details Copy From SD'!A939","v":938},{"$f":"'Student Details Copy From SD'!B939","v":0},{"$f":"'Student Details Copy From SD'!F939","v":0},{"$f":"'Student Details Copy From SD'!H939","v":0}]
[{"$f":"'Student Details Copy From SD'!A940","v":939},{"$f":"'Student Details Copy From SD'!B940","v":0},{"$f":"'Student Details Copy From SD'!F940","v":0},{"$f":"'Student Details Copy From SD'!H940","v":0}]
[{"$f":"'Student Details Copy From SD'!A941","v":940},{"$f":"'Student Details Copy From SD'!B941","v":0},{"$f":"'Student Details Copy From SD'!F941","v":0},{"$f":"'Student Details Copy From SD'!H941","v":0}]
[{"$f":"'Student Details Copy From SD'!A942","v":941},{"$f":"'Student Details Copy From SD'!B942","v":0},{"$f":"'Student Details Copy From SD'!F942","v":0},{"$f":"'Student Details Copy From SD'!H942","v":0}]
[{"$f":"'Student Details Copy From SD'!A943","v":942},{"$f":"'Student Details Copy From SD'!B943","v":0},{"$f":"'Student Details Copy From SD'!F943","v":0},{"$f":"'Student Details Copy From SD'!H943","v":0}]
[{"$f":"'Student Details Copy From SD'!A944","v":943},{"$f":"'Student Details Copy From SD'!B944","v":0},{"$f":"'Student Details Copy From SD'!F944","v":0},{"$f":"'Student Details Copy From SD'!H944","v":0}]
[{"$f":"'Student Details Copy From SD'!A945","v":944},{"$f":"'Student Details Copy From SD'!B945","v":0},{"$f":"'Student Details Copy From SD'!F945","v":0},{"$f":"'Student Details Copy From SD'!H945","v":0}]
[{"$f":"'Student Details Copy From SD'!A946","v":945},{"$f":"'Student Details Copy From SD'!B946","v":0},{"$f":"'Student Details Copy From SD'!F946","v":0},{"$f":"'Student Details Copy From SD'!H946","v":0}]
[{"$f":"'Student Details Copy From SD'!A947","v":946},{"$f":"'Student Details Copy From SD'!B947","v":0},{"$f":"'Student Details Copy From SD'!F947","v":0},{"$f":"'Student Details Copy From SD'!H947","v":0}]
[{"$f":"'Student Details Copy From SD'!A948","v":947},{"$f":"'Student Details Copy From SD'!B948","v":0},{"$f":"'Student Details Copy From SD'!F948","v":0},{"$f":"'Student Details Copy From SD'!H948","v":0}]
[{"$f":"'Student Details Copy From SD'!A949","v":948},{"$f":"'Student Details Copy From SD'!B949","v":0},{"$f":"'Student Details Copy From SD'!F949","v":0},{"$f":"'Student Details Copy From SD'!H949","v":0}]
[{"$f":"'Student Details Copy From SD'!A950","v":949},{"$f":"'Student Details Copy From SD'!B950","v":0},{"$f":"'Student Details Copy From SD'!F950","v":0},{"$f":"'Student Details Copy From SD'!H950","v":0}]
[{"$f":"'Student Details Copy From SD'!A951","v":950},{"$f":"'Student Details Copy From SD'!B951","v":0},{"$f":"'Student Details Copy From SD'!F951","v":0},{"$f":"'Student Details Copy From SD'!H951","v":0}]
[{"$f":"'Student Details Copy From SD'!A952","v":951},{"$f":"'Student Details Copy From SD'!B952","v":0},{"$f":"'Student Details Copy From SD'!F952","v":0},{"$f":"'Student Details Copy From SD'!H952","v":0}]
[{"$f":"'Student Details Copy From SD'!A953","v":952},{"$f":"'Student Details Copy From SD'!B953","v":0},{"$f":"'Student Details Copy From SD'!F953","v":0},{"$f":"'Student Details Copy From SD'!H953","v":0}]
[{"$f":"'Student Details Copy From SD'!A954","v":953},{"$f":"'Student Details Copy From SD'!B954","v":0},{"$f":"'Student Details Copy From SD'!F954","v":0},{"$f":"'Student Details Copy From SD'!H954","v":0}]
[{"$f":"'Student Details Copy From SD'!A955","v":954},{"$f":"'Student Details Copy From SD'!B955","v":0},{"$f":"'Student Details Copy From SD'!F955","v":0},{"$f":"'Student Details Copy From SD'!H955","v":0}]
[{"$f":"'Student Details Copy From SD'!A956","v":955},{"$f":"'Student Details Copy From SD'!B956","v":0},{"$f":"'Student Details Copy From SD'!F956","v":0},{"$f":"'Student Details Copy From SD'!H956","v":0}]
[{"$f":"'Student Details Copy From SD'!A957","v":956},{"$f":"'Student Details Copy From SD'!B957","v":0},{"$f":"'Student Details Copy From SD'!F957","v":0},{"$f":"'Student Details Copy From SD'!H957","v":0}]
[{"$f":"'Student Details Copy From SD'!A958","v":957},{"$f":"'Student Details Copy From SD'!B958","v":0},{"$f":"'Student Details Copy From SD'!F958","v":0},{"$f":"'Student Details Copy From SD'!H958","v":0}]
[{"$f":"'Student Details Copy From SD'!A959","v":958},{"$f":"'Student Details Copy From SD'!B959","v":0},{"$f":"'Student Details Copy From SD'!F959","v":0},{"$f":"'Student Details Copy From SD'!H959","v":0}]
[{"$f":"'Student Details Copy From SD'!A960","v":959},{"$f":"'Student Details Copy From SD'!B960","v":0},{"$f":"'Student Details Copy From SD'!F960","v":0},{"$f":"'Student Details Copy From SD'!H960","v":0}]
[{"$f":"'Student Details Copy From SD'!A961","v":960},{"$f":"'Student Details Copy From SD'!B961","v":0},{"$f":"'Student Details Copy From SD'!F961","v":0},{"$f":"'Student Details Copy From SD'!H961","v":0}]
[{"$f":"'Student Details Copy From SD'!A962","v":961},{"$f":"'Student Details Copy From SD'!B962","v":0},{"$f":"'Student Details Copy From SD'!F962","v":0},{"$f":"'Student Details Copy From SD'!H962","v":0}]
[{"$f":"'Student Details Copy From SD'!A963","v":962},{"$f":"'Student Details Copy From SD'!B963","v":0},{"$f":"'Student Details Copy From SD'!F963","v":0},{"$f":"'Student Details Copy From SD'!H963","v":0}]
[{"$f":"'Student Details Copy From SD'!A964","v":963},{"$f":"'Student Details Copy From SD'!B964","v":0},{"$f":"'Student Details Copy From SD'!F964","v":0},{"$f":"'Student Details Copy From SD'!H964","v":0}]
[{"$f":"'Student Details Copy From SD'!A965","v":964},{"$f":"'Student Details Copy From SD'!B965","v":0},{"$f":"'Student Details Copy From SD'!F965","v":0},{"$f":"'Student Details Copy From SD'!H965","v":0}]
[{"$f":"'Student Details Copy From SD'!A966","v":965},{"$f":"'Student Details Copy From SD'!B966","v":0},{"$f":"'Student Details Copy From SD'!F966","v":0},{"$f":"'Student Details Copy From SD'!H966","v":0}]
[{"$f":"'Student Details Copy From SD'!A967","v":966},{"$f":"'Student Details Copy From SD'!B967","v":0},{"$f":"'Student Details Copy From SD'!F967","v":0},{"$f":"'Student Details Copy From SD'!H967","v":0}]
[{"$f":"'Student Details Copy From SD'!A968","v":967},{"$f":"'Student Details Copy From SD'!B968","v":0},{"$f":"'Student Details Copy From SD'!F968","v":0},{"$f":"'Student Details Copy From SD'!H968","v":0}]
[{"$f":"'Student Details Copy From SD'!A969","v":968},{"$f":"'Student Details Copy From SD'!B969","v":0},{"$f":"'Student Details Copy From SD'!F969","v":0},{"$f":"'Student Details Copy From SD'!H969","v":0}]
[{"$f":"'Student Details Copy From SD'!A970","v":969},{"$f":"'Student Details Copy From SD'!B970","v":0},{"$f":"'Student Details Copy From SD'!F970","v":0},{"$f":"'Student Details Copy From SD'!H970","v":0}]
[{"$f":"'Student Details Copy From SD'!A971","v":970},{"$f":"'Student Details Copy From SD'!B971","v":0},{"$f":"'Student Details Copy From SD'!F971","v":0},{"$f":"'Student Details Copy From SD'!H971","v":0}]
[{"$f":"'Student Details Copy From SD'!A972","v":971},{"$f":"'Student Details Copy From SD'!B972","v":0},{"$f":"'Student Details Copy From SD'!F972","v":0},{"$f":"'Student Details Copy From SD'!H972","v":0}]
[{"$f":"'Student Details Copy From SD'!A973","v":972},{"$f":"'Student Details Copy From SD'!B973","v":0},{"$f":"'Student Details Copy From SD'!F973","v":0},{"$f":"'Student Details Copy From SD'!H973","v":0}]
[{"$f":"'Student Details Copy From SD'!A974","v":973},{"$f":"'Student Details Copy From SD'!B974","v":0},{"$f":"'Student Details Copy From SD'!F974","v":0},{"$f":"'Student Details Copy From SD'!H974","v":0}]
[{"$f":"'Student Details Copy From SD'!A975","v":974},{"$f":"'Student Details Copy From SD'!B975","v":0},{"$f":"'Student Details Copy From SD'!F975","v":0},{"$f":"'Student Details Copy From SD'!H975","v":0}]
[{"$f":"'Student Details Copy From SD'!A976","v":975},{"$f":"'Student Details Copy From SD'!B976","v":0},{"$f":"'Student Details Copy From SD'!F976","v":0},{"$f":"'Student Details Copy From SD'!H976","v":0}]
[{"$f":"'Student Details Copy From SD'!A977","v":976},{"$f":"'Student Details Copy From SD'!B977","v":0},{"$f":"'Student Details Copy From SD'!F977","v":0},{"$f":"'Student Details Copy From SD'!H977","v":0}]
[{"$f":"'Student Details Copy From SD'!A978","v":977},{"$f":"'Student Details Copy From SD'!B978","v":0},{"$f":"'Student Details Copy From SD'!F978","v":0},{"$f":"'Student Details Copy From SD'!H978","v":0}]
[{"$f":"'Student Details Copy From SD'!A979","v":978},{"$f":"'Student Details Copy From SD'!B979","v":0},{"$f":"'Student Details Copy From SD'!F979","v":0},{"$f":"'Student Details Copy From SD'!H979","v":0}]
[{"$f":"'Student Details Copy From SD'!A980","v":979},{"$f":"'Student Details Copy From SD'!B980","v":0},{"$f":"'Student Details Copy From SD'!F980","v":0},{"$f":"'Student Details Copy From SD'!H980","v":0}]
[{"$f":"'Student Details Copy From SD'!A981","v":980},{"$f":"'Student Details Copy From SD'!B981","v":0},{"$f":"'Student Details Copy From SD'!F981","v":0},{"$f":"'Student Details Copy From SD'!H981","v":0}]
[{"$f":"'Student Details Copy From SD'!A982","v":981},{"$f":"'Student Details Copy From SD'!B982","v":0},{"$f":"'Student Details Copy From SD'!F982","v":0},{"$f":"'Student Details Copy From SD'!H982","v":0}]
[{"$f":"'Student Details Copy From SD'!A983","v":982},{"$f":"'Student Details Copy From SD'!B983","v":0},{"$f":"'Student Details Copy From SD'!F983","v":0},{"$f":"'Student Details Copy From SD'!H983","v":0}]
[{"$f":"'Student Details Copy From SD'!A984","v":983},{"$f":"'Student Details Copy From SD'!B984","v":0},{"$f":"'Student Details Copy From SD'!F984","v":0},{"$f":"'Student Details Copy From SD'!H984","v":0}]
[{"$f":"'Student Details Copy From SD'!A985","v":984},{"$f":"'Student Details Copy From SD'!B985","v":0},{"$f":"'Student Details Copy From SD'!F985","v":0},{"$f":"'Student Details Copy From SD'!H985","v":0}]
[{"$f":"'Student Details Copy From SD'!A986","v":985},{"$f":"'Student Details Copy From SD'!B986","v":0},{"$f":"'Student Details Copy From SD'!F986","v":0},{"$f":"'Student Details Copy From SD'!H986","v":0}]
[{"$f":"'Student Details Copy From SD'!A987","v":986},{"$f":"'Student Details Copy From SD'!B987","v":0},{"$f":"'Student Details Copy From SD'!F987","v":0},{"$f":"'Student Details Copy From SD'!H987","v":0}]
[{"$f":"'Student Details Copy From SD'!A988","v":987},{"$f":"'Student Details Copy From SD'!B988","v":0},{"$f":"'Student Details Copy From SD'!F988","v":0},{"$f":"'Student Details Copy From SD'!H988","v":0}]
[{"$f":"'Student Details Copy From SD'!A989","v":988},{"$f":"'Student Details Copy From SD'!B989","v":0},{"$f":"'Student Details Copy From SD'!F989","v":0},{"$f":"'Student Details Copy From SD'!H989","v":0}]
[{"$f":"'Student Details Copy From SD'!A990","v":989},{"$f":"'Student Details Copy From SD'!B990","v":0},{"$f":"'Student Details Copy From SD'!F990","v":0},{"$f":"'Student Details Copy From SD'!H990","v":0}]
[{"$f":"'Student Details Copy From SD'!A991","v":990},{"$f":"'Student Details Copy From SD'!B991","v":0},{"$f":"'Student Details Copy From SD'!F991","v":0},{"$f":"'Student Details Copy From SD'!H991","v":0}]
[{"$f":"'Student Details Copy From SD'!A992","v":991},{"$f":"'Student Details Copy From SD'!B992","v":0},{"$f":"'Student Details Copy From SD'!F992","v":0},{"$f":"'Student Details Copy From SD'!H992","v":0}]
[{"$f":"'Student Details Copy From SD'!A993","v":992},{"$f":"'Student Details Copy From SD'!B993","v":0},{"$f":"'Student Details Copy From SD'!F993","v":0},{"$f":"'Student Details Copy From SD'!H993","v":0}]
[{"$f":"'Student Details Copy From SD'!A994","v":993},{"$f":"'Student Details Copy From SD'!B994","v":0},{"$f":"'Student Details Copy From SD'!F994","v":0},{"$f":"'Student Details Copy From SD'!H994","v":0}]
[{"$f":"'Student Details Copy From SD'!A995","v":994},{"$f":"'Student Details Copy From SD'!B995","v":0},{"$f":"'Student Details Copy From SD'!F995","v":0},{"$f":"'Student Details Copy From SD'!H995","v":0}]
[{"$f":"'Student Details Copy From SD'!A996","v":995},{"$f":"'Student Details Copy From SD'!B996","v":0},{"$f":"'Student Details Copy From SD'!F996","v":0},{"$f":"'Student Details Copy From SD'!H996","v":0}]
[{"$f":"'Student Details Copy From SD'!A997","v":996},{"$f":"'Student Details Copy From SD'!B997","v":0},{"$f":"'Student Details Copy From SD'!F997","v":0},{"$f":"'Student Details Copy From SD'!H997","v":0}]
[{"$f":"'Student Details Copy From SD'!A998","v":997},{"$f":"'Student Details Copy From SD'!B998","v":0},{"$f":"'Student Details Copy From SD'!F998","v":0},{"$f":"'Student Details Copy From SD'!H998","v":0}]
[{"$f":"'Student Details Copy From SD'!A999","v":998},{"$f":"'Student Details Copy From SD'!B999","v":0},{"$f":"'Student Details Copy From SD'!F999","v":0},{"$f":"'Student Details Copy From SD'!H999","v":0}]
[{"$f":"'Student Details Copy From SD'!A1000","v":999},{"$f":"'Student Details Copy From SD'!B1000","v":0},{"$f":"'Student Details Copy From SD'!F1000","v":0},{"$f":"'Student Details Copy From SD'!H1000","v":0}]
[{"$f":"'Student Details Copy From SD'!A1001","v":1000},{"$f":"'Student Details Copy From SD'!B1001","v":0},{"$f":"'Student Details Copy From SD'!F1001","v":0},{"$f":"'Student Details Copy From SD'!H1001","v":0}]

{"sheet":"Invitation Card  1x2","index":3,"n_rows":1003,"n_cols":30,"rows_kept":1003,"merged":[[0,0,0,25],[0,26,27,26],[1,0,28,0],[1,2,1,10],[1,14,1,22],[1,24,2,25],[2,1,26,1],[2,2,2,9],[2,10,25,10],[2,11,26,11],[2,13,26,13],[2,14,2,21],[2,22,25,22],[2,23,26,23],[3,2,25,2],[3,3,3,9],[3,14,25,14],[3,15,3,21],[3,24,27,24],[3,25,5,25],[4,3,4,9],[4,15,4,21],[5,3,9,3],[5,4,5,8],[5,9,9,9],[5,15,9,15],[5,16,5,20],[5,21,9,21],[6,4,9,8],[6,16,9,20],[7,25,11,25],[10,3,10,9],[10,15,10,21],[11,3,11,4],[11,5,11,9],[11,15,11,16],[11,17,11,21],[12,3,12,9],[12,15,12,21],[12,25,27,25],[13,3,13,4],[13,5,13,6],[13,7,13,8],[13,15,13,16],[13,17,13,18],[13,19,13,20],[14,3,14,9],[14,15,14,21],[15,3,15,9],[15,15,15,21],[16,3,16,9],[16,15,16,21],[17,3,17,9],[17,15,17,21],[18,3,18,9],[18,15,18,21],[19,3,19,4],[19,5,19,9],[19,15,19,16],[19,17,19,21],[20,3,20,9],[20,15,20,21],[21,4,22,4],[21,5,22,7],[21,8,22,8],[21,16,22,16],[21,17,22,19],[21,20,22,20],[23,4,23,8],[23,16,23,20],[24,3,25,3],[24,4,24,8],[24,9,25,9],[24,15,25,15],[24,16,24,20],[24,21,25,21],[25,4,25,8],[25,16,25,20],[26,2,26,10],[26,14,26,22],[27,2,27,10],[27,14,27,22],[28,1,28,26]]}
[]
[]
[]
[{"$nulls":3},{"$f":"Master!$E$5","v":"राजकीय उच्च माध्यमिक विद्यालय रायमलवाडा"},{"$nulls":11},{"$f":"Master!$E$5","v":"राजकीय उच्च माध्यमिक विद्यालय रायमलवाडा"},{"$nulls":9},"जिसका आमंत्रण पत्र निकालना उसका क्रमांक सलेक्ट/दर्ज करें",null,1,null,{"$f":"Z8+1","v":4}]
[{"$nulls":3},{"$f":"Master!$E$6","v":"ब्लॉक-बापिणी (जोधपुर)"},{"$nulls":11},{"$f":"Master!$E$6","v":"ब्लॉक-बापिणी (जोधपुर)"},{"$nulls":11},2]
[{"$nulls":27},3]
[{"$nulls":4},":: आमंत्रण-पत्र ::",{"$nulls":11},":: आमंत्रण-पत्र ::",{"$nulls":10},4]
[{"$nulls":25},3,null,5]
[{"$nulls":27},6]
[{"$nulls":27},7]
[{"$nulls":27},8]
[{"$nulls":3},"श्रीयुत/श्रीमती",null,{"$f":"VLOOKUP($Z$8,'Student Details'!$A$3:$D$1002,4,0)","v":"ufgjgug"},{"$nulls":9},"श्रीयुत/श्रीमती",null,{"$f":"VLOOKUP($AD$4,'Student Details'!$A$3:$D$1002,4,0)","v":0},{"$nulls":9},9]
[{"$nulls":3},"आपको सूचित करते हुए हर्ष हो रहा है कि दिनांक-",{"$nulls":11},"आपको सूचित करते हुए हर्ष हो रहा है कि दिनांक-",{"$nulls":9},"Prepared By :-  Ummed Tarad (Teacher-Gsss Raimalwada, Jodhpur) Mob.No.-9166973141",null,10]
[{"$nulls":3},{"$f":"Master!$E$8","v":"2021-03-09"},null,"समय-",null,{"$f":"Master!$E$9","v":"09:15:00"},null,"से",{"$nulls":5},{"$f":"Master!$E$8","v":"2021-03-09"},null,"समय-",null,{"$f":"Master!$E$9","v":"09:15:00"},null,"से",{"$nulls":5},11]
[{"$nulls":3},"स्थानीय शाला प्रांगण में ",{"$nulls":11},"स्थानीय शाला प्रांगण में ",{"$nulls":11},12]
[{"$nulls":3},{"$f":"Master!$E$7","v":"Republic Day"},{"$nulls":11},{"$f":"Master!$E$7","v":"Republic Day"},{"$nulls":11},13]
[{"$nulls":3},"का आयोजन किया जा रहा है, इस समारोह में आपकी गरिमामयी उपस्थिति सादर प्रार्थनीय है l",{"$nulls":11},"का आयोजन किया जा रहा है, इस समारोह में आपकी गरिमामयी उपस्थिति सादर प्रार्थनीय है l",{"$nulls":11},14]
[{"$nulls":27},15]
[{"$nulls":27},16]
[{"$nulls":3},"विशेष आकर्षण:-",null,{"$f":"Master!$E$10","v":"पूर्व छात्र मिल्लन, प्रतिभा एवं भामाशाह सम्मान कार्यक्रम"},{"$nulls":9},"विशेष आकर्षण:-",null,{"$f":"Master!$E$10","v":"पूर्व छात्र मिल्लन, प्रतिभा एवं भामाशाह सम्मान कार्यक्रम"},{"$nulls":9},17]
[{"$nulls":27},18]
[{"$nulls":5},":: निवेदक ::",{"$nulls":11},":: निवेदक ::",{"$nulls":9},19]
[{"$nulls":27},20]
[{"$nulls":4},{"$f":"CONCATENATE(Master!$E$12,Master!$G$12)","v":"संस्था प्रधान राजकीय उच्च माध्यमिक विद्यालय रायमलवाडा"},{"$nulls":11},{"$f":"CONCATENATE(Master!$E$12,Master!$G$12)","v":"संस्था प्रधान राजकीय उच्च माध्यमिक विद्यालय रायमलवाडा"},{"$nulls":10},21]
[{"$nulls":4},"विनीत:-",{"$nulls":11},"विनीत:-",{"$nulls":10},22]
[{"$nulls":4},"SMC/SDMC सदस्य एवं शाला परिवार",{"$nulls":11},"SMC/SDMC सदस्य एवं शाला परिवार",{"$nulls":10},23]
[{"$nulls":27},24]
[{"$nulls":27},25]
[{"$nulls":27},26]
[{"$nulls":27},27]
[{"$nulls":27},28]
[{"$nulls":27},29]
[{"$nulls":27},30]
[{"$nulls":27},31]
[{"$nulls":27},32]
[{"$nulls":27},33]
[{"$nulls":27},34]
[{"$nulls":27},35]
[{"$nulls":27},36]
[{"$nulls":27},37]
[{"$nulls":27},38]
[{"$nulls":27},39]
[{"$nulls":27},40]
[{"$nulls":27},41]
[{"$nulls":27},42]
[{"$nulls":27},43]
[{"$nulls":27},44]
[{"$nulls":27},45]
[{"$nulls":27},46]
[{"$nulls":27},47]
[{"$nulls":27},48]
[{"$nulls":27},49]
[{"$nulls":27},50]
[{"$nulls":27},51]
[{"$nulls":27},52]
[{"$nulls":27},53]
[{"$nulls":27},54]
[{"$nulls":27},55]
[{"$nulls":27},56]
[{"$nulls":27},57]
[{"$nulls":27},58]
[{"$nulls":27},59]
[{"$nulls":27},60]
[{"$nulls":27},61]
[{"$nulls":27},62]
[{"$nulls":27},63]
[{"$nulls":27},64]
[{"$nulls":27},65]
[{"$nulls":27},66]
[{"$nulls":27},67]
[{"$nulls":27},68]
[{"$nulls":27},69]
[{"$nulls":27},70]
[{"$nulls":27},71]
[{"$nulls":27},72]
[{"$nulls":27},73]
[{"$nulls":27},74]
[{"$nulls":27},75]
[{"$nulls":27},76]
[{"$nulls":27},77]
[{"$nulls":27},78]
[{"$nulls":27},79]
[{"$nulls":27},80]
[{"$nulls":27},81]
[{"$nulls":27},82]
[{"$nulls":27},83]
[{"$nulls":27},84]
[{"$nulls":27},85]
[{"$nulls":27},86]
[{"$nulls":27},87]
[{"$nulls":27},88]
[{"$nulls":27},89]
[{"$nulls":27},90]
[{"$nulls":27},91]
[{"$nulls":27},92]
[{"$nulls":27},93]
[{"$nulls":27},94]
[{"$nulls":27},95]
[{"$nulls":27},96]
[{"$nulls":27},97]
[{"$nulls":27},98]
[{"$nulls":27},99]
[{"$nulls":27},100]
[{"$nulls":27},101]
[{"$nulls":27},102]
[{"$nulls":27},103]
[{"$nulls":27},104]
[{"$nulls":27},105]
[{"$nulls":27},106]
[{"$nulls":27},107]
[{"$nulls":27},108]
[{"$nulls":27},109]
[{"$nulls":27},110]
[{"$nulls":27},111]
[{"$nulls":27},112]
[{"$nulls":27},113]
[{"$nulls":27},114]
[{"$nulls":27},115]
[{"$nulls":27},116]
[{"$nulls":27},117]
[{"$nulls":27},118]
[{"$nulls":27},119]
[{"$nulls":27},120]
[{"$nulls":27},121]
[{"$nulls":27},122]
[{"$nulls":27},123]
[{"$nulls":27},124]
[{"$nulls":27},125]
[{"$nulls":27},126]
[{"$nulls":27},127]
[{"$nulls":27},128]
[{"$nulls":27},129]
[{"$nulls":27},130]
[{"$nulls":27},131]
[{"$nulls":27},132]
[{"$nulls":27},133]
[{"$nulls":27},134]
[{"$nulls":27},135]
[{"$nulls":27},136]
[{"$nulls":27},137]
[{"$nulls":27},138]
[{"$nulls":27},139]
[{"$nulls":27},140]
[{"$nulls":27},141]
[{"$nulls":27},142]
[{"$nulls":27},143]
[{"$nulls":27},144]
[{"$nulls":27},145]
[{"$nulls":27},146]
[{"$nulls":27},147]
[{"$nulls":27},148]
[{"$nulls":27},149]
[{"$nulls":27},150]
[{"$nulls":27},151]
[{"$nulls":27},152]
[{"$nulls":27},153]
[{"$nulls":27},154]
[{"$nulls":27},155]
[{"$nulls":27},156]
[{"$nulls":27},157]
[{"$nulls":27},158]
[{"$nulls":27},159]
[{"$nulls":27},160]
[{"$nulls":27},161]
[{"$nulls":27},162]
[{"$nulls":27},163]
[{"$nulls":27},164]
[{"$nulls":27},165]
[{"$nulls":27},166]
[{"$nulls":27},167]
[{"$nulls":27},168]
[{"$nulls":27},169]
[{"$nulls":27},170]
[{"$nulls":27},171]
[{"$nulls":27},172]
[{"$nulls":27},173]
[{"$nulls":27},174]
[{"$nulls":27},175]
[{"$nulls":27},176]
[{"$nulls":27},177]
[{"$nulls":27},178]
[{"$nulls":27},179]
[{"$nulls":27},180]
[{"$nulls":27},181]
[{"$nulls":27},182]
[{"$nulls":27},183]
[{"$nulls":27},184]
[{"$nulls":27},185]
[{"$nulls":27},186]
[{"$nulls":27},187]
[{"$nulls":27},188]
[{"$nulls":27},189]
[{"$nulls":27},190]
[{"$nulls":27},191]
[{"$nulls":27},192]
[{"$nulls":27},193]
[{"$nulls":27},194]
[{"$nulls":27},195]
[{"$nulls":27},196]
[{"$nulls":27},197]
[{"$nulls":27},198]
[{"$nulls":27},199]
[{"$nulls":27},200]
[{"$nulls":27},201]
[{"$nulls":27},202]
[{"$nulls":27},203]
[{"$nulls":27},204]
[{"$nulls":27},205]
[{"$nulls":27},206]
[{"$nulls":27},207]
[{"$nulls":27},208]
[{"$nulls":27},209]
[{"$nulls":27},210]
[{"$nulls":27},211]
[{"$nulls":27},212]
[{"$nulls":27},213]
[{"$nulls":27},214]
[{"$nulls":27},215]
[{"$nulls":27},216]
[{"$nulls":27},217]
[{"$nulls":27},218]
[{"$nulls":27},219]
[{"$nulls":27},220]
[{"$nulls":27},221]
[{"$nulls":27},222]
[{"$nulls":27},223]
[{"$nulls":27},224]
[{"$nulls":27},225]
[{"$nulls":27},226]
[{"$nulls":27},227]
[{"$nulls":27},228]
[{"$nulls":27},229]
[{"$nulls":27},230]
[{"$nulls":27},231]
[{"$nulls":27},232]
[{"$nulls":27},233]
[{"$nulls":27},234]
[{"$nulls":27},235]
[{"$nulls":27},236]
[{"$nulls":27},237]
[{"$nulls":27},238]
[{"$nulls":27},239]
[{"$nulls":27},240]
[{"$nulls":27},241]
[{"$nulls":27},242]
[{"$nulls":27},243]
[{"$nulls":27},244]
[{"$nulls":27},245]
[{"$nulls":27},246]
[{"$nulls":27},247]
[{"$nulls":27},248]
[{"$nulls":27},249]
[{"$nulls":27},250]
[{"$nulls":27},251]
[{"$nulls":27},252]
[{"$nulls":27},253]
[{"$nulls":27},254]
[{"$nulls":27},255]
[{"$nulls":27},256]
[{"$nulls":27},257]
[{"$nulls":27},258]
[{"$nulls":27},259]
[{"$nulls":27},260]
[{"$nulls":27},261]
[{"$nulls":27},262]
[{"$nulls":27},263]
[{"$nulls":27},264]
[{"$nulls":27},265]
[{"$nulls":27},266]
[{"$nulls":27},267]
[{"$nulls":27},268]
[{"$nulls":27},269]
[{"$nulls":27},270]
[{"$nulls":27},271]
[{"$nulls":27},272]
[{"$nulls":27},273]
[{"$nulls":27},274]
[{"$nulls":27},275]
[{"$nulls":27},276]
[{"$nulls":27},277]
[{"$nulls":27},278]
[{"$nulls":27},279]
[{"$nulls":27},280]
[{"$nulls":27},281]
[{"$nulls":27},282]
[{"$nulls":27},283]
[{"$nulls":27},284]
[{"$nulls":27},285]
[{"$nulls":27},286]
[{"$nulls":27},287]
[{"$nulls":27},288]
[{"$nulls":27},289]
[{"$nulls":27},290]
[{"$nulls":27},291]
[{"$nulls":27},292]
[{"$nulls":27},293]
[{"$nulls":27},294]
[{"$nulls":27},295]
[{"$nulls":27},296]
[{"$nulls":27},297]
[{"$nulls":27},298]
[{"$nulls":27},299]
[{"$nulls":27},300]
[{"$nulls":27},301]
[{"$nulls":27},302]
[{"$nulls":27},303]
[{"$nulls":27},304]
[{"$nulls":27},305]
[{"$nulls":27},306]
[{"$nulls":27},307]
[{"$nulls":27},308]
[{"$nulls":27},309]
[{"$nulls":27},310]
[{"$nulls":27},311]
[{"$nulls":27},312]
[{"$nulls":27},313]
[{"$nulls":27},314]
[{"$nulls":27},315]
[{"$nulls":27},316]
[{"$nulls":27},317]
[{"$nulls":27},318]
[{"$nulls":27},319]
[{"$nulls":27},320]
[{"$nulls":27},321]
[{"$nulls":27},322]
[{"$nulls":27},323]
[{"$nulls":27},324]
[{"$nulls":27},325]
[{"$nulls":27},326]
[{"$nulls":27},327]
[{"$nulls":27},328]
[{"$nulls":27},329]
[{"$nulls":27},330]
[{"$nulls":27},331]
[{"$nulls":27},332]
[{"$nulls":27},333]
[{"$nulls":27},334]
[{"$nulls":27},335]
[{"$nulls":27},336]
[{"$nulls":27},337]
[{"$nulls":27},338]
[{"$nulls":27},339]
[{"$nulls":27},340]
[{"$nulls":27},341]
[{"$nulls":27},342]
[{"$nulls":27},343]
[{"$nulls":27},344]
[{"$nulls":27},345]
[{"$nulls":27},346]
[{"$nulls":27},347]
[{"$nulls":27},348]
[{"$nulls":27},349]
[{"$nulls":27},350]
[{"$nulls":27},351]
[{"$nulls":27},352]
[{"$nulls":27},353]
[{"$nulls":27},354]
[{"$nulls":27},355]
[{"$nulls":27},356]
[{"$nulls":27},357]
[{"$nulls":27},358]
[{"$nulls":27},359]
[{"$nulls":27},360]
[{"$nulls":27},361]
[{"$nulls":27},362]
[{"$nulls":27},363]
[{"$nulls":27},364]
[{"$nulls":27},365]
[{"$nulls":27},366]
[{"$nulls":27},367]
[{"$nulls":27},368]
[{"$nulls":27},369]
[{"$nulls":27},370]
[{"$nulls":27},371]
[{"$nulls":27},372]
[{"$nulls":27},373]
[{"$nulls":27},374]
[{"$nulls":27},375]
[{"$nulls":27},376]
[{"$nulls":27},377]
[{"$nulls":27},378]
[{"$nulls":27},379]
[{"$nulls":27},380]
[{"$nulls":27},381]
[{"$nulls":27},382]
[{"$nulls":27},383]
[{"$nulls":27},384]
[{"$nulls":27},385]
[{"$nulls":27},386]
[{"$nulls":27},387]
[{"$nulls":27},388]
[{"$nulls":27},389]
[{"$nulls":27},390]
[{"$nulls":27},391]
[{"$nulls":27},392]
[{"$nulls":27},393]
[{"$nulls":27},394]
[{"$nulls":27},395]
[{"$nulls":27},396]
[{"$nulls":27},397]
[{"$nulls":27},398]
[{"$nulls":27},399]
[{"$nulls":27},400]
[{"$nulls":27},401]
[{"$nulls":27},402]
[{"$nulls":27},403]
[{"$nulls":27},404]
[{"$nulls":27},405]
[{"$nulls":27},406]
[{"$nulls":27},407]
[{"$nulls":27},408]
[{"$nulls":27},409]
[{"$nulls":27},410]
[{"$nulls":27},411]
[{"$nulls":27},412]
[{"$nulls":27},413]
[{"$nulls":27},414]
[{"$nulls":27},415]
[{"$nulls":27},416]
[{"$nulls":27},417]
[{"$nulls":27},418]
[{"$nulls":27},419]
[{"$nulls":27},420]
[{"$nulls":27},421]
[{"$nulls":27},422]
[{"$nulls":27},423]
[{"$nulls":27},424]
[{"$nulls":27},425]
[{"$nulls":27},426]
[{"$nulls":27},427]
[{"$nulls":27},428]
[{"$nulls":27},429]
[{"$nulls":27},430]
[{"$nulls":27},431]
[{"$nulls":27},432]
[{"$nulls":27},433]
[{"$nulls":27},434]
[{"$nulls":27},435]
[{"$nulls":27},436]
[{"$nulls":27},437]
[{"$nulls":27},438]
[{"$nulls":27},439]
[{"$nulls":27},440]
[{"$nulls":27},441]
[{"$nulls":27},442]
[{"$nulls":27},443]
[{"$nulls":27},444]
[{"$nulls":27},445]
[{"$nulls":27},446]
[{"$nulls":27},447]
[{"$nulls":27},448]
[{"$nulls":27},449]
[{"$nulls":27},450]
[{"$nulls":27},451]
[{"$nulls":27},452]
[{"$nulls":27},453]
[{"$nulls":27},454]
[{"$nulls":27},455]
[{"$nulls":27},456]
[{"$nulls":27},457]
[{"$nulls":27},458]
[{"$nulls":27},459]
[{"$nulls":27},460]
[{"$nulls":27},461]
[{"$nulls":27},462]
[{"$nulls":27},463]
[{"$nulls":27},464]
[{"$nulls":27},465]
[{"$nulls":27},466]
[{"$nulls":27},467]
[{"$nulls":27},468]
[{"$nulls":27},469]
[{"$nulls":27},470]
[{"$nulls":27},471]
[{"$nulls":27},472]
[{"$nulls":27},473]
[{"$nulls":27},474]
[{"$nulls":27},475]
[{"$nulls":27},476]
[{"$nulls":27},477]
[{"$nulls":27},478]
[{"$nulls":27},479]
[{"$nulls":27},480]
[{"$nulls":27},481]
[{"$nulls":27},482]
[{"$nulls":27},483]
[{"$nulls":27},484]
[{"$nulls":27},485]
[{"$nulls":27},486]
[{"$nulls":27},487]
[{"$nulls":27},488]
[{"$nulls":27},489]
[{"$nulls":27},490]
[{"$nulls":27},491]
[{"$nulls":27},492]
[{"$nulls":27},493]
[{"$nulls":27},494]
[{"$nulls":27},495]
[{"$nulls":27},496]
[{"$nulls":27},497]
[{"$nulls":27},498]
[{"$nulls":27},499]
[{"$nulls":27},500]
[{"$nulls":27},501]
[{"$nulls":27},502]
[{"$nulls":27},503]
[{"$nulls":27},504]
[{"$nulls":27},505]
[{"$nulls":27},506]
[{"$nulls":27},507]
[{"$nulls":27},508]
[{"$nulls":27},509]
[{"$nulls":27},510]
[{"$nulls":27},511]
[{"$nulls":27},512]
[{"$nulls":27},513]
[{"$nulls":27},514]
[{"$nulls":27},515]
[{"$nulls":27},516]
[{"$nulls":27},517]
[{"$nulls":27},518]
[{"$nulls":27},519]
[{"$nulls":27},520]
[{"$nulls":27},521]
[{"$nulls":27},522]
[{"$nulls":27},523]
[{"$nulls":27},524]
[{"$nulls":27},525]
[{"$nulls":27},526]
[{"$nulls":27},527]
[{"$nulls":27},528]
[{"$nulls":27},529]
[{"$nulls":27},530]
[{"$nulls":27},531]
[{"$nulls":27},532]
[{"$nulls":27},533]
[{"$nulls":27},534]
[{"$nulls":27},535]
[{"$nulls":27},536]
[{"$nulls":27},537]
[{"$nulls":27},538]
[{"$nulls":27},539]
[{"$nulls":27},540]
[{"$nulls":27},541]
[{"$nulls":27},542]
[{"$nulls":27},543]
[{"$nulls":27},544]
[{"$nulls":27},545]
[{"$nulls":27},546]
[{"$nulls":27},547]
[{"$nulls":27},548]
[{"$nulls":27},549]
[{"$nulls":27},550]
[{"$nulls":27},551]
[{"$nulls":27},552]
[{"$nulls":27},553]
[{"$nulls":27},554]
[{"$nulls":27},555]
[{"$nulls":27},556]
[{"$nulls":27},557]
[{"$nulls":27},558]
[{"$nulls":27},559]
[{"$nulls":27},560]
[{"$nulls":27},561]
[{"$nulls":27},562]
[{"$nulls":27},563]
[{"$nulls":27},564]
[{"$nulls":27},565]
[{"$nulls":27},566]
[{"$nulls":27},567]
[{"$nulls":27},568]
[{"$nulls":27},569]
[{"$nulls":27},570]
[{"$nulls":27},571]
[{"$nulls":27},572]
[{"$nulls":27},573]
[{"$nulls":27},574]
[{"$nulls":27},575]
[{"$nulls":27},576]
[{"$nulls":27},577]
[{"$nulls":27},578]
[{"$nulls":27},579]
[{"$nulls":27},580]
[{"$nulls":27},581]
[{"$nulls":27},582]
[{"$nulls":27},583]
[{"$nulls":27},584]
[{"$nulls":27},585]
[{"$nulls":27},586]
[{"$nulls":27},587]
[{"$nulls":27},588]
[{"$nulls":27},589]
[{"$nulls":27},590]
[{"$nulls":27},591]
[{"$nulls":27},592]
[{"$nulls":27},593]
[{"$nulls":27},594]
[{"$nulls":27},595]
[{"$nulls":27},596]
[{"$nulls":27},597]
[{"$nulls":27},598]
[{"$nulls":27},599]
[{"$nulls":27},600]
[{"$nulls":27},601]
[{"$nulls":27},602]
[{"$nulls":27},603]
[{"$nulls":27},604]
[{"$nulls":27},605]
[{"$nulls":27},606]
[{"$nulls":27},607]
[{"$nulls":27},608]
[{"$nulls":27},609]
[{"$nulls":27},610]
[{"$nulls":27},611]
[{"$nulls":27},612]
[{"$nulls":27},613]
[{"$nulls":27},614]
[{"$nulls":27},615]
[{"$nulls":27},616]
[{"$nulls":27},617]
[{"$nulls":27},618]
[{"$nulls":27},619]
[{"$nulls":27},620]
[{"$nulls":27},621]
[{"$nulls":27},622]
[{"$nulls":27},623]
[{"$nulls":27},624]
[{"$nulls":27},625]
[{"$nulls":27},626]
[{"$nulls":27},627]
[{"$nulls":27},628]
[{"$nulls":27},629]
[{"$nulls":27},630]
[{"$nulls":27},631]
[{"$nulls":27},632]
[{"$nulls":27},633]
[{"$nulls":27},634]
[{"$nulls":27},635]
[{"$nulls":27},636]
[{"$nulls":27},637]
[{"$nulls":27},638]
[{"$nulls":27},639]
[{"$nulls":27},640]
[{"$nulls":27},641]
[{"$nulls":27},642]
[{"$nulls":27},643]
[{"$nulls":27},644]
[{"$nulls":27},645]
[{"$nulls":27},646]
[{"$nulls":27},647]
[{"$nulls":27},648]
[{"$nulls":27},649]
[{"$nulls":27},650]
[{"$nulls":27},651]
[{"$nulls":27},652]
[{"$nulls":27},653]
[{"$nulls":27},654]
[{"$nulls":27},655]
[{"$nulls":27},656]
[{"$nulls":27},657]
[{"$nulls":27},658]
[{"$nulls":27},659]
[{"$nulls":27},660]
[{"$nulls":27},661]
[{"$nulls":27},662]
[{"$nulls":27},663]
[{"$nulls":27},664]
[{"$nulls":27},665]
[{"$nulls":27},666]
[{"$nulls":27},667]
[{"$nulls":27},668]
[{"$nulls":27},669]
[{"$nulls":27},670]
[{"$nulls":27},671]
[{"$nulls":27},672]
[{"$nulls":27},673]
[{"$nulls":27},674]
[{"$nulls":27},675]
[{"$nulls":27},676]
[{"$nulls":27},677]
[{"$nulls":27},678]
[{"$nulls":27},679]
[{"$nulls":27},680]
[{"$nulls":27},681]
[{"$nulls":27},682]
[{"$nulls":27},683]
[{"$nulls":27},684]
[{"$nulls":27},685]
[{"$nulls":27},686]
[{"$nulls":27},687]
[{"$nulls":27},688]
[{"$nulls":27},689]
[{"$nulls":27},690]
[{"$nulls":27},691]
[{"$nulls":27},692]
[{"$nulls":27},693]
[{"$nulls":27},694]
[{"$nulls":27},695]
[{"$nulls":27},696]
[{"$nulls":27},697]
[{"$nulls":27},698]
[{"$nulls":27},699]
[{"$nulls":27},700]
[{"$nulls":27},701]
[{"$nulls":27},702]
[{"$nulls":27},703]
[{"$nulls":27},704]
[{"$nulls":27},705]
[{"$nulls":27},706]
[{"$nulls":27},707]
[{"$nulls":27},708]
[{"$nulls":27},709]
[{"$nulls":27},710]
[{"$nulls":27},711]
[{"$nulls":27},712]
[{"$nulls":27},713]
[{"$nulls":27},714]
[{"$nulls":27},715]
[{"$nulls":27},716]
[{"$nulls":27},717]
[{"$nulls":27},718]
[{"$nulls":27},719]
[{"$nulls":27},720]
[{"$nulls":27},721]
[{"$nulls":27},722]
[{"$nulls":27},723]
[{"$nulls":27},724]
[{"$nulls":27},725]
[{"$nulls":27},726]
[{"$nulls":27},727]
[{"$nulls":27},728]
[{"$nulls":27},729]
[{"$nulls":27},730]
[{"$nulls":27},731]
[{"$nulls":27},732]
[{"$nulls":27},733]
[{"$nulls":27},734]
[{"$nulls":27},735]
[{"$nulls":27},736]
[{"$nulls":27},737]
[{"$nulls":27},738]
[{"$nulls":27},739]
[{"$nulls":27},740]
[{"$nulls":27},741]
[{"$nulls":27},742]
[{"$nulls":27},743]
[{"$nulls":27},744]
[{"$nulls":27},745]
[{"$nulls":27},746]
[{"$nulls":27},747]
[{"$nulls":27},748]
[{"$nulls":27},749]
[{"$nulls":27},750]
[{"$nulls":27},751]
[{"$nulls":27},752]
[{"$nulls":27},753]
[{"$nulls":27},754]
[{"$nulls":27},755]
[{"$nulls":27},756]
[{"$nulls":27},757]
[{"$nulls":27},758]
[{"$nulls":27},759]
[{"$nulls":27},760]
[{"$nulls":27},761]
[{"$nulls":27},762]
[{"$nulls":27},763]
[{"$nulls":27},764]
[{"$nulls":27},765]
[{"$nulls":27},766]
[{"$nulls":27},767]
[{"$nulls":27},768]
[{"$nulls":27},769]
[{"$nulls":27},770]
[{"$nulls":27},771]
[{"$nulls":27},772]
[{"$nulls":27},773]
[{"$nulls":27},774]
[{"$nulls":27},775]
[{"$nulls":27},776]
[{"$nulls":27},777]
[{"$nulls":27},778]
[{"$nulls":27},779]
[{"$nulls":27},780]
[{"$nulls":27},781]
[{"$nulls":27},782]
[{"$nulls":27},783]
[{"$nulls":27},784]
[{"$nulls":27},785]
[{"$nulls":27},786]
[{"$nulls":27},787]
[{"$nulls":27},788]
[{"$nulls":27},789]
[{"$nulls":27},790]
[{"$nulls":27},791]
[{"$nulls":27},792]
[{"$nulls":27},793]
[{"$nulls":27},794]
[{"$nulls":27},795]
[{"$nulls":27},796]
[{"$nulls":27},797]
[{"$nulls":27},798]
[{"$nulls":27},799]
[{"$nulls":27},800]
[{"$nulls":27},801]
[{"$nulls":27},802]
[{"$nulls":27},803]
[{"$nulls":27},804]
[{"$nulls":27},805]
[{"$nulls":27},806]
[{"$nulls":27},807]
[{"$nulls":27},808]
[{"$nulls":27},809]
[{"$nulls":27},810]
[{"$nulls":27},811]
[{"$nulls":27},812]
[{"$nulls":27},813]
[{"$nulls":27},814]
[{"$nulls":27},815]
[{"$nulls":27},816]
[{"$nulls":27},817]
[{"$nulls":27},818]
[{"$nulls":27},819]
[{"$nulls":27},820]
[{"$nulls":27},821]
[{"$nulls":27},822]
[{"$nulls":27},823]
[{"$nulls":27},824]
[{"$nulls":27},825]
[{"$nulls":27},826]
[{"$nulls":27},827]
[{"$nulls":27},828]
[{"$nulls":27},829]
[{"$nulls":27},830]
[{"$nulls":27},831]
[{"$nulls":27},832]
[{"$nulls":27},833]
[{"$nulls":27},834]
[{"$nulls":27},835]
[{"$nulls":27},836]
[{"$nulls":27},837]
[{"$nulls":27},838]
[{"$nulls":27},839]
[{"$nulls":27},840]
[{"$nulls":27},841]
[{"$nulls":27},842]
[{"$nulls":27},843]
[{"$nulls":27},844]
[{"$nulls":27},845]
[{"$nulls":27},846]
[{"$nulls":27},847]
[{"$nulls":27},848]
[{"$nulls":27},849]
[{"$nulls":27},850]
[{"$nulls":27},851]
[{"$nulls":27},852]
[{"$nulls":27},853]
[{"$nulls":27},854]
[{"$nulls":27},855]
[{"$nulls":27},856]
[{"$nulls":27},857]
[{"$nulls":27},858]
[{"$nulls":27},859]
[{"$nulls":27},860]
[{"$nulls":27},861]
[{"$nulls":27},862]
[{"$nulls":27},863]
[{"$nulls":27},864]
[{"$nulls":27},865]
[{"$nulls":27},866]
[{"$nulls":27},867]
[{"$nulls":27},868]
[{"$nulls":27},869]
[{"$nulls":27},870]
[{"$nulls":27},871]
[{"$nulls":27},872]
[{"$nulls":27},873]
[{"$nulls":27},874]
[{"$nulls":27},875]
[{"$nulls":27},876]
[{"$nulls":27},877]
[{"$nulls":27},878]
[{"$nulls":27},879]
[{"$nulls":27},880]
[{"$nulls":27},881]
[{"$nulls":27},882]
[{"$nulls":27},883]
[{"$nulls":27},884]
[{"$nulls":27},885]
[{"$nulls":27},886]
[{"$nulls":27},887]
[{"$nulls":27},888]
[{"$nulls":27},889]
[{"$nulls":27},890]
[{"$nulls":27},891]
[{"$nulls":27},892]
[{"$nulls":27},893]
[{"$nulls":27},894]
[{"$nulls":27},895]
[{"$nulls":27},896]
[{"$nulls":27},897]
[{"$nulls":27},898]
[{"$nulls":27},899]
[{"$nulls":27},900]
[{"$nulls":27},901]
[{"$nulls":27},902]
[{"$nulls":27},903]
[{"$nulls":27},904]
[{"$nulls":27},905]
[{"$nulls":27},906]
[{"$nulls":27},907]
[{"$nulls":27},908]
[{"$nulls":27},909]
[{"$nulls":27},910]
[{"$nulls":27},911]
[{"$nulls":27},912]
[{"$nulls":27},913]
[{"$nulls":27},914]
[{"$nulls":27},915]
[{"$nulls":27},916]
[{"$nulls":27},917]
[{"$nulls":27},918]
[{"$nulls":27},919]
[{"$nulls":27},920]
[{"$nulls":27},921]
[{"$nulls":27},922]
[{"$nulls":27},923]
[{"$nulls":27},924]
[{"$nulls":27},925]
[{"$nulls":27},926]
[{"$nulls":27},927]
[{"$nulls":27},928]
[{"$nulls":27},929]
[{"$nulls":27},930]
[{"$nulls":27},931]
[{"$nulls":27},932]
[{"$nulls":27},933]
[{"$nulls":27},934]
[{"$nulls":27},935]
[{"$nulls":27},936]
[{"$nulls":27},937]
[{"$nulls":27},938]
[{"$nulls":27},939]
[{"$nulls":27},940]
[{"$nulls":27},941]
[{"$nulls":27},942]
[{"$nulls":27},943]
[{"$nulls":27},944]
[{"$nulls":27},945]
[{"$nulls":27},946]
[{"$nulls":27},947]
[{"$nulls":27},948]
[{"$nulls":27},949]
[{"$nulls":27},950]
[{"$nulls":27},951]
[{"$nulls":27},952]
[{"$nulls":27},953]
[{"$nulls":27},954]
[{"$nulls":27},955]
[{"$nulls":27},956]
[{"$nulls":27},957]
[{"$nulls":27},958]
[{"$nulls":27},959]
[{"$nulls":27},960]
[{"$nulls":27},961]
[{"$nulls":27},962]
[{"$nulls":27},963]
[{"$nulls":27},964]
[{"$nulls":27},965]
[{"$nulls":27},966]
[{"$nulls":27},967]
[{"$nulls":27},968]
[{"$nulls":27},969]
[{"$nulls":27},970]
[{"$nulls":27},971]
[{"$nulls":27},972]
[{"$nulls":27},973]
[{"$nulls":27},974]
[{"$nulls":27},975]
[{"$nulls":27},976]
[{"$nulls":27},977]
[{"$nulls":27},978]
[{"$nulls":27},979]
[{"$nulls":27},980]
[{"$nulls":27},981]
[{"$nulls":27},982]
[{"$nulls":27},983]
[{"$nulls":27},984]
[{"$nulls":27},985]
[{"$nulls":27},986]
[{"$nulls":27},987]
[{"$nulls":27},988]
[{"$nulls":27},989]
[{"$nulls":27},990]
[{"$nulls":27},991]
[{"$nulls":27},992]
[{"$nulls":27},993]
[{"$nulls":27},994]
[{"$nulls":27},995]
[{"$nulls":27},996]
[{"$nulls":27},997]
[{"$nulls":27},998]
[{"$nulls":27},999]
[{"$nulls":27},1000]

{"sheet":"Invitation Card 100","index":4,"n_rows":1447,"n_cols":29,"rows_kept":1447,"merged":[[13,25,15,25],[1072,1,1072,23],[1073,0,1073,23],[1074,0,1101,0],[1074,2,1074,10],[1074,14,1074,22],[1075,1,1099,1],[1075,2,1075,9],[1075,14,1075,21],[1075,22,1098,22],[1075,23,1099,23],[1076,2,1098,2],[1076,3,1076,9],[1076,14,1098,14],[1076,15,1076,21],[1077,3,1077,9],[1077,15,1077,21],[1078,3,1082,3],[1078,4,1078,8],[1078,9,1082,9],[1078,15,1082,15],[1078,16,1078,20],[1078,21,1082,21],[1079,4,1082,8],[1079,16,1082,20],[1083,3,1083,9],[1083,15,1083,21],[1084,3,1084,4],[1084,5,1084,9],[1084,15,1084,16],[1084,17,1084,21],[1085,3,1085,9],[1085,15,1085,21],[1086,3,1086,4],[1086,5,1086,6],[1086,7,1086,8],[1086,15,1086,16],[1086,17,1086,18],[1086,19,1086,20],[1087,3,1087,9],[1087,15,1087,21],[1088,3,1088,9],[1088,15,1088,21],[1089,3,1089,9],[1089,15,1089,21],[1090,3,1090,9],[1090,15,1090,21],[1091,3,1091,9],[1091,15,1091,21],[1092,3,1092,4],[1092,5,1092,9],[1092,15,1092,16],[1092,17,1092,21],[1093,3,1093,9],[1093,15,1093,21],[1094,4,1095,4],[1094,5,1095,7],[1094,8,1095,8],[1094,16,1095,16],[1094,17,1095,19],[1094,20,1095,20],[1096,4,1096,8],[1096,16,1096,20],[1097,3,1098,3],[1097,4,1097,8],[1097,9,1098,9],[1097,15,1098,15],[1097,16,1097,20],[1097,21,1098,21],[1098,4,1098,8],[1098,16,1098,20],[1099,2,1099,10],[1099,14,1099,22],[1100,2,1100,10],[1100,14,1100,22],[1101,1,1101,23],[1102,0,1102,23],[1103,0,1130,0],[1103,2,1103,10],[1103,14,1103,22],[1104,1,1128,1],[1104,2,1104,9],[1104,10,1127,10],[1104,11,1128,11],[1104,13,1128,13],[1104,14,1104,21],[1104,22,1127,22],[1104,23,1128,23],[1105,2,1127,2],[1105,3,1105,9],[1105,14,1127,14],[1105,15,1105,21],[1106,3,1106,9],[1106,15,1106,21],[1107,3,1111,3],[1107,4,1107,8],[1107,9,1111,9],[1107,15,1111,15],[1107,16,1107,20],[1107,21,1111,21],[1108,4,1111,8],[1108,16,1111,20],[1112,3,1112,9],[1112,15,1112,21],[1113,3,1113,4],[1113,5,1113,9],[1113,15,1113,16],[1113,17,1113,21],[1114,3,1114,9],[1114,15,1114,21],[1115,3,1115,4],[1115,5,1115,6],[1115,7,1115,8],[1115,15,1115,16],[1115,17,1115,18],[1115,19,1115,20],[1116,3,1116,9],[1116,15,1116,21],[1117,3,1117,9],[1117,15,1117,21],[1118,3,1118,9],[1118,15,1118,21],[1119,3,1119,9],[1119,15,1119,21],[1120,3,1120,9],[1120,15,1120,21],[1121,3,1121,4],[1121,5,1121,9],[1121,15,1121,16],[1121,17,1121,21],[1122,3,1122,9],[1122,15,1122,21],[1123,4,1124,4],[1123,5,1124,7],[1123,8,1124,8],[1123,16,1124,16],[1123,17,1124,19],[1123,20,1124,20],[1125,4,1125,8],[1125,16,1125,20],[1126,3,1127,3],[1126,4,1126,8],[1126,9,1127,9],[1126,15,1127,15],[1126,16,1126,20],[1126,21,1127,21],[1127,4,1127,8],[1127,16,1127,20],[1128,2,1128,10],[1128,14,1128,22],[1129,2,1129,10],[1129,14,1129,22],[1130,1,1130,23],[1131,0,1131,23],[1132,0,1159,0],[1132,2,1132,10],[1132,14,1132,22],[1133,1,1157,1],[1133,2,1133,9],[1133,10,1156,10],[1133,11,1157,11],[1133,13,1157,13],[1133,14,1133,21],[1133,22,1156,22],[1133,23,1157,23],[1134,2,1156,2],[1134,3,1134,9],[1134,14,1156,14],[1134,15,1134,21],[1135,3,1135,9],[1135,15,1135,21],[1136,3,1140,3],[1136,4,1136,8],[1136,9,1140,9],[1136,15,1140,15],[1136,16,1136,20],[1136,21,1140,21],[1137,4,1140,8],[1137,16,1140,20],[1141,3,1141,9],[1141,15,1141,21],[1142,3,1142,4],[1142,5,1142,9],[1142,15,1142,16],[1142,17,1142,21],[1143,3,1143,9],[1143,15,1143,21],[1144,3,1144,4],[1144,5,1144,6],[1144,7,1144,8],[1144,15,1144,16],[1144,17,1144,18],[1144,19,1144,20],[1145,3,1145,9],[1145,15,1145,21],[1146,3,1146,9],[1146,15,1146,21],[1147,3,1147,9],[1147,15,1147,21],[1148,3,1148,9],[1148,15,1148,21],[1149,3,1149,9],[1149,15,1149,21],[1150,3,1150,4],[1150,5,1150,9],[1150,15,1150,16],[1150,17,1150,21],[1151,3,1151,9],[1151,15,1151,21],[1152,4,1153,4],[1152,5,1153,7],[1152,8,1153,8],[1152,16,1153,16],[1152,17,1153,19],[1152,20,1153,20],[1154,4,1154,8],[1154,16,1154,20],[1155,3,1156,3],[1155,4,1155,8],[1155,9,1156,9],[1155,15,1156,15],[1155,16,1155,20],[1155,21,1156,21],[1156,4,1156,8],[1156,16,1156,20],[1157,2,1157,10],[1157,14,1157,22],[1158,2,1158,10],[1158,14,1158,22],[1159,1,1159,23],[1160,0,1160,23],[1161,0,1188,0],[1161,2,1161,10],[1161,14,1161,22],[1162,1,1186,1],[1162,2,1162,9],[1162,10,1185,10],[1162,11,1186,11],[1162,13,1186,13],[1162,14,1162,21],[1162,22,1185,22],[1162,23,1186,23],[1163,2,1185,2],[1163,3,1163,9],[1163,14,1185,14],[1163,15,1163,21],[1164,3,1164,9],[1164,15,1164,21],[1165,3,1169,3],[1165,4,1165,8],[1165,9,1169,9],[1165,15,1169,15],[1165,16,1165,20],[1165,21,1169,21],[1166,4,1169,8],[1166,16,1169,20],[1170,3,1170,9],[1170,15,1170,21],[1171,3,1171,4],[1171,5,1171,9],[1171,15,1171,16],[1171,17,1171,21],[1172,3,1172,9],[1172,15,1172,21],[1173,3,1173,4],[1173,5,1173,6],[1173,7,1173,8],[1173,15,1173,16],[1173,17,1173,18],[1173,19,1173,20],[1174,3,1174,9],[1174,15,1174,21],[1175,3,1175,9],[1175,15,1175,21],[1176,3,1176,9],[1176,15,1176,21],[1177,3,1177,9],[1177,15,1177,21],[1178,3,1178,9],[1178,15,1178,21],[1179,3,1179,4],[1179,5,1179,9],[1179,15,1179,16],[1179,17,1179,21],[1180,3,1180,9],[1180,15,1180,21],[1181,4,1182,4],[1181,5,1182,7],[1181,8,1182,8],[1181,16,1182,16],[1181,17,1182,19],[1181,20,1182,20],[1183,4,1183,8],[1183,16,1183,20],[1184,3,1185,3],[1184,4,1184,8],[1184,9,1185,9],[1184,15,1185,15],[1184,16,1184,20],[1184,21,1185,21],[1185,4,1185,8],[1185,16,1185,20],[1186,2,1186,10],[1186,14,1186,22],[1187,2,1187,10],[1187,14,1187,22],[1188,1,1188,23],[1189,0,1189,23],[1190,0,1217,0],[1190,2,1190,10],[1190,14,1190,22],[1191,1,1215,1],[1191,2,1191,9],[1191,10,1214,10],[1191,11,1215,11],[1191,13,1215,13],[1191,14,1191,21],[1191,22,1214,22],[1191,23,1215,23],[1192,2,1214,2],[1192,3,1192,9],[1192,14,1214,14],[1192,15,1192,21],[1193,3,1193,9],[1193,15,1193,21],[1194,3,1198,3],[1194,4,1194,8],[1194,9,1198,9],[1194,15,1198,15],[1194,16,1194,20],[1194,21,1198,21],[1195,4,1198,8],[1195,16,1198,20],[1199,3,1199,9],[1199,15,1199,21],[1200,3,1200,4],[1200,5,1200,9],[1200,15,1200,16],[1200,17,1200,21],[1201,3,1201,9],[1201,15,1201,21],[1202,3,1202,4],[1202,5,1202,6],[1202,7,1202,8],[1202,15,1202,16],[1202,17,1202,18],[1202,19,1202,20],[1203,3,1203,9],[1203,15,1203,21],[1204,3,1204,9],[1204,15,1204,21],[1205,3,1205,9],[1205,15,1205,21],[1206,3,1206,9],[1206,15,1206,21],[1207,3,1207,9],[1207,15,1207,21],[1208,3,1208,4],[1208,5,1208,9],[1208,15,1208,16],[1208,17,1208,21],[1209,3,1209,9],[1209,15,1209,21],[1210,4,1211,4],[1210,5,1211,7],[1210,8,1211,8],[1210,16,1211,16],[1210,17,1211,19],[1210,20,1211,20],[1212,4,1212,8],[1212,16,1212,20],[1213,3,1214,3],[1213,4,1213,8],[1213,9,1214,9],[1213,15,1214,15],[1213,16,1213,20],[1213,21,1214,21],[1214,4,1214,8],[1214,16,1214,20],[1215,2,1215,10],[1215,14,1215,22],[1216,2,1216,10],[1216,14,1216,22],[1217,1,1217,23],[1218,0,1218,23],[1219,0,1246,0],[1219,2,1219,10],[1219,14,1219,22],[1220,1,1244,1],[1220,2,1220,9],[1220,10,1243,10],[1220,11,1244,11],[1220,13,1244,13],[1220,14,1220,21],[1220,22,1243,22],[1220,23,1244,23],[1221,2,1243,2],[1221,3,1221,9],[1221,14,1243,14],[1221,15,1221,21],[1222,3,1222,9],[1222,15,1222,21],[1223,3,1227,3],[1223,4,1223,8],[1223,9,1227,9],[1223,15,1227,15],[1223,16,1223,20],[1223,21,1227,21],[1224,4,1227,8],[1224,16,1227,20],[1228,3,1228,9],[1228,15,1228,21],[1229,3,1229,4],[1229,5,1229,9],[1229,15,1229,16],[1229,17,1229,21],[1230,3,1230,9],[1230,15,1230,21],[1231,3,1231,4],[1231,5,1231,6],[1231,7,1231,8],[1231,15,1231,16],[1231,17,1231,18],[1231,19,1231,20],[1232,3,1232,9],[1232,15,1232,21],[1233,3,1233,9],[1233,15,1233,21],[1234,3,1234,9],[1234,15,1234,21],[1235,3,1235,9],[1235,15,1235,21],[1236,3,1236,9],[1236,15,1236,21],[1237,3,1237,4],[1237,5,1237,9],[1237,15,1237,16],[1237,17,1237,21],[1238,3,1238,9],[1238,15,1238,21],[1239,4,1240,4],[1239,5,1240,7],[1239,8,1240,8],[1239,16,1240,16],[1239,17,1240,19],[1239,20,1240,20],[1241,4,1241,8],[1241,16,1241,20],[1242,3,1243,3],[1242,4,1242,8],[1242,9,1243,9],[1242,15,1243,15],[1242,16,1242,20],[1242,21,1243,21],[1243,4,1243,8],[1243,16,1243,20],[1244,2,1244,10],[1244,14,1244,22],[1245,2,1245,10],[1245,14,1245,22],[1246,1,1246,23],[1247,0,1247,23],[1248,0,1275,0],[1248,2,1248,10],[1248,14,1248,22],[1249,1,1273,1],[1249,2,1249,9],[1249,10,1272,10],[1249,11,1273,11],[1249,13,1273,13],[1249,14,1249,21],[1249,22,1272,22],[1249,23,1273,23],[1250,2,1272,2],[1250,3,1250,9],[1250,14,1272,14],[1250,15,1250,21],[1251,3,1251,9],[1251,15,1251,21],[1252,3,1256,3],[1252,4,1252,8],[1252,9,1256,9],[1252,15,1256,15],[1252,16,1252,20],[1252,21,1256,21],[1253,4,1256,8],[1253,16,1256,20],[1257,3,1257,9],[1257,15,1257,21],[1258,3,1258,4],[1258,5,1258,9],[1258,15,1258,16],[1258,17,1258,21],[1259,3,1259,9],[1259,15,1259,21],[1260,3,1260,4],[1260,5,1260,6],[1260,7,1260,8],[1260,15,1260,16],[1260,17,1260,18],[1260,19,1260,20],[1261,3,1261,9],[1261,15,1261,21],[1262,3,1262,9],[1262,15,1262,21],[1263,3,1263,9],[1263,15,1263,21],[1264,3,1264,9],[1264,15,1264,21],[1265,3,1265,9],[1265,15,1265,21],[1266,3,1266,4],[1266,5,1266,9],[1266,15,1266,16],[1266,17,1266,21],[1267,3,1267,9],[1267,15,1267,21],[1268,4,1269,4],[1268,5,1269,7],[1268,8,1269,8],[1268,16,1269,16],[1268,17,1269,19],[1268,20,1269,20],[1270,4,1270,8],[1270,16,1270,20],[1271,3,1272,3],[1271,4,1271,8],[1271,9,1272,9],[1271,15,1272,15],[1271,16,1271,20],[1271,21,1272,21],[1272,4,1272,8],[1272,16,1272,20],[1273,2,1273,10],[1273,14,1273,22],[1274,2,1274,10],[1274,14,1274,22],[1275,1,1275,23],[1276,0,1276,23],[1277,0,1304,0],[1277,2,1277,10],[1277,14,1277,22],[1278,1,1302,1],[1278,2,1278,9],[1278,10,1301,10],[1278,11,1302,11],[1278,13,1302,13],[1278,14,1278,21],[1278,22,1301,22],[1278,23,1302,23],[1279,2,1301,2],[1279,3,1279,9],[1279,14,1301,14],[1279,15,1279,21],[1280,3,1280,9],[1280,15,1280,21],[1281,3,1285,3],[1281,4,1281,8],[1281,9,1285,9],[1281,15,1285,15],[1281,16,1281,20],[1281,21,1285,21],[1282,4,1285,8],[1282,16,1285,20],[1286,3,1286,9],[1286,15,1286,21],[1287,3,1287,4],[1287,5,1287,9],[1287,15,1287,16],[1287,17,1287,21],[1288,3,1288,9],[1288,15,1288,21],[1289,3,1289,4],[1289,5,1289,6],[1289,7,1289,8],[1289,15,1289,16],[1289,17,1289,18],[1289,19,1289,20],[1290,3,1290,9],[1290,15,1290,21],[1291,3,1291,9],[1291,15,1291,21],[1292,3,1292,9],[1292,15,1292,21],[1293,3,1293,9],[1293,15,1293,21],[1294,3,1294,9],[1294,15,1294,21],[1295,3,1295,4],[1295,5,1295,9],[1295,15,1295,16],[1295,17,1295,21],[1296,3,1296,9],[1296,15,1296,21],[1297,4,1298,4],[1297,5,1298,7],[1297,8,1298,8],[1297,16,1298,16],[1297,17,1298,19],[1297,20,1298,20],[1299,4,1299,8],[1299,16,1299,20],[1300,3,1301,3],[1300,4,1300,8],[1300,9,1301,9],[1300,15,1301,15],[1300,16,1300,20],[1300,21,1301,21],[1301,4,1301,8],[1301,16,1301,20],[1302,2,1302,10],[1302,14,1302,22],[1303,2,1303,10],[1303,14,1303,22],[1304,1,1304,23],[1305,0,1305,23],[1306,0,1333,0],[1306,2,1306,10],[1306,14,1306,22],[1307,1,1331,1],[1307,2,1307,9],[1307,10,1330,10],[1307,11,1331,11],[1307,13,1331,13],[1307,14,1307,21],[1307,22,1330,22],[1307,23,1331,23],[1308,2,1330,2],[1308,3,1308,9],[1308,14,1330,14],[1308,15,1308,21],[1309,3,1309,9],[1309,15,1309,21],[1310,3,1314,3],[1310,4,1310,8],[1310,9,1314,9],[1310,15,1314,15],[1310,16,1310,20],[1310,21,1314,21],[1311,4,1314,8],[1311,16,1314,20],[1315,3,1315,9],[1315,15,1315,21],[1316,3,1316,4],[1316,5,1316,9],[1316,15,1316,16],[1316,17,1316,21],[1317,3,1317,9],[1317,15,1317,21],[1318,3,1318,4],[1318,5,1318,6],[1318,7,1318,8],[1318,15,1318,16],[1318,17,1318,18],[1318,19,1318,20],[1319,3,1319,9],[1319,15,1319,21],[1320,3,1320,9],[1320,15,1320,21],[1321,3,1321,9],[1321,15,1321,21],[1322,3,1322,9],[1322,15,1322,21],[1323,3,1323,9],[1323,15,1323,21],[1324,3,1324,4],[1324,5,1324,9],[1324,15,1324,16],[1324,17,1324,21],[1325,3,1325,9],[1325,15,1325,21],[1326,4,1327,4],[1326,5,1327,7],[1326,8,1327,8],[1326,16,1327,16],[1326,17,1327,19],[1326,20,1327,20],[1328,4,1328,8],[1328,16,1328,20],[1329,3,1330,3],[1329,4,1329,8],[1329,9,1330,9],[1329,15,1330,15],[1329,16,1329,20],[1329,21,1330,21],[1330,4,1330,8],[1330,16,1330,20],[1331,2,1331,10],[1331,14,1331,22],[1332,2,1332,10],[1332,14,1332,22],[1333,1,1333,23],[1334,0,1334,23],[1335,0,1362,0],[1335,2,1335,10],[1335,14,1335,22],[1336,1,1360,1],[1336,2,1336,9],[1336,10,1359,10],[1336,11,1360,11],[1336,13,1360,13],[1336,14,1336,21],[1336,22,1359,22],[1336,23,1360,23],[1337,2,1359,2],[1337,3,1337,9],[1337,14,1359,14],[1337,15,1337,21],[1338,3,1338,9],[1338,15,1338,21],[1339,3,1343,3],[1339,4,1339,8],[1339,9,1343,9],[1339,15,1343,15],[1339,16,1339,20],[1339,21,1343,21],[1340,4,1343,8],[1340,16,1343,20],[1344,3,1344,9],[1344,15,1344,21],[1345,3,1345,4],[1345,5,1345,9],[1345,15,1345,16],[1345,17,1345,21],[1346,3,1346,9],[1346,15,1346,21],[1347,3,1347,4],[1347,5,1347,6],[1347,7,1347,8],[1347,15,1347,16],[1347,17,1347,18],[1347,19,1347,20],[1348,3,1348,9],[1348,15,1348,21],[1349,3,1349,9],[1349,15,1349,21],[1350,3,1350,9],[1350,15,1350,21],[1351,3,1351,9],[1351,15,1351,21],[1352,3,1352,9],[1352,15,1352,21],[1353,3,1353,4],[1353,5,1353,9],[1353,15,1353,16],[1353,17,1353,21],[1354,3,1354,9],[1354,15,1354,21],[1355,4,1356,4],[1355,5,1356,7],[1355,8,1356,8],[1355,16,1356,16],[1355,17,1356,19],[1355,20,1356,20],[1357,4,1357,8],[1357,16,1357,20],[1358,3,1359,3],[1358,4,1358,8],[1358,9,1359,9],[1358,15,1359,15],[1358,16,1358,20],[1358,21,1359,21],[1359,4,1359,8],[1359,16,1359,20],[1360,2,1360,10],[1360,14,1360,22],[1361,2,1361,10],[1361,14,1361,22],[1362,1,1362,23],[1363,0,1363,23],[1364,0,1391,0],[1364,2,1364,10],[1364,14,1364,22],[1365,1,1389,1],[1365,2,1365,9],[1365,10,1388,10],[1365,11,1389,11],[1365,13,1389,13],[1365,14,1365,21],[1365,22,1388,22],[1365,23,1389,23],[1366,2,1388,2],[1366,3,1366,9],[1366,14,1388,14],[1366,15,1366,21],[1367,3,1367,9],[1367,15,1367,21],[1368,3,1372,3],[1368,4,1368,8],[1368,9,1372,9],[1368,15,1372,15],[1368,16,1368,20],[1368,21,1372,21],[1369,4,1372,8],[1369,16,1372,20],[1373,3,1373,9],[1373,15,1373,21],[1374,3,1374,4],[1374,5,1374,9],[1374,15,1374,16],[1374,17,1374,21],[1375,3,1375,9],[1375,15,1375,21],[1376,3,1376,4],[1376,5,1376,6],[1376,7,1376,8],[1376,15,1376,16],[1376,17,1376,18],[1376,19,1376,20],[1377,3,1377,9],[1377,15,1377,21],[1378,3,1378,9],[1378,15,1378,21],[1379,3,1379,9],[1379,15,1379,21],[1380,3,1380,9],[1380,15,1380,21],[1381,3,1381,9],[1381,15,1381,21],[1382,3,1382,4],[1382,5,1382,9],[1382,15,1382,16],[1382,17,1382,21],[1383,3,1383,9],[1383,15,1383,21],[1384,4,1385,4],[1384,5,1385,7],[1384,8,1385,8],[1384,16,1385,16],[1384,17,1385,19],[1384,20,1385,20],[1386,4,1386,8],[1386,16,1386,20],[1387,3,1388,3],[1387,4,1387,8],[1387,9,1388,9],[1387,15,1388,15],[1387,16,1387,20],[1387,21,1388,21],[1388,4,1388,8],[1388,16,1388,20],[1389,2,1389,10],[1389,14,1389,22],[1390,2,1390,10],[1390,14,1390,22],[1391,1,1391,23],[1392,0,1392,23],[1393,0,1420,0],[1393,2,1393,10],[1393,14,1393,22],[1394,1,1418,1],[1394,2,1394,9],[1394,10,1417,10],[1394,11,1418,11],[1394,13,1418,13],[1394,14,1394,21],[1394,22,1417,22],[1394,23,1418,23],[1395,2,1417,2],[1395,3,1395,9],[1395,14,1417,14],[1395,15,1395,21],[1396,3,1396,9],[1396,15,1396,21],[1397,3,1401,3],[1397,4,1397,8],[1397,9,1401,9],[1397,15,1401,15],[1397,16,1397,20],[1397,21,1401,21],[1398,4,1401,8],[1398,16,1401,20],[1402,3,1402,9],[1402,15,1402,21],[1403,3,1403,4],[1403,5,1403,9],[1403,15,1403,16],[1403,17,1403,21],[1404,3,1404,9],[1404,15,1404,21],[1405,3,1405,4],[1405,5,1405,6],[1405,7,1405,8],[1405,15,1405,16],[1405,17,1405,18],[1405,19,1405,20],[1406,3,1406,9],[1406,15,1406,21],[1407,3,1407,9],[1407,15,1407,21],[1408,3,1408,9],[1408,15,1408,21],[1409,3,1409,9],[1409,15,1409,21],[1410,3,1410,9],[1410,15,1410,21],[1411,3,1411,4],[1411,5,1411,9],[1411,15,1411,16],[1411,17,1411,21],[1412,3,1412,9],[1412,15,1412,21],[1413,4,1414,4],[1413,5,1414,7],[1413,8,1414,8],[1413,16,1414,16],[1413,17,1414,19],[1413,20,1414,20],[1415,4,1415,8],[1415,16,1415,20],[1416,3,1417,3],[1416,4,1416,8],[1416,9,1417,9],[1416,15,1417,15],[1416,16,1416,20],[1416,21,1417,21],[1417,4,1417,8],[1417,16,1417,20],[1418,2,1418,10],[1418,14,1418,22],[1419,2,1419,10],[1419,14,1419,22],[1420,1,1420,23],[1421,0,1421,23],[1422,0,1449,0],[1422,2,1422,10],[1422,14,1422,22],[1423,1,1447,1],[1423,2,1423,9],[1423,10,1446,10],[1423,11,1447,11],[1423,13,1447,13],[1423,14,1423,21],[1423,22,1446,22],[1423,23,1447,23],[1424,2,1446,2],[1424,3,1424,9],[1424,14,1446,14],[1424,15,1424,21],[1425,3,1425,9],[1425,15,1425,21],[1426,3,1430,3],[1426,4,1426,8],[1426,9,1430,9],[1426,15,1430,15],[1426,16,1426,20],[1426,21,1430,21],[1427,4,1430,8],[1427,16,1430,20],[1431,3,1431,9],[1431,15,1431,21],[1432,3,1432,4],[1432,5,1432,9],[1432,15,1432,16],[1432,17,1432,21],[1433,3,1433,9],[1433,15,1433,21],[1434,3,1434,4],[1434,5,1434,6],[1434,7,1434,8],[1434,15,1434,16],[1434,17,1434,18],[1434,19,1434,20],[1435,3,1435,9],[1435,15,1435,21],[1436,3,1436,9],[1436,15,1436,21],[1437,3,1437,9],[1437,15,1437,21],[1438,3,1438,9],[1438,15,1438,21],[1439,3,1439,9],[1439,15,1439,21],[1440,3,1440,4],[1440,5,1440,9],[1440,15,1440,16],[1440,17,1440,21],[1441,3,1441,9],[1441,15,1441,21],[1442,4,1443,4],[1442,5,1443,7],[1442,8,1443,8],[1442,16,1443,16],[1442,17,1443,19],[1442,20,1443,20],[1444,4,1444,8],[1444,16,1444,20],[1445,3,1446,3],[1445,4,1445,8],[1445,9,1446,9],[1445,15,1446,15],[1445,16,1445,20],[1445,21,1446,21],[1446,4,1446,8],[1446,16,1446,20],[1447,2,1447,10],[1447,14,1447,22],[1448,2,1448,10],[1448,14,1448,22],[1449,1,1449,23]],"merged_total":3853,"flags":["merged_cut"]}
[]
[]
[]
[{"$nulls":3},{"$f":"Master!$E$5","v":"राजकीय उच्च माध्यमिक विद्यालय रायमलवाडा"},{"$nulls":11},{"$f":"Master!$E$5","v":"राजकीय उच्च माध्यमिक विद्यालय रायमलवाडा"},{"$nulls":9},"जिसका आमंत्रण पत्र निकालना है उनके क्रमांक की सीमा दर्ज करें (1 to 1000)",null,{"$f":"Z8","v":1},{"$f":"AB4+1","v":2}]
[{"$nulls":3},{"$f":"Master!$E$6","v":"ब्लॉक-बापिणी (जोधपुर)"},{"$nulls":11},{"$f":"Master!$E$6","v":"ब्लॉक-बापिणी (जोधपुर)"}]
[]
[{"$nulls":4},":: आमंत्रण-पत्र ::",{"$nulls":11},":: आमंत्रण-पत्र ::"]
[{"$nulls":25},1]
[]
[]
[]
[{"$nulls":3},"श्रीयुत/श्रीमती",null,{"$f":"VLOOKUP(AB4,'Student Details'!$A$3:$D$1002,4,0)","v":"hjfhfh"},{"$nulls":9},"श्रीयुत/श्रीमती",null,{"$f":"VLOOKUP(AC4,'Student Details'!$A$3:$D$1002,4,0)","v":"hfyhf"}]
[{"$nulls":3},"आपको सूचित करते हुए हर्ष हो रहा है कि दिनांक-",{"$nulls":11},"आपको सूचित करते हुए हर्ष हो रहा है कि दिनांक-"]
[{"$nulls":3},{"$f":"Master!$E$8","v":"2021-03-09"},null,"समय-",null,{"$f":"Master!$E$9","v":"09:15:00"},null,"से",{"$nulls":5},{"$f":"Master!$E$8","v":"2021-03-09"},null,"समय-",null,{"$f":"Master!$E$9","v":"09:15:00"},null,"से",{"$nulls":3},3]
[{"$nulls":3},"स्थानीय शाला प्रांगण में ",{"$nulls":11},"स्थानीय शाला प्रांगण में "]
[{"$nulls":3},{"$f":"Master!$E$7","v":"Republic Day"},{"$nulls":11},{"$f":"Master!$E$7","v":"Republic Day"}]
[{"$nulls":3},"का आयोजन किया जा रहा है, इस समारोह में आपकी गरिमामयी उपस्थिति सादर प्रार्थनीय है l",{"$nulls":11},"का आयोजन किया जा रहा है, इस समारोह में आपकी गरिमामयी उपस्थिति सादर प्रार्थनीय है l"]
[]
[]
[{"$nulls":3},"विशेष आकर्षण:-",null,{"$f":"Master!$E$10","v":"पूर्व छात्र मिल्लन, प्रतिभा एवं भामाशाह सम्मान कार्यक्रम"},{"$nulls":9},"विशेष आकर्षण:-",null,{"$f":"Master!$E$10","v":"पूर्व छात्र मिल्लन, प्रतिभा एवं भामाशाह सम्मान कार्यक्रम"}]
[]
[{"$nulls":5},":: निवेदक ::",{"$nulls":11},":: निवेदक ::"]
[]
[{"$nulls":4},{"$f":"CONCATENATE(Master!$E$12,Master!$G$12)","v":"संस्था प्रधान राजकीय उच्च माध्यमिक विद्यालय रायमलवाडा"},{"$nulls":11},{"$f":"CONCATENATE(Master!$E$12,Master!$G$12)","v":"संस्था प्रधान राजकीय उच्च माध्यमिक विद्यालय रायमलवाडा"}]
[{"$nulls":4},"विनीत:-",{"$nulls":11},"विनीत:-"]
[{"$nulls":4},"SMC/SDMC सदस्य एवं शाला परिवार",{"$nulls":11},"SMC/SDMC सदस्य एवं शाला परिवार"]
[]
[]
[]
[]
[]
[]
[{"$nulls":3},{"$f":"Master!$E$5","v":"राजकीय उच्च माध्यमिक विद्यालय रायमलवाडा"},{"$nulls":11},{"$f":"Master!$E$5","v":"राजकीय उच्च माध्यमिक विद्यालय रायमलवाडा"},{"$nulls":11},{"$f":"AC4+1","v":3},{"$f":"AB33+1","v":4}]
[{"$nulls":3},{"$f":"Master!$E$6","v":"ब्लॉक-बापिणी (जोधपुर)"},{"$nulls":11},{"$f":"Master!$E$6","v":"ब्लॉक-बापिणी (जोधपुर)"}]
[]
[{"$nulls":4},":: आमंत्रण-पत्र ::",{"$nulls":11},":: आमंत्रण-पत्र ::"]
[]
[]
[]
[]
[{"$nulls":3},"श्रीयुत/श्रीमती",null,{"$f":"VLOOKUP(AB33,'Student Details'!$A$3:$D$1002,4,0)","v":"ufgjgug"},{"$nulls":9},"श्रीयुत/श्रीमती",null,{"$f":"VLOOKUP(AC33,'Student Details'!$A$3:$D$1002,4,0)","v":0}]
[{"$nulls":3},"आपको सूचित करते हुए हर्ष हो रहा है कि दिनांक-",{"$nulls":11},"आपको सूचित करते हुए हर्ष हो रहा है कि दिनांक-"]
[{"$nulls":3},{"$f":"Master!$E$8","v":"2021-03-09"},null,"समय-",null,{"$f":"Master!$E$9","v":"09:15:00"},null,"से",{"$nulls":5},{"$f":"Master!$E$8","v":"2021-03-09"},null,"समय-",null,{"$f":"Master!$E$9","v":"09:15:00"},null,"से"]
[{"$nulls":3},"स्थानीय शाला प्रांगण में ",{"$nulls":11},"स्थानीय शाला प्रांगण में "]
[{"$nulls":3},{"$f":"Master!$E$7","v":"Republic Day"},{"$nulls":11},{"$f":"Master!$E$7","v":"Republic Day"}]
[{"$nulls":3},"का आयोजन किया जा रहा है, इस समारोह में आपकी गरिमामयी उपस्थिति सादर प्रार्थनीय है l",{"$nulls":11},"का आयोजन किया जा रहा है, इस समारोह में आपकी गरिमामयी उपस्थिति सादर प्रार्थनीय है l"]
[]
[]
[{"$nulls":3},"विशेष आकर्षण:-",null,{"$f":"Master!$E$10","v":"पूर्व छात्र मिल्लन, प्रतिभा एवं भामाशाह सम्मान कार्यक्रम"},{"$nulls":9},"विशेष आकर्षण:-",null,{"$f":"Master!$E$10","v":"पूर्व छात्र मिल्लन, प्रतिभा एवं भामाशाह सम्मान कार्यक्रम"}]
[]
[{"$nulls":5},":: निवेदक ::",{"$nulls":11},":: निवेदक ::"]
[]
[{"$nulls":4},{"$f":"CONCATENATE(Master!$E$12,Master!$G$12)","v":"संस्था प्रधान राजकीय उच्च माध्यमिक विद्यालय रायमलवाडा"},{"$nulls":11},{"$f":"CONCATENATE(Master!$E$12,Master!$G$12)","v":"संस्था प्रधान राजकीय उच्च माध्यमिक विद्यालय रायमलवाडा"}]
[{"$nulls":4},"विनीत:-",{"$nulls":11},"विनीत:-"]
[{"$nulls":4},"SMC/SDMC सदस्य एवं शाला परिवार",{"$nulls":11},"SMC/SDMC सदस्य एवं शाला परिवार"]
[]
[]
[]
[]
[]
[]
[{"$nulls":3},{"$f":"Master!$E$5","v":"राजकीय उच्च माध्यमिक विद्यालय रायमलवाडा"},{"$nulls":11},{"$f":"Master!$E$5","v":"राजकीय उच्च माध्यमिक विद्यालय रायमलवाडा"},{"$nulls":11},{"$f":"AC33+1","v":5},{"$f":"AB62+1","v":6}]
[{"$nulls":3},{"$f":"Master!$E$6","v":"ब्लॉक-बापिणी (जोधपुर)"},{"$nulls":11},{"$f":"Master!$E$6","v":"ब्लॉक-बापिणी (जोधपुर)"}]
[]
[{"$nulls":4},":: आमंत्रण-पत्र ::",{"$nulls":11},":: आमंत्रण-पत्र ::"]
[]
[]
[]
[]
[{"$nulls":3},"श्रीयुत/श्रीमती",null,{"$f":"VLOOKUP(AB62,'Student Details'!$A$3:$D$1002,4,0)","v":0},{"$nulls":9},"श्रीयुत/श्रीमती",null,{"$f":"VLOOKUP(AC62,'Student Details'!$A$3:$D$1002,4,0)","v":0}]
[{"$nulls":3},"आपको सूचित करते हुए हर्ष हो रहा है कि दिनांक-",{"$nulls":11},"आपको सूचित करते हुए हर्ष हो रहा है कि दिनांक-"]
[{"$nulls":3},{"$f":"Master!$E$8","v":"2021-03-09"},null,"समय-",null,{"$f":"Master!$E$9","v":"09:15:00"},null,"से",{"$nulls":5},{"$f":"Master!$E$8","v":"2021-03-09"},null,"समय-",null,{"$f":"Master!$E$9","v":"09:15:00"},null,"से"]
[{"$nulls":3},"स्थानीय शाला प्रांगण में ",{"$nulls":11},"स्थानीय शाला प्रांगण में "]
[{"$nulls":3},{"$f":"Master!$E$7","v":"Republic Day"},{"$nulls":11},{"$f":"Master!$E$7","v":"Republic Day"}]
[{"$nulls":3},"का आयोजन किया जा रहा है, इस समारोह में आपकी गरिमामयी उपस्थिति सादर प्रार्थनीय है l",{"$nulls":11},"का आयोजन किया जा रहा है, इस समारोह में आपकी गरिमामयी उपस्थिति सादर प्रार्थनीय है l"]
[]
[]
[{"$nulls":3},"विशेष आकर्षण:-",null,{"$f":"Master!$E$10","v":"पूर्व छात्र मिल्लन, प्रतिभा एवं भामाशाह सम्मान कार्यक्रम"},{"$nulls":9},"विशेष आकर्षण:-",null,{"$f":"Master!$E$10","v":"पूर्व छात्र मिल्लन, प्रतिभा एवं भामाशाह सम्मान कार्यक्रम"}]
[]
[{"$nulls":5},":: निवेदक ::",{"$nulls":11},":: निवेदक ::"]
[]
[{"$nulls":4},{"$f":"CONCATENATE(Master!$E$12,Master!$G$12)","v":"संस्था प्रधान राजकीय उच्च माध्यमिक विद्यालय रायमलवाडा"},{"$nulls":11},{"$f":"CONCATENATE(Master!$E$12,Master!$G$12)","v":"संस्था प्रधान राजकीय उच्च माध्यमिक विद्यालय रायमलवाडा"}]
[{"$nulls":4},"विनीत:-",{"$nulls":11},"विनीत:-"]
[{"$nulls":4},"SMC/SDMC सदस्य एवं शाला परिवार",{"$nulls":11},"SMC/SDMC सदस्य एवं शाला परिवार"]
[]
[]
[]
[]
[]
[]
[{"$nulls":3},{"$f":"Master!$E$5","v":"राजकीय उच्च माध्यमिक विद्यालय रायमलवाडा"},{"$nulls":11},{"$f":"Master!$E$5","v":"राजकीय उच्च माध्यमिक विद्यालय रायमलवाडा"},{"$nulls":11},{"$f":"AC62+1","v":7},{"$f":"AB91+1","v":8}]
[{"$nulls":3},{"$f":"Master!$E$6","v":"ब्लॉक-बापिणी (जोधपुर)"},{"$nulls":11},{"$f":"Master!$E$6","v":"ब्लॉक-बापिणी (जोधपुर)"}]
[]
[{"$nulls":4},":: आमंत्रण-पत्र ::",{"$nulls":11},":: आमंत्रण-पत्र ::"]
[]
[]
[]
[]
[{"$nulls":3},"श्रीयुत/श्रीमती",null,{"$f":"VLOOKUP(AB91,'Student Details'!$A$3:$D$1002,4,0)","v":0},{"$nulls":9},"श्रीयुत/श्रीमती",null,{"$f":"VLOOKUP(AC91,'Student Details'!$A$3:$D$1002,4,0)","v":0}]
[{"$nulls":3},"आपको सूचित करते हुए हर्ष हो रहा है कि दिनांक-",{"$nulls":11},"आपको सूचित करते हुए हर्ष हो रहा है कि दिनांक-"]
[{"$nulls":3},{"$f":"Master!$E$8","v":"2021-03-09"},null,"समय-",null,{"$f":"Master!$E$9","v":"09:15:00"},null,"से",{"$nulls":5},{"$f":"Master!$E$8","v":"2021-03-09"},null,"समय-",null,{"$f":"Master!$E$9","v":"09:15:00"},null,"से"]
[{"$nulls":3},"स्थानीय शाला प्रांगण में ",{"$nulls":11},"स्थानीय शाला प्रांगण में "]
[{"$nulls":3},{"$f":"Master!$E$7","v":"Republic Day"},{"$nulls":11},{"$f":"Master!$E$7","v":"Republic Day"}]
[{"$nulls":3},"का आयोजन किया जा रहा है, इस समारोह में आपकी गरिमामयी उपस्थिति सादर प्रार्थनीय है l",{"$nulls":11},"का आयोजन किया जा रहा है, इस समारोह में आपकी गरिमामयी उपस्थिति सादर प्रार्थनीय है l"]
[]
[]
[{"$nulls":3},"विशेष आकर्षण:-",null,{"$f":"Master!$E$10","v":"पूर्व छात्र मिल्लन, प्रतिभा एवं भामाशाह सम्मान कार्यक्रम"},{"$nulls":9},"विशेष आकर्षण:-",null,{"$f":"Master!$E$10","v":"पूर्व छात्र मिल्लन, प्रतिभा एवं भामाशाह सम्मान कार्यक्रम"}]
[]
[{"$nulls":5},":: निवेदक ::",{"$nulls":11},":: निवेदक ::"]
[]
[{"$nulls":4},{"$f":"CONCATENATE(Master!$E$12,Master!$G$12)","v":"संस्था प्रधान राजकीय उच्च माध्यमिक विद्यालय रायमलवाडा"},{"$nulls":11},{"$f":"CONCATENATE(Master!$E$12,Master!$G$12)","v":"संस्था प्रधान राजकीय उच्च माध्यमिक विद्यालय रायमलवाडा"}]
[{"$nulls":4},"विनीत:-",{"$nulls":11},"विनीत:-"]
[{"$nulls":4},"SMC/SDMC सदस्य एवं शाला परिवार",{"$nulls":11},"SMC/SDMC सदस्य एवं शाला परिवार"]
[]
[]
[]
[]
[]
[]
[{"$nulls":3},{"$f":"Master!$E$5","v":"राजकीय उच्च माध्यमिक विद्यालय रायमलवाडा"},{"$nulls":11},{"$f":"Master!$E$5","v":"राजकीय उच्च माध्यमिक विद्यालय रायमलवाडा"},{"$nulls":11},{"$f":"AC91+1","v":9},{"$f":"AB120+1","v":10}]
[{"$nulls":3},{"$f":"Master!$E$6","v":"ब्लॉक-बापिणी (जोधपुर)"},{"$nulls":11},{"$f":"Master!$E$6","v":"ब्लॉक-बापिणी (जोधपुर)"}]
[]
[{"$nulls":4},":: आमंत्रण-पत्र ::",{"$nulls":11},":: आमंत्रण-पत्र ::"]
[]
[]
[]
[]
[{"$nulls":3},"श्रीयुत/श्रीमती",null,{"$f":"VLOOKUP(AB120,'Student Details'!$A$3:$D$1002,4,0)","v":0},{"$nulls":9},"श्रीयुत/श्रीमती",null,{"$f":"VLOOKUP(AC120,'Student Details'!$A$3:$D$1002,4,0)","v":0}]
[{"$nulls":3},"आपको सूचित करते हुए हर्ष हो रहा है कि दिनांक-",{"$nulls":11},"आपको सूचित करते हुए हर्ष हो रहा है कि दिनांक-"]
[{"$nulls":3},{"$f":"Master!$E$8","v":"2021-03-09"},null,"समय-",null,{"$f":"Master!$E$9","v":"09:15:00"},null,"से",{"$nulls":5},{"$f":"Master!$E$8","v":"2021-03-09"},null,"समय-",null,{"$f":"Master!$E$9","v":"09:15:00"},null,"से"]
[{"$nulls":3},"स्थानीय शाला प्रांगण में ",{"$nulls":11},"स्थानीय शाला प्रांगण में "]
[{"$nulls":3},{"$f":"Master!$E$7","v":"Republic Day"},{"$nulls":11},{"$f":"Master!$E$7","v":"Republic Day"}]
[{"$nulls":3},"का आयोजन किया जा रहा है, इस समारोह में आपकी गरिमामयी उपस्थिति सादर प्रार्थनीय है l",{"$nulls":11},"का आयोजन किया जा रहा है, इस समारोह में आपकी गरिमामयी उपस्थिति सादर प्रार्थनीय है l"]
[]
[]
[{"$nulls":3},"विशेष आकर्षण:-",null,{"$f":"Master!$E$10","v":"पूर्व छात्र मिल्लन, प्रतिभा एवं भामाशाह सम्मान कार्यक्रम"},{"$nulls":9},"विशेष आकर्षण:-",null,{"$f":"Master!$E$10","v":"पूर्व छात्र मिल्लन, प्रतिभा एवं भामाशाह सम्मान कार्यक्रम"}]
[]
[{"$nulls":5},":: निवेदक ::",{"$nulls":11},":: निवेदक ::"]
[]
[{"$nulls":4},{"$f":"CONCATENATE(Master!$E$12,Master!$G$12)","v":"संस्था प्रधान राजकीय उच्च माध्यमिक विद्यालय रायमलवाडा"},{"$nulls":11},{"$f":"CONCATENATE(Master!$E$12,Master!$G$12)","v":"संस्था प्रधान राजकीय उच्च माध्यमिक विद्यालय रायमलवाडा"}]
[{"$nulls":4},"विनीत:-",{"$nulls":11},"विनीत:-"]
[{"$nulls":4},"SMC/SDMC सदस्य एवं शाला परिवार",{"$nulls":11},"SMC/SDMC सदस्य एवं शाला परिवार"]
[]
[]
[]
[]
[]
[]
[{"$nulls":3},{"$f":"Master!$E$5","v":"राजकीय उच्च माध्यमिक विद्यालय रायमलवाडा"},{"$nulls":11},{"$f":"Master!$E$5","v":"राजकीय उच्च माध्यमिक विद्यालय रायमलवाडा"},{"$nulls":11},{"$f":"AC120+1","v":11},{"$f":"AB149+1","v":12}]
[{"$nulls":3},{"$f":"Master!$E$6","v":"ब्लॉक-बापिणी (जोधपुर)"},{"$nulls":11},{"$f":"Master!$E$6","v":"ब्लॉक-बापिणी (जोधपुर)"}]
[]
[{"$nulls":4},":: आमंत्रण-पत्र ::",{"$nulls":11},":: आमंत्रण-पत्र ::"]
[]
[]
[]
[]
[{"$nulls":3},"श्रीयुत/श्रीमती",null,{"$f":"VLOOKUP(AB149,'Student Details'!$A$3:$D$1002,4,0)","v":0},{"$nulls":9},"श्रीयुत/श्रीमती",null,{"$f":"VLOOKUP(AC149,'Student Details'!$A$3:$D$1002,4,0)","v":0}]
[{"$nulls":3},"आपको सूचित करते हुए हर्ष हो रहा है कि दिनांक-",{"$nulls":11},"आपको सूचित करते हुए हर्ष हो रहा है कि दिनांक-"]
[{"$nulls":3},{"$f":"Master!$E$8","v":"2021-03-09"},null,"समय-",null,{"$f":"Master!$E$9","v":"09:15:00"},null,"से",{"$nulls":5},{"$f":"Master!$E$8","v":"2021-03-09"},null,"समय-",null,{"$f":"Master!$E$9","v":"09:15:00"},null,"से"]
[{"$nulls":3},"स्थानीय शाला प्रांगण में ",{"$nulls":11},"स्थानीय शाला प्रांगण में "]
[{"$nulls":3},{"$f":"Master!$E$7","v":"Republic Day"},{"$nulls":11},{"$f":"Master!$E$7","v":"Republic Day"}]
[{"$nulls":3},"का आयोजन किया जा रहा है, इस समारोह में आपकी गरिमामयी उपस्थिति सादर प्रार्थनीय है l",{"$nulls":11},"का आयोजन किया जा रहा है, इस समारोह में आपकी गरिमामयी उपस्थिति सादर प्रार्थनीय है l"]
[]
[]
[{"$nulls":3},"विशेष आकर्षण:-",null,{"$f":"Master!$E$10","v":"पूर्व छात्र मिल्लन, प्रतिभा एवं भामाशाह सम्मान कार्यक्रम"},{"$nulls":9},"विशेष आकर्षण:-",null,{"$f":"Master!$E$10","v":"पूर्व छात्र मिल्लन, प्रतिभा एवं भामाशाह सम्मान कार्यक्रम"}]
[]
[{"$nulls":5},":: निवेदक ::",{"$nulls":11},":: निवेदक ::"]
[]
[{"$nulls":4},{"$f":"CONCATENATE(Master!$E$12,Master!$G$12)","v":"संस्था प्रधान राजकीय उच्च माध्यमिक विद्यालय रायमलवाडा"},{"$nulls":11},{"$f":"CONCATENATE(Master!$E$12,Master!$G$12)","v":"संस्था प्रधान राजकीय उच्च माध्यमिक विद्यालय रायमलवाडा"}]
[{"$nulls":4},"विनीत:-",{"$nulls":11},"विनीत:-"]
[{"$nulls":4},"SMC/SDMC सदस्य एवं शाला परिवार",{"$nulls":11},"SMC/SDMC सदस्य एवं शाला परिवार"]
[]
[]
[]
[]
[]
[]
[{"$nulls":3},{"$f":"Master!$E$5","v":"राजकीय उच्च माध्यमिक विद्यालय रायमलवाडा"},{"$nulls":11},{"$f":"Master!$E$5","v":"राजकीय उच्च माध्यमिक विद्यालय रायमलवाडा"},{"$nulls":11},{"$f":"AC149+1","v":13},{"$f":"AB178+1","v":14}]
[{"$nulls":3},{"$f":"Master!$E$6","v":"ब्लॉक-बापिणी (जोधपुर)"},{"$nulls":11},{"$f":"Master!$E$6","v":"ब्लॉक-बापिणी (जोधपुर)"}]
[]
[{"$nulls":4},":: आमंत्रण-पत्र ::",{"$nulls":11},":: आमंत्रण-पत्र ::"]
[]
[]
[]
[]
[{"$nulls":3},"श्रीयुत/श्रीमती",null,{"$f":"VLOOKUP(AB178,'Student Details'!$A$3:$D$1002,4,0)","v":0},{"$nulls":9},"श्रीयुत/श्रीमती",null,{"$f":"VLOOKUP(AC178,'Student Details'!$A$3:$D$1002,4,0)","v":0}]
[{"$nulls":3},"आपको सूचित करते हुए हर्ष हो रहा है कि दिनांक-",{"$nulls":11},"आपको सूचित करते हुए हर्ष हो रहा है कि दिनांक-"]
[{"$nulls":3},{"$f":"Master!$E$8","v":"2021-03-09"},null,"समय-",null,{"$f":"Master!$E$9","v":"09:15:00"},null,"से",{"$nulls":5},{"$f":"Master!$E$8","v":"2021-03-09"},null,"समय-",null,{"$f":"Master!$E$9","v":"09:15:00"},null,"से"]
[{"$nulls":3},"स्थानीय शाला प्रांगण में ",{"$nulls":11},"स्थानीय शाला प्रांगण में "]
[{"$nulls":3},{"$f":"Master!$E$7","v":"Republic Day"},{"$nulls":11},{"$f":"Master!$E$7","v":"Republic Day"}]
[{"$nulls":3},"का आयोजन किया जा रहा है, इस समारोह में आपकी गरिमामयी उपस्थिति सादर प्रार्थनीय है l",{"$nulls":11},"का आयोजन किया जा रहा है, इस समारोह में आपकी गरिमामयी उपस्थिति सादर प्रार्थनीय है l"]
[]
[]
[{"$nulls":3},"विशेष आकर्षण:-",null,{"$f":"Master!$E$10","v":"पूर्व छात्र मिल्लन, प्रतिभा एवं भामाशाह सम्मान कार्यक्रम"},{"$nulls":9},"विशेष आकर्षण:-",null,{"$f":"Master!$E$10","v":"पूर्व छात्र मिल्लन, प्रतिभा एवं भामाशाह सम्मान कार्यक्रम"}]
[]
[{"$nulls":5},":: निवेदक ::",{"$nulls":11},":: निवेदक ::"]
[]
[{"$nulls":4},{"$f":"CONCATENATE(Master!$E$12,Master!$G$12)","v":"संस्था प्रधान राजकीय उच्च माध्यमिक विद्यालय रायमलवाडा"},{"$nulls":11},{"$f":"CONCATENATE(Master!$E$12,Master!$G$12)","v":"संस्था प्रधान राजकीय उच्च माध्यमिक विद्यालय रायमलवाडा"}]
[{"$nulls":4},"विनीत:-",{"$nulls":11},"विनीत:-"]
[{"$nulls":4},"SMC/SDMC सदस्य एवं शाला परिवार",{"$nulls":11},"SMC/SDMC सदस्य एवं शाला परिवार"]
[]
[]
[]
[]
[]
[]
[{"$nulls":3},{"$f":"Master!$E$5","v":"राजकीय उच्च माध्यमिक विद्यालय रायमलवाडा"},{"$nulls":11},{"$f":"Master!$E$5","v":"राजकीय उच्च माध्यमिक विद्यालय रायमलवाडा"},{"$nulls":11},{"$f":"AC178+1","v":15},{"$f":"AB207+1","v":16}]
[{"$nulls":3},{"$f":"Master!$E$6","v":"ब्लॉक-बापिणी (जोधपुर)"},{"$nulls":11},{"$f":"Master!$E$6","v":"ब्लॉक-बापिणी (जोधपुर)"}]
[]
[{"$nulls":4},":: आमंत्रण-पत्र ::",{"$nulls":11},":: आमंत्रण-पत्र ::"]
[]
[]
[]
[]
[{"$nulls":3},"श्रीयुत/श्रीमती",null,{"$f":"VLOOKUP(AB207,'Student Details'!$A$3:$D$1002,4,0)","v":0},{"$nulls":9},"श्रीयुत/श्रीमती",null,{"$f":"VLOOKUP(AC207,'Student Details'!$A$3:$D$1002,4,0)","v":0}]
[{"$nulls":3},"आपको सूचित करते हुए हर्ष हो रहा है कि दिनांक-",{"$nulls":11},"आपको सूचित करते हुए हर्ष हो रहा है कि दिनांक-"]
[{"$nulls":3},{"$f":"Master!$E$8","v":"2021-03-09"},null,"समय-",null,{"$f":"Master!$E$9","v":"09:15:00"},null,"से",{"$nulls":5},{"$f":"Master!$E$8","v":"2021-03-09"},null,"समय-",null,{"$f":"Master!$E$9","v":"09:15:00"},null,"से"]
[{"$nulls":3},"स्थानीय शाला प्रांगण में ",{"$nulls":11},"स्थानीय शाला प्रांगण में "]
[{"$nulls":3},{"$f":"Master!$E$7","v":"Republic Day"},{"$nulls":11},{"$f":"Master!$E$7","v":"Republic Day"}]
[{"$nulls":3},"का आयोजन किया जा रहा है, इस समारोह में आपकी गरिमामयी उपस्थिति सादर प्रार्थनीय है l",{"$nulls":11},"का आयोजन किया जा रहा है, इस समारोह में आपकी गरिमामयी उपस्थिति सादर प्रार्थनीय है l"]
[]
[]
[{"$nulls":3},"विशेष आकर्षण:-",null,{"$f":"Master!$E$10","v":"पूर्व छात्र मिल्लन, प्रतिभा एवं भामाशाह सम्मान कार्यक्रम"},{"$nulls":9},"विशेष आकर्षण:-",null,{"$f":"Master!$E$10","v":"पूर्व छात्र मिल्लन, प्रतिभा एवं भामाशाह सम्मान कार्यक्रम"}]
[]
[{"$nulls":5},":: निवेदक ::",{"$nulls":11},":: निवेदक ::"]
[]
[{"$nulls":4},{"$f":"CONCATENATE(Master!$E$12,Master!$G$12)","v":"संस्था प्रधान राजकीय उच्च माध्यमिक विद्यालय रायमलवाडा"},{"$nulls":11},{"$f":"CONCATENATE(Master!$E$12,Master!$G$12)","v":"संस्था प्रधान राजकीय उच्च माध्यमिक विद्यालय रायमलवाडा"}]
[{"$nulls":4},"विनीत:-",{"$nulls":11},"विनीत:-"]
[{"$nulls":4},"SMC/SDMC सदस्य एवं शाला परिवार",{"$nulls":11},"SMC/SDMC सदस्य एवं शाला परिवार"]
[]
[]
[]
[]
[]
[]
[{"$nulls":3},{"$f":"Master!$E$5","v":"राजकीय उच्च माध्यमिक विद्यालय रायमलवाडा"},{"$nulls":11},{"$f":"Master!$E$5","v":"राजकीय उच्च माध्यमिक विद्यालय रायमलवाडा"},{"$nulls":11},{"$f":"AC207+1","v":17},{"$f":"AB236+1","v":18}]
[{"$nulls":3},{"$f":"Master!$E$6","v":"ब्लॉक-बापिणी (जोधपुर)"},{"$nulls":11},{"$f":"Master!$E$6","v":"ब्लॉक-बापिणी (जोधपुर)"}]
[]
[{"$nulls":4},":: आमंत्रण-पत्र ::",{"$nulls":11},":: आमंत्रण-पत्र ::"]
[]
[]
[]
[]
[{"$nulls":3},"श्रीयुत/श्रीमती",null,{"$f":"VLOOKUP(AB236,'Student Details'!$A$3:$D$1002,4,0)","v":0},{"$nulls":9},"श्रीयुत/श्रीमती",null,{"$f":"VLOOKUP(AC236,'Student Details'!$A$3:$D$1002,4,0)","v":0}]
[{"$nulls":3},"आपको सूचित करते हुए हर्ष हो रहा है कि दिनांक-",{"$nulls":11},"आपको सूचित करते हुए हर्ष हो रहा है कि दिनांक-"]
[{"$nulls":3},{"$f":"Master!$E$8","v":"2021-03-09"},null,"समय-",null,{"$f":"Master!$E$9","v":"09:15:00"},null,"से",{"$nulls":5},{"$f":"Master!$E$8","v":"2021-03-09"},null,"समय-",null,{"$f":"Master!$E$9","v":"09:15:00"},null,"से"]
[{"$nulls":3},"स्थानीय शाला प्रांगण में ",{"$nulls":11},"स्थानीय शाला प्रांगण में "]
[{"$nulls":3},{"$f":"Master!$E$7","v":"Republic Day"},{"$nulls":11},{"$f":"Master!$E$7","v":"Republic Day"}]
[{"$nulls":3},"का आयोजन किया जा रहा है, इस समारोह में आपकी गरिमामयी उपस्थिति सादर प्रार्थनीय है l",{"$nulls":11},"का आयोजन किया जा रहा है, इस समारोह में आपकी गरिमामयी उपस्थिति सादर प्रार्थनीय है l"]
[]
[]
[{"$nulls":3},"विशेष आकर्षण:-",null,{"$f":"Master!$E$10","v":"पूर्व छात्र मिल्लन, प्रतिभा एवं भामाशाह सम्मान कार्यक्रम"},{"$nulls":9},"विशेष आकर्षण:-",null,{"$f":"Master!$E$10","v":"पूर्व छात्र मिल्लन, प्रतिभा एवं भामाशाह सम्मान कार्यक्रम"}]
[]
[{"$nulls":5},":: निवेदक ::",{"$nulls":11},":: निवेदक ::"]
[]
[{"$nulls":4},{"$f":"CONCATENATE(Master!$E$12,Master!$G$12)","v":"संस्था प्रधान राजकीय उच्च माध्यमिक विद्यालय रायमलवाडा"},{"$nulls":11},{"$f":"CONCATENATE(Master!$E$12,Master!$G$12)","v":"संस्था प्रधान राजकीय उच्च माध्यमिक विद्यालय रायमलवाडा"}]
[{"$nulls":4},"विनीत:-",{"$nulls":11},"विनीत:-"]
[{"$nulls":4},"SMC/SDMC सदस्य एवं शाला परिवार",{"$nulls":11},"SMC/SDMC सदस्य एवं शाला परिवार"]
[]
[]
[]
[]
[]
[]
[{"$nulls":3},{"$f":"Master!$E$5","v":"राजकीय उच्च माध्यमिक विद्यालय रायमलवाडा"},{"$nulls":11},{"$f":"Master!$E$5","v":"राजकीय उच्च माध्यमिक विद्यालय रायमलवाडा"},{"$nulls":11},{"$f":"AC236+1","v":19},{"$f":"AB265+1","v":20}]
[{"$nulls":3},{"$f":"Master!$E$6","v":"ब्लॉक-बापिणी (जोधपुर)"},{"$nulls":11},{"$f":"Master!$E$6","v":"ब्लॉक-बापिणी (जोधपुर)"}]
[]
[{"$nulls":4},":: आमंत्रण-पत्र ::",{"$nulls":11},":: आमंत्रण-पत्र ::"]
[]
[]
[]
[]
[{"$nulls":3},"श्रीयुत/श्रीमती",null,{"$f":"VLOOKUP(AB265,'Student Details'!$A$3:$D$1002,4,0)","v":0},{"$nulls":9},"श्रीयुत/श्रीमती",null,{"$f":"VLOOKUP(AC265,'Student Details'!$A$3:$D$1002,4,0)","v":0}]
[{"$nulls":3},"आपको सूचित करते हुए हर्ष हो रहा है कि दिनांक-",{"$nulls":11},"आपको सूचित करते हुए हर्ष हो रहा है कि दिनांक-"]
[{"$nulls":3},{"$f":"Master!$E$8","v":"2021-03-09"},null,"समय-",null,{"$f":"Master!$E$9","v":"09:15:00"},null,"से",{"$nulls":5},{"$f":"Master!$E$8","v":"2021-03-09"},null,"समय-",null,{"$f":"Master!$E$9","v":"09:15:00"},null,"से"]
[{"$nulls":3},"स्थानीय शाला प्रांगण में ",{"$nulls":11},"स्थानीय शाला प्रांगण में "]
[{"$nulls":3},{"$f":"Master!$E$7","v":"Republic Day"},{"$nulls":11},{"$f":"Master!$E$7","v":"Republic Day"}]
[{"$nulls":3},"का आयोजन किया जा रहा है, इस समारोह में आपकी गरिमामयी उपस्थिति सादर प्रार्थनीय है l",{"$nulls":11},"का आयोजन किया जा रहा है, इस समारोह में आपकी गरिमामयी उपस्थिति सादर प्रार्थनीय है l"]
[]
[]
[{"$nulls":3},"विशेष आकर्षण:-",null,{"$f":"Master!$E$10","v":"पूर्व छात्र मिल्लन, प्रतिभा एवं भामाशाह सम्मान कार्यक्रम"},{"$nulls":9},"विशेष आकर्षण:-",null,{"$f":"Master!$E$10","v":"पूर्व छात्र मिल्लन, प्रतिभा एवं भामाशाह सम्मान कार्यक्रम"}]
[]
[{"$nulls":5},":: निवेदक ::",{"$nulls":11},":: निवेदक ::"]
[]
[{"$nulls":4},{"$f":"CONCATENATE(Master!$E$12,Master!$G$12)","v":"संस्था प्रधान राजकीय उच्च माध्यमिक विद्यालय रायमलवाडा"},{"$nulls":11},{"$f":"CONCATENATE(Master!$E$12,Master!$G$12)","v":"संस्था प्रधान राजकीय उच्च माध्यमिक विद्यालय रायमलवाडा"}]
[{"$nulls":4},"विनीत:-",{"$nulls":11},"विनीत:-"]
[{"$nulls":4},"SMC/SDMC सदस्य एवं शाला परिवार",{"$nulls":11},"SMC/SDMC सदस्य एवं शाला परिवार"]
[]
[]
[]
[]
[]
[]
[{"$nulls":3},{"$f":"Master!$E$5","v":"राजकीय उच्च माध्यमिक विद्यालय रायमलवाडा"},{"$nulls":11},{"$f":"Master!$E$5","v":"राजकीय उच्च माध्यमिक विद्यालय रायमलवाडा"},{"$nulls":11},{"$f":"AC265+1","v":21},{"$f":"AB294+1","v":22}]
[{"$nulls":3},{"$f":"Master!$E$6","v":"ब्लॉक-बापिणी (जोधपुर)"},{"$nulls":11},{"$f":"Master!$E$6","v":"ब्लॉक-बापिणी (जोधपुर)"}]
[]
[{"$nulls":4},":: आमंत्रण-पत्र ::",{"$nulls":11},":: आमंत्रण-पत्र ::"]
[]
[]
[]
[]
[{"$nulls":3},"श्रीयुत/श्रीमती",null,{"$f":"VLOOKUP(AB294,'Student Details'!$A$3:$D$1002,4,0)","v":0},{"$nulls":9},"श्रीयुत/श्रीमती",null,{"$f":"VLOOKUP(AC294,'Student Details'!$A$3:$D$1002,4,0)","v":0}]
[{"$nulls":3},"आपको सूचित करते हुए हर्ष हो रहा है कि दिनांक-",{"$nulls":11},"आपको सूचित करते हुए हर्ष हो रहा है कि दिनांक-"]
[{"$nulls":3},{"$f":"Master!$E$8","v":"2021-03-09"},null,"समय-",null,{"$f":"Master!$E$9","v":"09:15:00"},null,"से",{"$nulls":5},{"$f":"Master!$E$8","v":"2021-03-09"},null,"समय-",null,{"$f":"Master!$E$9","v":"09:15:00"},null,"से"]
[{"$nulls":3},"स्थानीय शाला प्रांगण में ",{"$nulls":11},"स्थानीय शाला प्रांगण में "]
[{"$nulls":3},{"$f":"Master!$E$7","v":"Republic Day"},{"$nulls":11},{"$f":"Master!$E$7","v":"Republic Day"}]
[{"$nulls":3},"का आयोजन किया जा रहा है, इस समारोह में आपकी गरिमामयी उपस्थिति सादर प्रार्थनीय है l",{"$nulls":11},"का आयोजन किया जा रहा है, इस समारोह में आपकी गरिमामयी उपस्थिति सादर प्रार्थनीय है l"]
[]
[]
[{"$nulls":3},"विशेष आकर्षण:-",null,{"$f":"Master!$E$10","v":"पूर्व छात्र मिल्लन, प्रतिभा एवं भामाशाह सम्मान कार्यक्रम"},{"$nulls":9},"विशेष आकर्षण:-",null,{"$f":"Master!$E$10","v":"पूर्व छात्र मिल्लन, प्रतिभा एवं भामाशाह सम्मान कार्यक्रम"}]
[]
[{"$nulls":5},":: निवेदक ::",{"$nulls":11},":: निवेदक ::"]
[]
[{"$nulls":4},{"$f":"CONCATENATE(Master!$E$12,Master!$G$12)","v":"संस्था प्रधान राजकीय उच्च माध्यमिक विद्यालय रायमलवाडा"},{"$nulls":11},{"$f":"CONCATENATE(Master!$E$12,Master!$G$12)","v":"संस्था प्रधान राजकीय उच्च माध्यमिक विद्यालय रायमलवाडा"}]
[{"$nulls":4},"विनीत:-",{"$nulls":11},"विनीत:-"]
[{"$nulls":4},"SMC/SDMC सदस्य एवं शाला परिवार",{"$nulls":11},"SMC/SDMC सदस्य एवं शाला परिवार"]
[]
[]
[]
[]
[]
[]
[{"$nulls":3},{"$f":"Master!$E$5","v":"राजकीय उच्च माध्यमिक विद्यालय रायमलवाडा"},{"$nulls":11},{"$f":"Master!$E$5","v":"राजकीय उच्च माध्यमिक विद्यालय रायमलवाडा"},{"$nulls":11},{"$f":"AC294+1","v":23},{"$f":"AB323+1","v":24}]
[{"$nulls":3},{"$f":"Master!$E$6","v":"ब्लॉक-बापिणी (जोधपुर)"},{"$nulls":11},{"$f":"Master!$E$6","v":"ब्लॉक-बापिणी (जोधपुर)"}]
[]
[{"$nulls":4},":: आमंत्रण-पत्र ::",{"$nulls":11},":: आमंत्रण-पत्र ::"]
[]
[]
[]
[]
[{"$nulls":3},"श्रीयुत/श्रीमती",null,{"$f":"VLOOKUP(AB323,'Student Details'!$A$3:$D$1002,4,0)","v":0},{"$nulls":9},"श्रीयुत/श्रीमती",null,{"$f":"VLOOKUP(AC323,'Student Details'!$A$3:$D$1002,4,0)","v":0}]
[{"$nulls":3},"आपको सूचित करते हुए हर्ष हो रहा है कि दिनांक-",{"$nulls":11},"आपको सूचित करते हुए हर्ष हो रहा है कि दिनांक-"]
[{"$nulls":3},{"$f":"Master!$E$8","v":"2021-03-09"},null,"समय-",null,{"$f":"Master!$E$9","v":"09:15:00"},null,"से",{"$nulls":5},{"$f":"Master!$E$8","v":"2021-03-09"},null,"समय-",null,{"$f":"Master!$E$9","v":"09:15:00"},null,"से"]
[{"$nulls":3},"स्थानीय शाला प्रांगण में ",{"$nulls":11},"स्थानीय शाला प्रांगण में "]
[{"$nulls":3},{"$f":"Master!$E$7","v":"Republic Day"},{"$nulls":11},{"$f":"Master!$E$7","v":"Republic Day"}]
[{"$nulls":3},"का आयोजन किया जा रहा है, इस समारोह में आपकी गरिमामयी उपस्थिति सादर प्रार्थनीय है l",{"$nulls":11},"का आयोजन किया जा रहा है, इस समारोह में आपकी गरिमामयी उपस्थिति सादर प्रार्थनीय है l"]
[]
[]
[{"$nulls":3},"विशेष आकर्षण:-",null,{"$f":"Master!$E$10","v":"पूर्व छात्र मिल्लन, प्रतिभा एवं भामाशाह सम्मान कार्यक्रम"},{"$nulls":9},"विशेष आकर्षण:-",null,{"$f":"Master!$E$10","v":"पूर्व छात्र मिल्लन, प्रतिभा एवं भामाशाह सम्मान कार्यक्रम"}]
[]
[{"$nulls":5},":: निवेदक ::",{"$nulls":11},":: निवेदक ::"]
[]
[{"$nulls":4},{"$f":"CONCATENATE(Master!$E$12,Master!$G$12)","v":"संस्था प्रधान राजकीय उच्च माध्यमिक विद्यालय रायमलवाडा"},{"$nulls":11},{"$f":"CONCATENATE(Master!$E$12,Master!$G$12)","v":"संस्था प्रधान राजकीय उच्च माध्यमिक विद्यालय रायमलवाडा"}]
[{"$nulls":4},"विनीत:-",{"$nulls":11},"विनीत:-"]
[{"$nulls":4},"SMC/SDMC सदस्य एवं शाला परिवार",{"$nulls":11},"SMC/SDMC सदस्य एवं शाला परिवार"]
[]
[]
[]
[]
[]
[]
[{"$nulls":3},{"$f":"Master!$E$5","v":"राजकीय उच्च माध्यमिक विद्यालय रायमलवाडा"},{"$nulls":11},{"$f":"Master!$E$5","v":"राजकीय उच्च माध्यमिक विद्यालय रायमलवाडा"},{"$nulls":11},{"$f":"AC323+1","v":25},{"$f":"AB352+1","v":26}]
[{"$nulls":3},{"$f":"Master!$E$6","v":"ब्लॉक-बापिणी (जोधपुर)"},{"$nulls":11},{"$f":"Master!$E$6","v":"ब्लॉक-बापिणी (जोधपुर)"}]
[]
[{"$nulls":4},":: आमंत्रण-पत्र ::",{"$nulls":11},":: आमंत्रण-पत्र ::"]
[]
[]
[]
[]
[{"$nulls":3},"श्रीयुत/श्रीमती",null,{"$f":"VLOOKUP(AB352,'Student Details'!$A$3:$D$1002,4,0)","v":0},{"$nulls":9},"श्रीयुत/श्रीमती",null,{"$f":"VLOOKUP(AC352,'Student Details'!$A$3:$D$1002,4,0)","v":0}]
[{"$nulls":3},"आपको सूचित करते हुए हर्ष हो रहा है कि दिनांक-",{"$nulls":11},"आपको सूचित करते हुए हर्ष हो रहा है कि दिनांक-"]
[{"$nulls":3},{"$f":"Master!$E$8","v":"2021-03-09"},null,"समय-",null,{"$f":"Master!$E$9","v":"09:15:00"},null,"से",{"$nulls":5},{"$f":"Master!$E$8","v":"2021-03-09"},null,"समय-",null,{"$f":"Master!$E$9","v":"09:15:00"},null,"से"]
[{"$nulls":3},"स्थानीय शाला प्रांगण में ",{"$nulls":11},"स्थानीय शाला प्रांगण में "]
[{"$nulls":3},{"$f":"Master!$E$7","v":"Republic Day"},{"$nulls":11},{"$f":"Master!$E$7","v":"Republic Day"}]
[{"$nulls":3},"का आयोजन किया जा रहा है, इस समारोह में आपकी गरिमामयी उपस्थिति सादर प्रार्थनीय है l",{"$nulls":11},"का आयोजन किया जा रहा है, इस समारोह में आपकी गरिमामयी उपस्थिति सादर प्रार्थनीय है l"]
[]
[]
[{"$nulls":3},"विशेष आकर्षण:-",null,{"$f":"Master!$E$10","v":"पूर्व छात्र मिल्लन, प्रतिभा एवं भामाशाह सम्मान कार्यक्रम"},{"$nulls":9},"विशेष आकर्षण:-",null,{"$f":"Master!$E$10","v":"पूर्व छात्र मिल्लन, प्रतिभा एवं भामाशाह सम्मान कार्यक्रम"}]
[]
[{"$nulls":5},":: निवेदक ::",{"$nulls":11},":: निवेदक ::"]
[]
[{"$nulls":4},{"$f":"CONCATENATE(Master!$E$12,Master!$G$12)","v":"संस्था प्रधान राजकीय उच्च माध्यमिक विद्यालय रायमलवाडा"},{"$nulls":11},{"$f":"CONCATENATE(Master!$E$12,Master!$G$12)","v":"संस्था प्रधान राजकीय उच्च माध्यमिक विद्यालय रायमलवाडा"}]
[{"$nulls":4},"विनीत:-",{"$nulls":11},"विनीत:-"]
[{"$nulls":4},"SMC/SDMC सदस्य एवं शाला परिवार",{"$nulls":11},"SMC/SDMC सदस्य एवं शाला परिवार"]
[]
[]
[]
[]
[]
[]
[{"$nulls":3},{"$f":"Master!$E$5","v":"राजकीय उच्च माध्यमिक विद्यालय रायमलवाडा"},{"$nulls":11},{"$f":"Master!$E$5","v":"राजकीय उच्च माध्यमिक विद्यालय रायमलवाडा"},{"$nulls":11},{"$f":"AC352+1","v":27},{"$f":"AB381+1","v":28}]
[{"$nulls":3},{"$f":"Master!$E$6","v":"ब्लॉक-बापिणी (जोधपुर)"},{"$nulls":11},{"$f":"Master!$E$6","v":"ब्लॉक-बापिणी (जोधपुर)"}]
[]
[{"$nulls":4},":: आमंत्रण-पत्र ::",{"$nulls":11},":: आमंत्रण-पत्र ::"]
[]
[]
[]
[]
[{"$nulls":3},"श्रीयुत/श्रीमती",null,{"$f":"VLOOKUP(AB381,'Student Details'!$A$3:$D$1002,4,0)","v":0},{"$nulls":9},"श्रीयुत/श्रीमती",null,{"$f":"VLOOKUP(AC381,'Student Details'!$A$3:$D$1002,4,0)","v":0}]
[{"$nulls":3},"आपको सूचित करते हुए हर्ष हो रहा है कि दिनांक-",{"$nulls":11},"आपको सूचित करते हुए हर्ष हो रहा है कि दिनांक-"]
[{"$nulls":3},{"$f":"Master!$E$8","v":"2021-03-09"},null,"समय-",null,{"$f":"Master!$E$9","v":"09:15:00"},null,"से",{"$nulls":5},{"$f":"Master!$E$8","v":"2021-03-09"},null,"समय-",null,{"$f":"Master!$E$9","v":"09:15:00"},null,"से"]
[{"$nulls":3},"स्थानीय शाला प्रांगण में ",{"$nulls":11},"स्थानीय शाला प्रांगण में "]
[{"$nulls":3},{"$f":"Master!$E$7","v":"Republic Day"},{"$nulls":11},{"$f":"Master!$E$7","v":"Republic Day"}]
[{"$nulls":3},"का आयोजन किया जा रहा है, इस समारोह में आपकी गरिमामयी उपस्थिति सादर प्रार्थनीय है l",{"$nulls":11},"का आयोजन किया जा रहा है, इस समारोह में आपकी गरिमामयी उपस्थिति सादर प्रार्थनीय है l"]
[]
[]
[{"$nulls":3},"विशेष आकर्षण:-",null,{"$f":"Master!$E$10","v":"पूर्व छात्र मिल्लन, प्रतिभा एवं भामाशाह सम्मान कार्यक्रम"},{"$nulls":9},"विशेष आकर्षण:-",null,{"$f":"Master!$E$10","v":"पूर्व छात्र मिल्लन, प्रतिभा एवं भामाशाह सम्मान कार्यक्रम"}]
[]
[{"$nulls":5},":: निवेदक ::",{"$nulls":11},":: निवेदक ::"]
[]
[{"$nulls":4},{"$f":"CONCATENATE(Master!$E$12,Master!$G$12)","v":"संस्था प्रधान राजकीय उच्च माध्यमिक विद्यालय रायमलवाडा"},{"$nulls":11},{"$f":"CONCATENATE(Master!$E$12,Master!$G$12)","v":"संस्था प्रधान राजकीय उच्च माध्यमिक विद्यालय रायमलवाडा"}]
[{"$nulls":4},"विनीत:-",{"$nulls":11},"विनीत:-"]
[{"$nulls":4},"SMC/SDMC सदस्य एवं शाला परिवार",{"$nulls":11},"SMC/SDMC सदस्य एवं शाला परिवार"]
[]
[]
[]
[]
[]
[]
[{"$nulls":3},{"$f":"Master!$E$5","v":"राजकीय उच्च माध्यमिक विद्यालय रायमलवाडा"},{"$nulls":11},{"$f":"Master!$E$5","v":"राजकीय उच्च माध्यमिक विद्यालय रायमलवाडा"},{"$nulls":11},{"$f":"AC381+1","v":29},{"$f":"AB410+1","v":30}]
[{"$nulls":3},{"$f":"Master!$E$6","v":"ब्लॉक-बापिणी (जोधपुर)"},{"$nulls":11},{"$f":"Master!$E$6","v":"ब्लॉक-बापिणी (जोधपुर)"}]
[]
[{"$nulls":4},":: आमंत्रण-पत्र ::",{"$nulls":11},":: आमंत्रण-पत्र ::"]
[]
[]
[]
[]
[{"$nulls":3},"श्रीयुत/श्रीमती",null,{"$f":"VLOOKUP(AB410,'Student Details'!$A$3:$D$1002,4,0)","v":0},{"$nulls":9},"श्रीयुत/श्रीमती",null,{"$f":"VLOOKUP(AC410,'Student Details'!$A$3:$D$1002,4,0)","v":0}]
[{"$nulls":3},"आपको सूचित करते हुए हर्ष हो रहा है कि दिनांक-",{"$nulls":11},"आपको सूचित करते हुए हर्ष हो रहा है कि दिनांक-"]
[{"$nulls":3},{"$f":"Master!$E$8","v":"2021-03-09"},null,"समय-",null,{"$f":"Master!$E$9","v":"09:15:00"},null,"से",{"$nulls":5},{"$f":"Master!$E$8","v":"2021-03-09"},null,"समय-",null,{"$f":"Master!$E$9","v":"09:15:00"},null,"से"]
[{"$nulls":3},"स्थानीय शाला प्रांगण में ",{"$nulls":11},"स्थानीय शाला प्रांगण में "]
[{"$nulls":3},{"$f":"Master!$E$7","v":"Republic Day"},{"$nulls":11},{"$f":"Master!$E$7","v":"Republic Day"}]
[{"$nulls":3},"का आयोजन किया जा रहा है, इस समारोह में आपकी गरिमामयी उपस्थिति सादर प्रार्थनीय है l",{"$nulls":11},"का आयोजन किया जा रहा है, इस समारोह में आपकी गरिमामयी उपस्थिति सादर प्रार्थनीय है l"]
[]
[]
[{"$nulls":3},"विशेष आकर्षण:-",null,{"$f":"Master!$E$10","v":"पूर्व छात्र मिल्लन, प्रतिभा एवं भामाशाह सम्मान कार्यक्रम"},{"$nulls":9},"विशेष आकर्षण:-",null,{"$f":"Master!$E$10","v":"पूर्व छात्र मिल्लन, प्रतिभा एवं भामाशाह सम्मान कार्यक्रम"}]
[]
[{"$nulls":5},":: निवेदक ::",{"$nulls":11},":: निवेदक ::"]
[]
[{"$nulls":4},{"$f":"CONCATENATE(Master!$E$12,Master!$G$12)","v":"संस्था प्रधान राजकीय उच्च माध्यमिक विद्यालय रायमलवाडा"},{"$nulls":11},{"$f":"CONCATENATE(Master!$E$12,Master!$G$12)","v":"संस्था प्रधान राजकीय उच्च माध्यमिक विद्यालय रायमलवाडा"}]
[{"$nulls":4},"विनीत:-",{"$nulls":11},"विनीत:-"]
[{"$nulls":4},"SMC/SDMC सदस्य एवं शाला परिवार",{"$nulls":11},"SMC/SDMC सदस्य एवं शाला परिवार"]
[]
[]
[]
[]
[]
[]
[{"$nulls":3},{"$f":"Master!$E$5","v":"राजकीय उच्च माध्यमिक विद्यालय रायमलवाडा"},{"$nulls":11},{"$f":"Master!$E$5","v":"राजकीय उच्च माध्यमिक विद्यालय रायमलवाडा"},{"$nulls":11},{"$f":"AC410+1","v":31},{"$f":"AB439+1","v":32}]
[{"$nulls":3},{"$f":"Master!$E$6","v":"ब्लॉक-बापिणी (जोधपुर)"},{"$nulls":11},{"$f":"Master!$E$6","v":"ब्लॉक-बापिणी (जोधपुर)"}]
[]
[{"$nulls":4},":: आमंत्रण-पत्र ::",{"$nulls":11},":: आमंत्रण-पत्र ::"]
[]
[]
[]
[]
[{"$nulls":3},"श्रीयुत/श्रीमती",null,{"$f":"VLOOKUP(AB439,'Student Details'!$A$3:$D$1002,4,0)","v":0},{"$nulls":9},"श्रीयुत/श्रीमती",null,{"$f":"VLOOKUP(AC439,'Student Details'!$A$3:$D$1002,4,0)","v":0}]
[{"$nulls":3},"आपको सूचित करते हुए हर्ष हो रहा है कि दिनांक-",{"$nulls":11},"आपको सूचित करते हुए हर्ष हो रहा है कि दिनांक-"]
[{"$nulls":3},{"$f":"Master!$E$8","v":"2021-03-09"},null,"समय-",null,{"$f":"Master!$E$9","v":"09:15:00"},null,"से",{"$nulls":5},{"$f":"Master!$E$8","v":"2021-03-09"},null,"समय-",null,{"$f":"Master!$E$9","v":"09:15:00"},null,"से"]
[{"$nulls":3},"स्थानीय शाला प्रांगण में ",{"$nulls":11},"स्थानीय शाला प्रांगण में "]
[{"$nulls":3},{"$f":"Master!$E$7","v":"Republic Day"},{"$nulls":11},{"$f":"Master!$E$7","v":"Republic Day"}]
[{"$nulls":3},"का आयोजन किया जा रहा है, इस समारोह में आपकी गरिमामयी उपस्थिति सादर प्रार्थनीय है l",{"$nulls":11},"का आयोजन किया जा रहा है, इस समारोह में आपकी गरिमामयी उपस्थिति सादर प्रार्थनीय है l"]
[]
[]
[{"$nulls":3},"विशेष आकर्षण:-",null,{"$f":"Master!$E$10","v":"पूर्व छात्र मिल्लन, प्रतिभा एवं भामाशाह सम्मान कार्यक्रम"},{"$nulls":9},"विशेष आकर्षण:-",null,{"$f":"Master!$E$10","v":"पूर्व छात्र मिल्लन, प्रतिभा एवं भामाशाह सम्मान कार्यक्रम"}]
[]
[{"$nulls":5},":: निवेदक ::",{"$nulls":11},":: निवेदक ::"]
[]
[{"$nulls":4},{"$f":"CONCATENATE(Master!$E$12,Master!$G$12)","v":"संस्था प्रधान राजकीय उच्च माध्यमिक विद्यालय रायमलवाडा"},{"$nulls":11},{"$f":"CONCATENATE(Master!$E$12,Master!$G$12)","v":"संस्था प्रधान राजकीय उच्च माध्यमिक विद्यालय रायमलवाडा"}]
[{"$nulls":4},"विनीत:-",{"$nulls":11},"विनीत:-"]
[{"$nulls":4},"SMC/SDMC सदस्य एवं शाला परिवार",{"$nulls":11},"SMC/SDMC सदस्य एवं शाला परिवार"]
[]
[]
[]
[]
[]
[]
[{"$nulls":3},{"$f":"Master!$E$5","v":"राजकीय उच्च माध्यमिक विद्यालय रायमलवाडा"},{"$nulls":11},{"$f":"Master!$E$5","v":"राजकीय उच्च माध्यमिक विद्यालय रायमलवाडा"},{"$nulls":11},{"$f":"AC439+1","v":33},{"$f":"AB468+1","v":34}]
[{"$nulls":3},{"$f":"Master!$E$6","v":"ब्लॉक-बापिणी (जोधपुर)"},{"$nulls":11},{"$f":"Master!$E$6","v":"ब्लॉक-बापिणी (जोधपुर)"}]
[]
[{"$nulls":4},":: आमंत्रण-पत्र ::",{"$nulls":11},":: आमंत्रण-पत्र ::"]
[]
[]
[]
[]
[{"$nulls":3},"श्रीयुत/श्रीमती",null,{"$f":"VLOOKUP(AB468,'Student Details'!$A$3:$D$1002,4,0)","v":0},{"$nulls":9},"श्रीयुत/श्रीमती",null,{"$f":"VLOOKUP(AC468,'Student Details'!$A$3:$D$1002,4,0)","v":0}]
[{"$nulls":3},"आपको सूचित करते हुए हर्ष हो रहा है कि दिनांक-",{"$nulls":11},"आपको सूचित करते हुए हर्ष हो रहा है कि दिनांक-"]
[{"$nulls":3},{"$f":"Master!$E$8","v":"2021-03-09"},null,"समय-",null,{"$f":"Master!$E$9","v":"09:15:00"},null,"से",{"$nulls":5},{"$f":"Master!$E$8","v":"2021-03-09"},null,"समय-",null,{"$f":"Master!$E$9","v":"09:15:00"},null,"से"]
[{"$nulls":3},"स्थानीय शाला प्रांगण में ",{"$nulls":11},"स्थानीय शाला प्रांगण में "]
[{"$nulls":3},{"$f":"Master!$E$7","v":"Republic Day"},{"$nulls":11},{"$f":"Master!$E$7","v":"Republic Day"}]
[{"$nulls":3},"का आयोजन किया जा रहा है, इस समारोह में आपकी गरिमामयी उपस्थिति सादर प्रार्थनीय है l",{"$nulls":11},"का आयोजन किया जा रहा है, इस समारोह में आपकी गरिमामयी उपस्थिति सादर प्रार्थनीय है l"]
[]
[]
[{"$nulls":3},"विशेष आकर्षण:-",null,{"$f":"Master!$E$10","v":"पूर्व छात्र मिल्लन, प्रतिभा एवं भामाशाह सम्मान कार्यक्रम"},{"$nulls":9},"विशेष आकर्षण:-",null,{"$f":"Master!$E$10","v":"पूर्व छात्र मिल्लन, प्रतिभा एवं भामाशाह सम्मान कार्यक्रम"}]
[]
[{"$nulls":5},":: निवेदक ::",{"$nulls":11},":: निवेदक ::"]
[]
[{"$nulls":4},{"$f":"CONCATENATE(Master!$E$12,Master!$G$12)","v":"संस्था प्रधान राजकीय उच्च माध्यमिक विद्यालय रायमलवाडा"},{"$nulls":11},{"$f":"CONCATENATE(Master!$E$12,Master!$G$12)","v":"संस्था प्रधान राजकीय उच्च माध्यमिक विद्यालय रायमलवाडा"}]
[{"$nulls":4},"विनीत:-",{"$nulls":11},"विनीत:-"]
[{"$nulls":4},"SMC/SDMC सदस्य एवं शाला परिवार",{"$nulls":11},"SMC/SDMC सदस्य एवं शाला परिवार"]
[]
[]
[]
[]
[]
[]
[{"$nulls":3},{"$f":"Master!$E$5","v":"राजकीय उच्च माध्यमिक विद्यालय रायमलवाडा"},{"$nulls":11},{"$f":"Master!$E$5","v":"राजकीय उच्च माध्यमिक विद्यालय रायमलवाडा"},{"$nulls":11},{"$f":"AC468+1","v":35},{"$f":"AB497+1","v":36}]
[{"$nulls":3},{"$f":"Master!$E$6","v":"ब्लॉक-बापिणी (जोधपुर)"},{"$nulls":11},{"$f":"Master!$E$6","v":"ब्लॉक-बापिणी (जोधपुर)"}]
[]
[{"$nulls":4},":: आमंत्रण-पत्र ::",{"$nulls":11},":: आमंत्रण-पत्र ::"]
[]
[]
[]
[]
[{"$nulls":3},"श्रीयुत/श्रीमती",null,{"$f":"VLOOKUP(AB497,'Student Details'!$A$3:$D$1002,4,0)","v":0},{"$nulls":9},"श्रीयुत/श्रीमती",null,{"$f":"VLOOKUP(AC497,'Student Details'!$A$3:$D$1002,4,0)","v":0}]
[{"$nulls":3},"आपको सूचित करते हुए हर्ष हो रहा है कि दिनांक-",{"$nulls":11},"आपको सूचित करते हुए हर्ष हो रहा है कि दिनांक-"]
[{"$nulls":3},{"$f":"Master!$E$8","v":"2021-03-09"},null,"समय-",null,{"$f":"Master!$E$9","v":"09:15:00"},null,"से",{"$nulls":5},{"$f":"Master!$E$8","v":"2021-03-09"},null,"समय-",null,{"$f":"Master!$E$9","v":"09:15:00"},null,"से"]
[{"$nulls":3},"स्थानीय शाला प्रांगण में ",{"$nulls":11},"स्थानीय शाला प्रांगण में "]
[{"$nulls":3},{"$f":"Master!$E$7","v":"Republic Day"},{"$nulls":11},{"$f":"Master!$E$7","v":"Republic Day"}]
[{"$nulls":3},"का आयोजन किया जा रहा है, इस समारोह में आपकी गरिमामयी उपस्थिति सादर प्रार्थनीय है l",{"$nulls":11},"का आयोजन किया जा रहा है, इस समारोह में आपकी गरिमामयी उपस्थिति सादर प्रार्थनीय है l"]
[]
[]
[{"$nulls":3},"विशेष आकर्षण:-",null,{"$f":"Master!$E$10","v":"पूर्व छात्र मिल्लन, प्रतिभा एवं भामाशाह सम्मान कार्यक्रम"},{"$nulls":9},"विशेष आकर्षण:-",null,{"$f":"Master!$E$10","v":"पूर्व छात्र मिल्लन, प्रतिभा एवं भामाशाह सम्मान कार्यक्रम"}]
[]
[{"$nulls":5},":: निवेदक ::",{"$nulls":11},":: निवेदक ::"]
[]
[{"$nulls":4},{"$f":"CONCATENATE(Master!$E$12,Master!$G$12)","v":"संस्था प्रधान राजकीय उच्च माध्यमिक विद्यालय रायमलवाडा"},{"$nulls":11},{"$f":"CONCATENATE(Master!$E$12,Master!$G$12)","v":"संस्था प्रधान राजकीय उच्च माध्यमिक विद्यालय रायमलवाडा"}]
[{"$nulls":4},"विनीत:-",{"$nulls":11},"विनीत:-"]
[{"$nulls":4},"SMC/SDMC सदस्य एवं शाला परिवार",{"$nulls":11},"SMC/SDMC सदस्य एवं शाला परिवार"]
[]
[]
[]
[]
[]
[]
[{"$nulls":3},{"$f":"Master!$E$5","v":"राजकीय उच्च माध्यमिक विद्यालय रायमलवाडा"},{"$nulls":11},{"$f":"Master!$E$5","v":"राजकीय उच्च माध्यमिक विद्यालय रायमलवाडा"},{"$nulls":11},{"$f":"AC497+1","v":37},{"$f":"AB526+1","v":38}]
[{"$nulls":3},{"$f":"Master!$E$6","v":"ब्लॉक-बापिणी (जोधपुर)"},{"$nulls":11},{"$f":"Master!$E$6","v":"ब्लॉक-बापिणी (जोधपुर)"}]
[]
[{"$nulls":4},":: आमंत्रण-पत्र ::",{"$nulls":11},":: आमंत्रण-पत्र ::"]
[]
[]
[]
[]
[{"$nulls":3},"श्रीयुत/श्रीमती",null,{"$f":"VLOOKUP(AB526,'Student Details'!$A$3:$D$1002,4,0)","v":0},{"$nulls":9},"श्रीयुत/श्रीमती",null,{"$f":"VLOOKUP(AC526,'Student Details'!$A$3:$D$1002,4,0)","v":0}]
[{"$nulls":3},"आपको सूचित करते हुए हर्ष हो रहा है कि दिनांक-",{"$nulls":11},"आपको सूचित करते हुए हर्ष हो रहा है कि दिनांक-"]
[{"$nulls":3},{"$f":"Master!$E$8","v":"2021-03-09"},null,"समय-",null,{"$f":"Master!$E$9","v":"09:15:00"},null,"से",{"$nulls":5},{"$f":"Master!$E$8","v":"2021-03-09"},null,"समय-",null,{"$f":"Master!$E$9","v":"09:15:00"},null,"से"]
[{"$nulls":3},"स्थानीय शाला प्रांगण में ",{"$nulls":11},"स्थानीय शाला प्रांगण में "]
[{"$nulls":3},{"$f":"Master!$E$7","v":"Republic Day"},{"$nulls":11},{"$f":"Master!$E$7","v":"Republic Day"}]
[{"$nulls":3},"का आयोजन किया जा रहा है, इस समारोह में आपकी गरिमामयी उपस्थिति सादर प्रार्थनीय है l",{"$nulls":11},"का आयोजन किया जा रहा है, इस समारोह में आपकी गरिमामयी उपस्थिति सादर प्रार्थनीय है l"]
[]
[]
[{"$nulls":3},"विशेष आकर्षण:-",null,{"$f":"Master!$E$10","v":"पूर्व छात्र मिल्लन, प्रतिभा एवं भामाशाह सम्मान कार्यक्रम"},{"$nulls":9},"विशेष आकर्षण:-",null,{"$f":"Master!$E$10","v":"पूर्व छात्र मिल्लन, प्रतिभा एवं भामाशाह सम्मान कार्यक्रम"}]
[]
[{"$nulls":5},":: निवेदक ::",{"$nulls":11},":: निवेदक ::"]
[]
[{"$nulls":4},{"$f":"CONCATENATE(Master!$E$12,Master!$G$12)","v":"संस्था प्रधान राजकीय उच्च माध्यमिक विद्यालय रायमलवाडा"},{"$nulls":11},{"$f":"CONCATENATE(Master!$E$12,Master!$G$12)","v":"संस्था प्रधान राजकीय उच्च माध्यमिक विद्यालय रायमलवाडा"}]
[{"$nulls":4},"विनीत:-",{"$nulls":11},"विनीत:-"]
[{"$nulls":4},"SMC/SDMC सदस्य एवं शाला परिवार",{"$nulls":11},"SMC/SDMC सदस्य एवं शाला परिवार"]
[]
[]
[]
[]
[]
[]
[{"$nulls":3},{"$f":"Master!$E$5","v":"राजकीय उच्च माध्यमिक विद्यालय रायमलवाडा"},{"$nulls":11},{"$f":"Master!$E$5","v":"राजकीय उच्च माध्यमिक विद्यालय रायमलवाडा"},{"$nulls":11},{"$f":"AC526+1","v":39},{"$f":"AB555+1","v":40}]
[{"$nulls":3},{"$f":"Master!$E$6","v":"ब्लॉक-बापिणी (जोधपुर)"},{"$nulls":11},{"$f":"Master!$E$6","v":"ब्लॉक-बापिणी (जोधपुर)"}]
[]
[{"$nulls":4},":: आमंत्रण-पत्र ::",{"$nulls":11},":: आमंत्रण-पत्र ::"]
[]
[]
[]
[]
[{"$nulls":3},"श्रीयुत/श्रीमती",null,{"$f":"VLOOKUP(AB555,'Student Details'!$A$3:$D$1002,4,0)","v":0},{"$nulls":9},"श्रीयुत/श्रीमती",null,{"$f":"VLOOKUP(AC555,'Student Details'!$A$3:$D$1002,4,0)","v":0}]
[{"$nulls":3},"आपको सूचित करते हुए हर्ष हो रहा है कि दिनांक-",{"$nulls":11},"आपको सूचित करते हुए हर्ष हो रहा है कि दिनांक-"]
[{"$nulls":3},{"$f":"Master!$E$8","v":"2021-03-09"},null,"समय-",null,{"$f":"Master!$E$9","v":"09:15:00"},null,"से",{"$nulls":5},{"$f":"Master!$E$8","v":"2021-03-09"},null,"समय-",null,{"$f":"Master!$E$9","v":"09:15:00"},null,"से"]
[{"$nulls":3},"स्थानीय शाला प्रांगण में ",{"$nulls":11},"स्थानीय शाला प्रांगण में "]
[{"$nulls":3},{"$f":"Master!$E$7","v":"Republic Day"},{"$nulls":11},{"$f":"Master!$E$7","v":"Republic Day"}]
[{"$nulls":3},"का आयोजन किया जा रहा है, इस समारोह में आपकी गरिमामयी उपस्थिति सादर प्रार्थनीय है l",{"$nulls":11},"का आयोजन किया जा रहा है, इस समारोह में आपकी गरिमामयी उपस्थिति सादर प्रार्थनीय है l"]
[]
[]
[{"$nulls":3},"विशेष आकर्षण:-",null,{"$f":"Master!$E$10","v":"पूर्व छात्र मिल्लन, प्रतिभा एवं भामाशाह सम्मान कार्यक्रम"},{"$nulls":9},"विशेष आकर्षण:-",null,{"$f":"Master!$E$10","v":"पूर्व छात्र मिल्लन, प्रतिभा एवं भामाशाह सम्मान कार्यक्रम"}]
[]
[{"$nulls":5},":: निवेदक ::",{"$nulls":11},":: निवेदक ::"]
[]
[{"$nulls":4},{"$f":"CONCATENATE(Master!$E$12,Master!$G$12)","v":"संस्था प्रधान राजकीय उच्च माध्यमिक विद्यालय रायमलवाडा"},{"$nulls":11},{"$f":"CONCATENATE(Master!$E$12,Master!$G$12)","v":"संस्था प्रधान राजकीय उच्च माध्यमिक विद्यालय रायमलवाडा"}]
[{"$nulls":4},"विनीत:-",{"$nulls":11},"विनीत:-"]
[{"$nulls":4},"SMC/SDMC सदस्य एवं शाला परिवार",{"$nulls":11},"SMC/SDMC सदस्य एवं शाला परिवार"]
[]
[]
[]
[]
[]
[]
[{"$nulls":3},{"$f":"Master!$E$5","v":"राजकीय उच्च माध्यमिक विद्यालय रायमलवाडा"},{"$nulls":11},{"$f":"Master!$E$5","v":"राजकीय उच्च माध्यमिक विद्यालय रायमलवाडा"},{"$nulls":11},{"$f":"AC555+1","v":41},{"$f":"AB584+1","v":42}]
[{"$nulls":3},{"$f":"Master!$E$6","v":"ब्लॉक-बापिणी (जोधपुर)"},{"$nulls":11},{"$f":"Master!$E$6","v":"ब्लॉक-बापिणी (जोधपुर)"}]
[]
[{"$nulls":4},":: आमंत्रण-पत्र ::",{"$nulls":11},":: आमंत्रण-पत्र ::"]
[]
[]
[]
[]
[{"$nulls":3},"श्रीयुत/श्रीमती",null,{"$f":"VLOOKUP(AB584,'Student Details'!$A$3:$D$1002,4,0)","v":0},{"$nulls":9},"श्रीयुत/श्रीमती",null,{"$f":"VLOOKUP(AC584,'Student Details'!$A$3:$D$1002,4,0)","v":0}]
[{"$nulls":3},"आपको सूचित करते हुए हर्ष हो रहा है कि दिनांक-",{"$nulls":11},"आपको सूचित करते हुए हर्ष हो रहा है कि दिनांक-"]
[{"$nulls":3},{"$f":"Master!$E$8","v":"2021-03-09"},null,"समय-",null,{"$f":"Master!$E$9","v":"09:15:00"},null,"से",{"$nulls":5},{"$f":"Master!$E$8","v":"2021-03-09"},null,"समय-",null,{"$f":"Master!$E$9","v":"09:15:00"},null,"से"]
[{"$nulls":3},"स्थानीय शाला प्रांगण में ",{"$nulls":11},"स्थानीय शाला प्रांगण में "]
[{"$nulls":3},{"$f":"Master!$E$7","v":"Republic Day"},{"$nulls":11},{"$f":"Master!$E$7","v":"Republic Day"}]
[{"$nulls":3},"का आयोजन किया जा रहा है, इस समारोह में आपकी गरिमामयी उपस्थिति सादर प्रार्थनीय है l",{"$nulls":11},"का आयोजन किया जा रहा है, इस समारोह में आपकी गरिमामयी उपस्थिति सादर प्रार्थनीय है l"]
[]
[]
[{"$nulls":3},"विशेष आकर्षण:-",null,{"$f":"Master!$E$10","v":"पूर्व छात्र मिल्लन, प्रतिभा एवं भामाशाह सम्मान कार्यक्रम"},{"$nulls":9},"विशेष आकर्षण:-",null,{"$f":"Master!$E$10","v":"पूर्व छात्र मिल्लन, प्रतिभा एवं भामाशाह सम्मान कार्यक्रम"}]
[]
[{"$nulls":5},":: निवेदक ::",{"$nulls":11},":: निवेदक ::"]
[]
[{"$nulls":4},{"$f":"CONCATENATE(Master!$E$12,Master!$G$12)","v":"संस्था प्रधान राजकीय उच्च माध्यमिक विद्यालय रायमलवाडा"},{"$nulls":11},{"$f":"CONCATENATE(Master!$E$12,Master!$G$12)","v":"संस्था प्रधान राजकीय उच्च माध्यमिक विद्यालय रायमलवाडा"}]
[{"$nulls":4},"विनीत:-",{"$nulls":11},"विनीत:-"]
[{"$nulls":4},"SMC/SDMC सदस्य एवं शाला परिवार",{"$nulls":11},"SMC/SDMC सदस्य एवं शाला परिवार"]
[]
[]
[]
[]
[]
[]
[{"$nulls":3},{"$f":"Master!$E$5","v":"राजकीय उच्च माध्यमिक विद्यालय रायमलवाडा"},{"$nulls":11},{"$f":"Master!$E$5","v":"राजकीय उच्च माध्यमिक विद्यालय रायमलवाडा"},{"$nulls":11},{"$f":"AC584+1","v":43},{"$f":"AB613+1","v":44}]
[{"$nulls":3},{"$f":"Master!$E$6","v":"ब्लॉक-बापिणी (जोधपुर)"},{"$nulls":11},{"$f":"Master!$E$6","v":"ब्लॉक-बापिणी (जोधपुर)"}]
[]
[{"$nulls":4},":: आमंत्रण-पत्र ::",{"$nulls":11},":: आमंत्रण-पत्र ::"]
[]
[]
[]
[]
[{"$nulls":3},"श्रीयुत/श्रीमती",null,{"$f":"VLOOKUP(AB613,'Student Details'!$A$3:$D$1002,4,0)","v":0},{"$nulls":9},"श्रीयुत/श्रीमती",null,{"$f":"VLOOKUP(AC613,'Student Details'!$A$3:$D$1002,4,0)","v":0}]
[{"$nulls":3},"आपको सूचित करते हुए हर्ष हो रहा है कि दिनांक-",{"$nulls":11},"आपको सूचित करते हुए हर्ष हो रहा है कि दिनांक-"]
[{"$nulls":3},{"$f":"Master!$E$8","v":"2021-03-09"},null,"समय-",null,{"$f":"Master!$E$9","v":"09:15:00"},null,"से",{"$nulls":5},{"$f":"Master!$E$8","v":"2021-03-09"},null,"समय-",null,{"$f":"Master!$E$9","v":"09:15:00"},null,"से"]
[{"$nulls":3},"स्थानीय शाला प्रांगण में ",{"$nulls":11},"स्थानीय शाला प्रांगण में "]
[{"$nulls":3},{"$f":"Master!$E$7","v":"Republic Day"},{"$nulls":11},{"$f":"Master!$E$7","v":"Republic Day"}]
[{"$nulls":3},"का आयोजन किया जा रहा है, इस समारोह में आपकी गरिमामयी उपस्थिति सादर प्रार्थनीय है l",{"$nulls":11},"का आयोजन किया जा रहा है, इस समारोह में आपकी गरिमामयी उपस्थिति सादर प्रार्थनीय है l"]
[]
[]
[{"$nulls":3},"विशेष आकर्षण:-",null,{"$f":"Master!$E$10","v":"पूर्व छात्र मिल्लन, प्रतिभा एवं भामाशाह सम्मान कार्यक्रम"},{"$nulls":9},"विशेष आकर्षण:-",null,{"$f":"Master!$E$10","v":"पूर्व छात्र मिल्लन, प्रतिभा एवं भामाशाह सम्मान कार्यक्रम"}]
[]
[{"$nulls":5},":: निवेदक ::",{"$nulls":11},":: निवेदक ::"]
[]
[{"$nulls":4},{"$f":"CONCATENATE(Master!$E$12,Master!$G$12)","v":"संस्था प्रधान राजकीय उच्च माध्यमिक विद्यालय रायमलवाडा"},{"$nulls":11},{"$f":"CONCATENATE(Master!$E$12,Master!$G$12)","v":"संस्था प्रधान राजकीय उच्च माध्यमिक विद्यालय रायमलवाडा"}]
[{"$nulls":4},"विनीत:-",{"$nulls":11},"विनीत:-"]
[{"$nulls":4},"SMC/SDMC सदस्य एवं शाला परिवार",{"$nulls":11},"SMC/SDMC सदस्य एवं शाला परिवार"]
[]
[]
[]
[]
[]
[]
[{"$nulls":3},{"$f":"Master!$E$5","v":"राजकीय उच्च माध्यमिक विद्यालय रायमलवाडा"},{"$nulls":11},{"$f":"Master!$E$5","v":"राजकीय उच्च माध्यमिक विद्यालय रायमलवाडा"},{"$nulls":11},{"$f":"AC613+1","v":45},{"$f":"AB642+1","v":46}]
[{"$nulls":3},{"$f":"Master!$E$6","v":"ब्लॉक-बापिणी (जोधपुर)"},{"$nulls":11},{"$f":"Master!$E$6","v":"ब्लॉक-बापिणी (जोधपुर)"}]
[]
[{"$nulls":4},":: आमंत्रण-पत्र ::",{"$nulls":11},":: आमंत्रण-पत्र ::"]
[]
[]
[]
[]
[{"$nulls":3},"श्रीयुत/श्रीमती",null,{"$f":"VLOOKUP(AB642,'Student Details'!$A$3:$D$1002,4,0)","v":0},{"$nulls":9},"श्रीयुत/श्रीमती",null,{"$f":"VLOOKUP(AC642,'Student Details'!$A$3:$D$1002,4,0)","v":0}]
[{"$nulls":3},"आपको सूचित करते हुए हर्ष हो रहा है कि दिनांक-",{"$nulls":11},"आपको सूचित करते हुए हर्ष हो रहा है कि दिनांक-"]
[{"$nulls":3},{"$f":"Master!$E$8","v":"2021-03-09"},null,"समय-",null,{"$f":"Master!$E$9","v":"09:15:00"},null,"से",{"$nulls":5},{"$f":"Master!$E$8","v":"2021-03-09"},null,"समय-",null,{"$f":"Master!$E$9","v":"09:15:00"},null,"से"]
[{"$nulls":3},"स्थानीय शाला प्रांगण में ",{"$nulls":11},"स्थानीय शाला प्रांगण में "]
[{"$nulls":3},{"$f":"Master!$E$7","v":"Republic Day"},{"$nulls":11},{"$f":"Master!$E$7","v":"Republic Day"}]
[{"$nulls":3},"का आयोजन किया जा रहा है, इस समारोह में आपकी गरिमामयी उपस्थिति सादर प्रार्थनीय है l",{"$nulls":11},"का आयोजन किया जा रहा है, इस समारोह में आपकी गरिमामयी उपस्थिति सादर प्रार्थनीय है l"]
[]
[]
[{"$nulls":3},"विशेष आकर्षण:-",null,{"$f":"Master!$E$10","v":"पूर्व छात्र मिल्लन, प्रतिभा एवं भामाशाह सम्मान कार्यक्रम"},{"$nulls":9},"विशेष आकर्षण:-",null,{"$f":"Master!$E$10","v":"पूर्व छात्र मिल्लन, प्रतिभा एवं भामाशाह सम्मान कार्यक्रम"}]
[]
[{"$nulls":5},":: निवेदक ::",{"$nulls":11},":: निवेदक ::"]
[]
[{"$nulls":4},{"$f":"CONCATENATE(Master!$E$12,Master!$G$12)","v":"संस्था प्रधान राजकीय उच्च माध्यमिक विद्यालय रायमलवाडा"},{"$nulls":11},{"$f":"CONCATENATE(Master!$E$12,Master!$G$12)","v":"संस्था प्रधान राजकीय उच्च माध्यमिक विद्यालय रायमलवाडा"}]
[{"$nulls":4},"विनीत:-",{"$nulls":11},"विनीत:-"]
[{"$nulls":4},"SMC/SDMC सदस्य एवं शाला परिवार",{"$nulls":11},"SMC/SDMC सदस्य एवं शाला परिवार"]
[]
[]
[]
[]
[]
[]
[{"$nulls":3},{"$f":"Master!$E$5","v":"राजकीय उच्च माध्यमिक विद्यालय रायमलवाडा"},{"$nulls":11},{"$f":"Master!$E$5","v":"राजकीय उच्च माध्यमिक विद्यालय रायमलवाडा"},{"$nulls":11},{"$f":"AC642+1","v":47},{"$f":"AB671+1","v":48}]
[{"$nulls":3},{"$f":"Master!$E$6","v":"ब्लॉक-बापिणी (जोधपुर)"},{"$nulls":11},{"$f":"Master!$E$6","v":"ब्लॉक-बापिणी (जोधपुर)"}]
[]
[{"$nulls":4},":: आमंत्रण-पत्र ::",{"$nulls":11},":: आमंत्रण-पत्र ::"]
[]
[]
[]
[]
[{"$nulls":3},"श्रीयुत/श्रीमती",null,{"$f":"VLOOKUP(AB671,'Student Details'!$A$3:$D$1002,4,0)","v":0},{"$nulls":9},"श्रीयुत/श्रीमती",null,{"$f":"VLOOKUP(AC671,'Student Details'!$A$3:$D$1002,4,0)","v":0}]
[{"$nulls":3},"आपको सूचित करते हुए हर्ष हो रहा है कि दिनांक-",{"$nulls":11},"आपको सूचित करते हुए हर्ष हो रहा है कि दिनांक-"]
[{"$nulls":3},{"$f":"Master!$E$8","v":"2021-03-09"},null,"समय-",null,{"$f":"Master!$E$9","v":"09:15:00"},null,"से",{"$nulls":5},{"$f":"Master!$E$8","v":"2021-03-09"},null,"समय-",null,{"$f":"Master!$E$9","v":"09:15:00"},null,"से"]
[{"$nulls":3},"स्थानीय शाला प्रांगण में ",{"$nulls":11},"स्थानीय शाला प्रांगण में "]
[{"$nulls":3},{"$f":"Master!$E$7","v":"Republic Day"},{"$nulls":11},{"$f":"Master!$E$7","v":"Republic Day"}]
[{"$nulls":3},"का आयोजन किया जा रहा है, इस समारोह में आपकी गरिमामयी उपस्थिति सादर प्रार्थनीय है l",{"$nulls":11},"का आयोजन किया जा रहा है, इस समारोह में आपकी गरिमामयी उपस्थिति सादर प्रार्थनीय है l"]
[]
[]
[{"$nulls":3},"विशेष आकर्षण:-",null,{"$f":"Master!$E$10","v":"पूर्व छात्र मिल्लन, प्रतिभा एवं भामाशाह सम्मान कार्यक्रम"},{"$nulls":9},"विशेष आकर्षण:-",null,{"$f":"Master!$E$10","v":"पूर्व छात्र मिल्लन, प्रतिभा एवं भामाशाह सम्मान कार्यक्रम"}]
[]
[{"$nulls":5},":: निवेदक ::",{"$nulls":11},":: निवेदक ::"]
[]
[{"$nulls":4},{"$f":"CONCATENATE(Master!$E$12,Master!$G$12)","v":"संस्था प्रधान राजकीय उच्च माध्यमिक विद्यालय रायमलवाडा"},{"$nulls":11},{"$f":"CONCATENATE(Master!$E$12,Master!$G$12)","v":"संस्था प्रधान राजकीय उच्च माध्यमिक विद्यालय रायमलवाडा"}]
[{"$nulls":4},"विनीत:-",{"$nulls":11},"विनीत:-"]
[{"$nulls":4},"SMC/SDMC सदस्य एवं शाला परिवार",{"$nulls":11},"SMC/SDMC सदस्य एवं शाला परिवार"]
[]
[]
[]
[]
[]
[]
[{"$nulls":3},{"$f":"Master!$E$5","v":"राजकीय उच्च माध्यमिक विद्यालय रायमलवाडा"},{"$nulls":11},{"$f":"Master!$E$5","v":"राजकीय उच्च माध्यमिक विद्यालय रायमलवाडा"},{"$nulls":11},{"$f":"AC671+1","v":49},{"$f":"AB700+1","v":50}]
[{"$nulls":3},{"$f":"Master!$E$6","v":"ब्लॉक-बापिणी (जोधपुर)"},{"$nulls":11},{"$f":"Master!$E$6","v":"ब्लॉक-बापिणी (जोधपुर)"}]
[]
[{"$nulls":4},":: आमंत्रण-पत्र ::",{"$nulls":11},":: आमंत्रण-पत्र ::"]
[]
[]
[]
[]
[{"$nulls":3},"श्रीयुत/श्रीमती",null,{"$f":"VLOOKUP(AB700,'Student Details'!$A$3:$D$1002,4,0)","v":0},{"$nulls":9},"श्रीयुत/श्रीमती",null,{"$f":"VLOOKUP(AC700,'Student Details'!$A$3:$D$1002,4,0)","v":0}]
[{"$nulls":3},"आपको सूचित करते हुए हर्ष हो रहा है कि दिनांक-",{"$nulls":11},"आपको सूचित करते हुए हर्ष हो रहा है कि दिनांक-"]
[{"$nulls":3},{"$f":"Master!$E$8","v":"2021-03-09"},null,"समय-",null,{"$f":"Master!$E$9","v":"09:15:00"},null,"से",{"$nulls":5},{"$f":"Master!$E$8","v":"2021-03-09"},null,"समय-",null,{"$f":"Master!$E$9","v":"09:15:00"},null,"से"]
[{"$nulls":3},"स्थानीय शाला प्रांगण में ",{"$nulls":11},"स्थानीय शाला प्रांगण में "]
[{"$nulls":3},{"$f":"Master!$E$7","v":"Republic Day"},{"$nulls":11},{"$f":"Master!$E$7","v":"Republic Day"}]
[{"$nulls":3},"का आयोजन किया जा रहा है, इस समारोह में आपकी गरिमामयी उपस्थिति सादर प्रार्थनीय है l",{"$nulls":11},"का आयोजन किया जा रहा है, इस समारोह में आपकी गरिमामयी उपस्थिति सादर प्रार्थनीय है l"]
[]
[]
[{"$nulls":3},"विशेष आकर्षण:-",null,{"$f":"Master!$E$10","v":"पूर्व छात्र मिल्लन, प्रतिभा एवं भामाशाह सम्मान कार्यक्रम"},{"$nulls":9},"विशेष आकर्षण:-",null,{"$f":"Master!$E$10","v":"पूर्व छात्र मिल्लन, प्रतिभा एवं भामाशाह सम्मान कार्यक्रम"}]
[]
[{"$nulls":5},":: निवेदक ::",{"$nulls":11},":: निवेदक ::"]
[]
[{"$nulls":4},{"$f":"CONCATENATE(Master!$E$12,Master!$G$12)","v":"संस्था प्रधान राजकीय उच्च माध्यमिक विद्यालय रायमलवाडा"},{"$nulls":11},{"$f":"CONCATENATE(Master!$E$12,Master!$G$12)","v":"संस्था प्रधान राजकीय उच्च माध्यमिक विद्यालय रायमलवाडा"}]
[{"$nulls":4},"विनीत:-",{"$nulls":11},"विनीत:-"]
[{"$nulls":4},"SMC/SDMC सदस्य एवं शाला परिवार",{"$nulls":11},"SMC/SDMC सदस्य एवं शाला परिवार"]
[]
[]
[]
[]
[]
[]
[{"$nulls":3},{"$f":"Master!$E$5","v":"राजकीय उच्च माध्यमिक विद्यालय रायमलवाडा"},{"$nulls":11},{"$f":"Master!$E$5","v":"राजकीय उच्च माध्यमिक विद्यालय रायमलवाडा"},{"$nulls":11},{"$f":"AC700+1","v":51},{"$f":"AB729+1","v":52}]
[{"$nulls":3},{"$f":"Master!$E$6","v":"ब्लॉक-बापिणी (जोधपुर)"},{"$nulls":11},{"$f":"Master!$E$6","v":"ब्लॉक-बापिणी (जोधपुर)"}]
[]
[{"$nulls":4},":: आमंत्रण-पत्र ::",{"$nulls":11},":: आमंत्रण-पत्र ::"]
[]
[]
[]
[]
[{"$nulls":3},"श्रीयुत/श्रीमती",null,{"$f":"VLOOKUP(AB729,'Student Details'!$A$3:$D$1002,4,0)","v":0},{"$nulls":9},"श्रीयुत/श्रीमती",null,{"$f":"VLOOKUP(AC729,'Student Details'!$A$3:$D$1002,4,0)","v":0}]
[{"$nulls":3},"आपको सूचित करते हुए हर्ष हो रहा है कि दिनांक-",{"$nulls":11},"आपको सूचित करते हुए हर्ष हो रहा है कि दिनांक-"]
[{"$nulls":3},{"$f":"Master!$E$8","v":"2021-03-09"},null,"समय-",null,{"$f":"Master!$E$9","v":"09:15:00"},null,"से",{"$nulls":5},{"$f":"Master!$E$8","v":"2021-03-09"},null,"समय-",null,{"$f":"Master!$E$9","v":"09:15:00"},null,"से"]
[{"$nulls":3},"स्थानीय शाला प्रांगण में ",{"$nulls":11},"स्थानीय शाला प्रांगण में "]
[{"$nulls":3},{"$f":"Master!$E$7","v":"Republic Day"},{"$nulls":11},{"$f":"Master!$E$7","v":"Republic Day"}]
[{"$nulls":3},"का आयोजन किया जा रहा है, इस समारोह में आपकी गरिमामयी उपस्थिति सादर प्रार्थनीय है l",{"$nulls":11},"का आयोजन किया जा रहा है, इस समारोह में आपकी गरिमामयी उपस्थिति सादर प्रार्थनीय है l"]
[]
[]
[{"$nulls":3},"विशेष आकर्षण:-",null,{"$f":"Master!$E$10","v":"पूर्व छात्र मिल्लन, प्रतिभा एवं भामाशाह सम्मान कार्यक्रम"},{"$nulls":9},"विशेष आकर्षण:-",null,{"$f":"Master!$E$10","v":"पूर्व छात्र मिल्लन, प्रतिभा एवं भामाशाह सम्मान कार्यक्रम"}]
[]
[{"$nulls":5},":: निवेदक ::",{"$nulls":11},":: निवेदक ::"]
[]
[{"$nulls":4},{"$f":"CONCATENATE(Master!$E$12,Master!$G$12)","v":"संस्था प्रधान राजकीय उच्च माध्यमिक विद्यालय रायमलवाडा"},{"$nulls":11},{"$f":"CONCATENATE(Master!$E$12,Master!$G$12)","v":"संस्था प्रधान राजकीय उच्च माध्यमिक विद्यालय रायमलवाडा"}]
[{"$nulls":4},"विनीत:-",{"$nulls":11},"विनीत:-"]
[{"$nulls":4},"SMC/SDMC सदस्य एवं शाला परिवार",{"$nulls":11},"SMC/SDMC सदस्य एवं शाला परिवार"]
[]
[]
[]
[]
[]
[]
[{"$nulls":3},{"$f":"Master!$E$5","v":"राजकीय उच्च माध्यमिक विद्यालय रायमलवाडा"},{"$nulls":11},{"$f":"Master!$E$5","v":"राजकीय उच्च माध्यमिक विद्यालय रायमलवाडा"},{"$nulls":11},{"$f":"AC729+1","v":53},{"$f":"AB758+1","v":54}]
[{"$nulls":3},{"$f":"Master!$E$6","v":"ब्लॉक-बापिणी (जोधपुर)"},{"$nulls":11},{"$f":"Master!$E$6","v":"ब्लॉक-बापिणी (जोधपुर)"}]
[]
[{"$nulls":4},":: आमंत्रण-पत्र ::",{"$nulls":11},":: आमंत्रण-पत्र ::"]
[]
[]
[]
[]
[{"$nulls":3},"श्रीयुत/श्रीमती",null,{"$f":"VLOOKUP(AB758,'Student Details'!$A$3:$D$1002,4,0)","v":0},{"$nulls":9},"श्रीयुत/श्रीमती",null,{"$f":"VLOOKUP(AC758,'Student Details'!$A$3:$D$1002,4,0)","v":0}]
[{"$nulls":3},"आपको सूचित करते हुए हर्ष हो रहा है कि दिनांक-",{"$nulls":11},"आपको सूचित करते हुए हर्ष हो रहा है कि दिनांक-"]
[{"$nulls":3},{"$f":"Master!$E$8","v":"2021-03-09"},null,"समय-",null,{"$f":"Master!$E$9","v":"09:15:00"},null,"से",{"$nulls":5},{"$f":"Master!$E$8","v":"2021-03-09"},null,"समय-",null,{"$f":"Master!$E$9","v":"09:15:00"},null,"से"]
[{"$nulls":3},"स्थानीय शाला प्रांगण में ",{"$nulls":11},"स्थानीय शाला प्रांगण में "]
[{"$nulls":3},{"$f":"Master!$E$7","v":"Republic Day"},{"$nulls":11},{"$f":"Master!$E$7","v":"Republic Day"}]
[{"$nulls":3},"का आयोजन किया जा रहा है, इस समारोह में आपकी गरिमामयी उपस्थिति सादर प्रार्थनीय है l",{"$nulls":11},"का आयोजन किया जा रहा है, इस समारोह में आपकी गरिमामयी उपस्थिति सादर प्रार्थनीय है l"]
[]
[]
[{"$nulls":3},"विशेष आकर्षण:-",null,{"$f":"Master!$E$10","v":"पूर्व छात्र मिल्लन, प्रतिभा एवं भामाशाह सम्मान कार्यक्रम"},{"$nulls":9},"विशेष आकर्षण:-",null,{"$f":"Master!$E$10","v":"पूर्व छात्र मिल्लन, प्रतिभा एवं भामाशाह सम्मान कार्यक्रम"}]
[]
[{"$nulls":5},":: निवेदक ::",{"$nulls":11},":: निवेदक ::"]
[]
[{"$nulls":4},{"$f":"CONCATENATE(Master!$E$12,Master!$G$12)","v":"संस्था प्रधान राजकीय उच्च माध्यमिक विद्यालय रायमलवाडा"},{"$nulls":11},{"$f":"CONCATENATE(Master!$E$12,Master!$G$12)","v":"संस्था प्रधान राजकीय उच्च माध्यमिक विद्यालय रायमलवाडा"}]
[{"$nulls":4},"विनीत:-",{"$nulls":11},"विनीत:-"]
[{"$nulls":4},"SMC/SDMC सदस्य एवं शाला परिवार",{"$nulls":11},"SMC/SDMC सदस्य एवं शाला परिवार"]
[]
[]
[]
[]
[]
[]
[{"$nulls":3},{"$f":"Master!$E$5","v":"राजकीय उच्च माध्यमिक विद्यालय रायमलवाडा"},{"$nulls":11},{"$f":"Master!$E$5","v":"राजकीय उच्च माध्यमिक विद्यालय रायमलवाडा"},{"$nulls":11},{"$f":"AC758+1","v":55},{"$f":"AB787+1","v":56}]
[{"$nulls":3},{"$f":"Master!$E$6","v":"ब्लॉक-बापिणी (जोधपुर)"},{"$nulls":11},{"$f":"Master!$E$6","v":"ब्लॉक-बापिणी (जोधपुर)"}]
[]
[{"$nulls":4},":: आमंत्रण-पत्र ::",{"$nulls":11},":: आमंत्रण-पत्र ::"]
[]
[]
[]
[]
[{"$nulls":3},"श्रीयुत/श्रीमती",null,{"$f":"VLOOKUP(AB787,'Student Details'!$A$3:$D$1002,4,0)","v":0},{"$nulls":9},"श्रीयुत/श्रीमती",null,{"$f":"VLOOKUP(AC787,'Student Details'!$A$3:$D$1002,4,0)","v":0}]
[{"$nulls":3},"आपको सूचित करते हुए हर्ष हो रहा है कि दिनांक-",{"$nulls":11},"आपको सूचित करते हुए हर्ष हो रहा है कि दिनांक-"]
[{"$nulls":3},{"$f":"Master!$E$8","v":"2021-03-09"},null,"समय-",null,{"$f":"Master!$E$9","v":"09:15:00"},null,"से",{"$nulls":5},{"$f":"Master!$E$8","v":"2021-03-09"},null,"समय-",null,{"$f":"Master!$E$9","v":"09:15:00"},null,"से"]
[{"$nulls":3},"स्थानीय शाला प्रांगण में ",{"$nulls":11},"स्थानीय शाला प्रांगण में "]
[{"$nulls":3},{"$f":"Master!$E$7","v":"Republic Day"},{"$nulls":11},{"$f":"Master!$E$7","v":"Republic Day"}]
[{"$nulls":3},"का आयोजन किया जा रहा है, इस समारोह में आपकी गरिमामयी उपस्थिति सादर प्रार्थनीय है l",{"$nulls":11},"का आयोजन किया जा रहा है, इस समारोह में आपकी गरिमामयी उपस्थिति सादर प्रार्थनीय है l"]
[]
[]
[{"$nulls":3},"विशेष आकर्षण:-",null,{"$f":"Master!$E$10","v":"पूर्व छात्र मिल्लन, प्रतिभा एवं भामाशाह सम्मान कार्यक्रम"},{"$nulls":9},"विशेष आकर्षण:-",null,{"$f":"Master!$E$10","v":"पूर्व छात्र मिल्लन, प्रतिभा एवं भामाशाह सम्मान कार्यक्रम"}]
[]
[{"$nulls":5},":: निवेदक ::",{"$nulls":11},":: निवेदक ::"]
[]
[{"$nulls":4},{"$f":"CONCATENATE(Master!$E$12,Master!$G$12)","v":"संस्था प्रधान राजकीय उच्च माध्यमिक विद्यालय रायमलवाडा"},{"$nulls":11},{"$f":"CONCATENATE(Master!$E$12,Master!$G$12)","v":"संस्था प्रधान राजकीय उच्च माध्यमिक विद्यालय रायमलवाडा"}]
[{"$nulls":4},"विनीत:-",{"$nulls":11},"विनीत:-"]
[{"$nulls":4},"SMC/SDMC सदस्य एवं शाला परिवार",{"$nulls":11},"SMC/SDMC सदस्य एवं शाला परिवार"]
[]
[]
[]
[]
[]
[]
[{"$nulls":3},{"$f":"Master!$E$5","v":"राजकीय उच्च माध्यमिक विद्यालय रायमलवाडा"},{"$nulls":11},{"$f":"Master!$E$5","v":"राजकीय उच्च माध्यमिक विद्यालय रायमलवाडा"},{"$nulls":11},{"$f":"AC787+1","v":57},{"$f":"AB816+1","v":58}]
[{"$nulls":3},{"$f":"Master!$E$6","v":"ब्लॉक-बापिणी (जोधपुर)"},{"$nulls":11},{"$f":"Master!$E$6","v":"ब्लॉक-बापिणी (जोधपुर)"}]
[]
[{"$nulls":4},":: आमंत्रण-पत्र ::",{"$nulls":11},":: आमंत्रण-पत्र ::"]
[]
[]
[]
[]
[{"$nulls":3},"श्रीयुत/श्रीमती",null,{"$f":"VLOOKUP(AB816,'Student Details'!$A$3:$D$1002,4,0)","v":0},{"$nulls":9},"श्रीयुत/श्रीमती",null,{"$f":"VLOOKUP(AC816,'Student Details'!$A$3:$D$1002,4,0)","v":0}]
[{"$nulls":3},"आपको सूचित करते हुए हर्ष हो रहा है कि दिनांक-",{"$nulls":11},"आपको सूचित करते हुए हर्ष हो रहा है कि दिनांक-"]
[{"$nulls":3},{"$f":"Master!$E$8","v":"2021-03-09"},null,"समय-",null,{"$f":"Master!$E$9","v":"09:15:00"},null,"से",{"$nulls":5},{"$f":"Master!$E$8","v":"2021-03-09"},null,"समय-",null,{"$f":"Master!$E$9","v":"09:15:00"},null,"से"]
[{"$nulls":3},"स्थानीय शाला प्रांगण में ",{"$nulls":11},"स्थानीय शाला प्रांगण में "]
[{"$nulls":3},{"$f":"Master!$E$7","v":"Republic Day"},{"$nulls":11},{"$f":"Master!$E$7","v":"Republic Day"}]
[{"$nulls":3},"का आयोजन किया जा रहा है, इस समारोह में आपकी गरिमामयी उपस्थिति सादर प्रार्थनीय है l",{"$nulls":11},"का आयोजन किया जा रहा है, इस समारोह में आपकी गरिमामयी उपस्थिति सादर प्रार्थनीय है l"]
[]
[]
[{"$nulls":3},"विशेष आकर्षण:-",null,{"$f":"Master!$E$10","v":"पूर्व छात्र मिल्लन, प्रतिभा एवं भामाशाह सम्मान कार्यक्रम"},{"$nulls":9},"विशेष आकर्षण:-",null,{"$f":"Master!$E$10","v":"पूर्व छात्र मिल्लन, प्रतिभा एवं भामाशाह सम्मान कार्यक्रम"}]
[]
[{"$nulls":5},":: निवेदक ::",{"$nulls":11},":: निवेदक ::"]
[]
[{"$nulls":4},{"$f":"CONCATENATE(Master!$E$12,Master!$G$12)","v":"संस्था प्रधान राजकीय उच्च माध्यमिक विद्यालय रायमलवाडा"},{"$nulls":11},{"$f":"CONCATENATE(Master!$E$12,Master!$G$12)","v":"संस्था प्रधान राजकीय उच्च माध्यमिक विद्यालय रायमलवाडा"}]
[{"$nulls":4},"विनीत:-",{"$nulls":11},"विनीत:-"]
[{"$nulls":4},"SMC/SDMC सदस्य एवं शाला परिवार",{"$nulls":11},"SMC/SDMC सदस्य एवं शाला परिवार"]
[]
[]
[]
[]
[]
[]
[{"$nulls":3},{"$f":"Master!$E$5","v":"राजकीय उच्च माध्यमिक विद्यालय रायमलवाडा"},{"$nulls":11},{"$f":"Master!$E$5","v":"राजकीय उच्च माध्यमिक विद्यालय रायमलवाडा"},{"$nulls":11},{"$f":"AC816+1","v":59},{"$f":"AB845+1","v":60}]
[{"$nulls":3},{"$f":"Master!$E$6","v":"ब्लॉक-बापिणी (जोधपुर)"},{"$nulls":11},{"$f":"Master!$E$6","v":"ब्लॉक-बापिणी (जोधपुर)"}]
[]
[{"$nulls":4},":: आमंत्रण-पत्र ::",{"$nulls":11},":: आमंत्रण-पत्र ::"]
[]
[]
[]
[]
[{"$nulls":3},"श्रीयुत/श्रीमती",null,{"$f":"VLOOKUP(AB845,'Student Details'!$A$3:$D$1002,4,0)","v":0},{"$nulls":9},"श्रीयुत/श्रीमती",null,{"$f":"VLOOKUP(AC845,'Student Details'!$A$3:$D$1002,4,0)","v":0}]
[{"$nulls":3},"आपको सूचित करते हुए हर्ष हो रहा है कि दिनांक-",{"$nulls":11},"आपको सूचित करते हुए हर्ष हो रहा है कि दिनांक-"]
[{"$nulls":3},{"$f":"Master!$E$8","v":"2021-03-09"},null,"समय-",null,{"$f":"Master!$E$9","v":"09:15:00"},null,"से",{"$nulls":5},{"$f":"Master!$E$8","v":"2021-03-09"},null,"समय-",null,{"$f":"Master!$E$9","v":"09:15:00"},null,"से"]
[{"$nulls":3},"स्थानीय शाला प्रांगण में ",{"$nulls":11},"स्थानीय शाला प्रांगण में "]
[{"$nulls":3},{"$f":"Master!$E$7","v":"Republic Day"},{"$nulls":11},{"$f":"Master!$E$7","v":"Republic Day"}]
[{"$nulls":3},"का आयोजन किया जा रहा है, इस समारोह में आपकी गरिमामयी उपस्थिति सादर प्रार्थनीय है l",{"$nulls":11},"का आयोजन किया जा रहा है, इस समारोह में आपकी गरिमामयी उपस्थिति सादर प्रार्थनीय है l"]
[]
[]
[{"$nulls":3},"विशेष आकर्षण:-",null,{"$f":"Master!$E$10","v":"पूर्व छात्र मिल्लन, प्रतिभा एवं भामाशाह सम्मान कार्यक्रम"},{"$nulls":9},"विशेष आकर्षण:-",null,{"$f":"Master!$E$10","v":"पूर्व छात्र मिल्लन, प्रतिभा एवं भामाशाह सम्मान कार्यक्रम"}]
[]
[{"$nulls":5},":: निवेदक ::",{"$nulls":11},":: निवेदक ::"]
[]
[{"$nulls":4},{"$f":"CONCATENATE(Master!$E$12,Master!$G$12)","v":"संस्था प्रधान राजकीय उच्च माध्यमिक विद्यालय रायमलवाडा"},{"$nulls":11},{"$f":"CONCATENATE(Master!$E$12,Master!$G$12)","v":"संस्था प्रधान राजकीय उच्च माध्यमिक विद्यालय रायमलवाडा"}]
[{"$nulls":4},"विनीत:-",{"$nulls":11},"विनीत:-"]
[{"$nulls":4},"SMC/SDMC सदस्य एवं शाला परिवार",{"$nulls":11},"SMC/SDMC सदस्य एवं शाला परिवार"]
[]
[]
[]
[]
[]
[]
[{"$nulls":3},{"$f":"Master!$E$5","v":"राजकीय उच्च माध्यमिक विद्यालय रायमलवाडा"},{"$nulls":11},{"$f":"Master!$E$5","v":"राजकीय उच्च माध्यमिक विद्यालय रायमलवाडा"},{"$nulls":11},{"$f":"AC845+1","v":61},{"$f":"AB874+1","v":62}]
[{"$nulls":3},{"$f":"Master!$E$6","v":"ब्लॉक-बापिणी (जोधपुर)"},{"$nulls":11},{"$f":"Master!$E$6","v":"ब्लॉक-बापिणी (जोधपुर)"}]
[]
[{"$nulls":4},":: आमंत्रण-पत्र ::",{"$nulls":11},":: आमंत्रण-पत्र ::"]
[]
[]
[]
[]
[{"$nulls":3},"श्रीयुत/श्रीमती",null,{"$f":"VLOOKUP(AB874,'Student Details'!$A$3:$D$1002,4,0)","v":0},{"$nulls":9},"श्रीयुत/श्रीमती",null,{"$f":"VLOOKUP(AC874,'Student Details'!$A$3:$D$1002,4,0)","v":0}]
[{"$nulls":3},"आपको सूचित करते हुए हर्ष हो रहा है कि दिनांक-",{"$nulls":11},"आपको सूचित करते हुए हर्ष हो रहा है कि दिनांक-"]
[{"$nulls":3},{"$f":"Master!$E$8","v":"2021-03-09"},null,"समय-",null,{"$f":"Master!$E$9","v":"09:15:00"},null,"से",{"$nulls":5},{"$f":"Master!$E$8","v":"2021-03-09"},null,"समय-",null,{"$f":"Master!$E$9","v":"09:15:00"},null,"से"]
[{"$nulls":3},"स्थानीय शाला प्रांगण में ",{"$nulls":11},"स्थानीय शाला प्रांगण में "]
[{"$nulls":3},{"$f":"Master!$E$7","v":"Republic Day"},{"$nulls":11},{"$f":"Master!$E$7","v":"Republic Day"}]
[{"$nulls":3},"का आयोजन किया जा रहा है, इस समारोह में आपकी गरिमामयी उपस्थिति सादर प्रार्थनीय है l",{"$nulls":11},"का आयोजन किया जा रहा है, इस समारोह में आपकी गरिमामयी उपस्थिति सादर प्रार्थनीय है l"]
[]
[]
[{"$nulls":3},"विशेष आकर्षण:-",null,{"$f":"Master!$E$10","v":"पूर्व छात्र मिल्लन, प्रतिभा एवं भामाशाह सम्मान कार्यक्रम"},{"$nulls":9},"विशेष आकर्षण:-",null,{"$f":"Master!$E$10","v":"पूर्व छात्र मिल्लन, प्रतिभा एवं भामाशाह सम्मान कार्यक्रम"}]
[]
[{"$nulls":5},":: निवेदक ::",{"$nulls":11},":: निवेदक ::"]
[]
[{"$nulls":4},{"$f":"CONCATENATE(Master!$E$12,Master!$G$12)","v":"संस्था प्रधान राजकीय उच्च माध्यमिक विद्यालय रायमलवाडा"},{"$nulls":11},{"$f":"CONCATENATE(Master!$E$12,Master!$G$12)","v":"संस्था प्रधान राजकीय उच्च माध्यमिक विद्यालय रायमलवाडा"}]
[{"$nulls":4},"विनीत:-",{"$nulls":11},"विनीत:-"]
[{"$nulls":4},"SMC/SDMC सदस्य एवं शाला परिवार",{"$nulls":11},"SMC/SDMC सदस्य एवं शाला परिवार"]
[]
[]
[]
[]
[]
[]
[{"$nulls":3},{"$f":"Master!$E$5","v":"राजकीय उच्च माध्यमिक विद्यालय रायमलवाडा"},{"$nulls":11},{"$f":"Master!$E$5","v":"राजकीय उच्च माध्यमिक विद्यालय रायमलवाडा"},{"$nulls":11},{"$f":"AC874+1","v":63},{"$f":"AB903+1","v":64}]
[{"$nulls":3},{"$f":"Master!$E$6","v":"ब्लॉक-बापिणी (जोधपुर)"},{"$nulls":11},{"$f":"Master!$E$6","v":"ब्लॉक-बापिणी (जोधपुर)"}]
[]
[{"$nulls":4},":: आमंत्रण-पत्र ::",{"$nulls":11},":: आमंत्रण-पत्र ::"]
[]
[]
[]
[]
[{"$nulls":3},"श्रीयुत/श्रीमती",null,{"$f":"VLOOKUP(AB903,'Student Details'!$A$3:$D$1002,4,0)","v":0},{"$nulls":9},"श्रीयुत/श्रीमती",null,{"$f":"VLOOKUP(AC903,'Student Details'!$A$3:$D$1002,4,0)","v":0}]
[{"$nulls":3},"आपको सूचित करते हुए हर्ष हो रहा है कि दिनांक-",{"$nulls":11},"आपको सूचित करते हुए हर्ष हो रहा है कि दिनांक-"]
[{"$nulls":3},{"$f":"Master!$E$8","v":"2021-03-09"},null,"समय-",null,{"$f":"Master!$E$9","v":"09:15:00"},null,"से",{"$nulls":5},{"$f":"Master!$E$8","v":"2021-03-09"},null,"समय-",null,{"$f":"Master!$E$9","v":"09:15:00"},null,"से"]
[{"$nulls":3},"स्थानीय शाला प्रांगण में ",{"$nulls":11},"स्थानीय शाला प्रांगण में "]
[{"$nulls":3},{"$f":"Master!$E$7","v":"Republic Day"},{"$nulls":11},{"$f":"Master!$E$7","v":"Republic Day"}]
[{"$nulls":3},"का आयोजन किया जा रहा है, इस समारोह में आपकी गरिमामयी उपस्थिति सादर प्रार्थनीय है l",{"$nulls":11},"का आयोजन किया जा रहा है, इस समारोह में आपकी गरिमामयी उपस्थिति सादर प्रार्थनीय है l"]
[]
[]
[{"$nulls":3},"विशेष आकर्षण:-",null,{"$f":"Master!$E$10","v":"पूर्व छात्र मिल्लन, प्रतिभा एवं भामाशाह सम्मान कार्यक्रम"},{"$nulls":9},"विशेष आकर्षण:-",null,{"$f":"Master!$E$10","v":"पूर्व छात्र मिल्लन, प्रतिभा एवं भामाशाह सम्मान कार्यक्रम"}]
[]
[{"$nulls":5},":: निवेदक ::",{"$nulls":11},":: निवेदक ::"]
[]
[{"$nulls":4},{"$f":"CONCATENATE(Master!$E$12,Master!$G$12)","v":"संस्था प्रधान राजकीय उच्च माध्यमिक विद्यालय रायमलवाडा"},{"$nulls":11},{"$f":"CONCATENATE(Master!$E$12,Master!$G$12)","v":"संस्था प्रधान राजकीय उच्च माध्यमिक विद्यालय रायमलवाडा"}]
[{"$nulls":4},"विनीत:-",{"$nulls":11},"विनीत:-"]
[{"$nulls":4},"SMC/SDMC सदस्य एवं शाला परिवार",{"$nulls":11},"SMC/SDMC सदस्य एवं शाला परिवार"]
[]
[]
[]
[]
[]
[]
[{"$nulls":3},{"$f":"Master!$E$5","v":"राजकीय उच्च माध्यमिक विद्यालय रायमलवाडा"},{"$nulls":11},{"$f":"Master!$E$5","v":"राजकीय उच्च माध्यमिक विद्यालय रायमलवाडा"},{"$nulls":11},{"$f":"AC903+1","v":65},{"$f":"AB932+1","v":66}]
[{"$nulls":3},{"$f":"Master!$E$6","v":"ब्लॉक-बापिणी (जोधपुर)"},{"$nulls":11},{"$f":"Master!$E$6","v":"ब्लॉक-बापिणी (जोधपुर)"}]
[]
[{"$nulls":4},":: आमंत्रण-पत्र ::",{"$nulls":11},":: आमंत्रण-पत्र ::"]
[]
[]
[]
[]
[{"$nulls":3},"श्रीयुत/श्रीमती",null,{"$f":"VLOOKUP(AB932,'Student Details'!$A$3:$D$1002,4,0)","v":0},{"$nulls":9},"श्रीयुत/श्रीमती",null,{"$f":"VLOOKUP(AC932,'Student Details'!$A$3:$D$1002,4,0)","v":0}]
[{"$nulls":3},"आपको सूचित करते हुए हर्ष हो रहा है कि दिनांक-",{"$nulls":11},"आपको सूचित करते हुए हर्ष हो रहा है कि दिनांक-"]
[{"$nulls":3},{"$f":"Master!$E$8","v":"2021-03-09"},null,"समय-",null,{"$f":"Master!$E$9","v":"09:15:00"},null,"से",{"$nulls":5},{"$f":"Master!$E$8","v":"2021-03-09"},null,"समय-",null,{"$f":"Master!$E$9","v":"09:15:00"},null,"से"]
[{"$nulls":3},"स्थानीय शाला प्रांगण में ",{"$nulls":11},"स्थानीय शाला प्रांगण में "]
[{"$nulls":3},{"$f":"Master!$E$7","v":"Republic Day"},{"$nulls":11},{"$f":"Master!$E$7","v":"Republic Day"}]
[{"$nulls":3},"का आयोजन किया जा रहा है, इस समारोह में आपकी गरिमामयी उपस्थिति सादर प्रार्थनीय है l",{"$nulls":11},"का आयोजन किया जा रहा है, इस समारोह में आपकी गरिमामयी उपस्थिति सादर प्रार्थनीय है l"]
[]
[]
[{"$nulls":3},"विशेष आकर्षण:-",null,{"$f":"Master!$E$10","v":"पूर्व छात्र मिल्लन, प्रतिभा एवं भामाशाह सम्मान कार्यक्रम"},{"$nulls":9},"विशेष आकर्षण:-",null,{"$f":"Master!$E$10","v":"पूर्व छात्र मिल्लन, प्रतिभा एवं भामाशाह सम्मान कार्यक्रम"}]
[]
[{"$nulls":5},":: निवेदक ::",{"$nulls":11},":: निवेदक ::"]
[]
[{"$nulls":4},{"$f":"CONCATENATE(Master!$E$12,Master!$G$12)","v":"संस्था प्रधान राजकीय उच्च माध्यमिक विद्यालय रायमलवाडा"},{"$nulls":11},{"$f":"CONCATENATE(Master!$E$12,Master!$G$12)","v":"संस्था प्रधान राजकीय उच्च माध्यमिक विद्यालय रायमलवाडा"}]
[{"$nulls":4},"विनीत:-",{"$nulls":11},"विनीत:-"]
[{"$nulls":4},"SMC/SDMC सदस्य एवं शाला परिवार",{"$nulls":11},"SMC/SDMC सदस्य एवं शाला परिवार"]
[]
[]
[]
[]
[]
[]
[{"$nulls":3},{"$f":"Master!$E$5","v":"राजकीय उच्च माध्यमिक विद्यालय रायमलवाडा"},{"$nulls":11},{"$f":"Master!$E$5","v":"राजकीय उच्च माध्यमिक विद्यालय रायमलवाडा"},{"$nulls":11},{"$f":"AC932+1","v":67},{"$f":"AB961+1","v":68}]
[{"$nulls":3},{"$f":"Master!$E$6","v":"ब्लॉक-बापिणी (जोधपुर)"},{"$nulls":11},{"$f":"Master!$E$6","v":"ब्लॉक-बापिणी (जोधपुर)"}]
[]
[{"$nulls":4},":: आमंत्रण-पत्र ::",{"$nulls":11},":: आमंत्रण-पत्र ::"]
[]
[]
[]
[]
[{"$nulls":3},"श्रीयुत/श्रीमती",null,{"$f":"VLOOKUP(AB961,'Student Details'!$A$3:$D$1002,4,0)","v":0},{"$nulls":9},"श्रीयुत/श्रीमती",null,{"$f":"VLOOKUP(AC961,'Student Details'!$A$3:$D$1002,4,0)","v":0}]
[{"$nulls":3},"आपको सूचित करते हुए हर्ष हो रहा है कि दिनांक-",{"$nulls":11},"आपको सूचित करते हुए हर्ष हो रहा है कि दिनांक-"]
[{"$nulls":3},{"$f":"Master!$E$8","v":"2021-03-09"},null,"समय-",null,{"$f":"Master!$E$9","v":"09:15:00"},null,"से",{"$nulls":5},{"$f":"Master!$E$8","v":"2021-03-09"},null,"समय-",null,{"$f":"Master!$E$9","v":"09:15:00"},null,"से"]
[{"$nulls":3},"स्थानीय शाला प्रांगण में ",{"$nulls":11},"स्थानीय शाला प्रांगण में "]
[{"$nulls":3},{"$f":"Master!$E$7","v":"Republic Day"},{"$nulls":11},{"$f":"Master!$E$7","v":"Republic Day"}]
[{"$nulls":3},"का आयोजन किया जा रहा है, इस समारोह में आपकी गरिमामयी उपस्थिति सादर प्रार्थनीय है l",{"$nulls":11},"का आयोजन किया जा रहा है, इस समारोह में आपकी गरिमामयी उपस्थिति सादर प्रार्थनीय है l"]
[]
[]
[{"$nulls":3},"विशेष आकर्षण:-",null,{"$f":"Master!$E$10","v":"पूर्व छात्र मिल्लन, प्रतिभा एवं भामाशाह सम्मान कार्यक्रम"},{"$nulls":9},"विशेष आकर्षण:-",null,{"$f":"Master!$E$10","v":"पूर्व छात्र मिल्लन, प्रतिभा एवं भामाशाह सम्मान कार्यक्रम"}]
[]
[{"$nulls":5},":: निवेदक ::",{"$nulls":11},":: निवेदक ::"]
[]
[{"$nulls":4},{"$f":"CONCATENATE(Master!$E$12,Master!$G$12)","v":"संस्था प्रधान राजकीय उच्च माध्यमिक विद्यालय रायमलवाडा"},{"$nulls":11},{"$f":"CONCATENATE(Master!$E$12,Master!$G$12)","v":"संस्था प्रधान राजकीय उच्च माध्यमिक विद्यालय रायमलवाडा"}]
[{"$nulls":4},"विनीत:-",{"$nulls":11},"विनीत:-"]
[{"$nulls":4},"SMC/SDMC सदस्य एवं शाला परिवार",{"$nulls":11},"SMC/SDMC सदस्य एवं शाला परिवार"]
[]
[]
[]
[]
[]
[]
[{"$nulls":3},{"$f":"Master!$E$5","v":"राजकीय उच्च माध्यमिक विद्यालय रायमलवाडा"},{"$nulls":11},{"$f":"Master!$E$5","v":"राजकीय उच्च माध्यमिक विद्यालय रायमलवाडा"},{"$nulls":11},{"$f":"AC961+1","v":69},{"$f":"AB990+1","v":70}]
[{"$nulls":3},{"$f":"Master!$E$6","v":"ब्लॉक-बापिणी (जोधपुर)"},{"$nulls":11},{"$f":"Master!$E$6","v":"ब्लॉक-बापिणी (जोधपुर)"}]
[]
[{"$nulls":4},":: आमंत्रण-पत्र ::",{"$nulls":11},":: आमंत्रण-पत्र ::"]
[]
[]
[]
[]
[{"$nulls":3},"श्रीयुत/श्रीमती",null,{"$f":"VLOOKUP(AB990,'Student Details'!$A$3:$D$1002,4,0)","v":0},{"$nulls":9},"श्रीयुत/श्रीमती",null,{"$f":"VLOOKUP(AC990,'Student Details'!$A$3:$D$1002,4,0)","v":0}]
[{"$nulls":3},"आपको सूचित करते हुए हर्ष हो रहा है कि दिनांक-",{"$nulls":11},"आपको सूचित करते हुए हर्ष हो रहा है कि दिनांक-"]
[{"$nulls":3},{"$f":"Master!$E$8","v":"2021-03-09"},null,"समय-",null,{"$f":"Master!$E$9","v":"09:15:00"},null,"से",{"$nulls":5},{"$f":"Master!$E$8","v":"2021-03-09"},null,"समय-",null,{"$f":"Master!$E$9","v":"09:15:00"},null,"से"]
[{"$nulls":3},"स्थानीय शाला प्रांगण में ",{"$nulls":11},"स्थानीय शाला प्रांगण में "]
[{"$nulls":3},{"$f":"Master!$E$7","v":"Republic Day"},{"$nulls":11},{"$f":"Master!$E$7","v":"Republic Day"}]
[{"$nulls":3},"का आयोजन किया जा रहा है, इस समारोह में आपकी गरिमामयी उपस्थिति सादर प्रार्थनीय है l",{"$nulls":11},"का आयोजन किया जा रहा है, इस समारोह में आपकी गरिमामयी उपस्थिति सादर प्रार्थनीय है l"]
[]
[]
[{"$nulls":3},"विशेष आकर्षण:-",null,{"$f":"Master!$E$10","v":"पूर्व छात्र मिल्लन, प्रतिभा एवं भामाशाह सम्मान कार्यक्रम"},{"$nulls":9},"विशेष आकर्षण:-",null,{"$f":"Master!$E$10","v":"पूर्व छात्र मिल्लन, प्रतिभा एवं भामाशाह सम्मान कार्यक्रम"}]
[]
[{"$nulls":5},":: निवेदक ::",{"$nulls":11},":: निवेदक ::"]
[]
[{"$nulls":4},{"$f":"CONCATENATE(Master!$E$12,Master!$G$12)","v":"संस्था प्रधान राजकीय उच्च माध्यमिक विद्यालय रायमलवाडा"},{"$nulls":11},{"$f":"CONCATENATE(Master!$E$12,Master!$G$12)","v":"संस्था प्रधान राजकीय उच्च माध्यमिक विद्यालय रायमलवाडा"}]
[{"$nulls":4},"विनीत:-",{"$nulls":11},"विनीत:-"]
[{"$nulls":4},"SMC/SDMC सदस्य एवं शाला परिवार",{"$nulls":11},"SMC/SDMC सदस्य एवं शाला परिवार"]
[]
[]
[]
[]
[]
[]
[{"$nulls":3},{"$f":"Master!$E$5","v":"राजकीय उच्च माध्यमिक विद्यालय रायमलवाडा"},{"$nulls":11},{"$f":"Master!$E$5","v":"राजकीय उच्च माध्यमिक विद्यालय रायमलवाडा"},{"$nulls":11},{"$f":"AC990+1","v":71},{"$f":"AB1019+1","v":72}]
[{"$nulls":3},{"$f":"Master!$E$6","v":"ब्लॉक-बापिणी (जोधपुर)"},{"$nulls":11},{"$f":"Master!$E$6","v":"ब्लॉक-बापिणी (जोधपुर)"}]
[]
[{"$nulls":4},":: आमंत्रण-पत्र ::",{"$nulls":11},":: आमंत्रण-पत्र ::"]
[]
[]
[]
[]
[{"$nulls":3},"श्रीयुत/श्रीमती",null,{"$f":"VLOOKUP(AB1019,'Student Details'!$A$3:$D$1002,4,0)","v":0},{"$nulls":9},"श्रीयुत/श्रीमती",null,{"$f":"VLOOKUP(AC1019,'Student Details'!$A$3:$D$1002,4,0)","v":0}]
[{"$nulls":3},"आपको सूचित करते हुए हर्ष हो रहा है कि दिनांक-",{"$nulls":11},"आपको सूचित करते हुए हर्ष हो रहा है कि दिनांक-"]
[{"$nulls":3},{"$f":"Master!$E$8","v":"2021-03-09"},null,"समय-",null,{"$f":"Master!$E$9","v":"09:15:00"},null,"से",{"$nulls":5},{"$f":"Master!$E$8","v":"2021-03-09"},null,"समय-",null,{"$f":"Master!$E$9","v":"09:15:00"},null,"से"]
[{"$nulls":3},"स्थानीय शाला प्रांगण में ",{"$nulls":11},"स्थानीय शाला प्रांगण में "]
[{"$nulls":3},{"$f":"Master!$E$7","v":"Republic Day"},{"$nulls":11},{"$f":"Master!$E$7","v":"Republic Day"}]
[{"$nulls":3},"का आयोजन किया जा रहा है, इस समारोह में आपकी गरिमामयी उपस्थिति सादर प्रार्थनीय है l",{"$nulls":11},"का आयोजन किया जा रहा है, इस समारोह में आपकी गरिमामयी उपस्थिति सादर प्रार्थनीय है l"]
[]
[]
[{"$nulls":3},"विशेष आकर्षण:-",null,{"$f":"Master!$E$10","v":"पूर्व छात्र मिल्लन, प्रतिभा एवं भामाशाह सम्मान कार्यक्रम"},{"$nulls":9},"विशेष आकर्षण:-",null,{"$f":"Master!$E$10","v":"पूर्व छात्र मिल्लन, प्रतिभा एवं भामाशाह सम्मान कार्यक्रम"}]
[]
[{"$nulls":5},":: निवेदक ::",{"$nulls":11},":: निवेदक ::"]
[]
[{"$nulls":4},{"$f":"CONCATENATE(Master!$E$12,Master!$G$12)","v":"संस्था प्रधान राजकीय उच्च माध्यमिक विद्यालय रायमलवाडा"},{"$nulls":11},{"$f":"CONCATENATE(Master!$E$12,Master!$G$12)","v":"संस्था प्रधान राजकीय उच्च माध्यमिक विद्यालय रायमलवाडा"}]
[{"$nulls":4},"विनीत:-",{"$nulls":11},"विनीत:-"]
[{"$nulls":4},"SMC/SDMC सदस्य एवं शाला परिवार",{"$nulls":11},"SMC/SDMC सदस्य एवं शाला परिवार"]
[]
[]
[]
[]
[]
[]
[{"$nulls":3},{"$f":"Master!$E$5","v":"राजकीय उच्च माध्यमिक विद्यालय रायमलवाडा"},{"$nulls":11},{"$f":"Master!$E$5","v":"राजकीय उच्च माध्यमिक विद्यालय रायमलवाडा"},{"$nulls":11},{"$f":"AC1019+1","v":73},{"$f":"AB1048+1","v":74}]
[{"$nulls":3},{"$f":"Master!$E$6","v":"ब्लॉक-बापिणी (जोधपुर)"},{"$nulls":11},{"$f":"Master!$E$6","v":"ब्लॉक-बापिणी (जोधपुर)"}]
[]
[{"$nulls":4},":: आमंत्रण-पत्र ::",{"$nulls":11},":: आमंत्रण-पत्र ::"]
[]
[]
[]
[]
[{"$nulls":3},"श्रीयुत/श्रीमती",null,{"$f":"VLOOKUP(AB1048,'Student Details'!$A$3:$D$1002,4,0)","v":0},{"$nulls":9},"श्रीयुत/श्रीमती",null,{"$f":"VLOOKUP(AC1048,'Student Details'!$A$3:$D$1002,4,0)","v":0}]
[{"$nulls":3},"आपको सूचित करते हुए हर्ष हो रहा है कि दिनांक-",{"$nulls":11},"आपको सूचित करते हुए हर्ष हो रहा है कि दिनांक-"]
[{"$nulls":3},{"$f":"Master!$E$8","v":"2021-03-09"},null,"समय-",null,{"$f":"Master!$E$9","v":"09:15:00"},null,"से",{"$nulls":5},{"$f":"Master!$E$8","v":"2021-03-09"},null,"समय-",null,{"$f":"Master!$E$9","v":"09:15:00"},null,"से"]
[{"$nulls":3},"स्थानीय शाला प्रांगण में ",{"$nulls":11},"स्थानीय शाला प्रांगण में "]
[{"$nulls":3},{"$f":"Master!$E$7","v":"Republic Day"},{"$nulls":11},{"$f":"Master!$E$7","v":"Republic Day"}]
[{"$nulls":3},"का आयोजन किया जा रहा है, इस समारोह में आपकी गरिमामयी उपस्थिति सादर प्रार्थनीय है l",{"$nulls":11},"का आयोजन किया जा रहा है, इस समारोह में आपकी गरिमामयी उपस्थिति सादर प्रार्थनीय है l"]
[]
[]
[{"$nulls":3},"विशेष आकर्षण:-",null,{"$f":"Master!$E$10","v":"पूर्व छात्र मिल्लन, प्रतिभा एवं भामाशाह सम्मान कार्यक्रम"},{"$nulls":9},"विशेष आकर्षण:-",null,{"$f":"Master!$E$10","v":"पूर्व छात्र मिल्लन, प्रतिभा एवं भामाशाह सम्मान कार्यक्रम"}]
[]
[{"$nulls":5},":: निवेदक ::",{"$nulls":11},":: निवेदक ::"]
[]
[{"$nulls":4},{"$f":"CONCATENATE(Master!$E$12,Master!$G$12)","v":"संस्था प्रधान राजकीय उच्च माध्यमिक विद्यालय रायमलवाडा"},{"$nulls":11},{"$f":"CONCATENATE(Master!$E$12,Master!$G$12)","v":"संस्था प्रधान राजकीय उच्च माध्यमिक विद्यालय रायमलवाडा"}]
[{"$nulls":4},"विनीत:-",{"$nulls":11},"विनीत:-"]
[{"$nulls":4},"SMC/SDMC सदस्य एवं शाला परिवार",{"$nulls":11},"SMC/SDMC सदस्य एवं शाला परिवार"]
[]
[]
[]
[]
[]
[]
[{"$nulls":3},{"$f":"Master!$E$5","v":"राजकीय उच्च माध्यमिक विद्यालय रायमलवाडा"},{"$nulls":11},{"$f":"Master!$E$5","v":"राजकीय उच्च माध्यमिक विद्यालय रायमलवाडा"},{"$nulls":11},{"$f":"AC1048+1","v":75},{"$f":"AB1077+1","v":76}]
[{"$nulls":3},{"$f":"Master!$E$6","v":"ब्लॉक-बापिणी (जोधपुर)"},{"$nulls":11},{"$f":"Master!$E$6","v":"ब्लॉक-बापिणी (जोधपुर)"}]
[]
[{"$nulls":4},":: आमंत्रण-पत्र ::",{"$nulls":11},":: आमंत्रण-पत्र ::"]
[]
[]
[]
[]
[{"$nulls":3},"श्रीयुत/श्रीमती",null,{"$f":"VLOOKUP(AB1077,'Student Details'!$A$3:$D$1002,4,0)","v":0},{"$nulls":9},"श्रीयुत/श्रीमती",null,{"$f":"VLOOKUP(AC1077,'Student Details'!$A$3:$D$1002,4,0)","v":0}]
[{"$nulls":3},"आपको सूचित करते हुए हर्ष हो रहा है कि दिनांक-",{"$nulls":11},"आपको सूचित करते हुए हर्ष हो रहा है कि दिनांक-"]
[{"$nulls":3},{"$f":"Master!$E$8","v":"2021-03-09"},null,"समय-",null,{"$f":"Master!$E$9","v":"09:15:00"},null,"से",{"$nulls":5},{"$f":"Master!$E$8","v":"2021-03-09"},null,"समय-",null,{"$f":"Master!$E$9","v":"09:15:00"},null,"से"]
[{"$nulls":3},"स्थानीय शाला प्रांगण में ",{"$nulls":11},"स्थानीय शाला प्रांगण में "]
[{"$nulls":3},{"$f":"Master!$E$7","v":"Republic Day"},{"$nulls":11},{"$f":"Master!$E$7","v":"Republic Day"}]
[{"$nulls":3},"का आयोजन किया जा रहा है, इस समारोह में आपकी गरिमामयी उपस्थिति सादर प्रार्थनीय है l",{"$nulls":11},"का आयोजन किया जा रहा है, इस समारोह में आपकी गरिमामयी उपस्थिति सादर प्रार्थनीय है l"]
[]
[]
[{"$nulls":3},"विशेष आकर्षण:-",null,{"$f":"Master!$E$10","v":"पूर्व छात्र मिल्लन, प्रतिभा एवं भामाशाह सम्मान कार्यक्रम"},{"$nulls":9},"विशेष आकर्षण:-",null,{"$f":"Master!$E$10","v":"पूर्व छात्र मिल्लन, प्रतिभा एवं भामाशाह सम्मान कार्यक्रम"}]
[]
[{"$nulls":5},":: निवेदक ::",{"$nulls":11},":: निवेदक ::"]
[]
[{"$nulls":4},{"$f":"CONCATENATE(Master!$E$12,Master!$G$12)","v":"संस्था प्रधान राजकीय उच्च माध्यमिक विद्यालय रायमलवाडा"},{"$nulls":11},{"$f":"CONCATENATE(Master!$E$12,Master!$G$12)","v":"संस्था प्रधान राजकीय उच्च माध्यमिक विद्यालय रायमलवाडा"}]
[{"$nulls":4},"विनीत:-",{"$nulls":11},"विनीत:-"]
[{"$nulls":4},"SMC/SDMC सदस्य एवं शाला परिवार",{"$nulls":11},"SMC/SDMC सदस्य एवं शाला परिवार"]
[]
[]
[]
[]
[]
[]
[{"$nulls":3},{"$f":"Master!$E$5","v":"राजकीय उच्च माध्यमिक विद्यालय रायमलवाडा"},{"$nulls":11},{"$f":"Master!$E$5","v":"राजकीय उच्च माध्यमिक विद्यालय रायमलवाडा"},{"$nulls":11},{"$f":"AC1077+1","v":77},{"$f":"AB1106+1","v":78}]
[{"$nulls":3},{"$f":"Master!$E$6","v":"ब्लॉक-बापिणी (जोधपुर)"},{"$nulls":11},{"$f":"Master!$E$6","v":"ब्लॉक-बापिणी (जोधपुर)"}]
[]
[{"$nulls":4},":: आमंत्रण-पत्र ::",{"$nulls":11},":: आमंत्रण-पत्र ::"]
[]
[]
[]
[]
[{"$nulls":3},"श्रीयुत/श्रीमती",null,{"$f":"VLOOKUP(AB1106,'Student Details'!$A$3:$D$1002,4,0)","v":0},{"$nulls":9},"श्रीयुत/श्रीमती",null,{"$f":"VLOOKUP(AC1106,'Student Details'!$A$3:$D$1002,4,0)","v":0}]
[{"$nulls":3},"आपको सूचित करते हुए हर्ष हो रहा है कि दिनांक-",{"$nulls":11},"आपको सूचित करते हुए हर्ष हो रहा है कि दिनांक-"]
[{"$nulls":3},{"$f":"Master!$E$8","v":"2021-03-09"},null,"समय-",null,{"$f":"Master!$E$9","v":"09:15:00"},null,"से",{"$nulls":5},{"$f":"Master!$E$8","v":"2021-03-09"},null,"समय-",null,{"$f":"Master!$E$9","v":"09:15:00"},null,"से"]
[{"$nulls":3},"स्थानीय शाला प्रांगण में ",{"$nulls":11},"स्थानीय शाला प्रांगण में "]
[{"$nulls":3},{"$f":"Master!$E$7","v":"Republic Day"},{"$nulls":11},{"$f":"Master!$E$7","v":"Republic Day"}]
[{"$nulls":3},"का आयोजन किया जा रहा है, इस समारोह में आपकी गरिमामयी उपस्थिति सादर प्रार्थनीय है l",{"$nulls":11},"का आयोजन किया जा रहा है, इस समारोह में आपकी गरिमामयी उपस्थिति सादर प्रार्थनीय है l"]
[]
[]
[{"$nulls":3},"विशेष आकर्षण:-",null,{"$f":"Master!$E$10","v":"पूर्व छात्र मिल्लन, प्रतिभा एवं भामाशाह सम्मान कार्यक्रम"},{"$nulls":9},"विशेष आकर्षण:-",null,{"$f":"Master!$E$10","v":"पूर्व छात्र मिल्लन, प्रतिभा एवं भामाशाह सम्मान कार्यक्रम"}]
[]
[{"$nulls":5},":: निवेदक ::",{"$nulls":11},":: निवेदक ::"]
[]
[{"$nulls":4},{"$f":"CONCATENATE(Master!$E$12,Master!$G$12)","v":"संस्था प्रधान राजकीय उच्च माध्यमिक विद्यालय रायमलवाडा"},{"$nulls":11},{"$f":"CONCATENATE(Master!$E$12,Master!$G$12)","v":"संस्था प्रधान राजकीय उच्च माध्यमिक विद्यालय रायमलवाडा"}]
[{"$nulls":4},"विनीत:-",{"$nulls":11},"विनीत:-"]
[{"$nulls":4},"SMC/SDMC सदस्य एवं शाला परिवार",{"$nulls":11},"SMC/SDMC सदस्य एवं शाला परिवार"]
[]
[]
[]
[]
[]
[]
[{"$nulls":3},{"$f":"Master!$E$5","v":"राजकीय उच्च माध्यमिक विद्यालय रायमलवाडा"},{"$nulls":11},{"$f":"Master!$E$5","v":"राजकीय उच्च माध्यमिक विद्यालय रायमलवाडा"},{"$nulls":11},{"$f":"AC1106+1","v":79},{"$f":"AB1135+1","v":80}]
[{"$nulls":3},{"$f":"Master!$E$6","v":"ब्लॉक-बापिणी (जोधपुर)"},{"$nulls":11},{"$f":"Master!$E$6","v":"ब्लॉक-बापिणी (जोधपुर)"}]
[]
[{"$nulls":4},":: आमंत्रण-पत्र ::",{"$nulls":11},":: आमंत्रण-पत्र ::"]
[]
[]
[]
[]
[{"$nulls":3},"श्रीयुत/श्रीमती",null,{"$f":"VLOOKUP(AB1135,'Student Details'!$A$3:$D$1002,4,0)","v":0},{"$nulls":9},"श्रीयुत/श्रीमती",null,{"$f":"VLOOKUP(AC1135,'Student Details'!$A$3:$D$1002,4,0)","v":0}]
[{"$nulls":3},"आपको सूचित करते हुए हर्ष हो रहा है कि दिनांक-",{"$nulls":11},"आपको सूचित करते हुए हर्ष हो रहा है कि दिनांक-"]
[{"$nulls":3},{"$f":"Master!$E$8","v":"2021-03-09"},null,"समय-",null,{"$f":"Master!$E$9","v":"09:15:00"},null,"से",{"$nulls":5},{"$f":"Master!$E$8","v":"2021-03-09"},null,"समय-",null,{"$f":"Master!$E$9","v":"09:15:00"},null,"से"]
[{"$nulls":3},"स्थानीय शाला प्रांगण में ",{"$nulls":11},"स्थानीय शाला प्रांगण में "]
[{"$nulls":3},{"$f":"Master!$E$7","v":"Republic Day"},{"$nulls":11},{"$f":"Master!$E$7","v":"Republic Day"}]
[{"$nulls":3},"का आयोजन किया जा रहा है, इस समारोह में आपकी गरिमामयी उपस्थिति सादर प्रार्थनीय है l",{"$nulls":11},"का आयोजन किया जा रहा है, इस समारोह में आपकी गरिमामयी उपस्थिति सादर प्रार्थनीय है l"]
[]
[]
[{"$nulls":3},"विशेष आकर्षण:-",null,{"$f":"Master!$E$10","v":"पूर्व छात्र मिल्लन, प्रतिभा एवं भामाशाह सम्मान कार्यक्रम"},{"$nulls":9},"विशेष आकर्षण:-",null,{"$f":"Master!$E$10","v":"पूर्व छात्र मिल्लन, प्रतिभा एवं भामाशाह सम्मान कार्यक्रम"}]
[]
[{"$nulls":5},":: निवेदक ::",{"$nulls":11},":: निवेदक ::"]
[]
[{"$nulls":4},{"$f":"CONCATENATE(Master!$E$12,Master!$G$12)","v":"संस्था प्रधान राजकीय उच्च माध्यमिक विद्यालय रायमलवाडा"},{"$nulls":11},{"$f":"CONCATENATE(Master!$E$12,Master!$G$12)","v":"संस्था प्रधान राजकीय उच्च माध्यमिक विद्यालय रायमलवाडा"}]
[{"$nulls":4},"विनीत:-",{"$nulls":11},"विनीत:-"]
[{"$nulls":4},"SMC/SDMC सदस्य एवं शाला परिवार",{"$nulls":11},"SMC/SDMC सदस्य एवं शाला परिवार"]
[]
[]
[]
[]
[]
[]
[{"$nulls":3},{"$f":"Master!$E$5","v":"राजकीय उच्च माध्यमिक विद्यालय रायमलवाडा"},{"$nulls":11},{"$f":"Master!$E$5","v":"राजकीय उच्च माध्यमिक विद्यालय रायमलवाडा"},{"$nulls":11},{"$f":"AC1135+1","v":81},{"$f":"AB1164+1","v":82}]
[{"$nulls":3},{"$f":"Master!$E$6","v":"ब्लॉक-बापिणी (जोधपुर)"},{"$nulls":11},{"$f":"Master!$E$6","v":"ब्लॉक-बापिणी (जोधपुर)"}]
[]
[{"$nulls":4},":: आमंत्रण-पत्र ::",{"$nulls":11},":: आमंत्रण-पत्र ::"]
[]
[]
[]
[]
[{"$nulls":3},"श्रीयुत/श्रीमती",null,{"$f":"VLOOKUP(AB1164,'Student Details'!$A$3:$D$1002,4,0)","v":0},{"$nulls":9},"श्रीयुत/श्रीमती",null,{"$f":"VLOOKUP(AC1164,'Student Details'!$A$3:$D$1002,4,0)","v":0}]
[{"$nulls":3},"आपको सूचित करते हुए हर्ष हो रहा है कि दिनांक-",{"$nulls":11},"आपको सूचित करते हुए हर्ष हो रहा है कि दिनांक-"]
[{"$nulls":3},{"$f":"Master!$E$8","v":"2021-03-09"},null,"समय-",null,{"$f":"Master!$E$9","v":"09:15:00"},null,"से",{"$nulls":5},{"$f":"Master!$E$8","v":"2021-03-09"},null,"समय-",null,{"$f":"Master!$E$9","v":"09:15:00"},null,"से"]
[{"$nulls":3},"स्थानीय शाला प्रांगण में ",{"$nulls":11},"स्थानीय शाला प्रांगण में "]
[{"$nulls":3},{"$f":"Master!$E$7","v":"Republic Day"},{"$nulls":11},{"$f":"Master!$E$7","v":"Republic Day"}]
[{"$nulls":3},"का आयोजन किया जा रहा है, इस समारोह में आपकी गरिमामयी उपस्थिति सादर प्रार्थनीय है l",{"$nulls":11},"का आयोजन किया जा रहा है, इस समारोह में आपकी गरिमामयी उपस्थिति सादर प्रार्थनीय है l"]
[]
[]
[{"$nulls":3},"विशेष आकर्षण:-",null,{"$f":"Master!$E$10","v":"पूर्व छात्र मिल्लन, प्रतिभा एवं भामाशाह सम्मान कार्यक्रम"},{"$nulls":9},"विशेष आकर्षण:-",null,{"$f":"Master!$E$10","v":"पूर्व छात्र मिल्लन, प्रतिभा एवं भामाशाह सम्मान कार्यक्रम"}]
[]
[{"$nulls":5},":: निवेदक ::",{"$nulls":11},":: निवेदक ::"]
[]
[{"$nulls":4},{"$f":"CONCATENATE(Master!$E$12,Master!$G$12)","v":"संस्था प्रधान राजकीय उच्च माध्यमिक विद्यालय रायमलवाडा"},{"$nulls":11},{"$f":"CONCATENATE(Master!$E$12,Master!$G$12)","v":"संस्था प्रधान राजकीय उच्च माध्यमिक विद्यालय रायमलवाडा"}]
[{"$nulls":4},"विनीत:-",{"$nulls":11},"विनीत:-"]
[{"$nulls":4},"SMC/SDMC सदस्य एवं शाला परिवार",{"$nulls":11},"SMC/SDMC सदस्य एवं शाला परिवार"]
[]
[]
[]
[]
[]
[]
[{"$nulls":3},{"$f":"Master!$E$5","v":"राजकीय उच्च माध्यमिक विद्यालय रायमलवाडा"},{"$nulls":11},{"$f":"Master!$E$5","v":"राजकीय उच्च माध्यमिक विद्यालय रायमलवाडा"},{"$nulls":11},{"$f":"AC1164+1","v":83},{"$f":"AB1193+1","v":84}]
[{"$nulls":3},{"$f":"Master!$E$6","v":"ब्लॉक-बापिणी (जोधपुर)"},{"$nulls":11},{"$f":"Master!$E$6","v":"ब्लॉक-बापिणी (जोधपुर)"}]
[]
[{"$nulls":4},":: आमंत्रण-पत्र ::",{"$nulls":11},":: आमंत्रण-पत्र ::"]
[]
[]
[]
[]
[{"$nulls":3},"श्रीयुत/श्रीमती",null,{"$f":"VLOOKUP(AB1193,'Student Details'!$A$3:$D$1002,4,0)","v":0},{"$nulls":9},"श्रीयुत/श्रीमती",null,{"$f":"VLOOKUP(AC1193,'Student Details'!$A$3:$D$1002,4,0)","v":0}]
[{"$nulls":3},"आपको सूचित करते हुए हर्ष हो रहा है कि दिनांक-",{"$nulls":11},"आपको सूचित करते हुए हर्ष हो रहा है कि दिनांक-"]
[{"$nulls":3},{"$f":"Master!$E$8","v":"2021-03-09"},null,"समय-",null,{"$f":"Master!$E$9","v":"09:15:00"},null,"से",{"$nulls":5},{"$f":"Master!$E$8","v":"2021-03-09"},null,"समय-",null,{"$f":"Master!$E$9","v":"09:15:00"},null,"से"]
[{"$nulls":3},"स्थानीय शाला प्रांगण में ",{"$nulls":11},"स्थानीय शाला प्रांगण में "]
[{"$nulls":3},{"$f":"Master!$E$7","v":"Republic Day"},{"$nulls":11},{"$f":"Master!$E$7","v":"Republic Day"}]
[{"$nulls":3},"का आयोजन किया जा रहा है, इस समारोह में आपकी गरिमामयी उपस्थिति सादर प्रार्थनीय है l",{"$nulls":11},"का आयोजन किया जा रहा है, इस समारोह में आपकी गरिमामयी उपस्थिति सादर प्रार्थनीय है l"]
[]
[]
[{"$nulls":3},"विशेष आकर्षण:-",null,{"$f":"Master!$E$10","v":"पूर्व छात्र मिल्लन, प्रतिभा एवं भामाशाह सम्मान कार्यक्रम"},{"$nulls":9},"विशेष आकर्षण:-",null,{"$f":"Master!$E$10","v":"पूर्व छात्र मिल्लन, प्रतिभा एवं भामाशाह सम्मान कार्यक्रम"}]
[]
[{"$nulls":5},":: निवेदक ::",{"$nulls":11},":: निवेदक ::"]
[]
[{"$nulls":4},{"$f":"CONCATENATE(Master!$E$12,Master!$G$12)","v":"संस्था प्रधान राजकीय उच्च माध्यमिक विद्यालय रायमलवाडा"},{"$nulls":11},{"$f":"CONCATENATE(Master!$E$12,Master!$G$12)","v":"संस्था प्रधान राजकीय उच्च माध्यमिक विद्यालय रायमलवाडा"}]
[{"$nulls":4},"विनीत:-",{"$nulls":11},"विनीत:-"]
[{"$nulls":4},"SMC/SDMC सदस्य एवं शाला परिवार",{"$nulls":11},"SMC/SDMC सदस्य एवं शाला परिवार"]
[]
[]
[]
[]
[]
[]
[{"$nulls":3},{"$f":"Master!$E$5","v":"राजकीय उच्च माध्यमिक विद्यालय रायमलवाडा"},{"$nulls":11},{"$f":"Master!$E$5","v":"राजकीय उच्च माध्यमिक विद्यालय रायमलवाडा"},{"$nulls":11},{"$f":"AC1193+1","v":85},{"$f":"AB1222+1","v":86}]
[{"$nulls":3},{"$f":"Master!$E$6","v":"ब्लॉक-बापिणी (जोधपुर)"},{"$nulls":11},{"$f":"Master!$E$6","v":"ब्लॉक-बापिणी (जोधपुर)"}]
[]
[{"$nulls":4},":: आमंत्रण-पत्र ::",{"$nulls":11},":: आमंत्रण-पत्र ::"]
[]
[]
[]
[]
[{"$nulls":3},"श्रीयुत/श्रीमती",null,{"$f":"VLOOKUP(AB1222,'Student Details'!$A$3:$D$1002,4,0)","v":0},{"$nulls":9},"श्रीयुत/श्रीमती",null,{"$f":"VLOOKUP(AC1222,'Student Details'!$A$3:$D$1002,4,0)","v":0}]
[{"$nulls":3},"आपको सूचित करते हुए हर्ष हो रहा है कि दिनांक-",{"$nulls":11},"आपको सूचित करते हुए हर्ष हो रहा है कि दिनांक-"]
[{"$nulls":3},{"$f":"Master!$E$8","v":"2021-03-09"},null,"समय-",null,{"$f":"Master!$E$9","v":"09:15:00"},null,"से",{"$nulls":5},{"$f":"Master!$E$8","v":"2021-03-09"},null,"समय-",null,{"$f":"Master!$E$9","v":"09:15:00"},null,"से"]
[{"$nulls":3},"स्थानीय शाला प्रांगण में ",{"$nulls":11},"स्थानीय शाला प्रांगण में "]
[{"$nulls":3},{"$f":"Master!$E$7","v":"Republic Day"},{"$nulls":11},{"$f":"Master!$E$7","v":"Republic Day"}]
[{"$nulls":3},"का आयोजन किया जा रहा है, इस समारोह में आपकी गरिमामयी उपस्थिति सादर प्रार्थनीय है l",{"$nulls":11},"का आयोजन किया जा रहा है, इस समारोह में आपकी गरिमामयी उपस्थिति सादर प्रार्थनीय है l"]
[]
[]
[{"$nulls":3},"विशेष आकर्षण:-",null,{"$f":"Master!$E$10","v":"पूर्व छात्र मिल्लन, प्रतिभा एवं भामाशाह सम्मान कार्यक्रम"},{"$nulls":9},"विशेष आकर्षण:-",null,{"$f":"Master!$E$10","v":"पूर्व छात्र मिल्लन, प्रतिभा एवं भामाशाह सम्मान कार्यक्रम"}]
[]
[{"$nulls":5},":: निवेदक ::",{"$nulls":11},":: निवेदक ::"]
[]
[{"$nulls":4},{"$f":"CONCATENATE(Master!$E$12,Master!$G$12)","v":"संस्था प्रधान राजकीय उच्च माध्यमिक विद्यालय रायमलवाडा"},{"$nulls":11},{"$f":"CONCATENATE(Master!$E$12,Master!$G$12)","v":"संस्था प्रधान राजकीय उच्च माध्यमिक विद्यालय रायमलवाडा"}]
[{"$nulls":4},"विनीत:-",{"$nulls":11},"विनीत:-"]
[{"$nulls":4},"SMC/SDMC सदस्य एवं शाला परिवार",{"$nulls":11},"SMC/SDMC सदस्य एवं शाला परिवार"]
[]
[]
[]
[]
[]
[]
[{"$nulls":3},{"$f":"Master!$E$5","v":"राजकीय उच्च माध्यमिक विद्यालय रायमलवाडा"},{"$nulls":11},{"$f":"Master!$E$5","v":"राजकीय उच्च माध्यमिक विद्यालय रायमलवाडा"},{"$nulls":11},{"$f":"AC1222+1","v":87},{"$f":"AB1251+1","v":88}]
[{"$nulls":3},{"$f":"Master!$E$6","v":"ब्लॉक-बापिणी (जोधपुर)"},{"$nulls":11},{"$f":"Master!$E$6","v":"ब्लॉक-बापिणी (जोधपुर)"}]
[]
[{"$nulls":4},":: आमंत्रण-पत्र ::",{"$nulls":11},":: आमंत्रण-पत्र ::"]
[]
[]
[]
[]
[{"$nulls":3},"श्रीयुत/श्रीमती",null,{"$f":"VLOOKUP(AB1251,'Student Details'!$A$3:$D$1002,4,0)","v":0},{"$nulls":9},"श्रीयुत/श्रीमती",null,{"$f":"VLOOKUP(AC1251,'Student Details'!$A$3:$D$1002,4,0)","v":0}]
[{"$nulls":3},"आपको सूचित करते हुए हर्ष हो रहा है कि दिनांक-",{"$nulls":11},"आपको सूचित करते हुए हर्ष हो रहा है कि दिनांक-"]
[{"$nulls":3},{"$f":"Master!$E$8","v":"2021-03-09"},null,"समय-",null,{"$f":"Master!$E$9","v":"09:15:00"},null,"से",{"$nulls":5},{"$f":"Master!$E$8","v":"2021-03-09"},null,"समय-",null,{"$f":"Master!$E$9","v":"09:15:00"},null,"से"]
[{"$nulls":3},"स्थानीय शाला प्रांगण में ",{"$nulls":11},"स्थानीय शाला प्रांगण में "]
[{"$nulls":3},{"$f":"Master!$E$7","v":"Republic Day"},{"$nulls":11},{"$f":"Master!$E$7","v":"Republic Day"}]
[{"$nulls":3},"का आयोजन किया जा रहा है, इस समारोह में आपकी गरिमामयी उपस्थिति सादर प्रार्थनीय है l",{"$nulls":11},"का आयोजन किया जा रहा है, इस समारोह में आपकी गरिमामयी उपस्थिति सादर प्रार्थनीय है l"]
[]
[]
[{"$nulls":3},"विशेष आकर्षण:-",null,{"$f":"Master!$E$10","v":"पूर्व छात्र मिल्लन, प्रतिभा एवं भामाशाह सम्मान कार्यक्रम"},{"$nulls":9},"विशेष आकर्षण:-",null,{"$f":"Master!$E$10","v":"पूर्व छात्र मिल्लन, प्रतिभा एवं भामाशाह सम्मान कार्यक्रम"}]
[]
[{"$nulls":5},":: निवेदक ::",{"$nulls":11},":: निवेदक ::"]
[]
[{"$nulls":4},{"$f":"CONCATENATE(Master!$E$12,Master!$G$12)","v":"संस्था प्रधान राजकीय उच्च माध्यमिक विद्यालय रायमलवाडा"},{"$nulls":11},{"$f":"CONCATENATE(Master!$E$12,Master!$G$12)","v":"संस्था प्रधान राजकीय उच्च माध्यमिक विद्यालय रायमलवाडा"}]
[{"$nulls":4},"विनीत:-",{"$nulls":11},"विनीत:-"]
[{"$nulls":4},"SMC/SDMC सदस्य एवं शाला परिवार",{"$nulls":11},"SMC/SDMC सदस्य एवं शाला परिवार"]
[]
[]
[]
[]
[]
[]
[{"$nulls":3},{"$f":"Master!$E$5","v":"राजकीय उच्च माध्यमिक विद्यालय रायमलवाडा"},{"$nulls":11},{"$f":"Master!$E$5","v":"राजकीय उच्च माध्यमिक विद्यालय रायमलवाडा"},{"$nulls":11},{"$f":"AC1251+1","v":89},{"$f":"AB1280+1","v":90}]
[{"$nulls":3},{"$f":"Master!$E$6","v":"ब्लॉक-बापिणी (जोधपुर)"},{"$nulls":11},{"$f":"Master!$E$6","v":"ब्लॉक-बापिणी (जोधपुर)"}]
[]
[{"$nulls":4},":: आमंत्रण-पत्र ::",{"$nulls":11},":: आमंत्रण-पत्र ::"]
[]
[]
[]
[]
[{"$nulls":3},"श्रीयुत/श्रीमती",null,{"$f":"VLOOKUP(AB1280,'Student Details'!$A$3:$D$1002,4,0)","v":0},{"$nulls":9},"श्रीयुत/श्रीमती",null,{"$f":"VLOOKUP(AC1280,'Student Details'!$A$3:$D$1002,4,0)","v":0}]
[{"$nulls":3},"आपको सूचित करते हुए हर्ष हो रहा है कि दिनांक-",{"$nulls":11},"आपको सूचित करते हुए हर्ष हो रहा है कि दिनांक-"]
[{"$nulls":3},{"$f":"Master!$E$8","v":"2021-03-09"},null,"समय-",null,{"$f":"Master!$E$9","v":"09:15:00"},null,"से",{"$nulls":5},{"$f":"Master!$E$8","v":"2021-03-09"},null,"समय-",null,{"$f":"Master!$E$9","v":"09:15:00"},null,"से"]
[{"$nulls":3},"स्थानीय शाला प्रांगण में ",{"$nulls":11},"स्थानीय शाला प्रांगण में "]
[{"$nulls":3},{"$f":"Master!$E$7","v":"Republic Day"},{"$nulls":11},{"$f":"Master!$E$7","v":"Republic Day"}]
[{"$nulls":3},"का आयोजन किया जा रहा है, इस समारोह में आपकी गरिमामयी उपस्थिति सादर प्रार्थनीय है l",{"$nulls":11},"का आयोजन किया जा रहा है, इस समारोह में आपकी गरिमामयी उपस्थिति सादर प्रार्थनीय है l"]
[]
[]
[{"$nulls":3},"विशेष आकर्षण:-",null,{"$f":"Master!$E$10","v":"पूर्व छात्र मिल्लन, प्रतिभा एवं भामाशाह सम्मान कार्यक्रम"},{"$nulls":9},"विशेष आकर्षण:-",null,{"$f":"Master!$E$10","v":"पूर्व छात्र मिल्लन, प्रतिभा एवं भामाशाह सम्मान कार्यक्रम"}]
[]
[{"$nulls":5},":: निवेदक ::",{"$nulls":11},":: निवेदक ::"]
[]
[{"$nulls":4},{"$f":"CONCATENATE(Master!$E$12,Master!$G$12)","v":"संस्था प्रधान राजकीय उच्च माध्यमिक विद्यालय रायमलवाडा"},{"$nulls":11},{"$f":"CONCATENATE(Master!$E$12,Master!$G$12)","v":"संस्था प्रधान राजकीय उच्च माध्यमिक विद्यालय रायमलवाडा"}]
[{"$nulls":4},"विनीत:-",{"$nulls":11},"विनीत:-"]
[{"$nulls":4},"SMC/SDMC सदस्य एवं शाला परिवार",{"$nulls":11},"SMC/SDMC सदस्य एवं शाला परिवार"]
[]
[]
[]
[]
[]
[]
[{"$nulls":3},{"$f":"Master!$E$5","v":"राजकीय उच्च माध्यमिक विद्यालय रायमलवाडा"},{"$nulls":11},{"$f":"Master!$E$5","v":"राजकीय उच्च माध्यमिक विद्यालय रायमलवाडा"},{"$nulls":11},{"$f":"AC1280+1","v":91},{"$f":"AB1309+1","v":92}]
[{"$nulls":3},{"$f":"Master!$E$6","v":"ब्लॉक-बापिणी (जोधपुर)"},{"$nulls":11},{"$f":"Master!$E$6","v":"ब्लॉक-बापिणी (जोधपुर)"}]
[]
[{"$nulls":4},":: आमंत्रण-पत्र ::",{"$nulls":11},":: आमंत्रण-पत्र ::"]
[]
[]
[]
[]
[{"$nulls":3},"श्रीयुत/श्रीमती",null,{"$f":"VLOOKUP(AB1309,'Student Details'!$A$3:$D$1002,4,0)","v":0},{"$nulls":9},"श्रीयुत/श्रीमती",null,{"$f":"VLOOKUP(AC1309,'Student Details'!$A$3:$D$1002,4,0)","v":0}]
[{"$nulls":3},"आपको सूचित करते हुए हर्ष हो रहा है कि दिनांक-",{"$nulls":11},"आपको सूचित करते हुए हर्ष हो रहा है कि दिनांक-"]
[{"$nulls":3},{"$f":"Master!$E$8","v":"2021-03-09"},null,"समय-",null,{"$f":"Master!$E$9","v":"09:15:00"},null,"से",{"$nulls":5},{"$f":"Master!$E$8","v":"2021-03-09"},null,"समय-",null,{"$f":"Master!$E$9","v":"09:15:00"},null,"से"]
[{"$nulls":3},"स्थानीय शाला प्रांगण में ",{"$nulls":11},"स्थानीय शाला प्रांगण में "]
[{"$nulls":3},{"$f":"Master!$E$7","v":"Republic Day"},{"$nulls":11},{"$f":"Master!$E$7","v":"Republic Day"}]
[{"$nulls":3},"का आयोजन किया जा रहा है, इस समारोह में आपकी गरिमामयी उपस्थिति सादर प्रार्थनीय है l",{"$nulls":11},"का आयोजन किया जा रहा है, इस समारोह में आपकी गरिमामयी उपस्थिति सादर प्रार्थनीय है l"]
[]
[]
[{"$nulls":3},"विशेष आकर्षण:-",null,{"$f":"Master!$E$10","v":"पूर्व छात्र मिल्लन, प्रतिभा एवं भामाशाह सम्मान कार्यक्रम"},{"$nulls":9},"विशेष आकर्षण:-",null,{"$f":"Master!$E$10","v":"पूर्व छात्र मिल्लन, प्रतिभा एवं भामाशाह सम्मान कार्यक्रम"}]
[]
[{"$nulls":5},":: निवेदक ::",{"$nulls":11},":: निवेदक ::"]
[]
[{"$nulls":4},{"$f":"CONCATENATE(Master!$E$12,Master!$G$12)","v":"संस्था प्रधान राजकीय उच्च माध्यमिक विद्यालय रायमलवाडा"},{"$nulls":11},{"$f":"CONCATENATE(Master!$E$12,Master!$G$12)","v":"संस्था प्रधान राजकीय उच्च माध्यमिक विद्यालय रायमलवाडा"}]
[{"$nulls":4},"विनीत:-",{"$nulls":11},"विनीत:-"]
[{"$nulls":4},"SMC/SDMC सदस्य एवं शाला परिवार",{"$nulls":11},"SMC/SDMC सदस्य एवं शाला परिवार"]
[]
[]
[]
[]
[]
[]
[{"$nulls":3},{"$f":"Master!$E$5","v":"राजकीय उच्च माध्यमिक विद्यालय रायमलवाडा"},{"$nulls":11},{"$f":"Master!$E$5","v":"राजकीय उच्च माध्यमिक विद्यालय रायमलवाडा"},{"$nulls":11},{"$f":"AC1309+1","v":93},{"$f":"AB1338+1","v":94}]
[{"$nulls":3},{"$f":"Master!$E$6","v":"ब्लॉक-बापिणी (जोधपुर)"},{"$nulls":11},{"$f":"Master!$E$6","v":"ब्लॉक-बापिणी (जोधपुर)"}]
[]
[{"$nulls":4},":: आमंत्रण-पत्र ::",{"$nulls":11},":: आमंत्रण-पत्र ::"]
[]
[]
[]
[]
[{"$nulls":3},"श्रीयुत/श्रीमती",null,{"$f":"VLOOKUP(AB1338,'Student Details'!$A$3:$D$1002,4,0)","v":0},{"$nulls":9},"श्रीयुत/श्रीमती",null,{"$f":"VLOOKUP(AC1338,'Student Details'!$A$3:$D$1002,4,0)","v":0}]
[{"$nulls":3},"आपको सूचित करते हुए हर्ष हो रहा है कि दिनांक-",{"$nulls":11},"आपको सूचित करते हुए हर्ष हो रहा है कि दिनांक-"]
[{"$nulls":3},{"$f":"Master!$E$8","v":"2021-03-09"},null,"समय-",null,{"$f":"Master!$E$9","v":"09:15:00"},null,"से",{"$nulls":5},{"$f":"Master!$E$8","v":"2021-03-09"},null,"समय-",null,{"$f":"Master!$E$9","v":"09:15:00"},null,"से"]
[{"$nulls":3},"स्थानीय शाला प्रांगण में ",{"$nulls":11},"स्थानीय शाला प्रांगण में "]
[{"$nulls":3},{"$f":"Master!$E$7","v":"Republic Day"},{"$nulls":11},{"$f":"Master!$E$7","v":"Republic Day"}]
[{"$nulls":3},"का आयोजन किया जा रहा है, इस समारोह में आपकी गरिमामयी उपस्थिति सादर प्रार्थनीय है l",{"$nulls":11},"का आयोजन किया जा रहा है, इस समारोह में आपकी गरिमामयी उपस्थिति सादर प्रार्थनीय है l"]
[]
[]
[{"$nulls":3},"विशेष आकर्षण:-",null,{"$f":"Master!$E$10","v":"पूर्व छात्र मिल्लन, प्रतिभा एवं भामाशाह सम्मान कार्यक्रम"},{"$nulls":9},"विशेष आकर्षण:-",null,{"$f":"Master!$E$10","v":"पूर्व छात्र मिल्लन, प्रतिभा एवं भामाशाह सम्मान कार्यक्रम"}]
[]
[{"$nulls":5},":: निवेदक ::",{"$nulls":11},":: निवेदक ::"]
[]
[{"$nulls":4},{"$f":"CONCATENATE(Master!$E$12,Master!$G$12)","v":"संस्था प्रधान राजकीय उच्च माध्यमिक विद्यालय रायमलवाडा"},{"$nulls":11},{"$f":"CONCATENATE(Master!$E$12,Master!$G$12)","v":"संस्था प्रधान राजकीय उच्च माध्यमिक विद्यालय रायमलवाडा"}]
[{"$nulls":4},"विनीत:-",{"$nulls":11},"विनीत:-"]
[{"$nulls":4},"SMC/SDMC सदस्य एवं शाला परिवार",{"$nulls":11},"SMC/SDMC सदस्य एवं शाला परिवार"]
[]
[]
[]
[]
[]
[]
[{"$nulls":3},{"$f":"Master!$E$5","v":"राजकीय उच्च माध्यमिक विद्यालय रायमलवाडा"},{"$nulls":11},{"$f":"Master!$E$5","v":"राजकीय उच्च माध्यमिक विद्यालय रायमलवाडा"},{"$nulls":11},{"$f":"AC1338+1","v":95},{"$f":"AB1367+1","v":96}]
[{"$nulls":3},{"$f":"Master!$E$6","v":"ब्लॉक-बापिणी (जोधपुर)"},{"$nulls":11},{"$f":"Master!$E$6","v":"ब्लॉक-बापिणी (जोधपुर)"}]
[]
[{"$nulls":4},":: आमंत्रण-पत्र ::",{"$nulls":11},":: आमंत्रण-पत्र ::"]
[]
[]
[]
[]
[{"$nulls":3},"श्रीयुत/श्रीमती",null,{"$f":"VLOOKUP(AB1367,'Student Details'!$A$3:$D$1002,4,0)","v":0},{"$nulls":9},"श्रीयुत/श्रीमती",null,{"$f":"VLOOKUP(AC1367,'Student Details'!$A$3:$D$1002,4,0)","v":0}]
[{"$nulls":3},"आपको सूचित करते हुए हर्ष हो रहा है कि दिनांक-",{"$nulls":11},"आपको सूचित करते हुए हर्ष हो रहा है कि दिनांक-"]
[{"$nulls":3},{"$f":"Master!$E$8","v":"2021-03-09"},null,"समय-",null,{"$f":"Master!$E$9","v":"09:15:00"},null,"से",{"$nulls":5},{"$f":"Master!$E$8","v":"2021-03-09"},null,"समय-",null,{"$f":"Master!$E$9","v":"09:15:00"},null,"से"]
[{"$nulls":3},"स्थानीय शाला प्रांगण में ",{"$nulls":11},"स्थानीय शाला प्रांगण में "]
[{"$nulls":3},{"$f":"Master!$E$7","v":"Republic Day"},{"$nulls":11},{"$f":"Master!$E$7","v":"Republic Day"}]
[{"$nulls":3},"का आयोजन किया जा रहा है, इस समारोह में आपकी गरिमामयी उपस्थिति सादर प्रार्थनीय है l",{"$nulls":11},"का आयोजन किया जा रहा है, इस समारोह में आपकी गरिमामयी उपस्थिति सादर प्रार्थनीय है l"]
[]
[]
[{"$nulls":3},"विशेष आकर्षण:-",null,{"$f":"Master!$E$10","v":"पूर्व छात्र मिल्लन, प्रतिभा एवं भामाशाह सम्मान कार्यक्रम"},{"$nulls":9},"विशेष आकर्षण:-",null,{"$f":"Master!$E$10","v":"पूर्व छात्र मिल्लन, प्रतिभा एवं भामाशाह सम्मान कार्यक्रम"}]
[]
[{"$nulls":5},":: निवेदक ::",{"$nulls":11},":: निवेदक ::"]
[]
[{"$nulls":4},{"$f":"CONCATENATE(Master!$E$12,Master!$G$12)","v":"संस्था प्रधान राजकीय उच्च माध्यमिक विद्यालय रायमलवाडा"},{"$nulls":11},{"$f":"CONCATENATE(Master!$E$12,Master!$G$12)","v":"संस्था प्रधान राजकीय उच्च माध्यमिक विद्यालय रायमलवाडा"}]
[{"$nulls":4},"विनीत:-",{"$nulls":11},"विनीत:-"]
[{"$nulls":4},"SMC/SDMC सदस्य एवं शाला परिवार",{"$nulls":11},"SMC/SDMC सदस्य एवं शाला परिवार"]
[]
[]
[]
[]
[]
[]
[{"$nulls":3},{"$f":"Master!$E$5","v":"राजकीय उच्च माध्यमिक विद्यालय रायमलवाडा"},{"$nulls":11},{"$f":"Master!$E$5","v":"राजकीय उच्च माध्यमिक विद्यालय रायमलवाडा"},{"$nulls":11},{"$f":"AC1367+1","v":97},{"$f":"AB1396+1","v":98}]
[{"$nulls":3},{"$f":"Master!$E$6","v":"ब्लॉक-बापिणी (जोधपुर)"},{"$nulls":11},{"$f":"Master!$E$6","v":"ब्लॉक-बापिणी (जोधपुर)"}]
[]
[{"$nulls":4},":: आमंत्रण-पत्र ::",{"$nulls":11},":: आमंत्रण-पत्र ::"]
[]
[]
[]
[]
[{"$nulls":3},"श्रीयुत/श्रीमती",null,{"$f":"VLOOKUP(AB1396,'Student Details'!$A$3:$D$1002,4,0)","v":0},{"$nulls":9},"श्रीयुत/श्रीमती",null,{"$f":"VLOOKUP(AC1396,'Student Details'!$A$3:$D$1002,4,0)","v":0}]
[{"$nulls":3},"आपको सूचित करते हुए हर्ष हो रहा है कि दिनांक-",{"$nulls":11},"आपको सूचित करते हुए हर्ष हो रहा है कि दिनांक-"]
[{"$nulls":3},{"$f":"Master!$E$8","v":"2021-03-09"},null,"समय-",null,{"$f":"Master!$E$9","v":"09:15:00"},null,"से",{"$nulls":5},{"$f":"Master!$E$8","v":"2021-03-09"},null,"समय-",null,{"$f":"Master!$E$9","v":"09:15:00"},null,"से"]
[{"$nulls":3},"स्थानीय शाला प्रांगण में ",{"$nulls":11},"स्थानीय शाला प्रांगण में "]
[{"$nulls":3},{"$f":"Master!$E$7","v":"Republic Day"},{"$nulls":11},{"$f":"Master!$E$7","v":"Republic Day"}]
[{"$nulls":3},"का आयोजन किया जा रहा है, इस समारोह में आपकी गरिमामयी उपस्थिति सादर प्रार्थनीय है l",{"$nulls":11},"का आयोजन किया जा रहा है, इस समारोह में आपकी गरिमामयी उपस्थिति सादर प्रार्थनीय है l"]
[]
[]
[{"$nulls":3},"विशेष आकर्षण:-",null,{"$f":"Master!$E$10","v":"पूर्व छात्र मिल्लन, प्रतिभा एवं भामाशाह सम्मान कार्यक्रम"},{"$nulls":9},"विशेष आकर्षण:-",null,{"$f":"Master!$E$10","v":"पूर्व छात्र मिल्लन, प्रतिभा एवं भामाशाह सम्मान कार्यक्रम"}]
[]
[{"$nulls":5},":: निवेदक ::",{"$nulls":11},":: निवेदक ::"]
[]
[{"$nulls":4},{"$f":"CONCATENATE(Master!$E$12,Master!$G$12)","v":"संस्था प्रधान राजकीय उच्च माध्यमिक विद्यालय रायमलवाडा"},{"$nulls":11},{"$f":"CONCATENATE(Master!$E$12,Master!$G$12)","v":"संस्था प्रधान राजकीय उच्च माध्यमिक विद्यालय रायमलवाडा"}]
[{"$nulls":4},"विनीत:-",{"$nulls":11},"विनीत:-"]
[{"$nulls":4},"SMC/SDMC सदस्य एवं शाला परिवार",{"$nulls":11},"SMC/SDMC सदस्य एवं शाला परिवार"]
[]
[]
[]
[]
[]
[]
[{"$nulls":3},{"$f":"Master!$E$5","v":"राजकीय उच्च माध्यमिक विद्यालय रायमलवाडा"},{"$nulls":11},{"$f":"Master!$E$5","v":"राजकीय उच्च माध्यमिक विद्यालय रायमलवाडा"},{"$nulls":11},{"$f":"AC1396+1","v":99},{"$f":"AB1425+1","v":100}]
[{"$nulls":3},{"$f":"Master!$E$6","v":"ब्लॉक-बापिणी (जोधपुर)"},{"$nulls":11},{"$f":"Master!$E$6","v":"ब्लॉक-बापिणी (जोधपुर)"}]
[]
[{"$nulls":4},":: आमंत्रण-पत्र ::",{"$nulls":11},":: आमंत्रण-पत्र ::"]
[]
[]
[]
[]
[{"$nulls":3},"श्रीयुत/श्रीमती",null,{"$f":"VLOOKUP(AB1425,'Student Details'!$A$3:$D$1002,4,0)","v":0},{"$nulls":9},"श्रीयुत/श्रीमती",null,{"$f":"VLOOKUP(AC1425,'Student Details'!$A$3:$D$1002,4,0)","v":0}]
[{"$nulls":3},"आपको सूचित करते हुए हर्ष हो रहा है कि दिनांक-",{"$nulls":11},"आपको सूचित करते हुए हर्ष हो रहा है कि दिनांक-"]
[{"$nulls":3},{"$f":"Master!$E$8","v":"2021-03-09"},null,"समय-",null,{"$f":"Master!$E$9","v":"09:15:00"},null,"से",{"$nulls":5},{"$f":"Master!$E$8","v":"2021-03-09"},null,"समय-",null,{"$f":"Master!$E$9","v":"09:15:00"},null,"से"]
[{"$nulls":3},"स्थानीय शाला प्रांगण में ",{"$nulls":11},"स्थानीय शाला प्रांगण में "]
[{"$nulls":3},{"$f":"Master!$E$7","v":"Republic Day"},{"$nulls":11},{"$f":"Master!$E$7","v":"Republic Day"}]
[{"$nulls":3},"का आयोजन किया जा रहा है, इस समारोह में आपकी गरिमामयी उपस्थिति सादर प्रार्थनीय है l",{"$nulls":11},"का आयोजन किया जा रहा है, इस समारोह में आपकी गरिमामयी उपस्थिति सादर प्रार्थनीय है l"]
[]
[]
[{"$nulls":3},"विशेष आकर्षण:-",null,{"$f":"Master!$E$10","v":"पूर्व छात्र मिल्लन, प्रतिभा एवं भामाशाह सम्मान कार्यक्रम"},{"$nulls":9},"विशेष आकर्षण:-",null,{"$f":"Master!$E$10","v":"पूर्व छात्र मिल्लन, प्रतिभा एवं भामाशाह सम्मान कार्यक्रम"}]
[]
[{"$nulls":5},":: निवेदक ::",{"$nulls":11},":: निवेदक ::"]
[]
[{"$nulls":4},{"$f":"CONCATENATE(Master!$E$12,Master!$G$12)","v":"संस्था प्रधान राजकीय उच्च माध्यमिक विद्यालय रायमलवाडा"},{"$nulls":11},{"$f":"CONCATENATE(Master!$E$12,Master!$G$12)","v":"संस्था प्रधान राजकीय उच्च माध्यमिक विद्यालय रायमलवाडा"}]
[{"$nulls":4},"विनीत:-",{"$nulls":11},"विनीत:-"]
[{"$nulls":4},"SMC/SDMC सदस्य एवं शाला परिवार",{"$nulls":11},"SMC/SDMC सदस्य एवं शाला परिवार"]