{"text_format":"3","workbook":"xlsx","n_sheets":4,"sheets":["How to Use","Master Sheet","Arrear Sheet","Unlock sheet"],"not_rendered":{"images":2,"defined_names":5},"read":"whole","date_system":"1900"}

{"sheet":"How to Use","index":0,"n_rows":23,"n_cols":6,"rows_kept":23,"merged":[[0,1,1,2],[3,1,3,2]]}
[null,"यह एक्सेल प्रोग्राम इष्टदेव बजरंगबली व पाबूजी महाराज की असीम कृपा तथा गुरुदेव वासुदेवजी महाराज के आशीर्वाद और माता -पिता के शुभ आशीष से आप तक हाजिर किया जा रहा है "]
[]
[]
[null," ::   निर्देश  ::"]
[null,"Video No. 01 link :-","https://youtu.be/e9tzJ3zCZPk"]
[null,"Video No. 02 link :-","https://youtu.be/KZNCz_sq6iQ"]
[null,"Video No. 03 link :-","https://youtu.be/ZmZ-D7xZTpA"]
[null,"New Update Video :-","https://youtu.be/fTQ-UORJAX8"]
[1,"Master Sheet :-","इस शीट पर आप अपने से सम्बंधित सूचना की एंट्री कर सकते है I सबसे पहले आप अपने विद्यालय का नाम तथा उसके बाद अपने डीडीओ का नाम व पद , उसके बाद अपना स्वयं का नाम व पद इनपुट करें I उसके बाद आपको किस माह से एरियर बनाना है , उस माह को सलेक्ट बटन से सलेक्ट करे तथा अगले कॉलम में किस माह तक एरियर बनाना है उसे सलेक्ट करें I मकान किराया दर , पे मेट्रिक्स लेवल और इनकम टैक्स कटवाना है तो प्रतिशत में लिखे अन्यथा शुन्य ही रहने देवे I उसके बाद वेतन का प्रकार लिखें , इसमे आप रेगुलर पे और फिक्स पे में से चयन करें I यदि आप फिक्स वेतन को सलेक्ट करते है तो फ़िक्स पे के वेतन वाला कॉलम खुल जायेगा और रेगुलर वेतन वाला कॉलम फ्रीज़ हो जायेगा I और यदि आप रेगुलर पे का आप्शन सलेक्ट करते है तो रेगुलर पे वाला आप्शन अनफ्रीज़ हो जायेगा I उसके बाद आप जिस दिनांक से वेतन बनाना चाहते है उस दिनांक को DD/MM/YYYY के फॉर्मेट में लिखें I नवीन वेतन का बेसिक पे लिखें , जिसके द्वारा एरियर की कैलकुलेशन होगी I उसके बाद यदि आप किसी पूर्व राजकीय सेवा में रहने के कारण एरियर बनाना है तो इसमे YES सलेक्ट करें I जैसे ही YES सलेक्ट करेंगे तो वेतन लिखने के लिए कॉलम अनफ्रीज़ हो जायेगा , जिसमे वेतन लिख पायेंगे I उसके बाद यदि आपके S.I. कटौती हो रही है तो S.I. कटौती को इन्द्राज करें I उसके बाद यदि आपके G.P.F. कटौती हो रही है तो पहले YES सलेक्ट करें तथा उसके बाद आप G.P.F. कटौती को इन्द्राज करें I अन्त में यदि एरियर बनाने के पीरियड में आपके वेतन में जुलाई की वेतन वृद्धि के अलावा ओर किसी प्रकार की वेतन वृद्धि हुई है तो YES सलेक्ट करे , YES सलेक्ट करते ही वेतन लिखने के लिए आप्शन शो हो जायेंगे I नियमित वेतन वृद्धि स्वतः होगी I\n   मार्च 2020 के वेतन से कोरोना की कटौती हुई हो तो yes सेलेक्ट करे I जैसे ही yes सलेक्ट करेंगे दिनों की संख्या भरने के आप्शन शो हो जायेगा I वहा दिनों की संख्या सलेक्ट कर लेवे I",null,null," "]
[{"$nulls":3},"Update on"]
[null,null,"नोट :-  आप को जो भी एन्ट्री करनी है वो सब मास्टर शीट पर ही करनी है , एरियर शीट पर कुछ नहीं करना है I यदि आपको ड्राप डाउन लिस्ट में आपका पद नहीं मिल रहा है तो मास्टर शीट पर गुरुदेव की फोटो के नीचे टेबल दे रखी है , उसमे लिख लेवे , वह पद लिस्ट में ऐड हो जाएगा I","2023-06-28"]
[null,null," "]
[2,"Arrear Sheet :-","यहाँ पर मास्टर शीट पर जो एंट्री की गयी है उसका आउटपुट मिलेगा I यहाँ किसी भी प्रकार की एन्ट्री नहीं होगी I जो भी संशोधन करना है तो मास्टर शीट पर करना है I यह शीट fully ऑटोमेटेड है , यहाँ पर केवल प्रिंट निकलना है , जो A4 साइज़ में पेज सेट किया हुआ है I"]
[]
[3,"Unlock Arrear Sheet :-","यह अनलॉक शीट इसलिए डाली गयी ताकि किसी भी अपवाद स्वरुप किसी कार्मिक का वेतन ड्रा (एरियर ) सही नहीं बैठ रहा है या फिर वेतन व कटोती में ज्यादा संशोधन है तो आप अनलॉक शीट काम में ले सकते है I कही पर त्रुटि रहने के समय काम ले सकते है I"]
[]
[null,"सूचना :-","वैसे इस प्रोग्राम को तैयार करने में पूर्ण सावधानी बरती गयी है , फिर भी मानवीय त्रुटि होना संम्भव है I अतः आप अपने स्तर पर जरुर चेक कर लेवे I इस हेतु निर्माणकर्ता कतई जिम्मेदार नहीं होगा I यह आपकी सुविधा के लिए है I"]
[]
[null,null,"वैसे शीट पूरी मेहनत से तैयार की गयी है , फिर भी अगर कही पर त्रुटि रहती है तो जरुर अवगत करावे , इस हेतु जरुर संशोधित संस्करण निकाला जायेगा I"]
[]
[null,null,"धन्यवाद "]
[null,null,"आपका दोस्त "]
[null,null,"हीरालाल जाट , वरिष्ठ अध्यापक (एक्सेल प्रोग्रामर )"]

{"sheet":"Master Sheet","index":1,"n_rows":98,"n_cols":35,"rows_kept":98,"merged":[[0,3,0,10],[0,11,0,12],[1,11,1,12],[2,3,2,12],[4,3,4,5],[4,10,4,11],[4,15,5,15],[6,3,6,5],[6,10,6,11],[6,16,6,17],[8,1,8,2],[8,3,8,5],[8,10,8,11],[10,1,10,2],[10,3,10,5],[10,10,10,11],[12,1,12,2],[12,10,12,11],[14,1,14,2],[14,3,14,5],[14,10,14,11],[16,1,16,2],[16,3,16,5],[16,10,16,11],[18,1,18,2],[18,3,18,5],[18,10,18,11],[20,1,20,2],[20,3,20,5],[20,10,20,11],[22,1,22,2],[22,3,22,5],[22,10,22,11],[24,1,24,2],[24,3,24,5],[24,7,24,11],[26,1,26,2],[26,3,26,5],[26,10,26,11],[29,12,29,14],[30,2,30,3],[30,6,30,8],[30,12,30,14],[31,2,31,3],[31,6,31,8],[32,2,32,3],[32,6,32,8],[32,12,32,15],[33,2,33,3],[33,6,33,8],[34,2,34,3],[34,6,34,8],[35,6,35,8],[36,6,36,8]]}
[{"$nulls":3},"DATA ENTRY",{"$nulls":7},"You tube Video Link\nGiven Bleow"]
[]
[null,null,"Office Name :-","Senior Medical officer, Community Health Center, Chandawal Nagar",{"$nulls":30},"2017-01-01"]
[{"$nulls":34},"2017-02-01"]
[null,null,"डीडीओ का नाम :-","USHA PALIYA",{"$nulls":3},"डीडीओ का पद  :-","CMO",null,"जुलाई 2021 से पूर्व मकान किराया दर :-",null,8,"%",null,"HRA पुराना ही लिखे \nनए के लिए Cell no. D29",{"$nulls":18},"2017-03-01"]
[{"$nulls":34},"2017-04-01"]
[null,null,"कार्मिक/अधिकारी का नाम :-","HEERALAL JAT",{"$nulls":3},"कार्मिक/अधिकारी का पद :-","MO",null,"निर्धारित पे मैट्रिक्स लेवल :-",null,{"v":16,"d":"L-16"},{"$nulls":3},"परम पूज्य गुरुदेव वासुदेवजी महाराज ",{"$nulls":17},"2017-05-01"]
[{"$nulls":34},"2017-06-01"]
[null,"किस माह से एरियर बनाना है :-",null,"2019-04-01",{"$nulls":3},"तथा किस माह तक एरियर बनाना है :-","2023-11-01",null,"इन्कम टैक्स कटाना है तो % में लिखे :-",null,0,"%",{"$nulls":20},"2017-07-01"]
[{"$nulls":16},"Post",{"$nulls":17},"2017-08-01"]
[null,"जो पूर्व में वेतन मिला है उसका प्रकार सेलेक्ट करें :- ",null,"Regular Pay",{"$nulls":3}," फिक्स पे वेतन मिला हो तो यहाँ लिखें :-",23700,null,"यदि नियमित वेतन मिला हो तो यहाँ लिखें :- ",null,95900,{"$nulls":3},"CMO",{"$nulls":17},"2017-09-01"]
[{"$nulls":3},"DD","MM","YYYYY",{"$nulls":10},"MO",{"$nulls":17},"2017-10-01"]
[null,"किस तारीख से एरियर बनाना है :- \n(Date Format :- DD/MM/YYYY ).           ",null,11,4,2019,null,"नया वेतन मिलने के दिनों की संख्या :- \n(आप सिर्फ़ चेक कर सकते है )",{"$f":"IFERROR(IF('Arrear Sheet'!BA6=\"\",\"\",'Arrear Sheet'!BA6),\"\")","v":20},null,"नवीन निर्धारित वेतन (New Basic Salary) :- ",null,101200,{"$nulls":3},"Nurse",{"$nulls":17},"2017-11-01"]
[{"$nulls":34},"2017-12-01"]
[null,"यदि कार्मिक के वेतन से राज्य बीमा कटोती हो रही है तो  YES सेलेक्ट करें :-",null,"YES",{"$nulls":3},"S.I. Deduction Premium Amount :-",2100,null,"S.I. Deduction Due Premium Amount :-",null,2100,{"$nulls":21},"2018-01-01"]
[{"$nulls":34},"2018-02-01"]
[null,"यदि एरियर बनाने की अवधि के दौरान राज्य बीमा कटोती में वृद्धि हुई है तो YES सेलेक्ट करें :-",null,"NO",{"$nulls":3},"जिस माह में S.I. Premium में बदलाव आया है , वह माह सलेक्ट करें :- ","2019-03-01",null,"परिवर्तित प्रीमियम राशि यहाँ पर लिखें :- ",null,3000,{"$nulls":21},"2018-03-01"]
[{"$nulls":34},"2018-04-01"]
[null,"यदि कार्मिक की नियुक्ति 01-01-2004 से पूर्व है तो    YES सेलेक्ट करें :-",null,"NO",{"$nulls":3},"G.P.F. Deduction Premium Amount :-",3675,null,"G.P.F. Deduction Due Premium Amount :-",null,3675,{"$nulls":21},"2018-05-01"]
[{"$nulls":34},"2018-06-01"]
[null,"यदि एरियर बनाने की अवधि के दौरान GPF कटोती में वृद्धि हुई है तो YES सेलेक्ट करें :-",null,"NO",{"$nulls":3},"जिस माह में G.P.F. Ded. में वृद्धि करवाई  है , वह माह सलेक्ट करें :- ","2021-04-01",null,"परिवर्तित प्रीमियम राशि यहाँ पर लिखें :- ",null,5000,{"$nulls":21},"2018-07-01"]
[{"$nulls":34},"2018-08-01"]
[null,"यदि एरियर ड्रा के दौरान आपके वेतन में फिक्सेशन या एसीपी के कारण वेतन में बदलाव आया हो तो  YES सेलेक्ट करें :-",null,"NO",{"$nulls":3},"जिस माह में वेतन में बदलाव आया है , वह माह सलेक्ट करें :- ","2021-04-01",null,"परिवर्तित वेतन यहाँ पर लिखें :- ",null,41100,{"$nulls":21},"2018-09-01"]
[{"$nulls":34},"2018-10-01"]
[null," जुलाई 2021 से मकान किराया दर :-",null,{"$f":"IFERROR(IF(M5=8,9,IF(M5=16,18,0)),\"\")","v":9},null,null,"%","यदि GPF-2004 की कटौती हो रही है तो YES सलेक्ट करे, नहीं तो NO सलेक्ट करें (1 अप्रैल 2022 से) :-",{"$nulls":4},"YES",{"$nulls":21},"2018-11-01"]
[{"$nulls":34},"2018-12-01"]
[null,"RGHS की दर  में परिवर्तन हुआ है तो लिखे :-",{"$nulls":8},"GPF-2004 के प्रीमियम राशि यहाँ पर लिखें :- ",null,2100,{"$nulls":21},"2019-01-01"]
[{"$nulls":34},"2019-02-01"]
[{"$nulls":34},"2019-03-01"]
[{"$nulls":12},"Last Update Date",{"$nulls":21},"2019-04-01"]
[null,null,"You tube Video Link",{"$nulls":3},"This Program Is Developed By :",{"$nulls":5},"2023-06-28",{"$nulls":21},"2019-05-01"]
[null,null,"https://youtu.be/fTQ-UORJAX8",{"$nulls":3},"Heeralal Jat",{"$nulls":27},"2019-06-01"]
[{"$nulls":6},"Senior Teacher",{"$nulls":5},"https://youtu.be/fTQ-UORJAX8",{"$nulls":21},"2019-07-01"]
[null,null,"You tube Channal Link",{"$nulls":3},"Mahatma Gandhi Government School Bar , PALI",{"$nulls":27},"2019-08-01"]
[null,null,"https://youtube.com/c/Heeralaljat",{"$nulls":3},"V./P. :- Chandawal Nagar, Teh. - Sojat (Pali)",{"$nulls":27},"2019-09-01"]
[{"$nulls":34},"2019-10-01"]
[{"$nulls":34},"2019-11-01"]
[{"$nulls":34},"2019-12-01"]
[{"$nulls":34},"2020-01-01"]
[{"$nulls":34},"2020-02-01"]
[{"$nulls":34},"2020-03-01"]
[{"$nulls":34},"2020-04-01"]
[{"$nulls":34},"2020-05-01"]
[{"$nulls":34},"2020-06-01"]
[{"$nulls":34},"2020-07-01"]
[{"$nulls":34},"2020-08-01"]
[{"$nulls":34},"2020-09-01"]
[{"$nulls":34},"2020-10-01"]
[{"$nulls":34},"2020-11-01"]
[{"$nulls":34},"2020-12-01"]
[{"$nulls":34},"2021-01-01"]
[{"$nulls":34},"2021-02-01"]
[{"$nulls":34},"2021-03-01"]
[{"$nulls":34},"2021-04-01"]
[{"$nulls":34},"2021-05-01"]
[{"$nulls":34},"2021-06-01"]
[{"$nulls":34},"2021-07-01"]
[{"$nulls":34},"2021-08-01"]
[{"$nulls":34},"2021-09-01"]
[{"$nulls":34},"2021-10-01"]
[{"$nulls":34},"2021-11-01"]
[{"$nulls":34},"2021-12-01"]
[{"$nulls":34},"2022-01-01"]
[{"$nulls":34},"2022-02-01"]
[{"$nulls":34},"2022-03-01"]
[{"$nulls":34},"2022-04-01"]
[{"$nulls":34},"2022-05-01"]
[{"$nulls":34},"2022-06-01"]
[{"$nulls":34},"2022-07-01"]
[{"$nulls":34},"2022-08-01"]
[{"$nulls":34},"2022-09-01"]
[{"$nulls":34},"2022-10-01"]
[{"$nulls":34},"2022-11-01"]
[{"$nulls":34},"2022-12-01"]
[{"$nulls":34},"2023-01-01"]
[{"$nulls":34},"2023-02-01"]
[{"$nulls":34},"2023-03-01"]
[{"$nulls":34},"2023-04-01"]
[{"$nulls":34},"2023-05-01"]
[{"$nulls":34},"2023-06-01"]
[{"$nulls":34},"2023-07-01"]
[{"$nulls":34},"2023-08-01"]
[{"$nulls":34},"2023-09-01"]
[{"$nulls":34},"2023-10-01"]
[{"$nulls":34},"2023-11-01"]
[{"$nulls":34},"2023-12-01"]
[{"$nulls":34},"2024-01-01"]
[{"$nulls":34},"2024-02-01"]
[{"$nulls":34},"2024-03-01"]
[{"$nulls":34},"2024-04-01"]
[{"$nulls":34},"2024-05-01"]
[{"$nulls":34},"2024-06-01"]
[{"$nulls":34},"2024-07-01"]
[{"$nulls":34},"2024-08-01"]
[{"$nulls":34},"2024-09-01"]
[{"$nulls":34},"2024-10-01"]
[{"$nulls":34},"2024-11-01"]
[{"$nulls":34},"2024-12-01"]

{"sheet":"Arrear Sheet","index":2,"n_rows":125,"n_cols":78,"rows_kept":125,"merged":[[0,2,0,35],[1,2,1,35],[2,2,2,4],[2,5,2,7],[2,8,2,13],[2,14,2,15],[2,16,2,19],[2,20,2,23],[2,24,2,25],[2,31,2,33],[2,34,2,35],[3,2,3,4],[3,8,3,14],[3,15,3,18],[3,20,3,22],[3,23,3,25],[3,26,3,35],[5,1,6,1],[5,2,6,2],[5,3,5,7],[5,8,5,12],[5,13,5,17],[5,18,5,20],[5,21,5,23],[5,24,5,26],[5,27,5,29],[5,30,6,30],[5,31,6,31],[5,32,6,32],[5,33,6,33],[5,34,6,34],[5,35,6,35]]}
[null,null,{"$f":"IF('Master Sheet'!D3=\"\",\"\",CONCATENATE(\"Office \",'Master Sheet'!D3,))","v":"Office Senior Medical officer, Community Health Center, Chandawal Nagar"},{"$nulls":40},"2022-03-01",null,null,"2020-03-01",null,{"$f":"'Master Sheet'!D9","v":"2019-04-01"},null,{"$f":"'Master Sheet'!M27","v":2100},{"$nulls":25},"2022-03-01"]
[null,null,"Difference Arrear Sheet",{"$nulls":40},"GPF-2004",{"$nulls":4},{"$f":"IFERROR(IF(AW1=\"\",0,MONTH(AW1)),\"\")","v":4},{"$nulls":3},{"$f":"IF(AU4=AU3,29,IF(AW2=1,31,IF(AW2=2,28,IF(AW2=3,31,IF(AW2=4,30,IF(AW2=5,31,IF(AW2=6,30,IF(AW2=7,31,IF(AW2=8,31,IF(AW2=9,30,IF(AW2=10,31,IF(AW2=11,30,IF(AW2=12,31,0)))))))))))))","v":30},null,null,"2017-07-01","2023-07-01"]
[{"$nulls":5},"Name Of Employee :",null,null,{"$f":"IFERROR(UPPER('Master Sheet'!D7),\"\")","v":"HEERALAL JAT"},{"$nulls":5},"    Post :  ",null,{"$f":"IFERROR(UPPER('Master Sheet'!I7),\"\")","v":"MO"},{"$nulls":3},"    Pay Matrix Level : ",{"$nulls":3},{"$f":"IFERROR(CONCATENATE(\"L - \",'Master Sheet'!M7),\"\")","v":"L - 16"},{"$nulls":6},"GPF / NPS :-",null,null,{"$f":"IF($AU$18=$AU$20,\"GPF\",\"GPF-2004\")","v":"GPF-2004"},{"$nulls":9},{"$f":"MONTH(AW10)","v":5},null,{"$f":"'Master Sheet'!D9","v":"2019-04-01"},null,{"$f":"IFERROR(IF(AU6=\"\",0,MONTH(AU6)),\"\")","v":4},{"$nulls":3},{"$f":"IF(AU4=AU3,29,IF(AW2=1,31,IF(AW2=2,28,IF(AW2=3,31,IF(AW2=4,30,IF(AW2=5,31,IF(AW2=6,30,IF(AW2=7,31,IF(AW2=8,31,IF(AW2=9,30,IF(AW2=10,31,IF(AW2=11,30,IF(AW2=12,31,0)))))))))))))","v":30},null,null,"2018-07-01"]
[{"$nulls":8},"Arrear From Date :",{"$nulls":6},{"$f":"IFERROR('Master Sheet'!D9,\"\")","v":"2019-04-01"},{"$nulls":3},"to",{"$f":"IFERROR('Master Sheet'!I9,\"\")","v":"2023-11-01"},null,null,"Posting Place :",{"$nulls":19},{"$f":"IF(AI3=\"GPF\",\" GPF\",\"GPF-2004\")","v":"GPF-2004"},{"$f":"MONTH(AV6)","v":11},null,"2020-02-01",{"$f":"'Master Sheet'!D13","v":11},{"$f":"IFERROR(IF(AV4=\"\",0,AV4-1),\"\")","v":10},{"$nulls":3},{"$f":"IFERROR(SUM(BA3-AW4),\"\")","v":20},null,null,"2019-07-01"]
[{"$nulls":55},"2020-07-01"]
[null,"Sr. No.","Month","Pay Due",{"$nulls":4},"Pay Drawn",{"$nulls":4},"Pay Difference",{"$nulls":4},{"$f":"IF($AU$18=$AU$20,\"GPF\",\"NPS/GPF-2004\")","v":"NPS/GPF-2004"},null,null,"SI",null,null,"RGHS",null,null,"CM Corona Fund",null,null,{"$f":"CONCATENATE(\"GPF In \",AR4)","v":"GPF In GPF-2004"},"Income Tax","Total Deduction","Net Payment","Bill No./Date","Encashment Date",{"$nulls":8},"2020-09-01","2020-10-01",{"$f":"IF('Master Sheet'!D9=\"\",\"\",'Master Sheet'!D9)","v":"2019-04-01"},{"$f":"IF('Master Sheet'!I9=\"\",\"\",'Master Sheet'!I9)","v":"2023-11-01"},{"$f":"IFERROR(IF(AV4=\"\",0,DAY(AV4)-1),\"\")","v":10},{"$nulls":3},{"$f":"IFERROR(SUM(BA2-AW4),\"\")","v":20},null,null,"2021-07-01"]
[{"$nulls":3},"Pay","DA","HRA","NPA","Total","Pay","DA","HRA","NPA","Total","Pay","DA","HRA","NPA","Total","Due","Ded","Diff.","Due","Ded","Diff.","Due","Ded","Diff.","Due","Ded","Diff.",{"$nulls":13},{"$f":"IF(AS7=\"NO\",28,31)","v":31},{"$f":"IF('Master Sheet'!M25=\"\",\"\",'Master Sheet'!M25)","v":"YES"},null,{"$f":"IF('Master Sheet'!M9=\"\",\"\",'Master Sheet'!M9)","v":0},null,{"$f":"IF('Master Sheet'!M5=\"\",\"\",'Master Sheet'!M5)","v":8},{"$nulls":3},{"$f":"IF('Master Sheet'!D25=\"\",\"\",'Master Sheet'!D25)","v":9},null,"2021-07-01","2022-07-01",{"$nulls":12},{"$f":"ROUND(ROUND(O8*3%,0)*10%,0)","v":2}]
[{"$f":"IF(LEN(C8)>=2,1,0)","v":1},{"$f":"IFERROR(IF(A8=\"\",\"\",IF(A8=0,\"\",A8)),\"\")","v":1},{"$f":"IFERROR(IF(AZ9=\"\",\"\",AZ9),\"\")","v":"2019-04-01"},{"$f":"IFERROR(IF(BA9=\"\",\"\",BA9),\"\")","v":67467},{"$f":"IFERROR(IF(BC9=\"\",\"\",BC9),\"\")","v":9715},{"$f":"IFERROR(IF(OR(C8=$AS$16,C8=$AS$17,C8=$AS$18,C8=$AS$19,C8=$AS$20,C8=$AS$21,C8=$AS$22,C8=$AS$23,C8=$AS$24),0,IF(BD9=\"\",\"\",BD9)),\"\")","v":5397},{"$f":"IFERROR(IF(BB9=\"\",\"\",BB9),\"\")","v":13493},{"$f":"IF(C8=\"\",\"\",SUM(D8:G8))","v":96072},{"$f":"IFERROR(IF(BF9=\"\",\"\",BF9),\"\")","v":63933},{"$f":"IFERROR(IF(BH9=\"\",\"\",BH9),\"\")","v":9206},{"$f":"IFERROR(IF(OR(C8=$AS$16,C8=$AS$17,C8=$AS$18,C8=$AS$19,C8=$AS$20,C8=$AS$21,C8=$AS$22,C8=$AS$23,C8=$AS$24),0,IF(BI9=\"\",\"\",BI9)),\"\")","v":5115},{"$f":"IFERROR(IF(BG9=\"\",\"\",BG9),\"\")","v":12787},{"$f":"IF(C8=\"\",\"\",SUM(I8:L8))","v":91041},{"$f":"IFERROR(IF(C8=\"\",\"\",IF(D8=\"\",\"\",IF(I8=\"\",\"\",SUM(D8-I8)))),\"\")","v":3534},{"$f":"IFERROR(IF(C8=\"\",\"\",IF(E8=\"\",\"\",IF(J8=\"\",\"\",SUM(E8-J8)))),\"\")","v":509},{"$f":"IFERROR(IF(C8=\"\",\"\",IF(F8=\"\",\"\",IF(K8=\"\",\"\",SUM(F8-K8)))),\"\")","v":282},{"$f":"IFERROR(IF(D8=\"\",\"\",IF(G8=\"\",\"\",IF(L8=\"\",\"\",SUM(G8-L8)))),\"\")","v":706},{"$f":"IFERROR(IF(C8=\"\",\"\",IF(H8=\"\",\"\",IF(M8=\"\",\"\",SUM(H8-M8)))),\"\")","v":5031},{"$f":"IF(C8=\"\",\"\",IF(AND(C8>$AR$1,$AI$3=$AR$2),BW9,IF($AU$18=$AU$20,SUM(BJ9+BR9),ROUND((D8+E8)*10%,0))))","v":7718},{"$f":"IFERROR(IF(C8=\"\",\"\",IF(I8=\"\",\"\",IF(J8=\"\",\"\",IF(AND(C8>$AR$1,$AI$3=$AR$2),BW9,IF($AU$18=$AU$20,$AU$21,ROUND((I8+J8)*10%,0)))))),\"\")","v":7314},{"$f":"IFERROR(IF(C8=\"\",\"\",SUM(S8-T8)),\"\")","v":404},{"$f":"IFERROR(IF(C8=\"\",\"\",IF($AU$16=$AU$17,0,IF($AU$19=$AU$20,$AU$25,0))),\"\")","v":2100},{"$f":"IFERROR(IF(C8=\"\",\"\",IF($AU$16=$AU$17,0,IF($AU$19=$AU$20,$AU$24,0))),\"\")","v":2100},{"$f":"IFERROR(IF(C8=\"\",\"\",SUM(V8-W8)),\"\")","v":0},{"$f":"IFERROR(IF(C8=\"\",\"\",IF($AU$16=$AU$17,0,BZ8)),\"\")","v":""},{"$f":"IFERROR(IF(C8=\"\",\"\",IF($AU$16=$AU$17,0,BY8)),\"\")","v":""},{"$f":"IFERROR(IF(C8=\"\",\"\",SUM(Y8-Z8)),\"\")","v":""},{"$f":"IFERROR(IF(C8=\"\",\"\",IF(D8=\"\",\"\",IF(C8=$AU$1,ROUND(D8*5/31,0.01),\"\"))),\"\")","v":""},{"$f":"IFERROR(IF(C8=\"\",\"\",IF(I8=\"\",\"\",IF(C8=$AU$1,ROUND(I8*5/31,0.01),\"\"))),\"\")","v":""},{"$f":"IFERROR(IF(I8=\"\",\"\",SUM(AB8-AC8)),\"\")","v":""},{"$f":"IFERROR(IF(BO9=\"\",\"\",IF(AND(AI3=\"NPS\",BO9=\"YES\"),SUM(BP9+BW9),\"\")),\"\")","v":""},{"$f":"IFERROR(IF(C8=\"\",\"\",ROUND(R8*$AU$7%,0)),\"\")","v":0},{"$f":"IFERROR(IF(C8=\"\",\"\",IF($AI$3=\"GPF\",SUM(U8,X8,AA8,AD8,AE8,AF8),SUM(U8,X8,AA8,AD8,AE8,AF8))),\"\")","v":404},{"$f":"IFERROR(IF(C8=\"\",\"\",SUM(R8-AG8)),\"\")","v":4627},{"$nulls":35},"GPF",{"$nulls":6},{"$f":"IF(AZ9=\"\",\"\",IF(AZ9=\"TOTAL\",\"\",IF($AU$16=$AU$17,0,IF(AND(AZ9=$BY$1),IF($AU$14<18001,135,IF($AU$14<33501,220,IF($AU$14<54001,330,440))),IF(AND(AZ9>$BY$1),IF($AU$14<18001,265,IF($AU$14<33501,440,IF($AU$14<54001,658,875))),\"\")))))","v":""},{"$f":"IF(AZ9=\"\",\"\",IF(AZ9=\"TOTAL\",\"\",IF($AU$16=$AU$17,0,IF(AND(AZ9>$BY$1,$AI$3=$AR$2,'Master Sheet'!$D$27>0),'Master Sheet'!$D$27,IF(AND(AZ9=$BY$1),IF($AU$9<18001,135,IF($AU$9<33501,220,IF($AU$9<54001,330,440))),IF(AND(AZ9>$BY$1),IF($AU$9<18001,265,IF($AU$9<33501,440,IF($AU$9<54001,658,875))),\"\"))))))","v":""}]
[{"$f":"IF(C9=\"TOTAL\",\"\",IF(LEN(C9)>=2,B8+1,0))","v":2},{"$f":"IFERROR(IF(A9=\"\",\"\",IF(A9=0,\"\",A9)),\"\")","v":2},{"$f":"IFERROR(IF(AZ10=\"\",\"\",AZ10),\"\")","v":"2019-05-01"},{"$f":"IFERROR(IF($C9=\"TOTAL\",SUM($D$8:D8),IF(BA10=\"\",\"\",BA10)),\"\")","v":101200},{"$f":"IFERROR(IF($C9=\"TOTAL\",SUM($E$8:E8),IF(BC10=\"\",\"\",BC10)),\"\")","v":14573},{"$f":"IFERROR(IF($C9=\"TOTAL\",SUM($F$8:F8),IF(OR(C9=$AS$16,C9=$AS$17,C9=$AS$18,C9=$AS$19,C9=$AS$20,C9=$AS$21,C9=$AS$22,C9=$AS$23,C9=$AS$24),0,IF(BD10=\"\",\"\",BD10))),\"\")","v":8096},{"$f":"IFERROR(IF($C9=\"TOTAL\",SUM($G$8:G8),IF(BB10=\"\",\"\",BB10)),\"\")","v":20240},{"$f":"IF(C9=\"\",\"\",SUM(D9:G9))","v":144109},{"$f":"IFERROR(IF($C9=\"TOTAL\",SUM($I$8:I8),IF(BF10=\"\",\"\",BF10)),\"\")","v":95900},{"$f":"IFERROR(IF($C9=\"TOTAL\",SUM($J$8:J8),IF(BH10=\"\",\"\",BH10)),\"\")","v":13810},{"$f":"IFERROR(IF($C9=\"TOTAL\",SUM($K$8:K8),IF(OR(C9=$AS$16,C9=$AS$17,C9=$AS$18,C9=$AS$19,C9=$AS$20,C9=$AS$21,C9=$AS$22,C9=$AS$23,C9=$AS$24),0,IF(BI10=\"\",\"\",BI10))),\"\")","v":7672},{"$f":"IFERROR(IF($C9=\"TOTAL\",SUM($L$8:L8),IF(BG10=\"\",\"\",BG10)),\"\")","v":19180},{"$f":"IF(C9=\"\",\"\",SUM(I9:L9))","v":136562},{"$f":"IFERROR(IF(C9=\"\",\"\",IF(D9=\"\",\"\",IF(I9=\"\",\"\",IF($C9=\"TOTAL\",SUM($N$8:N8),SUM(D9-I9))))),\"\")","v":5300},{"$f":"IFERROR(IF(C9=\"\",\"\",IF(E9=\"\",\"\",IF(J9=\"\",\"\",IF($C9=\"TOTAL\",SUM($O$8:O8),SUM(E9-J9))))),\"\")","v":763},{"$f":"IFERROR(IF(C9=\"\",\"\",IF(F9=\"\",\"\",IF(K9=\"\",\"\",IF($C9=\"TOTAL\",SUM($P$8:P8),SUM(F9-K9))))),\"\")","v":424},{"$f":"IFERROR(IF(D9=\"\",\"\",IF(G9=\"\",\"\",IF(L9=\"\",\"\",SUM(G9-L9)))),\"\")","v":1060},{"$f":"IFERROR(IF(C9=\"\",\"\",IF(H9=\"\",\"\",IF(M9=\"\",\"\",SUM(H9-M9)))),\"\")","v":7547},{"$f":"IFERROR(IF(C9=\"\",\"\",IF(AND(C9>$AR$1,$AI$3=$AR$2),BW10,IF($AU$18=$AU$20,SUM(BJ10+BR10),ROUND((D9+E9)*10%,0)))),\"\")","v":11577},{"$f":"IFERROR(IF(C9=\"\",\"\",IF(I9=\"\",\"\",IF(J9=\"\",\"\",IF(AND(C9>$AR$1,$AI$3=$AR$2),BW10,IF($AU$18=$AU$20,$AU$21,ROUND((I9+J9)*10%,0)))))),\"\")","v":10971},{"$f":"IFERROR(IF(C9=\"\",\"\",SUM(S9-T9)),\"\")","v":606},{"$f":"IFERROR(IF(C9=\"\",\"\",IF($AU$16=$AU$17,0,IF($C9=\"TOTAL\",SUM($V$8:V8),IF($AU$19=$AU$31,0,IF(AND($AU$32=$AU$20,C9=$AU$33),$AU$34,V8))))),\"\")","v":2100},{"$f":"IFERROR(IF(C9=\"\",\"\",IF($AU$16=$AU$17,0,IF($C9=\"TOTAL\",SUM($W$8:W8),IF($AU$19=$AU$20,$AU$24,0)))),\"\")","v":2100},{"$f":"IFERROR(IF(C9=\"\",\"\",SUM(V9-W9)),\"\")","v":0},{"$f":"IFERROR(IF(C9=\"\",\"\",IF($AU$16=$AU$17,0,IF($C9=\"TOTAL\",SUM($Y$8:Y8),BZ9))),\"\")","v":""},{"$f":"IFERROR(IF(C9=\"\",\"\",IF($AU$16=$AU$17,0,IF($C9=\"TOTAL\",SUM($Z$8:Z8),BY9))),\"\")","v":""},"",{"$f":"IFERROR(IF(C9=\"\",\"\",IF(D9=\"\",\"\",IF($C9=\"TOTAL\",SUM($AB$8:AB8),IF(C9=$AU$1,ROUND(D9*5/31,0.01),\"\")))),\"\")","v":""},{"$f":"IFERROR(IF(C9=\"\",\"\",IF(I9=\"\",\"\",IF($C9=\"TOTAL\",SUM($AC$8:AC8),IF(C9=$AU$1,ROUND(I9*5/31,0.01),\"\")))),\"\")","v":""},{"$f":"IFERROR(IF(I9=\"\",\"\",SUM(AB9-AC9)),\"\")","v":""},{"$f":"IFERROR(IF(C9=\"\",\"\",IF(AND(BP10=\"\",BW10=\"\"),\"\",IF($C9=\"TOTAL\",SUM($AE$8:AE8),BP10))),\"\")","v":""},{"$f":"IFERROR(IF(C9=\"\",\"\",IF($C9=\"TOTAL\",SUM($AF$8:AF8),ROUND(R9*$AU$7%,0))),\"\")","v":0},{"$f":"IFERROR(IF(C9=\"\",\"\",IF($AI$3=\"GPF\",SUM(U9,X9,AA9,AD9,AE9,AF9),SUM(U9,X9,AA9,AD9,AE9,AF9))),\"\")","v":606},{"$f":"IFERROR(IF(C9=\"\",\"\",IF($C9=\"TOTAL\",SUM($AH$8:AH8),SUM(R9-AG9))),\"\")","v":6941},{"$nulls":8},{"$f":"IF(OR(AZ9=$AT$9,AZ9=$AT$10,AZ9=$AT$11,AZ9=$AT$12,AZ9=$AT$13,AZ9=$AT$14),4,IF(OR(AZ9=$AT$15,AZ9=$AT$16,AZ9=$AT$17,AZ9=$AT$18,AZ9=$AT$19,AZ9=$AT$20),5,IF(OR(AZ9=$AT$21,AZ9=$AT$22,AZ9=$AT$23,AZ9=$AT$24,AZ9=$AT$25,AZ9=$AT$26),7,IF(OR(AZ9=$AT$27,AZ9=$AT$28,AZ9=$AT$29,AZ9=$AT$30,AZ9=$AT$31,AZ9=$AT$32),9,IF(OR(AZ9=$AT$33,AZ9=$AT$34,AZ9=$AT$35,AZ9=$AT$36,AZ9=$AT$37,AZ9=$AT$38),12,IF(OR(AZ9=$AT$39,AZ9=$AT$40,AZ9=$AT$41,AZ9=$AT$42,AZ9=$AT$43,AZ9=$AT$44,AZ9=$AT$45,AZ9=$AT$46,AZ9=$AT$47,AZ9=$AT$48,AZ9=$AT$49,AZ9=$AT$50,AZ9=$AT$51,AZ9=$AT$52,AZ9=$AT$53,AZ9=$AT$54,AZ9=$AT$55,AZ9=$AT$56,AZ9=$AT$57,AZ9=$AT$58,AZ9=$AT$59,AZ9=$AT$60,AZ9=$AT$61,AZ9=$AT$62),17,IF(OR(AZ9=$AT$63,AZ9=$AT$64,AZ9=$AT$65,AZ9=$AT$66,AZ9=$AT$67,AZ9=$AT$68),31,IF(OR(AZ9=$AT$69,AZ9=$AT$70,AZ9=$AT$71,AZ9=$AT$72,AZ9=$AT$73,AZ9=$AT$74),34,IF(OR(AZ9=$AT$75,AZ9=$AT$76,AZ9=$AT$77,AZ9=$AT$78,AZ9=$AT$79,AZ9=$AT$80),38,42)))))))))","v":12},{"$f":"IF(OR(AZ9=$AT$9,AZ9=$AT$10,AZ9=$AT$11,AZ9=$AT$12,AZ9=$AT$13,AZ9=$AT$14),4,IF(OR(AZ9=$AT$15,AZ9=$AT$16,AZ9=$AT$17,AZ9=$AT$18,AZ9=$AT$19,AZ9=$AT$20),5,IF(OR(AZ9=$AT$21,AZ9=$AT$22,AZ9=$AT$23,AZ9=$AT$24,AZ9=$AT$25,AZ9=$AT$26),7,IF(OR(AZ9=$AT$27,AZ9=$AT$28,AZ9=$AT$29,AZ9=$AT$30,AZ9=$AT$31,AZ9=$AT$32),9,IF(OR(AZ9=$AT$33,AZ9=$AT$34,AZ9=$AT$35,AZ9=$AT$36,AZ9=$AT$37,AZ9=$AT$38),12,IF(OR(AZ9=$AT$39,AZ9=$AT$40,AZ9=$AT$41,AZ9=$AT$42,AZ9=$AT$43,AZ9=$AT$44,AZ9=$AT$45,AZ9=$AT$46,AZ9=$AT$47,AZ9=$AT$48,AZ9=$AT$49,AZ9=$AT$50,AZ9=$AT$51,AZ9=$AT$52,AZ9=$AT$53,AZ9=$AT$54,AZ9=$AT$55,AZ9=$AT$56,AZ9=$AT$57,AZ9=$AT$58,AZ9=$AT$59,AZ9=$AT$60,AZ9=$AT$61,AZ9=$AT$62),17,IF(OR(AZ9=$AT$63,AZ9=$AT$64,AZ9=$AT$65,AZ9=$AT$66,AZ9=$AT$67,AZ9=$AT$68),31,IF(OR(AZ9=$AT$69,AZ9=$AT$70,AZ9=$AT$71,AZ9=$AT$72,AZ9=$AT$73,AZ9=$AT$74),34,IF(OR(AZ9=$AT$75,AZ9=$AT$76,AZ9=$AT$77,AZ9=$AT$78,AZ9=$AT$79,AZ9=$AT$80),38,42)))))))))","v":12},null,"2017-01-01",{"$f":"'Master Sheet'!M13","v":101200},{"$f":"IF(AND($AU$6>$AV$6),\"\",DATE(YEAR(AU6),MONTH(AU6),DAY(AU6)))","v":"2019-04-01"},{"$f":"IF(AND(AV9=\"\"),\"\",IF(AND(AV9=$AT$9),$AT$9,IF(AND(AV9=$AT$10),$AT$10,IF(AND(AV9=$AT$11),$AT$11,IF(AND(AV9=$AT$12),$AT$12,IF(AND(AV9=$AT$13),$AT$13,IF(AND(AV9=$AT$14),$AT$14,IF(AND(AV9=$AT$15),$AT$15,IF(AND(AV9=$AT$16),$AT$16,IF(AND(AV9=$AT$17),$AT$17,IF(AND(AV9=$AT$18),$AT$18,IF(AND(AV9=$AT$19),$AT$19,IF(AND(AV9=$AT$20),$AT$20,IF(AND(AV9=$AT$21),$AT$21,IF(AND(AV9=$AT$22),$AT$22,IF(AND(AV9=$AT$23),$AT$23,IF(AND(AV9=$AT$24),$AT$24,IF(AND(AV9=$AT$25),$AT$25,IF(AND(AV9=$AT$26),$AT$26,IF(AND(AV9=$AT$27),$AT$27,IF(AND(AV9=$AT$28),$AT$28,IF(AND(AV9=$AT$29),$AT$29,IF(AND(AV9=$AT$30),$AT$30,IF(AND(AV9=$AT$31),$AT$31,IF(AND(AV9=$AT$32),$AT$32,IF(AND(AV9=$AT$33),$AT$33,IF(AND(AV9=$AT$34),$AT$34,IF(AND(AV9=$AT$35),$AT$35,IF(AND(AV9=$AT$36),$AT$36,IF(AND(AV9=$AT$37),$AT$37,IF(AND(AV9=$AT$38),$AT$38,IF(AND(AV9=$AT$39),$AT$39,IF(AND(AV9=$AT$40),$AT$40,IF(AND(AV9=$AT$41),$AT$41,IF(AND(AV9=$AT$42),$AT$42,IF(AND(AV9=$AT$43),$AT$43,IF(AND(AV9=$AT$44),$AT$44,IF(AND(AV9=$AT$45),$AT$45,IF(AND(AV9=$AT$46),$AT$46,IF(AND(AV9=$AT$47),$AT$47,IF(AND(AV9=$AT$48),$AT$48,IF(AND(AV9=$AT$49),$AT$49,IF(AND(AV9=$AT$50),$AT$50,IF(AND(AV9=$AT$51),$AT$51,IF(AND(AV9=$AT$52),$AT$52,IF(AND(AV9=$AT$53),$AT$53,IF(AND(AV9=$AT$54),$AT$54,IF(AND(AV9=$AT$55),$AT$55,IF(AND(AV9=$AT$56),$AT$56,IF(AND(AV9=$AT$57),$AT$57,IF(AND(AV9=$AT$58),$AT$58,IF(AND(AV9=$AT$59),$AT$59,IF(AND(AV9=$AT$60),$AT$60,IF(AND(AV9=$AT$61),$AT$61,IF(AND(AV9=$AT$62),$AT$62,IF(AND(AV9=$AT$63),$AT$63,IF(AND(AV9=$AT$64),$AT$64,IF(AND(AV9=$AT$65),$AT$65,IF(AND(AV9=$AT$66),$AT$66,IF(AND(AV9=$AT$67),$AT$67,IF(AND(AV9=$AT$68),$AT$68,IF(AND(AV9=$AT$69),$AT$69,IF(AND(AV9=$AT$70),$AT$70,IF(AND(AV9=$AT$71),$AT$71,\"\"))))))))))))))))))))))))))))))))))))))))))))))))))))))))))))))))","v":"2019-04-01"},{"$f":"IF(AND(AV9=\"\"),\"\",IF(AND(AV9=$AT$72),$AU$72,IF(AND(AV9=$AT$73),$AU$73,IF(AND(AV9=$AT$74),$AU$74,IF(AND(AV9=$AT$75),$AU$75,IF(AND(AV9=$AT$76),$AU$76,IF(AND(AV9=$AT$77),$AU$77,IF(AND(AV9=$AT$78),$AU$78,IF(AND(AV9=$AT$79),$AU$79,IF(AND(AV9=$AT$80),$AU$80,IF(AND(AV9=$AT$81),$AU$81,IF(AND(AV9=$AT$82),$AU$82,IF(AND(AV9=$AT$83),$AU$83,IF(AND(AV9=$AT$84),$AU$84,IF(AND(AV9=$AT$85),$AU$85,IF(AND(AV9=$AT$86),$AU$86,IF(AND(AV9=$AT$87),$AU$87,IF(AND(AV9=$AT$88),$AU$88,IF(AND(AV9=$AT$89),$AU$89,IF(AND(AV9=$AT$90),$AU$90,IF(AND(AV9=$AT$91),$AU$91,IF(AND(AV9=$AT$92),$AU$92,\"\"))))))))))))))))))))))","v":""},{"$f":"IFERROR(IF(AND(AW9=\"\",AX9=\"\"),\"\",IF(AW9=\"\",AX9,AW9)),\"\")","v":"2019-04-01"},{"$f":"IFERROR(IF(AND(AW9=\"\",AY9=\"\"),\"\",IF(AY9>$AV$6,\"\",AY9)),\"\")","v":"2019-04-01"},{"$f":"IF(AZ9=\"\",\"\",ROUND((AU9/BA3)*BA6,0))","v":67467},{"$f":"IF(AZ9=\"\",\"\",IF(AZ9=\"TOTAL\",\"\",ROUND((BA9*20/100),0.01)))","v":13493},{"$f":"IF(AZ9=\"\",\"\",IF(AZ9=\"TOTAL\",\"\",ROUND((BA9+BB9)*AQ9%,0)))","v":9715},{"$f":"IF(AZ9=\"\",\"\",IF(AZ9=\"TOTAL\",\"\",IF(AZ9>=$BC$7,ROUND(BA9*$BA$7%,0),ROUND(BA9*$AW$7%,0))))","v":5397},null,{"$f":"IF(AZ9=\"\",\"\",IF(AND($AU$10=\"\",$AU$14=\"\"),\"\",IF(AU26=AU20,ROUND((AU27/BA3)*BA6,0),IF($AU$13=$AU$15,ROUND(($AU$14/BA3)*BA6,0),ROUND(($AU$10/BA3)*BA6,0)))))","v":63933},{"$f":"IF(AZ9=\"\",\"\",IF(AZ9=\"TOTAL\",\"\",ROUND((BF9*20/100),0.01)))","v":12787},{"$f":"IF(AZ9=\"\",\"\",IF(BF9=\"\",\"\",IF($AU$16=$AU$17,0,ROUND((BF9+BG9)*AR9%,0))))","v":9206},{"$f":"IF(AZ9=\"\",\"\",IF(BF9=\"\",\"\",IF($AU$16=$AU$17,0,IF(AZ9>=$BC$7,ROUND(BF9*$BA$7%,0),ROUND(BF9*$AW$7%,0)))))","v":5115},{"$f":"IF(AZ9=\"\",\"\",IF(AZ9=\"TOTAL\",\"\",IF(BF9=\"\",\"\",IF($AU$16=$AU$17,0,IF(OR(C8=$AS$16,C8=$AS$17,C8=$AS$18,C8=$AS$19,C8=$AS$20,C8=$AS$21,C8=$AS$22,C8=$AS$23,C8=$AS$24),SUM(BM9+$AU$22),$AU$22)))))","v":3675},null,null,{"$f":"IF(AZ9=\"\",\"\",IF(AZ9=\"TOTAL\",\"\",IF(BF9=\"\",\"\",SUM(R8)-SUM(($AU$22-$AU$21)+SUM(X8,AA8,AF8)))))","v":5031},{"$f":"IF(AZ9=\"\",\"\",IF(AZ9=\"TOTAL\",\"\",IF(AND($AU$20=$AU$36,C9=$AU$37),$AU$38,$AU$22)))","v":3675},{"$f":"IF(OR(AZ9=$AT$63,AZ9=$AT$64,AZ9=$AT$65),\"YES\",\"\")","v":""},{"$f":"IF(BO9=\"\",\"\",IF($AU$16=$AU$17,ROUND((D8)*3%,0),IF(OR(AZ9=$AT$63,AZ9=$AT$64,AZ9=$AT$65),SUM(ROUND((D8-I8)*3%,0)),IF(OR(AZ9=$AT$69,AZ9=$AT$70,AZ9=$AT$71),SUM(ROUND((D8-I8)*3%,0)),\"\"))))","v":""},{"$f":"IFERROR(IF(AND($AU$16=$AU$17,BO9=\"YES\"),ROUND(ROUND(D8*3%,0)*10%,0),IF(AND($AU$16=$AU$15,BO9=\"YES\",$AS$7=\"NO\"),ROUND(ROUND((N8+I8)*3%,0)*10%,0),IF(AND($AU$16=$AU$15,BO9=\"YES\",$AS$7=\"YES\"),ROUND(ROUND((N8+O8)*3%,0)*10%,0),0))),\"\")","v":0},{"$f":"IF(AND($AU$16=$AU$17,BO9=\"YES\"),ROUND(D8*3%,0),IF(AND($AU$16=$AU$15,BO9=\"YES\",$AS$7=\"NO\"),ROUND((N8+I8)*3%,0),IF(AND($AU$16=$AU$15,BO9=\"YES\",$AS$7=\"YES\"),ROUND((N8+O8)*3%,0),0)))","v":0},{"$f":"IF(AND($AU$16=$AU$17,BO9=\"YES\"),ROUND(ROUND(D8*3%,0)*10%,0),IF(AND($AU$16=$AU$15,BO9=\"YES\",$AS$7=\"NO\"),ROUND(ROUND((N8+I8)*3%,0)*10%,0),IF(AND($AU$16=$AU$15,BO9=\"YES\",$AS$7=\"YES\"),ROUND(ROUND((N8+O8)*3%,0)*10%,0),\"\")))","v":""},{"$nulls":3},{"$f":"IF(AZ9=\"\",\"\",IF(AZ9=\"TOTAL\",\"\",IF(AND(AZ9>$AR$1,$AI$3=$AR$2),$AY$1,\"\")))","v":""},null,{"$f":"IF(AZ10=\"\",\"\",IF(AZ10=\"TOTAL\",\"\",IF($AU$16=$AU$17,0,IF(AND(AZ10=$BY$1),IF($AU$14<18001,135,IF($AU$14<33501,220,IF($AU$14<54001,330,440))),IF(AND(AZ10>$BY$1),IF($AU$14<18001,265,IF($AU$14<33501,440,IF($AU$14<54001,658,875))),\"\")))))","v":""},{"$f":"IF(AZ10=\"\",\"\",IF(AZ10=\"TOTAL\",\"\",IF($AU$16=$AU$17,0,IF(AND(AZ10>$BY$1,$AI$3=$AR$2,'Master Sheet'!$D$27>0),'Master Sheet'!$D$27,IF(AND(AZ10=$BY$1),IF($AU$9<18001,135,IF($AU$9<33501,220,IF($AU$9<54001,330,440))),IF(AND(AZ10>$BY$1),IF($AU$9<18001,265,IF($AU$9<33501,440,IF($AU$9<54001,658,875))),\"\"))))))","v":""}]
[{"$f":"IF(C10=\"TOTAL\",\"\",IF(B9=\"\",\"\",IF(LEN(C10)>=2,B9+1,0)))","v":3},3,"2019-06-01",{"$f":"IFERROR(IF($C9=\"TOTAL\",\"अक्षरें राशि :-\",IF($C10=\"TOTAL\",SUM($D$8:D9),IF(BA11=\"\",\"\",BA11))),\"\")","v":101200},{"$f":"IFERROR(IF($C10=\"TOTAL\",SUM($E$8:E9),IF(BC11=\"\",\"\",BC11)),\"\")","v":14573},{"$f":"IFERROR(IF($C10=\"TOTAL\",SUM($F$8:F9),IF(OR(C10=$AS$16,C10=$AS$17,C10=$AS$18,C10=$AS$19,C10=$AS$20,C10=$AS$21,C10=$AS$22,C10=$AS$23,C10=$AS$24),0,IF(BD11=\"\",\"\",BD11))),\"\")","v":8096},{"$f":"IFERROR(IF($C10=\"TOTAL\",SUM($G$8:G9),IF(BB11=\"\",\"\",BB11)),\"\")","v":20240},144109,{"$f":"IFERROR(IF($C10=\"TOTAL\",SUM($I$8:I9),IF(BF11=\"\",\"\",BF11)),\"\")","v":95900},{"$f":"IFERROR(IF($C10=\"TOTAL\",SUM($J$8:J9),IF(BH11=\"\",\"\",BH11)),\"\")","v":13810},{"$f":"IFERROR(IF($C10=\"TOTAL\",SUM($K$8:K9),IF(OR(C10=$AS$16,C10=$AS$17,C10=$AS$18,C10=$AS$19,C10=$AS$20,C10=$AS$21,C10=$AS$22,C10=$AS$23,C10=$AS$24),0,IF(BI11=\"\",\"\",BI11))),\"\")","v":7672},{"$f":"IFERROR(IF($C10=\"TOTAL\",SUM($L$8:L9),IF(BG11=\"\",\"\",BG11)),\"\")","v":19180},136562,{"$f":"IFERROR(IF(C10=\"\",\"\",IF(D10=\"\",\"\",IF(I10=\"\",\"\",IF($C10=\"TOTAL\",SUM($N$8:N9),SUM(D10-I10))))),\"\")","v":5300},{"$f":"IFERROR(IF(C10=\"\",\"\",IF(E10=\"\",\"\",IF(J10=\"\",\"\",IF($C10=\"TOTAL\",SUM($O$8:O9),SUM(E10-J10))))),\"\")","v":763},{"$f":"IFERROR(IF(C10=\"\",\"\",IF(F10=\"\",\"\",IF(K10=\"\",\"\",IF($C10=\"TOTAL\",SUM($P$8:P9),SUM(F10-K10))))),\"\")","v":424},1060,{"$f":"IFERROR(IF(C10=\"\",\"\",IF(H10=\"\",\"\",IF(M10=\"\",\"\",SUM(H10-M10)))),\"\")","v":7547},{"$f":"IFERROR(IF(C10=\"\",\"\",IF($C10=\"TOTAL\",SUM($S$8:S9),IF(AND(C10>$AR$1,$AI$3=$AR$2),BW11,IF($AU$18=$AU$20,SUM(BJ11+BR11),ROUND((D10+E10)*10%,0))))),\"\")","v":11577},{"$f":"IFERROR(IF(C10=\"\",\"\",IF(I10=\"\",\"\",IF(J10=\"\",\"\",IF($C10=\"TOTAL\",SUM($T$8:T9),IF(AND(C10>$AR$1,$AI$3=$AR$2),BW11,IF($AU$18=$AU$20,$AU$21,ROUND((I10+J10)*10%,0))))))),\"\")","v":10971},{"$f":"IFERROR(IF(C10=\"\",\"\",SUM(S10-T10)),\"\")","v":606},{"$f":"IFERROR(IF(C10=\"\",\"\",IF($AU$16=$AU$17,0,IF($C10=\"TOTAL\",SUM($V$8:V9),IF($AU$19=$AU$31,0,IF(AND($AU$32=$AU$20,C10=$AU$33),$AU$34,V9))))),\"\")","v":2100},{"$f":"IFERROR(IF(C10=\"\",\"\",IF($AU$16=$AU$17,0,IF($C10=\"TOTAL\",SUM($W$8:W9),IF($AU$19=$AU$20,$AU$24,0)))),\"\")","v":2100},{"$f":"IFERROR(IF(C10=\"\",\"\",SUM(V10-W10)),\"\")","v":0},{"$f":"IFERROR(IF(C10=\"\",\"\",IF($AU$16=$AU$17,0,IF($C10=\"TOTAL\",SUM($Y$8:Y9),BZ10))),\"\")","v":""},{"$f":"IFERROR(IF(C10=\"\",\"\",IF($AU$16=$AU$17,0,IF($C10=\"TOTAL\",SUM($Z$8:Z9),BY10))),\"\")","v":""},"",{"$f":"IFERROR(IF(C10=\"\",\"\",IF(D10=\"\",\"\",IF($C10=\"TOTAL\",SUM($AB$8:AB9),IF(C10=$AU$1,ROUND(D10*5/31,0.01),\"\")))),\"\")","v":""},{"$f":"IFERROR(IF(C10=\"\",\"\",IF(I10=\"\",\"\",IF($C10=\"TOTAL\",SUM($AC$8:AC9),IF(C10=$AU$1,ROUND(I10*5/31,0.01),\"\")))),\"\")","v":""},{"$f":"IFERROR(IF(I10=\"\",\"\",SUM(AB10-AC10)),\"\")","v":""},{"$f":"IFERROR(IF(C10=\"\",\"\",IF(AND(BP11=\"\",BW11=\"\"),\"\",IF($C10=\"TOTAL\",SUM($AE$8:AE9),BP11))),\"\")","v":""},{"$f":"IFERROR(IF(C10=\"\",\"\",IF($C10=\"TOTAL\",SUM($AF$8:AF9),ROUND(R10*$AU$7%,0))),\"\")","v":0},606,{"$f":"IFERROR(IF(C10=\"\",\"\",IF($C10=\"TOTAL\",SUM($AH$8:AH9),SUM(R10-AG10))),\"\")","v":6941},{"$nulls":8},{"$f":"IF(OR(AZ10=$AT$9,AZ10=$AT$10,AZ10=$AT$11,AZ10=$AT$12,AZ10=$AT$13,AZ10=$AT$14),4,IF(OR(AZ10=$AT$15,AZ10=$AT$16,AZ10=$AT$17,AZ10=$AT$18,AZ10=$AT$19,AZ10=$AT$20),5,IF(OR(AZ10=$AT$21,AZ10=$AT$22,AZ10=$AT$23,AZ10=$AT$24,AZ10=$AT$25,AZ10=$AT$26),7,IF(OR(AZ10=$AT$27,AZ10=$AT$28,AZ10=$AT$29,AZ10=$AT$30,AZ10=$AT$31,AZ10=$AT$32),9,IF(OR(AZ10=$AT$33,AZ10=$AT$34,AZ10=$AT$35,AZ10=$AT$36,AZ10=$AT$37,AZ10=$AT$38),12,IF(OR(AZ10=$AT$39,AZ10=$AT$40,AZ10=$AT$41,AZ10=$AT$42,AZ10=$AT$43,AZ10=$AT$44,AZ10=$AT$45,AZ10=$AT$46,AZ10=$AT$47,AZ10=$AT$48,AZ10=$AT$49,AZ10=$AT$50,AZ10=$AT$51,AZ10=$AT$52,AZ10=$AT$53,AZ10=$AT$54,AZ10=$AT$55,AZ10=$AT$56,AZ10=$AT$57,AZ10=$AT$58,AZ10=$AT$59,AZ10=$AT$60,AZ10=$AT$61,AZ10=$AT$62),17,IF(OR(AZ10=$AT$63,AZ10=$AT$64,AZ10=$AT$65,AZ10=$AT$66,AZ10=$AT$67,AZ10=$AT$68),31,IF(OR(AZ10=$AT$69,AZ10=$AT$70,AZ10=$AT$71,AZ10=$AT$72,AZ10=$AT$73,AZ10=$AT$74),34,IF(OR(AZ10=$AT$75,AZ10=$AT$76,AZ10=$AT$77,AZ10=$AT$78,AZ10=$AT$79,AZ10=$AT$80),38,42)))))))))","v":12},{"$f":"IF(OR(AZ10=$AT$9,AZ10=$AT$10,AZ10=$AT$11,AZ10=$AT$12,AZ10=$AT$13,AZ10=$AT$14),4,IF(OR(AZ10=$AT$15,AZ10=$AT$16,AZ10=$AT$17,AZ10=$AT$18,AZ10=$AT$19,AZ10=$AT$20),5,IF(OR(AZ10=$AT$21,AZ10=$AT$22,AZ10=$AT$23,AZ10=$AT$24,AZ10=$AT$25,AZ10=$AT$26),7,IF(OR(AZ10=$AT$27,AZ10=$AT$28,AZ10=$AT$29,AZ10=$AT$30,AZ10=$AT$31,AZ10=$AT$32),9,IF(OR(AZ10=$AT$33,AZ10=$AT$34,AZ10=$AT$35,AZ10=$AT$36,AZ10=$AT$37,AZ10=$AT$38),12,IF(OR(AZ10=$AT$39,AZ10=$AT$40,AZ10=$AT$41,AZ10=$AT$42,AZ10=$AT$43,AZ10=$AT$44,AZ10=$AT$45,AZ10=$AT$46,AZ10=$AT$47,AZ10=$AT$48,AZ10=$AT$49,AZ10=$AT$50,AZ10=$AT$51,AZ10=$AT$52,AZ10=$AT$53,AZ10=$AT$54,AZ10=$AT$55,AZ10=$AT$56,AZ10=$AT$57,AZ10=$AT$58,AZ10=$AT$59,AZ10=$AT$60,AZ10=$AT$61,AZ10=$AT$62),17,IF(OR(AZ10=$AT$63,AZ10=$AT$64,AZ10=$AT$65,AZ10=$AT$66,AZ10=$AT$67,AZ10=$AT$68),31,IF(OR(AZ10=$AT$69,AZ10=$AT$70,AZ10=$AT$71,AZ10=$AT$72,AZ10=$AT$73,AZ10=$AT$74),34,IF(OR(AZ10=$AT$75,AZ10=$AT$76,AZ10=$AT$77,AZ10=$AT$78,AZ10=$AT$79,AZ10=$AT$80),38,42)))))))))","v":12},null,"2017-02-01",{"$f":"'Master Sheet'!I11","v":23700},{"$f":"IF(AND($AU$6>$AV$6),\"\",DATE(YEAR(AV9),MONTH(AV9)+1,DAY(AV9)))","v":"2019-05-01"},{"$f":"IF(AND(AV10=\"\"),\"\",IF(AND(AV10=$AT$9),$AT$9,IF(AND(AV10=$AT$10),$AT$10,IF(AND(AV10=$AT$11),$AT$11,IF(AND(AV10=$AT$12),$AT$12,IF(AND(AV10=$AT$13),$AT$13,IF(AND(AV10=$AT$14),$AT$14,IF(AND(AV10=$AT$15),$AT$15,IF(AND(AV10=$AT$16),$AT$16,IF(AND(AV10=$AT$17),$AT$17,IF(AND(AV10=$AT$18),$AT$18,IF(AND(AV10=$AT$19),$AT$19,IF(AND(AV10=$AT$20),$AT$20,IF(AND(AV10=$AT$21),$AT$21,IF(AND(AV10=$AT$22),$AT$22,IF(AND(AV10=$AT$23),$AT$23,IF(AND(AV10=$AT$24),$AT$24,IF(AND(AV10=$AT$25),$AT$25,IF(AND(AV10=$AT$26),$AT$26,IF(AND(AV10=$AT$27),$AT$27,IF(AND(AV10=$AT$28),$AT$28,IF(AND(AV10=$AT$29),$AT$29,IF(AND(AV10=$AT$30),$AT$30,IF(AND(AV10=$AT$31),$AT$31,IF(AND(AV10=$AT$32),$AT$32,IF(AND(AV10=$AT$33),$AT$33,IF(AND(AV10=$AT$34),$AT$34,IF(AND(AV10=$AT$35),$AT$35,IF(AND(AV10=$AT$36),$AT$36,IF(AND(AV10=$AT$37),$AT$37,IF(AND(AV10=$AT$38),$AT$38,IF(AND(AV10=$AT$39),$AT$39,IF(AND(AV10=$AT$40),$AT$40,IF(AND(AV10=$AT$41),$AT$41,IF(AND(AV10=$AT$42),$AT$42,IF(AND(AV10=$AT$43),$AT$43,IF(AND(AV10=$AT$44),$AT$44,IF(AND(AV10=$AT$45),$AT$45,IF(AND(AV10=$AT$46),$AT$46,IF(AND(AV10=$AT$47),$AT$47,IF(AND(AV10=$AT$48),$AT$48,IF(AND(AV10=$AT$49),$AT$49,IF(AND(AV10=$AT$50),$AT$50,IF(AND(AV10=$AT$51),$AT$51,IF(AND(AV10=$AT$52),$AT$52,IF(AND(AV10=$AT$53),$AT$53,IF(AND(AV10=$AT$54),$AT$54,IF(AND(AV10=$AT$55),$AT$55,IF(AND(AV10=$AT$56),$AT$56,IF(AND(AV10=$AT$57),$AT$57,IF(AND(AV10=$AT$58),$AT$58,IF(AND(AV10=$AT$59),$AT$59,IF(AND(AV10=$AT$60),$AT$60,IF(AND(AV10=$AT$61),$AT$61,IF(AND(AV10=$AT$62),$AT$62,IF(AND(AV10=$AT$63),$AT$63,IF(AND(AV10=$AT$64),$AT$64,IF(AND(AV10=$AT$65),$AT$65,IF(AND(AV10=$AT$66),$AT$66,IF(AND(AV10=$AT$67),$AT$67,IF(AND(AV10=$AT$68),$AT$68,IF(AND(AV10=$AT$69),$AT$69,IF(AND(AV10=$AT$70),$AT$70,IF(AND(AV10=$AT$71),$AT$71,\"\"))))))))))))))))))))))))))))))))))))))))))))))))))))))))))))))))","v":"2019-05-01"},{"$f":"IF(AND(AV10=\"\"),\"\",IF(AND(AV10=$AT$72),$AU$72,IF(AND(AV10=$AT$73),$AU$73,IF(AND(AV10=$AT$74),$AU$74,IF(AND(AV10=$AT$75),$AU$75,IF(AND(AV10=$AT$76),$AU$76,IF(AND(AV10=$AT$77),$AU$77,IF(AND(AV10=$AT$78),$AU$78,IF(AND(AV10=$AT$79),$AU$79,IF(AND(AV10=$AT$80),$AU$80,IF(AND(AV10=$AT$81),$AU$81,IF(AND(AV10=$AT$82),$AU$82,IF(AND(AV10=$AT$83),$AU$83,IF(AND(AV10=$AT$84),$AU$84,IF(AND(AV10=$AT$85),$AU$85,IF(AND(AV10=$AT$86),$AU$86,IF(AND(AV10=$AT$87),$AU$87,IF(AND(AV10=$AT$88),$AU$88,IF(AND(AV10=$AT$89),$AU$89,IF(AND(AV10=$AT$90),$AU$90,IF(AND(AV10=$AT$91),$AU$91,IF(AND(AV10=$AT$92),$AU$92,\"\"))))))))))))))))))))))","v":""},{"$f":"IFERROR(IF(AND(AW10=\"\",AX10=\"\"),\"\",IF(AW10=\"\",AX10,AW10)),\"\")","v":"2019-05-01"},{"$f":"IFERROR(IF(AY10=\"\",\"\",IF(DATE(YEAR(AY10),MONTH(AY10),DAY(AY10))=DATE(YEAR($AV$6),MONTH($AV$6)+1,DAY($AV$6)),\"TOTAL\",IF(AY10>$AV$6,\"\",AY10))),\"\")","v":"2019-05-01"},{"$f":"IFERROR(IF(AZ10=\"\",\"\",IF(AND($AU$20=$AU$28,$AU$30=AZ10),$AU$29,IF(OR(AZ10=$BD$2,AZ10=$BD$3,AZ10=$BD$4,AZ10=$BD$5,AZ10=$BD$6,AZ10=$BD$7,AZ10=$BE$2),MROUND(AU9*1.03,100),AU9))),\"\")","v":101200},{"$f":"IF(AZ10=\"\",\"\",IF(AZ10=\"TOTAL\",\"\",ROUND((BA10*20/100),0.01)))","v":20240},{"$f":"IF(AZ10=\"\",\"\",IF(AZ10=\"TOTAL\",\"\",ROUND((BA10+BB10)*AQ10%,0)))","v":14573},{"$f":"IF(AZ10=\"\",\"\",IF(AZ10=\"TOTAL\",\"\",IF(AZ10>=$BC$7,ROUND(BA10*$BA$7%,0),ROUND(BA10*$AW$7%,0))))","v":8096},null,{"$f":"IFERROR(IF(AZ10=\"\",\"\",IF(AZ10=\"TOTAL\",\"\",IF($AU$16=$AU$17,$AU$10,IF($AU$20=$AU$26,BK10,BL10)))),\"\")","v":95900},{"$f":"IF(AZ10=\"\",\"\",IF(AZ10=\"TOTAL\",\"\",ROUND((BF10*20/100),0.01)))","v":19180},{"$f":"IF(AZ10=\"\",\"\",IF(BF10=\"\",\"\",IF($AU$16=$AU$17,0,ROUND((BF10+BG10)*AR10%,0))))","v":13810},{"$f":"IF(AZ10=\"\",\"\",IF(AZ10=\"TOTAL\",\"\",IF(BF10=\"\",\"\",IF($AU$16=$AU$17,0,IF(AZ10>=$BC$7,ROUND(BF10*$BA$7%,0),ROUND(BF10*$AW$7%,0))))))","v":7672},{"$f":"IF(AZ10=\"\",\"\",IF(AZ10=\"TOTAL\",\"\",IF(BF10=\"\",\"\",IF($AU$16=$AU$17,0,IF(OR(C9=$AS$16,C9=$AS$17,C9=$AS$18,C9=$AS$19,C9=$AS$20,C9=$AS$21,C9=$AS$22,C9=$AS$23,C9=$AS$24),SUM(BM10+BN10),BN10)))))","v":3675},{"$f":"IF(OR(AZ10=$BD$2,AZ10=$BD$3,AZ10=$BD$4,AZ10=$BD$5,AZ10=$BD$6),MROUND(AU27*1.03,100),AU27)","v":0},{"$f":"IF(OR(AZ10=$BD$2,AZ10=$BD$3,AZ10=$BD$4,AZ10=$BD$5,AZ10=$BD$6),MROUND(AU14*1.03,100),AU14)","v":95900},{"$f":"IF(AZ10=\"\",\"\",IF(AZ10=\"TOTAL\",\"\",IF(BF10=\"\",\"\",SUM(R9)-SUM(($AU$22-$AU$21)+SUM(X9,AA9,AF9)))))","v":7547},{"$f":"IF(AZ9=\"\",\"\",IF(AZ9=\"TOTAL\",\"\",IF(AND($AU$20=$AU$36,C10=$AU$37),$AU$38,BN9)))","v":3675},{"$f":"IF(OR(AZ10=$AT$63,AZ10=$AT$64,AZ10=$AT$65),\"YES\",\"\")","v":""},"",0,0,{"$nulls":4},{"$f":"IF(AZ10=\"\",\"\",IF(AZ10=\"TOTAL\",\"\",IF(AND(AZ10>$AR$1,$AI$3=$AR$2),$AY$1,\"\")))","v":""},null,{"$f":"IF(AZ11=\"\",\"\",IF(AZ11=\"TOTAL\",\"\",IF($AU$16=$AU$17,0,IF(AND(AZ11=$BY$1),IF($AU$14<18001,135,IF($AU$14<33501,220,IF($AU$14<54001,330,440))),IF(AND(AZ11>$BY$1),IF($AU$14<18001,265,IF($AU$14<33501,440,IF($AU$14<54001,658,875))),\"\")))))","v":""},{"$f":"IF(AZ11=\"\",\"\",IF(AZ11=\"TOTAL\",\"\",IF($AU$16=$AU$17,0,IF(AND(AZ11>$BY$1,$AI$3=$AR$2,'Master Sheet'!$D$27>0),'Master Sheet'!$D$27,IF(AND(AZ11=$BY$1),IF($AU$9<18001,135,IF($AU$9<33501,220,IF($AU$9<54001,330,440))),IF(AND(AZ11>$BY$1),IF($AU$9<18001,265,IF($AU$9<33501,440,IF($AU$9<54001,658,875))),\"\"))))))","v":""}]
[{"$f":"IF(C11=\"TOTAL\",\"\",IF(B10=\"\",\"\",IF(LEN(C11)>=2,B10+1,0)))","v":4},4,{"$f":"IFERROR(IF(AZ12=\"\",\"\",AZ12),\"\")","v":"2019-07-01"},{"$f":"IFERROR(IF($C10=\"TOTAL\",\"अक्षरें राशि :-\",IF($C11=\"TOTAL\",SUM($D$8:D10),IF(BA12=\"\",\"\",BA12))),\"\")","v":104200},{"$f":"IFERROR(IF($C11=\"TOTAL\",SUM($E$8:E10),IF(BC12=\"\",\"\",BC12)),\"\")","v":21257},{"$f":"IFERROR(IF($C11=\"TOTAL\",SUM($F$8:F10),IF(OR(C11=$AS$16,C11=$AS$17,C11=$AS$18,C11=$AS$19,C11=$AS$20,C11=$AS$21,C11=$AS$22,C11=$AS$23,C11=$AS$24),0,IF(BD12=\"\",\"\",BD12))),\"\")","v":8336},{"$f":"IFERROR(IF($C11=\"TOTAL\",SUM($G$8:G10),IF(BB12=\"\",\"\",BB12)),\"\")","v":20840},154633,{"$f":"IFERROR(IF($C11=\"TOTAL\",SUM($I$8:I10),IF(BF12=\"\",\"\",BF12)),\"\")","v":98800},{"$f":"IFERROR(IF($C11=\"TOTAL\",SUM($J$8:J10),IF(BH12=\"\",\"\",BH12)),\"\")","v":20155},{"$f":"IFERROR(IF($C11=\"TOTAL\",SUM($K$8:K10),IF(OR(C11=$AS$16,C11=$AS$17,C11=$AS$18,C11=$AS$19,C11=$AS$20,C11=$AS$21,C11=$AS$22,C11=$AS$23,C11=$AS$24),0,IF(BI12=\"\",\"\",BI12))),\"\")","v":7904},{"$f":"IFERROR(IF($C11=\"TOTAL\",SUM($L$8:L10),IF(BG12=\"\",\"\",BG12)),\"\")","v":19760},146619,{"$f":"IFERROR(IF(C11=\"\",\"\",IF(D11=\"\",\"\",IF(I11=\"\",\"\",IF($C11=\"TOTAL\",SUM($N$8:N10),SUM(D11-I11))))),\"\")","v":5400},{"$f":"IFERROR(IF(C11=\"\",\"\",IF(E11=\"\",\"\",IF(J11=\"\",\"\",IF($C11=\"TOTAL\",SUM($O$8:O10),SUM(E11-J11))))),\"\")","v":1102},{"$f":"IFERROR(IF(C11=\"\",\"\",IF(F11=\"\",\"\",IF(K11=\"\",\"\",IF($C11=\"TOTAL\",SUM($P$8:P10),SUM(F11-K11))))),\"\")","v":432},1080,8014,{"$f":"IFERROR(IF(C11=\"\",\"\",IF($C11=\"TOTAL\",SUM($S$8:S10),IF(AND(C11>$AR$1,$AI$3=$AR$2),BW12,IF($AU$18=$AU$20,SUM(BJ12+BR12),ROUND((D11+E11)*10%,0))))),\"\")","v":12546},{"$f":"IFERROR(IF(C11=\"\",\"\",IF(I11=\"\",\"\",IF(J11=\"\",\"\",IF($C11=\"TOTAL\",SUM($T$8:T10),IF(AND(C11>$AR$1,$AI$3=$AR$2),BW12,IF($AU$18=$AU$20,$AU$21,ROUND((I11+J11)*10%,0))))))),\"\")","v":11896},650,{"$f":"IFERROR(IF(C11=\"\",\"\",IF($AU$16=$AU$17,0,IF($C11=\"TOTAL\",SUM($V$8:V10),IF($AU$19=$AU$31,0,IF(AND($AU$32=$AU$20,C11=$AU$33),$AU$34,V10))))),\"\")","v":2100},{"$f":"IFERROR(IF(C11=\"\",\"\",IF($AU$16=$AU$17,0,IF($C11=\"TOTAL\",SUM($W$8:W10),IF($AU$19=$AU$20,$AU$24,0)))),\"\")","v":2100},0,{"$f":"IFERROR(IF(C11=\"\",\"\",IF($AU$16=$AU$17,0,IF($C11=\"TOTAL\",SUM($Y$8:Y10),BZ11))),\"\")","v":""},{"$f":"IFERROR(IF(C11=\"\",\"\",IF($AU$16=$AU$17,0,IF($C11=\"TOTAL\",SUM($Z$8:Z10),BY11))),\"\")","v":""},"",{"$f":"IFERROR(IF(C11=\"\",\"\",IF(D11=\"\",\"\",IF($C11=\"TOTAL\",SUM($AB$8:AB10),IF(C11=$AU$1,ROUND(D11*5/31,0.01),\"\")))),\"\")","v":""},{"$f":"IFERROR(IF(C11=\"\",\"\",IF(I11=\"\",\"\",IF($C11=\"TOTAL\",SUM($AC$8:AC10),IF(C11=$AU$1,ROUND(I11*5/31,0.01),\"\")))),\"\")","v":""},"",{"$f":"IFERROR(IF(C11=\"\",\"\",IF(AND(BP12=\"\",BW12=\"\"),\"\",IF($C11=\"TOTAL\",SUM($AE$8:AE10),BP12))),\"\")","v":""},{"$f":"IFERROR(IF(C11=\"\",\"\",IF($C11=\"TOTAL\",SUM($AF$8:AF10),ROUND(R11*$AU$7%,0))),\"\")","v":0},650,{"$f":"IFERROR(IF(C11=\"\",\"\",IF($C11=\"TOTAL\",SUM($AH$8:AH10),SUM(R11-AG11))),\"\")","v":7364},{"$nulls":8},12,12,{"$f":"IF(BC9=\"\",\"\",ROUND((AU11+BC9)*10%,0))","v":7718},"2017-03-01",{"$f":"IFERROR(ROUND((AU9/BA3)*BA6,0),\"\")","v":67467},"2019-06-01",{"$f":"IF(AND(AV11=\"\"),\"\",IF(AND(AV11=$AT$9),$AT$9,IF(AND(AV11=$AT$10),$AT$10,IF(AND(AV11=$AT$11),$AT$11,IF(AND(AV11=$AT$12),$AT$12,IF(AND(AV11=$AT$13),$AT$13,IF(AND(AV11=$AT$14),$AT$14,IF(AND(AV11=$AT$15),$AT$15,IF(AND(AV11=$AT$16),$AT$16,IF(AND(AV11=$AT$17),$AT$17,IF(AND(AV11=$AT$18),$AT$18,IF(AND(AV11=$AT$19),$AT$19,IF(AND(AV11=$AT$20),$AT$20,IF(AND(AV11=$AT$21),$AT$21,IF(AND(AV11=$AT$22),$AT$22,IF(AND(AV11=$AT$23),$AT$23,IF(AND(AV11=$AT$24),$AT$24,IF(AND(AV11=$AT$25),$AT$25,IF(AND(AV11=$AT$26),$AT$26,IF(AND(AV11=$AT$27),$AT$27,IF(AND(AV11=$AT$28),$AT$28,IF(AND(AV11=$AT$29),$AT$29,IF(AND(AV11=$AT$30),$AT$30,IF(AND(AV11=$AT$31),$AT$31,IF(AND(AV11=$AT$32),$AT$32,IF(AND(AV11=$AT$33),$AT$33,IF(AND(AV11=$AT$34),$AT$34,IF(AND(AV11=$AT$35),$AT$35,IF(AND(AV11=$AT$36),$AT$36,IF(AND(AV11=$AT$37),$AT$37,IF(AND(AV11=$AT$38),$AT$38,IF(AND(AV11=$AT$39),$AT$39,IF(AND(AV11=$AT$40),$AT$40,IF(AND(AV11=$AT$41),$AT$41,IF(AND(AV11=$AT$42),$AT$42,IF(AND(AV11=$AT$43),$AT$43,IF(AND(AV11=$AT$44),$AT$44,IF(AND(AV11=$AT$45),$AT$45,IF(AND(AV11=$AT$46),$AT$46,IF(AND(AV11=$AT$47),$AT$47,IF(AND(AV11=$AT$48),$AT$48,IF(AND(AV11=$AT$49),$AT$49,IF(AND(AV11=$AT$50),$AT$50,IF(AND(AV11=$AT$51),$AT$51,IF(AND(AV11=$AT$52),$AT$52,IF(AND(AV11=$AT$53),$AT$53,IF(AND(AV11=$AT$54),$AT$54,IF(AND(AV11=$AT$55),$AT$55,IF(AND(AV11=$AT$56),$AT$56,IF(AND(AV11=$AT$57),$AT$57,IF(AND(AV11=$AT$58),$AT$58,IF(AND(AV11=$AT$59),$AT$59,IF(AND(AV11=$AT$60),$AT$60,IF(AND(AV11=$AT$61),$AT$61,IF(AND(AV11=$AT$62),$AT$62,IF(AND(AV11=$AT$63),$AT$63,IF(AND(AV11=$AT$64),$AT$64,IF(AND(AV11=$AT$65),$AT$65,IF(AND(AV11=$AT$66),$AT$66,IF(AND(AV11=$AT$67),$AT$67,IF(AND(AV11=$AT$68),$AT$68,IF(AND(AV11=$AT$69),$AT$69,IF(AND(AV11=$AT$70),$AT$70,IF(AND(AV11=$AT$71),$AT$71,\"\"))))))))))))))))))))))))))))))))))))))))))))))))))))))))))))))))","v":"2019-06-01"},"",{"$f":"IFERROR(IF(AND(AW11=\"\",AX11=\"\"),\"\",IF(AW11=\"\",AX11,AW11)),\"\")","v":"2019-06-01"},{"$f":"IFERROR(IF(AY11=\"\",\"\",IF(DATE(YEAR(AY11),MONTH(AY11),DAY(AY11))=DATE(YEAR($AV$6),MONTH($AV$6)+1,DAY($AV$6)),\"TOTAL\",IF(AY11>$AV$6,\"\",AY11))),\"\")","v":"2019-06-01"},{"$f":"IFERROR(IF(AZ11=\"\",\"\",IF(AND($AU$20=$AU$28,$AU$30=AZ11),$AU$29,IF(OR(AZ11=$BD$2,AZ11=$BD$3,AZ11=$BD$4,AZ11=$BD$5,AZ11=$BD$6,AZ11=$BD$7,AZ11=$BE$2),MROUND(BA10*1.03,100),BA10))),\"\")","v":101200},20240,14573,{"$f":"IF(AZ11=\"\",\"\",IF(AZ11=\"TOTAL\",\"\",IF(AZ11>=$BC$7,ROUND(BA11*$BA$7%,0),ROUND(BA11*$AW$7%,0))))","v":8096},null,{"$f":"IFERROR(IF(AZ11=\"\",\"\",IF(AZ11=\"TOTAL\",\"\",IF($AU$16=$AU$17,$AU$10,IF(OR(AZ11=$BD$2,AZ11=$BD$3,AZ11=$BD$4,AZ11=$BD$5,AZ11=$BD$6,AZ11=$BD$7,AZ11=$BE$2),MROUND(BF10*1.03,100),BF10)))),\"\")","v":95900},19180,13810,{"$f":"IF(AZ11=\"\",\"\",IF(AZ11=\"TOTAL\",\"\",IF(BF11=\"\",\"\",IF($AU$16=$AU$17,0,IF(AZ11>=$BC$7,ROUND(BF11*$BA$7%,0),ROUND(BF11*$AW$7%,0))))))","v":7672},3675,{"$f":"IF(OR(AZ11=$BD$2,AZ11=$BD$3,AZ11=$BD$4,AZ11=$BD$5,AZ11=$BD$6),MROUND(BK10*1.03,100),BK10)","v":0},{"$f":"IF(OR(AZ11=$BD$2,AZ11=$BD$3,AZ11=$BD$4,AZ11=$BD$5,AZ11=$BD$6),MROUND(BL10*1.03,100),BL10)","v":95900},7547,3675,"","",0,0,{"$nulls":4},"",null,"",{"$f":"IF(AZ12=\"\",\"\",IF(AZ12=\"TOTAL\",\"\",IF($AU$16=$AU$17,0,IF(AND(AZ12>$BY$1,$AI$3=$AR$2,'Master Sheet'!$D$27>0),'Master Sheet'!$D$27,IF(AND(AZ12=$BY$1),IF($AU$9<18001,135,IF($AU$9<33501,220,IF($AU$9<54001,330,440))),IF(AND(AZ12>$BY$1),IF($AU$9<18001,265,IF($AU$9<33501,440,IF($AU$9<54001,658,875))),\"\"))))))","v":""}]
[5,5,"2019-08-01",{"$f":"IFERROR(IF($C11=\"TOTAL\",\"अक्षरें राशि :-\",IF($C12=\"TOTAL\",SUM($D$8:D11),IF(BA13=\"\",\"\",BA13))),\"\")","v":104200},{"$f":"IFERROR(IF($C12=\"TOTAL\",SUM($E$8:E11),IF(BC13=\"\",\"\",BC13)),\"\")","v":21257},{"$f":"IFERROR(IF($C12=\"TOTAL\",SUM($F$8:F11),IF(OR(C12=$AS$16,C12=$AS$17,C12=$AS$18,C12=$AS$19,C12=$AS$20,C12=$AS$21,C12=$AS$22,C12=$AS$23,C12=$AS$24),0,IF(BD13=\"\",\"\",BD13))),\"\")","v":8336},{"$f":"IFERROR(IF($C12=\"TOTAL\",SUM($G$8:G11),IF(BB13=\"\",\"\",BB13)),\"\")","v":20840},154633,{"$f":"IFERROR(IF($C12=\"TOTAL\",SUM($I$8:I11),IF(BF13=\"\",\"\",BF13)),\"\")","v":98800},{"$f":"IFERROR(IF($C12=\"TOTAL\",SUM($J$8:J11),IF(BH13=\"\",\"\",BH13)),\"\")","v":20155},{"$f":"IFERROR(IF($C12=\"TOTAL\",SUM($K$8:K11),IF(OR(C12=$AS$16,C12=$AS$17,C12=$AS$18,C12=$AS$19,C12=$AS$20,C12=$AS$21,C12=$AS$22,C12=$AS$23,C12=$AS$24),0,IF(BI13=\"\",\"\",BI13))),\"\")","v":7904},{"$f":"IFERROR(IF($C12=\"TOTAL\",SUM($L$8:L11),IF(BG13=\"\",\"\",BG13)),\"\")","v":19760},146619,{"$f":"IFERROR(IF(C12=\"\",\"\",IF(D12=\"\",\"\",IF(I12=\"\",\"\",IF($C12=\"TOTAL\",SUM($N$8:N11),SUM(D12-I12))))),\"\")","v":5400},{"$f":"IFERROR(IF(C12=\"\",\"\",IF(E12=\"\",\"\",IF(J12=\"\",\"\",IF($C12=\"TOTAL\",SUM($O$8:O11),SUM(E12-J12))))),\"\")","v":1102},{"$f":"IFERROR(IF(C12=\"\",\"\",IF(F12=\"\",\"\",IF(K12=\"\",\"\",IF($C12=\"TOTAL\",SUM($P$8:P11),SUM(F12-K12))))),\"\")","v":432},1080,8014,{"$f":"IFERROR(IF(C12=\"\",\"\",IF($C12=\"TOTAL\",SUM($S$8:S11),IF(AND(C12>$AR$1,$AI$3=$AR$2),BW13,IF($AU$18=$AU$20,SUM(BJ13+BR13),ROUND((D12+E12)*10%,0))))),\"\")","v":12546},{"$f":"IFERROR(IF(C12=\"\",\"\",IF(I12=\"\",\"\",IF(J12=\"\",\"\",IF($C12=\"TOTAL\",SUM($T$8:T11),IF(AND(C12>$AR$1,$AI$3=$AR$2),BW13,IF($AU$18=$AU$20,$AU$21,ROUND((I12+J12)*10%,0))))))),\"\")","v":11896},650,{"$f":"IFERROR(IF(C12=\"\",\"\",IF($AU$16=$AU$17,0,IF($C12=\"TOTAL\",SUM($V$8:V11),IF($AU$19=$AU$31,0,IF(AND($AU$32=$AU$20,C12=$AU$33),$AU$34,V11))))),\"\")","v":2100},{"$f":"IFERROR(IF(C12=\"\",\"\",IF($AU$16=$AU$17,0,IF($C12=\"TOTAL\",SUM($W$8:W11),IF($AU$19=$AU$20,$AU$24,0)))),\"\")","v":2100},0,{"$f":"IFERROR(IF(C12=\"\",\"\",IF($AU$16=$AU$17,0,IF($C12=\"TOTAL\",SUM($Y$8:Y11),BZ12))),\"\")","v":""},{"$f":"IFERROR(IF(C12=\"\",\"\",IF($AU$16=$AU$17,0,IF($C12=\"TOTAL\",SUM($Z$8:Z11),BY12))),\"\")","v":""},"",{"$f":"IFERROR(IF(C12=\"\",\"\",IF(D12=\"\",\"\",IF($C12=\"TOTAL\",SUM($AB$8:AB11),IF(C12=$AU$1,ROUND(D12*5/31,0.01),\"\")))),\"\")","v":""},{"$f":"IFERROR(IF(C12=\"\",\"\",IF(I12=\"\",\"\",IF($C12=\"TOTAL\",SUM($AC$8:AC11),IF(C12=$AU$1,ROUND(I12*5/31,0.01),\"\")))),\"\")","v":""},"",{"$f":"IFERROR(IF(C12=\"\",\"\",IF(AND(BP13=\"\",BW13=\"\"),\"\",IF($C12=\"TOTAL\",SUM($AE$8:AE11),BP13))),\"\")","v":""},{"$f":"IFERROR(IF(C12=\"\",\"\",IF($C12=\"TOTAL\",SUM($AF$8:AF11),ROUND(R12*$AU$7%,0))),\"\")","v":0},650,{"$f":"IFERROR(IF(C12=\"\",\"\",IF($C12=\"TOTAL\",SUM($AH$8:AH11),SUM(R12-AG12))),\"\")","v":7364},{"$nulls":8},17,17,{"$f":"ROUND((AU12)*10%,0)","v":3197},"2017-04-01",{"$f":"IFERROR(IF($AU$13=$AU$15,ROUND((AU14/BA3)*AW6,0),ROUND((AU10/BA3)*AW6,0)),\"\")","v":31967},"2019-07-01","2019-07-01","","2019-07-01",{"$f":"IFERROR(IF(AY12=\"\",\"\",IF(DATE(YEAR(AY12),MONTH(AY12),DAY(AY12))=DATE(YEAR($AV$6),MONTH($AV$6)+1,DAY($AV$6)),\"TOTAL\",IF(AY12>$AV$6,\"\",AY12))),\"\")","v":"2019-07-01"},{"$f":"IFERROR(IF(AZ12=\"\",\"\",IF(AND($AU$20=$AU$28,$AU$30=AZ12),$AU$29,IF(OR(AZ12=$BD$2,AZ12=$BD$3,AZ12=$BD$4,AZ12=$BD$5,AZ12=$BD$6,AZ12=$BD$7,AZ12=$BE$2),MROUND(BA11*1.03,100),BA11))),\"\")","v":104200},20840,21257,{"$f":"IF(AZ12=\"\",\"\",IF(AZ12=\"TOTAL\",\"\",IF(AZ12>=$BC$7,ROUND(BA12*$BA$7%,0),ROUND(BA12*$AW$7%,0))))","v":8336},null,{"$f":"IFERROR(IF(AZ12=\"\",\"\",IF(AZ12=\"TOTAL\",\"\",IF($AU$16=$AU$17,$AU$10,IF(OR(AZ12=$BD$2,AZ12=$BD$3,AZ12=$BD$4,AZ12=$BD$5,AZ12=$BD$6,AZ12=$BD$7,AZ12=$BE$2),MROUND(BF11*1.03,100),BF11)))),\"\")","v":98800},19760,20155,{"$f":"IF(AZ12=\"\",\"\",IF(AZ12=\"TOTAL\",\"\",IF(BF12=\"\",\"\",IF($AU$16=$AU$17,0,IF(AZ12>=$BC$7,ROUND(BF12*$BA$7%,0),ROUND(BF12*$AW$7%,0))))))","v":7904},3675,null,null,8014,3675,"","",0,0,{"$nulls":4},"",null,"",{"$f":"IF(AZ13=\"\",\"\",IF(AZ13=\"TOTAL\",\"\",IF($AU$16=$AU$17,0,IF(AND(AZ13>$BY$1,$AI$3=$AR$2,'Master Sheet'!$D$27>0),'Master Sheet'!$D$27,IF(AND(AZ13=$BY$1),IF($AU$9<18001,135,IF($AU$9<33501,220,IF($AU$9<54001,330,440))),IF(AND(AZ13>$BY$1),IF($AU$9<18001,265,IF($AU$9<33501,440,IF($AU$9<54001,658,875))),\"\"))))))","v":""}]
[6,6,"2019-09-01",{"$f":"IFERROR(IF($C12=\"TOTAL\",\"अक्षरें राशि :-\",IF($C13=\"TOTAL\",SUM($D$8:D12),IF(BA14=\"\",\"\",BA14))),\"\")","v":104200},{"$f":"IFERROR(IF($C13=\"TOTAL\",SUM($E$8:E12),IF(BC14=\"\",\"\",BC14)),\"\")","v":21257},{"$f":"IFERROR(IF($C13=\"TOTAL\",SUM($F$8:F12),IF(OR(C13=$AS$16,C13=$AS$17,C13=$AS$18,C13=$AS$19,C13=$AS$20,C13=$AS$21,C13=$AS$22,C13=$AS$23,C13=$AS$24),0,IF(BD14=\"\",\"\",BD14))),\"\")","v":8336},{"$f":"IFERROR(IF($C13=\"TOTAL\",SUM($G$8:G12),IF(BB14=\"\",\"\",BB14)),\"\")","v":20840},154633,{"$f":"IFERROR(IF($C13=\"TOTAL\",SUM($I$8:I12),IF(BF14=\"\",\"\",BF14)),\"\")","v":98800},{"$f":"IFERROR(IF($C13=\"TOTAL\",SUM($J$8:J12),IF(BH14=\"\",\"\",BH14)),\"\")","v":20155},{"$f":"IFERROR(IF($C13=\"TOTAL\",SUM($K$8:K12),IF(OR(C13=$AS$16,C13=$AS$17,C13=$AS$18,C13=$AS$19,C13=$AS$20,C13=$AS$21,C13=$AS$22,C13=$AS$23,C13=$AS$24),0,IF(BI14=\"\",\"\",BI14))),\"\")","v":7904},{"$f":"IFERROR(IF($C13=\"TOTAL\",SUM($L$8:L12),IF(BG14=\"\",\"\",BG14)),\"\")","v":19760},146619,{"$f":"IFERROR(IF(C13=\"\",\"\",IF(D13=\"\",\"\",IF(I13=\"\",\"\",IF($C13=\"TOTAL\",SUM($N$8:N12),SUM(D13-I13))))),\"\")","v":5400},{"$f":"IFERROR(IF(C13=\"\",\"\",IF(E13=\"\",\"\",IF(J13=\"\",\"\",IF($C13=\"TOTAL\",SUM($O$8:O12),SUM(E13-J13))))),\"\")","v":1102},{"$f":"IFERROR(IF(C13=\"\",\"\",IF(F13=\"\",\"\",IF(K13=\"\",\"\",IF($C13=\"TOTAL\",SUM($P$8:P12),SUM(F13-K13))))),\"\")","v":432},1080,8014,{"$f":"IFERROR(IF(C13=\"\",\"\",IF($C13=\"TOTAL\",SUM($S$8:S12),IF(AND(C13>$AR$1,$AI$3=$AR$2),BW14,IF($AU$18=$AU$20,SUM(BJ14+BR14),ROUND((D13+E13)*10%,0))))),\"\")","v":12546},{"$f":"IFERROR(IF(C13=\"\",\"\",IF(I13=\"\",\"\",IF(J13=\"\",\"\",IF($C13=\"TOTAL\",SUM($T$8:T12),IF(AND(C13>$AR$1,$AI$3=$AR$2),BW14,IF($AU$18=$AU$20,$AU$21,ROUND((I13+J13)*10%,0))))))),\"\")","v":11896},650,{"$f":"IFERROR(IF(C13=\"\",\"\",IF($AU$16=$AU$17,0,IF($C13=\"TOTAL\",SUM($V$8:V12),IF($AU$19=$AU$31,0,IF(AND($AU$32=$AU$20,C13=$AU$33),$AU$34,V12))))),\"\")","v":2100},{"$f":"IFERROR(IF(C13=\"\",\"\",IF($AU$16=$AU$17,0,IF($C13=\"TOTAL\",SUM($W$8:W12),IF($AU$19=$AU$20,$AU$24,0)))),\"\")","v":2100},0,{"$f":"IFERROR(IF(C13=\"\",\"\",IF($AU$16=$AU$17,0,IF($C13=\"TOTAL\",SUM($Y$8:Y12),BZ13))),\"\")","v":""},{"$f":"IFERROR(IF(C13=\"\",\"\",IF($AU$16=$AU$17,0,IF($C13=\"TOTAL\",SUM($Z$8:Z12),BY13))),\"\")","v":""},"",{"$f":"IFERROR(IF(C13=\"\",\"\",IF(D13=\"\",\"\",IF($C13=\"TOTAL\",SUM($AB$8:AB12),IF(C13=$AU$1,ROUND(D13*5/31,0.01),\"\")))),\"\")","v":""},{"$f":"IFERROR(IF(C13=\"\",\"\",IF(I13=\"\",\"\",IF($C13=\"TOTAL\",SUM($AC$8:AC12),IF(C13=$AU$1,ROUND(I13*5/31,0.01),\"\")))),\"\")","v":""},"",{"$f":"IFERROR(IF(C13=\"\",\"\",IF(AND(BP14=\"\",BW14=\"\"),\"\",IF($C13=\"TOTAL\",SUM($AE$8:AE12),BP14))),\"\")","v":""},{"$f":"IFERROR(IF(C13=\"\",\"\",IF($C13=\"TOTAL\",SUM($AF$8:AF12),ROUND(R13*$AU$7%,0))),\"\")","v":0},650,{"$f":"IFERROR(IF(C13=\"\",\"\",IF($C13=\"TOTAL\",SUM($AH$8:AH12),SUM(R13-AG13))),\"\")","v":7364},{"$nulls":8},17,17,null,"2017-05-01",{"$f":"'Master Sheet'!D11","v":"Regular Pay"},"2019-08-01","2019-08-01","","2019-08-01","2019-08-01",104200,20840,21257,8336,null,98800,19760,20155,7904,3675,null,null,8014,3675,"","",0,0,{"$nulls":4},"",null,"",{"$f":"IF(AZ14=\"\",\"\",IF(AZ14=\"TOTAL\",\"\",IF($AU$16=$AU$17,0,IF(AND(AZ14>$BY$1,$AI$3=$AR$2,'Master Sheet'!$D$27>0),'Master Sheet'!$D$27,IF(AND(AZ14=$BY$1),IF($AU$9<18001,135,IF($AU$9<33501,220,IF($AU$9<54001,330,440))),IF(AND(AZ14>$BY$1),IF($AU$9<18001,265,IF($AU$9<33501,440,IF($AU$9<54001,658,875))),\"\"))))))","v":""}]
[7,7,"2019-10-01",{"$f":"IFERROR(IF($C13=\"TOTAL\",\"अक्षरें राशि :-\",IF($C14=\"TOTAL\",SUM($D$8:D13),IF(BA15=\"\",\"\",BA15))),\"\")","v":104200},{"$f":"IFERROR(IF($C14=\"TOTAL\",SUM($E$8:E13),IF(BC15=\"\",\"\",BC15)),\"\")","v":21257},{"$f":"IFERROR(IF($C14=\"TOTAL\",SUM($F$8:F13),IF(OR(C14=$AS$16,C14=$AS$17,C14=$AS$18,C14=$AS$19,C14=$AS$20,C14=$AS$21,C14=$AS$22,C14=$AS$23,C14=$AS$24),0,IF(BD15=\"\",\"\",BD15))),\"\")","v":8336},{"$f":"IFERROR(IF($C14=\"TOTAL\",SUM($G$8:G13),IF(BB15=\"\",\"\",BB15)),\"\")","v":20840},154633,{"$f":"IFERROR(IF($C14=\"TOTAL\",SUM($I$8:I13),IF(BF15=\"\",\"\",BF15)),\"\")","v":98800},{"$f":"IFERROR(IF($C14=\"TOTAL\",SUM($J$8:J13),IF(BH15=\"\",\"\",BH15)),\"\")","v":20155},{"$f":"IFERROR(IF($C14=\"TOTAL\",SUM($K$8:K13),IF(OR(C14=$AS$16,C14=$AS$17,C14=$AS$18,C14=$AS$19,C14=$AS$20,C14=$AS$21,C14=$AS$22,C14=$AS$23,C14=$AS$24),0,IF(BI15=\"\",\"\",BI15))),\"\")","v":7904},{"$f":"IFERROR(IF($C14=\"TOTAL\",SUM($L$8:L13),IF(BG15=\"\",\"\",BG15)),\"\")","v":19760},146619,{"$f":"IFERROR(IF(C14=\"\",\"\",IF(D14=\"\",\"\",IF(I14=\"\",\"\",IF($C14=\"TOTAL\",SUM($N$8:N13),SUM(D14-I14))))),\"\")","v":5400},{"$f":"IFERROR(IF(C14=\"\",\"\",IF(E14=\"\",\"\",IF(J14=\"\",\"\",IF($C14=\"TOTAL\",SUM($O$8:O13),SUM(E14-J14))))),\"\")","v":1102},{"$f":"IFERROR(IF(C14=\"\",\"\",IF(F14=\"\",\"\",IF(K14=\"\",\"\",IF($C14=\"TOTAL\",SUM($P$8:P13),SUM(F14-K14))))),\"\")","v":432},1080,8014,{"$f":"IFERROR(IF(C14=\"\",\"\",IF($C14=\"TOTAL\",SUM($S$8:S13),IF(AND(C14>$AR$1,$AI$3=$AR$2),BW15,IF($AU$18=$AU$20,SUM(BJ15+BR15),ROUND((D14+E14)*10%,0))))),\"\")","v":12546},{"$f":"IFERROR(IF(C14=\"\",\"\",IF(I14=\"\",\"\",IF(J14=\"\",\"\",IF($C14=\"TOTAL\",SUM($T$8:T13),IF(AND(C14>$AR$1,$AI$3=$AR$2),BW15,IF($AU$18=$AU$20,$AU$21,ROUND((I14+J14)*10%,0))))))),\"\")","v":11896},650,{"$f":"IFERROR(IF(C14=\"\",\"\",IF($AU$16=$AU$17,0,IF($C14=\"TOTAL\",SUM($V$8:V13),IF($AU$19=$AU$31,0,IF(AND($AU$32=$AU$20,C14=$AU$33),$AU$34,V13))))),\"\")","v":2100},{"$f":"IFERROR(IF(C14=\"\",\"\",IF($AU$16=$AU$17,0,IF($C14=\"TOTAL\",SUM($W$8:W13),IF($AU$19=$AU$20,$AU$24,0)))),\"\")","v":2100},0,{"$f":"IFERROR(IF(C14=\"\",\"\",IF($AU$16=$AU$17,0,IF($C14=\"TOTAL\",SUM($Y$8:Y13),BZ14))),\"\")","v":""},{"$f":"IFERROR(IF(C14=\"\",\"\",IF($AU$16=$AU$17,0,IF($C14=\"TOTAL\",SUM($Z$8:Z13),BY14))),\"\")","v":""},"",{"$f":"IFERROR(IF(C14=\"\",\"\",IF(D14=\"\",\"\",IF($C14=\"TOTAL\",SUM($AB$8:AB13),IF(C14=$AU$1,ROUND(D14*5/31,0.01),\"\")))),\"\")","v":""},{"$f":"IFERROR(IF(C14=\"\",\"\",IF(I14=\"\",\"\",IF($C14=\"TOTAL\",SUM($AC$8:AC13),IF(C14=$AU$1,ROUND(I14*5/31,0.01),\"\")))),\"\")","v":""},"",{"$f":"IFERROR(IF(C14=\"\",\"\",IF(AND(BP15=\"\",BW15=\"\"),\"\",IF($C14=\"TOTAL\",SUM($AE$8:AE13),BP15))),\"\")","v":""},{"$f":"IFERROR(IF(C14=\"\",\"\",IF($C14=\"TOTAL\",SUM($AF$8:AF13),ROUND(R14*$AU$7%,0))),\"\")","v":0},650,{"$f":"IFERROR(IF(C14=\"\",\"\",IF($C14=\"TOTAL\",SUM($AH$8:AH13),SUM(R14-AG14))),\"\")","v":7364},{"$nulls":8},17,17,null,"2017-06-01",{"$f":"'Master Sheet'!M11","v":95900},"2019-09-01","2019-09-01","","2019-09-01","2019-09-01",104200,20840,21257,8336,null,98800,19760,20155,7904,3675,null,null,8014,3675,"","",0,0,{"$nulls":4},"",null,"",{"$f":"IF(AZ15=\"\",\"\",IF(AZ15=\"TOTAL\",\"\",IF($AU$16=$AU$17,0,IF(AND(AZ15>$BY$1,$AI$3=$AR$2,'Master Sheet'!$D$27>0),'Master Sheet'!$D$27,IF(AND(AZ15=$BY$1),IF($AU$9<18001,135,IF($AU$9<33501,220,IF($AU$9<54001,330,440))),IF(AND(AZ15>$BY$1),IF($AU$9<18001,265,IF($AU$9<33501,440,IF($AU$9<54001,658,875))),\"\"))))))","v":""}]
[8,8,"2019-11-01",{"$f":"IFERROR(IF($C14=\"TOTAL\",\"अक्षरें राशि :-\",IF($C15=\"TOTAL\",SUM($D$8:D14),IF(BA16=\"\",\"\",BA16))),\"\")","v":104200},{"$f":"IFERROR(IF($C15=\"TOTAL\",SUM($E$8:E14),IF(BC16=\"\",\"\",BC16)),\"\")","v":21257},{"$f":"IFERROR(IF($C15=\"TOTAL\",SUM($F$8:F14),IF(OR(C15=$AS$16,C15=$AS$17,C15=$AS$18,C15=$AS$19,C15=$AS$20,C15=$AS$21,C15=$AS$22,C15=$AS$23,C15=$AS$24),0,IF(BD16=\"\",\"\",BD16))),\"\")","v":8336},{"$f":"IFERROR(IF($C15=\"TOTAL\",SUM($G$8:G14),IF(BB16=\"\",\"\",BB16)),\"\")","v":20840},154633,{"$f":"IFERROR(IF($C15=\"TOTAL\",SUM($I$8:I14),IF(BF16=\"\",\"\",BF16)),\"\")","v":98800},{"$f":"IFERROR(IF($C15=\"TOTAL\",SUM($J$8:J14),IF(BH16=\"\",\"\",BH16)),\"\")","v":20155},{"$f":"IFERROR(IF($C15=\"TOTAL\",SUM($K$8:K14),IF(OR(C15=$AS$16,C15=$AS$17,C15=$AS$18,C15=$AS$19,C15=$AS$20,C15=$AS$21,C15=$AS$22,C15=$AS$23,C15=$AS$24),0,IF(BI16=\"\",\"\",BI16))),\"\")","v":7904},{"$f":"IFERROR(IF($C15=\"TOTAL\",SUM($L$8:L14),IF(BG16=\"\",\"\",BG16)),\"\")","v":19760},146619,{"$f":"IFERROR(IF(C15=\"\",\"\",IF(D15=\"\",\"\",IF(I15=\"\",\"\",IF($C15=\"TOTAL\",SUM($N$8:N14),SUM(D15-I15))))),\"\")","v":5400},{"$f":"IFERROR(IF(C15=\"\",\"\",IF(E15=\"\",\"\",IF(J15=\"\",\"\",IF($C15=\"TOTAL\",SUM($O$8:O14),SUM(E15-J15))))),\"\")","v":1102},{"$f":"IFERROR(IF(C15=\"\",\"\",IF(F15=\"\",\"\",IF(K15=\"\",\"\",IF($C15=\"TOTAL\",SUM($P$8:P14),SUM(F15-K15))))),\"\")","v":432},1080,8014,{"$f":"IFERROR(IF(C15=\"\",\"\",IF($C15=\"TOTAL\",SUM($S$8:S14),IF(AND(C15>$AR$1,$AI$3=$AR$2),BW16,IF($AU$18=$AU$20,SUM(BJ16+BR16),ROUND((D15+E15)*10%,0))))),\"\")","v":12546},{"$f":"IFERROR(IF(C15=\"\",\"\",IF(I15=\"\",\"\",IF(J15=\"\",\"\",IF($C15=\"TOTAL\",SUM($T$8:T14),IF(AND(C15>$AR$1,$AI$3=$AR$2),BW16,IF($AU$18=$AU$20,$AU$21,ROUND((I15+J15)*10%,0))))))),\"\")","v":11896},650,{"$f":"IFERROR(IF(C15=\"\",\"\",IF($AU$16=$AU$17,0,IF($C15=\"TOTAL\",SUM($V$8:V14),IF($AU$19=$AU$31,0,IF(AND($AU$32=$AU$20,C15=$AU$33),$AU$34,V14))))),\"\")","v":2100},{"$f":"IFERROR(IF(C15=\"\",\"\",IF($AU$16=$AU$17,0,IF($C15=\"TOTAL\",SUM($W$8:W14),IF($AU$19=$AU$20,$AU$24,0)))),\"\")","v":2100},0,{"$f":"IFERROR(IF(C15=\"\",\"\",IF($AU$16=$AU$17,0,IF($C15=\"TOTAL\",SUM($Y$8:Y14),BZ15))),\"\")","v":""},{"$f":"IFERROR(IF(C15=\"\",\"\",IF($AU$16=$AU$17,0,IF($C15=\"TOTAL\",SUM($Z$8:Z14),BY15))),\"\")","v":""},"",{"$f":"IFERROR(IF(C15=\"\",\"\",IF(D15=\"\",\"\",IF($C15=\"TOTAL\",SUM($AB$8:AB14),IF(C15=$AU$1,ROUND(D15*5/31,0.01),\"\")))),\"\")","v":""},{"$f":"IFERROR(IF(C15=\"\",\"\",IF(I15=\"\",\"\",IF($C15=\"TOTAL\",SUM($AC$8:AC14),IF(C15=$AU$1,ROUND(I15*5/31,0.01),\"\")))),\"\")","v":""},"",{"$f":"IFERROR(IF(C15=\"\",\"\",IF(AND(BP16=\"\",BW16=\"\"),\"\",IF($C15=\"TOTAL\",SUM($AE$8:AE14),BP16))),\"\")","v":""},{"$f":"IFERROR(IF(C15=\"\",\"\",IF($C15=\"TOTAL\",SUM($AF$8:AF14),ROUND(R15*$AU$7%,0))),\"\")","v":0},650,{"$f":"IFERROR(IF(C15=\"\",\"\",IF($C15=\"TOTAL\",SUM($AH$8:AH14),SUM(R15-AG15))),\"\")","v":7364},{"$nulls":8},17,17,null,"2017-07-01","Regular Pay","2019-10-01","2019-10-01","","2019-10-01","2019-10-01",104200,20840,21257,8336,null,98800,19760,20155,7904,3675,null,null,8014,3675,"","",0,0,{"$nulls":4},"",null,"",{"$f":"IF(AZ16=\"\",\"\",IF(AZ16=\"TOTAL\",\"\",IF($AU$16=$AU$17,0,IF(AND(AZ16>$BY$1,$AI$3=$AR$2,'Master Sheet'!$D$27>0),'Master Sheet'!$D$27,IF(AND(AZ16=$BY$1),IF($AU$9<18001,135,IF($AU$9<33501,220,IF($AU$9<54001,330,440))),IF(AND(AZ16>$BY$1),IF($AU$9<18001,265,IF($AU$9<33501,440,IF($AU$9<54001,658,875))),\"\"))))))","v":""}]
[9,9,"2019-12-01",{"$f":"IFERROR(IF($C15=\"TOTAL\",\"अक्षरें राशि :-\",IF($C16=\"TOTAL\",SUM($D$8:D15),IF(BA17=\"\",\"\",BA17))),\"\")","v":104200},{"$f":"IFERROR(IF($C16=\"TOTAL\",SUM($E$8:E15),IF(BC17=\"\",\"\",BC17)),\"\")","v":21257},{"$f":"IFERROR(IF($C16=\"TOTAL\",SUM($F$8:F15),IF(OR(C16=$AS$16,C16=$AS$17,C16=$AS$18,C16=$AS$19,C16=$AS$20,C16=$AS$21,C16=$AS$22,C16=$AS$23,C16=$AS$24),0,IF(BD17=\"\",\"\",BD17))),\"\")","v":8336},{"$f":"IFERROR(IF($C16=\"TOTAL\",SUM($G$8:G15),IF(BB17=\"\",\"\",BB17)),\"\")","v":20840},154633,{"$f":"IFERROR(IF($C16=\"TOTAL\",SUM($I$8:I15),IF(BF17=\"\",\"\",BF17)),\"\")","v":98800},{"$f":"IFERROR(IF($C16=\"TOTAL\",SUM($J$8:J15),IF(BH17=\"\",\"\",BH17)),\"\")","v":20155},{"$f":"IFERROR(IF($C16=\"TOTAL\",SUM($K$8:K15),IF(OR(C16=$AS$16,C16=$AS$17,C16=$AS$18,C16=$AS$19,C16=$AS$20,C16=$AS$21,C16=$AS$22,C16=$AS$23,C16=$AS$24),0,IF(BI17=\"\",\"\",BI17))),\"\")","v":7904},{"$f":"IFERROR(IF($C16=\"TOTAL\",SUM($L$8:L15),IF(BG17=\"\",\"\",BG17)),\"\")","v":19760},146619,{"$f":"IFERROR(IF(C16=\"\",\"\",IF(D16=\"\",\"\",IF(I16=\"\",\"\",IF($C16=\"TOTAL\",SUM($N$8:N15),SUM(D16-I16))))),\"\")","v":5400},{"$f":"IFERROR(IF(C16=\"\",\"\",IF(E16=\"\",\"\",IF(J16=\"\",\"\",IF($C16=\"TOTAL\",SUM($O$8:O15),SUM(E16-J16))))),\"\")","v":1102},{"$f":"IFERROR(IF(C16=\"\",\"\",IF(F16=\"\",\"\",IF(K16=\"\",\"\",IF($C16=\"TOTAL\",SUM($P$8:P15),SUM(F16-K16))))),\"\")","v":432},1080,8014,{"$f":"IFERROR(IF(C16=\"\",\"\",IF($C16=\"TOTAL\",SUM($S$8:S15),IF(AND(C16>$AR$1,$AI$3=$AR$2),BW17,IF($AU$18=$AU$20,SUM(BJ17+BR17),ROUND((D16+E16)*10%,0))))),\"\")","v":12546},{"$f":"IFERROR(IF(C16=\"\",\"\",IF(I16=\"\",\"\",IF(J16=\"\",\"\",IF($C16=\"TOTAL\",SUM($T$8:T15),IF(AND(C16>$AR$1,$AI$3=$AR$2),BW17,IF($AU$18=$AU$20,$AU$21,ROUND((I16+J16)*10%,0))))))),\"\")","v":11896},650,{"$f":"IFERROR(IF(C16=\"\",\"\",IF($AU$16=$AU$17,0,IF($C16=\"TOTAL\",SUM($V$8:V15),IF($AU$19=$AU$31,0,IF(AND($AU$32=$AU$20,C16=$AU$33),$AU$34,V15))))),\"\")","v":2100},{"$f":"IFERROR(IF(C16=\"\",\"\",IF($AU$16=$AU$17,0,IF($C16=\"TOTAL\",SUM($W$8:W15),IF($AU$19=$AU$20,$AU$24,0)))),\"\")","v":2100},0,{"$f":"IFERROR(IF(C16=\"\",\"\",IF($AU$16=$AU$17,0,IF($C16=\"TOTAL\",SUM($Y$8:Y15),BZ16))),\"\")","v":""},{"$f":"IFERROR(IF(C16=\"\",\"\",IF($AU$16=$AU$17,0,IF($C16=\"TOTAL\",SUM($Z$8:Z15),BY16))),\"\")","v":""},"",{"$f":"IFERROR(IF(C16=\"\",\"\",IF(D16=\"\",\"\",IF($C16=\"TOTAL\",SUM($AB$8:AB15),IF(C16=$AU$1,ROUND(D16*5/31,0.01),\"\")))),\"\")","v":""},{"$f":"IFERROR(IF(C16=\"\",\"\",IF(I16=\"\",\"\",IF($C16=\"TOTAL\",SUM($AC$8:AC15),IF(C16=$AU$1,ROUND(I16*5/31,0.01),\"\")))),\"\")","v":""},"",{"$f":"IFERROR(IF(C16=\"\",\"\",IF(AND(BP17=\"\",BW17=\"\"),\"\",IF($C16=\"TOTAL\",SUM($AE$8:AE15),BP17))),\"\")","v":""},{"$f":"IFERROR(IF(C16=\"\",\"\",IF($C16=\"TOTAL\",SUM($AF$8:AF15),ROUND(R16*$AU$7%,0))),\"\")","v":0},650,{"$f":"IFERROR(IF(C16=\"\",\"\",IF($C16=\"TOTAL\",SUM($AH$8:AH15),SUM(R16-AG16))),\"\")","v":7364},{"$nulls":8},17,17,"2017-01-01","2017-08-01",{"$f":"'Master Sheet'!D11","v":"Regular Pay"},"2019-11-01","2019-11-01","","2019-11-01","2019-11-01",104200,20840,21257,8336,null,98800,19760,20155,7904,3675,null,null,8014,3675,"","",0,0,{"$nulls":4},"",null,"",{"$f":"IF(AZ17=\"\",\"\",IF(AZ17=\"TOTAL\",\"\",IF($AU$16=$AU$17,0,IF(AND(AZ17>$BY$1,$AI$3=$AR$2,'Master Sheet'!$D$27>0),'Master Sheet'!$D$27,IF(AND(AZ17=$BY$1),IF($AU$9<18001,135,IF($AU$9<33501,220,IF($AU$9<54001,330,440))),IF(AND(AZ17>$BY$1),IF($AU$9<18001,265,IF($AU$9<33501,440,IF($AU$9<54001,658,875))),\"\"))))))","v":""}]
[10,10,"2020-01-01",{"$f":"IFERROR(IF($C16=\"TOTAL\",\"अक्षरें राशि :-\",IF($C17=\"TOTAL\",SUM($D$8:D16),IF(BA18=\"\",\"\",BA18))),\"\")","v":104200},{"$f":"IFERROR(IF($C17=\"TOTAL\",SUM($E$8:E16),IF(BC18=\"\",\"\",BC18)),\"\")","v":21257},{"$f":"IFERROR(IF($C17=\"TOTAL\",SUM($F$8:F16),IF(OR(C17=$AS$16,C17=$AS$17,C17=$AS$18,C17=$AS$19,C17=$AS$20,C17=$AS$21,C17=$AS$22,C17=$AS$23,C17=$AS$24),0,IF(BD18=\"\",\"\",BD18))),\"\")","v":8336},{"$f":"IFERROR(IF($C17=\"TOTAL\",SUM($G$8:G16),IF(BB18=\"\",\"\",BB18)),\"\")","v":20840},154633,{"$f":"IFERROR(IF($C17=\"TOTAL\",SUM($I$8:I16),IF(BF18=\"\",\"\",BF18)),\"\")","v":98800},{"$f":"IFERROR(IF($C17=\"TOTAL\",SUM($J$8:J16),IF(BH18=\"\",\"\",BH18)),\"\")","v":20155},{"$f":"IFERROR(IF($C17=\"TOTAL\",SUM($K$8:K16),IF(OR(C17=$AS$16,C17=$AS$17,C17=$AS$18,C17=$AS$19,C17=$AS$20,C17=$AS$21,C17=$AS$22,C17=$AS$23,C17=$AS$24),0,IF(BI18=\"\",\"\",BI18))),\"\")","v":7904},{"$f":"IFERROR(IF($C17=\"TOTAL\",SUM($L$8:L16),IF(BG18=\"\",\"\",BG18)),\"\")","v":19760},146619,{"$f":"IFERROR(IF(C17=\"\",\"\",IF(D17=\"\",\"\",IF(I17=\"\",\"\",IF($C17=\"TOTAL\",SUM($N$8:N16),SUM(D17-I17))))),\"\")","v":5400},{"$f":"IFERROR(IF(C17=\"\",\"\",IF(E17=\"\",\"\",IF(J17=\"\",\"\",IF($C17=\"TOTAL\",SUM($O$8:O16),SUM(E17-J17))))),\"\")","v":1102},{"$f":"IFERROR(IF(C17=\"\",\"\",IF(F17=\"\",\"\",IF(K17=\"\",\"\",IF($C17=\"TOTAL\",SUM($P$8:P16),SUM(F17-K17))))),\"\")","v":432},1080,8014,{"$f":"IFERROR(IF(C17=\"\",\"\",IF($C17=\"TOTAL\",SUM($S$8:S16),IF(AND(C17>$AR$1,$AI$3=$AR$2),BW18,IF($AU$18=$AU$20,SUM(BJ18+BR18),ROUND((D17+E17)*10%,0))))),\"\")","v":12546},{"$f":"IFERROR(IF(C17=\"\",\"\",IF(I17=\"\",\"\",IF(J17=\"\",\"\",IF($C17=\"TOTAL\",SUM($T$8:T16),IF(AND(C17>$AR$1,$AI$3=$AR$2),BW18,IF($AU$18=$AU$20,$AU$21,ROUND((I17+J17)*10%,0))))))),\"\")","v":11896},650,{"$f":"IFERROR(IF(C17=\"\",\"\",IF($AU$16=$AU$17,0,IF($C17=\"TOTAL\",SUM($V$8:V16),IF($AU$19=$AU$31,0,IF(AND($AU$32=$AU$20,C17=$AU$33),$AU$34,V16))))),\"\")","v":2100},{"$f":"IFERROR(IF(C17=\"\",\"\",IF($AU$16=$AU$17,0,IF($C17=\"TOTAL\",SUM($W$8:W16),IF($AU$19=$AU$20,$AU$24,0)))),\"\")","v":2100},0,{"$f":"IFERROR(IF(C17=\"\",\"\",IF($AU$16=$AU$17,0,IF($C17=\"TOTAL\",SUM($Y$8:Y16),BZ17))),\"\")","v":""},{"$f":"IFERROR(IF(C17=\"\",\"\",IF($AU$16=$AU$17,0,IF($C17=\"TOTAL\",SUM($Z$8:Z16),BY17))),\"\")","v":""},"",{"$f":"IFERROR(IF(C17=\"\",\"\",IF(D17=\"\",\"\",IF($C17=\"TOTAL\",SUM($AB$8:AB16),IF(C17=$AU$1,ROUND(D17*5/31,0.01),\"\")))),\"\")","v":""},{"$f":"IFERROR(IF(C17=\"\",\"\",IF(I17=\"\",\"\",IF($C17=\"TOTAL\",SUM($AC$8:AC16),IF(C17=$AU$1,ROUND(I17*5/31,0.01),\"\")))),\"\")","v":""},"",{"$f":"IFERROR(IF(C17=\"\",\"\",IF(AND(BP18=\"\",BW18=\"\"),\"\",IF($C17=\"TOTAL\",SUM($AE$8:AE16),BP18))),\"\")","v":""},{"$f":"IFERROR(IF(C17=\"\",\"\",IF($C17=\"TOTAL\",SUM($AF$8:AF16),ROUND(R17*$AU$7%,0))),\"\")","v":0},650,{"$f":"IFERROR(IF(C17=\"\",\"\",IF($C17=\"TOTAL\",SUM($AH$8:AH16),SUM(R17-AG17))),\"\")","v":7364},{"$nulls":8},17,17,"2017-02-01","2017-09-01","Fix Pay","2019-12-01","2019-12-01","","2019-12-01","2019-12-01",104200,20840,21257,8336,null,98800,19760,20155,7904,3675,null,null,8014,3675,"","",0,0,{"$nulls":4},"",null,"",{"$f":"IF(AZ18=\"\",\"\",IF(AZ18=\"TOTAL\",\"\",IF($AU$16=$AU$17,0,IF(AND(AZ18>$BY$1,$AI$3=$AR$2,'Master Sheet'!$D$27>0),'Master Sheet'!$D$27,IF(AND(AZ18=$BY$1),IF($AU$9<18001,135,IF($AU$9<33501,220,IF($AU$9<54001,330,440))),IF(AND(AZ18>$BY$1),IF($AU$9<18001,265,IF($AU$9<33501,440,IF($AU$9<54001,658,875))),\"\"))))))","v":""}]
[11,11,"2020-02-01",{"$f":"IFERROR(IF($C17=\"TOTAL\",\"अक्षरें राशि :-\",IF($C18=\"TOTAL\",SUM($D$8:D17),IF(BA19=\"\",\"\",BA19))),\"\")","v":104200},{"$f":"IFERROR(IF($C18=\"TOTAL\",SUM($E$8:E17),IF(BC19=\"\",\"\",BC19)),\"\")","v":21257},{"$f":"IFERROR(IF($C18=\"TOTAL\",SUM($F$8:F17),IF(OR(C18=$AS$16,C18=$AS$17,C18=$AS$18,C18=$AS$19,C18=$AS$20,C18=$AS$21,C18=$AS$22,C18=$AS$23,C18=$AS$24),0,IF(BD19=\"\",\"\",BD19))),\"\")","v":8336},{"$f":"IFERROR(IF($C18=\"TOTAL\",SUM($G$8:G17),IF(BB19=\"\",\"\",BB19)),\"\")","v":20840},154633,{"$f":"IFERROR(IF($C18=\"TOTAL\",SUM($I$8:I17),IF(BF19=\"\",\"\",BF19)),\"\")","v":98800},{"$f":"IFERROR(IF($C18=\"TOTAL\",SUM($J$8:J17),IF(BH19=\"\",\"\",BH19)),\"\")","v":20155},{"$f":"IFERROR(IF($C18=\"TOTAL\",SUM($K$8:K17),IF(OR(C18=$AS$16,C18=$AS$17,C18=$AS$18,C18=$AS$19,C18=$AS$20,C18=$AS$21,C18=$AS$22,C18=$AS$23,C18=$AS$24),0,IF(BI19=\"\",\"\",BI19))),\"\")","v":7904},{"$f":"IFERROR(IF($C18=\"TOTAL\",SUM($L$8:L17),IF(BG19=\"\",\"\",BG19)),\"\")","v":19760},146619,{"$f":"IFERROR(IF(C18=\"\",\"\",IF(D18=\"\",\"\",IF(I18=\"\",\"\",IF($C18=\"TOTAL\",SUM($N$8:N17),SUM(D18-I18))))),\"\")","v":5400},{"$f":"IFERROR(IF(C18=\"\",\"\",IF(E18=\"\",\"\",IF(J18=\"\",\"\",IF($C18=\"TOTAL\",SUM($O$8:O17),SUM(E18-J18))))),\"\")","v":1102},{"$f":"IFERROR(IF(C18=\"\",\"\",IF(F18=\"\",\"\",IF(K18=\"\",\"\",IF($C18=\"TOTAL\",SUM($P$8:P17),SUM(F18-K18))))),\"\")","v":432},1080,8014,{"$f":"IFERROR(IF(C18=\"\",\"\",IF($C18=\"TOTAL\",SUM($S$8:S17),IF(AND(C18>$AR$1,$AI$3=$AR$2),BW19,IF($AU$18=$AU$20,SUM(BJ19+BR19),ROUND((D18+E18)*10%,0))))),\"\")","v":12546},{"$f":"IFERROR(IF(C18=\"\",\"\",IF(I18=\"\",\"\",IF(J18=\"\",\"\",IF($C18=\"TOTAL\",SUM($T$8:T17),IF(AND(C18>$AR$1,$AI$3=$AR$2),BW19,IF($AU$18=$AU$20,$AU$21,ROUND((I18+J18)*10%,0))))))),\"\")","v":11896},650,{"$f":"IFERROR(IF(C18=\"\",\"\",IF($AU$16=$AU$17,0,IF($C18=\"TOTAL\",SUM($V$8:V17),IF($AU$19=$AU$31,0,IF(AND($AU$32=$AU$20,C18=$AU$33),$AU$34,V17))))),\"\")","v":2100},{"$f":"IFERROR(IF(C18=\"\",\"\",IF($AU$16=$AU$17,0,IF($C18=\"TOTAL\",SUM($W$8:W17),IF($AU$19=$AU$20,$AU$24,0)))),\"\")","v":2100},0,{"$f":"IFERROR(IF(C18=\"\",\"\",IF($AU$16=$AU$17,0,IF($C18=\"TOTAL\",SUM($Y$8:Y17),BZ18))),\"\")","v":""},{"$f":"IFERROR(IF(C18=\"\",\"\",IF($AU$16=$AU$17,0,IF($C18=\"TOTAL\",SUM($Z$8:Z17),BY18))),\"\")","v":""},"",{"$f":"IFERROR(IF(C18=\"\",\"\",IF(D18=\"\",\"\",IF($C18=\"TOTAL\",SUM($AB$8:AB17),IF(C18=$AU$1,ROUND(D18*5/31,0.01),\"\")))),\"\")","v":""},{"$f":"IFERROR(IF(C18=\"\",\"\",IF(I18=\"\",\"\",IF($C18=\"TOTAL\",SUM($AC$8:AC17),IF(C18=$AU$1,ROUND(I18*5/31,0.01),\"\")))),\"\")","v":""},"",{"$f":"IFERROR(IF(C18=\"\",\"\",IF(AND(BP19=\"\",BW19=\"\"),\"\",IF($C18=\"TOTAL\",SUM($AE$8:AE17),BP19))),\"\")","v":""},{"$f":"IFERROR(IF(C18=\"\",\"\",IF($C18=\"TOTAL\",SUM($AF$8:AF17),ROUND(R18*$AU$7%,0))),\"\")","v":0},650,{"$f":"IFERROR(IF(C18=\"\",\"\",IF($C18=\"TOTAL\",SUM($AH$8:AH17),SUM(R18-AG18))),\"\")","v":7364},{"$nulls":8},17,17,"2017-03-01","2017-10-01",{"$f":"'Master Sheet'!D19","v":"NO"},"2020-01-01","2020-01-01","","2020-01-01","2020-01-01",104200,20840,21257,8336,null,98800,19760,20155,7904,3675,null,null,8014,3675,"","",0,0,{"$nulls":4},"",null,"",{"$f":"IF(AZ19=\"\",\"\",IF(AZ19=\"TOTAL\",\"\",IF($AU$16=$AU$17,0,IF(AND(AZ19>$BY$1,$AI$3=$AR$2,'Master Sheet'!$D$27>0),'Master Sheet'!$D$27,IF(AND(AZ19=$BY$1),IF($AU$9<18001,135,IF($AU$9<33501,220,IF($AU$9<54001,330,440))),IF(AND(AZ19>$BY$1),IF($AU$9<18001,265,IF($AU$9<33501,440,IF($AU$9<54001,658,875))),\"\"))))))","v":""}]
[12,12,"2020-03-01",{"$f":"IFERROR(IF($C18=\"TOTAL\",\"अक्षरें राशि :-\",IF($C19=\"TOTAL\",SUM($D$8:D18),IF(BA20=\"\",\"\",BA20))),\"\")","v":104200},{"$f":"IFERROR(IF($C19=\"TOTAL\",SUM($E$8:E18),IF(BC20=\"\",\"\",BC20)),\"\")","v":21257},{"$f":"IFERROR(IF($C19=\"TOTAL\",SUM($F$8:F18),IF(OR(C19=$AS$16,C19=$AS$17,C19=$AS$18,C19=$AS$19,C19=$AS$20,C19=$AS$21,C19=$AS$22,C19=$AS$23,C19=$AS$24),0,IF(BD20=\"\",\"\",BD20))),\"\")","v":8336},{"$f":"IFERROR(IF($C19=\"TOTAL\",SUM($G$8:G18),IF(BB20=\"\",\"\",BB20)),\"\")","v":20840},154633,{"$f":"IFERROR(IF($C19=\"TOTAL\",SUM($I$8:I18),IF(BF20=\"\",\"\",BF20)),\"\")","v":98800},{"$f":"IFERROR(IF($C19=\"TOTAL\",SUM($J$8:J18),IF(BH20=\"\",\"\",BH20)),\"\")","v":20155},{"$f":"IFERROR(IF($C19=\"TOTAL\",SUM($K$8:K18),IF(OR(C19=$AS$16,C19=$AS$17,C19=$AS$18,C19=$AS$19,C19=$AS$20,C19=$AS$21,C19=$AS$22,C19=$AS$23,C19=$AS$24),0,IF(BI20=\"\",\"\",BI20))),\"\")","v":7904},{"$f":"IFERROR(IF($C19=\"TOTAL\",SUM($L$8:L18),IF(BG20=\"\",\"\",BG20)),\"\")","v":19760},146619,{"$f":"IFERROR(IF(C19=\"\",\"\",IF(D19=\"\",\"\",IF(I19=\"\",\"\",IF($C19=\"TOTAL\",SUM($N$8:N18),SUM(D19-I19))))),\"\")","v":5400},{"$f":"IFERROR(IF(C19=\"\",\"\",IF(E19=\"\",\"\",IF(J19=\"\",\"\",IF($C19=\"TOTAL\",SUM($O$8:O18),SUM(E19-J19))))),\"\")","v":1102},{"$f":"IFERROR(IF(C19=\"\",\"\",IF(F19=\"\",\"\",IF(K19=\"\",\"\",IF($C19=\"TOTAL\",SUM($P$8:P18),SUM(F19-K19))))),\"\")","v":432},1080,8014,{"$f":"IFERROR(IF(C19=\"\",\"\",IF($C19=\"TOTAL\",SUM($S$8:S18),IF(AND(C19>$AR$1,$AI$3=$AR$2),BW20,IF($AU$18=$AU$20,SUM(BJ20+BR20),ROUND((D19+E19)*10%,0))))),\"\")","v":12546},{"$f":"IFERROR(IF(C19=\"\",\"\",IF(I19=\"\",\"\",IF(J19=\"\",\"\",IF($C19=\"TOTAL\",SUM($T$8:T18),IF(AND(C19>$AR$1,$AI$3=$AR$2),BW20,IF($AU$18=$AU$20,$AU$21,ROUND((I19+J19)*10%,0))))))),\"\")","v":11896},650,{"$f":"IFERROR(IF(C19=\"\",\"\",IF($AU$16=$AU$17,0,IF($C19=\"TOTAL\",SUM($V$8:V18),IF($AU$19=$AU$31,0,IF(AND($AU$32=$AU$20,C19=$AU$33),$AU$34,V18))))),\"\")","v":2100},{"$f":"IFERROR(IF(C19=\"\",\"\",IF($AU$16=$AU$17,0,IF($C19=\"TOTAL\",SUM($W$8:W18),IF($AU$19=$AU$20,$AU$24,0)))),\"\")","v":2100},0,{"$f":"IFERROR(IF(C19=\"\",\"\",IF($AU$16=$AU$17,0,IF($C19=\"TOTAL\",SUM($Y$8:Y18),BZ19))),\"\")","v":""},{"$f":"IFERROR(IF(C19=\"\",\"\",IF($AU$16=$AU$17,0,IF($C19=\"TOTAL\",SUM($Z$8:Z18),BY19))),\"\")","v":""},"",{"$f":"IFERROR(IF(C19=\"\",\"\",IF(D19=\"\",\"\",IF($C19=\"TOTAL\",SUM($AB$8:AB18),IF(C19=$AU$1,ROUND(D19*5/31,0.01),\"\")))),\"\")","v":16806},{"$f":"IFERROR(IF(C19=\"\",\"\",IF(I19=\"\",\"\",IF($C19=\"TOTAL\",SUM($AC$8:AC18),IF(C19=$AU$1,ROUND(I19*5/31,0.01),\"\")))),\"\")","v":15935},871,{"$f":"IFERROR(IF(C19=\"\",\"\",IF(AND(BP20=\"\",BW20=\"\"),\"\",IF($C19=\"TOTAL\",SUM($AE$8:AE18),BP20))),\"\")","v":""},{"$f":"IFERROR(IF(C19=\"\",\"\",IF($C19=\"TOTAL\",SUM($AF$8:AF18),ROUND(R19*$AU$7%,0))),\"\")","v":0},1521,{"$f":"IFERROR(IF(C19=\"\",\"\",IF($C19=\"TOTAL\",SUM($AH$8:AH18),SUM(R19-AG19))),\"\")","v":6493},{"$nulls":8},17,17,"2017-04-01","2017-11-01",{"$f":"'Master Sheet'!D15","v":"YES"},"2020-02-01","2020-02-01","","2020-02-01","2020-02-01",104200,20840,21257,8336,null,98800,19760,20155,7904,3675,null,null,8014,3675,"","",0,0,{"$nulls":4},"",null,"",{"$f":"IF(AZ20=\"\",\"\",IF(AZ20=\"TOTAL\",\"\",IF($AU$16=$AU$17,0,IF(AND(AZ20>$BY$1,$AI$3=$AR$2,'Master Sheet'!$D$27>0),'Master Sheet'!$D$27,IF(AND(AZ20=$BY$1),IF($AU$9<18001,135,IF($AU$9<33501,220,IF($AU$9<54001,330,440))),IF(AND(AZ20>$BY$1),IF($AU$9<18001,265,IF($AU$9<33501,440,IF($AU$9<54001,658,875))),\"\"))))))","v":""}]
[13,13,"2020-04-01",{"$f":"IFERROR(IF($C19=\"TOTAL\",\"अक्षरें राशि :-\",IF($C20=\"TOTAL\",SUM($D$8:D19),IF(BA21=\"\",\"\",BA21))),\"\")","v":104200},{"$f":"IFERROR(IF($C20=\"TOTAL\",SUM($E$8:E19),IF(BC21=\"\",\"\",BC21)),\"\")","v":21257},{"$f":"IFERROR(IF($C20=\"TOTAL\",SUM($F$8:F19),IF(OR(C20=$AS$16,C20=$AS$17,C20=$AS$18,C20=$AS$19,C20=$AS$20,C20=$AS$21,C20=$AS$22,C20=$AS$23,C20=$AS$24),0,IF(BD21=\"\",\"\",BD21))),\"\")","v":8336},{"$f":"IFERROR(IF($C20=\"TOTAL\",SUM($G$8:G19),IF(BB21=\"\",\"\",BB21)),\"\")","v":20840},154633,{"$f":"IFERROR(IF($C20=\"TOTAL\",SUM($I$8:I19),IF(BF21=\"\",\"\",BF21)),\"\")","v":98800},{"$f":"IFERROR(IF($C20=\"TOTAL\",SUM($J$8:J19),IF(BH21=\"\",\"\",BH21)),\"\")","v":20155},{"$f":"IFERROR(IF($C20=\"TOTAL\",SUM($K$8:K19),IF(OR(C20=$AS$16,C20=$AS$17,C20=$AS$18,C20=$AS$19,C20=$AS$20,C20=$AS$21,C20=$AS$22,C20=$AS$23,C20=$AS$24),0,IF(BI21=\"\",\"\",BI21))),\"\")","v":7904},{"$f":"IFERROR(IF($C20=\"TOTAL\",SUM($L$8:L19),IF(BG21=\"\",\"\",BG21)),\"\")","v":19760},146619,{"$f":"IFERROR(IF(C20=\"\",\"\",IF(D20=\"\",\"\",IF(I20=\"\",\"\",IF($C20=\"TOTAL\",SUM($N$8:N19),SUM(D20-I20))))),\"\")","v":5400},{"$f":"IFERROR(IF(C20=\"\",\"\",IF(E20=\"\",\"\",IF(J20=\"\",\"\",IF($C20=\"TOTAL\",SUM($O$8:O19),SUM(E20-J20))))),\"\")","v":1102},{"$f":"IFERROR(IF(C20=\"\",\"\",IF(F20=\"\",\"\",IF(K20=\"\",\"\",IF($C20=\"TOTAL\",SUM($P$8:P19),SUM(F20-K20))))),\"\")","v":432},1080,8014,{"$f":"IFERROR(IF(C20=\"\",\"\",IF($C20=\"TOTAL\",SUM($S$8:S19),IF(AND(C20>$AR$1,$AI$3=$AR$2),BW21,IF($AU$18=$AU$20,SUM(BJ21+BR21),ROUND((D20+E20)*10%,0))))),\"\")","v":12546},{"$f":"IFERROR(IF(C20=\"\",\"\",IF(I20=\"\",\"\",IF(J20=\"\",\"\",IF($C20=\"TOTAL\",SUM($T$8:T19),IF(AND(C20>$AR$1,$AI$3=$AR$2),BW21,IF($AU$18=$AU$20,$AU$21,ROUND((I20+J20)*10%,0))))))),\"\")","v":11896},650,{"$f":"IFERROR(IF(C20=\"\",\"\",IF($AU$16=$AU$17,0,IF($C20=\"TOTAL\",SUM($V$8:V19),IF($AU$19=$AU$31,0,IF(AND($AU$32=$AU$20,C20=$AU$33),$AU$34,V19))))),\"\")","v":2100},{"$f":"IFERROR(IF(C20=\"\",\"\",IF($AU$16=$AU$17,0,IF($C20=\"TOTAL\",SUM($W$8:W19),IF($AU$19=$AU$20,$AU$24,0)))),\"\")","v":2100},0,{"$f":"IFERROR(IF(C20=\"\",\"\",IF($AU$16=$AU$17,0,IF($C20=\"TOTAL\",SUM($Y$8:Y19),BZ20))),\"\")","v":""},{"$f":"IFERROR(IF(C20=\"\",\"\",IF($AU$16=$AU$17,0,IF($C20=\"TOTAL\",SUM($Z$8:Z19),BY20))),\"\")","v":""},"",{"$f":"IFERROR(IF(C20=\"\",\"\",IF(D20=\"\",\"\",IF($C20=\"TOTAL\",SUM($AB$8:AB19),IF(C20=$AU$1,ROUND(D20*5/31,0.01),\"\")))),\"\")","v":""},{"$f":"IFERROR(IF(C20=\"\",\"\",IF(I20=\"\",\"\",IF($C20=\"TOTAL\",SUM($AC$8:AC19),IF(C20=$AU$1,ROUND(I20*5/31,0.01),\"\")))),\"\")","v":""},"",{"$f":"IFERROR(IF(C20=\"\",\"\",IF(AND(BP21=\"\",BW21=\"\"),\"\",IF($C20=\"TOTAL\",SUM($AE$8:AE19),BP21))),\"\")","v":""},{"$f":"IFERROR(IF(C20=\"\",\"\",IF($C20=\"TOTAL\",SUM($AF$8:AF19),ROUND(R20*$AU$7%,0))),\"\")","v":0},650,{"$f":"IFERROR(IF(C20=\"\",\"\",IF($C20=\"TOTAL\",SUM($AH$8:AH19),SUM(R20-AG20))),\"\")","v":7364},{"$nulls":8},17,17,"2017-05-01","2017-12-01","YES",{"$f":"IF(AND($AU$6>$AV$6),\"\",DATE(YEAR(AV19),MONTH(AV19)+1,DAY(AV19)))","v":"2020-03-01"},"2020-03-01","","2020-03-01","2020-03-01",104200,20840,21257,8336,null,98800,19760,20155,7904,3675,null,null,8014,3675,"","",0,0,{"$nulls":4},"",null,"",{"$f":"IF(AZ21=\"\",\"\",IF(AZ21=\"TOTAL\",\"\",IF($AU$16=$AU$17,0,IF(AND(AZ21>$BY$1,$AI$3=$AR$2,'Master Sheet'!$D$27>0),'Master Sheet'!$D$27,IF(AND(AZ21=$BY$1),IF($AU$9<18001,135,IF($AU$9<33501,220,IF($AU$9<54001,330,440))),IF(AND(AZ21>$BY$1),IF($AU$9<18001,265,IF($AU$9<33501,440,IF($AU$9<54001,658,875))),\"\"))))))","v":""}]
[14,14,"2020-05-01",{"$f":"IFERROR(IF($C20=\"TOTAL\",\"अक्षरें राशि :-\",IF($C21=\"TOTAL\",SUM($D$8:D20),IF(BA22=\"\",\"\",BA22))),\"\")","v":104200},{"$f":"IFERROR(IF($C21=\"TOTAL\",SUM($E$8:E20),IF(BC22=\"\",\"\",BC22)),\"\")","v":21257},{"$f":"IFERROR(IF($C21=\"TOTAL\",SUM($F$8:F20),IF(OR(C21=$AS$16,C21=$AS$17,C21=$AS$18,C21=$AS$19,C21=$AS$20,C21=$AS$21,C21=$AS$22,C21=$AS$23,C21=$AS$24),0,IF(BD22=\"\",\"\",BD22))),\"\")","v":8336},{"$f":"IFERROR(IF($C21=\"TOTAL\",SUM($G$8:G20),IF(BB22=\"\",\"\",BB22)),\"\")","v":20840},154633,{"$f":"IFERROR(IF($C21=\"TOTAL\",SUM($I$8:I20),IF(BF22=\"\",\"\",BF22)),\"\")","v":98800},{"$f":"IFERROR(IF($C21=\"TOTAL\",SUM($J$8:J20),IF(BH22=\"\",\"\",BH22)),\"\")","v":20155},{"$f":"IFERROR(IF($C21=\"TOTAL\",SUM($K$8:K20),IF(OR(C21=$AS$16,C21=$AS$17,C21=$AS$18,C21=$AS$19,C21=$AS$20,C21=$AS$21,C21=$AS$22,C21=$AS$23,C21=$AS$24),0,IF(BI22=\"\",\"\",BI22))),\"\")","v":7904},{"$f":"IFERROR(IF($C21=\"TOTAL\",SUM($L$8:L20),IF(BG22=\"\",\"\",BG22)),\"\")","v":19760},146619,{"$f":"IFERROR(IF(C21=\"\",\"\",IF(D21=\"\",\"\",IF(I21=\"\",\"\",IF($C21=\"TOTAL\",SUM($N$8:N20),SUM(D21-I21))))),\"\")","v":5400},{"$f":"IFERROR(IF(C21=\"\",\"\",IF(E21=\"\",\"\",IF(J21=\"\",\"\",IF($C21=\"TOTAL\",SUM($O$8:O20),SUM(E21-J21))))),\"\")","v":1102},{"$f":"IFERROR(IF(C21=\"\",\"\",IF(F21=\"\",\"\",IF(K21=\"\",\"\",IF($C21=\"TOTAL\",SUM($P$8:P20),SUM(F21-K21))))),\"\")","v":432},1080,8014,{"$f":"IFERROR(IF(C21=\"\",\"\",IF($C21=\"TOTAL\",SUM($S$8:S20),IF(AND(C21>$AR$1,$AI$3=$AR$2),BW22,IF($AU$18=$AU$20,SUM(BJ22+BR22),ROUND((D21+E21)*10%,0))))),\"\")","v":12546},{"$f":"IFERROR(IF(C21=\"\",\"\",IF(I21=\"\",\"\",IF(J21=\"\",\"\",IF($C21=\"TOTAL\",SUM($T$8:T20),IF(AND(C21>$AR$1,$AI$3=$AR$2),BW22,IF($AU$18=$AU$20,$AU$21,ROUND((I21+J21)*10%,0))))))),\"\")","v":11896},650,{"$f":"IFERROR(IF(C21=\"\",\"\",IF($AU$16=$AU$17,0,IF($C21=\"TOTAL\",SUM($V$8:V20),IF($AU$19=$AU$31,0,IF(AND($AU$32=$AU$20,C21=$AU$33),$AU$34,V20))))),\"\")","v":2100},{"$f":"IFERROR(IF(C21=\"\",\"\",IF($AU$16=$AU$17,0,IF($C21=\"TOTAL\",SUM($W$8:W20),IF($AU$19=$AU$20,$AU$24,0)))),\"\")","v":2100},0,{"$f":"IFERROR(IF(C21=\"\",\"\",IF($AU$16=$AU$17,0,IF($C21=\"TOTAL\",SUM($Y$8:Y20),BZ21))),\"\")","v":""},{"$f":"IFERROR(IF(C21=\"\",\"\",IF($AU$16=$AU$17,0,IF($C21=\"TOTAL\",SUM($Z$8:Z20),BY21))),\"\")","v":""},"",{"$f":"IFERROR(IF(C21=\"\",\"\",IF(D21=\"\",\"\",IF($C21=\"TOTAL\",SUM($AB$8:AB20),IF(C21=$AU$1,ROUND(D21*5/31,0.01),\"\")))),\"\")","v":""},{"$f":"IFERROR(IF(C21=\"\",\"\",IF(I21=\"\",\"\",IF($C21=\"TOTAL\",SUM($AC$8:AC20),IF(C21=$AU$1,ROUND(I21*5/31,0.01),\"\")))),\"\")","v":""},"",{"$f":"IFERROR(IF(C21=\"\",\"\",IF(AND(BP22=\"\",BW22=\"\"),\"\",IF($C21=\"TOTAL\",SUM($AE$8:AE20),BP22))),\"\")","v":""},{"$f":"IFERROR(IF(C21=\"\",\"\",IF($C21=\"TOTAL\",SUM($AF$8:AF20),ROUND(R21*$AU$7%,0))),\"\")","v":0},650,{"$f":"IFERROR(IF(C21=\"\",\"\",IF($C21=\"TOTAL\",SUM($AH$8:AH20),SUM(R21-AG21))),\"\")","v":7364},{"$nulls":8},17,17,"2017-06-01","2018-01-01",{"$f":"'Master Sheet'!I19","v":3675},"2020-04-01","2020-04-01","","2020-04-01","2020-04-01",104200,20840,21257,8336,null,98800,19760,20155,7904,3675,null,null,8014,3675,"","",0,0,{"$nulls":4},"",null,"",{"$f":"IF(AZ22=\"\",\"\",IF(AZ22=\"TOTAL\",\"\",IF($AU$16=$AU$17,0,IF(AND(AZ22>$BY$1,$AI$3=$AR$2,'Master Sheet'!$D$27>0),'Master Sheet'!$D$27,IF(AND(AZ22=$BY$1),IF($AU$9<18001,135,IF($AU$9<33501,220,IF($AU$9<54001,330,440))),IF(AND(AZ22>$BY$1),IF($AU$9<18001,265,IF($AU$9<33501,440,IF($AU$9<54001,658,875))),\"\"))))))","v":""}]
[15,15,"2020-06-01",{"$f":"IFERROR(IF($C21=\"TOTAL\",\"अक्षरें राशि :-\",IF($C22=\"TOTAL\",SUM($D$8:D21),IF(BA23=\"\",\"\",BA23))),\"\")","v":104200},{"$f":"IFERROR(IF($C22=\"TOTAL\",SUM($E$8:E21),IF(BC23=\"\",\"\",BC23)),\"\")","v":21257},{"$f":"IFERROR(IF($C22=\"TOTAL\",SUM($F$8:F21),IF(OR(C22=$AS$16,C22=$AS$17,C22=$AS$18,C22=$AS$19,C22=$AS$20,C22=$AS$21,C22=$AS$22,C22=$AS$23,C22=$AS$24),0,IF(BD23=\"\",\"\",BD23))),\"\")","v":8336},{"$f":"IFERROR(IF($C22=\"TOTAL\",SUM($G$8:G21),IF(BB23=\"\",\"\",BB23)),\"\")","v":20840},154633,{"$f":"IFERROR(IF($C22=\"TOTAL\",SUM($I$8:I21),IF(BF23=\"\",\"\",BF23)),\"\")","v":98800},{"$f":"IFERROR(IF($C22=\"TOTAL\",SUM($J$8:J21),IF(BH23=\"\",\"\",BH23)),\"\")","v":20155},{"$f":"IFERROR(IF($C22=\"TOTAL\",SUM($K$8:K21),IF(OR(C22=$AS$16,C22=$AS$17,C22=$AS$18,C22=$AS$19,C22=$AS$20,C22=$AS$21,C22=$AS$22,C22=$AS$23,C22=$AS$24),0,IF(BI23=\"\",\"\",BI23))),\"\")","v":7904},{"$f":"IFERROR(IF($C22=\"TOTAL\",SUM($L$8:L21),IF(BG23=\"\",\"\",BG23)),\"\")","v":19760},146619,{"$f":"IFERROR(IF(C22=\"\",\"\",IF(D22=\"\",\"\",IF(I22=\"\",\"\",IF($C22=\"TOTAL\",SUM($N$8:N21),SUM(D22-I22))))),\"\")","v":5400},{"$f":"IFERROR(IF(C22=\"\",\"\",IF(E22=\"\",\"\",IF(J22=\"\",\"\",IF($C22=\"TOTAL\",SUM($O$8:O21),SUM(E22-J22))))),\"\")","v":1102},{"$f":"IFERROR(IF(C22=\"\",\"\",IF(F22=\"\",\"\",IF(K22=\"\",\"\",IF($C22=\"TOTAL\",SUM($P$8:P21),SUM(F22-K22))))),\"\")","v":432},1080,8014,{"$f":"IFERROR(IF(C22=\"\",\"\",IF($C22=\"TOTAL\",SUM($S$8:S21),IF(AND(C22>$AR$1,$AI$3=$AR$2),BW23,IF($AU$18=$AU$20,SUM(BJ23+BR23),ROUND((D22+E22)*10%,0))))),\"\")","v":12546},{"$f":"IFERROR(IF(C22=\"\",\"\",IF(I22=\"\",\"\",IF(J22=\"\",\"\",IF($C22=\"TOTAL\",SUM($T$8:T21),IF(AND(C22>$AR$1,$AI$3=$AR$2),BW23,IF($AU$18=$AU$20,$AU$21,ROUND((I22+J22)*10%,0))))))),\"\")","v":11896},650,{"$f":"IFERROR(IF(C22=\"\",\"\",IF($AU$16=$AU$17,0,IF($C22=\"TOTAL\",SUM($V$8:V21),IF($AU$19=$AU$31,0,IF(AND($AU$32=$AU$20,C22=$AU$33),$AU$34,V21))))),\"\")","v":2100},{"$f":"IFERROR(IF(C22=\"\",\"\",IF($AU$16=$AU$17,0,IF($C22=\"TOTAL\",SUM($W$8:W21),IF($AU$19=$AU$20,$AU$24,0)))),\"\")","v":2100},0,{"$f":"IFERROR(IF(C22=\"\",\"\",IF($AU$16=$AU$17,0,IF($C22=\"TOTAL\",SUM($Y$8:Y21),BZ22))),\"\")","v":""},{"$f":"IFERROR(IF(C22=\"\",\"\",IF($AU$16=$AU$17,0,IF($C22=\"TOTAL\",SUM($Z$8:Z21),BY22))),\"\")","v":""},"",{"$f":"IFERROR(IF(C22=\"\",\"\",IF(D22=\"\",\"\",IF($C22=\"TOTAL\",SUM($AB$8:AB21),IF(C22=$AU$1,ROUND(D22*5/31,0.01),\"\")))),\"\")","v":""},{"$f":"IFERROR(IF(C22=\"\",\"\",IF(I22=\"\",\"\",IF($C22=\"TOTAL\",SUM($AC$8:AC21),IF(C22=$AU$1,ROUND(I22*5/31,0.01),\"\")))),\"\")","v":""},"",{"$f":"IFERROR(IF(C22=\"\",\"\",IF(AND(BP23=\"\",BW23=\"\"),\"\",IF($C22=\"TOTAL\",SUM($AE$8:AE21),BP23))),\"\")","v":""},{"$f":"IFERROR(IF(C22=\"\",\"\",IF($C22=\"TOTAL\",SUM($AF$8:AF21),ROUND(R22*$AU$7%,0))),\"\")","v":0},650,{"$f":"IFERROR(IF(C22=\"\",\"\",IF($C22=\"TOTAL\",SUM($AH$8:AH21),SUM(R22-AG22))),\"\")","v":7364},{"$nulls":8},17,17,"2017-07-01","2018-02-01",{"$f":"'Master Sheet'!M19","v":3675},"2020-05-01","2020-05-01","","2020-05-01","2020-05-01",104200,20840,21257,8336,null,98800,19760,20155,7904,3675,null,null,8014,3675,"","",0,0,{"$nulls":4},"",null,"",{"$f":"IF(AZ23=\"\",\"\",IF(AZ23=\"TOTAL\",\"\",IF($AU$16=$AU$17,0,IF(AND(AZ23>$BY$1,$AI$3=$AR$2,'Master Sheet'!$D$27>0),'Master Sheet'!$D$27,IF(AND(AZ23=$BY$1),IF($AU$9<18001,135,IF($AU$9<33501,220,IF($AU$9<54001,330,440))),IF(AND(AZ23>$BY$1),IF($AU$9<18001,265,IF($AU$9<33501,440,IF($AU$9<54001,658,875))),\"\"))))))","v":""}]
[16,16,"2020-07-01",{"$f":"IFERROR(IF($C22=\"TOTAL\",\"अक्षरें राशि :-\",IF($C23=\"TOTAL\",SUM($D$8:D22),IF(BA24=\"\",\"\",BA24))),\"\")","v":107300},{"$f":"IFERROR(IF($C23=\"TOTAL\",SUM($E$8:E22),IF(BC24=\"\",\"\",BC24)),\"\")","v":21889},{"$f":"IFERROR(IF($C23=\"TOTAL\",SUM($F$8:F22),IF(OR(C23=$AS$16,C23=$AS$17,C23=$AS$18,C23=$AS$19,C23=$AS$20,C23=$AS$21,C23=$AS$22,C23=$AS$23,C23=$AS$24),0,IF(BD24=\"\",\"\",BD24))),\"\")","v":8584},{"$f":"IFERROR(IF($C23=\"TOTAL\",SUM($G$8:G22),IF(BB24=\"\",\"\",BB24)),\"\")","v":21460},159233,{"$f":"IFERROR(IF($C23=\"TOTAL\",SUM($I$8:I22),IF(BF24=\"\",\"\",BF24)),\"\")","v":101800},{"$f":"IFERROR(IF($C23=\"TOTAL\",SUM($J$8:J22),IF(BH24=\"\",\"\",BH24)),\"\")","v":20767},{"$f":"IFERROR(IF($C23=\"TOTAL\",SUM($K$8:K22),IF(OR(C23=$AS$16,C23=$AS$17,C23=$AS$18,C23=$AS$19,C23=$AS$20,C23=$AS$21,C23=$AS$22,C23=$AS$23,C23=$AS$24),0,IF(BI24=\"\",\"\",BI24))),\"\")","v":8144},{"$f":"IFERROR(IF($C23=\"TOTAL\",SUM($L$8:L22),IF(BG24=\"\",\"\",BG24)),\"\")","v":20360},151071,{"$f":"IFERROR(IF(C23=\"\",\"\",IF(D23=\"\",\"\",IF(I23=\"\",\"\",IF($C23=\"TOTAL\",SUM($N$8:N22),SUM(D23-I23))))),\"\")","v":5500},{"$f":"IFERROR(IF(C23=\"\",\"\",IF(E23=\"\",\"\",IF(J23=\"\",\"\",IF($C23=\"TOTAL\",SUM($O$8:O22),SUM(E23-J23))))),\"\")","v":1122},{"$f":"IFERROR(IF(C23=\"\",\"\",IF(F23=\"\",\"\",IF(K23=\"\",\"\",IF($C23=\"TOTAL\",SUM($P$8:P22),SUM(F23-K23))))),\"\")","v":440},1100,8162,{"$f":"IFERROR(IF(C23=\"\",\"\",IF($C23=\"TOTAL\",SUM($S$8:S22),IF(AND(C23>$AR$1,$AI$3=$AR$2),BW24,IF($AU$18=$AU$20,SUM(BJ24+BR24),ROUND((D23+E23)*10%,0))))),\"\")","v":12919},{"$f":"IFERROR(IF(C23=\"\",\"\",IF(I23=\"\",\"\",IF(J23=\"\",\"\",IF($C23=\"TOTAL\",SUM($T$8:T22),IF(AND(C23>$AR$1,$AI$3=$AR$2),BW24,IF($AU$18=$AU$20,$AU$21,ROUND((I23+J23)*10%,0))))))),\"\")","v":12257},662,{"$f":"IFERROR(IF(C23=\"\",\"\",IF($AU$16=$AU$17,0,IF($C23=\"TOTAL\",SUM($V$8:V22),IF($AU$19=$AU$31,0,IF(AND($AU$32=$AU$20,C23=$AU$33),$AU$34,V22))))),\"\")","v":2100},{"$f":"IFERROR(IF(C23=\"\",\"\",IF($AU$16=$AU$17,0,IF($C23=\"TOTAL\",SUM($W$8:W22),IF($AU$19=$AU$20,$AU$24,0)))),\"\")","v":2100},0,{"$f":"IFERROR(IF(C23=\"\",\"\",IF($AU$16=$AU$17,0,IF($C23=\"TOTAL\",SUM($Y$8:Y22),BZ23))),\"\")","v":""},{"$f":"IFERROR(IF(C23=\"\",\"\",IF($AU$16=$AU$17,0,IF($C23=\"TOTAL\",SUM($Z$8:Z22),BY23))),\"\")","v":""},"",{"$f":"IFERROR(IF(C23=\"\",\"\",IF(D23=\"\",\"\",IF($C23=\"TOTAL\",SUM($AB$8:AB22),IF(C23=$AU$1,ROUND(D23*5/31,0.01),\"\")))),\"\")","v":""},{"$f":"IFERROR(IF(C23=\"\",\"\",IF(I23=\"\",\"\",IF($C23=\"TOTAL\",SUM($AC$8:AC22),IF(C23=$AU$1,ROUND(I23*5/31,0.01),\"\")))),\"\")","v":""},"",{"$f":"IFERROR(IF(C23=\"\",\"\",IF(AND(BP24=\"\",BW24=\"\"),\"\",IF($C23=\"TOTAL\",SUM($AE$8:AE22),BP24))),\"\")","v":""},{"$f":"IFERROR(IF(C23=\"\",\"\",IF($C23=\"TOTAL\",SUM($AF$8:AF22),ROUND(R23*$AU$7%,0))),\"\")","v":0},662,{"$f":"IFERROR(IF(C23=\"\",\"\",IF($C23=\"TOTAL\",SUM($AH$8:AH22),SUM(R23-AG23))),\"\")","v":7500},{"$nulls":8},17,17,"2017-08-01","2018-03-01",null,"2020-06-01","2020-06-01","","2020-06-01","2020-06-01",104200,20840,21257,8336,null,98800,19760,20155,7904,3675,null,null,8014,3675,"","",0,0,{"$nulls":4},"",null,"",{"$f":"IF(AZ24=\"\",\"\",IF(AZ24=\"TOTAL\",\"\",IF($AU$16=$AU$17,0,IF(AND(AZ24>$BY$1,$AI$3=$AR$2,'Master Sheet'!$D$27>0),'Master Sheet'!$D$27,IF(AND(AZ24=$BY$1),IF($AU$9<18001,135,IF($AU$9<33501,220,IF($AU$9<54001,330,440))),IF(AND(AZ24>$BY$1),IF($AU$9<18001,265,IF($AU$9<33501,440,IF($AU$9<54001,658,875))),\"\"))))))","v":""}]
[17,17,"2020-08-01",{"$f":"IFERROR(IF($C23=\"TOTAL\",\"अक्षरें राशि :-\",IF($C24=\"TOTAL\",SUM($D$8:D23),IF(BA25=\"\",\"\",BA25))),\"\")","v":107300},{"$f":"IFERROR(IF($C24=\"TOTAL\",SUM($E$8:E23),IF(BC25=\"\",\"\",BC25)),\"\")","v":21889},{"$f":"IFERROR(IF($C24=\"TOTAL\",SUM($F$8:F23),IF(OR(C24=$AS$16,C24=$AS$17,C24=$AS$18,C24=$AS$19,C24=$AS$20,C24=$AS$21,C24=$AS$22,C24=$AS$23,C24=$AS$24),0,IF(BD25=\"\",\"\",BD25))),\"\")","v":8584},{"$f":"IFERROR(IF($C24=\"TOTAL\",SUM($G$8:G23),IF(BB25=\"\",\"\",BB25)),\"\")","v":21460},159233,{"$f":"IFERROR(IF($C24=\"TOTAL\",SUM($I$8:I23),IF(BF25=\"\",\"\",BF25)),\"\")","v":101800},{"$f":"IFERROR(IF($C24=\"TOTAL\",SUM($J$8:J23),IF(BH25=\"\",\"\",BH25)),\"\")","v":20767},{"$f":"IFERROR(IF($C24=\"TOTAL\",SUM($K$8:K23),IF(OR(C24=$AS$16,C24=$AS$17,C24=$AS$18,C24=$AS$19,C24=$AS$20,C24=$AS$21,C24=$AS$22,C24=$AS$23,C24=$AS$24),0,IF(BI25=\"\",\"\",BI25))),\"\")","v":8144},{"$f":"IFERROR(IF($C24=\"TOTAL\",SUM($L$8:L23),IF(BG25=\"\",\"\",BG25)),\"\")","v":20360},151071,{"$f":"IFERROR(IF(C24=\"\",\"\",IF(D24=\"\",\"\",IF(I24=\"\",\"\",IF($C24=\"TOTAL\",SUM($N$8:N23),SUM(D24-I24))))),\"\")","v":5500},{"$f":"IFERROR(IF(C24=\"\",\"\",IF(E24=\"\",\"\",IF(J24=\"\",\"\",IF($C24=\"TOTAL\",SUM($O$8:O23),SUM(E24-J24))))),\"\")","v":1122},{"$f":"IFERROR(IF(C24=\"\",\"\",IF(F24=\"\",\"\",IF(K24=\"\",\"\",IF($C24=\"TOTAL\",SUM($P$8:P23),SUM(F24-K24))))),\"\")","v":440},1100,8162,{"$f":"IFERROR(IF(C24=\"\",\"\",IF($C24=\"TOTAL\",SUM($S$8:S23),IF(AND(C24>$AR$1,$AI$3=$AR$2),BW25,IF($AU$18=$AU$20,SUM(BJ25+BR25),ROUND((D24+E24)*10%,0))))),\"\")","v":12919},{"$f":"IFERROR(IF(C24=\"\",\"\",IF(I24=\"\",\"\",IF(J24=\"\",\"\",IF($C24=\"TOTAL\",SUM($T$8:T23),IF(AND(C24>$AR$1,$AI$3=$AR$2),BW25,IF($AU$18=$AU$20,$AU$21,ROUND((I24+J24)*10%,0))))))),\"\")","v":12257},662,{"$f":"IFERROR(IF(C24=\"\",\"\",IF($AU$16=$AU$17,0,IF($C24=\"TOTAL\",SUM($V$8:V23),IF($AU$19=$AU$31,0,IF(AND($AU$32=$AU$20,C24=$AU$33),$AU$34,V23))))),\"\")","v":2100},{"$f":"IFERROR(IF(C24=\"\",\"\",IF($AU$16=$AU$17,0,IF($C24=\"TOTAL\",SUM($W$8:W23),IF($AU$19=$AU$20,$AU$24,0)))),\"\")","v":2100},0,{"$f":"IFERROR(IF(C24=\"\",\"\",IF($AU$16=$AU$17,0,IF($C24=\"TOTAL\",SUM($Y$8:Y23),BZ24))),\"\")","v":""},{"$f":"IFERROR(IF(C24=\"\",\"\",IF($AU$16=$AU$17,0,IF($C24=\"TOTAL\",SUM($Z$8:Z23),BY24))),\"\")","v":""},"",{"$f":"IFERROR(IF(C24=\"\",\"\",IF(D24=\"\",\"\",IF($C24=\"TOTAL\",SUM($AB$8:AB23),IF(C24=$AU$1,ROUND(D24*5/31,0.01),\"\")))),\"\")","v":""},{"$f":"IFERROR(IF(C24=\"\",\"\",IF(I24=\"\",\"\",IF($C24=\"TOTAL\",SUM($AC$8:AC23),IF(C24=$AU$1,ROUND(I24*5/31,0.01),\"\")))),\"\")","v":""},"",{"$f":"IFERROR(IF(C24=\"\",\"\",IF(AND(BP25=\"\",BW25=\"\"),\"\",IF($C24=\"TOTAL\",SUM($AE$8:AE23),BP25))),\"\")","v":""},{"$f":"IFERROR(IF(C24=\"\",\"\",IF($C24=\"TOTAL\",SUM($AF$8:AF23),ROUND(R24*$AU$7%,0))),\"\")","v":0},662,{"$f":"IFERROR(IF(C24=\"\",\"\",IF($C24=\"TOTAL\",SUM($AH$8:AH23),SUM(R24-AG24))),\"\")","v":7500},{"$nulls":8},17,17,"2017-09-01","2018-04-01",{"$f":"'Master Sheet'!I15","v":2100},"2020-07-01","2020-07-01","","2020-07-01","2020-07-01",107300,21460,21889,8584,null,101800,20360,20767,8144,3675,null,null,8162,3675,"","",0,0,{"$nulls":4},"",null,"",{"$f":"IF(AZ25=\"\",\"\",IF(AZ25=\"TOTAL\",\"\",IF($AU$16=$AU$17,0,IF(AND(AZ25>$BY$1,$AI$3=$AR$2,'Master Sheet'!$D$27>0),'Master Sheet'!$D$27,IF(AND(AZ25=$BY$1),IF($AU$9<18001,135,IF($AU$9<33501,220,IF($AU$9<54001,330,440))),IF(AND(AZ25>$BY$1),IF($AU$9<18001,265,IF($AU$9<33501,440,IF($AU$9<54001,658,875))),\"\"))))))","v":""}]
[{"$f":"IF(C25=\"TOTAL\",\"\",IF(B24=\"\",\"\",IF(LEN(C25)>=2,B24+1,0)))","v":18},18,"2020-09-01",{"$f":"IFERROR(IF($C24=\"TOTAL\",\"अक्षरें राशि :-\",IF($C25=\"TOTAL\",SUM($D$8:D24),IF(BA26=\"\",\"\",BA26))),\"\")","v":107300},{"$f":"IFERROR(IF($C25=\"TOTAL\",SUM($E$8:E24),IF(BC26=\"\",\"\",BC26)),\"\")","v":21889},{"$f":"IFERROR(IF($C25=\"TOTAL\",SUM($F$8:F24),IF(OR(C25=$AS$16,C25=$AS$17,C25=$AS$18,C25=$AS$19,C25=$AS$20,C25=$AS$21,C25=$AS$22,C25=$AS$23,C25=$AS$24),0,IF(BD26=\"\",\"\",BD26))),\"\")","v":8584},{"$f":"IFERROR(IF($C25=\"TOTAL\",SUM($G$8:G24),IF(BB26=\"\",\"\",BB26)),\"\")","v":21460},159233,{"$f":"IFERROR(IF($C25=\"TOTAL\",SUM($I$8:I24),IF(BF26=\"\",\"\",BF26)),\"\")","v":101800},{"$f":"IFERROR(IF($C25=\"TOTAL\",SUM($J$8:J24),IF(BH26=\"\",\"\",BH26)),\"\")","v":20767},{"$f":"IFERROR(IF($C25=\"TOTAL\",SUM($K$8:K24),IF(OR(C25=$AS$16,C25=$AS$17,C25=$AS$18,C25=$AS$19,C25=$AS$20,C25=$AS$21,C25=$AS$22,C25=$AS$23,C25=$AS$24),0,IF(BI26=\"\",\"\",BI26))),\"\")","v":8144},{"$f":"IFERROR(IF($C25=\"TOTAL\",SUM($L$8:L24),IF(BG26=\"\",\"\",BG26)),\"\")","v":20360},151071,{"$f":"IFERROR(IF(C25=\"\",\"\",IF(D25=\"\",\"\",IF(I25=\"\",\"\",IF($C25=\"TOTAL\",SUM($N$8:N24),SUM(D25-I25))))),\"\")","v":5500},{"$f":"IFERROR(IF(C25=\"\",\"\",IF(E25=\"\",\"\",IF(J25=\"\",\"\",IF($C25=\"TOTAL\",SUM($O$8:O24),SUM(E25-J25))))),\"\")","v":1122},{"$f":"IFERROR(IF(C25=\"\",\"\",IF(F25=\"\",\"\",IF(K25=\"\",\"\",IF($C25=\"TOTAL\",SUM($P$8:P24),SUM(F25-K25))))),\"\")","v":440},1100,8162,{"$f":"IFERROR(IF(C25=\"\",\"\",IF($C25=\"TOTAL\",SUM($S$8:S24),IF(AND(C25>$AR$1,$AI$3=$AR$2),BW26,IF($AU$18=$AU$20,SUM(BJ26+BR26),ROUND((D25+E25)*10%,0))))),\"\")","v":12919},{"$f":"IFERROR(IF(C25=\"\",\"\",IF(I25=\"\",\"\",IF(J25=\"\",\"\",IF($C25=\"TOTAL\",SUM($T$8:T24),IF(AND(C25>$AR$1,$AI$3=$AR$2),BW26,IF($AU$18=$AU$20,$AU$21,ROUND((I25+J25)*10%,0))))))),\"\")","v":12257},662,{"$f":"IFERROR(IF(C25=\"\",\"\",IF($AU$16=$AU$17,0,IF($C25=\"TOTAL\",SUM($V$8:V24),IF($AU$19=$AU$31,0,IF(AND($AU$32=$AU$20,C25=$AU$33),$AU$34,V24))))),\"\")","v":2100},{"$f":"IFERROR(IF(C25=\"\",\"\",IF($AU$16=$AU$17,0,IF($C25=\"TOTAL\",SUM($W$8:W24),IF($AU$19=$AU$20,$AU$24,0)))),\"\")","v":2100},0,{"$f":"IFERROR(IF(C25=\"\",\"\",IF($AU$16=$AU$17,0,IF($C25=\"TOTAL\",SUM($Y$8:Y24),BZ25))),\"\")","v":""},{"$f":"IFERROR(IF(C25=\"\",\"\",IF($AU$16=$AU$17,0,IF($C25=\"TOTAL\",SUM($Z$8:Z24),BY25))),\"\")","v":""},"",{"$f":"IFERROR(IF(C25=\"\",\"\",IF(D25=\"\",\"\",IF($C25=\"TOTAL\",SUM($AB$8:AB24),IF(C25=$AU$1,ROUND(D25*5/31,0.01),\"\")))),\"\")","v":""},{"$f":"IFERROR(IF(C25=\"\",\"\",IF(I25=\"\",\"\",IF($C25=\"TOTAL\",SUM($AC$8:AC24),IF(C25=$AU$1,ROUND(I25*5/31,0.01),\"\")))),\"\")","v":""},"",{"$f":"IFERROR(IF(C25=\"\",\"\",IF(AND(BP26=\"\",BW26=\"\"),\"\",IF($C25=\"TOTAL\",SUM($AE$8:AE24),BP26))),\"\")","v":""},{"$f":"IFERROR(IF(C25=\"\",\"\",IF($C25=\"TOTAL\",SUM($AF$8:AF24),ROUND(R25*$AU$7%,0))),\"\")","v":0},662,{"$f":"IFERROR(IF(C25=\"\",\"\",IF($C25=\"TOTAL\",SUM($AH$8:AH24),SUM(R25-AG25))),\"\")","v":7500},{"$nulls":8},17,17,null,"2018-05-01",{"$f":"'Master Sheet'!M15","v":2100},"2020-08-01","2020-08-01","","2020-08-01","2020-08-01",107300,21460,21889,8584,null,101800,20360,20767,8144,3675,null,null,8162,3675,"","",0,0,{"$nulls":4},"",null,"",{"$f":"IF(AZ26=\"\",\"\",IF(AZ26=\"TOTAL\",\"\",IF($AU$16=$AU$17,0,IF(AND(AZ26>$BY$1,$AI$3=$AR$2,'Master Sheet'!$D$27>0),'Master Sheet'!$D$27,IF(AND(AZ26=$BY$1),IF($AU$9<18001,135,IF($AU$9<33501,220,IF($AU$9<54001,330,440))),IF(AND(AZ26>$BY$1),IF($AU$9<18001,265,IF($AU$9<33501,440,IF($AU$9<54001,658,875))),\"\"))))))","v":""}]
[{"$f":"IF(C26=\"TOTAL\",\"\",IF(B25=\"\",\"\",IF(LEN(C26)>=2,B25+1,0)))","v":19},19,"2020-10-01",{"$f":"IFERROR(IF($C25=\"TOTAL\",\"अक्षरें राशि :-\",IF($C26=\"TOTAL\",SUM($D$8:D25),IF(BA27=\"\",\"\",BA27))),\"\")","v":107300},{"$f":"IFERROR(IF($C26=\"TOTAL\",SUM($E$8:E25),IF(BC27=\"\",\"\",BC27)),\"\")","v":21889},{"$f":"IFERROR(IF($C26=\"TOTAL\",SUM($F$8:F25),IF(OR(C26=$AS$16,C26=$AS$17,C26=$AS$18,C26=$AS$19,C26=$AS$20,C26=$AS$21,C26=$AS$22,C26=$AS$23,C26=$AS$24),0,IF(BD27=\"\",\"\",BD27))),\"\")","v":8584},{"$f":"IFERROR(IF($C26=\"TOTAL\",SUM($G$8:G25),IF(BB27=\"\",\"\",BB27)),\"\")","v":21460},159233,{"$f":"IFERROR(IF($C26=\"TOTAL\",SUM($I$8:I25),IF(BF27=\"\",\"\",BF27)),\"\")","v":101800},{"$f":"IFERROR(IF($C26=\"TOTAL\",SUM($J$8:J25),IF(BH27=\"\",\"\",BH27)),\"\")","v":20767},{"$f":"IFERROR(IF($C26=\"TOTAL\",SUM($K$8:K25),IF(OR(C26=$AS$16,C26=$AS$17,C26=$AS$18,C26=$AS$19,C26=$AS$20,C26=$AS$21,C26=$AS$22,C26=$AS$23,C26=$AS$24),0,IF(BI27=\"\",\"\",BI27))),\"\")","v":8144},{"$f":"IFERROR(IF($C26=\"TOTAL\",SUM($L$8:L25),IF(BG27=\"\",\"\",BG27)),\"\")","v":20360},151071,{"$f":"IFERROR(IF(C26=\"\",\"\",IF(D26=\"\",\"\",IF(I26=\"\",\"\",IF($C26=\"TOTAL\",SUM($N$8:N25),SUM(D26-I26))))),\"\")","v":5500},{"$f":"IFERROR(IF(C26=\"\",\"\",IF(E26=\"\",\"\",IF(J26=\"\",\"\",IF($C26=\"TOTAL\",SUM($O$8:O25),SUM(E26-J26))))),\"\")","v":1122},{"$f":"IFERROR(IF(C26=\"\",\"\",IF(F26=\"\",\"\",IF(K26=\"\",\"\",IF($C26=\"TOTAL\",SUM($P$8:P25),SUM(F26-K26))))),\"\")","v":440},1100,8162,{"$f":"IFERROR(IF(C26=\"\",\"\",IF($C26=\"TOTAL\",SUM($S$8:S25),IF(AND(C26>$AR$1,$AI$3=$AR$2),BW27,IF($AU$18=$AU$20,SUM(BJ27+BR27),ROUND((D26+E26)*10%,0))))),\"\")","v":12919},{"$f":"IFERROR(IF(C26=\"\",\"\",IF(I26=\"\",\"\",IF(J26=\"\",\"\",IF($C26=\"TOTAL\",SUM($T$8:T25),IF(AND(C26>$AR$1,$AI$3=$AR$2),BW27,IF($AU$18=$AU$20,$AU$21,ROUND((I26+J26)*10%,0))))))),\"\")","v":12257},662,{"$f":"IFERROR(IF(C26=\"\",\"\",IF($AU$16=$AU$17,0,IF($C26=\"TOTAL\",SUM($V$8:V25),IF($AU$19=$AU$31,0,IF(AND($AU$32=$AU$20,C26=$AU$33),$AU$34,V25))))),\"\")","v":2100},{"$f":"IFERROR(IF(C26=\"\",\"\",IF($AU$16=$AU$17,0,IF($C26=\"TOTAL\",SUM($W$8:W25),IF($AU$19=$AU$20,$AU$24,0)))),\"\")","v":2100},0,{"$f":"IFERROR(IF(C26=\"\",\"\",IF($AU$16=$AU$17,0,IF($C26=\"TOTAL\",SUM($Y$8:Y25),BZ26))),\"\")","v":""},{"$f":"IFERROR(IF(C26=\"\",\"\",IF($AU$16=$AU$17,0,IF($C26=\"TOTAL\",SUM($Z$8:Z25),BY26))),\"\")","v":""},"",{"$f":"IFERROR(IF(C26=\"\",\"\",IF(D26=\"\",\"\",IF($C26=\"TOTAL\",SUM($AB$8:AB25),IF(C26=$AU$1,ROUND(D26*5/31,0.01),\"\")))),\"\")","v":""},{"$f":"IFERROR(IF(C26=\"\",\"\",IF(I26=\"\",\"\",IF($C26=\"TOTAL\",SUM($AC$8:AC25),IF(C26=$AU$1,ROUND(I26*5/31,0.01),\"\")))),\"\")","v":""},"",{"$f":"IFERROR(IF(C26=\"\",\"\",IF(AND(BP27=\"\",BW27=\"\"),\"\",IF($C26=\"TOTAL\",SUM($AE$8:AE25),BP27))),\"\")","v":""},{"$f":"IFERROR(IF(C26=\"\",\"\",IF($C26=\"TOTAL\",SUM($AF$8:AF25),ROUND(R26*$AU$7%,0))),\"\")","v":0},662,{"$f":"IFERROR(IF(C26=\"\",\"\",IF($C26=\"TOTAL\",SUM($AH$8:AH25),SUM(R26-AG26))),\"\")","v":7500},{"$nulls":8},17,17,null,"2018-06-01",null,"2020-09-01","2020-09-01","","2020-09-01",{"$f":"IFERROR(IF(AY26=\"\",\"\",IF(DATE(YEAR(AY26),MONTH(AY26),DAY(AY26))=DATE(YEAR($AV$6),MONTH($AV$6)+1,DAY($AV$6)),\"TOTAL\",IF(AY26>$AV$6,\"\",AY26))),\"\")","v":"2020-09-01"},107300,21460,21889,8584,null,101800,20360,20767,8144,3675,null,null,8162,3675,"","",0,0,{"$nulls":4},"",null,"",{"$f":"IF(AZ27=\"\",\"\",IF(AZ27=\"TOTAL\",\"\",IF($AU$16=$AU$17,0,IF(AND(AZ27>$BY$1,$AI$3=$AR$2,'Master Sheet'!$D$27>0),'Master Sheet'!$D$27,IF(AND(AZ27=$BY$1),IF($AU$9<18001,135,IF($AU$9<33501,220,IF($AU$9<54001,330,440))),IF(AND(AZ27>$BY$1),IF($AU$9<18001,265,IF($AU$9<33501,440,IF($AU$9<54001,658,875))),\"\"))))))","v":""}]
[20,20,"2020-11-01",{"$f":"IFERROR(IF($C26=\"TOTAL\",\"अक्षरें राशि :-\",IF($C27=\"TOTAL\",SUM($D$8:D26),IF(BA28=\"\",\"\",BA28))),\"\")","v":107300},{"$f":"IFERROR(IF($C27=\"TOTAL\",SUM($E$8:E26),IF(BC28=\"\",\"\",BC28)),\"\")","v":21889},{"$f":"IFERROR(IF($C27=\"TOTAL\",SUM($F$8:F26),IF(OR(C27=$AS$16,C27=$AS$17,C27=$AS$18,C27=$AS$19,C27=$AS$20,C27=$AS$21,C27=$AS$22,C27=$AS$23,C27=$AS$24),0,IF(BD28=\"\",\"\",BD28))),\"\")","v":8584},{"$f":"IFERROR(IF($C27=\"TOTAL\",SUM($G$8:G26),IF(BB28=\"\",\"\",BB28)),\"\")","v":21460},159233,{"$f":"IFERROR(IF($C27=\"TOTAL\",SUM($I$8:I26),IF(BF28=\"\",\"\",BF28)),\"\")","v":101800},{"$f":"IFERROR(IF($C27=\"TOTAL\",SUM($J$8:J26),IF(BH28=\"\",\"\",BH28)),\"\")","v":20767},{"$f":"IFERROR(IF($C27=\"TOTAL\",SUM($K$8:K26),IF(OR(C27=$AS$16,C27=$AS$17,C27=$AS$18,C27=$AS$19,C27=$AS$20,C27=$AS$21,C27=$AS$22,C27=$AS$23,C27=$AS$24),0,IF(BI28=\"\",\"\",BI28))),\"\")","v":8144},{"$f":"IFERROR(IF($C27=\"TOTAL\",SUM($L$8:L26),IF(BG28=\"\",\"\",BG28)),\"\")","v":20360},151071,{"$f":"IFERROR(IF(C27=\"\",\"\",IF(D27=\"\",\"\",IF(I27=\"\",\"\",IF($C27=\"TOTAL\",SUM($N$8:N26),SUM(D27-I27))))),\"\")","v":5500},{"$f":"IFERROR(IF(C27=\"\",\"\",IF(E27=\"\",\"\",IF(J27=\"\",\"\",IF($C27=\"TOTAL\",SUM($O$8:O26),SUM(E27-J27))))),\"\")","v":1122},{"$f":"IFERROR(IF(C27=\"\",\"\",IF(F27=\"\",\"\",IF(K27=\"\",\"\",IF($C27=\"TOTAL\",SUM($P$8:P26),SUM(F27-K27))))),\"\")","v":440},1100,8162,{"$f":"IFERROR(IF(C27=\"\",\"\",IF($C27=\"TOTAL\",SUM($S$8:S26),IF(AND(C27>$AR$1,$AI$3=$AR$2),BW28,IF($AU$18=$AU$20,SUM(BJ28+BR28),ROUND((D27+E27)*10%,0))))),\"\")","v":12919},{"$f":"IFERROR(IF(C27=\"\",\"\",IF(I27=\"\",\"\",IF(J27=\"\",\"\",IF($C27=\"TOTAL\",SUM($T$8:T26),IF(AND(C27>$AR$1,$AI$3=$AR$2),BW28,IF($AU$18=$AU$20,$AU$21,ROUND((I27+J27)*10%,0))))))),\"\")","v":12257},662,{"$f":"IFERROR(IF(C27=\"\",\"\",IF($AU$16=$AU$17,0,IF($C27=\"TOTAL\",SUM($V$8:V26),IF($AU$19=$AU$31,0,IF(AND($AU$32=$AU$20,C27=$AU$33),$AU$34,V26))))),\"\")","v":2100},{"$f":"IFERROR(IF(C27=\"\",\"\",IF($AU$16=$AU$17,0,IF($C27=\"TOTAL\",SUM($W$8:W26),IF($AU$19=$AU$20,$AU$24,0)))),\"\")","v":2100},0,{"$f":"IFERROR(IF(C27=\"\",\"\",IF($AU$16=$AU$17,0,IF($C27=\"TOTAL\",SUM($Y$8:Y26),BZ27))),\"\")","v":""},{"$f":"IFERROR(IF(C27=\"\",\"\",IF($AU$16=$AU$17,0,IF($C27=\"TOTAL\",SUM($Z$8:Z26),BY27))),\"\")","v":""},"",{"$f":"IFERROR(IF(C27=\"\",\"\",IF(D27=\"\",\"\",IF($C27=\"TOTAL\",SUM($AB$8:AB26),IF(C27=$AU$1,ROUND(D27*5/31,0.01),\"\")))),\"\")","v":""},{"$f":"IFERROR(IF(C27=\"\",\"\",IF(I27=\"\",\"\",IF($C27=\"TOTAL\",SUM($AC$8:AC26),IF(C27=$AU$1,ROUND(I27*5/31,0.01),\"\")))),\"\")","v":""},"",{"$f":"IFERROR(IF(C27=\"\",\"\",IF(AND(BP28=\"\",BW28=\"\"),\"\",IF($C27=\"TOTAL\",SUM($AE$8:AE26),BP28))),\"\")","v":""},{"$f":"IFERROR(IF(C27=\"\",\"\",IF($C27=\"TOTAL\",SUM($AF$8:AF26),ROUND(R27*$AU$7%,0))),\"\")","v":0},662,{"$f":"IFERROR(IF(C27=\"\",\"\",IF($C27=\"TOTAL\",SUM($AH$8:AH26),SUM(R27-AG27))),\"\")","v":7500},{"$nulls":8},17,17,null,"2018-07-01",null,"2020-10-01","2020-10-01","","2020-10-01","2020-10-01",107300,21460,21889,8584,null,101800,20360,20767,8144,3675,null,null,8162,3675,"","",0,0,{"$nulls":4},"",null,"",{"$f":"IF(AZ28=\"\",\"\",IF(AZ28=\"TOTAL\",\"\",IF($AU$16=$AU$17,0,IF(AND(AZ28>$BY$1,$AI$3=$AR$2,'Master Sheet'!$D$27>0),'Master Sheet'!$D$27,IF(AND(AZ28=$BY$1),IF($AU$9<18001,135,IF($AU$9<33501,220,IF($AU$9<54001,330,440))),IF(AND(AZ28>$BY$1),IF($AU$9<18001,265,IF($AU$9<33501,440,IF($AU$9<54001,658,875))),\"\"))))))","v":""}]
[21,21,"2020-12-01",{"$f":"IFERROR(IF($C27=\"TOTAL\",\"अक्षरें राशि :-\",IF($C28=\"TOTAL\",SUM($D$8:D27),IF(BA29=\"\",\"\",BA29))),\"\")","v":107300},{"$f":"IFERROR(IF($C28=\"TOTAL\",SUM($E$8:E27),IF(BC29=\"\",\"\",BC29)),\"\")","v":21889},{"$f":"IFERROR(IF($C28=\"TOTAL\",SUM($F$8:F27),IF(OR(C28=$AS$16,C28=$AS$17,C28=$AS$18,C28=$AS$19,C28=$AS$20,C28=$AS$21,C28=$AS$22,C28=$AS$23,C28=$AS$24),0,IF(BD29=\"\",\"\",BD29))),\"\")","v":8584},{"$f":"IFERROR(IF($C28=\"TOTAL\",SUM($G$8:G27),IF(BB29=\"\",\"\",BB29)),\"\")","v":21460},159233,{"$f":"IFERROR(IF($C28=\"TOTAL\",SUM($I$8:I27),IF(BF29=\"\",\"\",BF29)),\"\")","v":101800},{"$f":"IFERROR(IF($C28=\"TOTAL\",SUM($J$8:J27),IF(BH29=\"\",\"\",BH29)),\"\")","v":20767},{"$f":"IFERROR(IF($C28=\"TOTAL\",SUM($K$8:K27),IF(OR(C28=$AS$16,C28=$AS$17,C28=$AS$18,C28=$AS$19,C28=$AS$20,C28=$AS$21,C28=$AS$22,C28=$AS$23,C28=$AS$24),0,IF(BI29=\"\",\"\",BI29))),\"\")","v":8144},{"$f":"IFERROR(IF($C28=\"TOTAL\",SUM($L$8:L27),IF(BG29=\"\",\"\",BG29)),\"\")","v":20360},151071,{"$f":"IFERROR(IF(C28=\"\",\"\",IF(D28=\"\",\"\",IF(I28=\"\",\"\",IF($C28=\"TOTAL\",SUM($N$8:N27),SUM(D28-I28))))),\"\")","v":5500},{"$f":"IFERROR(IF(C28=\"\",\"\",IF(E28=\"\",\"\",IF(J28=\"\",\"\",IF($C28=\"TOTAL\",SUM($O$8:O27),SUM(E28-J28))))),\"\")","v":1122},{"$f":"IFERROR(IF(C28=\"\",\"\",IF(F28=\"\",\"\",IF(K28=\"\",\"\",IF($C28=\"TOTAL\",SUM($P$8:P27),SUM(F28-K28))))),\"\")","v":440},1100,8162,{"$f":"IFERROR(IF(C28=\"\",\"\",IF($C28=\"TOTAL\",SUM($S$8:S27),IF(AND(C28>$AR$1,$AI$3=$AR$2),BW29,IF($AU$18=$AU$20,SUM(BJ29+BR29),ROUND((D28+E28)*10%,0))))),\"\")","v":12919},{"$f":"IFERROR(IF(C28=\"\",\"\",IF(I28=\"\",\"\",IF(J28=\"\",\"\",IF($C28=\"TOTAL\",SUM($T$8:T27),IF(AND(C28>$AR$1,$AI$3=$AR$2),BW29,IF($AU$18=$AU$20,$AU$21,ROUND((I28+J28)*10%,0))))))),\"\")","v":12257},662,{"$f":"IFERROR(IF(C28=\"\",\"\",IF($AU$16=$AU$17,0,IF($C28=\"TOTAL\",SUM($V$8:V27),IF($AU$19=$AU$31,0,IF(AND($AU$32=$AU$20,C28=$AU$33),$AU$34,V27))))),\"\")","v":2100},{"$f":"IFERROR(IF(C28=\"\",\"\",IF($AU$16=$AU$17,0,IF($C28=\"TOTAL\",SUM($W$8:W27),IF($AU$19=$AU$20,$AU$24,0)))),\"\")","v":2100},0,{"$f":"IFERROR(IF(C28=\"\",\"\",IF($AU$16=$AU$17,0,IF($C28=\"TOTAL\",SUM($Y$8:Y27),BZ28))),\"\")","v":""},{"$f":"IFERROR(IF(C28=\"\",\"\",IF($AU$16=$AU$17,0,IF($C28=\"TOTAL\",SUM($Z$8:Z27),BY28))),\"\")","v":""},"",{"$f":"IFERROR(IF(C28=\"\",\"\",IF(D28=\"\",\"\",IF($C28=\"TOTAL\",SUM($AB$8:AB27),IF(C28=$AU$1,ROUND(D28*5/31,0.01),\"\")))),\"\")","v":""},{"$f":"IFERROR(IF(C28=\"\",\"\",IF(I28=\"\",\"\",IF($C28=\"TOTAL\",SUM($AC$8:AC27),IF(C28=$AU$1,ROUND(I28*5/31,0.01),\"\")))),\"\")","v":""},"",{"$f":"IFERROR(IF(C28=\"\",\"\",IF(AND(BP29=\"\",BW29=\"\"),\"\",IF($C28=\"TOTAL\",SUM($AE$8:AE27),BP29))),\"\")","v":""},{"$f":"IFERROR(IF(C28=\"\",\"\",IF($C28=\"TOTAL\",SUM($AF$8:AF27),ROUND(R28*$AU$7%,0))),\"\")","v":0},662,{"$f":"IFERROR(IF(C28=\"\",\"\",IF($C28=\"TOTAL\",SUM($AH$8:AH27),SUM(R28-AG28))),\"\")","v":7500},{"$nulls":8},17,17,null,"2018-08-01",{"$f":"'Master Sheet'!D23","v":"NO"},"2020-11-01","2020-11-01","","2020-11-01","2020-11-01",107300,21460,21889,8584,null,101800,20360,20767,8144,3675,null,null,8162,3675,"","",0,0,{"$nulls":4},"",null,"",{"$f":"IF(AZ29=\"\",\"\",IF(AZ29=\"TOTAL\",\"\",IF($AU$16=$AU$17,0,IF(AND(AZ29>$BY$1,$AI$3=$AR$2,'Master Sheet'!$D$27>0),'Master Sheet'!$D$27,IF(AND(AZ29=$BY$1),IF($AU$9<18001,135,IF($AU$9<33501,220,IF($AU$9<54001,330,440))),IF(AND(AZ29>$BY$1),IF($AU$9<18001,265,IF($AU$9<33501,440,IF($AU$9<54001,658,875))),\"\"))))))","v":""}]
[22,22,"2021-01-01",{"$f":"IFERROR(IF($C28=\"TOTAL\",\"अक्षरें राशि :-\",IF($C29=\"TOTAL\",SUM($D$8:D28),IF(BA30=\"\",\"\",BA30))),\"\")","v":107300},{"$f":"IFERROR(IF($C29=\"TOTAL\",SUM($E$8:E28),IF(BC30=\"\",\"\",BC30)),\"\")","v":21889},{"$f":"IFERROR(IF($C29=\"TOTAL\",SUM($F$8:F28),IF(OR(C29=$AS$16,C29=$AS$17,C29=$AS$18,C29=$AS$19,C29=$AS$20,C29=$AS$21,C29=$AS$22,C29=$AS$23,C29=$AS$24),0,IF(BD30=\"\",\"\",BD30))),\"\")","v":8584},{"$f":"IFERROR(IF($C29=\"TOTAL\",SUM($G$8:G28),IF(BB30=\"\",\"\",BB30)),\"\")","v":21460},159233,{"$f":"IFERROR(IF($C29=\"TOTAL\",SUM($I$8:I28),IF(BF30=\"\",\"\",BF30)),\"\")","v":101800},{"$f":"IFERROR(IF($C29=\"TOTAL\",SUM($J$8:J28),IF(BH30=\"\",\"\",BH30)),\"\")","v":20767},{"$f":"IFERROR(IF($C29=\"TOTAL\",SUM($K$8:K28),IF(OR(C29=$AS$16,C29=$AS$17,C29=$AS$18,C29=$AS$19,C29=$AS$20,C29=$AS$21,C29=$AS$22,C29=$AS$23,C29=$AS$24),0,IF(BI30=\"\",\"\",BI30))),\"\")","v":8144},{"$f":"IFERROR(IF($C29=\"TOTAL\",SUM($L$8:L28),IF(BG30=\"\",\"\",BG30)),\"\")","v":20360},151071,{"$f":"IFERROR(IF(C29=\"\",\"\",IF(D29=\"\",\"\",IF(I29=\"\",\"\",IF($C29=\"TOTAL\",SUM($N$8:N28),SUM(D29-I29))))),\"\")","v":5500},{"$f":"IFERROR(IF(C29=\"\",\"\",IF(E29=\"\",\"\",IF(J29=\"\",\"\",IF($C29=\"TOTAL\",SUM($O$8:O28),SUM(E29-J29))))),\"\")","v":1122},{"$f":"IFERROR(IF(C29=\"\",\"\",IF(F29=\"\",\"\",IF(K29=\"\",\"\",IF($C29=\"TOTAL\",SUM($P$8:P28),SUM(F29-K29))))),\"\")","v":440},1100,8162,{"$f":"IFERROR(IF(C29=\"\",\"\",IF($C29=\"TOTAL\",SUM($S$8:S28),IF(AND(C29>$AR$1,$AI$3=$AR$2),BW30,IF($AU$18=$AU$20,SUM(BJ30+BR30),ROUND((D29+E29)*10%,0))))),\"\")","v":12919},{"$f":"IFERROR(IF(C29=\"\",\"\",IF(I29=\"\",\"\",IF(J29=\"\",\"\",IF($C29=\"TOTAL\",SUM($T$8:T28),IF(AND(C29>$AR$1,$AI$3=$AR$2),BW30,IF($AU$18=$AU$20,$AU$21,ROUND((I29+J29)*10%,0))))))),\"\")","v":12257},662,{"$f":"IFERROR(IF(C29=\"\",\"\",IF($AU$16=$AU$17,0,IF($C29=\"TOTAL\",SUM($V$8:V28),IF($AU$19=$AU$31,0,IF(AND($AU$32=$AU$20,C29=$AU$33),$AU$34,V28))))),\"\")","v":2100},{"$f":"IFERROR(IF(C29=\"\",\"\",IF($AU$16=$AU$17,0,IF($C29=\"TOTAL\",SUM($W$8:W28),IF($AU$19=$AU$20,$AU$24,0)))),\"\")","v":2100},0,{"$f":"IFERROR(IF(C29=\"\",\"\",IF($AU$16=$AU$17,0,IF($C29=\"TOTAL\",SUM($Y$8:Y28),BZ29))),\"\")","v":""},{"$f":"IFERROR(IF(C29=\"\",\"\",IF($AU$16=$AU$17,0,IF($C29=\"TOTAL\",SUM($Z$8:Z28),BY29))),\"\")","v":""},"",{"$f":"IFERROR(IF(C29=\"\",\"\",IF(D29=\"\",\"\",IF($C29=\"TOTAL\",SUM($AB$8:AB28),IF(C29=$AU$1,ROUND(D29*5/31,0.01),\"\")))),\"\")","v":""},{"$f":"IFERROR(IF(C29=\"\",\"\",IF(I29=\"\",\"\",IF($C29=\"TOTAL\",SUM($AC$8:AC28),IF(C29=$AU$1,ROUND(I29*5/31,0.01),\"\")))),\"\")","v":""},"",{"$f":"IFERROR(IF(C29=\"\",\"\",IF(AND(BP30=\"\",BW30=\"\"),\"\",IF($C29=\"TOTAL\",SUM($AE$8:AE28),BP30))),\"\")","v":""},{"$f":"IFERROR(IF(C29=\"\",\"\",IF($C29=\"TOTAL\",SUM($AF$8:AF28),ROUND(R29*$AU$7%,0))),\"\")","v":0},662,{"$f":"IFERROR(IF(C29=\"\",\"\",IF($C29=\"TOTAL\",SUM($AH$8:AH28),SUM(R29-AG29))),\"\")","v":7500},{"$nulls":8},17,17,null,"2018-09-01",{"$f":"'Master Sheet'!M23","v":41100},"2020-12-01","2020-12-01","","2020-12-01","2020-12-01",107300,21460,21889,8584,null,101800,20360,20767,8144,3675,null,null,8162,3675,"","",0,0,{"$nulls":4},"",null,"",{"$f":"IF(AZ30=\"\",\"\",IF(AZ30=\"TOTAL\",\"\",IF($AU$16=$AU$17,0,IF(AND(AZ30>$BY$1,$AI$3=$AR$2,'Master Sheet'!$D$27>0),'Master Sheet'!$D$27,IF(AND(AZ30=$BY$1),IF($AU$9<18001,135,IF($AU$9<33501,220,IF($AU$9<54001,330,440))),IF(AND(AZ30>$BY$1),IF($AU$9<18001,265,IF($AU$9<33501,440,IF($AU$9<54001,658,875))),\"\"))))))","v":""}]
[23,23,"2021-02-01",{"$f":"IFERROR(IF($C29=\"TOTAL\",\"अक्षरें राशि :-\",IF($C30=\"TOTAL\",SUM($D$8:D29),IF(BA31=\"\",\"\",BA31))),\"\")","v":107300},{"$f":"IFERROR(IF($C30=\"TOTAL\",SUM($E$8:E29),IF(BC31=\"\",\"\",BC31)),\"\")","v":21889},{"$f":"IFERROR(IF($C30=\"TOTAL\",SUM($F$8:F29),IF(OR(C30=$AS$16,C30=$AS$17,C30=$AS$18,C30=$AS$19,C30=$AS$20,C30=$AS$21,C30=$AS$22,C30=$AS$23,C30=$AS$24),0,IF(BD31=\"\",\"\",BD31))),\"\")","v":8584},{"$f":"IFERROR(IF($C30=\"TOTAL\",SUM($G$8:G29),IF(BB31=\"\",\"\",BB31)),\"\")","v":21460},159233,{"$f":"IFERROR(IF($C30=\"TOTAL\",SUM($I$8:I29),IF(BF31=\"\",\"\",BF31)),\"\")","v":101800},{"$f":"IFERROR(IF($C30=\"TOTAL\",SUM($J$8:J29),IF(BH31=\"\",\"\",BH31)),\"\")","v":20767},{"$f":"IFERROR(IF($C30=\"TOTAL\",SUM($K$8:K29),IF(OR(C30=$AS$16,C30=$AS$17,C30=$AS$18,C30=$AS$19,C30=$AS$20,C30=$AS$21,C30=$AS$22,C30=$AS$23,C30=$AS$24),0,IF(BI31=\"\",\"\",BI31))),\"\")","v":8144},{"$f":"IFERROR(IF($C30=\"TOTAL\",SUM($L$8:L29),IF(BG31=\"\",\"\",BG31)),\"\")","v":20360},151071,{"$f":"IFERROR(IF(C30=\"\",\"\",IF(D30=\"\",\"\",IF(I30=\"\",\"\",IF($C30=\"TOTAL\",SUM($N$8:N29),SUM(D30-I30))))),\"\")","v":5500},{"$f":"IFERROR(IF(C30=\"\",\"\",IF(E30=\"\",\"\",IF(J30=\"\",\"\",IF($C30=\"TOTAL\",SUM($O$8:O29),SUM(E30-J30))))),\"\")","v":1122},{"$f":"IFERROR(IF(C30=\"\",\"\",IF(F30=\"\",\"\",IF(K30=\"\",\"\",IF($C30=\"TOTAL\",SUM($P$8:P29),SUM(F30-K30))))),\"\")","v":440},1100,8162,{"$f":"IFERROR(IF(C30=\"\",\"\",IF($C30=\"TOTAL\",SUM($S$8:S29),IF(AND(C30>$AR$1,$AI$3=$AR$2),BW31,IF($AU$18=$AU$20,SUM(BJ31+BR31),ROUND((D30+E30)*10%,0))))),\"\")","v":12919},{"$f":"IFERROR(IF(C30=\"\",\"\",IF(I30=\"\",\"\",IF(J30=\"\",\"\",IF($C30=\"TOTAL\",SUM($T$8:T29),IF(AND(C30>$AR$1,$AI$3=$AR$2),BW31,IF($AU$18=$AU$20,$AU$21,ROUND((I30+J30)*10%,0))))))),\"\")","v":12257},662,{"$f":"IFERROR(IF(C30=\"\",\"\",IF($AU$16=$AU$17,0,IF($C30=\"TOTAL\",SUM($V$8:V29),IF($AU$19=$AU$31,0,IF(AND($AU$32=$AU$20,C30=$AU$33),$AU$34,V29))))),\"\")","v":2100},{"$f":"IFERROR(IF(C30=\"\",\"\",IF($AU$16=$AU$17,0,IF($C30=\"TOTAL\",SUM($W$8:W29),IF($AU$19=$AU$20,$AU$24,0)))),\"\")","v":2100},0,{"$f":"IFERROR(IF(C30=\"\",\"\",IF($AU$16=$AU$17,0,IF($C30=\"TOTAL\",SUM($Y$8:Y29),BZ30))),\"\")","v":""},{"$f":"IFERROR(IF(C30=\"\",\"\",IF($AU$16=$AU$17,0,IF($C30=\"TOTAL\",SUM($Z$8:Z29),BY30))),\"\")","v":""},"",{"$f":"IFERROR(IF(C30=\"\",\"\",IF(D30=\"\",\"\",IF($C30=\"TOTAL\",SUM($AB$8:AB29),IF(C30=$AU$1,ROUND(D30*5/31,0.01),\"\")))),\"\")","v":""},{"$f":"IFERROR(IF(C30=\"\",\"\",IF(I30=\"\",\"\",IF($C30=\"TOTAL\",SUM($AC$8:AC29),IF(C30=$AU$1,ROUND(I30*5/31,0.01),\"\")))),\"\")","v":""},"",{"$f":"IFERROR(IF(C30=\"\",\"\",IF(AND(BP31=\"\",BW31=\"\"),\"\",IF($C30=\"TOTAL\",SUM($AE$8:AE29),BP31))),\"\")","v":""},{"$f":"IFERROR(IF(C30=\"\",\"\",IF($C30=\"TOTAL\",SUM($AF$8:AF29),ROUND(R30*$AU$7%,0))),\"\")","v":0},662,{"$f":"IFERROR(IF(C30=\"\",\"\",IF($C30=\"TOTAL\",SUM($AH$8:AH29),SUM(R30-AG30))),\"\")","v":7500},{"$nulls":8},17,17,null,"2018-10-01",{"$f":"'Master Sheet'!I23","v":"2021-04-01"},"2021-01-01","2021-01-01","","2021-01-01","2021-01-01",107300,21460,21889,8584,null,101800,20360,20767,8144,3675,null,null,8162,3675,"","",0,0,{"$nulls":4},"",null,"",{"$f":"IF(AZ31=\"\",\"\",IF(AZ31=\"TOTAL\",\"\",IF($AU$16=$AU$17,0,IF(AND(AZ31>$BY$1,$AI$3=$AR$2,'Master Sheet'!$D$27>0),'Master Sheet'!$D$27,IF(AND(AZ31=$BY$1),IF($AU$9<18001,135,IF($AU$9<33501,220,IF($AU$9<54001,330,440))),IF(AND(AZ31>$BY$1),IF($AU$9<18001,265,IF($AU$9<33501,440,IF($AU$9<54001,658,875))),\"\"))))))","v":""}]
[24,24,"2021-03-01",{"$f":"IFERROR(IF($C30=\"TOTAL\",\"अक्षरें राशि :-\",IF($C31=\"TOTAL\",SUM($D$8:D30),IF(BA32=\"\",\"\",BA32))),\"\")","v":107300},{"$f":"IFERROR(IF($C31=\"TOTAL\",SUM($E$8:E30),IF(BC32=\"\",\"\",BC32)),\"\")","v":21889},{"$f":"IFERROR(IF($C31=\"TOTAL\",SUM($F$8:F30),IF(OR(C31=$AS$16,C31=$AS$17,C31=$AS$18,C31=$AS$19,C31=$AS$20,C31=$AS$21,C31=$AS$22,C31=$AS$23,C31=$AS$24),0,IF(BD32=\"\",\"\",BD32))),\"\")","v":8584},{"$f":"IFERROR(IF($C31=\"TOTAL\",SUM($G$8:G30),IF(BB32=\"\",\"\",BB32)),\"\")","v":21460},159233,{"$f":"IFERROR(IF($C31=\"TOTAL\",SUM($I$8:I30),IF(BF32=\"\",\"\",BF32)),\"\")","v":101800},{"$f":"IFERROR(IF($C31=\"TOTAL\",SUM($J$8:J30),IF(BH32=\"\",\"\",BH32)),\"\")","v":20767},{"$f":"IFERROR(IF($C31=\"TOTAL\",SUM($K$8:K30),IF(OR(C31=$AS$16,C31=$AS$17,C31=$AS$18,C31=$AS$19,C31=$AS$20,C31=$AS$21,C31=$AS$22,C31=$AS$23,C31=$AS$24),0,IF(BI32=\"\",\"\",BI32))),\"\")","v":8144},{"$f":"IFERROR(IF($C31=\"TOTAL\",SUM($L$8:L30),IF(BG32=\"\",\"\",BG32)),\"\")","v":20360},151071,{"$f":"IFERROR(IF(C31=\"\",\"\",IF(D31=\"\",\"\",IF(I31=\"\",\"\",IF($C31=\"TOTAL\",SUM($N$8:N30),SUM(D31-I31))))),\"\")","v":5500},{"$f":"IFERROR(IF(C31=\"\",\"\",IF(E31=\"\",\"\",IF(J31=\"\",\"\",IF($C31=\"TOTAL\",SUM($O$8:O30),SUM(E31-J31))))),\"\")","v":1122},{"$f":"IFERROR(IF(C31=\"\",\"\",IF(F31=\"\",\"\",IF(K31=\"\",\"\",IF($C31=\"TOTAL\",SUM($P$8:P30),SUM(F31-K31))))),\"\")","v":440},1100,8162,{"$f":"IFERROR(IF(C31=\"\",\"\",IF($C31=\"TOTAL\",SUM($S$8:S30),IF(AND(C31>$AR$1,$AI$3=$AR$2),BW32,IF($AU$18=$AU$20,SUM(BJ32+BR32),ROUND((D31+E31)*10%,0))))),\"\")","v":12919},{"$f":"IFERROR(IF(C31=\"\",\"\",IF(I31=\"\",\"\",IF(J31=\"\",\"\",IF($C31=\"TOTAL\",SUM($T$8:T30),IF(AND(C31>$AR$1,$AI$3=$AR$2),BW32,IF($AU$18=$AU$20,$AU$21,ROUND((I31+J31)*10%,0))))))),\"\")","v":12257},662,{"$f":"IFERROR(IF(C31=\"\",\"\",IF($AU$16=$AU$17,0,IF($C31=\"TOTAL\",SUM($V$8:V30),IF($AU$19=$AU$31,0,IF(AND($AU$32=$AU$20,C31=$AU$33),$AU$34,V30))))),\"\")","v":2100},{"$f":"IFERROR(IF(C31=\"\",\"\",IF($AU$16=$AU$17,0,IF($C31=\"TOTAL\",SUM($W$8:W30),IF($AU$19=$AU$20,$AU$24,0)))),\"\")","v":2100},0,{"$f":"IFERROR(IF(C31=\"\",\"\",IF($AU$16=$AU$17,0,IF($C31=\"TOTAL\",SUM($Y$8:Y30),BZ31))),\"\")","v":""},{"$f":"IFERROR(IF(C31=\"\",\"\",IF($AU$16=$AU$17,0,IF($C31=\"TOTAL\",SUM($Z$8:Z30),BY31))),\"\")","v":""},"",{"$f":"IFERROR(IF(C31=\"\",\"\",IF(D31=\"\",\"\",IF($C31=\"TOTAL\",SUM($AB$8:AB30),IF(C31=$AU$1,ROUND(D31*5/31,0.01),\"\")))),\"\")","v":""},{"$f":"IFERROR(IF(C31=\"\",\"\",IF(I31=\"\",\"\",IF($C31=\"TOTAL\",SUM($AC$8:AC30),IF(C31=$AU$1,ROUND(I31*5/31,0.01),\"\")))),\"\")","v":""},"",{"$f":"IFERROR(IF(C31=\"\",\"\",IF(AND(BP32=\"\",BW32=\"\"),\"\",IF($C31=\"TOTAL\",SUM($AE$8:AE30),BP32))),\"\")","v":""},{"$f":"IFERROR(IF(C31=\"\",\"\",IF($C31=\"TOTAL\",SUM($AF$8:AF30),ROUND(R31*$AU$7%,0))),\"\")","v":0},662,{"$f":"IFERROR(IF(C31=\"\",\"\",IF($C31=\"TOTAL\",SUM($AH$8:AH30),SUM(R31-AG31))),\"\")","v":7500},{"$nulls":8},17,17,null,"2018-11-01","NO","2021-02-01","2021-02-01","","2021-02-01","2021-02-01",107300,21460,21889,8584,null,101800,20360,20767,8144,3675,null,null,8162,3675,"","",0,0,{"$nulls":4},"",null,"",{"$f":"IF(AZ32=\"\",\"\",IF(AZ32=\"TOTAL\",\"\",IF($AU$16=$AU$17,0,IF(AND(AZ32>$BY$1,$AI$3=$AR$2,'Master Sheet'!$D$27>0),'Master Sheet'!$D$27,IF(AND(AZ32=$BY$1),IF($AU$9<18001,135,IF($AU$9<33501,220,IF($AU$9<54001,330,440))),IF(AND(AZ32>$BY$1),IF($AU$9<18001,265,IF($AU$9<33501,440,IF($AU$9<54001,658,875))),\"\"))))))","v":""}]
[25,25,"2021-04-01",{"$f":"IFERROR(IF($C31=\"TOTAL\",\"अक्षरें राशि :-\",IF($C32=\"TOTAL\",SUM($D$8:D31),IF(BA33=\"\",\"\",BA33))),\"\")","v":107300},{"$f":"IFERROR(IF($C32=\"TOTAL\",SUM($E$8:E31),IF(BC33=\"\",\"\",BC33)),\"\")","v":21889},{"$f":"IFERROR(IF($C32=\"TOTAL\",SUM($F$8:F31),IF(OR(C32=$AS$16,C32=$AS$17,C32=$AS$18,C32=$AS$19,C32=$AS$20,C32=$AS$21,C32=$AS$22,C32=$AS$23,C32=$AS$24),0,IF(BD33=\"\",\"\",BD33))),\"\")","v":8584},{"$f":"IFERROR(IF($C32=\"TOTAL\",SUM($G$8:G31),IF(BB33=\"\",\"\",BB33)),\"\")","v":21460},159233,{"$f":"IFERROR(IF($C32=\"TOTAL\",SUM($I$8:I31),IF(BF33=\"\",\"\",BF33)),\"\")","v":101800},{"$f":"IFERROR(IF($C32=\"TOTAL\",SUM($J$8:J31),IF(BH33=\"\",\"\",BH33)),\"\")","v":20767},{"$f":"IFERROR(IF($C32=\"TOTAL\",SUM($K$8:K31),IF(OR(C32=$AS$16,C32=$AS$17,C32=$AS$18,C32=$AS$19,C32=$AS$20,C32=$AS$21,C32=$AS$22,C32=$AS$23,C32=$AS$24),0,IF(BI33=\"\",\"\",BI33))),\"\")","v":8144},{"$f":"IFERROR(IF($C32=\"TOTAL\",SUM($L$8:L31),IF(BG33=\"\",\"\",BG33)),\"\")","v":20360},151071,{"$f":"IFERROR(IF(C32=\"\",\"\",IF(D32=\"\",\"\",IF(I32=\"\",\"\",IF($C32=\"TOTAL\",SUM($N$8:N31),SUM(D32-I32))))),\"\")","v":5500},{"$f":"IFERROR(IF(C32=\"\",\"\",IF(E32=\"\",\"\",IF(J32=\"\",\"\",IF($C32=\"TOTAL\",SUM($O$8:O31),SUM(E32-J32))))),\"\")","v":1122},{"$f":"IFERROR(IF(C32=\"\",\"\",IF(F32=\"\",\"\",IF(K32=\"\",\"\",IF($C32=\"TOTAL\",SUM($P$8:P31),SUM(F32-K32))))),\"\")","v":440},1100,8162,{"$f":"IFERROR(IF(C32=\"\",\"\",IF($C32=\"TOTAL\",SUM($S$8:S31),IF(AND(C32>$AR$1,$AI$3=$AR$2),BW33,IF($AU$18=$AU$20,SUM(BJ33+BR33),ROUND((D32+E32)*10%,0))))),\"\")","v":12919},{"$f":"IFERROR(IF(C32=\"\",\"\",IF(I32=\"\",\"\",IF(J32=\"\",\"\",IF($C32=\"TOTAL\",SUM($T$8:T31),IF(AND(C32>$AR$1,$AI$3=$AR$2),BW33,IF($AU$18=$AU$20,$AU$21,ROUND((I32+J32)*10%,0))))))),\"\")","v":12257},662,{"$f":"IFERROR(IF(C32=\"\",\"\",IF($AU$16=$AU$17,0,IF($C32=\"TOTAL\",SUM($V$8:V31),IF($AU$19=$AU$31,0,IF(AND($AU$32=$AU$20,C32=$AU$33),$AU$34,V31))))),\"\")","v":2100},{"$f":"IFERROR(IF(C32=\"\",\"\",IF($AU$16=$AU$17,0,IF($C32=\"TOTAL\",SUM($W$8:W31),IF($AU$19=$AU$20,$AU$24,0)))),\"\")","v":2100},0,{"$f":"IFERROR(IF(C32=\"\",\"\",IF($AU$16=$AU$17,0,IF($C32=\"TOTAL\",SUM($Y$8:Y31),BZ32))),\"\")","v":""},{"$f":"IFERROR(IF(C32=\"\",\"\",IF($AU$16=$AU$17,0,IF($C32=\"TOTAL\",SUM($Z$8:Z31),BY32))),\"\")","v":""},"",{"$f":"IFERROR(IF(C32=\"\",\"\",IF(D32=\"\",\"\",IF($C32=\"TOTAL\",SUM($AB$8:AB31),IF(C32=$AU$1,ROUND(D32*5/31,0.01),\"\")))),\"\")","v":""},{"$f":"IFERROR(IF(C32=\"\",\"\",IF(I32=\"\",\"\",IF($C32=\"TOTAL\",SUM($AC$8:AC31),IF(C32=$AU$1,ROUND(I32*5/31,0.01),\"\")))),\"\")","v":""},"",{"$f":"IFERROR(IF(C32=\"\",\"\",IF(AND(BP33=\"\",BW33=\"\"),\"\",IF($C32=\"TOTAL\",SUM($AE$8:AE31),BP33))),\"\")","v":""},{"$f":"IFERROR(IF(C32=\"\",\"\",IF($C32=\"TOTAL\",SUM($AF$8:AF31),ROUND(R32*$AU$7%,0))),\"\")","v":0},662,{"$f":"IFERROR(IF(C32=\"\",\"\",IF($C32=\"TOTAL\",SUM($AH$8:AH31),SUM(R32-AG32))),\"\")","v":7500},{"$nulls":8},17,17,null,"2018-12-01",{"$f":"'Master Sheet'!D17","v":"NO"},"2021-03-01","2021-03-01","","2021-03-01","2021-03-01",107300,21460,21889,8584,null,101800,20360,20767,8144,3675,null,null,8162,3675,"","",0,0,{"$nulls":4},"",null,"",{"$f":"IF(AZ33=\"\",\"\",IF(AZ33=\"TOTAL\",\"\",IF($AU$16=$AU$17,0,IF(AND(AZ33>$BY$1,$AI$3=$AR$2,'Master Sheet'!$D$27>0),'Master Sheet'!$D$27,IF(AND(AZ33=$BY$1),IF($AU$9<18001,135,IF($AU$9<33501,220,IF($AU$9<54001,330,440))),IF(AND(AZ33>$BY$1),IF($AU$9<18001,265,IF($AU$9<33501,440,IF($AU$9<54001,658,875))),\"\"))))))","v":""}]
[26,26,"2021-05-01",{"$f":"IFERROR(IF($C32=\"TOTAL\",\"अक्षरें राशि :-\",IF($C33=\"TOTAL\",SUM($D$8:D32),IF(BA34=\"\",\"\",BA34))),\"\")","v":107300},{"$f":"IFERROR(IF($C33=\"TOTAL\",SUM($E$8:E32),IF(BC34=\"\",\"\",BC34)),\"\")","v":21889},{"$f":"IFERROR(IF($C33=\"TOTAL\",SUM($F$8:F32),IF(OR(C33=$AS$16,C33=$AS$17,C33=$AS$18,C33=$AS$19,C33=$AS$20,C33=$AS$21,C33=$AS$22,C33=$AS$23,C33=$AS$24),0,IF(BD34=\"\",\"\",BD34))),\"\")","v":8584},{"$f":"IFERROR(IF($C33=\"TOTAL\",SUM($G$8:G32),IF(BB34=\"\",\"\",BB34)),\"\")","v":21460},159233,{"$f":"IFERROR(IF($C33=\"TOTAL\",SUM($I$8:I32),IF(BF34=\"\",\"\",BF34)),\"\")","v":101800},{"$f":"IFERROR(IF($C33=\"TOTAL\",SUM($J$8:J32),IF(BH34=\"\",\"\",BH34)),\"\")","v":20767},{"$f":"IFERROR(IF($C33=\"TOTAL\",SUM($K$8:K32),IF(OR(C33=$AS$16,C33=$AS$17,C33=$AS$18,C33=$AS$19,C33=$AS$20,C33=$AS$21,C33=$AS$22,C33=$AS$23,C33=$AS$24),0,IF(BI34=\"\",\"\",BI34))),\"\")","v":8144},{"$f":"IFERROR(IF($C33=\"TOTAL\",SUM($L$8:L32),IF(BG34=\"\",\"\",BG34)),\"\")","v":20360},151071,{"$f":"IFERROR(IF(C33=\"\",\"\",IF(D33=\"\",\"\",IF(I33=\"\",\"\",IF($C33=\"TOTAL\",SUM($N$8:N32),SUM(D33-I33))))),\"\")","v":5500},{"$f":"IFERROR(IF(C33=\"\",\"\",IF(E33=\"\",\"\",IF(J33=\"\",\"\",IF($C33=\"TOTAL\",SUM($O$8:O32),SUM(E33-J33))))),\"\")","v":1122},{"$f":"IFERROR(IF(C33=\"\",\"\",IF(F33=\"\",\"\",IF(K33=\"\",\"\",IF($C33=\"TOTAL\",SUM($P$8:P32),SUM(F33-K33))))),\"\")","v":440},1100,8162,{"$f":"IFERROR(IF(C33=\"\",\"\",IF($C33=\"TOTAL\",SUM($S$8:S32),IF(AND(C33>$AR$1,$AI$3=$AR$2),BW34,IF($AU$18=$AU$20,SUM(BJ34+BR34),ROUND((D33+E33)*10%,0))))),\"\")","v":12919},{"$f":"IFERROR(IF(C33=\"\",\"\",IF(I33=\"\",\"\",IF(J33=\"\",\"\",IF($C33=\"TOTAL\",SUM($T$8:T32),IF(AND(C33>$AR$1,$AI$3=$AR$2),BW34,IF($AU$18=$AU$20,$AU$21,ROUND((I33+J33)*10%,0))))))),\"\")","v":12257},662,{"$f":"IFERROR(IF(C33=\"\",\"\",IF($AU$16=$AU$17,0,IF($C33=\"TOTAL\",SUM($V$8:V32),IF($AU$19=$AU$31,0,IF(AND($AU$32=$AU$20,C33=$AU$33),$AU$34,V32))))),\"\")","v":2100},{"$f":"IFERROR(IF(C33=\"\",\"\",IF($AU$16=$AU$17,0,IF($C33=\"TOTAL\",SUM($W$8:W32),IF($AU$19=$AU$20,$AU$24,0)))),\"\")","v":2100},0,{"$f":"IFERROR(IF(C33=\"\",\"\",IF($AU$16=$AU$17,0,IF($C33=\"TOTAL\",SUM($Y$8:Y32),BZ33))),\"\")","v":""},{"$f":"IFERROR(IF(C33=\"\",\"\",IF($AU$16=$AU$17,0,IF($C33=\"TOTAL\",SUM($Z$8:Z32),BY33))),\"\")","v":""},"",{"$f":"IFERROR(IF(C33=\"\",\"\",IF(D33=\"\",\"\",IF($C33=\"TOTAL\",SUM($AB$8:AB32),IF(C33=$AU$1,ROUND(D33*5/31,0.01),\"\")))),\"\")","v":""},{"$f":"IFERROR(IF(C33=\"\",\"\",IF(I33=\"\",\"\",IF($C33=\"TOTAL\",SUM($AC$8:AC32),IF(C33=$AU$1,ROUND(I33*5/31,0.01),\"\")))),\"\")","v":""},"",{"$f":"IFERROR(IF(C33=\"\",\"\",IF(AND(BP34=\"\",BW34=\"\"),\"\",IF($C33=\"TOTAL\",SUM($AE$8:AE32),BP34))),\"\")","v":""},{"$f":"IFERROR(IF(C33=\"\",\"\",IF($C33=\"TOTAL\",SUM($AF$8:AF32),ROUND(R33*$AU$7%,0))),\"\")","v":0},662,{"$f":"IFERROR(IF(C33=\"\",\"\",IF($C33=\"TOTAL\",SUM($AH$8:AH32),SUM(R33-AG33))),\"\")","v":7500},{"$nulls":8},17,17,null,"2019-01-01",{"$f":"'Master Sheet'!I17","v":43525},"2021-04-01","2021-04-01","","2021-04-01","2021-04-01",107300,21460,21889,8584,null,101800,20360,20767,8144,3675,null,null,8162,3675,"","",0,0,{"$nulls":4},"",null,"",{"$f":"IF(AZ34=\"\",\"\",IF(AZ34=\"TOTAL\",\"\",IF($AU$16=$AU$17,0,IF(AND(AZ34>$BY$1,$AI$3=$AR$2,'Master Sheet'!$D$27>0),'Master Sheet'!$D$27,IF(AND(AZ34=$BY$1),IF($AU$9<18001,135,IF($AU$9<33501,220,IF($AU$9<54001,330,440))),IF(AND(AZ34>$BY$1),IF($AU$9<18001,265,IF($AU$9<33501,440,IF($AU$9<54001,658,875))),\"\"))))))","v":""}]
[27,27,"2021-06-01",{"$f":"IFERROR(IF($C33=\"TOTAL\",\"अक्षरें राशि :-\",IF($C34=\"TOTAL\",SUM($D$8:D33),IF(BA35=\"\",\"\",BA35))),\"\")","v":107300},{"$f":"IFERROR(IF($C34=\"TOTAL\",SUM($E$8:E33),IF(BC35=\"\",\"\",BC35)),\"\")","v":21889},{"$f":"IFERROR(IF($C34=\"TOTAL\",SUM($F$8:F33),IF(OR(C34=$AS$16,C34=$AS$17,C34=$AS$18,C34=$AS$19,C34=$AS$20,C34=$AS$21,C34=$AS$22,C34=$AS$23,C34=$AS$24),0,IF(BD35=\"\",\"\",BD35))),\"\")","v":8584},{"$f":"IFERROR(IF($C34=\"TOTAL\",SUM($G$8:G33),IF(BB35=\"\",\"\",BB35)),\"\")","v":21460},159233,{"$f":"IFERROR(IF($C34=\"TOTAL\",SUM($I$8:I33),IF(BF35=\"\",\"\",BF35)),\"\")","v":101800},{"$f":"IFERROR(IF($C34=\"TOTAL\",SUM($J$8:J33),IF(BH35=\"\",\"\",BH35)),\"\")","v":20767},{"$f":"IFERROR(IF($C34=\"TOTAL\",SUM($K$8:K33),IF(OR(C34=$AS$16,C34=$AS$17,C34=$AS$18,C34=$AS$19,C34=$AS$20,C34=$AS$21,C34=$AS$22,C34=$AS$23,C34=$AS$24),0,IF(BI35=\"\",\"\",BI35))),\"\")","v":8144},{"$f":"IFERROR(IF($C34=\"TOTAL\",SUM($L$8:L33),IF(BG35=\"\",\"\",BG35)),\"\")","v":20360},151071,{"$f":"IFERROR(IF(C34=\"\",\"\",IF(D34=\"\",\"\",IF(I34=\"\",\"\",IF($C34=\"TOTAL\",SUM($N$8:N33),SUM(D34-I34))))),\"\")","v":5500},{"$f":"IFERROR(IF(C34=\"\",\"\",IF(E34=\"\",\"\",IF(J34=\"\",\"\",IF($C34=\"TOTAL\",SUM($O$8:O33),SUM(E34-J34))))),\"\")","v":1122},{"$f":"IFERROR(IF(C34=\"\",\"\",IF(F34=\"\",\"\",IF(K34=\"\",\"\",IF($C34=\"TOTAL\",SUM($P$8:P33),SUM(F34-K34))))),\"\")","v":440},1100,8162,{"$f":"IFERROR(IF(C34=\"\",\"\",IF($C34=\"TOTAL\",SUM($S$8:S33),IF(AND(C34>$AR$1,$AI$3=$AR$2),BW35,IF($AU$18=$AU$20,SUM(BJ35+BR35),ROUND((D34+E34)*10%,0))))),\"\")","v":12919},{"$f":"IFERROR(IF(C34=\"\",\"\",IF(I34=\"\",\"\",IF(J34=\"\",\"\",IF($C34=\"TOTAL\",SUM($T$8:T33),IF(AND(C34>$AR$1,$AI$3=$AR$2),BW35,IF($AU$18=$AU$20,$AU$21,ROUND((I34+J34)*10%,0))))))),\"\")","v":12257},662,{"$f":"IFERROR(IF(C34=\"\",\"\",IF($AU$16=$AU$17,0,IF($C34=\"TOTAL\",SUM($V$8:V33),IF($AU$19=$AU$31,0,IF(AND($AU$32=$AU$20,C34=$AU$33),$AU$34,V33))))),\"\")","v":2100},{"$f":"IFERROR(IF(C34=\"\",\"\",IF($AU$16=$AU$17,0,IF($C34=\"TOTAL\",SUM($W$8:W33),IF($AU$19=$AU$20,$AU$24,0)))),\"\")","v":2100},0,{"$f":"IFERROR(IF(C34=\"\",\"\",IF($AU$16=$AU$17,0,IF($C34=\"TOTAL\",SUM($Y$8:Y33),BZ34))),\"\")","v":""},{"$f":"IFERROR(IF(C34=\"\",\"\",IF($AU$16=$AU$17,0,IF($C34=\"TOTAL\",SUM($Z$8:Z33),BY34))),\"\")","v":""},"",{"$f":"IFERROR(IF(C34=\"\",\"\",IF(D34=\"\",\"\",IF($C34=\"TOTAL\",SUM($AB$8:AB33),IF(C34=$AU$1,ROUND(D34*5/31,0.01),\"\")))),\"\")","v":""},{"$f":"IFERROR(IF(C34=\"\",\"\",IF(I34=\"\",\"\",IF($C34=\"TOTAL\",SUM($AC$8:AC33),IF(C34=$AU$1,ROUND(I34*5/31,0.01),\"\")))),\"\")","v":""},"",{"$f":"IFERROR(IF(C34=\"\",\"\",IF(AND(BP35=\"\",BW35=\"\"),\"\",IF($C34=\"TOTAL\",SUM($AE$8:AE33),BP35))),\"\")","v":""},{"$f":"IFERROR(IF(C34=\"\",\"\",IF($C34=\"TOTAL\",SUM($AF$8:AF33),ROUND(R34*$AU$7%,0))),\"\")","v":0},662,{"$f":"IFERROR(IF(C34=\"\",\"\",IF($C34=\"TOTAL\",SUM($AH$8:AH33),SUM(R34-AG34))),\"\")","v":7500},{"$nulls":8},17,17,null,"2019-02-01",{"$f":"'Master Sheet'!M17","v":3000},"2021-05-01","2021-05-01","","2021-05-01","2021-05-01",107300,21460,21889,8584,null,101800,20360,20767,8144,3675,null,null,8162,3675,"","",0,0,{"$nulls":4},"",null,"",{"$f":"IF(AZ35=\"\",\"\",IF(AZ35=\"TOTAL\",\"\",IF($AU$16=$AU$17,0,IF(AND(AZ35>$BY$1,$AI$3=$AR$2,'Master Sheet'!$D$27>0),'Master Sheet'!$D$27,IF(AND(AZ35=$BY$1),IF($AU$9<18001,135,IF($AU$9<33501,220,IF($AU$9<54001,330,440))),IF(AND(AZ35>$BY$1),IF($AU$9<18001,265,IF($AU$9<33501,440,IF($AU$9<54001,658,875))),\"\"))))))","v":""}]
[28,28,"2021-07-01",{"$f":"IFERROR(IF($C34=\"TOTAL\",\"अक्षरें राशि :-\",IF($C35=\"TOTAL\",SUM($D$8:D34),IF(BA36=\"\",\"\",BA36))),\"\")","v":110500},{"$f":"IFERROR(IF($C35=\"TOTAL\",SUM($E$8:E34),IF(BC36=\"\",\"\",BC36)),\"\")","v":41106},{"$f":"IFERROR(IF($C35=\"TOTAL\",SUM($F$8:F34),IF(OR(C35=$AS$16,C35=$AS$17,C35=$AS$18,C35=$AS$19,C35=$AS$20,C35=$AS$21,C35=$AS$22,C35=$AS$23,C35=$AS$24),0,IF(BD36=\"\",\"\",BD36))),\"\")","v":9945},{"$f":"IFERROR(IF($C35=\"TOTAL\",SUM($G$8:G34),IF(BB36=\"\",\"\",BB36)),\"\")","v":22100},183651,{"$f":"IFERROR(IF($C35=\"TOTAL\",SUM($I$8:I34),IF(BF36=\"\",\"\",BF36)),\"\")","v":104900},{"$f":"IFERROR(IF($C35=\"TOTAL\",SUM($J$8:J34),IF(BH36=\"\",\"\",BH36)),\"\")","v":39023},{"$f":"IFERROR(IF($C35=\"TOTAL\",SUM($K$8:K34),IF(OR(C35=$AS$16,C35=$AS$17,C35=$AS$18,C35=$AS$19,C35=$AS$20,C35=$AS$21,C35=$AS$22,C35=$AS$23,C35=$AS$24),0,IF(BI36=\"\",\"\",BI36))),\"\")","v":9441},{"$f":"IFERROR(IF($C35=\"TOTAL\",SUM($L$8:L34),IF(BG36=\"\",\"\",BG36)),\"\")","v":20980},174344,{"$f":"IFERROR(IF(C35=\"\",\"\",IF(D35=\"\",\"\",IF(I35=\"\",\"\",IF($C35=\"TOTAL\",SUM($N$8:N34),SUM(D35-I35))))),\"\")","v":5600},{"$f":"IFERROR(IF(C35=\"\",\"\",IF(E35=\"\",\"\",IF(J35=\"\",\"\",IF($C35=\"TOTAL\",SUM($O$8:O34),SUM(E35-J35))))),\"\")","v":2083},{"$f":"IFERROR(IF(C35=\"\",\"\",IF(F35=\"\",\"\",IF(K35=\"\",\"\",IF($C35=\"TOTAL\",SUM($P$8:P34),SUM(F35-K35))))),\"\")","v":504},1120,9307,{"$f":"IFERROR(IF(C35=\"\",\"\",IF($C35=\"TOTAL\",SUM($S$8:S34),IF(AND(C35>$AR$1,$AI$3=$AR$2),BW36,IF($AU$18=$AU$20,SUM(BJ36+BR36),ROUND((D35+E35)*10%,0))))),\"\")","v":15161},{"$f":"IFERROR(IF(C35=\"\",\"\",IF(I35=\"\",\"\",IF(J35=\"\",\"\",IF($C35=\"TOTAL\",SUM($T$8:T34),IF(AND(C35>$AR$1,$AI$3=$AR$2),BW36,IF($AU$18=$AU$20,$AU$21,ROUND((I35+J35)*10%,0))))))),\"\")","v":14392},769,{"$f":"IFERROR(IF(C35=\"\",\"\",IF($AU$16=$AU$17,0,IF($C35=\"TOTAL\",SUM($V$8:V34),IF($AU$19=$AU$31,0,IF(AND($AU$32=$AU$20,C35=$AU$33),$AU$34,V34))))),\"\")","v":2100},{"$f":"IFERROR(IF(C35=\"\",\"\",IF($AU$16=$AU$17,0,IF($C35=\"TOTAL\",SUM($W$8:W34),IF($AU$19=$AU$20,$AU$24,0)))),\"\")","v":2100},0,{"$f":"IFERROR(IF(C35=\"\",\"\",IF($AU$16=$AU$17,0,IF($C35=\"TOTAL\",SUM($Y$8:Y34),BZ35))),\"\")","v":""},{"$f":"IFERROR(IF(C35=\"\",\"\",IF($AU$16=$AU$17,0,IF($C35=\"TOTAL\",SUM($Z$8:Z34),BY35))),\"\")","v":""},"",{"$f":"IFERROR(IF(C35=\"\",\"\",IF(D35=\"\",\"\",IF($C35=\"TOTAL\",SUM($AB$8:AB34),IF(C35=$AU$1,ROUND(D35*5/31,0.01),\"\")))),\"\")","v":""},{"$f":"IFERROR(IF(C35=\"\",\"\",IF(I35=\"\",\"\",IF($C35=\"TOTAL\",SUM($AC$8:AC34),IF(C35=$AU$1,ROUND(I35*5/31,0.01),\"\")))),\"\")","v":""},"",{"$f":"IFERROR(IF(C35=\"\",\"\",IF(AND(BP36=\"\",BW36=\"\"),\"\",IF($C35=\"TOTAL\",SUM($AE$8:AE34),BP36))),\"\")","v":168},{"$f":"IFERROR(IF(C35=\"\",\"\",IF($C35=\"TOTAL\",SUM($AF$8:AF34),ROUND(R35*$AU$7%,0))),\"\")","v":0},937,{"$f":"IFERROR(IF(C35=\"\",\"\",IF($C35=\"TOTAL\",SUM($AH$8:AH34),SUM(R35-AG35))),\"\")","v":8370},{"$nulls":8},17,17,null,"2019-03-01",null,"2021-06-01","2021-06-01","","2021-06-01","2021-06-01",107300,21460,21889,8584,null,101800,20360,20767,8144,3675,null,null,8162,3675,"","",0,0,{"$nulls":4},"",null,"",{"$f":"IF(AZ36=\"\",\"\",IF(AZ36=\"TOTAL\",\"\",IF($AU$16=$AU$17,0,IF(AND(AZ36>$BY$1,$AI$3=$AR$2,'Master Sheet'!$D$27>0),'Master Sheet'!$D$27,IF(AND(AZ36=$BY$1),IF($AU$9<18001,135,IF($AU$9<33501,220,IF($AU$9<54001,330,440))),IF(AND(AZ36>$BY$1),IF($AU$9<18001,265,IF($AU$9<33501,440,IF($AU$9<54001,658,875))),\"\"))))))","v":""}]
[29,29,"2021-08-01",{"$f":"IFERROR(IF($C35=\"TOTAL\",\"अक्षरें राशि :-\",IF($C36=\"TOTAL\",SUM($D$8:D35),IF(BA37=\"\",\"\",BA37))),\"\")","v":110500},{"$f":"IFERROR(IF($C36=\"TOTAL\",SUM($E$8:E35),IF(BC37=\"\",\"\",BC37)),\"\")","v":41106},{"$f":"IFERROR(IF($C36=\"TOTAL\",SUM($F$8:F35),IF(OR(C36=$AS$16,C36=$AS$17,C36=$AS$18,C36=$AS$19,C36=$AS$20,C36=$AS$21,C36=$AS$22,C36=$AS$23,C36=$AS$24),0,IF(BD37=\"\",\"\",BD37))),\"\")","v":9945},{"$f":"IFERROR(IF($C36=\"TOTAL\",SUM($G$8:G35),IF(BB37=\"\",\"\",BB37)),\"\")","v":22100},183651,{"$f":"IFERROR(IF($C36=\"TOTAL\",SUM($I$8:I35),IF(BF37=\"\",\"\",BF37)),\"\")","v":104900},{"$f":"IFERROR(IF($C36=\"TOTAL\",SUM($J$8:J35),IF(BH37=\"\",\"\",BH37)),\"\")","v":39023},{"$f":"IFERROR(IF($C36=\"TOTAL\",SUM($K$8:K35),IF(OR(C36=$AS$16,C36=$AS$17,C36=$AS$18,C36=$AS$19,C36=$AS$20,C36=$AS$21,C36=$AS$22,C36=$AS$23,C36=$AS$24),0,IF(BI37=\"\",\"\",BI37))),\"\")","v":9441},{"$f":"IFERROR(IF($C36=\"TOTAL\",SUM($L$8:L35),IF(BG37=\"\",\"\",BG37)),\"\")","v":20980},174344,{"$f":"IFERROR(IF(C36=\"\",\"\",IF(D36=\"\",\"\",IF(I36=\"\",\"\",IF($C36=\"TOTAL\",SUM($N$8:N35),SUM(D36-I36))))),\"\")","v":5600},{"$f":"IFERROR(IF(C36=\"\",\"\",IF(E36=\"\",\"\",IF(J36=\"\",\"\",IF($C36=\"TOTAL\",SUM($O$8:O35),SUM(E36-J36))))),\"\")","v":2083},{"$f":"IFERROR(IF(C36=\"\",\"\",IF(F36=\"\",\"\",IF(K36=\"\",\"\",IF($C36=\"TOTAL\",SUM($P$8:P35),SUM(F36-K36))))),\"\")","v":504},1120,9307,{"$f":"IFERROR(IF(C36=\"\",\"\",IF($C36=\"TOTAL\",SUM($S$8:S35),IF(AND(C36>$AR$1,$AI$3=$AR$2),BW37,IF($AU$18=$AU$20,SUM(BJ37+BR37),ROUND((D36+E36)*10%,0))))),\"\")","v":15161},{"$f":"IFERROR(IF(C36=\"\",\"\",IF(I36=\"\",\"\",IF(J36=\"\",\"\",IF($C36=\"TOTAL\",SUM($T$8:T35),IF(AND(C36>$AR$1,$AI$3=$AR$2),BW37,IF($AU$18=$AU$20,$AU$21,ROUND((I36+J36)*10%,0))))))),\"\")","v":14392},769,{"$f":"IFERROR(IF(C36=\"\",\"\",IF($AU$16=$AU$17,0,IF($C36=\"TOTAL\",SUM($V$8:V35),IF($AU$19=$AU$31,0,IF(AND($AU$32=$AU$20,C36=$AU$33),$AU$34,V35))))),\"\")","v":2100},{"$f":"IFERROR(IF(C36=\"\",\"\",IF($AU$16=$AU$17,0,IF($C36=\"TOTAL\",SUM($W$8:W35),IF($AU$19=$AU$20,$AU$24,0)))),\"\")","v":2100},0,{"$f":"IFERROR(IF(C36=\"\",\"\",IF($AU$16=$AU$17,0,IF($C36=\"TOTAL\",SUM($Y$8:Y35),BZ36))),\"\")","v":""},{"$f":"IFERROR(IF(C36=\"\",\"\",IF($AU$16=$AU$17,0,IF($C36=\"TOTAL\",SUM($Z$8:Z35),BY36))),\"\")","v":""},"",{"$f":"IFERROR(IF(C36=\"\",\"\",IF(D36=\"\",\"\",IF($C36=\"TOTAL\",SUM($AB$8:AB35),IF(C36=$AU$1,ROUND(D36*5/31,0.01),\"\")))),\"\")","v":""},{"$f":"IFERROR(IF(C36=\"\",\"\",IF(I36=\"\",\"\",IF($C36=\"TOTAL\",SUM($AC$8:AC35),IF(C36=$AU$1,ROUND(I36*5/31,0.01),\"\")))),\"\")","v":""},"",{"$f":"IFERROR(IF(C36=\"\",\"\",IF(AND(BP37=\"\",BW37=\"\"),\"\",IF($C36=\"TOTAL\",SUM($AE$8:AE35),BP37))),\"\")","v":168},{"$f":"IFERROR(IF(C36=\"\",\"\",IF($C36=\"TOTAL\",SUM($AF$8:AF35),ROUND(R36*$AU$7%,0))),\"\")","v":0},937,{"$f":"IFERROR(IF(C36=\"\",\"\",IF($C36=\"TOTAL\",SUM($AH$8:AH35),SUM(R36-AG36))),\"\")","v":8370},{"$nulls":8},31,31,null,"2019-04-01",{"$f":"'Master Sheet'!D21","v":"NO"},"2021-07-01","2021-07-01","","2021-07-01","2021-07-01",110500,22100,41106,9945,null,104900,20980,39023,9441,3675,null,null,9307,3675,"YES",168,23,230,{"$nulls":4},"",null,"",{"$f":"IF(AZ37=\"\",\"\",IF(AZ37=\"TOTAL\",\"\",IF($AU$16=$AU$17,0,IF(AND(AZ37>$BY$1,$AI$3=$AR$2,'Master Sheet'!$D$27>0),'Master Sheet'!$D$27,IF(AND(AZ37=$BY$1),IF($AU$9<18001,135,IF($AU$9<33501,220,IF($AU$9<54001,330,440))),IF(AND(AZ37>$BY$1),IF($AU$9<18001,265,IF($AU$9<33501,440,IF($AU$9<54001,658,875))),\"\"))))))","v":""}]
[30,30,"2021-09-01",{"$f":"IFERROR(IF($C36=\"TOTAL\",\"अक्षरें राशि :-\",IF($C37=\"TOTAL\",SUM($D$8:D36),IF(BA38=\"\",\"\",BA38))),\"\")","v":110500},{"$f":"IFERROR(IF($C37=\"TOTAL\",SUM($E$8:E36),IF(BC38=\"\",\"\",BC38)),\"\")","v":41106},{"$f":"IFERROR(IF($C37=\"TOTAL\",SUM($F$8:F36),IF(OR(C37=$AS$16,C37=$AS$17,C37=$AS$18,C37=$AS$19,C37=$AS$20,C37=$AS$21,C37=$AS$22,C37=$AS$23,C37=$AS$24),0,IF(BD38=\"\",\"\",BD38))),\"\")","v":9945},{"$f":"IFERROR(IF($C37=\"TOTAL\",SUM($G$8:G36),IF(BB38=\"\",\"\",BB38)),\"\")","v":22100},183651,{"$f":"IFERROR(IF($C37=\"TOTAL\",SUM($I$8:I36),IF(BF38=\"\",\"\",BF38)),\"\")","v":104900},{"$f":"IFERROR(IF($C37=\"TOTAL\",SUM($J$8:J36),IF(BH38=\"\",\"\",BH38)),\"\")","v":39023},{"$f":"IFERROR(IF($C37=\"TOTAL\",SUM($K$8:K36),IF(OR(C37=$AS$16,C37=$AS$17,C37=$AS$18,C37=$AS$19,C37=$AS$20,C37=$AS$21,C37=$AS$22,C37=$AS$23,C37=$AS$24),0,IF(BI38=\"\",\"\",BI38))),\"\")","v":9441},{"$f":"IFERROR(IF($C37=\"TOTAL\",SUM($L$8:L36),IF(BG38=\"\",\"\",BG38)),\"\")","v":20980},174344,{"$f":"IFERROR(IF(C37=\"\",\"\",IF(D37=\"\",\"\",IF(I37=\"\",\"\",IF($C37=\"TOTAL\",SUM($N$8:N36),SUM(D37-I37))))),\"\")","v":5600},{"$f":"IFERROR(IF(C37=\"\",\"\",IF(E37=\"\",\"\",IF(J37=\"\",\"\",IF($C37=\"TOTAL\",SUM($O$8:O36),SUM(E37-J37))))),\"\")","v":2083},{"$f":"IFERROR(IF(C37=\"\",\"\",IF(F37=\"\",\"\",IF(K37=\"\",\"\",IF($C37=\"TOTAL\",SUM($P$8:P36),SUM(F37-K37))))),\"\")","v":504},1120,9307,{"$f":"IFERROR(IF(C37=\"\",\"\",IF($C37=\"TOTAL\",SUM($S$8:S36),IF(AND(C37>$AR$1,$AI$3=$AR$2),BW38,IF($AU$18=$AU$20,SUM(BJ38+BR38),ROUND((D37+E37)*10%,0))))),\"\")","v":15161},{"$f":"IFERROR(IF(C37=\"\",\"\",IF(I37=\"\",\"\",IF(J37=\"\",\"\",IF($C37=\"TOTAL\",SUM($T$8:T36),IF(AND(C37>$AR$1,$AI$3=$AR$2),BW38,IF($AU$18=$AU$20,$AU$21,ROUND((I37+J37)*10%,0))))))),\"\")","v":14392},769,{"$f":"IFERROR(IF(C37=\"\",\"\",IF($AU$16=$AU$17,0,IF($C37=\"TOTAL\",SUM($V$8:V36),IF($AU$19=$AU$31,0,IF(AND($AU$32=$AU$20,C37=$AU$33),$AU$34,V36))))),\"\")","v":2100},{"$f":"IFERROR(IF(C37=\"\",\"\",IF($AU$16=$AU$17,0,IF($C37=\"TOTAL\",SUM($W$8:W36),IF($AU$19=$AU$20,$AU$24,0)))),\"\")","v":2100},0,{"$f":"IFERROR(IF(C37=\"\",\"\",IF($AU$16=$AU$17,0,IF($C37=\"TOTAL\",SUM($Y$8:Y36),BZ37))),\"\")","v":""},{"$f":"IFERROR(IF(C37=\"\",\"\",IF($AU$16=$AU$17,0,IF($C37=\"TOTAL\",SUM($Z$8:Z36),BY37))),\"\")","v":""},"",{"$f":"IFERROR(IF(C37=\"\",\"\",IF(D37=\"\",\"\",IF($C37=\"TOTAL\",SUM($AB$8:AB36),IF(C37=$AU$1,ROUND(D37*5/31,0.01),\"\")))),\"\")","v":""},{"$f":"IFERROR(IF(C37=\"\",\"\",IF(I37=\"\",\"\",IF($C37=\"TOTAL\",SUM($AC$8:AC36),IF(C37=$AU$1,ROUND(I37*5/31,0.01),\"\")))),\"\")","v":""},"",{"$f":"IFERROR(IF(C37=\"\",\"\",IF(AND(BP38=\"\",BW38=\"\"),\"\",IF($C37=\"TOTAL\",SUM($AE$8:AE36),BP38))),\"\")","v":168},{"$f":"IFERROR(IF(C37=\"\",\"\",IF($C37=\"TOTAL\",SUM($AF$8:AF36),ROUND(R37*$AU$7%,0))),\"\")","v":0},937,{"$f":"IFERROR(IF(C37=\"\",\"\",IF($C37=\"TOTAL\",SUM($AH$8:AH36),SUM(R37-AG37))),\"\")","v":8370},{"$nulls":8},31,31,null,"2019-05-01",{"$f":"'Master Sheet'!I21","v":44287},"2021-08-01","2021-08-01","","2021-08-01","2021-08-01",110500,22100,41106,9945,null,104900,20980,39023,9441,3675,null,null,9307,3675,"YES",168,23,230,{"$nulls":4},"",null,"",{"$f":"IF(AZ38=\"\",\"\",IF(AZ38=\"TOTAL\",\"\",IF($AU$16=$AU$17,0,IF(AND(AZ38>$BY$1,$AI$3=$AR$2,'Master Sheet'!$D$27>0),'Master Sheet'!$D$27,IF(AND(AZ38=$BY$1),IF($AU$9<18001,135,IF($AU$9<33501,220,IF($AU$9<54001,330,440))),IF(AND(AZ38>$BY$1),IF($AU$9<18001,265,IF($AU$9<33501,440,IF($AU$9<54001,658,875))),\"\"))))))","v":""}]
[31,31,"2021-10-01",{"$f":"IFERROR(IF($C37=\"TOTAL\",\"अक्षरें राशि :-\",IF($C38=\"TOTAL\",SUM($D$8:D37),IF(BA39=\"\",\"\",BA39))),\"\")","v":110500},{"$f":"IFERROR(IF($C38=\"TOTAL\",SUM($E$8:E37),IF(BC39=\"\",\"\",BC39)),\"\")","v":41106},{"$f":"IFERROR(IF($C38=\"TOTAL\",SUM($F$8:F37),IF(OR(C38=$AS$16,C38=$AS$17,C38=$AS$18,C38=$AS$19,C38=$AS$20,C38=$AS$21,C38=$AS$22,C38=$AS$23,C38=$AS$24),0,IF(BD39=\"\",\"\",BD39))),\"\")","v":9945},{"$f":"IFERROR(IF($C38=\"TOTAL\",SUM($G$8:G37),IF(BB39=\"\",\"\",BB39)),\"\")","v":22100},183651,{"$f":"IFERROR(IF($C38=\"TOTAL\",SUM($I$8:I37),IF(BF39=\"\",\"\",BF39)),\"\")","v":104900},{"$f":"IFERROR(IF($C38=\"TOTAL\",SUM($J$8:J37),IF(BH39=\"\",\"\",BH39)),\"\")","v":39023},{"$f":"IFERROR(IF($C38=\"TOTAL\",SUM($K$8:K37),IF(OR(C38=$AS$16,C38=$AS$17,C38=$AS$18,C38=$AS$19,C38=$AS$20,C38=$AS$21,C38=$AS$22,C38=$AS$23,C38=$AS$24),0,IF(BI39=\"\",\"\",BI39))),\"\")","v":9441},{"$f":"IFERROR(IF($C38=\"TOTAL\",SUM($L$8:L37),IF(BG39=\"\",\"\",BG39)),\"\")","v":20980},174344,{"$f":"IFERROR(IF(C38=\"\",\"\",IF(D38=\"\",\"\",IF(I38=\"\",\"\",IF($C38=\"TOTAL\",SUM($N$8:N37),SUM(D38-I38))))),\"\")","v":5600},{"$f":"IFERROR(IF(C38=\"\",\"\",IF(E38=\"\",\"\",IF(J38=\"\",\"\",IF($C38=\"TOTAL\",SUM($O$8:O37),SUM(E38-J38))))),\"\")","v":2083},{"$f":"IFERROR(IF(C38=\"\",\"\",IF(F38=\"\",\"\",IF(K38=\"\",\"\",IF($C38=\"TOTAL\",SUM($P$8:P37),SUM(F38-K38))))),\"\")","v":504},1120,9307,{"$f":"IFERROR(IF(C38=\"\",\"\",IF($C38=\"TOTAL\",SUM($S$8:S37),IF(AND(C38>$AR$1,$AI$3=$AR$2),BW39,IF($AU$18=$AU$20,SUM(BJ39+BR39),ROUND((D38+E38)*10%,0))))),\"\")","v":15161},{"$f":"IFERROR(IF(C38=\"\",\"\",IF(I38=\"\",\"\",IF(J38=\"\",\"\",IF($C38=\"TOTAL\",SUM($T$8:T37),IF(AND(C38>$AR$1,$AI$3=$AR$2),BW39,IF($AU$18=$AU$20,$AU$21,ROUND((I38+J38)*10%,0))))))),\"\")","v":14392},769,{"$f":"IFERROR(IF(C38=\"\",\"\",IF($AU$16=$AU$17,0,IF($C38=\"TOTAL\",SUM($V$8:V37),IF($AU$19=$AU$31,0,IF(AND($AU$32=$AU$20,C38=$AU$33),$AU$34,V37))))),\"\")","v":2100},{"$f":"IFERROR(IF(C38=\"\",\"\",IF($AU$16=$AU$17,0,IF($C38=\"TOTAL\",SUM($W$8:W37),IF($AU$19=$AU$20,$AU$24,0)))),\"\")","v":2100},0,{"$f":"IFERROR(IF(C38=\"\",\"\",IF($AU$16=$AU$17,0,IF($C38=\"TOTAL\",SUM($Y$8:Y37),BZ38))),\"\")","v":""},{"$f":"IFERROR(IF(C38=\"\",\"\",IF($AU$16=$AU$17,0,IF($C38=\"TOTAL\",SUM($Z$8:Z37),BY38))),\"\")","v":""},"",{"$f":"IFERROR(IF(C38=\"\",\"\",IF(D38=\"\",\"\",IF($C38=\"TOTAL\",SUM($AB$8:AB37),IF(C38=$AU$1,ROUND(D38*5/31,0.01),\"\")))),\"\")","v":""},{"$f":"IFERROR(IF(C38=\"\",\"\",IF(I38=\"\",\"\",IF($C38=\"TOTAL\",SUM($AC$8:AC37),IF(C38=$AU$1,ROUND(I38*5/31,0.01),\"\")))),\"\")","v":""},"",{"$f":"IFERROR(IF(C38=\"\",\"\",IF(AND(BP39=\"\",BW39=\"\"),\"\",IF($C38=\"TOTAL\",SUM($AE$8:AE37),BP39))),\"\")","v":""},{"$f":"IFERROR(IF(C38=\"\",\"\",IF($C38=\"TOTAL\",SUM($AF$8:AF37),ROUND(R38*$AU$7%,0))),\"\")","v":0},769,{"$f":"IFERROR(IF(C38=\"\",\"\",IF($C38=\"TOTAL\",SUM($AH$8:AH37),SUM(R38-AG38))),\"\")","v":8538},{"$nulls":8},31,31,null,"2019-06-01",{"$f":"'Master Sheet'!M21","v":5000},"2021-09-01","2021-09-01","","2021-09-01","2021-09-01",110500,22100,41106,9945,null,104900,20980,39023,9441,3675,null,null,9307,3675,"YES",168,23,230,{"$nulls":4},"",null,"",{"$f":"IF(AZ39=\"\",\"\",IF(AZ39=\"TOTAL\",\"\",IF($AU$16=$AU$17,0,IF(AND(AZ39>$BY$1,$AI$3=$AR$2,'Master Sheet'!$D$27>0),'Master Sheet'!$D$27,IF(AND(AZ39=$BY$1),IF($AU$9<18001,135,IF($AU$9<33501,220,IF($AU$9<54001,330,440))),IF(AND(AZ39>$BY$1),IF($AU$9<18001,265,IF($AU$9<33501,440,IF($AU$9<54001,658,875))),\"\"))))))","v":""}]
[32,32,"2021-11-01",{"$f":"IFERROR(IF($C38=\"TOTAL\",\"अक्षरें राशि :-\",IF($C39=\"TOTAL\",SUM($D$8:D38),IF(BA40=\"\",\"\",BA40))),\"\")","v":110500},{"$f":"IFERROR(IF($C39=\"TOTAL\",SUM($E$8:E38),IF(BC40=\"\",\"\",BC40)),\"\")","v":41106},{"$f":"IFERROR(IF($C39=\"TOTAL\",SUM($F$8:F38),IF(OR(C39=$AS$16,C39=$AS$17,C39=$AS$18,C39=$AS$19,C39=$AS$20,C39=$AS$21,C39=$AS$22,C39=$AS$23,C39=$AS$24),0,IF(BD40=\"\",\"\",BD40))),\"\")","v":9945},{"$f":"IFERROR(IF($C39=\"TOTAL\",SUM($G$8:G38),IF(BB40=\"\",\"\",BB40)),\"\")","v":22100},183651,{"$f":"IFERROR(IF($C39=\"TOTAL\",SUM($I$8:I38),IF(BF40=\"\",\"\",BF40)),\"\")","v":104900},{"$f":"IFERROR(IF($C39=\"TOTAL\",SUM($J$8:J38),IF(BH40=\"\",\"\",BH40)),\"\")","v":39023},{"$f":"IFERROR(IF($C39=\"TOTAL\",SUM($K$8:K38),IF(OR(C39=$AS$16,C39=$AS$17,C39=$AS$18,C39=$AS$19,C39=$AS$20,C39=$AS$21,C39=$AS$22,C39=$AS$23,C39=$AS$24),0,IF(BI40=\"\",\"\",BI40))),\"\")","v":9441},{"$f":"IFERROR(IF($C39=\"TOTAL\",SUM($L$8:L38),IF(BG40=\"\",\"\",BG40)),\"\")","v":20980},174344,{"$f":"IFERROR(IF(C39=\"\",\"\",IF(D39=\"\",\"\",IF(I39=\"\",\"\",IF($C39=\"TOTAL\",SUM($N$8:N38),SUM(D39-I39))))),\"\")","v":5600},{"$f":"IFERROR(IF(C39=\"\",\"\",IF(E39=\"\",\"\",IF(J39=\"\",\"\",IF($C39=\"TOTAL\",SUM($O$8:O38),SUM(E39-J39))))),\"\")","v":2083},{"$f":"IFERROR(IF(C39=\"\",\"\",IF(F39=\"\",\"\",IF(K39=\"\",\"\",IF($C39=\"TOTAL\",SUM($P$8:P38),SUM(F39-K39))))),\"\")","v":504},1120,9307,{"$f":"IFERROR(IF(C39=\"\",\"\",IF($C39=\"TOTAL\",SUM($S$8:S38),IF(AND(C39>$AR$1,$AI$3=$AR$2),BW40,IF($AU$18=$AU$20,SUM(BJ40+BR40),ROUND((D39+E39)*10%,0))))),\"\")","v":15161},{"$f":"IFERROR(IF(C39=\"\",\"\",IF(I39=\"\",\"\",IF(J39=\"\",\"\",IF($C39=\"TOTAL\",SUM($T$8:T38),IF(AND(C39>$AR$1,$AI$3=$AR$2),BW40,IF($AU$18=$AU$20,$AU$21,ROUND((I39+J39)*10%,0))))))),\"\")","v":14392},769,{"$f":"IFERROR(IF(C39=\"\",\"\",IF($AU$16=$AU$17,0,IF($C39=\"TOTAL\",SUM($V$8:V38),IF($AU$19=$AU$31,0,IF(AND($AU$32=$AU$20,C39=$AU$33),$AU$34,V38))))),\"\")","v":2100},{"$f":"IFERROR(IF(C39=\"\",\"\",IF($AU$16=$AU$17,0,IF($C39=\"TOTAL\",SUM($W$8:W38),IF($AU$19=$AU$20,$AU$24,0)))),\"\")","v":2100},0,{"$f":"IFERROR(IF(C39=\"\",\"\",IF($AU$16=$AU$17,0,IF($C39=\"TOTAL\",SUM($Y$8:Y38),BZ39))),\"\")","v":""},{"$f":"IFERROR(IF(C39=\"\",\"\",IF($AU$16=$AU$17,0,IF($C39=\"TOTAL\",SUM($Z$8:Z38),BY39))),\"\")","v":""},"",{"$f":"IFERROR(IF(C39=\"\",\"\",IF(D39=\"\",\"\",IF($C39=\"TOTAL\",SUM($AB$8:AB38),IF(C39=$AU$1,ROUND(D39*5/31,0.01),\"\")))),\"\")","v":""},{"$f":"IFERROR(IF(C39=\"\",\"\",IF(I39=\"\",\"\",IF($C39=\"TOTAL\",SUM($AC$8:AC38),IF(C39=$AU$1,ROUND(I39*5/31,0.01),\"\")))),\"\")","v":""},"",{"$f":"IFERROR(IF(C39=\"\",\"\",IF(AND(BP40=\"\",BW40=\"\"),\"\",IF($C39=\"TOTAL\",SUM($AE$8:AE38),BP40))),\"\")","v":""},{"$f":"IFERROR(IF(C39=\"\",\"\",IF($C39=\"TOTAL\",SUM($AF$8:AF38),ROUND(R39*$AU$7%,0))),\"\")","v":0},769,{"$f":"IFERROR(IF(C39=\"\",\"\",IF($C39=\"TOTAL\",SUM($AH$8:AH38),SUM(R39-AG39))),\"\")","v":8538},{"$nulls":8},31,31,null,"2019-07-01",null,"2021-10-01","2021-10-01","","2021-10-01","2021-10-01",110500,22100,41106,9945,null,104900,20980,39023,9441,3675,null,null,9307,3675,"","",0,0,{"$nulls":4},"",null,"",{"$f":"IF(AZ40=\"\",\"\",IF(AZ40=\"TOTAL\",\"\",IF($AU$16=$AU$17,0,IF(AND(AZ40>$BY$1,$AI$3=$AR$2,'Master Sheet'!$D$27>0),'Master Sheet'!$D$27,IF(AND(AZ40=$BY$1),IF($AU$9<18001,135,IF($AU$9<33501,220,IF($AU$9<54001,330,440))),IF(AND(AZ40>$BY$1),IF($AU$9<18001,265,IF($AU$9<33501,440,IF($AU$9<54001,658,875))),\"\"))))))","v":""}]
[33,33,"2021-12-01",{"$f":"IFERROR(IF($C39=\"TOTAL\",\"अक्षरें राशि :-\",IF($C40=\"TOTAL\",SUM($D$8:D39),IF(BA41=\"\",\"\",BA41))),\"\")","v":110500},{"$f":"IFERROR(IF($C40=\"TOTAL\",SUM($E$8:E39),IF(BC41=\"\",\"\",BC41)),\"\")","v":41106},{"$f":"IFERROR(IF($C40=\"TOTAL\",SUM($F$8:F39),IF(OR(C40=$AS$16,C40=$AS$17,C40=$AS$18,C40=$AS$19,C40=$AS$20,C40=$AS$21,C40=$AS$22,C40=$AS$23,C40=$AS$24),0,IF(BD41=\"\",\"\",BD41))),\"\")","v":9945},{"$f":"IFERROR(IF($C40=\"TOTAL\",SUM($G$8:G39),IF(BB41=\"\",\"\",BB41)),\"\")","v":22100},183651,{"$f":"IFERROR(IF($C40=\"TOTAL\",SUM($I$8:I39),IF(BF41=\"\",\"\",BF41)),\"\")","v":104900},{"$f":"IFERROR(IF($C40=\"TOTAL\",SUM($J$8:J39),IF(BH41=\"\",\"\",BH41)),\"\")","v":39023},{"$f":"IFERROR(IF($C40=\"TOTAL\",SUM($K$8:K39),IF(OR(C40=$AS$16,C40=$AS$17,C40=$AS$18,C40=$AS$19,C40=$AS$20,C40=$AS$21,C40=$AS$22,C40=$AS$23,C40=$AS$24),0,IF(BI41=\"\",\"\",BI41))),\"\")","v":9441},{"$f":"IFERROR(IF($C40=\"TOTAL\",SUM($L$8:L39),IF(BG41=\"\",\"\",BG41)),\"\")","v":20980},174344,{"$f":"IFERROR(IF(C40=\"\",\"\",IF(D40=\"\",\"\",IF(I40=\"\",\"\",IF($C40=\"TOTAL\",SUM($N$8:N39),SUM(D40-I40))))),\"\")","v":5600},{"$f":"IFERROR(IF(C40=\"\",\"\",IF(E40=\"\",\"\",IF(J40=\"\",\"\",IF($C40=\"TOTAL\",SUM($O$8:O39),SUM(E40-J40))))),\"\")","v":2083},{"$f":"IFERROR(IF(C40=\"\",\"\",IF(F40=\"\",\"\",IF(K40=\"\",\"\",IF($C40=\"TOTAL\",SUM($P$8:P39),SUM(F40-K40))))),\"\")","v":504},1120,9307,{"$f":"IFERROR(IF(C40=\"\",\"\",IF($C40=\"TOTAL\",SUM($S$8:S39),IF(AND(C40>$AR$1,$AI$3=$AR$2),BW41,IF($AU$18=$AU$20,SUM(BJ41+BR41),ROUND((D40+E40)*10%,0))))),\"\")","v":15161},{"$f":"IFERROR(IF(C40=\"\",\"\",IF(I40=\"\",\"\",IF(J40=\"\",\"\",IF($C40=\"TOTAL\",SUM($T$8:T39),IF(AND(C40>$AR$1,$AI$3=$AR$2),BW41,IF($AU$18=$AU$20,$AU$21,ROUND((I40+J40)*10%,0))))))),\"\")","v":14392},769,{"$f":"IFERROR(IF(C40=\"\",\"\",IF($AU$16=$AU$17,0,IF($C40=\"TOTAL\",SUM($V$8:V39),IF($AU$19=$AU$31,0,IF(AND($AU$32=$AU$20,C40=$AU$33),$AU$34,V39))))),\"\")","v":2100},{"$f":"IFERROR(IF(C40=\"\",\"\",IF($AU$16=$AU$17,0,IF($C40=\"TOTAL\",SUM($W$8:W39),IF($AU$19=$AU$20,$AU$24,0)))),\"\")","v":2100},0,{"$f":"IFERROR(IF(C40=\"\",\"\",IF($AU$16=$AU$17,0,IF($C40=\"TOTAL\",SUM($Y$8:Y39),BZ40))),\"\")","v":""},{"$f":"IFERROR(IF(C40=\"\",\"\",IF($AU$16=$AU$17,0,IF($C40=\"TOTAL\",SUM($Z$8:Z39),BY40))),\"\")","v":""},{"$f":"IFERROR(IF(C40=\"\",\"\",SUM(Y40-Z40)),\"\")","v":""},{"$f":"IFERROR(IF(C40=\"\",\"\",IF(D40=\"\",\"\",IF($C40=\"TOTAL\",SUM($AB$8:AB39),IF(C40=$AU$1,ROUND(D40*5/31,0.01),\"\")))),\"\")","v":""},{"$f":"IFERROR(IF(C40=\"\",\"\",IF(I40=\"\",\"\",IF($C40=\"TOTAL\",SUM($AC$8:AC39),IF(C40=$AU$1,ROUND(I40*5/31,0.01),\"\")))),\"\")","v":""},"",{"$f":"IFERROR(IF(C40=\"\",\"\",IF(AND(BP41=\"\",BW41=\"\"),\"\",IF($C40=\"TOTAL\",SUM($AE$8:AE39),BP41))),\"\")","v":""},{"$f":"IFERROR(IF(C40=\"\",\"\",IF($C40=\"TOTAL\",SUM($AF$8:AF39),ROUND(R40*$AU$7%,0))),\"\")","v":0},769,{"$f":"IFERROR(IF(C40=\"\",\"\",IF($C40=\"TOTAL\",SUM($AH$8:AH39),SUM(R40-AG40))),\"\")","v":8538},{"$nulls":8},31,31,null,"2019-08-01",null,"2021-11-01","2021-11-01","","2021-11-01","2021-11-01",110500,22100,41106,9945,null,104900,20980,39023,9441,3675,null,null,9307,3675,"","",0,0,{"$nulls":4},"",null,"",{"$f":"IF(AZ41=\"\",\"\",IF(AZ41=\"TOTAL\",\"\",IF($AU$16=$AU$17,0,IF(AND(AZ41>$BY$1,$AI$3=$AR$2,'Master Sheet'!$D$27>0),'Master Sheet'!$D$27,IF(AND(AZ41=$BY$1),IF($AU$9<18001,135,IF($AU$9<33501,220,IF($AU$9<54001,330,440))),IF(AND(AZ41>$BY$1),IF($AU$9<18001,265,IF($AU$9<33501,440,IF($AU$9<54001,658,875))),\"\"))))))","v":""}]
[34,34,"2022-01-01",{"$f":"IFERROR(IF($C40=\"TOTAL\",\"अक्षरें राशि :-\",IF($C41=\"TOTAL\",SUM($D$8:D40),IF(BA42=\"\",\"\",BA42))),\"\")","v":110500},{"$f":"IFERROR(IF($C41=\"TOTAL\",SUM($E$8:E40),IF(BC42=\"\",\"\",BC42)),\"\")","v":45084},{"$f":"IFERROR(IF($C41=\"TOTAL\",SUM($F$8:F40),IF(OR(C41=$AS$16,C41=$AS$17,C41=$AS$18,C41=$AS$19,C41=$AS$20,C41=$AS$21,C41=$AS$22,C41=$AS$23,C41=$AS$24),0,IF(BD42=\"\",\"\",BD42))),\"\")","v":9945},{"$f":"IFERROR(IF($C41=\"TOTAL\",SUM($G$8:G40),IF(BB42=\"\",\"\",BB42)),\"\")","v":22100},187629,{"$f":"IFERROR(IF($C41=\"TOTAL\",SUM($I$8:I40),IF(BF42=\"\",\"\",BF42)),\"\")","v":104900},{"$f":"IFERROR(IF($C41=\"TOTAL\",SUM($J$8:J40),IF(BH42=\"\",\"\",BH42)),\"\")","v":42799},{"$f":"IFERROR(IF($C41=\"TOTAL\",SUM($K$8:K40),IF(OR(C41=$AS$16,C41=$AS$17,C41=$AS$18,C41=$AS$19,C41=$AS$20,C41=$AS$21,C41=$AS$22,C41=$AS$23,C41=$AS$24),0,IF(BI42=\"\",\"\",BI42))),\"\")","v":9441},{"$f":"IFERROR(IF($C41=\"TOTAL\",SUM($L$8:L40),IF(BG42=\"\",\"\",BG42)),\"\")","v":20980},178120,{"$f":"IFERROR(IF(C41=\"\",\"\",IF(D41=\"\",\"\",IF(I41=\"\",\"\",IF($C41=\"TOTAL\",SUM($N$8:N40),SUM(D41-I41))))),\"\")","v":5600},{"$f":"IFERROR(IF(C41=\"\",\"\",IF(E41=\"\",\"\",IF(J41=\"\",\"\",IF($C41=\"TOTAL\",SUM($O$8:O40),SUM(E41-J41))))),\"\")","v":2285},{"$f":"IFERROR(IF(C41=\"\",\"\",IF(F41=\"\",\"\",IF(K41=\"\",\"\",IF($C41=\"TOTAL\",SUM($P$8:P40),SUM(F41-K41))))),\"\")","v":504},1120,9509,{"$f":"IFERROR(IF(C41=\"\",\"\",IF($C41=\"TOTAL\",SUM($S$8:S40),IF(AND(C41>$AR$1,$AI$3=$AR$2),BW42,IF($AU$18=$AU$20,SUM(BJ42+BR42),ROUND((D41+E41)*10%,0))))),\"\")","v":15558},{"$f":"IFERROR(IF(C41=\"\",\"\",IF(I41=\"\",\"\",IF(J41=\"\",\"\",IF($C41=\"TOTAL\",SUM($T$8:T40),IF(AND(C41>$AR$1,$AI$3=$AR$2),BW42,IF($AU$18=$AU$20,$AU$21,ROUND((I41+J41)*10%,0))))))),\"\")","v":14770},788,{"$f":"IFERROR(IF(C41=\"\",\"\",IF($AU$16=$AU$17,0,IF($C41=\"TOTAL\",SUM($V$8:V40),IF($AU$19=$AU$31,0,IF(AND($AU$32=$AU$20,C41=$AU$33),$AU$34,V40))))),\"\")","v":2100},{"$f":"IFERROR(IF(C41=\"\",\"\",IF($AU$16=$AU$17,0,IF($C41=\"TOTAL\",SUM($W$8:W40),IF($AU$19=$AU$20,$AU$24,0)))),\"\")","v":2100},0,{"$f":"IFERROR(IF(C41=\"\",\"\",IF($AU$16=$AU$17,0,IF($C41=\"TOTAL\",SUM($Y$8:Y40),BZ41))),\"\")","v":""},{"$f":"IFERROR(IF(C41=\"\",\"\",IF($AU$16=$AU$17,0,IF($C41=\"TOTAL\",SUM($Z$8:Z40),BY41))),\"\")","v":""},"",{"$f":"IFERROR(IF(C41=\"\",\"\",IF(D41=\"\",\"\",IF($C41=\"TOTAL\",SUM($AB$8:AB40),IF(C41=$AU$1,ROUND(D41*5/31,0.01),\"\")))),\"\")","v":""},{"$f":"IFERROR(IF(C41=\"\",\"\",IF(I41=\"\",\"\",IF($C41=\"TOTAL\",SUM($AC$8:AC40),IF(C41=$AU$1,ROUND(I41*5/31,0.01),\"\")))),\"\")","v":""},"",{"$f":"IFERROR(IF(C41=\"\",\"\",IF(AND(BP42=\"\",BW42=\"\"),\"\",IF($C41=\"TOTAL\",SUM($AE$8:AE40),BP42))),\"\")","v":""},{"$f":"IFERROR(IF(C41=\"\",\"\",IF($C41=\"TOTAL\",SUM($AF$8:AF40),ROUND(R41*$AU$7%,0))),\"\")","v":0},788,{"$f":"IFERROR(IF(C41=\"\",\"\",IF($C41=\"TOTAL\",SUM($AH$8:AH40),SUM(R41-AG41))),\"\")","v":8721},{"$nulls":8},31,31,null,"2019-09-01",null,"2021-12-01","2021-12-01","","2021-12-01","2021-12-01",110500,22100,41106,9945,null,104900,20980,39023,9441,3675,null,null,9307,3675,"",{"$f":"IF(BO41=\"\",\"\",IF($AU$16=$AU$17,ROUND((D40)*3%,0),IF(OR(AZ41=$AT$63,AZ41=$AT$64,AZ41=$AT$65),SUM(ROUND((D40-I40)*3%,0)),IF(OR(AZ41=$AT$69,AZ41=$AT$70,AZ41=$AT$71),SUM(ROUND((D40-I40)*3%,0)),\"\"))))","v":""},{"$f":"IFERROR(IF(AND($AU$16=$AU$17,BO41=\"YES\"),ROUND(ROUND(D40*3%,0)*10%,0),IF(AND($AU$16=$AU$15,BO41=\"YES\",$AS$7=\"NO\"),ROUND(ROUND((N40+I40)*3%,0)*10%,0),IF(AND($AU$16=$AU$15,BO41=\"YES\",$AS$7=\"YES\"),ROUND(ROUND((N40+O40)*3%,0)*10%,0),0))),\"\")","v":0},{"$f":"IF(AND($AU$16=$AU$17,BO41=\"YES\"),ROUND(D40*3%,0),IF(AND($AU$16=$AU$15,BO41=\"YES\",$AS$7=\"NO\"),ROUND((N40+I40)*3%,0),IF(AND($AU$16=$AU$15,BO41=\"YES\",$AS$7=\"YES\"),ROUND((N40+O40)*3%,0),0)))","v":0},{"$nulls":4},"",null,"",{"$f":"IF(AZ42=\"\",\"\",IF(AZ42=\"TOTAL\",\"\",IF($AU$16=$AU$17,0,IF(AND(AZ42>$BY$1,$AI$3=$AR$2,'Master Sheet'!$D$27>0),'Master Sheet'!$D$27,IF(AND(AZ42=$BY$1),IF($AU$9<18001,135,IF($AU$9<33501,220,IF($AU$9<54001,330,440))),IF(AND(AZ42>$BY$1),IF($AU$9<18001,265,IF($AU$9<33501,440,IF($AU$9<54001,658,875))),\"\"))))))","v":""}]
[35,35,"2022-02-01",{"$f":"IFERROR(IF($C41=\"TOTAL\",\"अक्षरें राशि :-\",IF($C42=\"TOTAL\",SUM($D$8:D41),IF(BA43=\"\",\"\",BA43))),\"\")","v":110500},{"$f":"IFERROR(IF($C42=\"TOTAL\",SUM($E$8:E41),IF(BC43=\"\",\"\",BC43)),\"\")","v":45084},{"$f":"IFERROR(IF($C42=\"TOTAL\",SUM($F$8:F41),IF(OR(C42=$AS$16,C42=$AS$17,C42=$AS$18,C42=$AS$19,C42=$AS$20,C42=$AS$21,C42=$AS$22,C42=$AS$23,C42=$AS$24),0,IF(BD43=\"\",\"\",BD43))),\"\")","v":9945},{"$f":"IFERROR(IF($C42=\"TOTAL\",SUM($G$8:G41),IF(BB43=\"\",\"\",BB43)),\"\")","v":22100},187629,{"$f":"IFERROR(IF($C42=\"TOTAL\",SUM($I$8:I41),IF(BF43=\"\",\"\",BF43)),\"\")","v":104900},{"$f":"IFERROR(IF($C42=\"TOTAL\",SUM($J$8:J41),IF(BH43=\"\",\"\",BH43)),\"\")","v":42799},{"$f":"IFERROR(IF($C42=\"TOTAL\",SUM($K$8:K41),IF(OR(C42=$AS$16,C42=$AS$17,C42=$AS$18,C42=$AS$19,C42=$AS$20,C42=$AS$21,C42=$AS$22,C42=$AS$23,C42=$AS$24),0,IF(BI43=\"\",\"\",BI43))),\"\")","v":9441},{"$f":"IFERROR(IF($C42=\"TOTAL\",SUM($L$8:L41),IF(BG43=\"\",\"\",BG43)),\"\")","v":20980},178120,{"$f":"IFERROR(IF(C42=\"\",\"\",IF(D42=\"\",\"\",IF(I42=\"\",\"\",IF($C42=\"TOTAL\",SUM($N$8:N41),SUM(D42-I42))))),\"\")","v":5600},{"$f":"IFERROR(IF(C42=\"\",\"\",IF(E42=\"\",\"\",IF(J42=\"\",\"\",IF($C42=\"TOTAL\",SUM($O$8:O41),SUM(E42-J42))))),\"\")","v":2285},{"$f":"IFERROR(IF(C42=\"\",\"\",IF(F42=\"\",\"\",IF(K42=\"\",\"\",IF($C42=\"TOTAL\",SUM($P$8:P41),SUM(F42-K42))))),\"\")","v":504},1120,9509,{"$f":"IFERROR(IF(C42=\"\",\"\",IF($C42=\"TOTAL\",SUM($S$8:S41),IF(AND(C42>$AR$1,$AI$3=$AR$2),BW43,IF($AU$18=$AU$20,SUM(BJ43+BR43),ROUND((D42+E42)*10%,0))))),\"\")","v":15558},{"$f":"IFERROR(IF(C42=\"\",\"\",IF(I42=\"\",\"\",IF(J42=\"\",\"\",IF($C42=\"TOTAL\",SUM($T$8:T41),IF(AND(C42>$AR$1,$AI$3=$AR$2),BW43,IF($AU$18=$AU$20,$AU$21,ROUND((I42+J42)*10%,0))))))),\"\")","v":14770},788,{"$f":"IFERROR(IF(C42=\"\",\"\",IF($AU$16=$AU$17,0,IF($C42=\"TOTAL\",SUM($V$8:V41),IF($AU$19=$AU$31,0,IF(AND($AU$32=$AU$20,C42=$AU$33),$AU$34,V41))))),\"\")","v":2100},{"$f":"IFERROR(IF(C42=\"\",\"\",IF($AU$16=$AU$17,0,IF($C42=\"TOTAL\",SUM($W$8:W41),IF($AU$19=$AU$20,$AU$24,0)))),\"\")","v":2100},0,{"$f":"IFERROR(IF(C42=\"\",\"\",IF($AU$16=$AU$17,0,IF($C42=\"TOTAL\",SUM($Y$8:Y41),BZ42))),\"\")","v":""},{"$f":"IFERROR(IF(C42=\"\",\"\",IF($AU$16=$AU$17,0,IF($C42=\"TOTAL\",SUM($Z$8:Z41),BY42))),\"\")","v":""},"",{"$f":"IFERROR(IF(C42=\"\",\"\",IF(D42=\"\",\"\",IF($C42=\"TOTAL\",SUM($AB$8:AB41),IF(C42=$AU$1,ROUND(D42*5/31,0.01),\"\")))),\"\")","v":""},{"$f":"IFERROR(IF(C42=\"\",\"\",IF(I42=\"\",\"\",IF($C42=\"TOTAL\",SUM($AC$8:AC41),IF(C42=$AU$1,ROUND(I42*5/31,0.01),\"\")))),\"\")","v":""},"",{"$f":"IFERROR(IF(C42=\"\",\"\",IF(AND(BP43=\"\",BW43=\"\"),\"\",IF($C42=\"TOTAL\",SUM($AE$8:AE41),BP43))),\"\")","v":""},{"$f":"IFERROR(IF(C42=\"\",\"\",IF($C42=\"TOTAL\",SUM($AF$8:AF41),ROUND(R42*$AU$7%,0))),\"\")","v":0},788,{"$f":"IFERROR(IF(C42=\"\",\"\",IF($C42=\"TOTAL\",SUM($AH$8:AH41),SUM(R42-AG42))),\"\")","v":8721},{"$nulls":8},34,34,null,"2019-10-01",null,"2022-01-01","2022-01-01","","2022-01-01","2022-01-01",110500,22100,45084,9945,null,104900,20980,42799,9441,{"$f":"IF(AZ42=\"\",\"\",IF(AZ42=\"TOTAL\",\"\",IF(BF42=\"\",\"\",IF($AU$16=$AU$17,0,IF(OR(C41=$AS$16,C41=$AS$17,C41=$AS$18,C41=$AS$19,C41=$AS$20,C41=$AS$21,C41=$AS$22,C41=$AS$23,C41=$AS$24),SUM(BM42+BN42),BN42)))))","v":3675},null,null,9509,{"$f":"IF(AZ41=\"\",\"\",IF(AZ41=\"TOTAL\",\"\",IF(AND($AU$20=$AU$36,C42=$AU$37),$AU$38,BN41)))","v":3675},"","",0,0,{"$nulls":4},"",null,"",{"$f":"IF(AZ43=\"\",\"\",IF(AZ43=\"TOTAL\",\"\",IF($AU$16=$AU$17,0,IF(AND(AZ43>$BY$1,$AI$3=$AR$2,'Master Sheet'!$D$27>0),'Master Sheet'!$D$27,IF(AND(AZ43=$BY$1),IF($AU$9<18001,135,IF($AU$9<33501,220,IF($AU$9<54001,330,440))),IF(AND(AZ43>$BY$1),IF($AU$9<18001,265,IF($AU$9<33501,440,IF($AU$9<54001,658,875))),\"\"))))))","v":""}]
[36,36,"2022-03-01",{"$f":"IFERROR(IF($C42=\"TOTAL\",\"अक्षरें राशि :-\",IF($C43=\"TOTAL\",SUM($D$8:D42),IF(BA44=\"\",\"\",BA44))),\"\")","v":110500},{"$f":"IFERROR(IF($C43=\"TOTAL\",SUM($E$8:E42),IF(BC44=\"\",\"\",BC44)),\"\")","v":45084},{"$f":"IFERROR(IF($C43=\"TOTAL\",SUM($F$8:F42),IF(OR(C43=$AS$16,C43=$AS$17,C43=$AS$18,C43=$AS$19,C43=$AS$20,C43=$AS$21,C43=$AS$22,C43=$AS$23,C43=$AS$24),0,IF(BD44=\"\",\"\",BD44))),\"\")","v":9945},{"$f":"IFERROR(IF($C43=\"TOTAL\",SUM($G$8:G42),IF(BB44=\"\",\"\",BB44)),\"\")","v":22100},187629,{"$f":"IFERROR(IF($C43=\"TOTAL\",SUM($I$8:I42),IF(BF44=\"\",\"\",BF44)),\"\")","v":104900},{"$f":"IFERROR(IF($C43=\"TOTAL\",SUM($J$8:J42),IF(BH44=\"\",\"\",BH44)),\"\")","v":42799},{"$f":"IFERROR(IF($C43=\"TOTAL\",SUM($K$8:K42),IF(OR(C43=$AS$16,C43=$AS$17,C43=$AS$18,C43=$AS$19,C43=$AS$20,C43=$AS$21,C43=$AS$22,C43=$AS$23,C43=$AS$24),0,IF(BI44=\"\",\"\",BI44))),\"\")","v":9441},{"$f":"IFERROR(IF($C43=\"TOTAL\",SUM($L$8:L42),IF(BG44=\"\",\"\",BG44)),\"\")","v":20980},178120,{"$f":"IFERROR(IF(C43=\"\",\"\",IF(D43=\"\",\"\",IF(I43=\"\",\"\",IF($C43=\"TOTAL\",SUM($N$8:N42),SUM(D43-I43))))),\"\")","v":5600},{"$f":"IFERROR(IF(C43=\"\",\"\",IF(E43=\"\",\"\",IF(J43=\"\",\"\",IF($C43=\"TOTAL\",SUM($O$8:O42),SUM(E43-J43))))),\"\")","v":2285},{"$f":"IFERROR(IF(C43=\"\",\"\",IF(F43=\"\",\"\",IF(K43=\"\",\"\",IF($C43=\"TOTAL\",SUM($P$8:P42),SUM(F43-K43))))),\"\")","v":504},1120,9509,{"$f":"IFERROR(IF(C43=\"\",\"\",IF($C43=\"TOTAL\",SUM($S$8:S42),IF(AND(C43>$AR$1,$AI$3=$AR$2),BW44,IF($AU$18=$AU$20,SUM(BJ44+BR44),ROUND((D43+E43)*10%,0))))),\"\")","v":15558},{"$f":"IFERROR(IF(C43=\"\",\"\",IF(I43=\"\",\"\",IF(J43=\"\",\"\",IF($C43=\"TOTAL\",SUM($T$8:T42),IF(AND(C43>$AR$1,$AI$3=$AR$2),BW44,IF($AU$18=$AU$20,$AU$21,ROUND((I43+J43)*10%,0))))))),\"\")","v":14770},788,{"$f":"IFERROR(IF(C43=\"\",\"\",IF($AU$16=$AU$17,0,IF($C43=\"TOTAL\",SUM($V$8:V42),IF($AU$19=$AU$31,0,IF(AND($AU$32=$AU$20,C43=$AU$33),$AU$34,V42))))),\"\")","v":2100},{"$f":"IFERROR(IF(C43=\"\",\"\",IF($AU$16=$AU$17,0,IF($C43=\"TOTAL\",SUM($W$8:W42),IF($AU$19=$AU$20,$AU$24,0)))),\"\")","v":2100},0,{"$f":"IFERROR(IF(C43=\"\",\"\",IF($AU$16=$AU$17,0,IF($C43=\"TOTAL\",SUM($Y$8:Y42),BZ43))),\"\")","v":440},{"$f":"IFERROR(IF(C43=\"\",\"\",IF($AU$16=$AU$17,0,IF($C43=\"TOTAL\",SUM($Z$8:Z42),BY43))),\"\")","v":440},0,{"$f":"IFERROR(IF(C43=\"\",\"\",IF(D43=\"\",\"\",IF($C43=\"TOTAL\",SUM($AB$8:AB42),IF(C43=$AU$1,ROUND(D43*5/31,0.01),\"\")))),\"\")","v":""},{"$f":"IFERROR(IF(C43=\"\",\"\",IF(I43=\"\",\"\",IF($C43=\"TOTAL\",SUM($AC$8:AC42),IF(C43=$AU$1,ROUND(I43*5/31,0.01),\"\")))),\"\")","v":""},"",{"$f":"IFERROR(IF(C43=\"\",\"\",IF(AND(BP44=\"\",BW44=\"\"),\"\",IF($C43=\"TOTAL\",SUM($AE$8:AE42),BP44))),\"\")","v":""},{"$f":"IFERROR(IF(C43=\"\",\"\",IF($C43=\"TOTAL\",SUM($AF$8:AF42),ROUND(R43*$AU$7%,0))),\"\")","v":0},788,{"$f":"IFERROR(IF(C43=\"\",\"\",IF($C43=\"TOTAL\",SUM($AH$8:AH42),SUM(R43-AG43))),\"\")","v":8721},{"$nulls":8},34,34,null,"2019-11-01",null,"2022-02-01","2022-02-01","","2022-02-01","2022-02-01",110500,22100,45084,9945,null,104900,20980,42799,9441,3675,null,null,9509,3675,"","",0,0,{"$nulls":4},"",null,440,{"$f":"IF(AZ44=\"\",\"\",IF(AZ44=\"TOTAL\",\"\",IF($AU$16=$AU$17,0,IF(AND(AZ44>$BY$1,$AI$3=$AR$2,'Master Sheet'!$D$27>0),'Master Sheet'!$D$27,IF(AND(AZ44=$BY$1),IF($AU$9<18001,135,IF($AU$9<33501,220,IF($AU$9<54001,330,440))),IF(AND(AZ44>$BY$1),IF($AU$9<18001,265,IF($AU$9<33501,440,IF($AU$9<54001,658,875))),\"\"))))))","v":440}]
[37,37,"2022-04-01",{"$f":"IFERROR(IF($C43=\"TOTAL\",\"अक्षरें राशि :-\",IF($C44=\"TOTAL\",SUM($D$8:D43),IF(BA45=\"\",\"\",BA45))),\"\")","v":110500},{"$f":"IFERROR(IF($C44=\"TOTAL\",SUM($E$8:E43),IF(BC45=\"\",\"\",BC45)),\"\")","v":45084},{"$f":"IFERROR(IF($C44=\"TOTAL\",SUM($F$8:F43),IF(OR(C44=$AS$16,C44=$AS$17,C44=$AS$18,C44=$AS$19,C44=$AS$20,C44=$AS$21,C44=$AS$22,C44=$AS$23,C44=$AS$24),0,IF(BD45=\"\",\"\",BD45))),\"\")","v":9945},{"$f":"IFERROR(IF($C44=\"TOTAL\",SUM($G$8:G43),IF(BB45=\"\",\"\",BB45)),\"\")","v":22100},187629,{"$f":"IFERROR(IF($C44=\"TOTAL\",SUM($I$8:I43),IF(BF45=\"\",\"\",BF45)),\"\")","v":104900},{"$f":"IFERROR(IF($C44=\"TOTAL\",SUM($J$8:J43),IF(BH45=\"\",\"\",BH45)),\"\")","v":42799},{"$f":"IFERROR(IF($C44=\"TOTAL\",SUM($K$8:K43),IF(OR(C44=$AS$16,C44=$AS$17,C44=$AS$18,C44=$AS$19,C44=$AS$20,C44=$AS$21,C44=$AS$22,C44=$AS$23,C44=$AS$24),0,IF(BI45=\"\",\"\",BI45))),\"\")","v":9441},{"$f":"IFERROR(IF($C44=\"TOTAL\",SUM($L$8:L43),IF(BG45=\"\",\"\",BG45)),\"\")","v":20980},178120,{"$f":"IFERROR(IF(C44=\"\",\"\",IF(D44=\"\",\"\",IF(I44=\"\",\"\",IF($C44=\"TOTAL\",SUM($N$8:N43),SUM(D44-I44))))),\"\")","v":5600},{"$f":"IFERROR(IF(C44=\"\",\"\",IF(E44=\"\",\"\",IF(J44=\"\",\"\",IF($C44=\"TOTAL\",SUM($O$8:O43),SUM(E44-J44))))),\"\")","v":2285},{"$f":"IFERROR(IF(C44=\"\",\"\",IF(F44=\"\",\"\",IF(K44=\"\",\"\",IF($C44=\"TOTAL\",SUM($P$8:P43),SUM(F44-K44))))),\"\")","v":504},1120,9509,{"$f":"IFERROR(IF(C44=\"\",\"\",IF($C44=\"TOTAL\",SUM($S$8:S43),IF(AND(C44>$AR$1,$AI$3=$AR$2),BW45,IF($AU$18=$AU$20,SUM(BJ45+BR45),ROUND((D44+E44)*10%,0))))),\"\")","v":2100},{"$f":"IFERROR(IF(C44=\"\",\"\",IF(I44=\"\",\"\",IF(J44=\"\",\"\",IF($C44=\"TOTAL\",SUM($T$8:T43),IF(AND(C44>$AR$1,$AI$3=$AR$2),BW45,IF($AU$18=$AU$20,$AU$21,ROUND((I44+J44)*10%,0))))))),\"\")","v":2100},0,{"$f":"IFERROR(IF(C44=\"\",\"\",IF($AU$16=$AU$17,0,IF($C44=\"TOTAL\",SUM($V$8:V43),IF($AU$19=$AU$31,0,IF(AND($AU$32=$AU$20,C44=$AU$33),$AU$34,V43))))),\"\")","v":2100},{"$f":"IFERROR(IF(C44=\"\",\"\",IF($AU$16=$AU$17,0,IF($C44=\"TOTAL\",SUM($W$8:W43),IF($AU$19=$AU$20,$AU$24,0)))),\"\")","v":2100},0,{"$f":"IFERROR(IF(C44=\"\",\"\",IF($AU$16=$AU$17,0,IF($C44=\"TOTAL\",SUM($Y$8:Y43),BZ44))),\"\")","v":875},{"$f":"IFERROR(IF(C44=\"\",\"\",IF($AU$16=$AU$17,0,IF($C44=\"TOTAL\",SUM($Z$8:Z43),BY44))),\"\")","v":875},0,{"$f":"IFERROR(IF(C44=\"\",\"\",IF(D44=\"\",\"\",IF($C44=\"TOTAL\",SUM($AB$8:AB43),IF(C44=$AU$1,ROUND(D44*5/31,0.01),\"\")))),\"\")","v":""},{"$f":"IFERROR(IF(C44=\"\",\"\",IF(I44=\"\",\"\",IF($C44=\"TOTAL\",SUM($AC$8:AC43),IF(C44=$AU$1,ROUND(I44*5/31,0.01),\"\")))),\"\")","v":""},"",{"$f":"IFERROR(IF(C44=\"\",\"\",IF(AND(BP45=\"\",BW45=\"\"),\"\",IF($C44=\"TOTAL\",SUM($AE$8:AE43),BP45))),\"\")","v":""},{"$f":"IFERROR(IF(C44=\"\",\"\",IF($C44=\"TOTAL\",SUM($AF$8:AF43),ROUND(R44*$AU$7%,0))),\"\")","v":0},0,{"$f":"IFERROR(IF(C44=\"\",\"\",IF($C44=\"TOTAL\",SUM($AH$8:AH43),SUM(R44-AG44))),\"\")","v":9509},{"$nulls":8},34,34,null,"2019-12-01",null,"2022-03-01","2022-03-01","","2022-03-01","2022-03-01",110500,22100,45084,9945,null,104900,20980,42799,9441,3675,null,null,9509,3675,"","",0,0,{"$nulls":4},"",null,875,{"$f":"IF(AZ45=\"\",\"\",IF(AZ45=\"TOTAL\",\"\",IF($AU$16=$AU$17,0,IF(AND(AZ45>$BY$1,$AI$3=$AR$2,'Master Sheet'!$D$27>0),'Master Sheet'!$D$27,IF(AND(AZ45=$BY$1),IF($AU$9<18001,135,IF($AU$9<33501,220,IF($AU$9<54001,330,440))),IF(AND(AZ45>$BY$1),IF($AU$9<18001,265,IF($AU$9<33501,440,IF($AU$9<54001,658,875))),\"\"))))))","v":875}]
[38,38,"2022-05-01",{"$f":"IFERROR(IF($C44=\"TOTAL\",\"अक्षरें राशि :-\",IF($C45=\"TOTAL\",SUM($D$8:D44),IF(BA46=\"\",\"\",BA46))),\"\")","v":110500},{"$f":"IFERROR(IF($C45=\"TOTAL\",SUM($E$8:E44),IF(BC46=\"\",\"\",BC46)),\"\")","v":45084},{"$f":"IFERROR(IF($C45=\"TOTAL\",SUM($F$8:F44),IF(OR(C45=$AS$16,C45=$AS$17,C45=$AS$18,C45=$AS$19,C45=$AS$20,C45=$AS$21,C45=$AS$22,C45=$AS$23,C45=$AS$24),0,IF(BD46=\"\",\"\",BD46))),\"\")","v":9945},{"$f":"IFERROR(IF($C45=\"TOTAL\",SUM($G$8:G44),IF(BB46=\"\",\"\",BB46)),\"\")","v":22100},187629,{"$f":"IFERROR(IF($C45=\"TOTAL\",SUM($I$8:I44),IF(BF46=\"\",\"\",BF46)),\"\")","v":104900},{"$f":"IFERROR(IF($C45=\"TOTAL\",SUM($J$8:J44),IF(BH46=\"\",\"\",BH46)),\"\")","v":42799},{"$f":"IFERROR(IF($C45=\"TOTAL\",SUM($K$8:K44),IF(OR(C45=$AS$16,C45=$AS$17,C45=$AS$18,C45=$AS$19,C45=$AS$20,C45=$AS$21,C45=$AS$22,C45=$AS$23,C45=$AS$24),0,IF(BI46=\"\",\"\",BI46))),\"\")","v":9441},{"$f":"IFERROR(IF($C45=\"TOTAL\",SUM($L$8:L44),IF(BG46=\"\",\"\",BG46)),\"\")","v":20980},178120,{"$f":"IFERROR(IF(C45=\"\",\"\",IF(D45=\"\",\"\",IF(I45=\"\",\"\",IF($C45=\"TOTAL\",SUM($N$8:N44),SUM(D45-I45))))),\"\")","v":5600},{"$f":"IFERROR(IF(C45=\"\",\"\",IF(E45=\"\",\"\",IF(J45=\"\",\"\",IF($C45=\"TOTAL\",SUM($O$8:O44),SUM(E45-J45))))),\"\")","v":2285},{"$f":"IFERROR(IF(C45=\"\",\"\",IF(F45=\"\",\"\",IF(K45=\"\",\"\",IF($C45=\"TOTAL\",SUM($P$8:P44),SUM(F45-K45))))),\"\")","v":504},1120,9509,{"$f":"IFERROR(IF(C45=\"\",\"\",IF($C45=\"TOTAL\",SUM($S$8:S44),IF(AND(C45>$AR$1,$AI$3=$AR$2),BW46,IF($AU$18=$AU$20,SUM(BJ46+BR46),ROUND((D45+E45)*10%,0))))),\"\")","v":2100},{"$f":"IFERROR(IF(C45=\"\",\"\",IF(I45=\"\",\"\",IF(J45=\"\",\"\",IF($C45=\"TOTAL\",SUM($T$8:T44),IF(AND(C45>$AR$1,$AI$3=$AR$2),BW46,IF($AU$18=$AU$20,$AU$21,ROUND((I45+J45)*10%,0))))))),\"\")","v":2100},0,{"$f":"IFERROR(IF(C45=\"\",\"\",IF($AU$16=$AU$17,0,IF($C45=\"TOTAL\",SUM($V$8:V44),IF($AU$19=$AU$31,0,IF(AND($AU$32=$AU$20,C45=$AU$33),$AU$34,V44))))),\"\")","v":2100},{"$f":"IFERROR(IF(C45=\"\",\"\",IF($AU$16=$AU$17,0,IF($C45=\"TOTAL\",SUM($W$8:W44),IF($AU$19=$AU$20,$AU$24,0)))),\"\")","v":2100},0,{"$f":"IFERROR(IF(C45=\"\",\"\",IF($AU$16=$AU$17,0,IF($C45=\"TOTAL\",SUM($Y$8:Y44),BZ45))),\"\")","v":875},{"$f":"IFERROR(IF(C45=\"\",\"\",IF($AU$16=$AU$17,0,IF($C45=\"TOTAL\",SUM($Z$8:Z44),BY45))),\"\")","v":875},0,{"$f":"IFERROR(IF(C45=\"\",\"\",IF(D45=\"\",\"\",IF($C45=\"TOTAL\",SUM($AB$8:AB44),IF(C45=$AU$1,ROUND(D45*5/31,0.01),\"\")))),\"\")","v":""},{"$f":"IFERROR(IF(C45=\"\",\"\",IF(I45=\"\",\"\",IF($C45=\"TOTAL\",SUM($AC$8:AC44),IF(C45=$AU$1,ROUND(I45*5/31,0.01),\"\")))),\"\")","v":""},"",{"$f":"IFERROR(IF(C45=\"\",\"\",IF(AND(BP46=\"\",BW46=\"\"),\"\",IF($C45=\"TOTAL\",SUM($AE$8:AE44),BP46))),\"\")","v":""},{"$f":"IFERROR(IF(C45=\"\",\"\",IF($C45=\"TOTAL\",SUM($AF$8:AF44),ROUND(R45*$AU$7%,0))),\"\")","v":0},0,{"$f":"IFERROR(IF(C45=\"\",\"\",IF($C45=\"TOTAL\",SUM($AH$8:AH44),SUM(R45-AG45))),\"\")","v":9509},{"$nulls":8},34,34,null,"2020-01-01",null,"2022-04-01","","2022-04-01","2022-04-01","2022-04-01",110500,22100,45084,9945,null,104900,20980,42799,9441,3675,null,null,9509,3675,"","",0,0,{"$nulls":4},2100,null,875,{"$f":"IF(AZ46=\"\",\"\",IF(AZ46=\"TOTAL\",\"\",IF($AU$16=$AU$17,0,IF(AND(AZ46>$BY$1,$AI$3=$AR$2,'Master Sheet'!$D$27>0),'Master Sheet'!$D$27,IF(AND(AZ46=$BY$1),IF($AU$9<18001,135,IF($AU$9<33501,220,IF($AU$9<54001,330,440))),IF(AND(AZ46>$BY$1),IF($AU$9<18001,265,IF($AU$9<33501,440,IF($AU$9<54001,658,875))),\"\"))))))","v":875}]
[39,39,"2022-06-01",{"$f":"IFERROR(IF($C45=\"TOTAL\",\"अक्षरें राशि :-\",IF($C46=\"TOTAL\",SUM($D$8:D45),IF(BA47=\"\",\"\",BA47))),\"\")","v":110500},{"$f":"IFERROR(IF($C46=\"TOTAL\",SUM($E$8:E45),IF(BC47=\"\",\"\",BC47)),\"\")","v":45084},{"$f":"IFERROR(IF($C46=\"TOTAL\",SUM($F$8:F45),IF(OR(C46=$AS$16,C46=$AS$17,C46=$AS$18,C46=$AS$19,C46=$AS$20,C46=$AS$21,C46=$AS$22,C46=$AS$23,C46=$AS$24),0,IF(BD47=\"\",\"\",BD47))),\"\")","v":9945},{"$f":"IFERROR(IF($C46=\"TOTAL\",SUM($G$8:G45),IF(BB47=\"\",\"\",BB47)),\"\")","v":22100},187629,{"$f":"IFERROR(IF($C46=\"TOTAL\",SUM($I$8:I45),IF(BF47=\"\",\"\",BF47)),\"\")","v":104900},{"$f":"IFERROR(IF($C46=\"TOTAL\",SUM($J$8:J45),IF(BH47=\"\",\"\",BH47)),\"\")","v":42799},{"$f":"IFERROR(IF($C46=\"TOTAL\",SUM($K$8:K45),IF(OR(C46=$AS$16,C46=$AS$17,C46=$AS$18,C46=$AS$19,C46=$AS$20,C46=$AS$21,C46=$AS$22,C46=$AS$23,C46=$AS$24),0,IF(BI47=\"\",\"\",BI47))),\"\")","v":9441},{"$f":"IFERROR(IF($C46=\"TOTAL\",SUM($L$8:L45),IF(BG47=\"\",\"\",BG47)),\"\")","v":20980},178120,{"$f":"IFERROR(IF(C46=\"\",\"\",IF(D46=\"\",\"\",IF(I46=\"\",\"\",IF($C46=\"TOTAL\",SUM($N$8:N45),SUM(D46-I46))))),\"\")","v":5600},{"$f":"IFERROR(IF(C46=\"\",\"\",IF(E46=\"\",\"\",IF(J46=\"\",\"\",IF($C46=\"TOTAL\",SUM($O$8:O45),SUM(E46-J46))))),\"\")","v":2285},{"$f":"IFERROR(IF(C46=\"\",\"\",IF(F46=\"\",\"\",IF(K46=\"\",\"\",IF($C46=\"TOTAL\",SUM($P$8:P45),SUM(F46-K46))))),\"\")","v":504},1120,9509,{"$f":"IFERROR(IF(C46=\"\",\"\",IF($C46=\"TOTAL\",SUM($S$8:S45),IF(AND(C46>$AR$1,$AI$3=$AR$2),BW47,IF($AU$18=$AU$20,SUM(BJ47+BR47),ROUND((D46+E46)*10%,0))))),\"\")","v":2100},{"$f":"IFERROR(IF(C46=\"\",\"\",IF(I46=\"\",\"\",IF(J46=\"\",\"\",IF($C46=\"TOTAL\",SUM($T$8:T45),IF(AND(C46>$AR$1,$AI$3=$AR$2),BW47,IF($AU$18=$AU$20,$AU$21,ROUND((I46+J46)*10%,0))))))),\"\")","v":2100},0,{"$f":"IFERROR(IF(C46=\"\",\"\",IF($AU$16=$AU$17,0,IF($C46=\"TOTAL\",SUM($V$8:V45),IF($AU$19=$AU$31,0,IF(AND($AU$32=$AU$20,C46=$AU$33),$AU$34,V45))))),\"\")","v":2100},{"$f":"IFERROR(IF(C46=\"\",\"\",IF($AU$16=$AU$17,0,IF($C46=\"TOTAL\",SUM($W$8:W45),IF($AU$19=$AU$20,$AU$24,0)))),\"\")","v":2100},0,{"$f":"IFERROR(IF(C46=\"\",\"\",IF($AU$16=$AU$17,0,IF($C46=\"TOTAL\",SUM($Y$8:Y45),BZ46))),\"\")","v":875},{"$f":"IFERROR(IF(C46=\"\",\"\",IF($AU$16=$AU$17,0,IF($C46=\"TOTAL\",SUM($Z$8:Z45),BY46))),\"\")","v":875},0,{"$f":"IFERROR(IF(C46=\"\",\"\",IF(D46=\"\",\"\",IF($C46=\"TOTAL\",SUM($AB$8:AB45),IF(C46=$AU$1,ROUND(D46*5/31,0.01),\"\")))),\"\")","v":""},{"$f":"IFERROR(IF(C46=\"\",\"\",IF(I46=\"\",\"\",IF($C46=\"TOTAL\",SUM($AC$8:AC45),IF(C46=$AU$1,ROUND(I46*5/31,0.01),\"\")))),\"\")","v":""},"",{"$f":"IFERROR(IF(C46=\"\",\"\",IF(AND(BP47=\"\",BW47=\"\"),\"\",IF($C46=\"TOTAL\",SUM($AE$8:AE45),BP47))),\"\")","v":""},{"$f":"IFERROR(IF(C46=\"\",\"\",IF($C46=\"TOTAL\",SUM($AF$8:AF45),ROUND(R46*$AU$7%,0))),\"\")","v":0},0,{"$f":"IFERROR(IF(C46=\"\",\"\",IF($C46=\"TOTAL\",SUM($AH$8:AH45),SUM(R46-AG46))),\"\")","v":9509},{"$nulls":8},34,34,null,"2020-02-01",null,"2022-05-01","","2022-05-01","2022-05-01","2022-05-01",110500,22100,45084,9945,null,104900,20980,42799,9441,3675,null,null,9509,3675,"","",0,0,{"$nulls":4},2100,null,875,{"$f":"IF(AZ47=\"\",\"\",IF(AZ47=\"TOTAL\",\"\",IF($AU$16=$AU$17,0,IF(AND(AZ47>$BY$1,$AI$3=$AR$2,'Master Sheet'!$D$27>0),'Master Sheet'!$D$27,IF(AND(AZ47=$BY$1),IF($AU$9<18001,135,IF($AU$9<33501,220,IF($AU$9<54001,330,440))),IF(AND(AZ47>$BY$1),IF($AU$9<18001,265,IF($AU$9<33501,440,IF($AU$9<54001,658,875))),\"\"))))))","v":875}]
[40,40,"2022-07-01",{"$f":"IFERROR(IF($C46=\"TOTAL\",\"अक्षरें राशि :-\",IF($C47=\"TOTAL\",SUM($D$8:D46),IF(BA48=\"\",\"\",BA48))),\"\")","v":113800},{"$f":"IFERROR(IF($C47=\"TOTAL\",SUM($E$8:E46),IF(BC48=\"\",\"\",BC48)),\"\")","v":51893},{"$f":"IFERROR(IF($C47=\"TOTAL\",SUM($F$8:F46),IF(OR(C47=$AS$16,C47=$AS$17,C47=$AS$18,C47=$AS$19,C47=$AS$20,C47=$AS$21,C47=$AS$22,C47=$AS$23,C47=$AS$24),0,IF(BD48=\"\",\"\",BD48))),\"\")","v":10242},{"$f":"IFERROR(IF($C47=\"TOTAL\",SUM($G$8:G46),IF(BB48=\"\",\"\",BB48)),\"\")","v":22760},198695,{"$f":"IFERROR(IF($C47=\"TOTAL\",SUM($I$8:I46),IF(BF48=\"\",\"\",BF48)),\"\")","v":108000},{"$f":"IFERROR(IF($C47=\"TOTAL\",SUM($J$8:J46),IF(BH48=\"\",\"\",BH48)),\"\")","v":49248},{"$f":"IFERROR(IF($C47=\"TOTAL\",SUM($K$8:K46),IF(OR(C47=$AS$16,C47=$AS$17,C47=$AS$18,C47=$AS$19,C47=$AS$20,C47=$AS$21,C47=$AS$22,C47=$AS$23,C47=$AS$24),0,IF(BI48=\"\",\"\",BI48))),\"\")","v":9720},{"$f":"IFERROR(IF($C47=\"TOTAL\",SUM($L$8:L46),IF(BG48=\"\",\"\",BG48)),\"\")","v":21600},188568,{"$f":"IFERROR(IF(C47=\"\",\"\",IF(D47=\"\",\"\",IF(I47=\"\",\"\",IF($C47=\"TOTAL\",SUM($N$8:N46),SUM(D47-I47))))),\"\")","v":5800},{"$f":"IFERROR(IF(C47=\"\",\"\",IF(E47=\"\",\"\",IF(J47=\"\",\"\",IF($C47=\"TOTAL\",SUM($O$8:O46),SUM(E47-J47))))),\"\")","v":2645},{"$f":"IFERROR(IF(C47=\"\",\"\",IF(F47=\"\",\"\",IF(K47=\"\",\"\",IF($C47=\"TOTAL\",SUM($P$8:P46),SUM(F47-K47))))),\"\")","v":522},1160,10127,{"$f":"IFERROR(IF(C47=\"\",\"\",IF($C47=\"TOTAL\",SUM($S$8:S46),IF(AND(C47>$AR$1,$AI$3=$AR$2),BW48,IF($AU$18=$AU$20,SUM(BJ48+BR48),ROUND((D47+E47)*10%,0))))),\"\")","v":2100},{"$f":"IFERROR(IF(C47=\"\",\"\",IF(I47=\"\",\"\",IF(J47=\"\",\"\",IF($C47=\"TOTAL\",SUM($T$8:T46),IF(AND(C47>$AR$1,$AI$3=$AR$2),BW48,IF($AU$18=$AU$20,$AU$21,ROUND((I47+J47)*10%,0))))))),\"\")","v":2100},0,{"$f":"IFERROR(IF(C47=\"\",\"\",IF($AU$16=$AU$17,0,IF($C47=\"TOTAL\",SUM($V$8:V46),IF($AU$19=$AU$31,0,IF(AND($AU$32=$AU$20,C47=$AU$33),$AU$34,V46))))),\"\")","v":2100},{"$f":"IFERROR(IF(C47=\"\",\"\",IF($AU$16=$AU$17,0,IF($C47=\"TOTAL\",SUM($W$8:W46),IF($AU$19=$AU$20,$AU$24,0)))),\"\")","v":2100},0,{"$f":"IFERROR(IF(C47=\"\",\"\",IF($AU$16=$AU$17,0,IF($C47=\"TOTAL\",SUM($Y$8:Y46),BZ47))),\"\")","v":875},{"$f":"IFERROR(IF(C47=\"\",\"\",IF($AU$16=$AU$17,0,IF($C47=\"TOTAL\",SUM($Z$8:Z46),BY47))),\"\")","v":875},0,{"$f":"IFERROR(IF(C47=\"\",\"\",IF(D47=\"\",\"\",IF($C47=\"TOTAL\",SUM($AB$8:AB46),IF(C47=$AU$1,ROUND(D47*5/31,0.01),\"\")))),\"\")","v":""},{"$f":"IFERROR(IF(C47=\"\",\"\",IF(I47=\"\",\"\",IF($C47=\"TOTAL\",SUM($AC$8:AC46),IF(C47=$AU$1,ROUND(I47*5/31,0.01),\"\")))),\"\")","v":""},"",{"$f":"IFERROR(IF(C47=\"\",\"\",IF(AND(BP48=\"\",BW48=\"\"),\"\",IF($C47=\"TOTAL\",SUM($AE$8:AE46),BP48))),\"\")","v":""},{"$f":"IFERROR(IF(C47=\"\",\"\",IF($C47=\"TOTAL\",SUM($AF$8:AF46),ROUND(R47*$AU$7%,0))),\"\")","v":0},0,{"$f":"IFERROR(IF(C47=\"\",\"\",IF($C47=\"TOTAL\",SUM($AH$8:AH46),SUM(R47-AG47))),\"\")","v":10127},{"$nulls":8},34,34,null,"2020-03-01",null,"2022-06-01","","2022-06-01","2022-06-01","2022-06-01",110500,22100,45084,9945,null,104900,20980,42799,9441,3675,null,null,9509,3675,"","",0,0,{"$nulls":4},2100,null,875,{"$f":"IF(AZ48=\"\",\"\",IF(AZ48=\"TOTAL\",\"\",IF($AU$16=$AU$17,0,IF(AND(AZ48>$BY$1,$AI$3=$AR$2,'Master Sheet'!$D$27>0),'Master Sheet'!$D$27,IF(AND(AZ48=$BY$1),IF($AU$9<18001,135,IF($AU$9<33501,220,IF($AU$9<54001,330,440))),IF(AND(AZ48>$BY$1),IF($AU$9<18001,265,IF($AU$9<33501,440,IF($AU$9<54001,658,875))),\"\"))))))","v":875}]
[41,41,"2022-08-01",{"$f":"IFERROR(IF($C47=\"TOTAL\",\"अक्षरें राशि :-\",IF($C48=\"TOTAL\",SUM($D$8:D47),IF(BA49=\"\",\"\",BA49))),\"\")","v":113800},{"$f":"IFERROR(IF($C48=\"TOTAL\",SUM($E$8:E47),IF(BC49=\"\",\"\",BC49)),\"\")","v":51893},{"$f":"IFERROR(IF($C48=\"TOTAL\",SUM($F$8:F47),IF(OR(C48=$AS$16,C48=$AS$17,C48=$AS$18,C48=$AS$19,C48=$AS$20,C48=$AS$21,C48=$AS$22,C48=$AS$23,C48=$AS$24),0,IF(BD49=\"\",\"\",BD49))),\"\")","v":10242},{"$f":"IFERROR(IF($C48=\"TOTAL\",SUM($G$8:G47),IF(BB49=\"\",\"\",BB49)),\"\")","v":22760},198695,{"$f":"IFERROR(IF($C48=\"TOTAL\",SUM($I$8:I47),IF(BF49=\"\",\"\",BF49)),\"\")","v":108000},{"$f":"IFERROR(IF($C48=\"TOTAL\",SUM($J$8:J47),IF(BH49=\"\",\"\",BH49)),\"\")","v":49248},{"$f":"IFERROR(IF($C48=\"TOTAL\",SUM($K$8:K47),IF(OR(C48=$AS$16,C48=$AS$17,C48=$AS$18,C48=$AS$19,C48=$AS$20,C48=$AS$21,C48=$AS$22,C48=$AS$23,C48=$AS$24),0,IF(BI49=\"\",\"\",BI49))),\"\")","v":9720},{"$f":"IFERROR(IF($C48=\"TOTAL\",SUM($L$8:L47),IF(BG49=\"\",\"\",BG49)),\"\")","v":21600},188568,{"$f":"IFERROR(IF(C48=\"\",\"\",IF(D48=\"\",\"\",IF(I48=\"\",\"\",IF($C48=\"TOTAL\",SUM($N$8:N47),SUM(D48-I48))))),\"\")","v":5800},{"$f":"IFERROR(IF(C48=\"\",\"\",IF(E48=\"\",\"\",IF(J48=\"\",\"\",IF($C48=\"TOTAL\",SUM($O$8:O47),SUM(E48-J48))))),\"\")","v":2645},{"$f":"IFERROR(IF(C48=\"\",\"\",IF(F48=\"\",\"\",IF(K48=\"\",\"\",IF($C48=\"TOTAL\",SUM($P$8:P47),SUM(F48-K48))))),\"\")","v":522},1160,10127,{"$f":"IFERROR(IF(C48=\"\",\"\",IF($C48=\"TOTAL\",SUM($S$8:S47),IF(AND(C48>$AR$1,$AI$3=$AR$2),BW49,IF($AU$18=$AU$20,SUM(BJ49+BR49),ROUND((D48+E48)*10%,0))))),\"\")","v":2100},{"$f":"IFERROR(IF(C48=\"\",\"\",IF(I48=\"\",\"\",IF(J48=\"\",\"\",IF($C48=\"TOTAL\",SUM($T$8:T47),IF(AND(C48>$AR$1,$AI$3=$AR$2),BW49,IF($AU$18=$AU$20,$AU$21,ROUND((I48+J48)*10%,0))))))),\"\")","v":2100},0,{"$f":"IFERROR(IF(C48=\"\",\"\",IF($AU$16=$AU$17,0,IF($C48=\"TOTAL\",SUM($V$8:V47),IF($AU$19=$AU$31,0,IF(AND($AU$32=$AU$20,C48=$AU$33),$AU$34,V47))))),\"\")","v":2100},{"$f":"IFERROR(IF(C48=\"\",\"\",IF($AU$16=$AU$17,0,IF($C48=\"TOTAL\",SUM($W$8:W47),IF($AU$19=$AU$20,$AU$24,0)))),\"\")","v":2100},0,{"$f":"IFERROR(IF(C48=\"\",\"\",IF($AU$16=$AU$17,0,IF($C48=\"TOTAL\",SUM($Y$8:Y47),BZ48))),\"\")","v":875},{"$f":"IFERROR(IF(C48=\"\",\"\",IF($AU$16=$AU$17,0,IF($C48=\"TOTAL\",SUM($Z$8:Z47),BY48))),\"\")","v":875},0,{"$f":"IFERROR(IF(C48=\"\",\"\",IF(D48=\"\",\"\",IF($C48=\"TOTAL\",SUM($AB$8:AB47),IF(C48=$AU$1,ROUND(D48*5/31,0.01),\"\")))),\"\")","v":""},{"$f":"IFERROR(IF(C48=\"\",\"\",IF(I48=\"\",\"\",IF($C48=\"TOTAL\",SUM($AC$8:AC47),IF(C48=$AU$1,ROUND(I48*5/31,0.01),\"\")))),\"\")","v":""},"",{"$f":"IFERROR(IF(C48=\"\",\"\",IF(AND(BP49=\"\",BW49=\"\"),\"\",IF($C48=\"TOTAL\",SUM($AE$8:AE47),BP49))),\"\")","v":""},{"$f":"IFERROR(IF(C48=\"\",\"\",IF($C48=\"TOTAL\",SUM($AF$8:AF47),ROUND(R48*$AU$7%,0))),\"\")","v":0},0,{"$f":"IFERROR(IF(C48=\"\",\"\",IF($C48=\"TOTAL\",SUM($AH$8:AH47),SUM(R48-AG48))),\"\")","v":10127},{"$nulls":8},38,38,null,"2020-04-01",null,"2022-07-01","","2022-07-01","2022-07-01","2022-07-01",113800,22760,51893,10242,null,108000,21600,49248,9720,3675,null,null,10127,3675,"","",0,0,{"$nulls":4},2100,null,875,{"$f":"IF(AZ49=\"\",\"\",IF(AZ49=\"TOTAL\",\"\",IF($AU$16=$AU$17,0,IF(AND(AZ49>$BY$1,$AI$3=$AR$2,'Master Sheet'!$D$27>0),'Master Sheet'!$D$27,IF(AND(AZ49=$BY$1),IF($AU$9<18001,135,IF($AU$9<33501,220,IF($AU$9<54001,330,440))),IF(AND(AZ49>$BY$1),IF($AU$9<18001,265,IF($AU$9<33501,440,IF($AU$9<54001,658,875))),\"\"))))))","v":875}]
[42,42,"2022-09-01",{"$f":"IFERROR(IF($C48=\"TOTAL\",\"अक्षरें राशि :-\",IF($C49=\"TOTAL\",SUM($D$8:D48),IF(BA50=\"\",\"\",BA50))),\"\")","v":113800},{"$f":"IFERROR(IF($C49=\"TOTAL\",SUM($E$8:E48),IF(BC50=\"\",\"\",BC50)),\"\")","v":51893},{"$f":"IFERROR(IF($C49=\"TOTAL\",SUM($F$8:F48),IF(OR(C49=$AS$16,C49=$AS$17,C49=$AS$18,C49=$AS$19,C49=$AS$20,C49=$AS$21,C49=$AS$22,C49=$AS$23,C49=$AS$24),0,IF(BD50=\"\",\"\",BD50))),\"\")","v":10242},{"$f":"IFERROR(IF($C49=\"TOTAL\",SUM($G$8:G48),IF(BB50=\"\",\"\",BB50)),\"\")","v":22760},198695,{"$f":"IFERROR(IF($C49=\"TOTAL\",SUM($I$8:I48),IF(BF50=\"\",\"\",BF50)),\"\")","v":108000},{"$f":"IFERROR(IF($C49=\"TOTAL\",SUM($J$8:J48),IF(BH50=\"\",\"\",BH50)),\"\")","v":49248},{"$f":"IFERROR(IF($C49=\"TOTAL\",SUM($K$8:K48),IF(OR(C49=$AS$16,C49=$AS$17,C49=$AS$18,C49=$AS$19,C49=$AS$20,C49=$AS$21,C49=$AS$22,C49=$AS$23,C49=$AS$24),0,IF(BI50=\"\",\"\",BI50))),\"\")","v":9720},{"$f":"IFERROR(IF($C49=\"TOTAL\",SUM($L$8:L48),IF(BG50=\"\",\"\",BG50)),\"\")","v":21600},188568,{"$f":"IFERROR(IF(C49=\"\",\"\",IF(D49=\"\",\"\",IF(I49=\"\",\"\",IF($C49=\"TOTAL\",SUM($N$8:N48),SUM(D49-I49))))),\"\")","v":5800},{"$f":"IFERROR(IF(C49=\"\",\"\",IF(E49=\"\",\"\",IF(J49=\"\",\"\",IF($C49=\"TOTAL\",SUM($O$8:O48),SUM(E49-J49))))),\"\")","v":2645},{"$f":"IFERROR(IF(C49=\"\",\"\",IF(F49=\"\",\"\",IF(K49=\"\",\"\",IF($C49=\"TOTAL\",SUM($P$8:P48),SUM(F49-K49))))),\"\")","v":522},1160,10127,{"$f":"IFERROR(IF(C49=\"\",\"\",IF($C49=\"TOTAL\",SUM($S$8:S48),IF(AND(C49>$AR$1,$AI$3=$AR$2),BW50,IF($AU$18=$AU$20,SUM(BJ50+BR50),ROUND((D49+E49)*10%,0))))),\"\")","v":2100},{"$f":"IFERROR(IF(C49=\"\",\"\",IF(I49=\"\",\"\",IF(J49=\"\",\"\",IF($C49=\"TOTAL\",SUM($T$8:T48),IF(AND(C49>$AR$1,$AI$3=$AR$2),BW50,IF($AU$18=$AU$20,$AU$21,ROUND((I49+J49)*10%,0))))))),\"\")","v":2100},0,{"$f":"IFERROR(IF(C49=\"\",\"\",IF($AU$16=$AU$17,0,IF($C49=\"TOTAL\",SUM($V$8:V48),IF($AU$19=$AU$31,0,IF(AND($AU$32=$AU$20,C49=$AU$33),$AU$34,V48))))),\"\")","v":2100},{"$f":"IFERROR(IF(C49=\"\",\"\",IF($AU$16=$AU$17,0,IF($C49=\"TOTAL\",SUM($W$8:W48),IF($AU$19=$AU$20,$AU$24,0)))),\"\")","v":2100},0,{"$f":"IFERROR(IF(C49=\"\",\"\",IF($AU$16=$AU$17,0,IF($C49=\"TOTAL\",SUM($Y$8:Y48),BZ49))),\"\")","v":875},{"$f":"IFERROR(IF(C49=\"\",\"\",IF($AU$16=$AU$17,0,IF($C49=\"TOTAL\",SUM($Z$8:Z48),BY49))),\"\")","v":875},0,{"$f":"IFERROR(IF(C49=\"\",\"\",IF(D49=\"\",\"\",IF($C49=\"TOTAL\",SUM($AB$8:AB48),IF(C49=$AU$1,ROUND(D49*5/31,0.01),\"\")))),\"\")","v":""},{"$f":"IFERROR(IF(C49=\"\",\"\",IF(I49=\"\",\"\",IF($C49=\"TOTAL\",SUM($AC$8:AC48),IF(C49=$AU$1,ROUND(I49*5/31,0.01),\"\")))),\"\")","v":""},"",{"$f":"IFERROR(IF(C49=\"\",\"\",IF(AND(BP50=\"\",BW50=\"\"),\"\",IF($C49=\"TOTAL\",SUM($AE$8:AE48),BP50))),\"\")","v":""},{"$f":"IFERROR(IF(C49=\"\",\"\",IF($C49=\"TOTAL\",SUM($AF$8:AF48),ROUND(R49*$AU$7%,0))),\"\")","v":0},0,{"$f":"IFERROR(IF(C49=\"\",\"\",IF($C49=\"TOTAL\",SUM($AH$8:AH48),SUM(R49-AG49))),\"\")","v":10127},{"$nulls":8},38,38,null,"2020-05-01",null,"2022-08-01","","2022-08-01","2022-08-01","2022-08-01",113800,22760,51893,10242,null,108000,21600,49248,9720,3675,null,null,10127,3675,"","",0,0,{"$nulls":4},2100,null,875,{"$f":"IF(AZ50=\"\",\"\",IF(AZ50=\"TOTAL\",\"\",IF($AU$16=$AU$17,0,IF(AND(AZ50>$BY$1,$AI$3=$AR$2,'Master Sheet'!$D$27>0),'Master Sheet'!$D$27,IF(AND(AZ50=$BY$1),IF($AU$9<18001,135,IF($AU$9<33501,220,IF($AU$9<54001,330,440))),IF(AND(AZ50>$BY$1),IF($AU$9<18001,265,IF($AU$9<33501,440,IF($AU$9<54001,658,875))),\"\"))))))","v":875}]
[43,43,"2022-10-01",{"$f":"IFERROR(IF($C49=\"TOTAL\",\"अक्षरें राशि :-\",IF($C50=\"TOTAL\",SUM($D$8:D49),IF(BA51=\"\",\"\",BA51))),\"\")","v":113800},{"$f":"IFERROR(IF($C50=\"TOTAL\",SUM($E$8:E49),IF(BC51=\"\",\"\",BC51)),\"\")","v":51893},{"$f":"IFERROR(IF($C50=\"TOTAL\",SUM($F$8:F49),IF(OR(C50=$AS$16,C50=$AS$17,C50=$AS$18,C50=$AS$19,C50=$AS$20,C50=$AS$21,C50=$AS$22,C50=$AS$23,C50=$AS$24),0,IF(BD51=\"\",\"\",BD51))),\"\")","v":10242},{"$f":"IFERROR(IF($C50=\"TOTAL\",SUM($G$8:G49),IF(BB51=\"\",\"\",BB51)),\"\")","v":22760},198695,{"$f":"IFERROR(IF($C50=\"TOTAL\",SUM($I$8:I49),IF(BF51=\"\",\"\",BF51)),\"\")","v":108000},{"$f":"IFERROR(IF($C50=\"TOTAL\",SUM($J$8:J49),IF(BH51=\"\",\"\",BH51)),\"\")","v":49248},{"$f":"IFERROR(IF($C50=\"TOTAL\",SUM($K$8:K49),IF(OR(C50=$AS$16,C50=$AS$17,C50=$AS$18,C50=$AS$19,C50=$AS$20,C50=$AS$21,C50=$AS$22,C50=$AS$23,C50=$AS$24),0,IF(BI51=\"\",\"\",BI51))),\"\")","v":9720},{"$f":"IFERROR(IF($C50=\"TOTAL\",SUM($L$8:L49),IF(BG51=\"\",\"\",BG51)),\"\")","v":21600},188568,{"$f":"IFERROR(IF(C50=\"\",\"\",IF(D50=\"\",\"\",IF(I50=\"\",\"\",IF($C50=\"TOTAL\",SUM($N$8:N49),SUM(D50-I50))))),\"\")","v":5800},{"$f":"IFERROR(IF(C50=\"\",\"\",IF(E50=\"\",\"\",IF(J50=\"\",\"\",IF($C50=\"TOTAL\",SUM($O$8:O49),SUM(E50-J50))))),\"\")","v":2645},{"$f":"IFERROR(IF(C50=\"\",\"\",IF(F50=\"\",\"\",IF(K50=\"\",\"\",IF($C50=\"TOTAL\",SUM($P$8:P49),SUM(F50-K50))))),\"\")","v":522},1160,10127,{"$f":"IFERROR(IF(C50=\"\",\"\",IF($C50=\"TOTAL\",SUM($S$8:S49),IF(AND(C50>$AR$1,$AI$3=$AR$2),BW51,IF($AU$18=$AU$20,SUM(BJ51+BR51),ROUND((D50+E50)*10%,0))))),\"\")","v":2100},{"$f":"IFERROR(IF(C50=\"\",\"\",IF(I50=\"\",\"\",IF(J50=\"\",\"\",IF($C50=\"TOTAL\",SUM($T$8:T49),IF(AND(C50>$AR$1,$AI$3=$AR$2),BW51,IF($AU$18=$AU$20,$AU$21,ROUND((I50+J50)*10%,0))))))),\"\")","v":2100},0,{"$f":"IFERROR(IF(C50=\"\",\"\",IF($AU$16=$AU$17,0,IF($C50=\"TOTAL\",SUM($V$8:V49),IF($AU$19=$AU$31,0,IF(AND($AU$32=$AU$20,C50=$AU$33),$AU$34,V49))))),\"\")","v":2100},{"$f":"IFERROR(IF(C50=\"\",\"\",IF($AU$16=$AU$17,0,IF($C50=\"TOTAL\",SUM($W$8:W49),IF($AU$19=$AU$20,$AU$24,0)))),\"\")","v":2100},0,{"$f":"IFERROR(IF(C50=\"\",\"\",IF($AU$16=$AU$17,0,IF($C50=\"TOTAL\",SUM($Y$8:Y49),BZ50))),\"\")","v":875},{"$f":"IFERROR(IF(C50=\"\",\"\",IF($AU$16=$AU$17,0,IF($C50=\"TOTAL\",SUM($Z$8:Z49),BY50))),\"\")","v":875},0,{"$f":"IFERROR(IF(C50=\"\",\"\",IF(D50=\"\",\"\",IF($C50=\"TOTAL\",SUM($AB$8:AB49),IF(C50=$AU$1,ROUND(D50*5/31,0.01),\"\")))),\"\")","v":""},{"$f":"IFERROR(IF(C50=\"\",\"\",IF(I50=\"\",\"\",IF($C50=\"TOTAL\",SUM($AC$8:AC49),IF(C50=$AU$1,ROUND(I50*5/31,0.01),\"\")))),\"\")","v":""},"",{"$f":"IFERROR(IF(C50=\"\",\"\",IF(AND(BP51=\"\",BW51=\"\"),\"\",IF($C50=\"TOTAL\",SUM($AE$8:AE49),BP51))),\"\")","v":""},{"$f":"IFERROR(IF(C50=\"\",\"\",IF($C50=\"TOTAL\",SUM($AF$8:AF49),ROUND(R50*$AU$7%,0))),\"\")","v":0},0,{"$f":"IFERROR(IF(C50=\"\",\"\",IF($C50=\"TOTAL\",SUM($AH$8:AH49),SUM(R50-AG50))),\"\")","v":10127},{"$nulls":8},38,38,null,"2020-06-01",null,"2022-09-01","","2022-09-01","2022-09-01","2022-09-01",113800,22760,51893,10242,null,108000,21600,49248,9720,3675,null,null,10127,3675,"","",0,0,{"$nulls":4},2100,null,875,{"$f":"IF(AZ51=\"\",\"\",IF(AZ51=\"TOTAL\",\"\",IF($AU$16=$AU$17,0,IF(AND(AZ51>$BY$1,$AI$3=$AR$2,'Master Sheet'!$D$27>0),'Master Sheet'!$D$27,IF(AND(AZ51=$BY$1),IF($AU$9<18001,135,IF($AU$9<33501,220,IF($AU$9<54001,330,440))),IF(AND(AZ51>$BY$1),IF($AU$9<18001,265,IF($AU$9<33501,440,IF($AU$9<54001,658,875))),\"\"))))))","v":875}]
[44,44,"2022-11-01",{"$f":"IFERROR(IF($C50=\"TOTAL\",\"अक्षरें राशि :-\",IF($C51=\"TOTAL\",SUM($D$8:D50),IF(BA52=\"\",\"\",BA52))),\"\")","v":113800},{"$f":"IFERROR(IF($C51=\"TOTAL\",SUM($E$8:E50),IF(BC52=\"\",\"\",BC52)),\"\")","v":51893},{"$f":"IFERROR(IF($C51=\"TOTAL\",SUM($F$8:F50),IF(OR(C51=$AS$16,C51=$AS$17,C51=$AS$18,C51=$AS$19,C51=$AS$20,C51=$AS$21,C51=$AS$22,C51=$AS$23,C51=$AS$24),0,IF(BD52=\"\",\"\",BD52))),\"\")","v":10242},{"$f":"IFERROR(IF($C51=\"TOTAL\",SUM($G$8:G50),IF(BB52=\"\",\"\",BB52)),\"\")","v":22760},198695,{"$f":"IFERROR(IF($C51=\"TOTAL\",SUM($I$8:I50),IF(BF52=\"\",\"\",BF52)),\"\")","v":108000},{"$f":"IFERROR(IF($C51=\"TOTAL\",SUM($J$8:J50),IF(BH52=\"\",\"\",BH52)),\"\")","v":49248},{"$f":"IFERROR(IF($C51=\"TOTAL\",SUM($K$8:K50),IF(OR(C51=$AS$16,C51=$AS$17,C51=$AS$18,C51=$AS$19,C51=$AS$20,C51=$AS$21,C51=$AS$22,C51=$AS$23,C51=$AS$24),0,IF(BI52=\"\",\"\",BI52))),\"\")","v":9720},{"$f":"IFERROR(IF($C51=\"TOTAL\",SUM($L$8:L50),IF(BG52=\"\",\"\",BG52)),\"\")","v":21600},188568,{"$f":"IFERROR(IF(C51=\"\",\"\",IF(D51=\"\",\"\",IF(I51=\"\",\"\",IF($C51=\"TOTAL\",SUM($N$8:N50),SUM(D51-I51))))),\"\")","v":5800},{"$f":"IFERROR(IF(C51=\"\",\"\",IF(E51=\"\",\"\",IF(J51=\"\",\"\",IF($C51=\"TOTAL\",SUM($O$8:O50),SUM(E51-J51))))),\"\")","v":2645},{"$f":"IFERROR(IF(C51=\"\",\"\",IF(F51=\"\",\"\",IF(K51=\"\",\"\",IF($C51=\"TOTAL\",SUM($P$8:P50),SUM(F51-K51))))),\"\")","v":522},1160,10127,{"$f":"IFERROR(IF(C51=\"\",\"\",IF($C51=\"TOTAL\",SUM($S$8:S50),IF(AND(C51>$AR$1,$AI$3=$AR$2),BW52,IF($AU$18=$AU$20,SUM(BJ52+BR52),ROUND((D51+E51)*10%,0))))),\"\")","v":2100},{"$f":"IFERROR(IF(C51=\"\",\"\",IF(I51=\"\",\"\",IF(J51=\"\",\"\",IF($C51=\"TOTAL\",SUM($T$8:T50),IF(AND(C51>$AR$1,$AI$3=$AR$2),BW52,IF($AU$18=$AU$20,$AU$21,ROUND((I51+J51)*10%,0))))))),\"\")","v":2100},0,{"$f":"IFERROR(IF(C51=\"\",\"\",IF($AU$16=$AU$17,0,IF($C51=\"TOTAL\",SUM($V$8:V50),IF($AU$19=$AU$31,0,IF(AND($AU$32=$AU$20,C51=$AU$33),$AU$34,V50))))),\"\")","v":2100},{"$f":"IFERROR(IF(C51=\"\",\"\",IF($AU$16=$AU$17,0,IF($C51=\"TOTAL\",SUM($W$8:W50),IF($AU$19=$AU$20,$AU$24,0)))),\"\")","v":2100},0,{"$f":"IFERROR(IF(C51=\"\",\"\",IF($AU$16=$AU$17,0,IF($C51=\"TOTAL\",SUM($Y$8:Y50),BZ51))),\"\")","v":875},{"$f":"IFERROR(IF(C51=\"\",\"\",IF($AU$16=$AU$17,0,IF($C51=\"TOTAL\",SUM($Z$8:Z50),BY51))),\"\")","v":875},0,{"$f":"IFERROR(IF(C51=\"\",\"\",IF(D51=\"\",\"\",IF($C51=\"TOTAL\",SUM($AB$8:AB50),IF(C51=$AU$1,ROUND(D51*5/31,0.01),\"\")))),\"\")","v":""},{"$f":"IFERROR(IF(C51=\"\",\"\",IF(I51=\"\",\"\",IF($C51=\"TOTAL\",SUM($AC$8:AC50),IF(C51=$AU$1,ROUND(I51*5/31,0.01),\"\")))),\"\")","v":""},"",{"$f":"IFERROR(IF(C51=\"\",\"\",IF(AND(BP52=\"\",BW52=\"\"),\"\",IF($C51=\"TOTAL\",SUM($AE$8:AE50),BP52))),\"\")","v":""},{"$f":"IFERROR(IF(C51=\"\",\"\",IF($C51=\"TOTAL\",SUM($AF$8:AF50),ROUND(R51*$AU$7%,0))),\"\")","v":0},0,{"$f":"IFERROR(IF(C51=\"\",\"\",IF($C51=\"TOTAL\",SUM($AH$8:AH50),SUM(R51-AG51))),\"\")","v":10127},{"$nulls":8},38,38,null,"2020-07-01",null,"2022-10-01","","2022-10-01","2022-10-01","2022-10-01",113800,22760,51893,10242,null,108000,21600,49248,9720,3675,null,null,10127,3675,"","",0,0,{"$nulls":4},2100,null,875,{"$f":"IF(AZ52=\"\",\"\",IF(AZ52=\"TOTAL\",\"\",IF($AU$16=$AU$17,0,IF(AND(AZ52>$BY$1,$AI$3=$AR$2,'Master Sheet'!$D$27>0),'Master Sheet'!$D$27,IF(AND(AZ52=$BY$1),IF($AU$9<18001,135,IF($AU$9<33501,220,IF($AU$9<54001,330,440))),IF(AND(AZ52>$BY$1),IF($AU$9<18001,265,IF($AU$9<33501,440,IF($AU$9<54001,658,875))),\"\"))))))","v":875}]
[45,45,"2022-12-01",{"$f":"IFERROR(IF($C51=\"TOTAL\",\"अक्षरें राशि :-\",IF($C52=\"TOTAL\",SUM($D$8:D51),IF(BA53=\"\",\"\",BA53))),\"\")","v":113800},{"$f":"IFERROR(IF($C52=\"TOTAL\",SUM($E$8:E51),IF(BC53=\"\",\"\",BC53)),\"\")","v":51893},{"$f":"IFERROR(IF($C52=\"TOTAL\",SUM($F$8:F51),IF(OR(C52=$AS$16,C52=$AS$17,C52=$AS$18,C52=$AS$19,C52=$AS$20,C52=$AS$21,C52=$AS$22,C52=$AS$23,C52=$AS$24),0,IF(BD53=\"\",\"\",BD53))),\"\")","v":10242},{"$f":"IFERROR(IF($C52=\"TOTAL\",SUM($G$8:G51),IF(BB53=\"\",\"\",BB53)),\"\")","v":22760},198695,{"$f":"IFERROR(IF($C52=\"TOTAL\",SUM($I$8:I51),IF(BF53=\"\",\"\",BF53)),\"\")","v":108000},{"$f":"IFERROR(IF($C52=\"TOTAL\",SUM($J$8:J51),IF(BH53=\"\",\"\",BH53)),\"\")","v":49248},{"$f":"IFERROR(IF($C52=\"TOTAL\",SUM($K$8:K51),IF(OR(C52=$AS$16,C52=$AS$17,C52=$AS$18,C52=$AS$19,C52=$AS$20,C52=$AS$21,C52=$AS$22,C52=$AS$23,C52=$AS$24),0,IF(BI53=\"\",\"\",BI53))),\"\")","v":9720},{"$f":"IFERROR(IF($C52=\"TOTAL\",SUM($L$8:L51),IF(BG53=\"\",\"\",BG53)),\"\")","v":21600},188568,{"$f":"IFERROR(IF(C52=\"\",\"\",IF(D52=\"\",\"\",IF(I52=\"\",\"\",IF($C52=\"TOTAL\",SUM($N$8:N51),SUM(D52-I52))))),\"\")","v":5800},{"$f":"IFERROR(IF(C52=\"\",\"\",IF(E52=\"\",\"\",IF(J52=\"\",\"\",IF($C52=\"TOTAL\",SUM($O$8:O51),SUM(E52-J52))))),\"\")","v":2645},{"$f":"IFERROR(IF(C52=\"\",\"\",IF(F52=\"\",\"\",IF(K52=\"\",\"\",IF($C52=\"TOTAL\",SUM($P$8:P51),SUM(F52-K52))))),\"\")","v":522},1160,10127,{"$f":"IFERROR(IF(C52=\"\",\"\",IF($C52=\"TOTAL\",SUM($S$8:S51),IF(AND(C52>$AR$1,$AI$3=$AR$2),BW53,IF($AU$18=$AU$20,SUM(BJ53+BR53),ROUND((D52+E52)*10%,0))))),\"\")","v":2100},{"$f":"IFERROR(IF(C52=\"\",\"\",IF(I52=\"\",\"\",IF(J52=\"\",\"\",IF($C52=\"TOTAL\",SUM($T$8:T51),IF(AND(C52>$AR$1,$AI$3=$AR$2),BW53,IF($AU$18=$AU$20,$AU$21,ROUND((I52+J52)*10%,0))))))),\"\")","v":2100},0,{"$f":"IFERROR(IF(C52=\"\",\"\",IF($AU$16=$AU$17,0,IF($C52=\"TOTAL\",SUM($V$8:V51),IF($AU$19=$AU$31,0,IF(AND($AU$32=$AU$20,C52=$AU$33),$AU$34,V51))))),\"\")","v":2100},{"$f":"IFERROR(IF(C52=\"\",\"\",IF($AU$16=$AU$17,0,IF($C52=\"TOTAL\",SUM($W$8:W51),IF($AU$19=$AU$20,$AU$24,0)))),\"\")","v":2100},0,{"$f":"IFERROR(IF(C52=\"\",\"\",IF($AU$16=$AU$17,0,IF($C52=\"TOTAL\",SUM($Y$8:Y51),BZ52))),\"\")","v":875},{"$f":"IFERROR(IF(C52=\"\",\"\",IF($AU$16=$AU$17,0,IF($C52=\"TOTAL\",SUM($Z$8:Z51),BY52))),\"\")","v":875},0,{"$f":"IFERROR(IF(C52=\"\",\"\",IF(D52=\"\",\"\",IF($C52=\"TOTAL\",SUM($AB$8:AB51),IF(C52=$AU$1,ROUND(D52*5/31,0.01),\"\")))),\"\")","v":""},{"$f":"IFERROR(IF(C52=\"\",\"\",IF(I52=\"\",\"\",IF($C52=\"TOTAL\",SUM($AC$8:AC51),IF(C52=$AU$1,ROUND(I52*5/31,0.01),\"\")))),\"\")","v":""},"",{"$f":"IFERROR(IF(C52=\"\",\"\",IF(AND(BP53=\"\",BW53=\"\"),\"\",IF($C52=\"TOTAL\",SUM($AE$8:AE51),BP53))),\"\")","v":""},{"$f":"IFERROR(IF(C52=\"\",\"\",IF($C52=\"TOTAL\",SUM($AF$8:AF51),ROUND(R52*$AU$7%,0))),\"\")","v":0},0,{"$f":"IFERROR(IF(C52=\"\",\"\",IF($C52=\"TOTAL\",SUM($AH$8:AH51),SUM(R52-AG52))),\"\")","v":10127},{"$nulls":8},38,38,null,"2020-08-01",null,"2022-11-01","","2022-11-01","2022-11-01","2022-11-01",113800,22760,51893,10242,null,108000,21600,49248,9720,3675,null,null,10127,3675,"","",0,0,{"$nulls":4},2100,null,875,{"$f":"IF(AZ53=\"\",\"\",IF(AZ53=\"TOTAL\",\"\",IF($AU$16=$AU$17,0,IF(AND(AZ53>$BY$1,$AI$3=$AR$2,'Master Sheet'!$D$27>0),'Master Sheet'!$D$27,IF(AND(AZ53=$BY$1),IF($AU$9<18001,135,IF($AU$9<33501,220,IF($AU$9<54001,330,440))),IF(AND(AZ53>$BY$1),IF($AU$9<18001,265,IF($AU$9<33501,440,IF($AU$9<54001,658,875))),\"\"))))))","v":875}]
[46,46,"2023-01-01",{"$f":"IFERROR(IF($C52=\"TOTAL\",\"अक्षरें राशि :-\",IF($C53=\"TOTAL\",SUM($D$8:D52),IF(BA54=\"\",\"\",BA54))),\"\")","v":113800},{"$f":"IFERROR(IF($C53=\"TOTAL\",SUM($E$8:E52),IF(BC54=\"\",\"\",BC54)),\"\")","v":57355},{"$f":"IFERROR(IF($C53=\"TOTAL\",SUM($F$8:F52),IF(OR(C53=$AS$16,C53=$AS$17,C53=$AS$18,C53=$AS$19,C53=$AS$20,C53=$AS$21,C53=$AS$22,C53=$AS$23,C53=$AS$24),0,IF(BD54=\"\",\"\",BD54))),\"\")","v":10242},{"$f":"IFERROR(IF($C53=\"TOTAL\",SUM($G$8:G52),IF(BB54=\"\",\"\",BB54)),\"\")","v":22760},204157,{"$f":"IFERROR(IF($C53=\"TOTAL\",SUM($I$8:I52),IF(BF54=\"\",\"\",BF54)),\"\")","v":108000},{"$f":"IFERROR(IF($C53=\"TOTAL\",SUM($J$8:J52),IF(BH54=\"\",\"\",BH54)),\"\")","v":54432},{"$f":"IFERROR(IF($C53=\"TOTAL\",SUM($K$8:K52),IF(OR(C53=$AS$16,C53=$AS$17,C53=$AS$18,C53=$AS$19,C53=$AS$20,C53=$AS$21,C53=$AS$22,C53=$AS$23,C53=$AS$24),0,IF(BI54=\"\",\"\",BI54))),\"\")","v":9720},{"$f":"IFERROR(IF($C53=\"TOTAL\",SUM($L$8:L52),IF(BG54=\"\",\"\",BG54)),\"\")","v":21600},193752,{"$f":"IFERROR(IF(C53=\"\",\"\",IF(D53=\"\",\"\",IF(I53=\"\",\"\",IF($C53=\"TOTAL\",SUM($N$8:N52),SUM(D53-I53))))),\"\")","v":5800},{"$f":"IFERROR(IF(C53=\"\",\"\",IF(E53=\"\",\"\",IF(J53=\"\",\"\",IF($C53=\"TOTAL\",SUM($O$8:O52),SUM(E53-J53))))),\"\")","v":2923},{"$f":"IFERROR(IF(C53=\"\",\"\",IF(F53=\"\",\"\",IF(K53=\"\",\"\",IF($C53=\"TOTAL\",SUM($P$8:P52),SUM(F53-K53))))),\"\")","v":522},1160,10405,{"$f":"IFERROR(IF(C53=\"\",\"\",IF($C53=\"TOTAL\",SUM($S$8:S52),IF(AND(C53>$AR$1,$AI$3=$AR$2),BW54,IF($AU$18=$AU$20,SUM(BJ54+BR54),ROUND((D53+E53)*10%,0))))),\"\")","v":2100},{"$f":"IFERROR(IF(C53=\"\",\"\",IF(I53=\"\",\"\",IF(J53=\"\",\"\",IF($C53=\"TOTAL\",SUM($T$8:T52),IF(AND(C53>$AR$1,$AI$3=$AR$2),BW54,IF($AU$18=$AU$20,$AU$21,ROUND((I53+J53)*10%,0))))))),\"\")","v":2100},0,{"$f":"IFERROR(IF(C53=\"\",\"\",IF($AU$16=$AU$17,0,IF($C53=\"TOTAL\",SUM($V$8:V52),IF($AU$19=$AU$31,0,IF(AND($AU$32=$AU$20,C53=$AU$33),$AU$34,V52))))),\"\")","v":2100},{"$f":"IFERROR(IF(C53=\"\",\"\",IF($AU$16=$AU$17,0,IF($C53=\"TOTAL\",SUM($W$8:W52),IF($AU$19=$AU$20,$AU$24,0)))),\"\")","v":2100},0,{"$f":"IFERROR(IF(C53=\"\",\"\",IF($AU$16=$AU$17,0,IF($C53=\"TOTAL\",SUM($Y$8:Y52),BZ53))),\"\")","v":875},{"$f":"IFERROR(IF(C53=\"\",\"\",IF($AU$16=$AU$17,0,IF($C53=\"TOTAL\",SUM($Z$8:Z52),BY53))),\"\")","v":875},0,{"$f":"IFERROR(IF(C53=\"\",\"\",IF(D53=\"\",\"\",IF($C53=\"TOTAL\",SUM($AB$8:AB52),IF(C53=$AU$1,ROUND(D53*5/31,0.01),\"\")))),\"\")","v":""},{"$f":"IFERROR(IF(C53=\"\",\"\",IF(I53=\"\",\"\",IF($C53=\"TOTAL\",SUM($AC$8:AC52),IF(C53=$AU$1,ROUND(I53*5/31,0.01),\"\")))),\"\")","v":""},"",{"$f":"IFERROR(IF(C53=\"\",\"\",IF(AND(BP54=\"\",BW54=\"\"),\"\",IF($C53=\"TOTAL\",SUM($AE$8:AE52),BP54))),\"\")","v":""},{"$f":"IFERROR(IF(C53=\"\",\"\",IF($C53=\"TOTAL\",SUM($AF$8:AF52),ROUND(R53*$AU$7%,0))),\"\")","v":0},0,{"$f":"IFERROR(IF(C53=\"\",\"\",IF($C53=\"TOTAL\",SUM($AH$8:AH52),SUM(R53-AG53))),\"\")","v":10405},{"$nulls":8},38,38,null,"2020-09-01",null,"2022-12-01","","2022-12-01","2022-12-01","2022-12-01",113800,22760,51893,10242,null,108000,21600,49248,9720,3675,null,null,10127,3675,"","",0,0,{"$nulls":4},2100,null,875,{"$f":"IF(AZ54=\"\",\"\",IF(AZ54=\"TOTAL\",\"\",IF($AU$16=$AU$17,0,IF(AND(AZ54>$BY$1,$AI$3=$AR$2,'Master Sheet'!$D$27>0),'Master Sheet'!$D$27,IF(AND(AZ54=$BY$1),IF($AU$9<18001,135,IF($AU$9<33501,220,IF($AU$9<54001,330,440))),IF(AND(AZ54>$BY$1),IF($AU$9<18001,265,IF($AU$9<33501,440,IF($AU$9<54001,658,875))),\"\"))))))","v":875}]
[47,47,"2023-02-01",{"$f":"IFERROR(IF($C53=\"TOTAL\",\"अक्षरें राशि :-\",IF($C54=\"TOTAL\",SUM($D$8:D53),IF(BA55=\"\",\"\",BA55))),\"\")","v":113800},{"$f":"IFERROR(IF($C54=\"TOTAL\",SUM($E$8:E53),IF(BC55=\"\",\"\",BC55)),\"\")","v":57355},{"$f":"IFERROR(IF($C54=\"TOTAL\",SUM($F$8:F53),IF(OR(C54=$AS$16,C54=$AS$17,C54=$AS$18,C54=$AS$19,C54=$AS$20,C54=$AS$21,C54=$AS$22,C54=$AS$23,C54=$AS$24),0,IF(BD55=\"\",\"\",BD55))),\"\")","v":10242},{"$f":"IFERROR(IF($C54=\"TOTAL\",SUM($G$8:G53),IF(BB55=\"\",\"\",BB55)),\"\")","v":22760},204157,{"$f":"IFERROR(IF($C54=\"TOTAL\",SUM($I$8:I53),IF(BF55=\"\",\"\",BF55)),\"\")","v":108000},{"$f":"IFERROR(IF($C54=\"TOTAL\",SUM($J$8:J53),IF(BH55=\"\",\"\",BH55)),\"\")","v":54432},{"$f":"IFERROR(IF($C54=\"TOTAL\",SUM($K$8:K53),IF(OR(C54=$AS$16,C54=$AS$17,C54=$AS$18,C54=$AS$19,C54=$AS$20,C54=$AS$21,C54=$AS$22,C54=$AS$23,C54=$AS$24),0,IF(BI55=\"\",\"\",BI55))),\"\")","v":9720},{"$f":"IFERROR(IF($C54=\"TOTAL\",SUM($L$8:L53),IF(BG55=\"\",\"\",BG55)),\"\")","v":21600},193752,{"$f":"IFERROR(IF(C54=\"\",\"\",IF(D54=\"\",\"\",IF(I54=\"\",\"\",IF($C54=\"TOTAL\",SUM($N$8:N53),SUM(D54-I54))))),\"\")","v":5800},{"$f":"IFERROR(IF(C54=\"\",\"\",IF(E54=\"\",\"\",IF(J54=\"\",\"\",IF($C54=\"TOTAL\",SUM($O$8:O53),SUM(E54-J54))))),\"\")","v":2923},{"$f":"IFERROR(IF(C54=\"\",\"\",IF(F54=\"\",\"\",IF(K54=\"\",\"\",IF($C54=\"TOTAL\",SUM($P$8:P53),SUM(F54-K54))))),\"\")","v":522},1160,10405,{"$f":"IFERROR(IF(C54=\"\",\"\",IF($C54=\"TOTAL\",SUM($S$8:S53),IF(AND(C54>$AR$1,$AI$3=$AR$2),BW55,IF($AU$18=$AU$20,SUM(BJ55+BR55),ROUND((D54+E54)*10%,0))))),\"\")","v":2100},{"$f":"IFERROR(IF(C54=\"\",\"\",IF(I54=\"\",\"\",IF(J54=\"\",\"\",IF($C54=\"TOTAL\",SUM($T$8:T53),IF(AND(C54>$AR$1,$AI$3=$AR$2),BW55,IF($AU$18=$AU$20,$AU$21,ROUND((I54+J54)*10%,0))))))),\"\")","v":2100},0,{"$f":"IFERROR(IF(C54=\"\",\"\",IF($AU$16=$AU$17,0,IF($C54=\"TOTAL\",SUM($V$8:V53),IF($AU$19=$AU$31,0,IF(AND($AU$32=$AU$20,C54=$AU$33),$AU$34,V53))))),\"\")","v":2100},{"$f":"IFERROR(IF(C54=\"\",\"\",IF($AU$16=$AU$17,0,IF($C54=\"TOTAL\",SUM($W$8:W53),IF($AU$19=$AU$20,$AU$24,0)))),\"\")","v":2100},0,{"$f":"IFERROR(IF(C54=\"\",\"\",IF($AU$16=$AU$17,0,IF($C54=\"TOTAL\",SUM($Y$8:Y53),BZ54))),\"\")","v":875},{"$f":"IFERROR(IF(C54=\"\",\"\",IF($AU$16=$AU$17,0,IF($C54=\"TOTAL\",SUM($Z$8:Z53),BY54))),\"\")","v":875},0,{"$f":"IFERROR(IF(C54=\"\",\"\",IF(D54=\"\",\"\",IF($C54=\"TOTAL\",SUM($AB$8:AB53),IF(C54=$AU$1,ROUND(D54*5/31,0.01),\"\")))),\"\")","v":""},{"$f":"IFERROR(IF(C54=\"\",\"\",IF(I54=\"\",\"\",IF($C54=\"TOTAL\",SUM($AC$8:AC53),IF(C54=$AU$1,ROUND(I54*5/31,0.01),\"\")))),\"\")","v":""},"",{"$f":"IFERROR(IF(C54=\"\",\"\",IF(AND(BP55=\"\",BW55=\"\"),\"\",IF($C54=\"TOTAL\",SUM($AE$8:AE53),BP55))),\"\")","v":""},{"$f":"IFERROR(IF(C54=\"\",\"\",IF($C54=\"TOTAL\",SUM($AF$8:AF53),ROUND(R54*$AU$7%,0))),\"\")","v":0},0,{"$f":"IFERROR(IF(C54=\"\",\"\",IF($C54=\"TOTAL\",SUM($AH$8:AH53),SUM(R54-AG54))),\"\")","v":10405},{"$nulls":8},42,42,null,"2020-10-01",null,"2023-01-01","","2023-01-01","2023-01-01","2023-01-01",113800,22760,57355,10242,null,108000,21600,54432,9720,3675,null,null,10405,3675,"","",0,0,{"$nulls":4},2100,null,875,{"$f":"IF(AZ55=\"\",\"\",IF(AZ55=\"TOTAL\",\"\",IF($AU$16=$AU$17,0,IF(AND(AZ55>$BY$1,$AI$3=$AR$2,'Master Sheet'!$D$27>0),'Master Sheet'!$D$27,IF(AND(AZ55=$BY$1),IF($AU$9<18001,135,IF($AU$9<33501,220,IF($AU$9<54001,330,440))),IF(AND(AZ55>$BY$1),IF($AU$9<18001,265,IF($AU$9<33501,440,IF($AU$9<54001,658,875))),\"\"))))))","v":875}]
[48,48,"2023-03-01",{"$f":"IFERROR(IF($C54=\"TOTAL\",\"अक्षरें राशि :-\",IF($C55=\"TOTAL\",SUM($D$8:D54),IF(BA56=\"\",\"\",BA56))),\"\")","v":113800},{"$f":"IFERROR(IF($C55=\"TOTAL\",SUM($E$8:E54),IF(BC56=\"\",\"\",BC56)),\"\")","v":57355},{"$f":"IFERROR(IF($C55=\"TOTAL\",SUM($F$8:F54),IF(OR(C55=$AS$16,C55=$AS$17,C55=$AS$18,C55=$AS$19,C55=$AS$20,C55=$AS$21,C55=$AS$22,C55=$AS$23,C55=$AS$24),0,IF(BD56=\"\",\"\",BD56))),\"\")","v":10242},{"$f":"IFERROR(IF($C55=\"TOTAL\",SUM($G$8:G54),IF(BB56=\"\",\"\",BB56)),\"\")","v":22760},204157,{"$f":"IFERROR(IF($C55=\"TOTAL\",SUM($I$8:I54),IF(BF56=\"\",\"\",BF56)),\"\")","v":108000},{"$f":"IFERROR(IF($C55=\"TOTAL\",SUM($J$8:J54),IF(BH56=\"\",\"\",BH56)),\"\")","v":54432},{"$f":"IFERROR(IF($C55=\"TOTAL\",SUM($K$8:K54),IF(OR(C55=$AS$16,C55=$AS$17,C55=$AS$18,C55=$AS$19,C55=$AS$20,C55=$AS$21,C55=$AS$22,C55=$AS$23,C55=$AS$24),0,IF(BI56=\"\",\"\",BI56))),\"\")","v":9720},{"$f":"IFERROR(IF($C55=\"TOTAL\",SUM($L$8:L54),IF(BG56=\"\",\"\",BG56)),\"\")","v":21600},193752,{"$f":"IFERROR(IF(C55=\"\",\"\",IF(D55=\"\",\"\",IF(I55=\"\",\"\",IF($C55=\"TOTAL\",SUM($N$8:N54),SUM(D55-I55))))),\"\")","v":5800},{"$f":"IFERROR(IF(C55=\"\",\"\",IF(E55=\"\",\"\",IF(J55=\"\",\"\",IF($C55=\"TOTAL\",SUM($O$8:O54),SUM(E55-J55))))),\"\")","v":2923},{"$f":"IFERROR(IF(C55=\"\",\"\",IF(F55=\"\",\"\",IF(K55=\"\",\"\",IF($C55=\"TOTAL\",SUM($P$8:P54),SUM(F55-K55))))),\"\")","v":522},1160,10405,{"$f":"IFERROR(IF(C55=\"\",\"\",IF($C55=\"TOTAL\",SUM($S$8:S54),IF(AND(C55>$AR$1,$AI$3=$AR$2),BW56,IF($AU$18=$AU$20,SUM(BJ56+BR56),ROUND((D55+E55)*10%,0))))),\"\")","v":2100},{"$f":"IFERROR(IF(C55=\"\",\"\",IF(I55=\"\",\"\",IF(J55=\"\",\"\",IF($C55=\"TOTAL\",SUM($T$8:T54),IF(AND(C55>$AR$1,$AI$3=$AR$2),BW56,IF($AU$18=$AU$20,$AU$21,ROUND((I55+J55)*10%,0))))))),\"\")","v":2100},0,{"$f":"IFERROR(IF(C55=\"\",\"\",IF($AU$16=$AU$17,0,IF($C55=\"TOTAL\",SUM($V$8:V54),IF($AU$19=$AU$31,0,IF(AND($AU$32=$AU$20,C55=$AU$33),$AU$34,V54))))),\"\")","v":2100},{"$f":"IFERROR(IF(C55=\"\",\"\",IF($AU$16=$AU$17,0,IF($C55=\"TOTAL\",SUM($W$8:W54),IF($AU$19=$AU$20,$AU$24,0)))),\"\")","v":2100},0,{"$f":"IFERROR(IF(C55=\"\",\"\",IF($AU$16=$AU$17,0,IF($C55=\"TOTAL\",SUM($Y$8:Y54),BZ55))),\"\")","v":875},{"$f":"IFERROR(IF(C55=\"\",\"\",IF($AU$16=$AU$17,0,IF($C55=\"TOTAL\",SUM($Z$8:Z54),BY55))),\"\")","v":875},0,{"$f":"IFERROR(IF(C55=\"\",\"\",IF(D55=\"\",\"\",IF($C55=\"TOTAL\",SUM($AB$8:AB54),IF(C55=$AU$1,ROUND(D55*5/31,0.01),\"\")))),\"\")","v":""},{"$f":"IFERROR(IF(C55=\"\",\"\",IF(I55=\"\",\"\",IF($C55=\"TOTAL\",SUM($AC$8:AC54),IF(C55=$AU$1,ROUND(I55*5/31,0.01),\"\")))),\"\")","v":""},"",{"$f":"IFERROR(IF(C55=\"\",\"\",IF(AND(BP56=\"\",BW56=\"\"),\"\",IF($C55=\"TOTAL\",SUM($AE$8:AE54),BP56))),\"\")","v":""},{"$f":"IFERROR(IF(C55=\"\",\"\",IF($C55=\"TOTAL\",SUM($AF$8:AF54),ROUND(R55*$AU$7%,0))),\"\")","v":0},0,{"$f":"IFERROR(IF(C55=\"\",\"\",IF($C55=\"TOTAL\",SUM($AH$8:AH54),SUM(R55-AG55))),\"\")","v":10405},{"$nulls":8},42,42,null,"2020-11-01",null,"2023-02-01","","2023-02-01","2023-02-01","2023-02-01",113800,22760,57355,10242,null,108000,21600,54432,9720,3675,null,null,10405,3675,"","",0,0,{"$nulls":4},2100,null,875,{"$f":"IF(AZ56=\"\",\"\",IF(AZ56=\"TOTAL\",\"\",IF($AU$16=$AU$17,0,IF(AND(AZ56>$BY$1,$AI$3=$AR$2,'Master Sheet'!$D$27>0),'Master Sheet'!$D$27,IF(AND(AZ56=$BY$1),IF($AU$9<18001,135,IF($AU$9<33501,220,IF($AU$9<54001,330,440))),IF(AND(AZ56>$BY$1),IF($AU$9<18001,265,IF($AU$9<33501,440,IF($AU$9<54001,658,875))),\"\"))))))","v":875}]
[49,49,"2023-04-01",{"$f":"IFERROR(IF($C55=\"TOTAL\",\"अक्षरें राशि :-\",IF($C56=\"TOTAL\",SUM($D$8:D55),IF(BA57=\"\",\"\",BA57))),\"\")","v":113800},{"$f":"IFERROR(IF($C56=\"TOTAL\",SUM($E$8:E55),IF(BC57=\"\",\"\",BC57)),\"\")","v":57355},{"$f":"IFERROR(IF($C56=\"TOTAL\",SUM($F$8:F55),IF(OR(C56=$AS$16,C56=$AS$17,C56=$AS$18,C56=$AS$19,C56=$AS$20,C56=$AS$21,C56=$AS$22,C56=$AS$23,C56=$AS$24),0,IF(BD57=\"\",\"\",BD57))),\"\")","v":10242},{"$f":"IFERROR(IF($C56=\"TOTAL\",SUM($G$8:G55),IF(BB57=\"\",\"\",BB57)),\"\")","v":22760},204157,{"$f":"IFERROR(IF($C56=\"TOTAL\",SUM($I$8:I55),IF(BF57=\"\",\"\",BF57)),\"\")","v":108000},{"$f":"IFERROR(IF($C56=\"TOTAL\",SUM($J$8:J55),IF(BH57=\"\",\"\",BH57)),\"\")","v":54432},{"$f":"IFERROR(IF($C56=\"TOTAL\",SUM($K$8:K55),IF(OR(C56=$AS$16,C56=$AS$17,C56=$AS$18,C56=$AS$19,C56=$AS$20,C56=$AS$21,C56=$AS$22,C56=$AS$23,C56=$AS$24),0,IF(BI57=\"\",\"\",BI57))),\"\")","v":9720},{"$f":"IFERROR(IF($C56=\"TOTAL\",SUM($L$8:L55),IF(BG57=\"\",\"\",BG57)),\"\")","v":21600},193752,{"$f":"IFERROR(IF(C56=\"\",\"\",IF(D56=\"\",\"\",IF(I56=\"\",\"\",IF($C56=\"TOTAL\",SUM($N$8:N55),SUM(D56-I56))))),\"\")","v":5800},{"$f":"IFERROR(IF(C56=\"\",\"\",IF(E56=\"\",\"\",IF(J56=\"\",\"\",IF($C56=\"TOTAL\",SUM($O$8:O55),SUM(E56-J56))))),\"\")","v":2923},{"$f":"IFERROR(IF(C56=\"\",\"\",IF(F56=\"\",\"\",IF(K56=\"\",\"\",IF($C56=\"TOTAL\",SUM($P$8:P55),SUM(F56-K56))))),\"\")","v":522},1160,10405,{"$f":"IFERROR(IF(C56=\"\",\"\",IF($C56=\"TOTAL\",SUM($S$8:S55),IF(AND(C56>$AR$1,$AI$3=$AR$2),BW57,IF($AU$18=$AU$20,SUM(BJ57+BR57),ROUND((D56+E56)*10%,0))))),\"\")","v":2100},{"$f":"IFERROR(IF(C56=\"\",\"\",IF(I56=\"\",\"\",IF(J56=\"\",\"\",IF($C56=\"TOTAL\",SUM($T$8:T55),IF(AND(C56>$AR$1,$AI$3=$AR$2),BW57,IF($AU$18=$AU$20,$AU$21,ROUND((I56+J56)*10%,0))))))),\"\")","v":2100},0,{"$f":"IFERROR(IF(C56=\"\",\"\",IF($AU$16=$AU$17,0,IF($C56=\"TOTAL\",SUM($V$8:V55),IF($AU$19=$AU$31,0,IF(AND($AU$32=$AU$20,C56=$AU$33),$AU$34,V55))))),\"\")","v":2100},{"$f":"IFERROR(IF(C56=\"\",\"\",IF($AU$16=$AU$17,0,IF($C56=\"TOTAL\",SUM($W$8:W55),IF($AU$19=$AU$20,$AU$24,0)))),\"\")","v":2100},0,{"$f":"IFERROR(IF(C56=\"\",\"\",IF($AU$16=$AU$17,0,IF($C56=\"TOTAL\",SUM($Y$8:Y55),BZ56))),\"\")","v":875},{"$f":"IFERROR(IF(C56=\"\",\"\",IF($AU$16=$AU$17,0,IF($C56=\"TOTAL\",SUM($Z$8:Z55),BY56))),\"\")","v":875},0,{"$f":"IFERROR(IF(C56=\"\",\"\",IF(D56=\"\",\"\",IF($C56=\"TOTAL\",SUM($AB$8:AB55),IF(C56=$AU$1,ROUND(D56*5/31,0.01),\"\")))),\"\")","v":""},{"$f":"IFERROR(IF(C56=\"\",\"\",IF(I56=\"\",\"\",IF($C56=\"TOTAL\",SUM($AC$8:AC55),IF(C56=$AU$1,ROUND(I56*5/31,0.01),\"\")))),\"\")","v":""},"",{"$f":"IFERROR(IF(C56=\"\",\"\",IF(AND(BP57=\"\",BW57=\"\"),\"\",IF($C56=\"TOTAL\",SUM($AE$8:AE55),BP57))),\"\")","v":""},{"$f":"IFERROR(IF(C56=\"\",\"\",IF($C56=\"TOTAL\",SUM($AF$8:AF55),ROUND(R56*$AU$7%,0))),\"\")","v":0},0,{"$f":"IFERROR(IF(C56=\"\",\"\",IF($C56=\"TOTAL\",SUM($AH$8:AH55),SUM(R56-AG56))),\"\")","v":10405},{"$nulls":8},42,42,null,"2020-12-01",null,"2023-03-01","","2023-03-01","2023-03-01","2023-03-01",113800,22760,57355,10242,null,108000,21600,54432,9720,3675,null,null,10405,3675,"","",0,0,{"$nulls":4},2100,null,875,{"$f":"IF(AZ57=\"\",\"\",IF(AZ57=\"TOTAL\",\"\",IF($AU$16=$AU$17,0,IF(AND(AZ57>$BY$1,$AI$3=$AR$2,'Master Sheet'!$D$27>0),'Master Sheet'!$D$27,IF(AND(AZ57=$BY$1),IF($AU$9<18001,135,IF($AU$9<33501,220,IF($AU$9<54001,330,440))),IF(AND(AZ57>$BY$1),IF($AU$9<18001,265,IF($AU$9<33501,440,IF($AU$9<54001,658,875))),\"\"))))))","v":875}]
[50,50,"2023-05-01",{"$f":"IFERROR(IF($C56=\"TOTAL\",\"अक्षरें राशि :-\",IF($C57=\"TOTAL\",SUM($D$8:D56),IF(BA58=\"\",\"\",BA58))),\"\")","v":113800},{"$f":"IFERROR(IF($C57=\"TOTAL\",SUM($E$8:E56),IF(BC58=\"\",\"\",BC58)),\"\")","v":57355},{"$f":"IFERROR(IF($C57=\"TOTAL\",SUM($F$8:F56),IF(OR(C57=$AS$16,C57=$AS$17,C57=$AS$18,C57=$AS$19,C57=$AS$20,C57=$AS$21,C57=$AS$22,C57=$AS$23,C57=$AS$24),0,IF(BD58=\"\",\"\",BD58))),\"\")","v":10242},{"$f":"IFERROR(IF($C57=\"TOTAL\",SUM($G$8:G56),IF(BB58=\"\",\"\",BB58)),\"\")","v":22760},204157,{"$f":"IFERROR(IF($C57=\"TOTAL\",SUM($I$8:I56),IF(BF58=\"\",\"\",BF58)),\"\")","v":108000},{"$f":"IFERROR(IF($C57=\"TOTAL\",SUM($J$8:J56),IF(BH58=\"\",\"\",BH58)),\"\")","v":54432},{"$f":"IFERROR(IF($C57=\"TOTAL\",SUM($K$8:K56),IF(OR(C57=$AS$16,C57=$AS$17,C57=$AS$18,C57=$AS$19,C57=$AS$20,C57=$AS$21,C57=$AS$22,C57=$AS$23,C57=$AS$24),0,IF(BI58=\"\",\"\",BI58))),\"\")","v":9720},{"$f":"IFERROR(IF($C57=\"TOTAL\",SUM($L$8:L56),IF(BG58=\"\",\"\",BG58)),\"\")","v":21600},193752,{"$f":"IFERROR(IF(C57=\"\",\"\",IF(D57=\"\",\"\",IF(I57=\"\",\"\",IF($C57=\"TOTAL\",SUM($N$8:N56),SUM(D57-I57))))),\"\")","v":5800},{"$f":"IFERROR(IF(C57=\"\",\"\",IF(E57=\"\",\"\",IF(J57=\"\",\"\",IF($C57=\"TOTAL\",SUM($O$8:O56),SUM(E57-J57))))),\"\")","v":2923},{"$f":"IFERROR(IF(C57=\"\",\"\",IF(F57=\"\",\"\",IF(K57=\"\",\"\",IF($C57=\"TOTAL\",SUM($P$8:P56),SUM(F57-K57))))),\"\")","v":522},1160,10405,{"$f":"IFERROR(IF(C57=\"\",\"\",IF($C57=\"TOTAL\",SUM($S$8:S56),IF(AND(C57>$AR$1,$AI$3=$AR$2),BW58,IF($AU$18=$AU$20,SUM(BJ58+BR58),ROUND((D57+E57)*10%,0))))),\"\")","v":2100},{"$f":"IFERROR(IF(C57=\"\",\"\",IF(I57=\"\",\"\",IF(J57=\"\",\"\",IF($C57=\"TOTAL\",SUM($T$8:T56),IF(AND(C57>$AR$1,$AI$3=$AR$2),BW58,IF($AU$18=$AU$20,$AU$21,ROUND((I57+J57)*10%,0))))))),\"\")","v":2100},0,{"$f":"IFERROR(IF(C57=\"\",\"\",IF($AU$16=$AU$17,0,IF($C57=\"TOTAL\",SUM($V$8:V56),IF($AU$19=$AU$31,0,IF(AND($AU$32=$AU$20,C57=$AU$33),$AU$34,V56))))),\"\")","v":2100},{"$f":"IFERROR(IF(C57=\"\",\"\",IF($AU$16=$AU$17,0,IF($C57=\"TOTAL\",SUM($W$8:W56),IF($AU$19=$AU$20,$AU$24,0)))),\"\")","v":2100},0,{"$f":"IFERROR(IF(C57=\"\",\"\",IF($AU$16=$AU$17,0,IF($C57=\"TOTAL\",SUM($Y$8:Y56),BZ57))),\"\")","v":875},{"$f":"IFERROR(IF(C57=\"\",\"\",IF($AU$16=$AU$17,0,IF($C57=\"TOTAL\",SUM($Z$8:Z56),BY57))),\"\")","v":875},0,{"$f":"IFERROR(IF(C57=\"\",\"\",IF(D57=\"\",\"\",IF($C57=\"TOTAL\",SUM($AB$8:AB56),IF(C57=$AU$1,ROUND(D57*5/31,0.01),\"\")))),\"\")","v":""},{"$f":"IFERROR(IF(C57=\"\",\"\",IF(I57=\"\",\"\",IF($C57=\"TOTAL\",SUM($AC$8:AC56),IF(C57=$AU$1,ROUND(I57*5/31,0.01),\"\")))),\"\")","v":""},"",{"$f":"IFERROR(IF(C57=\"\",\"\",IF(AND(BP58=\"\",BW58=\"\"),\"\",IF($C57=\"TOTAL\",SUM($AE$8:AE56),BP58))),\"\")","v":""},{"$f":"IFERROR(IF(C57=\"\",\"\",IF($C57=\"TOTAL\",SUM($AF$8:AF56),ROUND(R57*$AU$7%,0))),\"\")","v":0},0,{"$f":"IFERROR(IF(C57=\"\",\"\",IF($C57=\"TOTAL\",SUM($AH$8:AH56),SUM(R57-AG57))),\"\")","v":10405},{"$nulls":8},42,42,null,"2021-01-01",null,"2023-04-01","","2023-04-01","2023-04-01","2023-04-01",113800,22760,57355,10242,null,108000,21600,54432,9720,3675,null,null,10405,3675,"","",0,0,{"$nulls":4},2100,null,875,{"$f":"IF(AZ58=\"\",\"\",IF(AZ58=\"TOTAL\",\"\",IF($AU$16=$AU$17,0,IF(AND(AZ58>$BY$1,$AI$3=$AR$2,'Master Sheet'!$D$27>0),'Master Sheet'!$D$27,IF(AND(AZ58=$BY$1),IF($AU$9<18001,135,IF($AU$9<33501,220,IF($AU$9<54001,330,440))),IF(AND(AZ58>$BY$1),IF($AU$9<18001,265,IF($AU$9<33501,440,IF($AU$9<54001,658,875))),\"\"))))))","v":875}]
[51,51,"2023-06-01",{"$f":"IFERROR(IF($C57=\"TOTAL\",\"अक्षरें राशि :-\",IF($C58=\"TOTAL\",SUM($D$8:D57),IF(BA59=\"\",\"\",BA59))),\"\")","v":113800},{"$f":"IFERROR(IF($C58=\"TOTAL\",SUM($E$8:E57),IF(BC59=\"\",\"\",BC59)),\"\")","v":57355},{"$f":"IFERROR(IF($C58=\"TOTAL\",SUM($F$8:F57),IF(OR(C58=$AS$16,C58=$AS$17,C58=$AS$18,C58=$AS$19,C58=$AS$20,C58=$AS$21,C58=$AS$22,C58=$AS$23,C58=$AS$24),0,IF(BD59=\"\",\"\",BD59))),\"\")","v":10242},{"$f":"IFERROR(IF($C58=\"TOTAL\",SUM($G$8:G57),IF(BB59=\"\",\"\",BB59)),\"\")","v":22760},204157,{"$f":"IFERROR(IF($C58=\"TOTAL\",SUM($I$8:I57),IF(BF59=\"\",\"\",BF59)),\"\")","v":108000},{"$f":"IFERROR(IF($C58=\"TOTAL\",SUM($J$8:J57),IF(BH59=\"\",\"\",BH59)),\"\")","v":54432},{"$f":"IFERROR(IF($C58=\"TOTAL\",SUM($K$8:K57),IF(OR(C58=$AS$16,C58=$AS$17,C58=$AS$18,C58=$AS$19,C58=$AS$20,C58=$AS$21,C58=$AS$22,C58=$AS$23,C58=$AS$24),0,IF(BI59=\"\",\"\",BI59))),\"\")","v":9720},{"$f":"IFERROR(IF($C58=\"TOTAL\",SUM($L$8:L57),IF(BG59=\"\",\"\",BG59)),\"\")","v":21600},193752,{"$f":"IFERROR(IF(C58=\"\",\"\",IF(D58=\"\",\"\",IF(I58=\"\",\"\",IF($C58=\"TOTAL\",SUM($N$8:N57),SUM(D58-I58))))),\"\")","v":5800},{"$f":"IFERROR(IF(C58=\"\",\"\",IF(E58=\"\",\"\",IF(J58=\"\",\"\",IF($C58=\"TOTAL\",SUM($O$8:O57),SUM(E58-J58))))),\"\")","v":2923},{"$f":"IFERROR(IF(C58=\"\",\"\",IF(F58=\"\",\"\",IF(K58=\"\",\"\",IF($C58=\"TOTAL\",SUM($P$8:P57),SUM(F58-K58))))),\"\")","v":522},1160,10405,{"$f":"IFERROR(IF(C58=\"\",\"\",IF($C58=\"TOTAL\",SUM($S$8:S57),IF(AND(C58>$AR$1,$AI$3=$AR$2),BW59,IF($AU$18=$AU$20,SUM(BJ59+BR59),ROUND((D58+E58)*10%,0))))),\"\")","v":2100},{"$f":"IFERROR(IF(C58=\"\",\"\",IF(I58=\"\",\"\",IF(J58=\"\",\"\",IF($C58=\"TOTAL\",SUM($T$8:T57),IF(AND(C58>$AR$1,$AI$3=$AR$2),BW59,IF($AU$18=$AU$20,$AU$21,ROUND((I58+J58)*10%,0))))))),\"\")","v":2100},0,{"$f":"IFERROR(IF(C58=\"\",\"\",IF($AU$16=$AU$17,0,IF($C58=\"TOTAL\",SUM($V$8:V57),IF($AU$19=$AU$31,0,IF(AND($AU$32=$AU$20,C58=$AU$33),$AU$34,V57))))),\"\")","v":2100},{"$f":"IFERROR(IF(C58=\"\",\"\",IF($AU$16=$AU$17,0,IF($C58=\"TOTAL\",SUM($W$8:W57),IF($AU$19=$AU$20,$AU$24,0)))),\"\")","v":2100},0,{"$f":"IFERROR(IF(C58=\"\",\"\",IF($AU$16=$AU$17,0,IF($C58=\"TOTAL\",SUM($Y$8:Y57),BZ58))),\"\")","v":875},{"$f":"IFERROR(IF(C58=\"\",\"\",IF($AU$16=$AU$17,0,IF($C58=\"TOTAL\",SUM($Z$8:Z57),BY58))),\"\")","v":875},0,{"$f":"IFERROR(IF(C58=\"\",\"\",IF(D58=\"\",\"\",IF($C58=\"TOTAL\",SUM($AB$8:AB57),IF(C58=$AU$1,ROUND(D58*5/31,0.01),\"\")))),\"\")","v":""},{"$f":"IFERROR(IF(C58=\"\",\"\",IF(I58=\"\",\"\",IF($C58=\"TOTAL\",SUM($AC$8:AC57),IF(C58=$AU$1,ROUND(I58*5/31,0.01),\"\")))),\"\")","v":""},"",{"$f":"IFERROR(IF(C58=\"\",\"\",IF(AND(BP59=\"\",BW59=\"\"),\"\",IF($C58=\"TOTAL\",SUM($AE$8:AE57),BP59))),\"\")","v":""},{"$f":"IFERROR(IF(C58=\"\",\"\",IF($C58=\"TOTAL\",SUM($AF$8:AF57),ROUND(R58*$AU$7%,0))),\"\")","v":0},0,{"$f":"IFERROR(IF(C58=\"\",\"\",IF($C58=\"TOTAL\",SUM($AH$8:AH57),SUM(R58-AG58))),\"\")","v":10405},{"$nulls":8},42,42,null,"2021-02-01",null,"2023-05-01","","2023-05-01","2023-05-01","2023-05-01",113800,22760,57355,10242,null,108000,21600,54432,9720,3675,null,null,10405,3675,"","",0,0,{"$nulls":4},2100,null,875,{"$f":"IF(AZ59=\"\",\"\",IF(AZ59=\"TOTAL\",\"\",IF($AU$16=$AU$17,0,IF(AND(AZ59>$BY$1,$AI$3=$AR$2,'Master Sheet'!$D$27>0),'Master Sheet'!$D$27,IF(AND(AZ59=$BY$1),IF($AU$9<18001,135,IF($AU$9<33501,220,IF($AU$9<54001,330,440))),IF(AND(AZ59>$BY$1),IF($AU$9<18001,265,IF($AU$9<33501,440,IF($AU$9<54001,658,875))),\"\"))))))","v":875}]
[52,52,"2023-07-01",{"$f":"IFERROR(IF($C58=\"TOTAL\",\"अक्षरें राशि :-\",IF($C59=\"TOTAL\",SUM($D$8:D58),IF(BA60=\"\",\"\",BA60))),\"\")","v":117200},{"$f":"IFERROR(IF($C59=\"TOTAL\",SUM($E$8:E58),IF(BC60=\"\",\"\",BC60)),\"\")","v":59069},{"$f":"IFERROR(IF($C59=\"TOTAL\",SUM($F$8:F58),IF(OR(C59=$AS$16,C59=$AS$17,C59=$AS$18,C59=$AS$19,C59=$AS$20,C59=$AS$21,C59=$AS$22,C59=$AS$23,C59=$AS$24),0,IF(BD60=\"\",\"\",BD60))),\"\")","v":10548},{"$f":"IFERROR(IF($C59=\"TOTAL\",SUM($G$8:G58),IF(BB60=\"\",\"\",BB60)),\"\")","v":23440},210257,{"$f":"IFERROR(IF($C59=\"TOTAL\",SUM($I$8:I58),IF(BF60=\"\",\"\",BF60)),\"\")","v":111200},{"$f":"IFERROR(IF($C59=\"TOTAL\",SUM($J$8:J58),IF(BH60=\"\",\"\",BH60)),\"\")","v":56045},{"$f":"IFERROR(IF($C59=\"TOTAL\",SUM($K$8:K58),IF(OR(C59=$AS$16,C59=$AS$17,C59=$AS$18,C59=$AS$19,C59=$AS$20,C59=$AS$21,C59=$AS$22,C59=$AS$23,C59=$AS$24),0,IF(BI60=\"\",\"\",BI60))),\"\")","v":10008},{"$f":"IFERROR(IF($C59=\"TOTAL\",SUM($L$8:L58),IF(BG60=\"\",\"\",BG60)),\"\")","v":22240},199493,{"$f":"IFERROR(IF(C59=\"\",\"\",IF(D59=\"\",\"\",IF(I59=\"\",\"\",IF($C59=\"TOTAL\",SUM($N$8:N58),SUM(D59-I59))))),\"\")","v":6000},{"$f":"IFERROR(IF(C59=\"\",\"\",IF(E59=\"\",\"\",IF(J59=\"\",\"\",IF($C59=\"TOTAL\",SUM($O$8:O58),SUM(E59-J59))))),\"\")","v":3024},{"$f":"IFERROR(IF(C59=\"\",\"\",IF(F59=\"\",\"\",IF(K59=\"\",\"\",IF($C59=\"TOTAL\",SUM($P$8:P58),SUM(F59-K59))))),\"\")","v":540},1200,10764,{"$f":"IFERROR(IF(C59=\"\",\"\",IF($C59=\"TOTAL\",SUM($S$8:S58),IF(AND(C59>$AR$1,$AI$3=$AR$2),BW60,IF($AU$18=$AU$20,SUM(BJ60+BR60),ROUND((D59+E59)*10%,0))))),\"\")","v":2100},{"$f":"IFERROR(IF(C59=\"\",\"\",IF(I59=\"\",\"\",IF(J59=\"\",\"\",IF($C59=\"TOTAL\",SUM($T$8:T58),IF(AND(C59>$AR$1,$AI$3=$AR$2),BW60,IF($AU$18=$AU$20,$AU$21,ROUND((I59+J59)*10%,0))))))),\"\")","v":2100},0,{"$f":"IFERROR(IF(C59=\"\",\"\",IF($AU$16=$AU$17,0,IF($C59=\"TOTAL\",SUM($V$8:V58),IF($AU$19=$AU$31,0,IF(AND($AU$32=$AU$20,C59=$AU$33),$AU$34,V58))))),\"\")","v":2100},{"$f":"IFERROR(IF(C59=\"\",\"\",IF($AU$16=$AU$17,0,IF($C59=\"TOTAL\",SUM($W$8:W58),IF($AU$19=$AU$20,$AU$24,0)))),\"\")","v":2100},0,{"$f":"IFERROR(IF(C59=\"\",\"\",IF($AU$16=$AU$17,0,IF($C59=\"TOTAL\",SUM($Y$8:Y58),BZ59))),\"\")","v":875},{"$f":"IFERROR(IF(C59=\"\",\"\",IF($AU$16=$AU$17,0,IF($C59=\"TOTAL\",SUM($Z$8:Z58),BY59))),\"\")","v":875},0,{"$f":"IFERROR(IF(C59=\"\",\"\",IF(D59=\"\",\"\",IF($C59=\"TOTAL\",SUM($AB$8:AB58),IF(C59=$AU$1,ROUND(D59*5/31,0.01),\"\")))),\"\")","v":""},{"$f":"IFERROR(IF(C59=\"\",\"\",IF(I59=\"\",\"\",IF($C59=\"TOTAL\",SUM($AC$8:AC58),IF(C59=$AU$1,ROUND(I59*5/31,0.01),\"\")))),\"\")","v":""},"",{"$f":"IFERROR(IF(C59=\"\",\"\",IF(AND(BP60=\"\",BW60=\"\"),\"\",IF($C59=\"TOTAL\",SUM($AE$8:AE58),BP60))),\"\")","v":""},{"$f":"IFERROR(IF(C59=\"\",\"\",IF($C59=\"TOTAL\",SUM($AF$8:AF58),ROUND(R59*$AU$7%,0))),\"\")","v":0},0,{"$f":"IFERROR(IF(C59=\"\",\"\",IF($C59=\"TOTAL\",SUM($AH$8:AH58),SUM(R59-AG59))),\"\")","v":10764},{"$nulls":8},42,42,null,"2021-03-01",null,"2023-06-01","","2023-06-01","2023-06-01","2023-06-01",113800,22760,57355,10242,null,108000,21600,54432,9720,3675,null,null,10405,3675,"","",0,0,{"$nulls":4},2100,null,875,{"$f":"IF(AZ60=\"\",\"\",IF(AZ60=\"TOTAL\",\"\",IF($AU$16=$AU$17,0,IF(AND(AZ60>$BY$1,$AI$3=$AR$2,'Master Sheet'!$D$27>0),'Master Sheet'!$D$27,IF(AND(AZ60=$BY$1),IF($AU$9<18001,135,IF($AU$9<33501,220,IF($AU$9<54001,330,440))),IF(AND(AZ60>$BY$1),IF($AU$9<18001,265,IF($AU$9<33501,440,IF($AU$9<54001,658,875))),\"\"))))))","v":875}]
[53,53,"2023-08-01",{"$f":"IFERROR(IF($C59=\"TOTAL\",\"अक्षरें राशि :-\",IF($C60=\"TOTAL\",SUM($D$8:D59),IF(BA61=\"\",\"\",BA61))),\"\")","v":117200},{"$f":"IFERROR(IF($C60=\"TOTAL\",SUM($E$8:E59),IF(BC61=\"\",\"\",BC61)),\"\")","v":59069},{"$f":"IFERROR(IF($C60=\"TOTAL\",SUM($F$8:F59),IF(OR(C60=$AS$16,C60=$AS$17,C60=$AS$18,C60=$AS$19,C60=$AS$20,C60=$AS$21,C60=$AS$22,C60=$AS$23,C60=$AS$24),0,IF(BD61=\"\",\"\",BD61))),\"\")","v":10548},{"$f":"IFERROR(IF($C60=\"TOTAL\",SUM($G$8:G59),IF(BB61=\"\",\"\",BB61)),\"\")","v":23440},210257,{"$f":"IFERROR(IF($C60=\"TOTAL\",SUM($I$8:I59),IF(BF61=\"\",\"\",BF61)),\"\")","v":111200},{"$f":"IFERROR(IF($C60=\"TOTAL\",SUM($J$8:J59),IF(BH61=\"\",\"\",BH61)),\"\")","v":56045},{"$f":"IFERROR(IF($C60=\"TOTAL\",SUM($K$8:K59),IF(OR(C60=$AS$16,C60=$AS$17,C60=$AS$18,C60=$AS$19,C60=$AS$20,C60=$AS$21,C60=$AS$22,C60=$AS$23,C60=$AS$24),0,IF(BI61=\"\",\"\",BI61))),\"\")","v":10008},{"$f":"IFERROR(IF($C60=\"TOTAL\",SUM($L$8:L59),IF(BG61=\"\",\"\",BG61)),\"\")","v":22240},199493,{"$f":"IFERROR(IF(C60=\"\",\"\",IF(D60=\"\",\"\",IF(I60=\"\",\"\",IF($C60=\"TOTAL\",SUM($N$8:N59),SUM(D60-I60))))),\"\")","v":6000},{"$f":"IFERROR(IF(C60=\"\",\"\",IF(E60=\"\",\"\",IF(J60=\"\",\"\",IF($C60=\"TOTAL\",SUM($O$8:O59),SUM(E60-J60))))),\"\")","v":3024},{"$f":"IFERROR(IF(C60=\"\",\"\",IF(F60=\"\",\"\",IF(K60=\"\",\"\",IF($C60=\"TOTAL\",SUM($P$8:P59),SUM(F60-K60))))),\"\")","v":540},1200,10764,{"$f":"IFERROR(IF(C60=\"\",\"\",IF($C60=\"TOTAL\",SUM($S$8:S59),IF(AND(C60>$AR$1,$AI$3=$AR$2),BW61,IF($AU$18=$AU$20,SUM(BJ61+BR61),ROUND((D60+E60)*10%,0))))),\"\")","v":2100},{"$f":"IFERROR(IF(C60=\"\",\"\",IF(I60=\"\",\"\",IF(J60=\"\",\"\",IF($C60=\"TOTAL\",SUM($T$8:T59),IF(AND(C60>$AR$1,$AI$3=$AR$2),BW61,IF($AU$18=$AU$20,$AU$21,ROUND((I60+J60)*10%,0))))))),\"\")","v":2100},0,{"$f":"IFERROR(IF(C60=\"\",\"\",IF($AU$16=$AU$17,0,IF($C60=\"TOTAL\",SUM($V$8:V59),IF($AU$19=$AU$31,0,IF(AND($AU$32=$AU$20,C60=$AU$33),$AU$34,V59))))),\"\")","v":2100},{"$f":"IFERROR(IF(C60=\"\",\"\",IF($AU$16=$AU$17,0,IF($C60=\"TOTAL\",SUM($W$8:W59),IF($AU$19=$AU$20,$AU$24,0)))),\"\")","v":2100},0,{"$f":"IFERROR(IF(C60=\"\",\"\",IF($AU$16=$AU$17,0,IF($C60=\"TOTAL\",SUM($Y$8:Y59),BZ60))),\"\")","v":875},{"$f":"IFERROR(IF(C60=\"\",\"\",IF($AU$16=$AU$17,0,IF($C60=\"TOTAL\",SUM($Z$8:Z59),BY60))),\"\")","v":875},0,{"$f":"IFERROR(IF(C60=\"\",\"\",IF(D60=\"\",\"\",IF($C60=\"TOTAL\",SUM($AB$8:AB59),IF(C60=$AU$1,ROUND(D60*5/31,0.01),\"\")))),\"\")","v":""},{"$f":"IFERROR(IF(C60=\"\",\"\",IF(I60=\"\",\"\",IF($C60=\"TOTAL\",SUM($AC$8:AC59),IF(C60=$AU$1,ROUND(I60*5/31,0.01),\"\")))),\"\")","v":""},"",{"$f":"IFERROR(IF(C60=\"\",\"\",IF(AND(BP61=\"\",BW61=\"\"),\"\",IF($C60=\"TOTAL\",SUM($AE$8:AE59),BP61))),\"\")","v":""},{"$f":"IFERROR(IF(C60=\"\",\"\",IF($C60=\"TOTAL\",SUM($AF$8:AF59),ROUND(R60*$AU$7%,0))),\"\")","v":0},0,{"$f":"IFERROR(IF(C60=\"\",\"\",IF($C60=\"TOTAL\",SUM($AH$8:AH59),SUM(R60-AG60))),\"\")","v":10764},{"$nulls":8},42,42,null,"2021-04-01",null,"2023-07-01","","2023-07-01","2023-07-01","2023-07-01",117200,23440,59069,10548,null,111200,22240,56045,10008,3675,null,null,10764,3675,"","",0,0,{"$nulls":4},2100,null,875,{"$f":"IF(AZ61=\"\",\"\",IF(AZ61=\"TOTAL\",\"\",IF($AU$16=$AU$17,0,IF(AND(AZ61>$BY$1,$AI$3=$AR$2,'Master Sheet'!$D$27>0),'Master Sheet'!$D$27,IF(AND(AZ61=$BY$1),IF($AU$9<18001,135,IF($AU$9<33501,220,IF($AU$9<54001,330,440))),IF(AND(AZ61>$BY$1),IF($AU$9<18001,265,IF($AU$9<33501,440,IF($AU$9<54001,658,875))),\"\"))))))","v":875}]
[54,54,"2023-09-01",{"$f":"IFERROR(IF($C60=\"TOTAL\",\"अक्षरें राशि :-\",IF($C61=\"TOTAL\",SUM($D$8:D60),IF(BA62=\"\",\"\",BA62))),\"\")","v":117200},{"$f":"IFERROR(IF($C61=\"TOTAL\",SUM($E$8:E60),IF(BC62=\"\",\"\",BC62)),\"\")","v":59069},{"$f":"IFERROR(IF($C61=\"TOTAL\",SUM($F$8:F60),IF(OR(C61=$AS$16,C61=$AS$17,C61=$AS$18,C61=$AS$19,C61=$AS$20,C61=$AS$21,C61=$AS$22,C61=$AS$23,C61=$AS$24),0,IF(BD62=\"\",\"\",BD62))),\"\")","v":10548},{"$f":"IFERROR(IF($C61=\"TOTAL\",SUM($G$8:G60),IF(BB62=\"\",\"\",BB62)),\"\")","v":23440},210257,{"$f":"IFERROR(IF($C61=\"TOTAL\",SUM($I$8:I60),IF(BF62=\"\",\"\",BF62)),\"\")","v":111200},{"$f":"IFERROR(IF($C61=\"TOTAL\",SUM($J$8:J60),IF(BH62=\"\",\"\",BH62)),\"\")","v":56045},{"$f":"IFERROR(IF($C61=\"TOTAL\",SUM($K$8:K60),IF(OR(C61=$AS$16,C61=$AS$17,C61=$AS$18,C61=$AS$19,C61=$AS$20,C61=$AS$21,C61=$AS$22,C61=$AS$23,C61=$AS$24),0,IF(BI62=\"\",\"\",BI62))),\"\")","v":10008},{"$f":"IFERROR(IF($C61=\"TOTAL\",SUM($L$8:L60),IF(BG62=\"\",\"\",BG62)),\"\")","v":22240},199493,{"$f":"IFERROR(IF(C61=\"\",\"\",IF(D61=\"\",\"\",IF(I61=\"\",\"\",IF($C61=\"TOTAL\",SUM($N$8:N60),SUM(D61-I61))))),\"\")","v":6000},{"$f":"IFERROR(IF(C61=\"\",\"\",IF(E61=\"\",\"\",IF(J61=\"\",\"\",IF($C61=\"TOTAL\",SUM($O$8:O60),SUM(E61-J61))))),\"\")","v":3024},{"$f":"IFERROR(IF(C61=\"\",\"\",IF(F61=\"\",\"\",IF(K61=\"\",\"\",IF($C61=\"TOTAL\",SUM($P$8:P60),SUM(F61-K61))))),\"\")","v":540},1200,10764,{"$f":"IFERROR(IF(C61=\"\",\"\",IF($C61=\"TOTAL\",SUM($S$8:S60),IF(AND(C61>$AR$1,$AI$3=$AR$2),BW62,IF($AU$18=$AU$20,SUM(BJ62+BR62),ROUND((D61+E61)*10%,0))))),\"\")","v":2100},{"$f":"IFERROR(IF(C61=\"\",\"\",IF(I61=\"\",\"\",IF(J61=\"\",\"\",IF($C61=\"TOTAL\",SUM($T$8:T60),IF(AND(C61>$AR$1,$AI$3=$AR$2),BW62,IF($AU$18=$AU$20,$AU$21,ROUND((I61+J61)*10%,0))))))),\"\")","v":2100},0,{"$f":"IFERROR(IF(C61=\"\",\"\",IF($AU$16=$AU$17,0,IF($C61=\"TOTAL\",SUM($V$8:V60),IF($AU$19=$AU$31,0,IF(AND($AU$32=$AU$20,C61=$AU$33),$AU$34,V60))))),\"\")","v":2100},{"$f":"IFERROR(IF(C61=\"\",\"\",IF($AU$16=$AU$17,0,IF($C61=\"TOTAL\",SUM($W$8:W60),IF($AU$19=$AU$20,$AU$24,0)))),\"\")","v":2100},0,{"$f":"IFERROR(IF(C61=\"\",\"\",IF($AU$16=$AU$17,0,IF($C61=\"TOTAL\",SUM($Y$8:Y60),BZ61))),\"\")","v":875},{"$f":"IFERROR(IF(C61=\"\",\"\",IF($AU$16=$AU$17,0,IF($C61=\"TOTAL\",SUM($Z$8:Z60),BY61))),\"\")","v":875},0,{"$f":"IFERROR(IF(C61=\"\",\"\",IF(D61=\"\",\"\",IF($C61=\"TOTAL\",SUM($AB$8:AB60),IF(C61=$AU$1,ROUND(D61*5/31,0.01),\"\")))),\"\")","v":""},{"$f":"IFERROR(IF(C61=\"\",\"\",IF(I61=\"\",\"\",IF($C61=\"TOTAL\",SUM($AC$8:AC60),IF(C61=$AU$1,ROUND(I61*5/31,0.01),\"\")))),\"\")","v":""},"",{"$f":"IFERROR(IF(C61=\"\",\"\",IF(AND(BP62=\"\",BW62=\"\"),\"\",IF($C61=\"TOTAL\",SUM($AE$8:AE60),BP62))),\"\")","v":""},{"$f":"IFERROR(IF(C61=\"\",\"\",IF($C61=\"TOTAL\",SUM($AF$8:AF60),ROUND(R61*$AU$7%,0))),\"\")","v":0},0,{"$f":"IFERROR(IF(C61=\"\",\"\",IF($C61=\"TOTAL\",SUM($AH$8:AH60),SUM(R61-AG61))),\"\")","v":10764},{"$nulls":8},42,42,null,"2021-05-01",null,"2023-08-01","","2023-08-01","2023-08-01","2023-08-01",117200,23440,59069,10548,null,111200,22240,56045,10008,3675,null,null,10764,3675,"","",0,0,null,{"$f":"SUM(ROUND(D62*34%,0))-SUM(ROUND(D62*31%,0))","v":3516},null,null,2100,null,875,{"$f":"IF(AZ62=\"\",\"\",IF(AZ62=\"TOTAL\",\"\",IF($AU$16=$AU$17,0,IF(AND(AZ62>$BY$1,$AI$3=$AR$2,'Master Sheet'!$D$27>0),'Master Sheet'!$D$27,IF(AND(AZ62=$BY$1),IF($AU$9<18001,135,IF($AU$9<33501,220,IF($AU$9<54001,330,440))),IF(AND(AZ62>$BY$1),IF($AU$9<18001,265,IF($AU$9<33501,440,IF($AU$9<54001,658,875))),\"\"))))))","v":875}]
[55,55,"2023-10-01",{"$f":"IFERROR(IF($C61=\"TOTAL\",\"अक्षरें राशि :-\",IF($C62=\"TOTAL\",SUM($D$8:D61),IF(BA63=\"\",\"\",BA63))),\"\")","v":117200},{"$f":"IFERROR(IF($C62=\"TOTAL\",SUM($E$8:E61),IF(BC63=\"\",\"\",BC63)),\"\")","v":59069},{"$f":"IFERROR(IF($C62=\"TOTAL\",SUM($F$8:F61),IF(OR(C62=$AS$16,C62=$AS$17,C62=$AS$18,C62=$AS$19,C62=$AS$20,C62=$AS$21,C62=$AS$22,C62=$AS$23,C62=$AS$24),0,IF(BD63=\"\",\"\",BD63))),\"\")","v":10548},{"$f":"IFERROR(IF($C62=\"TOTAL\",SUM($G$8:G61),IF(BB63=\"\",\"\",BB63)),\"\")","v":23440},210257,{"$f":"IFERROR(IF($C62=\"TOTAL\",SUM($I$8:I61),IF(BF63=\"\",\"\",BF63)),\"\")","v":111200},{"$f":"IFERROR(IF($C62=\"TOTAL\",SUM($J$8:J61),IF(BH63=\"\",\"\",BH63)),\"\")","v":56045},{"$f":"IFERROR(IF($C62=\"TOTAL\",SUM($K$8:K61),IF(OR(C62=$AS$16,C62=$AS$17,C62=$AS$18,C62=$AS$19,C62=$AS$20,C62=$AS$21,C62=$AS$22,C62=$AS$23,C62=$AS$24),0,IF(BI63=\"\",\"\",BI63))),\"\")","v":10008},{"$f":"IFERROR(IF($C62=\"TOTAL\",SUM($L$8:L61),IF(BG63=\"\",\"\",BG63)),\"\")","v":22240},199493,{"$f":"IFERROR(IF(C62=\"\",\"\",IF(D62=\"\",\"\",IF(I62=\"\",\"\",IF($C62=\"TOTAL\",SUM($N$8:N61),SUM(D62-I62))))),\"\")","v":6000},{"$f":"IFERROR(IF(C62=\"\",\"\",IF(E62=\"\",\"\",IF(J62=\"\",\"\",IF($C62=\"TOTAL\",SUM($O$8:O61),SUM(E62-J62))))),\"\")","v":3024},{"$f":"IFERROR(IF(C62=\"\",\"\",IF(F62=\"\",\"\",IF(K62=\"\",\"\",IF($C62=\"TOTAL\",SUM($P$8:P61),SUM(F62-K62))))),\"\")","v":540},1200,10764,{"$f":"IFERROR(IF(C62=\"\",\"\",IF($C62=\"TOTAL\",SUM($S$8:S61),IF(AND(C62>$AR$1,$AI$3=$AR$2),BW63,IF($AU$18=$AU$20,SUM(BJ63+BR63),ROUND((D62+E62)*10%,0))))),\"\")","v":2100},{"$f":"IFERROR(IF(C62=\"\",\"\",IF(I62=\"\",\"\",IF(J62=\"\",\"\",IF($C62=\"TOTAL\",SUM($T$8:T61),IF(AND(C62>$AR$1,$AI$3=$AR$2),BW63,IF($AU$18=$AU$20,$AU$21,ROUND((I62+J62)*10%,0))))))),\"\")","v":2100},{"$f":"IFERROR(IF(C62=\"\",\"\",SUM(S62-T62)),\"\")","v":0},{"$f":"IFERROR(IF(C62=\"\",\"\",IF($AU$16=$AU$17,0,IF($C62=\"TOTAL\",SUM($V$8:V61),IF($AU$19=$AU$31,0,IF(AND($AU$32=$AU$20,C62=$AU$33),$AU$34,V61))))),\"\")","v":2100},{"$f":"IFERROR(IF(C62=\"\",\"\",IF($AU$16=$AU$17,0,IF($C62=\"TOTAL\",SUM($W$8:W61),IF($AU$19=$AU$20,$AU$24,0)))),\"\")","v":2100},0,{"$f":"IFERROR(IF(C62=\"\",\"\",IF($AU$16=$AU$17,0,IF($C62=\"TOTAL\",SUM($Y$8:Y61),BZ62))),\"\")","v":875},{"$f":"IFERROR(IF(C62=\"\",\"\",IF($AU$16=$AU$17,0,IF($C62=\"TOTAL\",SUM($Z$8:Z61),BY62))),\"\")","v":875},0,{"$f":"IFERROR(IF(C62=\"\",\"\",IF(D62=\"\",\"\",IF($C62=\"TOTAL\",SUM($AB$8:AB61),IF(C62=$AU$1,ROUND(D62*5/31,0.01),\"\")))),\"\")","v":""},{"$f":"IFERROR(IF(C62=\"\",\"\",IF(I62=\"\",\"\",IF($C62=\"TOTAL\",SUM($AC$8:AC61),IF(C62=$AU$1,ROUND(I62*5/31,0.01),\"\")))),\"\")","v":""},"",{"$f":"IFERROR(IF(C62=\"\",\"\",IF(AND(BP63=\"\",BW63=\"\"),\"\",IF($C62=\"TOTAL\",SUM($AE$8:AE61),BP63))),\"\")","v":""},{"$f":"IFERROR(IF(C62=\"\",\"\",IF($C62=\"TOTAL\",SUM($AF$8:AF61),ROUND(R62*$AU$7%,0))),\"\")","v":0},0,{"$f":"IFERROR(IF(C62=\"\",\"\",IF($C62=\"TOTAL\",SUM($AH$8:AH61),SUM(R62-AG62))),\"\")","v":10764},{"$nulls":8},42,42,null,"2021-06-01",null,"2023-09-01","","2023-09-01","2023-09-01","2023-09-01",117200,23440,59069,10548,null,111200,22240,56045,10008,3675,null,null,10764,3675,"","",0,0,{"$nulls":4},2100,null,875,{"$f":"IF(AZ63=\"\",\"\",IF(AZ63=\"TOTAL\",\"\",IF($AU$16=$AU$17,0,IF(AND(AZ63>$BY$1,$AI$3=$AR$2,'Master Sheet'!$D$27>0),'Master Sheet'!$D$27,IF(AND(AZ63=$BY$1),IF($AU$9<18001,135,IF($AU$9<33501,220,IF($AU$9<54001,330,440))),IF(AND(AZ63>$BY$1),IF($AU$9<18001,265,IF($AU$9<33501,440,IF($AU$9<54001,658,875))),\"\"))))))","v":875}]
[56,56,"2023-11-01",{"$f":"IFERROR(IF($C62=\"TOTAL\",\"अक्षरें राशि :-\",IF($C63=\"TOTAL\",SUM($D$8:D62),IF(BA64=\"\",\"\",BA64))),\"\")","v":117200},{"$f":"IFERROR(IF($C63=\"TOTAL\",SUM($E$8:E62),IF(BC64=\"\",\"\",BC64)),\"\")","v":59069},{"$f":"IFERROR(IF($C63=\"TOTAL\",SUM($F$8:F62),IF(OR(C63=$AS$16,C63=$AS$17,C63=$AS$18,C63=$AS$19,C63=$AS$20,C63=$AS$21,C63=$AS$22,C63=$AS$23,C63=$AS$24),0,IF(BD64=\"\",\"\",BD64))),\"\")","v":10548},{"$f":"IFERROR(IF($C63=\"TOTAL\",SUM($G$8:G62),IF(BB64=\"\",\"\",BB64)),\"\")","v":23440},210257,{"$f":"IFERROR(IF($C63=\"TOTAL\",SUM($I$8:I62),IF(BF64=\"\",\"\",BF64)),\"\")","v":111200},{"$f":"IFERROR(IF($C63=\"TOTAL\",SUM($J$8:J62),IF(BH64=\"\",\"\",BH64)),\"\")","v":56045},{"$f":"IFERROR(IF($C63=\"TOTAL\",SUM($K$8:K62),IF(OR(C63=$AS$16,C63=$AS$17,C63=$AS$18,C63=$AS$19,C63=$AS$20,C63=$AS$21,C63=$AS$22,C63=$AS$23,C63=$AS$24),0,IF(BI64=\"\",\"\",BI64))),\"\")","v":10008},{"$f":"IFERROR(IF($C63=\"TOTAL\",SUM($L$8:L62),IF(BG64=\"\",\"\",BG64)),\"\")","v":22240},199493,{"$f":"IFERROR(IF(C63=\"\",\"\",IF(D63=\"\",\"\",IF(I63=\"\",\"\",IF($C63=\"TOTAL\",SUM($N$8:N62),SUM(D63-I63))))),\"\")","v":6000},{"$f":"IFERROR(IF(C63=\"\",\"\",IF(E63=\"\",\"\",IF(J63=\"\",\"\",IF($C63=\"TOTAL\",SUM($O$8:O62),SUM(E63-J63))))),\"\")","v":3024},{"$f":"IFERROR(IF(C63=\"\",\"\",IF(F63=\"\",\"\",IF(K63=\"\",\"\",IF($C63=\"TOTAL\",SUM($P$8:P62),SUM(F63-K63))))),\"\")","v":540},1200,10764,{"$f":"IFERROR(IF(C63=\"\",\"\",IF($C63=\"TOTAL\",SUM($S$8:S62),IF(AND(C63>$AR$1,$AI$3=$AR$2),BW64,IF($AU$18=$AU$20,SUM(BJ64+BR64),ROUND((D63+E63)*10%,0))))),\"\")","v":2100},{"$f":"IFERROR(IF(C63=\"\",\"\",IF(I63=\"\",\"\",IF(J63=\"\",\"\",IF($C63=\"TOTAL\",SUM($T$8:T62),IF(AND(C63>$AR$1,$AI$3=$AR$2),BW64,IF($AU$18=$AU$20,$AU$21,ROUND((I63+J63)*10%,0))))))),\"\")","v":2100},0,{"$f":"IFERROR(IF(C63=\"\",\"\",IF($AU$16=$AU$17,0,IF($C63=\"TOTAL\",SUM($V$8:V62),IF($AU$19=$AU$31,0,IF(AND($AU$32=$AU$20,C63=$AU$33),$AU$34,V62))))),\"\")","v":2100},{"$f":"IFERROR(IF(C63=\"\",\"\",IF($AU$16=$AU$17,0,IF($C63=\"TOTAL\",SUM($W$8:W62),IF($AU$19=$AU$20,$AU$24,0)))),\"\")","v":2100},0,{"$f":"IFERROR(IF(C63=\"\",\"\",IF($AU$16=$AU$17,0,IF($C63=\"TOTAL\",SUM($Y$8:Y62),BZ63))),\"\")","v":875},{"$f":"IFERROR(IF(C63=\"\",\"\",IF($AU$16=$AU$17,0,IF($C63=\"TOTAL\",SUM($Z$8:Z62),BY63))),\"\")","v":875},0,{"$f":"IFERROR(IF(C63=\"\",\"\",IF(D63=\"\",\"\",IF($C63=\"TOTAL\",SUM($AB$8:AB62),IF(C63=$AU$1,ROUND(D63*5/31,0.01),\"\")))),\"\")","v":""},{"$f":"IFERROR(IF(C63=\"\",\"\",IF(I63=\"\",\"\",IF($C63=\"TOTAL\",SUM($AC$8:AC62),IF(C63=$AU$1,ROUND(I63*5/31,0.01),\"\")))),\"\")","v":""},"",{"$f":"IFERROR(IF(C63=\"\",\"\",IF(AND(BP64=\"\",BW64=\"\"),\"\",IF($C63=\"TOTAL\",SUM($AE$8:AE62),BP64))),\"\")","v":""},{"$f":"IFERROR(IF(C63=\"\",\"\",IF($C63=\"TOTAL\",SUM($AF$8:AF62),ROUND(R63*$AU$7%,0))),\"\")","v":0},0,{"$f":"IFERROR(IF(C63=\"\",\"\",IF($C63=\"TOTAL\",SUM($AH$8:AH62),SUM(R63-AG63))),\"\")","v":10764},{"$nulls":8},42,42,null,"2021-07-01",null,"2023-10-01","","2023-10-01","2023-10-01","2023-10-01",117200,23440,59069,10548,null,111200,22240,56045,10008,3675,null,null,10764,3675,{"$f":"IF(OR(AZ63=$AT$63,AZ63=$AT$64,AZ63=$AT$65),\"YES\",\"\")","v":""},"",0,0,{"$f":"SUM(ROUND(D62*3%,0))","v":3516},{"$f":"IF($AS$7=\"NO\",ROUND((I62+N62)*3%,0)-ROUND(ROUND((N62+I62)*3%,0)*10%,0),ROUND((N62+O62)*3%,0)-ROUND(ROUND((N62+O62)*3%,0)*10%,0))","v":244},{"$f":"ROUND((N62+O62)*3%,0)-ROUND(ROUND((N62+O62)*3%,0)*10%,0)","v":244},{"$f":"IF(AND($AU$16=$AU$17,BO63=\"YES\"),SUM(ROUND(D62*3%,0))-ROUND(ROUND(D62*3%,0)*10%,0),IF(AND($AU$16=$AU$15,BO63=\"YES\",$AS$7=\"NO\"),ROUND((I62+N62)*3%,0)-ROUND(ROUND((N62+I62)*3%,0)*10%,0),IF(AND($AU$16=$AU$15,BO63=\"YES\",$AS$7=\"YES\"),ROUND((N62+O62)*3%,0)-ROUND(ROUND((N62+O62)*3%,0)*10%,0),\"\")))","v":""},2100,{"$f":"IF(C62=\"\",\"\",IF($C62=\"TOTAL\",1,2))","v":2},875,{"$f":"IF(AZ64=\"\",\"\",IF(AZ64=\"TOTAL\",\"\",IF($AU$16=$AU$17,0,IF(AND(AZ64>$BY$1,$AI$3=$AR$2,'Master Sheet'!$D$27>0),'Master Sheet'!$D$27,IF(AND(AZ64=$BY$1),IF($AU$9<18001,135,IF($AU$9<33501,220,IF($AU$9<54001,330,440))),IF(AND(AZ64>$BY$1),IF($AU$9<18001,265,IF($AU$9<33501,440,IF($AU$9<54001,658,875))),\"\"))))))","v":875}]
["","","TOTAL",{"$f":"IFERROR(IF($C63=\"TOTAL\",\"अक्षरें राशि :-\",IF($C64=\"TOTAL\",SUM($D$8:D63),IF(BA65=\"\",\"\",BA65))),\"\")","v":6085467},{"$f":"IFERROR(IF($C64=\"TOTAL\",SUM($E$8:E63),IF(BC65=\"\",\"\",BC65)),\"\")","v":2024586},{"$f":"IFERROR(IF($C64=\"TOTAL\",SUM($F$8:F63),IF(OR(C64=$AS$16,C64=$AS$17,C64=$AS$18,C64=$AS$19,C64=$AS$20,C64=$AS$21,C64=$AS$22,C64=$AS$23,C64=$AS$24),0,IF(BD65=\"\",\"\",BD65))),\"\")","v":519613},{"$f":"IFERROR(IF($C64=\"TOTAL\",SUM($G$8:G63),IF(BB65=\"\",\"\",BB65)),\"\")","v":1217093},9846759,{"$f":"IFERROR(IF($C64=\"TOTAL\",SUM($I$8:I63),IF(BF65=\"\",\"\",BF65)),\"\")","v":5773733},{"$f":"IFERROR(IF($C64=\"TOTAL\",SUM($J$8:J63),IF(BH65=\"\",\"\",BH65)),\"\")","v":1921127},{"$f":"IFERROR(IF($C64=\"TOTAL\",SUM($K$8:K63),IF(OR(C64=$AS$16,C64=$AS$17,C64=$AS$18,C64=$AS$19,C64=$AS$20,C64=$AS$21,C64=$AS$22,C64=$AS$23,C64=$AS$24),0,IF(BI65=\"\",\"\",BI65))),\"\")","v":493007},{"$f":"IFERROR(IF($C64=\"TOTAL\",SUM($L$8:L63),IF(BG65=\"\",\"\",BG65)),\"\")","v":1154747},9342614,{"$f":"IFERROR(IF(C64=\"\",\"\",IF(D64=\"\",\"\",IF(I64=\"\",\"\",IF($C64=\"TOTAL\",SUM($N$8:N63),SUM(D64-I64))))),\"\")","v":311734},{"$f":"IFERROR(IF(C64=\"\",\"\",IF(E64=\"\",\"\",IF(J64=\"\",\"\",IF($C64=\"TOTAL\",SUM($O$8:O63),SUM(E64-J64))))),\"\")","v":103459},{"$f":"IFERROR(IF(C64=\"\",\"\",IF(F64=\"\",\"\",IF(K64=\"\",\"\",IF($C64=\"TOTAL\",SUM($P$8:P63),SUM(F64-K64))))),\"\")","v":26606},62346,504145,{"$f":"IFERROR(IF(C64=\"\",\"\",IF($C64=\"TOTAL\",SUM($S$8:S63),IF(AND(C64>$AR$1,$AI$3=$AR$2),BW65,IF($AU$18=$AU$20,SUM(BJ65+BR65),ROUND((D64+E64)*10%,0))))),\"\")","v":516092},{"$f":"IFERROR(IF(C64=\"\",\"\",IF(I64=\"\",\"\",IF(J64=\"\",\"\",IF($C64=\"TOTAL\",SUM($T$8:T63),IF(AND(C64>$AR$1,$AI$3=$AR$2),BW65,IF($AU$18=$AU$20,$AU$21,ROUND((I64+J64)*10%,0))))))),\"\")","v":491754},24338,{"$f":"IFERROR(IF(C64=\"\",\"\",IF($AU$16=$AU$17,0,IF($C64=\"TOTAL\",SUM($V$8:V63),IF($AU$19=$AU$31,0,IF(AND($AU$32=$AU$20,C64=$AU$33),$AU$34,V63))))),\"\")","v":117600},{"$f":"IFERROR(IF(C64=\"\",\"\",IF($AU$16=$AU$17,0,IF($C64=\"TOTAL\",SUM($W$8:W63),IF($AU$19=$AU$20,$AU$24,0)))),\"\")","v":117600},0,{"$f":"IFERROR(IF(C64=\"\",\"\",IF($AU$16=$AU$17,0,IF($C64=\"TOTAL\",SUM($Y$8:Y63),BZ64))),\"\")","v":17940},{"$f":"IFERROR(IF(C64=\"\",\"\",IF($AU$16=$AU$17,0,IF($C64=\"TOTAL\",SUM($Z$8:Z63),BY64))),\"\")","v":17940},0,{"$f":"IFERROR(IF(C64=\"\",\"\",IF(D64=\"\",\"\",IF($C64=\"TOTAL\",SUM($AB$8:AB63),IF(C64=$AU$1,ROUND(D64*5/31,0.01),\"\")))),\"\")","v":16806},{"$f":"IFERROR(IF(C64=\"\",\"\",IF(I64=\"\",\"\",IF($C64=\"TOTAL\",SUM($AC$8:AC63),IF(C64=$AU$1,ROUND(I64*5/31,0.01),\"\")))),\"\")","v":15935},871,{"$f":"IFERROR(IF(C64=\"\",\"\",IF(AND(BP65=\"\",BW65=\"\"),\"\",IF($C64=\"TOTAL\",SUM($AE$8:AE63),BP65))),\"\")","v":""},{"$f":"IFERROR(IF(C64=\"\",\"\",IF($C64=\"TOTAL\",SUM($AF$8:AF63),ROUND(R64*$AU$7%,0))),\"\")","v":0},25209,{"$f":"IFERROR(IF(C64=\"\",\"\",IF($C64=\"TOTAL\",SUM($AH$8:AH63),SUM(R64-AG64))),\"\")","v":478432},{"$nulls":8},42,42,null,"2021-08-01",null,"2023-11-01","","2023-11-01","2023-11-01","2023-11-01",117200,23440,59069,10548,null,111200,22240,56045,10008,3675,null,null,10764,3675,"","",0,0,{"$f":"ROUND(ROUND(N63*3%,0)*10%,0)","v":18},null,{"$f":"ROUND(ROUND((N64+I64)*3%,0)*10%,0)","v":18256},{"$f":"ROUND((I62+N62)*3%,0)-ROUND(ROUND((N62+I62)*3%,0)*10%,0)","v":3164},2100,null,"",{"$f":"IF(AZ65=\"\",\"\",IF(AZ65=\"TOTAL\",\"\",IF($AU$16=$AU$17,0,IF(AND(AZ65>$BY$1,$AI$3=$AR$2,'Master Sheet'!$D$27>0),'Master Sheet'!$D$27,IF(AND(AZ65=$BY$1),IF($AU$9<18001,135,IF($AU$9<33501,220,IF($AU$9<54001,330,440))),IF(AND(AZ65>$BY$1),IF($AU$9<18001,265,IF($AU$9<33501,440,IF($AU$9<54001,658,875))),\"\"))))))","v":""}]
["","","",{"$f":"IFERROR(IF($C64=\"TOTAL\",\"अक्षरें राशि :-\",IF($C65=\"TOTAL\",SUM($D$8:D64),IF(BA66=\"\",\"\",BA66))),\"\")","v":"अक्षरें राशि :-"},{"$f":"IFERROR(IF($C65=\"TOTAL\",SUM($E$8:E64),IF(BC66=\"\",\"\",BC66)),\"\")","v":""},{"$f":"IFERROR(IF($C65=\"TOTAL\",SUM($F$8:F64),IF(OR(C65=$AS$16,C65=$AS$17,C65=$AS$18,C65=$AS$19,C65=$AS$20,C65=$AS$21,C65=$AS$22,C65=$AS$23,C65=$AS$24),0,IF(BD66=\"\",\"\",BD66))),\"\")","v":""},{"$f":"IFERROR(IF($C65=\"TOTAL\",SUM($G$8:G64),IF(BB66=\"\",\"\",BB66)),\"\")","v":""},"",{"$f":"IFERROR(IF($C65=\"TOTAL\",SUM($I$8:I64),IF(BF66=\"\",\"\",BF66)),\"\")","v":""},{"$f":"IFERROR(IF($C65=\"TOTAL\",SUM($J$8:J64),IF(BH66=\"\",\"\",BH66)),\"\")","v":""},{"$f":"IFERROR(IF($C65=\"TOTAL\",SUM($K$8:K64),IF(OR(C65=$AS$16,C65=$AS$17,C65=$AS$18,C65=$AS$19,C65=$AS$20,C65=$AS$21,C65=$AS$22,C65=$AS$23,C65=$AS$24),0,IF(BI66=\"\",\"\",BI66))),\"\")","v":""},{"$f":"IFERROR(IF($C65=\"TOTAL\",SUM($L$8:L64),IF(BG66=\"\",\"\",BG66)),\"\")","v":""},"",{"$f":"IFERROR(IF(C65=\"\",\"\",IF(D65=\"\",\"\",IF(I65=\"\",\"\",IF($C65=\"TOTAL\",SUM($N$8:N64),SUM(D65-I65))))),\"\")","v":""},{"$f":"IFERROR(IF(C65=\"\",\"\",IF(E65=\"\",\"\",IF(J65=\"\",\"\",IF($C65=\"TOTAL\",SUM($O$8:O64),SUM(E65-J65))))),\"\")","v":""},{"$f":"IFERROR(IF(C65=\"\",\"\",IF(F65=\"\",\"\",IF(K65=\"\",\"\",IF($C65=\"TOTAL\",SUM($P$8:P64),SUM(F65-K65))))),\"\")","v":""},"","",{"$f":"IFERROR(IF(C65=\"\",\"\",IF($C65=\"TOTAL\",SUM($S$8:S64),IF(AND(C65>$AR$1,$AI$3=$AR$2),BW66,IF($AU$18=$AU$20,SUM(BJ66+BR66),ROUND((D65+E65)*10%,0))))),\"\")","v":""},{"$f":"IFERROR(IF(C65=\"\",\"\",IF(I65=\"\",\"\",IF(J65=\"\",\"\",IF($C65=\"TOTAL\",SUM($T$8:T64),IF(AND(C65>$AR$1,$AI$3=$AR$2),BW66,IF($AU$18=$AU$20,$AU$21,ROUND((I65+J65)*10%,0))))))),\"\")","v":""},"",{"$f":"IFERROR(IF(C65=\"\",\"\",IF($AU$16=$AU$17,0,IF($C65=\"TOTAL\",SUM($V$8:V64),IF($AU$19=$AU$31,0,IF(AND($AU$32=$AU$20,C65=$AU$33),$AU$34,V64))))),\"\")","v":""},{"$f":"IFERROR(IF(C65=\"\",\"\",IF($AU$16=$AU$17,0,IF($C65=\"TOTAL\",SUM($W$8:W64),IF($AU$19=$AU$20,$AU$24,0)))),\"\")","v":""},"",{"$f":"IFERROR(IF(C65=\"\",\"\",IF($AU$16=$AU$17,0,IF($C65=\"TOTAL\",SUM($Y$8:Y64),BZ65))),\"\")","v":""},{"$f":"IFERROR(IF(C65=\"\",\"\",IF($AU$16=$AU$17,0,IF($C65=\"TOTAL\",SUM($Z$8:Z64),BY65))),\"\")","v":""},"",{"$f":"IFERROR(IF(C65=\"\",\"\",IF(D65=\"\",\"\",IF($C65=\"TOTAL\",SUM($AB$8:AB64),IF(C65=$AU$1,ROUND(D65*5/31,0.01),\"\")))),\"\")","v":""},{"$f":"IFERROR(IF(C65=\"\",\"\",IF(I65=\"\",\"\",IF($C65=\"TOTAL\",SUM($AC$8:AC64),IF(C65=$AU$1,ROUND(I65*5/31,0.01),\"\")))),\"\")","v":""},"",{"$f":"IFERROR(IF(C65=\"\",\"\",IF(AND(BP66=\"\",BW66=\"\"),\"\",IF($C65=\"TOTAL\",SUM($AE$8:AE64),BP66))),\"\")","v":""},{"$f":"IFERROR(IF(C65=\"\",\"\",IF($C65=\"TOTAL\",SUM($AF$8:AF64),ROUND(R65*$AU$7%,0))),\"\")","v":""},"",{"$f":"IFERROR(IF(C65=\"\",\"\",IF($C65=\"TOTAL\",SUM($AH$8:AH64),SUM(R65-AG65))),\"\")","v":""},{"$nulls":8},42,42,null,"2021-09-01",null,"2023-12-01","","2023-12-01","2023-12-01","TOTAL",117200,"","","",null,"","","","","",null,null,"",3675,"","",0,0,{"$f":"SUM(ROUND(N64*3%,0))-ROUND(ROUND(N64*3%,0)*10%,0)","v":8417},{"$f":"SUM(ROUND(N64*3%,0))-ROUND(ROUND(N64*3%,0)*10%,0)","v":8417},null,null,"",null,"",{"$f":"IF(AZ66=\"\",\"\",IF(AZ66=\"TOTAL\",\"\",IF($AU$16=$AU$17,0,IF(AND(AZ66>$BY$1,$AI$3=$AR$2,'Master Sheet'!$D$27>0),'Master Sheet'!$D$27,IF(AND(AZ66=$BY$1),IF($AU$9<18001,135,IF($AU$9<33501,220,IF($AU$9<54001,330,440))),IF(AND(AZ66>$BY$1),IF($AU$9<18001,265,IF($AU$9<33501,440,IF($AU$9<54001,658,875))),\"\"))))))","v":""}]
["","",{"$f":"IFERROR(IF(AZ67=\"\",\"\",AZ67),\"\")","v":""},{"$f":"IFERROR(IF($C65=\"TOTAL\",\"अक्षरें राशि :-\",IF($C66=\"TOTAL\",SUM($D$8:D65),IF(BA67=\"\",\"\",BA67))),\"\")","v":""},{"$f":"IFERROR(IF($C66=\"TOTAL\",SUM($E$8:E65),IF(BC67=\"\",\"\",BC67)),\"\")","v":""},{"$f":"IFERROR(IF($C66=\"TOTAL\",SUM($F$8:F65),IF(OR(C66=$AS$16,C66=$AS$17,C66=$AS$18,C66=$AS$19,C66=$AS$20,C66=$AS$21,C66=$AS$22,C66=$AS$23,C66=$AS$24),0,IF(BD67=\"\",\"\",BD67))),\"\")","v":""},{"$f":"IFERROR(IF($C66=\"TOTAL\",SUM($G$8:G65),IF(BB67=\"\",\"\",BB67)),\"\")","v":""},"",{"$f":"IFERROR(IF($C66=\"TOTAL\",SUM($I$8:I65),IF(BF67=\"\",\"\",BF67)),\"\")","v":""},{"$f":"IFERROR(IF($C66=\"TOTAL\",SUM($J$8:J65),IF(BH67=\"\",\"\",BH67)),\"\")","v":""},{"$f":"IFERROR(IF($C66=\"TOTAL\",SUM($K$8:K65),IF(OR(C66=$AS$16,C66=$AS$17,C66=$AS$18,C66=$AS$19,C66=$AS$20,C66=$AS$21,C66=$AS$22,C66=$AS$23,C66=$AS$24),0,IF(BI67=\"\",\"\",BI67))),\"\")","v":""},{"$f":"IFERROR(IF($C66=\"TOTAL\",SUM($L$8:L65),IF(BG67=\"\",\"\",BG67)),\"\")","v":""},"",{"$f":"IFERROR(IF(C66=\"\",\"\",IF(D66=\"\",\"\",IF(I66=\"\",\"\",IF($C66=\"TOTAL\",SUM($N$8:N65),SUM(D66-I66))))),\"\")","v":""},{"$f":"IFERROR(IF(C66=\"\",\"\",IF(E66=\"\",\"\",IF(J66=\"\",\"\",IF($C66=\"TOTAL\",SUM($O$8:O65),SUM(E66-J66))))),\"\")","v":""},{"$f":"IFERROR(IF(C66=\"\",\"\",IF(F66=\"\",\"\",IF(K66=\"\",\"\",IF($C66=\"TOTAL\",SUM($P$8:P65),SUM(F66-K66))))),\"\")","v":""},"","",{"$f":"IFERROR(IF(C66=\"\",\"\",IF($C66=\"TOTAL\",SUM($S$8:S65),IF(AND(C66>$AR$1,$AI$3=$AR$2),BW67,IF($AU$18=$AU$20,SUM(BJ67+BR67),ROUND((D66+E66)*10%,0))))),\"\")","v":""},{"$f":"IFERROR(IF(C66=\"\",\"\",IF(I66=\"\",\"\",IF(J66=\"\",\"\",IF($C66=\"TOTAL\",SUM($T$8:T65),IF(AND(C66>$AR$1,$AI$3=$AR$2),BW67,IF($AU$18=$AU$20,$AU$21,ROUND((I66+J66)*10%,0))))))),\"\")","v":""},"",{"$f":"IFERROR(IF(C66=\"\",\"\",IF($AU$16=$AU$17,0,IF($C66=\"TOTAL\",SUM($V$8:V65),IF($AU$19=$AU$31,0,IF(AND($AU$32=$AU$20,C66=$AU$33),$AU$34,V65))))),\"\")","v":""},{"$f":"IFERROR(IF(C66=\"\",\"\",IF($AU$16=$AU$17,0,IF($C66=\"TOTAL\",SUM($W$8:W65),IF($AU$19=$AU$20,$AU$24,0)))),\"\")","v":""},"",{"$f":"IFERROR(IF(C66=\"\",\"\",IF($AU$16=$AU$17,0,IF($C66=\"TOTAL\",SUM($Y$8:Y65),BZ66))),\"\")","v":""},{"$f":"IFERROR(IF(C66=\"\",\"\",IF($AU$16=$AU$17,0,IF($C66=\"TOTAL\",SUM($Z$8:Z65),BY66))),\"\")","v":""},"",{"$f":"IFERROR(IF(C66=\"\",\"\",IF(D66=\"\",\"\",IF($C66=\"TOTAL\",SUM($AB$8:AB65),IF(C66=$AU$1,ROUND(D66*5/31,0.01),\"\")))),\"\")","v":""},{"$f":"IFERROR(IF(C66=\"\",\"\",IF(I66=\"\",\"\",IF($C66=\"TOTAL\",SUM($AC$8:AC65),IF(C66=$AU$1,ROUND(I66*5/31,0.01),\"\")))),\"\")","v":""},"",{"$f":"IFERROR(IF(C66=\"\",\"\",IF(AND(BP67=\"\",BW67=\"\"),\"\",IF($C66=\"TOTAL\",SUM($AE$8:AE65),BP67))),\"\")","v":""},{"$f":"IFERROR(IF(C66=\"\",\"\",IF($C66=\"TOTAL\",SUM($AF$8:AF65),ROUND(R66*$AU$7%,0))),\"\")","v":""},"",{"$f":"IFERROR(IF(C66=\"\",\"\",IF($C66=\"TOTAL\",SUM($AH$8:AH65),SUM(R66-AG66))),\"\")","v":""},{"$nulls":8},42,42,null,"2021-10-01",null,"2024-01-01","","","","","","","","",null,"","","","","",null,null,"","","","",0,0,{"$nulls":4},"",null,"",{"$f":"IF(AZ67=\"\",\"\",IF(AZ67=\"TOTAL\",\"\",IF($AU$16=$AU$17,0,IF(AND(AZ67>$BY$1,$AI$3=$AR$2,'Master Sheet'!$D$27>0),'Master Sheet'!$D$27,IF(AND(AZ67=$BY$1),IF($AU$9<18001,135,IF($AU$9<33501,220,IF($AU$9<54001,330,440))),IF(AND(AZ67>$BY$1),IF($AU$9<18001,265,IF($AU$9<33501,440,IF($AU$9<54001,658,875))),\"\"))))))","v":""}]
["","",{"$f":"IFERROR(IF(AZ68=\"\",\"\",AZ68),\"\")","v":""},{"$f":"IFERROR(IF($C66=\"TOTAL\",\"अक्षरें राशि :-\",IF($C67=\"TOTAL\",SUM($D$8:D66),IF(BA68=\"\",\"\",BA68))),\"\")","v":""},{"$f":"IFERROR(IF($C67=\"TOTAL\",SUM($E$8:E66),IF(BC68=\"\",\"\",BC68)),\"\")","v":""},{"$f":"IFERROR(IF($C67=\"TOTAL\",SUM($F$8:F66),IF(OR(C67=$AS$16,C67=$AS$17,C67=$AS$18,C67=$AS$19,C67=$AS$20,C67=$AS$21,C67=$AS$22,C67=$AS$23,C67=$AS$24),0,IF(BD68=\"\",\"\",BD68))),\"\")","v":""},{"$f":"IFERROR(IF($C67=\"TOTAL\",SUM($G$8:G66),IF(BB68=\"\",\"\",BB68)),\"\")","v":""},"",{"$f":"IFERROR(IF($C67=\"TOTAL\",SUM($I$8:I66),IF(BF68=\"\",\"\",BF68)),\"\")","v":""},{"$f":"IFERROR(IF($C67=\"TOTAL\",SUM($J$8:J66),IF(BH68=\"\",\"\",BH68)),\"\")","v":""},{"$f":"IFERROR(IF($C67=\"TOTAL\",SUM($K$8:K66),IF(OR(C67=$AS$16,C67=$AS$17,C67=$AS$18,C67=$AS$19,C67=$AS$20,C67=$AS$21,C67=$AS$22,C67=$AS$23,C67=$AS$24),0,IF(BI68=\"\",\"\",BI68))),\"\")","v":""},{"$f":"IFERROR(IF($C67=\"TOTAL\",SUM($L$8:L66),IF(BG68=\"\",\"\",BG68)),\"\")","v":""},"",{"$f":"IFERROR(IF(C67=\"\",\"\",IF(D67=\"\",\"\",IF(I67=\"\",\"\",IF($C67=\"TOTAL\",SUM($N$8:N66),SUM(D67-I67))))),\"\")","v":""},{"$f":"IFERROR(IF(C67=\"\",\"\",IF(E67=\"\",\"\",IF(J67=\"\",\"\",IF($C67=\"TOTAL\",SUM($O$8:O66),SUM(E67-J67))))),\"\")","v":""},{"$f":"IFERROR(IF(C67=\"\",\"\",IF(F67=\"\",\"\",IF(K67=\"\",\"\",IF($C67=\"TOTAL\",SUM($P$8:P66),SUM(F67-K67))))),\"\")","v":""},"","",{"$f":"IFERROR(IF(C67=\"\",\"\",IF($C67=\"TOTAL\",SUM($S$8:S66),IF(AND(C67>$AR$1,$AI$3=$AR$2),BW68,IF($AU$18=$AU$20,SUM(BJ68+BR68),ROUND((D67+E67)*10%,0))))),\"\")","v":""},{"$f":"IFERROR(IF(C67=\"\",\"\",IF(I67=\"\",\"\",IF(J67=\"\",\"\",IF($C67=\"TOTAL\",SUM($T$8:T66),IF(AND(C67>$AR$1,$AI$3=$AR$2),BW68,IF($AU$18=$AU$20,$AU$21,ROUND((I67+J67)*10%,0))))))),\"\")","v":""},"",{"$f":"IFERROR(IF(C67=\"\",\"\",IF($AU$16=$AU$17,0,IF($C67=\"TOTAL\",SUM($V$8:V66),IF($AU$19=$AU$31,0,IF(AND($AU$32=$AU$20,C67=$AU$33),$AU$34,V66))))),\"\")","v":""},{"$f":"IFERROR(IF(C67=\"\",\"\",IF($AU$16=$AU$17,0,IF($C67=\"TOTAL\",SUM($W$8:W66),IF($AU$19=$AU$20,$AU$24,0)))),\"\")","v":""},"",{"$f":"IFERROR(IF(C67=\"\",\"\",IF($AU$16=$AU$17,0,IF($C67=\"TOTAL\",SUM($Y$8:Y66),BZ67))),\"\")","v":""},{"$f":"IFERROR(IF(C67=\"\",\"\",IF($AU$16=$AU$17,0,IF($C67=\"TOTAL\",SUM($Z$8:Z66),BY67))),\"\")","v":""},"",{"$f":"IFERROR(IF(C67=\"\",\"\",IF(D67=\"\",\"\",IF($C67=\"TOTAL\",SUM($AB$8:AB66),IF(C67=$AU$1,ROUND(D67*5/31,0.01),\"\")))),\"\")","v":""},{"$f":"IFERROR(IF(C67=\"\",\"\",IF(I67=\"\",\"\",IF($C67=\"TOTAL\",SUM($AC$8:AC66),IF(C67=$AU$1,ROUND(I67*5/31,0.01),\"\")))),\"\")","v":""},"",{"$f":"IFERROR(IF(C67=\"\",\"\",IF(AND(BP68=\"\",BW68=\"\"),\"\",IF($C67=\"TOTAL\",SUM($AE$8:AE66),BP68))),\"\")","v":""},{"$f":"IFERROR(IF(C67=\"\",\"\",IF($C67=\"TOTAL\",SUM($AF$8:AF66),ROUND(R67*$AU$7%,0))),\"\")","v":""},"",{"$f":"IFERROR(IF(C67=\"\",\"\",IF($C67=\"TOTAL\",SUM($AH$8:AH66),SUM(R67-AG67))),\"\")","v":""},{"$nulls":8},42,42,null,"2021-11-01",null,"2024-02-01","","","","","","","","",null,"","","","","",null,null,"","","","",0,0,{"$nulls":4},"",null,"",{"$f":"IF(AZ68=\"\",\"\",IF(AZ68=\"TOTAL\",\"\",IF($AU$16=$AU$17,0,IF(AND(AZ68>$BY$1,$AI$3=$AR$2,'Master Sheet'!$D$27>0),'Master Sheet'!$D$27,IF(AND(AZ68=$BY$1),IF($AU$9<18001,135,IF($AU$9<33501,220,IF($AU$9<54001,330,440))),IF(AND(AZ68>$BY$1),IF($AU$9<18001,265,IF($AU$9<33501,440,IF($AU$9<54001,658,875))),\"\"))))))","v":""}]
["","","",{"$f":"IFERROR(IF($C67=\"TOTAL\",\"अक्षरें राशि :-\",IF($C68=\"TOTAL\",SUM($D$8:D67),IF(BA69=\"\",\"\",BA69))),\"\")","v":""},{"$f":"IFERROR(IF($C68=\"TOTAL\",SUM($E$8:E67),IF(BC69=\"\",\"\",BC69)),\"\")","v":""},{"$f":"IFERROR(IF($C68=\"TOTAL\",SUM($F$8:F67),IF(BD69=\"\",\"\",BD69)),\"\")","v":""},{"$f":"IFERROR(IF($C68=\"TOTAL\",SUM($G$8:G67),IF(BB69=\"\",\"\",BB69)),\"\")","v":""},"",{"$f":"IFERROR(IF($C68=\"TOTAL\",SUM($I$8:I67),IF(BF69=\"\",\"\",BF69)),\"\")","v":""},{"$f":"IFERROR(IF($C68=\"TOTAL\",SUM($J$8:J67),IF(BH69=\"\",\"\",BH69)),\"\")","v":""},{"$f":"IFERROR(IF($C68=\"TOTAL\",SUM($K$8:K67),IF(BI69=\"\",\"\",BI69)),\"\")","v":""},{"$f":"IFERROR(IF($C68=\"TOTAL\",SUM($L$8:L67),IF(BG69=\"\",\"\",BG69)),\"\")","v":""},"",{"$f":"IFERROR(IF(C68=\"\",\"\",IF(D68=\"\",\"\",IF(I68=\"\",\"\",IF($C68=\"TOTAL\",SUM($N$8:N67),SUM(D68-I68))))),\"\")","v":""},{"$f":"IFERROR(IF(C68=\"\",\"\",IF(E68=\"\",\"\",IF(J68=\"\",\"\",IF($C68=\"TOTAL\",SUM($O$8:O67),SUM(E68-J68))))),\"\")","v":""},{"$f":"IFERROR(IF(C68=\"\",\"\",IF(F68=\"\",\"\",IF(K68=\"\",\"\",IF($C68=\"TOTAL\",SUM($P$8:P67),SUM(F68-K68))))),\"\")","v":""},"","",{"$f":"IFERROR(IF(C68=\"\",\"\",IF($C68=\"TOTAL\",SUM($S$8:S67),IF(AND(C68>$AR$1,$AI$3=$AR$2),BW69,IF($AU$18=$AU$20,SUM(BJ69+BR69),ROUND((D68+E68)*10%,0))))),\"\")","v":""},{"$f":"IFERROR(IF(C68=\"\",\"\",IF(I68=\"\",\"\",IF(J68=\"\",\"\",IF($C68=\"TOTAL\",SUM($T$8:T67),IF(AND(C68>$AR$1,$AI$3=$AR$2),BW69,IF($AU$18=$AU$20,$AU$21,ROUND((I68+J68)*10%,0))))))),\"\")","v":""},"",{"$f":"IFERROR(IF(C68=\"\",\"\",IF($AU$16=$AU$17,0,IF($C68=\"TOTAL\",SUM($V$8:V67),IF($AU$19=$AU$20,$AU$25,0)))),\"\")","v":""},{"$f":"IFERROR(IF(C68=\"\",\"\",IF($AU$16=$AU$17,0,IF($C68=\"TOTAL\",SUM($W$8:W67),IF($AU$19=$AU$20,$AU$24,0)))),\"\")","v":""},"",{"$f":"IFERROR(IF(C68=\"\",\"\",IF($AU$16=$AU$17,0,IF($C68=\"TOTAL\",SUM($Y$8:Y67),BZ68))),\"\")","v":""},{"$f":"IFERROR(IF(C68=\"\",\"\",IF($AU$16=$AU$17,0,IF($C68=\"TOTAL\",SUM($Z$8:Z67),BY68))),\"\")","v":""},"",{"$f":"IFERROR(IF(C68=\"\",\"\",IF(D68=\"\",\"\",IF($C68=\"TOTAL\",SUM($AB$8:AB67),IF(C68=$AU$1,ROUND(D68*5/31,0.01),\"\")))),\"\")","v":""},{"$f":"IFERROR(IF(C68=\"\",\"\",IF(I68=\"\",\"\",IF($C68=\"TOTAL\",SUM($AC$8:AC67),IF(C68=$AU$1,ROUND(I68*5/31,0.01),\"\")))),\"\")","v":""},"",{"$f":"IFERROR(IF(C68=\"\",\"\",IF(AND(BP69=\"\",BW69=\"\"),\"\",IF($C68=\"TOTAL\",SUM($AE$8:AE67),BP69))),\"\")","v":""},{"$f":"IFERROR(IF(C68=\"\",\"\",IF($C68=\"TOTAL\",SUM($AF$8:AF67),ROUND(R68*$AU$7%,0))),\"\")","v":""},"",{"$f":"IFERROR(IF(C68=\"\",\"\",IF($C68=\"TOTAL\",SUM($AH$8:AH67),SUM(R68-AG68))),\"\")","v":""},{"$nulls":8},42,42,null,"2021-12-01",null,"2024-03-01","","","","","","","","",null,"","","","","",null,null,"","","","",0,0,{"$nulls":4},"",null,"",{"$f":"IF(AZ69=\"\",\"\",IF(AZ69=\"TOTAL\",\"\",IF($AU$16=$AU$17,0,IF(AND(AZ69>$BY$1,$AI$3=$AR$2,'Master Sheet'!$D$27>0),'Master Sheet'!$D$27,IF(AND(AZ69=$BY$1),IF($AU$9<18001,135,IF($AU$9<33501,220,IF($AU$9<54001,330,440))),IF(AND(AZ69>$BY$1),IF($AU$9<18001,265,IF($AU$9<33501,440,IF($AU$9<54001,658,875))),\"\"))))))","v":""}]
["","",{"$f":"IFERROR(IF(AZ70=\"\",\"\",AZ70),\"\")","v":""},{"$f":"IFERROR(IF($C68=\"TOTAL\",\"अक्षरें राशि :-\",IF($C69=\"TOTAL\",SUM($D$8:D68),IF(BA70=\"\",\"\",BA70))),\"\")","v":""},{"$f":"IFERROR(IF($C69=\"TOTAL\",SUM($E$8:E68),IF(BC70=\"\",\"\",BC70)),\"\")","v":""},{"$f":"IFERROR(IF($C69=\"TOTAL\",SUM($F$8:F68),IF(BD70=\"\",\"\",BD70)),\"\")","v":""},{"$f":"IFERROR(IF($C69=\"TOTAL\",SUM($G$8:G68),IF(BB70=\"\",\"\",BB70)),\"\")","v":""},"",{"$f":"IFERROR(IF($C69=\"TOTAL\",SUM($I$8:I68),IF(BF70=\"\",\"\",BF70)),\"\")","v":""},{"$f":"IFERROR(IF($C69=\"TOTAL\",SUM($J$8:J68),IF(BH70=\"\",\"\",BH70)),\"\")","v":""},{"$f":"IFERROR(IF($C69=\"TOTAL\",SUM($K$8:K68),IF(BI70=\"\",\"\",BI70)),\"\")","v":""},{"$f":"IFERROR(IF($C69=\"TOTAL\",SUM($L$8:L68),IF(BG70=\"\",\"\",BG70)),\"\")","v":""},"",{"$f":"IFERROR(IF(C69=\"\",\"\",IF(D69=\"\",\"\",IF(I69=\"\",\"\",IF($C69=\"TOTAL\",SUM($N$8:N68),SUM(D69-I69))))),\"\")","v":""},{"$f":"IFERROR(IF(C69=\"\",\"\",IF(E69=\"\",\"\",IF(J69=\"\",\"\",IF($C69=\"TOTAL\",SUM($O$8:O68),SUM(E69-J69))))),\"\")","v":""},{"$f":"IFERROR(IF(C69=\"\",\"\",IF(F69=\"\",\"\",IF(K69=\"\",\"\",IF($C69=\"TOTAL\",SUM($P$8:P68),SUM(F69-K69))))),\"\")","v":""},"",{"$f":"IFERROR(IF(C69=\"\",\"\",IF(H69=\"\",\"\",IF(M69=\"\",\"\",SUM(H69-M69)))),\"\")","v":""},{"$f":"IFERROR(IF(C69=\"\",\"\",IF($C69=\"TOTAL\",SUM($S$8:S68),IF(AND(C69>$AR$1,$AI$3=$AR$2),BW70,IF($AU$18=$AU$20,SUM(BJ70+BR70),ROUND((D69+E69)*10%,0))))),\"\")","v":""},{"$f":"IFERROR(IF(C69=\"\",\"\",IF(I69=\"\",\"\",IF(J69=\"\",\"\",IF($C69=\"TOTAL\",SUM($T$8:T68),IF(AND(C69>$AR$1,$AI$3=$AR$2),BW70,IF($AU$18=$AU$20,$AU$21,ROUND((I69+J69)*10%,0))))))),\"\")","v":""},{"$f":"IFERROR(IF(C69=\"\",\"\",SUM(S69-T69)),\"\")","v":""},{"$f":"IFERROR(IF(C69=\"\",\"\",IF($AU$16=$AU$17,0,IF($C69=\"TOTAL\",SUM($V$8:V68),IF($AU$19=$AU$20,$AU$25,0)))),\"\")","v":""},{"$f":"IFERROR(IF(C69=\"\",\"\",IF($AU$16=$AU$17,0,IF($C69=\"TOTAL\",SUM($W$8:W68),IF($AU$19=$AU$20,$AU$24,0)))),\"\")","v":""},{"$f":"IFERROR(IF(C69=\"\",\"\",SUM(V69-W69)),\"\")","v":""},{"$f":"IFERROR(IF(C69=\"\",\"\",IF($AU$16=$AU$17,0,IF($C69=\"TOTAL\",SUM($Y$8:Y68),BZ69))),\"\")","v":""},{"$f":"IFERROR(IF(C69=\"\",\"\",IF($AU$16=$AU$17,0,IF($C69=\"TOTAL\",SUM($Z$8:Z68),BY69))),\"\")","v":""},"",{"$f":"IFERROR(IF(C69=\"\",\"\",IF(D69=\"\",\"\",IF($C69=\"TOTAL\",SUM($AB$8:AB68),IF(C69=$AU$1,ROUND(D69*5/31,0.01),\"\")))),\"\")","v":""},{"$f":"IFERROR(IF(C69=\"\",\"\",IF(I69=\"\",\"\",IF($C69=\"TOTAL\",SUM($AC$8:AC68),IF(C69=$AU$1,ROUND(I69*5/31,0.01),\"\")))),\"\")","v":""},"",{"$f":"IFERROR(IF(C69=\"\",\"\",IF(AND(BP70=\"\",BW70=\"\"),\"\",IF($C69=\"TOTAL\",SUM($AE$8:AE68),BP70))),\"\")","v":""},{"$f":"IFERROR(IF(C69=\"\",\"\",IF($C69=\"TOTAL\",SUM($AF$8:AF68),ROUND(R69*$AU$7%,0))),\"\")","v":""},"",{"$f":"IFERROR(IF(C69=\"\",\"\",IF($C69=\"TOTAL\",SUM($AH$8:AH68),SUM(R69-AG69))),\"\")","v":""},{"$nulls":8},42,42,null,"2022-01-01",null,"2024-04-01","","","","","","","","",null,"","","","","",null,null,"","","","",0,0,{"$nulls":4},"",null,"",{"$f":"IF(AZ70=\"\",\"\",IF(AZ70=\"TOTAL\",\"\",IF($AU$16=$AU$17,0,IF(AND(AZ70>$BY$1,$AI$3=$AR$2,'Master Sheet'!$D$27>0),'Master Sheet'!$D$27,IF(AND(AZ70=$BY$1),IF($AU$9<18001,135,IF($AU$9<33501,220,IF($AU$9<54001,330,440))),IF(AND(AZ70>$BY$1),IF($AU$9<18001,265,IF($AU$9<33501,440,IF($AU$9<54001,658,875))),\"\"))))))","v":""}]
["","","",{"$f":"IFERROR(IF($C69=\"TOTAL\",\"अक्षरें राशि :-\",IF($C70=\"TOTAL\",SUM($D$8:D69),IF(BA71=\"\",\"\",BA71))),\"\")","v":""},{"$f":"IFERROR(IF($C70=\"TOTAL\",SUM($E$8:E69),IF(BC71=\"\",\"\",BC71)),\"\")","v":""},{"$f":"IFERROR(IF($C70=\"TOTAL\",SUM($F$8:F69),IF(BD71=\"\",\"\",BD71)),\"\")","v":""},{"$f":"IFERROR(IF($C70=\"TOTAL\",SUM($G$8:G69),IF(BB71=\"\",\"\",BB71)),\"\")","v":""},"",{"$f":"IFERROR(IF($C70=\"TOTAL\",SUM($I$8:I69),IF(BF71=\"\",\"\",BF71)),\"\")","v":""},{"$f":"IFERROR(IF($C70=\"TOTAL\",SUM($J$8:J69),IF(BH71=\"\",\"\",BH71)),\"\")","v":""},{"$f":"IFERROR(IF($C70=\"TOTAL\",SUM($K$8:K69),IF(BI71=\"\",\"\",BI71)),\"\")","v":""},{"$f":"IFERROR(IF($C70=\"TOTAL\",SUM($L$8:L69),IF(BG71=\"\",\"\",BG71)),\"\")","v":""},"",{"$f":"IFERROR(IF(C70=\"\",\"\",IF(D70=\"\",\"\",IF(I70=\"\",\"\",IF($C70=\"TOTAL\",SUM($N$8:N69),SUM(D70-I70))))),\"\")","v":""},{"$f":"IFERROR(IF(C70=\"\",\"\",IF(E70=\"\",\"\",IF(J70=\"\",\"\",IF($C70=\"TOTAL\",SUM($O$8:O69),SUM(E70-J70))))),\"\")","v":""},{"$f":"IFERROR(IF(C70=\"\",\"\",IF(F70=\"\",\"\",IF(K70=\"\",\"\",IF($C70=\"TOTAL\",SUM($P$8:P69),SUM(F70-K70))))),\"\")","v":""},"","",{"$f":"IFERROR(IF(C70=\"\",\"\",IF($C70=\"TOTAL\",SUM($S$8:S69),IF(AND(C70>$AR$1,$AI$3=$AR$2),BW71,IF($AU$18=$AU$20,SUM(BJ71+BR71),ROUND((D70+E70)*10%,0))))),\"\")","v":""},{"$f":"IFERROR(IF(C70=\"\",\"\",IF(I70=\"\",\"\",IF(J70=\"\",\"\",IF($C70=\"TOTAL\",SUM($T$8:T69),IF(AND(C70>$AR$1,$AI$3=$AR$2),BW71,IF($AU$18=$AU$20,$AU$21,ROUND((I70+J70)*10%,0))))))),\"\")","v":""},"",{"$f":"IFERROR(IF(C70=\"\",\"\",IF($AU$16=$AU$17,0,IF($C70=\"TOTAL\",SUM($V$8:V69),IF($AU$19=$AU$20,$AU$25,0)))),\"\")","v":""},{"$f":"IFERROR(IF(C70=\"\",\"\",IF($AU$16=$AU$17,0,IF($C70=\"TOTAL\",SUM($W$8:W69),IF($AU$19=$AU$20,$AU$24,0)))),\"\")","v":""},"",{"$f":"IFERROR(IF(C70=\"\",\"\",IF($AU$16=$AU$17,0,IF($C70=\"TOTAL\",SUM($Y$8:Y69),BZ70))),\"\")","v":""},{"$f":"IFERROR(IF(C70=\"\",\"\",IF($AU$16=$AU$17,0,IF($C70=\"TOTAL\",SUM($Z$8:Z69),BY70))),\"\")","v":""},"",{"$f":"IFERROR(IF(C70=\"\",\"\",IF(D70=\"\",\"\",IF($C70=\"TOTAL\",SUM($AB$8:AB69),IF(C70=$AU$1,ROUND(D70*5/31,0.01),\"\")))),\"\")","v":""},{"$f":"IFERROR(IF(C70=\"\",\"\",IF(I70=\"\",\"\",IF($C70=\"TOTAL\",SUM($AC$8:AC69),IF(C70=$AU$1,ROUND(I70*5/31,0.01),\"\")))),\"\")","v":""},"",{"$f":"IFERROR(IF(C70=\"\",\"\",IF(AND(BP71=\"\",BW71=\"\"),\"\",IF($C70=\"TOTAL\",SUM($AE$8:AE69),BP71))),\"\")","v":""},{"$f":"IFERROR(IF(C70=\"\",\"\",IF($C70=\"TOTAL\",SUM($AF$8:AF69),ROUND(R70*$AU$7%,0))),\"\")","v":""},"",{"$f":"IFERROR(IF(C70=\"\",\"\",IF($C70=\"TOTAL\",SUM($AH$8:AH69),SUM(R70-AG70))),\"\")","v":""},{"$nulls":8},42,42,null,"2022-02-01",null,"2024-05-01","","",{"$f":"IFERROR(IF(AND(AW70=\"\",AX70=\"\"),\"\",IF(AW70=\"\",AX70,AW70)),\"\")","v":""},"","","","","",null,"","","","","",null,null,"","","","",0,0,{"$nulls":4},"",null,"",{"$f":"IF(AZ71=\"\",\"\",IF(AZ71=\"TOTAL\",\"\",IF($AU$16=$AU$17,0,IF(AND(AZ71>$BY$1,$AI$3=$AR$2,'Master Sheet'!$D$27>0),'Master Sheet'!$D$27,IF(AND(AZ71=$BY$1),IF($AU$9<18001,135,IF($AU$9<33501,220,IF($AU$9<54001,330,440))),IF(AND(AZ71>$BY$1),IF($AU$9<18001,265,IF($AU$9<33501,440,IF($AU$9<54001,658,875))),\"\"))))))","v":""}]
["","","",{"$f":"IFERROR(IF($C70=\"TOTAL\",\"अक्षरें राशि :-\",IF($C71=\"TOTAL\",SUM($D$8:D70),IF(BA72=\"\",\"\",BA72))),\"\")","v":""},{"$f":"IFERROR(IF($C71=\"TOTAL\",SUM($E$8:E70),IF(BC72=\"\",\"\",BC72)),\"\")","v":""},{"$f":"IFERROR(IF($C71=\"TOTAL\",SUM($F$8:F70),IF(BD72=\"\",\"\",BD72)),\"\")","v":""},{"$f":"IFERROR(IF($C71=\"TOTAL\",SUM($G$8:G70),IF(BB72=\"\",\"\",BB72)),\"\")","v":""},"",{"$f":"IFERROR(IF($C71=\"TOTAL\",SUM($I$8:I70),IF(BF72=\"\",\"\",BF72)),\"\")","v":""},{"$f":"IFERROR(IF($C71=\"TOTAL\",SUM($J$8:J70),IF(BH72=\"\",\"\",BH72)),\"\")","v":""},{"$f":"IFERROR(IF($C71=\"TOTAL\",SUM($K$8:K70),IF(BI72=\"\",\"\",BI72)),\"\")","v":""},{"$f":"IFERROR(IF($C71=\"TOTAL\",SUM($L$8:L70),IF(BG72=\"\",\"\",BG72)),\"\")","v":""},"",{"$f":"IFERROR(IF(C71=\"\",\"\",IF(D71=\"\",\"\",IF(I71=\"\",\"\",IF($C71=\"TOTAL\",SUM($N$8:N70),SUM(D71-I71))))),\"\")","v":""},{"$f":"IFERROR(IF(C71=\"\",\"\",IF(E71=\"\",\"\",IF(J71=\"\",\"\",IF($C71=\"TOTAL\",SUM($O$8:O70),SUM(E71-J71))))),\"\")","v":""},{"$f":"IFERROR(IF(C71=\"\",\"\",IF(F71=\"\",\"\",IF(K71=\"\",\"\",IF($C71=\"TOTAL\",SUM($P$8:P70),SUM(F71-K71))))),\"\")","v":""},"","",{"$f":"IFERROR(IF(C71=\"\",\"\",IF($C71=\"TOTAL\",SUM($S$8:S70),IF(AND(C71>$AR$1,$AI$3=$AR$2),BW72,IF($AU$18=$AU$20,SUM(BJ72+BR72),ROUND((D71+E71)*10%,0))))),\"\")","v":""},{"$f":"IFERROR(IF(C71=\"\",\"\",IF(I71=\"\",\"\",IF(J71=\"\",\"\",IF($C71=\"TOTAL\",SUM($T$8:T70),IF(AND(C71>$AR$1,$AI$3=$AR$2),BW72,IF($AU$18=$AU$20,$AU$21,ROUND((I71+J71)*10%,0))))))),\"\")","v":""},"",{"$f":"IFERROR(IF(C71=\"\",\"\",IF($AU$16=$AU$17,0,IF($C71=\"TOTAL\",SUM($V$8:V70),IF($AU$19=$AU$20,$AU$25,0)))),\"\")","v":""},{"$f":"IFERROR(IF(C71=\"\",\"\",IF($AU$16=$AU$17,0,IF($C71=\"TOTAL\",SUM($W$8:W70),IF($AU$19=$AU$20,$AU$24,0)))),\"\")","v":""},"",{"$f":"IFERROR(IF(C71=\"\",\"\",IF($AU$16=$AU$17,0,IF($C71=\"TOTAL\",SUM($Y$8:Y70),BZ71))),\"\")","v":""},{"$f":"IFERROR(IF(C71=\"\",\"\",IF($AU$16=$AU$17,0,IF($C71=\"TOTAL\",SUM($Z$8:Z70),BY71))),\"\")","v":""},"",{"$f":"IFERROR(IF(C71=\"\",\"\",IF(D71=\"\",\"\",IF($C71=\"TOTAL\",SUM($AB$8:AB70),IF(C71=$AU$1,ROUND(D71*5/31,0.01),\"\")))),\"\")","v":""},{"$f":"IFERROR(IF(C71=\"\",\"\",IF(I71=\"\",\"\",IF($C71=\"TOTAL\",SUM($AC$8:AC70),IF(C71=$AU$1,ROUND(I71*5/31,0.01),\"\")))),\"\")","v":""},"",{"$f":"IFERROR(IF(C71=\"\",\"\",IF(AND(BP72=\"\",BW72=\"\"),\"\",IF($C71=\"TOTAL\",SUM($AE$8:AE70),BP72))),\"\")","v":""},{"$f":"IFERROR(IF(C71=\"\",\"\",IF($C71=\"TOTAL\",SUM($AF$8:AF70),ROUND(R71*$AU$7%,0))),\"\")","v":""},"",{"$f":"IFERROR(IF(C71=\"\",\"\",IF($C71=\"TOTAL\",SUM($AH$8:AH70),SUM(R71-AG71))),\"\")","v":""},{"$nulls":8},42,42,null,"2022-03-01","2022-03-01","2024-06-01",{"$f":"IF(AND(AV71=\"\"),\"\",IF(AND(AV71=$AT$9),$AT$9,IF(AND(AV71=$AT$10),$AT$10,IF(AND(AV71=$AT$11),$AT$11,IF(AND(AV71=$AT$12),$AT$12,IF(AND(AV71=$AT$13),$AT$13,IF(AND(AV71=$AT$14),$AT$14,IF(AND(AV71=$AT$15),$AT$15,IF(AND(AV71=$AT$16),$AT$16,IF(AND(AV71=$AT$17),$AT$17,IF(AND(AV71=$AT$18),$AT$18,IF(AND(AV71=$AT$19),$AT$19,IF(AND(AV71=$AT$20),$AT$20,IF(AND(AV71=$AT$21),$AT$21,IF(AND(AV71=$AT$22),$AT$22,IF(AND(AV71=$AT$23),$AT$23,IF(AND(AV71=$AT$24),$AT$24,IF(AND(AV71=$AT$25),$AT$25,IF(AND(AV71=$AT$26),$AT$26,IF(AND(AV71=$AT$27),$AT$27,IF(AND(AV71=$AT$28),$AT$28,IF(AND(AV71=$AT$29),$AT$29,IF(AND(AV71=$AT$30),$AT$30,IF(AND(AV71=$AT$31),$AT$31,IF(AND(AV71=$AT$32),$AT$32,IF(AND(AV71=$AT$33),$AT$33,IF(AND(AV71=$AT$34),$AT$34,IF(AND(AV71=$AT$35),$AT$35,IF(AND(AV71=$AT$36),$AT$36,IF(AND(AV71=$AT$37),$AT$37,IF(AND(AV71=$AT$38),$AT$38,IF(AND(AV71=$AT$39),$AT$39,IF(AND(AV71=$AT$40),$AT$40,IF(AND(AV71=$AT$41),$AT$41,IF(AND(AV71=$AT$42),$AT$42,IF(AND(AV71=$AT$43),$AT$43,IF(AND(AV71=$AT$44),$AT$44,IF(AND(AV71=$AT$45),$AT$45,IF(AND(AV71=$AT$46),$AT$46,IF(AND(AV71=$AT$47),$AT$47,IF(AND(AV71=$AT$48),$AT$48,IF(AND(AV71=$AT$49),$AT$49,IF(AND(AV71=$AT$50),$AT$50,IF(AND(AV71=$AT$51),$AT$51,IF(AND(AV71=$AT$52),$AT$52,IF(AND(AV71=$AT$53),$AT$53,IF(AND(AV71=$AT$54),$AT$54,IF(AND(AV71=$AT$55),$AT$55,IF(AND(AV71=$AT$56),$AT$56,IF(AND(AV71=$AT$57),$AT$57,IF(AND(AV71=$AT$58),$AT$58,IF(AND(AV71=$AT$59),$AT$59,IF(AND(AV71=$AT$60),$AT$60,IF(AND(AV71=$AT$61),$AT$61,IF(AND(AV71=$AT$62),$AT$62,IF(AND(AV71=$AT$63),$AT$63,IF(AND(AV71=$AT$64),$AT$64,IF(AND(AV71=$AT$65),$AT$65,IF(AND(AV71=$AT$66),$AT$66,IF(AND(AV71=$AT$67),$AT$67,IF(AND(AV71=$AT$68),$AT$68,IF(AND(AV71=$AT$69),$AT$69,IF(AND(AV71=$AT$70),$AT$70,IF(AND(AV71=$AT$71),$AT$71,\"\"))))))))))))))))))))))))))))))))))))))))))))))))))))))))))))))))","v":""},"",{"$f":"IFERROR(IF(AND(AW71=\"\",AX71=\"\"),\"\",IF(AW71=\"\",AX71,AW71)),\"\")","v":""},"","","","","",null,"","","","","",null,null,"","","","",0,0,{"$nulls":4},"",null,"",{"$f":"IF(AZ72=\"\",\"\",IF(AZ72=\"TOTAL\",\"\",IF($AU$16=$AU$17,0,IF(AND(AZ72>$BY$1,$AI$3=$AR$2,'Master Sheet'!$D$27>0),'Master Sheet'!$D$27,IF(AND(AZ72=$BY$1),IF($AU$9<18001,135,IF($AU$9<33501,220,IF($AU$9<54001,330,440))),IF(AND(AZ72>$BY$1),IF($AU$9<18001,265,IF($AU$9<33501,440,IF($AU$9<54001,658,875))),\"\"))))))","v":""}]
["","","",{"$f":"IFERROR(IF($C71=\"TOTAL\",\"अक्षरें राशि :-\",IF($C72=\"TOTAL\",SUM($D$8:D71),IF(BA73=\"\",\"\",BA73))),\"\")","v":""},{"$f":"IFERROR(IF($C72=\"TOTAL\",SUM($E$8:E71),IF(BC73=\"\",\"\",BC73)),\"\")","v":""},{"$f":"IFERROR(IF($C72=\"TOTAL\",SUM($F$8:F71),IF(BD73=\"\",\"\",BD73)),\"\")","v":""},{"$f":"IFERROR(IF($C72=\"TOTAL\",SUM($G$8:G71),IF(BB73=\"\",\"\",BB73)),\"\")","v":""},"",{"$f":"IFERROR(IF($C72=\"TOTAL\",SUM($I$8:I71),IF(BF73=\"\",\"\",BF73)),\"\")","v":""},{"$f":"IFERROR(IF($C72=\"TOTAL\",SUM($J$8:J71),IF(BH73=\"\",\"\",BH73)),\"\")","v":""},{"$f":"IFERROR(IF($C72=\"TOTAL\",SUM($K$8:K71),IF(BI73=\"\",\"\",BI73)),\"\")","v":""},{"$f":"IFERROR(IF($C72=\"TOTAL\",SUM($L$8:L71),IF(BG73=\"\",\"\",BG73)),\"\")","v":""},"",{"$f":"IFERROR(IF(C72=\"\",\"\",IF(D72=\"\",\"\",IF(I72=\"\",\"\",IF($C72=\"TOTAL\",SUM($N$8:N71),SUM(D72-I72))))),\"\")","v":""},{"$f":"IFERROR(IF(C72=\"\",\"\",IF(E72=\"\",\"\",IF(J72=\"\",\"\",IF($C72=\"TOTAL\",SUM($O$8:O71),SUM(E72-J72))))),\"\")","v":""},{"$f":"IFERROR(IF(C72=\"\",\"\",IF(F72=\"\",\"\",IF(K72=\"\",\"\",IF($C72=\"TOTAL\",SUM($P$8:P71),SUM(F72-K72))))),\"\")","v":""},"","",{"$f":"IFERROR(IF(C72=\"\",\"\",IF($C72=\"TOTAL\",SUM($S$8:S71),IF(AND(C72>$AR$1,$AI$3=$AR$2),BW73,IF($AU$18=$AU$20,SUM(BJ73+BR73),ROUND((D72+E72)*10%,0))))),\"\")","v":""},{"$f":"IFERROR(IF(C72=\"\",\"\",IF(I72=\"\",\"\",IF(J72=\"\",\"\",IF($C72=\"TOTAL\",SUM($T$8:T71),IF(AND(C72>$AR$1,$AI$3=$AR$2),BW73,IF($AU$18=$AU$20,$AU$21,ROUND((I72+J72)*10%,0))))))),\"\")","v":""},"",{"$f":"IFERROR(IF(C72=\"\",\"\",IF($AU$16=$AU$17,0,IF($C72=\"TOTAL\",SUM($V$8:V71),IF($AU$19=$AU$20,$AU$25,0)))),\"\")","v":""},{"$f":"IFERROR(IF(C72=\"\",\"\",IF($AU$16=$AU$17,0,IF($C72=\"TOTAL\",SUM($W$8:W71),IF($AU$19=$AU$20,$AU$24,0)))),\"\")","v":""},"",{"$f":"IFERROR(IF(C72=\"\",\"\",IF($AU$16=$AU$17,0,IF($C72=\"TOTAL\",SUM($Y$8:Y71),BZ72))),\"\")","v":""},{"$f":"IFERROR(IF(C72=\"\",\"\",IF($AU$16=$AU$17,0,IF($C72=\"TOTAL\",SUM($Z$8:Z71),BY72))),\"\")","v":""},{"$f":"IFERROR(IF(C72=\"\",\"\",SUM(Y72-Z72)),\"\")","v":""},{"$f":"IFERROR(IF(C72=\"\",\"\",IF(D72=\"\",\"\",IF($C72=\"TOTAL\",SUM($AB$8:AB71),IF(C72=$AU$1,ROUND(D72*5/31,0.01),\"\")))),\"\")","v":""},{"$f":"IFERROR(IF(C72=\"\",\"\",IF(I72=\"\",\"\",IF($C72=\"TOTAL\",SUM($AC$8:AC71),IF(C72=$AU$1,ROUND(I72*5/31,0.01),\"\")))),\"\")","v":""},"",{"$f":"IFERROR(IF(C72=\"\",\"\",IF(AND(BP73=\"\",BW73=\"\"),\"\",IF($C72=\"TOTAL\",SUM($AE$8:AE71),BP73))),\"\")","v":""},{"$f":"IFERROR(IF(C72=\"\",\"\",IF($C72=\"TOTAL\",SUM($AF$8:AF71),ROUND(R72*$AU$7%,0))),\"\")","v":""},"",{"$f":"IFERROR(IF(C72=\"\",\"\",IF($C72=\"TOTAL\",SUM($AH$8:AH71),SUM(R72-AG72))),\"\")","v":""},{"$nulls":8},42,42,null,"2022-04-01","2022-04-01","2024-07-01",{"$f":"IF(AND(AV72=\"\"),\"\",IF(AND(AV72=$AT$9),$AT$9,IF(AND(AV72=$AT$10),$AT$10,IF(AND(AV72=$AT$11),$AT$11,IF(AND(AV72=$AT$12),$AT$12,IF(AND(AV72=$AT$13),$AT$13,IF(AND(AV72=$AT$14),$AT$14,IF(AND(AV72=$AT$15),$AT$15,IF(AND(AV72=$AT$16),$AT$16,IF(AND(AV72=$AT$17),$AT$17,IF(AND(AV72=$AT$18),$AT$18,IF(AND(AV72=$AT$19),$AT$19,IF(AND(AV72=$AT$20),$AT$20,IF(AND(AV72=$AT$21),$AT$21,IF(AND(AV72=$AT$22),$AT$22,IF(AND(AV72=$AT$23),$AT$23,IF(AND(AV72=$AT$24),$AT$24,IF(AND(AV72=$AT$25),$AT$25,IF(AND(AV72=$AT$26),$AT$26,IF(AND(AV72=$AT$27),$AT$27,IF(AND(AV72=$AT$28),$AT$28,IF(AND(AV72=$AT$29),$AT$29,IF(AND(AV72=$AT$30),$AT$30,IF(AND(AV72=$AT$31),$AT$31,IF(AND(AV72=$AT$32),$AT$32,IF(AND(AV72=$AT$33),$AT$33,IF(AND(AV72=$AT$34),$AT$34,IF(AND(AV72=$AT$35),$AT$35,IF(AND(AV72=$AT$36),$AT$36,IF(AND(AV72=$AT$37),$AT$37,IF(AND(AV72=$AT$38),$AT$38,IF(AND(AV72=$AT$39),$AT$39,IF(AND(AV72=$AT$40),$AT$40,IF(AND(AV72=$AT$41),$AT$41,IF(AND(AV72=$AT$42),$AT$42,IF(AND(AV72=$AT$43),$AT$43,IF(AND(AV72=$AT$44),$AT$44,IF(AND(AV72=$AT$45),$AT$45,IF(AND(AV72=$AT$46),$AT$46,IF(AND(AV72=$AT$47),$AT$47,IF(AND(AV72=$AT$48),$AT$48,IF(AND(AV72=$AT$49),$AT$49,IF(AND(AV72=$AT$50),$AT$50,IF(AND(AV72=$AT$51),$AT$51,IF(AND(AV72=$AT$52),$AT$52,IF(AND(AV72=$AT$53),$AT$53,IF(AND(AV72=$AT$54),$AT$54,IF(AND(AV72=$AT$55),$AT$55,IF(AND(AV72=$AT$56),$AT$56,IF(AND(AV72=$AT$57),$AT$57,IF(AND(AV72=$AT$58),$AT$58,IF(AND(AV72=$AT$59),$AT$59,IF(AND(AV72=$AT$60),$AT$60,IF(AND(AV72=$AT$61),$AT$61,IF(AND(AV72=$AT$62),$AT$62,IF(AND(AV72=$AT$63),$AT$63,IF(AND(AV72=$AT$64),$AT$64,IF(AND(AV72=$AT$65),$AT$65,IF(AND(AV72=$AT$66),$AT$66,IF(AND(AV72=$AT$67),$AT$67,IF(AND(AV72=$AT$68),$AT$68,IF(AND(AV72=$AT$69),$AT$69,IF(AND(AV72=$AT$70),$AT$70,IF(AND(AV72=$AT$71),$AT$71,\"\"))))))))))))))))))))))))))))))))))))))))))))))))))))))))))))))))","v":""},{"$f":"IF(AND(AV72=\"\"),\"\",IF(AND(AV72=$AT$72),$AU$72,IF(AND(AV72=$AT$73),$AU$73,IF(AND(AV72=$AT$74),$AU$74,IF(AND(AV72=$AT$75),$AU$75,IF(AND(AV72=$AT$76),$AU$76,IF(AND(AV72=$AT$77),$AU$77,IF(AND(AV72=$AT$78),$AU$78,IF(AND(AV72=$AT$79),$AU$79,IF(AND(AV72=$AT$80),$AU$80,IF(AND(AV72=$AT$81),$AU$81,IF(AND(AV72=$AT$82),$AU$82,IF(AND(AV72=$AT$83),$AU$83,IF(AND(AV72=$AT$84),$AU$84,IF(AND(AV72=$AT$85),$AU$85,IF(AND(AV72=$AT$86),$AU$86,IF(AND(AV72=$AT$87),$AU$87,IF(AND(AV72=$AT$88),$AU$88,IF(AND(AV72=$AT$89),$AU$89,IF(AND(AV72=$AT$90),$AU$90,IF(AND(AV72=$AT$91),$AU$91,IF(AND(AV72=$AT$92),$AU$92,IF(AND(AV72=$AT$93),$AU$93,\"\")))))))))))))))))))))))","v":""},{"$f":"IFERROR(IF(AND(AW72=\"\",AX72=\"\"),\"\",IF(AW72=\"\",AX72,AW72)),\"\")","v":""},"",{"$f":"IFERROR(IF(AZ72=\"\",\"\",IF(AND($AU$20=$AU$28,$AU$30=AZ72),$AU$29,IF(OR(AZ72=$BD$2,AZ72=$BD$3,AZ72=$BD$4,AZ72=$BD$5,AZ72=$BD$6,AZ72=$BD$7,AZ72=$BE$2),MROUND(BA71*1.03,100),BA71))),\"\")","v":""},"","","",null,"","","","","",null,null,"","","","",0,0,{"$nulls":4},"",null,"",{"$f":"IF(AZ73=\"\",\"\",IF(AZ73=\"TOTAL\",\"\",IF($AU$16=$AU$17,0,IF(AND(AZ73>$BY$1,$AI$3=$AR$2,'Master Sheet'!$D$27>0),'Master Sheet'!$D$27,IF(AND(AZ73=$BY$1),IF($AU$9<18001,135,IF($AU$9<33501,220,IF($AU$9<54001,330,440))),IF(AND(AZ73>$BY$1),IF($AU$9<18001,265,IF($AU$9<33501,440,IF($AU$9<54001,658,875))),\"\"))))))","v":""}]
["",{"$f":"IFERROR(IF(A73=\"\",\"\",IF(A73=0,\"\",A73)),\"\")","v":""},{"$f":"IFERROR(IF(AZ74=\"\",\"\",AZ74),\"\")","v":""},{"$f":"IFERROR(IF($C72=\"TOTAL\",\"अक्षरें राशि :-\",IF($C73=\"TOTAL\",SUM($D$8:D72),IF(BA74=\"\",\"\",BA74))),\"\")","v":""},{"$f":"IFERROR(IF($C73=\"TOTAL\",SUM($E$8:E72),IF(BC74=\"\",\"\",BC74)),\"\")","v":""},{"$f":"IFERROR(IF($C73=\"TOTAL\",SUM($F$8:F72),IF(BD74=\"\",\"\",BD74)),\"\")","v":""},{"$f":"IFERROR(IF($C73=\"TOTAL\",SUM($G$8:G72),IF(BB74=\"\",\"\",BB74)),\"\")","v":""},{"$f":"IF(C73=\"\",\"\",SUM(D73:G73))","v":""},{"$f":"IFERROR(IF($C73=\"TOTAL\",SUM($I$8:I72),IF(BF74=\"\",\"\",BF74)),\"\")","v":""},{"$f":"IFERROR(IF($C73=\"TOTAL\",SUM($J$8:J72),IF(BH74=\"\",\"\",BH74)),\"\")","v":""},{"$f":"IFERROR(IF($C73=\"TOTAL\",SUM($K$8:K72),IF(BI74=\"\",\"\",BI74)),\"\")","v":""},{"$f":"IFERROR(IF($C73=\"TOTAL\",SUM($L$8:L72),IF(BG74=\"\",\"\",BG74)),\"\")","v":""},{"$f":"IF(C73=\"\",\"\",SUM(I73:L73))","v":""},{"$f":"IFERROR(IF(C73=\"\",\"\",IF(D73=\"\",\"\",IF(I73=\"\",\"\",IF($C73=\"TOTAL\",SUM($N$8:N72),SUM(D73-I73))))),\"\")","v":""},{"$f":"IFERROR(IF(C73=\"\",\"\",IF(E73=\"\",\"\",IF(J73=\"\",\"\",IF($C73=\"TOTAL\",SUM($O$8:O72),SUM(E73-J73))))),\"\")","v":""},{"$f":"IFERROR(IF(C73=\"\",\"\",IF(F73=\"\",\"\",IF(K73=\"\",\"\",IF($C73=\"TOTAL\",SUM($P$8:P72),SUM(F73-K73))))),\"\")","v":""},{"$f":"IFERROR(IF(D73=\"\",\"\",IF(G73=\"\",\"\",IF(L73=\"\",\"\",SUM(G73-L73)))),\"\")","v":""},{"$f":"IFERROR(IF(C73=\"\",\"\",IF(H73=\"\",\"\",IF(M73=\"\",\"\",SUM(H73-M73)))),\"\")","v":""},{"$f":"IFERROR(IF(C73=\"\",\"\",IF($C73=\"TOTAL\",SUM($S$8:S72),IF(AND(C73>$AR$1,$AI$3=$AR$2),BW74,IF($AU$18=$AU$20,SUM(BJ74+BR74),ROUND((D73+E73)*10%,0))))),\"\")","v":""},{"$f":"IFERROR(IF(C73=\"\",\"\",IF(I73=\"\",\"\",IF(J73=\"\",\"\",IF($C73=\"TOTAL\",SUM($T$8:T72),IF(AND(C73>$AR$1,$AI$3=$AR$2),BW74,IF($AU$18=$AU$20,$AU$21,ROUND((I73+J73)*10%,0))))))),\"\")","v":""},{"$f":"IFERROR(IF(C73=\"\",\"\",SUM(S73-T73)),\"\")","v":""},{"$f":"IFERROR(IF(C73=\"\",\"\",IF($AU$16=$AU$17,0,IF($C73=\"TOTAL\",SUM($V$8:V72),IF($AU$19=$AU$20,$AU$25,0)))),\"\")","v":""},{"$f":"IFERROR(IF(C73=\"\",\"\",IF($AU$16=$AU$17,0,IF($C73=\"TOTAL\",SUM($W$8:W72),IF($AU$19=$AU$20,$AU$24,0)))),\"\")","v":""},{"$f":"IFERROR(IF(C73=\"\",\"\",SUM(V73-W73)),\"\")","v":""},{"$f":"IFERROR(IF(C73=\"\",\"\",IF($AU$16=$AU$17,0,IF($C73=\"TOTAL\",SUM($Y$8:Y72),BZ73))),\"\")","v":""},{"$f":"IFERROR(IF(C73=\"\",\"\",IF($AU$16=$AU$17,0,IF($C73=\"TOTAL\",SUM($Z$8:Z72),BY73))),\"\")","v":""},"",{"$f":"IFERROR(IF(C73=\"\",\"\",IF(D73=\"\",\"\",IF($C73=\"TOTAL\",SUM($AB$8:AB72),IF(C73=$AU$1,ROUND(D73*5/31,0.01),\"\")))),\"\")","v":""},{"$f":"IFERROR(IF(C73=\"\",\"\",IF(I73=\"\",\"\",IF($C73=\"TOTAL\",SUM($AC$8:AC72),IF(C73=$AU$1,ROUND(I73*5/31,0.01),\"\")))),\"\")","v":""},"",{"$f":"IFERROR(IF(C73=\"\",\"\",IF(AND(BP74=\"\",BW74=\"\"),\"\",IF($C73=\"TOTAL\",SUM($AE$8:AE72),BP74))),\"\")","v":""},{"$f":"IFERROR(IF(C73=\"\",\"\",IF($C73=\"TOTAL\",SUM($AF$8:AF72),ROUND(R73*$AU$7%,0))),\"\")","v":""},{"$f":"IFERROR(IF(C73=\"\",\"\",IF($AI$3=\"GPF\",SUM(U73,X73,AA73,AD73,AE73,AF73),SUM(U73,X73,AA73,AD73,AE73,AF73))),\"\")","v":""},{"$f":"IFERROR(IF(C73=\"\",\"\",IF($C73=\"TOTAL\",SUM($AH$8:AH72),SUM(R73-AG73))),\"\")","v":""},{"$nulls":8},42,42,null,"2022-05-01","2022-05-01","2024-08-01","",{"$f":"IF(AND(AV73=\"\"),\"\",IF(AND(AV73=$AT$72),$AU$72,IF(AND(AV73=$AT$73),$AU$73,IF(AND(AV73=$AT$74),$AU$74,IF(AND(AV73=$AT$75),$AU$75,IF(AND(AV73=$AT$76),$AU$76,IF(AND(AV73=$AT$77),$AU$77,IF(AND(AV73=$AT$78),$AU$78,IF(AND(AV73=$AT$79),$AU$79,IF(AND(AV73=$AT$80),$AU$80,IF(AND(AV73=$AT$81),$AU$81,IF(AND(AV73=$AT$82),$AU$82,IF(AND(AV73=$AT$83),$AU$83,IF(AND(AV73=$AT$84),$AU$84,IF(AND(AV73=$AT$85),$AU$85,IF(AND(AV73=$AT$86),$AU$86,IF(AND(AV73=$AT$87),$AU$87,IF(AND(AV73=$AT$88),$AU$88,IF(AND(AV73=$AT$89),$AU$89,IF(AND(AV73=$AT$90),$AU$90,IF(AND(AV73=$AT$91),$AU$91,IF(AND(AV73=$AT$92),$AU$92,IF(AND(AV73=$AT$93),$AU$93,\"\")))))))))))))))))))))))","v":""},"",{"$f":"IFERROR(IF(AY73=\"\",\"\",IF(DATE(YEAR(AY73),MONTH(AY73),DAY(AY73))=DATE(YEAR($AV$6),MONTH($AV$6)+1,DAY($AV$6)),\"TOTAL\",IF(AY73>$AV$6,\"\",AY73))),\"\")","v":""},"","","","",null,"","","","","",null,null,"","","",{"$f":"IF(BO73=\"\",\"\",IF($AU$16=$AU$17,ROUND((D72)*3%,0),IF(OR(AZ73=$AT$63,AZ73=$AT$64,AZ73=$AT$65),SUM(ROUND((D72-I72)*3%,0)),IF(OR(AZ73=$AT$69,AZ73=$AT$70,AZ73=$AT$71),SUM(ROUND((D72-I72)*3%,0)),\"\"))))","v":""},{"$f":"IFERROR(IF(AND($AU$16=$AU$17,BO73=\"YES\"),ROUND(ROUND(D72*3%,0)*10%,0),IF(AND($AU$16=$AU$15,BO73=\"YES\",$AS$7=\"NO\"),ROUND(ROUND((N72+I72)*3%,0)*10%,0),IF(AND($AU$16=$AU$15,BO73=\"YES\",$AS$7=\"YES\"),ROUND(ROUND((N72+O72)*3%,0)*10%,0),0))),\"\")","v":0},{"$f":"IF(AND($AU$16=$AU$17,BO73=\"YES\"),ROUND(D72*3%,0),IF(AND($AU$16=$AU$15,BO73=\"YES\",$AS$7=\"NO\"),ROUND((N72+I72)*3%,0),IF(AND($AU$16=$AU$15,BO73=\"YES\",$AS$7=\"YES\"),ROUND((N72+O72)*3%,0),0)))","v":0},{"$nulls":4},"",null,"",{"$f":"IF(AZ74=\"\",\"\",IF(AZ74=\"TOTAL\",\"\",IF($AU$16=$AU$17,0,IF(AND(AZ74>$BY$1,$AI$3=$AR$2,'Master Sheet'!$D$27>0),'Master Sheet'!$D$27,IF(AND(AZ74=$BY$1),IF($AU$9<18001,135,IF($AU$9<33501,220,IF($AU$9<54001,330,440))),IF(AND(AZ74>$BY$1),IF($AU$9<18001,265,IF($AU$9<33501,440,IF($AU$9<54001,658,875))),\"\"))))))","v":""}]
["","","",{"$f":"IFERROR(IF($C73=\"TOTAL\",\"अक्षरें राशि :-\",IF($C74=\"TOTAL\",SUM($D$8:D73),IF(BA75=\"\",\"\",BA75))),\"\")","v":""},{"$f":"IFERROR(IF($C74=\"TOTAL\",SUM($E$8:E73),IF(BC75=\"\",\"\",BC75)),\"\")","v":""},{"$f":"IFERROR(IF($C74=\"TOTAL\",SUM($F$8:F73),IF(BD75=\"\",\"\",BD75)),\"\")","v":""},{"$f":"IFERROR(IF($C74=\"TOTAL\",SUM($G$8:G73),IF(BB75=\"\",\"\",BB75)),\"\")","v":""},"",{"$f":"IFERROR(IF($C74=\"TOTAL\",SUM($I$8:I73),IF(BF75=\"\",\"\",BF75)),\"\")","v":""},{"$f":"IFERROR(IF($C74=\"TOTAL\",SUM($J$8:J73),IF(BH75=\"\",\"\",BH75)),\"\")","v":""},{"$f":"IFERROR(IF($C74=\"TOTAL\",SUM($K$8:K73),IF(BI75=\"\",\"\",BI75)),\"\")","v":""},{"$f":"IFERROR(IF($C74=\"TOTAL\",SUM($L$8:L73),IF(BG75=\"\",\"\",BG75)),\"\")","v":""},"",{"$f":"IFERROR(IF(C74=\"\",\"\",IF(D74=\"\",\"\",IF(I74=\"\",\"\",IF($C74=\"TOTAL\",SUM($N$8:N73),SUM(D74-I74))))),\"\")","v":""},{"$f":"IFERROR(IF(C74=\"\",\"\",IF(E74=\"\",\"\",IF(J74=\"\",\"\",IF($C74=\"TOTAL\",SUM($O$8:O73),SUM(E74-J74))))),\"\")","v":""},{"$f":"IFERROR(IF(C74=\"\",\"\",IF(F74=\"\",\"\",IF(K74=\"\",\"\",IF($C74=\"TOTAL\",SUM($P$8:P73),SUM(F74-K74))))),\"\")","v":""},"","",{"$f":"IFERROR(IF(C74=\"\",\"\",IF($C74=\"TOTAL\",SUM($S$8:S73),IF(AND(C74>$AR$1,$AI$3=$AR$2),BW75,IF($AU$18=$AU$20,SUM(BJ75+BR75),ROUND((D74+E74)*10%,0))))),\"\")","v":""},{"$f":"IFERROR(IF(C74=\"\",\"\",IF(I74=\"\",\"\",IF(J74=\"\",\"\",IF($C74=\"TOTAL\",SUM($T$8:T73),IF(AND(C74>$AR$1,$AI$3=$AR$2),BW75,IF($AU$18=$AU$20,$AU$21,ROUND((I74+J74)*10%,0))))))),\"\")","v":""},"",{"$f":"IFERROR(IF(C74=\"\",\"\",IF($AU$16=$AU$17,0,IF($C74=\"TOTAL\",SUM($V$8:V73),IF($AU$19=$AU$20,$AU$25,0)))),\"\")","v":""},{"$f":"IFERROR(IF(C74=\"\",\"\",IF($AU$16=$AU$17,0,IF($C74=\"TOTAL\",SUM($W$8:W73),IF($AU$19=$AU$20,$AU$24,0)))),\"\")","v":""},"",{"$f":"IFERROR(IF(C74=\"\",\"\",IF($AU$16=$AU$17,0,IF($C74=\"TOTAL\",SUM($Y$8:Y73),BZ74))),\"\")","v":""},{"$f":"IFERROR(IF(C74=\"\",\"\",IF($AU$16=$AU$17,0,IF($C74=\"TOTAL\",SUM($Z$8:Z73),BY74))),\"\")","v":""},"",{"$f":"IFERROR(IF(C74=\"\",\"\",IF(D74=\"\",\"\",IF($C74=\"TOTAL\",SUM($AB$8:AB73),IF(C74=$AU$1,ROUND(D74*5/31,0.01),\"\")))),\"\")","v":""},{"$f":"IFERROR(IF(C74=\"\",\"\",IF(I74=\"\",\"\",IF($C74=\"TOTAL\",SUM($AC$8:AC73),IF(C74=$AU$1,ROUND(I74*5/31,0.01),\"\")))),\"\")","v":""},{"$f":"IFERROR(IF(I74=\"\",\"\",SUM(AB74-AC74)),\"\")","v":""},{"$f":"IFERROR(IF(C74=\"\",\"\",IF(AND(BP75=\"\",BW75=\"\"),\"\",IF($C74=\"TOTAL\",SUM($AE$8:AE73),BP75))),\"\")","v":""},{"$f":"IFERROR(IF(C74=\"\",\"\",IF($C74=\"TOTAL\",SUM($AF$8:AF73),ROUND(R74*$AU$7%,0))),\"\")","v":""},"",{"$f":"IFERROR(IF(C74=\"\",\"\",IF($C74=\"TOTAL\",SUM($AH$8:AH73),SUM(R74-AG74))),\"\")","v":""},{"$nulls":8},{"$f":"IF(OR(AZ74=$AT$9,AZ74=$AT$10,AZ74=$AT$11,AZ74=$AT$12,AZ74=$AT$13,AZ74=$AT$14),4,IF(OR(AZ74=$AT$15,AZ74=$AT$16,AZ74=$AT$17,AZ74=$AT$18,AZ74=$AT$19,AZ74=$AT$20),5,IF(OR(AZ74=$AT$21,AZ74=$AT$22,AZ74=$AT$23,AZ74=$AT$24,AZ74=$AT$25,AZ74=$AT$26),7,IF(OR(AZ74=$AT$27,AZ74=$AT$28,AZ74=$AT$29,AZ74=$AT$30,AZ74=$AT$31,AZ74=$AT$32),9,IF(OR(AZ74=$AT$33,AZ74=$AT$34,AZ74=$AT$35,AZ74=$AT$36,AZ74=$AT$37,AZ74=$AT$38),12,IF(OR(AZ74=$AT$39,AZ74=$AT$40,AZ74=$AT$41,AZ74=$AT$42,AZ74=$AT$43,AZ74=$AT$44,AZ74=$AT$45,AZ74=$AT$46,AZ74=$AT$47,AZ74=$AT$48,AZ74=$AT$49,AZ74=$AT$50,AZ74=$AT$51,AZ74=$AT$52,AZ74=$AT$53,AZ74=$AT$54,AZ74=$AT$55,AZ74=$AT$56,AZ74=$AT$57,AZ74=$AT$58,AZ74=$AT$59,AZ74=$AT$60,AZ74=$AT$61,AZ74=$AT$62),17,IF(OR(AZ74=$AT$63,AZ74=$AT$64,AZ74=$AT$65,AZ74=$AT$66,AZ74=$AT$67,AZ74=$AT$68),31,IF(OR(AZ74=$AT$69,AZ74=$AT$70,AZ74=$AT$71,AZ74=$AT$72,AZ74=$AT$73,AZ74=$AT$74),34,IF(OR(AZ74=$AT$75,AZ74=$AT$76,AZ74=$AT$77,AZ74=$AT$78,AZ74=$AT$79,AZ74=$AT$80),38,42)))))))))","v":42},{"$f":"IF(OR(AZ74=$AT$9,AZ74=$AT$10,AZ74=$AT$11,AZ74=$AT$12,AZ74=$AT$13,AZ74=$AT$14),4,IF(OR(AZ74=$AT$15,AZ74=$AT$16,AZ74=$AT$17,AZ74=$AT$18,AZ74=$AT$19,AZ74=$AT$20),5,IF(OR(AZ74=$AT$21,AZ74=$AT$22,AZ74=$AT$23,AZ74=$AT$24,AZ74=$AT$25,AZ74=$AT$26),7,IF(OR(AZ74=$AT$27,AZ74=$AT$28,AZ74=$AT$29,AZ74=$AT$30,AZ74=$AT$31,AZ74=$AT$32),9,IF(OR(AZ74=$AT$33,AZ74=$AT$34,AZ74=$AT$35,AZ74=$AT$36,AZ74=$AT$37,AZ74=$AT$38),12,IF(OR(AZ74=$AT$39,AZ74=$AT$40,AZ74=$AT$41,AZ74=$AT$42,AZ74=$AT$43,AZ74=$AT$44,AZ74=$AT$45,AZ74=$AT$46,AZ74=$AT$47,AZ74=$AT$48,AZ74=$AT$49,AZ74=$AT$50,AZ74=$AT$51,AZ74=$AT$52,AZ74=$AT$53,AZ74=$AT$54,AZ74=$AT$55,AZ74=$AT$56,AZ74=$AT$57,AZ74=$AT$58,AZ74=$AT$59,AZ74=$AT$60,AZ74=$AT$61,AZ74=$AT$62),17,IF(OR(AZ74=$AT$63,AZ74=$AT$64,AZ74=$AT$65,AZ74=$AT$66,AZ74=$AT$67,AZ74=$AT$68),31,IF(OR(AZ74=$AT$69,AZ74=$AT$70,AZ74=$AT$71,AZ74=$AT$72,AZ74=$AT$73,AZ74=$AT$74),34,IF(OR(AZ74=$AT$75,AZ74=$AT$76,AZ74=$AT$77,AZ74=$AT$78,AZ74=$AT$79,AZ74=$AT$80),38,42)))))))))","v":42},null,"2022-06-01","2022-06-01","2024-09-01",{"$f":"IF(AND(AV74=\"\"),\"\",IF(AND(AV74=$AT$9),$AT$9,IF(AND(AV74=$AT$10),$AT$10,IF(AND(AV74=$AT$11),$AT$11,IF(AND(AV74=$AT$12),$AT$12,IF(AND(AV74=$AT$13),$AT$13,IF(AND(AV74=$AT$14),$AT$14,IF(AND(AV74=$AT$15),$AT$15,IF(AND(AV74=$AT$16),$AT$16,IF(AND(AV74=$AT$17),$AT$17,IF(AND(AV74=$AT$18),$AT$18,IF(AND(AV74=$AT$19),$AT$19,IF(AND(AV74=$AT$20),$AT$20,IF(AND(AV74=$AT$21),$AT$21,IF(AND(AV74=$AT$22),$AT$22,IF(AND(AV74=$AT$23),$AT$23,IF(AND(AV74=$AT$24),$AT$24,IF(AND(AV74=$AT$25),$AT$25,IF(AND(AV74=$AT$26),$AT$26,IF(AND(AV74=$AT$27),$AT$27,IF(AND(AV74=$AT$28),$AT$28,IF(AND(AV74=$AT$29),$AT$29,IF(AND(AV74=$AT$30),$AT$30,IF(AND(AV74=$AT$31),$AT$31,IF(AND(AV74=$AT$32),$AT$32,IF(AND(AV74=$AT$33),$AT$33,IF(AND(AV74=$AT$34),$AT$34,IF(AND(AV74=$AT$35),$AT$35,IF(AND(AV74=$AT$36),$AT$36,IF(AND(AV74=$AT$37),$AT$37,IF(AND(AV74=$AT$38),$AT$38,IF(AND(AV74=$AT$39),$AT$39,IF(AND(AV74=$AT$40),$AT$40,IF(AND(AV74=$AT$41),$AT$41,IF(AND(AV74=$AT$42),$AT$42,IF(AND(AV74=$AT$43),$AT$43,IF(AND(AV74=$AT$44),$AT$44,IF(AND(AV74=$AT$45),$AT$45,IF(AND(AV74=$AT$46),$AT$46,IF(AND(AV74=$AT$47),$AT$47,IF(AND(AV74=$AT$48),$AT$48,IF(AND(AV74=$AT$49),$AT$49,IF(AND(AV74=$AT$50),$AT$50,IF(AND(AV74=$AT$51),$AT$51,IF(AND(AV74=$AT$52),$AT$52,IF(AND(AV74=$AT$53),$AT$53,IF(AND(AV74=$AT$54),$AT$54,IF(AND(AV74=$AT$55),$AT$55,IF(AND(AV74=$AT$56),$AT$56,IF(AND(AV74=$AT$57),$AT$57,IF(AND(AV74=$AT$58),$AT$58,IF(AND(AV74=$AT$59),$AT$59,IF(AND(AV74=$AT$60),$AT$60,IF(AND(AV74=$AT$61),$AT$61,IF(AND(AV74=$AT$62),$AT$62,IF(AND(AV74=$AT$63),$AT$63,IF(AND(AV74=$AT$64),$AT$64,IF(AND(AV74=$AT$65),$AT$65,IF(AND(AV74=$AT$66),$AT$66,IF(AND(AV74=$AT$67),$AT$67,IF(AND(AV74=$AT$68),$AT$68,IF(AND(AV74=$AT$69),$AT$69,IF(AND(AV74=$AT$70),$AT$70,IF(AND(AV74=$AT$71),$AT$71,\"\"))))))))))))))))))))))))))))))))))))))))))))))))))))))))))))))))","v":""},"",{"$f":"IFERROR(IF(AND(AW74=\"\",AX74=\"\"),\"\",IF(AW74=\"\",AX74,AW74)),\"\")","v":""},{"$f":"IFERROR(IF(AY74=\"\",\"\",IF(DATE(YEAR(AY74),MONTH(AY74),DAY(AY74))=DATE(YEAR($AV$6),MONTH($AV$6)+1,DAY($AV$6)),\"TOTAL\",IF(AY74>$AV$6,\"\",AY74))),\"\")","v":""},"",{"$f":"IF(AZ74=\"\",\"\",IF(AZ74=\"TOTAL\",\"\",ROUND((BA74*20/100),0.01)))","v":""},{"$f":"IF(AZ74=\"\",\"\",IF(AZ74=\"TOTAL\",\"\",ROUND((BA74+BB74)*AQ74%,0)))","v":""},"",null,"",{"$f":"IF(AZ74=\"\",\"\",IF(AZ74=\"TOTAL\",\"\",ROUND((BF74*20/100),0.01)))","v":""},{"$f":"IF(AZ74=\"\",\"\",IF(BF74=\"\",\"\",IF($AU$16=$AU$17,0,ROUND((BF74+BG74)*AR74%,0))))","v":""},"",{"$f":"IF(AZ74=\"\",\"\",IF(AZ74=\"TOTAL\",\"\",IF(BF74=\"\",\"\",IF($AU$16=$AU$17,0,IF(OR(C73=$AS$16,C73=$AS$17,C73=$AS$18,C73=$AS$19,C73=$AS$20,C73=$AS$21,C73=$AS$22,C73=$AS$23,C73=$AS$24),SUM(BM74+BN74),BN74)))))","v":""},null,null,{"$f":"IF(AZ74=\"\",\"\",IF(AZ74=\"TOTAL\",\"\",IF(BF74=\"\",\"\",SUM(R73)-SUM(($AU$22-$AU$21)+SUM(X73,AA73,AF73)))))","v":""},{"$f":"IF(AZ73=\"\",\"\",IF(AZ73=\"TOTAL\",\"\",IF(AND($AU$20=$AU$36,C74=$AU$37),$AU$38,BN73)))","v":""},{"$f":"IF(OR(AZ74=$AT$63,AZ74=$AT$64,AZ74=$AT$65),\"YES\",\"\")","v":""},"",0,0,{"$nulls":4},{"$f":"IF(AZ74=\"\",\"\",IF(AZ74=\"TOTAL\",\"\",IF(AND(AZ74>$AR$1,$AI$3=$AR$2),$AY$1,\"\")))","v":""},null,{"$f":"IF(AZ75=\"\",\"\",IF(AZ75=\"TOTAL\",\"\",IF($AU$16=$AU$17,0,IF(AND(AZ75=$BY$1),IF($AU$14<18001,135,IF($AU$14<33501,220,IF($AU$14<54001,330,440))),IF(AND(AZ75>$BY$1),IF($AU$14<18001,265,IF($AU$14<33501,440,IF($AU$14<54001,658,875))),\"\")))))","v":""},{"$f":"IF(AZ75=\"\",\"\",IF(AZ75=\"TOTAL\",\"\",IF($AU$16=$AU$17,0,IF(AND(AZ75>$BY$1,$AI$3=$AR$2,'Master Sheet'!$D$27>0),'Master Sheet'!$D$27,IF(AND(AZ75=$BY$1),IF($AU$9<18001,135,IF($AU$9<33501,220,IF($AU$9<54001,330,440))),IF(AND(AZ75>$BY$1),IF($AU$9<18001,265,IF($AU$9<33501,440,IF($AU$9<54001,658,875))),\"\"))))))","v":""}]
["","","",{"$f":"IFERROR(IF($C74=\"TOTAL\",\"अक्षरें राशि :-\",IF($C75=\"TOTAL\",SUM($D$8:D74),IF(BA76=\"\",\"\",BA76))),\"\")","v":""},{"$f":"IFERROR(IF($C75=\"TOTAL\",SUM($E$8:E74),IF(BC76=\"\",\"\",BC76)),\"\")","v":""},{"$f":"IFERROR(IF($C75=\"TOTAL\",SUM($F$8:F74),IF(BD76=\"\",\"\",BD76)),\"\")","v":""},{"$f":"IFERROR(IF($C75=\"TOTAL\",SUM($G$8:G74),IF(BB76=\"\",\"\",BB76)),\"\")","v":""},"",{"$f":"IFERROR(IF($C75=\"TOTAL\",SUM($I$8:I74),IF(BF76=\"\",\"\",BF76)),\"\")","v":""},{"$f":"IFERROR(IF($C75=\"TOTAL\",SUM($J$8:J74),IF(BH76=\"\",\"\",BH76)),\"\")","v":""},{"$f":"IFERROR(IF($C75=\"TOTAL\",SUM($K$8:K74),IF(BI76=\"\",\"\",BI76)),\"\")","v":""},{"$f":"IFERROR(IF($C75=\"TOTAL\",SUM($L$8:L74),IF(BG76=\"\",\"\",BG76)),\"\")","v":""},"",{"$f":"IFERROR(IF(C75=\"\",\"\",IF(D75=\"\",\"\",IF(I75=\"\",\"\",IF($C75=\"TOTAL\",SUM($N$8:N74),SUM(D75-I75))))),\"\")","v":""},{"$f":"IFERROR(IF(C75=\"\",\"\",IF(E75=\"\",\"\",IF(J75=\"\",\"\",IF($C75=\"TOTAL\",SUM($O$8:O74),SUM(E75-J75))))),\"\")","v":""},{"$f":"IFERROR(IF(C75=\"\",\"\",IF(F75=\"\",\"\",IF(K75=\"\",\"\",IF($C75=\"TOTAL\",SUM($P$8:P74),SUM(F75-K75))))),\"\")","v":""},"","",{"$f":"IFERROR(IF(C75=\"\",\"\",IF($C75=\"TOTAL\",SUM($S$8:S74),IF(AND(C75>$AR$1,$AI$3=$AR$2),BW76,IF($AU$18=$AU$20,SUM(BJ76+BR76),ROUND((D75+E75)*10%,0))))),\"\")","v":""},{"$f":"IFERROR(IF(C75=\"\",\"\",IF(I75=\"\",\"\",IF(J75=\"\",\"\",IF($C75=\"TOTAL\",SUM($T$8:T74),IF(AND(C75>$AR$1,$AI$3=$AR$2),BW76,IF($AU$18=$AU$20,$AU$21,ROUND((I75+J75)*10%,0))))))),\"\")","v":""},"",{"$f":"IFERROR(IF(C75=\"\",\"\",IF($AU$16=$AU$17,0,IF($C75=\"TOTAL\",SUM($V$8:V74),IF($AU$19=$AU$20,$AU$25,0)))),\"\")","v":""},{"$f":"IFERROR(IF(C75=\"\",\"\",IF($AU$16=$AU$17,0,IF($C75=\"TOTAL\",SUM($W$8:W74),IF($AU$19=$AU$20,$AU$24,0)))),\"\")","v":""},"",{"$f":"IFERROR(IF(C75=\"\",\"\",IF($AU$16=$AU$17,0,IF($C75=\"TOTAL\",SUM($Y$8:Y74),BZ75))),\"\")","v":""},{"$f":"IFERROR(IF(C75=\"\",\"\",IF($AU$16=$AU$17,0,IF($C75=\"TOTAL\",SUM($Z$8:Z74),BY75))),\"\")","v":""},"",{"$f":"IFERROR(IF(C75=\"\",\"\",IF(D75=\"\",\"\",IF($C75=\"TOTAL\",SUM($AB$8:AB74),IF(C75=$AU$1,ROUND(D75*5/31,0.01),\"\")))),\"\")","v":""},{"$f":"IFERROR(IF(C75=\"\",\"\",IF(I75=\"\",\"\",IF($C75=\"TOTAL\",SUM($AC$8:AC74),IF(C75=$AU$1,ROUND(I75*5/31,0.01),\"\")))),\"\")","v":""},"",{"$f":"IFERROR(IF(C75=\"\",\"\",IF(AND(BP76=\"\",BW76=\"\"),\"\",IF($C75=\"TOTAL\",SUM($AE$8:AE74),BP76))),\"\")","v":""},{"$f":"IFERROR(IF(C75=\"\",\"\",IF($C75=\"TOTAL\",SUM($AF$8:AF74),ROUND(R75*$AU$7%,0))),\"\")","v":""},"",{"$f":"IFERROR(IF(C75=\"\",\"\",IF($C75=\"TOTAL\",SUM($AH$8:AH74),SUM(R75-AG75))),\"\")","v":""},{"$nulls":8},42,42,null,"2022-07-01","2022-07-01","2024-10-01","","","",{"$f":"IFERROR(IF(AY75=\"\",\"\",IF(DATE(YEAR(AY75),MONTH(AY75),DAY(AY75))=DATE(YEAR($AV$6),MONTH($AV$6)+1,DAY($AV$6)),\"TOTAL\",IF(AY75>$AV$6,\"\",AY75))),\"\")","v":""},"","","","",null,"","","","","",null,null,"","","","",0,0,{"$nulls":4},"",null,"",{"$f":"IF(AZ76=\"\",\"\",IF(AZ76=\"TOTAL\",\"\",IF($AU$16=$AU$17,0,IF(AND(AZ76>$BY$1,$AI$3=$AR$2,'Master Sheet'!$D$27>0),'Master Sheet'!$D$27,IF(AND(AZ76=$BY$1),IF($AU$9<18001,135,IF($AU$9<33501,220,IF($AU$9<54001,330,440))),IF(AND(AZ76>$BY$1),IF($AU$9<18001,265,IF($AU$9<33501,440,IF($AU$9<54001,658,875))),\"\"))))))","v":""}]
[{"$f":"IF(C76=\"TOTAL\",\"\",IF(B75=\"\",\"\",IF(LEN(C76)>=2,B75+1,0)))","v":""},"","",{"$f":"IFERROR(IF($C75=\"TOTAL\",\"अक्षरें राशि :-\",IF($C76=\"TOTAL\",SUM($D$8:D75),IF(BA77=\"\",\"\",BA77))),\"\")","v":""},{"$f":"IFERROR(IF($C76=\"TOTAL\",SUM($E$8:E75),IF(BC77=\"\",\"\",BC77)),\"\")","v":""},{"$f":"IFERROR(IF($C76=\"TOTAL\",SUM($F$8:F75),IF(BD77=\"\",\"\",BD77)),\"\")","v":""},{"$f":"IFERROR(IF($C76=\"TOTAL\",SUM($G$8:G75),IF(BB77=\"\",\"\",BB77)),\"\")","v":""},"",{"$f":"IFERROR(IF($C76=\"TOTAL\",SUM($I$8:I75),IF(BF77=\"\",\"\",BF77)),\"\")","v":""},{"$f":"IFERROR(IF($C76=\"TOTAL\",SUM($J$8:J75),IF(BH77=\"\",\"\",BH77)),\"\")","v":""},{"$f":"IFERROR(IF($C76=\"TOTAL\",SUM($K$8:K75),IF(BI77=\"\",\"\",BI77)),\"\")","v":""},{"$f":"IFERROR(IF($C76=\"TOTAL\",SUM($L$8:L75),IF(BG77=\"\",\"\",BG77)),\"\")","v":""},"",{"$f":"IFERROR(IF(C76=\"\",\"\",IF(D76=\"\",\"\",IF(I76=\"\",\"\",IF($C76=\"TOTAL\",SUM($N$8:N75),SUM(D76-I76))))),\"\")","v":""},{"$f":"IFERROR(IF(C76=\"\",\"\",IF(E76=\"\",\"\",IF(J76=\"\",\"\",IF($C76=\"TOTAL\",SUM($O$8:O75),SUM(E76-J76))))),\"\")","v":""},{"$f":"IFERROR(IF(C76=\"\",\"\",IF(F76=\"\",\"\",IF(K76=\"\",\"\",IF($C76=\"TOTAL\",SUM($P$8:P75),SUM(F76-K76))))),\"\")","v":""},"","",{"$f":"IFERROR(IF(C76=\"\",\"\",IF($C76=\"TOTAL\",SUM($S$8:S75),IF(AND(C76>$AR$1,$AI$3=$AR$2),BW77,IF($AU$18=$AU$20,SUM(BJ77+BR77),ROUND((D76+E76)*10%,0))))),\"\")","v":""},{"$f":"IFERROR(IF(C76=\"\",\"\",IF(I76=\"\",\"\",IF(J76=\"\",\"\",IF($C76=\"TOTAL\",SUM($T$8:T75),IF(AND(C76>$AR$1,$AI$3=$AR$2),BW77,IF($AU$18=$AU$20,$AU$21,ROUND((I76+J76)*10%,0))))))),\"\")","v":""},"",{"$f":"IFERROR(IF(C76=\"\",\"\",IF($AU$16=$AU$17,0,IF($C76=\"TOTAL\",SUM($V$8:V75),IF($AU$19=$AU$20,$AU$25,0)))),\"\")","v":""},{"$f":"IFERROR(IF(C76=\"\",\"\",IF($AU$16=$AU$17,0,IF($C76=\"TOTAL\",SUM($W$8:W75),IF($AU$19=$AU$20,$AU$24,0)))),\"\")","v":""},"",{"$f":"IFERROR(IF(C76=\"\",\"\",IF($AU$16=$AU$17,0,IF($C76=\"TOTAL\",SUM($Y$8:Y75),BZ76))),\"\")","v":""},{"$f":"IFERROR(IF(C76=\"\",\"\",IF($AU$16=$AU$17,0,IF($C76=\"TOTAL\",SUM($Z$8:Z75),BY76))),\"\")","v":""},"",{"$f":"IFERROR(IF(C76=\"\",\"\",IF(D76=\"\",\"\",IF($C76=\"TOTAL\",SUM($AB$8:AB75),IF(C76=$AU$1,ROUND(D76*5/31,0.01),\"\")))),\"\")","v":""},{"$f":"IFERROR(IF(C76=\"\",\"\",IF(I76=\"\",\"\",IF($C76=\"TOTAL\",SUM($AC$8:AC75),IF(C76=$AU$1,ROUND(I76*5/31,0.01),\"\")))),\"\")","v":""},"",{"$f":"IFERROR(IF(C76=\"\",\"\",IF(AND(BP77=\"\",BW77=\"\"),\"\",IF($C76=\"TOTAL\",SUM($AE$8:AE75),BP77))),\"\")","v":""},{"$f":"IFERROR(IF(C76=\"\",\"\",IF($C76=\"TOTAL\",SUM($AF$8:AF75),ROUND(R76*$AU$7%,0))),\"\")","v":""},"",{"$f":"IFERROR(IF(C76=\"\",\"\",IF($C76=\"TOTAL\",SUM($AH$8:AH75),SUM(R76-AG76))),\"\")","v":""},{"$nulls":8},42,42,null,"2022-08-01","2022-08-01","2024-11-01","","","","",{"$f":"IFERROR(IF(AZ76=\"\",\"\",IF(AND($AU$20=$AU$28,$AU$30=AZ76),$AU$29,IF(OR(AZ76=$BD$2,AZ76=$BD$3,AZ76=$BD$4,AZ76=$BD$5,AZ76=$BD$6,AZ76=$BD$7,AZ76=$BE$2),MROUND(BA75*1.03,100),BA75))),\"\")","v":""},"","",{"$f":"IF(AZ76=\"\",\"\",IF(AZ76=\"TOTAL\",\"\",IF(AZ76>=$BC$7,ROUND(BA76*$BA$7%,0),ROUND(BA76*$AW$7%,0))))","v":""},null,{"$f":"IFERROR(IF(AZ76=\"\",\"\",IF(AZ76=\"TOTAL\",\"\",IF($AU$16=$AU$17,$AU$10,IF(OR(AZ76=$BD$2,AZ76=$BD$3,AZ76=$BD$4,AZ76=$BD$5,AZ76=$BD$6,AZ76=$BD$7,AZ76=$BE$2),MROUND(BF75*1.03,100),BF75)))),\"\")","v":""},"","",{"$f":"IF(AZ76=\"\",\"\",IF(AZ76=\"TOTAL\",\"\",IF(BF76=\"\",\"\",IF($AU$16=$AU$17,0,IF(AZ76>=$BC$7,ROUND(BF76*$BA$7%,0),ROUND(BF76*$AW$7%,0))))))","v":""},"",null,null,"","","","",0,0,{"$nulls":4},"",null,"",{"$f":"IF(AZ77=\"\",\"\",IF(AZ77=\"TOTAL\",\"\",IF($AU$16=$AU$17,0,IF(AND(AZ77>$BY$1,$AI$3=$AR$2,'Master Sheet'!$D$27>0),'Master Sheet'!$D$27,IF(AND(AZ77=$BY$1),IF($AU$9<18001,135,IF($AU$9<33501,220,IF($AU$9<54001,330,440))),IF(AND(AZ77>$BY$1),IF($AU$9<18001,265,IF($AU$9<33501,440,IF($AU$9<54001,658,875))),\"\"))))))","v":""}]
["","","",{"$f":"IFERROR(IF($C76=\"TOTAL\",\"अक्षरें राशि :-\",IF($C77=\"TOTAL\",SUM($D$8:D76),IF(BA78=\"\",\"\",BA78))),\"\")","v":""},{"$f":"IFERROR(IF($C77=\"TOTAL\",SUM($E$8:E76),IF(BC78=\"\",\"\",BC78)),\"\")","v":""},{"$f":"IFERROR(IF($C77=\"TOTAL\",SUM($F$8:F76),IF(BD78=\"\",\"\",BD78)),\"\")","v":""},{"$f":"IFERROR(IF($C77=\"TOTAL\",SUM($G$8:G76),IF(BB78=\"\",\"\",BB78)),\"\")","v":""},"",{"$f":"IFERROR(IF($C77=\"TOTAL\",SUM($I$8:I76),IF(BF78=\"\",\"\",BF78)),\"\")","v":""},{"$f":"IFERROR(IF($C77=\"TOTAL\",SUM($J$8:J76),IF(BH78=\"\",\"\",BH78)),\"\")","v":""},{"$f":"IFERROR(IF($C77=\"TOTAL\",SUM($K$8:K76),IF(BI78=\"\",\"\",BI78)),\"\")","v":""},{"$f":"IFERROR(IF($C77=\"TOTAL\",SUM($L$8:L76),IF(BG78=\"\",\"\",BG78)),\"\")","v":""},"",{"$f":"IFERROR(IF(C77=\"\",\"\",IF(D77=\"\",\"\",IF(I77=\"\",\"\",IF($C77=\"TOTAL\",SUM($N$8:N76),SUM(D77-I77))))),\"\")","v":""},{"$f":"IFERROR(IF(C77=\"\",\"\",IF(E77=\"\",\"\",IF(J77=\"\",\"\",IF($C77=\"TOTAL\",SUM($O$8:O76),SUM(E77-J77))))),\"\")","v":""},{"$f":"IFERROR(IF(C77=\"\",\"\",IF(F77=\"\",\"\",IF(K77=\"\",\"\",IF($C77=\"TOTAL\",SUM($P$8:P76),SUM(F77-K77))))),\"\")","v":""},"","",{"$f":"IFERROR(IF(C77=\"\",\"\",IF($C77=\"TOTAL\",SUM($S$8:S76),IF(AND(C77>$AR$1,$AI$3=$AR$2),BW78,IF($AU$18=$AU$20,SUM(BJ78+BR78),ROUND((D77+E77)*10%,0))))),\"\")","v":""},{"$f":"IFERROR(IF(C77=\"\",\"\",IF(I77=\"\",\"\",IF(J77=\"\",\"\",IF($C77=\"TOTAL\",SUM($T$8:T76),IF(AND(C77>$AR$1,$AI$3=$AR$2),BW78,IF($AU$18=$AU$20,$AU$21,ROUND((I77+J77)*10%,0))))))),\"\")","v":""},"",{"$f":"IFERROR(IF(C77=\"\",\"\",IF($AU$16=$AU$17,0,IF($C77=\"TOTAL\",SUM($V$8:V76),IF($AU$19=$AU$20,$AU$25,0)))),\"\")","v":""},{"$f":"IFERROR(IF(C77=\"\",\"\",IF($AU$16=$AU$17,0,IF($C77=\"TOTAL\",SUM($W$8:W76),IF($AU$19=$AU$20,$AU$24,0)))),\"\")","v":""},"",{"$f":"IFERROR(IF(C77=\"\",\"\",IF($AU$16=$AU$17,0,IF($C77=\"TOTAL\",SUM($Y$8:Y76),BZ77))),\"\")","v":""},{"$f":"IFERROR(IF(C77=\"\",\"\",IF($AU$16=$AU$17,0,IF($C77=\"TOTAL\",SUM($Z$8:Z76),BY77))),\"\")","v":""},"",{"$f":"IFERROR(IF(C77=\"\",\"\",IF(D77=\"\",\"\",IF($C77=\"TOTAL\",SUM($AB$8:AB76),IF(C77=$AU$1,ROUND(D77*5/31,0.01),\"\")))),\"\")","v":""},{"$f":"IFERROR(IF(C77=\"\",\"\",IF(I77=\"\",\"\",IF($C77=\"TOTAL\",SUM($AC$8:AC76),IF(C77=$AU$1,ROUND(I77*5/31,0.01),\"\")))),\"\")","v":""},"",{"$f":"IFERROR(IF(C77=\"\",\"\",IF(AND(BP78=\"\",BW78=\"\"),\"\",IF($C77=\"TOTAL\",SUM($AE$8:AE76),BP78))),\"\")","v":""},{"$f":"IFERROR(IF(C77=\"\",\"\",IF($C77=\"TOTAL\",SUM($AF$8:AF76),ROUND(R77*$AU$7%,0))),\"\")","v":""},"",{"$f":"IFERROR(IF(C77=\"\",\"\",IF($C77=\"TOTAL\",SUM($AH$8:AH76),SUM(R77-AG77))),\"\")","v":""},{"$nulls":8},42,42,null,"2022-09-01","2022-09-01","2024-12-01","","","","","","","","",null,"","","","","",null,null,"","","","",0,0,{"$nulls":4},"",null,"",{"$f":"IF(AZ78=\"\",\"\",IF(AZ78=\"TOTAL\",\"\",IF($AU$16=$AU$17,0,IF(AND(AZ78>$BY$1,$AI$3=$AR$2,'Master Sheet'!$D$27>0),'Master Sheet'!$D$27,IF(AND(AZ78=$BY$1),IF($AU$9<18001,135,IF($AU$9<33501,220,IF($AU$9<54001,330,440))),IF(AND(AZ78>$BY$1),IF($AU$9<18001,265,IF($AU$9<33501,440,IF($AU$9<54001,658,875))),\"\"))))))","v":""}]
["","","",{"$f":"IFERROR(IF($C77=\"TOTAL\",\"अक्षरें राशि :-\",IF($C78=\"TOTAL\",SUM($D$8:D77),IF(BA79=\"\",\"\",BA79))),\"\")","v":""},{"$f":"IFERROR(IF($C78=\"TOTAL\",SUM($E$8:E77),IF(BC79=\"\",\"\",BC79)),\"\")","v":""},{"$f":"IFERROR(IF($C78=\"TOTAL\",SUM($F$8:F77),IF(BD79=\"\",\"\",BD79)),\"\")","v":""},{"$f":"IFERROR(IF($C78=\"TOTAL\",SUM($G$8:G77),IF(BB79=\"\",\"\",BB79)),\"\")","v":""},"",{"$f":"IFERROR(IF($C78=\"TOTAL\",SUM($I$8:I77),IF(BF79=\"\",\"\",BF79)),\"\")","v":""},{"$f":"IFERROR(IF($C78=\"TOTAL\",SUM($J$8:J77),IF(BH79=\"\",\"\",BH79)),\"\")","v":""},{"$f":"IFERROR(IF($C78=\"TOTAL\",SUM($K$8:K77),IF(BI79=\"\",\"\",BI79)),\"\")","v":""},{"$f":"IFERROR(IF($C78=\"TOTAL\",SUM($L$8:L77),IF(BG79=\"\",\"\",BG79)),\"\")","v":""},"",{"$f":"IFERROR(IF(C78=\"\",\"\",IF(D78=\"\",\"\",IF(I78=\"\",\"\",IF($C78=\"TOTAL\",SUM($N$8:N77),SUM(D78-I78))))),\"\")","v":""},{"$f":"IFERROR(IF(C78=\"\",\"\",IF(E78=\"\",\"\",IF(J78=\"\",\"\",IF($C78=\"TOTAL\",SUM($O$8:O77),SUM(E78-J78))))),\"\")","v":""},{"$f":"IFERROR(IF(C78=\"\",\"\",IF(F78=\"\",\"\",IF(K78=\"\",\"\",IF($C78=\"TOTAL\",SUM($P$8:P77),SUM(F78-K78))))),\"\")","v":""},"","",{"$f":"IFERROR(IF(C78=\"\",\"\",IF($C78=\"TOTAL\",SUM($S$8:S77),IF(AND(C78>$AR$1,$AI$3=$AR$2),BW79,IF($AU$18=$AU$20,SUM(BJ79+BR79),ROUND((D78+E78)*10%,0))))),\"\")","v":""},{"$f":"IFERROR(IF(C78=\"\",\"\",IF(I78=\"\",\"\",IF(J78=\"\",\"\",IF($C78=\"TOTAL\",SUM($T$8:T77),IF(AND(C78>$AR$1,$AI$3=$AR$2),BW79,IF($AU$18=$AU$20,$AU$21,ROUND((I78+J78)*10%,0))))))),\"\")","v":""},"",{"$f":"IFERROR(IF(C78=\"\",\"\",IF($AU$16=$AU$17,0,IF($C78=\"TOTAL\",SUM($V$8:V77),IF($AU$19=$AU$20,$AU$25,0)))),\"\")","v":""},{"$f":"IFERROR(IF(C78=\"\",\"\",IF($AU$16=$AU$17,0,IF($C78=\"TOTAL\",SUM($W$8:W77),IF($AU$19=$AU$20,$AU$24,0)))),\"\")","v":""},"",{"$f":"IFERROR(IF(C78=\"\",\"\",IF($AU$16=$AU$17,0,IF($C78=\"TOTAL\",SUM($Y$8:Y77),BZ78))),\"\")","v":""},{"$f":"IFERROR(IF(C78=\"\",\"\",IF($AU$16=$AU$17,0,IF($C78=\"TOTAL\",SUM($Z$8:Z77),BY78))),\"\")","v":""},"",{"$f":"IFERROR(IF(C78=\"\",\"\",IF(D78=\"\",\"\",IF($C78=\"TOTAL\",SUM($AB$8:AB77),IF(C78=$AU$1,ROUND(D78*5/31,0.01),\"\")))),\"\")","v":""},{"$f":"IFERROR(IF(C78=\"\",\"\",IF(I78=\"\",\"\",IF($C78=\"TOTAL\",SUM($AC$8:AC77),IF(C78=$AU$1,ROUND(I78*5/31,0.01),\"\")))),\"\")","v":""},"",{"$f":"IFERROR(IF(C78=\"\",\"\",IF(AND(BP79=\"\",BW79=\"\"),\"\",IF($C78=\"TOTAL\",SUM($AE$8:AE77),BP79))),\"\")","v":""},{"$f":"IFERROR(IF(C78=\"\",\"\",IF($C78=\"TOTAL\",SUM($AF$8:AF77),ROUND(R78*$AU$7%,0))),\"\")","v":""},"",{"$f":"IFERROR(IF(C78=\"\",\"\",IF($C78=\"TOTAL\",SUM($AH$8:AH77),SUM(R78-AG78))),\"\")","v":""},{"$nulls":8},42,42,null,"2022-10-01","2022-10-01","2025-01-01","","","","","","","","",null,"","","","","",null,null,"","","","",0,0,{"$nulls":4},"",null,"",{"$f":"IF(AZ79=\"\",\"\",IF(AZ79=\"TOTAL\",\"\",IF($AU$16=$AU$17,0,IF(AND(AZ79>$BY$1,$AI$3=$AR$2,'Master Sheet'!$D$27>0),'Master Sheet'!$D$27,IF(AND(AZ79=$BY$1),IF($AU$9<18001,135,IF($AU$9<33501,220,IF($AU$9<54001,330,440))),IF(AND(AZ79>$BY$1),IF($AU$9<18001,265,IF($AU$9<33501,440,IF($AU$9<54001,658,875))),\"\"))))))","v":""}]
["","","",{"$f":"IFERROR(IF($C78=\"TOTAL\",\"अक्षरें राशि :-\",IF($C79=\"TOTAL\",SUM($D$8:D78),IF(BA80=\"\",\"\",BA80))),\"\")","v":""},{"$f":"IFERROR(IF($C79=\"TOTAL\",SUM($E$8:E78),IF(BC80=\"\",\"\",BC80)),\"\")","v":""},{"$f":"IFERROR(IF($C79=\"TOTAL\",SUM($F$8:F78),IF(BD80=\"\",\"\",BD80)),\"\")","v":""},{"$f":"IFERROR(IF($C79=\"TOTAL\",SUM($G$8:G78),IF(BB80=\"\",\"\",BB80)),\"\")","v":""},"",{"$f":"IFERROR(IF($C79=\"TOTAL\",SUM($I$8:I78),IF(BF80=\"\",\"\",BF80)),\"\")","v":""},{"$f":"IFERROR(IF($C79=\"TOTAL\",SUM($J$8:J78),IF(BH80=\"\",\"\",BH80)),\"\")","v":""},{"$f":"IFERROR(IF($C79=\"TOTAL\",SUM($K$8:K78),IF(BI80=\"\",\"\",BI80)),\"\")","v":""},{"$f":"IFERROR(IF($C79=\"TOTAL\",SUM($L$8:L78),IF(BG80=\"\",\"\",BG80)),\"\")","v":""},"",{"$f":"IFERROR(IF(C79=\"\",\"\",IF(D79=\"\",\"\",IF(I79=\"\",\"\",IF($C79=\"TOTAL\",SUM($N$8:N78),SUM(D79-I79))))),\"\")","v":""},{"$f":"IFERROR(IF(C79=\"\",\"\",IF(E79=\"\",\"\",IF(J79=\"\",\"\",IF($C79=\"TOTAL\",SUM($O$8:O78),SUM(E79-J79))))),\"\")","v":""},{"$f":"IFERROR(IF(C79=\"\",\"\",IF(F79=\"\",\"\",IF(K79=\"\",\"\",IF($C79=\"TOTAL\",SUM($P$8:P78),SUM(F79-K79))))),\"\")","v":""},"","",{"$f":"IFERROR(IF(C79=\"\",\"\",IF($C79=\"TOTAL\",SUM($S$8:S78),IF(AND(C79>$AR$1,$AI$3=$AR$2),BW80,IF($AU$18=$AU$20,SUM(BJ80+BR80),ROUND((D79+E79)*10%,0))))),\"\")","v":""},{"$f":"IFERROR(IF(C79=\"\",\"\",IF(I79=\"\",\"\",IF(J79=\"\",\"\",IF($C79=\"TOTAL\",SUM($T$8:T78),IF(AND(C79>$AR$1,$AI$3=$AR$2),BW80,IF($AU$18=$AU$20,$AU$21,ROUND((I79+J79)*10%,0))))))),\"\")","v":""},"",{"$f":"IFERROR(IF(C79=\"\",\"\",IF($AU$16=$AU$17,0,IF($C79=\"TOTAL\",SUM($V$8:V78),IF($AU$19=$AU$20,$AU$25,0)))),\"\")","v":""},{"$f":"IFERROR(IF(C79=\"\",\"\",IF($AU$16=$AU$17,0,IF($C79=\"TOTAL\",SUM($W$8:W78),IF($AU$19=$AU$20,$AU$24,0)))),\"\")","v":""},"",{"$f":"IFERROR(IF(C79=\"\",\"\",IF($AU$16=$AU$17,0,IF($C79=\"TOTAL\",SUM($Y$8:Y78),BZ79))),\"\")","v":""},{"$f":"IFERROR(IF(C79=\"\",\"\",IF($AU$16=$AU$17,0,IF($C79=\"TOTAL\",SUM($Z$8:Z78),BY79))),\"\")","v":""},"",{"$f":"IFERROR(IF(C79=\"\",\"\",IF(D79=\"\",\"\",IF($C79=\"TOTAL\",SUM($AB$8:AB78),IF(C79=$AU$1,ROUND(D79*5/31,0.01),\"\")))),\"\")","v":""},{"$f":"IFERROR(IF(C79=\"\",\"\",IF(I79=\"\",\"\",IF($C79=\"TOTAL\",SUM($AC$8:AC78),IF(C79=$AU$1,ROUND(I79*5/31,0.01),\"\")))),\"\")","v":""},"",{"$f":"IFERROR(IF(C79=\"\",\"\",IF(AND(BP80=\"\",BW80=\"\"),\"\",IF($C79=\"TOTAL\",SUM($AE$8:AE78),BP80))),\"\")","v":""},{"$f":"IFERROR(IF(C79=\"\",\"\",IF($C79=\"TOTAL\",SUM($AF$8:AF78),ROUND(R79*$AU$7%,0))),\"\")","v":""},"",{"$f":"IFERROR(IF(C79=\"\",\"\",IF($C79=\"TOTAL\",SUM($AH$8:AH78),SUM(R79-AG79))),\"\")","v":""},{"$nulls":8},42,42,null,"2022-11-01","2022-11-01","2025-02-01","","","","","","","","",null,"","","","","",null,null,"","","","",0,0,{"$nulls":4},"",null,"",{"$f":"IF(AZ80=\"\",\"\",IF(AZ80=\"TOTAL\",\"\",IF($AU$16=$AU$17,0,IF(AND(AZ80>$BY$1,$AI$3=$AR$2,'Master Sheet'!$D$27>0),'Master Sheet'!$D$27,IF(AND(AZ80=$BY$1),IF($AU$9<18001,135,IF($AU$9<33501,220,IF($AU$9<54001,330,440))),IF(AND(AZ80>$BY$1),IF($AU$9<18001,265,IF($AU$9<33501,440,IF($AU$9<54001,658,875))),\"\"))))))","v":""}]
["","","",{"$f":"IFERROR(IF($C79=\"TOTAL\",\"अक्षरें राशि :-\",IF($C80=\"TOTAL\",SUM($D$8:D79),IF(BA81=\"\",\"\",BA81))),\"\")","v":""},{"$f":"IFERROR(IF($C80=\"TOTAL\",SUM($E$8:E79),IF(BC81=\"\",\"\",BC81)),\"\")","v":""},{"$f":"IFERROR(IF($C80=\"TOTAL\",SUM($F$8:F79),IF(BD81=\"\",\"\",BD81)),\"\")","v":""},{"$f":"IFERROR(IF($C80=\"TOTAL\",SUM($G$8:G79),IF(BB81=\"\",\"\",BB81)),\"\")","v":""},"",{"$f":"IFERROR(IF($C80=\"TOTAL\",SUM($I$8:I79),IF(BF81=\"\",\"\",BF81)),\"\")","v":""},{"$f":"IFERROR(IF($C80=\"TOTAL\",SUM($J$8:J79),IF(BH81=\"\",\"\",BH81)),\"\")","v":""},{"$f":"IFERROR(IF($C80=\"TOTAL\",SUM($K$8:K79),IF(BI81=\"\",\"\",BI81)),\"\")","v":""},{"$f":"IFERROR(IF($C80=\"TOTAL\",SUM($L$8:L79),IF(BG81=\"\",\"\",BG81)),\"\")","v":""},"",{"$f":"IFERROR(IF(C80=\"\",\"\",IF(D80=\"\",\"\",IF(I80=\"\",\"\",IF($C80=\"TOTAL\",SUM($N$8:N79),SUM(D80-I80))))),\"\")","v":""},{"$f":"IFERROR(IF(C80=\"\",\"\",IF(E80=\"\",\"\",IF(J80=\"\",\"\",IF($C80=\"TOTAL\",SUM($O$8:O79),SUM(E80-J80))))),\"\")","v":""},{"$f":"IFERROR(IF(C80=\"\",\"\",IF(F80=\"\",\"\",IF(K80=\"\",\"\",IF($C80=\"TOTAL\",SUM($P$8:P79),SUM(F80-K80))))),\"\")","v":""},"","",{"$f":"IFERROR(IF(C80=\"\",\"\",IF($C80=\"TOTAL\",SUM($S$8:S79),IF(AND(C80>$AR$1,$AI$3=$AR$2),BW81,IF($AU$18=$AU$20,SUM(BJ81+BR81),ROUND((D80+E80)*10%,0))))),\"\")","v":""},{"$f":"IFERROR(IF(C80=\"\",\"\",IF(I80=\"\",\"\",IF(J80=\"\",\"\",IF($C80=\"TOTAL\",SUM($T$8:T79),IF(AND(C80>$AR$1,$AI$3=$AR$2),BW81,IF($AU$18=$AU$20,$AU$21,ROUND((I80+J80)*10%,0))))))),\"\")","v":""},"",{"$f":"IFERROR(IF(C80=\"\",\"\",IF($AU$16=$AU$17,0,IF($C80=\"TOTAL\",SUM($V$8:V79),IF($AU$19=$AU$20,$AU$25,0)))),\"\")","v":""},{"$f":"IFERROR(IF(C80=\"\",\"\",IF($AU$16=$AU$17,0,IF($C80=\"TOTAL\",SUM($W$8:W79),IF($AU$19=$AU$20,$AU$24,0)))),\"\")","v":""},"",{"$f":"IFERROR(IF(C80=\"\",\"\",IF($AU$16=$AU$17,0,IF($C80=\"TOTAL\",SUM($Y$8:Y79),BZ80))),\"\")","v":""},{"$f":"IFERROR(IF(C80=\"\",\"\",IF($AU$16=$AU$17,0,IF($C80=\"TOTAL\",SUM($Z$8:Z79),BY80))),\"\")","v":""},"",{"$f":"IFERROR(IF(C80=\"\",\"\",IF(D80=\"\",\"\",IF($C80=\"TOTAL\",SUM($AB$8:AB79),IF(C80=$AU$1,ROUND(D80*5/31,0.01),\"\")))),\"\")","v":""},{"$f":"IFERROR(IF(C80=\"\",\"\",IF(I80=\"\",\"\",IF($C80=\"TOTAL\",SUM($AC$8:AC79),IF(C80=$AU$1,ROUND(I80*5/31,0.01),\"\")))),\"\")","v":""},"",{"$f":"IFERROR(IF(C80=\"\",\"\",IF(AND(BP81=\"\",BW81=\"\"),\"\",IF($C80=\"TOTAL\",SUM($AE$8:AE79),BP81))),\"\")","v":""},{"$f":"IFERROR(IF(C80=\"\",\"\",IF($C80=\"TOTAL\",SUM($AF$8:AF79),ROUND(R80*$AU$7%,0))),\"\")","v":""},"",{"$f":"IFERROR(IF(C80=\"\",\"\",IF($C80=\"TOTAL\",SUM($AH$8:AH79),SUM(R80-AG80))),\"\")","v":""},{"$nulls":8},42,42,null,"2022-12-01","2022-12-01",{"$f":"IF(AND($AU$6>$AV$6),\"\",DATE(YEAR(AV79),MONTH(AV79)+1,DAY(AV79)))","v":"2025-03-01"},"","","","","","","","",null,"","","","","",null,null,"","","","",0,0,{"$nulls":4},"",null,"",{"$f":"IF(AZ81=\"\",\"\",IF(AZ81=\"TOTAL\",\"\",IF($AU$16=$AU$17,0,IF(AND(AZ81>$BY$1,$AI$3=$AR$2,'Master Sheet'!$D$27>0),'Master Sheet'!$D$27,IF(AND(AZ81=$BY$1),IF($AU$9<18001,135,IF($AU$9<33501,220,IF($AU$9<54001,330,440))),IF(AND(AZ81>$BY$1),IF($AU$9<18001,265,IF($AU$9<33501,440,IF($AU$9<54001,658,875))),\"\"))))))","v":""}]
["","",{"$f":"IFERROR(IF(AZ82=\"\",\"\",AZ82),\"\")","v":""},{"$f":"IFERROR(IF($C80=\"TOTAL\",\"अक्षरें राशि :-\",IF($C81=\"TOTAL\",SUM($D$8:D80),IF(BA82=\"\",\"\",BA82))),\"\")","v":""},{"$f":"IFERROR(IF($C81=\"TOTAL\",SUM($E$8:E80),IF(BC82=\"\",\"\",BC82)),\"\")","v":""},{"$f":"IFERROR(IF($C81=\"TOTAL\",SUM($F$8:F80),IF(BD82=\"\",\"\",BD82)),\"\")","v":""},{"$f":"IFERROR(IF($C81=\"TOTAL\",SUM($G$8:G80),IF(BB82=\"\",\"\",BB82)),\"\")","v":""},"",{"$f":"IFERROR(IF($C81=\"TOTAL\",SUM($I$8:I80),IF(BF82=\"\",\"\",BF82)),\"\")","v":""},{"$f":"IFERROR(IF($C81=\"TOTAL\",SUM($J$8:J80),IF(BH82=\"\",\"\",BH82)),\"\")","v":""},{"$f":"IFERROR(IF($C81=\"TOTAL\",SUM($K$8:K80),IF(BI82=\"\",\"\",BI82)),\"\")","v":""},{"$f":"IFERROR(IF($C81=\"TOTAL\",SUM($L$8:L80),IF(BG82=\"\",\"\",BG82)),\"\")","v":""},"",{"$f":"IFERROR(IF(C81=\"\",\"\",IF(D81=\"\",\"\",IF(I81=\"\",\"\",IF($C81=\"TOTAL\",SUM($N$8:N80),SUM(D81-I81))))),\"\")","v":""},{"$f":"IFERROR(IF(C81=\"\",\"\",IF(E81=\"\",\"\",IF(J81=\"\",\"\",IF($C81=\"TOTAL\",SUM($O$8:O80),SUM(E81-J81))))),\"\")","v":""},{"$f":"IFERROR(IF(C81=\"\",\"\",IF(F81=\"\",\"\",IF(K81=\"\",\"\",IF($C81=\"TOTAL\",SUM($P$8:P80),SUM(F81-K81))))),\"\")","v":""},"",{"$f":"IFERROR(IF(C81=\"\",\"\",IF(H81=\"\",\"\",IF(M81=\"\",\"\",SUM(H81-M81)))),\"\")","v":""},{"$f":"IFERROR(IF(C81=\"\",\"\",IF($C81=\"TOTAL\",SUM($S$8:S80),IF(AND(C81>$AR$1,$AI$3=$AR$2),BW82,IF($AU$18=$AU$20,SUM(BJ82+BR82),ROUND((D81+E81)*10%,0))))),\"\")","v":""},{"$f":"IFERROR(IF(C81=\"\",\"\",IF(I81=\"\",\"\",IF(J81=\"\",\"\",IF($C81=\"TOTAL\",SUM($T$8:T80),IF(AND(C81>$AR$1,$AI$3=$AR$2),BW82,IF($AU$18=$AU$20,$AU$21,ROUND((I81+J81)*10%,0))))))),\"\")","v":""},{"$f":"IFERROR(IF(C81=\"\",\"\",SUM(S81-T81)),\"\")","v":""},{"$f":"IFERROR(IF(C81=\"\",\"\",IF($AU$16=$AU$17,0,IF($C81=\"TOTAL\",SUM($V$8:V80),IF($AU$19=$AU$20,$AU$25,0)))),\"\")","v":""},{"$f":"IFERROR(IF(C81=\"\",\"\",IF($AU$16=$AU$17,0,IF($C81=\"TOTAL\",SUM($W$8:W80),IF($AU$19=$AU$20,$AU$24,0)))),\"\")","v":""},{"$f":"IFERROR(IF(C81=\"\",\"\",SUM(V81-W81)),\"\")","v":""},{"$f":"IFERROR(IF(C81=\"\",\"\",IF($AU$16=$AU$17,0,IF($C81=\"TOTAL\",SUM($Y$8:Y80),BZ81))),\"\")","v":""},{"$f":"IFERROR(IF(C81=\"\",\"\",IF($AU$16=$AU$17,0,IF($C81=\"TOTAL\",SUM($Z$8:Z80),BY81))),\"\")","v":""},"",{"$f":"IFERROR(IF(C81=\"\",\"\",IF(D81=\"\",\"\",IF($C81=\"TOTAL\",SUM($AB$8:AB80),IF(C81=$AU$1,ROUND(D81*5/31,0.01),\"\")))),\"\")","v":""},{"$f":"IFERROR(IF(C81=\"\",\"\",IF(I81=\"\",\"\",IF($C81=\"TOTAL\",SUM($AC$8:AC80),IF(C81=$AU$1,ROUND(I81*5/31,0.01),\"\")))),\"\")","v":""},"",{"$f":"IFERROR(IF(C81=\"\",\"\",IF(AND(BP82=\"\",BW82=\"\"),\"\",IF($C81=\"TOTAL\",SUM($AE$8:AE80),BP82))),\"\")","v":""},{"$f":"IFERROR(IF(C81=\"\",\"\",IF($C81=\"TOTAL\",SUM($AF$8:AF80),ROUND(R81*$AU$7%,0))),\"\")","v":""},"",{"$f":"IFERROR(IF(C81=\"\",\"\",IF($C81=\"TOTAL\",SUM($AH$8:AH80),SUM(R81-AG81))),\"\")","v":""},{"$nulls":8},42,42,null,"2023-01-01","2023-01-01","2025-04-01","","","","","","","","",null,"","","","","",null,null,"","","","",0,0,{"$nulls":4},"",null,"",{"$f":"IF(AZ82=\"\",\"\",IF(AZ82=\"TOTAL\",\"\",IF($AU$16=$AU$17,0,IF(AND(AZ82>$BY$1,$AI$3=$AR$2,'Master Sheet'!$D$27>0),'Master Sheet'!$D$27,IF(AND(AZ82=$BY$1),IF($AU$9<18001,135,IF($AU$9<33501,220,IF($AU$9<54001,330,440))),IF(AND(AZ82>$BY$1),IF($AU$9<18001,265,IF($AU$9<33501,440,IF($AU$9<54001,658,875))),\"\"))))))","v":""}]
["","","",{"$f":"IFERROR(IF($C81=\"TOTAL\",\"अक्षरें राशि :-\",IF($C82=\"TOTAL\",SUM($D$8:D81),IF(BA83=\"\",\"\",BA83))),\"\")","v":""},{"$f":"IFERROR(IF($C82=\"TOTAL\",SUM($E$8:E81),IF(BC83=\"\",\"\",BC83)),\"\")","v":""},{"$f":"IFERROR(IF($C82=\"TOTAL\",SUM($F$8:F81),IF(BD83=\"\",\"\",BD83)),\"\")","v":""},{"$f":"IFERROR(IF($C82=\"TOTAL\",SUM($G$8:G81),IF(BB83=\"\",\"\",BB83)),\"\")","v":""},"",{"$f":"IFERROR(IF($C82=\"TOTAL\",SUM($I$8:I81),IF(BF83=\"\",\"\",BF83)),\"\")","v":""},{"$f":"IFERROR(IF($C82=\"TOTAL\",SUM($J$8:J81),IF(BH83=\"\",\"\",BH83)),\"\")","v":""},{"$f":"IFERROR(IF($C82=\"TOTAL\",SUM($K$8:K81),IF(BI83=\"\",\"\",BI83)),\"\")","v":""},{"$f":"IFERROR(IF($C82=\"TOTAL\",SUM($L$8:L81),IF(BG83=\"\",\"\",BG83)),\"\")","v":""},"",{"$f":"IFERROR(IF(C82=\"\",\"\",IF(D82=\"\",\"\",IF(I82=\"\",\"\",IF($C82=\"TOTAL\",SUM($N$8:N81),SUM(D82-I82))))),\"\")","v":""},{"$f":"IFERROR(IF(C82=\"\",\"\",IF(E82=\"\",\"\",IF(J82=\"\",\"\",IF($C82=\"TOTAL\",SUM($O$8:O81),SUM(E82-J82))))),\"\")","v":""},{"$f":"IFERROR(IF(C82=\"\",\"\",IF(F82=\"\",\"\",IF(K82=\"\",\"\",IF($C82=\"TOTAL\",SUM($P$8:P81),SUM(F82-K82))))),\"\")","v":""},"","",{"$f":"IFERROR(IF(C82=\"\",\"\",IF($C82=\"TOTAL\",SUM($S$8:S81),IF(AND(C82>$AR$1,$AI$3=$AR$2),BW83,IF($AU$18=$AU$20,SUM(BJ83+BR83),ROUND((D82+E82)*10%,0))))),\"\")","v":""},{"$f":"IFERROR(IF(C82=\"\",\"\",IF(I82=\"\",\"\",IF(J82=\"\",\"\",IF($C82=\"TOTAL\",SUM($T$8:T81),IF(AND(C82>$AR$1,$AI$3=$AR$2),BW83,IF($AU$18=$AU$20,$AU$21,ROUND((I82+J82)*10%,0))))))),\"\")","v":""},"",{"$f":"IFERROR(IF(C82=\"\",\"\",IF($AU$16=$AU$17,0,IF($C82=\"TOTAL\",SUM($V$8:V81),IF($AU$19=$AU$20,$AU$25,0)))),\"\")","v":""},{"$f":"IFERROR(IF(C82=\"\",\"\",IF($AU$16=$AU$17,0,IF($C82=\"TOTAL\",SUM($W$8:W81),IF($AU$19=$AU$20,$AU$24,0)))),\"\")","v":""},"",{"$f":"IFERROR(IF(C82=\"\",\"\",IF($AU$16=$AU$17,0,IF($C82=\"TOTAL\",SUM($Y$8:Y81),BZ82))),\"\")","v":""},{"$f":"IFERROR(IF(C82=\"\",\"\",IF($AU$16=$AU$17,0,IF($C82=\"TOTAL\",SUM($Z$8:Z81),BY82))),\"\")","v":""},"",{"$f":"IFERROR(IF(C82=\"\",\"\",IF(D82=\"\",\"\",IF($C82=\"TOTAL\",SUM($AB$8:AB81),IF(C82=$AU$1,ROUND(D82*5/31,0.01),\"\")))),\"\")","v":""},{"$f":"IFERROR(IF(C82=\"\",\"\",IF(I82=\"\",\"\",IF($C82=\"TOTAL\",SUM($AC$8:AC81),IF(C82=$AU$1,ROUND(I82*5/31,0.01),\"\")))),\"\")","v":""},"",{"$f":"IFERROR(IF(C82=\"\",\"\",IF(AND(BP83=\"\",BW83=\"\"),\"\",IF($C82=\"TOTAL\",SUM($AE$8:AE81),BP83))),\"\")","v":""},{"$f":"IFERROR(IF(C82=\"\",\"\",IF($C82=\"TOTAL\",SUM($AF$8:AF81),ROUND(R82*$AU$7%,0))),\"\")","v":""},"",{"$f":"IFERROR(IF(C82=\"\",\"\",IF($C82=\"TOTAL\",SUM($AH$8:AH81),SUM(R82-AG82))),\"\")","v":""},{"$nulls":8},42,42,null,"2023-02-01","2023-02-01","2025-05-01",null,"","","","","","","",null,"","","","","",null,null,"","","","",0,0,{"$nulls":4},"",null,"",{"$f":"IF(AZ83=\"\",\"\",IF(AZ83=\"TOTAL\",\"\",IF($AU$16=$AU$17,0,IF(AND(AZ83>$BY$1,$AI$3=$AR$2,'Master Sheet'!$D$27>0),'Master Sheet'!$D$27,IF(AND(AZ83=$BY$1),IF($AU$9<18001,135,IF($AU$9<33501,220,IF($AU$9<54001,330,440))),IF(AND(AZ83>$BY$1),IF($AU$9<18001,265,IF($AU$9<33501,440,IF($AU$9<54001,658,875))),\"\"))))))","v":""}]
["","","",{"$f":"IFERROR(IF($C82=\"TOTAL\",\"अक्षरें राशि :-\",IF($C83=\"TOTAL\",SUM($D$8:D82),IF(BA84=\"\",\"\",BA84))),\"\")","v":""},{"$f":"IFERROR(IF($C83=\"TOTAL\",SUM($E$8:E82),IF(BC84=\"\",\"\",BC84)),\"\")","v":""},{"$f":"IFERROR(IF($C83=\"TOTAL\",SUM($F$8:F82),IF(BD84=\"\",\"\",BD84)),\"\")","v":""},{"$f":"IFERROR(IF($C83=\"TOTAL\",SUM($G$8:G82),IF(BB84=\"\",\"\",BB84)),\"\")","v":""},"",{"$f":"IFERROR(IF($C83=\"TOTAL\",SUM($I$8:I82),IF(BF84=\"\",\"\",BF84)),\"\")","v":""},{"$f":"IFERROR(IF($C83=\"TOTAL\",SUM($J$8:J82),IF(BH84=\"\",\"\",BH84)),\"\")","v":""},{"$f":"IFERROR(IF($C83=\"TOTAL\",SUM($K$8:K82),IF(BI84=\"\",\"\",BI84)),\"\")","v":""},{"$f":"IFERROR(IF($C83=\"TOTAL\",SUM($L$8:L82),IF(BG84=\"\",\"\",BG84)),\"\")","v":""},"",{"$f":"IFERROR(IF(C83=\"\",\"\",IF(D83=\"\",\"\",IF(I83=\"\",\"\",IF($C83=\"TOTAL\",SUM($N$8:N82),SUM(D83-I83))))),\"\")","v":""},{"$f":"IFERROR(IF(C83=\"\",\"\",IF(E83=\"\",\"\",IF(J83=\"\",\"\",IF($C83=\"TOTAL\",SUM($O$8:O82),SUM(E83-J83))))),\"\")","v":""},{"$f":"IFERROR(IF(C83=\"\",\"\",IF(F83=\"\",\"\",IF(K83=\"\",\"\",IF($C83=\"TOTAL\",SUM($P$8:P82),SUM(F83-K83))))),\"\")","v":""},"","",{"$f":"IFERROR(IF(C83=\"\",\"\",IF($C83=\"TOTAL\",SUM($S$8:S82),IF(AND(C83>$AR$1,$AI$3=$AR$2),BW84,IF($AU$18=$AU$20,SUM(BJ84+BR84),ROUND((D83+E83)*10%,0))))),\"\")","v":""},{"$f":"IFERROR(IF(C83=\"\",\"\",IF(I83=\"\",\"\",IF(J83=\"\",\"\",IF($C83=\"TOTAL\",SUM($T$8:T82),IF(AND(C83>$AR$1,$AI$3=$AR$2),BW84,IF($AU$18=$AU$20,$AU$21,ROUND((I83+J83)*10%,0))))))),\"\")","v":""},"",{"$f":"IFERROR(IF(C83=\"\",\"\",IF($AU$16=$AU$17,0,IF($C83=\"TOTAL\",SUM($V$8:V82),IF($AU$19=$AU$20,$AU$25,0)))),\"\")","v":""},{"$f":"IFERROR(IF(C83=\"\",\"\",IF($AU$16=$AU$17,0,IF($C83=\"TOTAL\",SUM($W$8:W82),IF($AU$19=$AU$20,$AU$24,0)))),\"\")","v":""},"",{"$f":"IFERROR(IF(C83=\"\",\"\",IF($AU$16=$AU$17,0,IF($C83=\"TOTAL\",SUM($Y$8:Y82),BZ83))),\"\")","v":""},{"$f":"IFERROR(IF(C83=\"\",\"\",IF($AU$16=$AU$17,0,IF($C83=\"TOTAL\",SUM($Z$8:Z82),BY83))),\"\")","v":""},"",{"$f":"IFERROR(IF(C83=\"\",\"\",IF(D83=\"\",\"\",IF($C83=\"TOTAL\",SUM($AB$8:AB82),IF(C83=$AU$1,ROUND(D83*5/31,0.01),\"\")))),\"\")","v":""},{"$f":"IFERROR(IF(C83=\"\",\"\",IF(I83=\"\",\"\",IF($C83=\"TOTAL\",SUM($AC$8:AC82),IF(C83=$AU$1,ROUND(I83*5/31,0.01),\"\")))),\"\")","v":""},"",{"$f":"IFERROR(IF(C83=\"\",\"\",IF(AND(BP84=\"\",BW84=\"\"),\"\",IF($C83=\"TOTAL\",SUM($AE$8:AE82),BP84))),\"\")","v":""},{"$f":"IFERROR(IF(C83=\"\",\"\",IF($C83=\"TOTAL\",SUM($AF$8:AF82),ROUND(R83*$AU$7%,0))),\"\")","v":""},"",{"$f":"IFERROR(IF(C83=\"\",\"\",IF($C83=\"TOTAL\",SUM($AH$8:AH82),SUM(R83-AG83))),\"\")","v":""},{"$nulls":8},42,42,null,"2023-03-01","2023-03-01","2025-06-01",null,"","","","","","","",null,"","","","","",null,null,"","","","",0,0,{"$nulls":4},"",null,"",{"$f":"IF(AZ84=\"\",\"\",IF(AZ84=\"TOTAL\",\"\",IF($AU$16=$AU$17,0,IF(AND(AZ84>$BY$1,$AI$3=$AR$2,'Master Sheet'!$D$27>0),'Master Sheet'!$D$27,IF(AND(AZ84=$BY$1),IF($AU$9<18001,135,IF($AU$9<33501,220,IF($AU$9<54001,330,440))),IF(AND(AZ84>$BY$1),IF($AU$9<18001,265,IF($AU$9<33501,440,IF($AU$9<54001,658,875))),\"\"))))))","v":""}]
[{"$f":"IF(C84=\"TOTAL\",\"\",IF(B83=\"\",\"\",IF(LEN(C84)>=2,B83+1,0)))","v":""},"","",{"$f":"IFERROR(IF($C83=\"TOTAL\",\"अक्षरें राशि :-\",IF($C84=\"TOTAL\",SUM($D$8:D83),IF(BA85=\"\",\"\",BA85))),\"\")","v":""},{"$f":"IFERROR(IF($C84=\"TOTAL\",SUM($E$8:E83),IF(BC85=\"\",\"\",BC85)),\"\")","v":""},{"$f":"IFERROR(IF($C84=\"TOTAL\",SUM($F$8:F83),IF(BD85=\"\",\"\",BD85)),\"\")","v":""},{"$f":"IFERROR(IF($C84=\"TOTAL\",SUM($G$8:G83),IF(BB85=\"\",\"\",BB85)),\"\")","v":""},"",{"$f":"IFERROR(IF($C84=\"TOTAL\",SUM($I$8:I83),IF(BF85=\"\",\"\",BF85)),\"\")","v":""},{"$f":"IFERROR(IF($C84=\"TOTAL\",SUM($J$8:J83),IF(BH85=\"\",\"\",BH85)),\"\")","v":""},{"$f":"IFERROR(IF($C84=\"TOTAL\",SUM($K$8:K83),IF(BI85=\"\",\"\",BI85)),\"\")","v":""},{"$f":"IFERROR(IF($C84=\"TOTAL\",SUM($L$8:L83),IF(BG85=\"\",\"\",BG85)),\"\")","v":""},"",{"$f":"IFERROR(IF(C84=\"\",\"\",IF(D84=\"\",\"\",IF(I84=\"\",\"\",IF($C84=\"TOTAL\",SUM($N$8:N83),SUM(D84-I84))))),\"\")","v":""},{"$f":"IFERROR(IF(C84=\"\",\"\",IF(E84=\"\",\"\",IF(J84=\"\",\"\",IF($C84=\"TOTAL\",SUM($O$8:O83),SUM(E84-J84))))),\"\")","v":""},{"$f":"IFERROR(IF(C84=\"\",\"\",IF(F84=\"\",\"\",IF(K84=\"\",\"\",IF($C84=\"TOTAL\",SUM($P$8:P83),SUM(F84-K84))))),\"\")","v":""},"","",{"$f":"IFERROR(IF(C84=\"\",\"\",IF($C84=\"TOTAL\",SUM($S$8:S83),IF(AND(C84>$AR$1,$AI$3=$AR$2),BW85,IF($AU$18=$AU$20,SUM(BJ85+BR85),ROUND((D84+E84)*10%,0))))),\"\")","v":""},{"$f":"IFERROR(IF(C84=\"\",\"\",IF(I84=\"\",\"\",IF(J84=\"\",\"\",IF($C84=\"TOTAL\",SUM($T$8:T83),IF(AND(C84>$AR$1,$AI$3=$AR$2),BW85,IF($AU$18=$AU$20,$AU$21,ROUND((I84+J84)*10%,0))))))),\"\")","v":""},"",{"$f":"IFERROR(IF(C84=\"\",\"\",IF($AU$16=$AU$17,0,IF($C84=\"TOTAL\",SUM($V$8:V83),IF($AU$19=$AU$20,$AU$25,0)))),\"\")","v":""},{"$f":"IFERROR(IF(C84=\"\",\"\",IF($AU$16=$AU$17,0,IF($C84=\"TOTAL\",SUM($W$8:W83),IF($AU$19=$AU$20,$AU$24,0)))),\"\")","v":""},"",{"$f":"IFERROR(IF(C84=\"\",\"\",IF($AU$16=$AU$17,0,IF($C84=\"TOTAL\",SUM($Y$8:Y83),BZ84))),\"\")","v":""},{"$f":"IFERROR(IF(C84=\"\",\"\",IF($AU$16=$AU$17,0,IF($C84=\"TOTAL\",SUM($Z$8:Z83),BY84))),\"\")","v":""},"",{"$f":"IFERROR(IF(C84=\"\",\"\",IF(D84=\"\",\"\",IF($C84=\"TOTAL\",SUM($AB$8:AB83),IF(C84=$AU$1,ROUND(D84*5/31,0.01),\"\")))),\"\")","v":""},{"$f":"IFERROR(IF(C84=\"\",\"\",IF(I84=\"\",\"\",IF($C84=\"TOTAL\",SUM($AC$8:AC83),IF(C84=$AU$1,ROUND(I84*5/31,0.01),\"\")))),\"\")","v":""},"",{"$f":"IFERROR(IF(C84=\"\",\"\",IF(AND(BP85=\"\",BW85=\"\"),\"\",IF($C84=\"TOTAL\",SUM($AE$8:AE83),BP85))),\"\")","v":""},{"$f":"IFERROR(IF(C84=\"\",\"\",IF($C84=\"TOTAL\",SUM($AF$8:AF83),ROUND(R84*$AU$7%,0))),\"\")","v":""},"",{"$f":"IFERROR(IF(C84=\"\",\"\",IF($C84=\"TOTAL\",SUM($AH$8:AH83),SUM(R84-AG84))),\"\")","v":""},{"$nulls":8},42,42,null,"2023-04-01","2023-04-01",{"$f":"IF(AND($AU$6>$AV$6),\"\",DATE(YEAR(AV83),MONTH(AV83)+1,DAY(AV83)))","v":"2025-07-01"},null,"","",{"$f":"IFERROR(IF(AY84=\"\",\"\",IF(DATE(YEAR(AY84),MONTH(AY84),DAY(AY84))=DATE(YEAR($AV$6),MONTH($AV$6)+1,DAY($AV$6)),\"TOTAL\",IF(AY84>$AV$6,\"\",AY84))),\"\")","v":""},"","","","",null,"","","","","",null,null,"","","","",0,0,{"$nulls":4},"",null,"",{"$f":"IF(AZ85=\"\",\"\",IF(AZ85=\"TOTAL\",\"\",IF($AU$16=$AU$17,0,IF(AND(AZ85>$BY$1,$AI$3=$AR$2,'Master Sheet'!$D$27>0),'Master Sheet'!$D$27,IF(AND(AZ85=$BY$1),IF($AU$9<18001,135,IF($AU$9<33501,220,IF($AU$9<54001,330,440))),IF(AND(AZ85>$BY$1),IF($AU$9<18001,265,IF($AU$9<33501,440,IF($AU$9<54001,658,875))),\"\"))))))","v":""}]
["","","",{"$f":"IFERROR(IF($C84=\"TOTAL\",\"अक्षरें राशि :-\",IF($C85=\"TOTAL\",SUM($D$8:D84),IF(BA86=\"\",\"\",BA86))),\"\")","v":""},{"$f":"IFERROR(IF($C85=\"TOTAL\",SUM($E$8:E84),IF(BC86=\"\",\"\",BC86)),\"\")","v":""},{"$f":"IFERROR(IF($C85=\"TOTAL\",SUM($F$8:F84),IF(BD86=\"\",\"\",BD86)),\"\")","v":""},{"$f":"IFERROR(IF($C85=\"TOTAL\",SUM($G$8:G84),IF(BB86=\"\",\"\",BB86)),\"\")","v":""},"",{"$f":"IFERROR(IF($C85=\"TOTAL\",SUM($I$8:I84),IF(BF86=\"\",\"\",BF86)),\"\")","v":""},{"$f":"IFERROR(IF($C85=\"TOTAL\",SUM($J$8:J84),IF(BH86=\"\",\"\",BH86)),\"\")","v":""},{"$f":"IFERROR(IF($C85=\"TOTAL\",SUM($K$8:K84),IF(BI86=\"\",\"\",BI86)),\"\")","v":""},{"$f":"IFERROR(IF($C85=\"TOTAL\",SUM($L$8:L84),IF(BG86=\"\",\"\",BG86)),\"\")","v":""},"",{"$f":"IFERROR(IF(C85=\"\",\"\",IF(D85=\"\",\"\",IF(I85=\"\",\"\",IF($C85=\"TOTAL\",SUM($N$8:N84),SUM(D85-I85))))),\"\")","v":""},{"$f":"IFERROR(IF(C85=\"\",\"\",IF(E85=\"\",\"\",IF(J85=\"\",\"\",IF($C85=\"TOTAL\",SUM($O$8:O84),SUM(E85-J85))))),\"\")","v":""},{"$f":"IFERROR(IF(C85=\"\",\"\",IF(F85=\"\",\"\",IF(K85=\"\",\"\",IF($C85=\"TOTAL\",SUM($P$8:P84),SUM(F85-K85))))),\"\")","v":""},"","",{"$f":"IFERROR(IF(C85=\"\",\"\",IF($C85=\"TOTAL\",SUM($S$8:S84),IF(AND(C85>$AR$1,$AI$3=$AR$2),BW86,IF($AU$18=$AU$20,SUM(BJ86+BR86),ROUND((D85+E85)*10%,0))))),\"\")","v":""},{"$f":"IFERROR(IF(C85=\"\",\"\",IF(I85=\"\",\"\",IF(J85=\"\",\"\",IF($C85=\"TOTAL\",SUM($T$8:T84),IF(AND(C85>$AR$1,$AI$3=$AR$2),BW86,IF($AU$18=$AU$20,$AU$21,ROUND((I85+J85)*10%,0))))))),\"\")","v":""},"",{"$f":"IFERROR(IF(C85=\"\",\"\",IF($AU$16=$AU$17,0,IF($C85=\"TOTAL\",SUM($V$8:V84),IF($AU$19=$AU$20,$AU$25,0)))),\"\")","v":""},{"$f":"IFERROR(IF(C85=\"\",\"\",IF($AU$16=$AU$17,0,IF($C85=\"TOTAL\",SUM($W$8:W84),IF($AU$19=$AU$20,$AU$24,0)))),\"\")","v":""},"",{"$f":"IFERROR(IF(C85=\"\",\"\",IF($AU$16=$AU$17,0,IF($C85=\"TOTAL\",SUM($Y$8:Y84),BZ85))),\"\")","v":""},{"$f":"IFERROR(IF(C85=\"\",\"\",IF($AU$16=$AU$17,0,IF($C85=\"TOTAL\",SUM($Z$8:Z84),BY85))),\"\")","v":""},"",{"$f":"IFERROR(IF(C85=\"\",\"\",IF(D85=\"\",\"\",IF($C85=\"TOTAL\",SUM($AB$8:AB84),IF(C85=$AU$1,ROUND(D85*5/31,0.01),\"\")))),\"\")","v":""},{"$f":"IFERROR(IF(C85=\"\",\"\",IF(I85=\"\",\"\",IF($C85=\"TOTAL\",SUM($AC$8:AC84),IF(C85=$AU$1,ROUND(I85*5/31,0.01),\"\")))),\"\")","v":""},"",{"$f":"IFERROR(IF(C85=\"\",\"\",IF(AND(BP86=\"\",BW86=\"\"),\"\",IF($C85=\"TOTAL\",SUM($AE$8:AE84),BP86))),\"\")","v":""},{"$f":"IFERROR(IF(C85=\"\",\"\",IF($C85=\"TOTAL\",SUM($AF$8:AF84),ROUND(R85*$AU$7%,0))),\"\")","v":""},"",{"$f":"IFERROR(IF(C85=\"\",\"\",IF($C85=\"TOTAL\",SUM($AH$8:AH84),SUM(R85-AG85))),\"\")","v":""},{"$nulls":8},42,42,null,"2023-05-01","2023-05-01","2025-08-01",null,"","",{"$f":"IFERROR(IF(AY85=\"\",\"\",IF(DATE(YEAR(AY85),MONTH(AY85),DAY(AY85))=DATE(YEAR($AV$6),MONTH($AV$6)+1,DAY($AV$6)),\"TOTAL\",IF(AY85>$AV$6,\"\",AY85))),\"\")","v":""},"","","","",null,"","","","","",null,null,"","","","",0,0,{"$nulls":4},"",null,"",{"$f":"IF(AZ86=\"\",\"\",IF(AZ86=\"TOTAL\",\"\",IF($AU$16=$AU$17,0,IF(AND(AZ86>$BY$1,$AI$3=$AR$2,'Master Sheet'!$D$27>0),'Master Sheet'!$D$27,IF(AND(AZ86=$BY$1),IF($AU$9<18001,135,IF($AU$9<33501,220,IF($AU$9<54001,330,440))),IF(AND(AZ86>$BY$1),IF($AU$9<18001,265,IF($AU$9<33501,440,IF($AU$9<54001,658,875))),\"\"))))))","v":""}]
["","","",{"$f":"IFERROR(IF($C85=\"TOTAL\",\"अक्षरें राशि :-\",IF($C86=\"TOTAL\",SUM($D$8:D85),IF(BA87=\"\",\"\",BA87))),\"\")","v":""},{"$f":"IFERROR(IF($C86=\"TOTAL\",SUM($E$8:E85),IF(BC87=\"\",\"\",BC87)),\"\")","v":""},{"$f":"IFERROR(IF($C86=\"TOTAL\",SUM($F$8:F85),IF(BD87=\"\",\"\",BD87)),\"\")","v":""},{"$f":"IFERROR(IF($C86=\"TOTAL\",SUM($G$8:G85),IF(BB87=\"\",\"\",BB87)),\"\")","v":""},"",{"$f":"IFERROR(IF($C86=\"TOTAL\",SUM($I$8:I85),IF(BF87=\"\",\"\",BF87)),\"\")","v":""},{"$f":"IFERROR(IF($C86=\"TOTAL\",SUM($J$8:J85),IF(BH87=\"\",\"\",BH87)),\"\")","v":""},{"$f":"IFERROR(IF($C86=\"TOTAL\",SUM($K$8:K85),IF(BI87=\"\",\"\",BI87)),\"\")","v":""},{"$f":"IFERROR(IF($C86=\"TOTAL\",SUM($L$8:L85),IF(BG87=\"\",\"\",BG87)),\"\")","v":""},"",{"$f":"IFERROR(IF(C86=\"\",\"\",IF(D86=\"\",\"\",IF(I86=\"\",\"\",IF($C86=\"TOTAL\",SUM($N$8:N85),SUM(D86-I86))))),\"\")","v":""},{"$f":"IFERROR(IF(C86=\"\",\"\",IF(E86=\"\",\"\",IF(J86=\"\",\"\",IF($C86=\"TOTAL\",SUM($O$8:O85),SUM(E86-J86))))),\"\")","v":""},{"$f":"IFERROR(IF(C86=\"\",\"\",IF(F86=\"\",\"\",IF(K86=\"\",\"\",IF($C86=\"TOTAL\",SUM($P$8:P85),SUM(F86-K86))))),\"\")","v":""},"","",{"$f":"IFERROR(IF(C86=\"\",\"\",IF($C86=\"TOTAL\",SUM($S$8:S85),IF(AND(C86>$AR$1,$AI$3=$AR$2),BW87,IF($AU$18=$AU$20,SUM(BJ87+BR87),ROUND((D86+E86)*10%,0))))),\"\")","v":""},{"$f":"IFERROR(IF(C86=\"\",\"\",IF(I86=\"\",\"\",IF(J86=\"\",\"\",IF($C86=\"TOTAL\",SUM($T$8:T85),IF(AND(C86>$AR$1,$AI$3=$AR$2),BW87,IF($AU$18=$AU$20,$AU$21,ROUND((I86+J86)*10%,0))))))),\"\")","v":""},"",{"$f":"IFERROR(IF(C86=\"\",\"\",IF($AU$16=$AU$17,0,IF($C86=\"TOTAL\",SUM($V$8:V85),IF($AU$19=$AU$20,$AU$25,0)))),\"\")","v":""},{"$f":"IFERROR(IF(C86=\"\",\"\",IF($AU$16=$AU$17,0,IF($C86=\"TOTAL\",SUM($W$8:W85),IF($AU$19=$AU$20,$AU$24,0)))),\"\")","v":""},"",{"$f":"IFERROR(IF(C86=\"\",\"\",IF($AU$16=$AU$17,0,IF($C86=\"TOTAL\",SUM($Y$8:Y85),BZ86))),\"\")","v":""},{"$f":"IFERROR(IF(C86=\"\",\"\",IF($AU$16=$AU$17,0,IF($C86=\"TOTAL\",SUM($Z$8:Z85),BY86))),\"\")","v":""},"",{"$f":"IFERROR(IF(C86=\"\",\"\",IF(D86=\"\",\"\",IF($C86=\"TOTAL\",SUM($AB$8:AB85),IF(C86=$AU$1,ROUND(D86*5/31,0.01),\"\")))),\"\")","v":""},{"$f":"IFERROR(IF(C86=\"\",\"\",IF(I86=\"\",\"\",IF($C86=\"TOTAL\",SUM($AC$8:AC85),IF(C86=$AU$1,ROUND(I86*5/31,0.01),\"\")))),\"\")","v":""},"",{"$f":"IFERROR(IF(C86=\"\",\"\",IF(AND(BP87=\"\",BW87=\"\"),\"\",IF($C86=\"TOTAL\",SUM($AE$8:AE85),BP87))),\"\")","v":""},{"$f":"IFERROR(IF(C86=\"\",\"\",IF($C86=\"TOTAL\",SUM($AF$8:AF85),ROUND(R86*$AU$7%,0))),\"\")","v":""},"",{"$f":"IFERROR(IF(C86=\"\",\"\",IF($C86=\"TOTAL\",SUM($AH$8:AH85),SUM(R86-AG86))),\"\")","v":""},{"$nulls":8},42,42,null,"2023-06-01","2023-06-01","2025-09-01",null,"","","","","","","",null,"","","","","",null,null,"","","","",0,0,{"$nulls":4},"",null,"",{"$f":"IF(AZ87=\"\",\"\",IF(AZ87=\"TOTAL\",\"\",IF($AU$16=$AU$17,0,IF(AND(AZ87>$BY$1,$AI$3=$AR$2,'Master Sheet'!$D$27>0),'Master Sheet'!$D$27,IF(AND(AZ87=$BY$1),IF($AU$9<18001,135,IF($AU$9<33501,220,IF($AU$9<54001,330,440))),IF(AND(AZ87>$BY$1),IF($AU$9<18001,265,IF($AU$9<33501,440,IF($AU$9<54001,658,875))),\"\"))))))","v":""}]
["","","",{"$f":"IFERROR(IF($C86=\"TOTAL\",\"अक्षरें राशि :-\",IF($C87=\"TOTAL\",SUM($D$8:D86),IF(BA88=\"\",\"\",BA88))),\"\")","v":""},{"$f":"IFERROR(IF($C87=\"TOTAL\",SUM($E$8:E86),IF(BC88=\"\",\"\",BC88)),\"\")","v":""},{"$f":"IFERROR(IF($C87=\"TOTAL\",SUM($F$8:F86),IF(BD88=\"\",\"\",BD88)),\"\")","v":""},{"$f":"IFERROR(IF($C87=\"TOTAL\",SUM($G$8:G86),IF(BB88=\"\",\"\",BB88)),\"\")","v":""},"",{"$f":"IFERROR(IF($C87=\"TOTAL\",SUM($I$8:I86),IF(BF88=\"\",\"\",BF88)),\"\")","v":""},{"$f":"IFERROR(IF($C87=\"TOTAL\",SUM($J$8:J86),IF(BH88=\"\",\"\",BH88)),\"\")","v":""},{"$f":"IFERROR(IF($C87=\"TOTAL\",SUM($K$8:K86),IF(BI88=\"\",\"\",BI88)),\"\")","v":""},{"$f":"IFERROR(IF($C87=\"TOTAL\",SUM($L$8:L86),IF(BG88=\"\",\"\",BG88)),\"\")","v":""},"",{"$f":"IFERROR(IF(C87=\"\",\"\",IF(D87=\"\",\"\",IF(I87=\"\",\"\",IF($C87=\"TOTAL\",SUM($N$8:N86),SUM(D87-I87))))),\"\")","v":""},{"$f":"IFERROR(IF(C87=\"\",\"\",IF(E87=\"\",\"\",IF(J87=\"\",\"\",IF($C87=\"TOTAL\",SUM($O$8:O86),SUM(E87-J87))))),\"\")","v":""},{"$f":"IFERROR(IF(C87=\"\",\"\",IF(F87=\"\",\"\",IF(K87=\"\",\"\",IF($C87=\"TOTAL\",SUM($P$8:P86),SUM(F87-K87))))),\"\")","v":""},"","",{"$f":"IFERROR(IF(C87=\"\",\"\",IF($C87=\"TOTAL\",SUM($S$8:S86),IF(AND(C87>$AR$1,$AI$3=$AR$2),BW88,IF($AU$18=$AU$20,SUM(BJ88+BR88),ROUND((D87+E87)*10%,0))))),\"\")","v":""},{"$f":"IFERROR(IF(C87=\"\",\"\",IF(I87=\"\",\"\",IF(J87=\"\",\"\",IF($C87=\"TOTAL\",SUM($T$8:T86),IF(AND(C87>$AR$1,$AI$3=$AR$2),BW88,IF($AU$18=$AU$20,$AU$21,ROUND((I87+J87)*10%,0))))))),\"\")","v":""},"",{"$f":"IFERROR(IF(C87=\"\",\"\",IF($AU$16=$AU$17,0,IF($C87=\"TOTAL\",SUM($V$8:V86),IF($AU$19=$AU$20,$AU$25,0)))),\"\")","v":""},{"$f":"IFERROR(IF(C87=\"\",\"\",IF($AU$16=$AU$17,0,IF($C87=\"TOTAL\",SUM($W$8:W86),IF($AU$19=$AU$20,$AU$24,0)))),\"\")","v":""},"",{"$f":"IFERROR(IF(C87=\"\",\"\",IF($AU$16=$AU$17,0,IF($C87=\"TOTAL\",SUM($Y$8:Y86),BZ87))),\"\")","v":""},{"$f":"IFERROR(IF(C87=\"\",\"\",IF($AU$16=$AU$17,0,IF($C87=\"TOTAL\",SUM($Z$8:Z86),BY87))),\"\")","v":""},"",{"$f":"IFERROR(IF(C87=\"\",\"\",IF(D87=\"\",\"\",IF($C87=\"TOTAL\",SUM($AB$8:AB86),IF(C87=$AU$1,ROUND(D87*5/31,0.01),\"\")))),\"\")","v":""},{"$f":"IFERROR(IF(C87=\"\",\"\",IF(I87=\"\",\"\",IF($C87=\"TOTAL\",SUM($AC$8:AC86),IF(C87=$AU$1,ROUND(I87*5/31,0.01),\"\")))),\"\")","v":""},"",{"$f":"IFERROR(IF(C87=\"\",\"\",IF(AND(BP88=\"\",BW88=\"\"),\"\",IF($C87=\"TOTAL\",SUM($AE$8:AE86),BP88))),\"\")","v":""},{"$f":"IFERROR(IF(C87=\"\",\"\",IF($C87=\"TOTAL\",SUM($AF$8:AF86),ROUND(R87*$AU$7%,0))),\"\")","v":""},"",{"$f":"IFERROR(IF(C87=\"\",\"\",IF($C87=\"TOTAL\",SUM($AH$8:AH86),SUM(R87-AG87))),\"\")","v":""},{"$nulls":8},42,42,null,"2023-07-01","2023-07-01",{"$f":"IF(AND($AU$6>$AV$6),\"\",DATE(YEAR(AV86),MONTH(AV86)+1,DAY(AV86)))","v":"2025-10-01"},null,"","","","","","","",null,"","","","","",null,null,"","","","",0,0,{"$nulls":4},"",null,"",{"$f":"IF(AZ88=\"\",\"\",IF(AZ88=\"TOTAL\",\"\",IF($AU$16=$AU$17,0,IF(AND(AZ88>$BY$1,$AI$3=$AR$2,'Master Sheet'!$D$27>0),'Master Sheet'!$D$27,IF(AND(AZ88=$BY$1),IF($AU$9<18001,135,IF($AU$9<33501,220,IF($AU$9<54001,330,440))),IF(AND(AZ88>$BY$1),IF($AU$9<18001,265,IF($AU$9<33501,440,IF($AU$9<54001,658,875))),\"\"))))))","v":""}]
["",{"$f":"IFERROR(IF(A88=\"\",\"\",IF(A88=0,\"\",A88)),\"\")","v":""},{"$f":"IFERROR(IF(AZ89=\"\",\"\",AZ89),\"\")","v":""},{"$f":"IFERROR(IF($C87=\"TOTAL\",\"अक्षरें राशि :-\",IF($C88=\"TOTAL\",SUM($D$8:D87),IF(BA89=\"\",\"\",BA89))),\"\")","v":""},{"$f":"IFERROR(IF($C88=\"TOTAL\",SUM($E$8:E87),IF(BC89=\"\",\"\",BC89)),\"\")","v":""},{"$f":"IFERROR(IF($C88=\"TOTAL\",SUM($F$8:F87),IF(BD89=\"\",\"\",BD89)),\"\")","v":""},{"$f":"IFERROR(IF($C88=\"TOTAL\",SUM($G$8:G87),IF(BB89=\"\",\"\",BB89)),\"\")","v":""},"",{"$f":"IFERROR(IF($C88=\"TOTAL\",SUM($I$8:I87),IF(BF89=\"\",\"\",BF89)),\"\")","v":""},{"$f":"IFERROR(IF($C88=\"TOTAL\",SUM($J$8:J87),IF(BH89=\"\",\"\",BH89)),\"\")","v":""},{"$f":"IFERROR(IF($C88=\"TOTAL\",SUM($K$8:K87),IF(BI89=\"\",\"\",BI89)),\"\")","v":""},{"$f":"IFERROR(IF($C88=\"TOTAL\",SUM($L$8:L87),IF(BG89=\"\",\"\",BG89)),\"\")","v":""},"",{"$f":"IFERROR(IF(C88=\"\",\"\",IF(D88=\"\",\"\",IF(I88=\"\",\"\",IF($C88=\"TOTAL\",SUM($N$8:N87),SUM(D88-I88))))),\"\")","v":""},{"$f":"IFERROR(IF(C88=\"\",\"\",IF(E88=\"\",\"\",IF(J88=\"\",\"\",IF($C88=\"TOTAL\",SUM($O$8:O87),SUM(E88-J88))))),\"\")","v":""},{"$f":"IFERROR(IF(C88=\"\",\"\",IF(F88=\"\",\"\",IF(K88=\"\",\"\",IF($C88=\"TOTAL\",SUM($P$8:P87),SUM(F88-K88))))),\"\")","v":""},"","",{"$f":"IFERROR(IF(C88=\"\",\"\",IF($C88=\"TOTAL\",SUM($S$8:S87),IF(AND(C88>$AR$1,$AI$3=$AR$2),BW89,IF($AU$18=$AU$20,SUM(BJ89+BR89),ROUND((D88+E88)*10%,0))))),\"\")","v":""},{"$f":"IFERROR(IF(C88=\"\",\"\",IF(I88=\"\",\"\",IF(J88=\"\",\"\",IF($C88=\"TOTAL\",SUM($T$8:T87),IF(AND(C88>$AR$1,$AI$3=$AR$2),BW89,IF($AU$18=$AU$20,$AU$21,ROUND((I88+J88)*10%,0))))))),\"\")","v":""},"",{"$f":"IFERROR(IF(C88=\"\",\"\",IF($AU$16=$AU$17,0,IF($C88=\"TOTAL\",SUM($V$8:V87),IF($AU$19=$AU$20,$AU$25,0)))),\"\")","v":""},{"$f":"IFERROR(IF(C88=\"\",\"\",IF($AU$16=$AU$17,0,IF($C88=\"TOTAL\",SUM($W$8:W87),IF($AU$19=$AU$20,$AU$24,0)))),\"\")","v":""},"",{"$f":"IFERROR(IF(C88=\"\",\"\",IF($AU$16=$AU$17,0,IF($C88=\"TOTAL\",SUM($Y$8:Y87),BZ88))),\"\")","v":""},{"$f":"IFERROR(IF(C88=\"\",\"\",IF($AU$16=$AU$17,0,IF($C88=\"TOTAL\",SUM($Z$8:Z87),BY88))),\"\")","v":""},"",{"$f":"IFERROR(IF(C88=\"\",\"\",IF(D88=\"\",\"\",IF($C88=\"TOTAL\",SUM($AB$8:AB87),IF(C88=$AU$1,ROUND(D88*5/31,0.01),\"\")))),\"\")","v":""},{"$f":"IFERROR(IF(C88=\"\",\"\",IF(I88=\"\",\"\",IF($C88=\"TOTAL\",SUM($AC$8:AC87),IF(C88=$AU$1,ROUND(I88*5/31,0.01),\"\")))),\"\")","v":""},"",{"$f":"IFERROR(IF(C88=\"\",\"\",IF(AND(BP89=\"\",BW89=\"\"),\"\",IF($C88=\"TOTAL\",SUM($AE$8:AE87),BP89))),\"\")","v":""},{"$f":"IFERROR(IF(C88=\"\",\"\",IF($C88=\"TOTAL\",SUM($AF$8:AF87),ROUND(R88*$AU$7%,0))),\"\")","v":""},"",{"$f":"IFERROR(IF(C88=\"\",\"\",IF($C88=\"TOTAL\",SUM($AH$8:AH87),SUM(R88-AG88))),\"\")","v":""},{"$nulls":8},42,42,null,"2023-08-01","2023-08-01",{"$f":"IF(AND($AU$6>$AV$6),\"\",DATE(YEAR(AV87),MONTH(AV87)+1,DAY(AV87)))","v":"2025-11-01"},null,"","","","","","","",null,"","","","","",null,null,"","","","",0,0,{"$nulls":4},"",null,"",{"$f":"IF(AZ89=\"\",\"\",IF(AZ89=\"TOTAL\",\"\",IF($AU$16=$AU$17,0,IF(AND(AZ89>$BY$1,$AI$3=$AR$2,'Master Sheet'!$D$27>0),'Master Sheet'!$D$27,IF(AND(AZ89=$BY$1),IF($AU$9<18001,135,IF($AU$9<33501,220,IF($AU$9<54001,330,440))),IF(AND(AZ89>$BY$1),IF($AU$9<18001,265,IF($AU$9<33501,440,IF($AU$9<54001,658,875))),\"\"))))))","v":""}]
["","","",{"$f":"IFERROR(IF($C88=\"TOTAL\",\"अक्षरें राशि :-\",IF($C89=\"TOTAL\",SUM($D$8:D88),IF(BA90=\"\",\"\",BA90))),\"\")","v":""},{"$f":"IFERROR(IF($C89=\"TOTAL\",SUM($E$8:E88),IF(BC90=\"\",\"\",BC90)),\"\")","v":""},{"$f":"IFERROR(IF($C89=\"TOTAL\",SUM($F$8:F88),IF(BD90=\"\",\"\",BD90)),\"\")","v":""},{"$f":"IFERROR(IF($C89=\"TOTAL\",SUM($G$8:G88),IF(BB90=\"\",\"\",BB90)),\"\")","v":""},"",{"$f":"IFERROR(IF($C89=\"TOTAL\",SUM($I$8:I88),IF(BF90=\"\",\"\",BF90)),\"\")","v":""},{"$f":"IFERROR(IF($C89=\"TOTAL\",SUM($J$8:J88),IF(BH90=\"\",\"\",BH90)),\"\")","v":""},{"$f":"IFERROR(IF($C89=\"TOTAL\",SUM($K$8:K88),IF(BI90=\"\",\"\",BI90)),\"\")","v":""},{"$f":"IFERROR(IF($C89=\"TOTAL\",SUM($L$8:L88),IF(BG90=\"\",\"\",BG90)),\"\")","v":""},"",{"$f":"IFERROR(IF(C89=\"\",\"\",IF(D89=\"\",\"\",IF(I89=\"\",\"\",IF($C89=\"TOTAL\",SUM($N$8:N88),SUM(D89-I89))))),\"\")","v":""},{"$f":"IFERROR(IF(C89=\"\",\"\",IF(E89=\"\",\"\",IF(J89=\"\",\"\",IF($C89=\"TOTAL\",SUM($O$8:O88),SUM(E89-J89))))),\"\")","v":""},{"$f":"IFERROR(IF(C89=\"\",\"\",IF(F89=\"\",\"\",IF(K89=\"\",\"\",IF($C89=\"TOTAL\",SUM($P$8:P88),SUM(F89-K89))))),\"\")","v":""},"","",{"$f":"IFERROR(IF(C89=\"\",\"\",IF($C89=\"TOTAL\",SUM($S$8:S88),IF(AND(C89>$AR$1,$AI$3=$AR$2),BW90,IF($AU$18=$AU$20,SUM(BJ90+BR90),ROUND((D89+E89)*10%,0))))),\"\")","v":""},{"$f":"IFERROR(IF(C89=\"\",\"\",IF(I89=\"\",\"\",IF(J89=\"\",\"\",IF($C89=\"TOTAL\",SUM($T$8:T88),IF(AND(C89>$AR$1,$AI$3=$AR$2),BW90,IF($AU$18=$AU$20,$AU$21,ROUND((I89+J89)*10%,0))))))),\"\")","v":""},"",{"$f":"IFERROR(IF(C89=\"\",\"\",IF($AU$16=$AU$17,0,IF($C89=\"TOTAL\",SUM($V$8:V88),IF($AU$19=$AU$20,$AU$25,0)))),\"\")","v":""},{"$f":"IFERROR(IF(C89=\"\",\"\",IF($AU$16=$AU$17,0,IF($C89=\"TOTAL\",SUM($W$8:W88),IF($AU$19=$AU$20,$AU$24,0)))),\"\")","v":""},"",{"$f":"IFERROR(IF(C89=\"\",\"\",IF($AU$16=$AU$17,0,IF($C89=\"TOTAL\",SUM($Y$8:Y88),BZ89))),\"\")","v":""},{"$f":"IFERROR(IF(C89=\"\",\"\",IF($AU$16=$AU$17,0,IF($C89=\"TOTAL\",SUM($Z$8:Z88),BY89))),\"\")","v":""},"",{"$f":"IFERROR(IF(C89=\"\",\"\",IF(D89=\"\",\"\",IF($C89=\"TOTAL\",SUM($AB$8:AB88),IF(C89=$AU$1,ROUND(D89*5/31,0.01),\"\")))),\"\")","v":""},{"$f":"IFERROR(IF(C89=\"\",\"\",IF(I89=\"\",\"\",IF($C89=\"TOTAL\",SUM($AC$8:AC88),IF(C89=$AU$1,ROUND(I89*5/31,0.01),\"\")))),\"\")","v":""},"",{"$f":"IFERROR(IF(C89=\"\",\"\",IF(AND(BP90=\"\",BW90=\"\"),\"\",IF($C89=\"TOTAL\",SUM($AE$8:AE88),BP90))),\"\")","v":""},{"$f":"IFERROR(IF(C89=\"\",\"\",IF($C89=\"TOTAL\",SUM($AF$8:AF88),ROUND(R89*$AU$7%,0))),\"\")","v":""},"",{"$f":"IFERROR(IF(C89=\"\",\"\",IF($C89=\"TOTAL\",SUM($AH$8:AH88),SUM(R89-AG89))),\"\")","v":""},{"$nulls":8},42,42,null,"2023-09-01","2023-09-01","2025-12-01",null,"","","","","","","",null,"","","","","",null,null,"","","","",0,0,{"$nulls":4},"",null,"",{"$f":"IF(AZ90=\"\",\"\",IF(AZ90=\"TOTAL\",\"\",IF($AU$16=$AU$17,0,IF(AND(AZ90>$BY$1,$AI$3=$AR$2,'Master Sheet'!$D$27>0),'Master Sheet'!$D$27,IF(AND(AZ90=$BY$1),IF($AU$9<18001,135,IF($AU$9<33501,220,IF($AU$9<54001,330,440))),IF(AND(AZ90>$BY$1),IF($AU$9<18001,265,IF($AU$9<33501,440,IF($AU$9<54001,658,875))),\"\"))))))","v":""}]
["",{"$f":"IFERROR(IF(A90=\"\",\"\",IF(A90=0,\"\",A90)),\"\")","v":""},"",{"$f":"IFERROR(IF($C89=\"TOTAL\",\"अक्षरें राशि :-\",IF($C90=\"TOTAL\",SUM($D$8:D89),IF(BA91=\"\",\"\",BA91))),\"\")","v":""},{"$f":"IFERROR(IF($C90=\"TOTAL\",SUM($E$8:E89),IF(BC91=\"\",\"\",BC91)),\"\")","v":""},{"$f":"IFERROR(IF($C90=\"TOTAL\",SUM($F$8:F89),IF(BD91=\"\",\"\",BD91)),\"\")","v":""},{"$f":"IFERROR(IF($C90=\"TOTAL\",SUM($G$8:G89),IF(BB91=\"\",\"\",BB91)),\"\")","v":""},"",{"$f":"IFERROR(IF($C90=\"TOTAL\",SUM($I$8:I89),IF(BF91=\"\",\"\",BF91)),\"\")","v":""},{"$f":"IFERROR(IF($C90=\"TOTAL\",SUM($J$8:J89),IF(BH91=\"\",\"\",BH91)),\"\")","v":""},{"$f":"IFERROR(IF($C90=\"TOTAL\",SUM($K$8:K89),IF(BI91=\"\",\"\",BI91)),\"\")","v":""},{"$f":"IFERROR(IF($C90=\"TOTAL\",SUM($L$8:L89),IF(BG91=\"\",\"\",BG91)),\"\")","v":""},"",{"$f":"IFERROR(IF(C90=\"\",\"\",IF(D90=\"\",\"\",IF(I90=\"\",\"\",IF($C90=\"TOTAL\",SUM($N$8:N89),SUM(D90-I90))))),\"\")","v":""},{"$f":"IFERROR(IF(C90=\"\",\"\",IF(E90=\"\",\"\",IF(J90=\"\",\"\",IF($C90=\"TOTAL\",SUM($O$8:O89),SUM(E90-J90))))),\"\")","v":""},{"$f":"IFERROR(IF(C90=\"\",\"\",IF(F90=\"\",\"\",IF(K90=\"\",\"\",IF($C90=\"TOTAL\",SUM($P$8:P89),SUM(F90-K90))))),\"\")","v":""},"","",{"$f":"IFERROR(IF(C90=\"\",\"\",IF($C90=\"TOTAL\",SUM($S$8:S89),IF(AND(C90>$AR$1,$AI$3=$AR$2),BW91,IF($AU$18=$AU$20,SUM(BJ91+BR91),ROUND((D90+E90)*10%,0))))),\"\")","v":""},{"$f":"IFERROR(IF(C90=\"\",\"\",IF(I90=\"\",\"\",IF(J90=\"\",\"\",IF($C90=\"TOTAL\",SUM($T$8:T89),IF(AND(C90>$AR$1,$AI$3=$AR$2),BW91,IF($AU$18=$AU$20,$AU$21,ROUND((I90+J90)*10%,0))))))),\"\")","v":""},"",{"$f":"IFERROR(IF(C90=\"\",\"\",IF($AU$16=$AU$17,0,IF($C90=\"TOTAL\",SUM($V$8:V89),IF($AU$19=$AU$20,$AU$25,0)))),\"\")","v":""},{"$f":"IFERROR(IF(C90=\"\",\"\",IF($AU$16=$AU$17,0,IF($C90=\"TOTAL\",SUM($W$8:W89),IF($AU$19=$AU$20,$AU$24,0)))),\"\")","v":""},"",{"$f":"IFERROR(IF(C90=\"\",\"\",IF($AU$16=$AU$17,0,IF($C90=\"TOTAL\",SUM($Y$8:Y89),BZ90))),\"\")","v":""},{"$f":"IFERROR(IF(C90=\"\",\"\",IF($AU$16=$AU$17,0,IF($C90=\"TOTAL\",SUM($Z$8:Z89),BY90))),\"\")","v":""},"",{"$f":"IFERROR(IF(C90=\"\",\"\",IF(D90=\"\",\"\",IF($C90=\"TOTAL\",SUM($AB$8:AB89),IF(C90=$AU$1,ROUND(D90*5/31,0.01),\"\")))),\"\")","v":""},{"$f":"IFERROR(IF(C90=\"\",\"\",IF(I90=\"\",\"\",IF($C90=\"TOTAL\",SUM($AC$8:AC89),IF(C90=$AU$1,ROUND(I90*5/31,0.01),\"\")))),\"\")","v":""},"",{"$f":"IFERROR(IF(C90=\"\",\"\",IF(AND(BP91=\"\",BW91=\"\"),\"\",IF($C90=\"TOTAL\",SUM($AE$8:AE89),BP91))),\"\")","v":""},{"$f":"IFERROR(IF(C90=\"\",\"\",IF($C90=\"TOTAL\",SUM($AF$8:AF89),ROUND(R90*$AU$7%,0))),\"\")","v":""},"",{"$f":"IFERROR(IF(C90=\"\",\"\",IF($C90=\"TOTAL\",SUM($AH$8:AH89),SUM(R90-AG90))),\"\")","v":""},{"$nulls":8},42,42,null,"2023-10-01","2023-10-01","2026-01-01",null,"","","","","","","",null,"","","","","",null,null,"","","","",0,0,{"$nulls":4},"",null,"",{"$f":"IF(AZ91=\"\",\"\",IF(AZ91=\"TOTAL\",\"\",IF($AU$16=$AU$17,0,IF(AND(AZ91>$BY$1,$AI$3=$AR$2,'Master Sheet'!$D$27>0),'Master Sheet'!$D$27,IF(AND(AZ91=$BY$1),IF($AU$9<18001,135,IF($AU$9<33501,220,IF($AU$9<54001,330,440))),IF(AND(AZ91>$BY$1),IF($AU$9<18001,265,IF($AU$9<33501,440,IF($AU$9<54001,658,875))),\"\"))))))","v":""}]
[{"$f":"IF(C91=\"TOTAL\",\"\",IF(B90=\"\",\"\",IF(LEN(C91)>=2,B90+1,0)))","v":""},"","",{"$f":"IFERROR(IF($C90=\"TOTAL\",\"अक्षरें राशि :-\",IF($C91=\"TOTAL\",SUM($D$8:D90),IF(BA92=\"\",\"\",BA92))),\"\")","v":""},{"$f":"IFERROR(IF($C91=\"TOTAL\",SUM($E$8:E90),IF(BC92=\"\",\"\",BC92)),\"\")","v":""},{"$f":"IFERROR(IF($C91=\"TOTAL\",SUM($F$8:F90),IF(BD92=\"\",\"\",BD92)),\"\")","v":""},{"$f":"IFERROR(IF($C91=\"TOTAL\",SUM($G$8:G90),IF(BB92=\"\",\"\",BB92)),\"\")","v":""},"",{"$f":"IFERROR(IF($C91=\"TOTAL\",SUM($I$8:I90),IF(BF92=\"\",\"\",BF92)),\"\")","v":""},{"$f":"IFERROR(IF($C91=\"TOTAL\",SUM($J$8:J90),IF(BH92=\"\",\"\",BH92)),\"\")","v":""},{"$f":"IFERROR(IF($C91=\"TOTAL\",SUM($K$8:K90),IF(BI92=\"\",\"\",BI92)),\"\")","v":""},{"$f":"IFERROR(IF($C91=\"TOTAL\",SUM($L$8:L90),IF(BG92=\"\",\"\",BG92)),\"\")","v":""},"",{"$f":"IFERROR(IF(C91=\"\",\"\",IF(D91=\"\",\"\",IF(I91=\"\",\"\",IF($C91=\"TOTAL\",SUM($N$8:N90),SUM(D91-I91))))),\"\")","v":""},{"$f":"IFERROR(IF(C91=\"\",\"\",IF(E91=\"\",\"\",IF(J91=\"\",\"\",IF($C91=\"TOTAL\",SUM($O$8:O90),SUM(E91-J91))))),\"\")","v":""},{"$f":"IFERROR(IF(C91=\"\",\"\",IF(F91=\"\",\"\",IF(K91=\"\",\"\",IF($C91=\"TOTAL\",SUM($P$8:P90),SUM(F91-K91))))),\"\")","v":""},"","",{"$f":"IFERROR(IF(C91=\"\",\"\",IF($C91=\"TOTAL\",SUM($S$8:S90),IF(AND(C91>$AR$1,$AI$3=$AR$2),BW92,IF($AU$18=$AU$20,SUM(BJ92+BR92),ROUND((D91+E91)*10%,0))))),\"\")","v":""},{"$f":"IFERROR(IF(C91=\"\",\"\",IF(I91=\"\",\"\",IF(J91=\"\",\"\",IF($C91=\"TOTAL\",SUM($T$8:T90),IF(AND(C91>$AR$1,$AI$3=$AR$2),BW92,IF($AU$18=$AU$20,$AU$21,ROUND((I91+J91)*10%,0))))))),\"\")","v":""},"",{"$f":"IFERROR(IF(C91=\"\",\"\",IF($AU$16=$AU$17,0,IF($C91=\"TOTAL\",SUM($V$8:V90),IF($AU$19=$AU$20,$AU$25,0)))),\"\")","v":""},{"$f":"IFERROR(IF(C91=\"\",\"\",IF($AU$16=$AU$17,0,IF($C91=\"TOTAL\",SUM($W$8:W90),IF($AU$19=$AU$20,$AU$24,0)))),\"\")","v":""},"",{"$f":"IFERROR(IF(C91=\"\",\"\",IF($AU$16=$AU$17,0,IF($C91=\"TOTAL\",SUM($Y$8:Y90),BZ91))),\"\")","v":""},{"$f":"IFERROR(IF(C91=\"\",\"\",IF($AU$16=$AU$17,0,IF($C91=\"TOTAL\",SUM($Z$8:Z90),BY91))),\"\")","v":""},"",{"$f":"IFERROR(IF(C91=\"\",\"\",IF(D91=\"\",\"\",IF($C91=\"TOTAL\",SUM($AB$8:AB90),IF(C91=$AU$1,ROUND(D91*5/31,0.01),\"\")))),\"\")","v":""},{"$f":"IFERROR(IF(C91=\"\",\"\",IF(I91=\"\",\"\",IF($C91=\"TOTAL\",SUM($AC$8:AC90),IF(C91=$AU$1,ROUND(I91*5/31,0.01),\"\")))),\"\")","v":""},"",{"$f":"IFERROR(IF(C91=\"\",\"\",IF(AND(BP92=\"\",BW92=\"\"),\"\",IF($C91=\"TOTAL\",SUM($AE$8:AE90),BP92))),\"\")","v":""},{"$f":"IFERROR(IF(C91=\"\",\"\",IF($C91=\"TOTAL\",SUM($AF$8:AF90),ROUND(R91*$AU$7%,0))),\"\")","v":""},"",{"$f":"IFERROR(IF(C91=\"\",\"\",IF($C91=\"TOTAL\",SUM($AH$8:AH90),SUM(R91-AG91))),\"\")","v":""},{"$nulls":8},42,42,null,"2023-11-01","2023-11-01","2026-02-01",null,"","","",{"$f":"IFERROR(IF(AZ91=\"\",\"\",IF(AND($AU$20=$AU$28,$AU$30=AZ91),$AU$29,IF(OR(AZ91=$BD$2,AZ91=$BD$3,AZ91=$BD$4,AZ91=$BD$5,AZ91=$BD$6,AZ91=$BD$7,AZ91=$BE$2),MROUND(BA90*1.03,100),BA90))),\"\")","v":""},"","",{"$f":"IF(AZ91=\"\",\"\",IF(AZ91=\"TOTAL\",\"\",IF(AZ91>=$BC$7,ROUND(BA91*$BA$7%,0),ROUND(BA91*$AW$7%,0))))","v":""},null,{"$f":"IFERROR(IF(AZ91=\"\",\"\",IF(AZ91=\"TOTAL\",\"\",IF($AU$16=$AU$17,$AU$10,IF(OR(AZ91=$BD$2,AZ91=$BD$3,AZ91=$BD$4,AZ91=$BD$5,AZ91=$BD$6,AZ91=$BD$7,AZ91=$BE$2),MROUND(BF90*1.03,100),BF90)))),\"\")","v":""},"","",{"$f":"IF(AZ91=\"\",\"\",IF(AZ91=\"TOTAL\",\"\",IF(BF91=\"\",\"\",IF($AU$16=$AU$17,0,IF(AZ91>=$BC$7,ROUND(BF91*$BA$7%,0),ROUND(BF91*$AW$7%,0))))))","v":""},"",null,null,"","",{"$f":"IF(OR(AZ91=$AT$63,AZ91=$AT$64,AZ91=$AT$65),\"YES\",\"\")","v":""},"",0,0,{"$nulls":4},{"$f":"IF(AZ91=\"\",\"\",IF(AZ91=\"TOTAL\",\"\",IF(AND(AZ91>$AR$1,$AI$3=$AR$2),$AY$1,\"\")))","v":""},null,"",{"$f":"IF(AZ92=\"\",\"\",IF(AZ92=\"TOTAL\",\"\",IF($AU$16=$AU$17,0,IF(AND(AZ92>$BY$1,$AI$3=$AR$2,'Master Sheet'!$D$27>0),'Master Sheet'!$D$27,IF(AND(AZ92=$BY$1),IF($AU$9<18001,135,IF($AU$9<33501,220,IF($AU$9<54001,330,440))),IF(AND(AZ92>$BY$1),IF($AU$9<18001,265,IF($AU$9<33501,440,IF($AU$9<54001,658,875))),\"\"))))))","v":""}]
["","","",{"$f":"IFERROR(IF($C91=\"TOTAL\",\"अक्षरें राशि :-\",IF($C92=\"TOTAL\",SUM($D$8:D91),IF(BA93=\"\",\"\",BA93))),\"\")","v":""},{"$f":"IFERROR(IF($C92=\"TOTAL\",SUM($E$8:E91),IF(BC93=\"\",\"\",BC93)),\"\")","v":""},{"$f":"IFERROR(IF($C92=\"TOTAL\",SUM($F$8:F91),IF(BD93=\"\",\"\",BD93)),\"\")","v":""},{"$f":"IFERROR(IF($C92=\"TOTAL\",SUM($G$8:G91),IF(BB93=\"\",\"\",BB93)),\"\")","v":""},"",{"$f":"IFERROR(IF($C92=\"TOTAL\",SUM($I$8:I91),IF(BF93=\"\",\"\",BF93)),\"\")","v":""},{"$f":"IFERROR(IF($C92=\"TOTAL\",SUM($J$8:J91),IF(BH93=\"\",\"\",BH93)),\"\")","v":""},{"$f":"IFERROR(IF($C92=\"TOTAL\",SUM($K$8:K91),IF(BI93=\"\",\"\",BI93)),\"\")","v":""},{"$f":"IFERROR(IF($C92=\"TOTAL\",SUM($L$8:L91),IF(BG93=\"\",\"\",BG93)),\"\")","v":""},"",{"$f":"IFERROR(IF(C92=\"\",\"\",IF(D92=\"\",\"\",IF(I92=\"\",\"\",IF($C92=\"TOTAL\",SUM($N$8:N91),SUM(D92-I92))))),\"\")","v":""},{"$f":"IFERROR(IF(C92=\"\",\"\",IF(E92=\"\",\"\",IF(J92=\"\",\"\",IF($C92=\"TOTAL\",SUM($O$8:O91),SUM(E92-J92))))),\"\")","v":""},{"$f":"IFERROR(IF(C92=\"\",\"\",IF(F92=\"\",\"\",IF(K92=\"\",\"\",IF($C92=\"TOTAL\",SUM($P$8:P91),SUM(F92-K92))))),\"\")","v":""},"","",{"$f":"IFERROR(IF(C92=\"\",\"\",IF($C92=\"TOTAL\",SUM($S$8:S91),IF(AND(C92>$AR$1,$AI$3=$AR$2),BW93,IF($AU$18=$AU$20,SUM(BJ93+BR93),ROUND((D92+E92)*10%,0))))),\"\")","v":""},{"$f":"IFERROR(IF(C92=\"\",\"\",IF(I92=\"\",\"\",IF(J92=\"\",\"\",IF($C92=\"TOTAL\",SUM($T$8:T91),IF(AND(C92>$AR$1,$AI$3=$AR$2),BW93,IF($AU$18=$AU$20,$AU$21,ROUND((I92+J92)*10%,0))))))),\"\")","v":""},"",{"$f":"IFERROR(IF(C92=\"\",\"\",IF($AU$16=$AU$17,0,IF($C92=\"TOTAL\",SUM($V$8:V91),IF($AU$19=$AU$20,$AU$25,0)))),\"\")","v":""},{"$f":"IFERROR(IF(C92=\"\",\"\",IF($AU$16=$AU$17,0,IF($C92=\"TOTAL\",SUM($W$8:W91),IF($AU$19=$AU$20,$AU$24,0)))),\"\")","v":""},"",{"$f":"IFERROR(IF(C92=\"\",\"\",IF($AU$16=$AU$17,0,IF($C92=\"TOTAL\",SUM($Y$8:Y91),BZ92))),\"\")","v":""},{"$f":"IFERROR(IF(C92=\"\",\"\",IF($AU$16=$AU$17,0,IF($C92=\"TOTAL\",SUM($Z$8:Z91),BY92))),\"\")","v":""},"",{"$f":"IFERROR(IF(C92=\"\",\"\",IF(D92=\"\",\"\",IF($C92=\"TOTAL\",SUM($AB$8:AB91),IF(C92=$AU$1,ROUND(D92*5/31,0.01),\"\")))),\"\")","v":""},{"$f":"IFERROR(IF(C92=\"\",\"\",IF(I92=\"\",\"\",IF($C92=\"TOTAL\",SUM($AC$8:AC91),IF(C92=$AU$1,ROUND(I92*5/31,0.01),\"\")))),\"\")","v":""},"",{"$f":"IFERROR(IF(C92=\"\",\"\",IF(AND(BP93=\"\",BW93=\"\"),\"\",IF($C92=\"TOTAL\",SUM($AE$8:AE91),BP93))),\"\")","v":""},{"$f":"IFERROR(IF(C92=\"\",\"\",IF($C92=\"TOTAL\",SUM($AF$8:AF91),ROUND(R92*$AU$7%,0))),\"\")","v":""},"",{"$f":"IFERROR(IF(C92=\"\",\"\",IF($C92=\"TOTAL\",SUM($AH$8:AH91),SUM(R92-AG92))),\"\")","v":""},{"$nulls":8},42,42,null,"2023-12-01","2023-12-01",{"$f":"IF(AND($AU$6>$AV$6),\"\",DATE(YEAR(AV91),MONTH(AV91)+1,DAY(AV91)))","v":"2026-03-01"},null,"",{"$f":"IFERROR(IF(AND(AW92=\"\",AX92=\"\"),\"\",IF(AW92=\"\",AX92,AW92)),\"\")","v":""},{"$f":"IFERROR(IF(AY92=\"\",\"\",IF(DATE(YEAR(AY92),MONTH(AY92),DAY(AY92))=DATE(YEAR($AV$6),MONTH($AV$6)+1,DAY($AV$6)),\"TOTAL\",IF(AY92>$AV$6,\"\",AY92))),\"\")","v":""},"","","","",null,"","","","","",null,null,"","","","",0,0,{"$nulls":4},"",null,"",{"$f":"IF(AZ93=\"\",\"\",IF(AZ93=\"TOTAL\",\"\",IF($AU$16=$AU$17,0,IF(AND(AZ93>$BY$1,$AI$3=$AR$2,'Master Sheet'!$D$27>0),'Master Sheet'!$D$27,IF(AND(AZ93=$BY$1),IF($AU$9<18001,135,IF($AU$9<33501,220,IF($AU$9<54001,330,440))),IF(AND(AZ93>$BY$1),IF($AU$9<18001,265,IF($AU$9<33501,440,IF($AU$9<54001,658,875))),\"\"))))))","v":""}]
["","","",{"$f":"IFERROR(IF($C92=\"TOTAL\",\"अक्षरें राशि :-\",IF($C93=\"TOTAL\",SUM($D$8:D92),IF(BA94=\"\",\"\",BA94))),\"\")","v":""},{"$f":"IFERROR(IF($C93=\"TOTAL\",SUM($E$8:E92),IF(BC94=\"\",\"\",BC94)),\"\")","v":""},{"$f":"IFERROR(IF($C93=\"TOTAL\",SUM($F$8:F92),IF(BD94=\"\",\"\",BD94)),\"\")","v":""},{"$f":"IFERROR(IF($C93=\"TOTAL\",SUM($G$8:G92),IF(BB94=\"\",\"\",BB94)),\"\")","v":""},"",{"$f":"IFERROR(IF($C93=\"TOTAL\",SUM($I$8:I92),IF(BF94=\"\",\"\",BF94)),\"\")","v":""},{"$f":"IFERROR(IF($C93=\"TOTAL\",SUM($J$8:J92),IF(BH94=\"\",\"\",BH94)),\"\")","v":""},{"$f":"IFERROR(IF($C93=\"TOTAL\",SUM($K$8:K92),IF(BI94=\"\",\"\",BI94)),\"\")","v":""},{"$f":"IFERROR(IF($C93=\"TOTAL\",SUM($L$8:L92),IF(BG94=\"\",\"\",BG94)),\"\")","v":""},"",{"$f":"IFERROR(IF(C93=\"\",\"\",IF(D93=\"\",\"\",IF(I93=\"\",\"\",IF($C93=\"TOTAL\",SUM($N$8:N92),SUM(D93-I93))))),\"\")","v":""},{"$f":"IFERROR(IF(C93=\"\",\"\",IF(E93=\"\",\"\",IF(J93=\"\",\"\",IF($C93=\"TOTAL\",SUM($O$8:O92),SUM(E93-J93))))),\"\")","v":""},{"$f":"IFERROR(IF(C93=\"\",\"\",IF(F93=\"\",\"\",IF(K93=\"\",\"\",IF($C93=\"TOTAL\",SUM($P$8:P92),SUM(F93-K93))))),\"\")","v":""},"","",{"$f":"IFERROR(IF(C93=\"\",\"\",IF($C93=\"TOTAL\",SUM($S$8:S92),IF(AND(C93>$AR$1,$AI$3=$AR$2),BW94,IF($AU$18=$AU$20,SUM(BJ94+BR94),ROUND((D93+E93)*10%,0))))),\"\")","v":""},{"$f":"IFERROR(IF(C93=\"\",\"\",IF(I93=\"\",\"\",IF(J93=\"\",\"\",IF($C93=\"TOTAL\",SUM($T$8:T92),IF(AND(C93>$AR$1,$AI$3=$AR$2),BW94,IF($AU$18=$AU$20,$AU$21,ROUND((I93+J93)*10%,0))))))),\"\")","v":""},"",{"$f":"IFERROR(IF(C93=\"\",\"\",IF($AU$16=$AU$17,0,IF($C93=\"TOTAL\",SUM($V$8:V92),IF($AU$19=$AU$20,$AU$25,0)))),\"\")","v":""},{"$f":"IFERROR(IF(C93=\"\",\"\",IF($AU$16=$AU$17,0,IF($C93=\"TOTAL\",SUM($W$8:W92),IF($AU$19=$AU$20,$AU$24,0)))),\"\")","v":""},"",{"$f":"IFERROR(IF(C93=\"\",\"\",IF($AU$16=$AU$17,0,IF($C93=\"TOTAL\",SUM($Y$8:Y92),BZ93))),\"\")","v":""},{"$f":"IFERROR(IF(C93=\"\",\"\",IF($AU$16=$AU$17,0,IF($C93=\"TOTAL\",SUM($Z$8:Z92),BY93))),\"\")","v":""},"",{"$f":"IFERROR(IF(C93=\"\",\"\",IF(D93=\"\",\"\",IF($C93=\"TOTAL\",SUM($AB$8:AB92),IF(C93=$AU$1,ROUND(D93*5/31,0.01),\"\")))),\"\")","v":""},{"$f":"IFERROR(IF(C93=\"\",\"\",IF(I93=\"\",\"\",IF($C93=\"TOTAL\",SUM($AC$8:AC92),IF(C93=$AU$1,ROUND(I93*5/31,0.01),\"\")))),\"\")","v":""},"",{"$f":"IFERROR(IF(C93=\"\",\"\",IF(AND(BP94=\"\",BW94=\"\"),\"\",IF($C93=\"TOTAL\",SUM($AE$8:AE92),BP94))),\"\")","v":""},{"$f":"IFERROR(IF(C93=\"\",\"\",IF($C93=\"TOTAL\",SUM($AF$8:AF92),ROUND(R93*$AU$7%,0))),\"\")","v":""},"",{"$f":"IFERROR(IF(C93=\"\",\"\",IF($C93=\"TOTAL\",SUM($AH$8:AH92),SUM(R93-AG93))),\"\")","v":""},{"$nulls":8},42,42,null,"2024-01-01","2024-01-01",{"$f":"IF(AND($AU$6>$AV$6),\"\",DATE(YEAR(AV92),MONTH(AV92)+1,DAY(AV92)))","v":"2026-04-01"},null,"","","","","","","",null,"","","","","",null,null,"","","","",0,0,{"$nulls":4},"",null,"",{"$f":"IF(AZ94=\"\",\"\",IF(AZ94=\"TOTAL\",\"\",IF($AU$16=$AU$17,0,IF(AND(AZ94>$BY$1,$AI$3=$AR$2,'Master Sheet'!$D$27>0),'Master Sheet'!$D$27,IF(AND(AZ94=$BY$1),IF($AU$9<18001,135,IF($AU$9<33501,220,IF($AU$9<54001,330,440))),IF(AND(AZ94>$BY$1),IF($AU$9<18001,265,IF($AU$9<33501,440,IF($AU$9<54001,658,875))),\"\"))))))","v":""}]
["","","",{"$f":"IFERROR(IF($C93=\"TOTAL\",\"अक्षरें राशि :-\",IF($C94=\"TOTAL\",SUM($D$8:D93),IF(BA95=\"\",\"\",BA95))),\"\")","v":""},{"$f":"IFERROR(IF($C94=\"TOTAL\",SUM($E$8:E93),IF(BC95=\"\",\"\",BC95)),\"\")","v":""},{"$f":"IFERROR(IF($C94=\"TOTAL\",SUM($F$8:F93),IF(BD95=\"\",\"\",BD95)),\"\")","v":""},{"$f":"IFERROR(IF($C94=\"TOTAL\",SUM($G$8:G93),IF(BB95=\"\",\"\",BB95)),\"\")","v":""},"",{"$f":"IFERROR(IF($C94=\"TOTAL\",SUM($I$8:I93),IF(BF95=\"\",\"\",BF95)),\"\")","v":""},{"$f":"IFERROR(IF($C94=\"TOTAL\",SUM($J$8:J93),IF(BH95=\"\",\"\",BH95)),\"\")","v":""},{"$f":"IFERROR(IF($C94=\"TOTAL\",SUM($K$8:K93),IF(BI95=\"\",\"\",BI95)),\"\")","v":""},{"$f":"IFERROR(IF($C94=\"TOTAL\",SUM($L$8:L93),IF(BG95=\"\",\"\",BG95)),\"\")","v":""},"",{"$f":"IFERROR(IF(C94=\"\",\"\",IF(D94=\"\",\"\",IF(I94=\"\",\"\",IF($C94=\"TOTAL\",SUM($N$8:N93),SUM(D94-I94))))),\"\")","v":""},{"$f":"IFERROR(IF(C94=\"\",\"\",IF(E94=\"\",\"\",IF(J94=\"\",\"\",IF($C94=\"TOTAL\",SUM($O$8:O93),SUM(E94-J94))))),\"\")","v":""},{"$f":"IFERROR(IF(C94=\"\",\"\",IF(F94=\"\",\"\",IF(K94=\"\",\"\",IF($C94=\"TOTAL\",SUM($P$8:P93),SUM(F94-K94))))),\"\")","v":""},"","",{"$f":"IFERROR(IF(C94=\"\",\"\",IF(AND(C94>$AR$1,$AI$3=$AR$2),\"\",IF($AU$18=$AU$20,SUM(BJ95,BR95),ROUND((D94+E94)*10%,0)))),\"\")","v":""},{"$f":"IFERROR(IF(C94=\"\",\"\",IF(I94=\"\",\"\",IF(J94=\"\",\"\",IF(AND(C94>$AR$1,$AI$3=$AR$2),\"\",IF($C94=\"TOTAL\",SUM($T$8:T93),IF($AU$18=$AU$20,$AU$21,ROUND((I94+J94)*10%,0))))))),\"\")","v":""},"",{"$f":"IFERROR(IF(C94=\"\",\"\",IF($AU$16=$AU$17,0,IF($C94=\"TOTAL\",SUM($V$8:V93),IF($AU$19=$AU$20,$AU$25,0)))),\"\")","v":""},{"$f":"IFERROR(IF(C94=\"\",\"\",IF($AU$16=$AU$17,0,IF($C94=\"TOTAL\",SUM($W$8:W93),IF($AU$19=$AU$20,$AU$24,0)))),\"\")","v":""},"",{"$f":"IFERROR(IF(C94=\"\",\"\",IF($AU$16=$AU$17,0,IF($C94=\"TOTAL\",SUM($Y$8:Y93),BZ94))),\"\")","v":""},{"$f":"IFERROR(IF(C94=\"\",\"\",IF($AU$16=$AU$17,0,IF($C94=\"TOTAL\",SUM($Z$8:Z93),BY94))),\"\")","v":""},"",{"$f":"IFERROR(IF(C94=\"\",\"\",IF(D94=\"\",\"\",IF($C94=\"TOTAL\",SUM($AB$8:AB93),IF(C94=$AU$1,ROUND(D94*5/31,0.01),\"\")))),\"\")","v":""},{"$f":"IFERROR(IF(C94=\"\",\"\",IF(I94=\"\",\"\",IF($C94=\"TOTAL\",SUM($AC$8:AC93),IF(C94=$AU$1,ROUND(I94*5/31,0.01),\"\")))),\"\")","v":""},"",{"$f":"IFERROR(IF(C94=\"\",\"\",IF(AND(BP95=\"\",BW95=\"\"),\"\",IF($C94=\"TOTAL\",SUM($AE$8:AE93),BP95))),\"\")","v":""},{"$f":"IFERROR(IF(C94=\"\",\"\",IF($C94=\"TOTAL\",SUM($AF$8:AF93),ROUND(R94*$AU$7%,0))),\"\")","v":""},"",{"$f":"IFERROR(IF(C94=\"\",\"\",IF($C94=\"TOTAL\",SUM($AH$8:AH93),SUM(R94-AG94))),\"\")","v":""},{"$nulls":8},42,42,{"$nulls":8},"","","","",null,"","","","","",null,null,"","","","",0,0,{"$nulls":4},"",null,"",{"$f":"IF(AZ95=\"\",\"\",IF(AZ95=\"TOTAL\",\"\",IF($AU$16=$AU$17,0,IF(AND(AZ95>$BY$1,$AI$3=$AR$2,'Master Sheet'!$D$27>0),'Master Sheet'!$D$27,IF(AND(AZ95=$BY$1),IF($AU$9<18001,135,IF($AU$9<33501,220,IF($AU$9<54001,330,440))),IF(AND(AZ95>$BY$1),IF($AU$9<18001,265,IF($AU$9<33501,440,IF($AU$9<54001,658,875))),\"\"))))))","v":""}]
["","","",{"$f":"IFERROR(IF($C94=\"TOTAL\",\"अक्षरें राशि :-\",IF($C95=\"TOTAL\",SUM($D$8:D94),IF(BA96=\"\",\"\",BA96))),\"\")","v":""},{"$f":"IFERROR(IF($C95=\"TOTAL\",SUM($E$8:E94),IF(BC96=\"\",\"\",BC96)),\"\")","v":""},{"$f":"IFERROR(IF($C95=\"TOTAL\",SUM($F$8:F94),IF(BD96=\"\",\"\",BD96)),\"\")","v":""},{"$f":"IFERROR(IF($C95=\"TOTAL\",SUM($G$8:G94),IF(BB96=\"\",\"\",BB96)),\"\")","v":""},"",{"$f":"IFERROR(IF($C95=\"TOTAL\",SUM($I$8:I94),IF(BF96=\"\",\"\",BF96)),\"\")","v":""},{"$f":"IFERROR(IF($C95=\"TOTAL\",SUM($J$8:J94),IF(BH96=\"\",\"\",BH96)),\"\")","v":""},{"$f":"IFERROR(IF($C95=\"TOTAL\",SUM($K$8:K94),IF(BI96=\"\",\"\",BI96)),\"\")","v":""},{"$f":"IFERROR(IF($C95=\"TOTAL\",SUM($L$8:L94),IF(BG96=\"\",\"\",BG96)),\"\")","v":""},"",{"$f":"IFERROR(IF(C95=\"\",\"\",IF(D95=\"\",\"\",IF(I95=\"\",\"\",IF($C95=\"TOTAL\",SUM($N$8:N94),SUM(D95-I95))))),\"\")","v":""},{"$f":"IFERROR(IF(C95=\"\",\"\",IF(E95=\"\",\"\",IF(J95=\"\",\"\",IF($C95=\"TOTAL\",SUM($O$8:O94),SUM(E95-J95))))),\"\")","v":""},{"$f":"IFERROR(IF(C95=\"\",\"\",IF(F95=\"\",\"\",IF(K95=\"\",\"\",IF($C95=\"TOTAL\",SUM($P$8:P94),SUM(F95-K95))))),\"\")","v":""},"","",{"$f":"IFERROR(IF(C95=\"\",\"\",IF(AND(C95>$AR$1,$AI$3=$AR$2),\"\",IF($AU$18=$AU$20,SUM(BJ96,BR96),ROUND((D95+E95)*10%,0)))),\"\")","v":""},{"$f":"IFERROR(IF(C95=\"\",\"\",IF(I95=\"\",\"\",IF(J95=\"\",\"\",IF(AND(C95>$AR$1,$AI$3=$AR$2),\"\",IF($C95=\"TOTAL\",SUM($T$8:T94),IF($AU$18=$AU$20,$AU$21,ROUND((I95+J95)*10%,0))))))),\"\")","v":""},"",{"$f":"IFERROR(IF(C95=\"\",\"\",IF($AU$16=$AU$17,0,IF($C95=\"TOTAL\",SUM($V$8:V94),IF($AU$19=$AU$20,$AU$25,0)))),\"\")","v":""},{"$f":"IFERROR(IF(C95=\"\",\"\",IF($AU$16=$AU$17,0,IF($C95=\"TOTAL\",SUM($W$8:W94),IF($AU$19=$AU$20,$AU$24,0)))),\"\")","v":""},"",{"$f":"IFERROR(IF(C95=\"\",\"\",IF($AU$16=$AU$17,0,IF($C95=\"TOTAL\",SUM($Y$8:Y94),BZ95))),\"\")","v":""},{"$f":"IFERROR(IF(C95=\"\",\"\",IF($AU$16=$AU$17,0,IF($C95=\"TOTAL\",SUM($Z$8:Z94),BY95))),\"\")","v":""},"",{"$f":"IFERROR(IF(C95=\"\",\"\",IF(D95=\"\",\"\",IF($C95=\"TOTAL\",SUM($AB$8:AB94),IF(C95=$AU$1,ROUND(D95*5/31,0.01),\"\")))),\"\")","v":""},{"$f":"IFERROR(IF(C95=\"\",\"\",IF(I95=\"\",\"\",IF($C95=\"TOTAL\",SUM($AC$8:AC94),IF(C95=$AU$1,ROUND(I95*5/31,0.01),\"\")))),\"\")","v":""},"",{"$f":"IFERROR(IF(C95=\"\",\"\",IF(AND(BP96=\"\",BW96=\"\"),\"\",IF($C95=\"TOTAL\",SUM($AE$8:AE94),BP96))),\"\")","v":""},{"$f":"IFERROR(IF(C95=\"\",\"\",IF($C95=\"TOTAL\",SUM($AF$8:AF94),ROUND(R95*$AU$7%,0))),\"\")","v":""},"",{"$f":"IFERROR(IF(C95=\"\",\"\",IF($C95=\"TOTAL\",SUM($AH$8:AH94),SUM(R95-AG95))),\"\")","v":""},{"$nulls":18},"",null,{"$f":"IF(AZ95=\"\",\"\",IF(AZ95=\"TOTAL\",\"\",ROUND(BA95*AQ95%,0)))","v":""},"",null,"",null,{"$f":"IF(AZ95=\"\",\"\",IF(AZ95=\"TOTAL\",\"\",IF(BF95=\"\",\"\",IF($AU$16=$AU$17,0,ROUND(BF95*AR95%,0)))))","v":""},"","",null,null,"","","","",0,0,{"$nulls":4},"",null,"",{"$f":"IF(AZ96=\"\",\"\",IF(AZ96=\"TOTAL\",\"\",IF($AU$16=$AU$17,0,IF(AND(AZ96>$BY$1,$AI$3=$AR$2,'Master Sheet'!$D$27>0),'Master Sheet'!$D$27,IF(AND(AZ96=$BY$1),IF($AU$9<18001,135,IF($AU$9<33501,220,IF($AU$9<54001,330,440))),IF(AND(AZ96>$BY$1),IF($AU$9<18001,265,IF($AU$9<33501,440,IF($AU$9<54001,658,875))),\"\"))))))","v":""}]
[{"$nulls":26},"",{"$nulls":25},"",null,"","",null,"",null,{"$f":"IF(AZ96=\"\",\"\",IF(AZ96=\"TOTAL\",\"\",IF(BF96=\"\",\"\",IF($AU$16=$AU$17,0,ROUND(BF96*AR96%,0)))))","v":""},"","",null,null,"","","","",0,0,{"$nulls":4},"",null,"",{"$f":"IF(AZ97=\"\",\"\",IF(AZ97=\"TOTAL\",\"\",IF($AU$16=$AU$17,0,IF(AND(AZ97>$BY$1,$AI$3=$AR$2,'Master Sheet'!$D$27>0),'Master Sheet'!$D$27,IF(AND(AZ97=$BY$1),IF($AU$9<18001,135,IF($AU$9<33501,220,IF($AU$9<54001,330,440))),IF(AND(AZ97>$BY$1),IF($AU$9<18001,265,IF($AU$9<33501,440,IF($AU$9<54001,658,875))),\"\"))))))","v":""}]
[{"$nulls":26},"",{"$nulls":47},"",null,"",{"$f":"IF(AZ98=\"\",\"\",IF(AZ98=\"TOTAL\",\"\",IF($AU$16=$AU$17,0,IF(AND(AZ98>$BY$1,$AI$3=$AR$2,'Master Sheet'!$D$27>0),'Master Sheet'!$D$27,IF(AND(AZ98=$BY$1),IF($AU$9<18001,135,IF($AU$9<33501,220,IF($AU$9<54001,330,440))),IF(AND(AZ98>$BY$1),IF($AU$9<18001,265,IF($AU$9<33501,440,IF($AU$9<54001,658,875))),\"\"))))))","v":""}]
[{"$nulls":26},"",{"$nulls":49},"",{"$f":"IF(AZ99=\"\",\"\",IF(AZ99=\"TOTAL\",\"\",IF($AU$16=$AU$17,0,IF(AND(AZ99>$BY$1,$AI$3=$AR$2,'Master Sheet'!$D$27>0),'Master Sheet'!$D$27,IF(AND(AZ99=$BY$1),IF($AU$9<18001,135,IF($AU$9<33501,220,IF($AU$9<54001,330,440))),IF(AND(AZ99>$BY$1),IF($AU$9<18001,265,IF($AU$9<33501,440,IF($AU$9<54001,658,875))),\"\"))))))","v":""}]
[{"$nulls":26},"",{"$nulls":49},"",{"$f":"IF(AZ100=\"\",\"\",IF(AZ100=\"TOTAL\",\"\",IF($AU$16=$AU$17,0,IF(AND(AZ100>$BY$1,$AI$3=$AR$2,'Master Sheet'!$D$27>0),'Master Sheet'!$D$27,IF(AND(AZ100=$BY$1),IF($AU$9<18001,135,IF($AU$9<33501,220,IF($AU$9<54001,330,440))),IF(AND(AZ100>$BY$1),IF($AU$9<18001,265,IF($AU$9<33501,440,IF($AU$9<54001,658,875))),\"\"))))))","v":""}]
[{"$nulls":76},"",{"$f":"IF(AZ101=\"\",\"\",IF(AZ101=\"TOTAL\",\"\",IF($AU$16=$AU$17,0,IF(AND(AZ101>$BY$1,$AI$3=$AR$2,'Master Sheet'!$D$27>0),'Master Sheet'!$D$27,IF(AND(AZ101=$BY$1),IF($AU$9<18001,135,IF($AU$9<33501,220,IF($AU$9<54001,330,440))),IF(AND(AZ101>$BY$1),IF($AU$9<18001,265,IF($AU$9<33501,440,IF($AU$9<54001,658,875))),\"\"))))))","v":""}]
[{"$nulls":76},"",{"$f":"IF(AZ102=\"\",\"\",IF(AZ102=\"TOTAL\",\"\",IF($AU$16=$AU$17,0,IF(AND(AZ102>$BY$1,$AI$3=$AR$2,'Master Sheet'!$D$27>0),'Master Sheet'!$D$27,IF(AND(AZ102=$BY$1),IF($AU$9<18001,135,IF($AU$9<33501,220,IF($AU$9<54001,330,440))),IF(AND(AZ102>$BY$1),IF($AU$9<18001,265,IF($AU$9<33501,440,IF($AU$9<54001,658,875))),\"\"))))))","v":""}]
[{"$nulls":76},"",{"$f":"IF(AZ103=\"\",\"\",IF(AZ103=\"TOTAL\",\"\",IF($AU$16=$AU$17,0,IF(AND(AZ103>$BY$1,$AI$3=$AR$2,'Master Sheet'!$D$27>0),'Master Sheet'!$D$27,IF(AND(AZ103=$BY$1),IF($AU$9<18001,135,IF($AU$9<33501,220,IF($AU$9<54001,330,440))),IF(AND(AZ103>$BY$1),IF($AU$9<18001,265,IF($AU$9<33501,440,IF($AU$9<54001,658,875))),\"\"))))))","v":""}]
[{"$nulls":76},"",{"$f":"IF(AZ104=\"\",\"\",IF(AZ104=\"TOTAL\",\"\",IF($AU$16=$AU$17,0,IF(AND(AZ104>$BY$1,$AI$3=$AR$2,'Master Sheet'!$D$27>0),'Master Sheet'!$D$27,IF(AND(AZ104=$BY$1),IF($AU$9<18001,135,IF($AU$9<33501,220,IF($AU$9<54001,330,440))),IF(AND(AZ104>$BY$1),IF($AU$9<18001,265,IF($AU$9<33501,440,IF($AU$9<54001,658,875))),\"\"))))))","v":""}]
[{"$nulls":76},"",{"$f":"IF(AZ105=\"\",\"\",IF(AZ105=\"TOTAL\",\"\",IF($AU$16=$AU$17,0,IF(AND(AZ105>$BY$1,$AI$3=$AR$2,'Master Sheet'!$D$27>0),'Master Sheet'!$D$27,IF(AND(AZ105=$BY$1),IF($AU$9<18001,135,IF($AU$9<33501,220,IF($AU$9<54001,330,440))),IF(AND(AZ105>$BY$1),IF($AU$9<18001,265,IF($AU$9<33501,440,IF($AU$9<54001,658,875))),\"\"))))))","v":""}]
[{"$nulls":76},"",{"$f":"IF(AZ106=\"\",\"\",IF(AZ106=\"TOTAL\",\"\",IF($AU$16=$AU$17,0,IF(AND(AZ106>$BY$1,$AI$3=$AR$2,'Master Sheet'!$D$27>0),'Master Sheet'!$D$27,IF(AND(AZ106=$BY$1),IF($AU$9<18001,135,IF($AU$9<33501,220,IF($AU$9<54001,330,440))),IF(AND(AZ106>$BY$1),IF($AU$9<18001,265,IF($AU$9<33501,440,IF($AU$9<54001,658,875))),\"\"))))))","v":""}]
[{"$nulls":76},"",{"$f":"IF(AZ107=\"\",\"\",IF(AZ107=\"TOTAL\",\"\",IF($AU$16=$AU$17,0,IF(AND(AZ107>$BY$1,$AI$3=$AR$2,'Master Sheet'!$D$27>0),'Master Sheet'!$D$27,IF(AND(AZ107=$BY$1),IF($AU$9<18001,135,IF($AU$9<33501,220,IF($AU$9<54001,330,440))),IF(AND(AZ107>$BY$1),IF($AU$9<18001,265,IF($AU$9<33501,440,IF($AU$9<54001,658,875))),\"\"))))))","v":""}]
[{"$nulls":76},"",{"$f":"IF(AZ108=\"\",\"\",IF(AZ108=\"TOTAL\",\"\",IF($AU$16=$AU$17,0,IF(AND(AZ108>$BY$1,$AI$3=$AR$2,'Master Sheet'!$D$27>0),'Master Sheet'!$D$27,IF(AND(AZ108=$BY$1),IF($AU$9<18001,135,IF($AU$9<33501,220,IF($AU$9<54001,330,440))),IF(AND(AZ108>$BY$1),IF($AU$9<18001,265,IF($AU$9<33501,440,IF($AU$9<54001,658,875))),\"\"))))))","v":""}]
[{"$nulls":76},"",{"$f":"IF(AZ109=\"\",\"\",IF(AZ109=\"TOTAL\",\"\",IF($AU$16=$AU$17,0,IF(AND(AZ109>$BY$1,$AI$3=$AR$2,'Master Sheet'!$D$27>0),'Master Sheet'!$D$27,IF(AND(AZ109=$BY$1),IF($AU$9<18001,135,IF($AU$9<33501,220,IF($AU$9<54001,330,440))),IF(AND(AZ109>$BY$1),IF($AU$9<18001,265,IF($AU$9<33501,440,IF($AU$9<54001,658,875))),\"\"))))))","v":""}]
[{"$nulls":76},"",{"$f":"IF(AZ110=\"\",\"\",IF(AZ110=\"TOTAL\",\"\",IF($AU$16=$AU$17,0,IF(AND(AZ110>$BY$1,$AI$3=$AR$2,'Master Sheet'!$D$27>0),'Master Sheet'!$D$27,IF(AND(AZ110=$BY$1),IF($AU$9<18001,135,IF($AU$9<33501,220,IF($AU$9<54001,330,440))),IF(AND(AZ110>$BY$1),IF($AU$9<18001,265,IF($AU$9<33501,440,IF($AU$9<54001,658,875))),\"\"))))))","v":""}]
[{"$nulls":76},"",{"$f":"IF(AZ111=\"\",\"\",IF(AZ111=\"TOTAL\",\"\",IF($AU$16=$AU$17,0,IF(AND(AZ111>$BY$1,$AI$3=$AR$2,'Master Sheet'!$D$27>0),'Master Sheet'!$D$27,IF(AND(AZ111=$BY$1),IF($AU$9<18001,135,IF($AU$9<33501,220,IF($AU$9<54001,330,440))),IF(AND(AZ111>$BY$1),IF($AU$9<18001,265,IF($AU$9<33501,440,IF($AU$9<54001,658,875))),\"\"))))))","v":""}]
[{"$nulls":76},"",{"$f":"IF(AZ112=\"\",\"\",IF(AZ112=\"TOTAL\",\"\",IF($AU$16=$AU$17,0,IF(AND(AZ112>$BY$1,$AI$3=$AR$2,'Master Sheet'!$D$27>0),'Master Sheet'!$D$27,IF(AND(AZ112=$BY$1),IF($AU$9<18001,135,IF($AU$9<33501,220,IF($AU$9<54001,330,440))),IF(AND(AZ112>$BY$1),IF($AU$9<18001,265,IF($AU$9<33501,440,IF($AU$9<54001,658,875))),\"\"))))))","v":""}]
[{"$nulls":76},"",{"$f":"IF(AZ113=\"\",\"\",IF(AZ113=\"TOTAL\",\"\",IF($AU$16=$AU$17,0,IF(AND(AZ113>$BY$1,$AI$3=$AR$2,'Master Sheet'!$D$27>0),'Master Sheet'!$D$27,IF(AND(AZ113=$BY$1),IF($AU$9<18001,135,IF($AU$9<33501,220,IF($AU$9<54001,330,440))),IF(AND(AZ113>$BY$1),IF($AU$9<18001,265,IF($AU$9<33501,440,IF($AU$9<54001,658,875))),\"\"))))))","v":""}]
[{"$nulls":76},"",{"$f":"IF(AZ114=\"\",\"\",IF(AZ114=\"TOTAL\",\"\",IF($AU$16=$AU$17,0,IF(AND(AZ114>$BY$1,$AI$3=$AR$2,'Master Sheet'!$D$27>0),'Master Sheet'!$D$27,IF(AND(AZ114=$BY$1),IF($AU$9<18001,135,IF($AU$9<33501,220,IF($AU$9<54001,330,440))),IF(AND(AZ114>$BY$1),IF($AU$9<18001,265,IF($AU$9<33501,440,IF($AU$9<54001,658,875))),\"\"))))))","v":""}]
[{"$nulls":76},"",{"$f":"IF(AZ115=\"\",\"\",IF(AZ115=\"TOTAL\",\"\",IF($AU$16=$AU$17,0,IF(AND(AZ115>$BY$1,$AI$3=$AR$2,'Master Sheet'!$D$27>0),'Master Sheet'!$D$27,IF(AND(AZ115=$BY$1),IF($AU$9<18001,135,IF($AU$9<33501,220,IF($AU$9<54001,330,440))),IF(AND(AZ115>$BY$1),IF($AU$9<18001,265,IF($AU$9<33501,440,IF($AU$9<54001,658,875))),\"\"))))))","v":""}]
[{"$nulls":76},"",{"$f":"IF(AZ116=\"\",\"\",IF(AZ116=\"TOTAL\",\"\",IF($AU$16=$AU$17,0,IF(AND(AZ116>$BY$1,$AI$3=$AR$2,'Master Sheet'!$D$27>0),'Master Sheet'!$D$27,IF(AND(AZ116=$BY$1),IF($AU$9<18001,135,IF($AU$9<33501,220,IF($AU$9<54001,330,440))),IF(AND(AZ116>$BY$1),IF($AU$9<18001,265,IF($AU$9<33501,440,IF($AU$9<54001,658,875))),\"\"))))))","v":""}]
[{"$nulls":76},"",{"$f":"IF(AZ117=\"\",\"\",IF(AZ117=\"TOTAL\",\"\",IF($AU$16=$AU$17,0,IF(AND(AZ117>$BY$1,$AI$3=$AR$2,'Master Sheet'!$D$27>0),'Master Sheet'!$D$27,IF(AND(AZ117=$BY$1),IF($AU$9<18001,135,IF($AU$9<33501,220,IF($AU$9<54001,330,440))),IF(AND(AZ117>$BY$1),IF($AU$9<18001,265,IF($AU$9<33501,440,IF($AU$9<54001,658,875))),\"\"))))))","v":""}]
[{"$nulls":76},"",{"$f":"IF(AZ118=\"\",\"\",IF(AZ118=\"TOTAL\",\"\",IF($AU$16=$AU$17,0,IF(AND(AZ118>$BY$1,$AI$3=$AR$2,'Master Sheet'!$D$27>0),'Master Sheet'!$D$27,IF(AND(AZ118=$BY$1),IF($AU$9<18001,135,IF($AU$9<33501,220,IF($AU$9<54001,330,440))),IF(AND(AZ118>$BY$1),IF($AU$9<18001,265,IF($AU$9<33501,440,IF($AU$9<54001,658,875))),\"\"))))))","v":""}]
[{"$nulls":76},"",{"$f":"IF(AZ119=\"\",\"\",IF(AZ119=\"TOTAL\",\"\",IF($AU$16=$AU$17,0,IF(AND(AZ119>$BY$1,$AI$3=$AR$2,'Master Sheet'!$D$27>0),'Master Sheet'!$D$27,IF(AND(AZ119=$BY$1),IF($AU$9<18001,135,IF($AU$9<33501,220,IF($AU$9<54001,330,440))),IF(AND(AZ119>$BY$1),IF($AU$9<18001,265,IF($AU$9<33501,440,IF($AU$9<54001,658,875))),\"\"))))))","v":""}]
[{"$nulls":76},"",{"$f":"IF(AZ120=\"\",\"\",IF(AZ120=\"TOTAL\",\"\",IF($AU$16=$AU$17,0,IF(AND(AZ120>$BY$1,$AI$3=$AR$2,'Master Sheet'!$D$27>0),'Master Sheet'!$D$27,IF(AND(AZ120=$BY$1),IF($AU$9<18001,135,IF($AU$9<33501,220,IF($AU$9<54001,330,440))),IF(AND(AZ120>$BY$1),IF($AU$9<18001,265,IF($AU$9<33501,440,IF($AU$9<54001,658,875))),\"\"))))))","v":""}]
[{"$nulls":76},"",{"$f":"IF(AZ121=\"\",\"\",IF(AZ121=\"TOTAL\",\"\",IF($AU$16=$AU$17,0,IF(AND(AZ121>$BY$1,$AI$3=$AR$2,'Master Sheet'!$D$27>0),'Master Sheet'!$D$27,IF(AND(AZ121=$BY$1),IF($AU$9<18001,135,IF($AU$9<33501,220,IF($AU$9<54001,330,440))),IF(AND(AZ121>$BY$1),IF($AU$9<18001,265,IF($AU$9<33501,440,IF($AU$9<54001,658,875))),\"\"))))))","v":""}]
[{"$nulls":76},"",{"$f":"IF(AZ122=\"\",\"\",IF(AZ122=\"TOTAL\",\"\",IF($AU$16=$AU$17,0,IF(AND(AZ122>$BY$1,$AI$3=$AR$2,'Master Sheet'!$D$27>0),'Master Sheet'!$D$27,IF(AND(AZ122=$BY$1),IF($AU$9<18001,135,IF($AU$9<33501,220,IF($AU$9<54001,330,440))),IF(AND(AZ122>$BY$1),IF($AU$9<18001,265,IF($AU$9<33501,440,IF($AU$9<54001,658,875))),\"\"))))))","v":""}]
[{"$nulls":76},"",{"$f":"IF(AZ123=\"\",\"\",IF(AZ123=\"TOTAL\",\"\",IF($AU$16=$AU$17,0,IF(AND(AZ123>$BY$1,$AI$3=$AR$2,'Master Sheet'!$D$27>0),'Master Sheet'!$D$27,IF(AND(AZ123=$BY$1),IF($AU$9<18001,135,IF($AU$9<33501,220,IF($AU$9<54001,330,440))),IF(AND(AZ123>$BY$1),IF($AU$9<18001,265,IF($AU$9<33501,440,IF($AU$9<54001,658,875))),\"\"))))))","v":""}]
[{"$nulls":76},"",{"$f":"IF(AZ124=\"\",\"\",IF(AZ124=\"TOTAL\",\"\",IF($AU$16=$AU$17,0,IF(AND(AZ124>$BY$1,$AI$3=$AR$2,'Master Sheet'!$D$27>0),'Master Sheet'!$D$27,IF(AND(AZ124=$BY$1),IF($AU$9<18001,135,IF($AU$9<33501,220,IF($AU$9<54001,330,440))),IF(AND(AZ124>$BY$1),IF($AU$9<18001,265,IF($AU$9<33501,440,IF($AU$9<54001,658,875))),\"\"))))))","v":""}]
[{"$nulls":76},"",{"$f":"IF(AZ125=\"\",\"\",IF(AZ125=\"TOTAL\",\"\",IF($AU$16=$AU$17,0,IF(AND(AZ125>$BY$1,$AI$3=$AR$2,'Master Sheet'!$D$27>0),'Master Sheet'!$D$27,IF(AND(AZ125=$BY$1),IF($AU$9<18001,135,IF($AU$9<33501,220,IF($AU$9<54001,330,440))),IF(AND(AZ125>$BY$1),IF($AU$9<18001,265,IF($AU$9<33501,440,IF($AU$9<54001,658,875))),\"\"))))))","v":""}]
[{"$nulls":76},"",{"$f":"IF(AZ126=\"\",\"\",IF(AZ126=\"TOTAL\",\"\",IF($AU$16=$AU$17,0,IF(AND(AZ126>$BY$1,$AI$3=$AR$2,'Master Sheet'!$D$27>0),'Master Sheet'!$D$27,IF(AND(AZ126=$BY$1),IF($AU$9<18001,135,IF($AU$9<33501,220,IF($AU$9<54001,330,440))),IF(AND(AZ126>$BY$1),IF($AU$9<18001,265,IF($AU$9<33501,440,IF($AU$9<54001,658,875))),\"\"))))))","v":""}]

{"sheet":"Unlock sheet","index":3,"n_rows":101,"n_cols":35,"rows_kept":101,"merged":[[0,1,0,34],[1,1,1,34],[2,3,2,6],[2,7,2,12],[2,13,2,14],[2,15,2,20],[2,21,2,23],[2,24,2,25],[2,30,2,32],[2,33,2,34],[3,1,3,3],[3,7,3,13],[3,14,3,17],[3,19,3,21],[3,22,3,24],[3,25,3,34],[5,0,6,0],[5,1,6,1],[5,2,5,6],[5,7,5,11],[5,12,5,16],[5,17,5,19],[5,20,5,22],[5,23,5,25],[5,26,5,28],[5,29,6,29],[5,30,6,30],[5,31,6,31],[5,32,6,32],[5,33,6,33],[5,34,6,34],[91,0,91,1],[91,36,100,40],[91,41,100,41],[92,7,92,8],[92,9,92,33],[93,23,93,33],[94,2,94,7],[94,11,94,12],[94,23,94,33],[95,1,95,8],[96,1,96,7],[96,23,96,33],[97,1,97,4],[97,6,97,17],[97,23,97,33],[98,1,98,2],[98,23,99,33],[100,1,100,2]]}
[null,{"$f":"IF('Master Sheet'!D3=\"\",\"\",CONCATENATE(\"Office \",'Master Sheet'!D3))","v":"Office Senior Medical officer, Community Health Center, Chandawal Nagar"}]
[null,"Difference Arrear Sheet"]
[{"$nulls":3},"Name Of Employee :",{"$nulls":3},{"$f":"IFERROR(UPPER('Master Sheet'!D7),\"\")","v":"HEERALAL JAT"},{"$nulls":5},"    Post :  ",null,{"$f":"IFERROR(UPPER('Master Sheet'!I7),\"\")","v":"MO"},{"$nulls":5},"    Pay Matrix Level : ",null,null,{"$f":"IFERROR(CONCATENATE(\"L - \",'Master Sheet'!M7),\"\")","v":"L - 16"},{"$nulls":5},"GPF / NPS :-",null,null,{"$f":"IF('Arrear Sheet'!AU18='Arrear Sheet'!AU20,\"GPF\",\"NPS\")","v":"NPS"}]
[{"$nulls":7},"Arrear From Date :",{"$nulls":6},{"$f":"IFERROR('Master Sheet'!D9,\"\")","v":"2019-04-01"},{"$nulls":3},"to",{"$f":"IFERROR('Master Sheet'!I9,\"\")","v":"2023-11-01"},null,null,"Posting Place :",null,null,{"$f":"IFERROR(IF('Arrear Sheet'!#REF!=\"\",\"\",'Arrear Sheet'!#REF!),\"\")","v":""}]
[]
["Sr. No.","Month","Pay Due",{"$nulls":4},"Pay Drawn",{"$nulls":4},"Pay Difference",{"$nulls":4},{"$f":"'Arrear Sheet'!S6","v":"NPS/GPF-2004"},null,null,"SI",null,null,"Corona relief fund",null,null,"RGHS",null,null,"Arrear inGPF-2004","Income Tax","Total Deduction","Net Payment","Bill No./Date","Encashment Date"]
[null,null,"Pay","DA","HRA","NPA","Total","Pay","DA","HRA","NPA","Total","Pay","DA","HRA","NPA","Total","Due","Ded","Diff.","Due","Ded","Diff.","Due","Ded","Diff.","Due","Ded","Diff."]
[{"$f":"IF('Arrear Sheet'!B8=\"\",\"\",'Arrear Sheet'!B8)","v":1},{"$f":"IF('Arrear Sheet'!C8=\"\",\"\",IF('Arrear Sheet'!C8=\"TOTAL\",\"\",'Arrear Sheet'!C8))","v":"2019-04-01"},{"$f":"IF('Arrear Sheet'!D8=\"\",\"\",IF('Arrear Sheet'!C8=\"TOTAL\",\"\",IF('Arrear Sheet'!D8=\"अक्षरें राशि :-\",\"\",'Arrear Sheet'!D8)))","v":67467},{"$f":"IF('Arrear Sheet'!E8=\"\",\"\",IF('Arrear Sheet'!C8=\"TOTAL\",\"\",'Arrear Sheet'!E8))","v":9715},{"$f":"IF(B8=\"\",\"\",IF('Arrear Sheet'!D8=\"TOTAL\",\"\",'Arrear Sheet'!F8))","v":5397},{"$f":"IF(B8=\"\",\"\",IF('Arrear Sheet'!E8=\"TOTAL\",\"\",'Arrear Sheet'!G8))","v":13493},{"$f":"IF(B8=\"\",\"\",IF('Arrear Sheet'!C8=\"TOTAL\",\"\",SUM(C8:F8)))","v":96072},{"$f":"IF(B8=\"\",\"\",IF('Arrear Sheet'!C8=\"TOTAL\",\"\",'Arrear Sheet'!I8))","v":63933},{"$f":"IF(B8=\"\",\"\",IF('Arrear Sheet'!C8=\"TOTAL\",\"\",'Arrear Sheet'!J8))","v":9206},{"$f":"IF(B8=\"\",\"\",IF('Arrear Sheet'!C8=\"TOTAL\",\"\",'Arrear Sheet'!K8))","v":5115},{"$f":"IF(B8=\"\",\"\",IF('Arrear Sheet'!D8=\"TOTAL\",\"\",'Arrear Sheet'!L8))","v":12787},{"$f":"IF(B8=\"\",\"\",IF('Arrear Sheet'!C8=\"TOTAL\",\"\",SUM(H8:K8)))","v":91041},{"$f":"IF(B8=\"\",\"\",IF('Arrear Sheet'!C8=\"TOTAL\",\"\",'Arrear Sheet'!N8))","v":3534},{"$f":"IF(B8=\"\",\"\",IF('Arrear Sheet'!C8=\"TOTAL\",\"\",'Arrear Sheet'!O8))","v":509},{"$f":"IF(B8=\"\",\"\",IF('Arrear Sheet'!C8=\"TOTAL\",\"\",'Arrear Sheet'!P8))","v":282},{"$f":"IF(B8=\"\",\"\",IF('Arrear Sheet'!D8=\"TOTAL\",\"\",'Arrear Sheet'!Q8))","v":706},{"$f":"IF(B8=\"\",\"\",IF('Arrear Sheet'!C8=\"TOTAL\",\"\",SUM(M8:P8)))","v":5031},{"$f":"IF(B8=\"\",\"\",IF('Arrear Sheet'!C8=\"TOTAL\",\"\",'Arrear Sheet'!S8))","v":7718},{"$f":"IF(B8=\"\",\"\",IF('Arrear Sheet'!C8=\"TOTAL\",\"\",'Arrear Sheet'!T8))","v":7314},{"$f":"IF(B8=\"\",\"\",IF('Arrear Sheet'!C8=\"TOTAL\",\"\",'Arrear Sheet'!U8))","v":404},{"$f":"IF(B8=\"\",\"\",IF('Arrear Sheet'!C8=\"TOTAL\",\"\",'Arrear Sheet'!V8))","v":2100},{"$f":"IF(B8=\"\",\"\",IF('Arrear Sheet'!C8=\"TOTAL\",\"\",'Arrear Sheet'!W8))","v":2100},{"$f":"IF(B8=\"\",\"\",IF('Arrear Sheet'!C8=\"TOTAL\",\"\",'Arrear Sheet'!X8))","v":0},{"$f":"IF(B8=\"\",\"\",IF('Arrear Sheet'!C8=\"TOTAL\",\"\",'Arrear Sheet'!AB8))","v":""},{"$f":"IF(B8=\"\",\"\",IF('Arrear Sheet'!D8=\"TOTAL\",\"\",'Arrear Sheet'!AC8))","v":""},{"$f":"IF(B8=\"\",\"\",IF('Arrear Sheet'!E8=\"TOTAL\",\"\",'Arrear Sheet'!AD8))","v":""},{"$f":"IF(B8=\"\",\"\",IF('Arrear Sheet'!C8=\"TOTAL\",\"\",'Arrear Sheet'!Y8))","v":""},{"$f":"IF(B8=\"\",\"\",IF('Arrear Sheet'!C8=\"TOTAL\",\"\",'Arrear Sheet'!Z8))","v":""},{"$f":"IF(B8=\"\",\"\",IF('Arrear Sheet'!C8=\"TOTAL\",\"\",'Arrear Sheet'!AA8))","v":""},{"$f":"IF(B8=\"\",\"\",IF('Arrear Sheet'!C8=\"TOTAL\",\"\",'Arrear Sheet'!AE8))","v":""},{"$f":"IF(B8=\"\",\"\",IF('Arrear Sheet'!C8=\"TOTAL\",\"\",'Arrear Sheet'!AF8))","v":0},{"$f":"IF(B8=\"\",\"\",'Arrear Sheet'!AG8)","v":404},{"$f":"IFERROR(IF(B8=\"\",\"\",IF('Arrear Sheet'!C8=\"TOTAL\",\"\",SUM(Q8-AF8))),\"\")","v":4627}]
[{"$f":"IF('Arrear Sheet'!B9=\"\",\"\",'Arrear Sheet'!B9)","v":2},{"$f":"IF('Arrear Sheet'!C9=\"\",\"\",IF('Arrear Sheet'!C9=\"TOTAL\",\"\",'Arrear Sheet'!C9))","v":"2019-05-01"},{"$f":"IF('Arrear Sheet'!D9=\"\",\"\",IF('Arrear Sheet'!C9=\"TOTAL\",\"\",IF('Arrear Sheet'!D9=\"अक्षरें राशि :-\",\"\",'Arrear Sheet'!D9)))","v":101200},{"$f":"IF('Arrear Sheet'!E9=\"\",\"\",IF('Arrear Sheet'!C9=\"TOTAL\",\"\",'Arrear Sheet'!E9))","v":14573},{"$f":"IF(B9=\"\",\"\",IF('Arrear Sheet'!D9=\"TOTAL\",\"\",'Arrear Sheet'!F9))","v":8096},{"$f":"IF(B9=\"\",\"\",IF('Arrear Sheet'!E9=\"TOTAL\",\"\",'Arrear Sheet'!G9))","v":20240},{"$f":"IF(B9=\"\",\"\",IF('Arrear Sheet'!C9=\"TOTAL\",\"\",SUM(C9:F9)))","v":144109},{"$f":"IF(B9=\"\",\"\",IF('Arrear Sheet'!C9=\"TOTAL\",\"\",'Arrear Sheet'!I9))","v":95900},{"$f":"IF(B9=\"\",\"\",IF('Arrear Sheet'!C9=\"TOTAL\",\"\",'Arrear Sheet'!J9))","v":13810},{"$f":"IF(B9=\"\",\"\",IF('Arrear Sheet'!C9=\"TOTAL\",\"\",'Arrear Sheet'!K9))","v":7672},{"$f":"IF(B9=\"\",\"\",IF('Arrear Sheet'!D9=\"TOTAL\",\"\",'Arrear Sheet'!L9))","v":19180},{"$f":"IF(B9=\"\",\"\",IF('Arrear Sheet'!C9=\"TOTAL\",\"\",SUM(H9:K9)))","v":136562},{"$f":"IF(B9=\"\",\"\",IF('Arrear Sheet'!C9=\"TOTAL\",\"\",'Arrear Sheet'!N9))","v":5300},{"$f":"IF(B9=\"\",\"\",IF('Arrear Sheet'!C9=\"TOTAL\",\"\",'Arrear Sheet'!O9))","v":763},{"$f":"IF(B9=\"\",\"\",IF('Arrear Sheet'!C9=\"TOTAL\",\"\",'Arrear Sheet'!P9))","v":424},{"$f":"IF(B9=\"\",\"\",IF('Arrear Sheet'!D9=\"TOTAL\",\"\",'Arrear Sheet'!Q9))","v":1060},{"$f":"IF(B9=\"\",\"\",IF('Arrear Sheet'!C9=\"TOTAL\",\"\",SUM(M9:P9)))","v":7547},{"$f":"IF(B9=\"\",\"\",IF('Arrear Sheet'!C9=\"TOTAL\",\"\",'Arrear Sheet'!S9))","v":11577},{"$f":"IF(B9=\"\",\"\",IF('Arrear Sheet'!C9=\"TOTAL\",\"\",'Arrear Sheet'!T9))","v":10971},{"$f":"IF(B9=\"\",\"\",IF('Arrear Sheet'!C9=\"TOTAL\",\"\",'Arrear Sheet'!U9))","v":606},{"$f":"IF(B9=\"\",\"\",IF('Arrear Sheet'!C9=\"TOTAL\",\"\",'Arrear Sheet'!V9))","v":2100},{"$f":"IF(B9=\"\",\"\",IF('Arrear Sheet'!C9=\"TOTAL\",\"\",'Arrear Sheet'!W9))","v":2100},{"$f":"IF(B9=\"\",\"\",IF('Arrear Sheet'!C9=\"TOTAL\",\"\",'Arrear Sheet'!X9))","v":0},{"$f":"IF(B9=\"\",\"\",IF('Arrear Sheet'!C9=\"TOTAL\",\"\",'Arrear Sheet'!AB9))","v":""},{"$f":"IF(B9=\"\",\"\",IF('Arrear Sheet'!D9=\"TOTAL\",\"\",'Arrear Sheet'!AC9))","v":""},{"$f":"IF(B9=\"\",\"\",IF('Arrear Sheet'!E9=\"TOTAL\",\"\",'Arrear Sheet'!AD9))","v":""},{"$f":"IF(B9=\"\",\"\",IF('Arrear Sheet'!C9=\"TOTAL\",\"\",'Arrear Sheet'!Y9))","v":""},{"$f":"IF(B9=\"\",\"\",IF('Arrear Sheet'!C9=\"TOTAL\",\"\",'Arrear Sheet'!Z9))","v":""},{"$f":"IF(B9=\"\",\"\",IF('Arrear Sheet'!C9=\"TOTAL\",\"\",'Arrear Sheet'!AA9))","v":""},{"$f":"IF(B9=\"\",\"\",IF('Arrear Sheet'!C9=\"TOTAL\",\"\",'Arrear Sheet'!AE9))","v":""},{"$f":"IF(B9=\"\",\"\",IF('Arrear Sheet'!C9=\"TOTAL\",\"\",'Arrear Sheet'!AF9))","v":0},{"$f":"IF(B9=\"\",\"\",'Arrear Sheet'!AG9)","v":606},{"$f":"IFERROR(IF(B9=\"\",\"\",IF('Arrear Sheet'!C9=\"TOTAL\",\"\",SUM(Q9-AF9))),\"\")","v":6941}]
[{"$f":"IF('Arrear Sheet'!B10=\"\",\"\",'Arrear Sheet'!B10)","v":3},{"$f":"IF('Arrear Sheet'!C10=\"\",\"\",IF('Arrear Sheet'!C10=\"TOTAL\",\"\",'Arrear Sheet'!C10))","v":"2019-06-01"},{"$f":"IF('Arrear Sheet'!D10=\"\",\"\",IF('Arrear Sheet'!C10=\"TOTAL\",\"\",IF('Arrear Sheet'!D10=\"अक्षरें राशि :-\",\"\",'Arrear Sheet'!D10)))","v":101200},{"$f":"IF('Arrear Sheet'!E10=\"\",\"\",IF('Arrear Sheet'!C10=\"TOTAL\",\"\",'Arrear Sheet'!E10))","v":14573},{"$f":"IF(B10=\"\",\"\",IF('Arrear Sheet'!D10=\"TOTAL\",\"\",'Arrear Sheet'!F10))","v":8096},{"$f":"IF(B10=\"\",\"\",IF('Arrear Sheet'!E10=\"TOTAL\",\"\",'Arrear Sheet'!G10))","v":20240},{"$f":"IF(B10=\"\",\"\",IF('Arrear Sheet'!C10=\"TOTAL\",\"\",SUM(C10:F10)))","v":144109},{"$f":"IF(B10=\"\",\"\",IF('Arrear Sheet'!C10=\"TOTAL\",\"\",'Arrear Sheet'!I10))","v":95900},{"$f":"IF(B10=\"\",\"\",IF('Arrear Sheet'!C10=\"TOTAL\",\"\",'Arrear Sheet'!J10))","v":13810},{"$f":"IF(B10=\"\",\"\",IF('Arrear Sheet'!C10=\"TOTAL\",\"\",'Arrear Sheet'!K10))","v":7672},{"$f":"IF(B10=\"\",\"\",IF('Arrear Sheet'!D10=\"TOTAL\",\"\",'Arrear Sheet'!L10))","v":19180},{"$f":"IF(B10=\"\",\"\",IF('Arrear Sheet'!C10=\"TOTAL\",\"\",SUM(H10:K10)))","v":136562},{"$f":"IF(B10=\"\",\"\",IF('Arrear Sheet'!C10=\"TOTAL\",\"\",'Arrear Sheet'!N10))","v":5300},{"$f":"IF(B10=\"\",\"\",IF('Arrear Sheet'!C10=\"TOTAL\",\"\",'Arrear Sheet'!O10))","v":763},{"$f":"IF(B10=\"\",\"\",IF('Arrear Sheet'!C10=\"TOTAL\",\"\",'Arrear Sheet'!P10))","v":424},{"$f":"IF(B10=\"\",\"\",IF('Arrear Sheet'!D10=\"TOTAL\",\"\",'Arrear Sheet'!Q10))","v":1060},{"$f":"IF(B10=\"\",\"\",IF('Arrear Sheet'!C10=\"TOTAL\",\"\",SUM(M10:P10)))","v":7547},{"$f":"IF(B10=\"\",\"\",IF('Arrear Sheet'!C10=\"TOTAL\",\"\",'Arrear Sheet'!S10))","v":11577},{"$f":"IF(B10=\"\",\"\",IF('Arrear Sheet'!C10=\"TOTAL\",\"\",'Arrear Sheet'!T10))","v":10971},{"$f":"IF(B10=\"\",\"\",IF('Arrear Sheet'!C10=\"TOTAL\",\"\",'Arrear Sheet'!U10))","v":606},{"$f":"IF(B10=\"\",\"\",IF('Arrear Sheet'!C10=\"TOTAL\",\"\",'Arrear Sheet'!V10))","v":2100},{"$f":"IF(B10=\"\",\"\",IF('Arrear Sheet'!C10=\"TOTAL\",\"\",'Arrear Sheet'!W10))","v":2100},{"$f":"IF(B10=\"\",\"\",IF('Arrear Sheet'!C10=\"TOTAL\",\"\",'Arrear Sheet'!X10))","v":0},{"$f":"IF(B10=\"\",\"\",IF('Arrear Sheet'!C10=\"TOTAL\",\"\",'Arrear Sheet'!AB10))","v":""},{"$f":"IF(B10=\"\",\"\",IF('Arrear Sheet'!D10=\"TOTAL\",\"\",'Arrear Sheet'!AC10))","v":""},{"$f":"IF(B10=\"\",\"\",IF('Arrear Sheet'!E10=\"TOTAL\",\"\",'Arrear Sheet'!AD10))","v":""},{"$f":"IF(B10=\"\",\"\",IF('Arrear Sheet'!C10=\"TOTAL\",\"\",'Arrear Sheet'!Y10))","v":""},{"$f":"IF(B10=\"\",\"\",IF('Arrear Sheet'!C10=\"TOTAL\",\"\",'Arrear Sheet'!Z10))","v":""},{"$f":"IF(B10=\"\",\"\",IF('Arrear Sheet'!C10=\"TOTAL\",\"\",'Arrear Sheet'!AA10))","v":""},{"$f":"IF(B10=\"\",\"\",IF('Arrear Sheet'!C10=\"TOTAL\",\"\",'Arrear Sheet'!AE10))","v":""},{"$f":"IF(B10=\"\",\"\",IF('Arrear Sheet'!C10=\"TOTAL\",\"\",'Arrear Sheet'!AF10))","v":0},{"$f":"IF(B10=\"\",\"\",'Arrear Sheet'!AG10)","v":606},{"$f":"IFERROR(IF(B10=\"\",\"\",IF('Arrear Sheet'!C10=\"TOTAL\",\"\",SUM(Q10-AF10))),\"\")","v":6941}]
[{"$f":"IF('Arrear Sheet'!B11=\"\",\"\",'Arrear Sheet'!B11)","v":4},{"$f":"IF('Arrear Sheet'!C11=\"\",\"\",IF('Arrear Sheet'!C11=\"TOTAL\",\"\",'Arrear Sheet'!C11))","v":"2019-07-01"},{"$f":"IF('Arrear Sheet'!D11=\"\",\"\",IF('Arrear Sheet'!C11=\"TOTAL\",\"\",IF('Arrear Sheet'!D11=\"अक्षरें राशि :-\",\"\",'Arrear Sheet'!D11)))","v":104200},{"$f":"IF('Arrear Sheet'!E11=\"\",\"\",IF('Arrear Sheet'!C11=\"TOTAL\",\"\",'Arrear Sheet'!E11))","v":21257},{"$f":"IF(B11=\"\",\"\",IF('Arrear Sheet'!D11=\"TOTAL\",\"\",'Arrear Sheet'!F11))","v":8336},{"$f":"IF(B11=\"\",\"\",IF('Arrear Sheet'!E11=\"TOTAL\",\"\",'Arrear Sheet'!G11))","v":20840},{"$f":"IF(B11=\"\",\"\",IF('Arrear Sheet'!C11=\"TOTAL\",\"\",SUM(C11:F11)))","v":154633},{"$f":"IF(B11=\"\",\"\",IF('Arrear Sheet'!C11=\"TOTAL\",\"\",'Arrear Sheet'!I11))","v":98800},{"$f":"IF(B11=\"\",\"\",IF('Arrear Sheet'!C11=\"TOTAL\",\"\",'Arrear Sheet'!J11))","v":20155},{"$f":"IF(B11=\"\",\"\",IF('Arrear Sheet'!C11=\"TOTAL\",\"\",'Arrear Sheet'!K11))","v":7904},{"$f":"IF(B11=\"\",\"\",IF('Arrear Sheet'!D11=\"TOTAL\",\"\",'Arrear Sheet'!L11))","v":19760},{"$f":"IF(B11=\"\",\"\",IF('Arrear Sheet'!C11=\"TOTAL\",\"\",SUM(H11:K11)))","v":146619},{"$f":"IF(B11=\"\",\"\",IF('Arrear Sheet'!C11=\"TOTAL\",\"\",'Arrear Sheet'!N11))","v":5400},{"$f":"IF(B11=\"\",\"\",IF('Arrear Sheet'!C11=\"TOTAL\",\"\",'Arrear Sheet'!O11))","v":1102},{"$f":"IF(B11=\"\",\"\",IF('Arrear Sheet'!C11=\"TOTAL\",\"\",'Arrear Sheet'!P11))","v":432},{"$f":"IF(B11=\"\",\"\",IF('Arrear Sheet'!D11=\"TOTAL\",\"\",'Arrear Sheet'!Q11))","v":1080},{"$f":"IF(B11=\"\",\"\",IF('Arrear Sheet'!C11=\"TOTAL\",\"\",SUM(M11:P11)))","v":8014},{"$f":"IF(B11=\"\",\"\",IF('Arrear Sheet'!C11=\"TOTAL\",\"\",'Arrear Sheet'!S11))","v":12546},{"$f":"IF(B11=\"\",\"\",IF('Arrear Sheet'!C11=\"TOTAL\",\"\",'Arrear Sheet'!T11))","v":11896},{"$f":"IF(B11=\"\",\"\",IF('Arrear Sheet'!C11=\"TOTAL\",\"\",'Arrear Sheet'!U11))","v":650},{"$f":"IF(B11=\"\",\"\",IF('Arrear Sheet'!C11=\"TOTAL\",\"\",'Arrear Sheet'!V11))","v":2100},{"$f":"IF(B11=\"\",\"\",IF('Arrear Sheet'!C11=\"TOTAL\",\"\",'Arrear Sheet'!W11))","v":2100},{"$f":"IF(B11=\"\",\"\",IF('Arrear Sheet'!C11=\"TOTAL\",\"\",'Arrear Sheet'!X11))","v":0},{"$f":"IF(B11=\"\",\"\",IF('Arrear Sheet'!C11=\"TOTAL\",\"\",'Arrear Sheet'!AB11))","v":""},{"$f":"IF(B11=\"\",\"\",IF('Arrear Sheet'!D11=\"TOTAL\",\"\",'Arrear Sheet'!AC11))","v":""},{"$f":"IF(B11=\"\",\"\",IF('Arrear Sheet'!E11=\"TOTAL\",\"\",'Arrear Sheet'!AD11))","v":""},{"$f":"IF(B11=\"\",\"\",IF('Arrear Sheet'!C11=\"TOTAL\",\"\",'Arrear Sheet'!Y11))","v":""},{"$f":"IF(B11=\"\",\"\",IF('Arrear Sheet'!C11=\"TOTAL\",\"\",'Arrear Sheet'!Z11))","v":""},{"$f":"IF(B11=\"\",\"\",IF('Arrear Sheet'!C11=\"TOTAL\",\"\",'Arrear Sheet'!AA11))","v":""},{"$f":"IF(B11=\"\",\"\",IF('Arrear Sheet'!C11=\"TOTAL\",\"\",'Arrear Sheet'!AE11))","v":""},{"$f":"IF(B11=\"\",\"\",IF('Arrear Sheet'!C11=\"TOTAL\",\"\",'Arrear Sheet'!AF11))","v":0},{"$f":"IF(B11=\"\",\"\",'Arrear Sheet'!AG11)","v":650},{"$f":"IFERROR(IF(B11=\"\",\"\",IF('Arrear Sheet'!C11=\"TOTAL\",\"\",SUM(Q11-AF11))),\"\")","v":7364}]
[{"$f":"IF('Arrear Sheet'!B12=\"\",\"\",'Arrear Sheet'!B12)","v":5},{"$f":"IF('Arrear Sheet'!C12=\"\",\"\",IF('Arrear Sheet'!C12=\"TOTAL\",\"\",'Arrear Sheet'!C12))","v":"2019-08-01"},{"$f":"IF('Arrear Sheet'!D12=\"\",\"\",IF('Arrear Sheet'!C12=\"TOTAL\",\"\",IF('Arrear Sheet'!D12=\"अक्षरें राशि :-\",\"\",'Arrear Sheet'!D12)))","v":104200},{"$f":"IF('Arrear Sheet'!E12=\"\",\"\",IF('Arrear Sheet'!C12=\"TOTAL\",\"\",'Arrear Sheet'!E12))","v":21257},{"$f":"IF(B12=\"\",\"\",IF('Arrear Sheet'!D12=\"TOTAL\",\"\",'Arrear Sheet'!F12))","v":8336},{"$f":"IF(B12=\"\",\"\",IF('Arrear Sheet'!E12=\"TOTAL\",\"\",'Arrear Sheet'!G12))","v":20840},{"$f":"IF(B12=\"\",\"\",IF('Arrear Sheet'!C12=\"TOTAL\",\"\",SUM(C12:F12)))","v":154633},{"$f":"IF(B12=\"\",\"\",IF('Arrear Sheet'!C12=\"TOTAL\",\"\",'Arrear Sheet'!I12))","v":98800},{"$f":"IF(B12=\"\",\"\",IF('Arrear Sheet'!C12=\"TOTAL\",\"\",'Arrear Sheet'!J12))","v":20155},{"$f":"IF(B12=\"\",\"\",IF('Arrear Sheet'!C12=\"TOTAL\",\"\",'Arrear Sheet'!K12))","v":7904},{"$f":"IF(B12=\"\",\"\",IF('Arrear Sheet'!D12=\"TOTAL\",\"\",'Arrear Sheet'!L12))","v":19760},{"$f":"IF(B12=\"\",\"\",IF('Arrear Sheet'!C12=\"TOTAL\",\"\",SUM(H12:K12)))","v":146619},{"$f":"IF(B12=\"\",\"\",IF('Arrear Sheet'!C12=\"TOTAL\",\"\",'Arrear Sheet'!N12))","v":5400},{"$f":"IF(B12=\"\",\"\",IF('Arrear Sheet'!C12=\"TOTAL\",\"\",'Arrear Sheet'!O12))","v":1102},{"$f":"IF(B12=\"\",\"\",IF('Arrear Sheet'!C12=\"TOTAL\",\"\",'Arrear Sheet'!P12))","v":432},{"$f":"IF(B12=\"\",\"\",IF('Arrear Sheet'!D12=\"TOTAL\",\"\",'Arrear Sheet'!Q12))","v":1080},{"$f":"IF(B12=\"\",\"\",IF('Arrear Sheet'!C12=\"TOTAL\",\"\",SUM(M12:P12)))","v":8014},{"$f":"IF(B12=\"\",\"\",IF('Arrear Sheet'!C12=\"TOTAL\",\"\",'Arrear Sheet'!S12))","v":12546},{"$f":"IF(B12=\"\",\"\",IF('Arrear Sheet'!C12=\"TOTAL\",\"\",'Arrear Sheet'!T12))","v":11896},{"$f":"IF(B12=\"\",\"\",IF('Arrear Sheet'!C12=\"TOTAL\",\"\",'Arrear Sheet'!U12))","v":650},{"$f":"IF(B12=\"\",\"\",IF('Arrear Sheet'!C12=\"TOTAL\",\"\",'Arrear Sheet'!V12))","v":2100},{"$f":"IF(B12=\"\",\"\",IF('Arrear Sheet'!C12=\"TOTAL\",\"\",'Arrear Sheet'!W12))","v":2100},{"$f":"IF(B12=\"\",\"\",IF('Arrear Sheet'!C12=\"TOTAL\",\"\",'Arrear Sheet'!X12))","v":0},{"$f":"IF(B12=\"\",\"\",IF('Arrear Sheet'!C12=\"TOTAL\",\"\",'Arrear Sheet'!AB12))","v":""},{"$f":"IF(B12=\"\",\"\",IF('Arrear Sheet'!D12=\"TOTAL\",\"\",'Arrear Sheet'!AC12))","v":""},{"$f":"IF(B12=\"\",\"\",IF('Arrear Sheet'!E12=\"TOTAL\",\"\",'Arrear Sheet'!AD12))","v":""},{"$f":"IF(B12=\"\",\"\",IF('Arrear Sheet'!C12=\"TOTAL\",\"\",'Arrear Sheet'!Y12))","v":""},{"$f":"IF(B12=\"\",\"\",IF('Arrear Sheet'!C12=\"TOTAL\",\"\",'Arrear Sheet'!Z12))","v":""},{"$f":"IF(B12=\"\",\"\",IF('Arrear Sheet'!C12=\"TOTAL\",\"\",'Arrear Sheet'!AA12))","v":""},{"$f":"IF(B12=\"\",\"\",IF('Arrear Sheet'!C12=\"TOTAL\",\"\",'Arrear Sheet'!AE12))","v":""},{"$f":"IF(B12=\"\",\"\",IF('Arrear Sheet'!C12=\"TOTAL\",\"\",'Arrear Sheet'!AF12))","v":0},{"$f":"IF(B12=\"\",\"\",'Arrear Sheet'!AG12)","v":650},{"$f":"IFERROR(IF(B12=\"\",\"\",IF('Arrear Sheet'!C12=\"TOTAL\",\"\",SUM(Q12-AF12))),\"\")","v":7364}]
[{"$f":"IF('Arrear Sheet'!B13=\"\",\"\",'Arrear Sheet'!B13)","v":6},{"$f":"IF('Arrear Sheet'!C13=\"\",\"\",IF('Arrear Sheet'!C13=\"TOTAL\",\"\",'Arrear Sheet'!C13))","v":"2019-09-01"},{"$f":"IF('Arrear Sheet'!D13=\"\",\"\",IF('Arrear Sheet'!C13=\"TOTAL\",\"\",IF('Arrear Sheet'!D13=\"अक्षरें राशि :-\",\"\",'Arrear Sheet'!D13)))","v":104200},{"$f":"IF('Arrear Sheet'!E13=\"\",\"\",IF('Arrear Sheet'!C13=\"TOTAL\",\"\",'Arrear Sheet'!E13))","v":21257},{"$f":"IF(B13=\"\",\"\",IF('Arrear Sheet'!D13=\"TOTAL\",\"\",'Arrear Sheet'!F13))","v":8336},{"$f":"IF(B13=\"\",\"\",IF('Arrear Sheet'!E13=\"TOTAL\",\"\",'Arrear Sheet'!G13))","v":20840},{"$f":"IF(B13=\"\",\"\",IF('Arrear Sheet'!C13=\"TOTAL\",\"\",SUM(C13:F13)))","v":154633},{"$f":"IF(B13=\"\",\"\",IF('Arrear Sheet'!C13=\"TOTAL\",\"\",'Arrear Sheet'!I13))","v":98800},{"$f":"IF(B13=\"\",\"\",IF('Arrear Sheet'!C13=\"TOTAL\",\"\",'Arrear Sheet'!J13))","v":20155},{"$f":"IF(B13=\"\",\"\",IF('Arrear Sheet'!C13=\"TOTAL\",\"\",'Arrear Sheet'!K13))","v":7904},{"$f":"IF(B13=\"\",\"\",IF('Arrear Sheet'!D13=\"TOTAL\",\"\",'Arrear Sheet'!L13))","v":19760},{"$f":"IF(B13=\"\",\"\",IF('Arrear Sheet'!C13=\"TOTAL\",\"\",SUM(H13:K13)))","v":146619},{"$f":"IF(B13=\"\",\"\",IF('Arrear Sheet'!C13=\"TOTAL\",\"\",'Arrear Sheet'!N13))","v":5400},{"$f":"IF(B13=\"\",\"\",IF('Arrear Sheet'!C13=\"TOTAL\",\"\",'Arrear Sheet'!O13))","v":1102},{"$f":"IF(B13=\"\",\"\",IF('Arrear Sheet'!C13=\"TOTAL\",\"\",'Arrear Sheet'!P13))","v":432},{"$f":"IF(B13=\"\",\"\",IF('Arrear Sheet'!D13=\"TOTAL\",\"\",'Arrear Sheet'!Q13))","v":1080},{"$f":"IF(B13=\"\",\"\",IF('Arrear Sheet'!C13=\"TOTAL\",\"\",SUM(M13:P13)))","v":8014},{"$f":"IF(B13=\"\",\"\",IF('Arrear Sheet'!C13=\"TOTAL\",\"\",'Arrear Sheet'!S13))","v":12546},{"$f":"IF(B13=\"\",\"\",IF('Arrear Sheet'!C13=\"TOTAL\",\"\",'Arrear Sheet'!T13))","v":11896},{"$f":"IF(B13=\"\",\"\",IF('Arrear Sheet'!C13=\"TOTAL\",\"\",'Arrear Sheet'!U13))","v":650},{"$f":"IF(B13=\"\",\"\",IF('Arrear Sheet'!C13=\"TOTAL\",\"\",'Arrear Sheet'!V13))","v":2100},{"$f":"IF(B13=\"\",\"\",IF('Arrear Sheet'!C13=\"TOTAL\",\"\",'Arrear Sheet'!W13))","v":2100},{"$f":"IF(B13=\"\",\"\",IF('Arrear Sheet'!C13=\"TOTAL\",\"\",'Arrear Sheet'!X13))","v":0},{"$f":"IF(B13=\"\",\"\",IF('Arrear Sheet'!C13=\"TOTAL\",\"\",'Arrear Sheet'!AB13))","v":""},{"$f":"IF(B13=\"\",\"\",IF('Arrear Sheet'!D13=\"TOTAL\",\"\",'Arrear Sheet'!AC13))","v":""},{"$f":"IF(B13=\"\",\"\",IF('Arrear Sheet'!E13=\"TOTAL\",\"\",'Arrear Sheet'!AD13))","v":""},{"$f":"IF(B13=\"\",\"\",IF('Arrear Sheet'!C13=\"TOTAL\",\"\",'Arrear Sheet'!Y13))","v":""},{"$f":"IF(B13=\"\",\"\",IF('Arrear Sheet'!C13=\"TOTAL\",\"\",'Arrear Sheet'!Z13))","v":""},{"$f":"IF(B13=\"\",\"\",IF('Arrear Sheet'!C13=\"TOTAL\",\"\",'Arrear Sheet'!AA13))","v":""},{"$f":"IF(B13=\"\",\"\",IF('Arrear Sheet'!C13=\"TOTAL\",\"\",'Arrear Sheet'!AE13))","v":""},{"$f":"IF(B13=\"\",\"\",IF('Arrear Sheet'!C13=\"TOTAL\",\"\",'Arrear Sheet'!AF13))","v":0},{"$f":"IF(B13=\"\",\"\",'Arrear Sheet'!AG13)","v":650},{"$f":"IFERROR(IF(B13=\"\",\"\",IF('Arrear Sheet'!C13=\"TOTAL\",\"\",SUM(Q13-AF13))),\"\")","v":7364}]
[{"$f":"IF('Arrear Sheet'!B14=\"\",\"\",'Arrear Sheet'!B14)","v":7},{"$f":"IF('Arrear Sheet'!C14=\"\",\"\",IF('Arrear Sheet'!C14=\"TOTAL\",\"\",'Arrear Sheet'!C14))","v":"2019-10-01"},{"$f":"IF('Arrear Sheet'!D14=\"\",\"\",IF('Arrear Sheet'!C14=\"TOTAL\",\"\",IF('Arrear Sheet'!D14=\"अक्षरें राशि :-\",\"\",'Arrear Sheet'!D14)))","v":104200},{"$f":"IF('Arrear Sheet'!E14=\"\",\"\",IF('Arrear Sheet'!C14=\"TOTAL\",\"\",'Arrear Sheet'!E14))","v":21257},{"$f":"IF(B14=\"\",\"\",IF('Arrear Sheet'!D14=\"TOTAL\",\"\",'Arrear Sheet'!F14))","v":8336},{"$f":"IF(B14=\"\",\"\",IF('Arrear Sheet'!E14=\"TOTAL\",\"\",'Arrear Sheet'!G14))","v":20840},{"$f":"IF(B14=\"\",\"\",IF('Arrear Sheet'!C14=\"TOTAL\",\"\",SUM(C14:F14)))","v":154633},{"$f":"IF(B14=\"\",\"\",IF('Arrear Sheet'!C14=\"TOTAL\",\"\",'Arrear Sheet'!I14))","v":98800},{"$f":"IF(B14=\"\",\"\",IF('Arrear Sheet'!C14=\"TOTAL\",\"\",'Arrear Sheet'!J14))","v":20155},{"$f":"IF(B14=\"\",\"\",IF('Arrear Sheet'!C14=\"TOTAL\",\"\",'Arrear Sheet'!K14))","v":7904},{"$f":"IF(B14=\"\",\"\",IF('Arrear Sheet'!D14=\"TOTAL\",\"\",'Arrear Sheet'!L14))","v":19760},{"$f":"IF(B14=\"\",\"\",IF('Arrear Sheet'!C14=\"TOTAL\",\"\",SUM(H14:K14)))","v":146619},{"$f":"IF(B14=\"\",\"\",IF('Arrear Sheet'!C14=\"TOTAL\",\"\",'Arrear Sheet'!N14))","v":5400},{"$f":"IF(B14=\"\",\"\",IF('Arrear Sheet'!C14=\"TOTAL\",\"\",'Arrear Sheet'!O14))","v":1102},{"$f":"IF(B14=\"\",\"\",IF('Arrear Sheet'!C14=\"TOTAL\",\"\",'Arrear Sheet'!P14))","v":432},{"$f":"IF(B14=\"\",\"\",IF('Arrear Sheet'!D14=\"TOTAL\",\"\",'Arrear Sheet'!Q14))","v":1080},{"$f":"IF(B14=\"\",\"\",IF('Arrear Sheet'!C14=\"TOTAL\",\"\",SUM(M14:P14)))","v":8014},{"$f":"IF(B14=\"\",\"\",IF('Arrear Sheet'!C14=\"TOTAL\",\"\",'Arrear Sheet'!S14))","v":12546},{"$f":"IF(B14=\"\",\"\",IF('Arrear Sheet'!C14=\"TOTAL\",\"\",'Arrear Sheet'!T14))","v":11896},{"$f":"IF(B14=\"\",\"\",IF('Arrear Sheet'!C14=\"TOTAL\",\"\",'Arrear Sheet'!U14))","v":650},{"$f":"IF(B14=\"\",\"\",IF('Arrear Sheet'!C14=\"TOTAL\",\"\",'Arrear Sheet'!V14))","v":2100},{"$f":"IF(B14=\"\",\"\",IF('Arrear Sheet'!C14=\"TOTAL\",\"\",'Arrear Sheet'!W14))","v":2100},{"$f":"IF(B14=\"\",\"\",IF('Arrear Sheet'!C14=\"TOTAL\",\"\",'Arrear Sheet'!X14))","v":0},{"$f":"IF(B14=\"\",\"\",IF('Arrear Sheet'!C14=\"TOTAL\",\"\",'Arrear Sheet'!AB14))","v":""},{"$f":"IF(B14=\"\",\"\",IF('Arrear Sheet'!D14=\"TOTAL\",\"\",'Arrear Sheet'!AC14))","v":""},{"$f":"IF(B14=\"\",\"\",IF('Arrear Sheet'!E14=\"TOTAL\",\"\",'Arrear Sheet'!AD14))","v":""},{"$f":"IF(B14=\"\",\"\",IF('Arrear Sheet'!C14=\"TOTAL\",\"\",'Arrear Sheet'!Y14))","v":""},{"$f":"IF(B14=\"\",\"\",IF('Arrear Sheet'!C14=\"TOTAL\",\"\",'Arrear Sheet'!Z14))","v":""},{"$f":"IF(B14=\"\",\"\",IF('Arrear Sheet'!C14=\"TOTAL\",\"\",'Arrear Sheet'!AA14))","v":""},{"$f":"IF(B14=\"\",\"\",IF('Arrear Sheet'!C14=\"TOTAL\",\"\",'Arrear Sheet'!AE14))","v":""},{"$f":"IF(B14=\"\",\"\",IF('Arrear Sheet'!C14=\"TOTAL\",\"\",'Arrear Sheet'!AF14))","v":0},{"$f":"IF(B14=\"\",\"\",'Arrear Sheet'!AG14)","v":650},{"$f":"IFERROR(IF(B14=\"\",\"\",IF('Arrear Sheet'!C14=\"TOTAL\",\"\",SUM(Q14-AF14))),\"\")","v":7364}]
[{"$f":"IF('Arrear Sheet'!B15=\"\",\"\",'Arrear Sheet'!B15)","v":8},{"$f":"IF('Arrear Sheet'!C15=\"\",\"\",IF('Arrear Sheet'!C15=\"TOTAL\",\"\",'Arrear Sheet'!C15))","v":"2019-11-01"},{"$f":"IF('Arrear Sheet'!D15=\"\",\"\",IF('Arrear Sheet'!C15=\"TOTAL\",\"\",IF('Arrear Sheet'!D15=\"अक्षरें राशि :-\",\"\",'Arrear Sheet'!D15)))","v":104200},{"$f":"IF('Arrear Sheet'!E15=\"\",\"\",IF('Arrear Sheet'!C15=\"TOTAL\",\"\",'Arrear Sheet'!E15))","v":21257},{"$f":"IF(B15=\"\",\"\",IF('Arrear Sheet'!D15=\"TOTAL\",\"\",'Arrear Sheet'!F15))","v":8336},{"$f":"IF(B15=\"\",\"\",IF('Arrear Sheet'!E15=\"TOTAL\",\"\",'Arrear Sheet'!G15))","v":20840},{"$f":"IF(B15=\"\",\"\",IF('Arrear Sheet'!C15=\"TOTAL\",\"\",SUM(C15:F15)))","v":154633},{"$f":"IF(B15=\"\",\"\",IF('Arrear Sheet'!C15=\"TOTAL\",\"\",'Arrear Sheet'!I15))","v":98800},{"$f":"IF(B15=\"\",\"\",IF('Arrear Sheet'!C15=\"TOTAL\",\"\",'Arrear Sheet'!J15))","v":20155},{"$f":"IF(B15=\"\",\"\",IF('Arrear Sheet'!C15=\"TOTAL\",\"\",'Arrear Sheet'!K15))","v":7904},{"$f":"IF(B15=\"\",\"\",IF('Arrear Sheet'!D15=\"TOTAL\",\"\",'Arrear Sheet'!L15))","v":19760},{"$f":"IF(B15=\"\",\"\",IF('Arrear Sheet'!C15=\"TOTAL\",\"\",SUM(H15:K15)))","v":146619},{"$f":"IF(B15=\"\",\"\",IF('Arrear Sheet'!C15=\"TOTAL\",\"\",'Arrear Sheet'!N15))","v":5400},{"$f":"IF(B15=\"\",\"\",IF('Arrear Sheet'!C15=\"TOTAL\",\"\",'Arrear Sheet'!O15))","v":1102},{"$f":"IF(B15=\"\",\"\",IF('Arrear Sheet'!C15=\"TOTAL\",\"\",'Arrear Sheet'!P15))","v":432},{"$f":"IF(B15=\"\",\"\",IF('Arrear Sheet'!D15=\"TOTAL\",\"\",'Arrear Sheet'!Q15))","v":1080},{"$f":"IF(B15=\"\",\"\",IF('Arrear Sheet'!C15=\"TOTAL\",\"\",SUM(M15:P15)))","v":8014},{"$f":"IF(B15=\"\",\"\",IF('Arrear Sheet'!C15=\"TOTAL\",\"\",'Arrear Sheet'!S15))","v":12546},{"$f":"IF(B15=\"\",\"\",IF('Arrear Sheet'!C15=\"TOTAL\",\"\",'Arrear Sheet'!T15))","v":11896},{"$f":"IF(B15=\"\",\"\",IF('Arrear Sheet'!C15=\"TOTAL\",\"\",'Arrear Sheet'!U15))","v":650},{"$f":"IF(B15=\"\",\"\",IF('Arrear Sheet'!C15=\"TOTAL\",\"\",'Arrear Sheet'!V15))","v":2100},{"$f":"IF(B15=\"\",\"\",IF('Arrear Sheet'!C15=\"TOTAL\",\"\",'Arrear Sheet'!W15))","v":2100},{"$f":"IF(B15=\"\",\"\",IF('Arrear Sheet'!C15=\"TOTAL\",\"\",'Arrear Sheet'!X15))","v":0},{"$f":"IF(B15=\"\",\"\",IF('Arrear Sheet'!C15=\"TOTAL\",\"\",'Arrear Sheet'!AB15))","v":""},{"$f":"IF(B15=\"\",\"\",IF('Arrear Sheet'!D15=\"TOTAL\",\"\",'Arrear Sheet'!AC15))","v":""},{"$f":"IF(B15=\"\",\"\",IF('Arrear Sheet'!E15=\"TOTAL\",\"\",'Arrear Sheet'!AD15))","v":""},{"$f":"IF(B15=\"\",\"\",IF('Arrear Sheet'!C15=\"TOTAL\",\"\",'Arrear Sheet'!Y15))","v":""},{"$f":"IF(B15=\"\",\"\",IF('Arrear Sheet'!C15=\"TOTAL\",\"\",'Arrear Sheet'!Z15))","v":""},{"$f":"IF(B15=\"\",\"\",IF('Arrear Sheet'!C15=\"TOTAL\",\"\",'Arrear Sheet'!AA15))","v":""},{"$f":"IF(B15=\"\",\"\",IF('Arrear Sheet'!C15=\"TOTAL\",\"\",'Arrear Sheet'!AE15))","v":""},{"$f":"IF(B15=\"\",\"\",IF('Arrear Sheet'!C15=\"TOTAL\",\"\",'Arrear Sheet'!AF15))","v":0},{"$f":"IF(B15=\"\",\"\",'Arrear Sheet'!AG15)","v":650},{"$f":"IFERROR(IF(B15=\"\",\"\",IF('Arrear Sheet'!C15=\"TOTAL\",\"\",SUM(Q15-AF15))),\"\")","v":7364}]
[{"$f":"IF('Arrear Sheet'!B16=\"\",\"\",'Arrear Sheet'!B16)","v":9},{"$f":"IF('Arrear Sheet'!C16=\"\",\"\",IF('Arrear Sheet'!C16=\"TOTAL\",\"\",'Arrear Sheet'!C16))","v":"2019-12-01"},{"$f":"IF('Arrear Sheet'!D16=\"\",\"\",IF('Arrear Sheet'!C16=\"TOTAL\",\"\",IF('Arrear Sheet'!D16=\"अक्षरें राशि :-\",\"\",'Arrear Sheet'!D16)))","v":104200},{"$f":"IF('Arrear Sheet'!E16=\"\",\"\",IF('Arrear Sheet'!C16=\"TOTAL\",\"\",'Arrear Sheet'!E16))","v":21257},{"$f":"IF(B16=\"\",\"\",IF('Arrear Sheet'!D16=\"TOTAL\",\"\",'Arrear Sheet'!F16))","v":8336},{"$f":"IF(B16=\"\",\"\",IF('Arrear Sheet'!E16=\"TOTAL\",\"\",'Arrear Sheet'!G16))","v":20840},{"$f":"IF(B16=\"\",\"\",IF('Arrear Sheet'!C16=\"TOTAL\",\"\",SUM(C16:F16)))","v":154633},{"$f":"IF(B16=\"\",\"\",IF('Arrear Sheet'!C16=\"TOTAL\",\"\",'Arrear Sheet'!I16))","v":98800},{"$f":"IF(B16=\"\",\"\",IF('Arrear Sheet'!C16=\"TOTAL\",\"\",'Arrear Sheet'!J16))","v":20155},{"$f":"IF(B16=\"\",\"\",IF('Arrear Sheet'!C16=\"TOTAL\",\"\",'Arrear Sheet'!K16))","v":7904},{"$f":"IF(B16=\"\",\"\",IF('Arrear Sheet'!D16=\"TOTAL\",\"\",'Arrear Sheet'!L16))","v":19760},{"$f":"IF(B16=\"\",\"\",IF('Arrear Sheet'!C16=\"TOTAL\",\"\",SUM(H16:K16)))","v":146619},{"$f":"IF(B16=\"\",\"\",IF('Arrear Sheet'!C16=\"TOTAL\",\"\",'Arrear Sheet'!N16))","v":5400},{"$f":"IF(B16=\"\",\"\",IF('Arrear Sheet'!C16=\"TOTAL\",\"\",'Arrear Sheet'!O16))","v":1102},{"$f":"IF(B16=\"\",\"\",IF('Arrear Sheet'!C16=\"TOTAL\",\"\",'Arrear Sheet'!P16))","v":432},{"$f":"IF(B16=\"\",\"\",IF('Arrear Sheet'!D16=\"TOTAL\",\"\",'Arrear Sheet'!Q16))","v":1080},{"$f":"IF(B16=\"\",\"\",IF('Arrear Sheet'!C16=\"TOTAL\",\"\",SUM(M16:P16)))","v":8014},{"$f":"IF(B16=\"\",\"\",IF('Arrear Sheet'!C16=\"TOTAL\",\"\",'Arrear Sheet'!S16))","v":12546},{"$f":"IF(B16=\"\",\"\",IF('Arrear Sheet'!C16=\"TOTAL\",\"\",'Arrear Sheet'!T16))","v":11896},{"$f":"IF(B16=\"\",\"\",IF('Arrear Sheet'!C16=\"TOTAL\",\"\",'Arrear Sheet'!U16))","v":650},{"$f":"IF(B16=\"\",\"\",IF('Arrear Sheet'!C16=\"TOTAL\",\"\",'Arrear Sheet'!V16))","v":2100},{"$f":"IF(B16=\"\",\"\",IF('Arrear Sheet'!C16=\"TOTAL\",\"\",'Arrear Sheet'!W16))","v":2100},{"$f":"IF(B16=\"\",\"\",IF('Arrear Sheet'!C16=\"TOTAL\",\"\",'Arrear Sheet'!X16))","v":0},{"$f":"IF(B16=\"\",\"\",IF('Arrear Sheet'!C16=\"TOTAL\",\"\",'Arrear Sheet'!AB16))","v":""},{"$f":"IF(B16=\"\",\"\",IF('Arrear Sheet'!D16=\"TOTAL\",\"\",'Arrear Sheet'!AC16))","v":""},{"$f":"IF(B16=\"\",\"\",IF('Arrear Sheet'!E16=\"TOTAL\",\"\",'Arrear Sheet'!AD16))","v":""},{"$f":"IF(B16=\"\",\"\",IF('Arrear Sheet'!C16=\"TOTAL\",\"\",'Arrear Sheet'!Y16))","v":""},{"$f":"IF(B16=\"\",\"\",IF('Arrear Sheet'!C16=\"TOTAL\",\"\",'Arrear Sheet'!Z16))","v":""},{"$f":"IF(B16=\"\",\"\",IF('Arrear Sheet'!C16=\"TOTAL\",\"\",'Arrear Sheet'!AA16))","v":""},{"$f":"IF(B16=\"\",\"\",IF('Arrear Sheet'!C16=\"TOTAL\",\"\",'Arrear Sheet'!AE16))","v":""},{"$f":"IF(B16=\"\",\"\",IF('Arrear Sheet'!C16=\"TOTAL\",\"\",'Arrear Sheet'!AF16))","v":0},{"$f":"IF(B16=\"\",\"\",'Arrear Sheet'!AG16)","v":650},{"$f":"IFERROR(IF(B16=\"\",\"\",IF('Arrear Sheet'!C16=\"TOTAL\",\"\",SUM(Q16-AF16))),\"\")","v":7364}]
[{"$f":"IF('Arrear Sheet'!B17=\"\",\"\",'Arrear Sheet'!B17)","v":10},{"$f":"IF('Arrear Sheet'!C17=\"\",\"\",IF('Arrear Sheet'!C17=\"TOTAL\",\"\",'Arrear Sheet'!C17))","v":"2020-01-01"},{"$f":"IF('Arrear Sheet'!D17=\"\",\"\",IF('Arrear Sheet'!C17=\"TOTAL\",\"\",IF('Arrear Sheet'!D17=\"अक्षरें राशि :-\",\"\",'Arrear Sheet'!D17)))","v":104200},{"$f":"IF('Arrear Sheet'!E17=\"\",\"\",IF('Arrear Sheet'!C17=\"TOTAL\",\"\",'Arrear Sheet'!E17))","v":21257},{"$f":"IF(B17=\"\",\"\",IF('Arrear Sheet'!D17=\"TOTAL\",\"\",'Arrear Sheet'!F17))","v":8336},{"$f":"IF(B17=\"\",\"\",IF('Arrear Sheet'!E17=\"TOTAL\",\"\",'Arrear Sheet'!G17))","v":20840},{"$f":"IF(B17=\"\",\"\",IF('Arrear Sheet'!C17=\"TOTAL\",\"\",SUM(C17:F17)))","v":154633},{"$f":"IF(B17=\"\",\"\",IF('Arrear Sheet'!C17=\"TOTAL\",\"\",'Arrear Sheet'!I17))","v":98800},{"$f":"IF(B17=\"\",\"\",IF('Arrear Sheet'!C17=\"TOTAL\",\"\",'Arrear Sheet'!J17))","v":20155},{"$f":"IF(B17=\"\",\"\",IF('Arrear Sheet'!C17=\"TOTAL\",\"\",'Arrear Sheet'!K17))","v":7904},{"$f":"IF(B17=\"\",\"\",IF('Arrear Sheet'!D17=\"TOTAL\",\"\",'Arrear Sheet'!L17))","v":19760},{"$f":"IF(B17=\"\",\"\",IF('Arrear Sheet'!C17=\"TOTAL\",\"\",SUM(H17:K17)))","v":146619},{"$f":"IF(B17=\"\",\"\",IF('Arrear Sheet'!C17=\"TOTAL\",\"\",'Arrear Sheet'!N17))","v":5400},{"$f":"IF(B17=\"\",\"\",IF('Arrear Sheet'!C17=\"TOTAL\",\"\",'Arrear Sheet'!O17))","v":1102},{"$f":"IF(B17=\"\",\"\",IF('Arrear Sheet'!C17=\"TOTAL\",\"\",'Arrear Sheet'!P17))","v":432},{"$f":"IF(B17=\"\",\"\",IF('Arrear Sheet'!D17=\"TOTAL\",\"\",'Arrear Sheet'!Q17))","v":1080},{"$f":"IF(B17=\"\",\"\",IF('Arrear Sheet'!C17=\"TOTAL\",\"\",SUM(M17:P17)))","v":8014},{"$f":"IF(B17=\"\",\"\",IF('Arrear Sheet'!C17=\"TOTAL\",\"\",'Arrear Sheet'!S17))","v":12546},{"$f":"IF(B17=\"\",\"\",IF('Arrear Sheet'!C17=\"TOTAL\",\"\",'Arrear Sheet'!T17))","v":11896},{"$f":"IF(B17=\"\",\"\",IF('Arrear Sheet'!C17=\"TOTAL\",\"\",'Arrear Sheet'!U17))","v":650},{"$f":"IF(B17=\"\",\"\",IF('Arrear Sheet'!C17=\"TOTAL\",\"\",'Arrear Sheet'!V17))","v":2100},{"$f":"IF(B17=\"\",\"\",IF('Arrear Sheet'!C17=\"TOTAL\",\"\",'Arrear Sheet'!W17))","v":2100},{"$f":"IF(B17=\"\",\"\",IF('Arrear Sheet'!C17=\"TOTAL\",\"\",'Arrear Sheet'!X17))","v":0},{"$f":"IF(B17=\"\",\"\",IF('Arrear Sheet'!C17=\"TOTAL\",\"\",'Arrear Sheet'!AB17))","v":""},{"$f":"IF(B17=\"\",\"\",IF('Arrear Sheet'!D17=\"TOTAL\",\"\",'Arrear Sheet'!AC17))","v":""},{"$f":"IF(B17=\"\",\"\",IF('Arrear Sheet'!E17=\"TOTAL\",\"\",'Arrear Sheet'!AD17))","v":""},{"$f":"IF(B17=\"\",\"\",IF('Arrear Sheet'!C17=\"TOTAL\",\"\",'Arrear Sheet'!Y17))","v":""},{"$f":"IF(B17=\"\",\"\",IF('Arrear Sheet'!C17=\"TOTAL\",\"\",'Arrear Sheet'!Z17))","v":""},{"$f":"IF(B17=\"\",\"\",IF('Arrear Sheet'!C17=\"TOTAL\",\"\",'Arrear Sheet'!AA17))","v":""},{"$f":"IF(B17=\"\",\"\",IF('Arrear Sheet'!C17=\"TOTAL\",\"\",'Arrear Sheet'!AE17))","v":""},{"$f":"IF(B17=\"\",\"\",IF('Arrear Sheet'!C17=\"TOTAL\",\"\",'Arrear Sheet'!AF17))","v":0},{"$f":"IF(B17=\"\",\"\",'Arrear Sheet'!AG17)","v":650},{"$f":"IFERROR(IF(B17=\"\",\"\",IF('Arrear Sheet'!C17=\"TOTAL\",\"\",SUM(Q17-AF17))),\"\")","v":7364}]
[{"$f":"IF('Arrear Sheet'!B18=\"\",\"\",'Arrear Sheet'!B18)","v":11},{"$f":"IF('Arrear Sheet'!C18=\"\",\"\",IF('Arrear Sheet'!C18=\"TOTAL\",\"\",'Arrear Sheet'!C18))","v":"2020-02-01"},{"$f":"IF('Arrear Sheet'!D18=\"\",\"\",IF('Arrear Sheet'!C18=\"TOTAL\",\"\",IF('Arrear Sheet'!D18=\"अक्षरें राशि :-\",\"\",'Arrear Sheet'!D18)))","v":104200},{"$f":"IF('Arrear Sheet'!E18=\"\",\"\",IF('Arrear Sheet'!C18=\"TOTAL\",\"\",'Arrear Sheet'!E18))","v":21257},{"$f":"IF(B18=\"\",\"\",IF('Arrear Sheet'!D18=\"TOTAL\",\"\",'Arrear Sheet'!F18))","v":8336},{"$f":"IF(B18=\"\",\"\",IF('Arrear Sheet'!E18=\"TOTAL\",\"\",'Arrear Sheet'!G18))","v":20840},{"$f":"IF(B18=\"\",\"\",IF('Arrear Sheet'!C18=\"TOTAL\",\"\",SUM(C18:F18)))","v":154633},{"$f":"IF(B18=\"\",\"\",IF('Arrear Sheet'!C18=\"TOTAL\",\"\",'Arrear Sheet'!I18))","v":98800},{"$f":"IF(B18=\"\",\"\",IF('Arrear Sheet'!C18=\"TOTAL\",\"\",'Arrear Sheet'!J18))","v":20155},{"$f":"IF(B18=\"\",\"\",IF('Arrear Sheet'!C18=\"TOTAL\",\"\",'Arrear Sheet'!K18))","v":7904},{"$f":"IF(B18=\"\",\"\",IF('Arrear Sheet'!D18=\"TOTAL\",\"\",'Arrear Sheet'!L18))","v":19760},{"$f":"IF(B18=\"\",\"\",IF('Arrear Sheet'!C18=\"TOTAL\",\"\",SUM(H18:K18)))","v":146619},{"$f":"IF(B18=\"\",\"\",IF('Arrear Sheet'!C18=\"TOTAL\",\"\",'Arrear Sheet'!N18))","v":5400},{"$f":"IF(B18=\"\",\"\",IF('Arrear Sheet'!C18=\"TOTAL\",\"\",'Arrear Sheet'!O18))","v":1102},{"$f":"IF(B18=\"\",\"\",IF('Arrear Sheet'!C18=\"TOTAL\",\"\",'Arrear Sheet'!P18))","v":432},{"$f":"IF(B18=\"\",\"\",IF('Arrear Sheet'!D18=\"TOTAL\",\"\",'Arrear Sheet'!Q18))","v":1080},{"$f":"IF(B18=\"\",\"\",IF('Arrear Sheet'!C18=\"TOTAL\",\"\",SUM(M18:P18)))","v":8014},{"$f":"IF(B18=\"\",\"\",IF('Arrear Sheet'!C18=\"TOTAL\",\"\",'Arrear Sheet'!S18))","v":12546},{"$f":"IF(B18=\"\",\"\",IF('Arrear Sheet'!C18=\"TOTAL\",\"\",'Arrear Sheet'!T18))","v":11896},{"$f":"IF(B18=\"\",\"\",IF('Arrear Sheet'!C18=\"TOTAL\",\"\",'Arrear Sheet'!U18))","v":650},{"$f":"IF(B18=\"\",\"\",IF('Arrear Sheet'!C18=\"TOTAL\",\"\",'Arrear Sheet'!V18))","v":2100},{"$f":"IF(B18=\"\",\"\",IF('Arrear Sheet'!C18=\"TOTAL\",\"\",'Arrear Sheet'!W18))","v":2100},{"$f":"IF(B18=\"\",\"\",IF('Arrear Sheet'!C18=\"TOTAL\",\"\",'Arrear Sheet'!X18))","v":0},{"$f":"IF(B18=\"\",\"\",IF('Arrear Sheet'!C18=\"TOTAL\",\"\",'Arrear Sheet'!AB18))","v":""},{"$f":"IF(B18=\"\",\"\",IF('Arrear Sheet'!D18=\"TOTAL\",\"\",'Arrear Sheet'!AC18))","v":""},{"$f":"IF(B18=\"\",\"\",IF('Arrear Sheet'!E18=\"TOTAL\",\"\",'Arrear Sheet'!AD18))","v":""},{"$f":"IF(B18=\"\",\"\",IF('Arrear Sheet'!C18=\"TOTAL\",\"\",'Arrear Sheet'!Y18))","v":""},{"$f":"IF(B18=\"\",\"\",IF('Arrear Sheet'!C18=\"TOTAL\",\"\",'Arrear Sheet'!Z18))","v":""},{"$f":"IF(B18=\"\",\"\",IF('Arrear Sheet'!C18=\"TOTAL\",\"\",'Arrear Sheet'!AA18))","v":""},{"$f":"IF(B18=\"\",\"\",IF('Arrear Sheet'!C18=\"TOTAL\",\"\",'Arrear Sheet'!AE18))","v":""},{"$f":"IF(B18=\"\",\"\",IF('Arrear Sheet'!C18=\"TOTAL\",\"\",'Arrear Sheet'!AF18))","v":0},{"$f":"IF(B18=\"\",\"\",'Arrear Sheet'!AG18)","v":650},{"$f":"IFERROR(IF(B18=\"\",\"\",IF('Arrear Sheet'!C18=\"TOTAL\",\"\",SUM(Q18-AF18))),\"\")","v":7364}]
[{"$f":"IF('Arrear Sheet'!B19=\"\",\"\",'Arrear Sheet'!B19)","v":12},{"$f":"IF('Arrear Sheet'!C19=\"\",\"\",IF('Arrear Sheet'!C19=\"TOTAL\",\"\",'Arrear Sheet'!C19))","v":"2020-03-01"},{"$f":"IF('Arrear Sheet'!D19=\"\",\"\",IF('Arrear Sheet'!C19=\"TOTAL\",\"\",IF('Arrear Sheet'!D19=\"अक्षरें राशि :-\",\"\",'Arrear Sheet'!D19)))","v":104200},{"$f":"IF('Arrear Sheet'!E19=\"\",\"\",IF('Arrear Sheet'!C19=\"TOTAL\",\"\",'Arrear Sheet'!E19))","v":21257},{"$f":"IF(B19=\"\",\"\",IF('Arrear Sheet'!D19=\"TOTAL\",\"\",'Arrear Sheet'!F19))","v":8336},{"$f":"IF(B19=\"\",\"\",IF('Arrear Sheet'!E19=\"TOTAL\",\"\",'Arrear Sheet'!G19))","v":20840},{"$f":"IF(B19=\"\",\"\",IF('Arrear Sheet'!C19=\"TOTAL\",\"\",SUM(C19:F19)))","v":154633},{"$f":"IF(B19=\"\",\"\",IF('Arrear Sheet'!C19=\"TOTAL\",\"\",'Arrear Sheet'!I19))","v":98800},{"$f":"IF(B19=\"\",\"\",IF('Arrear Sheet'!C19=\"TOTAL\",\"\",'Arrear Sheet'!J19))","v":20155},{"$f":"IF(B19=\"\",\"\",IF('Arrear Sheet'!C19=\"TOTAL\",\"\",'Arrear Sheet'!K19))","v":7904},{"$f":"IF(B19=\"\",\"\",IF('Arrear Sheet'!D19=\"TOTAL\",\"\",'Arrear Sheet'!L19))","v":19760},{"$f":"IF(B19=\"\",\"\",IF('Arrear Sheet'!C19=\"TOTAL\",\"\",SUM(H19:K19)))","v":146619},{"$f":"IF(B19=\"\",\"\",IF('Arrear Sheet'!C19=\"TOTAL\",\"\",'Arrear Sheet'!N19))","v":5400},{"$f":"IF(B19=\"\",\"\",IF('Arrear Sheet'!C19=\"TOTAL\",\"\",'Arrear Sheet'!O19))","v":1102},{"$f":"IF(B19=\"\",\"\",IF('Arrear Sheet'!C19=\"TOTAL\",\"\",'Arrear Sheet'!P19))","v":432},{"$f":"IF(B19=\"\",\"\",IF('Arrear Sheet'!D19=\"TOTAL\",\"\",'Arrear Sheet'!Q19))","v":1080},{"$f":"IF(B19=\"\",\"\",IF('Arrear Sheet'!C19=\"TOTAL\",\"\",SUM(M19:P19)))","v":8014},{"$f":"IF(B19=\"\",\"\",IF('Arrear Sheet'!C19=\"TOTAL\",\"\",'Arrear Sheet'!S19))","v":12546},{"$f":"IF(B19=\"\",\"\",IF('Arrear Sheet'!C19=\"TOTAL\",\"\",'Arrear Sheet'!T19))","v":11896},{"$f":"IF(B19=\"\",\"\",IF('Arrear Sheet'!C19=\"TOTAL\",\"\",'Arrear Sheet'!U19))","v":650},{"$f":"IF(B19=\"\",\"\",IF('Arrear Sheet'!C19=\"TOTAL\",\"\",'Arrear Sheet'!V19))","v":2100},{"$f":"IF(B19=\"\",\"\",IF('Arrear Sheet'!C19=\"TOTAL\",\"\",'Arrear Sheet'!W19))","v":2100},{"$f":"IF(B19=\"\",\"\",IF('Arrear Sheet'!C19=\"TOTAL\",\"\",'Arrear Sheet'!X19))","v":0},{"$f":"IF(B19=\"\",\"\",IF('Arrear Sheet'!C19=\"TOTAL\",\"\",'Arrear Sheet'!AB19))","v":16806},{"$f":"IF(B19=\"\",\"\",IF('Arrear Sheet'!D19=\"TOTAL\",\"\",'Arrear Sheet'!AC19))","v":15935},{"$f":"IF(B19=\"\",\"\",IF('Arrear Sheet'!E19=\"TOTAL\",\"\",'Arrear Sheet'!AD19))","v":871},{"$f":"IF(B19=\"\",\"\",IF('Arrear Sheet'!C19=\"TOTAL\",\"\",'Arrear Sheet'!Y19))","v":""},{"$f":"IF(B19=\"\",\"\",IF('Arrear Sheet'!C19=\"TOTAL\",\"\",'Arrear Sheet'!Z19))","v":""},{"$f":"IF(B19=\"\",\"\",IF('Arrear Sheet'!C19=\"TOTAL\",\"\",'Arrear Sheet'!AA19))","v":""},{"$f":"IF(B19=\"\",\"\",IF('Arrear Sheet'!C19=\"TOTAL\",\"\",'Arrear Sheet'!AE19))","v":""},{"$f":"IF(B19=\"\",\"\",IF('Arrear Sheet'!C19=\"TOTAL\",\"\",'Arrear Sheet'!AF19))","v":0},{"$f":"IF(B19=\"\",\"\",'Arrear Sheet'!AG19)","v":1521},{"$f":"IFERROR(IF(B19=\"\",\"\",IF('Arrear Sheet'!C19=\"TOTAL\",\"\",SUM(Q19-AF19))),\"\")","v":6493}]
[{"$f":"IF('Arrear Sheet'!B20=\"\",\"\",'Arrear Sheet'!B20)","v":13},{"$f":"IF('Arrear Sheet'!C20=\"\",\"\",IF('Arrear Sheet'!C20=\"TOTAL\",\"\",'Arrear Sheet'!C20))","v":"2020-04-01"},{"$f":"IF('Arrear Sheet'!D20=\"\",\"\",IF('Arrear Sheet'!C20=\"TOTAL\",\"\",IF('Arrear Sheet'!D20=\"अक्षरें राशि :-\",\"\",'Arrear Sheet'!D20)))","v":104200},{"$f":"IF('Arrear Sheet'!E20=\"\",\"\",IF('Arrear Sheet'!C20=\"TOTAL\",\"\",'Arrear Sheet'!E20))","v":21257},{"$f":"IF(B20=\"\",\"\",IF('Arrear Sheet'!D20=\"TOTAL\",\"\",'Arrear Sheet'!F20))","v":8336},{"$f":"IF(B20=\"\",\"\",IF('Arrear Sheet'!E20=\"TOTAL\",\"\",'Arrear Sheet'!G20))","v":20840},{"$f":"IF(B20=\"\",\"\",IF('Arrear Sheet'!C20=\"TOTAL\",\"\",SUM(C20:F20)))","v":154633},{"$f":"IF(B20=\"\",\"\",IF('Arrear Sheet'!C20=\"TOTAL\",\"\",'Arrear Sheet'!I20))","v":98800},{"$f":"IF(B20=\"\",\"\",IF('Arrear Sheet'!C20=\"TOTAL\",\"\",'Arrear Sheet'!J20))","v":20155},{"$f":"IF(B20=\"\",\"\",IF('Arrear Sheet'!C20=\"TOTAL\",\"\",'Arrear Sheet'!K20))","v":7904},{"$f":"IF(B20=\"\",\"\",IF('Arrear Sheet'!D20=\"TOTAL\",\"\",'Arrear Sheet'!L20))","v":19760},{"$f":"IF(B20=\"\",\"\",IF('Arrear Sheet'!C20=\"TOTAL\",\"\",SUM(H20:K20)))","v":146619},{"$f":"IF(B20=\"\",\"\",IF('Arrear Sheet'!C20=\"TOTAL\",\"\",'Arrear Sheet'!N20))","v":5400},{"$f":"IF(B20=\"\",\"\",IF('Arrear Sheet'!C20=\"TOTAL\",\"\",'Arrear Sheet'!O20))","v":1102},{"$f":"IF(B20=\"\",\"\",IF('Arrear Sheet'!C20=\"TOTAL\",\"\",'Arrear Sheet'!P20))","v":432},{"$f":"IF(B20=\"\",\"\",IF('Arrear Sheet'!D20=\"TOTAL\",\"\",'Arrear Sheet'!Q20))","v":1080},{"$f":"IF(B20=\"\",\"\",IF('Arrear Sheet'!C20=\"TOTAL\",\"\",SUM(M20:P20)))","v":8014},{"$f":"IF(B20=\"\",\"\",IF('Arrear Sheet'!C20=\"TOTAL\",\"\",'Arrear Sheet'!S20))","v":12546},{"$f":"IF(B20=\"\",\"\",IF('Arrear Sheet'!C20=\"TOTAL\",\"\",'Arrear Sheet'!T20))","v":11896},{"$f":"IF(B20=\"\",\"\",IF('Arrear Sheet'!C20=\"TOTAL\",\"\",'Arrear Sheet'!U20))","v":650},{"$f":"IF(B20=\"\",\"\",IF('Arrear Sheet'!C20=\"TOTAL\",\"\",'Arrear Sheet'!V20))","v":2100},{"$f":"IF(B20=\"\",\"\",IF('Arrear Sheet'!C20=\"TOTAL\",\"\",'Arrear Sheet'!W20))","v":2100},{"$f":"IF(B20=\"\",\"\",IF('Arrear Sheet'!C20=\"TOTAL\",\"\",'Arrear Sheet'!X20))","v":0},{"$f":"IF(B20=\"\",\"\",IF('Arrear Sheet'!C20=\"TOTAL\",\"\",'Arrear Sheet'!AB20))","v":""},{"$f":"IF(B20=\"\",\"\",IF('Arrear Sheet'!D20=\"TOTAL\",\"\",'Arrear Sheet'!AC20))","v":""},{"$f":"IF(B20=\"\",\"\",IF('Arrear Sheet'!E20=\"TOTAL\",\"\",'Arrear Sheet'!AD20))","v":""},{"$f":"IF(B20=\"\",\"\",IF('Arrear Sheet'!C20=\"TOTAL\",\"\",'Arrear Sheet'!Y20))","v":""},{"$f":"IF(B20=\"\",\"\",IF('Arrear Sheet'!C20=\"TOTAL\",\"\",'Arrear Sheet'!Z20))","v":""},{"$f":"IF(B20=\"\",\"\",IF('Arrear Sheet'!C20=\"TOTAL\",\"\",'Arrear Sheet'!AA20))","v":""},{"$f":"IF(B20=\"\",\"\",IF('Arrear Sheet'!C20=\"TOTAL\",\"\",'Arrear Sheet'!AE20))","v":""},{"$f":"IF(B20=\"\",\"\",IF('Arrear Sheet'!C20=\"TOTAL\",\"\",'Arrear Sheet'!AF20))","v":0},{"$f":"IF(B20=\"\",\"\",'Arrear Sheet'!AG20)","v":650},{"$f":"IFERROR(IF(B20=\"\",\"\",IF('Arrear Sheet'!C20=\"TOTAL\",\"\",SUM(Q20-AF20))),\"\")","v":7364}]
[{"$f":"IF('Arrear Sheet'!B21=\"\",\"\",'Arrear Sheet'!B21)","v":14},{"$f":"IF('Arrear Sheet'!C21=\"\",\"\",IF('Arrear Sheet'!C21=\"TOTAL\",\"\",'Arrear Sheet'!C21))","v":"2020-05-01"},{"$f":"IF('Arrear Sheet'!D21=\"\",\"\",IF('Arrear Sheet'!C21=\"TOTAL\",\"\",IF('Arrear Sheet'!D21=\"अक्षरें राशि :-\",\"\",'Arrear Sheet'!D21)))","v":104200},{"$f":"IF('Arrear Sheet'!E21=\"\",\"\",IF('Arrear Sheet'!C21=\"TOTAL\",\"\",'Arrear Sheet'!E21))","v":21257},{"$f":"IF(B21=\"\",\"\",IF('Arrear Sheet'!D21=\"TOTAL\",\"\",'Arrear Sheet'!F21))","v":8336},{"$f":"IF(B21=\"\",\"\",IF('Arrear Sheet'!E21=\"TOTAL\",\"\",'Arrear Sheet'!G21))","v":20840},{"$f":"IF(B21=\"\",\"\",IF('Arrear Sheet'!C21=\"TOTAL\",\"\",SUM(C21:F21)))","v":154633},{"$f":"IF(B21=\"\",\"\",IF('Arrear Sheet'!C21=\"TOTAL\",\"\",'Arrear Sheet'!I21))","v":98800},{"$f":"IF(B21=\"\",\"\",IF('Arrear Sheet'!C21=\"TOTAL\",\"\",'Arrear Sheet'!J21))","v":20155},{"$f":"IF(B21=\"\",\"\",IF('Arrear Sheet'!C21=\"TOTAL\",\"\",'Arrear Sheet'!K21))","v":7904},{"$f":"IF(B21=\"\",\"\",IF('Arrear Sheet'!D21=\"TOTAL\",\"\",'Arrear Sheet'!L21))","v":19760},{"$f":"IF(B21=\"\",\"\",IF('Arrear Sheet'!C21=\"TOTAL\",\"\",SUM(H21:K21)))","v":146619},{"$f":"IF(B21=\"\",\"\",IF('Arrear Sheet'!C21=\"TOTAL\",\"\",'Arrear Sheet'!N21))","v":5400},{"$f":"IF(B21=\"\",\"\",IF('Arrear Sheet'!C21=\"TOTAL\",\"\",'Arrear Sheet'!O21))","v":1102},{"$f":"IF(B21=\"\",\"\",IF('Arrear Sheet'!C21=\"TOTAL\",\"\",'Arrear Sheet'!P21))","v":432},{"$f":"IF(B21=\"\",\"\",IF('Arrear Sheet'!D21=\"TOTAL\",\"\",'Arrear Sheet'!Q21))","v":1080},{"$f":"IF(B21=\"\",\"\",IF('Arrear Sheet'!C21=\"TOTAL\",\"\",SUM(M21:P21)))","v":8014},{"$f":"IF(B21=\"\",\"\",IF('Arrear Sheet'!C21=\"TOTAL\",\"\",'Arrear Sheet'!S21))","v":12546},{"$f":"IF(B21=\"\",\"\",IF('Arrear Sheet'!C21=\"TOTAL\",\"\",'Arrear Sheet'!T21))","v":11896},{"$f":"IF(B21=\"\",\"\",IF('Arrear Sheet'!C21=\"TOTAL\",\"\",'Arrear Sheet'!U21))","v":650},{"$f":"IF(B21=\"\",\"\",IF('Arrear Sheet'!C21=\"TOTAL\",\"\",'Arrear Sheet'!V21))","v":2100},{"$f":"IF(B21=\"\",\"\",IF('Arrear Sheet'!C21=\"TOTAL\",\"\",'Arrear Sheet'!W21))","v":2100},{"$f":"IF(B21=\"\",\"\",IF('Arrear Sheet'!C21=\"TOTAL\",\"\",'Arrear Sheet'!X21))","v":0},{"$f":"IF(B21=\"\",\"\",IF('Arrear Sheet'!C21=\"TOTAL\",\"\",'Arrear Sheet'!AB21))","v":""},{"$f":"IF(B21=\"\",\"\",IF('Arrear Sheet'!D21=\"TOTAL\",\"\",'Arrear Sheet'!AC21))","v":""},{"$f":"IF(B21=\"\",\"\",IF('Arrear Sheet'!E21=\"TOTAL\",\"\",'Arrear Sheet'!AD21))","v":""},{"$f":"IF(B21=\"\",\"\",IF('Arrear Sheet'!C21=\"TOTAL\",\"\",'Arrear Sheet'!Y21))","v":""},{"$f":"IF(B21=\"\",\"\",IF('Arrear Sheet'!C21=\"TOTAL\",\"\",'Arrear Sheet'!Z21))","v":""},{"$f":"IF(B21=\"\",\"\",IF('Arrear Sheet'!C21=\"TOTAL\",\"\",'Arrear Sheet'!AA21))","v":""},{"$f":"IF(B21=\"\",\"\",IF('Arrear Sheet'!C21=\"TOTAL\",\"\",'Arrear Sheet'!AE21))","v":""},{"$f":"IF(B21=\"\",\"\",IF('Arrear Sheet'!C21=\"TOTAL\",\"\",'Arrear Sheet'!AF21))","v":0},{"$f":"IF(B21=\"\",\"\",'Arrear Sheet'!AG21)","v":650},{"$f":"IFERROR(IF(B21=\"\",\"\",IF('Arrear Sheet'!C21=\"TOTAL\",\"\",SUM(Q21-AF21))),\"\")","v":7364}]
[{"$f":"IF('Arrear Sheet'!B22=\"\",\"\",'Arrear Sheet'!B22)","v":15},{"$f":"IF('Arrear Sheet'!C22=\"\",\"\",IF('Arrear Sheet'!C22=\"TOTAL\",\"\",'Arrear Sheet'!C22))","v":"2020-06-01"},{"$f":"IF('Arrear Sheet'!D22=\"\",\"\",IF('Arrear Sheet'!C22=\"TOTAL\",\"\",IF('Arrear Sheet'!D22=\"अक्षरें राशि :-\",\"\",'Arrear Sheet'!D22)))","v":104200},{"$f":"IF('Arrear Sheet'!E22=\"\",\"\",IF('Arrear Sheet'!C22=\"TOTAL\",\"\",'Arrear Sheet'!E22))","v":21257},{"$f":"IF(B22=\"\",\"\",IF('Arrear Sheet'!D22=\"TOTAL\",\"\",'Arrear Sheet'!F22))","v":8336},{"$f":"IF(B22=\"\",\"\",IF('Arrear Sheet'!E22=\"TOTAL\",\"\",'Arrear Sheet'!G22))","v":20840},{"$f":"IF(B22=\"\",\"\",IF('Arrear Sheet'!C22=\"TOTAL\",\"\",SUM(C22:F22)))","v":154633},{"$f":"IF(B22=\"\",\"\",IF('Arrear Sheet'!C22=\"TOTAL\",\"\",'Arrear Sheet'!I22))","v":98800},{"$f":"IF(B22=\"\",\"\",IF('Arrear Sheet'!C22=\"TOTAL\",\"\",'Arrear Sheet'!J22))","v":20155},{"$f":"IF(B22=\"\",\"\",IF('Arrear Sheet'!C22=\"TOTAL\",\"\",'Arrear Sheet'!K22))","v":7904},{"$f":"IF(B22=\"\",\"\",IF('Arrear Sheet'!D22=\"TOTAL\",\"\",'Arrear Sheet'!L22))","v":19760},{"$f":"IF(B22=\"\",\"\",IF('Arrear Sheet'!C22=\"TOTAL\",\"\",SUM(H22:K22)))","v":146619},{"$f":"IF(B22=\"\",\"\",IF('Arrear Sheet'!C22=\"TOTAL\",\"\",'Arrear Sheet'!N22))","v":5400},{"$f":"IF(B22=\"\",\"\",IF('Arrear Sheet'!C22=\"TOTAL\",\"\",'Arrear Sheet'!O22))","v":1102},{"$f":"IF(B22=\"\",\"\",IF('Arrear Sheet'!C22=\"TOTAL\",\"\",'Arrear Sheet'!P22))","v":432},{"$f":"IF(B22=\"\",\"\",IF('Arrear Sheet'!D22=\"TOTAL\",\"\",'Arrear Sheet'!Q22))","v":1080},{"$f":"IF(B22=\"\",\"\",IF('Arrear Sheet'!C22=\"TOTAL\",\"\",SUM(M22:P22)))","v":8014},{"$f":"IF(B22=\"\",\"\",IF('Arrear Sheet'!C22=\"TOTAL\",\"\",'Arrear Sheet'!S22))","v":12546},{"$f":"IF(B22=\"\",\"\",IF('Arrear Sheet'!C22=\"TOTAL\",\"\",'Arrear Sheet'!T22))","v":11896},{"$f":"IF(B22=\"\",\"\",IF('Arrear Sheet'!C22=\"TOTAL\",\"\",'Arrear Sheet'!U22))","v":650},{"$f":"IF(B22=\"\",\"\",IF('Arrear Sheet'!C22=\"TOTAL\",\"\",'Arrear Sheet'!V22))","v":2100},{"$f":"IF(B22=\"\",\"\",IF('Arrear Sheet'!C22=\"TOTAL\",\"\",'Arrear Sheet'!W22))","v":2100},{"$f":"IF(B22=\"\",\"\",IF('Arrear Sheet'!C22=\"TOTAL\",\"\",'Arrear Sheet'!X22))","v":0},{"$f":"IF(B22=\"\",\"\",IF('Arrear Sheet'!C22=\"TOTAL\",\"\",'Arrear Sheet'!AB22))","v":""},{"$f":"IF(B22=\"\",\"\",IF('Arrear Sheet'!D22=\"TOTAL\",\"\",'Arrear Sheet'!AC22))","v":""},{"$f":"IF(B22=\"\",\"\",IF('Arrear Sheet'!E22=\"TOTAL\",\"\",'Arrear Sheet'!AD22))","v":""},{"$f":"IF(B22=\"\",\"\",IF('Arrear Sheet'!C22=\"TOTAL\",\"\",'Arrear Sheet'!Y22))","v":""},{"$f":"IF(B22=\"\",\"\",IF('Arrear Sheet'!C22=\"TOTAL\",\"\",'Arrear Sheet'!Z22))","v":""},{"$f":"IF(B22=\"\",\"\",IF('Arrear Sheet'!C22=\"TOTAL\",\"\",'Arrear Sheet'!AA22))","v":""},{"$f":"IF(B22=\"\",\"\",IF('Arrear Sheet'!C22=\"TOTAL\",\"\",'Arrear Sheet'!AE22))","v":""},{"$f":"IF(B22=\"\",\"\",IF('Arrear Sheet'!C22=\"TOTAL\",\"\",'Arrear Sheet'!AF22))","v":0},{"$f":"IF(B22=\"\",\"\",'Arrear Sheet'!AG22)","v":650},{"$f":"IFERROR(IF(B22=\"\",\"\",IF('Arrear Sheet'!C22=\"TOTAL\",\"\",SUM(Q22-AF22))),\"\")","v":7364}]
[{"$f":"IF('Arrear Sheet'!B23=\"\",\"\",'Arrear Sheet'!B23)","v":16},{"$f":"IF('Arrear Sheet'!C23=\"\",\"\",IF('Arrear Sheet'!C23=\"TOTAL\",\"\",'Arrear Sheet'!C23))","v":"2020-07-01"},{"$f":"IF('Arrear Sheet'!D23=\"\",\"\",IF('Arrear Sheet'!C23=\"TOTAL\",\"\",IF('Arrear Sheet'!D23=\"अक्षरें राशि :-\",\"\",'Arrear Sheet'!D23)))","v":107300},{"$f":"IF('Arrear Sheet'!E23=\"\",\"\",IF('Arrear Sheet'!C23=\"TOTAL\",\"\",'Arrear Sheet'!E23))","v":21889},{"$f":"IF(B23=\"\",\"\",IF('Arrear Sheet'!D23=\"TOTAL\",\"\",'Arrear Sheet'!F23))","v":8584},{"$f":"IF(B23=\"\",\"\",IF('Arrear Sheet'!E23=\"TOTAL\",\"\",'Arrear Sheet'!G23))","v":21460},{"$f":"IF(B23=\"\",\"\",IF('Arrear Sheet'!C23=\"TOTAL\",\"\",SUM(C23:F23)))","v":159233},{"$f":"IF(B23=\"\",\"\",IF('Arrear Sheet'!C23=\"TOTAL\",\"\",'Arrear Sheet'!I23))","v":101800},{"$f":"IF(B23=\"\",\"\",IF('Arrear Sheet'!C23=\"TOTAL\",\"\",'Arrear Sheet'!J23))","v":20767},{"$f":"IF(B23=\"\",\"\",IF('Arrear Sheet'!C23=\"TOTAL\",\"\",'Arrear Sheet'!K23))","v":8144},{"$f":"IF(B23=\"\",\"\",IF('Arrear Sheet'!D23=\"TOTAL\",\"\",'Arrear Sheet'!L23))","v":20360},{"$f":"IF(B23=\"\",\"\",IF('Arrear Sheet'!C23=\"TOTAL\",\"\",SUM(H23:K23)))","v":151071},{"$f":"IF(B23=\"\",\"\",IF('Arrear Sheet'!C23=\"TOTAL\",\"\",'Arrear Sheet'!N23))","v":5500},{"$f":"IF(B23=\"\",\"\",IF('Arrear Sheet'!C23=\"TOTAL\",\"\",'Arrear Sheet'!O23))","v":1122},{"$f":"IF(B23=\"\",\"\",IF('Arrear Sheet'!C23=\"TOTAL\",\"\",'Arrear Sheet'!P23))","v":440},{"$f":"IF(B23=\"\",\"\",IF('Arrear Sheet'!D23=\"TOTAL\",\"\",'Arrear Sheet'!Q23))","v":1100},{"$f":"IF(B23=\"\",\"\",IF('Arrear Sheet'!C23=\"TOTAL\",\"\",SUM(M23:P23)))","v":8162},{"$f":"IF(B23=\"\",\"\",IF('Arrear Sheet'!C23=\"TOTAL\",\"\",'Arrear Sheet'!S23))","v":12919},{"$f":"IF(B23=\"\",\"\",IF('Arrear Sheet'!C23=\"TOTAL\",\"\",'Arrear Sheet'!T23))","v":12257},{"$f":"IF(B23=\"\",\"\",IF('Arrear Sheet'!C23=\"TOTAL\",\"\",'Arrear Sheet'!U23))","v":662},{"$f":"IF(B23=\"\",\"\",IF('Arrear Sheet'!C23=\"TOTAL\",\"\",'Arrear Sheet'!V23))","v":2100},{"$f":"IF(B23=\"\",\"\",IF('Arrear Sheet'!C23=\"TOTAL\",\"\",'Arrear Sheet'!W23))","v":2100},{"$f":"IF(B23=\"\",\"\",IF('Arrear Sheet'!C23=\"TOTAL\",\"\",'Arrear Sheet'!X23))","v":0},{"$f":"IF(B23=\"\",\"\",IF('Arrear Sheet'!C23=\"TOTAL\",\"\",'Arrear Sheet'!AB23))","v":""},{"$f":"IF(B23=\"\",\"\",IF('Arrear Sheet'!D23=\"TOTAL\",\"\",'Arrear Sheet'!AC23))","v":""},{"$f":"IF(B23=\"\",\"\",IF('Arrear Sheet'!E23=\"TOTAL\",\"\",'Arrear Sheet'!AD23))","v":""},{"$f":"IF(B23=\"\",\"\",IF('Arrear Sheet'!C23=\"TOTAL\",\"\",'Arrear Sheet'!Y23))","v":""},{"$f":"IF(B23=\"\",\"\",IF('Arrear Sheet'!C23=\"TOTAL\",\"\",'Arrear Sheet'!Z23))","v":""},{"$f":"IF(B23=\"\",\"\",IF('Arrear Sheet'!C23=\"TOTAL\",\"\",'Arrear Sheet'!AA23))","v":""},{"$f":"IF(B23=\"\",\"\",IF('Arrear Sheet'!C23=\"TOTAL\",\"\",'Arrear Sheet'!AE23))","v":""},{"$f":"IF(B23=\"\",\"\",IF('Arrear Sheet'!C23=\"TOTAL\",\"\",'Arrear Sheet'!AF23))","v":0},{"$f":"IF(B23=\"\",\"\",'Arrear Sheet'!AG23)","v":662},{"$f":"IFERROR(IF(B23=\"\",\"\",IF('Arrear Sheet'!C23=\"TOTAL\",\"\",SUM(Q23-AF23))),\"\")","v":7500}]
[{"$f":"IF('Arrear Sheet'!B24=\"\",\"\",'Arrear Sheet'!B24)","v":17},{"$f":"IF('Arrear Sheet'!C24=\"\",\"\",IF('Arrear Sheet'!C24=\"TOTAL\",\"\",'Arrear Sheet'!C24))","v":"2020-08-01"},{"$f":"IF('Arrear Sheet'!D24=\"\",\"\",IF('Arrear Sheet'!C24=\"TOTAL\",\"\",IF('Arrear Sheet'!D24=\"अक्षरें राशि :-\",\"\",'Arrear Sheet'!D24)))","v":107300},{"$f":"IF('Arrear Sheet'!E24=\"\",\"\",IF('Arrear Sheet'!C24=\"TOTAL\",\"\",'Arrear Sheet'!E24))","v":21889},{"$f":"IF(B24=\"\",\"\",IF('Arrear Sheet'!D24=\"TOTAL\",\"\",'Arrear Sheet'!F24))","v":8584},{"$f":"IF(B24=\"\",\"\",IF('Arrear Sheet'!E24=\"TOTAL\",\"\",'Arrear Sheet'!G24))","v":21460},{"$f":"IF(B24=\"\",\"\",IF('Arrear Sheet'!C24=\"TOTAL\",\"\",SUM(C24:F24)))","v":159233},{"$f":"IF(B24=\"\",\"\",IF('Arrear Sheet'!C24=\"TOTAL\",\"\",'Arrear Sheet'!I24))","v":101800},{"$f":"IF(B24=\"\",\"\",IF('Arrear Sheet'!C24=\"TOTAL\",\"\",'Arrear Sheet'!J24))","v":20767},{"$f":"IF(B24=\"\",\"\",IF('Arrear Sheet'!C24=\"TOTAL\",\"\",'Arrear Sheet'!K24))","v":8144},{"$f":"IF(B24=\"\",\"\",IF('Arrear Sheet'!D24=\"TOTAL\",\"\",'Arrear Sheet'!L24))","v":20360},{"$f":"IF(B24=\"\",\"\",IF('Arrear Sheet'!C24=\"TOTAL\",\"\",SUM(H24:K24)))","v":151071},{"$f":"IF(B24=\"\",\"\",IF('Arrear Sheet'!C24=\"TOTAL\",\"\",'Arrear Sheet'!N24))","v":5500},{"$f":"IF(B24=\"\",\"\",IF('Arrear Sheet'!C24=\"TOTAL\",\"\",'Arrear Sheet'!O24))","v":1122},{"$f":"IF(B24=\"\",\"\",IF('Arrear Sheet'!C24=\"TOTAL\",\"\",'Arrear Sheet'!P24))","v":440},{"$f":"IF(B24=\"\",\"\",IF('Arrear Sheet'!D24=\"TOTAL\",\"\",'Arrear Sheet'!Q24))","v":1100},{"$f":"IF(B24=\"\",\"\",IF('Arrear Sheet'!C24=\"TOTAL\",\"\",SUM(M24:P24)))","v":8162},{"$f":"IF(B24=\"\",\"\",IF('Arrear Sheet'!C24=\"TOTAL\",\"\",'Arrear Sheet'!S24))","v":12919},{"$f":"IF(B24=\"\",\"\",IF('Arrear Sheet'!C24=\"TOTAL\",\"\",'Arrear Sheet'!T24))","v":12257},{"$f":"IF(B24=\"\",\"\",IF('Arrear Sheet'!C24=\"TOTAL\",\"\",'Arrear Sheet'!U24))","v":662},{"$f":"IF(B24=\"\",\"\",IF('Arrear Sheet'!C24=\"TOTAL\",\"\",'Arrear Sheet'!V24))","v":2100},{"$f":"IF(B24=\"\",\"\",IF('Arrear Sheet'!C24=\"TOTAL\",\"\",'Arrear Sheet'!W24))","v":2100},{"$f":"IF(B24=\"\",\"\",IF('Arrear Sheet'!C24=\"TOTAL\",\"\",'Arrear Sheet'!X24))","v":0},{"$f":"IF(B24=\"\",\"\",IF('Arrear Sheet'!C24=\"TOTAL\",\"\",'Arrear Sheet'!AB24))","v":""},{"$f":"IF(B24=\"\",\"\",IF('Arrear Sheet'!D24=\"TOTAL\",\"\",'Arrear Sheet'!AC24))","v":""},{"$f":"IF(B24=\"\",\"\",IF('Arrear Sheet'!E24=\"TOTAL\",\"\",'Arrear Sheet'!AD24))","v":""},{"$f":"IF(B24=\"\",\"\",IF('Arrear Sheet'!C24=\"TOTAL\",\"\",'Arrear Sheet'!Y24))","v":""},{"$f":"IF(B24=\"\",\"\",IF('Arrear Sheet'!C24=\"TOTAL\",\"\",'Arrear Sheet'!Z24))","v":""},{"$f":"IF(B24=\"\",\"\",IF('Arrear Sheet'!C24=\"TOTAL\",\"\",'Arrear Sheet'!AA24))","v":""},{"$f":"IF(B24=\"\",\"\",IF('Arrear Sheet'!C24=\"TOTAL\",\"\",'Arrear Sheet'!AE24))","v":""},{"$f":"IF(B24=\"\",\"\",IF('Arrear Sheet'!C24=\"TOTAL\",\"\",'Arrear Sheet'!AF24))","v":0},{"$f":"IF(B24=\"\",\"\",'Arrear Sheet'!AG24)","v":662},{"$f":"IFERROR(IF(B24=\"\",\"\",IF('Arrear Sheet'!C24=\"TOTAL\",\"\",SUM(Q24-AF24))),\"\")","v":7500}]
[{"$f":"IF('Arrear Sheet'!B25=\"\",\"\",'Arrear Sheet'!B25)","v":18},{"$f":"IF('Arrear Sheet'!C25=\"\",\"\",IF('Arrear Sheet'!C25=\"TOTAL\",\"\",'Arrear Sheet'!C25))","v":"2020-09-01"},{"$f":"IF('Arrear Sheet'!D25=\"\",\"\",IF('Arrear Sheet'!C25=\"TOTAL\",\"\",IF('Arrear Sheet'!D25=\"अक्षरें राशि :-\",\"\",'Arrear Sheet'!D25)))","v":107300},{"$f":"IF('Arrear Sheet'!E25=\"\",\"\",IF('Arrear Sheet'!C25=\"TOTAL\",\"\",'Arrear Sheet'!E25))","v":21889},{"$f":"IF(B25=\"\",\"\",IF('Arrear Sheet'!D25=\"TOTAL\",\"\",'Arrear Sheet'!F25))","v":8584},{"$f":"IF(B25=\"\",\"\",IF('Arrear Sheet'!E25=\"TOTAL\",\"\",'Arrear Sheet'!G25))","v":21460},{"$f":"IF(B25=\"\",\"\",IF('Arrear Sheet'!C25=\"TOTAL\",\"\",SUM(C25:F25)))","v":159233},{"$f":"IF(B25=\"\",\"\",IF('Arrear Sheet'!C25=\"TOTAL\",\"\",'Arrear Sheet'!I25))","v":101800},{"$f":"IF(B25=\"\",\"\",IF('Arrear Sheet'!C25=\"TOTAL\",\"\",'Arrear Sheet'!J25))","v":20767},{"$f":"IF(B25=\"\",\"\",IF('Arrear Sheet'!C25=\"TOTAL\",\"\",'Arrear Sheet'!K25))","v":8144},{"$f":"IF(B25=\"\",\"\",IF('Arrear Sheet'!D25=\"TOTAL\",\"\",'Arrear Sheet'!L25))","v":20360},{"$f":"IF(B25=\"\",\"\",IF('Arrear Sheet'!C25=\"TOTAL\",\"\",SUM(H25:K25)))","v":151071},{"$f":"IF(B25=\"\",\"\",IF('Arrear Sheet'!C25=\"TOTAL\",\"\",'Arrear Sheet'!N25))","v":5500},{"$f":"IF(B25=\"\",\"\",IF('Arrear Sheet'!C25=\"TOTAL\",\"\",'Arrear Sheet'!O25))","v":1122},{"$f":"IF(B25=\"\",\"\",IF('Arrear Sheet'!C25=\"TOTAL\",\"\",'Arrear Sheet'!P25))","v":440},{"$f":"IF(B25=\"\",\"\",IF('Arrear Sheet'!D25=\"TOTAL\",\"\",'Arrear Sheet'!Q25))","v":1100},{"$f":"IF(B25=\"\",\"\",IF('Arrear Sheet'!C25=\"TOTAL\",\"\",SUM(M25:P25)))","v":8162},{"$f":"IF(B25=\"\",\"\",IF('Arrear Sheet'!C25=\"TOTAL\",\"\",'Arrear Sheet'!S25))","v":12919},{"$f":"IF(B25=\"\",\"\",IF('Arrear Sheet'!C25=\"TOTAL\",\"\",'Arrear Sheet'!T25))","v":12257},{"$f":"IF(B25=\"\",\"\",IF('Arrear Sheet'!C25=\"TOTAL\",\"\",'Arrear Sheet'!U25))","v":662},{"$f":"IF(B25=\"\",\"\",IF('Arrear Sheet'!C25=\"TOTAL\",\"\",'Arrear Sheet'!V25))","v":2100},{"$f":"IF(B25=\"\",\"\",IF('Arrear Sheet'!C25=\"TOTAL\",\"\",'Arrear Sheet'!W25))","v":2100},{"$f":"IF(B25=\"\",\"\",IF('Arrear Sheet'!C25=\"TOTAL\",\"\",'Arrear Sheet'!X25))","v":0},{"$f":"IF(B25=\"\",\"\",IF('Arrear Sheet'!C25=\"TOTAL\",\"\",'Arrear Sheet'!AB25))","v":""},{"$f":"IF(B25=\"\",\"\",IF('Arrear Sheet'!D25=\"TOTAL\",\"\",'Arrear Sheet'!AC25))","v":""},{"$f":"IF(B25=\"\",\"\",IF('Arrear Sheet'!E25=\"TOTAL\",\"\",'Arrear Sheet'!AD25))","v":""},{"$f":"IF(B25=\"\",\"\",IF('Arrear Sheet'!C25=\"TOTAL\",\"\",'Arrear Sheet'!Y25))","v":""},{"$f":"IF(B25=\"\",\"\",IF('Arrear Sheet'!C25=\"TOTAL\",\"\",'Arrear Sheet'!Z25))","v":""},{"$f":"IF(B25=\"\",\"\",IF('Arrear Sheet'!C25=\"TOTAL\",\"\",'Arrear Sheet'!AA25))","v":""},{"$f":"IF(B25=\"\",\"\",IF('Arrear Sheet'!C25=\"TOTAL\",\"\",'Arrear Sheet'!AE25))","v":""},{"$f":"IF(B25=\"\",\"\",IF('Arrear Sheet'!C25=\"TOTAL\",\"\",'Arrear Sheet'!AF25))","v":0},{"$f":"IF(B25=\"\",\"\",'Arrear Sheet'!AG25)","v":662},{"$f":"IFERROR(IF(B25=\"\",\"\",IF('Arrear Sheet'!C25=\"TOTAL\",\"\",SUM(Q25-AF25))),\"\")","v":7500}]
[{"$f":"IF('Arrear Sheet'!B26=\"\",\"\",'Arrear Sheet'!B26)","v":19},{"$f":"IF('Arrear Sheet'!C26=\"\",\"\",IF('Arrear Sheet'!C26=\"TOTAL\",\"\",'Arrear Sheet'!C26))","v":"2020-10-01"},{"$f":"IF('Arrear Sheet'!D26=\"\",\"\",IF('Arrear Sheet'!C26=\"TOTAL\",\"\",IF('Arrear Sheet'!D26=\"अक्षरें राशि :-\",\"\",'Arrear Sheet'!D26)))","v":107300},{"$f":"IF('Arrear Sheet'!E26=\"\",\"\",IF('Arrear Sheet'!C26=\"TOTAL\",\"\",'Arrear Sheet'!E26))","v":21889},{"$f":"IF(B26=\"\",\"\",IF('Arrear Sheet'!D26=\"TOTAL\",\"\",'Arrear Sheet'!F26))","v":8584},{"$f":"IF(B26=\"\",\"\",IF('Arrear Sheet'!E26=\"TOTAL\",\"\",'Arrear Sheet'!G26))","v":21460},{"$f":"IF(B26=\"\",\"\",IF('Arrear Sheet'!C26=\"TOTAL\",\"\",SUM(C26:F26)))","v":159233},{"$f":"IF(B26=\"\",\"\",IF('Arrear Sheet'!C26=\"TOTAL\",\"\",'Arrear Sheet'!I26))","v":101800},{"$f":"IF(B26=\"\",\"\",IF('Arrear Sheet'!C26=\"TOTAL\",\"\",'Arrear Sheet'!J26))","v":20767},{"$f":"IF(B26=\"\",\"\",IF('Arrear Sheet'!C26=\"TOTAL\",\"\",'Arrear Sheet'!K26))","v":8144},{"$f":"IF(B26=\"\",\"\",IF('Arrear Sheet'!D26=\"TOTAL\",\"\",'Arrear Sheet'!L26))","v":20360},{"$f":"IF(B26=\"\",\"\",IF('Arrear Sheet'!C26=\"TOTAL\",\"\",SUM(H26:K26)))","v":151071},{"$f":"IF(B26=\"\",\"\",IF('Arrear Sheet'!C26=\"TOTAL\",\"\",'Arrear Sheet'!N26))","v":5500},{"$f":"IF(B26=\"\",\"\",IF('Arrear Sheet'!C26=\"TOTAL\",\"\",'Arrear Sheet'!O26))","v":1122},{"$f":"IF(B26=\"\",\"\",IF('Arrear Sheet'!C26=\"TOTAL\",\"\",'Arrear Sheet'!P26))","v":440},{"$f":"IF(B26=\"\",\"\",IF('Arrear Sheet'!D26=\"TOTAL\",\"\",'Arrear Sheet'!Q26))","v":1100},{"$f":"IF(B26=\"\",\"\",IF('Arrear Sheet'!C26=\"TOTAL\",\"\",SUM(M26:P26)))","v":8162},{"$f":"IF(B26=\"\",\"\",IF('Arrear Sheet'!C26=\"TOTAL\",\"\",'Arrear Sheet'!S26))","v":12919},{"$f":"IF(B26=\"\",\"\",IF('Arrear Sheet'!C26=\"TOTAL\",\"\",'Arrear Sheet'!T26))","v":12257},{"$f":"IF(B26=\"\",\"\",IF('Arrear Sheet'!C26=\"TOTAL\",\"\",'Arrear Sheet'!U26))","v":662},{"$f":"IF(B26=\"\",\"\",IF('Arrear Sheet'!C26=\"TOTAL\",\"\",'Arrear Sheet'!V26))","v":2100},{"$f":"IF(B26=\"\",\"\",IF('Arrear Sheet'!C26=\"TOTAL\",\"\",'Arrear Sheet'!W26))","v":2100},{"$f":"IF(B26=\"\",\"\",IF('Arrear Sheet'!C26=\"TOTAL\",\"\",'Arrear Sheet'!X26))","v":0},{"$f":"IF(B26=\"\",\"\",IF('Arrear Sheet'!C26=\"TOTAL\",\"\",'Arrear Sheet'!AB26))","v":""},{"$f":"IF(B26=\"\",\"\",IF('Arrear Sheet'!D26=\"TOTAL\",\"\",'Arrear Sheet'!AC26))","v":""},{"$f":"IF(B26=\"\",\"\",IF('Arrear Sheet'!E26=\"TOTAL\",\"\",'Arrear Sheet'!AD26))","v":""},{"$f":"IF(B26=\"\",\"\",IF('Arrear Sheet'!C26=\"TOTAL\",\"\",'Arrear Sheet'!Y26))","v":""},{"$f":"IF(B26=\"\",\"\",IF('Arrear Sheet'!C26=\"TOTAL\",\"\",'Arrear Sheet'!Z26))","v":""},{"$f":"IF(B26=\"\",\"\",IF('Arrear Sheet'!C26=\"TOTAL\",\"\",'Arrear Sheet'!AA26))","v":""},{"$f":"IF(B26=\"\",\"\",IF('Arrear Sheet'!C26=\"TOTAL\",\"\",'Arrear Sheet'!AE26))","v":""},{"$f":"IF(B26=\"\",\"\",IF('Arrear Sheet'!C26=\"TOTAL\",\"\",'Arrear Sheet'!AF26))","v":0},{"$f":"IF(B26=\"\",\"\",'Arrear Sheet'!AG26)","v":662},{"$f":"IFERROR(IF(B26=\"\",\"\",IF('Arrear Sheet'!C26=\"TOTAL\",\"\",SUM(Q26-AF26))),\"\")","v":7500}]
[{"$f":"IF('Arrear Sheet'!B27=\"\",\"\",'Arrear Sheet'!B27)","v":20},{"$f":"IF('Arrear Sheet'!C27=\"\",\"\",IF('Arrear Sheet'!C27=\"TOTAL\",\"\",'Arrear Sheet'!C27))","v":"2020-11-01"},{"$f":"IF('Arrear Sheet'!D27=\"\",\"\",IF('Arrear Sheet'!C27=\"TOTAL\",\"\",IF('Arrear Sheet'!D27=\"अक्षरें राशि :-\",\"\",'Arrear Sheet'!D27)))","v":107300},{"$f":"IF('Arrear Sheet'!E27=\"\",\"\",IF('Arrear Sheet'!C27=\"TOTAL\",\"\",'Arrear Sheet'!E27))","v":21889},{"$f":"IF(B27=\"\",\"\",IF('Arrear Sheet'!D27=\"TOTAL\",\"\",'Arrear Sheet'!F27))","v":8584},{"$f":"IF(B27=\"\",\"\",IF('Arrear Sheet'!E27=\"TOTAL\",\"\",'Arrear Sheet'!G27))","v":21460},{"$f":"IF(B27=\"\",\"\",IF('Arrear Sheet'!C27=\"TOTAL\",\"\",SUM(C27:F27)))","v":159233},{"$f":"IF(B27=\"\",\"\",IF('Arrear Sheet'!C27=\"TOTAL\",\"\",'Arrear Sheet'!I27))","v":101800},{"$f":"IF(B27=\"\",\"\",IF('Arrear Sheet'!C27=\"TOTAL\",\"\",'Arrear Sheet'!J27))","v":20767},{"$f":"IF(B27=\"\",\"\",IF('Arrear Sheet'!C27=\"TOTAL\",\"\",'Arrear Sheet'!K27))","v":8144},{"$f":"IF(B27=\"\",\"\",IF('Arrear Sheet'!D27=\"TOTAL\",\"\",'Arrear Sheet'!L27))","v":20360},{"$f":"IF(B27=\"\",\"\",IF('Arrear Sheet'!C27=\"TOTAL\",\"\",SUM(H27:K27)))","v":151071},{"$f":"IF(B27=\"\",\"\",IF('Arrear Sheet'!C27=\"TOTAL\",\"\",'Arrear Sheet'!N27))","v":5500},{"$f":"IF(B27=\"\",\"\",IF('Arrear Sheet'!C27=\"TOTAL\",\"\",'Arrear Sheet'!O27))","v":1122},{"$f":"IF(B27=\"\",\"\",IF('Arrear Sheet'!C27=\"TOTAL\",\"\",'Arrear Sheet'!P27))","v":440},{"$f":"IF(B27=\"\",\"\",IF('Arrear Sheet'!D27=\"TOTAL\",\"\",'Arrear Sheet'!Q27))","v":1100},{"$f":"IF(B27=\"\",\"\",IF('Arrear Sheet'!C27=\"TOTAL\",\"\",SUM(M27:P27)))","v":8162},{"$f":"IF(B27=\"\",\"\",IF('Arrear Sheet'!C27=\"TOTAL\",\"\",'Arrear Sheet'!S27))","v":12919},{"$f":"IF(B27=\"\",\"\",IF('Arrear Sheet'!C27=\"TOTAL\",\"\",'Arrear Sheet'!T27))","v":12257},{"$f":"IF(B27=\"\",\"\",IF('Arrear Sheet'!C27=\"TOTAL\",\"\",'Arrear Sheet'!U27))","v":662},{"$f":"IF(B27=\"\",\"\",IF('Arrear Sheet'!C27=\"TOTAL\",\"\",'Arrear Sheet'!V27))","v":2100},{"$f":"IF(B27=\"\",\"\",IF('Arrear Sheet'!C27=\"TOTAL\",\"\",'Arrear Sheet'!W27))","v":2100},{"$f":"IF(B27=\"\",\"\",IF('Arrear Sheet'!C27=\"TOTAL\",\"\",'Arrear Sheet'!X27))","v":0},{"$f":"IF(B27=\"\",\"\",IF('Arrear Sheet'!C27=\"TOTAL\",\"\",'Arrear Sheet'!AB27))","v":""},{"$f":"IF(B27=\"\",\"\",IF('Arrear Sheet'!D27=\"TOTAL\",\"\",'Arrear Sheet'!AC27))","v":""},{"$f":"IF(B27=\"\",\"\",IF('Arrear Sheet'!E27=\"TOTAL\",\"\",'Arrear Sheet'!AD27))","v":""},{"$f":"IF(B27=\"\",\"\",IF('Arrear Sheet'!C27=\"TOTAL\",\"\",'Arrear Sheet'!Y27))","v":""},{"$f":"IF(B27=\"\",\"\",IF('Arrear Sheet'!C27=\"TOTAL\",\"\",'Arrear Sheet'!Z27))","v":""},{"$f":"IF(B27=\"\",\"\",IF('Arrear Sheet'!C27=\"TOTAL\",\"\",'Arrear Sheet'!AA27))","v":""},{"$f":"IF(B27=\"\",\"\",IF('Arrear Sheet'!C27=\"TOTAL\",\"\",'Arrear Sheet'!AE27))","v":""},{"$f":"IF(B27=\"\",\"\",IF('Arrear Sheet'!C27=\"TOTAL\",\"\",'Arrear Sheet'!AF27))","v":0},{"$f":"IF(B27=\"\",\"\",'Arrear Sheet'!AG27)","v":662},{"$f":"IFERROR(IF(B27=\"\",\"\",IF('Arrear Sheet'!C27=\"TOTAL\",\"\",SUM(Q27-AF27))),\"\")","v":7500}]
[{"$f":"IF('Arrear Sheet'!B28=\"\",\"\",'Arrear Sheet'!B28)","v":21},{"$f":"IF('Arrear Sheet'!C28=\"\",\"\",IF('Arrear Sheet'!C28=\"TOTAL\",\"\",'Arrear Sheet'!C28))","v":"2020-12-01"},{"$f":"IF('Arrear Sheet'!D28=\"\",\"\",IF('Arrear Sheet'!C28=\"TOTAL\",\"\",IF('Arrear Sheet'!D28=\"अक्षरें राशि :-\",\"\",'Arrear Sheet'!D28)))","v":107300},{"$f":"IF('Arrear Sheet'!E28=\"\",\"\",IF('Arrear Sheet'!C28=\"TOTAL\",\"\",'Arrear Sheet'!E28))","v":21889},{"$f":"IF(B28=\"\",\"\",IF('Arrear Sheet'!D28=\"TOTAL\",\"\",'Arrear Sheet'!F28))","v":8584},{"$f":"IF(B28=\"\",\"\",IF('Arrear Sheet'!E28=\"TOTAL\",\"\",'Arrear Sheet'!G28))","v":21460},{"$f":"IF(B28=\"\",\"\",IF('Arrear Sheet'!C28=\"TOTAL\",\"\",SUM(C28:F28)))","v":159233},{"$f":"IF(B28=\"\",\"\",IF('Arrear Sheet'!C28=\"TOTAL\",\"\",'Arrear Sheet'!I28))","v":101800},{"$f":"IF(B28=\"\",\"\",IF('Arrear Sheet'!C28=\"TOTAL\",\"\",'Arrear Sheet'!J28))","v":20767},{"$f":"IF(B28=\"\",\"\",IF('Arrear Sheet'!C28=\"TOTAL\",\"\",'Arrear Sheet'!K28))","v":8144},{"$f":"IF(B28=\"\",\"\",IF('Arrear Sheet'!D28=\"TOTAL\",\"\",'Arrear Sheet'!L28))","v":20360},{"$f":"IF(B28=\"\",\"\",IF('Arrear Sheet'!C28=\"TOTAL\",\"\",SUM(H28:K28)))","v":151071},{"$f":"IF(B28=\"\",\"\",IF('Arrear Sheet'!C28=\"TOTAL\",\"\",'Arrear Sheet'!N28))","v":5500},{"$f":"IF(B28=\"\",\"\",IF('Arrear Sheet'!C28=\"TOTAL\",\"\",'Arrear Sheet'!O28))","v":1122},{"$f":"IF(B28=\"\",\"\",IF('Arrear Sheet'!C28=\"TOTAL\",\"\",'Arrear Sheet'!P28))","v":440},{"$f":"IF(B28=\"\",\"\",IF('Arrear Sheet'!D28=\"TOTAL\",\"\",'Arrear Sheet'!Q28))","v":1100},{"$f":"IF(B28=\"\",\"\",IF('Arrear Sheet'!C28=\"TOTAL\",\"\",SUM(M28:P28)))","v":8162},{"$f":"IF(B28=\"\",\"\",IF('Arrear Sheet'!C28=\"TOTAL\",\"\",'Arrear Sheet'!S28))","v":12919},{"$f":"IF(B28=\"\",\"\",IF('Arrear Sheet'!C28=\"TOTAL\",\"\",'Arrear Sheet'!T28))","v":12257},{"$f":"IF(B28=\"\",\"\",IF('Arrear Sheet'!C28=\"TOTAL\",\"\",'Arrear Sheet'!U28))","v":662},{"$f":"IF(B28=\"\",\"\",IF('Arrear Sheet'!C28=\"TOTAL\",\"\",'Arrear Sheet'!V28))","v":2100},{"$f":"IF(B28=\"\",\"\",IF('Arrear Sheet'!C28=\"TOTAL\",\"\",'Arrear Sheet'!W28))","v":2100},{"$f":"IF(B28=\"\",\"\",IF('Arrear Sheet'!C28=\"TOTAL\",\"\",'Arrear Sheet'!X28))","v":0},{"$f":"IF(B28=\"\",\"\",IF('Arrear Sheet'!C28=\"TOTAL\",\"\",'Arrear Sheet'!AB28))","v":""},{"$f":"IF(B28=\"\",\"\",IF('Arrear Sheet'!D28=\"TOTAL\",\"\",'Arrear Sheet'!AC28))","v":""},{"$f":"IF(B28=\"\",\"\",IF('Arrear Sheet'!E28=\"TOTAL\",\"\",'Arrear Sheet'!AD28))","v":""},{"$f":"IF(B28=\"\",\"\",IF('Arrear Sheet'!C28=\"TOTAL\",\"\",'Arrear Sheet'!Y28))","v":""},{"$f":"IF(B28=\"\",\"\",IF('Arrear Sheet'!C28=\"TOTAL\",\"\",'Arrear Sheet'!Z28))","v":""},{"$f":"IF(B28=\"\",\"\",IF('Arrear Sheet'!C28=\"TOTAL\",\"\",'Arrear Sheet'!AA28))","v":""},{"$f":"IF(B28=\"\",\"\",IF('Arrear Sheet'!C28=\"TOTAL\",\"\",'Arrear Sheet'!AE28))","v":""},{"$f":"IF(B28=\"\",\"\",IF('Arrear Sheet'!C28=\"TOTAL\",\"\",'Arrear Sheet'!AF28))","v":0},{"$f":"IF(B28=\"\",\"\",'Arrear Sheet'!AG28)","v":662},{"$f":"IFERROR(IF(B28=\"\",\"\",IF('Arrear Sheet'!C28=\"TOTAL\",\"\",SUM(Q28-AF28))),\"\")","v":7500}]
[{"$f":"IF('Arrear Sheet'!B29=\"\",\"\",'Arrear Sheet'!B29)","v":22},{"$f":"IF('Arrear Sheet'!C29=\"\",\"\",IF('Arrear Sheet'!C29=\"TOTAL\",\"\",'Arrear Sheet'!C29))","v":"2021-01-01"},{"$f":"IF('Arrear Sheet'!D29=\"\",\"\",IF('Arrear Sheet'!C29=\"TOTAL\",\"\",IF('Arrear Sheet'!D29=\"अक्षरें राशि :-\",\"\",'Arrear Sheet'!D29)))","v":107300},{"$f":"IF('Arrear Sheet'!E29=\"\",\"\",IF('Arrear Sheet'!C29=\"TOTAL\",\"\",'Arrear Sheet'!E29))","v":21889},{"$f":"IF(B29=\"\",\"\",IF('Arrear Sheet'!D29=\"TOTAL\",\"\",'Arrear Sheet'!F29))","v":8584},{"$f":"IF(B29=\"\",\"\",IF('Arrear Sheet'!E29=\"TOTAL\",\"\",'Arrear Sheet'!G29))","v":21460},{"$f":"IF(B29=\"\",\"\",IF('Arrear Sheet'!C29=\"TOTAL\",\"\",SUM(C29:F29)))","v":159233},{"$f":"IF(B29=\"\",\"\",IF('Arrear Sheet'!C29=\"TOTAL\",\"\",'Arrear Sheet'!I29))","v":101800},{"$f":"IF(B29=\"\",\"\",IF('Arrear Sheet'!C29=\"TOTAL\",\"\",'Arrear Sheet'!J29))","v":20767},{"$f":"IF(B29=\"\",\"\",IF('Arrear Sheet'!C29=\"TOTAL\",\"\",'Arrear Sheet'!K29))","v":8144},{"$f":"IF(B29=\"\",\"\",IF('Arrear Sheet'!D29=\"TOTAL\",\"\",'Arrear Sheet'!L29))","v":20360},{"$f":"IF(B29=\"\",\"\",IF('Arrear Sheet'!C29=\"TOTAL\",\"\",SUM(H29:K29)))","v":151071},{"$f":"IF(B29=\"\",\"\",IF('Arrear Sheet'!C29=\"TOTAL\",\"\",'Arrear Sheet'!N29))","v":5500},{"$f":"IF(B29=\"\",\"\",IF('Arrear Sheet'!C29=\"TOTAL\",\"\",'Arrear Sheet'!O29))","v":1122},{"$f":"IF(B29=\"\",\"\",IF('Arrear Sheet'!C29=\"TOTAL\",\"\",'Arrear Sheet'!P29))","v":440},{"$f":"IF(B29=\"\",\"\",IF('Arrear Sheet'!D29=\"TOTAL\",\"\",'Arrear Sheet'!Q29))","v":1100},{"$f":"IF(B29=\"\",\"\",IF('Arrear Sheet'!C29=\"TOTAL\",\"\",SUM(M29:P29)))","v":8162},{"$f":"IF(B29=\"\",\"\",IF('Arrear Sheet'!C29=\"TOTAL\",\"\",'Arrear Sheet'!S29))","v":12919},{"$f":"IF(B29=\"\",\"\",IF('Arrear Sheet'!C29=\"TOTAL\",\"\",'Arrear Sheet'!T29))","v":12257},{"$f":"IF(B29=\"\",\"\",IF('Arrear Sheet'!C29=\"TOTAL\",\"\",'Arrear Sheet'!U29))","v":662},{"$f":"IF(B29=\"\",\"\",IF('Arrear Sheet'!C29=\"TOTAL\",\"\",'Arrear Sheet'!V29))","v":2100},{"$f":"IF(B29=\"\",\"\",IF('Arrear Sheet'!C29=\"TOTAL\",\"\",'Arrear Sheet'!W29))","v":2100},{"$f":"IF(B29=\"\",\"\",IF('Arrear Sheet'!C29=\"TOTAL\",\"\",'Arrear Sheet'!X29))","v":0},{"$f":"IF(B29=\"\",\"\",IF('Arrear Sheet'!C29=\"TOTAL\",\"\",'Arrear Sheet'!AB29))","v":""},{"$f":"IF(B29=\"\",\"\",IF('Arrear Sheet'!D29=\"TOTAL\",\"\",'Arrear Sheet'!AC29))","v":""},{"$f":"IF(B29=\"\",\"\",IF('Arrear Sheet'!E29=\"TOTAL\",\"\",'Arrear Sheet'!AD29))","v":""},{"$f":"IF(B29=\"\",\"\",IF('Arrear Sheet'!C29=\"TOTAL\",\"\",'Arrear Sheet'!Y29))","v":""},{"$f":"IF(B29=\"\",\"\",IF('Arrear Sheet'!C29=\"TOTAL\",\"\",'Arrear Sheet'!Z29))","v":""},{"$f":"IF(B29=\"\",\"\",IF('Arrear Sheet'!C29=\"TOTAL\",\"\",'Arrear Sheet'!AA29))","v":""},{"$f":"IF(B29=\"\",\"\",IF('Arrear Sheet'!C29=\"TOTAL\",\"\",'Arrear Sheet'!AE29))","v":""},{"$f":"IF(B29=\"\",\"\",IF('Arrear Sheet'!C29=\"TOTAL\",\"\",'Arrear Sheet'!AF29))","v":0},{"$f":"IF(B29=\"\",\"\",'Arrear Sheet'!AG29)","v":662},{"$f":"IFERROR(IF(B29=\"\",\"\",IF('Arrear Sheet'!C29=\"TOTAL\",\"\",SUM(Q29-AF29))),\"\")","v":7500}]
[{"$f":"IF('Arrear Sheet'!B30=\"\",\"\",'Arrear Sheet'!B30)","v":23},{"$f":"IF('Arrear Sheet'!C30=\"\",\"\",IF('Arrear Sheet'!C30=\"TOTAL\",\"\",'Arrear Sheet'!C30))","v":"2021-02-01"},{"$f":"IF('Arrear Sheet'!D30=\"\",\"\",IF('Arrear Sheet'!C30=\"TOTAL\",\"\",IF('Arrear Sheet'!D30=\"अक्षरें राशि :-\",\"\",'Arrear Sheet'!D30)))","v":107300},{"$f":"IF('Arrear Sheet'!E30=\"\",\"\",IF('Arrear Sheet'!C30=\"TOTAL\",\"\",'Arrear Sheet'!E30))","v":21889},{"$f":"IF(B30=\"\",\"\",IF('Arrear Sheet'!D30=\"TOTAL\",\"\",'Arrear Sheet'!F30))","v":8584},{"$f":"IF(B30=\"\",\"\",IF('Arrear Sheet'!E30=\"TOTAL\",\"\",'Arrear Sheet'!G30))","v":21460},{"$f":"IF(B30=\"\",\"\",IF('Arrear Sheet'!C30=\"TOTAL\",\"\",SUM(C30:F30)))","v":159233},{"$f":"IF(B30=\"\",\"\",IF('Arrear Sheet'!C30=\"TOTAL\",\"\",'Arrear Sheet'!I30))","v":101800},{"$f":"IF(B30=\"\",\"\",IF('Arrear Sheet'!C30=\"TOTAL\",\"\",'Arrear Sheet'!J30))","v":20767},{"$f":"IF(B30=\"\",\"\",IF('Arrear Sheet'!C30=\"TOTAL\",\"\",'Arrear Sheet'!K30))","v":8144},{"$f":"IF(B30=\"\",\"\",IF('Arrear Sheet'!D30=\"TOTAL\",\"\",'Arrear Sheet'!L30))","v":20360},{"$f":"IF(B30=\"\",\"\",IF('Arrear Sheet'!C30=\"TOTAL\",\"\",SUM(H30:K30)))","v":151071},{"$f":"IF(B30=\"\",\"\",IF('Arrear Sheet'!C30=\"TOTAL\",\"\",'Arrear Sheet'!N30))","v":5500},{"$f":"IF(B30=\"\",\"\",IF('Arrear Sheet'!C30=\"TOTAL\",\"\",'Arrear Sheet'!O30))","v":1122},{"$f":"IF(B30=\"\",\"\",IF('Arrear Sheet'!C30=\"TOTAL\",\"\",'Arrear Sheet'!P30))","v":440},{"$f":"IF(B30=\"\",\"\",IF('Arrear Sheet'!D30=\"TOTAL\",\"\",'Arrear Sheet'!Q30))","v":1100},{"$f":"IF(B30=\"\",\"\",IF('Arrear Sheet'!C30=\"TOTAL\",\"\",SUM(M30:P30)))","v":8162},{"$f":"IF(B30=\"\",\"\",IF('Arrear Sheet'!C30=\"TOTAL\",\"\",'Arrear Sheet'!S30))","v":12919},{"$f":"IF(B30=\"\",\"\",IF('Arrear Sheet'!C30=\"TOTAL\",\"\",'Arrear Sheet'!T30))","v":12257},{"$f":"IF(B30=\"\",\"\",IF('Arrear Sheet'!C30=\"TOTAL\",\"\",'Arrear Sheet'!U30))","v":662},{"$f":"IF(B30=\"\",\"\",IF('Arrear Sheet'!C30=\"TOTAL\",\"\",'Arrear Sheet'!V30))","v":2100},{"$f":"IF(B30=\"\",\"\",IF('Arrear Sheet'!C30=\"TOTAL\",\"\",'Arrear Sheet'!W30))","v":2100},{"$f":"IF(B30=\"\",\"\",IF('Arrear Sheet'!C30=\"TOTAL\",\"\",'Arrear Sheet'!X30))","v":0},{"$f":"IF(B30=\"\",\"\",IF('Arrear Sheet'!C30=\"TOTAL\",\"\",'Arrear Sheet'!AB30))","v":""},{"$f":"IF(B30=\"\",\"\",IF('Arrear Sheet'!D30=\"TOTAL\",\"\",'Arrear Sheet'!AC30))","v":""},{"$f":"IF(B30=\"\",\"\",IF('Arrear Sheet'!E30=\"TOTAL\",\"\",'Arrear Sheet'!AD30))","v":""},{"$f":"IF(B30=\"\",\"\",IF('Arrear Sheet'!C30=\"TOTAL\",\"\",'Arrear Sheet'!Y30))","v":""},{"$f":"IF(B30=\"\",\"\",IF('Arrear Sheet'!C30=\"TOTAL\",\"\",'Arrear Sheet'!Z30))","v":""},{"$f":"IF(B30=\"\",\"\",IF('Arrear Sheet'!C30=\"TOTAL\",\"\",'Arrear Sheet'!AA30))","v":""},{"$f":"IF(B30=\"\",\"\",IF('Arrear Sheet'!C30=\"TOTAL\",\"\",'Arrear Sheet'!AE30))","v":""},{"$f":"IF(B30=\"\",\"\",IF('Arrear Sheet'!C30=\"TOTAL\",\"\",'Arrear Sheet'!AF30))","v":0},{"$f":"IF(B30=\"\",\"\",'Arrear Sheet'!AG30)","v":662},{"$f":"IFERROR(IF(B30=\"\",\"\",IF('Arrear Sheet'!C30=\"TOTAL\",\"\",SUM(Q30-AF30))),\"\")","v":7500}]
[{"$f":"IF('Arrear Sheet'!B31=\"\",\"\",'Arrear Sheet'!B31)","v":24},{"$f":"IF('Arrear Sheet'!C31=\"\",\"\",IF('Arrear Sheet'!C31=\"TOTAL\",\"\",'Arrear Sheet'!C31))","v":"2021-03-01"},{"$f":"IF('Arrear Sheet'!D31=\"\",\"\",IF('Arrear Sheet'!C31=\"TOTAL\",\"\",IF('Arrear Sheet'!D31=\"अक्षरें राशि :-\",\"\",'Arrear Sheet'!D31)))","v":107300},{"$f":"IF('Arrear Sheet'!E31=\"\",\"\",IF('Arrear Sheet'!C31=\"TOTAL\",\"\",'Arrear Sheet'!E31))","v":21889},{"$f":"IF(B31=\"\",\"\",IF('Arrear Sheet'!D31=\"TOTAL\",\"\",'Arrear Sheet'!F31))","v":8584},{"$f":"IF(B31=\"\",\"\",IF('Arrear Sheet'!E31=\"TOTAL\",\"\",'Arrear Sheet'!G31))","v":21460},{"$f":"IF(B31=\"\",\"\",IF('Arrear Sheet'!C31=\"TOTAL\",\"\",SUM(C31:F31)))","v":159233},{"$f":"IF(B31=\"\",\"\",IF('Arrear Sheet'!C31=\"TOTAL\",\"\",'Arrear Sheet'!I31))","v":101800},{"$f":"IF(B31=\"\",\"\",IF('Arrear Sheet'!C31=\"TOTAL\",\"\",'Arrear Sheet'!J31))","v":20767},{"$f":"IF(B31=\"\",\"\",IF('Arrear Sheet'!C31=\"TOTAL\",\"\",'Arrear Sheet'!K31))","v":8144},{"$f":"IF(B31=\"\",\"\",IF('Arrear Sheet'!D31=\"TOTAL\",\"\",'Arrear Sheet'!L31))","v":20360},{"$f":"IF(B31=\"\",\"\",IF('Arrear Sheet'!C31=\"TOTAL\",\"\",SUM(H31:K31)))","v":151071},{"$f":"IF(B31=\"\",\"\",IF('Arrear Sheet'!C31=\"TOTAL\",\"\",'Arrear Sheet'!N31))","v":5500},{"$f":"IF(B31=\"\",\"\",IF('Arrear Sheet'!C31=\"TOTAL\",\"\",'Arrear Sheet'!O31))","v":1122},{"$f":"IF(B31=\"\",\"\",IF('Arrear Sheet'!C31=\"TOTAL\",\"\",'Arrear Sheet'!P31))","v":440},{"$f":"IF(B31=\"\",\"\",IF('Arrear Sheet'!D31=\"TOTAL\",\"\",'Arrear Sheet'!Q31))","v":1100},{"$f":"IF(B31=\"\",\"\",IF('Arrear Sheet'!C31=\"TOTAL\",\"\",SUM(M31:P31)))","v":8162},{"$f":"IF(B31=\"\",\"\",IF('Arrear Sheet'!C31=\"TOTAL\",\"\",'Arrear Sheet'!S31))","v":12919},{"$f":"IF(B31=\"\",\"\",IF('Arrear Sheet'!C31=\"TOTAL\",\"\",'Arrear Sheet'!T31))","v":12257},{"$f":"IF(B31=\"\",\"\",IF('Arrear Sheet'!C31=\"TOTAL\",\"\",'Arrear Sheet'!U31))","v":662},{"$f":"IF(B31=\"\",\"\",IF('Arrear Sheet'!C31=\"TOTAL\",\"\",'Arrear Sheet'!V31))","v":2100},{"$f":"IF(B31=\"\",\"\",IF('Arrear Sheet'!C31=\"TOTAL\",\"\",'Arrear Sheet'!W31))","v":2100},{"$f":"IF(B31=\"\",\"\",IF('Arrear Sheet'!C31=\"TOTAL\",\"\",'Arrear Sheet'!X31))","v":0},{"$f":"IF(B31=\"\",\"\",IF('Arrear Sheet'!C31=\"TOTAL\",\"\",'Arrear Sheet'!AB31))","v":""},{"$f":"IF(B31=\"\",\"\",IF('Arrear Sheet'!D31=\"TOTAL\",\"\",'Arrear Sheet'!AC31))","v":""},{"$f":"IF(B31=\"\",\"\",IF('Arrear Sheet'!E31=\"TOTAL\",\"\",'Arrear Sheet'!AD31))","v":""},{"$f":"IF(B31=\"\",\"\",IF('Arrear Sheet'!C31=\"TOTAL\",\"\",'Arrear Sheet'!Y31))","v":""},{"$f":"IF(B31=\"\",\"\",IF('Arrear Sheet'!C31=\"TOTAL\",\"\",'Arrear Sheet'!Z31))","v":""},{"$f":"IF(B31=\"\",\"\",IF('Arrear Sheet'!C31=\"TOTAL\",\"\",'Arrear Sheet'!AA31))","v":""},{"$f":"IF(B31=\"\",\"\",IF('Arrear Sheet'!C31=\"TOTAL\",\"\",'Arrear Sheet'!AE31))","v":""},{"$f":"IF(B31=\"\",\"\",IF('Arrear Sheet'!C31=\"TOTAL\",\"\",'Arrear Sheet'!AF31))","v":0},{"$f":"IF(B31=\"\",\"\",'Arrear Sheet'!AG31)","v":662},{"$f":"IFERROR(IF(B31=\"\",\"\",IF('Arrear Sheet'!C31=\"TOTAL\",\"\",SUM(Q31-AF31))),\"\")","v":7500}]
[{"$f":"IF('Arrear Sheet'!B32=\"\",\"\",'Arrear Sheet'!B32)","v":25},{"$f":"IF('Arrear Sheet'!C32=\"\",\"\",IF('Arrear Sheet'!C32=\"TOTAL\",\"\",'Arrear Sheet'!C32))","v":"2021-04-01"},{"$f":"IF('Arrear Sheet'!D32=\"\",\"\",IF('Arrear Sheet'!C32=\"TOTAL\",\"\",IF('Arrear Sheet'!D32=\"अक्षरें राशि :-\",\"\",'Arrear Sheet'!D32)))","v":107300},{"$f":"IF('Arrear Sheet'!E32=\"\",\"\",IF('Arrear Sheet'!C32=\"TOTAL\",\"\",'Arrear Sheet'!E32))","v":21889},{"$f":"IF(B32=\"\",\"\",IF('Arrear Sheet'!D32=\"TOTAL\",\"\",'Arrear Sheet'!F32))","v":8584},{"$f":"IF(B32=\"\",\"\",IF('Arrear Sheet'!E32=\"TOTAL\",\"\",'Arrear Sheet'!G32))","v":21460},{"$f":"IF(B32=\"\",\"\",IF('Arrear Sheet'!C32=\"TOTAL\",\"\",SUM(C32:F32)))","v":159233},{"$f":"IF(B32=\"\",\"\",IF('Arrear Sheet'!C32=\"TOTAL\",\"\",'Arrear Sheet'!I32))","v":101800},{"$f":"IF(B32=\"\",\"\",IF('Arrear Sheet'!C32=\"TOTAL\",\"\",'Arrear Sheet'!J32))","v":20767},{"$f":"IF(B32=\"\",\"\",IF('Arrear Sheet'!C32=\"TOTAL\",\"\",'Arrear Sheet'!K32))","v":8144},{"$f":"IF(B32=\"\",\"\",IF('Arrear Sheet'!D32=\"TOTAL\",\"\",'Arrear Sheet'!L32))","v":20360},{"$f":"IF(B32=\"\",\"\",IF('Arrear Sheet'!C32=\"TOTAL\",\"\",SUM(H32:K32)))","v":151071},{"$f":"IF(B32=\"\",\"\",IF('Arrear Sheet'!C32=\"TOTAL\",\"\",'Arrear Sheet'!N32))","v":5500},{"$f":"IF(B32=\"\",\"\",IF('Arrear Sheet'!C32=\"TOTAL\",\"\",'Arrear Sheet'!O32))","v":1122},{"$f":"IF(B32=\"\",\"\",IF('Arrear Sheet'!C32=\"TOTAL\",\"\",'Arrear Sheet'!P32))","v":440},{"$f":"IF(B32=\"\",\"\",IF('Arrear Sheet'!D32=\"TOTAL\",\"\",'Arrear Sheet'!Q32))","v":1100},{"$f":"IF(B32=\"\",\"\",IF('Arrear Sheet'!C32=\"TOTAL\",\"\",SUM(M32:P32)))","v":8162},{"$f":"IF(B32=\"\",\"\",IF('Arrear Sheet'!C32=\"TOTAL\",\"\",'Arrear Sheet'!S32))","v":12919},{"$f":"IF(B32=\"\",\"\",IF('Arrear Sheet'!C32=\"TOTAL\",\"\",'Arrear Sheet'!T32))","v":12257},{"$f":"IF(B32=\"\",\"\",IF('Arrear Sheet'!C32=\"TOTAL\",\"\",'Arrear Sheet'!U32))","v":662},{"$f":"IF(B32=\"\",\"\",IF('Arrear Sheet'!C32=\"TOTAL\",\"\",'Arrear Sheet'!V32))","v":2100},{"$f":"IF(B32=\"\",\"\",IF('Arrear Sheet'!C32=\"TOTAL\",\"\",'Arrear Sheet'!W32))","v":2100},{"$f":"IF(B32=\"\",\"\",IF('Arrear Sheet'!C32=\"TOTAL\",\"\",'Arrear Sheet'!X32))","v":0},{"$f":"IF(B32=\"\",\"\",IF('Arrear Sheet'!C32=\"TOTAL\",\"\",'Arrear Sheet'!AB32))","v":""},{"$f":"IF(B32=\"\",\"\",IF('Arrear Sheet'!D32=\"TOTAL\",\"\",'Arrear Sheet'!AC32))","v":""},{"$f":"IF(B32=\"\",\"\",IF('Arrear Sheet'!E32=\"TOTAL\",\"\",'Arrear Sheet'!AD32))","v":""},{"$f":"IF(B32=\"\",\"\",IF('Arrear Sheet'!C32=\"TOTAL\",\"\",'Arrear Sheet'!Y32))","v":""},{"$f":"IF(B32=\"\",\"\",IF('Arrear Sheet'!C32=\"TOTAL\",\"\",'Arrear Sheet'!Z32))","v":""},{"$f":"IF(B32=\"\",\"\",IF('Arrear Sheet'!C32=\"TOTAL\",\"\",'Arrear Sheet'!AA32))","v":""},{"$f":"IF(B32=\"\",\"\",IF('Arrear Sheet'!C32=\"TOTAL\",\"\",'Arrear Sheet'!AE32))","v":""},{"$f":"IF(B32=\"\",\"\",IF('Arrear Sheet'!C32=\"TOTAL\",\"\",'Arrear Sheet'!AF32))","v":0},{"$f":"IF(B32=\"\",\"\",'Arrear Sheet'!AG32)","v":662},{"$f":"IFERROR(IF(B32=\"\",\"\",IF('Arrear Sheet'!C32=\"TOTAL\",\"\",SUM(Q32-AF32))),\"\")","v":7500}]
[{"$f":"IF('Arrear Sheet'!B33=\"\",\"\",'Arrear Sheet'!B33)","v":26},{"$f":"IF('Arrear Sheet'!C33=\"\",\"\",IF('Arrear Sheet'!C33=\"TOTAL\",\"\",'Arrear Sheet'!C33))","v":"2021-05-01"},{"$f":"IF('Arrear Sheet'!D33=\"\",\"\",IF('Arrear Sheet'!C33=\"TOTAL\",\"\",IF('Arrear Sheet'!D33=\"अक्षरें राशि :-\",\"\",'Arrear Sheet'!D33)))","v":107300},{"$f":"IF('Arrear Sheet'!E33=\"\",\"\",IF('Arrear Sheet'!C33=\"TOTAL\",\"\",'Arrear Sheet'!E33))","v":21889},{"$f":"IF(B33=\"\",\"\",IF('Arrear Sheet'!D33=\"TOTAL\",\"\",'Arrear Sheet'!F33))","v":8584},{"$f":"IF(B33=\"\",\"\",IF('Arrear Sheet'!E33=\"TOTAL\",\"\",'Arrear Sheet'!G33))","v":21460},{"$f":"IF(B33=\"\",\"\",IF('Arrear Sheet'!C33=\"TOTAL\",\"\",SUM(C33:F33)))","v":159233},{"$f":"IF(B33=\"\",\"\",IF('Arrear Sheet'!C33=\"TOTAL\",\"\",'Arrear Sheet'!I33))","v":101800},{"$f":"IF(B33=\"\",\"\",IF('Arrear Sheet'!C33=\"TOTAL\",\"\",'Arrear Sheet'!J33))","v":20767},{"$f":"IF(B33=\"\",\"\",IF('Arrear Sheet'!C33=\"TOTAL\",\"\",'Arrear Sheet'!K33))","v":8144},{"$f":"IF(B33=\"\",\"\",IF('Arrear Sheet'!D33=\"TOTAL\",\"\",'Arrear Sheet'!L33))","v":20360},{"$f":"IF(B33=\"\",\"\",IF('Arrear Sheet'!C33=\"TOTAL\",\"\",SUM(H33:K33)))","v":151071},{"$f":"IF(B33=\"\",\"\",IF('Arrear Sheet'!C33=\"TOTAL\",\"\",'Arrear Sheet'!N33))","v":5500},{"$f":"IF(B33=\"\",\"\",IF('Arrear Sheet'!C33=\"TOTAL\",\"\",'Arrear Sheet'!O33))","v":1122},{"$f":"IF(B33=\"\",\"\",IF('Arrear Sheet'!C33=\"TOTAL\",\"\",'Arrear Sheet'!P33))","v":440},{"$f":"IF(B33=\"\",\"\",IF('Arrear Sheet'!D33=\"TOTAL\",\"\",'Arrear Sheet'!Q33))","v":1100},{"$f":"IF(B33=\"\",\"\",IF('Arrear Sheet'!C33=\"TOTAL\",\"\",SUM(M33:P33)))","v":8162},{"$f":"IF(B33=\"\",\"\",IF('Arrear Sheet'!C33=\"TOTAL\",\"\",'Arrear Sheet'!S33))","v":12919},{"$f":"IF(B33=\"\",\"\",IF('Arrear Sheet'!C33=\"TOTAL\",\"\",'Arrear Sheet'!T33))","v":12257},{"$f":"IF(B33=\"\",\"\",IF('Arrear Sheet'!C33=\"TOTAL\",\"\",'Arrear Sheet'!U33))","v":662},{"$f":"IF(B33=\"\",\"\",IF('Arrear Sheet'!C33=\"TOTAL\",\"\",'Arrear Sheet'!V33))","v":2100},{"$f":"IF(B33=\"\",\"\",IF('Arrear Sheet'!C33=\"TOTAL\",\"\",'Arrear Sheet'!W33))","v":2100},{"$f":"IF(B33=\"\",\"\",IF('Arrear Sheet'!C33=\"TOTAL\",\"\",'Arrear Sheet'!X33))","v":0},{"$f":"IF(B33=\"\",\"\",IF('Arrear Sheet'!C33=\"TOTAL\",\"\",'Arrear Sheet'!AB33))","v":""},{"$f":"IF(B33=\"\",\"\",IF('Arrear Sheet'!D33=\"TOTAL\",\"\",'Arrear Sheet'!AC33))","v":""},{"$f":"IF(B33=\"\",\"\",IF('Arrear Sheet'!E33=\"TOTAL\",\"\",'Arrear Sheet'!AD33))","v":""},{"$f":"IF(B33=\"\",\"\",IF('Arrear Sheet'!C33=\"TOTAL\",\"\",'Arrear Sheet'!Y33))","v":""},{"$f":"IF(B33=\"\",\"\",IF('Arrear Sheet'!C33=\"TOTAL\",\"\",'Arrear Sheet'!Z33))","v":""},{"$f":"IF(B33=\"\",\"\",IF('Arrear Sheet'!C33=\"TOTAL\",\"\",'Arrear Sheet'!AA33))","v":""},{"$f":"IF(B33=\"\",\"\",IF('Arrear Sheet'!C33=\"TOTAL\",\"\",'Arrear Sheet'!AE33))","v":""},{"$f":"IF(B33=\"\",\"\",IF('Arrear Sheet'!C33=\"TOTAL\",\"\",'Arrear Sheet'!AF33))","v":0},{"$f":"IF(B33=\"\",\"\",'Arrear Sheet'!AG33)","v":662},{"$f":"IFERROR(IF(B33=\"\",\"\",IF('Arrear Sheet'!C33=\"TOTAL\",\"\",SUM(Q33-AF33))),\"\")","v":7500}]
[{"$f":"IF('Arrear Sheet'!B34=\"\",\"\",'Arrear Sheet'!B34)","v":27},{"$f":"IF('Arrear Sheet'!C34=\"\",\"\",IF('Arrear Sheet'!C34=\"TOTAL\",\"\",'Arrear Sheet'!C34))","v":"2021-06-01"},{"$f":"IF('Arrear Sheet'!D34=\"\",\"\",IF('Arrear Sheet'!C34=\"TOTAL\",\"\",IF('Arrear Sheet'!D34=\"अक्षरें राशि :-\",\"\",'Arrear Sheet'!D34)))","v":107300},{"$f":"IF('Arrear Sheet'!E34=\"\",\"\",IF('Arrear Sheet'!C34=\"TOTAL\",\"\",'Arrear Sheet'!E34))","v":21889},{"$f":"IF(B34=\"\",\"\",IF('Arrear Sheet'!D34=\"TOTAL\",\"\",'Arrear Sheet'!F34))","v":8584},{"$f":"IF(B34=\"\",\"\",IF('Arrear Sheet'!E34=\"TOTAL\",\"\",'Arrear Sheet'!G34))","v":21460},{"$f":"IF(B34=\"\",\"\",IF('Arrear Sheet'!C34=\"TOTAL\",\"\",SUM(C34:F34)))","v":159233},{"$f":"IF(B34=\"\",\"\",IF('Arrear Sheet'!C34=\"TOTAL\",\"\",'Arrear Sheet'!I34))","v":101800},{"$f":"IF(B34=\"\",\"\",IF('Arrear Sheet'!C34=\"TOTAL\",\"\",'Arrear Sheet'!J34))","v":20767},{"$f":"IF(B34=\"\",\"\",IF('Arrear Sheet'!C34=\"TOTAL\",\"\",'Arrear Sheet'!K34))","v":8144},{"$f":"IF(B34=\"\",\"\",IF('Arrear Sheet'!D34=\"TOTAL\",\"\",'Arrear Sheet'!L34))","v":20360},{"$f":"IF(B34=\"\",\"\",IF('Arrear Sheet'!C34=\"TOTAL\",\"\",SUM(H34:K34)))","v":151071},{"$f":"IF(B34=\"\",\"\",IF('Arrear Sheet'!C34=\"TOTAL\",\"\",'Arrear Sheet'!N34))","v":5500},{"$f":"IF(B34=\"\",\"\",IF('Arrear Sheet'!C34=\"TOTAL\",\"\",'Arrear Sheet'!O34))","v":1122},{"$f":"IF(B34=\"\",\"\",IF('Arrear Sheet'!C34=\"TOTAL\",\"\",'Arrear Sheet'!P34))","v":440},{"$f":"IF(B34=\"\",\"\",IF('Arrear Sheet'!D34=\"TOTAL\",\"\",'Arrear Sheet'!Q34))","v":1100},{"$f":"IF(B34=\"\",\"\",IF('Arrear Sheet'!C34=\"TOTAL\",\"\",SUM(M34:P34)))","v":8162},{"$f":"IF(B34=\"\",\"\",IF('Arrear Sheet'!C34=\"TOTAL\",\"\",'Arrear Sheet'!S34))","v":12919},{"$f":"IF(B34=\"\",\"\",IF('Arrear Sheet'!C34=\"TOTAL\",\"\",'Arrear Sheet'!T34))","v":12257},{"$f":"IF(B34=\"\",\"\",IF('Arrear Sheet'!C34=\"TOTAL\",\"\",'Arrear Sheet'!U34))","v":662},{"$f":"IF(B34=\"\",\"\",IF('Arrear Sheet'!C34=\"TOTAL\",\"\",'Arrear Sheet'!V34))","v":2100},{"$f":"IF(B34=\"\",\"\",IF('Arrear Sheet'!C34=\"TOTAL\",\"\",'Arrear Sheet'!W34))","v":2100},{"$f":"IF(B34=\"\",\"\",IF('Arrear Sheet'!C34=\"TOTAL\",\"\",'Arrear Sheet'!X34))","v":0},{"$f":"IF(B34=\"\",\"\",IF('Arrear Sheet'!C34=\"TOTAL\",\"\",'Arrear Sheet'!AB34))","v":""},{"$f":"IF(B34=\"\",\"\",IF('Arrear Sheet'!D34=\"TOTAL\",\"\",'Arrear Sheet'!AC34))","v":""},{"$f":"IF(B34=\"\",\"\",IF('Arrear Sheet'!E34=\"TOTAL\",\"\",'Arrear Sheet'!AD34))","v":""},{"$f":"IF(B34=\"\",\"\",IF('Arrear Sheet'!C34=\"TOTAL\",\"\",'Arrear Sheet'!Y34))","v":""},{"$f":"IF(B34=\"\",\"\",IF('Arrear Sheet'!C34=\"TOTAL\",\"\",'Arrear Sheet'!Z34))","v":""},{"$f":"IF(B34=\"\",\"\",IF('Arrear Sheet'!C34=\"TOTAL\",\"\",'Arrear Sheet'!AA34))","v":""},{"$f":"IF(B34=\"\",\"\",IF('Arrear Sheet'!C34=\"TOTAL\",\"\",'Arrear Sheet'!AE34))","v":""},{"$f":"IF(B34=\"\",\"\",IF('Arrear Sheet'!C34=\"TOTAL\",\"\",'Arrear Sheet'!AF34))","v":0},{"$f":"IF(B34=\"\",\"\",'Arrear Sheet'!AG34)","v":662},{"$f":"IFERROR(IF(B34=\"\",\"\",IF('Arrear Sheet'!C34=\"TOTAL\",\"\",SUM(Q34-AF34))),\"\")","v":7500}]
[{"$f":"IF('Arrear Sheet'!B35=\"\",\"\",'Arrear Sheet'!B35)","v":28},{"$f":"IF('Arrear Sheet'!C35=\"\",\"\",IF('Arrear Sheet'!C35=\"TOTAL\",\"\",'Arrear Sheet'!C35))","v":"2021-07-01"},{"$f":"IF('Arrear Sheet'!D35=\"\",\"\",IF('Arrear Sheet'!C35=\"TOTAL\",\"\",IF('Arrear Sheet'!D35=\"अक्षरें राशि :-\",\"\",'Arrear Sheet'!D35)))","v":110500},{"$f":"IF('Arrear Sheet'!E35=\"\",\"\",IF('Arrear Sheet'!C35=\"TOTAL\",\"\",'Arrear Sheet'!E35))","v":41106},{"$f":"IF(B35=\"\",\"\",IF('Arrear Sheet'!D35=\"TOTAL\",\"\",'Arrear Sheet'!F35))","v":9945},{"$f":"IF(B35=\"\",\"\",IF('Arrear Sheet'!E35=\"TOTAL\",\"\",'Arrear Sheet'!G35))","v":22100},{"$f":"IF(B35=\"\",\"\",IF('Arrear Sheet'!C35=\"TOTAL\",\"\",SUM(C35:F35)))","v":183651},{"$f":"IF(B35=\"\",\"\",IF('Arrear Sheet'!C35=\"TOTAL\",\"\",'Arrear Sheet'!I35))","v":104900},{"$f":"IF(B35=\"\",\"\",IF('Arrear Sheet'!C35=\"TOTAL\",\"\",'Arrear Sheet'!J35))","v":39023},{"$f":"IF(B35=\"\",\"\",IF('Arrear Sheet'!C35=\"TOTAL\",\"\",'Arrear Sheet'!K35))","v":9441},{"$f":"IF(B35=\"\",\"\",IF('Arrear Sheet'!D35=\"TOTAL\",\"\",'Arrear Sheet'!L35))","v":20980},{"$f":"IF(B35=\"\",\"\",IF('Arrear Sheet'!C35=\"TOTAL\",\"\",SUM(H35:K35)))","v":174344},{"$f":"IF(B35=\"\",\"\",IF('Arrear Sheet'!C35=\"TOTAL\",\"\",'Arrear Sheet'!N35))","v":5600},{"$f":"IF(B35=\"\",\"\",IF('Arrear Sheet'!C35=\"TOTAL\",\"\",'Arrear Sheet'!O35))","v":2083},{"$f":"IF(B35=\"\",\"\",IF('Arrear Sheet'!C35=\"TOTAL\",\"\",'Arrear Sheet'!P35))","v":504},{"$f":"IF(B35=\"\",\"\",IF('Arrear Sheet'!D35=\"TOTAL\",\"\",'Arrear Sheet'!Q35))","v":1120},{"$f":"IF(B35=\"\",\"\",IF('Arrear Sheet'!C35=\"TOTAL\",\"\",SUM(M35:P35)))","v":9307},{"$f":"IF(B35=\"\",\"\",IF('Arrear Sheet'!C35=\"TOTAL\",\"\",'Arrear Sheet'!S35))","v":15161},{"$f":"IF(B35=\"\",\"\",IF('Arrear Sheet'!C35=\"TOTAL\",\"\",'Arrear Sheet'!T35))","v":14392},{"$f":"IF(B35=\"\",\"\",IF('Arrear Sheet'!C35=\"TOTAL\",\"\",'Arrear Sheet'!U35))","v":769},{"$f":"IF(B35=\"\",\"\",IF('Arrear Sheet'!C35=\"TOTAL\",\"\",'Arrear Sheet'!V35))","v":2100},{"$f":"IF(B35=\"\",\"\",IF('Arrear Sheet'!C35=\"TOTAL\",\"\",'Arrear Sheet'!W35))","v":2100},{"$f":"IF(B35=\"\",\"\",IF('Arrear Sheet'!C35=\"TOTAL\",\"\",'Arrear Sheet'!X35))","v":0},{"$f":"IF(B35=\"\",\"\",IF('Arrear Sheet'!C35=\"TOTAL\",\"\",'Arrear Sheet'!AB35))","v":""},{"$f":"IF(B35=\"\",\"\",IF('Arrear Sheet'!D35=\"TOTAL\",\"\",'Arrear Sheet'!AC35))","v":""},{"$f":"IF(B35=\"\",\"\",IF('Arrear Sheet'!E35=\"TOTAL\",\"\",'Arrear Sheet'!AD35))","v":""},{"$f":"IF(B35=\"\",\"\",IF('Arrear Sheet'!C35=\"TOTAL\",\"\",'Arrear Sheet'!Y35))","v":""},{"$f":"IF(B35=\"\",\"\",IF('Arrear Sheet'!C35=\"TOTAL\",\"\",'Arrear Sheet'!Z35))","v":""},{"$f":"IF(B35=\"\",\"\",IF('Arrear Sheet'!C35=\"TOTAL\",\"\",'Arrear Sheet'!AA35))","v":""},{"$f":"IF(B35=\"\",\"\",IF('Arrear Sheet'!C35=\"TOTAL\",\"\",'Arrear Sheet'!AE35))","v":168},{"$f":"IF(B35=\"\",\"\",IF('Arrear Sheet'!C35=\"TOTAL\",\"\",'Arrear Sheet'!AF35))","v":0},{"$f":"IF(B35=\"\",\"\",'Arrear Sheet'!AG35)","v":937},{"$f":"IFERROR(IF(B35=\"\",\"\",IF('Arrear Sheet'!C35=\"TOTAL\",\"\",SUM(Q35-AF35))),\"\")","v":8370}]
[{"$f":"IF('Arrear Sheet'!B36=\"\",\"\",'Arrear Sheet'!B36)","v":29},{"$f":"IF('Arrear Sheet'!C36=\"\",\"\",IF('Arrear Sheet'!C36=\"TOTAL\",\"\",'Arrear Sheet'!C36))","v":"2021-08-01"},{"$f":"IF('Arrear Sheet'!D36=\"\",\"\",IF('Arrear Sheet'!C36=\"TOTAL\",\"\",IF('Arrear Sheet'!D36=\"अक्षरें राशि :-\",\"\",'Arrear Sheet'!D36)))","v":110500},{"$f":"IF('Arrear Sheet'!E36=\"\",\"\",IF('Arrear Sheet'!C36=\"TOTAL\",\"\",'Arrear Sheet'!E36))","v":41106},{"$f":"IF(B36=\"\",\"\",IF('Arrear Sheet'!D36=\"TOTAL\",\"\",'Arrear Sheet'!F36))","v":9945},{"$f":"IF(B36=\"\",\"\",IF('Arrear Sheet'!E36=\"TOTAL\",\"\",'Arrear Sheet'!G36))","v":22100},{"$f":"IF(B36=\"\",\"\",IF('Arrear Sheet'!C36=\"TOTAL\",\"\",SUM(C36:F36)))","v":183651},{"$f":"IF(B36=\"\",\"\",IF('Arrear Sheet'!C36=\"TOTAL\",\"\",'Arrear Sheet'!I36))","v":104900},{"$f":"IF(B36=\"\",\"\",IF('Arrear Sheet'!C36=\"TOTAL\",\"\",'Arrear Sheet'!J36))","v":39023},{"$f":"IF(B36=\"\",\"\",IF('Arrear Sheet'!C36=\"TOTAL\",\"\",'Arrear Sheet'!K36))","v":9441},{"$f":"IF(B36=\"\",\"\",IF('Arrear Sheet'!D36=\"TOTAL\",\"\",'Arrear Sheet'!L36))","v":20980},{"$f":"IF(B36=\"\",\"\",IF('Arrear Sheet'!C36=\"TOTAL\",\"\",SUM(H36:K36)))","v":174344},{"$f":"IF(B36=\"\",\"\",IF('Arrear Sheet'!C36=\"TOTAL\",\"\",'Arrear Sheet'!N36))","v":5600},{"$f":"IF(B36=\"\",\"\",IF('Arrear Sheet'!C36=\"TOTAL\",\"\",'Arrear Sheet'!O36))","v":2083},{"$f":"IF(B36=\"\",\"\",IF('Arrear Sheet'!C36=\"TOTAL\",\"\",'Arrear Sheet'!P36))","v":504},{"$f":"IF(B36=\"\",\"\",IF('Arrear Sheet'!D36=\"TOTAL\",\"\",'Arrear Sheet'!Q36))","v":1120},{"$f":"IF(B36=\"\",\"\",IF('Arrear Sheet'!C36=\"TOTAL\",\"\",SUM(M36:P36)))","v":9307},{"$f":"IF(B36=\"\",\"\",IF('Arrear Sheet'!C36=\"TOTAL\",\"\",'Arrear Sheet'!S36))","v":15161},{"$f":"IF(B36=\"\",\"\",IF('Arrear Sheet'!C36=\"TOTAL\",\"\",'Arrear Sheet'!T36))","v":14392},{"$f":"IF(B36=\"\",\"\",IF('Arrear Sheet'!C36=\"TOTAL\",\"\",'Arrear Sheet'!U36))","v":769},{"$f":"IF(B36=\"\",\"\",IF('Arrear Sheet'!C36=\"TOTAL\",\"\",'Arrear Sheet'!V36))","v":2100},{"$f":"IF(B36=\"\",\"\",IF('Arrear Sheet'!C36=\"TOTAL\",\"\",'Arrear Sheet'!W36))","v":2100},{"$f":"IF(B36=\"\",\"\",IF('Arrear Sheet'!C36=\"TOTAL\",\"\",'Arrear Sheet'!X36))","v":0},{"$f":"IF(B36=\"\",\"\",IF('Arrear Sheet'!C36=\"TOTAL\",\"\",'Arrear Sheet'!AB36))","v":""},{"$f":"IF(B36=\"\",\"\",IF('Arrear Sheet'!D36=\"TOTAL\",\"\",'Arrear Sheet'!AC36))","v":""},{"$f":"IF(B36=\"\",\"\",IF('Arrear Sheet'!E36=\"TOTAL\",\"\",'Arrear Sheet'!AD36))","v":""},{"$f":"IF(B36=\"\",\"\",IF('Arrear Sheet'!C36=\"TOTAL\",\"\",'Arrear Sheet'!Y36))","v":""},{"$f":"IF(B36=\"\",\"\",IF('Arrear Sheet'!C36=\"TOTAL\",\"\",'Arrear Sheet'!Z36))","v":""},{"$f":"IF(B36=\"\",\"\",IF('Arrear Sheet'!C36=\"TOTAL\",\"\",'Arrear Sheet'!AA36))","v":""},{"$f":"IF(B36=\"\",\"\",IF('Arrear Sheet'!C36=\"TOTAL\",\"\",'Arrear Sheet'!AE36))","v":168},{"$f":"IF(B36=\"\",\"\",IF('Arrear Sheet'!C36=\"TOTAL\",\"\",'Arrear Sheet'!AF36))","v":0},{"$f":"IF(B36=\"\",\"\",'Arrear Sheet'!AG36)","v":937},{"$f":"IFERROR(IF(B36=\"\",\"\",IF('Arrear Sheet'!C36=\"TOTAL\",\"\",SUM(Q36-AF36))),\"\")","v":8370}]
[{"$f":"IF('Arrear Sheet'!B37=\"\",\"\",'Arrear Sheet'!B37)","v":30},{"$f":"IF('Arrear Sheet'!C37=\"\",\"\",IF('Arrear Sheet'!C37=\"TOTAL\",\"\",'Arrear Sheet'!C37))","v":"2021-09-01"},{"$f":"IF('Arrear Sheet'!D37=\"\",\"\",IF('Arrear Sheet'!C37=\"TOTAL\",\"\",IF('Arrear Sheet'!D37=\"अक्षरें राशि :-\",\"\",'Arrear Sheet'!D37)))","v":110500},{"$f":"IF('Arrear Sheet'!E37=\"\",\"\",IF('Arrear Sheet'!C37=\"TOTAL\",\"\",'Arrear Sheet'!E37))","v":41106},{"$f":"IF(B37=\"\",\"\",IF('Arrear Sheet'!D37=\"TOTAL\",\"\",'Arrear Sheet'!F37))","v":9945},{"$f":"IF(B37=\"\",\"\",IF('Arrear Sheet'!E37=\"TOTAL\",\"\",'Arrear Sheet'!G37))","v":22100},{"$f":"IF(B37=\"\",\"\",IF('Arrear Sheet'!C37=\"TOTAL\",\"\",SUM(C37:F37)))","v":183651},{"$f":"IF(B37=\"\",\"\",IF('Arrear Sheet'!C37=\"TOTAL\",\"\",'Arrear Sheet'!I37))","v":104900},{"$f":"IF(B37=\"\",\"\",IF('Arrear Sheet'!C37=\"TOTAL\",\"\",'Arrear Sheet'!J37))","v":39023},{"$f":"IF(B37=\"\",\"\",IF('Arrear Sheet'!C37=\"TOTAL\",\"\",'Arrear Sheet'!K37))","v":9441},{"$f":"IF(B37=\"\",\"\",IF('Arrear Sheet'!D37=\"TOTAL\",\"\",'Arrear Sheet'!L37))","v":20980},{"$f":"IF(B37=\"\",\"\",IF('Arrear Sheet'!C37=\"TOTAL\",\"\",SUM(H37:K37)))","v":174344},{"$f":"IF(B37=\"\",\"\",IF('Arrear Sheet'!C37=\"TOTAL\",\"\",'Arrear Sheet'!N37))","v":5600},{"$f":"IF(B37=\"\",\"\",IF('Arrear Sheet'!C37=\"TOTAL\",\"\",'Arrear Sheet'!O37))","v":2083},{"$f":"IF(B37=\"\",\"\",IF('Arrear Sheet'!C37=\"TOTAL\",\"\",'Arrear Sheet'!P37))","v":504},{"$f":"IF(B37=\"\",\"\",IF('Arrear Sheet'!D37=\"TOTAL\",\"\",'Arrear Sheet'!Q37))","v":1120},{"$f":"IF(B37=\"\",\"\",IF('Arrear Sheet'!C37=\"TOTAL\",\"\",SUM(M37:P37)))","v":9307},{"$f":"IF(B37=\"\",\"\",IF('Arrear Sheet'!C37=\"TOTAL\",\"\",'Arrear Sheet'!S37))","v":15161},{"$f":"IF(B37=\"\",\"\",IF('Arrear Sheet'!C37=\"TOTAL\",\"\",'Arrear Sheet'!T37))","v":14392},{"$f":"IF(B37=\"\",\"\",IF('Arrear Sheet'!C37=\"TOTAL\",\"\",'Arrear Sheet'!U37))","v":769},{"$f":"IF(B37=\"\",\"\",IF('Arrear Sheet'!C37=\"TOTAL\",\"\",'Arrear Sheet'!V37))","v":2100},{"$f":"IF(B37=\"\",\"\",IF('Arrear Sheet'!C37=\"TOTAL\",\"\",'Arrear Sheet'!W37))","v":2100},{"$f":"IF(B37=\"\",\"\",IF('Arrear Sheet'!C37=\"TOTAL\",\"\",'Arrear Sheet'!X37))","v":0},{"$f":"IF(B37=\"\",\"\",IF('Arrear Sheet'!C37=\"TOTAL\",\"\",'Arrear Sheet'!AB37))","v":""},{"$f":"IF(B37=\"\",\"\",IF('Arrear Sheet'!D37=\"TOTAL\",\"\",'Arrear Sheet'!AC37))","v":""},{"$f":"IF(B37=\"\",\"\",IF('Arrear Sheet'!E37=\"TOTAL\",\"\",'Arrear Sheet'!AD37))","v":""},{"$f":"IF(B37=\"\",\"\",IF('Arrear Sheet'!C37=\"TOTAL\",\"\",'Arrear Sheet'!Y37))","v":""},{"$f":"IF(B37=\"\",\"\",IF('Arrear Sheet'!C37=\"TOTAL\",\"\",'Arrear Sheet'!Z37))","v":""},{"$f":"IF(B37=\"\",\"\",IF('Arrear Sheet'!C37=\"TOTAL\",\"\",'Arrear Sheet'!AA37))","v":""},{"$f":"IF(B37=\"\",\"\",IF('Arrear Sheet'!C37=\"TOTAL\",\"\",'Arrear Sheet'!AE37))","v":168},{"$f":"IF(B37=\"\",\"\",IF('Arrear Sheet'!C37=\"TOTAL\",\"\",'Arrear Sheet'!AF37))","v":0},{"$f":"IF(B37=\"\",\"\",'Arrear Sheet'!AG37)","v":937},{"$f":"IFERROR(IF(B37=\"\",\"\",IF('Arrear Sheet'!C37=\"TOTAL\",\"\",SUM(Q37-AF37))),\"\")","v":8370}]
[{"$f":"IF('Arrear Sheet'!B38=\"\",\"\",'Arrear Sheet'!B38)","v":31},{"$f":"IF('Arrear Sheet'!C38=\"\",\"\",IF('Arrear Sheet'!C38=\"TOTAL\",\"\",'Arrear Sheet'!C38))","v":"2021-10-01"},{"$f":"IF('Arrear Sheet'!D38=\"\",\"\",IF('Arrear Sheet'!C38=\"TOTAL\",\"\",IF('Arrear Sheet'!D38=\"अक्षरें राशि :-\",\"\",'Arrear Sheet'!D38)))","v":110500},{"$f":"IF('Arrear Sheet'!E38=\"\",\"\",IF('Arrear Sheet'!C38=\"TOTAL\",\"\",'Arrear Sheet'!E38))","v":41106},{"$f":"IF(B38=\"\",\"\",IF('Arrear Sheet'!D38=\"TOTAL\",\"\",'Arrear Sheet'!F38))","v":9945},{"$f":"IF(B38=\"\",\"\",IF('Arrear Sheet'!E38=\"TOTAL\",\"\",'Arrear Sheet'!G38))","v":22100},{"$f":"IF(B38=\"\",\"\",IF('Arrear Sheet'!C38=\"TOTAL\",\"\",SUM(C38:F38)))","v":183651},{"$f":"IF(B38=\"\",\"\",IF('Arrear Sheet'!C38=\"TOTAL\",\"\",'Arrear Sheet'!I38))","v":104900},{"$f":"IF(B38=\"\",\"\",IF('Arrear Sheet'!C38=\"TOTAL\",\"\",'Arrear Sheet'!J38))","v":39023},{"$f":"IF(B38=\"\",\"\",IF('Arrear Sheet'!C38=\"TOTAL\",\"\",'Arrear Sheet'!K38))","v":9441},{"$f":"IF(B38=\"\",\"\",IF('Arrear Sheet'!D38=\"TOTAL\",\"\",'Arrear Sheet'!L38))","v":20980},{"$f":"IF(B38=\"\",\"\",IF('Arrear Sheet'!C38=\"TOTAL\",\"\",SUM(H38:K38)))","v":174344},{"$f":"IF(B38=\"\",\"\",IF('Arrear Sheet'!C38=\"TOTAL\",\"\",'Arrear Sheet'!N38))","v":5600},{"$f":"IF(B38=\"\",\"\",IF('Arrear Sheet'!C38=\"TOTAL\",\"\",'Arrear Sheet'!O38))","v":2083},{"$f":"IF(B38=\"\",\"\",IF('Arrear Sheet'!C38=\"TOTAL\",\"\",'Arrear Sheet'!P38))","v":504},{"$f":"IF(B38=\"\",\"\",IF('Arrear Sheet'!D38=\"TOTAL\",\"\",'Arrear Sheet'!Q38))","v":1120},{"$f":"IF(B38=\"\",\"\",IF('Arrear Sheet'!C38=\"TOTAL\",\"\",SUM(M38:P38)))","v":9307},{"$f":"IF(B38=\"\",\"\",IF('Arrear Sheet'!C38=\"TOTAL\",\"\",'Arrear Sheet'!S38))","v":15161},{"$f":"IF(B38=\"\",\"\",IF('Arrear Sheet'!C38=\"TOTAL\",\"\",'Arrear Sheet'!T38))","v":14392},{"$f":"IF(B38=\"\",\"\",IF('Arrear Sheet'!C38=\"TOTAL\",\"\",'Arrear Sheet'!U38))","v":769},{"$f":"IF(B38=\"\",\"\",IF('Arrear Sheet'!C38=\"TOTAL\",\"\",'Arrear Sheet'!V38))","v":2100},{"$f":"IF(B38=\"\",\"\",IF('Arrear Sheet'!C38=\"TOTAL\",\"\",'Arrear Sheet'!W38))","v":2100},{"$f":"IF(B38=\"\",\"\",IF('Arrear Sheet'!C38=\"TOTAL\",\"\",'Arrear Sheet'!X38))","v":0},{"$f":"IF(B38=\"\",\"\",IF('Arrear Sheet'!C38=\"TOTAL\",\"\",'Arrear Sheet'!AB38))","v":""},{"$f":"IF(B38=\"\",\"\",IF('Arrear Sheet'!D38=\"TOTAL\",\"\",'Arrear Sheet'!AC38))","v":""},{"$f":"IF(B38=\"\",\"\",IF('Arrear Sheet'!E38=\"TOTAL\",\"\",'Arrear Sheet'!AD38))","v":""},{"$f":"IF(B38=\"\",\"\",IF('Arrear Sheet'!C38=\"TOTAL\",\"\",'Arrear Sheet'!Y38))","v":""},{"$f":"IF(B38=\"\",\"\",IF('Arrear Sheet'!C38=\"TOTAL\",\"\",'Arrear Sheet'!Z38))","v":""},{"$f":"IF(B38=\"\",\"\",IF('Arrear Sheet'!C38=\"TOTAL\",\"\",'Arrear Sheet'!AA38))","v":""},{"$f":"IF(B38=\"\",\"\",IF('Arrear Sheet'!C38=\"TOTAL\",\"\",'Arrear Sheet'!AE38))","v":""},{"$f":"IF(B38=\"\",\"\",IF('Arrear Sheet'!C38=\"TOTAL\",\"\",'Arrear Sheet'!AF38))","v":0},{"$f":"IF(B38=\"\",\"\",'Arrear Sheet'!AG38)","v":769},{"$f":"IFERROR(IF(B38=\"\",\"\",IF('Arrear Sheet'!C38=\"TOTAL\",\"\",SUM(Q38-AF38))),\"\")","v":8538}]
[{"$f":"IF('Arrear Sheet'!B39=\"\",\"\",'Arrear Sheet'!B39)","v":32},{"$f":"IF('Arrear Sheet'!C39=\"\",\"\",IF('Arrear Sheet'!C39=\"TOTAL\",\"\",'Arrear Sheet'!C39))","v":"2021-11-01"},{"$f":"IF('Arrear Sheet'!D39=\"\",\"\",IF('Arrear Sheet'!C39=\"TOTAL\",\"\",IF('Arrear Sheet'!D39=\"अक्षरें राशि :-\",\"\",'Arrear Sheet'!D39)))","v":110500},{"$f":"IF('Arrear Sheet'!E39=\"\",\"\",IF('Arrear Sheet'!C39=\"TOTAL\",\"\",'Arrear Sheet'!E39))","v":41106},{"$f":"IF(B39=\"\",\"\",IF('Arrear Sheet'!D39=\"TOTAL\",\"\",'Arrear Sheet'!F39))","v":9945},{"$f":"IF(B39=\"\",\"\",IF('Arrear Sheet'!E39=\"TOTAL\",\"\",'Arrear Sheet'!G39))","v":22100},{"$f":"IF(B39=\"\",\"\",IF('Arrear Sheet'!C39=\"TOTAL\",\"\",SUM(C39:F39)))","v":183651},{"$f":"IF(B39=\"\",\"\",IF('Arrear Sheet'!C39=\"TOTAL\",\"\",'Arrear Sheet'!I39))","v":104900},{"$f":"IF(B39=\"\",\"\",IF('Arrear Sheet'!C39=\"TOTAL\",\"\",'Arrear Sheet'!J39))","v":39023},{"$f":"IF(B39=\"\",\"\",IF('Arrear Sheet'!C39=\"TOTAL\",\"\",'Arrear Sheet'!K39))","v":9441},{"$f":"IF(B39=\"\",\"\",IF('Arrear Sheet'!D39=\"TOTAL\",\"\",'Arrear Sheet'!L39))","v":20980},{"$f":"IF(B39=\"\",\"\",IF('Arrear Sheet'!C39=\"TOTAL\",\"\",SUM(H39:K39)))","v":174344},{"$f":"IF(B39=\"\",\"\",IF('Arrear Sheet'!C39=\"TOTAL\",\"\",'Arrear Sheet'!N39))","v":5600},{"$f":"IF(B39=\"\",\"\",IF('Arrear Sheet'!C39=\"TOTAL\",\"\",'Arrear Sheet'!O39))","v":2083},{"$f":"IF(B39=\"\",\"\",IF('Arrear Sheet'!C39=\"TOTAL\",\"\",'Arrear Sheet'!P39))","v":504},{"$f":"IF(B39=\"\",\"\",IF('Arrear Sheet'!D39=\"TOTAL\",\"\",'Arrear Sheet'!Q39))","v":1120},{"$f":"IF(B39=\"\",\"\",IF('Arrear Sheet'!C39=\"TOTAL\",\"\",SUM(M39:P39)))","v":9307},{"$f":"IF(B39=\"\",\"\",IF('Arrear Sheet'!C39=\"TOTAL\",\"\",'Arrear Sheet'!S39))","v":15161},{"$f":"IF(B39=\"\",\"\",IF('Arrear Sheet'!C39=\"TOTAL\",\"\",'Arrear Sheet'!T39))","v":14392},{"$f":"IF(B39=\"\",\"\",IF('Arrear Sheet'!C39=\"TOTAL\",\"\",'Arrear Sheet'!U39))","v":769},{"$f":"IF(B39=\"\",\"\",IF('Arrear Sheet'!C39=\"TOTAL\",\"\",'Arrear Sheet'!V39))","v":2100},{"$f":"IF(B39=\"\",\"\",IF('Arrear Sheet'!C39=\"TOTAL\",\"\",'Arrear Sheet'!W39))","v":2100},{"$f":"IF(B39=\"\",\"\",IF('Arrear Sheet'!C39=\"TOTAL\",\"\",'Arrear Sheet'!X39))","v":0},{"$f":"IF(B39=\"\",\"\",IF('Arrear Sheet'!C39=\"TOTAL\",\"\",'Arrear Sheet'!AB39))","v":""},{"$f":"IF(B39=\"\",\"\",IF('Arrear Sheet'!D39=\"TOTAL\",\"\",'Arrear Sheet'!AC39))","v":""},{"$f":"IF(B39=\"\",\"\",IF('Arrear Sheet'!E39=\"TOTAL\",\"\",'Arrear Sheet'!AD39))","v":""},{"$f":"IF(B39=\"\",\"\",IF('Arrear Sheet'!C39=\"TOTAL\",\"\",'Arrear Sheet'!Y39))","v":""},{"$f":"IF(B39=\"\",\"\",IF('Arrear Sheet'!C39=\"TOTAL\",\"\",'Arrear Sheet'!Z39))","v":""},{"$f":"IF(B39=\"\",\"\",IF('Arrear Sheet'!C39=\"TOTAL\",\"\",'Arrear Sheet'!AA39))","v":""},{"$f":"IF(B39=\"\",\"\",IF('Arrear Sheet'!C39=\"TOTAL\",\"\",'Arrear Sheet'!AE39))","v":""},{"$f":"IF(B39=\"\",\"\",IF('Arrear Sheet'!C39=\"TOTAL\",\"\",'Arrear Sheet'!AF39))","v":0},{"$f":"IF(B39=\"\",\"\",'Arrear Sheet'!AG39)","v":769},{"$f":"IFERROR(IF(B39=\"\",\"\",IF('Arrear Sheet'!C39=\"TOTAL\",\"\",SUM(Q39-AF39))),\"\")","v":8538}]
[{"$f":"IF('Arrear Sheet'!B40=\"\",\"\",'Arrear Sheet'!B40)","v":33},{"$f":"IF('Arrear Sheet'!C40=\"\",\"\",IF('Arrear Sheet'!C40=\"TOTAL\",\"\",'Arrear Sheet'!C40))","v":"2021-12-01"},{"$f":"IF('Arrear Sheet'!D40=\"\",\"\",IF('Arrear Sheet'!C40=\"TOTAL\",\"\",IF('Arrear Sheet'!D40=\"अक्षरें राशि :-\",\"\",'Arrear Sheet'!D40)))","v":110500},{"$f":"IF('Arrear Sheet'!E40=\"\",\"\",IF('Arrear Sheet'!C40=\"TOTAL\",\"\",'Arrear Sheet'!E40))","v":41106},{"$f":"IF(B40=\"\",\"\",IF('Arrear Sheet'!D40=\"TOTAL\",\"\",'Arrear Sheet'!F40))","v":9945},{"$f":"IF(B40=\"\",\"\",IF('Arrear Sheet'!E40=\"TOTAL\",\"\",'Arrear Sheet'!G40))","v":22100},{"$f":"IF(B40=\"\",\"\",IF('Arrear Sheet'!C40=\"TOTAL\",\"\",SUM(C40:F40)))","v":183651},{"$f":"IF(B40=\"\",\"\",IF('Arrear Sheet'!C40=\"TOTAL\",\"\",'Arrear Sheet'!I40))","v":104900},{"$f":"IF(B40=\"\",\"\",IF('Arrear Sheet'!C40=\"TOTAL\",\"\",'Arrear Sheet'!J40))","v":39023},{"$f":"IF(B40=\"\",\"\",IF('Arrear Sheet'!C40=\"TOTAL\",\"\",'Arrear Sheet'!K40))","v":9441},{"$f":"IF(B40=\"\",\"\",IF('Arrear Sheet'!D40=\"TOTAL\",\"\",'Arrear Sheet'!L40))","v":20980},{"$f":"IF(B40=\"\",\"\",IF('Arrear Sheet'!C40=\"TOTAL\",\"\",SUM(H40:K40)))","v":174344},{"$f":"IF(B40=\"\",\"\",IF('Arrear Sheet'!C40=\"TOTAL\",\"\",'Arrear Sheet'!N40))","v":5600},{"$f":"IF(B40=\"\",\"\",IF('Arrear Sheet'!C40=\"TOTAL\",\"\",'Arrear Sheet'!O40))","v":2083},{"$f":"IF(B40=\"\",\"\",IF('Arrear Sheet'!C40=\"TOTAL\",\"\",'Arrear Sheet'!P40))","v":504},{"$f":"IF(B40=\"\",\"\",IF('Arrear Sheet'!D40=\"TOTAL\",\"\",'Arrear Sheet'!Q40))","v":1120},{"$f":"IF(B40=\"\",\"\",IF('Arrear Sheet'!C40=\"TOTAL\",\"\",SUM(M40:P40)))","v":9307},{"$f":"IF(B40=\"\",\"\",IF('Arrear Sheet'!C40=\"TOTAL\",\"\",'Arrear Sheet'!S40))","v":15161},{"$f":"IF(B40=\"\",\"\",IF('Arrear Sheet'!C40=\"TOTAL\",\"\",'Arrear Sheet'!T40))","v":14392},{"$f":"IF(B40=\"\",\"\",IF('Arrear Sheet'!C40=\"TOTAL\",\"\",'Arrear Sheet'!U40))","v":769},{"$f":"IF(B40=\"\",\"\",IF('Arrear Sheet'!C40=\"TOTAL\",\"\",'Arrear Sheet'!V40))","v":2100},{"$f":"IF(B40=\"\",\"\",IF('Arrear Sheet'!C40=\"TOTAL\",\"\",'Arrear Sheet'!W40))","v":2100},{"$f":"IF(B40=\"\",\"\",IF('Arrear Sheet'!C40=\"TOTAL\",\"\",'Arrear Sheet'!X40))","v":0},{"$f":"IF(B40=\"\",\"\",IF('Arrear Sheet'!C40=\"TOTAL\",\"\",'Arrear Sheet'!AB40))","v":""},{"$f":"IF(B40=\"\",\"\",IF('Arrear Sheet'!D40=\"TOTAL\",\"\",'Arrear Sheet'!AC40))","v":""},{"$f":"IF(B40=\"\",\"\",IF('Arrear Sheet'!E40=\"TOTAL\",\"\",'Arrear Sheet'!AD40))","v":""},{"$f":"IF(B40=\"\",\"\",IF('Arrear Sheet'!C40=\"TOTAL\",\"\",'Arrear Sheet'!Y40))","v":""},{"$f":"IF(B40=\"\",\"\",IF('Arrear Sheet'!C40=\"TOTAL\",\"\",'Arrear Sheet'!Z40))","v":""},{"$f":"IF(B40=\"\",\"\",IF('Arrear Sheet'!C40=\"TOTAL\",\"\",'Arrear Sheet'!AA40))","v":""},{"$f":"IF(B40=\"\",\"\",IF('Arrear Sheet'!C40=\"TOTAL\",\"\",'Arrear Sheet'!AE40))","v":""},{"$f":"IF(B40=\"\",\"\",IF('Arrear Sheet'!C40=\"TOTAL\",\"\",'Arrear Sheet'!AF40))","v":0},{"$f":"IF(B40=\"\",\"\",'Arrear Sheet'!AG40)","v":769},{"$f":"IFERROR(IF(B40=\"\",\"\",IF('Arrear Sheet'!C40=\"TOTAL\",\"\",SUM(Q40-AF40))),\"\")","v":8538}]
[{"$f":"IF('Arrear Sheet'!B41=\"\",\"\",'Arrear Sheet'!B41)","v":34},{"$f":"IF('Arrear Sheet'!C41=\"\",\"\",IF('Arrear Sheet'!C41=\"TOTAL\",\"\",'Arrear Sheet'!C41))","v":"2022-01-01"},{"$f":"IF('Arrear Sheet'!D41=\"\",\"\",IF('Arrear Sheet'!C41=\"TOTAL\",\"\",IF('Arrear Sheet'!D41=\"अक्षरें राशि :-\",\"\",'Arrear Sheet'!D41)))","v":110500},{"$f":"IF('Arrear Sheet'!E41=\"\",\"\",IF('Arrear Sheet'!C41=\"TOTAL\",\"\",'Arrear Sheet'!E41))","v":45084},{"$f":"IF(B41=\"\",\"\",IF('Arrear Sheet'!D41=\"TOTAL\",\"\",'Arrear Sheet'!F41))","v":9945},{"$f":"IF(B41=\"\",\"\",IF('Arrear Sheet'!E41=\"TOTAL\",\"\",'Arrear Sheet'!G41))","v":22100},{"$f":"IF(B41=\"\",\"\",IF('Arrear Sheet'!C41=\"TOTAL\",\"\",SUM(C41:F41)))","v":187629},{"$f":"IF(B41=\"\",\"\",IF('Arrear Sheet'!C41=\"TOTAL\",\"\",'Arrear Sheet'!I41))","v":104900},{"$f":"IF(B41=\"\",\"\",IF('Arrear Sheet'!C41=\"TOTAL\",\"\",'Arrear Sheet'!J41))","v":42799},{"$f":"IF(B41=\"\",\"\",IF('Arrear Sheet'!C41=\"TOTAL\",\"\",'Arrear Sheet'!K41))","v":9441},{"$f":"IF(B41=\"\",\"\",IF('Arrear Sheet'!D41=\"TOTAL\",\"\",'Arrear Sheet'!L41))","v":20980},{"$f":"IF(B41=\"\",\"\",IF('Arrear Sheet'!C41=\"TOTAL\",\"\",SUM(H41:K41)))","v":178120},{"$f":"IF(B41=\"\",\"\",IF('Arrear Sheet'!C41=\"TOTAL\",\"\",'Arrear Sheet'!N41))","v":5600},{"$f":"IF(B41=\"\",\"\",IF('Arrear Sheet'!C41=\"TOTAL\",\"\",'Arrear Sheet'!O41))","v":2285},{"$f":"IF(B41=\"\",\"\",IF('Arrear Sheet'!C41=\"TOTAL\",\"\",'Arrear Sheet'!P41))","v":504},{"$f":"IF(B41=\"\",\"\",IF('Arrear Sheet'!D41=\"TOTAL\",\"\",'Arrear Sheet'!Q41))","v":1120},{"$f":"IF(B41=\"\",\"\",IF('Arrear Sheet'!C41=\"TOTAL\",\"\",SUM(M41:P41)))","v":9509},{"$f":"IF(B41=\"\",\"\",IF('Arrear Sheet'!C41=\"TOTAL\",\"\",'Arrear Sheet'!S41))","v":15558},{"$f":"IF(B41=\"\",\"\",IF('Arrear Sheet'!C41=\"TOTAL\",\"\",'Arrear Sheet'!T41))","v":14770},{"$f":"IF(B41=\"\",\"\",IF('Arrear Sheet'!C41=\"TOTAL\",\"\",'Arrear Sheet'!U41))","v":788},{"$f":"IF(B41=\"\",\"\",IF('Arrear Sheet'!C41=\"TOTAL\",\"\",'Arrear Sheet'!V41))","v":2100},{"$f":"IF(B41=\"\",\"\",IF('Arrear Sheet'!C41=\"TOTAL\",\"\",'Arrear Sheet'!W41))","v":2100},{"$f":"IF(B41=\"\",\"\",IF('Arrear Sheet'!C41=\"TOTAL\",\"\",'Arrear Sheet'!X41))","v":0},{"$f":"IF(B41=\"\",\"\",IF('Arrear Sheet'!C41=\"TOTAL\",\"\",'Arrear Sheet'!AB41))","v":""},{"$f":"IF(B41=\"\",\"\",IF('Arrear Sheet'!D41=\"TOTAL\",\"\",'Arrear Sheet'!AC41))","v":""},{"$f":"IF(B41=\"\",\"\",IF('Arrear Sheet'!E41=\"TOTAL\",\"\",'Arrear Sheet'!AD41))","v":""},{"$f":"IF(B41=\"\",\"\",IF('Arrear Sheet'!C41=\"TOTAL\",\"\",'Arrear Sheet'!Y41))","v":""},{"$f":"IF(B41=\"\",\"\",IF('Arrear Sheet'!C41=\"TOTAL\",\"\",'Arrear Sheet'!Z41))","v":""},{"$f":"IF(B41=\"\",\"\",IF('Arrear Sheet'!C41=\"TOTAL\",\"\",'Arrear Sheet'!AA41))","v":""},{"$f":"IF(B41=\"\",\"\",IF('Arrear Sheet'!C41=\"TOTAL\",\"\",'Arrear Sheet'!AE41))","v":""},{"$f":"IF(B41=\"\",\"\",IF('Arrear Sheet'!C41=\"TOTAL\",\"\",'Arrear Sheet'!AF41))","v":0},{"$f":"IF(B41=\"\",\"\",'Arrear Sheet'!AG41)","v":788},{"$f":"IFERROR(IF(B41=\"\",\"\",IF('Arrear Sheet'!C41=\"TOTAL\",\"\",SUM(Q41-AF41))),\"\")","v":8721}]
[{"$f":"IF('Arrear Sheet'!B42=\"\",\"\",'Arrear Sheet'!B42)","v":35},{"$f":"IF('Arrear Sheet'!C42=\"\",\"\",IF('Arrear Sheet'!C42=\"TOTAL\",\"\",'Arrear Sheet'!C42))","v":"2022-02-01"},{"$f":"IF('Arrear Sheet'!D42=\"\",\"\",IF('Arrear Sheet'!C42=\"TOTAL\",\"\",IF('Arrear Sheet'!D42=\"अक्षरें राशि :-\",\"\",'Arrear Sheet'!D42)))","v":110500},{"$f":"IF('Arrear Sheet'!E42=\"\",\"\",IF('Arrear Sheet'!C42=\"TOTAL\",\"\",'Arrear Sheet'!E42))","v":45084},{"$f":"IF(B42=\"\",\"\",IF('Arrear Sheet'!D42=\"TOTAL\",\"\",'Arrear Sheet'!F42))","v":9945},{"$f":"IF(B42=\"\",\"\",IF('Arrear Sheet'!E42=\"TOTAL\",\"\",'Arrear Sheet'!G42))","v":22100},{"$f":"IF(B42=\"\",\"\",IF('Arrear Sheet'!C42=\"TOTAL\",\"\",SUM(C42:F42)))","v":187629},{"$f":"IF(B42=\"\",\"\",IF('Arrear Sheet'!C42=\"TOTAL\",\"\",'Arrear Sheet'!I42))","v":104900},{"$f":"IF(B42=\"\",\"\",IF('Arrear Sheet'!C42=\"TOTAL\",\"\",'Arrear Sheet'!J42))","v":42799},{"$f":"IF(B42=\"\",\"\",IF('Arrear Sheet'!C42=\"TOTAL\",\"\",'Arrear Sheet'!K42))","v":9441},{"$f":"IF(B42=\"\",\"\",IF('Arrear Sheet'!D42=\"TOTAL\",\"\",'Arrear Sheet'!L42))","v":20980},{"$f":"IF(B42=\"\",\"\",IF('Arrear Sheet'!C42=\"TOTAL\",\"\",SUM(H42:K42)))","v":178120},{"$f":"IF(B42=\"\",\"\",IF('Arrear Sheet'!C42=\"TOTAL\",\"\",'Arrear Sheet'!N42))","v":5600},{"$f":"IF(B42=\"\",\"\",IF('Arrear Sheet'!C42=\"TOTAL\",\"\",'Arrear Sheet'!O42))","v":2285},{"$f":"IF(B42=\"\",\"\",IF('Arrear Sheet'!C42=\"TOTAL\",\"\",'Arrear Sheet'!P42))","v":504},{"$f":"IF(B42=\"\",\"\",IF('Arrear Sheet'!D42=\"TOTAL\",\"\",'Arrear Sheet'!Q42))","v":1120},{"$f":"IF(B42=\"\",\"\",IF('Arrear Sheet'!C42=\"TOTAL\",\"\",SUM(M42:P42)))","v":9509},{"$f":"IF(B42=\"\",\"\",IF('Arrear Sheet'!C42=\"TOTAL\",\"\",'Arrear Sheet'!S42))","v":15558},{"$f":"IF(B42=\"\",\"\",IF('Arrear Sheet'!C42=\"TOTAL\",\"\",'Arrear Sheet'!T42))","v":14770},{"$f":"IF(B42=\"\",\"\",IF('Arrear Sheet'!C42=\"TOTAL\",\"\",'Arrear Sheet'!U42))","v":788},{"$f":"IF(B42=\"\",\"\",IF('Arrear Sheet'!C42=\"TOTAL\",\"\",'Arrear Sheet'!V42))","v":2100},{"$f":"IF(B42=\"\",\"\",IF('Arrear Sheet'!C42=\"TOTAL\",\"\",'Arrear Sheet'!W42))","v":2100},{"$f":"IF(B42=\"\",\"\",IF('Arrear Sheet'!C42=\"TOTAL\",\"\",'Arrear Sheet'!X42))","v":0},{"$f":"IF(B42=\"\",\"\",IF('Arrear Sheet'!C42=\"TOTAL\",\"\",'Arrear Sheet'!AB42))","v":""},{"$f":"IF(B42=\"\",\"\",IF('Arrear Sheet'!D42=\"TOTAL\",\"\",'Arrear Sheet'!AC42))","v":""},{"$f":"IF(B42=\"\",\"\",IF('Arrear Sheet'!E42=\"TOTAL\",\"\",'Arrear Sheet'!AD42))","v":""},{"$f":"IF(B42=\"\",\"\",IF('Arrear Sheet'!C42=\"TOTAL\",\"\",'Arrear Sheet'!Y42))","v":""},{"$f":"IF(B42=\"\",\"\",IF('Arrear Sheet'!C42=\"TOTAL\",\"\",'Arrear Sheet'!Z42))","v":""},{"$f":"IF(B42=\"\",\"\",IF('Arrear Sheet'!C42=\"TOTAL\",\"\",'Arrear Sheet'!AA42))","v":""},{"$f":"IF(B42=\"\",\"\",IF('Arrear Sheet'!C42=\"TOTAL\",\"\",'Arrear Sheet'!AE42))","v":""},{"$f":"IF(B42=\"\",\"\",IF('Arrear Sheet'!C42=\"TOTAL\",\"\",'Arrear Sheet'!AF42))","v":0},{"$f":"IF(B42=\"\",\"\",'Arrear Sheet'!AG42)","v":788},{"$f":"IFERROR(IF(B42=\"\",\"\",IF('Arrear Sheet'!C42=\"TOTAL\",\"\",SUM(Q42-AF42))),\"\")","v":8721}]
[{"$f":"IF('Arrear Sheet'!B43=\"\",\"\",'Arrear Sheet'!B43)","v":36},{"$f":"IF('Arrear Sheet'!C43=\"\",\"\",IF('Arrear Sheet'!C43=\"TOTAL\",\"\",'Arrear Sheet'!C43))","v":"2022-03-01"},{"$f":"IF('Arrear Sheet'!D43=\"\",\"\",IF('Arrear Sheet'!C43=\"TOTAL\",\"\",IF('Arrear Sheet'!D43=\"अक्षरें राशि :-\",\"\",'Arrear Sheet'!D43)))","v":110500},{"$f":"IF('Arrear Sheet'!E43=\"\",\"\",IF('Arrear Sheet'!C43=\"TOTAL\",\"\",'Arrear Sheet'!E43))","v":45084},{"$f":"IF(B43=\"\",\"\",IF('Arrear Sheet'!D43=\"TOTAL\",\"\",'Arrear Sheet'!F43))","v":9945},{"$f":"IF(B43=\"\",\"\",IF('Arrear Sheet'!E43=\"TOTAL\",\"\",'Arrear Sheet'!G43))","v":22100},{"$f":"IF(B43=\"\",\"\",IF('Arrear Sheet'!C43=\"TOTAL\",\"\",SUM(C43:F43)))","v":187629},{"$f":"IF(B43=\"\",\"\",IF('Arrear Sheet'!C43=\"TOTAL\",\"\",'Arrear Sheet'!I43))","v":104900},{"$f":"IF(B43=\"\",\"\",IF('Arrear Sheet'!C43=\"TOTAL\",\"\",'Arrear Sheet'!J43))","v":42799},{"$f":"IF(B43=\"\",\"\",IF('Arrear Sheet'!C43=\"TOTAL\",\"\",'Arrear Sheet'!K43))","v":9441},{"$f":"IF(B43=\"\",\"\",IF('Arrear Sheet'!D43=\"TOTAL\",\"\",'Arrear Sheet'!L43))","v":20980},{"$f":"IF(B43=\"\",\"\",IF('Arrear Sheet'!C43=\"TOTAL\",\"\",SUM(H43:K43)))","v":178120},{"$f":"IF(B43=\"\",\"\",IF('Arrear Sheet'!C43=\"TOTAL\",\"\",'Arrear Sheet'!N43))","v":5600},{"$f":"IF(B43=\"\",\"\",IF('Arrear Sheet'!C43=\"TOTAL\",\"\",'Arrear Sheet'!O43))","v":2285},{"$f":"IF(B43=\"\",\"\",IF('Arrear Sheet'!C43=\"TOTAL\",\"\",'Arrear Sheet'!P43))","v":504},{"$f":"IF(B43=\"\",\"\",IF('Arrear Sheet'!D43=\"TOTAL\",\"\",'Arrear Sheet'!Q43))","v":1120},{"$f":"IF(B43=\"\",\"\",IF('Arrear Sheet'!C43=\"TOTAL\",\"\",SUM(M43:P43)))","v":9509},{"$f":"IF(B43=\"\",\"\",IF('Arrear Sheet'!C43=\"TOTAL\",\"\",'Arrear Sheet'!S43))","v":15558},{"$f":"IF(B43=\"\",\"\",IF('Arrear Sheet'!C43=\"TOTAL\",\"\",'Arrear Sheet'!T43))","v":14770},{"$f":"IF(B43=\"\",\"\",IF('Arrear Sheet'!C43=\"TOTAL\",\"\",'Arrear Sheet'!U43))","v":788},{"$f":"IF(B43=\"\",\"\",IF('Arrear Sheet'!C43=\"TOTAL\",\"\",'Arrear Sheet'!V43))","v":2100},{"$f":"IF(B43=\"\",\"\",IF('Arrear Sheet'!C43=\"TOTAL\",\"\",'Arrear Sheet'!W43))","v":2100},{"$f":"IF(B43=\"\",\"\",IF('Arrear Sheet'!C43=\"TOTAL\",\"\",'Arrear Sheet'!X43))","v":0},{"$f":"IF(B43=\"\",\"\",IF('Arrear Sheet'!C43=\"TOTAL\",\"\",'Arrear Sheet'!AB43))","v":""},{"$f":"IF(B43=\"\",\"\",IF('Arrear Sheet'!D43=\"TOTAL\",\"\",'Arrear Sheet'!AC43))","v":""},{"$f":"IF(B43=\"\",\"\",IF('Arrear Sheet'!E43=\"TOTAL\",\"\",'Arrear Sheet'!AD43))","v":""},{"$f":"IF(B43=\"\",\"\",IF('Arrear Sheet'!C43=\"TOTAL\",\"\",'Arrear Sheet'!Y43))","v":440},{"$f":"IF(B43=\"\",\"\",IF('Arrear Sheet'!C43=\"TOTAL\",\"\",'Arrear Sheet'!Z43))","v":440},{"$f":"IF(B43=\"\",\"\",IF('Arrear Sheet'!C43=\"TOTAL\",\"\",'Arrear Sheet'!AA43))","v":0},{"$f":"IF(B43=\"\",\"\",IF('Arrear Sheet'!C43=\"TOTAL\",\"\",'Arrear Sheet'!AE43))","v":""},{"$f":"IF(B43=\"\",\"\",IF('Arrear Sheet'!C43=\"TOTAL\",\"\",'Arrear Sheet'!AF43))","v":0},{"$f":"IF(B43=\"\",\"\",'Arrear Sheet'!AG43)","v":788},{"$f":"IFERROR(IF(B43=\"\",\"\",IF('Arrear Sheet'!C43=\"TOTAL\",\"\",SUM(Q43-AF43))),\"\")","v":8721}]
[{"$f":"IF('Arrear Sheet'!B44=\"\",\"\",'Arrear Sheet'!B44)","v":37},{"$f":"IF('Arrear Sheet'!C44=\"\",\"\",IF('Arrear Sheet'!C44=\"TOTAL\",\"\",'Arrear Sheet'!C44))","v":"2022-04-01"},{"$f":"IF('Arrear Sheet'!D44=\"\",\"\",IF('Arrear Sheet'!C44=\"TOTAL\",\"\",IF('Arrear Sheet'!D44=\"अक्षरें राशि :-\",\"\",'Arrear Sheet'!D44)))","v":110500},{"$f":"IF('Arrear Sheet'!E44=\"\",\"\",IF('Arrear Sheet'!C44=\"TOTAL\",\"\",'Arrear Sheet'!E44))","v":45084},{"$f":"IF(B44=\"\",\"\",IF('Arrear Sheet'!D44=\"TOTAL\",\"\",'Arrear Sheet'!F44))","v":9945},{"$f":"IF(B44=\"\",\"\",IF('Arrear Sheet'!E44=\"TOTAL\",\"\",'Arrear Sheet'!G44))","v":22100},{"$f":"IF(B44=\"\",\"\",IF('Arrear Sheet'!C44=\"TOTAL\",\"\",SUM(C44:F44)))","v":187629},{"$f":"IF(B44=\"\",\"\",IF('Arrear Sheet'!C44=\"TOTAL\",\"\",'Arrear Sheet'!I44))","v":104900},{"$f":"IF(B44=\"\",\"\",IF('Arrear Sheet'!C44=\"TOTAL\",\"\",'Arrear Sheet'!J44))","v":42799},{"$f":"IF(B44=\"\",\"\",IF('Arrear Sheet'!C44=\"TOTAL\",\"\",'Arrear Sheet'!K44))","v":9441},{"$f":"IF(B44=\"\",\"\",IF('Arrear Sheet'!D44=\"TOTAL\",\"\",'Arrear Sheet'!L44))","v":20980},{"$f":"IF(B44=\"\",\"\",IF('Arrear Sheet'!C44=\"TOTAL\",\"\",SUM(H44:K44)))","v":178120},{"$f":"IF(B44=\"\",\"\",IF('Arrear Sheet'!C44=\"TOTAL\",\"\",'Arrear Sheet'!N44))","v":5600},{"$f":"IF(B44=\"\",\"\",IF('Arrear Sheet'!C44=\"TOTAL\",\"\",'Arrear Sheet'!O44))","v":2285},{"$f":"IF(B44=\"\",\"\",IF('Arrear Sheet'!C44=\"TOTAL\",\"\",'Arrear Sheet'!P44))","v":504},{"$f":"IF(B44=\"\",\"\",IF('Arrear Sheet'!D44=\"TOTAL\",\"\",'Arrear Sheet'!Q44))","v":1120},{"$f":"IF(B44=\"\",\"\",IF('Arrear Sheet'!C44=\"TOTAL\",\"\",SUM(M44:P44)))","v":9509},{"$f":"IF(B44=\"\",\"\",IF('Arrear Sheet'!C44=\"TOTAL\",\"\",'Arrear Sheet'!S44))","v":2100},{"$f":"IF(B44=\"\",\"\",IF('Arrear Sheet'!C44=\"TOTAL\",\"\",'Arrear Sheet'!T44))","v":2100},{"$f":"IF(B44=\"\",\"\",IF('Arrear Sheet'!C44=\"TOTAL\",\"\",'Arrear Sheet'!U44))","v":0},{"$f":"IF(B44=\"\",\"\",IF('Arrear Sheet'!C44=\"TOTAL\",\"\",'Arrear Sheet'!V44))","v":2100},{"$f":"IF(B44=\"\",\"\",IF('Arrear Sheet'!C44=\"TOTAL\",\"\",'Arrear Sheet'!W44))","v":2100},{"$f":"IF(B44=\"\",\"\",IF('Arrear Sheet'!C44=\"TOTAL\",\"\",'Arrear Sheet'!X44))","v":0},{"$f":"IF(B44=\"\",\"\",IF('Arrear Sheet'!C44=\"TOTAL\",\"\",'Arrear Sheet'!AB44))","v":""},{"$f":"IF(B44=\"\",\"\",IF('Arrear Sheet'!D44=\"TOTAL\",\"\",'Arrear Sheet'!AC44))","v":""},{"$f":"IF(B44=\"\",\"\",IF('Arrear Sheet'!E44=\"TOTAL\",\"\",'Arrear Sheet'!AD44))","v":""},{"$f":"IF(B44=\"\",\"\",IF('Arrear Sheet'!C44=\"TOTAL\",\"\",'Arrear Sheet'!Y44))","v":875},{"$f":"IF(B44=\"\",\"\",IF('Arrear Sheet'!C44=\"TOTAL\",\"\",'Arrear Sheet'!Z44))","v":875},{"$f":"IF(B44=\"\",\"\",IF('Arrear Sheet'!C44=\"TOTAL\",\"\",'Arrear Sheet'!AA44))","v":0},{"$f":"IF(B44=\"\",\"\",IF('Arrear Sheet'!C44=\"TOTAL\",\"\",'Arrear Sheet'!AE44))","v":""},{"$f":"IF(B44=\"\",\"\",IF('Arrear Sheet'!C44=\"TOTAL\",\"\",'Arrear Sheet'!AF44))","v":0},{"$f":"IF(B44=\"\",\"\",'Arrear Sheet'!AG44)","v":0},{"$f":"IFERROR(IF(B44=\"\",\"\",IF('Arrear Sheet'!C44=\"TOTAL\",\"\",SUM(Q44-AF44))),\"\")","v":9509}]
[{"$f":"IF('Arrear Sheet'!B45=\"\",\"\",'Arrear Sheet'!B45)","v":38},{"$f":"IF('Arrear Sheet'!C45=\"\",\"\",IF('Arrear Sheet'!C45=\"TOTAL\",\"\",'Arrear Sheet'!C45))","v":"2022-05-01"},{"$f":"IF('Arrear Sheet'!D45=\"\",\"\",IF('Arrear Sheet'!C45=\"TOTAL\",\"\",IF('Arrear Sheet'!D45=\"अक्षरें राशि :-\",\"\",'Arrear Sheet'!D45)))","v":110500},{"$f":"IF('Arrear Sheet'!E45=\"\",\"\",IF('Arrear Sheet'!C45=\"TOTAL\",\"\",'Arrear Sheet'!E45))","v":45084},{"$f":"IF(B45=\"\",\"\",IF('Arrear Sheet'!D45=\"TOTAL\",\"\",'Arrear Sheet'!F45))","v":9945},{"$f":"IF(B45=\"\",\"\",IF('Arrear Sheet'!E45=\"TOTAL\",\"\",'Arrear Sheet'!G45))","v":22100},{"$f":"IF(B45=\"\",\"\",IF('Arrear Sheet'!C45=\"TOTAL\",\"\",SUM(C45:F45)))","v":187629},{"$f":"IF(B45=\"\",\"\",IF('Arrear Sheet'!C45=\"TOTAL\",\"\",'Arrear Sheet'!I45))","v":104900},{"$f":"IF(B45=\"\",\"\",IF('Arrear Sheet'!C45=\"TOTAL\",\"\",'Arrear Sheet'!J45))","v":42799},{"$f":"IF(B45=\"\",\"\",IF('Arrear Sheet'!C45=\"TOTAL\",\"\",'Arrear Sheet'!K45))","v":9441},{"$f":"IF(B45=\"\",\"\",IF('Arrear Sheet'!D45=\"TOTAL\",\"\",'Arrear Sheet'!L45))","v":20980},{"$f":"IF(B45=\"\",\"\",IF('Arrear Sheet'!C45=\"TOTAL\",\"\",SUM(H45:K45)))","v":178120},{"$f":"IF(B45=\"\",\"\",IF('Arrear Sheet'!C45=\"TOTAL\",\"\",'Arrear Sheet'!N45))","v":5600},{"$f":"IF(B45=\"\",\"\",IF('Arrear Sheet'!C45=\"TOTAL\",\"\",'Arrear Sheet'!O45))","v":2285},{"$f":"IF(B45=\"\",\"\",IF('Arrear Sheet'!C45=\"TOTAL\",\"\",'Arrear Sheet'!P45))","v":504},{"$f":"IF(B45=\"\",\"\",IF('Arrear Sheet'!D45=\"TOTAL\",\"\",'Arrear Sheet'!Q45))","v":1120},{"$f":"IF(B45=\"\",\"\",IF('Arrear Sheet'!C45=\"TOTAL\",\"\",SUM(M45:P45)))","v":9509},{"$f":"IF(B45=\"\",\"\",IF('Arrear Sheet'!C45=\"TOTAL\",\"\",'Arrear Sheet'!S45))","v":2100},{"$f":"IF(B45=\"\",\"\",IF('Arrear Sheet'!C45=\"TOTAL\",\"\",'Arrear Sheet'!T45))","v":2100},{"$f":"IF(B45=\"\",\"\",IF('Arrear Sheet'!C45=\"TOTAL\",\"\",'Arrear Sheet'!U45))","v":0},{"$f":"IF(B45=\"\",\"\",IF('Arrear Sheet'!C45=\"TOTAL\",\"\",'Arrear Sheet'!V45))","v":2100},{"$f":"IF(B45=\"\",\"\",IF('Arrear Sheet'!C45=\"TOTAL\",\"\",'Arrear Sheet'!W45))","v":2100},{"$f":"IF(B45=\"\",\"\",IF('Arrear Sheet'!C45=\"TOTAL\",\"\",'Arrear Sheet'!X45))","v":0},{"$f":"IF(B45=\"\",\"\",IF('Arrear Sheet'!C45=\"TOTAL\",\"\",'Arrear Sheet'!AB45))","v":""},{"$f":"IF(B45=\"\",\"\",IF('Arrear Sheet'!D45=\"TOTAL\",\"\",'Arrear Sheet'!AC45))","v":""},{"$f":"IF(B45=\"\",\"\",IF('Arrear Sheet'!E45=\"TOTAL\",\"\",'Arrear Sheet'!AD45))","v":""},{"$f":"IF(B45=\"\",\"\",IF('Arrear Sheet'!C45=\"TOTAL\",\"\",'Arrear Sheet'!Y45))","v":875},{"$f":"IF(B45=\"\",\"\",IF('Arrear Sheet'!C45=\"TOTAL\",\"\",'Arrear Sheet'!Z45))","v":875},{"$f":"IF(B45=\"\",\"\",IF('Arrear Sheet'!C45=\"TOTAL\",\"\",'Arrear Sheet'!AA45))","v":0},{"$f":"IF(B45=\"\",\"\",IF('Arrear Sheet'!C45=\"TOTAL\",\"\",'Arrear Sheet'!AE45))","v":""},{"$f":"IF(B45=\"\",\"\",IF('Arrear Sheet'!C45=\"TOTAL\",\"\",'Arrear Sheet'!AF45))","v":0},{"$f":"IF(B45=\"\",\"\",'Arrear Sheet'!AG45)","v":0},{"$f":"IFERROR(IF(B45=\"\",\"\",IF('Arrear Sheet'!C45=\"TOTAL\",\"\",SUM(Q45-AF45))),\"\")","v":9509}]
[{"$f":"IF('Arrear Sheet'!B46=\"\",\"\",'Arrear Sheet'!B46)","v":39},{"$f":"IF('Arrear Sheet'!C46=\"\",\"\",IF('Arrear Sheet'!C46=\"TOTAL\",\"\",'Arrear Sheet'!C46))","v":"2022-06-01"},{"$f":"IF('Arrear Sheet'!D46=\"\",\"\",IF('Arrear Sheet'!C46=\"TOTAL\",\"\",IF('Arrear Sheet'!D46=\"अक्षरें राशि :-\",\"\",'Arrear Sheet'!D46)))","v":110500},{"$f":"IF('Arrear Sheet'!E46=\"\",\"\",IF('Arrear Sheet'!C46=\"TOTAL\",\"\",'Arrear Sheet'!E46))","v":45084},{"$f":"IF(B46=\"\",\"\",IF('Arrear Sheet'!D46=\"TOTAL\",\"\",'Arrear Sheet'!F46))","v":9945},{"$f":"IF(B46=\"\",\"\",IF('Arrear Sheet'!E46=\"TOTAL\",\"\",'Arrear Sheet'!G46))","v":22100},{"$f":"IF(B46=\"\",\"\",IF('Arrear Sheet'!C46=\"TOTAL\",\"\",SUM(C46:F46)))","v":187629},{"$f":"IF(B46=\"\",\"\",IF('Arrear Sheet'!C46=\"TOTAL\",\"\",'Arrear Sheet'!I46))","v":104900},{"$f":"IF(B46=\"\",\"\",IF('Arrear Sheet'!C46=\"TOTAL\",\"\",'Arrear Sheet'!J46))","v":42799},{"$f":"IF(B46=\"\",\"\",IF('Arrear Sheet'!C46=\"TOTAL\",\"\",'Arrear Sheet'!K46))","v":9441},{"$f":"IF(B46=\"\",\"\",IF('Arrear Sheet'!D46=\"TOTAL\",\"\",'Arrear Sheet'!L46))","v":20980},{"$f":"IF(B46=\"\",\"\",IF('Arrear Sheet'!C46=\"TOTAL\",\"\",SUM(H46:K46)))","v":178120},{"$f":"IF(B46=\"\",\"\",IF('Arrear Sheet'!C46=\"TOTAL\",\"\",'Arrear Sheet'!N46))","v":5600},{"$f":"IF(B46=\"\",\"\",IF('Arrear Sheet'!C46=\"TOTAL\",\"\",'Arrear Sheet'!O46))","v":2285},{"$f":"IF(B46=\"\",\"\",IF('Arrear Sheet'!C46=\"TOTAL\",\"\",'Arrear Sheet'!P46))","v":504},{"$f":"IF(B46=\"\",\"\",IF('Arrear Sheet'!D46=\"TOTAL\",\"\",'Arrear Sheet'!Q46))","v":1120},{"$f":"IF(B46=\"\",\"\",IF('Arrear Sheet'!C46=\"TOTAL\",\"\",SUM(M46:P46)))","v":9509},{"$f":"IF(B46=\"\",\"\",IF('Arrear Sheet'!C46=\"TOTAL\",\"\",'Arrear Sheet'!S46))","v":2100},{"$f":"IF(B46=\"\",\"\",IF('Arrear Sheet'!C46=\"TOTAL\",\"\",'Arrear Sheet'!T46))","v":2100},{"$f":"IF(B46=\"\",\"\",IF('Arrear Sheet'!C46=\"TOTAL\",\"\",'Arrear Sheet'!U46))","v":0},{"$f":"IF(B46=\"\",\"\",IF('Arrear Sheet'!C46=\"TOTAL\",\"\",'Arrear Sheet'!V46))","v":2100},{"$f":"IF(B46=\"\",\"\",IF('Arrear Sheet'!C46=\"TOTAL\",\"\",'Arrear Sheet'!W46))","v":2100},{"$f":"IF(B46=\"\",\"\",IF('Arrear Sheet'!C46=\"TOTAL\",\"\",'Arrear Sheet'!X46))","v":0},{"$f":"IF(B46=\"\",\"\",IF('Arrear Sheet'!C46=\"TOTAL\",\"\",'Arrear Sheet'!AB46))","v":""},{"$f":"IF(B46=\"\",\"\",IF('Arrear Sheet'!D46=\"TOTAL\",\"\",'Arrear Sheet'!AC46))","v":""},{"$f":"IF(B46=\"\",\"\",IF('Arrear Sheet'!E46=\"TOTAL\",\"\",'Arrear Sheet'!AD46))","v":""},{"$f":"IF(B46=\"\",\"\",IF('Arrear Sheet'!C46=\"TOTAL\",\"\",'Arrear Sheet'!Y46))","v":875},{"$f":"IF(B46=\"\",\"\",IF('Arrear Sheet'!C46=\"TOTAL\",\"\",'Arrear Sheet'!Z46))","v":875},{"$f":"IF(B46=\"\",\"\",IF('Arrear Sheet'!C46=\"TOTAL\",\"\",'Arrear Sheet'!AA46))","v":0},{"$f":"IF(B46=\"\",\"\",IF('Arrear Sheet'!C46=\"TOTAL\",\"\",'Arrear Sheet'!AE46))","v":""},{"$f":"IF(B46=\"\",\"\",IF('Arrear Sheet'!C46=\"TOTAL\",\"\",'Arrear Sheet'!AF46))","v":0},{"$f":"IF(B46=\"\",\"\",'Arrear Sheet'!AG46)","v":0},{"$f":"IFERROR(IF(B46=\"\",\"\",IF('Arrear Sheet'!C46=\"TOTAL\",\"\",SUM(Q46-AF46))),\"\")","v":9509}]
[{"$f":"IF('Arrear Sheet'!B47=\"\",\"\",'Arrear Sheet'!B47)","v":40},{"$f":"IF('Arrear Sheet'!C47=\"\",\"\",IF('Arrear Sheet'!C47=\"TOTAL\",\"\",'Arrear Sheet'!C47))","v":"2022-07-01"},{"$f":"IF('Arrear Sheet'!D47=\"\",\"\",IF('Arrear Sheet'!C47=\"TOTAL\",\"\",IF('Arrear Sheet'!D47=\"अक्षरें राशि :-\",\"\",'Arrear Sheet'!D47)))","v":113800},{"$f":"IF('Arrear Sheet'!E47=\"\",\"\",IF('Arrear Sheet'!C47=\"TOTAL\",\"\",'Arrear Sheet'!E47))","v":51893},{"$f":"IF(B47=\"\",\"\",IF('Arrear Sheet'!D47=\"TOTAL\",\"\",'Arrear Sheet'!F47))","v":10242},{"$f":"IF(B47=\"\",\"\",IF('Arrear Sheet'!E47=\"TOTAL\",\"\",'Arrear Sheet'!G47))","v":22760},{"$f":"IF(B47=\"\",\"\",IF('Arrear Sheet'!C47=\"TOTAL\",\"\",SUM(C47:F47)))","v":198695},{"$f":"IF(B47=\"\",\"\",IF('Arrear Sheet'!C47=\"TOTAL\",\"\",'Arrear Sheet'!I47))","v":108000},{"$f":"IF(B47=\"\",\"\",IF('Arrear Sheet'!C47=\"TOTAL\",\"\",'Arrear Sheet'!J47))","v":49248},{"$f":"IF(B47=\"\",\"\",IF('Arrear Sheet'!C47=\"TOTAL\",\"\",'Arrear Sheet'!K47))","v":9720},{"$f":"IF(B47=\"\",\"\",IF('Arrear Sheet'!D47=\"TOTAL\",\"\",'Arrear Sheet'!L47))","v":21600},{"$f":"IF(B47=\"\",\"\",IF('Arrear Sheet'!C47=\"TOTAL\",\"\",SUM(H47:K47)))","v":188568},{"$f":"IF(B47=\"\",\"\",IF('Arrear Sheet'!C47=\"TOTAL\",\"\",'Arrear Sheet'!N47))","v":5800},{"$f":"IF(B47=\"\",\"\",IF('Arrear Sheet'!C47=\"TOTAL\",\"\",'Arrear Sheet'!O47))","v":2645},{"$f":"IF(B47=\"\",\"\",IF('Arrear Sheet'!C47=\"TOTAL\",\"\",'Arrear Sheet'!P47))","v":522},{"$f":"IF(B47=\"\",\"\",IF('Arrear Sheet'!D47=\"TOTAL\",\"\",'Arrear Sheet'!Q47))","v":1160},{"$f":"IF(B47=\"\",\"\",IF('Arrear Sheet'!C47=\"TOTAL\",\"\",SUM(M47:P47)))","v":10127},{"$f":"IF(B47=\"\",\"\",IF('Arrear Sheet'!C47=\"TOTAL\",\"\",'Arrear Sheet'!S47))","v":2100},{"$f":"IF(B47=\"\",\"\",IF('Arrear Sheet'!C47=\"TOTAL\",\"\",'Arrear Sheet'!T47))","v":2100},{"$f":"IF(B47=\"\",\"\",IF('Arrear Sheet'!C47=\"TOTAL\",\"\",'Arrear Sheet'!U47))","v":0},{"$f":"IF(B47=\"\",\"\",IF('Arrear Sheet'!C47=\"TOTAL\",\"\",'Arrear Sheet'!V47))","v":2100},{"$f":"IF(B47=\"\",\"\",IF('Arrear Sheet'!C47=\"TOTAL\",\"\",'Arrear Sheet'!W47))","v":2100},{"$f":"IF(B47=\"\",\"\",IF('Arrear Sheet'!C47=\"TOTAL\",\"\",'Arrear Sheet'!X47))","v":0},{"$f":"IF(B47=\"\",\"\",IF('Arrear Sheet'!C47=\"TOTAL\",\"\",'Arrear Sheet'!AB47))","v":""},{"$f":"IF(B47=\"\",\"\",IF('Arrear Sheet'!D47=\"TOTAL\",\"\",'Arrear Sheet'!AC47))","v":""},{"$f":"IF(B47=\"\",\"\",IF('Arrear Sheet'!E47=\"TOTAL\",\"\",'Arrear Sheet'!AD47))","v":""},{"$f":"IF(B47=\"\",\"\",IF('Arrear Sheet'!C47=\"TOTAL\",\"\",'Arrear Sheet'!Y47))","v":875},{"$f":"IF(B47=\"\",\"\",IF('Arrear Sheet'!C47=\"TOTAL\",\"\",'Arrear Sheet'!Z47))","v":875},{"$f":"IF(B47=\"\",\"\",IF('Arrear Sheet'!C47=\"TOTAL\",\"\",'Arrear Sheet'!AA47))","v":0},{"$f":"IF(B47=\"\",\"\",IF('Arrear Sheet'!C47=\"TOTAL\",\"\",'Arrear Sheet'!AE47))","v":""},{"$f":"IF(B47=\"\",\"\",IF('Arrear Sheet'!C47=\"TOTAL\",\"\",'Arrear Sheet'!AF47))","v":0},{"$f":"IF(B47=\"\",\"\",'Arrear Sheet'!AG47)","v":0},{"$f":"IFERROR(IF(B47=\"\",\"\",IF('Arrear Sheet'!C47=\"TOTAL\",\"\",SUM(Q47-AF47))),\"\")","v":10127}]
[{"$f":"IF('Arrear Sheet'!B48=\"\",\"\",'Arrear Sheet'!B48)","v":41},{"$f":"IF('Arrear Sheet'!C48=\"\",\"\",IF('Arrear Sheet'!C48=\"TOTAL\",\"\",'Arrear Sheet'!C48))","v":"2022-08-01"},{"$f":"IF('Arrear Sheet'!D48=\"\",\"\",IF('Arrear Sheet'!C48=\"TOTAL\",\"\",IF('Arrear Sheet'!D48=\"अक्षरें राशि :-\",\"\",'Arrear Sheet'!D48)))","v":113800},{"$f":"IF('Arrear Sheet'!E48=\"\",\"\",IF('Arrear Sheet'!C48=\"TOTAL\",\"\",'Arrear Sheet'!E48))","v":51893},{"$f":"IF(B48=\"\",\"\",IF('Arrear Sheet'!D48=\"TOTAL\",\"\",'Arrear Sheet'!F48))","v":10242},{"$f":"IF(B48=\"\",\"\",IF('Arrear Sheet'!E48=\"TOTAL\",\"\",'Arrear Sheet'!G48))","v":22760},{"$f":"IF(B48=\"\",\"\",IF('Arrear Sheet'!C48=\"TOTAL\",\"\",SUM(C48:F48)))","v":198695},{"$f":"IF(B48=\"\",\"\",IF('Arrear Sheet'!C48=\"TOTAL\",\"\",'Arrear Sheet'!I48))","v":108000},{"$f":"IF(B48=\"\",\"\",IF('Arrear Sheet'!C48=\"TOTAL\",\"\",'Arrear Sheet'!J48))","v":49248},{"$f":"IF(B48=\"\",\"\",IF('Arrear Sheet'!C48=\"TOTAL\",\"\",'Arrear Sheet'!K48))","v":9720},{"$f":"IF(B48=\"\",\"\",IF('Arrear Sheet'!D48=\"TOTAL\",\"\",'Arrear Sheet'!L48))","v":21600},{"$f":"IF(B48=\"\",\"\",IF('Arrear Sheet'!C48=\"TOTAL\",\"\",SUM(H48:K48)))","v":188568},{"$f":"IF(B48=\"\",\"\",IF('Arrear Sheet'!C48=\"TOTAL\",\"\",'Arrear Sheet'!N48))","v":5800},{"$f":"IF(B48=\"\",\"\",IF('Arrear Sheet'!C48=\"TOTAL\",\"\",'Arrear Sheet'!O48))","v":2645},{"$f":"IF(B48=\"\",\"\",IF('Arrear Sheet'!C48=\"TOTAL\",\"\",'Arrear Sheet'!P48))","v":522},{"$f":"IF(B48=\"\",\"\",IF('Arrear Sheet'!D48=\"TOTAL\",\"\",'Arrear Sheet'!Q48))","v":1160},{"$f":"IF(B48=\"\",\"\",IF('Arrear Sheet'!C48=\"TOTAL\",\"\",SUM(M48:P48)))","v":10127},{"$f":"IF(B48=\"\",\"\",IF('Arrear Sheet'!C48=\"TOTAL\",\"\",'Arrear Sheet'!S48))","v":2100},{"$f":"IF(B48=\"\",\"\",IF('Arrear Sheet'!C48=\"TOTAL\",\"\",'Arrear Sheet'!T48))","v":2100},{"$f":"IF(B48=\"\",\"\",IF('Arrear Sheet'!C48=\"TOTAL\",\"\",'Arrear Sheet'!U48))","v":0},{"$f":"IF(B48=\"\",\"\",IF('Arrear Sheet'!C48=\"TOTAL\",\"\",'Arrear Sheet'!V48))","v":2100},{"$f":"IF(B48=\"\",\"\",IF('Arrear Sheet'!C48=\"TOTAL\",\"\",'Arrear Sheet'!W48))","v":2100},{"$f":"IF(B48=\"\",\"\",IF('Arrear Sheet'!C48=\"TOTAL\",\"\",'Arrear Sheet'!X48))","v":0},{"$f":"IF(B48=\"\",\"\",IF('Arrear Sheet'!C48=\"TOTAL\",\"\",'Arrear Sheet'!AB48))","v":""},{"$f":"IF(B48=\"\",\"\",IF('Arrear Sheet'!D48=\"TOTAL\",\"\",'Arrear Sheet'!AC48))","v":""},{"$f":"IF(B48=\"\",\"\",IF('Arrear Sheet'!E48=\"TOTAL\",\"\",'Arrear Sheet'!AD48))","v":""},{"$f":"IF(B48=\"\",\"\",IF('Arrear Sheet'!C48=\"TOTAL\",\"\",'Arrear Sheet'!Y48))","v":875},{"$f":"IF(B48=\"\",\"\",IF('Arrear Sheet'!C48=\"TOTAL\",\"\",'Arrear Sheet'!Z48))","v":875},{"$f":"IF(B48=\"\",\"\",IF('Arrear Sheet'!C48=\"TOTAL\",\"\",'Arrear Sheet'!AA48))","v":0},{"$f":"IF(B48=\"\",\"\",IF('Arrear Sheet'!C48=\"TOTAL\",\"\",'Arrear Sheet'!AE48))","v":""},{"$f":"IF(B48=\"\",\"\",IF('Arrear Sheet'!C48=\"TOTAL\",\"\",'Arrear Sheet'!AF48))","v":0},{"$f":"IF(B48=\"\",\"\",'Arrear Sheet'!AG48)","v":0},{"$f":"IFERROR(IF(B48=\"\",\"\",IF('Arrear Sheet'!C48=\"TOTAL\",\"\",SUM(Q48-AF48))),\"\")","v":10127}]
[{"$f":"IF('Arrear Sheet'!B49=\"\",\"\",'Arrear Sheet'!B49)","v":42},{"$f":"IF('Arrear Sheet'!C49=\"\",\"\",IF('Arrear Sheet'!C49=\"TOTAL\",\"\",'Arrear Sheet'!C49))","v":"2022-09-01"},{"$f":"IF('Arrear Sheet'!D49=\"\",\"\",IF('Arrear Sheet'!C49=\"TOTAL\",\"\",IF('Arrear Sheet'!D49=\"अक्षरें राशि :-\",\"\",'Arrear Sheet'!D49)))","v":113800},{"$f":"IF('Arrear Sheet'!E49=\"\",\"\",IF('Arrear Sheet'!C49=\"TOTAL\",\"\",'Arrear Sheet'!E49))","v":51893},{"$f":"IF(B49=\"\",\"\",IF('Arrear Sheet'!D49=\"TOTAL\",\"\",'Arrear Sheet'!F49))","v":10242},{"$f":"IF(B49=\"\",\"\",IF('Arrear Sheet'!E49=\"TOTAL\",\"\",'Arrear Sheet'!G49))","v":22760},{"$f":"IF(B49=\"\",\"\",IF('Arrear Sheet'!C49=\"TOTAL\",\"\",SUM(C49:F49)))","v":198695},{"$f":"IF(B49=\"\",\"\",IF('Arrear Sheet'!C49=\"TOTAL\",\"\",'Arrear Sheet'!I49))","v":108000},{"$f":"IF(B49=\"\",\"\",IF('Arrear Sheet'!C49=\"TOTAL\",\"\",'Arrear Sheet'!J49))","v":49248},{"$f":"IF(B49=\"\",\"\",IF('Arrear Sheet'!C49=\"TOTAL\",\"\",'Arrear Sheet'!K49))","v":9720},{"$f":"IF(B49=\"\",\"\",IF('Arrear Sheet'!D49=\"TOTAL\",\"\",'Arrear Sheet'!L49))","v":21600},{"$f":"IF(B49=\"\",\"\",IF('Arrear Sheet'!C49=\"TOTAL\",\"\",SUM(H49:K49)))","v":188568},{"$f":"IF(B49=\"\",\"\",IF('Arrear Sheet'!C49=\"TOTAL\",\"\",'Arrear Sheet'!N49))","v":5800},{"$f":"IF(B49=\"\",\"\",IF('Arrear Sheet'!C49=\"TOTAL\",\"\",'Arrear Sheet'!O49))","v":2645},{"$f":"IF(B49=\"\",\"\",IF('Arrear Sheet'!C49=\"TOTAL\",\"\",'Arrear Sheet'!P49))","v":522},{"$f":"IF(B49=\"\",\"\",IF('Arrear Sheet'!D49=\"TOTAL\",\"\",'Arrear Sheet'!Q49))","v":1160},{"$f":"IF(B49=\"\",\"\",IF('Arrear Sheet'!C49=\"TOTAL\",\"\",SUM(M49:P49)))","v":10127},{"$f":"IF(B49=\"\",\"\",IF('Arrear Sheet'!C49=\"TOTAL\",\"\",'Arrear Sheet'!S49))","v":2100},{"$f":"IF(B49=\"\",\"\",IF('Arrear Sheet'!C49=\"TOTAL\",\"\",'Arrear Sheet'!T49))","v":2100},{"$f":"IF(B49=\"\",\"\",IF('Arrear Sheet'!C49=\"TOTAL\",\"\",'Arrear Sheet'!U49))","v":0},{"$f":"IF(B49=\"\",\"\",IF('Arrear Sheet'!C49=\"TOTAL\",\"\",'Arrear Sheet'!V49))","v":2100},{"$f":"IF(B49=\"\",\"\",IF('Arrear Sheet'!C49=\"TOTAL\",\"\",'Arrear Sheet'!W49))","v":2100},{"$f":"IF(B49=\"\",\"\",IF('Arrear Sheet'!C49=\"TOTAL\",\"\",'Arrear Sheet'!X49))","v":0},{"$f":"IF(B49=\"\",\"\",IF('Arrear Sheet'!C49=\"TOTAL\",\"\",'Arrear Sheet'!AB49))","v":""},{"$f":"IF(B49=\"\",\"\",IF('Arrear Sheet'!D49=\"TOTAL\",\"\",'Arrear Sheet'!AC49))","v":""},{"$f":"IF(B49=\"\",\"\",IF('Arrear Sheet'!E49=\"TOTAL\",\"\",'Arrear Sheet'!AD49))","v":""},{"$f":"IF(B49=\"\",\"\",IF('Arrear Sheet'!C49=\"TOTAL\",\"\",'Arrear Sheet'!Y49))","v":875},{"$f":"IF(B49=\"\",\"\",IF('Arrear Sheet'!C49=\"TOTAL\",\"\",'Arrear Sheet'!Z49))","v":875},{"$f":"IF(B49=\"\",\"\",IF('Arrear Sheet'!C49=\"TOTAL\",\"\",'Arrear Sheet'!AA49))","v":0},{"$f":"IF(B49=\"\",\"\",IF('Arrear Sheet'!C49=\"TOTAL\",\"\",'Arrear Sheet'!AE49))","v":""},{"$f":"IF(B49=\"\",\"\",IF('Arrear Sheet'!C49=\"TOTAL\",\"\",'Arrear Sheet'!AF49))","v":0},{"$f":"IF(B49=\"\",\"\",'Arrear Sheet'!AG49)","v":0},{"$f":"IFERROR(IF(B49=\"\",\"\",IF('Arrear Sheet'!C49=\"TOTAL\",\"\",SUM(Q49-AF49))),\"\")","v":10127}]
[{"$f":"IF('Arrear Sheet'!B50=\"\",\"\",'Arrear Sheet'!B50)","v":43},{"$f":"IF('Arrear Sheet'!C50=\"\",\"\",IF('Arrear Sheet'!C50=\"TOTAL\",\"\",'Arrear Sheet'!C50))","v":"2022-10-01"},{"$f":"IF('Arrear Sheet'!D50=\"\",\"\",IF('Arrear Sheet'!C50=\"TOTAL\",\"\",IF('Arrear Sheet'!D50=\"अक्षरें राशि :-\",\"\",'Arrear Sheet'!D50)))","v":113800},{"$f":"IF('Arrear Sheet'!E50=\"\",\"\",IF('Arrear Sheet'!C50=\"TOTAL\",\"\",'Arrear Sheet'!E50))","v":51893},{"$f":"IF(B50=\"\",\"\",IF('Arrear Sheet'!D50=\"TOTAL\",\"\",'Arrear Sheet'!F50))","v":10242},{"$f":"IF(B50=\"\",\"\",IF('Arrear Sheet'!E50=\"TOTAL\",\"\",'Arrear Sheet'!G50))","v":22760},{"$f":"IF(B50=\"\",\"\",IF('Arrear Sheet'!C50=\"TOTAL\",\"\",SUM(C50:F50)))","v":198695},{"$f":"IF(B50=\"\",\"\",IF('Arrear Sheet'!C50=\"TOTAL\",\"\",'Arrear Sheet'!I50))","v":108000},{"$f":"IF(B50=\"\",\"\",IF('Arrear Sheet'!C50=\"TOTAL\",\"\",'Arrear Sheet'!J50))","v":49248},{"$f":"IF(B50=\"\",\"\",IF('Arrear Sheet'!C50=\"TOTAL\",\"\",'Arrear Sheet'!K50))","v":9720},{"$f":"IF(B50=\"\",\"\",IF('Arrear Sheet'!D50=\"TOTAL\",\"\",'Arrear Sheet'!L50))","v":21600},{"$f":"IF(B50=\"\",\"\",IF('Arrear Sheet'!C50=\"TOTAL\",\"\",SUM(H50:K50)))","v":188568},{"$f":"IF(B50=\"\",\"\",IF('Arrear Sheet'!C50=\"TOTAL\",\"\",'Arrear Sheet'!N50))","v":5800},{"$f":"IF(B50=\"\",\"\",IF('Arrear Sheet'!C50=\"TOTAL\",\"\",'Arrear Sheet'!O50))","v":2645},{"$f":"IF(B50=\"\",\"\",IF('Arrear Sheet'!C50=\"TOTAL\",\"\",'Arrear Sheet'!P50))","v":522},{"$f":"IF(B50=\"\",\"\",IF('Arrear Sheet'!D50=\"TOTAL\",\"\",'Arrear Sheet'!Q50))","v":1160},{"$f":"IF(B50=\"\",\"\",IF('Arrear Sheet'!C50=\"TOTAL\",\"\",SUM(M50:P50)))","v":10127},{"$f":"IF(B50=\"\",\"\",IF('Arrear Sheet'!C50=\"TOTAL\",\"\",'Arrear Sheet'!S50))","v":2100},{"$f":"IF(B50=\"\",\"\",IF('Arrear Sheet'!C50=\"TOTAL\",\"\",'Arrear Sheet'!T50))","v":2100},{"$f":"IF(B50=\"\",\"\",IF('Arrear Sheet'!C50=\"TOTAL\",\"\",'Arrear Sheet'!U50))","v":0},{"$f":"IF(B50=\"\",\"\",IF('Arrear Sheet'!C50=\"TOTAL\",\"\",'Arrear Sheet'!V50))","v":2100},{"$f":"IF(B50=\"\",\"\",IF('Arrear Sheet'!C50=\"TOTAL\",\"\",'Arrear Sheet'!W50))","v":2100},{"$f":"IF(B50=\"\",\"\",IF('Arrear Sheet'!C50=\"TOTAL\",\"\",'Arrear Sheet'!X50))","v":0},{"$f":"IF(B50=\"\",\"\",IF('Arrear Sheet'!C50=\"TOTAL\",\"\",'Arrear Sheet'!AB50))","v":""},{"$f":"IF(B50=\"\",\"\",IF('Arrear Sheet'!D50=\"TOTAL\",\"\",'Arrear Sheet'!AC50))","v":""},{"$f":"IF(B50=\"\",\"\",IF('Arrear Sheet'!E50=\"TOTAL\",\"\",'Arrear Sheet'!AD50))","v":""},{"$f":"IF(B50=\"\",\"\",IF('Arrear Sheet'!C50=\"TOTAL\",\"\",'Arrear Sheet'!Y50))","v":875},{"$f":"IF(B50=\"\",\"\",IF('Arrear Sheet'!C50=\"TOTAL\",\"\",'Arrear Sheet'!Z50))","v":875},{"$f":"IF(B50=\"\",\"\",IF('Arrear Sheet'!C50=\"TOTAL\",\"\",'Arrear Sheet'!AA50))","v":0},{"$f":"IF(B50=\"\",\"\",IF('Arrear Sheet'!C50=\"TOTAL\",\"\",'Arrear Sheet'!AE50))","v":""},{"$f":"IF(B50=\"\",\"\",IF('Arrear Sheet'!C50=\"TOTAL\",\"\",'Arrear Sheet'!AF50))","v":0},{"$f":"IF(B50=\"\",\"\",'Arrear Sheet'!AG50)","v":0},{"$f":"IFERROR(IF(B50=\"\",\"\",IF('Arrear Sheet'!C50=\"TOTAL\",\"\",SUM(Q50-AF50))),\"\")","v":10127}]
[{"$f":"IF('Arrear Sheet'!B51=\"\",\"\",'Arrear Sheet'!B51)","v":44},{"$f":"IF('Arrear Sheet'!C51=\"\",\"\",IF('Arrear Sheet'!C51=\"TOTAL\",\"\",'Arrear Sheet'!C51))","v":"2022-11-01"},{"$f":"IF('Arrear Sheet'!D51=\"\",\"\",IF('Arrear Sheet'!C51=\"TOTAL\",\"\",IF('Arrear Sheet'!D51=\"अक्षरें राशि :-\",\"\",'Arrear Sheet'!D51)))","v":113800},{"$f":"IF('Arrear Sheet'!E51=\"\",\"\",IF('Arrear Sheet'!C51=\"TOTAL\",\"\",'Arrear Sheet'!E51))","v":51893},{"$f":"IF(B51=\"\",\"\",IF('Arrear Sheet'!D51=\"TOTAL\",\"\",'Arrear Sheet'!F51))","v":10242},{"$f":"IF(B51=\"\",\"\",IF('Arrear Sheet'!E51=\"TOTAL\",\"\",'Arrear Sheet'!G51))","v":22760},{"$f":"IF(B51=\"\",\"\",IF('Arrear Sheet'!C51=\"TOTAL\",\"\",SUM(C51:F51)))","v":198695},{"$f":"IF(B51=\"\",\"\",IF('Arrear Sheet'!C51=\"TOTAL\",\"\",'Arrear Sheet'!I51))","v":108000},{"$f":"IF(B51=\"\",\"\",IF('Arrear Sheet'!C51=\"TOTAL\",\"\",'Arrear Sheet'!J51))","v":49248},{"$f":"IF(B51=\"\",\"\",IF('Arrear Sheet'!C51=\"TOTAL\",\"\",'Arrear Sheet'!K51))","v":9720},{"$f":"IF(B51=\"\",\"\",IF('Arrear Sheet'!D51=\"TOTAL\",\"\",'Arrear Sheet'!L51))","v":21600},{"$f":"IF(B51=\"\",\"\",IF('Arrear Sheet'!C51=\"TOTAL\",\"\",SUM(H51:K51)))","v":188568},{"$f":"IF(B51=\"\",\"\",IF('Arrear Sheet'!C51=\"TOTAL\",\"\",'Arrear Sheet'!N51))","v":5800},{"$f":"IF(B51=\"\",\"\",IF('Arrear Sheet'!C51=\"TOTAL\",\"\",'Arrear Sheet'!O51))","v":2645},{"$f":"IF(B51=\"\",\"\",IF('Arrear Sheet'!C51=\"TOTAL\",\"\",'Arrear Sheet'!P51))","v":522},{"$f":"IF(B51=\"\",\"\",IF('Arrear Sheet'!D51=\"TOTAL\",\"\",'Arrear Sheet'!Q51))","v":1160},{"$f":"IF(B51=\"\",\"\",IF('Arrear Sheet'!C51=\"TOTAL\",\"\",SUM(M51:P51)))","v":10127},{"$f":"IF(B51=\"\",\"\",IF('Arrear Sheet'!C51=\"TOTAL\",\"\",'Arrear Sheet'!S51))","v":2100},{"$f":"IF(B51=\"\",\"\",IF('Arrear Sheet'!C51=\"TOTAL\",\"\",'Arrear Sheet'!T51))","v":2100},{"$f":"IF(B51=\"\",\"\",IF('Arrear Sheet'!C51=\"TOTAL\",\"\",'Arrear Sheet'!U51))","v":0},{"$f":"IF(B51=\"\",\"\",IF('Arrear Sheet'!C51=\"TOTAL\",\"\",'Arrear Sheet'!V51))","v":2100},{"$f":"IF(B51=\"\",\"\",IF('Arrear Sheet'!C51=\"TOTAL\",\"\",'Arrear Sheet'!W51))","v":2100},{"$f":"IF(B51=\"\",\"\",IF('Arrear Sheet'!C51=\"TOTAL\",\"\",'Arrear Sheet'!X51))","v":0},{"$f":"IF(B51=\"\",\"\",IF('Arrear Sheet'!C51=\"TOTAL\",\"\",'Arrear Sheet'!AB51))","v":""},{"$f":"IF(B51=\"\",\"\",IF('Arrear Sheet'!D51=\"TOTAL\",\"\",'Arrear Sheet'!AC51))","v":""},{"$f":"IF(B51=\"\",\"\",IF('Arrear Sheet'!E51=\"TOTAL\",\"\",'Arrear Sheet'!AD51))","v":""},{"$f":"IF(B51=\"\",\"\",IF('Arrear Sheet'!C51=\"TOTAL\",\"\",'Arrear Sheet'!Y51))","v":875},{"$f":"IF(B51=\"\",\"\",IF('Arrear Sheet'!C51=\"TOTAL\",\"\",'Arrear Sheet'!Z51))","v":875},{"$f":"IF(B51=\"\",\"\",IF('Arrear Sheet'!C51=\"TOTAL\",\"\",'Arrear Sheet'!AA51))","v":0},{"$f":"IF(B51=\"\",\"\",IF('Arrear Sheet'!C51=\"TOTAL\",\"\",'Arrear Sheet'!AE51))","v":""},{"$f":"IF(B51=\"\",\"\",IF('Arrear Sheet'!C51=\"TOTAL\",\"\",'Arrear Sheet'!AF51))","v":0},{"$f":"IF(B51=\"\",\"\",'Arrear Sheet'!AG51)","v":0},{"$f":"IFERROR(IF(B51=\"\",\"\",IF('Arrear Sheet'!C51=\"TOTAL\",\"\",SUM(Q51-AF51))),\"\")","v":10127}]
[{"$f":"IF('Arrear Sheet'!B52=\"\",\"\",'Arrear Sheet'!B52)","v":45},{"$f":"IF('Arrear Sheet'!C52=\"\",\"\",IF('Arrear Sheet'!C52=\"TOTAL\",\"\",'Arrear Sheet'!C52))","v":"2022-12-01"},{"$f":"IF('Arrear Sheet'!D52=\"\",\"\",IF('Arrear Sheet'!C52=\"TOTAL\",\"\",IF('Arrear Sheet'!D52=\"अक्षरें राशि :-\",\"\",'Arrear Sheet'!D52)))","v":113800},{"$f":"IF('Arrear Sheet'!E52=\"\",\"\",IF('Arrear Sheet'!C52=\"TOTAL\",\"\",'Arrear Sheet'!E52))","v":51893},{"$f":"IF(B52=\"\",\"\",IF('Arrear Sheet'!D52=\"TOTAL\",\"\",'Arrear Sheet'!F52))","v":10242},{"$f":"IF(B52=\"\",\"\",IF('Arrear Sheet'!E52=\"TOTAL\",\"\",'Arrear Sheet'!G52))","v":22760},{"$f":"IF(B52=\"\",\"\",IF('Arrear Sheet'!C52=\"TOTAL\",\"\",SUM(C52:F52)))","v":198695},{"$f":"IF(B52=\"\",\"\",IF('Arrear Sheet'!C52=\"TOTAL\",\"\",'Arrear Sheet'!I52))","v":108000},{"$f":"IF(B52=\"\",\"\",IF('Arrear Sheet'!C52=\"TOTAL\",\"\",'Arrear Sheet'!J52))","v":49248},{"$f":"IF(B52=\"\",\"\",IF('Arrear Sheet'!C52=\"TOTAL\",\"\",'Arrear Sheet'!K52))","v":9720},{"$f":"IF(B52=\"\",\"\",IF('Arrear Sheet'!D52=\"TOTAL\",\"\",'Arrear Sheet'!L52))","v":21600},{"$f":"IF(B52=\"\",\"\",IF('Arrear Sheet'!C52=\"TOTAL\",\"\",SUM(H52:K52)))","v":188568},{"$f":"IF(B52=\"\",\"\",IF('Arrear Sheet'!C52=\"TOTAL\",\"\",'Arrear Sheet'!N52))","v":5800},{"$f":"IF(B52=\"\",\"\",IF('Arrear Sheet'!C52=\"TOTAL\",\"\",'Arrear Sheet'!O52))","v":2645},{"$f":"IF(B52=\"\",\"\",IF('Arrear Sheet'!C52=\"TOTAL\",\"\",'Arrear Sheet'!P52))","v":522},{"$f":"IF(B52=\"\",\"\",IF('Arrear Sheet'!D52=\"TOTAL\",\"\",'Arrear Sheet'!Q52))","v":1160},{"$f":"IF(B52=\"\",\"\",IF('Arrear Sheet'!C52=\"TOTAL\",\"\",SUM(M52:P52)))","v":10127},{"$f":"IF(B52=\"\",\"\",IF('Arrear Sheet'!C52=\"TOTAL\",\"\",'Arrear Sheet'!S52))","v":2100},{"$f":"IF(B52=\"\",\"\",IF('Arrear Sheet'!C52=\"TOTAL\",\"\",'Arrear Sheet'!T52))","v":2100},{"$f":"IF(B52=\"\",\"\",IF('Arrear Sheet'!C52=\"TOTAL\",\"\",'Arrear Sheet'!U52))","v":0},{"$f":"IF(B52=\"\",\"\",IF('Arrear Sheet'!C52=\"TOTAL\",\"\",'Arrear Sheet'!V52))","v":2100},{"$f":"IF(B52=\"\",\"\",IF('Arrear Sheet'!C52=\"TOTAL\",\"\",'Arrear Sheet'!W52))","v":2100},{"$f":"IF(B52=\"\",\"\",IF('Arrear Sheet'!C52=\"TOTAL\",\"\",'Arrear Sheet'!X52))","v":0},{"$f":"IF(B52=\"\",\"\",IF('Arrear Sheet'!C52=\"TOTAL\",\"\",'Arrear Sheet'!AB52))","v":""},{"$f":"IF(B52=\"\",\"\",IF('Arrear Sheet'!D52=\"TOTAL\",\"\",'Arrear Sheet'!AC52))","v":""},{"$f":"IF(B52=\"\",\"\",IF('Arrear Sheet'!E52=\"TOTAL\",\"\",'Arrear Sheet'!AD52))","v":""},{"$f":"IF(B52=\"\",\"\",IF('Arrear Sheet'!C52=\"TOTAL\",\"\",'Arrear Sheet'!Y52))","v":875},{"$f":"IF(B52=\"\",\"\",IF('Arrear Sheet'!C52=\"TOTAL\",\"\",'Arrear Sheet'!Z52))","v":875},{"$f":"IF(B52=\"\",\"\",IF('Arrear Sheet'!C52=\"TOTAL\",\"\",'Arrear Sheet'!AA52))","v":0},{"$f":"IF(B52=\"\",\"\",IF('Arrear Sheet'!C52=\"TOTAL\",\"\",'Arrear Sheet'!AE52))","v":""},{"$f":"IF(B52=\"\",\"\",IF('Arrear Sheet'!C52=\"TOTAL\",\"\",'Arrear Sheet'!AF52))","v":0},{"$f":"IF(B52=\"\",\"\",'Arrear Sheet'!AG52)","v":0},{"$f":"IFERROR(IF(B52=\"\",\"\",IF('Arrear Sheet'!C52=\"TOTAL\",\"\",SUM(Q52-AF52))),\"\")","v":10127}]
[{"$f":"IF('Arrear Sheet'!B53=\"\",\"\",'Arrear Sheet'!B53)","v":46},{"$f":"IF('Arrear Sheet'!C53=\"\",\"\",IF('Arrear Sheet'!C53=\"TOTAL\",\"\",'Arrear Sheet'!C53))","v":"2023-01-01"},{"$f":"IF('Arrear Sheet'!D53=\"\",\"\",IF('Arrear Sheet'!C53=\"TOTAL\",\"\",IF('Arrear Sheet'!D53=\"अक्षरें राशि :-\",\"\",'Arrear Sheet'!D53)))","v":113800},{"$f":"IF('Arrear Sheet'!E53=\"\",\"\",IF('Arrear Sheet'!C53=\"TOTAL\",\"\",'Arrear Sheet'!E53))","v":57355},{"$f":"IF(B53=\"\",\"\",IF('Arrear Sheet'!D53=\"TOTAL\",\"\",'Arrear Sheet'!F53))","v":10242},{"$f":"IF(B53=\"\",\"\",IF('Arrear Sheet'!E53=\"TOTAL\",\"\",'Arrear Sheet'!G53))","v":22760},{"$f":"IF(B53=\"\",\"\",IF('Arrear Sheet'!C53=\"TOTAL\",\"\",SUM(C53:F53)))","v":204157},{"$f":"IF(B53=\"\",\"\",IF('Arrear Sheet'!C53=\"TOTAL\",\"\",'Arrear Sheet'!I53))","v":108000},{"$f":"IF(B53=\"\",\"\",IF('Arrear Sheet'!C53=\"TOTAL\",\"\",'Arrear Sheet'!J53))","v":54432},{"$f":"IF(B53=\"\",\"\",IF('Arrear Sheet'!C53=\"TOTAL\",\"\",'Arrear Sheet'!K53))","v":9720},{"$f":"IF(B53=\"\",\"\",IF('Arrear Sheet'!D53=\"TOTAL\",\"\",'Arrear Sheet'!L53))","v":21600},{"$f":"IF(B53=\"\",\"\",IF('Arrear Sheet'!C53=\"TOTAL\",\"\",SUM(H53:K53)))","v":193752},{"$f":"IF(B53=\"\",\"\",IF('Arrear Sheet'!C53=\"TOTAL\",\"\",'Arrear Sheet'!N53))","v":5800},{"$f":"IF(B53=\"\",\"\",IF('Arrear Sheet'!C53=\"TOTAL\",\"\",'Arrear Sheet'!O53))","v":2923},{"$f":"IF(B53=\"\",\"\",IF('Arrear Sheet'!C53=\"TOTAL\",\"\",'Arrear Sheet'!P53))","v":522},{"$f":"IF(B53=\"\",\"\",IF('Arrear Sheet'!D53=\"TOTAL\",\"\",'Arrear Sheet'!Q53))","v":1160},{"$f":"IF(B53=\"\",\"\",IF('Arrear Sheet'!C53=\"TOTAL\",\"\",SUM(M53:P53)))","v":10405},{"$f":"IF(B53=\"\",\"\",IF('Arrear Sheet'!C53=\"TOTAL\",\"\",'Arrear Sheet'!S53))","v":2100},{"$f":"IF(B53=\"\",\"\",IF('Arrear Sheet'!C53=\"TOTAL\",\"\",'Arrear Sheet'!T53))","v":2100},{"$f":"IF(B53=\"\",\"\",IF('Arrear Sheet'!C53=\"TOTAL\",\"\",'Arrear Sheet'!U53))","v":0},{"$f":"IF(B53=\"\",\"\",IF('Arrear Sheet'!C53=\"TOTAL\",\"\",'Arrear Sheet'!V53))","v":2100},{"$f":"IF(B53=\"\",\"\",IF('Arrear Sheet'!C53=\"TOTAL\",\"\",'Arrear Sheet'!W53))","v":2100},{"$f":"IF(B53=\"\",\"\",IF('Arrear Sheet'!C53=\"TOTAL\",\"\",'Arrear Sheet'!X53))","v":0},{"$f":"IF(B53=\"\",\"\",IF('Arrear Sheet'!C53=\"TOTAL\",\"\",'Arrear Sheet'!AB53))","v":""},{"$f":"IF(B53=\"\",\"\",IF('Arrear Sheet'!D53=\"TOTAL\",\"\",'Arrear Sheet'!AC53))","v":""},{"$f":"IF(B53=\"\",\"\",IF('Arrear Sheet'!E53=\"TOTAL\",\"\",'Arrear Sheet'!AD53))","v":""},{"$f":"IF(B53=\"\",\"\",IF('Arrear Sheet'!C53=\"TOTAL\",\"\",'Arrear Sheet'!Y53))","v":875},{"$f":"IF(B53=\"\",\"\",IF('Arrear Sheet'!C53=\"TOTAL\",\"\",'Arrear Sheet'!Z53))","v":875},{"$f":"IF(B53=\"\",\"\",IF('Arrear Sheet'!C53=\"TOTAL\",\"\",'Arrear Sheet'!AA53))","v":0},{"$f":"IF(B53=\"\",\"\",IF('Arrear Sheet'!C53=\"TOTAL\",\"\",'Arrear Sheet'!AE53))","v":""},{"$f":"IF(B53=\"\",\"\",IF('Arrear Sheet'!C53=\"TOTAL\",\"\",'Arrear Sheet'!AF53))","v":0},{"$f":"IF(B53=\"\",\"\",'Arrear Sheet'!AG53)","v":0},{"$f":"IFERROR(IF(B53=\"\",\"\",IF('Arrear Sheet'!C53=\"TOTAL\",\"\",SUM(Q53-AF53))),\"\")","v":10405}]
[{"$f":"IF('Arrear Sheet'!B54=\"\",\"\",'Arrear Sheet'!B54)","v":47},{"$f":"IF('Arrear Sheet'!C54=\"\",\"\",IF('Arrear Sheet'!C54=\"TOTAL\",\"\",'Arrear Sheet'!C54))","v":"2023-02-01"},{"$f":"IF('Arrear Sheet'!D54=\"\",\"\",IF('Arrear Sheet'!C54=\"TOTAL\",\"\",IF('Arrear Sheet'!D54=\"अक्षरें राशि :-\",\"\",'Arrear Sheet'!D54)))","v":113800},{"$f":"IF('Arrear Sheet'!E54=\"\",\"\",IF('Arrear Sheet'!C54=\"TOTAL\",\"\",'Arrear Sheet'!E54))","v":57355},{"$f":"IF(B54=\"\",\"\",IF('Arrear Sheet'!D54=\"TOTAL\",\"\",'Arrear Sheet'!F54))","v":10242},{"$f":"IF(B54=\"\",\"\",IF('Arrear Sheet'!E54=\"TOTAL\",\"\",'Arrear Sheet'!G54))","v":22760},{"$f":"IF(B54=\"\",\"\",IF('Arrear Sheet'!C54=\"TOTAL\",\"\",SUM(C54:F54)))","v":204157},{"$f":"IF(B54=\"\",\"\",IF('Arrear Sheet'!C54=\"TOTAL\",\"\",'Arrear Sheet'!I54))","v":108000},{"$f":"IF(B54=\"\",\"\",IF('Arrear Sheet'!C54=\"TOTAL\",\"\",'Arrear Sheet'!J54))","v":54432},{"$f":"IF(B54=\"\",\"\",IF('Arrear Sheet'!C54=\"TOTAL\",\"\",'Arrear Sheet'!K54))","v":9720},{"$f":"IF(B54=\"\",\"\",IF('Arrear Sheet'!D54=\"TOTAL\",\"\",'Arrear Sheet'!L54))","v":21600},{"$f":"IF(B54=\"\",\"\",IF('Arrear Sheet'!C54=\"TOTAL\",\"\",SUM(H54:K54)))","v":193752},{"$f":"IF(B54=\"\",\"\",IF('Arrear Sheet'!C54=\"TOTAL\",\"\",'Arrear Sheet'!N54))","v":5800},{"$f":"IF(B54=\"\",\"\",IF('Arrear Sheet'!C54=\"TOTAL\",\"\",'Arrear Sheet'!O54))","v":2923},{"$f":"IF(B54=\"\",\"\",IF('Arrear Sheet'!C54=\"TOTAL\",\"\",'Arrear Sheet'!P54))","v":522},{"$f":"IF(B54=\"\",\"\",IF('Arrear Sheet'!D54=\"TOTAL\",\"\",'Arrear Sheet'!Q54))","v":1160},{"$f":"IF(B54=\"\",\"\",IF('Arrear Sheet'!C54=\"TOTAL\",\"\",SUM(M54:P54)))","v":10405},{"$f":"IF(B54=\"\",\"\",IF('Arrear Sheet'!C54=\"TOTAL\",\"\",'Arrear Sheet'!S54))","v":2100},{"$f":"IF(B54=\"\",\"\",IF('Arrear Sheet'!C54=\"TOTAL\",\"\",'Arrear Sheet'!T54))","v":2100},{"$f":"IF(B54=\"\",\"\",IF('Arrear Sheet'!C54=\"TOTAL\",\"\",'Arrear Sheet'!U54))","v":0},{"$f":"IF(B54=\"\",\"\",IF('Arrear Sheet'!C54=\"TOTAL\",\"\",'Arrear Sheet'!V54))","v":2100},{"$f":"IF(B54=\"\",\"\",IF('Arrear Sheet'!C54=\"TOTAL\",\"\",'Arrear Sheet'!W54))","v":2100},{"$f":"IF(B54=\"\",\"\",IF('Arrear Sheet'!C54=\"TOTAL\",\"\",'Arrear Sheet'!X54))","v":0},{"$f":"IF(B54=\"\",\"\",IF('Arrear Sheet'!C54=\"TOTAL\",\"\",'Arrear Sheet'!AB54))","v":""},{"$f":"IF(B54=\"\",\"\",IF('Arrear Sheet'!D54=\"TOTAL\",\"\",'Arrear Sheet'!AC54))","v":""},{"$f":"IF(B54=\"\",\"\",IF('Arrear Sheet'!E54=\"TOTAL\",\"\",'Arrear Sheet'!AD54))","v":""},{"$f":"IF(B54=\"\",\"\",IF('Arrear Sheet'!C54=\"TOTAL\",\"\",'Arrear Sheet'!Y54))","v":875},{"$f":"IF(B54=\"\",\"\",IF('Arrear Sheet'!C54=\"TOTAL\",\"\",'Arrear Sheet'!Z54))","v":875},{"$f":"IF(B54=\"\",\"\",IF('Arrear Sheet'!C54=\"TOTAL\",\"\",'Arrear Sheet'!AA54))","v":0},{"$f":"IF(B54=\"\",\"\",IF('Arrear Sheet'!C54=\"TOTAL\",\"\",'Arrear Sheet'!AE54))","v":""},{"$f":"IF(B54=\"\",\"\",IF('Arrear Sheet'!C54=\"TOTAL\",\"\",'Arrear Sheet'!AF54))","v":0},{"$f":"IF(B54=\"\",\"\",'Arrear Sheet'!AG54)","v":0},{"$f":"IFERROR(IF(B54=\"\",\"\",IF('Arrear Sheet'!C54=\"TOTAL\",\"\",SUM(Q54-AF54))),\"\")","v":10405}]
[{"$f":"IF('Arrear Sheet'!B55=\"\",\"\",'Arrear Sheet'!B55)","v":48},{"$f":"IF('Arrear Sheet'!C55=\"\",\"\",IF('Arrear Sheet'!C55=\"TOTAL\",\"\",'Arrear Sheet'!C55))","v":"2023-03-01"},{"$f":"IF('Arrear Sheet'!D55=\"\",\"\",IF('Arrear Sheet'!C55=\"TOTAL\",\"\",IF('Arrear Sheet'!D55=\"अक्षरें राशि :-\",\"\",'Arrear Sheet'!D55)))","v":113800},{"$f":"IF('Arrear Sheet'!E55=\"\",\"\",IF('Arrear Sheet'!C55=\"TOTAL\",\"\",'Arrear Sheet'!E55))","v":57355},{"$f":"IF(B55=\"\",\"\",IF('Arrear Sheet'!D55=\"TOTAL\",\"\",'Arrear Sheet'!F55))","v":10242},{"$f":"IF(B55=\"\",\"\",IF('Arrear Sheet'!E55=\"TOTAL\",\"\",'Arrear Sheet'!G55))","v":22760},{"$f":"IF(B55=\"\",\"\",IF('Arrear Sheet'!C55=\"TOTAL\",\"\",SUM(C55:F55)))","v":204157},{"$f":"IF(B55=\"\",\"\",IF('Arrear Sheet'!C55=\"TOTAL\",\"\",'Arrear Sheet'!I55))","v":108000},{"$f":"IF(B55=\"\",\"\",IF('Arrear Sheet'!C55=\"TOTAL\",\"\",'Arrear Sheet'!J55))","v":54432},{"$f":"IF(B55=\"\",\"\",IF('Arrear Sheet'!C55=\"TOTAL\",\"\",'Arrear Sheet'!K55))","v":9720},{"$f":"IF(B55=\"\",\"\",IF('Arrear Sheet'!D55=\"TOTAL\",\"\",'Arrear Sheet'!L55))","v":21600},{"$f":"IF(B55=\"\",\"\",IF('Arrear Sheet'!C55=\"TOTAL\",\"\",SUM(H55:K55)))","v":193752},{"$f":"IF(B55=\"\",\"\",IF('Arrear Sheet'!C55=\"TOTAL\",\"\",'Arrear Sheet'!N55))","v":5800},{"$f":"IF(B55=\"\",\"\",IF('Arrear Sheet'!C55=\"TOTAL\",\"\",'Arrear Sheet'!O55))","v":2923},{"$f":"IF(B55=\"\",\"\",IF('Arrear Sheet'!C55=\"TOTAL\",\"\",'Arrear Sheet'!P55))","v":522},{"$f":"IF(B55=\"\",\"\",IF('Arrear Sheet'!D55=\"TOTAL\",\"\",'Arrear Sheet'!Q55))","v":1160},{"$f":"IF(B55=\"\",\"\",IF('Arrear Sheet'!C55=\"TOTAL\",\"\",SUM(M55:P55)))","v":10405},{"$f":"IF(B55=\"\",\"\",IF('Arrear Sheet'!C55=\"TOTAL\",\"\",'Arrear Sheet'!S55))","v":2100},{"$f":"IF(B55=\"\",\"\",IF('Arrear Sheet'!C55=\"TOTAL\",\"\",'Arrear Sheet'!T55))","v":2100},{"$f":"IF(B55=\"\",\"\",IF('Arrear Sheet'!C55=\"TOTAL\",\"\",'Arrear Sheet'!U55))","v":0},{"$f":"IF(B55=\"\",\"\",IF('Arrear Sheet'!C55=\"TOTAL\",\"\",'Arrear Sheet'!V55))","v":2100},{"$f":"IF(B55=\"\",\"\",IF('Arrear Sheet'!C55=\"TOTAL\",\"\",'Arrear Sheet'!W55))","v":2100},{"$f":"IF(B55=\"\",\"\",IF('Arrear Sheet'!C55=\"TOTAL\",\"\",'Arrear Sheet'!X55))","v":0},{"$f":"IF(B55=\"\",\"\",IF('Arrear Sheet'!C55=\"TOTAL\",\"\",'Arrear Sheet'!AB55))","v":""},{"$f":"IF(B55=\"\",\"\",IF('Arrear Sheet'!D55=\"TOTAL\",\"\",'Arrear Sheet'!AC55))","v":""},{"$f":"IF(B55=\"\",\"\",IF('Arrear Sheet'!E55=\"TOTAL\",\"\",'Arrear Sheet'!AD55))","v":""},{"$f":"IF(B55=\"\",\"\",IF('Arrear Sheet'!C55=\"TOTAL\",\"\",'Arrear Sheet'!Y55))","v":875},{"$f":"IF(B55=\"\",\"\",IF('Arrear Sheet'!C55=\"TOTAL\",\"\",'Arrear Sheet'!Z55))","v":875},{"$f":"IF(B55=\"\",\"\",IF('Arrear Sheet'!C55=\"TOTAL\",\"\",'Arrear Sheet'!AA55))","v":0},{"$f":"IF(B55=\"\",\"\",IF('Arrear Sheet'!C55=\"TOTAL\",\"\",'Arrear Sheet'!AE55))","v":""},{"$f":"IF(B55=\"\",\"\",IF('Arrear Sheet'!C55=\"TOTAL\",\"\",'Arrear Sheet'!AF55))","v":0},{"$f":"IF(B55=\"\",\"\",'Arrear Sheet'!AG55)","v":0},{"$f":"IFERROR(IF(B55=\"\",\"\",IF('Arrear Sheet'!C55=\"TOTAL\",\"\",SUM(Q55-AF55))),\"\")","v":10405}]
[{"$f":"IF('Arrear Sheet'!B56=\"\",\"\",'Arrear Sheet'!B56)","v":49},{"$f":"IF('Arrear Sheet'!C56=\"\",\"\",IF('Arrear Sheet'!C56=\"TOTAL\",\"\",'Arrear Sheet'!C56))","v":"2023-04-01"},{"$f":"IF('Arrear Sheet'!D56=\"\",\"\",IF('Arrear Sheet'!C56=\"TOTAL\",\"\",IF('Arrear Sheet'!D56=\"अक्षरें राशि :-\",\"\",'Arrear Sheet'!D56)))","v":113800},{"$f":"IF('Arrear Sheet'!E56=\"\",\"\",IF('Arrear Sheet'!C56=\"TOTAL\",\"\",'Arrear Sheet'!E56))","v":57355},{"$f":"IF(B56=\"\",\"\",IF('Arrear Sheet'!D56=\"TOTAL\",\"\",'Arrear Sheet'!F56))","v":10242},{"$f":"IF(B56=\"\",\"\",IF('Arrear Sheet'!E56=\"TOTAL\",\"\",'Arrear Sheet'!G56))","v":22760},{"$f":"IF(B56=\"\",\"\",IF('Arrear Sheet'!C56=\"TOTAL\",\"\",SUM(C56:F56)))","v":204157},{"$f":"IF(B56=\"\",\"\",IF('Arrear Sheet'!C56=\"TOTAL\",\"\",'Arrear Sheet'!I56))","v":108000},{"$f":"IF(B56=\"\",\"\",IF('Arrear Sheet'!C56=\"TOTAL\",\"\",'Arrear Sheet'!J56))","v":54432},{"$f":"IF(B56=\"\",\"\",IF('Arrear Sheet'!C56=\"TOTAL\",\"\",'Arrear Sheet'!K56))","v":9720},{"$f":"IF(B56=\"\",\"\",IF('Arrear Sheet'!D56=\"TOTAL\",\"\",'Arrear Sheet'!L56))","v":21600},{"$f":"IF(B56=\"\",\"\",IF('Arrear Sheet'!C56=\"TOTAL\",\"\",SUM(H56:K56)))","v":193752},{"$f":"IF(B56=\"\",\"\",IF('Arrear Sheet'!C56=\"TOTAL\",\"\",'Arrear Sheet'!N56))","v":5800},{"$f":"IF(B56=\"\",\"\",IF('Arrear Sheet'!C56=\"TOTAL\",\"\",'Arrear Sheet'!O56))","v":2923},{"$f":"IF(B56=\"\",\"\",IF('Arrear Sheet'!C56=\"TOTAL\",\"\",'Arrear Sheet'!P56))","v":522},{"$f":"IF(B56=\"\",\"\",IF('Arrear Sheet'!D56=\"TOTAL\",\"\",'Arrear Sheet'!Q56))","v":1160},{"$f":"IF(B56=\"\",\"\",IF('Arrear Sheet'!C56=\"TOTAL\",\"\",SUM(M56:P56)))","v":10405},{"$f":"IF(B56=\"\",\"\",IF('Arrear Sheet'!C56=\"TOTAL\",\"\",'Arrear Sheet'!S56))","v":2100},{"$f":"IF(B56=\"\",\"\",IF('Arrear Sheet'!C56=\"TOTAL\",\"\",'Arrear Sheet'!T56))","v":2100},{"$f":"IF(B56=\"\",\"\",IF('Arrear Sheet'!C56=\"TOTAL\",\"\",'Arrear Sheet'!U56))","v":0},{"$f":"IF(B56=\"\",\"\",IF('Arrear Sheet'!C56=\"TOTAL\",\"\",'Arrear Sheet'!V56))","v":2100},{"$f":"IF(B56=\"\",\"\",IF('Arrear Sheet'!C56=\"TOTAL\",\"\",'Arrear Sheet'!W56))","v":2100},{"$f":"IF(B56=\"\",\"\",IF('Arrear Sheet'!C56=\"TOTAL\",\"\",'Arrear Sheet'!X56))","v":0},{"$f":"IF(B56=\"\",\"\",IF('Arrear Sheet'!C56=\"TOTAL\",\"\",'Arrear Sheet'!AB56))","v":""},{"$f":"IF(B56=\"\",\"\",IF('Arrear Sheet'!D56=\"TOTAL\",\"\",'Arrear Sheet'!AC56))","v":""},{"$f":"IF(B56=\"\",\"\",IF('Arrear Sheet'!E56=\"TOTAL\",\"\",'Arrear Sheet'!AD56))","v":""},{"$f":"IF(B56=\"\",\"\",IF('Arrear Sheet'!C56=\"TOTAL\",\"\",'Arrear Sheet'!Y56))","v":875},{"$f":"IF(B56=\"\",\"\",IF('Arrear Sheet'!C56=\"TOTAL\",\"\",'Arrear Sheet'!Z56))","v":875},{"$f":"IF(B56=\"\",\"\",IF('Arrear Sheet'!C56=\"TOTAL\",\"\",'Arrear Sheet'!AA56))","v":0},{"$f":"IF(B56=\"\",\"\",IF('Arrear Sheet'!C56=\"TOTAL\",\"\",'Arrear Sheet'!AE56))","v":""},{"$f":"IF(B56=\"\",\"\",IF('Arrear Sheet'!C56=\"TOTAL\",\"\",'Arrear Sheet'!AF56))","v":0},{"$f":"IF(B56=\"\",\"\",'Arrear Sheet'!AG56)","v":0},{"$f":"IFERROR(IF(B56=\"\",\"\",IF('Arrear Sheet'!C56=\"TOTAL\",\"\",SUM(Q56-AF56))),\"\")","v":10405}]
[{"$f":"IF('Arrear Sheet'!B57=\"\",\"\",'Arrear Sheet'!B57)","v":50},{"$f":"IF('Arrear Sheet'!C57=\"\",\"\",IF('Arrear Sheet'!C57=\"TOTAL\",\"\",'Arrear Sheet'!C57))","v":"2023-05-01"},{"$f":"IF('Arrear Sheet'!D57=\"\",\"\",IF('Arrear Sheet'!C57=\"TOTAL\",\"\",IF('Arrear Sheet'!D57=\"अक्षरें राशि :-\",\"\",'Arrear Sheet'!D57)))","v":113800},{"$f":"IF('Arrear Sheet'!E57=\"\",\"\",IF('Arrear Sheet'!C57=\"TOTAL\",\"\",'Arrear Sheet'!E57))","v":57355},{"$f":"IF(B57=\"\",\"\",IF('Arrear Sheet'!D57=\"TOTAL\",\"\",'Arrear Sheet'!F57))","v":10242},{"$f":"IF(B57=\"\",\"\",IF('Arrear Sheet'!E57=\"TOTAL\",\"\",'Arrear Sheet'!G57))","v":22760},{"$f":"IF(B57=\"\",\"\",IF('Arrear Sheet'!C57=\"TOTAL\",\"\",SUM(C57:F57)))","v":204157},{"$f":"IF(B57=\"\",\"\",IF('Arrear Sheet'!C57=\"TOTAL\",\"\",'Arrear Sheet'!I57))","v":108000},{"$f":"IF(B57=\"\",\"\",IF('Arrear Sheet'!C57=\"TOTAL\",\"\",'Arrear Sheet'!J57))","v":54432},{"$f":"IF(B57=\"\",\"\",IF('Arrear Sheet'!C57=\"TOTAL\",\"\",'Arrear Sheet'!K57))","v":9720},{"$f":"IF(B57=\"\",\"\",IF('Arrear Sheet'!D57=\"TOTAL\",\"\",'Arrear Sheet'!L57))","v":21600},{"$f":"IF(B57=\"\",\"\",IF('Arrear Sheet'!C57=\"TOTAL\",\"\",SUM(H57:K57)))","v":193752},{"$f":"IF(B57=\"\",\"\",IF('Arrear Sheet'!C57=\"TOTAL\",\"\",'Arrear Sheet'!N57))","v":5800},{"$f":"IF(B57=\"\",\"\",IF('Arrear Sheet'!C57=\"TOTAL\",\"\",'Arrear Sheet'!O57))","v":2923},{"$f":"IF(B57=\"\",\"\",IF('Arrear Sheet'!C57=\"TOTAL\",\"\",'Arrear Sheet'!P57))","v":522},{"$f":"IF(B57=\"\",\"\",IF('Arrear Sheet'!D57=\"TOTAL\",\"\",'Arrear Sheet'!Q57))","v":1160},{"$f":"IF(B57=\"\",\"\",IF('Arrear Sheet'!C57=\"TOTAL\",\"\",SUM(M57:P57)))","v":10405},{"$f":"IF(B57=\"\",\"\",IF('Arrear Sheet'!C57=\"TOTAL\",\"\",'Arrear Sheet'!S57))","v":2100},{"$f":"IF(B57=\"\",\"\",IF('Arrear Sheet'!C57=\"TOTAL\",\"\",'Arrear Sheet'!T57))","v":2100},{"$f":"IF(B57=\"\",\"\",IF('Arrear Sheet'!C57=\"TOTAL\",\"\",'Arrear Sheet'!U57))","v":0},{"$f":"IF(B57=\"\",\"\",IF('Arrear Sheet'!C57=\"TOTAL\",\"\",'Arrear Sheet'!V57))","v":2100},{"$f":"IF(B57=\"\",\"\",IF('Arrear Sheet'!C57=\"TOTAL\",\"\",'Arrear Sheet'!W57))","v":2100},{"$f":"IF(B57=\"\",\"\",IF('Arrear Sheet'!C57=\"TOTAL\",\"\",'Arrear Sheet'!X57))","v":0},{"$f":"IF(B57=\"\",\"\",IF('Arrear Sheet'!C57=\"TOTAL\",\"\",'Arrear Sheet'!AB57))","v":""},{"$f":"IF(B57=\"\",\"\",IF('Arrear Sheet'!D57=\"TOTAL\",\"\",'Arrear Sheet'!AC57))","v":""},{"$f":"IF(B57=\"\",\"\",IF('Arrear Sheet'!E57=\"TOTAL\",\"\",'Arrear Sheet'!AD57))","v":""},{"$f":"IF(B57=\"\",\"\",IF('Arrear Sheet'!C57=\"TOTAL\",\"\",'Arrear Sheet'!Y57))","v":875},{"$f":"IF(B57=\"\",\"\",IF('Arrear Sheet'!C57=\"TOTAL\",\"\",'Arrear Sheet'!Z57))","v":875},{"$f":"IF(B57=\"\",\"\",IF('Arrear Sheet'!C57=\"TOTAL\",\"\",'Arrear Sheet'!AA57))","v":0},{"$f":"IF(B57=\"\",\"\",IF('Arrear Sheet'!C57=\"TOTAL\",\"\",'Arrear Sheet'!AE57))","v":""},{"$f":"IF(B57=\"\",\"\",IF('Arrear Sheet'!C57=\"TOTAL\",\"\",'Arrear Sheet'!AF57))","v":0},{"$f":"IF(B57=\"\",\"\",'Arrear Sheet'!AG57)","v":0},{"$f":"IFERROR(IF(B57=\"\",\"\",IF('Arrear Sheet'!C57=\"TOTAL\",\"\",SUM(Q57-AF57))),\"\")","v":10405}]
[{"$f":"IF('Arrear Sheet'!B58=\"\",\"\",'Arrear Sheet'!B58)","v":51},{"$f":"IF('Arrear Sheet'!C58=\"\",\"\",IF('Arrear Sheet'!C58=\"TOTAL\",\"\",'Arrear Sheet'!C58))","v":"2023-06-01"},{"$f":"IF('Arrear Sheet'!D58=\"\",\"\",IF('Arrear Sheet'!C58=\"TOTAL\",\"\",IF('Arrear Sheet'!D58=\"अक्षरें राशि :-\",\"\",'Arrear Sheet'!D58)))","v":113800},{"$f":"IF('Arrear Sheet'!E58=\"\",\"\",IF('Arrear Sheet'!C58=\"TOTAL\",\"\",'Arrear Sheet'!E58))","v":57355},{"$f":"IF(B58=\"\",\"\",IF('Arrear Sheet'!D58=\"TOTAL\",\"\",'Arrear Sheet'!F58))","v":10242},{"$f":"IF(B58=\"\",\"\",IF('Arrear Sheet'!E58=\"TOTAL\",\"\",'Arrear Sheet'!G58))","v":22760},{"$f":"IF(B58=\"\",\"\",IF('Arrear Sheet'!C58=\"TOTAL\",\"\",SUM(C58:F58)))","v":204157},{"$f":"IF(B58=\"\",\"\",IF('Arrear Sheet'!C58=\"TOTAL\",\"\",'Arrear Sheet'!I58))","v":108000},{"$f":"IF(B58=\"\",\"\",IF('Arrear Sheet'!C58=\"TOTAL\",\"\",'Arrear Sheet'!J58))","v":54432},{"$f":"IF(B58=\"\",\"\",IF('Arrear Sheet'!C58=\"TOTAL\",\"\",'Arrear Sheet'!K58))","v":9720},{"$f":"IF(B58=\"\",\"\",IF('Arrear Sheet'!D58=\"TOTAL\",\"\",'Arrear Sheet'!L58))","v":21600},{"$f":"IF(B58=\"\",\"\",IF('Arrear Sheet'!C58=\"TOTAL\",\"\",SUM(H58:K58)))","v":193752},{"$f":"IF(B58=\"\",\"\",IF('Arrear Sheet'!C58=\"TOTAL\",\"\",'Arrear Sheet'!N58))","v":5800},{"$f":"IF(B58=\"\",\"\",IF('Arrear Sheet'!C58=\"TOTAL\",\"\",'Arrear Sheet'!O58))","v":2923},{"$f":"IF(B58=\"\",\"\",IF('Arrear Sheet'!C58=\"TOTAL\",\"\",'Arrear Sheet'!P58))","v":522},{"$f":"IF(B58=\"\",\"\",IF('Arrear Sheet'!D58=\"TOTAL\",\"\",'Arrear Sheet'!Q58))","v":1160},{"$f":"IF(B58=\"\",\"\",IF('Arrear Sheet'!C58=\"TOTAL\",\"\",SUM(M58:P58)))","v":10405},{"$f":"IF(B58=\"\",\"\",IF('Arrear Sheet'!C58=\"TOTAL\",\"\",'Arrear Sheet'!S58))","v":2100},{"$f":"IF(B58=\"\",\"\",IF('Arrear Sheet'!C58=\"TOTAL\",\"\",'Arrear Sheet'!T58))","v":2100},{"$f":"IF(B58=\"\",\"\",IF('Arrear Sheet'!C58=\"TOTAL\",\"\",'Arrear Sheet'!U58))","v":0},{"$f":"IF(B58=\"\",\"\",IF('Arrear Sheet'!C58=\"TOTAL\",\"\",'Arrear Sheet'!V58))","v":2100},{"$f":"IF(B58=\"\",\"\",IF('Arrear Sheet'!C58=\"TOTAL\",\"\",'Arrear Sheet'!W58))","v":2100},{"$f":"IF(B58=\"\",\"\",IF('Arrear Sheet'!C58=\"TOTAL\",\"\",'Arrear Sheet'!X58))","v":0},{"$f":"IF(B58=\"\",\"\",IF('Arrear Sheet'!C58=\"TOTAL\",\"\",'Arrear Sheet'!AB58))","v":""},{"$f":"IF(B58=\"\",\"\",IF('Arrear Sheet'!D58=\"TOTAL\",\"\",'Arrear Sheet'!AC58))","v":""},{"$f":"IF(B58=\"\",\"\",IF('Arrear Sheet'!E58=\"TOTAL\",\"\",'Arrear Sheet'!AD58))","v":""},{"$f":"IF(B58=\"\",\"\",IF('Arrear Sheet'!C58=\"TOTAL\",\"\",'Arrear Sheet'!Y58))","v":875},{"$f":"IF(B58=\"\",\"\",IF('Arrear Sheet'!C58=\"TOTAL\",\"\",'Arrear Sheet'!Z58))","v":875},{"$f":"IF(B58=\"\",\"\",IF('Arrear Sheet'!C58=\"TOTAL\",\"\",'Arrear Sheet'!AA58))","v":0},{"$f":"IF(B58=\"\",\"\",IF('Arrear Sheet'!C58=\"TOTAL\",\"\",'Arrear Sheet'!AE58))","v":""},{"$f":"IF(B58=\"\",\"\",IF('Arrear Sheet'!C58=\"TOTAL\",\"\",'Arrear Sheet'!AF58))","v":0},{"$f":"IF(B58=\"\",\"\",'Arrear Sheet'!AG58)","v":0},{"$f":"IFERROR(IF(B58=\"\",\"\",IF('Arrear Sheet'!C58=\"TOTAL\",\"\",SUM(Q58-AF58))),\"\")","v":10405}]
[{"$f":"IF('Arrear Sheet'!B59=\"\",\"\",'Arrear Sheet'!B59)","v":52},{"$f":"IF('Arrear Sheet'!C59=\"\",\"\",IF('Arrear Sheet'!C59=\"TOTAL\",\"\",'Arrear Sheet'!C59))","v":"2023-07-01"},{"$f":"IF('Arrear Sheet'!D59=\"\",\"\",IF('Arrear Sheet'!C59=\"TOTAL\",\"\",IF('Arrear Sheet'!D59=\"अक्षरें राशि :-\",\"\",'Arrear Sheet'!D59)))","v":117200},{"$f":"IF('Arrear Sheet'!E59=\"\",\"\",IF('Arrear Sheet'!C59=\"TOTAL\",\"\",'Arrear Sheet'!E59))","v":59069},{"$f":"IF(B59=\"\",\"\",IF('Arrear Sheet'!D59=\"TOTAL\",\"\",'Arrear Sheet'!F59))","v":10548},{"$f":"IF(B59=\"\",\"\",IF('Arrear Sheet'!E59=\"TOTAL\",\"\",'Arrear Sheet'!G59))","v":23440},{"$f":"IF(B59=\"\",\"\",IF('Arrear Sheet'!C59=\"TOTAL\",\"\",SUM(C59:F59)))","v":210257},{"$f":"IF(B59=\"\",\"\",IF('Arrear Sheet'!C59=\"TOTAL\",\"\",'Arrear Sheet'!I59))","v":111200},{"$f":"IF(B59=\"\",\"\",IF('Arrear Sheet'!C59=\"TOTAL\",\"\",'Arrear Sheet'!J59))","v":56045},{"$f":"IF(B59=\"\",\"\",IF('Arrear Sheet'!C59=\"TOTAL\",\"\",'Arrear Sheet'!K59))","v":10008},{"$f":"IF(B59=\"\",\"\",IF('Arrear Sheet'!D59=\"TOTAL\",\"\",'Arrear Sheet'!L59))","v":22240},{"$f":"IF(B59=\"\",\"\",IF('Arrear Sheet'!C59=\"TOTAL\",\"\",SUM(H59:K59)))","v":199493},{"$f":"IF(B59=\"\",\"\",IF('Arrear Sheet'!C59=\"TOTAL\",\"\",'Arrear Sheet'!N59))","v":6000},{"$f":"IF(B59=\"\",\"\",IF('Arrear Sheet'!C59=\"TOTAL\",\"\",'Arrear Sheet'!O59))","v":3024},{"$f":"IF(B59=\"\",\"\",IF('Arrear Sheet'!C59=\"TOTAL\",\"\",'Arrear Sheet'!P59))","v":540},{"$f":"IF(B59=\"\",\"\",IF('Arrear Sheet'!D59=\"TOTAL\",\"\",'Arrear Sheet'!Q59))","v":1200},{"$f":"IF(B59=\"\",\"\",IF('Arrear Sheet'!C59=\"TOTAL\",\"\",SUM(M59:P59)))","v":10764},{"$f":"IF(B59=\"\",\"\",IF('Arrear Sheet'!C59=\"TOTAL\",\"\",'Arrear Sheet'!S59))","v":2100},{"$f":"IF(B59=\"\",\"\",IF('Arrear Sheet'!C59=\"TOTAL\",\"\",'Arrear Sheet'!T59))","v":2100},{"$f":"IF(B59=\"\",\"\",IF('Arrear Sheet'!C59=\"TOTAL\",\"\",'Arrear Sheet'!U59))","v":0},{"$f":"IF(B59=\"\",\"\",IF('Arrear Sheet'!C59=\"TOTAL\",\"\",'Arrear Sheet'!V59))","v":2100},{"$f":"IF(B59=\"\",\"\",IF('Arrear Sheet'!C59=\"TOTAL\",\"\",'Arrear Sheet'!W59))","v":2100},{"$f":"IF(B59=\"\",\"\",IF('Arrear Sheet'!C59=\"TOTAL\",\"\",'Arrear Sheet'!X59))","v":0},{"$f":"IF(B59=\"\",\"\",IF('Arrear Sheet'!C59=\"TOTAL\",\"\",'Arrear Sheet'!AB59))","v":""},{"$f":"IF(B59=\"\",\"\",IF('Arrear Sheet'!D59=\"TOTAL\",\"\",'Arrear Sheet'!AC59))","v":""},{"$f":"IF(B59=\"\",\"\",IF('Arrear Sheet'!E59=\"TOTAL\",\"\",'Arrear Sheet'!AD59))","v":""},{"$f":"IF(B59=\"\",\"\",IF('Arrear Sheet'!C59=\"TOTAL\",\"\",'Arrear Sheet'!Y59))","v":875},{"$f":"IF(B59=\"\",\"\",IF('Arrear Sheet'!C59=\"TOTAL\",\"\",'Arrear Sheet'!Z59))","v":875},{"$f":"IF(B59=\"\",\"\",IF('Arrear Sheet'!C59=\"TOTAL\",\"\",'Arrear Sheet'!AA59))","v":0},{"$f":"IF(B59=\"\",\"\",IF('Arrear Sheet'!C59=\"TOTAL\",\"\",'Arrear Sheet'!AE59))","v":""},{"$f":"IF(B59=\"\",\"\",IF('Arrear Sheet'!C59=\"TOTAL\",\"\",'Arrear Sheet'!AF59))","v":0},{"$f":"IF(B59=\"\",\"\",'Arrear Sheet'!AG59)","v":0},{"$f":"IFERROR(IF(B59=\"\",\"\",IF('Arrear Sheet'!C59=\"TOTAL\",\"\",SUM(Q59-AF59))),\"\")","v":10764}]
[{"$f":"IF('Arrear Sheet'!B60=\"\",\"\",'Arrear Sheet'!B60)","v":53},{"$f":"IF('Arrear Sheet'!C60=\"\",\"\",IF('Arrear Sheet'!C60=\"TOTAL\",\"\",'Arrear Sheet'!C60))","v":"2023-08-01"},{"$f":"IF('Arrear Sheet'!D60=\"\",\"\",IF('Arrear Sheet'!C60=\"TOTAL\",\"\",IF('Arrear Sheet'!D60=\"अक्षरें राशि :-\",\"\",'Arrear Sheet'!D60)))","v":117200},{"$f":"IF('Arrear Sheet'!E60=\"\",\"\",IF('Arrear Sheet'!C60=\"TOTAL\",\"\",'Arrear Sheet'!E60))","v":59069},{"$f":"IF(B60=\"\",\"\",IF('Arrear Sheet'!D60=\"TOTAL\",\"\",'Arrear Sheet'!F60))","v":10548},{"$f":"IF(B60=\"\",\"\",IF('Arrear Sheet'!E60=\"TOTAL\",\"\",'Arrear Sheet'!G60))","v":23440},{"$f":"IF(B60=\"\",\"\",IF('Arrear Sheet'!C60=\"TOTAL\",\"\",SUM(C60:F60)))","v":210257},{"$f":"IF(B60=\"\",\"\",IF('Arrear Sheet'!C60=\"TOTAL\",\"\",'Arrear Sheet'!I60))","v":111200},{"$f":"IF(B60=\"\",\"\",IF('Arrear Sheet'!C60=\"TOTAL\",\"\",'Arrear Sheet'!J60))","v":56045},{"$f":"IF(B60=\"\",\"\",IF('Arrear Sheet'!C60=\"TOTAL\",\"\",'Arrear Sheet'!K60))","v":10008},{"$f":"IF(B60=\"\",\"\",IF('Arrear Sheet'!D60=\"TOTAL\",\"\",'Arrear Sheet'!L60))","v":22240},{"$f":"IF(B60=\"\",\"\",IF('Arrear Sheet'!C60=\"TOTAL\",\"\",SUM(H60:K60)))","v":199493},{"$f":"IF(B60=\"\",\"\",IF('Arrear Sheet'!C60=\"TOTAL\",\"\",'Arrear Sheet'!N60))","v":6000},{"$f":"IF(B60=\"\",\"\",IF('Arrear Sheet'!C60=\"TOTAL\",\"\",'Arrear Sheet'!O60))","v":3024},{"$f":"IF(B60=\"\",\"\",IF('Arrear Sheet'!C60=\"TOTAL\",\"\",'Arrear Sheet'!P60))","v":540},{"$f":"IF(B60=\"\",\"\",IF('Arrear Sheet'!D60=\"TOTAL\",\"\",'Arrear Sheet'!Q60))","v":1200},{"$f":"IF(B60=\"\",\"\",IF('Arrear Sheet'!C60=\"TOTAL\",\"\",SUM(M60:P60)))","v":10764},{"$f":"IF(B60=\"\",\"\",IF('Arrear Sheet'!C60=\"TOTAL\",\"\",'Arrear Sheet'!S60))","v":2100},{"$f":"IF(B60=\"\",\"\",IF('Arrear Sheet'!C60=\"TOTAL\",\"\",'Arrear Sheet'!T60))","v":2100},{"$f":"IF(B60=\"\",\"\",IF('Arrear Sheet'!C60=\"TOTAL\",\"\",'Arrear Sheet'!U60))","v":0},{"$f":"IF(B60=\"\",\"\",IF('Arrear Sheet'!C60=\"TOTAL\",\"\",'Arrear Sheet'!V60))","v":2100},{"$f":"IF(B60=\"\",\"\",IF('Arrear Sheet'!C60=\"TOTAL\",\"\",'Arrear Sheet'!W60))","v":2100},{"$f":"IF(B60=\"\",\"\",IF('Arrear Sheet'!C60=\"TOTAL\",\"\",'Arrear Sheet'!X60))","v":0},{"$f":"IF(B60=\"\",\"\",IF('Arrear Sheet'!C60=\"TOTAL\",\"\",'Arrear Sheet'!AB60))","v":""},{"$f":"IF(B60=\"\",\"\",IF('Arrear Sheet'!D60=\"TOTAL\",\"\",'Arrear Sheet'!AC60))","v":""},{"$f":"IF(B60=\"\",\"\",IF('Arrear Sheet'!E60=\"TOTAL\",\"\",'Arrear Sheet'!AD60))","v":""},{"$f":"IF(B60=\"\",\"\",IF('Arrear Sheet'!C60=\"TOTAL\",\"\",'Arrear Sheet'!Y60))","v":875},{"$f":"IF(B60=\"\",\"\",IF('Arrear Sheet'!C60=\"TOTAL\",\"\",'Arrear Sheet'!Z60))","v":875},{"$f":"IF(B60=\"\",\"\",IF('Arrear Sheet'!C60=\"TOTAL\",\"\",'Arrear Sheet'!AA60))","v":0},{"$f":"IF(B60=\"\",\"\",IF('Arrear Sheet'!C60=\"TOTAL\",\"\",'Arrear Sheet'!AE60))","v":""},{"$f":"IF(B60=\"\",\"\",IF('Arrear Sheet'!C60=\"TOTAL\",\"\",'Arrear Sheet'!AF60))","v":0},{"$f":"IF(B60=\"\",\"\",'Arrear Sheet'!AG60)","v":0},{"$f":"IFERROR(IF(B60=\"\",\"\",IF('Arrear Sheet'!C60=\"TOTAL\",\"\",SUM(Q60-AF60))),\"\")","v":10764}]
[{"$f":"IF('Arrear Sheet'!B61=\"\",\"\",'Arrear Sheet'!B61)","v":54},{"$f":"IF('Arrear Sheet'!C61=\"\",\"\",IF('Arrear Sheet'!C61=\"TOTAL\",\"\",'Arrear Sheet'!C61))","v":"2023-09-01"},{"$f":"IF('Arrear Sheet'!D61=\"\",\"\",IF('Arrear Sheet'!C61=\"TOTAL\",\"\",IF('Arrear Sheet'!D61=\"अक्षरें राशि :-\",\"\",'Arrear Sheet'!D61)))","v":117200},{"$f":"IF('Arrear Sheet'!E61=\"\",\"\",IF('Arrear Sheet'!C61=\"TOTAL\",\"\",'Arrear Sheet'!E61))","v":59069},{"$f":"IF(B61=\"\",\"\",IF('Arrear Sheet'!D61=\"TOTAL\",\"\",'Arrear Sheet'!F61))","v":10548},{"$f":"IF(B61=\"\",\"\",IF('Arrear Sheet'!E61=\"TOTAL\",\"\",'Arrear Sheet'!G61))","v":23440},{"$f":"IF(B61=\"\",\"\",IF('Arrear Sheet'!C61=\"TOTAL\",\"\",SUM(C61:F61)))","v":210257},{"$f":"IF(B61=\"\",\"\",IF('Arrear Sheet'!C61=\"TOTAL\",\"\",'Arrear Sheet'!I61))","v":111200},{"$f":"IF(B61=\"\",\"\",IF('Arrear Sheet'!C61=\"TOTAL\",\"\",'Arrear Sheet'!J61))","v":56045},{"$f":"IF(B61=\"\",\"\",IF('Arrear Sheet'!C61=\"TOTAL\",\"\",'Arrear Sheet'!K61))","v":10008},{"$f":"IF(B61=\"\",\"\",IF('Arrear Sheet'!D61=\"TOTAL\",\"\",'Arrear Sheet'!L61))","v":22240},{"$f":"IF(B61=\"\",\"\",IF('Arrear Sheet'!C61=\"TOTAL\",\"\",SUM(H61:K61)))","v":199493},{"$f":"IF(B61=\"\",\"\",IF('Arrear Sheet'!C61=\"TOTAL\",\"\",'Arrear Sheet'!N61))","v":6000},{"$f":"IF(B61=\"\",\"\",IF('Arrear Sheet'!C61=\"TOTAL\",\"\",'Arrear Sheet'!O61))","v":3024},{"$f":"IF(B61=\"\",\"\",IF('Arrear Sheet'!C61=\"TOTAL\",\"\",'Arrear Sheet'!P61))","v":540},{"$f":"IF(B61=\"\",\"\",IF('Arrear Sheet'!D61=\"TOTAL\",\"\",'Arrear Sheet'!Q61))","v":1200},{"$f":"IF(B61=\"\",\"\",IF('Arrear Sheet'!C61=\"TOTAL\",\"\",SUM(M61:P61)))","v":10764},{"$f":"IF(B61=\"\",\"\",IF('Arrear Sheet'!C61=\"TOTAL\",\"\",'Arrear Sheet'!S61))","v":2100},{"$f":"IF(B61=\"\",\"\",IF('Arrear Sheet'!C61=\"TOTAL\",\"\",'Arrear Sheet'!T61))","v":2100},{"$f":"IF(B61=\"\",\"\",IF('Arrear Sheet'!C61=\"TOTAL\",\"\",'Arrear Sheet'!U61))","v":0},{"$f":"IF(B61=\"\",\"\",IF('Arrear Sheet'!C61=\"TOTAL\",\"\",'Arrear Sheet'!V61))","v":2100},{"$f":"IF(B61=\"\",\"\",IF('Arrear Sheet'!C61=\"TOTAL\",\"\",'Arrear Sheet'!W61))","v":2100},{"$f":"IF(B61=\"\",\"\",IF('Arrear Sheet'!C61=\"TOTAL\",\"\",'Arrear Sheet'!X61))","v":0},{"$f":"IF(B61=\"\",\"\",IF('Arrear Sheet'!C61=\"TOTAL\",\"\",'Arrear Sheet'!AB61))","v":""},{"$f":"IF(B61=\"\",\"\",IF('Arrear Sheet'!D61=\"TOTAL\",\"\",'Arrear Sheet'!AC61))","v":""},{"$f":"IF(B61=\"\",\"\",IF('Arrear Sheet'!E61=\"TOTAL\",\"\",'Arrear Sheet'!AD61))","v":""},{"$f":"IF(B61=\"\",\"\",IF('Arrear Sheet'!C61=\"TOTAL\",\"\",'Arrear Sheet'!Y61))","v":875},{"$f":"IF(B61=\"\",\"\",IF('Arrear Sheet'!C61=\"TOTAL\",\"\",'Arrear Sheet'!Z61))","v":875},{"$f":"IF(B61=\"\",\"\",IF('Arrear Sheet'!C61=\"TOTAL\",\"\",'Arrear Sheet'!AA61))","v":0},{"$f":"IF(B61=\"\",\"\",IF('Arrear Sheet'!C61=\"TOTAL\",\"\",'Arrear Sheet'!AE61))","v":""},{"$f":"IF(B61=\"\",\"\",IF('Arrear Sheet'!C61=\"TOTAL\",\"\",'Arrear Sheet'!AF61))","v":0},{"$f":"IF(B61=\"\",\"\",'Arrear Sheet'!AG61)","v":0},{"$f":"IFERROR(IF(B61=\"\",\"\",IF('Arrear Sheet'!C61=\"TOTAL\",\"\",SUM(Q61-AF61))),\"\")","v":10764}]
[{"$f":"IF('Arrear Sheet'!B62=\"\",\"\",'Arrear Sheet'!B62)","v":55},{"$f":"IF('Arrear Sheet'!C62=\"\",\"\",IF('Arrear Sheet'!C62=\"TOTAL\",\"\",'Arrear Sheet'!C62))","v":"2023-10-01"},{"$f":"IF('Arrear Sheet'!D62=\"\",\"\",IF('Arrear Sheet'!C62=\"TOTAL\",\"\",IF('Arrear Sheet'!D62=\"अक्षरें राशि :-\",\"\",'Arrear Sheet'!D62)))","v":117200},{"$f":"IF('Arrear Sheet'!E62=\"\",\"\",IF('Arrear Sheet'!C62=\"TOTAL\",\"\",'Arrear Sheet'!E62))","v":59069},{"$f":"IF(B62=\"\",\"\",IF('Arrear Sheet'!D62=\"TOTAL\",\"\",'Arrear Sheet'!F62))","v":10548},{"$f":"IF(B62=\"\",\"\",IF('Arrear Sheet'!E62=\"TOTAL\",\"\",'Arrear Sheet'!G62))","v":23440},{"$f":"IF(B62=\"\",\"\",IF('Arrear Sheet'!C62=\"TOTAL\",\"\",SUM(C62:F62)))","v":210257},{"$f":"IF(B62=\"\",\"\",IF('Arrear Sheet'!C62=\"TOTAL\",\"\",'Arrear Sheet'!I62))","v":111200},{"$f":"IF(B62=\"\",\"\",IF('Arrear Sheet'!C62=\"TOTAL\",\"\",'Arrear Sheet'!J62))","v":56045},{"$f":"IF(B62=\"\",\"\",IF('Arrear Sheet'!C62=\"TOTAL\",\"\",'Arrear Sheet'!K62))","v":10008},{"$f":"IF(B62=\"\",\"\",IF('Arrear Sheet'!D62=\"TOTAL\",\"\",'Arrear Sheet'!L62))","v":22240},{"$f":"IF(B62=\"\",\"\",IF('Arrear Sheet'!C62=\"TOTAL\",\"\",SUM(H62:K62)))","v":199493},{"$f":"IF(B62=\"\",\"\",IF('Arrear Sheet'!C62=\"TOTAL\",\"\",'Arrear Sheet'!N62))","v":6000},{"$f":"IF(B62=\"\",\"\",IF('Arrear Sheet'!C62=\"TOTAL\",\"\",'Arrear Sheet'!O62))","v":3024},{"$f":"IF(B62=\"\",\"\",IF('Arrear Sheet'!C62=\"TOTAL\",\"\",'Arrear Sheet'!P62))","v":540},{"$f":"IF(B62=\"\",\"\",IF('Arrear Sheet'!D62=\"TOTAL\",\"\",'Arrear Sheet'!Q62))","v":1200},{"$f":"IF(B62=\"\",\"\",IF('Arrear Sheet'!C62=\"TOTAL\",\"\",SUM(M62:P62)))","v":10764},{"$f":"IF(B62=\"\",\"\",IF('Arrear Sheet'!C62=\"TOTAL\",\"\",'Arrear Sheet'!S62))","v":2100},{"$f":"IF(B62=\"\",\"\",IF('Arrear Sheet'!C62=\"TOTAL\",\"\",'Arrear Sheet'!T62))","v":2100},{"$f":"IF(B62=\"\",\"\",IF('Arrear Sheet'!C62=\"TOTAL\",\"\",'Arrear Sheet'!U62))","v":0},{"$f":"IF(B62=\"\",\"\",IF('Arrear Sheet'!C62=\"TOTAL\",\"\",'Arrear Sheet'!V62))","v":2100},{"$f":"IF(B62=\"\",\"\",IF('Arrear Sheet'!C62=\"TOTAL\",\"\",'Arrear Sheet'!W62))","v":2100},{"$f":"IF(B62=\"\",\"\",IF('Arrear Sheet'!C62=\"TOTAL\",\"\",'Arrear Sheet'!X62))","v":0},{"$f":"IF(B62=\"\",\"\",IF('Arrear Sheet'!C62=\"TOTAL\",\"\",'Arrear Sheet'!AB62))","v":""},{"$f":"IF(B62=\"\",\"\",IF('Arrear Sheet'!D62=\"TOTAL\",\"\",'Arrear Sheet'!AC62))","v":""},{"$f":"IF(B62=\"\",\"\",IF('Arrear Sheet'!E62=\"TOTAL\",\"\",'Arrear Sheet'!AD62))","v":""},{"$f":"IF(B62=\"\",\"\",IF('Arrear Sheet'!C62=\"TOTAL\",\"\",'Arrear Sheet'!Y62))","v":875},{"$f":"IF(B62=\"\",\"\",IF('Arrear Sheet'!C62=\"TOTAL\",\"\",'Arrear Sheet'!Z62))","v":875},{"$f":"IF(B62=\"\",\"\",IF('Arrear Sheet'!C62=\"TOTAL\",\"\",'Arrear Sheet'!AA62))","v":0},{"$f":"IF(B62=\"\",\"\",IF('Arrear Sheet'!C62=\"TOTAL\",\"\",'Arrear Sheet'!AE62))","v":""},{"$f":"IF(B62=\"\",\"\",IF('Arrear Sheet'!C62=\"TOTAL\",\"\",'Arrear Sheet'!AF62))","v":0},{"$f":"IF(B62=\"\",\"\",'Arrear Sheet'!AG62)","v":0},{"$f":"IFERROR(IF(B62=\"\",\"\",IF('Arrear Sheet'!C62=\"TOTAL\",\"\",SUM(Q62-AF62))),\"\")","v":10764}]
[{"$f":"IF('Arrear Sheet'!B63=\"\",\"\",'Arrear Sheet'!B63)","v":56},{"$f":"IF('Arrear Sheet'!C63=\"\",\"\",IF('Arrear Sheet'!C63=\"TOTAL\",\"\",'Arrear Sheet'!C63))","v":"2023-11-01"},{"$f":"IF('Arrear Sheet'!D63=\"\",\"\",IF('Arrear Sheet'!C63=\"TOTAL\",\"\",IF('Arrear Sheet'!D63=\"अक्षरें राशि :-\",\"\",'Arrear Sheet'!D63)))","v":117200},{"$f":"IF('Arrear Sheet'!E63=\"\",\"\",IF('Arrear Sheet'!C63=\"TOTAL\",\"\",'Arrear Sheet'!E63))","v":59069},{"$f":"IF(B63=\"\",\"\",IF('Arrear Sheet'!D63=\"TOTAL\",\"\",'Arrear Sheet'!F63))","v":10548},{"$f":"IF(B63=\"\",\"\",IF('Arrear Sheet'!E63=\"TOTAL\",\"\",'Arrear Sheet'!G63))","v":23440},{"$f":"IF(B63=\"\",\"\",IF('Arrear Sheet'!C63=\"TOTAL\",\"\",SUM(C63:F63)))","v":210257},{"$f":"IF(B63=\"\",\"\",IF('Arrear Sheet'!C63=\"TOTAL\",\"\",'Arrear Sheet'!I63))","v":111200},{"$f":"IF(B63=\"\",\"\",IF('Arrear Sheet'!C63=\"TOTAL\",\"\",'Arrear Sheet'!J63))","v":56045},{"$f":"IF(B63=\"\",\"\",IF('Arrear Sheet'!C63=\"TOTAL\",\"\",'Arrear Sheet'!K63))","v":10008},{"$f":"IF(B63=\"\",\"\",IF('Arrear Sheet'!D63=\"TOTAL\",\"\",'Arrear Sheet'!L63))","v":22240},{"$f":"IF(B63=\"\",\"\",IF('Arrear Sheet'!C63=\"TOTAL\",\"\",SUM(H63:K63)))","v":199493},{"$f":"IF(B63=\"\",\"\",IF('Arrear Sheet'!C63=\"TOTAL\",\"\",'Arrear Sheet'!N63))","v":6000},{"$f":"IF(B63=\"\",\"\",IF('Arrear Sheet'!C63=\"TOTAL\",\"\",'Arrear Sheet'!O63))","v":3024},{"$f":"IF(B63=\"\",\"\",IF('Arrear Sheet'!C63=\"TOTAL\",\"\",'Arrear Sheet'!P63))","v":540},{"$f":"IF(B63=\"\",\"\",IF('Arrear Sheet'!D63=\"TOTAL\",\"\",'Arrear Sheet'!Q63))","v":1200},{"$f":"IF(B63=\"\",\"\",IF('Arrear Sheet'!C63=\"TOTAL\",\"\",SUM(M63:P63)))","v":10764},{"$f":"IF(B63=\"\",\"\",IF('Arrear Sheet'!C63=\"TOTAL\",\"\",'Arrear Sheet'!S63))","v":2100},{"$f":"IF(B63=\"\",\"\",IF('Arrear Sheet'!C63=\"TOTAL\",\"\",'Arrear Sheet'!T63))","v":2100},{"$f":"IF(B63=\"\",\"\",IF('Arrear Sheet'!C63=\"TOTAL\",\"\",'Arrear Sheet'!U63))","v":0},{"$f":"IF(B63=\"\",\"\",IF('Arrear Sheet'!C63=\"TOTAL\",\"\",'Arrear Sheet'!V63))","v":2100},{"$f":"IF(B63=\"\",\"\",IF('Arrear Sheet'!C63=\"TOTAL\",\"\",'Arrear Sheet'!W63))","v":2100},{"$f":"IF(B63=\"\",\"\",IF('Arrear Sheet'!C63=\"TOTAL\",\"\",'Arrear Sheet'!X63))","v":0},{"$f":"IF(B63=\"\",\"\",IF('Arrear Sheet'!C63=\"TOTAL\",\"\",'Arrear Sheet'!AB63))","v":""},{"$f":"IF(B63=\"\",\"\",IF('Arrear Sheet'!D63=\"TOTAL\",\"\",'Arrear Sheet'!AC63))","v":""},{"$f":"IF(B63=\"\",\"\",IF('Arrear Sheet'!E63=\"TOTAL\",\"\",'Arrear Sheet'!AD63))","v":""},{"$f":"IF(B63=\"\",\"\",IF('Arrear Sheet'!C63=\"TOTAL\",\"\",'Arrear Sheet'!Y63))","v":875},{"$f":"IF(B63=\"\",\"\",IF('Arrear Sheet'!C63=\"TOTAL\",\"\",'Arrear Sheet'!Z63))","v":875},{"$f":"IF(B63=\"\",\"\",IF('Arrear Sheet'!C63=\"TOTAL\",\"\",'Arrear Sheet'!AA63))","v":0},{"$f":"IF(B63=\"\",\"\",IF('Arrear Sheet'!C63=\"TOTAL\",\"\",'Arrear Sheet'!AE63))","v":""},{"$f":"IF(B63=\"\",\"\",IF('Arrear Sheet'!C63=\"TOTAL\",\"\",'Arrear Sheet'!AF63))","v":0},{"$f":"IF(B63=\"\",\"\",'Arrear Sheet'!AG63)","v":0},{"$f":"IFERROR(IF(B63=\"\",\"\",IF('Arrear Sheet'!C63=\"TOTAL\",\"\",SUM(Q63-AF63))),\"\")","v":10764}]
[{"$f":"IF('Arrear Sheet'!B64=\"\",\"\",'Arrear Sheet'!B64)","v":""},{"$f":"IF('Arrear Sheet'!C64=\"\",\"\",IF('Arrear Sheet'!C64=\"TOTAL\",\"\",'Arrear Sheet'!C64))","v":""},{"$f":"IF('Arrear Sheet'!D64=\"\",\"\",IF('Arrear Sheet'!C64=\"TOTAL\",\"\",IF('Arrear Sheet'!D64=\"अक्षरें राशि :-\",\"\",'Arrear Sheet'!D64)))","v":""},{"$f":"IF('Arrear Sheet'!E64=\"\",\"\",IF('Arrear Sheet'!C64=\"TOTAL\",\"\",'Arrear Sheet'!E64))","v":""},{"$f":"IF(B64=\"\",\"\",IF('Arrear Sheet'!D64=\"TOTAL\",\"\",'Arrear Sheet'!F64))","v":""},{"$f":"IF(B64=\"\",\"\",IF('Arrear Sheet'!E64=\"TOTAL\",\"\",'Arrear Sheet'!G64))","v":""},{"$f":"IF(B64=\"\",\"\",IF('Arrear Sheet'!C64=\"TOTAL\",\"\",SUM(C64:F64)))","v":""},{"$f":"IF(B64=\"\",\"\",IF('Arrear Sheet'!C64=\"TOTAL\",\"\",'Arrear Sheet'!I64))","v":""},{"$f":"IF(B64=\"\",\"\",IF('Arrear Sheet'!C64=\"TOTAL\",\"\",'Arrear Sheet'!J64))","v":""},{"$f":"IF(B64=\"\",\"\",IF('Arrear Sheet'!C64=\"TOTAL\",\"\",'Arrear Sheet'!K64))","v":""},{"$f":"IF(B64=\"\",\"\",IF('Arrear Sheet'!D64=\"TOTAL\",\"\",'Arrear Sheet'!L64))","v":""},{"$f":"IF(B64=\"\",\"\",IF('Arrear Sheet'!C64=\"TOTAL\",\"\",SUM(H64:K64)))","v":""},{"$f":"IF(B64=\"\",\"\",IF('Arrear Sheet'!C64=\"TOTAL\",\"\",'Arrear Sheet'!N64))","v":""},{"$f":"IF(B64=\"\",\"\",IF('Arrear Sheet'!C64=\"TOTAL\",\"\",'Arrear Sheet'!O64))","v":""},{"$f":"IF(B64=\"\",\"\",IF('Arrear Sheet'!C64=\"TOTAL\",\"\",'Arrear Sheet'!P64))","v":""},{"$f":"IF(B64=\"\",\"\",IF('Arrear Sheet'!D64=\"TOTAL\",\"\",'Arrear Sheet'!Q64))","v":""},{"$f":"IF(B64=\"\",\"\",IF('Arrear Sheet'!C64=\"TOTAL\",\"\",SUM(M64:P64)))","v":""},{"$f":"IF(B64=\"\",\"\",IF('Arrear Sheet'!C64=\"TOTAL\",\"\",'Arrear Sheet'!S64))","v":""},{"$f":"IF(B64=\"\",\"\",IF('Arrear Sheet'!C64=\"TOTAL\",\"\",'Arrear Sheet'!T64))","v":""},{"$f":"IF(B64=\"\",\"\",IF('Arrear Sheet'!C64=\"TOTAL\",\"\",'Arrear Sheet'!U64))","v":""},{"$f":"IF(B64=\"\",\"\",IF('Arrear Sheet'!C64=\"TOTAL\",\"\",'Arrear Sheet'!V64))","v":""},{"$f":"IF(B64=\"\",\"\",IF('Arrear Sheet'!C64=\"TOTAL\",\"\",'Arrear Sheet'!W64))","v":""},{"$f":"IF(B64=\"\",\"\",IF('Arrear Sheet'!C64=\"TOTAL\",\"\",'Arrear Sheet'!X64))","v":""},{"$f":"IF(B64=\"\",\"\",IF('Arrear Sheet'!C64=\"TOTAL\",\"\",'Arrear Sheet'!AB64))","v":""},{"$f":"IF(B64=\"\",\"\",IF('Arrear Sheet'!D64=\"TOTAL\",\"\",'Arrear Sheet'!AC64))","v":""},{"$f":"IF(B64=\"\",\"\",IF('Arrear Sheet'!E64=\"TOTAL\",\"\",'Arrear Sheet'!AD64))","v":""},{"$f":"IF(B64=\"\",\"\",IF('Arrear Sheet'!C64=\"TOTAL\",\"\",'Arrear Sheet'!Y64))","v":""},{"$f":"IF(B64=\"\",\"\",IF('Arrear Sheet'!C64=\"TOTAL\",\"\",'Arrear Sheet'!Z64))","v":""},{"$f":"IF(B64=\"\",\"\",IF('Arrear Sheet'!C64=\"TOTAL\",\"\",'Arrear Sheet'!AA64))","v":""},{"$f":"IF(B64=\"\",\"\",IF('Arrear Sheet'!C64=\"TOTAL\",\"\",'Arrear Sheet'!AE64))","v":""},{"$f":"IF(B64=\"\",\"\",IF('Arrear Sheet'!C64=\"TOTAL\",\"\",'Arrear Sheet'!AF64))","v":""},{"$f":"IF(B64=\"\",\"\",'Arrear Sheet'!AG64)","v":""},{"$f":"IFERROR(IF(B64=\"\",\"\",IF('Arrear Sheet'!C64=\"TOTAL\",\"\",SUM(Q64-AF64))),\"\")","v":""}]
[{"$f":"IF('Arrear Sheet'!B65=\"\",\"\",'Arrear Sheet'!B65)","v":""},{"$f":"IF('Arrear Sheet'!C65=\"\",\"\",IF('Arrear Sheet'!C65=\"TOTAL\",\"\",'Arrear Sheet'!C65))","v":""},{"$f":"IF('Arrear Sheet'!D65=\"\",\"\",IF('Arrear Sheet'!C65=\"TOTAL\",\"\",IF('Arrear Sheet'!D65=\"अक्षरें राशि :-\",\"\",'Arrear Sheet'!D65)))","v":""},{"$f":"IF('Arrear Sheet'!E65=\"\",\"\",IF('Arrear Sheet'!C65=\"TOTAL\",\"\",'Arrear Sheet'!E65))","v":""},{"$f":"IF(B65=\"\",\"\",IF('Arrear Sheet'!D65=\"TOTAL\",\"\",'Arrear Sheet'!F65))","v":""},{"$f":"IF(B65=\"\",\"\",IF('Arrear Sheet'!E65=\"TOTAL\",\"\",'Arrear Sheet'!G65))","v":""},{"$f":"IF(B65=\"\",\"\",IF('Arrear Sheet'!C65=\"TOTAL\",\"\",SUM(C65:F65)))","v":""},{"$f":"IF(B65=\"\",\"\",IF('Arrear Sheet'!C65=\"TOTAL\",\"\",'Arrear Sheet'!I65))","v":""},{"$f":"IF(B65=\"\",\"\",IF('Arrear Sheet'!C65=\"TOTAL\",\"\",'Arrear Sheet'!J65))","v":""},{"$f":"IF(B65=\"\",\"\",IF('Arrear Sheet'!C65=\"TOTAL\",\"\",'Arrear Sheet'!K65))","v":""},{"$f":"IF(B65=\"\",\"\",IF('Arrear Sheet'!D65=\"TOTAL\",\"\",'Arrear Sheet'!L65))","v":""},{"$f":"IF(B65=\"\",\"\",IF('Arrear Sheet'!C65=\"TOTAL\",\"\",SUM(H65:K65)))","v":""},{"$f":"IF(B65=\"\",\"\",IF('Arrear Sheet'!C65=\"TOTAL\",\"\",'Arrear Sheet'!N65))","v":""},{"$f":"IF(B65=\"\",\"\",IF('Arrear Sheet'!C65=\"TOTAL\",\"\",'Arrear Sheet'!O65))","v":""},{"$f":"IF(B65=\"\",\"\",IF('Arrear Sheet'!C65=\"TOTAL\",\"\",'Arrear Sheet'!P65))","v":""},{"$f":"IF(B65=\"\",\"\",IF('Arrear Sheet'!D65=\"TOTAL\",\"\",'Arrear Sheet'!Q65))","v":""},{"$f":"IF(B65=\"\",\"\",IF('Arrear Sheet'!C65=\"TOTAL\",\"\",SUM(M65:P65)))","v":""},{"$f":"IF(B65=\"\",\"\",IF('Arrear Sheet'!C65=\"TOTAL\",\"\",'Arrear Sheet'!S65))","v":""},{"$f":"IF(B65=\"\",\"\",IF('Arrear Sheet'!C65=\"TOTAL\",\"\",'Arrear Sheet'!T65))","v":""},{"$f":"IF(B65=\"\",\"\",IF('Arrear Sheet'!C65=\"TOTAL\",\"\",'Arrear Sheet'!U65))","v":""},{"$f":"IF(B65=\"\",\"\",IF('Arrear Sheet'!C65=\"TOTAL\",\"\",'Arrear Sheet'!V65))","v":""},{"$f":"IF(B65=\"\",\"\",IF('Arrear Sheet'!C65=\"TOTAL\",\"\",'Arrear Sheet'!W65))","v":""},{"$f":"IF(B65=\"\",\"\",IF('Arrear Sheet'!C65=\"TOTAL\",\"\",'Arrear Sheet'!X65))","v":""},{"$f":"IF(B65=\"\",\"\",IF('Arrear Sheet'!C65=\"TOTAL\",\"\",'Arrear Sheet'!AB65))","v":""},{"$f":"IF(B65=\"\",\"\",IF('Arrear Sheet'!D65=\"TOTAL\",\"\",'Arrear Sheet'!AC65))","v":""},{"$f":"IF(B65=\"\",\"\",IF('Arrear Sheet'!E65=\"TOTAL\",\"\",'Arrear Sheet'!AD65))","v":""},{"$f":"IF(B65=\"\",\"\",IF('Arrear Sheet'!C65=\"TOTAL\",\"\",'Arrear Sheet'!Y65))","v":""},{"$f":"IF(B65=\"\",\"\",IF('Arrear Sheet'!C65=\"TOTAL\",\"\",'Arrear Sheet'!Z65))","v":""},{"$f":"IF(B65=\"\",\"\",IF('Arrear Sheet'!C65=\"TOTAL\",\"\",'Arrear Sheet'!AA65))","v":""},{"$f":"IF(B65=\"\",\"\",IF('Arrear Sheet'!C65=\"TOTAL\",\"\",'Arrear Sheet'!AE65))","v":""},{"$f":"IF(B65=\"\",\"\",IF('Arrear Sheet'!C65=\"TOTAL\",\"\",'Arrear Sheet'!AF65))","v":""},{"$f":"IF(B65=\"\",\"\",'Arrear Sheet'!AG65)","v":""},{"$f":"IFERROR(IF(B65=\"\",\"\",IF('Arrear Sheet'!C65=\"TOTAL\",\"\",SUM(Q65-AF65))),\"\")","v":""}]
[{"$f":"IF('Arrear Sheet'!B66=\"\",\"\",'Arrear Sheet'!B66)","v":""},{"$f":"IF('Arrear Sheet'!C66=\"\",\"\",IF('Arrear Sheet'!C66=\"TOTAL\",\"\",'Arrear Sheet'!C66))","v":""},{"$f":"IF('Arrear Sheet'!D66=\"\",\"\",IF('Arrear Sheet'!C66=\"TOTAL\",\"\",IF('Arrear Sheet'!D66=\"अक्षरें राशि :-\",\"\",'Arrear Sheet'!D66)))","v":""},{"$f":"IF('Arrear Sheet'!E66=\"\",\"\",IF('Arrear Sheet'!C66=\"TOTAL\",\"\",'Arrear Sheet'!E66))","v":""},{"$f":"IF(B66=\"\",\"\",IF('Arrear Sheet'!D66=\"TOTAL\",\"\",'Arrear Sheet'!F66))","v":""},{"$f":"IF(B66=\"\",\"\",IF('Arrear Sheet'!E66=\"TOTAL\",\"\",'Arrear Sheet'!G66))","v":""},{"$f":"IF(B66=\"\",\"\",IF('Arrear Sheet'!C66=\"TOTAL\",\"\",SUM(C66:F66)))","v":""},{"$f":"IF(B66=\"\",\"\",IF('Arrear Sheet'!C66=\"TOTAL\",\"\",'Arrear Sheet'!I66))","v":""},{"$f":"IF(B66=\"\",\"\",IF('Arrear Sheet'!C66=\"TOTAL\",\"\",'Arrear Sheet'!J66))","v":""},{"$f":"IF(B66=\"\",\"\",IF('Arrear Sheet'!C66=\"TOTAL\",\"\",'Arrear Sheet'!K66))","v":""},{"$f":"IF(B66=\"\",\"\",IF('Arrear Sheet'!D66=\"TOTAL\",\"\",'Arrear Sheet'!L66))","v":""},{"$f":"IF(B66=\"\",\"\",IF('Arrear Sheet'!C66=\"TOTAL\",\"\",SUM(H66:K66)))","v":""},{"$f":"IF(B66=\"\",\"\",IF('Arrear Sheet'!C66=\"TOTAL\",\"\",'Arrear Sheet'!N66))","v":""},{"$f":"IF(B66=\"\",\"\",IF('Arrear Sheet'!C66=\"TOTAL\",\"\",'Arrear Sheet'!O66))","v":""},{"$f":"IF(B66=\"\",\"\",IF('Arrear Sheet'!C66=\"TOTAL\",\"\",'Arrear Sheet'!P66))","v":""},{"$f":"IF(B66=\"\",\"\",IF('Arrear Sheet'!D66=\"TOTAL\",\"\",'Arrear Sheet'!Q66))","v":""},{"$f":"IF(B66=\"\",\"\",IF('Arrear Sheet'!C66=\"TOTAL\",\"\",SUM(M66:P66)))","v":""},{"$f":"IF(B66=\"\",\"\",IF('Arrear Sheet'!C66=\"TOTAL\",\"\",'Arrear Sheet'!S66))","v":""},{"$f":"IF(B66=\"\",\"\",IF('Arrear Sheet'!C66=\"TOTAL\",\"\",'Arrear Sheet'!T66))","v":""},{"$f":"IF(B66=\"\",\"\",IF('Arrear Sheet'!C66=\"TOTAL\",\"\",'Arrear Sheet'!U66))","v":""},{"$f":"IF(B66=\"\",\"\",IF('Arrear Sheet'!C66=\"TOTAL\",\"\",'Arrear Sheet'!V66))","v":""},{"$f":"IF(B66=\"\",\"\",IF('Arrear Sheet'!C66=\"TOTAL\",\"\",'Arrear Sheet'!W66))","v":""},{"$f":"IF(B66=\"\",\"\",IF('Arrear Sheet'!C66=\"TOTAL\",\"\",'Arrear Sheet'!X66))","v":""},{"$f":"IF(B66=\"\",\"\",IF('Arrear Sheet'!C66=\"TOTAL\",\"\",'Arrear Sheet'!AB66))","v":""},{"$f":"IF(B66=\"\",\"\",IF('Arrear Sheet'!D66=\"TOTAL\",\"\",'Arrear Sheet'!AC66))","v":""},{"$f":"IF(B66=\"\",\"\",IF('Arrear Sheet'!E66=\"TOTAL\",\"\",'Arrear Sheet'!AD66))","v":""},{"$f":"IF(B66=\"\",\"\",IF('Arrear Sheet'!C66=\"TOTAL\",\"\",'Arrear Sheet'!Y66))","v":""},{"$f":"IF(B66=\"\",\"\",IF('Arrear Sheet'!C66=\"TOTAL\",\"\",'Arrear Sheet'!Z66))","v":""},{"$f":"IF(B66=\"\",\"\",IF('Arrear Sheet'!C66=\"TOTAL\",\"\",'Arrear Sheet'!AA66))","v":""},{"$f":"IF(B66=\"\",\"\",IF('Arrear Sheet'!C66=\"TOTAL\",\"\",'Arrear Sheet'!AE66))","v":""},{"$f":"IF(B66=\"\",\"\",IF('Arrear Sheet'!C66=\"TOTAL\",\"\",'Arrear Sheet'!AF66))","v":""},{"$f":"IF(B66=\"\",\"\",'Arrear Sheet'!AG66)","v":""},{"$f":"IFERROR(IF(B66=\"\",\"\",IF('Arrear Sheet'!C66=\"TOTAL\",\"\",SUM(Q66-AF66))),\"\")","v":""}]
[{"$f":"IF('Arrear Sheet'!B67=\"\",\"\",'Arrear Sheet'!B67)","v":""},{"$f":"IF('Arrear Sheet'!C67=\"\",\"\",IF('Arrear Sheet'!C67=\"TOTAL\",\"\",'Arrear Sheet'!C67))","v":""},{"$f":"IF('Arrear Sheet'!D67=\"\",\"\",IF('Arrear Sheet'!C67=\"TOTAL\",\"\",IF('Arrear Sheet'!D67=\"अक्षरें राशि :-\",\"\",'Arrear Sheet'!D67)))","v":""},{"$f":"IF('Arrear Sheet'!E67=\"\",\"\",IF('Arrear Sheet'!C67=\"TOTAL\",\"\",'Arrear Sheet'!E67))","v":""},{"$f":"IF(B67=\"\",\"\",IF('Arrear Sheet'!D67=\"TOTAL\",\"\",'Arrear Sheet'!F67))","v":""},{"$f":"IF(B67=\"\",\"\",IF('Arrear Sheet'!E67=\"TOTAL\",\"\",'Arrear Sheet'!G67))","v":""},{"$f":"IF(B67=\"\",\"\",IF('Arrear Sheet'!C67=\"TOTAL\",\"\",SUM(C67:F67)))","v":""},{"$f":"IF(B67=\"\",\"\",IF('Arrear Sheet'!C67=\"TOTAL\",\"\",'Arrear Sheet'!I67))","v":""},{"$f":"IF(B67=\"\",\"\",IF('Arrear Sheet'!C67=\"TOTAL\",\"\",'Arrear Sheet'!J67))","v":""},{"$f":"IF(B67=\"\",\"\",IF('Arrear Sheet'!C67=\"TOTAL\",\"\",'Arrear Sheet'!K67))","v":""},{"$f":"IF(B67=\"\",\"\",IF('Arrear Sheet'!D67=\"TOTAL\",\"\",'Arrear Sheet'!L67))","v":""},{"$f":"IF(B67=\"\",\"\",IF('Arrear Sheet'!C67=\"TOTAL\",\"\",SUM(H67:K67)))","v":""},{"$f":"IF(B67=\"\",\"\",IF('Arrear Sheet'!C67=\"TOTAL\",\"\",'Arrear Sheet'!N67))","v":""},{"$f":"IF(B67=\"\",\"\",IF('Arrear Sheet'!C67=\"TOTAL\",\"\",'Arrear Sheet'!O67))","v":""},{"$f":"IF(B67=\"\",\"\",IF('Arrear Sheet'!C67=\"TOTAL\",\"\",'Arrear Sheet'!P67))","v":""},{"$f":"IF(B67=\"\",\"\",IF('Arrear Sheet'!D67=\"TOTAL\",\"\",'Arrear Sheet'!Q67))","v":""},{"$f":"IF(B67=\"\",\"\",IF('Arrear Sheet'!C67=\"TOTAL\",\"\",SUM(M67:P67)))","v":""},{"$f":"IF(B67=\"\",\"\",IF('Arrear Sheet'!C67=\"TOTAL\",\"\",'Arrear Sheet'!S67))","v":""},{"$f":"IF(B67=\"\",\"\",IF('Arrear Sheet'!C67=\"TOTAL\",\"\",'Arrear Sheet'!T67))","v":""},{"$f":"IF(B67=\"\",\"\",IF('Arrear Sheet'!C67=\"TOTAL\",\"\",'Arrear Sheet'!U67))","v":""},{"$f":"IF(B67=\"\",\"\",IF('Arrear Sheet'!C67=\"TOTAL\",\"\",'Arrear Sheet'!V67))","v":""},{"$f":"IF(B67=\"\",\"\",IF('Arrear Sheet'!C67=\"TOTAL\",\"\",'Arrear Sheet'!W67))","v":""},{"$f":"IF(B67=\"\",\"\",IF('Arrear Sheet'!C67=\"TOTAL\",\"\",'Arrear Sheet'!X67))","v":""},{"$f":"IF(B67=\"\",\"\",IF('Arrear Sheet'!C67=\"TOTAL\",\"\",'Arrear Sheet'!AB67))","v":""},{"$f":"IF(B67=\"\",\"\",IF('Arrear Sheet'!D67=\"TOTAL\",\"\",'Arrear Sheet'!AC67))","v":""},{"$f":"IF(B67=\"\",\"\",IF('Arrear Sheet'!E67=\"TOTAL\",\"\",'Arrear Sheet'!AD67))","v":""},{"$f":"IF(B67=\"\",\"\",IF('Arrear Sheet'!C67=\"TOTAL\",\"\",'Arrear Sheet'!Y67))","v":""},{"$f":"IF(B67=\"\",\"\",IF('Arrear Sheet'!C67=\"TOTAL\",\"\",'Arrear Sheet'!Z67))","v":""},{"$f":"IF(B67=\"\",\"\",IF('Arrear Sheet'!C67=\"TOTAL\",\"\",'Arrear Sheet'!AA67))","v":""},{"$f":"IF(B67=\"\",\"\",IF('Arrear Sheet'!C67=\"TOTAL\",\"\",'Arrear Sheet'!AE67))","v":""},{"$f":"IF(B67=\"\",\"\",IF('Arrear Sheet'!C67=\"TOTAL\",\"\",'Arrear Sheet'!AF67))","v":""},{"$f":"IF(B67=\"\",\"\",'Arrear Sheet'!AG67)","v":""},{"$f":"IFERROR(IF(B67=\"\",\"\",IF('Arrear Sheet'!C67=\"TOTAL\",\"\",SUM(Q67-AF67))),\"\")","v":""}]
[{"$f":"IF('Arrear Sheet'!B68=\"\",\"\",'Arrear Sheet'!B68)","v":""},{"$f":"IF('Arrear Sheet'!C68=\"\",\"\",IF('Arrear Sheet'!C68=\"TOTAL\",\"\",'Arrear Sheet'!C68))","v":""},{"$f":"IF('Arrear Sheet'!D68=\"\",\"\",IF('Arrear Sheet'!C68=\"TOTAL\",\"\",IF('Arrear Sheet'!D68=\"अक्षरें राशि :-\",\"\",'Arrear Sheet'!D68)))","v":""},{"$f":"IF('Arrear Sheet'!E68=\"\",\"\",IF('Arrear Sheet'!C68=\"TOTAL\",\"\",'Arrear Sheet'!E68))","v":""},{"$f":"IF(B68=\"\",\"\",IF('Arrear Sheet'!D68=\"TOTAL\",\"\",'Arrear Sheet'!F68))","v":""},{"$f":"IF(B68=\"\",\"\",IF('Arrear Sheet'!E68=\"TOTAL\",\"\",'Arrear Sheet'!G68))","v":""},{"$f":"IF(B68=\"\",\"\",IF('Arrear Sheet'!C68=\"TOTAL\",\"\",SUM(C68:F68)))","v":""},{"$f":"IF(B68=\"\",\"\",IF('Arrear Sheet'!C68=\"TOTAL\",\"\",'Arrear Sheet'!I68))","v":""},{"$f":"IF(B68=\"\",\"\",IF('Arrear Sheet'!C68=\"TOTAL\",\"\",'Arrear Sheet'!J68))","v":""},{"$f":"IF(B68=\"\",\"\",IF('Arrear Sheet'!C68=\"TOTAL\",\"\",'Arrear Sheet'!K68))","v":""},{"$f":"IF(B68=\"\",\"\",IF('Arrear Sheet'!D68=\"TOTAL\",\"\",'Arrear Sheet'!L68))","v":""},{"$f":"IF(B68=\"\",\"\",IF('Arrear Sheet'!C68=\"TOTAL\",\"\",SUM(H68:K68)))","v":""},{"$f":"IF(B68=\"\",\"\",IF('Arrear Sheet'!C68=\"TOTAL\",\"\",'Arrear Sheet'!N68))","v":""},{"$f":"IF(B68=\"\",\"\",IF('Arrear Sheet'!C68=\"TOTAL\",\"\",'Arrear Sheet'!O68))","v":""},{"$f":"IF(B68=\"\",\"\",IF('Arrear Sheet'!C68=\"TOTAL\",\"\",'Arrear Sheet'!P68))","v":""},{"$f":"IF(B68=\"\",\"\",IF('Arrear Sheet'!D68=\"TOTAL\",\"\",'Arrear Sheet'!Q68))","v":""},{"$f":"IF(B68=\"\",\"\",IF('Arrear Sheet'!C68=\"TOTAL\",\"\",SUM(M68:P68)))","v":""},{"$f":"IF(B68=\"\",\"\",IF('Arrear Sheet'!C68=\"TOTAL\",\"\",'Arrear Sheet'!S68))","v":""},{"$f":"IF(B68=\"\",\"\",IF('Arrear Sheet'!C68=\"TOTAL\",\"\",'Arrear Sheet'!T68))","v":""},{"$f":"IF(B68=\"\",\"\",IF('Arrear Sheet'!C68=\"TOTAL\",\"\",'Arrear Sheet'!U68))","v":""},{"$f":"IF(B68=\"\",\"\",IF('Arrear Sheet'!C68=\"TOTAL\",\"\",'Arrear Sheet'!V68))","v":""},{"$f":"IF(B68=\"\",\"\",IF('Arrear Sheet'!C68=\"TOTAL\",\"\",'Arrear Sheet'!W68))","v":""},{"$f":"IF(B68=\"\",\"\",IF('Arrear Sheet'!C68=\"TOTAL\",\"\",'Arrear Sheet'!X68))","v":""},{"$f":"IF(B68=\"\",\"\",IF('Arrear Sheet'!C68=\"TOTAL\",\"\",'Arrear Sheet'!AB68))","v":""},{"$f":"IF(B68=\"\",\"\",IF('Arrear Sheet'!D68=\"TOTAL\",\"\",'Arrear Sheet'!AC68))","v":""},{"$f":"IF(B68=\"\",\"\",IF('Arrear Sheet'!E68=\"TOTAL\",\"\",'Arrear Sheet'!AD68))","v":""},{"$f":"IF(B68=\"\",\"\",IF('Arrear Sheet'!C68=\"TOTAL\",\"\",'Arrear Sheet'!Y68))","v":""},{"$f":"IF(B68=\"\",\"\",IF('Arrear Sheet'!C68=\"TOTAL\",\"\",'Arrear Sheet'!Z68))","v":""},{"$f":"IF(B68=\"\",\"\",IF('Arrear Sheet'!C68=\"TOTAL\",\"\",'Arrear Sheet'!AA68))","v":""},{"$f":"IF(B68=\"\",\"\",IF('Arrear Sheet'!C68=\"TOTAL\",\"\",'Arrear Sheet'!AE68))","v":""},{"$f":"IF(B68=\"\",\"\",IF('Arrear Sheet'!C68=\"TOTAL\",\"\",'Arrear Sheet'!AF68))","v":""},{"$f":"IF(B68=\"\",\"\",'Arrear Sheet'!AG68)","v":""},{"$f":"IFERROR(IF(B68=\"\",\"\",IF('Arrear Sheet'!C68=\"TOTAL\",\"\",SUM(Q68-AF68))),\"\")","v":""}]
[{"$f":"IF('Arrear Sheet'!B69=\"\",\"\",'Arrear Sheet'!B69)","v":""},{"$f":"IF('Arrear Sheet'!C69=\"\",\"\",IF('Arrear Sheet'!C69=\"TOTAL\",\"\",'Arrear Sheet'!C69))","v":""},{"$f":"IF('Arrear Sheet'!D69=\"\",\"\",IF('Arrear Sheet'!C69=\"TOTAL\",\"\",IF('Arrear Sheet'!D69=\"अक्षरें राशि :-\",\"\",'Arrear Sheet'!D69)))","v":""},{"$f":"IF('Arrear Sheet'!E69=\"\",\"\",IF('Arrear Sheet'!C69=\"TOTAL\",\"\",'Arrear Sheet'!E69))","v":""},{"$f":"IF(B69=\"\",\"\",IF('Arrear Sheet'!D69=\"TOTAL\",\"\",'Arrear Sheet'!F69))","v":""},{"$f":"IF(B69=\"\",\"\",IF('Arrear Sheet'!E69=\"TOTAL\",\"\",'Arrear Sheet'!G69))","v":""},{"$f":"IF(B69=\"\",\"\",IF('Arrear Sheet'!C69=\"TOTAL\",\"\",SUM(C69:F69)))","v":""},{"$f":"IF(B69=\"\",\"\",IF('Arrear Sheet'!C69=\"TOTAL\",\"\",'Arrear Sheet'!I69))","v":""},{"$f":"IF(B69=\"\",\"\",IF('Arrear Sheet'!C69=\"TOTAL\",\"\",'Arrear Sheet'!J69))","v":""},{"$f":"IF(B69=\"\",\"\",IF('Arrear Sheet'!C69=\"TOTAL\",\"\",'Arrear Sheet'!K69))","v":""},{"$f":"IF(B69=\"\",\"\",IF('Arrear Sheet'!D69=\"TOTAL\",\"\",'Arrear Sheet'!L69))","v":""},{"$f":"IF(B69=\"\",\"\",IF('Arrear Sheet'!C69=\"TOTAL\",\"\",SUM(H69:K69)))","v":""},{"$f":"IF(B69=\"\",\"\",IF('Arrear Sheet'!C69=\"TOTAL\",\"\",'Arrear Sheet'!N69))","v":""},{"$f":"IF(B69=\"\",\"\",IF('Arrear Sheet'!C69=\"TOTAL\",\"\",'Arrear Sheet'!O69))","v":""},{"$f":"IF(B69=\"\",\"\",IF('Arrear Sheet'!C69=\"TOTAL\",\"\",'Arrear Sheet'!P69))","v":""},{"$f":"IF(B69=\"\",\"\",IF('Arrear Sheet'!D69=\"TOTAL\",\"\",'Arrear Sheet'!Q69))","v":""},{"$f":"IF(B69=\"\",\"\",IF('Arrear Sheet'!C69=\"TOTAL\",\"\",SUM(M69:P69)))","v":""},{"$f":"IF(B69=\"\",\"\",IF('Arrear Sheet'!C69=\"TOTAL\",\"\",'Arrear Sheet'!S69))","v":""},{"$f":"IF(B69=\"\",\"\",IF('Arrear Sheet'!C69=\"TOTAL\",\"\",'Arrear Sheet'!T69))","v":""},{"$f":"IF(B69=\"\",\"\",IF('Arrear Sheet'!C69=\"TOTAL\",\"\",'Arrear Sheet'!U69))","v":""},{"$f":"IF(B69=\"\",\"\",IF('Arrear Sheet'!C69=\"TOTAL\",\"\",'Arrear Sheet'!V69))","v":""},{"$f":"IF(B69=\"\",\"\",IF('Arrear Sheet'!C69=\"TOTAL\",\"\",'Arrear Sheet'!W69))","v":""},{"$f":"IF(B69=\"\",\"\",IF('Arrear Sheet'!C69=\"TOTAL\",\"\",'Arrear Sheet'!X69))","v":""},{"$f":"IF(B69=\"\",\"\",IF('Arrear Sheet'!C69=\"TOTAL\",\"\",'Arrear Sheet'!AB69))","v":""},{"$f":"IF(B69=\"\",\"\",IF('Arrear Sheet'!D69=\"TOTAL\",\"\",'Arrear Sheet'!AC69))","v":""},{"$f":"IF(B69=\"\",\"\",IF('Arrear Sheet'!E69=\"TOTAL\",\"\",'Arrear Sheet'!AD69))","v":""},{"$f":"IF(B69=\"\",\"\",IF('Arrear Sheet'!C69=\"TOTAL\",\"\",'Arrear Sheet'!Y69))","v":""},{"$f":"IF(B69=\"\",\"\",IF('Arrear Sheet'!C69=\"TOTAL\",\"\",'Arrear Sheet'!Z69))","v":""},{"$f":"IF(B69=\"\",\"\",IF('Arrear Sheet'!C69=\"TOTAL\",\"\",'Arrear Sheet'!AA69))","v":""},{"$f":"IF(B69=\"\",\"\",IF('Arrear Sheet'!C69=\"TOTAL\",\"\",'Arrear Sheet'!AE69))","v":""},{"$f":"IF(B69=\"\",\"\",IF('Arrear Sheet'!C69=\"TOTAL\",\"\",'Arrear Sheet'!AF69))","v":""},{"$f":"IF(B69=\"\",\"\",'Arrear Sheet'!AG69)","v":""},{"$f":"IFERROR(IF(B69=\"\",\"\",IF('Arrear Sheet'!C69=\"TOTAL\",\"\",SUM(Q69-AF69))),\"\")","v":""}]
[{"$f":"IF('Arrear Sheet'!B70=\"\",\"\",'Arrear Sheet'!B70)","v":""},{"$f":"IF('Arrear Sheet'!C70=\"\",\"\",IF('Arrear Sheet'!C70=\"TOTAL\",\"\",'Arrear Sheet'!C70))","v":""},{"$f":"IF('Arrear Sheet'!D70=\"\",\"\",IF('Arrear Sheet'!C70=\"TOTAL\",\"\",IF('Arrear Sheet'!D70=\"अक्षरें राशि :-\",\"\",'Arrear Sheet'!D70)))","v":""},{"$f":"IF('Arrear Sheet'!E70=\"\",\"\",IF('Arrear Sheet'!C70=\"TOTAL\",\"\",'Arrear Sheet'!E70))","v":""},{"$f":"IF(B70=\"\",\"\",IF('Arrear Sheet'!D70=\"TOTAL\",\"\",'Arrear Sheet'!F70))","v":""},{"$f":"IF(B70=\"\",\"\",IF('Arrear Sheet'!E70=\"TOTAL\",\"\",'Arrear Sheet'!G70))","v":""},{"$f":"IF(B70=\"\",\"\",IF('Arrear Sheet'!C70=\"TOTAL\",\"\",SUM(C70:F70)))","v":""},{"$f":"IF(B70=\"\",\"\",IF('Arrear Sheet'!C70=\"TOTAL\",\"\",'Arrear Sheet'!I70))","v":""},{"$f":"IF(B70=\"\",\"\",IF('Arrear Sheet'!C70=\"TOTAL\",\"\",'Arrear Sheet'!J70))","v":""},{"$f":"IF(B70=\"\",\"\",IF('Arrear Sheet'!C70=\"TOTAL\",\"\",'Arrear Sheet'!K70))","v":""},{"$f":"IF(B70=\"\",\"\",IF('Arrear Sheet'!D70=\"TOTAL\",\"\",'Arrear Sheet'!L70))","v":""},{"$f":"IF(B70=\"\",\"\",IF('Arrear Sheet'!C70=\"TOTAL\",\"\",SUM(H70:K70)))","v":""},{"$f":"IF(B70=\"\",\"\",IF('Arrear Sheet'!C70=\"TOTAL\",\"\",'Arrear Sheet'!N70))","v":""},{"$f":"IF(B70=\"\",\"\",IF('Arrear Sheet'!C70=\"TOTAL\",\"\",'Arrear Sheet'!O70))","v":""},{"$f":"IF(B70=\"\",\"\",IF('Arrear Sheet'!C70=\"TOTAL\",\"\",'Arrear Sheet'!P70))","v":""},{"$f":"IF(B70=\"\",\"\",IF('Arrear Sheet'!D70=\"TOTAL\",\"\",'Arrear Sheet'!Q70))","v":""},{"$f":"IF(B70=\"\",\"\",IF('Arrear Sheet'!C70=\"TOTAL\",\"\",SUM(M70:P70)))","v":""},{"$f":"IF(B70=\"\",\"\",IF('Arrear Sheet'!C70=\"TOTAL\",\"\",'Arrear Sheet'!S70))","v":""},{"$f":"IF(B70=\"\",\"\",IF('Arrear Sheet'!C70=\"TOTAL\",\"\",'Arrear Sheet'!T70))","v":""},{"$f":"IF(B70=\"\",\"\",IF('Arrear Sheet'!C70=\"TOTAL\",\"\",'Arrear Sheet'!U70))","v":""},{"$f":"IF(B70=\"\",\"\",IF('Arrear Sheet'!C70=\"TOTAL\",\"\",'Arrear Sheet'!V70))","v":""},{"$f":"IF(B70=\"\",\"\",IF('Arrear Sheet'!C70=\"TOTAL\",\"\",'Arrear Sheet'!W70))","v":""},{"$f":"IF(B70=\"\",\"\",IF('Arrear Sheet'!C70=\"TOTAL\",\"\",'Arrear Sheet'!X70))","v":""},{"$f":"IF(B70=\"\",\"\",IF('Arrear Sheet'!C70=\"TOTAL\",\"\",'Arrear Sheet'!AB70))","v":""},{"$f":"IF(B70=\"\",\"\",IF('Arrear Sheet'!D70=\"TOTAL\",\"\",'Arrear Sheet'!AC70))","v":""},{"$f":"IF(B70=\"\",\"\",IF('Arrear Sheet'!E70=\"TOTAL\",\"\",'Arrear Sheet'!AD70))","v":""},{"$f":"IF(B70=\"\",\"\",IF('Arrear Sheet'!C70=\"TOTAL\",\"\",'Arrear Sheet'!Y70))","v":""},{"$f":"IF(B70=\"\",\"\",IF('Arrear Sheet'!C70=\"TOTAL\",\"\",'Arrear Sheet'!Z70))","v":""},{"$f":"IF(B70=\"\",\"\",IF('Arrear Sheet'!C70=\"TOTAL\",\"\",'Arrear Sheet'!AA70))","v":""},{"$f":"IF(B70=\"\",\"\",IF('Arrear Sheet'!C70=\"TOTAL\",\"\",'Arrear Sheet'!AE70))","v":""},{"$f":"IF(B70=\"\",\"\",IF('Arrear Sheet'!C70=\"TOTAL\",\"\",'Arrear Sheet'!AF70))","v":""},{"$f":"IF(B70=\"\",\"\",'Arrear Sheet'!AG70)","v":""},{"$f":"IFERROR(IF(B70=\"\",\"\",IF('Arrear Sheet'!C70=\"TOTAL\",\"\",SUM(Q70-AF70))),\"\")","v":""}]
[{"$f":"IF('Arrear Sheet'!B71=\"\",\"\",'Arrear Sheet'!B71)","v":""},{"$f":"IF('Arrear Sheet'!C71=\"\",\"\",IF('Arrear Sheet'!C71=\"TOTAL\",\"\",'Arrear Sheet'!C71))","v":""},{"$f":"IF('Arrear Sheet'!D71=\"\",\"\",IF('Arrear Sheet'!C71=\"TOTAL\",\"\",IF('Arrear Sheet'!D71=\"अक्षरें राशि :-\",\"\",'Arrear Sheet'!D71)))","v":""},{"$f":"IF('Arrear Sheet'!E71=\"\",\"\",IF('Arrear Sheet'!C71=\"TOTAL\",\"\",'Arrear Sheet'!E71))","v":""},{"$f":"IF(B71=\"\",\"\",IF('Arrear Sheet'!D71=\"TOTAL\",\"\",'Arrear Sheet'!F71))","v":""},{"$f":"IF(B71=\"\",\"\",IF('Arrear Sheet'!E71=\"TOTAL\",\"\",'Arrear Sheet'!G71))","v":""},{"$f":"IF(B71=\"\",\"\",IF('Arrear Sheet'!C71=\"TOTAL\",\"\",SUM(C71:F71)))","v":""},{"$f":"IF(B71=\"\",\"\",IF('Arrear Sheet'!C71=\"TOTAL\",\"\",'Arrear Sheet'!I71))","v":""},{"$f":"IF(B71=\"\",\"\",IF('Arrear Sheet'!C71=\"TOTAL\",\"\",'Arrear Sheet'!J71))","v":""},{"$f":"IF(B71=\"\",\"\",IF('Arrear Sheet'!C71=\"TOTAL\",\"\",'Arrear Sheet'!K71))","v":""},{"$f":"IF(B71=\"\",\"\",IF('Arrear Sheet'!D71=\"TOTAL\",\"\",'Arrear Sheet'!L71))","v":""},{"$f":"IF(B71=\"\",\"\",IF('Arrear Sheet'!C71=\"TOTAL\",\"\",SUM(H71:K71)))","v":""},{"$f":"IF(B71=\"\",\"\",IF('Arrear Sheet'!C71=\"TOTAL\",\"\",'Arrear Sheet'!N71))","v":""},{"$f":"IF(B71=\"\",\"\",IF('Arrear Sheet'!C71=\"TOTAL\",\"\",'Arrear Sheet'!O71))","v":""},{"$f":"IF(B71=\"\",\"\",IF('Arrear Sheet'!C71=\"TOTAL\",\"\",'Arrear Sheet'!P71))","v":""},{"$f":"IF(B71=\"\",\"\",IF('Arrear Sheet'!D71=\"TOTAL\",\"\",'Arrear Sheet'!Q71))","v":""},{"$f":"IF(B71=\"\",\"\",IF('Arrear Sheet'!C71=\"TOTAL\",\"\",SUM(M71:P71)))","v":""},{"$f":"IF(B71=\"\",\"\",IF('Arrear Sheet'!C71=\"TOTAL\",\"\",'Arrear Sheet'!S71))","v":""},{"$f":"IF(B71=\"\",\"\",IF('Arrear Sheet'!C71=\"TOTAL\",\"\",'Arrear Sheet'!T71))","v":""},{"$f":"IF(B71=\"\",\"\",IF('Arrear Sheet'!C71=\"TOTAL\",\"\",'Arrear Sheet'!U71))","v":""},{"$f":"IF(B71=\"\",\"\",IF('Arrear Sheet'!C71=\"TOTAL\",\"\",'Arrear Sheet'!V71))","v":""},{"$f":"IF(B71=\"\",\"\",IF('Arrear Sheet'!C71=\"TOTAL\",\"\",'Arrear Sheet'!W71))","v":""},{"$f":"IF(B71=\"\",\"\",IF('Arrear Sheet'!C71=\"TOTAL\",\"\",'Arrear Sheet'!X71))","v":""},{"$f":"IF(B71=\"\",\"\",IF('Arrear Sheet'!C71=\"TOTAL\",\"\",'Arrear Sheet'!AB71))","v":""},{"$f":"IF(B71=\"\",\"\",IF('Arrear Sheet'!D71=\"TOTAL\",\"\",'Arrear Sheet'!AC71))","v":""},{"$f":"IF(B71=\"\",\"\",IF('Arrear Sheet'!E71=\"TOTAL\",\"\",'Arrear Sheet'!AD71))","v":""},{"$f":"IF(B71=\"\",\"\",IF('Arrear Sheet'!C71=\"TOTAL\",\"\",'Arrear Sheet'!Y71))","v":""},{"$f":"IF(B71=\"\",\"\",IF('Arrear Sheet'!C71=\"TOTAL\",\"\",'Arrear Sheet'!Z71))","v":""},{"$f":"IF(B71=\"\",\"\",IF('Arrear Sheet'!C71=\"TOTAL\",\"\",'Arrear Sheet'!AA71))","v":""},{"$f":"IF(B71=\"\",\"\",IF('Arrear Sheet'!C71=\"TOTAL\",\"\",'Arrear Sheet'!AE71))","v":""},{"$f":"IF(B71=\"\",\"\",IF('Arrear Sheet'!C71=\"TOTAL\",\"\",'Arrear Sheet'!AF71))","v":""},{"$f":"IF(B71=\"\",\"\",'Arrear Sheet'!AG71)","v":""},{"$f":"IFERROR(IF(B71=\"\",\"\",IF('Arrear Sheet'!C71=\"TOTAL\",\"\",SUM(Q71-AF71))),\"\")","v":""}]
[{"$f":"IF('Arrear Sheet'!B72=\"\",\"\",'Arrear Sheet'!B72)","v":""},{"$f":"IF('Arrear Sheet'!C72=\"\",\"\",IF('Arrear Sheet'!C72=\"TOTAL\",\"\",'Arrear Sheet'!C72))","v":""},{"$f":"IF('Arrear Sheet'!D72=\"\",\"\",IF('Arrear Sheet'!C72=\"TOTAL\",\"\",IF('Arrear Sheet'!D72=\"अक्षरें राशि :-\",\"\",'Arrear Sheet'!D72)))","v":""},{"$f":"IF('Arrear Sheet'!E72=\"\",\"\",IF('Arrear Sheet'!C72=\"TOTAL\",\"\",'Arrear Sheet'!E72))","v":""},{"$f":"IF(B72=\"\",\"\",IF('Arrear Sheet'!D72=\"TOTAL\",\"\",'Arrear Sheet'!F72))","v":""},{"$f":"IF(B72=\"\",\"\",IF('Arrear Sheet'!E72=\"TOTAL\",\"\",'Arrear Sheet'!G72))","v":""},{"$f":"IF(B72=\"\",\"\",IF('Arrear Sheet'!C72=\"TOTAL\",\"\",SUM(C72:F72)))","v":""},{"$f":"IF(B72=\"\",\"\",IF('Arrear Sheet'!C72=\"TOTAL\",\"\",'Arrear Sheet'!I72))","v":""},{"$f":"IF(B72=\"\",\"\",IF('Arrear Sheet'!C72=\"TOTAL\",\"\",'Arrear Sheet'!J72))","v":""},{"$f":"IF(B72=\"\",\"\",IF('Arrear Sheet'!C72=\"TOTAL\",\"\",'Arrear Sheet'!K72))","v":""},{"$f":"IF(B72=\"\",\"\",IF('Arrear Sheet'!D72=\"TOTAL\",\"\",'Arrear Sheet'!L72))","v":""},{"$f":"IF(B72=\"\",\"\",IF('Arrear Sheet'!C72=\"TOTAL\",\"\",SUM(H72:K72)))","v":""},{"$f":"IF(B72=\"\",\"\",IF('Arrear Sheet'!C72=\"TOTAL\",\"\",'Arrear Sheet'!N72))","v":""},{"$f":"IF(B72=\"\",\"\",IF('Arrear Sheet'!C72=\"TOTAL\",\"\",'Arrear Sheet'!O72))","v":""},{"$f":"IF(B72=\"\",\"\",IF('Arrear Sheet'!C72=\"TOTAL\",\"\",'Arrear Sheet'!P72))","v":""},{"$f":"IF(B72=\"\",\"\",IF('Arrear Sheet'!D72=\"TOTAL\",\"\",'Arrear Sheet'!Q72))","v":""},{"$f":"IF(B72=\"\",\"\",IF('Arrear Sheet'!C72=\"TOTAL\",\"\",SUM(M72:P72)))","v":""},{"$f":"IF(B72=\"\",\"\",IF('Arrear Sheet'!C72=\"TOTAL\",\"\",'Arrear Sheet'!S72))","v":""},{"$f":"IF(B72=\"\",\"\",IF('Arrear Sheet'!C72=\"TOTAL\",\"\",'Arrear Sheet'!T72))","v":""},{"$f":"IF(B72=\"\",\"\",IF('Arrear Sheet'!C72=\"TOTAL\",\"\",'Arrear Sheet'!U72))","v":""},{"$f":"IF(B72=\"\",\"\",IF('Arrear Sheet'!C72=\"TOTAL\",\"\",'Arrear Sheet'!V72))","v":""},{"$f":"IF(B72=\"\",\"\",IF('Arrear Sheet'!C72=\"TOTAL\",\"\",'Arrear Sheet'!W72))","v":""},{"$f":"IF(B72=\"\",\"\",IF('Arrear Sheet'!C72=\"TOTAL\",\"\",'Arrear Sheet'!X72))","v":""},{"$f":"IF(B72=\"\",\"\",IF('Arrear Sheet'!C72=\"TOTAL\",\"\",'Arrear Sheet'!AB72))","v":""},{"$f":"IF(B72=\"\",\"\",IF('Arrear Sheet'!D72=\"TOTAL\",\"\",'Arrear Sheet'!AC72))","v":""},{"$f":"IF(B72=\"\",\"\",IF('Arrear Sheet'!E72=\"TOTAL\",\"\",'Arrear Sheet'!AD72))","v":""},{"$f":"IF(B72=\"\",\"\",IF('Arrear Sheet'!C72=\"TOTAL\",\"\",'Arrear Sheet'!Y72))","v":""},{"$f":"IF(B72=\"\",\"\",IF('Arrear Sheet'!C72=\"TOTAL\",\"\",'Arrear Sheet'!Z72))","v":""},{"$f":"IF(B72=\"\",\"\",IF('Arrear Sheet'!C72=\"TOTAL\",\"\",'Arrear Sheet'!AA72))","v":""},{"$f":"IF(B72=\"\",\"\",IF('Arrear Sheet'!C72=\"TOTAL\",\"\",'Arrear Sheet'!AE72))","v":""},{"$f":"IF(B72=\"\",\"\",IF('Arrear Sheet'!C72=\"TOTAL\",\"\",'Arrear Sheet'!AF72))","v":""},{"$f":"IF(B72=\"\",\"\",'Arrear Sheet'!AG72)","v":""},{"$f":"IFERROR(IF(B72=\"\",\"\",IF('Arrear Sheet'!C72=\"TOTAL\",\"\",SUM(Q72-AF72))),\"\")","v":""}]
[{"$f":"IF('Arrear Sheet'!B73=\"\",\"\",'Arrear Sheet'!B73)","v":""},{"$f":"IF('Arrear Sheet'!C73=\"\",\"\",IF('Arrear Sheet'!C73=\"TOTAL\",\"\",'Arrear Sheet'!C73))","v":""},{"$f":"IF('Arrear Sheet'!D73=\"\",\"\",IF('Arrear Sheet'!C73=\"TOTAL\",\"\",IF('Arrear Sheet'!D73=\"अक्षरें राशि :-\",\"\",'Arrear Sheet'!D73)))","v":""},{"$f":"IF('Arrear Sheet'!E73=\"\",\"\",IF('Arrear Sheet'!C73=\"TOTAL\",\"\",'Arrear Sheet'!E73))","v":""},{"$f":"IF(B73=\"\",\"\",IF('Arrear Sheet'!D73=\"TOTAL\",\"\",'Arrear Sheet'!F73))","v":""},{"$f":"IF(B73=\"\",\"\",IF('Arrear Sheet'!E73=\"TOTAL\",\"\",'Arrear Sheet'!G73))","v":""},{"$f":"IF(B73=\"\",\"\",IF('Arrear Sheet'!C73=\"TOTAL\",\"\",SUM(C73:F73)))","v":""},{"$f":"IF(B73=\"\",\"\",IF('Arrear Sheet'!C73=\"TOTAL\",\"\",'Arrear Sheet'!I73))","v":""},{"$f":"IF(B73=\"\",\"\",IF('Arrear Sheet'!C73=\"TOTAL\",\"\",'Arrear Sheet'!J73))","v":""},{"$f":"IF(B73=\"\",\"\",IF('Arrear Sheet'!C73=\"TOTAL\",\"\",'Arrear Sheet'!K73))","v":""},{"$f":"IF(B73=\"\",\"\",IF('Arrear Sheet'!D73=\"TOTAL\",\"\",'Arrear Sheet'!L73))","v":""},{"$f":"IF(B73=\"\",\"\",IF('Arrear Sheet'!C73=\"TOTAL\",\"\",SUM(H73:K73)))","v":""},{"$f":"IF(B73=\"\",\"\",IF('Arrear Sheet'!C73=\"TOTAL\",\"\",'Arrear Sheet'!N73))","v":""},{"$f":"IF(B73=\"\",\"\",IF('Arrear Sheet'!C73=\"TOTAL\",\"\",'Arrear Sheet'!O73))","v":""},{"$f":"IF(B73=\"\",\"\",IF('Arrear Sheet'!C73=\"TOTAL\",\"\",'Arrear Sheet'!P73))","v":""},{"$f":"IF(B73=\"\",\"\",IF('Arrear Sheet'!D73=\"TOTAL\",\"\",'Arrear Sheet'!Q73))","v":""},{"$f":"IF(B73=\"\",\"\",IF('Arrear Sheet'!C73=\"TOTAL\",\"\",SUM(M73:P73)))","v":""},{"$f":"IF(B73=\"\",\"\",IF('Arrear Sheet'!C73=\"TOTAL\",\"\",'Arrear Sheet'!S73))","v":""},{"$f":"IF(B73=\"\",\"\",IF('Arrear Sheet'!C73=\"TOTAL\",\"\",'Arrear Sheet'!T73))","v":""},{"$f":"IF(B73=\"\",\"\",IF('Arrear Sheet'!C73=\"TOTAL\",\"\",'Arrear Sheet'!U73))","v":""},{"$f":"IF(B73=\"\",\"\",IF('Arrear Sheet'!C73=\"TOTAL\",\"\",'Arrear Sheet'!V73))","v":""},{"$f":"IF(B73=\"\",\"\",IF('Arrear Sheet'!C73=\"TOTAL\",\"\",'Arrear Sheet'!W73))","v":""},{"$f":"IF(B73=\"\",\"\",IF('Arrear Sheet'!C73=\"TOTAL\",\"\",'Arrear Sheet'!X73))","v":""},{"$f":"IF(B73=\"\",\"\",IF('Arrear Sheet'!C73=\"TOTAL\",\"\",'Arrear Sheet'!AB73))","v":""},{"$f":"IF(B73=\"\",\"\",IF('Arrear Sheet'!D73=\"TOTAL\",\"\",'Arrear Sheet'!AC73))","v":""},{"$f":"IF(B73=\"\",\"\",IF('Arrear Sheet'!E73=\"TOTAL\",\"\",'Arrear Sheet'!AD73))","v":""},{"$f":"IF(B73=\"\",\"\",IF('Arrear Sheet'!C73=\"TOTAL\",\"\",'Arrear Sheet'!Y73))","v":""},{"$f":"IF(B73=\"\",\"\",IF('Arrear Sheet'!C73=\"TOTAL\",\"\",'Arrear Sheet'!Z73))","v":""},{"$f":"IF(B73=\"\",\"\",IF('Arrear Sheet'!C73=\"TOTAL\",\"\",'Arrear Sheet'!AA73))","v":""},{"$f":"IF(B73=\"\",\"\",IF('Arrear Sheet'!C73=\"TOTAL\",\"\",'Arrear Sheet'!AE73))","v":""},{"$f":"IF(B73=\"\",\"\",IF('Arrear Sheet'!C73=\"TOTAL\",\"\",'Arrear Sheet'!AF73))","v":""},{"$f":"IF(B73=\"\",\"\",'Arrear Sheet'!AG73)","v":""},{"$f":"IFERROR(IF(B73=\"\",\"\",IF('Arrear Sheet'!C73=\"TOTAL\",\"\",SUM(Q73-AF73))),\"\")","v":""}]
[{"$f":"IF('Arrear Sheet'!B74=\"\",\"\",'Arrear Sheet'!B74)","v":""},{"$f":"IF('Arrear Sheet'!C74=\"\",\"\",IF('Arrear Sheet'!C74=\"TOTAL\",\"\",'Arrear Sheet'!C74))","v":""},{"$f":"IF('Arrear Sheet'!D74=\"\",\"\",IF('Arrear Sheet'!C74=\"TOTAL\",\"\",IF('Arrear Sheet'!D74=\"अक्षरें राशि :-\",\"\",'Arrear Sheet'!D74)))","v":""},{"$f":"IF('Arrear Sheet'!E74=\"\",\"\",IF('Arrear Sheet'!C74=\"TOTAL\",\"\",'Arrear Sheet'!E74))","v":""},{"$f":"IF(B74=\"\",\"\",IF('Arrear Sheet'!D74=\"TOTAL\",\"\",'Arrear Sheet'!F74))","v":""},{"$f":"IF(B74=\"\",\"\",IF('Arrear Sheet'!E74=\"TOTAL\",\"\",'Arrear Sheet'!G74))","v":""},{"$f":"IF(B74=\"\",\"\",IF('Arrear Sheet'!C74=\"TOTAL\",\"\",SUM(C74:F74)))","v":""},{"$f":"IF(B74=\"\",\"\",IF('Arrear Sheet'!C74=\"TOTAL\",\"\",'Arrear Sheet'!I74))","v":""},{"$f":"IF(B74=\"\",\"\",IF('Arrear Sheet'!C74=\"TOTAL\",\"\",'Arrear Sheet'!J74))","v":""},{"$f":"IF(B74=\"\",\"\",IF('Arrear Sheet'!C74=\"TOTAL\",\"\",'Arrear Sheet'!K74))","v":""},{"$f":"IF(B74=\"\",\"\",IF('Arrear Sheet'!D74=\"TOTAL\",\"\",'Arrear Sheet'!L74))","v":""},{"$f":"IF(B74=\"\",\"\",IF('Arrear Sheet'!C74=\"TOTAL\",\"\",SUM(H74:K74)))","v":""},{"$f":"IF(B74=\"\",\"\",IF('Arrear Sheet'!C74=\"TOTAL\",\"\",'Arrear Sheet'!N74))","v":""},{"$f":"IF(B74=\"\",\"\",IF('Arrear Sheet'!C74=\"TOTAL\",\"\",'Arrear Sheet'!O74))","v":""},{"$f":"IF(B74=\"\",\"\",IF('Arrear Sheet'!C74=\"TOTAL\",\"\",'Arrear Sheet'!P74))","v":""},{"$f":"IF(B74=\"\",\"\",IF('Arrear Sheet'!D74=\"TOTAL\",\"\",'Arrear Sheet'!Q74))","v":""},{"$f":"IF(B74=\"\",\"\",IF('Arrear Sheet'!C74=\"TOTAL\",\"\",SUM(M74:P74)))","v":""},{"$f":"IF(B74=\"\",\"\",IF('Arrear Sheet'!C74=\"TOTAL\",\"\",'Arrear Sheet'!S74))","v":""},{"$f":"IF(B74=\"\",\"\",IF('Arrear Sheet'!C74=\"TOTAL\",\"\",'Arrear Sheet'!T74))","v":""},{"$f":"IF(B74=\"\",\"\",IF('Arrear Sheet'!C74=\"TOTAL\",\"\",'Arrear Sheet'!U74))","v":""},{"$f":"IF(B74=\"\",\"\",IF('Arrear Sheet'!C74=\"TOTAL\",\"\",'Arrear Sheet'!V74))","v":""},{"$f":"IF(B74=\"\",\"\",IF('Arrear Sheet'!C74=\"TOTAL\",\"\",'Arrear Sheet'!W74))","v":""},{"$f":"IF(B74=\"\",\"\",IF('Arrear Sheet'!C74=\"TOTAL\",\"\",'Arrear Sheet'!X74))","v":""},{"$f":"IF(B74=\"\",\"\",IF('Arrear Sheet'!C74=\"TOTAL\",\"\",'Arrear Sheet'!AB74))","v":""},{"$f":"IF(B74=\"\",\"\",IF('Arrear Sheet'!D74=\"TOTAL\",\"\",'Arrear Sheet'!AC74))","v":""},{"$f":"IF(B74=\"\",\"\",IF('Arrear Sheet'!E74=\"TOTAL\",\"\",'Arrear Sheet'!AD74))","v":""},{"$f":"IF(B74=\"\",\"\",IF('Arrear Sheet'!C74=\"TOTAL\",\"\",'Arrear Sheet'!Y74))","v":""},{"$f":"IF(B74=\"\",\"\",IF('Arrear Sheet'!C74=\"TOTAL\",\"\",'Arrear Sheet'!Z74))","v":""},{"$f":"IF(B74=\"\",\"\",IF('Arrear Sheet'!C74=\"TOTAL\",\"\",'Arrear Sheet'!AA74))","v":""},{"$f":"IF(B74=\"\",\"\",IF('Arrear Sheet'!C74=\"TOTAL\",\"\",'Arrear Sheet'!AE74))","v":""},{"$f":"IF(B74=\"\",\"\",IF('Arrear Sheet'!C74=\"TOTAL\",\"\",'Arrear Sheet'!AF74))","v":""},{"$f":"IF(B74=\"\",\"\",'Arrear Sheet'!AG74)","v":""},{"$f":"IFERROR(IF(B74=\"\",\"\",IF('Arrear Sheet'!C74=\"TOTAL\",\"\",SUM(Q74-AF74))),\"\")","v":""}]
[{"$f":"IF('Arrear Sheet'!B75=\"\",\"\",'Arrear Sheet'!B75)","v":""},{"$f":"IF('Arrear Sheet'!C75=\"\",\"\",IF('Arrear Sheet'!C75=\"TOTAL\",\"\",'Arrear Sheet'!C75))","v":""},{"$f":"IF('Arrear Sheet'!D75=\"\",\"\",IF('Arrear Sheet'!C75=\"TOTAL\",\"\",IF('Arrear Sheet'!D75=\"अक्षरें राशि :-\",\"\",'Arrear Sheet'!D75)))","v":""},{"$f":"IF('Arrear Sheet'!E75=\"\",\"\",IF('Arrear Sheet'!C75=\"TOTAL\",\"\",'Arrear Sheet'!E75))","v":""},{"$f":"IF(B75=\"\",\"\",IF('Arrear Sheet'!D75=\"TOTAL\",\"\",'Arrear Sheet'!F75))","v":""},{"$f":"IF(B75=\"\",\"\",IF('Arrear Sheet'!E75=\"TOTAL\",\"\",'Arrear Sheet'!G75))","v":""},{"$f":"IF(B75=\"\",\"\",IF('Arrear Sheet'!C75=\"TOTAL\",\"\",SUM(C75:F75)))","v":""},{"$f":"IF(B75=\"\",\"\",IF('Arrear Sheet'!C75=\"TOTAL\",\"\",'Arrear Sheet'!I75))","v":""},{"$f":"IF(B75=\"\",\"\",IF('Arrear Sheet'!C75=\"TOTAL\",\"\",'Arrear Sheet'!J75))","v":""},{"$f":"IF(B75=\"\",\"\",IF('Arrear Sheet'!C75=\"TOTAL\",\"\",'Arrear Sheet'!K75))","v":""},{"$f":"IF(B75=\"\",\"\",IF('Arrear Sheet'!D75=\"TOTAL\",\"\",'Arrear Sheet'!L75))","v":""},{"$f":"IF(B75=\"\",\"\",IF('Arrear Sheet'!C75=\"TOTAL\",\"\",SUM(H75:K75)))","v":""},{"$f":"IF(B75=\"\",\"\",IF('Arrear Sheet'!C75=\"TOTAL\",\"\",'Arrear Sheet'!N75))","v":""},{"$f":"IF(B75=\"\",\"\",IF('Arrear Sheet'!C75=\"TOTAL\",\"\",'Arrear Sheet'!O75))","v":""},{"$f":"IF(B75=\"\",\"\",IF('Arrear Sheet'!C75=\"TOTAL\",\"\",'Arrear Sheet'!P75))","v":""},{"$f":"IF(B75=\"\",\"\",IF('Arrear Sheet'!D75=\"TOTAL\",\"\",'Arrear Sheet'!Q75))","v":""},{"$f":"IF(B75=\"\",\"\",IF('Arrear Sheet'!C75=\"TOTAL\",\"\",SUM(M75:P75)))","v":""},{"$f":"IF(B75=\"\",\"\",IF('Arrear Sheet'!C75=\"TOTAL\",\"\",'Arrear Sheet'!S75))","v":""},{"$f":"IF(B75=\"\",\"\",IF('Arrear Sheet'!C75=\"TOTAL\",\"\",'Arrear Sheet'!T75))","v":""},{"$f":"IF(B75=\"\",\"\",IF('Arrear Sheet'!C75=\"TOTAL\",\"\",'Arrear Sheet'!U75))","v":""},{"$f":"IF(B75=\"\",\"\",IF('Arrear Sheet'!C75=\"TOTAL\",\"\",'Arrear Sheet'!V75))","v":""},{"$f":"IF(B75=\"\",\"\",IF('Arrear Sheet'!C75=\"TOTAL\",\"\",'Arrear Sheet'!W75))","v":""},{"$f":"IF(B75=\"\",\"\",IF('Arrear Sheet'!C75=\"TOTAL\",\"\",'Arrear Sheet'!X75))","v":""},{"$f":"IF(B75=\"\",\"\",IF('Arrear Sheet'!C75=\"TOTAL\",\"\",'Arrear Sheet'!AB75))","v":""},{"$f":"IF(B75=\"\",\"\",IF('Arrear Sheet'!D75=\"TOTAL\",\"\",'Arrear Sheet'!AC75))","v":""},{"$f":"IF(B75=\"\",\"\",IF('Arrear Sheet'!E75=\"TOTAL\",\"\",'Arrear Sheet'!AD75))","v":""},{"$f":"IF(B75=\"\",\"\",IF('Arrear Sheet'!C75=\"TOTAL\",\"\",'Arrear Sheet'!Y75))","v":""},{"$f":"IF(B75=\"\",\"\",IF('Arrear Sheet'!C75=\"TOTAL\",\"\",'Arrear Sheet'!Z75))","v":""},{"$f":"IF(B75=\"\",\"\",IF('Arrear Sheet'!C75=\"TOTAL\",\"\",'Arrear Sheet'!AA75))","v":""},{"$f":"IF(B75=\"\",\"\",IF('Arrear Sheet'!C75=\"TOTAL\",\"\",'Arrear Sheet'!AE75))","v":""},{"$f":"IF(B75=\"\",\"\",IF('Arrear Sheet'!C75=\"TOTAL\",\"\",'Arrear Sheet'!AF75))","v":""},{"$f":"IF(B75=\"\",\"\",'Arrear Sheet'!AG75)","v":""},{"$f":"IFERROR(IF(B75=\"\",\"\",IF('Arrear Sheet'!C75=\"TOTAL\",\"\",SUM(Q75-AF75))),\"\")","v":""}]
[{"$f":"IF('Arrear Sheet'!B76=\"\",\"\",'Arrear Sheet'!B76)","v":""},{"$f":"IF('Arrear Sheet'!C76=\"\",\"\",IF('Arrear Sheet'!C76=\"TOTAL\",\"\",'Arrear Sheet'!C76))","v":""},{"$f":"IF('Arrear Sheet'!D76=\"\",\"\",IF('Arrear Sheet'!C76=\"TOTAL\",\"\",IF('Arrear Sheet'!D76=\"अक्षरें राशि :-\",\"\",'Arrear Sheet'!D76)))","v":""},{"$f":"IF('Arrear Sheet'!E76=\"\",\"\",IF('Arrear Sheet'!C76=\"TOTAL\",\"\",'Arrear Sheet'!E76))","v":""},{"$f":"IF(B76=\"\",\"\",IF('Arrear Sheet'!D76=\"TOTAL\",\"\",'Arrear Sheet'!F76))","v":""},{"$f":"IF(B76=\"\",\"\",IF('Arrear Sheet'!E76=\"TOTAL\",\"\",'Arrear Sheet'!G76))","v":""},{"$f":"IF(B76=\"\",\"\",IF('Arrear Sheet'!C76=\"TOTAL\",\"\",SUM(C76:F76)))","v":""},{"$f":"IF(B76=\"\",\"\",IF('Arrear Sheet'!C76=\"TOTAL\",\"\",'Arrear Sheet'!I76))","v":""},{"$f":"IF(B76=\"\",\"\",IF('Arrear Sheet'!C76=\"TOTAL\",\"\",'Arrear Sheet'!J76))","v":""},{"$f":"IF(B76=\"\",\"\",IF('Arrear Sheet'!C76=\"TOTAL\",\"\",'Arrear Sheet'!K76))","v":""},{"$f":"IF(B76=\"\",\"\",IF('Arrear Sheet'!D76=\"TOTAL\",\"\",'Arrear Sheet'!L76))","v":""},{"$f":"IF(B76=\"\",\"\",IF('Arrear Sheet'!C76=\"TOTAL\",\"\",SUM(H76:K76)))","v":""},{"$f":"IF(B76=\"\",\"\",IF('Arrear Sheet'!C76=\"TOTAL\",\"\",'Arrear Sheet'!N76))","v":""},{"$f":"IF(B76=\"\",\"\",IF('Arrear Sheet'!C76=\"TOTAL\",\"\",'Arrear Sheet'!O76))","v":""},{"$f":"IF(B76=\"\",\"\",IF('Arrear Sheet'!C76=\"TOTAL\",\"\",'Arrear Sheet'!P76))","v":""},{"$f":"IF(B76=\"\",\"\",IF('Arrear Sheet'!D76=\"TOTAL\",\"\",'Arrear Sheet'!Q76))","v":""},{"$f":"IF(B76=\"\",\"\",IF('Arrear Sheet'!C76=\"TOTAL\",\"\",SUM(M76:P76)))","v":""},{"$f":"IF(B76=\"\",\"\",IF('Arrear Sheet'!C76=\"TOTAL\",\"\",'Arrear Sheet'!S76))","v":""},{"$f":"IF(B76=\"\",\"\",IF('Arrear Sheet'!C76=\"TOTAL\",\"\",'Arrear Sheet'!T76))","v":""},{"$f":"IF(B76=\"\",\"\",IF('Arrear Sheet'!C76=\"TOTAL\",\"\",'Arrear Sheet'!U76))","v":""},{"$f":"IF(B76=\"\",\"\",IF('Arrear Sheet'!C76=\"TOTAL\",\"\",'Arrear Sheet'!V76))","v":""},{"$f":"IF(B76=\"\",\"\",IF('Arrear Sheet'!C76=\"TOTAL\",\"\",'Arrear Sheet'!W76))","v":""},{"$f":"IF(B76=\"\",\"\",IF('Arrear Sheet'!C76=\"TOTAL\",\"\",'Arrear Sheet'!X76))","v":""},{"$f":"IF(B76=\"\",\"\",IF('Arrear Sheet'!C76=\"TOTAL\",\"\",'Arrear Sheet'!AB76))","v":""},{"$f":"IF(B76=\"\",\"\",IF('Arrear Sheet'!D76=\"TOTAL\",\"\",'Arrear Sheet'!AC76))","v":""},{"$f":"IF(B76=\"\",\"\",IF('Arrear Sheet'!E76=\"TOTAL\",\"\",'Arrear Sheet'!AD76))","v":""},{"$f":"IF(B76=\"\",\"\",IF('Arrear Sheet'!C76=\"TOTAL\",\"\",'Arrear Sheet'!Y76))","v":""},{"$f":"IF(B76=\"\",\"\",IF('Arrear Sheet'!C76=\"TOTAL\",\"\",'Arrear Sheet'!Z76))","v":""},{"$f":"IF(B76=\"\",\"\",IF('Arrear Sheet'!C76=\"TOTAL\",\"\",'Arrear Sheet'!AA76))","v":""},{"$f":"IF(B76=\"\",\"\",IF('Arrear Sheet'!C76=\"TOTAL\",\"\",'Arrear Sheet'!AE76))","v":""},{"$f":"IF(B76=\"\",\"\",IF('Arrear Sheet'!C76=\"TOTAL\",\"\",'Arrear Sheet'!AF76))","v":""},{"$f":"IF(B76=\"\",\"\",'Arrear Sheet'!AG76)","v":""},{"$f":"IFERROR(IF(B76=\"\",\"\",IF('Arrear Sheet'!C76=\"TOTAL\",\"\",SUM(Q76-AF76))),\"\")","v":""}]
[{"$f":"IF('Arrear Sheet'!B77=\"\",\"\",'Arrear Sheet'!B77)","v":""},{"$f":"IF('Arrear Sheet'!C77=\"\",\"\",IF('Arrear Sheet'!C77=\"TOTAL\",\"\",'Arrear Sheet'!C77))","v":""},{"$f":"IF('Arrear Sheet'!D77=\"\",\"\",IF('Arrear Sheet'!C77=\"TOTAL\",\"\",IF('Arrear Sheet'!D77=\"अक्षरें राशि :-\",\"\",'Arrear Sheet'!D77)))","v":""},{"$f":"IF('Arrear Sheet'!E77=\"\",\"\",IF('Arrear Sheet'!C77=\"TOTAL\",\"\",'Arrear Sheet'!E77))","v":""},{"$f":"IF(B77=\"\",\"\",IF('Arrear Sheet'!D77=\"TOTAL\",\"\",'Arrear Sheet'!F77))","v":""},{"$f":"IF(B77=\"\",\"\",IF('Arrear Sheet'!E77=\"TOTAL\",\"\",'Arrear Sheet'!G77))","v":""},{"$f":"IF(B77=\"\",\"\",IF('Arrear Sheet'!C77=\"TOTAL\",\"\",SUM(C77:F77)))","v":""},{"$f":"IF(B77=\"\",\"\",IF('Arrear Sheet'!C77=\"TOTAL\",\"\",'Arrear Sheet'!I77))","v":""},{"$f":"IF(B77=\"\",\"\",IF('Arrear Sheet'!C77=\"TOTAL\",\"\",'Arrear Sheet'!J77))","v":""},{"$f":"IF(B77=\"\",\"\",IF('Arrear Sheet'!C77=\"TOTAL\",\"\",'Arrear Sheet'!K77))","v":""},{"$f":"IF(B77=\"\",\"\",IF('Arrear Sheet'!D77=\"TOTAL\",\"\",'Arrear Sheet'!L77))","v":""},{"$f":"IF(B77=\"\",\"\",IF('Arrear Sheet'!C77=\"TOTAL\",\"\",SUM(H77:K77)))","v":""},{"$f":"IF(B77=\"\",\"\",IF('Arrear Sheet'!C77=\"TOTAL\",\"\",'Arrear Sheet'!N77))","v":""},{"$f":"IF(B77=\"\",\"\",IF('Arrear Sheet'!C77=\"TOTAL\",\"\",'Arrear Sheet'!O77))","v":""},{"$f":"IF(B77=\"\",\"\",IF('Arrear Sheet'!C77=\"TOTAL\",\"\",'Arrear Sheet'!P77))","v":""},{"$f":"IF(B77=\"\",\"\",IF('Arrear Sheet'!D77=\"TOTAL\",\"\",'Arrear Sheet'!Q77))","v":""},{"$f":"IF(B77=\"\",\"\",IF('Arrear Sheet'!C77=\"TOTAL\",\"\",SUM(M77:P77)))","v":""},{"$f":"IF(B77=\"\",\"\",IF('Arrear Sheet'!C77=\"TOTAL\",\"\",'Arrear Sheet'!S77))","v":""},{"$f":"IF(B77=\"\",\"\",IF('Arrear Sheet'!C77=\"TOTAL\",\"\",'Arrear Sheet'!T77))","v":""},{"$f":"IF(B77=\"\",\"\",IF('Arrear Sheet'!C77=\"TOTAL\",\"\",'Arrear Sheet'!U77))","v":""},{"$f":"IF(B77=\"\",\"\",IF('Arrear Sheet'!C77=\"TOTAL\",\"\",'Arrear Sheet'!V77))","v":""},{"$f":"IF(B77=\"\",\"\",IF('Arrear Sheet'!C77=\"TOTAL\",\"\",'Arrear Sheet'!W77))","v":""},{"$f":"IF(B77=\"\",\"\",IF('Arrear Sheet'!C77=\"TOTAL\",\"\",'Arrear Sheet'!X77))","v":""},{"$f":"IF(B77=\"\",\"\",IF('Arrear Sheet'!C77=\"TOTAL\",\"\",'Arrear Sheet'!AB77))","v":""},{"$f":"IF(B77=\"\",\"\",IF('Arrear Sheet'!D77=\"TOTAL\",\"\",'Arrear Sheet'!AC77))","v":""},{"$f":"IF(B77=\"\",\"\",IF('Arrear Sheet'!E77=\"TOTAL\",\"\",'Arrear Sheet'!AD77))","v":""},{"$f":"IF(B77=\"\",\"\",IF('Arrear Sheet'!C77=\"TOTAL\",\"\",'Arrear Sheet'!Y77))","v":""},{"$f":"IF(B77=\"\",\"\",IF('Arrear Sheet'!C77=\"TOTAL\",\"\",'Arrear Sheet'!Z77))","v":""},{"$f":"IF(B77=\"\",\"\",IF('Arrear Sheet'!C77=\"TOTAL\",\"\",'Arrear Sheet'!AA77))","v":""},{"$f":"IF(B77=\"\",\"\",IF('Arrear Sheet'!C77=\"TOTAL\",\"\",'Arrear Sheet'!AE77))","v":""},{"$f":"IF(B77=\"\",\"\",IF('Arrear Sheet'!C77=\"TOTAL\",\"\",'Arrear Sheet'!AF77))","v":""},{"$f":"IF(B77=\"\",\"\",'Arrear Sheet'!AG77)","v":""},{"$f":"IFERROR(IF(B77=\"\",\"\",IF('Arrear Sheet'!C77=\"TOTAL\",\"\",SUM(Q77-AF77))),\"\")","v":""}]
[{"$f":"IF('Arrear Sheet'!B78=\"\",\"\",'Arrear Sheet'!B78)","v":""},{"$f":"IF('Arrear Sheet'!C78=\"\",\"\",IF('Arrear Sheet'!C78=\"TOTAL\",\"\",'Arrear Sheet'!C78))","v":""},{"$f":"IF('Arrear Sheet'!D78=\"\",\"\",IF('Arrear Sheet'!C78=\"TOTAL\",\"\",IF('Arrear Sheet'!D78=\"अक्षरें राशि :-\",\"\",'Arrear Sheet'!D78)))","v":""},{"$f":"IF('Arrear Sheet'!E78=\"\",\"\",IF('Arrear Sheet'!C78=\"TOTAL\",\"\",'Arrear Sheet'!E78))","v":""},{"$f":"IF(B78=\"\",\"\",IF('Arrear Sheet'!D78=\"TOTAL\",\"\",'Arrear Sheet'!F78))","v":""},{"$f":"IF(B78=\"\",\"\",IF('Arrear Sheet'!E78=\"TOTAL\",\"\",'Arrear Sheet'!G78))","v":""},{"$f":"IF(B78=\"\",\"\",IF('Arrear Sheet'!C78=\"TOTAL\",\"\",SUM(C78:F78)))","v":""},{"$f":"IF(B78=\"\",\"\",IF('Arrear Sheet'!C78=\"TOTAL\",\"\",'Arrear Sheet'!I78))","v":""},{"$f":"IF(B78=\"\",\"\",IF('Arrear Sheet'!C78=\"TOTAL\",\"\",'Arrear Sheet'!J78))","v":""},{"$f":"IF(B78=\"\",\"\",IF('Arrear Sheet'!C78=\"TOTAL\",\"\",'Arrear Sheet'!K78))","v":""},{"$f":"IF(B78=\"\",\"\",IF('Arrear Sheet'!D78=\"TOTAL\",\"\",'Arrear Sheet'!L78))","v":""},{"$f":"IF(B78=\"\",\"\",IF('Arrear Sheet'!C78=\"TOTAL\",\"\",SUM(H78:K78)))","v":""},{"$f":"IF(B78=\"\",\"\",IF('Arrear Sheet'!C78=\"TOTAL\",\"\",'Arrear Sheet'!N78))","v":""},{"$f":"IF(B78=\"\",\"\",IF('Arrear Sheet'!C78=\"TOTAL\",\"\",'Arrear Sheet'!O78))","v":""},{"$f":"IF(B78=\"\",\"\",IF('Arrear Sheet'!C78=\"TOTAL\",\"\",'Arrear Sheet'!P78))","v":""},{"$f":"IF(B78=\"\",\"\",IF('Arrear Sheet'!D78=\"TOTAL\",\"\",'Arrear Sheet'!Q78))","v":""},{"$f":"IF(B78=\"\",\"\",IF('Arrear Sheet'!C78=\"TOTAL\",\"\",SUM(M78:P78)))","v":""},{"$f":"IF(B78=\"\",\"\",IF('Arrear Sheet'!C78=\"TOTAL\",\"\",'Arrear Sheet'!S78))","v":""},{"$f":"IF(B78=\"\",\"\",IF('Arrear Sheet'!C78=\"TOTAL\",\"\",'Arrear Sheet'!T78))","v":""},{"$f":"IF(B78=\"\",\"\",IF('Arrear Sheet'!C78=\"TOTAL\",\"\",'Arrear Sheet'!U78))","v":""},{"$f":"IF(B78=\"\",\"\",IF('Arrear Sheet'!C78=\"TOTAL\",\"\",'Arrear Sheet'!V78))","v":""},{"$f":"IF(B78=\"\",\"\",IF('Arrear Sheet'!C78=\"TOTAL\",\"\",'Arrear Sheet'!W78))","v":""},{"$f":"IF(B78=\"\",\"\",IF('Arrear Sheet'!C78=\"TOTAL\",\"\",'Arrear Sheet'!X78))","v":""},{"$f":"IF(B78=\"\",\"\",IF('Arrear Sheet'!C78=\"TOTAL\",\"\",'Arrear Sheet'!AB78))","v":""},{"$f":"IF(B78=\"\",\"\",IF('Arrear Sheet'!D78=\"TOTAL\",\"\",'Arrear Sheet'!AC78))","v":""},{"$f":"IF(B78=\"\",\"\",IF('Arrear Sheet'!E78=\"TOTAL\",\"\",'Arrear Sheet'!AD78))","v":""},{"$f":"IF(B78=\"\",\"\",IF('Arrear Sheet'!C78=\"TOTAL\",\"\",'Arrear Sheet'!Y78))","v":""},{"$f":"IF(B78=\"\",\"\",IF('Arrear Sheet'!C78=\"TOTAL\",\"\",'Arrear Sheet'!Z78))","v":""},{"$f":"IF(B78=\"\",\"\",IF('Arrear Sheet'!C78=\"TOTAL\",\"\",'Arrear Sheet'!AA78))","v":""},{"$f":"IF(B78=\"\",\"\",IF('Arrear Sheet'!C78=\"TOTAL\",\"\",'Arrear Sheet'!AE78))","v":""},{"$f":"IF(B78=\"\",\"\",IF('Arrear Sheet'!C78=\"TOTAL\",\"\",'Arrear Sheet'!AF78))","v":""},{"$f":"IF(B78=\"\",\"\",'Arrear Sheet'!AG78)","v":""},{"$f":"IFERROR(IF(B78=\"\",\"\",IF('Arrear Sheet'!C78=\"TOTAL\",\"\",SUM(Q78-AF78))),\"\")","v":""}]
[{"$f":"IF('Arrear Sheet'!B79=\"\",\"\",'Arrear Sheet'!B79)","v":""},{"$f":"IF('Arrear Sheet'!C79=\"\",\"\",IF('Arrear Sheet'!C79=\"TOTAL\",\"\",'Arrear Sheet'!C79))","v":""},{"$f":"IF('Arrear Sheet'!D79=\"\",\"\",IF('Arrear Sheet'!C79=\"TOTAL\",\"\",IF('Arrear Sheet'!D79=\"अक्षरें राशि :-\",\"\",'Arrear Sheet'!D79)))","v":""},{"$f":"IF('Arrear Sheet'!E79=\"\",\"\",IF('Arrear Sheet'!C79=\"TOTAL\",\"\",'Arrear Sheet'!E79))","v":""},{"$f":"IF(B79=\"\",\"\",IF('Arrear Sheet'!D79=\"TOTAL\",\"\",'Arrear Sheet'!F79))","v":""},{"$f":"IF(B79=\"\",\"\",IF('Arrear Sheet'!E79=\"TOTAL\",\"\",'Arrear Sheet'!G79))","v":""},{"$f":"IF(B79=\"\",\"\",IF('Arrear Sheet'!C79=\"TOTAL\",\"\",SUM(C79:F79)))","v":""},{"$f":"IF(B79=\"\",\"\",IF('Arrear Sheet'!C79=\"TOTAL\",\"\",'Arrear Sheet'!I79))","v":""},{"$f":"IF(B79=\"\",\"\",IF('Arrear Sheet'!C79=\"TOTAL\",\"\",'Arrear Sheet'!J79))","v":""},{"$f":"IF(B79=\"\",\"\",IF('Arrear Sheet'!C79=\"TOTAL\",\"\",'Arrear Sheet'!K79))","v":""},{"$f":"IF(B79=\"\",\"\",IF('Arrear Sheet'!D79=\"TOTAL\",\"\",'Arrear Sheet'!L79))","v":""},{"$f":"IF(B79=\"\",\"\",IF('Arrear Sheet'!C79=\"TOTAL\",\"\",SUM(H79:K79)))","v":""},{"$f":"IF(B79=\"\",\"\",IF('Arrear Sheet'!C79=\"TOTAL\",\"\",'Arrear Sheet'!N79))","v":""},{"$f":"IF(B79=\"\",\"\",IF('Arrear Sheet'!C79=\"TOTAL\",\"\",'Arrear Sheet'!O79))","v":""},{"$f":"IF(B79=\"\",\"\",IF('Arrear Sheet'!C79=\"TOTAL\",\"\",'Arrear Sheet'!P79))","v":""},{"$f":"IF(B79=\"\",\"\",IF('Arrear Sheet'!D79=\"TOTAL\",\"\",'Arrear Sheet'!Q79))","v":""},{"$f":"IF(B79=\"\",\"\",IF('Arrear Sheet'!C79=\"TOTAL\",\"\",SUM(M79:P79)))","v":""},{"$f":"IF(B79=\"\",\"\",IF('Arrear Sheet'!C79=\"TOTAL\",\"\",'Arrear Sheet'!S79))","v":""},{"$f":"IF(B79=\"\",\"\",IF('Arrear Sheet'!C79=\"TOTAL\",\"\",'Arrear Sheet'!T79))","v":""},{"$f":"IF(B79=\"\",\"\",IF('Arrear Sheet'!C79=\"TOTAL\",\"\",'Arrear Sheet'!U79))","v":""},{"$f":"IF(B79=\"\",\"\",IF('Arrear Sheet'!C79=\"TOTAL\",\"\",'Arrear Sheet'!V79))","v":""},{"$f":"IF(B79=\"\",\"\",IF('Arrear Sheet'!C79=\"TOTAL\",\"\",'Arrear Sheet'!W79))","v":""},{"$f":"IF(B79=\"\",\"\",IF('Arrear Sheet'!C79=\"TOTAL\",\"\",'Arrear Sheet'!X79))","v":""},{"$f":"IF(B79=\"\",\"\",IF('Arrear Sheet'!C79=\"TOTAL\",\"\",'Arrear Sheet'!AB79))","v":""},{"$f":"IF(B79=\"\",\"\",IF('Arrear Sheet'!D79=\"TOTAL\",\"\",'Arrear Sheet'!AC79))","v":""},{"$f":"IF(B79=\"\",\"\",IF('Arrear Sheet'!E79=\"TOTAL\",\"\",'Arrear Sheet'!AD79))","v":""},{"$f":"IF(B79=\"\",\"\",IF('Arrear Sheet'!C79=\"TOTAL\",\"\",'Arrear Sheet'!Y79))","v":""},{"$f":"IF(B79=\"\",\"\",IF('Arrear Sheet'!C79=\"TOTAL\",\"\",'Arrear Sheet'!Z79))","v":""},{"$f":"IF(B79=\"\",\"\",IF('Arrear Sheet'!C79=\"TOTAL\",\"\",'Arrear Sheet'!AA79))","v":""},{"$f":"IF(B79=\"\",\"\",IF('Arrear Sheet'!C79=\"TOTAL\",\"\",'Arrear Sheet'!AE79))","v":""},{"$f":"IF(B79=\"\",\"\",IF('Arrear Sheet'!C79=\"TOTAL\",\"\",'Arrear Sheet'!AF79))","v":""},{"$f":"IF(B79=\"\",\"\",'Arrear Sheet'!AG79)","v":""},{"$f":"IFERROR(IF(B79=\"\",\"\",IF('Arrear Sheet'!C79=\"TOTAL\",\"\",SUM(Q79-AF79))),\"\")","v":""}]
[{"$f":"IF('Arrear Sheet'!B80=\"\",\"\",'Arrear Sheet'!B80)","v":""},{"$f":"IF('Arrear Sheet'!C80=\"\",\"\",IF('Arrear Sheet'!C80=\"TOTAL\",\"\",'Arrear Sheet'!C80))","v":""},{"$f":"IF('Arrear Sheet'!D80=\"\",\"\",IF('Arrear Sheet'!C80=\"TOTAL\",\"\",IF('Arrear Sheet'!D80=\"अक्षरें राशि :-\",\"\",'Arrear Sheet'!D80)))","v":""},{"$f":"IF('Arrear Sheet'!E80=\"\",\"\",IF('Arrear Sheet'!C80=\"TOTAL\",\"\",'Arrear Sheet'!E80))","v":""},{"$f":"IF(B80=\"\",\"\",IF('Arrear Sheet'!D80=\"TOTAL\",\"\",'Arrear Sheet'!F80))","v":""},{"$f":"IF(B80=\"\",\"\",IF('Arrear Sheet'!E80=\"TOTAL\",\"\",'Arrear Sheet'!G80))","v":""},{"$f":"IF(B80=\"\",\"\",IF('Arrear Sheet'!C80=\"TOTAL\",\"\",SUM(C80:F80)))","v":""},{"$f":"IF(B80=\"\",\"\",IF('Arrear Sheet'!C80=\"TOTAL\",\"\",'Arrear Sheet'!I80))","v":""},{"$f":"IF(B80=\"\",\"\",IF('Arrear Sheet'!C80=\"TOTAL\",\"\",'Arrear Sheet'!J80))","v":""},{"$f":"IF(B80=\"\",\"\",IF('Arrear Sheet'!C80=\"TOTAL\",\"\",'Arrear Sheet'!K80))","v":""},{"$f":"IF(B80=\"\",\"\",IF('Arrear Sheet'!D80=\"TOTAL\",\"\",'Arrear Sheet'!L80))","v":""},{"$f":"IF(B80=\"\",\"\",IF('Arrear Sheet'!C80=\"TOTAL\",\"\",SUM(H80:K80)))","v":""},{"$f":"IF(B80=\"\",\"\",IF('Arrear Sheet'!C80=\"TOTAL\",\"\",'Arrear Sheet'!N80))","v":""},{"$f":"IF(B80=\"\",\"\",IF('Arrear Sheet'!C80=\"TOTAL\",\"\",'Arrear Sheet'!O80))","v":""},{"$f":"IF(B80=\"\",\"\",IF('Arrear Sheet'!C80=\"TOTAL\",\"\",'Arrear Sheet'!P80))","v":""},{"$f":"IF(B80=\"\",\"\",IF('Arrear Sheet'!D80=\"TOTAL\",\"\",'Arrear Sheet'!Q80))","v":""},{"$f":"IF(B80=\"\",\"\",IF('Arrear Sheet'!C80=\"TOTAL\",\"\",SUM(M80:P80)))","v":""},{"$f":"IF(B80=\"\",\"\",IF('Arrear Sheet'!C80=\"TOTAL\",\"\",'Arrear Sheet'!S80))","v":""},{"$f":"IF(B80=\"\",\"\",IF('Arrear Sheet'!C80=\"TOTAL\",\"\",'Arrear Sheet'!T80))","v":""},{"$f":"IF(B80=\"\",\"\",IF('Arrear Sheet'!C80=\"TOTAL\",\"\",'Arrear Sheet'!U80))","v":""},{"$f":"IF(B80=\"\",\"\",IF('Arrear Sheet'!C80=\"TOTAL\",\"\",'Arrear Sheet'!V80))","v":""},{"$f":"IF(B80=\"\",\"\",IF('Arrear Sheet'!C80=\"TOTAL\",\"\",'Arrear Sheet'!W80))","v":""},{"$f":"IF(B80=\"\",\"\",IF('Arrear Sheet'!C80=\"TOTAL\",\"\",'Arrear Sheet'!X80))","v":""},{"$f":"IF(B80=\"\",\"\",IF('Arrear Sheet'!C80=\"TOTAL\",\"\",'Arrear Sheet'!AB80))","v":""},{"$f":"IF(B80=\"\",\"\",IF('Arrear Sheet'!D80=\"TOTAL\",\"\",'Arrear Sheet'!AC80))","v":""},{"$f":"IF(B80=\"\",\"\",IF('Arrear Sheet'!E80=\"TOTAL\",\"\",'Arrear Sheet'!AD80))","v":""},{"$f":"IF(B80=\"\",\"\",IF('Arrear Sheet'!C80=\"TOTAL\",\"\",'Arrear Sheet'!Y80))","v":""},{"$f":"IF(B80=\"\",\"\",IF('Arrear Sheet'!C80=\"TOTAL\",\"\",'Arrear Sheet'!Z80))","v":""},{"$f":"IF(B80=\"\",\"\",IF('Arrear Sheet'!C80=\"TOTAL\",\"\",'Arrear Sheet'!AA80))","v":""},{"$f":"IF(B80=\"\",\"\",IF('Arrear Sheet'!C80=\"TOTAL\",\"\",'Arrear Sheet'!AE80))","v":""},{"$f":"IF(B80=\"\",\"\",IF('Arrear Sheet'!C80=\"TOTAL\",\"\",'Arrear Sheet'!AF80))","v":""},{"$f":"IF(B80=\"\",\"\",'Arrear Sheet'!AG80)","v":""},{"$f":"IFERROR(IF(B80=\"\",\"\",IF('Arrear Sheet'!C80=\"TOTAL\",\"\",SUM(Q80-AF80))),\"\")","v":""}]
[{"$f":"IF('Arrear Sheet'!B81=\"\",\"\",'Arrear Sheet'!B81)","v":""},{"$f":"IF('Arrear Sheet'!C81=\"\",\"\",IF('Arrear Sheet'!C81=\"TOTAL\",\"\",'Arrear Sheet'!C81))","v":""},{"$f":"IF('Arrear Sheet'!D81=\"\",\"\",IF('Arrear Sheet'!C81=\"TOTAL\",\"\",IF('Arrear Sheet'!D81=\"अक्षरें राशि :-\",\"\",'Arrear Sheet'!D81)))","v":""},{"$f":"IF('Arrear Sheet'!E81=\"\",\"\",IF('Arrear Sheet'!C81=\"TOTAL\",\"\",'Arrear Sheet'!E81))","v":""},{"$f":"IF(B81=\"\",\"\",IF('Arrear Sheet'!D81=\"TOTAL\",\"\",'Arrear Sheet'!F81))","v":""},{"$f":"IF(B81=\"\",\"\",IF('Arrear Sheet'!E81=\"TOTAL\",\"\",'Arrear Sheet'!G81))","v":""},{"$f":"IF(B81=\"\",\"\",IF('Arrear Sheet'!C81=\"TOTAL\",\"\",SUM(C81:F81)))","v":""},{"$f":"IF(B81=\"\",\"\",IF('Arrear Sheet'!C81=\"TOTAL\",\"\",'Arrear Sheet'!I81))","v":""},{"$f":"IF(B81=\"\",\"\",IF('Arrear Sheet'!C81=\"TOTAL\",\"\",'Arrear Sheet'!J81))","v":""},{"$f":"IF(B81=\"\",\"\",IF('Arrear Sheet'!C81=\"TOTAL\",\"\",'Arrear Sheet'!K81))","v":""},{"$f":"IF(B81=\"\",\"\",IF('Arrear Sheet'!D81=\"TOTAL\",\"\",'Arrear Sheet'!L81))","v":""},{"$f":"IF(B81=\"\",\"\",IF('Arrear Sheet'!C81=\"TOTAL\",\"\",SUM(H81:K81)))","v":""},{"$f":"IF(B81=\"\",\"\",IF('Arrear Sheet'!C81=\"TOTAL\",\"\",'Arrear Sheet'!N81))","v":""},{"$f":"IF(B81=\"\",\"\",IF('Arrear Sheet'!C81=\"TOTAL\",\"\",'Arrear Sheet'!O81))","v":""},{"$f":"IF(B81=\"\",\"\",IF('Arrear Sheet'!C81=\"TOTAL\",\"\",'Arrear Sheet'!P81))","v":""},{"$f":"IF(B81=\"\",\"\",IF('Arrear Sheet'!D81=\"TOTAL\",\"\",'Arrear Sheet'!Q81))","v":""},{"$f":"IF(B81=\"\",\"\",IF('Arrear Sheet'!C81=\"TOTAL\",\"\",SUM(M81:P81)))","v":""},{"$f":"IF(B81=\"\",\"\",IF('Arrear Sheet'!C81=\"TOTAL\",\"\",'Arrear Sheet'!S81))","v":""},{"$f":"IF(B81=\"\",\"\",IF('Arrear Sheet'!C81=\"TOTAL\",\"\",'Arrear Sheet'!T81))","v":""},{"$f":"IF(B81=\"\",\"\",IF('Arrear Sheet'!C81=\"TOTAL\",\"\",'Arrear Sheet'!U81))","v":""},{"$f":"IF(B81=\"\",\"\",IF('Arrear Sheet'!C81=\"TOTAL\",\"\",'Arrear Sheet'!V81))","v":""},{"$f":"IF(B81=\"\",\"\",IF('Arrear Sheet'!C81=\"TOTAL\",\"\",'Arrear Sheet'!W81))","v":""},{"$f":"IF(B81=\"\",\"\",IF('Arrear Sheet'!C81=\"TOTAL\",\"\",'Arrear Sheet'!X81))","v":""},{"$f":"IF(B81=\"\",\"\",IF('Arrear Sheet'!C81=\"TOTAL\",\"\",'Arrear Sheet'!AB81))","v":""},{"$f":"IF(B81=\"\",\"\",IF('Arrear Sheet'!D81=\"TOTAL\",\"\",'Arrear Sheet'!AC81))","v":""},{"$f":"IF(B81=\"\",\"\",IF('Arrear Sheet'!E81=\"TOTAL\",\"\",'Arrear Sheet'!AD81))","v":""},{"$f":"IF(B81=\"\",\"\",IF('Arrear Sheet'!C81=\"TOTAL\",\"\",'Arrear Sheet'!Y81))","v":""},{"$f":"IF(B81=\"\",\"\",IF('Arrear Sheet'!C81=\"TOTAL\",\"\",'Arrear Sheet'!Z81))","v":""},{"$f":"IF(B81=\"\",\"\",IF('Arrear Sheet'!C81=\"TOTAL\",\"\",'Arrear Sheet'!AA81))","v":""},{"$f":"IF(B81=\"\",\"\",IF('Arrear Sheet'!C81=\"TOTAL\",\"\",'Arrear Sheet'!AE81))","v":""},{"$f":"IF(B81=\"\",\"\",IF('Arrear Sheet'!C81=\"TOTAL\",\"\",'Arrear Sheet'!AF81))","v":""},{"$f":"IF(B81=\"\",\"\",'Arrear Sheet'!AG81)","v":""},{"$f":"IFERROR(IF(B81=\"\",\"\",IF('Arrear Sheet'!C81=\"TOTAL\",\"\",SUM(Q81-AF81))),\"\")","v":""}]
[{"$f":"IF('Arrear Sheet'!B82=\"\",\"\",'Arrear Sheet'!B82)","v":""},{"$f":"IF('Arrear Sheet'!C82=\"\",\"\",IF('Arrear Sheet'!C82=\"TOTAL\",\"\",'Arrear Sheet'!C82))","v":""},{"$f":"IF('Arrear Sheet'!D82=\"\",\"\",IF('Arrear Sheet'!C82=\"TOTAL\",\"\",IF('Arrear Sheet'!D82=\"अक्षरें राशि :-\",\"\",'Arrear Sheet'!D82)))","v":""},{"$f":"IF('Arrear Sheet'!E82=\"\",\"\",IF('Arrear Sheet'!C82=\"TOTAL\",\"\",'Arrear Sheet'!E82))","v":""},{"$f":"IF(B82=\"\",\"\",IF('Arrear Sheet'!D82=\"TOTAL\",\"\",'Arrear Sheet'!F82))","v":""},{"$f":"IF(B82=\"\",\"\",IF('Arrear Sheet'!E82=\"TOTAL\",\"\",'Arrear Sheet'!G82))","v":""},{"$f":"IF(B82=\"\",\"\",IF('Arrear Sheet'!C82=\"TOTAL\",\"\",SUM(C82:F82)))","v":""},{"$f":"IF(B82=\"\",\"\",IF('Arrear Sheet'!C82=\"TOTAL\",\"\",'Arrear Sheet'!I82))","v":""},{"$f":"IF(B82=\"\",\"\",IF('Arrear Sheet'!C82=\"TOTAL\",\"\",'Arrear Sheet'!J82))","v":""},{"$f":"IF(B82=\"\",\"\",IF('Arrear Sheet'!C82=\"TOTAL\",\"\",'Arrear Sheet'!K82))","v":""},{"$f":"IF(B82=\"\",\"\",IF('Arrear Sheet'!D82=\"TOTAL\",\"\",'Arrear Sheet'!L82))","v":""},{"$f":"IF(B82=\"\",\"\",IF('Arrear Sheet'!C82=\"TOTAL\",\"\",SUM(H82:K82)))","v":""},{"$f":"IF(B82=\"\",\"\",IF('Arrear Sheet'!C82=\"TOTAL\",\"\",'Arrear Sheet'!N82))","v":""},{"$f":"IF(B82=\"\",\"\",IF('Arrear Sheet'!C82=\"TOTAL\",\"\",'Arrear Sheet'!O82))","v":""},{"$f":"IF(B82=\"\",\"\",IF('Arrear Sheet'!C82=\"TOTAL\",\"\",'Arrear Sheet'!P82))","v":""},{"$f":"IF(B82=\"\",\"\",IF('Arrear Sheet'!D82=\"TOTAL\",\"\",'Arrear Sheet'!Q82))","v":""},{"$f":"IF(B82=\"\",\"\",IF('Arrear Sheet'!C82=\"TOTAL\",\"\",SUM(M82:P82)))","v":""},{"$f":"IF(B82=\"\",\"\",IF('Arrear Sheet'!C82=\"TOTAL\",\"\",'Arrear Sheet'!S82))","v":""},{"$f":"IF(B82=\"\",\"\",IF('Arrear Sheet'!C82=\"TOTAL\",\"\",'Arrear Sheet'!T82))","v":""},{"$f":"IF(B82=\"\",\"\",IF('Arrear Sheet'!C82=\"TOTAL\",\"\",'Arrear Sheet'!U82))","v":""},{"$f":"IF(B82=\"\",\"\",IF('Arrear Sheet'!C82=\"TOTAL\",\"\",'Arrear Sheet'!V82))","v":""},{"$f":"IF(B82=\"\",\"\",IF('Arrear Sheet'!C82=\"TOTAL\",\"\",'Arrear Sheet'!W82))","v":""},{"$f":"IF(B82=\"\",\"\",IF('Arrear Sheet'!C82=\"TOTAL\",\"\",'Arrear Sheet'!X82))","v":""},{"$f":"IF(B82=\"\",\"\",IF('Arrear Sheet'!C82=\"TOTAL\",\"\",'Arrear Sheet'!AB82))","v":""},{"$f":"IF(B82=\"\",\"\",IF('Arrear Sheet'!D82=\"TOTAL\",\"\",'Arrear Sheet'!AC82))","v":""},{"$f":"IF(B82=\"\",\"\",IF('Arrear Sheet'!E82=\"TOTAL\",\"\",'Arrear Sheet'!AD82))","v":""},{"$f":"IF(B82=\"\",\"\",IF('Arrear Sheet'!C82=\"TOTAL\",\"\",'Arrear Sheet'!Y82))","v":""},{"$f":"IF(B82=\"\",\"\",IF('Arrear Sheet'!C82=\"TOTAL\",\"\",'Arrear Sheet'!Z82))","v":""},{"$f":"IF(B82=\"\",\"\",IF('Arrear Sheet'!C82=\"TOTAL\",\"\",'Arrear Sheet'!AA82))","v":""},{"$f":"IF(B82=\"\",\"\",IF('Arrear Sheet'!C82=\"TOTAL\",\"\",'Arrear Sheet'!AE82))","v":""},{"$f":"IF(B82=\"\",\"\",IF('Arrear Sheet'!C82=\"TOTAL\",\"\",'Arrear Sheet'!AF82))","v":""},{"$f":"IF(B82=\"\",\"\",'Arrear Sheet'!AG82)","v":""},{"$f":"IFERROR(IF(B82=\"\",\"\",IF('Arrear Sheet'!C82=\"TOTAL\",\"\",SUM(Q82-AF82))),\"\")","v":""}]
[{"$f":"IF('Arrear Sheet'!B83=\"\",\"\",'Arrear Sheet'!B83)","v":""},{"$f":"IF('Arrear Sheet'!C83=\"\",\"\",IF('Arrear Sheet'!C83=\"TOTAL\",\"\",'Arrear Sheet'!C83))","v":""},{"$f":"IF('Arrear Sheet'!D83=\"\",\"\",IF('Arrear Sheet'!C83=\"TOTAL\",\"\",IF('Arrear Sheet'!D83=\"अक्षरें राशि :-\",\"\",'Arrear Sheet'!D83)))","v":""},{"$f":"IF('Arrear Sheet'!E83=\"\",\"\",IF('Arrear Sheet'!C83=\"TOTAL\",\"\",'Arrear Sheet'!E83))","v":""},{"$f":"IF(B83=\"\",\"\",IF('Arrear Sheet'!D83=\"TOTAL\",\"\",'Arrear Sheet'!F83))","v":""},{"$f":"IF(B83=\"\",\"\",IF('Arrear Sheet'!E83=\"TOTAL\",\"\",'Arrear Sheet'!G83))","v":""},{"$f":"IF(B83=\"\",\"\",IF('Arrear Sheet'!C83=\"TOTAL\",\"\",SUM(C83:F83)))","v":""},{"$f":"IF(B83=\"\",\"\",IF('Arrear Sheet'!C83=\"TOTAL\",\"\",'Arrear Sheet'!I83))","v":""},{"$f":"IF(B83=\"\",\"\",IF('Arrear Sheet'!C83=\"TOTAL\",\"\",'Arrear Sheet'!J83))","v":""},{"$f":"IF(B83=\"\",\"\",IF('Arrear Sheet'!C83=\"TOTAL\",\"\",'Arrear Sheet'!K83))","v":""},{"$f":"IF(B83=\"\",\"\",IF('Arrear Sheet'!D83=\"TOTAL\",\"\",'Arrear Sheet'!L83))","v":""},{"$f":"IF(B83=\"\",\"\",IF('Arrear Sheet'!C83=\"TOTAL\",\"\",SUM(H83:K83)))","v":""},{"$f":"IF(B83=\"\",\"\",IF('Arrear Sheet'!C83=\"TOTAL\",\"\",'Arrear Sheet'!N83))","v":""},{"$f":"IF(B83=\"\",\"\",IF('Arrear Sheet'!C83=\"TOTAL\",\"\",'Arrear Sheet'!O83))","v":""},{"$f":"IF(B83=\"\",\"\",IF('Arrear Sheet'!C83=\"TOTAL\",\"\",'Arrear Sheet'!P83))","v":""},{"$f":"IF(B83=\"\",\"\",IF('Arrear Sheet'!D83=\"TOTAL\",\"\",'Arrear Sheet'!Q83))","v":""},{"$f":"IF(B83=\"\",\"\",IF('Arrear Sheet'!C83=\"TOTAL\",\"\",SUM(M83:P83)))","v":""},{"$f":"IF(B83=\"\",\"\",IF('Arrear Sheet'!C83=\"TOTAL\",\"\",'Arrear Sheet'!S83))","v":""},{"$f":"IF(B83=\"\",\"\",IF('Arrear Sheet'!C83=\"TOTAL\",\"\",'Arrear Sheet'!T83))","v":""},{"$f":"IF(B83=\"\",\"\",IF('Arrear Sheet'!C83=\"TOTAL\",\"\",'Arrear Sheet'!U83))","v":""},{"$f":"IF(B83=\"\",\"\",IF('Arrear Sheet'!C83=\"TOTAL\",\"\",'Arrear Sheet'!V83))","v":""},{"$f":"IF(B83=\"\",\"\",IF('Arrear Sheet'!C83=\"TOTAL\",\"\",'Arrear Sheet'!W83))","v":""},{"$f":"IF(B83=\"\",\"\",IF('Arrear Sheet'!C83=\"TOTAL\",\"\",'Arrear Sheet'!X83))","v":""},{"$f":"IF(B83=\"\",\"\",IF('Arrear Sheet'!C83=\"TOTAL\",\"\",'Arrear Sheet'!AB83))","v":""},{"$f":"IF(B83=\"\",\"\",IF('Arrear Sheet'!D83=\"TOTAL\",\"\",'Arrear Sheet'!AC83))","v":""},{"$f":"IF(B83=\"\",\"\",IF('Arrear Sheet'!E83=\"TOTAL\",\"\",'Arrear Sheet'!AD83))","v":""},{"$f":"IF(B83=\"\",\"\",IF('Arrear Sheet'!C83=\"TOTAL\",\"\",'Arrear Sheet'!Y83))","v":""},{"$f":"IF(B83=\"\",\"\",IF('Arrear Sheet'!C83=\"TOTAL\",\"\",'Arrear Sheet'!Z83))","v":""},{"$f":"IF(B83=\"\",\"\",IF('Arrear Sheet'!C83=\"TOTAL\",\"\",'Arrear Sheet'!AA83))","v":""},{"$f":"IF(B83=\"\",\"\",IF('Arrear Sheet'!C83=\"TOTAL\",\"\",'Arrear Sheet'!AE83))","v":""},{"$f":"IF(B83=\"\",\"\",IF('Arrear Sheet'!C83=\"TOTAL\",\"\",'Arrear Sheet'!AF83))","v":""},{"$f":"IF(B83=\"\",\"\",'Arrear Sheet'!AG83)","v":""},{"$f":"IFERROR(IF(B83=\"\",\"\",IF('Arrear Sheet'!C83=\"TOTAL\",\"\",SUM(Q83-AF83))),\"\")","v":""}]
[{"$f":"IF('Arrear Sheet'!B84=\"\",\"\",'Arrear Sheet'!B84)","v":""},{"$f":"IF('Arrear Sheet'!C84=\"\",\"\",IF('Arrear Sheet'!C84=\"TOTAL\",\"\",'Arrear Sheet'!C84))","v":""},{"$f":"IF('Arrear Sheet'!D84=\"\",\"\",IF('Arrear Sheet'!C84=\"TOTAL\",\"\",IF('Arrear Sheet'!D84=\"अक्षरें राशि :-\",\"\",'Arrear Sheet'!D84)))","v":""},{"$f":"IF('Arrear Sheet'!E84=\"\",\"\",IF('Arrear Sheet'!C84=\"TOTAL\",\"\",'Arrear Sheet'!E84))","v":""},{"$f":"IF(B84=\"\",\"\",IF('Arrear Sheet'!D84=\"TOTAL\",\"\",'Arrear Sheet'!F84))","v":""},{"$f":"IF(B84=\"\",\"\",IF('Arrear Sheet'!E84=\"TOTAL\",\"\",'Arrear Sheet'!G84))","v":""},{"$f":"IF(B84=\"\",\"\",IF('Arrear Sheet'!C84=\"TOTAL\",\"\",SUM(C84:F84)))","v":""},{"$f":"IF(B84=\"\",\"\",IF('Arrear Sheet'!C84=\"TOTAL\",\"\",'Arrear Sheet'!I84))","v":""},{"$f":"IF(B84=\"\",\"\",IF('Arrear Sheet'!C84=\"TOTAL\",\"\",'Arrear Sheet'!J84))","v":""},{"$f":"IF(B84=\"\",\"\",IF('Arrear Sheet'!C84=\"TOTAL\",\"\",'Arrear Sheet'!K84))","v":""},{"$f":"IF(B84=\"\",\"\",IF('Arrear Sheet'!D84=\"TOTAL\",\"\",'Arrear Sheet'!L84))","v":""},{"$f":"IF(B84=\"\",\"\",IF('Arrear Sheet'!C84=\"TOTAL\",\"\",SUM(H84:K84)))","v":""},{"$f":"IF(B84=\"\",\"\",IF('Arrear Sheet'!C84=\"TOTAL\",\"\",'Arrear Sheet'!N84))","v":""},{"$f":"IF(B84=\"\",\"\",IF('Arrear Sheet'!C84=\"TOTAL\",\"\",'Arrear Sheet'!O84))","v":""},{"$f":"IF(B84=\"\",\"\",IF('Arrear Sheet'!C84=\"TOTAL\",\"\",'Arrear Sheet'!P84))","v":""},{"$f":"IF(B84=\"\",\"\",IF('Arrear Sheet'!D84=\"TOTAL\",\"\",'Arrear Sheet'!Q84))","v":""},{"$f":"IF(B84=\"\",\"\",IF('Arrear Sheet'!C84=\"TOTAL\",\"\",SUM(M84:P84)))","v":""},{"$f":"IF(B84=\"\",\"\",IF('Arrear Sheet'!C84=\"TOTAL\",\"\",'Arrear Sheet'!S84))","v":""},{"$f":"IF(B84=\"\",\"\",IF('Arrear Sheet'!C84=\"TOTAL\",\"\",'Arrear Sheet'!T84))","v":""},{"$f":"IF(B84=\"\",\"\",IF('Arrear Sheet'!C84=\"TOTAL\",\"\",'Arrear Sheet'!U84))","v":""},{"$f":"IF(B84=\"\",\"\",IF('Arrear Sheet'!C84=\"TOTAL\",\"\",'Arrear Sheet'!V84))","v":""},{"$f":"IF(B84=\"\",\"\",IF('Arrear Sheet'!C84=\"TOTAL\",\"\",'Arrear Sheet'!W84))","v":""},{"$f":"IF(B84=\"\",\"\",IF('Arrear Sheet'!C84=\"TOTAL\",\"\",'Arrear Sheet'!X84))","v":""},{"$f":"IF(B84=\"\",\"\",IF('Arrear Sheet'!C84=\"TOTAL\",\"\",'Arrear Sheet'!AB84))","v":""},{"$f":"IF(B84=\"\",\"\",IF('Arrear Sheet'!D84=\"TOTAL\",\"\",'Arrear Sheet'!AC84))","v":""},{"$f":"IF(B84=\"\",\"\",IF('Arrear Sheet'!E84=\"TOTAL\",\"\",'Arrear Sheet'!AD84))","v":""},{"$f":"IF(B84=\"\",\"\",IF('Arrear Sheet'!C84=\"TOTAL\",\"\",'Arrear Sheet'!Y84))","v":""},{"$f":"IF(B84=\"\",\"\",IF('Arrear Sheet'!C84=\"TOTAL\",\"\",'Arrear Sheet'!Z84))","v":""},{"$f":"IF(B84=\"\",\"\",IF('Arrear Sheet'!C84=\"TOTAL\",\"\",'Arrear Sheet'!AA84))","v":""},{"$f":"IF(B84=\"\",\"\",IF('Arrear Sheet'!C84=\"TOTAL\",\"\",'Arrear Sheet'!AE84))","v":""},{"$f":"IF(B84=\"\",\"\",IF('Arrear Sheet'!C84=\"TOTAL\",\"\",'Arrear Sheet'!AF84))","v":""},{"$f":"IF(B84=\"\",\"\",'Arrear Sheet'!AG84)","v":""},{"$f":"IFERROR(IF(B84=\"\",\"\",IF('Arrear Sheet'!C84=\"TOTAL\",\"\",SUM(Q84-AF84))),\"\")","v":""}]
[{"$f":"IF('Arrear Sheet'!B85=\"\",\"\",'Arrear Sheet'!B85)","v":""},{"$f":"IF('Arrear Sheet'!C85=\"\",\"\",IF('Arrear Sheet'!C85=\"TOTAL\",\"\",'Arrear Sheet'!C85))","v":""},{"$f":"IF('Arrear Sheet'!D85=\"\",\"\",IF('Arrear Sheet'!C85=\"TOTAL\",\"\",IF('Arrear Sheet'!D85=\"अक्षरें राशि :-\",\"\",'Arrear Sheet'!D85)))","v":""},{"$f":"IF('Arrear Sheet'!E85=\"\",\"\",IF('Arrear Sheet'!C85=\"TOTAL\",\"\",'Arrear Sheet'!E85))","v":""},{"$f":"IF(B85=\"\",\"\",IF('Arrear Sheet'!D85=\"TOTAL\",\"\",'Arrear Sheet'!F85))","v":""},{"$f":"IF(B85=\"\",\"\",IF('Arrear Sheet'!E85=\"TOTAL\",\"\",'Arrear Sheet'!G85))","v":""},{"$f":"IF(B85=\"\",\"\",IF('Arrear Sheet'!C85=\"TOTAL\",\"\",SUM(C85:F85)))","v":""},{"$f":"IF(B85=\"\",\"\",IF('Arrear Sheet'!C85=\"TOTAL\",\"\",'Arrear Sheet'!I85))","v":""},{"$f":"IF(B85=\"\",\"\",IF('Arrear Sheet'!C85=\"TOTAL\",\"\",'Arrear Sheet'!J85))","v":""},{"$f":"IF(B85=\"\",\"\",IF('Arrear Sheet'!C85=\"TOTAL\",\"\",'Arrear Sheet'!K85))","v":""},{"$f":"IF(B85=\"\",\"\",IF('Arrear Sheet'!D85=\"TOTAL\",\"\",'Arrear Sheet'!L85))","v":""},{"$f":"IF(B85=\"\",\"\",IF('Arrear Sheet'!C85=\"TOTAL\",\"\",SUM(H85:K85)))","v":""},{"$f":"IF(B85=\"\",\"\",IF('Arrear Sheet'!C85=\"TOTAL\",\"\",'Arrear Sheet'!N85))","v":""},{"$f":"IF(B85=\"\",\"\",IF('Arrear Sheet'!C85=\"TOTAL\",\"\",'Arrear Sheet'!O85))","v":""},{"$f":"IF(B85=\"\",\"\",IF('Arrear Sheet'!C85=\"TOTAL\",\"\",'Arrear Sheet'!P85))","v":""},{"$f":"IF(B85=\"\",\"\",IF('Arrear Sheet'!D85=\"TOTAL\",\"\",'Arrear Sheet'!Q85))","v":""},{"$f":"IF(B85=\"\",\"\",IF('Arrear Sheet'!C85=\"TOTAL\",\"\",SUM(M85:P85)))","v":""},{"$f":"IF(B85=\"\",\"\",IF('Arrear Sheet'!C85=\"TOTAL\",\"\",'Arrear Sheet'!S85))","v":""},{"$f":"IF(B85=\"\",\"\",IF('Arrear Sheet'!C85=\"TOTAL\",\"\",'Arrear Sheet'!T85))","v":""},{"$f":"IF(B85=\"\",\"\",IF('Arrear Sheet'!C85=\"TOTAL\",\"\",'Arrear Sheet'!U85))","v":""},{"$f":"IF(B85=\"\",\"\",IF('Arrear Sheet'!C85=\"TOTAL\",\"\",'Arrear Sheet'!V85))","v":""},{"$f":"IF(B85=\"\",\"\",IF('Arrear Sheet'!C85=\"TOTAL\",\"\",'Arrear Sheet'!W85))","v":""},{"$f":"IF(B85=\"\",\"\",IF('Arrear Sheet'!C85=\"TOTAL\",\"\",'Arrear Sheet'!X85))","v":""},{"$f":"IF(B85=\"\",\"\",IF('Arrear Sheet'!C85=\"TOTAL\",\"\",'Arrear Sheet'!AB85))","v":""},{"$f":"IF(B85=\"\",\"\",IF('Arrear Sheet'!D85=\"TOTAL\",\"\",'Arrear Sheet'!AC85))","v":""},{"$f":"IF(B85=\"\",\"\",IF('Arrear Sheet'!E85=\"TOTAL\",\"\",'Arrear Sheet'!AD85))","v":""},{"$f":"IF(B85=\"\",\"\",IF('Arrear Sheet'!C85=\"TOTAL\",\"\",'Arrear Sheet'!Y85))","v":""},{"$f":"IF(B85=\"\",\"\",IF('Arrear Sheet'!C85=\"TOTAL\",\"\",'Arrear Sheet'!Z85))","v":""},{"$f":"IF(B85=\"\",\"\",IF('Arrear Sheet'!C85=\"TOTAL\",\"\",'Arrear Sheet'!AA85))","v":""},{"$f":"IF(B85=\"\",\"\",IF('Arrear Sheet'!C85=\"TOTAL\",\"\",'Arrear Sheet'!AE85))","v":""},{"$f":"IF(B85=\"\",\"\",IF('Arrear Sheet'!C85=\"TOTAL\",\"\",'Arrear Sheet'!AF85))","v":""},{"$f":"IF(B85=\"\",\"\",'Arrear Sheet'!AG85)","v":""},{"$f":"IFERROR(IF(B85=\"\",\"\",IF('Arrear Sheet'!C85=\"TOTAL\",\"\",SUM(Q85-AF85))),\"\")","v":""}]
[{"$f":"IF('Arrear Sheet'!B86=\"\",\"\",'Arrear Sheet'!B86)","v":""},{"$f":"IF('Arrear Sheet'!C86=\"\",\"\",IF('Arrear Sheet'!C86=\"TOTAL\",\"\",'Arrear Sheet'!C86))","v":""},{"$f":"IF('Arrear Sheet'!D86=\"\",\"\",IF('Arrear Sheet'!C86=\"TOTAL\",\"\",IF('Arrear Sheet'!D86=\"अक्षरें राशि :-\",\"\",'Arrear Sheet'!D86)))","v":""},{"$f":"IF('Arrear Sheet'!E86=\"\",\"\",IF('Arrear Sheet'!C86=\"TOTAL\",\"\",'Arrear Sheet'!E86))","v":""},{"$f":"IF(B86=\"\",\"\",IF('Arrear Sheet'!D86=\"TOTAL\",\"\",'Arrear Sheet'!F86))","v":""},{"$f":"IF(B86=\"\",\"\",IF('Arrear Sheet'!E86=\"TOTAL\",\"\",'Arrear Sheet'!G86))","v":""},{"$f":"IF(B86=\"\",\"\",IF('Arrear Sheet'!C86=\"TOTAL\",\"\",SUM(C86:F86)))","v":""},{"$f":"IF(B86=\"\",\"\",IF('Arrear Sheet'!C86=\"TOTAL\",\"\",'Arrear Sheet'!I86))","v":""},{"$f":"IF(B86=\"\",\"\",IF('Arrear Sheet'!C86=\"TOTAL\",\"\",'Arrear Sheet'!J86))","v":""},{"$f":"IF(B86=\"\",\"\",IF('Arrear Sheet'!C86=\"TOTAL\",\"\",'Arrear Sheet'!K86))","v":""},{"$f":"IF(B86=\"\",\"\",IF('Arrear Sheet'!D86=\"TOTAL\",\"\",'Arrear Sheet'!L86))","v":""},{"$f":"IF(B86=\"\",\"\",IF('Arrear Sheet'!C86=\"TOTAL\",\"\",SUM(H86:K86)))","v":""},{"$f":"IF(B86=\"\",\"\",IF('Arrear Sheet'!C86=\"TOTAL\",\"\",'Arrear Sheet'!N86))","v":""},{"$f":"IF(B86=\"\",\"\",IF('Arrear Sheet'!C86=\"TOTAL\",\"\",'Arrear Sheet'!O86))","v":""},{"$f":"IF(B86=\"\",\"\",IF('Arrear Sheet'!C86=\"TOTAL\",\"\",'Arrear Sheet'!P86))","v":""},{"$f":"IF(B86=\"\",\"\",IF('Arrear Sheet'!D86=\"TOTAL\",\"\",'Arrear Sheet'!Q86))","v":""},{"$f":"IF(B86=\"\",\"\",IF('Arrear Sheet'!C86=\"TOTAL\",\"\",SUM(M86:P86)))","v":""},{"$f":"IF(B86=\"\",\"\",IF('Arrear Sheet'!C86=\"TOTAL\",\"\",'Arrear Sheet'!S86))","v":""},{"$f":"IF(B86=\"\",\"\",IF('Arrear Sheet'!C86=\"TOTAL\",\"\",'Arrear Sheet'!T86))","v":""},{"$f":"IF(B86=\"\",\"\",IF('Arrear Sheet'!C86=\"TOTAL\",\"\",'Arrear Sheet'!U86))","v":""},{"$f":"IF(B86=\"\",\"\",IF('Arrear Sheet'!C86=\"TOTAL\",\"\",'Arrear Sheet'!V86))","v":""},{"$f":"IF(B86=\"\",\"\",IF('Arrear Sheet'!C86=\"TOTAL\",\"\",'Arrear Sheet'!W86))","v":""},{"$f":"IF(B86=\"\",\"\",IF('Arrear Sheet'!C86=\"TOTAL\",\"\",'Arrear Sheet'!X86))","v":""},{"$f":"IF(B86=\"\",\"\",IF('Arrear Sheet'!C86=\"TOTAL\",\"\",'Arrear Sheet'!AB86))","v":""},{"$f":"IF(B86=\"\",\"\",IF('Arrear Sheet'!D86=\"TOTAL\",\"\",'Arrear Sheet'!AC86))","v":""},{"$f":"IF(B86=\"\",\"\",IF('Arrear Sheet'!E86=\"TOTAL\",\"\",'Arrear Sheet'!AD86))","v":""},{"$f":"IF(B86=\"\",\"\",IF('Arrear Sheet'!C86=\"TOTAL\",\"\",'Arrear Sheet'!Y86))","v":""},{"$f":"IF(B86=\"\",\"\",IF('Arrear Sheet'!C86=\"TOTAL\",\"\",'Arrear Sheet'!Z86))","v":""},{"$f":"IF(B86=\"\",\"\",IF('Arrear Sheet'!C86=\"TOTAL\",\"\",'Arrear Sheet'!AA86))","v":""},{"$f":"IF(B86=\"\",\"\",IF('Arrear Sheet'!C86=\"TOTAL\",\"\",'Arrear Sheet'!AE86))","v":""},{"$f":"IF(B86=\"\",\"\",IF('Arrear Sheet'!C86=\"TOTAL\",\"\",'Arrear Sheet'!AF86))","v":""},{"$f":"IF(B86=\"\",\"\",'Arrear Sheet'!AG86)","v":""},{"$f":"IFERROR(IF(B86=\"\",\"\",IF('Arrear Sheet'!C86=\"TOTAL\",\"\",SUM(Q86-AF86))),\"\")","v":""}]
[{"$f":"IF('Arrear Sheet'!B87=\"\",\"\",'Arrear Sheet'!B87)","v":""},{"$f":"IF('Arrear Sheet'!C87=\"\",\"\",IF('Arrear Sheet'!C87=\"TOTAL\",\"\",'Arrear Sheet'!C87))","v":""},{"$f":"IF('Arrear Sheet'!D87=\"\",\"\",IF('Arrear Sheet'!C87=\"TOTAL\",\"\",IF('Arrear Sheet'!D87=\"अक्षरें राशि :-\",\"\",'Arrear Sheet'!D87)))","v":""},{"$f":"IF('Arrear Sheet'!E87=\"\",\"\",IF('Arrear Sheet'!C87=\"TOTAL\",\"\",'Arrear Sheet'!E87))","v":""},{"$f":"IF(B87=\"\",\"\",IF('Arrear Sheet'!D87=\"TOTAL\",\"\",'Arrear Sheet'!F87))","v":""},{"$f":"IF(B87=\"\",\"\",IF('Arrear Sheet'!E87=\"TOTAL\",\"\",'Arrear Sheet'!G87))","v":""},{"$f":"IF(B87=\"\",\"\",IF('Arrear Sheet'!C87=\"TOTAL\",\"\",SUM(C87:F87)))","v":""},{"$f":"IF(B87=\"\",\"\",IF('Arrear Sheet'!C87=\"TOTAL\",\"\",'Arrear Sheet'!I87))","v":""},{"$f":"IF(B87=\"\",\"\",IF('Arrear Sheet'!C87=\"TOTAL\",\"\",'Arrear Sheet'!J87))","v":""},{"$f":"IF(B87=\"\",\"\",IF('Arrear Sheet'!C87=\"TOTAL\",\"\",'Arrear Sheet'!K87))","v":""},{"$f":"IF(B87=\"\",\"\",IF('Arrear Sheet'!D87=\"TOTAL\",\"\",'Arrear Sheet'!L87))","v":""},{"$f":"IF(B87=\"\",\"\",IF('Arrear Sheet'!C87=\"TOTAL\",\"\",SUM(H87:K87)))","v":""},{"$f":"IF(B87=\"\",\"\",IF('Arrear Sheet'!C87=\"TOTAL\",\"\",'Arrear Sheet'!N87))","v":""},{"$f":"IF(B87=\"\",\"\",IF('Arrear Sheet'!C87=\"TOTAL\",\"\",'Arrear Sheet'!O87))","v":""},{"$f":"IF(B87=\"\",\"\",IF('Arrear Sheet'!C87=\"TOTAL\",\"\",'Arrear Sheet'!P87))","v":""},{"$f":"IF(B87=\"\",\"\",IF('Arrear Sheet'!D87=\"TOTAL\",\"\",'Arrear Sheet'!Q87))","v":""},{"$f":"IF(B87=\"\",\"\",IF('Arrear Sheet'!C87=\"TOTAL\",\"\",SUM(M87:P87)))","v":""},{"$f":"IF(B87=\"\",\"\",IF('Arrear Sheet'!C87=\"TOTAL\",\"\",'Arrear Sheet'!S87))","v":""},{"$f":"IF(B87=\"\",\"\",IF('Arrear Sheet'!C87=\"TOTAL\",\"\",'Arrear Sheet'!T87))","v":""},{"$f":"IF(B87=\"\",\"\",IF('Arrear Sheet'!C87=\"TOTAL\",\"\",'Arrear Sheet'!U87))","v":""},{"$f":"IF(B87=\"\",\"\",IF('Arrear Sheet'!C87=\"TOTAL\",\"\",'Arrear Sheet'!V87))","v":""},{"$f":"IF(B87=\"\",\"\",IF('Arrear Sheet'!C87=\"TOTAL\",\"\",'Arrear Sheet'!W87))","v":""},{"$f":"IF(B87=\"\",\"\",IF('Arrear Sheet'!C87=\"TOTAL\",\"\",'Arrear Sheet'!X87))","v":""},{"$f":"IF(B87=\"\",\"\",IF('Arrear Sheet'!C87=\"TOTAL\",\"\",'Arrear Sheet'!AB87))","v":""},{"$f":"IF(B87=\"\",\"\",IF('Arrear Sheet'!D87=\"TOTAL\",\"\",'Arrear Sheet'!AC87))","v":""},{"$f":"IF(B87=\"\",\"\",IF('Arrear Sheet'!E87=\"TOTAL\",\"\",'Arrear Sheet'!AD87))","v":""},{"$f":"IF(B87=\"\",\"\",IF('Arrear Sheet'!C87=\"TOTAL\",\"\",'Arrear Sheet'!Y87))","v":""},{"$f":"IF(B87=\"\",\"\",IF('Arrear Sheet'!C87=\"TOTAL\",\"\",'Arrear Sheet'!Z87))","v":""},{"$f":"IF(B87=\"\",\"\",IF('Arrear Sheet'!C87=\"TOTAL\",\"\",'Arrear Sheet'!AA87))","v":""},{"$f":"IF(B87=\"\",\"\",IF('Arrear Sheet'!C87=\"TOTAL\",\"\",'Arrear Sheet'!AE87))","v":""},{"$f":"IF(B87=\"\",\"\",IF('Arrear Sheet'!C87=\"TOTAL\",\"\",'Arrear Sheet'!AF87))","v":""},{"$f":"IF(B87=\"\",\"\",'Arrear Sheet'!AG87)","v":""},{"$f":"IFERROR(IF(B87=\"\",\"\",IF('Arrear Sheet'!C87=\"TOTAL\",\"\",SUM(Q87-AF87))),\"\")","v":""}]
[{"$f":"IF('Arrear Sheet'!B88=\"\",\"\",'Arrear Sheet'!B88)","v":""},{"$f":"IF('Arrear Sheet'!C88=\"\",\"\",IF('Arrear Sheet'!C88=\"TOTAL\",\"\",'Arrear Sheet'!C88))","v":""},{"$f":"IF('Arrear Sheet'!D88=\"\",\"\",IF('Arrear Sheet'!C88=\"TOTAL\",\"\",IF('Arrear Sheet'!D88=\"अक्षरें राशि :-\",\"\",'Arrear Sheet'!D88)))","v":""},{"$f":"IF('Arrear Sheet'!E88=\"\",\"\",IF('Arrear Sheet'!C88=\"TOTAL\",\"\",'Arrear Sheet'!E88))","v":""},{"$f":"IF(B88=\"\",\"\",IF('Arrear Sheet'!D88=\"TOTAL\",\"\",'Arrear Sheet'!F88))","v":""},{"$f":"IF(B88=\"\",\"\",IF('Arrear Sheet'!E88=\"TOTAL\",\"\",'Arrear Sheet'!G88))","v":""},{"$f":"IF(B88=\"\",\"\",IF('Arrear Sheet'!C88=\"TOTAL\",\"\",SUM(C88:F88)))","v":""},{"$f":"IF(B88=\"\",\"\",IF('Arrear Sheet'!C88=\"TOTAL\",\"\",'Arrear Sheet'!I88))","v":""},{"$f":"IF(B88=\"\",\"\",IF('Arrear Sheet'!C88=\"TOTAL\",\"\",'Arrear Sheet'!J88))","v":""},{"$f":"IF(B88=\"\",\"\",IF('Arrear Sheet'!C88=\"TOTAL\",\"\",'Arrear Sheet'!K88))","v":""},{"$f":"IF(B88=\"\",\"\",IF('Arrear Sheet'!D88=\"TOTAL\",\"\",'Arrear Sheet'!L88))","v":""},{"$f":"IF(B88=\"\",\"\",IF('Arrear Sheet'!C88=\"TOTAL\",\"\",SUM(H88:K88)))","v":""},{"$f":"IF(B88=\"\",\"\",IF('Arrear Sheet'!C88=\"TOTAL\",\"\",'Arrear Sheet'!N88))","v":""},{"$f":"IF(B88=\"\",\"\",IF('Arrear Sheet'!C88=\"TOTAL\",\"\",'Arrear Sheet'!O88))","v":""},{"$f":"IF(B88=\"\",\"\",IF('Arrear Sheet'!C88=\"TOTAL\",\"\",'Arrear Sheet'!P88))","v":""},{"$f":"IF(B88=\"\",\"\",IF('Arrear Sheet'!D88=\"TOTAL\",\"\",'Arrear Sheet'!Q88))","v":""},{"$f":"IF(B88=\"\",\"\",IF('Arrear Sheet'!C88=\"TOTAL\",\"\",SUM(M88:P88)))","v":""},{"$f":"IF(B88=\"\",\"\",IF('Arrear Sheet'!C88=\"TOTAL\",\"\",'Arrear Sheet'!S88))","v":""},{"$f":"IF(B88=\"\",\"\",IF('Arrear Sheet'!C88=\"TOTAL\",\"\",'Arrear Sheet'!T88))","v":""},{"$f":"IF(B88=\"\",\"\",IF('Arrear Sheet'!C88=\"TOTAL\",\"\",'Arrear Sheet'!U88))","v":""},{"$f":"IF(B88=\"\",\"\",IF('Arrear Sheet'!C88=\"TOTAL\",\"\",'Arrear Sheet'!V88))","v":""},{"$f":"IF(B88=\"\",\"\",IF('Arrear Sheet'!C88=\"TOTAL\",\"\",'Arrear Sheet'!W88))","v":""},{"$f":"IF(B88=\"\",\"\",IF('Arrear Sheet'!C88=\"TOTAL\",\"\",'Arrear Sheet'!X88))","v":""},{"$f":"IF(B88=\"\",\"\",IF('Arrear Sheet'!C88=\"TOTAL\",\"\",'Arrear Sheet'!AB88))","v":""},{"$f":"IF(B88=\"\",\"\",IF('Arrear Sheet'!D88=\"TOTAL\",\"\",'Arrear Sheet'!AC88))","v":""},{"$f":"IF(B88=\"\",\"\",IF('Arrear Sheet'!E88=\"TOTAL\",\"\",'Arrear Sheet'!AD88))","v":""},{"$f":"IF(B88=\"\",\"\",IF('Arrear Sheet'!C88=\"TOTAL\",\"\",'Arrear Sheet'!Y88))","v":""},{"$f":"IF(B88=\"\",\"\",IF('Arrear Sheet'!C88=\"TOTAL\",\"\",'Arrear Sheet'!Z88))","v":""},{"$f":"IF(B88=\"\",\"\",IF('Arrear Sheet'!C88=\"TOTAL\",\"\",'Arrear Sheet'!AA88))","v":""},{"$f":"IF(B88=\"\",\"\",IF('Arrear Sheet'!C88=\"TOTAL\",\"\",'Arrear Sheet'!AE88))","v":""},{"$f":"IF(B88=\"\",\"\",IF('Arrear Sheet'!C88=\"TOTAL\",\"\",'Arrear Sheet'!AF88))","v":""},{"$f":"IF(B88=\"\",\"\",'Arrear Sheet'!AG88)","v":""},{"$f":"IFERROR(IF(B88=\"\",\"\",IF('Arrear Sheet'!C88=\"TOTAL\",\"\",SUM(Q88-AF88))),\"\")","v":""}]
[{"$f":"IF('Arrear Sheet'!B89=\"\",\"\",'Arrear Sheet'!B89)","v":""},{"$f":"IF('Arrear Sheet'!C89=\"\",\"\",IF('Arrear Sheet'!C89=\"TOTAL\",\"\",'Arrear Sheet'!C89))","v":""},{"$f":"IF('Arrear Sheet'!D89=\"\",\"\",IF('Arrear Sheet'!C89=\"TOTAL\",\"\",IF('Arrear Sheet'!D89=\"अक्षरें राशि :-\",\"\",'Arrear Sheet'!D89)))","v":""},{"$f":"IF('Arrear Sheet'!E89=\"\",\"\",IF('Arrear Sheet'!C89=\"TOTAL\",\"\",'Arrear Sheet'!E89))","v":""},{"$f":"IF(B89=\"\",\"\",IF('Arrear Sheet'!D89=\"TOTAL\",\"\",'Arrear Sheet'!F89))","v":""},{"$f":"IF(B89=\"\",\"\",IF('Arrear Sheet'!E89=\"TOTAL\",\"\",'Arrear Sheet'!G89))","v":""},{"$f":"IF(B89=\"\",\"\",IF('Arrear Sheet'!C89=\"TOTAL\",\"\",SUM(C89:F89)))","v":""},{"$f":"IF(B89=\"\",\"\",IF('Arrear Sheet'!C89=\"TOTAL\",\"\",'Arrear Sheet'!I89))","v":""},{"$f":"IF(B89=\"\",\"\",IF('Arrear Sheet'!C89=\"TOTAL\",\"\",'Arrear Sheet'!J89))","v":""},{"$f":"IF(B89=\"\",\"\",IF('Arrear Sheet'!C89=\"TOTAL\",\"\",'Arrear Sheet'!K89))","v":""},{"$f":"IF(B89=\"\",\"\",IF('Arrear Sheet'!D89=\"TOTAL\",\"\",'Arrear Sheet'!L89))","v":""},{"$f":"IF(B89=\"\",\"\",IF('Arrear Sheet'!C89=\"TOTAL\",\"\",SUM(H89:K89)))","v":""},{"$f":"IF(B89=\"\",\"\",IF('Arrear Sheet'!C89=\"TOTAL\",\"\",'Arrear Sheet'!N89))","v":""},{"$f":"IF(B89=\"\",\"\",IF('Arrear Sheet'!C89=\"TOTAL\",\"\",'Arrear Sheet'!O89))","v":""},{"$f":"IF(B89=\"\",\"\",IF('Arrear Sheet'!C89=\"TOTAL\",\"\",'Arrear Sheet'!P89))","v":""},{"$f":"IF(B89=\"\",\"\",IF('Arrear Sheet'!D89=\"TOTAL\",\"\",'Arrear Sheet'!Q89))","v":""},{"$f":"IF(B89=\"\",\"\",IF('Arrear Sheet'!C89=\"TOTAL\",\"\",SUM(M89:P89)))","v":""},{"$f":"IF(B89=\"\",\"\",IF('Arrear Sheet'!C89=\"TOTAL\",\"\",'Arrear Sheet'!S89))","v":""},{"$f":"IF(B89=\"\",\"\",IF('Arrear Sheet'!C89=\"TOTAL\",\"\",'Arrear Sheet'!T89))","v":""},{"$f":"IF(B89=\"\",\"\",IF('Arrear Sheet'!C89=\"TOTAL\",\"\",'Arrear Sheet'!U89))","v":""},{"$f":"IF(B89=\"\",\"\",IF('Arrear Sheet'!C89=\"TOTAL\",\"\",'Arrear Sheet'!V89))","v":""},{"$f":"IF(B89=\"\",\"\",IF('Arrear Sheet'!C89=\"TOTAL\",\"\",'Arrear Sheet'!W89))","v":""},{"$f":"IF(B89=\"\",\"\",IF('Arrear Sheet'!C89=\"TOTAL\",\"\",'Arrear Sheet'!X89))","v":""},{"$f":"IF(B89=\"\",\"\",IF('Arrear Sheet'!C89=\"TOTAL\",\"\",'Arrear Sheet'!AB89))","v":""},{"$f":"IF(B89=\"\",\"\",IF('Arrear Sheet'!D89=\"TOTAL\",\"\",'Arrear Sheet'!AC89))","v":""},{"$f":"IF(B89=\"\",\"\",IF('Arrear Sheet'!E89=\"TOTAL\",\"\",'Arrear Sheet'!AD89))","v":""},{"$f":"IF(B89=\"\",\"\",IF('Arrear Sheet'!C89=\"TOTAL\",\"\",'Arrear Sheet'!Y89))","v":""},{"$f":"IF(B89=\"\",\"\",IF('Arrear Sheet'!C89=\"TOTAL\",\"\",'Arrear Sheet'!Z89))","v":""},{"$f":"IF(B89=\"\",\"\",IF('Arrear Sheet'!C89=\"TOTAL\",\"\",'Arrear Sheet'!AA89))","v":""},{"$f":"IF(B89=\"\",\"\",IF('Arrear Sheet'!C89=\"TOTAL\",\"\",'Arrear Sheet'!AE89))","v":""},{"$f":"IF(B89=\"\",\"\",IF('Arrear Sheet'!C89=\"TOTAL\",\"\",'Arrear Sheet'!AF89))","v":""},{"$f":"IF(B89=\"\",\"\",'Arrear Sheet'!AG89)","v":""},{"$f":"IFERROR(IF(B89=\"\",\"\",IF('Arrear Sheet'!C89=\"TOTAL\",\"\",SUM(Q89-AF89))),\"\")","v":""}]
[{"$f":"IF('Arrear Sheet'!B90=\"\",\"\",'Arrear Sheet'!B90)","v":""},{"$f":"IF('Arrear Sheet'!C90=\"\",\"\",IF('Arrear Sheet'!C90=\"TOTAL\",\"\",'Arrear Sheet'!C90))","v":""},{"$f":"IF('Arrear Sheet'!D90=\"\",\"\",IF('Arrear Sheet'!C90=\"TOTAL\",\"\",IF('Arrear Sheet'!D90=\"अक्षरें राशि :-\",\"\",'Arrear Sheet'!D90)))","v":""},{"$f":"IF('Arrear Sheet'!E90=\"\",\"\",IF('Arrear Sheet'!C90=\"TOTAL\",\"\",'Arrear Sheet'!E90))","v":""},{"$f":"IF(B90=\"\",\"\",IF('Arrear Sheet'!D90=\"TOTAL\",\"\",'Arrear Sheet'!F90))","v":""},{"$f":"IF(B90=\"\",\"\",IF('Arrear Sheet'!E90=\"TOTAL\",\"\",'Arrear Sheet'!G90))","v":""},{"$f":"IF(B90=\"\",\"\",IF('Arrear Sheet'!C90=\"TOTAL\",\"\",SUM(C90:F90)))","v":""},{"$f":"IF(B90=\"\",\"\",IF('Arrear Sheet'!C90=\"TOTAL\",\"\",'Arrear Sheet'!I90))","v":""},{"$f":"IF(B90=\"\",\"\",IF('Arrear Sheet'!C90=\"TOTAL\",\"\",'Arrear Sheet'!J90))","v":""},{"$f":"IF(B90=\"\",\"\",IF('Arrear Sheet'!C90=\"TOTAL\",\"\",'Arrear Sheet'!K90))","v":""},{"$f":"IF(B90=\"\",\"\",IF('Arrear Sheet'!D90=\"TOTAL\",\"\",'Arrear Sheet'!L90))","v":""},{"$f":"IF(B90=\"\",\"\",IF('Arrear Sheet'!C90=\"TOTAL\",\"\",SUM(H90:K90)))","v":""},{"$f":"IF(B90=\"\",\"\",IF('Arrear Sheet'!C90=\"TOTAL\",\"\",'Arrear Sheet'!N90))","v":""},{"$f":"IF(B90=\"\",\"\",IF('Arrear Sheet'!C90=\"TOTAL\",\"\",'Arrear Sheet'!O90))","v":""},{"$f":"IF(B90=\"\",\"\",IF('Arrear Sheet'!C90=\"TOTAL\",\"\",'Arrear Sheet'!P90))","v":""},{"$f":"IF(B90=\"\",\"\",IF('Arrear Sheet'!D90=\"TOTAL\",\"\",'Arrear Sheet'!Q90))","v":""},{"$f":"IF(B90=\"\",\"\",IF('Arrear Sheet'!C90=\"TOTAL\",\"\",SUM(M90:P90)))","v":""},{"$f":"IF(B90=\"\",\"\",IF('Arrear Sheet'!C90=\"TOTAL\",\"\",'Arrear Sheet'!S90))","v":""},{"$f":"IF(B90=\"\",\"\",IF('Arrear Sheet'!C90=\"TOTAL\",\"\",'Arrear Sheet'!T90))","v":""},{"$f":"IF(B90=\"\",\"\",IF('Arrear Sheet'!C90=\"TOTAL\",\"\",'Arrear Sheet'!U90))","v":""},{"$f":"IF(B90=\"\",\"\",IF('Arrear Sheet'!C90=\"TOTAL\",\"\",'Arrear Sheet'!V90))","v":""},{"$f":"IF(B90=\"\",\"\",IF('Arrear Sheet'!C90=\"TOTAL\",\"\",'Arrear Sheet'!W90))","v":""},{"$f":"IF(B90=\"\",\"\",IF('Arrear Sheet'!C90=\"TOTAL\",\"\",'Arrear Sheet'!X90))","v":""},{"$f":"IF(B90=\"\",\"\",IF('Arrear Sheet'!C90=\"TOTAL\",\"\",'Arrear Sheet'!AB90))","v":""},{"$f":"IF(B90=\"\",\"\",IF('Arrear Sheet'!D90=\"TOTAL\",\"\",'Arrear Sheet'!AC90))","v":""},{"$f":"IF(B90=\"\",\"\",IF('Arrear Sheet'!E90=\"TOTAL\",\"\",'Arrear Sheet'!AD90))","v":""},{"$f":"IF(B90=\"\",\"\",IF('Arrear Sheet'!C90=\"TOTAL\",\"\",'Arrear Sheet'!Y90))","v":""},{"$f":"IF(B90=\"\",\"\",IF('Arrear Sheet'!C90=\"TOTAL\",\"\",'Arrear Sheet'!Z90))","v":""},{"$f":"IF(B90=\"\",\"\",IF('Arrear Sheet'!C90=\"TOTAL\",\"\",'Arrear Sheet'!AA90))","v":""},{"$f":"IF(B90=\"\",\"\",IF('Arrear Sheet'!C90=\"TOTAL\",\"\",'Arrear Sheet'!AE90))","v":""},{"$f":"IF(B90=\"\",\"\",IF('Arrear Sheet'!C90=\"TOTAL\",\"\",'Arrear Sheet'!AF90))","v":""},{"$f":"IF(B90=\"\",\"\",'Arrear Sheet'!AG90)","v":""},{"$f":"IFERROR(IF(B90=\"\",\"\",IF('Arrear Sheet'!C90=\"TOTAL\",\"\",SUM(Q90-AF90))),\"\")","v":""}]
[{"$f":"IF('Arrear Sheet'!B91=\"\",\"\",'Arrear Sheet'!B91)","v":""},{"$f":"IF('Arrear Sheet'!C91=\"\",\"\",IF('Arrear Sheet'!C91=\"TOTAL\",\"\",'Arrear Sheet'!C91))","v":""},{"$f":"IF('Arrear Sheet'!D91=\"\",\"\",IF('Arrear Sheet'!C91=\"TOTAL\",\"\",IF('Arrear Sheet'!D91=\"अक्षरें राशि :-\",\"\",'Arrear Sheet'!D91)))","v":""},{"$f":"IF('Arrear Sheet'!E91=\"\",\"\",IF('Arrear Sheet'!C91=\"TOTAL\",\"\",'Arrear Sheet'!E91))","v":""},{"$f":"IF(B91=\"\",\"\",IF('Arrear Sheet'!D91=\"TOTAL\",\"\",'Arrear Sheet'!F91))","v":""},{"$f":"IF(B91=\"\",\"\",IF('Arrear Sheet'!E91=\"TOTAL\",\"\",'Arrear Sheet'!G91))","v":""},{"$f":"IF(B91=\"\",\"\",IF('Arrear Sheet'!C91=\"TOTAL\",\"\",SUM(C91:F91)))","v":""},{"$f":"IF(B91=\"\",\"\",IF('Arrear Sheet'!C91=\"TOTAL\",\"\",'Arrear Sheet'!I91))","v":""},{"$f":"IF(B91=\"\",\"\",IF('Arrear Sheet'!C91=\"TOTAL\",\"\",'Arrear Sheet'!J91))","v":""},{"$f":"IF(B91=\"\",\"\",IF('Arrear Sheet'!C91=\"TOTAL\",\"\",'Arrear Sheet'!K91))","v":""},{"$f":"IF(B91=\"\",\"\",IF('Arrear Sheet'!D91=\"TOTAL\",\"\",'Arrear Sheet'!L91))","v":""},{"$f":"IF(B91=\"\",\"\",IF('Arrear Sheet'!C91=\"TOTAL\",\"\",SUM(H91:K91)))","v":""},{"$f":"IF(B91=\"\",\"\",IF('Arrear Sheet'!C91=\"TOTAL\",\"\",'Arrear Sheet'!N91))","v":""},{"$f":"IF(B91=\"\",\"\",IF('Arrear Sheet'!C91=\"TOTAL\",\"\",'Arrear Sheet'!O91))","v":""},{"$f":"IF(B91=\"\",\"\",IF('Arrear Sheet'!C91=\"TOTAL\",\"\",'Arrear Sheet'!P91))","v":""},{"$f":"IF(B91=\"\",\"\",IF('Arrear Sheet'!D91=\"TOTAL\",\"\",'Arrear Sheet'!Q91))","v":""},{"$f":"IF(B91=\"\",\"\",IF('Arrear Sheet'!C91=\"TOTAL\",\"\",SUM(M91:P91)))","v":""},{"$f":"IF(B91=\"\",\"\",IF('Arrear Sheet'!C91=\"TOTAL\",\"\",'Arrear Sheet'!S91))","v":""},{"$f":"IF(B91=\"\",\"\",IF('Arrear Sheet'!C91=\"TOTAL\",\"\",'Arrear Sheet'!T91))","v":""},{"$f":"IF(B91=\"\",\"\",IF('Arrear Sheet'!C91=\"TOTAL\",\"\",'Arrear Sheet'!U91))","v":""},{"$f":"IF(B91=\"\",\"\",IF('Arrear Sheet'!C91=\"TOTAL\",\"\",'Arrear Sheet'!V91))","v":""},{"$f":"IF(B91=\"\",\"\",IF('Arrear Sheet'!C91=\"TOTAL\",\"\",'Arrear Sheet'!W91))","v":""},{"$f":"IF(B91=\"\",\"\",IF('Arrear Sheet'!C91=\"TOTAL\",\"\",'Arrear Sheet'!X91))","v":""},{"$f":"IF(B91=\"\",\"\",IF('Arrear Sheet'!C91=\"TOTAL\",\"\",'Arrear Sheet'!AB91))","v":""},{"$f":"IF(B91=\"\",\"\",IF('Arrear Sheet'!D91=\"TOTAL\",\"\",'Arrear Sheet'!AC91))","v":""},{"$f":"IF(B91=\"\",\"\",IF('Arrear Sheet'!E91=\"TOTAL\",\"\",'Arrear Sheet'!AD91))","v":""},{"$f":"IF(B91=\"\",\"\",IF('Arrear Sheet'!C91=\"TOTAL\",\"\",'Arrear Sheet'!Y91))","v":""},{"$f":"IF(B91=\"\",\"\",IF('Arrear Sheet'!C91=\"TOTAL\",\"\",'Arrear Sheet'!Z91))","v":""},{"$f":"IF(B91=\"\",\"\",IF('Arrear Sheet'!C91=\"TOTAL\",\"\",'Arrear Sheet'!AA91))","v":""},{"$f":"IF(B91=\"\",\"\",IF('Arrear Sheet'!C91=\"TOTAL\",\"\",'Arrear Sheet'!AE91))","v":""},{"$f":"IF(B91=\"\",\"\",IF('Arrear Sheet'!C91=\"TOTAL\",\"\",'Arrear Sheet'!AF91))","v":""},{"$f":"IF(B91=\"\",\"\",'Arrear Sheet'!AG91)","v":""},{"$f":"IFERROR(IF(B91=\"\",\"\",IF('Arrear Sheet'!C91=\"TOTAL\",\"\",SUM(Q91-AF91))),\"\")","v":""}]
["TOTAL",null,{"$f":"IF($D$3=\"\",\"\",SUM(C8:C91))","v":6085467},{"$f":"IF($D$3=\"\",\"\",SUM(D8:D91))","v":2024586},519613,1217093,9846759,5773733,1921127,493007,1154747,9342614,311734,103459,26606,62346,504145,516092,491754,24338,117600,117600,0,16806,15935,871,17940,17940,0,504,0,25713,478432]
[{"$nulls":7},"In Words:"]
[]
[null,"S.R.",{"$nulls":7},"Date :",null,{"$f":"TODAY()","v":"2023-06-27"}]
[null,"For Copying And Necessary Action"]
[1,"Treasury Officer / Deputy treasury  Officer",{"$nulls":21},{"$f":"IF(AND(D3=\"\"),\"\",CONCATENATE(\"( \",'Master Sheet'!D5,\" ) \"))","v":"( USHA PALIYA ) "}]
[2,"Related Employee Sh./Smt./Mis.",{"$nulls":4},{"$f":"CONCATENATE(H3,\",\",\"  \",P3)","v":"HEERALAL JAT,  MO"},{"$nulls":16},"Drawing & Despersal Officer"]
[3,"File Register",{"$nulls":21},{"$f":"IF('Master Sheet'!D3=\"\",\"\",'Master Sheet'!D3)","v":"Senior Medical officer, Community Health Center, Chandawal Nagar"}]
[]
[{"$nulls":12},"."]