{"text_format":"3","workbook":"xlsx","n_sheets":4,"sheets":["How to Use","Master Sheet","Arrear Sheet","Unlock sheet"],"not_rendered":{"images":2,"defined_names":5},"read":"whole","date_system":"1900"}

{"sheet":"How to Use","index":0,"n_rows":22,"n_cols":6,"rows_kept":22,"merged":[[0,1,1,2],[3,1,3,2]]}
[null,"यह एक्सेल प्रोग्राम इष्टदेव बजरंगबली व पाबूजी महाराज की असीम कृपा तथा गुरुदेव वासुदेवजी महाराज के आशीर्वाद और माता -पिता के शुभ आशीष से आप तक हाजिर किया जा रहा है "]
[]
[]
[null," ::   निर्देश  ::"]
[null,"Video No. 01 link :-","https://youtu.be/e9tzJ3zCZPk"]
[null,"Video No. 02 link :-","https://youtu.be/KZNCz_sq6iQ"]
[null,"Video No. 03 link :-","https://youtu.be/ZmZ-D7xZTpA"]
[1,"Master Sheet :-","इस शीट पर आप अपने से सम्बंधित सूचना की एंट्री कर सकते है I सबसे पहले आप अपने विद्यालय का नाम तथा उसके बाद अपने डीडीओ का नाम व पद , उसके बाद अपना स्वयं का नाम व पद इनपुट करें I उसके बाद आपको किस माह से एरियर बनाना है , उस माह को सलेक्ट बटन से सलेक्ट करे तथा अगले कॉलम में किस माह तक एरियर बनाना है उसे सलेक्ट करें I मकान किराया दर , पे मेट्रिक्स लेवल और इनकम टैक्स कटवाना है तो प्रतिशत में लिखे अन्यथा शुन्य ही रहने देवे I उसके बाद वेतन का प्रकार लिखें , इसमे आप रेगुलर पे और फिक्स पे में से चयन करें I यदि आप फिक्स वेतन को सलेक्ट करते है तो फ़िक्स पे के वेतन वाला कॉलम खुल जायेगा और रेगुलर वेतन वाला कॉलम फ्रीज़ हो जायेगा I और यदि आप रेगुलर पे का आप्शन सलेक्ट करते है तो रेगुलर पे वाला आप्शन अनफ्रीज़ हो जायेगा I उसके बाद आप जिस दिनांक से वेतन बनाना चाहते है उस दिनांक को DD/MM/YYYY के फॉर्मेट में लिखें I नवीन वेतन का बेसिक पे लिखें , जिसके द्वारा एरियर की कैलकुलेशन होगी I उसके बाद यदि आप किसी पूर्व राजकीय सेवा में रहने के कारण एरियर बनाना है तो इसमे YES सलेक्ट करें I जैसे ही YES सलेक्ट करेंगे तो वेतन लिखने के लिए कॉलम अनफ्रीज़ हो जायेगा , जिसमे वेतन लिख पायेंगे I उसके बाद यदि आपके S.I. कटौती हो रही है तो S.I. कटौती को इन्द्राज करें I उसके बाद यदि आपके G.P.F. कटौती हो रही है तो पहले YES सलेक्ट करें तथा उसके बाद आप G.P.F. कटौती को इन्द्राज करें I अन्त में यदि एरियर बनाने के पीरियड में आपके वेतन में जुलाई की वेतन वृद्धि के अलावा ओर किसी प्रकार की वेतन वृद्धि हुई है तो YES सलेक्ट करे , YES सलेक्ट करते ही वेतन लिखने के लिए आप्शन शो हो जायेंगे I नियमित वेतन वृद्धि स्वतः होगी I\n   मार्च 2020 के वेतन से कोरोना की कटौती हुई हो तो yes सेलेक्ट करे I जैसे ही yes सलेक्ट करेंगे दिनों की संख्या भरने के आप्शन शो हो जायेगा I वहा दिनों की संख्या सलेक्ट कर लेवे I",null,null," "]
[{"$nulls":3},"Update on"]
[null,null,"नोट :-  आप को जो भी एन्ट्री करनी है वो सब मास्टर शीट पर ही करनी है , एरियर शीट पर कुछ नहीं करना है I यदि आपको ड्राप डाउन लिस्ट में आपका पद नहीं मिल रहा है तो मास्टर शीट पर गुरुदेव की फोटो के निचे टेबल दे रखी है , उसमे लिख लेवे , वह पद लिस्ट में ऐड हो जाएगा I","2023-06-15"]
[null,null," "]
[2,"Arrear Sheet :-","यहाँ पर मास्टर शीट पर जो एंट्री की गयी है उसका आउटपुट मिलेगा I यहाँ किसी भी प्रकार की एन्ट्री नहीं होगी I जो भी संशोधन करना है तो मास्टर शीट पर करना है I यह शीट fully ऑटोमेटेड है , यहाँ पर केवल प्रिंट निकलना है , जो A4 साइज़ में पेज सेट किया हुआ है I"]
[]
[3,"Unlock Arrear Sheet :-","यह अनलॉक शीट इसलिए डाली गयी ताकि किसी भी अपवाद स्वरुप किसी कार्मिक का वेतन ड्रा (एरियर ) सही नहीं बैठ रहा है या फिर वेतन व कटोती में ज्यादा संशोधन है तो आप अनलॉक शीट काम में ले सकते है I कही पर त्रुटि रहने के समय काम ले सकते है I"]
[]
[null,"सूचना :-","वैसे इस प्रोग्राम को तैयार करने में पूर्ण सावधानी बरती गयी है , फिर भी मानवीय त्रुटि होना संम्भव है I अतः आप अपने स्तर पर जरुर चेक कर लेवे I इस हेतु निर्माणकर्ता कतई जिम्मेदार नहीं होगा I यह आपकी सुविधा के लिए है I"]
[]
[null,null,"वैसे शीट पूरी मेहनत से तैयार की गयी है , फिर भी अगर कही पर त्रुटि रहती है तो जरुर अवगत करावे , इस हेतु जरुर संशोधित संस्करण निकाला जायेगा I"]
[]
[null,null,"धन्यवाद "]
[null,null,"आपका दोस्त "]
[null,null,"हीरालाल जाट , वरिष्ठ अध्यापक (एक्सेल प्रोग्रामर )"]

{"sheet":"Master Sheet","index":1,"n_rows":86,"n_cols":35,"rows_kept":86,"merged":[[0,3,0,10],[0,11,0,12],[1,11,1,12],[2,3,2,12],[4,3,4,5],[4,10,4,11],[4,15,5,15],[6,3,6,5],[6,10,6,11],[6,16,6,17],[8,1,8,2],[8,3,8,5],[8,10,8,11],[10,1,10,2],[10,3,10,5],[10,10,10,11],[12,1,12,2],[12,10,12,11],[14,1,14,7],[14,10,14,11],[15,1,15,2],[16,1,16,2],[16,3,16,5],[16,10,16,11],[18,1,18,2],[18,3,18,5],[18,10,18,11],[20,1,20,2],[20,3,20,5],[20,10,20,11],[22,1,22,2],[22,3,22,5],[22,10,22,11],[24,1,24,2],[24,3,24,5],[24,10,24,11],[26,1,26,2],[26,3,26,5],[28,1,28,2],[28,3,28,5],[28,7,28,11],[30,1,30,2],[30,3,30,5],[30,10,30,11],[33,12,33,14],[34,2,34,3],[34,6,34,8],[34,12,34,14],[35,2,35,3],[35,6,35,8],[36,2,36,3],[36,6,36,8],[37,2,37,3],[37,6,37,8],[38,2,38,3],[38,6,38,8],[39,6,39,8],[40,6,40,8]]}
[{"$nulls":3},"DATA ENTRY",{"$nulls":7},"You tube Video Link\nGiven Bleow"]
[]
[null,null,"Office Name :-","Mahatma Gandhi Government School (English Medium) Bar, PALI",{"$nulls":30},"2017-01-01"]
[{"$nulls":34},"2017-02-01"]
[null,null,"डीडीओ का नाम :-","USHA PALIYA",{"$nulls":3},"डीडीओ का पद  :-","Principal",null,"जुलाई 2021 से पूर्व मकान किराया दर :-",null,8,"%",null,"HRA पुराना ही लिखे \nनए के लिए Cell no. D29",{"$nulls":18},"2017-03-01"]
[{"$nulls":34},"2017-04-01"]
[null,null,"कार्मिक का नाम :-","HEERALAL JAT",{"$nulls":3},"कार्मिक का पद :-","Sr. Teacher",null,"निर्धारित पे मैट्रिक्स लेवल :-",null,{"v":11,"d":"L-11"},{"$nulls":3},"परम पूज्य गुरुदेव वासुदेवजी महाराज ",{"$nulls":17},"2017-05-01"]
[{"$nulls":34},"2017-06-01"]
[null,"किस माह से एरियर बनाना है :-",null,"2023-01-01",{"$nulls":3},"तथा किस माह तक एरियर बनाना है :-","2023-11-01",null,"इन्कम टैक्स कटाना है तो % में लिखे :-",null,0,"%",{"$nulls":20},"2017-07-01"]
[{"$nulls":16},"Post",{"$nulls":17},"2017-08-01"]
[null,"जो पूर्व में वेतन मिला है उसका प्रकार सेलेक्ट करें :- ",null,"Regular Pay",{"$nulls":3}," फिक्स पे वेतन मिला हो तो यहाँ लिखें :-",23700,null,"यदि नियमित वेतन मिला हो तो यहाँ लिखें :- ",null,32800,{"$nulls":3},"CDEO",{"$nulls":17},"2017-09-01"]
[{"$nulls":3},"DD","MM","YYYYY",{"$nulls":10},"DEEO",{"$nulls":17},"2017-10-01"]
[null,"किस तारीख से एरियर बनाना है :- \n(Date Format :- DD/MM/YYYY ).           ",null,20,1,2022,null,"नया वेतन मिलने के दिनों की संख्या :- \n(आप सिर्फ़ चेक कर सकते है )",{"$f":"IFERROR(IF('Arrear Sheet'!AX6=\"\",\"\",'Arrear Sheet'!AX6),\"\")","v":12},null,"नवीन निर्धारित वेतन (New Basic Salary) :- ",null,33800,{"$nulls":3},"ADEO",{"$nulls":17},"2017-11-01"]
[{"$nulls":16},"ADPC",{"$nulls":17},"2017-12-01"]
[null,"यदि कार्मिक ने प्रोबेशन में पूर्व राजकीय सेवा का वेतन आहरण किया है तो सामने कॉलम में YES सेलेक्ट करे :- ",{"$nulls":6},"NO",null,"पूर्व राजकीय सेवा का वेतन (बेसिक) यहाँ लिखे :-",null,30500,{"$nulls":3},"APC",{"$nulls":17},"2018-01-01"]
[{"$nulls":16},"CBEO",{"$nulls":17},"2018-02-01"]
[null,"यदि कार्मिक के वेतन से राज्य बीमा कटोती हो रही है तो  YES सेलेक्ट करें :-",null,"NO",{"$nulls":3},"S.I. Deduction Premium Amount :-",2100,null,"S.I. Deduction Due Premium Amount :-",null,2100,{"$nulls":3},"ACBEO-1",{"$nulls":17},"2018-03-01"]
[{"$nulls":16},"ACBEO-2",{"$nulls":17},"2018-04-01"]
[null,"यदि एरियर बनाने की अवधि के दौरान राज्य बीमा कटोती में वृद्धि हुई है तो YES सेलेक्ट करें :-",null,"NO",{"$nulls":3},"जिस माह में S.I. Premium में बदलाव आया है , वह माह सलेक्ट करें :- ","2019-03-01",null,"परिवर्तित प्रीमियम राशि यहाँ पर लिखें :- ",null,3000,{"$nulls":3},"PEEO",{"$nulls":17},"2018-05-01"]
[{"$nulls":16},"Principal",{"$nulls":17},"2018-06-01"]
[null,"यदि कार्मिक की नियुक्ति 01-01-2004 से पूर्व है तो    YES सेलेक्ट करें :-",null,"NO",{"$nulls":3},"G.P.F. Deduction Premium Amount :-",3675,null,"G.P.F. Deduction Due Premium Amount :-",null,3675,{"$nulls":3},"PEEO",{"$nulls":17},"2018-07-01"]
[{"$nulls":16},"Principal",{"$nulls":17},"2018-08-01"]
[null,"यदि एरियर बनाने की अवधि के दौरान GPF कटोती में वृद्धि हुई है तो YES सेलेक्ट करें :-",null,"NO",{"$nulls":3},"जिस माह में G.P.F. Ded. में वृद्धि करवाई  है , वह माह सलेक्ट करें :- ","2021-04-01",null,"परिवर्तित प्रीमियम राशि यहाँ पर लिखें :- ",null,5000,{"$nulls":3},"Head Master",{"$nulls":17},"2018-09-01"]
[{"$nulls":16},"Lecturer",{"$nulls":17},"2018-10-01"]
[null,"यदि एरियर ड्रा के दौरान आपके वेतन में फिक्सेशन या एसीपी के कारण वेतन में बदलाव आया हो तो  YES सेलेक्ट करें :-",null,"NO",{"$nulls":3},"जिस माह में वेतन में बदलाव आया है , वह माह सलेक्ट करें :- ","2021-04-01",null,"परिवर्तित वेतन यहाँ पर लिखें :- ",null,41100,{"$nulls":3},"Sr. Teacher",{"$nulls":17},"2018-11-01"]
[{"$nulls":16},"Teacher L-2",{"$nulls":17},"2018-12-01"]
[null,"यदि आपके मार्च 2020 के वेतन से कोरोना  कटोती हुई है तो  YES सेलेक्ट करें :-",null,"NO",{"$nulls":3},"कितने दिनों का वेतन काटा गया है , उन दिनों की संख्या को सलेक्ट करें :- ",3,{"$nulls":7},"Teacher L-1",{"$nulls":17},"2019-01-01"]
[{"$nulls":16},"Prabodhak",{"$nulls":17},"2019-02-01"]
[null," जुलाई 2021 से मकान किराया दर :-",null,{"$f":"IFERROR(IF(M5=8,9,18),\"\")","v":9},null,null,"%","यदि GPF-2004 की कटौती हो रही है तो YES सलेक्ट करे, नहीं तो NO सलेक्ट करें (1 अप्रैल 2022 से) :-",{"$nulls":4},"YES",{"$nulls":3},"PTI - 1",{"$nulls":17},"2019-03-01"]
[{"$nulls":16},"PTI - II",{"$nulls":17},"2019-04-01"]
[null,"RGHS की दर  में परिवर्तन हुआ है तो लिखे :-",{"$nulls":8},"GPF-2004 के प्रीमियम राशि यहाँ पर लिखें :- ",null,2100,{"$nulls":3},"PTI - III",{"$nulls":17},"2019-05-01"]
[{"$nulls":16},"Librarian",{"$nulls":17},"2019-06-01"]
[{"$nulls":16},"OA",{"$nulls":17},"2019-07-01"]
[{"$nulls":12},"Last Update Date",{"$nulls":3},"UDC",{"$nulls":17},"2019-08-01"]
[null,null,"You tube Video Link",{"$nulls":3},"This Program Is Developed By :",{"$nulls":5},"2023-05-19",{"$nulls":3},"LDC",{"$nulls":17},"2019-09-01"]
[null,null,"https://youtu.be/e9tzJ3zCZPk",{"$nulls":3},"Heeralal Jat",{"$nulls":9},"Lab Tec.",{"$nulls":17},"2019-10-01"]
[null,null,"https://youtu.be/KZNCz_sq6iQ",{"$nulls":3},"Senior Teacher",{"$nulls":5},"https://youtu.be/ZmZ-D7xZTpA",{"$nulls":3},"Peon",{"$nulls":17},"2019-11-01"]
[null,null,"You tube Channal Link",{"$nulls":3},"Mahatma Gandhi Government School Bar , PALI",{"$nulls":27},"2019-12-01"]
[null,null,"https://youtube.com/c/Heeralaljat",{"$nulls":3},"V./P. :- Chandawal Nagar, Teh. - Sojat (Pali)",{"$nulls":27},"2020-01-01"]
[{"$nulls":34},"2020-02-01"]
[{"$nulls":34},"2020-03-01"]
[{"$nulls":34},"2020-04-01"]
[{"$nulls":34},"2020-05-01"]
[{"$nulls":34},"2020-06-01"]
[{"$nulls":34},"2020-07-01"]
[{"$nulls":34},"2020-08-01"]
[{"$nulls":34},"2020-09-01"]
[{"$nulls":34},"2020-10-01"]
[{"$nulls":34},"2020-11-01"]
[{"$nulls":34},"2020-12-01"]
[{"$nulls":34},"2021-01-01"]
[{"$nulls":34},"2021-02-01"]
[{"$nulls":34},"2021-03-01"]
[{"$nulls":34},"2021-04-01"]
[{"$nulls":34},"2021-05-01"]
[{"$nulls":34},"2021-06-01"]
[{"$nulls":34},"2021-07-01"]
[{"$nulls":34},"2021-08-01"]
[{"$nulls":34},"2021-09-01"]
[{"$nulls":34},"2021-10-01"]
[{"$nulls":34},"2021-11-01"]
[{"$nulls":34},"2021-12-01"]
[{"$nulls":34},"2022-01-01"]
[{"$nulls":34},"2022-02-01"]
[{"$nulls":34},"2022-03-01"]
[{"$nulls":34},"2022-04-01"]
[{"$nulls":34},"2022-05-01"]
[{"$nulls":34},"2022-06-01"]
[{"$nulls":34},"2022-07-01"]
[{"$nulls":34},"2022-08-01"]
[{"$nulls":34},"2022-09-01"]
[{"$nulls":34},"2022-10-01"]
[{"$nulls":34},"2022-11-01"]
[{"$nulls":34},"2022-12-01"]
[{"$nulls":34},"2023-01-01"]
[{"$nulls":34},"2023-02-01"]
[{"$nulls":34},"2023-03-01"]
[{"$nulls":34},"2023-04-01"]
[{"$nulls":34},"2023-05-01"]
[{"$nulls":34},"2023-06-01"]
[{"$nulls":34},"2023-07-01"]
[{"$nulls":34},"2023-08-01"]
[{"$nulls":34},"2023-09-01"]
[{"$nulls":34},"2023-10-01"]
[{"$nulls":34},"2023-11-01"]
[{"$nulls":34},"2023-12-01"]

{"sheet":"Arrear Sheet","index":2,"n_rows":101,"n_cols":73,"rows_kept":101,"merged":[[0,2,0,32],[1,2,1,32],[2,2,2,4],[2,5,2,11],[2,12,2,13],[2,14,2,18],[2,19,2,21],[2,22,2,23],[2,28,2,30],[2,31,2,32],[3,2,3,4],[3,7,3,12],[3,13,3,15],[3,17,3,19],[3,20,3,22],[3,23,3,32],[5,1,6,1],[5,2,6,2],[5,3,5,6],[5,7,5,10],[5,11,5,14],[5,15,5,17],[5,18,5,20],[5,21,5,23],[5,24,5,26],[5,27,6,27],[5,28,6,28],[5,29,6,29],[5,30,6,30],[5,31,6,31],[5,32,6,32]]}
[null,null,{"$f":"IF('Master Sheet'!D3=\"\",\"\",CONCATENATE(\"Office \",'Master Sheet'!D3,))","v":"Office Mahatma Gandhi Government School (English Medium) Bar, PALI"},{"$nulls":37},"2022-03-01",null,null,"2020-03-01",{"$nulls":3},{"$f":"'Master Sheet'!M31","v":2100},{"$nulls":23},"2022-03-01"]
[null,null,"Difference Arrear Sheet",{"$nulls":37},"NPS",null,null,{"$f":"'Master Sheet'!D27","v":"NO"},{"$f":"'Master Sheet'!I27","v":3},{"$f":"IFERROR(IF(AS4=\"\",0,MONTH(AS4)),\"\")","v":1},{"$nulls":3},{"$f":"IF(AR4=AR3,29,IF(AT2=1,31,IF(AT2=2,28,IF(AT2=3,31,IF(AT2=4,30,IF(AT2=5,31,IF(AT2=6,30,IF(AT2=7,31,IF(AT2=8,31,IF(AT2=9,30,IF(AT2=10,31,IF(AT2=11,30,IF(AT2=12,31,0)))))))))))))","v":31},null,"2017-07-01","2023-07-01"]
[null,null,"Name Of Employee :",null,null,{"$f":"IFERROR(UPPER('Master Sheet'!D7),\"\")","v":"HEERALAL JAT"},{"$nulls":6},"    Post :  ",null,{"$f":"IFERROR(UPPER('Master Sheet'!I7),\"\")","v":"SR. TEACHER"},{"$nulls":4},"    Pay Matrix Level : ",null,null,{"$f":"IFERROR(CONCATENATE(\"L - \",'Master Sheet'!M7),\"\")","v":"L - 11"},{"$nulls":5},"GPF / NPS :-",null,null,{"$f":"IF($AR$18=$AR$20,\"GPF\",\"NPS\")","v":"NPS"},{"$nulls":9},{"$f":"MONTH(AT10)","v":{"$error":"#VALUE!"}},null,{"$f":"'Master Sheet'!D9","v":"2023-01-01"},null,{"$f":"IFERROR(IF(AR6=\"\",0,MONTH(AR6)),\"\")","v":1},{"$nulls":3},{"$f":"IF(AR4=AR3,29,IF(AT2=1,31,IF(AT2=2,28,IF(AT2=3,31,IF(AT2=4,30,IF(AT2=5,31,IF(AT2=6,30,IF(AT2=7,31,IF(AT2=8,31,IF(AT2=9,30,IF(AT2=10,31,IF(AT2=11,30,IF(AT2=12,31,0)))))))))))))","v":31},null,"2018-07-01"]
[{"$nulls":7},"Arrear From Date :",{"$nulls":5},{"$f":"IFERROR('Master Sheet'!D9,\"\")","v":"2023-01-01"},null,null,"to",{"$f":"IFERROR('Master Sheet'!I9,\"\")","v":"2023-11-01"},null,null,"Posting Place :",null,null,{"$f":"'Master Sheet'!D3","v":"Mahatma Gandhi Government School (English Medium) Bar, PALI"},{"$nulls":16},{"$f":"IF(AF3=\"GPF\",\" GPF\",\"GPF-2004\")","v":"GPF-2004"},{"$f":"MONTH(AS6)","v":11},null,"2020-02-01",{"$f":"'Master Sheet'!D13","v":20},{"$f":"IFERROR(IF(AS4=\"\",0,AS4-1),\"\")","v":19},{"$nulls":3},{"$f":"IFERROR(SUM(AX3-AT4),\"\")","v":12},null,"2019-07-01"]
[{"$nulls":51},"2020-07-01"]
[null,"Sr. No.","Month","Pay Due",{"$nulls":3},"Pay Drawn",{"$nulls":3},"Pay Difference",{"$nulls":3},{"$f":"IF($AR$18=$AR$20,\"GPF\",\"NPS/GPF-2004\")","v":"NPS/GPF-2004"},null,null,"SI",null,null,"Corona relief fund",null,null,"RGHS",null,null,{"$f":"CONCATENATE(\"GPF In \",AO4)","v":"GPF In GPF-2004"},"Income Tax","Total Deduction","Net Payment","Bill No./Date","Encashment Date",{"$nulls":8},"2020-09-01","2020-10-01",{"$f":"IF('Master Sheet'!D9=\"\",\"\",'Master Sheet'!D9)","v":"2023-01-01"},{"$f":"IF('Master Sheet'!I9=\"\",\"\",'Master Sheet'!I9)","v":"2023-11-01"},{"$f":"IFERROR(IF(AS4=\"\",0,DAY(AS4)-1),\"\")","v":19},{"$nulls":3},{"$f":"IFERROR(SUM(AX2-AT4),\"\")","v":12},null,"2021-07-01"]
[{"$nulls":3},"Pay","DA","HRA","Total","Pay","DA","HRA","Total","Pay","DA","HRA","Total","Due","Ded","Diff.","Due","Ded","Diff.","Due","Ded","Diff.","Due","Ded","Diff.",{"$nulls":13},{"$f":"IF(AP7=\"NO\",28,31)","v":31},{"$f":"IF('Master Sheet'!M29=\"\",\"\",'Master Sheet'!M29)","v":"YES"},null,{"$f":"IF('Master Sheet'!M9=\"\",\"\",'Master Sheet'!M9)","v":0},null,{"$f":"IF('Master Sheet'!M5=\"\",\"\",'Master Sheet'!M5)","v":8},{"$nulls":3},{"$f":"IF('Master Sheet'!D29=\"\",\"\",'Master Sheet'!D29)","v":9},"2021-07-01","2022-07-01",{"$nulls":11},{"$f":"ROUND(ROUND(M8*3%,0)*10%,0)","v":1}]
[{"$f":"IF(LEN(C8)>=2,1,0)","v":1},{"$f":"IFERROR(IF(A8=\"\",\"\",IF(A8=0,\"\",A8)),\"\")","v":1},{"$f":"IFERROR(IF(AW9=\"\",\"\",AW9),\"\")","v":"2023-01-01"},{"$f":"IFERROR(IF(AX9=\"\",\"\",AX9),\"\")","v":13084},{"$f":"IFERROR(IF(AY9=\"\",\"\",AY9),\"\")","v":5495},{"$f":"IFERROR(IF(OR(C8=$AP$16,C8=$AP$17,C8=$AP$18,C8=$AP$19,C8=$AP$20,C8=$AP$21,C8=$AP$22,C8=$AP$23,C8=$AP$24),0,IF(AZ9=\"\",\"\",AZ9)),\"\")","v":1178},{"$f":"IF(C8=\"\",\"\",SUM(D8:F8))","v":19757},{"$f":"IFERROR(IF(BB9=\"\",\"\",BB9),\"\")","v":12697},{"$f":"IFERROR(IF(BC9=\"\",\"\",BC9),\"\")","v":5333},{"$f":"IFERROR(IF(OR(C8=$AP$16,C8=$AP$17,C8=$AP$18,C8=$AP$19,C8=$AP$20,C8=$AP$21,C8=$AP$22,C8=$AP$23,C8=$AP$24),0,IF(BD9=\"\",\"\",BD9)),\"\")","v":1143},{"$f":"IF(C8=\"\",\"\",SUM(H8:J8))","v":19173},{"$f":"IFERROR(IF(C8=\"\",\"\",IF(D8=\"\",\"\",IF(H8=\"\",\"\",SUM(D8-H8)))),\"\")","v":387},{"$f":"IFERROR(IF(C8=\"\",\"\",IF(E8=\"\",\"\",IF(I8=\"\",\"\",SUM(E8-I8)))),\"\")","v":162},{"$f":"IFERROR(IF(C8=\"\",\"\",IF(F8=\"\",\"\",IF(J8=\"\",\"\",SUM(F8-J8)))),\"\")","v":35},{"$f":"IFERROR(IF(C8=\"\",\"\",IF(G8=\"\",\"\",IF(K8=\"\",\"\",SUM(G8-K8)))),\"\")","v":584},{"$f":"IF(C8=\"\",\"\",IF(AND(C8>$AO$1,$AF$3=$AO$2),BR9,IF($AR$18=$AR$20,SUM(BE9+BM9),ROUND((D8+E8)*10%,0))))","v":2100},{"$f":"IFERROR(IF(C8=\"\",\"\",IF(H8=\"\",\"\",IF(I8=\"\",\"\",IF(AND(C8>$AO$1,$AF$3=$AO$2),BR9,IF($AR$18=$AR$20,$AR$21,ROUND((H8+I8)*10%,0)))))),\"\")","v":2100},{"$f":"IFERROR(IF(C8=\"\",\"\",SUM(P8-Q8)),\"\")","v":0},{"$f":"IFERROR(IF(C8=\"\",\"\",IF($AR$16=$AR$17,0,IF($AR$19=$AR$20,$AR$25,0))),\"\")","v":0},{"$f":"IFERROR(IF(C8=\"\",\"\",IF($AR$16=$AR$17,0,IF($AR$19=$AR$20,$AR$24,0))),\"\")","v":0},{"$f":"IFERROR(IF(C8=\"\",\"\",SUM(S8-T8)),\"\")","v":0},{"$f":"IF(C8=\"\",\"\",IF(AND($AR$2=$AR$20,C8=$AR$1),ROUND(D8/31*$AS$2,0),IF(C8=$AP$6,ROUND((G8)*1/30,0),IF(C8=$AQ$6,ROUND((G8)*1/31,0),\"\"))))","v":""},{"$f":"IF(C8=\"\",\"\",IF(AND($AR$2=$AR$20,C8=$AR$1),ROUND(H8/31*$AS$2,0),IF(C8=$AP$6,ROUND((K8)*1/30,0),IF(C8=$AQ$6,ROUND((K8)*1/31,0),\"\"))))","v":""},{"$f":"IFERROR(IF(C8=\"\",\"\",SUM(V8-W8)),\"\")","v":""},{"$f":"IFERROR(IF(C8=\"\",\"\",IF($AR$16=$AR$17,0,IF($AF$3=$AO$4,\"\",BU8))),\"\")","v":658},{"$f":"IFERROR(IF(C8=\"\",\"\",IF($AR$16=$AR$17,0,IF($AF$3=$AO$4,\"\",BT8))),\"\")","v":440},{"$f":"IFERROR(IF(C8=\"\",\"\",SUM(Y8-Z8)),\"\")","v":218},{"$f":"IFERROR(IF(BJ9=\"\",\"\",IF(AND(AF3=\"NPS\",BJ9=\"YES\"),SUM(BK9+BR9),\"\")),\"\")","v":""},{"$f":"IFERROR(IF(C8=\"\",\"\",ROUND(O8*$AR$7%,0)),\"\")","v":0},{"$f":"IFERROR(IF(C8=\"\",\"\",IF($AF$3=\"GPF\",SUM(R8,U8,X8,AB8,AC8),SUM(U8,X8,AB8,AC8))),\"\")","v":0},{"$f":"IFERROR(IF(C8=\"\",\"\",SUM(O8-AD8)),\"\")","v":584},{"$nulls":33},"GPF",{"$nulls":6},{"$f":"IF(AW9=\"\",\"\",IF(AW9=\"TOTAL\",\"\",IF($AR$16=$AR$17,0,IF(AND(AW9=$BT$1,$AF$3=$AO$2),IF($AR$14<18001,135,IF($AR$14<33501,220,IF($AR$14<54001,330,440))),IF(AND(AW9>$BT$1,$AF$3=$AO$2),IF($AR$14<18001,265,IF($AR$14<33501,440,IF($AR$14<54001,658,875))),\"\")))))","v":440},{"$f":"IF(AW9=\"\",\"\",IF(AW9=\"TOTAL\",\"\",IF($AR$16=$AR$17,0,IF(AND(AW9>$BT$1,$AF$3=$AO$2,'Master Sheet'!$D$31>0),'Master Sheet'!$D$31,IF(AND(AW9=$BT$1,$AF$3=$AO$2),IF($AR$9<18001,135,IF($AR$9<33501,220,IF($AR$9<54001,330,440))),IF(AND(AW9>$BT$1,$AF$3=$AO$2),IF($AR$9<18001,265,IF($AR$9<33501,440,IF($AR$9<54001,658,875))),\"\"))))))","v":658}]
[{"$f":"IF(C9=\"TOTAL\",\"\",IF(LEN(C9)>=2,B8+1,0))","v":2},{"$f":"IFERROR(IF(A9=\"\",\"\",IF(A9=0,\"\",A9)),\"\")","v":2},{"$f":"IFERROR(IF(AW10=\"\",\"\",AW10),\"\")","v":"2023-02-01"},{"$f":"IFERROR(IF($C9=\"TOTAL\",SUM($D$8:D8),IF(AX10=\"\",\"\",AX10)),\"\")","v":33800},{"$f":"IFERROR(IF($C9=\"TOTAL\",SUM($E$8:E8),IF(AY10=\"\",\"\",AY10)),\"\")","v":14196},{"$f":"IFERROR(IF($C9=\"TOTAL\",SUM($F$8:F8),IF(OR(C9=$AP$16,C9=$AP$17,C9=$AP$18,C9=$AP$19,C9=$AP$20,C9=$AP$21,C9=$AP$22,C9=$AP$23,C9=$AP$24),0,IF(AZ10=\"\",\"\",AZ10))),\"\")","v":3042},{"$f":"IF(C9=\"\",\"\",SUM(D9:F9))","v":51038},{"$f":"IFERROR(IF($C9=\"TOTAL\",SUM($H$8:H8),IF(BB10=\"\",\"\",BB10)),\"\")","v":32800},{"$f":"IFERROR(IF($C9=\"TOTAL\",SUM($I$8:I8),IF(BC10=\"\",\"\",BC10)),\"\")","v":13776},{"$f":"IFERROR(IF($C9=\"TOTAL\",SUM($J$8:J8),IF(OR(C9=$AP$16,C9=$AP$17,C9=$AP$18,C9=$AP$19,C9=$AP$20,C9=$AP$21,C9=$AP$22,C9=$AP$23,C9=$AP$24),0,IF(BD10=\"\",\"\",BD10))),\"\")","v":2952},{"$f":"IF(C9=\"\",\"\",SUM(H9:J9))","v":49528},{"$f":"IFERROR(IF(C9=\"\",\"\",IF(D9=\"\",\"\",IF(H9=\"\",\"\",IF($C9=\"TOTAL\",SUM($L$8:L8),SUM(D9-H9))))),\"\")","v":1000},{"$f":"IFERROR(IF(C9=\"\",\"\",IF(E9=\"\",\"\",IF(I9=\"\",\"\",IF($C9=\"TOTAL\",SUM($M$8:M8),SUM(E9-I9))))),\"\")","v":420},{"$f":"IFERROR(IF(C9=\"\",\"\",IF(F9=\"\",\"\",IF(J9=\"\",\"\",IF($C9=\"TOTAL\",SUM($N$8:N8),SUM(F9-J9))))),\"\")","v":90},{"$f":"IFERROR(IF(C9=\"\",\"\",IF(G9=\"\",\"\",IF(K9=\"\",\"\",SUM(G9-K9)))),\"\")","v":1510},{"$f":"IFERROR(IF(C9=\"\",\"\",IF(AND(C9>$AO$1,$AF$3=$AO$2),BR10,IF($AR$18=$AR$20,SUM(BE10+BM10),ROUND((D9+E9)*10%,0)))),\"\")","v":2100},{"$f":"IFERROR(IF(C9=\"\",\"\",IF(H9=\"\",\"\",IF(I9=\"\",\"\",IF(AND(C9>$AO$1,$AF$3=$AO$2),BR10,IF($AR$18=$AR$20,$AR$21,ROUND((H9+I9)*10%,0)))))),\"\")","v":2100},{"$f":"IFERROR(IF(C9=\"\",\"\",SUM(P9-Q9)),\"\")","v":0},{"$f":"IFERROR(IF(C9=\"\",\"\",IF($AR$16=$AR$17,0,IF($C9=\"TOTAL\",SUM($S$8:S8),IF($AR$19=$AR$31,0,IF(AND($AR$32=$AR$20,C9=$AR$33),$AR$34,S8))))),\"\")","v":0},{"$f":"IFERROR(IF(C9=\"\",\"\",IF($AR$16=$AR$17,0,IF($C9=\"TOTAL\",SUM($T$8:T8),IF($AR$19=$AR$20,$AR$24,0)))),\"\")","v":0},{"$f":"IFERROR(IF(C9=\"\",\"\",SUM(S9-T9)),\"\")","v":0},{"$f":"IF(C9=\"\",\"\",IF($C9=\"TOTAL\",SUM($V$8:V8),IF(AND($AR$2=$AR$20,C9=$AR$1),ROUND(D9/31*$AS$2,0),IF(C9=$AP$6,ROUND((G9)*1/30,0),IF(C9=$AQ$6,ROUND((G9)*1/31,0),\"\")))))","v":""},{"$f":"IF(C9=\"\",\"\",IF($C9=\"TOTAL\",SUM($W$8:W8),IF(AND($AR$2=$AR$20,C9=$AR$1),ROUND(H9/31*$AS$2,0),IF(C9=$AP$6,ROUND((K9)*1/30,0),IF(C9=$AQ$6,ROUND((K9)*1/31,0),\"\")))))","v":""},{"$f":"IFERROR(IF(C9=\"\",\"\",SUM(V9-W9)),\"\")","v":""},{"$f":"IFERROR(IF(C9=\"\",\"\",IF($AR$16=$AR$17,0,IF($AF$3=$AO$4,\"\",IF($C9=\"TOTAL\",SUM($Y$8:Y8),BU9)))),\"\")","v":658},{"$f":"IFERROR(IF(C9=\"\",\"\",IF($AR$16=$AR$17,0,IF($AF$3=$AO$4,\"\",IF($C9=\"TOTAL\",SUM($Z$8:Z8),BT9)))),\"\")","v":440},{"$f":"IFERROR(IF(C9=\"\",\"\",SUM(Y9-Z9)),\"\")","v":218},{"$f":"IFERROR(IF(C9=\"\",\"\",IF(AND(BK10=\"\",BR10=\"\"),\"\",IF($C9=\"TOTAL\",SUM($AB$8:AB8),BK10))),\"\")","v":""},{"$f":"IFERROR(IF(C9=\"\",\"\",IF($C9=\"TOTAL\",SUM($AC$8:AC8),ROUND(O9*$AR$7%,0))),\"\")","v":0},{"$f":"IFERROR(IF(C9=\"\",\"\",IF($C9=\"TOTAL\",SUM($AD$8:AD8),IF($AF$3=$AO$2,SUM(U9,X9,AB9,AC9),SUM(R9,U9,X9,AB9,AC9)))),\"\")","v":0},{"$f":"IFERROR(IF(C9=\"\",\"\",IF($C9=\"TOTAL\",SUM($AE$8:AE8),SUM(O9-AD9))),\"\")","v":1510},{"$nulls":8},{"$f":"IF(OR(AW9=$AQ$9,AW9=$AQ$10,AW9=$AQ$11,AW9=$AQ$12,AW9=$AQ$13,AW9=$AQ$14),4,IF(OR(AW9=$AQ$15,AW9=$AQ$16,AW9=$AQ$17,AW9=$AQ$18,AW9=$AQ$19,AW9=$AQ$20),5,IF(OR(AW9=$AQ$21,AW9=$AQ$22,AW9=$AQ$23,AW9=$AQ$24,AW9=$AQ$25,AW9=$AQ$26),7,IF(OR(AW9=$AQ$27,AW9=$AQ$28,AW9=$AQ$29,AW9=$AQ$30,AW9=$AQ$31,AW9=$AQ$32),9,IF(OR(AW9=$AQ$33,AW9=$AQ$34,AW9=$AQ$35,AW9=$AQ$36,AW9=$AQ$37,AW9=$AQ$38),12,IF(OR(AW9=$AQ$39,AW9=$AQ$40,AW9=$AQ$41,AW9=$AQ$42,AW9=$AQ$43,AW9=$AQ$44,AW9=$AQ$45,AW9=$AQ$46,AW9=$AQ$47,AW9=$AQ$48,AW9=$AQ$49,AW9=$AQ$50,AW9=$AQ$51,AW9=$AQ$52,AW9=$AQ$53,AW9=$AQ$54,AW9=$AQ$55,AW9=$AQ$56,AW9=$AQ$57,AW9=$AQ$58,AW9=$AQ$59,AW9=$AQ$60,AW9=$AQ$61,AW9=$AQ$62),17,IF(OR(AW9=$AQ$63,AW9=$AQ$64,AW9=$AQ$65,AW9=$AQ$66,AW9=$AQ$67,AW9=$AQ$68),31,IF(OR(AW9=$AQ$69,AW9=$AQ$70,AW9=$AQ$71,AW9=$AQ$72,AW9=$AQ$73,AW9=$AQ$74),34,IF(OR(AW9=$AQ$75,AW9=$AQ$76,AW9=$AQ$77,AW9=$AQ$78,AW9=$AQ$79,AW9=$AQ$80),38,42)))))))))","v":42},{"$f":"IF(OR(AW9=$AQ$9,AW9=$AQ$10,AW9=$AQ$11,AW9=$AQ$12,AW9=$AQ$13,AW9=$AQ$14),4,IF(OR(AW9=$AQ$15,AW9=$AQ$16,AW9=$AQ$17,AW9=$AQ$18,AW9=$AQ$19,AW9=$AQ$20),5,IF(OR(AW9=$AQ$21,AW9=$AQ$22,AW9=$AQ$23,AW9=$AQ$24,AW9=$AQ$25,AW9=$AQ$26),7,IF(OR(AW9=$AQ$27,AW9=$AQ$28,AW9=$AQ$29,AW9=$AQ$30,AW9=$AQ$31,AW9=$AQ$32),9,IF(OR(AW9=$AQ$33,AW9=$AQ$34,AW9=$AQ$35,AW9=$AQ$36,AW9=$AQ$37,AW9=$AQ$38),12,IF(OR(AW9=$AQ$39,AW9=$AQ$40,AW9=$AQ$41,AW9=$AQ$42,AW9=$AQ$43,AW9=$AQ$44,AW9=$AQ$45,AW9=$AQ$46,AW9=$AQ$47,AW9=$AQ$48,AW9=$AQ$49,AW9=$AQ$50,AW9=$AQ$51,AW9=$AQ$52,AW9=$AQ$53,AW9=$AQ$54,AW9=$AQ$55,AW9=$AQ$56,AW9=$AQ$57,AW9=$AQ$58,AW9=$AQ$59,AW9=$AQ$60,AW9=$AQ$61,AW9=$AQ$62),17,IF(OR(AW9=$AQ$63,AW9=$AQ$64,AW9=$AQ$65,AW9=$AQ$66,AW9=$AQ$67,AW9=$AQ$68),31,IF(OR(AW9=$AQ$69,AW9=$AQ$70,AW9=$AQ$71,AW9=$AQ$72,AW9=$AQ$73,AW9=$AQ$74),34,IF(OR(AW9=$AQ$75,AW9=$AQ$76,AW9=$AQ$77,AW9=$AQ$78,AW9=$AQ$79,AW9=$AQ$80),38,42)))))))))","v":42},null,"2017-01-01",{"$f":"'Master Sheet'!M13","v":33800},{"$f":"IF(AND($AR$6>$AS$6),\"\",DATE(YEAR(AR6),MONTH(AR6),DAY(AR6)))","v":"2023-01-01"},{"$f":"IF(AND(AS9=\"\"),\"\",IF(AND(AS9=$AQ$9),$AQ$9,IF(AND(AS9=$AQ$10),$AQ$10,IF(AND(AS9=$AQ$11),$AQ$11,IF(AND(AS9=$AQ$12),$AQ$12,IF(AND(AS9=$AQ$13),$AQ$13,IF(AND(AS9=$AQ$14),$AQ$14,IF(AND(AS9=$AQ$15),$AQ$15,IF(AND(AS9=$AQ$16),$AQ$16,IF(AND(AS9=$AQ$17),$AQ$17,IF(AND(AS9=$AQ$18),$AQ$18,IF(AND(AS9=$AQ$19),$AQ$19,IF(AND(AS9=$AQ$20),$AQ$20,IF(AND(AS9=$AQ$21),$AQ$21,IF(AND(AS9=$AQ$22),$AQ$22,IF(AND(AS9=$AQ$23),$AQ$23,IF(AND(AS9=$AQ$24),$AQ$24,IF(AND(AS9=$AQ$25),$AQ$25,IF(AND(AS9=$AQ$26),$AQ$26,IF(AND(AS9=$AQ$27),$AQ$27,IF(AND(AS9=$AQ$28),$AQ$28,IF(AND(AS9=$AQ$29),$AQ$29,IF(AND(AS9=$AQ$30),$AQ$30,IF(AND(AS9=$AQ$31),$AQ$31,IF(AND(AS9=$AQ$32),$AQ$32,IF(AND(AS9=$AQ$33),$AQ$33,IF(AND(AS9=$AQ$34),$AQ$34,IF(AND(AS9=$AQ$35),$AQ$35,IF(AND(AS9=$AQ$36),$AQ$36,IF(AND(AS9=$AQ$37),$AQ$37,IF(AND(AS9=$AQ$38),$AQ$38,IF(AND(AS9=$AQ$39),$AQ$39,IF(AND(AS9=$AQ$40),$AQ$40,IF(AND(AS9=$AQ$41),$AQ$41,IF(AND(AS9=$AQ$42),$AQ$42,IF(AND(AS9=$AQ$43),$AQ$43,IF(AND(AS9=$AQ$44),$AQ$44,IF(AND(AS9=$AQ$45),$AQ$45,IF(AND(AS9=$AQ$46),$AQ$46,IF(AND(AS9=$AQ$47),$AQ$47,IF(AND(AS9=$AQ$48),$AQ$48,IF(AND(AS9=$AQ$49),$AQ$49,IF(AND(AS9=$AQ$50),$AQ$50,IF(AND(AS9=$AQ$51),$AQ$51,IF(AND(AS9=$AQ$52),$AQ$52,IF(AND(AS9=$AQ$53),$AQ$53,IF(AND(AS9=$AQ$54),$AQ$54,IF(AND(AS9=$AQ$55),$AQ$55,IF(AND(AS9=$AQ$56),$AQ$56,IF(AND(AS9=$AQ$57),$AQ$57,IF(AND(AS9=$AQ$58),$AQ$58,IF(AND(AS9=$AQ$59),$AQ$59,IF(AND(AS9=$AQ$60),$AQ$60,IF(AND(AS9=$AQ$61),$AQ$61,IF(AND(AS9=$AQ$62),$AQ$62,IF(AND(AS9=$AQ$63),$AQ$63,IF(AND(AS9=$AQ$64),$AQ$64,IF(AND(AS9=$AQ$65),$AQ$65,IF(AND(AS9=$AQ$66),$AQ$66,IF(AND(AS9=$AQ$67),$AQ$67,IF(AND(AS9=$AQ$68),$AQ$68,IF(AND(AS9=$AQ$69),$AQ$69,IF(AND(AS9=$AQ$70),$AQ$70,IF(AND(AS9=$AQ$71),$AQ$71,\"\"))))))))))))))))))))))))))))))))))))))))))))))))))))))))))))))))","v":""},{"$f":"IF(AND(AS9=\"\"),\"\",IF(AND(AS9=$AQ$72),$AR$72,IF(AND(AS9=$AQ$73),$AR$73,IF(AND(AS9=$AQ$74),$AR$74,IF(AND(AS9=$AQ$75),$AR$75,IF(AND(AS9=$AQ$76),$AR$76,IF(AND(AS9=$AQ$77),$AR$77,IF(AND(AS9=$AQ$78),$AR$78,IF(AND(AS9=$AQ$79),$AR$79,IF(AND(AS9=$AQ$80),$AR$80,IF(AND(AS9=$AQ$81),$AR$81,IF(AND(AS9=$AQ$82),$AR$82,IF(AND(AS9=$AQ$83),$AR$83,IF(AND(AS9=$AQ$84),$AR$84,IF(AND(AS9=$AQ$85),$AR$85,IF(AND(AS9=$AQ$86),$AR$86,IF(AND(AS9=$AQ$87),$AR$87,IF(AND(AS9=$AQ$88),$AR$88,IF(AND(AS9=$AQ$89),$AR$89,IF(AND(AS9=$AQ$90),$AR$90,IF(AND(AS9=$AQ$91),$AR$91,IF(AND(AS9=$AQ$92),$AR$92,\"\"))))))))))))))))))))))","v":"2023-01-01"},{"$f":"IFERROR(IF(AND(AT9=\"\",AU9=\"\"),\"\",IF(AT9=\"\",AU9,AT9)),\"\")","v":"2023-01-01"},{"$f":"IFERROR(IF(AND(AT9=\"\",AV9=\"\"),\"\",IF(AV9>$AS$6,\"\",AV9)),\"\")","v":"2023-01-01"},{"$f":"IF(AW9=\"\",\"\",ROUND((AR9/AX3)*AX6,0))","v":13084},{"$f":"IF(AW9=\"\",\"\",IF(AW9=\"TOTAL\",\"\",ROUND(AX9*AN9%,0)))","v":5495},{"$f":"IF(AW9=\"\",\"\",IF(AW9=\"TOTAL\",\"\",IF(AW9>=$AY$7,ROUND(AX9*$AX$7%,0),ROUND(AX9*$AT$7%,0))))","v":1178},null,{"$f":"IF(AW9=\"\",\"\",IF(AND($AR$10=\"\",$AR$14=\"\"),\"\",IF(AR26=AR20,ROUND((AR27/AX3)*AX6,0),IF($AR$13=$AR$15,ROUND(($AR$14/AX3)*AX6,0),ROUND(($AR$10/AX3)*AX6,0)))))","v":12697},{"$f":"IF(AW9=\"\",\"\",IF(BB9=\"\",\"\",IF($AR$16=$AR$17,0,ROUND(BB9*AO9%,0))))","v":5333},{"$f":"IF(AW9=\"\",\"\",IF(BB9=\"\",\"\",IF($AR$16=$AR$17,0,IF(AW9>=$AY$7,ROUND(BB9*$AX$7%,0),ROUND(BB9*$AT$7%,0)))))","v":1143},{"$f":"IF(AW9=\"\",\"\",IF(AW9=\"TOTAL\",\"\",IF(BB9=\"\",\"\",IF($AR$16=$AR$17,0,IF(OR(C8=$AP$16,C8=$AP$17,C8=$AP$18,C8=$AP$19,C8=$AP$20,C8=$AP$21,C8=$AP$22,C8=$AP$23,C8=$AP$24),SUM(BH9+$AR$22),$AR$22)))))","v":3675},null,null,{"$f":"IF(AW9=\"\",\"\",IF(AW9=\"TOTAL\",\"\",IF(BB9=\"\",\"\",SUM(O8)-SUM(($AR$22-$AR$21)+SUM(U8,X8,AC8)))))","v":584},{"$f":"IF(AW9=\"\",\"\",IF(AW9=\"TOTAL\",\"\",IF(AND($AR$20=$AR$36,C9=$AR$37),$AR$38,$AR$22)))","v":3675},{"$f":"IF(OR(AW9=$AQ$63,AW9=$AQ$64,AW9=$AQ$65),\"YES\",\"\")","v":""},{"$f":"IF(BJ9=\"\",\"\",IF($AR$16=$AR$17,ROUND((D8)*3%,0),IF(OR(AW9=$AQ$63,AW9=$AQ$64,AW9=$AQ$65),SUM(ROUND((D8-H8)*3%,0)),IF(OR(AW9=$AQ$69,AW9=$AQ$70,AW9=$AQ$71),SUM(ROUND((D8-H8)*3%,0)),\"\"))))","v":""},{"$f":"IFERROR(IF(AND($AR$16=$AR$17,BJ9=\"YES\"),ROUND(ROUND(D8*3%,0)*10%,0),IF(AND($AR$16=$AR$15,BJ9=\"YES\",$AP$7=\"NO\"),ROUND(ROUND((L8+H8)*3%,0)*10%,0),IF(AND($AR$16=$AR$15,BJ9=\"YES\",$AP$7=\"YES\"),ROUND(ROUND((L8+M8)*3%,0)*10%,0),0))),\"\")","v":0},{"$f":"IF(AND($AR$16=$AR$17,BJ9=\"YES\"),ROUND(D8*3%,0),IF(AND($AR$16=$AR$15,BJ9=\"YES\",$AP$7=\"NO\"),ROUND((L8+H8)*3%,0),IF(AND($AR$16=$AR$15,BJ9=\"YES\",$AP$7=\"YES\"),ROUND((L8+M8)*3%,0),0)))","v":0},{"$f":"IF(AND($AR$16=$AR$17,BJ9=\"YES\"),ROUND(ROUND(D8*3%,0)*10%,0),IF(AND($AR$16=$AR$15,BJ9=\"YES\",$AP$7=\"NO\"),ROUND(ROUND((L8+H8)*3%,0)*10%,0),IF(AND($AR$16=$AR$15,BJ9=\"YES\",$AP$7=\"YES\"),ROUND(ROUND((L8+M8)*3%,0)*10%,0),\"\")))","v":""},{"$nulls":3},{"$f":"IF(AW9=\"\",\"\",IF(AW9=\"TOTAL\",\"\",IF(AND(AW9>$AO$1,$AF$3=$AO$2),$AV$1,\"\")))","v":2100},null,{"$f":"IF(AW10=\"\",\"\",IF(AW10=\"TOTAL\",\"\",IF($AR$16=$AR$17,0,IF(AND(AW10=$BT$1,$AF$3=$AO$2),IF($AR$14<18001,135,IF($AR$14<33501,220,IF($AR$14<54001,330,440))),IF(AND(AW10>$BT$1,$AF$3=$AO$2),IF($AR$14<18001,265,IF($AR$14<33501,440,IF($AR$14<54001,658,875))),\"\")))))","v":440},{"$f":"IF(AW10=\"\",\"\",IF(AW10=\"TOTAL\",\"\",IF($AR$16=$AR$17,0,IF(AND(AW10>$BT$1,$AF$3=$AO$2,'Master Sheet'!$D$31>0),'Master Sheet'!$D$31,IF(AND(AW10=$BT$1,$AF$3=$AO$2),IF($AR$9<18001,135,IF($AR$9<33501,220,IF($AR$9<54001,330,440))),IF(AND(AW10>$BT$1,$AF$3=$AO$2),IF($AR$9<18001,265,IF($AR$9<33501,440,IF($AR$9<54001,658,875))),\"\"))))))","v":658}]
[{"$f":"IF(C10=\"TOTAL\",\"\",IF(B9=\"\",\"\",IF(LEN(C10)>=2,B9+1,0)))","v":3},3,"2023-03-01",{"$f":"IFERROR(IF($C9=\"TOTAL\",\"अक्षरें राशि :-\",IF($C10=\"TOTAL\",SUM($D$8:D9),IF(AX11=\"\",\"\",AX11))),\"\")","v":33800},{"$f":"IFERROR(IF($C10=\"TOTAL\",SUM($E$8:E9),IF(AY11=\"\",\"\",AY11)),\"\")","v":14196},{"$f":"IFERROR(IF($C10=\"TOTAL\",SUM($F$8:F9),IF(OR(C10=$AP$16,C10=$AP$17,C10=$AP$18,C10=$AP$19,C10=$AP$20,C10=$AP$21,C10=$AP$22,C10=$AP$23,C10=$AP$24),0,IF(AZ11=\"\",\"\",AZ11))),\"\")","v":3042},{"$f":"IF(C10=\"\",\"\",SUM(D10:F10))","v":51038},{"$f":"IFERROR(IF($C10=\"TOTAL\",SUM($H$8:H9),IF(BB11=\"\",\"\",BB11)),\"\")","v":32800},{"$f":"IFERROR(IF($C10=\"TOTAL\",SUM($I$8:I9),IF(BC11=\"\",\"\",BC11)),\"\")","v":13776},{"$f":"IFERROR(IF($C10=\"TOTAL\",SUM($J$8:J9),IF(OR(C10=$AP$16,C10=$AP$17,C10=$AP$18,C10=$AP$19,C10=$AP$20,C10=$AP$21,C10=$AP$22,C10=$AP$23,C10=$AP$24),0,IF(BD11=\"\",\"\",BD11))),\"\")","v":2952},{"$f":"IF(C10=\"\",\"\",SUM(H10:J10))","v":49528},{"$f":"IFERROR(IF(C10=\"\",\"\",IF(D10=\"\",\"\",IF(H10=\"\",\"\",IF($C10=\"TOTAL\",SUM($L$8:L9),SUM(D10-H10))))),\"\")","v":1000},{"$f":"IFERROR(IF(C10=\"\",\"\",IF(E10=\"\",\"\",IF(I10=\"\",\"\",IF($C10=\"TOTAL\",SUM($M$8:M9),SUM(E10-I10))))),\"\")","v":420},{"$f":"IFERROR(IF(C10=\"\",\"\",IF(F10=\"\",\"\",IF(J10=\"\",\"\",IF($C10=\"TOTAL\",SUM($N$8:N9),SUM(F10-J10))))),\"\")","v":90},{"$f":"IFERROR(IF(C10=\"\",\"\",IF(G10=\"\",\"\",IF(K10=\"\",\"\",SUM(G10-K10)))),\"\")","v":1510},{"$f":"IFERROR(IF(C10=\"\",\"\",IF($C10=\"TOTAL\",SUM($P$8:P9),IF(AND(C10>$AO$1,$AF$3=$AO$2),BR11,IF($AR$18=$AR$20,SUM(BE11+BM11),ROUND((D10+E10)*10%,0))))),\"\")","v":2100},{"$f":"IFERROR(IF(C10=\"\",\"\",IF(H10=\"\",\"\",IF(I10=\"\",\"\",IF($C10=\"TOTAL\",SUM($Q$8:Q9),IF(AND(C10>$AO$1,$AF$3=$AO$2),BR11,IF($AR$18=$AR$20,$AR$21,ROUND((H10+I10)*10%,0))))))),\"\")","v":2100},{"$f":"IFERROR(IF(C10=\"\",\"\",SUM(P10-Q10)),\"\")","v":0},{"$f":"IFERROR(IF(C10=\"\",\"\",IF($AR$16=$AR$17,0,IF($C10=\"TOTAL\",SUM($S$8:S9),IF($AR$19=$AR$31,0,IF(AND($AR$32=$AR$20,C10=$AR$33),$AR$34,S9))))),\"\")","v":0},{"$f":"IFERROR(IF(C10=\"\",\"\",IF($AR$16=$AR$17,0,IF($C10=\"TOTAL\",SUM($T$8:T9),IF($AR$19=$AR$20,$AR$24,0)))),\"\")","v":0},{"$f":"IFERROR(IF(C10=\"\",\"\",SUM(S10-T10)),\"\")","v":0},{"$f":"IF(C10=\"\",\"\",IF($C10=\"TOTAL\",SUM($V$8:V9),IF(AND($AR$2=$AR$20,C10=$AR$1),ROUND(D10/31*$AS$2,0),IF(C10=$AP$6,ROUND((G10)*1/30,0),IF(C10=$AQ$6,ROUND((G10)*1/31,0),\"\")))))","v":""},{"$f":"IF(C10=\"\",\"\",IF($C10=\"TOTAL\",SUM($W$8:W9),IF(AND($AR$2=$AR$20,C10=$AR$1),ROUND(H10/31*$AS$2,0),IF(C10=$AP$6,ROUND((K10)*1/30,0),IF(C10=$AQ$6,ROUND((K10)*1/31,0),\"\")))))","v":""},{"$f":"IFERROR(IF(C10=\"\",\"\",SUM(V10-W10)),\"\")","v":""},{"$f":"IFERROR(IF(C10=\"\",\"\",IF($AR$16=$AR$17,0,IF($AF$3=$AO$4,\"\",IF($C10=\"TOTAL\",SUM($Y$8:Y9),BU10)))),\"\")","v":658},{"$f":"IFERROR(IF(C10=\"\",\"\",IF($AR$16=$AR$17,0,IF($AF$3=$AO$4,\"\",IF($C10=\"TOTAL\",SUM($Z$8:Z9),BT10)))),\"\")","v":440},218,{"$f":"IFERROR(IF(C10=\"\",\"\",IF(AND(BK11=\"\",BR11=\"\"),\"\",IF($C10=\"TOTAL\",SUM($AB$8:AB9),BK11))),\"\")","v":""},{"$f":"IFERROR(IF(C10=\"\",\"\",IF($C10=\"TOTAL\",SUM($AC$8:AC9),ROUND(O10*$AR$7%,0))),\"\")","v":0},{"$f":"IFERROR(IF(C10=\"\",\"\",IF($C10=\"TOTAL\",SUM($AD$8:AD9),IF($AF$3=$AO$2,SUM(U10,X10,AB10,AC10),SUM(R10,U10,X10,AB10,AC10)))),\"\")","v":0},{"$f":"IFERROR(IF(C10=\"\",\"\",IF($C10=\"TOTAL\",SUM($AE$8:AE9),SUM(O10-AD10))),\"\")","v":1510},{"$nulls":8},{"$f":"IF(OR(AW10=$AQ$9,AW10=$AQ$10,AW10=$AQ$11,AW10=$AQ$12,AW10=$AQ$13,AW10=$AQ$14),4,IF(OR(AW10=$AQ$15,AW10=$AQ$16,AW10=$AQ$17,AW10=$AQ$18,AW10=$AQ$19,AW10=$AQ$20),5,IF(OR(AW10=$AQ$21,AW10=$AQ$22,AW10=$AQ$23,AW10=$AQ$24,AW10=$AQ$25,AW10=$AQ$26),7,IF(OR(AW10=$AQ$27,AW10=$AQ$28,AW10=$AQ$29,AW10=$AQ$30,AW10=$AQ$31,AW10=$AQ$32),9,IF(OR(AW10=$AQ$33,AW10=$AQ$34,AW10=$AQ$35,AW10=$AQ$36,AW10=$AQ$37,AW10=$AQ$38),12,IF(OR(AW10=$AQ$39,AW10=$AQ$40,AW10=$AQ$41,AW10=$AQ$42,AW10=$AQ$43,AW10=$AQ$44,AW10=$AQ$45,AW10=$AQ$46,AW10=$AQ$47,AW10=$AQ$48,AW10=$AQ$49,AW10=$AQ$50,AW10=$AQ$51,AW10=$AQ$52,AW10=$AQ$53,AW10=$AQ$54,AW10=$AQ$55,AW10=$AQ$56,AW10=$AQ$57,AW10=$AQ$58,AW10=$AQ$59,AW10=$AQ$60,AW10=$AQ$61,AW10=$AQ$62),17,IF(OR(AW10=$AQ$63,AW10=$AQ$64,AW10=$AQ$65,AW10=$AQ$66,AW10=$AQ$67,AW10=$AQ$68),31,IF(OR(AW10=$AQ$69,AW10=$AQ$70,AW10=$AQ$71,AW10=$AQ$72,AW10=$AQ$73,AW10=$AQ$74),34,IF(OR(AW10=$AQ$75,AW10=$AQ$76,AW10=$AQ$77,AW10=$AQ$78,AW10=$AQ$79,AW10=$AQ$80),38,42)))))))))","v":42},{"$f":"IF(OR(AW10=$AQ$9,AW10=$AQ$10,AW10=$AQ$11,AW10=$AQ$12,AW10=$AQ$13,AW10=$AQ$14),4,IF(OR(AW10=$AQ$15,AW10=$AQ$16,AW10=$AQ$17,AW10=$AQ$18,AW10=$AQ$19,AW10=$AQ$20),5,IF(OR(AW10=$AQ$21,AW10=$AQ$22,AW10=$AQ$23,AW10=$AQ$24,AW10=$AQ$25,AW10=$AQ$26),7,IF(OR(AW10=$AQ$27,AW10=$AQ$28,AW10=$AQ$29,AW10=$AQ$30,AW10=$AQ$31,AW10=$AQ$32),9,IF(OR(AW10=$AQ$33,AW10=$AQ$34,AW10=$AQ$35,AW10=$AQ$36,AW10=$AQ$37,AW10=$AQ$38),12,IF(OR(AW10=$AQ$39,AW10=$AQ$40,AW10=$AQ$41,AW10=$AQ$42,AW10=$AQ$43,AW10=$AQ$44,AW10=$AQ$45,AW10=$AQ$46,AW10=$AQ$47,AW10=$AQ$48,AW10=$AQ$49,AW10=$AQ$50,AW10=$AQ$51,AW10=$AQ$52,AW10=$AQ$53,AW10=$AQ$54,AW10=$AQ$55,AW10=$AQ$56,AW10=$AQ$57,AW10=$AQ$58,AW10=$AQ$59,AW10=$AQ$60,AW10=$AQ$61,AW10=$AQ$62),17,IF(OR(AW10=$AQ$63,AW10=$AQ$64,AW10=$AQ$65,AW10=$AQ$66,AW10=$AQ$67,AW10=$AQ$68),31,IF(OR(AW10=$AQ$69,AW10=$AQ$70,AW10=$AQ$71,AW10=$AQ$72,AW10=$AQ$73,AW10=$AQ$74),34,IF(OR(AW10=$AQ$75,AW10=$AQ$76,AW10=$AQ$77,AW10=$AQ$78,AW10=$AQ$79,AW10=$AQ$80),38,42)))))))))","v":42},null,"2017-02-01",{"$f":"'Master Sheet'!I11","v":23700},{"$f":"IF(AND($AR$6>$AS$6),\"\",DATE(YEAR(AS9),MONTH(AS9)+1,DAY(AS9)))","v":"2023-02-01"},{"$f":"IF(AND(AS10=\"\"),\"\",IF(AND(AS10=$AQ$9),$AQ$9,IF(AND(AS10=$AQ$10),$AQ$10,IF(AND(AS10=$AQ$11),$AQ$11,IF(AND(AS10=$AQ$12),$AQ$12,IF(AND(AS10=$AQ$13),$AQ$13,IF(AND(AS10=$AQ$14),$AQ$14,IF(AND(AS10=$AQ$15),$AQ$15,IF(AND(AS10=$AQ$16),$AQ$16,IF(AND(AS10=$AQ$17),$AQ$17,IF(AND(AS10=$AQ$18),$AQ$18,IF(AND(AS10=$AQ$19),$AQ$19,IF(AND(AS10=$AQ$20),$AQ$20,IF(AND(AS10=$AQ$21),$AQ$21,IF(AND(AS10=$AQ$22),$AQ$22,IF(AND(AS10=$AQ$23),$AQ$23,IF(AND(AS10=$AQ$24),$AQ$24,IF(AND(AS10=$AQ$25),$AQ$25,IF(AND(AS10=$AQ$26),$AQ$26,IF(AND(AS10=$AQ$27),$AQ$27,IF(AND(AS10=$AQ$28),$AQ$28,IF(AND(AS10=$AQ$29),$AQ$29,IF(AND(AS10=$AQ$30),$AQ$30,IF(AND(AS10=$AQ$31),$AQ$31,IF(AND(AS10=$AQ$32),$AQ$32,IF(AND(AS10=$AQ$33),$AQ$33,IF(AND(AS10=$AQ$34),$AQ$34,IF(AND(AS10=$AQ$35),$AQ$35,IF(AND(AS10=$AQ$36),$AQ$36,IF(AND(AS10=$AQ$37),$AQ$37,IF(AND(AS10=$AQ$38),$AQ$38,IF(AND(AS10=$AQ$39),$AQ$39,IF(AND(AS10=$AQ$40),$AQ$40,IF(AND(AS10=$AQ$41),$AQ$41,IF(AND(AS10=$AQ$42),$AQ$42,IF(AND(AS10=$AQ$43),$AQ$43,IF(AND(AS10=$AQ$44),$AQ$44,IF(AND(AS10=$AQ$45),$AQ$45,IF(AND(AS10=$AQ$46),$AQ$46,IF(AND(AS10=$AQ$47),$AQ$47,IF(AND(AS10=$AQ$48),$AQ$48,IF(AND(AS10=$AQ$49),$AQ$49,IF(AND(AS10=$AQ$50),$AQ$50,IF(AND(AS10=$AQ$51),$AQ$51,IF(AND(AS10=$AQ$52),$AQ$52,IF(AND(AS10=$AQ$53),$AQ$53,IF(AND(AS10=$AQ$54),$AQ$54,IF(AND(AS10=$AQ$55),$AQ$55,IF(AND(AS10=$AQ$56),$AQ$56,IF(AND(AS10=$AQ$57),$AQ$57,IF(AND(AS10=$AQ$58),$AQ$58,IF(AND(AS10=$AQ$59),$AQ$59,IF(AND(AS10=$AQ$60),$AQ$60,IF(AND(AS10=$AQ$61),$AQ$61,IF(AND(AS10=$AQ$62),$AQ$62,IF(AND(AS10=$AQ$63),$AQ$63,IF(AND(AS10=$AQ$64),$AQ$64,IF(AND(AS10=$AQ$65),$AQ$65,IF(AND(AS10=$AQ$66),$AQ$66,IF(AND(AS10=$AQ$67),$AQ$67,IF(AND(AS10=$AQ$68),$AQ$68,IF(AND(AS10=$AQ$69),$AQ$69,IF(AND(AS10=$AQ$70),$AQ$70,IF(AND(AS10=$AQ$71),$AQ$71,\"\"))))))))))))))))))))))))))))))))))))))))))))))))))))))))))))))))","v":""},{"$f":"IF(AND(AS10=\"\"),\"\",IF(AND(AS10=$AQ$72),$AR$72,IF(AND(AS10=$AQ$73),$AR$73,IF(AND(AS10=$AQ$74),$AR$74,IF(AND(AS10=$AQ$75),$AR$75,IF(AND(AS10=$AQ$76),$AR$76,IF(AND(AS10=$AQ$77),$AR$77,IF(AND(AS10=$AQ$78),$AR$78,IF(AND(AS10=$AQ$79),$AR$79,IF(AND(AS10=$AQ$80),$AR$80,IF(AND(AS10=$AQ$81),$AR$81,IF(AND(AS10=$AQ$82),$AR$82,IF(AND(AS10=$AQ$83),$AR$83,IF(AND(AS10=$AQ$84),$AR$84,IF(AND(AS10=$AQ$85),$AR$85,IF(AND(AS10=$AQ$86),$AR$86,IF(AND(AS10=$AQ$87),$AR$87,IF(AND(AS10=$AQ$88),$AR$88,IF(AND(AS10=$AQ$89),$AR$89,IF(AND(AS10=$AQ$90),$AR$90,IF(AND(AS10=$AQ$91),$AR$91,IF(AND(AS10=$AQ$92),$AR$92,\"\"))))))))))))))))))))))","v":"2023-02-01"},{"$f":"IFERROR(IF(AND(AT10=\"\",AU10=\"\"),\"\",IF(AT10=\"\",AU10,AT10)),\"\")","v":"2023-02-01"},{"$f":"IFERROR(IF(AV10=\"\",\"\",IF(DATE(YEAR(AV10),MONTH(AV10),DAY(AV10))=DATE(YEAR($AS$6),MONTH($AS$6)+1,DAY($AS$6)),\"TOTAL\",IF(AV10>$AS$6,\"\",AV10))),\"\")","v":"2023-02-01"},{"$f":"IFERROR(IF(AW10=\"\",\"\",IF(AND($AR$20=$AR$28,$AR$30=AW10),$AR$29,IF(OR(AW10=$AZ$2,AW10=$AZ$3,AW10=$AZ$4,AW10=$AZ$5,AW10=$AZ$6,AW10=$AZ$7,AW10=$BA$2),MROUND(AR9*1.03,100),AR9))),\"\")","v":33800},{"$f":"IF(AW10=\"\",\"\",IF(AW10=\"TOTAL\",\"\",ROUND(AX10*AN10%,0)))","v":14196},{"$f":"IF(AW10=\"\",\"\",IF(AW10=\"TOTAL\",\"\",IF(AW10>=$AY$7,ROUND(AX10*$AX$7%,0),ROUND(AX10*$AT$7%,0))))","v":3042},null,{"$f":"IFERROR(IF(AW10=\"\",\"\",IF(AW10=\"TOTAL\",\"\",IF($AR$16=$AR$17,$AR$10,IF($AR$20=$AR$26,BF10,BG10)))),\"\")","v":32800},{"$f":"IF(AW10=\"\",\"\",IF(AW10=\"TOTAL\",\"\",IF(BB10=\"\",\"\",IF($AR$16=$AR$17,0,ROUND(BB10*AO10%,0)))))","v":13776},{"$f":"IF(AW10=\"\",\"\",IF(AW10=\"TOTAL\",\"\",IF(BB10=\"\",\"\",IF($AR$16=$AR$17,0,IF(AW10>=$AY$7,ROUND(BB10*$AX$7%,0),ROUND(BB10*$AT$7%,0))))))","v":2952},{"$f":"IF(AW10=\"\",\"\",IF(AW10=\"TOTAL\",\"\",IF(BB10=\"\",\"\",IF($AR$16=$AR$17,0,IF(OR(C9=$AP$16,C9=$AP$17,C9=$AP$18,C9=$AP$19,C9=$AP$20,C9=$AP$21,C9=$AP$22,C9=$AP$23,C9=$AP$24),SUM(BH10+BI10),BI10)))))","v":3675},{"$f":"IF(OR(AW10=$AZ$2,AW10=$AZ$3,AW10=$AZ$4,AW10=$AZ$5,AW10=$AZ$6),MROUND(AR27*1.03,100),AR27)","v":30500},{"$f":"IF(OR(AW10=$AZ$2,AW10=$AZ$3,AW10=$AZ$4,AW10=$AZ$5,AW10=$AZ$6),MROUND(AR14*1.03,100),AR14)","v":32800},{"$f":"IF(AW10=\"\",\"\",IF(AW10=\"TOTAL\",\"\",IF(BB10=\"\",\"\",SUM(O9)-SUM((BI10-$AR$21)+SUM(U9,X9,AC9)))))","v":1510},{"$f":"IF(AW9=\"\",\"\",IF(AW9=\"TOTAL\",\"\",IF(AND($AR$20=$AR$36,C10=$AR$37),$AR$38,BI9)))","v":3675},{"$f":"IF(OR(AW10=$AQ$63,AW10=$AQ$64,AW10=$AQ$65),\"YES\",\"\")","v":""},{"$f":"IF(BJ10=\"\",\"\",IF($AR$16=$AR$17,ROUND((D9)*3%,0),IF(OR(AW10=$AQ$63,AW10=$AQ$64,AW10=$AQ$65),SUM(ROUND((D9-H9)*3%,0)),IF(OR(AW10=$AQ$69,AW10=$AQ$70,AW10=$AQ$71),SUM(ROUND((D9-H9)*3%,0)),\"\"))))","v":""},{"$f":"IFERROR(IF(AND($AR$16=$AR$17,BJ10=\"YES\"),ROUND(ROUND(D9*3%,0)*10%,0),IF(AND($AR$16=$AR$15,BJ10=\"YES\",$AP$7=\"NO\"),ROUND(ROUND((L9+H9)*3%,0)*10%,0),IF(AND($AR$16=$AR$15,BJ10=\"YES\",$AP$7=\"YES\"),ROUND(ROUND((L9+M9)*3%,0)*10%,0),0))),\"\")","v":0},{"$f":"IF(AND($AR$16=$AR$17,BJ10=\"YES\"),ROUND(D9*3%,0),IF(AND($AR$16=$AR$15,BJ10=\"YES\",$AP$7=\"NO\"),ROUND((L9+H9)*3%,0),IF(AND($AR$16=$AR$15,BJ10=\"YES\",$AP$7=\"YES\"),ROUND((L9+M9)*3%,0),0)))","v":0},{"$nulls":4},{"$f":"IF(AW10=\"\",\"\",IF(AW10=\"TOTAL\",\"\",IF(AND(AW10>$AO$1,$AF$3=$AO$2),$AV$1,\"\")))","v":2100},null,440,{"$f":"IF(AW11=\"\",\"\",IF(AW11=\"TOTAL\",\"\",IF($AR$16=$AR$17,0,IF(AND(AW11>$BT$1,$AF$3=$AO$2,'Master Sheet'!$D$31>0),'Master Sheet'!$D$31,IF(AND(AW11=$BT$1,$AF$3=$AO$2),IF($AR$9<18001,135,IF($AR$9<33501,220,IF($AR$9<54001,330,440))),IF(AND(AW11>$BT$1,$AF$3=$AO$2),IF($AR$9<18001,265,IF($AR$9<33501,440,IF($AR$9<54001,658,875))),\"\"))))))","v":658}]
[{"$f":"IF(C11=\"TOTAL\",\"\",IF(B10=\"\",\"\",IF(LEN(C11)>=2,B10+1,0)))","v":4},4,{"$f":"IFERROR(IF(AW12=\"\",\"\",AW12),\"\")","v":"2023-04-01"},{"$f":"IFERROR(IF($C10=\"TOTAL\",\"अक्षरें राशि :-\",IF($C11=\"TOTAL\",SUM($D$8:D10),IF(AX12=\"\",\"\",AX12))),\"\")","v":33800},{"$f":"IFERROR(IF($C11=\"TOTAL\",SUM($E$8:E10),IF(AY12=\"\",\"\",AY12)),\"\")","v":14196},{"$f":"IFERROR(IF($C11=\"TOTAL\",SUM($F$8:F10),IF(OR(C11=$AP$16,C11=$AP$17,C11=$AP$18,C11=$AP$19,C11=$AP$20,C11=$AP$21,C11=$AP$22,C11=$AP$23,C11=$AP$24),0,IF(AZ12=\"\",\"\",AZ12))),\"\")","v":3042},{"$f":"IF(C11=\"\",\"\",SUM(D11:F11))","v":51038},{"$f":"IFERROR(IF($C11=\"TOTAL\",SUM($H$8:H10),IF(BB12=\"\",\"\",BB12)),\"\")","v":32800},{"$f":"IFERROR(IF($C11=\"TOTAL\",SUM($I$8:I10),IF(BC12=\"\",\"\",BC12)),\"\")","v":13776},{"$f":"IFERROR(IF($C11=\"TOTAL\",SUM($J$8:J10),IF(OR(C11=$AP$16,C11=$AP$17,C11=$AP$18,C11=$AP$19,C11=$AP$20,C11=$AP$21,C11=$AP$22,C11=$AP$23,C11=$AP$24),0,IF(BD12=\"\",\"\",BD12))),\"\")","v":2952},49528,{"$f":"IFERROR(IF(C11=\"\",\"\",IF(D11=\"\",\"\",IF(H11=\"\",\"\",IF($C11=\"TOTAL\",SUM($L$8:L10),SUM(D11-H11))))),\"\")","v":1000},{"$f":"IFERROR(IF(C11=\"\",\"\",IF(E11=\"\",\"\",IF(I11=\"\",\"\",IF($C11=\"TOTAL\",SUM($M$8:M10),SUM(E11-I11))))),\"\")","v":420},{"$f":"IFERROR(IF(C11=\"\",\"\",IF(F11=\"\",\"\",IF(J11=\"\",\"\",IF($C11=\"TOTAL\",SUM($N$8:N10),SUM(F11-J11))))),\"\")","v":90},1510,{"$f":"IFERROR(IF(C11=\"\",\"\",IF($C11=\"TOTAL\",SUM($P$8:P10),IF(AND(C11>$AO$1,$AF$3=$AO$2),BR12,IF($AR$18=$AR$20,SUM(BE12+BM12),ROUND((D11+E11)*10%,0))))),\"\")","v":2100},{"$f":"IFERROR(IF(C11=\"\",\"\",IF(H11=\"\",\"\",IF(I11=\"\",\"\",IF($C11=\"TOTAL\",SUM($Q$8:Q10),IF(AND(C11>$AO$1,$AF$3=$AO$2),BR12,IF($AR$18=$AR$20,$AR$21,ROUND((H11+I11)*10%,0))))))),\"\")","v":2100},0,{"$f":"IFERROR(IF(C11=\"\",\"\",IF($AR$16=$AR$17,0,IF($C11=\"TOTAL\",SUM($S$8:S10),IF($AR$19=$AR$31,0,IF(AND($AR$32=$AR$20,C11=$AR$33),$AR$34,S10))))),\"\")","v":0},{"$f":"IFERROR(IF(C11=\"\",\"\",IF($AR$16=$AR$17,0,IF($C11=\"TOTAL\",SUM($T$8:T10),IF($AR$19=$AR$20,$AR$24,0)))),\"\")","v":0},0,{"$f":"IF(C11=\"\",\"\",IF($C11=\"TOTAL\",SUM($V$8:V10),IF(AND($AR$2=$AR$20,C11=$AR$1),ROUND(D11/31*$AS$2,0),IF(C11=$AP$6,ROUND((G11)*1/30,0),IF(C11=$AQ$6,ROUND((G11)*1/31,0),\"\")))))","v":""},{"$f":"IF(C11=\"\",\"\",IF($C11=\"TOTAL\",SUM($W$8:W10),IF(AND($AR$2=$AR$20,C11=$AR$1),ROUND(H11/31*$AS$2,0),IF(C11=$AP$6,ROUND((K11)*1/30,0),IF(C11=$AQ$6,ROUND((K11)*1/31,0),\"\")))))","v":""},"",{"$f":"IFERROR(IF(C11=\"\",\"\",IF($AR$16=$AR$17,0,IF($AF$3=$AO$4,\"\",IF($C11=\"TOTAL\",SUM($Y$8:Y10),BU11)))),\"\")","v":658},{"$f":"IFERROR(IF(C11=\"\",\"\",IF($AR$16=$AR$17,0,IF($AF$3=$AO$4,\"\",IF($C11=\"TOTAL\",SUM($Z$8:Z10),BT11)))),\"\")","v":440},218,{"$f":"IFERROR(IF(C11=\"\",\"\",IF(AND(BK12=\"\",BR12=\"\"),\"\",IF($C11=\"TOTAL\",SUM($AB$8:AB10),BK12))),\"\")","v":""},{"$f":"IFERROR(IF(C11=\"\",\"\",IF($C11=\"TOTAL\",SUM($AC$8:AC10),ROUND(O11*$AR$7%,0))),\"\")","v":0},{"$f":"IFERROR(IF(C11=\"\",\"\",IF($C11=\"TOTAL\",SUM($AD$8:AD10),IF($AF$3=$AO$2,SUM(U11,X11,AB11,AC11),SUM(R11,U11,X11,AB11,AC11)))),\"\")","v":0},{"$f":"IFERROR(IF(C11=\"\",\"\",IF($C11=\"TOTAL\",SUM($AE$8:AE10),SUM(O11-AD11))),\"\")","v":1510},{"$nulls":8},42,42,{"$f":"IF(AY9=\"\",\"\",ROUND((AR11+AY9)*10%,0))","v":1858},"2017-03-01",{"$f":"IFERROR(ROUND((AR9/AX3)*AX6,0),\"\")","v":13084},"2023-03-01",{"$f":"IF(AND(AS11=\"\"),\"\",IF(AND(AS11=$AQ$9),$AQ$9,IF(AND(AS11=$AQ$10),$AQ$10,IF(AND(AS11=$AQ$11),$AQ$11,IF(AND(AS11=$AQ$12),$AQ$12,IF(AND(AS11=$AQ$13),$AQ$13,IF(AND(AS11=$AQ$14),$AQ$14,IF(AND(AS11=$AQ$15),$AQ$15,IF(AND(AS11=$AQ$16),$AQ$16,IF(AND(AS11=$AQ$17),$AQ$17,IF(AND(AS11=$AQ$18),$AQ$18,IF(AND(AS11=$AQ$19),$AQ$19,IF(AND(AS11=$AQ$20),$AQ$20,IF(AND(AS11=$AQ$21),$AQ$21,IF(AND(AS11=$AQ$22),$AQ$22,IF(AND(AS11=$AQ$23),$AQ$23,IF(AND(AS11=$AQ$24),$AQ$24,IF(AND(AS11=$AQ$25),$AQ$25,IF(AND(AS11=$AQ$26),$AQ$26,IF(AND(AS11=$AQ$27),$AQ$27,IF(AND(AS11=$AQ$28),$AQ$28,IF(AND(AS11=$AQ$29),$AQ$29,IF(AND(AS11=$AQ$30),$AQ$30,IF(AND(AS11=$AQ$31),$AQ$31,IF(AND(AS11=$AQ$32),$AQ$32,IF(AND(AS11=$AQ$33),$AQ$33,IF(AND(AS11=$AQ$34),$AQ$34,IF(AND(AS11=$AQ$35),$AQ$35,IF(AND(AS11=$AQ$36),$AQ$36,IF(AND(AS11=$AQ$37),$AQ$37,IF(AND(AS11=$AQ$38),$AQ$38,IF(AND(AS11=$AQ$39),$AQ$39,IF(AND(AS11=$AQ$40),$AQ$40,IF(AND(AS11=$AQ$41),$AQ$41,IF(AND(AS11=$AQ$42),$AQ$42,IF(AND(AS11=$AQ$43),$AQ$43,IF(AND(AS11=$AQ$44),$AQ$44,IF(AND(AS11=$AQ$45),$AQ$45,IF(AND(AS11=$AQ$46),$AQ$46,IF(AND(AS11=$AQ$47),$AQ$47,IF(AND(AS11=$AQ$48),$AQ$48,IF(AND(AS11=$AQ$49),$AQ$49,IF(AND(AS11=$AQ$50),$AQ$50,IF(AND(AS11=$AQ$51),$AQ$51,IF(AND(AS11=$AQ$52),$AQ$52,IF(AND(AS11=$AQ$53),$AQ$53,IF(AND(AS11=$AQ$54),$AQ$54,IF(AND(AS11=$AQ$55),$AQ$55,IF(AND(AS11=$AQ$56),$AQ$56,IF(AND(AS11=$AQ$57),$AQ$57,IF(AND(AS11=$AQ$58),$AQ$58,IF(AND(AS11=$AQ$59),$AQ$59,IF(AND(AS11=$AQ$60),$AQ$60,IF(AND(AS11=$AQ$61),$AQ$61,IF(AND(AS11=$AQ$62),$AQ$62,IF(AND(AS11=$AQ$63),$AQ$63,IF(AND(AS11=$AQ$64),$AQ$64,IF(AND(AS11=$AQ$65),$AQ$65,IF(AND(AS11=$AQ$66),$AQ$66,IF(AND(AS11=$AQ$67),$AQ$67,IF(AND(AS11=$AQ$68),$AQ$68,IF(AND(AS11=$AQ$69),$AQ$69,IF(AND(AS11=$AQ$70),$AQ$70,IF(AND(AS11=$AQ$71),$AQ$71,\"\"))))))))))))))))))))))))))))))))))))))))))))))))))))))))))))))))","v":""},"2023-03-01",{"$f":"IFERROR(IF(AND(AT11=\"\",AU11=\"\"),\"\",IF(AT11=\"\",AU11,AT11)),\"\")","v":"2023-03-01"},{"$f":"IFERROR(IF(AV11=\"\",\"\",IF(DATE(YEAR(AV11),MONTH(AV11),DAY(AV11))=DATE(YEAR($AS$6),MONTH($AS$6)+1,DAY($AS$6)),\"TOTAL\",IF(AV11>$AS$6,\"\",AV11))),\"\")","v":"2023-03-01"},{"$f":"IFERROR(IF(AW11=\"\",\"\",IF(AND($AR$20=$AR$28,$AR$30=AW11),$AR$29,IF(OR(AW11=$AZ$2,AW11=$AZ$3,AW11=$AZ$4,AW11=$AZ$5,AW11=$AZ$6,AW11=$AZ$7,AW11=$BA$2),MROUND(AX10*1.03,100),AX10))),\"\")","v":33800},14196,{"$f":"IF(AW11=\"\",\"\",IF(AW11=\"TOTAL\",\"\",IF(AW11>=$AY$7,ROUND(AX11*$AX$7%,0),ROUND(AX11*$AT$7%,0))))","v":3042},null,{"$f":"IFERROR(IF(AW11=\"\",\"\",IF(AW11=\"TOTAL\",\"\",IF($AR$16=$AR$17,$AR$10,IF(OR(AW11=$AZ$2,AW11=$AZ$3,AW11=$AZ$4,AW11=$AZ$5,AW11=$AZ$6,AW11=$AZ$7,AW11=$BA$2),MROUND(BB10*1.03,100),BB10)))),\"\")","v":32800},{"$f":"IF(AW11=\"\",\"\",IF(AW11=\"TOTAL\",\"\",IF(BB11=\"\",\"\",IF($AR$16=$AR$17,0,ROUND(BB11*AO11%,0)))))","v":13776},{"$f":"IF(AW11=\"\",\"\",IF(AW11=\"TOTAL\",\"\",IF(BB11=\"\",\"\",IF($AR$16=$AR$17,0,IF(AW11>=$AY$7,ROUND(BB11*$AX$7%,0),ROUND(BB11*$AT$7%,0))))))","v":2952},{"$f":"IF(AW11=\"\",\"\",IF(AW11=\"TOTAL\",\"\",IF(BB11=\"\",\"\",IF($AR$16=$AR$17,0,IF(OR(C10=$AP$16,C10=$AP$17,C10=$AP$18,C10=$AP$19,C10=$AP$20,C10=$AP$21,C10=$AP$22,C10=$AP$23,C10=$AP$24),SUM(BH11+BI11),BI11)))))","v":3675},{"$f":"IF(OR(AW11=$AZ$2,AW11=$AZ$3,AW11=$AZ$4,AW11=$AZ$5,AW11=$AZ$6),MROUND(BF10*1.03,100),BF10)","v":30500},{"$f":"IF(OR(AW11=$AZ$2,AW11=$AZ$3,AW11=$AZ$4,AW11=$AZ$5,AW11=$AZ$6),MROUND(BG10*1.03,100),BG10)","v":32800},{"$f":"IF(AW11=\"\",\"\",IF(AW11=\"TOTAL\",\"\",IF(BB11=\"\",\"\",SUM(O10)-SUM((BI11-$AR$21)+SUM(U10,X10,AC10)))))","v":1510},{"$f":"IF(AW10=\"\",\"\",IF(AW10=\"TOTAL\",\"\",IF(AND($AR$20=$AR$36,C11=$AR$37),$AR$38,BI10)))","v":3675},"","",0,{"$f":"IF(AND($AR$16=$AR$17,BJ11=\"YES\"),ROUND(D10*3%,0),IF(AND($AR$16=$AR$15,BJ11=\"YES\",$AP$7=\"NO\"),ROUND((L10+H10)*3%,0),IF(AND($AR$16=$AR$15,BJ11=\"YES\",$AP$7=\"YES\"),ROUND((L10+M10)*3%,0),0)))","v":0},{"$nulls":4},2100,null,440,{"$f":"IF(AW12=\"\",\"\",IF(AW12=\"TOTAL\",\"\",IF($AR$16=$AR$17,0,IF(AND(AW12>$BT$1,$AF$3=$AO$2,'Master Sheet'!$D$31>0),'Master Sheet'!$D$31,IF(AND(AW12=$BT$1,$AF$3=$AO$2),IF($AR$9<18001,135,IF($AR$9<33501,220,IF($AR$9<54001,330,440))),IF(AND(AW12>$BT$1,$AF$3=$AO$2),IF($AR$9<18001,265,IF($AR$9<33501,440,IF($AR$9<54001,658,875))),\"\"))))))","v":658}]
[5,5,"2023-05-01",{"$f":"IFERROR(IF($C11=\"TOTAL\",\"अक्षरें राशि :-\",IF($C12=\"TOTAL\",SUM($D$8:D11),IF(AX13=\"\",\"\",AX13))),\"\")","v":33800},{"$f":"IFERROR(IF($C12=\"TOTAL\",SUM($E$8:E11),IF(AY13=\"\",\"\",AY13)),\"\")","v":14196},{"$f":"IFERROR(IF($C12=\"TOTAL\",SUM($F$8:F11),IF(OR(C12=$AP$16,C12=$AP$17,C12=$AP$18,C12=$AP$19,C12=$AP$20,C12=$AP$21,C12=$AP$22,C12=$AP$23,C12=$AP$24),0,IF(AZ13=\"\",\"\",AZ13))),\"\")","v":3042},51038,{"$f":"IFERROR(IF($C12=\"TOTAL\",SUM($H$8:H11),IF(BB13=\"\",\"\",BB13)),\"\")","v":32800},{"$f":"IFERROR(IF($C12=\"TOTAL\",SUM($I$8:I11),IF(BC13=\"\",\"\",BC13)),\"\")","v":13776},{"$f":"IFERROR(IF($C12=\"TOTAL\",SUM($J$8:J11),IF(OR(C12=$AP$16,C12=$AP$17,C12=$AP$18,C12=$AP$19,C12=$AP$20,C12=$AP$21,C12=$AP$22,C12=$AP$23,C12=$AP$24),0,IF(BD13=\"\",\"\",BD13))),\"\")","v":2952},49528,{"$f":"IFERROR(IF(C12=\"\",\"\",IF(D12=\"\",\"\",IF(H12=\"\",\"\",IF($C12=\"TOTAL\",SUM($L$8:L11),SUM(D12-H12))))),\"\")","v":1000},{"$f":"IFERROR(IF(C12=\"\",\"\",IF(E12=\"\",\"\",IF(I12=\"\",\"\",IF($C12=\"TOTAL\",SUM($M$8:M11),SUM(E12-I12))))),\"\")","v":420},{"$f":"IFERROR(IF(C12=\"\",\"\",IF(F12=\"\",\"\",IF(J12=\"\",\"\",IF($C12=\"TOTAL\",SUM($N$8:N11),SUM(F12-J12))))),\"\")","v":90},1510,{"$f":"IFERROR(IF(C12=\"\",\"\",IF($C12=\"TOTAL\",SUM($P$8:P11),IF(AND(C12>$AO$1,$AF$3=$AO$2),BR13,IF($AR$18=$AR$20,SUM(BE13+BM13),ROUND((D12+E12)*10%,0))))),\"\")","v":2100},{"$f":"IFERROR(IF(C12=\"\",\"\",IF(H12=\"\",\"\",IF(I12=\"\",\"\",IF($C12=\"TOTAL\",SUM($Q$8:Q11),IF(AND(C12>$AO$1,$AF$3=$AO$2),BR13,IF($AR$18=$AR$20,$AR$21,ROUND((H12+I12)*10%,0))))))),\"\")","v":2100},0,{"$f":"IFERROR(IF(C12=\"\",\"\",IF($AR$16=$AR$17,0,IF($C12=\"TOTAL\",SUM($S$8:S11),IF($AR$19=$AR$31,0,IF(AND($AR$32=$AR$20,C12=$AR$33),$AR$34,S11))))),\"\")","v":0},{"$f":"IFERROR(IF(C12=\"\",\"\",IF($AR$16=$AR$17,0,IF($C12=\"TOTAL\",SUM($T$8:T11),IF($AR$19=$AR$20,$AR$24,0)))),\"\")","v":0},0,{"$f":"IF(C12=\"\",\"\",IF($C12=\"TOTAL\",SUM($V$8:V11),IF(AND($AR$2=$AR$20,C12=$AR$1),ROUND(D12/31*$AS$2,0),IF(C12=$AP$6,ROUND((G12)*1/30,0),IF(C12=$AQ$6,ROUND((G12)*1/31,0),\"\")))))","v":""},{"$f":"IF(C12=\"\",\"\",IF($C12=\"TOTAL\",SUM($W$8:W11),IF(AND($AR$2=$AR$20,C12=$AR$1),ROUND(H12/31*$AS$2,0),IF(C12=$AP$6,ROUND((K12)*1/30,0),IF(C12=$AQ$6,ROUND((K12)*1/31,0),\"\")))))","v":""},"",{"$f":"IFERROR(IF(C12=\"\",\"\",IF($AR$16=$AR$17,0,IF($AF$3=$AO$4,\"\",IF($C12=\"TOTAL\",SUM($Y$8:Y11),BU12)))),\"\")","v":658},{"$f":"IFERROR(IF(C12=\"\",\"\",IF($AR$16=$AR$17,0,IF($AF$3=$AO$4,\"\",IF($C12=\"TOTAL\",SUM($Z$8:Z11),BT12)))),\"\")","v":440},218,{"$f":"IFERROR(IF(C12=\"\",\"\",IF(AND(BK13=\"\",BR13=\"\"),\"\",IF($C12=\"TOTAL\",SUM($AB$8:AB11),BK13))),\"\")","v":""},{"$f":"IFERROR(IF(C12=\"\",\"\",IF($C12=\"TOTAL\",SUM($AC$8:AC11),ROUND(O12*$AR$7%,0))),\"\")","v":0},{"$f":"IFERROR(IF(C12=\"\",\"\",IF($C12=\"TOTAL\",SUM($AD$8:AD11),IF($AF$3=$AO$2,SUM(U12,X12,AB12,AC12),SUM(R12,U12,X12,AB12,AC12)))),\"\")","v":0},{"$f":"IFERROR(IF(C12=\"\",\"\",IF($C12=\"TOTAL\",SUM($AE$8:AE11),SUM(O12-AD12))),\"\")","v":1510},{"$nulls":8},42,42,{"$f":"ROUND((AR12)*10%,0)","v":2010},"2017-04-01",{"$f":"IFERROR(IF($AR$13=$AR$15,ROUND((AR14/AX3)*AT6,0),ROUND((AR10/AX3)*AT6,0)),\"\")","v":20103},"2023-04-01","","2023-04-01","2023-04-01",{"$f":"IFERROR(IF(AV12=\"\",\"\",IF(DATE(YEAR(AV12),MONTH(AV12),DAY(AV12))=DATE(YEAR($AS$6),MONTH($AS$6)+1,DAY($AS$6)),\"TOTAL\",IF(AV12>$AS$6,\"\",AV12))),\"\")","v":"2023-04-01"},{"$f":"IFERROR(IF(AW12=\"\",\"\",IF(AND($AR$20=$AR$28,$AR$30=AW12),$AR$29,IF(OR(AW12=$AZ$2,AW12=$AZ$3,AW12=$AZ$4,AW12=$AZ$5,AW12=$AZ$6,AW12=$AZ$7,AW12=$BA$2),MROUND(AX11*1.03,100),AX11))),\"\")","v":33800},{"$f":"IF(AW12=\"\",\"\",IF(AW12=\"TOTAL\",\"\",ROUND(AX12*AN12%,0)))","v":14196},{"$f":"IF(AW12=\"\",\"\",IF(AW12=\"TOTAL\",\"\",IF(AW12>=$AY$7,ROUND(AX12*$AX$7%,0),ROUND(AX12*$AT$7%,0))))","v":3042},null,{"$f":"IFERROR(IF(AW12=\"\",\"\",IF(AW12=\"TOTAL\",\"\",IF($AR$16=$AR$17,$AR$10,IF(OR(AW12=$AZ$2,AW12=$AZ$3,AW12=$AZ$4,AW12=$AZ$5,AW12=$AZ$6,AW12=$AZ$7,AW12=$BA$2),MROUND(BB11*1.03,100),BB11)))),\"\")","v":32800},13776,{"$f":"IF(AW12=\"\",\"\",IF(AW12=\"TOTAL\",\"\",IF(BB12=\"\",\"\",IF($AR$16=$AR$17,0,IF(AW12>=$AY$7,ROUND(BB12*$AX$7%,0),ROUND(BB12*$AT$7%,0))))))","v":2952},3675,null,null,{"$f":"IF(AW12=\"\",\"\",IF(AW12=\"TOTAL\",\"\",IF(BB12=\"\",\"\",SUM(O11)-SUM((BI12-$AR$21)+SUM(U11,X11,AC11)))))","v":1510},{"$f":"IF(AW11=\"\",\"\",IF(AW11=\"TOTAL\",\"\",IF(AND($AR$20=$AR$36,C12=$AR$37),$AR$38,BI11)))","v":3675},"","",0,0,{"$nulls":4},2100,null,440,{"$f":"IF(AW13=\"\",\"\",IF(AW13=\"TOTAL\",\"\",IF($AR$16=$AR$17,0,IF(AND(AW13>$BT$1,$AF$3=$AO$2,'Master Sheet'!$D$31>0),'Master Sheet'!$D$31,IF(AND(AW13=$BT$1,$AF$3=$AO$2),IF($AR$9<18001,135,IF($AR$9<33501,220,IF($AR$9<54001,330,440))),IF(AND(AW13>$BT$1,$AF$3=$AO$2),IF($AR$9<18001,265,IF($AR$9<33501,440,IF($AR$9<54001,658,875))),\"\"))))))","v":658}]
[6,6,"2023-06-01",{"$f":"IFERROR(IF($C12=\"TOTAL\",\"अक्षरें राशि :-\",IF($C13=\"TOTAL\",SUM($D$8:D12),IF(AX14=\"\",\"\",AX14))),\"\")","v":33800},{"$f":"IFERROR(IF($C13=\"TOTAL\",SUM($E$8:E12),IF(AY14=\"\",\"\",AY14)),\"\")","v":14196},{"$f":"IFERROR(IF($C13=\"TOTAL\",SUM($F$8:F12),IF(OR(C13=$AP$16,C13=$AP$17,C13=$AP$18,C13=$AP$19,C13=$AP$20,C13=$AP$21,C13=$AP$22,C13=$AP$23,C13=$AP$24),0,IF(AZ14=\"\",\"\",AZ14))),\"\")","v":3042},51038,{"$f":"IFERROR(IF($C13=\"TOTAL\",SUM($H$8:H12),IF(BB14=\"\",\"\",BB14)),\"\")","v":32800},{"$f":"IFERROR(IF($C13=\"TOTAL\",SUM($I$8:I12),IF(BC14=\"\",\"\",BC14)),\"\")","v":13776},{"$f":"IFERROR(IF($C13=\"TOTAL\",SUM($J$8:J12),IF(OR(C13=$AP$16,C13=$AP$17,C13=$AP$18,C13=$AP$19,C13=$AP$20,C13=$AP$21,C13=$AP$22,C13=$AP$23,C13=$AP$24),0,IF(BD14=\"\",\"\",BD14))),\"\")","v":2952},49528,{"$f":"IFERROR(IF(C13=\"\",\"\",IF(D13=\"\",\"\",IF(H13=\"\",\"\",IF($C13=\"TOTAL\",SUM($L$8:L12),SUM(D13-H13))))),\"\")","v":1000},{"$f":"IFERROR(IF(C13=\"\",\"\",IF(E13=\"\",\"\",IF(I13=\"\",\"\",IF($C13=\"TOTAL\",SUM($M$8:M12),SUM(E13-I13))))),\"\")","v":420},{"$f":"IFERROR(IF(C13=\"\",\"\",IF(F13=\"\",\"\",IF(J13=\"\",\"\",IF($C13=\"TOTAL\",SUM($N$8:N12),SUM(F13-J13))))),\"\")","v":90},1510,{"$f":"IFERROR(IF(C13=\"\",\"\",IF($C13=\"TOTAL\",SUM($P$8:P12),IF(AND(C13>$AO$1,$AF$3=$AO$2),BR14,IF($AR$18=$AR$20,SUM(BE14+BM14),ROUND((D13+E13)*10%,0))))),\"\")","v":2100},{"$f":"IFERROR(IF(C13=\"\",\"\",IF(H13=\"\",\"\",IF(I13=\"\",\"\",IF($C13=\"TOTAL\",SUM($Q$8:Q12),IF(AND(C13>$AO$1,$AF$3=$AO$2),BR14,IF($AR$18=$AR$20,$AR$21,ROUND((H13+I13)*10%,0))))))),\"\")","v":2100},0,{"$f":"IFERROR(IF(C13=\"\",\"\",IF($AR$16=$AR$17,0,IF($C13=\"TOTAL\",SUM($S$8:S12),IF($AR$19=$AR$31,0,IF(AND($AR$32=$AR$20,C13=$AR$33),$AR$34,S12))))),\"\")","v":0},{"$f":"IFERROR(IF(C13=\"\",\"\",IF($AR$16=$AR$17,0,IF($C13=\"TOTAL\",SUM($T$8:T12),IF($AR$19=$AR$20,$AR$24,0)))),\"\")","v":0},0,{"$f":"IF(C13=\"\",\"\",IF($C13=\"TOTAL\",SUM($V$8:V12),IF(AND($AR$2=$AR$20,C13=$AR$1),ROUND(D13/31*$AS$2,0),IF(C13=$AP$6,ROUND((G13)*1/30,0),IF(C13=$AQ$6,ROUND((G13)*1/31,0),\"\")))))","v":""},{"$f":"IF(C13=\"\",\"\",IF($C13=\"TOTAL\",SUM($W$8:W12),IF(AND($AR$2=$AR$20,C13=$AR$1),ROUND(H13/31*$AS$2,0),IF(C13=$AP$6,ROUND((K13)*1/30,0),IF(C13=$AQ$6,ROUND((K13)*1/31,0),\"\")))))","v":""},"",{"$f":"IFERROR(IF(C13=\"\",\"\",IF($AR$16=$AR$17,0,IF($AF$3=$AO$4,\"\",IF($C13=\"TOTAL\",SUM($Y$8:Y12),BU13)))),\"\")","v":658},{"$f":"IFERROR(IF(C13=\"\",\"\",IF($AR$16=$AR$17,0,IF($AF$3=$AO$4,\"\",IF($C13=\"TOTAL\",SUM($Z$8:Z12),BT13)))),\"\")","v":440},218,{"$f":"IFERROR(IF(C13=\"\",\"\",IF(AND(BK14=\"\",BR14=\"\"),\"\",IF($C13=\"TOTAL\",SUM($AB$8:AB12),BK14))),\"\")","v":""},{"$f":"IFERROR(IF(C13=\"\",\"\",IF($C13=\"TOTAL\",SUM($AC$8:AC12),ROUND(O13*$AR$7%,0))),\"\")","v":0},{"$f":"IFERROR(IF(C13=\"\",\"\",IF($C13=\"TOTAL\",SUM($AD$8:AD12),IF($AF$3=$AO$2,SUM(U13,X13,AB13,AC13),SUM(R13,U13,X13,AB13,AC13)))),\"\")","v":0},{"$f":"IFERROR(IF(C13=\"\",\"\",IF($C13=\"TOTAL\",SUM($AE$8:AE12),SUM(O13-AD13))),\"\")","v":1510},{"$nulls":8},42,42,null,"2017-05-01",{"$f":"'Master Sheet'!D11","v":"Regular Pay"},"2023-05-01","","2023-05-01","2023-05-01","2023-05-01",33800,{"$f":"IF(AW13=\"\",\"\",IF(AW13=\"TOTAL\",\"\",ROUND(AX13*AN13%,0)))","v":14196},3042,null,32800,13776,2952,3675,null,null,{"$f":"IF(AW13=\"\",\"\",IF(AW13=\"TOTAL\",\"\",IF(BB13=\"\",\"\",SUM(O12)-SUM((BI13-$AR$21)+SUM(U12,X12,AC12)))))","v":1510},{"$f":"IF(AW12=\"\",\"\",IF(AW12=\"TOTAL\",\"\",IF(AND($AR$20=$AR$36,C13=$AR$37),$AR$38,BI12)))","v":3675},"","",{"$f":"IFERROR(IF(AND($AR$16=$AR$17,BJ13=\"YES\"),ROUND(ROUND(D12*3%,0)*10%,0),IF(AND($AR$16=$AR$15,BJ13=\"YES\",$AP$7=\"NO\"),ROUND(ROUND((L12+H12)*3%,0)*10%,0),IF(AND($AR$16=$AR$15,BJ13=\"YES\",$AP$7=\"YES\"),ROUND(ROUND((L12+M12)*3%,0)*10%,0),0))),\"\")","v":0},{"$f":"IF(AND($AR$16=$AR$17,BJ13=\"YES\"),ROUND(D12*3%,0),IF(AND($AR$16=$AR$15,BJ13=\"YES\",$AP$7=\"NO\"),ROUND((L12+H12)*3%,0),IF(AND($AR$16=$AR$15,BJ13=\"YES\",$AP$7=\"YES\"),ROUND((L12+M12)*3%,0),0)))","v":0},{"$nulls":4},2100,null,440,{"$f":"IF(AW14=\"\",\"\",IF(AW14=\"TOTAL\",\"\",IF($AR$16=$AR$17,0,IF(AND(AW14>$BT$1,$AF$3=$AO$2,'Master Sheet'!$D$31>0),'Master Sheet'!$D$31,IF(AND(AW14=$BT$1,$AF$3=$AO$2),IF($AR$9<18001,135,IF($AR$9<33501,220,IF($AR$9<54001,330,440))),IF(AND(AW14>$BT$1,$AF$3=$AO$2),IF($AR$9<18001,265,IF($AR$9<33501,440,IF($AR$9<54001,658,875))),\"\"))))))","v":658}]
[7,7,"2023-07-01",{"$f":"IFERROR(IF($C13=\"TOTAL\",\"अक्षरें राशि :-\",IF($C14=\"TOTAL\",SUM($D$8:D13),IF(AX15=\"\",\"\",AX15))),\"\")","v":34800},{"$f":"IFERROR(IF($C14=\"TOTAL\",SUM($E$8:E13),IF(AY15=\"\",\"\",AY15)),\"\")","v":14616},{"$f":"IFERROR(IF($C14=\"TOTAL\",SUM($F$8:F13),IF(OR(C14=$AP$16,C14=$AP$17,C14=$AP$18,C14=$AP$19,C14=$AP$20,C14=$AP$21,C14=$AP$22,C14=$AP$23,C14=$AP$24),0,IF(AZ15=\"\",\"\",AZ15))),\"\")","v":3132},52548,{"$f":"IFERROR(IF($C14=\"TOTAL\",SUM($H$8:H13),IF(BB15=\"\",\"\",BB15)),\"\")","v":33800},{"$f":"IFERROR(IF($C14=\"TOTAL\",SUM($I$8:I13),IF(BC15=\"\",\"\",BC15)),\"\")","v":14196},{"$f":"IFERROR(IF($C14=\"TOTAL\",SUM($J$8:J13),IF(OR(C14=$AP$16,C14=$AP$17,C14=$AP$18,C14=$AP$19,C14=$AP$20,C14=$AP$21,C14=$AP$22,C14=$AP$23,C14=$AP$24),0,IF(BD15=\"\",\"\",BD15))),\"\")","v":3042},51038,{"$f":"IFERROR(IF(C14=\"\",\"\",IF(D14=\"\",\"\",IF(H14=\"\",\"\",IF($C14=\"TOTAL\",SUM($L$8:L13),SUM(D14-H14))))),\"\")","v":1000},{"$f":"IFERROR(IF(C14=\"\",\"\",IF(E14=\"\",\"\",IF(I14=\"\",\"\",IF($C14=\"TOTAL\",SUM($M$8:M13),SUM(E14-I14))))),\"\")","v":420},{"$f":"IFERROR(IF(C14=\"\",\"\",IF(F14=\"\",\"\",IF(J14=\"\",\"\",IF($C14=\"TOTAL\",SUM($N$8:N13),SUM(F14-J14))))),\"\")","v":90},1510,{"$f":"IFERROR(IF(C14=\"\",\"\",IF($C14=\"TOTAL\",SUM($P$8:P13),IF(AND(C14>$AO$1,$AF$3=$AO$2),BR15,IF($AR$18=$AR$20,SUM(BE15+BM15),ROUND((D14+E14)*10%,0))))),\"\")","v":2100},{"$f":"IFERROR(IF(C14=\"\",\"\",IF(H14=\"\",\"\",IF(I14=\"\",\"\",IF($C14=\"TOTAL\",SUM($Q$8:Q13),IF(AND(C14>$AO$1,$AF$3=$AO$2),BR15,IF($AR$18=$AR$20,$AR$21,ROUND((H14+I14)*10%,0))))))),\"\")","v":2100},0,{"$f":"IFERROR(IF(C14=\"\",\"\",IF($AR$16=$AR$17,0,IF($C14=\"TOTAL\",SUM($S$8:S13),IF($AR$19=$AR$31,0,IF(AND($AR$32=$AR$20,C14=$AR$33),$AR$34,S13))))),\"\")","v":0},{"$f":"IFERROR(IF(C14=\"\",\"\",IF($AR$16=$AR$17,0,IF($C14=\"TOTAL\",SUM($T$8:T13),IF($AR$19=$AR$20,$AR$24,0)))),\"\")","v":0},0,{"$f":"IF(C14=\"\",\"\",IF($C14=\"TOTAL\",SUM($V$8:V13),IF(AND($AR$2=$AR$20,C14=$AR$1),ROUND(D14/31*$AS$2,0),IF(C14=$AP$6,ROUND((G14)*1/30,0),IF(C14=$AQ$6,ROUND((G14)*1/31,0),\"\")))))","v":""},{"$f":"IF(C14=\"\",\"\",IF($C14=\"TOTAL\",SUM($W$8:W13),IF(AND($AR$2=$AR$20,C14=$AR$1),ROUND(H14/31*$AS$2,0),IF(C14=$AP$6,ROUND((K14)*1/30,0),IF(C14=$AQ$6,ROUND((K14)*1/31,0),\"\")))))","v":""},"",{"$f":"IFERROR(IF(C14=\"\",\"\",IF($AR$16=$AR$17,0,IF($AF$3=$AO$4,\"\",IF($C14=\"TOTAL\",SUM($Y$8:Y13),BU14)))),\"\")","v":658},{"$f":"IFERROR(IF(C14=\"\",\"\",IF($AR$16=$AR$17,0,IF($AF$3=$AO$4,\"\",IF($C14=\"TOTAL\",SUM($Z$8:Z13),BT14)))),\"\")","v":440},218,{"$f":"IFERROR(IF(C14=\"\",\"\",IF(AND(BK15=\"\",BR15=\"\"),\"\",IF($C14=\"TOTAL\",SUM($AB$8:AB13),BK15))),\"\")","v":""},{"$f":"IFERROR(IF(C14=\"\",\"\",IF($C14=\"TOTAL\",SUM($AC$8:AC13),ROUND(O14*$AR$7%,0))),\"\")","v":0},{"$f":"IFERROR(IF(C14=\"\",\"\",IF($C14=\"TOTAL\",SUM($AD$8:AD13),IF($AF$3=$AO$2,SUM(U14,X14,AB14,AC14),SUM(R14,U14,X14,AB14,AC14)))),\"\")","v":0},{"$f":"IFERROR(IF(C14=\"\",\"\",IF($C14=\"TOTAL\",SUM($AE$8:AE13),SUM(O14-AD14))),\"\")","v":1510},{"$nulls":8},42,42,null,"2017-06-01",{"$f":"'Master Sheet'!M11","v":32800},"2023-06-01","","2023-06-01","2023-06-01","2023-06-01",33800,{"$f":"IF(AW14=\"\",\"\",IF(AW14=\"TOTAL\",\"\",ROUND(AX14*AN14%,0)))","v":14196},3042,null,32800,13776,2952,3675,null,null,1510,3675,"","",0,0,{"$nulls":4},2100,null,440,{"$f":"IF(AW15=\"\",\"\",IF(AW15=\"TOTAL\",\"\",IF($AR$16=$AR$17,0,IF(AND(AW15>$BT$1,$AF$3=$AO$2,'Master Sheet'!$D$31>0),'Master Sheet'!$D$31,IF(AND(AW15=$BT$1,$AF$3=$AO$2),IF($AR$9<18001,135,IF($AR$9<33501,220,IF($AR$9<54001,330,440))),IF(AND(AW15>$BT$1,$AF$3=$AO$2),IF($AR$9<18001,265,IF($AR$9<33501,440,IF($AR$9<54001,658,875))),\"\"))))))","v":658}]
[8,8,"2023-08-01",{"$f":"IFERROR(IF($C14=\"TOTAL\",\"अक्षरें राशि :-\",IF($C15=\"TOTAL\",SUM($D$8:D14),IF(AX16=\"\",\"\",AX16))),\"\")","v":34800},{"$f":"IFERROR(IF($C15=\"TOTAL\",SUM($E$8:E14),IF(AY16=\"\",\"\",AY16)),\"\")","v":14616},{"$f":"IFERROR(IF($C15=\"TOTAL\",SUM($F$8:F14),IF(OR(C15=$AP$16,C15=$AP$17,C15=$AP$18,C15=$AP$19,C15=$AP$20,C15=$AP$21,C15=$AP$22,C15=$AP$23,C15=$AP$24),0,IF(AZ16=\"\",\"\",AZ16))),\"\")","v":3132},52548,{"$f":"IFERROR(IF($C15=\"TOTAL\",SUM($H$8:H14),IF(BB16=\"\",\"\",BB16)),\"\")","v":33800},{"$f":"IFERROR(IF($C15=\"TOTAL\",SUM($I$8:I14),IF(BC16=\"\",\"\",BC16)),\"\")","v":14196},{"$f":"IFERROR(IF($C15=\"TOTAL\",SUM($J$8:J14),IF(OR(C15=$AP$16,C15=$AP$17,C15=$AP$18,C15=$AP$19,C15=$AP$20,C15=$AP$21,C15=$AP$22,C15=$AP$23,C15=$AP$24),0,IF(BD16=\"\",\"\",BD16))),\"\")","v":3042},51038,{"$f":"IFERROR(IF(C15=\"\",\"\",IF(D15=\"\",\"\",IF(H15=\"\",\"\",IF($C15=\"TOTAL\",SUM($L$8:L14),SUM(D15-H15))))),\"\")","v":1000},{"$f":"IFERROR(IF(C15=\"\",\"\",IF(E15=\"\",\"\",IF(I15=\"\",\"\",IF($C15=\"TOTAL\",SUM($M$8:M14),SUM(E15-I15))))),\"\")","v":420},{"$f":"IFERROR(IF(C15=\"\",\"\",IF(F15=\"\",\"\",IF(J15=\"\",\"\",IF($C15=\"TOTAL\",SUM($N$8:N14),SUM(F15-J15))))),\"\")","v":90},1510,{"$f":"IFERROR(IF(C15=\"\",\"\",IF($C15=\"TOTAL\",SUM($P$8:P14),IF(AND(C15>$AO$1,$AF$3=$AO$2),BR16,IF($AR$18=$AR$20,SUM(BE16+BM16),ROUND((D15+E15)*10%,0))))),\"\")","v":2100},{"$f":"IFERROR(IF(C15=\"\",\"\",IF(H15=\"\",\"\",IF(I15=\"\",\"\",IF($C15=\"TOTAL\",SUM($Q$8:Q14),IF(AND(C15>$AO$1,$AF$3=$AO$2),BR16,IF($AR$18=$AR$20,$AR$21,ROUND((H15+I15)*10%,0))))))),\"\")","v":2100},0,{"$f":"IFERROR(IF(C15=\"\",\"\",IF($AR$16=$AR$17,0,IF($C15=\"TOTAL\",SUM($S$8:S14),IF($AR$19=$AR$31,0,IF(AND($AR$32=$AR$20,C15=$AR$33),$AR$34,S14))))),\"\")","v":0},{"$f":"IFERROR(IF(C15=\"\",\"\",IF($AR$16=$AR$17,0,IF($C15=\"TOTAL\",SUM($T$8:T14),IF($AR$19=$AR$20,$AR$24,0)))),\"\")","v":0},0,{"$f":"IF(C15=\"\",\"\",IF($C15=\"TOTAL\",SUM($V$8:V14),IF(AND($AR$2=$AR$20,C15=$AR$1),ROUND(D15/31*$AS$2,0),IF(C15=$AP$6,ROUND((G15)*1/30,0),IF(C15=$AQ$6,ROUND((G15)*1/31,0),\"\")))))","v":""},{"$f":"IF(C15=\"\",\"\",IF($C15=\"TOTAL\",SUM($W$8:W14),IF(AND($AR$2=$AR$20,C15=$AR$1),ROUND(H15/31*$AS$2,0),IF(C15=$AP$6,ROUND((K15)*1/30,0),IF(C15=$AQ$6,ROUND((K15)*1/31,0),\"\")))))","v":""},"",{"$f":"IFERROR(IF(C15=\"\",\"\",IF($AR$16=$AR$17,0,IF($AF$3=$AO$4,\"\",IF($C15=\"TOTAL\",SUM($Y$8:Y14),BU15)))),\"\")","v":658},{"$f":"IFERROR(IF(C15=\"\",\"\",IF($AR$16=$AR$17,0,IF($AF$3=$AO$4,\"\",IF($C15=\"TOTAL\",SUM($Z$8:Z14),BT15)))),\"\")","v":440},218,{"$f":"IFERROR(IF(C15=\"\",\"\",IF(AND(BK16=\"\",BR16=\"\"),\"\",IF($C15=\"TOTAL\",SUM($AB$8:AB14),BK16))),\"\")","v":""},{"$f":"IFERROR(IF(C15=\"\",\"\",IF($C15=\"TOTAL\",SUM($AC$8:AC14),ROUND(O15*$AR$7%,0))),\"\")","v":0},{"$f":"IFERROR(IF(C15=\"\",\"\",IF($C15=\"TOTAL\",SUM($AD$8:AD14),IF($AF$3=$AO$2,SUM(U15,X15,AB15,AC15),SUM(R15,U15,X15,AB15,AC15)))),\"\")","v":0},{"$f":"IFERROR(IF(C15=\"\",\"\",IF($C15=\"TOTAL\",SUM($AE$8:AE14),SUM(O15-AD15))),\"\")","v":1510},{"$nulls":8},42,42,null,"2017-07-01","Regular Pay","2023-07-01","","2023-07-01","2023-07-01","2023-07-01",34800,14616,3132,null,33800,14196,3042,3675,null,null,1510,3675,"","",0,0,{"$nulls":4},2100,null,440,{"$f":"IF(AW16=\"\",\"\",IF(AW16=\"TOTAL\",\"\",IF($AR$16=$AR$17,0,IF(AND(AW16>$BT$1,$AF$3=$AO$2,'Master Sheet'!$D$31>0),'Master Sheet'!$D$31,IF(AND(AW16=$BT$1,$AF$3=$AO$2),IF($AR$9<18001,135,IF($AR$9<33501,220,IF($AR$9<54001,330,440))),IF(AND(AW16>$BT$1,$AF$3=$AO$2),IF($AR$9<18001,265,IF($AR$9<33501,440,IF($AR$9<54001,658,875))),\"\"))))))","v":658}]
[9,9,"2023-09-01",{"$f":"IFERROR(IF($C15=\"TOTAL\",\"अक्षरें राशि :-\",IF($C16=\"TOTAL\",SUM($D$8:D15),IF(AX17=\"\",\"\",AX17))),\"\")","v":34800},{"$f":"IFERROR(IF($C16=\"TOTAL\",SUM($E$8:E15),IF(AY17=\"\",\"\",AY17)),\"\")","v":14616},{"$f":"IFERROR(IF($C16=\"TOTAL\",SUM($F$8:F15),IF(OR(C16=$AP$16,C16=$AP$17,C16=$AP$18,C16=$AP$19,C16=$AP$20,C16=$AP$21,C16=$AP$22,C16=$AP$23,C16=$AP$24),0,IF(AZ17=\"\",\"\",AZ17))),\"\")","v":3132},52548,{"$f":"IFERROR(IF($C16=\"TOTAL\",SUM($H$8:H15),IF(BB17=\"\",\"\",BB17)),\"\")","v":33800},{"$f":"IFERROR(IF($C16=\"TOTAL\",SUM($I$8:I15),IF(BC17=\"\",\"\",BC17)),\"\")","v":14196},{"$f":"IFERROR(IF($C16=\"TOTAL\",SUM($J$8:J15),IF(OR(C16=$AP$16,C16=$AP$17,C16=$AP$18,C16=$AP$19,C16=$AP$20,C16=$AP$21,C16=$AP$22,C16=$AP$23,C16=$AP$24),0,IF(BD17=\"\",\"\",BD17))),\"\")","v":3042},51038,{"$f":"IFERROR(IF(C16=\"\",\"\",IF(D16=\"\",\"\",IF(H16=\"\",\"\",IF($C16=\"TOTAL\",SUM($L$8:L15),SUM(D16-H16))))),\"\")","v":1000},{"$f":"IFERROR(IF(C16=\"\",\"\",IF(E16=\"\",\"\",IF(I16=\"\",\"\",IF($C16=\"TOTAL\",SUM($M$8:M15),SUM(E16-I16))))),\"\")","v":420},{"$f":"IFERROR(IF(C16=\"\",\"\",IF(F16=\"\",\"\",IF(J16=\"\",\"\",IF($C16=\"TOTAL\",SUM($N$8:N15),SUM(F16-J16))))),\"\")","v":90},1510,{"$f":"IFERROR(IF(C16=\"\",\"\",IF($C16=\"TOTAL\",SUM($P$8:P15),IF(AND(C16>$AO$1,$AF$3=$AO$2),BR17,IF($AR$18=$AR$20,SUM(BE17+BM17),ROUND((D16+E16)*10%,0))))),\"\")","v":2100},{"$f":"IFERROR(IF(C16=\"\",\"\",IF(H16=\"\",\"\",IF(I16=\"\",\"\",IF($C16=\"TOTAL\",SUM($Q$8:Q15),IF(AND(C16>$AO$1,$AF$3=$AO$2),BR17,IF($AR$18=$AR$20,$AR$21,ROUND((H16+I16)*10%,0))))))),\"\")","v":2100},0,{"$f":"IFERROR(IF(C16=\"\",\"\",IF($AR$16=$AR$17,0,IF($C16=\"TOTAL\",SUM($S$8:S15),IF($AR$19=$AR$31,0,IF(AND($AR$32=$AR$20,C16=$AR$33),$AR$34,S15))))),\"\")","v":0},{"$f":"IFERROR(IF(C16=\"\",\"\",IF($AR$16=$AR$17,0,IF($C16=\"TOTAL\",SUM($T$8:T15),IF($AR$19=$AR$20,$AR$24,0)))),\"\")","v":0},0,{"$f":"IF(C16=\"\",\"\",IF($C16=\"TOTAL\",SUM($V$8:V15),IF(AND($AR$2=$AR$20,C16=$AR$1),ROUND(D16/31*$AS$2,0),IF(C16=$AP$6,ROUND((G16)*1/30,0),IF(C16=$AQ$6,ROUND((G16)*1/31,0),\"\")))))","v":""},{"$f":"IF(C16=\"\",\"\",IF($C16=\"TOTAL\",SUM($W$8:W15),IF(AND($AR$2=$AR$20,C16=$AR$1),ROUND(H16/31*$AS$2,0),IF(C16=$AP$6,ROUND((K16)*1/30,0),IF(C16=$AQ$6,ROUND((K16)*1/31,0),\"\")))))","v":""},"",{"$f":"IFERROR(IF(C16=\"\",\"\",IF($AR$16=$AR$17,0,IF($AF$3=$AO$4,\"\",IF($C16=\"TOTAL\",SUM($Y$8:Y15),BU16)))),\"\")","v":658},{"$f":"IFERROR(IF(C16=\"\",\"\",IF($AR$16=$AR$17,0,IF($AF$3=$AO$4,\"\",IF($C16=\"TOTAL\",SUM($Z$8:Z15),BT16)))),\"\")","v":440},218,{"$f":"IFERROR(IF(C16=\"\",\"\",IF(AND(BK17=\"\",BR17=\"\"),\"\",IF($C16=\"TOTAL\",SUM($AB$8:AB15),BK17))),\"\")","v":""},{"$f":"IFERROR(IF(C16=\"\",\"\",IF($C16=\"TOTAL\",SUM($AC$8:AC15),ROUND(O16*$AR$7%,0))),\"\")","v":0},{"$f":"IFERROR(IF(C16=\"\",\"\",IF($C16=\"TOTAL\",SUM($AD$8:AD15),IF($AF$3=$AO$2,SUM(U16,X16,AB16,AC16),SUM(R16,U16,X16,AB16,AC16)))),\"\")","v":0},{"$f":"IFERROR(IF(C16=\"\",\"\",IF($C16=\"TOTAL\",SUM($AE$8:AE15),SUM(O16-AD16))),\"\")","v":1510},{"$nulls":8},42,42,"2017-01-01","2017-08-01",{"$f":"'Master Sheet'!D11","v":"Regular Pay"},"2023-08-01","","2023-08-01","2023-08-01","2023-08-01",34800,14616,3132,null,33800,14196,3042,3675,null,null,1510,3675,"","",0,0,{"$nulls":4},2100,null,440,{"$f":"IF(AW17=\"\",\"\",IF(AW17=\"TOTAL\",\"\",IF($AR$16=$AR$17,0,IF(AND(AW17>$BT$1,$AF$3=$AO$2,'Master Sheet'!$D$31>0),'Master Sheet'!$D$31,IF(AND(AW17=$BT$1,$AF$3=$AO$2),IF($AR$9<18001,135,IF($AR$9<33501,220,IF($AR$9<54001,330,440))),IF(AND(AW17>$BT$1,$AF$3=$AO$2),IF($AR$9<18001,265,IF($AR$9<33501,440,IF($AR$9<54001,658,875))),\"\"))))))","v":658}]
[10,10,"2023-10-01",{"$f":"IFERROR(IF($C16=\"TOTAL\",\"अक्षरें राशि :-\",IF($C17=\"TOTAL\",SUM($D$8:D16),IF(AX18=\"\",\"\",AX18))),\"\")","v":34800},{"$f":"IFERROR(IF($C17=\"TOTAL\",SUM($E$8:E16),IF(AY18=\"\",\"\",AY18)),\"\")","v":14616},{"$f":"IFERROR(IF($C17=\"TOTAL\",SUM($F$8:F16),IF(OR(C17=$AP$16,C17=$AP$17,C17=$AP$18,C17=$AP$19,C17=$AP$20,C17=$AP$21,C17=$AP$22,C17=$AP$23,C17=$AP$24),0,IF(AZ18=\"\",\"\",AZ18))),\"\")","v":3132},52548,{"$f":"IFERROR(IF($C17=\"TOTAL\",SUM($H$8:H16),IF(BB18=\"\",\"\",BB18)),\"\")","v":33800},{"$f":"IFERROR(IF($C17=\"TOTAL\",SUM($I$8:I16),IF(BC18=\"\",\"\",BC18)),\"\")","v":14196},{"$f":"IFERROR(IF($C17=\"TOTAL\",SUM($J$8:J16),IF(OR(C17=$AP$16,C17=$AP$17,C17=$AP$18,C17=$AP$19,C17=$AP$20,C17=$AP$21,C17=$AP$22,C17=$AP$23,C17=$AP$24),0,IF(BD18=\"\",\"\",BD18))),\"\")","v":3042},51038,{"$f":"IFERROR(IF(C17=\"\",\"\",IF(D17=\"\",\"\",IF(H17=\"\",\"\",IF($C17=\"TOTAL\",SUM($L$8:L16),SUM(D17-H17))))),\"\")","v":1000},{"$f":"IFERROR(IF(C17=\"\",\"\",IF(E17=\"\",\"\",IF(I17=\"\",\"\",IF($C17=\"TOTAL\",SUM($M$8:M16),SUM(E17-I17))))),\"\")","v":420},{"$f":"IFERROR(IF(C17=\"\",\"\",IF(F17=\"\",\"\",IF(J17=\"\",\"\",IF($C17=\"TOTAL\",SUM($N$8:N16),SUM(F17-J17))))),\"\")","v":90},1510,{"$f":"IFERROR(IF(C17=\"\",\"\",IF($C17=\"TOTAL\",SUM($P$8:P16),IF(AND(C17>$AO$1,$AF$3=$AO$2),BR18,IF($AR$18=$AR$20,SUM(BE18+BM18),ROUND((D17+E17)*10%,0))))),\"\")","v":2100},{"$f":"IFERROR(IF(C17=\"\",\"\",IF(H17=\"\",\"\",IF(I17=\"\",\"\",IF($C17=\"TOTAL\",SUM($Q$8:Q16),IF(AND(C17>$AO$1,$AF$3=$AO$2),BR18,IF($AR$18=$AR$20,$AR$21,ROUND((H17+I17)*10%,0))))))),\"\")","v":2100},0,{"$f":"IFERROR(IF(C17=\"\",\"\",IF($AR$16=$AR$17,0,IF($C17=\"TOTAL\",SUM($S$8:S16),IF($AR$19=$AR$31,0,IF(AND($AR$32=$AR$20,C17=$AR$33),$AR$34,S16))))),\"\")","v":0},{"$f":"IFERROR(IF(C17=\"\",\"\",IF($AR$16=$AR$17,0,IF($C17=\"TOTAL\",SUM($T$8:T16),IF($AR$19=$AR$20,$AR$24,0)))),\"\")","v":0},0,{"$f":"IF(C17=\"\",\"\",IF($C17=\"TOTAL\",SUM($V$8:V16),IF(AND($AR$2=$AR$20,C17=$AR$1),ROUND(D17/31*$AS$2,0),IF(C17=$AP$6,ROUND((G17)*1/30,0),IF(C17=$AQ$6,ROUND((G17)*1/31,0),\"\")))))","v":""},{"$f":"IF(C17=\"\",\"\",IF($C17=\"TOTAL\",SUM($W$8:W16),IF(AND($AR$2=$AR$20,C17=$AR$1),ROUND(H17/31*$AS$2,0),IF(C17=$AP$6,ROUND((K17)*1/30,0),IF(C17=$AQ$6,ROUND((K17)*1/31,0),\"\")))))","v":""},"",{"$f":"IFERROR(IF(C17=\"\",\"\",IF($AR$16=$AR$17,0,IF($AF$3=$AO$4,\"\",IF($C17=\"TOTAL\",SUM($Y$8:Y16),BU17)))),\"\")","v":658},{"$f":"IFERROR(IF(C17=\"\",\"\",IF($AR$16=$AR$17,0,IF($AF$3=$AO$4,\"\",IF($C17=\"TOTAL\",SUM($Z$8:Z16),BT17)))),\"\")","v":440},218,{"$f":"IFERROR(IF(C17=\"\",\"\",IF(AND(BK18=\"\",BR18=\"\"),\"\",IF($C17=\"TOTAL\",SUM($AB$8:AB16),BK18))),\"\")","v":""},{"$f":"IFERROR(IF(C17=\"\",\"\",IF($C17=\"TOTAL\",SUM($AC$8:AC16),ROUND(O17*$AR$7%,0))),\"\")","v":0},{"$f":"IFERROR(IF(C17=\"\",\"\",IF($C17=\"TOTAL\",SUM($AD$8:AD16),IF($AF$3=$AO$2,SUM(U17,X17,AB17,AC17),SUM(R17,U17,X17,AB17,AC17)))),\"\")","v":0},{"$f":"IFERROR(IF(C17=\"\",\"\",IF($C17=\"TOTAL\",SUM($AE$8:AE16),SUM(O17-AD17))),\"\")","v":1510},{"$nulls":8},42,42,"2017-02-01","2017-09-01","Fix Pay","2023-09-01","","2023-09-01","2023-09-01","2023-09-01",34800,14616,3132,null,33800,14196,3042,3675,null,null,1510,3675,"","",0,0,{"$nulls":4},2100,null,440,{"$f":"IF(AW18=\"\",\"\",IF(AW18=\"TOTAL\",\"\",IF($AR$16=$AR$17,0,IF(AND(AW18>$BT$1,$AF$3=$AO$2,'Master Sheet'!$D$31>0),'Master Sheet'!$D$31,IF(AND(AW18=$BT$1,$AF$3=$AO$2),IF($AR$9<18001,135,IF($AR$9<33501,220,IF($AR$9<54001,330,440))),IF(AND(AW18>$BT$1,$AF$3=$AO$2),IF($AR$9<18001,265,IF($AR$9<33501,440,IF($AR$9<54001,658,875))),\"\"))))))","v":658}]
[11,11,"2023-11-01",{"$f":"IFERROR(IF($C17=\"TOTAL\",\"अक्षरें राशि :-\",IF($C18=\"TOTAL\",SUM($D$8:D17),IF(AX19=\"\",\"\",AX19))),\"\")","v":34800},{"$f":"IFERROR(IF($C18=\"TOTAL\",SUM($E$8:E17),IF(AY19=\"\",\"\",AY19)),\"\")","v":14616},{"$f":"IFERROR(IF($C18=\"TOTAL\",SUM($F$8:F17),IF(OR(C18=$AP$16,C18=$AP$17,C18=$AP$18,C18=$AP$19,C18=$AP$20,C18=$AP$21,C18=$AP$22,C18=$AP$23,C18=$AP$24),0,IF(AZ19=\"\",\"\",AZ19))),\"\")","v":3132},52548,{"$f":"IFERROR(IF($C18=\"TOTAL\",SUM($H$8:H17),IF(BB19=\"\",\"\",BB19)),\"\")","v":33800},{"$f":"IFERROR(IF($C18=\"TOTAL\",SUM($I$8:I17),IF(BC19=\"\",\"\",BC19)),\"\")","v":14196},{"$f":"IFERROR(IF($C18=\"TOTAL\",SUM($J$8:J17),IF(OR(C18=$AP$16,C18=$AP$17,C18=$AP$18,C18=$AP$19,C18=$AP$20,C18=$AP$21,C18=$AP$22,C18=$AP$23,C18=$AP$24),0,IF(BD19=\"\",\"\",BD19))),\"\")","v":3042},51038,{"$f":"IFERROR(IF(C18=\"\",\"\",IF(D18=\"\",\"\",IF(H18=\"\",\"\",IF($C18=\"TOTAL\",SUM($L$8:L17),SUM(D18-H18))))),\"\")","v":1000},{"$f":"IFERROR(IF(C18=\"\",\"\",IF(E18=\"\",\"\",IF(I18=\"\",\"\",IF($C18=\"TOTAL\",SUM($M$8:M17),SUM(E18-I18))))),\"\")","v":420},{"$f":"IFERROR(IF(C18=\"\",\"\",IF(F18=\"\",\"\",IF(J18=\"\",\"\",IF($C18=\"TOTAL\",SUM($N$8:N17),SUM(F18-J18))))),\"\")","v":90},1510,{"$f":"IFERROR(IF(C18=\"\",\"\",IF($C18=\"TOTAL\",SUM($P$8:P17),IF(AND(C18>$AO$1,$AF$3=$AO$2),BR19,IF($AR$18=$AR$20,SUM(BE19+BM19),ROUND((D18+E18)*10%,0))))),\"\")","v":2100},{"$f":"IFERROR(IF(C18=\"\",\"\",IF(H18=\"\",\"\",IF(I18=\"\",\"\",IF($C18=\"TOTAL\",SUM($Q$8:Q17),IF(AND(C18>$AO$1,$AF$3=$AO$2),BR19,IF($AR$18=$AR$20,$AR$21,ROUND((H18+I18)*10%,0))))))),\"\")","v":2100},0,{"$f":"IFERROR(IF(C18=\"\",\"\",IF($AR$16=$AR$17,0,IF($C18=\"TOTAL\",SUM($S$8:S17),IF($AR$19=$AR$31,0,IF(AND($AR$32=$AR$20,C18=$AR$33),$AR$34,S17))))),\"\")","v":0},{"$f":"IFERROR(IF(C18=\"\",\"\",IF($AR$16=$AR$17,0,IF($C18=\"TOTAL\",SUM($T$8:T17),IF($AR$19=$AR$20,$AR$24,0)))),\"\")","v":0},0,{"$f":"IF(C18=\"\",\"\",IF($C18=\"TOTAL\",SUM($V$8:V17),IF(AND($AR$2=$AR$20,C18=$AR$1),ROUND(D18/31*$AS$2,0),IF(C18=$AP$6,ROUND((G18)*1/30,0),IF(C18=$AQ$6,ROUND((G18)*1/31,0),\"\")))))","v":""},{"$f":"IF(C18=\"\",\"\",IF($C18=\"TOTAL\",SUM($W$8:W17),IF(AND($AR$2=$AR$20,C18=$AR$1),ROUND(H18/31*$AS$2,0),IF(C18=$AP$6,ROUND((K18)*1/30,0),IF(C18=$AQ$6,ROUND((K18)*1/31,0),\"\")))))","v":""},"",{"$f":"IFERROR(IF(C18=\"\",\"\",IF($AR$16=$AR$17,0,IF($AF$3=$AO$4,\"\",IF($C18=\"TOTAL\",SUM($Y$8:Y17),BU18)))),\"\")","v":658},{"$f":"IFERROR(IF(C18=\"\",\"\",IF($AR$16=$AR$17,0,IF($AF$3=$AO$4,\"\",IF($C18=\"TOTAL\",SUM($Z$8:Z17),BT18)))),\"\")","v":440},218,{"$f":"IFERROR(IF(C18=\"\",\"\",IF(AND(BK19=\"\",BR19=\"\"),\"\",IF($C18=\"TOTAL\",SUM($AB$8:AB17),BK19))),\"\")","v":""},{"$f":"IFERROR(IF(C18=\"\",\"\",IF($C18=\"TOTAL\",SUM($AC$8:AC17),ROUND(O18*$AR$7%,0))),\"\")","v":0},{"$f":"IFERROR(IF(C18=\"\",\"\",IF($C18=\"TOTAL\",SUM($AD$8:AD17),IF($AF$3=$AO$2,SUM(U18,X18,AB18,AC18),SUM(R18,U18,X18,AB18,AC18)))),\"\")","v":0},{"$f":"IFERROR(IF(C18=\"\",\"\",IF($C18=\"TOTAL\",SUM($AE$8:AE17),SUM(O18-AD18))),\"\")","v":1510},{"$nulls":8},42,42,"2017-03-01","2017-10-01",{"$f":"'Master Sheet'!D21","v":"NO"},"2023-10-01","","2023-10-01","2023-10-01","2023-10-01",34800,14616,3132,null,33800,14196,3042,3675,null,null,1510,3675,"",{"$f":"IF(BJ18=\"\",\"\",IF($AR$16=$AR$17,ROUND((D17)*3%,0),IF(OR(AW18=$AQ$63,AW18=$AQ$64,AW18=$AQ$65),SUM(ROUND((D17-H17)*3%,0)),IF(OR(AW18=$AQ$69,AW18=$AQ$70,AW18=$AQ$71),SUM(ROUND((D17-H17)*3%,0)),\"\"))))","v":""},0,0,{"$nulls":4},2100,null,440,{"$f":"IF(AW19=\"\",\"\",IF(AW19=\"TOTAL\",\"\",IF($AR$16=$AR$17,0,IF(AND(AW19>$BT$1,$AF$3=$AO$2,'Master Sheet'!$D$31>0),'Master Sheet'!$D$31,IF(AND(AW19=$BT$1,$AF$3=$AO$2),IF($AR$9<18001,135,IF($AR$9<33501,220,IF($AR$9<54001,330,440))),IF(AND(AW19>$BT$1,$AF$3=$AO$2),IF($AR$9<18001,265,IF($AR$9<33501,440,IF($AR$9<54001,658,875))),\"\"))))))","v":658}]
["","","TOTAL",{"$f":"IFERROR(IF($C18=\"TOTAL\",\"अक्षरें राशि :-\",IF($C19=\"TOTAL\",SUM($D$8:D18),IF(AX20=\"\",\"\",AX20))),\"\")","v":356084},{"$f":"IFERROR(IF($C19=\"TOTAL\",SUM($E$8:E18),IF(AY20=\"\",\"\",AY20)),\"\")","v":149555},{"$f":"IFERROR(IF($C19=\"TOTAL\",SUM($F$8:F18),IF(OR(C19=$AP$16,C19=$AP$17,C19=$AP$18,C19=$AP$19,C19=$AP$20,C19=$AP$21,C19=$AP$22,C19=$AP$23,C19=$AP$24),0,IF(AZ20=\"\",\"\",AZ20))),\"\")","v":32048},537687,{"$f":"IFERROR(IF($C19=\"TOTAL\",SUM($H$8:H18),IF(BB20=\"\",\"\",BB20)),\"\")","v":345697},{"$f":"IFERROR(IF($C19=\"TOTAL\",SUM($I$8:I18),IF(BC20=\"\",\"\",BC20)),\"\")","v":145193},{"$f":"IFERROR(IF($C19=\"TOTAL\",SUM($J$8:J18),IF(OR(C19=$AP$16,C19=$AP$17,C19=$AP$18,C19=$AP$19,C19=$AP$20,C19=$AP$21,C19=$AP$22,C19=$AP$23,C19=$AP$24),0,IF(BD20=\"\",\"\",BD20))),\"\")","v":31113},522003,{"$f":"IFERROR(IF(C19=\"\",\"\",IF(D19=\"\",\"\",IF(H19=\"\",\"\",IF($C19=\"TOTAL\",SUM($L$8:L18),SUM(D19-H19))))),\"\")","v":10387},{"$f":"IFERROR(IF(C19=\"\",\"\",IF(E19=\"\",\"\",IF(I19=\"\",\"\",IF($C19=\"TOTAL\",SUM($M$8:M18),SUM(E19-I19))))),\"\")","v":4362},{"$f":"IFERROR(IF(C19=\"\",\"\",IF(F19=\"\",\"\",IF(J19=\"\",\"\",IF($C19=\"TOTAL\",SUM($N$8:N18),SUM(F19-J19))))),\"\")","v":935},15684,{"$f":"IFERROR(IF(C19=\"\",\"\",IF($C19=\"TOTAL\",SUM($P$8:P18),IF(AND(C19>$AO$1,$AF$3=$AO$2),BR20,IF($AR$18=$AR$20,SUM(BE20+BM20),ROUND((D19+E19)*10%,0))))),\"\")","v":23100},{"$f":"IFERROR(IF(C19=\"\",\"\",IF(H19=\"\",\"\",IF(I19=\"\",\"\",IF($C19=\"TOTAL\",SUM($Q$8:Q18),IF(AND(C19>$AO$1,$AF$3=$AO$2),BR20,IF($AR$18=$AR$20,$AR$21,ROUND((H19+I19)*10%,0))))))),\"\")","v":23100},0,{"$f":"IFERROR(IF(C19=\"\",\"\",IF($AR$16=$AR$17,0,IF($C19=\"TOTAL\",SUM($S$8:S18),IF($AR$19=$AR$31,0,IF(AND($AR$32=$AR$20,C19=$AR$33),$AR$34,S18))))),\"\")","v":0},{"$f":"IFERROR(IF(C19=\"\",\"\",IF($AR$16=$AR$17,0,IF($C19=\"TOTAL\",SUM($T$8:T18),IF($AR$19=$AR$20,$AR$24,0)))),\"\")","v":0},0,{"$f":"IF(C19=\"\",\"\",IF($C19=\"TOTAL\",SUM($V$8:V18),IF(AND($AR$2=$AR$20,C19=$AR$1),ROUND(D19/31*$AS$2,0),IF(C19=$AP$6,ROUND((G19)*1/30,0),IF(C19=$AQ$6,ROUND((G19)*1/31,0),\"\")))))","v":0},{"$f":"IF(C19=\"\",\"\",IF($C19=\"TOTAL\",SUM($W$8:W18),IF(AND($AR$2=$AR$20,C19=$AR$1),ROUND(H19/31*$AS$2,0),IF(C19=$AP$6,ROUND((K19)*1/30,0),IF(C19=$AQ$6,ROUND((K19)*1/31,0),\"\")))))","v":0},0,{"$f":"IFERROR(IF(C19=\"\",\"\",IF($AR$16=$AR$17,0,IF($AF$3=$AO$4,\"\",IF($C19=\"TOTAL\",SUM($Y$8:Y18),BU19)))),\"\")","v":7238},{"$f":"IFERROR(IF(C19=\"\",\"\",IF($AR$16=$AR$17,0,IF($AF$3=$AO$4,\"\",IF($C19=\"TOTAL\",SUM($Z$8:Z18),BT19)))),\"\")","v":4840},2398,{"$f":"IFERROR(IF(C19=\"\",\"\",IF(AND(BK20=\"\",BR20=\"\"),\"\",IF($C19=\"TOTAL\",SUM($AB$8:AB18),BK20))),\"\")","v":""},{"$f":"IFERROR(IF(C19=\"\",\"\",IF($C19=\"TOTAL\",SUM($AC$8:AC18),ROUND(O19*$AR$7%,0))),\"\")","v":0},{"$f":"IFERROR(IF(C19=\"\",\"\",IF($C19=\"TOTAL\",SUM($AD$8:AD18),IF($AF$3=$AO$2,SUM(U19,X19,AB19,AC19),SUM(R19,U19,X19,AB19,AC19)))),\"\")","v":0},{"$f":"IFERROR(IF(C19=\"\",\"\",IF($C19=\"TOTAL\",SUM($AE$8:AE18),SUM(O19-AD19))),\"\")","v":15684},{"$nulls":8},42,42,"2017-04-01","2017-11-01",{"$f":"'Master Sheet'!D17","v":"NO"},"2023-11-01","","2023-11-01","2023-11-01","2023-11-01",34800,14616,3132,null,33800,14196,3042,3675,null,null,1510,3675,"","",0,0,{"$nulls":4},2100,null,"",{"$f":"IF(AW20=\"\",\"\",IF(AW20=\"TOTAL\",\"\",IF($AR$16=$AR$17,0,IF(AND(AW20>$BT$1,$AF$3=$AO$2,'Master Sheet'!$D$31>0),'Master Sheet'!$D$31,IF(AND(AW20=$BT$1,$AF$3=$AO$2),IF($AR$9<18001,135,IF($AR$9<33501,220,IF($AR$9<54001,330,440))),IF(AND(AW20>$BT$1,$AF$3=$AO$2),IF($AR$9<18001,265,IF($AR$9<33501,440,IF($AR$9<54001,658,875))),\"\"))))))","v":""}]
["","","",{"$f":"IFERROR(IF($C19=\"TOTAL\",\"अक्षरें राशि :-\",IF($C20=\"TOTAL\",SUM($D$8:D19),IF(AX21=\"\",\"\",AX21))),\"\")","v":"अक्षरें राशि :-"},{"$f":"IFERROR(IF($C20=\"TOTAL\",SUM($E$8:E19),IF(AY21=\"\",\"\",AY21)),\"\")","v":""},{"$f":"IFERROR(IF($C20=\"TOTAL\",SUM($F$8:F19),IF(OR(C20=$AP$16,C20=$AP$17,C20=$AP$18,C20=$AP$19,C20=$AP$20,C20=$AP$21,C20=$AP$22,C20=$AP$23,C20=$AP$24),0,IF(AZ21=\"\",\"\",AZ21))),\"\")","v":""},"",{"$f":"IFERROR(IF($C20=\"TOTAL\",SUM($H$8:H19),IF(BB21=\"\",\"\",BB21)),\"\")","v":""},{"$f":"IFERROR(IF($C20=\"TOTAL\",SUM($I$8:I19),IF(BC21=\"\",\"\",BC21)),\"\")","v":""},{"$f":"IFERROR(IF($C20=\"TOTAL\",SUM($J$8:J19),IF(OR(C20=$AP$16,C20=$AP$17,C20=$AP$18,C20=$AP$19,C20=$AP$20,C20=$AP$21,C20=$AP$22,C20=$AP$23,C20=$AP$24),0,IF(BD21=\"\",\"\",BD21))),\"\")","v":""},"",{"$f":"IFERROR(IF(C20=\"\",\"\",IF(D20=\"\",\"\",IF(H20=\"\",\"\",IF($C20=\"TOTAL\",SUM($L$8:L19),SUM(D20-H20))))),\"\")","v":""},{"$f":"IFERROR(IF(C20=\"\",\"\",IF(E20=\"\",\"\",IF(I20=\"\",\"\",IF($C20=\"TOTAL\",SUM($M$8:M19),SUM(E20-I20))))),\"\")","v":""},{"$f":"IFERROR(IF(C20=\"\",\"\",IF(F20=\"\",\"\",IF(J20=\"\",\"\",IF($C20=\"TOTAL\",SUM($N$8:N19),SUM(F20-J20))))),\"\")","v":""},"",{"$f":"IFERROR(IF(C20=\"\",\"\",IF($C20=\"TOTAL\",SUM($P$8:P19),IF(AND(C20>$AO$1,$AF$3=$AO$2),BR21,IF($AR$18=$AR$20,SUM(BE21+BM21),ROUND((D20+E20)*10%,0))))),\"\")","v":""},{"$f":"IFERROR(IF(C20=\"\",\"\",IF(H20=\"\",\"\",IF(I20=\"\",\"\",IF($C20=\"TOTAL\",SUM($Q$8:Q19),IF(AND(C20>$AO$1,$AF$3=$AO$2),BR21,IF($AR$18=$AR$20,$AR$21,ROUND((H20+I20)*10%,0))))))),\"\")","v":""},"",{"$f":"IFERROR(IF(C20=\"\",\"\",IF($AR$16=$AR$17,0,IF($C20=\"TOTAL\",SUM($S$8:S19),IF($AR$19=$AR$31,0,IF(AND($AR$32=$AR$20,C20=$AR$33),$AR$34,S19))))),\"\")","v":""},{"$f":"IFERROR(IF(C20=\"\",\"\",IF($AR$16=$AR$17,0,IF($C20=\"TOTAL\",SUM($T$8:T19),IF($AR$19=$AR$20,$AR$24,0)))),\"\")","v":""},"",{"$f":"IF(C20=\"\",\"\",IF($C20=\"TOTAL\",SUM($V$8:V19),IF(AND($AR$2=$AR$20,C20=$AR$1),ROUND(D20/31*$AS$2,0),IF(C20=$AP$6,ROUND((G20)*1/30,0),IF(C20=$AQ$6,ROUND((G20)*1/31,0),\"\")))))","v":""},{"$f":"IF(C20=\"\",\"\",IF($C20=\"TOTAL\",SUM($W$8:W19),IF(AND($AR$2=$AR$20,C20=$AR$1),ROUND(H20/31*$AS$2,0),IF(C20=$AP$6,ROUND((K20)*1/30,0),IF(C20=$AQ$6,ROUND((K20)*1/31,0),\"\")))))","v":""},"",{"$f":"IFERROR(IF(C20=\"\",\"\",IF($AR$16=$AR$17,0,IF($AF$3=$AO$4,\"\",IF($C20=\"TOTAL\",SUM($Y$8:Y19),BU20)))),\"\")","v":""},{"$f":"IFERROR(IF(C20=\"\",\"\",IF($AR$16=$AR$17,0,IF($AF$3=$AO$4,\"\",IF($C20=\"TOTAL\",SUM($Z$8:Z19),BT20)))),\"\")","v":""},"",{"$f":"IFERROR(IF(C20=\"\",\"\",IF(AND(BK21=\"\",BR21=\"\"),\"\",IF($C20=\"TOTAL\",SUM($AB$8:AB19),BK21))),\"\")","v":""},{"$f":"IFERROR(IF(C20=\"\",\"\",IF($C20=\"TOTAL\",SUM($AC$8:AC19),ROUND(O20*$AR$7%,0))),\"\")","v":""},{"$f":"IFERROR(IF(C20=\"\",\"\",IF($C20=\"TOTAL\",SUM($AD$8:AD19),IF($AF$3=$AO$2,SUM(U20,X20,AB20,AC20),SUM(R20,U20,X20,AB20,AC20)))),\"\")","v":""},{"$f":"IFERROR(IF(C20=\"\",\"\",IF($C20=\"TOTAL\",SUM($AE$8:AE19),SUM(O20-AD20))),\"\")","v":""},{"$nulls":8},42,42,"2017-05-01","2017-12-01","YES",{"$f":"IF(AND($AR$6>$AS$6),\"\",DATE(YEAR(AS19),MONTH(AS19)+1,DAY(AS19)))","v":"2023-12-01"},"","2023-12-01","2023-12-01","TOTAL",34800,"","",null,"","","","",null,null,"",3675,"","",0,0,{"$nulls":4},"",null,"",{"$f":"IF(AW21=\"\",\"\",IF(AW21=\"TOTAL\",\"\",IF($AR$16=$AR$17,0,IF(AND(AW21>$BT$1,$AF$3=$AO$2,'Master Sheet'!$D$31>0),'Master Sheet'!$D$31,IF(AND(AW21=$BT$1,$AF$3=$AO$2),IF($AR$9<18001,135,IF($AR$9<33501,220,IF($AR$9<54001,330,440))),IF(AND(AW21>$BT$1,$AF$3=$AO$2),IF($AR$9<18001,265,IF($AR$9<33501,440,IF($AR$9<54001,658,875))),\"\"))))))","v":""}]
["","","",{"$f":"IFERROR(IF($C20=\"TOTAL\",\"अक्षरें राशि :-\",IF($C21=\"TOTAL\",SUM($D$8:D20),IF(AX22=\"\",\"\",AX22))),\"\")","v":""},{"$f":"IFERROR(IF($C21=\"TOTAL\",SUM($E$8:E20),IF(AY22=\"\",\"\",AY22)),\"\")","v":""},{"$f":"IFERROR(IF($C21=\"TOTAL\",SUM($F$8:F20),IF(OR(C21=$AP$16,C21=$AP$17,C21=$AP$18,C21=$AP$19,C21=$AP$20,C21=$AP$21,C21=$AP$22,C21=$AP$23,C21=$AP$24),0,IF(AZ22=\"\",\"\",AZ22))),\"\")","v":""},"",{"$f":"IFERROR(IF($C21=\"TOTAL\",SUM($H$8:H20),IF(BB22=\"\",\"\",BB22)),\"\")","v":""},{"$f":"IFERROR(IF($C21=\"TOTAL\",SUM($I$8:I20),IF(BC22=\"\",\"\",BC22)),\"\")","v":""},{"$f":"IFERROR(IF($C21=\"TOTAL\",SUM($J$8:J20),IF(OR(C21=$AP$16,C21=$AP$17,C21=$AP$18,C21=$AP$19,C21=$AP$20,C21=$AP$21,C21=$AP$22,C21=$AP$23,C21=$AP$24),0,IF(BD22=\"\",\"\",BD22))),\"\")","v":""},"",{"$f":"IFERROR(IF(C21=\"\",\"\",IF(D21=\"\",\"\",IF(H21=\"\",\"\",IF($C21=\"TOTAL\",SUM($L$8:L20),SUM(D21-H21))))),\"\")","v":""},{"$f":"IFERROR(IF(C21=\"\",\"\",IF(E21=\"\",\"\",IF(I21=\"\",\"\",IF($C21=\"TOTAL\",SUM($M$8:M20),SUM(E21-I21))))),\"\")","v":""},{"$f":"IFERROR(IF(C21=\"\",\"\",IF(F21=\"\",\"\",IF(J21=\"\",\"\",IF($C21=\"TOTAL\",SUM($N$8:N20),SUM(F21-J21))))),\"\")","v":""},"",{"$f":"IFERROR(IF(C21=\"\",\"\",IF($C21=\"TOTAL\",SUM($P$8:P20),IF(AND(C21>$AO$1,$AF$3=$AO$2),BR22,IF($AR$18=$AR$20,SUM(BE22+BM22),ROUND((D21+E21)*10%,0))))),\"\")","v":""},{"$f":"IFERROR(IF(C21=\"\",\"\",IF(H21=\"\",\"\",IF(I21=\"\",\"\",IF($C21=\"TOTAL\",SUM($Q$8:Q20),IF(AND(C21>$AO$1,$AF$3=$AO$2),BR22,IF($AR$18=$AR$20,$AR$21,ROUND((H21+I21)*10%,0))))))),\"\")","v":""},"",{"$f":"IFERROR(IF(C21=\"\",\"\",IF($AR$16=$AR$17,0,IF($C21=\"TOTAL\",SUM($S$8:S20),IF($AR$19=$AR$31,0,IF(AND($AR$32=$AR$20,C21=$AR$33),$AR$34,S20))))),\"\")","v":""},{"$f":"IFERROR(IF(C21=\"\",\"\",IF($AR$16=$AR$17,0,IF($C21=\"TOTAL\",SUM($T$8:T20),IF($AR$19=$AR$20,$AR$24,0)))),\"\")","v":""},"",{"$f":"IF(C21=\"\",\"\",IF($C21=\"TOTAL\",SUM($V$8:V20),IF(AND($AR$2=$AR$20,C21=$AR$1),ROUND(D21/31*$AS$2,0),IF(C21=$AP$6,ROUND((G21)*1/30,0),IF(C21=$AQ$6,ROUND((G21)*1/31,0),\"\")))))","v":""},{"$f":"IF(C21=\"\",\"\",IF($C21=\"TOTAL\",SUM($W$8:W20),IF(AND($AR$2=$AR$20,C21=$AR$1),ROUND(H21/31*$AS$2,0),IF(C21=$AP$6,ROUND((K21)*1/30,0),IF(C21=$AQ$6,ROUND((K21)*1/31,0),\"\")))))","v":""},"",{"$f":"IFERROR(IF(C21=\"\",\"\",IF($AR$16=$AR$17,0,IF($AF$3=$AO$4,\"\",IF($C21=\"TOTAL\",SUM($Y$8:Y20),BU21)))),\"\")","v":""},{"$f":"IFERROR(IF(C21=\"\",\"\",IF($AR$16=$AR$17,0,IF($AF$3=$AO$4,\"\",IF($C21=\"TOTAL\",SUM($Z$8:Z20),BT21)))),\"\")","v":""},"",{"$f":"IFERROR(IF(C21=\"\",\"\",IF(AND(BK22=\"\",BR22=\"\"),\"\",IF($C21=\"TOTAL\",SUM($AB$8:AB20),BK22))),\"\")","v":""},{"$f":"IFERROR(IF(C21=\"\",\"\",IF($C21=\"TOTAL\",SUM($AC$8:AC20),ROUND(O21*$AR$7%,0))),\"\")","v":""},{"$f":"IFERROR(IF(C21=\"\",\"\",IF($C21=\"TOTAL\",SUM($AD$8:AD20),IF($AF$3=$AO$2,SUM(U21,X21,AB21,AC21),SUM(R21,U21,X21,AB21,AC21)))),\"\")","v":""},{"$f":"IFERROR(IF(C21=\"\",\"\",IF($C21=\"TOTAL\",SUM($AE$8:AE20),SUM(O21-AD21))),\"\")","v":""},{"$nulls":8},42,42,"2017-06-01","2018-01-01",{"$f":"'Master Sheet'!I21","v":3675},"2024-01-01","","","","","","","",null,"","","","",null,null,"","","","",0,0,{"$nulls":4},"",null,"",{"$f":"IF(AW22=\"\",\"\",IF(AW22=\"TOTAL\",\"\",IF($AR$16=$AR$17,0,IF(AND(AW22>$BT$1,$AF$3=$AO$2,'Master Sheet'!$D$31>0),'Master Sheet'!$D$31,IF(AND(AW22=$BT$1,$AF$3=$AO$2),IF($AR$9<18001,135,IF($AR$9<33501,220,IF($AR$9<54001,330,440))),IF(AND(AW22>$BT$1,$AF$3=$AO$2),IF($AR$9<18001,265,IF($AR$9<33501,440,IF($AR$9<54001,658,875))),\"\"))))))","v":""}]
["","","",{"$f":"IFERROR(IF($C21=\"TOTAL\",\"अक्षरें राशि :-\",IF($C22=\"TOTAL\",SUM($D$8:D21),IF(AX23=\"\",\"\",AX23))),\"\")","v":""},{"$f":"IFERROR(IF($C22=\"TOTAL\",SUM($E$8:E21),IF(AY23=\"\",\"\",AY23)),\"\")","v":""},{"$f":"IFERROR(IF($C22=\"TOTAL\",SUM($F$8:F21),IF(OR(C22=$AP$16,C22=$AP$17,C22=$AP$18,C22=$AP$19,C22=$AP$20,C22=$AP$21,C22=$AP$22,C22=$AP$23,C22=$AP$24),0,IF(AZ23=\"\",\"\",AZ23))),\"\")","v":""},"",{"$f":"IFERROR(IF($C22=\"TOTAL\",SUM($H$8:H21),IF(BB23=\"\",\"\",BB23)),\"\")","v":""},{"$f":"IFERROR(IF($C22=\"TOTAL\",SUM($I$8:I21),IF(BC23=\"\",\"\",BC23)),\"\")","v":""},{"$f":"IFERROR(IF($C22=\"TOTAL\",SUM($J$8:J21),IF(OR(C22=$AP$16,C22=$AP$17,C22=$AP$18,C22=$AP$19,C22=$AP$20,C22=$AP$21,C22=$AP$22,C22=$AP$23,C22=$AP$24),0,IF(BD23=\"\",\"\",BD23))),\"\")","v":""},"",{"$f":"IFERROR(IF(C22=\"\",\"\",IF(D22=\"\",\"\",IF(H22=\"\",\"\",IF($C22=\"TOTAL\",SUM($L$8:L21),SUM(D22-H22))))),\"\")","v":""},{"$f":"IFERROR(IF(C22=\"\",\"\",IF(E22=\"\",\"\",IF(I22=\"\",\"\",IF($C22=\"TOTAL\",SUM($M$8:M21),SUM(E22-I22))))),\"\")","v":""},{"$f":"IFERROR(IF(C22=\"\",\"\",IF(F22=\"\",\"\",IF(J22=\"\",\"\",IF($C22=\"TOTAL\",SUM($N$8:N21),SUM(F22-J22))))),\"\")","v":""},"",{"$f":"IFERROR(IF(C22=\"\",\"\",IF($C22=\"TOTAL\",SUM($P$8:P21),IF(AND(C22>$AO$1,$AF$3=$AO$2),BR23,IF($AR$18=$AR$20,SUM(BE23+BM23),ROUND((D22+E22)*10%,0))))),\"\")","v":""},{"$f":"IFERROR(IF(C22=\"\",\"\",IF(H22=\"\",\"\",IF(I22=\"\",\"\",IF($C22=\"TOTAL\",SUM($Q$8:Q21),IF(AND(C22>$AO$1,$AF$3=$AO$2),BR23,IF($AR$18=$AR$20,$AR$21,ROUND((H22+I22)*10%,0))))))),\"\")","v":""},"",{"$f":"IFERROR(IF(C22=\"\",\"\",IF($AR$16=$AR$17,0,IF($C22=\"TOTAL\",SUM($S$8:S21),IF($AR$19=$AR$31,0,IF(AND($AR$32=$AR$20,C22=$AR$33),$AR$34,S21))))),\"\")","v":""},{"$f":"IFERROR(IF(C22=\"\",\"\",IF($AR$16=$AR$17,0,IF($C22=\"TOTAL\",SUM($T$8:T21),IF($AR$19=$AR$20,$AR$24,0)))),\"\")","v":""},"",{"$f":"IF(C22=\"\",\"\",IF($C22=\"TOTAL\",SUM($V$8:V21),IF(AND($AR$2=$AR$20,C22=$AR$1),ROUND(D22/31*$AS$2,0),IF(C22=$AP$6,ROUND((G22)*1/30,0),IF(C22=$AQ$6,ROUND((G22)*1/31,0),\"\")))))","v":""},{"$f":"IF(C22=\"\",\"\",IF($C22=\"TOTAL\",SUM($W$8:W21),IF(AND($AR$2=$AR$20,C22=$AR$1),ROUND(H22/31*$AS$2,0),IF(C22=$AP$6,ROUND((K22)*1/30,0),IF(C22=$AQ$6,ROUND((K22)*1/31,0),\"\")))))","v":""},"",{"$f":"IFERROR(IF(C22=\"\",\"\",IF($AR$16=$AR$17,0,IF($AF$3=$AO$4,\"\",IF($C22=\"TOTAL\",SUM($Y$8:Y21),BU22)))),\"\")","v":""},{"$f":"IFERROR(IF(C22=\"\",\"\",IF($AR$16=$AR$17,0,IF($AF$3=$AO$4,\"\",IF($C22=\"TOTAL\",SUM($Z$8:Z21),BT22)))),\"\")","v":""},"",{"$f":"IFERROR(IF(C22=\"\",\"\",IF(AND(BK23=\"\",BR23=\"\"),\"\",IF($C22=\"TOTAL\",SUM($AB$8:AB21),BK23))),\"\")","v":""},{"$f":"IFERROR(IF(C22=\"\",\"\",IF($C22=\"TOTAL\",SUM($AC$8:AC21),ROUND(O22*$AR$7%,0))),\"\")","v":""},{"$f":"IFERROR(IF(C22=\"\",\"\",IF($C22=\"TOTAL\",SUM($AD$8:AD21),IF($AF$3=$AO$2,SUM(U22,X22,AB22,AC22),SUM(R22,U22,X22,AB22,AC22)))),\"\")","v":""},{"$f":"IFERROR(IF(C22=\"\",\"\",IF($C22=\"TOTAL\",SUM($AE$8:AE21),SUM(O22-AD22))),\"\")","v":""},{"$nulls":8},42,42,"2017-07-01","2018-02-01",{"$f":"'Master Sheet'!M21","v":3675},"2024-02-01","","","","","","","",null,"","","","",null,null,"","","","",0,0,{"$nulls":4},"",null,"",{"$f":"IF(AW23=\"\",\"\",IF(AW23=\"TOTAL\",\"\",IF($AR$16=$AR$17,0,IF(AND(AW23>$BT$1,$AF$3=$AO$2,'Master Sheet'!$D$31>0),'Master Sheet'!$D$31,IF(AND(AW23=$BT$1,$AF$3=$AO$2),IF($AR$9<18001,135,IF($AR$9<33501,220,IF($AR$9<54001,330,440))),IF(AND(AW23>$BT$1,$AF$3=$AO$2),IF($AR$9<18001,265,IF($AR$9<33501,440,IF($AR$9<54001,658,875))),\"\"))))))","v":""}]
["","","",{"$f":"IFERROR(IF($C22=\"TOTAL\",\"अक्षरें राशि :-\",IF($C23=\"TOTAL\",SUM($D$8:D22),IF(AX24=\"\",\"\",AX24))),\"\")","v":""},{"$f":"IFERROR(IF($C23=\"TOTAL\",SUM($E$8:E22),IF(AY24=\"\",\"\",AY24)),\"\")","v":""},{"$f":"IFERROR(IF($C23=\"TOTAL\",SUM($F$8:F22),IF(OR(C23=$AP$16,C23=$AP$17,C23=$AP$18,C23=$AP$19,C23=$AP$20,C23=$AP$21,C23=$AP$22,C23=$AP$23,C23=$AP$24),0,IF(AZ24=\"\",\"\",AZ24))),\"\")","v":""},"",{"$f":"IFERROR(IF($C23=\"TOTAL\",SUM($H$8:H22),IF(BB24=\"\",\"\",BB24)),\"\")","v":""},{"$f":"IFERROR(IF($C23=\"TOTAL\",SUM($I$8:I22),IF(BC24=\"\",\"\",BC24)),\"\")","v":""},{"$f":"IFERROR(IF($C23=\"TOTAL\",SUM($J$8:J22),IF(OR(C23=$AP$16,C23=$AP$17,C23=$AP$18,C23=$AP$19,C23=$AP$20,C23=$AP$21,C23=$AP$22,C23=$AP$23,C23=$AP$24),0,IF(BD24=\"\",\"\",BD24))),\"\")","v":""},"",{"$f":"IFERROR(IF(C23=\"\",\"\",IF(D23=\"\",\"\",IF(H23=\"\",\"\",IF($C23=\"TOTAL\",SUM($L$8:L22),SUM(D23-H23))))),\"\")","v":""},{"$f":"IFERROR(IF(C23=\"\",\"\",IF(E23=\"\",\"\",IF(I23=\"\",\"\",IF($C23=\"TOTAL\",SUM($M$8:M22),SUM(E23-I23))))),\"\")","v":""},{"$f":"IFERROR(IF(C23=\"\",\"\",IF(F23=\"\",\"\",IF(J23=\"\",\"\",IF($C23=\"TOTAL\",SUM($N$8:N22),SUM(F23-J23))))),\"\")","v":""},"",{"$f":"IFERROR(IF(C23=\"\",\"\",IF($C23=\"TOTAL\",SUM($P$8:P22),IF(AND(C23>$AO$1,$AF$3=$AO$2),BR24,IF($AR$18=$AR$20,SUM(BE24+BM24),ROUND((D23+E23)*10%,0))))),\"\")","v":""},{"$f":"IFERROR(IF(C23=\"\",\"\",IF(H23=\"\",\"\",IF(I23=\"\",\"\",IF($C23=\"TOTAL\",SUM($Q$8:Q22),IF(AND(C23>$AO$1,$AF$3=$AO$2),BR24,IF($AR$18=$AR$20,$AR$21,ROUND((H23+I23)*10%,0))))))),\"\")","v":""},"",{"$f":"IFERROR(IF(C23=\"\",\"\",IF($AR$16=$AR$17,0,IF($C23=\"TOTAL\",SUM($S$8:S22),IF($AR$19=$AR$31,0,IF(AND($AR$32=$AR$20,C23=$AR$33),$AR$34,S22))))),\"\")","v":""},{"$f":"IFERROR(IF(C23=\"\",\"\",IF($AR$16=$AR$17,0,IF($C23=\"TOTAL\",SUM($T$8:T22),IF($AR$19=$AR$20,$AR$24,0)))),\"\")","v":""},"",{"$f":"IF(C23=\"\",\"\",IF($C23=\"TOTAL\",SUM($V$8:V22),IF(AND($AR$2=$AR$20,C23=$AR$1),ROUND(D23/31*$AS$2,0),IF(C23=$AP$6,ROUND((G23)*1/30,0),IF(C23=$AQ$6,ROUND((G23)*1/31,0),\"\")))))","v":""},{"$f":"IF(C23=\"\",\"\",IF($C23=\"TOTAL\",SUM($W$8:W22),IF(AND($AR$2=$AR$20,C23=$AR$1),ROUND(H23/31*$AS$2,0),IF(C23=$AP$6,ROUND((K23)*1/30,0),IF(C23=$AQ$6,ROUND((K23)*1/31,0),\"\")))))","v":""},"",{"$f":"IFERROR(IF(C23=\"\",\"\",IF($AR$16=$AR$17,0,IF($AF$3=$AO$4,\"\",IF($C23=\"TOTAL\",SUM($Y$8:Y22),BU23)))),\"\")","v":""},{"$f":"IFERROR(IF(C23=\"\",\"\",IF($AR$16=$AR$17,0,IF($AF$3=$AO$4,\"\",IF($C23=\"TOTAL\",SUM($Z$8:Z22),BT23)))),\"\")","v":""},"",{"$f":"IFERROR(IF(C23=\"\",\"\",IF(AND(BK24=\"\",BR24=\"\"),\"\",IF($C23=\"TOTAL\",SUM($AB$8:AB22),BK24))),\"\")","v":""},{"$f":"IFERROR(IF(C23=\"\",\"\",IF($C23=\"TOTAL\",SUM($AC$8:AC22),ROUND(O23*$AR$7%,0))),\"\")","v":""},{"$f":"IFERROR(IF(C23=\"\",\"\",IF($C23=\"TOTAL\",SUM($AD$8:AD22),IF($AF$3=$AO$2,SUM(U23,X23,AB23,AC23),SUM(R23,U23,X23,AB23,AC23)))),\"\")","v":""},{"$f":"IFERROR(IF(C23=\"\",\"\",IF($C23=\"TOTAL\",SUM($AE$8:AE22),SUM(O23-AD23))),\"\")","v":""},{"$nulls":8},42,42,"2017-08-01","2018-03-01",null,"2024-03-01","","","","","","","",null,"","","","",null,null,"","","","",0,0,{"$nulls":4},"",null,"",{"$f":"IF(AW24=\"\",\"\",IF(AW24=\"TOTAL\",\"\",IF($AR$16=$AR$17,0,IF(AND(AW24>$BT$1,$AF$3=$AO$2,'Master Sheet'!$D$31>0),'Master Sheet'!$D$31,IF(AND(AW24=$BT$1,$AF$3=$AO$2),IF($AR$9<18001,135,IF($AR$9<33501,220,IF($AR$9<54001,330,440))),IF(AND(AW24>$BT$1,$AF$3=$AO$2),IF($AR$9<18001,265,IF($AR$9<33501,440,IF($AR$9<54001,658,875))),\"\"))))))","v":""}]
["","","",{"$f":"IFERROR(IF($C23=\"TOTAL\",\"अक्षरें राशि :-\",IF($C24=\"TOTAL\",SUM($D$8:D23),IF(AX25=\"\",\"\",AX25))),\"\")","v":""},{"$f":"IFERROR(IF($C24=\"TOTAL\",SUM($E$8:E23),IF(AY25=\"\",\"\",AY25)),\"\")","v":""},{"$f":"IFERROR(IF($C24=\"TOTAL\",SUM($F$8:F23),IF(OR(C24=$AP$16,C24=$AP$17,C24=$AP$18,C24=$AP$19,C24=$AP$20,C24=$AP$21,C24=$AP$22,C24=$AP$23,C24=$AP$24),0,IF(AZ25=\"\",\"\",AZ25))),\"\")","v":""},"",{"$f":"IFERROR(IF($C24=\"TOTAL\",SUM($H$8:H23),IF(BB25=\"\",\"\",BB25)),\"\")","v":""},{"$f":"IFERROR(IF($C24=\"TOTAL\",SUM($I$8:I23),IF(BC25=\"\",\"\",BC25)),\"\")","v":""},{"$f":"IFERROR(IF($C24=\"TOTAL\",SUM($J$8:J23),IF(OR(C24=$AP$16,C24=$AP$17,C24=$AP$18,C24=$AP$19,C24=$AP$20,C24=$AP$21,C24=$AP$22,C24=$AP$23,C24=$AP$24),0,IF(BD25=\"\",\"\",BD25))),\"\")","v":""},"",{"$f":"IFERROR(IF(C24=\"\",\"\",IF(D24=\"\",\"\",IF(H24=\"\",\"\",IF($C24=\"TOTAL\",SUM($L$8:L23),SUM(D24-H24))))),\"\")","v":""},{"$f":"IFERROR(IF(C24=\"\",\"\",IF(E24=\"\",\"\",IF(I24=\"\",\"\",IF($C24=\"TOTAL\",SUM($M$8:M23),SUM(E24-I24))))),\"\")","v":""},{"$f":"IFERROR(IF(C24=\"\",\"\",IF(F24=\"\",\"\",IF(J24=\"\",\"\",IF($C24=\"TOTAL\",SUM($N$8:N23),SUM(F24-J24))))),\"\")","v":""},"",{"$f":"IFERROR(IF(C24=\"\",\"\",IF($C24=\"TOTAL\",SUM($P$8:P23),IF(AND(C24>$AO$1,$AF$3=$AO$2),BR25,IF($AR$18=$AR$20,SUM(BE25+BM25),ROUND((D24+E24)*10%,0))))),\"\")","v":""},{"$f":"IFERROR(IF(C24=\"\",\"\",IF(H24=\"\",\"\",IF(I24=\"\",\"\",IF($C24=\"TOTAL\",SUM($Q$8:Q23),IF(AND(C24>$AO$1,$AF$3=$AO$2),BR25,IF($AR$18=$AR$20,$AR$21,ROUND((H24+I24)*10%,0))))))),\"\")","v":""},"",{"$f":"IFERROR(IF(C24=\"\",\"\",IF($AR$16=$AR$17,0,IF($C24=\"TOTAL\",SUM($S$8:S23),IF($AR$19=$AR$31,0,IF(AND($AR$32=$AR$20,C24=$AR$33),$AR$34,S23))))),\"\")","v":""},{"$f":"IFERROR(IF(C24=\"\",\"\",IF($AR$16=$AR$17,0,IF($C24=\"TOTAL\",SUM($T$8:T23),IF($AR$19=$AR$20,$AR$24,0)))),\"\")","v":""},"",{"$f":"IF(C24=\"\",\"\",IF($C24=\"TOTAL\",SUM($V$8:V23),IF(AND($AR$2=$AR$20,C24=$AR$1),ROUND(D24/31*$AS$2,0),IF(C24=$AP$6,ROUND((G24)*1/30,0),IF(C24=$AQ$6,ROUND((G24)*1/31,0),\"\")))))","v":""},{"$f":"IF(C24=\"\",\"\",IF($C24=\"TOTAL\",SUM($W$8:W23),IF(AND($AR$2=$AR$20,C24=$AR$1),ROUND(H24/31*$AS$2,0),IF(C24=$AP$6,ROUND((K24)*1/30,0),IF(C24=$AQ$6,ROUND((K24)*1/31,0),\"\")))))","v":""},"",{"$f":"IFERROR(IF(C24=\"\",\"\",IF($AR$16=$AR$17,0,IF($AF$3=$AO$4,\"\",IF($C24=\"TOTAL\",SUM($Y$8:Y23),BU24)))),\"\")","v":""},{"$f":"IFERROR(IF(C24=\"\",\"\",IF($AR$16=$AR$17,0,IF($AF$3=$AO$4,\"\",IF($C24=\"TOTAL\",SUM($Z$8:Z23),BT24)))),\"\")","v":""},"",{"$f":"IFERROR(IF(C24=\"\",\"\",IF(AND(BK25=\"\",BR25=\"\"),\"\",IF($C24=\"TOTAL\",SUM($AB$8:AB23),BK25))),\"\")","v":""},{"$f":"IFERROR(IF(C24=\"\",\"\",IF($C24=\"TOTAL\",SUM($AC$8:AC23),ROUND(O24*$AR$7%,0))),\"\")","v":""},{"$f":"IFERROR(IF(C24=\"\",\"\",IF($C24=\"TOTAL\",SUM($AD$8:AD23),IF($AF$3=$AO$2,SUM(U24,X24,AB24,AC24),SUM(R24,U24,X24,AB24,AC24)))),\"\")","v":""},{"$f":"IFERROR(IF(C24=\"\",\"\",IF($C24=\"TOTAL\",SUM($AE$8:AE23),SUM(O24-AD24))),\"\")","v":""},{"$nulls":8},42,42,"2017-09-01","2018-04-01",{"$f":"'Master Sheet'!I17","v":2100},"2024-04-01","","","","","","","",null,"","","","",null,null,"","","","",0,0,{"$nulls":4},"",null,"",{"$f":"IF(AW25=\"\",\"\",IF(AW25=\"TOTAL\",\"\",IF($AR$16=$AR$17,0,IF(AND(AW25>$BT$1,$AF$3=$AO$2,'Master Sheet'!$D$31>0),'Master Sheet'!$D$31,IF(AND(AW25=$BT$1,$AF$3=$AO$2),IF($AR$9<18001,135,IF($AR$9<33501,220,IF($AR$9<54001,330,440))),IF(AND(AW25>$BT$1,$AF$3=$AO$2),IF($AR$9<18001,265,IF($AR$9<33501,440,IF($AR$9<54001,658,875))),\"\"))))))","v":""}]
[{"$f":"IF(C25=\"TOTAL\",\"\",IF(B24=\"\",\"\",IF(LEN(C25)>=2,B24+1,0)))","v":""},"","",{"$f":"IFERROR(IF($C24=\"TOTAL\",\"अक्षरें राशि :-\",IF($C25=\"TOTAL\",SUM($D$8:D24),IF(AX26=\"\",\"\",AX26))),\"\")","v":""},{"$f":"IFERROR(IF($C25=\"TOTAL\",SUM($E$8:E24),IF(AY26=\"\",\"\",AY26)),\"\")","v":""},{"$f":"IFERROR(IF($C25=\"TOTAL\",SUM($F$8:F24),IF(OR(C25=$AP$16,C25=$AP$17,C25=$AP$18,C25=$AP$19,C25=$AP$20,C25=$AP$21,C25=$AP$22,C25=$AP$23,C25=$AP$24),0,IF(AZ26=\"\",\"\",AZ26))),\"\")","v":""},"",{"$f":"IFERROR(IF($C25=\"TOTAL\",SUM($H$8:H24),IF(BB26=\"\",\"\",BB26)),\"\")","v":""},{"$f":"IFERROR(IF($C25=\"TOTAL\",SUM($I$8:I24),IF(BC26=\"\",\"\",BC26)),\"\")","v":""},{"$f":"IFERROR(IF($C25=\"TOTAL\",SUM($J$8:J24),IF(OR(C25=$AP$16,C25=$AP$17,C25=$AP$18,C25=$AP$19,C25=$AP$20,C25=$AP$21,C25=$AP$22,C25=$AP$23,C25=$AP$24),0,IF(BD26=\"\",\"\",BD26))),\"\")","v":""},"",{"$f":"IFERROR(IF(C25=\"\",\"\",IF(D25=\"\",\"\",IF(H25=\"\",\"\",IF($C25=\"TOTAL\",SUM($L$8:L24),SUM(D25-H25))))),\"\")","v":""},{"$f":"IFERROR(IF(C25=\"\",\"\",IF(E25=\"\",\"\",IF(I25=\"\",\"\",IF($C25=\"TOTAL\",SUM($M$8:M24),SUM(E25-I25))))),\"\")","v":""},{"$f":"IFERROR(IF(C25=\"\",\"\",IF(F25=\"\",\"\",IF(J25=\"\",\"\",IF($C25=\"TOTAL\",SUM($N$8:N24),SUM(F25-J25))))),\"\")","v":""},"",{"$f":"IFERROR(IF(C25=\"\",\"\",IF($C25=\"TOTAL\",SUM($P$8:P24),IF(AND(C25>$AO$1,$AF$3=$AO$2),BR26,IF($AR$18=$AR$20,SUM(BE26+BM26),ROUND((D25+E25)*10%,0))))),\"\")","v":""},{"$f":"IFERROR(IF(C25=\"\",\"\",IF(H25=\"\",\"\",IF(I25=\"\",\"\",IF($C25=\"TOTAL\",SUM($Q$8:Q24),IF(AND(C25>$AO$1,$AF$3=$AO$2),BR26,IF($AR$18=$AR$20,$AR$21,ROUND((H25+I25)*10%,0))))))),\"\")","v":""},"",{"$f":"IFERROR(IF(C25=\"\",\"\",IF($AR$16=$AR$17,0,IF($C25=\"TOTAL\",SUM($S$8:S24),IF($AR$19=$AR$31,0,IF(AND($AR$32=$AR$20,C25=$AR$33),$AR$34,S24))))),\"\")","v":""},{"$f":"IFERROR(IF(C25=\"\",\"\",IF($AR$16=$AR$17,0,IF($C25=\"TOTAL\",SUM($T$8:T24),IF($AR$19=$AR$20,$AR$24,0)))),\"\")","v":""},"",{"$f":"IF(C25=\"\",\"\",IF($C25=\"TOTAL\",SUM($V$8:V24),IF(AND($AR$2=$AR$20,C25=$AR$1),ROUND(D25/31*$AS$2,0),IF(C25=$AP$6,ROUND((G25)*1/30,0),IF(C25=$AQ$6,ROUND((G25)*1/31,0),\"\")))))","v":""},{"$f":"IF(C25=\"\",\"\",IF($C25=\"TOTAL\",SUM($W$8:W24),IF(AND($AR$2=$AR$20,C25=$AR$1),ROUND(H25/31*$AS$2,0),IF(C25=$AP$6,ROUND((K25)*1/30,0),IF(C25=$AQ$6,ROUND((K25)*1/31,0),\"\")))))","v":""},"",{"$f":"IFERROR(IF(C25=\"\",\"\",IF($AR$16=$AR$17,0,IF($AF$3=$AO$4,\"\",IF($C25=\"TOTAL\",SUM($Y$8:Y24),BU25)))),\"\")","v":""},{"$f":"IFERROR(IF(C25=\"\",\"\",IF($AR$16=$AR$17,0,IF($AF$3=$AO$4,\"\",IF($C25=\"TOTAL\",SUM($Z$8:Z24),BT25)))),\"\")","v":""},"",{"$f":"IFERROR(IF(C25=\"\",\"\",IF(AND(BK26=\"\",BR26=\"\"),\"\",IF($C25=\"TOTAL\",SUM($AB$8:AB24),BK26))),\"\")","v":""},{"$f":"IFERROR(IF(C25=\"\",\"\",IF($C25=\"TOTAL\",SUM($AC$8:AC24),ROUND(O25*$AR$7%,0))),\"\")","v":""},{"$f":"IFERROR(IF(C25=\"\",\"\",IF($C25=\"TOTAL\",SUM($AD$8:AD24),IF($AF$3=$AO$2,SUM(U25,X25,AB25,AC25),SUM(R25,U25,X25,AB25,AC25)))),\"\")","v":""},{"$f":"IFERROR(IF(C25=\"\",\"\",IF($C25=\"TOTAL\",SUM($AE$8:AE24),SUM(O25-AD25))),\"\")","v":""},{"$nulls":8},42,42,null,"2018-05-01",{"$f":"'Master Sheet'!M17","v":2100},"2024-05-01","","","","","","","",null,"","","","",null,null,"","","","",0,0,{"$nulls":4},"",null,"",{"$f":"IF(AW26=\"\",\"\",IF(AW26=\"TOTAL\",\"\",IF($AR$16=$AR$17,0,IF(AND(AW26>$BT$1,$AF$3=$AO$2,'Master Sheet'!$D$31>0),'Master Sheet'!$D$31,IF(AND(AW26=$BT$1,$AF$3=$AO$2),IF($AR$9<18001,135,IF($AR$9<33501,220,IF($AR$9<54001,330,440))),IF(AND(AW26>$BT$1,$AF$3=$AO$2),IF($AR$9<18001,265,IF($AR$9<33501,440,IF($AR$9<54001,658,875))),\"\"))))))","v":""}]
[{"$f":"IF(C26=\"TOTAL\",\"\",IF(B25=\"\",\"\",IF(LEN(C26)>=2,B25+1,0)))","v":""},"","",{"$f":"IFERROR(IF($C25=\"TOTAL\",\"अक्षरें राशि :-\",IF($C26=\"TOTAL\",SUM($D$8:D25),IF(AX27=\"\",\"\",AX27))),\"\")","v":""},{"$f":"IFERROR(IF($C26=\"TOTAL\",SUM($E$8:E25),IF(AY27=\"\",\"\",AY27)),\"\")","v":""},{"$f":"IFERROR(IF($C26=\"TOTAL\",SUM($F$8:F25),IF(OR(C26=$AP$16,C26=$AP$17,C26=$AP$18,C26=$AP$19,C26=$AP$20,C26=$AP$21,C26=$AP$22,C26=$AP$23,C26=$AP$24),0,IF(AZ27=\"\",\"\",AZ27))),\"\")","v":""},"",{"$f":"IFERROR(IF($C26=\"TOTAL\",SUM($H$8:H25),IF(BB27=\"\",\"\",BB27)),\"\")","v":""},{"$f":"IFERROR(IF($C26=\"TOTAL\",SUM($I$8:I25),IF(BC27=\"\",\"\",BC27)),\"\")","v":""},{"$f":"IFERROR(IF($C26=\"TOTAL\",SUM($J$8:J25),IF(OR(C26=$AP$16,C26=$AP$17,C26=$AP$18,C26=$AP$19,C26=$AP$20,C26=$AP$21,C26=$AP$22,C26=$AP$23,C26=$AP$24),0,IF(BD27=\"\",\"\",BD27))),\"\")","v":""},"",{"$f":"IFERROR(IF(C26=\"\",\"\",IF(D26=\"\",\"\",IF(H26=\"\",\"\",IF($C26=\"TOTAL\",SUM($L$8:L25),SUM(D26-H26))))),\"\")","v":""},{"$f":"IFERROR(IF(C26=\"\",\"\",IF(E26=\"\",\"\",IF(I26=\"\",\"\",IF($C26=\"TOTAL\",SUM($M$8:M25),SUM(E26-I26))))),\"\")","v":""},{"$f":"IFERROR(IF(C26=\"\",\"\",IF(F26=\"\",\"\",IF(J26=\"\",\"\",IF($C26=\"TOTAL\",SUM($N$8:N25),SUM(F26-J26))))),\"\")","v":""},"",{"$f":"IFERROR(IF(C26=\"\",\"\",IF($C26=\"TOTAL\",SUM($P$8:P25),IF(AND(C26>$AO$1,$AF$3=$AO$2),BR27,IF($AR$18=$AR$20,SUM(BE27+BM27),ROUND((D26+E26)*10%,0))))),\"\")","v":""},{"$f":"IFERROR(IF(C26=\"\",\"\",IF(H26=\"\",\"\",IF(I26=\"\",\"\",IF($C26=\"TOTAL\",SUM($Q$8:Q25),IF(AND(C26>$AO$1,$AF$3=$AO$2),BR27,IF($AR$18=$AR$20,$AR$21,ROUND((H26+I26)*10%,0))))))),\"\")","v":""},"",{"$f":"IFERROR(IF(C26=\"\",\"\",IF($AR$16=$AR$17,0,IF($C26=\"TOTAL\",SUM($S$8:S25),IF($AR$19=$AR$31,0,IF(AND($AR$32=$AR$20,C26=$AR$33),$AR$34,S25))))),\"\")","v":""},{"$f":"IFERROR(IF(C26=\"\",\"\",IF($AR$16=$AR$17,0,IF($C26=\"TOTAL\",SUM($T$8:T25),IF($AR$19=$AR$20,$AR$24,0)))),\"\")","v":""},"",{"$f":"IF(C26=\"\",\"\",IF($C26=\"TOTAL\",SUM($V$8:V25),IF(AND($AR$2=$AR$20,C26=$AR$1),ROUND(D26/31*$AS$2,0),IF(C26=$AP$6,ROUND((G26)*1/30,0),IF(C26=$AQ$6,ROUND((G26)*1/31,0),\"\")))))","v":""},{"$f":"IF(C26=\"\",\"\",IF($C26=\"TOTAL\",SUM($W$8:W25),IF(AND($AR$2=$AR$20,C26=$AR$1),ROUND(H26/31*$AS$2,0),IF(C26=$AP$6,ROUND((K26)*1/30,0),IF(C26=$AQ$6,ROUND((K26)*1/31,0),\"\")))))","v":""},"",{"$f":"IFERROR(IF(C26=\"\",\"\",IF($AR$16=$AR$17,0,IF($AF$3=$AO$4,\"\",IF($C26=\"TOTAL\",SUM($Y$8:Y25),BU26)))),\"\")","v":""},{"$f":"IFERROR(IF(C26=\"\",\"\",IF($AR$16=$AR$17,0,IF($AF$3=$AO$4,\"\",IF($C26=\"TOTAL\",SUM($Z$8:Z25),BT26)))),\"\")","v":""},"",{"$f":"IFERROR(IF(C26=\"\",\"\",IF(AND(BK27=\"\",BR27=\"\"),\"\",IF($C26=\"TOTAL\",SUM($AB$8:AB25),BK27))),\"\")","v":""},{"$f":"IFERROR(IF(C26=\"\",\"\",IF($C26=\"TOTAL\",SUM($AC$8:AC25),ROUND(O26*$AR$7%,0))),\"\")","v":""},{"$f":"IFERROR(IF(C26=\"\",\"\",IF($C26=\"TOTAL\",SUM($AD$8:AD25),IF($AF$3=$AO$2,SUM(U26,X26,AB26,AC26),SUM(R26,U26,X26,AB26,AC26)))),\"\")","v":""},{"$f":"IFERROR(IF(C26=\"\",\"\",IF($C26=\"TOTAL\",SUM($AE$8:AE25),SUM(O26-AD26))),\"\")","v":""},{"$nulls":8},42,42,null,"2018-06-01",{"$f":"'Master Sheet'!I15","v":"NO"},"2024-06-01","","","",{"$f":"IFERROR(IF(AV26=\"\",\"\",IF(DATE(YEAR(AV26),MONTH(AV26),DAY(AV26))=DATE(YEAR($AS$6),MONTH($AS$6)+1,DAY($AS$6)),\"TOTAL\",IF(AV26>$AS$6,\"\",AV26))),\"\")","v":""},"","","",null,"","","","",null,null,"","","","",0,0,{"$nulls":4},"",null,"",{"$f":"IF(AW27=\"\",\"\",IF(AW27=\"TOTAL\",\"\",IF($AR$16=$AR$17,0,IF(AND(AW27>$BT$1,$AF$3=$AO$2,'Master Sheet'!$D$31>0),'Master Sheet'!$D$31,IF(AND(AW27=$BT$1,$AF$3=$AO$2),IF($AR$9<18001,135,IF($AR$9<33501,220,IF($AR$9<54001,330,440))),IF(AND(AW27>$BT$1,$AF$3=$AO$2),IF($AR$9<18001,265,IF($AR$9<33501,440,IF($AR$9<54001,658,875))),\"\"))))))","v":""}]
["","","",{"$f":"IFERROR(IF($C26=\"TOTAL\",\"अक्षरें राशि :-\",IF($C27=\"TOTAL\",SUM($D$8:D26),IF(AX28=\"\",\"\",AX28))),\"\")","v":""},{"$f":"IFERROR(IF($C27=\"TOTAL\",SUM($E$8:E26),IF(AY28=\"\",\"\",AY28)),\"\")","v":""},{"$f":"IFERROR(IF($C27=\"TOTAL\",SUM($F$8:F26),IF(OR(C27=$AP$16,C27=$AP$17,C27=$AP$18,C27=$AP$19,C27=$AP$20,C27=$AP$21,C27=$AP$22,C27=$AP$23,C27=$AP$24),0,IF(AZ28=\"\",\"\",AZ28))),\"\")","v":""},"",{"$f":"IFERROR(IF($C27=\"TOTAL\",SUM($H$8:H26),IF(BB28=\"\",\"\",BB28)),\"\")","v":""},{"$f":"IFERROR(IF($C27=\"TOTAL\",SUM($I$8:I26),IF(BC28=\"\",\"\",BC28)),\"\")","v":""},{"$f":"IFERROR(IF($C27=\"TOTAL\",SUM($J$8:J26),IF(OR(C27=$AP$16,C27=$AP$17,C27=$AP$18,C27=$AP$19,C27=$AP$20,C27=$AP$21,C27=$AP$22,C27=$AP$23,C27=$AP$24),0,IF(BD28=\"\",\"\",BD28))),\"\")","v":""},"",{"$f":"IFERROR(IF(C27=\"\",\"\",IF(D27=\"\",\"\",IF(H27=\"\",\"\",IF($C27=\"TOTAL\",SUM($L$8:L26),SUM(D27-H27))))),\"\")","v":""},{"$f":"IFERROR(IF(C27=\"\",\"\",IF(E27=\"\",\"\",IF(I27=\"\",\"\",IF($C27=\"TOTAL\",SUM($M$8:M26),SUM(E27-I27))))),\"\")","v":""},{"$f":"IFERROR(IF(C27=\"\",\"\",IF(F27=\"\",\"\",IF(J27=\"\",\"\",IF($C27=\"TOTAL\",SUM($N$8:N26),SUM(F27-J27))))),\"\")","v":""},"",{"$f":"IFERROR(IF(C27=\"\",\"\",IF($C27=\"TOTAL\",SUM($P$8:P26),IF(AND(C27>$AO$1,$AF$3=$AO$2),BR28,IF($AR$18=$AR$20,SUM(BE28+BM28),ROUND((D27+E27)*10%,0))))),\"\")","v":""},{"$f":"IFERROR(IF(C27=\"\",\"\",IF(H27=\"\",\"\",IF(I27=\"\",\"\",IF($C27=\"TOTAL\",SUM($Q$8:Q26),IF(AND(C27>$AO$1,$AF$3=$AO$2),BR28,IF($AR$18=$AR$20,$AR$21,ROUND((H27+I27)*10%,0))))))),\"\")","v":""},"",{"$f":"IFERROR(IF(C27=\"\",\"\",IF($AR$16=$AR$17,0,IF($C27=\"TOTAL\",SUM($S$8:S26),IF($AR$19=$AR$31,0,IF(AND($AR$32=$AR$20,C27=$AR$33),$AR$34,S26))))),\"\")","v":""},{"$f":"IFERROR(IF(C27=\"\",\"\",IF($AR$16=$AR$17,0,IF($C27=\"TOTAL\",SUM($T$8:T26),IF($AR$19=$AR$20,$AR$24,0)))),\"\")","v":""},"",{"$f":"IF(C27=\"\",\"\",IF($C27=\"TOTAL\",SUM($V$8:V26),IF(AND($AR$2=$AR$20,C27=$AR$1),ROUND(D27/31*$AS$2,0),IF(C27=$AP$6,ROUND((G27)*1/30,0),IF(C27=$AQ$6,ROUND((G27)*1/31,0),\"\")))))","v":""},{"$f":"IF(C27=\"\",\"\",IF($C27=\"TOTAL\",SUM($W$8:W26),IF(AND($AR$2=$AR$20,C27=$AR$1),ROUND(H27/31*$AS$2,0),IF(C27=$AP$6,ROUND((K27)*1/30,0),IF(C27=$AQ$6,ROUND((K27)*1/31,0),\"\")))))","v":""},"",{"$f":"IFERROR(IF(C27=\"\",\"\",IF($AR$16=$AR$17,0,IF($AF$3=$AO$4,\"\",IF($C27=\"TOTAL\",SUM($Y$8:Y26),BU27)))),\"\")","v":""},{"$f":"IFERROR(IF(C27=\"\",\"\",IF($AR$16=$AR$17,0,IF($AF$3=$AO$4,\"\",IF($C27=\"TOTAL\",SUM($Z$8:Z26),BT27)))),\"\")","v":""},"",{"$f":"IFERROR(IF(C27=\"\",\"\",IF(AND(BK28=\"\",BR28=\"\"),\"\",IF($C27=\"TOTAL\",SUM($AB$8:AB26),BK28))),\"\")","v":""},{"$f":"IFERROR(IF(C27=\"\",\"\",IF($C27=\"TOTAL\",SUM($AC$8:AC26),ROUND(O27*$AR$7%,0))),\"\")","v":""},{"$f":"IFERROR(IF(C27=\"\",\"\",IF($C27=\"TOTAL\",SUM($AD$8:AD26),IF($AF$3=$AO$2,SUM(U27,X27,AB27,AC27),SUM(R27,U27,X27,AB27,AC27)))),\"\")","v":""},{"$f":"IFERROR(IF(C27=\"\",\"\",IF($C27=\"TOTAL\",SUM($AE$8:AE26),SUM(O27-AD27))),\"\")","v":""},{"$nulls":8},42,42,null,"2018-07-01",{"$f":"'Master Sheet'!M15","v":30500},"2024-07-01","","","","","","","",null,"","","","",null,null,"","","","",0,0,{"$nulls":4},"",null,"",{"$f":"IF(AW28=\"\",\"\",IF(AW28=\"TOTAL\",\"\",IF($AR$16=$AR$17,0,IF(AND(AW28>$BT$1,$AF$3=$AO$2,'Master Sheet'!$D$31>0),'Master Sheet'!$D$31,IF(AND(AW28=$BT$1,$AF$3=$AO$2),IF($AR$9<18001,135,IF($AR$9<33501,220,IF($AR$9<54001,330,440))),IF(AND(AW28>$BT$1,$AF$3=$AO$2),IF($AR$9<18001,265,IF($AR$9<33501,440,IF($AR$9<54001,658,875))),\"\"))))))","v":""}]
["","","",{"$f":"IFERROR(IF($C27=\"TOTAL\",\"अक्षरें राशि :-\",IF($C28=\"TOTAL\",SUM($D$8:D27),IF(AX29=\"\",\"\",AX29))),\"\")","v":""},{"$f":"IFERROR(IF($C28=\"TOTAL\",SUM($E$8:E27),IF(AY29=\"\",\"\",AY29)),\"\")","v":""},{"$f":"IFERROR(IF($C28=\"TOTAL\",SUM($F$8:F27),IF(OR(C28=$AP$16,C28=$AP$17,C28=$AP$18,C28=$AP$19,C28=$AP$20,C28=$AP$21,C28=$AP$22,C28=$AP$23,C28=$AP$24),0,IF(AZ29=\"\",\"\",AZ29))),\"\")","v":""},"",{"$f":"IFERROR(IF($C28=\"TOTAL\",SUM($H$8:H27),IF(BB29=\"\",\"\",BB29)),\"\")","v":""},{"$f":"IFERROR(IF($C28=\"TOTAL\",SUM($I$8:I27),IF(BC29=\"\",\"\",BC29)),\"\")","v":""},{"$f":"IFERROR(IF($C28=\"TOTAL\",SUM($J$8:J27),IF(OR(C28=$AP$16,C28=$AP$17,C28=$AP$18,C28=$AP$19,C28=$AP$20,C28=$AP$21,C28=$AP$22,C28=$AP$23,C28=$AP$24),0,IF(BD29=\"\",\"\",BD29))),\"\")","v":""},"",{"$f":"IFERROR(IF(C28=\"\",\"\",IF(D28=\"\",\"\",IF(H28=\"\",\"\",IF($C28=\"TOTAL\",SUM($L$8:L27),SUM(D28-H28))))),\"\")","v":""},{"$f":"IFERROR(IF(C28=\"\",\"\",IF(E28=\"\",\"\",IF(I28=\"\",\"\",IF($C28=\"TOTAL\",SUM($M$8:M27),SUM(E28-I28))))),\"\")","v":""},{"$f":"IFERROR(IF(C28=\"\",\"\",IF(F28=\"\",\"\",IF(J28=\"\",\"\",IF($C28=\"TOTAL\",SUM($N$8:N27),SUM(F28-J28))))),\"\")","v":""},"",{"$f":"IFERROR(IF(C28=\"\",\"\",IF($C28=\"TOTAL\",SUM($P$8:P27),IF(AND(C28>$AO$1,$AF$3=$AO$2),BR29,IF($AR$18=$AR$20,SUM(BE29+BM29),ROUND((D28+E28)*10%,0))))),\"\")","v":""},{"$f":"IFERROR(IF(C28=\"\",\"\",IF(H28=\"\",\"\",IF(I28=\"\",\"\",IF($C28=\"TOTAL\",SUM($Q$8:Q27),IF(AND(C28>$AO$1,$AF$3=$AO$2),BR29,IF($AR$18=$AR$20,$AR$21,ROUND((H28+I28)*10%,0))))))),\"\")","v":""},"",{"$f":"IFERROR(IF(C28=\"\",\"\",IF($AR$16=$AR$17,0,IF($C28=\"TOTAL\",SUM($S$8:S27),IF($AR$19=$AR$31,0,IF(AND($AR$32=$AR$20,C28=$AR$33),$AR$34,S27))))),\"\")","v":""},{"$f":"IFERROR(IF(C28=\"\",\"\",IF($AR$16=$AR$17,0,IF($C28=\"TOTAL\",SUM($T$8:T27),IF($AR$19=$AR$20,$AR$24,0)))),\"\")","v":""},"",{"$f":"IF(C28=\"\",\"\",IF($C28=\"TOTAL\",SUM($V$8:V27),IF(AND($AR$2=$AR$20,C28=$AR$1),ROUND(D28/31*$AS$2,0),IF(C28=$AP$6,ROUND((G28)*1/30,0),IF(C28=$AQ$6,ROUND((G28)*1/31,0),\"\")))))","v":""},{"$f":"IF(C28=\"\",\"\",IF($C28=\"TOTAL\",SUM($W$8:W27),IF(AND($AR$2=$AR$20,C28=$AR$1),ROUND(H28/31*$AS$2,0),IF(C28=$AP$6,ROUND((K28)*1/30,0),IF(C28=$AQ$6,ROUND((K28)*1/31,0),\"\")))))","v":""},"",{"$f":"IFERROR(IF(C28=\"\",\"\",IF($AR$16=$AR$17,0,IF($AF$3=$AO$4,\"\",IF($C28=\"TOTAL\",SUM($Y$8:Y27),BU28)))),\"\")","v":""},{"$f":"IFERROR(IF(C28=\"\",\"\",IF($AR$16=$AR$17,0,IF($AF$3=$AO$4,\"\",IF($C28=\"TOTAL\",SUM($Z$8:Z27),BT28)))),\"\")","v":""},"",{"$f":"IFERROR(IF(C28=\"\",\"\",IF(AND(BK29=\"\",BR29=\"\"),\"\",IF($C28=\"TOTAL\",SUM($AB$8:AB27),BK29))),\"\")","v":""},{"$f":"IFERROR(IF(C28=\"\",\"\",IF($C28=\"TOTAL\",SUM($AC$8:AC27),ROUND(O28*$AR$7%,0))),\"\")","v":""},{"$f":"IFERROR(IF(C28=\"\",\"\",IF($C28=\"TOTAL\",SUM($AD$8:AD27),IF($AF$3=$AO$2,SUM(U28,X28,AB28,AC28),SUM(R28,U28,X28,AB28,AC28)))),\"\")","v":""},{"$f":"IFERROR(IF(C28=\"\",\"\",IF($C28=\"TOTAL\",SUM($AE$8:AE27),SUM(O28-AD28))),\"\")","v":""},{"$nulls":8},42,42,null,"2018-08-01",{"$f":"'Master Sheet'!D25","v":"NO"},"2024-08-01","","","","","","","",null,"","","","",null,null,"","","","",0,0,{"$nulls":4},"",null,"",{"$f":"IF(AW29=\"\",\"\",IF(AW29=\"TOTAL\",\"\",IF($AR$16=$AR$17,0,IF(AND(AW29>$BT$1,$AF$3=$AO$2,'Master Sheet'!$D$31>0),'Master Sheet'!$D$31,IF(AND(AW29=$BT$1,$AF$3=$AO$2),IF($AR$9<18001,135,IF($AR$9<33501,220,IF($AR$9<54001,330,440))),IF(AND(AW29>$BT$1,$AF$3=$AO$2),IF($AR$9<18001,265,IF($AR$9<33501,440,IF($AR$9<54001,658,875))),\"\"))))))","v":""}]
["","","",{"$f":"IFERROR(IF($C28=\"TOTAL\",\"अक्षरें राशि :-\",IF($C29=\"TOTAL\",SUM($D$8:D28),IF(AX30=\"\",\"\",AX30))),\"\")","v":""},{"$f":"IFERROR(IF($C29=\"TOTAL\",SUM($E$8:E28),IF(AY30=\"\",\"\",AY30)),\"\")","v":""},{"$f":"IFERROR(IF($C29=\"TOTAL\",SUM($F$8:F28),IF(OR(C29=$AP$16,C29=$AP$17,C29=$AP$18,C29=$AP$19,C29=$AP$20,C29=$AP$21,C29=$AP$22,C29=$AP$23,C29=$AP$24),0,IF(AZ30=\"\",\"\",AZ30))),\"\")","v":""},"",{"$f":"IFERROR(IF($C29=\"TOTAL\",SUM($H$8:H28),IF(BB30=\"\",\"\",BB30)),\"\")","v":""},{"$f":"IFERROR(IF($C29=\"TOTAL\",SUM($I$8:I28),IF(BC30=\"\",\"\",BC30)),\"\")","v":""},{"$f":"IFERROR(IF($C29=\"TOTAL\",SUM($J$8:J28),IF(OR(C29=$AP$16,C29=$AP$17,C29=$AP$18,C29=$AP$19,C29=$AP$20,C29=$AP$21,C29=$AP$22,C29=$AP$23,C29=$AP$24),0,IF(BD30=\"\",\"\",BD30))),\"\")","v":""},"",{"$f":"IFERROR(IF(C29=\"\",\"\",IF(D29=\"\",\"\",IF(H29=\"\",\"\",IF($C29=\"TOTAL\",SUM($L$8:L28),SUM(D29-H29))))),\"\")","v":""},{"$f":"IFERROR(IF(C29=\"\",\"\",IF(E29=\"\",\"\",IF(I29=\"\",\"\",IF($C29=\"TOTAL\",SUM($M$8:M28),SUM(E29-I29))))),\"\")","v":""},{"$f":"IFERROR(IF(C29=\"\",\"\",IF(F29=\"\",\"\",IF(J29=\"\",\"\",IF($C29=\"TOTAL\",SUM($N$8:N28),SUM(F29-J29))))),\"\")","v":""},"",{"$f":"IFERROR(IF(C29=\"\",\"\",IF($C29=\"TOTAL\",SUM($P$8:P28),IF(AND(C29>$AO$1,$AF$3=$AO$2),BR30,IF($AR$18=$AR$20,SUM(BE30+BM30),ROUND((D29+E29)*10%,0))))),\"\")","v":""},{"$f":"IFERROR(IF(C29=\"\",\"\",IF(H29=\"\",\"\",IF(I29=\"\",\"\",IF($C29=\"TOTAL\",SUM($Q$8:Q28),IF(AND(C29>$AO$1,$AF$3=$AO$2),BR30,IF($AR$18=$AR$20,$AR$21,ROUND((H29+I29)*10%,0))))))),\"\")","v":""},"",{"$f":"IFERROR(IF(C29=\"\",\"\",IF($AR$16=$AR$17,0,IF($C29=\"TOTAL\",SUM($S$8:S28),IF($AR$19=$AR$31,0,IF(AND($AR$32=$AR$20,C29=$AR$33),$AR$34,S28))))),\"\")","v":""},{"$f":"IFERROR(IF(C29=\"\",\"\",IF($AR$16=$AR$17,0,IF($C29=\"TOTAL\",SUM($T$8:T28),IF($AR$19=$AR$20,$AR$24,0)))),\"\")","v":""},"",{"$f":"IF(C29=\"\",\"\",IF($C29=\"TOTAL\",SUM($V$8:V28),IF(AND($AR$2=$AR$20,C29=$AR$1),ROUND(D29/31*$AS$2,0),IF(C29=$AP$6,ROUND((G29)*1/30,0),IF(C29=$AQ$6,ROUND((G29)*1/31,0),\"\")))))","v":""},{"$f":"IF(C29=\"\",\"\",IF($C29=\"TOTAL\",SUM($W$8:W28),IF(AND($AR$2=$AR$20,C29=$AR$1),ROUND(H29/31*$AS$2,0),IF(C29=$AP$6,ROUND((K29)*1/30,0),IF(C29=$AQ$6,ROUND((K29)*1/31,0),\"\")))))","v":""},"",{"$f":"IFERROR(IF(C29=\"\",\"\",IF($AR$16=$AR$17,0,IF($AF$3=$AO$4,\"\",IF($C29=\"TOTAL\",SUM($Y$8:Y28),BU29)))),\"\")","v":""},{"$f":"IFERROR(IF(C29=\"\",\"\",IF($AR$16=$AR$17,0,IF($AF$3=$AO$4,\"\",IF($C29=\"TOTAL\",SUM($Z$8:Z28),BT29)))),\"\")","v":""},"",{"$f":"IFERROR(IF(C29=\"\",\"\",IF(AND(BK30=\"\",BR30=\"\"),\"\",IF($C29=\"TOTAL\",SUM($AB$8:AB28),BK30))),\"\")","v":""},{"$f":"IFERROR(IF(C29=\"\",\"\",IF($C29=\"TOTAL\",SUM($AC$8:AC28),ROUND(O29*$AR$7%,0))),\"\")","v":""},{"$f":"IFERROR(IF(C29=\"\",\"\",IF($C29=\"TOTAL\",SUM($AD$8:AD28),IF($AF$3=$AO$2,SUM(U29,X29,AB29,AC29),SUM(R29,U29,X29,AB29,AC29)))),\"\")","v":""},{"$f":"IFERROR(IF(C29=\"\",\"\",IF($C29=\"TOTAL\",SUM($AE$8:AE28),SUM(O29-AD29))),\"\")","v":""},{"$nulls":8},42,42,null,"2018-09-01",{"$f":"'Master Sheet'!M25","v":41100},"2024-09-01","","","","","","","",null,"","","","",null,null,"","","","",0,0,{"$nulls":4},"",null,"",{"$f":"IF(AW30=\"\",\"\",IF(AW30=\"TOTAL\",\"\",IF($AR$16=$AR$17,0,IF(AND(AW30>$BT$1,$AF$3=$AO$2,'Master Sheet'!$D$31>0),'Master Sheet'!$D$31,IF(AND(AW30=$BT$1,$AF$3=$AO$2),IF($AR$9<18001,135,IF($AR$9<33501,220,IF($AR$9<54001,330,440))),IF(AND(AW30>$BT$1,$AF$3=$AO$2),IF($AR$9<18001,265,IF($AR$9<33501,440,IF($AR$9<54001,658,875))),\"\"))))))","v":""}]
["","","",{"$f":"IFERROR(IF($C29=\"TOTAL\",\"अक्षरें राशि :-\",IF($C30=\"TOTAL\",SUM($D$8:D29),IF(AX31=\"\",\"\",AX31))),\"\")","v":""},{"$f":"IFERROR(IF($C30=\"TOTAL\",SUM($E$8:E29),IF(AY31=\"\",\"\",AY31)),\"\")","v":""},{"$f":"IFERROR(IF($C30=\"TOTAL\",SUM($F$8:F29),IF(OR(C30=$AP$16,C30=$AP$17,C30=$AP$18,C30=$AP$19,C30=$AP$20,C30=$AP$21,C30=$AP$22,C30=$AP$23,C30=$AP$24),0,IF(AZ31=\"\",\"\",AZ31))),\"\")","v":""},"",{"$f":"IFERROR(IF($C30=\"TOTAL\",SUM($H$8:H29),IF(BB31=\"\",\"\",BB31)),\"\")","v":""},{"$f":"IFERROR(IF($C30=\"TOTAL\",SUM($I$8:I29),IF(BC31=\"\",\"\",BC31)),\"\")","v":""},{"$f":"IFERROR(IF($C30=\"TOTAL\",SUM($J$8:J29),IF(OR(C30=$AP$16,C30=$AP$17,C30=$AP$18,C30=$AP$19,C30=$AP$20,C30=$AP$21,C30=$AP$22,C30=$AP$23,C30=$AP$24),0,IF(BD31=\"\",\"\",BD31))),\"\")","v":""},"",{"$f":"IFERROR(IF(C30=\"\",\"\",IF(D30=\"\",\"\",IF(H30=\"\",\"\",IF($C30=\"TOTAL\",SUM($L$8:L29),SUM(D30-H30))))),\"\")","v":""},{"$f":"IFERROR(IF(C30=\"\",\"\",IF(E30=\"\",\"\",IF(I30=\"\",\"\",IF($C30=\"TOTAL\",SUM($M$8:M29),SUM(E30-I30))))),\"\")","v":""},{"$f":"IFERROR(IF(C30=\"\",\"\",IF(F30=\"\",\"\",IF(J30=\"\",\"\",IF($C30=\"TOTAL\",SUM($N$8:N29),SUM(F30-J30))))),\"\")","v":""},"",{"$f":"IFERROR(IF(C30=\"\",\"\",IF($C30=\"TOTAL\",SUM($P$8:P29),IF(AND(C30>$AO$1,$AF$3=$AO$2),BR31,IF($AR$18=$AR$20,SUM(BE31+BM31),ROUND((D30+E30)*10%,0))))),\"\")","v":""},{"$f":"IFERROR(IF(C30=\"\",\"\",IF(H30=\"\",\"\",IF(I30=\"\",\"\",IF($C30=\"TOTAL\",SUM($Q$8:Q29),IF(AND(C30>$AO$1,$AF$3=$AO$2),BR31,IF($AR$18=$AR$20,$AR$21,ROUND((H30+I30)*10%,0))))))),\"\")","v":""},"",{"$f":"IFERROR(IF(C30=\"\",\"\",IF($AR$16=$AR$17,0,IF($C30=\"TOTAL\",SUM($S$8:S29),IF($AR$19=$AR$31,0,IF(AND($AR$32=$AR$20,C30=$AR$33),$AR$34,S29))))),\"\")","v":""},{"$f":"IFERROR(IF(C30=\"\",\"\",IF($AR$16=$AR$17,0,IF($C30=\"TOTAL\",SUM($T$8:T29),IF($AR$19=$AR$20,$AR$24,0)))),\"\")","v":""},"",{"$f":"IF(C30=\"\",\"\",IF($C30=\"TOTAL\",SUM($V$8:V29),IF(AND($AR$2=$AR$20,C30=$AR$1),ROUND(D30/31*$AS$2,0),IF(C30=$AP$6,ROUND((G30)*1/30,0),IF(C30=$AQ$6,ROUND((G30)*1/31,0),\"\")))))","v":""},{"$f":"IF(C30=\"\",\"\",IF($C30=\"TOTAL\",SUM($W$8:W29),IF(AND($AR$2=$AR$20,C30=$AR$1),ROUND(H30/31*$AS$2,0),IF(C30=$AP$6,ROUND((K30)*1/30,0),IF(C30=$AQ$6,ROUND((K30)*1/31,0),\"\")))))","v":""},"",{"$f":"IFERROR(IF(C30=\"\",\"\",IF($AR$16=$AR$17,0,IF($AF$3=$AO$4,\"\",IF($C30=\"TOTAL\",SUM($Y$8:Y29),BU30)))),\"\")","v":""},{"$f":"IFERROR(IF(C30=\"\",\"\",IF($AR$16=$AR$17,0,IF($AF$3=$AO$4,\"\",IF($C30=\"TOTAL\",SUM($Z$8:Z29),BT30)))),\"\")","v":""},"",{"$f":"IFERROR(IF(C30=\"\",\"\",IF(AND(BK31=\"\",BR31=\"\"),\"\",IF($C30=\"TOTAL\",SUM($AB$8:AB29),BK31))),\"\")","v":""},{"$f":"IFERROR(IF(C30=\"\",\"\",IF($C30=\"TOTAL\",SUM($AC$8:AC29),ROUND(O30*$AR$7%,0))),\"\")","v":""},{"$f":"IFERROR(IF(C30=\"\",\"\",IF($C30=\"TOTAL\",SUM($AD$8:AD29),IF($AF$3=$AO$2,SUM(U30,X30,AB30,AC30),SUM(R30,U30,X30,AB30,AC30)))),\"\")","v":""},{"$f":"IFERROR(IF(C30=\"\",\"\",IF($C30=\"TOTAL\",SUM($AE$8:AE29),SUM(O30-AD30))),\"\")","v":""},{"$nulls":8},42,42,null,"2018-10-01",{"$f":"'Master Sheet'!I25","v":"2021-04-01"},"2024-10-01","","","","","","","",null,"","","","",null,null,"","","","",0,0,{"$nulls":4},"",null,"",{"$f":"IF(AW31=\"\",\"\",IF(AW31=\"TOTAL\",\"\",IF($AR$16=$AR$17,0,IF(AND(AW31>$BT$1,$AF$3=$AO$2,'Master Sheet'!$D$31>0),'Master Sheet'!$D$31,IF(AND(AW31=$BT$1,$AF$3=$AO$2),IF($AR$9<18001,135,IF($AR$9<33501,220,IF($AR$9<54001,330,440))),IF(AND(AW31>$BT$1,$AF$3=$AO$2),IF($AR$9<18001,265,IF($AR$9<33501,440,IF($AR$9<54001,658,875))),\"\"))))))","v":""}]
["","","",{"$f":"IFERROR(IF($C30=\"TOTAL\",\"अक्षरें राशि :-\",IF($C31=\"TOTAL\",SUM($D$8:D30),IF(AX32=\"\",\"\",AX32))),\"\")","v":""},{"$f":"IFERROR(IF($C31=\"TOTAL\",SUM($E$8:E30),IF(AY32=\"\",\"\",AY32)),\"\")","v":""},{"$f":"IFERROR(IF($C31=\"TOTAL\",SUM($F$8:F30),IF(OR(C31=$AP$16,C31=$AP$17,C31=$AP$18,C31=$AP$19,C31=$AP$20,C31=$AP$21,C31=$AP$22,C31=$AP$23,C31=$AP$24),0,IF(AZ32=\"\",\"\",AZ32))),\"\")","v":""},"",{"$f":"IFERROR(IF($C31=\"TOTAL\",SUM($H$8:H30),IF(BB32=\"\",\"\",BB32)),\"\")","v":""},{"$f":"IFERROR(IF($C31=\"TOTAL\",SUM($I$8:I30),IF(BC32=\"\",\"\",BC32)),\"\")","v":""},{"$f":"IFERROR(IF($C31=\"TOTAL\",SUM($J$8:J30),IF(OR(C31=$AP$16,C31=$AP$17,C31=$AP$18,C31=$AP$19,C31=$AP$20,C31=$AP$21,C31=$AP$22,C31=$AP$23,C31=$AP$24),0,IF(BD32=\"\",\"\",BD32))),\"\")","v":""},"",{"$f":"IFERROR(IF(C31=\"\",\"\",IF(D31=\"\",\"\",IF(H31=\"\",\"\",IF($C31=\"TOTAL\",SUM($L$8:L30),SUM(D31-H31))))),\"\")","v":""},{"$f":"IFERROR(IF(C31=\"\",\"\",IF(E31=\"\",\"\",IF(I31=\"\",\"\",IF($C31=\"TOTAL\",SUM($M$8:M30),SUM(E31-I31))))),\"\")","v":""},{"$f":"IFERROR(IF(C31=\"\",\"\",IF(F31=\"\",\"\",IF(J31=\"\",\"\",IF($C31=\"TOTAL\",SUM($N$8:N30),SUM(F31-J31))))),\"\")","v":""},"",{"$f":"IFERROR(IF(C31=\"\",\"\",IF($C31=\"TOTAL\",SUM($P$8:P30),IF(AND(C31>$AO$1,$AF$3=$AO$2),BR32,IF($AR$18=$AR$20,SUM(BE32+BM32),ROUND((D31+E31)*10%,0))))),\"\")","v":""},{"$f":"IFERROR(IF(C31=\"\",\"\",IF(H31=\"\",\"\",IF(I31=\"\",\"\",IF($C31=\"TOTAL\",SUM($Q$8:Q30),IF(AND(C31>$AO$1,$AF$3=$AO$2),BR32,IF($AR$18=$AR$20,$AR$21,ROUND((H31+I31)*10%,0))))))),\"\")","v":""},"",{"$f":"IFERROR(IF(C31=\"\",\"\",IF($AR$16=$AR$17,0,IF($C31=\"TOTAL\",SUM($S$8:S30),IF($AR$19=$AR$31,0,IF(AND($AR$32=$AR$20,C31=$AR$33),$AR$34,S30))))),\"\")","v":""},{"$f":"IFERROR(IF(C31=\"\",\"\",IF($AR$16=$AR$17,0,IF($C31=\"TOTAL\",SUM($T$8:T30),IF($AR$19=$AR$20,$AR$24,0)))),\"\")","v":""},"",{"$f":"IF(C31=\"\",\"\",IF($C31=\"TOTAL\",SUM($V$8:V30),IF(AND($AR$2=$AR$20,C31=$AR$1),ROUND(D31/31*$AS$2,0),IF(C31=$AP$6,ROUND((G31)*1/30,0),IF(C31=$AQ$6,ROUND((G31)*1/31,0),\"\")))))","v":""},{"$f":"IF(C31=\"\",\"\",IF($C31=\"TOTAL\",SUM($W$8:W30),IF(AND($AR$2=$AR$20,C31=$AR$1),ROUND(H31/31*$AS$2,0),IF(C31=$AP$6,ROUND((K31)*1/30,0),IF(C31=$AQ$6,ROUND((K31)*1/31,0),\"\")))))","v":""},"",{"$f":"IFERROR(IF(C31=\"\",\"\",IF($AR$16=$AR$17,0,IF($AF$3=$AO$4,\"\",IF($C31=\"TOTAL\",SUM($Y$8:Y30),BU31)))),\"\")","v":""},{"$f":"IFERROR(IF(C31=\"\",\"\",IF($AR$16=$AR$17,0,IF($AF$3=$AO$4,\"\",IF($C31=\"TOTAL\",SUM($Z$8:Z30),BT31)))),\"\")","v":""},"",{"$f":"IFERROR(IF(C31=\"\",\"\",IF(AND(BK32=\"\",BR32=\"\"),\"\",IF($C31=\"TOTAL\",SUM($AB$8:AB30),BK32))),\"\")","v":""},{"$f":"IFERROR(IF(C31=\"\",\"\",IF($C31=\"TOTAL\",SUM($AC$8:AC30),ROUND(O31*$AR$7%,0))),\"\")","v":""},{"$f":"IFERROR(IF(C31=\"\",\"\",IF($C31=\"TOTAL\",SUM($AD$8:AD30),IF($AF$3=$AO$2,SUM(U31,X31,AB31,AC31),SUM(R31,U31,X31,AB31,AC31)))),\"\")","v":""},{"$f":"IFERROR(IF(C31=\"\",\"\",IF($C31=\"TOTAL\",SUM($AE$8:AE30),SUM(O31-AD31))),\"\")","v":""},{"$nulls":8},42,42,null,"2018-11-01","NO","2024-11-01","","","","","","","",null,"","","","",null,null,"","","","",0,0,{"$nulls":4},"",null,"",{"$f":"IF(AW32=\"\",\"\",IF(AW32=\"TOTAL\",\"\",IF($AR$16=$AR$17,0,IF(AND(AW32>$BT$1,$AF$3=$AO$2,'Master Sheet'!$D$31>0),'Master Sheet'!$D$31,IF(AND(AW32=$BT$1,$AF$3=$AO$2),IF($AR$9<18001,135,IF($AR$9<33501,220,IF($AR$9<54001,330,440))),IF(AND(AW32>$BT$1,$AF$3=$AO$2),IF($AR$9<18001,265,IF($AR$9<33501,440,IF($AR$9<54001,658,875))),\"\"))))))","v":""}]
["","","",{"$f":"IFERROR(IF($C31=\"TOTAL\",\"अक्षरें राशि :-\",IF($C32=\"TOTAL\",SUM($D$8:D31),IF(AX33=\"\",\"\",AX33))),\"\")","v":""},{"$f":"IFERROR(IF($C32=\"TOTAL\",SUM($E$8:E31),IF(AY33=\"\",\"\",AY33)),\"\")","v":""},{"$f":"IFERROR(IF($C32=\"TOTAL\",SUM($F$8:F31),IF(OR(C32=$AP$16,C32=$AP$17,C32=$AP$18,C32=$AP$19,C32=$AP$20,C32=$AP$21,C32=$AP$22,C32=$AP$23,C32=$AP$24),0,IF(AZ33=\"\",\"\",AZ33))),\"\")","v":""},"",{"$f":"IFERROR(IF($C32=\"TOTAL\",SUM($H$8:H31),IF(BB33=\"\",\"\",BB33)),\"\")","v":""},{"$f":"IFERROR(IF($C32=\"TOTAL\",SUM($I$8:I31),IF(BC33=\"\",\"\",BC33)),\"\")","v":""},{"$f":"IFERROR(IF($C32=\"TOTAL\",SUM($J$8:J31),IF(OR(C32=$AP$16,C32=$AP$17,C32=$AP$18,C32=$AP$19,C32=$AP$20,C32=$AP$21,C32=$AP$22,C32=$AP$23,C32=$AP$24),0,IF(BD33=\"\",\"\",BD33))),\"\")","v":""},"",{"$f":"IFERROR(IF(C32=\"\",\"\",IF(D32=\"\",\"\",IF(H32=\"\",\"\",IF($C32=\"TOTAL\",SUM($L$8:L31),SUM(D32-H32))))),\"\")","v":""},{"$f":"IFERROR(IF(C32=\"\",\"\",IF(E32=\"\",\"\",IF(I32=\"\",\"\",IF($C32=\"TOTAL\",SUM($M$8:M31),SUM(E32-I32))))),\"\")","v":""},{"$f":"IFERROR(IF(C32=\"\",\"\",IF(F32=\"\",\"\",IF(J32=\"\",\"\",IF($C32=\"TOTAL\",SUM($N$8:N31),SUM(F32-J32))))),\"\")","v":""},"",{"$f":"IFERROR(IF(C32=\"\",\"\",IF($C32=\"TOTAL\",SUM($P$8:P31),IF(AND(C32>$AO$1,$AF$3=$AO$2),BR33,IF($AR$18=$AR$20,SUM(BE33+BM33),ROUND((D32+E32)*10%,0))))),\"\")","v":""},{"$f":"IFERROR(IF(C32=\"\",\"\",IF(H32=\"\",\"\",IF(I32=\"\",\"\",IF($C32=\"TOTAL\",SUM($Q$8:Q31),IF(AND(C32>$AO$1,$AF$3=$AO$2),BR33,IF($AR$18=$AR$20,$AR$21,ROUND((H32+I32)*10%,0))))))),\"\")","v":""},"",{"$f":"IFERROR(IF(C32=\"\",\"\",IF($AR$16=$AR$17,0,IF($C32=\"TOTAL\",SUM($S$8:S31),IF($AR$19=$AR$31,0,IF(AND($AR$32=$AR$20,C32=$AR$33),$AR$34,S31))))),\"\")","v":""},{"$f":"IFERROR(IF(C32=\"\",\"\",IF($AR$16=$AR$17,0,IF($C32=\"TOTAL\",SUM($T$8:T31),IF($AR$19=$AR$20,$AR$24,0)))),\"\")","v":""},"",{"$f":"IF(C32=\"\",\"\",IF($C32=\"TOTAL\",SUM($V$8:V31),IF(AND($AR$2=$AR$20,C32=$AR$1),ROUND(D32/31*$AS$2,0),IF(C32=$AP$6,ROUND((G32)*1/30,0),IF(C32=$AQ$6,ROUND((G32)*1/31,0),\"\")))))","v":""},{"$f":"IF(C32=\"\",\"\",IF($C32=\"TOTAL\",SUM($W$8:W31),IF(AND($AR$2=$AR$20,C32=$AR$1),ROUND(H32/31*$AS$2,0),IF(C32=$AP$6,ROUND((K32)*1/30,0),IF(C32=$AQ$6,ROUND((K32)*1/31,0),\"\")))))","v":""},"",{"$f":"IFERROR(IF(C32=\"\",\"\",IF($AR$16=$AR$17,0,IF($AF$3=$AO$4,\"\",IF($C32=\"TOTAL\",SUM($Y$8:Y31),BU32)))),\"\")","v":""},{"$f":"IFERROR(IF(C32=\"\",\"\",IF($AR$16=$AR$17,0,IF($AF$3=$AO$4,\"\",IF($C32=\"TOTAL\",SUM($Z$8:Z31),BT32)))),\"\")","v":""},"",{"$f":"IFERROR(IF(C32=\"\",\"\",IF(AND(BK33=\"\",BR33=\"\"),\"\",IF($C32=\"TOTAL\",SUM($AB$8:AB31),BK33))),\"\")","v":""},{"$f":"IFERROR(IF(C32=\"\",\"\",IF($C32=\"TOTAL\",SUM($AC$8:AC31),ROUND(O32*$AR$7%,0))),\"\")","v":""},{"$f":"IFERROR(IF(C32=\"\",\"\",IF($C32=\"TOTAL\",SUM($AD$8:AD31),IF($AF$3=$AO$2,SUM(U32,X32,AB32,AC32),SUM(R32,U32,X32,AB32,AC32)))),\"\")","v":""},{"$f":"IFERROR(IF(C32=\"\",\"\",IF($C32=\"TOTAL\",SUM($AE$8:AE31),SUM(O32-AD32))),\"\")","v":""},{"$nulls":8},42,42,null,"2018-12-01",{"$f":"'Master Sheet'!D19","v":"NO"},"2024-12-01","","","","","","","",null,"","","","",null,null,"","","","",0,0,{"$nulls":4},"",null,"",{"$f":"IF(AW33=\"\",\"\",IF(AW33=\"TOTAL\",\"\",IF($AR$16=$AR$17,0,IF(AND(AW33>$BT$1,$AF$3=$AO$2,'Master Sheet'!$D$31>0),'Master Sheet'!$D$31,IF(AND(AW33=$BT$1,$AF$3=$AO$2),IF($AR$9<18001,135,IF($AR$9<33501,220,IF($AR$9<54001,330,440))),IF(AND(AW33>$BT$1,$AF$3=$AO$2),IF($AR$9<18001,265,IF($AR$9<33501,440,IF($AR$9<54001,658,875))),\"\"))))))","v":""}]
["","","",{"$f":"IFERROR(IF($C32=\"TOTAL\",\"अक्षरें राशि :-\",IF($C33=\"TOTAL\",SUM($D$8:D32),IF(AX34=\"\",\"\",AX34))),\"\")","v":""},{"$f":"IFERROR(IF($C33=\"TOTAL\",SUM($E$8:E32),IF(AY34=\"\",\"\",AY34)),\"\")","v":""},{"$f":"IFERROR(IF($C33=\"TOTAL\",SUM($F$8:F32),IF(OR(C33=$AP$16,C33=$AP$17,C33=$AP$18,C33=$AP$19,C33=$AP$20,C33=$AP$21,C33=$AP$22,C33=$AP$23,C33=$AP$24),0,IF(AZ34=\"\",\"\",AZ34))),\"\")","v":""},"",{"$f":"IFERROR(IF($C33=\"TOTAL\",SUM($H$8:H32),IF(BB34=\"\",\"\",BB34)),\"\")","v":""},{"$f":"IFERROR(IF($C33=\"TOTAL\",SUM($I$8:I32),IF(BC34=\"\",\"\",BC34)),\"\")","v":""},{"$f":"IFERROR(IF($C33=\"TOTAL\",SUM($J$8:J32),IF(OR(C33=$AP$16,C33=$AP$17,C33=$AP$18,C33=$AP$19,C33=$AP$20,C33=$AP$21,C33=$AP$22,C33=$AP$23,C33=$AP$24),0,IF(BD34=\"\",\"\",BD34))),\"\")","v":""},"",{"$f":"IFERROR(IF(C33=\"\",\"\",IF(D33=\"\",\"\",IF(H33=\"\",\"\",IF($C33=\"TOTAL\",SUM($L$8:L32),SUM(D33-H33))))),\"\")","v":""},{"$f":"IFERROR(IF(C33=\"\",\"\",IF(E33=\"\",\"\",IF(I33=\"\",\"\",IF($C33=\"TOTAL\",SUM($M$8:M32),SUM(E33-I33))))),\"\")","v":""},{"$f":"IFERROR(IF(C33=\"\",\"\",IF(F33=\"\",\"\",IF(J33=\"\",\"\",IF($C33=\"TOTAL\",SUM($N$8:N32),SUM(F33-J33))))),\"\")","v":""},"",{"$f":"IFERROR(IF(C33=\"\",\"\",IF($C33=\"TOTAL\",SUM($P$8:P32),IF(AND(C33>$AO$1,$AF$3=$AO$2),BR34,IF($AR$18=$AR$20,SUM(BE34+BM34),ROUND((D33+E33)*10%,0))))),\"\")","v":""},{"$f":"IFERROR(IF(C33=\"\",\"\",IF(H33=\"\",\"\",IF(I33=\"\",\"\",IF($C33=\"TOTAL\",SUM($Q$8:Q32),IF(AND(C33>$AO$1,$AF$3=$AO$2),BR34,IF($AR$18=$AR$20,$AR$21,ROUND((H33+I33)*10%,0))))))),\"\")","v":""},"",{"$f":"IFERROR(IF(C33=\"\",\"\",IF($AR$16=$AR$17,0,IF($C33=\"TOTAL\",SUM($S$8:S32),IF($AR$19=$AR$31,0,IF(AND($AR$32=$AR$20,C33=$AR$33),$AR$34,S32))))),\"\")","v":""},{"$f":"IFERROR(IF(C33=\"\",\"\",IF($AR$16=$AR$17,0,IF($C33=\"TOTAL\",SUM($T$8:T32),IF($AR$19=$AR$20,$AR$24,0)))),\"\")","v":""},"",{"$f":"IF(C33=\"\",\"\",IF($C33=\"TOTAL\",SUM($V$8:V32),IF(AND($AR$2=$AR$20,C33=$AR$1),ROUND(D33/31*$AS$2,0),IF(C33=$AP$6,ROUND((G33)*1/30,0),IF(C33=$AQ$6,ROUND((G33)*1/31,0),\"\")))))","v":""},{"$f":"IF(C33=\"\",\"\",IF($C33=\"TOTAL\",SUM($W$8:W32),IF(AND($AR$2=$AR$20,C33=$AR$1),ROUND(H33/31*$AS$2,0),IF(C33=$AP$6,ROUND((K33)*1/30,0),IF(C33=$AQ$6,ROUND((K33)*1/31,0),\"\")))))","v":""},"",{"$f":"IFERROR(IF(C33=\"\",\"\",IF($AR$16=$AR$17,0,IF($AF$3=$AO$4,\"\",IF($C33=\"TOTAL\",SUM($Y$8:Y32),BU33)))),\"\")","v":""},{"$f":"IFERROR(IF(C33=\"\",\"\",IF($AR$16=$AR$17,0,IF($AF$3=$AO$4,\"\",IF($C33=\"TOTAL\",SUM($Z$8:Z32),BT33)))),\"\")","v":""},"",{"$f":"IFERROR(IF(C33=\"\",\"\",IF(AND(BK34=\"\",BR34=\"\"),\"\",IF($C33=\"TOTAL\",SUM($AB$8:AB32),BK34))),\"\")","v":""},{"$f":"IFERROR(IF(C33=\"\",\"\",IF($C33=\"TOTAL\",SUM($AC$8:AC32),ROUND(O33*$AR$7%,0))),\"\")","v":""},{"$f":"IFERROR(IF(C33=\"\",\"\",IF($C33=\"TOTAL\",SUM($AD$8:AD32),IF($AF$3=$AO$2,SUM(U33,X33,AB33,AC33),SUM(R33,U33,X33,AB33,AC33)))),\"\")","v":""},{"$f":"IFERROR(IF(C33=\"\",\"\",IF($C33=\"TOTAL\",SUM($AE$8:AE32),SUM(O33-AD33))),\"\")","v":""},{"$nulls":8},42,42,null,"2019-01-01",{"$f":"'Master Sheet'!I19","v":43525},"2025-01-01","","","","","","","",null,"","","","",null,null,"","","","",0,0,{"$nulls":4},"",null,"",{"$f":"IF(AW34=\"\",\"\",IF(AW34=\"TOTAL\",\"\",IF($AR$16=$AR$17,0,IF(AND(AW34>$BT$1,$AF$3=$AO$2,'Master Sheet'!$D$31>0),'Master Sheet'!$D$31,IF(AND(AW34=$BT$1,$AF$3=$AO$2),IF($AR$9<18001,135,IF($AR$9<33501,220,IF($AR$9<54001,330,440))),IF(AND(AW34>$BT$1,$AF$3=$AO$2),IF($AR$9<18001,265,IF($AR$9<33501,440,IF($AR$9<54001,658,875))),\"\"))))))","v":""}]
["","","",{"$f":"IFERROR(IF($C33=\"TOTAL\",\"अक्षरें राशि :-\",IF($C34=\"TOTAL\",SUM($D$8:D33),IF(AX35=\"\",\"\",AX35))),\"\")","v":""},{"$f":"IFERROR(IF($C34=\"TOTAL\",SUM($E$8:E33),IF(AY35=\"\",\"\",AY35)),\"\")","v":""},{"$f":"IFERROR(IF($C34=\"TOTAL\",SUM($F$8:F33),IF(OR(C34=$AP$16,C34=$AP$17,C34=$AP$18,C34=$AP$19,C34=$AP$20,C34=$AP$21,C34=$AP$22,C34=$AP$23,C34=$AP$24),0,IF(AZ35=\"\",\"\",AZ35))),\"\")","v":""},"",{"$f":"IFERROR(IF($C34=\"TOTAL\",SUM($H$8:H33),IF(BB35=\"\",\"\",BB35)),\"\")","v":""},{"$f":"IFERROR(IF($C34=\"TOTAL\",SUM($I$8:I33),IF(BC35=\"\",\"\",BC35)),\"\")","v":""},{"$f":"IFERROR(IF($C34=\"TOTAL\",SUM($J$8:J33),IF(OR(C34=$AP$16,C34=$AP$17,C34=$AP$18,C34=$AP$19,C34=$AP$20,C34=$AP$21,C34=$AP$22,C34=$AP$23,C34=$AP$24),0,IF(BD35=\"\",\"\",BD35))),\"\")","v":""},"",{"$f":"IFERROR(IF(C34=\"\",\"\",IF(D34=\"\",\"\",IF(H34=\"\",\"\",IF($C34=\"TOTAL\",SUM($L$8:L33),SUM(D34-H34))))),\"\")","v":""},{"$f":"IFERROR(IF(C34=\"\",\"\",IF(E34=\"\",\"\",IF(I34=\"\",\"\",IF($C34=\"TOTAL\",SUM($M$8:M33),SUM(E34-I34))))),\"\")","v":""},{"$f":"IFERROR(IF(C34=\"\",\"\",IF(F34=\"\",\"\",IF(J34=\"\",\"\",IF($C34=\"TOTAL\",SUM($N$8:N33),SUM(F34-J34))))),\"\")","v":""},"",{"$f":"IFERROR(IF(C34=\"\",\"\",IF($C34=\"TOTAL\",SUM($P$8:P33),IF(AND(C34>$AO$1,$AF$3=$AO$2),BR35,IF($AR$18=$AR$20,SUM(BE35+BM35),ROUND((D34+E34)*10%,0))))),\"\")","v":""},{"$f":"IFERROR(IF(C34=\"\",\"\",IF(H34=\"\",\"\",IF(I34=\"\",\"\",IF($C34=\"TOTAL\",SUM($Q$8:Q33),IF(AND(C34>$AO$1,$AF$3=$AO$2),BR35,IF($AR$18=$AR$20,$AR$21,ROUND((H34+I34)*10%,0))))))),\"\")","v":""},"",{"$f":"IFERROR(IF(C34=\"\",\"\",IF($AR$16=$AR$17,0,IF($C34=\"TOTAL\",SUM($S$8:S33),IF($AR$19=$AR$31,0,IF(AND($AR$32=$AR$20,C34=$AR$33),$AR$34,S33))))),\"\")","v":""},{"$f":"IFERROR(IF(C34=\"\",\"\",IF($AR$16=$AR$17,0,IF($C34=\"TOTAL\",SUM($T$8:T33),IF($AR$19=$AR$20,$AR$24,0)))),\"\")","v":""},"",{"$f":"IF(C34=\"\",\"\",IF($C34=\"TOTAL\",SUM($V$8:V33),IF(AND($AR$2=$AR$20,C34=$AR$1),ROUND(D34/31*$AS$2,0),IF(C34=$AP$6,ROUND((G34)*1/30,0),IF(C34=$AQ$6,ROUND((G34)*1/31,0),\"\")))))","v":""},{"$f":"IF(C34=\"\",\"\",IF($C34=\"TOTAL\",SUM($W$8:W33),IF(AND($AR$2=$AR$20,C34=$AR$1),ROUND(H34/31*$AS$2,0),IF(C34=$AP$6,ROUND((K34)*1/30,0),IF(C34=$AQ$6,ROUND((K34)*1/31,0),\"\")))))","v":""},"",{"$f":"IFERROR(IF(C34=\"\",\"\",IF($AR$16=$AR$17,0,IF($AF$3=$AO$4,\"\",IF($C34=\"TOTAL\",SUM($Y$8:Y33),BU34)))),\"\")","v":""},{"$f":"IFERROR(IF(C34=\"\",\"\",IF($AR$16=$AR$17,0,IF($AF$3=$AO$4,\"\",IF($C34=\"TOTAL\",SUM($Z$8:Z33),BT34)))),\"\")","v":""},"",{"$f":"IFERROR(IF(C34=\"\",\"\",IF(AND(BK35=\"\",BR35=\"\"),\"\",IF($C34=\"TOTAL\",SUM($AB$8:AB33),BK35))),\"\")","v":""},{"$f":"IFERROR(IF(C34=\"\",\"\",IF($C34=\"TOTAL\",SUM($AC$8:AC33),ROUND(O34*$AR$7%,0))),\"\")","v":""},{"$f":"IFERROR(IF(C34=\"\",\"\",IF($C34=\"TOTAL\",SUM($AD$8:AD33),IF($AF$3=$AO$2,SUM(U34,X34,AB34,AC34),SUM(R34,U34,X34,AB34,AC34)))),\"\")","v":""},{"$f":"IFERROR(IF(C34=\"\",\"\",IF($C34=\"TOTAL\",SUM($AE$8:AE33),SUM(O34-AD34))),\"\")","v":""},{"$nulls":8},42,42,null,"2019-02-01",{"$f":"'Master Sheet'!M19","v":3000},"2025-02-01","","","","","","","",null,"","","","",null,null,"","","","",0,0,{"$nulls":4},"",null,"",{"$f":"IF(AW35=\"\",\"\",IF(AW35=\"TOTAL\",\"\",IF($AR$16=$AR$17,0,IF(AND(AW35>$BT$1,$AF$3=$AO$2,'Master Sheet'!$D$31>0),'Master Sheet'!$D$31,IF(AND(AW35=$BT$1,$AF$3=$AO$2),IF($AR$9<18001,135,IF($AR$9<33501,220,IF($AR$9<54001,330,440))),IF(AND(AW35>$BT$1,$AF$3=$AO$2),IF($AR$9<18001,265,IF($AR$9<33501,440,IF($AR$9<54001,658,875))),\"\"))))))","v":""}]
["","","",{"$f":"IFERROR(IF($C34=\"TOTAL\",\"अक्षरें राशि :-\",IF($C35=\"TOTAL\",SUM($D$8:D34),IF(AX36=\"\",\"\",AX36))),\"\")","v":""},{"$f":"IFERROR(IF($C35=\"TOTAL\",SUM($E$8:E34),IF(AY36=\"\",\"\",AY36)),\"\")","v":""},{"$f":"IFERROR(IF($C35=\"TOTAL\",SUM($F$8:F34),IF(OR(C35=$AP$16,C35=$AP$17,C35=$AP$18,C35=$AP$19,C35=$AP$20,C35=$AP$21,C35=$AP$22,C35=$AP$23,C35=$AP$24),0,IF(AZ36=\"\",\"\",AZ36))),\"\")","v":""},"",{"$f":"IFERROR(IF($C35=\"TOTAL\",SUM($H$8:H34),IF(BB36=\"\",\"\",BB36)),\"\")","v":""},{"$f":"IFERROR(IF($C35=\"TOTAL\",SUM($I$8:I34),IF(BC36=\"\",\"\",BC36)),\"\")","v":""},{"$f":"IFERROR(IF($C35=\"TOTAL\",SUM($J$8:J34),IF(OR(C35=$AP$16,C35=$AP$17,C35=$AP$18,C35=$AP$19,C35=$AP$20,C35=$AP$21,C35=$AP$22,C35=$AP$23,C35=$AP$24),0,IF(BD36=\"\",\"\",BD36))),\"\")","v":""},"",{"$f":"IFERROR(IF(C35=\"\",\"\",IF(D35=\"\",\"\",IF(H35=\"\",\"\",IF($C35=\"TOTAL\",SUM($L$8:L34),SUM(D35-H35))))),\"\")","v":""},{"$f":"IFERROR(IF(C35=\"\",\"\",IF(E35=\"\",\"\",IF(I35=\"\",\"\",IF($C35=\"TOTAL\",SUM($M$8:M34),SUM(E35-I35))))),\"\")","v":""},{"$f":"IFERROR(IF(C35=\"\",\"\",IF(F35=\"\",\"\",IF(J35=\"\",\"\",IF($C35=\"TOTAL\",SUM($N$8:N34),SUM(F35-J35))))),\"\")","v":""},"",{"$f":"IFERROR(IF(C35=\"\",\"\",IF($C35=\"TOTAL\",SUM($P$8:P34),IF(AND(C35>$AO$1,$AF$3=$AO$2),BR36,IF($AR$18=$AR$20,SUM(BE36+BM36),ROUND((D35+E35)*10%,0))))),\"\")","v":""},{"$f":"IFERROR(IF(C35=\"\",\"\",IF(H35=\"\",\"\",IF(I35=\"\",\"\",IF($C35=\"TOTAL\",SUM($Q$8:Q34),IF(AND(C35>$AO$1,$AF$3=$AO$2),BR36,IF($AR$18=$AR$20,$AR$21,ROUND((H35+I35)*10%,0))))))),\"\")","v":""},"",{"$f":"IFERROR(IF(C35=\"\",\"\",IF($AR$16=$AR$17,0,IF($C35=\"TOTAL\",SUM($S$8:S34),IF($AR$19=$AR$31,0,IF(AND($AR$32=$AR$20,C35=$AR$33),$AR$34,S34))))),\"\")","v":""},{"$f":"IFERROR(IF(C35=\"\",\"\",IF($AR$16=$AR$17,0,IF($C35=\"TOTAL\",SUM($T$8:T34),IF($AR$19=$AR$20,$AR$24,0)))),\"\")","v":""},"",{"$f":"IF(C35=\"\",\"\",IF($C35=\"TOTAL\",SUM($V$8:V34),IF(AND($AR$2=$AR$20,C35=$AR$1),ROUND(D35/31*$AS$2,0),IF(C35=$AP$6,ROUND((G35)*1/30,0),IF(C35=$AQ$6,ROUND((G35)*1/31,0),\"\")))))","v":""},{"$f":"IF(C35=\"\",\"\",IF($C35=\"TOTAL\",SUM($W$8:W34),IF(AND($AR$2=$AR$20,C35=$AR$1),ROUND(H35/31*$AS$2,0),IF(C35=$AP$6,ROUND((K35)*1/30,0),IF(C35=$AQ$6,ROUND((K35)*1/31,0),\"\")))))","v":""},"",{"$f":"IFERROR(IF(C35=\"\",\"\",IF($AR$16=$AR$17,0,IF($AF$3=$AO$4,\"\",IF($C35=\"TOTAL\",SUM($Y$8:Y34),BU35)))),\"\")","v":""},{"$f":"IFERROR(IF(C35=\"\",\"\",IF($AR$16=$AR$17,0,IF($AF$3=$AO$4,\"\",IF($C35=\"TOTAL\",SUM($Z$8:Z34),BT35)))),\"\")","v":""},"",{"$f":"IFERROR(IF(C35=\"\",\"\",IF(AND(BK36=\"\",BR36=\"\"),\"\",IF($C35=\"TOTAL\",SUM($AB$8:AB34),BK36))),\"\")","v":""},{"$f":"IFERROR(IF(C35=\"\",\"\",IF($C35=\"TOTAL\",SUM($AC$8:AC34),ROUND(O35*$AR$7%,0))),\"\")","v":""},{"$f":"IFERROR(IF(C35=\"\",\"\",IF($C35=\"TOTAL\",SUM($AD$8:AD34),IF($AF$3=$AO$2,SUM(U35,X35,AB35,AC35),SUM(R35,U35,X35,AB35,AC35)))),\"\")","v":""},{"$f":"IFERROR(IF(C35=\"\",\"\",IF($C35=\"TOTAL\",SUM($AE$8:AE34),SUM(O35-AD35))),\"\")","v":""},{"$nulls":8},42,42,null,"2019-03-01",null,"2025-03-01","","","","","","","",null,"","","","",null,null,"","","","",0,0,{"$nulls":4},"",null,"",{"$f":"IF(AW36=\"\",\"\",IF(AW36=\"TOTAL\",\"\",IF($AR$16=$AR$17,0,IF(AND(AW36>$BT$1,$AF$3=$AO$2,'Master Sheet'!$D$31>0),'Master Sheet'!$D$31,IF(AND(AW36=$BT$1,$AF$3=$AO$2),IF($AR$9<18001,135,IF($AR$9<33501,220,IF($AR$9<54001,330,440))),IF(AND(AW36>$BT$1,$AF$3=$AO$2),IF($AR$9<18001,265,IF($AR$9<33501,440,IF($AR$9<54001,658,875))),\"\"))))))","v":""}]
["","","",{"$f":"IFERROR(IF($C35=\"TOTAL\",\"अक्षरें राशि :-\",IF($C36=\"TOTAL\",SUM($D$8:D35),IF(AX37=\"\",\"\",AX37))),\"\")","v":""},{"$f":"IFERROR(IF($C36=\"TOTAL\",SUM($E$8:E35),IF(AY37=\"\",\"\",AY37)),\"\")","v":""},{"$f":"IFERROR(IF($C36=\"TOTAL\",SUM($F$8:F35),IF(OR(C36=$AP$16,C36=$AP$17,C36=$AP$18,C36=$AP$19,C36=$AP$20,C36=$AP$21,C36=$AP$22,C36=$AP$23,C36=$AP$24),0,IF(AZ37=\"\",\"\",AZ37))),\"\")","v":""},"",{"$f":"IFERROR(IF($C36=\"TOTAL\",SUM($H$8:H35),IF(BB37=\"\",\"\",BB37)),\"\")","v":""},{"$f":"IFERROR(IF($C36=\"TOTAL\",SUM($I$8:I35),IF(BC37=\"\",\"\",BC37)),\"\")","v":""},{"$f":"IFERROR(IF($C36=\"TOTAL\",SUM($J$8:J35),IF(OR(C36=$AP$16,C36=$AP$17,C36=$AP$18,C36=$AP$19,C36=$AP$20,C36=$AP$21,C36=$AP$22,C36=$AP$23,C36=$AP$24),0,IF(BD37=\"\",\"\",BD37))),\"\")","v":""},"",{"$f":"IFERROR(IF(C36=\"\",\"\",IF(D36=\"\",\"\",IF(H36=\"\",\"\",IF($C36=\"TOTAL\",SUM($L$8:L35),SUM(D36-H36))))),\"\")","v":""},{"$f":"IFERROR(IF(C36=\"\",\"\",IF(E36=\"\",\"\",IF(I36=\"\",\"\",IF($C36=\"TOTAL\",SUM($M$8:M35),SUM(E36-I36))))),\"\")","v":""},{"$f":"IFERROR(IF(C36=\"\",\"\",IF(F36=\"\",\"\",IF(J36=\"\",\"\",IF($C36=\"TOTAL\",SUM($N$8:N35),SUM(F36-J36))))),\"\")","v":""},"",{"$f":"IFERROR(IF(C36=\"\",\"\",IF($C36=\"TOTAL\",SUM($P$8:P35),IF(AND(C36>$AO$1,$AF$3=$AO$2),BR37,IF($AR$18=$AR$20,SUM(BE37+BM37),ROUND((D36+E36)*10%,0))))),\"\")","v":""},{"$f":"IFERROR(IF(C36=\"\",\"\",IF(H36=\"\",\"\",IF(I36=\"\",\"\",IF($C36=\"TOTAL\",SUM($Q$8:Q35),IF(AND(C36>$AO$1,$AF$3=$AO$2),BR37,IF($AR$18=$AR$20,$AR$21,ROUND((H36+I36)*10%,0))))))),\"\")","v":""},"",{"$f":"IFERROR(IF(C36=\"\",\"\",IF($AR$16=$AR$17,0,IF($C36=\"TOTAL\",SUM($S$8:S35),IF($AR$19=$AR$31,0,IF(AND($AR$32=$AR$20,C36=$AR$33),$AR$34,S35))))),\"\")","v":""},{"$f":"IFERROR(IF(C36=\"\",\"\",IF($AR$16=$AR$17,0,IF($C36=\"TOTAL\",SUM($T$8:T35),IF($AR$19=$AR$20,$AR$24,0)))),\"\")","v":""},"",{"$f":"IF(C36=\"\",\"\",IF($C36=\"TOTAL\",SUM($V$8:V35),IF(AND($AR$2=$AR$20,C36=$AR$1),ROUND(D36/31*$AS$2,0),IF(C36=$AP$6,ROUND((G36)*1/30,0),IF(C36=$AQ$6,ROUND((G36)*1/31,0),\"\")))))","v":""},{"$f":"IF(C36=\"\",\"\",IF($C36=\"TOTAL\",SUM($W$8:W35),IF(AND($AR$2=$AR$20,C36=$AR$1),ROUND(H36/31*$AS$2,0),IF(C36=$AP$6,ROUND((K36)*1/30,0),IF(C36=$AQ$6,ROUND((K36)*1/31,0),\"\")))))","v":""},"",{"$f":"IFERROR(IF(C36=\"\",\"\",IF($AR$16=$AR$17,0,IF($AF$3=$AO$4,\"\",IF($C36=\"TOTAL\",SUM($Y$8:Y35),BU36)))),\"\")","v":""},{"$f":"IFERROR(IF(C36=\"\",\"\",IF($AR$16=$AR$17,0,IF($AF$3=$AO$4,\"\",IF($C36=\"TOTAL\",SUM($Z$8:Z35),BT36)))),\"\")","v":""},"",{"$f":"IFERROR(IF(C36=\"\",\"\",IF(AND(BK37=\"\",BR37=\"\"),\"\",IF($C36=\"TOTAL\",SUM($AB$8:AB35),BK37))),\"\")","v":""},{"$f":"IFERROR(IF(C36=\"\",\"\",IF($C36=\"TOTAL\",SUM($AC$8:AC35),ROUND(O36*$AR$7%,0))),\"\")","v":""},{"$f":"IFERROR(IF(C36=\"\",\"\",IF($C36=\"TOTAL\",SUM($AD$8:AD35),IF($AF$3=$AO$2,SUM(U36,X36,AB36,AC36),SUM(R36,U36,X36,AB36,AC36)))),\"\")","v":""},{"$f":"IFERROR(IF(C36=\"\",\"\",IF($C36=\"TOTAL\",SUM($AE$8:AE35),SUM(O36-AD36))),\"\")","v":""},{"$nulls":8},42,42,null,"2019-04-01",{"$f":"'Master Sheet'!D23","v":"NO"},"2025-04-01","","","","","","","",null,"","","","",null,null,"","","","",0,0,{"$nulls":4},"",null,"",{"$f":"IF(AW37=\"\",\"\",IF(AW37=\"TOTAL\",\"\",IF($AR$16=$AR$17,0,IF(AND(AW37>$BT$1,$AF$3=$AO$2,'Master Sheet'!$D$31>0),'Master Sheet'!$D$31,IF(AND(AW37=$BT$1,$AF$3=$AO$2),IF($AR$9<18001,135,IF($AR$9<33501,220,IF($AR$9<54001,330,440))),IF(AND(AW37>$BT$1,$AF$3=$AO$2),IF($AR$9<18001,265,IF($AR$9<33501,440,IF($AR$9<54001,658,875))),\"\"))))))","v":""}]
["","","",{"$f":"IFERROR(IF($C36=\"TOTAL\",\"अक्षरें राशि :-\",IF($C37=\"TOTAL\",SUM($D$8:D36),IF(AX38=\"\",\"\",AX38))),\"\")","v":""},{"$f":"IFERROR(IF($C37=\"TOTAL\",SUM($E$8:E36),IF(AY38=\"\",\"\",AY38)),\"\")","v":""},{"$f":"IFERROR(IF($C37=\"TOTAL\",SUM($F$8:F36),IF(OR(C37=$AP$16,C37=$AP$17,C37=$AP$18,C37=$AP$19,C37=$AP$20,C37=$AP$21,C37=$AP$22,C37=$AP$23,C37=$AP$24),0,IF(AZ38=\"\",\"\",AZ38))),\"\")","v":""},"",{"$f":"IFERROR(IF($C37=\"TOTAL\",SUM($H$8:H36),IF(BB38=\"\",\"\",BB38)),\"\")","v":""},{"$f":"IFERROR(IF($C37=\"TOTAL\",SUM($I$8:I36),IF(BC38=\"\",\"\",BC38)),\"\")","v":""},{"$f":"IFERROR(IF($C37=\"TOTAL\",SUM($J$8:J36),IF(OR(C37=$AP$16,C37=$AP$17,C37=$AP$18,C37=$AP$19,C37=$AP$20,C37=$AP$21,C37=$AP$22,C37=$AP$23,C37=$AP$24),0,IF(BD38=\"\",\"\",BD38))),\"\")","v":""},"",{"$f":"IFERROR(IF(C37=\"\",\"\",IF(D37=\"\",\"\",IF(H37=\"\",\"\",IF($C37=\"TOTAL\",SUM($L$8:L36),SUM(D37-H37))))),\"\")","v":""},{"$f":"IFERROR(IF(C37=\"\",\"\",IF(E37=\"\",\"\",IF(I37=\"\",\"\",IF($C37=\"TOTAL\",SUM($M$8:M36),SUM(E37-I37))))),\"\")","v":""},{"$f":"IFERROR(IF(C37=\"\",\"\",IF(F37=\"\",\"\",IF(J37=\"\",\"\",IF($C37=\"TOTAL\",SUM($N$8:N36),SUM(F37-J37))))),\"\")","v":""},"",{"$f":"IFERROR(IF(C37=\"\",\"\",IF($C37=\"TOTAL\",SUM($P$8:P36),IF(AND(C37>$AO$1,$AF$3=$AO$2),BR38,IF($AR$18=$AR$20,SUM(BE38+BM38),ROUND((D37+E37)*10%,0))))),\"\")","v":""},{"$f":"IFERROR(IF(C37=\"\",\"\",IF(H37=\"\",\"\",IF(I37=\"\",\"\",IF($C37=\"TOTAL\",SUM($Q$8:Q36),IF(AND(C37>$AO$1,$AF$3=$AO$2),BR38,IF($AR$18=$AR$20,$AR$21,ROUND((H37+I37)*10%,0))))))),\"\")","v":""},"",{"$f":"IFERROR(IF(C37=\"\",\"\",IF($AR$16=$AR$17,0,IF($C37=\"TOTAL\",SUM($S$8:S36),IF($AR$19=$AR$31,0,IF(AND($AR$32=$AR$20,C37=$AR$33),$AR$34,S36))))),\"\")","v":""},{"$f":"IFERROR(IF(C37=\"\",\"\",IF($AR$16=$AR$17,0,IF($C37=\"TOTAL\",SUM($T$8:T36),IF($AR$19=$AR$20,$AR$24,0)))),\"\")","v":""},"",{"$f":"IF(C37=\"\",\"\",IF($C37=\"TOTAL\",SUM($V$8:V36),IF(AND($AR$2=$AR$20,C37=$AR$1),ROUND(D37/31*$AS$2,0),IF(C37=$AP$6,ROUND((G37)*1/30,0),IF(C37=$AQ$6,ROUND((G37)*1/31,0),\"\")))))","v":""},{"$f":"IF(C37=\"\",\"\",IF($C37=\"TOTAL\",SUM($W$8:W36),IF(AND($AR$2=$AR$20,C37=$AR$1),ROUND(H37/31*$AS$2,0),IF(C37=$AP$6,ROUND((K37)*1/30,0),IF(C37=$AQ$6,ROUND((K37)*1/31,0),\"\")))))","v":""},"",{"$f":"IFERROR(IF(C37=\"\",\"\",IF($AR$16=$AR$17,0,IF($AF$3=$AO$4,\"\",IF($C37=\"TOTAL\",SUM($Y$8:Y36),BU37)))),\"\")","v":""},{"$f":"IFERROR(IF(C37=\"\",\"\",IF($AR$16=$AR$17,0,IF($AF$3=$AO$4,\"\",IF($C37=\"TOTAL\",SUM($Z$8:Z36),BT37)))),\"\")","v":""},"",{"$f":"IFERROR(IF(C37=\"\",\"\",IF(AND(BK38=\"\",BR38=\"\"),\"\",IF($C37=\"TOTAL\",SUM($AB$8:AB36),BK38))),\"\")","v":""},{"$f":"IFERROR(IF(C37=\"\",\"\",IF($C37=\"TOTAL\",SUM($AC$8:AC36),ROUND(O37*$AR$7%,0))),\"\")","v":""},{"$f":"IFERROR(IF(C37=\"\",\"\",IF($C37=\"TOTAL\",SUM($AD$8:AD36),IF($AF$3=$AO$2,SUM(U37,X37,AB37,AC37),SUM(R37,U37,X37,AB37,AC37)))),\"\")","v":""},{"$f":"IFERROR(IF(C37=\"\",\"\",IF($C37=\"TOTAL\",SUM($AE$8:AE36),SUM(O37-AD37))),\"\")","v":""},{"$nulls":8},42,42,null,"2019-05-01",{"$f":"'Master Sheet'!I23","v":44287},"2025-05-01","","","","","","","",null,"","","","",null,null,"","","","",0,0,{"$nulls":4},"",null,"",{"$f":"IF(AW38=\"\",\"\",IF(AW38=\"TOTAL\",\"\",IF($AR$16=$AR$17,0,IF(AND(AW38>$BT$1,$AF$3=$AO$2,'Master Sheet'!$D$31>0),'Master Sheet'!$D$31,IF(AND(AW38=$BT$1,$AF$3=$AO$2),IF($AR$9<18001,135,IF($AR$9<33501,220,IF($AR$9<54001,330,440))),IF(AND(AW38>$BT$1,$AF$3=$AO$2),IF($AR$9<18001,265,IF($AR$9<33501,440,IF($AR$9<54001,658,875))),\"\"))))))","v":""}]
["","","",{"$f":"IFERROR(IF($C37=\"TOTAL\",\"अक्षरें राशि :-\",IF($C38=\"TOTAL\",SUM($D$8:D37),IF(AX39=\"\",\"\",AX39))),\"\")","v":""},{"$f":"IFERROR(IF($C38=\"TOTAL\",SUM($E$8:E37),IF(AY39=\"\",\"\",AY39)),\"\")","v":""},{"$f":"IFERROR(IF($C38=\"TOTAL\",SUM($F$8:F37),IF(OR(C38=$AP$16,C38=$AP$17,C38=$AP$18,C38=$AP$19,C38=$AP$20,C38=$AP$21,C38=$AP$22,C38=$AP$23,C38=$AP$24),0,IF(AZ39=\"\",\"\",AZ39))),\"\")","v":""},"",{"$f":"IFERROR(IF($C38=\"TOTAL\",SUM($H$8:H37),IF(BB39=\"\",\"\",BB39)),\"\")","v":""},{"$f":"IFERROR(IF($C38=\"TOTAL\",SUM($I$8:I37),IF(BC39=\"\",\"\",BC39)),\"\")","v":""},{"$f":"IFERROR(IF($C38=\"TOTAL\",SUM($J$8:J37),IF(OR(C38=$AP$16,C38=$AP$17,C38=$AP$18,C38=$AP$19,C38=$AP$20,C38=$AP$21,C38=$AP$22,C38=$AP$23,C38=$AP$24),0,IF(BD39=\"\",\"\",BD39))),\"\")","v":""},"",{"$f":"IFERROR(IF(C38=\"\",\"\",IF(D38=\"\",\"\",IF(H38=\"\",\"\",IF($C38=\"TOTAL\",SUM($L$8:L37),SUM(D38-H38))))),\"\")","v":""},{"$f":"IFERROR(IF(C38=\"\",\"\",IF(E38=\"\",\"\",IF(I38=\"\",\"\",IF($C38=\"TOTAL\",SUM($M$8:M37),SUM(E38-I38))))),\"\")","v":""},{"$f":"IFERROR(IF(C38=\"\",\"\",IF(F38=\"\",\"\",IF(J38=\"\",\"\",IF($C38=\"TOTAL\",SUM($N$8:N37),SUM(F38-J38))))),\"\")","v":""},"",{"$f":"IFERROR(IF(C38=\"\",\"\",IF($C38=\"TOTAL\",SUM($P$8:P37),IF(AND(C38>$AO$1,$AF$3=$AO$2),BR39,IF($AR$18=$AR$20,SUM(BE39+BM39),ROUND((D38+E38)*10%,0))))),\"\")","v":""},{"$f":"IFERROR(IF(C38=\"\",\"\",IF(H38=\"\",\"\",IF(I38=\"\",\"\",IF($C38=\"TOTAL\",SUM($Q$8:Q37),IF(AND(C38>$AO$1,$AF$3=$AO$2),BR39,IF($AR$18=$AR$20,$AR$21,ROUND((H38+I38)*10%,0))))))),\"\")","v":""},"",{"$f":"IFERROR(IF(C38=\"\",\"\",IF($AR$16=$AR$17,0,IF($C38=\"TOTAL\",SUM($S$8:S37),IF($AR$19=$AR$31,0,IF(AND($AR$32=$AR$20,C38=$AR$33),$AR$34,S37))))),\"\")","v":""},{"$f":"IFERROR(IF(C38=\"\",\"\",IF($AR$16=$AR$17,0,IF($C38=\"TOTAL\",SUM($T$8:T37),IF($AR$19=$AR$20,$AR$24,0)))),\"\")","v":""},"",{"$f":"IF(C38=\"\",\"\",IF($C38=\"TOTAL\",SUM($V$8:V37),IF(AND($AR$2=$AR$20,C38=$AR$1),ROUND(D38/31*$AS$2,0),IF(C38=$AP$6,ROUND((G38)*1/30,0),IF(C38=$AQ$6,ROUND((G38)*1/31,0),\"\")))))","v":""},{"$f":"IF(C38=\"\",\"\",IF($C38=\"TOTAL\",SUM($W$8:W37),IF(AND($AR$2=$AR$20,C38=$AR$1),ROUND(H38/31*$AS$2,0),IF(C38=$AP$6,ROUND((K38)*1/30,0),IF(C38=$AQ$6,ROUND((K38)*1/31,0),\"\")))))","v":""},"",{"$f":"IFERROR(IF(C38=\"\",\"\",IF($AR$16=$AR$17,0,IF($AF$3=$AO$4,\"\",IF($C38=\"TOTAL\",SUM($Y$8:Y37),BU38)))),\"\")","v":""},{"$f":"IFERROR(IF(C38=\"\",\"\",IF($AR$16=$AR$17,0,IF($AF$3=$AO$4,\"\",IF($C38=\"TOTAL\",SUM($Z$8:Z37),BT38)))),\"\")","v":""},"",{"$f":"IFERROR(IF(C38=\"\",\"\",IF(AND(BK39=\"\",BR39=\"\"),\"\",IF($C38=\"TOTAL\",SUM($AB$8:AB37),BK39))),\"\")","v":""},{"$f":"IFERROR(IF(C38=\"\",\"\",IF($C38=\"TOTAL\",SUM($AC$8:AC37),ROUND(O38*$AR$7%,0))),\"\")","v":""},{"$f":"IFERROR(IF(C38=\"\",\"\",IF($C38=\"TOTAL\",SUM($AD$8:AD37),IF($AF$3=$AO$2,SUM(U38,X38,AB38,AC38),SUM(R38,U38,X38,AB38,AC38)))),\"\")","v":""},{"$f":"IFERROR(IF(C38=\"\",\"\",IF($C38=\"TOTAL\",SUM($AE$8:AE37),SUM(O38-AD38))),\"\")","v":""},{"$nulls":8},42,42,null,"2019-06-01",{"$f":"'Master Sheet'!M23","v":5000},"2025-06-01","","","","","","","",null,"","","","",null,null,"","","","",0,0,{"$nulls":4},"",null,"",{"$f":"IF(AW39=\"\",\"\",IF(AW39=\"TOTAL\",\"\",IF($AR$16=$AR$17,0,IF(AND(AW39>$BT$1,$AF$3=$AO$2,'Master Sheet'!$D$31>0),'Master Sheet'!$D$31,IF(AND(AW39=$BT$1,$AF$3=$AO$2),IF($AR$9<18001,135,IF($AR$9<33501,220,IF($AR$9<54001,330,440))),IF(AND(AW39>$BT$1,$AF$3=$AO$2),IF($AR$9<18001,265,IF($AR$9<33501,440,IF($AR$9<54001,658,875))),\"\"))))))","v":""}]
["","","",{"$f":"IFERROR(IF($C38=\"TOTAL\",\"अक्षरें राशि :-\",IF($C39=\"TOTAL\",SUM($D$8:D38),IF(AX40=\"\",\"\",AX40))),\"\")","v":""},{"$f":"IFERROR(IF($C39=\"TOTAL\",SUM($E$8:E38),IF(AY40=\"\",\"\",AY40)),\"\")","v":""},{"$f":"IFERROR(IF($C39=\"TOTAL\",SUM($F$8:F38),IF(OR(C39=$AP$16,C39=$AP$17,C39=$AP$18,C39=$AP$19,C39=$AP$20,C39=$AP$21,C39=$AP$22,C39=$AP$23,C39=$AP$24),0,IF(AZ40=\"\",\"\",AZ40))),\"\")","v":""},"",{"$f":"IFERROR(IF($C39=\"TOTAL\",SUM($H$8:H38),IF(BB40=\"\",\"\",BB40)),\"\")","v":""},{"$f":"IFERROR(IF($C39=\"TOTAL\",SUM($I$8:I38),IF(BC40=\"\",\"\",BC40)),\"\")","v":""},{"$f":"IFERROR(IF($C39=\"TOTAL\",SUM($J$8:J38),IF(OR(C39=$AP$16,C39=$AP$17,C39=$AP$18,C39=$AP$19,C39=$AP$20,C39=$AP$21,C39=$AP$22,C39=$AP$23,C39=$AP$24),0,IF(BD40=\"\",\"\",BD40))),\"\")","v":""},"",{"$f":"IFERROR(IF(C39=\"\",\"\",IF(D39=\"\",\"\",IF(H39=\"\",\"\",IF($C39=\"TOTAL\",SUM($L$8:L38),SUM(D39-H39))))),\"\")","v":""},{"$f":"IFERROR(IF(C39=\"\",\"\",IF(E39=\"\",\"\",IF(I39=\"\",\"\",IF($C39=\"TOTAL\",SUM($M$8:M38),SUM(E39-I39))))),\"\")","v":""},{"$f":"IFERROR(IF(C39=\"\",\"\",IF(F39=\"\",\"\",IF(J39=\"\",\"\",IF($C39=\"TOTAL\",SUM($N$8:N38),SUM(F39-J39))))),\"\")","v":""},"",{"$f":"IFERROR(IF(C39=\"\",\"\",IF($C39=\"TOTAL\",SUM($P$8:P38),IF(AND(C39>$AO$1,$AF$3=$AO$2),BR40,IF($AR$18=$AR$20,SUM(BE40+BM40),ROUND((D39+E39)*10%,0))))),\"\")","v":""},{"$f":"IFERROR(IF(C39=\"\",\"\",IF(H39=\"\",\"\",IF(I39=\"\",\"\",IF($C39=\"TOTAL\",SUM($Q$8:Q38),IF(AND(C39>$AO$1,$AF$3=$AO$2),BR40,IF($AR$18=$AR$20,$AR$21,ROUND((H39+I39)*10%,0))))))),\"\")","v":""},"",{"$f":"IFERROR(IF(C39=\"\",\"\",IF($AR$16=$AR$17,0,IF($C39=\"TOTAL\",SUM($S$8:S38),IF($AR$19=$AR$31,0,IF(AND($AR$32=$AR$20,C39=$AR$33),$AR$34,S38))))),\"\")","v":""},{"$f":"IFERROR(IF(C39=\"\",\"\",IF($AR$16=$AR$17,0,IF($C39=\"TOTAL\",SUM($T$8:T38),IF($AR$19=$AR$20,$AR$24,0)))),\"\")","v":""},"",{"$f":"IF(C39=\"\",\"\",IF($C39=\"TOTAL\",SUM($V$8:V38),IF(AND($AR$2=$AR$20,C39=$AR$1),ROUND(D39/31*$AS$2,0),IF(C39=$AP$6,ROUND((G39)*1/30,0),IF(C39=$AQ$6,ROUND((G39)*1/31,0),\"\")))))","v":""},{"$f":"IF(C39=\"\",\"\",IF($C39=\"TOTAL\",SUM($W$8:W38),IF(AND($AR$2=$AR$20,C39=$AR$1),ROUND(H39/31*$AS$2,0),IF(C39=$AP$6,ROUND((K39)*1/30,0),IF(C39=$AQ$6,ROUND((K39)*1/31,0),\"\")))))","v":""},"",{"$f":"IFERROR(IF(C39=\"\",\"\",IF($AR$16=$AR$17,0,IF($AF$3=$AO$4,\"\",IF($C39=\"TOTAL\",SUM($Y$8:Y38),BU39)))),\"\")","v":""},{"$f":"IFERROR(IF(C39=\"\",\"\",IF($AR$16=$AR$17,0,IF($AF$3=$AO$4,\"\",IF($C39=\"TOTAL\",SUM($Z$8:Z38),BT39)))),\"\")","v":""},"",{"$f":"IFERROR(IF(C39=\"\",\"\",IF(AND(BK40=\"\",BR40=\"\"),\"\",IF($C39=\"TOTAL\",SUM($AB$8:AB38),BK40))),\"\")","v":""},{"$f":"IFERROR(IF(C39=\"\",\"\",IF($C39=\"TOTAL\",SUM($AC$8:AC38),ROUND(O39*$AR$7%,0))),\"\")","v":""},{"$f":"IFERROR(IF(C39=\"\",\"\",IF($C39=\"TOTAL\",SUM($AD$8:AD38),IF($AF$3=$AO$2,SUM(U39,X39,AB39,AC39),SUM(R39,U39,X39,AB39,AC39)))),\"\")","v":""},{"$f":"IFERROR(IF(C39=\"\",\"\",IF($C39=\"TOTAL\",SUM($AE$8:AE38),SUM(O39-AD39))),\"\")","v":""},{"$nulls":8},42,42,null,"2019-07-01",null,"2025-07-01","","","","","","","",null,"",{"$f":"IF(AW39=\"\",\"\",IF(AW39=\"TOTAL\",\"\",IF(BB39=\"\",\"\",IF($AR$16=$AR$17,0,ROUND(BB39*AO39%,0)))))","v":""},"","",null,null,"","","","",0,0,{"$nulls":4},"",null,"",{"$f":"IF(AW40=\"\",\"\",IF(AW40=\"TOTAL\",\"\",IF($AR$16=$AR$17,0,IF(AND(AW40>$BT$1,$AF$3=$AO$2,'Master Sheet'!$D$31>0),'Master Sheet'!$D$31,IF(AND(AW40=$BT$1,$AF$3=$AO$2),IF($AR$9<18001,135,IF($AR$9<33501,220,IF($AR$9<54001,330,440))),IF(AND(AW40>$BT$1,$AF$3=$AO$2),IF($AR$9<18001,265,IF($AR$9<33501,440,IF($AR$9<54001,658,875))),\"\"))))))","v":""}]
["","","",{"$f":"IFERROR(IF($C39=\"TOTAL\",\"अक्षरें राशि :-\",IF($C40=\"TOTAL\",SUM($D$8:D39),IF(AX41=\"\",\"\",AX41))),\"\")","v":""},{"$f":"IFERROR(IF($C40=\"TOTAL\",SUM($E$8:E39),IF(AY41=\"\",\"\",AY41)),\"\")","v":""},{"$f":"IFERROR(IF($C40=\"TOTAL\",SUM($F$8:F39),IF(OR(C40=$AP$16,C40=$AP$17,C40=$AP$18,C40=$AP$19,C40=$AP$20,C40=$AP$21,C40=$AP$22,C40=$AP$23,C40=$AP$24),0,IF(AZ41=\"\",\"\",AZ41))),\"\")","v":""},"",{"$f":"IFERROR(IF($C40=\"TOTAL\",SUM($H$8:H39),IF(BB41=\"\",\"\",BB41)),\"\")","v":""},{"$f":"IFERROR(IF($C40=\"TOTAL\",SUM($I$8:I39),IF(BC41=\"\",\"\",BC41)),\"\")","v":""},{"$f":"IFERROR(IF($C40=\"TOTAL\",SUM($J$8:J39),IF(OR(C40=$AP$16,C40=$AP$17,C40=$AP$18,C40=$AP$19,C40=$AP$20,C40=$AP$21,C40=$AP$22,C40=$AP$23,C40=$AP$24),0,IF(BD41=\"\",\"\",BD41))),\"\")","v":""},"",{"$f":"IFERROR(IF(C40=\"\",\"\",IF(D40=\"\",\"\",IF(H40=\"\",\"\",IF($C40=\"TOTAL\",SUM($L$8:L39),SUM(D40-H40))))),\"\")","v":""},{"$f":"IFERROR(IF(C40=\"\",\"\",IF(E40=\"\",\"\",IF(I40=\"\",\"\",IF($C40=\"TOTAL\",SUM($M$8:M39),SUM(E40-I40))))),\"\")","v":""},{"$f":"IFERROR(IF(C40=\"\",\"\",IF(F40=\"\",\"\",IF(J40=\"\",\"\",IF($C40=\"TOTAL\",SUM($N$8:N39),SUM(F40-J40))))),\"\")","v":""},"",{"$f":"IFERROR(IF(C40=\"\",\"\",IF($C40=\"TOTAL\",SUM($P$8:P39),IF(AND(C40>$AO$1,$AF$3=$AO$2),BR41,IF($AR$18=$AR$20,SUM(BE41+BM41),ROUND((D40+E40)*10%,0))))),\"\")","v":""},{"$f":"IFERROR(IF(C40=\"\",\"\",IF(H40=\"\",\"\",IF(I40=\"\",\"\",IF($C40=\"TOTAL\",SUM($Q$8:Q39),IF(AND(C40>$AO$1,$AF$3=$AO$2),BR41,IF($AR$18=$AR$20,$AR$21,ROUND((H40+I40)*10%,0))))))),\"\")","v":""},"",{"$f":"IFERROR(IF(C40=\"\",\"\",IF($AR$16=$AR$17,0,IF($C40=\"TOTAL\",SUM($S$8:S39),IF($AR$19=$AR$31,0,IF(AND($AR$32=$AR$20,C40=$AR$33),$AR$34,S39))))),\"\")","v":""},{"$f":"IFERROR(IF(C40=\"\",\"\",IF($AR$16=$AR$17,0,IF($C40=\"TOTAL\",SUM($T$8:T39),IF($AR$19=$AR$20,$AR$24,0)))),\"\")","v":""},"",{"$f":"IF(C40=\"\",\"\",IF($C40=\"TOTAL\",SUM($V$8:V39),IF(AND($AR$2=$AR$20,C40=$AR$1),ROUND(D40/31*$AS$2,0),IF(C40=$AP$6,ROUND((G40)*1/30,0),IF(C40=$AQ$6,ROUND((G40)*1/31,0),\"\")))))","v":""},{"$f":"IF(C40=\"\",\"\",IF($C40=\"TOTAL\",SUM($W$8:W39),IF(AND($AR$2=$AR$20,C40=$AR$1),ROUND(H40/31*$AS$2,0),IF(C40=$AP$6,ROUND((K40)*1/30,0),IF(C40=$AQ$6,ROUND((K40)*1/31,0),\"\")))))","v":""},"",{"$f":"IFERROR(IF(C40=\"\",\"\",IF($AR$16=$AR$17,0,IF($AF$3=$AO$4,\"\",IF($C40=\"TOTAL\",SUM($Y$8:Y39),BU40)))),\"\")","v":""},{"$f":"IFERROR(IF(C40=\"\",\"\",IF($AR$16=$AR$17,0,IF($AF$3=$AO$4,\"\",IF($C40=\"TOTAL\",SUM($Z$8:Z39),BT40)))),\"\")","v":""},"",{"$f":"IFERROR(IF(C40=\"\",\"\",IF(AND(BK41=\"\",BR41=\"\"),\"\",IF($C40=\"TOTAL\",SUM($AB$8:AB39),BK41))),\"\")","v":""},{"$f":"IFERROR(IF(C40=\"\",\"\",IF($C40=\"TOTAL\",SUM($AC$8:AC39),ROUND(O40*$AR$7%,0))),\"\")","v":""},{"$f":"IFERROR(IF(C40=\"\",\"\",IF($C40=\"TOTAL\",SUM($AD$8:AD39),IF($AF$3=$AO$2,SUM(U40,X40,AB40,AC40),SUM(R40,U40,X40,AB40,AC40)))),\"\")","v":""},{"$f":"IFERROR(IF(C40=\"\",\"\",IF($C40=\"TOTAL\",SUM($AE$8:AE39),SUM(O40-AD40))),\"\")","v":""},{"$nulls":8},42,42,null,"2019-08-01",null,"2025-08-01","","","","","","","",null,"","","","",null,null,"","","","",0,0,{"$nulls":4},"",null,"",{"$f":"IF(AW41=\"\",\"\",IF(AW41=\"TOTAL\",\"\",IF($AR$16=$AR$17,0,IF(AND(AW41>$BT$1,$AF$3=$AO$2,'Master Sheet'!$D$31>0),'Master Sheet'!$D$31,IF(AND(AW41=$BT$1,$AF$3=$AO$2),IF($AR$9<18001,135,IF($AR$9<33501,220,IF($AR$9<54001,330,440))),IF(AND(AW41>$BT$1,$AF$3=$AO$2),IF($AR$9<18001,265,IF($AR$9<33501,440,IF($AR$9<54001,658,875))),\"\"))))))","v":""}]
["","","",{"$f":"IFERROR(IF($C40=\"TOTAL\",\"अक्षरें राशि :-\",IF($C41=\"TOTAL\",SUM($D$8:D40),IF(AX42=\"\",\"\",AX42))),\"\")","v":""},{"$f":"IFERROR(IF($C41=\"TOTAL\",SUM($E$8:E40),IF(AY42=\"\",\"\",AY42)),\"\")","v":""},{"$f":"IFERROR(IF($C41=\"TOTAL\",SUM($F$8:F40),IF(OR(C41=$AP$16,C41=$AP$17,C41=$AP$18,C41=$AP$19,C41=$AP$20,C41=$AP$21,C41=$AP$22,C41=$AP$23,C41=$AP$24),0,IF(AZ42=\"\",\"\",AZ42))),\"\")","v":""},"",{"$f":"IFERROR(IF($C41=\"TOTAL\",SUM($H$8:H40),IF(BB42=\"\",\"\",BB42)),\"\")","v":""},{"$f":"IFERROR(IF($C41=\"TOTAL\",SUM($I$8:I40),IF(BC42=\"\",\"\",BC42)),\"\")","v":""},{"$f":"IFERROR(IF($C41=\"TOTAL\",SUM($J$8:J40),IF(OR(C41=$AP$16,C41=$AP$17,C41=$AP$18,C41=$AP$19,C41=$AP$20,C41=$AP$21,C41=$AP$22,C41=$AP$23,C41=$AP$24),0,IF(BD42=\"\",\"\",BD42))),\"\")","v":""},"",{"$f":"IFERROR(IF(C41=\"\",\"\",IF(D41=\"\",\"\",IF(H41=\"\",\"\",IF($C41=\"TOTAL\",SUM($L$8:L40),SUM(D41-H41))))),\"\")","v":""},{"$f":"IFERROR(IF(C41=\"\",\"\",IF(E41=\"\",\"\",IF(I41=\"\",\"\",IF($C41=\"TOTAL\",SUM($M$8:M40),SUM(E41-I41))))),\"\")","v":""},{"$f":"IFERROR(IF(C41=\"\",\"\",IF(F41=\"\",\"\",IF(J41=\"\",\"\",IF($C41=\"TOTAL\",SUM($N$8:N40),SUM(F41-J41))))),\"\")","v":""},"",{"$f":"IFERROR(IF(C41=\"\",\"\",IF($C41=\"TOTAL\",SUM($P$8:P40),IF(AND(C41>$AO$1,$AF$3=$AO$2),BR42,IF($AR$18=$AR$20,SUM(BE42+BM42),ROUND((D41+E41)*10%,0))))),\"\")","v":""},{"$f":"IFERROR(IF(C41=\"\",\"\",IF(H41=\"\",\"\",IF(I41=\"\",\"\",IF($C41=\"TOTAL\",SUM($Q$8:Q40),IF(AND(C41>$AO$1,$AF$3=$AO$2),BR42,IF($AR$18=$AR$20,$AR$21,ROUND((H41+I41)*10%,0))))))),\"\")","v":""},"",{"$f":"IFERROR(IF(C41=\"\",\"\",IF($AR$16=$AR$17,0,IF($C41=\"TOTAL\",SUM($S$8:S40),IF($AR$19=$AR$31,0,IF(AND($AR$32=$AR$20,C41=$AR$33),$AR$34,S40))))),\"\")","v":""},{"$f":"IFERROR(IF(C41=\"\",\"\",IF($AR$16=$AR$17,0,IF($C41=\"TOTAL\",SUM($T$8:T40),IF($AR$19=$AR$20,$AR$24,0)))),\"\")","v":""},"",{"$f":"IF(C41=\"\",\"\",IF($C41=\"TOTAL\",SUM($V$8:V40),IF(AND($AR$2=$AR$20,C41=$AR$1),ROUND(D41/31*$AS$2,0),IF(C41=$AP$6,ROUND((G41)*1/30,0),IF(C41=$AQ$6,ROUND((G41)*1/31,0),\"\")))))","v":""},{"$f":"IF(C41=\"\",\"\",IF($C41=\"TOTAL\",SUM($W$8:W40),IF(AND($AR$2=$AR$20,C41=$AR$1),ROUND(H41/31*$AS$2,0),IF(C41=$AP$6,ROUND((K41)*1/30,0),IF(C41=$AQ$6,ROUND((K41)*1/31,0),\"\")))))","v":""},"",{"$f":"IFERROR(IF(C41=\"\",\"\",IF($AR$16=$AR$17,0,IF($AF$3=$AO$4,\"\",IF($C41=\"TOTAL\",SUM($Y$8:Y40),BU41)))),\"\")","v":""},{"$f":"IFERROR(IF(C41=\"\",\"\",IF($AR$16=$AR$17,0,IF($AF$3=$AO$4,\"\",IF($C41=\"TOTAL\",SUM($Z$8:Z40),BT41)))),\"\")","v":""},"",{"$f":"IFERROR(IF(C41=\"\",\"\",IF(AND(BK42=\"\",BR42=\"\"),\"\",IF($C41=\"TOTAL\",SUM($AB$8:AB40),BK42))),\"\")","v":""},{"$f":"IFERROR(IF(C41=\"\",\"\",IF($C41=\"TOTAL\",SUM($AC$8:AC40),ROUND(O41*$AR$7%,0))),\"\")","v":""},{"$f":"IFERROR(IF(C41=\"\",\"\",IF($C41=\"TOTAL\",SUM($AD$8:AD40),IF($AF$3=$AO$2,SUM(U41,X41,AB41,AC41),SUM(R41,U41,X41,AB41,AC41)))),\"\")","v":""},{"$f":"IFERROR(IF(C41=\"\",\"\",IF($C41=\"TOTAL\",SUM($AE$8:AE40),SUM(O41-AD41))),\"\")","v":""},{"$nulls":8},42,42,null,"2019-09-01",null,"2025-09-01","","","","","","","",null,"","","","",null,null,"","","","",0,0,{"$nulls":4},"",null,"",{"$f":"IF(AW42=\"\",\"\",IF(AW42=\"TOTAL\",\"\",IF($AR$16=$AR$17,0,IF(AND(AW42>$BT$1,$AF$3=$AO$2,'Master Sheet'!$D$31>0),'Master Sheet'!$D$31,IF(AND(AW42=$BT$1,$AF$3=$AO$2),IF($AR$9<18001,135,IF($AR$9<33501,220,IF($AR$9<54001,330,440))),IF(AND(AW42>$BT$1,$AF$3=$AO$2),IF($AR$9<18001,265,IF($AR$9<33501,440,IF($AR$9<54001,658,875))),\"\"))))))","v":""}]
["","","",{"$f":"IFERROR(IF($C41=\"TOTAL\",\"अक्षरें राशि :-\",IF($C42=\"TOTAL\",SUM($D$8:D41),IF(AX43=\"\",\"\",AX43))),\"\")","v":""},{"$f":"IFERROR(IF($C42=\"TOTAL\",SUM($E$8:E41),IF(AY43=\"\",\"\",AY43)),\"\")","v":""},{"$f":"IFERROR(IF($C42=\"TOTAL\",SUM($F$8:F41),IF(OR(C42=$AP$16,C42=$AP$17,C42=$AP$18,C42=$AP$19,C42=$AP$20,C42=$AP$21,C42=$AP$22,C42=$AP$23,C42=$AP$24),0,IF(AZ43=\"\",\"\",AZ43))),\"\")","v":""},"",{"$f":"IFERROR(IF($C42=\"TOTAL\",SUM($H$8:H41),IF(BB43=\"\",\"\",BB43)),\"\")","v":""},{"$f":"IFERROR(IF($C42=\"TOTAL\",SUM($I$8:I41),IF(BC43=\"\",\"\",BC43)),\"\")","v":""},{"$f":"IFERROR(IF($C42=\"TOTAL\",SUM($J$8:J41),IF(OR(C42=$AP$16,C42=$AP$17,C42=$AP$18,C42=$AP$19,C42=$AP$20,C42=$AP$21,C42=$AP$22,C42=$AP$23,C42=$AP$24),0,IF(BD43=\"\",\"\",BD43))),\"\")","v":""},"",{"$f":"IFERROR(IF(C42=\"\",\"\",IF(D42=\"\",\"\",IF(H42=\"\",\"\",IF($C42=\"TOTAL\",SUM($L$8:L41),SUM(D42-H42))))),\"\")","v":""},{"$f":"IFERROR(IF(C42=\"\",\"\",IF(E42=\"\",\"\",IF(I42=\"\",\"\",IF($C42=\"TOTAL\",SUM($M$8:M41),SUM(E42-I42))))),\"\")","v":""},{"$f":"IFERROR(IF(C42=\"\",\"\",IF(F42=\"\",\"\",IF(J42=\"\",\"\",IF($C42=\"TOTAL\",SUM($N$8:N41),SUM(F42-J42))))),\"\")","v":""},"",{"$f":"IFERROR(IF(C42=\"\",\"\",IF($C42=\"TOTAL\",SUM($P$8:P41),IF(AND(C42>$AO$1,$AF$3=$AO$2),BR43,IF($AR$18=$AR$20,SUM(BE43+BM43),ROUND((D42+E42)*10%,0))))),\"\")","v":""},{"$f":"IFERROR(IF(C42=\"\",\"\",IF(H42=\"\",\"\",IF(I42=\"\",\"\",IF($C42=\"TOTAL\",SUM($Q$8:Q41),IF(AND(C42>$AO$1,$AF$3=$AO$2),BR43,IF($AR$18=$AR$20,$AR$21,ROUND((H42+I42)*10%,0))))))),\"\")","v":""},"",{"$f":"IFERROR(IF(C42=\"\",\"\",IF($AR$16=$AR$17,0,IF($C42=\"TOTAL\",SUM($S$8:S41),IF($AR$19=$AR$31,0,IF(AND($AR$32=$AR$20,C42=$AR$33),$AR$34,S41))))),\"\")","v":""},{"$f":"IFERROR(IF(C42=\"\",\"\",IF($AR$16=$AR$17,0,IF($C42=\"TOTAL\",SUM($T$8:T41),IF($AR$19=$AR$20,$AR$24,0)))),\"\")","v":""},"",{"$f":"IF(C42=\"\",\"\",IF($C42=\"TOTAL\",SUM($V$8:V41),IF(AND($AR$2=$AR$20,C42=$AR$1),ROUND(D42/31*$AS$2,0),IF(C42=$AP$6,ROUND((G42)*1/30,0),IF(C42=$AQ$6,ROUND((G42)*1/31,0),\"\")))))","v":""},{"$f":"IF(C42=\"\",\"\",IF($C42=\"TOTAL\",SUM($W$8:W41),IF(AND($AR$2=$AR$20,C42=$AR$1),ROUND(H42/31*$AS$2,0),IF(C42=$AP$6,ROUND((K42)*1/30,0),IF(C42=$AQ$6,ROUND((K42)*1/31,0),\"\")))))","v":""},"",{"$f":"IFERROR(IF(C42=\"\",\"\",IF($AR$16=$AR$17,0,IF($AF$3=$AO$4,\"\",IF($C42=\"TOTAL\",SUM($Y$8:Y41),BU42)))),\"\")","v":""},{"$f":"IFERROR(IF(C42=\"\",\"\",IF($AR$16=$AR$17,0,IF($AF$3=$AO$4,\"\",IF($C42=\"TOTAL\",SUM($Z$8:Z41),BT42)))),\"\")","v":""},"",{"$f":"IFERROR(IF(C42=\"\",\"\",IF(AND(BK43=\"\",BR43=\"\"),\"\",IF($C42=\"TOTAL\",SUM($AB$8:AB41),BK43))),\"\")","v":""},{"$f":"IFERROR(IF(C42=\"\",\"\",IF($C42=\"TOTAL\",SUM($AC$8:AC41),ROUND(O42*$AR$7%,0))),\"\")","v":""},{"$f":"IFERROR(IF(C42=\"\",\"\",IF($C42=\"TOTAL\",SUM($AD$8:AD41),IF($AF$3=$AO$2,SUM(U42,X42,AB42,AC42),SUM(R42,U42,X42,AB42,AC42)))),\"\")","v":""},{"$f":"IFERROR(IF(C42=\"\",\"\",IF($C42=\"TOTAL\",SUM($AE$8:AE41),SUM(O42-AD42))),\"\")","v":""},{"$nulls":8},42,42,null,"2019-10-01",null,"2025-10-01","","","","","","","",null,"","","","",null,null,"","","","",0,0,{"$nulls":4},"",null,"",{"$f":"IF(AW43=\"\",\"\",IF(AW43=\"TOTAL\",\"\",IF($AR$16=$AR$17,0,IF(AND(AW43>$BT$1,$AF$3=$AO$2,'Master Sheet'!$D$31>0),'Master Sheet'!$D$31,IF(AND(AW43=$BT$1,$AF$3=$AO$2),IF($AR$9<18001,135,IF($AR$9<33501,220,IF($AR$9<54001,330,440))),IF(AND(AW43>$BT$1,$AF$3=$AO$2),IF($AR$9<18001,265,IF($AR$9<33501,440,IF($AR$9<54001,658,875))),\"\"))))))","v":""}]
["","","",{"$f":"IFERROR(IF($C42=\"TOTAL\",\"अक्षरें राशि :-\",IF($C43=\"TOTAL\",SUM($D$8:D42),IF(AX44=\"\",\"\",AX44))),\"\")","v":""},{"$f":"IFERROR(IF($C43=\"TOTAL\",SUM($E$8:E42),IF(AY44=\"\",\"\",AY44)),\"\")","v":""},{"$f":"IFERROR(IF($C43=\"TOTAL\",SUM($F$8:F42),IF(OR(C43=$AP$16,C43=$AP$17,C43=$AP$18,C43=$AP$19,C43=$AP$20,C43=$AP$21,C43=$AP$22,C43=$AP$23,C43=$AP$24),0,IF(AZ44=\"\",\"\",AZ44))),\"\")","v":""},"",{"$f":"IFERROR(IF($C43=\"TOTAL\",SUM($H$8:H42),IF(BB44=\"\",\"\",BB44)),\"\")","v":""},{"$f":"IFERROR(IF($C43=\"TOTAL\",SUM($I$8:I42),IF(BC44=\"\",\"\",BC44)),\"\")","v":""},{"$f":"IFERROR(IF($C43=\"TOTAL\",SUM($J$8:J42),IF(OR(C43=$AP$16,C43=$AP$17,C43=$AP$18,C43=$AP$19,C43=$AP$20,C43=$AP$21,C43=$AP$22,C43=$AP$23,C43=$AP$24),0,IF(BD44=\"\",\"\",BD44))),\"\")","v":""},"",{"$f":"IFERROR(IF(C43=\"\",\"\",IF(D43=\"\",\"\",IF(H43=\"\",\"\",IF($C43=\"TOTAL\",SUM($L$8:L42),SUM(D43-H43))))),\"\")","v":""},{"$f":"IFERROR(IF(C43=\"\",\"\",IF(E43=\"\",\"\",IF(I43=\"\",\"\",IF($C43=\"TOTAL\",SUM($M$8:M42),SUM(E43-I43))))),\"\")","v":""},{"$f":"IFERROR(IF(C43=\"\",\"\",IF(F43=\"\",\"\",IF(J43=\"\",\"\",IF($C43=\"TOTAL\",SUM($N$8:N42),SUM(F43-J43))))),\"\")","v":""},"",{"$f":"IFERROR(IF(C43=\"\",\"\",IF($C43=\"TOTAL\",SUM($P$8:P42),IF(AND(C43>$AO$1,$AF$3=$AO$2),BR44,IF($AR$18=$AR$20,SUM(BE44+BM44),ROUND((D43+E43)*10%,0))))),\"\")","v":""},{"$f":"IFERROR(IF(C43=\"\",\"\",IF(H43=\"\",\"\",IF(I43=\"\",\"\",IF($C43=\"TOTAL\",SUM($Q$8:Q42),IF(AND(C43>$AO$1,$AF$3=$AO$2),BR44,IF($AR$18=$AR$20,$AR$21,ROUND((H43+I43)*10%,0))))))),\"\")","v":""},"",{"$f":"IFERROR(IF(C43=\"\",\"\",IF($AR$16=$AR$17,0,IF($C43=\"TOTAL\",SUM($S$8:S42),IF($AR$19=$AR$31,0,IF(AND($AR$32=$AR$20,C43=$AR$33),$AR$34,S42))))),\"\")","v":""},{"$f":"IFERROR(IF(C43=\"\",\"\",IF($AR$16=$AR$17,0,IF($C43=\"TOTAL\",SUM($T$8:T42),IF($AR$19=$AR$20,$AR$24,0)))),\"\")","v":""},"",{"$f":"IF(C43=\"\",\"\",IF($C43=\"TOTAL\",SUM($V$8:V42),IF(AND($AR$2=$AR$20,C43=$AR$1),ROUND(D43/31*$AS$2,0),IF(C43=$AP$6,ROUND((G43)*1/30,0),IF(C43=$AQ$6,ROUND((G43)*1/31,0),\"\")))))","v":""},{"$f":"IF(C43=\"\",\"\",IF($C43=\"TOTAL\",SUM($W$8:W42),IF(AND($AR$2=$AR$20,C43=$AR$1),ROUND(H43/31*$AS$2,0),IF(C43=$AP$6,ROUND((K43)*1/30,0),IF(C43=$AQ$6,ROUND((K43)*1/31,0),\"\")))))","v":""},"",{"$f":"IFERROR(IF(C43=\"\",\"\",IF($AR$16=$AR$17,0,IF($AF$3=$AO$4,\"\",IF($C43=\"TOTAL\",SUM($Y$8:Y42),BU43)))),\"\")","v":""},{"$f":"IFERROR(IF(C43=\"\",\"\",IF($AR$16=$AR$17,0,IF($AF$3=$AO$4,\"\",IF($C43=\"TOTAL\",SUM($Z$8:Z42),BT43)))),\"\")","v":""},"",{"$f":"IFERROR(IF(C43=\"\",\"\",IF(AND(BK44=\"\",BR44=\"\"),\"\",IF($C43=\"TOTAL\",SUM($AB$8:AB42),BK44))),\"\")","v":""},{"$f":"IFERROR(IF(C43=\"\",\"\",IF($C43=\"TOTAL\",SUM($AC$8:AC42),ROUND(O43*$AR$7%,0))),\"\")","v":""},{"$f":"IFERROR(IF(C43=\"\",\"\",IF($C43=\"TOTAL\",SUM($AD$8:AD42),IF($AF$3=$AO$2,SUM(U43,X43,AB43,AC43),SUM(R43,U43,X43,AB43,AC43)))),\"\")","v":""},{"$f":"IFERROR(IF(C43=\"\",\"\",IF($C43=\"TOTAL\",SUM($AE$8:AE42),SUM(O43-AD43))),\"\")","v":""},{"$nulls":8},42,42,null,"2019-11-01",null,"2025-11-01","","","","","","","",null,"","","","",null,null,"","","","",0,0,{"$nulls":4},"",null,"",{"$f":"IF(AW44=\"\",\"\",IF(AW44=\"TOTAL\",\"\",IF($AR$16=$AR$17,0,IF(AND(AW44>$BT$1,$AF$3=$AO$2,'Master Sheet'!$D$31>0),'Master Sheet'!$D$31,IF(AND(AW44=$BT$1,$AF$3=$AO$2),IF($AR$9<18001,135,IF($AR$9<33501,220,IF($AR$9<54001,330,440))),IF(AND(AW44>$BT$1,$AF$3=$AO$2),IF($AR$9<18001,265,IF($AR$9<33501,440,IF($AR$9<54001,658,875))),\"\"))))))","v":""}]
["","","",{"$f":"IFERROR(IF($C43=\"TOTAL\",\"अक्षरें राशि :-\",IF($C44=\"TOTAL\",SUM($D$8:D43),IF(AX45=\"\",\"\",AX45))),\"\")","v":""},{"$f":"IFERROR(IF($C44=\"TOTAL\",SUM($E$8:E43),IF(AY45=\"\",\"\",AY45)),\"\")","v":""},{"$f":"IFERROR(IF($C44=\"TOTAL\",SUM($F$8:F43),IF(OR(C44=$AP$16,C44=$AP$17,C44=$AP$18,C44=$AP$19,C44=$AP$20,C44=$AP$21,C44=$AP$22,C44=$AP$23,C44=$AP$24),0,IF(AZ45=\"\",\"\",AZ45))),\"\")","v":""},"",{"$f":"IFERROR(IF($C44=\"TOTAL\",SUM($H$8:H43),IF(BB45=\"\",\"\",BB45)),\"\")","v":""},{"$f":"IFERROR(IF($C44=\"TOTAL\",SUM($I$8:I43),IF(BC45=\"\",\"\",BC45)),\"\")","v":""},{"$f":"IFERROR(IF($C44=\"TOTAL\",SUM($J$8:J43),IF(OR(C44=$AP$16,C44=$AP$17,C44=$AP$18,C44=$AP$19,C44=$AP$20,C44=$AP$21,C44=$AP$22,C44=$AP$23,C44=$AP$24),0,IF(BD45=\"\",\"\",BD45))),\"\")","v":""},"",{"$f":"IFERROR(IF(C44=\"\",\"\",IF(D44=\"\",\"\",IF(H44=\"\",\"\",IF($C44=\"TOTAL\",SUM($L$8:L43),SUM(D44-H44))))),\"\")","v":""},{"$f":"IFERROR(IF(C44=\"\",\"\",IF(E44=\"\",\"\",IF(I44=\"\",\"\",IF($C44=\"TOTAL\",SUM($M$8:M43),SUM(E44-I44))))),\"\")","v":""},{"$f":"IFERROR(IF(C44=\"\",\"\",IF(F44=\"\",\"\",IF(J44=\"\",\"\",IF($C44=\"TOTAL\",SUM($N$8:N43),SUM(F44-J44))))),\"\")","v":""},"",{"$f":"IFERROR(IF(C44=\"\",\"\",IF($C44=\"TOTAL\",SUM($P$8:P43),IF(AND(C44>$AO$1,$AF$3=$AO$2),BR45,IF($AR$18=$AR$20,SUM(BE45+BM45),ROUND((D44+E44)*10%,0))))),\"\")","v":""},{"$f":"IFERROR(IF(C44=\"\",\"\",IF(H44=\"\",\"\",IF(I44=\"\",\"\",IF($C44=\"TOTAL\",SUM($Q$8:Q43),IF(AND(C44>$AO$1,$AF$3=$AO$2),BR45,IF($AR$18=$AR$20,$AR$21,ROUND((H44+I44)*10%,0))))))),\"\")","v":""},"",{"$f":"IFERROR(IF(C44=\"\",\"\",IF($AR$16=$AR$17,0,IF($C44=\"TOTAL\",SUM($S$8:S43),IF($AR$19=$AR$31,0,IF(AND($AR$32=$AR$20,C44=$AR$33),$AR$34,S43))))),\"\")","v":""},{"$f":"IFERROR(IF(C44=\"\",\"\",IF($AR$16=$AR$17,0,IF($C44=\"TOTAL\",SUM($T$8:T43),IF($AR$19=$AR$20,$AR$24,0)))),\"\")","v":""},"",{"$f":"IF(C44=\"\",\"\",IF($C44=\"TOTAL\",SUM($V$8:V43),IF(AND($AR$2=$AR$20,C44=$AR$1),ROUND(D44/31*$AS$2,0),IF(C44=$AP$6,ROUND((G44)*1/30,0),IF(C44=$AQ$6,ROUND((G44)*1/31,0),\"\")))))","v":""},{"$f":"IF(C44=\"\",\"\",IF($C44=\"TOTAL\",SUM($W$8:W43),IF(AND($AR$2=$AR$20,C44=$AR$1),ROUND(H44/31*$AS$2,0),IF(C44=$AP$6,ROUND((K44)*1/30,0),IF(C44=$AQ$6,ROUND((K44)*1/31,0),\"\")))))","v":""},"",{"$f":"IFERROR(IF(C44=\"\",\"\",IF($AR$16=$AR$17,0,IF($AF$3=$AO$4,\"\",IF($C44=\"TOTAL\",SUM($Y$8:Y43),BU44)))),\"\")","v":""},{"$f":"IFERROR(IF(C44=\"\",\"\",IF($AR$16=$AR$17,0,IF($AF$3=$AO$4,\"\",IF($C44=\"TOTAL\",SUM($Z$8:Z43),BT44)))),\"\")","v":""},"",{"$f":"IFERROR(IF(C44=\"\",\"\",IF(AND(BK45=\"\",BR45=\"\"),\"\",IF($C44=\"TOTAL\",SUM($AB$8:AB43),BK45))),\"\")","v":""},{"$f":"IFERROR(IF(C44=\"\",\"\",IF($C44=\"TOTAL\",SUM($AC$8:AC43),ROUND(O44*$AR$7%,0))),\"\")","v":""},{"$f":"IFERROR(IF(C44=\"\",\"\",IF($C44=\"TOTAL\",SUM($AD$8:AD43),IF($AF$3=$AO$2,SUM(U44,X44,AB44,AC44),SUM(R44,U44,X44,AB44,AC44)))),\"\")","v":""},{"$f":"IFERROR(IF(C44=\"\",\"\",IF($C44=\"TOTAL\",SUM($AE$8:AE43),SUM(O44-AD44))),\"\")","v":""},{"$nulls":8},42,42,null,"2019-12-01",null,"2025-12-01","","","","","","","",null,"","","","",null,null,"","","","",0,0,{"$nulls":4},"",null,"",{"$f":"IF(AW45=\"\",\"\",IF(AW45=\"TOTAL\",\"\",IF($AR$16=$AR$17,0,IF(AND(AW45>$BT$1,$AF$3=$AO$2,'Master Sheet'!$D$31>0),'Master Sheet'!$D$31,IF(AND(AW45=$BT$1,$AF$3=$AO$2),IF($AR$9<18001,135,IF($AR$9<33501,220,IF($AR$9<54001,330,440))),IF(AND(AW45>$BT$1,$AF$3=$AO$2),IF($AR$9<18001,265,IF($AR$9<33501,440,IF($AR$9<54001,658,875))),\"\"))))))","v":""}]
["","","",{"$f":"IFERROR(IF($C44=\"TOTAL\",\"अक्षरें राशि :-\",IF($C45=\"TOTAL\",SUM($D$8:D44),IF(AX46=\"\",\"\",AX46))),\"\")","v":""},{"$f":"IFERROR(IF($C45=\"TOTAL\",SUM($E$8:E44),IF(AY46=\"\",\"\",AY46)),\"\")","v":""},{"$f":"IFERROR(IF($C45=\"TOTAL\",SUM($F$8:F44),IF(OR(C45=$AP$16,C45=$AP$17,C45=$AP$18,C45=$AP$19,C45=$AP$20,C45=$AP$21,C45=$AP$22,C45=$AP$23,C45=$AP$24),0,IF(AZ46=\"\",\"\",AZ46))),\"\")","v":""},"",{"$f":"IFERROR(IF($C45=\"TOTAL\",SUM($H$8:H44),IF(BB46=\"\",\"\",BB46)),\"\")","v":""},{"$f":"IFERROR(IF($C45=\"TOTAL\",SUM($I$8:I44),IF(BC46=\"\",\"\",BC46)),\"\")","v":""},{"$f":"IFERROR(IF($C45=\"TOTAL\",SUM($J$8:J44),IF(OR(C45=$AP$16,C45=$AP$17,C45=$AP$18,C45=$AP$19,C45=$AP$20,C45=$AP$21,C45=$AP$22,C45=$AP$23,C45=$AP$24),0,IF(BD46=\"\",\"\",BD46))),\"\")","v":""},"",{"$f":"IFERROR(IF(C45=\"\",\"\",IF(D45=\"\",\"\",IF(H45=\"\",\"\",IF($C45=\"TOTAL\",SUM($L$8:L44),SUM(D45-H45))))),\"\")","v":""},{"$f":"IFERROR(IF(C45=\"\",\"\",IF(E45=\"\",\"\",IF(I45=\"\",\"\",IF($C45=\"TOTAL\",SUM($M$8:M44),SUM(E45-I45))))),\"\")","v":""},{"$f":"IFERROR(IF(C45=\"\",\"\",IF(F45=\"\",\"\",IF(J45=\"\",\"\",IF($C45=\"TOTAL\",SUM($N$8:N44),SUM(F45-J45))))),\"\")","v":""},"",{"$f":"IFERROR(IF(C45=\"\",\"\",IF($C45=\"TOTAL\",SUM($P$8:P44),IF(AND(C45>$AO$1,$AF$3=$AO$2),BR46,IF($AR$18=$AR$20,SUM(BE46+BM46),ROUND((D45+E45)*10%,0))))),\"\")","v":""},{"$f":"IFERROR(IF(C45=\"\",\"\",IF(H45=\"\",\"\",IF(I45=\"\",\"\",IF($C45=\"TOTAL\",SUM($Q$8:Q44),IF(AND(C45>$AO$1,$AF$3=$AO$2),BR46,IF($AR$18=$AR$20,$AR$21,ROUND((H45+I45)*10%,0))))))),\"\")","v":""},"",{"$f":"IFERROR(IF(C45=\"\",\"\",IF($AR$16=$AR$17,0,IF($C45=\"TOTAL\",SUM($S$8:S44),IF($AR$19=$AR$31,0,IF(AND($AR$32=$AR$20,C45=$AR$33),$AR$34,S44))))),\"\")","v":""},{"$f":"IFERROR(IF(C45=\"\",\"\",IF($AR$16=$AR$17,0,IF($C45=\"TOTAL\",SUM($T$8:T44),IF($AR$19=$AR$20,$AR$24,0)))),\"\")","v":""},"",{"$f":"IF(C45=\"\",\"\",IF($C45=\"TOTAL\",SUM($V$8:V44),IF(AND($AR$2=$AR$20,C45=$AR$1),ROUND(D45/31*$AS$2,0),IF(C45=$AP$6,ROUND((G45)*1/30,0),IF(C45=$AQ$6,ROUND((G45)*1/31,0),\"\")))))","v":""},{"$f":"IF(C45=\"\",\"\",IF($C45=\"TOTAL\",SUM($W$8:W44),IF(AND($AR$2=$AR$20,C45=$AR$1),ROUND(H45/31*$AS$2,0),IF(C45=$AP$6,ROUND((K45)*1/30,0),IF(C45=$AQ$6,ROUND((K45)*1/31,0),\"\")))))","v":""},"",{"$f":"IFERROR(IF(C45=\"\",\"\",IF($AR$16=$AR$17,0,IF($AF$3=$AO$4,\"\",IF($C45=\"TOTAL\",SUM($Y$8:Y44),BU45)))),\"\")","v":""},{"$f":"IFERROR(IF(C45=\"\",\"\",IF($AR$16=$AR$17,0,IF($AF$3=$AO$4,\"\",IF($C45=\"TOTAL\",SUM($Z$8:Z44),BT45)))),\"\")","v":""},"",{"$f":"IFERROR(IF(C45=\"\",\"\",IF(AND(BK46=\"\",BR46=\"\"),\"\",IF($C45=\"TOTAL\",SUM($AB$8:AB44),BK46))),\"\")","v":""},{"$f":"IFERROR(IF(C45=\"\",\"\",IF($C45=\"TOTAL\",SUM($AC$8:AC44),ROUND(O45*$AR$7%,0))),\"\")","v":""},{"$f":"IFERROR(IF(C45=\"\",\"\",IF($C45=\"TOTAL\",SUM($AD$8:AD44),IF($AF$3=$AO$2,SUM(U45,X45,AB45,AC45),SUM(R45,U45,X45,AB45,AC45)))),\"\")","v":""},{"$f":"IFERROR(IF(C45=\"\",\"\",IF($C45=\"TOTAL\",SUM($AE$8:AE44),SUM(O45-AD45))),\"\")","v":""},{"$nulls":8},42,42,null,"2020-01-01",null,"2026-01-01","","","","","","","",null,"","","","",null,null,"","","","",0,0,{"$nulls":4},"",null,"",{"$f":"IF(AW46=\"\",\"\",IF(AW46=\"TOTAL\",\"\",IF($AR$16=$AR$17,0,IF(AND(AW46>$BT$1,$AF$3=$AO$2,'Master Sheet'!$D$31>0),'Master Sheet'!$D$31,IF(AND(AW46=$BT$1,$AF$3=$AO$2),IF($AR$9<18001,135,IF($AR$9<33501,220,IF($AR$9<54001,330,440))),IF(AND(AW46>$BT$1,$AF$3=$AO$2),IF($AR$9<18001,265,IF($AR$9<33501,440,IF($AR$9<54001,658,875))),\"\"))))))","v":""}]
["","","",{"$f":"IFERROR(IF($C45=\"TOTAL\",\"अक्षरें राशि :-\",IF($C46=\"TOTAL\",SUM($D$8:D45),IF(AX47=\"\",\"\",AX47))),\"\")","v":""},{"$f":"IFERROR(IF($C46=\"TOTAL\",SUM($E$8:E45),IF(AY47=\"\",\"\",AY47)),\"\")","v":""},{"$f":"IFERROR(IF($C46=\"TOTAL\",SUM($F$8:F45),IF(OR(C46=$AP$16,C46=$AP$17,C46=$AP$18,C46=$AP$19,C46=$AP$20,C46=$AP$21,C46=$AP$22,C46=$AP$23,C46=$AP$24),0,IF(AZ47=\"\",\"\",AZ47))),\"\")","v":""},"",{"$f":"IFERROR(IF($C46=\"TOTAL\",SUM($H$8:H45),IF(BB47=\"\",\"\",BB47)),\"\")","v":""},{"$f":"IFERROR(IF($C46=\"TOTAL\",SUM($I$8:I45),IF(BC47=\"\",\"\",BC47)),\"\")","v":""},{"$f":"IFERROR(IF($C46=\"TOTAL\",SUM($J$8:J45),IF(OR(C46=$AP$16,C46=$AP$17,C46=$AP$18,C46=$AP$19,C46=$AP$20,C46=$AP$21,C46=$AP$22,C46=$AP$23,C46=$AP$24),0,IF(BD47=\"\",\"\",BD47))),\"\")","v":""},"",{"$f":"IFERROR(IF(C46=\"\",\"\",IF(D46=\"\",\"\",IF(H46=\"\",\"\",IF($C46=\"TOTAL\",SUM($L$8:L45),SUM(D46-H46))))),\"\")","v":""},{"$f":"IFERROR(IF(C46=\"\",\"\",IF(E46=\"\",\"\",IF(I46=\"\",\"\",IF($C46=\"TOTAL\",SUM($M$8:M45),SUM(E46-I46))))),\"\")","v":""},{"$f":"IFERROR(IF(C46=\"\",\"\",IF(F46=\"\",\"\",IF(J46=\"\",\"\",IF($C46=\"TOTAL\",SUM($N$8:N45),SUM(F46-J46))))),\"\")","v":""},"",{"$f":"IFERROR(IF(C46=\"\",\"\",IF($C46=\"TOTAL\",SUM($P$8:P45),IF(AND(C46>$AO$1,$AF$3=$AO$2),BR47,IF($AR$18=$AR$20,SUM(BE47+BM47),ROUND((D46+E46)*10%,0))))),\"\")","v":""},{"$f":"IFERROR(IF(C46=\"\",\"\",IF(H46=\"\",\"\",IF(I46=\"\",\"\",IF($C46=\"TOTAL\",SUM($Q$8:Q45),IF(AND(C46>$AO$1,$AF$3=$AO$2),BR47,IF($AR$18=$AR$20,$AR$21,ROUND((H46+I46)*10%,0))))))),\"\")","v":""},"",{"$f":"IFERROR(IF(C46=\"\",\"\",IF($AR$16=$AR$17,0,IF($C46=\"TOTAL\",SUM($S$8:S45),IF($AR$19=$AR$31,0,IF(AND($AR$32=$AR$20,C46=$AR$33),$AR$34,S45))))),\"\")","v":""},{"$f":"IFERROR(IF(C46=\"\",\"\",IF($AR$16=$AR$17,0,IF($C46=\"TOTAL\",SUM($T$8:T45),IF($AR$19=$AR$20,$AR$24,0)))),\"\")","v":""},"",{"$f":"IF(C46=\"\",\"\",IF($C46=\"TOTAL\",SUM($V$8:V45),IF(AND($AR$2=$AR$20,C46=$AR$1),ROUND(D46/31*$AS$2,0),IF(C46=$AP$6,ROUND((G46)*1/30,0),IF(C46=$AQ$6,ROUND((G46)*1/31,0),\"\")))))","v":""},{"$f":"IF(C46=\"\",\"\",IF($C46=\"TOTAL\",SUM($W$8:W45),IF(AND($AR$2=$AR$20,C46=$AR$1),ROUND(H46/31*$AS$2,0),IF(C46=$AP$6,ROUND((K46)*1/30,0),IF(C46=$AQ$6,ROUND((K46)*1/31,0),\"\")))))","v":""},"",{"$f":"IFERROR(IF(C46=\"\",\"\",IF($AR$16=$AR$17,0,IF($AF$3=$AO$4,\"\",IF($C46=\"TOTAL\",SUM($Y$8:Y45),BU46)))),\"\")","v":""},{"$f":"IFERROR(IF(C46=\"\",\"\",IF($AR$16=$AR$17,0,IF($AF$3=$AO$4,\"\",IF($C46=\"TOTAL\",SUM($Z$8:Z45),BT46)))),\"\")","v":""},"",{"$f":"IFERROR(IF(C46=\"\",\"\",IF(AND(BK47=\"\",BR47=\"\"),\"\",IF($C46=\"TOTAL\",SUM($AB$8:AB45),BK47))),\"\")","v":""},{"$f":"IFERROR(IF(C46=\"\",\"\",IF($C46=\"TOTAL\",SUM($AC$8:AC45),ROUND(O46*$AR$7%,0))),\"\")","v":""},{"$f":"IFERROR(IF(C46=\"\",\"\",IF($C46=\"TOTAL\",SUM($AD$8:AD45),IF($AF$3=$AO$2,SUM(U46,X46,AB46,AC46),SUM(R46,U46,X46,AB46,AC46)))),\"\")","v":""},{"$f":"IFERROR(IF(C46=\"\",\"\",IF($C46=\"TOTAL\",SUM($AE$8:AE45),SUM(O46-AD46))),\"\")","v":""},{"$nulls":8},42,42,null,"2020-02-01",null,"2026-02-01","","","","","","","",null,"","","","",null,null,"","","","",0,0,{"$nulls":4},"",null,"",{"$f":"IF(AW47=\"\",\"\",IF(AW47=\"TOTAL\",\"\",IF($AR$16=$AR$17,0,IF(AND(AW47>$BT$1,$AF$3=$AO$2,'Master Sheet'!$D$31>0),'Master Sheet'!$D$31,IF(AND(AW47=$BT$1,$AF$3=$AO$2),IF($AR$9<18001,135,IF($AR$9<33501,220,IF($AR$9<54001,330,440))),IF(AND(AW47>$BT$1,$AF$3=$AO$2),IF($AR$9<18001,265,IF($AR$9<33501,440,IF($AR$9<54001,658,875))),\"\"))))))","v":""}]
["","","",{"$f":"IFERROR(IF($C46=\"TOTAL\",\"अक्षरें राशि :-\",IF($C47=\"TOTAL\",SUM($D$8:D46),IF(AX48=\"\",\"\",AX48))),\"\")","v":""},{"$f":"IFERROR(IF($C47=\"TOTAL\",SUM($E$8:E46),IF(AY48=\"\",\"\",AY48)),\"\")","v":""},{"$f":"IFERROR(IF($C47=\"TOTAL\",SUM($F$8:F46),IF(OR(C47=$AP$16,C47=$AP$17,C47=$AP$18,C47=$AP$19,C47=$AP$20,C47=$AP$21,C47=$AP$22,C47=$AP$23,C47=$AP$24),0,IF(AZ48=\"\",\"\",AZ48))),\"\")","v":""},"",{"$f":"IFERROR(IF($C47=\"TOTAL\",SUM($H$8:H46),IF(BB48=\"\",\"\",BB48)),\"\")","v":""},{"$f":"IFERROR(IF($C47=\"TOTAL\",SUM($I$8:I46),IF(BC48=\"\",\"\",BC48)),\"\")","v":""},{"$f":"IFERROR(IF($C47=\"TOTAL\",SUM($J$8:J46),IF(OR(C47=$AP$16,C47=$AP$17,C47=$AP$18,C47=$AP$19,C47=$AP$20,C47=$AP$21,C47=$AP$22,C47=$AP$23,C47=$AP$24),0,IF(BD48=\"\",\"\",BD48))),\"\")","v":""},"",{"$f":"IFERROR(IF(C47=\"\",\"\",IF(D47=\"\",\"\",IF(H47=\"\",\"\",IF($C47=\"TOTAL\",SUM($L$8:L46),SUM(D47-H47))))),\"\")","v":""},{"$f":"IFERROR(IF(C47=\"\",\"\",IF(E47=\"\",\"\",IF(I47=\"\",\"\",IF($C47=\"TOTAL\",SUM($M$8:M46),SUM(E47-I47))))),\"\")","v":""},{"$f":"IFERROR(IF(C47=\"\",\"\",IF(F47=\"\",\"\",IF(J47=\"\",\"\",IF($C47=\"TOTAL\",SUM($N$8:N46),SUM(F47-J47))))),\"\")","v":""},"",{"$f":"IFERROR(IF(C47=\"\",\"\",IF($C47=\"TOTAL\",SUM($P$8:P46),IF(AND(C47>$AO$1,$AF$3=$AO$2),BR48,IF($AR$18=$AR$20,SUM(BE48+BM48),ROUND((D47+E47)*10%,0))))),\"\")","v":""},{"$f":"IFERROR(IF(C47=\"\",\"\",IF(H47=\"\",\"\",IF(I47=\"\",\"\",IF($C47=\"TOTAL\",SUM($Q$8:Q46),IF(AND(C47>$AO$1,$AF$3=$AO$2),BR48,IF($AR$18=$AR$20,$AR$21,ROUND((H47+I47)*10%,0))))))),\"\")","v":""},"",{"$f":"IFERROR(IF(C47=\"\",\"\",IF($AR$16=$AR$17,0,IF($C47=\"TOTAL\",SUM($S$8:S46),IF($AR$19=$AR$31,0,IF(AND($AR$32=$AR$20,C47=$AR$33),$AR$34,S46))))),\"\")","v":""},{"$f":"IFERROR(IF(C47=\"\",\"\",IF($AR$16=$AR$17,0,IF($C47=\"TOTAL\",SUM($T$8:T46),IF($AR$19=$AR$20,$AR$24,0)))),\"\")","v":""},"",{"$f":"IF(C47=\"\",\"\",IF($C47=\"TOTAL\",SUM($V$8:V46),IF(AND($AR$2=$AR$20,C47=$AR$1),ROUND(D47/31*$AS$2,0),IF(C47=$AP$6,ROUND((G47)*1/30,0),IF(C47=$AQ$6,ROUND((G47)*1/31,0),\"\")))))","v":""},{"$f":"IF(C47=\"\",\"\",IF($C47=\"TOTAL\",SUM($W$8:W46),IF(AND($AR$2=$AR$20,C47=$AR$1),ROUND(H47/31*$AS$2,0),IF(C47=$AP$6,ROUND((K47)*1/30,0),IF(C47=$AQ$6,ROUND((K47)*1/31,0),\"\")))))","v":""},"",{"$f":"IFERROR(IF(C47=\"\",\"\",IF($AR$16=$AR$17,0,IF($AF$3=$AO$4,\"\",IF($C47=\"TOTAL\",SUM($Y$8:Y46),BU47)))),\"\")","v":""},{"$f":"IFERROR(IF(C47=\"\",\"\",IF($AR$16=$AR$17,0,IF($AF$3=$AO$4,\"\",IF($C47=\"TOTAL\",SUM($Z$8:Z46),BT47)))),\"\")","v":""},"",{"$f":"IFERROR(IF(C47=\"\",\"\",IF(AND(BK48=\"\",BR48=\"\"),\"\",IF($C47=\"TOTAL\",SUM($AB$8:AB46),BK48))),\"\")","v":""},{"$f":"IFERROR(IF(C47=\"\",\"\",IF($C47=\"TOTAL\",SUM($AC$8:AC46),ROUND(O47*$AR$7%,0))),\"\")","v":""},{"$f":"IFERROR(IF(C47=\"\",\"\",IF($C47=\"TOTAL\",SUM($AD$8:AD46),IF($AF$3=$AO$2,SUM(U47,X47,AB47,AC47),SUM(R47,U47,X47,AB47,AC47)))),\"\")","v":""},{"$f":"IFERROR(IF(C47=\"\",\"\",IF($C47=\"TOTAL\",SUM($AE$8:AE46),SUM(O47-AD47))),\"\")","v":""},{"$nulls":8},42,42,null,"2020-03-01",null,"2026-03-01","","","","","","","",null,"","","","",null,null,"","","","",0,0,{"$nulls":4},"",null,"",{"$f":"IF(AW48=\"\",\"\",IF(AW48=\"TOTAL\",\"\",IF($AR$16=$AR$17,0,IF(AND(AW48>$BT$1,$AF$3=$AO$2,'Master Sheet'!$D$31>0),'Master Sheet'!$D$31,IF(AND(AW48=$BT$1,$AF$3=$AO$2),IF($AR$9<18001,135,IF($AR$9<33501,220,IF($AR$9<54001,330,440))),IF(AND(AW48>$BT$1,$AF$3=$AO$2),IF($AR$9<18001,265,IF($AR$9<33501,440,IF($AR$9<54001,658,875))),\"\"))))))","v":""}]
["","","",{"$f":"IFERROR(IF($C47=\"TOTAL\",\"अक्षरें राशि :-\",IF($C48=\"TOTAL\",SUM($D$8:D47),IF(AX49=\"\",\"\",AX49))),\"\")","v":""},{"$f":"IFERROR(IF($C48=\"TOTAL\",SUM($E$8:E47),IF(AY49=\"\",\"\",AY49)),\"\")","v":""},{"$f":"IFERROR(IF($C48=\"TOTAL\",SUM($F$8:F47),IF(OR(C48=$AP$16,C48=$AP$17,C48=$AP$18,C48=$AP$19,C48=$AP$20,C48=$AP$21,C48=$AP$22,C48=$AP$23,C48=$AP$24),0,IF(AZ49=\"\",\"\",AZ49))),\"\")","v":""},"",{"$f":"IFERROR(IF($C48=\"TOTAL\",SUM($H$8:H47),IF(BB49=\"\",\"\",BB49)),\"\")","v":""},{"$f":"IFERROR(IF($C48=\"TOTAL\",SUM($I$8:I47),IF(BC49=\"\",\"\",BC49)),\"\")","v":""},{"$f":"IFERROR(IF($C48=\"TOTAL\",SUM($J$8:J47),IF(OR(C48=$AP$16,C48=$AP$17,C48=$AP$18,C48=$AP$19,C48=$AP$20,C48=$AP$21,C48=$AP$22,C48=$AP$23,C48=$AP$24),0,IF(BD49=\"\",\"\",BD49))),\"\")","v":""},"",{"$f":"IFERROR(IF(C48=\"\",\"\",IF(D48=\"\",\"\",IF(H48=\"\",\"\",IF($C48=\"TOTAL\",SUM($L$8:L47),SUM(D48-H48))))),\"\")","v":""},{"$f":"IFERROR(IF(C48=\"\",\"\",IF(E48=\"\",\"\",IF(I48=\"\",\"\",IF($C48=\"TOTAL\",SUM($M$8:M47),SUM(E48-I48))))),\"\")","v":""},{"$f":"IFERROR(IF(C48=\"\",\"\",IF(F48=\"\",\"\",IF(J48=\"\",\"\",IF($C48=\"TOTAL\",SUM($N$8:N47),SUM(F48-J48))))),\"\")","v":""},"",{"$f":"IFERROR(IF(C48=\"\",\"\",IF($C48=\"TOTAL\",SUM($P$8:P47),IF(AND(C48>$AO$1,$AF$3=$AO$2),BR49,IF($AR$18=$AR$20,SUM(BE49+BM49),ROUND((D48+E48)*10%,0))))),\"\")","v":""},{"$f":"IFERROR(IF(C48=\"\",\"\",IF(H48=\"\",\"\",IF(I48=\"\",\"\",IF($C48=\"TOTAL\",SUM($Q$8:Q47),IF(AND(C48>$AO$1,$AF$3=$AO$2),BR49,IF($AR$18=$AR$20,$AR$21,ROUND((H48+I48)*10%,0))))))),\"\")","v":""},"",{"$f":"IFERROR(IF(C48=\"\",\"\",IF($AR$16=$AR$17,0,IF($C48=\"TOTAL\",SUM($S$8:S47),IF($AR$19=$AR$31,0,IF(AND($AR$32=$AR$20,C48=$AR$33),$AR$34,S47))))),\"\")","v":""},{"$f":"IFERROR(IF(C48=\"\",\"\",IF($AR$16=$AR$17,0,IF($C48=\"TOTAL\",SUM($T$8:T47),IF($AR$19=$AR$20,$AR$24,0)))),\"\")","v":""},"",{"$f":"IF(C48=\"\",\"\",IF($C48=\"TOTAL\",SUM($V$8:V47),IF(AND($AR$2=$AR$20,C48=$AR$1),ROUND(D48/31*$AS$2,0),IF(C48=$AP$6,ROUND((G48)*1/30,0),IF(C48=$AQ$6,ROUND((G48)*1/31,0),\"\")))))","v":""},{"$f":"IF(C48=\"\",\"\",IF($C48=\"TOTAL\",SUM($W$8:W47),IF(AND($AR$2=$AR$20,C48=$AR$1),ROUND(H48/31*$AS$2,0),IF(C48=$AP$6,ROUND((K48)*1/30,0),IF(C48=$AQ$6,ROUND((K48)*1/31,0),\"\")))))","v":""},"",{"$f":"IFERROR(IF(C48=\"\",\"\",IF($AR$16=$AR$17,0,IF($AF$3=$AO$4,\"\",IF($C48=\"TOTAL\",SUM($Y$8:Y47),BU48)))),\"\")","v":""},{"$f":"IFERROR(IF(C48=\"\",\"\",IF($AR$16=$AR$17,0,IF($AF$3=$AO$4,\"\",IF($C48=\"TOTAL\",SUM($Z$8:Z47),BT48)))),\"\")","v":""},"",{"$f":"IFERROR(IF(C48=\"\",\"\",IF(AND(BK49=\"\",BR49=\"\"),\"\",IF($C48=\"TOTAL\",SUM($AB$8:AB47),BK49))),\"\")","v":""},{"$f":"IFERROR(IF(C48=\"\",\"\",IF($C48=\"TOTAL\",SUM($AC$8:AC47),ROUND(O48*$AR$7%,0))),\"\")","v":""},{"$f":"IFERROR(IF(C48=\"\",\"\",IF($C48=\"TOTAL\",SUM($AD$8:AD47),IF($AF$3=$AO$2,SUM(U48,X48,AB48,AC48),SUM(R48,U48,X48,AB48,AC48)))),\"\")","v":""},{"$f":"IFERROR(IF(C48=\"\",\"\",IF($C48=\"TOTAL\",SUM($AE$8:AE47),SUM(O48-AD48))),\"\")","v":""},{"$nulls":8},42,42,null,"2020-04-01",null,"2026-04-01","","","","","","","",null,"","","","",null,null,"","","","",0,0,{"$nulls":4},"",null,"",{"$f":"IF(AW49=\"\",\"\",IF(AW49=\"TOTAL\",\"\",IF($AR$16=$AR$17,0,IF(AND(AW49>$BT$1,$AF$3=$AO$2,'Master Sheet'!$D$31>0),'Master Sheet'!$D$31,IF(AND(AW49=$BT$1,$AF$3=$AO$2),IF($AR$9<18001,135,IF($AR$9<33501,220,IF($AR$9<54001,330,440))),IF(AND(AW49>$BT$1,$AF$3=$AO$2),IF($AR$9<18001,265,IF($AR$9<33501,440,IF($AR$9<54001,658,875))),\"\"))))))","v":""}]
["","","",{"$f":"IFERROR(IF($C48=\"TOTAL\",\"अक्षरें राशि :-\",IF($C49=\"TOTAL\",SUM($D$8:D48),IF(AX50=\"\",\"\",AX50))),\"\")","v":""},{"$f":"IFERROR(IF($C49=\"TOTAL\",SUM($E$8:E48),IF(AY50=\"\",\"\",AY50)),\"\")","v":""},{"$f":"IFERROR(IF($C49=\"TOTAL\",SUM($F$8:F48),IF(OR(C49=$AP$16,C49=$AP$17,C49=$AP$18,C49=$AP$19,C49=$AP$20,C49=$AP$21,C49=$AP$22,C49=$AP$23,C49=$AP$24),0,IF(AZ50=\"\",\"\",AZ50))),\"\")","v":""},"",{"$f":"IFERROR(IF($C49=\"TOTAL\",SUM($H$8:H48),IF(BB50=\"\",\"\",BB50)),\"\")","v":""},{"$f":"IFERROR(IF($C49=\"TOTAL\",SUM($I$8:I48),IF(BC50=\"\",\"\",BC50)),\"\")","v":""},{"$f":"IFERROR(IF($C49=\"TOTAL\",SUM($J$8:J48),IF(OR(C49=$AP$16,C49=$AP$17,C49=$AP$18,C49=$AP$19,C49=$AP$20,C49=$AP$21,C49=$AP$22,C49=$AP$23,C49=$AP$24),0,IF(BD50=\"\",\"\",BD50))),\"\")","v":""},"",{"$f":"IFERROR(IF(C49=\"\",\"\",IF(D49=\"\",\"\",IF(H49=\"\",\"\",IF($C49=\"TOTAL\",SUM($L$8:L48),SUM(D49-H49))))),\"\")","v":""},{"$f":"IFERROR(IF(C49=\"\",\"\",IF(E49=\"\",\"\",IF(I49=\"\",\"\",IF($C49=\"TOTAL\",SUM($M$8:M48),SUM(E49-I49))))),\"\")","v":""},{"$f":"IFERROR(IF(C49=\"\",\"\",IF(F49=\"\",\"\",IF(J49=\"\",\"\",IF($C49=\"TOTAL\",SUM($N$8:N48),SUM(F49-J49))))),\"\")","v":""},"",{"$f":"IFERROR(IF(C49=\"\",\"\",IF($C49=\"TOTAL\",SUM($P$8:P48),IF(AND(C49>$AO$1,$AF$3=$AO$2),BR50,IF($AR$18=$AR$20,SUM(BE50+BM50),ROUND((D49+E49)*10%,0))))),\"\")","v":""},{"$f":"IFERROR(IF(C49=\"\",\"\",IF(H49=\"\",\"\",IF(I49=\"\",\"\",IF($C49=\"TOTAL\",SUM($Q$8:Q48),IF(AND(C49>$AO$1,$AF$3=$AO$2),BR50,IF($AR$18=$AR$20,$AR$21,ROUND((H49+I49)*10%,0))))))),\"\")","v":""},"",{"$f":"IFERROR(IF(C49=\"\",\"\",IF($AR$16=$AR$17,0,IF($C49=\"TOTAL\",SUM($S$8:S48),IF($AR$19=$AR$31,0,IF(AND($AR$32=$AR$20,C49=$AR$33),$AR$34,S48))))),\"\")","v":""},{"$f":"IFERROR(IF(C49=\"\",\"\",IF($AR$16=$AR$17,0,IF($C49=\"TOTAL\",SUM($T$8:T48),IF($AR$19=$AR$20,$AR$24,0)))),\"\")","v":""},"",{"$f":"IF(C49=\"\",\"\",IF($C49=\"TOTAL\",SUM($V$8:V48),IF(AND($AR$2=$AR$20,C49=$AR$1),ROUND(D49/31*$AS$2,0),IF(C49=$AP$6,ROUND((G49)*1/30,0),IF(C49=$AQ$6,ROUND((G49)*1/31,0),\"\")))))","v":""},{"$f":"IF(C49=\"\",\"\",IF($C49=\"TOTAL\",SUM($W$8:W48),IF(AND($AR$2=$AR$20,C49=$AR$1),ROUND(H49/31*$AS$2,0),IF(C49=$AP$6,ROUND((K49)*1/30,0),IF(C49=$AQ$6,ROUND((K49)*1/31,0),\"\")))))","v":""},"",{"$f":"IFERROR(IF(C49=\"\",\"\",IF($AR$16=$AR$17,0,IF($AF$3=$AO$4,\"\",IF($C49=\"TOTAL\",SUM($Y$8:Y48),BU49)))),\"\")","v":""},{"$f":"IFERROR(IF(C49=\"\",\"\",IF($AR$16=$AR$17,0,IF($AF$3=$AO$4,\"\",IF($C49=\"TOTAL\",SUM($Z$8:Z48),BT49)))),\"\")","v":""},"",{"$f":"IFERROR(IF(C49=\"\",\"\",IF(AND(BK50=\"\",BR50=\"\"),\"\",IF($C49=\"TOTAL\",SUM($AB$8:AB48),BK50))),\"\")","v":""},{"$f":"IFERROR(IF(C49=\"\",\"\",IF($C49=\"TOTAL\",SUM($AC$8:AC48),ROUND(O49*$AR$7%,0))),\"\")","v":""},{"$f":"IFERROR(IF(C49=\"\",\"\",IF($C49=\"TOTAL\",SUM($AD$8:AD48),IF($AF$3=$AO$2,SUM(U49,X49,AB49,AC49),SUM(R49,U49,X49,AB49,AC49)))),\"\")","v":""},{"$f":"IFERROR(IF(C49=\"\",\"\",IF($C49=\"TOTAL\",SUM($AE$8:AE48),SUM(O49-AD49))),\"\")","v":""},{"$nulls":8},42,42,null,"2020-05-01",null,"2026-05-01","","","","","","","",null,"","","","",null,null,"","","","",0,0,{"$nulls":4},"",null,"",{"$f":"IF(AW50=\"\",\"\",IF(AW50=\"TOTAL\",\"\",IF($AR$16=$AR$17,0,IF(AND(AW50>$BT$1,$AF$3=$AO$2,'Master Sheet'!$D$31>0),'Master Sheet'!$D$31,IF(AND(AW50=$BT$1,$AF$3=$AO$2),IF($AR$9<18001,135,IF($AR$9<33501,220,IF($AR$9<54001,330,440))),IF(AND(AW50>$BT$1,$AF$3=$AO$2),IF($AR$9<18001,265,IF($AR$9<33501,440,IF($AR$9<54001,658,875))),\"\"))))))","v":""}]
["","","",{"$f":"IFERROR(IF($C49=\"TOTAL\",\"अक्षरें राशि :-\",IF($C50=\"TOTAL\",SUM($D$8:D49),IF(AX51=\"\",\"\",AX51))),\"\")","v":""},{"$f":"IFERROR(IF($C50=\"TOTAL\",SUM($E$8:E49),IF(AY51=\"\",\"\",AY51)),\"\")","v":""},{"$f":"IFERROR(IF($C50=\"TOTAL\",SUM($F$8:F49),IF(OR(C50=$AP$16,C50=$AP$17,C50=$AP$18,C50=$AP$19,C50=$AP$20,C50=$AP$21,C50=$AP$22,C50=$AP$23,C50=$AP$24),0,IF(AZ51=\"\",\"\",AZ51))),\"\")","v":""},"",{"$f":"IFERROR(IF($C50=\"TOTAL\",SUM($H$8:H49),IF(BB51=\"\",\"\",BB51)),\"\")","v":""},{"$f":"IFERROR(IF($C50=\"TOTAL\",SUM($I$8:I49),IF(BC51=\"\",\"\",BC51)),\"\")","v":""},{"$f":"IFERROR(IF($C50=\"TOTAL\",SUM($J$8:J49),IF(OR(C50=$AP$16,C50=$AP$17,C50=$AP$18,C50=$AP$19,C50=$AP$20,C50=$AP$21,C50=$AP$22,C50=$AP$23,C50=$AP$24),0,IF(BD51=\"\",\"\",BD51))),\"\")","v":""},"",{"$f":"IFERROR(IF(C50=\"\",\"\",IF(D50=\"\",\"\",IF(H50=\"\",\"\",IF($C50=\"TOTAL\",SUM($L$8:L49),SUM(D50-H50))))),\"\")","v":""},{"$f":"IFERROR(IF(C50=\"\",\"\",IF(E50=\"\",\"\",IF(I50=\"\",\"\",IF($C50=\"TOTAL\",SUM($M$8:M49),SUM(E50-I50))))),\"\")","v":""},{"$f":"IFERROR(IF(C50=\"\",\"\",IF(F50=\"\",\"\",IF(J50=\"\",\"\",IF($C50=\"TOTAL\",SUM($N$8:N49),SUM(F50-J50))))),\"\")","v":""},"",{"$f":"IFERROR(IF(C50=\"\",\"\",IF($C50=\"TOTAL\",SUM($P$8:P49),IF(AND(C50>$AO$1,$AF$3=$AO$2),BR51,IF($AR$18=$AR$20,SUM(BE51+BM51),ROUND((D50+E50)*10%,0))))),\"\")","v":""},{"$f":"IFERROR(IF(C50=\"\",\"\",IF(H50=\"\",\"\",IF(I50=\"\",\"\",IF($C50=\"TOTAL\",SUM($Q$8:Q49),IF(AND(C50>$AO$1,$AF$3=$AO$2),BR51,IF($AR$18=$AR$20,$AR$21,ROUND((H50+I50)*10%,0))))))),\"\")","v":""},"",{"$f":"IFERROR(IF(C50=\"\",\"\",IF($AR$16=$AR$17,0,IF($C50=\"TOTAL\",SUM($S$8:S49),IF($AR$19=$AR$31,0,IF(AND($AR$32=$AR$20,C50=$AR$33),$AR$34,S49))))),\"\")","v":""},{"$f":"IFERROR(IF(C50=\"\",\"\",IF($AR$16=$AR$17,0,IF($C50=\"TOTAL\",SUM($T$8:T49),IF($AR$19=$AR$20,$AR$24,0)))),\"\")","v":""},"",{"$f":"IF(C50=\"\",\"\",IF($C50=\"TOTAL\",SUM($V$8:V49),IF(AND($AR$2=$AR$20,C50=$AR$1),ROUND(D50/31*$AS$2,0),IF(C50=$AP$6,ROUND((G50)*1/30,0),IF(C50=$AQ$6,ROUND((G50)*1/31,0),\"\")))))","v":""},{"$f":"IF(C50=\"\",\"\",IF($C50=\"TOTAL\",SUM($W$8:W49),IF(AND($AR$2=$AR$20,C50=$AR$1),ROUND(H50/31*$AS$2,0),IF(C50=$AP$6,ROUND((K50)*1/30,0),IF(C50=$AQ$6,ROUND((K50)*1/31,0),\"\")))))","v":""},"",{"$f":"IFERROR(IF(C50=\"\",\"\",IF($AR$16=$AR$17,0,IF($AF$3=$AO$4,\"\",IF($C50=\"TOTAL\",SUM($Y$8:Y49),BU50)))),\"\")","v":""},{"$f":"IFERROR(IF(C50=\"\",\"\",IF($AR$16=$AR$17,0,IF($AF$3=$AO$4,\"\",IF($C50=\"TOTAL\",SUM($Z$8:Z49),BT50)))),\"\")","v":""},"",{"$f":"IFERROR(IF(C50=\"\",\"\",IF(AND(BK51=\"\",BR51=\"\"),\"\",IF($C50=\"TOTAL\",SUM($AB$8:AB49),BK51))),\"\")","v":""},{"$f":"IFERROR(IF(C50=\"\",\"\",IF($C50=\"TOTAL\",SUM($AC$8:AC49),ROUND(O50*$AR$7%,0))),\"\")","v":""},{"$f":"IFERROR(IF(C50=\"\",\"\",IF($C50=\"TOTAL\",SUM($AD$8:AD49),IF($AF$3=$AO$2,SUM(U50,X50,AB50,AC50),SUM(R50,U50,X50,AB50,AC50)))),\"\")","v":""},{"$f":"IFERROR(IF(C50=\"\",\"\",IF($C50=\"TOTAL\",SUM($AE$8:AE49),SUM(O50-AD50))),\"\")","v":""},{"$nulls":8},42,42,null,"2020-06-01",null,"2026-06-01","","","","","","","",null,"","","","",null,null,"","","","",0,0,{"$nulls":4},"",null,"",{"$f":"IF(AW51=\"\",\"\",IF(AW51=\"TOTAL\",\"\",IF($AR$16=$AR$17,0,IF(AND(AW51>$BT$1,$AF$3=$AO$2,'Master Sheet'!$D$31>0),'Master Sheet'!$D$31,IF(AND(AW51=$BT$1,$AF$3=$AO$2),IF($AR$9<18001,135,IF($AR$9<33501,220,IF($AR$9<54001,330,440))),IF(AND(AW51>$BT$1,$AF$3=$AO$2),IF($AR$9<18001,265,IF($AR$9<33501,440,IF($AR$9<54001,658,875))),\"\"))))))","v":""}]
["","","",{"$f":"IFERROR(IF($C50=\"TOTAL\",\"अक्षरें राशि :-\",IF($C51=\"TOTAL\",SUM($D$8:D50),IF(AX52=\"\",\"\",AX52))),\"\")","v":""},{"$f":"IFERROR(IF($C51=\"TOTAL\",SUM($E$8:E50),IF(AY52=\"\",\"\",AY52)),\"\")","v":""},{"$f":"IFERROR(IF($C51=\"TOTAL\",SUM($F$8:F50),IF(OR(C51=$AP$16,C51=$AP$17,C51=$AP$18,C51=$AP$19,C51=$AP$20,C51=$AP$21,C51=$AP$22,C51=$AP$23,C51=$AP$24),0,IF(AZ52=\"\",\"\",AZ52))),\"\")","v":""},"",{"$f":"IFERROR(IF($C51=\"TOTAL\",SUM($H$8:H50),IF(BB52=\"\",\"\",BB52)),\"\")","v":""},{"$f":"IFERROR(IF($C51=\"TOTAL\",SUM($I$8:I50),IF(BC52=\"\",\"\",BC52)),\"\")","v":""},{"$f":"IFERROR(IF($C51=\"TOTAL\",SUM($J$8:J50),IF(OR(C51=$AP$16,C51=$AP$17,C51=$AP$18,C51=$AP$19,C51=$AP$20,C51=$AP$21,C51=$AP$22,C51=$AP$23,C51=$AP$24),0,IF(BD52=\"\",\"\",BD52))),\"\")","v":""},"",{"$f":"IFERROR(IF(C51=\"\",\"\",IF(D51=\"\",\"\",IF(H51=\"\",\"\",IF($C51=\"TOTAL\",SUM($L$8:L50),SUM(D51-H51))))),\"\")","v":""},{"$f":"IFERROR(IF(C51=\"\",\"\",IF(E51=\"\",\"\",IF(I51=\"\",\"\",IF($C51=\"TOTAL\",SUM($M$8:M50),SUM(E51-I51))))),\"\")","v":""},{"$f":"IFERROR(IF(C51=\"\",\"\",IF(F51=\"\",\"\",IF(J51=\"\",\"\",IF($C51=\"TOTAL\",SUM($N$8:N50),SUM(F51-J51))))),\"\")","v":""},"",{"$f":"IFERROR(IF(C51=\"\",\"\",IF($C51=\"TOTAL\",SUM($P$8:P50),IF(AND(C51>$AO$1,$AF$3=$AO$2),BR52,IF($AR$18=$AR$20,SUM(BE52+BM52),ROUND((D51+E51)*10%,0))))),\"\")","v":""},{"$f":"IFERROR(IF(C51=\"\",\"\",IF(H51=\"\",\"\",IF(I51=\"\",\"\",IF($C51=\"TOTAL\",SUM($Q$8:Q50),IF(AND(C51>$AO$1,$AF$3=$AO$2),BR52,IF($AR$18=$AR$20,$AR$21,ROUND((H51+I51)*10%,0))))))),\"\")","v":""},"",{"$f":"IFERROR(IF(C51=\"\",\"\",IF($AR$16=$AR$17,0,IF($C51=\"TOTAL\",SUM($S$8:S50),IF($AR$19=$AR$31,0,IF(AND($AR$32=$AR$20,C51=$AR$33),$AR$34,S50))))),\"\")","v":""},{"$f":"IFERROR(IF(C51=\"\",\"\",IF($AR$16=$AR$17,0,IF($C51=\"TOTAL\",SUM($T$8:T50),IF($AR$19=$AR$20,$AR$24,0)))),\"\")","v":""},"",{"$f":"IF(C51=\"\",\"\",IF($C51=\"TOTAL\",SUM($V$8:V50),IF(AND($AR$2=$AR$20,C51=$AR$1),ROUND(D51/31*$AS$2,0),IF(C51=$AP$6,ROUND((G51)*1/30,0),IF(C51=$AQ$6,ROUND((G51)*1/31,0),\"\")))))","v":""},{"$f":"IF(C51=\"\",\"\",IF($C51=\"TOTAL\",SUM($W$8:W50),IF(AND($AR$2=$AR$20,C51=$AR$1),ROUND(H51/31*$AS$2,0),IF(C51=$AP$6,ROUND((K51)*1/30,0),IF(C51=$AQ$6,ROUND((K51)*1/31,0),\"\")))))","v":""},"",{"$f":"IFERROR(IF(C51=\"\",\"\",IF($AR$16=$AR$17,0,IF($AF$3=$AO$4,\"\",IF($C51=\"TOTAL\",SUM($Y$8:Y50),BU51)))),\"\")","v":""},{"$f":"IFERROR(IF(C51=\"\",\"\",IF($AR$16=$AR$17,0,IF($AF$3=$AO$4,\"\",IF($C51=\"TOTAL\",SUM($Z$8:Z50),BT51)))),\"\")","v":""},"",{"$f":"IFERROR(IF(C51=\"\",\"\",IF(AND(BK52=\"\",BR52=\"\"),\"\",IF($C51=\"TOTAL\",SUM($AB$8:AB50),BK52))),\"\")","v":""},{"$f":"IFERROR(IF(C51=\"\",\"\",IF($C51=\"TOTAL\",SUM($AC$8:AC50),ROUND(O51*$AR$7%,0))),\"\")","v":""},{"$f":"IFERROR(IF(C51=\"\",\"\",IF($C51=\"TOTAL\",SUM($AD$8:AD50),IF($AF$3=$AO$2,SUM(U51,X51,AB51,AC51),SUM(R51,U51,X51,AB51,AC51)))),\"\")","v":""},{"$f":"IFERROR(IF(C51=\"\",\"\",IF($C51=\"TOTAL\",SUM($AE$8:AE50),SUM(O51-AD51))),\"\")","v":""},{"$nulls":8},42,42,null,"2020-07-01",null,"2026-07-01","","","","","","","",null,"","","","",null,null,"","","","",0,0,{"$nulls":4},"",null,"",{"$f":"IF(AW52=\"\",\"\",IF(AW52=\"TOTAL\",\"\",IF($AR$16=$AR$17,0,IF(AND(AW52>$BT$1,$AF$3=$AO$2,'Master Sheet'!$D$31>0),'Master Sheet'!$D$31,IF(AND(AW52=$BT$1,$AF$3=$AO$2),IF($AR$9<18001,135,IF($AR$9<33501,220,IF($AR$9<54001,330,440))),IF(AND(AW52>$BT$1,$AF$3=$AO$2),IF($AR$9<18001,265,IF($AR$9<33501,440,IF($AR$9<54001,658,875))),\"\"))))))","v":""}]
["","","",{"$f":"IFERROR(IF($C51=\"TOTAL\",\"अक्षरें राशि :-\",IF($C52=\"TOTAL\",SUM($D$8:D51),IF(AX53=\"\",\"\",AX53))),\"\")","v":""},{"$f":"IFERROR(IF($C52=\"TOTAL\",SUM($E$8:E51),IF(AY53=\"\",\"\",AY53)),\"\")","v":""},{"$f":"IFERROR(IF($C52=\"TOTAL\",SUM($F$8:F51),IF(OR(C52=$AP$16,C52=$AP$17,C52=$AP$18,C52=$AP$19,C52=$AP$20,C52=$AP$21,C52=$AP$22,C52=$AP$23,C52=$AP$24),0,IF(AZ53=\"\",\"\",AZ53))),\"\")","v":""},"",{"$f":"IFERROR(IF($C52=\"TOTAL\",SUM($H$8:H51),IF(BB53=\"\",\"\",BB53)),\"\")","v":""},{"$f":"IFERROR(IF($C52=\"TOTAL\",SUM($I$8:I51),IF(BC53=\"\",\"\",BC53)),\"\")","v":""},{"$f":"IFERROR(IF($C52=\"TOTAL\",SUM($J$8:J51),IF(OR(C52=$AP$16,C52=$AP$17,C52=$AP$18,C52=$AP$19,C52=$AP$20,C52=$AP$21,C52=$AP$22,C52=$AP$23,C52=$AP$24),0,IF(BD53=\"\",\"\",BD53))),\"\")","v":""},"",{"$f":"IFERROR(IF(C52=\"\",\"\",IF(D52=\"\",\"\",IF(H52=\"\",\"\",IF($C52=\"TOTAL\",SUM($L$8:L51),SUM(D52-H52))))),\"\")","v":""},{"$f":"IFERROR(IF(C52=\"\",\"\",IF(E52=\"\",\"\",IF(I52=\"\",\"\",IF($C52=\"TOTAL\",SUM($M$8:M51),SUM(E52-I52))))),\"\")","v":""},{"$f":"IFERROR(IF(C52=\"\",\"\",IF(F52=\"\",\"\",IF(J52=\"\",\"\",IF($C52=\"TOTAL\",SUM($N$8:N51),SUM(F52-J52))))),\"\")","v":""},"",{"$f":"IFERROR(IF(C52=\"\",\"\",IF($C52=\"TOTAL\",SUM($P$8:P51),IF(AND(C52>$AO$1,$AF$3=$AO$2),BR53,IF($AR$18=$AR$20,SUM(BE53+BM53),ROUND((D52+E52)*10%,0))))),\"\")","v":""},{"$f":"IFERROR(IF(C52=\"\",\"\",IF(H52=\"\",\"\",IF(I52=\"\",\"\",IF($C52=\"TOTAL\",SUM($Q$8:Q51),IF(AND(C52>$AO$1,$AF$3=$AO$2),BR53,IF($AR$18=$AR$20,$AR$21,ROUND((H52+I52)*10%,0))))))),\"\")","v":""},"",{"$f":"IFERROR(IF(C52=\"\",\"\",IF($AR$16=$AR$17,0,IF($C52=\"TOTAL\",SUM($S$8:S51),IF($AR$19=$AR$31,0,IF(AND($AR$32=$AR$20,C52=$AR$33),$AR$34,S51))))),\"\")","v":""},{"$f":"IFERROR(IF(C52=\"\",\"\",IF($AR$16=$AR$17,0,IF($C52=\"TOTAL\",SUM($T$8:T51),IF($AR$19=$AR$20,$AR$24,0)))),\"\")","v":""},"",{"$f":"IF(C52=\"\",\"\",IF($C52=\"TOTAL\",SUM($V$8:V51),IF(AND($AR$2=$AR$20,C52=$AR$1),ROUND(D52/31*$AS$2,0),IF(C52=$AP$6,ROUND((G52)*1/30,0),IF(C52=$AQ$6,ROUND((G52)*1/31,0),\"\")))))","v":""},{"$f":"IF(C52=\"\",\"\",IF($C52=\"TOTAL\",SUM($W$8:W51),IF(AND($AR$2=$AR$20,C52=$AR$1),ROUND(H52/31*$AS$2,0),IF(C52=$AP$6,ROUND((K52)*1/30,0),IF(C52=$AQ$6,ROUND((K52)*1/31,0),\"\")))))","v":""},"",{"$f":"IFERROR(IF(C52=\"\",\"\",IF($AR$16=$AR$17,0,IF($AF$3=$AO$4,\"\",IF($C52=\"TOTAL\",SUM($Y$8:Y51),BU52)))),\"\")","v":""},{"$f":"IFERROR(IF(C52=\"\",\"\",IF($AR$16=$AR$17,0,IF($AF$3=$AO$4,\"\",IF($C52=\"TOTAL\",SUM($Z$8:Z51),BT52)))),\"\")","v":""},"",{"$f":"IFERROR(IF(C52=\"\",\"\",IF(AND(BK53=\"\",BR53=\"\"),\"\",IF($C52=\"TOTAL\",SUM($AB$8:AB51),BK53))),\"\")","v":""},{"$f":"IFERROR(IF(C52=\"\",\"\",IF($C52=\"TOTAL\",SUM($AC$8:AC51),ROUND(O52*$AR$7%,0))),\"\")","v":""},{"$f":"IFERROR(IF(C52=\"\",\"\",IF($C52=\"TOTAL\",SUM($AD$8:AD51),IF($AF$3=$AO$2,SUM(U52,X52,AB52,AC52),SUM(R52,U52,X52,AB52,AC52)))),\"\")","v":""},{"$f":"IFERROR(IF(C52=\"\",\"\",IF($C52=\"TOTAL\",SUM($AE$8:AE51),SUM(O52-AD52))),\"\")","v":""},{"$nulls":8},42,42,null,"2020-08-01",null,"2026-08-01","","","","","","","",null,"","","","",null,null,"","","","",0,0,{"$nulls":4},"",null,"",{"$f":"IF(AW53=\"\",\"\",IF(AW53=\"TOTAL\",\"\",IF($AR$16=$AR$17,0,IF(AND(AW53>$BT$1,$AF$3=$AO$2,'Master Sheet'!$D$31>0),'Master Sheet'!$D$31,IF(AND(AW53=$BT$1,$AF$3=$AO$2),IF($AR$9<18001,135,IF($AR$9<33501,220,IF($AR$9<54001,330,440))),IF(AND(AW53>$BT$1,$AF$3=$AO$2),IF($AR$9<18001,265,IF($AR$9<33501,440,IF($AR$9<54001,658,875))),\"\"))))))","v":""}]
["","","",{"$f":"IFERROR(IF($C52=\"TOTAL\",\"अक्षरें राशि :-\",IF($C53=\"TOTAL\",SUM($D$8:D52),IF(AX54=\"\",\"\",AX54))),\"\")","v":""},{"$f":"IFERROR(IF($C53=\"TOTAL\",SUM($E$8:E52),IF(AY54=\"\",\"\",AY54)),\"\")","v":""},{"$f":"IFERROR(IF($C53=\"TOTAL\",SUM($F$8:F52),IF(OR(C53=$AP$16,C53=$AP$17,C53=$AP$18,C53=$AP$19,C53=$AP$20,C53=$AP$21,C53=$AP$22,C53=$AP$23,C53=$AP$24),0,IF(AZ54=\"\",\"\",AZ54))),\"\")","v":""},"",{"$f":"IFERROR(IF($C53=\"TOTAL\",SUM($H$8:H52),IF(BB54=\"\",\"\",BB54)),\"\")","v":""},{"$f":"IFERROR(IF($C53=\"TOTAL\",SUM($I$8:I52),IF(BC54=\"\",\"\",BC54)),\"\")","v":""},{"$f":"IFERROR(IF($C53=\"TOTAL\",SUM($J$8:J52),IF(OR(C53=$AP$16,C53=$AP$17,C53=$AP$18,C53=$AP$19,C53=$AP$20,C53=$AP$21,C53=$AP$22,C53=$AP$23,C53=$AP$24),0,IF(BD54=\"\",\"\",BD54))),\"\")","v":""},"",{"$f":"IFERROR(IF(C53=\"\",\"\",IF(D53=\"\",\"\",IF(H53=\"\",\"\",IF($C53=\"TOTAL\",SUM($L$8:L52),SUM(D53-H53))))),\"\")","v":""},{"$f":"IFERROR(IF(C53=\"\",\"\",IF(E53=\"\",\"\",IF(I53=\"\",\"\",IF($C53=\"TOTAL\",SUM($M$8:M52),SUM(E53-I53))))),\"\")","v":""},{"$f":"IFERROR(IF(C53=\"\",\"\",IF(F53=\"\",\"\",IF(J53=\"\",\"\",IF($C53=\"TOTAL\",SUM($N$8:N52),SUM(F53-J53))))),\"\")","v":""},"",{"$f":"IFERROR(IF(C53=\"\",\"\",IF($C53=\"TOTAL\",SUM($P$8:P52),IF(AND(C53>$AO$1,$AF$3=$AO$2),BR54,IF($AR$18=$AR$20,SUM(BE54+BM54),ROUND((D53+E53)*10%,0))))),\"\")","v":""},{"$f":"IFERROR(IF(C53=\"\",\"\",IF(H53=\"\",\"\",IF(I53=\"\",\"\",IF($C53=\"TOTAL\",SUM($Q$8:Q52),IF(AND(C53>$AO$1,$AF$3=$AO$2),BR54,IF($AR$18=$AR$20,$AR$21,ROUND((H53+I53)*10%,0))))))),\"\")","v":""},"",{"$f":"IFERROR(IF(C53=\"\",\"\",IF($AR$16=$AR$17,0,IF($C53=\"TOTAL\",SUM($S$8:S52),IF($AR$19=$AR$31,0,IF(AND($AR$32=$AR$20,C53=$AR$33),$AR$34,S52))))),\"\")","v":""},{"$f":"IFERROR(IF(C53=\"\",\"\",IF($AR$16=$AR$17,0,IF($C53=\"TOTAL\",SUM($T$8:T52),IF($AR$19=$AR$20,$AR$24,0)))),\"\")","v":""},"",{"$f":"IF(C53=\"\",\"\",IF($C53=\"TOTAL\",SUM($V$8:V52),IF(AND($AR$2=$AR$20,C53=$AR$1),ROUND(D53/31*$AS$2,0),IF(C53=$AP$6,ROUND((G53)*1/30,0),IF(C53=$AQ$6,ROUND((G53)*1/31,0),\"\")))))","v":""},{"$f":"IF(C53=\"\",\"\",IF($C53=\"TOTAL\",SUM($W$8:W52),IF(AND($AR$2=$AR$20,C53=$AR$1),ROUND(H53/31*$AS$2,0),IF(C53=$AP$6,ROUND((K53)*1/30,0),IF(C53=$AQ$6,ROUND((K53)*1/31,0),\"\")))))","v":""},"",{"$f":"IFERROR(IF(C53=\"\",\"\",IF($AR$16=$AR$17,0,IF($AF$3=$AO$4,\"\",IF($C53=\"TOTAL\",SUM($Y$8:Y52),BU53)))),\"\")","v":""},{"$f":"IFERROR(IF(C53=\"\",\"\",IF($AR$16=$AR$17,0,IF($AF$3=$AO$4,\"\",IF($C53=\"TOTAL\",SUM($Z$8:Z52),BT53)))),\"\")","v":""},"",{"$f":"IFERROR(IF(C53=\"\",\"\",IF(AND(BK54=\"\",BR54=\"\"),\"\",IF($C53=\"TOTAL\",SUM($AB$8:AB52),BK54))),\"\")","v":""},{"$f":"IFERROR(IF(C53=\"\",\"\",IF($C53=\"TOTAL\",SUM($AC$8:AC52),ROUND(O53*$AR$7%,0))),\"\")","v":""},{"$f":"IFERROR(IF(C53=\"\",\"\",IF($C53=\"TOTAL\",SUM($AD$8:AD52),IF($AF$3=$AO$2,SUM(U53,X53,AB53,AC53),SUM(R53,U53,X53,AB53,AC53)))),\"\")","v":""},{"$f":"IFERROR(IF(C53=\"\",\"\",IF($C53=\"TOTAL\",SUM($AE$8:AE52),SUM(O53-AD53))),\"\")","v":""},{"$nulls":8},42,42,null,"2020-09-01",null,"2026-09-01","","","","","","","",null,"","","","",null,null,"","","","",0,0,{"$nulls":4},"",null,"",{"$f":"IF(AW54=\"\",\"\",IF(AW54=\"TOTAL\",\"\",IF($AR$16=$AR$17,0,IF(AND(AW54>$BT$1,$AF$3=$AO$2,'Master Sheet'!$D$31>0),'Master Sheet'!$D$31,IF(AND(AW54=$BT$1,$AF$3=$AO$2),IF($AR$9<18001,135,IF($AR$9<33501,220,IF($AR$9<54001,330,440))),IF(AND(AW54>$BT$1,$AF$3=$AO$2),IF($AR$9<18001,265,IF($AR$9<33501,440,IF($AR$9<54001,658,875))),\"\"))))))","v":""}]
["","","",{"$f":"IFERROR(IF($C53=\"TOTAL\",\"अक्षरें राशि :-\",IF($C54=\"TOTAL\",SUM($D$8:D53),IF(AX55=\"\",\"\",AX55))),\"\")","v":""},{"$f":"IFERROR(IF($C54=\"TOTAL\",SUM($E$8:E53),IF(AY55=\"\",\"\",AY55)),\"\")","v":""},{"$f":"IFERROR(IF($C54=\"TOTAL\",SUM($F$8:F53),IF(OR(C54=$AP$16,C54=$AP$17,C54=$AP$18,C54=$AP$19,C54=$AP$20,C54=$AP$21,C54=$AP$22,C54=$AP$23,C54=$AP$24),0,IF(AZ55=\"\",\"\",AZ55))),\"\")","v":""},"",{"$f":"IFERROR(IF($C54=\"TOTAL\",SUM($H$8:H53),IF(BB55=\"\",\"\",BB55)),\"\")","v":""},{"$f":"IFERROR(IF($C54=\"TOTAL\",SUM($I$8:I53),IF(BC55=\"\",\"\",BC55)),\"\")","v":""},{"$f":"IFERROR(IF($C54=\"TOTAL\",SUM($J$8:J53),IF(OR(C54=$AP$16,C54=$AP$17,C54=$AP$18,C54=$AP$19,C54=$AP$20,C54=$AP$21,C54=$AP$22,C54=$AP$23,C54=$AP$24),0,IF(BD55=\"\",\"\",BD55))),\"\")","v":""},"",{"$f":"IFERROR(IF(C54=\"\",\"\",IF(D54=\"\",\"\",IF(H54=\"\",\"\",IF($C54=\"TOTAL\",SUM($L$8:L53),SUM(D54-H54))))),\"\")","v":""},{"$f":"IFERROR(IF(C54=\"\",\"\",IF(E54=\"\",\"\",IF(I54=\"\",\"\",IF($C54=\"TOTAL\",SUM($M$8:M53),SUM(E54-I54))))),\"\")","v":""},{"$f":"IFERROR(IF(C54=\"\",\"\",IF(F54=\"\",\"\",IF(J54=\"\",\"\",IF($C54=\"TOTAL\",SUM($N$8:N53),SUM(F54-J54))))),\"\")","v":""},"",{"$f":"IFERROR(IF(C54=\"\",\"\",IF($C54=\"TOTAL\",SUM($P$8:P53),IF(AND(C54>$AO$1,$AF$3=$AO$2),BR55,IF($AR$18=$AR$20,SUM(BE55+BM55),ROUND((D54+E54)*10%,0))))),\"\")","v":""},{"$f":"IFERROR(IF(C54=\"\",\"\",IF(H54=\"\",\"\",IF(I54=\"\",\"\",IF($C54=\"TOTAL\",SUM($Q$8:Q53),IF(AND(C54>$AO$1,$AF$3=$AO$2),BR55,IF($AR$18=$AR$20,$AR$21,ROUND((H54+I54)*10%,0))))))),\"\")","v":""},"",{"$f":"IFERROR(IF(C54=\"\",\"\",IF($AR$16=$AR$17,0,IF($C54=\"TOTAL\",SUM($S$8:S53),IF($AR$19=$AR$31,0,IF(AND($AR$32=$AR$20,C54=$AR$33),$AR$34,S53))))),\"\")","v":""},{"$f":"IFERROR(IF(C54=\"\",\"\",IF($AR$16=$AR$17,0,IF($C54=\"TOTAL\",SUM($T$8:T53),IF($AR$19=$AR$20,$AR$24,0)))),\"\")","v":""},"",{"$f":"IF(C54=\"\",\"\",IF($C54=\"TOTAL\",SUM($V$8:V53),IF(AND($AR$2=$AR$20,C54=$AR$1),ROUND(D54/31*$AS$2,0),IF(C54=$AP$6,ROUND((G54)*1/30,0),IF(C54=$AQ$6,ROUND((G54)*1/31,0),\"\")))))","v":""},{"$f":"IF(C54=\"\",\"\",IF($C54=\"TOTAL\",SUM($W$8:W53),IF(AND($AR$2=$AR$20,C54=$AR$1),ROUND(H54/31*$AS$2,0),IF(C54=$AP$6,ROUND((K54)*1/30,0),IF(C54=$AQ$6,ROUND((K54)*1/31,0),\"\")))))","v":""},"",{"$f":"IFERROR(IF(C54=\"\",\"\",IF($AR$16=$AR$17,0,IF($AF$3=$AO$4,\"\",IF($C54=\"TOTAL\",SUM($Y$8:Y53),BU54)))),\"\")","v":""},{"$f":"IFERROR(IF(C54=\"\",\"\",IF($AR$16=$AR$17,0,IF($AF$3=$AO$4,\"\",IF($C54=\"TOTAL\",SUM($Z$8:Z53),BT54)))),\"\")","v":""},"",{"$f":"IFERROR(IF(C54=\"\",\"\",IF(AND(BK55=\"\",BR55=\"\"),\"\",IF($C54=\"TOTAL\",SUM($AB$8:AB53),BK55))),\"\")","v":""},{"$f":"IFERROR(IF(C54=\"\",\"\",IF($C54=\"TOTAL\",SUM($AC$8:AC53),ROUND(O54*$AR$7%,0))),\"\")","v":""},{"$f":"IFERROR(IF(C54=\"\",\"\",IF($C54=\"TOTAL\",SUM($AD$8:AD53),IF($AF$3=$AO$2,SUM(U54,X54,AB54,AC54),SUM(R54,U54,X54,AB54,AC54)))),\"\")","v":""},{"$f":"IFERROR(IF(C54=\"\",\"\",IF($C54=\"TOTAL\",SUM($AE$8:AE53),SUM(O54-AD54))),\"\")","v":""},{"$nulls":8},42,42,null,"2020-10-01",null,"2026-10-01","","","","","","","",null,"","","","",null,null,"","","","",0,0,{"$nulls":4},"",null,"",{"$f":"IF(AW55=\"\",\"\",IF(AW55=\"TOTAL\",\"\",IF($AR$16=$AR$17,0,IF(AND(AW55>$BT$1,$AF$3=$AO$2,'Master Sheet'!$D$31>0),'Master Sheet'!$D$31,IF(AND(AW55=$BT$1,$AF$3=$AO$2),IF($AR$9<18001,135,IF($AR$9<33501,220,IF($AR$9<54001,330,440))),IF(AND(AW55>$BT$1,$AF$3=$AO$2),IF($AR$9<18001,265,IF($AR$9<33501,440,IF($AR$9<54001,658,875))),\"\"))))))","v":""}]
["","","",{"$f":"IFERROR(IF($C54=\"TOTAL\",\"अक्षरें राशि :-\",IF($C55=\"TOTAL\",SUM($D$8:D54),IF(AX56=\"\",\"\",AX56))),\"\")","v":""},{"$f":"IFERROR(IF($C55=\"TOTAL\",SUM($E$8:E54),IF(AY56=\"\",\"\",AY56)),\"\")","v":""},{"$f":"IFERROR(IF($C55=\"TOTAL\",SUM($F$8:F54),IF(OR(C55=$AP$16,C55=$AP$17,C55=$AP$18,C55=$AP$19,C55=$AP$20,C55=$AP$21,C55=$AP$22,C55=$AP$23,C55=$AP$24),0,IF(AZ56=\"\",\"\",AZ56))),\"\")","v":""},"",{"$f":"IFERROR(IF($C55=\"TOTAL\",SUM($H$8:H54),IF(BB56=\"\",\"\",BB56)),\"\")","v":""},{"$f":"IFERROR(IF($C55=\"TOTAL\",SUM($I$8:I54),IF(BC56=\"\",\"\",BC56)),\"\")","v":""},{"$f":"IFERROR(IF($C55=\"TOTAL\",SUM($J$8:J54),IF(OR(C55=$AP$16,C55=$AP$17,C55=$AP$18,C55=$AP$19,C55=$AP$20,C55=$AP$21,C55=$AP$22,C55=$AP$23,C55=$AP$24),0,IF(BD56=\"\",\"\",BD56))),\"\")","v":""},"",{"$f":"IFERROR(IF(C55=\"\",\"\",IF(D55=\"\",\"\",IF(H55=\"\",\"\",IF($C55=\"TOTAL\",SUM($L$8:L54),SUM(D55-H55))))),\"\")","v":""},{"$f":"IFERROR(IF(C55=\"\",\"\",IF(E55=\"\",\"\",IF(I55=\"\",\"\",IF($C55=\"TOTAL\",SUM($M$8:M54),SUM(E55-I55))))),\"\")","v":""},{"$f":"IFERROR(IF(C55=\"\",\"\",IF(F55=\"\",\"\",IF(J55=\"\",\"\",IF($C55=\"TOTAL\",SUM($N$8:N54),SUM(F55-J55))))),\"\")","v":""},"",{"$f":"IFERROR(IF(C55=\"\",\"\",IF($C55=\"TOTAL\",SUM($P$8:P54),IF(AND(C55>$AO$1,$AF$3=$AO$2),BR56,IF($AR$18=$AR$20,SUM(BE56+BM56),ROUND((D55+E55)*10%,0))))),\"\")","v":""},{"$f":"IFERROR(IF(C55=\"\",\"\",IF(H55=\"\",\"\",IF(I55=\"\",\"\",IF($C55=\"TOTAL\",SUM($Q$8:Q54),IF(AND(C55>$AO$1,$AF$3=$AO$2),BR56,IF($AR$18=$AR$20,$AR$21,ROUND((H55+I55)*10%,0))))))),\"\")","v":""},"",{"$f":"IFERROR(IF(C55=\"\",\"\",IF($AR$16=$AR$17,0,IF($C55=\"TOTAL\",SUM($S$8:S54),IF($AR$19=$AR$31,0,IF(AND($AR$32=$AR$20,C55=$AR$33),$AR$34,S54))))),\"\")","v":""},{"$f":"IFERROR(IF(C55=\"\",\"\",IF($AR$16=$AR$17,0,IF($C55=\"TOTAL\",SUM($T$8:T54),IF($AR$19=$AR$20,$AR$24,0)))),\"\")","v":""},"",{"$f":"IF(C55=\"\",\"\",IF($C55=\"TOTAL\",SUM($V$8:V54),IF(AND($AR$2=$AR$20,C55=$AR$1),ROUND(D55/31*$AS$2,0),IF(C55=$AP$6,ROUND((G55)*1/30,0),IF(C55=$AQ$6,ROUND((G55)*1/31,0),\"\")))))","v":""},{"$f":"IF(C55=\"\",\"\",IF($C55=\"TOTAL\",SUM($W$8:W54),IF(AND($AR$2=$AR$20,C55=$AR$1),ROUND(H55/31*$AS$2,0),IF(C55=$AP$6,ROUND((K55)*1/30,0),IF(C55=$AQ$6,ROUND((K55)*1/31,0),\"\")))))","v":""},"",{"$f":"IFERROR(IF(C55=\"\",\"\",IF($AR$16=$AR$17,0,IF($AF$3=$AO$4,\"\",IF($C55=\"TOTAL\",SUM($Y$8:Y54),BU55)))),\"\")","v":""},{"$f":"IFERROR(IF(C55=\"\",\"\",IF($AR$16=$AR$17,0,IF($AF$3=$AO$4,\"\",IF($C55=\"TOTAL\",SUM($Z$8:Z54),BT55)))),\"\")","v":""},"",{"$f":"IFERROR(IF(C55=\"\",\"\",IF(AND(BK56=\"\",BR56=\"\"),\"\",IF($C55=\"TOTAL\",SUM($AB$8:AB54),BK56))),\"\")","v":""},{"$f":"IFERROR(IF(C55=\"\",\"\",IF($C55=\"TOTAL\",SUM($AC$8:AC54),ROUND(O55*$AR$7%,0))),\"\")","v":""},{"$f":"IFERROR(IF(C55=\"\",\"\",IF($C55=\"TOTAL\",SUM($AD$8:AD54),IF($AF$3=$AO$2,SUM(U55,X55,AB55,AC55),SUM(R55,U55,X55,AB55,AC55)))),\"\")","v":""},{"$f":"IFERROR(IF(C55=\"\",\"\",IF($C55=\"TOTAL\",SUM($AE$8:AE54),SUM(O55-AD55))),\"\")","v":""},{"$nulls":8},42,42,null,"2020-11-01",null,"2026-11-01","","","","","","","",null,"","","","",null,null,"","","","",0,0,{"$nulls":4},"",null,"",{"$f":"IF(AW56=\"\",\"\",IF(AW56=\"TOTAL\",\"\",IF($AR$16=$AR$17,0,IF(AND(AW56>$BT$1,$AF$3=$AO$2,'Master Sheet'!$D$31>0),'Master Sheet'!$D$31,IF(AND(AW56=$BT$1,$AF$3=$AO$2),IF($AR$9<18001,135,IF($AR$9<33501,220,IF($AR$9<54001,330,440))),IF(AND(AW56>$BT$1,$AF$3=$AO$2),IF($AR$9<18001,265,IF($AR$9<33501,440,IF($AR$9<54001,658,875))),\"\"))))))","v":""}]
["","","",{"$f":"IFERROR(IF($C55=\"TOTAL\",\"अक्षरें राशि :-\",IF($C56=\"TOTAL\",SUM($D$8:D55),IF(AX57=\"\",\"\",AX57))),\"\")","v":""},{"$f":"IFERROR(IF($C56=\"TOTAL\",SUM($E$8:E55),IF(AY57=\"\",\"\",AY57)),\"\")","v":""},{"$f":"IFERROR(IF($C56=\"TOTAL\",SUM($F$8:F55),IF(OR(C56=$AP$16,C56=$AP$17,C56=$AP$18,C56=$AP$19,C56=$AP$20,C56=$AP$21,C56=$AP$22,C56=$AP$23,C56=$AP$24),0,IF(AZ57=\"\",\"\",AZ57))),\"\")","v":""},"",{"$f":"IFERROR(IF($C56=\"TOTAL\",SUM($H$8:H55),IF(BB57=\"\",\"\",BB57)),\"\")","v":""},{"$f":"IFERROR(IF($C56=\"TOTAL\",SUM($I$8:I55),IF(BC57=\"\",\"\",BC57)),\"\")","v":""},{"$f":"IFERROR(IF($C56=\"TOTAL\",SUM($J$8:J55),IF(OR(C56=$AP$16,C56=$AP$17,C56=$AP$18,C56=$AP$19,C56=$AP$20,C56=$AP$21,C56=$AP$22,C56=$AP$23,C56=$AP$24),0,IF(BD57=\"\",\"\",BD57))),\"\")","v":""},"",{"$f":"IFERROR(IF(C56=\"\",\"\",IF(D56=\"\",\"\",IF(H56=\"\",\"\",IF($C56=\"TOTAL\",SUM($L$8:L55),SUM(D56-H56))))),\"\")","v":""},{"$f":"IFERROR(IF(C56=\"\",\"\",IF(E56=\"\",\"\",IF(I56=\"\",\"\",IF($C56=\"TOTAL\",SUM($M$8:M55),SUM(E56-I56))))),\"\")","v":""},{"$f":"IFERROR(IF(C56=\"\",\"\",IF(F56=\"\",\"\",IF(J56=\"\",\"\",IF($C56=\"TOTAL\",SUM($N$8:N55),SUM(F56-J56))))),\"\")","v":""},"",{"$f":"IFERROR(IF(C56=\"\",\"\",IF($C56=\"TOTAL\",SUM($P$8:P55),IF(AND(C56>$AO$1,$AF$3=$AO$2),BR57,IF($AR$18=$AR$20,SUM(BE57+BM57),ROUND((D56+E56)*10%,0))))),\"\")","v":""},{"$f":"IFERROR(IF(C56=\"\",\"\",IF(H56=\"\",\"\",IF(I56=\"\",\"\",IF($C56=\"TOTAL\",SUM($Q$8:Q55),IF(AND(C56>$AO$1,$AF$3=$AO$2),BR57,IF($AR$18=$AR$20,$AR$21,ROUND((H56+I56)*10%,0))))))),\"\")","v":""},"",{"$f":"IFERROR(IF(C56=\"\",\"\",IF($AR$16=$AR$17,0,IF($C56=\"TOTAL\",SUM($S$8:S55),IF($AR$19=$AR$31,0,IF(AND($AR$32=$AR$20,C56=$AR$33),$AR$34,S55))))),\"\")","v":""},{"$f":"IFERROR(IF(C56=\"\",\"\",IF($AR$16=$AR$17,0,IF($C56=\"TOTAL\",SUM($T$8:T55),IF($AR$19=$AR$20,$AR$24,0)))),\"\")","v":""},"",{"$f":"IF(C56=\"\",\"\",IF($C56=\"TOTAL\",SUM($V$8:V55),IF(AND($AR$2=$AR$20,C56=$AR$1),ROUND(D56/31*$AS$2,0),IF(C56=$AP$6,ROUND((G56)*1/30,0),IF(C56=$AQ$6,ROUND((G56)*1/31,0),\"\")))))","v":""},{"$f":"IF(C56=\"\",\"\",IF($C56=\"TOTAL\",SUM($W$8:W55),IF(AND($AR$2=$AR$20,C56=$AR$1),ROUND(H56/31*$AS$2,0),IF(C56=$AP$6,ROUND((K56)*1/30,0),IF(C56=$AQ$6,ROUND((K56)*1/31,0),\"\")))))","v":""},"",{"$f":"IFERROR(IF(C56=\"\",\"\",IF($AR$16=$AR$17,0,IF($AF$3=$AO$4,\"\",IF($C56=\"TOTAL\",SUM($Y$8:Y55),BU56)))),\"\")","v":""},{"$f":"IFERROR(IF(C56=\"\",\"\",IF($AR$16=$AR$17,0,IF($AF$3=$AO$4,\"\",IF($C56=\"TOTAL\",SUM($Z$8:Z55),BT56)))),\"\")","v":""},"",{"$f":"IFERROR(IF(C56=\"\",\"\",IF(AND(BK57=\"\",BR57=\"\"),\"\",IF($C56=\"TOTAL\",SUM($AB$8:AB55),BK57))),\"\")","v":""},{"$f":"IFERROR(IF(C56=\"\",\"\",IF($C56=\"TOTAL\",SUM($AC$8:AC55),ROUND(O56*$AR$7%,0))),\"\")","v":""},{"$f":"IFERROR(IF(C56=\"\",\"\",IF($C56=\"TOTAL\",SUM($AD$8:AD55),IF($AF$3=$AO$2,SUM(U56,X56,AB56,AC56),SUM(R56,U56,X56,AB56,AC56)))),\"\")","v":""},{"$f":"IFERROR(IF(C56=\"\",\"\",IF($C56=\"TOTAL\",SUM($AE$8:AE55),SUM(O56-AD56))),\"\")","v":""},{"$nulls":8},42,42,null,"2020-12-01",null,"2026-12-01","","","","","","","",null,"","","","",null,null,"","","","",0,0,{"$nulls":4},"",null,"",{"$f":"IF(AW57=\"\",\"\",IF(AW57=\"TOTAL\",\"\",IF($AR$16=$AR$17,0,IF(AND(AW57>$BT$1,$AF$3=$AO$2,'Master Sheet'!$D$31>0),'Master Sheet'!$D$31,IF(AND(AW57=$BT$1,$AF$3=$AO$2),IF($AR$9<18001,135,IF($AR$9<33501,220,IF($AR$9<54001,330,440))),IF(AND(AW57>$BT$1,$AF$3=$AO$2),IF($AR$9<18001,265,IF($AR$9<33501,440,IF($AR$9<54001,658,875))),\"\"))))))","v":""}]
["","","",{"$f":"IFERROR(IF($C56=\"TOTAL\",\"अक्षरें राशि :-\",IF($C57=\"TOTAL\",SUM($D$8:D56),IF(AX58=\"\",\"\",AX58))),\"\")","v":""},{"$f":"IFERROR(IF($C57=\"TOTAL\",SUM($E$8:E56),IF(AY58=\"\",\"\",AY58)),\"\")","v":""},{"$f":"IFERROR(IF($C57=\"TOTAL\",SUM($F$8:F56),IF(OR(C57=$AP$16,C57=$AP$17,C57=$AP$18,C57=$AP$19,C57=$AP$20,C57=$AP$21,C57=$AP$22,C57=$AP$23,C57=$AP$24),0,IF(AZ58=\"\",\"\",AZ58))),\"\")","v":""},"",{"$f":"IFERROR(IF($C57=\"TOTAL\",SUM($H$8:H56),IF(BB58=\"\",\"\",BB58)),\"\")","v":""},{"$f":"IFERROR(IF($C57=\"TOTAL\",SUM($I$8:I56),IF(BC58=\"\",\"\",BC58)),\"\")","v":""},{"$f":"IFERROR(IF($C57=\"TOTAL\",SUM($J$8:J56),IF(OR(C57=$AP$16,C57=$AP$17,C57=$AP$18,C57=$AP$19,C57=$AP$20,C57=$AP$21,C57=$AP$22,C57=$AP$23,C57=$AP$24),0,IF(BD58=\"\",\"\",BD58))),\"\")","v":""},"",{"$f":"IFERROR(IF(C57=\"\",\"\",IF(D57=\"\",\"\",IF(H57=\"\",\"\",IF($C57=\"TOTAL\",SUM($L$8:L56),SUM(D57-H57))))),\"\")","v":""},{"$f":"IFERROR(IF(C57=\"\",\"\",IF(E57=\"\",\"\",IF(I57=\"\",\"\",IF($C57=\"TOTAL\",SUM($M$8:M56),SUM(E57-I57))))),\"\")","v":""},{"$f":"IFERROR(IF(C57=\"\",\"\",IF(F57=\"\",\"\",IF(J57=\"\",\"\",IF($C57=\"TOTAL\",SUM($N$8:N56),SUM(F57-J57))))),\"\")","v":""},"",{"$f":"IFERROR(IF(C57=\"\",\"\",IF($C57=\"TOTAL\",SUM($P$8:P56),IF(AND(C57>$AO$1,$AF$3=$AO$2),BR58,IF($AR$18=$AR$20,SUM(BE58+BM58),ROUND((D57+E57)*10%,0))))),\"\")","v":""},{"$f":"IFERROR(IF(C57=\"\",\"\",IF(H57=\"\",\"\",IF(I57=\"\",\"\",IF($C57=\"TOTAL\",SUM($Q$8:Q56),IF(AND(C57>$AO$1,$AF$3=$AO$2),BR58,IF($AR$18=$AR$20,$AR$21,ROUND((H57+I57)*10%,0))))))),\"\")","v":""},"",{"$f":"IFERROR(IF(C57=\"\",\"\",IF($AR$16=$AR$17,0,IF($C57=\"TOTAL\",SUM($S$8:S56),IF($AR$19=$AR$31,0,IF(AND($AR$32=$AR$20,C57=$AR$33),$AR$34,S56))))),\"\")","v":""},{"$f":"IFERROR(IF(C57=\"\",\"\",IF($AR$16=$AR$17,0,IF($C57=\"TOTAL\",SUM($T$8:T56),IF($AR$19=$AR$20,$AR$24,0)))),\"\")","v":""},"",{"$f":"IF(C57=\"\",\"\",IF($C57=\"TOTAL\",SUM($V$8:V56),IF(AND($AR$2=$AR$20,C57=$AR$1),ROUND(D57/31*$AS$2,0),IF(C57=$AP$6,ROUND((G57)*1/30,0),IF(C57=$AQ$6,ROUND((G57)*1/31,0),\"\")))))","v":""},{"$f":"IF(C57=\"\",\"\",IF($C57=\"TOTAL\",SUM($W$8:W56),IF(AND($AR$2=$AR$20,C57=$AR$1),ROUND(H57/31*$AS$2,0),IF(C57=$AP$6,ROUND((K57)*1/30,0),IF(C57=$AQ$6,ROUND((K57)*1/31,0),\"\")))))","v":""},"",{"$f":"IFERROR(IF(C57=\"\",\"\",IF($AR$16=$AR$17,0,IF($AF$3=$AO$4,\"\",IF($C57=\"TOTAL\",SUM($Y$8:Y56),BU57)))),\"\")","v":""},{"$f":"IFERROR(IF(C57=\"\",\"\",IF($AR$16=$AR$17,0,IF($AF$3=$AO$4,\"\",IF($C57=\"TOTAL\",SUM($Z$8:Z56),BT57)))),\"\")","v":""},"",{"$f":"IFERROR(IF(C57=\"\",\"\",IF(AND(BK58=\"\",BR58=\"\"),\"\",IF($C57=\"TOTAL\",SUM($AB$8:AB56),BK58))),\"\")","v":""},{"$f":"IFERROR(IF(C57=\"\",\"\",IF($C57=\"TOTAL\",SUM($AC$8:AC56),ROUND(O57*$AR$7%,0))),\"\")","v":""},{"$f":"IFERROR(IF(C57=\"\",\"\",IF($C57=\"TOTAL\",SUM($AD$8:AD56),IF($AF$3=$AO$2,SUM(U57,X57,AB57,AC57),SUM(R57,U57,X57,AB57,AC57)))),\"\")","v":""},{"$f":"IFERROR(IF(C57=\"\",\"\",IF($C57=\"TOTAL\",SUM($AE$8:AE56),SUM(O57-AD57))),\"\")","v":""},{"$nulls":8},42,42,null,"2021-01-01",null,"2027-01-01","","","","","","","",null,"","","","",null,null,"","","","",0,0,{"$nulls":4},"",null,"",{"$f":"IF(AW58=\"\",\"\",IF(AW58=\"TOTAL\",\"\",IF($AR$16=$AR$17,0,IF(AND(AW58>$BT$1,$AF$3=$AO$2,'Master Sheet'!$D$31>0),'Master Sheet'!$D$31,IF(AND(AW58=$BT$1,$AF$3=$AO$2),IF($AR$9<18001,135,IF($AR$9<33501,220,IF($AR$9<54001,330,440))),IF(AND(AW58>$BT$1,$AF$3=$AO$2),IF($AR$9<18001,265,IF($AR$9<33501,440,IF($AR$9<54001,658,875))),\"\"))))))","v":""}]
["","","",{"$f":"IFERROR(IF($C57=\"TOTAL\",\"अक्षरें राशि :-\",IF($C58=\"TOTAL\",SUM($D$8:D57),IF(AX59=\"\",\"\",AX59))),\"\")","v":""},{"$f":"IFERROR(IF($C58=\"TOTAL\",SUM($E$8:E57),IF(AY59=\"\",\"\",AY59)),\"\")","v":""},{"$f":"IFERROR(IF($C58=\"TOTAL\",SUM($F$8:F57),IF(OR(C58=$AP$16,C58=$AP$17,C58=$AP$18,C58=$AP$19,C58=$AP$20,C58=$AP$21,C58=$AP$22,C58=$AP$23,C58=$AP$24),0,IF(AZ59=\"\",\"\",AZ59))),\"\")","v":""},"",{"$f":"IFERROR(IF($C58=\"TOTAL\",SUM($H$8:H57),IF(BB59=\"\",\"\",BB59)),\"\")","v":""},{"$f":"IFERROR(IF($C58=\"TOTAL\",SUM($I$8:I57),IF(BC59=\"\",\"\",BC59)),\"\")","v":""},{"$f":"IFERROR(IF($C58=\"TOTAL\",SUM($J$8:J57),IF(OR(C58=$AP$16,C58=$AP$17,C58=$AP$18,C58=$AP$19,C58=$AP$20,C58=$AP$21,C58=$AP$22,C58=$AP$23,C58=$AP$24),0,IF(BD59=\"\",\"\",BD59))),\"\")","v":""},"",{"$f":"IFERROR(IF(C58=\"\",\"\",IF(D58=\"\",\"\",IF(H58=\"\",\"\",IF($C58=\"TOTAL\",SUM($L$8:L57),SUM(D58-H58))))),\"\")","v":""},{"$f":"IFERROR(IF(C58=\"\",\"\",IF(E58=\"\",\"\",IF(I58=\"\",\"\",IF($C58=\"TOTAL\",SUM($M$8:M57),SUM(E58-I58))))),\"\")","v":""},{"$f":"IFERROR(IF(C58=\"\",\"\",IF(F58=\"\",\"\",IF(J58=\"\",\"\",IF($C58=\"TOTAL\",SUM($N$8:N57),SUM(F58-J58))))),\"\")","v":""},"",{"$f":"IFERROR(IF(C58=\"\",\"\",IF($C58=\"TOTAL\",SUM($P$8:P57),IF(AND(C58>$AO$1,$AF$3=$AO$2),BR59,IF($AR$18=$AR$20,SUM(BE59+BM59),ROUND((D58+E58)*10%,0))))),\"\")","v":""},{"$f":"IFERROR(IF(C58=\"\",\"\",IF(H58=\"\",\"\",IF(I58=\"\",\"\",IF($C58=\"TOTAL\",SUM($Q$8:Q57),IF(AND(C58>$AO$1,$AF$3=$AO$2),BR59,IF($AR$18=$AR$20,$AR$21,ROUND((H58+I58)*10%,0))))))),\"\")","v":""},"",{"$f":"IFERROR(IF(C58=\"\",\"\",IF($AR$16=$AR$17,0,IF($C58=\"TOTAL\",SUM($S$8:S57),IF($AR$19=$AR$31,0,IF(AND($AR$32=$AR$20,C58=$AR$33),$AR$34,S57))))),\"\")","v":""},{"$f":"IFERROR(IF(C58=\"\",\"\",IF($AR$16=$AR$17,0,IF($C58=\"TOTAL\",SUM($T$8:T57),IF($AR$19=$AR$20,$AR$24,0)))),\"\")","v":""},"",{"$f":"IF(C58=\"\",\"\",IF($C58=\"TOTAL\",SUM($V$8:V57),IF(AND($AR$2=$AR$20,C58=$AR$1),ROUND(D58/31*$AS$2,0),IF(C58=$AP$6,ROUND((G58)*1/30,0),IF(C58=$AQ$6,ROUND((G58)*1/31,0),\"\")))))","v":""},{"$f":"IF(C58=\"\",\"\",IF($C58=\"TOTAL\",SUM($W$8:W57),IF(AND($AR$2=$AR$20,C58=$AR$1),ROUND(H58/31*$AS$2,0),IF(C58=$AP$6,ROUND((K58)*1/30,0),IF(C58=$AQ$6,ROUND((K58)*1/31,0),\"\")))))","v":""},"",{"$f":"IFERROR(IF(C58=\"\",\"\",IF($AR$16=$AR$17,0,IF($AF$3=$AO$4,\"\",IF($C58=\"TOTAL\",SUM($Y$8:Y57),BU58)))),\"\")","v":""},{"$f":"IFERROR(IF(C58=\"\",\"\",IF($AR$16=$AR$17,0,IF($AF$3=$AO$4,\"\",IF($C58=\"TOTAL\",SUM($Z$8:Z57),BT58)))),\"\")","v":""},"",{"$f":"IFERROR(IF(C58=\"\",\"\",IF(AND(BK59=\"\",BR59=\"\"),\"\",IF($C58=\"TOTAL\",SUM($AB$8:AB57),BK59))),\"\")","v":""},{"$f":"IFERROR(IF(C58=\"\",\"\",IF($C58=\"TOTAL\",SUM($AC$8:AC57),ROUND(O58*$AR$7%,0))),\"\")","v":""},{"$f":"IFERROR(IF(C58=\"\",\"\",IF($C58=\"TOTAL\",SUM($AD$8:AD57),IF($AF$3=$AO$2,SUM(U58,X58,AB58,AC58),SUM(R58,U58,X58,AB58,AC58)))),\"\")","v":""},{"$f":"IFERROR(IF(C58=\"\",\"\",IF($C58=\"TOTAL\",SUM($AE$8:AE57),SUM(O58-AD58))),\"\")","v":""},{"$nulls":8},42,42,null,"2021-02-01",null,"2027-02-01","","","","","","","",null,"","","","",null,null,"","","","",0,0,{"$nulls":4},"",null,"",{"$f":"IF(AW59=\"\",\"\",IF(AW59=\"TOTAL\",\"\",IF($AR$16=$AR$17,0,IF(AND(AW59>$BT$1,$AF$3=$AO$2,'Master Sheet'!$D$31>0),'Master Sheet'!$D$31,IF(AND(AW59=$BT$1,$AF$3=$AO$2),IF($AR$9<18001,135,IF($AR$9<33501,220,IF($AR$9<54001,330,440))),IF(AND(AW59>$BT$1,$AF$3=$AO$2),IF($AR$9<18001,265,IF($AR$9<33501,440,IF($AR$9<54001,658,875))),\"\"))))))","v":""}]
["","","",{"$f":"IFERROR(IF($C58=\"TOTAL\",\"अक्षरें राशि :-\",IF($C59=\"TOTAL\",SUM($D$8:D58),IF(AX60=\"\",\"\",AX60))),\"\")","v":""},{"$f":"IFERROR(IF($C59=\"TOTAL\",SUM($E$8:E58),IF(AY60=\"\",\"\",AY60)),\"\")","v":""},{"$f":"IFERROR(IF($C59=\"TOTAL\",SUM($F$8:F58),IF(OR(C59=$AP$16,C59=$AP$17,C59=$AP$18,C59=$AP$19,C59=$AP$20,C59=$AP$21,C59=$AP$22,C59=$AP$23,C59=$AP$24),0,IF(AZ60=\"\",\"\",AZ60))),\"\")","v":""},"",{"$f":"IFERROR(IF($C59=\"TOTAL\",SUM($H$8:H58),IF(BB60=\"\",\"\",BB60)),\"\")","v":""},{"$f":"IFERROR(IF($C59=\"TOTAL\",SUM($I$8:I58),IF(BC60=\"\",\"\",BC60)),\"\")","v":""},{"$f":"IFERROR(IF($C59=\"TOTAL\",SUM($J$8:J58),IF(OR(C59=$AP$16,C59=$AP$17,C59=$AP$18,C59=$AP$19,C59=$AP$20,C59=$AP$21,C59=$AP$22,C59=$AP$23,C59=$AP$24),0,IF(BD60=\"\",\"\",BD60))),\"\")","v":""},"",{"$f":"IFERROR(IF(C59=\"\",\"\",IF(D59=\"\",\"\",IF(H59=\"\",\"\",IF($C59=\"TOTAL\",SUM($L$8:L58),SUM(D59-H59))))),\"\")","v":""},{"$f":"IFERROR(IF(C59=\"\",\"\",IF(E59=\"\",\"\",IF(I59=\"\",\"\",IF($C59=\"TOTAL\",SUM($M$8:M58),SUM(E59-I59))))),\"\")","v":""},{"$f":"IFERROR(IF(C59=\"\",\"\",IF(F59=\"\",\"\",IF(J59=\"\",\"\",IF($C59=\"TOTAL\",SUM($N$8:N58),SUM(F59-J59))))),\"\")","v":""},"",{"$f":"IFERROR(IF(C59=\"\",\"\",IF($C59=\"TOTAL\",SUM($P$8:P58),IF(AND(C59>$AO$1,$AF$3=$AO$2),BR60,IF($AR$18=$AR$20,SUM(BE60+BM60),ROUND((D59+E59)*10%,0))))),\"\")","v":""},{"$f":"IFERROR(IF(C59=\"\",\"\",IF(H59=\"\",\"\",IF(I59=\"\",\"\",IF($C59=\"TOTAL\",SUM($Q$8:Q58),IF(AND(C59>$AO$1,$AF$3=$AO$2),BR60,IF($AR$18=$AR$20,$AR$21,ROUND((H59+I59)*10%,0))))))),\"\")","v":""},"",{"$f":"IFERROR(IF(C59=\"\",\"\",IF($AR$16=$AR$17,0,IF($C59=\"TOTAL\",SUM($S$8:S58),IF($AR$19=$AR$31,0,IF(AND($AR$32=$AR$20,C59=$AR$33),$AR$34,S58))))),\"\")","v":""},{"$f":"IFERROR(IF(C59=\"\",\"\",IF($AR$16=$AR$17,0,IF($C59=\"TOTAL\",SUM($T$8:T58),IF($AR$19=$AR$20,$AR$24,0)))),\"\")","v":""},"",{"$f":"IF(C59=\"\",\"\",IF($C59=\"TOTAL\",SUM($V$8:V58),IF(AND($AR$2=$AR$20,C59=$AR$1),ROUND(D59/31*$AS$2,0),IF(C59=$AP$6,ROUND((G59)*1/30,0),IF(C59=$AQ$6,ROUND((G59)*1/31,0),\"\")))))","v":""},{"$f":"IF(C59=\"\",\"\",IF($C59=\"TOTAL\",SUM($W$8:W58),IF(AND($AR$2=$AR$20,C59=$AR$1),ROUND(H59/31*$AS$2,0),IF(C59=$AP$6,ROUND((K59)*1/30,0),IF(C59=$AQ$6,ROUND((K59)*1/31,0),\"\")))))","v":""},"",{"$f":"IFERROR(IF(C59=\"\",\"\",IF($AR$16=$AR$17,0,IF($AF$3=$AO$4,\"\",IF($C59=\"TOTAL\",SUM($Y$8:Y58),BU59)))),\"\")","v":""},{"$f":"IFERROR(IF(C59=\"\",\"\",IF($AR$16=$AR$17,0,IF($AF$3=$AO$4,\"\",IF($C59=\"TOTAL\",SUM($Z$8:Z58),BT59)))),\"\")","v":""},"",{"$f":"IFERROR(IF(C59=\"\",\"\",IF(AND(BK60=\"\",BR60=\"\"),\"\",IF($C59=\"TOTAL\",SUM($AB$8:AB58),BK60))),\"\")","v":""},{"$f":"IFERROR(IF(C59=\"\",\"\",IF($C59=\"TOTAL\",SUM($AC$8:AC58),ROUND(O59*$AR$7%,0))),\"\")","v":""},{"$f":"IFERROR(IF(C59=\"\",\"\",IF($C59=\"TOTAL\",SUM($AD$8:AD58),IF($AF$3=$AO$2,SUM(U59,X59,AB59,AC59),SUM(R59,U59,X59,AB59,AC59)))),\"\")","v":""},{"$f":"IFERROR(IF(C59=\"\",\"\",IF($C59=\"TOTAL\",SUM($AE$8:AE58),SUM(O59-AD59))),\"\")","v":""},{"$nulls":8},42,42,null,"2021-03-01",null,"2027-03-01","","","","","","","",null,"","","","",null,null,"","","","",0,0,{"$nulls":4},"",null,"",{"$f":"IF(AW60=\"\",\"\",IF(AW60=\"TOTAL\",\"\",IF($AR$16=$AR$17,0,IF(AND(AW60>$BT$1,$AF$3=$AO$2,'Master Sheet'!$D$31>0),'Master Sheet'!$D$31,IF(AND(AW60=$BT$1,$AF$3=$AO$2),IF($AR$9<18001,135,IF($AR$9<33501,220,IF($AR$9<54001,330,440))),IF(AND(AW60>$BT$1,$AF$3=$AO$2),IF($AR$9<18001,265,IF($AR$9<33501,440,IF($AR$9<54001,658,875))),\"\"))))))","v":""}]
["","","",{"$f":"IFERROR(IF($C59=\"TOTAL\",\"अक्षरें राशि :-\",IF($C60=\"TOTAL\",SUM($D$8:D59),IF(AX61=\"\",\"\",AX61))),\"\")","v":""},{"$f":"IFERROR(IF($C60=\"TOTAL\",SUM($E$8:E59),IF(AY61=\"\",\"\",AY61)),\"\")","v":""},{"$f":"IFERROR(IF($C60=\"TOTAL\",SUM($F$8:F59),IF(OR(C60=$AP$16,C60=$AP$17,C60=$AP$18,C60=$AP$19,C60=$AP$20,C60=$AP$21,C60=$AP$22,C60=$AP$23,C60=$AP$24),0,IF(AZ61=\"\",\"\",AZ61))),\"\")","v":""},"",{"$f":"IFERROR(IF($C60=\"TOTAL\",SUM($H$8:H59),IF(BB61=\"\",\"\",BB61)),\"\")","v":""},{"$f":"IFERROR(IF($C60=\"TOTAL\",SUM($I$8:I59),IF(BC61=\"\",\"\",BC61)),\"\")","v":""},{"$f":"IFERROR(IF($C60=\"TOTAL\",SUM($J$8:J59),IF(OR(C60=$AP$16,C60=$AP$17,C60=$AP$18,C60=$AP$19,C60=$AP$20,C60=$AP$21,C60=$AP$22,C60=$AP$23,C60=$AP$24),0,IF(BD61=\"\",\"\",BD61))),\"\")","v":""},"",{"$f":"IFERROR(IF(C60=\"\",\"\",IF(D60=\"\",\"\",IF(H60=\"\",\"\",IF($C60=\"TOTAL\",SUM($L$8:L59),SUM(D60-H60))))),\"\")","v":""},{"$f":"IFERROR(IF(C60=\"\",\"\",IF(E60=\"\",\"\",IF(I60=\"\",\"\",IF($C60=\"TOTAL\",SUM($M$8:M59),SUM(E60-I60))))),\"\")","v":""},{"$f":"IFERROR(IF(C60=\"\",\"\",IF(F60=\"\",\"\",IF(J60=\"\",\"\",IF($C60=\"TOTAL\",SUM($N$8:N59),SUM(F60-J60))))),\"\")","v":""},"",{"$f":"IFERROR(IF(C60=\"\",\"\",IF($C60=\"TOTAL\",SUM($P$8:P59),IF(AND(C60>$AO$1,$AF$3=$AO$2),BR61,IF($AR$18=$AR$20,SUM(BE61+BM61),ROUND((D60+E60)*10%,0))))),\"\")","v":""},{"$f":"IFERROR(IF(C60=\"\",\"\",IF(H60=\"\",\"\",IF(I60=\"\",\"\",IF($C60=\"TOTAL\",SUM($Q$8:Q59),IF(AND(C60>$AO$1,$AF$3=$AO$2),BR61,IF($AR$18=$AR$20,$AR$21,ROUND((H60+I60)*10%,0))))))),\"\")","v":""},"",{"$f":"IFERROR(IF(C60=\"\",\"\",IF($AR$16=$AR$17,0,IF($C60=\"TOTAL\",SUM($S$8:S59),IF($AR$19=$AR$31,0,IF(AND($AR$32=$AR$20,C60=$AR$33),$AR$34,S59))))),\"\")","v":""},{"$f":"IFERROR(IF(C60=\"\",\"\",IF($AR$16=$AR$17,0,IF($C60=\"TOTAL\",SUM($T$8:T59),IF($AR$19=$AR$20,$AR$24,0)))),\"\")","v":""},"",{"$f":"IF(C60=\"\",\"\",IF($C60=\"TOTAL\",SUM($V$8:V59),IF(AND($AR$2=$AR$20,C60=$AR$1),ROUND(D60/31*$AS$2,0),IF(C60=$AP$6,ROUND((G60)*1/30,0),IF(C60=$AQ$6,ROUND((G60)*1/31,0),\"\")))))","v":""},{"$f":"IF(C60=\"\",\"\",IF($C60=\"TOTAL\",SUM($W$8:W59),IF(AND($AR$2=$AR$20,C60=$AR$1),ROUND(H60/31*$AS$2,0),IF(C60=$AP$6,ROUND((K60)*1/30,0),IF(C60=$AQ$6,ROUND((K60)*1/31,0),\"\")))))","v":""},"",{"$f":"IFERROR(IF(C60=\"\",\"\",IF($AR$16=$AR$17,0,IF($AF$3=$AO$4,\"\",IF($C60=\"TOTAL\",SUM($Y$8:Y59),BU60)))),\"\")","v":""},{"$f":"IFERROR(IF(C60=\"\",\"\",IF($AR$16=$AR$17,0,IF($AF$3=$AO$4,\"\",IF($C60=\"TOTAL\",SUM($Z$8:Z59),BT60)))),\"\")","v":""},"",{"$f":"IFERROR(IF(C60=\"\",\"\",IF(AND(BK61=\"\",BR61=\"\"),\"\",IF($C60=\"TOTAL\",SUM($AB$8:AB59),BK61))),\"\")","v":""},{"$f":"IFERROR(IF(C60=\"\",\"\",IF($C60=\"TOTAL\",SUM($AC$8:AC59),ROUND(O60*$AR$7%,0))),\"\")","v":""},{"$f":"IFERROR(IF(C60=\"\",\"\",IF($C60=\"TOTAL\",SUM($AD$8:AD59),IF($AF$3=$AO$2,SUM(U60,X60,AB60,AC60),SUM(R60,U60,X60,AB60,AC60)))),\"\")","v":""},{"$f":"IFERROR(IF(C60=\"\",\"\",IF($C60=\"TOTAL\",SUM($AE$8:AE59),SUM(O60-AD60))),\"\")","v":""},{"$nulls":8},42,42,null,"2021-04-01",null,"2027-04-01","","","","","","","",null,"","","","",null,null,"","","","",0,0,{"$nulls":4},"",null,"",{"$f":"IF(AW61=\"\",\"\",IF(AW61=\"TOTAL\",\"\",IF($AR$16=$AR$17,0,IF(AND(AW61>$BT$1,$AF$3=$AO$2,'Master Sheet'!$D$31>0),'Master Sheet'!$D$31,IF(AND(AW61=$BT$1,$AF$3=$AO$2),IF($AR$9<18001,135,IF($AR$9<33501,220,IF($AR$9<54001,330,440))),IF(AND(AW61>$BT$1,$AF$3=$AO$2),IF($AR$9<18001,265,IF($AR$9<33501,440,IF($AR$9<54001,658,875))),\"\"))))))","v":""}]
["","","",{"$f":"IFERROR(IF($C60=\"TOTAL\",\"अक्षरें राशि :-\",IF($C61=\"TOTAL\",SUM($D$8:D60),IF(AX62=\"\",\"\",AX62))),\"\")","v":""},{"$f":"IFERROR(IF($C61=\"TOTAL\",SUM($E$8:E60),IF(AY62=\"\",\"\",AY62)),\"\")","v":""},{"$f":"IFERROR(IF($C61=\"TOTAL\",SUM($F$8:F60),IF(OR(C61=$AP$16,C61=$AP$17,C61=$AP$18,C61=$AP$19,C61=$AP$20,C61=$AP$21,C61=$AP$22,C61=$AP$23,C61=$AP$24),0,IF(AZ62=\"\",\"\",AZ62))),\"\")","v":""},"",{"$f":"IFERROR(IF($C61=\"TOTAL\",SUM($H$8:H60),IF(BB62=\"\",\"\",BB62)),\"\")","v":""},{"$f":"IFERROR(IF($C61=\"TOTAL\",SUM($I$8:I60),IF(BC62=\"\",\"\",BC62)),\"\")","v":""},{"$f":"IFERROR(IF($C61=\"TOTAL\",SUM($J$8:J60),IF(OR(C61=$AP$16,C61=$AP$17,C61=$AP$18,C61=$AP$19,C61=$AP$20,C61=$AP$21,C61=$AP$22,C61=$AP$23,C61=$AP$24),0,IF(BD62=\"\",\"\",BD62))),\"\")","v":""},"",{"$f":"IFERROR(IF(C61=\"\",\"\",IF(D61=\"\",\"\",IF(H61=\"\",\"\",IF($C61=\"TOTAL\",SUM($L$8:L60),SUM(D61-H61))))),\"\")","v":""},{"$f":"IFERROR(IF(C61=\"\",\"\",IF(E61=\"\",\"\",IF(I61=\"\",\"\",IF($C61=\"TOTAL\",SUM($M$8:M60),SUM(E61-I61))))),\"\")","v":""},{"$f":"IFERROR(IF(C61=\"\",\"\",IF(F61=\"\",\"\",IF(J61=\"\",\"\",IF($C61=\"TOTAL\",SUM($N$8:N60),SUM(F61-J61))))),\"\")","v":""},"",{"$f":"IFERROR(IF(C61=\"\",\"\",IF($C61=\"TOTAL\",SUM($P$8:P60),IF(AND(C61>$AO$1,$AF$3=$AO$2),BR62,IF($AR$18=$AR$20,SUM(BE62+BM62),ROUND((D61+E61)*10%,0))))),\"\")","v":""},{"$f":"IFERROR(IF(C61=\"\",\"\",IF(H61=\"\",\"\",IF(I61=\"\",\"\",IF($C61=\"TOTAL\",SUM($Q$8:Q60),IF(AND(C61>$AO$1,$AF$3=$AO$2),BR62,IF($AR$18=$AR$20,$AR$21,ROUND((H61+I61)*10%,0))))))),\"\")","v":""},"",{"$f":"IFERROR(IF(C61=\"\",\"\",IF($AR$16=$AR$17,0,IF($C61=\"TOTAL\",SUM($S$8:S60),IF($AR$19=$AR$31,0,IF(AND($AR$32=$AR$20,C61=$AR$33),$AR$34,S60))))),\"\")","v":""},{"$f":"IFERROR(IF(C61=\"\",\"\",IF($AR$16=$AR$17,0,IF($C61=\"TOTAL\",SUM($T$8:T60),IF($AR$19=$AR$20,$AR$24,0)))),\"\")","v":""},"",{"$f":"IF(C61=\"\",\"\",IF($C61=\"TOTAL\",SUM($V$8:V60),IF(AND($AR$2=$AR$20,C61=$AR$1),ROUND(D61/31*$AS$2,0),IF(C61=$AP$6,ROUND((G61)*1/30,0),IF(C61=$AQ$6,ROUND((G61)*1/31,0),\"\")))))","v":""},{"$f":"IF(C61=\"\",\"\",IF($C61=\"TOTAL\",SUM($W$8:W60),IF(AND($AR$2=$AR$20,C61=$AR$1),ROUND(H61/31*$AS$2,0),IF(C61=$AP$6,ROUND((K61)*1/30,0),IF(C61=$AQ$6,ROUND((K61)*1/31,0),\"\")))))","v":""},"",{"$f":"IFERROR(IF(C61=\"\",\"\",IF($AR$16=$AR$17,0,IF($AF$3=$AO$4,\"\",IF($C61=\"TOTAL\",SUM($Y$8:Y60),BU61)))),\"\")","v":""},{"$f":"IFERROR(IF(C61=\"\",\"\",IF($AR$16=$AR$17,0,IF($AF$3=$AO$4,\"\",IF($C61=\"TOTAL\",SUM($Z$8:Z60),BT61)))),\"\")","v":""},"",{"$f":"IFERROR(IF(C61=\"\",\"\",IF(AND(BK62=\"\",BR62=\"\"),\"\",IF($C61=\"TOTAL\",SUM($AB$8:AB60),BK62))),\"\")","v":""},{"$f":"IFERROR(IF(C61=\"\",\"\",IF($C61=\"TOTAL\",SUM($AC$8:AC60),ROUND(O61*$AR$7%,0))),\"\")","v":""},{"$f":"IFERROR(IF(C61=\"\",\"\",IF($C61=\"TOTAL\",SUM($AD$8:AD60),IF($AF$3=$AO$2,SUM(U61,X61,AB61,AC61),SUM(R61,U61,X61,AB61,AC61)))),\"\")","v":""},{"$f":"IFERROR(IF(C61=\"\",\"\",IF($C61=\"TOTAL\",SUM($AE$8:AE60),SUM(O61-AD61))),\"\")","v":""},{"$nulls":8},42,42,null,"2021-05-01",null,"2027-05-01","","","","","","","",null,"","","","",null,null,"","","","",0,0,null,{"$f":"SUM(ROUND(D62*34%,0))-SUM(ROUND(D62*31%,0))","v":{"$error":"#VALUE!"}},null,null,"",null,"",{"$f":"IF(AW62=\"\",\"\",IF(AW62=\"TOTAL\",\"\",IF($AR$16=$AR$17,0,IF(AND(AW62>$BT$1,$AF$3=$AO$2,'Master Sheet'!$D$31>0),'Master Sheet'!$D$31,IF(AND(AW62=$BT$1,$AF$3=$AO$2),IF($AR$9<18001,135,IF($AR$9<33501,220,IF($AR$9<54001,330,440))),IF(AND(AW62>$BT$1,$AF$3=$AO$2),IF($AR$9<18001,265,IF($AR$9<33501,440,IF($AR$9<54001,658,875))),\"\"))))))","v":""}]
["","","",{"$f":"IFERROR(IF($C61=\"TOTAL\",\"अक्षरें राशि :-\",IF($C62=\"TOTAL\",SUM($D$8:D61),IF(AX63=\"\",\"\",AX63))),\"\")","v":""},{"$f":"IFERROR(IF($C62=\"TOTAL\",SUM($E$8:E61),IF(AY63=\"\",\"\",AY63)),\"\")","v":""},{"$f":"IFERROR(IF($C62=\"TOTAL\",SUM($F$8:F61),IF(OR(C62=$AP$16,C62=$AP$17,C62=$AP$18,C62=$AP$19,C62=$AP$20,C62=$AP$21,C62=$AP$22,C62=$AP$23,C62=$AP$24),0,IF(AZ63=\"\",\"\",AZ63))),\"\")","v":""},"",{"$f":"IFERROR(IF($C62=\"TOTAL\",SUM($H$8:H61),IF(BB63=\"\",\"\",BB63)),\"\")","v":""},{"$f":"IFERROR(IF($C62=\"TOTAL\",SUM($I$8:I61),IF(BC63=\"\",\"\",BC63)),\"\")","v":""},{"$f":"IFERROR(IF($C62=\"TOTAL\",SUM($J$8:J61),IF(OR(C62=$AP$16,C62=$AP$17,C62=$AP$18,C62=$AP$19,C62=$AP$20,C62=$AP$21,C62=$AP$22,C62=$AP$23,C62=$AP$24),0,IF(BD63=\"\",\"\",BD63))),\"\")","v":""},"",{"$f":"IFERROR(IF(C62=\"\",\"\",IF(D62=\"\",\"\",IF(H62=\"\",\"\",IF($C62=\"TOTAL\",SUM($L$8:L61),SUM(D62-H62))))),\"\")","v":""},{"$f":"IFERROR(IF(C62=\"\",\"\",IF(E62=\"\",\"\",IF(I62=\"\",\"\",IF($C62=\"TOTAL\",SUM($M$8:M61),SUM(E62-I62))))),\"\")","v":""},{"$f":"IFERROR(IF(C62=\"\",\"\",IF(F62=\"\",\"\",IF(J62=\"\",\"\",IF($C62=\"TOTAL\",SUM($N$8:N61),SUM(F62-J62))))),\"\")","v":""},"",{"$f":"IFERROR(IF(C62=\"\",\"\",IF($C62=\"TOTAL\",SUM($P$8:P61),IF(AND(C62>$AO$1,$AF$3=$AO$2),BR63,IF($AR$18=$AR$20,SUM(BE63+BM63),ROUND((D62+E62)*10%,0))))),\"\")","v":""},{"$f":"IFERROR(IF(C62=\"\",\"\",IF(H62=\"\",\"\",IF(I62=\"\",\"\",IF($C62=\"TOTAL\",SUM($Q$8:Q61),IF(AND(C62>$AO$1,$AF$3=$AO$2),BR63,IF($AR$18=$AR$20,$AR$21,ROUND((H62+I62)*10%,0))))))),\"\")","v":""},{"$f":"IFERROR(IF(C62=\"\",\"\",SUM(P62-Q62)),\"\")","v":""},{"$f":"IFERROR(IF(C62=\"\",\"\",IF($AR$16=$AR$17,0,IF($C62=\"TOTAL\",SUM($S$8:S61),IF($AR$19=$AR$31,0,IF(AND($AR$32=$AR$20,C62=$AR$33),$AR$34,S61))))),\"\")","v":""},{"$f":"IFERROR(IF(C62=\"\",\"\",IF($AR$16=$AR$17,0,IF($C62=\"TOTAL\",SUM($T$8:T61),IF($AR$19=$AR$20,$AR$24,0)))),\"\")","v":""},"",{"$f":"IF(C62=\"\",\"\",IF($C62=\"TOTAL\",SUM($V$8:V61),IF(AND($AR$2=$AR$20,C62=$AR$1),ROUND(D62/31*$AS$2,0),IF(C62=$AP$6,ROUND((G62)*1/30,0),IF(C62=$AQ$6,ROUND((G62)*1/31,0),\"\")))))","v":""},{"$f":"IF(C62=\"\",\"\",IF($C62=\"TOTAL\",SUM($W$8:W61),IF(AND($AR$2=$AR$20,C62=$AR$1),ROUND(H62/31*$AS$2,0),IF(C62=$AP$6,ROUND((K62)*1/30,0),IF(C62=$AQ$6,ROUND((K62)*1/31,0),\"\")))))","v":""},"",{"$f":"IFERROR(IF(C62=\"\",\"\",IF($AR$16=$AR$17,0,IF($AF$3=$AO$4,\"\",IF($C62=\"TOTAL\",SUM($Y$8:Y61),BU62)))),\"\")","v":""},{"$f":"IFERROR(IF(C62=\"\",\"\",IF($AR$16=$AR$17,0,IF($AF$3=$AO$4,\"\",IF($C62=\"TOTAL\",SUM($Z$8:Z61),BT62)))),\"\")","v":""},"",{"$f":"IFERROR(IF(C62=\"\",\"\",IF(AND(BK63=\"\",BR63=\"\"),\"\",IF($C62=\"TOTAL\",SUM($AB$8:AB61),BK63))),\"\")","v":""},{"$f":"IFERROR(IF(C62=\"\",\"\",IF($C62=\"TOTAL\",SUM($AC$8:AC61),ROUND(O62*$AR$7%,0))),\"\")","v":""},{"$f":"IFERROR(IF(C62=\"\",\"\",IF($C62=\"TOTAL\",SUM($AD$8:AD61),IF($AF$3=$AO$2,SUM(U62,X62,AB62,AC62),SUM(R62,U62,X62,AB62,AC62)))),\"\")","v":""},{"$f":"IFERROR(IF(C62=\"\",\"\",IF($C62=\"TOTAL\",SUM($AE$8:AE61),SUM(O62-AD62))),\"\")","v":""},{"$nulls":8},42,42,null,"2021-06-01",null,"2027-06-01","","","","","","","",null,"","","","",null,null,"","","","",0,0,{"$nulls":4},"",null,"",{"$f":"IF(AW63=\"\",\"\",IF(AW63=\"TOTAL\",\"\",IF($AR$16=$AR$17,0,IF(AND(AW63>$BT$1,$AF$3=$AO$2,'Master Sheet'!$D$31>0),'Master Sheet'!$D$31,IF(AND(AW63=$BT$1,$AF$3=$AO$2),IF($AR$9<18001,135,IF($AR$9<33501,220,IF($AR$9<54001,330,440))),IF(AND(AW63>$BT$1,$AF$3=$AO$2),IF($AR$9<18001,265,IF($AR$9<33501,440,IF($AR$9<54001,658,875))),\"\"))))))","v":""}]
["","","",{"$f":"IFERROR(IF($C62=\"TOTAL\",\"अक्षरें राशि :-\",IF($C63=\"TOTAL\",SUM($D$8:D62),IF(AX64=\"\",\"\",AX64))),\"\")","v":""},{"$f":"IFERROR(IF($C63=\"TOTAL\",SUM($E$8:E62),IF(AY64=\"\",\"\",AY64)),\"\")","v":""},{"$f":"IFERROR(IF($C63=\"TOTAL\",SUM($F$8:F62),IF(OR(C63=$AP$16,C63=$AP$17,C63=$AP$18,C63=$AP$19,C63=$AP$20,C63=$AP$21,C63=$AP$22,C63=$AP$23,C63=$AP$24),0,IF(AZ64=\"\",\"\",AZ64))),\"\")","v":""},"",{"$f":"IFERROR(IF($C63=\"TOTAL\",SUM($H$8:H62),IF(BB64=\"\",\"\",BB64)),\"\")","v":""},{"$f":"IFERROR(IF($C63=\"TOTAL\",SUM($I$8:I62),IF(BC64=\"\",\"\",BC64)),\"\")","v":""},{"$f":"IFERROR(IF($C63=\"TOTAL\",SUM($J$8:J62),IF(OR(C63=$AP$16,C63=$AP$17,C63=$AP$18,C63=$AP$19,C63=$AP$20,C63=$AP$21,C63=$AP$22,C63=$AP$23,C63=$AP$24),0,IF(BD64=\"\",\"\",BD64))),\"\")","v":""},"",{"$f":"IFERROR(IF(C63=\"\",\"\",IF(D63=\"\",\"\",IF(H63=\"\",\"\",IF($C63=\"TOTAL\",SUM($L$8:L62),SUM(D63-H63))))),\"\")","v":""},{"$f":"IFERROR(IF(C63=\"\",\"\",IF(E63=\"\",\"\",IF(I63=\"\",\"\",IF($C63=\"TOTAL\",SUM($M$8:M62),SUM(E63-I63))))),\"\")","v":""},{"$f":"IFERROR(IF(C63=\"\",\"\",IF(F63=\"\",\"\",IF(J63=\"\",\"\",IF($C63=\"TOTAL\",SUM($N$8:N62),SUM(F63-J63))))),\"\")","v":""},"",{"$f":"IFERROR(IF(C63=\"\",\"\",IF($C63=\"TOTAL\",SUM($P$8:P62),IF(AND(C63>$AO$1,$AF$3=$AO$2),BR64,IF($AR$18=$AR$20,SUM(BE64+BM64),ROUND((D63+E63)*10%,0))))),\"\")","v":""},{"$f":"IFERROR(IF(C63=\"\",\"\",IF(H63=\"\",\"\",IF(I63=\"\",\"\",IF($C63=\"TOTAL\",SUM($Q$8:Q62),IF(AND(C63>$AO$1,$AF$3=$AO$2),BR64,IF($AR$18=$AR$20,$AR$21,ROUND((H63+I63)*10%,0))))))),\"\")","v":""},"",{"$f":"IFERROR(IF(C63=\"\",\"\",IF($AR$16=$AR$17,0,IF($C63=\"TOTAL\",SUM($S$8:S62),IF($AR$19=$AR$31,0,IF(AND($AR$32=$AR$20,C63=$AR$33),$AR$34,S62))))),\"\")","v":""},{"$f":"IFERROR(IF(C63=\"\",\"\",IF($AR$16=$AR$17,0,IF($C63=\"TOTAL\",SUM($T$8:T62),IF($AR$19=$AR$20,$AR$24,0)))),\"\")","v":""},"",{"$f":"IF(C63=\"\",\"\",IF($C63=\"TOTAL\",SUM($V$8:V62),IF(AND($AR$2=$AR$20,C63=$AR$1),ROUND(D63/31*$AS$2,0),IF(C63=$AP$6,ROUND((G63)*1/30,0),IF(C63=$AQ$6,ROUND((G63)*1/31,0),\"\")))))","v":""},{"$f":"IF(C63=\"\",\"\",IF($C63=\"TOTAL\",SUM($W$8:W62),IF(AND($AR$2=$AR$20,C63=$AR$1),ROUND(H63/31*$AS$2,0),IF(C63=$AP$6,ROUND((K63)*1/30,0),IF(C63=$AQ$6,ROUND((K63)*1/31,0),\"\")))))","v":""},"",{"$f":"IFERROR(IF(C63=\"\",\"\",IF($AR$16=$AR$17,0,IF($AF$3=$AO$4,\"\",IF($C63=\"TOTAL\",SUM($Y$8:Y62),BU63)))),\"\")","v":""},{"$f":"IFERROR(IF(C63=\"\",\"\",IF($AR$16=$AR$17,0,IF($AF$3=$AO$4,\"\",IF($C63=\"TOTAL\",SUM($Z$8:Z62),BT63)))),\"\")","v":""},"",{"$f":"IFERROR(IF(C63=\"\",\"\",IF(AND(BK64=\"\",BR64=\"\"),\"\",IF($C63=\"TOTAL\",SUM($AB$8:AB62),BK64))),\"\")","v":""},{"$f":"IFERROR(IF(C63=\"\",\"\",IF($C63=\"TOTAL\",SUM($AC$8:AC62),ROUND(O63*$AR$7%,0))),\"\")","v":""},{"$f":"IFERROR(IF(C63=\"\",\"\",IF($C63=\"TOTAL\",SUM($AD$8:AD62),IF($AF$3=$AO$2,SUM(U63,X63,AB63,AC63),SUM(R63,U63,X63,AB63,AC63)))),\"\")","v":""},{"$f":"IFERROR(IF(C63=\"\",\"\",IF($C63=\"TOTAL\",SUM($AE$8:AE62),SUM(O63-AD63))),\"\")","v":""},{"$nulls":8},42,42,null,"2021-07-01",null,"2027-07-01","","","","","","","",null,"","","","",null,null,"","",{"$f":"IF(OR(AW63=$AQ$63,AW63=$AQ$64,AW63=$AQ$65),\"YES\",\"\")","v":""},{"$f":"IF(BJ63=\"\",\"\",IF($AR$16=$AR$17,ROUND((D62)*3%,0),IF(OR(AW63=$AQ$63,AW63=$AQ$64,AW63=$AQ$65),SUM(ROUND((D62-H62)*3%,0)),IF(OR(AW63=$AQ$69,AW63=$AQ$70,AW63=$AQ$71),SUM(ROUND((D62-H62)*3%,0)),\"\"))))","v":""},0,0,{"$f":"SUM(ROUND(D62*3%,0))","v":{"$error":"#VALUE!"}},{"$f":"IF($AP$7=\"NO\",ROUND((H62+L62)*3%,0)-ROUND(ROUND((L62+H62)*3%,0)*10%,0),ROUND((L62+M62)*3%,0)-ROUND(ROUND((L62+M62)*3%,0)*10%,0))","v":{"$error":"#VALUE!"}},{"$f":"ROUND((L62+M62)*3%,0)-ROUND(ROUND((L62+M62)*3%,0)*10%,0)","v":{"$error":"#VALUE!"}},{"$f":"IF(AND($AR$16=$AR$17,BJ63=\"YES\"),SUM(ROUND(D62*3%,0))-ROUND(ROUND(D62*3%,0)*10%,0),IF(AND($AR$16=$AR$15,BJ63=\"YES\",$AP$7=\"NO\"),ROUND((H62+L62)*3%,0)-ROUND(ROUND((L62+H62)*3%,0)*10%,0),IF(AND($AR$16=$AR$15,BJ63=\"YES\",$AP$7=\"YES\"),ROUND((L62+M62)*3%,0)-ROUND(ROUND((L62+M62)*3%,0)*10%,0),\"\")))","v":""},"",{"$f":"IF(C62=\"\",\"\",IF($C62=\"TOTAL\",1,2))","v":""},"",{"$f":"IF(AW64=\"\",\"\",IF(AW64=\"TOTAL\",\"\",IF($AR$16=$AR$17,0,IF(AND(AW64>$BT$1,$AF$3=$AO$2,'Master Sheet'!$D$31>0),'Master Sheet'!$D$31,IF(AND(AW64=$BT$1,$AF$3=$AO$2),IF($AR$9<18001,135,IF($AR$9<33501,220,IF($AR$9<54001,330,440))),IF(AND(AW64>$BT$1,$AF$3=$AO$2),IF($AR$9<18001,265,IF($AR$9<33501,440,IF($AR$9<54001,658,875))),\"\"))))))","v":""}]
["","","",{"$f":"IFERROR(IF($C63=\"TOTAL\",\"अक्षरें राशि :-\",IF($C64=\"TOTAL\",SUM($D$8:D63),IF(AX65=\"\",\"\",AX65))),\"\")","v":""},{"$f":"IFERROR(IF($C64=\"TOTAL\",SUM($E$8:E63),IF(AY65=\"\",\"\",AY65)),\"\")","v":""},{"$f":"IFERROR(IF($C64=\"TOTAL\",SUM($F$8:F63),IF(OR(C64=$AP$16,C64=$AP$17,C64=$AP$18,C64=$AP$19,C64=$AP$20,C64=$AP$21,C64=$AP$22,C64=$AP$23,C64=$AP$24),0,IF(AZ65=\"\",\"\",AZ65))),\"\")","v":""},"",{"$f":"IFERROR(IF($C64=\"TOTAL\",SUM($H$8:H63),IF(BB65=\"\",\"\",BB65)),\"\")","v":""},{"$f":"IFERROR(IF($C64=\"TOTAL\",SUM($I$8:I63),IF(BC65=\"\",\"\",BC65)),\"\")","v":""},{"$f":"IFERROR(IF($C64=\"TOTAL\",SUM($J$8:J63),IF(OR(C64=$AP$16,C64=$AP$17,C64=$AP$18,C64=$AP$19,C64=$AP$20,C64=$AP$21,C64=$AP$22,C64=$AP$23,C64=$AP$24),0,IF(BD65=\"\",\"\",BD65))),\"\")","v":""},"",{"$f":"IFERROR(IF(C64=\"\",\"\",IF(D64=\"\",\"\",IF(H64=\"\",\"\",IF($C64=\"TOTAL\",SUM($L$8:L63),SUM(D64-H64))))),\"\")","v":""},{"$f":"IFERROR(IF(C64=\"\",\"\",IF(E64=\"\",\"\",IF(I64=\"\",\"\",IF($C64=\"TOTAL\",SUM($M$8:M63),SUM(E64-I64))))),\"\")","v":""},{"$f":"IFERROR(IF(C64=\"\",\"\",IF(F64=\"\",\"\",IF(J64=\"\",\"\",IF($C64=\"TOTAL\",SUM($N$8:N63),SUM(F64-J64))))),\"\")","v":""},"",{"$f":"IFERROR(IF(C64=\"\",\"\",IF($C64=\"TOTAL\",SUM($P$8:P63),IF(AND(C64>$AO$1,$AF$3=$AO$2),BR65,IF($AR$18=$AR$20,SUM(BE65+BM65),ROUND((D64+E64)*10%,0))))),\"\")","v":""},{"$f":"IFERROR(IF(C64=\"\",\"\",IF(H64=\"\",\"\",IF(I64=\"\",\"\",IF($C64=\"TOTAL\",SUM($Q$8:Q63),IF(AND(C64>$AO$1,$AF$3=$AO$2),BR65,IF($AR$18=$AR$20,$AR$21,ROUND((H64+I64)*10%,0))))))),\"\")","v":""},"",{"$f":"IFERROR(IF(C64=\"\",\"\",IF($AR$16=$AR$17,0,IF($C64=\"TOTAL\",SUM($S$8:S63),IF($AR$19=$AR$31,0,IF(AND($AR$32=$AR$20,C64=$AR$33),$AR$34,S63))))),\"\")","v":""},{"$f":"IFERROR(IF(C64=\"\",\"\",IF($AR$16=$AR$17,0,IF($C64=\"TOTAL\",SUM($T$8:T63),IF($AR$19=$AR$20,$AR$24,0)))),\"\")","v":""},"",{"$f":"IF(C64=\"\",\"\",IF($C64=\"TOTAL\",SUM($V$8:V63),IF(AND($AR$2=$AR$20,C64=$AR$1),ROUND(D64/31*$AS$2,0),IF(C64=$AP$6,ROUND((G64)*1/30,0),IF(C64=$AQ$6,ROUND((G64)*1/31,0),\"\")))))","v":""},{"$f":"IF(C64=\"\",\"\",IF($C64=\"TOTAL\",SUM($W$8:W63),IF(AND($AR$2=$AR$20,C64=$AR$1),ROUND(H64/31*$AS$2,0),IF(C64=$AP$6,ROUND((K64)*1/30,0),IF(C64=$AQ$6,ROUND((K64)*1/31,0),\"\")))))","v":""},"",{"$f":"IFERROR(IF(C64=\"\",\"\",IF($AR$16=$AR$17,0,IF($AF$3=$AO$4,\"\",IF($C64=\"TOTAL\",SUM($Y$8:Y63),BU64)))),\"\")","v":""},{"$f":"IFERROR(IF(C64=\"\",\"\",IF($AR$16=$AR$17,0,IF($AF$3=$AO$4,\"\",IF($C64=\"TOTAL\",SUM($Z$8:Z63),BT64)))),\"\")","v":""},"",{"$f":"IFERROR(IF(C64=\"\",\"\",IF(AND(BK65=\"\",BR65=\"\"),\"\",IF($C64=\"TOTAL\",SUM($AB$8:AB63),BK65))),\"\")","v":""},{"$f":"IFERROR(IF(C64=\"\",\"\",IF($C64=\"TOTAL\",SUM($AC$8:AC63),ROUND(O64*$AR$7%,0))),\"\")","v":""},{"$f":"IFERROR(IF(C64=\"\",\"\",IF($C64=\"TOTAL\",SUM($AD$8:AD63),IF($AF$3=$AO$2,SUM(U64,X64,AB64,AC64),SUM(R64,U64,X64,AB64,AC64)))),\"\")","v":""},{"$f":"IFERROR(IF(C64=\"\",\"\",IF($C64=\"TOTAL\",SUM($AE$8:AE63),SUM(O64-AD64))),\"\")","v":""},{"$nulls":8},42,42,null,"2021-08-01",null,"2027-08-01","","","","","","","",null,"","","","",null,null,"","","","",0,0,{"$f":"ROUND(ROUND(L63*3%,0)*10%,0)","v":{"$error":"#VALUE!"}},null,{"$f":"ROUND(ROUND((L64+H64)*3%,0)*10%,0)","v":{"$error":"#VALUE!"}},{"$f":"ROUND((H62+L62)*3%,0)-ROUND(ROUND((L62+H62)*3%,0)*10%,0)","v":{"$error":"#VALUE!"}},"",null,"",{"$f":"IF(AW65=\"\",\"\",IF(AW65=\"TOTAL\",\"\",IF($AR$16=$AR$17,0,IF(AND(AW65>$BT$1,$AF$3=$AO$2,'Master Sheet'!$D$31>0),'Master Sheet'!$D$31,IF(AND(AW65=$BT$1,$AF$3=$AO$2),IF($AR$9<18001,135,IF($AR$9<33501,220,IF($AR$9<54001,330,440))),IF(AND(AW65>$BT$1,$AF$3=$AO$2),IF($AR$9<18001,265,IF($AR$9<33501,440,IF($AR$9<54001,658,875))),\"\"))))))","v":""}]
["","","",{"$f":"IFERROR(IF($C64=\"TOTAL\",\"अक्षरें राशि :-\",IF($C65=\"TOTAL\",SUM($D$8:D64),IF(AX66=\"\",\"\",AX66))),\"\")","v":""},{"$f":"IFERROR(IF($C65=\"TOTAL\",SUM($E$8:E64),IF(AY66=\"\",\"\",AY66)),\"\")","v":""},{"$f":"IFERROR(IF($C65=\"TOTAL\",SUM($F$8:F64),IF(OR(C65=$AP$16,C65=$AP$17,C65=$AP$18,C65=$AP$19,C65=$AP$20,C65=$AP$21,C65=$AP$22,C65=$AP$23,C65=$AP$24),0,IF(AZ66=\"\",\"\",AZ66))),\"\")","v":""},"",{"$f":"IFERROR(IF($C65=\"TOTAL\",SUM($H$8:H64),IF(BB66=\"\",\"\",BB66)),\"\")","v":""},{"$f":"IFERROR(IF($C65=\"TOTAL\",SUM($I$8:I64),IF(BC66=\"\",\"\",BC66)),\"\")","v":""},{"$f":"IFERROR(IF($C65=\"TOTAL\",SUM($J$8:J64),IF(OR(C65=$AP$16,C65=$AP$17,C65=$AP$18,C65=$AP$19,C65=$AP$20,C65=$AP$21,C65=$AP$22,C65=$AP$23,C65=$AP$24),0,IF(BD66=\"\",\"\",BD66))),\"\")","v":""},"",{"$f":"IFERROR(IF(C65=\"\",\"\",IF(D65=\"\",\"\",IF(H65=\"\",\"\",IF($C65=\"TOTAL\",SUM($L$8:L64),SUM(D65-H65))))),\"\")","v":""},{"$f":"IFERROR(IF(C65=\"\",\"\",IF(E65=\"\",\"\",IF(I65=\"\",\"\",IF($C65=\"TOTAL\",SUM($M$8:M64),SUM(E65-I65))))),\"\")","v":""},{"$f":"IFERROR(IF(C65=\"\",\"\",IF(F65=\"\",\"\",IF(J65=\"\",\"\",IF($C65=\"TOTAL\",SUM($N$8:N64),SUM(F65-J65))))),\"\")","v":""},"",{"$f":"IFERROR(IF(C65=\"\",\"\",IF($C65=\"TOTAL\",SUM($P$8:P64),IF(AND(C65>$AO$1,$AF$3=$AO$2),BR66,IF($AR$18=$AR$20,SUM(BE66+BM66),ROUND((D65+E65)*10%,0))))),\"\")","v":""},{"$f":"IFERROR(IF(C65=\"\",\"\",IF(H65=\"\",\"\",IF(I65=\"\",\"\",IF($C65=\"TOTAL\",SUM($Q$8:Q64),IF(AND(C65>$AO$1,$AF$3=$AO$2),BR66,IF($AR$18=$AR$20,$AR$21,ROUND((H65+I65)*10%,0))))))),\"\")","v":""},"",{"$f":"IFERROR(IF(C65=\"\",\"\",IF($AR$16=$AR$17,0,IF($C65=\"TOTAL\",SUM($S$8:S64),IF($AR$19=$AR$31,0,IF(AND($AR$32=$AR$20,C65=$AR$33),$AR$34,S64))))),\"\")","v":""},{"$f":"IFERROR(IF(C65=\"\",\"\",IF($AR$16=$AR$17,0,IF($C65=\"TOTAL\",SUM($T$8:T64),IF($AR$19=$AR$20,$AR$24,0)))),\"\")","v":""},"",{"$f":"IF(C65=\"\",\"\",IF($C65=\"TOTAL\",SUM($V$8:V64),IF(AND($AR$2=$AR$20,C65=$AR$1),ROUND(D65/31*$AS$2,0),IF(C65=$AP$6,ROUND((G65)*1/30,0),IF(C65=$AQ$6,ROUND((G65)*1/31,0),\"\")))))","v":""},{"$f":"IF(C65=\"\",\"\",IF($C65=\"TOTAL\",SUM($W$8:W64),IF(AND($AR$2=$AR$20,C65=$AR$1),ROUND(H65/31*$AS$2,0),IF(C65=$AP$6,ROUND((K65)*1/30,0),IF(C65=$AQ$6,ROUND((K65)*1/31,0),\"\")))))","v":""},"",{"$f":"IFERROR(IF(C65=\"\",\"\",IF($AR$16=$AR$17,0,IF($AF$3=$AO$4,\"\",IF($C65=\"TOTAL\",SUM($Y$8:Y64),BU65)))),\"\")","v":""},{"$f":"IFERROR(IF(C65=\"\",\"\",IF($AR$16=$AR$17,0,IF($AF$3=$AO$4,\"\",IF($C65=\"TOTAL\",SUM($Z$8:Z64),BT65)))),\"\")","v":""},"",{"$f":"IFERROR(IF(C65=\"\",\"\",IF(AND(BK66=\"\",BR66=\"\"),\"\",IF($C65=\"TOTAL\",SUM($AB$8:AB64),BK66))),\"\")","v":""},{"$f":"IFERROR(IF(C65=\"\",\"\",IF($C65=\"TOTAL\",SUM($AC$8:AC64),ROUND(O65*$AR$7%,0))),\"\")","v":""},{"$f":"IFERROR(IF(C65=\"\",\"\",IF($C65=\"TOTAL\",SUM($AD$8:AD64),IF($AF$3=$AO$2,SUM(U65,X65,AB65,AC65),SUM(R65,U65,X65,AB65,AC65)))),\"\")","v":""},{"$f":"IFERROR(IF(C65=\"\",\"\",IF($C65=\"TOTAL\",SUM($AE$8:AE64),SUM(O65-AD65))),\"\")","v":""},{"$nulls":8},42,42,null,"2021-09-01",null,"2027-09-01","","","","","","","",null,"","","","",null,null,"","","","",0,0,{"$f":"SUM(ROUND(L64*3%,0))-ROUND(ROUND(L64*3%,0)*10%,0)","v":{"$error":"#VALUE!"}},{"$f":"SUM(ROUND(L64*3%,0))-ROUND(ROUND(L64*3%,0)*10%,0)","v":{"$error":"#VALUE!"}},null,null,"",null,"",{"$f":"IF(AW66=\"\",\"\",IF(AW66=\"TOTAL\",\"\",IF($AR$16=$AR$17,0,IF(AND(AW66>$BT$1,$AF$3=$AO$2,'Master Sheet'!$D$31>0),'Master Sheet'!$D$31,IF(AND(AW66=$BT$1,$AF$3=$AO$2),IF($AR$9<18001,135,IF($AR$9<33501,220,IF($AR$9<54001,330,440))),IF(AND(AW66>$BT$1,$AF$3=$AO$2),IF($AR$9<18001,265,IF($AR$9<33501,440,IF($AR$9<54001,658,875))),\"\"))))))","v":""}]
["","",{"$f":"IFERROR(IF(AW67=\"\",\"\",AW67),\"\")","v":""},{"$f":"IFERROR(IF($C65=\"TOTAL\",\"अक्षरें राशि :-\",IF($C66=\"TOTAL\",SUM($D$8:D65),IF(AX67=\"\",\"\",AX67))),\"\")","v":""},{"$f":"IFERROR(IF($C66=\"TOTAL\",SUM($E$8:E65),IF(AY67=\"\",\"\",AY67)),\"\")","v":""},{"$f":"IFERROR(IF($C66=\"TOTAL\",SUM($F$8:F65),IF(OR(C66=$AP$16,C66=$AP$17,C66=$AP$18,C66=$AP$19,C66=$AP$20,C66=$AP$21,C66=$AP$22,C66=$AP$23,C66=$AP$24),0,IF(AZ67=\"\",\"\",AZ67))),\"\")","v":""},{"$f":"IF(C66=\"\",\"\",SUM(D66:F66))","v":""},{"$f":"IFERROR(IF($C66=\"TOTAL\",SUM($H$8:H65),IF(BB67=\"\",\"\",BB67)),\"\")","v":""},{"$f":"IFERROR(IF($C66=\"TOTAL\",SUM($I$8:I65),IF(BC67=\"\",\"\",BC67)),\"\")","v":""},{"$f":"IFERROR(IF($C66=\"TOTAL\",SUM($J$8:J65),IF(OR(C66=$AP$16,C66=$AP$17,C66=$AP$18,C66=$AP$19,C66=$AP$20,C66=$AP$21,C66=$AP$22,C66=$AP$23,C66=$AP$24),0,IF(BD67=\"\",\"\",BD67))),\"\")","v":""},"",{"$f":"IFERROR(IF(C66=\"\",\"\",IF(D66=\"\",\"\",IF(H66=\"\",\"\",IF($C66=\"TOTAL\",SUM($L$8:L65),SUM(D66-H66))))),\"\")","v":""},{"$f":"IFERROR(IF(C66=\"\",\"\",IF(E66=\"\",\"\",IF(I66=\"\",\"\",IF($C66=\"TOTAL\",SUM($M$8:M65),SUM(E66-I66))))),\"\")","v":""},{"$f":"IFERROR(IF(C66=\"\",\"\",IF(F66=\"\",\"\",IF(J66=\"\",\"\",IF($C66=\"TOTAL\",SUM($N$8:N65),SUM(F66-J66))))),\"\")","v":""},"",{"$f":"IFERROR(IF(C66=\"\",\"\",IF($C66=\"TOTAL\",SUM($P$8:P65),IF(AND(C66>$AO$1,$AF$3=$AO$2),BR67,IF($AR$18=$AR$20,SUM(BE67+BM67),ROUND((D66+E66)*10%,0))))),\"\")","v":""},{"$f":"IFERROR(IF(C66=\"\",\"\",IF(H66=\"\",\"\",IF(I66=\"\",\"\",IF($C66=\"TOTAL\",SUM($Q$8:Q65),IF(AND(C66>$AO$1,$AF$3=$AO$2),BR67,IF($AR$18=$AR$20,$AR$21,ROUND((H66+I66)*10%,0))))))),\"\")","v":""},"",{"$f":"IFERROR(IF(C66=\"\",\"\",IF($AR$16=$AR$17,0,IF($C66=\"TOTAL\",SUM($S$8:S65),IF($AR$19=$AR$31,0,IF(AND($AR$32=$AR$20,C66=$AR$33),$AR$34,S65))))),\"\")","v":""},{"$f":"IFERROR(IF(C66=\"\",\"\",IF($AR$16=$AR$17,0,IF($C66=\"TOTAL\",SUM($T$8:T65),IF($AR$19=$AR$20,$AR$24,0)))),\"\")","v":""},"",{"$f":"IF(C66=\"\",\"\",IF($C66=\"TOTAL\",SUM($V$8:V65),IF(AND($AR$2=$AR$20,C66=$AR$1),ROUND(D66/31*$AS$2,0),IF(C66=$AP$6,ROUND((G66)*1/30,0),IF(C66=$AQ$6,ROUND((G66)*1/31,0),\"\")))))","v":""},{"$f":"IF(C66=\"\",\"\",IF($C66=\"TOTAL\",SUM($W$8:W65),IF(AND($AR$2=$AR$20,C66=$AR$1),ROUND(H66/31*$AS$2,0),IF(C66=$AP$6,ROUND((K66)*1/30,0),IF(C66=$AQ$6,ROUND((K66)*1/31,0),\"\")))))","v":""},"",{"$f":"IFERROR(IF(C66=\"\",\"\",IF($AR$16=$AR$17,0,IF($AF$3=$AO$4,\"\",IF($C66=\"TOTAL\",SUM($Y$8:Y65),BU66)))),\"\")","v":""},{"$f":"IFERROR(IF(C66=\"\",\"\",IF($AR$16=$AR$17,0,IF($AF$3=$AO$4,\"\",IF($C66=\"TOTAL\",SUM($Z$8:Z65),BT66)))),\"\")","v":""},"",{"$f":"IFERROR(IF(C66=\"\",\"\",IF(AND(BK67=\"\",BR67=\"\"),\"\",IF($C66=\"TOTAL\",SUM($AB$8:AB65),BK67))),\"\")","v":""},{"$f":"IFERROR(IF(C66=\"\",\"\",IF($C66=\"TOTAL\",SUM($AC$8:AC65),ROUND(O66*$AR$7%,0))),\"\")","v":""},{"$f":"IFERROR(IF(C66=\"\",\"\",IF($C66=\"TOTAL\",SUM($AD$8:AD65),IF($AF$3=$AO$2,SUM(U66,X66,AB66,AC66),SUM(R66,U66,X66,AB66,AC66)))),\"\")","v":""},{"$f":"IFERROR(IF(C66=\"\",\"\",IF($C66=\"TOTAL\",SUM($AE$8:AE65),SUM(O66-AD66))),\"\")","v":""},{"$nulls":8},42,42,null,"2021-10-01",null,"2027-10-01","","","","","","","",null,"","","","",null,null,"","","","",0,0,{"$nulls":4},"",null,"",{"$f":"IF(AW67=\"\",\"\",IF(AW67=\"TOTAL\",\"\",IF($AR$16=$AR$17,0,IF(AND(AW67>$BT$1,$AF$3=$AO$2,'Master Sheet'!$D$31>0),'Master Sheet'!$D$31,IF(AND(AW67=$BT$1,$AF$3=$AO$2),IF($AR$9<18001,135,IF($AR$9<33501,220,IF($AR$9<54001,330,440))),IF(AND(AW67>$BT$1,$AF$3=$AO$2),IF($AR$9<18001,265,IF($AR$9<33501,440,IF($AR$9<54001,658,875))),\"\"))))))","v":""}]
["","",{"$f":"IFERROR(IF(AW68=\"\",\"\",AW68),\"\")","v":""},{"$f":"IFERROR(IF($C66=\"TOTAL\",\"अक्षरें राशि :-\",IF($C67=\"TOTAL\",SUM($D$8:D66),IF(AX68=\"\",\"\",AX68))),\"\")","v":""},{"$f":"IFERROR(IF($C67=\"TOTAL\",SUM($E$8:E66),IF(AY68=\"\",\"\",AY68)),\"\")","v":""},{"$f":"IFERROR(IF($C67=\"TOTAL\",SUM($F$8:F66),IF(OR(C67=$AP$16,C67=$AP$17,C67=$AP$18,C67=$AP$19,C67=$AP$20,C67=$AP$21,C67=$AP$22,C67=$AP$23,C67=$AP$24),0,IF(AZ68=\"\",\"\",AZ68))),\"\")","v":""},"",{"$f":"IFERROR(IF($C67=\"TOTAL\",SUM($H$8:H66),IF(BB68=\"\",\"\",BB68)),\"\")","v":""},{"$f":"IFERROR(IF($C67=\"TOTAL\",SUM($I$8:I66),IF(BC68=\"\",\"\",BC68)),\"\")","v":""},{"$f":"IFERROR(IF($C67=\"TOTAL\",SUM($J$8:J66),IF(OR(C67=$AP$16,C67=$AP$17,C67=$AP$18,C67=$AP$19,C67=$AP$20,C67=$AP$21,C67=$AP$22,C67=$AP$23,C67=$AP$24),0,IF(BD68=\"\",\"\",BD68))),\"\")","v":""},"",{"$f":"IFERROR(IF(C67=\"\",\"\",IF(D67=\"\",\"\",IF(H67=\"\",\"\",IF($C67=\"TOTAL\",SUM($L$8:L66),SUM(D67-H67))))),\"\")","v":""},{"$f":"IFERROR(IF(C67=\"\",\"\",IF(E67=\"\",\"\",IF(I67=\"\",\"\",IF($C67=\"TOTAL\",SUM($M$8:M66),SUM(E67-I67))))),\"\")","v":""},{"$f":"IFERROR(IF(C67=\"\",\"\",IF(F67=\"\",\"\",IF(J67=\"\",\"\",IF($C67=\"TOTAL\",SUM($N$8:N66),SUM(F67-J67))))),\"\")","v":""},"",{"$f":"IFERROR(IF(C67=\"\",\"\",IF($C67=\"TOTAL\",SUM($P$8:P66),IF(AND(C67>$AO$1,$AF$3=$AO$2),BR68,IF($AR$18=$AR$20,SUM(BE68+BM68),ROUND((D67+E67)*10%,0))))),\"\")","v":""},{"$f":"IFERROR(IF(C67=\"\",\"\",IF(H67=\"\",\"\",IF(I67=\"\",\"\",IF($C67=\"TOTAL\",SUM($Q$8:Q66),IF(AND(C67>$AO$1,$AF$3=$AO$2),BR68,IF($AR$18=$AR$20,$AR$21,ROUND((H67+I67)*10%,0))))))),\"\")","v":""},"",{"$f":"IFERROR(IF(C67=\"\",\"\",IF($AR$16=$AR$17,0,IF($C67=\"TOTAL\",SUM($S$8:S66),IF($AR$19=$AR$31,0,IF(AND($AR$32=$AR$20,C67=$AR$33),$AR$34,S66))))),\"\")","v":""},{"$f":"IFERROR(IF(C67=\"\",\"\",IF($AR$16=$AR$17,0,IF($C67=\"TOTAL\",SUM($T$8:T66),IF($AR$19=$AR$20,$AR$24,0)))),\"\")","v":""},"",{"$f":"IF(C67=\"\",\"\",IF($C67=\"TOTAL\",SUM($V$8:V66),IF(AND($AR$2=$AR$20,C67=$AR$1),ROUND(D67/31*$AS$2,0),IF(C67=$AP$6,ROUND((G67)*1/30,0),IF(C67=$AQ$6,ROUND((G67)*1/31,0),\"\")))))","v":""},{"$f":"IF(C67=\"\",\"\",IF($C67=\"TOTAL\",SUM($W$8:W66),IF(AND($AR$2=$AR$20,C67=$AR$1),ROUND(H67/31*$AS$2,0),IF(C67=$AP$6,ROUND((K67)*1/30,0),IF(C67=$AQ$6,ROUND((K67)*1/31,0),\"\")))))","v":""},"",{"$f":"IFERROR(IF(C67=\"\",\"\",IF($AR$16=$AR$17,0,IF($AF$3=$AO$4,\"\",IF($C67=\"TOTAL\",SUM($Y$8:Y66),BU67)))),\"\")","v":""},{"$f":"IFERROR(IF(C67=\"\",\"\",IF($AR$16=$AR$17,0,IF($AF$3=$AO$4,\"\",IF($C67=\"TOTAL\",SUM($Z$8:Z66),BT67)))),\"\")","v":""},"",{"$f":"IFERROR(IF(C67=\"\",\"\",IF(AND(BK68=\"\",BR68=\"\"),\"\",IF($C67=\"TOTAL\",SUM($AB$8:AB66),BK68))),\"\")","v":""},{"$f":"IFERROR(IF(C67=\"\",\"\",IF($C67=\"TOTAL\",SUM($AC$8:AC66),ROUND(O67*$AR$7%,0))),\"\")","v":""},{"$f":"IFERROR(IF(C67=\"\",\"\",IF($C67=\"TOTAL\",SUM($AD$8:AD66),IF($AF$3=$AO$2,SUM(U67,X67,AB67,AC67),SUM(R67,U67,X67,AB67,AC67)))),\"\")","v":""},{"$f":"IFERROR(IF(C67=\"\",\"\",IF($C67=\"TOTAL\",SUM($AE$8:AE66),SUM(O67-AD67))),\"\")","v":""},{"$nulls":8},42,42,null,"2021-11-01",null,"2027-11-01","","","","","","","",null,"","","","",null,null,"","","","",0,0,{"$nulls":4},"",null,"",{"$f":"IF(AW68=\"\",\"\",IF(AW68=\"TOTAL\",\"\",IF($AR$16=$AR$17,0,IF(AND(AW68>$BT$1,$AF$3=$AO$2,'Master Sheet'!$D$31>0),'Master Sheet'!$D$31,IF(AND(AW68=$BT$1,$AF$3=$AO$2),IF($AR$9<18001,135,IF($AR$9<33501,220,IF($AR$9<54001,330,440))),IF(AND(AW68>$BT$1,$AF$3=$AO$2),IF($AR$9<18001,265,IF($AR$9<33501,440,IF($AR$9<54001,658,875))),\"\"))))))","v":""}]
["","","",{"$f":"IFERROR(IF($C67=\"TOTAL\",\"अक्षरें राशि :-\",IF($C68=\"TOTAL\",SUM($D$8:D67),IF(AX69=\"\",\"\",AX69))),\"\")","v":""},{"$f":"IFERROR(IF($C68=\"TOTAL\",SUM($E$8:E67),IF(AY69=\"\",\"\",AY69)),\"\")","v":""},{"$f":"IFERROR(IF($C68=\"TOTAL\",SUM($F$8:F67),IF(AZ69=\"\",\"\",AZ69)),\"\")","v":""},"",{"$f":"IFERROR(IF($C68=\"TOTAL\",SUM($H$8:H67),IF(BB69=\"\",\"\",BB69)),\"\")","v":""},{"$f":"IFERROR(IF($C68=\"TOTAL\",SUM($I$8:I67),IF(BC69=\"\",\"\",BC69)),\"\")","v":""},{"$f":"IFERROR(IF($C68=\"TOTAL\",SUM($J$8:J67),IF(BD69=\"\",\"\",BD69)),\"\")","v":""},"",{"$f":"IFERROR(IF(C68=\"\",\"\",IF(D68=\"\",\"\",IF(H68=\"\",\"\",IF($C68=\"TOTAL\",SUM($L$8:L67),SUM(D68-H68))))),\"\")","v":""},{"$f":"IFERROR(IF(C68=\"\",\"\",IF(E68=\"\",\"\",IF(I68=\"\",\"\",IF($C68=\"TOTAL\",SUM($M$8:M67),SUM(E68-I68))))),\"\")","v":""},{"$f":"IFERROR(IF(C68=\"\",\"\",IF(F68=\"\",\"\",IF(J68=\"\",\"\",IF($C68=\"TOTAL\",SUM($N$8:N67),SUM(F68-J68))))),\"\")","v":""},"",{"$f":"IFERROR(IF(C68=\"\",\"\",IF($C68=\"TOTAL\",SUM($P$8:P67),IF(AND(C68>$AO$1,$AF$3=$AO$2),BR69,IF($AR$18=$AR$20,SUM(BE69+BM69),ROUND((D68+E68)*10%,0))))),\"\")","v":""},{"$f":"IFERROR(IF(C68=\"\",\"\",IF(H68=\"\",\"\",IF(I68=\"\",\"\",IF($C68=\"TOTAL\",SUM($Q$8:Q67),IF(AND(C68>$AO$1,$AF$3=$AO$2),BR69,IF($AR$18=$AR$20,$AR$21,ROUND((H68+I68)*10%,0))))))),\"\")","v":""},"",{"$f":"IFERROR(IF(C68=\"\",\"\",IF($AR$16=$AR$17,0,IF($C68=\"TOTAL\",SUM($S$8:S67),IF($AR$19=$AR$20,$AR$25,0)))),\"\")","v":""},{"$f":"IFERROR(IF(C68=\"\",\"\",IF($AR$16=$AR$17,0,IF($C68=\"TOTAL\",SUM($T$8:T67),IF($AR$19=$AR$20,$AR$24,0)))),\"\")","v":""},"",{"$f":"IF(C68=\"\",\"\",IF($C68=\"TOTAL\",SUM($V$8:V67),IF(AND($AR$2=$AR$20,C68=$AR$1),ROUND(D68/31*$AS$2,0),IF(C68=$AP$6,ROUND((G68)*1/30,0),IF(C68=$AQ$6,ROUND((G68)*1/31,0),\"\")))))","v":""},{"$f":"IF(C68=\"\",\"\",IF($C68=\"TOTAL\",SUM($W$8:W67),IF(AND($AR$2=$AR$20,C68=$AR$1),ROUND(H68/31*$AS$2,0),IF(C68=$AP$6,ROUND((K68)*1/30,0),IF(C68=$AQ$6,ROUND((K68)*1/31,0),\"\")))))","v":""},"",{"$f":"IFERROR(IF(C68=\"\",\"\",IF($AR$16=$AR$17,0,IF($AF$3=$AO$4,\"\",IF($C68=\"TOTAL\",SUM($Y$8:Y67),BU68)))),\"\")","v":""},{"$f":"IFERROR(IF(C68=\"\",\"\",IF($AR$16=$AR$17,0,IF($AF$3=$AO$4,\"\",IF($C68=\"TOTAL\",SUM($Z$8:Z67),BT68)))),\"\")","v":""},"",{"$f":"IFERROR(IF(C68=\"\",\"\",IF(AND(BK69=\"\",BR69=\"\"),\"\",IF($C68=\"TOTAL\",SUM($AB$8:AB67),BK69))),\"\")","v":""},{"$f":"IFERROR(IF(C68=\"\",\"\",IF($C68=\"TOTAL\",SUM($AC$8:AC67),ROUND(O68*$AR$7%,0))),\"\")","v":""},{"$f":"IFERROR(IF(C68=\"\",\"\",IF($C68=\"TOTAL\",SUM($AD$8:AD67),IF($AF$3=$AO$2,SUM(U68,X68,AB68,AC68),SUM(R68,U68,X68,AB68,AC68)))),\"\")","v":""},{"$f":"IFERROR(IF(C68=\"\",\"\",IF($C68=\"TOTAL\",SUM($AE$8:AE67),SUM(O68-AD68))),\"\")","v":""},{"$nulls":8},42,42,null,"2021-12-01",null,"2027-12-01","","","","","","","",null,"","","","",null,null,"","","","",0,0,{"$nulls":4},"",null,"",{"$f":"IF(AW69=\"\",\"\",IF(AW69=\"TOTAL\",\"\",IF($AR$16=$AR$17,0,IF(AND(AW69>$BT$1,$AF$3=$AO$2,'Master Sheet'!$D$31>0),'Master Sheet'!$D$31,IF(AND(AW69=$BT$1,$AF$3=$AO$2),IF($AR$9<18001,135,IF($AR$9<33501,220,IF($AR$9<54001,330,440))),IF(AND(AW69>$BT$1,$AF$3=$AO$2),IF($AR$9<18001,265,IF($AR$9<33501,440,IF($AR$9<54001,658,875))),\"\"))))))","v":""}]
["","",{"$f":"IFERROR(IF(AW70=\"\",\"\",AW70),\"\")","v":""},{"$f":"IFERROR(IF($C68=\"TOTAL\",\"अक्षरें राशि :-\",IF($C69=\"TOTAL\",SUM($D$8:D68),IF(AX70=\"\",\"\",AX70))),\"\")","v":""},{"$f":"IFERROR(IF($C69=\"TOTAL\",SUM($E$8:E68),IF(AY70=\"\",\"\",AY70)),\"\")","v":""},{"$f":"IFERROR(IF($C69=\"TOTAL\",SUM($F$8:F68),IF(AZ70=\"\",\"\",AZ70)),\"\")","v":""},{"$f":"IF(C69=\"\",\"\",SUM(D69:F69))","v":""},{"$f":"IFERROR(IF($C69=\"TOTAL\",SUM($H$8:H68),IF(BB70=\"\",\"\",BB70)),\"\")","v":""},{"$f":"IFERROR(IF($C69=\"TOTAL\",SUM($I$8:I68),IF(BC70=\"\",\"\",BC70)),\"\")","v":""},{"$f":"IFERROR(IF($C69=\"TOTAL\",SUM($J$8:J68),IF(BD70=\"\",\"\",BD70)),\"\")","v":""},{"$f":"IF(C69=\"\",\"\",SUM(H69:J69))","v":""},{"$f":"IFERROR(IF(C69=\"\",\"\",IF(D69=\"\",\"\",IF(H69=\"\",\"\",IF($C69=\"TOTAL\",SUM($L$8:L68),SUM(D69-H69))))),\"\")","v":""},{"$f":"IFERROR(IF(C69=\"\",\"\",IF(E69=\"\",\"\",IF(I69=\"\",\"\",IF($C69=\"TOTAL\",SUM($M$8:M68),SUM(E69-I69))))),\"\")","v":""},{"$f":"IFERROR(IF(C69=\"\",\"\",IF(F69=\"\",\"\",IF(J69=\"\",\"\",IF($C69=\"TOTAL\",SUM($N$8:N68),SUM(F69-J69))))),\"\")","v":""},{"$f":"IFERROR(IF(C69=\"\",\"\",IF(G69=\"\",\"\",IF(K69=\"\",\"\",SUM(G69-K69)))),\"\")","v":""},{"$f":"IFERROR(IF(C69=\"\",\"\",IF($C69=\"TOTAL\",SUM($P$8:P68),IF(AND(C69>$AO$1,$AF$3=$AO$2),BR70,IF($AR$18=$AR$20,SUM(BE70+BM70),ROUND((D69+E69)*10%,0))))),\"\")","v":""},{"$f":"IFERROR(IF(C69=\"\",\"\",IF(H69=\"\",\"\",IF(I69=\"\",\"\",IF($C69=\"TOTAL\",SUM($Q$8:Q68),IF(AND(C69>$AO$1,$AF$3=$AO$2),BR70,IF($AR$18=$AR$20,$AR$21,ROUND((H69+I69)*10%,0))))))),\"\")","v":""},{"$f":"IFERROR(IF(C69=\"\",\"\",SUM(P69-Q69)),\"\")","v":""},{"$f":"IFERROR(IF(C69=\"\",\"\",IF($AR$16=$AR$17,0,IF($C69=\"TOTAL\",SUM($S$8:S68),IF($AR$19=$AR$20,$AR$25,0)))),\"\")","v":""},{"$f":"IFERROR(IF(C69=\"\",\"\",IF($AR$16=$AR$17,0,IF($C69=\"TOTAL\",SUM($T$8:T68),IF($AR$19=$AR$20,$AR$24,0)))),\"\")","v":""},{"$f":"IFERROR(IF(C69=\"\",\"\",SUM(S69-T69)),\"\")","v":""},{"$f":"IF(C69=\"\",\"\",IF($C69=\"TOTAL\",SUM($V$8:V68),IF(AND($AR$2=$AR$20,C69=$AR$1),ROUND(D69/31*$AS$2,0),IF(C69=$AP$6,ROUND((G69)*1/30,0),IF(C69=$AQ$6,ROUND((G69)*1/31,0),\"\")))))","v":""},{"$f":"IF(C69=\"\",\"\",IF($C69=\"TOTAL\",SUM($W$8:W68),IF(AND($AR$2=$AR$20,C69=$AR$1),ROUND(H69/31*$AS$2,0),IF(C69=$AP$6,ROUND((K69)*1/30,0),IF(C69=$AQ$6,ROUND((K69)*1/31,0),\"\")))))","v":""},{"$f":"IFERROR(IF(C69=\"\",\"\",SUM(V69-W69)),\"\")","v":""},{"$f":"IFERROR(IF(C69=\"\",\"\",IF($AR$16=$AR$17,0,IF($AF$3=$AO$4,\"\",IF($C69=\"TOTAL\",SUM($Y$8:Y68),BU69)))),\"\")","v":""},{"$f":"IFERROR(IF(C69=\"\",\"\",IF($AR$16=$AR$17,0,IF($AF$3=$AO$4,\"\",IF($C69=\"TOTAL\",SUM($Z$8:Z68),BT69)))),\"\")","v":""},"",{"$f":"IFERROR(IF(C69=\"\",\"\",IF(AND(BK70=\"\",BR70=\"\"),\"\",IF($C69=\"TOTAL\",SUM($AB$8:AB68),BK70))),\"\")","v":""},{"$f":"IFERROR(IF(C69=\"\",\"\",IF($C69=\"TOTAL\",SUM($AC$8:AC68),ROUND(O69*$AR$7%,0))),\"\")","v":""},{"$f":"IFERROR(IF(C69=\"\",\"\",IF($C69=\"TOTAL\",SUM($AD$8:AD68),IF($AF$3=$AO$2,SUM(U69,X69,AB69,AC69),SUM(R69,U69,X69,AB69,AC69)))),\"\")","v":""},{"$f":"IFERROR(IF(C69=\"\",\"\",IF($C69=\"TOTAL\",SUM($AE$8:AE68),SUM(O69-AD69))),\"\")","v":""},{"$nulls":8},42,42,null,"2022-01-01",null,"2028-01-01","","","","","","","",null,"","","","",null,null,"","","","",0,0,{"$nulls":4},"",null,"",{"$f":"IF(AW70=\"\",\"\",IF(AW70=\"TOTAL\",\"\",IF($AR$16=$AR$17,0,IF(AND(AW70>$BT$1,$AF$3=$AO$2,'Master Sheet'!$D$31>0),'Master Sheet'!$D$31,IF(AND(AW70=$BT$1,$AF$3=$AO$2),IF($AR$9<18001,135,IF($AR$9<33501,220,IF($AR$9<54001,330,440))),IF(AND(AW70>$BT$1,$AF$3=$AO$2),IF($AR$9<18001,265,IF($AR$9<33501,440,IF($AR$9<54001,658,875))),\"\"))))))","v":""}]
["","","",{"$f":"IFERROR(IF($C69=\"TOTAL\",\"अक्षरें राशि :-\",IF($C70=\"TOTAL\",SUM($D$8:D69),IF(AX71=\"\",\"\",AX71))),\"\")","v":""},{"$f":"IFERROR(IF($C70=\"TOTAL\",SUM($E$8:E69),IF(AY71=\"\",\"\",AY71)),\"\")","v":""},{"$f":"IFERROR(IF($C70=\"TOTAL\",SUM($F$8:F69),IF(AZ71=\"\",\"\",AZ71)),\"\")","v":""},"",{"$f":"IFERROR(IF($C70=\"TOTAL\",SUM($H$8:H69),IF(BB71=\"\",\"\",BB71)),\"\")","v":""},{"$f":"IFERROR(IF($C70=\"TOTAL\",SUM($I$8:I69),IF(BC71=\"\",\"\",BC71)),\"\")","v":""},{"$f":"IFERROR(IF($C70=\"TOTAL\",SUM($J$8:J69),IF(BD71=\"\",\"\",BD71)),\"\")","v":""},"",{"$f":"IFERROR(IF(C70=\"\",\"\",IF(D70=\"\",\"\",IF(H70=\"\",\"\",IF($C70=\"TOTAL\",SUM($L$8:L69),SUM(D70-H70))))),\"\")","v":""},{"$f":"IFERROR(IF(C70=\"\",\"\",IF(E70=\"\",\"\",IF(I70=\"\",\"\",IF($C70=\"TOTAL\",SUM($M$8:M69),SUM(E70-I70))))),\"\")","v":""},{"$f":"IFERROR(IF(C70=\"\",\"\",IF(F70=\"\",\"\",IF(J70=\"\",\"\",IF($C70=\"TOTAL\",SUM($N$8:N69),SUM(F70-J70))))),\"\")","v":""},"",{"$f":"IFERROR(IF(C70=\"\",\"\",IF($C70=\"TOTAL\",SUM($P$8:P69),IF(AND(C70>$AO$1,$AF$3=$AO$2),BR71,IF($AR$18=$AR$20,SUM(BE71+BM71),ROUND((D70+E70)*10%,0))))),\"\")","v":""},{"$f":"IFERROR(IF(C70=\"\",\"\",IF(H70=\"\",\"\",IF(I70=\"\",\"\",IF($C70=\"TOTAL\",SUM($Q$8:Q69),IF(AND(C70>$AO$1,$AF$3=$AO$2),BR71,IF($AR$18=$AR$20,$AR$21,ROUND((H70+I70)*10%,0))))))),\"\")","v":""},"",{"$f":"IFERROR(IF(C70=\"\",\"\",IF($AR$16=$AR$17,0,IF($C70=\"TOTAL\",SUM($S$8:S69),IF($AR$19=$AR$20,$AR$25,0)))),\"\")","v":""},{"$f":"IFERROR(IF(C70=\"\",\"\",IF($AR$16=$AR$17,0,IF($C70=\"TOTAL\",SUM($T$8:T69),IF($AR$19=$AR$20,$AR$24,0)))),\"\")","v":""},"",{"$f":"IF(C70=\"\",\"\",IF($C70=\"TOTAL\",SUM($V$8:V69),IF(AND($AR$2=$AR$20,C70=$AR$1),ROUND(D70/31*$AS$2,0),IF(C70=$AP$6,ROUND((G70)*1/30,0),IF(C70=$AQ$6,ROUND((G70)*1/31,0),\"\")))))","v":""},{"$f":"IF(C70=\"\",\"\",IF($C70=\"TOTAL\",SUM($W$8:W69),IF(AND($AR$2=$AR$20,C70=$AR$1),ROUND(H70/31*$AS$2,0),IF(C70=$AP$6,ROUND((K70)*1/30,0),IF(C70=$AQ$6,ROUND((K70)*1/31,0),\"\")))))","v":""},"",{"$f":"IFERROR(IF(C70=\"\",\"\",IF($AR$16=$AR$17,0,IF($AF$3=$AO$4,\"\",IF($C70=\"TOTAL\",SUM($Y$8:Y69),BU70)))),\"\")","v":""},{"$f":"IFERROR(IF(C70=\"\",\"\",IF($AR$16=$AR$17,0,IF($AF$3=$AO$4,\"\",IF($C70=\"TOTAL\",SUM($Z$8:Z69),BT70)))),\"\")","v":""},"",{"$f":"IFERROR(IF(C70=\"\",\"\",IF(AND(BK71=\"\",BR71=\"\"),\"\",IF($C70=\"TOTAL\",SUM($AB$8:AB69),BK71))),\"\")","v":""},{"$f":"IFERROR(IF(C70=\"\",\"\",IF($C70=\"TOTAL\",SUM($AC$8:AC69),ROUND(O70*$AR$7%,0))),\"\")","v":""},{"$f":"IFERROR(IF(C70=\"\",\"\",IF($C70=\"TOTAL\",SUM($AD$8:AD69),IF($AF$3=$AO$2,SUM(U70,X70,AB70,AC70),SUM(R70,U70,X70,AB70,AC70)))),\"\")","v":""},{"$f":"IFERROR(IF(C70=\"\",\"\",IF($C70=\"TOTAL\",SUM($AE$8:AE69),SUM(O70-AD70))),\"\")","v":""},{"$nulls":8},42,42,null,"2022-02-01",null,"2028-02-01","","",{"$f":"IFERROR(IF(AND(AT70=\"\",AU70=\"\"),\"\",IF(AT70=\"\",AU70,AT70)),\"\")","v":""},"","","","",null,"","","","",null,null,"","","","",0,0,{"$nulls":4},"",null,"",{"$f":"IF(AW71=\"\",\"\",IF(AW71=\"TOTAL\",\"\",IF($AR$16=$AR$17,0,IF(AND(AW71>$BT$1,$AF$3=$AO$2,'Master Sheet'!$D$31>0),'Master Sheet'!$D$31,IF(AND(AW71=$BT$1,$AF$3=$AO$2),IF($AR$9<18001,135,IF($AR$9<33501,220,IF($AR$9<54001,330,440))),IF(AND(AW71>$BT$1,$AF$3=$AO$2),IF($AR$9<18001,265,IF($AR$9<33501,440,IF($AR$9<54001,658,875))),\"\"))))))","v":""}]
["","","",{"$f":"IFERROR(IF($C70=\"TOTAL\",\"अक्षरें राशि :-\",IF($C71=\"TOTAL\",SUM($D$8:D70),IF(AX72=\"\",\"\",AX72))),\"\")","v":""},{"$f":"IFERROR(IF($C71=\"TOTAL\",SUM($E$8:E70),IF(AY72=\"\",\"\",AY72)),\"\")","v":""},{"$f":"IFERROR(IF($C71=\"TOTAL\",SUM($F$8:F70),IF(AZ72=\"\",\"\",AZ72)),\"\")","v":""},"",{"$f":"IFERROR(IF($C71=\"TOTAL\",SUM($H$8:H70),IF(BB72=\"\",\"\",BB72)),\"\")","v":""},{"$f":"IFERROR(IF($C71=\"TOTAL\",SUM($I$8:I70),IF(BC72=\"\",\"\",BC72)),\"\")","v":""},{"$f":"IFERROR(IF($C71=\"TOTAL\",SUM($J$8:J70),IF(BD72=\"\",\"\",BD72)),\"\")","v":""},"",{"$f":"IFERROR(IF(C71=\"\",\"\",IF(D71=\"\",\"\",IF(H71=\"\",\"\",IF($C71=\"TOTAL\",SUM($L$8:L70),SUM(D71-H71))))),\"\")","v":""},{"$f":"IFERROR(IF(C71=\"\",\"\",IF(E71=\"\",\"\",IF(I71=\"\",\"\",IF($C71=\"TOTAL\",SUM($M$8:M70),SUM(E71-I71))))),\"\")","v":""},{"$f":"IFERROR(IF(C71=\"\",\"\",IF(F71=\"\",\"\",IF(J71=\"\",\"\",IF($C71=\"TOTAL\",SUM($N$8:N70),SUM(F71-J71))))),\"\")","v":""},"",{"$f":"IFERROR(IF(C71=\"\",\"\",IF($C71=\"TOTAL\",SUM($P$8:P70),IF(AND(C71>$AO$1,$AF$3=$AO$2),BR72,IF($AR$18=$AR$20,SUM(BE72+BM72),ROUND((D71+E71)*10%,0))))),\"\")","v":""},{"$f":"IFERROR(IF(C71=\"\",\"\",IF(H71=\"\",\"\",IF(I71=\"\",\"\",IF($C71=\"TOTAL\",SUM($Q$8:Q70),IF(AND(C71>$AO$1,$AF$3=$AO$2),BR72,IF($AR$18=$AR$20,$AR$21,ROUND((H71+I71)*10%,0))))))),\"\")","v":""},"",{"$f":"IFERROR(IF(C71=\"\",\"\",IF($AR$16=$AR$17,0,IF($C71=\"TOTAL\",SUM($S$8:S70),IF($AR$19=$AR$20,$AR$25,0)))),\"\")","v":""},{"$f":"IFERROR(IF(C71=\"\",\"\",IF($AR$16=$AR$17,0,IF($C71=\"TOTAL\",SUM($T$8:T70),IF($AR$19=$AR$20,$AR$24,0)))),\"\")","v":""},"",{"$f":"IF(C71=\"\",\"\",IF($C71=\"TOTAL\",SUM($V$8:V70),IF(AND($AR$2=$AR$20,C71=$AR$1),ROUND(D71/31*$AS$2,0),IF(C71=$AP$6,ROUND((G71)*1/30,0),IF(C71=$AQ$6,ROUND((G71)*1/31,0),\"\")))))","v":""},{"$f":"IF(C71=\"\",\"\",IF($C71=\"TOTAL\",SUM($W$8:W70),IF(AND($AR$2=$AR$20,C71=$AR$1),ROUND(H71/31*$AS$2,0),IF(C71=$AP$6,ROUND((K71)*1/30,0),IF(C71=$AQ$6,ROUND((K71)*1/31,0),\"\")))))","v":""},"",{"$f":"IFERROR(IF(C71=\"\",\"\",IF($AR$16=$AR$17,0,IF($AF$3=$AO$4,\"\",IF($C71=\"TOTAL\",SUM($Y$8:Y70),BU71)))),\"\")","v":""},{"$f":"IFERROR(IF(C71=\"\",\"\",IF($AR$16=$AR$17,0,IF($AF$3=$AO$4,\"\",IF($C71=\"TOTAL\",SUM($Z$8:Z70),BT71)))),\"\")","v":""},"",{"$f":"IFERROR(IF(C71=\"\",\"\",IF(AND(BK72=\"\",BR72=\"\"),\"\",IF($C71=\"TOTAL\",SUM($AB$8:AB70),BK72))),\"\")","v":""},{"$f":"IFERROR(IF(C71=\"\",\"\",IF($C71=\"TOTAL\",SUM($AC$8:AC70),ROUND(O71*$AR$7%,0))),\"\")","v":""},{"$f":"IFERROR(IF(C71=\"\",\"\",IF($C71=\"TOTAL\",SUM($AD$8:AD70),IF($AF$3=$AO$2,SUM(U71,X71,AB71,AC71),SUM(R71,U71,X71,AB71,AC71)))),\"\")","v":""},{"$f":"IFERROR(IF(C71=\"\",\"\",IF($C71=\"TOTAL\",SUM($AE$8:AE70),SUM(O71-AD71))),\"\")","v":""},{"$nulls":8},42,42,null,"2022-03-01","2022-03-01","2028-03-01",{"$f":"IF(AND(AS71=\"\"),\"\",IF(AND(AS71=$AQ$9),$AQ$9,IF(AND(AS71=$AQ$10),$AQ$10,IF(AND(AS71=$AQ$11),$AQ$11,IF(AND(AS71=$AQ$12),$AQ$12,IF(AND(AS71=$AQ$13),$AQ$13,IF(AND(AS71=$AQ$14),$AQ$14,IF(AND(AS71=$AQ$15),$AQ$15,IF(AND(AS71=$AQ$16),$AQ$16,IF(AND(AS71=$AQ$17),$AQ$17,IF(AND(AS71=$AQ$18),$AQ$18,IF(AND(AS71=$AQ$19),$AQ$19,IF(AND(AS71=$AQ$20),$AQ$20,IF(AND(AS71=$AQ$21),$AQ$21,IF(AND(AS71=$AQ$22),$AQ$22,IF(AND(AS71=$AQ$23),$AQ$23,IF(AND(AS71=$AQ$24),$AQ$24,IF(AND(AS71=$AQ$25),$AQ$25,IF(AND(AS71=$AQ$26),$AQ$26,IF(AND(AS71=$AQ$27),$AQ$27,IF(AND(AS71=$AQ$28),$AQ$28,IF(AND(AS71=$AQ$29),$AQ$29,IF(AND(AS71=$AQ$30),$AQ$30,IF(AND(AS71=$AQ$31),$AQ$31,IF(AND(AS71=$AQ$32),$AQ$32,IF(AND(AS71=$AQ$33),$AQ$33,IF(AND(AS71=$AQ$34),$AQ$34,IF(AND(AS71=$AQ$35),$AQ$35,IF(AND(AS71=$AQ$36),$AQ$36,IF(AND(AS71=$AQ$37),$AQ$37,IF(AND(AS71=$AQ$38),$AQ$38,IF(AND(AS71=$AQ$39),$AQ$39,IF(AND(AS71=$AQ$40),$AQ$40,IF(AND(AS71=$AQ$41),$AQ$41,IF(AND(AS71=$AQ$42),$AQ$42,IF(AND(AS71=$AQ$43),$AQ$43,IF(AND(AS71=$AQ$44),$AQ$44,IF(AND(AS71=$AQ$45),$AQ$45,IF(AND(AS71=$AQ$46),$AQ$46,IF(AND(AS71=$AQ$47),$AQ$47,IF(AND(AS71=$AQ$48),$AQ$48,IF(AND(AS71=$AQ$49),$AQ$49,IF(AND(AS71=$AQ$50),$AQ$50,IF(AND(AS71=$AQ$51),$AQ$51,IF(AND(AS71=$AQ$52),$AQ$52,IF(AND(AS71=$AQ$53),$AQ$53,IF(AND(AS71=$AQ$54),$AQ$54,IF(AND(AS71=$AQ$55),$AQ$55,IF(AND(AS71=$AQ$56),$AQ$56,IF(AND(AS71=$AQ$57),$AQ$57,IF(AND(AS71=$AQ$58),$AQ$58,IF(AND(AS71=$AQ$59),$AQ$59,IF(AND(AS71=$AQ$60),$AQ$60,IF(AND(AS71=$AQ$61),$AQ$61,IF(AND(AS71=$AQ$62),$AQ$62,IF(AND(AS71=$AQ$63),$AQ$63,IF(AND(AS71=$AQ$64),$AQ$64,IF(AND(AS71=$AQ$65),$AQ$65,IF(AND(AS71=$AQ$66),$AQ$66,IF(AND(AS71=$AQ$67),$AQ$67,IF(AND(AS71=$AQ$68),$AQ$68,IF(AND(AS71=$AQ$69),$AQ$69,IF(AND(AS71=$AQ$70),$AQ$70,IF(AND(AS71=$AQ$71),$AQ$71,\"\"))))))))))))))))))))))))))))))))))))))))))))))))))))))))))))))))","v":""},"",{"$f":"IFERROR(IF(AND(AT71=\"\",AU71=\"\"),\"\",IF(AT71=\"\",AU71,AT71)),\"\")","v":""},"","","","",null,"","","","",null,null,"","","","",0,0,{"$nulls":4},"",null,"",{"$f":"IF(AW72=\"\",\"\",IF(AW72=\"TOTAL\",\"\",IF($AR$16=$AR$17,0,IF(AND(AW72>$BT$1,$AF$3=$AO$2,'Master Sheet'!$D$31>0),'Master Sheet'!$D$31,IF(AND(AW72=$BT$1,$AF$3=$AO$2),IF($AR$9<18001,135,IF($AR$9<33501,220,IF($AR$9<54001,330,440))),IF(AND(AW72>$BT$1,$AF$3=$AO$2),IF($AR$9<18001,265,IF($AR$9<33501,440,IF($AR$9<54001,658,875))),\"\"))))))","v":""}]
["","","",{"$f":"IFERROR(IF($C71=\"TOTAL\",\"अक्षरें राशि :-\",IF($C72=\"TOTAL\",SUM($D$8:D71),IF(AX73=\"\",\"\",AX73))),\"\")","v":""},{"$f":"IFERROR(IF($C72=\"TOTAL\",SUM($E$8:E71),IF(AY73=\"\",\"\",AY73)),\"\")","v":""},{"$f":"IFERROR(IF($C72=\"TOTAL\",SUM($F$8:F71),IF(AZ73=\"\",\"\",AZ73)),\"\")","v":""},"",{"$f":"IFERROR(IF($C72=\"TOTAL\",SUM($H$8:H71),IF(BB73=\"\",\"\",BB73)),\"\")","v":""},{"$f":"IFERROR(IF($C72=\"TOTAL\",SUM($I$8:I71),IF(BC73=\"\",\"\",BC73)),\"\")","v":""},{"$f":"IFERROR(IF($C72=\"TOTAL\",SUM($J$8:J71),IF(BD73=\"\",\"\",BD73)),\"\")","v":""},"",{"$f":"IFERROR(IF(C72=\"\",\"\",IF(D72=\"\",\"\",IF(H72=\"\",\"\",IF($C72=\"TOTAL\",SUM($L$8:L71),SUM(D72-H72))))),\"\")","v":""},{"$f":"IFERROR(IF(C72=\"\",\"\",IF(E72=\"\",\"\",IF(I72=\"\",\"\",IF($C72=\"TOTAL\",SUM($M$8:M71),SUM(E72-I72))))),\"\")","v":""},{"$f":"IFERROR(IF(C72=\"\",\"\",IF(F72=\"\",\"\",IF(J72=\"\",\"\",IF($C72=\"TOTAL\",SUM($N$8:N71),SUM(F72-J72))))),\"\")","v":""},"",{"$f":"IFERROR(IF(C72=\"\",\"\",IF($C72=\"TOTAL\",SUM($P$8:P71),IF(AND(C72>$AO$1,$AF$3=$AO$2),BR73,IF($AR$18=$AR$20,SUM(BE73+BM73),ROUND((D72+E72)*10%,0))))),\"\")","v":""},{"$f":"IFERROR(IF(C72=\"\",\"\",IF(H72=\"\",\"\",IF(I72=\"\",\"\",IF($C72=\"TOTAL\",SUM($Q$8:Q71),IF(AND(C72>$AO$1,$AF$3=$AO$2),BR73,IF($AR$18=$AR$20,$AR$21,ROUND((H72+I72)*10%,0))))))),\"\")","v":""},"",{"$f":"IFERROR(IF(C72=\"\",\"\",IF($AR$16=$AR$17,0,IF($C72=\"TOTAL\",SUM($S$8:S71),IF($AR$19=$AR$20,$AR$25,0)))),\"\")","v":""},{"$f":"IFERROR(IF(C72=\"\",\"\",IF($AR$16=$AR$17,0,IF($C72=\"TOTAL\",SUM($T$8:T71),IF($AR$19=$AR$20,$AR$24,0)))),\"\")","v":""},"",{"$f":"IF(C72=\"\",\"\",IF($C72=\"TOTAL\",SUM($V$8:V71),IF(AND($AR$2=$AR$20,C72=$AR$1),ROUND(D72/31*$AS$2,0),IF(C72=$AP$6,ROUND((G72)*1/30,0),IF(C72=$AQ$6,ROUND((G72)*1/31,0),\"\")))))","v":""},{"$f":"IF(C72=\"\",\"\",IF($C72=\"TOTAL\",SUM($W$8:W71),IF(AND($AR$2=$AR$20,C72=$AR$1),ROUND(H72/31*$AS$2,0),IF(C72=$AP$6,ROUND((K72)*1/30,0),IF(C72=$AQ$6,ROUND((K72)*1/31,0),\"\")))))","v":""},"",{"$f":"IFERROR(IF(C72=\"\",\"\",IF($AR$16=$AR$17,0,IF($AF$3=$AO$4,\"\",IF($C72=\"TOTAL\",SUM($Y$8:Y71),BU72)))),\"\")","v":""},{"$f":"IFERROR(IF(C72=\"\",\"\",IF($AR$16=$AR$17,0,IF($AF$3=$AO$4,\"\",IF($C72=\"TOTAL\",SUM($Z$8:Z71),BT72)))),\"\")","v":""},"",{"$f":"IFERROR(IF(C72=\"\",\"\",IF(AND(BK73=\"\",BR73=\"\"),\"\",IF($C72=\"TOTAL\",SUM($AB$8:AB71),BK73))),\"\")","v":""},{"$f":"IFERROR(IF(C72=\"\",\"\",IF($C72=\"TOTAL\",SUM($AC$8:AC71),ROUND(O72*$AR$7%,0))),\"\")","v":""},{"$f":"IFERROR(IF(C72=\"\",\"\",IF($C72=\"TOTAL\",SUM($AD$8:AD71),IF($AF$3=$AO$2,SUM(U72,X72,AB72,AC72),SUM(R72,U72,X72,AB72,AC72)))),\"\")","v":""},{"$f":"IFERROR(IF(C72=\"\",\"\",IF($C72=\"TOTAL\",SUM($AE$8:AE71),SUM(O72-AD72))),\"\")","v":""},{"$nulls":8},42,42,null,"2022-04-01","2022-04-01","2028-04-01",{"$f":"IF(AND(AS72=\"\"),\"\",IF(AND(AS72=$AQ$9),$AQ$9,IF(AND(AS72=$AQ$10),$AQ$10,IF(AND(AS72=$AQ$11),$AQ$11,IF(AND(AS72=$AQ$12),$AQ$12,IF(AND(AS72=$AQ$13),$AQ$13,IF(AND(AS72=$AQ$14),$AQ$14,IF(AND(AS72=$AQ$15),$AQ$15,IF(AND(AS72=$AQ$16),$AQ$16,IF(AND(AS72=$AQ$17),$AQ$17,IF(AND(AS72=$AQ$18),$AQ$18,IF(AND(AS72=$AQ$19),$AQ$19,IF(AND(AS72=$AQ$20),$AQ$20,IF(AND(AS72=$AQ$21),$AQ$21,IF(AND(AS72=$AQ$22),$AQ$22,IF(AND(AS72=$AQ$23),$AQ$23,IF(AND(AS72=$AQ$24),$AQ$24,IF(AND(AS72=$AQ$25),$AQ$25,IF(AND(AS72=$AQ$26),$AQ$26,IF(AND(AS72=$AQ$27),$AQ$27,IF(AND(AS72=$AQ$28),$AQ$28,IF(AND(AS72=$AQ$29),$AQ$29,IF(AND(AS72=$AQ$30),$AQ$30,IF(AND(AS72=$AQ$31),$AQ$31,IF(AND(AS72=$AQ$32),$AQ$32,IF(AND(AS72=$AQ$33),$AQ$33,IF(AND(AS72=$AQ$34),$AQ$34,IF(AND(AS72=$AQ$35),$AQ$35,IF(AND(AS72=$AQ$36),$AQ$36,IF(AND(AS72=$AQ$37),$AQ$37,IF(AND(AS72=$AQ$38),$AQ$38,IF(AND(AS72=$AQ$39),$AQ$39,IF(AND(AS72=$AQ$40),$AQ$40,IF(AND(AS72=$AQ$41),$AQ$41,IF(AND(AS72=$AQ$42),$AQ$42,IF(AND(AS72=$AQ$43),$AQ$43,IF(AND(AS72=$AQ$44),$AQ$44,IF(AND(AS72=$AQ$45),$AQ$45,IF(AND(AS72=$AQ$46),$AQ$46,IF(AND(AS72=$AQ$47),$AQ$47,IF(AND(AS72=$AQ$48),$AQ$48,IF(AND(AS72=$AQ$49),$AQ$49,IF(AND(AS72=$AQ$50),$AQ$50,IF(AND(AS72=$AQ$51),$AQ$51,IF(AND(AS72=$AQ$52),$AQ$52,IF(AND(AS72=$AQ$53),$AQ$53,IF(AND(AS72=$AQ$54),$AQ$54,IF(AND(AS72=$AQ$55),$AQ$55,IF(AND(AS72=$AQ$56),$AQ$56,IF(AND(AS72=$AQ$57),$AQ$57,IF(AND(AS72=$AQ$58),$AQ$58,IF(AND(AS72=$AQ$59),$AQ$59,IF(AND(AS72=$AQ$60),$AQ$60,IF(AND(AS72=$AQ$61),$AQ$61,IF(AND(AS72=$AQ$62),$AQ$62,IF(AND(AS72=$AQ$63),$AQ$63,IF(AND(AS72=$AQ$64),$AQ$64,IF(AND(AS72=$AQ$65),$AQ$65,IF(AND(AS72=$AQ$66),$AQ$66,IF(AND(AS72=$AQ$67),$AQ$67,IF(AND(AS72=$AQ$68),$AQ$68,IF(AND(AS72=$AQ$69),$AQ$69,IF(AND(AS72=$AQ$70),$AQ$70,IF(AND(AS72=$AQ$71),$AQ$71,\"\"))))))))))))))))))))))))))))))))))))))))))))))))))))))))))))))))","v":""},{"$f":"IF(AND(AS72=\"\"),\"\",IF(AND(AS72=$AQ$72),$AR$72,IF(AND(AS72=$AQ$73),$AR$73,IF(AND(AS72=$AQ$74),$AR$74,IF(AND(AS72=$AQ$75),$AR$75,IF(AND(AS72=$AQ$76),$AR$76,IF(AND(AS72=$AQ$77),$AR$77,IF(AND(AS72=$AQ$78),$AR$78,IF(AND(AS72=$AQ$79),$AR$79,IF(AND(AS72=$AQ$80),$AR$80,IF(AND(AS72=$AQ$81),$AR$81,IF(AND(AS72=$AQ$82),$AR$82,IF(AND(AS72=$AQ$83),$AR$83,IF(AND(AS72=$AQ$84),$AR$84,IF(AND(AS72=$AQ$85),$AR$85,IF(AND(AS72=$AQ$86),$AR$86,IF(AND(AS72=$AQ$87),$AR$87,IF(AND(AS72=$AQ$88),$AR$88,IF(AND(AS72=$AQ$89),$AR$89,IF(AND(AS72=$AQ$90),$AR$90,IF(AND(AS72=$AQ$91),$AR$91,IF(AND(AS72=$AQ$92),$AR$92,IF(AND(AS72=$AQ$93),$AR$93,\"\")))))))))))))))))))))))","v":""},{"$f":"IFERROR(IF(AND(AT72=\"\",AU72=\"\"),\"\",IF(AT72=\"\",AU72,AT72)),\"\")","v":""},"",{"$f":"IFERROR(IF(AW72=\"\",\"\",IF(AND($AR$20=$AR$28,$AR$30=AW72),$AR$29,IF(OR(AW72=$AZ$2,AW72=$AZ$3,AW72=$AZ$4,AW72=$AZ$5,AW72=$AZ$6,AW72=$AZ$7,AW72=$BA$2),MROUND(AX71*1.03,100),AX71))),\"\")","v":""},"","",null,"","","","",null,null,"","","","",0,0,{"$nulls":4},"",null,"",{"$f":"IF(AW73=\"\",\"\",IF(AW73=\"TOTAL\",\"\",IF($AR$16=$AR$17,0,IF(AND(AW73>$BT$1,$AF$3=$AO$2,'Master Sheet'!$D$31>0),'Master Sheet'!$D$31,IF(AND(AW73=$BT$1,$AF$3=$AO$2),IF($AR$9<18001,135,IF($AR$9<33501,220,IF($AR$9<54001,330,440))),IF(AND(AW73>$BT$1,$AF$3=$AO$2),IF($AR$9<18001,265,IF($AR$9<33501,440,IF($AR$9<54001,658,875))),\"\"))))))","v":""}]
["",{"$f":"IFERROR(IF(A73=\"\",\"\",IF(A73=0,\"\",A73)),\"\")","v":""},{"$f":"IFERROR(IF(AW74=\"\",\"\",AW74),\"\")","v":""},{"$f":"IFERROR(IF($C72=\"TOTAL\",\"अक्षरें राशि :-\",IF($C73=\"TOTAL\",SUM($D$8:D72),IF(AX74=\"\",\"\",AX74))),\"\")","v":""},{"$f":"IFERROR(IF($C73=\"TOTAL\",SUM($E$8:E72),IF(AY74=\"\",\"\",AY74)),\"\")","v":""},{"$f":"IFERROR(IF($C73=\"TOTAL\",SUM($F$8:F72),IF(AZ74=\"\",\"\",AZ74)),\"\")","v":""},{"$f":"IF(C73=\"\",\"\",SUM(D73:F73))","v":""},{"$f":"IFERROR(IF($C73=\"TOTAL\",SUM($H$8:H72),IF(BB74=\"\",\"\",BB74)),\"\")","v":""},{"$f":"IFERROR(IF($C73=\"TOTAL\",SUM($I$8:I72),IF(BC74=\"\",\"\",BC74)),\"\")","v":""},{"$f":"IFERROR(IF($C73=\"TOTAL\",SUM($J$8:J72),IF(BD74=\"\",\"\",BD74)),\"\")","v":""},{"$f":"IF(C73=\"\",\"\",SUM(H73:J73))","v":""},{"$f":"IFERROR(IF(C73=\"\",\"\",IF(D73=\"\",\"\",IF(H73=\"\",\"\",IF($C73=\"TOTAL\",SUM($L$8:L72),SUM(D73-H73))))),\"\")","v":""},{"$f":"IFERROR(IF(C73=\"\",\"\",IF(E73=\"\",\"\",IF(I73=\"\",\"\",IF($C73=\"TOTAL\",SUM($M$8:M72),SUM(E73-I73))))),\"\")","v":""},{"$f":"IFERROR(IF(C73=\"\",\"\",IF(F73=\"\",\"\",IF(J73=\"\",\"\",IF($C73=\"TOTAL\",SUM($N$8:N72),SUM(F73-J73))))),\"\")","v":""},{"$f":"IFERROR(IF(C73=\"\",\"\",IF(G73=\"\",\"\",IF(K73=\"\",\"\",SUM(G73-K73)))),\"\")","v":""},{"$f":"IFERROR(IF(C73=\"\",\"\",IF($C73=\"TOTAL\",SUM($P$8:P72),IF(AND(C73>$AO$1,$AF$3=$AO$2),BR74,IF($AR$18=$AR$20,SUM(BE74+BM74),ROUND((D73+E73)*10%,0))))),\"\")","v":""},{"$f":"IFERROR(IF(C73=\"\",\"\",IF(H73=\"\",\"\",IF(I73=\"\",\"\",IF($C73=\"TOTAL\",SUM($Q$8:Q72),IF(AND(C73>$AO$1,$AF$3=$AO$2),BR74,IF($AR$18=$AR$20,$AR$21,ROUND((H73+I73)*10%,0))))))),\"\")","v":""},{"$f":"IFERROR(IF(C73=\"\",\"\",SUM(P73-Q73)),\"\")","v":""},{"$f":"IFERROR(IF(C73=\"\",\"\",IF($AR$16=$AR$17,0,IF($C73=\"TOTAL\",SUM($S$8:S72),IF($AR$19=$AR$20,$AR$25,0)))),\"\")","v":""},{"$f":"IFERROR(IF(C73=\"\",\"\",IF($AR$16=$AR$17,0,IF($C73=\"TOTAL\",SUM($T$8:T72),IF($AR$19=$AR$20,$AR$24,0)))),\"\")","v":""},{"$f":"IFERROR(IF(C73=\"\",\"\",SUM(S73-T73)),\"\")","v":""},{"$f":"IF(C73=\"\",\"\",IF($C73=\"TOTAL\",SUM($V$8:V72),IF(AND($AR$2=$AR$20,C73=$AR$1),ROUND(D73/31*$AS$2,0),IF(C73=$AP$6,ROUND((G73)*1/30,0),IF(C73=$AQ$6,ROUND((G73)*1/31,0),\"\")))))","v":""},{"$f":"IF(C73=\"\",\"\",IF($C73=\"TOTAL\",SUM($W$8:W72),IF(AND($AR$2=$AR$20,C73=$AR$1),ROUND(H73/31*$AS$2,0),IF(C73=$AP$6,ROUND((K73)*1/30,0),IF(C73=$AQ$6,ROUND((K73)*1/31,0),\"\")))))","v":""},{"$f":"IFERROR(IF(C73=\"\",\"\",SUM(V73-W73)),\"\")","v":""},{"$f":"IFERROR(IF(C73=\"\",\"\",IF($AR$16=$AR$17,0,IF($AF$3=$AO$4,\"\",IF($C73=\"TOTAL\",SUM($Y$8:Y72),BU73)))),\"\")","v":""},{"$f":"IFERROR(IF(C73=\"\",\"\",IF($AR$16=$AR$17,0,IF($AF$3=$AO$4,\"\",IF($C73=\"TOTAL\",SUM($Z$8:Z72),BT73)))),\"\")","v":""},{"$f":"IFERROR(IF(C73=\"\",\"\",SUM(Y73-Z73)),\"\")","v":""},{"$f":"IFERROR(IF(C73=\"\",\"\",IF(AND(BK74=\"\",BR74=\"\"),\"\",IF($C73=\"TOTAL\",SUM($AB$8:AB72),BK74))),\"\")","v":""},{"$f":"IFERROR(IF(C73=\"\",\"\",IF($C73=\"TOTAL\",SUM($AC$8:AC72),ROUND(O73*$AR$7%,0))),\"\")","v":""},{"$f":"IFERROR(IF(C73=\"\",\"\",IF($C73=\"TOTAL\",SUM($AD$8:AD72),IF($AF$3=$AO$2,SUM(U73,X73,AB73,AC73),SUM(R73,U73,X73,AB73,AC73)))),\"\")","v":""},{"$f":"IFERROR(IF(C73=\"\",\"\",IF($C73=\"TOTAL\",SUM($AE$8:AE72),SUM(O73-AD73))),\"\")","v":""},{"$nulls":8},42,42,null,"2022-05-01","2022-05-01","2028-05-01","",{"$f":"IF(AND(AS73=\"\"),\"\",IF(AND(AS73=$AQ$72),$AR$72,IF(AND(AS73=$AQ$73),$AR$73,IF(AND(AS73=$AQ$74),$AR$74,IF(AND(AS73=$AQ$75),$AR$75,IF(AND(AS73=$AQ$76),$AR$76,IF(AND(AS73=$AQ$77),$AR$77,IF(AND(AS73=$AQ$78),$AR$78,IF(AND(AS73=$AQ$79),$AR$79,IF(AND(AS73=$AQ$80),$AR$80,IF(AND(AS73=$AQ$81),$AR$81,IF(AND(AS73=$AQ$82),$AR$82,IF(AND(AS73=$AQ$83),$AR$83,IF(AND(AS73=$AQ$84),$AR$84,IF(AND(AS73=$AQ$85),$AR$85,IF(AND(AS73=$AQ$86),$AR$86,IF(AND(AS73=$AQ$87),$AR$87,IF(AND(AS73=$AQ$88),$AR$88,IF(AND(AS73=$AQ$89),$AR$89,IF(AND(AS73=$AQ$90),$AR$90,IF(AND(AS73=$AQ$91),$AR$91,IF(AND(AS73=$AQ$92),$AR$92,IF(AND(AS73=$AQ$93),$AR$93,\"\")))))))))))))))))))))))","v":""},"",{"$f":"IFERROR(IF(AV73=\"\",\"\",IF(DATE(YEAR(AV73),MONTH(AV73),DAY(AV73))=DATE(YEAR($AS$6),MONTH($AS$6)+1,DAY($AS$6)),\"TOTAL\",IF(AV73>$AS$6,\"\",AV73))),\"\")","v":""},"","","",null,"","","","",null,null,"","","","",0,0,{"$nulls":4},"",null,{"$f":"IF(AW74=\"\",\"\",IF(AW74=\"TOTAL\",\"\",IF($AR$16=$AR$17,0,IF(AND(AW74=$BT$1,$AF$3=$AO$2),IF($AR$14<18001,135,IF($AR$14<33501,220,IF($AR$14<54001,330,440))),IF(AND(AW74>$BT$1,$AF$3=$AO$2),IF($AR$14<18001,265,IF($AR$14<33501,440,IF($AR$14<54001,658,875))),\"\")))))","v":""},{"$f":"IF(AW74=\"\",\"\",IF(AW74=\"TOTAL\",\"\",IF($AR$16=$AR$17,0,IF(AND(AW74>$BT$1,$AF$3=$AO$2,'Master Sheet'!$D$31>0),'Master Sheet'!$D$31,IF(AND(AW74=$BT$1,$AF$3=$AO$2),IF($AR$9<18001,135,IF($AR$9<33501,220,IF($AR$9<54001,330,440))),IF(AND(AW74>$BT$1,$AF$3=$AO$2),IF($AR$9<18001,265,IF($AR$9<33501,440,IF($AR$9<54001,658,875))),\"\"))))))","v":""}]
["","","",{"$f":"IFERROR(IF($C73=\"TOTAL\",\"अक्षरें राशि :-\",IF($C74=\"TOTAL\",SUM($D$8:D73),IF(AX75=\"\",\"\",AX75))),\"\")","v":""},{"$f":"IFERROR(IF($C74=\"TOTAL\",SUM($E$8:E73),IF(AY75=\"\",\"\",AY75)),\"\")","v":""},{"$f":"IFERROR(IF($C74=\"TOTAL\",SUM($F$8:F73),IF(AZ75=\"\",\"\",AZ75)),\"\")","v":""},"",{"$f":"IFERROR(IF($C74=\"TOTAL\",SUM($H$8:H73),IF(BB75=\"\",\"\",BB75)),\"\")","v":""},{"$f":"IFERROR(IF($C74=\"TOTAL\",SUM($I$8:I73),IF(BC75=\"\",\"\",BC75)),\"\")","v":""},{"$f":"IFERROR(IF($C74=\"TOTAL\",SUM($J$8:J73),IF(BD75=\"\",\"\",BD75)),\"\")","v":""},"",{"$f":"IFERROR(IF(C74=\"\",\"\",IF(D74=\"\",\"\",IF(H74=\"\",\"\",IF($C74=\"TOTAL\",SUM($L$8:L73),SUM(D74-H74))))),\"\")","v":""},{"$f":"IFERROR(IF(C74=\"\",\"\",IF(E74=\"\",\"\",IF(I74=\"\",\"\",IF($C74=\"TOTAL\",SUM($M$8:M73),SUM(E74-I74))))),\"\")","v":""},{"$f":"IFERROR(IF(C74=\"\",\"\",IF(F74=\"\",\"\",IF(J74=\"\",\"\",IF($C74=\"TOTAL\",SUM($N$8:N73),SUM(F74-J74))))),\"\")","v":""},"",{"$f":"IFERROR(IF(C74=\"\",\"\",IF($C74=\"TOTAL\",SUM($P$8:P73),IF(AND(C74>$AO$1,$AF$3=$AO$2),BR75,IF($AR$18=$AR$20,SUM(BE75+BM75),ROUND((D74+E74)*10%,0))))),\"\")","v":""},{"$f":"IFERROR(IF(C74=\"\",\"\",IF(H74=\"\",\"\",IF(I74=\"\",\"\",IF($C74=\"TOTAL\",SUM($Q$8:Q73),IF(AND(C74>$AO$1,$AF$3=$AO$2),BR75,IF($AR$18=$AR$20,$AR$21,ROUND((H74+I74)*10%,0))))))),\"\")","v":""},"",{"$f":"IFERROR(IF(C74=\"\",\"\",IF($AR$16=$AR$17,0,IF($C74=\"TOTAL\",SUM($S$8:S73),IF($AR$19=$AR$20,$AR$25,0)))),\"\")","v":""},{"$f":"IFERROR(IF(C74=\"\",\"\",IF($AR$16=$AR$17,0,IF($C74=\"TOTAL\",SUM($T$8:T73),IF($AR$19=$AR$20,$AR$24,0)))),\"\")","v":""},"",{"$f":"IF(C74=\"\",\"\",IF($C74=\"TOTAL\",SUM($V$8:V73),IF(AND($AR$2=$AR$20,C74=$AR$1),ROUND(D74/31*$AS$2,0),IF(C74=$AP$6,ROUND((G74)*1/30,0),IF(C74=$AQ$6,ROUND((G74)*1/31,0),\"\")))))","v":""},{"$f":"IF(C74=\"\",\"\",IF($C74=\"TOTAL\",SUM($W$8:W73),IF(AND($AR$2=$AR$20,C74=$AR$1),ROUND(H74/31*$AS$2,0),IF(C74=$AP$6,ROUND((K74)*1/30,0),IF(C74=$AQ$6,ROUND((K74)*1/31,0),\"\")))))","v":""},"",{"$f":"IFERROR(IF(C74=\"\",\"\",IF($AR$16=$AR$17,0,IF($AF$3=$AO$4,\"\",IF($C74=\"TOTAL\",SUM($Y$8:Y73),BU74)))),\"\")","v":""},{"$f":"IFERROR(IF(C74=\"\",\"\",IF($AR$16=$AR$17,0,IF($AF$3=$AO$4,\"\",IF($C74=\"TOTAL\",SUM($Z$8:Z73),BT74)))),\"\")","v":""},"",{"$f":"IFERROR(IF(C74=\"\",\"\",IF(AND(BK75=\"\",BR75=\"\"),\"\",IF($C74=\"TOTAL\",SUM($AB$8:AB73),BK75))),\"\")","v":""},{"$f":"IFERROR(IF(C74=\"\",\"\",IF($C74=\"TOTAL\",SUM($AC$8:AC73),ROUND(O74*$AR$7%,0))),\"\")","v":""},{"$f":"IFERROR(IF(C74=\"\",\"\",IF($C74=\"TOTAL\",SUM($AD$8:AD73),IF($AF$3=$AO$2,SUM(U74,X74,AB74,AC74),SUM(R74,U74,X74,AB74,AC74)))),\"\")","v":""},{"$f":"IFERROR(IF(C74=\"\",\"\",IF($C74=\"TOTAL\",SUM($AE$8:AE73),SUM(O74-AD74))),\"\")","v":""},{"$nulls":8},{"$f":"IF(OR(AW74=$AQ$9,AW74=$AQ$10,AW74=$AQ$11,AW74=$AQ$12,AW74=$AQ$13,AW74=$AQ$14),4,IF(OR(AW74=$AQ$15,AW74=$AQ$16,AW74=$AQ$17,AW74=$AQ$18,AW74=$AQ$19,AW74=$AQ$20),5,IF(OR(AW74=$AQ$21,AW74=$AQ$22,AW74=$AQ$23,AW74=$AQ$24,AW74=$AQ$25,AW74=$AQ$26),7,IF(OR(AW74=$AQ$27,AW74=$AQ$28,AW74=$AQ$29,AW74=$AQ$30,AW74=$AQ$31,AW74=$AQ$32),9,IF(OR(AW74=$AQ$33,AW74=$AQ$34,AW74=$AQ$35,AW74=$AQ$36,AW74=$AQ$37,AW74=$AQ$38),12,IF(OR(AW74=$AQ$39,AW74=$AQ$40,AW74=$AQ$41,AW74=$AQ$42,AW74=$AQ$43,AW74=$AQ$44,AW74=$AQ$45,AW74=$AQ$46,AW74=$AQ$47,AW74=$AQ$48,AW74=$AQ$49,AW74=$AQ$50,AW74=$AQ$51,AW74=$AQ$52,AW74=$AQ$53,AW74=$AQ$54,AW74=$AQ$55,AW74=$AQ$56,AW74=$AQ$57,AW74=$AQ$58,AW74=$AQ$59,AW74=$AQ$60,AW74=$AQ$61,AW74=$AQ$62),17,IF(OR(AW74=$AQ$63,AW74=$AQ$64,AW74=$AQ$65,AW74=$AQ$66,AW74=$AQ$67,AW74=$AQ$68),31,IF(OR(AW74=$AQ$69,AW74=$AQ$70,AW74=$AQ$71,AW74=$AQ$72,AW74=$AQ$73,AW74=$AQ$74),34,IF(OR(AW74=$AQ$75,AW74=$AQ$76,AW74=$AQ$77,AW74=$AQ$78,AW74=$AQ$79,AW74=$AQ$80),38,42)))))))))","v":42},{"$f":"IF(OR(AW74=$AQ$9,AW74=$AQ$10,AW74=$AQ$11,AW74=$AQ$12,AW74=$AQ$13,AW74=$AQ$14),4,IF(OR(AW74=$AQ$15,AW74=$AQ$16,AW74=$AQ$17,AW74=$AQ$18,AW74=$AQ$19,AW74=$AQ$20),5,IF(OR(AW74=$AQ$21,AW74=$AQ$22,AW74=$AQ$23,AW74=$AQ$24,AW74=$AQ$25,AW74=$AQ$26),7,IF(OR(AW74=$AQ$27,AW74=$AQ$28,AW74=$AQ$29,AW74=$AQ$30,AW74=$AQ$31,AW74=$AQ$32),9,IF(OR(AW74=$AQ$33,AW74=$AQ$34,AW74=$AQ$35,AW74=$AQ$36,AW74=$AQ$37,AW74=$AQ$38),12,IF(OR(AW74=$AQ$39,AW74=$AQ$40,AW74=$AQ$41,AW74=$AQ$42,AW74=$AQ$43,AW74=$AQ$44,AW74=$AQ$45,AW74=$AQ$46,AW74=$AQ$47,AW74=$AQ$48,AW74=$AQ$49,AW74=$AQ$50,AW74=$AQ$51,AW74=$AQ$52,AW74=$AQ$53,AW74=$AQ$54,AW74=$AQ$55,AW74=$AQ$56,AW74=$AQ$57,AW74=$AQ$58,AW74=$AQ$59,AW74=$AQ$60,AW74=$AQ$61,AW74=$AQ$62),17,IF(OR(AW74=$AQ$63,AW74=$AQ$64,AW74=$AQ$65,AW74=$AQ$66,AW74=$AQ$67,AW74=$AQ$68),31,IF(OR(AW74=$AQ$69,AW74=$AQ$70,AW74=$AQ$71,AW74=$AQ$72,AW74=$AQ$73,AW74=$AQ$74),34,IF(OR(AW74=$AQ$75,AW74=$AQ$76,AW74=$AQ$77,AW74=$AQ$78,AW74=$AQ$79,AW74=$AQ$80),38,42)))))))))","v":42},null,"2022-06-01","2022-06-01","2028-06-01",{"$f":"IF(AND(AS74=\"\"),\"\",IF(AND(AS74=$AQ$9),$AQ$9,IF(AND(AS74=$AQ$10),$AQ$10,IF(AND(AS74=$AQ$11),$AQ$11,IF(AND(AS74=$AQ$12),$AQ$12,IF(AND(AS74=$AQ$13),$AQ$13,IF(AND(AS74=$AQ$14),$AQ$14,IF(AND(AS74=$AQ$15),$AQ$15,IF(AND(AS74=$AQ$16),$AQ$16,IF(AND(AS74=$AQ$17),$AQ$17,IF(AND(AS74=$AQ$18),$AQ$18,IF(AND(AS74=$AQ$19),$AQ$19,IF(AND(AS74=$AQ$20),$AQ$20,IF(AND(AS74=$AQ$21),$AQ$21,IF(AND(AS74=$AQ$22),$AQ$22,IF(AND(AS74=$AQ$23),$AQ$23,IF(AND(AS74=$AQ$24),$AQ$24,IF(AND(AS74=$AQ$25),$AQ$25,IF(AND(AS74=$AQ$26),$AQ$26,IF(AND(AS74=$AQ$27),$AQ$27,IF(AND(AS74=$AQ$28),$AQ$28,IF(AND(AS74=$AQ$29),$AQ$29,IF(AND(AS74=$AQ$30),$AQ$30,IF(AND(AS74=$AQ$31),$AQ$31,IF(AND(AS74=$AQ$32),$AQ$32,IF(AND(AS74=$AQ$33),$AQ$33,IF(AND(AS74=$AQ$34),$AQ$34,IF(AND(AS74=$AQ$35),$AQ$35,IF(AND(AS74=$AQ$36),$AQ$36,IF(AND(AS74=$AQ$37),$AQ$37,IF(AND(AS74=$AQ$38),$AQ$38,IF(AND(AS74=$AQ$39),$AQ$39,IF(AND(AS74=$AQ$40),$AQ$40,IF(AND(AS74=$AQ$41),$AQ$41,IF(AND(AS74=$AQ$42),$AQ$42,IF(AND(AS74=$AQ$43),$AQ$43,IF(AND(AS74=$AQ$44),$AQ$44,IF(AND(AS74=$AQ$45),$AQ$45,IF(AND(AS74=$AQ$46),$AQ$46,IF(AND(AS74=$AQ$47),$AQ$47,IF(AND(AS74=$AQ$48),$AQ$48,IF(AND(AS74=$AQ$49),$AQ$49,IF(AND(AS74=$AQ$50),$AQ$50,IF(AND(AS74=$AQ$51),$AQ$51,IF(AND(AS74=$AQ$52),$AQ$52,IF(AND(AS74=$AQ$53),$AQ$53,IF(AND(AS74=$AQ$54),$AQ$54,IF(AND(AS74=$AQ$55),$AQ$55,IF(AND(AS74=$AQ$56),$AQ$56,IF(AND(AS74=$AQ$57),$AQ$57,IF(AND(AS74=$AQ$58),$AQ$58,IF(AND(AS74=$AQ$59),$AQ$59,IF(AND(AS74=$AQ$60),$AQ$60,IF(AND(AS74=$AQ$61),$AQ$61,IF(AND(AS74=$AQ$62),$AQ$62,IF(AND(AS74=$AQ$63),$AQ$63,IF(AND(AS74=$AQ$64),$AQ$64,IF(AND(AS74=$AQ$65),$AQ$65,IF(AND(AS74=$AQ$66),$AQ$66,IF(AND(AS74=$AQ$67),$AQ$67,IF(AND(AS74=$AQ$68),$AQ$68,IF(AND(AS74=$AQ$69),$AQ$69,IF(AND(AS74=$AQ$70),$AQ$70,IF(AND(AS74=$AQ$71),$AQ$71,\"\"))))))))))))))))))))))))))))))))))))))))))))))))))))))))))))))))","v":""},"",{"$f":"IFERROR(IF(AND(AT74=\"\",AU74=\"\"),\"\",IF(AT74=\"\",AU74,AT74)),\"\")","v":""},{"$f":"IFERROR(IF(AV74=\"\",\"\",IF(DATE(YEAR(AV74),MONTH(AV74),DAY(AV74))=DATE(YEAR($AS$6),MONTH($AS$6)+1,DAY($AS$6)),\"TOTAL\",IF(AV74>$AS$6,\"\",AV74))),\"\")","v":""},"","","",null,"",{"$f":"IF(AW74=\"\",\"\",IF(AW74=\"TOTAL\",\"\",IF(BB74=\"\",\"\",IF($AR$16=$AR$17,0,ROUND(BB74*AO74%,0)))))","v":""},"",{"$f":"IF(AW74=\"\",\"\",IF(AW74=\"TOTAL\",\"\",IF(BB74=\"\",\"\",IF($AR$16=$AR$17,0,IF(OR(C73=$AP$16,C73=$AP$17,C73=$AP$18,C73=$AP$19,C73=$AP$20,C73=$AP$21,C73=$AP$22,C73=$AP$23,C73=$AP$24),SUM(BH74+BI74),BI74)))))","v":""},null,null,"","",{"$f":"IF(OR(AW74=$AQ$63,AW74=$AQ$64,AW74=$AQ$65),\"YES\",\"\")","v":""},{"$f":"IF(BJ74=\"\",\"\",IF($AR$16=$AR$17,ROUND((D73)*3%,0),IF(OR(AW74=$AQ$63,AW74=$AQ$64,AW74=$AQ$65),SUM(ROUND((D73-H73)*3%,0)),IF(OR(AW74=$AQ$69,AW74=$AQ$70,AW74=$AQ$71),SUM(ROUND((D73-H73)*3%,0)),\"\"))))","v":""},0,0,{"$nulls":4},{"$f":"IF(AW74=\"\",\"\",IF(AW74=\"TOTAL\",\"\",IF(AND(AW74>$AO$1,$AF$3=$AO$2),$AV$1,\"\")))","v":""},null,"",{"$f":"IF(AW75=\"\",\"\",IF(AW75=\"TOTAL\",\"\",IF($AR$16=$AR$17,0,IF(AND(AW75>$BT$1,$AF$3=$AO$2,'Master Sheet'!$D$31>0),'Master Sheet'!$D$31,IF(AND(AW75=$BT$1,$AF$3=$AO$2),IF($AR$9<18001,135,IF($AR$9<33501,220,IF($AR$9<54001,330,440))),IF(AND(AW75>$BT$1,$AF$3=$AO$2),IF($AR$9<18001,265,IF($AR$9<33501,440,IF($AR$9<54001,658,875))),\"\"))))))","v":""}]
["","","",{"$f":"IFERROR(IF($C74=\"TOTAL\",\"अक्षरें राशि :-\",IF($C75=\"TOTAL\",SUM($D$8:D74),IF(AX76=\"\",\"\",AX76))),\"\")","v":""},{"$f":"IFERROR(IF($C75=\"TOTAL\",SUM($E$8:E74),IF(AY76=\"\",\"\",AY76)),\"\")","v":""},{"$f":"IFERROR(IF($C75=\"TOTAL\",SUM($F$8:F74),IF(AZ76=\"\",\"\",AZ76)),\"\")","v":""},"",{"$f":"IFERROR(IF($C75=\"TOTAL\",SUM($H$8:H74),IF(BB76=\"\",\"\",BB76)),\"\")","v":""},{"$f":"IFERROR(IF($C75=\"TOTAL\",SUM($I$8:I74),IF(BC76=\"\",\"\",BC76)),\"\")","v":""},{"$f":"IFERROR(IF($C75=\"TOTAL\",SUM($J$8:J74),IF(BD76=\"\",\"\",BD76)),\"\")","v":""},"",{"$f":"IFERROR(IF(C75=\"\",\"\",IF(D75=\"\",\"\",IF(H75=\"\",\"\",IF($C75=\"TOTAL\",SUM($L$8:L74),SUM(D75-H75))))),\"\")","v":""},{"$f":"IFERROR(IF(C75=\"\",\"\",IF(E75=\"\",\"\",IF(I75=\"\",\"\",IF($C75=\"TOTAL\",SUM($M$8:M74),SUM(E75-I75))))),\"\")","v":""},{"$f":"IFERROR(IF(C75=\"\",\"\",IF(F75=\"\",\"\",IF(J75=\"\",\"\",IF($C75=\"TOTAL\",SUM($N$8:N74),SUM(F75-J75))))),\"\")","v":""},"",{"$f":"IFERROR(IF(C75=\"\",\"\",IF($C75=\"TOTAL\",SUM($P$8:P74),IF(AND(C75>$AO$1,$AF$3=$AO$2),BR76,IF($AR$18=$AR$20,SUM(BE76+BM76),ROUND((D75+E75)*10%,0))))),\"\")","v":""},{"$f":"IFERROR(IF(C75=\"\",\"\",IF(H75=\"\",\"\",IF(I75=\"\",\"\",IF($C75=\"TOTAL\",SUM($Q$8:Q74),IF(AND(C75>$AO$1,$AF$3=$AO$2),BR76,IF($AR$18=$AR$20,$AR$21,ROUND((H75+I75)*10%,0))))))),\"\")","v":""},"",{"$f":"IFERROR(IF(C75=\"\",\"\",IF($AR$16=$AR$17,0,IF($C75=\"TOTAL\",SUM($S$8:S74),IF($AR$19=$AR$20,$AR$25,0)))),\"\")","v":""},{"$f":"IFERROR(IF(C75=\"\",\"\",IF($AR$16=$AR$17,0,IF($C75=\"TOTAL\",SUM($T$8:T74),IF($AR$19=$AR$20,$AR$24,0)))),\"\")","v":""},"",{"$f":"IF(C75=\"\",\"\",IF($C75=\"TOTAL\",SUM($V$8:V74),IF(AND($AR$2=$AR$20,C75=$AR$1),ROUND(D75/31*$AS$2,0),IF(C75=$AP$6,ROUND((G75)*1/30,0),IF(C75=$AQ$6,ROUND((G75)*1/31,0),\"\")))))","v":""},{"$f":"IF(C75=\"\",\"\",IF($C75=\"TOTAL\",SUM($W$8:W74),IF(AND($AR$2=$AR$20,C75=$AR$1),ROUND(H75/31*$AS$2,0),IF(C75=$AP$6,ROUND((K75)*1/30,0),IF(C75=$AQ$6,ROUND((K75)*1/31,0),\"\")))))","v":""},"",{"$f":"IFERROR(IF(C75=\"\",\"\",IF($AR$16=$AR$17,0,IF($AF$3=$AO$4,\"\",IF($C75=\"TOTAL\",SUM($Y$8:Y74),BU75)))),\"\")","v":""},{"$f":"IFERROR(IF(C75=\"\",\"\",IF($AR$16=$AR$17,0,IF($AF$3=$AO$4,\"\",IF($C75=\"TOTAL\",SUM($Z$8:Z74),BT75)))),\"\")","v":""},"",{"$f":"IFERROR(IF(C75=\"\",\"\",IF(AND(BK76=\"\",BR76=\"\"),\"\",IF($C75=\"TOTAL\",SUM($AB$8:AB74),BK76))),\"\")","v":""},{"$f":"IFERROR(IF(C75=\"\",\"\",IF($C75=\"TOTAL\",SUM($AC$8:AC74),ROUND(O75*$AR$7%,0))),\"\")","v":""},{"$f":"IFERROR(IF(C75=\"\",\"\",IF($C75=\"TOTAL\",SUM($AD$8:AD74),IF($AF$3=$AO$2,SUM(U75,X75,AB75,AC75),SUM(R75,U75,X75,AB75,AC75)))),\"\")","v":""},{"$f":"IFERROR(IF(C75=\"\",\"\",IF($C75=\"TOTAL\",SUM($AE$8:AE74),SUM(O75-AD75))),\"\")","v":""},{"$nulls":8},42,42,null,"2022-07-01","2022-07-01","2028-07-01","","","",{"$f":"IFERROR(IF(AV75=\"\",\"\",IF(DATE(YEAR(AV75),MONTH(AV75),DAY(AV75))=DATE(YEAR($AS$6),MONTH($AS$6)+1,DAY($AS$6)),\"TOTAL\",IF(AV75>$AS$6,\"\",AV75))),\"\")","v":""},"","","",null,"","","","",null,null,"","","","",0,0,{"$nulls":4},"",null,"",{"$f":"IF(AW76=\"\",\"\",IF(AW76=\"TOTAL\",\"\",IF($AR$16=$AR$17,0,IF(AND(AW76>$BT$1,$AF$3=$AO$2,'Master Sheet'!$D$31>0),'Master Sheet'!$D$31,IF(AND(AW76=$BT$1,$AF$3=$AO$2),IF($AR$9<18001,135,IF($AR$9<33501,220,IF($AR$9<54001,330,440))),IF(AND(AW76>$BT$1,$AF$3=$AO$2),IF($AR$9<18001,265,IF($AR$9<33501,440,IF($AR$9<54001,658,875))),\"\"))))))","v":""}]
[{"$f":"IF(C76=\"TOTAL\",\"\",IF(B75=\"\",\"\",IF(LEN(C76)>=2,B75+1,0)))","v":""},"","",{"$f":"IFERROR(IF($C75=\"TOTAL\",\"अक्षरें राशि :-\",IF($C76=\"TOTAL\",SUM($D$8:D75),IF(AX77=\"\",\"\",AX77))),\"\")","v":""},{"$f":"IFERROR(IF($C76=\"TOTAL\",SUM($E$8:E75),IF(AY77=\"\",\"\",AY77)),\"\")","v":""},{"$f":"IFERROR(IF($C76=\"TOTAL\",SUM($F$8:F75),IF(AZ77=\"\",\"\",AZ77)),\"\")","v":""},"",{"$f":"IFERROR(IF($C76=\"TOTAL\",SUM($H$8:H75),IF(BB77=\"\",\"\",BB77)),\"\")","v":""},{"$f":"IFERROR(IF($C76=\"TOTAL\",SUM($I$8:I75),IF(BC77=\"\",\"\",BC77)),\"\")","v":""},{"$f":"IFERROR(IF($C76=\"TOTAL\",SUM($J$8:J75),IF(BD77=\"\",\"\",BD77)),\"\")","v":""},"",{"$f":"IFERROR(IF(C76=\"\",\"\",IF(D76=\"\",\"\",IF(H76=\"\",\"\",IF($C76=\"TOTAL\",SUM($L$8:L75),SUM(D76-H76))))),\"\")","v":""},{"$f":"IFERROR(IF(C76=\"\",\"\",IF(E76=\"\",\"\",IF(I76=\"\",\"\",IF($C76=\"TOTAL\",SUM($M$8:M75),SUM(E76-I76))))),\"\")","v":""},{"$f":"IFERROR(IF(C76=\"\",\"\",IF(F76=\"\",\"\",IF(J76=\"\",\"\",IF($C76=\"TOTAL\",SUM($N$8:N75),SUM(F76-J76))))),\"\")","v":""},"",{"$f":"IFERROR(IF(C76=\"\",\"\",IF($C76=\"TOTAL\",SUM($P$8:P75),IF(AND(C76>$AO$1,$AF$3=$AO$2),BR77,IF($AR$18=$AR$20,SUM(BE77+BM77),ROUND((D76+E76)*10%,0))))),\"\")","v":""},{"$f":"IFERROR(IF(C76=\"\",\"\",IF(H76=\"\",\"\",IF(I76=\"\",\"\",IF($C76=\"TOTAL\",SUM($Q$8:Q75),IF(AND(C76>$AO$1,$AF$3=$AO$2),BR77,IF($AR$18=$AR$20,$AR$21,ROUND((H76+I76)*10%,0))))))),\"\")","v":""},"",{"$f":"IFERROR(IF(C76=\"\",\"\",IF($AR$16=$AR$17,0,IF($C76=\"TOTAL\",SUM($S$8:S75),IF($AR$19=$AR$20,$AR$25,0)))),\"\")","v":""},{"$f":"IFERROR(IF(C76=\"\",\"\",IF($AR$16=$AR$17,0,IF($C76=\"TOTAL\",SUM($T$8:T75),IF($AR$19=$AR$20,$AR$24,0)))),\"\")","v":""},"",{"$f":"IF(C76=\"\",\"\",IF($C76=\"TOTAL\",SUM($V$8:V75),IF(AND($AR$2=$AR$20,C76=$AR$1),ROUND(D76/31*$AS$2,0),IF(C76=$AP$6,ROUND((G76)*1/30,0),IF(C76=$AQ$6,ROUND((G76)*1/31,0),\"\")))))","v":""},{"$f":"IF(C76=\"\",\"\",IF($C76=\"TOTAL\",SUM($W$8:W75),IF(AND($AR$2=$AR$20,C76=$AR$1),ROUND(H76/31*$AS$2,0),IF(C76=$AP$6,ROUND((K76)*1/30,0),IF(C76=$AQ$6,ROUND((K76)*1/31,0),\"\")))))","v":""},"",{"$f":"IFERROR(IF(C76=\"\",\"\",IF($AR$16=$AR$17,0,IF($AF$3=$AO$4,\"\",IF($C76=\"TOTAL\",SUM($Y$8:Y75),BU76)))),\"\")","v":""},{"$f":"IFERROR(IF(C76=\"\",\"\",IF($AR$16=$AR$17,0,IF($AF$3=$AO$4,\"\",IF($C76=\"TOTAL\",SUM($Z$8:Z75),BT76)))),\"\")","v":""},"",{"$f":"IFERROR(IF(C76=\"\",\"\",IF(AND(BK77=\"\",BR77=\"\"),\"\",IF($C76=\"TOTAL\",SUM($AB$8:AB75),BK77))),\"\")","v":""},{"$f":"IFERROR(IF(C76=\"\",\"\",IF($C76=\"TOTAL\",SUM($AC$8:AC75),ROUND(O76*$AR$7%,0))),\"\")","v":""},{"$f":"IFERROR(IF(C76=\"\",\"\",IF($C76=\"TOTAL\",SUM($AD$8:AD75),IF($AF$3=$AO$2,SUM(U76,X76,AB76,AC76),SUM(R76,U76,X76,AB76,AC76)))),\"\")","v":""},{"$f":"IFERROR(IF(C76=\"\",\"\",IF($C76=\"TOTAL\",SUM($AE$8:AE75),SUM(O76-AD76))),\"\")","v":""},{"$nulls":8},42,42,null,"2022-08-01","2022-08-01","2028-08-01","","","","",{"$f":"IFERROR(IF(AW76=\"\",\"\",IF(AND($AR$20=$AR$28,$AR$30=AW76),$AR$29,IF(OR(AW76=$AZ$2,AW76=$AZ$3,AW76=$AZ$4,AW76=$AZ$5,AW76=$AZ$6,AW76=$AZ$7,AW76=$BA$2),MROUND(AX75*1.03,100),AX75))),\"\")","v":""},"",{"$f":"IF(AW76=\"\",\"\",IF(AW76=\"TOTAL\",\"\",IF(AW76>=$AY$7,ROUND(AX76*$AX$7%,0),ROUND(AX76*$AT$7%,0))))","v":""},null,{"$f":"IFERROR(IF(AW76=\"\",\"\",IF(AW76=\"TOTAL\",\"\",IF($AR$16=$AR$17,$AR$10,IF(OR(AW76=$AZ$2,AW76=$AZ$3,AW76=$AZ$4,AW76=$AZ$5,AW76=$AZ$6,AW76=$AZ$7,AW76=$BA$2),MROUND(BB75*1.03,100),BB75)))),\"\")","v":""},"",{"$f":"IF(AW76=\"\",\"\",IF(AW76=\"TOTAL\",\"\",IF(BB76=\"\",\"\",IF($AR$16=$AR$17,0,IF(AW76>=$AY$7,ROUND(BB76*$AX$7%,0),ROUND(BB76*$AT$7%,0))))))","v":""},"",null,null,"","","","",0,0,{"$nulls":4},"",null,"",{"$f":"IF(AW77=\"\",\"\",IF(AW77=\"TOTAL\",\"\",IF($AR$16=$AR$17,0,IF(AND(AW77>$BT$1,$AF$3=$AO$2,'Master Sheet'!$D$31>0),'Master Sheet'!$D$31,IF(AND(AW77=$BT$1,$AF$3=$AO$2),IF($AR$9<18001,135,IF($AR$9<33501,220,IF($AR$9<54001,330,440))),IF(AND(AW77>$BT$1,$AF$3=$AO$2),IF($AR$9<18001,265,IF($AR$9<33501,440,IF($AR$9<54001,658,875))),\"\"))))))","v":""}]
["","","",{"$f":"IFERROR(IF($C76=\"TOTAL\",\"अक्षरें राशि :-\",IF($C77=\"TOTAL\",SUM($D$8:D76),IF(AX78=\"\",\"\",AX78))),\"\")","v":""},{"$f":"IFERROR(IF($C77=\"TOTAL\",SUM($E$8:E76),IF(AY78=\"\",\"\",AY78)),\"\")","v":""},{"$f":"IFERROR(IF($C77=\"TOTAL\",SUM($F$8:F76),IF(AZ78=\"\",\"\",AZ78)),\"\")","v":""},"",{"$f":"IFERROR(IF($C77=\"TOTAL\",SUM($H$8:H76),IF(BB78=\"\",\"\",BB78)),\"\")","v":""},{"$f":"IFERROR(IF($C77=\"TOTAL\",SUM($I$8:I76),IF(BC78=\"\",\"\",BC78)),\"\")","v":""},{"$f":"IFERROR(IF($C77=\"TOTAL\",SUM($J$8:J76),IF(BD78=\"\",\"\",BD78)),\"\")","v":""},"",{"$f":"IFERROR(IF(C77=\"\",\"\",IF(D77=\"\",\"\",IF(H77=\"\",\"\",IF($C77=\"TOTAL\",SUM($L$8:L76),SUM(D77-H77))))),\"\")","v":""},{"$f":"IFERROR(IF(C77=\"\",\"\",IF(E77=\"\",\"\",IF(I77=\"\",\"\",IF($C77=\"TOTAL\",SUM($M$8:M76),SUM(E77-I77))))),\"\")","v":""},{"$f":"IFERROR(IF(C77=\"\",\"\",IF(F77=\"\",\"\",IF(J77=\"\",\"\",IF($C77=\"TOTAL\",SUM($N$8:N76),SUM(F77-J77))))),\"\")","v":""},"",{"$f":"IFERROR(IF(C77=\"\",\"\",IF($C77=\"TOTAL\",SUM($P$8:P76),IF(AND(C77>$AO$1,$AF$3=$AO$2),BR78,IF($AR$18=$AR$20,SUM(BE78+BM78),ROUND((D77+E77)*10%,0))))),\"\")","v":""},{"$f":"IFERROR(IF(C77=\"\",\"\",IF(H77=\"\",\"\",IF(I77=\"\",\"\",IF($C77=\"TOTAL\",SUM($Q$8:Q76),IF(AND(C77>$AO$1,$AF$3=$AO$2),BR78,IF($AR$18=$AR$20,$AR$21,ROUND((H77+I77)*10%,0))))))),\"\")","v":""},"",{"$f":"IFERROR(IF(C77=\"\",\"\",IF($AR$16=$AR$17,0,IF($C77=\"TOTAL\",SUM($S$8:S76),IF($AR$19=$AR$20,$AR$25,0)))),\"\")","v":""},{"$f":"IFERROR(IF(C77=\"\",\"\",IF($AR$16=$AR$17,0,IF($C77=\"TOTAL\",SUM($T$8:T76),IF($AR$19=$AR$20,$AR$24,0)))),\"\")","v":""},"",{"$f":"IF(C77=\"\",\"\",IF($C77=\"TOTAL\",SUM($V$8:V76),IF(AND($AR$2=$AR$20,C77=$AR$1),ROUND(D77/31*$AS$2,0),IF(C77=$AP$6,ROUND((G77)*1/30,0),IF(C77=$AQ$6,ROUND((G77)*1/31,0),\"\")))))","v":""},{"$f":"IF(C77=\"\",\"\",IF($C77=\"TOTAL\",SUM($W$8:W76),IF(AND($AR$2=$AR$20,C77=$AR$1),ROUND(H77/31*$AS$2,0),IF(C77=$AP$6,ROUND((K77)*1/30,0),IF(C77=$AQ$6,ROUND((K77)*1/31,0),\"\")))))","v":""},"",{"$f":"IFERROR(IF(C77=\"\",\"\",IF($AR$16=$AR$17,0,IF($AF$3=$AO$4,\"\",IF($C77=\"TOTAL\",SUM($Y$8:Y76),BU77)))),\"\")","v":""},{"$f":"IFERROR(IF(C77=\"\",\"\",IF($AR$16=$AR$17,0,IF($AF$3=$AO$4,\"\",IF($C77=\"TOTAL\",SUM($Z$8:Z76),BT77)))),\"\")","v":""},"",{"$f":"IFERROR(IF(C77=\"\",\"\",IF(AND(BK78=\"\",BR78=\"\"),\"\",IF($C77=\"TOTAL\",SUM($AB$8:AB76),BK78))),\"\")","v":""},{"$f":"IFERROR(IF(C77=\"\",\"\",IF($C77=\"TOTAL\",SUM($AC$8:AC76),ROUND(O77*$AR$7%,0))),\"\")","v":""},{"$f":"IFERROR(IF(C77=\"\",\"\",IF($C77=\"TOTAL\",SUM($AD$8:AD76),IF($AF$3=$AO$2,SUM(U77,X77,AB77,AC77),SUM(R77,U77,X77,AB77,AC77)))),\"\")","v":""},{"$f":"IFERROR(IF(C77=\"\",\"\",IF($C77=\"TOTAL\",SUM($AE$8:AE76),SUM(O77-AD77))),\"\")","v":""},{"$nulls":8},42,42,null,"2022-09-01","2022-09-01","2028-09-01","","","","","","","",null,"","","","",null,null,{"$f":"IF(AW77=\"\",\"\",IF(AW77=\"TOTAL\",\"\",IF(BB77=\"\",\"\",SUM(O76)-SUM((BI77-$AR$21)+SUM(U76,X76,AC76)))))","v":""},{"$f":"IF(AW76=\"\",\"\",IF(AW76=\"TOTAL\",\"\",IF(AND($AR$20=$AR$36,C77=$AR$37),$AR$38,BI76)))","v":""},"","",{"$f":"IFERROR(IF(AND($AR$16=$AR$17,BJ77=\"YES\"),ROUND(ROUND(D76*3%,0)*10%,0),IF(AND($AR$16=$AR$15,BJ77=\"YES\",$AP$7=\"NO\"),ROUND(ROUND((L76+H76)*3%,0)*10%,0),IF(AND($AR$16=$AR$15,BJ77=\"YES\",$AP$7=\"YES\"),ROUND(ROUND((L76+M76)*3%,0)*10%,0),0))),\"\")","v":0},{"$f":"IF(AND($AR$16=$AR$17,BJ77=\"YES\"),ROUND(D76*3%,0),IF(AND($AR$16=$AR$15,BJ77=\"YES\",$AP$7=\"NO\"),ROUND((L76+H76)*3%,0),IF(AND($AR$16=$AR$15,BJ77=\"YES\",$AP$7=\"YES\"),ROUND((L76+M76)*3%,0),0)))","v":0},{"$nulls":4},"",null,"",{"$f":"IF(AW78=\"\",\"\",IF(AW78=\"TOTAL\",\"\",IF($AR$16=$AR$17,0,IF(AND(AW78>$BT$1,$AF$3=$AO$2,'Master Sheet'!$D$31>0),'Master Sheet'!$D$31,IF(AND(AW78=$BT$1,$AF$3=$AO$2),IF($AR$9<18001,135,IF($AR$9<33501,220,IF($AR$9<54001,330,440))),IF(AND(AW78>$BT$1,$AF$3=$AO$2),IF($AR$9<18001,265,IF($AR$9<33501,440,IF($AR$9<54001,658,875))),\"\"))))))","v":""}]
["","","",{"$f":"IFERROR(IF($C77=\"TOTAL\",\"अक्षरें राशि :-\",IF($C78=\"TOTAL\",SUM($D$8:D77),IF(AX79=\"\",\"\",AX79))),\"\")","v":""},{"$f":"IFERROR(IF($C78=\"TOTAL\",SUM($E$8:E77),IF(AY79=\"\",\"\",AY79)),\"\")","v":""},{"$f":"IFERROR(IF($C78=\"TOTAL\",SUM($F$8:F77),IF(AZ79=\"\",\"\",AZ79)),\"\")","v":""},"",{"$f":"IFERROR(IF($C78=\"TOTAL\",SUM($H$8:H77),IF(BB79=\"\",\"\",BB79)),\"\")","v":""},{"$f":"IFERROR(IF($C78=\"TOTAL\",SUM($I$8:I77),IF(BC79=\"\",\"\",BC79)),\"\")","v":""},{"$f":"IFERROR(IF($C78=\"TOTAL\",SUM($J$8:J77),IF(BD79=\"\",\"\",BD79)),\"\")","v":""},"",{"$f":"IFERROR(IF(C78=\"\",\"\",IF(D78=\"\",\"\",IF(H78=\"\",\"\",IF($C78=\"TOTAL\",SUM($L$8:L77),SUM(D78-H78))))),\"\")","v":""},{"$f":"IFERROR(IF(C78=\"\",\"\",IF(E78=\"\",\"\",IF(I78=\"\",\"\",IF($C78=\"TOTAL\",SUM($M$8:M77),SUM(E78-I78))))),\"\")","v":""},{"$f":"IFERROR(IF(C78=\"\",\"\",IF(F78=\"\",\"\",IF(J78=\"\",\"\",IF($C78=\"TOTAL\",SUM($N$8:N77),SUM(F78-J78))))),\"\")","v":""},"",{"$f":"IFERROR(IF(C78=\"\",\"\",IF($C78=\"TOTAL\",SUM($P$8:P77),IF(AND(C78>$AO$1,$AF$3=$AO$2),BR79,IF($AR$18=$AR$20,SUM(BE79+BM79),ROUND((D78+E78)*10%,0))))),\"\")","v":""},{"$f":"IFERROR(IF(C78=\"\",\"\",IF(H78=\"\",\"\",IF(I78=\"\",\"\",IF($C78=\"TOTAL\",SUM($Q$8:Q77),IF(AND(C78>$AO$1,$AF$3=$AO$2),BR79,IF($AR$18=$AR$20,$AR$21,ROUND((H78+I78)*10%,0))))))),\"\")","v":""},"",{"$f":"IFERROR(IF(C78=\"\",\"\",IF($AR$16=$AR$17,0,IF($C78=\"TOTAL\",SUM($S$8:S77),IF($AR$19=$AR$20,$AR$25,0)))),\"\")","v":""},{"$f":"IFERROR(IF(C78=\"\",\"\",IF($AR$16=$AR$17,0,IF($C78=\"TOTAL\",SUM($T$8:T77),IF($AR$19=$AR$20,$AR$24,0)))),\"\")","v":""},"",{"$f":"IF(C78=\"\",\"\",IF($C78=\"TOTAL\",SUM($V$8:V77),IF(AND($AR$2=$AR$20,C78=$AR$1),ROUND(D78/31*$AS$2,0),IF(C78=$AP$6,ROUND((G78)*1/30,0),IF(C78=$AQ$6,ROUND((G78)*1/31,0),\"\")))))","v":""},{"$f":"IF(C78=\"\",\"\",IF($C78=\"TOTAL\",SUM($W$8:W77),IF(AND($AR$2=$AR$20,C78=$AR$1),ROUND(H78/31*$AS$2,0),IF(C78=$AP$6,ROUND((K78)*1/30,0),IF(C78=$AQ$6,ROUND((K78)*1/31,0),\"\")))))","v":""},"",{"$f":"IFERROR(IF(C78=\"\",\"\",IF($AR$16=$AR$17,0,IF($AF$3=$AO$4,\"\",IF($C78=\"TOTAL\",SUM($Y$8:Y77),BU78)))),\"\")","v":""},{"$f":"IFERROR(IF(C78=\"\",\"\",IF($AR$16=$AR$17,0,IF($AF$3=$AO$4,\"\",IF($C78=\"TOTAL\",SUM($Z$8:Z77),BT78)))),\"\")","v":""},"",{"$f":"IFERROR(IF(C78=\"\",\"\",IF(AND(BK79=\"\",BR79=\"\"),\"\",IF($C78=\"TOTAL\",SUM($AB$8:AB77),BK79))),\"\")","v":""},{"$f":"IFERROR(IF(C78=\"\",\"\",IF($C78=\"TOTAL\",SUM($AC$8:AC77),ROUND(O78*$AR$7%,0))),\"\")","v":""},{"$f":"IFERROR(IF(C78=\"\",\"\",IF($C78=\"TOTAL\",SUM($AD$8:AD77),IF($AF$3=$AO$2,SUM(U78,X78,AB78,AC78),SUM(R78,U78,X78,AB78,AC78)))),\"\")","v":""},{"$f":"IFERROR(IF(C78=\"\",\"\",IF($C78=\"TOTAL\",SUM($AE$8:AE77),SUM(O78-AD78))),\"\")","v":""},{"$nulls":8},42,42,null,"2022-10-01","2022-10-01","2028-10-01","","","","","",{"$f":"IF(AW78=\"\",\"\",IF(AW78=\"TOTAL\",\"\",ROUND(AX78*AN78%,0)))","v":""},"",null,"","","","",null,null,"","","","",0,0,{"$nulls":4},"",null,"",{"$f":"IF(AW79=\"\",\"\",IF(AW79=\"TOTAL\",\"\",IF($AR$16=$AR$17,0,IF(AND(AW79>$BT$1,$AF$3=$AO$2,'Master Sheet'!$D$31>0),'Master Sheet'!$D$31,IF(AND(AW79=$BT$1,$AF$3=$AO$2),IF($AR$9<18001,135,IF($AR$9<33501,220,IF($AR$9<54001,330,440))),IF(AND(AW79>$BT$1,$AF$3=$AO$2),IF($AR$9<18001,265,IF($AR$9<33501,440,IF($AR$9<54001,658,875))),\"\"))))))","v":""}]
["","","",{"$f":"IFERROR(IF($C78=\"TOTAL\",\"अक्षरें राशि :-\",IF($C79=\"TOTAL\",SUM($D$8:D78),IF(AX80=\"\",\"\",AX80))),\"\")","v":""},{"$f":"IFERROR(IF($C79=\"TOTAL\",SUM($E$8:E78),IF(AY80=\"\",\"\",AY80)),\"\")","v":""},{"$f":"IFERROR(IF($C79=\"TOTAL\",SUM($F$8:F78),IF(AZ80=\"\",\"\",AZ80)),\"\")","v":""},"",{"$f":"IFERROR(IF($C79=\"TOTAL\",SUM($H$8:H78),IF(BB80=\"\",\"\",BB80)),\"\")","v":""},{"$f":"IFERROR(IF($C79=\"TOTAL\",SUM($I$8:I78),IF(BC80=\"\",\"\",BC80)),\"\")","v":""},{"$f":"IFERROR(IF($C79=\"TOTAL\",SUM($J$8:J78),IF(BD80=\"\",\"\",BD80)),\"\")","v":""},"",{"$f":"IFERROR(IF(C79=\"\",\"\",IF(D79=\"\",\"\",IF(H79=\"\",\"\",IF($C79=\"TOTAL\",SUM($L$8:L78),SUM(D79-H79))))),\"\")","v":""},{"$f":"IFERROR(IF(C79=\"\",\"\",IF(E79=\"\",\"\",IF(I79=\"\",\"\",IF($C79=\"TOTAL\",SUM($M$8:M78),SUM(E79-I79))))),\"\")","v":""},{"$f":"IFERROR(IF(C79=\"\",\"\",IF(F79=\"\",\"\",IF(J79=\"\",\"\",IF($C79=\"TOTAL\",SUM($N$8:N78),SUM(F79-J79))))),\"\")","v":""},"",{"$f":"IFERROR(IF(C79=\"\",\"\",IF($C79=\"TOTAL\",SUM($P$8:P78),IF(AND(C79>$AO$1,$AF$3=$AO$2),BR80,IF($AR$18=$AR$20,SUM(BE80+BM80),ROUND((D79+E79)*10%,0))))),\"\")","v":""},{"$f":"IFERROR(IF(C79=\"\",\"\",IF(H79=\"\",\"\",IF(I79=\"\",\"\",IF($C79=\"TOTAL\",SUM($Q$8:Q78),IF(AND(C79>$AO$1,$AF$3=$AO$2),BR80,IF($AR$18=$AR$20,$AR$21,ROUND((H79+I79)*10%,0))))))),\"\")","v":""},"",{"$f":"IFERROR(IF(C79=\"\",\"\",IF($AR$16=$AR$17,0,IF($C79=\"TOTAL\",SUM($S$8:S78),IF($AR$19=$AR$20,$AR$25,0)))),\"\")","v":""},{"$f":"IFERROR(IF(C79=\"\",\"\",IF($AR$16=$AR$17,0,IF($C79=\"TOTAL\",SUM($T$8:T78),IF($AR$19=$AR$20,$AR$24,0)))),\"\")","v":""},"",{"$f":"IF(C79=\"\",\"\",IF($C79=\"TOTAL\",SUM($V$8:V78),IF(AND($AR$2=$AR$20,C79=$AR$1),ROUND(D79/31*$AS$2,0),IF(C79=$AP$6,ROUND((G79)*1/30,0),IF(C79=$AQ$6,ROUND((G79)*1/31,0),\"\")))))","v":""},{"$f":"IF(C79=\"\",\"\",IF($C79=\"TOTAL\",SUM($W$8:W78),IF(AND($AR$2=$AR$20,C79=$AR$1),ROUND(H79/31*$AS$2,0),IF(C79=$AP$6,ROUND((K79)*1/30,0),IF(C79=$AQ$6,ROUND((K79)*1/31,0),\"\")))))","v":""},"",{"$f":"IFERROR(IF(C79=\"\",\"\",IF($AR$16=$AR$17,0,IF($AF$3=$AO$4,\"\",IF($C79=\"TOTAL\",SUM($Y$8:Y78),BU79)))),\"\")","v":""},{"$f":"IFERROR(IF(C79=\"\",\"\",IF($AR$16=$AR$17,0,IF($AF$3=$AO$4,\"\",IF($C79=\"TOTAL\",SUM($Z$8:Z78),BT79)))),\"\")","v":""},"",{"$f":"IFERROR(IF(C79=\"\",\"\",IF(AND(BK80=\"\",BR80=\"\"),\"\",IF($C79=\"TOTAL\",SUM($AB$8:AB78),BK80))),\"\")","v":""},{"$f":"IFERROR(IF(C79=\"\",\"\",IF($C79=\"TOTAL\",SUM($AC$8:AC78),ROUND(O79*$AR$7%,0))),\"\")","v":""},{"$f":"IFERROR(IF(C79=\"\",\"\",IF($C79=\"TOTAL\",SUM($AD$8:AD78),IF($AF$3=$AO$2,SUM(U79,X79,AB79,AC79),SUM(R79,U79,X79,AB79,AC79)))),\"\")","v":""},{"$f":"IFERROR(IF(C79=\"\",\"\",IF($C79=\"TOTAL\",SUM($AE$8:AE78),SUM(O79-AD79))),\"\")","v":""},{"$nulls":8},42,42,null,"2022-11-01","2022-11-01","2028-11-01","","","","","","","",null,"","","","",null,null,"","","","",0,0,{"$nulls":4},"",null,"",{"$f":"IF(AW80=\"\",\"\",IF(AW80=\"TOTAL\",\"\",IF($AR$16=$AR$17,0,IF(AND(AW80>$BT$1,$AF$3=$AO$2,'Master Sheet'!$D$31>0),'Master Sheet'!$D$31,IF(AND(AW80=$BT$1,$AF$3=$AO$2),IF($AR$9<18001,135,IF($AR$9<33501,220,IF($AR$9<54001,330,440))),IF(AND(AW80>$BT$1,$AF$3=$AO$2),IF($AR$9<18001,265,IF($AR$9<33501,440,IF($AR$9<54001,658,875))),\"\"))))))","v":""}]
["","","",{"$f":"IFERROR(IF($C79=\"TOTAL\",\"अक्षरें राशि :-\",IF($C80=\"TOTAL\",SUM($D$8:D79),IF(AX81=\"\",\"\",AX81))),\"\")","v":""},{"$f":"IFERROR(IF($C80=\"TOTAL\",SUM($E$8:E79),IF(AY81=\"\",\"\",AY81)),\"\")","v":""},{"$f":"IFERROR(IF($C80=\"TOTAL\",SUM($F$8:F79),IF(AZ81=\"\",\"\",AZ81)),\"\")","v":""},"",{"$f":"IFERROR(IF($C80=\"TOTAL\",SUM($H$8:H79),IF(BB81=\"\",\"\",BB81)),\"\")","v":""},{"$f":"IFERROR(IF($C80=\"TOTAL\",SUM($I$8:I79),IF(BC81=\"\",\"\",BC81)),\"\")","v":""},{"$f":"IFERROR(IF($C80=\"TOTAL\",SUM($J$8:J79),IF(BD81=\"\",\"\",BD81)),\"\")","v":""},"",{"$f":"IFERROR(IF(C80=\"\",\"\",IF(D80=\"\",\"\",IF(H80=\"\",\"\",IF($C80=\"TOTAL\",SUM($L$8:L79),SUM(D80-H80))))),\"\")","v":""},{"$f":"IFERROR(IF(C80=\"\",\"\",IF(E80=\"\",\"\",IF(I80=\"\",\"\",IF($C80=\"TOTAL\",SUM($M$8:M79),SUM(E80-I80))))),\"\")","v":""},{"$f":"IFERROR(IF(C80=\"\",\"\",IF(F80=\"\",\"\",IF(J80=\"\",\"\",IF($C80=\"TOTAL\",SUM($N$8:N79),SUM(F80-J80))))),\"\")","v":""},"",{"$f":"IFERROR(IF(C80=\"\",\"\",IF($C80=\"TOTAL\",SUM($P$8:P79),IF(AND(C80>$AO$1,$AF$3=$AO$2),BR81,IF($AR$18=$AR$20,SUM(BE81+BM81),ROUND((D80+E80)*10%,0))))),\"\")","v":""},{"$f":"IFERROR(IF(C80=\"\",\"\",IF(H80=\"\",\"\",IF(I80=\"\",\"\",IF($C80=\"TOTAL\",SUM($Q$8:Q79),IF(AND(C80>$AO$1,$AF$3=$AO$2),BR81,IF($AR$18=$AR$20,$AR$21,ROUND((H80+I80)*10%,0))))))),\"\")","v":""},"",{"$f":"IFERROR(IF(C80=\"\",\"\",IF($AR$16=$AR$17,0,IF($C80=\"TOTAL\",SUM($S$8:S79),IF($AR$19=$AR$20,$AR$25,0)))),\"\")","v":""},{"$f":"IFERROR(IF(C80=\"\",\"\",IF($AR$16=$AR$17,0,IF($C80=\"TOTAL\",SUM($T$8:T79),IF($AR$19=$AR$20,$AR$24,0)))),\"\")","v":""},"",{"$f":"IF(C80=\"\",\"\",IF($C80=\"TOTAL\",SUM($V$8:V79),IF(AND($AR$2=$AR$20,C80=$AR$1),ROUND(D80/31*$AS$2,0),IF(C80=$AP$6,ROUND((G80)*1/30,0),IF(C80=$AQ$6,ROUND((G80)*1/31,0),\"\")))))","v":""},{"$f":"IF(C80=\"\",\"\",IF($C80=\"TOTAL\",SUM($W$8:W79),IF(AND($AR$2=$AR$20,C80=$AR$1),ROUND(H80/31*$AS$2,0),IF(C80=$AP$6,ROUND((K80)*1/30,0),IF(C80=$AQ$6,ROUND((K80)*1/31,0),\"\")))))","v":""},"",{"$f":"IFERROR(IF(C80=\"\",\"\",IF($AR$16=$AR$17,0,IF($AF$3=$AO$4,\"\",IF($C80=\"TOTAL\",SUM($Y$8:Y79),BU80)))),\"\")","v":""},{"$f":"IFERROR(IF(C80=\"\",\"\",IF($AR$16=$AR$17,0,IF($AF$3=$AO$4,\"\",IF($C80=\"TOTAL\",SUM($Z$8:Z79),BT80)))),\"\")","v":""},"",{"$f":"IFERROR(IF(C80=\"\",\"\",IF(AND(BK81=\"\",BR81=\"\"),\"\",IF($C80=\"TOTAL\",SUM($AB$8:AB79),BK81))),\"\")","v":""},{"$f":"IFERROR(IF(C80=\"\",\"\",IF($C80=\"TOTAL\",SUM($AC$8:AC79),ROUND(O80*$AR$7%,0))),\"\")","v":""},{"$f":"IFERROR(IF(C80=\"\",\"\",IF($C80=\"TOTAL\",SUM($AD$8:AD79),IF($AF$3=$AO$2,SUM(U80,X80,AB80,AC80),SUM(R80,U80,X80,AB80,AC80)))),\"\")","v":""},{"$f":"IFERROR(IF(C80=\"\",\"\",IF($C80=\"TOTAL\",SUM($AE$8:AE79),SUM(O80-AD80))),\"\")","v":""},{"$nulls":8},42,42,null,"2022-12-01","2022-12-01",{"$f":"IF(AND($AR$6>$AS$6),\"\",DATE(YEAR(AS79),MONTH(AS79)+1,DAY(AS79)))","v":"2028-12-01"},"","","","","","","",null,"","","","",null,null,"","","","",0,0,{"$nulls":4},"",null,{"$f":"IF(AW81=\"\",\"\",IF(AW81=\"TOTAL\",\"\",IF($AR$16=$AR$17,0,IF(AND(AW81=$BT$1,$AF$3=$AO$2),IF($AR$14<18001,135,IF($AR$14<33501,220,IF($AR$14<54001,330,440))),IF(AND(AW81>$BT$1,$AF$3=$AO$2),IF($AR$14<18001,265,IF($AR$14<33501,440,IF($AR$14<54001,658,875))),\"\")))))","v":""},{"$f":"IF(AW81=\"\",\"\",IF(AW81=\"TOTAL\",\"\",IF($AR$16=$AR$17,0,IF(AND(AW81>$BT$1,$AF$3=$AO$2,'Master Sheet'!$D$31>0),'Master Sheet'!$D$31,IF(AND(AW81=$BT$1,$AF$3=$AO$2),IF($AR$9<18001,135,IF($AR$9<33501,220,IF($AR$9<54001,330,440))),IF(AND(AW81>$BT$1,$AF$3=$AO$2),IF($AR$9<18001,265,IF($AR$9<33501,440,IF($AR$9<54001,658,875))),\"\"))))))","v":""}]
["","",{"$f":"IFERROR(IF(AW82=\"\",\"\",AW82),\"\")","v":""},{"$f":"IFERROR(IF($C80=\"TOTAL\",\"अक्षरें राशि :-\",IF($C81=\"TOTAL\",SUM($D$8:D80),IF(AX82=\"\",\"\",AX82))),\"\")","v":""},{"$f":"IFERROR(IF($C81=\"TOTAL\",SUM($E$8:E80),IF(AY82=\"\",\"\",AY82)),\"\")","v":""},{"$f":"IFERROR(IF($C81=\"TOTAL\",SUM($F$8:F80),IF(AZ82=\"\",\"\",AZ82)),\"\")","v":""},{"$f":"IF(C81=\"\",\"\",SUM(D81:F81))","v":""},{"$f":"IFERROR(IF($C81=\"TOTAL\",SUM($H$8:H80),IF(BB82=\"\",\"\",BB82)),\"\")","v":""},{"$f":"IFERROR(IF($C81=\"TOTAL\",SUM($I$8:I80),IF(BC82=\"\",\"\",BC82)),\"\")","v":""},{"$f":"IFERROR(IF($C81=\"TOTAL\",SUM($J$8:J80),IF(BD82=\"\",\"\",BD82)),\"\")","v":""},{"$f":"IF(C81=\"\",\"\",SUM(H81:J81))","v":""},{"$f":"IFERROR(IF(C81=\"\",\"\",IF(D81=\"\",\"\",IF(H81=\"\",\"\",IF($C81=\"TOTAL\",SUM($L$8:L80),SUM(D81-H81))))),\"\")","v":""},{"$f":"IFERROR(IF(C81=\"\",\"\",IF(E81=\"\",\"\",IF(I81=\"\",\"\",IF($C81=\"TOTAL\",SUM($M$8:M80),SUM(E81-I81))))),\"\")","v":""},{"$f":"IFERROR(IF(C81=\"\",\"\",IF(F81=\"\",\"\",IF(J81=\"\",\"\",IF($C81=\"TOTAL\",SUM($N$8:N80),SUM(F81-J81))))),\"\")","v":""},{"$f":"IFERROR(IF(C81=\"\",\"\",IF(G81=\"\",\"\",IF(K81=\"\",\"\",SUM(G81-K81)))),\"\")","v":""},{"$f":"IFERROR(IF(C81=\"\",\"\",IF($C81=\"TOTAL\",SUM($P$8:P80),IF(AND(C81>$AO$1,$AF$3=$AO$2),BR82,IF($AR$18=$AR$20,SUM(BE82+BM82),ROUND((D81+E81)*10%,0))))),\"\")","v":""},{"$f":"IFERROR(IF(C81=\"\",\"\",IF(H81=\"\",\"\",IF(I81=\"\",\"\",IF($C81=\"TOTAL\",SUM($Q$8:Q80),IF(AND(C81>$AO$1,$AF$3=$AO$2),BR82,IF($AR$18=$AR$20,$AR$21,ROUND((H81+I81)*10%,0))))))),\"\")","v":""},{"$f":"IFERROR(IF(C81=\"\",\"\",SUM(P81-Q81)),\"\")","v":""},{"$f":"IFERROR(IF(C81=\"\",\"\",IF($AR$16=$AR$17,0,IF($C81=\"TOTAL\",SUM($S$8:S80),IF($AR$19=$AR$20,$AR$25,0)))),\"\")","v":""},{"$f":"IFERROR(IF(C81=\"\",\"\",IF($AR$16=$AR$17,0,IF($C81=\"TOTAL\",SUM($T$8:T80),IF($AR$19=$AR$20,$AR$24,0)))),\"\")","v":""},{"$f":"IFERROR(IF(C81=\"\",\"\",SUM(S81-T81)),\"\")","v":""},{"$f":"IF(C81=\"\",\"\",IF($C81=\"TOTAL\",SUM($V$8:V80),IF(AND($AR$2=$AR$20,C81=$AR$1),ROUND(D81/31*$AS$2,0),IF(C81=$AP$6,ROUND((G81)*1/30,0),IF(C81=$AQ$6,ROUND((G81)*1/31,0),\"\")))))","v":""},{"$f":"IF(C81=\"\",\"\",IF($C81=\"TOTAL\",SUM($W$8:W80),IF(AND($AR$2=$AR$20,C81=$AR$1),ROUND(H81/31*$AS$2,0),IF(C81=$AP$6,ROUND((K81)*1/30,0),IF(C81=$AQ$6,ROUND((K81)*1/31,0),\"\")))))","v":""},{"$f":"IFERROR(IF(C81=\"\",\"\",SUM(V81-W81)),\"\")","v":""},{"$f":"IFERROR(IF(C81=\"\",\"\",IF($AR$16=$AR$17,0,IF($AF$3=$AO$4,\"\",IF($C81=\"TOTAL\",SUM($Y$8:Y80),BU81)))),\"\")","v":""},{"$f":"IFERROR(IF(C81=\"\",\"\",IF($AR$16=$AR$17,0,IF($AF$3=$AO$4,\"\",IF($C81=\"TOTAL\",SUM($Z$8:Z80),BT81)))),\"\")","v":""},"",{"$f":"IFERROR(IF(C81=\"\",\"\",IF(AND(BK82=\"\",BR82=\"\"),\"\",IF($C81=\"TOTAL\",SUM($AB$8:AB80),BK82))),\"\")","v":""},{"$f":"IFERROR(IF(C81=\"\",\"\",IF($C81=\"TOTAL\",SUM($AC$8:AC80),ROUND(O81*$AR$7%,0))),\"\")","v":""},{"$f":"IFERROR(IF(C81=\"\",\"\",IF($C81=\"TOTAL\",SUM($AD$8:AD80),IF($AF$3=$AO$2,SUM(U81,X81,AB81,AC81),SUM(R81,U81,X81,AB81,AC81)))),\"\")","v":""},{"$f":"IFERROR(IF(C81=\"\",\"\",IF($C81=\"TOTAL\",SUM($AE$8:AE80),SUM(O81-AD81))),\"\")","v":""},{"$nulls":8},42,42,null,"2023-01-01","2023-01-01","2029-01-01","","","","","","","",null,"","","","",null,null,"","","","",0,0,{"$nulls":4},"",null,"",{"$f":"IF(AW82=\"\",\"\",IF(AW82=\"TOTAL\",\"\",IF($AR$16=$AR$17,0,IF(AND(AW82>$BT$1,$AF$3=$AO$2,'Master Sheet'!$D$31>0),'Master Sheet'!$D$31,IF(AND(AW82=$BT$1,$AF$3=$AO$2),IF($AR$9<18001,135,IF($AR$9<33501,220,IF($AR$9<54001,330,440))),IF(AND(AW82>$BT$1,$AF$3=$AO$2),IF($AR$9<18001,265,IF($AR$9<33501,440,IF($AR$9<54001,658,875))),\"\"))))))","v":""}]
["","","",{"$f":"IFERROR(IF($C81=\"TOTAL\",\"अक्षरें राशि :-\",IF($C82=\"TOTAL\",SUM($D$8:D81),IF(AX83=\"\",\"\",AX83))),\"\")","v":""},{"$f":"IFERROR(IF($C82=\"TOTAL\",SUM($E$8:E81),IF(AY83=\"\",\"\",AY83)),\"\")","v":""},{"$f":"IFERROR(IF($C82=\"TOTAL\",SUM($F$8:F81),IF(AZ83=\"\",\"\",AZ83)),\"\")","v":""},"",{"$f":"IFERROR(IF($C82=\"TOTAL\",SUM($H$8:H81),IF(BB83=\"\",\"\",BB83)),\"\")","v":""},{"$f":"IFERROR(IF($C82=\"TOTAL\",SUM($I$8:I81),IF(BC83=\"\",\"\",BC83)),\"\")","v":""},{"$f":"IFERROR(IF($C82=\"TOTAL\",SUM($J$8:J81),IF(BD83=\"\",\"\",BD83)),\"\")","v":""},"",{"$f":"IFERROR(IF(C82=\"\",\"\",IF(D82=\"\",\"\",IF(H82=\"\",\"\",IF($C82=\"TOTAL\",SUM($L$8:L81),SUM(D82-H82))))),\"\")","v":""},{"$f":"IFERROR(IF(C82=\"\",\"\",IF(E82=\"\",\"\",IF(I82=\"\",\"\",IF($C82=\"TOTAL\",SUM($M$8:M81),SUM(E82-I82))))),\"\")","v":""},{"$f":"IFERROR(IF(C82=\"\",\"\",IF(F82=\"\",\"\",IF(J82=\"\",\"\",IF($C82=\"TOTAL\",SUM($N$8:N81),SUM(F82-J82))))),\"\")","v":""},"",{"$f":"IFERROR(IF(C82=\"\",\"\",IF($C82=\"TOTAL\",SUM($P$8:P81),IF(AND(C82>$AO$1,$AF$3=$AO$2),BR83,IF($AR$18=$AR$20,SUM(BE83+BM83),ROUND((D82+E82)*10%,0))))),\"\")","v":""},{"$f":"IFERROR(IF(C82=\"\",\"\",IF(H82=\"\",\"\",IF(I82=\"\",\"\",IF($C82=\"TOTAL\",SUM($Q$8:Q81),IF(AND(C82>$AO$1,$AF$3=$AO$2),BR83,IF($AR$18=$AR$20,$AR$21,ROUND((H82+I82)*10%,0))))))),\"\")","v":""},"",{"$f":"IFERROR(IF(C82=\"\",\"\",IF($AR$16=$AR$17,0,IF($C82=\"TOTAL\",SUM($S$8:S81),IF($AR$19=$AR$20,$AR$25,0)))),\"\")","v":""},{"$f":"IFERROR(IF(C82=\"\",\"\",IF($AR$16=$AR$17,0,IF($C82=\"TOTAL\",SUM($T$8:T81),IF($AR$19=$AR$20,$AR$24,0)))),\"\")","v":""},"",{"$f":"IF(C82=\"\",\"\",IF($C82=\"TOTAL\",SUM($V$8:V81),IF(AND($AR$2=$AR$20,C82=$AR$1),ROUND(D82/31*$AS$2,0),IF(C82=$AP$6,ROUND((G82)*1/30,0),IF(C82=$AQ$6,ROUND((G82)*1/31,0),\"\")))))","v":""},{"$f":"IF(C82=\"\",\"\",IF($C82=\"TOTAL\",SUM($W$8:W81),IF(AND($AR$2=$AR$20,C82=$AR$1),ROUND(H82/31*$AS$2,0),IF(C82=$AP$6,ROUND((K82)*1/30,0),IF(C82=$AQ$6,ROUND((K82)*1/31,0),\"\")))))","v":""},"",{"$f":"IFERROR(IF(C82=\"\",\"\",IF($AR$16=$AR$17,0,IF($AF$3=$AO$4,\"\",IF($C82=\"TOTAL\",SUM($Y$8:Y81),BU82)))),\"\")","v":""},{"$f":"IFERROR(IF(C82=\"\",\"\",IF($AR$16=$AR$17,0,IF($AF$3=$AO$4,\"\",IF($C82=\"TOTAL\",SUM($Z$8:Z81),BT82)))),\"\")","v":""},"",{"$f":"IFERROR(IF(C82=\"\",\"\",IF(AND(BK83=\"\",BR83=\"\"),\"\",IF($C82=\"TOTAL\",SUM($AB$8:AB81),BK83))),\"\")","v":""},{"$f":"IFERROR(IF(C82=\"\",\"\",IF($C82=\"TOTAL\",SUM($AC$8:AC81),ROUND(O82*$AR$7%,0))),\"\")","v":""},{"$f":"IFERROR(IF(C82=\"\",\"\",IF($C82=\"TOTAL\",SUM($AD$8:AD81),IF($AF$3=$AO$2,SUM(U82,X82,AB82,AC82),SUM(R82,U82,X82,AB82,AC82)))),\"\")","v":""},{"$f":"IFERROR(IF(C82=\"\",\"\",IF($C82=\"TOTAL\",SUM($AE$8:AE81),SUM(O82-AD82))),\"\")","v":""},{"$nulls":8},42,42,null,"2023-02-01","2023-02-01","2029-02-01",null,"","","","","","",null,"","","","",null,null,"","","","",0,0,{"$nulls":4},"",null,"",{"$f":"IF(AW83=\"\",\"\",IF(AW83=\"TOTAL\",\"\",IF($AR$16=$AR$17,0,IF(AND(AW83>$BT$1,$AF$3=$AO$2,'Master Sheet'!$D$31>0),'Master Sheet'!$D$31,IF(AND(AW83=$BT$1,$AF$3=$AO$2),IF($AR$9<18001,135,IF($AR$9<33501,220,IF($AR$9<54001,330,440))),IF(AND(AW83>$BT$1,$AF$3=$AO$2),IF($AR$9<18001,265,IF($AR$9<33501,440,IF($AR$9<54001,658,875))),\"\"))))))","v":""}]
["","","",{"$f":"IFERROR(IF($C82=\"TOTAL\",\"अक्षरें राशि :-\",IF($C83=\"TOTAL\",SUM($D$8:D82),IF(AX84=\"\",\"\",AX84))),\"\")","v":""},{"$f":"IFERROR(IF($C83=\"TOTAL\",SUM($E$8:E82),IF(AY84=\"\",\"\",AY84)),\"\")","v":""},{"$f":"IFERROR(IF($C83=\"TOTAL\",SUM($F$8:F82),IF(AZ84=\"\",\"\",AZ84)),\"\")","v":""},"",{"$f":"IFERROR(IF($C83=\"TOTAL\",SUM($H$8:H82),IF(BB84=\"\",\"\",BB84)),\"\")","v":""},{"$f":"IFERROR(IF($C83=\"TOTAL\",SUM($I$8:I82),IF(BC84=\"\",\"\",BC84)),\"\")","v":""},{"$f":"IFERROR(IF($C83=\"TOTAL\",SUM($J$8:J82),IF(BD84=\"\",\"\",BD84)),\"\")","v":""},"",{"$f":"IFERROR(IF(C83=\"\",\"\",IF(D83=\"\",\"\",IF(H83=\"\",\"\",IF($C83=\"TOTAL\",SUM($L$8:L82),SUM(D83-H83))))),\"\")","v":""},{"$f":"IFERROR(IF(C83=\"\",\"\",IF(E83=\"\",\"\",IF(I83=\"\",\"\",IF($C83=\"TOTAL\",SUM($M$8:M82),SUM(E83-I83))))),\"\")","v":""},{"$f":"IFERROR(IF(C83=\"\",\"\",IF(F83=\"\",\"\",IF(J83=\"\",\"\",IF($C83=\"TOTAL\",SUM($N$8:N82),SUM(F83-J83))))),\"\")","v":""},"",{"$f":"IFERROR(IF(C83=\"\",\"\",IF($C83=\"TOTAL\",SUM($P$8:P82),IF(AND(C83>$AO$1,$AF$3=$AO$2),BR84,IF($AR$18=$AR$20,SUM(BE84+BM84),ROUND((D83+E83)*10%,0))))),\"\")","v":""},{"$f":"IFERROR(IF(C83=\"\",\"\",IF(H83=\"\",\"\",IF(I83=\"\",\"\",IF($C83=\"TOTAL\",SUM($Q$8:Q82),IF(AND(C83>$AO$1,$AF$3=$AO$2),BR84,IF($AR$18=$AR$20,$AR$21,ROUND((H83+I83)*10%,0))))))),\"\")","v":""},"",{"$f":"IFERROR(IF(C83=\"\",\"\",IF($AR$16=$AR$17,0,IF($C83=\"TOTAL\",SUM($S$8:S82),IF($AR$19=$AR$20,$AR$25,0)))),\"\")","v":""},{"$f":"IFERROR(IF(C83=\"\",\"\",IF($AR$16=$AR$17,0,IF($C83=\"TOTAL\",SUM($T$8:T82),IF($AR$19=$AR$20,$AR$24,0)))),\"\")","v":""},"",{"$f":"IF(C83=\"\",\"\",IF($C83=\"TOTAL\",SUM($V$8:V82),IF(AND($AR$2=$AR$20,C83=$AR$1),ROUND(D83/31*$AS$2,0),IF(C83=$AP$6,ROUND((G83)*1/30,0),IF(C83=$AQ$6,ROUND((G83)*1/31,0),\"\")))))","v":""},{"$f":"IF(C83=\"\",\"\",IF($C83=\"TOTAL\",SUM($W$8:W82),IF(AND($AR$2=$AR$20,C83=$AR$1),ROUND(H83/31*$AS$2,0),IF(C83=$AP$6,ROUND((K83)*1/30,0),IF(C83=$AQ$6,ROUND((K83)*1/31,0),\"\")))))","v":""},"",{"$f":"IFERROR(IF(C83=\"\",\"\",IF($AR$16=$AR$17,0,IF($AF$3=$AO$4,\"\",IF($C83=\"TOTAL\",SUM($Y$8:Y82),BU83)))),\"\")","v":""},{"$f":"IFERROR(IF(C83=\"\",\"\",IF($AR$16=$AR$17,0,IF($AF$3=$AO$4,\"\",IF($C83=\"TOTAL\",SUM($Z$8:Z82),BT83)))),\"\")","v":""},"",{"$f":"IFERROR(IF(C83=\"\",\"\",IF(AND(BK84=\"\",BR84=\"\"),\"\",IF($C83=\"TOTAL\",SUM($AB$8:AB82),BK84))),\"\")","v":""},{"$f":"IFERROR(IF(C83=\"\",\"\",IF($C83=\"TOTAL\",SUM($AC$8:AC82),ROUND(O83*$AR$7%,0))),\"\")","v":""},{"$f":"IFERROR(IF(C83=\"\",\"\",IF($C83=\"TOTAL\",SUM($AD$8:AD82),IF($AF$3=$AO$2,SUM(U83,X83,AB83,AC83),SUM(R83,U83,X83,AB83,AC83)))),\"\")","v":""},{"$f":"IFERROR(IF(C83=\"\",\"\",IF($C83=\"TOTAL\",SUM($AE$8:AE82),SUM(O83-AD83))),\"\")","v":""},{"$nulls":8},42,42,null,"2023-03-01","2023-03-01","2029-03-01",null,"","","","","","",null,"","","","",null,null,"","","","",0,0,{"$nulls":4},"",null,"",{"$f":"IF(AW84=\"\",\"\",IF(AW84=\"TOTAL\",\"\",IF($AR$16=$AR$17,0,IF(AND(AW84>$BT$1,$AF$3=$AO$2,'Master Sheet'!$D$31>0),'Master Sheet'!$D$31,IF(AND(AW84=$BT$1,$AF$3=$AO$2),IF($AR$9<18001,135,IF($AR$9<33501,220,IF($AR$9<54001,330,440))),IF(AND(AW84>$BT$1,$AF$3=$AO$2),IF($AR$9<18001,265,IF($AR$9<33501,440,IF($AR$9<54001,658,875))),\"\"))))))","v":""}]
[{"$f":"IF(C84=\"TOTAL\",\"\",IF(B83=\"\",\"\",IF(LEN(C84)>=2,B83+1,0)))","v":""},"","",{"$f":"IFERROR(IF($C83=\"TOTAL\",\"अक्षरें राशि :-\",IF($C84=\"TOTAL\",SUM($D$8:D83),IF(AX85=\"\",\"\",AX85))),\"\")","v":""},{"$f":"IFERROR(IF($C84=\"TOTAL\",SUM($E$8:E83),IF(AY85=\"\",\"\",AY85)),\"\")","v":""},{"$f":"IFERROR(IF($C84=\"TOTAL\",SUM($F$8:F83),IF(AZ85=\"\",\"\",AZ85)),\"\")","v":""},"",{"$f":"IFERROR(IF($C84=\"TOTAL\",SUM($H$8:H83),IF(BB85=\"\",\"\",BB85)),\"\")","v":""},{"$f":"IFERROR(IF($C84=\"TOTAL\",SUM($I$8:I83),IF(BC85=\"\",\"\",BC85)),\"\")","v":""},{"$f":"IFERROR(IF($C84=\"TOTAL\",SUM($J$8:J83),IF(BD85=\"\",\"\",BD85)),\"\")","v":""},"",{"$f":"IFERROR(IF(C84=\"\",\"\",IF(D84=\"\",\"\",IF(H84=\"\",\"\",IF($C84=\"TOTAL\",SUM($L$8:L83),SUM(D84-H84))))),\"\")","v":""},{"$f":"IFERROR(IF(C84=\"\",\"\",IF(E84=\"\",\"\",IF(I84=\"\",\"\",IF($C84=\"TOTAL\",SUM($M$8:M83),SUM(E84-I84))))),\"\")","v":""},{"$f":"IFERROR(IF(C84=\"\",\"\",IF(F84=\"\",\"\",IF(J84=\"\",\"\",IF($C84=\"TOTAL\",SUM($N$8:N83),SUM(F84-J84))))),\"\")","v":""},"",{"$f":"IFERROR(IF(C84=\"\",\"\",IF($C84=\"TOTAL\",SUM($P$8:P83),IF(AND(C84>$AO$1,$AF$3=$AO$2),BR85,IF($AR$18=$AR$20,SUM(BE85+BM85),ROUND((D84+E84)*10%,0))))),\"\")","v":""},{"$f":"IFERROR(IF(C84=\"\",\"\",IF(H84=\"\",\"\",IF(I84=\"\",\"\",IF($C84=\"TOTAL\",SUM($Q$8:Q83),IF(AND(C84>$AO$1,$AF$3=$AO$2),BR85,IF($AR$18=$AR$20,$AR$21,ROUND((H84+I84)*10%,0))))))),\"\")","v":""},"",{"$f":"IFERROR(IF(C84=\"\",\"\",IF($AR$16=$AR$17,0,IF($C84=\"TOTAL\",SUM($S$8:S83),IF($AR$19=$AR$20,$AR$25,0)))),\"\")","v":""},{"$f":"IFERROR(IF(C84=\"\",\"\",IF($AR$16=$AR$17,0,IF($C84=\"TOTAL\",SUM($T$8:T83),IF($AR$19=$AR$20,$AR$24,0)))),\"\")","v":""},"",{"$f":"IF(C84=\"\",\"\",IF($C84=\"TOTAL\",SUM($V$8:V83),IF(AND($AR$2=$AR$20,C84=$AR$1),ROUND(D84/31*$AS$2,0),IF(C84=$AP$6,ROUND((G84)*1/30,0),IF(C84=$AQ$6,ROUND((G84)*1/31,0),\"\")))))","v":""},{"$f":"IF(C84=\"\",\"\",IF($C84=\"TOTAL\",SUM($W$8:W83),IF(AND($AR$2=$AR$20,C84=$AR$1),ROUND(H84/31*$AS$2,0),IF(C84=$AP$6,ROUND((K84)*1/30,0),IF(C84=$AQ$6,ROUND((K84)*1/31,0),\"\")))))","v":""},"",{"$f":"IFERROR(IF(C84=\"\",\"\",IF($AR$16=$AR$17,0,IF($AF$3=$AO$4,\"\",IF($C84=\"TOTAL\",SUM($Y$8:Y83),BU84)))),\"\")","v":""},{"$f":"IFERROR(IF(C84=\"\",\"\",IF($AR$16=$AR$17,0,IF($AF$3=$AO$4,\"\",IF($C84=\"TOTAL\",SUM($Z$8:Z83),BT84)))),\"\")","v":""},"",{"$f":"IFERROR(IF(C84=\"\",\"\",IF(AND(BK85=\"\",BR85=\"\"),\"\",IF($C84=\"TOTAL\",SUM($AB$8:AB83),BK85))),\"\")","v":""},{"$f":"IFERROR(IF(C84=\"\",\"\",IF($C84=\"TOTAL\",SUM($AC$8:AC83),ROUND(O84*$AR$7%,0))),\"\")","v":""},{"$f":"IFERROR(IF(C84=\"\",\"\",IF($C84=\"TOTAL\",SUM($AD$8:AD83),IF($AF$3=$AO$2,SUM(U84,X84,AB84,AC84),SUM(R84,U84,X84,AB84,AC84)))),\"\")","v":""},{"$f":"IFERROR(IF(C84=\"\",\"\",IF($C84=\"TOTAL\",SUM($AE$8:AE83),SUM(O84-AD84))),\"\")","v":""},{"$nulls":8},42,42,null,"2023-04-01","2023-04-01",{"$f":"IF(AND($AR$6>$AS$6),\"\",DATE(YEAR(AS83),MONTH(AS83)+1,DAY(AS83)))","v":"2029-04-01"},null,"","",{"$f":"IFERROR(IF(AV84=\"\",\"\",IF(DATE(YEAR(AV84),MONTH(AV84),DAY(AV84))=DATE(YEAR($AS$6),MONTH($AS$6)+1,DAY($AS$6)),\"TOTAL\",IF(AV84>$AS$6,\"\",AV84))),\"\")","v":""},"","","",null,"","","","",null,null,"","","","",0,0,{"$nulls":4},"",null,"",{"$f":"IF(AW85=\"\",\"\",IF(AW85=\"TOTAL\",\"\",IF($AR$16=$AR$17,0,IF(AND(AW85>$BT$1,$AF$3=$AO$2,'Master Sheet'!$D$31>0),'Master Sheet'!$D$31,IF(AND(AW85=$BT$1,$AF$3=$AO$2),IF($AR$9<18001,135,IF($AR$9<33501,220,IF($AR$9<54001,330,440))),IF(AND(AW85>$BT$1,$AF$3=$AO$2),IF($AR$9<18001,265,IF($AR$9<33501,440,IF($AR$9<54001,658,875))),\"\"))))))","v":""}]
["","","",{"$f":"IFERROR(IF($C84=\"TOTAL\",\"अक्षरें राशि :-\",IF($C85=\"TOTAL\",SUM($D$8:D84),IF(AX86=\"\",\"\",AX86))),\"\")","v":""},{"$f":"IFERROR(IF($C85=\"TOTAL\",SUM($E$8:E84),IF(AY86=\"\",\"\",AY86)),\"\")","v":""},{"$f":"IFERROR(IF($C85=\"TOTAL\",SUM($F$8:F84),IF(AZ86=\"\",\"\",AZ86)),\"\")","v":""},"",{"$f":"IFERROR(IF($C85=\"TOTAL\",SUM($H$8:H84),IF(BB86=\"\",\"\",BB86)),\"\")","v":""},{"$f":"IFERROR(IF($C85=\"TOTAL\",SUM($I$8:I84),IF(BC86=\"\",\"\",BC86)),\"\")","v":""},{"$f":"IFERROR(IF($C85=\"TOTAL\",SUM($J$8:J84),IF(BD86=\"\",\"\",BD86)),\"\")","v":""},"",{"$f":"IFERROR(IF(C85=\"\",\"\",IF(D85=\"\",\"\",IF(H85=\"\",\"\",IF($C85=\"TOTAL\",SUM($L$8:L84),SUM(D85-H85))))),\"\")","v":""},{"$f":"IFERROR(IF(C85=\"\",\"\",IF(E85=\"\",\"\",IF(I85=\"\",\"\",IF($C85=\"TOTAL\",SUM($M$8:M84),SUM(E85-I85))))),\"\")","v":""},{"$f":"IFERROR(IF(C85=\"\",\"\",IF(F85=\"\",\"\",IF(J85=\"\",\"\",IF($C85=\"TOTAL\",SUM($N$8:N84),SUM(F85-J85))))),\"\")","v":""},"",{"$f":"IFERROR(IF(C85=\"\",\"\",IF($C85=\"TOTAL\",SUM($P$8:P84),IF(AND(C85>$AO$1,$AF$3=$AO$2),BR86,IF($AR$18=$AR$20,SUM(BE86+BM86),ROUND((D85+E85)*10%,0))))),\"\")","v":""},{"$f":"IFERROR(IF(C85=\"\",\"\",IF(H85=\"\",\"\",IF(I85=\"\",\"\",IF($C85=\"TOTAL\",SUM($Q$8:Q84),IF(AND(C85>$AO$1,$AF$3=$AO$2),BR86,IF($AR$18=$AR$20,$AR$21,ROUND((H85+I85)*10%,0))))))),\"\")","v":""},"",{"$f":"IFERROR(IF(C85=\"\",\"\",IF($AR$16=$AR$17,0,IF($C85=\"TOTAL\",SUM($S$8:S84),IF($AR$19=$AR$20,$AR$25,0)))),\"\")","v":""},{"$f":"IFERROR(IF(C85=\"\",\"\",IF($AR$16=$AR$17,0,IF($C85=\"TOTAL\",SUM($T$8:T84),IF($AR$19=$AR$20,$AR$24,0)))),\"\")","v":""},"",{"$f":"IF(C85=\"\",\"\",IF($C85=\"TOTAL\",SUM($V$8:V84),IF(AND($AR$2=$AR$20,C85=$AR$1),ROUND(D85/31*$AS$2,0),IF(C85=$AP$6,ROUND((G85)*1/30,0),IF(C85=$AQ$6,ROUND((G85)*1/31,0),\"\")))))","v":""},{"$f":"IF(C85=\"\",\"\",IF($C85=\"TOTAL\",SUM($W$8:W84),IF(AND($AR$2=$AR$20,C85=$AR$1),ROUND(H85/31*$AS$2,0),IF(C85=$AP$6,ROUND((K85)*1/30,0),IF(C85=$AQ$6,ROUND((K85)*1/31,0),\"\")))))","v":""},"",{"$f":"IFERROR(IF(C85=\"\",\"\",IF($AR$16=$AR$17,0,IF($AF$3=$AO$4,\"\",IF($C85=\"TOTAL\",SUM($Y$8:Y84),BU85)))),\"\")","v":""},{"$f":"IFERROR(IF(C85=\"\",\"\",IF($AR$16=$AR$17,0,IF($AF$3=$AO$4,\"\",IF($C85=\"TOTAL\",SUM($Z$8:Z84),BT85)))),\"\")","v":""},"",{"$f":"IFERROR(IF(C85=\"\",\"\",IF(AND(BK86=\"\",BR86=\"\"),\"\",IF($C85=\"TOTAL\",SUM($AB$8:AB84),BK86))),\"\")","v":""},{"$f":"IFERROR(IF(C85=\"\",\"\",IF($C85=\"TOTAL\",SUM($AC$8:AC84),ROUND(O85*$AR$7%,0))),\"\")","v":""},{"$f":"IFERROR(IF(C85=\"\",\"\",IF($C85=\"TOTAL\",SUM($AD$8:AD84),IF($AF$3=$AO$2,SUM(U85,X85,AB85,AC85),SUM(R85,U85,X85,AB85,AC85)))),\"\")","v":""},{"$f":"IFERROR(IF(C85=\"\",\"\",IF($C85=\"TOTAL\",SUM($AE$8:AE84),SUM(O85-AD85))),\"\")","v":""},{"$nulls":8},42,42,null,"2023-05-01","2023-05-01","2029-05-01",null,"","",{"$f":"IFERROR(IF(AV85=\"\",\"\",IF(DATE(YEAR(AV85),MONTH(AV85),DAY(AV85))=DATE(YEAR($AS$6),MONTH($AS$6)+1,DAY($AS$6)),\"TOTAL\",IF(AV85>$AS$6,\"\",AV85))),\"\")","v":""},"","","",null,"","","","",null,null,"","","","",0,0,{"$nulls":4},"",null,"",{"$f":"IF(AW86=\"\",\"\",IF(AW86=\"TOTAL\",\"\",IF($AR$16=$AR$17,0,IF(AND(AW86>$BT$1,$AF$3=$AO$2,'Master Sheet'!$D$31>0),'Master Sheet'!$D$31,IF(AND(AW86=$BT$1,$AF$3=$AO$2),IF($AR$9<18001,135,IF($AR$9<33501,220,IF($AR$9<54001,330,440))),IF(AND(AW86>$BT$1,$AF$3=$AO$2),IF($AR$9<18001,265,IF($AR$9<33501,440,IF($AR$9<54001,658,875))),\"\"))))))","v":""}]
["","","",{"$f":"IFERROR(IF($C85=\"TOTAL\",\"अक्षरें राशि :-\",IF($C86=\"TOTAL\",SUM($D$8:D85),IF(AX87=\"\",\"\",AX87))),\"\")","v":""},{"$f":"IFERROR(IF($C86=\"TOTAL\",SUM($E$8:E85),IF(AY87=\"\",\"\",AY87)),\"\")","v":""},{"$f":"IFERROR(IF($C86=\"TOTAL\",SUM($F$8:F85),IF(AZ87=\"\",\"\",AZ87)),\"\")","v":""},"",{"$f":"IFERROR(IF($C86=\"TOTAL\",SUM($H$8:H85),IF(BB87=\"\",\"\",BB87)),\"\")","v":""},{"$f":"IFERROR(IF($C86=\"TOTAL\",SUM($I$8:I85),IF(BC87=\"\",\"\",BC87)),\"\")","v":""},{"$f":"IFERROR(IF($C86=\"TOTAL\",SUM($J$8:J85),IF(BD87=\"\",\"\",BD87)),\"\")","v":""},"",{"$f":"IFERROR(IF(C86=\"\",\"\",IF(D86=\"\",\"\",IF(H86=\"\",\"\",IF($C86=\"TOTAL\",SUM($L$8:L85),SUM(D86-H86))))),\"\")","v":""},{"$f":"IFERROR(IF(C86=\"\",\"\",IF(E86=\"\",\"\",IF(I86=\"\",\"\",IF($C86=\"TOTAL\",SUM($M$8:M85),SUM(E86-I86))))),\"\")","v":""},{"$f":"IFERROR(IF(C86=\"\",\"\",IF(F86=\"\",\"\",IF(J86=\"\",\"\",IF($C86=\"TOTAL\",SUM($N$8:N85),SUM(F86-J86))))),\"\")","v":""},"",{"$f":"IFERROR(IF(C86=\"\",\"\",IF($C86=\"TOTAL\",SUM($P$8:P85),IF(AND(C86>$AO$1,$AF$3=$AO$2),BR87,IF($AR$18=$AR$20,SUM(BE87+BM87),ROUND((D86+E86)*10%,0))))),\"\")","v":""},{"$f":"IFERROR(IF(C86=\"\",\"\",IF(H86=\"\",\"\",IF(I86=\"\",\"\",IF($C86=\"TOTAL\",SUM($Q$8:Q85),IF(AND(C86>$AO$1,$AF$3=$AO$2),BR87,IF($AR$18=$AR$20,$AR$21,ROUND((H86+I86)*10%,0))))))),\"\")","v":""},"",{"$f":"IFERROR(IF(C86=\"\",\"\",IF($AR$16=$AR$17,0,IF($C86=\"TOTAL\",SUM($S$8:S85),IF($AR$19=$AR$20,$AR$25,0)))),\"\")","v":""},{"$f":"IFERROR(IF(C86=\"\",\"\",IF($AR$16=$AR$17,0,IF($C86=\"TOTAL\",SUM($T$8:T85),IF($AR$19=$AR$20,$AR$24,0)))),\"\")","v":""},"",{"$f":"IF(C86=\"\",\"\",IF($C86=\"TOTAL\",SUM($V$8:V85),IF(AND($AR$2=$AR$20,C86=$AR$1),ROUND(D86/31*$AS$2,0),IF(C86=$AP$6,ROUND((G86)*1/30,0),IF(C86=$AQ$6,ROUND((G86)*1/31,0),\"\")))))","v":""},{"$f":"IF(C86=\"\",\"\",IF($C86=\"TOTAL\",SUM($W$8:W85),IF(AND($AR$2=$AR$20,C86=$AR$1),ROUND(H86/31*$AS$2,0),IF(C86=$AP$6,ROUND((K86)*1/30,0),IF(C86=$AQ$6,ROUND((K86)*1/31,0),\"\")))))","v":""},"",{"$f":"IFERROR(IF(C86=\"\",\"\",IF($AR$16=$AR$17,0,IF($AF$3=$AO$4,\"\",IF($C86=\"TOTAL\",SUM($Y$8:Y85),BU86)))),\"\")","v":""},{"$f":"IFERROR(IF(C86=\"\",\"\",IF($AR$16=$AR$17,0,IF($AF$3=$AO$4,\"\",IF($C86=\"TOTAL\",SUM($Z$8:Z85),BT86)))),\"\")","v":""},"",{"$f":"IFERROR(IF(C86=\"\",\"\",IF(AND(BK87=\"\",BR87=\"\"),\"\",IF($C86=\"TOTAL\",SUM($AB$8:AB85),BK87))),\"\")","v":""},{"$f":"IFERROR(IF(C86=\"\",\"\",IF($C86=\"TOTAL\",SUM($AC$8:AC85),ROUND(O86*$AR$7%,0))),\"\")","v":""},{"$f":"IFERROR(IF(C86=\"\",\"\",IF($C86=\"TOTAL\",SUM($AD$8:AD85),IF($AF$3=$AO$2,SUM(U86,X86,AB86,AC86),SUM(R86,U86,X86,AB86,AC86)))),\"\")","v":""},{"$f":"IFERROR(IF(C86=\"\",\"\",IF($C86=\"TOTAL\",SUM($AE$8:AE85),SUM(O86-AD86))),\"\")","v":""},{"$nulls":8},42,42,null,"2023-06-01","2023-06-01","2029-06-01",null,"","","","","","",null,"",{"$f":"IF(AW86=\"\",\"\",IF(AW86=\"TOTAL\",\"\",IF(BB86=\"\",\"\",IF($AR$16=$AR$17,0,ROUND(BB86*AO86%,0)))))","v":""},"","",null,null,"","","","",0,0,{"$nulls":4},"",null,"",{"$f":"IF(AW87=\"\",\"\",IF(AW87=\"TOTAL\",\"\",IF($AR$16=$AR$17,0,IF(AND(AW87>$BT$1,$AF$3=$AO$2,'Master Sheet'!$D$31>0),'Master Sheet'!$D$31,IF(AND(AW87=$BT$1,$AF$3=$AO$2),IF($AR$9<18001,135,IF($AR$9<33501,220,IF($AR$9<54001,330,440))),IF(AND(AW87>$BT$1,$AF$3=$AO$2),IF($AR$9<18001,265,IF($AR$9<33501,440,IF($AR$9<54001,658,875))),\"\"))))))","v":""}]
["","","",{"$f":"IFERROR(IF($C86=\"TOTAL\",\"अक्षरें राशि :-\",IF($C87=\"TOTAL\",SUM($D$8:D86),IF(AX88=\"\",\"\",AX88))),\"\")","v":""},{"$f":"IFERROR(IF($C87=\"TOTAL\",SUM($E$8:E86),IF(AY88=\"\",\"\",AY88)),\"\")","v":""},{"$f":"IFERROR(IF($C87=\"TOTAL\",SUM($F$8:F86),IF(AZ88=\"\",\"\",AZ88)),\"\")","v":""},"",{"$f":"IFERROR(IF($C87=\"TOTAL\",SUM($H$8:H86),IF(BB88=\"\",\"\",BB88)),\"\")","v":""},{"$f":"IFERROR(IF($C87=\"TOTAL\",SUM($I$8:I86),IF(BC88=\"\",\"\",BC88)),\"\")","v":""},{"$f":"IFERROR(IF($C87=\"TOTAL\",SUM($J$8:J86),IF(BD88=\"\",\"\",BD88)),\"\")","v":""},"",{"$f":"IFERROR(IF(C87=\"\",\"\",IF(D87=\"\",\"\",IF(H87=\"\",\"\",IF($C87=\"TOTAL\",SUM($L$8:L86),SUM(D87-H87))))),\"\")","v":""},{"$f":"IFERROR(IF(C87=\"\",\"\",IF(E87=\"\",\"\",IF(I87=\"\",\"\",IF($C87=\"TOTAL\",SUM($M$8:M86),SUM(E87-I87))))),\"\")","v":""},{"$f":"IFERROR(IF(C87=\"\",\"\",IF(F87=\"\",\"\",IF(J87=\"\",\"\",IF($C87=\"TOTAL\",SUM($N$8:N86),SUM(F87-J87))))),\"\")","v":""},"",{"$f":"IFERROR(IF(C87=\"\",\"\",IF($C87=\"TOTAL\",SUM($P$8:P86),IF(AND(C87>$AO$1,$AF$3=$AO$2),BR88,IF($AR$18=$AR$20,SUM(BE88+BM88),ROUND((D87+E87)*10%,0))))),\"\")","v":""},{"$f":"IFERROR(IF(C87=\"\",\"\",IF(H87=\"\",\"\",IF(I87=\"\",\"\",IF($C87=\"TOTAL\",SUM($Q$8:Q86),IF(AND(C87>$AO$1,$AF$3=$AO$2),BR88,IF($AR$18=$AR$20,$AR$21,ROUND((H87+I87)*10%,0))))))),\"\")","v":""},"",{"$f":"IFERROR(IF(C87=\"\",\"\",IF($AR$16=$AR$17,0,IF($C87=\"TOTAL\",SUM($S$8:S86),IF($AR$19=$AR$20,$AR$25,0)))),\"\")","v":""},{"$f":"IFERROR(IF(C87=\"\",\"\",IF($AR$16=$AR$17,0,IF($C87=\"TOTAL\",SUM($T$8:T86),IF($AR$19=$AR$20,$AR$24,0)))),\"\")","v":""},"",{"$f":"IF(C87=\"\",\"\",IF($C87=\"TOTAL\",SUM($V$8:V86),IF(AND($AR$2=$AR$20,C87=$AR$1),ROUND(D87/31*$AS$2,0),IF(C87=$AP$6,ROUND((G87)*1/30,0),IF(C87=$AQ$6,ROUND((G87)*1/31,0),\"\")))))","v":""},{"$f":"IF(C87=\"\",\"\",IF($C87=\"TOTAL\",SUM($W$8:W86),IF(AND($AR$2=$AR$20,C87=$AR$1),ROUND(H87/31*$AS$2,0),IF(C87=$AP$6,ROUND((K87)*1/30,0),IF(C87=$AQ$6,ROUND((K87)*1/31,0),\"\")))))","v":""},"",{"$f":"IFERROR(IF(C87=\"\",\"\",IF($AR$16=$AR$17,0,IF($AF$3=$AO$4,\"\",IF($C87=\"TOTAL\",SUM($Y$8:Y86),BU87)))),\"\")","v":""},{"$f":"IFERROR(IF(C87=\"\",\"\",IF($AR$16=$AR$17,0,IF($AF$3=$AO$4,\"\",IF($C87=\"TOTAL\",SUM($Z$8:Z86),BT87)))),\"\")","v":""},"",{"$f":"IFERROR(IF(C87=\"\",\"\",IF(AND(BK88=\"\",BR88=\"\"),\"\",IF($C87=\"TOTAL\",SUM($AB$8:AB86),BK88))),\"\")","v":""},{"$f":"IFERROR(IF(C87=\"\",\"\",IF($C87=\"TOTAL\",SUM($AC$8:AC86),ROUND(O87*$AR$7%,0))),\"\")","v":""},{"$f":"IFERROR(IF(C87=\"\",\"\",IF($C87=\"TOTAL\",SUM($AD$8:AD86),IF($AF$3=$AO$2,SUM(U87,X87,AB87,AC87),SUM(R87,U87,X87,AB87,AC87)))),\"\")","v":""},{"$f":"IFERROR(IF(C87=\"\",\"\",IF($C87=\"TOTAL\",SUM($AE$8:AE86),SUM(O87-AD87))),\"\")","v":""},{"$nulls":8},42,42,null,"2023-07-01","2023-07-01",{"$f":"IF(AND($AR$6>$AS$6),\"\",DATE(YEAR(AS86),MONTH(AS86)+1,DAY(AS86)))","v":"2029-07-01"},null,"","","","","","",null,"","","","",null,null,"","","","",0,0,{"$nulls":4},"",null,"",{"$f":"IF(AW88=\"\",\"\",IF(AW88=\"TOTAL\",\"\",IF($AR$16=$AR$17,0,IF(AND(AW88>$BT$1,$AF$3=$AO$2,'Master Sheet'!$D$31>0),'Master Sheet'!$D$31,IF(AND(AW88=$BT$1,$AF$3=$AO$2),IF($AR$9<18001,135,IF($AR$9<33501,220,IF($AR$9<54001,330,440))),IF(AND(AW88>$BT$1,$AF$3=$AO$2),IF($AR$9<18001,265,IF($AR$9<33501,440,IF($AR$9<54001,658,875))),\"\"))))))","v":""}]
["",{"$f":"IFERROR(IF(A88=\"\",\"\",IF(A88=0,\"\",A88)),\"\")","v":""},{"$f":"IFERROR(IF(AW89=\"\",\"\",AW89),\"\")","v":""},{"$f":"IFERROR(IF($C87=\"TOTAL\",\"अक्षरें राशि :-\",IF($C88=\"TOTAL\",SUM($D$8:D87),IF(AX89=\"\",\"\",AX89))),\"\")","v":""},{"$f":"IFERROR(IF($C88=\"TOTAL\",SUM($E$8:E87),IF(AY89=\"\",\"\",AY89)),\"\")","v":""},{"$f":"IFERROR(IF($C88=\"TOTAL\",SUM($F$8:F87),IF(AZ89=\"\",\"\",AZ89)),\"\")","v":""},"",{"$f":"IFERROR(IF($C88=\"TOTAL\",SUM($H$8:H87),IF(BB89=\"\",\"\",BB89)),\"\")","v":""},{"$f":"IFERROR(IF($C88=\"TOTAL\",SUM($I$8:I87),IF(BC89=\"\",\"\",BC89)),\"\")","v":""},{"$f":"IFERROR(IF($C88=\"TOTAL\",SUM($J$8:J87),IF(BD89=\"\",\"\",BD89)),\"\")","v":""},"",{"$f":"IFERROR(IF(C88=\"\",\"\",IF(D88=\"\",\"\",IF(H88=\"\",\"\",IF($C88=\"TOTAL\",SUM($L$8:L87),SUM(D88-H88))))),\"\")","v":""},{"$f":"IFERROR(IF(C88=\"\",\"\",IF(E88=\"\",\"\",IF(I88=\"\",\"\",IF($C88=\"TOTAL\",SUM($M$8:M87),SUM(E88-I88))))),\"\")","v":""},{"$f":"IFERROR(IF(C88=\"\",\"\",IF(F88=\"\",\"\",IF(J88=\"\",\"\",IF($C88=\"TOTAL\",SUM($N$8:N87),SUM(F88-J88))))),\"\")","v":""},"",{"$f":"IFERROR(IF(C88=\"\",\"\",IF($C88=\"TOTAL\",SUM($P$8:P87),IF(AND(C88>$AO$1,$AF$3=$AO$2),BR89,IF($AR$18=$AR$20,SUM(BE89+BM89),ROUND((D88+E88)*10%,0))))),\"\")","v":""},{"$f":"IFERROR(IF(C88=\"\",\"\",IF(H88=\"\",\"\",IF(I88=\"\",\"\",IF($C88=\"TOTAL\",SUM($Q$8:Q87),IF(AND(C88>$AO$1,$AF$3=$AO$2),BR89,IF($AR$18=$AR$20,$AR$21,ROUND((H88+I88)*10%,0))))))),\"\")","v":""},"",{"$f":"IFERROR(IF(C88=\"\",\"\",IF($AR$16=$AR$17,0,IF($C88=\"TOTAL\",SUM($S$8:S87),IF($AR$19=$AR$20,$AR$25,0)))),\"\")","v":""},{"$f":"IFERROR(IF(C88=\"\",\"\",IF($AR$16=$AR$17,0,IF($C88=\"TOTAL\",SUM($T$8:T87),IF($AR$19=$AR$20,$AR$24,0)))),\"\")","v":""},"",{"$f":"IF(C88=\"\",\"\",IF($C88=\"TOTAL\",SUM($V$8:V87),IF(AND($AR$2=$AR$20,C88=$AR$1),ROUND(D88/31*$AS$2,0),IF(C88=$AP$6,ROUND((G88)*1/30,0),IF(C88=$AQ$6,ROUND((G88)*1/31,0),\"\")))))","v":""},{"$f":"IF(C88=\"\",\"\",IF($C88=\"TOTAL\",SUM($W$8:W87),IF(AND($AR$2=$AR$20,C88=$AR$1),ROUND(H88/31*$AS$2,0),IF(C88=$AP$6,ROUND((K88)*1/30,0),IF(C88=$AQ$6,ROUND((K88)*1/31,0),\"\")))))","v":""},"",{"$f":"IFERROR(IF(C88=\"\",\"\",IF($AR$16=$AR$17,0,IF($AF$3=$AO$4,\"\",IF($C88=\"TOTAL\",SUM($Y$8:Y87),BU88)))),\"\")","v":""},{"$f":"IFERROR(IF(C88=\"\",\"\",IF($AR$16=$AR$17,0,IF($AF$3=$AO$4,\"\",IF($C88=\"TOTAL\",SUM($Z$8:Z87),BT88)))),\"\")","v":""},"",{"$f":"IFERROR(IF(C88=\"\",\"\",IF(AND(BK89=\"\",BR89=\"\"),\"\",IF($C88=\"TOTAL\",SUM($AB$8:AB87),BK89))),\"\")","v":""},{"$f":"IFERROR(IF(C88=\"\",\"\",IF($C88=\"TOTAL\",SUM($AC$8:AC87),ROUND(O88*$AR$7%,0))),\"\")","v":""},{"$f":"IFERROR(IF(C88=\"\",\"\",IF($C88=\"TOTAL\",SUM($AD$8:AD87),IF($AF$3=$AO$2,SUM(U88,X88,AB88,AC88),SUM(R88,U88,X88,AB88,AC88)))),\"\")","v":""},{"$f":"IFERROR(IF(C88=\"\",\"\",IF($C88=\"TOTAL\",SUM($AE$8:AE87),SUM(O88-AD88))),\"\")","v":""},{"$nulls":8},42,42,null,"2023-08-01","2023-08-01",{"$f":"IF(AND($AR$6>$AS$6),\"\",DATE(YEAR(AS87),MONTH(AS87)+1,DAY(AS87)))","v":"2029-08-01"},null,"","","","","","",null,"","","","",null,null,"","","","",0,0,{"$nulls":4},"",null,"",{"$f":"IF(AW89=\"\",\"\",IF(AW89=\"TOTAL\",\"\",IF($AR$16=$AR$17,0,IF(AND(AW89>$BT$1,$AF$3=$AO$2,'Master Sheet'!$D$31>0),'Master Sheet'!$D$31,IF(AND(AW89=$BT$1,$AF$3=$AO$2),IF($AR$9<18001,135,IF($AR$9<33501,220,IF($AR$9<54001,330,440))),IF(AND(AW89>$BT$1,$AF$3=$AO$2),IF($AR$9<18001,265,IF($AR$9<33501,440,IF($AR$9<54001,658,875))),\"\"))))))","v":""}]
["","","",{"$f":"IFERROR(IF($C88=\"TOTAL\",\"अक्षरें राशि :-\",IF($C89=\"TOTAL\",SUM($D$8:D88),IF(AX90=\"\",\"\",AX90))),\"\")","v":""},{"$f":"IFERROR(IF($C89=\"TOTAL\",SUM($E$8:E88),IF(AY90=\"\",\"\",AY90)),\"\")","v":""},{"$f":"IFERROR(IF($C89=\"TOTAL\",SUM($F$8:F88),IF(AZ90=\"\",\"\",AZ90)),\"\")","v":""},"",{"$f":"IFERROR(IF($C89=\"TOTAL\",SUM($H$8:H88),IF(BB90=\"\",\"\",BB90)),\"\")","v":""},{"$f":"IFERROR(IF($C89=\"TOTAL\",SUM($I$8:I88),IF(BC90=\"\",\"\",BC90)),\"\")","v":""},{"$f":"IFERROR(IF($C89=\"TOTAL\",SUM($J$8:J88),IF(BD90=\"\",\"\",BD90)),\"\")","v":""},"",{"$f":"IFERROR(IF(C89=\"\",\"\",IF(D89=\"\",\"\",IF(H89=\"\",\"\",IF($C89=\"TOTAL\",SUM($L$8:L88),SUM(D89-H89))))),\"\")","v":""},{"$f":"IFERROR(IF(C89=\"\",\"\",IF(E89=\"\",\"\",IF(I89=\"\",\"\",IF($C89=\"TOTAL\",SUM($M$8:M88),SUM(E89-I89))))),\"\")","v":""},{"$f":"IFERROR(IF(C89=\"\",\"\",IF(F89=\"\",\"\",IF(J89=\"\",\"\",IF($C89=\"TOTAL\",SUM($N$8:N88),SUM(F89-J89))))),\"\")","v":""},"",{"$f":"IFERROR(IF(C89=\"\",\"\",IF($C89=\"TOTAL\",SUM($P$8:P88),IF(AND(C89>$AO$1,$AF$3=$AO$2),BR90,IF($AR$18=$AR$20,SUM(BE90+BM90),ROUND((D89+E89)*10%,0))))),\"\")","v":""},{"$f":"IFERROR(IF(C89=\"\",\"\",IF(H89=\"\",\"\",IF(I89=\"\",\"\",IF($C89=\"TOTAL\",SUM($Q$8:Q88),IF(AND(C89>$AO$1,$AF$3=$AO$2),BR90,IF($AR$18=$AR$20,$AR$21,ROUND((H89+I89)*10%,0))))))),\"\")","v":""},"",{"$f":"IFERROR(IF(C89=\"\",\"\",IF($AR$16=$AR$17,0,IF($C89=\"TOTAL\",SUM($S$8:S88),IF($AR$19=$AR$20,$AR$25,0)))),\"\")","v":""},{"$f":"IFERROR(IF(C89=\"\",\"\",IF($AR$16=$AR$17,0,IF($C89=\"TOTAL\",SUM($T$8:T88),IF($AR$19=$AR$20,$AR$24,0)))),\"\")","v":""},"",{"$f":"IF(C89=\"\",\"\",IF($C89=\"TOTAL\",SUM($V$8:V88),IF(AND($AR$2=$AR$20,C89=$AR$1),ROUND(D89/31*$AS$2,0),IF(C89=$AP$6,ROUND((G89)*1/30,0),IF(C89=$AQ$6,ROUND((G89)*1/31,0),\"\")))))","v":""},{"$f":"IF(C89=\"\",\"\",IF($C89=\"TOTAL\",SUM($W$8:W88),IF(AND($AR$2=$AR$20,C89=$AR$1),ROUND(H89/31*$AS$2,0),IF(C89=$AP$6,ROUND((K89)*1/30,0),IF(C89=$AQ$6,ROUND((K89)*1/31,0),\"\")))))","v":""},"",{"$f":"IFERROR(IF(C89=\"\",\"\",IF($AR$16=$AR$17,0,IF($AF$3=$AO$4,\"\",IF($C89=\"TOTAL\",SUM($Y$8:Y88),BU89)))),\"\")","v":""},{"$f":"IFERROR(IF(C89=\"\",\"\",IF($AR$16=$AR$17,0,IF($AF$3=$AO$4,\"\",IF($C89=\"TOTAL\",SUM($Z$8:Z88),BT89)))),\"\")","v":""},"",{"$f":"IFERROR(IF(C89=\"\",\"\",IF(AND(BK90=\"\",BR90=\"\"),\"\",IF($C89=\"TOTAL\",SUM($AB$8:AB88),BK90))),\"\")","v":""},{"$f":"IFERROR(IF(C89=\"\",\"\",IF($C89=\"TOTAL\",SUM($AC$8:AC88),ROUND(O89*$AR$7%,0))),\"\")","v":""},{"$f":"IFERROR(IF(C89=\"\",\"\",IF($C89=\"TOTAL\",SUM($AD$8:AD88),IF($AF$3=$AO$2,SUM(U89,X89,AB89,AC89),SUM(R89,U89,X89,AB89,AC89)))),\"\")","v":""},{"$f":"IFERROR(IF(C89=\"\",\"\",IF($C89=\"TOTAL\",SUM($AE$8:AE88),SUM(O89-AD89))),\"\")","v":""},{"$nulls":8},42,42,null,"2023-09-01","2023-09-01","2029-09-01",null,"","","","","","",null,"","","","",null,null,"","","","",0,0,{"$nulls":4},"",null,"",{"$f":"IF(AW90=\"\",\"\",IF(AW90=\"TOTAL\",\"\",IF($AR$16=$AR$17,0,IF(AND(AW90>$BT$1,$AF$3=$AO$2,'Master Sheet'!$D$31>0),'Master Sheet'!$D$31,IF(AND(AW90=$BT$1,$AF$3=$AO$2),IF($AR$9<18001,135,IF($AR$9<33501,220,IF($AR$9<54001,330,440))),IF(AND(AW90>$BT$1,$AF$3=$AO$2),IF($AR$9<18001,265,IF($AR$9<33501,440,IF($AR$9<54001,658,875))),\"\"))))))","v":""}]
["",{"$f":"IFERROR(IF(A90=\"\",\"\",IF(A90=0,\"\",A90)),\"\")","v":""},"",{"$f":"IFERROR(IF($C89=\"TOTAL\",\"अक्षरें राशि :-\",IF($C90=\"TOTAL\",SUM($D$8:D89),IF(AX91=\"\",\"\",AX91))),\"\")","v":""},{"$f":"IFERROR(IF($C90=\"TOTAL\",SUM($E$8:E89),IF(AY91=\"\",\"\",AY91)),\"\")","v":""},{"$f":"IFERROR(IF($C90=\"TOTAL\",SUM($F$8:F89),IF(AZ91=\"\",\"\",AZ91)),\"\")","v":""},"",{"$f":"IFERROR(IF($C90=\"TOTAL\",SUM($H$8:H89),IF(BB91=\"\",\"\",BB91)),\"\")","v":""},{"$f":"IFERROR(IF($C90=\"TOTAL\",SUM($I$8:I89),IF(BC91=\"\",\"\",BC91)),\"\")","v":""},{"$f":"IFERROR(IF($C90=\"TOTAL\",SUM($J$8:J89),IF(BD91=\"\",\"\",BD91)),\"\")","v":""},"",{"$f":"IFERROR(IF(C90=\"\",\"\",IF(D90=\"\",\"\",IF(H90=\"\",\"\",IF($C90=\"TOTAL\",SUM($L$8:L89),SUM(D90-H90))))),\"\")","v":""},{"$f":"IFERROR(IF(C90=\"\",\"\",IF(E90=\"\",\"\",IF(I90=\"\",\"\",IF($C90=\"TOTAL\",SUM($M$8:M89),SUM(E90-I90))))),\"\")","v":""},{"$f":"IFERROR(IF(C90=\"\",\"\",IF(F90=\"\",\"\",IF(J90=\"\",\"\",IF($C90=\"TOTAL\",SUM($N$8:N89),SUM(F90-J90))))),\"\")","v":""},"",{"$f":"IFERROR(IF(C90=\"\",\"\",IF($C90=\"TOTAL\",SUM($P$8:P89),IF(AND(C90>$AO$1,$AF$3=$AO$2),BR91,IF($AR$18=$AR$20,SUM(BE91+BM91),ROUND((D90+E90)*10%,0))))),\"\")","v":""},{"$f":"IFERROR(IF(C90=\"\",\"\",IF(H90=\"\",\"\",IF(I90=\"\",\"\",IF($C90=\"TOTAL\",SUM($Q$8:Q89),IF(AND(C90>$AO$1,$AF$3=$AO$2),BR91,IF($AR$18=$AR$20,$AR$21,ROUND((H90+I90)*10%,0))))))),\"\")","v":""},"",{"$f":"IFERROR(IF(C90=\"\",\"\",IF($AR$16=$AR$17,0,IF($C90=\"TOTAL\",SUM($S$8:S89),IF($AR$19=$AR$20,$AR$25,0)))),\"\")","v":""},{"$f":"IFERROR(IF(C90=\"\",\"\",IF($AR$16=$AR$17,0,IF($C90=\"TOTAL\",SUM($T$8:T89),IF($AR$19=$AR$20,$AR$24,0)))),\"\")","v":""},"",{"$f":"IF(C90=\"\",\"\",IF($C90=\"TOTAL\",SUM($V$8:V89),IF(AND($AR$2=$AR$20,C90=$AR$1),ROUND(D90/31*$AS$2,0),IF(C90=$AP$6,ROUND((G90)*1/30,0),IF(C90=$AQ$6,ROUND((G90)*1/31,0),\"\")))))","v":""},{"$f":"IF(C90=\"\",\"\",IF($C90=\"TOTAL\",SUM($W$8:W89),IF(AND($AR$2=$AR$20,C90=$AR$1),ROUND(H90/31*$AS$2,0),IF(C90=$AP$6,ROUND((K90)*1/30,0),IF(C90=$AQ$6,ROUND((K90)*1/31,0),\"\")))))","v":""},"",{"$f":"IFERROR(IF(C90=\"\",\"\",IF($AR$16=$AR$17,0,IF($AF$3=$AO$4,\"\",IF($C90=\"TOTAL\",SUM($Y$8:Y89),BU90)))),\"\")","v":""},{"$f":"IFERROR(IF(C90=\"\",\"\",IF($AR$16=$AR$17,0,IF($AF$3=$AO$4,\"\",IF($C90=\"TOTAL\",SUM($Z$8:Z89),BT90)))),\"\")","v":""},"",{"$f":"IFERROR(IF(C90=\"\",\"\",IF(AND(BK91=\"\",BR91=\"\"),\"\",IF($C90=\"TOTAL\",SUM($AB$8:AB89),BK91))),\"\")","v":""},{"$f":"IFERROR(IF(C90=\"\",\"\",IF($C90=\"TOTAL\",SUM($AC$8:AC89),ROUND(O90*$AR$7%,0))),\"\")","v":""},{"$f":"IFERROR(IF(C90=\"\",\"\",IF($C90=\"TOTAL\",SUM($AD$8:AD89),IF($AF$3=$AO$2,SUM(U90,X90,AB90,AC90),SUM(R90,U90,X90,AB90,AC90)))),\"\")","v":""},{"$f":"IFERROR(IF(C90=\"\",\"\",IF($C90=\"TOTAL\",SUM($AE$8:AE89),SUM(O90-AD90))),\"\")","v":""},{"$nulls":8},42,42,null,"2023-10-01","2023-10-01","2029-10-01",null,"","","","","","",null,"","","","",null,null,"","","","",0,0,{"$nulls":4},"",null,"",{"$f":"IF(AW91=\"\",\"\",IF(AW91=\"TOTAL\",\"\",IF($AR$16=$AR$17,0,IF(AND(AW91>$BT$1,$AF$3=$AO$2,'Master Sheet'!$D$31>0),'Master Sheet'!$D$31,IF(AND(AW91=$BT$1,$AF$3=$AO$2),IF($AR$9<18001,135,IF($AR$9<33501,220,IF($AR$9<54001,330,440))),IF(AND(AW91>$BT$1,$AF$3=$AO$2),IF($AR$9<18001,265,IF($AR$9<33501,440,IF($AR$9<54001,658,875))),\"\"))))))","v":""}]
[{"$f":"IF(C91=\"TOTAL\",\"\",IF(B90=\"\",\"\",IF(LEN(C91)>=2,B90+1,0)))","v":""},"","",{"$f":"IFERROR(IF($C90=\"TOTAL\",\"अक्षरें राशि :-\",IF($C91=\"TOTAL\",SUM($D$8:D90),IF(AX92=\"\",\"\",AX92))),\"\")","v":""},{"$f":"IFERROR(IF($C91=\"TOTAL\",SUM($E$8:E90),IF(AY92=\"\",\"\",AY92)),\"\")","v":""},{"$f":"IFERROR(IF($C91=\"TOTAL\",SUM($F$8:F90),IF(AZ92=\"\",\"\",AZ92)),\"\")","v":""},"",{"$f":"IFERROR(IF($C91=\"TOTAL\",SUM($H$8:H90),IF(BB92=\"\",\"\",BB92)),\"\")","v":""},{"$f":"IFERROR(IF($C91=\"TOTAL\",SUM($I$8:I90),IF(BC92=\"\",\"\",BC92)),\"\")","v":""},{"$f":"IFERROR(IF($C91=\"TOTAL\",SUM($J$8:J90),IF(BD92=\"\",\"\",BD92)),\"\")","v":""},"",{"$f":"IFERROR(IF(C91=\"\",\"\",IF(D91=\"\",\"\",IF(H91=\"\",\"\",IF($C91=\"TOTAL\",SUM($L$8:L90),SUM(D91-H91))))),\"\")","v":""},{"$f":"IFERROR(IF(C91=\"\",\"\",IF(E91=\"\",\"\",IF(I91=\"\",\"\",IF($C91=\"TOTAL\",SUM($M$8:M90),SUM(E91-I91))))),\"\")","v":""},{"$f":"IFERROR(IF(C91=\"\",\"\",IF(F91=\"\",\"\",IF(J91=\"\",\"\",IF($C91=\"TOTAL\",SUM($N$8:N90),SUM(F91-J91))))),\"\")","v":""},"",{"$f":"IFERROR(IF(C91=\"\",\"\",IF($C91=\"TOTAL\",SUM($P$8:P90),IF(AND(C91>$AO$1,$AF$3=$AO$2),BR92,IF($AR$18=$AR$20,SUM(BE92+BM92),ROUND((D91+E91)*10%,0))))),\"\")","v":""},{"$f":"IFERROR(IF(C91=\"\",\"\",IF(H91=\"\",\"\",IF(I91=\"\",\"\",IF($C91=\"TOTAL\",SUM($Q$8:Q90),IF(AND(C91>$AO$1,$AF$3=$AO$2),BR92,IF($AR$18=$AR$20,$AR$21,ROUND((H91+I91)*10%,0))))))),\"\")","v":""},"",{"$f":"IFERROR(IF(C91=\"\",\"\",IF($AR$16=$AR$17,0,IF($C91=\"TOTAL\",SUM($S$8:S90),IF($AR$19=$AR$20,$AR$25,0)))),\"\")","v":""},{"$f":"IFERROR(IF(C91=\"\",\"\",IF($AR$16=$AR$17,0,IF($C91=\"TOTAL\",SUM($T$8:T90),IF($AR$19=$AR$20,$AR$24,0)))),\"\")","v":""},"",{"$f":"IF(C91=\"\",\"\",IF($C91=\"TOTAL\",SUM($V$8:V90),IF(AND($AR$2=$AR$20,C91=$AR$1),ROUND(D91/31*$AS$2,0),IF(C91=$AP$6,ROUND((G91)*1/30,0),IF(C91=$AQ$6,ROUND((G91)*1/31,0),\"\")))))","v":""},{"$f":"IF(C91=\"\",\"\",IF($C91=\"TOTAL\",SUM($W$8:W90),IF(AND($AR$2=$AR$20,C91=$AR$1),ROUND(H91/31*$AS$2,0),IF(C91=$AP$6,ROUND((K91)*1/30,0),IF(C91=$AQ$6,ROUND((K91)*1/31,0),\"\")))))","v":""},"",{"$f":"IFERROR(IF(C91=\"\",\"\",IF($AR$16=$AR$17,0,IF($AF$3=$AO$4,\"\",IF($C91=\"TOTAL\",SUM($Y$8:Y90),BU91)))),\"\")","v":""},{"$f":"IFERROR(IF(C91=\"\",\"\",IF($AR$16=$AR$17,0,IF($AF$3=$AO$4,\"\",IF($C91=\"TOTAL\",SUM($Z$8:Z90),BT91)))),\"\")","v":""},"",{"$f":"IFERROR(IF(C91=\"\",\"\",IF(AND(BK92=\"\",BR92=\"\"),\"\",IF($C91=\"TOTAL\",SUM($AB$8:AB90),BK92))),\"\")","v":""},{"$f":"IFERROR(IF(C91=\"\",\"\",IF($C91=\"TOTAL\",SUM($AC$8:AC90),ROUND(O91*$AR$7%,0))),\"\")","v":""},{"$f":"IFERROR(IF(C91=\"\",\"\",IF($C91=\"TOTAL\",SUM($AD$8:AD90),IF($AF$3=$AO$2,SUM(U91,X91,AB91,AC91),SUM(R91,U91,X91,AB91,AC91)))),\"\")","v":""},{"$f":"IFERROR(IF(C91=\"\",\"\",IF($C91=\"TOTAL\",SUM($AE$8:AE90),SUM(O91-AD91))),\"\")","v":""},{"$nulls":8},42,42,null,"2023-11-01","2023-11-01","2029-11-01",null,"","","",{"$f":"IFERROR(IF(AW91=\"\",\"\",IF(AND($AR$20=$AR$28,$AR$30=AW91),$AR$29,IF(OR(AW91=$AZ$2,AW91=$AZ$3,AW91=$AZ$4,AW91=$AZ$5,AW91=$AZ$6,AW91=$AZ$7,AW91=$BA$2),MROUND(AX90*1.03,100),AX90))),\"\")","v":""},{"$f":"IF(AW91=\"\",\"\",IF(AW91=\"TOTAL\",\"\",ROUND(AX91*AN91%,0)))","v":""},{"$f":"IF(AW91=\"\",\"\",IF(AW91=\"TOTAL\",\"\",IF(AW91>=$AY$7,ROUND(AX91*$AX$7%,0),ROUND(AX91*$AT$7%,0))))","v":""},null,{"$f":"IFERROR(IF(AW91=\"\",\"\",IF(AW91=\"TOTAL\",\"\",IF($AR$16=$AR$17,$AR$10,IF(OR(AW91=$AZ$2,AW91=$AZ$3,AW91=$AZ$4,AW91=$AZ$5,AW91=$AZ$6,AW91=$AZ$7,AW91=$BA$2),MROUND(BB90*1.03,100),BB90)))),\"\")","v":""},{"$f":"IF(AW91=\"\",\"\",IF(AW91=\"TOTAL\",\"\",IF(BB91=\"\",\"\",IF($AR$16=$AR$17,0,ROUND(BB91*AO91%,0)))))","v":""},{"$f":"IF(AW91=\"\",\"\",IF(AW91=\"TOTAL\",\"\",IF(BB91=\"\",\"\",IF($AR$16=$AR$17,0,IF(AW91>=$AY$7,ROUND(BB91*$AX$7%,0),ROUND(BB91*$AT$7%,0))))))","v":""},{"$f":"IF(AW91=\"\",\"\",IF(AW91=\"TOTAL\",\"\",IF(BB91=\"\",\"\",IF($AR$16=$AR$17,0,IF(OR(C90=$AP$16,C90=$AP$17,C90=$AP$18,C90=$AP$19,C90=$AP$20,C90=$AP$21,C90=$AP$22,C90=$AP$23,C90=$AP$24),SUM(BH91+BI91),BI91)))))","v":""},null,null,{"$f":"IF(AW91=\"\",\"\",IF(AW91=\"TOTAL\",\"\",IF(BB91=\"\",\"\",SUM(O90)-SUM((BI91-$AR$21)+SUM(U90,X90,AC90)))))","v":""},{"$f":"IF(AW90=\"\",\"\",IF(AW90=\"TOTAL\",\"\",IF(AND($AR$20=$AR$36,C91=$AR$37),$AR$38,BI90)))","v":""},{"$f":"IF(OR(AW91=$AQ$63,AW91=$AQ$64,AW91=$AQ$65),\"YES\",\"\")","v":""},{"$f":"IF(BJ91=\"\",\"\",IF($AR$16=$AR$17,ROUND((D90)*3%,0),IF(OR(AW91=$AQ$63,AW91=$AQ$64,AW91=$AQ$65),SUM(ROUND((D90-H90)*3%,0)),IF(OR(AW91=$AQ$69,AW91=$AQ$70,AW91=$AQ$71),SUM(ROUND((D90-H90)*3%,0)),\"\"))))","v":""},{"$f":"IFERROR(IF(AND($AR$16=$AR$17,BJ91=\"YES\"),ROUND(ROUND(D90*3%,0)*10%,0),IF(AND($AR$16=$AR$15,BJ91=\"YES\",$AP$7=\"NO\"),ROUND(ROUND((L90+H90)*3%,0)*10%,0),IF(AND($AR$16=$AR$15,BJ91=\"YES\",$AP$7=\"YES\"),ROUND(ROUND((L90+M90)*3%,0)*10%,0),0))),\"\")","v":0},{"$f":"IF(AND($AR$16=$AR$17,BJ91=\"YES\"),ROUND(D90*3%,0),IF(AND($AR$16=$AR$15,BJ91=\"YES\",$AP$7=\"NO\"),ROUND((L90+H90)*3%,0),IF(AND($AR$16=$AR$15,BJ91=\"YES\",$AP$7=\"YES\"),ROUND((L90+M90)*3%,0),0)))","v":0},{"$nulls":4},{"$f":"IF(AW91=\"\",\"\",IF(AW91=\"TOTAL\",\"\",IF(AND(AW91>$AO$1,$AF$3=$AO$2),$AV$1,\"\")))","v":""},null,{"$f":"IF(AW92=\"\",\"\",IF(AW92=\"TOTAL\",\"\",IF($AR$16=$AR$17,0,IF(AND(AW92=$BT$1,$AF$3=$AO$2),IF($AR$14<18001,135,IF($AR$14<33501,220,IF($AR$14<54001,330,440))),IF(AND(AW92>$BT$1,$AF$3=$AO$2),IF($AR$14<18001,265,IF($AR$14<33501,440,IF($AR$14<54001,658,875))),\"\")))))","v":""},{"$f":"IF(AW92=\"\",\"\",IF(AW92=\"TOTAL\",\"\",IF($AR$16=$AR$17,0,IF(AND(AW92>$BT$1,$AF$3=$AO$2,'Master Sheet'!$D$31>0),'Master Sheet'!$D$31,IF(AND(AW92=$BT$1,$AF$3=$AO$2),IF($AR$9<18001,135,IF($AR$9<33501,220,IF($AR$9<54001,330,440))),IF(AND(AW92>$BT$1,$AF$3=$AO$2),IF($AR$9<18001,265,IF($AR$9<33501,440,IF($AR$9<54001,658,875))),\"\"))))))","v":""}]
["","","",{"$f":"IFERROR(IF($C91=\"TOTAL\",\"अक्षरें राशि :-\",IF($C92=\"TOTAL\",SUM($D$8:D91),IF(AX93=\"\",\"\",AX93))),\"\")","v":""},{"$f":"IFERROR(IF($C92=\"TOTAL\",SUM($E$8:E91),IF(AY93=\"\",\"\",AY93)),\"\")","v":""},{"$f":"IFERROR(IF($C92=\"TOTAL\",SUM($F$8:F91),IF(AZ93=\"\",\"\",AZ93)),\"\")","v":""},"",{"$f":"IFERROR(IF($C92=\"TOTAL\",SUM($H$8:H91),IF(BB93=\"\",\"\",BB93)),\"\")","v":""},{"$f":"IFERROR(IF($C92=\"TOTAL\",SUM($I$8:I91),IF(BC93=\"\",\"\",BC93)),\"\")","v":""},{"$f":"IFERROR(IF($C92=\"TOTAL\",SUM($J$8:J91),IF(BD93=\"\",\"\",BD93)),\"\")","v":""},"",{"$f":"IFERROR(IF(C92=\"\",\"\",IF(D92=\"\",\"\",IF(H92=\"\",\"\",IF($C92=\"TOTAL\",SUM($L$8:L91),SUM(D92-H92))))),\"\")","v":""},{"$f":"IFERROR(IF(C92=\"\",\"\",IF(E92=\"\",\"\",IF(I92=\"\",\"\",IF($C92=\"TOTAL\",SUM($M$8:M91),SUM(E92-I92))))),\"\")","v":""},{"$f":"IFERROR(IF(C92=\"\",\"\",IF(F92=\"\",\"\",IF(J92=\"\",\"\",IF($C92=\"TOTAL\",SUM($N$8:N91),SUM(F92-J92))))),\"\")","v":""},"",{"$f":"IFERROR(IF(C92=\"\",\"\",IF($C92=\"TOTAL\",SUM($P$8:P91),IF(AND(C92>$AO$1,$AF$3=$AO$2),BR93,IF($AR$18=$AR$20,SUM(BE93+BM93),ROUND((D92+E92)*10%,0))))),\"\")","v":""},{"$f":"IFERROR(IF(C92=\"\",\"\",IF(H92=\"\",\"\",IF(I92=\"\",\"\",IF($C92=\"TOTAL\",SUM($Q$8:Q91),IF(AND(C92>$AO$1,$AF$3=$AO$2),BR93,IF($AR$18=$AR$20,$AR$21,ROUND((H92+I92)*10%,0))))))),\"\")","v":""},"",{"$f":"IFERROR(IF(C92=\"\",\"\",IF($AR$16=$AR$17,0,IF($C92=\"TOTAL\",SUM($S$8:S91),IF($AR$19=$AR$20,$AR$25,0)))),\"\")","v":""},{"$f":"IFERROR(IF(C92=\"\",\"\",IF($AR$16=$AR$17,0,IF($C92=\"TOTAL\",SUM($T$8:T91),IF($AR$19=$AR$20,$AR$24,0)))),\"\")","v":""},"",{"$f":"IF(C92=\"\",\"\",IF($C92=\"TOTAL\",SUM($V$8:V91),IF(AND($AR$2=$AR$20,C92=$AR$1),ROUND(D92/31*$AS$2,0),IF(C92=$AP$6,ROUND((G92)*1/30,0),IF(C92=$AQ$6,ROUND((G92)*1/31,0),\"\")))))","v":""},{"$f":"IF(C92=\"\",\"\",IF($C92=\"TOTAL\",SUM($W$8:W91),IF(AND($AR$2=$AR$20,C92=$AR$1),ROUND(H92/31*$AS$2,0),IF(C92=$AP$6,ROUND((K92)*1/30,0),IF(C92=$AQ$6,ROUND((K92)*1/31,0),\"\")))))","v":""},"",{"$f":"IFERROR(IF(C92=\"\",\"\",IF($AR$16=$AR$17,0,IF($AF$3=$AO$4,\"\",IF($C92=\"TOTAL\",SUM($Y$8:Y91),BU92)))),\"\")","v":""},{"$f":"IFERROR(IF(C92=\"\",\"\",IF($AR$16=$AR$17,0,IF($AF$3=$AO$4,\"\",IF($C92=\"TOTAL\",SUM($Z$8:Z91),BT92)))),\"\")","v":""},"",{"$f":"IFERROR(IF(C92=\"\",\"\",IF(AND(BK93=\"\",BR93=\"\"),\"\",IF($C92=\"TOTAL\",SUM($AB$8:AB91),BK93))),\"\")","v":""},{"$f":"IFERROR(IF(C92=\"\",\"\",IF($C92=\"TOTAL\",SUM($AC$8:AC91),ROUND(O92*$AR$7%,0))),\"\")","v":""},{"$f":"IFERROR(IF(C92=\"\",\"\",IF($C92=\"TOTAL\",SUM($AD$8:AD91),IF($AF$3=$AO$2,SUM(U92,X92,AB92,AC92),SUM(R92,U92,X92,AB92,AC92)))),\"\")","v":""},{"$f":"IFERROR(IF(C92=\"\",\"\",IF($C92=\"TOTAL\",SUM($AE$8:AE91),SUM(O92-AD92))),\"\")","v":""},{"$nulls":8},42,42,null,"2023-12-01","2023-12-01",{"$f":"IF(AND($AR$6>$AS$6),\"\",DATE(YEAR(AS91),MONTH(AS91)+1,DAY(AS91)))","v":"2029-12-01"},null,"",{"$f":"IFERROR(IF(AND(AT92=\"\",AU92=\"\"),\"\",IF(AT92=\"\",AU92,AT92)),\"\")","v":""},{"$f":"IFERROR(IF(AV92=\"\",\"\",IF(DATE(YEAR(AV92),MONTH(AV92),DAY(AV92))=DATE(YEAR($AS$6),MONTH($AS$6)+1,DAY($AS$6)),\"TOTAL\",IF(AV92>$AS$6,\"\",AV92))),\"\")","v":""},"","","",null,"","","","",null,null,"","","","",0,0,{"$nulls":4},"",null,"",{"$f":"IF(AW93=\"\",\"\",IF(AW93=\"TOTAL\",\"\",IF($AR$16=$AR$17,0,IF(AND(AW93>$BT$1,$AF$3=$AO$2,'Master Sheet'!$D$31>0),'Master Sheet'!$D$31,IF(AND(AW93=$BT$1,$AF$3=$AO$2),IF($AR$9<18001,135,IF($AR$9<33501,220,IF($AR$9<54001,330,440))),IF(AND(AW93>$BT$1,$AF$3=$AO$2),IF($AR$9<18001,265,IF($AR$9<33501,440,IF($AR$9<54001,658,875))),\"\"))))))","v":""}]
["","","",{"$f":"IFERROR(IF($C92=\"TOTAL\",\"अक्षरें राशि :-\",IF($C93=\"TOTAL\",SUM($D$8:D92),IF(AX94=\"\",\"\",AX94))),\"\")","v":""},{"$f":"IFERROR(IF($C93=\"TOTAL\",SUM($E$8:E92),IF(AY94=\"\",\"\",AY94)),\"\")","v":""},{"$f":"IFERROR(IF($C93=\"TOTAL\",SUM($F$8:F92),IF(AZ94=\"\",\"\",AZ94)),\"\")","v":""},"",{"$f":"IFERROR(IF($C93=\"TOTAL\",SUM($H$8:H92),IF(BB94=\"\",\"\",BB94)),\"\")","v":""},{"$f":"IFERROR(IF($C93=\"TOTAL\",SUM($I$8:I92),IF(BC94=\"\",\"\",BC94)),\"\")","v":""},{"$f":"IFERROR(IF($C93=\"TOTAL\",SUM($J$8:J92),IF(BD94=\"\",\"\",BD94)),\"\")","v":""},"",{"$f":"IFERROR(IF(C93=\"\",\"\",IF(D93=\"\",\"\",IF(H93=\"\",\"\",IF($C93=\"TOTAL\",SUM($L$8:L92),SUM(D93-H93))))),\"\")","v":""},{"$f":"IFERROR(IF(C93=\"\",\"\",IF(E93=\"\",\"\",IF(I93=\"\",\"\",IF($C93=\"TOTAL\",SUM($M$8:M92),SUM(E93-I93))))),\"\")","v":""},{"$f":"IFERROR(IF(C93=\"\",\"\",IF(F93=\"\",\"\",IF(J93=\"\",\"\",IF($C93=\"TOTAL\",SUM($N$8:N92),SUM(F93-J93))))),\"\")","v":""},"",{"$f":"IFERROR(IF(C93=\"\",\"\",IF($C93=\"TOTAL\",SUM($P$8:P92),IF(AND(C93>$AO$1,$AF$3=$AO$2),BR94,IF($AR$18=$AR$20,SUM(BE94+BM94),ROUND((D93+E93)*10%,0))))),\"\")","v":""},{"$f":"IFERROR(IF(C93=\"\",\"\",IF(H93=\"\",\"\",IF(I93=\"\",\"\",IF($C93=\"TOTAL\",SUM($Q$8:Q92),IF(AND(C93>$AO$1,$AF$3=$AO$2),BR94,IF($AR$18=$AR$20,$AR$21,ROUND((H93+I93)*10%,0))))))),\"\")","v":""},"",{"$f":"IFERROR(IF(C93=\"\",\"\",IF($AR$16=$AR$17,0,IF($C93=\"TOTAL\",SUM($S$8:S92),IF($AR$19=$AR$20,$AR$25,0)))),\"\")","v":""},{"$f":"IFERROR(IF(C93=\"\",\"\",IF($AR$16=$AR$17,0,IF($C93=\"TOTAL\",SUM($T$8:T92),IF($AR$19=$AR$20,$AR$24,0)))),\"\")","v":""},"",{"$f":"IF(C93=\"\",\"\",IF($C93=\"TOTAL\",SUM($V$8:V92),IF(AND($AR$2=$AR$20,C93=$AR$1),ROUND(D93/31*$AS$2,0),IF(C93=$AP$6,ROUND((G93)*1/30,0),IF(C93=$AQ$6,ROUND((G93)*1/31,0),\"\")))))","v":""},{"$f":"IF(C93=\"\",\"\",IF($C93=\"TOTAL\",SUM($W$8:W92),IF(AND($AR$2=$AR$20,C93=$AR$1),ROUND(H93/31*$AS$2,0),IF(C93=$AP$6,ROUND((K93)*1/30,0),IF(C93=$AQ$6,ROUND((K93)*1/31,0),\"\")))))","v":""},"",{"$f":"IFERROR(IF(C93=\"\",\"\",IF($AR$16=$AR$17,0,IF($AF$3=$AO$4,\"\",IF($C93=\"TOTAL\",SUM($Y$8:Y92),BU93)))),\"\")","v":""},{"$f":"IFERROR(IF(C93=\"\",\"\",IF($AR$16=$AR$17,0,IF($AF$3=$AO$4,\"\",IF($C93=\"TOTAL\",SUM($Z$8:Z92),BT93)))),\"\")","v":""},"",{"$f":"IFERROR(IF(C93=\"\",\"\",IF(AND(BK94=\"\",BR94=\"\"),\"\",IF($C93=\"TOTAL\",SUM($AB$8:AB92),BK94))),\"\")","v":""},{"$f":"IFERROR(IF(C93=\"\",\"\",IF($C93=\"TOTAL\",SUM($AC$8:AC92),ROUND(O93*$AR$7%,0))),\"\")","v":""},{"$f":"IFERROR(IF(C93=\"\",\"\",IF($C93=\"TOTAL\",SUM($AD$8:AD92),IF($AF$3=$AO$2,SUM(U93,X93,AB93,AC93),SUM(R93,U93,X93,AB93,AC93)))),\"\")","v":""},{"$f":"IFERROR(IF(C93=\"\",\"\",IF($C93=\"TOTAL\",SUM($AE$8:AE92),SUM(O93-AD93))),\"\")","v":""},{"$nulls":8},42,42,null,"2024-01-01","2024-01-01",{"$f":"IF(AND($AR$6>$AS$6),\"\",DATE(YEAR(AS92),MONTH(AS92)+1,DAY(AS92)))","v":"2030-01-01"},null,"","","","","","",null,"","","","",null,null,"","","","",0,0,{"$nulls":4},"",null,"",{"$f":"IF(AW94=\"\",\"\",IF(AW94=\"TOTAL\",\"\",IF($AR$16=$AR$17,0,IF(AND(AW94>$BT$1,$AF$3=$AO$2,'Master Sheet'!$D$31>0),'Master Sheet'!$D$31,IF(AND(AW94=$BT$1,$AF$3=$AO$2),IF($AR$9<18001,135,IF($AR$9<33501,220,IF($AR$9<54001,330,440))),IF(AND(AW94>$BT$1,$AF$3=$AO$2),IF($AR$9<18001,265,IF($AR$9<33501,440,IF($AR$9<54001,658,875))),\"\"))))))","v":""}]
["","","",{"$f":"IFERROR(IF($C93=\"TOTAL\",\"अक्षरें राशि :-\",IF($C94=\"TOTAL\",SUM($D$8:D93),IF(AX95=\"\",\"\",AX95))),\"\")","v":""},{"$f":"IFERROR(IF($C94=\"TOTAL\",SUM($E$8:E93),IF(AY95=\"\",\"\",AY95)),\"\")","v":""},{"$f":"IFERROR(IF($C94=\"TOTAL\",SUM($F$8:F93),IF(AZ95=\"\",\"\",AZ95)),\"\")","v":""},"",{"$f":"IFERROR(IF($C94=\"TOTAL\",SUM($H$8:H93),IF(BB95=\"\",\"\",BB95)),\"\")","v":""},{"$f":"IFERROR(IF($C94=\"TOTAL\",SUM($I$8:I93),IF(BC95=\"\",\"\",BC95)),\"\")","v":""},{"$f":"IFERROR(IF($C94=\"TOTAL\",SUM($J$8:J93),IF(BD95=\"\",\"\",BD95)),\"\")","v":""},"",{"$f":"IFERROR(IF(C94=\"\",\"\",IF(D94=\"\",\"\",IF(H94=\"\",\"\",IF($C94=\"TOTAL\",SUM($L$8:L93),SUM(D94-H94))))),\"\")","v":""},{"$f":"IFERROR(IF(C94=\"\",\"\",IF(E94=\"\",\"\",IF(I94=\"\",\"\",IF($C94=\"TOTAL\",SUM($M$8:M93),SUM(E94-I94))))),\"\")","v":""},{"$f":"IFERROR(IF(C94=\"\",\"\",IF(F94=\"\",\"\",IF(J94=\"\",\"\",IF($C94=\"TOTAL\",SUM($N$8:N93),SUM(F94-J94))))),\"\")","v":""},"",{"$f":"IFERROR(IF(C94=\"\",\"\",IF(AND(C94>$AO$1,$AF$3=$AO$2),\"\",IF($AR$18=$AR$20,SUM(BE95,BM95),ROUND((D94+E94)*10%,0)))),\"\")","v":""},{"$f":"IFERROR(IF(C94=\"\",\"\",IF(H94=\"\",\"\",IF(I94=\"\",\"\",IF(AND(C94>$AO$1,$AF$3=$AO$2),\"\",IF($C94=\"TOTAL\",SUM($Q$8:Q93),IF($AR$18=$AR$20,$AR$21,ROUND((H94+I94)*10%,0))))))),\"\")","v":""},"",{"$f":"IFERROR(IF(C94=\"\",\"\",IF($AR$16=$AR$17,0,IF($C94=\"TOTAL\",SUM($S$8:S93),IF($AR$19=$AR$20,$AR$25,0)))),\"\")","v":""},{"$f":"IFERROR(IF(C94=\"\",\"\",IF($AR$16=$AR$17,0,IF($C94=\"TOTAL\",SUM($T$8:T93),IF($AR$19=$AR$20,$AR$24,0)))),\"\")","v":""},"",{"$f":"IF(C94=\"\",\"\",IF($C94=\"TOTAL\",SUM($V$8:V93),IF(AND($AR$2=$AR$20,C94=$AR$1),ROUND(D94/31*$AS$2,0),IF(C94=$AP$6,ROUND((G94)*1/30,0),IF(C94=$AQ$6,ROUND((G94)*1/31,0),\"\")))))","v":""},{"$f":"IF(C94=\"\",\"\",IF($C94=\"TOTAL\",SUM($W$8:W93),IF(AND($AR$2=$AR$20,C94=$AR$1),ROUND(H94/31*$AS$2,0),IF(C94=$AP$6,ROUND((K94)*1/30,0),IF(C94=$AQ$6,ROUND((K94)*1/31,0),\"\")))))","v":""},"",{"$f":"IFERROR(IF(C94=\"\",\"\",IF($AR$16=$AR$17,0,IF($AF$3=$AO$4,\"\",IF($C94=\"TOTAL\",SUM($Y$8:Y93),BU94)))),\"\")","v":""},{"$f":"IFERROR(IF(C94=\"\",\"\",IF($AR$16=$AR$17,0,IF($AF$3=$AO$4,\"\",IF($C94=\"TOTAL\",SUM($Z$8:Z93),BT94)))),\"\")","v":""},"",{"$f":"IFERROR(IF(C94=\"\",\"\",IF(AND(BK95=\"\",BR95=\"\"),\"\",IF($C94=\"TOTAL\",SUM($AB$8:AB93),BK95))),\"\")","v":""},{"$f":"IFERROR(IF(C94=\"\",\"\",IF($C94=\"TOTAL\",SUM($AC$8:AC93),ROUND(O94*$AR$7%,0))),\"\")","v":""},{"$f":"IFERROR(IF(C94=\"\",\"\",IF($C94=\"TOTAL\",SUM($AD$8:AD93),IF($AF$3=$AO$2,SUM(U94,X94,AB94,AC94),SUM(R94,U94,X94,AB94,AC94)))),\"\")","v":""},{"$f":"IFERROR(IF(C94=\"\",\"\",IF($C94=\"TOTAL\",SUM($AE$8:AE93),SUM(O94-AD94))),\"\")","v":""},{"$nulls":8},42,42,{"$nulls":8},"","","",null,"","","","",null,null,"","","","",0,0,{"$nulls":4},"",null,"",{"$f":"IF(AW95=\"\",\"\",IF(AW95=\"TOTAL\",\"\",IF($AR$16=$AR$17,0,IF(AND(AW95>$BT$1,$AF$3=$AO$2,'Master Sheet'!$D$31>0),'Master Sheet'!$D$31,IF(AND(AW95=$BT$1,$AF$3=$AO$2),IF($AR$9<18001,135,IF($AR$9<33501,220,IF($AR$9<54001,330,440))),IF(AND(AW95>$BT$1,$AF$3=$AO$2),IF($AR$9<18001,265,IF($AR$9<33501,440,IF($AR$9<54001,658,875))),\"\"))))))","v":""}]
["","","",{"$f":"IFERROR(IF($C94=\"TOTAL\",\"अक्षरें राशि :-\",IF($C95=\"TOTAL\",SUM($D$8:D94),IF(AX96=\"\",\"\",AX96))),\"\")","v":""},{"$f":"IFERROR(IF($C95=\"TOTAL\",SUM($E$8:E94),IF(AY96=\"\",\"\",AY96)),\"\")","v":""},{"$f":"IFERROR(IF($C95=\"TOTAL\",SUM($F$8:F94),IF(AZ96=\"\",\"\",AZ96)),\"\")","v":""},"",{"$f":"IFERROR(IF($C95=\"TOTAL\",SUM($H$8:H94),IF(BB96=\"\",\"\",BB96)),\"\")","v":""},{"$f":"IFERROR(IF($C95=\"TOTAL\",SUM($I$8:I94),IF(BC96=\"\",\"\",BC96)),\"\")","v":""},{"$f":"IFERROR(IF($C95=\"TOTAL\",SUM($J$8:J94),IF(BD96=\"\",\"\",BD96)),\"\")","v":""},"",{"$f":"IFERROR(IF(C95=\"\",\"\",IF(D95=\"\",\"\",IF(H95=\"\",\"\",IF($C95=\"TOTAL\",SUM($L$8:L94),SUM(D95-H95))))),\"\")","v":""},{"$f":"IFERROR(IF(C95=\"\",\"\",IF(E95=\"\",\"\",IF(I95=\"\",\"\",IF($C95=\"TOTAL\",SUM($M$8:M94),SUM(E95-I95))))),\"\")","v":""},{"$f":"IFERROR(IF(C95=\"\",\"\",IF(F95=\"\",\"\",IF(J95=\"\",\"\",IF($C95=\"TOTAL\",SUM($N$8:N94),SUM(F95-J95))))),\"\")","v":""},"","",{"$f":"IFERROR(IF(C95=\"\",\"\",IF(H95=\"\",\"\",IF(I95=\"\",\"\",IF(AND(C95>$AO$1,$AF$3=$AO$2),\"\",IF($C95=\"TOTAL\",SUM($Q$8:Q94),IF($AR$18=$AR$20,$AR$21,ROUND((H95+I95)*10%,0))))))),\"\")","v":""},"",{"$f":"IFERROR(IF(C95=\"\",\"\",IF($AR$16=$AR$17,0,IF($C95=\"TOTAL\",SUM($S$8:S94),IF($AR$19=$AR$20,$AR$25,0)))),\"\")","v":""},{"$f":"IFERROR(IF(C95=\"\",\"\",IF($AR$16=$AR$17,0,IF($C95=\"TOTAL\",SUM($T$8:T94),IF($AR$19=$AR$20,$AR$24,0)))),\"\")","v":""},"",{"$f":"IF(C95=\"\",\"\",IF($C95=\"TOTAL\",SUM($V$8:V94),IF(AND($AR$2=$AR$20,C95=$AR$1),ROUND(D95/31*$AS$2,0),IF(C95=$AP$6,ROUND((G95)*1/30,0),IF(C95=$AQ$6,ROUND((G95)*1/31,0),\"\")))))","v":""},{"$f":"IF(C95=\"\",\"\",IF($C95=\"TOTAL\",SUM($W$8:W94),IF(AND($AR$2=$AR$20,C95=$AR$1),ROUND(H95/31*$AS$2,0),IF(C95=$AP$6,ROUND((K95)*1/30,0),IF(C95=$AQ$6,ROUND((K95)*1/31,0),\"\")))))","v":""},"",{"$f":"IFERROR(IF(C95=\"\",\"\",IF($AR$16=$AR$17,0,IF($AF$3=$AO$4,\"\",IF($C95=\"TOTAL\",SUM($Y$8:Y94),BU95)))),\"\")","v":""},{"$f":"IFERROR(IF(C95=\"\",\"\",IF($AR$16=$AR$17,0,IF($AF$3=$AO$4,\"\",IF($C95=\"TOTAL\",SUM($Z$8:Z94),BT95)))),\"\")","v":""},"",{"$f":"IFERROR(IF(C95=\"\",\"\",IF(AND(BK96=\"\",BR96=\"\"),\"\",IF($C95=\"TOTAL\",SUM($AB$8:AB94),BK96))),\"\")","v":""},{"$f":"IFERROR(IF(C95=\"\",\"\",IF($C95=\"TOTAL\",SUM($AC$8:AC94),ROUND(O95*$AR$7%,0))),\"\")","v":""},{"$f":"IFERROR(IF(C95=\"\",\"\",IF($C95=\"TOTAL\",SUM($AD$8:AD94),IF($AF$3=$AO$2,SUM(U95,X95,AB95,AC95),SUM(R95,U95,X95,AB95,AC95)))),\"\")","v":""},{"$f":"IFERROR(IF(C95=\"\",\"\",IF($C95=\"TOTAL\",SUM($AE$8:AE94),SUM(O95-AD95))),\"\")","v":""},{"$nulls":18},"","","",null,"","","","",null,null,"","","","",0,0,{"$nulls":4},"",null,"",{"$f":"IF(AW96=\"\",\"\",IF(AW96=\"TOTAL\",\"\",IF($AR$16=$AR$17,0,IF(AND(AW96>$BT$1,$AF$3=$AO$2,'Master Sheet'!$D$31>0),'Master Sheet'!$D$31,IF(AND(AW96=$BT$1,$AF$3=$AO$2),IF($AR$9<18001,135,IF($AR$9<33501,220,IF($AR$9<54001,330,440))),IF(AND(AW96>$BT$1,$AF$3=$AO$2),IF($AR$9<18001,265,IF($AR$9<33501,440,IF($AR$9<54001,658,875))),\"\"))))))","v":""}]
[{"$nulls":26},"",{"$nulls":22},"","","",null,"","","","",null,null,"","","","",0,0,{"$nulls":4},"",null,"",{"$f":"IF(AW97=\"\",\"\",IF(AW97=\"TOTAL\",\"\",IF($AR$16=$AR$17,0,IF(AND(AW97>$BT$1,$AF$3=$AO$2,'Master Sheet'!$D$31>0),'Master Sheet'!$D$31,IF(AND(AW97=$BT$1,$AF$3=$AO$2),IF($AR$9<18001,135,IF($AR$9<33501,220,IF($AR$9<54001,330,440))),IF(AND(AW97>$BT$1,$AF$3=$AO$2),IF($AR$9<18001,265,IF($AR$9<33501,440,IF($AR$9<54001,658,875))),\"\"))))))","v":""}]
[{"$nulls":26},"",{"$nulls":42},"",null,"",{"$f":"IF(AW98=\"\",\"\",IF(AW98=\"TOTAL\",\"\",IF($AR$16=$AR$17,0,IF(AND(AW98>$BT$1,$AF$3=$AO$2,'Master Sheet'!$D$31>0),'Master Sheet'!$D$31,IF(AND(AW98=$BT$1,$AF$3=$AO$2),IF($AR$9<18001,135,IF($AR$9<33501,220,IF($AR$9<54001,330,440))),IF(AND(AW98>$BT$1,$AF$3=$AO$2),IF($AR$9<18001,265,IF($AR$9<33501,440,IF($AR$9<54001,658,875))),\"\"))))))","v":""}]
[{"$nulls":26},"",{"$nulls":45},{"$f":"IF(AW99=\"\",\"\",IF(AW99=\"TOTAL\",\"\",IF($AR$16=$AR$17,0,IF(AND(AW99>$BT$1,$AF$3=$AO$2,'Master Sheet'!$D$31>0),'Master Sheet'!$D$31,IF(AND(AW99=$BT$1,$AF$3=$AO$2),IF($AR$9<18001,135,IF($AR$9<33501,220,IF($AR$9<54001,330,440))),IF(AND(AW99>$BT$1,$AF$3=$AO$2),IF($AR$9<18001,265,IF($AR$9<33501,440,IF($AR$9<54001,658,875))),\"\"))))))","v":""}]
[{"$nulls":26},"",{"$nulls":45},{"$f":"IF(AW100=\"\",\"\",IF(AW100=\"TOTAL\",\"\",IF($AR$16=$AR$17,0,IF(AND(AW100>$BT$1,$AF$3=$AO$2,'Master Sheet'!$D$31>0),'Master Sheet'!$D$31,IF(AND(AW100=$BT$1,$AF$3=$AO$2),IF($AR$9<18001,135,IF($AR$9<33501,220,IF($AR$9<54001,330,440))),IF(AND(AW100>$BT$1,$AF$3=$AO$2),IF($AR$9<18001,265,IF($AR$9<33501,440,IF($AR$9<54001,658,875))),\"\"))))))","v":""}]
[{"$nulls":72},{"$f":"IF(AW101=\"\",\"\",IF(AW101=\"TOTAL\",\"\",IF($AR$16=$AR$17,0,IF(AND(AW101>$BT$1,$AF$3=$AO$2,'Master Sheet'!$D$31>0),'Master Sheet'!$D$31,IF(AND(AW101=$BT$1,$AF$3=$AO$2),IF($AR$9<18001,135,IF($AR$9<33501,220,IF($AR$9<54001,330,440))),IF(AND(AW101>$BT$1,$AF$3=$AO$2),IF($AR$9<18001,265,IF($AR$9<33501,440,IF($AR$9<54001,658,875))),\"\"))))))","v":""}]
[{"$nulls":72},{"$f":"IF(AW102=\"\",\"\",IF(AW102=\"TOTAL\",\"\",IF($AR$16=$AR$17,0,IF(AND(AW102>$BT$1,$AF$3=$AO$2,'Master Sheet'!$D$31>0),'Master Sheet'!$D$31,IF(AND(AW102=$BT$1,$AF$3=$AO$2),IF($AR$9<18001,135,IF($AR$9<33501,220,IF($AR$9<54001,330,440))),IF(AND(AW102>$BT$1,$AF$3=$AO$2),IF($AR$9<18001,265,IF($AR$9<33501,440,IF($AR$9<54001,658,875))),\"\"))))))","v":""}]

{"sheet":"Unlock sheet","index":3,"n_rows":101,"n_cols":32,"rows_kept":101,"merged":[[0,1,0,31],[1,1,1,31],[2,1,2,3],[2,4,2,10],[2,11,2,12],[2,13,2,17],[2,18,2,20],[2,21,2,22],[2,27,2,29],[2,30,2,31],[3,1,3,3],[3,6,3,11],[3,12,3,14],[3,16,3,18],[3,19,3,21],[3,22,3,31],[5,0,6,0],[5,1,6,1],[5,2,5,5],[5,6,5,9],[5,10,5,13],[5,14,5,16],[5,17,5,19],[5,20,5,22],[5,23,5,25],[5,26,6,26],[5,27,6,27],[5,28,6,28],[5,29,6,29],[5,30,6,30],[5,31,6,31],[91,0,91,1],[91,33,100,37],[91,38,100,38],[92,6,92,7],[92,8,92,30],[93,20,93,30],[94,2,94,6],[94,9,94,10],[94,20,94,30],[95,1,95,7],[96,1,96,6],[96,20,96,30],[97,1,97,4],[97,5,97,14],[97,20,97,30],[98,1,98,2],[98,20,99,30],[100,1,100,2]]}
[null,{"$f":"IF('Master Sheet'!D3=\"\",\"\",CONCATENATE(\"Office \",'Master Sheet'!D3))","v":"Office Mahatma Gandhi Government School (English Medium) Bar, PALI"}]
[null,"Difference Arrear Sheet"]
[null,"Name Of Employee :",null,null,{"$f":"IFERROR(UPPER('Master Sheet'!D7),\"\")","v":"HEERALAL JAT"},{"$nulls":6},"    Post :  ",null,{"$f":"IFERROR(UPPER('Master Sheet'!I7),\"\")","v":"SR. TEACHER"},{"$nulls":4},"    Pay Matrix Level : ",null,null,{"$f":"IFERROR(CONCATENATE(\"L - \",'Master Sheet'!M7),\"\")","v":"L - 11"},{"$nulls":5},"GPF / NPS :-",null,null,{"$f":"IF('Arrear Sheet'!AR18='Arrear Sheet'!AR20,\"GPF\",\"NPS\")","v":"NPS"}]
[{"$nulls":6},"Arrear From Date :",{"$nulls":5},{"$f":"IFERROR('Master Sheet'!D9,\"\")","v":"2023-01-01"},null,null,"to",{"$f":"IFERROR('Master Sheet'!I9,\"\")","v":"2023-11-01"},null,null,"Posting Place :",null,null,{"$f":"IFERROR(IF('Arrear Sheet'!X4=\"\",\"\",'Arrear Sheet'!X4),\"\")","v":"Mahatma Gandhi Government School (English Medium) Bar, PALI"}]
[]
["Sr. No.","Month","Pay Due",{"$nulls":3},"Pay Drawn",{"$nulls":3},"Pay Difference",{"$nulls":3},{"$f":"'Arrear Sheet'!P6","v":"NPS/GPF-2004"},null,null,"SI",null,null,"Corona relief fund",null,null,"RGHS",null,null,"Arrear inGPF-2004","Income Tax","Total Deduction","Net Payment","Bill No./Date","Encashment Date"]
[null,null,"Pay","DA","HRA","Total","Pay","DA","HRA","Total","Pay","DA","HRA","Total","Due","Ded","Diff.","Due","Ded","Diff.","Due","Ded","Diff.","Due","Ded","Diff."]
[{"$f":"IF('Arrear Sheet'!B8=\"\",\"\",'Arrear Sheet'!B8)","v":1},{"$f":"IF('Arrear Sheet'!C8=\"\",\"\",IF('Arrear Sheet'!C8=\"TOTAL\",\"\",'Arrear Sheet'!C8))","v":"2023-01-01"},{"$f":"IF('Arrear Sheet'!D8=\"\",\"\",IF('Arrear Sheet'!C8=\"TOTAL\",\"\",IF('Arrear Sheet'!D8=\"अक्षरें राशि :-\",\"\",'Arrear Sheet'!D8)))","v":13084},{"$f":"IF('Arrear Sheet'!E8=\"\",\"\",IF('Arrear Sheet'!C8=\"TOTAL\",\"\",'Arrear Sheet'!E8))","v":5495},{"$f":"IF('Arrear Sheet'!F8=\"\",\"\",IF('Arrear Sheet'!C8=\"TOTAL\",\"\",'Arrear Sheet'!F8))","v":1178},{"$f":"IF('Arrear Sheet'!G8=\"\",\"\",IF('Arrear Sheet'!C8=\"TOTAL\",\"\",SUM(C8:E8)))","v":19757},{"$f":"IF('Arrear Sheet'!H8=\"\",\"\",IF('Arrear Sheet'!C8=\"TOTAL\",\"\",'Arrear Sheet'!H8))","v":12697},{"$f":"IF('Arrear Sheet'!I8=\"\",\"\",IF('Arrear Sheet'!C8=\"TOTAL\",\"\",'Arrear Sheet'!I8))","v":5333},{"$f":"IF('Arrear Sheet'!J8=\"\",\"\",IF('Arrear Sheet'!C8=\"TOTAL\",\"\",'Arrear Sheet'!J8))","v":1143},{"$f":"IF('Arrear Sheet'!K8=\"\",\"\",IF('Arrear Sheet'!C8=\"TOTAL\",\"\",SUM(G8:I8)))","v":19173},{"$f":"IF('Arrear Sheet'!L8=\"\",\"\",IF('Arrear Sheet'!C8=\"TOTAL\",\"\",'Arrear Sheet'!L8))","v":387},{"$f":"IF('Arrear Sheet'!M8=\"\",\"\",IF('Arrear Sheet'!C8=\"TOTAL\",\"\",'Arrear Sheet'!M8))","v":162},{"$f":"IF('Arrear Sheet'!N8=\"\",\"\",IF('Arrear Sheet'!C8=\"TOTAL\",\"\",'Arrear Sheet'!N8))","v":35},{"$f":"IF('Arrear Sheet'!O8=\"\",\"\",IF('Arrear Sheet'!C8=\"TOTAL\",\"\",SUM(K8:M8)))","v":584},{"$f":"IF('Arrear Sheet'!P8=\"\",\"\",IF('Arrear Sheet'!C8=\"TOTAL\",\"\",'Arrear Sheet'!P8))","v":2100},{"$f":"IF('Arrear Sheet'!Q8=\"\",\"\",IF('Arrear Sheet'!C8=\"TOTAL\",\"\",'Arrear Sheet'!Q8))","v":2100},{"$f":"IF('Arrear Sheet'!R8=\"\",\"\",IF('Arrear Sheet'!C8=\"TOTAL\",\"\",'Arrear Sheet'!R8))","v":0},{"$f":"IF('Arrear Sheet'!S8=\"\",\"\",IF('Arrear Sheet'!C8=\"TOTAL\",\"\",'Arrear Sheet'!S8))","v":0},{"$f":"IF('Arrear Sheet'!T8=\"\",\"\",IF('Arrear Sheet'!C8=\"TOTAL\",\"\",'Arrear Sheet'!T8))","v":0},{"$f":"IF('Arrear Sheet'!U8=\"\",\"\",IF('Arrear Sheet'!C8=\"TOTAL\",\"\",'Arrear Sheet'!U8))","v":0},{"$f":"IF('Arrear Sheet'!V8=\"\",\"\",IF('Arrear Sheet'!C8=\"TOTAL\",\"\",'Arrear Sheet'!V8))","v":""},{"$f":"IF('Arrear Sheet'!W8=\"\",\"\",IF('Arrear Sheet'!C8=\"TOTAL\",\"\",'Arrear Sheet'!W8))","v":""},{"$f":"IF('Arrear Sheet'!X8=\"\",\"\",IF('Arrear Sheet'!C8=\"TOTAL\",\"\",'Arrear Sheet'!X8))","v":""},{"$f":"IF('Arrear Sheet'!Y8=\"\",\"\",IF('Arrear Sheet'!C8=\"TOTAL\",\"\",'Arrear Sheet'!Y8))","v":658},{"$f":"IF('Arrear Sheet'!Z8=\"\",\"\",IF('Arrear Sheet'!C8=\"TOTAL\",\"\",'Arrear Sheet'!Z8))","v":440},{"$f":"IF('Arrear Sheet'!AA8=\"\",\"\",IF('Arrear Sheet'!C8=\"TOTAL\",\"\",'Arrear Sheet'!AA8))","v":218},{"$f":"IF('Arrear Sheet'!AB8=\"\",\"\",IF('Arrear Sheet'!C8=\"TOTAL\",\"\",'Arrear Sheet'!AB8))","v":""},{"$f":"IF('Arrear Sheet'!AC8=\"\",\"\",IF('Arrear Sheet'!C8=\"TOTAL\",\"\",'Arrear Sheet'!AC8))","v":0},{"$f":"IF('Arrear Sheet'!AD8=\"\",\"\",'Arrear Sheet'!AD8)","v":0},{"$f":"IF('Arrear Sheet'!AE8=\"\",\"\",IF('Arrear Sheet'!C8=\"TOTAL\",\"\",SUM(N8-AC8)))","v":584}]
[{"$f":"IF('Arrear Sheet'!B9=\"\",\"\",'Arrear Sheet'!B9)","v":2},{"$f":"IF('Arrear Sheet'!C9=\"\",\"\",IF('Arrear Sheet'!C9=\"TOTAL\",\"\",'Arrear Sheet'!C9))","v":"2023-02-01"},{"$f":"IF('Arrear Sheet'!D9=\"\",\"\",IF('Arrear Sheet'!C9=\"TOTAL\",\"\",IF('Arrear Sheet'!D9=\"अक्षरें राशि :-\",\"\",'Arrear Sheet'!D9)))","v":33800},{"$f":"IF('Arrear Sheet'!E9=\"\",\"\",IF('Arrear Sheet'!C9=\"TOTAL\",\"\",'Arrear Sheet'!E9))","v":14196},{"$f":"IF('Arrear Sheet'!F9=\"\",\"\",IF('Arrear Sheet'!C9=\"TOTAL\",\"\",'Arrear Sheet'!F9))","v":3042},{"$f":"IF('Arrear Sheet'!G9=\"\",\"\",IF('Arrear Sheet'!C9=\"TOTAL\",\"\",SUM(C9:E9)))","v":51038},{"$f":"IF('Arrear Sheet'!H9=\"\",\"\",IF('Arrear Sheet'!C9=\"TOTAL\",\"\",'Arrear Sheet'!H9))","v":32800},{"$f":"IF('Arrear Sheet'!I9=\"\",\"\",IF('Arrear Sheet'!C9=\"TOTAL\",\"\",'Arrear Sheet'!I9))","v":13776},{"$f":"IF('Arrear Sheet'!J9=\"\",\"\",IF('Arrear Sheet'!C9=\"TOTAL\",\"\",'Arrear Sheet'!J9))","v":2952},{"$f":"IF('Arrear Sheet'!K9=\"\",\"\",IF('Arrear Sheet'!C9=\"TOTAL\",\"\",SUM(G9:I9)))","v":49528},{"$f":"IF('Arrear Sheet'!L9=\"\",\"\",IF('Arrear Sheet'!C9=\"TOTAL\",\"\",'Arrear Sheet'!L9))","v":1000},{"$f":"IF('Arrear Sheet'!M9=\"\",\"\",IF('Arrear Sheet'!C9=\"TOTAL\",\"\",'Arrear Sheet'!M9))","v":420},{"$f":"IF('Arrear Sheet'!N9=\"\",\"\",IF('Arrear Sheet'!C9=\"TOTAL\",\"\",'Arrear Sheet'!N9))","v":90},{"$f":"IF('Arrear Sheet'!O9=\"\",\"\",IF('Arrear Sheet'!C9=\"TOTAL\",\"\",SUM(K9:M9)))","v":1510},{"$f":"IF('Arrear Sheet'!P9=\"\",\"\",IF('Arrear Sheet'!C9=\"TOTAL\",\"\",'Arrear Sheet'!P9))","v":2100},{"$f":"IF('Arrear Sheet'!Q9=\"\",\"\",IF('Arrear Sheet'!C9=\"TOTAL\",\"\",'Arrear Sheet'!Q9))","v":2100},{"$f":"IF('Arrear Sheet'!R9=\"\",\"\",IF('Arrear Sheet'!C9=\"TOTAL\",\"\",'Arrear Sheet'!R9))","v":0},{"$f":"IF('Arrear Sheet'!S9=\"\",\"\",IF('Arrear Sheet'!C9=\"TOTAL\",\"\",'Arrear Sheet'!S9))","v":0},{"$f":"IF('Arrear Sheet'!T9=\"\",\"\",IF('Arrear Sheet'!C9=\"TOTAL\",\"\",'Arrear Sheet'!T9))","v":0},{"$f":"IF('Arrear Sheet'!U9=\"\",\"\",IF('Arrear Sheet'!C9=\"TOTAL\",\"\",'Arrear Sheet'!U9))","v":0},{"$f":"IF('Arrear Sheet'!V9=\"\",\"\",IF('Arrear Sheet'!C9=\"TOTAL\",\"\",'Arrear Sheet'!V9))","v":""},{"$f":"IF('Arrear Sheet'!W9=\"\",\"\",IF('Arrear Sheet'!C9=\"TOTAL\",\"\",'Arrear Sheet'!W9))","v":""},{"$f":"IF('Arrear Sheet'!X9=\"\",\"\",IF('Arrear Sheet'!C9=\"TOTAL\",\"\",'Arrear Sheet'!X9))","v":""},{"$f":"IF('Arrear Sheet'!Y9=\"\",\"\",IF('Arrear Sheet'!C9=\"TOTAL\",\"\",'Arrear Sheet'!Y9))","v":658},{"$f":"IF('Arrear Sheet'!Z9=\"\",\"\",IF('Arrear Sheet'!C9=\"TOTAL\",\"\",'Arrear Sheet'!Z9))","v":440},{"$f":"IF('Arrear Sheet'!AA9=\"\",\"\",IF('Arrear Sheet'!C9=\"TOTAL\",\"\",'Arrear Sheet'!AA9))","v":218},{"$f":"IF('Arrear Sheet'!AB9=\"\",\"\",IF('Arrear Sheet'!C9=\"TOTAL\",\"\",'Arrear Sheet'!AB9))","v":""},{"$f":"IF('Arrear Sheet'!AC9=\"\",\"\",IF('Arrear Sheet'!C9=\"TOTAL\",\"\",'Arrear Sheet'!AC9))","v":0},{"$f":"IF('Arrear Sheet'!AD9=\"\",\"\",IF('Arrear Sheet'!C9=\"TOTAL\",\"\",'Arrear Sheet'!AD9))","v":0},{"$f":"IF('Arrear Sheet'!AE9=\"\",\"\",IF('Arrear Sheet'!C9=\"TOTAL\",\"\",SUM(N9-AC9)))","v":1510}]
[{"$f":"IF('Arrear Sheet'!B10=\"\",\"\",'Arrear Sheet'!B10)","v":3},{"$f":"IF('Arrear Sheet'!C10=\"\",\"\",IF('Arrear Sheet'!C10=\"TOTAL\",\"\",'Arrear Sheet'!C10))","v":"2023-03-01"},{"$f":"IF('Arrear Sheet'!D10=\"\",\"\",IF('Arrear Sheet'!C10=\"TOTAL\",\"\",IF('Arrear Sheet'!D10=\"अक्षरें राशि :-\",\"\",'Arrear Sheet'!D10)))","v":33800},{"$f":"IF('Arrear Sheet'!E10=\"\",\"\",IF('Arrear Sheet'!C10=\"TOTAL\",\"\",'Arrear Sheet'!E10))","v":14196},{"$f":"IF('Arrear Sheet'!F10=\"\",\"\",IF('Arrear Sheet'!C10=\"TOTAL\",\"\",'Arrear Sheet'!F10))","v":3042},{"$f":"IF('Arrear Sheet'!G10=\"\",\"\",IF('Arrear Sheet'!C10=\"TOTAL\",\"\",SUM(C10:E10)))","v":51038},{"$f":"IF('Arrear Sheet'!H10=\"\",\"\",IF('Arrear Sheet'!C10=\"TOTAL\",\"\",'Arrear Sheet'!H10))","v":32800},{"$f":"IF('Arrear Sheet'!I10=\"\",\"\",IF('Arrear Sheet'!C10=\"TOTAL\",\"\",'Arrear Sheet'!I10))","v":13776},{"$f":"IF('Arrear Sheet'!J10=\"\",\"\",IF('Arrear Sheet'!C10=\"TOTAL\",\"\",'Arrear Sheet'!J10))","v":2952},{"$f":"IF('Arrear Sheet'!K10=\"\",\"\",IF('Arrear Sheet'!C10=\"TOTAL\",\"\",SUM(G10:I10)))","v":49528},{"$f":"IF('Arrear Sheet'!L10=\"\",\"\",IF('Arrear Sheet'!C10=\"TOTAL\",\"\",'Arrear Sheet'!L10))","v":1000},{"$f":"IF('Arrear Sheet'!M10=\"\",\"\",IF('Arrear Sheet'!C10=\"TOTAL\",\"\",'Arrear Sheet'!M10))","v":420},{"$f":"IF('Arrear Sheet'!N10=\"\",\"\",IF('Arrear Sheet'!C10=\"TOTAL\",\"\",'Arrear Sheet'!N10))","v":90},{"$f":"IF('Arrear Sheet'!O10=\"\",\"\",IF('Arrear Sheet'!C10=\"TOTAL\",\"\",SUM(K10:M10)))","v":1510},{"$f":"IF('Arrear Sheet'!P10=\"\",\"\",IF('Arrear Sheet'!C10=\"TOTAL\",\"\",'Arrear Sheet'!P10))","v":2100},{"$f":"IF('Arrear Sheet'!Q10=\"\",\"\",IF('Arrear Sheet'!C10=\"TOTAL\",\"\",'Arrear Sheet'!Q10))","v":2100},{"$f":"IF('Arrear Sheet'!R10=\"\",\"\",IF('Arrear Sheet'!C10=\"TOTAL\",\"\",'Arrear Sheet'!R10))","v":0},{"$f":"IF('Arrear Sheet'!S10=\"\",\"\",IF('Arrear Sheet'!C10=\"TOTAL\",\"\",'Arrear Sheet'!S10))","v":0},{"$f":"IF('Arrear Sheet'!T10=\"\",\"\",IF('Arrear Sheet'!C10=\"TOTAL\",\"\",'Arrear Sheet'!T10))","v":0},{"$f":"IF('Arrear Sheet'!U10=\"\",\"\",IF('Arrear Sheet'!C10=\"TOTAL\",\"\",'Arrear Sheet'!U10))","v":0},{"$f":"IF('Arrear Sheet'!V10=\"\",\"\",IF('Arrear Sheet'!C10=\"TOTAL\",\"\",'Arrear Sheet'!V10))","v":""},{"$f":"IF('Arrear Sheet'!W10=\"\",\"\",IF('Arrear Sheet'!C10=\"TOTAL\",\"\",'Arrear Sheet'!W10))","v":""},{"$f":"IF('Arrear Sheet'!X10=\"\",\"\",IF('Arrear Sheet'!C10=\"TOTAL\",\"\",'Arrear Sheet'!X10))","v":""},{"$f":"IF('Arrear Sheet'!Y10=\"\",\"\",IF('Arrear Sheet'!C10=\"TOTAL\",\"\",'Arrear Sheet'!Y10))","v":658},{"$f":"IF('Arrear Sheet'!Z10=\"\",\"\",IF('Arrear Sheet'!C10=\"TOTAL\",\"\",'Arrear Sheet'!Z10))","v":440},{"$f":"IF('Arrear Sheet'!AA10=\"\",\"\",IF('Arrear Sheet'!C10=\"TOTAL\",\"\",'Arrear Sheet'!AA10))","v":218},{"$f":"IF('Arrear Sheet'!AB10=\"\",\"\",IF('Arrear Sheet'!C10=\"TOTAL\",\"\",'Arrear Sheet'!AB10))","v":""},{"$f":"IF('Arrear Sheet'!AC10=\"\",\"\",IF('Arrear Sheet'!C10=\"TOTAL\",\"\",'Arrear Sheet'!AC10))","v":0},{"$f":"IF('Arrear Sheet'!AD10=\"\",\"\",IF('Arrear Sheet'!C10=\"TOTAL\",\"\",'Arrear Sheet'!AD10))","v":0},{"$f":"IF('Arrear Sheet'!AE10=\"\",\"\",IF('Arrear Sheet'!C10=\"TOTAL\",\"\",SUM(N10-AC10)))","v":1510}]
[{"$f":"IF('Arrear Sheet'!B11=\"\",\"\",'Arrear Sheet'!B11)","v":4},{"$f":"IF('Arrear Sheet'!C11=\"\",\"\",IF('Arrear Sheet'!C11=\"TOTAL\",\"\",'Arrear Sheet'!C11))","v":"2023-04-01"},{"$f":"IF('Arrear Sheet'!D11=\"\",\"\",IF('Arrear Sheet'!C11=\"TOTAL\",\"\",IF('Arrear Sheet'!D11=\"अक्षरें राशि :-\",\"\",'Arrear Sheet'!D11)))","v":33800},{"$f":"IF('Arrear Sheet'!E11=\"\",\"\",IF('Arrear Sheet'!C11=\"TOTAL\",\"\",'Arrear Sheet'!E11))","v":14196},{"$f":"IF('Arrear Sheet'!F11=\"\",\"\",IF('Arrear Sheet'!C11=\"TOTAL\",\"\",'Arrear Sheet'!F11))","v":3042},{"$f":"IF('Arrear Sheet'!G11=\"\",\"\",IF('Arrear Sheet'!C11=\"TOTAL\",\"\",SUM(C11:E11)))","v":51038},{"$f":"IF('Arrear Sheet'!H11=\"\",\"\",IF('Arrear Sheet'!C11=\"TOTAL\",\"\",'Arrear Sheet'!H11))","v":32800},{"$f":"IF('Arrear Sheet'!I11=\"\",\"\",IF('Arrear Sheet'!C11=\"TOTAL\",\"\",'Arrear Sheet'!I11))","v":13776},{"$f":"IF('Arrear Sheet'!J11=\"\",\"\",IF('Arrear Sheet'!C11=\"TOTAL\",\"\",'Arrear Sheet'!J11))","v":2952},{"$f":"IF('Arrear Sheet'!K11=\"\",\"\",IF('Arrear Sheet'!C11=\"TOTAL\",\"\",SUM(G11:I11)))","v":49528},{"$f":"IF('Arrear Sheet'!L11=\"\",\"\",IF('Arrear Sheet'!C11=\"TOTAL\",\"\",'Arrear Sheet'!L11))","v":1000},{"$f":"IF('Arrear Sheet'!M11=\"\",\"\",IF('Arrear Sheet'!C11=\"TOTAL\",\"\",'Arrear Sheet'!M11))","v":420},{"$f":"IF('Arrear Sheet'!N11=\"\",\"\",IF('Arrear Sheet'!C11=\"TOTAL\",\"\",'Arrear Sheet'!N11))","v":90},{"$f":"IF('Arrear Sheet'!O11=\"\",\"\",IF('Arrear Sheet'!C11=\"TOTAL\",\"\",SUM(K11:M11)))","v":1510},{"$f":"IF('Arrear Sheet'!P11=\"\",\"\",IF('Arrear Sheet'!C11=\"TOTAL\",\"\",'Arrear Sheet'!P11))","v":2100},{"$f":"IF('Arrear Sheet'!Q11=\"\",\"\",IF('Arrear Sheet'!C11=\"TOTAL\",\"\",'Arrear Sheet'!Q11))","v":2100},{"$f":"IF('Arrear Sheet'!R11=\"\",\"\",IF('Arrear Sheet'!C11=\"TOTAL\",\"\",'Arrear Sheet'!R11))","v":0},{"$f":"IF('Arrear Sheet'!S11=\"\",\"\",IF('Arrear Sheet'!C11=\"TOTAL\",\"\",'Arrear Sheet'!S11))","v":0},{"$f":"IF('Arrear Sheet'!T11=\"\",\"\",IF('Arrear Sheet'!C11=\"TOTAL\",\"\",'Arrear Sheet'!T11))","v":0},{"$f":"IF('Arrear Sheet'!U11=\"\",\"\",IF('Arrear Sheet'!C11=\"TOTAL\",\"\",'Arrear Sheet'!U11))","v":0},{"$f":"IF('Arrear Sheet'!V11=\"\",\"\",IF('Arrear Sheet'!C11=\"TOTAL\",\"\",'Arrear Sheet'!V11))","v":""},{"$f":"IF('Arrear Sheet'!W11=\"\",\"\",IF('Arrear Sheet'!C11=\"TOTAL\",\"\",'Arrear Sheet'!W11))","v":""},{"$f":"IF('Arrear Sheet'!X11=\"\",\"\",IF('Arrear Sheet'!C11=\"TOTAL\",\"\",'Arrear Sheet'!X11))","v":""},{"$f":"IF('Arrear Sheet'!Y11=\"\",\"\",IF('Arrear Sheet'!C11=\"TOTAL\",\"\",'Arrear Sheet'!Y11))","v":658},{"$f":"IF('Arrear Sheet'!Z11=\"\",\"\",IF('Arrear Sheet'!C11=\"TOTAL\",\"\",'Arrear Sheet'!Z11))","v":440},{"$f":"IF('Arrear Sheet'!AA11=\"\",\"\",IF('Arrear Sheet'!C11=\"TOTAL\",\"\",'Arrear Sheet'!AA11))","v":218},{"$f":"IF('Arrear Sheet'!AB11=\"\",\"\",IF('Arrear Sheet'!C11=\"TOTAL\",\"\",'Arrear Sheet'!AB11))","v":""},{"$f":"IF('Arrear Sheet'!AC11=\"\",\"\",IF('Arrear Sheet'!C11=\"TOTAL\",\"\",'Arrear Sheet'!AC11))","v":0},{"$f":"IF('Arrear Sheet'!AD11=\"\",\"\",IF('Arrear Sheet'!C11=\"TOTAL\",\"\",'Arrear Sheet'!AD11))","v":0},{"$f":"IF('Arrear Sheet'!AE11=\"\",\"\",IF('Arrear Sheet'!C11=\"TOTAL\",\"\",SUM(N11-AC11)))","v":1510}]
[{"$f":"IF('Arrear Sheet'!B12=\"\",\"\",'Arrear Sheet'!B12)","v":5},{"$f":"IF('Arrear Sheet'!C12=\"\",\"\",IF('Arrear Sheet'!C12=\"TOTAL\",\"\",'Arrear Sheet'!C12))","v":"2023-05-01"},{"$f":"IF('Arrear Sheet'!D12=\"\",\"\",IF('Arrear Sheet'!C12=\"TOTAL\",\"\",IF('Arrear Sheet'!D12=\"अक्षरें राशि :-\",\"\",'Arrear Sheet'!D12)))","v":33800},{"$f":"IF('Arrear Sheet'!E12=\"\",\"\",IF('Arrear Sheet'!C12=\"TOTAL\",\"\",'Arrear Sheet'!E12))","v":14196},{"$f":"IF('Arrear Sheet'!F12=\"\",\"\",IF('Arrear Sheet'!C12=\"TOTAL\",\"\",'Arrear Sheet'!F12))","v":3042},{"$f":"IF('Arrear Sheet'!G12=\"\",\"\",IF('Arrear Sheet'!C12=\"TOTAL\",\"\",SUM(C12:E12)))","v":51038},{"$f":"IF('Arrear Sheet'!H12=\"\",\"\",IF('Arrear Sheet'!C12=\"TOTAL\",\"\",'Arrear Sheet'!H12))","v":32800},{"$f":"IF('Arrear Sheet'!I12=\"\",\"\",IF('Arrear Sheet'!C12=\"TOTAL\",\"\",'Arrear Sheet'!I12))","v":13776},{"$f":"IF('Arrear Sheet'!J12=\"\",\"\",IF('Arrear Sheet'!C12=\"TOTAL\",\"\",'Arrear Sheet'!J12))","v":2952},{"$f":"IF('Arrear Sheet'!K12=\"\",\"\",IF('Arrear Sheet'!C12=\"TOTAL\",\"\",SUM(G12:I12)))","v":49528},{"$f":"IF('Arrear Sheet'!L12=\"\",\"\",IF('Arrear Sheet'!C12=\"TOTAL\",\"\",'Arrear Sheet'!L12))","v":1000},{"$f":"IF('Arrear Sheet'!M12=\"\",\"\",IF('Arrear Sheet'!C12=\"TOTAL\",\"\",'Arrear Sheet'!M12))","v":420},{"$f":"IF('Arrear Sheet'!N12=\"\",\"\",IF('Arrear Sheet'!C12=\"TOTAL\",\"\",'Arrear Sheet'!N12))","v":90},{"$f":"IF('Arrear Sheet'!O12=\"\",\"\",IF('Arrear Sheet'!C12=\"TOTAL\",\"\",SUM(K12:M12)))","v":1510},{"$f":"IF('Arrear Sheet'!P12=\"\",\"\",IF('Arrear Sheet'!C12=\"TOTAL\",\"\",'Arrear Sheet'!P12))","v":2100},{"$f":"IF('Arrear Sheet'!Q12=\"\",\"\",IF('Arrear Sheet'!C12=\"TOTAL\",\"\",'Arrear Sheet'!Q12))","v":2100},{"$f":"IF('Arrear Sheet'!R12=\"\",\"\",IF('Arrear Sheet'!C12=\"TOTAL\",\"\",'Arrear Sheet'!R12))","v":0},{"$f":"IF('Arrear Sheet'!S12=\"\",\"\",IF('Arrear Sheet'!C12=\"TOTAL\",\"\",'Arrear Sheet'!S12))","v":0},{"$f":"IF('Arrear Sheet'!T12=\"\",\"\",IF('Arrear Sheet'!C12=\"TOTAL\",\"\",'Arrear Sheet'!T12))","v":0},{"$f":"IF('Arrear Sheet'!U12=\"\",\"\",IF('Arrear Sheet'!C12=\"TOTAL\",\"\",'Arrear Sheet'!U12))","v":0},{"$f":"IF('Arrear Sheet'!V12=\"\",\"\",IF('Arrear Sheet'!C12=\"TOTAL\",\"\",'Arrear Sheet'!V12))","v":""},{"$f":"IF('Arrear Sheet'!W12=\"\",\"\",IF('Arrear Sheet'!C12=\"TOTAL\",\"\",'Arrear Sheet'!W12))","v":""},{"$f":"IF('Arrear Sheet'!X12=\"\",\"\",IF('Arrear Sheet'!C12=\"TOTAL\",\"\",'Arrear Sheet'!X12))","v":""},{"$f":"IF('Arrear Sheet'!Y12=\"\",\"\",IF('Arrear Sheet'!C12=\"TOTAL\",\"\",'Arrear Sheet'!Y12))","v":658},{"$f":"IF('Arrear Sheet'!Z12=\"\",\"\",IF('Arrear Sheet'!C12=\"TOTAL\",\"\",'Arrear Sheet'!Z12))","v":440},{"$f":"IF('Arrear Sheet'!AA12=\"\",\"\",IF('Arrear Sheet'!C12=\"TOTAL\",\"\",'Arrear Sheet'!AA12))","v":218},{"$f":"IF('Arrear Sheet'!AB12=\"\",\"\",IF('Arrear Sheet'!C12=\"TOTAL\",\"\",'Arrear Sheet'!AB12))","v":""},{"$f":"IF('Arrear Sheet'!AC12=\"\",\"\",IF('Arrear Sheet'!C12=\"TOTAL\",\"\",'Arrear Sheet'!AC12))","v":0},{"$f":"IF('Arrear Sheet'!AD12=\"\",\"\",IF('Arrear Sheet'!C12=\"TOTAL\",\"\",'Arrear Sheet'!AD12))","v":0},{"$f":"IF('Arrear Sheet'!AE12=\"\",\"\",IF('Arrear Sheet'!C12=\"TOTAL\",\"\",SUM(N12-AC12)))","v":1510}]
[{"$f":"IF('Arrear Sheet'!B13=\"\",\"\",'Arrear Sheet'!B13)","v":6},{"$f":"IF('Arrear Sheet'!C13=\"\",\"\",IF('Arrear Sheet'!C13=\"TOTAL\",\"\",'Arrear Sheet'!C13))","v":"2023-06-01"},{"$f":"IF('Arrear Sheet'!D13=\"\",\"\",IF('Arrear Sheet'!C13=\"TOTAL\",\"\",IF('Arrear Sheet'!D13=\"अक्षरें राशि :-\",\"\",'Arrear Sheet'!D13)))","v":33800},{"$f":"IF('Arrear Sheet'!E13=\"\",\"\",IF('Arrear Sheet'!C13=\"TOTAL\",\"\",'Arrear Sheet'!E13))","v":14196},{"$f":"IF('Arrear Sheet'!F13=\"\",\"\",IF('Arrear Sheet'!C13=\"TOTAL\",\"\",'Arrear Sheet'!F13))","v":3042},{"$f":"IF('Arrear Sheet'!G13=\"\",\"\",IF('Arrear Sheet'!C13=\"TOTAL\",\"\",SUM(C13:E13)))","v":51038},{"$f":"IF('Arrear Sheet'!H13=\"\",\"\",IF('Arrear Sheet'!C13=\"TOTAL\",\"\",'Arrear Sheet'!H13))","v":32800},{"$f":"IF('Arrear Sheet'!I13=\"\",\"\",IF('Arrear Sheet'!C13=\"TOTAL\",\"\",'Arrear Sheet'!I13))","v":13776},{"$f":"IF('Arrear Sheet'!J13=\"\",\"\",IF('Arrear Sheet'!C13=\"TOTAL\",\"\",'Arrear Sheet'!J13))","v":2952},{"$f":"IF('Arrear Sheet'!K13=\"\",\"\",IF('Arrear Sheet'!C13=\"TOTAL\",\"\",SUM(G13:I13)))","v":49528},{"$f":"IF('Arrear Sheet'!L13=\"\",\"\",IF('Arrear Sheet'!C13=\"TOTAL\",\"\",'Arrear Sheet'!L13))","v":1000},{"$f":"IF('Arrear Sheet'!M13=\"\",\"\",IF('Arrear Sheet'!C13=\"TOTAL\",\"\",'Arrear Sheet'!M13))","v":420},{"$f":"IF('Arrear Sheet'!N13=\"\",\"\",IF('Arrear Sheet'!C13=\"TOTAL\",\"\",'Arrear Sheet'!N13))","v":90},{"$f":"IF('Arrear Sheet'!O13=\"\",\"\",IF('Arrear Sheet'!C13=\"TOTAL\",\"\",SUM(K13:M13)))","v":1510},{"$f":"IF('Arrear Sheet'!P13=\"\",\"\",IF('Arrear Sheet'!C13=\"TOTAL\",\"\",'Arrear Sheet'!P13))","v":2100},{"$f":"IF('Arrear Sheet'!Q13=\"\",\"\",IF('Arrear Sheet'!C13=\"TOTAL\",\"\",'Arrear Sheet'!Q13))","v":2100},{"$f":"IF('Arrear Sheet'!R13=\"\",\"\",IF('Arrear Sheet'!C13=\"TOTAL\",\"\",'Arrear Sheet'!R13))","v":0},{"$f":"IF('Arrear Sheet'!S13=\"\",\"\",IF('Arrear Sheet'!C13=\"TOTAL\",\"\",'Arrear Sheet'!S13))","v":0},{"$f":"IF('Arrear Sheet'!T13=\"\",\"\",IF('Arrear Sheet'!C13=\"TOTAL\",\"\",'Arrear Sheet'!T13))","v":0},{"$f":"IF('Arrear Sheet'!U13=\"\",\"\",IF('Arrear Sheet'!C13=\"TOTAL\",\"\",'Arrear Sheet'!U13))","v":0},{"$f":"IF('Arrear Sheet'!V13=\"\",\"\",IF('Arrear Sheet'!C13=\"TOTAL\",\"\",'Arrear Sheet'!V13))","v":""},{"$f":"IF('Arrear Sheet'!W13=\"\",\"\",IF('Arrear Sheet'!C13=\"TOTAL\",\"\",'Arrear Sheet'!W13))","v":""},{"$f":"IF('Arrear Sheet'!X13=\"\",\"\",IF('Arrear Sheet'!C13=\"TOTAL\",\"\",'Arrear Sheet'!X13))","v":""},{"$f":"IF('Arrear Sheet'!Y13=\"\",\"\",IF('Arrear Sheet'!C13=\"TOTAL\",\"\",'Arrear Sheet'!Y13))","v":658},{"$f":"IF('Arrear Sheet'!Z13=\"\",\"\",IF('Arrear Sheet'!C13=\"TOTAL\",\"\",'Arrear Sheet'!Z13))","v":440},{"$f":"IF('Arrear Sheet'!AA13=\"\",\"\",IF('Arrear Sheet'!C13=\"TOTAL\",\"\",'Arrear Sheet'!AA13))","v":218},{"$f":"IF('Arrear Sheet'!AB13=\"\",\"\",IF('Arrear Sheet'!C13=\"TOTAL\",\"\",'Arrear Sheet'!AB13))","v":""},{"$f":"IF('Arrear Sheet'!AC13=\"\",\"\",IF('Arrear Sheet'!C13=\"TOTAL\",\"\",'Arrear Sheet'!AC13))","v":0},{"$f":"IF('Arrear Sheet'!AD13=\"\",\"\",IF('Arrear Sheet'!C13=\"TOTAL\",\"\",'Arrear Sheet'!AD13))","v":0},{"$f":"IF('Arrear Sheet'!AE13=\"\",\"\",IF('Arrear Sheet'!C13=\"TOTAL\",\"\",SUM(N13-AC13)))","v":1510}]
[{"$f":"IF('Arrear Sheet'!B14=\"\",\"\",'Arrear Sheet'!B14)","v":7},{"$f":"IF('Arrear Sheet'!C14=\"\",\"\",IF('Arrear Sheet'!C14=\"TOTAL\",\"\",'Arrear Sheet'!C14))","v":"2023-07-01"},{"$f":"IF('Arrear Sheet'!D14=\"\",\"\",IF('Arrear Sheet'!C14=\"TOTAL\",\"\",IF('Arrear Sheet'!D14=\"अक्षरें राशि :-\",\"\",'Arrear Sheet'!D14)))","v":34800},{"$f":"IF('Arrear Sheet'!E14=\"\",\"\",IF('Arrear Sheet'!C14=\"TOTAL\",\"\",'Arrear Sheet'!E14))","v":14616},{"$f":"IF('Arrear Sheet'!F14=\"\",\"\",IF('Arrear Sheet'!C14=\"TOTAL\",\"\",'Arrear Sheet'!F14))","v":3132},{"$f":"IF('Arrear Sheet'!G14=\"\",\"\",IF('Arrear Sheet'!C14=\"TOTAL\",\"\",SUM(C14:E14)))","v":52548},{"$f":"IF('Arrear Sheet'!H14=\"\",\"\",IF('Arrear Sheet'!C14=\"TOTAL\",\"\",'Arrear Sheet'!H14))","v":33800},{"$f":"IF('Arrear Sheet'!I14=\"\",\"\",IF('Arrear Sheet'!C14=\"TOTAL\",\"\",'Arrear Sheet'!I14))","v":14196},{"$f":"IF('Arrear Sheet'!J14=\"\",\"\",IF('Arrear Sheet'!C14=\"TOTAL\",\"\",'Arrear Sheet'!J14))","v":3042},{"$f":"IF('Arrear Sheet'!K14=\"\",\"\",IF('Arrear Sheet'!C14=\"TOTAL\",\"\",SUM(G14:I14)))","v":51038},{"$f":"IF('Arrear Sheet'!L14=\"\",\"\",IF('Arrear Sheet'!C14=\"TOTAL\",\"\",'Arrear Sheet'!L14))","v":1000},{"$f":"IF('Arrear Sheet'!M14=\"\",\"\",IF('Arrear Sheet'!C14=\"TOTAL\",\"\",'Arrear Sheet'!M14))","v":420},{"$f":"IF('Arrear Sheet'!N14=\"\",\"\",IF('Arrear Sheet'!C14=\"TOTAL\",\"\",'Arrear Sheet'!N14))","v":90},{"$f":"IF('Arrear Sheet'!O14=\"\",\"\",IF('Arrear Sheet'!C14=\"TOTAL\",\"\",SUM(K14:M14)))","v":1510},{"$f":"IF('Arrear Sheet'!P14=\"\",\"\",IF('Arrear Sheet'!C14=\"TOTAL\",\"\",'Arrear Sheet'!P14))","v":2100},{"$f":"IF('Arrear Sheet'!Q14=\"\",\"\",IF('Arrear Sheet'!C14=\"TOTAL\",\"\",'Arrear Sheet'!Q14))","v":2100},{"$f":"IF('Arrear Sheet'!R14=\"\",\"\",IF('Arrear Sheet'!C14=\"TOTAL\",\"\",'Arrear Sheet'!R14))","v":0},{"$f":"IF('Arrear Sheet'!S14=\"\",\"\",IF('Arrear Sheet'!C14=\"TOTAL\",\"\",'Arrear Sheet'!S14))","v":0},{"$f":"IF('Arrear Sheet'!T14=\"\",\"\",IF('Arrear Sheet'!C14=\"TOTAL\",\"\",'Arrear Sheet'!T14))","v":0},{"$f":"IF('Arrear Sheet'!U14=\"\",\"\",IF('Arrear Sheet'!C14=\"TOTAL\",\"\",'Arrear Sheet'!U14))","v":0},{"$f":"IF('Arrear Sheet'!V14=\"\",\"\",IF('Arrear Sheet'!C14=\"TOTAL\",\"\",'Arrear Sheet'!V14))","v":""},{"$f":"IF('Arrear Sheet'!W14=\"\",\"\",IF('Arrear Sheet'!C14=\"TOTAL\",\"\",'Arrear Sheet'!W14))","v":""},{"$f":"IF('Arrear Sheet'!X14=\"\",\"\",IF('Arrear Sheet'!C14=\"TOTAL\",\"\",'Arrear Sheet'!X14))","v":""},{"$f":"IF('Arrear Sheet'!Y14=\"\",\"\",IF('Arrear Sheet'!C14=\"TOTAL\",\"\",'Arrear Sheet'!Y14))","v":658},{"$f":"IF('Arrear Sheet'!Z14=\"\",\"\",IF('Arrear Sheet'!C14=\"TOTAL\",\"\",'Arrear Sheet'!Z14))","v":440},{"$f":"IF('Arrear Sheet'!AA14=\"\",\"\",IF('Arrear Sheet'!C14=\"TOTAL\",\"\",'Arrear Sheet'!AA14))","v":218},{"$f":"IF('Arrear Sheet'!AB14=\"\",\"\",IF('Arrear Sheet'!C14=\"TOTAL\",\"\",'Arrear Sheet'!AB14))","v":""},{"$f":"IF('Arrear Sheet'!AC14=\"\",\"\",IF('Arrear Sheet'!C14=\"TOTAL\",\"\",'Arrear Sheet'!AC14))","v":0},{"$f":"IF('Arrear Sheet'!AD14=\"\",\"\",IF('Arrear Sheet'!C14=\"TOTAL\",\"\",'Arrear Sheet'!AD14))","v":0},{"$f":"IF('Arrear Sheet'!AE14=\"\",\"\",IF('Arrear Sheet'!C14=\"TOTAL\",\"\",SUM(N14-AC14)))","v":1510}]
[{"$f":"IF('Arrear Sheet'!B15=\"\",\"\",'Arrear Sheet'!B15)","v":8},{"$f":"IF('Arrear Sheet'!C15=\"\",\"\",IF('Arrear Sheet'!C15=\"TOTAL\",\"\",'Arrear Sheet'!C15))","v":"2023-08-01"},{"$f":"IF('Arrear Sheet'!D15=\"\",\"\",IF('Arrear Sheet'!C15=\"TOTAL\",\"\",IF('Arrear Sheet'!D15=\"अक्षरें राशि :-\",\"\",'Arrear Sheet'!D15)))","v":34800},{"$f":"IF('Arrear Sheet'!E15=\"\",\"\",IF('Arrear Sheet'!C15=\"TOTAL\",\"\",'Arrear Sheet'!E15))","v":14616},{"$f":"IF('Arrear Sheet'!F15=\"\",\"\",IF('Arrear Sheet'!C15=\"TOTAL\",\"\",'Arrear Sheet'!F15))","v":3132},{"$f":"IF('Arrear Sheet'!G15=\"\",\"\",IF('Arrear Sheet'!C15=\"TOTAL\",\"\",SUM(C15:E15)))","v":52548},{"$f":"IF('Arrear Sheet'!H15=\"\",\"\",IF('Arrear Sheet'!C15=\"TOTAL\",\"\",'Arrear Sheet'!H15))","v":33800},{"$f":"IF('Arrear Sheet'!I15=\"\",\"\",IF('Arrear Sheet'!C15=\"TOTAL\",\"\",'Arrear Sheet'!I15))","v":14196},{"$f":"IF('Arrear Sheet'!J15=\"\",\"\",IF('Arrear Sheet'!C15=\"TOTAL\",\"\",'Arrear Sheet'!J15))","v":3042},{"$f":"IF('Arrear Sheet'!K15=\"\",\"\",IF('Arrear Sheet'!C15=\"TOTAL\",\"\",SUM(G15:I15)))","v":51038},{"$f":"IF('Arrear Sheet'!L15=\"\",\"\",IF('Arrear Sheet'!C15=\"TOTAL\",\"\",'Arrear Sheet'!L15))","v":1000},{"$f":"IF('Arrear Sheet'!M15=\"\",\"\",IF('Arrear Sheet'!C15=\"TOTAL\",\"\",'Arrear Sheet'!M15))","v":420},{"$f":"IF('Arrear Sheet'!N15=\"\",\"\",IF('Arrear Sheet'!C15=\"TOTAL\",\"\",'Arrear Sheet'!N15))","v":90},{"$f":"IF('Arrear Sheet'!O15=\"\",\"\",IF('Arrear Sheet'!C15=\"TOTAL\",\"\",SUM(K15:M15)))","v":1510},{"$f":"IF('Arrear Sheet'!P15=\"\",\"\",IF('Arrear Sheet'!C15=\"TOTAL\",\"\",'Arrear Sheet'!P15))","v":2100},{"$f":"IF('Arrear Sheet'!Q15=\"\",\"\",IF('Arrear Sheet'!C15=\"TOTAL\",\"\",'Arrear Sheet'!Q15))","v":2100},{"$f":"IF('Arrear Sheet'!R15=\"\",\"\",IF('Arrear Sheet'!C15=\"TOTAL\",\"\",'Arrear Sheet'!R15))","v":0},{"$f":"IF('Arrear Sheet'!S15=\"\",\"\",IF('Arrear Sheet'!C15=\"TOTAL\",\"\",'Arrear Sheet'!S15))","v":0},{"$f":"IF('Arrear Sheet'!T15=\"\",\"\",IF('Arrear Sheet'!C15=\"TOTAL\",\"\",'Arrear Sheet'!T15))","v":0},{"$f":"IF('Arrear Sheet'!U15=\"\",\"\",IF('Arrear Sheet'!C15=\"TOTAL\",\"\",'Arrear Sheet'!U15))","v":0},{"$f":"IF('Arrear Sheet'!V15=\"\",\"\",IF('Arrear Sheet'!C15=\"TOTAL\",\"\",'Arrear Sheet'!V15))","v":""},{"$f":"IF('Arrear Sheet'!W15=\"\",\"\",IF('Arrear Sheet'!C15=\"TOTAL\",\"\",'Arrear Sheet'!W15))","v":""},{"$f":"IF('Arrear Sheet'!X15=\"\",\"\",IF('Arrear Sheet'!C15=\"TOTAL\",\"\",'Arrear Sheet'!X15))","v":""},{"$f":"IF('Arrear Sheet'!Y15=\"\",\"\",IF('Arrear Sheet'!C15=\"TOTAL\",\"\",'Arrear Sheet'!Y15))","v":658},{"$f":"IF('Arrear Sheet'!Z15=\"\",\"\",IF('Arrear Sheet'!C15=\"TOTAL\",\"\",'Arrear Sheet'!Z15))","v":440},{"$f":"IF('Arrear Sheet'!AA15=\"\",\"\",IF('Arrear Sheet'!C15=\"TOTAL\",\"\",'Arrear Sheet'!AA15))","v":218},{"$f":"IF('Arrear Sheet'!AB15=\"\",\"\",IF('Arrear Sheet'!C15=\"TOTAL\",\"\",'Arrear Sheet'!AB15))","v":""},{"$f":"IF('Arrear Sheet'!AC15=\"\",\"\",IF('Arrear Sheet'!C15=\"TOTAL\",\"\",'Arrear Sheet'!AC15))","v":0},{"$f":"IF('Arrear Sheet'!AD15=\"\",\"\",IF('Arrear Sheet'!C15=\"TOTAL\",\"\",'Arrear Sheet'!AD15))","v":0},{"$f":"IF('Arrear Sheet'!AE15=\"\",\"\",IF('Arrear Sheet'!C15=\"TOTAL\",\"\",SUM(N15-AC15)))","v":1510}]
[{"$f":"IF('Arrear Sheet'!B16=\"\",\"\",'Arrear Sheet'!B16)","v":9},{"$f":"IF('Arrear Sheet'!C16=\"\",\"\",IF('Arrear Sheet'!C16=\"TOTAL\",\"\",'Arrear Sheet'!C16))","v":"2023-09-01"},{"$f":"IF('Arrear Sheet'!D16=\"\",\"\",IF('Arrear Sheet'!C16=\"TOTAL\",\"\",IF('Arrear Sheet'!D16=\"अक्षरें राशि :-\",\"\",'Arrear Sheet'!D16)))","v":34800},{"$f":"IF('Arrear Sheet'!E16=\"\",\"\",IF('Arrear Sheet'!C16=\"TOTAL\",\"\",'Arrear Sheet'!E16))","v":14616},{"$f":"IF('Arrear Sheet'!F16=\"\",\"\",IF('Arrear Sheet'!C16=\"TOTAL\",\"\",'Arrear Sheet'!F16))","v":3132},{"$f":"IF('Arrear Sheet'!G16=\"\",\"\",IF('Arrear Sheet'!C16=\"TOTAL\",\"\",SUM(C16:E16)))","v":52548},{"$f":"IF('Arrear Sheet'!H16=\"\",\"\",IF('Arrear Sheet'!C16=\"TOTAL\",\"\",'Arrear Sheet'!H16))","v":33800},{"$f":"IF('Arrear Sheet'!I16=\"\",\"\",IF('Arrear Sheet'!C16=\"TOTAL\",\"\",'Arrear Sheet'!I16))","v":14196},{"$f":"IF('Arrear Sheet'!J16=\"\",\"\",IF('Arrear Sheet'!C16=\"TOTAL\",\"\",'Arrear Sheet'!J16))","v":3042},{"$f":"IF('Arrear Sheet'!K16=\"\",\"\",IF('Arrear Sheet'!C16=\"TOTAL\",\"\",SUM(G16:I16)))","v":51038},{"$f":"IF('Arrear Sheet'!L16=\"\",\"\",IF('Arrear Sheet'!C16=\"TOTAL\",\"\",'Arrear Sheet'!L16))","v":1000},{"$f":"IF('Arrear Sheet'!M16=\"\",\"\",IF('Arrear Sheet'!C16=\"TOTAL\",\"\",'Arrear Sheet'!M16))","v":420},{"$f":"IF('Arrear Sheet'!N16=\"\",\"\",IF('Arrear Sheet'!C16=\"TOTAL\",\"\",'Arrear Sheet'!N16))","v":90},{"$f":"IF('Arrear Sheet'!O16=\"\",\"\",IF('Arrear Sheet'!C16=\"TOTAL\",\"\",SUM(K16:M16)))","v":1510},{"$f":"IF('Arrear Sheet'!P16=\"\",\"\",IF('Arrear Sheet'!C16=\"TOTAL\",\"\",'Arrear Sheet'!P16))","v":2100},{"$f":"IF('Arrear Sheet'!Q16=\"\",\"\",IF('Arrear Sheet'!C16=\"TOTAL\",\"\",'Arrear Sheet'!Q16))","v":2100},{"$f":"IF('Arrear Sheet'!R16=\"\",\"\",IF('Arrear Sheet'!C16=\"TOTAL\",\"\",'Arrear Sheet'!R16))","v":0},{"$f":"IF('Arrear Sheet'!S16=\"\",\"\",IF('Arrear Sheet'!C16=\"TOTAL\",\"\",'Arrear Sheet'!S16))","v":0},{"$f":"IF('Arrear Sheet'!T16=\"\",\"\",IF('Arrear Sheet'!C16=\"TOTAL\",\"\",'Arrear Sheet'!T16))","v":0},{"$f":"IF('Arrear Sheet'!U16=\"\",\"\",IF('Arrear Sheet'!C16=\"TOTAL\",\"\",'Arrear Sheet'!U16))","v":0},{"$f":"IF('Arrear Sheet'!V16=\"\",\"\",IF('Arrear Sheet'!C16=\"TOTAL\",\"\",'Arrear Sheet'!V16))","v":""},{"$f":"IF('Arrear Sheet'!W16=\"\",\"\",IF('Arrear Sheet'!C16=\"TOTAL\",\"\",'Arrear Sheet'!W16))","v":""},{"$f":"IF('Arrear Sheet'!X16=\"\",\"\",IF('Arrear Sheet'!C16=\"TOTAL\",\"\",'Arrear Sheet'!X16))","v":""},{"$f":"IF('Arrear Sheet'!Y16=\"\",\"\",IF('Arrear Sheet'!C16=\"TOTAL\",\"\",'Arrear Sheet'!Y16))","v":658},{"$f":"IF('Arrear Sheet'!Z16=\"\",\"\",IF('Arrear Sheet'!C16=\"TOTAL\",\"\",'Arrear Sheet'!Z16))","v":440},{"$f":"IF('Arrear Sheet'!AA16=\"\",\"\",IF('Arrear Sheet'!C16=\"TOTAL\",\"\",'Arrear Sheet'!AA16))","v":218},{"$f":"IF('Arrear Sheet'!AB16=\"\",\"\",IF('Arrear Sheet'!C16=\"TOTAL\",\"\",'Arrear Sheet'!AB16))","v":""},{"$f":"IF('Arrear Sheet'!AC16=\"\",\"\",IF('Arrear Sheet'!C16=\"TOTAL\",\"\",'Arrear Sheet'!AC16))","v":0},{"$f":"IF('Arrear Sheet'!AD16=\"\",\"\",IF('Arrear Sheet'!C16=\"TOTAL\",\"\",'Arrear Sheet'!AD16))","v":0},{"$f":"IF('Arrear Sheet'!AE16=\"\",\"\",IF('Arrear Sheet'!C16=\"TOTAL\",\"\",SUM(N16-AC16)))","v":1510}]
[{"$f":"IF('Arrear Sheet'!B17=\"\",\"\",'Arrear Sheet'!B17)","v":10},{"$f":"IF('Arrear Sheet'!C17=\"\",\"\",IF('Arrear Sheet'!C17=\"TOTAL\",\"\",'Arrear Sheet'!C17))","v":"2023-10-01"},{"$f":"IF('Arrear Sheet'!D17=\"\",\"\",IF('Arrear Sheet'!C17=\"TOTAL\",\"\",IF('Arrear Sheet'!D17=\"अक्षरें राशि :-\",\"\",'Arrear Sheet'!D17)))","v":34800},{"$f":"IF('Arrear Sheet'!E17=\"\",\"\",IF('Arrear Sheet'!C17=\"TOTAL\",\"\",'Arrear Sheet'!E17))","v":14616},{"$f":"IF('Arrear Sheet'!F17=\"\",\"\",IF('Arrear Sheet'!C17=\"TOTAL\",\"\",'Arrear Sheet'!F17))","v":3132},{"$f":"IF('Arrear Sheet'!G17=\"\",\"\",IF('Arrear Sheet'!C17=\"TOTAL\",\"\",SUM(C17:E17)))","v":52548},{"$f":"IF('Arrear Sheet'!H17=\"\",\"\",IF('Arrear Sheet'!C17=\"TOTAL\",\"\",'Arrear Sheet'!H17))","v":33800},{"$f":"IF('Arrear Sheet'!I17=\"\",\"\",IF('Arrear Sheet'!C17=\"TOTAL\",\"\",'Arrear Sheet'!I17))","v":14196},{"$f":"IF('Arrear Sheet'!J17=\"\",\"\",IF('Arrear Sheet'!C17=\"TOTAL\",\"\",'Arrear Sheet'!J17))","v":3042},{"$f":"IF('Arrear Sheet'!K17=\"\",\"\",IF('Arrear Sheet'!C17=\"TOTAL\",\"\",SUM(G17:I17)))","v":51038},{"$f":"IF('Arrear Sheet'!L17=\"\",\"\",IF('Arrear Sheet'!C17=\"TOTAL\",\"\",'Arrear Sheet'!L17))","v":1000},{"$f":"IF('Arrear Sheet'!M17=\"\",\"\",IF('Arrear Sheet'!C17=\"TOTAL\",\"\",'Arrear Sheet'!M17))","v":420},{"$f":"IF('Arrear Sheet'!N17=\"\",\"\",IF('Arrear Sheet'!C17=\"TOTAL\",\"\",'Arrear Sheet'!N17))","v":90},{"$f":"IF('Arrear Sheet'!O17=\"\",\"\",IF('Arrear Sheet'!C17=\"TOTAL\",\"\",SUM(K17:M17)))","v":1510},{"$f":"IF('Arrear Sheet'!P17=\"\",\"\",IF('Arrear Sheet'!C17=\"TOTAL\",\"\",'Arrear Sheet'!P17))","v":2100},{"$f":"IF('Arrear Sheet'!Q17=\"\",\"\",IF('Arrear Sheet'!C17=\"TOTAL\",\"\",'Arrear Sheet'!Q17))","v":2100},{"$f":"IF('Arrear Sheet'!R17=\"\",\"\",IF('Arrear Sheet'!C17=\"TOTAL\",\"\",'Arrear Sheet'!R17))","v":0},{"$f":"IF('Arrear Sheet'!S17=\"\",\"\",IF('Arrear Sheet'!C17=\"TOTAL\",\"\",'Arrear Sheet'!S17))","v":0},{"$f":"IF('Arrear Sheet'!T17=\"\",\"\",IF('Arrear Sheet'!C17=\"TOTAL\",\"\",'Arrear Sheet'!T17))","v":0},{"$f":"IF('Arrear Sheet'!U17=\"\",\"\",IF('Arrear Sheet'!C17=\"TOTAL\",\"\",'Arrear Sheet'!U17))","v":0},{"$f":"IF('Arrear Sheet'!V17=\"\",\"\",IF('Arrear Sheet'!C17=\"TOTAL\",\"\",'Arrear Sheet'!V17))","v":""},{"$f":"IF('Arrear Sheet'!W17=\"\",\"\",IF('Arrear Sheet'!C17=\"TOTAL\",\"\",'Arrear Sheet'!W17))","v":""},{"$f":"IF('Arrear Sheet'!X17=\"\",\"\",IF('Arrear Sheet'!C17=\"TOTAL\",\"\",'Arrear Sheet'!X17))","v":""},{"$f":"IF('Arrear Sheet'!Y17=\"\",\"\",IF('Arrear Sheet'!C17=\"TOTAL\",\"\",'Arrear Sheet'!Y17))","v":658},{"$f":"IF('Arrear Sheet'!Z17=\"\",\"\",IF('Arrear Sheet'!C17=\"TOTAL\",\"\",'Arrear Sheet'!Z17))","v":440},{"$f":"IF('Arrear Sheet'!AA17=\"\",\"\",IF('Arrear Sheet'!C17=\"TOTAL\",\"\",'Arrear Sheet'!AA17))","v":218},{"$f":"IF('Arrear Sheet'!AB17=\"\",\"\",IF('Arrear Sheet'!C17=\"TOTAL\",\"\",'Arrear Sheet'!AB17))","v":""},{"$f":"IF('Arrear Sheet'!AC17=\"\",\"\",IF('Arrear Sheet'!C17=\"TOTAL\",\"\",'Arrear Sheet'!AC17))","v":0},{"$f":"IF('Arrear Sheet'!AD17=\"\",\"\",IF('Arrear Sheet'!C17=\"TOTAL\",\"\",'Arrear Sheet'!AD17))","v":0},{"$f":"IF('Arrear Sheet'!AE17=\"\",\"\",IF('Arrear Sheet'!C17=\"TOTAL\",\"\",SUM(N17-AC17)))","v":1510}]
[{"$f":"IF('Arrear Sheet'!B18=\"\",\"\",'Arrear Sheet'!B18)","v":11},{"$f":"IF('Arrear Sheet'!C18=\"\",\"\",IF('Arrear Sheet'!C18=\"TOTAL\",\"\",'Arrear Sheet'!C18))","v":"2023-11-01"},{"$f":"IF('Arrear Sheet'!D18=\"\",\"\",IF('Arrear Sheet'!C18=\"TOTAL\",\"\",IF('Arrear Sheet'!D18=\"अक्षरें राशि :-\",\"\",'Arrear Sheet'!D18)))","v":34800},{"$f":"IF('Arrear Sheet'!E18=\"\",\"\",IF('Arrear Sheet'!C18=\"TOTAL\",\"\",'Arrear Sheet'!E18))","v":14616},{"$f":"IF('Arrear Sheet'!F18=\"\",\"\",IF('Arrear Sheet'!C18=\"TOTAL\",\"\",'Arrear Sheet'!F18))","v":3132},{"$f":"IF('Arrear Sheet'!G18=\"\",\"\",IF('Arrear Sheet'!C18=\"TOTAL\",\"\",SUM(C18:E18)))","v":52548},{"$f":"IF('Arrear Sheet'!H18=\"\",\"\",IF('Arrear Sheet'!C18=\"TOTAL\",\"\",'Arrear Sheet'!H18))","v":33800},{"$f":"IF('Arrear Sheet'!I18=\"\",\"\",IF('Arrear Sheet'!C18=\"TOTAL\",\"\",'Arrear Sheet'!I18))","v":14196},{"$f":"IF('Arrear Sheet'!J18=\"\",\"\",IF('Arrear Sheet'!C18=\"TOTAL\",\"\",'Arrear Sheet'!J18))","v":3042},{"$f":"IF('Arrear Sheet'!K18=\"\",\"\",IF('Arrear Sheet'!C18=\"TOTAL\",\"\",SUM(G18:I18)))","v":51038},{"$f":"IF('Arrear Sheet'!L18=\"\",\"\",IF('Arrear Sheet'!C18=\"TOTAL\",\"\",'Arrear Sheet'!L18))","v":1000},{"$f":"IF('Arrear Sheet'!M18=\"\",\"\",IF('Arrear Sheet'!C18=\"TOTAL\",\"\",'Arrear Sheet'!M18))","v":420},{"$f":"IF('Arrear Sheet'!N18=\"\",\"\",IF('Arrear Sheet'!C18=\"TOTAL\",\"\",'Arrear Sheet'!N18))","v":90},{"$f":"IF('Arrear Sheet'!O18=\"\",\"\",IF('Arrear Sheet'!C18=\"TOTAL\",\"\",SUM(K18:M18)))","v":1510},{"$f":"IF('Arrear Sheet'!P18=\"\",\"\",IF('Arrear Sheet'!C18=\"TOTAL\",\"\",'Arrear Sheet'!P18))","v":2100},{"$f":"IF('Arrear Sheet'!Q18=\"\",\"\",IF('Arrear Sheet'!C18=\"TOTAL\",\"\",'Arrear Sheet'!Q18))","v":2100},{"$f":"IF('Arrear Sheet'!R18=\"\",\"\",IF('Arrear Sheet'!C18=\"TOTAL\",\"\",'Arrear Sheet'!R18))","v":0},{"$f":"IF('Arrear Sheet'!S18=\"\",\"\",IF('Arrear Sheet'!C18=\"TOTAL\",\"\",'Arrear Sheet'!S18))","v":0},{"$f":"IF('Arrear Sheet'!T18=\"\",\"\",IF('Arrear Sheet'!C18=\"TOTAL\",\"\",'Arrear Sheet'!T18))","v":0},{"$f":"IF('Arrear Sheet'!U18=\"\",\"\",IF('Arrear Sheet'!C18=\"TOTAL\",\"\",'Arrear Sheet'!U18))","v":0},{"$f":"IF('Arrear Sheet'!V18=\"\",\"\",IF('Arrear Sheet'!C18=\"TOTAL\",\"\",'Arrear Sheet'!V18))","v":""},{"$f":"IF('Arrear Sheet'!W18=\"\",\"\",IF('Arrear Sheet'!C18=\"TOTAL\",\"\",'Arrear Sheet'!W18))","v":""},{"$f":"IF('Arrear Sheet'!X18=\"\",\"\",IF('Arrear Sheet'!C18=\"TOTAL\",\"\",'Arrear Sheet'!X18))","v":""},{"$f":"IF('Arrear Sheet'!Y18=\"\",\"\",IF('Arrear Sheet'!C18=\"TOTAL\",\"\",'Arrear Sheet'!Y18))","v":658},{"$f":"IF('Arrear Sheet'!Z18=\"\",\"\",IF('Arrear Sheet'!C18=\"TOTAL\",\"\",'Arrear Sheet'!Z18))","v":440},{"$f":"IF('Arrear Sheet'!AA18=\"\",\"\",IF('Arrear Sheet'!C18=\"TOTAL\",\"\",'Arrear Sheet'!AA18))","v":218},{"$f":"IF('Arrear Sheet'!AB18=\"\",\"\",IF('Arrear Sheet'!C18=\"TOTAL\",\"\",'Arrear Sheet'!AB18))","v":""},{"$f":"IF('Arrear Sheet'!AC18=\"\",\"\",IF('Arrear Sheet'!C18=\"TOTAL\",\"\",'Arrear Sheet'!AC18))","v":0},{"$f":"IF('Arrear Sheet'!AD18=\"\",\"\",IF('Arrear Sheet'!C18=\"TOTAL\",\"\",'Arrear Sheet'!AD18))","v":0},{"$f":"IF('Arrear Sheet'!AE18=\"\",\"\",IF('Arrear Sheet'!C18=\"TOTAL\",\"\",SUM(N18-AC18)))","v":1510}]
[{"$f":"IF('Arrear Sheet'!B19=\"\",\"\",'Arrear Sheet'!B19)","v":""},{"$f":"IF('Arrear Sheet'!C19=\"\",\"\",IF('Arrear Sheet'!C19=\"TOTAL\",\"\",'Arrear Sheet'!C19))","v":""},{"$f":"IF('Arrear Sheet'!D19=\"\",\"\",IF('Arrear Sheet'!C19=\"TOTAL\",\"\",IF('Arrear Sheet'!D19=\"अक्षरें राशि :-\",\"\",'Arrear Sheet'!D19)))","v":""},{"$f":"IF('Arrear Sheet'!E19=\"\",\"\",IF('Arrear Sheet'!C19=\"TOTAL\",\"\",'Arrear Sheet'!E19))","v":""},{"$f":"IF('Arrear Sheet'!F19=\"\",\"\",IF('Arrear Sheet'!C19=\"TOTAL\",\"\",'Arrear Sheet'!F19))","v":""},{"$f":"IF('Arrear Sheet'!G19=\"\",\"\",IF('Arrear Sheet'!C19=\"TOTAL\",\"\",SUM(C19:E19)))","v":""},{"$f":"IF('Arrear Sheet'!H19=\"\",\"\",IF('Arrear Sheet'!C19=\"TOTAL\",\"\",'Arrear Sheet'!H19))","v":""},{"$f":"IF('Arrear Sheet'!I19=\"\",\"\",IF('Arrear Sheet'!C19=\"TOTAL\",\"\",'Arrear Sheet'!I19))","v":""},{"$f":"IF('Arrear Sheet'!J19=\"\",\"\",IF('Arrear Sheet'!C19=\"TOTAL\",\"\",'Arrear Sheet'!J19))","v":""},{"$f":"IF('Arrear Sheet'!K19=\"\",\"\",IF('Arrear Sheet'!C19=\"TOTAL\",\"\",SUM(G19:I19)))","v":""},{"$f":"IF('Arrear Sheet'!L19=\"\",\"\",IF('Arrear Sheet'!C19=\"TOTAL\",\"\",'Arrear Sheet'!L19))","v":""},{"$f":"IF('Arrear Sheet'!M19=\"\",\"\",IF('Arrear Sheet'!C19=\"TOTAL\",\"\",'Arrear Sheet'!M19))","v":""},{"$f":"IF('Arrear Sheet'!N19=\"\",\"\",IF('Arrear Sheet'!C19=\"TOTAL\",\"\",'Arrear Sheet'!N19))","v":""},{"$f":"IF('Arrear Sheet'!O19=\"\",\"\",IF('Arrear Sheet'!C19=\"TOTAL\",\"\",SUM(K19:M19)))","v":""},{"$f":"IF('Arrear Sheet'!P19=\"\",\"\",IF('Arrear Sheet'!C19=\"TOTAL\",\"\",'Arrear Sheet'!P19))","v":""},{"$f":"IF('Arrear Sheet'!Q19=\"\",\"\",IF('Arrear Sheet'!C19=\"TOTAL\",\"\",'Arrear Sheet'!Q19))","v":""},{"$f":"IF('Arrear Sheet'!R19=\"\",\"\",IF('Arrear Sheet'!C19=\"TOTAL\",\"\",'Arrear Sheet'!R19))","v":""},{"$f":"IF('Arrear Sheet'!S19=\"\",\"\",IF('Arrear Sheet'!C19=\"TOTAL\",\"\",'Arrear Sheet'!S19))","v":""},{"$f":"IF('Arrear Sheet'!T19=\"\",\"\",IF('Arrear Sheet'!C19=\"TOTAL\",\"\",'Arrear Sheet'!T19))","v":""},{"$f":"IF('Arrear Sheet'!U19=\"\",\"\",IF('Arrear Sheet'!C19=\"TOTAL\",\"\",'Arrear Sheet'!U19))","v":""},{"$f":"IF('Arrear Sheet'!V19=\"\",\"\",IF('Arrear Sheet'!C19=\"TOTAL\",\"\",'Arrear Sheet'!V19))","v":""},{"$f":"IF('Arrear Sheet'!W19=\"\",\"\",IF('Arrear Sheet'!C19=\"TOTAL\",\"\",'Arrear Sheet'!W19))","v":""},{"$f":"IF('Arrear Sheet'!X19=\"\",\"\",IF('Arrear Sheet'!C19=\"TOTAL\",\"\",'Arrear Sheet'!X19))","v":""},{"$f":"IF('Arrear Sheet'!Y19=\"\",\"\",IF('Arrear Sheet'!C19=\"TOTAL\",\"\",'Arrear Sheet'!Y19))","v":""},{"$f":"IF('Arrear Sheet'!Z19=\"\",\"\",IF('Arrear Sheet'!C19=\"TOTAL\",\"\",'Arrear Sheet'!Z19))","v":""},{"$f":"IF('Arrear Sheet'!AA19=\"\",\"\",IF('Arrear Sheet'!C19=\"TOTAL\",\"\",'Arrear Sheet'!AA19))","v":""},{"$f":"IF('Arrear Sheet'!AB19=\"\",\"\",IF('Arrear Sheet'!C19=\"TOTAL\",\"\",'Arrear Sheet'!AB19))","v":""},{"$f":"IF('Arrear Sheet'!AC19=\"\",\"\",IF('Arrear Sheet'!C19=\"TOTAL\",\"\",'Arrear Sheet'!AC19))","v":""},{"$f":"IF('Arrear Sheet'!AD19=\"\",\"\",IF('Arrear Sheet'!C19=\"TOTAL\",\"\",'Arrear Sheet'!AD19))","v":""},{"$f":"IF('Arrear Sheet'!AE19=\"\",\"\",IF('Arrear Sheet'!C19=\"TOTAL\",\"\",SUM(N19-AC19)))","v":""}]
[{"$f":"IF('Arrear Sheet'!B20=\"\",\"\",'Arrear Sheet'!B20)","v":""},{"$f":"IF('Arrear Sheet'!C20=\"\",\"\",IF('Arrear Sheet'!C20=\"TOTAL\",\"\",'Arrear Sheet'!C20))","v":""},{"$f":"IF('Arrear Sheet'!D20=\"\",\"\",IF('Arrear Sheet'!C20=\"TOTAL\",\"\",IF('Arrear Sheet'!D20=\"अक्षरें राशि :-\",\"\",'Arrear Sheet'!D20)))","v":""},{"$f":"IF('Arrear Sheet'!E20=\"\",\"\",IF('Arrear Sheet'!C20=\"TOTAL\",\"\",'Arrear Sheet'!E20))","v":""},{"$f":"IF('Arrear Sheet'!F20=\"\",\"\",IF('Arrear Sheet'!C20=\"TOTAL\",\"\",'Arrear Sheet'!F20))","v":""},{"$f":"IF('Arrear Sheet'!G20=\"\",\"\",IF('Arrear Sheet'!C20=\"TOTAL\",\"\",SUM(C20:E20)))","v":""},{"$f":"IF('Arrear Sheet'!H20=\"\",\"\",IF('Arrear Sheet'!C20=\"TOTAL\",\"\",'Arrear Sheet'!H20))","v":""},{"$f":"IF('Arrear Sheet'!I20=\"\",\"\",IF('Arrear Sheet'!C20=\"TOTAL\",\"\",'Arrear Sheet'!I20))","v":""},{"$f":"IF('Arrear Sheet'!J20=\"\",\"\",IF('Arrear Sheet'!C20=\"TOTAL\",\"\",'Arrear Sheet'!J20))","v":""},{"$f":"IF('Arrear Sheet'!K20=\"\",\"\",IF('Arrear Sheet'!C20=\"TOTAL\",\"\",SUM(G20:I20)))","v":""},{"$f":"IF('Arrear Sheet'!L20=\"\",\"\",IF('Arrear Sheet'!C20=\"TOTAL\",\"\",'Arrear Sheet'!L20))","v":""},{"$f":"IF('Arrear Sheet'!M20=\"\",\"\",IF('Arrear Sheet'!C20=\"TOTAL\",\"\",'Arrear Sheet'!M20))","v":""},{"$f":"IF('Arrear Sheet'!N20=\"\",\"\",IF('Arrear Sheet'!C20=\"TOTAL\",\"\",'Arrear Sheet'!N20))","v":""},{"$f":"IF('Arrear Sheet'!O20=\"\",\"\",IF('Arrear Sheet'!C20=\"TOTAL\",\"\",SUM(K20:M20)))","v":""},{"$f":"IF('Arrear Sheet'!P20=\"\",\"\",IF('Arrear Sheet'!C20=\"TOTAL\",\"\",'Arrear Sheet'!P20))","v":""},{"$f":"IF('Arrear Sheet'!Q20=\"\",\"\",IF('Arrear Sheet'!C20=\"TOTAL\",\"\",'Arrear Sheet'!Q20))","v":""},{"$f":"IF('Arrear Sheet'!R20=\"\",\"\",IF('Arrear Sheet'!C20=\"TOTAL\",\"\",'Arrear Sheet'!R20))","v":""},{"$f":"IF('Arrear Sheet'!S20=\"\",\"\",IF('Arrear Sheet'!C20=\"TOTAL\",\"\",'Arrear Sheet'!S20))","v":""},{"$f":"IF('Arrear Sheet'!T20=\"\",\"\",IF('Arrear Sheet'!C20=\"TOTAL\",\"\",'Arrear Sheet'!T20))","v":""},{"$f":"IF('Arrear Sheet'!U20=\"\",\"\",IF('Arrear Sheet'!C20=\"TOTAL\",\"\",'Arrear Sheet'!U20))","v":""},{"$f":"IF('Arrear Sheet'!V20=\"\",\"\",IF('Arrear Sheet'!C20=\"TOTAL\",\"\",'Arrear Sheet'!V20))","v":""},{"$f":"IF('Arrear Sheet'!W20=\"\",\"\",IF('Arrear Sheet'!C20=\"TOTAL\",\"\",'Arrear Sheet'!W20))","v":""},{"$f":"IF('Arrear Sheet'!X20=\"\",\"\",IF('Arrear Sheet'!C20=\"TOTAL\",\"\",'Arrear Sheet'!X20))","v":""},{"$f":"IF('Arrear Sheet'!Y20=\"\",\"\",IF('Arrear Sheet'!C20=\"TOTAL\",\"\",'Arrear Sheet'!Y20))","v":""},{"$f":"IF('Arrear Sheet'!Z20=\"\",\"\",IF('Arrear Sheet'!C20=\"TOTAL\",\"\",'Arrear Sheet'!Z20))","v":""},{"$f":"IF('Arrear Sheet'!AA20=\"\",\"\",IF('Arrear Sheet'!C20=\"TOTAL\",\"\",'Arrear Sheet'!AA20))","v":""},{"$f":"IF('Arrear Sheet'!AB20=\"\",\"\",IF('Arrear Sheet'!C20=\"TOTAL\",\"\",'Arrear Sheet'!AB20))","v":""},{"$f":"IF('Arrear Sheet'!AC20=\"\",\"\",IF('Arrear Sheet'!C20=\"TOTAL\",\"\",'Arrear Sheet'!AC20))","v":""},{"$f":"IF('Arrear Sheet'!AD20=\"\",\"\",IF('Arrear Sheet'!C20=\"TOTAL\",\"\",'Arrear Sheet'!AD20))","v":""},{"$f":"IF('Arrear Sheet'!AE20=\"\",\"\",IF('Arrear Sheet'!C20=\"TOTAL\",\"\",SUM(N20-AC20)))","v":""}]
[{"$f":"IF('Arrear Sheet'!B21=\"\",\"\",'Arrear Sheet'!B21)","v":""},{"$f":"IF('Arrear Sheet'!C21=\"\",\"\",IF('Arrear Sheet'!C21=\"TOTAL\",\"\",'Arrear Sheet'!C21))","v":""},{"$f":"IF('Arrear Sheet'!D21=\"\",\"\",IF('Arrear Sheet'!C21=\"TOTAL\",\"\",IF('Arrear Sheet'!D21=\"अक्षरें राशि :-\",\"\",'Arrear Sheet'!D21)))","v":""},{"$f":"IF('Arrear Sheet'!E21=\"\",\"\",IF('Arrear Sheet'!C21=\"TOTAL\",\"\",'Arrear Sheet'!E21))","v":""},{"$f":"IF('Arrear Sheet'!F21=\"\",\"\",IF('Arrear Sheet'!C21=\"TOTAL\",\"\",'Arrear Sheet'!F21))","v":""},{"$f":"IF('Arrear Sheet'!G21=\"\",\"\",IF('Arrear Sheet'!C21=\"TOTAL\",\"\",SUM(C21:E21)))","v":""},{"$f":"IF('Arrear Sheet'!H21=\"\",\"\",IF('Arrear Sheet'!C21=\"TOTAL\",\"\",'Arrear Sheet'!H21))","v":""},{"$f":"IF('Arrear Sheet'!I21=\"\",\"\",IF('Arrear Sheet'!C21=\"TOTAL\",\"\",'Arrear Sheet'!I21))","v":""},{"$f":"IF('Arrear Sheet'!J21=\"\",\"\",IF('Arrear Sheet'!C21=\"TOTAL\",\"\",'Arrear Sheet'!J21))","v":""},{"$f":"IF('Arrear Sheet'!K21=\"\",\"\",IF('Arrear Sheet'!C21=\"TOTAL\",\"\",SUM(G21:I21)))","v":""},{"$f":"IF('Arrear Sheet'!L21=\"\",\"\",IF('Arrear Sheet'!C21=\"TOTAL\",\"\",'Arrear Sheet'!L21))","v":""},{"$f":"IF('Arrear Sheet'!M21=\"\",\"\",IF('Arrear Sheet'!C21=\"TOTAL\",\"\",'Arrear Sheet'!M21))","v":""},{"$f":"IF('Arrear Sheet'!N21=\"\",\"\",IF('Arrear Sheet'!C21=\"TOTAL\",\"\",'Arrear Sheet'!N21))","v":""},{"$f":"IF('Arrear Sheet'!O21=\"\",\"\",IF('Arrear Sheet'!C21=\"TOTAL\",\"\",SUM(K21:M21)))","v":""},{"$f":"IF('Arrear Sheet'!P21=\"\",\"\",IF('Arrear Sheet'!C21=\"TOTAL\",\"\",'Arrear Sheet'!P21))","v":""},{"$f":"IF('Arrear Sheet'!Q21=\"\",\"\",IF('Arrear Sheet'!C21=\"TOTAL\",\"\",'Arrear Sheet'!Q21))","v":""},{"$f":"IF('Arrear Sheet'!R21=\"\",\"\",IF('Arrear Sheet'!C21=\"TOTAL\",\"\",'Arrear Sheet'!R21))","v":""},{"$f":"IF('Arrear Sheet'!S21=\"\",\"\",IF('Arrear Sheet'!C21=\"TOTAL\",\"\",'Arrear Sheet'!S21))","v":""},{"$f":"IF('Arrear Sheet'!T21=\"\",\"\",IF('Arrear Sheet'!C21=\"TOTAL\",\"\",'Arrear Sheet'!T21))","v":""},{"$f":"IF('Arrear Sheet'!U21=\"\",\"\",IF('Arrear Sheet'!C21=\"TOTAL\",\"\",'Arrear Sheet'!U21))","v":""},{"$f":"IF('Arrear Sheet'!V21=\"\",\"\",IF('Arrear Sheet'!C21=\"TOTAL\",\"\",'Arrear Sheet'!V21))","v":""},{"$f":"IF('Arrear Sheet'!W21=\"\",\"\",IF('Arrear Sheet'!C21=\"TOTAL\",\"\",'Arrear Sheet'!W21))","v":""},{"$f":"IF('Arrear Sheet'!X21=\"\",\"\",IF('Arrear Sheet'!C21=\"TOTAL\",\"\",'Arrear Sheet'!X21))","v":""},{"$f":"IF('Arrear Sheet'!Y21=\"\",\"\",IF('Arrear Sheet'!C21=\"TOTAL\",\"\",'Arrear Sheet'!Y21))","v":""},{"$f":"IF('Arrear Sheet'!Z21=\"\",\"\",IF('Arrear Sheet'!C21=\"TOTAL\",\"\",'Arrear Sheet'!Z21))","v":""},{"$f":"IF('Arrear Sheet'!AA21=\"\",\"\",IF('Arrear Sheet'!C21=\"TOTAL\",\"\",'Arrear Sheet'!AA21))","v":""},{"$f":"IF('Arrear Sheet'!AB21=\"\",\"\",IF('Arrear Sheet'!C21=\"TOTAL\",\"\",'Arrear Sheet'!AB21))","v":""},{"$f":"IF('Arrear Sheet'!AC21=\"\",\"\",IF('Arrear Sheet'!C21=\"TOTAL\",\"\",'Arrear Sheet'!AC21))","v":""},{"$f":"IF('Arrear Sheet'!AD21=\"\",\"\",IF('Arrear Sheet'!C21=\"TOTAL\",\"\",'Arrear Sheet'!AD21))","v":""},{"$f":"IF('Arrear Sheet'!AE21=\"\",\"\",IF('Arrear Sheet'!C21=\"TOTAL\",\"\",SUM(N21-AC21)))","v":""}]
[{"$f":"IF('Arrear Sheet'!B22=\"\",\"\",'Arrear Sheet'!B22)","v":""},{"$f":"IF('Arrear Sheet'!C22=\"\",\"\",IF('Arrear Sheet'!C22=\"TOTAL\",\"\",'Arrear Sheet'!C22))","v":""},{"$f":"IF('Arrear Sheet'!D22=\"\",\"\",IF('Arrear Sheet'!C22=\"TOTAL\",\"\",IF('Arrear Sheet'!D22=\"अक्षरें राशि :-\",\"\",'Arrear Sheet'!D22)))","v":""},{"$f":"IF('Arrear Sheet'!E22=\"\",\"\",IF('Arrear Sheet'!C22=\"TOTAL\",\"\",'Arrear Sheet'!E22))","v":""},{"$f":"IF('Arrear Sheet'!F22=\"\",\"\",IF('Arrear Sheet'!C22=\"TOTAL\",\"\",'Arrear Sheet'!F22))","v":""},{"$f":"IF('Arrear Sheet'!G22=\"\",\"\",IF('Arrear Sheet'!C22=\"TOTAL\",\"\",SUM(C22:E22)))","v":""},{"$f":"IF('Arrear Sheet'!H22=\"\",\"\",IF('Arrear Sheet'!C22=\"TOTAL\",\"\",'Arrear Sheet'!H22))","v":""},{"$f":"IF('Arrear Sheet'!I22=\"\",\"\",IF('Arrear Sheet'!C22=\"TOTAL\",\"\",'Arrear Sheet'!I22))","v":""},{"$f":"IF('Arrear Sheet'!J22=\"\",\"\",IF('Arrear Sheet'!C22=\"TOTAL\",\"\",'Arrear Sheet'!J22))","v":""},{"$f":"IF('Arrear Sheet'!K22=\"\",\"\",IF('Arrear Sheet'!C22=\"TOTAL\",\"\",SUM(G22:I22)))","v":""},{"$f":"IF('Arrear Sheet'!L22=\"\",\"\",IF('Arrear Sheet'!C22=\"TOTAL\",\"\",'Arrear Sheet'!L22))","v":""},{"$f":"IF('Arrear Sheet'!M22=\"\",\"\",IF('Arrear Sheet'!C22=\"TOTAL\",\"\",'Arrear Sheet'!M22))","v":""},{"$f":"IF('Arrear Sheet'!N22=\"\",\"\",IF('Arrear Sheet'!C22=\"TOTAL\",\"\",'Arrear Sheet'!N22))","v":""},{"$f":"IF('Arrear Sheet'!O22=\"\",\"\",IF('Arrear Sheet'!C22=\"TOTAL\",\"\",SUM(K22:M22)))","v":""},{"$f":"IF('Arrear Sheet'!P22=\"\",\"\",IF('Arrear Sheet'!C22=\"TOTAL\",\"\",'Arrear Sheet'!P22))","v":""},{"$f":"IF('Arrear Sheet'!Q22=\"\",\"\",IF('Arrear Sheet'!C22=\"TOTAL\",\"\",'Arrear Sheet'!Q22))","v":""},{"$f":"IF('Arrear Sheet'!R22=\"\",\"\",IF('Arrear Sheet'!C22=\"TOTAL\",\"\",'Arrear Sheet'!R22))","v":""},{"$f":"IF('Arrear Sheet'!S22=\"\",\"\",IF('Arrear Sheet'!C22=\"TOTAL\",\"\",'Arrear Sheet'!S22))","v":""},{"$f":"IF('Arrear Sheet'!T22=\"\",\"\",IF('Arrear Sheet'!C22=\"TOTAL\",\"\",'Arrear Sheet'!T22))","v":""},{"$f":"IF('Arrear Sheet'!U22=\"\",\"\",IF('Arrear Sheet'!C22=\"TOTAL\",\"\",'Arrear Sheet'!U22))","v":""},{"$f":"IF('Arrear Sheet'!V22=\"\",\"\",IF('Arrear Sheet'!C22=\"TOTAL\",\"\",'Arrear Sheet'!V22))","v":""},{"$f":"IF('Arrear Sheet'!W22=\"\",\"\",IF('Arrear Sheet'!C22=\"TOTAL\",\"\",'Arrear Sheet'!W22))","v":""},{"$f":"IF('Arrear Sheet'!X22=\"\",\"\",IF('Arrear Sheet'!C22=\"TOTAL\",\"\",'Arrear Sheet'!X22))","v":""},{"$f":"IF('Arrear Sheet'!Y22=\"\",\"\",IF('Arrear Sheet'!C22=\"TOTAL\",\"\",'Arrear Sheet'!Y22))","v":""},{"$f":"IF('Arrear Sheet'!Z22=\"\",\"\",IF('Arrear Sheet'!C22=\"TOTAL\",\"\",'Arrear Sheet'!Z22))","v":""},{"$f":"IF('Arrear Sheet'!AA22=\"\",\"\",IF('Arrear Sheet'!C22=\"TOTAL\",\"\",'Arrear Sheet'!AA22))","v":""},{"$f":"IF('Arrear Sheet'!AB22=\"\",\"\",IF('Arrear Sheet'!C22=\"TOTAL\",\"\",'Arrear Sheet'!AB22))","v":""},{"$f":"IF('Arrear Sheet'!AC22=\"\",\"\",IF('Arrear Sheet'!C22=\"TOTAL\",\"\",'Arrear Sheet'!AC22))","v":""},{"$f":"IF('Arrear Sheet'!AD22=\"\",\"\",IF('Arrear Sheet'!C22=\"TOTAL\",\"\",'Arrear Sheet'!AD22))","v":""},{"$f":"IF('Arrear Sheet'!AE22=\"\",\"\",IF('Arrear Sheet'!C22=\"TOTAL\",\"\",SUM(N22-AC22)))","v":""}]
[{"$f":"IF('Arrear Sheet'!B23=\"\",\"\",'Arrear Sheet'!B23)","v":""},{"$f":"IF('Arrear Sheet'!C23=\"\",\"\",IF('Arrear Sheet'!C23=\"TOTAL\",\"\",'Arrear Sheet'!C23))","v":""},{"$f":"IF('Arrear Sheet'!D23=\"\",\"\",IF('Arrear Sheet'!C23=\"TOTAL\",\"\",IF('Arrear Sheet'!D23=\"अक्षरें राशि :-\",\"\",'Arrear Sheet'!D23)))","v":""},{"$f":"IF('Arrear Sheet'!E23=\"\",\"\",IF('Arrear Sheet'!C23=\"TOTAL\",\"\",'Arrear Sheet'!E23))","v":""},{"$f":"IF('Arrear Sheet'!F23=\"\",\"\",IF('Arrear Sheet'!C23=\"TOTAL\",\"\",'Arrear Sheet'!F23))","v":""},{"$f":"IF('Arrear Sheet'!G23=\"\",\"\",IF('Arrear Sheet'!C23=\"TOTAL\",\"\",SUM(C23:E23)))","v":""},{"$f":"IF('Arrear Sheet'!H23=\"\",\"\",IF('Arrear Sheet'!C23=\"TOTAL\",\"\",'Arrear Sheet'!H23))","v":""},{"$f":"IF('Arrear Sheet'!I23=\"\",\"\",IF('Arrear Sheet'!C23=\"TOTAL\",\"\",'Arrear Sheet'!I23))","v":""},{"$f":"IF('Arrear Sheet'!J23=\"\",\"\",IF('Arrear Sheet'!C23=\"TOTAL\",\"\",'Arrear Sheet'!J23))","v":""},{"$f":"IF('Arrear Sheet'!K23=\"\",\"\",IF('Arrear Sheet'!C23=\"TOTAL\",\"\",SUM(G23:I23)))","v":""},{"$f":"IF('Arrear Sheet'!L23=\"\",\"\",IF('Arrear Sheet'!C23=\"TOTAL\",\"\",'Arrear Sheet'!L23))","v":""},{"$f":"IF('Arrear Sheet'!M23=\"\",\"\",IF('Arrear Sheet'!C23=\"TOTAL\",\"\",'Arrear Sheet'!M23))","v":""},{"$f":"IF('Arrear Sheet'!N23=\"\",\"\",IF('Arrear Sheet'!C23=\"TOTAL\",\"\",'Arrear Sheet'!N23))","v":""},{"$f":"IF('Arrear Sheet'!O23=\"\",\"\",IF('Arrear Sheet'!C23=\"TOTAL\",\"\",SUM(K23:M23)))","v":""},{"$f":"IF('Arrear Sheet'!P23=\"\",\"\",IF('Arrear Sheet'!C23=\"TOTAL\",\"\",'Arrear Sheet'!P23))","v":""},{"$f":"IF('Arrear Sheet'!Q23=\"\",\"\",IF('Arrear Sheet'!C23=\"TOTAL\",\"\",'Arrear Sheet'!Q23))","v":""},{"$f":"IF('Arrear Sheet'!R23=\"\",\"\",IF('Arrear Sheet'!C23=\"TOTAL\",\"\",'Arrear Sheet'!R23))","v":""},{"$f":"IF('Arrear Sheet'!S23=\"\",\"\",IF('Arrear Sheet'!C23=\"TOTAL\",\"\",'Arrear Sheet'!S23))","v":""},{"$f":"IF('Arrear Sheet'!T23=\"\",\"\",IF('Arrear Sheet'!C23=\"TOTAL\",\"\",'Arrear Sheet'!T23))","v":""},{"$f":"IF('Arrear Sheet'!U23=\"\",\"\",IF('Arrear Sheet'!C23=\"TOTAL\",\"\",'Arrear Sheet'!U23))","v":""},{"$f":"IF('Arrear Sheet'!V23=\"\",\"\",IF('Arrear Sheet'!C23=\"TOTAL\",\"\",'Arrear Sheet'!V23))","v":""},{"$f":"IF('Arrear Sheet'!W23=\"\",\"\",IF('Arrear Sheet'!C23=\"TOTAL\",\"\",'Arrear Sheet'!W23))","v":""},{"$f":"IF('Arrear Sheet'!X23=\"\",\"\",IF('Arrear Sheet'!C23=\"TOTAL\",\"\",'Arrear Sheet'!X23))","v":""},{"$f":"IF('Arrear Sheet'!Y23=\"\",\"\",IF('Arrear Sheet'!C23=\"TOTAL\",\"\",'Arrear Sheet'!Y23))","v":""},{"$f":"IF('Arrear Sheet'!Z23=\"\",\"\",IF('Arrear Sheet'!C23=\"TOTAL\",\"\",'Arrear Sheet'!Z23))","v":""},{"$f":"IF('Arrear Sheet'!AA23=\"\",\"\",IF('Arrear Sheet'!C23=\"TOTAL\",\"\",'Arrear Sheet'!AA23))","v":""},{"$f":"IF('Arrear Sheet'!AB23=\"\",\"\",IF('Arrear Sheet'!C23=\"TOTAL\",\"\",'Arrear Sheet'!AB23))","v":""},{"$f":"IF('Arrear Sheet'!AC23=\"\",\"\",IF('Arrear Sheet'!C23=\"TOTAL\",\"\",'Arrear Sheet'!AC23))","v":""},{"$f":"IF('Arrear Sheet'!AD23=\"\",\"\",IF('Arrear Sheet'!C23=\"TOTAL\",\"\",'Arrear Sheet'!AD23))","v":""},{"$f":"IF('Arrear Sheet'!AE23=\"\",\"\",IF('Arrear Sheet'!C23=\"TOTAL\",\"\",SUM(N23-AC23)))","v":""}]
[{"$f":"IF('Arrear Sheet'!B24=\"\",\"\",'Arrear Sheet'!B24)","v":""},{"$f":"IF('Arrear Sheet'!C24=\"\",\"\",IF('Arrear Sheet'!C24=\"TOTAL\",\"\",'Arrear Sheet'!C24))","v":""},{"$f":"IF('Arrear Sheet'!D24=\"\",\"\",IF('Arrear Sheet'!C24=\"TOTAL\",\"\",IF('Arrear Sheet'!D24=\"अक्षरें राशि :-\",\"\",'Arrear Sheet'!D24)))","v":""},{"$f":"IF('Arrear Sheet'!E24=\"\",\"\",IF('Arrear Sheet'!C24=\"TOTAL\",\"\",'Arrear Sheet'!E24))","v":""},{"$f":"IF('Arrear Sheet'!F24=\"\",\"\",IF('Arrear Sheet'!C24=\"TOTAL\",\"\",'Arrear Sheet'!F24))","v":""},{"$f":"IF('Arrear Sheet'!G24=\"\",\"\",IF('Arrear Sheet'!C24=\"TOTAL\",\"\",SUM(C24:E24)))","v":""},{"$f":"IF('Arrear Sheet'!H24=\"\",\"\",IF('Arrear Sheet'!C24=\"TOTAL\",\"\",'Arrear Sheet'!H24))","v":""},{"$f":"IF('Arrear Sheet'!I24=\"\",\"\",IF('Arrear Sheet'!C24=\"TOTAL\",\"\",'Arrear Sheet'!I24))","v":""},{"$f":"IF('Arrear Sheet'!J24=\"\",\"\",IF('Arrear Sheet'!C24=\"TOTAL\",\"\",'Arrear Sheet'!J24))","v":""},{"$f":"IF('Arrear Sheet'!K24=\"\",\"\",IF('Arrear Sheet'!C24=\"TOTAL\",\"\",SUM(G24:I24)))","v":""},{"$f":"IF('Arrear Sheet'!L24=\"\",\"\",IF('Arrear Sheet'!C24=\"TOTAL\",\"\",'Arrear Sheet'!L24))","v":""},{"$f":"IF('Arrear Sheet'!M24=\"\",\"\",IF('Arrear Sheet'!C24=\"TOTAL\",\"\",'Arrear Sheet'!M24))","v":""},{"$f":"IF('Arrear Sheet'!N24=\"\",\"\",IF('Arrear Sheet'!C24=\"TOTAL\",\"\",'Arrear Sheet'!N24))","v":""},{"$f":"IF('Arrear Sheet'!O24=\"\",\"\",IF('Arrear Sheet'!C24=\"TOTAL\",\"\",SUM(K24:M24)))","v":""},{"$f":"IF('Arrear Sheet'!P24=\"\",\"\",IF('Arrear Sheet'!C24=\"TOTAL\",\"\",'Arrear Sheet'!P24))","v":""},{"$f":"IF('Arrear Sheet'!Q24=\"\",\"\",IF('Arrear Sheet'!C24=\"TOTAL\",\"\",'Arrear Sheet'!Q24))","v":""},{"$f":"IF('Arrear Sheet'!R24=\"\",\"\",IF('Arrear Sheet'!C24=\"TOTAL\",\"\",'Arrear Sheet'!R24))","v":""},{"$f":"IF('Arrear Sheet'!S24=\"\",\"\",IF('Arrear Sheet'!C24=\"TOTAL\",\"\",'Arrear Sheet'!S24))","v":""},{"$f":"IF('Arrear Sheet'!T24=\"\",\"\",IF('Arrear Sheet'!C24=\"TOTAL\",\"\",'Arrear Sheet'!T24))","v":""},{"$f":"IF('Arrear Sheet'!U24=\"\",\"\",IF('Arrear Sheet'!C24=\"TOTAL\",\"\",'Arrear Sheet'!U24))","v":""},{"$f":"IF('Arrear Sheet'!V24=\"\",\"\",IF('Arrear Sheet'!C24=\"TOTAL\",\"\",'Arrear Sheet'!V24))","v":""},{"$f":"IF('Arrear Sheet'!W24=\"\",\"\",IF('Arrear Sheet'!C24=\"TOTAL\",\"\",'Arrear Sheet'!W24))","v":""},{"$f":"IF('Arrear Sheet'!X24=\"\",\"\",IF('Arrear Sheet'!C24=\"TOTAL\",\"\",'Arrear Sheet'!X24))","v":""},{"$f":"IF('Arrear Sheet'!Y24=\"\",\"\",IF('Arrear Sheet'!C24=\"TOTAL\",\"\",'Arrear Sheet'!Y24))","v":""},{"$f":"IF('Arrear Sheet'!Z24=\"\",\"\",IF('Arrear Sheet'!C24=\"TOTAL\",\"\",'Arrear Sheet'!Z24))","v":""},{"$f":"IF('Arrear Sheet'!AA24=\"\",\"\",IF('Arrear Sheet'!C24=\"TOTAL\",\"\",'Arrear Sheet'!AA24))","v":""},{"$f":"IF('Arrear Sheet'!AB24=\"\",\"\",IF('Arrear Sheet'!C24=\"TOTAL\",\"\",'Arrear Sheet'!AB24))","v":""},{"$f":"IF('Arrear Sheet'!AC24=\"\",\"\",IF('Arrear Sheet'!C24=\"TOTAL\",\"\",'Arrear Sheet'!AC24))","v":""},{"$f":"IF('Arrear Sheet'!AD24=\"\",\"\",IF('Arrear Sheet'!C24=\"TOTAL\",\"\",'Arrear Sheet'!AD24))","v":""},{"$f":"IF('Arrear Sheet'!AE24=\"\",\"\",IF('Arrear Sheet'!C24=\"TOTAL\",\"\",SUM(N24-AC24)))","v":""}]
[{"$f":"IF('Arrear Sheet'!B25=\"\",\"\",'Arrear Sheet'!B25)","v":""},{"$f":"IF('Arrear Sheet'!C25=\"\",\"\",IF('Arrear Sheet'!C25=\"TOTAL\",\"\",'Arrear Sheet'!C25))","v":""},{"$f":"IF('Arrear Sheet'!D25=\"\",\"\",IF('Arrear Sheet'!C25=\"TOTAL\",\"\",IF('Arrear Sheet'!D25=\"अक्षरें राशि :-\",\"\",'Arrear Sheet'!D25)))","v":""},{"$f":"IF('Arrear Sheet'!E25=\"\",\"\",IF('Arrear Sheet'!C25=\"TOTAL\",\"\",'Arrear Sheet'!E25))","v":""},{"$f":"IF('Arrear Sheet'!F25=\"\",\"\",IF('Arrear Sheet'!C25=\"TOTAL\",\"\",'Arrear Sheet'!F25))","v":""},{"$f":"IF('Arrear Sheet'!G25=\"\",\"\",IF('Arrear Sheet'!C25=\"TOTAL\",\"\",SUM(C25:E25)))","v":""},{"$f":"IF('Arrear Sheet'!H25=\"\",\"\",IF('Arrear Sheet'!C25=\"TOTAL\",\"\",'Arrear Sheet'!H25))","v":""},{"$f":"IF('Arrear Sheet'!I25=\"\",\"\",IF('Arrear Sheet'!C25=\"TOTAL\",\"\",'Arrear Sheet'!I25))","v":""},{"$f":"IF('Arrear Sheet'!J25=\"\",\"\",IF('Arrear Sheet'!C25=\"TOTAL\",\"\",'Arrear Sheet'!J25))","v":""},{"$f":"IF('Arrear Sheet'!K25=\"\",\"\",IF('Arrear Sheet'!C25=\"TOTAL\",\"\",SUM(G25:I25)))","v":""},{"$f":"IF('Arrear Sheet'!L25=\"\",\"\",IF('Arrear Sheet'!C25=\"TOTAL\",\"\",'Arrear Sheet'!L25))","v":""},{"$f":"IF('Arrear Sheet'!M25=\"\",\"\",IF('Arrear Sheet'!C25=\"TOTAL\",\"\",'Arrear Sheet'!M25))","v":""},{"$f":"IF('Arrear Sheet'!N25=\"\",\"\",IF('Arrear Sheet'!C25=\"TOTAL\",\"\",'Arrear Sheet'!N25))","v":""},{"$f":"IF('Arrear Sheet'!O25=\"\",\"\",IF('Arrear Sheet'!C25=\"TOTAL\",\"\",SUM(K25:M25)))","v":""},{"$f":"IF('Arrear Sheet'!P25=\"\",\"\",IF('Arrear Sheet'!C25=\"TOTAL\",\"\",'Arrear Sheet'!P25))","v":""},{"$f":"IF('Arrear Sheet'!Q25=\"\",\"\",IF('Arrear Sheet'!C25=\"TOTAL\",\"\",'Arrear Sheet'!Q25))","v":""},{"$f":"IF('Arrear Sheet'!R25=\"\",\"\",IF('Arrear Sheet'!C25=\"TOTAL\",\"\",'Arrear Sheet'!R25))","v":""},{"$f":"IF('Arrear Sheet'!S25=\"\",\"\",IF('Arrear Sheet'!C25=\"TOTAL\",\"\",'Arrear Sheet'!S25))","v":""},{"$f":"IF('Arrear Sheet'!T25=\"\",\"\",IF('Arrear Sheet'!C25=\"TOTAL\",\"\",'Arrear Sheet'!T25))","v":""},{"$f":"IF('Arrear Sheet'!U25=\"\",\"\",IF('Arrear Sheet'!C25=\"TOTAL\",\"\",'Arrear Sheet'!U25))","v":""},{"$f":"IF('Arrear Sheet'!V25=\"\",\"\",IF('Arrear Sheet'!C25=\"TOTAL\",\"\",'Arrear Sheet'!V25))","v":""},{"$f":"IF('Arrear Sheet'!W25=\"\",\"\",IF('Arrear Sheet'!C25=\"TOTAL\",\"\",'Arrear Sheet'!W25))","v":""},{"$f":"IF('Arrear Sheet'!X25=\"\",\"\",IF('Arrear Sheet'!C25=\"TOTAL\",\"\",'Arrear Sheet'!X25))","v":""},{"$f":"IF('Arrear Sheet'!Y25=\"\",\"\",IF('Arrear Sheet'!C25=\"TOTAL\",\"\",'Arrear Sheet'!Y25))","v":""},{"$f":"IF('Arrear Sheet'!Z25=\"\",\"\",IF('Arrear Sheet'!C25=\"TOTAL\",\"\",'Arrear Sheet'!Z25))","v":""},{"$f":"IF('Arrear Sheet'!AA25=\"\",\"\",IF('Arrear Sheet'!C25=\"TOTAL\",\"\",'Arrear Sheet'!AA25))","v":""},{"$f":"IF('Arrear Sheet'!AB25=\"\",\"\",IF('Arrear Sheet'!C25=\"TOTAL\",\"\",'Arrear Sheet'!AB25))","v":""},{"$f":"IF('Arrear Sheet'!AC25=\"\",\"\",IF('Arrear Sheet'!C25=\"TOTAL\",\"\",'Arrear Sheet'!AC25))","v":""},{"$f":"IF('Arrear Sheet'!AD25=\"\",\"\",IF('Arrear Sheet'!C25=\"TOTAL\",\"\",'Arrear Sheet'!AD25))","v":""},{"$f":"IF('Arrear Sheet'!AE25=\"\",\"\",IF('Arrear Sheet'!C25=\"TOTAL\",\"\",SUM(N25-AC25)))","v":""}]
[{"$f":"IF('Arrear Sheet'!B26=\"\",\"\",'Arrear Sheet'!B26)","v":""},{"$f":"IF('Arrear Sheet'!C26=\"\",\"\",IF('Arrear Sheet'!C26=\"TOTAL\",\"\",'Arrear Sheet'!C26))","v":""},{"$f":"IF('Arrear Sheet'!D26=\"\",\"\",IF('Arrear Sheet'!C26=\"TOTAL\",\"\",IF('Arrear Sheet'!D26=\"अक्षरें राशि :-\",\"\",'Arrear Sheet'!D26)))","v":""},{"$f":"IF('Arrear Sheet'!E26=\"\",\"\",IF('Arrear Sheet'!C26=\"TOTAL\",\"\",'Arrear Sheet'!E26))","v":""},{"$f":"IF('Arrear Sheet'!F26=\"\",\"\",IF('Arrear Sheet'!C26=\"TOTAL\",\"\",'Arrear Sheet'!F26))","v":""},{"$f":"IF('Arrear Sheet'!G26=\"\",\"\",IF('Arrear Sheet'!C26=\"TOTAL\",\"\",SUM(C26:E26)))","v":""},{"$f":"IF('Arrear Sheet'!H26=\"\",\"\",IF('Arrear Sheet'!C26=\"TOTAL\",\"\",'Arrear Sheet'!H26))","v":""},{"$f":"IF('Arrear Sheet'!I26=\"\",\"\",IF('Arrear Sheet'!C26=\"TOTAL\",\"\",'Arrear Sheet'!I26))","v":""},{"$f":"IF('Arrear Sheet'!J26=\"\",\"\",IF('Arrear Sheet'!C26=\"TOTAL\",\"\",'Arrear Sheet'!J26))","v":""},{"$f":"IF('Arrear Sheet'!K26=\"\",\"\",IF('Arrear Sheet'!C26=\"TOTAL\",\"\",SUM(G26:I26)))","v":""},{"$f":"IF('Arrear Sheet'!L26=\"\",\"\",IF('Arrear Sheet'!C26=\"TOTAL\",\"\",'Arrear Sheet'!L26))","v":""},{"$f":"IF('Arrear Sheet'!M26=\"\",\"\",IF('Arrear Sheet'!C26=\"TOTAL\",\"\",'Arrear Sheet'!M26))","v":""},{"$f":"IF('Arrear Sheet'!N26=\"\",\"\",IF('Arrear Sheet'!C26=\"TOTAL\",\"\",'Arrear Sheet'!N26))","v":""},{"$f":"IF('Arrear Sheet'!O26=\"\",\"\",IF('Arrear Sheet'!C26=\"TOTAL\",\"\",SUM(K26:M26)))","v":""},{"$f":"IF('Arrear Sheet'!P26=\"\",\"\",IF('Arrear Sheet'!C26=\"TOTAL\",\"\",'Arrear Sheet'!P26))","v":""},{"$f":"IF('Arrear Sheet'!Q26=\"\",\"\",IF('Arrear Sheet'!C26=\"TOTAL\",\"\",'Arrear Sheet'!Q26))","v":""},{"$f":"IF('Arrear Sheet'!R26=\"\",\"\",IF('Arrear Sheet'!C26=\"TOTAL\",\"\",'Arrear Sheet'!R26))","v":""},{"$f":"IF('Arrear Sheet'!S26=\"\",\"\",IF('Arrear Sheet'!C26=\"TOTAL\",\"\",'Arrear Sheet'!S26))","v":""},{"$f":"IF('Arrear Sheet'!T26=\"\",\"\",IF('Arrear Sheet'!C26=\"TOTAL\",\"\",'Arrear Sheet'!T26))","v":""},{"$f":"IF('Arrear Sheet'!U26=\"\",\"\",IF('Arrear Sheet'!C26=\"TOTAL\",\"\",'Arrear Sheet'!U26))","v":""},{"$f":"IF('Arrear Sheet'!V26=\"\",\"\",IF('Arrear Sheet'!C26=\"TOTAL\",\"\",'Arrear Sheet'!V26))","v":""},{"$f":"IF('Arrear Sheet'!W26=\"\",\"\",IF('Arrear Sheet'!C26=\"TOTAL\",\"\",'Arrear Sheet'!W26))","v":""},{"$f":"IF('Arrear Sheet'!X26=\"\",\"\",IF('Arrear Sheet'!C26=\"TOTAL\",\"\",'Arrear Sheet'!X26))","v":""},{"$f":"IF('Arrear Sheet'!Y26=\"\",\"\",IF('Arrear Sheet'!C26=\"TOTAL\",\"\",'Arrear Sheet'!Y26))","v":""},{"$f":"IF('Arrear Sheet'!Z26=\"\",\"\",IF('Arrear Sheet'!C26=\"TOTAL\",\"\",'Arrear Sheet'!Z26))","v":""},{"$f":"IF('Arrear Sheet'!AA26=\"\",\"\",IF('Arrear Sheet'!C26=\"TOTAL\",\"\",'Arrear Sheet'!AA26))","v":""},{"$f":"IF('Arrear Sheet'!AB26=\"\",\"\",IF('Arrear Sheet'!C26=\"TOTAL\",\"\",'Arrear Sheet'!AB26))","v":""},{"$f":"IF('Arrear Sheet'!AC26=\"\",\"\",IF('Arrear Sheet'!C26=\"TOTAL\",\"\",'Arrear Sheet'!AC26))","v":""},{"$f":"IF('Arrear Sheet'!AD26=\"\",\"\",IF('Arrear Sheet'!C26=\"TOTAL\",\"\",'Arrear Sheet'!AD26))","v":""},{"$f":"IF('Arrear Sheet'!AE26=\"\",\"\",IF('Arrear Sheet'!C26=\"TOTAL\",\"\",SUM(N26-AC26)))","v":""}]
[{"$f":"IF('Arrear Sheet'!B27=\"\",\"\",'Arrear Sheet'!B27)","v":""},{"$f":"IF('Arrear Sheet'!C27=\"\",\"\",IF('Arrear Sheet'!C27=\"TOTAL\",\"\",'Arrear Sheet'!C27))","v":""},{"$f":"IF('Arrear Sheet'!D27=\"\",\"\",IF('Arrear Sheet'!C27=\"TOTAL\",\"\",IF('Arrear Sheet'!D27=\"अक्षरें राशि :-\",\"\",'Arrear Sheet'!D27)))","v":""},{"$f":"IF('Arrear Sheet'!E27=\"\",\"\",IF('Arrear Sheet'!C27=\"TOTAL\",\"\",'Arrear Sheet'!E27))","v":""},{"$f":"IF('Arrear Sheet'!F27=\"\",\"\",IF('Arrear Sheet'!C27=\"TOTAL\",\"\",'Arrear Sheet'!F27))","v":""},{"$f":"IF('Arrear Sheet'!G27=\"\",\"\",IF('Arrear Sheet'!C27=\"TOTAL\",\"\",SUM(C27:E27)))","v":""},{"$f":"IF('Arrear Sheet'!H27=\"\",\"\",IF('Arrear Sheet'!C27=\"TOTAL\",\"\",'Arrear Sheet'!H27))","v":""},{"$f":"IF('Arrear Sheet'!I27=\"\",\"\",IF('Arrear Sheet'!C27=\"TOTAL\",\"\",'Arrear Sheet'!I27))","v":""},{"$f":"IF('Arrear Sheet'!J27=\"\",\"\",IF('Arrear Sheet'!C27=\"TOTAL\",\"\",'Arrear Sheet'!J27))","v":""},{"$f":"IF('Arrear Sheet'!K27=\"\",\"\",IF('Arrear Sheet'!C27=\"TOTAL\",\"\",SUM(G27:I27)))","v":""},{"$f":"IF('Arrear Sheet'!L27=\"\",\"\",IF('Arrear Sheet'!C27=\"TOTAL\",\"\",'Arrear Sheet'!L27))","v":""},{"$f":"IF('Arrear Sheet'!M27=\"\",\"\",IF('Arrear Sheet'!C27=\"TOTAL\",\"\",'Arrear Sheet'!M27))","v":""},{"$f":"IF('Arrear Sheet'!N27=\"\",\"\",IF('Arrear Sheet'!C27=\"TOTAL\",\"\",'Arrear Sheet'!N27))","v":""},{"$f":"IF('Arrear Sheet'!O27=\"\",\"\",IF('Arrear Sheet'!C27=\"TOTAL\",\"\",SUM(K27:M27)))","v":""},{"$f":"IF('Arrear Sheet'!P27=\"\",\"\",IF('Arrear Sheet'!C27=\"TOTAL\",\"\",'Arrear Sheet'!P27))","v":""},{"$f":"IF('Arrear Sheet'!Q27=\"\",\"\",IF('Arrear Sheet'!C27=\"TOTAL\",\"\",'Arrear Sheet'!Q27))","v":""},{"$f":"IF('Arrear Sheet'!R27=\"\",\"\",IF('Arrear Sheet'!C27=\"TOTAL\",\"\",'Arrear Sheet'!R27))","v":""},{"$f":"IF('Arrear Sheet'!S27=\"\",\"\",IF('Arrear Sheet'!C27=\"TOTAL\",\"\",'Arrear Sheet'!S27))","v":""},{"$f":"IF('Arrear Sheet'!T27=\"\",\"\",IF('Arrear Sheet'!C27=\"TOTAL\",\"\",'Arrear Sheet'!T27))","v":""},{"$f":"IF('Arrear Sheet'!U27=\"\",\"\",IF('Arrear Sheet'!C27=\"TOTAL\",\"\",'Arrear Sheet'!U27))","v":""},{"$f":"IF('Arrear Sheet'!V27=\"\",\"\",IF('Arrear Sheet'!C27=\"TOTAL\",\"\",'Arrear Sheet'!V27))","v":""},{"$f":"IF('Arrear Sheet'!W27=\"\",\"\",IF('Arrear Sheet'!C27=\"TOTAL\",\"\",'Arrear Sheet'!W27))","v":""},{"$f":"IF('Arrear Sheet'!X27=\"\",\"\",IF('Arrear Sheet'!C27=\"TOTAL\",\"\",'Arrear Sheet'!X27))","v":""},{"$f":"IF('Arrear Sheet'!Y27=\"\",\"\",IF('Arrear Sheet'!C27=\"TOTAL\",\"\",'Arrear Sheet'!Y27))","v":""},{"$f":"IF('Arrear Sheet'!Z27=\"\",\"\",IF('Arrear Sheet'!C27=\"TOTAL\",\"\",'Arrear Sheet'!Z27))","v":""},{"$f":"IF('Arrear Sheet'!AA27=\"\",\"\",IF('Arrear Sheet'!C27=\"TOTAL\",\"\",'Arrear Sheet'!AA27))","v":""},{"$f":"IF('Arrear Sheet'!AB27=\"\",\"\",IF('Arrear Sheet'!C27=\"TOTAL\",\"\",'Arrear Sheet'!AB27))","v":""},{"$f":"IF('Arrear Sheet'!AC27=\"\",\"\",IF('Arrear Sheet'!C27=\"TOTAL\",\"\",'Arrear Sheet'!AC27))","v":""},{"$f":"IF('Arrear Sheet'!AD27=\"\",\"\",IF('Arrear Sheet'!C27=\"TOTAL\",\"\",'Arrear Sheet'!AD27))","v":""},{"$f":"IF('Arrear Sheet'!AE27=\"\",\"\",IF('Arrear Sheet'!C27=\"TOTAL\",\"\",SUM(N27-AC27)))","v":""}]
[{"$f":"IF('Arrear Sheet'!B28=\"\",\"\",'Arrear Sheet'!B28)","v":""},{"$f":"IF('Arrear Sheet'!C28=\"\",\"\",IF('Arrear Sheet'!C28=\"TOTAL\",\"\",'Arrear Sheet'!C28))","v":""},{"$f":"IF('Arrear Sheet'!D28=\"\",\"\",IF('Arrear Sheet'!C28=\"TOTAL\",\"\",IF('Arrear Sheet'!D28=\"अक्षरें राशि :-\",\"\",'Arrear Sheet'!D28)))","v":""},{"$f":"IF('Arrear Sheet'!E28=\"\",\"\",IF('Arrear Sheet'!C28=\"TOTAL\",\"\",'Arrear Sheet'!E28))","v":""},{"$f":"IF('Arrear Sheet'!F28=\"\",\"\",IF('Arrear Sheet'!C28=\"TOTAL\",\"\",'Arrear Sheet'!F28))","v":""},{"$f":"IF('Arrear Sheet'!G28=\"\",\"\",IF('Arrear Sheet'!C28=\"TOTAL\",\"\",SUM(C28:E28)))","v":""},{"$f":"IF('Arrear Sheet'!H28=\"\",\"\",IF('Arrear Sheet'!C28=\"TOTAL\",\"\",'Arrear Sheet'!H28))","v":""},{"$f":"IF('Arrear Sheet'!I28=\"\",\"\",IF('Arrear Sheet'!C28=\"TOTAL\",\"\",'Arrear Sheet'!I28))","v":""},{"$f":"IF('Arrear Sheet'!J28=\"\",\"\",IF('Arrear Sheet'!C28=\"TOTAL\",\"\",'Arrear Sheet'!J28))","v":""},{"$f":"IF('Arrear Sheet'!K28=\"\",\"\",IF('Arrear Sheet'!C28=\"TOTAL\",\"\",SUM(G28:I28)))","v":""},{"$f":"IF('Arrear Sheet'!L28=\"\",\"\",IF('Arrear Sheet'!C28=\"TOTAL\",\"\",'Arrear Sheet'!L28))","v":""},{"$f":"IF('Arrear Sheet'!M28=\"\",\"\",IF('Arrear Sheet'!C28=\"TOTAL\",\"\",'Arrear Sheet'!M28))","v":""},{"$f":"IF('Arrear Sheet'!N28=\"\",\"\",IF('Arrear Sheet'!C28=\"TOTAL\",\"\",'Arrear Sheet'!N28))","v":""},{"$f":"IF('Arrear Sheet'!O28=\"\",\"\",IF('Arrear Sheet'!C28=\"TOTAL\",\"\",SUM(K28:M28)))","v":""},{"$f":"IF('Arrear Sheet'!P28=\"\",\"\",IF('Arrear Sheet'!C28=\"TOTAL\",\"\",'Arrear Sheet'!P28))","v":""},{"$f":"IF('Arrear Sheet'!Q28=\"\",\"\",IF('Arrear Sheet'!C28=\"TOTAL\",\"\",'Arrear Sheet'!Q28))","v":""},{"$f":"IF('Arrear Sheet'!R28=\"\",\"\",IF('Arrear Sheet'!C28=\"TOTAL\",\"\",'Arrear Sheet'!R28))","v":""},{"$f":"IF('Arrear Sheet'!S28=\"\",\"\",IF('Arrear Sheet'!C28=\"TOTAL\",\"\",'Arrear Sheet'!S28))","v":""},{"$f":"IF('Arrear Sheet'!T28=\"\",\"\",IF('Arrear Sheet'!C28=\"TOTAL\",\"\",'Arrear Sheet'!T28))","v":""},{"$f":"IF('Arrear Sheet'!U28=\"\",\"\",IF('Arrear Sheet'!C28=\"TOTAL\",\"\",'Arrear Sheet'!U28))","v":""},{"$f":"IF('Arrear Sheet'!V28=\"\",\"\",IF('Arrear Sheet'!C28=\"TOTAL\",\"\",'Arrear Sheet'!V28))","v":""},{"$f":"IF('Arrear Sheet'!W28=\"\",\"\",IF('Arrear Sheet'!C28=\"TOTAL\",\"\",'Arrear Sheet'!W28))","v":""},{"$f":"IF('Arrear Sheet'!X28=\"\",\"\",IF('Arrear Sheet'!C28=\"TOTAL\",\"\",'Arrear Sheet'!X28))","v":""},{"$f":"IF('Arrear Sheet'!Y28=\"\",\"\",IF('Arrear Sheet'!C28=\"TOTAL\",\"\",'Arrear Sheet'!Y28))","v":""},{"$f":"IF('Arrear Sheet'!Z28=\"\",\"\",IF('Arrear Sheet'!C28=\"TOTAL\",\"\",'Arrear Sheet'!Z28))","v":""},{"$f":"IF('Arrear Sheet'!AA28=\"\",\"\",IF('Arrear Sheet'!C28=\"TOTAL\",\"\",'Arrear Sheet'!AA28))","v":""},{"$f":"IF('Arrear Sheet'!AB28=\"\",\"\",IF('Arrear Sheet'!C28=\"TOTAL\",\"\",'Arrear Sheet'!AB28))","v":""},{"$f":"IF('Arrear Sheet'!AC28=\"\",\"\",IF('Arrear Sheet'!C28=\"TOTAL\",\"\",'Arrear Sheet'!AC28))","v":""},{"$f":"IF('Arrear Sheet'!AD28=\"\",\"\",IF('Arrear Sheet'!C28=\"TOTAL\",\"\",'Arrear Sheet'!AD28))","v":""},{"$f":"IF('Arrear Sheet'!AE28=\"\",\"\",IF('Arrear Sheet'!C28=\"TOTAL\",\"\",SUM(N28-AC28)))","v":""}]
[{"$f":"IF('Arrear Sheet'!B29=\"\",\"\",'Arrear Sheet'!B29)","v":""},{"$f":"IF('Arrear Sheet'!C29=\"\",\"\",IF('Arrear Sheet'!C29=\"TOTAL\",\"\",'Arrear Sheet'!C29))","v":""},{"$f":"IF('Arrear Sheet'!D29=\"\",\"\",IF('Arrear Sheet'!C29=\"TOTAL\",\"\",IF('Arrear Sheet'!D29=\"अक्षरें राशि :-\",\"\",'Arrear Sheet'!D29)))","v":""},{"$f":"IF('Arrear Sheet'!E29=\"\",\"\",IF('Arrear Sheet'!C29=\"TOTAL\",\"\",'Arrear Sheet'!E29))","v":""},{"$f":"IF('Arrear Sheet'!F29=\"\",\"\",IF('Arrear Sheet'!C29=\"TOTAL\",\"\",'Arrear Sheet'!F29))","v":""},{"$f":"IF('Arrear Sheet'!G29=\"\",\"\",IF('Arrear Sheet'!C29=\"TOTAL\",\"\",SUM(C29:E29)))","v":""},{"$f":"IF('Arrear Sheet'!H29=\"\",\"\",IF('Arrear Sheet'!C29=\"TOTAL\",\"\",'Arrear Sheet'!H29))","v":""},{"$f":"IF('Arrear Sheet'!I29=\"\",\"\",IF('Arrear Sheet'!C29=\"TOTAL\",\"\",'Arrear Sheet'!I29))","v":""},{"$f":"IF('Arrear Sheet'!J29=\"\",\"\",IF('Arrear Sheet'!C29=\"TOTAL\",\"\",'Arrear Sheet'!J29))","v":""},{"$f":"IF('Arrear Sheet'!K29=\"\",\"\",IF('Arrear Sheet'!C29=\"TOTAL\",\"\",SUM(G29:I29)))","v":""},{"$f":"IF('Arrear Sheet'!L29=\"\",\"\",IF('Arrear Sheet'!C29=\"TOTAL\",\"\",'Arrear Sheet'!L29))","v":""},{"$f":"IF('Arrear Sheet'!M29=\"\",\"\",IF('Arrear Sheet'!C29=\"TOTAL\",\"\",'Arrear Sheet'!M29))","v":""},{"$f":"IF('Arrear Sheet'!N29=\"\",\"\",IF('Arrear Sheet'!C29=\"TOTAL\",\"\",'Arrear Sheet'!N29))","v":""},{"$f":"IF('Arrear Sheet'!O29=\"\",\"\",IF('Arrear Sheet'!C29=\"TOTAL\",\"\",SUM(K29:M29)))","v":""},{"$f":"IF('Arrear Sheet'!P29=\"\",\"\",IF('Arrear Sheet'!C29=\"TOTAL\",\"\",'Arrear Sheet'!P29))","v":""},{"$f":"IF('Arrear Sheet'!Q29=\"\",\"\",IF('Arrear Sheet'!C29=\"TOTAL\",\"\",'Arrear Sheet'!Q29))","v":""},{"$f":"IF('Arrear Sheet'!R29=\"\",\"\",IF('Arrear Sheet'!C29=\"TOTAL\",\"\",'Arrear Sheet'!R29))","v":""},{"$f":"IF('Arrear Sheet'!S29=\"\",\"\",IF('Arrear Sheet'!C29=\"TOTAL\",\"\",'Arrear Sheet'!S29))","v":""},{"$f":"IF('Arrear Sheet'!T29=\"\",\"\",IF('Arrear Sheet'!C29=\"TOTAL\",\"\",'Arrear Sheet'!T29))","v":""},{"$f":"IF('Arrear Sheet'!U29=\"\",\"\",IF('Arrear Sheet'!C29=\"TOTAL\",\"\",'Arrear Sheet'!U29))","v":""},{"$f":"IF('Arrear Sheet'!V29=\"\",\"\",IF('Arrear Sheet'!C29=\"TOTAL\",\"\",'Arrear Sheet'!V29))","v":""},{"$f":"IF('Arrear Sheet'!W29=\"\",\"\",IF('Arrear Sheet'!C29=\"TOTAL\",\"\",'Arrear Sheet'!W29))","v":""},{"$f":"IF('Arrear Sheet'!X29=\"\",\"\",IF('Arrear Sheet'!C29=\"TOTAL\",\"\",'Arrear Sheet'!X29))","v":""},{"$f":"IF('Arrear Sheet'!Y29=\"\",\"\",IF('Arrear Sheet'!C29=\"TOTAL\",\"\",'Arrear Sheet'!Y29))","v":""},{"$f":"IF('Arrear Sheet'!Z29=\"\",\"\",IF('Arrear Sheet'!C29=\"TOTAL\",\"\",'Arrear Sheet'!Z29))","v":""},{"$f":"IF('Arrear Sheet'!AA29=\"\",\"\",IF('Arrear Sheet'!C29=\"TOTAL\",\"\",'Arrear Sheet'!AA29))","v":""},{"$f":"IF('Arrear Sheet'!AB29=\"\",\"\",IF('Arrear Sheet'!C29=\"TOTAL\",\"\",'Arrear Sheet'!AB29))","v":""},{"$f":"IF('Arrear Sheet'!AC29=\"\",\"\",IF('Arrear Sheet'!C29=\"TOTAL\",\"\",'Arrear Sheet'!AC29))","v":""},{"$f":"IF('Arrear Sheet'!AD29=\"\",\"\",IF('Arrear Sheet'!C29=\"TOTAL\",\"\",'Arrear Sheet'!AD29))","v":""},{"$f":"IF('Arrear Sheet'!AE29=\"\",\"\",IF('Arrear Sheet'!C29=\"TOTAL\",\"\",SUM(N29-AC29)))","v":""}]
[{"$f":"IF('Arrear Sheet'!B30=\"\",\"\",'Arrear Sheet'!B30)","v":""},{"$f":"IF('Arrear Sheet'!C30=\"\",\"\",IF('Arrear Sheet'!C30=\"TOTAL\",\"\",'Arrear Sheet'!C30))","v":""},{"$f":"IF('Arrear Sheet'!D30=\"\",\"\",IF('Arrear Sheet'!C30=\"TOTAL\",\"\",IF('Arrear Sheet'!D30=\"अक्षरें राशि :-\",\"\",'Arrear Sheet'!D30)))","v":""},{"$f":"IF('Arrear Sheet'!E30=\"\",\"\",IF('Arrear Sheet'!C30=\"TOTAL\",\"\",'Arrear Sheet'!E30))","v":""},{"$f":"IF('Arrear Sheet'!F30=\"\",\"\",IF('Arrear Sheet'!C30=\"TOTAL\",\"\",'Arrear Sheet'!F30))","v":""},{"$f":"IF('Arrear Sheet'!G30=\"\",\"\",IF('Arrear Sheet'!C30=\"TOTAL\",\"\",SUM(C30:E30)))","v":""},{"$f":"IF('Arrear Sheet'!H30=\"\",\"\",IF('Arrear Sheet'!C30=\"TOTAL\",\"\",'Arrear Sheet'!H30))","v":""},{"$f":"IF('Arrear Sheet'!I30=\"\",\"\",IF('Arrear Sheet'!C30=\"TOTAL\",\"\",'Arrear Sheet'!I30))","v":""},{"$f":"IF('Arrear Sheet'!J30=\"\",\"\",IF('Arrear Sheet'!C30=\"TOTAL\",\"\",'Arrear Sheet'!J30))","v":""},{"$f":"IF('Arrear Sheet'!K30=\"\",\"\",IF('Arrear Sheet'!C30=\"TOTAL\",\"\",SUM(G30:I30)))","v":""},{"$f":"IF('Arrear Sheet'!L30=\"\",\"\",IF('Arrear Sheet'!C30=\"TOTAL\",\"\",'Arrear Sheet'!L30))","v":""},{"$f":"IF('Arrear Sheet'!M30=\"\",\"\",IF('Arrear Sheet'!C30=\"TOTAL\",\"\",'Arrear Sheet'!M30))","v":""},{"$f":"IF('Arrear Sheet'!N30=\"\",\"\",IF('Arrear Sheet'!C30=\"TOTAL\",\"\",'Arrear Sheet'!N30))","v":""},{"$f":"IF('Arrear Sheet'!O30=\"\",\"\",IF('Arrear Sheet'!C30=\"TOTAL\",\"\",SUM(K30:M30)))","v":""},{"$f":"IF('Arrear Sheet'!P30=\"\",\"\",IF('Arrear Sheet'!C30=\"TOTAL\",\"\",'Arrear Sheet'!P30))","v":""},{"$f":"IF('Arrear Sheet'!Q30=\"\",\"\",IF('Arrear Sheet'!C30=\"TOTAL\",\"\",'Arrear Sheet'!Q30))","v":""},{"$f":"IF('Arrear Sheet'!R30=\"\",\"\",IF('Arrear Sheet'!C30=\"TOTAL\",\"\",'Arrear Sheet'!R30))","v":""},{"$f":"IF('Arrear Sheet'!S30=\"\",\"\",IF('Arrear Sheet'!C30=\"TOTAL\",\"\",'Arrear Sheet'!S30))","v":""},{"$f":"IF('Arrear Sheet'!T30=\"\",\"\",IF('Arrear Sheet'!C30=\"TOTAL\",\"\",'Arrear Sheet'!T30))","v":""},{"$f":"IF('Arrear Sheet'!U30=\"\",\"\",IF('Arrear Sheet'!C30=\"TOTAL\",\"\",'Arrear Sheet'!U30))","v":""},{"$f":"IF('Arrear Sheet'!V30=\"\",\"\",IF('Arrear Sheet'!C30=\"TOTAL\",\"\",'Arrear Sheet'!V30))","v":""},{"$f":"IF('Arrear Sheet'!W30=\"\",\"\",IF('Arrear Sheet'!C30=\"TOTAL\",\"\",'Arrear Sheet'!W30))","v":""},{"$f":"IF('Arrear Sheet'!X30=\"\",\"\",IF('Arrear Sheet'!C30=\"TOTAL\",\"\",'Arrear Sheet'!X30))","v":""},{"$f":"IF('Arrear Sheet'!Y30=\"\",\"\",IF('Arrear Sheet'!C30=\"TOTAL\",\"\",'Arrear Sheet'!Y30))","v":""},{"$f":"IF('Arrear Sheet'!Z30=\"\",\"\",IF('Arrear Sheet'!C30=\"TOTAL\",\"\",'Arrear Sheet'!Z30))","v":""},{"$f":"IF('Arrear Sheet'!AA30=\"\",\"\",IF('Arrear Sheet'!C30=\"TOTAL\",\"\",'Arrear Sheet'!AA30))","v":""},{"$f":"IF('Arrear Sheet'!AB30=\"\",\"\",IF('Arrear Sheet'!C30=\"TOTAL\",\"\",'Arrear Sheet'!AB30))","v":""},{"$f":"IF('Arrear Sheet'!AC30=\"\",\"\",IF('Arrear Sheet'!C30=\"TOTAL\",\"\",'Arrear Sheet'!AC30))","v":""},{"$f":"IF('Arrear Sheet'!AD30=\"\",\"\",IF('Arrear Sheet'!C30=\"TOTAL\",\"\",'Arrear Sheet'!AD30))","v":""},{"$f":"IF('Arrear Sheet'!AE30=\"\",\"\",IF('Arrear Sheet'!C30=\"TOTAL\",\"\",SUM(N30-AC30)))","v":""}]
[{"$f":"IF('Arrear Sheet'!B31=\"\",\"\",'Arrear Sheet'!B31)","v":""},{"$f":"IF('Arrear Sheet'!C31=\"\",\"\",IF('Arrear Sheet'!C31=\"TOTAL\",\"\",'Arrear Sheet'!C31))","v":""},{"$f":"IF('Arrear Sheet'!D31=\"\",\"\",IF('Arrear Sheet'!C31=\"TOTAL\",\"\",IF('Arrear Sheet'!D31=\"अक्षरें राशि :-\",\"\",'Arrear Sheet'!D31)))","v":""},{"$f":"IF('Arrear Sheet'!E31=\"\",\"\",IF('Arrear Sheet'!C31=\"TOTAL\",\"\",'Arrear Sheet'!E31))","v":""},{"$f":"IF('Arrear Sheet'!F31=\"\",\"\",IF('Arrear Sheet'!C31=\"TOTAL\",\"\",'Arrear Sheet'!F31))","v":""},{"$f":"IF('Arrear Sheet'!G31=\"\",\"\",IF('Arrear Sheet'!C31=\"TOTAL\",\"\",SUM(C31:E31)))","v":""},{"$f":"IF('Arrear Sheet'!H31=\"\",\"\",IF('Arrear Sheet'!C31=\"TOTAL\",\"\",'Arrear Sheet'!H31))","v":""},{"$f":"IF('Arrear Sheet'!I31=\"\",\"\",IF('Arrear Sheet'!C31=\"TOTAL\",\"\",'Arrear Sheet'!I31))","v":""},{"$f":"IF('Arrear Sheet'!J31=\"\",\"\",IF('Arrear Sheet'!C31=\"TOTAL\",\"\",'Arrear Sheet'!J31))","v":""},{"$f":"IF('Arrear Sheet'!K31=\"\",\"\",IF('Arrear Sheet'!C31=\"TOTAL\",\"\",SUM(G31:I31)))","v":""},{"$f":"IF('Arrear Sheet'!L31=\"\",\"\",IF('Arrear Sheet'!C31=\"TOTAL\",\"\",'Arrear Sheet'!L31))","v":""},{"$f":"IF('Arrear Sheet'!M31=\"\",\"\",IF('Arrear Sheet'!C31=\"TOTAL\",\"\",'Arrear Sheet'!M31))","v":""},{"$f":"IF('Arrear Sheet'!N31=\"\",\"\",IF('Arrear Sheet'!C31=\"TOTAL\",\"\",'Arrear Sheet'!N31))","v":""},{"$f":"IF('Arrear Sheet'!O31=\"\",\"\",IF('Arrear Sheet'!C31=\"TOTAL\",\"\",SUM(K31:M31)))","v":""},{"$f":"IF('Arrear Sheet'!P31=\"\",\"\",IF('Arrear Sheet'!C31=\"TOTAL\",\"\",'Arrear Sheet'!P31))","v":""},{"$f":"IF('Arrear Sheet'!Q31=\"\",\"\",IF('Arrear Sheet'!C31=\"TOTAL\",\"\",'Arrear Sheet'!Q31))","v":""},{"$f":"IF('Arrear Sheet'!R31=\"\",\"\",IF('Arrear Sheet'!C31=\"TOTAL\",\"\",'Arrear Sheet'!R31))","v":""},{"$f":"IF('Arrear Sheet'!S31=\"\",\"\",IF('Arrear Sheet'!C31=\"TOTAL\",\"\",'Arrear Sheet'!S31))","v":""},{"$f":"IF('Arrear Sheet'!T31=\"\",\"\",IF('Arrear Sheet'!C31=\"TOTAL\",\"\",'Arrear Sheet'!T31))","v":""},{"$f":"IF('Arrear Sheet'!U31=\"\",\"\",IF('Arrear Sheet'!C31=\"TOTAL\",\"\",'Arrear Sheet'!U31))","v":""},{"$f":"IF('Arrear Sheet'!V31=\"\",\"\",IF('Arrear Sheet'!C31=\"TOTAL\",\"\",'Arrear Sheet'!V31))","v":""},{"$f":"IF('Arrear Sheet'!W31=\"\",\"\",IF('Arrear Sheet'!C31=\"TOTAL\",\"\",'Arrear Sheet'!W31))","v":""},{"$f":"IF('Arrear Sheet'!X31=\"\",\"\",IF('Arrear Sheet'!C31=\"TOTAL\",\"\",'Arrear Sheet'!X31))","v":""},{"$f":"IF('Arrear Sheet'!Y31=\"\",\"\",IF('Arrear Sheet'!C31=\"TOTAL\",\"\",'Arrear Sheet'!Y31))","v":""},{"$f":"IF('Arrear Sheet'!Z31=\"\",\"\",IF('Arrear Sheet'!C31=\"TOTAL\",\"\",'Arrear Sheet'!Z31))","v":""},{"$f":"IF('Arrear Sheet'!AA31=\"\",\"\",IF('Arrear Sheet'!C31=\"TOTAL\",\"\",'Arrear Sheet'!AA31))","v":""},{"$f":"IF('Arrear Sheet'!AB31=\"\",\"\",IF('Arrear Sheet'!C31=\"TOTAL\",\"\",'Arrear Sheet'!AB31))","v":""},{"$f":"IF('Arrear Sheet'!AC31=\"\",\"\",IF('Arrear Sheet'!C31=\"TOTAL\",\"\",'Arrear Sheet'!AC31))","v":""},{"$f":"IF('Arrear Sheet'!AD31=\"\",\"\",IF('Arrear Sheet'!C31=\"TOTAL\",\"\",'Arrear Sheet'!AD31))","v":""},{"$f":"IF('Arrear Sheet'!AE31=\"\",\"\",IF('Arrear Sheet'!C31=\"TOTAL\",\"\",SUM(N31-AC31)))","v":""}]
[{"$f":"IF('Arrear Sheet'!B32=\"\",\"\",'Arrear Sheet'!B32)","v":""},{"$f":"IF('Arrear Sheet'!C32=\"\",\"\",IF('Arrear Sheet'!C32=\"TOTAL\",\"\",'Arrear Sheet'!C32))","v":""},{"$f":"IF('Arrear Sheet'!D32=\"\",\"\",IF('Arrear Sheet'!C32=\"TOTAL\",\"\",IF('Arrear Sheet'!D32=\"अक्षरें राशि :-\",\"\",'Arrear Sheet'!D32)))","v":""},{"$f":"IF('Arrear Sheet'!E32=\"\",\"\",IF('Arrear Sheet'!C32=\"TOTAL\",\"\",'Arrear Sheet'!E32))","v":""},{"$f":"IF('Arrear Sheet'!F32=\"\",\"\",IF('Arrear Sheet'!C32=\"TOTAL\",\"\",'Arrear Sheet'!F32))","v":""},{"$f":"IF('Arrear Sheet'!G32=\"\",\"\",IF('Arrear Sheet'!C32=\"TOTAL\",\"\",SUM(C32:E32)))","v":""},{"$f":"IF('Arrear Sheet'!H32=\"\",\"\",IF('Arrear Sheet'!C32=\"TOTAL\",\"\",'Arrear Sheet'!H32))","v":""},{"$f":"IF('Arrear Sheet'!I32=\"\",\"\",IF('Arrear Sheet'!C32=\"TOTAL\",\"\",'Arrear Sheet'!I32))","v":""},{"$f":"IF('Arrear Sheet'!J32=\"\",\"\",IF('Arrear Sheet'!C32=\"TOTAL\",\"\",'Arrear Sheet'!J32))","v":""},{"$f":"IF('Arrear Sheet'!K32=\"\",\"\",IF('Arrear Sheet'!C32=\"TOTAL\",\"\",SUM(G32:I32)))","v":""},{"$f":"IF('Arrear Sheet'!L32=\"\",\"\",IF('Arrear Sheet'!C32=\"TOTAL\",\"\",'Arrear Sheet'!L32))","v":""},{"$f":"IF('Arrear Sheet'!M32=\"\",\"\",IF('Arrear Sheet'!C32=\"TOTAL\",\"\",'Arrear Sheet'!M32))","v":""},{"$f":"IF('Arrear Sheet'!N32=\"\",\"\",IF('Arrear Sheet'!C32=\"TOTAL\",\"\",'Arrear Sheet'!N32))","v":""},{"$f":"IF('Arrear Sheet'!O32=\"\",\"\",IF('Arrear Sheet'!C32=\"TOTAL\",\"\",SUM(K32:M32)))","v":""},{"$f":"IF('Arrear Sheet'!P32=\"\",\"\",IF('Arrear Sheet'!C32=\"TOTAL\",\"\",'Arrear Sheet'!P32))","v":""},{"$f":"IF('Arrear Sheet'!Q32=\"\",\"\",IF('Arrear Sheet'!C32=\"TOTAL\",\"\",'Arrear Sheet'!Q32))","v":""},{"$f":"IF('Arrear Sheet'!R32=\"\",\"\",IF('Arrear Sheet'!C32=\"TOTAL\",\"\",'Arrear Sheet'!R32))","v":""},{"$f":"IF('Arrear Sheet'!S32=\"\",\"\",IF('Arrear Sheet'!C32=\"TOTAL\",\"\",'Arrear Sheet'!S32))","v":""},{"$f":"IF('Arrear Sheet'!T32=\"\",\"\",IF('Arrear Sheet'!C32=\"TOTAL\",\"\",'Arrear Sheet'!T32))","v":""},{"$f":"IF('Arrear Sheet'!U32=\"\",\"\",IF('Arrear Sheet'!C32=\"TOTAL\",\"\",'Arrear Sheet'!U32))","v":""},{"$f":"IF('Arrear Sheet'!V32=\"\",\"\",IF('Arrear Sheet'!C32=\"TOTAL\",\"\",'Arrear Sheet'!V32))","v":""},{"$f":"IF('Arrear Sheet'!W32=\"\",\"\",IF('Arrear Sheet'!C32=\"TOTAL\",\"\",'Arrear Sheet'!W32))","v":""},{"$f":"IF('Arrear Sheet'!X32=\"\",\"\",IF('Arrear Sheet'!C32=\"TOTAL\",\"\",'Arrear Sheet'!X32))","v":""},{"$f":"IF('Arrear Sheet'!Y32=\"\",\"\",IF('Arrear Sheet'!C32=\"TOTAL\",\"\",'Arrear Sheet'!Y32))","v":""},{"$f":"IF('Arrear Sheet'!Z32=\"\",\"\",IF('Arrear Sheet'!C32=\"TOTAL\",\"\",'Arrear Sheet'!Z32))","v":""},{"$f":"IF('Arrear Sheet'!AA32=\"\",\"\",IF('Arrear Sheet'!C32=\"TOTAL\",\"\",'Arrear Sheet'!AA32))","v":""},{"$f":"IF('Arrear Sheet'!AB32=\"\",\"\",IF('Arrear Sheet'!C32=\"TOTAL\",\"\",'Arrear Sheet'!AB32))","v":""},{"$f":"IF('Arrear Sheet'!AC32=\"\",\"\",IF('Arrear Sheet'!C32=\"TOTAL\",\"\",'Arrear Sheet'!AC32))","v":""},{"$f":"IF('Arrear Sheet'!AD32=\"\",\"\",IF('Arrear Sheet'!C32=\"TOTAL\",\"\",'Arrear Sheet'!AD32))","v":""},{"$f":"IF('Arrear Sheet'!AE32=\"\",\"\",IF('Arrear Sheet'!C32=\"TOTAL\",\"\",SUM(N32-AC32)))","v":""}]
[{"$f":"IF('Arrear Sheet'!B33=\"\",\"\",'Arrear Sheet'!B33)","v":""},{"$f":"IF('Arrear Sheet'!C33=\"\",\"\",IF('Arrear Sheet'!C33=\"TOTAL\",\"\",'Arrear Sheet'!C33))","v":""},{"$f":"IF('Arrear Sheet'!D33=\"\",\"\",IF('Arrear Sheet'!C33=\"TOTAL\",\"\",IF('Arrear Sheet'!D33=\"अक्षरें राशि :-\",\"\",'Arrear Sheet'!D33)))","v":""},{"$f":"IF('Arrear Sheet'!E33=\"\",\"\",IF('Arrear Sheet'!C33=\"TOTAL\",\"\",'Arrear Sheet'!E33))","v":""},{"$f":"IF('Arrear Sheet'!F33=\"\",\"\",IF('Arrear Sheet'!C33=\"TOTAL\",\"\",'Arrear Sheet'!F33))","v":""},{"$f":"IF('Arrear Sheet'!G33=\"\",\"\",IF('Arrear Sheet'!C33=\"TOTAL\",\"\",SUM(C33:E33)))","v":""},{"$f":"IF('Arrear Sheet'!H33=\"\",\"\",IF('Arrear Sheet'!C33=\"TOTAL\",\"\",'Arrear Sheet'!H33))","v":""},{"$f":"IF('Arrear Sheet'!I33=\"\",\"\",IF('Arrear Sheet'!C33=\"TOTAL\",\"\",'Arrear Sheet'!I33))","v":""},{"$f":"IF('Arrear Sheet'!J33=\"\",\"\",IF('Arrear Sheet'!C33=\"TOTAL\",\"\",'Arrear Sheet'!J33))","v":""},{"$f":"IF('Arrear Sheet'!K33=\"\",\"\",IF('Arrear Sheet'!C33=\"TOTAL\",\"\",SUM(G33:I33)))","v":""},{"$f":"IF('Arrear Sheet'!L33=\"\",\"\",IF('Arrear Sheet'!C33=\"TOTAL\",\"\",'Arrear Sheet'!L33))","v":""},{"$f":"IF('Arrear Sheet'!M33=\"\",\"\",IF('Arrear Sheet'!C33=\"TOTAL\",\"\",'Arrear Sheet'!M33))","v":""},{"$f":"IF('Arrear Sheet'!N33=\"\",\"\",IF('Arrear Sheet'!C33=\"TOTAL\",\"\",'Arrear Sheet'!N33))","v":""},{"$f":"IF('Arrear Sheet'!O33=\"\",\"\",IF('Arrear Sheet'!C33=\"TOTAL\",\"\",SUM(K33:M33)))","v":""},{"$f":"IF('Arrear Sheet'!P33=\"\",\"\",IF('Arrear Sheet'!C33=\"TOTAL\",\"\",'Arrear Sheet'!P33))","v":""},{"$f":"IF('Arrear Sheet'!Q33=\"\",\"\",IF('Arrear Sheet'!C33=\"TOTAL\",\"\",'Arrear Sheet'!Q33))","v":""},{"$f":"IF('Arrear Sheet'!R33=\"\",\"\",IF('Arrear Sheet'!C33=\"TOTAL\",\"\",'Arrear Sheet'!R33))","v":""},{"$f":"IF('Arrear Sheet'!S33=\"\",\"\",IF('Arrear Sheet'!C33=\"TOTAL\",\"\",'Arrear Sheet'!S33))","v":""},{"$f":"IF('Arrear Sheet'!T33=\"\",\"\",IF('Arrear Sheet'!C33=\"TOTAL\",\"\",'Arrear Sheet'!T33))","v":""},{"$f":"IF('Arrear Sheet'!U33=\"\",\"\",IF('Arrear Sheet'!C33=\"TOTAL\",\"\",'Arrear Sheet'!U33))","v":""},{"$f":"IF('Arrear Sheet'!V33=\"\",\"\",IF('Arrear Sheet'!C33=\"TOTAL\",\"\",'Arrear Sheet'!V33))","v":""},{"$f":"IF('Arrear Sheet'!W33=\"\",\"\",IF('Arrear Sheet'!C33=\"TOTAL\",\"\",'Arrear Sheet'!W33))","v":""},{"$f":"IF('Arrear Sheet'!X33=\"\",\"\",IF('Arrear Sheet'!C33=\"TOTAL\",\"\",'Arrear Sheet'!X33))","v":""},{"$f":"IF('Arrear Sheet'!Y33=\"\",\"\",IF('Arrear Sheet'!C33=\"TOTAL\",\"\",'Arrear Sheet'!Y33))","v":""},{"$f":"IF('Arrear Sheet'!Z33=\"\",\"\",IF('Arrear Sheet'!C33=\"TOTAL\",\"\",'Arrear Sheet'!Z33))","v":""},{"$f":"IF('Arrear Sheet'!AA33=\"\",\"\",IF('Arrear Sheet'!C33=\"TOTAL\",\"\",'Arrear Sheet'!AA33))","v":""},{"$f":"IF('Arrear Sheet'!AB33=\"\",\"\",IF('Arrear Sheet'!C33=\"TOTAL\",\"\",'Arrear Sheet'!AB33))","v":""},{"$f":"IF('Arrear Sheet'!AC33=\"\",\"\",IF('Arrear Sheet'!C33=\"TOTAL\",\"\",'Arrear Sheet'!AC33))","v":""},{"$f":"IF('Arrear Sheet'!AD33=\"\",\"\",IF('Arrear Sheet'!C33=\"TOTAL\",\"\",'Arrear Sheet'!AD33))","v":""},{"$f":"IF('Arrear Sheet'!AE33=\"\",\"\",IF('Arrear Sheet'!C33=\"TOTAL\",\"\",SUM(N33-AC33)))","v":""}]
[{"$f":"IF('Arrear Sheet'!B34=\"\",\"\",'Arrear Sheet'!B34)","v":""},{"$f":"IF('Arrear Sheet'!C34=\"\",\"\",IF('Arrear Sheet'!C34=\"TOTAL\",\"\",'Arrear Sheet'!C34))","v":""},{"$f":"IF('Arrear Sheet'!D34=\"\",\"\",IF('Arrear Sheet'!C34=\"TOTAL\",\"\",IF('Arrear Sheet'!D34=\"अक्षरें राशि :-\",\"\",'Arrear Sheet'!D34)))","v":""},{"$f":"IF('Arrear Sheet'!E34=\"\",\"\",IF('Arrear Sheet'!C34=\"TOTAL\",\"\",'Arrear Sheet'!E34))","v":""},{"$f":"IF('Arrear Sheet'!F34=\"\",\"\",IF('Arrear Sheet'!C34=\"TOTAL\",\"\",'Arrear Sheet'!F34))","v":""},{"$f":"IF('Arrear Sheet'!G34=\"\",\"\",IF('Arrear Sheet'!C34=\"TOTAL\",\"\",SUM(C34:E34)))","v":""},{"$f":"IF('Arrear Sheet'!H34=\"\",\"\",IF('Arrear Sheet'!C34=\"TOTAL\",\"\",'Arrear Sheet'!H34))","v":""},{"$f":"IF('Arrear Sheet'!I34=\"\",\"\",IF('Arrear Sheet'!C34=\"TOTAL\",\"\",'Arrear Sheet'!I34))","v":""},{"$f":"IF('Arrear Sheet'!J34=\"\",\"\",IF('Arrear Sheet'!C34=\"TOTAL\",\"\",'Arrear Sheet'!J34))","v":""},{"$f":"IF('Arrear Sheet'!K34=\"\",\"\",IF('Arrear Sheet'!C34=\"TOTAL\",\"\",SUM(G34:I34)))","v":""},{"$f":"IF('Arrear Sheet'!L34=\"\",\"\",IF('Arrear Sheet'!C34=\"TOTAL\",\"\",'Arrear Sheet'!L34))","v":""},{"$f":"IF('Arrear Sheet'!M34=\"\",\"\",IF('Arrear Sheet'!C34=\"TOTAL\",\"\",'Arrear Sheet'!M34))","v":""},{"$f":"IF('Arrear Sheet'!N34=\"\",\"\",IF('Arrear Sheet'!C34=\"TOTAL\",\"\",'Arrear Sheet'!N34))","v":""},{"$f":"IF('Arrear Sheet'!O34=\"\",\"\",IF('Arrear Sheet'!C34=\"TOTAL\",\"\",SUM(K34:M34)))","v":""},{"$f":"IF('Arrear Sheet'!P34=\"\",\"\",IF('Arrear Sheet'!C34=\"TOTAL\",\"\",'Arrear Sheet'!P34))","v":""},{"$f":"IF('Arrear Sheet'!Q34=\"\",\"\",IF('Arrear Sheet'!C34=\"TOTAL\",\"\",'Arrear Sheet'!Q34))","v":""},{"$f":"IF('Arrear Sheet'!R34=\"\",\"\",IF('Arrear Sheet'!C34=\"TOTAL\",\"\",'Arrear Sheet'!R34))","v":""},{"$f":"IF('Arrear Sheet'!S34=\"\",\"\",IF('Arrear Sheet'!C34=\"TOTAL\",\"\",'Arrear Sheet'!S34))","v":""},{"$f":"IF('Arrear Sheet'!T34=\"\",\"\",IF('Arrear Sheet'!C34=\"TOTAL\",\"\",'Arrear Sheet'!T34))","v":""},{"$f":"IF('Arrear Sheet'!U34=\"\",\"\",IF('Arrear Sheet'!C34=\"TOTAL\",\"\",'Arrear Sheet'!U34))","v":""},{"$f":"IF('Arrear Sheet'!V34=\"\",\"\",IF('Arrear Sheet'!C34=\"TOTAL\",\"\",'Arrear Sheet'!V34))","v":""},{"$f":"IF('Arrear Sheet'!W34=\"\",\"\",IF('Arrear Sheet'!C34=\"TOTAL\",\"\",'Arrear Sheet'!W34))","v":""},{"$f":"IF('Arrear Sheet'!X34=\"\",\"\",IF('Arrear Sheet'!C34=\"TOTAL\",\"\",'Arrear Sheet'!X34))","v":""},{"$f":"IF('Arrear Sheet'!Y34=\"\",\"\",IF('Arrear Sheet'!C34=\"TOTAL\",\"\",'Arrear Sheet'!Y34))","v":""},{"$f":"IF('Arrear Sheet'!Z34=\"\",\"\",IF('Arrear Sheet'!C34=\"TOTAL\",\"\",'Arrear Sheet'!Z34))","v":""},{"$f":"IF('Arrear Sheet'!AA34=\"\",\"\",IF('Arrear Sheet'!C34=\"TOTAL\",\"\",'Arrear Sheet'!AA34))","v":""},{"$f":"IF('Arrear Sheet'!AB34=\"\",\"\",IF('Arrear Sheet'!C34=\"TOTAL\",\"\",'Arrear Sheet'!AB34))","v":""},{"$f":"IF('Arrear Sheet'!AC34=\"\",\"\",IF('Arrear Sheet'!C34=\"TOTAL\",\"\",'Arrear Sheet'!AC34))","v":""},{"$f":"IF('Arrear Sheet'!AD34=\"\",\"\",IF('Arrear Sheet'!C34=\"TOTAL\",\"\",'Arrear Sheet'!AD34))","v":""},{"$f":"IF('Arrear Sheet'!AE34=\"\",\"\",IF('Arrear Sheet'!C34=\"TOTAL\",\"\",SUM(N34-AC34)))","v":""}]
[{"$f":"IF('Arrear Sheet'!B35=\"\",\"\",'Arrear Sheet'!B35)","v":""},{"$f":"IF('Arrear Sheet'!C35=\"\",\"\",IF('Arrear Sheet'!C35=\"TOTAL\",\"\",'Arrear Sheet'!C35))","v":""},{"$f":"IF('Arrear Sheet'!D35=\"\",\"\",IF('Arrear Sheet'!C35=\"TOTAL\",\"\",IF('Arrear Sheet'!D35=\"अक्षरें राशि :-\",\"\",'Arrear Sheet'!D35)))","v":""},{"$f":"IF('Arrear Sheet'!E35=\"\",\"\",IF('Arrear Sheet'!C35=\"TOTAL\",\"\",'Arrear Sheet'!E35))","v":""},{"$f":"IF('Arrear Sheet'!F35=\"\",\"\",IF('Arrear Sheet'!C35=\"TOTAL\",\"\",'Arrear Sheet'!F35))","v":""},{"$f":"IF('Arrear Sheet'!G35=\"\",\"\",IF('Arrear Sheet'!C35=\"TOTAL\",\"\",SUM(C35:E35)))","v":""},{"$f":"IF('Arrear Sheet'!H35=\"\",\"\",IF('Arrear Sheet'!C35=\"TOTAL\",\"\",'Arrear Sheet'!H35))","v":""},{"$f":"IF('Arrear Sheet'!I35=\"\",\"\",IF('Arrear Sheet'!C35=\"TOTAL\",\"\",'Arrear Sheet'!I35))","v":""},{"$f":"IF('Arrear Sheet'!J35=\"\",\"\",IF('Arrear Sheet'!C35=\"TOTAL\",\"\",'Arrear Sheet'!J35))","v":""},{"$f":"IF('Arrear Sheet'!K35=\"\",\"\",IF('Arrear Sheet'!C35=\"TOTAL\",\"\",SUM(G35:I35)))","v":""},{"$f":"IF('Arrear Sheet'!L35=\"\",\"\",IF('Arrear Sheet'!C35=\"TOTAL\",\"\",'Arrear Sheet'!L35))","v":""},{"$f":"IF('Arrear Sheet'!M35=\"\",\"\",IF('Arrear Sheet'!C35=\"TOTAL\",\"\",'Arrear Sheet'!M35))","v":""},{"$f":"IF('Arrear Sheet'!N35=\"\",\"\",IF('Arrear Sheet'!C35=\"TOTAL\",\"\",'Arrear Sheet'!N35))","v":""},{"$f":"IF('Arrear Sheet'!O35=\"\",\"\",IF('Arrear Sheet'!C35=\"TOTAL\",\"\",SUM(K35:M35)))","v":""},{"$f":"IF('Arrear Sheet'!P35=\"\",\"\",IF('Arrear Sheet'!C35=\"TOTAL\",\"\",'Arrear Sheet'!P35))","v":""},{"$f":"IF('Arrear Sheet'!Q35=\"\",\"\",IF('Arrear Sheet'!C35=\"TOTAL\",\"\",'Arrear Sheet'!Q35))","v":""},{"$f":"IF('Arrear Sheet'!R35=\"\",\"\",IF('Arrear Sheet'!C35=\"TOTAL\",\"\",'Arrear Sheet'!R35))","v":""},{"$f":"IF('Arrear Sheet'!S35=\"\",\"\",IF('Arrear Sheet'!C35=\"TOTAL\",\"\",'Arrear Sheet'!S35))","v":""},{"$f":"IF('Arrear Sheet'!T35=\"\",\"\",IF('Arrear Sheet'!C35=\"TOTAL\",\"\",'Arrear Sheet'!T35))","v":""},{"$f":"IF('Arrear Sheet'!U35=\"\",\"\",IF('Arrear Sheet'!C35=\"TOTAL\",\"\",'Arrear Sheet'!U35))","v":""},{"$f":"IF('Arrear Sheet'!V35=\"\",\"\",IF('Arrear Sheet'!C35=\"TOTAL\",\"\",'Arrear Sheet'!V35))","v":""},{"$f":"IF('Arrear Sheet'!W35=\"\",\"\",IF('Arrear Sheet'!C35=\"TOTAL\",\"\",'Arrear Sheet'!W35))","v":""},{"$f":"IF('Arrear Sheet'!X35=\"\",\"\",IF('Arrear Sheet'!C35=\"TOTAL\",\"\",'Arrear Sheet'!X35))","v":""},{"$f":"IF('Arrear Sheet'!Y35=\"\",\"\",IF('Arrear Sheet'!C35=\"TOTAL\",\"\",'Arrear Sheet'!Y35))","v":""},{"$f":"IF('Arrear Sheet'!Z35=\"\",\"\",IF('Arrear Sheet'!C35=\"TOTAL\",\"\",'Arrear Sheet'!Z35))","v":""},{"$f":"IF('Arrear Sheet'!AA35=\"\",\"\",IF('Arrear Sheet'!C35=\"TOTAL\",\"\",'Arrear Sheet'!AA35))","v":""},{"$f":"IF('Arrear Sheet'!AB35=\"\",\"\",IF('Arrear Sheet'!C35=\"TOTAL\",\"\",'Arrear Sheet'!AB35))","v":""},{"$f":"IF('Arrear Sheet'!AC35=\"\",\"\",IF('Arrear Sheet'!C35=\"TOTAL\",\"\",'Arrear Sheet'!AC35))","v":""},{"$f":"IF('Arrear Sheet'!AD35=\"\",\"\",IF('Arrear Sheet'!C35=\"TOTAL\",\"\",'Arrear Sheet'!AD35))","v":""},{"$f":"IF('Arrear Sheet'!AE35=\"\",\"\",IF('Arrear Sheet'!C35=\"TOTAL\",\"\",SUM(N35-AC35)))","v":""}]
[{"$f":"IF('Arrear Sheet'!B36=\"\",\"\",'Arrear Sheet'!B36)","v":""},{"$f":"IF('Arrear Sheet'!C36=\"\",\"\",IF('Arrear Sheet'!C36=\"TOTAL\",\"\",'Arrear Sheet'!C36))","v":""},{"$f":"IF('Arrear Sheet'!D36=\"\",\"\",IF('Arrear Sheet'!C36=\"TOTAL\",\"\",IF('Arrear Sheet'!D36=\"अक्षरें राशि :-\",\"\",'Arrear Sheet'!D36)))","v":""},{"$f":"IF('Arrear Sheet'!E36=\"\",\"\",IF('Arrear Sheet'!C36=\"TOTAL\",\"\",'Arrear Sheet'!E36))","v":""},{"$f":"IF('Arrear Sheet'!F36=\"\",\"\",IF('Arrear Sheet'!C36=\"TOTAL\",\"\",'Arrear Sheet'!F36))","v":""},{"$f":"IF('Arrear Sheet'!G36=\"\",\"\",IF('Arrear Sheet'!C36=\"TOTAL\",\"\",SUM(C36:E36)))","v":""},{"$f":"IF('Arrear Sheet'!H36=\"\",\"\",IF('Arrear Sheet'!C36=\"TOTAL\",\"\",'Arrear Sheet'!H36))","v":""},{"$f":"IF('Arrear Sheet'!I36=\"\",\"\",IF('Arrear Sheet'!C36=\"TOTAL\",\"\",'Arrear Sheet'!I36))","v":""},{"$f":"IF('Arrear Sheet'!J36=\"\",\"\",IF('Arrear Sheet'!C36=\"TOTAL\",\"\",'Arrear Sheet'!J36))","v":""},{"$f":"IF('Arrear Sheet'!K36=\"\",\"\",IF('Arrear Sheet'!C36=\"TOTAL\",\"\",SUM(G36:I36)))","v":""},{"$f":"IF('Arrear Sheet'!L36=\"\",\"\",IF('Arrear Sheet'!C36=\"TOTAL\",\"\",'Arrear Sheet'!L36))","v":""},{"$f":"IF('Arrear Sheet'!M36=\"\",\"\",IF('Arrear Sheet'!C36=\"TOTAL\",\"\",'Arrear Sheet'!M36))","v":""},{"$f":"IF('Arrear Sheet'!N36=\"\",\"\",IF('Arrear Sheet'!C36=\"TOTAL\",\"\",'Arrear Sheet'!N36))","v":""},{"$f":"IF('Arrear Sheet'!O36=\"\",\"\",IF('Arrear Sheet'!C36=\"TOTAL\",\"\",SUM(K36:M36)))","v":""},{"$f":"IF('Arrear Sheet'!P36=\"\",\"\",IF('Arrear Sheet'!C36=\"TOTAL\",\"\",'Arrear Sheet'!P36))","v":""},{"$f":"IF('Arrear Sheet'!Q36=\"\",\"\",IF('Arrear Sheet'!C36=\"TOTAL\",\"\",'Arrear Sheet'!Q36))","v":""},{"$f":"IF('Arrear Sheet'!R36=\"\",\"\",IF('Arrear Sheet'!C36=\"TOTAL\",\"\",'Arrear Sheet'!R36))","v":""},{"$f":"IF('Arrear Sheet'!S36=\"\",\"\",IF('Arrear Sheet'!C36=\"TOTAL\",\"\",'Arrear Sheet'!S36))","v":""},{"$f":"IF('Arrear Sheet'!T36=\"\",\"\",IF('Arrear Sheet'!C36=\"TOTAL\",\"\",'Arrear Sheet'!T36))","v":""},{"$f":"IF('Arrear Sheet'!U36=\"\",\"\",IF('Arrear Sheet'!C36=\"TOTAL\",\"\",'Arrear Sheet'!U36))","v":""},{"$f":"IF('Arrear Sheet'!V36=\"\",\"\",IF('Arrear Sheet'!C36=\"TOTAL\",\"\",'Arrear Sheet'!V36))","v":""},{"$f":"IF('Arrear Sheet'!W36=\"\",\"\",IF('Arrear Sheet'!C36=\"TOTAL\",\"\",'Arrear Sheet'!W36))","v":""},{"$f":"IF('Arrear Sheet'!X36=\"\",\"\",IF('Arrear Sheet'!C36=\"TOTAL\",\"\",'Arrear Sheet'!X36))","v":""},{"$f":"IF('Arrear Sheet'!Y36=\"\",\"\",IF('Arrear Sheet'!C36=\"TOTAL\",\"\",'Arrear Sheet'!Y36))","v":""},{"$f":"IF('Arrear Sheet'!Z36=\"\",\"\",IF('Arrear Sheet'!C36=\"TOTAL\",\"\",'Arrear Sheet'!Z36))","v":""},{"$f":"IF('Arrear Sheet'!AA36=\"\",\"\",IF('Arrear Sheet'!C36=\"TOTAL\",\"\",'Arrear Sheet'!AA36))","v":""},{"$f":"IF('Arrear Sheet'!AB36=\"\",\"\",IF('Arrear Sheet'!C36=\"TOTAL\",\"\",'Arrear Sheet'!AB36))","v":""},{"$f":"IF('Arrear Sheet'!AC36=\"\",\"\",IF('Arrear Sheet'!C36=\"TOTAL\",\"\",'Arrear Sheet'!AC36))","v":""},{"$f":"IF('Arrear Sheet'!AD36=\"\",\"\",IF('Arrear Sheet'!C36=\"TOTAL\",\"\",'Arrear Sheet'!AD36))","v":""},{"$f":"IF('Arrear Sheet'!AE36=\"\",\"\",IF('Arrear Sheet'!C36=\"TOTAL\",\"\",SUM(N36-AC36)))","v":""}]
[{"$f":"IF('Arrear Sheet'!B37=\"\",\"\",'Arrear Sheet'!B37)","v":""},{"$f":"IF('Arrear Sheet'!C37=\"\",\"\",IF('Arrear Sheet'!C37=\"TOTAL\",\"\",'Arrear Sheet'!C37))","v":""},{"$f":"IF('Arrear Sheet'!D37=\"\",\"\",IF('Arrear Sheet'!C37=\"TOTAL\",\"\",IF('Arrear Sheet'!D37=\"अक्षरें राशि :-\",\"\",'Arrear Sheet'!D37)))","v":""},{"$f":"IF('Arrear Sheet'!E37=\"\",\"\",IF('Arrear Sheet'!C37=\"TOTAL\",\"\",'Arrear Sheet'!E37))","v":""},{"$f":"IF('Arrear Sheet'!F37=\"\",\"\",IF('Arrear Sheet'!C37=\"TOTAL\",\"\",'Arrear Sheet'!F37))","v":""},{"$f":"IF('Arrear Sheet'!G37=\"\",\"\",IF('Arrear Sheet'!C37=\"TOTAL\",\"\",SUM(C37:E37)))","v":""},{"$f":"IF('Arrear Sheet'!H37=\"\",\"\",IF('Arrear Sheet'!C37=\"TOTAL\",\"\",'Arrear Sheet'!H37))","v":""},{"$f":"IF('Arrear Sheet'!I37=\"\",\"\",IF('Arrear Sheet'!C37=\"TOTAL\",\"\",'Arrear Sheet'!I37))","v":""},{"$f":"IF('Arrear Sheet'!J37=\"\",\"\",IF('Arrear Sheet'!C37=\"TOTAL\",\"\",'Arrear Sheet'!J37))","v":""},{"$f":"IF('Arrear Sheet'!K37=\"\",\"\",IF('Arrear Sheet'!C37=\"TOTAL\",\"\",SUM(G37:I37)))","v":""},{"$f":"IF('Arrear Sheet'!L37=\"\",\"\",IF('Arrear Sheet'!C37=\"TOTAL\",\"\",'Arrear Sheet'!L37))","v":""},{"$f":"IF('Arrear Sheet'!M37=\"\",\"\",IF('Arrear Sheet'!C37=\"TOTAL\",\"\",'Arrear Sheet'!M37))","v":""},{"$f":"IF('Arrear Sheet'!N37=\"\",\"\",IF('Arrear Sheet'!C37=\"TOTAL\",\"\",'Arrear Sheet'!N37))","v":""},{"$f":"IF('Arrear Sheet'!O37=\"\",\"\",IF('Arrear Sheet'!C37=\"TOTAL\",\"\",SUM(K37:M37)))","v":""},{"$f":"IF('Arrear Sheet'!P37=\"\",\"\",IF('Arrear Sheet'!C37=\"TOTAL\",\"\",'Arrear Sheet'!P37))","v":""},{"$f":"IF('Arrear Sheet'!Q37=\"\",\"\",IF('Arrear Sheet'!C37=\"TOTAL\",\"\",'Arrear Sheet'!Q37))","v":""},{"$f":"IF('Arrear Sheet'!R37=\"\",\"\",IF('Arrear Sheet'!C37=\"TOTAL\",\"\",'Arrear Sheet'!R37))","v":""},{"$f":"IF('Arrear Sheet'!S37=\"\",\"\",IF('Arrear Sheet'!C37=\"TOTAL\",\"\",'Arrear Sheet'!S37))","v":""},{"$f":"IF('Arrear Sheet'!T37=\"\",\"\",IF('Arrear Sheet'!C37=\"TOTAL\",\"\",'Arrear Sheet'!T37))","v":""},{"$f":"IF('Arrear Sheet'!U37=\"\",\"\",IF('Arrear Sheet'!C37=\"TOTAL\",\"\",'Arrear Sheet'!U37))","v":""},{"$f":"IF('Arrear Sheet'!V37=\"\",\"\",IF('Arrear Sheet'!C37=\"TOTAL\",\"\",'Arrear Sheet'!V37))","v":""},{"$f":"IF('Arrear Sheet'!W37=\"\",\"\",IF('Arrear Sheet'!C37=\"TOTAL\",\"\",'Arrear Sheet'!W37))","v":""},{"$f":"IF('Arrear Sheet'!X37=\"\",\"\",IF('Arrear Sheet'!C37=\"TOTAL\",\"\",'Arrear Sheet'!X37))","v":""},{"$f":"IF('Arrear Sheet'!Y37=\"\",\"\",IF('Arrear Sheet'!C37=\"TOTAL\",\"\",'Arrear Sheet'!Y37))","v":""},{"$f":"IF('Arrear Sheet'!Z37=\"\",\"\",IF('Arrear Sheet'!C37=\"TOTAL\",\"\",'Arrear Sheet'!Z37))","v":""},{"$f":"IF('Arrear Sheet'!AA37=\"\",\"\",IF('Arrear Sheet'!C37=\"TOTAL\",\"\",'Arrear Sheet'!AA37))","v":""},{"$f":"IF('Arrear Sheet'!AB37=\"\",\"\",IF('Arrear Sheet'!C37=\"TOTAL\",\"\",'Arrear Sheet'!AB37))","v":""},{"$f":"IF('Arrear Sheet'!AC37=\"\",\"\",IF('Arrear Sheet'!C37=\"TOTAL\",\"\",'Arrear Sheet'!AC37))","v":""},{"$f":"IF('Arrear Sheet'!AD37=\"\",\"\",IF('Arrear Sheet'!C37=\"TOTAL\",\"\",'Arrear Sheet'!AD37))","v":""},{"$f":"IF('Arrear Sheet'!AE37=\"\",\"\",IF('Arrear Sheet'!C37=\"TOTAL\",\"\",SUM(N37-AC37)))","v":""}]
[{"$f":"IF('Arrear Sheet'!B38=\"\",\"\",'Arrear Sheet'!B38)","v":""},{"$f":"IF('Arrear Sheet'!C38=\"\",\"\",IF('Arrear Sheet'!C38=\"TOTAL\",\"\",'Arrear Sheet'!C38))","v":""},{"$f":"IF('Arrear Sheet'!D38=\"\",\"\",IF('Arrear Sheet'!C38=\"TOTAL\",\"\",IF('Arrear Sheet'!D38=\"अक्षरें राशि :-\",\"\",'Arrear Sheet'!D38)))","v":""},{"$f":"IF('Arrear Sheet'!E38=\"\",\"\",IF('Arrear Sheet'!C38=\"TOTAL\",\"\",'Arrear Sheet'!E38))","v":""},{"$f":"IF('Arrear Sheet'!F38=\"\",\"\",IF('Arrear Sheet'!C38=\"TOTAL\",\"\",'Arrear Sheet'!F38))","v":""},{"$f":"IF('Arrear Sheet'!G38=\"\",\"\",IF('Arrear Sheet'!C38=\"TOTAL\",\"\",SUM(C38:E38)))","v":""},{"$f":"IF('Arrear Sheet'!H38=\"\",\"\",IF('Arrear Sheet'!C38=\"TOTAL\",\"\",'Arrear Sheet'!H38))","v":""},{"$f":"IF('Arrear Sheet'!I38=\"\",\"\",IF('Arrear Sheet'!C38=\"TOTAL\",\"\",'Arrear Sheet'!I38))","v":""},{"$f":"IF('Arrear Sheet'!J38=\"\",\"\",IF('Arrear Sheet'!C38=\"TOTAL\",\"\",'Arrear Sheet'!J38))","v":""},{"$f":"IF('Arrear Sheet'!K38=\"\",\"\",IF('Arrear Sheet'!C38=\"TOTAL\",\"\",SUM(G38:I38)))","v":""},{"$f":"IF('Arrear Sheet'!L38=\"\",\"\",IF('Arrear Sheet'!C38=\"TOTAL\",\"\",'Arrear Sheet'!L38))","v":""},{"$f":"IF('Arrear Sheet'!M38=\"\",\"\",IF('Arrear Sheet'!C38=\"TOTAL\",\"\",'Arrear Sheet'!M38))","v":""},{"$f":"IF('Arrear Sheet'!N38=\"\",\"\",IF('Arrear Sheet'!C38=\"TOTAL\",\"\",'Arrear Sheet'!N38))","v":""},{"$f":"IF('Arrear Sheet'!O38=\"\",\"\",IF('Arrear Sheet'!C38=\"TOTAL\",\"\",SUM(K38:M38)))","v":""},{"$f":"IF('Arrear Sheet'!P38=\"\",\"\",IF('Arrear Sheet'!C38=\"TOTAL\",\"\",'Arrear Sheet'!P38))","v":""},{"$f":"IF('Arrear Sheet'!Q38=\"\",\"\",IF('Arrear Sheet'!C38=\"TOTAL\",\"\",'Arrear Sheet'!Q38))","v":""},{"$f":"IF('Arrear Sheet'!R38=\"\",\"\",IF('Arrear Sheet'!C38=\"TOTAL\",\"\",'Arrear Sheet'!R38))","v":""},{"$f":"IF('Arrear Sheet'!S38=\"\",\"\",IF('Arrear Sheet'!C38=\"TOTAL\",\"\",'Arrear Sheet'!S38))","v":""},{"$f":"IF('Arrear Sheet'!T38=\"\",\"\",IF('Arrear Sheet'!C38=\"TOTAL\",\"\",'Arrear Sheet'!T38))","v":""},{"$f":"IF('Arrear Sheet'!U38=\"\",\"\",IF('Arrear Sheet'!C38=\"TOTAL\",\"\",'Arrear Sheet'!U38))","v":""},{"$f":"IF('Arrear Sheet'!V38=\"\",\"\",IF('Arrear Sheet'!C38=\"TOTAL\",\"\",'Arrear Sheet'!V38))","v":""},{"$f":"IF('Arrear Sheet'!W38=\"\",\"\",IF('Arrear Sheet'!C38=\"TOTAL\",\"\",'Arrear Sheet'!W38))","v":""},{"$f":"IF('Arrear Sheet'!X38=\"\",\"\",IF('Arrear Sheet'!C38=\"TOTAL\",\"\",'Arrear Sheet'!X38))","v":""},{"$f":"IF('Arrear Sheet'!Y38=\"\",\"\",IF('Arrear Sheet'!C38=\"TOTAL\",\"\",'Arrear Sheet'!Y38))","v":""},{"$f":"IF('Arrear Sheet'!Z38=\"\",\"\",IF('Arrear Sheet'!C38=\"TOTAL\",\"\",'Arrear Sheet'!Z38))","v":""},{"$f":"IF('Arrear Sheet'!AA38=\"\",\"\",IF('Arrear Sheet'!C38=\"TOTAL\",\"\",'Arrear Sheet'!AA38))","v":""},{"$f":"IF('Arrear Sheet'!AB38=\"\",\"\",IF('Arrear Sheet'!C38=\"TOTAL\",\"\",'Arrear Sheet'!AB38))","v":""},{"$f":"IF('Arrear Sheet'!AC38=\"\",\"\",IF('Arrear Sheet'!C38=\"TOTAL\",\"\",'Arrear Sheet'!AC38))","v":""},{"$f":"IF('Arrear Sheet'!AD38=\"\",\"\",IF('Arrear Sheet'!C38=\"TOTAL\",\"\",'Arrear Sheet'!AD38))","v":""},{"$f":"IF('Arrear Sheet'!AE38=\"\",\"\",IF('Arrear Sheet'!C38=\"TOTAL\",\"\",SUM(N38-AC38)))","v":""}]
[{"$f":"IF('Arrear Sheet'!B39=\"\",\"\",'Arrear Sheet'!B39)","v":""},{"$f":"IF('Arrear Sheet'!C39=\"\",\"\",IF('Arrear Sheet'!C39=\"TOTAL\",\"\",'Arrear Sheet'!C39))","v":""},{"$f":"IF('Arrear Sheet'!D39=\"\",\"\",IF('Arrear Sheet'!C39=\"TOTAL\",\"\",IF('Arrear Sheet'!D39=\"अक्षरें राशि :-\",\"\",'Arrear Sheet'!D39)))","v":""},{"$f":"IF('Arrear Sheet'!E39=\"\",\"\",IF('Arrear Sheet'!C39=\"TOTAL\",\"\",'Arrear Sheet'!E39))","v":""},{"$f":"IF('Arrear Sheet'!F39=\"\",\"\",IF('Arrear Sheet'!C39=\"TOTAL\",\"\",'Arrear Sheet'!F39))","v":""},{"$f":"IF('Arrear Sheet'!G39=\"\",\"\",IF('Arrear Sheet'!C39=\"TOTAL\",\"\",SUM(C39:E39)))","v":""},{"$f":"IF('Arrear Sheet'!H39=\"\",\"\",IF('Arrear Sheet'!C39=\"TOTAL\",\"\",'Arrear Sheet'!H39))","v":""},{"$f":"IF('Arrear Sheet'!I39=\"\",\"\",IF('Arrear Sheet'!C39=\"TOTAL\",\"\",'Arrear Sheet'!I39))","v":""},{"$f":"IF('Arrear Sheet'!J39=\"\",\"\",IF('Arrear Sheet'!C39=\"TOTAL\",\"\",'Arrear Sheet'!J39))","v":""},{"$f":"IF('Arrear Sheet'!K39=\"\",\"\",IF('Arrear Sheet'!C39=\"TOTAL\",\"\",SUM(G39:I39)))","v":""},{"$f":"IF('Arrear Sheet'!L39=\"\",\"\",IF('Arrear Sheet'!C39=\"TOTAL\",\"\",'Arrear Sheet'!L39))","v":""},{"$f":"IF('Arrear Sheet'!M39=\"\",\"\",IF('Arrear Sheet'!C39=\"TOTAL\",\"\",'Arrear Sheet'!M39))","v":""},{"$f":"IF('Arrear Sheet'!N39=\"\",\"\",IF('Arrear Sheet'!C39=\"TOTAL\",\"\",'Arrear Sheet'!N39))","v":""},{"$f":"IF('Arrear Sheet'!O39=\"\",\"\",IF('Arrear Sheet'!C39=\"TOTAL\",\"\",SUM(K39:M39)))","v":""},{"$f":"IF('Arrear Sheet'!P39=\"\",\"\",IF('Arrear Sheet'!C39=\"TOTAL\",\"\",'Arrear Sheet'!P39))","v":""},{"$f":"IF('Arrear Sheet'!Q39=\"\",\"\",IF('Arrear Sheet'!C39=\"TOTAL\",\"\",'Arrear Sheet'!Q39))","v":""},{"$f":"IF('Arrear Sheet'!R39=\"\",\"\",IF('Arrear Sheet'!C39=\"TOTAL\",\"\",'Arrear Sheet'!R39))","v":""},{"$f":"IF('Arrear Sheet'!S39=\"\",\"\",IF('Arrear Sheet'!C39=\"TOTAL\",\"\",'Arrear Sheet'!S39))","v":""},{"$f":"IF('Arrear Sheet'!T39=\"\",\"\",IF('Arrear Sheet'!C39=\"TOTAL\",\"\",'Arrear Sheet'!T39))","v":""},{"$f":"IF('Arrear Sheet'!U39=\"\",\"\",IF('Arrear Sheet'!C39=\"TOTAL\",\"\",'Arrear Sheet'!U39))","v":""},{"$f":"IF('Arrear Sheet'!V39=\"\",\"\",IF('Arrear Sheet'!C39=\"TOTAL\",\"\",'Arrear Sheet'!V39))","v":""},{"$f":"IF('Arrear Sheet'!W39=\"\",\"\",IF('Arrear Sheet'!C39=\"TOTAL\",\"\",'Arrear Sheet'!W39))","v":""},{"$f":"IF('Arrear Sheet'!X39=\"\",\"\",IF('Arrear Sheet'!C39=\"TOTAL\",\"\",'Arrear Sheet'!X39))","v":""},{"$f":"IF('Arrear Sheet'!Y39=\"\",\"\",IF('Arrear Sheet'!C39=\"TOTAL\",\"\",'Arrear Sheet'!Y39))","v":""},{"$f":"IF('Arrear Sheet'!Z39=\"\",\"\",IF('Arrear Sheet'!C39=\"TOTAL\",\"\",'Arrear Sheet'!Z39))","v":""},{"$f":"IF('Arrear Sheet'!AA39=\"\",\"\",IF('Arrear Sheet'!C39=\"TOTAL\",\"\",'Arrear Sheet'!AA39))","v":""},{"$f":"IF('Arrear Sheet'!AB39=\"\",\"\",IF('Arrear Sheet'!C39=\"TOTAL\",\"\",'Arrear Sheet'!AB39))","v":""},{"$f":"IF('Arrear Sheet'!AC39=\"\",\"\",IF('Arrear Sheet'!C39=\"TOTAL\",\"\",'Arrear Sheet'!AC39))","v":""},{"$f":"IF('Arrear Sheet'!AD39=\"\",\"\",IF('Arrear Sheet'!C39=\"TOTAL\",\"\",'Arrear Sheet'!AD39))","v":""},{"$f":"IF('Arrear Sheet'!AE39=\"\",\"\",IF('Arrear Sheet'!C39=\"TOTAL\",\"\",SUM(N39-AC39)))","v":""}]
[{"$f":"IF('Arrear Sheet'!B40=\"\",\"\",'Arrear Sheet'!B40)","v":""},{"$f":"IF('Arrear Sheet'!C40=\"\",\"\",IF('Arrear Sheet'!C40=\"TOTAL\",\"\",'Arrear Sheet'!C40))","v":""},{"$f":"IF('Arrear Sheet'!D40=\"\",\"\",IF('Arrear Sheet'!C40=\"TOTAL\",\"\",IF('Arrear Sheet'!D40=\"अक्षरें राशि :-\",\"\",'Arrear Sheet'!D40)))","v":""},{"$f":"IF('Arrear Sheet'!E40=\"\",\"\",IF('Arrear Sheet'!C40=\"TOTAL\",\"\",'Arrear Sheet'!E40))","v":""},{"$f":"IF('Arrear Sheet'!F40=\"\",\"\",IF('Arrear Sheet'!C40=\"TOTAL\",\"\",'Arrear Sheet'!F40))","v":""},{"$f":"IF('Arrear Sheet'!G40=\"\",\"\",IF('Arrear Sheet'!C40=\"TOTAL\",\"\",SUM(C40:E40)))","v":""},{"$f":"IF('Arrear Sheet'!H40=\"\",\"\",IF('Arrear Sheet'!C40=\"TOTAL\",\"\",'Arrear Sheet'!H40))","v":""},{"$f":"IF('Arrear Sheet'!I40=\"\",\"\",IF('Arrear Sheet'!C40=\"TOTAL\",\"\",'Arrear Sheet'!I40))","v":""},{"$f":"IF('Arrear Sheet'!J40=\"\",\"\",IF('Arrear Sheet'!C40=\"TOTAL\",\"\",'Arrear Sheet'!J40))","v":""},{"$f":"IF('Arrear Sheet'!K40=\"\",\"\",IF('Arrear Sheet'!C40=\"TOTAL\",\"\",SUM(G40:I40)))","v":""},{"$f":"IF('Arrear Sheet'!L40=\"\",\"\",IF('Arrear Sheet'!C40=\"TOTAL\",\"\",'Arrear Sheet'!L40))","v":""},{"$f":"IF('Arrear Sheet'!M40=\"\",\"\",IF('Arrear Sheet'!C40=\"TOTAL\",\"\",'Arrear Sheet'!M40))","v":""},{"$f":"IF('Arrear Sheet'!N40=\"\",\"\",IF('Arrear Sheet'!C40=\"TOTAL\",\"\",'Arrear Sheet'!N40))","v":""},{"$f":"IF('Arrear Sheet'!O40=\"\",\"\",IF('Arrear Sheet'!C40=\"TOTAL\",\"\",SUM(K40:M40)))","v":""},{"$f":"IF('Arrear Sheet'!P40=\"\",\"\",IF('Arrear Sheet'!C40=\"TOTAL\",\"\",'Arrear Sheet'!P40))","v":""},{"$f":"IF('Arrear Sheet'!Q40=\"\",\"\",IF('Arrear Sheet'!C40=\"TOTAL\",\"\",'Arrear Sheet'!Q40))","v":""},{"$f":"IF('Arrear Sheet'!R40=\"\",\"\",IF('Arrear Sheet'!C40=\"TOTAL\",\"\",'Arrear Sheet'!R40))","v":""},{"$f":"IF('Arrear Sheet'!S40=\"\",\"\",IF('Arrear Sheet'!C40=\"TOTAL\",\"\",'Arrear Sheet'!S40))","v":""},{"$f":"IF('Arrear Sheet'!T40=\"\",\"\",IF('Arrear Sheet'!C40=\"TOTAL\",\"\",'Arrear Sheet'!T40))","v":""},{"$f":"IF('Arrear Sheet'!U40=\"\",\"\",IF('Arrear Sheet'!C40=\"TOTAL\",\"\",'Arrear Sheet'!U40))","v":""},{"$f":"IF('Arrear Sheet'!V40=\"\",\"\",IF('Arrear Sheet'!C40=\"TOTAL\",\"\",'Arrear Sheet'!V40))","v":""},{"$f":"IF('Arrear Sheet'!W40=\"\",\"\",IF('Arrear Sheet'!C40=\"TOTAL\",\"\",'Arrear Sheet'!W40))","v":""},{"$f":"IF('Arrear Sheet'!X40=\"\",\"\",IF('Arrear Sheet'!C40=\"TOTAL\",\"\",'Arrear Sheet'!X40))","v":""},{"$f":"IF('Arrear Sheet'!Y40=\"\",\"\",IF('Arrear Sheet'!C40=\"TOTAL\",\"\",'Arrear Sheet'!Y40))","v":""},{"$f":"IF('Arrear Sheet'!Z40=\"\",\"\",IF('Arrear Sheet'!C40=\"TOTAL\",\"\",'Arrear Sheet'!Z40))","v":""},{"$f":"IF('Arrear Sheet'!AA40=\"\",\"\",IF('Arrear Sheet'!C40=\"TOTAL\",\"\",'Arrear Sheet'!AA40))","v":""},{"$f":"IF('Arrear Sheet'!AB40=\"\",\"\",IF('Arrear Sheet'!C40=\"TOTAL\",\"\",'Arrear Sheet'!AB40))","v":""},{"$f":"IF('Arrear Sheet'!AC40=\"\",\"\",IF('Arrear Sheet'!C40=\"TOTAL\",\"\",'Arrear Sheet'!AC40))","v":""},{"$f":"IF('Arrear Sheet'!AD40=\"\",\"\",IF('Arrear Sheet'!C40=\"TOTAL\",\"\",'Arrear Sheet'!AD40))","v":""},{"$f":"IF('Arrear Sheet'!AE40=\"\",\"\",IF('Arrear Sheet'!C40=\"TOTAL\",\"\",SUM(N40-AC40)))","v":""}]
[{"$f":"IF('Arrear Sheet'!B41=\"\",\"\",'Arrear Sheet'!B41)","v":""},{"$f":"IF('Arrear Sheet'!C41=\"\",\"\",IF('Arrear Sheet'!C41=\"TOTAL\",\"\",'Arrear Sheet'!C41))","v":""},{"$f":"IF('Arrear Sheet'!D41=\"\",\"\",IF('Arrear Sheet'!C41=\"TOTAL\",\"\",IF('Arrear Sheet'!D41=\"अक्षरें राशि :-\",\"\",'Arrear Sheet'!D41)))","v":""},{"$f":"IF('Arrear Sheet'!E41=\"\",\"\",IF('Arrear Sheet'!C41=\"TOTAL\",\"\",'Arrear Sheet'!E41))","v":""},{"$f":"IF('Arrear Sheet'!F41=\"\",\"\",IF('Arrear Sheet'!C41=\"TOTAL\",\"\",'Arrear Sheet'!F41))","v":""},{"$f":"IF('Arrear Sheet'!G41=\"\",\"\",IF('Arrear Sheet'!C41=\"TOTAL\",\"\",SUM(C41:E41)))","v":""},{"$f":"IF('Arrear Sheet'!H41=\"\",\"\",IF('Arrear Sheet'!C41=\"TOTAL\",\"\",'Arrear Sheet'!H41))","v":""},{"$f":"IF('Arrear Sheet'!I41=\"\",\"\",IF('Arrear Sheet'!C41=\"TOTAL\",\"\",'Arrear Sheet'!I41))","v":""},{"$f":"IF('Arrear Sheet'!J41=\"\",\"\",IF('Arrear Sheet'!C41=\"TOTAL\",\"\",'Arrear Sheet'!J41))","v":""},{"$f":"IF('Arrear Sheet'!K41=\"\",\"\",IF('Arrear Sheet'!C41=\"TOTAL\",\"\",SUM(G41:I41)))","v":""},{"$f":"IF('Arrear Sheet'!L41=\"\",\"\",IF('Arrear Sheet'!C41=\"TOTAL\",\"\",'Arrear Sheet'!L41))","v":""},{"$f":"IF('Arrear Sheet'!M41=\"\",\"\",IF('Arrear Sheet'!C41=\"TOTAL\",\"\",'Arrear Sheet'!M41))","v":""},{"$f":"IF('Arrear Sheet'!N41=\"\",\"\",IF('Arrear Sheet'!C41=\"TOTAL\",\"\",'Arrear Sheet'!N41))","v":""},{"$f":"IF('Arrear Sheet'!O41=\"\",\"\",IF('Arrear Sheet'!C41=\"TOTAL\",\"\",SUM(K41:M41)))","v":""},{"$f":"IF('Arrear Sheet'!P41=\"\",\"\",IF('Arrear Sheet'!C41=\"TOTAL\",\"\",'Arrear Sheet'!P41))","v":""},{"$f":"IF('Arrear Sheet'!Q41=\"\",\"\",IF('Arrear Sheet'!C41=\"TOTAL\",\"\",'Arrear Sheet'!Q41))","v":""},{"$f":"IF('Arrear Sheet'!R41=\"\",\"\",IF('Arrear Sheet'!C41=\"TOTAL\",\"\",'Arrear Sheet'!R41))","v":""},{"$f":"IF('Arrear Sheet'!S41=\"\",\"\",IF('Arrear Sheet'!C41=\"TOTAL\",\"\",'Arrear Sheet'!S41))","v":""},{"$f":"IF('Arrear Sheet'!T41=\"\",\"\",IF('Arrear Sheet'!C41=\"TOTAL\",\"\",'Arrear Sheet'!T41))","v":""},{"$f":"IF('Arrear Sheet'!U41=\"\",\"\",IF('Arrear Sheet'!C41=\"TOTAL\",\"\",'Arrear Sheet'!U41))","v":""},{"$f":"IF('Arrear Sheet'!V41=\"\",\"\",IF('Arrear Sheet'!C41=\"TOTAL\",\"\",'Arrear Sheet'!V41))","v":""},{"$f":"IF('Arrear Sheet'!W41=\"\",\"\",IF('Arrear Sheet'!C41=\"TOTAL\",\"\",'Arrear Sheet'!W41))","v":""},{"$f":"IF('Arrear Sheet'!X41=\"\",\"\",IF('Arrear Sheet'!C41=\"TOTAL\",\"\",'Arrear Sheet'!X41))","v":""},{"$f":"IF('Arrear Sheet'!Y41=\"\",\"\",IF('Arrear Sheet'!C41=\"TOTAL\",\"\",'Arrear Sheet'!Y41))","v":""},{"$f":"IF('Arrear Sheet'!Z41=\"\",\"\",IF('Arrear Sheet'!C41=\"TOTAL\",\"\",'Arrear Sheet'!Z41))","v":""},{"$f":"IF('Arrear Sheet'!AA41=\"\",\"\",IF('Arrear Sheet'!C41=\"TOTAL\",\"\",'Arrear Sheet'!AA41))","v":""},{"$f":"IF('Arrear Sheet'!AB41=\"\",\"\",IF('Arrear Sheet'!C41=\"TOTAL\",\"\",'Arrear Sheet'!AB41))","v":""},{"$f":"IF('Arrear Sheet'!AC41=\"\",\"\",IF('Arrear Sheet'!C41=\"TOTAL\",\"\",'Arrear Sheet'!AC41))","v":""},{"$f":"IF('Arrear Sheet'!AD41=\"\",\"\",IF('Arrear Sheet'!C41=\"TOTAL\",\"\",'Arrear Sheet'!AD41))","v":""},{"$f":"IF('Arrear Sheet'!AE41=\"\",\"\",IF('Arrear Sheet'!C41=\"TOTAL\",\"\",SUM(N41-AC41)))","v":""}]
[{"$f":"IF('Arrear Sheet'!B42=\"\",\"\",'Arrear Sheet'!B42)","v":""},{"$f":"IF('Arrear Sheet'!C42=\"\",\"\",IF('Arrear Sheet'!C42=\"TOTAL\",\"\",'Arrear Sheet'!C42))","v":""},{"$f":"IF('Arrear Sheet'!D42=\"\",\"\",IF('Arrear Sheet'!C42=\"TOTAL\",\"\",IF('Arrear Sheet'!D42=\"अक्षरें राशि :-\",\"\",'Arrear Sheet'!D42)))","v":""},{"$f":"IF('Arrear Sheet'!E42=\"\",\"\",IF('Arrear Sheet'!C42=\"TOTAL\",\"\",'Arrear Sheet'!E42))","v":""},{"$f":"IF('Arrear Sheet'!F42=\"\",\"\",IF('Arrear Sheet'!C42=\"TOTAL\",\"\",'Arrear Sheet'!F42))","v":""},{"$f":"IF('Arrear Sheet'!G42=\"\",\"\",IF('Arrear Sheet'!C42=\"TOTAL\",\"\",SUM(C42:E42)))","v":""},{"$f":"IF('Arrear Sheet'!H42=\"\",\"\",IF('Arrear Sheet'!C42=\"TOTAL\",\"\",'Arrear Sheet'!H42))","v":""},{"$f":"IF('Arrear Sheet'!I42=\"\",\"\",IF('Arrear Sheet'!C42=\"TOTAL\",\"\",'Arrear Sheet'!I42))","v":""},{"$f":"IF('Arrear Sheet'!J42=\"\",\"\",IF('Arrear Sheet'!C42=\"TOTAL\",\"\",'Arrear Sheet'!J42))","v":""},{"$f":"IF('Arrear Sheet'!K42=\"\",\"\",IF('Arrear Sheet'!C42=\"TOTAL\",\"\",SUM(G42:I42)))","v":""},{"$f":"IF('Arrear Sheet'!L42=\"\",\"\",IF('Arrear Sheet'!C42=\"TOTAL\",\"\",'Arrear Sheet'!L42))","v":""},{"$f":"IF('Arrear Sheet'!M42=\"\",\"\",IF('Arrear Sheet'!C42=\"TOTAL\",\"\",'Arrear Sheet'!M42))","v":""},{"$f":"IF('Arrear Sheet'!N42=\"\",\"\",IF('Arrear Sheet'!C42=\"TOTAL\",\"\",'Arrear Sheet'!N42))","v":""},{"$f":"IF('Arrear Sheet'!O42=\"\",\"\",IF('Arrear Sheet'!C42=\"TOTAL\",\"\",SUM(K42:M42)))","v":""},{"$f":"IF('Arrear Sheet'!P42=\"\",\"\",IF('Arrear Sheet'!C42=\"TOTAL\",\"\",'Arrear Sheet'!P42))","v":""},{"$f":"IF('Arrear Sheet'!Q42=\"\",\"\",IF('Arrear Sheet'!C42=\"TOTAL\",\"\",'Arrear Sheet'!Q42))","v":""},{"$f":"IF('Arrear Sheet'!R42=\"\",\"\",IF('Arrear Sheet'!C42=\"TOTAL\",\"\",'Arrear Sheet'!R42))","v":""},{"$f":"IF('Arrear Sheet'!S42=\"\",\"\",IF('Arrear Sheet'!C42=\"TOTAL\",\"\",'Arrear Sheet'!S42))","v":""},{"$f":"IF('Arrear Sheet'!T42=\"\",\"\",IF('Arrear Sheet'!C42=\"TOTAL\",\"\",'Arrear Sheet'!T42))","v":""},{"$f":"IF('Arrear Sheet'!U42=\"\",\"\",IF('Arrear Sheet'!C42=\"TOTAL\",\"\",'Arrear Sheet'!U42))","v":""},{"$f":"IF('Arrear Sheet'!V42=\"\",\"\",IF('Arrear Sheet'!C42=\"TOTAL\",\"\",'Arrear Sheet'!V42))","v":""},{"$f":"IF('Arrear Sheet'!W42=\"\",\"\",IF('Arrear Sheet'!C42=\"TOTAL\",\"\",'Arrear Sheet'!W42))","v":""},{"$f":"IF('Arrear Sheet'!X42=\"\",\"\",IF('Arrear Sheet'!C42=\"TOTAL\",\"\",'Arrear Sheet'!X42))","v":""},{"$f":"IF('Arrear Sheet'!Y42=\"\",\"\",IF('Arrear Sheet'!C42=\"TOTAL\",\"\",'Arrear Sheet'!Y42))","v":""},{"$f":"IF('Arrear Sheet'!Z42=\"\",\"\",IF('Arrear Sheet'!C42=\"TOTAL\",\"\",'Arrear Sheet'!Z42))","v":""},{"$f":"IF('Arrear Sheet'!AA42=\"\",\"\",IF('Arrear Sheet'!C42=\"TOTAL\",\"\",'Arrear Sheet'!AA42))","v":""},{"$f":"IF('Arrear Sheet'!AB42=\"\",\"\",IF('Arrear Sheet'!C42=\"TOTAL\",\"\",'Arrear Sheet'!AB42))","v":""},{"$f":"IF('Arrear Sheet'!AC42=\"\",\"\",IF('Arrear Sheet'!C42=\"TOTAL\",\"\",'Arrear Sheet'!AC42))","v":""},{"$f":"IF('Arrear Sheet'!AD42=\"\",\"\",IF('Arrear Sheet'!C42=\"TOTAL\",\"\",'Arrear Sheet'!AD42))","v":""},{"$f":"IF('Arrear Sheet'!AE42=\"\",\"\",IF('Arrear Sheet'!C42=\"TOTAL\",\"\",SUM(N42-AC42)))","v":""}]
[{"$f":"IF('Arrear Sheet'!B43=\"\",\"\",'Arrear Sheet'!B43)","v":""},{"$f":"IF('Arrear Sheet'!C43=\"\",\"\",IF('Arrear Sheet'!C43=\"TOTAL\",\"\",'Arrear Sheet'!C43))","v":""},{"$f":"IF('Arrear Sheet'!D43=\"\",\"\",IF('Arrear Sheet'!C43=\"TOTAL\",\"\",IF('Arrear Sheet'!D43=\"अक्षरें राशि :-\",\"\",'Arrear Sheet'!D43)))","v":""},{"$f":"IF('Arrear Sheet'!E43=\"\",\"\",IF('Arrear Sheet'!C43=\"TOTAL\",\"\",'Arrear Sheet'!E43))","v":""},{"$f":"IF('Arrear Sheet'!F43=\"\",\"\",IF('Arrear Sheet'!C43=\"TOTAL\",\"\",'Arrear Sheet'!F43))","v":""},{"$f":"IF('Arrear Sheet'!G43=\"\",\"\",IF('Arrear Sheet'!C43=\"TOTAL\",\"\",SUM(C43:E43)))","v":""},{"$f":"IF('Arrear Sheet'!H43=\"\",\"\",IF('Arrear Sheet'!C43=\"TOTAL\",\"\",'Arrear Sheet'!H43))","v":""},{"$f":"IF('Arrear Sheet'!I43=\"\",\"\",IF('Arrear Sheet'!C43=\"TOTAL\",\"\",'Arrear Sheet'!I43))","v":""},{"$f":"IF('Arrear Sheet'!J43=\"\",\"\",IF('Arrear Sheet'!C43=\"TOTAL\",\"\",'Arrear Sheet'!J43))","v":""},{"$f":"IF('Arrear Sheet'!K43=\"\",\"\",IF('Arrear Sheet'!C43=\"TOTAL\",\"\",SUM(G43:I43)))","v":""},{"$f":"IF('Arrear Sheet'!L43=\"\",\"\",IF('Arrear Sheet'!C43=\"TOTAL\",\"\",'Arrear Sheet'!L43))","v":""},{"$f":"IF('Arrear Sheet'!M43=\"\",\"\",IF('Arrear Sheet'!C43=\"TOTAL\",\"\",'Arrear Sheet'!M43))","v":""},{"$f":"IF('Arrear Sheet'!N43=\"\",\"\",IF('Arrear Sheet'!C43=\"TOTAL\",\"\",'Arrear Sheet'!N43))","v":""},{"$f":"IF('Arrear Sheet'!O43=\"\",\"\",IF('Arrear Sheet'!C43=\"TOTAL\",\"\",SUM(K43:M43)))","v":""},{"$f":"IF('Arrear Sheet'!P43=\"\",\"\",IF('Arrear Sheet'!C43=\"TOTAL\",\"\",'Arrear Sheet'!P43))","v":""},{"$f":"IF('Arrear Sheet'!Q43=\"\",\"\",IF('Arrear Sheet'!C43=\"TOTAL\",\"\",'Arrear Sheet'!Q43))","v":""},{"$f":"IF('Arrear Sheet'!R43=\"\",\"\",IF('Arrear Sheet'!C43=\"TOTAL\",\"\",'Arrear Sheet'!R43))","v":""},{"$f":"IF('Arrear Sheet'!S43=\"\",\"\",IF('Arrear Sheet'!C43=\"TOTAL\",\"\",'Arrear Sheet'!S43))","v":""},{"$f":"IF('Arrear Sheet'!T43=\"\",\"\",IF('Arrear Sheet'!C43=\"TOTAL\",\"\",'Arrear Sheet'!T43))","v":""},{"$f":"IF('Arrear Sheet'!U43=\"\",\"\",IF('Arrear Sheet'!C43=\"TOTAL\",\"\",'Arrear Sheet'!U43))","v":""},{"$f":"IF('Arrear Sheet'!V43=\"\",\"\",IF('Arrear Sheet'!C43=\"TOTAL\",\"\",'Arrear Sheet'!V43))","v":""},{"$f":"IF('Arrear Sheet'!W43=\"\",\"\",IF('Arrear Sheet'!C43=\"TOTAL\",\"\",'Arrear Sheet'!W43))","v":""},{"$f":"IF('Arrear Sheet'!X43=\"\",\"\",IF('Arrear Sheet'!C43=\"TOTAL\",\"\",'Arrear Sheet'!X43))","v":""},{"$f":"IF('Arrear Sheet'!Y43=\"\",\"\",IF('Arrear Sheet'!C43=\"TOTAL\",\"\",'Arrear Sheet'!Y43))","v":""},{"$f":"IF('Arrear Sheet'!Z43=\"\",\"\",IF('Arrear Sheet'!C43=\"TOTAL\",\"\",'Arrear Sheet'!Z43))","v":""},{"$f":"IF('Arrear Sheet'!AA43=\"\",\"\",IF('Arrear Sheet'!C43=\"TOTAL\",\"\",'Arrear Sheet'!AA43))","v":""},{"$f":"IF('Arrear Sheet'!AB43=\"\",\"\",IF('Arrear Sheet'!C43=\"TOTAL\",\"\",'Arrear Sheet'!AB43))","v":""},{"$f":"IF('Arrear Sheet'!AC43=\"\",\"\",IF('Arrear Sheet'!C43=\"TOTAL\",\"\",'Arrear Sheet'!AC43))","v":""},{"$f":"IF('Arrear Sheet'!AD43=\"\",\"\",IF('Arrear Sheet'!C43=\"TOTAL\",\"\",'Arrear Sheet'!AD43))","v":""},{"$f":"IF('Arrear Sheet'!AE43=\"\",\"\",IF('Arrear Sheet'!C43=\"TOTAL\",\"\",SUM(N43-AC43)))","v":""}]
[{"$f":"IF('Arrear Sheet'!B44=\"\",\"\",'Arrear Sheet'!B44)","v":""},{"$f":"IF('Arrear Sheet'!C44=\"\",\"\",IF('Arrear Sheet'!C44=\"TOTAL\",\"\",'Arrear Sheet'!C44))","v":""},{"$f":"IF('Arrear Sheet'!D44=\"\",\"\",IF('Arrear Sheet'!C44=\"TOTAL\",\"\",IF('Arrear Sheet'!D44=\"अक्षरें राशि :-\",\"\",'Arrear Sheet'!D44)))","v":""},{"$f":"IF('Arrear Sheet'!E44=\"\",\"\",IF('Arrear Sheet'!C44=\"TOTAL\",\"\",'Arrear Sheet'!E44))","v":""},{"$f":"IF('Arrear Sheet'!F44=\"\",\"\",IF('Arrear Sheet'!C44=\"TOTAL\",\"\",'Arrear Sheet'!F44))","v":""},{"$f":"IF('Arrear Sheet'!G44=\"\",\"\",IF('Arrear Sheet'!C44=\"TOTAL\",\"\",SUM(C44:E44)))","v":""},{"$f":"IF('Arrear Sheet'!H44=\"\",\"\",IF('Arrear Sheet'!C44=\"TOTAL\",\"\",'Arrear Sheet'!H44))","v":""},{"$f":"IF('Arrear Sheet'!I44=\"\",\"\",IF('Arrear Sheet'!C44=\"TOTAL\",\"\",'Arrear Sheet'!I44))","v":""},{"$f":"IF('Arrear Sheet'!J44=\"\",\"\",IF('Arrear Sheet'!C44=\"TOTAL\",\"\",'Arrear Sheet'!J44))","v":""},{"$f":"IF('Arrear Sheet'!K44=\"\",\"\",IF('Arrear Sheet'!C44=\"TOTAL\",\"\",SUM(G44:I44)))","v":""},{"$f":"IF('Arrear Sheet'!L44=\"\",\"\",IF('Arrear Sheet'!C44=\"TOTAL\",\"\",'Arrear Sheet'!L44))","v":""},{"$f":"IF('Arrear Sheet'!M44=\"\",\"\",IF('Arrear Sheet'!C44=\"TOTAL\",\"\",'Arrear Sheet'!M44))","v":""},{"$f":"IF('Arrear Sheet'!N44=\"\",\"\",IF('Arrear Sheet'!C44=\"TOTAL\",\"\",'Arrear Sheet'!N44))","v":""},{"$f":"IF('Arrear Sheet'!O44=\"\",\"\",IF('Arrear Sheet'!C44=\"TOTAL\",\"\",SUM(K44:M44)))","v":""},{"$f":"IF('Arrear Sheet'!P44=\"\",\"\",IF('Arrear Sheet'!C44=\"TOTAL\",\"\",'Arrear Sheet'!P44))","v":""},{"$f":"IF('Arrear Sheet'!Q44=\"\",\"\",IF('Arrear Sheet'!C44=\"TOTAL\",\"\",'Arrear Sheet'!Q44))","v":""},{"$f":"IF('Arrear Sheet'!R44=\"\",\"\",IF('Arrear Sheet'!C44=\"TOTAL\",\"\",'Arrear Sheet'!R44))","v":""},{"$f":"IF('Arrear Sheet'!S44=\"\",\"\",IF('Arrear Sheet'!C44=\"TOTAL\",\"\",'Arrear Sheet'!S44))","v":""},{"$f":"IF('Arrear Sheet'!T44=\"\",\"\",IF('Arrear Sheet'!C44=\"TOTAL\",\"\",'Arrear Sheet'!T44))","v":""},{"$f":"IF('Arrear Sheet'!U44=\"\",\"\",IF('Arrear Sheet'!C44=\"TOTAL\",\"\",'Arrear Sheet'!U44))","v":""},{"$f":"IF('Arrear Sheet'!V44=\"\",\"\",IF('Arrear Sheet'!C44=\"TOTAL\",\"\",'Arrear Sheet'!V44))","v":""},{"$f":"IF('Arrear Sheet'!W44=\"\",\"\",IF('Arrear Sheet'!C44=\"TOTAL\",\"\",'Arrear Sheet'!W44))","v":""},{"$f":"IF('Arrear Sheet'!X44=\"\",\"\",IF('Arrear Sheet'!C44=\"TOTAL\",\"\",'Arrear Sheet'!X44))","v":""},{"$f":"IF('Arrear Sheet'!Y44=\"\",\"\",IF('Arrear Sheet'!C44=\"TOTAL\",\"\",'Arrear Sheet'!Y44))","v":""},{"$f":"IF('Arrear Sheet'!Z44=\"\",\"\",IF('Arrear Sheet'!C44=\"TOTAL\",\"\",'Arrear Sheet'!Z44))","v":""},{"$f":"IF('Arrear Sheet'!AA44=\"\",\"\",IF('Arrear Sheet'!C44=\"TOTAL\",\"\",'Arrear Sheet'!AA44))","v":""},{"$f":"IF('Arrear Sheet'!AB44=\"\",\"\",IF('Arrear Sheet'!C44=\"TOTAL\",\"\",'Arrear Sheet'!AB44))","v":""},{"$f":"IF('Arrear Sheet'!AC44=\"\",\"\",IF('Arrear Sheet'!C44=\"TOTAL\",\"\",'Arrear Sheet'!AC44))","v":""},{"$f":"IF('Arrear Sheet'!AD44=\"\",\"\",IF('Arrear Sheet'!C44=\"TOTAL\",\"\",'Arrear Sheet'!AD44))","v":""},{"$f":"IF('Arrear Sheet'!AE44=\"\",\"\",IF('Arrear Sheet'!C44=\"TOTAL\",\"\",SUM(N44-AC44)))","v":""}]
[{"$f":"IF('Arrear Sheet'!B45=\"\",\"\",'Arrear Sheet'!B45)","v":""},{"$f":"IF('Arrear Sheet'!C45=\"\",\"\",IF('Arrear Sheet'!C45=\"TOTAL\",\"\",'Arrear Sheet'!C45))","v":""},{"$f":"IF('Arrear Sheet'!D45=\"\",\"\",IF('Arrear Sheet'!C45=\"TOTAL\",\"\",IF('Arrear Sheet'!D45=\"अक्षरें राशि :-\",\"\",'Arrear Sheet'!D45)))","v":""},{"$f":"IF('Arrear Sheet'!E45=\"\",\"\",IF('Arrear Sheet'!C45=\"TOTAL\",\"\",'Arrear Sheet'!E45))","v":""},{"$f":"IF('Arrear Sheet'!F45=\"\",\"\",IF('Arrear Sheet'!C45=\"TOTAL\",\"\",'Arrear Sheet'!F45))","v":""},{"$f":"IF('Arrear Sheet'!G45=\"\",\"\",IF('Arrear Sheet'!C45=\"TOTAL\",\"\",SUM(C45:E45)))","v":""},{"$f":"IF('Arrear Sheet'!H45=\"\",\"\",IF('Arrear Sheet'!C45=\"TOTAL\",\"\",'Arrear Sheet'!H45))","v":""},{"$f":"IF('Arrear Sheet'!I45=\"\",\"\",IF('Arrear Sheet'!C45=\"TOTAL\",\"\",'Arrear Sheet'!I45))","v":""},{"$f":"IF('Arrear Sheet'!J45=\"\",\"\",IF('Arrear Sheet'!C45=\"TOTAL\",\"\",'Arrear Sheet'!J45))","v":""},{"$f":"IF('Arrear Sheet'!K45=\"\",\"\",IF('Arrear Sheet'!C45=\"TOTAL\",\"\",SUM(G45:I45)))","v":""},{"$f":"IF('Arrear Sheet'!L45=\"\",\"\",IF('Arrear Sheet'!C45=\"TOTAL\",\"\",'Arrear Sheet'!L45))","v":""},{"$f":"IF('Arrear Sheet'!M45=\"\",\"\",IF('Arrear Sheet'!C45=\"TOTAL\",\"\",'Arrear Sheet'!M45))","v":""},{"$f":"IF('Arrear Sheet'!N45=\"\",\"\",IF('Arrear Sheet'!C45=\"TOTAL\",\"\",'Arrear Sheet'!N45))","v":""},{"$f":"IF('Arrear Sheet'!O45=\"\",\"\",IF('Arrear Sheet'!C45=\"TOTAL\",\"\",SUM(K45:M45)))","v":""},{"$f":"IF('Arrear Sheet'!P45=\"\",\"\",IF('Arrear Sheet'!C45=\"TOTAL\",\"\",'Arrear Sheet'!P45))","v":""},{"$f":"IF('Arrear Sheet'!Q45=\"\",\"\",IF('Arrear Sheet'!C45=\"TOTAL\",\"\",'Arrear Sheet'!Q45))","v":""},{"$f":"IF('Arrear Sheet'!R45=\"\",\"\",IF('Arrear Sheet'!C45=\"TOTAL\",\"\",'Arrear Sheet'!R45))","v":""},{"$f":"IF('Arrear Sheet'!S45=\"\",\"\",IF('Arrear Sheet'!C45=\"TOTAL\",\"\",'Arrear Sheet'!S45))","v":""},{"$f":"IF('Arrear Sheet'!T45=\"\",\"\",IF('Arrear Sheet'!C45=\"TOTAL\",\"\",'Arrear Sheet'!T45))","v":""},{"$f":"IF('Arrear Sheet'!U45=\"\",\"\",IF('Arrear Sheet'!C45=\"TOTAL\",\"\",'Arrear Sheet'!U45))","v":""},{"$f":"IF('Arrear Sheet'!V45=\"\",\"\",IF('Arrear Sheet'!C45=\"TOTAL\",\"\",'Arrear Sheet'!V45))","v":""},{"$f":"IF('Arrear Sheet'!W45=\"\",\"\",IF('Arrear Sheet'!C45=\"TOTAL\",\"\",'Arrear Sheet'!W45))","v":""},{"$f":"IF('Arrear Sheet'!X45=\"\",\"\",IF('Arrear Sheet'!C45=\"TOTAL\",\"\",'Arrear Sheet'!X45))","v":""},{"$f":"IF('Arrear Sheet'!Y45=\"\",\"\",IF('Arrear Sheet'!C45=\"TOTAL\",\"\",'Arrear Sheet'!Y45))","v":""},{"$f":"IF('Arrear Sheet'!Z45=\"\",\"\",IF('Arrear Sheet'!C45=\"TOTAL\",\"\",'Arrear Sheet'!Z45))","v":""},{"$f":"IF('Arrear Sheet'!AA45=\"\",\"\",IF('Arrear Sheet'!C45=\"TOTAL\",\"\",'Arrear Sheet'!AA45))","v":""},{"$f":"IF('Arrear Sheet'!AB45=\"\",\"\",IF('Arrear Sheet'!C45=\"TOTAL\",\"\",'Arrear Sheet'!AB45))","v":""},{"$f":"IF('Arrear Sheet'!AC45=\"\",\"\",IF('Arrear Sheet'!C45=\"TOTAL\",\"\",'Arrear Sheet'!AC45))","v":""},{"$f":"IF('Arrear Sheet'!AD45=\"\",\"\",IF('Arrear Sheet'!C45=\"TOTAL\",\"\",'Arrear Sheet'!AD45))","v":""},{"$f":"IF('Arrear Sheet'!AE45=\"\",\"\",IF('Arrear Sheet'!C45=\"TOTAL\",\"\",SUM(N45-AC45)))","v":""}]
[{"$f":"IF('Arrear Sheet'!B46=\"\",\"\",'Arrear Sheet'!B46)","v":""},{"$f":"IF('Arrear Sheet'!C46=\"\",\"\",IF('Arrear Sheet'!C46=\"TOTAL\",\"\",'Arrear Sheet'!C46))","v":""},{"$f":"IF('Arrear Sheet'!D46=\"\",\"\",IF('Arrear Sheet'!C46=\"TOTAL\",\"\",IF('Arrear Sheet'!D46=\"अक्षरें राशि :-\",\"\",'Arrear Sheet'!D46)))","v":""},{"$f":"IF('Arrear Sheet'!E46=\"\",\"\",IF('Arrear Sheet'!C46=\"TOTAL\",\"\",'Arrear Sheet'!E46))","v":""},{"$f":"IF('Arrear Sheet'!F46=\"\",\"\",IF('Arrear Sheet'!C46=\"TOTAL\",\"\",'Arrear Sheet'!F46))","v":""},{"$f":"IF('Arrear Sheet'!G46=\"\",\"\",IF('Arrear Sheet'!C46=\"TOTAL\",\"\",SUM(C46:E46)))","v":""},{"$f":"IF('Arrear Sheet'!H46=\"\",\"\",IF('Arrear Sheet'!C46=\"TOTAL\",\"\",'Arrear Sheet'!H46))","v":""},{"$f":"IF('Arrear Sheet'!I46=\"\",\"\",IF('Arrear Sheet'!C46=\"TOTAL\",\"\",'Arrear Sheet'!I46))","v":""},{"$f":"IF('Arrear Sheet'!J46=\"\",\"\",IF('Arrear Sheet'!C46=\"TOTAL\",\"\",'Arrear Sheet'!J46))","v":""},{"$f":"IF('Arrear Sheet'!K46=\"\",\"\",IF('Arrear Sheet'!C46=\"TOTAL\",\"\",SUM(G46:I46)))","v":""},{"$f":"IF('Arrear Sheet'!L46=\"\",\"\",IF('Arrear Sheet'!C46=\"TOTAL\",\"\",'Arrear Sheet'!L46))","v":""},{"$f":"IF('Arrear Sheet'!M46=\"\",\"\",IF('Arrear Sheet'!C46=\"TOTAL\",\"\",'Arrear Sheet'!M46))","v":""},{"$f":"IF('Arrear Sheet'!N46=\"\",\"\",IF('Arrear Sheet'!C46=\"TOTAL\",\"\",'Arrear Sheet'!N46))","v":""},{"$f":"IF('Arrear Sheet'!O46=\"\",\"\",IF('Arrear Sheet'!C46=\"TOTAL\",\"\",SUM(K46:M46)))","v":""},{"$f":"IF('Arrear Sheet'!P46=\"\",\"\",IF('Arrear Sheet'!C46=\"TOTAL\",\"\",'Arrear Sheet'!P46))","v":""},{"$f":"IF('Arrear Sheet'!Q46=\"\",\"\",IF('Arrear Sheet'!C46=\"TOTAL\",\"\",'Arrear Sheet'!Q46))","v":""},{"$f":"IF('Arrear Sheet'!R46=\"\",\"\",IF('Arrear Sheet'!C46=\"TOTAL\",\"\",'Arrear Sheet'!R46))","v":""},{"$f":"IF('Arrear Sheet'!S46=\"\",\"\",IF('Arrear Sheet'!C46=\"TOTAL\",\"\",'Arrear Sheet'!S46))","v":""},{"$f":"IF('Arrear Sheet'!T46=\"\",\"\",IF('Arrear Sheet'!C46=\"TOTAL\",\"\",'Arrear Sheet'!T46))","v":""},{"$f":"IF('Arrear Sheet'!U46=\"\",\"\",IF('Arrear Sheet'!C46=\"TOTAL\",\"\",'Arrear Sheet'!U46))","v":""},{"$f":"IF('Arrear Sheet'!V46=\"\",\"\",IF('Arrear Sheet'!C46=\"TOTAL\",\"\",'Arrear Sheet'!V46))","v":""},{"$f":"IF('Arrear Sheet'!W46=\"\",\"\",IF('Arrear Sheet'!C46=\"TOTAL\",\"\",'Arrear Sheet'!W46))","v":""},{"$f":"IF('Arrear Sheet'!X46=\"\",\"\",IF('Arrear Sheet'!C46=\"TOTAL\",\"\",'Arrear Sheet'!X46))","v":""},{"$f":"IF('Arrear Sheet'!Y46=\"\",\"\",IF('Arrear Sheet'!C46=\"TOTAL\",\"\",'Arrear Sheet'!Y46))","v":""},{"$f":"IF('Arrear Sheet'!Z46=\"\",\"\",IF('Arrear Sheet'!C46=\"TOTAL\",\"\",'Arrear Sheet'!Z46))","v":""},{"$f":"IF('Arrear Sheet'!AA46=\"\",\"\",IF('Arrear Sheet'!C46=\"TOTAL\",\"\",'Arrear Sheet'!AA46))","v":""},{"$f":"IF('Arrear Sheet'!AB46=\"\",\"\",IF('Arrear Sheet'!C46=\"TOTAL\",\"\",'Arrear Sheet'!AB46))","v":""},{"$f":"IF('Arrear Sheet'!AC46=\"\",\"\",IF('Arrear Sheet'!C46=\"TOTAL\",\"\",'Arrear Sheet'!AC46))","v":""},{"$f":"IF('Arrear Sheet'!AD46=\"\",\"\",IF('Arrear Sheet'!C46=\"TOTAL\",\"\",'Arrear Sheet'!AD46))","v":""},{"$f":"IF('Arrear Sheet'!AE46=\"\",\"\",IF('Arrear Sheet'!C46=\"TOTAL\",\"\",SUM(N46-AC46)))","v":""}]
[{"$f":"IF('Arrear Sheet'!B47=\"\",\"\",'Arrear Sheet'!B47)","v":""},{"$f":"IF('Arrear Sheet'!C47=\"\",\"\",IF('Arrear Sheet'!C47=\"TOTAL\",\"\",'Arrear Sheet'!C47))","v":""},{"$f":"IF('Arrear Sheet'!D47=\"\",\"\",IF('Arrear Sheet'!C47=\"TOTAL\",\"\",IF('Arrear Sheet'!D47=\"अक्षरें राशि :-\",\"\",'Arrear Sheet'!D47)))","v":""},{"$f":"IF('Arrear Sheet'!E47=\"\",\"\",IF('Arrear Sheet'!C47=\"TOTAL\",\"\",'Arrear Sheet'!E47))","v":""},{"$f":"IF('Arrear Sheet'!F47=\"\",\"\",IF('Arrear Sheet'!C47=\"TOTAL\",\"\",'Arrear Sheet'!F47))","v":""},{"$f":"IF('Arrear Sheet'!G47=\"\",\"\",IF('Arrear Sheet'!C47=\"TOTAL\",\"\",SUM(C47:E47)))","v":""},{"$f":"IF('Arrear Sheet'!H47=\"\",\"\",IF('Arrear Sheet'!C47=\"TOTAL\",\"\",'Arrear Sheet'!H47))","v":""},{"$f":"IF('Arrear Sheet'!I47=\"\",\"\",IF('Arrear Sheet'!C47=\"TOTAL\",\"\",'Arrear Sheet'!I47))","v":""},{"$f":"IF('Arrear Sheet'!J47=\"\",\"\",IF('Arrear Sheet'!C47=\"TOTAL\",\"\",'Arrear Sheet'!J47))","v":""},{"$f":"IF('Arrear Sheet'!K47=\"\",\"\",IF('Arrear Sheet'!C47=\"TOTAL\",\"\",SUM(G47:I47)))","v":""},{"$f":"IF('Arrear Sheet'!L47=\"\",\"\",IF('Arrear Sheet'!C47=\"TOTAL\",\"\",'Arrear Sheet'!L47))","v":""},{"$f":"IF('Arrear Sheet'!M47=\"\",\"\",IF('Arrear Sheet'!C47=\"TOTAL\",\"\",'Arrear Sheet'!M47))","v":""},{"$f":"IF('Arrear Sheet'!N47=\"\",\"\",IF('Arrear Sheet'!C47=\"TOTAL\",\"\",'Arrear Sheet'!N47))","v":""},{"$f":"IF('Arrear Sheet'!O47=\"\",\"\",IF('Arrear Sheet'!C47=\"TOTAL\",\"\",SUM(K47:M47)))","v":""},{"$f":"IF('Arrear Sheet'!P47=\"\",\"\",IF('Arrear Sheet'!C47=\"TOTAL\",\"\",'Arrear Sheet'!P47))","v":""},{"$f":"IF('Arrear Sheet'!Q47=\"\",\"\",IF('Arrear Sheet'!C47=\"TOTAL\",\"\",'Arrear Sheet'!Q47))","v":""},{"$f":"IF('Arrear Sheet'!R47=\"\",\"\",IF('Arrear Sheet'!C47=\"TOTAL\",\"\",'Arrear Sheet'!R47))","v":""},{"$f":"IF('Arrear Sheet'!S47=\"\",\"\",IF('Arrear Sheet'!C47=\"TOTAL\",\"\",'Arrear Sheet'!S47))","v":""},{"$f":"IF('Arrear Sheet'!T47=\"\",\"\",IF('Arrear Sheet'!C47=\"TOTAL\",\"\",'Arrear Sheet'!T47))","v":""},{"$f":"IF('Arrear Sheet'!U47=\"\",\"\",IF('Arrear Sheet'!C47=\"TOTAL\",\"\",'Arrear Sheet'!U47))","v":""},{"$f":"IF('Arrear Sheet'!V47=\"\",\"\",IF('Arrear Sheet'!C47=\"TOTAL\",\"\",'Arrear Sheet'!V47))","v":""},{"$f":"IF('Arrear Sheet'!W47=\"\",\"\",IF('Arrear Sheet'!C47=\"TOTAL\",\"\",'Arrear Sheet'!W47))","v":""},{"$f":"IF('Arrear Sheet'!X47=\"\",\"\",IF('Arrear Sheet'!C47=\"TOTAL\",\"\",'Arrear Sheet'!X47))","v":""},{"$f":"IF('Arrear Sheet'!Y47=\"\",\"\",IF('Arrear Sheet'!C47=\"TOTAL\",\"\",'Arrear Sheet'!Y47))","v":""},{"$f":"IF('Arrear Sheet'!Z47=\"\",\"\",IF('Arrear Sheet'!C47=\"TOTAL\",\"\",'Arrear Sheet'!Z47))","v":""},{"$f":"IF('Arrear Sheet'!AA47=\"\",\"\",IF('Arrear Sheet'!C47=\"TOTAL\",\"\",'Arrear Sheet'!AA47))","v":""},{"$f":"IF('Arrear Sheet'!AB47=\"\",\"\",IF('Arrear Sheet'!C47=\"TOTAL\",\"\",'Arrear Sheet'!AB47))","v":""},{"$f":"IF('Arrear Sheet'!AC47=\"\",\"\",IF('Arrear Sheet'!C47=\"TOTAL\",\"\",'Arrear Sheet'!AC47))","v":""},{"$f":"IF('Arrear Sheet'!AD47=\"\",\"\",IF('Arrear Sheet'!C47=\"TOTAL\",\"\",'Arrear Sheet'!AD47))","v":""},{"$f":"IF('Arrear Sheet'!AE47=\"\",\"\",IF('Arrear Sheet'!C47=\"TOTAL\",\"\",SUM(N47-AC47)))","v":""}]
[{"$f":"IF('Arrear Sheet'!B48=\"\",\"\",'Arrear Sheet'!B48)","v":""},{"$f":"IF('Arrear Sheet'!C48=\"\",\"\",IF('Arrear Sheet'!C48=\"TOTAL\",\"\",'Arrear Sheet'!C48))","v":""},{"$f":"IF('Arrear Sheet'!D48=\"\",\"\",IF('Arrear Sheet'!C48=\"TOTAL\",\"\",IF('Arrear Sheet'!D48=\"अक्षरें राशि :-\",\"\",'Arrear Sheet'!D48)))","v":""},{"$f":"IF('Arrear Sheet'!E48=\"\",\"\",IF('Arrear Sheet'!C48=\"TOTAL\",\"\",'Arrear Sheet'!E48))","v":""},{"$f":"IF('Arrear Sheet'!F48=\"\",\"\",IF('Arrear Sheet'!C48=\"TOTAL\",\"\",'Arrear Sheet'!F48))","v":""},{"$f":"IF('Arrear Sheet'!G48=\"\",\"\",IF('Arrear Sheet'!C48=\"TOTAL\",\"\",SUM(C48:E48)))","v":""},{"$f":"IF('Arrear Sheet'!H48=\"\",\"\",IF('Arrear Sheet'!C48=\"TOTAL\",\"\",'Arrear Sheet'!H48))","v":""},{"$f":"IF('Arrear Sheet'!I48=\"\",\"\",IF('Arrear Sheet'!C48=\"TOTAL\",\"\",'Arrear Sheet'!I48))","v":""},{"$f":"IF('Arrear Sheet'!J48=\"\",\"\",IF('Arrear Sheet'!C48=\"TOTAL\",\"\",'Arrear Sheet'!J48))","v":""},{"$f":"IF('Arrear Sheet'!K48=\"\",\"\",IF('Arrear Sheet'!C48=\"TOTAL\",\"\",SUM(G48:I48)))","v":""},{"$f":"IF('Arrear Sheet'!L48=\"\",\"\",IF('Arrear Sheet'!C48=\"TOTAL\",\"\",'Arrear Sheet'!L48))","v":""},{"$f":"IF('Arrear Sheet'!M48=\"\",\"\",IF('Arrear Sheet'!C48=\"TOTAL\",\"\",'Arrear Sheet'!M48))","v":""},{"$f":"IF('Arrear Sheet'!N48=\"\",\"\",IF('Arrear Sheet'!C48=\"TOTAL\",\"\",'Arrear Sheet'!N48))","v":""},{"$f":"IF('Arrear Sheet'!O48=\"\",\"\",IF('Arrear Sheet'!C48=\"TOTAL\",\"\",SUM(K48:M48)))","v":""},{"$f":"IF('Arrear Sheet'!P48=\"\",\"\",IF('Arrear Sheet'!C48=\"TOTAL\",\"\",'Arrear Sheet'!P48))","v":""},{"$f":"IF('Arrear Sheet'!Q48=\"\",\"\",IF('Arrear Sheet'!C48=\"TOTAL\",\"\",'Arrear Sheet'!Q48))","v":""},{"$f":"IF('Arrear Sheet'!R48=\"\",\"\",IF('Arrear Sheet'!C48=\"TOTAL\",\"\",'Arrear Sheet'!R48))","v":""},{"$f":"IF('Arrear Sheet'!S48=\"\",\"\",IF('Arrear Sheet'!C48=\"TOTAL\",\"\",'Arrear Sheet'!S48))","v":""},{"$f":"IF('Arrear Sheet'!T48=\"\",\"\",IF('Arrear Sheet'!C48=\"TOTAL\",\"\",'Arrear Sheet'!T48))","v":""},{"$f":"IF('Arrear Sheet'!U48=\"\",\"\",IF('Arrear Sheet'!C48=\"TOTAL\",\"\",'Arrear Sheet'!U48))","v":""},{"$f":"IF('Arrear Sheet'!V48=\"\",\"\",IF('Arrear Sheet'!C48=\"TOTAL\",\"\",'Arrear Sheet'!V48))","v":""},{"$f":"IF('Arrear Sheet'!W48=\"\",\"\",IF('Arrear Sheet'!C48=\"TOTAL\",\"\",'Arrear Sheet'!W48))","v":""},{"$f":"IF('Arrear Sheet'!X48=\"\",\"\",IF('Arrear Sheet'!C48=\"TOTAL\",\"\",'Arrear Sheet'!X48))","v":""},{"$f":"IF('Arrear Sheet'!Y48=\"\",\"\",IF('Arrear Sheet'!C48=\"TOTAL\",\"\",'Arrear Sheet'!Y48))","v":""},{"$f":"IF('Arrear Sheet'!Z48=\"\",\"\",IF('Arrear Sheet'!C48=\"TOTAL\",\"\",'Arrear Sheet'!Z48))","v":""},{"$f":"IF('Arrear Sheet'!AA48=\"\",\"\",IF('Arrear Sheet'!C48=\"TOTAL\",\"\",'Arrear Sheet'!AA48))","v":""},{"$f":"IF('Arrear Sheet'!AB48=\"\",\"\",IF('Arrear Sheet'!C48=\"TOTAL\",\"\",'Arrear Sheet'!AB48))","v":""},{"$f":"IF('Arrear Sheet'!AC48=\"\",\"\",IF('Arrear Sheet'!C48=\"TOTAL\",\"\",'Arrear Sheet'!AC48))","v":""},{"$f":"IF('Arrear Sheet'!AD48=\"\",\"\",IF('Arrear Sheet'!C48=\"TOTAL\",\"\",'Arrear Sheet'!AD48))","v":""},{"$f":"IF('Arrear Sheet'!AE48=\"\",\"\",IF('Arrear Sheet'!C48=\"TOTAL\",\"\",SUM(N48-AC48)))","v":""}]
[{"$f":"IF('Arrear Sheet'!B49=\"\",\"\",'Arrear Sheet'!B49)","v":""},{"$f":"IF('Arrear Sheet'!C49=\"\",\"\",IF('Arrear Sheet'!C49=\"TOTAL\",\"\",'Arrear Sheet'!C49))","v":""},{"$f":"IF('Arrear Sheet'!D49=\"\",\"\",IF('Arrear Sheet'!C49=\"TOTAL\",\"\",IF('Arrear Sheet'!D49=\"अक्षरें राशि :-\",\"\",'Arrear Sheet'!D49)))","v":""},{"$f":"IF('Arrear Sheet'!E49=\"\",\"\",IF('Arrear Sheet'!C49=\"TOTAL\",\"\",'Arrear Sheet'!E49))","v":""},{"$f":"IF('Arrear Sheet'!F49=\"\",\"\",IF('Arrear Sheet'!C49=\"TOTAL\",\"\",'Arrear Sheet'!F49))","v":""},{"$f":"IF('Arrear Sheet'!G49=\"\",\"\",IF('Arrear Sheet'!C49=\"TOTAL\",\"\",SUM(C49:E49)))","v":""},{"$f":"IF('Arrear Sheet'!H49=\"\",\"\",IF('Arrear Sheet'!C49=\"TOTAL\",\"\",'Arrear Sheet'!H49))","v":""},{"$f":"IF('Arrear Sheet'!I49=\"\",\"\",IF('Arrear Sheet'!C49=\"TOTAL\",\"\",'Arrear Sheet'!I49))","v":""},{"$f":"IF('Arrear Sheet'!J49=\"\",\"\",IF('Arrear Sheet'!C49=\"TOTAL\",\"\",'Arrear Sheet'!J49))","v":""},{"$f":"IF('Arrear Sheet'!K49=\"\",\"\",IF('Arrear Sheet'!C49=\"TOTAL\",\"\",SUM(G49:I49)))","v":""},{"$f":"IF('Arrear Sheet'!L49=\"\",\"\",IF('Arrear Sheet'!C49=\"TOTAL\",\"\",'Arrear Sheet'!L49))","v":""},{"$f":"IF('Arrear Sheet'!M49=\"\",\"\",IF('Arrear Sheet'!C49=\"TOTAL\",\"\",'Arrear Sheet'!M49))","v":""},{"$f":"IF('Arrear Sheet'!N49=\"\",\"\",IF('Arrear Sheet'!C49=\"TOTAL\",\"\",'Arrear Sheet'!N49))","v":""},{"$f":"IF('Arrear Sheet'!O49=\"\",\"\",IF('Arrear Sheet'!C49=\"TOTAL\",\"\",SUM(K49:M49)))","v":""},{"$f":"IF('Arrear Sheet'!P49=\"\",\"\",IF('Arrear Sheet'!C49=\"TOTAL\",\"\",'Arrear Sheet'!P49))","v":""},{"$f":"IF('Arrear Sheet'!Q49=\"\",\"\",IF('Arrear Sheet'!C49=\"TOTAL\",\"\",'Arrear Sheet'!Q49))","v":""},{"$f":"IF('Arrear Sheet'!R49=\"\",\"\",IF('Arrear Sheet'!C49=\"TOTAL\",\"\",'Arrear Sheet'!R49))","v":""},{"$f":"IF('Arrear Sheet'!S49=\"\",\"\",IF('Arrear Sheet'!C49=\"TOTAL\",\"\",'Arrear Sheet'!S49))","v":""},{"$f":"IF('Arrear Sheet'!T49=\"\",\"\",IF('Arrear Sheet'!C49=\"TOTAL\",\"\",'Arrear Sheet'!T49))","v":""},{"$f":"IF('Arrear Sheet'!U49=\"\",\"\",IF('Arrear Sheet'!C49=\"TOTAL\",\"\",'Arrear Sheet'!U49))","v":""},{"$f":"IF('Arrear Sheet'!V49=\"\",\"\",IF('Arrear Sheet'!C49=\"TOTAL\",\"\",'Arrear Sheet'!V49))","v":""},{"$f":"IF('Arrear Sheet'!W49=\"\",\"\",IF('Arrear Sheet'!C49=\"TOTAL\",\"\",'Arrear Sheet'!W49))","v":""},{"$f":"IF('Arrear Sheet'!X49=\"\",\"\",IF('Arrear Sheet'!C49=\"TOTAL\",\"\",'Arrear Sheet'!X49))","v":""},{"$f":"IF('Arrear Sheet'!Y49=\"\",\"\",IF('Arrear Sheet'!C49=\"TOTAL\",\"\",'Arrear Sheet'!Y49))","v":""},{"$f":"IF('Arrear Sheet'!Z49=\"\",\"\",IF('Arrear Sheet'!C49=\"TOTAL\",\"\",'Arrear Sheet'!Z49))","v":""},{"$f":"IF('Arrear Sheet'!AA49=\"\",\"\",IF('Arrear Sheet'!C49=\"TOTAL\",\"\",'Arrear Sheet'!AA49))","v":""},{"$f":"IF('Arrear Sheet'!AB49=\"\",\"\",IF('Arrear Sheet'!C49=\"TOTAL\",\"\",'Arrear Sheet'!AB49))","v":""},{"$f":"IF('Arrear Sheet'!AC49=\"\",\"\",IF('Arrear Sheet'!C49=\"TOTAL\",\"\",'Arrear Sheet'!AC49))","v":""},{"$f":"IF('Arrear Sheet'!AD49=\"\",\"\",IF('Arrear Sheet'!C49=\"TOTAL\",\"\",'Arrear Sheet'!AD49))","v":""},{"$f":"IF('Arrear Sheet'!AE49=\"\",\"\",IF('Arrear Sheet'!C49=\"TOTAL\",\"\",SUM(N49-AC49)))","v":""}]
[{"$f":"IF('Arrear Sheet'!B50=\"\",\"\",'Arrear Sheet'!B50)","v":""},{"$f":"IF('Arrear Sheet'!C50=\"\",\"\",IF('Arrear Sheet'!C50=\"TOTAL\",\"\",'Arrear Sheet'!C50))","v":""},{"$f":"IF('Arrear Sheet'!D50=\"\",\"\",IF('Arrear Sheet'!C50=\"TOTAL\",\"\",IF('Arrear Sheet'!D50=\"अक्षरें राशि :-\",\"\",'Arrear Sheet'!D50)))","v":""},{"$f":"IF('Arrear Sheet'!E50=\"\",\"\",IF('Arrear Sheet'!C50=\"TOTAL\",\"\",'Arrear Sheet'!E50))","v":""},{"$f":"IF('Arrear Sheet'!F50=\"\",\"\",IF('Arrear Sheet'!C50=\"TOTAL\",\"\",'Arrear Sheet'!F50))","v":""},{"$f":"IF('Arrear Sheet'!G50=\"\",\"\",IF('Arrear Sheet'!C50=\"TOTAL\",\"\",SUM(C50:E50)))","v":""},{"$f":"IF('Arrear Sheet'!H50=\"\",\"\",IF('Arrear Sheet'!C50=\"TOTAL\",\"\",'Arrear Sheet'!H50))","v":""},{"$f":"IF('Arrear Sheet'!I50=\"\",\"\",IF('Arrear Sheet'!C50=\"TOTAL\",\"\",'Arrear Sheet'!I50))","v":""},{"$f":"IF('Arrear Sheet'!J50=\"\",\"\",IF('Arrear Sheet'!C50=\"TOTAL\",\"\",'Arrear Sheet'!J50))","v":""},{"$f":"IF('Arrear Sheet'!K50=\"\",\"\",IF('Arrear Sheet'!C50=\"TOTAL\",\"\",SUM(G50:I50)))","v":""},{"$f":"IF('Arrear Sheet'!L50=\"\",\"\",IF('Arrear Sheet'!C50=\"TOTAL\",\"\",'Arrear Sheet'!L50))","v":""},{"$f":"IF('Arrear Sheet'!M50=\"\",\"\",IF('Arrear Sheet'!C50=\"TOTAL\",\"\",'Arrear Sheet'!M50))","v":""},{"$f":"IF('Arrear Sheet'!N50=\"\",\"\",IF('Arrear Sheet'!C50=\"TOTAL\",\"\",'Arrear Sheet'!N50))","v":""},{"$f":"IF('Arrear Sheet'!O50=\"\",\"\",IF('Arrear Sheet'!C50=\"TOTAL\",\"\",SUM(K50:M50)))","v":""},{"$f":"IF('Arrear Sheet'!P50=\"\",\"\",IF('Arrear Sheet'!C50=\"TOTAL\",\"\",'Arrear Sheet'!P50))","v":""},{"$f":"IF('Arrear Sheet'!Q50=\"\",\"\",IF('Arrear Sheet'!C50=\"TOTAL\",\"\",'Arrear Sheet'!Q50))","v":""},{"$f":"IF('Arrear Sheet'!R50=\"\",\"\",IF('Arrear Sheet'!C50=\"TOTAL\",\"\",'Arrear Sheet'!R50))","v":""},{"$f":"IF('Arrear Sheet'!S50=\"\",\"\",IF('Arrear Sheet'!C50=\"TOTAL\",\"\",'Arrear Sheet'!S50))","v":""},{"$f":"IF('Arrear Sheet'!T50=\"\",\"\",IF('Arrear Sheet'!C50=\"TOTAL\",\"\",'Arrear Sheet'!T50))","v":""},{"$f":"IF('Arrear Sheet'!U50=\"\",\"\",IF('Arrear Sheet'!C50=\"TOTAL\",\"\",'Arrear Sheet'!U50))","v":""},{"$f":"IF('Arrear Sheet'!V50=\"\",\"\",IF('Arrear Sheet'!C50=\"TOTAL\",\"\",'Arrear Sheet'!V50))","v":""},{"$f":"IF('Arrear Sheet'!W50=\"\",\"\",IF('Arrear Sheet'!C50=\"TOTAL\",\"\",'Arrear Sheet'!W50))","v":""},{"$f":"IF('Arrear Sheet'!X50=\"\",\"\",IF('Arrear Sheet'!C50=\"TOTAL\",\"\",'Arrear Sheet'!X50))","v":""},{"$f":"IF('Arrear Sheet'!Y50=\"\",\"\",IF('Arrear Sheet'!C50=\"TOTAL\",\"\",'Arrear Sheet'!Y50))","v":""},{"$f":"IF('Arrear Sheet'!Z50=\"\",\"\",IF('Arrear Sheet'!C50=\"TOTAL\",\"\",'Arrear Sheet'!Z50))","v":""},{"$f":"IF('Arrear Sheet'!AA50=\"\",\"\",IF('Arrear Sheet'!C50=\"TOTAL\",\"\",'Arrear Sheet'!AA50))","v":""},{"$f":"IF('Arrear Sheet'!AB50=\"\",\"\",IF('Arrear Sheet'!C50=\"TOTAL\",\"\",'Arrear Sheet'!AB50))","v":""},{"$f":"IF('Arrear Sheet'!AC50=\"\",\"\",IF('Arrear Sheet'!C50=\"TOTAL\",\"\",'Arrear Sheet'!AC50))","v":""},{"$f":"IF('Arrear Sheet'!AD50=\"\",\"\",IF('Arrear Sheet'!C50=\"TOTAL\",\"\",'Arrear Sheet'!AD50))","v":""},{"$f":"IF('Arrear Sheet'!AE50=\"\",\"\",IF('Arrear Sheet'!C50=\"TOTAL\",\"\",SUM(N50-AC50)))","v":""}]
[{"$f":"IF('Arrear Sheet'!B51=\"\",\"\",'Arrear Sheet'!B51)","v":""},{"$f":"IF('Arrear Sheet'!C51=\"\",\"\",IF('Arrear Sheet'!C51=\"TOTAL\",\"\",'Arrear Sheet'!C51))","v":""},{"$f":"IF('Arrear Sheet'!D51=\"\",\"\",IF('Arrear Sheet'!C51=\"TOTAL\",\"\",IF('Arrear Sheet'!D51=\"अक्षरें राशि :-\",\"\",'Arrear Sheet'!D51)))","v":""},{"$f":"IF('Arrear Sheet'!E51=\"\",\"\",IF('Arrear Sheet'!C51=\"TOTAL\",\"\",'Arrear Sheet'!E51))","v":""},{"$f":"IF('Arrear Sheet'!F51=\"\",\"\",IF('Arrear Sheet'!C51=\"TOTAL\",\"\",'Arrear Sheet'!F51))","v":""},{"$f":"IF('Arrear Sheet'!G51=\"\",\"\",IF('Arrear Sheet'!C51=\"TOTAL\",\"\",SUM(C51:E51)))","v":""},{"$f":"IF('Arrear Sheet'!H51=\"\",\"\",IF('Arrear Sheet'!C51=\"TOTAL\",\"\",'Arrear Sheet'!H51))","v":""},{"$f":"IF('Arrear Sheet'!I51=\"\",\"\",IF('Arrear Sheet'!C51=\"TOTAL\",\"\",'Arrear Sheet'!I51))","v":""},{"$f":"IF('Arrear Sheet'!J51=\"\",\"\",IF('Arrear Sheet'!C51=\"TOTAL\",\"\",'Arrear Sheet'!J51))","v":""},{"$f":"IF('Arrear Sheet'!K51=\"\",\"\",IF('Arrear Sheet'!C51=\"TOTAL\",\"\",SUM(G51:I51)))","v":""},{"$f":"IF('Arrear Sheet'!L51=\"\",\"\",IF('Arrear Sheet'!C51=\"TOTAL\",\"\",'Arrear Sheet'!L51))","v":""},{"$f":"IF('Arrear Sheet'!M51=\"\",\"\",IF('Arrear Sheet'!C51=\"TOTAL\",\"\",'Arrear Sheet'!M51))","v":""},{"$f":"IF('Arrear Sheet'!N51=\"\",\"\",IF('Arrear Sheet'!C51=\"TOTAL\",\"\",'Arrear Sheet'!N51))","v":""},{"$f":"IF('Arrear Sheet'!O51=\"\",\"\",IF('Arrear Sheet'!C51=\"TOTAL\",\"\",SUM(K51:M51)))","v":""},{"$f":"IF('Arrear Sheet'!P51=\"\",\"\",IF('Arrear Sheet'!C51=\"TOTAL\",\"\",'Arrear Sheet'!P51))","v":""},{"$f":"IF('Arrear Sheet'!Q51=\"\",\"\",IF('Arrear Sheet'!C51=\"TOTAL\",\"\",'Arrear Sheet'!Q51))","v":""},{"$f":"IF('Arrear Sheet'!R51=\"\",\"\",IF('Arrear Sheet'!C51=\"TOTAL\",\"\",'Arrear Sheet'!R51))","v":""},{"$f":"IF('Arrear Sheet'!S51=\"\",\"\",IF('Arrear Sheet'!C51=\"TOTAL\",\"\",'Arrear Sheet'!S51))","v":""},{"$f":"IF('Arrear Sheet'!T51=\"\",\"\",IF('Arrear Sheet'!C51=\"TOTAL\",\"\",'Arrear Sheet'!T51))","v":""},{"$f":"IF('Arrear Sheet'!U51=\"\",\"\",IF('Arrear Sheet'!C51=\"TOTAL\",\"\",'Arrear Sheet'!U51))","v":""},{"$f":"IF('Arrear Sheet'!V51=\"\",\"\",IF('Arrear Sheet'!C51=\"TOTAL\",\"\",'Arrear Sheet'!V51))","v":""},{"$f":"IF('Arrear Sheet'!W51=\"\",\"\",IF('Arrear Sheet'!C51=\"TOTAL\",\"\",'Arrear Sheet'!W51))","v":""},{"$f":"IF('Arrear Sheet'!X51=\"\",\"\",IF('Arrear Sheet'!C51=\"TOTAL\",\"\",'Arrear Sheet'!X51))","v":""},{"$f":"IF('Arrear Sheet'!Y51=\"\",\"\",IF('Arrear Sheet'!C51=\"TOTAL\",\"\",'Arrear Sheet'!Y51))","v":""},{"$f":"IF('Arrear Sheet'!Z51=\"\",\"\",IF('Arrear Sheet'!C51=\"TOTAL\",\"\",'Arrear Sheet'!Z51))","v":""},{"$f":"IF('Arrear Sheet'!AA51=\"\",\"\",IF('Arrear Sheet'!C51=\"TOTAL\",\"\",'Arrear Sheet'!AA51))","v":""},{"$f":"IF('Arrear Sheet'!AB51=\"\",\"\",IF('Arrear Sheet'!C51=\"TOTAL\",\"\",'Arrear Sheet'!AB51))","v":""},{"$f":"IF('Arrear Sheet'!AC51=\"\",\"\",IF('Arrear Sheet'!C51=\"TOTAL\",\"\",'Arrear Sheet'!AC51))","v":""},{"$f":"IF('Arrear Sheet'!AD51=\"\",\"\",IF('Arrear Sheet'!C51=\"TOTAL\",\"\",'Arrear Sheet'!AD51))","v":""},{"$f":"IF('Arrear Sheet'!AE51=\"\",\"\",IF('Arrear Sheet'!C51=\"TOTAL\",\"\",SUM(N51-AC51)))","v":""}]
[{"$f":"IF('Arrear Sheet'!B52=\"\",\"\",'Arrear Sheet'!B52)","v":""},{"$f":"IF('Arrear Sheet'!C52=\"\",\"\",IF('Arrear Sheet'!C52=\"TOTAL\",\"\",'Arrear Sheet'!C52))","v":""},{"$f":"IF('Arrear Sheet'!D52=\"\",\"\",IF('Arrear Sheet'!C52=\"TOTAL\",\"\",IF('Arrear Sheet'!D52=\"अक्षरें राशि :-\",\"\",'Arrear Sheet'!D52)))","v":""},{"$f":"IF('Arrear Sheet'!E52=\"\",\"\",IF('Arrear Sheet'!C52=\"TOTAL\",\"\",'Arrear Sheet'!E52))","v":""},{"$f":"IF('Arrear Sheet'!F52=\"\",\"\",IF('Arrear Sheet'!C52=\"TOTAL\",\"\",'Arrear Sheet'!F52))","v":""},{"$f":"IF('Arrear Sheet'!G52=\"\",\"\",IF('Arrear Sheet'!C52=\"TOTAL\",\"\",SUM(C52:E52)))","v":""},{"$f":"IF('Arrear Sheet'!H52=\"\",\"\",IF('Arrear Sheet'!C52=\"TOTAL\",\"\",'Arrear Sheet'!H52))","v":""},{"$f":"IF('Arrear Sheet'!I52=\"\",\"\",IF('Arrear Sheet'!C52=\"TOTAL\",\"\",'Arrear Sheet'!I52))","v":""},{"$f":"IF('Arrear Sheet'!J52=\"\",\"\",IF('Arrear Sheet'!C52=\"TOTAL\",\"\",'Arrear Sheet'!J52))","v":""},{"$f":"IF('Arrear Sheet'!K52=\"\",\"\",IF('Arrear Sheet'!C52=\"TOTAL\",\"\",SUM(G52:I52)))","v":""},{"$f":"IF('Arrear Sheet'!L52=\"\",\"\",IF('Arrear Sheet'!C52=\"TOTAL\",\"\",'Arrear Sheet'!L52))","v":""},{"$f":"IF('Arrear Sheet'!M52=\"\",\"\",IF('Arrear Sheet'!C52=\"TOTAL\",\"\",'Arrear Sheet'!M52))","v":""},{"$f":"IF('Arrear Sheet'!N52=\"\",\"\",IF('Arrear Sheet'!C52=\"TOTAL\",\"\",'Arrear Sheet'!N52))","v":""},{"$f":"IF('Arrear Sheet'!O52=\"\",\"\",IF('Arrear Sheet'!C52=\"TOTAL\",\"\",SUM(K52:M52)))","v":""},{"$f":"IF('Arrear Sheet'!P52=\"\",\"\",IF('Arrear Sheet'!C52=\"TOTAL\",\"\",'Arrear Sheet'!P52))","v":""},{"$f":"IF('Arrear Sheet'!Q52=\"\",\"\",IF('Arrear Sheet'!C52=\"TOTAL\",\"\",'Arrear Sheet'!Q52))","v":""},{"$f":"IF('Arrear Sheet'!R52=\"\",\"\",IF('Arrear Sheet'!C52=\"TOTAL\",\"\",'Arrear Sheet'!R52))","v":""},{"$f":"IF('Arrear Sheet'!S52=\"\",\"\",IF('Arrear Sheet'!C52=\"TOTAL\",\"\",'Arrear Sheet'!S52))","v":""},{"$f":"IF('Arrear Sheet'!T52=\"\",\"\",IF('Arrear Sheet'!C52=\"TOTAL\",\"\",'Arrear Sheet'!T52))","v":""},{"$f":"IF('Arrear Sheet'!U52=\"\",\"\",IF('Arrear Sheet'!C52=\"TOTAL\",\"\",'Arrear Sheet'!U52))","v":""},{"$f":"IF('Arrear Sheet'!V52=\"\",\"\",IF('Arrear Sheet'!C52=\"TOTAL\",\"\",'Arrear Sheet'!V52))","v":""},{"$f":"IF('Arrear Sheet'!W52=\"\",\"\",IF('Arrear Sheet'!C52=\"TOTAL\",\"\",'Arrear Sheet'!W52))","v":""},{"$f":"IF('Arrear Sheet'!X52=\"\",\"\",IF('Arrear Sheet'!C52=\"TOTAL\",\"\",'Arrear Sheet'!X52))","v":""},{"$f":"IF('Arrear Sheet'!Y52=\"\",\"\",IF('Arrear Sheet'!C52=\"TOTAL\",\"\",'Arrear Sheet'!Y52))","v":""},{"$f":"IF('Arrear Sheet'!Z52=\"\",\"\",IF('Arrear Sheet'!C52=\"TOTAL\",\"\",'Arrear Sheet'!Z52))","v":""},{"$f":"IF('Arrear Sheet'!AA52=\"\",\"\",IF('Arrear Sheet'!C52=\"TOTAL\",\"\",'Arrear Sheet'!AA52))","v":""},{"$f":"IF('Arrear Sheet'!AB52=\"\",\"\",IF('Arrear Sheet'!C52=\"TOTAL\",\"\",'Arrear Sheet'!AB52))","v":""},{"$f":"IF('Arrear Sheet'!AC52=\"\",\"\",IF('Arrear Sheet'!C52=\"TOTAL\",\"\",'Arrear Sheet'!AC52))","v":""},{"$f":"IF('Arrear Sheet'!AD52=\"\",\"\",IF('Arrear Sheet'!C52=\"TOTAL\",\"\",'Arrear Sheet'!AD52))","v":""},{"$f":"IF('Arrear Sheet'!AE52=\"\",\"\",IF('Arrear Sheet'!C52=\"TOTAL\",\"\",SUM(N52-AC52)))","v":""}]
[{"$f":"IF('Arrear Sheet'!B53=\"\",\"\",'Arrear Sheet'!B53)","v":""},{"$f":"IF('Arrear Sheet'!C53=\"\",\"\",IF('Arrear Sheet'!C53=\"TOTAL\",\"\",'Arrear Sheet'!C53))","v":""},{"$f":"IF('Arrear Sheet'!D53=\"\",\"\",IF('Arrear Sheet'!C53=\"TOTAL\",\"\",IF('Arrear Sheet'!D53=\"अक्षरें राशि :-\",\"\",'Arrear Sheet'!D53)))","v":""},{"$f":"IF('Arrear Sheet'!E53=\"\",\"\",IF('Arrear Sheet'!C53=\"TOTAL\",\"\",'Arrear Sheet'!E53))","v":""},{"$f":"IF('Arrear Sheet'!F53=\"\",\"\",IF('Arrear Sheet'!C53=\"TOTAL\",\"\",'Arrear Sheet'!F53))","v":""},{"$f":"IF('Arrear Sheet'!G53=\"\",\"\",IF('Arrear Sheet'!C53=\"TOTAL\",\"\",SUM(C53:E53)))","v":""},{"$f":"IF('Arrear Sheet'!H53=\"\",\"\",IF('Arrear Sheet'!C53=\"TOTAL\",\"\",'Arrear Sheet'!H53))","v":""},{"$f":"IF('Arrear Sheet'!I53=\"\",\"\",IF('Arrear Sheet'!C53=\"TOTAL\",\"\",'Arrear Sheet'!I53))","v":""},{"$f":"IF('Arrear Sheet'!J53=\"\",\"\",IF('Arrear Sheet'!C53=\"TOTAL\",\"\",'Arrear Sheet'!J53))","v":""},{"$f":"IF('Arrear Sheet'!K53=\"\",\"\",IF('Arrear Sheet'!C53=\"TOTAL\",\"\",SUM(G53:I53)))","v":""},{"$f":"IF('Arrear Sheet'!L53=\"\",\"\",IF('Arrear Sheet'!C53=\"TOTAL\",\"\",'Arrear Sheet'!L53))","v":""},{"$f":"IF('Arrear Sheet'!M53=\"\",\"\",IF('Arrear Sheet'!C53=\"TOTAL\",\"\",'Arrear Sheet'!M53))","v":""},{"$f":"IF('Arrear Sheet'!N53=\"\",\"\",IF('Arrear Sheet'!C53=\"TOTAL\",\"\",'Arrear Sheet'!N53))","v":""},{"$f":"IF('Arrear Sheet'!O53=\"\",\"\",IF('Arrear Sheet'!C53=\"TOTAL\",\"\",SUM(K53:M53)))","v":""},{"$f":"IF('Arrear Sheet'!P53=\"\",\"\",IF('Arrear Sheet'!C53=\"TOTAL\",\"\",'Arrear Sheet'!P53))","v":""},{"$f":"IF('Arrear Sheet'!Q53=\"\",\"\",IF('Arrear Sheet'!C53=\"TOTAL\",\"\",'Arrear Sheet'!Q53))","v":""},{"$f":"IF('Arrear Sheet'!R53=\"\",\"\",IF('Arrear Sheet'!C53=\"TOTAL\",\"\",'Arrear Sheet'!R53))","v":""},{"$f":"IF('Arrear Sheet'!S53=\"\",\"\",IF('Arrear Sheet'!C53=\"TOTAL\",\"\",'Arrear Sheet'!S53))","v":""},{"$f":"IF('Arrear Sheet'!T53=\"\",\"\",IF('Arrear Sheet'!C53=\"TOTAL\",\"\",'Arrear Sheet'!T53))","v":""},{"$f":"IF('Arrear Sheet'!U53=\"\",\"\",IF('Arrear Sheet'!C53=\"TOTAL\",\"\",'Arrear Sheet'!U53))","v":""},{"$f":"IF('Arrear Sheet'!V53=\"\",\"\",IF('Arrear Sheet'!C53=\"TOTAL\",\"\",'Arrear Sheet'!V53))","v":""},{"$f":"IF('Arrear Sheet'!W53=\"\",\"\",IF('Arrear Sheet'!C53=\"TOTAL\",\"\",'Arrear Sheet'!W53))","v":""},{"$f":"IF('Arrear Sheet'!X53=\"\",\"\",IF('Arrear Sheet'!C53=\"TOTAL\",\"\",'Arrear Sheet'!X53))","v":""},{"$f":"IF('Arrear Sheet'!Y53=\"\",\"\",IF('Arrear Sheet'!C53=\"TOTAL\",\"\",'Arrear Sheet'!Y53))","v":""},{"$f":"IF('Arrear Sheet'!Z53=\"\",\"\",IF('Arrear Sheet'!C53=\"TOTAL\",\"\",'Arrear Sheet'!Z53))","v":""},{"$f":"IF('Arrear Sheet'!AA53=\"\",\"\",IF('Arrear Sheet'!C53=\"TOTAL\",\"\",'Arrear Sheet'!AA53))","v":""},{"$f":"IF('Arrear Sheet'!AB53=\"\",\"\",IF('Arrear Sheet'!C53=\"TOTAL\",\"\",'Arrear Sheet'!AB53))","v":""},{"$f":"IF('Arrear Sheet'!AC53=\"\",\"\",IF('Arrear Sheet'!C53=\"TOTAL\",\"\",'Arrear Sheet'!AC53))","v":""},{"$f":"IF('Arrear Sheet'!AD53=\"\",\"\",IF('Arrear Sheet'!C53=\"TOTAL\",\"\",'Arrear Sheet'!AD53))","v":""},{"$f":"IF('Arrear Sheet'!AE53=\"\",\"\",IF('Arrear Sheet'!C53=\"TOTAL\",\"\",SUM(N53-AC53)))","v":""}]
[{"$f":"IF('Arrear Sheet'!B54=\"\",\"\",'Arrear Sheet'!B54)","v":""},{"$f":"IF('Arrear Sheet'!C54=\"\",\"\",IF('Arrear Sheet'!C54=\"TOTAL\",\"\",'Arrear Sheet'!C54))","v":""},{"$f":"IF('Arrear Sheet'!D54=\"\",\"\",IF('Arrear Sheet'!C54=\"TOTAL\",\"\",IF('Arrear Sheet'!D54=\"अक्षरें राशि :-\",\"\",'Arrear Sheet'!D54)))","v":""},{"$f":"IF('Arrear Sheet'!E54=\"\",\"\",IF('Arrear Sheet'!C54=\"TOTAL\",\"\",'Arrear Sheet'!E54))","v":""},{"$f":"IF('Arrear Sheet'!F54=\"\",\"\",IF('Arrear Sheet'!C54=\"TOTAL\",\"\",'Arrear Sheet'!F54))","v":""},{"$f":"IF('Arrear Sheet'!G54=\"\",\"\",IF('Arrear Sheet'!C54=\"TOTAL\",\"\",SUM(C54:E54)))","v":""},{"$f":"IF('Arrear Sheet'!H54=\"\",\"\",IF('Arrear Sheet'!C54=\"TOTAL\",\"\",'Arrear Sheet'!H54))","v":""},{"$f":"IF('Arrear Sheet'!I54=\"\",\"\",IF('Arrear Sheet'!C54=\"TOTAL\",\"\",'Arrear Sheet'!I54))","v":""},{"$f":"IF('Arrear Sheet'!J54=\"\",\"\",IF('Arrear Sheet'!C54=\"TOTAL\",\"\",'Arrear Sheet'!J54))","v":""},{"$f":"IF('Arrear Sheet'!K54=\"\",\"\",IF('Arrear Sheet'!C54=\"TOTAL\",\"\",SUM(G54:I54)))","v":""},{"$f":"IF('Arrear Sheet'!L54=\"\",\"\",IF('Arrear Sheet'!C54=\"TOTAL\",\"\",'Arrear Sheet'!L54))","v":""},{"$f":"IF('Arrear Sheet'!M54=\"\",\"\",IF('Arrear Sheet'!C54=\"TOTAL\",\"\",'Arrear Sheet'!M54))","v":""},{"$f":"IF('Arrear Sheet'!N54=\"\",\"\",IF('Arrear Sheet'!C54=\"TOTAL\",\"\",'Arrear Sheet'!N54))","v":""},{"$f":"IF('Arrear Sheet'!O54=\"\",\"\",IF('Arrear Sheet'!C54=\"TOTAL\",\"\",SUM(K54:M54)))","v":""},{"$f":"IF('Arrear Sheet'!P54=\"\",\"\",IF('Arrear Sheet'!C54=\"TOTAL\",\"\",'Arrear Sheet'!P54))","v":""},{"$f":"IF('Arrear Sheet'!Q54=\"\",\"\",IF('Arrear Sheet'!C54=\"TOTAL\",\"\",'Arrear Sheet'!Q54))","v":""},{"$f":"IF('Arrear Sheet'!R54=\"\",\"\",IF('Arrear Sheet'!C54=\"TOTAL\",\"\",'Arrear Sheet'!R54))","v":""},{"$f":"IF('Arrear Sheet'!S54=\"\",\"\",IF('Arrear Sheet'!C54=\"TOTAL\",\"\",'Arrear Sheet'!S54))","v":""},{"$f":"IF('Arrear Sheet'!T54=\"\",\"\",IF('Arrear Sheet'!C54=\"TOTAL\",\"\",'Arrear Sheet'!T54))","v":""},{"$f":"IF('Arrear Sheet'!U54=\"\",\"\",IF('Arrear Sheet'!C54=\"TOTAL\",\"\",'Arrear Sheet'!U54))","v":""},{"$f":"IF('Arrear Sheet'!V54=\"\",\"\",IF('Arrear Sheet'!C54=\"TOTAL\",\"\",'Arrear Sheet'!V54))","v":""},{"$f":"IF('Arrear Sheet'!W54=\"\",\"\",IF('Arrear Sheet'!C54=\"TOTAL\",\"\",'Arrear Sheet'!W54))","v":""},{"$f":"IF('Arrear Sheet'!X54=\"\",\"\",IF('Arrear Sheet'!C54=\"TOTAL\",\"\",'Arrear Sheet'!X54))","v":""},{"$f":"IF('Arrear Sheet'!Y54=\"\",\"\",IF('Arrear Sheet'!C54=\"TOTAL\",\"\",'Arrear Sheet'!Y54))","v":""},{"$f":"IF('Arrear Sheet'!Z54=\"\",\"\",IF('Arrear Sheet'!C54=\"TOTAL\",\"\",'Arrear Sheet'!Z54))","v":""},{"$f":"IF('Arrear Sheet'!AA54=\"\",\"\",IF('Arrear Sheet'!C54=\"TOTAL\",\"\",'Arrear Sheet'!AA54))","v":""},{"$f":"IF('Arrear Sheet'!AB54=\"\",\"\",IF('Arrear Sheet'!C54=\"TOTAL\",\"\",'Arrear Sheet'!AB54))","v":""},{"$f":"IF('Arrear Sheet'!AC54=\"\",\"\",IF('Arrear Sheet'!C54=\"TOTAL\",\"\",'Arrear Sheet'!AC54))","v":""},{"$f":"IF('Arrear Sheet'!AD54=\"\",\"\",IF('Arrear Sheet'!C54=\"TOTAL\",\"\",'Arrear Sheet'!AD54))","v":""},{"$f":"IF('Arrear Sheet'!AE54=\"\",\"\",IF('Arrear Sheet'!C54=\"TOTAL\",\"\",SUM(N54-AC54)))","v":""}]
[{"$f":"IF('Arrear Sheet'!B55=\"\",\"\",'Arrear Sheet'!B55)","v":""},{"$f":"IF('Arrear Sheet'!C55=\"\",\"\",IF('Arrear Sheet'!C55=\"TOTAL\",\"\",'Arrear Sheet'!C55))","v":""},{"$f":"IF('Arrear Sheet'!D55=\"\",\"\",IF('Arrear Sheet'!C55=\"TOTAL\",\"\",IF('Arrear Sheet'!D55=\"अक्षरें राशि :-\",\"\",'Arrear Sheet'!D55)))","v":""},{"$f":"IF('Arrear Sheet'!E55=\"\",\"\",IF('Arrear Sheet'!C55=\"TOTAL\",\"\",'Arrear Sheet'!E55))","v":""},{"$f":"IF('Arrear Sheet'!F55=\"\",\"\",IF('Arrear Sheet'!C55=\"TOTAL\",\"\",'Arrear Sheet'!F55))","v":""},{"$f":"IF('Arrear Sheet'!G55=\"\",\"\",IF('Arrear Sheet'!C55=\"TOTAL\",\"\",SUM(C55:E55)))","v":""},{"$f":"IF('Arrear Sheet'!H55=\"\",\"\",IF('Arrear Sheet'!C55=\"TOTAL\",\"\",'Arrear Sheet'!H55))","v":""},{"$f":"IF('Arrear Sheet'!I55=\"\",\"\",IF('Arrear Sheet'!C55=\"TOTAL\",\"\",'Arrear Sheet'!I55))","v":""},{"$f":"IF('Arrear Sheet'!J55=\"\",\"\",IF('Arrear Sheet'!C55=\"TOTAL\",\"\",'Arrear Sheet'!J55))","v":""},{"$f":"IF('Arrear Sheet'!K55=\"\",\"\",IF('Arrear Sheet'!C55=\"TOTAL\",\"\",SUM(G55:I55)))","v":""},{"$f":"IF('Arrear Sheet'!L55=\"\",\"\",IF('Arrear Sheet'!C55=\"TOTAL\",\"\",'Arrear Sheet'!L55))","v":""},{"$f":"IF('Arrear Sheet'!M55=\"\",\"\",IF('Arrear Sheet'!C55=\"TOTAL\",\"\",'Arrear Sheet'!M55))","v":""},{"$f":"IF('Arrear Sheet'!N55=\"\",\"\",IF('Arrear Sheet'!C55=\"TOTAL\",\"\",'Arrear Sheet'!N55))","v":""},{"$f":"IF('Arrear Sheet'!O55=\"\",\"\",IF('Arrear Sheet'!C55=\"TOTAL\",\"\",SUM(K55:M55)))","v":""},{"$f":"IF('Arrear Sheet'!P55=\"\",\"\",IF('Arrear Sheet'!C55=\"TOTAL\",\"\",'Arrear Sheet'!P55))","v":""},{"$f":"IF('Arrear Sheet'!Q55=\"\",\"\",IF('Arrear Sheet'!C55=\"TOTAL\",\"\",'Arrear Sheet'!Q55))","v":""},{"$f":"IF('Arrear Sheet'!R55=\"\",\"\",IF('Arrear Sheet'!C55=\"TOTAL\",\"\",'Arrear Sheet'!R55))","v":""},{"$f":"IF('Arrear Sheet'!S55=\"\",\"\",IF('Arrear Sheet'!C55=\"TOTAL\",\"\",'Arrear Sheet'!S55))","v":""},{"$f":"IF('Arrear Sheet'!T55=\"\",\"\",IF('Arrear Sheet'!C55=\"TOTAL\",\"\",'Arrear Sheet'!T55))","v":""},{"$f":"IF('Arrear Sheet'!U55=\"\",\"\",IF('Arrear Sheet'!C55=\"TOTAL\",\"\",'Arrear Sheet'!U55))","v":""},{"$f":"IF('Arrear Sheet'!V55=\"\",\"\",IF('Arrear Sheet'!C55=\"TOTAL\",\"\",'Arrear Sheet'!V55))","v":""},{"$f":"IF('Arrear Sheet'!W55=\"\",\"\",IF('Arrear Sheet'!C55=\"TOTAL\",\"\",'Arrear Sheet'!W55))","v":""},{"$f":"IF('Arrear Sheet'!X55=\"\",\"\",IF('Arrear Sheet'!C55=\"TOTAL\",\"\",'Arrear Sheet'!X55))","v":""},{"$f":"IF('Arrear Sheet'!Y55=\"\",\"\",IF('Arrear Sheet'!C55=\"TOTAL\",\"\",'Arrear Sheet'!Y55))","v":""},{"$f":"IF('Arrear Sheet'!Z55=\"\",\"\",IF('Arrear Sheet'!C55=\"TOTAL\",\"\",'Arrear Sheet'!Z55))","v":""},{"$f":"IF('Arrear Sheet'!AA55=\"\",\"\",IF('Arrear Sheet'!C55=\"TOTAL\",\"\",'Arrear Sheet'!AA55))","v":""},{"$f":"IF('Arrear Sheet'!AB55=\"\",\"\",IF('Arrear Sheet'!C55=\"TOTAL\",\"\",'Arrear Sheet'!AB55))","v":""},{"$f":"IF('Arrear Sheet'!AC55=\"\",\"\",IF('Arrear Sheet'!C55=\"TOTAL\",\"\",'Arrear Sheet'!AC55))","v":""},{"$f":"IF('Arrear Sheet'!AD55=\"\",\"\",IF('Arrear Sheet'!C55=\"TOTAL\",\"\",'Arrear Sheet'!AD55))","v":""},{"$f":"IF('Arrear Sheet'!AE55=\"\",\"\",IF('Arrear Sheet'!C55=\"TOTAL\",\"\",SUM(N55-AC55)))","v":""}]
[{"$f":"IF('Arrear Sheet'!B56=\"\",\"\",'Arrear Sheet'!B56)","v":""},{"$f":"IF('Arrear Sheet'!C56=\"\",\"\",IF('Arrear Sheet'!C56=\"TOTAL\",\"\",'Arrear Sheet'!C56))","v":""},{"$f":"IF('Arrear Sheet'!D56=\"\",\"\",IF('Arrear Sheet'!C56=\"TOTAL\",\"\",IF('Arrear Sheet'!D56=\"अक्षरें राशि :-\",\"\",'Arrear Sheet'!D56)))","v":""},{"$f":"IF('Arrear Sheet'!E56=\"\",\"\",IF('Arrear Sheet'!C56=\"TOTAL\",\"\",'Arrear Sheet'!E56))","v":""},{"$f":"IF('Arrear Sheet'!F56=\"\",\"\",IF('Arrear Sheet'!C56=\"TOTAL\",\"\",'Arrear Sheet'!F56))","v":""},{"$f":"IF('Arrear Sheet'!G56=\"\",\"\",IF('Arrear Sheet'!C56=\"TOTAL\",\"\",SUM(C56:E56)))","v":""},{"$f":"IF('Arrear Sheet'!H56=\"\",\"\",IF('Arrear Sheet'!C56=\"TOTAL\",\"\",'Arrear Sheet'!H56))","v":""},{"$f":"IF('Arrear Sheet'!I56=\"\",\"\",IF('Arrear Sheet'!C56=\"TOTAL\",\"\",'Arrear Sheet'!I56))","v":""},{"$f":"IF('Arrear Sheet'!J56=\"\",\"\",IF('Arrear Sheet'!C56=\"TOTAL\",\"\",'Arrear Sheet'!J56))","v":""},{"$f":"IF('Arrear Sheet'!K56=\"\",\"\",IF('Arrear Sheet'!C56=\"TOTAL\",\"\",SUM(G56:I56)))","v":""},{"$f":"IF('Arrear Sheet'!L56=\"\",\"\",IF('Arrear Sheet'!C56=\"TOTAL\",\"\",'Arrear Sheet'!L56))","v":""},{"$f":"IF('Arrear Sheet'!M56=\"\",\"\",IF('Arrear Sheet'!C56=\"TOTAL\",\"\",'Arrear Sheet'!M56))","v":""},{"$f":"IF('Arrear Sheet'!N56=\"\",\"\",IF('Arrear Sheet'!C56=\"TOTAL\",\"\",'Arrear Sheet'!N56))","v":""},{"$f":"IF('Arrear Sheet'!O56=\"\",\"\",IF('Arrear Sheet'!C56=\"TOTAL\",\"\",SUM(K56:M56)))","v":""},{"$f":"IF('Arrear Sheet'!P56=\"\",\"\",IF('Arrear Sheet'!C56=\"TOTAL\",\"\",'Arrear Sheet'!P56))","v":""},{"$f":"IF('Arrear Sheet'!Q56=\"\",\"\",IF('Arrear Sheet'!C56=\"TOTAL\",\"\",'Arrear Sheet'!Q56))","v":""},{"$f":"IF('Arrear Sheet'!R56=\"\",\"\",IF('Arrear Sheet'!C56=\"TOTAL\",\"\",'Arrear Sheet'!R56))","v":""},{"$f":"IF('Arrear Sheet'!S56=\"\",\"\",IF('Arrear Sheet'!C56=\"TOTAL\",\"\",'Arrear Sheet'!S56))","v":""},{"$f":"IF('Arrear Sheet'!T56=\"\",\"\",IF('Arrear Sheet'!C56=\"TOTAL\",\"\",'Arrear Sheet'!T56))","v":""},{"$f":"IF('Arrear Sheet'!U56=\"\",\"\",IF('Arrear Sheet'!C56=\"TOTAL\",\"\",'Arrear Sheet'!U56))","v":""},{"$f":"IF('Arrear Sheet'!V56=\"\",\"\",IF('Arrear Sheet'!C56=\"TOTAL\",\"\",'Arrear Sheet'!V56))","v":""},{"$f":"IF('Arrear Sheet'!W56=\"\",\"\",IF('Arrear Sheet'!C56=\"TOTAL\",\"\",'Arrear Sheet'!W56))","v":""},{"$f":"IF('Arrear Sheet'!X56=\"\",\"\",IF('Arrear Sheet'!C56=\"TOTAL\",\"\",'Arrear Sheet'!X56))","v":""},{"$f":"IF('Arrear Sheet'!Y56=\"\",\"\",IF('Arrear Sheet'!C56=\"TOTAL\",\"\",'Arrear Sheet'!Y56))","v":""},{"$f":"IF('Arrear Sheet'!Z56=\"\",\"\",IF('Arrear Sheet'!C56=\"TOTAL\",\"\",'Arrear Sheet'!Z56))","v":""},{"$f":"IF('Arrear Sheet'!AA56=\"\",\"\",IF('Arrear Sheet'!C56=\"TOTAL\",\"\",'Arrear Sheet'!AA56))","v":""},{"$f":"IF('Arrear Sheet'!AB56=\"\",\"\",IF('Arrear Sheet'!C56=\"TOTAL\",\"\",'Arrear Sheet'!AB56))","v":""},{"$f":"IF('Arrear Sheet'!AC56=\"\",\"\",IF('Arrear Sheet'!C56=\"TOTAL\",\"\",'Arrear Sheet'!AC56))","v":""},{"$f":"IF('Arrear Sheet'!AD56=\"\",\"\",IF('Arrear Sheet'!C56=\"TOTAL\",\"\",'Arrear Sheet'!AD56))","v":""},{"$f":"IF('Arrear Sheet'!AE56=\"\",\"\",IF('Arrear Sheet'!C56=\"TOTAL\",\"\",SUM(N56-AC56)))","v":""}]
[{"$f":"IF('Arrear Sheet'!B57=\"\",\"\",'Arrear Sheet'!B57)","v":""},{"$f":"IF('Arrear Sheet'!C57=\"\",\"\",IF('Arrear Sheet'!C57=\"TOTAL\",\"\",'Arrear Sheet'!C57))","v":""},{"$f":"IF('Arrear Sheet'!D57=\"\",\"\",IF('Arrear Sheet'!C57=\"TOTAL\",\"\",IF('Arrear Sheet'!D57=\"अक्षरें राशि :-\",\"\",'Arrear Sheet'!D57)))","v":""},{"$f":"IF('Arrear Sheet'!E57=\"\",\"\",IF('Arrear Sheet'!C57=\"TOTAL\",\"\",'Arrear Sheet'!E57))","v":""},{"$f":"IF('Arrear Sheet'!F57=\"\",\"\",IF('Arrear Sheet'!C57=\"TOTAL\",\"\",'Arrear Sheet'!F57))","v":""},{"$f":"IF('Arrear Sheet'!G57=\"\",\"\",IF('Arrear Sheet'!C57=\"TOTAL\",\"\",SUM(C57:E57)))","v":""},{"$f":"IF('Arrear Sheet'!H57=\"\",\"\",IF('Arrear Sheet'!C57=\"TOTAL\",\"\",'Arrear Sheet'!H57))","v":""},{"$f":"IF('Arrear Sheet'!I57=\"\",\"\",IF('Arrear Sheet'!C57=\"TOTAL\",\"\",'Arrear Sheet'!I57))","v":""},{"$f":"IF('Arrear Sheet'!J57=\"\",\"\",IF('Arrear Sheet'!C57=\"TOTAL\",\"\",'Arrear Sheet'!J57))","v":""},{"$f":"IF('Arrear Sheet'!K57=\"\",\"\",IF('Arrear Sheet'!C57=\"TOTAL\",\"\",SUM(G57:I57)))","v":""},{"$f":"IF('Arrear Sheet'!L57=\"\",\"\",IF('Arrear Sheet'!C57=\"TOTAL\",\"\",'Arrear Sheet'!L57))","v":""},{"$f":"IF('Arrear Sheet'!M57=\"\",\"\",IF('Arrear Sheet'!C57=\"TOTAL\",\"\",'Arrear Sheet'!M57))","v":""},{"$f":"IF('Arrear Sheet'!N57=\"\",\"\",IF('Arrear Sheet'!C57=\"TOTAL\",\"\",'Arrear Sheet'!N57))","v":""},{"$f":"IF('Arrear Sheet'!O57=\"\",\"\",IF('Arrear Sheet'!C57=\"TOTAL\",\"\",SUM(K57:M57)))","v":""},{"$f":"IF('Arrear Sheet'!P57=\"\",\"\",IF('Arrear Sheet'!C57=\"TOTAL\",\"\",'Arrear Sheet'!P57))","v":""},{"$f":"IF('Arrear Sheet'!Q57=\"\",\"\",IF('Arrear Sheet'!C57=\"TOTAL\",\"\",'Arrear Sheet'!Q57))","v":""},{"$f":"IF('Arrear Sheet'!R57=\"\",\"\",IF('Arrear Sheet'!C57=\"TOTAL\",\"\",'Arrear Sheet'!R57))","v":""},{"$f":"IF('Arrear Sheet'!S57=\"\",\"\",IF('Arrear Sheet'!C57=\"TOTAL\",\"\",'Arrear Sheet'!S57))","v":""},{"$f":"IF('Arrear Sheet'!T57=\"\",\"\",IF('Arrear Sheet'!C57=\"TOTAL\",\"\",'Arrear Sheet'!T57))","v":""},{"$f":"IF('Arrear Sheet'!U57=\"\",\"\",IF('Arrear Sheet'!C57=\"TOTAL\",\"\",'Arrear Sheet'!U57))","v":""},{"$f":"IF('Arrear Sheet'!V57=\"\",\"\",IF('Arrear Sheet'!C57=\"TOTAL\",\"\",'Arrear Sheet'!V57))","v":""},{"$f":"IF('Arrear Sheet'!W57=\"\",\"\",IF('Arrear Sheet'!C57=\"TOTAL\",\"\",'Arrear Sheet'!W57))","v":""},{"$f":"IF('Arrear Sheet'!X57=\"\",\"\",IF('Arrear Sheet'!C57=\"TOTAL\",\"\",'Arrear Sheet'!X57))","v":""},{"$f":"IF('Arrear Sheet'!Y57=\"\",\"\",IF('Arrear Sheet'!C57=\"TOTAL\",\"\",'Arrear Sheet'!Y57))","v":""},{"$f":"IF('Arrear Sheet'!Z57=\"\",\"\",IF('Arrear Sheet'!C57=\"TOTAL\",\"\",'Arrear Sheet'!Z57))","v":""},{"$f":"IF('Arrear Sheet'!AA57=\"\",\"\",IF('Arrear Sheet'!C57=\"TOTAL\",\"\",'Arrear Sheet'!AA57))","v":""},{"$f":"IF('Arrear Sheet'!AB57=\"\",\"\",IF('Arrear Sheet'!C57=\"TOTAL\",\"\",'Arrear Sheet'!AB57))","v":""},{"$f":"IF('Arrear Sheet'!AC57=\"\",\"\",IF('Arrear Sheet'!C57=\"TOTAL\",\"\",'Arrear Sheet'!AC57))","v":""},{"$f":"IF('Arrear Sheet'!AD57=\"\",\"\",IF('Arrear Sheet'!C57=\"TOTAL\",\"\",'Arrear Sheet'!AD57))","v":""},{"$f":"IF('Arrear Sheet'!AE57=\"\",\"\",IF('Arrear Sheet'!C57=\"TOTAL\",\"\",SUM(N57-AC57)))","v":""}]
[{"$f":"IF('Arrear Sheet'!B58=\"\",\"\",'Arrear Sheet'!B58)","v":""},{"$f":"IF('Arrear Sheet'!C58=\"\",\"\",IF('Arrear Sheet'!C58=\"TOTAL\",\"\",'Arrear Sheet'!C58))","v":""},{"$f":"IF('Arrear Sheet'!D58=\"\",\"\",IF('Arrear Sheet'!C58=\"TOTAL\",\"\",IF('Arrear Sheet'!D58=\"अक्षरें राशि :-\",\"\",'Arrear Sheet'!D58)))","v":""},{"$f":"IF('Arrear Sheet'!E58=\"\",\"\",IF('Arrear Sheet'!C58=\"TOTAL\",\"\",'Arrear Sheet'!E58))","v":""},{"$f":"IF('Arrear Sheet'!F58=\"\",\"\",IF('Arrear Sheet'!C58=\"TOTAL\",\"\",'Arrear Sheet'!F58))","v":""},{"$f":"IF('Arrear Sheet'!G58=\"\",\"\",IF('Arrear Sheet'!C58=\"TOTAL\",\"\",SUM(C58:E58)))","v":""},{"$f":"IF('Arrear Sheet'!H58=\"\",\"\",IF('Arrear Sheet'!C58=\"TOTAL\",\"\",'Arrear Sheet'!H58))","v":""},{"$f":"IF('Arrear Sheet'!I58=\"\",\"\",IF('Arrear Sheet'!C58=\"TOTAL\",\"\",'Arrear Sheet'!I58))","v":""},{"$f":"IF('Arrear Sheet'!J58=\"\",\"\",IF('Arrear Sheet'!C58=\"TOTAL\",\"\",'Arrear Sheet'!J58))","v":""},{"$f":"IF('Arrear Sheet'!K58=\"\",\"\",IF('Arrear Sheet'!C58=\"TOTAL\",\"\",SUM(G58:I58)))","v":""},{"$f":"IF('Arrear Sheet'!L58=\"\",\"\",IF('Arrear Sheet'!C58=\"TOTAL\",\"\",'Arrear Sheet'!L58))","v":""},{"$f":"IF('Arrear Sheet'!M58=\"\",\"\",IF('Arrear Sheet'!C58=\"TOTAL\",\"\",'Arrear Sheet'!M58))","v":""},{"$f":"IF('Arrear Sheet'!N58=\"\",\"\",IF('Arrear Sheet'!C58=\"TOTAL\",\"\",'Arrear Sheet'!N58))","v":""},{"$f":"IF('Arrear Sheet'!O58=\"\",\"\",IF('Arrear Sheet'!C58=\"TOTAL\",\"\",SUM(K58:M58)))","v":""},{"$f":"IF('Arrear Sheet'!P58=\"\",\"\",IF('Arrear Sheet'!C58=\"TOTAL\",\"\",'Arrear Sheet'!P58))","v":""},{"$f":"IF('Arrear Sheet'!Q58=\"\",\"\",IF('Arrear Sheet'!C58=\"TOTAL\",\"\",'Arrear Sheet'!Q58))","v":""},{"$f":"IF('Arrear Sheet'!R58=\"\",\"\",IF('Arrear Sheet'!C58=\"TOTAL\",\"\",'Arrear Sheet'!R58))","v":""},{"$f":"IF('Arrear Sheet'!S58=\"\",\"\",IF('Arrear Sheet'!C58=\"TOTAL\",\"\",'Arrear Sheet'!S58))","v":""},{"$f":"IF('Arrear Sheet'!T58=\"\",\"\",IF('Arrear Sheet'!C58=\"TOTAL\",\"\",'Arrear Sheet'!T58))","v":""},{"$f":"IF('Arrear Sheet'!U58=\"\",\"\",IF('Arrear Sheet'!C58=\"TOTAL\",\"\",'Arrear Sheet'!U58))","v":""},{"$f":"IF('Arrear Sheet'!V58=\"\",\"\",IF('Arrear Sheet'!C58=\"TOTAL\",\"\",'Arrear Sheet'!V58))","v":""},{"$f":"IF('Arrear Sheet'!W58=\"\",\"\",IF('Arrear Sheet'!C58=\"TOTAL\",\"\",'Arrear Sheet'!W58))","v":""},{"$f":"IF('Arrear Sheet'!X58=\"\",\"\",IF('Arrear Sheet'!C58=\"TOTAL\",\"\",'Arrear Sheet'!X58))","v":""},{"$f":"IF('Arrear Sheet'!Y58=\"\",\"\",IF('Arrear Sheet'!C58=\"TOTAL\",\"\",'Arrear Sheet'!Y58))","v":""},{"$f":"IF('Arrear Sheet'!Z58=\"\",\"\",IF('Arrear Sheet'!C58=\"TOTAL\",\"\",'Arrear Sheet'!Z58))","v":""},{"$f":"IF('Arrear Sheet'!AA58=\"\",\"\",IF('Arrear Sheet'!C58=\"TOTAL\",\"\",'Arrear Sheet'!AA58))","v":""},{"$f":"IF('Arrear Sheet'!AB58=\"\",\"\",IF('Arrear Sheet'!C58=\"TOTAL\",\"\",'Arrear Sheet'!AB58))","v":""},{"$f":"IF('Arrear Sheet'!AC58=\"\",\"\",IF('Arrear Sheet'!C58=\"TOTAL\",\"\",'Arrear Sheet'!AC58))","v":""},{"$f":"IF('Arrear Sheet'!AD58=\"\",\"\",IF('Arrear Sheet'!C58=\"TOTAL\",\"\",'Arrear Sheet'!AD58))","v":""},{"$f":"IF('Arrear Sheet'!AE58=\"\",\"\",IF('Arrear Sheet'!C58=\"TOTAL\",\"\",SUM(N58-AC58)))","v":""}]
[{"$f":"IF('Arrear Sheet'!B59=\"\",\"\",'Arrear Sheet'!B59)","v":""},{"$f":"IF('Arrear Sheet'!C59=\"\",\"\",IF('Arrear Sheet'!C59=\"TOTAL\",\"\",'Arrear Sheet'!C59))","v":""},{"$f":"IF('Arrear Sheet'!D59=\"\",\"\",IF('Arrear Sheet'!C59=\"TOTAL\",\"\",IF('Arrear Sheet'!D59=\"अक्षरें राशि :-\",\"\",'Arrear Sheet'!D59)))","v":""},{"$f":"IF('Arrear Sheet'!E59=\"\",\"\",IF('Arrear Sheet'!C59=\"TOTAL\",\"\",'Arrear Sheet'!E59))","v":""},{"$f":"IF('Arrear Sheet'!F59=\"\",\"\",IF('Arrear Sheet'!C59=\"TOTAL\",\"\",'Arrear Sheet'!F59))","v":""},{"$f":"IF('Arrear Sheet'!G59=\"\",\"\",IF('Arrear Sheet'!C59=\"TOTAL\",\"\",SUM(C59:E59)))","v":""},{"$f":"IF('Arrear Sheet'!H59=\"\",\"\",IF('Arrear Sheet'!C59=\"TOTAL\",\"\",'Arrear Sheet'!H59))","v":""},{"$f":"IF('Arrear Sheet'!I59=\"\",\"\",IF('Arrear Sheet'!C59=\"TOTAL\",\"\",'Arrear Sheet'!I59))","v":""},{"$f":"IF('Arrear Sheet'!J59=\"\",\"\",IF('Arrear Sheet'!C59=\"TOTAL\",\"\",'Arrear Sheet'!J59))","v":""},{"$f":"IF('Arrear Sheet'!K59=\"\",\"\",IF('Arrear Sheet'!C59=\"TOTAL\",\"\",SUM(G59:I59)))","v":""},{"$f":"IF('Arrear Sheet'!L59=\"\",\"\",IF('Arrear Sheet'!C59=\"TOTAL\",\"\",'Arrear Sheet'!L59))","v":""},{"$f":"IF('Arrear Sheet'!M59=\"\",\"\",IF('Arrear Sheet'!C59=\"TOTAL\",\"\",'Arrear Sheet'!M59))","v":""},{"$f":"IF('Arrear Sheet'!N59=\"\",\"\",IF('Arrear Sheet'!C59=\"TOTAL\",\"\",'Arrear Sheet'!N59))","v":""},{"$f":"IF('Arrear Sheet'!O59=\"\",\"\",IF('Arrear Sheet'!C59=\"TOTAL\",\"\",SUM(K59:M59)))","v":""},{"$f":"IF('Arrear Sheet'!P59=\"\",\"\",IF('Arrear Sheet'!C59=\"TOTAL\",\"\",'Arrear Sheet'!P59))","v":""},{"$f":"IF('Arrear Sheet'!Q59=\"\",\"\",IF('Arrear Sheet'!C59=\"TOTAL\",\"\",'Arrear Sheet'!Q59))","v":""},{"$f":"IF('Arrear Sheet'!R59=\"\",\"\",IF('Arrear Sheet'!C59=\"TOTAL\",\"\",'Arrear Sheet'!R59))","v":""},{"$f":"IF('Arrear Sheet'!S59=\"\",\"\",IF('Arrear Sheet'!C59=\"TOTAL\",\"\",'Arrear Sheet'!S59))","v":""},{"$f":"IF('Arrear Sheet'!T59=\"\",\"\",IF('Arrear Sheet'!C59=\"TOTAL\",\"\",'Arrear Sheet'!T59))","v":""},{"$f":"IF('Arrear Sheet'!U59=\"\",\"\",IF('Arrear Sheet'!C59=\"TOTAL\",\"\",'Arrear Sheet'!U59))","v":""},{"$f":"IF('Arrear Sheet'!V59=\"\",\"\",IF('Arrear Sheet'!C59=\"TOTAL\",\"\",'Arrear Sheet'!V59))","v":""},{"$f":"IF('Arrear Sheet'!W59=\"\",\"\",IF('Arrear Sheet'!C59=\"TOTAL\",\"\",'Arrear Sheet'!W59))","v":""},{"$f":"IF('Arrear Sheet'!X59=\"\",\"\",IF('Arrear Sheet'!C59=\"TOTAL\",\"\",'Arrear Sheet'!X59))","v":""},{"$f":"IF('Arrear Sheet'!Y59=\"\",\"\",IF('Arrear Sheet'!C59=\"TOTAL\",\"\",'Arrear Sheet'!Y59))","v":""},{"$f":"IF('Arrear Sheet'!Z59=\"\",\"\",IF('Arrear Sheet'!C59=\"TOTAL\",\"\",'Arrear Sheet'!Z59))","v":""},{"$f":"IF('Arrear Sheet'!AA59=\"\",\"\",IF('Arrear Sheet'!C59=\"TOTAL\",\"\",'Arrear Sheet'!AA59))","v":""},{"$f":"IF('Arrear Sheet'!AB59=\"\",\"\",IF('Arrear Sheet'!C59=\"TOTAL\",\"\",'Arrear Sheet'!AB59))","v":""},{"$f":"IF('Arrear Sheet'!AC59=\"\",\"\",IF('Arrear Sheet'!C59=\"TOTAL\",\"\",'Arrear Sheet'!AC59))","v":""},{"$f":"IF('Arrear Sheet'!AD59=\"\",\"\",IF('Arrear Sheet'!C59=\"TOTAL\",\"\",'Arrear Sheet'!AD59))","v":""},{"$f":"IF('Arrear Sheet'!AE59=\"\",\"\",IF('Arrear Sheet'!C59=\"TOTAL\",\"\",SUM(N59-AC59)))","v":""}]
[{"$f":"IF('Arrear Sheet'!B60=\"\",\"\",'Arrear Sheet'!B60)","v":""},{"$f":"IF('Arrear Sheet'!C60=\"\",\"\",IF('Arrear Sheet'!C60=\"TOTAL\",\"\",'Arrear Sheet'!C60))","v":""},{"$f":"IF('Arrear Sheet'!D60=\"\",\"\",IF('Arrear Sheet'!C60=\"TOTAL\",\"\",IF('Arrear Sheet'!D60=\"अक्षरें राशि :-\",\"\",'Arrear Sheet'!D60)))","v":""},{"$f":"IF('Arrear Sheet'!E60=\"\",\"\",IF('Arrear Sheet'!C60=\"TOTAL\",\"\",'Arrear Sheet'!E60))","v":""},{"$f":"IF('Arrear Sheet'!F60=\"\",\"\",IF('Arrear Sheet'!C60=\"TOTAL\",\"\",'Arrear Sheet'!F60))","v":""},{"$f":"IF('Arrear Sheet'!G60=\"\",\"\",IF('Arrear Sheet'!C60=\"TOTAL\",\"\",SUM(C60:E60)))","v":""},{"$f":"IF('Arrear Sheet'!H60=\"\",\"\",IF('Arrear Sheet'!C60=\"TOTAL\",\"\",'Arrear Sheet'!H60))","v":""},{"$f":"IF('Arrear Sheet'!I60=\"\",\"\",IF('Arrear Sheet'!C60=\"TOTAL\",\"\",'Arrear Sheet'!I60))","v":""},{"$f":"IF('Arrear Sheet'!J60=\"\",\"\",IF('Arrear Sheet'!C60=\"TOTAL\",\"\",'Arrear Sheet'!J60))","v":""},{"$f":"IF('Arrear Sheet'!K60=\"\",\"\",IF('Arrear Sheet'!C60=\"TOTAL\",\"\",SUM(G60:I60)))","v":""},{"$f":"IF('Arrear Sheet'!L60=\"\",\"\",IF('Arrear Sheet'!C60=\"TOTAL\",\"\",'Arrear Sheet'!L60))","v":""},{"$f":"IF('Arrear Sheet'!M60=\"\",\"\",IF('Arrear Sheet'!C60=\"TOTAL\",\"\",'Arrear Sheet'!M60))","v":""},{"$f":"IF('Arrear Sheet'!N60=\"\",\"\",IF('Arrear Sheet'!C60=\"TOTAL\",\"\",'Arrear Sheet'!N60))","v":""},{"$f":"IF('Arrear Sheet'!O60=\"\",\"\",IF('Arrear Sheet'!C60=\"TOTAL\",\"\",SUM(K60:M60)))","v":""},{"$f":"IF('Arrear Sheet'!P60=\"\",\"\",IF('Arrear Sheet'!C60=\"TOTAL\",\"\",'Arrear Sheet'!P60))","v":""},{"$f":"IF('Arrear Sheet'!Q60=\"\",\"\",IF('Arrear Sheet'!C60=\"TOTAL\",\"\",'Arrear Sheet'!Q60))","v":""},{"$f":"IF('Arrear Sheet'!R60=\"\",\"\",IF('Arrear Sheet'!C60=\"TOTAL\",\"\",'Arrear Sheet'!R60))","v":""},{"$f":"IF('Arrear Sheet'!S60=\"\",\"\",IF('Arrear Sheet'!C60=\"TOTAL\",\"\",'Arrear Sheet'!S60))","v":""},{"$f":"IF('Arrear Sheet'!T60=\"\",\"\",IF('Arrear Sheet'!C60=\"TOTAL\",\"\",'Arrear Sheet'!T60))","v":""},{"$f":"IF('Arrear Sheet'!U60=\"\",\"\",IF('Arrear Sheet'!C60=\"TOTAL\",\"\",'Arrear Sheet'!U60))","v":""},{"$f":"IF('Arrear Sheet'!V60=\"\",\"\",IF('Arrear Sheet'!C60=\"TOTAL\",\"\",'Arrear Sheet'!V60))","v":""},{"$f":"IF('Arrear Sheet'!W60=\"\",\"\",IF('Arrear Sheet'!C60=\"TOTAL\",\"\",'Arrear Sheet'!W60))","v":""},{"$f":"IF('Arrear Sheet'!X60=\"\",\"\",IF('Arrear Sheet'!C60=\"TOTAL\",\"\",'Arrear Sheet'!X60))","v":""},{"$f":"IF('Arrear Sheet'!Y60=\"\",\"\",IF('Arrear Sheet'!C60=\"TOTAL\",\"\",'Arrear Sheet'!Y60))","v":""},{"$f":"IF('Arrear Sheet'!Z60=\"\",\"\",IF('Arrear Sheet'!C60=\"TOTAL\",\"\",'Arrear Sheet'!Z60))","v":""},{"$f":"IF('Arrear Sheet'!AA60=\"\",\"\",IF('Arrear Sheet'!C60=\"TOTAL\",\"\",'Arrear Sheet'!AA60))","v":""},{"$f":"IF('Arrear Sheet'!AB60=\"\",\"\",IF('Arrear Sheet'!C60=\"TOTAL\",\"\",'Arrear Sheet'!AB60))","v":""},{"$f":"IF('Arrear Sheet'!AC60=\"\",\"\",IF('Arrear Sheet'!C60=\"TOTAL\",\"\",'Arrear Sheet'!AC60))","v":""},{"$f":"IF('Arrear Sheet'!AD60=\"\",\"\",IF('Arrear Sheet'!C60=\"TOTAL\",\"\",'Arrear Sheet'!AD60))","v":""},{"$f":"IF('Arrear Sheet'!AE60=\"\",\"\",IF('Arrear Sheet'!C60=\"TOTAL\",\"\",SUM(N60-AC60)))","v":""}]
[{"$f":"IF('Arrear Sheet'!B61=\"\",\"\",'Arrear Sheet'!B61)","v":""},{"$f":"IF('Arrear Sheet'!C61=\"\",\"\",IF('Arrear Sheet'!C61=\"TOTAL\",\"\",'Arrear Sheet'!C61))","v":""},{"$f":"IF('Arrear Sheet'!D61=\"\",\"\",IF('Arrear Sheet'!C61=\"TOTAL\",\"\",IF('Arrear Sheet'!D61=\"अक्षरें राशि :-\",\"\",'Arrear Sheet'!D61)))","v":""},{"$f":"IF('Arrear Sheet'!E61=\"\",\"\",IF('Arrear Sheet'!C61=\"TOTAL\",\"\",'Arrear Sheet'!E61))","v":""},{"$f":"IF('Arrear Sheet'!F61=\"\",\"\",IF('Arrear Sheet'!C61=\"TOTAL\",\"\",'Arrear Sheet'!F61))","v":""},{"$f":"IF('Arrear Sheet'!G61=\"\",\"\",IF('Arrear Sheet'!C61=\"TOTAL\",\"\",SUM(C61:E61)))","v":""},{"$f":"IF('Arrear Sheet'!H61=\"\",\"\",IF('Arrear Sheet'!C61=\"TOTAL\",\"\",'Arrear Sheet'!H61))","v":""},{"$f":"IF('Arrear Sheet'!I61=\"\",\"\",IF('Arrear Sheet'!C61=\"TOTAL\",\"\",'Arrear Sheet'!I61))","v":""},{"$f":"IF('Arrear Sheet'!J61=\"\",\"\",IF('Arrear Sheet'!C61=\"TOTAL\",\"\",'Arrear Sheet'!J61))","v":""},{"$f":"IF('Arrear Sheet'!K61=\"\",\"\",IF('Arrear Sheet'!C61=\"TOTAL\",\"\",SUM(G61:I61)))","v":""},{"$f":"IF('Arrear Sheet'!L61=\"\",\"\",IF('Arrear Sheet'!C61=\"TOTAL\",\"\",'Arrear Sheet'!L61))","v":""},{"$f":"IF('Arrear Sheet'!M61=\"\",\"\",IF('Arrear Sheet'!C61=\"TOTAL\",\"\",'Arrear Sheet'!M61))","v":""},{"$f":"IF('Arrear Sheet'!N61=\"\",\"\",IF('Arrear Sheet'!C61=\"TOTAL\",\"\",'Arrear Sheet'!N61))","v":""},{"$f":"IF('Arrear Sheet'!O61=\"\",\"\",IF('Arrear Sheet'!C61=\"TOTAL\",\"\",SUM(K61:M61)))","v":""},{"$f":"IF('Arrear Sheet'!P61=\"\",\"\",IF('Arrear Sheet'!C61=\"TOTAL\",\"\",'Arrear Sheet'!P61))","v":""},{"$f":"IF('Arrear Sheet'!Q61=\"\",\"\",IF('Arrear Sheet'!C61=\"TOTAL\",\"\",'Arrear Sheet'!Q61))","v":""},{"$f":"IF('Arrear Sheet'!R61=\"\",\"\",IF('Arrear Sheet'!C61=\"TOTAL\",\"\",'Arrear Sheet'!R61))","v":""},{"$f":"IF('Arrear Sheet'!S61=\"\",\"\",IF('Arrear Sheet'!C61=\"TOTAL\",\"\",'Arrear Sheet'!S61))","v":""},{"$f":"IF('Arrear Sheet'!T61=\"\",\"\",IF('Arrear Sheet'!C61=\"TOTAL\",\"\",'Arrear Sheet'!T61))","v":""},{"$f":"IF('Arrear Sheet'!U61=\"\",\"\",IF('Arrear Sheet'!C61=\"TOTAL\",\"\",'Arrear Sheet'!U61))","v":""},{"$f":"IF('Arrear Sheet'!V61=\"\",\"\",IF('Arrear Sheet'!C61=\"TOTAL\",\"\",'Arrear Sheet'!V61))","v":""},{"$f":"IF('Arrear Sheet'!W61=\"\",\"\",IF('Arrear Sheet'!C61=\"TOTAL\",\"\",'Arrear Sheet'!W61))","v":""},{"$f":"IF('Arrear Sheet'!X61=\"\",\"\",IF('Arrear Sheet'!C61=\"TOTAL\",\"\",'Arrear Sheet'!X61))","v":""},{"$f":"IF('Arrear Sheet'!Y61=\"\",\"\",IF('Arrear Sheet'!C61=\"TOTAL\",\"\",'Arrear Sheet'!Y61))","v":""},{"$f":"IF('Arrear Sheet'!Z61=\"\",\"\",IF('Arrear Sheet'!C61=\"TOTAL\",\"\",'Arrear Sheet'!Z61))","v":""},{"$f":"IF('Arrear Sheet'!AA61=\"\",\"\",IF('Arrear Sheet'!C61=\"TOTAL\",\"\",'Arrear Sheet'!AA61))","v":""},{"$f":"IF('Arrear Sheet'!AB61=\"\",\"\",IF('Arrear Sheet'!C61=\"TOTAL\",\"\",'Arrear Sheet'!AB61))","v":""},{"$f":"IF('Arrear Sheet'!AC61=\"\",\"\",IF('Arrear Sheet'!C61=\"TOTAL\",\"\",'Arrear Sheet'!AC61))","v":""},{"$f":"IF('Arrear Sheet'!AD61=\"\",\"\",IF('Arrear Sheet'!C61=\"TOTAL\",\"\",'Arrear Sheet'!AD61))","v":""},{"$f":"IF('Arrear Sheet'!AE61=\"\",\"\",IF('Arrear Sheet'!C61=\"TOTAL\",\"\",SUM(N61-AC61)))","v":""}]
[{"$f":"IF('Arrear Sheet'!B62=\"\",\"\",'Arrear Sheet'!B62)","v":""},{"$f":"IF('Arrear Sheet'!C62=\"\",\"\",IF('Arrear Sheet'!C62=\"TOTAL\",\"\",'Arrear Sheet'!C62))","v":""},{"$f":"IF('Arrear Sheet'!D62=\"\",\"\",IF('Arrear Sheet'!C62=\"TOTAL\",\"\",IF('Arrear Sheet'!D62=\"अक्षरें राशि :-\",\"\",'Arrear Sheet'!D62)))","v":""},{"$f":"IF('Arrear Sheet'!E62=\"\",\"\",IF('Arrear Sheet'!C62=\"TOTAL\",\"\",'Arrear Sheet'!E62))","v":""},{"$f":"IF('Arrear Sheet'!F62=\"\",\"\",IF('Arrear Sheet'!C62=\"TOTAL\",\"\",'Arrear Sheet'!F62))","v":""},{"$f":"IF('Arrear Sheet'!G62=\"\",\"\",IF('Arrear Sheet'!C62=\"TOTAL\",\"\",SUM(C62:E62)))","v":""},{"$f":"IF('Arrear Sheet'!H62=\"\",\"\",IF('Arrear Sheet'!C62=\"TOTAL\",\"\",'Arrear Sheet'!H62))","v":""},{"$f":"IF('Arrear Sheet'!I62=\"\",\"\",IF('Arrear Sheet'!C62=\"TOTAL\",\"\",'Arrear Sheet'!I62))","v":""},{"$f":"IF('Arrear Sheet'!J62=\"\",\"\",IF('Arrear Sheet'!C62=\"TOTAL\",\"\",'Arrear Sheet'!J62))","v":""},{"$f":"IF('Arrear Sheet'!K62=\"\",\"\",IF('Arrear Sheet'!C62=\"TOTAL\",\"\",SUM(G62:I62)))","v":""},{"$f":"IF('Arrear Sheet'!L62=\"\",\"\",IF('Arrear Sheet'!C62=\"TOTAL\",\"\",'Arrear Sheet'!L62))","v":""},{"$f":"IF('Arrear Sheet'!M62=\"\",\"\",IF('Arrear Sheet'!C62=\"TOTAL\",\"\",'Arrear Sheet'!M62))","v":""},{"$f":"IF('Arrear Sheet'!N62=\"\",\"\",IF('Arrear Sheet'!C62=\"TOTAL\",\"\",'Arrear Sheet'!N62))","v":""},{"$f":"IF('Arrear Sheet'!O62=\"\",\"\",IF('Arrear Sheet'!C62=\"TOTAL\",\"\",SUM(K62:M62)))","v":""},{"$f":"IF('Arrear Sheet'!P62=\"\",\"\",IF('Arrear Sheet'!C62=\"TOTAL\",\"\",'Arrear Sheet'!P62))","v":""},{"$f":"IF('Arrear Sheet'!Q62=\"\",\"\",IF('Arrear Sheet'!C62=\"TOTAL\",\"\",'Arrear Sheet'!Q62))","v":""},{"$f":"IF('Arrear Sheet'!R62=\"\",\"\",IF('Arrear Sheet'!C62=\"TOTAL\",\"\",'Arrear Sheet'!R62))","v":""},{"$f":"IF('Arrear Sheet'!S62=\"\",\"\",IF('Arrear Sheet'!C62=\"TOTAL\",\"\",'Arrear Sheet'!S62))","v":""},{"$f":"IF('Arrear Sheet'!T62=\"\",\"\",IF('Arrear Sheet'!C62=\"TOTAL\",\"\",'Arrear Sheet'!T62))","v":""},{"$f":"IF('Arrear Sheet'!U62=\"\",\"\",IF('Arrear Sheet'!C62=\"TOTAL\",\"\",'Arrear Sheet'!U62))","v":""},{"$f":"IF('Arrear Sheet'!V62=\"\",\"\",IF('Arrear Sheet'!C62=\"TOTAL\",\"\",'Arrear Sheet'!V62))","v":""},{"$f":"IF('Arrear Sheet'!W62=\"\",\"\",IF('Arrear Sheet'!C62=\"TOTAL\",\"\",'Arrear Sheet'!W62))","v":""},{"$f":"IF('Arrear Sheet'!X62=\"\",\"\",IF('Arrear Sheet'!C62=\"TOTAL\",\"\",'Arrear Sheet'!X62))","v":""},{"$f":"IF('Arrear Sheet'!Y62=\"\",\"\",IF('Arrear Sheet'!C62=\"TOTAL\",\"\",'Arrear Sheet'!Y62))","v":""},{"$f":"IF('Arrear Sheet'!Z62=\"\",\"\",IF('Arrear Sheet'!C62=\"TOTAL\",\"\",'Arrear Sheet'!Z62))","v":""},{"$f":"IF('Arrear Sheet'!AA62=\"\",\"\",IF('Arrear Sheet'!C62=\"TOTAL\",\"\",'Arrear Sheet'!AA62))","v":""},{"$f":"IF('Arrear Sheet'!AB62=\"\",\"\",IF('Arrear Sheet'!C62=\"TOTAL\",\"\",'Arrear Sheet'!AB62))","v":""},{"$f":"IF('Arrear Sheet'!AC62=\"\",\"\",IF('Arrear Sheet'!C62=\"TOTAL\",\"\",'Arrear Sheet'!AC62))","v":""},{"$f":"IF('Arrear Sheet'!AD62=\"\",\"\",IF('Arrear Sheet'!C62=\"TOTAL\",\"\",'Arrear Sheet'!AD62))","v":""},{"$f":"IF('Arrear Sheet'!AE62=\"\",\"\",IF('Arrear Sheet'!C62=\"TOTAL\",\"\",SUM(N62-AC62)))","v":""}]
[{"$f":"IF('Arrear Sheet'!B63=\"\",\"\",'Arrear Sheet'!B63)","v":""},{"$f":"IF('Arrear Sheet'!C63=\"\",\"\",IF('Arrear Sheet'!C63=\"TOTAL\",\"\",'Arrear Sheet'!C63))","v":""},{"$f":"IF('Arrear Sheet'!D63=\"\",\"\",IF('Arrear Sheet'!C63=\"TOTAL\",\"\",IF('Arrear Sheet'!D63=\"अक्षरें राशि :-\",\"\",'Arrear Sheet'!D63)))","v":""},{"$f":"IF('Arrear Sheet'!E63=\"\",\"\",IF('Arrear Sheet'!C63=\"TOTAL\",\"\",'Arrear Sheet'!E63))","v":""},{"$f":"IF('Arrear Sheet'!F63=\"\",\"\",IF('Arrear Sheet'!C63=\"TOTAL\",\"\",'Arrear Sheet'!F63))","v":""},{"$f":"IF('Arrear Sheet'!G63=\"\",\"\",IF('Arrear Sheet'!C63=\"TOTAL\",\"\",SUM(C63:E63)))","v":""},{"$f":"IF('Arrear Sheet'!H63=\"\",\"\",IF('Arrear Sheet'!C63=\"TOTAL\",\"\",'Arrear Sheet'!H63))","v":""},{"$f":"IF('Arrear Sheet'!I63=\"\",\"\",IF('Arrear Sheet'!C63=\"TOTAL\",\"\",'Arrear Sheet'!I63))","v":""},{"$f":"IF('Arrear Sheet'!J63=\"\",\"\",IF('Arrear Sheet'!C63=\"TOTAL\",\"\",'Arrear Sheet'!J63))","v":""},{"$f":"IF('Arrear Sheet'!K63=\"\",\"\",IF('Arrear Sheet'!C63=\"TOTAL\",\"\",SUM(G63:I63)))","v":""},{"$f":"IF('Arrear Sheet'!L63=\"\",\"\",IF('Arrear Sheet'!C63=\"TOTAL\",\"\",'Arrear Sheet'!L63))","v":""},{"$f":"IF('Arrear Sheet'!M63=\"\",\"\",IF('Arrear Sheet'!C63=\"TOTAL\",\"\",'Arrear Sheet'!M63))","v":""},{"$f":"IF('Arrear Sheet'!N63=\"\",\"\",IF('Arrear Sheet'!C63=\"TOTAL\",\"\",'Arrear Sheet'!N63))","v":""},{"$f":"IF('Arrear Sheet'!O63=\"\",\"\",IF('Arrear Sheet'!C63=\"TOTAL\",\"\",SUM(K63:M63)))","v":""},{"$f":"IF('Arrear Sheet'!P63=\"\",\"\",IF('Arrear Sheet'!C63=\"TOTAL\",\"\",'Arrear Sheet'!P63))","v":""},{"$f":"IF('Arrear Sheet'!Q63=\"\",\"\",IF('Arrear Sheet'!C63=\"TOTAL\",\"\",'Arrear Sheet'!Q63))","v":""},{"$f":"IF('Arrear Sheet'!R63=\"\",\"\",IF('Arrear Sheet'!C63=\"TOTAL\",\"\",'Arrear Sheet'!R63))","v":""},{"$f":"IF('Arrear Sheet'!S63=\"\",\"\",IF('Arrear Sheet'!C63=\"TOTAL\",\"\",'Arrear Sheet'!S63))","v":""},{"$f":"IF('Arrear Sheet'!T63=\"\",\"\",IF('Arrear Sheet'!C63=\"TOTAL\",\"\",'Arrear Sheet'!T63))","v":""},{"$f":"IF('Arrear Sheet'!U63=\"\",\"\",IF('Arrear Sheet'!C63=\"TOTAL\",\"\",'Arrear Sheet'!U63))","v":""},{"$f":"IF('Arrear Sheet'!V63=\"\",\"\",IF('Arrear Sheet'!C63=\"TOTAL\",\"\",'Arrear Sheet'!V63))","v":""},{"$f":"IF('Arrear Sheet'!W63=\"\",\"\",IF('Arrear Sheet'!C63=\"TOTAL\",\"\",'Arrear Sheet'!W63))","v":""},{"$f":"IF('Arrear Sheet'!X63=\"\",\"\",IF('Arrear Sheet'!C63=\"TOTAL\",\"\",'Arrear Sheet'!X63))","v":""},{"$f":"IF('Arrear Sheet'!Y63=\"\",\"\",IF('Arrear Sheet'!C63=\"TOTAL\",\"\",'Arrear Sheet'!Y63))","v":""},{"$f":"IF('Arrear Sheet'!Z63=\"\",\"\",IF('Arrear Sheet'!C63=\"TOTAL\",\"\",'Arrear Sheet'!Z63))","v":""},{"$f":"IF('Arrear Sheet'!AA63=\"\",\"\",IF('Arrear Sheet'!C63=\"TOTAL\",\"\",'Arrear Sheet'!AA63))","v":""},{"$f":"IF('Arrear Sheet'!AB63=\"\",\"\",IF('Arrear Sheet'!C63=\"TOTAL\",\"\",'Arrear Sheet'!AB63))","v":""},{"$f":"IF('Arrear Sheet'!AC63=\"\",\"\",IF('Arrear Sheet'!C63=\"TOTAL\",\"\",'Arrear Sheet'!AC63))","v":""},{"$f":"IF('Arrear Sheet'!AD63=\"\",\"\",IF('Arrear Sheet'!C63=\"TOTAL\",\"\",'Arrear Sheet'!AD63))","v":""},{"$f":"IF('Arrear Sheet'!AE63=\"\",\"\",IF('Arrear Sheet'!C63=\"TOTAL\",\"\",SUM(N63-AC63)))","v":""}]
[{"$f":"IF('Arrear Sheet'!B64=\"\",\"\",'Arrear Sheet'!B64)","v":""},{"$f":"IF('Arrear Sheet'!C64=\"\",\"\",IF('Arrear Sheet'!C64=\"TOTAL\",\"\",'Arrear Sheet'!C64))","v":""},{"$f":"IF('Arrear Sheet'!D64=\"\",\"\",IF('Arrear Sheet'!C64=\"TOTAL\",\"\",IF('Arrear Sheet'!D64=\"अक्षरें राशि :-\",\"\",'Arrear Sheet'!D64)))","v":""},{"$f":"IF('Arrear Sheet'!E64=\"\",\"\",IF('Arrear Sheet'!C64=\"TOTAL\",\"\",'Arrear Sheet'!E64))","v":""},{"$f":"IF('Arrear Sheet'!F64=\"\",\"\",IF('Arrear Sheet'!C64=\"TOTAL\",\"\",'Arrear Sheet'!F64))","v":""},{"$f":"IF('Arrear Sheet'!G64=\"\",\"\",IF('Arrear Sheet'!C64=\"TOTAL\",\"\",SUM(C64:E64)))","v":""},{"$f":"IF('Arrear Sheet'!H64=\"\",\"\",IF('Arrear Sheet'!C64=\"TOTAL\",\"\",'Arrear Sheet'!H64))","v":""},{"$f":"IF('Arrear Sheet'!I64=\"\",\"\",IF('Arrear Sheet'!C64=\"TOTAL\",\"\",'Arrear Sheet'!I64))","v":""},{"$f":"IF('Arrear Sheet'!J64=\"\",\"\",IF('Arrear Sheet'!C64=\"TOTAL\",\"\",'Arrear Sheet'!J64))","v":""},{"$f":"IF('Arrear Sheet'!K64=\"\",\"\",IF('Arrear Sheet'!C64=\"TOTAL\",\"\",SUM(G64:I64)))","v":""},{"$f":"IF('Arrear Sheet'!L64=\"\",\"\",IF('Arrear Sheet'!C64=\"TOTAL\",\"\",'Arrear Sheet'!L64))","v":""},{"$f":"IF('Arrear Sheet'!M64=\"\",\"\",IF('Arrear Sheet'!C64=\"TOTAL\",\"\",'Arrear Sheet'!M64))","v":""},{"$f":"IF('Arrear Sheet'!N64=\"\",\"\",IF('Arrear Sheet'!C64=\"TOTAL\",\"\",'Arrear Sheet'!N64))","v":""},{"$f":"IF('Arrear Sheet'!O64=\"\",\"\",IF('Arrear Sheet'!C64=\"TOTAL\",\"\",SUM(K64:M64)))","v":""},{"$f":"IF('Arrear Sheet'!P64=\"\",\"\",IF('Arrear Sheet'!C64=\"TOTAL\",\"\",'Arrear Sheet'!P64))","v":""},{"$f":"IF('Arrear Sheet'!Q64=\"\",\"\",IF('Arrear Sheet'!C64=\"TOTAL\",\"\",'Arrear Sheet'!Q64))","v":""},{"$f":"IF('Arrear Sheet'!R64=\"\",\"\",IF('Arrear Sheet'!C64=\"TOTAL\",\"\",'Arrear Sheet'!R64))","v":""},{"$f":"IF('Arrear Sheet'!S64=\"\",\"\",IF('Arrear Sheet'!C64=\"TOTAL\",\"\",'Arrear Sheet'!S64))","v":""},{"$f":"IF('Arrear Sheet'!T64=\"\",\"\",IF('Arrear Sheet'!C64=\"TOTAL\",\"\",'Arrear Sheet'!T64))","v":""},{"$f":"IF('Arrear Sheet'!U64=\"\",\"\",IF('Arrear Sheet'!C64=\"TOTAL\",\"\",'Arrear Sheet'!U64))","v":""},{"$f":"IF('Arrear Sheet'!V64=\"\",\"\",IF('Arrear Sheet'!C64=\"TOTAL\",\"\",'Arrear Sheet'!V64))","v":""},{"$f":"IF('Arrear Sheet'!W64=\"\",\"\",IF('Arrear Sheet'!C64=\"TOTAL\",\"\",'Arrear Sheet'!W64))","v":""},{"$f":"IF('Arrear Sheet'!X64=\"\",\"\",IF('Arrear Sheet'!C64=\"TOTAL\",\"\",'Arrear Sheet'!X64))","v":""},{"$f":"IF('Arrear Sheet'!Y64=\"\",\"\",IF('Arrear Sheet'!C64=\"TOTAL\",\"\",'Arrear Sheet'!Y64))","v":""},{"$f":"IF('Arrear Sheet'!Z64=\"\",\"\",IF('Arrear Sheet'!C64=\"TOTAL\",\"\",'Arrear Sheet'!Z64))","v":""},{"$f":"IF('Arrear Sheet'!AA64=\"\",\"\",IF('Arrear Sheet'!C64=\"TOTAL\",\"\",'Arrear Sheet'!AA64))","v":""},{"$f":"IF('Arrear Sheet'!AB64=\"\",\"\",IF('Arrear Sheet'!C64=\"TOTAL\",\"\",'Arrear Sheet'!AB64))","v":""},{"$f":"IF('Arrear Sheet'!AC64=\"\",\"\",IF('Arrear Sheet'!C64=\"TOTAL\",\"\",'Arrear Sheet'!AC64))","v":""},{"$f":"IF('Arrear Sheet'!AD64=\"\",\"\",IF('Arrear Sheet'!C64=\"TOTAL\",\"\",'Arrear Sheet'!AD64))","v":""},{"$f":"IF('Arrear Sheet'!AE64=\"\",\"\",IF('Arrear Sheet'!C64=\"TOTAL\",\"\",SUM(N64-AC64)))","v":""}]
[{"$f":"IF('Arrear Sheet'!B65=\"\",\"\",'Arrear Sheet'!B65)","v":""},{"$f":"IF('Arrear Sheet'!C65=\"\",\"\",IF('Arrear Sheet'!C65=\"TOTAL\",\"\",'Arrear Sheet'!C65))","v":""},{"$f":"IF('Arrear Sheet'!D65=\"\",\"\",IF('Arrear Sheet'!C65=\"TOTAL\",\"\",IF('Arrear Sheet'!D65=\"अक्षरें राशि :-\",\"\",'Arrear Sheet'!D65)))","v":""},{"$f":"IF('Arrear Sheet'!E65=\"\",\"\",IF('Arrear Sheet'!C65=\"TOTAL\",\"\",'Arrear Sheet'!E65))","v":""},{"$f":"IF('Arrear Sheet'!F65=\"\",\"\",IF('Arrear Sheet'!C65=\"TOTAL\",\"\",'Arrear Sheet'!F65))","v":""},{"$f":"IF('Arrear Sheet'!G65=\"\",\"\",IF('Arrear Sheet'!C65=\"TOTAL\",\"\",SUM(C65:E65)))","v":""},{"$f":"IF('Arrear Sheet'!H65=\"\",\"\",IF('Arrear Sheet'!C65=\"TOTAL\",\"\",'Arrear Sheet'!H65))","v":""},{"$f":"IF('Arrear Sheet'!I65=\"\",\"\",IF('Arrear Sheet'!C65=\"TOTAL\",\"\",'Arrear Sheet'!I65))","v":""},{"$f":"IF('Arrear Sheet'!J65=\"\",\"\",IF('Arrear Sheet'!C65=\"TOTAL\",\"\",'Arrear Sheet'!J65))","v":""},{"$f":"IF('Arrear Sheet'!K65=\"\",\"\",IF('Arrear Sheet'!C65=\"TOTAL\",\"\",SUM(G65:I65)))","v":""},{"$f":"IF('Arrear Sheet'!L65=\"\",\"\",IF('Arrear Sheet'!C65=\"TOTAL\",\"\",'Arrear Sheet'!L65))","v":""},{"$f":"IF('Arrear Sheet'!M65=\"\",\"\",IF('Arrear Sheet'!C65=\"TOTAL\",\"\",'Arrear Sheet'!M65))","v":""},{"$f":"IF('Arrear Sheet'!N65=\"\",\"\",IF('Arrear Sheet'!C65=\"TOTAL\",\"\",'Arrear Sheet'!N65))","v":""},{"$f":"IF('Arrear Sheet'!O65=\"\",\"\",IF('Arrear Sheet'!C65=\"TOTAL\",\"\",SUM(K65:M65)))","v":""},{"$f":"IF('Arrear Sheet'!P65=\"\",\"\",IF('Arrear Sheet'!C65=\"TOTAL\",\"\",'Arrear Sheet'!P65))","v":""},{"$f":"IF('Arrear Sheet'!Q65=\"\",\"\",IF('Arrear Sheet'!C65=\"TOTAL\",\"\",'Arrear Sheet'!Q65))","v":""},{"$f":"IF('Arrear Sheet'!R65=\"\",\"\",IF('Arrear Sheet'!C65=\"TOTAL\",\"\",'Arrear Sheet'!R65))","v":""},{"$f":"IF('Arrear Sheet'!S65=\"\",\"\",IF('Arrear Sheet'!C65=\"TOTAL\",\"\",'Arrear Sheet'!S65))","v":""},{"$f":"IF('Arrear Sheet'!T65=\"\",\"\",IF('Arrear Sheet'!C65=\"TOTAL\",\"\",'Arrear Sheet'!T65))","v":""},{"$f":"IF('Arrear Sheet'!U65=\"\",\"\",IF('Arrear Sheet'!C65=\"TOTAL\",\"\",'Arrear Sheet'!U65))","v":""},{"$f":"IF('Arrear Sheet'!V65=\"\",\"\",IF('Arrear Sheet'!C65=\"TOTAL\",\"\",'Arrear Sheet'!V65))","v":""},{"$f":"IF('Arrear Sheet'!W65=\"\",\"\",IF('Arrear Sheet'!C65=\"TOTAL\",\"\",'Arrear Sheet'!W65))","v":""},{"$f":"IF('Arrear Sheet'!X65=\"\",\"\",IF('Arrear Sheet'!C65=\"TOTAL\",\"\",'Arrear Sheet'!X65))","v":""},{"$f":"IF('Arrear Sheet'!Y65=\"\",\"\",IF('Arrear Sheet'!C65=\"TOTAL\",\"\",'Arrear Sheet'!Y65))","v":""},{"$f":"IF('Arrear Sheet'!Z65=\"\",\"\",IF('Arrear Sheet'!C65=\"TOTAL\",\"\",'Arrear Sheet'!Z65))","v":""},{"$f":"IF('Arrear Sheet'!AA65=\"\",\"\",IF('Arrear Sheet'!C65=\"TOTAL\",\"\",'Arrear Sheet'!AA65))","v":""},{"$f":"IF('Arrear Sheet'!AB65=\"\",\"\",IF('Arrear Sheet'!C65=\"TOTAL\",\"\",'Arrear Sheet'!AB65))","v":""},{"$f":"IF('Arrear Sheet'!AC65=\"\",\"\",IF('Arrear Sheet'!C65=\"TOTAL\",\"\",'Arrear Sheet'!AC65))","v":""},{"$f":"IF('Arrear Sheet'!AD65=\"\",\"\",IF('Arrear Sheet'!C65=\"TOTAL\",\"\",'Arrear Sheet'!AD65))","v":""},{"$f":"IF('Arrear Sheet'!AE65=\"\",\"\",IF('Arrear Sheet'!C65=\"TOTAL\",\"\",SUM(N65-AC65)))","v":""}]
[{"$f":"IF('Arrear Sheet'!B66=\"\",\"\",'Arrear Sheet'!B66)","v":""},{"$f":"IF('Arrear Sheet'!C66=\"\",\"\",IF('Arrear Sheet'!C66=\"TOTAL\",\"\",'Arrear Sheet'!C66))","v":""},{"$f":"IF('Arrear Sheet'!D66=\"\",\"\",IF('Arrear Sheet'!C66=\"TOTAL\",\"\",IF('Arrear Sheet'!D66=\"अक्षरें राशि :-\",\"\",'Arrear Sheet'!D66)))","v":""},{"$f":"IF('Arrear Sheet'!E66=\"\",\"\",IF('Arrear Sheet'!C66=\"TOTAL\",\"\",'Arrear Sheet'!E66))","v":""},{"$f":"IF('Arrear Sheet'!F66=\"\",\"\",IF('Arrear Sheet'!C66=\"TOTAL\",\"\",'Arrear Sheet'!F66))","v":""},{"$f":"IF('Arrear Sheet'!G66=\"\",\"\",IF('Arrear Sheet'!C66=\"TOTAL\",\"\",SUM(C66:E66)))","v":""},{"$f":"IF('Arrear Sheet'!H66=\"\",\"\",IF('Arrear Sheet'!C66=\"TOTAL\",\"\",'Arrear Sheet'!H66))","v":""},{"$f":"IF('Arrear Sheet'!I66=\"\",\"\",IF('Arrear Sheet'!C66=\"TOTAL\",\"\",'Arrear Sheet'!I66))","v":""},{"$f":"IF('Arrear Sheet'!J66=\"\",\"\",IF('Arrear Sheet'!C66=\"TOTAL\",\"\",'Arrear Sheet'!J66))","v":""},{"$f":"IF('Arrear Sheet'!K66=\"\",\"\",IF('Arrear Sheet'!C66=\"TOTAL\",\"\",SUM(G66:I66)))","v":""},{"$f":"IF('Arrear Sheet'!L66=\"\",\"\",IF('Arrear Sheet'!C66=\"TOTAL\",\"\",'Arrear Sheet'!L66))","v":""},{"$f":"IF('Arrear Sheet'!M66=\"\",\"\",IF('Arrear Sheet'!C66=\"TOTAL\",\"\",'Arrear Sheet'!M66))","v":""},{"$f":"IF('Arrear Sheet'!N66=\"\",\"\",IF('Arrear Sheet'!C66=\"TOTAL\",\"\",'Arrear Sheet'!N66))","v":""},{"$f":"IF('Arrear Sheet'!O66=\"\",\"\",IF('Arrear Sheet'!C66=\"TOTAL\",\"\",SUM(K66:M66)))","v":""},{"$f":"IF('Arrear Sheet'!P66=\"\",\"\",IF('Arrear Sheet'!C66=\"TOTAL\",\"\",'Arrear Sheet'!P66))","v":""},{"$f":"IF('Arrear Sheet'!Q66=\"\",\"\",IF('Arrear Sheet'!C66=\"TOTAL\",\"\",'Arrear Sheet'!Q66))","v":""},{"$f":"IF('Arrear Sheet'!R66=\"\",\"\",IF('Arrear Sheet'!C66=\"TOTAL\",\"\",'Arrear Sheet'!R66))","v":""},{"$f":"IF('Arrear Sheet'!S66=\"\",\"\",IF('Arrear Sheet'!C66=\"TOTAL\",\"\",'Arrear Sheet'!S66))","v":""},{"$f":"IF('Arrear Sheet'!T66=\"\",\"\",IF('Arrear Sheet'!C66=\"TOTAL\",\"\",'Arrear Sheet'!T66))","v":""},{"$f":"IF('Arrear Sheet'!U66=\"\",\"\",IF('Arrear Sheet'!C66=\"TOTAL\",\"\",'Arrear Sheet'!U66))","v":""},{"$f":"IF('Arrear Sheet'!V66=\"\",\"\",IF('Arrear Sheet'!C66=\"TOTAL\",\"\",'Arrear Sheet'!V66))","v":""},{"$f":"IF('Arrear Sheet'!W66=\"\",\"\",IF('Arrear Sheet'!C66=\"TOTAL\",\"\",'Arrear Sheet'!W66))","v":""},{"$f":"IF('Arrear Sheet'!X66=\"\",\"\",IF('Arrear Sheet'!C66=\"TOTAL\",\"\",'Arrear Sheet'!X66))","v":""},{"$f":"IF('Arrear Sheet'!Y66=\"\",\"\",IF('Arrear Sheet'!C66=\"TOTAL\",\"\",'Arrear Sheet'!Y66))","v":""},{"$f":"IF('Arrear Sheet'!Z66=\"\",\"\",IF('Arrear Sheet'!C66=\"TOTAL\",\"\",'Arrear Sheet'!Z66))","v":""},{"$f":"IF('Arrear Sheet'!AA66=\"\",\"\",IF('Arrear Sheet'!C66=\"TOTAL\",\"\",'Arrear Sheet'!AA66))","v":""},{"$f":"IF('Arrear Sheet'!AB66=\"\",\"\",IF('Arrear Sheet'!C66=\"TOTAL\",\"\",'Arrear Sheet'!AB66))","v":""},{"$f":"IF('Arrear Sheet'!AC66=\"\",\"\",IF('Arrear Sheet'!C66=\"TOTAL\",\"\",'Arrear Sheet'!AC66))","v":""},{"$f":"IF('Arrear Sheet'!AD66=\"\",\"\",IF('Arrear Sheet'!C66=\"TOTAL\",\"\",'Arrear Sheet'!AD66))","v":""},{"$f":"IF('Arrear Sheet'!AE66=\"\",\"\",IF('Arrear Sheet'!C66=\"TOTAL\",\"\",SUM(N66-AC66)))","v":""}]
[{"$f":"IF('Arrear Sheet'!B67=\"\",\"\",'Arrear Sheet'!B67)","v":""},{"$f":"IF('Arrear Sheet'!C67=\"\",\"\",IF('Arrear Sheet'!C67=\"TOTAL\",\"\",'Arrear Sheet'!C67))","v":""},{"$f":"IF('Arrear Sheet'!D67=\"\",\"\",IF('Arrear Sheet'!C67=\"TOTAL\",\"\",IF('Arrear Sheet'!D67=\"अक्षरें राशि :-\",\"\",'Arrear Sheet'!D67)))","v":""},{"$f":"IF('Arrear Sheet'!E67=\"\",\"\",IF('Arrear Sheet'!C67=\"TOTAL\",\"\",'Arrear Sheet'!E67))","v":""},{"$f":"IF('Arrear Sheet'!F67=\"\",\"\",IF('Arrear Sheet'!C67=\"TOTAL\",\"\",'Arrear Sheet'!F67))","v":""},{"$f":"IF('Arrear Sheet'!G67=\"\",\"\",IF('Arrear Sheet'!C67=\"TOTAL\",\"\",SUM(C67:E67)))","v":""},{"$f":"IF('Arrear Sheet'!H67=\"\",\"\",IF('Arrear Sheet'!C67=\"TOTAL\",\"\",'Arrear Sheet'!H67))","v":""},{"$f":"IF('Arrear Sheet'!I67=\"\",\"\",IF('Arrear Sheet'!C67=\"TOTAL\",\"\",'Arrear Sheet'!I67))","v":""},{"$f":"IF('Arrear Sheet'!J67=\"\",\"\",IF('Arrear Sheet'!C67=\"TOTAL\",\"\",'Arrear Sheet'!J67))","v":""},{"$f":"IF('Arrear Sheet'!K67=\"\",\"\",IF('Arrear Sheet'!C67=\"TOTAL\",\"\",SUM(G67:I67)))","v":""},{"$f":"IF('Arrear Sheet'!L67=\"\",\"\",IF('Arrear Sheet'!C67=\"TOTAL\",\"\",'Arrear Sheet'!L67))","v":""},{"$f":"IF('Arrear Sheet'!M67=\"\",\"\",IF('Arrear Sheet'!C67=\"TOTAL\",\"\",'Arrear Sheet'!M67))","v":""},{"$f":"IF('Arrear Sheet'!N67=\"\",\"\",IF('Arrear Sheet'!C67=\"TOTAL\",\"\",'Arrear Sheet'!N67))","v":""},{"$f":"IF('Arrear Sheet'!O67=\"\",\"\",IF('Arrear Sheet'!C67=\"TOTAL\",\"\",SUM(K67:M67)))","v":""},{"$f":"IF('Arrear Sheet'!P67=\"\",\"\",IF('Arrear Sheet'!C67=\"TOTAL\",\"\",'Arrear Sheet'!P67))","v":""},{"$f":"IF('Arrear Sheet'!Q67=\"\",\"\",IF('Arrear Sheet'!C67=\"TOTAL\",\"\",'Arrear Sheet'!Q67))","v":""},{"$f":"IF('Arrear Sheet'!R67=\"\",\"\",IF('Arrear Sheet'!C67=\"TOTAL\",\"\",'Arrear Sheet'!R67))","v":""},{"$f":"IF('Arrear Sheet'!S67=\"\",\"\",IF('Arrear Sheet'!C67=\"TOTAL\",\"\",'Arrear Sheet'!S67))","v":""},{"$f":"IF('Arrear Sheet'!T67=\"\",\"\",IF('Arrear Sheet'!C67=\"TOTAL\",\"\",'Arrear Sheet'!T67))","v":""},{"$f":"IF('Arrear Sheet'!U67=\"\",\"\",IF('Arrear Sheet'!C67=\"TOTAL\",\"\",'Arrear Sheet'!U67))","v":""},{"$f":"IF('Arrear Sheet'!V67=\"\",\"\",IF('Arrear Sheet'!C67=\"TOTAL\",\"\",'Arrear Sheet'!V67))","v":""},{"$f":"IF('Arrear Sheet'!W67=\"\",\"\",IF('Arrear Sheet'!C67=\"TOTAL\",\"\",'Arrear Sheet'!W67))","v":""},{"$f":"IF('Arrear Sheet'!X67=\"\",\"\",IF('Arrear Sheet'!C67=\"TOTAL\",\"\",'Arrear Sheet'!X67))","v":""},{"$f":"IF('Arrear Sheet'!Y67=\"\",\"\",IF('Arrear Sheet'!C67=\"TOTAL\",\"\",'Arrear Sheet'!Y67))","v":""},{"$f":"IF('Arrear Sheet'!Z67=\"\",\"\",IF('Arrear Sheet'!C67=\"TOTAL\",\"\",'Arrear Sheet'!Z67))","v":""},{"$f":"IF('Arrear Sheet'!AA67=\"\",\"\",IF('Arrear Sheet'!C67=\"TOTAL\",\"\",'Arrear Sheet'!AA67))","v":""},{"$f":"IF('Arrear Sheet'!AB67=\"\",\"\",IF('Arrear Sheet'!C67=\"TOTAL\",\"\",'Arrear Sheet'!AB67))","v":""},{"$f":"IF('Arrear Sheet'!AC67=\"\",\"\",IF('Arrear Sheet'!C67=\"TOTAL\",\"\",'Arrear Sheet'!AC67))","v":""},{"$f":"IF('Arrear Sheet'!AD67=\"\",\"\",IF('Arrear Sheet'!C67=\"TOTAL\",\"\",'Arrear Sheet'!AD67))","v":""},{"$f":"IF('Arrear Sheet'!AE67=\"\",\"\",IF('Arrear Sheet'!C67=\"TOTAL\",\"\",SUM(N67-AC67)))","v":""}]
[{"$f":"IF('Arrear Sheet'!B68=\"\",\"\",'Arrear Sheet'!B68)","v":""},{"$f":"IF('Arrear Sheet'!C68=\"\",\"\",IF('Arrear Sheet'!C68=\"TOTAL\",\"\",'Arrear Sheet'!C68))","v":""},{"$f":"IF('Arrear Sheet'!D68=\"\",\"\",IF('Arrear Sheet'!C68=\"TOTAL\",\"\",IF('Arrear Sheet'!D68=\"अक्षरें राशि :-\",\"\",'Arrear Sheet'!D68)))","v":""},{"$f":"IF('Arrear Sheet'!E68=\"\",\"\",IF('Arrear Sheet'!C68=\"TOTAL\",\"\",'Arrear Sheet'!E68))","v":""},{"$f":"IF('Arrear Sheet'!F68=\"\",\"\",IF('Arrear Sheet'!C68=\"TOTAL\",\"\",'Arrear Sheet'!F68))","v":""},{"$f":"IF('Arrear Sheet'!G68=\"\",\"\",IF('Arrear Sheet'!C68=\"TOTAL\",\"\",SUM(C68:E68)))","v":""},{"$f":"IF('Arrear Sheet'!H68=\"\",\"\",IF('Arrear Sheet'!C68=\"TOTAL\",\"\",'Arrear Sheet'!H68))","v":""},{"$f":"IF('Arrear Sheet'!I68=\"\",\"\",IF('Arrear Sheet'!C68=\"TOTAL\",\"\",'Arrear Sheet'!I68))","v":""},{"$f":"IF('Arrear Sheet'!J68=\"\",\"\",IF('Arrear Sheet'!C68=\"TOTAL\",\"\",'Arrear Sheet'!J68))","v":""},{"$f":"IF('Arrear Sheet'!K68=\"\",\"\",IF('Arrear Sheet'!C68=\"TOTAL\",\"\",SUM(G68:I68)))","v":""},{"$f":"IF('Arrear Sheet'!L68=\"\",\"\",IF('Arrear Sheet'!C68=\"TOTAL\",\"\",'Arrear Sheet'!L68))","v":""},{"$f":"IF('Arrear Sheet'!M68=\"\",\"\",IF('Arrear Sheet'!C68=\"TOTAL\",\"\",'Arrear Sheet'!M68))","v":""},{"$f":"IF('Arrear Sheet'!N68=\"\",\"\",IF('Arrear Sheet'!C68=\"TOTAL\",\"\",'Arrear Sheet'!N68))","v":""},{"$f":"IF('Arrear Sheet'!O68=\"\",\"\",IF('Arrear Sheet'!C68=\"TOTAL\",\"\",SUM(K68:M68)))","v":""},{"$f":"IF('Arrear Sheet'!P68=\"\",\"\",IF('Arrear Sheet'!C68=\"TOTAL\",\"\",'Arrear Sheet'!P68))","v":""},{"$f":"IF('Arrear Sheet'!Q68=\"\",\"\",IF('Arrear Sheet'!C68=\"TOTAL\",\"\",'Arrear Sheet'!Q68))","v":""},{"$f":"IF('Arrear Sheet'!R68=\"\",\"\",IF('Arrear Sheet'!C68=\"TOTAL\",\"\",'Arrear Sheet'!R68))","v":""},{"$f":"IF('Arrear Sheet'!S68=\"\",\"\",IF('Arrear Sheet'!C68=\"TOTAL\",\"\",'Arrear Sheet'!S68))","v":""},{"$f":"IF('Arrear Sheet'!T68=\"\",\"\",IF('Arrear Sheet'!C68=\"TOTAL\",\"\",'Arrear Sheet'!T68))","v":""},{"$f":"IF('Arrear Sheet'!U68=\"\",\"\",IF('Arrear Sheet'!C68=\"TOTAL\",\"\",'Arrear Sheet'!U68))","v":""},{"$f":"IF('Arrear Sheet'!V68=\"\",\"\",IF('Arrear Sheet'!C68=\"TOTAL\",\"\",'Arrear Sheet'!V68))","v":""},{"$f":"IF('Arrear Sheet'!W68=\"\",\"\",IF('Arrear Sheet'!C68=\"TOTAL\",\"\",'Arrear Sheet'!W68))","v":""},{"$f":"IF('Arrear Sheet'!X68=\"\",\"\",IF('Arrear Sheet'!C68=\"TOTAL\",\"\",'Arrear Sheet'!X68))","v":""},{"$f":"IF('Arrear Sheet'!Y68=\"\",\"\",IF('Arrear Sheet'!C68=\"TOTAL\",\"\",'Arrear Sheet'!Y68))","v":""},{"$f":"IF('Arrear Sheet'!Z68=\"\",\"\",IF('Arrear Sheet'!C68=\"TOTAL\",\"\",'Arrear Sheet'!Z68))","v":""},{"$f":"IF('Arrear Sheet'!AA68=\"\",\"\",IF('Arrear Sheet'!C68=\"TOTAL\",\"\",'Arrear Sheet'!AA68))","v":""},{"$f":"IF('Arrear Sheet'!AB68=\"\",\"\",IF('Arrear Sheet'!C68=\"TOTAL\",\"\",'Arrear Sheet'!AB68))","v":""},{"$f":"IF('Arrear Sheet'!AC68=\"\",\"\",IF('Arrear Sheet'!C68=\"TOTAL\",\"\",'Arrear Sheet'!AC68))","v":""},{"$f":"IF('Arrear Sheet'!AD68=\"\",\"\",IF('Arrear Sheet'!C68=\"TOTAL\",\"\",'Arrear Sheet'!AD68))","v":""},{"$f":"IF('Arrear Sheet'!AE68=\"\",\"\",IF('Arrear Sheet'!C68=\"TOTAL\",\"\",SUM(N68-AC68)))","v":""}]
[{"$f":"IF('Arrear Sheet'!B69=\"\",\"\",'Arrear Sheet'!B69)","v":""},{"$f":"IF('Arrear Sheet'!C69=\"\",\"\",IF('Arrear Sheet'!C69=\"TOTAL\",\"\",'Arrear Sheet'!C69))","v":""},{"$f":"IF('Arrear Sheet'!D69=\"\",\"\",IF('Arrear Sheet'!C69=\"TOTAL\",\"\",IF('Arrear Sheet'!D69=\"अक्षरें राशि :-\",\"\",'Arrear Sheet'!D69)))","v":""},{"$f":"IF('Arrear Sheet'!E69=\"\",\"\",IF('Arrear Sheet'!C69=\"TOTAL\",\"\",'Arrear Sheet'!E69))","v":""},{"$f":"IF('Arrear Sheet'!F69=\"\",\"\",IF('Arrear Sheet'!C69=\"TOTAL\",\"\",'Arrear Sheet'!F69))","v":""},{"$f":"IF('Arrear Sheet'!G69=\"\",\"\",IF('Arrear Sheet'!C69=\"TOTAL\",\"\",SUM(C69:E69)))","v":""},{"$f":"IF('Arrear Sheet'!H69=\"\",\"\",IF('Arrear Sheet'!C69=\"TOTAL\",\"\",'Arrear Sheet'!H69))","v":""},{"$f":"IF('Arrear Sheet'!I69=\"\",\"\",IF('Arrear Sheet'!C69=\"TOTAL\",\"\",'Arrear Sheet'!I69))","v":""},{"$f":"IF('Arrear Sheet'!J69=\"\",\"\",IF('Arrear Sheet'!C69=\"TOTAL\",\"\",'Arrear Sheet'!J69))","v":""},{"$f":"IF('Arrear Sheet'!K69=\"\",\"\",IF('Arrear Sheet'!C69=\"TOTAL\",\"\",SUM(G69:I69)))","v":""},{"$f":"IF('Arrear Sheet'!L69=\"\",\"\",IF('Arrear Sheet'!C69=\"TOTAL\",\"\",'Arrear Sheet'!L69))","v":""},{"$f":"IF('Arrear Sheet'!M69=\"\",\"\",IF('Arrear Sheet'!C69=\"TOTAL\",\"\",'Arrear Sheet'!M69))","v":""},{"$f":"IF('Arrear Sheet'!N69=\"\",\"\",IF('Arrear Sheet'!C69=\"TOTAL\",\"\",'Arrear Sheet'!N69))","v":""},{"$f":"IF('Arrear Sheet'!O69=\"\",\"\",IF('Arrear Sheet'!C69=\"TOTAL\",\"\",SUM(K69:M69)))","v":""},{"$f":"IF('Arrear Sheet'!P69=\"\",\"\",IF('Arrear Sheet'!C69=\"TOTAL\",\"\",'Arrear Sheet'!P69))","v":""},{"$f":"IF('Arrear Sheet'!Q69=\"\",\"\",IF('Arrear Sheet'!C69=\"TOTAL\",\"\",'Arrear Sheet'!Q69))","v":""},{"$f":"IF('Arrear Sheet'!R69=\"\",\"\",IF('Arrear Sheet'!C69=\"TOTAL\",\"\",'Arrear Sheet'!R69))","v":""},{"$f":"IF('Arrear Sheet'!S69=\"\",\"\",IF('Arrear Sheet'!C69=\"TOTAL\",\"\",'Arrear Sheet'!S69))","v":""},{"$f":"IF('Arrear Sheet'!T69=\"\",\"\",IF('Arrear Sheet'!C69=\"TOTAL\",\"\",'Arrear Sheet'!T69))","v":""},{"$f":"IF('Arrear Sheet'!U69=\"\",\"\",IF('Arrear Sheet'!C69=\"TOTAL\",\"\",'Arrear Sheet'!U69))","v":""},{"$f":"IF('Arrear Sheet'!V69=\"\",\"\",IF('Arrear Sheet'!C69=\"TOTAL\",\"\",'Arrear Sheet'!V69))","v":""},{"$f":"IF('Arrear Sheet'!W69=\"\",\"\",IF('Arrear Sheet'!C69=\"TOTAL\",\"\",'Arrear Sheet'!W69))","v":""},{"$f":"IF('Arrear Sheet'!X69=\"\",\"\",IF('Arrear Sheet'!C69=\"TOTAL\",\"\",'Arrear Sheet'!X69))","v":""},{"$f":"IF('Arrear Sheet'!Y69=\"\",\"\",IF('Arrear Sheet'!C69=\"TOTAL\",\"\",'Arrear Sheet'!Y69))","v":""},{"$f":"IF('Arrear Sheet'!Z69=\"\",\"\",IF('Arrear Sheet'!C69=\"TOTAL\",\"\",'Arrear Sheet'!Z69))","v":""},{"$f":"IF('Arrear Sheet'!AA69=\"\",\"\",IF('Arrear Sheet'!C69=\"TOTAL\",\"\",'Arrear Sheet'!AA69))","v":""},{"$f":"IF('Arrear Sheet'!AB69=\"\",\"\",IF('Arrear Sheet'!C69=\"TOTAL\",\"\",'Arrear Sheet'!AB69))","v":""},{"$f":"IF('Arrear Sheet'!AC69=\"\",\"\",IF('Arrear Sheet'!C69=\"TOTAL\",\"\",'Arrear Sheet'!AC69))","v":""},{"$f":"IF('Arrear Sheet'!AD69=\"\",\"\",IF('Arrear Sheet'!C69=\"TOTAL\",\"\",'Arrear Sheet'!AD69))","v":""},{"$f":"IF('Arrear Sheet'!AE69=\"\",\"\",IF('Arrear Sheet'!C69=\"TOTAL\",\"\",SUM(N69-AC69)))","v":""}]
[{"$f":"IF('Arrear Sheet'!B70=\"\",\"\",'Arrear Sheet'!B70)","v":""},{"$f":"IF('Arrear Sheet'!C70=\"\",\"\",IF('Arrear Sheet'!C70=\"TOTAL\",\"\",'Arrear Sheet'!C70))","v":""},{"$f":"IF('Arrear Sheet'!D70=\"\",\"\",IF('Arrear Sheet'!C70=\"TOTAL\",\"\",IF('Arrear Sheet'!D70=\"अक्षरें राशि :-\",\"\",'Arrear Sheet'!D70)))","v":""},{"$f":"IF('Arrear Sheet'!E70=\"\",\"\",IF('Arrear Sheet'!C70=\"TOTAL\",\"\",'Arrear Sheet'!E70))","v":""},{"$f":"IF('Arrear Sheet'!F70=\"\",\"\",IF('Arrear Sheet'!C70=\"TOTAL\",\"\",'Arrear Sheet'!F70))","v":""},{"$f":"IF('Arrear Sheet'!G70=\"\",\"\",IF('Arrear Sheet'!C70=\"TOTAL\",\"\",SUM(C70:E70)))","v":""},{"$f":"IF('Arrear Sheet'!H70=\"\",\"\",IF('Arrear Sheet'!C70=\"TOTAL\",\"\",'Arrear Sheet'!H70))","v":""},{"$f":"IF('Arrear Sheet'!I70=\"\",\"\",IF('Arrear Sheet'!C70=\"TOTAL\",\"\",'Arrear Sheet'!I70))","v":""},{"$f":"IF('Arrear Sheet'!J70=\"\",\"\",IF('Arrear Sheet'!C70=\"TOTAL\",\"\",'Arrear Sheet'!J70))","v":""},{"$f":"IF('Arrear Sheet'!K70=\"\",\"\",IF('Arrear Sheet'!C70=\"TOTAL\",\"\",SUM(G70:I70)))","v":""},{"$f":"IF('Arrear Sheet'!L70=\"\",\"\",IF('Arrear Sheet'!C70=\"TOTAL\",\"\",'Arrear Sheet'!L70))","v":""},{"$f":"IF('Arrear Sheet'!M70=\"\",\"\",IF('Arrear Sheet'!C70=\"TOTAL\",\"\",'Arrear Sheet'!M70))","v":""},{"$f":"IF('Arrear Sheet'!N70=\"\",\"\",IF('Arrear Sheet'!C70=\"TOTAL\",\"\",'Arrear Sheet'!N70))","v":""},{"$f":"IF('Arrear Sheet'!O70=\"\",\"\",IF('Arrear Sheet'!C70=\"TOTAL\",\"\",SUM(K70:M70)))","v":""},{"$f":"IF('Arrear Sheet'!P70=\"\",\"\",IF('Arrear Sheet'!C70=\"TOTAL\",\"\",'Arrear Sheet'!P70))","v":""},{"$f":"IF('Arrear Sheet'!Q70=\"\",\"\",IF('Arrear Sheet'!C70=\"TOTAL\",\"\",'Arrear Sheet'!Q70))","v":""},{"$f":"IF('Arrear Sheet'!R70=\"\",\"\",IF('Arrear Sheet'!C70=\"TOTAL\",\"\",'Arrear Sheet'!R70))","v":""},{"$f":"IF('Arrear Sheet'!S70=\"\",\"\",IF('Arrear Sheet'!C70=\"TOTAL\",\"\",'Arrear Sheet'!S70))","v":""},{"$f":"IF('Arrear Sheet'!T70=\"\",\"\",IF('Arrear Sheet'!C70=\"TOTAL\",\"\",'Arrear Sheet'!T70))","v":""},{"$f":"IF('Arrear Sheet'!U70=\"\",\"\",IF('Arrear Sheet'!C70=\"TOTAL\",\"\",'Arrear Sheet'!U70))","v":""},{"$f":"IF('Arrear Sheet'!V70=\"\",\"\",IF('Arrear Sheet'!C70=\"TOTAL\",\"\",'Arrear Sheet'!V70))","v":""},{"$f":"IF('Arrear Sheet'!W70=\"\",\"\",IF('Arrear Sheet'!C70=\"TOTAL\",\"\",'Arrear Sheet'!W70))","v":""},{"$f":"IF('Arrear Sheet'!X70=\"\",\"\",IF('Arrear Sheet'!C70=\"TOTAL\",\"\",'Arrear Sheet'!X70))","v":""},{"$f":"IF('Arrear Sheet'!Y70=\"\",\"\",IF('Arrear Sheet'!C70=\"TOTAL\",\"\",'Arrear Sheet'!Y70))","v":""},{"$f":"IF('Arrear Sheet'!Z70=\"\",\"\",IF('Arrear Sheet'!C70=\"TOTAL\",\"\",'Arrear Sheet'!Z70))","v":""},{"$f":"IF('Arrear Sheet'!AA70=\"\",\"\",IF('Arrear Sheet'!C70=\"TOTAL\",\"\",'Arrear Sheet'!AA70))","v":""},{"$f":"IF('Arrear Sheet'!AB70=\"\",\"\",IF('Arrear Sheet'!C70=\"TOTAL\",\"\",'Arrear Sheet'!AB70))","v":""},{"$f":"IF('Arrear Sheet'!AC70=\"\",\"\",IF('Arrear Sheet'!C70=\"TOTAL\",\"\",'Arrear Sheet'!AC70))","v":""},{"$f":"IF('Arrear Sheet'!AD70=\"\",\"\",IF('Arrear Sheet'!C70=\"TOTAL\",\"\",'Arrear Sheet'!AD70))","v":""},{"$f":"IF('Arrear Sheet'!AE70=\"\",\"\",IF('Arrear Sheet'!C70=\"TOTAL\",\"\",SUM(N70-AC70)))","v":""}]
[{"$f":"IF('Arrear Sheet'!B71=\"\",\"\",'Arrear Sheet'!B71)","v":""},{"$f":"IF('Arrear Sheet'!C71=\"\",\"\",IF('Arrear Sheet'!C71=\"TOTAL\",\"\",'Arrear Sheet'!C71))","v":""},{"$f":"IF('Arrear Sheet'!D71=\"\",\"\",IF('Arrear Sheet'!C71=\"TOTAL\",\"\",IF('Arrear Sheet'!D71=\"अक्षरें राशि :-\",\"\",'Arrear Sheet'!D71)))","v":""},{"$f":"IF('Arrear Sheet'!E71=\"\",\"\",IF('Arrear Sheet'!C71=\"TOTAL\",\"\",'Arrear Sheet'!E71))","v":""},{"$f":"IF('Arrear Sheet'!F71=\"\",\"\",IF('Arrear Sheet'!C71=\"TOTAL\",\"\",'Arrear Sheet'!F71))","v":""},{"$f":"IF('Arrear Sheet'!G71=\"\",\"\",IF('Arrear Sheet'!C71=\"TOTAL\",\"\",SUM(C71:E71)))","v":""},{"$f":"IF('Arrear Sheet'!H71=\"\",\"\",IF('Arrear Sheet'!C71=\"TOTAL\",\"\",'Arrear Sheet'!H71))","v":""},{"$f":"IF('Arrear Sheet'!I71=\"\",\"\",IF('Arrear Sheet'!C71=\"TOTAL\",\"\",'Arrear Sheet'!I71))","v":""},{"$f":"IF('Arrear Sheet'!J71=\"\",\"\",IF('Arrear Sheet'!C71=\"TOTAL\",\"\",'Arrear Sheet'!J71))","v":""},{"$f":"IF('Arrear Sheet'!K71=\"\",\"\",IF('Arrear Sheet'!C71=\"TOTAL\",\"\",SUM(G71:I71)))","v":""},{"$f":"IF('Arrear Sheet'!L71=\"\",\"\",IF('Arrear Sheet'!C71=\"TOTAL\",\"\",'Arrear Sheet'!L71))","v":""},{"$f":"IF('Arrear Sheet'!M71=\"\",\"\",IF('Arrear Sheet'!C71=\"TOTAL\",\"\",'Arrear Sheet'!M71))","v":""},{"$f":"IF('Arrear Sheet'!N71=\"\",\"\",IF('Arrear Sheet'!C71=\"TOTAL\",\"\",'Arrear Sheet'!N71))","v":""},{"$f":"IF('Arrear Sheet'!O71=\"\",\"\",IF('Arrear Sheet'!C71=\"TOTAL\",\"\",SUM(K71:M71)))","v":""},{"$f":"IF('Arrear Sheet'!P71=\"\",\"\",IF('Arrear Sheet'!C71=\"TOTAL\",\"\",'Arrear Sheet'!P71))","v":""},{"$f":"IF('Arrear Sheet'!Q71=\"\",\"\",IF('Arrear Sheet'!C71=\"TOTAL\",\"\",'Arrear Sheet'!Q71))","v":""},{"$f":"IF('Arrear Sheet'!R71=\"\",\"\",IF('Arrear Sheet'!C71=\"TOTAL\",\"\",'Arrear Sheet'!R71))","v":""},{"$f":"IF('Arrear Sheet'!S71=\"\",\"\",IF('Arrear Sheet'!C71=\"TOTAL\",\"\",'Arrear Sheet'!S71))","v":""},{"$f":"IF('Arrear Sheet'!T71=\"\",\"\",IF('Arrear Sheet'!C71=\"TOTAL\",\"\",'Arrear Sheet'!T71))","v":""},{"$f":"IF('Arrear Sheet'!U71=\"\",\"\",IF('Arrear Sheet'!C71=\"TOTAL\",\"\",'Arrear Sheet'!U71))","v":""},{"$f":"IF('Arrear Sheet'!V71=\"\",\"\",IF('Arrear Sheet'!C71=\"TOTAL\",\"\",'Arrear Sheet'!V71))","v":""},{"$f":"IF('Arrear Sheet'!W71=\"\",\"\",IF('Arrear Sheet'!C71=\"TOTAL\",\"\",'Arrear Sheet'!W71))","v":""},{"$f":"IF('Arrear Sheet'!X71=\"\",\"\",IF('Arrear Sheet'!C71=\"TOTAL\",\"\",'Arrear Sheet'!X71))","v":""},{"$f":"IF('Arrear Sheet'!Y71=\"\",\"\",IF('Arrear Sheet'!C71=\"TOTAL\",\"\",'Arrear Sheet'!Y71))","v":""},{"$f":"IF('Arrear Sheet'!Z71=\"\",\"\",IF('Arrear Sheet'!C71=\"TOTAL\",\"\",'Arrear Sheet'!Z71))","v":""},{"$f":"IF('Arrear Sheet'!AA71=\"\",\"\",IF('Arrear Sheet'!C71=\"TOTAL\",\"\",'Arrear Sheet'!AA71))","v":""},{"$f":"IF('Arrear Sheet'!AB71=\"\",\"\",IF('Arrear Sheet'!C71=\"TOTAL\",\"\",'Arrear Sheet'!AB71))","v":""},{"$f":"IF('Arrear Sheet'!AC71=\"\",\"\",IF('Arrear Sheet'!C71=\"TOTAL\",\"\",'Arrear Sheet'!AC71))","v":""},{"$f":"IF('Arrear Sheet'!AD71=\"\",\"\",IF('Arrear Sheet'!C71=\"TOTAL\",\"\",'Arrear Sheet'!AD71))","v":""},{"$f":"IF('Arrear Sheet'!AE71=\"\",\"\",IF('Arrear Sheet'!C71=\"TOTAL\",\"\",SUM(N71-AC71)))","v":""}]
[{"$f":"IF('Arrear Sheet'!B72=\"\",\"\",'Arrear Sheet'!B72)","v":""},{"$f":"IF('Arrear Sheet'!C72=\"\",\"\",IF('Arrear Sheet'!C72=\"TOTAL\",\"\",'Arrear Sheet'!C72))","v":""},{"$f":"IF('Arrear Sheet'!D72=\"\",\"\",IF('Arrear Sheet'!C72=\"TOTAL\",\"\",IF('Arrear Sheet'!D72=\"अक्षरें राशि :-\",\"\",'Arrear Sheet'!D72)))","v":""},{"$f":"IF('Arrear Sheet'!E72=\"\",\"\",IF('Arrear Sheet'!C72=\"TOTAL\",\"\",'Arrear Sheet'!E72))","v":""},{"$f":"IF('Arrear Sheet'!F72=\"\",\"\",IF('Arrear Sheet'!C72=\"TOTAL\",\"\",'Arrear Sheet'!F72))","v":""},{"$f":"IF('Arrear Sheet'!G72=\"\",\"\",IF('Arrear Sheet'!C72=\"TOTAL\",\"\",SUM(C72:E72)))","v":""},{"$f":"IF('Arrear Sheet'!H72=\"\",\"\",IF('Arrear Sheet'!C72=\"TOTAL\",\"\",'Arrear Sheet'!H72))","v":""},{"$f":"IF('Arrear Sheet'!I72=\"\",\"\",IF('Arrear Sheet'!C72=\"TOTAL\",\"\",'Arrear Sheet'!I72))","v":""},{"$f":"IF('Arrear Sheet'!J72=\"\",\"\",IF('Arrear Sheet'!C72=\"TOTAL\",\"\",'Arrear Sheet'!J72))","v":""},{"$f":"IF('Arrear Sheet'!K72=\"\",\"\",IF('Arrear Sheet'!C72=\"TOTAL\",\"\",SUM(G72:I72)))","v":""},{"$f":"IF('Arrear Sheet'!L72=\"\",\"\",IF('Arrear Sheet'!C72=\"TOTAL\",\"\",'Arrear Sheet'!L72))","v":""},{"$f":"IF('Arrear Sheet'!M72=\"\",\"\",IF('Arrear Sheet'!C72=\"TOTAL\",\"\",'Arrear Sheet'!M72))","v":""},{"$f":"IF('Arrear Sheet'!N72=\"\",\"\",IF('Arrear Sheet'!C72=\"TOTAL\",\"\",'Arrear Sheet'!N72))","v":""},{"$f":"IF('Arrear Sheet'!O72=\"\",\"\",IF('Arrear Sheet'!C72=\"TOTAL\",\"\",SUM(K72:M72)))","v":""},{"$f":"IF('Arrear Sheet'!P72=\"\",\"\",IF('Arrear Sheet'!C72=\"TOTAL\",\"\",'Arrear Sheet'!P72))","v":""},{"$f":"IF('Arrear Sheet'!Q72=\"\",\"\",IF('Arrear Sheet'!C72=\"TOTAL\",\"\",'Arrear Sheet'!Q72))","v":""},{"$f":"IF('Arrear Sheet'!R72=\"\",\"\",IF('Arrear Sheet'!C72=\"TOTAL\",\"\",'Arrear Sheet'!R72))","v":""},{"$f":"IF('Arrear Sheet'!S72=\"\",\"\",IF('Arrear Sheet'!C72=\"TOTAL\",\"\",'Arrear Sheet'!S72))","v":""},{"$f":"IF('Arrear Sheet'!T72=\"\",\"\",IF('Arrear Sheet'!C72=\"TOTAL\",\"\",'Arrear Sheet'!T72))","v":""},{"$f":"IF('Arrear Sheet'!U72=\"\",\"\",IF('Arrear Sheet'!C72=\"TOTAL\",\"\",'Arrear Sheet'!U72))","v":""},{"$f":"IF('Arrear Sheet'!V72=\"\",\"\",IF('Arrear Sheet'!C72=\"TOTAL\",\"\",'Arrear Sheet'!V72))","v":""},{"$f":"IF('Arrear Sheet'!W72=\"\",\"\",IF('Arrear Sheet'!C72=\"TOTAL\",\"\",'Arrear Sheet'!W72))","v":""},{"$f":"IF('Arrear Sheet'!X72=\"\",\"\",IF('Arrear Sheet'!C72=\"TOTAL\",\"\",'Arrear Sheet'!X72))","v":""},{"$f":"IF('Arrear Sheet'!Y72=\"\",\"\",IF('Arrear Sheet'!C72=\"TOTAL\",\"\",'Arrear Sheet'!Y72))","v":""},{"$f":"IF('Arrear Sheet'!Z72=\"\",\"\",IF('Arrear Sheet'!C72=\"TOTAL\",\"\",'Arrear Sheet'!Z72))","v":""},{"$f":"IF('Arrear Sheet'!AA72=\"\",\"\",IF('Arrear Sheet'!C72=\"TOTAL\",\"\",'Arrear Sheet'!AA72))","v":""},{"$f":"IF('Arrear Sheet'!AB72=\"\",\"\",IF('Arrear Sheet'!C72=\"TOTAL\",\"\",'Arrear Sheet'!AB72))","v":""},{"$f":"IF('Arrear Sheet'!AC72=\"\",\"\",IF('Arrear Sheet'!C72=\"TOTAL\",\"\",'Arrear Sheet'!AC72))","v":""},{"$f":"IF('Arrear Sheet'!AD72=\"\",\"\",IF('Arrear Sheet'!C72=\"TOTAL\",\"\",'Arrear Sheet'!AD72))","v":""},{"$f":"IF('Arrear Sheet'!AE72=\"\",\"\",IF('Arrear Sheet'!C72=\"TOTAL\",\"\",SUM(N72-AC72)))","v":""}]
[{"$f":"IF('Arrear Sheet'!B73=\"\",\"\",'Arrear Sheet'!B73)","v":""},{"$f":"IF('Arrear Sheet'!C73=\"\",\"\",IF('Arrear Sheet'!C73=\"TOTAL\",\"\",'Arrear Sheet'!C73))","v":""},{"$f":"IF('Arrear Sheet'!D73=\"\",\"\",IF('Arrear Sheet'!C73=\"TOTAL\",\"\",IF('Arrear Sheet'!D73=\"अक्षरें राशि :-\",\"\",'Arrear Sheet'!D73)))","v":""},{"$f":"IF('Arrear Sheet'!E73=\"\",\"\",IF('Arrear Sheet'!C73=\"TOTAL\",\"\",'Arrear Sheet'!E73))","v":""},{"$f":"IF('Arrear Sheet'!F73=\"\",\"\",IF('Arrear Sheet'!C73=\"TOTAL\",\"\",'Arrear Sheet'!F73))","v":""},{"$f":"IF('Arrear Sheet'!G73=\"\",\"\",IF('Arrear Sheet'!C73=\"TOTAL\",\"\",SUM(C73:E73)))","v":""},{"$f":"IF('Arrear Sheet'!H73=\"\",\"\",IF('Arrear Sheet'!C73=\"TOTAL\",\"\",'Arrear Sheet'!H73))","v":""},{"$f":"IF('Arrear Sheet'!I73=\"\",\"\",IF('Arrear Sheet'!C73=\"TOTAL\",\"\",'Arrear Sheet'!I73))","v":""},{"$f":"IF('Arrear Sheet'!J73=\"\",\"\",IF('Arrear Sheet'!C73=\"TOTAL\",\"\",'Arrear Sheet'!J73))","v":""},{"$f":"IF('Arrear Sheet'!K73=\"\",\"\",IF('Arrear Sheet'!C73=\"TOTAL\",\"\",SUM(G73:I73)))","v":""},{"$f":"IF('Arrear Sheet'!L73=\"\",\"\",IF('Arrear Sheet'!C73=\"TOTAL\",\"\",'Arrear Sheet'!L73))","v":""},{"$f":"IF('Arrear Sheet'!M73=\"\",\"\",IF('Arrear Sheet'!C73=\"TOTAL\",\"\",'Arrear Sheet'!M73))","v":""},{"$f":"IF('Arrear Sheet'!N73=\"\",\"\",IF('Arrear Sheet'!C73=\"TOTAL\",\"\",'Arrear Sheet'!N73))","v":""},{"$f":"IF('Arrear Sheet'!O73=\"\",\"\",IF('Arrear Sheet'!C73=\"TOTAL\",\"\",SUM(K73:M73)))","v":""},{"$f":"IF('Arrear Sheet'!P73=\"\",\"\",IF('Arrear Sheet'!C73=\"TOTAL\",\"\",'Arrear Sheet'!P73))","v":""},{"$f":"IF('Arrear Sheet'!Q73=\"\",\"\",IF('Arrear Sheet'!C73=\"TOTAL\",\"\",'Arrear Sheet'!Q73))","v":""},{"$f":"IF('Arrear Sheet'!R73=\"\",\"\",IF('Arrear Sheet'!C73=\"TOTAL\",\"\",'Arrear Sheet'!R73))","v":""},{"$f":"IF('Arrear Sheet'!S73=\"\",\"\",IF('Arrear Sheet'!C73=\"TOTAL\",\"\",'Arrear Sheet'!S73))","v":""},{"$f":"IF('Arrear Sheet'!T73=\"\",\"\",IF('Arrear Sheet'!C73=\"TOTAL\",\"\",'Arrear Sheet'!T73))","v":""},{"$f":"IF('Arrear Sheet'!U73=\"\",\"\",IF('Arrear Sheet'!C73=\"TOTAL\",\"\",'Arrear Sheet'!U73))","v":""},{"$f":"IF('Arrear Sheet'!V73=\"\",\"\",IF('Arrear Sheet'!C73=\"TOTAL\",\"\",'Arrear Sheet'!V73))","v":""},{"$f":"IF('Arrear Sheet'!W73=\"\",\"\",IF('Arrear Sheet'!C73=\"TOTAL\",\"\",'Arrear Sheet'!W73))","v":""},{"$f":"IF('Arrear Sheet'!X73=\"\",\"\",IF('Arrear Sheet'!C73=\"TOTAL\",\"\",'Arrear Sheet'!X73))","v":""},{"$f":"IF('Arrear Sheet'!Y73=\"\",\"\",IF('Arrear Sheet'!C73=\"TOTAL\",\"\",'Arrear Sheet'!Y73))","v":""},{"$f":"IF('Arrear Sheet'!Z73=\"\",\"\",IF('Arrear Sheet'!C73=\"TOTAL\",\"\",'Arrear Sheet'!Z73))","v":""},{"$f":"IF('Arrear Sheet'!AA73=\"\",\"\",IF('Arrear Sheet'!C73=\"TOTAL\",\"\",'Arrear Sheet'!AA73))","v":""},{"$f":"IF('Arrear Sheet'!AB73=\"\",\"\",IF('Arrear Sheet'!C73=\"TOTAL\",\"\",'Arrear Sheet'!AB73))","v":""},{"$f":"IF('Arrear Sheet'!AC73=\"\",\"\",IF('Arrear Sheet'!C73=\"TOTAL\",\"\",'Arrear Sheet'!AC73))","v":""},{"$f":"IF('Arrear Sheet'!AD73=\"\",\"\",IF('Arrear Sheet'!C73=\"TOTAL\",\"\",'Arrear Sheet'!AD73))","v":""},{"$f":"IF('Arrear Sheet'!AE73=\"\",\"\",IF('Arrear Sheet'!C73=\"TOTAL\",\"\",SUM(N73-AC73)))","v":""}]
[{"$f":"IF('Arrear Sheet'!B74=\"\",\"\",'Arrear Sheet'!B74)","v":""},{"$f":"IF('Arrear Sheet'!C74=\"\",\"\",IF('Arrear Sheet'!C74=\"TOTAL\",\"\",'Arrear Sheet'!C74))","v":""},{"$f":"IF('Arrear Sheet'!D74=\"\",\"\",IF('Arrear Sheet'!C74=\"TOTAL\",\"\",IF('Arrear Sheet'!D74=\"अक्षरें राशि :-\",\"\",'Arrear Sheet'!D74)))","v":""},{"$f":"IF('Arrear Sheet'!E74=\"\",\"\",IF('Arrear Sheet'!C74=\"TOTAL\",\"\",'Arrear Sheet'!E74))","v":""},{"$f":"IF('Arrear Sheet'!F74=\"\",\"\",IF('Arrear Sheet'!C74=\"TOTAL\",\"\",'Arrear Sheet'!F74))","v":""},{"$f":"IF('Arrear Sheet'!G74=\"\",\"\",IF('Arrear Sheet'!C74=\"TOTAL\",\"\",SUM(C74:E74)))","v":""},{"$f":"IF('Arrear Sheet'!H74=\"\",\"\",IF('Arrear Sheet'!C74=\"TOTAL\",\"\",'Arrear Sheet'!H74))","v":""},{"$f":"IF('Arrear Sheet'!I74=\"\",\"\",IF('Arrear Sheet'!C74=\"TOTAL\",\"\",'Arrear Sheet'!I74))","v":""},{"$f":"IF('Arrear Sheet'!J74=\"\",\"\",IF('Arrear Sheet'!C74=\"TOTAL\",\"\",'Arrear Sheet'!J74))","v":""},{"$f":"IF('Arrear Sheet'!K74=\"\",\"\",IF('Arrear Sheet'!C74=\"TOTAL\",\"\",SUM(G74:I74)))","v":""},{"$f":"IF('Arrear Sheet'!L74=\"\",\"\",IF('Arrear Sheet'!C74=\"TOTAL\",\"\",'Arrear Sheet'!L74))","v":""},{"$f":"IF('Arrear Sheet'!M74=\"\",\"\",IF('Arrear Sheet'!C74=\"TOTAL\",\"\",'Arrear Sheet'!M74))","v":""},{"$f":"IF('Arrear Sheet'!N74=\"\",\"\",IF('Arrear Sheet'!C74=\"TOTAL\",\"\",'Arrear Sheet'!N74))","v":""},{"$f":"IF('Arrear Sheet'!O74=\"\",\"\",IF('Arrear Sheet'!C74=\"TOTAL\",\"\",SUM(K74:M74)))","v":""},{"$f":"IF('Arrear Sheet'!P74=\"\",\"\",IF('Arrear Sheet'!C74=\"TOTAL\",\"\",'Arrear Sheet'!P74))","v":""},{"$f":"IF('Arrear Sheet'!Q74=\"\",\"\",IF('Arrear Sheet'!C74=\"TOTAL\",\"\",'Arrear Sheet'!Q74))","v":""},{"$f":"IF('Arrear Sheet'!R74=\"\",\"\",IF('Arrear Sheet'!C74=\"TOTAL\",\"\",'Arrear Sheet'!R74))","v":""},{"$f":"IF('Arrear Sheet'!S74=\"\",\"\",IF('Arrear Sheet'!C74=\"TOTAL\",\"\",'Arrear Sheet'!S74))","v":""},{"$f":"IF('Arrear Sheet'!T74=\"\",\"\",IF('Arrear Sheet'!C74=\"TOTAL\",\"\",'Arrear Sheet'!T74))","v":""},{"$f":"IF('Arrear Sheet'!U74=\"\",\"\",IF('Arrear Sheet'!C74=\"TOTAL\",\"\",'Arrear Sheet'!U74))","v":""},{"$f":"IF('Arrear Sheet'!V74=\"\",\"\",IF('Arrear Sheet'!C74=\"TOTAL\",\"\",'Arrear Sheet'!V74))","v":""},{"$f":"IF('Arrear Sheet'!W74=\"\",\"\",IF('Arrear Sheet'!C74=\"TOTAL\",\"\",'Arrear Sheet'!W74))","v":""},{"$f":"IF('Arrear Sheet'!X74=\"\",\"\",IF('Arrear Sheet'!C74=\"TOTAL\",\"\",'Arrear Sheet'!X74))","v":""},{"$f":"IF('Arrear Sheet'!Y74=\"\",\"\",IF('Arrear Sheet'!C74=\"TOTAL\",\"\",'Arrear Sheet'!Y74))","v":""},{"$f":"IF('Arrear Sheet'!Z74=\"\",\"\",IF('Arrear Sheet'!C74=\"TOTAL\",\"\",'Arrear Sheet'!Z74))","v":""},{"$f":"IF('Arrear Sheet'!AA74=\"\",\"\",IF('Arrear Sheet'!C74=\"TOTAL\",\"\",'Arrear Sheet'!AA74))","v":""},{"$f":"IF('Arrear Sheet'!AB74=\"\",\"\",IF('Arrear Sheet'!C74=\"TOTAL\",\"\",'Arrear Sheet'!AB74))","v":""},{"$f":"IF('Arrear Sheet'!AC74=\"\",\"\",IF('Arrear Sheet'!C74=\"TOTAL\",\"\",'Arrear Sheet'!AC74))","v":""},{"$f":"IF('Arrear Sheet'!AD74=\"\",\"\",IF('Arrear Sheet'!C74=\"TOTAL\",\"\",'Arrear Sheet'!AD74))","v":""},{"$f":"IF('Arrear Sheet'!AE74=\"\",\"\",IF('Arrear Sheet'!C74=\"TOTAL\",\"\",SUM(N74-AC74)))","v":""}]
[{"$f":"IF('Arrear Sheet'!B75=\"\",\"\",'Arrear Sheet'!B75)","v":""},{"$f":"IF('Arrear Sheet'!C75=\"\",\"\",IF('Arrear Sheet'!C75=\"TOTAL\",\"\",'Arrear Sheet'!C75))","v":""},{"$f":"IF('Arrear Sheet'!D75=\"\",\"\",IF('Arrear Sheet'!C75=\"TOTAL\",\"\",IF('Arrear Sheet'!D75=\"अक्षरें राशि :-\",\"\",'Arrear Sheet'!D75)))","v":""},{"$f":"IF('Arrear Sheet'!E75=\"\",\"\",IF('Arrear Sheet'!C75=\"TOTAL\",\"\",'Arrear Sheet'!E75))","v":""},{"$f":"IF('Arrear Sheet'!F75=\"\",\"\",IF('Arrear Sheet'!C75=\"TOTAL\",\"\",'Arrear Sheet'!F75))","v":""},{"$f":"IF('Arrear Sheet'!G75=\"\",\"\",IF('Arrear Sheet'!C75=\"TOTAL\",\"\",SUM(C75:E75)))","v":""},{"$f":"IF('Arrear Sheet'!H75=\"\",\"\",IF('Arrear Sheet'!C75=\"TOTAL\",\"\",'Arrear Sheet'!H75))","v":""},{"$f":"IF('Arrear Sheet'!I75=\"\",\"\",IF('Arrear Sheet'!C75=\"TOTAL\",\"\",'Arrear Sheet'!I75))","v":""},{"$f":"IF('Arrear Sheet'!J75=\"\",\"\",IF('Arrear Sheet'!C75=\"TOTAL\",\"\",'Arrear Sheet'!J75))","v":""},{"$f":"IF('Arrear Sheet'!K75=\"\",\"\",IF('Arrear Sheet'!C75=\"TOTAL\",\"\",SUM(G75:I75)))","v":""},{"$f":"IF('Arrear Sheet'!L75=\"\",\"\",IF('Arrear Sheet'!C75=\"TOTAL\",\"\",'Arrear Sheet'!L75))","v":""},{"$f":"IF('Arrear Sheet'!M75=\"\",\"\",IF('Arrear Sheet'!C75=\"TOTAL\",\"\",'Arrear Sheet'!M75))","v":""},{"$f":"IF('Arrear Sheet'!N75=\"\",\"\",IF('Arrear Sheet'!C75=\"TOTAL\",\"\",'Arrear Sheet'!N75))","v":""},{"$f":"IF('Arrear Sheet'!O75=\"\",\"\",IF('Arrear Sheet'!C75=\"TOTAL\",\"\",SUM(K75:M75)))","v":""},{"$f":"IF('Arrear Sheet'!P75=\"\",\"\",IF('Arrear Sheet'!C75=\"TOTAL\",\"\",'Arrear Sheet'!P75))","v":""},{"$f":"IF('Arrear Sheet'!Q75=\"\",\"\",IF('Arrear Sheet'!C75=\"TOTAL\",\"\",'Arrear Sheet'!Q75))","v":""},{"$f":"IF('Arrear Sheet'!R75=\"\",\"\",IF('Arrear Sheet'!C75=\"TOTAL\",\"\",'Arrear Sheet'!R75))","v":""},{"$f":"IF('Arrear Sheet'!S75=\"\",\"\",IF('Arrear Sheet'!C75=\"TOTAL\",\"\",'Arrear Sheet'!S75))","v":""},{"$f":"IF('Arrear Sheet'!T75=\"\",\"\",IF('Arrear Sheet'!C75=\"TOTAL\",\"\",'Arrear Sheet'!T75))","v":""},{"$f":"IF('Arrear Sheet'!U75=\"\",\"\",IF('Arrear Sheet'!C75=\"TOTAL\",\"\",'Arrear Sheet'!U75))","v":""},{"$f":"IF('Arrear Sheet'!V75=\"\",\"\",IF('Arrear Sheet'!C75=\"TOTAL\",\"\",'Arrear Sheet'!V75))","v":""},{"$f":"IF('Arrear Sheet'!W75=\"\",\"\",IF('Arrear Sheet'!C75=\"TOTAL\",\"\",'Arrear Sheet'!W75))","v":""},{"$f":"IF('Arrear Sheet'!X75=\"\",\"\",IF('Arrear Sheet'!C75=\"TOTAL\",\"\",'Arrear Sheet'!X75))","v":""},{"$f":"IF('Arrear Sheet'!Y75=\"\",\"\",IF('Arrear Sheet'!C75=\"TOTAL\",\"\",'Arrear Sheet'!Y75))","v":""},{"$f":"IF('Arrear Sheet'!Z75=\"\",\"\",IF('Arrear Sheet'!C75=\"TOTAL\",\"\",'Arrear Sheet'!Z75))","v":""},{"$f":"IF('Arrear Sheet'!AA75=\"\",\"\",IF('Arrear Sheet'!C75=\"TOTAL\",\"\",'Arrear Sheet'!AA75))","v":""},{"$f":"IF('Arrear Sheet'!AB75=\"\",\"\",IF('Arrear Sheet'!C75=\"TOTAL\",\"\",'Arrear Sheet'!AB75))","v":""},{"$f":"IF('Arrear Sheet'!AC75=\"\",\"\",IF('Arrear Sheet'!C75=\"TOTAL\",\"\",'Arrear Sheet'!AC75))","v":""},{"$f":"IF('Arrear Sheet'!AD75=\"\",\"\",IF('Arrear Sheet'!C75=\"TOTAL\",\"\",'Arrear Sheet'!AD75))","v":""},{"$f":"IF('Arrear Sheet'!AE75=\"\",\"\",IF('Arrear Sheet'!C75=\"TOTAL\",\"\",SUM(N75-AC75)))","v":""}]
[{"$f":"IF('Arrear Sheet'!B76=\"\",\"\",'Arrear Sheet'!B76)","v":""},{"$f":"IF('Arrear Sheet'!C76=\"\",\"\",IF('Arrear Sheet'!C76=\"TOTAL\",\"\",'Arrear Sheet'!C76))","v":""},{"$f":"IF('Arrear Sheet'!D76=\"\",\"\",IF('Arrear Sheet'!C76=\"TOTAL\",\"\",IF('Arrear Sheet'!D76=\"अक्षरें राशि :-\",\"\",'Arrear Sheet'!D76)))","v":""},{"$f":"IF('Arrear Sheet'!E76=\"\",\"\",IF('Arrear Sheet'!C76=\"TOTAL\",\"\",'Arrear Sheet'!E76))","v":""},{"$f":"IF('Arrear Sheet'!F76=\"\",\"\",IF('Arrear Sheet'!C76=\"TOTAL\",\"\",'Arrear Sheet'!F76))","v":""},{"$f":"IF('Arrear Sheet'!G76=\"\",\"\",IF('Arrear Sheet'!C76=\"TOTAL\",\"\",SUM(C76:E76)))","v":""},{"$f":"IF('Arrear Sheet'!H76=\"\",\"\",IF('Arrear Sheet'!C76=\"TOTAL\",\"\",'Arrear Sheet'!H76))","v":""},{"$f":"IF('Arrear Sheet'!I76=\"\",\"\",IF('Arrear Sheet'!C76=\"TOTAL\",\"\",'Arrear Sheet'!I76))","v":""},{"$f":"IF('Arrear Sheet'!J76=\"\",\"\",IF('Arrear Sheet'!C76=\"TOTAL\",\"\",'Arrear Sheet'!J76))","v":""},{"$f":"IF('Arrear Sheet'!K76=\"\",\"\",IF('Arrear Sheet'!C76=\"TOTAL\",\"\",SUM(G76:I76)))","v":""},{"$f":"IF('Arrear Sheet'!L76=\"\",\"\",IF('Arrear Sheet'!C76=\"TOTAL\",\"\",'Arrear Sheet'!L76))","v":""},{"$f":"IF('Arrear Sheet'!M76=\"\",\"\",IF('Arrear Sheet'!C76=\"TOTAL\",\"\",'Arrear Sheet'!M76))","v":""},{"$f":"IF('Arrear Sheet'!N76=\"\",\"\",IF('Arrear Sheet'!C76=\"TOTAL\",\"\",'Arrear Sheet'!N76))","v":""},{"$f":"IF('Arrear Sheet'!O76=\"\",\"\",IF('Arrear Sheet'!C76=\"TOTAL\",\"\",SUM(K76:M76)))","v":""},{"$f":"IF('Arrear Sheet'!P76=\"\",\"\",IF('Arrear Sheet'!C76=\"TOTAL\",\"\",'Arrear Sheet'!P76))","v":""},{"$f":"IF('Arrear Sheet'!Q76=\"\",\"\",IF('Arrear Sheet'!C76=\"TOTAL\",\"\",'Arrear Sheet'!Q76))","v":""},{"$f":"IF('Arrear Sheet'!R76=\"\",\"\",IF('Arrear Sheet'!C76=\"TOTAL\",\"\",'Arrear Sheet'!R76))","v":""},{"$f":"IF('Arrear Sheet'!S76=\"\",\"\",IF('Arrear Sheet'!C76=\"TOTAL\",\"\",'Arrear Sheet'!S76))","v":""},{"$f":"IF('Arrear Sheet'!T76=\"\",\"\",IF('Arrear Sheet'!C76=\"TOTAL\",\"\",'Arrear Sheet'!T76))","v":""},{"$f":"IF('Arrear Sheet'!U76=\"\",\"\",IF('Arrear Sheet'!C76=\"TOTAL\",\"\",'Arrear Sheet'!U76))","v":""},{"$f":"IF('Arrear Sheet'!V76=\"\",\"\",IF('Arrear Sheet'!C76=\"TOTAL\",\"\",'Arrear Sheet'!V76))","v":""},{"$f":"IF('Arrear Sheet'!W76=\"\",\"\",IF('Arrear Sheet'!C76=\"TOTAL\",\"\",'Arrear Sheet'!W76))","v":""},{"$f":"IF('Arrear Sheet'!X76=\"\",\"\",IF('Arrear Sheet'!C76=\"TOTAL\",\"\",'Arrear Sheet'!X76))","v":""},{"$f":"IF('Arrear Sheet'!Y76=\"\",\"\",IF('Arrear Sheet'!C76=\"TOTAL\",\"\",'Arrear Sheet'!Y76))","v":""},{"$f":"IF('Arrear Sheet'!Z76=\"\",\"\",IF('Arrear Sheet'!C76=\"TOTAL\",\"\",'Arrear Sheet'!Z76))","v":""},{"$f":"IF('Arrear Sheet'!AA76=\"\",\"\",IF('Arrear Sheet'!C76=\"TOTAL\",\"\",'Arrear Sheet'!AA76))","v":""},{"$f":"IF('Arrear Sheet'!AB76=\"\",\"\",IF('Arrear Sheet'!C76=\"TOTAL\",\"\",'Arrear Sheet'!AB76))","v":""},{"$f":"IF('Arrear Sheet'!AC76=\"\",\"\",IF('Arrear Sheet'!C76=\"TOTAL\",\"\",'Arrear Sheet'!AC76))","v":""},{"$f":"IF('Arrear Sheet'!AD76=\"\",\"\",IF('Arrear Sheet'!C76=\"TOTAL\",\"\",'Arrear Sheet'!AD76))","v":""},{"$f":"IF('Arrear Sheet'!AE76=\"\",\"\",IF('Arrear Sheet'!C76=\"TOTAL\",\"\",SUM(N76-AC76)))","v":""}]
[{"$f":"IF('Arrear Sheet'!B77=\"\",\"\",'Arrear Sheet'!B77)","v":""},{"$f":"IF('Arrear Sheet'!C77=\"\",\"\",IF('Arrear Sheet'!C77=\"TOTAL\",\"\",'Arrear Sheet'!C77))","v":""},{"$f":"IF('Arrear Sheet'!D77=\"\",\"\",IF('Arrear Sheet'!C77=\"TOTAL\",\"\",IF('Arrear Sheet'!D77=\"अक्षरें राशि :-\",\"\",'Arrear Sheet'!D77)))","v":""},{"$f":"IF('Arrear Sheet'!E77=\"\",\"\",IF('Arrear Sheet'!C77=\"TOTAL\",\"\",'Arrear Sheet'!E77))","v":""},{"$f":"IF('Arrear Sheet'!F77=\"\",\"\",IF('Arrear Sheet'!C77=\"TOTAL\",\"\",'Arrear Sheet'!F77))","v":""},{"$f":"IF('Arrear Sheet'!G77=\"\",\"\",IF('Arrear Sheet'!C77=\"TOTAL\",\"\",SUM(C77:E77)))","v":""},{"$f":"IF('Arrear Sheet'!H77=\"\",\"\",IF('Arrear Sheet'!C77=\"TOTAL\",\"\",'Arrear Sheet'!H77))","v":""},{"$f":"IF('Arrear Sheet'!I77=\"\",\"\",IF('Arrear Sheet'!C77=\"TOTAL\",\"\",'Arrear Sheet'!I77))","v":""},{"$f":"IF('Arrear Sheet'!J77=\"\",\"\",IF('Arrear Sheet'!C77=\"TOTAL\",\"\",'Arrear Sheet'!J77))","v":""},{"$f":"IF('Arrear Sheet'!K77=\"\",\"\",IF('Arrear Sheet'!C77=\"TOTAL\",\"\",SUM(G77:I77)))","v":""},{"$f":"IF('Arrear Sheet'!L77=\"\",\"\",IF('Arrear Sheet'!C77=\"TOTAL\",\"\",'Arrear Sheet'!L77))","v":""},{"$f":"IF('Arrear Sheet'!M77=\"\",\"\",IF('Arrear Sheet'!C77=\"TOTAL\",\"\",'Arrear Sheet'!M77))","v":""},{"$f":"IF('Arrear Sheet'!N77=\"\",\"\",IF('Arrear Sheet'!C77=\"TOTAL\",\"\",'Arrear Sheet'!N77))","v":""},{"$f":"IF('Arrear Sheet'!O77=\"\",\"\",IF('Arrear Sheet'!C77=\"TOTAL\",\"\",SUM(K77:M77)))","v":""},{"$f":"IF('Arrear Sheet'!P77=\"\",\"\",IF('Arrear Sheet'!C77=\"TOTAL\",\"\",'Arrear Sheet'!P77))","v":""},{"$f":"IF('Arrear Sheet'!Q77=\"\",\"\",IF('Arrear Sheet'!C77=\"TOTAL\",\"\",'Arrear Sheet'!Q77))","v":""},{"$f":"IF('Arrear Sheet'!R77=\"\",\"\",IF('Arrear Sheet'!C77=\"TOTAL\",\"\",'Arrear Sheet'!R77))","v":""},{"$f":"IF('Arrear Sheet'!S77=\"\",\"\",IF('Arrear Sheet'!C77=\"TOTAL\",\"\",'Arrear Sheet'!S77))","v":""},{"$f":"IF('Arrear Sheet'!T77=\"\",\"\",IF('Arrear Sheet'!C77=\"TOTAL\",\"\",'Arrear Sheet'!T77))","v":""},{"$f":"IF('Arrear Sheet'!U77=\"\",\"\",IF('Arrear Sheet'!C77=\"TOTAL\",\"\",'Arrear Sheet'!U77))","v":""},{"$f":"IF('Arrear Sheet'!V77=\"\",\"\",IF('Arrear Sheet'!C77=\"TOTAL\",\"\",'Arrear Sheet'!V77))","v":""},{"$f":"IF('Arrear Sheet'!W77=\"\",\"\",IF('Arrear Sheet'!C77=\"TOTAL\",\"\",'Arrear Sheet'!W77))","v":""},{"$f":"IF('Arrear Sheet'!X77=\"\",\"\",IF('Arrear Sheet'!C77=\"TOTAL\",\"\",'Arrear Sheet'!X77))","v":""},{"$f":"IF('Arrear Sheet'!Y77=\"\",\"\",IF('Arrear Sheet'!C77=\"TOTAL\",\"\",'Arrear Sheet'!Y77))","v":""},{"$f":"IF('Arrear Sheet'!Z77=\"\",\"\",IF('Arrear Sheet'!C77=\"TOTAL\",\"\",'Arrear Sheet'!Z77))","v":""},{"$f":"IF('Arrear Sheet'!AA77=\"\",\"\",IF('Arrear Sheet'!C77=\"TOTAL\",\"\",'Arrear Sheet'!AA77))","v":""},{"$f":"IF('Arrear Sheet'!AB77=\"\",\"\",IF('Arrear Sheet'!C77=\"TOTAL\",\"\",'Arrear Sheet'!AB77))","v":""},{"$f":"IF('Arrear Sheet'!AC77=\"\",\"\",IF('Arrear Sheet'!C77=\"TOTAL\",\"\",'Arrear Sheet'!AC77))","v":""},{"$f":"IF('Arrear Sheet'!AD77=\"\",\"\",IF('Arrear Sheet'!C77=\"TOTAL\",\"\",'Arrear Sheet'!AD77))","v":""},{"$f":"IF('Arrear Sheet'!AE77=\"\",\"\",IF('Arrear Sheet'!C77=\"TOTAL\",\"\",SUM(N77-AC77)))","v":""}]
[{"$f":"IF('Arrear Sheet'!B78=\"\",\"\",'Arrear Sheet'!B78)","v":""},{"$f":"IF('Arrear Sheet'!C78=\"\",\"\",IF('Arrear Sheet'!C78=\"TOTAL\",\"\",'Arrear Sheet'!C78))","v":""},{"$f":"IF('Arrear Sheet'!D78=\"\",\"\",IF('Arrear Sheet'!C78=\"TOTAL\",\"\",IF('Arrear Sheet'!D78=\"अक्षरें राशि :-\",\"\",'Arrear Sheet'!D78)))","v":""},{"$f":"IF('Arrear Sheet'!E78=\"\",\"\",IF('Arrear Sheet'!C78=\"TOTAL\",\"\",'Arrear Sheet'!E78))","v":""},{"$f":"IF('Arrear Sheet'!F78=\"\",\"\",IF('Arrear Sheet'!C78=\"TOTAL\",\"\",'Arrear Sheet'!F78))","v":""},{"$f":"IF('Arrear Sheet'!G78=\"\",\"\",IF('Arrear Sheet'!C78=\"TOTAL\",\"\",SUM(C78:E78)))","v":""},{"$f":"IF('Arrear Sheet'!H78=\"\",\"\",IF('Arrear Sheet'!C78=\"TOTAL\",\"\",'Arrear Sheet'!H78))","v":""},{"$f":"IF('Arrear Sheet'!I78=\"\",\"\",IF('Arrear Sheet'!C78=\"TOTAL\",\"\",'Arrear Sheet'!I78))","v":""},{"$f":"IF('Arrear Sheet'!J78=\"\",\"\",IF('Arrear Sheet'!C78=\"TOTAL\",\"\",'Arrear Sheet'!J78))","v":""},{"$f":"IF('Arrear Sheet'!K78=\"\",\"\",IF('Arrear Sheet'!C78=\"TOTAL\",\"\",SUM(G78:I78)))","v":""},{"$f":"IF('Arrear Sheet'!L78=\"\",\"\",IF('Arrear Sheet'!C78=\"TOTAL\",\"\",'Arrear Sheet'!L78))","v":""},{"$f":"IF('Arrear Sheet'!M78=\"\",\"\",IF('Arrear Sheet'!C78=\"TOTAL\",\"\",'Arrear Sheet'!M78))","v":""},{"$f":"IF('Arrear Sheet'!N78=\"\",\"\",IF('Arrear Sheet'!C78=\"TOTAL\",\"\",'Arrear Sheet'!N78))","v":""},{"$f":"IF('Arrear Sheet'!O78=\"\",\"\",IF('Arrear Sheet'!C78=\"TOTAL\",\"\",SUM(K78:M78)))","v":""},{"$f":"IF('Arrear Sheet'!P78=\"\",\"\",IF('Arrear Sheet'!C78=\"TOTAL\",\"\",'Arrear Sheet'!P78))","v":""},{"$f":"IF('Arrear Sheet'!Q78=\"\",\"\",IF('Arrear Sheet'!C78=\"TOTAL\",\"\",'Arrear Sheet'!Q78))","v":""},{"$f":"IF('Arrear Sheet'!R78=\"\",\"\",IF('Arrear Sheet'!C78=\"TOTAL\",\"\",'Arrear Sheet'!R78))","v":""},{"$f":"IF('Arrear Sheet'!S78=\"\",\"\",IF('Arrear Sheet'!C78=\"TOTAL\",\"\",'Arrear Sheet'!S78))","v":""},{"$f":"IF('Arrear Sheet'!T78=\"\",\"\",IF('Arrear Sheet'!C78=\"TOTAL\",\"\",'Arrear Sheet'!T78))","v":""},{"$f":"IF('Arrear Sheet'!U78=\"\",\"\",IF('Arrear Sheet'!C78=\"TOTAL\",\"\",'Arrear Sheet'!U78))","v":""},{"$f":"IF('Arrear Sheet'!V78=\"\",\"\",IF('Arrear Sheet'!C78=\"TOTAL\",\"\",'Arrear Sheet'!V78))","v":""},{"$f":"IF('Arrear Sheet'!W78=\"\",\"\",IF('Arrear Sheet'!C78=\"TOTAL\",\"\",'Arrear Sheet'!W78))","v":""},{"$f":"IF('Arrear Sheet'!X78=\"\",\"\",IF('Arrear Sheet'!C78=\"TOTAL\",\"\",'Arrear Sheet'!X78))","v":""},{"$f":"IF('Arrear Sheet'!Y78=\"\",\"\",IF('Arrear Sheet'!C78=\"TOTAL\",\"\",'Arrear Sheet'!Y78))","v":""},{"$f":"IF('Arrear Sheet'!Z78=\"\",\"\",IF('Arrear Sheet'!C78=\"TOTAL\",\"\",'Arrear Sheet'!Z78))","v":""},{"$f":"IF('Arrear Sheet'!AA78=\"\",\"\",IF('Arrear Sheet'!C78=\"TOTAL\",\"\",'Arrear Sheet'!AA78))","v":""},{"$f":"IF('Arrear Sheet'!AB78=\"\",\"\",IF('Arrear Sheet'!C78=\"TOTAL\",\"\",'Arrear Sheet'!AB78))","v":""},{"$f":"IF('Arrear Sheet'!AC78=\"\",\"\",IF('Arrear Sheet'!C78=\"TOTAL\",\"\",'Arrear Sheet'!AC78))","v":""},{"$f":"IF('Arrear Sheet'!AD78=\"\",\"\",IF('Arrear Sheet'!C78=\"TOTAL\",\"\",'Arrear Sheet'!AD78))","v":""},{"$f":"IF('Arrear Sheet'!AE78=\"\",\"\",IF('Arrear Sheet'!C78=\"TOTAL\",\"\",SUM(N78-AC78)))","v":""}]
[{"$f":"IF('Arrear Sheet'!B79=\"\",\"\",'Arrear Sheet'!B79)","v":""},{"$f":"IF('Arrear Sheet'!C79=\"\",\"\",IF('Arrear Sheet'!C79=\"TOTAL\",\"\",'Arrear Sheet'!C79))","v":""},{"$f":"IF('Arrear Sheet'!D79=\"\",\"\",IF('Arrear Sheet'!C79=\"TOTAL\",\"\",IF('Arrear Sheet'!D79=\"अक्षरें राशि :-\",\"\",'Arrear Sheet'!D79)))","v":""},{"$f":"IF('Arrear Sheet'!E79=\"\",\"\",IF('Arrear Sheet'!C79=\"TOTAL\",\"\",'Arrear Sheet'!E79))","v":""},{"$f":"IF('Arrear Sheet'!F79=\"\",\"\",IF('Arrear Sheet'!C79=\"TOTAL\",\"\",'Arrear Sheet'!F79))","v":""},{"$f":"IF('Arrear Sheet'!G79=\"\",\"\",IF('Arrear Sheet'!C79=\"TOTAL\",\"\",SUM(C79:E79)))","v":""},{"$f":"IF('Arrear Sheet'!H79=\"\",\"\",IF('Arrear Sheet'!C79=\"TOTAL\",\"\",'Arrear Sheet'!H79))","v":""},{"$f":"IF('Arrear Sheet'!I79=\"\",\"\",IF('Arrear Sheet'!C79=\"TOTAL\",\"\",'Arrear Sheet'!I79))","v":""},{"$f":"IF('Arrear Sheet'!J79=\"\",\"\",IF('Arrear Sheet'!C79=\"TOTAL\",\"\",'Arrear Sheet'!J79))","v":""},{"$f":"IF('Arrear Sheet'!K79=\"\",\"\",IF('Arrear Sheet'!C79=\"TOTAL\",\"\",SUM(G79:I79)))","v":""},{"$f":"IF('Arrear Sheet'!L79=\"\",\"\",IF('Arrear Sheet'!C79=\"TOTAL\",\"\",'Arrear Sheet'!L79))","v":""},{"$f":"IF('Arrear Sheet'!M79=\"\",\"\",IF('Arrear Sheet'!C79=\"TOTAL\",\"\",'Arrear Sheet'!M79))","v":""},{"$f":"IF('Arrear Sheet'!N79=\"\",\"\",IF('Arrear Sheet'!C79=\"TOTAL\",\"\",'Arrear Sheet'!N79))","v":""},{"$f":"IF('Arrear Sheet'!O79=\"\",\"\",IF('Arrear Sheet'!C79=\"TOTAL\",\"\",SUM(K79:M79)))","v":""},{"$f":"IF('Arrear Sheet'!P79=\"\",\"\",IF('Arrear Sheet'!C79=\"TOTAL\",\"\",'Arrear Sheet'!P79))","v":""},{"$f":"IF('Arrear Sheet'!Q79=\"\",\"\",IF('Arrear Sheet'!C79=\"TOTAL\",\"\",'Arrear Sheet'!Q79))","v":""},{"$f":"IF('Arrear Sheet'!R79=\"\",\"\",IF('Arrear Sheet'!C79=\"TOTAL\",\"\",'Arrear Sheet'!R79))","v":""},{"$f":"IF('Arrear Sheet'!S79=\"\",\"\",IF('Arrear Sheet'!C79=\"TOTAL\",\"\",'Arrear Sheet'!S79))","v":""},{"$f":"IF('Arrear Sheet'!T79=\"\",\"\",IF('Arrear Sheet'!C79=\"TOTAL\",\"\",'Arrear Sheet'!T79))","v":""},{"$f":"IF('Arrear Sheet'!U79=\"\",\"\",IF('Arrear Sheet'!C79=\"TOTAL\",\"\",'Arrear Sheet'!U79))","v":""},{"$f":"IF('Arrear Sheet'!V79=\"\",\"\",IF('Arrear Sheet'!C79=\"TOTAL\",\"\",'Arrear Sheet'!V79))","v":""},{"$f":"IF('Arrear Sheet'!W79=\"\",\"\",IF('Arrear Sheet'!C79=\"TOTAL\",\"\",'Arrear Sheet'!W79))","v":""},{"$f":"IF('Arrear Sheet'!X79=\"\",\"\",IF('Arrear Sheet'!C79=\"TOTAL\",\"\",'Arrear Sheet'!X79))","v":""},{"$f":"IF('Arrear Sheet'!Y79=\"\",\"\",IF('Arrear Sheet'!C79=\"TOTAL\",\"\",'Arrear Sheet'!Y79))","v":""},{"$f":"IF('Arrear Sheet'!Z79=\"\",\"\",IF('Arrear Sheet'!C79=\"TOTAL\",\"\",'Arrear Sheet'!Z79))","v":""},{"$f":"IF('Arrear Sheet'!AA79=\"\",\"\",IF('Arrear Sheet'!C79=\"TOTAL\",\"\",'Arrear Sheet'!AA79))","v":""},{"$f":"IF('Arrear Sheet'!AB79=\"\",\"\",IF('Arrear Sheet'!C79=\"TOTAL\",\"\",'Arrear Sheet'!AB79))","v":""},{"$f":"IF('Arrear Sheet'!AC79=\"\",\"\",IF('Arrear Sheet'!C79=\"TOTAL\",\"\",'Arrear Sheet'!AC79))","v":""},{"$f":"IF('Arrear Sheet'!AD79=\"\",\"\",IF('Arrear Sheet'!C79=\"TOTAL\",\"\",'Arrear Sheet'!AD79))","v":""},{"$f":"IF('Arrear Sheet'!AE79=\"\",\"\",IF('Arrear Sheet'!C79=\"TOTAL\",\"\",SUM(N79-AC79)))","v":""}]
[{"$f":"IF('Arrear Sheet'!B80=\"\",\"\",'Arrear Sheet'!B80)","v":""},{"$f":"IF('Arrear Sheet'!C80=\"\",\"\",IF('Arrear Sheet'!C80=\"TOTAL\",\"\",'Arrear Sheet'!C80))","v":""},{"$f":"IF('Arrear Sheet'!D80=\"\",\"\",IF('Arrear Sheet'!C80=\"TOTAL\",\"\",IF('Arrear Sheet'!D80=\"अक्षरें राशि :-\",\"\",'Arrear Sheet'!D80)))","v":""},{"$f":"IF('Arrear Sheet'!E80=\"\",\"\",IF('Arrear Sheet'!C80=\"TOTAL\",\"\",'Arrear Sheet'!E80))","v":""},{"$f":"IF('Arrear Sheet'!F80=\"\",\"\",IF('Arrear Sheet'!C80=\"TOTAL\",\"\",'Arrear Sheet'!F80))","v":""},{"$f":"IF('Arrear Sheet'!G80=\"\",\"\",IF('Arrear Sheet'!C80=\"TOTAL\",\"\",SUM(C80:E80)))","v":""},{"$f":"IF('Arrear Sheet'!H80=\"\",\"\",IF('Arrear Sheet'!C80=\"TOTAL\",\"\",'Arrear Sheet'!H80))","v":""},{"$f":"IF('Arrear Sheet'!I80=\"\",\"\",IF('Arrear Sheet'!C80=\"TOTAL\",\"\",'Arrear Sheet'!I80))","v":""},{"$f":"IF('Arrear Sheet'!J80=\"\",\"\",IF('Arrear Sheet'!C80=\"TOTAL\",\"\",'Arrear Sheet'!J80))","v":""},{"$f":"IF('Arrear Sheet'!K80=\"\",\"\",IF('Arrear Sheet'!C80=\"TOTAL\",\"\",SUM(G80:I80)))","v":""},{"$f":"IF('Arrear Sheet'!L80=\"\",\"\",IF('Arrear Sheet'!C80=\"TOTAL\",\"\",'Arrear Sheet'!L80))","v":""},{"$f":"IF('Arrear Sheet'!M80=\"\",\"\",IF('Arrear Sheet'!C80=\"TOTAL\",\"\",'Arrear Sheet'!M80))","v":""},{"$f":"IF('Arrear Sheet'!N80=\"\",\"\",IF('Arrear Sheet'!C80=\"TOTAL\",\"\",'Arrear Sheet'!N80))","v":""},{"$f":"IF('Arrear Sheet'!O80=\"\",\"\",IF('Arrear Sheet'!C80=\"TOTAL\",\"\",SUM(K80:M80)))","v":""},{"$f":"IF('Arrear Sheet'!P80=\"\",\"\",IF('Arrear Sheet'!C80=\"TOTAL\",\"\",'Arrear Sheet'!P80))","v":""},{"$f":"IF('Arrear Sheet'!Q80=\"\",\"\",IF('Arrear Sheet'!C80=\"TOTAL\",\"\",'Arrear Sheet'!Q80))","v":""},{"$f":"IF('Arrear Sheet'!R80=\"\",\"\",IF('Arrear Sheet'!C80=\"TOTAL\",\"\",'Arrear Sheet'!R80))","v":""},{"$f":"IF('Arrear Sheet'!S80=\"\",\"\",IF('Arrear Sheet'!C80=\"TOTAL\",\"\",'Arrear Sheet'!S80))","v":""},{"$f":"IF('Arrear Sheet'!T80=\"\",\"\",IF('Arrear Sheet'!C80=\"TOTAL\",\"\",'Arrear Sheet'!T80))","v":""},{"$f":"IF('Arrear Sheet'!U80=\"\",\"\",IF('Arrear Sheet'!C80=\"TOTAL\",\"\",'Arrear Sheet'!U80))","v":""},{"$f":"IF('Arrear Sheet'!V80=\"\",\"\",IF('Arrear Sheet'!C80=\"TOTAL\",\"\",'Arrear Sheet'!V80))","v":""},{"$f":"IF('Arrear Sheet'!W80=\"\",\"\",IF('Arrear Sheet'!C80=\"TOTAL\",\"\",'Arrear Sheet'!W80))","v":""},{"$f":"IF('Arrear Sheet'!X80=\"\",\"\",IF('Arrear Sheet'!C80=\"TOTAL\",\"\",'Arrear Sheet'!X80))","v":""},{"$f":"IF('Arrear Sheet'!Y80=\"\",\"\",IF('Arrear Sheet'!C80=\"TOTAL\",\"\",'Arrear Sheet'!Y80))","v":""},{"$f":"IF('Arrear Sheet'!Z80=\"\",\"\",IF('Arrear Sheet'!C80=\"TOTAL\",\"\",'Arrear Sheet'!Z80))","v":""},{"$f":"IF('Arrear Sheet'!AA80=\"\",\"\",IF('Arrear Sheet'!C80=\"TOTAL\",\"\",'Arrear Sheet'!AA80))","v":""},{"$f":"IF('Arrear Sheet'!AB80=\"\",\"\",IF('Arrear Sheet'!C80=\"TOTAL\",\"\",'Arrear Sheet'!AB80))","v":""},{"$f":"IF('Arrear Sheet'!AC80=\"\",\"\",IF('Arrear Sheet'!C80=\"TOTAL\",\"\",'Arrear Sheet'!AC80))","v":""},{"$f":"IF('Arrear Sheet'!AD80=\"\",\"\",IF('Arrear Sheet'!C80=\"TOTAL\",\"\",'Arrear Sheet'!AD80))","v":""},{"$f":"IF('Arrear Sheet'!AE80=\"\",\"\",IF('Arrear Sheet'!C80=\"TOTAL\",\"\",SUM(N80-AC80)))","v":""}]
[{"$f":"IF('Arrear Sheet'!B81=\"\",\"\",'Arrear Sheet'!B81)","v":""},{"$f":"IF('Arrear Sheet'!C81=\"\",\"\",IF('Arrear Sheet'!C81=\"TOTAL\",\"\",'Arrear Sheet'!C81))","v":""},{"$f":"IF('Arrear Sheet'!D81=\"\",\"\",IF('Arrear Sheet'!C81=\"TOTAL\",\"\",IF('Arrear Sheet'!D81=\"अक्षरें राशि :-\",\"\",'Arrear Sheet'!D81)))","v":""},{"$f":"IF('Arrear Sheet'!E81=\"\",\"\",IF('Arrear Sheet'!C81=\"TOTAL\",\"\",'Arrear Sheet'!E81))","v":""},{"$f":"IF('Arrear Sheet'!F81=\"\",\"\",IF('Arrear Sheet'!C81=\"TOTAL\",\"\",'Arrear Sheet'!F81))","v":""},{"$f":"IF('Arrear Sheet'!G81=\"\",\"\",IF('Arrear Sheet'!C81=\"TOTAL\",\"\",SUM(C81:E81)))","v":""},{"$f":"IF('Arrear Sheet'!H81=\"\",\"\",IF('Arrear Sheet'!C81=\"TOTAL\",\"\",'Arrear Sheet'!H81))","v":""},{"$f":"IF('Arrear Sheet'!I81=\"\",\"\",IF('Arrear Sheet'!C81=\"TOTAL\",\"\",'Arrear Sheet'!I81))","v":""},{"$f":"IF('Arrear Sheet'!J81=\"\",\"\",IF('Arrear Sheet'!C81=\"TOTAL\",\"\",'Arrear Sheet'!J81))","v":""},{"$f":"IF('Arrear Sheet'!K81=\"\",\"\",IF('Arrear Sheet'!C81=\"TOTAL\",\"\",SUM(G81:I81)))","v":""},{"$f":"IF('Arrear Sheet'!L81=\"\",\"\",IF('Arrear Sheet'!C81=\"TOTAL\",\"\",'Arrear Sheet'!L81))","v":""},{"$f":"IF('Arrear Sheet'!M81=\"\",\"\",IF('Arrear Sheet'!C81=\"TOTAL\",\"\",'Arrear Sheet'!M81))","v":""},{"$f":"IF('Arrear Sheet'!N81=\"\",\"\",IF('Arrear Sheet'!C81=\"TOTAL\",\"\",'Arrear Sheet'!N81))","v":""},{"$f":"IF('Arrear Sheet'!O81=\"\",\"\",IF('Arrear Sheet'!C81=\"TOTAL\",\"\",SUM(K81:M81)))","v":""},{"$f":"IF('Arrear Sheet'!P81=\"\",\"\",IF('Arrear Sheet'!C81=\"TOTAL\",\"\",'Arrear Sheet'!P81))","v":""},{"$f":"IF('Arrear Sheet'!Q81=\"\",\"\",IF('Arrear Sheet'!C81=\"TOTAL\",\"\",'Arrear Sheet'!Q81))","v":""},{"$f":"IF('Arrear Sheet'!R81=\"\",\"\",IF('Arrear Sheet'!C81=\"TOTAL\",\"\",'Arrear Sheet'!R81))","v":""},{"$f":"IF('Arrear Sheet'!S81=\"\",\"\",IF('Arrear Sheet'!C81=\"TOTAL\",\"\",'Arrear Sheet'!S81))","v":""},{"$f":"IF('Arrear Sheet'!T81=\"\",\"\",IF('Arrear Sheet'!C81=\"TOTAL\",\"\",'Arrear Sheet'!T81))","v":""},{"$f":"IF('Arrear Sheet'!U81=\"\",\"\",IF('Arrear Sheet'!C81=\"TOTAL\",\"\",'Arrear Sheet'!U81))","v":""},{"$f":"IF('Arrear Sheet'!V81=\"\",\"\",IF('Arrear Sheet'!C81=\"TOTAL\",\"\",'Arrear Sheet'!V81))","v":""},{"$f":"IF('Arrear Sheet'!W81=\"\",\"\",IF('Arrear Sheet'!C81=\"TOTAL\",\"\",'Arrear Sheet'!W81))","v":""},{"$f":"IF('Arrear Sheet'!X81=\"\",\"\",IF('Arrear Sheet'!C81=\"TOTAL\",\"\",'Arrear Sheet'!X81))","v":""},{"$f":"IF('Arrear Sheet'!Y81=\"\",\"\",IF('Arrear Sheet'!C81=\"TOTAL\",\"\",'Arrear Sheet'!Y81))","v":""},{"$f":"IF('Arrear Sheet'!Z81=\"\",\"\",IF('Arrear Sheet'!C81=\"TOTAL\",\"\",'Arrear Sheet'!Z81))","v":""},{"$f":"IF('Arrear Sheet'!AA81=\"\",\"\",IF('Arrear Sheet'!C81=\"TOTAL\",\"\",'Arrear Sheet'!AA81))","v":""},{"$f":"IF('Arrear Sheet'!AB81=\"\",\"\",IF('Arrear Sheet'!C81=\"TOTAL\",\"\",'Arrear Sheet'!AB81))","v":""},{"$f":"IF('Arrear Sheet'!AC81=\"\",\"\",IF('Arrear Sheet'!C81=\"TOTAL\",\"\",'Arrear Sheet'!AC81))","v":""},{"$f":"IF('Arrear Sheet'!AD81=\"\",\"\",IF('Arrear Sheet'!C81=\"TOTAL\",\"\",'Arrear Sheet'!AD81))","v":""},{"$f":"IF('Arrear Sheet'!AE81=\"\",\"\",IF('Arrear Sheet'!C81=\"TOTAL\",\"\",SUM(N81-AC81)))","v":""}]
[{"$f":"IF('Arrear Sheet'!B82=\"\",\"\",'Arrear Sheet'!B82)","v":""},{"$f":"IF('Arrear Sheet'!C82=\"\",\"\",IF('Arrear Sheet'!C82=\"TOTAL\",\"\",'Arrear Sheet'!C82))","v":""},{"$f":"IF('Arrear Sheet'!D82=\"\",\"\",IF('Arrear Sheet'!C82=\"TOTAL\",\"\",IF('Arrear Sheet'!D82=\"अक्षरें राशि :-\",\"\",'Arrear Sheet'!D82)))","v":""},{"$f":"IF('Arrear Sheet'!E82=\"\",\"\",IF('Arrear Sheet'!C82=\"TOTAL\",\"\",'Arrear Sheet'!E82))","v":""},{"$f":"IF('Arrear Sheet'!F82=\"\",\"\",IF('Arrear Sheet'!C82=\"TOTAL\",\"\",'Arrear Sheet'!F82))","v":""},{"$f":"IF('Arrear Sheet'!G82=\"\",\"\",IF('Arrear Sheet'!C82=\"TOTAL\",\"\",SUM(C82:E82)))","v":""},{"$f":"IF('Arrear Sheet'!H82=\"\",\"\",IF('Arrear Sheet'!C82=\"TOTAL\",\"\",'Arrear Sheet'!H82))","v":""},{"$f":"IF('Arrear Sheet'!I82=\"\",\"\",IF('Arrear Sheet'!C82=\"TOTAL\",\"\",'Arrear Sheet'!I82))","v":""},{"$f":"IF('Arrear Sheet'!J82=\"\",\"\",IF('Arrear Sheet'!C82=\"TOTAL\",\"\",'Arrear Sheet'!J82))","v":""},{"$f":"IF('Arrear Sheet'!K82=\"\",\"\",IF('Arrear Sheet'!C82=\"TOTAL\",\"\",SUM(G82:I82)))","v":""},{"$f":"IF('Arrear Sheet'!L82=\"\",\"\",IF('Arrear Sheet'!C82=\"TOTAL\",\"\",'Arrear Sheet'!L82))","v":""},{"$f":"IF('Arrear Sheet'!M82=\"\",\"\",IF('Arrear Sheet'!C82=\"TOTAL\",\"\",'Arrear Sheet'!M82))","v":""},{"$f":"IF('Arrear Sheet'!N82=\"\",\"\",IF('Arrear Sheet'!C82=\"TOTAL\",\"\",'Arrear Sheet'!N82))","v":""},{"$f":"IF('Arrear Sheet'!O82=\"\",\"\",IF('Arrear Sheet'!C82=\"TOTAL\",\"\",SUM(K82:M82)))","v":""},{"$f":"IF('Arrear Sheet'!P82=\"\",\"\",IF('Arrear Sheet'!C82=\"TOTAL\",\"\",'Arrear Sheet'!P82))","v":""},{"$f":"IF('Arrear Sheet'!Q82=\"\",\"\",IF('Arrear Sheet'!C82=\"TOTAL\",\"\",'Arrear Sheet'!Q82))","v":""},{"$f":"IF('Arrear Sheet'!R82=\"\",\"\",IF('Arrear Sheet'!C82=\"TOTAL\",\"\",'Arrear Sheet'!R82))","v":""},{"$f":"IF('Arrear Sheet'!S82=\"\",\"\",IF('Arrear Sheet'!C82=\"TOTAL\",\"\",'Arrear Sheet'!S82))","v":""},{"$f":"IF('Arrear Sheet'!T82=\"\",\"\",IF('Arrear Sheet'!C82=\"TOTAL\",\"\",'Arrear Sheet'!T82))","v":""},{"$f":"IF('Arrear Sheet'!U82=\"\",\"\",IF('Arrear Sheet'!C82=\"TOTAL\",\"\",'Arrear Sheet'!U82))","v":""},{"$f":"IF('Arrear Sheet'!V82=\"\",\"\",IF('Arrear Sheet'!C82=\"TOTAL\",\"\",'Arrear Sheet'!V82))","v":""},{"$f":"IF('Arrear Sheet'!W82=\"\",\"\",IF('Arrear Sheet'!C82=\"TOTAL\",\"\",'Arrear Sheet'!W82))","v":""},{"$f":"IF('Arrear Sheet'!X82=\"\",\"\",IF('Arrear Sheet'!C82=\"TOTAL\",\"\",'Arrear Sheet'!X82))","v":""},{"$f":"IF('Arrear Sheet'!Y82=\"\",\"\",IF('Arrear Sheet'!C82=\"TOTAL\",\"\",'Arrear Sheet'!Y82))","v":""},{"$f":"IF('Arrear Sheet'!Z82=\"\",\"\",IF('Arrear Sheet'!C82=\"TOTAL\",\"\",'Arrear Sheet'!Z82))","v":""},{"$f":"IF('Arrear Sheet'!AA82=\"\",\"\",IF('Arrear Sheet'!C82=\"TOTAL\",\"\",'Arrear Sheet'!AA82))","v":""},{"$f":"IF('Arrear Sheet'!AB82=\"\",\"\",IF('Arrear Sheet'!C82=\"TOTAL\",\"\",'Arrear Sheet'!AB82))","v":""},{"$f":"IF('Arrear Sheet'!AC82=\"\",\"\",IF('Arrear Sheet'!C82=\"TOTAL\",\"\",'Arrear Sheet'!AC82))","v":""},{"$f":"IF('Arrear Sheet'!AD82=\"\",\"\",IF('Arrear Sheet'!C82=\"TOTAL\",\"\",'Arrear Sheet'!AD82))","v":""},{"$f":"IF('Arrear Sheet'!AE82=\"\",\"\",IF('Arrear Sheet'!C82=\"TOTAL\",\"\",SUM(N82-AC82)))","v":""}]
[{"$f":"IF('Arrear Sheet'!B83=\"\",\"\",'Arrear Sheet'!B83)","v":""},{"$f":"IF('Arrear Sheet'!C83=\"\",\"\",IF('Arrear Sheet'!C83=\"TOTAL\",\"\",'Arrear Sheet'!C83))","v":""},{"$f":"IF('Arrear Sheet'!D83=\"\",\"\",IF('Arrear Sheet'!C83=\"TOTAL\",\"\",IF('Arrear Sheet'!D83=\"अक्षरें राशि :-\",\"\",'Arrear Sheet'!D83)))","v":""},{"$f":"IF('Arrear Sheet'!E83=\"\",\"\",IF('Arrear Sheet'!C83=\"TOTAL\",\"\",'Arrear Sheet'!E83))","v":""},{"$f":"IF('Arrear Sheet'!F83=\"\",\"\",IF('Arrear Sheet'!C83=\"TOTAL\",\"\",'Arrear Sheet'!F83))","v":""},{"$f":"IF('Arrear Sheet'!G83=\"\",\"\",IF('Arrear Sheet'!C83=\"TOTAL\",\"\",SUM(C83:E83)))","v":""},{"$f":"IF('Arrear Sheet'!H83=\"\",\"\",IF('Arrear Sheet'!C83=\"TOTAL\",\"\",'Arrear Sheet'!H83))","v":""},{"$f":"IF('Arrear Sheet'!I83=\"\",\"\",IF('Arrear Sheet'!C83=\"TOTAL\",\"\",'Arrear Sheet'!I83))","v":""},{"$f":"IF('Arrear Sheet'!J83=\"\",\"\",IF('Arrear Sheet'!C83=\"TOTAL\",\"\",'Arrear Sheet'!J83))","v":""},{"$f":"IF('Arrear Sheet'!K83=\"\",\"\",IF('Arrear Sheet'!C83=\"TOTAL\",\"\",SUM(G83:I83)))","v":""},{"$f":"IF('Arrear Sheet'!L83=\"\",\"\",IF('Arrear Sheet'!C83=\"TOTAL\",\"\",'Arrear Sheet'!L83))","v":""},{"$f":"IF('Arrear Sheet'!M83=\"\",\"\",IF('Arrear Sheet'!C83=\"TOTAL\",\"\",'Arrear Sheet'!M83))","v":""},{"$f":"IF('Arrear Sheet'!N83=\"\",\"\",IF('Arrear Sheet'!C83=\"TOTAL\",\"\",'Arrear Sheet'!N83))","v":""},{"$f":"IF('Arrear Sheet'!O83=\"\",\"\",IF('Arrear Sheet'!C83=\"TOTAL\",\"\",SUM(K83:M83)))","v":""},{"$f":"IF('Arrear Sheet'!P83=\"\",\"\",IF('Arrear Sheet'!C83=\"TOTAL\",\"\",'Arrear Sheet'!P83))","v":""},{"$f":"IF('Arrear Sheet'!Q83=\"\",\"\",IF('Arrear Sheet'!C83=\"TOTAL\",\"\",'Arrear Sheet'!Q83))","v":""},{"$f":"IF('Arrear Sheet'!R83=\"\",\"\",IF('Arrear Sheet'!C83=\"TOTAL\",\"\",'Arrear Sheet'!R83))","v":""},{"$f":"IF('Arrear Sheet'!S83=\"\",\"\",IF('Arrear Sheet'!C83=\"TOTAL\",\"\",'Arrear Sheet'!S83))","v":""},{"$f":"IF('Arrear Sheet'!T83=\"\",\"\",IF('Arrear Sheet'!C83=\"TOTAL\",\"\",'Arrear Sheet'!T83))","v":""},{"$f":"IF('Arrear Sheet'!U83=\"\",\"\",IF('Arrear Sheet'!C83=\"TOTAL\",\"\",'Arrear Sheet'!U83))","v":""},{"$f":"IF('Arrear Sheet'!V83=\"\",\"\",IF('Arrear Sheet'!C83=\"TOTAL\",\"\",'Arrear Sheet'!V83))","v":""},{"$f":"IF('Arrear Sheet'!W83=\"\",\"\",IF('Arrear Sheet'!C83=\"TOTAL\",\"\",'Arrear Sheet'!W83))","v":""},{"$f":"IF('Arrear Sheet'!X83=\"\",\"\",IF('Arrear Sheet'!C83=\"TOTAL\",\"\",'Arrear Sheet'!X83))","v":""},{"$f":"IF('Arrear Sheet'!Y83=\"\",\"\",IF('Arrear Sheet'!C83=\"TOTAL\",\"\",'Arrear Sheet'!Y83))","v":""},{"$f":"IF('Arrear Sheet'!Z83=\"\",\"\",IF('Arrear Sheet'!C83=\"TOTAL\",\"\",'Arrear Sheet'!Z83))","v":""},{"$f":"IF('Arrear Sheet'!AA83=\"\",\"\",IF('Arrear Sheet'!C83=\"TOTAL\",\"\",'Arrear Sheet'!AA83))","v":""},{"$f":"IF('Arrear Sheet'!AB83=\"\",\"\",IF('Arrear Sheet'!C83=\"TOTAL\",\"\",'Arrear Sheet'!AB83))","v":""},{"$f":"IF('Arrear Sheet'!AC83=\"\",\"\",IF('Arrear Sheet'!C83=\"TOTAL\",\"\",'Arrear Sheet'!AC83))","v":""},{"$f":"IF('Arrear Sheet'!AD83=\"\",\"\",IF('Arrear Sheet'!C83=\"TOTAL\",\"\",'Arrear Sheet'!AD83))","v":""},{"$f":"IF('Arrear Sheet'!AE83=\"\",\"\",IF('Arrear Sheet'!C83=\"TOTAL\",\"\",SUM(N83-AC83)))","v":""}]
[{"$f":"IF('Arrear Sheet'!B84=\"\",\"\",'Arrear Sheet'!B84)","v":""},{"$f":"IF('Arrear Sheet'!C84=\"\",\"\",IF('Arrear Sheet'!C84=\"TOTAL\",\"\",'Arrear Sheet'!C84))","v":""},{"$f":"IF('Arrear Sheet'!D84=\"\",\"\",IF('Arrear Sheet'!C84=\"TOTAL\",\"\",IF('Arrear Sheet'!D84=\"अक्षरें राशि :-\",\"\",'Arrear Sheet'!D84)))","v":""},{"$f":"IF('Arrear Sheet'!E84=\"\",\"\",IF('Arrear Sheet'!C84=\"TOTAL\",\"\",'Arrear Sheet'!E84))","v":""},{"$f":"IF('Arrear Sheet'!F84=\"\",\"\",IF('Arrear Sheet'!C84=\"TOTAL\",\"\",'Arrear Sheet'!F84))","v":""},{"$f":"IF('Arrear Sheet'!G84=\"\",\"\",IF('Arrear Sheet'!C84=\"TOTAL\",\"\",SUM(C84:E84)))","v":""},{"$f":"IF('Arrear Sheet'!H84=\"\",\"\",IF('Arrear Sheet'!C84=\"TOTAL\",\"\",'Arrear Sheet'!H84))","v":""},{"$f":"IF('Arrear Sheet'!I84=\"\",\"\",IF('Arrear Sheet'!C84=\"TOTAL\",\"\",'Arrear Sheet'!I84))","v":""},{"$f":"IF('Arrear Sheet'!J84=\"\",\"\",IF('Arrear Sheet'!C84=\"TOTAL\",\"\",'Arrear Sheet'!J84))","v":""},{"$f":"IF('Arrear Sheet'!K84=\"\",\"\",IF('Arrear Sheet'!C84=\"TOTAL\",\"\",SUM(G84:I84)))","v":""},{"$f":"IF('Arrear Sheet'!L84=\"\",\"\",IF('Arrear Sheet'!C84=\"TOTAL\",\"\",'Arrear Sheet'!L84))","v":""},{"$f":"IF('Arrear Sheet'!M84=\"\",\"\",IF('Arrear Sheet'!C84=\"TOTAL\",\"\",'Arrear Sheet'!M84))","v":""},{"$f":"IF('Arrear Sheet'!N84=\"\",\"\",IF('Arrear Sheet'!C84=\"TOTAL\",\"\",'Arrear Sheet'!N84))","v":""},{"$f":"IF('Arrear Sheet'!O84=\"\",\"\",IF('Arrear Sheet'!C84=\"TOTAL\",\"\",SUM(K84:M84)))","v":""},{"$f":"IF('Arrear Sheet'!P84=\"\",\"\",IF('Arrear Sheet'!C84=\"TOTAL\",\"\",'Arrear Sheet'!P84))","v":""},{"$f":"IF('Arrear Sheet'!Q84=\"\",\"\",IF('Arrear Sheet'!C84=\"TOTAL\",\"\",'Arrear Sheet'!Q84))","v":""},{"$f":"IF('Arrear Sheet'!R84=\"\",\"\",IF('Arrear Sheet'!C84=\"TOTAL\",\"\",'Arrear Sheet'!R84))","v":""},{"$f":"IF('Arrear Sheet'!S84=\"\",\"\",IF('Arrear Sheet'!C84=\"TOTAL\",\"\",'Arrear Sheet'!S84))","v":""},{"$f":"IF('Arrear Sheet'!T84=\"\",\"\",IF('Arrear Sheet'!C84=\"TOTAL\",\"\",'Arrear Sheet'!T84))","v":""},{"$f":"IF('Arrear Sheet'!U84=\"\",\"\",IF('Arrear Sheet'!C84=\"TOTAL\",\"\",'Arrear Sheet'!U84))","v":""},{"$f":"IF('Arrear Sheet'!V84=\"\",\"\",IF('Arrear Sheet'!C84=\"TOTAL\",\"\",'Arrear Sheet'!V84))","v":""},{"$f":"IF('Arrear Sheet'!W84=\"\",\"\",IF('Arrear Sheet'!C84=\"TOTAL\",\"\",'Arrear Sheet'!W84))","v":""},{"$f":"IF('Arrear Sheet'!X84=\"\",\"\",IF('Arrear Sheet'!C84=\"TOTAL\",\"\",'Arrear Sheet'!X84))","v":""},{"$f":"IF('Arrear Sheet'!Y84=\"\",\"\",IF('Arrear Sheet'!C84=\"TOTAL\",\"\",'Arrear Sheet'!Y84))","v":""},{"$f":"IF('Arrear Sheet'!Z84=\"\",\"\",IF('Arrear Sheet'!C84=\"TOTAL\",\"\",'Arrear Sheet'!Z84))","v":""},{"$f":"IF('Arrear Sheet'!AA84=\"\",\"\",IF('Arrear Sheet'!C84=\"TOTAL\",\"\",'Arrear Sheet'!AA84))","v":""},{"$f":"IF('Arrear Sheet'!AB84=\"\",\"\",IF('Arrear Sheet'!C84=\"TOTAL\",\"\",'Arrear Sheet'!AB84))","v":""},{"$f":"IF('Arrear Sheet'!AC84=\"\",\"\",IF('Arrear Sheet'!C84=\"TOTAL\",\"\",'Arrear Sheet'!AC84))","v":""},{"$f":"IF('Arrear Sheet'!AD84=\"\",\"\",IF('Arrear Sheet'!C84=\"TOTAL\",\"\",'Arrear Sheet'!AD84))","v":""},{"$f":"IF('Arrear Sheet'!AE84=\"\",\"\",IF('Arrear Sheet'!C84=\"TOTAL\",\"\",SUM(N84-AC84)))","v":""}]
[{"$f":"IF('Arrear Sheet'!B85=\"\",\"\",'Arrear Sheet'!B85)","v":""},{"$f":"IF('Arrear Sheet'!C85=\"\",\"\",IF('Arrear Sheet'!C85=\"TOTAL\",\"\",'Arrear Sheet'!C85))","v":""},{"$f":"IF('Arrear Sheet'!D85=\"\",\"\",IF('Arrear Sheet'!C85=\"TOTAL\",\"\",IF('Arrear Sheet'!D85=\"अक्षरें राशि :-\",\"\",'Arrear Sheet'!D85)))","v":""},{"$f":"IF('Arrear Sheet'!E85=\"\",\"\",IF('Arrear Sheet'!C85=\"TOTAL\",\"\",'Arrear Sheet'!E85))","v":""},{"$f":"IF('Arrear Sheet'!F85=\"\",\"\",IF('Arrear Sheet'!C85=\"TOTAL\",\"\",'Arrear Sheet'!F85))","v":""},{"$f":"IF('Arrear Sheet'!G85=\"\",\"\",IF('Arrear Sheet'!C85=\"TOTAL\",\"\",SUM(C85:E85)))","v":""},{"$f":"IF('Arrear Sheet'!H85=\"\",\"\",IF('Arrear Sheet'!C85=\"TOTAL\",\"\",'Arrear Sheet'!H85))","v":""},{"$f":"IF('Arrear Sheet'!I85=\"\",\"\",IF('Arrear Sheet'!C85=\"TOTAL\",\"\",'Arrear Sheet'!I85))","v":""},{"$f":"IF('Arrear Sheet'!J85=\"\",\"\",IF('Arrear Sheet'!C85=\"TOTAL\",\"\",'Arrear Sheet'!J85))","v":""},{"$f":"IF('Arrear Sheet'!K85=\"\",\"\",IF('Arrear Sheet'!C85=\"TOTAL\",\"\",SUM(G85:I85)))","v":""},{"$f":"IF('Arrear Sheet'!L85=\"\",\"\",IF('Arrear Sheet'!C85=\"TOTAL\",\"\",'Arrear Sheet'!L85))","v":""},{"$f":"IF('Arrear Sheet'!M85=\"\",\"\",IF('Arrear Sheet'!C85=\"TOTAL\",\"\",'Arrear Sheet'!M85))","v":""},{"$f":"IF('Arrear Sheet'!N85=\"\",\"\",IF('Arrear Sheet'!C85=\"TOTAL\",\"\",'Arrear Sheet'!N85))","v":""},{"$f":"IF('Arrear Sheet'!O85=\"\",\"\",IF('Arrear Sheet'!C85=\"TOTAL\",\"\",SUM(K85:M85)))","v":""},{"$f":"IF('Arrear Sheet'!P85=\"\",\"\",IF('Arrear Sheet'!C85=\"TOTAL\",\"\",'Arrear Sheet'!P85))","v":""},{"$f":"IF('Arrear Sheet'!Q85=\"\",\"\",IF('Arrear Sheet'!C85=\"TOTAL\",\"\",'Arrear Sheet'!Q85))","v":""},{"$f":"IF('Arrear Sheet'!R85=\"\",\"\",IF('Arrear Sheet'!C85=\"TOTAL\",\"\",'Arrear Sheet'!R85))","v":""},{"$f":"IF('Arrear Sheet'!S85=\"\",\"\",IF('Arrear Sheet'!C85=\"TOTAL\",\"\",'Arrear Sheet'!S85))","v":""},{"$f":"IF('Arrear Sheet'!T85=\"\",\"\",IF('Arrear Sheet'!C85=\"TOTAL\",\"\",'Arrear Sheet'!T85))","v":""},{"$f":"IF('Arrear Sheet'!U85=\"\",\"\",IF('Arrear Sheet'!C85=\"TOTAL\",\"\",'Arrear Sheet'!U85))","v":""},{"$f":"IF('Arrear Sheet'!V85=\"\",\"\",IF('Arrear Sheet'!C85=\"TOTAL\",\"\",'Arrear Sheet'!V85))","v":""},{"$f":"IF('Arrear Sheet'!W85=\"\",\"\",IF('Arrear Sheet'!C85=\"TOTAL\",\"\",'Arrear Sheet'!W85))","v":""},{"$f":"IF('Arrear Sheet'!X85=\"\",\"\",IF('Arrear Sheet'!C85=\"TOTAL\",\"\",'Arrear Sheet'!X85))","v":""},{"$f":"IF('Arrear Sheet'!Y85=\"\",\"\",IF('Arrear Sheet'!C85=\"TOTAL\",\"\",'Arrear Sheet'!Y85))","v":""},{"$f":"IF('Arrear Sheet'!Z85=\"\",\"\",IF('Arrear Sheet'!C85=\"TOTAL\",\"\",'Arrear Sheet'!Z85))","v":""},{"$f":"IF('Arrear Sheet'!AA85=\"\",\"\",IF('Arrear Sheet'!C85=\"TOTAL\",\"\",'Arrear Sheet'!AA85))","v":""},{"$f":"IF('Arrear Sheet'!AB85=\"\",\"\",IF('Arrear Sheet'!C85=\"TOTAL\",\"\",'Arrear Sheet'!AB85))","v":""},{"$f":"IF('Arrear Sheet'!AC85=\"\",\"\",IF('Arrear Sheet'!C85=\"TOTAL\",\"\",'Arrear Sheet'!AC85))","v":""},{"$f":"IF('Arrear Sheet'!AD85=\"\",\"\",IF('Arrear Sheet'!C85=\"TOTAL\",\"\",'Arrear Sheet'!AD85))","v":""},{"$f":"IF('Arrear Sheet'!AE85=\"\",\"\",IF('Arrear Sheet'!C85=\"TOTAL\",\"\",SUM(N85-AC85)))","v":""}]
[{"$f":"IF('Arrear Sheet'!B86=\"\",\"\",'Arrear Sheet'!B86)","v":""},{"$f":"IF('Arrear Sheet'!C86=\"\",\"\",IF('Arrear Sheet'!C86=\"TOTAL\",\"\",'Arrear Sheet'!C86))","v":""},{"$f":"IF('Arrear Sheet'!D86=\"\",\"\",IF('Arrear Sheet'!C86=\"TOTAL\",\"\",IF('Arrear Sheet'!D86=\"अक्षरें राशि :-\",\"\",'Arrear Sheet'!D86)))","v":""},{"$f":"IF('Arrear Sheet'!E86=\"\",\"\",IF('Arrear Sheet'!C86=\"TOTAL\",\"\",'Arrear Sheet'!E86))","v":""},{"$f":"IF('Arrear Sheet'!F86=\"\",\"\",IF('Arrear Sheet'!C86=\"TOTAL\",\"\",'Arrear Sheet'!F86))","v":""},{"$f":"IF('Arrear Sheet'!G86=\"\",\"\",IF('Arrear Sheet'!C86=\"TOTAL\",\"\",SUM(C86:E86)))","v":""},{"$f":"IF('Arrear Sheet'!H86=\"\",\"\",IF('Arrear Sheet'!C86=\"TOTAL\",\"\",'Arrear Sheet'!H86))","v":""},{"$f":"IF('Arrear Sheet'!I86=\"\",\"\",IF('Arrear Sheet'!C86=\"TOTAL\",\"\",'Arrear Sheet'!I86))","v":""},{"$f":"IF('Arrear Sheet'!J86=\"\",\"\",IF('Arrear Sheet'!C86=\"TOTAL\",\"\",'Arrear Sheet'!J86))","v":""},{"$f":"IF('Arrear Sheet'!K86=\"\",\"\",IF('Arrear Sheet'!C86=\"TOTAL\",\"\",SUM(G86:I86)))","v":""},{"$f":"IF('Arrear Sheet'!L86=\"\",\"\",IF('Arrear Sheet'!C86=\"TOTAL\",\"\",'Arrear Sheet'!L86))","v":""},{"$f":"IF('Arrear Sheet'!M86=\"\",\"\",IF('Arrear Sheet'!C86=\"TOTAL\",\"\",'Arrear Sheet'!M86))","v":""},{"$f":"IF('Arrear Sheet'!N86=\"\",\"\",IF('Arrear Sheet'!C86=\"TOTAL\",\"\",'Arrear Sheet'!N86))","v":""},{"$f":"IF('Arrear Sheet'!O86=\"\",\"\",IF('Arrear Sheet'!C86=\"TOTAL\",\"\",SUM(K86:M86)))","v":""},{"$f":"IF('Arrear Sheet'!P86=\"\",\"\",IF('Arrear Sheet'!C86=\"TOTAL\",\"\",'Arrear Sheet'!P86))","v":""},{"$f":"IF('Arrear Sheet'!Q86=\"\",\"\",IF('Arrear Sheet'!C86=\"TOTAL\",\"\",'Arrear Sheet'!Q86))","v":""},{"$f":"IF('Arrear Sheet'!R86=\"\",\"\",IF('Arrear Sheet'!C86=\"TOTAL\",\"\",'Arrear Sheet'!R86))","v":""},{"$f":"IF('Arrear Sheet'!S86=\"\",\"\",IF('Arrear Sheet'!C86=\"TOTAL\",\"\",'Arrear Sheet'!S86))","v":""},{"$f":"IF('Arrear Sheet'!T86=\"\",\"\",IF('Arrear Sheet'!C86=\"TOTAL\",\"\",'Arrear Sheet'!T86))","v":""},{"$f":"IF('Arrear Sheet'!U86=\"\",\"\",IF('Arrear Sheet'!C86=\"TOTAL\",\"\",'Arrear Sheet'!U86))","v":""},{"$f":"IF('Arrear Sheet'!V86=\"\",\"\",IF('Arrear Sheet'!C86=\"TOTAL\",\"\",'Arrear Sheet'!V86))","v":""},{"$f":"IF('Arrear Sheet'!W86=\"\",\"\",IF('Arrear Sheet'!C86=\"TOTAL\",\"\",'Arrear Sheet'!W86))","v":""},{"$f":"IF('Arrear Sheet'!X86=\"\",\"\",IF('Arrear Sheet'!C86=\"TOTAL\",\"\",'Arrear Sheet'!X86))","v":""},{"$f":"IF('Arrear Sheet'!Y86=\"\",\"\",IF('Arrear Sheet'!C86=\"TOTAL\",\"\",'Arrear Sheet'!Y86))","v":""},{"$f":"IF('Arrear Sheet'!Z86=\"\",\"\",IF('Arrear Sheet'!C86=\"TOTAL\",\"\",'Arrear Sheet'!Z86))","v":""},{"$f":"IF('Arrear Sheet'!AA86=\"\",\"\",IF('Arrear Sheet'!C86=\"TOTAL\",\"\",'Arrear Sheet'!AA86))","v":""},{"$f":"IF('Arrear Sheet'!AB86=\"\",\"\",IF('Arrear Sheet'!C86=\"TOTAL\",\"\",'Arrear Sheet'!AB86))","v":""},{"$f":"IF('Arrear Sheet'!AC86=\"\",\"\",IF('Arrear Sheet'!C86=\"TOTAL\",\"\",'Arrear Sheet'!AC86))","v":""},{"$f":"IF('Arrear Sheet'!AD86=\"\",\"\",IF('Arrear Sheet'!C86=\"TOTAL\",\"\",'Arrear Sheet'!AD86))","v":""},{"$f":"IF('Arrear Sheet'!AE86=\"\",\"\",IF('Arrear Sheet'!C86=\"TOTAL\",\"\",SUM(N86-AC86)))","v":""}]
[{"$f":"IF('Arrear Sheet'!B87=\"\",\"\",'Arrear Sheet'!B87)","v":""},{"$f":"IF('Arrear Sheet'!C87=\"\",\"\",IF('Arrear Sheet'!C87=\"TOTAL\",\"\",'Arrear Sheet'!C87))","v":""},{"$f":"IF('Arrear Sheet'!D87=\"\",\"\",IF('Arrear Sheet'!C87=\"TOTAL\",\"\",IF('Arrear Sheet'!D87=\"अक्षरें राशि :-\",\"\",'Arrear Sheet'!D87)))","v":""},{"$f":"IF('Arrear Sheet'!E87=\"\",\"\",IF('Arrear Sheet'!C87=\"TOTAL\",\"\",'Arrear Sheet'!E87))","v":""},{"$f":"IF('Arrear Sheet'!F87=\"\",\"\",IF('Arrear Sheet'!C87=\"TOTAL\",\"\",'Arrear Sheet'!F87))","v":""},{"$f":"IF('Arrear Sheet'!G87=\"\",\"\",IF('Arrear Sheet'!C87=\"TOTAL\",\"\",SUM(C87:E87)))","v":""},{"$f":"IF('Arrear Sheet'!H87=\"\",\"\",IF('Arrear Sheet'!C87=\"TOTAL\",\"\",'Arrear Sheet'!H87))","v":""},{"$f":"IF('Arrear Sheet'!I87=\"\",\"\",IF('Arrear Sheet'!C87=\"TOTAL\",\"\",'Arrear Sheet'!I87))","v":""},{"$f":"IF('Arrear Sheet'!J87=\"\",\"\",IF('Arrear Sheet'!C87=\"TOTAL\",\"\",'Arrear Sheet'!J87))","v":""},{"$f":"IF('Arrear Sheet'!K87=\"\",\"\",IF('Arrear Sheet'!C87=\"TOTAL\",\"\",SUM(G87:I87)))","v":""},{"$f":"IF('Arrear Sheet'!L87=\"\",\"\",IF('Arrear Sheet'!C87=\"TOTAL\",\"\",'Arrear Sheet'!L87))","v":""},{"$f":"IF('Arrear Sheet'!M87=\"\",\"\",IF('Arrear Sheet'!C87=\"TOTAL\",\"\",'Arrear Sheet'!M87))","v":""},{"$f":"IF('Arrear Sheet'!N87=\"\",\"\",IF('Arrear Sheet'!C87=\"TOTAL\",\"\",'Arrear Sheet'!N87))","v":""},{"$f":"IF('Arrear Sheet'!O87=\"\",\"\",IF('Arrear Sheet'!C87=\"TOTAL\",\"\",SUM(K87:M87)))","v":""},{"$f":"IF('Arrear Sheet'!P87=\"\",\"\",IF('Arrear Sheet'!C87=\"TOTAL\",\"\",'Arrear Sheet'!P87))","v":""},{"$f":"IF('Arrear Sheet'!Q87=\"\",\"\",IF('Arrear Sheet'!C87=\"TOTAL\",\"\",'Arrear Sheet'!Q87))","v":""},{"$f":"IF('Arrear Sheet'!R87=\"\",\"\",IF('Arrear Sheet'!C87=\"TOTAL\",\"\",'Arrear Sheet'!R87))","v":""},{"$f":"IF('Arrear Sheet'!S87=\"\",\"\",IF('Arrear Sheet'!C87=\"TOTAL\",\"\",'Arrear Sheet'!S87))","v":""},{"$f":"IF('Arrear Sheet'!T87=\"\",\"\",IF('Arrear Sheet'!C87=\"TOTAL\",\"\",'Arrear Sheet'!T87))","v":""},{"$f":"IF('Arrear Sheet'!U87=\"\",\"\",IF('Arrear Sheet'!C87=\"TOTAL\",\"\",'Arrear Sheet'!U87))","v":""},{"$f":"IF('Arrear Sheet'!V87=\"\",\"\",IF('Arrear Sheet'!C87=\"TOTAL\",\"\",'Arrear Sheet'!V87))","v":""},{"$f":"IF('Arrear Sheet'!W87=\"\",\"\",IF('Arrear Sheet'!C87=\"TOTAL\",\"\",'Arrear Sheet'!W87))","v":""},{"$f":"IF('Arrear Sheet'!X87=\"\",\"\",IF('Arrear Sheet'!C87=\"TOTAL\",\"\",'Arrear Sheet'!X87))","v":""},{"$f":"IF('Arrear Sheet'!Y87=\"\",\"\",IF('Arrear Sheet'!C87=\"TOTAL\",\"\",'Arrear Sheet'!Y87))","v":""},{"$f":"IF('Arrear Sheet'!Z87=\"\",\"\",IF('Arrear Sheet'!C87=\"TOTAL\",\"\",'Arrear Sheet'!Z87))","v":""},{"$f":"IF('Arrear Sheet'!AA87=\"\",\"\",IF('Arrear Sheet'!C87=\"TOTAL\",\"\",'Arrear Sheet'!AA87))","v":""},{"$f":"IF('Arrear Sheet'!AB87=\"\",\"\",IF('Arrear Sheet'!C87=\"TOTAL\",\"\",'Arrear Sheet'!AB87))","v":""},{"$f":"IF('Arrear Sheet'!AC87=\"\",\"\",IF('Arrear Sheet'!C87=\"TOTAL\",\"\",'Arrear Sheet'!AC87))","v":""},{"$f":"IF('Arrear Sheet'!AD87=\"\",\"\",IF('Arrear Sheet'!C87=\"TOTAL\",\"\",'Arrear Sheet'!AD87))","v":""},{"$f":"IF('Arrear Sheet'!AE87=\"\",\"\",IF('Arrear Sheet'!C87=\"TOTAL\",\"\",SUM(N87-AC87)))","v":""}]
[{"$f":"IF('Arrear Sheet'!B88=\"\",\"\",'Arrear Sheet'!B88)","v":""},{"$f":"IF('Arrear Sheet'!C88=\"\",\"\",IF('Arrear Sheet'!C88=\"TOTAL\",\"\",'Arrear Sheet'!C88))","v":""},{"$f":"IF('Arrear Sheet'!D88=\"\",\"\",IF('Arrear Sheet'!C88=\"TOTAL\",\"\",IF('Arrear Sheet'!D88=\"अक्षरें राशि :-\",\"\",'Arrear Sheet'!D88)))","v":""},{"$f":"IF('Arrear Sheet'!E88=\"\",\"\",IF('Arrear Sheet'!C88=\"TOTAL\",\"\",'Arrear Sheet'!E88))","v":""},{"$f":"IF('Arrear Sheet'!F88=\"\",\"\",IF('Arrear Sheet'!C88=\"TOTAL\",\"\",'Arrear Sheet'!F88))","v":""},{"$f":"IF('Arrear Sheet'!G88=\"\",\"\",IF('Arrear Sheet'!C88=\"TOTAL\",\"\",SUM(C88:E88)))","v":""},{"$f":"IF('Arrear Sheet'!H88=\"\",\"\",IF('Arrear Sheet'!C88=\"TOTAL\",\"\",'Arrear Sheet'!H88))","v":""},{"$f":"IF('Arrear Sheet'!I88=\"\",\"\",IF('Arrear Sheet'!C88=\"TOTAL\",\"\",'Arrear Sheet'!I88))","v":""},{"$f":"IF('Arrear Sheet'!J88=\"\",\"\",IF('Arrear Sheet'!C88=\"TOTAL\",\"\",'Arrear Sheet'!J88))","v":""},{"$f":"IF('Arrear Sheet'!K88=\"\",\"\",IF('Arrear Sheet'!C88=\"TOTAL\",\"\",SUM(G88:I88)))","v":""},{"$f":"IF('Arrear Sheet'!L88=\"\",\"\",IF('Arrear Sheet'!C88=\"TOTAL\",\"\",'Arrear Sheet'!L88))","v":""},{"$f":"IF('Arrear Sheet'!M88=\"\",\"\",IF('Arrear Sheet'!C88=\"TOTAL\",\"\",'Arrear Sheet'!M88))","v":""},{"$f":"IF('Arrear Sheet'!N88=\"\",\"\",IF('Arrear Sheet'!C88=\"TOTAL\",\"\",'Arrear Sheet'!N88))","v":""},{"$f":"IF('Arrear Sheet'!O88=\"\",\"\",IF('Arrear Sheet'!C88=\"TOTAL\",\"\",SUM(K88:M88)))","v":""},{"$f":"IF('Arrear Sheet'!P88=\"\",\"\",IF('Arrear Sheet'!C88=\"TOTAL\",\"\",'Arrear Sheet'!P88))","v":""},{"$f":"IF('Arrear Sheet'!Q88=\"\",\"\",IF('Arrear Sheet'!C88=\"TOTAL\",\"\",'Arrear Sheet'!Q88))","v":""},{"$f":"IF('Arrear Sheet'!R88=\"\",\"\",IF('Arrear Sheet'!C88=\"TOTAL\",\"\",'Arrear Sheet'!R88))","v":""},{"$f":"IF('Arrear Sheet'!S88=\"\",\"\",IF('Arrear Sheet'!C88=\"TOTAL\",\"\",'Arrear Sheet'!S88))","v":""},{"$f":"IF('Arrear Sheet'!T88=\"\",\"\",IF('Arrear Sheet'!C88=\"TOTAL\",\"\",'Arrear Sheet'!T88))","v":""},{"$f":"IF('Arrear Sheet'!U88=\"\",\"\",IF('Arrear Sheet'!C88=\"TOTAL\",\"\",'Arrear Sheet'!U88))","v":""},{"$f":"IF('Arrear Sheet'!V88=\"\",\"\",IF('Arrear Sheet'!C88=\"TOTAL\",\"\",'Arrear Sheet'!V88))","v":""},{"$f":"IF('Arrear Sheet'!W88=\"\",\"\",IF('Arrear Sheet'!C88=\"TOTAL\",\"\",'Arrear Sheet'!W88))","v":""},{"$f":"IF('Arrear Sheet'!X88=\"\",\"\",IF('Arrear Sheet'!C88=\"TOTAL\",\"\",'Arrear Sheet'!X88))","v":""},{"$f":"IF('Arrear Sheet'!Y88=\"\",\"\",IF('Arrear Sheet'!C88=\"TOTAL\",\"\",'Arrear Sheet'!Y88))","v":""},{"$f":"IF('Arrear Sheet'!Z88=\"\",\"\",IF('Arrear Sheet'!C88=\"TOTAL\",\"\",'Arrear Sheet'!Z88))","v":""},{"$f":"IF('Arrear Sheet'!AA88=\"\",\"\",IF('Arrear Sheet'!C88=\"TOTAL\",\"\",'Arrear Sheet'!AA88))","v":""},{"$f":"IF('Arrear Sheet'!AB88=\"\",\"\",IF('Arrear Sheet'!C88=\"TOTAL\",\"\",'Arrear Sheet'!AB88))","v":""},{"$f":"IF('Arrear Sheet'!AC88=\"\",\"\",IF('Arrear Sheet'!C88=\"TOTAL\",\"\",'Arrear Sheet'!AC88))","v":""},{"$f":"IF('Arrear Sheet'!AD88=\"\",\"\",IF('Arrear Sheet'!C88=\"TOTAL\",\"\",'Arrear Sheet'!AD88))","v":""},{"$f":"IF('Arrear Sheet'!AE88=\"\",\"\",IF('Arrear Sheet'!C88=\"TOTAL\",\"\",SUM(N88-AC88)))","v":""}]
[{"$f":"IF('Arrear Sheet'!B89=\"\",\"\",'Arrear Sheet'!B89)","v":""},{"$f":"IF('Arrear Sheet'!C89=\"\",\"\",IF('Arrear Sheet'!C89=\"TOTAL\",\"\",'Arrear Sheet'!C89))","v":""},{"$f":"IF('Arrear Sheet'!D89=\"\",\"\",IF('Arrear Sheet'!C89=\"TOTAL\",\"\",IF('Arrear Sheet'!D89=\"अक्षरें राशि :-\",\"\",'Arrear Sheet'!D89)))","v":""},{"$f":"IF('Arrear Sheet'!E89=\"\",\"\",IF('Arrear Sheet'!C89=\"TOTAL\",\"\",'Arrear Sheet'!E89))","v":""},{"$f":"IF('Arrear Sheet'!F89=\"\",\"\",IF('Arrear Sheet'!C89=\"TOTAL\",\"\",'Arrear Sheet'!F89))","v":""},{"$f":"IF('Arrear Sheet'!G89=\"\",\"\",IF('Arrear Sheet'!C89=\"TOTAL\",\"\",SUM(C89:E89)))","v":""},{"$f":"IF('Arrear Sheet'!H89=\"\",\"\",IF('Arrear Sheet'!C89=\"TOTAL\",\"\",'Arrear Sheet'!H89))","v":""},{"$f":"IF('Arrear Sheet'!I89=\"\",\"\",IF('Arrear Sheet'!C89=\"TOTAL\",\"\",'Arrear Sheet'!I89))","v":""},{"$f":"IF('Arrear Sheet'!J89=\"\",\"\",IF('Arrear Sheet'!C89=\"TOTAL\",\"\",'Arrear Sheet'!J89))","v":""},{"$f":"IF('Arrear Sheet'!K89=\"\",\"\",IF('Arrear Sheet'!C89=\"TOTAL\",\"\",SUM(G89:I89)))","v":""},{"$f":"IF('Arrear Sheet'!L89=\"\",\"\",IF('Arrear Sheet'!C89=\"TOTAL\",\"\",'Arrear Sheet'!L89))","v":""},{"$f":"IF('Arrear Sheet'!M89=\"\",\"\",IF('Arrear Sheet'!C89=\"TOTAL\",\"\",'Arrear Sheet'!M89))","v":""},{"$f":"IF('Arrear Sheet'!N89=\"\",\"\",IF('Arrear Sheet'!C89=\"TOTAL\",\"\",'Arrear Sheet'!N89))","v":""},{"$f":"IF('Arrear Sheet'!O89=\"\",\"\",IF('Arrear Sheet'!C89=\"TOTAL\",\"\",SUM(K89:M89)))","v":""},{"$f":"IF('Arrear Sheet'!P89=\"\",\"\",IF('Arrear Sheet'!C89=\"TOTAL\",\"\",'Arrear Sheet'!P89))","v":""},{"$f":"IF('Arrear Sheet'!Q89=\"\",\"\",IF('Arrear Sheet'!C89=\"TOTAL\",\"\",'Arrear Sheet'!Q89))","v":""},{"$f":"IF('Arrear Sheet'!R89=\"\",\"\",IF('Arrear Sheet'!C89=\"TOTAL\",\"\",'Arrear Sheet'!R89))","v":""},{"$f":"IF('Arrear Sheet'!S89=\"\",\"\",IF('Arrear Sheet'!C89=\"TOTAL\",\"\",'Arrear Sheet'!S89))","v":""},{"$f":"IF('Arrear Sheet'!T89=\"\",\"\",IF('Arrear Sheet'!C89=\"TOTAL\",\"\",'Arrear Sheet'!T89))","v":""},{"$f":"IF('Arrear Sheet'!U89=\"\",\"\",IF('Arrear Sheet'!C89=\"TOTAL\",\"\",'Arrear Sheet'!U89))","v":""},{"$f":"IF('Arrear Sheet'!V89=\"\",\"\",IF('Arrear Sheet'!C89=\"TOTAL\",\"\",'Arrear Sheet'!V89))","v":""},{"$f":"IF('Arrear Sheet'!W89=\"\",\"\",IF('Arrear Sheet'!C89=\"TOTAL\",\"\",'Arrear Sheet'!W89))","v":""},{"$f":"IF('Arrear Sheet'!X89=\"\",\"\",IF('Arrear Sheet'!C89=\"TOTAL\",\"\",'Arrear Sheet'!X89))","v":""},{"$f":"IF('Arrear Sheet'!Y89=\"\",\"\",IF('Arrear Sheet'!C89=\"TOTAL\",\"\",'Arrear Sheet'!Y89))","v":""},{"$f":"IF('Arrear Sheet'!Z89=\"\",\"\",IF('Arrear Sheet'!C89=\"TOTAL\",\"\",'Arrear Sheet'!Z89))","v":""},{"$f":"IF('Arrear Sheet'!AA89=\"\",\"\",IF('Arrear Sheet'!C89=\"TOTAL\",\"\",'Arrear Sheet'!AA89))","v":""},{"$f":"IF('Arrear Sheet'!AB89=\"\",\"\",IF('Arrear Sheet'!C89=\"TOTAL\",\"\",'Arrear Sheet'!AB89))","v":""},{"$f":"IF('Arrear Sheet'!AC89=\"\",\"\",IF('Arrear Sheet'!C89=\"TOTAL\",\"\",'Arrear Sheet'!AC89))","v":""},{"$f":"IF('Arrear Sheet'!AD89=\"\",\"\",IF('Arrear Sheet'!C89=\"TOTAL\",\"\",'Arrear Sheet'!AD89))","v":""},{"$f":"IF('Arrear Sheet'!AE89=\"\",\"\",IF('Arrear Sheet'!C89=\"TOTAL\",\"\",SUM(N89-AC89)))","v":""}]
[{"$f":"IF('Arrear Sheet'!B90=\"\",\"\",'Arrear Sheet'!B90)","v":""},{"$f":"IF('Arrear Sheet'!C90=\"\",\"\",IF('Arrear Sheet'!C90=\"TOTAL\",\"\",'Arrear Sheet'!C90))","v":""},{"$f":"IF('Arrear Sheet'!D90=\"\",\"\",IF('Arrear Sheet'!C90=\"TOTAL\",\"\",IF('Arrear Sheet'!D90=\"अक्षरें राशि :-\",\"\",'Arrear Sheet'!D90)))","v":""},{"$f":"IF('Arrear Sheet'!E90=\"\",\"\",IF('Arrear Sheet'!C90=\"TOTAL\",\"\",'Arrear Sheet'!E90))","v":""},{"$f":"IF('Arrear Sheet'!F90=\"\",\"\",IF('Arrear Sheet'!C90=\"TOTAL\",\"\",'Arrear Sheet'!F90))","v":""},{"$f":"IF('Arrear Sheet'!G90=\"\",\"\",IF('Arrear Sheet'!C90=\"TOTAL\",\"\",SUM(C90:E90)))","v":""},{"$f":"IF('Arrear Sheet'!H90=\"\",\"\",IF('Arrear Sheet'!C90=\"TOTAL\",\"\",'Arrear Sheet'!H90))","v":""},{"$f":"IF('Arrear Sheet'!I90=\"\",\"\",IF('Arrear Sheet'!C90=\"TOTAL\",\"\",'Arrear Sheet'!I90))","v":""},{"$f":"IF('Arrear Sheet'!J90=\"\",\"\",IF('Arrear Sheet'!C90=\"TOTAL\",\"\",'Arrear Sheet'!J90))","v":""},{"$f":"IF('Arrear Sheet'!K90=\"\",\"\",IF('Arrear Sheet'!C90=\"TOTAL\",\"\",SUM(G90:I90)))","v":""},{"$f":"IF('Arrear Sheet'!L90=\"\",\"\",IF('Arrear Sheet'!C90=\"TOTAL\",\"\",'Arrear Sheet'!L90))","v":""},{"$f":"IF('Arrear Sheet'!M90=\"\",\"\",IF('Arrear Sheet'!C90=\"TOTAL\",\"\",'Arrear Sheet'!M90))","v":""},{"$f":"IF('Arrear Sheet'!N90=\"\",\"\",IF('Arrear Sheet'!C90=\"TOTAL\",\"\",'Arrear Sheet'!N90))","v":""},{"$f":"IF('Arrear Sheet'!O90=\"\",\"\",IF('Arrear Sheet'!C90=\"TOTAL\",\"\",SUM(K90:M90)))","v":""},{"$f":"IF('Arrear Sheet'!P90=\"\",\"\",IF('Arrear Sheet'!C90=\"TOTAL\",\"\",'Arrear Sheet'!P90))","v":""},{"$f":"IF('Arrear Sheet'!Q90=\"\",\"\",IF('Arrear Sheet'!C90=\"TOTAL\",\"\",'Arrear Sheet'!Q90))","v":""},{"$f":"IF('Arrear Sheet'!R90=\"\",\"\",IF('Arrear Sheet'!C90=\"TOTAL\",\"\",'Arrear Sheet'!R90))","v":""},{"$f":"IF('Arrear Sheet'!S90=\"\",\"\",IF('Arrear Sheet'!C90=\"TOTAL\",\"\",'Arrear Sheet'!S90))","v":""},{"$f":"IF('Arrear Sheet'!T90=\"\",\"\",IF('Arrear Sheet'!C90=\"TOTAL\",\"\",'Arrear Sheet'!T90))","v":""},{"$f":"IF('Arrear Sheet'!U90=\"\",\"\",IF('Arrear Sheet'!C90=\"TOTAL\",\"\",'Arrear Sheet'!U90))","v":""},{"$f":"IF('Arrear Sheet'!V90=\"\",\"\",IF('Arrear Sheet'!C90=\"TOTAL\",\"\",'Arrear Sheet'!V90))","v":""},{"$f":"IF('Arrear Sheet'!W90=\"\",\"\",IF('Arrear Sheet'!C90=\"TOTAL\",\"\",'Arrear Sheet'!W90))","v":""},{"$f":"IF('Arrear Sheet'!X90=\"\",\"\",IF('Arrear Sheet'!C90=\"TOTAL\",\"\",'Arrear Sheet'!X90))","v":""},{"$f":"IF('Arrear Sheet'!Y90=\"\",\"\",IF('Arrear Sheet'!C90=\"TOTAL\",\"\",'Arrear Sheet'!Y90))","v":""},{"$f":"IF('Arrear Sheet'!Z90=\"\",\"\",IF('Arrear Sheet'!C90=\"TOTAL\",\"\",'Arrear Sheet'!Z90))","v":""},{"$f":"IF('Arrear Sheet'!AA90=\"\",\"\",IF('Arrear Sheet'!C90=\"TOTAL\",\"\",'Arrear Sheet'!AA90))","v":""},{"$f":"IF('Arrear Sheet'!AB90=\"\",\"\",IF('Arrear Sheet'!C90=\"TOTAL\",\"\",'Arrear Sheet'!AB90))","v":""},{"$f":"IF('Arrear Sheet'!AC90=\"\",\"\",IF('Arrear Sheet'!C90=\"TOTAL\",\"\",'Arrear Sheet'!AC90))","v":""},{"$f":"IF('Arrear Sheet'!AD90=\"\",\"\",IF('Arrear Sheet'!C90=\"TOTAL\",\"\",'Arrear Sheet'!AD90))","v":""},{"$f":"IF('Arrear Sheet'!AE90=\"\",\"\",IF('Arrear Sheet'!C90=\"TOTAL\",\"\",SUM(N90-AC90)))","v":""}]
[{"$f":"IF('Arrear Sheet'!B91=\"\",\"\",'Arrear Sheet'!B91)","v":""},{"$f":"IF('Arrear Sheet'!C91=\"\",\"\",IF('Arrear Sheet'!C91=\"TOTAL\",\"\",'Arrear Sheet'!C91))","v":""},{"$f":"IF('Arrear Sheet'!D91=\"\",\"\",IF('Arrear Sheet'!C91=\"TOTAL\",\"\",IF('Arrear Sheet'!D91=\"अक्षरें राशि :-\",\"\",'Arrear Sheet'!D91)))","v":""},{"$f":"IF('Arrear Sheet'!E91=\"\",\"\",IF('Arrear Sheet'!C91=\"TOTAL\",\"\",'Arrear Sheet'!E91))","v":""},{"$f":"IF('Arrear Sheet'!F91=\"\",\"\",IF('Arrear Sheet'!C91=\"TOTAL\",\"\",'Arrear Sheet'!F91))","v":""},{"$f":"IF('Arrear Sheet'!G91=\"\",\"\",IF('Arrear Sheet'!C91=\"TOTAL\",\"\",SUM(C91:E91)))","v":""},{"$f":"IF('Arrear Sheet'!H91=\"\",\"\",IF('Arrear Sheet'!C91=\"TOTAL\",\"\",'Arrear Sheet'!H91))","v":""},{"$f":"IF('Arrear Sheet'!I91=\"\",\"\",IF('Arrear Sheet'!C91=\"TOTAL\",\"\",'Arrear Sheet'!I91))","v":""},{"$f":"IF('Arrear Sheet'!J91=\"\",\"\",IF('Arrear Sheet'!C91=\"TOTAL\",\"\",'Arrear Sheet'!J91))","v":""},{"$f":"IF('Arrear Sheet'!K91=\"\",\"\",IF('Arrear Sheet'!C91=\"TOTAL\",\"\",SUM(G91:I91)))","v":""},{"$f":"IF('Arrear Sheet'!L91=\"\",\"\",IF('Arrear Sheet'!C91=\"TOTAL\",\"\",'Arrear Sheet'!L91))","v":""},{"$f":"IF('Arrear Sheet'!M91=\"\",\"\",IF('Arrear Sheet'!C91=\"TOTAL\",\"\",'Arrear Sheet'!M91))","v":""},{"$f":"IF('Arrear Sheet'!N91=\"\",\"\",IF('Arrear Sheet'!C91=\"TOTAL\",\"\",'Arrear Sheet'!N91))","v":""},{"$f":"IF('Arrear Sheet'!O91=\"\",\"\",IF('Arrear Sheet'!C91=\"TOTAL\",\"\",SUM(K91:M91)))","v":""},{"$f":"IF('Arrear Sheet'!P91=\"\",\"\",IF('Arrear Sheet'!C91=\"TOTAL\",\"\",'Arrear Sheet'!P91))","v":""},{"$f":"IF('Arrear Sheet'!Q91=\"\",\"\",IF('Arrear Sheet'!C91=\"TOTAL\",\"\",'Arrear Sheet'!Q91))","v":""},{"$f":"IF('Arrear Sheet'!R91=\"\",\"\",IF('Arrear Sheet'!C91=\"TOTAL\",\"\",'Arrear Sheet'!R91))","v":""},{"$f":"IF('Arrear Sheet'!S91=\"\",\"\",IF('Arrear Sheet'!C91=\"TOTAL\",\"\",'Arrear Sheet'!S91))","v":""},{"$f":"IF('Arrear Sheet'!T91=\"\",\"\",IF('Arrear Sheet'!C91=\"TOTAL\",\"\",'Arrear Sheet'!T91))","v":""},{"$f":"IF('Arrear Sheet'!U91=\"\",\"\",IF('Arrear Sheet'!C91=\"TOTAL\",\"\",'Arrear Sheet'!U91))","v":""},{"$f":"IF('Arrear Sheet'!V91=\"\",\"\",IF('Arrear Sheet'!C91=\"TOTAL\",\"\",'Arrear Sheet'!V91))","v":""},{"$f":"IF('Arrear Sheet'!W91=\"\",\"\",IF('Arrear Sheet'!C91=\"TOTAL\",\"\",'Arrear Sheet'!W91))","v":""},{"$f":"IF('Arrear Sheet'!X91=\"\",\"\",IF('Arrear Sheet'!C91=\"TOTAL\",\"\",'Arrear Sheet'!X91))","v":""},{"$f":"IF('Arrear Sheet'!Y91=\"\",\"\",IF('Arrear Sheet'!C91=\"TOTAL\",\"\",'Arrear Sheet'!Y91))","v":""},{"$f":"IF('Arrear Sheet'!Z91=\"\",\"\",IF('Arrear Sheet'!C91=\"TOTAL\",\"\",'Arrear Sheet'!Z91))","v":""},{"$f":"IF('Arrear Sheet'!AA91=\"\",\"\",IF('Arrear Sheet'!C91=\"TOTAL\",\"\",'Arrear Sheet'!AA91))","v":""},{"$f":"IF('Arrear Sheet'!AB91=\"\",\"\",IF('Arrear Sheet'!C91=\"TOTAL\",\"\",'Arrear Sheet'!AB91))","v":""},{"$f":"IF('Arrear Sheet'!AC91=\"\",\"\",IF('Arrear Sheet'!C91=\"TOTAL\",\"\",'Arrear Sheet'!AC91))","v":""},{"$f":"IF('Arrear Sheet'!AD91=\"\",\"\",IF('Arrear Sheet'!C91=\"TOTAL\",\"\",'Arrear Sheet'!AD91))","v":""},{"$f":"IF('Arrear Sheet'!AE91=\"\",\"\",IF('Arrear Sheet'!C91=\"TOTAL\",\"\",SUM(N91-AC91)))","v":""}]
["TOTAL",null,{"$f":"IF($E$3=\"\",\"\",SUM(C8:C91))","v":356084},149555,32048,537687,345697,145193,31113,522003,10387,4362,935,15684,23100,23100,0,0,0,0,0,0,0,7238,4840,2398,0,0,0,15684]
[{"$nulls":6},"In Words:"]
[]
[null,"S.R.",{"$nulls":6},"Date :",{"$f":"TODAY()","v":"2023-06-15"}]
[null,"For Copying And Necessary Action"]
[1,"Treasury Officer / Deputy treasury  Officer",{"$nulls":18},{"$f":"IF(AND(E3=\"\"),\"\",CONCATENATE(\"( \",'Master Sheet'!D5,\" ) \"))","v":"( USHA PALIYA ) "}]
[2,"Related Employee Sh./Smt./Mis.",{"$nulls":3},{"$f":"CONCATENATE(E3,\",\",\"  \",N3)","v":"HEERALAL JAT,  SR. TEACHER"},{"$nulls":14},"Drawing & Despersal Officer"]
[3,"File Register",{"$nulls":18},{"$f":"IF('Master Sheet'!D3=\"\",\"\",'Master Sheet'!D3)","v":"Mahatma Gandhi Government School (English Medium) Bar, PALI"}]
[]
[{"$nulls":10},"."]