{"text_format":"3","workbook":"xlsx","n_sheets":6,"sheets":["SD Data Paste","Exam Pattern","Student Data","Score List 1 TO 8","Score List 9 TO 10","Score List 11 TO 12"],"not_rendered":{"macros":1,"defined_names":10},"read":"whole","date_system":"1900"}

{"sheet":"SD Data Paste","index":0,"n_rows":674,"n_cols":30,"rows_kept":674}
["Class","Section","SRNO","DOA","Name","Late Status","FatherName","MotherName","Gender","Dob","ClassRollNo","ExamRollNumber","School Total Working Days","Student Total Attendence","Category","Religion","Previous Year Marks","Name Of School","School UDise Code","Aadhar No of Student","Bhamashash Card","Mobile No Student(Father/Mother/Guardian","Student Permanent Address","Annual Parental Income","CWSN Status","BPL Status","Minority Status","Age On Present(In Years)","Co-Curricular Activity","Distance From School"]
[1,"A",13740,"2021-07-15","Aarav Bapana",null,"Pankaj Bapana","Suman Bapana","M","2016-04-08",{"$nulls":4},"GEN","Hindu",null,"GOVT. SENIOR SECONDARY SCHOOL DEOGARH (222753)",8250215703,null,null,9414786685,"KOTWALI CHABUTARA,DEOGARH,DEOGARH,313331",2250000,"N","N","No",5,"None",2]
[1,"A",13939,"2021-08-18","Almira Dayer",null,"Dildar Mohammed","Sayana","F","2016-01-02",{"$nulls":4},"OBC","Muslim",null,"GOVT. SENIOR SECONDARY SCHOOL DEOGARH (222753)",8250215703,"XXXX1851",null,7849981463,"BEHIND GSSS DEOGARH,DEOGARH,DEOGARH,313331",30000,"N","N","Yes",5,"None",1]
[1,"A",13940,"2021-08-18","Bhawana Mali",null,"Kalu Mali","Vimla Devi","F","2016-10-08",{"$nulls":4},"OBC","Hindu",null,"GOVT. SENIOR SECONDARY SCHOOL DEOGARH (222753)",8250215703,"XXXX6063",null,9999999999,"SHAKTI NAGAR ,DEOGARH,DEOGARH,313331",80000,"N","N","No",5,"None",1]
[1,"A",13911,"2021-08-12","Daya Ram",null,"Devi Lal Bhil","Dakhi Devi","M","2016-04-10",{"$nulls":4},"ST","Hindu",null,"GOVT. SENIOR SECONDARY SCHOOL DEOGARH (222753)",8250215703,null,null,7737181210,"RAMPURIYA DEOGARH,DEOGARH,DEOGARH,313331",40000,"N","N","No",5,"None",2]
[1,"A",13698,"2021-06-26","Dayawanti Mali","Late","Ratan Lal Mali","Durga Devi","F","2014-06-19",{"$nulls":4},"OBC","Hindu",null,"GOVT. SENIOR SECONDARY SCHOOL DEOGARH (222753)",8250215703,null,null,9987213126,"MALIYON KA MOHALLA,DEOGARH,DEOGARH,313331",12000,"N","N","No",7,"None",1]
[1,"A",13910,"2021-08-12","Deepak",null,"Devi Lal Bhil","Dakhi Devi","M","2016-04-10",{"$nulls":4},"ST","Hindu",null,"GOVT. SENIOR SECONDARY SCHOOL DEOGARH (222753)",8250215703,null,null,7737181210,"RAMPURIYA ,DEOGARH,DEOGARH,313331",40000,"N","N","No",5,"None",2]
[1,"A",13909,"2021-08-12","Divyansh Puri Goswami",null,"Jaswant Puri Goswami","Nutan Goswami","M","2016-05-21",{"$nulls":4},"OBC","Hindu",null,"GOVT. SENIOR SECONDARY SCHOOL DEOGARH (222753)",8250215703,null,null,9999999999,"WARD NO 23,DEOGARH,DEOGARH,313331",76000,"N","N","No",5,"None",1]
[1,"A",13942,"2021-08-18","Garima Tailor",null,"Devi Lal","Meera Tailor","F","2016-08-11",{"$nulls":4},"OBC","Hindu",null,"GOVT. SENIOR SECONDARY SCHOOL DEOGARH (222753)",8250215703,null,null,7850851862,"NARAYAN JI KA ,MOHALLA,DEOGARH,SUTHARON KI GALI,313331",40000,"N","N","No",5,"None",2]
[1,"A",13944,"2021-08-18","Gourav Kumar Suthar",null,"Dhanraj Suthar","Sumitra Suthar","M","2016-12-05",{"$nulls":4},"OBC","Hindu",null,"GOVT. SENIOR SECONDARY SCHOOL DEOGARH (222753)",8250215703,null,null,7742179354,"SHAKTI NAGAR,DEOGARH,DEOGARH,313331",70000,"N","N","No",5,"None",2]
[1,"A",13912,"2021-08-12","Kailash",null,"Ladu Lal","Meera Devi","M","2016-02-15",{"$nulls":4},"OBC","Hindu",null,"GOVT. SENIOR SECONDARY SCHOOL DEOGARH (222753)",8250215703,null,null,7737181210,"RAMPURIYA DEOGARH,DEOGARH,DEOGARH,313331",32000,"N","N","No",5,"None",2]
[1,"A",13861,"2021-07-29","Kamlesh Prajapat",null,"Naresh Kumar","Chanda Devi","M","2015-01-03",{"$nulls":4},"OBC","Hindu",null,"GOVT. SENIOR SECONDARY SCHOOL DEOGARH (222753)",8250215703,"XXXX7260","YFKKIAF",6376340941,"KUMHARO KA MOHALLA,DEOGARH,DEOGARH,313331",80000,"Y","N","No",6,"None",1]
[1,"A",13694,"2021-06-26","Mohammad Raja",null,"Dildar Mohammad","Shayna","M","2016-06-22",{"$nulls":4},"OBC","Muslim",null,"GOVT. SENIOR SECONDARY SCHOOL DEOGARH (222753)",8250215703,null,null,9587213126,"VEDON KA MOHALLA ,DEOGARH,DEOGARH ,313331",30000,"N","N","Yes",5,"None",1]
[1,"A",13697,"2021-06-26","Najmin Bano",null,"Sadik Mohammad Luhar","Najma Bano","F","2016-05-31",{"$nulls":4},"OBC","Muslim",null,"GOVT. SENIOR SECONDARY SCHOOL DEOGARH (222753)",8250215703,"XXXX6242",null,8094502860,"BAJRANG BATTRY KE PASS ,DEOGARH,DEOGARH,313331",32000,"N","N","Yes",5,"None",1]
[1,"A",13791,"2021-07-22","Nisha Regar",null,"Ramlal Regar","Shanta Regar","F","2013-05-25",{"$nulls":4},"SC","Hindu",null,"GOVT. SENIOR SECONDARY SCHOOL DEOGARH (222753)",8250215703,"XXXX2319",null,9784881014,"SOLANKI DARWAJA KE ANDER,DEOGARH,DEOGARH,313331",36000,"N","N","No",8,"None",1]
[1,"A",13945,"2021-08-18","Noore Mevish",null,"Yunus Mohammad Sheikh","Farin Banu","F","2016-02-28",{"$nulls":4},"GEN","Muslim",null,"GOVT. SENIOR SECONDARY SCHOOL DEOGARH (222753)",8250215703,"XXXX5469",null,8769341203,"WARD NO 18,DEOGARH,DEOGARH,313331",70000,"N","N","Yes",5,"None",2]
[1,"A",13696,"2021-06-26","Pankaj Mali",null,"Mukesh Mali","Rekha Mali","M","2013-10-31",{"$nulls":4},"OBC","Hindu",null,"GOVT. SENIOR SECONDARY SCHOOL DEOGARH (222753)",8250215703,"XXXX7869",null,9725763495,"BRAHMCHARYA AASHRAM KE PASS,DEOGARH,DEOGARH,313331",30000,"N","N","No",8,"None",1]
[1,"A",13941,"2021-08-18","Prahlad",null,"Shanti Lal","Leela Devi","M","2012-01-15",{"$nulls":4},"OBC","Hindu",null,"GOVT. SENIOR SECONDARY SCHOOL DEOGARH (222753)",8250215703,"XXXX1066",null,9929324004,"BEHIND BRAHMCHARYA AASHRAM,DEOGARH,SHAKTI NAGAR DEOGARH,313331",12000,"N","N","No",9,"None",1]
[1,"A",13692,"2021-06-26","Pratham Vyas",null,"Tulsi Ram Vyas","Rekha Devi","M","2015-12-07",{"$nulls":4},"GEN","Hindu",null,"GOVT. SENIOR SECONDARY SCHOOL DEOGARH (222753)",8250215703,"XXXX7018",null,9660659608,"MARU DARWAJA KE ANDER ,DEOGARH,BANDI HOLI KA THAN WARD NO 20,313331",60000,"N","N","No",6,"None",1]
[1,"A",13860,"2021-07-29","Vijay Kumar Mali",null,"Vanna Lal Mali","Manju Devi","M","2016-11-16",{"$nulls":4},"OBC","Hindu",null,"GOVT. SENIOR SECONDARY SCHOOL DEOGARH (222753)",8250215703,null,null,7790859963,"SHAKTI NAGAR WARD NO 24,DEOGARH,DEOGARH,313331",36000,"N","N","No",5,"None",1]
[1,"A",13695,"2021-06-26","Vishal Mali",null,"Radheshyam Mali","Vardi Mali","M","2013-04-15",{"$nulls":4},"OBC","Hindu",null,"GOVT. SENIOR SECONDARY SCHOOL DEOGARH (222753)",8250215703,"XXXX6236",null,9725763495,"BRAHMCHARYA AASHRAM KE PASS,DEOGARH,DEOGARH,313331",30000,"N","N","No",8,"None",1]
[1,"A",13859,"2021-07-29","Yuvan Mali",null,"Mahendra Mali","Neelam","M","2016-03-02",{"$nulls":4},"OBC","Hindu",null,"GOVT. SENIOR SECONDARY SCHOOL DEOGARH (222753)",8250215703,null,"VZBKSPT",7023206468,"PASHU CHIKISTALYA KE SAMNE WARD NO 24,DEOGARH,DEOGARH,313331",100000,"N","N","No",5,"None",1]
[2,"A",13548,"2020-09-09","Anil Mali",null,"Ganpat Lal Mali","Santu Devi Mali","M","2013-12-14",{"$nulls":4},"OBC","Hindu",null,"GOVT. SENIOR SECONDARY SCHOOL DEOGARH (222753)",8250215703,"XXXX0482",null,9783707652,"NARANIYA MAHADEV ROAD,DEOGARH,DEOGARH,313331",20000,"N","N","No",8,"None",1]
[2,"A",13607,"2020-10-15","Aszad",null,"Mohammad Javed","Chaman Noor","M","2015-09-14",{"$nulls":4},"GEN","Muslim",null,"GOVT. SENIOR SECONDARY SCHOOL DEOGARH (222753)",8250215703,"XXXX7843",null,9012450246,"DEOGARH,DEOGARH,DEOGARH,313331",20000,"N","N","Yes",6,"None",1]
[2,"A",13612,"2020-10-15","Bhupendra Mali",null,"Ladu Lal Mali","Seema Mali","M","2013-03-18",{"$nulls":4},"OBC","Hindu",null,"GOVT. SENIOR SECONDARY SCHOOL DEOGARH (222753)",8250215703,null,null,8290915602,"BRAHMCHARYA AASHRAM KE PASS,DEOGARH,DEOGARH,313331",20000,"N","N","No",8,"None",1]
[2,"A",13634,"2020-10-15","Chandraprakash Mali",null,"Vinod Kumar Mali","Mamta","M","2015-08-23",{"$nulls":4},"OBC","Hindu",null,"GOVT. SENIOR SECONDARY SCHOOL DEOGARH (222753)",8250215703,null,null,9672714066,"SHAKTI NAGAR WARD NO 20,DEOGARH,DEOGARH,313331",24000,"N","N","No",6,"None",1]
[2,"A",13622,"2020-10-15","Divya",null,"Roshan Lal","Pushpa","F","2012-12-12",{"$nulls":4},"OBC","Hindu",null,"GOVT. SENIOR SECONDARY SCHOOL DEOGARH (222753)",8250215703,"XXXX8617",null,9783874517,"BEHIND BRAHMCHARYA AASHRAM ,DEOGARH,DEOGARH,313331",18000,"N","N","No",9,"None",1]
[2,"A",13648,"2020-10-20","Harsh Mali",null,"Kanhaiya Lal Mali","Sushila Devi","M","2012-10-09",{"$nulls":4},"OBC","Hindu",null,"GOVT. SENIOR SECONDARY SCHOOL DEOGARH (222753)",8250215703,"XXXX2518","YBSSSOO",9001858800,"WARD NO 20 DEOGARH,DEOGARH,DEOGARH,313331",28000,"N","N","No",9,"None",1]
[2,"A",13943,"2021-08-18","Harshita",null,"Panna Lal Suthar","Meena Devi","F","2013-09-30",{"$nulls":4},"OBC","Hindu",null,"GOVT. SENIOR SECONDARY SCHOOL DEOGARH (222753)",8250215703,"XXXX8310",null,9929327242,"SUTHARO KI GALI NARAYAN JI KA MOHALLA,DEOGARH,DEOGARH,313331",36000,"N","N","No",8,"None",2]
[2,"A",13575,"2020-09-21","Irshad",null,"Tahir Mohammad","Sma Banu Shekh","M","2015-02-02",{"$nulls":4},"GEN","Muslim",null,"GOVT. SENIOR SECONDARY SCHOOL DEOGARH (222753)",8250215703,"XXXX1857",null,9950735844,"SHEIKHO KA MOHALLA,DEOGARH,DEOGARH,313331",24000,"N","N","Yes",6,"None",1]
[2,"A",13602,"2020-10-13","Kamal Mali",null,"Kalu Lal Mali","Sushila Devi Mali","M","2014-03-26",{"$nulls":4},"OBC","Hindu",null,"GOVT. SENIOR SECONDARY SCHOOL DEOGARH (222753)",8250215703,"XXXX2845","VBRVXSV",6350211456,"BHARMACHARYA AASHRAM KE PASS,DEOGARH,DEOGARH,313331",20000,"N","N","No",7,"None",1]
[2,"A",13638,"2020-10-16","Manthan Mali",null,"Suresh Kumar Mali","Parul Mali","M","2014-10-20",{"$nulls":4},"OBC","Hindu",null,"GOVT. SENIOR SECONDARY SCHOOL DEOGARH (222753)",8250215703,"XXXX6625",null,9784299900,"SHAKTI NAGAR ,DEOGARH,DEOGARH,313331",15000,"N","N","No",7,"None",1]
[2,"A",13633,"2020-10-15","Mukesh Mali",null,"Jagdish Mali","Sona Mali","M","2015-05-14",{"$nulls":4},"OBC","Hindu",null,"GOVT. SENIOR SECONDARY SCHOOL DEOGARH (222753)",8250215703,"XXXX7845",null,9725179734,"KHADI BHANDAR KE PICHE WARD NO 20,DEOGARH,DEOGARH,313331",28000,"N","N","No",6,"None",1]
[2,"A",13652,"2020-10-20","Narayan Mali",null,"Ishwar Lal Mali","Manju Devi","M","2014-12-20",{"$nulls":4},"OBC","Hindu",null,"GOVT. SENIOR SECONDARY SCHOOL DEOGARH (222753)",8250215703,"XXXX0505",null,9928275256,"SHAKTI NAGAR WARD NO 20,DEOGARH,DEOGARH,313331",100000,"N","N","No",7,"None",1]
[2,"A",13594,"2020-10-05","Pankaj Regar",null,"Laxman Lal Regar","Kamla Devi","M","2014-06-01",{"$nulls":4},"SC","Hindu",null,"GOVT. SENIOR SECONDARY SCHOOL DEOGARH (222753)",8250215703,"XXXX2753",null,8094502439,"WARD NO 10 REGAR MOHALLA,DEOGARH,DEOGARH,313331",36000,"N","N","No",7,"None",1]
[2,"A",13590,"2020-10-05","Piyush Sen",null,"Mahendra Kumar Sen","Bhagwati Devi","M","2013-03-27",{"$nulls":4},"OBC","Hindu",null,"GOVT. SENIOR SECONDARY SCHOOL DEOGARH (222753)",8250215703,"XXXX6992","YBQDIAO",9929952466,"SHAKTI NAGAR,DEOGARH,DEOGARH,313331",22000,"N","N","No",8,"None",1]
[2,"A",13674,"2021-01-15","Pooja Mali",null,"Babu Lal Mali","Lali","F","2014-03-24",{"$nulls":4},"OBC","Hindu",null,"GOVT. SENIOR SECONDARY SCHOOL DEOGARH (222753)",8250215703,null,null,7878608569,"SURAJ DARWAJA BUS STAND,DEOGARH,DEOGARH,313331",80000,"N","N","No",7,"None",2]
[2,"A",13637,"2020-10-16","Purnima Mali",null,"Sunil Mali","Meena Devi","F","2014-05-14",{"$nulls":4},"OBC","Hindu",null,"GOVT. SENIOR SECONDARY SCHOOL DEOGARH (222753)",8250215703,"XXXX6645",null,7878450260,"BAPU NAGAR,DEOGARH,DEOGARH,313331",25000,"N","N","No",7,"None",1]
[2,"A",13651,"2020-10-20","Radhika Mali",null,"Mukesh Mali","Reshma","F","2015-12-08",{"$nulls":4},"OBC","Hindu",null,"GOVT. SENIOR SECONDARY SCHOOL DEOGARH (222753)",8250215703,null,null,9079793930,"BEHIND GSSS DEOGARH,DEOGARH,DEOGARH,313331",80000,"N","N","No",6,"None",1]
[2,"A",13585,"2020-10-05","Sidarth Kumar Sen",null,"Pradeep Kumar Sen","Pooja Devi","M","2015-04-15",{"$nulls":4},"OBC","Hindu",null,"GOVT. SENIOR SECONDARY SCHOOL DEOGARH (222753)",8250215703,"XXXX7636",null,9660141143,"NAIYON KI GALI WARD NO 16,DEOGARH,KOTWALI CHABUTARA DEOGARH,313331",30000,"N","N","No",6,"None",1]
[2,"A",13611,"2020-10-15","Siddhi Sen",null,"Prahalad Sen","Meetu Sen","F","2014-03-28",{"$nulls":4},"OBC","Hindu",null,"GOVT. SENIOR SECONDARY SCHOOL DEOGARH (222753)",8250215703,"XXXX2187",null,9166685440,"NAYION KA MOHALLA WARD NO 16,DEOGARH,DEOGARH,313331",60000,"N","N","No",7,"None",1]
[2,"A",13595,"2020-10-05","Tarun Jalliya",null,"Mahendra Kumar Regar","Manju","M","2013-12-01",{"$nulls":4},"SC","Hindu",null,"GOVT. SENIOR SECONDARY SCHOOL DEOGARH (222753)",8250215703,"XXXX3514",null,6375268910,"WARD NO 10 REGAR MOHALLA,DEOGARH,DEOGARH,313331",36000,"N","N","No",8,"None",1]
[3,"A",13323,"2019-07-10","AYSHA BANU",null,"MOHAMMAD JAVED","CHAMAN NOOR","F","2014-07-07",{"$nulls":4},"GEN","Muslim",null,"GOVT. SENIOR SECONDARY SCHOOL DEOGARH (222753)",8250215703,"XXXX5426",null,8218098972,"DEOGARH,DEOGARH,DEOGARH,313331",50000,"N","N","Yes",7,"None",1]
[3,"A",13168,"2019-07-02","Basanti Mali",null,"Mukesh Mali","Meena Devi","F","2013-10-22",{"$nulls":4},"OBC","Hindu",null,"GOVT. SENIOR SECONDARY SCHOOL DEOGARH (222753)",8250215703,"XXXX5112",null,6375609084,"KHADI BHANDAR KE PASS ,DEOGARH,DEOGARH,313331",40000,"N","N","No",8,"None",1]
[3,"A",13641,"2020-10-16","Bhawna Mali",null,"Vanna Lal Mali","Manju","F","2014-02-25",{"$nulls":4},"OBC","Hindu",null,"GOVT. SENIOR SECONDARY SCHOOL DEOGARH (222753)",8250215703,"XXXX8706","VZPBHUJ",7790859963,"NARANIYA MAHADEV ROAD WARD NO 20,DEOGARH,DEOGARH,313331",28000,"N","N","No",7,"None",1]
[3,"A",13650,"2020-10-20","Bhumika Mali",null,"Ramesh Chandra Mali","Sushila","F","2014-06-14",{"$nulls":4},"OBC","Hindu",null,"GOVT. SENIOR SECONDARY SCHOOL DEOGARH (222753)",8250215703,"XXXX1576","BAAISGG",8058709717,"WARD NO 20 DEOGARH,DEOGARH,DEOGARH,313331",30000,"N","N","No",7,"None",1]
[3,"A",13626,"2020-10-15","Bhupendra Mali",null,"Lahri Lal Mali","Manju Devi","M","2013-07-21",{"$nulls":4},"OBC","Hindu",null,"GOVT. SENIOR SECONDARY SCHOOL DEOGARH (222753)",8250215703,"XXXX1441",null,9929324004,"SUKHWAL STONE KE PICHE WARD NO 20,DEOGARH,DEOGARH,313331",23000,"N","N","No",8,"None",1]
[3,"A",13639,"2020-10-16","Deepak Mali",null,"Vinod Mali","Chandrika Mali","M","2012-11-18",{"$nulls":4},"OBC","Hindu",null,"GOVT. SENIOR SECONDARY SCHOOL DEOGARH (222753)",8250215703,"XXXX2982",null,9664460217,"BAPU NAGAR ,DEOGARH,DEOGARH,313331",25000,"N","N","No",9,"None",1]
[3,"A",13109,"2018-07-07","DIMPLE MALI",null,"GANPAT LAL","SANTOSH DEVI","F","2011-07-11",{"$nulls":4},"OBC","Hindu",null,"GOVT. SENIOR SECONDARY SCHOOL DEOGARH (222753)",8250215703,"XXXX5673",null,9549208592,"KARANI MATA DEOGARH,DEOGARH,DEOGARH,313331",40000,"N","N","No",10,"None",1]
[3,"A",13268,"2019-07-09","Dungar Mali",null,"Omprakash Mali","Basanti Devi","M","2013-08-07",{"$nulls":4},"OBC","Hindu",null,"GOVT. SENIOR SECONDARY SCHOOL DEOGARH (222753)",8250215703,"XXXX4163","YFBKWEG",9928801357,"NARANIYA MAHADEV MANDIR ROAD,DEOGARH,DEOGARH,31331",40000,"N","N","No",8,"None",1]
[3,"A",13653,"2020-10-20","Himmat Mali",null,"Madan Lal Mali","Jamna Mali","M","2012-12-31",{"$nulls":4},"OBC","Hindu",null,"GOVT. SENIOR SECONDARY SCHOOL DEOGARH (222753)",8250215703,"XXXX6104","BHVKWBR",8875017522,"SHAKTI NAGAR WARD NO 20,DEOGARH,DEOGARH,313331",100000,"N","N","No",9,"None",1]
[3,"A",13601,"2020-10-10","Jyoti Sen",null,"Ganpat Lal Sen","Meena Devi","F","2013-12-20",{"$nulls":4},"OBC","Hindu",null,"GOVT. SENIOR SECONDARY SCHOOL DEOGARH (222753)",8250215703,"XXXX8365",null,7568749765,"NARANIYON KA MOHALLA WARD NO 15,DEOGARH,DEOGARH,313331",20000,"N","N","No",8,"None",1]
[3,"A",13107,"2018-07-07","KHUSHI MALI",null,"KAILASH CHANDRA","MEENA KUMARI","F","2013-01-01",{"$nulls":4},"OBC","Hindu",null,"GOVT. SENIOR SECONDARY SCHOOL DEOGARH (222753)",8250215703,"XXXX8531",null,8003267106,"BHARMCHARIYA AASHRAM DEOGARH,DEOGARH,DEOGARH,313331",36000,"N","N","No",8,"None",1]
[3,"A",13664,"2020-10-20","KIRAN KUMARI","Late","VIJAY SINGH","SHANTA DEVI","F","2012-01-01",{"$nulls":4},"OBC","Hindu",null,"GOVT. SENIOR SECONDARY SCHOOL DEOGARH (222753)",8250215703,"XXXX4467",null,7850839251,"MALIYON KA MOHALLA,DEOGARH,DEOGARH,313331",36000,"N","N","No",9,"None",0]
[3,"A",13326,"2019-07-12","Lakhan Lohar",null,"Suresh Lohar","Maya Devi","M","2014-10-10",{"$nulls":4},"OBC","Hindu",null,"GOVT. SENIOR SECONDARY SCHOOL DEOGARH (222753)",8250215703,"XXXX5246","BCCWYQO",9829764630,"MALIYO KA MOHALLA,DEOGARH,DEOGARH,313331",40000,"Y","N","No",7,"None",1]
[3,"A",13158,"2019-05-08","Minakshi Mali",null,"Kailash Chandra Mali","Tamu Devi","F","2014-07-08",{"$nulls":4},"OBC","Hindu",null,"GOVT. SENIOR SECONDARY SCHOOL DEOGARH (222753)",8250215703,"XXXX4955","VBRXNHR",8619638554,"BRAHMCHARYA AASHRAM KE PASS,DEOGARH,DEOGARH,313331",40000,"N","N","No",7,"None",1]
[3,"A",13163,"2019-06-27","Mohd Ashzad Raza",null,"Jamshed","Rukhsar Vano","M","2014-02-08",{"$nulls":4},"GEN","Muslim",null,"GOVT. SENIOR SECONDARY SCHOOL DEOGARH (222753)",8250215703,"XXXX8902",null,9414983265,"MASJID DEOGARH,DEOGARH,DEOGARH,313331",50000,"N","N","Yes",7,"None",1]
[3,"A",13681,"2021-01-30","Mukesh Regar",null,"Naina Lal","Kanchan Devi","M","2009-07-27",{"$nulls":4},"SC","Hindu",null,"GOVT. SENIOR SECONDARY SCHOOL DEOGARH (222753)",8250215703,"XXXX0893",null,9680070181,"SOLANKI DARWAJA KE BAHAR,DEOGARH,DEOGARH,313331",134000,"N","N","No",12,"None",2]
[3,"A",13673,"2021-01-15","Nilesh Mali",null,"Babu Lal Mali","Lali","M","2011-01-01",{"$nulls":4},"OBC","Hindu",null,"GOVT. SENIOR SECONDARY SCHOOL DEOGARH (222753)",8250215703,null,null,7878608569,"SURAJ DARWAJA BUS STAND,DEOGARH,DEOGARH,313331",80000,"N","N","No",10,"None",2]
[3,"A",13649,"2020-10-20","Nilesh Mali",null,"Kanhaiya Lal Mali","Sushila Devi","M","2010-07-14",{"$nulls":4},"OBC","Hindu",null,"GOVT. SENIOR SECONDARY SCHOOL DEOGARH (222753)",8250215703,"XXXX2547","YBSSSOO",9001858800,"BEHIND GSSS DEOGARH,DEOGARH,DEOGARH,313331",28000,"N","N","No",11,"None",1]
[3,"A",13640,"2020-10-16","Palak Mali",null,"Suresh Kumar Mali","Parul Mali","F","2012-09-17",{"$nulls":4},"OBC","Hindu",null,"GOVT. SENIOR SECONDARY SCHOOL DEOGARH (222753)",8250215703,"XXXX8119",null,9784299900,"SHAKTI NAGARR,DEOGARH,DEOGARH,313331",15000,"N","N","No",9,"None",1]
[3,"A",13159,"2019-05-08","Phoola Lohar",null,"Ramesh Lal","Rekha Devi","F","2013-12-05",{"$nulls":4},"OBC","Hindu",null,"GOVT. SENIOR SECONDARY SCHOOL DEOGARH (222753)",8250215703,"XXXX5799",null,8000514399,"SHAKTI NAGAR ,DEOGARH,DEOGARH,313331",36000,"N","N","No",8,"None",1]
[3,"A",13167,"2019-07-02","Priyanka Solanki",null,"Kanti Lal Solanki","Prem Devi","F","2012-01-01",{"$nulls":4},"OBC","Hindu",null,"GOVT. SENIOR SECONDARY SCHOOL DEOGARH (222753)",8250215703,"XXXX6154",null,9660141411,"INSIDE SOLANKI GATE,DEOGARH,DEOGARH,313331",36000,"N","N","No",9,"None",1]
[3,"A",13654,"2020-10-20","Tejal Mali",null,"Ishwar Lal Mali","Manju Devi","F","2013-02-26",{"$nulls":4},"OBC","Hindu",null,"GOVT. SENIOR SECONDARY SCHOOL DEOGARH (222753)",8250215703,"XXXX2694",null,9928275256,"SHAKTI NAGAR WARD NO 20 DEOGARH,DEOGARH,DEOGARH,313331",100000,"N","N","No",8,"None",1]
[3,"A",13587,"2020-10-05","Viraj Sen",null,"Mukesh Sen","Anita Sen","M","2011-11-05",{"$nulls":4},"OBC","Hindu",null,"GOVT. SENIOR SECONDARY SCHOOL DEOGARH (222753)",8250215703,"XXXX3522",null,9660141430,"NAYION KI GALI WARD NO 16,DEOGARH,KOTWALI CHABUTARA DEOGARH,313331",35000,"N","N","No",10,"None",1]
[3,"A",13635,"2020-10-15","Vishal Mali",null,"Vinod Kumar Mali","Mamta","M","2013-06-20",{"$nulls":4},"OBC","Hindu",null,"GOVT. SENIOR SECONDARY SCHOOL DEOGARH (222753)",8250215703,"XXXX0434",null,9672714066,"SHAKTI NAGAR WARD NO 20,DEOGARH,DEOGARH,313331",24000,"N","N","No",8,"None",1]
[3,"A",13341,"2019-07-13","Yashwant Kumar Vaishnav",null,"Vinod Kumar Vaishnav","Sumitra Devi","M","2013-04-02",{"$nulls":4},"OBC","Hindu",null,"GOVT. SENIOR SECONDARY SCHOOL DEOGARH (222753)",8250215703,"XXXX3792","VSJHRVJ",7727922108,"NAYA MEJA,MANDAL,MEJJA,311140",20000,"N","N","No",8,"None",25]
[4,"A",13625,"2020-10-15","Bharath Mali",null,"Kalu Lal Mali","Sushila Devi","M","2011-09-26",{"$nulls":4},"OBC","Hindu",null,"GOVT. SENIOR SECONDARY SCHOOL DEOGARH (222753)",8250215703,null,"YBRVXSV",6350211456,"BEHIND BRAHMCHARYA AASHRAM ,DEOGARH,DEOGARH,313331",20000,"N","N","No",10,"None",1]
[4,"A",13325,"2019-07-11","Bhupendra Mali",null,"Shanti Lal","Rekha","M","2012-06-06",{"$nulls":4},"OBC","Hindu",null,"GOVT. SENIOR SECONDARY SCHOOL DEOGARH (222753)",8250215703,"XXXX8793",null,7977427171,"shakti nagar deogarh,DEOGARH,DEOGARH,313331",55000,"N","N","No",9,"None",1]
[4,"A",13606,"2020-10-14","Isika Sen",null,"Narendra Kumar Sen","Mamta Sen","F","2011-12-15",{"$nulls":4},"OBC","Hindu",null,"GOVT. SENIOR SECONDARY SCHOOL DEOGARH (222753)",8250215703,null,null,9636119522,"SHAKTI NAGAR DEOGARH,DEOGARH,DEOGARH,313331",20000,"N","N","No",10,"None",1]
[4,"A",13128,"2018-07-18","JANVI KUMARI",null,"ARJUN SINGH RAWAT","KAMLA DEVI","F","2012-10-16",{"$nulls":4},"OBC","Hindu",null,"GOVT. SENIOR SECONDARY SCHOOL DEOGARH (222753)",8250215703,"XXXX9805",null,9879738970,"JALPA POST-KUKADA,SWADARI,JALPA TOGI,313331",10000,"N","N","No",9,"None",15]
[4,"A",13010,"2018-07-02","JEEVIKA MALI",null,"AMBA LAL MALI","KESHAR DEVI","F","2012-01-01",{"$nulls":4},"OBC","Hindu",null,"GOVT. SENIOR SECONDARY SCHOOL DEOGARH (222753)",8250215703,null,null,9660659609,"MELA GAROUND WARD NO 20 DEOGARH,DEOGARH,DEOGARH,313331",40000,"N","N","No",9,"None",1]
[4,"A",12879,"2018-05-07","KHUSHWANT PRAJAPAT",null,"LAXMAN LAL PRAJAPAT","RATAN DEVI","M","2013-06-26",{"$nulls":4},"OBC","Hindu",null,"GOVT. SENIOR SECONDARY SCHOOL DEOGARH (222753)",8250215703,"XXXX0162",null,9636706949,"WARD NO 6 SURAJ DARWAJA DESHANTRIYON KA MOHALLA,DEOGARH,DEOGARH,313331",36000,"N","N","No",8,"None",1]
[4,"A",13628,"2020-10-15","Komal",null,"Devi Lal Mali","Eji Devi","F","2011-06-08",{"$nulls":4},"OBC","Hindu",null,"GOVT. SENIOR SECONDARY SCHOOL DEOGARH (222753)",8250215703,"XXXX4048","YBSKKEB",8386088685,"WARD NO 20 BEHIND BRAHMCHARYA AASHRAM,DEOGARH,DEOGARH,313331",30000,"N","N","No",10,"None",1]
[4,"A",13057,"2018-07-04","LALITA LOHAR",null,"SURESH LOHAR","MAYA DEVI","F","2012-01-12",{"$nulls":4},"OBC","Hindu",null,"GOVT. SENIOR SECONDARY SCHOOL DEOGARH (222753)",8250215703,"XXXX6836",null,9829764630,"MALIYO KA MOHALLA DEOGARH,DEOGARH,DEOGARH,313331",36000,"Y","N","No",9,"None",1]
[4,"A",13824,"2021-07-26","LOKENDR PAL SINGH",null,"LAL SINGH","HEMLATA DEVI","M","2013-06-05",{"$nulls":4},"OBC","Hindu",null,"GOVT. SENIOR SECONDARY SCHOOL DEOGARH (222753)",8250215703,"XXXX1502","VXOORHR",9602997577,"Dholi magri,Bhim,Adawala,305921",80000,"N","N","No",8,"None",2]
[4,"A",13501,"2020-08-26","Manisha Mali",null,"Dinesh Mali","Rekha Devi","F","2012-07-20",{"$nulls":4},"OBC","Hindu",null,"GOVT. SENIOR SECONDARY SCHOOL DEOGARH (222753)",8250215703,"XXXX1373",null,8387832337,"NAYA DARWAJA WARD NO 20,DEOGARH,DEOGARH,313331",10000,"N","N","No",9,"None",1]
[4,"A",13413,"2019-07-23","NARGIS BANU",null,"NIYAAZ MOHAMMAD","FARZANA BANU","F","2011-11-25",{"$nulls":4},"GEN","Muslim",null,"GOVT. SENIOR SECONDARY SCHOOL DEOGARH (222753)",8250215703,"XXXX4386",null,9928995675,"SIPAHIYON KA MOHALLA,DEOGARH,DEOGARH,313331",36000,"N","N","Yes",10,"None",1]
[4,"A",13604,"2020-10-14","Payal Mali",null,"Mahendra Kumar Mali","Sushila Mali","F","2011-03-25",{"$nulls":4},"OBC","Hindu",null,"GOVT. SENIOR SECONDARY SCHOOL DEOGARH (222753)",8250215703,"XXXX5763",null,9727990701,"MALIYON KA MOHALLA WARD NO 13,DEOGARH,DEOGARH,313331",25000,"N","N","No",10,"None",1]
[4,"A",13627,"2020-10-15","Pooja",null,"Lahri Lal","Manju Devi","F","2011-06-24",{"$nulls":4},"OBC","Hindu",null,"GOVT. SENIOR SECONDARY SCHOOL DEOGARH (222753)",8250215703,"XXXX6889",null,9929324004,"SUKHWAL STONE KE PICHE WARD NO 20 ,DEOGARH,DEOGARH,313331",23000,"N","N","No",10,"None",1]
[4,"A",13629,"2020-10-15","Praveen Mali",null,"Roshan Lal Mali","Pushpa","M","2011-05-13",{"$nulls":4},"OBC","Hindu",null,"GOVT. SENIOR SECONDARY SCHOOL DEOGARH (222753)",8250215703,"XXXX5520",null,9783874517,"BEHIND BRAHMCHARYA AASHRAM ,DEOGARH,DEOGARH,313331",18000,"N","N","No",10,"None",1]
[4,"A",13718,"2021-07-12","Shibjeet Sarakar",null,"Prabhas Sarakar","Fulmala","M","2012-11-28",{"$nulls":4},"OBC","Hindu",null,"GOVT. SENIOR SECONDARY SCHOOL DEOGARH (222753)",8250215703,null,null,7976756197,"HOLI KA THAN,DEOGARH,KUNDELI,313331",40000,"N","N","No",9,"None",1]
[4,"A",13600,"2020-10-10","Shrvan Kumar Sen",null,"Ganpat Lal Sen","Meena Devi","M","2011-01-13",{"$nulls":4},"OBC","Hindu",null,"GOVT. SENIOR SECONDARY SCHOOL DEOGARH (222753)",8250215703,"XXXX4886",null,7568749765,"NARANIYON KA MOHALLA WARD NO 15,DEOGARH,DEOGARH,313331",20000,"N","N","No",10,"None",1]
[4,"A",13266,"2019-04-08","Tanisha Mali",null,"Omprakash Mali","Basanti","F","2012-03-13",{"$nulls":4},"OBC","Hindu",null,"GOVT. SENIOR SECONDARY SCHOOL DEOGARH (222753)",8250215703,"XXXX5821","YFBKWEG",9928801357,"NARANIYA MAHADEV ROAD,DEOGARH,DEOGARH,313331",40000,"N","N","No",9,"None",1]
[4,"A",13623,"2020-10-15","Vijendra Mali",null,"Ladu Lal Mali","Seema Mali","M","2011-09-11",{"$nulls":4},"OBC","Hindu",null,"GOVT. SENIOR SECONDARY SCHOOL DEOGARH (222753)",8250215703,null,null,8290915602,"NEAR BRAHMCHARYA AASHRAM,DEOGARH,DEOGARH,313331",20000,"N","N","No",10,"None",1]
[4,"A",13632,"2020-10-15","Virat Mali",null,"Jagdish Mali","Sona Mali","M","2011-05-04",{"$nulls":4},"OBC","Hindu",null,"GOVT. SENIOR SECONDARY SCHOOL DEOGARH (222753)",8250215703,"XXXX2062",null,9725179734,"KHADI BHANDAR KE PICHE WARD NO 20,DEOGARH,DEOGARH,313331",28000,"N","N","No",10,"None",1]
[5,"A",13012,"2018-07-02","AARUSHI MALI",null,"KAILASH CHANDRA MALI","TAMU BAI","F","2011-12-02",{"$nulls":4},"OBC","Hindu",null,"GOVT. SENIOR SECONDARY SCHOOL DEOGARH (222753)",8250215703,"XXXX2098",null,9721609969,"BHARMCHARIY AASHRAM KE PASS WARD NO 20 DEOGARH,DEOGARH,DEOGARH,313331",40000,"N","N","No",10,"None",1]
[5,"A",13588,"2020-10-05","Bhavesh Kumar Sen",null,"Mukesh Kumar Sen","Anita Sen","M","2008-11-02",{"$nulls":4},"OBC","Hindu",null,"GOVT. SENIOR SECONDARY SCHOOL DEOGARH (222753)",8250215703,"XXXX5524",null,9660141430,"NAYION KI GALI WARD NO 16,DEOGARH,KOTWALI CHABUTARA DEOGARH,313331",35000,"N","N","No",13,"None",1]
[5,"A",13430,"2019-08-28","BHAVESH LOHAR",null,"GOVIND LAL LOHAR","MEENA DEVI","M","2011-02-01",{"$nulls":4},"OBC","Hindu",null,"GOVT. SENIOR SECONDARY SCHOOL DEOGARH (222753)",8250215703,"XXXX5744","YBMYEFO",9509409573,"SURAJ DARWAJA WARD NO 6,DEOGARH,DEOGARH,313331",20000,"N","N","No",10,"None",2]
[5,"A",12653,"2017-06-27","BHAVESH MALI",null,"KAILASH MALI","PUSHPA MALI","M","2012-01-28",{"$nulls":4},"OBC","Hindu",null,"GOVT. SENIOR SECONDARY SCHOOL DEOGARH (222753)",8250215703,"XXXX1095",null,9829335609,"NEAR KHADI BHANDAR, SHAKTI NAGAR,DEVGARH,DEVGARH,313331",30000,"N","N","No",9,"None",1]
[5,"A",12704,"2017-07-04","BHAVESH MALI",null,"BHANWAR LAL MALI","MANJU MALI","M","2010-11-11",{"$nulls":4},"OBC","Hindu",null,"GOVT. SENIOR SECONDARY SCHOOL DEOGARH (222753)",8250215703,"XXXX7422","VBCTPKX",9680492429,"SURAJ DARWAJA,DEOGARH,DEOGARH,313331",40000,"N","N","No",11,"None",1]
[5,"A",12873,"2017-08-26","BHAWESH PRAJAPAT",null,"LAXMAN LAL","RATAN DEVI","M","2012-01-01",{"$nulls":4},"OBC","Hindu",null,"GOVT. SENIOR SECONDARY SCHOOL DEOGARH (222753)",8250215703,"XXXX4984","YYVAWIK",9636706949,"SURAJ DARWAJA DAKOTA KA MOHALLA ,DEOGARH,DEOGARH,313331",30000,"N","N","No",9,"None",1]
[5,"A",13113,"2018-07-09","CHETANA TAILOR",null,"DEVI LAL","MEERA DEVI","F","2010-10-16",{"$nulls":4},"OBC","Hindu",null,"GOVT. SENIOR SECONDARY SCHOOL DEOGARH (222753)",8250215703,null,"vbcsnpv",7568665565,"NARAYAN JI KA MOHALLA DEOGARH,DEOGARH,DEOGARH,313331",36000,"N","N","No",11,"None",2]
[5,"A",13166,"2019-07-01","Kanhaiya Sukhwal",null,"Satya Narayan Sukhwal","Kamla Devi","M","2009-09-14",{"$nulls":4},"GEN","Hindu",null,"GOVT. SENIOR SECONDARY SCHOOL DEOGARH (222753)",8250215703,"XXXX2191",null,7023148879,"hospital road bapu nagar ,DEOGARH,DEOGARH,313331",10000,"N","N","No",12,"None",1]
[5,"A",13165,"2019-07-01","Kavyansh Singh Panvar","Late","Karan Singh","Tara Panvar","M","2009-03-05",{"$nulls":4},"OBC","Hindu",null,"GOVT. SENIOR SECONDARY SCHOOL DEOGARH (222753)",8250215703,"XXXX7632",null,9784793030,"MALIYON KA MOHALLA ,DEOGARH,DEOGARH,313331",1251560,"N","N","No",12,"None",2]
[5,"A",13537,"2020-09-01","Khushal Prajapat",null,"Dinesh Prajapat","Manju Prajapat","M","2009-12-20",{"$nulls":4},"OBC","Hindu",null,"GOVT. SENIOR SECONDARY SCHOOL DEOGARH (222753)",8250215703,"XXXX6227",null,8085657434,"ward no.06 deshantariyo ka mohalla,deogarh,,313331",48000,"N","N","No",12,"None",1]
[5,"A",13106,"2018-07-05","KHUSHI LOHAR",null,"BHAWER LAL","SANTOSH DEVI","F","2013-07-26",{"$nulls":4},"OBC","Hindu",null,"GOVT. SENIOR SECONDARY SCHOOL DEOGARH (222753)",8250215703,"XXXX2156","vbnpcrv",8107511520,"MALIYO KA MOHALLA DEOGARH,DEOGARH,DEOGARH,313331",36000,"N","N","No",8,"None",1]
[5,"A",13662,"2020-10-20","KRISHNA KUMARI","Late","VIJAY SINGH","SHANTA DEVI","F","2011-03-25",{"$nulls":4},"OBC","Hindu",null,"GOVT. SENIOR SECONDARY SCHOOL DEOGARH (222753)",8250215703,"XXXX7858",null,7850839251,"MALIYON KA MOHALLA,DEOGARH,DEOGARH,313331",36000,"N","N","No",10,"None",1]
[5,"A",13642,"2020-10-16","Mayank Sen",null,"Lalit Kumar Sen","Indubala Sen","M","2011-06-09",{"$nulls":4},"OBC","Hindu",null,"GOVT. SENIOR SECONDARY SCHOOL DEOGARH (222753)",8250215703,"XXXX4147",null,9680904102,"NAIYON KA MOHALLA WARD NO 16,DEOGARH,DEOGARH,313331",60000,"N","N","No",10,"None",2]
[5,"A",13691,"2021-01-30","Niharika",null,"Kishan Lal","Asha","F","2011-11-30",{"$nulls":4},"OBC","Hindu",null,"GOVT. SENIOR SECONDARY SCHOOL DEOGARH (222753)",8250215703,null,null,9166607143,"SURAJ DARWAJA ,DEOGARH,DEOGARH,313331",0,"N","N","No",10,"None",1]
[5,"A",12703,"2017-07-04","NIRMA MALI",null,"KANARAM MALI","SANTOKI BAI","F","2011-09-08",{"$nulls":4},"OBC","Hindu",null,"GOVT. SENIOR SECONDARY SCHOOL DEOGARH (222753)",8250215703,"XXXX9700","YDYYEIO",9784791411,"SHAKTI NAGAR ,DEOGARH,DEOGARH,313331",20000,"N","Y","No",10,"None",1]
[5,"A",13267,"2019-07-09","Pooja Lohar",null,"Sohan Lal","Sukhi Devi","F","2011-11-25",{"$nulls":4},"OBC","Hindu",null,"GOVT. SENIOR SECONDARY SCHOOL DEOGARH (222753)",8250215703,"XXXX3976","VPXVZJP",9587679880,"NAYA DARWAJA,DEOGARH,DEOGARH,313331",50000,"N","N","No",10,"None",1]
[5,"A",12707,"2017-07-04","POONAM MALI",null,"RAMESH MALI","ANACHHI BAI","F","2012-09-15",{"$nulls":4},"OBC","Hindu",null,"GOVT. SENIOR SECONDARY SCHOOL DEOGARH (222753)",8250215703,null,null,9983870043,"SURAJ DARWAJA,DEOGARH,DEOGARH,313331",25000,"N","N","No",9,"None",1]
[5,"A",13923,"2021-08-13","Poornima Chouhan",null,"Pratap Singh Chouhan","Nirmala Chouhan","F","2010-08-14",{"$nulls":4},"OBC","Hindu",null,"GOVT. SENIOR SECONDARY SCHOOL DEOGARH (222753)",8250215703,"XXXX6779",null,8003969100,"7 KANAK VIHAR COLONY UDAIPUR ROAD ,BEAWER,BEAWER,305901",200000,"N","N","No",11,"None",1]
[5,"A",13688,"2021-01-30","Praveen Prajapat",null,"Ashok Prajapat","Manju Devi","M","2011-10-25",{"$nulls":4},"OBC","Hindu",null,"GOVT. SENIOR SECONDARY SCHOOL DEOGARH (222753)",8250215703,"XXXX7116",null,9993377122,"DEOGARH,DEOGARH,DEOGARH,313331",48000,"N","N","No",10,"None",1]
[5,"A",13014,"2018-07-02","SANJANA MALI",null,"AMBA LAL MALI","KESHAR DEVI","F","2010-01-01",{"$nulls":4},"OBC","Hindu",null,"GOVT. SENIOR SECONDARY SCHOOL DEOGARH (222753)",8250215703,"XXXX2487",null,9660659609,"MELA GAROUND WARD NO 20 DEOGARH,DEOGARH,DEOGARH,313331",40000,"N","N","No",11,"None",1]
[5,"A",13655,"2020-10-20","Sumitra Mali",null,"Madan Lal Mali","Jamna Mali","F","2010-08-25",{"$nulls":4},"OBC","Hindu",null,"GOVT. SENIOR SECONDARY SCHOOL DEOGARH (222753)",8250215703,"XXXX4636","BHVKWBR",8875017522,"SHAKTI NAGAR WARD NO 20 KHADI BHANDAR KE PICHE,DEOGARH,DEOGARH,313331",100000,"N","N","No",11,"None",1]
[5,"A",13946,"2021-08-18","Yashshree",null,"Pannalal","Meena Devi","F","2010-08-19",{"$nulls":4},"SC","Hindu",null,"GOVT. SENIOR SECONDARY SCHOOL DEOGARH (222753)",8250215703,"XXXX9510",null,9929327242,"SUTHARO KI GALI NARAYAN JI KA MOHALLA,DEOGARH,DEOGARH,313331",36000,"N","N","No",11,"None",1]
[6,"A",13410,"2017-11-09","AFREEN BANU",null,"NIYAAZ MOHAMMAD","FARZANA BANU","F","2009-11-29",{"$nulls":4},"GEN","Muslim",null,"GOVT. SENIOR SECONDARY SCHOOL DEOGARH (222753)",8250215703,"XXXX1805",null,6375738469,"DEOGARH,DEOGARH,DEOGARH,313331",50000,"N","N","Yes",12,"None",2]
[6,"A",12224,"2016-06-27","APSARA BANU",null,"TAHIR MOHAMMAD","SHAMA BANU","F","2011-04-16",{"$nulls":4},"GEN","Muslim",null,"GOVT. SENIOR SECONDARY SCHOOL DEOGARH (222753)",8250215703,"XXXX2573","VWVSGWH",9782461886,"VEDWARI DARWAJA DEOGARH,DEOGARH,DEOGARH,313331",24000,"N","N","Yes",10,"None",1]
[6,"A",13805,"2021-07-22","BANTI SINGH",null,"MOTI SINGH","SANTOSH DEVI","M","2010-01-22",{"$nulls":4},"OBC","Hindu",null,"GOVT. SENIOR SECONDARY SCHOOL DEOGARH (222753)",8250215703,"XXXX0054","YOIAGAW",9024300710,"KITO KA BADIYA,DEOGARH,KITO KA BADIYA,313331",100000,"N","N","No",11,"None",0]
[6,"A",12706,"2017-07-04","BHAGYAWATI MALI",null,"RAMESH MALI","ANACHHI BAI","F","2011-07-14",{"$nulls":4},"OBC","Hindu",null,"GOVT. SENIOR SECONDARY SCHOOL DEOGARH (222753)",8250215703,null,null,9983870043,"SURAJ DARWAJA,DEOGARH,DEOGARH,313331",25000,"N","N","No",10,"None",1]
[6,"A",13105,"2018-07-05","DHARMESH LOHAR",null,"BHANWAR LAL","SANTOSH DEVI","M","2012-01-01",{"$nulls":4},"OBC","Hindu",null,"GOVT. SENIOR SECONDARY SCHOOL DEOGARH (222753)",8250215703,null,null,8107511520,"PATHWARI KE PASS,DEOGARH,DEOGARH,313331",25000,"N","N","No",9,"None",1]
[6,"A",13663,"2020-10-20","JAMANA KUMARI","Late","VIJAY SINGH","SHANTA DEVI","F","2010-02-15",{"$nulls":4},"OBC","Hindu",null,"GOVT. SENIOR SECONDARY SCHOOL DEOGARH (222753)",8250215703,"XXXX8149",null,7850839251,"MALIYON KA MOHALLA,DEOGARH,DEOGARH,313331",36000,"N","N","No",11,"None",1]
[6,"A",13426,"2019-08-10","Jitendra Mali",null,"Shayam Lal Mali","Pushpa Devi","M","2011-06-04",{"$nulls":4},"OBC","Hindu",null,"GOVT. SENIOR SECONDARY SCHOOL DEOGARH (222753)",8250215703,null,null,9829838312,"SURAJ DARWAJA,DEOGARH,DEOGARH,313331",40000,"Y","N","No",10,"None",1]
[6,"A",13322,"2019-07-10","Jyoti Mali",null,"Shanti Lal","Rekha","F","2009-01-01",{"$nulls":4},"OBC","Hindu",null,"GOVT. SENIOR SECONDARY SCHOOL DEOGARH (222753)",8250215703,"XXXX6762",null,7977427171,"shakti nagar deogarh,DEOGARH,DEOGARH,313331",55000,"N","N","No",12,"None",1]
[6,"A",13340,"2019-07-13","Kushal Prajapat",null,"Shanti Lal","Anita Devi","M","2010-10-24",{"$nulls":4},"OBC","Hindu",null,"GOVT. SENIOR SECONDARY SCHOOL DEOGARH (222753)",8250215703,"XXXX1672",null,9913070009,"KUMHARON KA MOHALLA SURAJ DARWAJA,DEOGARH,DEOGARH,313331",140000,"N","N","No",11,"None",1]
[6,"A",12225,"2016-06-27","LAXMI CHOUHAN",null,"RAJENDRA SINGH CHOUHAN","ULLAS DEVI","F","2012-01-01",{"$nulls":4},"OBC","Hindu",null,"GOVT. SENIOR SECONDARY SCHOOL DEOGARH (222753)",8250215703,"XXXX5908",null,9950573922,"NARAYAN JI KA MOHALLA,DEOGARH,DEOGARH,313331",60000,"N","N","No",9,"None",1]
[6,"A",12233,"2016-06-27","MAHINUR BANU",null,"JAMIL MOHAMMAD","RESHMA BANU","F","2010-08-05",{"$nulls":4},"GEN","Muslim",null,"GOVT. SENIOR SECONDARY SCHOOL DEOGARH (222753)",8250215703,"XXXX0987",null,8689201430,"CHIPPO KA MOHALLA DEOGARH WARD NO. 18,DEOGARH,DEOGARH,313331",30000,"Y","N","Yes",11,"None",0]
[6,"A",12630,"2016-06-27","MAYA MALI",null,"DINESH MALI","NEMA DEVI","F","2009-02-25",{"$nulls":4},"OBC","Hindu",null,"GOVT. SENIOR SECONDARY SCHOOL DEOGARH (222753)",8250215703,"XXXX4039",null,8696801574,"NEAR BRAHAMCHARYA ASHRAM,DEOGARH,DEOGARH,313331",36000,"Y","N","No",12,"None",0]
[6,"A",12220,"2016-06-27","MOHAMMAD BABAR",null,"MUJJAMIL HUSAIN","RAFIYA PARWEEN","M","2010-11-28",{"$nulls":4},"OBC","Muslim",null,"GOVT. SENIOR SECONDARY SCHOOL DEOGARH (222753)",8250215703,"XXXX0869",null,9983556319,"CHIPPO KA MOHALLA DEOGARH,DEOGARH,DEOGARH,313331",260000,"N","N","Yes",11,"None",1]
[6,"A",13804,"2021-07-22","Mohammad Hussain",null,"Rashid Mohammad","Nasim Banu","M","2009-09-18",{"$nulls":4},"GEN","Hindu",null,"GOVT. SENIOR SECONDARY SCHOOL DEOGARH (222753)",8250215703,"XXXX3673",null,9772405063,"SIPHAYION KA MOHALLA ,DEOGARH,DEOGARH,313331",70000,"N","N","No",12,"None",1]
[6,"A",13058,"2018-07-04","PHOOLWANTI REGAR",null,"LAXMAN REGAR","KAMLA DEVI","F","2011-08-11",{"$nulls":4},"SC","Hindu",null,"GOVT. SENIOR SECONDARY SCHOOL DEOGARH (222753)",8250215703,"XXXX3336","YCFEAGO",8094502439,"WARD NO 10 REGARO KA MOHALLA DEOGARH,DEOGARH,DEOGARH,313331",36000,"N","N","No",10,"None",2]
[6,"A",13802,"2021-07-22","PREM SINGH",null,"LAL SINGH","HEMLATA DEVI","M","2011-02-21",{"$nulls":4},"OBC","Hindu",null,"GOVT. SENIOR SECONDARY SCHOOL DEOGARH (222753)",8250215703,"XXXX2372","VXOORHR",9602997577,"DHOLI MAGARI,BHIM,BAGGAR,313341",70000,"N","N","No",10,"None",2]
[6,"A",12227,"2016-06-27","PRIYA MALI",null,"KALU LAL","RAMU DEVI","F","2009-03-23",{"$nulls":4},"OBC","Hindu",null,"GOVT. SENIOR SECONDARY SCHOOL DEOGARH (222753)",8250215703,"XXXX9863",null,9001775536,"SHAKTI NAGAR WARD NO. 20,DEOGARH,DEOGARH,313331",36000,"N","N","No",12,"None",1]
[6,"A",13630,"2020-10-15","Rahul Lohar",null,"Girdhari Lal","Kamla Lohar","M","2010-01-01",{"$nulls":4},"OBC","Hindu",null,"GOVT. SENIOR SECONDARY SCHOOL DEOGARH (222753)",8250215703,"XXXX1289",null,6352850071,"SHAKTI NAGAR WARD NO 20,DEOGARH,DEOGARH,313331",24000,"N","N","No",11,"None",1]
[6,"A",13669,"2020-12-18","Shubh Ved",null,"Mukesh Ved","Vidhya Ved","M","2009-01-02",{"$nulls":4},"OBC","Hindu",null,"GOVT. SENIOR SECONDARY SCHOOL DEOGARH (222753)",8250215703,null,null,8278620992,"KOTWALI CHABUTARA ,DEOGARH,DEOGARH,313331",30000,"N","N","No",12,"None",1]
[6,"A",13269,"2019-07-09","Sonu Mali",null,"Omprakash Mali","Basanti Devi","F","2009-02-10",{"$nulls":4},"OBC","Hindu",null,"GOVT. SENIOR SECONDARY SCHOOL DEOGARH (222753)",8250215703,"XXXX4671","YFBKWEG",9920624521,"NARANIYA MAHADEV ROAD,DEOGARH,DEOGARH,313331",30000,"N","N","No",12,"None",1]
[6,"A",12223,"2016-06-27","VAISHALI KUMARI",null,"PREM SINGH","HANSA DEVI","F","2010-10-24",{"$nulls":4},"OBC","Hindu",null,"GOVT. SENIOR SECONDARY SCHOOL DEOGARH (222753)",8250215703,"XXXX5814",null,7665987599,"KESHRINGGHATI,DEOGARH,DEOGARH,313331",12000,"N","N","No",11,"None",1]
[6,"A",13643,"2020-10-16","Yash Sen",null,"Lalit Kumar Sen","Indubala Sen","M","2009-02-23",{"$nulls":4},"OBC","Hindu",null,"GOVT. SENIOR SECONDARY SCHOOL DEOGARH (222753)",8250215703,"XXXX0754",null,9680904102,"NAIYON KA MOHALLA WARD NO 16,DEOGARH,DEOGARH,313331",60000,"N","N","No",12,"None",2]
[7,"A",13717,"2021-07-12","Abhijeet Sarakar",null,"Prabhas Sarakar","Fulmala","M","2009-08-27",{"$nulls":4},"OBC","Hindu",null,"GOVT. SENIOR SECONDARY SCHOOL DEOGARH (222753)",8250215703,"XXXX0844",null,7976756197,"HOLI KA THAN,DEOGARH,KUNDELI,313331",60000,"N","N","No",12,"None",1]
[7,"A",13436,"2018-07-14","ALEENA BANU",null,"RAISH HUSEN","RESHMA BANU","F","2009-10-05",{"$nulls":4},"OBC","Muslim",null,"GOVT. SENIOR SECONDARY SCHOOL DEOGARH (222753)",8250215703,"XXXX4233","YDEABWB",7791956656,"Gali No. 10 gul nagari Bhilwara,Suwana,Bhilwara,311001",0,"N","N","Yes",12,"None",0]
[7,"A",13915,"2021-08-12","Bhawani Singh Rathore",null,"Prahlad Singh Rathore","Devkanya Rathore","M","2009-03-01",{"$nulls":4},"OBC","Hindu",null,"GOVT. SENIOR SECONDARY SCHOOL DEOGARH (222753)",8250215703,"XXXX2320",null,9828963466,"rajputon ka mohalla,DEOGARH,DEOGARH,313331",45000,"N","N","No",12,"None",1]
[7,"A",13379,"2019-07-16","Bhawesh Regar",null,"Bhagwan Lal Regar","Yashoda Regar","M","2009-01-24",{"$nulls":4},"SC","Hindu",null,"GOVT. SENIOR SECONDARY SCHOOL DEOGARH (222753)",8250215703,"XXXX2266","BHNSCTT",7737180331,"INSIDE SOLANKI GATE,DEOGARH,DEOGARH,313331",60000,"N","N","No",12,"None",1]
[7,"A",13596,"2020-10-05","Chetan Mali",null,"Suresh Mali","Vimla Devi","M","2008-06-01",{"$nulls":4},"OBC","Hindu",null,"GOVT. SENIOR SECONDARY SCHOOL DEOGARH (222753)",8250215703,"XXXX4421",null,6378417480,"WARD NO 20 KHADI BHANDAR KE PICHE,DEOGARH,DEOGARH,313331",44000,"N","N","No",13,"None",1]
[7,"A",13438,"2020-07-29","Deepak Regar",null,"Jethumal Regar","Sunita Devi","M","2008-07-22",{"$nulls":4},"SC","Hindu",null,"GOVT. SENIOR SECONDARY SCHOOL DEOGARH (222753)",8250215703,"XXXX9686",null,8696150957,"OUTSIDE SOLANKI GATE , REGAR MOHALLA ,DEOGARH,DEOGARH,313331",36000,"N","N","No",13,"None",1]
[7,"A",13016,"2018-07-02","DIMPAL MALI",null,"AMBA LAL MALI","KESHAR DEVI","F","2008-01-01",{"$nulls":4},"OBC","Hindu",null,"GOVT. SENIOR SECONDARY SCHOOL DEOGARH (222753)",8250215703,"XXXX7661",null,9660659609,"MELA GAROUND WARD NO 20 DEOGARH,DEOGARH,DEOGARH,313331",36000,"N","N","No",13,"None",1]
[7,"A",13059,"2018-07-04","GAYATRI REGAR",null,"LAXMAN LAL REGAR","KAMLA DEVI","F","2008-06-23",{"$nulls":4},"SC","Hindu",null,"GOVT. SENIOR SECONDARY SCHOOL DEOGARH (222753)",8250215703,"XXXX8968","YDFEAGO",8094502439,"WARD NO 10 REGARO KA MOHALLA DEOGARH,DEOGARH,DEOGARH,313331",36000,"N","N","No",13,"None",1]
[7,"A",13589,"2020-10-05","KARAN SINGH",null,"ARJUN SINGH","CHAGANI DEVI","M","2008-01-03",{"$nulls":4},"OBC","Hindu",null,"GOVT. SENIOR SECONDARY SCHOOL DEOGARH (222753)",8250215703,"XXXX8347","WFQOIWQ",9929569343,"KHERA MIYALA,DEOGARH,KHERA MIYALA,313341",0,"N","N","No",13,"None",0]
[7,"A",13631,"2020-10-15","Khushi Sen",null,"Narendra Kumar Sen","Mamta Sen","F","2009-03-02",{"$nulls":4},"OBC","Hindu",null,"GOVT. SENIOR SECONDARY SCHOOL DEOGARH (222753)",8250215703,null,"BCGXGPT",9636119522,"SHAKTI NAGAR DEOGARH,DEOGARH,DEOGARH,313331",20000,"N","N","No",12,"None",1]
[7,"A",12241,"2016-06-27","KOMAL MALI",null,"KALU LAL MALI","RAMU DEVI","F","2008-01-31",{"$nulls":4},"OBC","Hindu",null,"GOVT. SENIOR SECONDARY SCHOOL DEOGARH (222753)",8250215703,"XXXX0204",null,9001775536,"SHAKTI NAGAR WARD NO. 20,DEOGARH,DEOGARH,313331",28000,"N","N","No",13,"None",0]
[7,"A",13164,"2019-06-29","KULDEEP LOHAR",null,"MANGI LAL","SITA DEVI","M","2009-11-06",{"$nulls":4},"OBC","Hindu",null,"GOVT. SENIOR SECONDARY SCHOOL DEOGARH (222753)",8250215703,"XXXX1130","VXZJCCP",9521884525,"MALIYO KA MOHALLA KHADI BHANDAR,DEOGARH,DEOGARH,313331",24000,"Y","N","No",12,"None",2]
[7,"A",13425,"2019-08-10","Mahesh Mali",null,"Shyam Lal Mali","Pushpa Devi","M","2011-06-12",{"$nulls":4},"OBC","Hindu",null,"GOVT. SENIOR SECONDARY SCHOOL DEOGARH (222753)",8250215703,"XXXX9638",null,9829838312,"shakti nagar deogarh,DEOGARH,DEOGARH,313331",28000,"Y","N","No",10,"None",1]
[7,"A",12445,"2016-07-01","MANISHA MALI",null,"JAGDISH MALI","PATASI DEVI","F","2007-09-30",{"$nulls":4},"OBC","Hindu",null,"GOVT. SENIOR SECONDARY SCHOOL DEOGARH (222753)",8250215703,"XXXX2587",null,9460224329,"WARD NO 20,DEOGARH,SAKTI NAGAR DEOGARH,313331",45000,"N","N","No",14,"None",1]
[7,"A",13690,"2021-01-30","Narpat Singh Ratnawat",null,"Sumer Singh Ratnawat","Dipeeka Kanwar","M","2010-07-21",{"$nulls":4},"GEN","Hindu",null,"GOVT. SENIOR SECONDARY SCHOOL DEOGARH (222753)",8250215703,"XXXX9427",null,9001915600,"VEDWARI DARWAJE KE ANDAR,DEOGARH,DEOGARH,313331",70000,"N","N","No",11,"None",1]
[7,"A",13117,"2018-07-10","NAVED KHAN",null,"NAEEM KHAN","NAJMEEN BANU","M","2007-05-15",{"$nulls":4},"GEN","Hindu",null,"GOVT. SENIOR SECONDARY SCHOOL DEOGARH (222753)",8250215703,null,"VVROGKN",9680834707,"BAMBA MOHALLA POST OFFICE KI GALI JODHPUR,JODHPUR,JODHPUR,313331",36000,"Y","N","No",14,"None",1]
[7,"A",12235,"2016-06-27","NAYADA BANU",null,"TAHIR MOHAMMAD","SHAMA BANU","F","2008-02-19",{"$nulls":4},"GEN","Muslim",null,"GOVT. SENIOR SECONDARY SCHOOL DEOGARH (222753)",8250215703,"XXXX0728",null,7891352401,"VEDWARI DARWAJA DEOGARH,DEOGARH,DEOGARH,313331",100000,"N","N","Yes",13,"None",0]
[7,"A",13378,"2019-07-16","Neha Vaishnav",null,"Vinod Kumar Vaishnav","Sumitra Devi","F","2008-06-29",{"$nulls":4},"OBC","Hindu",null,"GOVT. SENIOR SECONDARY SCHOOL DEOGARH (222753)",8250215703,"XXXX0255","VSZHRVJ",7727922108,"MEJA,MANDAL,TEH MANDAL,311403",20000,"N","N","No",13,"None",1]
[7,"A",13689,"2021-01-30","OM PRAKASH MALI",null,"BHERU LAL MALI","NARAYANI DEVI","M","2008-12-20",{"$nulls":4},"OBC","Hindu",null,"GOVT. SENIOR SECONDARY SCHOOL DEOGARH (222753)",8250215703,"XXXX4078","YMSEICW",8290004046,"MALIYO KA MOHALLA,DEOGARH,DEOGARH,313331",36000,"N","Y","No",13,"None",0]
[7,"A",13015,"2018-07-02","POOJA MALI",null,"KAILASH MALI","TAMU DEVI","F","2009-09-03",{"$nulls":4},"OBC","Hindu",null,"GOVT. SENIOR SECONDARY SCHOOL DEOGARH (222753)",8250215703,"XXXX8581","VBRXNHR",9799216069,"BHARMCHARIY AASHRAM KE PASS WARD NO 20 DEOGARH,DEOGARH,DEOGARH,313331",36000,"N","N","No",12,"None",1]
[7,"A",12230,"2016-06-27","POOJA RAWAT",null,"GHISU SINGH RAWAT","JAMNA","F","2007-03-05",{"$nulls":4},"OBC","Hindu",null,"GOVT. SENIOR SECONDARY SCHOOL DEOGARH (222753)",8250215703,"XXXX3655",null,9999999999,"SHAKTI NAGAR WARD NO. 20,DEOGARH,DEOGARH,313331",12000,"N","Y","No",14,"None",1]
[7,"A",13913,"2021-08-12","PRATAP SINGH",null,"KHIM SINGH","SITA DEVI","M","2009-01-15",{"$nulls":4},"OBC","Hindu",null,"GOVT. SENIOR SECONDARY SCHOOL DEOGARH (222753)",8250215703,"XXXX2325",null,9664090540,"KISHANPURA,DEOGARH,KISHANPURA,313331",0,"N","N","No",12,"None",1]
[7,"A",13500,"2020-08-26","PRAVIN KUMAR KHATIK",null,"ARJUN LAL","SUGANA DEVI","M","2008-04-05",{"$nulls":4},"SC","Hindu",null,"GOVT. SENIOR SECONDARY SCHOOL DEOGARH (222753)",8250215703,"XXXX7492","YMYGOSG",8824736055,"Umraj Tapalo Ka Kheda Deogarh 313332,Umraj Tapalo Ka Kheda Deogarh ,Umraj Tapalo Ka Kheda Deogarh 313332,313332",41000,"N","N","No",13,"None",1]
[7,"A",13687,"2021-01-30","Rahul Jingar",null,"Omprakash Jingar","Sumitra","M","2010-11-05",{"$nulls":4},"SC","Hindu",null,"GOVT. SENIOR SECONDARY SCHOOL DEOGARH (222753)",8250215703,"XXXX5984",null,9587375836,"MARU DARWAJA,DEOGARH,DEOGARH,313331",60000,"N","N","No",11,"None",1]
[7,"A",12234,"2016-06-27","RIJA PARVEEN",null,"ZUBAIR AHMED","HANEEFA BANO","F","2009-09-17",{"$nulls":4},"OBC","Muslim",null,"GOVT. SENIOR SECONDARY SCHOOL DEOGARH (222753)",8250215703,"XXXX1418",null,9983556319,"CHIPPO KA MOHALLA DEOGARH,DEOGARH,DEOGARH,313331",260000,"N","Y","Yes",12,"None",1]
[7,"A",12226,"2016-06-27","SATYAPAL SINGH",null,"PREM SINGH","HANSA DEVI","M","2007-10-22",{"$nulls":4},"OBC","Hindu",null,"GOVT. SENIOR SECONDARY SCHOOL DEOGARH (222753)",8250215703,null,null,7665987599,"KESHRINGGHATI,DEOGARH,DEOGARH,313331",72000,"N","N","No",14,"None",1]
[7,"A",13914,"2021-08-12","SHRAWAN SINGH","Late","KHIM SINGH","SITA DEVI","M","2007-08-04",{"$nulls":4},"OBC","Hindu",null,"GOVT. SENIOR SECONDARY SCHOOL DEOGARH (222753)",8250215703,"XXXX7543","vzphxtj",9358467838,"kishanpura,DEOGARH,kishanpura,313332",60000,"N","N","No",14,"None",1]
[7,"A",13157,"2017-09-08","YOGITA VED","Late","HARISH VED","MAMTA VED","F","2008-12-27",{"$nulls":4},"OBC","Hindu",null,"GOVT. SENIOR SECONDARY SCHOOL DEOGARH (222753)",8250215703,"XXXX5926",null,8094502439,"VEDO KA MOHALLA,DEOGARH,DEOGARH,313331",0,"N","N","No",13,"None",1]
[8,"A",13437,"2018-07-14","AAYAN HUSEN",null,"RAESH HUSEN","RESHMA BANU","M","2007-05-01",{"$nulls":4},"OBC","Muslim",null,"GOVT. SENIOR SECONDARY SCHOOL DEOGARH (222753)",8250215703,"XXXX6361",null,8107970785,"Raish hussain jama masjid ke pass deogath rajsamand deogath,deogath,Rajsamand,313331",60000,"N","N","Yes",14,"None",0]
[8,"A",13345,"2019-07-13","Ankit Kumar Prajapat",null,"Shanti Lal","Anita Devi","M","2008-02-13",{"$nulls":4},"OBC","Hindu",null,"GOVT. SENIOR SECONDARY SCHOOL DEOGARH (222753)",8250215703,"XXXX1772",null,9913070009,"KUMHARON KA MOHALLA SURAJ DARWAJA,DEOGARH,DEOGARH,313331",140000,"N","N","No",13,"None",2]
[8,"A",13739,"2021-07-13","Ankush Jain",null,"Parasmal Jain","Seema Jain","M","2006-09-19",{"$nulls":4},"GEN","Hindu",null,"GOVT. SENIOR SECONDARY SCHOOL DEOGARH (222753)",8250215703,"XXXX4212",null,9414785974,"SONIYO KI GALI,DEOGARH,KOTWALI CHABUTARA,313331",100000,"N","N","No",15,"None",2]
[8,"A",13656,"2020-10-20","Bhupendra Mali",null,"Prakash Mali","Kesar Devi","M","2008-02-26",{"$nulls":4},"OBC","Hindu",null,"GOVT. SENIOR SECONDARY SCHOOL DEOGARH (222753)",8250215703,"XXXX7273","BCROPGH",8108006180,"SURAJ DARWAJA WARD NO 19,DEOGARH,DEOGARH,313331",25000,"N","N","No",13,"None",1]
[8,"A",13328,"2019-07-12","Chirag Chouhan",null,"Chandra Prakash","Seeta","M","2009-02-02",{"$nulls":4},"OBC","Hindu",null,"GOVT. SENIOR SECONDARY SCHOOL DEOGARH (222753)",8250215703,"XXXX3436",null,7665313847,"INSIDE SOLANKI GATE,DEOGARH,DEOGARH,313331",60000,"N","N","No",12,"None",2]
[8,"A",12240,"2016-06-27","DEVENDRA KUMAR REGAR",null,"SANGRAM LAL REGAR","SANTOSH DEVI","M","2009-04-11",{"$nulls":4},"SC","Hindu",null,"GOVT. SENIOR SECONDARY SCHOOL DEOGARH (222753)",8250215703,"XXXX0963",null,7073681201,"REGAR MOHALLA WARD NO. 10,DEOGARH,DEOGARH,313331",20000,"Y","N","No",12,"None",1]
[8,"A",12255,"2016-06-27","DIMPAL KANWAR",null,"BHAGWAT SINGH","PAWAN KANWAR","F","2006-02-06",{"$nulls":4},"GEN","Hindu",null,"GOVT. SENIOR SECONDARY SCHOOL DEOGARH (222753)",8250215703,"XXXX7342",null,9001008683,"NEW DARWAJA SURO KA MOHALLA,DEOGARH,DEOGARH,313331",20000,"N","N","No",15,"None",1]
[8,"A",12252,"2016-06-27","DIMPAL LUHAR",null,"GOVIND LUHAR","MEENA LUHAR","F","2008-09-25",{"$nulls":4},"OBC","Hindu",null,"GOVT. SENIOR SECONDARY SCHOOL DEOGARH (222753)",8250215703,"XXXX8422",null,9509409573,"SURAJ DARWAJA,DEOGARH,DEOGARH,313331",40000,"N","N","No",13,"None",1]
[8,"A",13947,"2021-08-18","Goirav Singh Chouhan",null,"Mukesh Singh Chouhan","Meena Devi","M","2007-11-18",{"$nulls":4},"OBC","Hindu",null,"GOVT. SENIOR SECONDARY SCHOOL DEOGARH (222753)",8250215703,"XXXX3516",null,9636098343,"Gyangarh,Mandal,Gyangarh,311804",0,"N","N","No",14,"None",4]
[8,"A",12257,"2016-06-27","HANSRAJ PRAJAPAT",null,"HIRA LAL PRAJAPAT","METABI BAI","M","2008-03-07",{"$nulls":4},"OBC","Hindu",null,"GOVT. SENIOR SECONDARY SCHOOL DEOGARH (222753)",8250215703,"XXXX9601",null,9549722078,"KUMHARO KA MOHALLA SURAAJ DARWAJA,DEOGARH,DEOGARH,313331",50000,"N","N","No",13,"None",1]
[8,"A",13956,"2021-08-28","HITESH CHANDEL",null,"RAJU LAL CHANDEL","NIRMALA DEVI","M","2008-02-02",{"$nulls":4},"SC","Hindu",null,"GOVT. SENIOR SECONDARY SCHOOL DEOGARH (222753)",8250215703,"XXXX0523","YYCFAKG",9460682073,"GUJARI DARWAJA,DEOGARH,DEOGARH,313331",30000,"N","N","No",13,"None",0.5]
[8,"A",13388,"2019-07-18","Hitesh Joshi",null,"Tejmal Joshi","Guddi Devi","M","2007-12-01",{"$nulls":4},"GEN","Hindu",null,"GOVT. SENIOR SECONDARY SCHOOL DEOGARH (222753)",8250215703,"XXXX8319",null,9602109621,"SURAJ DARWAJA ,DEOGARH,DEOGARH,313331",36000,"N","N","No",14,"None",1]
[8,"A",13022,"2018-07-03","ISHWAR MALI",null,"MOHAN LAL MALI","PYARI DEVI","M","2008-06-20",{"$nulls":4},"OBC","Hindu",null,"GOVT. SENIOR SECONDARY SCHOOL DEOGARH (222753)",8250215703,"XXXX4303","VZZNNSJ",9672419981,"SURAJ DARWAJA MALIYO KA MOHALLA DEOGARH,DEOGARH,DEOGARH,313331",36000,"N","N","No",13,"None",1]
[8,"A",12254,"2016-06-27","KHUSHBU MALI",null,"DINESH MALI","TULSI BAI","F","2008-07-07",{"$nulls":4},"OBC","Hindu",null,"GOVT. SENIOR SECONDARY SCHOOL DEOGARH (222753)",8250215703,"XXXX5624",null,9929037435,"MALIYO KA MOHALLA SURAJ DARWAJA,DEOGARH,DEOGARH,313331",36000,"N","Y","No",13,"None",1]
[8,"A",12243,"2016-06-27","KHUSHBU REGAR",null,"RAM LAL REGAR","SHANTA DEVI","F","2010-01-01",{"$nulls":4},"SC","Hindu",null,"GOVT. SENIOR SECONDARY SCHOOL DEOGARH (222753)",8250215703,"XXXX0405",null,9784881014,"REGAR MOHALLA WARD NO. 10,DEOGARH,DEOGARH,313331",36000,"N","N","No",11,"None",1]
[8,"A",12681,"2017-06-28","KHUSHI SOLANKI",null,"KANTI LAL SOLANKI","PREM DEVI","F","2008-10-14",{"$nulls":4},"OBC","Hindu",null,"GOVT. SENIOR SECONDARY SCHOOL DEOGARH (222753)",8250215703,"XXXX1141",null,9660141411,"INSIDE SOLANKI GET,DEOGARH,DEOGARH,313331",50000,"N","N","No",13,"None",1]
[8,"A",12251,"2016-06-27","KISHAN MALI",null,"RANA JI MALI","PUSHPA DEVI","M","2006-02-10",{"$nulls":4},"OBC","Hindu",null,"GOVT. SENIOR SECONDARY SCHOOL DEOGARH (222753)",8250215703,"XXXX7045",null,9571998943,"SHAKTI NAGAR WARD NO. 20,DEOGARH,DEOGARH,313331",36000,"N","N","No",15,"None",0]
[8,"A",12242,"2016-06-27","KOMAL CHAUHAN",null,"DEVENDRA SINGH CHAUHAN","PUSHPA DEVI","F","2009-02-07",{"$nulls":4},"OBC","Hindu",null,"GOVT. SENIOR SECONDARY SCHOOL DEOGARH (222753)",8250215703,"XXXX3643",null,6378382563,"KESHRINGGHATI,DEOGARH,DEOGARH,313331",36000,"N","N","No",12,"None",1]
[8,"A",12259,"2016-06-27","KRISHNA MALI",null,"VINOD MALI","CHANDRIKA","F","2009-04-21",{"$nulls":4},"OBC","Hindu",null,"GOVT. SENIOR SECONDARY SCHOOL DEOGARH (222753)",8250215703,"XXXX7310",null,9664460217,"SHAKTI NAGAR,DEOGARH,DEOGARH,313331",50000,"N","N","No",12,"None",0]
[8,"A",13412,"2019-07-23","Mahadev Mali",null,"Suresh Mali","Vimla Devi","M","2008-03-29",{"$nulls":4},"OBC","Hindu",null,"GOVT. SENIOR SECONDARY SCHOOL DEOGARH (222753)",8250215703,"XXXX6794","VVWPOBV",6378417480,"KHADI BHANDAR KE PICHE BAPU NAGAR,DEOGARH,DEOGARH,313331",60000,"N","N","No",13,"None",1]
[8,"A",13680,"2021-01-30","Maya Rager",null,"Nena Lal Rager","Kanchan Devi","F","2008-07-06",{"$nulls":4},"SC","Hindu",null,"GOVT. SENIOR SECONDARY SCHOOL DEOGARH (222753)",8250215703,"XXXX7308",null,9680070181,"SOLANKI DARWAJA KE BAHAR,DEOGARH,DEOGARH,313331",134000,"N","N","No",13,"None",2]
[8,"A",13021,"2018-07-03","NARESH MALI",null,"OMPRAKASH MALI","PREMI DEVI","M","2008-07-09",{"$nulls":4},"OBC","Hindu",null,"GOVT. SENIOR SECONDARY SCHOOL DEOGARH (222753)",8250215703,"XXXX1180","BAMBGIO",7023206468,"SURAJ DARWAJA MALIYO KA MOHALLA DEOGARH,DEOGARH,DEOGARH,313331",0,"N","N","No",13,"None",1]
[8,"A",13329,"2019-07-12","Pathan Sijan Azad Khan",null,"Azad Khan","Pathan Ishratbanu Azad Khan","M","2008-10-06",{"$nulls":4},"GEN","Muslim",null,"GOVT. SENIOR SECONDARY SCHOOL DEOGARH (222753)",8250215703,"XXXX4611","BCTWOKP",9904063509,"WARD NO 18,DEOGARH,DEOGARH,313331",60000,"N","N","Yes",13,"None",1]
[8,"A",13110,"2018-07-07","PAWAN MEWARA",null,"GOPI LAL MEWARA","PARAS DEVI","M","2008-02-17",{"$nulls":4},"OBC","Hindu",null,"GOVT. SENIOR SECONDARY SCHOOL DEOGARH (222753)",8250215703,"XXXX1786",null,9680070654,"KHADI BHANDAR KE PASS BAPU NAGAR WARD NO 20,DEOGARH,DEOGARH,313331",36000,"N","N","No",13,"None",1]
[8,"A",13414,"2019-07-25","Pradeep",null,"Rakesh Ved","Manju Devi","M","2008-02-13",{"$nulls":4},"OBC","Hindu",null,"GOVT. SENIOR SECONDARY SCHOOL DEOGARH (222753)",8250215703,"XXXX6064","YFMAWDG",8000583134,"VEDON KA MOHALLA,DEOGARH,DEOGARH,313331",36000,"N","N","No",13,"None",1]
[8,"A",13415,"2019-07-26","PRAKASH CHAND",null,"HARI LAL","SHANTA DEVI","M","2008-11-26",{"$nulls":4},"SC","Hindu",null,"GOVT. SENIOR SECONDARY SCHOOL DEOGARH (222753)",8250215703,"XXXX7116",null,7742762972,"BHARTIYA,BHIM,BARAR,313341",25000,"N","N","No",13,"None",1]
[8,"A",13129,"2018-07-18","PREM SINGH RAWAT",null,"TRILOK SINGH","DEVI BEN","M","2006-06-07",{"$nulls":4},"OBC","Hindu",null,"GOVT. SENIOR SECONDARY SCHOOL DEOGARH (222753)",8250215703,"XXXX1665",null,8511713806,"GYANGAH,BHILWARA,BHILWARA,313331",36000,"N","N","No",15,"None",45]
[8,"A",13719,"2021-07-12","Prosen Sarkar",null,"Prabhas Sarkar","Fulmal","M","2006-05-03",{"$nulls":4},"GEN","Hindu",null,"GOVT. SENIOR SECONDARY SCHOOL DEOGARH (222753)",8250215703,"XXXX3772",null,7976756197,"HOLI KA THAN ,DEOGARH,KUNDELI,313331",60000,"N","N","No",15,"None",5]
[8,"A",12250,"2016-06-27","RAHUL MALI",null,"RANA JI MALI","PUSHPA DEVI","M","2007-02-13",{"$nulls":4},"OBC","Hindu",null,"GOVT. SENIOR SECONDARY SCHOOL DEOGARH (222753)",8250215703,"XXXX7505",null,9571998943,"SHAKTI NAGAR WARD NO. 20,DEOGARH,DEOGARH,313331",36000,"N","N","No",14,"None",0]
[8,"A",13344,"2019-07-13","RAJU SINGH",null,"BHANWAR SINGH","TAMU DEVI","M","2007-12-11",{"$nulls":4},"OBC","Hindu",null,"GOVT. SENIOR SECONDARY SCHOOL DEOGARH (222753)",8250215703,"XXXX2197","YMPSIKF",7877616055,"khokhato ka badiya,DEOGRAH,kitto ka badiya,313331",36000,"N","N","No",14,"None",1]
[8,"A",13327,"2019-07-12","RAKESH SINGH",null,"MOTI SINGH","SANTOSH DEVI","M","2007-03-24",{"$nulls":4},"OBC","Hindu",null,"GOVT. SENIOR SECONDARY SCHOOL DEOGARH (222753)",8250215703,"XXXX4261","YOIAGAW",9511584492,"HAWALA,DEOGARH,,313331",36000,"N","N","No",14,"None",5]
[8,"A",13348,"2019-07-15","Ramesh Chandra Salvi",null,"Sohan Lal Salvi","Sukhi Devi","M","2008-10-01",{"$nulls":4},"SC","Hindu",null,"GOVT. SENIOR SECONDARY SCHOOL DEOGARH (222753)",8250215703,"XXXX6632","YBOEUYO",9829248838,"AMET,AMET,AMET,313331",36000,"N","N","No",13,"None",30]
[8,"A",12248,"2016-06-27","REKHA MALI",null,"GOPAL MALI","DEU DEVI","F","2008-06-14",{"$nulls":4},"OBC","Hindu",null,"GOVT. SENIOR SECONDARY SCHOOL DEOGARH (222753)",8250215703,"XXXX9345",null,9929329103,"SI. SEC. SCHOOL KE PAAS,DEOGARH,DEOGARH,313331",36000,"N","N","No",13,"None",0]
[8,"A",13955,"2021-08-28","SHANKAR LAL GURJAR",null,"TILOK GURJAR","KAMLA DEVI","M","2007-01-05",{"$nulls":4},"SBC","Hindu",null,"GOVT. SENIOR SECONDARY SCHOOL DEOGARH (222753)",8250215703,"XXXX8899","VBGXGCN",9783524329,"SHASTRI NAGAR,DEOGARH,DEOGARH,313331",40000,"N","N","No",14,"None",0.5]
[8,"A",13624,"2020-10-15","Sonu Mali",null,"Kailash Mali","Meena Kumari","M","2007-01-01",{"$nulls":4},"OBC","Hindu",null,"GOVT. SENIOR SECONDARY SCHOOL DEOGARH (222753)",8250215703,"XXXX6996",null,9358437106,"BRAHMCHARYA AASHRAM KE PASS,DEOGARH,DEOGARH,313331",20000,"N","N","No",14,"None",1]
[8,"A",13330,"2019-07-12","TEJ SINGH",null,"NARAYAN SINGH","GEETA BAI","M","2007-02-10",{"$nulls":4},"OBC","Hindu",null,"GOVT. SENIOR SECONDARY SCHOOL DEOGARH (222753)",8250215703,"XXXX4735","YOCQIQO",9672110840,"RAJA KA DHANA,DEOGARH,RAJA KA DHANA,313331",36000,"N","N","No",14,"None",0]
[8,"A",12253,"1900-05-27","TOKIR",null,"TAHIR MOHAMMAD","SHAMA BANU","M","2006-07-11",{"$nulls":4},"GEN","Muslim",null,"GOVT. SENIOR SECONDARY SCHOOL DEOGARH (222753)",8250215703,"XXXX8552","VWVSGWH",9950735844,"SIPAHIYO KA MOHALLA WARD NO. 18,DEOGARH,DEOGARH,313331",36000,"N","N","Yes",15,"None",0]
[8,"A",12249,"2016-06-27","VARSHA MALI",null,"HARISH MALI","USHA","F","2008-09-22",{"$nulls":4},"OBC","Hindu",null,"GOVT. SENIOR SECONDARY SCHOOL DEOGARH (222753)",8250215703,"XXXX4657",null,9928707064,"NRSINGH DWAR,DEOGARH,DEOGARH,313331",30000,"N","N","No",13,"None",1]
[8,"A",13381,"2019-07-17","Yamuna Sukhwal",null,"Satya Narayan","Kamla Devi","F","2006-01-26",{"$nulls":4},"GEN","Hindu",null,"GOVT. SENIOR SECONDARY SCHOOL DEOGARH (222753)",8250215703,"XXXX6659","VXWSCXR",7023148879,"HOSPITAL ROAD BAPU NAGAR,DEOGARH,DEOGARH,313331",15000,"N","N","No",15,"None",1]
[9,"A",12331,"2016-06-27","AFTAB KHAN",null,"IRSHAD AHMED","SHAHINA BANU","M","2002-10-18",{"$nulls":4},"GEN","Muslim",null,"GOVT. SENIOR SECONDARY SCHOOL DEOGARH (222753)",8250215703,"XXXX3292",null,9982278688,"SHIPAHIYO KA MOHALLA,DEOGARH,DEOGARH,313331",35000,"Y","N","Yes",19,"None",1]
[9,"A",13927,"2021-08-13","Alfej Khan",null,"Azad Khan","Israt Banu","M","2006-10-23",{"$nulls":4},"GEN","Muslim",null,"GOVT. SENIOR SECONDARY SCHOOL DEOGARH (222753)",8250215703,"XXXX3695",null,9904063509,"SIPAHIYON KA MOHALLA ISLAMI MADARSE KE PASS,DEOGARH,DEOGARH,313331",60000,"N","N","Yes",15,"None",1]
[9,"A",13722,"2021-07-13","AMRIT RAWAL",null,"PARAS RAWAL","REETA DEVI","M","2008-02-08",{"$nulls":4},"OBC","Hindu",null,"GOVT. SENIOR SECONDARY SCHOOL DEOGARH (222753)",8250215703,"XXXX6105","YBSBUYF",9784839866,"KUNDELI , POST- MIYALA , TEH.- DEOGARH,DEOGARH,KUNDELI,313341",48000,"N","N","No",13,"None",0]
[9,"A",13841,"2021-07-28","ANIL KUMAR NAT",null,"BHERU LAL NAT","SURJA DEVI","M","2006-09-15",{"$nulls":4},"SC","Hindu",null,"GOVT. SENIOR SECONDARY SCHOOL DEOGARH (222753)",8250215703,"XXXX7182","VZKKPWN",8824068805,"SANGRAMPURA,DEOGARH ,VIJAYPURA,313331",40000,"N","N","No",15,"None",0]
[9,"A",13853,"2021-07-29","ANISH HUSSAIN",null,"HAKIM SHA","SHABNAM BANU","M","2007-01-03",{"$nulls":4},"OBC","Muslim",null,"GOVT. SENIOR SECONDARY SCHOOL DEOGARH (222753)",8250215703,"XXXX1421","VBPVKON",8824831199,"TAJIYO KA CHOWK ,DEOGARH,DEOGARH,313331",36000,"N","N","Yes",14,"None",1]
[9,"A",13839,"2021-07-28","ARJUN LOUHAR",null,"DEVI LAL LOUHAR","SANTOSH","M","2007-11-24",{"$nulls":4},"OBC","Hindu",null,"GOVT. SENIOR SECONDARY SCHOOL DEOGARH (222753)",8250215703,"XXXX1381","YOEFOAB",8079032322,"KUNDELI,DEOGARH,KUNDELI,313341",40000,"N","N","No",14,"None",0]
[9,"A",13926,"2021-08-13","ARVIND KALAL",null,"INDRAMAL KALAL","RADHA DEVI","M","2005-01-18",{"$nulls":4},"OBC","Hindu",null,"GOVT. SENIOR SECONDARY SCHOOL DEOGARH (222753)",8250215703,"XXXX5670",null,9950188816,"sopari,deogarh,sopari,313331",36000,"N","N","No",16,"None",1]
[9,"A",13819,"2021-07-26","BABU SINGH",null,"LAXMAN SINGH","MANGI DEVI","M","2009-01-05",{"$nulls":4},"OBC","Hindu",null,"GOVT. SENIOR SECONDARY SCHOOL DEOGARH (222753)",8250215703,"XXXX4654","YMFUWUK",9928422864,"PANTA KI AANTI,DEOGARH,POST-MIYALA,313341",42000,"N","N","No",12,"None",0.5]
[9,"A",13704,"2021-07-02","BHAIRU SINGH",null,"GHEESA SINGH","GHEESI DEVI","M","2008-10-31",{"$nulls":4},"OBC","Hindu",null,"GOVT. SENIOR SECONDARY SCHOOL DEOGARH (222753)",8250215703,"XXXX7677",null,8000405797,"ADAWALA,TEH - BHIM,BAGGAR,313341",40000,"N","N","No",13,"None",1]
[9,"A",13705,"2021-07-02","BHAIRU SINGH",null,"NAINA SINGH","MEENA DEVI","M","2006-08-03",{"$nulls":4},"OBC","Hindu",null,"GOVT. SENIOR SECONDARY SCHOOL DEOGARH (222753)",8250215703,"XXXX5511","WXZXPVX",8955794196,"VILLAGE-KUNDELI POST-MIYALA,DEOGARH,KUNDELI,313341",38000,"N","N","No",15,"None",0]
[9,"A",13702,"2021-07-02","BHAVESH GURJAR",null,"NARAYAN LAL GURJAR","DAKHU DEVI","M","2008-08-25",{"$nulls":4},"SBC","Hindu",null,"GOVT. SENIOR SECONDARY SCHOOL DEOGARH (222753)",8250215703,"XXXX4421",null,6376047101,"GUJARI DARWAJA,DEOGARH,DEOGARH,313331",80000,"N","N","No",13,"None",1]
[9,"A",12265,"2016-06-27","BHAVESH MALI",null,"KAILASH MALI","SANTOSH","M","2006-08-11",{"$nulls":4},"OBC","Hindu",null,"GOVT. SENIOR SECONDARY SCHOOL DEOGARH (222753)",8250215703,"XXXX9004",null,9660141925,"SHAKTI NAGAR WARD NO. 20,DEOGARH,DEOGARH,313331",30000,"N","N","No",15,"None",0]
[9,"A",12619,"2016-07-21","BHAVESH REGAR",null,"SHOBHA LAL REGAR","GEETA DEVI","M","2009-07-06",{"$nulls":4},"SC","Hindu",null,"GOVT. SENIOR SECONDARY SCHOOL DEOGARH (222753)",8250215703,"XXXX0991",null,9649174095,"OUT SIDE SOLANKI DOOR REGAR MOHALLA WARD NO 10,DEOGARH,DEOGARH,313331",0,"N","N","No",12,"None",1]
[9,"A",13855,"2021-07-29","CHANDRA PRAKASH SALVI",null,"CHANDAN MAL SALVI","HEMI DEVI","M","2004-04-19",{"$nulls":4},"SC","Hindu",null,"GOVT. SENIOR SECONDARY SCHOOL DEOGARH (222753)",8250215703,"XXXX3400","YOEIQCB",6378314701,"SANGRAMPURA,DEOGARH ,VIJAYPURA,313331",40000,"N","N","No",17,"None",0]
[9,"A",13027,"2018-07-03","CHETAN PRAJAPAT",null,"CHAND MAL","LADI PRAJAPAT","M","2007-09-04",{"$nulls":4},"OBC","Hindu",null,"GOVT. SENIOR SECONDARY SCHOOL DEOGARH (222753)",8250215703,"XXXX2715","YYQQBOC",9879917376,"SURAJ DARWAJA,DEOGARH,DEOGARH,313331",50000,"N","N","No",14,"None",1]
[9,"A",12827,"2017-07-17","CHHOTU LAL NAT",null,"MADAN LAL NAT","BALI DEVI","M","2007-09-08",{"$nulls":4},"SC","Hindu",null,"GOVT. SENIOR SECONDARY SCHOOL DEOGARH (222753)",8250215703,"XXXX5799","VBKNJGX",8239758351,"LADUWAS,MANDAL,LADUWAS,311026",45000,"N","N","No",14,"None",0]
[9,"A",13747,"2021-07-16","DAKSHRAJ SINGH CHUNDAWAT",null,"RAJENDRA SINGH CHUNDAWAT","GAYATRI KANWAR","M","2007-01-22",{"$nulls":4},"GEN","Hindu",null,"GOVT. SENIOR SECONDARY SCHOOL DEOGARH (222753)",8250215703,"XXXX9323","VNTCZIJ",9799705528,"MOYANA ,DEOGARH,DEOGARH,313331",36000,"N","N","No",14,"None",2]
[9,"A",13794,"2021-07-22","DAL CHAND",null,"KALU RAM","KELA DEVI","M","2006-01-16",{"$nulls":4},"SC","Hindu",null,"GOVT. SENIOR SECONDARY SCHOOL DEOGARH (222753)",8250215703,"XXXX4066","VONCJJT",7727942264,"SANGRAMPURA,DEOGARH ,VIJAYPURA,313331",40000,"N","N","No",15,"None",0]
[9,"A",13858,"2021-07-29","Deepak Salvi",null,"Dinesh Chandra","Jashoda Devi","M","2007-12-22",{"$nulls":4},"SC","Hindu",null,"GOVT. SENIOR SECONDARY SCHOOL DEOGARH (222753)",8250215703,"XXXX2105",null,8385051580,"SANGRAMPURA,TEH DEOGARH,SANGRAMPURA ,313331",36000,"N","N","No",14,"None",3]
[9,"A",13745,"2021-07-16","Devendra Kumar Soni",null,"Dal Chand Soni","Laxmi Devi","M","2007-08-04",{"$nulls":4},"OBC","Hindu",null,"GOVT. SENIOR SECONDARY SCHOOL DEOGARH (222753)",8250215703,"XXXX5112","BCWZKVH",8005923392,"BAPU NAGAR PANI KI TANKI KE PASS,DEOGARH,DEOGARH,313331",72000,"N","N","No",14,"None",2]
[9,"A",13765,"2021-07-19","DEVENDRA SINGH",null,"MOHAN SINGH","KANCHAN DEVI","M","2006-08-26",{"$nulls":4},"OBC","Hindu",null,"GOVT. SENIOR SECONDARY SCHOOL DEOGARH (222753)",8250215703,"XXXX5064",null,8003804662,"VILLAGE-KUNDELI POST-MIYALA,DEOGARH,KUNDELI,313341",48000,"N","N","No",15,"None",0]
[9,"A",13851,"2021-07-29","Devkinandan Gurjar",null,"Prahlad Gurjar","Sita Devi","M","2006-08-28",{"$nulls":4},"SBC","Hindu",null,"GOVT. SENIOR SECONDARY SCHOOL DEOGARH (222753)",8250215703,"XXXX3078",null,8890257645,"GUJARI DARWAJA ,DEOGARH,DEOGARH,313331",60000,"N","N","No",15,"None",1]
[9,"A",13499,"2020-08-26","DILEEP SINGH","Late","CHANDAN SINGH","HANJA DEVI","M","2008-01-01",{"$nulls":4},"OBC","Hindu",null,"GOVT. SENIOR SECONDARY SCHOOL DEOGARH (222753)",8250215703,"XXXX5599","VZGVRSV",7742293516,"MANARAIL,DEOGARH,VIJAYPURA,313331",10000,"N","N","No",13,"None",4]
[9,"A",13848,"2021-07-29","GANPAT SINGH",null,"ISHWAR SINGH","JASHODA DEVI","M","2007-01-25",{"$nulls":4},"OBC","Hindu",null,"GOVT. SENIOR SECONDARY SCHOOL DEOGARH (222753)",8250215703,"XXXX7376","YOEGYEK",6376866784,"PANTA KI AANTI,DEOGARH,PANTA KI AANTI,313341",30000,"N","N","No",14,"None",0.5]
[9,"A",13721,"2021-07-13","GANSHYAM BHIL",null,"PURAN LAL BHIL","MEERA DEVI","M","2006-12-07",{"$nulls":4},"ST","Hindu",null,"GOVT. SENIOR SECONDARY SCHOOL DEOGARH (222753)",8250215703,"XXXX2577","YFKKGBC",8290717987,"BHILO KI TANKDI,DEOGARH,DEOGARH,313331",60000,"N","Y","No",15,"None",1]
[9,"A",13796,"2021-07-22","GEHARI LAL SALVI",null,"BHURA LAL","SENI DEVI","M","2006-08-10",{"$nulls":4},"SC","Hindu",null,"GOVT. SENIOR SECONDARY SCHOOL DEOGARH (222753)",8250215703,"XXXX9481","VPZCRNH",7568042411,"SANGRAMPURA,DEOGARH ,VIJAYPURA,313331",36000,"N","N","No",15,"None",0]
[9,"A",13925,"2021-08-13","GOVIND LAL SALVI",null,"NAINA RAM","KAILASHI DEVI","M","2005-07-20",{"$nulls":4},"SC","Hindu",null,"GOVT. SENIOR SECONDARY SCHOOL DEOGARH (222753)",8250215703,"XXXX6760","VWNZNPR",7627086855,"SANGRAMPURA,DEOGARH ,VIJAYPURA,313331",42000,"N","N","No",16,"None",0]
[9,"A",13854,"2021-07-29","HEMANT KUMAR SALVI",null,"NARAYAN LAL","LAXMI DEVI","M","2006-11-11",{"$nulls":4},"SC","Hindu",null,"GOVT. SENIOR SECONDARY SCHOOL DEOGARH (222753)",8250215703,"XXXX7849","BHRXZCN",7877237998,"SANGRAMPURA,DEOGARH,VIJAYPURA,313331",40000,"N","N","No",15,"None",0]
[9,"A",12266,"2016-06-27","HEMRAJ MALI",null,"PYARE LAL MALI","DALI DEVI","M","2005-03-16",{"$nulls":4},"OBC","Hindu",null,"GOVT. SENIOR SECONDARY SCHOOL DEOGARH (222753)",8250215703,"XXXX6842",null,7791953874,"KAMLIGHAT,DEOGARH,DEOGARH,313331",45000,"N","N","No",16,"None",4]
[9,"A",13744,"2021-07-16","HIMANSHU SALVI",null,"BHANWARLAL SALVI","VIMLA DEVI","M","2007-10-05",{"$nulls":4},"SC","Hindu",null,"GOVT. SENIOR SECONDARY SCHOOL DEOGARH (222753)",8250215703,"XXXX7320","VVRRVVP",7976211684,"OIL MIL GALI,DEOGARH,DEOGARH,313331",40000,"N","N","No",14,"None",1]
[9,"A",12818,"2017-07-11","HIMESH VED",null,"KANHAIYA LAL","MAMTA BEN","M","2006-09-18",{"$nulls":4},"OBC","Hindu",null,"GOVT. SENIOR SECONDARY SCHOOL DEOGARH (222753)",8250215703,"XXXX4168",null,9983044984,"VEDO KA MOHALLA DEOGARH,DEOGARH,DEOGARH,313331",0,"N","N","No",15,"None",1]
[9,"A",13856,"2021-07-29","HITESH KUMAR SALVI",null,"CHANDAN MAL","HEMI DEVI","M","2006-03-10",{"$nulls":4},"SC","Hindu",null,"GOVT. SENIOR SECONDARY SCHOOL DEOGARH (222753)",8250215703,"XXXX0062","YOEIQCB",6378314701,"SANGRPURA ,DEOGARH ,VIJAYPURA ,313331",40000,"N","N","No",15,"None",0]
[9,"A",13903,"2021-08-12","Hitesh Regar",null,"Hajari Lal","Rani Devi","M","2008-06-07",{"$nulls":4},"SC","Hindu",null,"GOVT. SENIOR SECONDARY SCHOOL DEOGARH (222753)",8250215703,"XXXX9401",null,9828209951,"SOLANKI DARWAJA BAHAR REGAR MOHALLA ,DEOGARH,DEOGARH,313331",36000,"N","N","No",13,"None",1]
[9,"A",13842,"2021-07-28","INDAR SINGH",null,"SOHAN SINGH","PREM KANWAR","M","2008-02-10",{"$nulls":4},"GEN","Hindu",null,"GOVT. SENIOR SECONDARY SCHOOL DEOGARH (222753)",8250215703,"XXXX6075","YMWFSKS",8239915872,"MANDAWARA,DEOGARH,MANDAWARA,313331",70000,"N","N","No",13,"None",0]
[9,"A",13743,"2021-07-16","ISHWAR SINGH",null,"UDAY SINGH","BHANWARI DEVI","M","2007-12-09",{"$nulls":4},"OBC","Hindu",null,"GOVT. SENIOR SECONDARY SCHOOL DEOGARH (222753)",8250215703,"XXXX4815","VBCSKON",6377767017,"RASHAMI,DEOGARH,RASHAMI,313341",36000,"N","N","No",14,"None",0]
[9,"A",12279,"2016-06-27","JABBAR HUSSAIN",null,"MUSTAK","AKILA BANU","M","2006-02-21",{"$nulls":4},"OBC","Muslim",null,"GOVT. SENIOR SECONDARY SCHOOL DEOGARH (222753)",8250215703,"XXXX1894","VXRHGPH",8890581494,"GUJARI DARWAJA ,DEOGARH,DEOGARH,313331",45000,"N","N","Yes",15,"None",1]
[9,"A",13793,"2021-07-22","JAGDISH SINGH",null,"GOPAL SINGH","MEERA DEVI","M","2006-05-08",{"$nulls":4},"OBC","Hindu",null,"GOVT. SENIOR SECONDARY SCHOOL DEOGARH (222753)",8250215703,"XXXX1254","WFOYDUC",9602527019,"KANIYANA,DEOGARH,DEOGARH,313331",36000,"N","N","No",15,"None",1]
[9,"A",12446,"2016-07-01","JAI SINGH SOLANKI",null,"CHAIN SINGH SOLANKI","CHANDRAKANTA","M","2006-02-12",{"$nulls":4},"OBC","Hindu",null,"GOVT. SENIOR SECONDARY SCHOOL DEOGARH (222753)",8250215703,"XXXX7424","VBKJBWJ",8003928720,"WARD NO 9 BHILON KI TAKDI,DEOGARH,DEOGARH,313331",40000,"N","N","No",15,"None",2]
[9,"A",13706,"2021-07-02","Jashwant Regar","Late","Ratan Lal Regar","Shanta Devi","M","2007-09-04",{"$nulls":4},"SC","Hindu",null,"GOVT. SENIOR SECONDARY SCHOOL DEOGARH (222753)",8250215703,"XXXX9489",null,9785682500,"SOLANKI DARWAJA KE BAHAR,DEOGARH,DEOGARH,313331",0,"N","N","No",14,"None",2]
[9,"A",13857,"2021-07-29","JASWANT LAL SALVI",null,"BHADA RAM","CHAINI BAI","M","2005-03-11",{"$nulls":4},"SC","Hindu",null,"GOVT. SENIOR SECONDARY SCHOOL DEOGARH (222753)",8250215703,"XXXX4865","VONWTZX",8094201879,"SANGRAMPURA ,DEOGARH ,VIJAYPURA ,313331",40000,"N","N","No",16,"None",0]
[9,"A",13762,"2021-07-19","JASWANT SINGH",null,"GOPAL SINGH","TARA DEVI","M","2010-03-28",{"$nulls":4},"OBC","Hindu",null,"GOVT. SENIOR SECONDARY SCHOOL DEOGARH (222753)",8250215703,"XXXX4097",null,8003247611,"VILLAGE-KUNDELI POST-MIYALA,DEOGARH,KUNDELI,313341",48000,"N","N","No",11,"None",0]
[9,"A",13746,"2021-07-16","JITENDRA NATH",null,"LADU NATH","PYARI DEVI","M","2007-12-15",{"$nulls":4},"OBC","Hindu",null,"GOVT. SENIOR SECONDARY SCHOOL DEOGARH (222753)",8250215703,"XXXX9426","YMFAQYS",9828947798,"VILL BHARAT SINGH KA GUDA,DEOGARH ,POST KUNDWA,313331",36000,"N","N","No",14,"None",0]
[9,"A",13720,"2021-07-13","KAILASH DAS",null,"ARJUN DAS","MANJU DEVI","M","2006-09-17",{"$nulls":4},"OBC","Hindu",null,"GOVT. SENIOR SECONDARY SCHOOL DEOGARH (222753)",8250215703,"XXXX3847","VBTBPSX",6377182310,"SUBHASH NAGAR,DEOGARH,DEOGARH,313331",35000,"N","N","No",15,"None",11]
[9,"A",13928,"2021-08-13","KAILASH SINGH",null,"VARAD SINGH","SANTOSH KANWAR","M","2007-06-15",{"$nulls":4},"OBC","Hindu",null,"GOVT. SENIOR SECONDARY SCHOOL DEOGARH (222753)",8250215703,"XXXX4842","VOJWVJP",9183031879,"HEMALA MANGARI ,DEOGARH,PANTA KI AANTI,313341",60000,"N","N","No",14,"None",2]
[9,"A",12264,"2016-06-27","KAMLESH MALI",null,"KAILASH MALI","PUSHPA DEVI","M","2008-08-06",{"$nulls":4},"OBC","Hindu",null,"GOVT. SENIOR SECONDARY SCHOOL DEOGARH (222753)",8250215703,"XXXX2936",null,9929335609,"SHAKTI NAGAR WARD NO. 20,DEOGARH,DEOGARH,313331",30000,"N","N","No",13,"None",1]
[9,"A",13938,"2021-08-18","KAMLESH SINGH RAWAT",null,"RANJEET SINGH","SUSHEELA DEVI","M","2007-01-30",{"$nulls":4},"OBC","Hindu",null,"GOVT. SENIOR SECONDARY SCHOOL DEOGARH (222753)",8250215703,"XXXX8918","vbhgkon",6367820009,"hemla mangari,deogarh,PANTA KI AANTI,313341",60000,"N","N","No",14,"None",2]
[9,"A",13795,"2021-07-22","KAMLESH VAN",null,"LAXMAN VAN","BHURI DEVI","M","2009-07-04",{"$nulls":4},"OBC","Hindu",null,"GOVT. SENIOR SECONDARY SCHOOL DEOGARH (222753)",8250215703,"XXXX7578",null,8290688680,"VILL BHARAT SINGH KA GUDA,DEOGARH,POST KUNDWA,313331",36000,"N","N","No",12,"None",0]
[9,"A",13792,"2021-07-22","KARTIK PURI",null,"PARAS PURI","RANJANA DEVI","M","2006-03-07",{"$nulls":4},"OBC","Hindu",null,"GOVT. SENIOR SECONDARY SCHOOL DEOGARH (222753)",8250215703,"XXXX1757","YBKOOCF",9602194783,"MALIYO KA MOHALLA, WARD NO 16,DEOGARH,DEOGARH,313331",36000,"N","Y","No",15,"None",3]
[9,"A",13724,"2021-07-13","Kishan Mali",null,"Devi Lal Mali","Eji Devi","M","2006-11-29",{"$nulls":4},"OBC","Hindu",null,"GOVT. SENIOR SECONDARY SCHOOL DEOGARH (222753)",8250215703,"XXXX6290",null,8107314162,"KARNI MATA KE PASS ,DEOGARH,HOSPITAL ROAD WARD NO 24,313331",60000,"N","N","No",15,"None",1]
[9,"A",13723,"2021-07-13","Krishnapal Singh Chundawat",null,"Ram Singh Chundawat","Prem Kanwar","M","2008-12-14",{"$nulls":4},"GEN","Hindu",null,"GOVT. SENIOR SECONDARY SCHOOL DEOGARH (222753)",8250215703,"XXXX0067","WZONKJX",9587375747,"LAL JI KA KHEDA,DEOGARH,LAL JI KA KHEDA,313331",40000,"N","N","No",13,"None",11]
[9,"A",13849,"2021-07-29","KULDEEP SINGH",null,"GOPAL SINGH","SANTOSH DEVI","M","2006-12-07",{"$nulls":4},"OBC","Hindu",null,"GOVT. SENIOR SECONDARY SCHOOL DEOGARH (222753)",8250215703,"XXXX1821","YYAOISK",7611082119,"KISHANPURA,DEOGARH,KISHANPURA,313331",48000,"N","N","No",15,"None",0]
[9,"A",13121,"2018-07-11","KULDEEP SOLANKI",null,"RADHESHYAM SOLANKI","SANTOSH SOLANKI","M","2007-12-24",{"$nulls":4},"OBC","Hindu",null,"GOVT. SENIOR SECONDARY SCHOOL DEOGARH (222753)",8250215703,"XXXX5363","YBCBQOW",9461547147,"SOLANKI DARWAJA KE ANDAR,DEOGARH,DEOGARH,313331",36000,"N","N","No",14,"None",2]
[9,"A",13753,"2021-07-17","LAKHAN SINGH",null,"KISHAN SINGH","SENA DEVI","M","2007-08-06",{"$nulls":4},"OBC","Hindu",null,"GOVT. SENIOR SECONDARY SCHOOL DEOGARH (222753)",8250215703,"XXXX9159","VPVOJTT",7014984268,"KHERA,DEOGARH,PANTA KI AANTI,313341",36000,"N","N","No",14,"None",2]
[9,"A",13023,"2018-07-03","LAL SINGH",null,"KUSHAL SINGH","BHANWARI DEVI","M","2008-07-05",{"$nulls":4},"OBC","Hindu",null,"GOVT. SENIOR SECONDARY SCHOOL DEOGARH (222753)",8250215703,"XXXX3457","YMFCQCE",7727944809,"FUKIYATHAD,DEOGARH,,313331",36000,"N","N","No",13,"None",3]
[9,"A",13766,"2021-07-19","LALIT KALAL",null,"YASHWANT KALAL","REKHA DEVI","M","2008-01-16",{"$nulls":4},"OBC","Hindu",null,"GOVT. SENIOR SECONDARY SCHOOL DEOGARH (222753)",8250215703,"XXXX4248","VNPHCRR",6355553245,"SOPARI,DEOGARH,SOPARI,313331",36000,"N","N","No",13,"None",1]
[9,"A",13924,"2021-08-13","Lalit Kalal",null,"Shivlal Kalal","Kanku Devi","M","2006-05-25",{"$nulls":4},"OBC","Hindu",null,"GOVT. SENIOR SECONDARY SCHOOL DEOGARH (222753)",8250215703,"XXXX7068",null,9602373042,"GORAM KUA KE PASS,DEOGARH,SOPARI,313331",36000,"N","N","No",15,"None",6]
[9,"A",13904,"2021-08-12","LAXMAN LAL",null,"PURANMAL","ROSHANI DEVI","M","2006-07-18",{"$nulls":4},"OBC","Hindu",null,"GOVT. SENIOR SECONDARY SCHOOL DEOGARH (222753)",8250215703,"XXXX9618","VWTVHCH",9951319049,"KUNDELI,DEOGARH,KUNDELI,313341",36000,"N","Y","No",15,"None",0]
[9,"A",13700,"2021-07-02","LOKESH BAROLIYA",null,"SHANKAR LAL BAROLIYA","INDRA DEVI","M","2008-10-24",{"$nulls":4},"SC","Hindu",null,"GOVT. SENIOR SECONDARY SCHOOL DEOGARH (222753)",8250215703,"XXXX6035","YWIFCYS",9462603557,"MANDAWARA,DEOGARH,MANDAWARA,313331",40000,"N","N","No",13,"None",0]
[9,"A",13703,"2021-07-02","Lokesh Kalal",null,"Dalchand Kalal","Devi","M","2007-04-16",{"$nulls":4},"OBC","Hindu",null,"GOVT. SENIOR SECONDARY SCHOOL DEOGARH (222753)",8250215703,"XXXX7919",null,8302954679,"KALALO KI AANTI,DEOGARH,LASANI,313331",60000,"N","N","No",14,"None",8]
[9,"A",13840,"2021-07-28","LOKESH KUMAR",null,"GOKUL RAM","LILA DEVI","M","2005-11-09",{"$nulls":4},"SC","Hindu",null,"GOVT. SENIOR SECONDARY SCHOOL DEOGARH (222753)",8250215703,"XXXX6434","YOIAGEW",7851978759,"SANGRAMPURA ,DEOGARH,VIJAYPURA ,313331",36000,"N","N","No",16,"None",0]
[9,"A",13850,"2021-07-29","LOKESH KUMAR",null,"DEVI LAL","GOPI DEVI","M","2007-02-28",{"$nulls":4},"OBC","Hindu",null,"GOVT. SENIOR SECONDARY SCHOOL DEOGARH (222753)",8250215703,"XXXX1373","VZGHWNV",9929032528,"227 SHORGHARO KA MOHALLA,DEOGARH,DEOGARH,313331",45000,"N","N","No",14,"None",1]
[9,"A",13852,"2021-07-29","LOKESH KUMAR GURJAR",null,"DHARM CHAND GURJAR","SITA DEVI","M","2008-04-27",{"$nulls":4},"SBC","Hindu",null,"GOVT. SENIOR SECONDARY SCHOOL DEOGARH (222753)",8250215703,"XXXX3523","YFUIDYO",9653855499,"DEOGARH,RAJSAMAND,DEOGARH,313331",40000,"N","N","No",13,"None",1]
[9,"B",13771,"2021-07-19","MADAN SINGH",null,"TARU SINGH","JASHODA DEVI","M","2007-05-03",{"$nulls":4},"OBC","Hindu",null,"GOVT. SENIOR SECONDARY SCHOOL DEOGARH (222753)",8250215703,"XXXX8067","YOEFKUF",8209895686,"KHERA,DEOGARH,PANTA KI AANTI,313341",30000,"N","Y","No",14,"None",2]
[9,"B",12896,"2018-06-25","MAHAVEER SINGH",null,"RAJENDRA SINGH","KESHAR DEVI","M","2008-06-16",{"$nulls":4},"OBC","Hindu",null,"GOVT. SENIOR SECONDARY SCHOOL DEOGARH (222753)",8250215703,"XXXX2962","YDOGWCO",7568192611,"DHOLI MAGARI AADAWALA BAGGAD,DEOGARH,BAGGAD,313331",45000,"N","N","No",13,"None",6]
[9,"B",13889,"2021-08-05","MAHENDRA SINGH",null,"DEVI SINGH","VARDI DEVI","M","2008-05-30",{"$nulls":4},"OBC","Hindu",null,"GOVT. SENIOR SECONDARY SCHOOL DEOGARH (222753)",8250215703,"XXXX6970",null,8561908770,"BARJAL,BHIM,VPO-BARJAL,313331",50000,"N","Y","No",13,"None",1]
[9,"B",13886,"2021-08-05","MAHESH CHANDRA SARGARA",null,"RAJKUMAR SARGARA","SUSHILA DEVI","M","2007-04-26",{"$nulls":4},"SC","Hindu",null,"GOVT. SENIOR SECONDARY SCHOOL DEOGARH (222753)",8250215703,"XXXX9236","BAKMIBO",7737288911,"SASTRI NAGAR WARD NO. 5,DEOGARH,DEOGARH,313331",40000,"N","N","No",14,"None",3]
[9,"B",13818,"2021-07-26","MANEESH KUMAR",null,"KAILASH CHANDRA PRAJAPAT","SEETA DEVI","M","2009-03-30",{"$nulls":4},"OBC","Hindu",null,"GOVT. SENIOR SECONDARY SCHOOL DEOGARH (222753)",8250215703,"XXXX0417","VPZKGVR",9166061928,"VILLAGE-KUNDELI POST-MIYALA,DEOGARH,KUNDELI,313341",72000,"N","N","No",12,"None",0]
[9,"B",13735,"2021-07-13","Manish Khatik",null,"Mukesh Kumar Khatik","Pinki Devi","M","2006-05-07",{"$nulls":4},"SC","Hindu",null,"GOVT. SENIOR SECONDARY SCHOOL DEOGARH (222753)",8250215703,"XXXX9936","vbrnkov",6375912221,"SURAJ DAREWAJA KHATIK MOHALLA ,DEOGARH,WRAD NO 8 DEOGARH,313331",60000,"N","N","No",15,"None",2]
[9,"B",13885,"2021-08-05","MANISH MEWARA",null,"DHARM CHAND","MANJU DEVI","M","2007-07-05",{"$nulls":4},"OBC","Hindu",null,"GOVT. SENIOR SECONDARY SCHOOL DEOGARH (222753)",8250215703,"XXXX3912","WXZXOZR",6376470271,"kundeli,Deogarh,kundeli,313141",40000,"N","N","No",14,"None",0]
[9,"B",13846,"2021-07-28","MANISH REGAR",null,"SURESH REGAR","DEVU DEVI","M","2006-02-28",{"$nulls":4},"SC","Hindu",null,"GOVT. SENIOR SECONDARY SCHOOL DEOGARH (222753)",8250215703,"XXXX0631","BAWQCKG",9636147249,"SOLANKI DARWAJA,DEOGARH,DEOGARH,313331",60000,"N","N","No",15,"None",3]
[9,"B",13733,"2021-07-13","MANISH SINGH",null,"VIJAY SINGH","LEELA DEVI","M","2007-06-11",{"$nulls":4},"OBC","Hindu",null,"GOVT. SENIOR SECONDARY SCHOOL DEOGARH (222753)",8250215703,"XXXX8019","VPWNBTR",7851062133,"KHERA,DEOGARH,PANTA KI AANTI,313341",36000,"N","N","No",14,"None",2]
[9,"B",13817,"2021-07-26","MOHIT KUMAR SALVI",null,"MANGI LAL","SUSHILA DEVI","M","2006-07-23",{"$nulls":4},"SC","Hindu",null,"GOVT. SENIOR SECONDARY SCHOOL DEOGARH (222753)",8250215703,"XXXX0190","VWTNVVJ",8949868426,"SANGRAMPURA ,DEOGARH ,VIJAYPURA ,313331",36000,"N","N","No",15,"None",0]
[9,"B",13821,"2021-07-26","MUKESH GURJAR",null,"MANGI LAL GURJAR","DEU DEVI GURJAR","M","2007-10-08",{"$nulls":4},"SBC","Hindu",null,"GOVT. SENIOR SECONDARY SCHOOL DEOGARH (222753)",8250215703,"XXXX1930","VOZJJOX",9636461193,"GUJARI DARWAJA,DEOGARH,DEOGARH,313331",60000,"N","N","No",14,"None",0.5]
[9,"B",13750,"2021-07-17","MUKESH SINGH",null,"KISHAN SINGH","CHANDRA DEVI","M","2008-01-24",{"$nulls":4},"OBC",null,null,"GOVT. SENIOR SECONDARY SCHOOL DEOGARH (222753)",8250215703,"XXXX5100","YMYMGGK",9784426341,"PANTA KI AANTI,DEOGARH,PANTA KI AANTI,313341",45000,"N","N",null,13,"None",0.5]
[9,"B",12267,"2016-06-27","NAINA RAWAT",null,"GOPAL SINGH","BADAMI BAI","F","2003-07-08",{"$nulls":4},"OBC","Hindu",null,"GOVT. SENIOR SECONDARY SCHOOL DEOGARH (222753)",8250215703,"XXXX3556",null,9784839966,"NEAR PRATISTHA PARK,DEOGARH,DEOGARH,313331",10000,"N","N","No",18,"None",1]
[9,"B",13768,"2021-07-19","Naitik Singh",null,"Bheru Singh","Rama Kanwar","M","2007-02-28",{"$nulls":4},"GEN","Hindu",null,"GOVT. SENIOR SECONDARY SCHOOL DEOGARH (222753)",8250215703,"XXXX9812",null,9024178330,"RAMDEV MANDIR KE PASS ,DEOGARH,DEOGARH,313331",93000,"N","N","No",14,"None",2]
[9,"B",13845,"2021-07-28","NARAYAN SINGH",null,"BHANWAR SINGH","SEETA DEVI","M","2007-11-11",{"$nulls":4},"OBC","Hindu",null,"GOVT. SENIOR SECONDARY SCHOOL DEOGARH (222753)",8250215703,"XXXX0121","WXZCGHX",9079635261,"PANTA KI AANTI,DEOGARH,PANTA KI AANTI,313341",36000,"N","N","No",14,"None",0.5]
[9,"B",13754,"2021-07-17","NARENDRA KUMAR SALVI",null,"GHISA RAM","MUNNI DEVI","M","2005-03-02",{"$nulls":4},"SC","Hindu",null,"GOVT. SENIOR SECONDARY SCHOOL DEOGARH (222753)",8250215703,"XXXX1409","YDOUBYW",8107374330,"SANGRAMPURA ,DEOGARH ,VIJAYPURA ,313331",36000,"N","N","No",16,"None",0]
[9,"B",13751,"2021-07-17","NARENDRA SINGH",null,"GOPAL SINGH","SUSHILA DEVI","M","2008-04-02",{"$nulls":4},"OBC","Hindu",null,"GOVT. SENIOR SECONDARY SCHOOL DEOGARH (222753)",8250215703,"XXXX6208","VWNXHGX",9001499883,"KHERA,DEOGARH,PANTA KI AANTI,313341",30000,"N","N","No",13,"None",2]
[9,"B",13784,"2021-07-22","NARENDRA SINGH",null,"TAARU SINGH","KAMALA DEVI","M","2008-06-20",{"$nulls":4},"OBC","Hindu",null,"GOVT. SENIOR SECONDARY SCHOOL DEOGARH (222753)",8250215703,"XXXX3911","VPWPJKR",7073981338,"VILLAGE-KUNDELI,Deogarh,KUNDELI,313341",60000,"N","N","No",13,"None",0]
[9,"B",13777,"2021-07-19","NARESH KUMAR",null,"PRATAP RAM","PREMI DEVI","M","2005-12-18",{"$nulls":4},"SC","Hindu",null,"GOVT. SENIOR SECONDARY SCHOOL DEOGARH (222753)",8250215703,"XXXX9269","VVVTNBR",8890459667,"SANGRAMPURA ,DEOGARH ,VIJAYPURA ,313331",36000,"N","N","No",16,"None",0]
[9,"B",12278,"2016-06-27","NAVEEN TIWARI",null,"CHETAN PRAKASH TIWARI","GAYATRI DEVI","M","2005-07-18",{"$nulls":4},"GEN","Hindu",null,"GOVT. SENIOR SECONDARY SCHOOL DEOGARH (222753)",8250215703,"XXXX9010",null,9928532061,"BADDI HOLI KA THAN,DEOGARH,DEOGARH,313331",30000,"N","N","No",16,"None",1]
[9,"B",13709,"2021-07-02","NAVNEET REGAR",null,"MOHAN LAL","TULSI DEVI","M","2007-06-16",{"$nulls":4},"SC","Hindu",null,"GOVT. SENIOR SECONDARY SCHOOL DEOGARH (222753)",8250215703,"XXXX1334","WFEOCBC",7023080804,"SOLANKI DARWAJA KE ANDER,RAJSAMAND,DEOGARH,313331",36000,"N","N","No",14,"None",1]
[9,"B",13937,"2021-08-18","Nikhil Singh",null,"Ramesh Singh","Dhanwanti","M","2008-01-05",{"$nulls":4},"OBC","Hindu",null,"GOVT. SENIOR SECONDARY SCHOOL DEOGARH (222753)",8250215703,"XXXX0557",null,9352343389,"BARJAL,BHIM,BHIM,313331",774953,"N","N","No",13,"None",14]
[9,"B",13749,"2021-07-17","NILESH MEWARA",null,"NARAYAN LAL","ROSHANI DEVI","M","2008-03-27",{"$nulls":4},"OBC","Hindu",null,"GOVT. SENIOR SECONDARY SCHOOL DEOGARH (222753)",8250215703,"XXXX6268","YOESFFW",7984993060,"KUNDELI POST MIYALA,DEOGARH,KUNDELI,313341",60000,"N","N","No",13,"None",0]
[9,"B",13780,"2021-07-22","NILESH SALVI",null,"DHARAM CHAND SALVI","MEENA DEVI","M","2007-03-12",{"$nulls":4},"SC","Hindu",null,"GOVT. SENIOR SECONDARY SCHOOL DEOGARH (222753)",8250215703,"XXXX3335","VZPHZGJ",7568598700,"WARD NO 8 OIL MILL KE PASS,DEOGARH,GUJARI DARWAJA,313331",36000,"N","N","No",14,"None",0.5]
[9,"B",13324,"2015-05-16","NILESH SALVI",null,"SHRVANLAL SALVI","KELEE DEVI","M","2006-07-17",{"$nulls":4},"SC","Hindu",null,"GOVT. SENIOR SECONDARY SCHOOL DEOGARH (222753)",8250215703,"XXXX5084","VPVKTCN",9929617282,"KUNDELI,Deogarh,KUNDELI,313341",30000,"N","Y","No",15,"None",0]
[9,"B",13763,"2021-07-19","Nitesh Kumar",null,"Nemi Chand","Kamla Devi","M","2007-12-08",{"$nulls":4},"OBC","Hindu",null,"GOVT. SENIOR SECONDARY SCHOOL DEOGARH (222753)",8250215703,"XXXX2688",null,9352153600,"CHETA CHAREDO KA BADIYA,DEOGARH,KAMLIGHAT CHORAHA,313331",48000,"N","N","No",14,"None",4]
[9,"B",13701,"2021-07-02","OM NATH",null,"MANGU NATH","RUPI","M","2006-04-30",{"$nulls":4},"OBC","Hindu",null,"GOVT. SENIOR SECONDARY SCHOOL DEOGARH (222753)",8250215703,"XXXX4509","VOGZVHR",8824111453,"JOGELA ,DEOGARH,SAWADARI,313331",36000,"N","N","No",15,"None",6]
[9,"B",13710,"2021-07-02","PIYUSH GURJAR",null,"HARDEV GURJAR","SEETA DEVI","M","2005-02-18",{"$nulls":4},"SBC","Hindu",null,"GOVT. SENIOR SECONDARY SCHOOL DEOGARH (222753)",8250215703,"XXXX6600",null,8279240619,"PITAMPURA,DEOGARH,PITAMPURA,313331",60000,"N","N","No",16,"None",0]
[9,"B",13498,"2020-08-24","POONAM CHAND",null,"PYARE LAL","INDRA DEVI","M","2006-03-06",{"$nulls":4},"SC","Hindu",null,"GOVT. SENIOR SECONDARY SCHOOL DEOGARH (222753)",8250215703,"XXXX7386","YOCSKEK",7727956952,"Hamaton Ki Guwar,Bhim,Lakhaguda,313341",50000,"N","N","No",15,"None",0]
[9,"B",13890,"2021-08-05","PRABHU SINGH KANAWAT",null,"RANJEET SINGH KANAWAT","BEENU KANWAR","M","2008-06-21",{"$nulls":4},"GEN","Hindu",null,"GOVT. SENIOR SECONDARY SCHOOL DEOGARH (222753)",8250215703,"XXXX8505","wzvwohn",7737580562,"lasani,deogarh,LASANI,313331",0,"N","N","No",13,"None",0]
[9,"B",13797,"2021-07-22","PRADEEP SINGH RAWAT",null,"BHEEM SINGH","MANGI DEVI","M","2007-12-11",{"$nulls":4},"OBC","Hindu",null,"GOVT. SENIOR SECONDARY SCHOOL DEOGARH (222753)",8250215703,"XXXX1945","VHWJKOR",7742470717,"POLISH THANA KE PASS ,DEOGARH,DEOGARH,313331",38000,"N","Y","No",14,"None",1]
[9,"B",13752,"2021-07-17","PRAHLAD PRAJAPAT",null,"SRI SHESH MAL PRAJAPAT","SMT REKHA DEVI","M","2006-09-27",{"$nulls":4},"OBC","Hindu",null,"GOVT. SENIOR SECONDARY SCHOOL DEOGARH (222753)",8250215703,"XXXX9911","VWHZRTX",6375603343,"SURAJ DARWAJA,DEOGARH,DEOGARH,313331",36000,"N","N","No",15,"None",3]
[9,"B",13738,"2021-07-13","PRAKASH KUMAR SALVI",null,"KASTUR LAL","LAXMI DEVI","M","2005-10-26",{"$nulls":4},"SC","Hindu",null,"GOVT. SENIOR SECONDARY SCHOOL DEOGARH (222753)",8250215703,"XXXX9797","YDAFIUG",7742233328,"KUNDELI,DEOGARH,KUNDELI,313341",36000,"N","N","No",16,"None",0]
[9,"B",13905,"2021-08-12","Praveen",null,"Jagdish Chandra","Asha Devi","M","2006-07-04",{"$nulls":4},"SC","Hindu",null,"GOVT. SENIOR SECONDARY SCHOOL DEOGARH (222753)",8250215703,"XXXX4344",null,7023353325,"GUJARI DARWAJA ,DEOGARH,DEOGARH,313331",405458,"N","N","No",15,"None",2]
[9,"B",13769,"2021-07-19","Raghav Vaishnav","Late","Rajesh Vaishnav","Durga Devi","M","2007-05-01",{"$nulls":4},"OBC","Hindu",null,"GOVT. SENIOR SECONDARY SCHOOL DEOGARH (222753)",8250215703,"XXXX7682",null,9460726109,"KOTHARIYO KI POLE,DEOGARH,DEOGARH,313331",0,"N","N","No",14,"None",1]
[9,"B",13785,"2021-07-22","Rahul Kumar Regar",null,"Pyara Lal Regar","Anachi Devi","M","2006-09-04",{"$nulls":4},"SC","Hindu",null,"GOVT. SENIOR SECONDARY SCHOOL DEOGARH (222753)",8250215703,"XXXX3555",null,9521783925,"WARD NO 6 GUJARI DARWAJA KE ANDER,DEOGARH,DEOGARH,313331",50000,"N","N","No",15,"None",2]
[9,"B",13132,"2018-07-23","RAHUL MALI",null,"BHERU LAL MALI","NARAYANI DEVI","M","2007-07-20",{"$nulls":4},"OBC","Hindu",null,"GOVT. SENIOR SECONDARY SCHOOL DEOGARH (222753)",8250215703,"XXXX9780","YMSEICW",8290004046,"OLANA KA KHEDA ,BHILWARA,GOREAAKUWA,313330",36000,"N","N","No",14,"None",24]
[9,"B",12263,"2016-06-27","RAHUL MALI",null,"RAMESH LAL MALI","MEENA MALI","M","2006-08-15",{"$nulls":4},"OBC","Hindu",null,"GOVT. SENIOR SECONDARY SCHOOL DEOGARH (222753)",8250215703,null,null,9549721826,"SHAKTI NAGAR DEOGARH,DEOGARH,DEOGARH,313331",30000,"N","N","No",15,"None",1]
[9,"B",13778,"2021-07-19","RAJENDRA SINGH",null,"KALYAN SINGH","JHAMKU DEVI","M","2007-10-12",{"$nulls":4},"OBC","Hindu",null,"GOVT. SENIOR SECONDARY SCHOOL DEOGARH (222753)",8250215703,"XXXX4597","YMBOIKB",7568486547,"KHERA,DEOGARH,PANTA KI AANTI,313341",40000,"N","N","No",14,"None",2]
[9,"B",13773,"2021-07-19","Raju Mali",null,"Shyam Lal Mali","Keshar Devi","M","2005-05-07",{"$nulls":4},"OBC","Hindu",null,"GOVT. SENIOR SECONDARY SCHOOL DEOGARH (222753)",8250215703,"XXXX6838",null,7976776040,"VIJAYPURA,DEOGARH,KAMLIGHAT,313331",36000,"N","N","No",16,"None",4]
[9,"B",13843,"2021-07-28","RAJU VAN",null,"SAMANDER VAN","ANITA VAN","M","2007-10-13",{"$nulls":4},"OBC","Hindu",null,"GOVT. SENIOR SECONDARY SCHOOL DEOGARH (222753)",8250215703,"XXXX4748","BHPBGVP",9784803899,"Vill.-Nandwa,Deogarh,Kundwa,313331",120000,"N","N","No",14,"None",0.5]
[9,"B",13891,"2021-08-05","Ramesh Singh",null,"Sohan Singh","Laxmi Devi","M","2005-08-12",{"$nulls":4},"OBC","Hindu",null,"GOVT. SENIOR SECONDARY SCHOOL DEOGARH (222753)",8250215703,"XXXX6437",null,8077009331,"BARJAL,BHIM,TEH BHIM,313341",160000,"N","N","No",16,"None",7]
[9,"B",13822,"2021-07-26","Ravi Bharti Goswami",null,"Suresh Bharti Goswami","Kanku Devi","M","2006-01-28",{"$nulls":4},"OBC","Hindu",null,"GOVT. SENIOR SECONDARY SCHOOL DEOGARH (222753)",8250215703,"XXXX0522","VHONWTH",9982205146,"RAMPURIYA,DEOGARH,RAMPURIYA,313331",12000,"N","N","No",15,"None",3]
[9,"B",13755,"2021-07-17","RAVINDRA SINGH","Late","MADAN SINGH","SEETA DEVI","M","2008-08-05",{"$nulls":4},"OBC","Hindu",null,"GOVT. SENIOR SECONDARY SCHOOL DEOGARH (222753)",8250215703,"XXXX8940","YWWSMAK",7023081379,"GOSWAMI MOHALLA ,DEOGARH,DEOGARH,313331",76000,"N","N","No",13,"None",0]
[9,"B",13782,"2017-07-03","RAVINDRA SINGH RATHORE",null,"SHANKAR SINGH RATHORE","SANTOSH KANWAR","M","2008-03-30",{"$nulls":4},"GEN","Hindu",null,"GOVT. SENIOR SECONDARY SCHOOL DEOGARH (222753)",8250215703,"XXXX8062",null,6367649078,"DEOGARH, DEOGARH,RAJSAMAND,,313331",36000,"N","N","No",13,"None",1]
[9,"B",13800,"2021-07-22","Rohit Gurjar",null,"Bhanwar Gurjar","Krishna Devi","M","2008-06-26",{"$nulls":4},"SBC","Hindu",null,"GOVT. SENIOR SECONDARY SCHOOL DEOGARH (222753)",8250215703,"XXXX7032","bcgmybe",8952891987,"SANGRAMPURA,TEH DEOGARH,SANGRAMPURA,313331",60000,"N","N","No",13,"None",4]
[9,"B",13610,"2020-10-15","Sachin Singh Tank",null,"Ajay Singh Tank","Lona Kanwar","M","2009-12-01",{"$nulls":4},"OBC","Hindu",null,"GOVT. SENIOR SECONDARY SCHOOL DEOGARH (222753)",8250215703,"XXXX6857",null,9829234874,"KESHRINGH GHATI RAJPUT MOHALLA DEOGARH,DEOGARH,DEOGARH,313331",24000,"N","N","No",12,"None",2]
[9,"B",12280,"2016-06-27","SADDAM HUSSAIN",null,"KHURSHID AHAMED","MOHASINA BANU","M","2007-08-29",{"$nulls":4},"OBC","Muslim",null,"GOVT. SENIOR SECONDARY SCHOOL DEOGARH (222753)",8250215703,"XXXX4788","YYMADDC",9828302781,"VEDWARI DARWAJA DEOGARH,DEOGARH,DEOGARH,313331",36000,"N","N","Yes",14,"None",0]
[9,"B",13764,"2021-07-19","SAGAR SINGH",null,"MAHENDRA SINGH","LALITA DEVI","M","2007-03-05",{"$nulls":4},"OBC","Hindu",null,"GOVT. SENIOR SECONDARY SCHOOL DEOGARH (222753)",8250215703,"XXXX2218","BCSICCW",8949957232,"khokhato ka badiya,deogarh,kitto ka badiya,313331",40000,"N","N","No",14,"None",3]
[9,"B",13767,"2021-07-19","SANJAY KALAL",null,"PRAKASH CHANDRA KALAL","LAXMI DEVI","M","2007-10-30",{"$nulls":4},"OBC","Hindu",null,"GOVT. SENIOR SECONDARY SCHOOL DEOGARH (222753)",8250215703,"XXXX3223","BCSTBHH",8302530740,"sopari,deogarh,sopari,313331",36000,"N","N","No",14,"None",1]
[9,"B",13799,"2021-07-22","Shahjan Sheikh",null,"Firojkha Sheikh","Nilofar Banu","M","2006-09-24",{"$nulls":4},"GEN","Muslim",null,"GOVT. SENIOR SECONDARY SCHOOL DEOGARH (222753)",8250215703,"XXXX6720",null,9799458136,"SIPAHIYO KA MOHALLA WARD NO 20,DEOGARH,DEOGARH,313331",60000,"N","N","Yes",15,"None",1]
[9,"B",13798,"2021-07-22","Shahnawaj Sheikh",null,"Abdul Hamid Sheikh","Madina Banu","M","2006-09-28",{"$nulls":4},"GEN","Muslim",null,"GOVT. SENIOR SECONDARY SCHOOL DEOGARH (222753)",8250215703,"XXXX2832",null,9414473208,"SIPAHIYO KA MOHALLA,DEOGARH,DEOGARH,313331",60000,"N","N","Yes",15,"None",1]
[9,"B",13892,"2021-08-05","SHORYAWARDHAN SINGH KANAWAT",null,"HEMANT SINGH","ASHA KANWAR","M","2008-12-25",{"$nulls":4},"GEN","Hindu",null,"GOVT. SENIOR SECONDARY SCHOOL DEOGARH (222753)",8250215703,"XXXX9577",null,6378874211,"lasani,deogarh,LASANI,313331",0,"N","N","No",13,"None",0]
[9,"B",13732,"2021-07-13","SHUBHAM KUMAR HARIJAN",null,"RAMESH CHANDRA HARIJAN","JAMNA DEVI","M","2007-09-25",{"$nulls":4},"SC","Hindu",null,"GOVT. SENIOR SECONDARY SCHOOL DEOGARH (222753)",8250215703,"XXXX4804",null,7742282378,"HARIJAN BASTI,DEOGARH,DEOGARH,313331",40000,"N","N","No",14,"None",0.5]
[9,"B",13884,"2021-08-05","Suraj Regar",null,"Suresh Regar","Tamu Devi","M","2007-09-15",{"$nulls":4},"SC","Hindu",null,"GOVT. SENIOR SECONDARY SCHOOL DEOGARH (222753)",8250215703,"XXXX9378",null,8690736588,"SOLANKI DARWAJA KE BAHAR WARD NO 3,DEOGARH,DEOGARH,313331",45000,"N","N","No",14,"None",1]
[9,"B",13781,"2021-07-22","Tejas Gandhi",null,"Hastimal Gandhi","Leela Devi","M","2007-03-29",{"$nulls":4},"GEN","Hindu",null,"GOVT. SENIOR SECONDARY SCHOOL DEOGARH (222753)",8250215703,"XXXX9187",null,9928537810,"SADAR BAZAR,DEOGARH,DEOGARH,313331",300000,"N","N","No",14,"None",1]
[9,"B",13734,"2021-07-13","TEJPAL SINGH",null,"MOHAN SINGH","ANITA DEVI","M","2008-05-05",{"$nulls":4},"OBC","Hindu",null,"GOVT. SENIOR SECONDARY SCHOOL DEOGARH (222753)",8250215703,"XXXX6020","WDFCICG",9352159614,"KHERA,PANTA KI AANTI,DEOGARH,KHERA,313341",36000,"N","N","No",13,"None",2]
[9,"B",13737,"2021-07-13","VIJAY LAL KALAL",null,"GOPI LAL KALAL","GEETA DEVI","M","2008-04-05",{"$nulls":4},"OBC","Hindu",null,"GOVT. SENIOR SECONDARY SCHOOL DEOGARH (222753)",8250215703,"XXXX3421","YWKGGYF",9784562691,"VILLAGE-KUNDELI POST-MIYALA,DEOGARH,KUNDELI,313341",40000,"N","N","No",13,"None",0]
[9,"B",13708,"2021-07-02","VIKAS DADVARIYA",null,"MADAN LAL DADVARIYA","LEELA DEVI","M","2007-06-02",{"$nulls":4},"SC","Hindu",null,"GOVT. SENIOR SECONDARY SCHOOL DEOGARH (222753)",8250215703,"XXXX5151","YBCIYQG",7597188966,"DEOGARH,DEOGARH,DEOGARH,313331",40000,"N","N","No",14,"None",2]
[9,"B",13571,"2020-09-15","VIKRAM SINGH",null,"TILOK SINGH","MEVA DEVI","M","2009-07-01",{"$nulls":4},"OBC","Hindu",null,"GOVT. SENIOR SECONDARY SCHOOL DEOGARH (222753)",8250215703,"XXXX7270","YYGFCEO",9001442557,".GUDA GAGA,MARWAR JUNCTION,GUDA,306022",80000,"N","N","No",12,"None",1]
[9,"B",13783,"2021-07-22","VINOD SALVI",null,"NENA RAM","SEETA DEVI","M","2005-05-10",{"$nulls":4},"SC","Hindu",null,"GOVT. SENIOR SECONDARY SCHOOL DEOGARH (222753)",8250215703,"XXXX7757","YMWGFSB",7878501427,"HATHAI KE PASS SALVI MOHALLA,DEOGARH,KUNDELI,313341",36000,"N","N","No",16,"None",0]
[9,"B",13820,"2021-07-26","VINOD SINGH",null,"MADAN SINGH","PUSHPA DEVI","M","2006-10-30",{"$nulls":4},"OBC","Hindu",null,"GOVT. SENIOR SECONDARY SCHOOL DEOGARH (222753)",8250215703,"XXXX0339","YOIUBMC",6352195532,"PANTA KI AANTI,DEOGARH,PANTA KI AANTI,313341",42000,"N","N","No",15,"None",0.5]
[9,"B",13707,"2021-07-02","Virendra Singh",null,"Pooran Singh","Bebi Kanwar","M","2008-10-12",{"$nulls":4},"GEN","Hindu",null,"GOVT. SENIOR SECONDARY SCHOOL DEOGARH (222753)",8250215703,"XXXX4354",null,9636336190,"LAL JI KHEDA,DEOGARH,DEOGARH,313331",40000,"N","N","No",13,"None",10]
[9,"B",13887,"2021-08-05","VISHNU VAISHNAV",null,"KAILASH VAISHNAV","PREM DEVI","M","2007-05-25",{"$nulls":4},"OBC","Hindu",null,"GOVT. SENIOR SECONDARY SCHOOL DEOGARH (222753)",8250215703,"XXXX2903",null,7340540213,"SOPARI,DEOGARH,SOPARI,313331",36000,"N","N","No",14,"None",1]
[9,"B",13770,"2021-07-19","YASH GIRI GOSWAMI",null,"GIRIRAJ GIRI GOSWAMI","SANTOSH PURI","M","2008-08-13",{"$nulls":4},"OBC","Hindu",null,"GOVT. SENIOR SECONDARY SCHOOL DEOGARH (222753)",8250215703,"XXXX6787","WDFDODS",9828087191,"SOLANKI DARWAJA KE ANDER,DEOGARH,GOSWAMI MOHALLA WARD NO 12,313331",36000,"N","N","No",13,"None",1]
[9,"B",13888,"2021-08-05","Yashwant Regar",null,"Pintu Kumar","Deu Devi","M","2007-09-19",{"$nulls":4},"SC","Hindu",null,"GOVT. SENIOR SECONDARY SCHOOL DEOGARH (222753)",8250215703,"XXXX7515",null,9001640649,"SOLANKI DARWAJA ,DEOGARH,DEOGARH,313331",55000,"N","N","No",14,"None",1]
[9,"B",13736,"2021-07-13","YASHWANT SINGH",null,"PREM SINGH","INDRA DEVI","M","2006-07-09",{"$nulls":4},"OBC","Hindu",null,"GOVT. SENIOR SECONDARY SCHOOL DEOGARH (222753)",8250215703,"XXXX4929","YBCBFCS",7877403250,"KHERA,PANTA KI AANTI,DEOGARH,KHERA,PANTA KI AANTI,313341",36000,"N","N","No",15,"None",2]
[10,"A",13677,"2021-01-23","ANUP KAHAR",null,"SOHAN LAL KAHAR","SYAMU DEVI","M","2005-08-07",{"$nulls":4},"OBC","Hindu",null,"GOVT. SENIOR SECONDARY SCHOOL DEOGARH (222753)",8250215703,"XXXX5576",null,7414032351,"MANDAWARA,DEOGARH,MANDAWARA,313331",36000,"N","N","No",16,"None",0]
[10,"A",13443,"2020-08-04","Anurag Suman",null,"Rajendra Kumar Suman","Savitri Bai","M","2006-08-01",{"$nulls":4},"OBC","Hindu",null,"GOVT. SENIOR SECONDARY SCHOOL DEOGARH (222753)",8250215703,"XXXX9275","WXZPNVX",9636236174,"RON,PIPALDA,PIPALDA KALA,325004",396820,"N","N","No",15,"None",1]
[10,"A",13440,"2020-08-04","ARJUN SINGH",null,"GOPAL SINGH","SEETA DEVI","M","2004-11-03",{"$nulls":4},"OBC","Hindu",null,"GOVT. SENIOR SECONDARY SCHOOL DEOGARH (222753)",8250215703,"XXXX6673",null,7339751671,"MANAREL,TEH.-DEOGARH,MANAREL,313331",42000,"N","N","No",17,"None",0]
[10,"A",13442,"2020-08-04","BABLU KALAL",null,"NARAYAN LAL KALAL","MOHANI DEVI","M","2004-04-13",{"$nulls":4},"OBC","Hindu",null,"GOVT. SENIOR SECONDARY SCHOOL DEOGARH (222753)",8250215703,"XXXX1790","VVXOOKR",6375421786,"sopari,deogarh,sopari,313331",36000,"N","N","No",17,"None",1]
[10,"A",13659,"2020-10-20","BAHADUR RAWAL",null,"PARAS RAWAL","REETA DEVI","M","2005-08-20",{"$nulls":4},"OBC","Hindu",null,"GOVT. SENIOR SECONDARY SCHOOL DEOGARH (222753)",8250215703,"XXXX0025","YBSBVYF",9166813683,"kundeli ,post- miyala teh.- deogarh ,deogarh,kundeli,313341",100000,"N","N","No",16,"None",1]
[10,"A",13676,"2021-01-19","BHAIRU LAL RAYKA",null,"GANPAT LAL RAYKA","ASANA BAI","M","2004-12-15",{"$nulls":4},"SBC","Hindu",null,"GOVT. SENIOR SECONDARY SCHOOL DEOGARH (222753)",8250215703,"XXXX5027","VPWTCWP",9588983779,"MANDAWARA,DEOGARH,MANDAWARA,313331",80000,"N","N","No",17,"None",0]
[10,"A",13349,"2019-07-15","BHARAT KUMAR",null,"DEVI LAL","SAROJ DEVI","M","2006-09-12",{"$nulls":4},"SC","Hindu",null,"GOVT. SENIOR SECONDARY SCHOOL DEOGARH (222753)",8250215703,"XXXX1633","VBNKCON",9001641875,"THIKARWAS KALAN,BHIM,,313341",35000,"N","N","No",15,"None",20]
[10,"A",12699,"2017-07-03","BHARAT KUMAR MALI",null,"MOHAN LAL MALI","REKHA DEVI","M","2004-12-14",{"$nulls":4},"OBC","Hindu",null,"GOVT. SENIOR SECONDARY SCHOOL DEOGARH (222753)",8250215703,"XXXX8297","YOMDFWC",9660927332,"MALIYO KA MOHALLA ,DEOGARH,DEOGARH,313331",36000,"N","N","No",17,"None",1]
[10,"A",13658,"2020-10-20","BHAVESH MEWARA",null,"SOHAN LAL","LADI DEVI","M","2006-10-27",{"$nulls":4},"OBC","Hindu",null,"GOVT. SENIOR SECONDARY SCHOOL DEOGARH (222753)",8250215703,"XXXX1718","YOAUWWB",8890444297,"kundeli miyala,deogarh,kundeli,313341",42000,"N","N","No",15,"None",0]
[10,"A",13560,"2020-09-15","Bhavesh Mewara",null,"Jagannath Mewara","Parsi Devi","M","2006-11-26",{"$nulls":4},"OBC","Hindu",null,"GOVT. SENIOR SECONDARY SCHOOL DEOGARH (222753)",8250215703,"XXXX9050",null,9950782357,"KALALO KI AANTI,DEOGARH,POST LASANI,313331",52000,"N","N","No",15,"None",8]
[10,"A",13519,"2020-08-31","Bhavesh Suthar",null,"Ramesh Lal Suthar","Deu Bai","M","2006-10-31",{"$nulls":4},"OBC","Hindu",null,"GOVT. SENIOR SECONDARY SCHOOL DEOGARH (222753)",8250215703,"XXXX1721","BCEUOBO",8559951162,"SHORGARO KA MOHALLA,DEOGARH,DEOGARH,313331",36000,"N","N","No",15,"None",2]
[10,"A",13660,"2020-10-20","BHUPENDRA SINGH RAWAT","Late","MADAN SINGH","SEETA DEVI","M","2007-01-01",{"$nulls":4},"OBC","Hindu",null,"GOVT. SENIOR SECONDARY SCHOOL DEOGARH (222753)",8250215703,"XXXX0328","YMBOBKG",9079932769,"kundeli,Deogarh,kundeli,313141",40000,"N","N","No",14,"None",0]
[10,"A",13786,"2021-07-22","Chanderpal Singh",null,"Dunger Singh","Pushpa Rupawat","M","2005-06-13",{"$nulls":4},"OBC","Hindu",null,"GOVT. SENIOR SECONDARY SCHOOL DEOGARH (222753)",8250215703,"XXXX5103","wzbkHSP",9001528700,"KITO KA WADIYA KAMLIGHAT,DEOGARH,VIJAYPURA,313331",359500,"N","N","No",16,"None",5]
[10,"A",13551,"2020-09-11","CHHOTU LAL GAWARIYA",null,"MITHA LAL","SEETA DEVI","M","2007-02-14",{"$nulls":4},"SC","Hindu",null,"GOVT. SENIOR SECONDARY SCHOOL DEOGARH (222753)",8250215703,"XXXX2871","VBSOTPJ",9928648615,"GUJARI DARWAJA,DEOGARH,DEOGARH,313331",40000,"N","N","No",14,"None",0.5]
[10,"A",13699,"2021-07-02","Chitransh Deshantry",null,"Paresh Kumar Deshantry","Sumitra Deshantry","M","2009-02-21",{"$nulls":4},"OBC","Hindu",null,"GOVT. SENIOR SECONDARY SCHOOL DEOGARH (222753)",8250215703,"XXXX3983","WFYQIUB",9587304505,"SURAJ DARWAJA KUMHARO KA MOHALLA,DEOGARH,DEOGARH,313331",150000,"N","N","No",12,"None",2]
[10,"A",13445,"2020-08-04","DAGAR SINGH",null,"BHAGWAN SINGH","SEETA DEVI","M","2006-10-16",{"$nulls":4},"OBC","Hindu",null,"GOVT. SENIOR SECONDARY SCHOOL DEOGARH (222753)",8250215703,"XXXX5937","VPWPNXT",7665153467,"KHERA,DEOGARH,PANTA KI AANTI,313341",35000,"N","N","No",15,"None",1.7]
[10,"A",13472,"2020-08-04","DALVEER SINGH",null,"KHEEM SINGH","FULI DEVI","M","2006-02-14",{"$nulls":4},"OBC","Hindu",null,"GOVT. SENIOR SECONDARY SCHOOL DEOGARH (222753)",8250215703,"XXXX7203","VPZKJNX",9601917109,"KHERA,DEOGARH,PANTA KI AANTI,313341",35000,"N","N","No",15,"None",2]
[10,"A",13518,"2020-08-31","DAU SINGH",null,"JETHU SINGH","NOJI DEVI","M","2005-10-27",{"$nulls":4},"OBC","Hindu",null,"GOVT. SENIOR SECONDARY SCHOOL DEOGARH (222753)",8250215703,"XXXX9704","VXTWSCJ",8949121893,"PANTA KI AANTI,DEOGARH,PANTA KI AANTI,313341",25000,"N","N","No",16,"None",2]
[10,"A",13682,"2021-01-30","Deepak Kumar Mali",null,"Suresh Chandra Mali","Prem Devi Mali","M","2007-12-04",{"$nulls":4},"OBC","Hindu",null,"GOVT. SENIOR SECONDARY SCHOOL DEOGARH (222753)",8250215703,"XXXX3473",null,9799987508,"KANYA P[ATHSHALA KE PICHE WARD NO 23,DEOGARH,DEOGARH,313331",100000,"N","N","No",14,"None",1]
[10,"A",13576,"2020-09-21","Deepanshu Regar",null,"Ladu Lal Regar","Chandrakala Regar","M","2004-12-20",{"$nulls":4},"SC","Hindu",null,"GOVT. SENIOR SECONDARY SCHOOL DEOGARH (222753)",8250215703,"XXXX3626","VXJCPZX",9587491680,"SOLANKI DARWAJA KE ANDER RAMDEV MANDIR KE PASS ,DEOGARH,DEOGARH,313331",36000,"N","N","No",17,"None",2]
[10,"A",13561,"2020-09-15","DEVENDRA GURJAR",null,"KANHAIYA LAL","SUKHI DEVI","M","2003-04-13",{"$nulls":4},"SBC","Hindu",null,"GOVT. SENIOR SECONDARY SCHOOL DEOGARH (222753)",8250215703,"XXXX0078","YBSBGAC",9636724505,"GUJARI DARWAJA,DEOGARH,DEOGARH,313331",42000,"N","N","No",18,"None",1]
[10,"A",13488,"2020-08-20","DEVENDRA KUMAR KHATIK",null,"ARJUN LAL","SUGANA DEVI","M","2005-07-20",{"$nulls":4},"SC","Hindu",null,"GOVT. SENIOR SECONDARY SCHOOL DEOGARH (222753)",8250215703,"XXXX3995","YMYGOSG",8824736055,"UMRAJ TAPALO KA KHEDA,Deogarh,Tapaloka kheda,313331",35000,"N","N","No",16,"None",1]
[10,"A",13441,"2020-08-04","DHARMESH KALAL",null,"KHUMAN LAL KALAL","DEU DEVI","M","2007-04-03",{"$nulls":4},"OBC","Hindu",null,"GOVT. SENIOR SECONDARY SCHOOL DEOGARH (222753)",8250215703,"XXXX9061","BABOISB",9799287954,"nichla vaas,deogarh,sopari,313331",40000,"N","N","No",14,"None",1]
[10,"A",13534,"2020-09-01","DHARMVEER NATH",null,"SUA NATH","REKHA DEVI","M","2007-09-26",{"$nulls":4},"SC","Hindu",null,"GOVT. SENIOR SECONDARY SCHOOL DEOGARH (222753)",8250215703,"XXXX2074","YOEUSGB",9571999178,"KUNDELI,deogarh,KUNDELI,313341",36000,"N","N","No",14,"None",0]
[10,"A",13550,"2020-09-11","DUNGAR SINGH","Late","MOHAN SINGH","UDI DEVI","M","2004-06-01",{"$nulls":4},"OBC","Hindu",null,"GOVT. SENIOR SECONDARY SCHOOL DEOGARH (222753)",8250215703,"XXXX1342",null,9016543861,"Upali Rashmi,DEOGARH,Rashmi,313341",12000,"N","N","No",17,"None",1]
[10,"A",13487,"2020-08-20","DUNGAR SINGH",null,"KHEEM SINGH","JASODA DEVI","M","2006-08-16",{"$nulls":4},"OBC","Hindu",null,"GOVT. SENIOR SECONDARY SCHOOL DEOGARH (222753)",8250215703,"XXXX1342","VOJGORP",9799451560,"RASHMI,DEOGARH,SANGAWAS,313341",42000,"N","N","No",15,"None",2]
[10,"A",13536,"2020-09-01","GANPAT SINGH",null,"LAXMAN SINGH","DHANU DEVI","M","2006-04-09",{"$nulls":4},"OBC","Hindu",null,"GOVT. SENIOR SECONDARY SCHOOL DEOGARH (222753)",8250215703,"XXXX4956","WDFDMYF",9636120278,"KHERA,DEOGARH,PANTA KI AANTI,313341",36000,"N","N","No",15,"None",2]
[10,"A",12292,"2016-06-27","GAURAV MALI",null,"KAILASH MALI","SANTOSH BAI","M","2005-04-09",{"$nulls":4},"OBC","Hindu",null,"GOVT. SENIOR SECONDARY SCHOOL DEOGARH (222753)",8250215703,"XXXX4844",null,9660141925,"SHAKTI NAGAR DEOGARH ,DEOGARH,DEOGARH,313331",0,"N","N","No",16,"None",0]
[10,"A",13489,"2020-08-20","GIRIRAJ GAWARIYA",null,"GOVIND GAWARIYA","SEEMA DEVI","M","2006-06-06",{"$nulls":4},"SC","Hindu",null,"GOVT. SENIOR SECONDARY SCHOOL DEOGARH (222753)",8250215703,"XXXX7779","BAWQEBG",9649184609,"Kacchchi basti,DEOGARH,Ratadiya ka chauda,313331",36000,"N","N","No",15,"None",2]
[10,"A",13471,"2020-08-04","Gopal Lal Gurjar",null,"Nenalal Gurjar","Chandi Devi","M","2006-10-08",{"$nulls":4},"SBC","Hindu",null,"GOVT. SENIOR SECONDARY SCHOOL DEOGARH (222753)",8250215703,"XXXX7889",null,8278665922,"VILL GHATI,DEOGARH,POST ANJANA,313331",36000,"N","N","No",15,"None",10]
[10,"A",12287,"2016-06-27","GOVIND MALI",null,"MADAN LAL MALI","SOHANI DEVI","M","2008-01-10",{"$nulls":4},"OBC","Hindu",null,"GOVT. SENIOR SECONDARY SCHOOL DEOGARH (222753)",8250215703,"XXXX1380",null,7725948734,"SHAKTI NAGAR,DEOGARH,DEOGARH,313331",0,"N","N","No",13,"None",1]
[10,"A",13963,"2021-08-31","Govind Nath Yogi",null,"Bhairu Nath Yogi","Teepu Devi","M","2004-01-23",{"$nulls":4},"OBC","Hindu",null,"GOVT. SENIOR SECONDARY SCHOOL DEOGARH (222753)",8250215703,"XXXX9902","vxbhczp",9660979549,"GIRDHAR PURA,BADNOR,BHOJPURA TEH BADNOR,311302",60000,"N","N","No",17,"None",3]
[10,"A",13444,"2020-08-04","HEMANT SINGH RAWAT",null,"HARI SINGH","ANHCHI DEVI","M","2007-09-05",{"$nulls":4},"OBC","Hindu",null,"GOVT. SENIOR SECONDARY SCHOOL DEOGARH (222753)",8250215703,"XXXX6539","VXZVKSP",9928724136,"SHASTRI NAGAR,DEOGARH,DEOGARH,313331",36000,"N","N","No",14,"None",0.5]
[10,"A",13521,"2020-08-31","HEMENDRA",null,"LAXMAN LAL KALAL","SANTOSH DEVI","M","2006-05-30",{"$nulls":4},"OBC","Hindu",null,"GOVT. SENIOR SECONDARY SCHOOL DEOGARH (222753)",8250215703,"XXXX5384","VBCTSHT",6375478327,"HATHAI KE PASS NICHALA WAS,DEOGARH,KUNDELI ,313341",60000,"N","N","No",15,"None",0]
[10,"A",13024,"2018-07-03","HEMENDRA SEN",null,"BANSI LAL SEN","BINDU SEN","M","2007-05-22",{"$nulls":4},"OBC","Hindu",null,"GOVT. SENIOR SECONDARY SCHOOL DEOGARH (222753)",8250215703,"XXXX4641","YOIWMBK",9928690341,"MANDAWARA SWADARI,DEOGARH,DEOGARH,313331",36000,"N","N","No",14,"None",5]
[10,"A",13679,"2021-01-30","Hemraj Regar",null,"Nena Lal Regar","Kanchan Devi","M","2005-10-26",{"$nulls":4},"SC","Hindu",null,"GOVT. SENIOR SECONDARY SCHOOL DEOGARH (222753)",8250215703,"XXXX7322",null,9680070181,"SOLANKI DARWAJA KE BAHAR,DEOGARH,DEOGARH,313331",134000,"N","N","No",16,"None",2]
[10,"A",13948,"2021-08-28","HINDRAJ SINGH PANWAR",null,"DWARKA SINGH PANWAR","RAJESHWARI PANWAR","M","2005-10-24",{"$nulls":4},"OBC","Hindu",null,"GOVT. SENIOR SECONDARY SCHOOL DEOGARH (222753)",8250215703,"XXXX5072",null,6375456501,"SADAR BAZAR,DEOGARH,DEOGARH,313331",48000,"N","N","No",16,"None",3]
[10,"A",13685,"2021-01-30","JAGDISH CHANDRA",null,"DEVI LAL","SANTOSHI","M","2006-03-24",{"$nulls":4},"SBC","Hindu",null,"GOVT. SENIOR SECONDARY SCHOOL DEOGARH (222753)",8250215703,"XXXX7834","YFGAWAF",9784652650,"GUJARI DARWAJA,DEOGARH,DEOGARH,313331",60000,"N","Y","No",15,"None",1]
[10,"A",13446,"2020-08-04","JASRAJ NAT",null,"GOPAL LAL NAT","SHANTI DEVI NAT","M","2008-08-01",{"$nulls":4},"SC","Hindu",null,"GOVT. SENIOR SECONDARY SCHOOL DEOGARH (222753)",8250215703,"XXXX2029","YFMKDMB",8107897033,"VILL BHARAT SINGH KA GUDA,DEOGARH,POST KUNDWA,313331",115000,"N","N","No",13,"None",0]
[10,"A",13455,"2020-08-04","JEETU SINGH",null,"KISHAN SINGH","SENA DEVI","M","2005-07-14",{"$nulls":4},"OBC","Hindu",null,"GOVT. SENIOR SECONDARY SCHOOL DEOGARH (222753)",8250215703,"XXXX5810","VPVOJTT",9974138486,"KHERA,DEOGARH,PANTA KI AANTI,313341",36000,"N","N","No",16,"None",2]
[10,"A",13346,"2019-07-13","KAILASH SINGH",null,"BHANWAR SINGH","TAMU DEVI","M","2006-07-02",{"$nulls":4},"OBC","Hindu",null,"GOVT. SENIOR SECONDARY SCHOOL DEOGARH (222753)",8250215703,"XXXX1874","YMFSIKF",7877616455,"khokhato ka badiya,DEOGRAH,kitto ka badiya,313331",36000,"N","N","No",15,"None",7]
[10,"A",13577,"2020-09-21","KAMLESH REGAR",null,"PARASMAL REGAR","CHANDI DEVI","M","2004-06-24",{"$nulls":4},"SC","Hindu",null,"GOVT. SENIOR SECONDARY SCHOOL DEOGARH (222753)",8250215703,"XXXX1552","YOISDOO",9352318209,"Parasmal regar,Deogarh,Mandawada,313331",32000,"N","N","No",17,"None",0]
[10,"A",13667,"2020-12-16","Kamlesh Guvariya",null,"Lakha Ram Guvariya","Rekha Devi","M","2006-05-30",{"$nulls":4},"SC","Hindu",null,"GOVT. SENIOR SECONDARY SCHOOL DEOGARH (222753)",8250215703,"XXXX7696",null,9680121756,"SHASTRI NAGAR,DEOGARH,DEOGARH,313331",36000,"N","N","No",15,"None",2]
[10,"A",13683,"2021-01-30","Kamlesh Khatik",null,"Mukesh Kumar Khatik","Pinki Devi","M","2006-08-14",{"$nulls":4},"SC","Hindu",null,"GOVT. SENIOR SECONDARY SCHOOL DEOGARH (222753)",8250215703,"XXXX2007",null,6375912221,"KHATIK MOHALLA SURAJ DARWAJA,DEOGARH,DEOGARH,313331",180000,"N","N","No",15,"None",2]
[10,"A",13573,"2020-09-21","KAMLESH SINGH",null,"BHERU SINGH","HEMA DEVI","M","2006-05-30",{"$nulls":4},"OBC","Hindu",null,"GOVT. SENIOR SECONDARY SCHOOL DEOGARH (222753)",8250215703,"XXXX0098","YFCIFAS",9950345392,"kishanpura,deogarh,kishanpura,313331",50000,"N","Y","No",15,"None",1]
[10,"A",13062,"2018-07-04","KARAN GAWARIYA",null,"BHURA LAL GAWARIYA","LAXMI DEVI","M","2004-05-02",{"$nulls":4},"SC","Hindu",null,"GOVT. SENIOR SECONDARY SCHOOL DEOGARH (222753)",8250215703,"XXXX8665","VVPZSHR",9829771530,"GUJARI DARWAJA,DEOGARH,DEOGARH,313331",36000,"N","N","No",17,"None",2]
[10,"A",13779,"2021-07-22","KISHAN JOSHI",null,"RADHE SHYAM JOSHI","PINNA DEVI","M","2005-10-10",{"$nulls":4},"OBC","Hindu",null,"GOVT. SENIOR SECONDARY SCHOOL DEOGARH (222753)",8250215703,"XXXX7251","YFIUMFW",8090185090,"KHUMARO KA MOHALLA,DEOGARH,SURAJ DARWAJA,313331",96000,"N","N","No",16,"NCC",2]
[10,"A",13520,"2020-08-31","KISHAN LAL REGAR",null,"BHANWAR LAL REGAR","ROSHANI DEVI","M","2004-12-19",{"$nulls":4},"SC","Hindu",null,"GOVT. SENIOR SECONDARY SCHOOL DEOGARH (222753)",8250215703,"XXXX8234","VPZCVSV",9024316569,"SHOBHARAM JI KI SAMADHI MANDAWARA,DEOGARH,MANDAWARA,313331",24000,"N","N","No",17,"None",2]
[10,"A",13274,"2019-07-09","KISHOR KAHAR",null,"GOVIND LAL KAHAR","SUKHI DEVI","M","2005-04-15",{"$nulls":4},"OBC","Hindu",null,"GOVT. SENIOR SECONDARY SCHOOL DEOGARH (222753)",8250215703,"XXXX2903","YYMAUYG",6372159030,"VILLAGE- MANDAWARA,DEOGARH,MANDAWARA,313331",50000,"N","N","No",16,"None",4]
[10,"A",13447,"2020-08-04","KISHOR NATH",null,"LADU NATH","TEEMU","M","2005-10-22",{"$nulls":4},"OBC","Hindu",null,"GOVT. SENIOR SECONDARY SCHOOL DEOGARH (222753)",8250215703,"XXXX2404",null,8769035884,"Ladunath,Deogarh,Jogela,313331",0,"N","N","No",16,"None",2]
[10,"A",13474,"2020-08-04","KISHOR SINGH",null,"TILOK SINGH","SENA DEVI","M","2006-11-01",{"$nulls":4},"OBC","Hindu",null,"GOVT. SENIOR SECONDARY SCHOOL DEOGARH (222753)",8250215703,"XXXX5665","VOHSKWH",8890876776,"KHERA ,DEOGARH,PANTA KI AANTI PANCHAYAT SANGAWAS,313341",72000,"N","N","No",15,"None",2]
[10,"A",13517,"2020-08-31","Lavish Jeengar",null,"Paras Jeengar","Kiran Devi","M","2006-06-18",{"$nulls":4},"SC","Hindu",null,"GOVT. SENIOR SECONDARY SCHOOL DEOGARH (222753)",8250215703,"XXXX6619","VZVTRBV",7792805122,"MARU DARWAJA KE ANDER ,DEOGARH,DEOGARH,313331",36000,"N","N","No",15,"None",1]
[10,"A",12306,"2016-06-27","LOKESH MALI",null,"TARU MALI","BHAWANA MALI","M","2003-06-19",{"$nulls":4},"OBC","Hindu",null,"GOVT. SENIOR SECONDARY SCHOOL DEOGARH (222753)",8250215703,"XXXX0280",null,8890880023,"WARD NO. 20 ,DEOGARH,DEOGARH ,313331",0,"N","N","No",18,"None",0]
[10,"B",13591,"2020-10-05","BANTI MOHAMMAD",null,"SADDIK MOHAMMAD","MADINA BANU","M","2005-10-17",{"$nulls":4},"OBC","Muslim",null,"GOVT. SENIOR SECONDARY SCHOOL DEOGARH (222753)",8250215703,"XXXX2439","YWGDFYC",9636880782,"KACHHI BASTI RATDIYA KA BADLA,DEOGARH,DEOGARH,313331",36000,"N","N","Yes",16,"None",2]
[10,"B",13470,"2020-08-04","MADAN REGAR",null,"KESHU LAL REGAR","INDRA DEVI","M","2007-01-06",{"$nulls":4},"SC","Hindu",null,"GOVT. SENIOR SECONDARY SCHOOL DEOGARH (222753)",8250215703,"XXXX9756","YYWBQMK",8696841001,"SOLANKI DARWAJA, REGAR MOHALLA,DEOGARH,DEOGARH,313331",48000,"N","N","No",14,"None",3]
[10,"B",13131,"2018-07-19","MAHAVEER SINGH",null,"GOPAL SINGH","SUSHILA DEVI","M","2007-08-14",{"$nulls":4},"OBC","Hindu",null,"GOVT. SENIOR SECONDARY SCHOOL DEOGARH (222753)",8250215703,"XXXX9205",null,9985246582,"KITO KA BADIYA,DEOGARH,VIJAYPURA,313331",0,"N","N","No",14,"None",5]
[10,"B",13547,"2020-09-09","MAHENDRA LAL LOHAR",null,"SURESH LAL LOHAR","LEELA DEVI","M","2005-11-25",{"$nulls":4},"OBC","Hindu",null,"GOVT. SENIOR SECONDARY SCHOOL DEOGARH (222753)",8250215703,"XXXX7779","YOCSMAO",7742282553,"NICHALA WAS KUNDELI,DEOGARH,KUNDELI,313141",42000,"N","N","No",16,"None",0]
[10,"B",12839,"2017-07-19","MAHENDRA SINGH","Late","BABU SINGH","LAXMI DEVI","M","2007-03-30",{"$nulls":4},"OBC","Hindu",null,"GOVT. SENIOR SECONDARY SCHOOL DEOGARH (222753)",8250215703,"XXXX1245","VXKHXBT",9680763125,"VEERAMGUDA PO KAMLIGHAT,BHIM,VEERAMGUDA,313341",24000,"N","N","No",14,"None",10]
[10,"B",13883,"2021-08-05","MAHENDRA SINGH",null,"TEJ SINGH","GULAB DEVI","M","2006-09-25",{"$nulls":4},"OBC","Hindu",null,"GOVT. SENIOR SECONDARY SCHOOL DEOGARH (222753)",8250215703,"XXXX8335","YIWGGCC",9352592603,"kishanpura,deogarh,kishanpura,313331",36000,"N","N","No",15,"None",0.5]
[10,"B",12282,"2016-06-27","MAHESH REGAR",null,"PRABHU LAL REGAR","PREM DEVI","M","2006-02-15",{"$nulls":4},"SC","Hindu",null,"GOVT. SENIOR SECONDARY SCHOOL DEOGARH (222753)",8250215703,"XXXX2401","YBCQBGG",9636465942,"REGAR MOHALLA WARD NO. 10,DEOGARH,DEOGARH,313331",36000,"N","N","No",15,"None",1]
[10,"B",13486,"2020-08-20","MANOHAR SINGH",null,"KHUMAN SINGH","RADHA DEVI","M","2006-01-18",{"$nulls":4},"OBC","Hindu",null,"GOVT. SENIOR SECONDARY SCHOOL DEOGARH (222753)",8250215703,"XXXX8583","YOCCSCG",8003373188,"KHERA,DEOGARH,PANTA KI AANTI,313341",40000,"N","N","No",15,"None",2]
[10,"B",13742,"2021-07-16","MAYUR KUMAR",null,"PARAS KUMAR PRAJAPAT","BASANTI DEVI","M","2006-04-14",{"$nulls":4},"OBC","Hindu",null,"GOVT. SENIOR SECONDARY SCHOOL DEOGARH (222753)",8250215703,"XXXX9250","ybqkcfs",9024100200,"KUMHARO KA MOHALLA,DEOGARH,WARD NO 17,313331",36000,"N","N","No",15,"None",3]
[10,"B",13473,"2020-08-04","MOHAMMAD ABRAJ",null,"GANEE MOHAMMAD","SITARA BANU","M","2007-11-18",{"$nulls":4},"OBC","Muslim",null,"GOVT. SENIOR SECONDARY SCHOOL DEOGARH (222753)",8250215703,"XXXX2614","VTSVWOR",7568488045,"SHASTRI NAGAR,DEOGARH,DEOGARH,313331",48000,"N","N","Yes",14,"None",0.5]
[10,"B",12283,"2016-06-27","MOHAMMAD FIROJ HASAMI",null,"NASIB ALI","ISLAMUN NISHA","M","2007-08-26",{"$nulls":4},"OBC","Muslim",null,"GOVT. SENIOR SECONDARY SCHOOL DEOGARH (222753)",8250215703,"XXXX1848","VZPHBGH",8696025799,"CHIPPO KA MOHALLA DEOGARH,DEOGARH,DEOGARH,313331",25000,"N","N","Yes",14,"None",0]
[10,"B",13512,"2020-08-26","MONU SHARMA",null,"RAKESH KUMAR SHARMA","URMILA DEVI","M","2005-07-27",{"$nulls":4},"GEN","Hindu",null,"GOVT. SENIOR SECONDARY SCHOOL DEOGARH (222753)",8250215703,"XXXX0985","AAAAAAA",9413093495,"GUJARI DARWAJA KE BAHAR,DEOGARH,DEOGARH,313331",60000,"N","N","No",16,"None",1]
[10,"B",13524,"2020-08-31","NARENDRA KUMAR SALVI",null,"BHERU LAL SALVI","CHANDRA DEVI","M","2004-05-27",{"$nulls":4},"SC","Hindu",null,"GOVT. SENIOR SECONDARY SCHOOL DEOGARH (222753)",8250215703,"XXXX3971","YOIAGAC",9929134040,"SANGRAMPURA,DEOGARH,SANGRAMPURA,313331",36000,"N","N","No",17,"None",0]
[10,"B",13149,"2018-07-28","NARESH KUMAR GURJAR",null,"MANGI LAL","GANGA DEVI","M","2003-04-07",{"$nulls":4},"SBC","Hindu",null,"GOVT. SENIOR SECONDARY SCHOOL DEOGARH (222753)",8250215703,"XXXX8035","VZWKBZH",9024766062,"GUJARI DARWAJA,DEOGARH,DEOGARH,313331",36000,"N","N","No",18,"None",2]
[10,"B",13675,"2021-01-19","NIKHIL KUMAR HARIJAN",null,"LALIT KUMAR","GYANEE DEVI","M","2006-10-12",{"$nulls":4},"SC","Hindu",null,"GOVT. SENIOR SECONDARY SCHOOL DEOGARH (222753)",8250215703,"XXXX8473","YBYUSYW",7023642303,"HARIJAN BASTI,DEOGARH,DEOGARH,313331",42000,"N","N","No",15,"None",0.5]
[10,"B",13527,"2020-08-31","NIRMAL KUMAR SALVI",null,"LAXMAN LAL","GEETA DEVI","M","2005-08-17",{"$nulls":4},"SC","Hindu",null,"GOVT. SENIOR SECONDARY SCHOOL DEOGARH (222753)",8250215703,"XXXX7687","VOJSOVT",9001339053,"SANGRAMPURA,DEOGARH,SANGRAMPURA,313331",40000,"N","N","No",16,"None",0]
[10,"B",13678,"2021-01-30","NUVESH VAN",null,"LAXMAN VAN","BHURI DEVI","M","2007-05-10",{"$nulls":4},"OBC","Hindu",null,"GOVT. SENIOR SECONDARY SCHOOL DEOGARH (222753)",8250215703,"XXXX0778",null,8290688680,"VILL BHARAT SINGH KA GUDA,DEOGARH,POST KUNDWA,313331",160000,"N","N","No",14,"None",0]
[10,"B",13124,"2018-07-11","PANKAJ REGAR",null,"BHAGWAN LAL","BHANWARI DEVI","M","2006-06-02",{"$nulls":4},"SC","Hindu",null,"GOVT. SENIOR SECONDARY SCHOOL DEOGARH (222753)",8250215703,"XXXX8417",null,9999999999,"SOLANKI DARWAJA KE ANDAR,DEOGARH,DEOGARH,313331",36000,"N","N","No",15,"None",2]
[10,"B",13556,"2020-09-11","Pawan Chandel",null,"Govind Chandel","Pooja Chandal","M","2007-11-17",{"$nulls":4},"SC","Hindu",null,"GOVT. SENIOR SECONDARY SCHOOL DEOGARH (222753)",8250215703,"XXXX5742",null,7984720039,"KHATIKO KA MOHALLA JAMADARO KI GALI WARD NO 7,DEOGARH,DEOGARH ,313331",50000,"N","N","No",14,"None",1]
[10,"B",13535,"2020-09-01","PAWAN KUMAR REGAR",null,"SURESH CHANDRA REGAR","KAILASHI DEVI","M","2006-06-06",{"$nulls":4},"SC","Hindu",null,"GOVT. SENIOR SECONDARY SCHOOL DEOGARH (222753)",8250215703,"XXXX8869","WZJOJOT",9649935161,"SOLANKI DARWAJA DEOGARH,DEOGARH,DEOGARH,313331",36000,"N","N","No",15,"None",3]
[10,"B",13668,"2020-12-18","PRAHLAD REGAR",null,"VIJAY RAM REGAR","PREM DEVI","M","2005-09-05",{"$nulls":4},"SC","Hindu",null,"GOVT. SENIOR SECONDARY SCHOOL DEOGARH (222753)",8250215703,"XXXX6953","VRBPNVX",8003857847,"Mohannagar,Rajsamand,Pandolaie,313324",52000,"N","N","No",16,"None",0]
[10,"B",13451,"2020-08-04","PRAKASH KALAL",null,"BHERU LAL KALAL","MEENA DEVI","M","2004-06-23",{"$nulls":4},"OBC","Hindu",null,"GOVT. SENIOR SECONDARY SCHOOL DEOGARH (222753)",8250215703,"XXXX2761","YYSYYDO",6378845513,"upar ka vaas,deogarh,sopari,313331",36000,"N","N","No",17,"None",1]
[10,"B",13485,"2020-08-20","PRAKASH SINGH",null,"TEJ SINGH","JAMANA DEVI","M","2004-04-04",{"$nulls":4},"OBC","Hindu",null,"GOVT. SENIOR SECONDARY SCHOOL DEOGARH (222753)",8250215703,"XXXX4943","WDFCEDG",8290568758,"VILLAGE-KUNDELI ,KUNDELI TEH.-DEOGARH,KUNDELI,313341",38000,"N","Y","No",17,"None",0]
[10,"B",13546,"2020-09-09","PRAVEEN KUMAR REGAR",null,"PREM LAL REGAR","SHANTA DEVI","M","2007-09-12",{"$nulls":4},"SC","Hindu",null,"GOVT. SENIOR SECONDARY SCHOOL DEOGARH (222753)",8250215703,"XXXX5722","BAFGQYG",9587652170,"DEOGARH, DEOGARH,RAJSAMAND,,313331",36000,"N","N","No",14,"None",1]
[10,"B",13661,"2020-10-20","PRINCE KUMAR REGAR",null,"KISHAN LAL","LEELA DEVI","M","2005-07-25",{"$nulls":4},"SC","Hindu",null,"GOVT. SENIOR SECONDARY SCHOOL DEOGARH (222753)",8250215703,"XXXX7441","VBWOORV",7742017346,"RAJIV NAGAR RATDIYA KA CHODA,DEOGARH,DEOGARH,313331",40000,"N","N","No",16,"None",2]
[10,"B",13900,"2021-08-05","Priyadarshan Singh",null,"Pratap Singh Chouhan","Nirmala Chouhan","M","2006-03-16",{"$nulls":4},"OBC","Hindu",null,"GOVT. SENIOR SECONDARY SCHOOL DEOGARH (222753)",8250215703,"XXXX4217",null,8003969100,"7 KANAK VIHAR COLONY UDAIPUR ROAD ,BEAWAR,GANESH PURA WARD NO 38 BEAWAR,305901",808960,"N","N","No",15,"None",1]
[10,"B",13871,"2021-07-29","Priyanshu Vaishnav",null,"Dilkhush Vaishnav","Kalawati Vaishnav","M","2006-10-28",{"$nulls":4},"OBC","Hindu",null,"GOVT. SENIOR SECONDARY SCHOOL DEOGARH (222753)",8250215703,"XXXX6745",null,9460726109,"KOTHARIYON KI POLL KE ANDER,DEOGARH,DEOGARH,313331",60000,"N","N","No",15,"None",1]
[10,"B",12897,"2018-06-25","PUROSHATTAM DAS VAISHNAV",null,"SHANKAR DAS","PUSHPA DEVI","M","2005-01-30",{"$nulls":4},"OBC","Hindu",null,"GOVT. SENIOR SECONDARY SCHOOL DEOGARH (222753)",8250215703,"XXXX9991","YBGUFQW",9784056126,"RAMPURIYA WARD NO 19,DEOGARH,RAMPURIYA WARD NO 19,313331",140000,"N","N","No",16,"None",2]
[10,"B",12307,"2016-06-27","RAHUL MALI",null,"KANHAIYA LAL MALI","SANTOSH BAI","M","2006-02-20",{"$nulls":4},"OBC","Hindu",null,"GOVT. SENIOR SECONDARY SCHOOL DEOGARH (222753)",8250215703,"XXXX0484",null,9784791411,"SHAKTI NAGAR ,DEOGARH,DEOGARH,313331",0,"Y","Y","No",15,"None",1]
[10,"B",12311,"2016-06-27","RAHUL MALI",null,"BHERU LAL","RADHA DEVI","M","2005-03-07",{"$nulls":4},"OBC","Hindu",null,"GOVT. SENIOR SECONDARY SCHOOL DEOGARH (222753)",8250215703,"XXXX4912",null,9001859600,"SHAKTI NAGAR,DEOGARH,DEOGARH,313331",40000,"N","N","No",16,"None",0]
[10,"B",12284,"2016-06-27","RAHUL PRAJAPAT",null,"GANGA RAM","MANGI BAI","M","2005-06-19",{"$nulls":4},"OBC","Hindu",null,"GOVT. SENIOR SECONDARY SCHOOL DEOGARH (222753)",8250215703,"XXXX2302","VOOSSKX",8003002029,"KUMHARO KA MOHALLA SURAAJ DARWAJA,DEOGARH,DEOGARH,313331",38000,"N","N","No",16,"None",1]
[10,"B",13452,"2020-08-04","RAJENDRA KUMAR REGAR",null,"JAGDISH CHANDRA","DHAPU DEVI","M","2005-05-16",{"$nulls":4},"SC","Hindu",null,"GOVT. SENIOR SECONDARY SCHOOL DEOGARH (222753)",8250215703,"XXXX4822","BAOQAEB",9928506861,"ADARSH NAGAR ,DEOGARH,CHETRA ASAN ,313331",36000,"N","N","No",16,"None",10]
[10,"B",13801,"2021-07-22","Rajendra Singh","Late","Khuman Singh","Ratan Kanwar","M","2007-09-15",{"$nulls":4},"OBC","Hindu",null,"GOVT. SENIOR SECONDARY SCHOOL DEOGARH (222753)",8250215703,"XXXX2859",null,7878942972,"KESHRING GHATI RAJPOOT MOHALLA,DEOGARH,DEOGARH,313331",0,"N","N","No",14,"None",2]
[10,"B",13405,"2019-07-18","RAKESH DASANA",null,"BHANWAR LAL BHIL","KANWARI BAI","M","2006-09-17",{"$nulls":4},"ST","Hindu",null,"GOVT. SENIOR SECONDARY SCHOOL DEOGARH (222753)",8250215703,"XXXX9111","YWQKAEG",9784356552,"RAJIV NAGAR ,DEOGARH,DEOGARH,313331",25000,"N","N","No",15,"None",2]
[10,"B",13484,"2020-08-20","RAMESH SINGH",null,"LUMB SINGH","SEETA DEVI","M","2006-03-14",{"$nulls":4},"OBC","Hindu",null,"GOVT. SENIOR SECONDARY SCHOOL DEOGARH (222753)",8250215703,"XXXX5885","VXOSVKX",9001204246,"PANTA KI AANTI,DEOGARH,POST-MIYALA,313331",50000,"N","N","No",15,"None",0.5]
[10,"B",13088,"2016-08-13","SAAGAR KUMAR REGAR",null,"MOHAN LAL REGAR","TULSI DEVI","M","2005-03-23",{"$nulls":4},"SC","Hindu",null,"GOVT. SENIOR SECONDARY SCHOOL DEOGARH (222753)",8250215703,"XXXX9735",null,7023080804,"SOLANKI DARWAJA KE ANDAR,DEOGARH,DEOGARH,313331",0,"N","N","No",16,"None",2]
[10,"B",13448,"2020-08-04","SANTOSH SINGH RAWAT",null,"MADAN SINGH RAWAT","KAMLA BAI","M","2005-05-19",{"$nulls":4},"OBC","Hindu",null,"GOVT. SENIOR SECONDARY SCHOOL DEOGARH (222753)",8250215703,"XXXX9055","WZJNROP",9928067776,"kishanpura,deogarh,kishanpura,313331",36000,"N","Y","No",16,"None",0.5]
[10,"B",13599,"2020-10-10","SHIV KUMAR VAISHNAV",null,"SHANTI DAS VAISHNAV","SHARDA DEVI","M","2006-02-26",{"$nulls":4},"OBC","Hindu",null,"GOVT. SENIOR SECONDARY SCHOOL DEOGARH (222753)",8250215703,"XXXX9188","BAMEBMC",9983040643,"BEHIND GIRLS SENIOR SECONDARY SCHOOL ,DEOGARH,WARD NO 19 DEOGARH,313331",45000,"N","N","No",15,"None",3]
[10,"B",13453,"2020-08-04","SHRAWAN SINGH",null,"BABU SINGH","TEEPU DEVI","M","2007-07-25",{"$nulls":4},"OBC","Hindu",null,"GOVT. SENIOR SECONDARY SCHOOL DEOGARH (222753)",8250215703,"XXXX8937","YMFEIIK",9352315364,"KHERA,DEOGARH,PANTA KI AANTI,313341",20000,"N","N","No",14,"None",2]
[10,"B",13526,"2020-08-31","SHUBHAM KUMAR YATI",null,"JAGDISH CHANDRA YATI","UMA DEVI YATI","M","2006-01-15",{"$nulls":4},"GEN","Hindu",null,"GOVT. SENIOR SECONDARY SCHOOL DEOGARH (222753)",8250215703,"XXXX6285","BCCYACB",6375135590,"PITAMPURA,DEOGARH,PITAMPURA,313331",0,"N","N","No",15,"None",0]
[10,"B",13449,"2020-08-04","SHYAM SINGH",null,"DINESH SINGH","HULAS DEVI","M","2006-06-29",{"$nulls":4},"OBC","Hindu",null,"GOVT. SENIOR SECONDARY SCHOOL DEOGARH (222753)",8250215703,"XXXX8318","WZVROGH",8290204171,"PANERIYON KA MOHALLA,DEOGARH,DEOGARH,313331",15000,"N","Y","No",15,"None",0.5]
[10,"B",13583,"2020-09-21","SOHAN SINGH",null,"KISHAN SINGH","JHAMKU DEVI","M","2006-05-30",{"$nulls":4},"OBC","Hindu",null,"GOVT. SENIOR SECONDARY SCHOOL DEOGARH (222753)",8250215703,"XXXX9121","VONHHWV",8890876072,"FUKIYA THAD,DEOGARH,FUKIYA THAD,313331",10000,"N","N","No",15,"None",3]
[10,"B",13515,"2020-08-31","SUBHAM SUTHAR",null,"BHAGWATI LAL SUTHAR","GANESHI","M","2006-11-28",{"$nulls":4},"OBC","Hindu",null,"GOVT. SENIOR SECONDARY SCHOOL DEOGARH (222753)",8250215703,"XXXX2800","vrthbwt",9414575617,"LASANI,DEOGARH,LASANI,313331",80000,"N","N","No",15,"None",10]
[10,"B",13614,"2020-10-15","Sunny Singh Tank",null,"Ajay Singh Tank","Lona Devi","M","2007-05-11",{"$nulls":4},"OBC","Hindu",null,"GOVT. SENIOR SECONDARY SCHOOL DEOGARH (222753)",8250215703,"XXXX6332",null,9829234874,"KESHRING GHATI,DEOGARH,RAJPUT MOHALLA DEOGARH,313331",24000,"N","N","No",14,"None",2]
[10,"B",13522,"2020-08-31","TARU SINGH",null,"SHANKAR SINGH","LEELA DEVI","M","2007-01-18",{"$nulls":4},"OBC","Hindu",null,"GOVT. SENIOR SECONDARY SCHOOL DEOGARH (222753)",8250215703,"XXXX2237","VPWPKPP",9929349291,"PANTA KI AANTI,DEOGARH,POST-MIYALA,313341",36000,"N","Y","No",14,"None",0.5]
[10,"B",13686,"2021-01-30","TARU SINGH",null,"RAJU SINGH","SANTOSHI DEVI","M","2007-05-03",{"$nulls":4},"OBC","Hindu",null,"GOVT. SENIOR SECONDARY SCHOOL DEOGARH (222753)",8250215703,"XXXX4190","YMDBKAK",8107739927,"PANTA KI AANTI,DEOGARH,POST-MIYALA,313341",60000,"N","N","No",14,"None",0.5]
[10,"B",13555,"2020-09-11","TARUN SINGH",null,"BHANWAR SINGH","PINKI KANWAR","M","2005-04-15",{"$nulls":4},"OBC","Hindu",null,"GOVT. SENIOR SECONDARY SCHOOL DEOGARH (222753)",8250215703,"XXXX1236","VVNJPCP",6376134811,"suraj darwaja MALIYON KA MOHALLA,deogarh,DEOGARH,313331",12000,"N","N","No",16,"None",2]
[10,"B",13592,"2020-10-05","Tejpal Singh",null,"Gopal Singh","Tara Devi","M","2006-07-10",{"$nulls":4},"GEN","Hindu",null,"GOVT. SENIOR SECONDARY SCHOOL DEOGARH (222753)",8250215703,"XXXX1173","VWNBZTH",8949861075,"KUNDELI,DEOGARH,POST MIYALA,313341",40000,"N","N","No",15,"NCC",4]
[10,"B",13872,"2021-07-29","Toshif Khan",null,"Shabir Khan","Praveen Banu","M","2007-02-05",{"$nulls":4},"GEN","Muslim",null,"GOVT. SENIOR SECONDARY SCHOOL DEOGARH (222753)",8250215703,"XXXX5448","VVRJTRP",9928750202,"SIPAHIYO KA MOHLLA ,DEOGARH,DEOGARH,313331",60000,"N","N","Yes",14,"None",3]
[10,"B",13772,"2021-07-19","Usman Harun",null,"Aslam Mohammad","Rizwana Banu","M","2006-06-05",{"$nulls":4},"OBC","Muslim",null,"GOVT. SENIOR SECONDARY SCHOOL DEOGARH (222753)",8250215703,"XXXX4842",null,9887717782,"SADAR BAZAR SURAJ DARWAJA,DEOGARH,DEOGARH,313331",600000,"N","N","Yes",15,"None",2]
[10,"B",13450,"2020-08-04","VIJENDRA SINGH RAWAT",null,"DOULAT SINGH RAWAT","MINA DEVI","M","2005-06-06",{"$nulls":4},"OBC","Hindu",null,"GOVT. SENIOR SECONDARY SCHOOL DEOGARH (222753)",8250215703,"XXXX3055","WZJNROR",9929342080,"KISHANPURA,DEOGARH,KISHANPURA SWADARI,313331",36000,"N","Y","No",16,"NCC",1]
[10,"B",13516,"2020-08-31","VIKRAM SINGH",null,"PREM SINGH","SHANTA DEVI","M","2006-10-28",{"$nulls":4},"OBC","Hindu",null,"GOVT. SENIOR SECONDARY SCHOOL DEOGARH (222753)",8250215703,"XXXX4211","YMWWIKW",7231866398,"PANTA KI AANTI,DEOGARH,POST-MIYALA,313341",48000,"N","N","No",15,"None",1]
[10,"B",13454,"2020-08-04","VINOD SALVI",null,"BHANWAR LAL SALVI","VIMLA SALVI","M","2005-08-29",{"$nulls":4},"SC","Hindu",null,"GOVT. SENIOR SECONDARY SCHOOL DEOGARH (222753)",8250215703,"XXXX1881","VVRRVVP",9982916868,"gujari darwaja,deogarh,,313331",40000,"N","N","No",16,"None",2]
[10,"B",13525,"2020-08-31","Virendra Gawariya",null,"Hemraj Gawariya","Sita Devi","M","2005-12-03",{"$nulls":4},"SC","Hindu",null,"GOVT. SENIOR SECONDARY SCHOOL DEOGARH (222753)",8250215703,"XXXX8369",null,9680070695,"WARD NO 6 SHASTRI NAGAR DEOGARH,DEOGARH,DEOGARH,313331",36000,"N","N","No",16,"None",2]
[10,"B",13572,"2020-09-16","VIRENDRA SINGH",null,"PARBHU SINGH","DEVI BAI","M","2007-07-07",{"$nulls":4},"OBC","Hindu",null,"GOVT. SENIOR SECONDARY SCHOOL DEOGARH (222753)",8250215703,"XXXX3376","VWHHPOT",9928903457,".GUDA GAGA,mj,.GUDA,306022",80000,"N","N","No",14,"None",1]
[10,"B",13741,"2021-07-16","Vishal Soni",null,"Dal Chand Soni","Laxmi Devi","M","2005-08-28",{"$nulls":4},"OBC","Hindu",null,"GOVT. SENIOR SECONDARY SCHOOL DEOGARH (222753)",8250215703,"XXXX7988","BCWZKVH",8005918241,"PANI KI TANKI KE PASS,DEOGARH,BAPU NAGAR,313331",72000,"N","N","No",16,"None",1]
[10,"B",13545,"2020-09-09","YASHPAL SALVI",null,"JEEVA RAM SALVI","DEU BAI","M","2004-08-20",{"$nulls":4},"SC","Hindu",null,"GOVT. SENIOR SECONDARY SCHOOL DEOGARH (222753)",8250215703,"XXXX6058","YOICDIF",9660545911,"SANGRAMPURA,DEOGARH,SANGRAMPURA,313331",36000,"N","N","No",17,"None",0]
[10,"B",13513,"2020-08-26","Yuvraj Singh Rathore",null,"Rajendra Singh Rathore","Rekha Devi","M","2006-12-03",{"$nulls":4},"OBC","Hindu",null,"GOVT. SENIOR SECONDARY SCHOOL DEOGARH (222753)",8250215703,"XXXX6290",null,9772965597,"keshring ghati ke niche,deogarh,rajput mohalla deogarh,313331",48000,"N","N","No",15,"None",2]
[11,"A",13239,"2019-07-08","BHAVESH KUMAR GURJAR",null,"PRAKASH CHANDRA GURJAR","PREMI DEVI","M","2006-10-27",{"$nulls":4},"SBC","Hindu",null,"GOVT. SENIOR SECONDARY SCHOOL DEOGARH (222753)",8250215703,"XXXX7668","VWWXNRN",8783675986,"PITAM PURA,DEOGARH,PITAM PURA,313331",36000,"N","N","No",15,"None",2]
[11,"A",13408,"2019-07-18","Chetan Mali",null,"Pyare Lal Mali","Chandi Devi","M","2006-01-08",{"$nulls":4},"OBC","Hindu",null,"GOVT. SENIOR SECONDARY SCHOOL DEOGARH (222753)",8250215703,"XXXX4534","VGBGZZJ",8003976622,"BHANWARIYA,DEOGARH,AANJANA,313331",48000,"N","N","No",15,"None",3]
[11,"A",13104,"2018-07-05","DINESH REGER",null,"CHUNNI LAL REGAR","DEU BAI","M","2004-04-07",{"$nulls":4},"SC","Hindu",null,"GOVT. SENIOR SECONDARY SCHOOL DEOGARH (222753)",8250215703,"XXXX3032",null,9950524027,"DEOGARH,DEOGARH,DEOGARH,313331",18000,"N","N","No",17,"None",2]
[11,"A",13356,"2019-07-15","HEMANT SALVI",null,"TULSIRAM SALVI","KELA DEVI","M","2003-02-17",{"$nulls":4},"SC","Hindu",null,"GOVT. SENIOR SECONDARY SCHOOL DEOGARH (222753)",8250215703,"XXXX7524","VZGVRBH",7568849866,"HOSPITAL ROAD BAPU NAGAR ,DEOGARH,DEOGARH,313331",30000,"Y","N","No",18,"None",1]
[11,"A",13259,"2019-07-08","MUKESH SINGH",null,"AMAR SINGH","SHANTA DEVI","M","2006-07-10",{"$nulls":4},"OBC","Hindu",null,"GOVT. SENIOR SECONDARY SCHOOL DEOGARH (222753)",8250215703,"XXXX1206","VOSBBCH",8003813754,"VILLAGE-KUNDELI,Deogarh,KUNDELI,313341",36000,"N","N","No",15,"None",4]
[11,"A",13541,"2020-09-09","Radheshyam Jatoliya",null,"Goverdhan Jatoliya","Pani Devi","M","2004-05-31",{"$nulls":4},"SC","Hindu",null,"GOVT. SENIOR SECONDARY SCHOOL DEOGARH (222753)",8250215703,"XXXX9426","VBOCCRX",9511545544,"DAK BANGLE KE PICHE SHASTRI NAGAR,DEOGARH,DEOGARH,313331",218400,"N","N","No",17,"None",1]
[11,"A",13312,"2019-07-09","RAJENDRA SINGH",null,"LAXMAN SINGH","KAMALA DEVI","M","2005-11-04",{"$nulls":4},"OBC","Hindu",null,"GOVT. SENIOR SECONDARY SCHOOL DEOGARH (222753)",8250215703,"XXXX6020","WDFDOFC",7073428363,"VILLAGE-KUNDELI,Deogarh,KUNDELI,313341",24000,"N","N","No",16,"None",4]
[11,"A",13364,"2019-07-15","SURESH SINGH",null,"LAXMAN SINGH","LAXMI DEVI","M","2005-06-20",{"$nulls":4},"OBC","Hindu",null,"GOVT. SENIOR SECONDARY SCHOOL DEOGARH (222753)",8250215703,"XXXX7719","VPBPTPN",9413813265,"KUNDELI,Deogarh,KUNDELI,313341",36000,"N","N","No",16,"None",4]
[11,"A",13538,"2020-09-09","SURYA PRATAP SINGH CHUNDAWAT",null,"KIRAN SINGH CHUNDAWAT","PUSHPA KANWAR","M","2007-01-29",{"$nulls":4},"GEN","Hindu",null,"GOVT. SENIOR SECONDARY SCHOOL DEOGARH (222753)",8250215703,"XXXX5897","YIFIUEG",9982651686,"NEEMJHAR,DEOGARH,KALESERIYA,313331",50000,"N","N","No",14,"None",15]
[11,"B",12626,"2016-07-26","ARSIL HUSAIN",null,"MUZAMMIL HUSAIN","RAFIYA PARVEEN","M","2007-01-01",{"$nulls":4},"GEN","Hindu",null,"GOVT. SENIOR SECONDARY SCHOOL DEOGARH (222753)",8250215703,"XXXX6639",null,9983556319,"UDAY KLA ,GANGPUR,GANGAPUR,322201",240000,"N","N","No",14,"None",1]
[11,"B",13355,"2019-07-15","ASHOK KALAL",null,"MANGI LAL KALAL","DHARMU DEVI","M","2006-09-13",{"$nulls":4},"OBC","Hindu",null,"GOVT. SENIOR SECONDARY SCHOOL DEOGARH (222753)",8250215703,"XXXX8452","YYQSIQC",7048253220,"kundeli,deogarh,kundeli,313341",36000,"N","N","No",15,"None",4]
[11,"B",13204,"2019-07-03","ASHOK SINGH",null,"PRAKASH SINGH","SEETA DEVI","M","2005-12-10",{"$nulls":4},"OBC","Hindu",null,"GOVT. SENIOR SECONDARY SCHOOL DEOGARH (222753)",8250215703,"XXXX0311","VVNNVNJ",9001922482,"kundeli,TEH.-DEOGARH,kundeli,313341",36000,"N","N","No",16,"None",5]
[11,"B",12970,"2018-06-30","ASHOK SINGH RAWAT",null,"MOHAN SINGH","BHANWARI BAI","M","2005-07-30",{"$nulls":4},"OBC","Hindu",null,"GOVT. SENIOR SECONDARY SCHOOL DEOGARH (222753)",8250215703,"XXXX6442",null,9950482109,"BANDI HOLI KA STHAN,DEOGARH,DEOHGARH,313331",36000,"N","N","No",16,"None",1]
[11,"B",13028,"2018-07-04","BHERU LAL",null,"BHADA RAM","CHAINI DEVI","M","2002-09-11",{"$nulls":4},"SC","Hindu",null,"GOVT. SENIOR SECONDARY SCHOOL DEOGARH (222753)",8250215703,"XXXX3445","VONWTZX",8769930449,"MAIN ROAD SANGRAMPURA,DEOGARH,DEOGARH,313331",36000,"N","N","No",19,"None",2]
[11,"B",13219,"2019-07-03","BHUPESH KUMAR SALVI",null,"KISHAN LAL SALVI","RADHA DEVI","M","2002-10-16",{"$nulls":4},"SC","Hindu",null,"GOVT. SENIOR SECONDARY SCHOOL DEOGARH (222753)",8250215703,"XXXX9423","VZGVPBN",9571129504,"Sangrampura,Deogarh,Sangrampura,313331",36000,"N","N","No",19,"None",3]
[11,"B",13030,"2018-07-04","CHANDRA SINGH",null,"HEERA SINGH","SAINA DEVI","M","2002-02-06",{"$nulls":4},"OBC","Hindu",null,"GOVT. SENIOR SECONDARY SCHOOL DEOGARH (222753)",8250215703,"XXXX2560","vocozjh",9662392571,"PANTA KI AANTI,DEOGARH,DEOGARH,313331",36000,"Y","N","No",19,"None",10]
[11,"B",13275,"2019-07-09","CHETAN KUMAR GURJAR",null,"DHARM CHAND GURJAR","SITA DEVI","M","2006-07-20",{"$nulls":4},"SBC","Hindu",null,"GOVT. SENIOR SECONDARY SCHOOL DEOGARH (222753)",8250215703,"XXXX6731","YFUIDYO",9468847517,"GUJARI DARWAJA,RAJSAMAND,DEOGARH,313331",48000,"N","N","No",15,"None",2]
[11,"B",13337,"2019-07-12","DHANNA SINGH","Late","MADHU SINGH","SAYARI DEVI","M","2003-12-02",{"$nulls":4},"OBC","Hindu",null,"GOVT. SENIOR SECONDARY SCHOOL DEOGARH (222753)",8250215703,"XXXX0131","YMFUIIO",9636187857,"PITHAGUDA,BHIM,,313341",36000,"N","N","No",18,"None",2]
[11,"B",13238,"2019-07-08","DHEERAJ NATH",null,"CHHITAR NATH","SUNDAR DEVI","M","2006-04-05",{"$nulls":4},"OBC","Hindu",null,"GOVT. SENIOR SECONDARY SCHOOL DEOGARH (222753)",8250215703,"XXXX4773","VIBYBFS",7878766953,"jogela,deogarh,jogela,313331",36000,"N","N","No",15,"None",5]
[11,"B",12965,"2018-06-30","DINESH GURJAR",null,"KANHEYA LAL GURJAR","NARAYANI DEVI","M","2004-12-06",{"$nulls":4},"SBC","Hindu",null,"GOVT. SENIOR SECONDARY SCHOOL DEOGARH (222753)",8250215703,"XXXX2262",null,9024766062,"GUJARI DARWAJA,DEOGARH,DEOGARH,313331",36000,"N","N","No",17,"None",2]
[11,"B",13210,"2019-07-03","GOVIND LAL LOHAR",null,"DEVI LAL","PREM DEVI","M","2004-10-02",{"$nulls":4},"OBC","Hindu",null,"GOVT. SENIOR SECONDARY SCHOOL DEOGARH (222753)",8250215703,"XXXX1362","YKWBDYO",9828607411,"deogarh,DEOGARH,DEOGARH,313331",36000,"N","N","No",17,"None",1.5]
[11,"B",13523,"2020-08-31","GOVIND NANGARACHI",null,"MANGI LAL NANGARACHI","KAILASHI DEVI","M","2005-07-10",{"$nulls":4},"SC","Hindu",null,"GOVT. SENIOR SECONDARY SCHOOL DEOGARH (222753)",8250215703,"XXXX3627","YBGUBSW",9828262321,"GURJARI DARWAJA,DEOGARH,DEOGARH,313331",40000,"N","N","No",16,"None",2]
[11,"B",13218,"2019-07-03","GURU RAJVEER SINGH",null,"BHAGWAT SINGH PANWAR","GULAB KANWAR","M","2005-04-14",{"$nulls":4},"OBC","Hindu",null,"GOVT. SENIOR SECONDARY SCHOOL DEOGARH (222753)",8250215703,"XXXX7799","WZVOVPH",9414786282,"KESHRINGH GHATI,DEOGARH,DEOGARH,313331",60000,"N","N","No",16,"None",2]
[11,"B",12869,"2017-08-01","HEMENDRA KUMAR",null,"KAILASH CHANDRA","LAXMI DEVI","M","2006-03-31",{"$nulls":4},"SC","Hindu",null,"GOVT. SENIOR SECONDARY SCHOOL DEOGARH (222753)",8250215703,"XXXX9655",null,8769259741,"RAMPURIYA,MANDAL,RAMPURIYA KIDIMAL,311301",0,"N","N","No",15,"None",45]
[11,"B",13319,"2018-06-29","INDRA SINGH",null,"NAIN SINGH","MEETHU KANWAR","M","2003-07-14",{"$nulls":4},"GEN","Hindu",null,"GOVT. SENIOR SECONDARY SCHOOL DEOGARH (222753)",8250215703,"XXXX8093","vogxnpx",9413262901,"mandawara,deogarh,swadari,313331",36000,"N","N","No",18,"None",2]
[11,"B",13358,"2019-07-15","JISHAN KHAN",null,"JAKIR HUSSAIN PATHAN","REHANA BANU","M","2005-03-07",{"$nulls":4},"GEN","Muslim",null,"GOVT. SENIOR SECONDARY SCHOOL DEOGARH (222753)",8250215703,"XXXX8968",null,9783786524,"MARU DARWAJA,DEOGARH,DEOGARH,313331",40000,"N","N","Yes",16,"None",1]
[11,"B",13423,"2019-08-02","JITENDRA SINGH",null,"BHAN SINGH","DHULI DEVI","M","2003-04-15",{"$nulls":4},"OBC","Hindu",null,"GOVT. SENIOR SECONDARY SCHOOL DEOGARH (222753)",8250215703,"XXXX6815","YWBMEQF",9662016171,"khokhato ka badiya,deogarh,kitto ka badiya,313331",36000,"N","N","No",18,"None",6]
[11,"B",13272,"2019-07-09","KAILASH CHANDRA KAHAR",null,"GANESH LAL KAHAR","SAVITRI DEVI","M","2006-04-14",{"$nulls":4},"OBC","Hindu",null,"GOVT. SENIOR SECONDARY SCHOOL DEOGARH (222753)",8250215703,"XXXX5282","VVPWJOJ",6377589664,"VILLAGR- MANDAWARA,DEOGARH,MANDAWARA,313331",50000,"N","N","No",15,"None",4]
[11,"B",12969,"2018-06-30","KAILASH SINGH PANWAR","Late","GOPAL SINGH","KRISHNA DEVI","M","2004-08-15",{"$nulls":4},"OBC","Hindu",null,"GOVT. SENIOR SECONDARY SCHOOL DEOGARH (222753)",8250215703,"XXXX7612","YQSGGES",9024766062,"PURANI TANKI KE PAAS, SOLANKI DARWAJA KE ANDER,DEOGARH,DEOGARH,313331",6000,"N","N","No",17,"None",2]
[11,"B",13213,"2019-07-03","Kamlesh Regar",null,"Gehari Lal Regar","Sushila","M","2004-10-16",{"$nulls":4},"SC","Hindu",null,"GOVT. SENIOR SECONDARY SCHOOL DEOGARH (222753)",8250215703,"XXXX5094",null,9649888493,"KALESARIYA,DEOGARH,KALESARIYA,313331",36000,"N","N","No",17,"None",25]
[11,"B",13234,"2019-07-08","KISHOR KUMAR SALVI",null,"LAXMAN LAL SALVI","GEETA DEVI","M","2002-08-17",{"$nulls":4},"SC","Hindu",null,"GOVT. SENIOR SECONDARY SCHOOL DEOGARH (222753)",8250215703,"XXXX1683","VOJSOVT",9001339053,"sangrampura,DEOGARH,sangrampura,313331",0,"N","N","No",19,"None",2]
[11,"B",12939,"2018-06-30","KOSHLENDRA SINGH BALLA",null,"MANOHAR SINGH BALLA","VISHNU KANWAR","M","2006-02-20",{"$nulls":4},"GEN","Hindu",null,"GOVT. SENIOR SECONDARY SCHOOL DEOGARH (222753)",8250215703,"XXXX9696","VXPJTSR",9799216114,"SOLANKI DARWAJA KE ANDAR GOSAWAMI MOHALLA WARD NO 9,DEOGARH,DEOGARH,313331",36000,"N","N","No",15,"None",1]
[11,"B",13439,"2020-08-04","LALIT KUMAR SALVI",null,"KISHAN LAL SALVI","REKHA DEVI","M","2004-09-04",{"$nulls":4},"SC","Hindu",null,"GOVT. SENIOR SECONDARY SCHOOL DEOGARH (222753)",8250215703,"XXXX4411","YOEKMAG",9660058984,"SANGRAMPURA,DEOGARH,SANGRAMPURA,313331",148000,"N","N","No",17,"None",0]
[11,"B",13427,"2019-08-21","Mohammed Rehan Raza",null,"Fayaz Mohammed","Jareena Begam","M","2004-08-26",{"$nulls":4},"GEN","Muslim",null,"GOVT. SENIOR SECONDARY SCHOOL DEOGARH (222753)",8250215703,"XXXX4180",null,9460209073,"SHORGARO KA MOHALLA,DEOGARH,DEOGARH,313331",50000,"N","N","Yes",17,"None",1]
[11,"B",13263,"2019-07-08","NARAYAN SINGH",null,"RAM SINGH","RAMU KANWAR","M","2003-03-15",{"$nulls":4},"GEN","Hindu",null,"GOVT. SENIOR SECONDARY SCHOOL DEOGARH (222753)",8250215703,"XXXX2589","YDYYCYS",9649287371,"VILLAGE-MANDAWARA,DEOGARH,MANDAWARA,313331",70000,"N","N","No",18,"None",4]
[11,"B",13198,"2019-07-03","NARENDRA KUMAR SALVI","Late","KALU RAM SALVI","KELI DEVI","M","2004-05-06",{"$nulls":4},"SC","Hindu",null,"GOVT. SENIOR SECONDARY SCHOOL DEOGARH (222753)",8250215703,"XXXX5400","VONCJJT",7727942264,"sangrampura,deogarh,sangrmpura,313331",18000,"N","N","No",17,"None",3]
[11,"B",12336,"2016-06-27","NARESH KUMAR REGAR",null,"RAM LAL REGAR","RADHA DEVI REGAR","M","2004-07-03",{"$nulls":4},"SC","Hindu",null,"GOVT. SENIOR SECONDARY SCHOOL DEOGARH (222753)",8250215703,"XXXX0407","VOPBBTX",9783573568,"REGAR MOHALLA,DEOGARH,DEOGARH,313331",66000,"N","N","No",17,"None",1]
[11,"B",12323,"2016-06-27","NARESH MALI",null,"BHERU LAL","RADHA MALI","M","2003-07-16",{"$nulls":4},"OBC","Hindu",null,"GOVT. SENIOR SECONDARY SCHOOL DEOGARH (222753)",8250215703,"XXXX4866",null,9001859321,"SHAKTI NAGAR,DEOGARH,DEOGARH,313331",44000,"N","N","No",18,"None",1]
[11,"B",12824,"2017-07-15","PRAHLAD LOHAR",null,"SHANKAR LAL","RAMU DEVI","M","2004-12-04",{"$nulls":4},"OBC","Hindu",null,"GOVT. SENIOR SECONDARY SCHOOL DEOGARH (222753)",8250215703,"XXXX8903","VVGNXGP",9001386215,"PATHWARI KE PASS,DEOGARH,DEOGARH,313331",36000,"N","N","No",17,"None",2]
[11,"B",13367,"2019-07-15","PRAKASH SINGH",null,"PADAM SINGH","SENU DEVI","M","2005-05-29",{"$nulls":4},"OBC","Hindu",null,"GOVT. SENIOR SECONDARY SCHOOL DEOGARH (222753)",8250215703,"XXXX4872","VOJSHCH",9680070138,"FUKIYATHAD,DEOGARH,FUKIYATHAD,313331",36000,"N","Y","No",16,"Scout/Guide",5]
[11,"B",13314,"2019-07-09","PRAVEEN BADARIYA",null,"SURESH BADARIYA","DEU DEVI","M","2003-08-02",{"$nulls":4},"SC","Hindu",null,"GOVT. SENIOR SECONDARY SCHOOL DEOGARH (222753)",8250215703,"XXXX7769","bawqckg",9636147249,"WARD NO 10,DEOGARH,DEOGARH,313331",36000,"N","N","No",18,"None",70]
[11,"B",13200,"2019-07-03","Rahul Mali",null,"Ummed Lal Mali","Pushpa Devi","M","2005-05-03",{"$nulls":4},"OBC","Hindu",null,"GOVT. SENIOR SECONDARY SCHOOL DEOGARH (222753)",8250215703,"XXXX4503","YESWOUS",8003135287,"WARD NO 20,DEOGARH,DEOGARH,313331",50000,"N","N","No",16,"None",2]
[11,"B",13542,"2020-09-09","ROHIT SUTHAR",null,"LADU LAL","PARAS DEVI","M","2006-01-01",{"$nulls":4},"OBC","Hindu",null,"GOVT. SENIOR SECONDARY SCHOOL DEOGARH (222753)",8250215703,"XXXX1289",null,9460084655,"NARAYAN JI KA MOHALLA ,DEOGARH,DEOGARH,313331",160000,"N","N","No",15,"None",2]
[11,"B",13281,"2019-07-09","Sarfaraj Khan",null,"Rustam Khan","Rajiya Banu","M","2004-09-01",{"$nulls":4},"GEN","Hindu",null,"GOVT. SENIOR SECONDARY SCHOOL DEOGARH (222753)",8250215703,"XXXX3092","YFGAUBW",9549335080,"BAPU NAGAR ,DEOGARH,DEOGARH,313331",50000,"N","N","No",17,"None",1]
[11,"B",13188,"2019-07-03","SHAILENDRA SINGH TANK",null,"VIKRAM SINGH","GIRIJA DEVI","M","2006-07-20",{"$nulls":4},"OBC","Hindu",null,"GOVT. SENIOR SECONDARY SCHOOL DEOGARH (222753)",8250215703,"XXXX2267","VVRKPWJ",7014334102,"TAJIYA KA CHOWK GUJARI DARWAJA,DEOGARH,DEOGARH,313331",30000,"N","N","No",15,"None",2]
[11,"B",13249,"2019-07-08","SUNIL KAHAR",null,"SHANKAR LAL KAHAR","KANKU DEVI","M","2005-12-30",{"$nulls":4},"OBC","Hindu",null,"GOVT. SENIOR SECONDARY SCHOOL DEOGARH (222753)",8250215703,"XXXX3286","BABOCDW",9468888082,"VILLAGE-MANDAWARA,DEOGARH,MANDAWARA,313331",40000,"N","N","No",16,"None",4]
[11,"B",13116,"2016-07-14","VIJAY KUMAR SALVI",null,"KISHAN LAL","PYARI DEVI","M","2005-03-15",{"$nulls":4},"SC","Hindu",null,"GOVT. SENIOR SECONDARY SCHOOL DEOGARH (222753)",8250215703,"XXXX3162","VOGICKK",7742307095,"KAMLIGHAT,DEOGARH,VIJAYPURA,313331",36000,"N","N","No",16,"None",5]
[11,"B",13646,"2020-10-20","Vijay Naraniya",null,"Gopal Naraniya","Laxmi Naraniya","M","2005-07-31",{"$nulls":4},"GEN","Hindu",null,"GOVT. SENIOR SECONDARY SCHOOL DEOGARH (222753)",8250215703,"XXXX6640",null,8104788662,"BADI HOLI KA THAN,DEOGARH,DEOGARH,313331",80000,"N","N","No",16,"None",2]
[11,"B",13251,"2019-07-08","VIKAS GURJAR","Late","SHANKAR LAL GURJAR","GAJARI DEVI","M","2006-07-19",{"$nulls":4},"SBC","Hindu",null,"GOVT. SENIOR SECONDARY SCHOOL DEOGARH (222753)",8250215703,"XXXX5159","yomevcf",9929547801,"GUJARI DARWAJA,DEOGARH,DEOGARH,313331",20000,"N","N","No",15,"None",2]
[11,"B",13081,"2018-07-05","VINOD SEN",null,"BANSHI LAL SEN","BINDU SEN","M","2005-05-14",{"$nulls":4},"OBC","Hindu",null,"GOVT. SENIOR SECONDARY SCHOOL DEOGARH (222753)",8250215703,"XXXX7195","yoiwmbk",9928690341,"MANDAWARA,DEOGARH,MANDAWARA,313331",36000,"N","N","No",16,"None",4]
[11,"B",13366,"2019-07-15","VISHNU LOHAR",null,"SURESH CHANDRA LOHAR","LEELA DEVI","M","2005-12-25",{"$nulls":4},"OBC","Hindu",null,"GOVT. SENIOR SECONDARY SCHOOL DEOGARH (222753)",8250215703,"XXXX0100","YOCSMAO",9999999999,"KUNDELI,KUNDELI,KUNDELI,313341",36000,"N","Y","No",16,"None",4]
[11,"B",13108,"2018-07-07","YOGESH REGAR",null,"KALYAN MAL REGAR","LAXMI DEVI","M","2004-05-07",{"$nulls":4},"SC","Hindu",null,"GOVT. SENIOR SECONDARY SCHOOL DEOGARH (222753)",8250215703,"XXXX5469","VSPKKBP",9829546941,"DEOGARH,DEOGARH,DEOGARH,313331",60000,"N","N","No",17,"None",2]
[11,"C",13255,"2019-07-08","BHAGWAN LAL BHIL",null,"BHERU LAL BHIL","RASALI DEVI","M","2005-04-28",{"$nulls":4},"ST","Hindu",null,"GOVT. SENIOR SECONDARY SCHOOL DEOGARH (222753)",8250215703,"XXXX7424","YDIBMCK",8107298706,"PITAMPURA,DEOGARH,PITAMPURA,313331",36000,"N","Y","No",16,"None",4]
[11,"C",12893,"2018-06-23","BHAVESH SALVI",null,"DEVI LAL","RAMU DEVI","M","2004-05-31",{"$nulls":4},"SC","Hindu",null,"GOVT. SENIOR SECONDARY SCHOOL DEOGARH (222753)",8250215703,"XXXX4438","VVSSJXN",9799987515,"GUJARI DARWAJA,DEOGARH,DEOGARH,313331",45000,"N","N","No",17,"None",1]
[11,"C",12620,"2016-07-21","CHHAGAN SINGH","Late","VANNA SINGH","LALI DEVI","M","2005-07-02",{"$nulls":4},"OBC","Hindu",null,"GOVT. SENIOR SECONDARY SCHOOL DEOGARH (222753)",8250215703,"XXXX3555",null,9509964876,"BARJAL,BHIM,VPO-BARJAL,313331",12000,"N","N","No",16,"None",1]
[11,"C",13559,"2020-09-15","Dheeraj Singh Chouhan","Late","Kamal Singh Chouhan","Meena Chouhan","M","2006-03-17",{"$nulls":4},"OBC","Hindu",null,"GOVT. SENIOR SECONDARY SCHOOL DEOGARH (222753)",8250215703,"XXXX9958","VOJRNPH",8279261056,"DARARA,DEOGARH,POST NARDAS KA GUDA,313331",598140,"N","N","No",15,"Scout/Guide",30]
[11,"C",13336,"2019-07-12","Gopal Salvi",null,"Madan Lal Salvi","Paras Devi","M","2005-05-06",{"$nulls":4},"SC","Hindu",null,"GOVT. SENIOR SECONDARY SCHOOL DEOGARH (222753)",8250215703,"XXXX4833","VHRTRSX",7023879601,"SANGRAMPURA,DEOGARH,DEOGARH,313331",45000,"N","N","No",16,"None",4]
[11,"C",13201,"2019-07-03","HARDAYAL SINGH",null,"BHERU SINGH","TAMMU DEVI","M","2004-09-21",{"$nulls":4},"OBC","Hindu",null,"GOVT. SENIOR SECONDARY SCHOOL DEOGARH (222753)",8250215703,"XXXX9300","VHGXWBN",9929569880,"kishanpura,deogarh,kishanpura,313331",36000,"N","Y","No",17,"None",5]
[11,"C",13235,"2019-07-08","ISHWAR LAL GURJAR",null,"UDAI LAL","SANTOSH BAI","M","2005-06-17",{"$nulls":4},"SBC","Hindu",null,"GOVT. SENIOR SECONDARY SCHOOL DEOGARH (222753)",8250215703,"XXXX1870","YBYYMWC",7073895484,"DEOGARH,RAJSAMAND,DEOGARH,313331",40000,"N","N","No",16,"None",1]
[11,"C",13216,"2019-07-03","Jaiprakash Salvi",null,"Kalu Ram","Sushila Devi","M","2005-07-21",{"$nulls":4},"SC","Hindu",null,"GOVT. SENIOR SECONDARY SCHOOL DEOGARH (222753)",8250215703,"XXXX2865","WFEGOCO",8769467696,"CHAREDO KA BADIYA,DEOGARH,KAMLIGHAT,313331",36000,"N","N","No",16,"None",6]
[11,"C",13205,"2019-07-03","JAVED AKHATAR",null,"MUSTAK MOHAMMAD","SHABNAM BANU","M","2004-06-06",{"$nulls":4},"OBC","Muslim",null,"GOVT. SENIOR SECONDARY SCHOOL DEOGARH (222753)",8250215703,"XXXX8933","VBRXSHH",9929086885,"RAJEEV NAGAR,DEOGARH,DEOGARH ,313331",50000,"N","N","Yes",17,"None",2]
[11,"C",12940,"2018-06-30","JEEVAN SINGH",null,"MOHAN SINGH","DHANNU DEVI","M","2004-04-25",{"$nulls":4},"OBC","Hindu",null,"GOVT. SENIOR SECONDARY SCHOOL DEOGARH (222753)",8250215703,"XXXX4844","YIUBUCK",9660924289,"PAATA KI AANTI,DEOGARH,DEOGARH,313331",36000,"N","N","No",17,"None",10]
[11,"C",13208,"2019-07-03","KALYAN SINGH","Late","VANNA SINGH","KOYALI DEVI","M","2004-11-30",{"$nulls":4},"OBC","Hindu",null,"GOVT. SENIOR SECONDARY SCHOOL DEOGARH (222753)",8250215703,"XXXX9790","VOJSJKT",9680495769,"MANAREL,DEOGARH,MANAREL,313331",30000,"N","N","No",17,"None",3]
[11,"C",13531,"2020-08-31","KAMLESH NATH JOGI",null,"BALU NATH JOGI","BHAGU DEVI","M","2006-02-22",{"$nulls":4},"OBC","Hindu",null,"GOVT. SENIOR SECONDARY SCHOOL DEOGARH (222753)",8250215703,"XXXX7201","BAMEDQW",9799508968,"PITAMPURA,DEOGARH,PITAMPURA,313331",60000,"N","Y","No",15,"None",0]
[11,"C",13236,"2019-07-08","KISHAN LAL GURJAR",null,"UDAI LAL","SANTOSH BAI","M","2006-08-05",{"$nulls":4},"SBC","Hindu",null,"GOVT. SENIOR SECONDARY SCHOOL DEOGARH (222753)",8250215703,"XXXX9852","YBYYMWC",9784459481,"DEOGARH,RAJSAMAND,DEOGARH,313331",40000,"N","N","No",15,"None",1]
[11,"C",13558,"2020-09-15","Laxman Lal Suthar",null,"Panna Lal Suthar","Tulsi Devi","M","2005-04-08",{"$nulls":4},"OBC","Hindu",null,"GOVT. SENIOR SECONDARY SCHOOL DEOGARH (222753)",8250215703,"XXXX0867","VZZNNCT",8000181845,"PITAM ,DEOGARH,DOLPURA,313331",90000,"N","N","No",16,"None",5]
[11,"C",13335,"2019-07-12","LOKESH KUMAR SALVI",null,"BHANWAR LAL SALVI","LEELA DEVI","M","2001-09-06",{"$nulls":4},"SC","Hindu",null,"GOVT. SENIOR SECONDARY SCHOOL DEOGARH (222753)",8250215703,"XXXX3611","YOIAQAG",7073327215,"SANGRAMPURA,DEOGARH,SANGRAMPURA,313331",45000,"N","N","No",20,"None",3]
[11,"C",13196,"2019-07-03","Manish Salvi",null,"Devi Lal Salvi","Narayani Devi","M","2004-09-08",{"$nulls":4},"SC","Hindu",null,"GOVT. SENIOR SECONDARY SCHOOL DEOGARH (222753)",8250215703,"XXXX6198","YMDMBWW",7023921688,"SANGRAMPURA,DEOGARH,SANGRAMPURA,313331",44000,"N","N","No",17,"NCC",2]
[11,"C",13079,"2018-07-05","MOHAN SINGH BALLA",null,"MADAN SINGH BALLA","KAMLA KANWAR","M","2005-08-07",{"$nulls":4},"GEN","Hindu",null,"GOVT. SENIOR SECONDARY SCHOOL DEOGARH (222753)",8250215703,"XXXX0767","VBSBGHN",9414830385,"SOLANKI DARWAJA KE ANDAR,DEOGARH,DEOGARH,313331",36000,"N","N","No",16,"None",2]
[11,"C",13254,"2019-07-08","MUKESH SINGH",null,"MOHAN SINGH","ANITA DEVI","M","2005-01-28",{"$nulls":4},"OBC","Hindu",null,"GOVT. SENIOR SECONDARY SCHOOL DEOGARH (222753)",8250215703,"XXXX0442","WDFCICG",9799064182,"Khera,Deoghar ,Panta ki aati,313341",36000,"N","N","No",16,"None",10]
[11,"C",13248,"2019-07-08","NAHID RAJA",null,"AZAD MOHMMAD","NASEEM BANU","M","2005-09-21",{"$nulls":4},"OBC","Muslim",null,"GOVT. SENIOR SECONDARY SCHOOL DEOGARH (222753)",8250215703,"XXXX6837","WEYQOEB",9660141751,"DEOGARH,DEOGARH,DEOGARH,313331",40000,"N","N","Yes",16,"None",0.5]
[11,"C",13317,"2019-07-09","NARAYAN LAL",null,"RAM LAL","SENU DEVI","M","2005-04-01",{"$nulls":4},"SC","Hindu",null,"GOVT. SENIOR SECONDARY SCHOOL DEOGARH (222753)",8250215703,"XXXX0424","VOJHKPH",8003684415,"VP.HAWALA,PIPLINAGAR,BHIM,VAYA DEOGARH,313331",40000,"N","N","No",16,"None",8]
[11,"C",13191,"2019-07-03","NARAYAN LAL REGAR",null,"MOOLA RAM REGAR","SEETA DEVI","M","2005-04-26",{"$nulls":4},"SC","Hindu",null,"GOVT. SENIOR SECONDARY SCHOOL DEOGARH (222753)",8250215703,"XXXX3722","BAUUUGC",9950484202,"PITAMPURA,DEOGARH,PITAMPURA,313331",36000,"N","N","No",16,"None",3]
[11,"C",13195,"2019-07-03","NEN SINGH",null,"JAWAN SINGH","KHIMI DEVI","M","2006-02-03",{"$nulls":4},"OBC","Hindu",null,"GOVT. SENIOR SECONDARY SCHOOL DEOGARH (222753)",8250215703,"XXXX4385","WFKKAKW",9001652753,"VEERAMGUDA,BHIM,VEERAMGUDA,313341",40000,"N","N","No",15,"None",8]
[11,"C",13557,"2020-09-11","Nikhil Salvi",null,"Kailash Chandra","Laxmiben","M","2005-06-26",{"$nulls":4},"SC","Hindu",null,"GOVT. SENIOR SECONDARY SCHOOL DEOGARH (222753)",8250215703,"XXXX7284",null,9824695864,"JAMA MASJID KE PAS DEOGARH,DEOGARH,DEOGARH,313331",40000,"N","N","No",16,"None",2]
[11,"C",13258,"2019-07-08","PRABHU LAL",null,"NARAYAN LAL","DEU DEVI","M","2005-05-20",{"$nulls":4},"OBC","Hindu",null,"GOVT. SENIOR SECONDARY SCHOOL DEOGARH (222753)",8250215703,"XXXX1718","VPWWRZR",8890199326,"PANTA KI AANTI,DEOGARH,POST-MIYALA,313341",35000,"N","N","No",16,"None",9]
[11,"C",13256,"2019-07-08","PRAKASH CHANDRA BHIL",null,"PANNA LAL BHIL","KAMLA DEVI","M","2005-06-15",{"$nulls":4},"ST","Hindu",null,"GOVT. SENIOR SECONDARY SCHOOL DEOGARH (222753)",8250215703,"XXXX9979","YYFSMIG",9772621312,"BHIL BASTI,DEOGARH,PITAMPURA,313331",27000,"N","N","No",16,"None",4]
[11,"C",13647,"2020-10-20","PRAKASH GURJAR",null,"MOOL CHAND GURJAR","LAXMI DEVI","M","2004-06-01",{"$nulls":4},"SBC","Hindu",null,"GOVT. SENIOR SECONDARY SCHOOL DEOGARH (222753)",8250215703,"XXXX7174",null,9602469194,"CHARNIYA WARD NO 2,DEOGARH,DEOGARH,313331",0,"N","N","No",17,"None",2]
[11,"C",12546,"2016-07-11","PRAMOD VED",null,"MURLIDHAR VED","PREM DEVI","M","2005-10-08",{"$nulls":4},"OBC","Hindu",null,"GOVT. SENIOR SECONDARY SCHOOL DEOGARH (222753)",8250215703,"XXXX2767","yiikbqk",9799091024,"VEDO KA MOHALLA ,DEOGARH,DEOGARH,313331",36000,"N","N","No",16,"None",1]
[11,"C",13320,"2019-07-09","PRAVEEN SINGH",null,"TARU SINGH","JASHODA DEVI","M","2005-07-10",{"$nulls":4},"OBC","Hindu",null,"GOVT. SENIOR SECONDARY SCHOOL DEOGARH (222753)",8250215703,"XXXX9288","YOEFKUF",9680448987,"khera panta ki aanti,deoghar,panta ki aanti,313341",42000,"N","Y","No",16,"None",10]
[11,"C",13189,"2019-07-03","RAHUL GUVARIYA",null,"JAGDISH CHANDRA","KELA DEVI","M","2006-03-15",{"$nulls":4},"SC","Hindu",null,"GOVT. SENIOR SECONDARY SCHOOL DEOGARH (222753)",8250215703,"XXXX4941","YBSWEEK",9587777159,"GUJARI DARWAJA,DEOGARH,DEOGARH,313331",36000,"N","N","No",15,"None",1]
[11,"C",13193,"2019-07-03","RAJENDRA NATH JOGI",null,"NARAYAN NATH JOGI","SHANTI DEVI","M","2006-03-17",{"$nulls":4},"OBC","Hindu",null,"GOVT. SENIOR SECONDARY SCHOOL DEOGARH (222753)",8250215703,"XXXX8090","VXGCCBR",9660141713,"PITAMPURA,DEOGARH,PITAMPURA,313331",36000,"N","N","No",15,"None",3]
[11,"C",12928,"2016-07-14","RAMESHWAR LAL",null,"RATAN LAL","INDRA DEVI","M","2005-05-23",{"$nulls":4},"SC","Hindu",null,"GOVT. SENIOR SECONDARY SCHOOL DEOGARH (222753)",8250215703,"XXXX3835",null,9928199967,"VP.HAWALA,PIPLINAGAR,BHIM,VAYA DEOGARH,313331",50000,"N","N","No",16,"None",5]
[11,"C",13192,"2019-07-03","RAVI KUMAR YATI",null,"CHANDRA PRAKASH YATI","SANTOSH DEVI","M","2004-10-14",{"$nulls":4},"GEN","Hindu",null,"GOVT. SENIOR SECONDARY SCHOOL DEOGARH (222753)",8250215703,"XXXX9270","YGWIDMW",9166443509,"PITAMPURA,DEOGARH,PITAMPURARH,313331",36000,"N","N","No",17,"None",3]
[11,"C",13199,"2019-07-03","Rohit Prajapat",null,"Om prakash","Indra Devi","M","2005-04-30",{"$nulls":4},"OBC","Hindu",null,"GOVT. SENIOR SECONDARY SCHOOL DEOGARH (222753)",8250215703,"XXXX0685","VORJBKP",9799048286,"KUMHARO KA MOHALLA SURAJ DARWAJA,DEOGARH,DEOGARH,313331",45000,"N","N","No",16,"None",2]
[11,"C",13361,"2019-07-15","SAJJAN SINGH",null,"TILOK SINGH","ROSHANI DEVI","M","2006-01-14",{"$nulls":4},"OBC","Hindu",null,"GOVT. SENIOR SECONDARY SCHOOL DEOGARH (222753)",8250215703,"XXXX7295","VOCPKRP",9351942262,"Khara ,Deoghar ,Panta ki aanti,313341",40000,"N","N","No",15,"None",2]
[11,"C",13187,"2019-07-03","SUMIT KUMAR HARIJAN",null,"LALIT KUMAR","GYANI DEVI","M","2004-01-26",{"$nulls":4},"SC","Hindu",null,"GOVT. SENIOR SECONDARY SCHOOL DEOGARH (222753)",8250215703,"XXXX5896","ybyusyw",8107474320,"HARIJAN BASTI WARD NO 5,DEOGARH,DEOGARH,313331",95000,"N","N","No",17,"None",2]
[11,"C",13540,"2020-09-09","VAHID MOHAMMAD",null,"FAIYAJ MOHAMMAD","MADINA BANU","M","2005-10-29",{"$nulls":4},"OBC","Muslim",null,"GOVT. SENIOR SECONDARY SCHOOL DEOGARH (222753)",8250215703,"XXXX8177","WXZXHRJ",9785834024,"paykon ki gali potlan ,sAHARA,POTLAN,311806",60000,"N","N","Yes",16,"None",2]
[11,"C",13197,"2019-07-03","VIJESH PURI GOSWAMI",null,"CHATAR PURI GOSWAMI","SITA DEVI","M","2003-08-29",{"$nulls":4},"OBC","Hindu",null,"GOVT. SENIOR SECONDARY SCHOOL DEOGARH (222753)",8250215703,"XXXX1706","VVRTTVV",8890902088,"INSIDE SOLANKI GATE , OPP BALA JI MANDIR DEOGARH,RAJSAMAND,DEOGARH,313331",36000,"N","N","No",18,"None",1]
[11,"C",13539,"2020-09-09","VIPESH KUMAR",null,"RODI LAL","TULSI DEVI","M","2004-06-16",{"$nulls":4},"SC","Hindu",null,"GOVT. SENIOR SECONDARY SCHOOL DEOGARH (222753)",8250215703,"XXXX6104","vonwvhn",7849882915,"VILLAGE-KUNDELI ,KUNDELI TEH.-DEOGARH,,313341",36000,"N","N","No",17,"None",0]
[11,"C",13194,"2019-07-03","VIRENDRA SINGH",null,"PRATAP SINGH","SUSHILA DEVI","M","2004-12-07",{"$nulls":4},"OBC","Hindu",null,"GOVT. SENIOR SECONDARY SCHOOL DEOGARH (222753)",8250215703,"XXXX9247","YYCDAFG",7742640881,"FUKIYA THAD,DEOGARH,FUKIYA THAD,313331",40000,"N","N","No",17,"None",6]
[11,"C",13250,"2019-07-08","VISHNU REGAR",null,"PYARE LALREGAR","BADAMI DEVI","M","2005-08-12",{"$nulls":4},"SC","Hindu",null,"GOVT. SENIOR SECONDARY SCHOOL DEOGARH (222753)",8250215703,"XXXX6746","VVRSPOV",8386088762,"REGAR MOHALLA,DEOGARH,DEOGARH,313331",36000,"N","N","No",16,"None",2]
[11,"D",13279,"2019-07-09","AKASH BHARTI",null,"MUKESH BHARTI","JANU BHARTI","M","2005-09-06",{"$nulls":4},"OBC","Hindu",null,"GOVT. SENIOR SECONDARY SCHOOL DEOGARH (222753)",8250215703,"XXXX1609","VHCVVRX",9929297037,"RAMPURIYA,DEOGARH,DEOGARH,313331",72000,"N","N","No",16,"None",3]
[11,"D",12926,"2018-06-28","BHAGWAT SINGH RATHOR",null,"KAILASH SINGH RATHOR","KRISHNA DEVI RATHOR","M","2003-11-24",{"$nulls":4},"OBC","Hindu",null,"GOVT. SENIOR SECONDARY SCHOOL DEOGARH (222753)",8250215703,"XXXX3934","WZVBOZX",9998928226,"KESHRING GHATI,DEOGARH,DEOGARH,313331",36000,"N","N","No",18,"None",3]
[11,"D",13277,"2019-07-09","BHARAT SINGH",null,"NARAYAN SINGH","PUSHPA DEVI","M","2004-07-25",{"$nulls":4},"OBC","Hindu",null,"GOVT. SENIOR SECONDARY SCHOOL DEOGARH (222753)",8250215703,"XXXX8740","VOJTPTP",9602849170,"KHERA PANTA KI AANTI,DEOGHAR,PANTA LI AANTI,313341",36000,"N","N","No",17,"None",10]
[11,"D",13214,"2019-07-03","Bhavesh Mali",null,"Mitha Lal","Kanta Devi","M","2005-03-05",{"$nulls":4},"OBC","Hindu",null,"GOVT. SENIOR SECONDARY SCHOOL DEOGARH (222753)",8250215703,"XXXX2502","VZPHWZV",9929058152,"DEOGARH,DEOGARH,DEOGARH,313331",250000,"N","N","No",16,"None",1]
[11,"D",13409,"2019-07-18","Bhawani Shankar Vaishnav",null,"Liladhar Vaishnav","Leela Devi","M","2004-04-12",{"$nulls":4},"OBC","Hindu",null,"GOVT. SENIOR SECONDARY SCHOOL DEOGARH (222753)",8250215703,"XXXX3559","ydegsek",8094778399,"WARD NO 20 SHAKTI NAGAR,DEOGARH,DEOGARH,313331",36000,"N","N","No",17,"None",1]
[11,"D",13207,"2019-07-03","Chirag Khatik",null,"Rajmal Khatik","Kanchan Devi","M","2005-11-14",{"$nulls":4},"SC","Hindu",null,"GOVT. SENIOR SECONDARY SCHOOL DEOGARH (222753)",8250215703,"XXXX9083","YMFQBDW",9929689282,"TAL,DEOGARH,TAL,313331",36000,"N","N","No",16,"None",13]
[11,"D",13273,"2019-07-09","DEVENDRA GURJAR",null,"BHERU LAL GURJAR","GOTI BAI","M","2005-07-16",{"$nulls":4},"SBC","Hindu",null,"GOVT. SENIOR SECONDARY SCHOOL DEOGARH (222753)",8250215703,"XXXX1958","YBWDSKO",7073895484,"DEOGARH, DEOGARH,RAJSAMAND,DEOGARH,313331",40000,"N","N","No",16,"None",1]
[11,"D",12956,"2018-06-30","DHARMESH KUMAR REGAR",null,"MAHENDRA KUMAR REGAR","MANJU BAI","M","2005-02-06",{"$nulls":4},"SC","Hindu",null,"GOVT. SENIOR SECONDARY SCHOOL DEOGARH (222753)",8250215703,"XXXX1892","vvrspox",9680507454,"SOLANKI DARWAJA KE ANDAR REGARO KA MOHALLA,DEOGARH,DEOGARH,313331",36000,"N","N","No",16,"None",1]
[11,"D",13215,"2019-07-03","DURGESH KUMAR",null,"BHANWAR LAL","MOWANI DEVI","M","2005-03-13",{"$nulls":4},"SC","Hindu",null,"GOVT. SENIOR SECONDARY SCHOOL DEOGARH (222753)",8250215703,"XXXX3217","YMWUDGO",9636284717,"PANTA KI AANTI,DEOGARH,POST-MIYALA,313341",35000,"N","N","No",16,"None",8]
[11,"D",13206,"2019-07-03","Gajendra Singh",null,"Pooran Singh","Bebi Kanwar","M","2005-03-04",{"$nulls":4},"GEN","Hindu",null,"GOVT. SENIOR SECONDARY SCHOOL DEOGARH (222753)",8250215703,"XXXX1099","WZONVRP",8107292750,"LAL JI KA KHEDA,DEOGARH,KUNDWA,313331",60000,"N","N","No",16,"None",12]
[11,"D",13276,"2019-07-09","GHANSHYAM SINGH CHUNDAWAT",null,"BHAGWAN SINGH CHUNDAWAT","TRILOK KANWAR","M","2006-04-20",{"$nulls":4},"GEN","Hindu",null,"GOVT. SENIOR SECONDARY SCHOOL DEOGARH (222753)",8250215703,"XXXX1847","YBSWGBS",9929319412,"CHAWLA REL KA KHERA,DEOGARH,KALESHRIYA,313331",64000,"N","N","No",15,"None",25]
[11,"D",12431,"2016-06-30","HIMMAT MALI",null,"PRATAP MALI","RAJI BAI","M","2006-06-27",{"$nulls":4},"OBC","Hindu",null,"GOVT. SENIOR SECONDARY SCHOOL DEOGARH (222753)",8250215703,"XXXX5909",null,9928801357,"HIGH SECONADRY IKE PICHE,DEOGARH,DEOGARH,313331",0,"N","N","No",15,"None",1]
[11,"D",13212,"2019-07-03","MOHAMMAD MUJAHID KHAN","Late","IRFAN MOHAMMAD","FARJANA BANU","M","2005-11-17",{"$nulls":4},"GEN","Muslim",null,"GOVT. SENIOR SECONDARY SCHOOL DEOGARH (222753)",8250215703,"XXXX0548","WZBRBBH",9549156758,"SIPAHIYO KA MOHALLA,DEOGARH,DEOGARH,313331",0,"N","N","Yes",16,"None",2]
[11,"D",12318,"2016-06-27","RAJ MERUTHA",null,"BHERU LAL","VIDHYA DEVI","M","2004-02-12",{"$nulls":4},"SC","Hindu",null,"GOVT. SENIOR SECONDARY SCHOOL DEOGARH (222753)",8250215703,"XXXX5288",null,9001386194,"SHAKTI NAGAR,DEOGARH,DEOGARH,313331",36000,"N","N","No",17,"None",0]
[11,"D",13313,"2019-07-09","RAJU SINGH",null,"HARI SINGH","SHANTA DEVI","M","2005-08-11",{"$nulls":4},"OBC","Hindu",null,"GOVT. SENIOR SECONDARY SCHOOL DEOGARH (222753)",8250215703,"XXXX3672","YOCCWMG",9166290427,"PANTA KI AANTI,DEOGARH,POST-MIYALA,313341",40000,"N","N","No",16,"None",10]
[11,"D",13190,"2019-07-03","Vishal Kumar",null,"Nemi Chand","Kamla Devi","M","2005-04-20",{"$nulls":4},"OBC","Hindu",null,"GOVT. SENIOR SECONDARY SCHOOL DEOGARH (222753)",8250215703,"XXXX9028","WFKESQW",9784055995,"CHAREDO KA BADIYA,DEOGARH,VIJAYPURA,313331",40000,"N","N","No",16,"None",5]
[12,"A",13621,"2020-10-15","Aditya Sharma",null,"Kamal Sharma","Sunita Sharma","M","2005-01-13",{"$nulls":4},"GEN","Hindu",null,"GOVT. SENIOR SECONDARY SCHOOL DEOGARH (222753)",8250215703,"XXXX4064",null,9929499351,"104 A SUBHASH NAGAR,DEOGARH,DEOGARH,313331",536000,"N","N","No",16,"None",3]
[12,"A",12819,"2017-07-11","ARPIT MEWARA",null,"VIJAY KUMAR MEWARA","DEEPIKA DEVI","M","2005-11-26",{"$nulls":4},"OBC","Hindu",null,"GOVT. SENIOR SECONDARY SCHOOL DEOGARH (222753)",8250215703,"XXXX2173",null,9414787014,"KHADI BHANDAR,DEOGARH,DEOGARH,313331",40000,"N","N","No",16,"None",1]
[12,"A",12936,"2018-06-30","ASHOK KUMAR GANWARIYA",null,"MISHRI LAL","SAVITA DEVI","M","2004-09-19",{"$nulls":4},"SC","Hindu",null,"GOVT. SENIOR SECONDARY SCHOOL DEOGARH (222753)",8250215703,"XXXX6420","YYQSUYC",9024766062,"GUJARI DARWAJA KE ANDAR,DEOGARH,DEOGARH,313331",48000,"N","N","No",17,"None",1]
[12,"A",13636,"2020-10-16","BHARAT SINGH",null,"MAHENDRA SINGH CHUNDAWAT","KAILASH KANWAR","M","2003-02-08",{"$nulls":4},"GEN","Hindu",null,"GOVT. SENIOR SECONDARY SCHOOL DEOGARH (222753)",8250215703,"XXXX4112","YWDKAUB",9571671221,"KUNWARIYA KALESARIYA,DEOGARH,MADARIA,313331",45000,"N","N","No",18,"None",5]
[12,"A",12892,"2018-06-23","BHARATENDU HARISHCHANDRA VAISHNAV",null,"SHANKAR DAS VAISHNAV","PUSHPA DEVI VAISHNAV","M","2003-04-22",{"$nulls":4},"OBC","Hindu",null,"GOVT. SENIOR SECONDARY SCHOOL DEOGARH (222753)",8250215703,"XXXX9577","YBGUFQW",9784056126,"RAMPURIYA,DEOGARH,RAMPURIYA,313331",140000,"N","N","No",18,"None",2]
[12,"A",12947,"2018-06-30","CHANDAN SINGH CHUNDAWAT",null,"SURENDRA SINGH","RATAN KANWAR","M","2003-05-27",{"$nulls":4},"GEN","Hindu",null,"GOVT. SENIOR SECONDARY SCHOOL DEOGARH (222753)",8250215703,"XXXX1010","YOIGFCK",9587524472,"MOYANA,DEOGARH,MOYANA,313331",56000,"N","N","No",18,"None",10]
[12,"A",13461,"2020-08-04","Dasharath Singh",null,"Kan Singh","Sita Devi","M","2002-08-16",{"$nulls":4},"OBC","Hindu",null,"GOVT. SENIOR SECONDARY SCHOOL DEOGARH (222753)",8250215703,"XXXX8724","VRSNTNJ",6377146834,"TELRA,BHIM,POST BAGGAR TEH BHIM,313331",738152,"N","N","No",19,"None",12]
[12,"A",13530,"2020-08-31","DHARMA RAM GURJAR",null,"SUKH LAL GURJAR","RAMI DEVI","M","2002-07-03",{"$nulls":4},"SBC","Hindu",null,"GOVT. SENIOR SECONDARY SCHOOL DEOGARH (222753)",8250215703,"XXXX5552","VWXNCVH",9982419475,"MATUNIYA,DEOGARH,KALESARIYA,313331",100000,"N","Y","No",19,"None",2]
[12,"A",13907,"2021-08-12","Gopal",null,"Amar Singh","Sunita","M","2005-06-02",{"$nulls":4},"ST","Hindu",null,"GOVT. SENIOR SECONDARY SCHOOL DEOGARH (222753)",8250215703,"XXXX6868",null,9680057044,"BHARATPUR,BHARATHPUR,BHARATPUR,321204",661758,"N","N","No",16,"None",2]
[12,"A",13578,"2020-09-21","Hansraj Singh",null,"Prakash Singh","Kavita Devi","M","2005-12-20",{"$nulls":4},"OBC","Hindu",null,"GOVT. SENIOR SECONDARY SCHOOL DEOGARH (222753)",8250215703,"XXXX4383",null,9352853943,"JOONTRA ,BHIM,POST BAGGAR,313341",152000,"N","N","No",16,"None",12]
[12,"A",13574,"2020-09-21","Heena Mewara",null,"Shankar Lal","Indra Devi","F","2006-03-30",{"$nulls":4},"OBC","Hindu",null,"GOVT. SENIOR SECONDARY SCHOOL DEOGARH (222753)",8250215703,"XXXX1839","VSPOCGJ",9460252809,"GHATI,DEOGARH,POST ANJANAA,313331",86000,"N","N","No",15,"None",6]
[12,"A",13495,"2020-08-20","Hemant Singh",null,"Vinod Singh","Lalita Devi","M","2005-05-26",{"$nulls":4},"OBC","Hindu",null,"GOVT. SENIOR SECONDARY SCHOOL DEOGARH (222753)",8250215703,"XXXX1858","VZKKPTX",8209481612,"KANIYANA ,BHIM,POST BAGHANA ,313341",60000,"N","N","No",16,"None",6]
[12,"A",13459,"2020-08-04","Hemendra Singh",null,"Girdhari Singh","Leela Devi","M","2005-02-18",{"$nulls":4},"OBC","Hindu",null,"GOVT. SENIOR SECONDARY SCHOOL DEOGARH (222753)",8250215703,"XXXX9344",null,9829274952,"KITO KA BADIYA ,DEOGARH,VIJAYPURA,313331",892202,"N","N","No",16,"None",10]
[12,"A",13465,"2020-08-04","HEMENDRA SINGH",null,"BHANWAR SINGH","SEETA DEVI","M","2004-09-23",{"$nulls":4},"OBC","Hindu",null,"GOVT. SENIOR SECONDARY SCHOOL DEOGARH (222753)",8250215703,"XXXX1077","VWWNCNR",9929716276,"TELRA BAGGAR,BHIM,BAGGAR,313341",30000,"N","N","No",17,"None",0]
[12,"A",13456,"2020-08-04","JITENDRA KUMAR",null,"RAMESH CHANDRA","UMA DEVI","M","2004-03-12",{"$nulls":4},"SC","Hindu",null,"GOVT. SENIOR SECONDARY SCHOOL DEOGARH (222753)",8250215703,"XXXX1625","WFQSMOC",9950573759,"UMRAJ TAPALO KA KHEDA,DEOGARH,NARDAS KA GUDA,313331",35000,"N","N","No",17,"None",4]
[12,"A",13490,"2020-08-20","JYOTI REGAR",null,"KAMLESH REGAR","LEELA REGAR","F","2006-04-21",{"$nulls":4},"SC","Hindu",null,"GOVT. SENIOR SECONDARY SCHOOL DEOGARH (222753)",8250215703,"XXXX5823","YKGSEFB",9001008982,"LASANI,DEOGARH,LASANI,313331",471512,"N","N","No",15,"None",0]
[12,"A",13533,"2020-09-01","KRISHNA KUMARI",null,"LAXMAN SINGH","REKHA DEVI","F","2003-06-03",{"$nulls":4},"OBC","Hindu",null,"GOVT. SENIOR SECONDARY SCHOOL DEOGARH (222753)",8250215703,"XXXX7575","YICNSKC",9001865100,"PIPARELU,BHIM,PIPARELU,313331",250000,"N","N","No",18,"None",3]
[12,"A",13458,"2020-08-04","LABHDATT SINGH",null,"BHAGWAN SINGH","KANCHAN DEVI","M","2005-03-25",{"$nulls":4},"OBC","Hindu",null,"GOVT. SENIOR SECONDARY SCHOOL DEOGARH (222753)",8250215703,"XXXX3221","YYDAWBF",8769991841,"NAYATALAB,BHIM,KACHHABALI,313341",40000,"N","N","No",16,"None",2]
[12,"A",13492,"2020-08-20","LAVINA SEVANI",null,"DAULAT RAM SEVANI","HEENA SEVANI","F","2004-03-24",{"$nulls":4},"OBC","Hindu",null,"GOVT. SENIOR SECONDARY SCHOOL DEOGARH (222753)",8250215703,"XXXX5785","BHPBGPX",9413024912,"BAPU NAGAR NEW DARWAJA,DEOGARH,DEOGARH,313331",48000,"N","N","No",17,"None",2]
[12,"A",13609,"2020-10-15","LAXMAN LAL",null,"JAMNA LAL","GEETA DEVI","M","2005-08-16",{"$nulls":4},"OBC","Hindu",null,"GOVT. SENIOR SECONDARY SCHOOL DEOGARH (222753)",8250215703,"XXXX1794","YBWUWUW",9057547927,"KAMLIGHAT CHETA ASAN,DEOGARH,KAMLIGHAT CHETA ASAN,313331",40000,"N","N","No",16,"None",3]
[12,"A",13464,"2020-08-04","MAMTA RAV",null,"SATYANARAYAN RAV","MEERA DEVI","F","2005-07-03",{"$nulls":4},"OBC","Hindu",null,"GOVT. SENIOR SECONDARY SCHOOL DEOGARH (222753)",8250215703,"XXXX3206","WZKPXVN",9950808379,"KALALO KI AANTI,DEOGARH,LASANI,313331",36000,"N","Y","No",16,"None",0]
[12,"A",13493,"2020-08-20","MANA RAM MALI",null,"TILOK MALI","MANGI DEVI","M","2005-05-16",{"$nulls":4},"OBC","Hindu",null,"GOVT. SENIOR SECONDARY SCHOOL DEOGARH (222753)",8250215703,"XXXX9258","YKIOEKG",8949349415,"LASANI,DEOGARH,LASANI,313331",36000,"N","N","No",16,"None",2]
[12,"A",13529,"2020-08-31","Mansi Chauhan","Late","Kulwant Singh Chauhan","Asha Chauhan","F","2006-02-16",{"$nulls":4},"OBC","Hindu",null,"GOVT. SENIOR SECONDARY SCHOOL DEOGARH (222753)",8250215703,"XXXX6626",null,9414659111,"FUKIYA THAD ,DEOGARH,POST VIJAYPURA,313331",100000,"N","N","No",15,"None",3]
[12,"A",13532,"2020-08-31","Maya Regar","Late","Sawai Ram","Chanda Devi","F","2005-08-21",{"$nulls":4},"SC","Hindu",null,"GOVT. SENIOR SECONDARY SCHOOL DEOGARH (222753)",8250215703,"XXXX7248","VVRRTJH",9352970768,"INSIDE SOLANKI GATE REGAR MOHALLA,DEOGARH,DEOGARH,313331",20000,"N","N","No",16,"None",1]
[12,"A",13776,"2021-07-19","NARESH VAISHNAV",null,"JAGDISH VAISHNAV","MEENA VAISHNAV","M","2003-05-16",{"$nulls":4},"OBC","Hindu",null,"GOVT. SENIOR SECONDARY SCHOOL DEOGARH (222753)",8250215703,"XXXX8828",null,7232852297,"149,KUMBHALGARH,KOYALA PO.SEVANTRI,313333",50000,"N","N","No",18,"None",15]
[12,"A",13579,"2020-09-21","NAVEEN PRAKASH SINGH",null,"PANNA SINGH","MOHINI DEVI","M","2005-12-04",{"$nulls":4},"OBC","Hindu",null,"GOVT. SENIOR SECONDARY SCHOOL DEOGARH (222753)",8250215703,"XXXX5320","VKTTHNH",8890381175,"NANGATO KI GUAR,BHIM,CHHAPLI,313331",36000,"N","N","No",16,"None",3]
[12,"A",13491,"2020-08-20","NEELU KANWAR",null,"LAHAR SINGH","PARAS KANWAR","F","2006-01-01",{"$nulls":4},"GEN","Hindu",null,"GOVT. SENIOR SECONDARY SCHOOL DEOGARH (222753)",8250215703,"XXXX2556","WZRNVTP",8233370114,"LASANI,DEOGARH RAJSAMAND,LASANI,313331",284000,"N","N","No",15,"None",0]
[12,"A",13462,"2020-08-04","PAWAN KUMAR REGAR",null,"SURESH RAM REGAR","KAILASH DEVI","M","2005-04-22",{"$nulls":4},"SC","Hindu",null,"GOVT. SENIOR SECONDARY SCHOOL DEOGARH (222753)",8250215703,"XXXX1411","VTCHNPH",9636158009,"SAMADARA,DEOGARH,LASANI,313331",72000,"N","N","No",16,"None",2]
[12,"A",13567,"2020-09-15","PRAKASH CHANDRA KALAL",null,"DALCHAND KALAL","DEVI","M","2002-11-09",{"$nulls":4},"OBC","Hindu",null,"GOVT. SENIOR SECONDARY SCHOOL DEOGARH (222753)",8250215703,"XXXX8351","VBXTCCR",9950808256,"KALALO KI AANTI,DEOGARH,LASANI,313331",50000,"N","N","No",19,"None",0]
[12,"A",13916,"2021-08-12","PRAKASH NATH",null,"MOOL NATH","KAUSHALYA","M","2004-01-07",{"$nulls":4},"OBC","Hindu",null,"GOVT. SENIOR SECONDARY SCHOOL DEOGARH (222753)",8250215703,"XXXX6542",null,9024848978,"VD NAGAR,MARWAR JN ,MARWAR JN,306001",60000,"N","N","No",17,"None",1]
[12,"A",13672,"2021-01-15","Prathviraj Singh",null,"Surendra Singh","Rajkanvari Devi","M","2006-01-31",{"$nulls":4},"OBC","Hindu",null,"GOVT. SENIOR SECONDARY SCHOOL DEOGARH (222753)",8250215703,"XXXX2414",null,8949362109,"JOOTARA,BHIM,BAGGAR,313331",360000,"N","N","No",15,"None",12]
[12,"A",13528,"2020-08-31","RADHESHYAM SUTHAR",null,"SHANTI LAL SUTHAR","KAMLA DEVI","M","2004-06-15",{"$nulls":4},"OBC","Hindu",null,"GOVT. SENIOR SECONDARY SCHOOL DEOGARH (222753)",8250215703,"XXXX5136",null,8824549932,"NYA KHERA POST- DHUNWALA(K),MANDAL,NYA KHERA,311804",70000,"N","N","No",17,"None",2]
[12,"A",13716,"2021-07-07","Rahnuma Parvin","Late","Ahsan Mohmmad Chhipa","Ruksana Banu","F","2006-09-04",{"$nulls":4},"OBC","Muslim",null,"GOVT. SENIOR SECONDARY SCHOOL DEOGARH (222753)",8250215703,"XXXX2462",null,7014622141,"WARD NO 21 BALLO KI HATHAI,DEOGARH,VEDWARI DARWAJ,313331",36000,"N","N","Yes",15,"None",1]
[12,"A",13463,"2020-08-04","Rahul Kumar",null,"Bheru Lal","Pushpa Devi","M","2005-09-08",{"$nulls":4},"SC","Hindu",null,"GOVT. SENIOR SECONDARY SCHOOL DEOGARH (222753)",8250215703,"XXXX2772","VKCASEG",9001854100,"DEVNARAYAN MANDIR KE PASS WARD NO 2,DEOGARH,CHARNIYA ,313331",1101000,"N","N","No",16,"None",3]
[12,"A",13494,"2020-08-20","RAHUL LOHAR",null,"BANSI LAL LOHAR","SHANTA DEVI","M","2005-04-15",{"$nulls":4},"OBC","Hindu",null,"GOVT. SENIOR SECONDARY SCHOOL DEOGARH (222753)",8250215703,"XXXX6106","VKTSHNB",9414786016,"CHETA ASAN,DEOGARH,VIJAYPURA,313331",36000,"N","N","No",16,"None",1]
[12,"A",13460,"2020-08-04","Rahul Singh",null,"Kan Singh","Sita Devi","M","2004-10-14",{"$nulls":4},"OBC","Hindu",null,"GOVT. SENIOR SECONDARY SCHOOL DEOGARH (222753)",8250215703,"XXXX3535","VRSNTNJ",8003149720,"TELRA,BHIM,POST BAGGAR TEH BHIM,313341",738152,"N","N","No",17,"None",12]
[12,"A",13469,"2020-08-04","RAKESH SINGH",null,"KESHAR SINGH","SHANTA DEVI","M","2005-05-24",{"$nulls":4},"OBC","Hindu",null,"GOVT. SENIOR SECONDARY SCHOOL DEOGARH (222753)",8250215703,"XXXX4187","YSIIQDS",8290005719,"TANKADIBARJAL,BHIM,VPO-BARJAL,313331",40000,"N","Y","No",16,"None",1]
[12,"A",13482,"2020-08-20","Ravindra Singh",null,"Sultan Singh Chouhan","Chandra Kanwar","M","2005-02-01",{"$nulls":4},"OBC","Hindu",null,"GOVT. SENIOR SECONDARY SCHOOL DEOGARH (222753)",8250215703,"XXXX5794","VRSNOXR",8769130959,"Baggad,Bhim, Village Telda,313341",176000,"N","N","No",16,"None",13]
[12,"A",13665,"2020-12-08","SATISH LOHAR",null,"GOVIND LAL","TEENA DEVI","M","2004-12-13",{"$nulls":4},"OBC","Hindu",null,"GOVT. SENIOR SECONDARY SCHOOL DEOGARH (222753)",8250215703,"XXXX9215","VVXCXJX",9784962289,"KHEEMA KHERA,BHIM,KHEEMA KHERA,313331",40000,"N","N","No",17,"None",0]
[12,"A",13229,"2019-07-03","Shrvan Lal Regar",null,"Ratan Lal regar","Shanta Devi","M","2004-07-27",{"$nulls":4},"SC","Hindu",null,"GOVT. SENIOR SECONDARY SCHOOL DEOGARH (222753)",8250215703,"XXXX2614","YOKWUIK",9785681500,"OUTSIDE SOLANKI GATE,DEOGARH,DEOGARH,313331",0,"N","N","No",17,"None",2]
[12,"A",13619,"2020-10-15","Swati Chouhan",null,"Ajab Singh","Champeli","F","2004-09-29",{"$nulls":4},"OBC","Hindu",null,"GOVT. SENIOR SECONDARY SCHOOL DEOGARH (222753)",8250215703,"XXXX6551",null,9414786190,"VILLAGE & POST MANDAWAR,BHIM,VIA BARAR TEH BHIM,313341",150000,"N","N","No",17,"None",15]
[12,"A",13496,"2020-08-20","Yash Soni",null,"Narendra Kumar","Seema Soni","M","2004-10-18",{"$nulls":4},"OBC","Hindu",null,"GOVT. SENIOR SECONDARY SCHOOL DEOGARH (222753)",8250215703,"XXXX0054",null,9982873434,"SADAR BAZAR ,DEOGARH,DEOGARH,313331",150000,"N","N","No",17,"None",1]
[12,"A",13466,"2020-08-04","YUDDHVEER SINGH",null,"KISHAN SINGH","KOYAL DEVI","M","2006-08-10",{"$nulls":4},"OBC","Hindu",null,"GOVT. SENIOR SECONDARY SCHOOL DEOGARH (222753)",8250215703,"XXXX2436","YDGYUAF",8107290674,"GUDA BHOPA,M.J.,BHAGORA,306022",72000,"N","N","No",15,"None",3]
[12,"B",13613,"2020-10-15","MEWADA RAHUL UDAY LAL",null,"MEWADA UDAY LAL","SHANU BEN","M","2005-05-28",{"$nulls":4},"OBC","Hindu",null,"GOVT. SENIOR SECONDARY SCHOOL DEOGARH (222753)",8250215703,"XXXX8838",null,9784426309,"KALALO KI AANTI,DEOGARH,KALALO KI AANTI,313331",100000,"N","N","No",16,"None",4]
[12,"C",12943,"2018-06-30","ANIL REGAR",null,"CHUNNI LAL REGAR","LAADI REGAR","M","2003-09-03",{"$nulls":4},"SC","Hindu",null,"GOVT. SENIOR SECONDARY SCHOOL DEOGARH (222753)",8250215703,"XXXX3881","wzbwsjv",7742290951,"dev dungari kalka mata mandir ke pass ,DEOGARH,DEOGARH,313331",36000,"N","N","No",18,"None",2]
[12,"C",13644,"2020-10-16","Ankit Rodiwal",null,"Jagdish Prasad","Bhagwani Devi","M","2004-08-21",{"$nulls":4},"OBC","Hindu",null,"GOVT. SENIOR SECONDARY SCHOOL DEOGARH (222753)",8250215703,"XXXX0835",null,9414683997,"chitava,NAGAUR,KUCHAMAN,341519",200000,"N","N","No",17,"None",2]
[12,"C",12887,"2018-06-23","ARJUN SINGH",null,"MITHU SINGH","SHANTA DEVI","M","2005-04-27",{"$nulls":4},"OBC","Hindu",null,"GOVT. SENIOR SECONDARY SCHOOL DEOGARH (222753)",8250215703,"XXXX0328","VVBXZPT",7296912922,"KACHHABALI PAYARI,BHIM,KACHHABALI,313341",36000,"N","N","No",16,"None",12]
[12,"C",13618,"2020-10-15","Arun Babel",null,"Ladu Lal Babel","Bharti Devi","M","2004-05-02",{"$nulls":4},"GEN","Hindu",null,"GOVT. SENIOR SECONDARY SCHOOL DEOGARH (222753)",8250215703,"XXXX7702",null,9461019542,"MARU DARWAJA DEOGARH,DEOGARH,DEOGARH,313331",150000,"N","N","No",17,"None",1]
[12,"C",12888,"2018-06-23","ASHOK SINGH",null,"MITHU SINGH","SHANTA DEVI","M","2005-04-27",{"$nulls":4},"OBC","Hindu",null,"GOVT. SENIOR SECONDARY SCHOOL DEOGARH (222753)",8250215703,"XXXX6710","VVBXZPT",7296912922,"KACHHABALI PAYARI,BHIM,KACHHABALI,313341",36000,"N","N","No",16,"None",12]
[12,"C",13262,"2019-07-08","Bharat Kumar",null,"Kishan Lal","Rekha Devi","M","2001-08-01",{"$nulls":4},"SC","Hindu",null,"GOVT. SENIOR SECONDARY SCHOOL DEOGARH (222753)",8250215703,"XXXX4728","YOEKMAG",9414786212,"SANGRAMPURA,DEOGARH,SANGRAMPURA,313331",48000,"N","N","No",20,"None",9]
[12,"C",13823,"2021-07-26","BHAVESH GEHLOT",null,"KESHAR SINGH","RADHA DEVI","M","2005-09-03",{"$nulls":4},"OBC","Hindu",null,"GOVT. SENIOR SECONDARY SCHOOL DEOGARH (222753)",8250215703,"XXXX1018","VXNBPPJ",9351396587,"NEAR SHREEJI SCHOOL, INSIDE MARUGATE,DEOGARH,DEOGARH,313331",55000,"N","N","No",16,"None",4]
[12,"C",13581,"2020-09-21","BHUPENDRA BHAT",null,"SHANKAR LAL BHAT","GULAB DEVI","M","2003-04-25",{"$nulls":4},"OBC","Hindu",null,"GOVT. SENIOR SECONDARY SCHOOL DEOGARH (222753)",8250215703,"XXXX1197","VOCCSKP",9799258723,"KHOKHATO KA BADIYA,DEOGARH,VIJAYPURA,313331",36000,"N","N","No",18,"None",5]
[12,"C",13615,"2020-10-15","Chandresh Mewara",null,"Navratan Mewara","Laxmi Mewara","M","2004-10-28",{"$nulls":4},"OBC","Hindu",null,"GOVT. SENIOR SECONDARY SCHOOL DEOGARH (222753)",8250215703,"XXXX5707",null,7850027353,"GHATI POST AANJANA,DEOGARH,GHATI,313331",70000,"N","N","No",17,"None",4]
[12,"C",12942,"2018-06-30","DEEPAK KUMAR KHATIK",null,"KAILASH CHANDRA","PUSHPA DEVI","M","2004-03-21",{"$nulls":4},"SC","Hindu",null,"GOVT. SENIOR SECONDARY SCHOOL DEOGARH (222753)",8250215703,"XXXX6393","WDFDODB",9024766062,"KESHRING GHATI,DEOGARH,DEOGARH,313331",40000,"N","N","No",17,"None",3]
[12,"C",13480,"2020-08-20","DEVENDRA REGAR",null,"CHHAGAN LAL","KHAMANI BAI","M","2002-10-09",{"$nulls":4},"SC","Hindu",null,"GOVT. SENIOR SECONDARY SCHOOL DEOGARH (222753)",8250215703,"XXXX4159","VXZJJOH",9587254688,"REGAR BASTI PITAM PURA,DEOGARH,PITAM PURA,313331",66000,"N","Y","No",19,"None",1]
[12,"C",12885,"2018-06-23","DHARMA NATH",null,"SOHAN NATH","MANGI DEVI","M","2002-08-27",{"$nulls":4},"OBC","Hindu",null,"GOVT. SENIOR SECONDARY SCHOOL DEOGARH (222753)",8250215703,"XXXX6878","YOCCWUC",7300102314,"JOGELA,SWADARI,JOGELA,313331",36000,"N","N","No",19,"None",4]
[12,"C",13922,"2021-08-13","DINESH KUMAR GURJAR",null,"BHAIRU LAL GURJAR","BANNI DEVI GURJAR","M","2005-07-18",{"$nulls":4},"SBC","Hindu",null,"GOVT. SENIOR SECONDARY SCHOOL DEOGARH (222753)",8250215703,"XXXX2088","vzztwcp",8209819942,"V MIYAFLAS KA KHEDA PO DHUNWALA,MANDAL,TEH KAREDA,311804",35000,"N","N","No",16,"None",0]
[12,"C",12548,"2016-07-11","GOVIND SALVI",null,"ASHA RAM","JAMNI DEVI","M","2003-11-02",{"$nulls":4},"SC","Hindu",null,"GOVT. SENIOR SECONDARY SCHOOL DEOGARH (222753)",8250215703,"XXXX0744",null,8696223049,"DHANA CHAPLI,DEOGARH,DEOGARH ,313331",0,"N","N","No",18,"None",18]
[12,"C",12883,"2018-06-23","HEM NATH",null,"MANGU NATH","RUPI DEVI","M","2004-02-12",{"$nulls":4},"OBC","Hindu",null,"GOVT. SENIOR SECONDARY SCHOOL DEOGARH (222753)",8250215703,"XXXX6989","VOGZVHR",7300102314,"JOGELA ,SWADARI,JOGELA ,313331",36000,"N","N","No",17,"None",4]
[12,"C",13354,"2019-07-15","HITESH KUMAR SALVI",null,"GEHARI LAL","MADHU DEVI","M","2004-05-25",{"$nulls":4},"SC","Hindu",null,"GOVT. SENIOR SECONDARY SCHOOL DEOGARH (222753)",8250215703,"XXXX4627","WFQSMFF",9799216172,"MADA KI BASSI,DEOGARH,BASSI,313331",45000,"N","Y","No",17,"None",12]
[12,"C",12371,"2016-06-27","INDRA MAL",null,"BHANWAR LAL REGAR","PYARI DEVI","M","2003-12-07",{"$nulls":4},"SC","Hindu",null,"GOVT. SENIOR SECONDARY SCHOOL DEOGARH (222753)",8250215703,"XXXX1974",null,9950345393,"REGAR MOHALLA,DEOGARH,DEOGARH,313331",40000,"N","N","No",18,"None",1]
[12,"C",13544,"2020-09-09","ISHWAR LAL YATI",null,"CHANDRA PRAKASH","SANTOSH DEVI","M","2003-03-10",{"$nulls":4},"GEN","Hindu",null,"GOVT. SENIOR SECONDARY SCHOOL DEOGARH (222753)",8250215703,"XXXX2806","YGWIDMW",9351810171,"PITAM PURA,DEOGARH,PITAM PURA,313331",70000,"N","Y","No",18,"None",1]
[12,"C",12964,"2018-06-30","JASWANT SINGH",null,"ARJUN SINGH","KAMLA DEVI","M","2004-04-21",{"$nulls":4},"OBC","Hindu",null,"GOVT. SENIOR SECONDARY SCHOOL DEOGARH (222753)",8250215703,"XXXX4990","VZZNPWP",9772932550,"JALPA,DEOGARH,JALPA TOGI,313331",36000,"N","N","No",17,"None",20]
[12,"C",13565,"2020-09-15","Kamlesh Regar",null,"Prakash Regar","Narbada Devi","M","2002-11-24",{"$nulls":4},"SC","Hindu",null,"GOVT. SENIOR SECONDARY SCHOOL DEOGARH (222753)",8250215703,"XXXX6560","VBCBXKJ",9351298474,"NEAR RAMDEV MANDIR, NARAYAN JI KA MOHALLA,DEOGARH,DEOGARH,313331",40000,"N","N","No",19,"None",1]
[12,"C",13481,"2020-08-20","KARAN SANSI",null,"SHIV LAL SANSI","RAMKALI","M","2005-03-23",{"$nulls":4},"SC","Hindu",null,"GOVT. SENIOR SECONDARY SCHOOL DEOGARH (222753)",8250215703,"XXXX9507","VVPZCNN",7742359686,"DAK BANGLE KE PICHE SHASTRI NAGAR,DEOGARH,DEOGARH,313331",40000,"N","N","No",16,"None",1]
[12,"C",12958,"2018-06-30","KARAN SINGH RAWAT",null,"CHOON SINGH","GANGA DEVI","M","2003-01-26",{"$nulls":4},"OBC","Hindu",null,"GOVT. SENIOR SECONDARY SCHOOL DEOGARH (222753)",8250215703,"XXXX8076","VVVTOVV",9950429599,"HAREDA,BHIM,DAWER,313331",36000,"N","N","No",18,"None",10]
[12,"C",13505,"2020-08-26","Kavesh Joshi",null,"Rajesh Joshi","Sunita Joshi","M","2005-06-08",{"$nulls":4},"GEN","Hindu",null,"GOVT. SENIOR SECONDARY SCHOOL DEOGARH (222753)",8250215703,"XXXX7071","VBJHZCX",7725999113,"BHATTO KA MOHALLA,DEOGARH,DEOGARH,313331",915182,"N","N","No",16,"None",1]
[12,"C",13477,"2020-08-20","Khushwant Vyas",null,"Satya Narayan","Girija","M","2004-08-28",{"$nulls":4},"GEN","Hindu",null,"GOVT. SENIOR SECONDARY SCHOOL DEOGARH (222753)",8250215703,"XXXX8342","VBXSBJN",8764124939,"SHASTRI NAGAR,DEOGARH,DEOGARH,313331",120000,"N","N","No",17,"None",1]
[12,"C",13562,"2020-09-15","Kushal Singh Chundawat",null,"Shal Singh","Kailash Kanwar","M","2004-07-16",{"$nulls":4},"GEN","Hindu",null,"GOVT. SENIOR SECONDARY SCHOOL DEOGARH (222753)",8250215703,"XXXX2826",null,9983100277,"KANVERA,DEOGARH,TEH DEOGARH,313331",40000,"N","N","No",17,"None",2]
[12,"C",13563,"2020-09-15","LAXMAN LAL SALVI",null,"SHANKAR LAL SALVI","DHAPU DEVI SALVI","M","2004-06-03",{"$nulls":4},"SC","Hindu",null,"GOVT. SENIOR SECONDARY SCHOOL DEOGARH (222753)",8250215703,"XXXX1012","VBKJBXJ",8003460505,"SALVIYON KA MOHALLA PITAMPURA,DEOGARH,DAULPURA,313331",36000,"N","N","No",17,"None",9]
[12,"C",13554,"2020-09-11","LOKENDRA SINGH",null,"FATEH SINGH","BADAMI DEVI","M","2004-04-15",{"$nulls":4},"OBC","Hindu",null,"GOVT. SENIOR SECONDARY SCHOOL DEOGARH (222753)",8250215703,"XXXX6900","VPVPOJR",8824821965,"RASHMI,DEOGARH,RASHMI,313341",0,"N","N","No",17,"None",2]
[12,"C",12950,"2018-06-30","LOKESH KUMAR KHOKHAWAT",null,"RAMESH CHANDRA","JAMNA DEVI","M","2004-07-05",{"$nulls":4},"SC","Hindu",null,"GOVT. SENIOR SECONDARY SCHOOL DEOGARH (222753)",8250215703,"XXXX3893","VBRNHOH",9024766062,"GUJARI DARWAJA HARIJANO KA MOHALLA DEOGARH,DEOGARH,DEOGARH,313331",36000,"N","N","No",17,"None",2]
[12,"C",12645,"2017-06-21","LOKESH KUMAR SALVI",null,"PRAKASH CHANDR SALVI","BHAVARI DEVI","M","2002-01-23",{"$nulls":4},"SC","Hindu",null,"GOVT. SENIOR SECONDARY SCHOOL DEOGARH (222753)",8250215703,"XXXX8680","YOCGACG",9950429704,"SANGRAMPURA,DEOGARH,SANGRAMPURA,313331",40000,"N","N","No",19,"None",2]
[12,"C",12931,"2018-06-30","LOKESH SINGH",null,"PREM SINGH","NAINU DEVI","M","2004-11-24",{"$nulls":4},"OBC","Hindu",null,"GOVT. SENIOR SECONDARY SCHOOL DEOGARH (222753)",8250215703,"XXXX6666","YOCSUUB",9636157290,"PAATA KI AANTI,DEOGARH,KHEDA POST MIYALA,313331",30000,"N","N","No",17,"None",10]
[12,"C",13553,"2020-09-11","MAHIPAL SINGH",null,"PARTAP SINGH","TULSI DEVI","M","2005-08-05",{"$nulls":4},"OBC","Hindu",null,"GOVT. SENIOR SECONDARY SCHOOL DEOGARH (222753)",8250215703,"XXXX3413","YOCDQSO",9784304267,"UPLI RASHMI,DEOGARH,,313341",60000,"N","N","No",16,"None",2]
[12,"C",12998,"2018-07-02","MANOHAR SINGH",null,"KHEEM SINGH","PHULLI DEVI","M","2002-01-04",{"$nulls":4},"OBC","Hindu",null,"GOVT. SENIOR SECONDARY SCHOOL DEOGARH (222753)",8250215703,"XXXX5743","VPZKJNX",7742480922,"PATA KI AANTI,DEOGARH,POST MIYALA,313341",35000,"N","N","No",19,"None",10]
[12,"C",13478,"2020-08-20","MANOJ KUMAR KHATIK",null,"DOLA RAM","PREMI DEVI","M","2003-12-20",{"$nulls":4},"SC","Hindu",null,"GOVT. SENIOR SECONDARY SCHOOL DEOGARH (222753)",8250215703,"XXXX4563","VOCRKVP",9001388159,"GHATI,DEOGARH,LASANI,313331",36000,"N","N","No",18,"None",5]
[12,"C",13502,"2020-08-26","Mayank Sharma",null,"Sanjay Kumar Sharma","Rekha Sharma","M","2005-02-07",{"$nulls":4},"GEN","Hindu",null,"GOVT. SENIOR SECONDARY SCHOOL DEOGARH (222753)",8250215703,"XXXX5661","VZZNOTX",9636148067,"OUTSIDE GUJARI DARWAJA ,DEOGARH,DEOGARH,313331",60000,"N","N","No",16,"None",2]
[12,"C",13506,"2020-08-26","Mehul Anand",null,"Prakash Chandra","Puran Devi","M","2007-03-13",{"$nulls":4},"OBC","Hindu",null,"GOVT. SENIOR SECONDARY SCHOOL DEOGARH (222753)",8250215703,"XXXX2448","WFEIEQG",8829900441,"DOLA JI KA KHEDA,DEOGARH,DOLA JI KA KHEDA,313331",25000,"N","N","No",14,"None",13]
[12,"C",13666,"2020-12-08","Mohammad Arif",null,"Nabi Baksh","Samim Banu","M","2005-04-20",{"$nulls":4},"GEN","Hindu",null,"GOVT. SENIOR SECONDARY SCHOOL DEOGARH (222753)",8250215703,"XXXX2143","VOJSRPR",9414658899,"SORGARO KA MOHALLA,DEOGARH,DEOGARH,313331",36000,"N","N","No",16,"None",2]
[12,"C",12993,"2018-07-02","MOHMMAD BILAL",null,"PARVEJ MOHAMMAD","JAAYDA BAANU","M","2005-08-04",{"$nulls":4},"OBC","Muslim",null,"GOVT. SENIOR SECONDARY SCHOOL DEOGARH (222753)",8250215703,"XXXX3528","VWVWCSH",9799215975,"SHASTRI NAGAR WARD NO 5 DEOGARH,DEOGARH,DEOGARH,313331",36000,"N","N","Yes",16,"None",2]
[12,"C",13007,"2018-07-02","NARESH SUTHAR",null,"DEVILAL","NAUSAR DEVI","M","2003-12-15",{"$nulls":4},"OBC","Hindu",null,"GOVT. SENIOR SECONDARY SCHOOL DEOGARH (222753)",8250215703,"XXXX0025","WFEEQBW",7568094775,"MANDAWARA SWADARI,DEOGARH,DEOGARH,313331",36000,"N","N","No",18,"None",5]
[12,"C",13543,"2020-09-09","Pradeep Kumar",null,"Dilip Kumar","Nirmala Kumari","M","2005-06-15",{"$nulls":4},"OBC","Hindu",null,"GOVT. SENIOR SECONDARY SCHOOL DEOGARH (222753)",8250215703,"XXXX1105",null,9982903892,"309 VIDHYUT NIGAM KE SAMNE ,DEOGARH,DEOGARH,313331",36000,"N","N","No",16,"None",2]
[12,"C",13510,"2020-08-26","Prakash Chandra",null,"Kishan Lal Regar","Sheela Devi","M","2005-01-13",{"$nulls":4},"SC","Hindu",null,"GOVT. SENIOR SECONDARY SCHOOL DEOGARH (222753)",8250215703,"XXXX7451","VXZVPPJ",8824327419,"YARLA PANTA KI AANTI,DEOGARH,PANTA KI AANTI PANCHAYAT SANGAWAS,313341",30000,"N","N","No",16,"None",12]
[12,"C",13001,"2018-07-02","PRATAP SINGH",null,"GHEESA SINGH","GHEESI DEVI","M","2004-04-15",{"$nulls":4},"OBC","Hindu",null,"GOVT. SENIOR SECONDARY SCHOOL DEOGARH (222753)",8250215703,"XXXX7020","yyiwaeo",7568934679,"AADAWALA,DEOGARH,POST - BAGGAD,313331",36000,"N","N","No",17,"None",5]
[12,"C",13616,"2020-10-15","Prem Sahu",null,"Roshan Sahu","Jashoda Sahu","M","2003-05-13",{"$nulls":4},"OBC","Hindu",null,"GOVT. SENIOR SECONDARY SCHOOL DEOGARH (222753)",8250215703,"XXXX0428","YBQIKOW",6375663600,"NARAYAN JI KA MOHALLA,DEOGARJH,DEOGARH,313331",0,"N","N","No",18,"None",1]
[12,"C",13102,"2018-07-05","RADHASHAYAM SALVI",null,"BHURA RAM","CHAINI DEVI","M","2004-10-15",{"$nulls":4},"SC","Hindu",null,"GOVT. SENIOR SECONDARY SCHOOL DEOGARH (222753)",8250215703,"XXXX4831","VPZCRNH",8769930449,"SANGRAMPURA,DEOGARH,DEOGARH,313331",36000,"N","N","No",17,"None",5]
[12,"C",13096,"2018-07-05","RAHUL CHANDEL",null,"GOVIND LAL CHANDEL","POOJA DEVI","M","2004-08-07",{"$nulls":4},"SC","Hindu",null,"GOVT. SENIOR SECONDARY SCHOOL DEOGARH (222753)",8250215703,"XXXX4071","YYIDCFW",7073215959,"SURAJ DARWAJA JAMADARO KI GALI DEOGARH,DEOGARH,DEOGARH,313331",36000,"N","N","No",17,"None",2]
[12,"C",13761,"2021-07-19","RAKESH NATH",null,"BHERU NATH","SITA DEVI","M","2004-07-04",{"$nulls":4},"OBC","Hindu",null,"GOVT. SENIOR SECONDARY SCHOOL DEOGARH (222753)",8250215703,"XXXX8418","VPXHNWR",9929415611,"SALIYANKHEDA,DEOGARH,ANJANA,313331",48000,"N","N","No",17,"None",5]
[12,"C",13083,"2018-07-05","RUDRA PRATAP SINGH",null,"SHIV SINGH","PINKI KANWAR","M","2006-01-25",{"$nulls":4},"GEN","Hindu",null,"GOVT. SENIOR SECONDARY SCHOOL DEOGARH (222753)",8250215703,"XXXX9772",null,9667052406,"SOLANKI DARWAJA KE ANDAR,DEOGARH,DEOGARH,313331",60000,"N","N","No",15,"None",2]
[12,"C",13230,"2019-07-03","Saiyyad Kasim",null,"Shakeel Mohammad","Shahnaj Banu","M","2004-09-22",{"$nulls":4},"OBC","Muslim",null,"GOVT. SENIOR SECONDARY SCHOOL DEOGARH (222753)",8250215703,"XXXX8083","VVPWVSX",9587794429,"SIPAHIYON KA MOHALLA,DEOGARH,DEOGARH,313331",60000,"N","N","Yes",17,"None",1]
[12,"C",13476,"2020-08-20","SHIVRAJ SINGH CHOUHAN",null,"DEVENDRA SINGH CHOUHAN","REENA KANWAR","M","2004-12-17",{"$nulls":4},"OBC","Hindu",null,"GOVT. SENIOR SECONDARY SCHOOL DEOGARH (222753)",8250215703,"XXXX9339","VDEOGGK",9928171721,"SURAJ DARWAJA MALIYON KA MOHALLAVARIYO KI GHATI WARD NO. 13,DEOGARH,DEOGARH,313331",320000,"N","N","No",17,"None",2]
[12,"C",13504,"2020-08-26","Sudarshan Kumar Bareth",null,"Suresh Chandra Bareth","Ramkanya Bareth","M","2003-01-12",{"$nulls":4},"SC","Hindu",null,"GOVT. SENIOR SECONDARY SCHOOL DEOGARH (222753)",8250215703,"XXXX3804","YQIQGIG",9499592870,"BHITA,BHILWARA,BHILWARA,311803",712896,"N","N","No",18,"None",2]
[12,"C",13503,"2020-08-26","SUNIL KUMAR",null,"NOLARAM","GHISHI DEVI","M","2002-12-12",{"$nulls":4},"SC","Hindu",null,"GOVT. SENIOR SECONDARY SCHOOL DEOGARH (222753)",8250215703,"XXXX5496","VOJVPPX",9024144816,"HAMATO KI GAWAR,BHIM,LAKHAGUDA,313341",36000,"N","N","No",19,"None",2]
[12,"C",13091,"2018-07-05","SURESH SINGH",null,"JETHU SINGH","MEERA DEVI","M","2005-05-03",{"$nulls":4},"OBC","Hindu",null,"GOVT. SENIOR SECONDARY SCHOOL DEOGARH (222753)",8250215703,"XXXX7353","YQDDMSO",9602780671,"KHODIYA POST - GARJNARD,PALI,SOJAT,313331",36000,"N","N","No",16,"None",9]
[12,"C",12999,"2018-07-02","TIKAM SINGH TANK",null,"VIKRAM SINGH","GIRIJA DEVI","M","2005-05-28",{"$nulls":4},"OBC","Hindu",null,"GOVT. SENIOR SECONDARY SCHOOL DEOGARH (222753)",8250215703,"XXXX4200","VVRKPWJ",9024766062,"GUJARI DARWAJA TAJIYO KA CHOWAK DEOGARH,DEOGARH,DEOGARH,313331",50000,"N","N","No",16,"None",12]
[12,"C",12994,"2018-07-02","VIKAS NATH",null,"SUKHA NATH","SUGNA DEVI","M","2004-10-01",{"$nulls":4},"OBC","Hindu",null,"GOVT. SENIOR SECONDARY SCHOOL DEOGARH (222753)",8250215703,"XXXX9345","VXSBCBV",9001340915,"JOGELA,DEOGARH,DEOGARH,313331",40000,"N","N","No",17,"None",7]
[12,"C",12995,"2018-07-02","VIKRAM SINGH",null,"RATAN SINGH","DALI DEVI","M","2005-05-09",{"$nulls":4},"OBC","Hindu",null,"GOVT. SENIOR SECONDARY SCHOOL DEOGARH (222753)",8250215703,"XXXX0684","YFKKGUG",9461180366,"KAMLIGHAT,DEOGARH,DEOGARH,313331",35000,"N","N","No",16,"None",12]
[12,"C",13508,"2020-08-26","VIKRAM SINGH",null,"MANGAL SINGH","PUSHPA KANWAR","M","2005-12-16",{"$nulls":4},"OBC","Hindu",null,"GOVT. SENIOR SECONDARY SCHOOL DEOGARH (222753)",8250215703,"XXXX7835",null,9610296940,"BHATTO KA MOHALLA ,DEOGARH,DEOGARH,313331",60000,"N","N","No",16,"None",3]
[12,"C",13468,"2020-08-04","Vinod Nath",null,"Mohan Nath","Asha","M","2005-07-05",{"$nulls":4},"OBC","Hindu",null,"GOVT. SENIOR SECONDARY SCHOOL DEOGARH (222753)",8250215703,"XXXX4400","YBCQUBB",8003802925,"WARD NO 4,DEOGARH,GOSWAMI MAOHALLA DEOGARH,313331",40000,"N","N","No",16,"None",2]
[12,"C",13564,"2020-09-15","Vishal Joshi",null,"Ram Chandra Joshi","Sanju Devi","M","2002-12-19",{"$nulls":4},"GEN","Hindu",null,"GOVT. SENIOR SECONDARY SCHOOL DEOGARH (222753)",8250215703,"XXXX7500",null,9414823069,"SUBHASH NAGAR,DEOGARH,DEOGARH,313331",60000,"N","N","No",19,"None",3]
[12,"C",13095,"2018-07-05","VISHAN REGAR","Late","PEMA RAM REGAR","MEERA DEVI","M","2003-12-14",{"$nulls":4},"SC","Hindu",null,"GOVT. SENIOR SECONDARY SCHOOL DEOGARH (222753)",8250215703,"XXXX9145","WZWXJPH",9024766062,"RATADIYA KA CHODA DEOGARH,DEOGARH,DEOGARH,313331",0,"N","N","No",18,"None",5]
[12,"C",13566,"2020-09-15","Vishanu Regar",null,"Prakash Regar","Narbada Devi","M","2005-02-28",{"$nulls":4},"SC","Hindu",null,"GOVT. SENIOR SECONDARY SCHOOL DEOGARH (222753)",8250215703,"XXXX9095","VBCBXKJ",7014655349,"NEAR RAMDEV MANDIR , NARAYAN JI KA MOHALLA,DEOGARH,DEOGARH,313331",40000,"N","N","No",16,"None",1]
[12,"C",13509,"2020-08-26","VISHNU REGAR",null,"BHERU LAL REGAR","SEEMA DEVI","M","2005-07-08",{"$nulls":4},"SC","Hindu",null,"GOVT. SENIOR SECONDARY SCHOOL DEOGARH (222753)",8250215703,"XXXX0082","VOVZPZP",9784334826,"anop pura,deogarh ,anop pura,313331",30000,"N","N","No",16,"None",5]
[12,"C",13511,"2020-08-26","Vishwajeet Singh Panwar",null,"Dharam Singh Panwar","Premlata Panwar","M","2004-12-25",{"$nulls":4},"OBC","Hindu",null,"GOVT. SENIOR SECONDARY SCHOOL DEOGARH (222753)",8250215703,"XXXX4850","WTBQBBW",9789034653,"TAJIYO KA CHOWK LUHARO KI GALI,DEOGARH,DEOGARH,313331",604669,"N","N","No",17,"None",2]
[12,"C",13552,"2020-09-11","Vivek Ved",null,"Mukesh Ved","Vidhya Ved","M","2003-06-28",{"$nulls":4},"OBC","Hindu",null,"GOVT. SENIOR SECONDARY SCHOOL DEOGARH (222753)",8250215703,"XXXX6582","YYQQDYK",8278620992,"VEDO KA MOHALLA WARD NO 16,DEOGARH,DEOGARH,313331",60000,"N","N","No",18,"None",1]
[12,"C",13037,"2018-07-04","YASH DILIP KUMAR SEN",null,"DILIP KUMAR","SUMAN SEN","M","2004-12-01",{"$nulls":4},"OBC","Hindu",null,"GOVT. SENIOR SECONDARY SCHOOL DEOGARH (222753)",8250215703,"XXXX0517",null,9001048453,"GANESH GHATI NAIYO KI GALI SADAR BAZAR DEOGARH,DEOGARH,DEOGARH,313331",36000,"N","N","No",17,"None",1]
[12,"C",13598,"2020-10-10","Yasin Mohmmad",null,"Salim Mohmmad","Farzana Banu","M","2003-07-27",{"$nulls":4},"OBC","Muslim",null,"GOVT. SENIOR SECONDARY SCHOOL DEOGARH (222753)",8250215703,"XXXX9418",null,9414786560,"CHHIPON KA MOHALLA,DEOGARH,DEOGARH,313331",36000,"N","N","Yes",18,"None",1]
[12,"D",13671,"2020-12-16","Aakash Gayari",null,"Mangi Lal Gayari","Bheri Devi","M","2004-09-30",{"$nulls":4},"SBC","Hindu",null,"GOVT. SENIOR SECONDARY SCHOOL DEOGARH (222753)",8250215703,"XXXX3028",null,8094843249,"RAMPURIYA,DEOGARH,DEOGARH,313331",36000,"N","N","No",17,"None",2]
[12,"D",12355,"2016-06-27","AJAY SEN",null,"SURESH SEN","BASANTA DEVI","M","2005-01-04",{"$nulls":4},"OBC","Hindu",null,"GOVT. SENIOR SECONDARY SCHOOL DEOGARH (222753)",8250215703,"XXXX7042","YBFSUEF",9828858021,"KESHRINGH GHATI,DEOGARH,DEOGARH,313331",60000,"N","N","No",16,"None",1]
[12,"D",13031,"2018-07-04","ARBAZ KHAN",null,"ASLAM MOHAMMAD","SANNU MEER","M","2004-02-23",{"$nulls":4},"OBC","Hindu",null,"GOVT. SENIOR SECONDARY SCHOOL DEOGARH (222753)",8250215703,"XXXX4574",null,7023978486,"NEW AABADI BIGOD,BHILWARA,,313331",36000,"N","N","No",17,"None",1]
[12,"D",13260,"2019-07-08","Devendra Singh",null,"Nahar Singh Rathore","Durga Kanwar","M","2005-02-22",{"$nulls":4},"GEN","Hindu",null,"GOVT. SENIOR SECONDARY SCHOOL DEOGARH (222753)",8250215703,"XXXX0750",null,7665962172,"MADA KI BASSI,DEOGARH,MADA KI BASSI,313331",36000,"N","N","No",16,"None",12]
[12,"D",12951,"2018-06-30","GAHARI LAL GURJAR",null,"KALU JI GURJAR","NATHI DEVI","M","2003-09-16",{"$nulls":4},"SBC","Hindu",null,"GOVT. SENIOR SECONDARY SCHOOL DEOGARH (222753)",8250215703,"XXXX5635","vojpvtp",9024766062,"GUJARI DARWAJA,DEOGARH,DEOGARH,313331",36000,"N","N","No",18,"None",1]
[12,"D",13645,"2020-10-16","Harshvardhan Panwar",null,"Rajendra Singh Panwar","Navratan Devi","M","2004-12-01",{"$nulls":4},"OBC","Hindu",null,"GOVT. SENIOR SECONDARY SCHOOL DEOGARH (222753)",8250215703,"XXXX7133",null,9928199568,"CHOPDARO KA CHOWK,DEOGARH,DEOGARH,313331",40000,"N","N","No",17,"None",3]
[12,"D",13226,"2019-07-03","Himanshu Vaishnav",null,"Dilkhush Vaishnav","Kalawati Vaishnav","M","2005-01-26",{"$nulls":4},"OBC","Hindu",null,"GOVT. SENIOR SECONDARY SCHOOL DEOGARH (222753)",8250215703,"XXXX7537","YKAMGMF",8107317247,"WARD NO 15,DEOGARH,DEOGARH,313331",60000,"N","N","No",16,"None",1]
[12,"D",12953,"2018-06-30","ISHANT PURI",null,"SURESH PURI","MAYA DEVI","M","2005-11-08",{"$nulls":4},"OBC","Hindu",null,"GOVT. SENIOR SECONDARY SCHOOL DEOGARH (222753)",8250215703,"XXXX8078","YBSKBOS",9680960686,"MALIYO KA MOHALLA SURAJ DARWAJA DEOGARH,DEOGARH,DEOGARH,313331",37000,"N","N","No",16,"None",2]
[12,"D",12945,"2018-06-30","JEEVRAJ GURJAR",null,"UDAI LAL GURJAR","GHISI DEVI","M","2003-12-12",{"$nulls":4},"SBC","Hindu",null,"GOVT. SENIOR SECONDARY SCHOOL DEOGARH (222753)",8250215703,"XXXX5508","YSYWIEG",9950399071,"GURJARI DARWAJA ANDAR BHUNA JI HATHAI,DEOGARH,DEOGARH,313331",36000,"N","N","No",18,"None",2]
[12,"D",12343,"2016-06-27","KHUSHAL CHANDEL",null,"TULSI RAM KHATIK","SAYARI DEVI","M","2004-05-10",{"$nulls":4},"SC","Hindu",null,"GOVT. SENIOR SECONDARY SCHOOL DEOGARH (222753)",8250215703,"XXXX9473","YDUWQKW",9876530836,"KHATIKO KA MOHALLA ,DEOGARH,SURAJ DARWAJA DEOGARH,313331",40000,"N","N","No",17,"None",1]
[12,"D",13593,"2020-10-05","LALIT DIDWANIYA",null,"SHANKAR LAL DIDWANIYA","KAILASH DEVI","M","2003-05-29",{"$nulls":4},"SC","Hindu",null,"GOVT. SENIOR SECONDARY SCHOOL DEOGARH (222753)",8250215703,"XXXX1391","YOCCOAS",9784126762,"MANDAWARA,DEOGARH,MANDAWARA,313331",30000,"N","N","No",18,"None",3]
[12,"D",12363,"2016-06-27","MOHAMMAD JUNAID",null,"NASIB ALI HASAMI","ISLAMUN NISHA","M","2005-01-21",{"$nulls":4},"OBC","Muslim",null,"GOVT. SENIOR SECONDARY SCHOOL DEOGARH (222753)",8250215703,"XXXX0944",null,8696025799,"NEW DARWAJA,DEOGARH,DEOGARH,313331",40000,"N","N","Yes",16,"None",1]
[12,"D",13270,"2019-07-09","Monu Joshi",null,"Rajesh Kumar","Jasoda Devi","M","2005-02-14",{"$nulls":4},"GEN","Hindu",null,"GOVT. SENIOR SECONDARY SCHOOL DEOGARH (222753)",8250215703,"XXXX9955","VVRJTRN",9414565579,"WARD NO 16,DEOGARH,DEOGARH,313331",40000,"N","N","No",16,"None",1]
[12,"D",12350,"2016-06-27","MUKESH GURJAR",null,"SUKHDEV GURJAR","GAJARI DEVI","M","2003-06-15",{"$nulls":4},"SBC","Hindu",null,"GOVT. SENIOR SECONDARY SCHOOL DEOGARH (222753)",8250215703,"XXXX7167",null,9782854698,"SURAJ DARWAJA,DEOGARH,DEOGARH,313331",40000,"N","N","No",18,"None",1]
[12,"D",13684,"2021-01-30","Rahul Mali",null,"Jagdish Mali","Leela Mali","M","2004-08-01",{"$nulls":4},"OBC","Hindu",null,"GOVT. SENIOR SECONDARY SCHOOL DEOGARH (222753)",8250215703,"XXXX9046",null,7742186882,"MALIYON KA MOHALLA SURAJ DARWAJA,DEOGARH,DEOGARH,313331",36000,"N","N","No",17,"None",2]
[12,"D",13351,"2019-07-15","SANWARIYA LOHAR",null,"SOHAN LAL LOHAR","SUKHI DEVI","M","2003-04-13",{"$nulls":4},"OBC","Hindu",null,"GOVT. SENIOR SECONDARY SCHOOL DEOGARH (222753)",8250215703,"XXXX9519","VPXVZJP",9587679880,"NAYA DARWAJA BHILWARA ROAD,DEOGARH,DEOGARH,313331",120000,"N","N","No",18,"None",1]
[12,"D",13617,"2020-10-15","Shelendra Singh",null,"Gopal Singh","Rekha Kanwar","M","2005-05-27",{"$nulls":4},"OBC","Hindu",null,"GOVT. SENIOR SECONDARY SCHOOL DEOGARH (222753)",8250215703,"XXXX2822",null,9588274557,"RAJPUT MOHALLA RAJMAHAL KE PASS WARD NO 9,DEOGARH,DEOGARH,313331",60000,"N","N","No",16,"None",2]
[12,"D",13004,"2018-07-02","SIDHARTH JOSHI",null,"RANJEET JOSHI","MONIKA JOSHI","M","2005-09-04",{"$nulls":4},"OBC","Hindu",null,"GOVT. SENIOR SECONDARY SCHOOL DEOGARH (222753)",8250215703,"XXXX4451","VXGSCNN",8003074968,"SURAJ DARWAJA KUMHARO KA MOHALLA DEOGARH,DEOGARH,DEOGARH,313331",40000,"N","N","No",16,"None",1]
[12,"D",13227,"2019-07-03","TARUN KUMAR JEENGAR",null,"SHOBHA LAL JEENGAR","RUKMANI DEVI","M","2004-02-12",{"$nulls":4},"SC","Hindu",null,"GOVT. SENIOR SECONDARY SCHOOL DEOGARH (222753)",8250215703,"XXXX2501","VVXZHHX",9982208988,"SUBHAS NAGAR ,DEOGARH,DEOGARH,313331",36000,"N","N","No",17,"None",3]
[12,"D",13146,"2018-07-28","TILOK SINGH",null,"SOHAN SINGH","DAKHU DEVI","M","2005-01-01",{"$nulls":4},"OBC","Hindu",null,"GOVT. SENIOR SECONDARY SCHOOL DEOGARH (222753)",8250215703,"XXXX7639","VBRHHWV",9636149153,"AADAWALA,DEOGARH,BAGGAD,313331",36000,"N","N","No",16,"None",1]
[12,"D",13353,"2019-07-15","VISHAL PANWAR",null,"AJAY SINGH","MEENA DEVI","M","2005-08-28",{"$nulls":4},"OBC","Hindu",null,"GOVT. SENIOR SECONDARY SCHOOL DEOGARH (222753)",8250215703,"XXXX8210","VGTRCBR",7427829948,"KUNJ BIHARI CHOWK BOHARO KI GHATI,DEOGARH,DEOGARH,313331",50000,"N","N","No",16,"None",3]

{"sheet":"Exam Pattern","index":1,"n_rows":22,"n_cols":4,"rows_kept":22,"merged":[[0,0,0,3],[1,0,1,3],[3,0,5,0],[3,3,5,3],[6,0,8,0],[6,3,8,3],[9,0,11,0],[9,3,11,3],[12,0,13,0],[12,3,13,3],[14,0,15,0],[14,3,15,3],[16,0,21,0],[16,2,18,2],[16,3,18,3],[19,2,21,2],[19,3,21,3]]}
["परीक्षा पैटर्न"]
["सत्र 2021-22 के लिए कक्षावार परीक्षा पैटर्न निम्नानुसार रखा जाना प्रस्तावित हैं"]
["कक्षा","आंतरिक मूल्यांकन एवं परीक्षा की कियाविधि","अंक","कुल अंक"]
["कक्षा 1 – 2","50% पहचान आधारित प्रश्न (विषयानुसार पहचान आधारित प्रश्न) : पेन-पेपर टैस्ट हेतु।",30,60]
[null,"20% आंतरिक मूल्यांकन आधारित (कार्यपुस्तिका पूर्णता + वर्कशीट पोर्टफोलियो + क्विज आधारित)",12]
[null,"30% मौखिक परीक्षा आधारित ।",18]
["कक्षा 3 – 5","50% वस्तुनिष्ठ प्रश्न (1 अंक प्रति प्रश्न ) रिक्त स्थान, सही / गलत, बहुवैकल्पिक : पेन-पेपर टैस्ट हेतु।",30,60]
[null,"20% आंतरिक मूल्यांकन आधारित (कार्यपुस्तिका पूर्णता + वर्कशीट पोर्टफोलियो + क्विज आधारित)",12]
[null,"30% मौखिक परीक्षा आधारित ।",18]
["कक्षा 6 – 8","70% लिखित परीक्षा आधारित ।",42,60]
[null,"20% आंतरिक मूल्यांकन आधारित (कार्यपुस्तिका पूर्णता +वर्कशीट पोर्टफोलियो + क्विज आधारित)",12]
[null,"10% मौखिक परीक्षा आधारित ।",6]
["कक्षा 9 – 10","80% लिखित परीक्षा आधारित ।",48,60]
[null,"20% आंतरिक मूल्यांकन आधारित (वर्कशीट पोर्टफोलियो + क्विज आधारित)",12]
["कक्षा 11-12","गैर प्रायोगिक विषय (Non-Practical subjects) 80% लिखित परीक्षा आधारित ।",48,60]
[null,"20% आंतरिक मूल्यांकन आधारित (वर्कशीट पोर्टफोलियो +क्विज आधारित)",12]
["कक्षा 11-12 प्रायोगिक विषय (Practical subjects)","• यथा जीव विज्ञान, भौतिक विज्ञान, रसायन विज्ञान, भूगोल इत्यादि हेतु","34 (सैद्धांतिक ) + 14 (प्रायोगिक) + 12 (आंतरिक मूल्यांकन)",60]
[null,"80% (सैद्धांतिक + प्रायोगिक परीक्षा आधारित)"]
[null,"20% आंतरिक मूल्यांकन आधारित (वर्कशीट पोर्टफोलियो + क्विज आधारित)"]
[null,"• अन्य प्रायोगिक विषय यथा संगीत, चित्रकला इत्यादि हेतु","14 (सैद्धांतिक ) + 34 (प्रायोगिक) + 12 (आंतरिक मूल्यांकन)",60]
[null,"80% (सैद्धांतिक + प्रायोगिक परीक्षा आधारित)"]
[null,"20% आंतरिक मूल्यांकन आधारित (वर्कशीट पोर्टफोलियो + क्विज आधारित)"]

{"sheet":"Student Data","index":2,"n_rows":2240,"n_cols":6,"rows_kept":2240,"merged":[[0,0,0,5],[1,0,1,5]]}
[{"$f":"'SD Data Paste'!R2","v":"GOVT. SENIOR SECONDARY SCHOOL DEOGARH (222753)"}]
["Student Data"]
["क्र.सं.","कक्षा","सेक्शन","रोल नं.","विद्यार्थी का नाम","पिता का नाम"]
[{"$f":"IF(Table1[विद्यार्थी का नाम]=\"\",\"\",ROWS($A$1:A1))","v":1},{"$f":"IF('SD Data Paste'!A2=\"\",\"\",'SD Data Paste'!A2)","v":1},{"$f":"IF('SD Data Paste'!B2=\"\",\"\",'SD Data Paste'!B2)","v":"A"},1,{"$f":"IF('SD Data Paste'!E2=\"\",\"\",'SD Data Paste'!E2)","v":"Aarav Bapana"},{"$f":"IF('SD Data Paste'!G2=\"\",\"\",'SD Data Paste'!G2)","v":"Pankaj Bapana"}]
[{"$f":"IF(Table1[विद्यार्थी का नाम]=\"\",\"\",ROWS($A$1:A2))","v":2},{"$f":"IF('SD Data Paste'!A3=\"\",\"\",'SD Data Paste'!A3)","v":1},{"$f":"IF('SD Data Paste'!B3=\"\",\"\",'SD Data Paste'!B3)","v":"A"},{"$f":"IF(D4=\"\",\"\",D4+1)","v":2},{"$f":"IF('SD Data Paste'!E3=\"\",\"\",'SD Data Paste'!E3)","v":"Almira Dayer"},{"$f":"IF('SD Data Paste'!G3=\"\",\"\",'SD Data Paste'!G3)","v":"Dildar Mohammed"}]
[{"$f":"IF(Table1[विद्यार्थी का नाम]=\"\",\"\",ROWS($A$1:A3))","v":3},{"$f":"IF('SD Data Paste'!A4=\"\",\"\",'SD Data Paste'!A4)","v":1},{"$f":"IF('SD Data Paste'!B4=\"\",\"\",'SD Data Paste'!B4)","v":"A"},{"$f":"IF(D5=\"\",\"\",D5+1)","v":3},{"$f":"IF('SD Data Paste'!E4=\"\",\"\",'SD Data Paste'!E4)","v":"Bhawana Mali"},{"$f":"IF('SD Data Paste'!G4=\"\",\"\",'SD Data Paste'!G4)","v":"Kalu Mali"}]
[{"$f":"IF(Table1[विद्यार्थी का नाम]=\"\",\"\",ROWS($A$1:A4))","v":4},{"$f":"IF('SD Data Paste'!A5=\"\",\"\",'SD Data Paste'!A5)","v":1},{"$f":"IF('SD Data Paste'!B5=\"\",\"\",'SD Data Paste'!B5)","v":"A"},4,{"$f":"IF('SD Data Paste'!E5=\"\",\"\",'SD Data Paste'!E5)","v":"Daya Ram"},{"$f":"IF('SD Data Paste'!G5=\"\",\"\",'SD Data Paste'!G5)","v":"Devi Lal Bhil"}]
[{"$f":"IF(Table1[विद्यार्थी का नाम]=\"\",\"\",ROWS($A$1:A5))","v":5},{"$f":"IF('SD Data Paste'!A6=\"\",\"\",'SD Data Paste'!A6)","v":1},{"$f":"IF('SD Data Paste'!B6=\"\",\"\",'SD Data Paste'!B6)","v":"A"},5,{"$f":"IF('SD Data Paste'!E6=\"\",\"\",'SD Data Paste'!E6)","v":"Dayawanti Mali"},{"$f":"IF('SD Data Paste'!G6=\"\",\"\",'SD Data Paste'!G6)","v":"Ratan Lal Mali"}]
[{"$f":"IF(Table1[विद्यार्थी का नाम]=\"\",\"\",ROWS($A$1:A6))","v":6},{"$f":"IF('SD Data Paste'!A7=\"\",\"\",'SD Data Paste'!A7)","v":1},{"$f":"IF('SD Data Paste'!B7=\"\",\"\",'SD Data Paste'!B7)","v":"A"},6,{"$f":"IF('SD Data Paste'!E7=\"\",\"\",'SD Data Paste'!E7)","v":"Deepak"},{"$f":"IF('SD Data Paste'!G7=\"\",\"\",'SD Data Paste'!G7)","v":"Devi Lal Bhil"}]
[{"$f":"IF(Table1[विद्यार्थी का नाम]=\"\",\"\",ROWS($A$1:A7))","v":7},{"$f":"IF('SD Data Paste'!A8=\"\",\"\",'SD Data Paste'!A8)","v":1},{"$f":"IF('SD Data Paste'!B8=\"\",\"\",'SD Data Paste'!B8)","v":"A"},7,{"$f":"IF('SD Data Paste'!E8=\"\",\"\",'SD Data Paste'!E8)","v":"Divyansh Puri Goswami"},{"$f":"IF('SD Data Paste'!G8=\"\",\"\",'SD Data Paste'!G8)","v":"Jaswant Puri Goswami"}]
[{"$f":"IF(Table1[विद्यार्थी का नाम]=\"\",\"\",ROWS($A$1:A8))","v":8},{"$f":"IF('SD Data Paste'!A9=\"\",\"\",'SD Data Paste'!A9)","v":1},{"$f":"IF('SD Data Paste'!B9=\"\",\"\",'SD Data Paste'!B9)","v":"A"},8,{"$f":"IF('SD Data Paste'!E9=\"\",\"\",'SD Data Paste'!E9)","v":"Garima Tailor"},{"$f":"IF('SD Data Paste'!G9=\"\",\"\",'SD Data Paste'!G9)","v":"Devi Lal"}]
[{"$f":"IF(Table1[विद्यार्थी का नाम]=\"\",\"\",ROWS($A$1:A9))","v":9},{"$f":"IF('SD Data Paste'!A10=\"\",\"\",'SD Data Paste'!A10)","v":1},{"$f":"IF('SD Data Paste'!B10=\"\",\"\",'SD Data Paste'!B10)","v":"A"},9,{"$f":"IF('SD Data Paste'!E10=\"\",\"\",'SD Data Paste'!E10)","v":"Gourav Kumar Suthar"},{"$f":"IF('SD Data Paste'!G10=\"\",\"\",'SD Data Paste'!G10)","v":"Dhanraj Suthar"}]
[{"$f":"IF(Table1[विद्यार्थी का नाम]=\"\",\"\",ROWS($A$1:A10))","v":10},{"$f":"IF('SD Data Paste'!A11=\"\",\"\",'SD Data Paste'!A11)","v":1},{"$f":"IF('SD Data Paste'!B11=\"\",\"\",'SD Data Paste'!B11)","v":"A"},10,{"$f":"IF('SD Data Paste'!E11=\"\",\"\",'SD Data Paste'!E11)","v":"Kailash"},{"$f":"IF('SD Data Paste'!G11=\"\",\"\",'SD Data Paste'!G11)","v":"Ladu Lal"}]
[{"$f":"IF(Table1[विद्यार्थी का नाम]=\"\",\"\",ROWS($A$1:A11))","v":11},{"$f":"IF('SD Data Paste'!A12=\"\",\"\",'SD Data Paste'!A12)","v":1},{"$f":"IF('SD Data Paste'!B12=\"\",\"\",'SD Data Paste'!B12)","v":"A"},11,{"$f":"IF('SD Data Paste'!E12=\"\",\"\",'SD Data Paste'!E12)","v":"Kamlesh Prajapat"},{"$f":"IF('SD Data Paste'!G12=\"\",\"\",'SD Data Paste'!G12)","v":"Naresh Kumar"}]
[{"$f":"IF(Table1[विद्यार्थी का नाम]=\"\",\"\",ROWS($A$1:A12))","v":12},{"$f":"IF('SD Data Paste'!A13=\"\",\"\",'SD Data Paste'!A13)","v":1},{"$f":"IF('SD Data Paste'!B13=\"\",\"\",'SD Data Paste'!B13)","v":"A"},12,{"$f":"IF('SD Data Paste'!E13=\"\",\"\",'SD Data Paste'!E13)","v":"Mohammad Raja"},{"$f":"IF('SD Data Paste'!G13=\"\",\"\",'SD Data Paste'!G13)","v":"Dildar Mohammad"}]
[{"$f":"IF(Table1[विद्यार्थी का नाम]=\"\",\"\",ROWS($A$1:A13))","v":13},{"$f":"IF('SD Data Paste'!A14=\"\",\"\",'SD Data Paste'!A14)","v":1},{"$f":"IF('SD Data Paste'!B14=\"\",\"\",'SD Data Paste'!B14)","v":"A"},13,{"$f":"IF('SD Data Paste'!E14=\"\",\"\",'SD Data Paste'!E14)","v":"Najmin Bano"},{"$f":"IF('SD Data Paste'!G14=\"\",\"\",'SD Data Paste'!G14)","v":"Sadik Mohammad Luhar"}]
[{"$f":"IF(Table1[विद्यार्थी का नाम]=\"\",\"\",ROWS($A$1:A14))","v":14},{"$f":"IF('SD Data Paste'!A15=\"\",\"\",'SD Data Paste'!A15)","v":1},{"$f":"IF('SD Data Paste'!B15=\"\",\"\",'SD Data Paste'!B15)","v":"A"},14,{"$f":"IF('SD Data Paste'!E15=\"\",\"\",'SD Data Paste'!E15)","v":"Nisha Regar"},{"$f":"IF('SD Data Paste'!G15=\"\",\"\",'SD Data Paste'!G15)","v":"Ramlal Regar"}]
[{"$f":"IF(Table1[विद्यार्थी का नाम]=\"\",\"\",ROWS($A$1:A15))","v":15},{"$f":"IF('SD Data Paste'!A16=\"\",\"\",'SD Data Paste'!A16)","v":1},{"$f":"IF('SD Data Paste'!B16=\"\",\"\",'SD Data Paste'!B16)","v":"A"},15,{"$f":"IF('SD Data Paste'!E16=\"\",\"\",'SD Data Paste'!E16)","v":"Noore Mevish"},{"$f":"IF('SD Data Paste'!G16=\"\",\"\",'SD Data Paste'!G16)","v":"Yunus Mohammad Sheikh"}]
[{"$f":"IF(Table1[विद्यार्थी का नाम]=\"\",\"\",ROWS($A$1:A16))","v":16},{"$f":"IF('SD Data Paste'!A17=\"\",\"\",'SD Data Paste'!A17)","v":1},{"$f":"IF('SD Data Paste'!B17=\"\",\"\",'SD Data Paste'!B17)","v":"A"},16,{"$f":"IF('SD Data Paste'!E17=\"\",\"\",'SD Data Paste'!E17)","v":"Pankaj Mali"},{"$f":"IF('SD Data Paste'!G17=\"\",\"\",'SD Data Paste'!G17)","v":"Mukesh Mali"}]
[{"$f":"IF(Table1[विद्यार्थी का नाम]=\"\",\"\",ROWS($A$1:A17))","v":17},{"$f":"IF('SD Data Paste'!A18=\"\",\"\",'SD Data Paste'!A18)","v":1},{"$f":"IF('SD Data Paste'!B18=\"\",\"\",'SD Data Paste'!B18)","v":"A"},17,{"$f":"IF('SD Data Paste'!E18=\"\",\"\",'SD Data Paste'!E18)","v":"Prahlad"},{"$f":"IF('SD Data Paste'!G18=\"\",\"\",'SD Data Paste'!G18)","v":"Shanti Lal"}]
[{"$f":"IF(Table1[विद्यार्थी का नाम]=\"\",\"\",ROWS($A$1:A18))","v":18},{"$f":"IF('SD Data Paste'!A19=\"\",\"\",'SD Data Paste'!A19)","v":1},{"$f":"IF('SD Data Paste'!B19=\"\",\"\",'SD Data Paste'!B19)","v":"A"},18,{"$f":"IF('SD Data Paste'!E19=\"\",\"\",'SD Data Paste'!E19)","v":"Pratham Vyas"},{"$f":"IF('SD Data Paste'!G19=\"\",\"\",'SD Data Paste'!G19)","v":"Tulsi Ram Vyas"}]
[{"$f":"IF(Table1[विद्यार्थी का नाम]=\"\",\"\",ROWS($A$1:A19))","v":19},{"$f":"IF('SD Data Paste'!A20=\"\",\"\",'SD Data Paste'!A20)","v":1},{"$f":"IF('SD Data Paste'!B20=\"\",\"\",'SD Data Paste'!B20)","v":"A"},19,{"$f":"IF('SD Data Paste'!E20=\"\",\"\",'SD Data Paste'!E20)","v":"Vijay Kumar Mali"},{"$f":"IF('SD Data Paste'!G20=\"\",\"\",'SD Data Paste'!G20)","v":"Vanna Lal Mali"}]
[{"$f":"IF(Table1[विद्यार्थी का नाम]=\"\",\"\",ROWS($A$1:A20))","v":20},{"$f":"IF('SD Data Paste'!A21=\"\",\"\",'SD Data Paste'!A21)","v":1},{"$f":"IF('SD Data Paste'!B21=\"\",\"\",'SD Data Paste'!B21)","v":"A"},20,{"$f":"IF('SD Data Paste'!E21=\"\",\"\",'SD Data Paste'!E21)","v":"Vishal Mali"},{"$f":"IF('SD Data Paste'!G21=\"\",\"\",'SD Data Paste'!G21)","v":"Radheshyam Mali"}]
[{"$f":"IF(Table1[विद्यार्थी का नाम]=\"\",\"\",ROWS($A$1:A21))","v":21},{"$f":"IF('SD Data Paste'!A22=\"\",\"\",'SD Data Paste'!A22)","v":1},{"$f":"IF('SD Data Paste'!B22=\"\",\"\",'SD Data Paste'!B22)","v":"A"},21,{"$f":"IF('SD Data Paste'!E22=\"\",\"\",'SD Data Paste'!E22)","v":"Yuvan Mali"},{"$f":"IF('SD Data Paste'!G22=\"\",\"\",'SD Data Paste'!G22)","v":"Mahendra Mali"}]
[{"$f":"IF(Table1[विद्यार्थी का नाम]=\"\",\"\",ROWS($A$1:A22))","v":22},{"$f":"IF('SD Data Paste'!A23=\"\",\"\",'SD Data Paste'!A23)","v":2},{"$f":"IF('SD Data Paste'!B23=\"\",\"\",'SD Data Paste'!B23)","v":"A"},22,{"$f":"IF('SD Data Paste'!E23=\"\",\"\",'SD Data Paste'!E23)","v":"Anil Mali"},{"$f":"IF('SD Data Paste'!G23=\"\",\"\",'SD Data Paste'!G23)","v":"Ganpat Lal Mali"}]
[{"$f":"IF(Table1[विद्यार्थी का नाम]=\"\",\"\",ROWS($A$1:A23))","v":23},{"$f":"IF('SD Data Paste'!A24=\"\",\"\",'SD Data Paste'!A24)","v":2},{"$f":"IF('SD Data Paste'!B24=\"\",\"\",'SD Data Paste'!B24)","v":"A"},23,{"$f":"IF('SD Data Paste'!E24=\"\",\"\",'SD Data Paste'!E24)","v":"Aszad"},{"$f":"IF('SD Data Paste'!G24=\"\",\"\",'SD Data Paste'!G24)","v":"Mohammad Javed"}]
[{"$f":"IF(Table1[विद्यार्थी का नाम]=\"\",\"\",ROWS($A$1:A24))","v":24},{"$f":"IF('SD Data Paste'!A25=\"\",\"\",'SD Data Paste'!A25)","v":2},{"$f":"IF('SD Data Paste'!B25=\"\",\"\",'SD Data Paste'!B25)","v":"A"},24,{"$f":"IF('SD Data Paste'!E25=\"\",\"\",'SD Data Paste'!E25)","v":"Bhupendra Mali"},{"$f":"IF('SD Data Paste'!G25=\"\",\"\",'SD Data Paste'!G25)","v":"Ladu Lal Mali"}]
[{"$f":"IF(Table1[विद्यार्थी का नाम]=\"\",\"\",ROWS($A$1:A25))","v":25},{"$f":"IF('SD Data Paste'!A26=\"\",\"\",'SD Data Paste'!A26)","v":2},{"$f":"IF('SD Data Paste'!B26=\"\",\"\",'SD Data Paste'!B26)","v":"A"},25,{"$f":"IF('SD Data Paste'!E26=\"\",\"\",'SD Data Paste'!E26)","v":"Chandraprakash Mali"},{"$f":"IF('SD Data Paste'!G26=\"\",\"\",'SD Data Paste'!G26)","v":"Vinod Kumar Mali"}]
[{"$f":"IF(Table1[विद्यार्थी का नाम]=\"\",\"\",ROWS($A$1:A26))","v":26},{"$f":"IF('SD Data Paste'!A27=\"\",\"\",'SD Data Paste'!A27)","v":2},{"$f":"IF('SD Data Paste'!B27=\"\",\"\",'SD Data Paste'!B27)","v":"A"},26,{"$f":"IF('SD Data Paste'!E27=\"\",\"\",'SD Data Paste'!E27)","v":"Divya"},{"$f":"IF('SD Data Paste'!G27=\"\",\"\",'SD Data Paste'!G27)","v":"Roshan Lal"}]
[{"$f":"IF(Table1[विद्यार्थी का नाम]=\"\",\"\",ROWS($A$1:A27))","v":27},{"$f":"IF('SD Data Paste'!A28=\"\",\"\",'SD Data Paste'!A28)","v":2},{"$f":"IF('SD Data Paste'!B28=\"\",\"\",'SD Data Paste'!B28)","v":"A"},27,{"$f":"IF('SD Data Paste'!E28=\"\",\"\",'SD Data Paste'!E28)","v":"Harsh Mali"},{"$f":"IF('SD Data Paste'!G28=\"\",\"\",'SD Data Paste'!G28)","v":"Kanhaiya Lal Mali"}]
[{"$f":"IF(Table1[विद्यार्थी का नाम]=\"\",\"\",ROWS($A$1:A28))","v":28},{"$f":"IF('SD Data Paste'!A29=\"\",\"\",'SD Data Paste'!A29)","v":2},{"$f":"IF('SD Data Paste'!B29=\"\",\"\",'SD Data Paste'!B29)","v":"A"},28,{"$f":"IF('SD Data Paste'!E29=\"\",\"\",'SD Data Paste'!E29)","v":"Harshita"},{"$f":"IF('SD Data Paste'!G29=\"\",\"\",'SD Data Paste'!G29)","v":"Panna Lal Suthar"}]
[{"$f":"IF(Table1[विद्यार्थी का नाम]=\"\",\"\",ROWS($A$1:A29))","v":29},{"$f":"IF('SD Data Paste'!A30=\"\",\"\",'SD Data Paste'!A30)","v":2},{"$f":"IF('SD Data Paste'!B30=\"\",\"\",'SD Data Paste'!B30)","v":"A"},29,{"$f":"IF('SD Data Paste'!E30=\"\",\"\",'SD Data Paste'!E30)","v":"Irshad"},{"$f":"IF('SD Data Paste'!G30=\"\",\"\",'SD Data Paste'!G30)","v":"Tahir Mohammad"}]
[{"$f":"IF(Table1[विद्यार्थी का नाम]=\"\",\"\",ROWS($A$1:A30))","v":30},{"$f":"IF('SD Data Paste'!A31=\"\",\"\",'SD Data Paste'!A31)","v":2},{"$f":"IF('SD Data Paste'!B31=\"\",\"\",'SD Data Paste'!B31)","v":"A"},30,{"$f":"IF('SD Data Paste'!E31=\"\",\"\",'SD Data Paste'!E31)","v":"Kamal Mali"},{"$f":"IF('SD Data Paste'!G31=\"\",\"\",'SD Data Paste'!G31)","v":"Kalu Lal Mali"}]
[{"$f":"IF(Table1[विद्यार्थी का नाम]=\"\",\"\",ROWS($A$1:A31))","v":31},{"$f":"IF('SD Data Paste'!A32=\"\",\"\",'SD Data Paste'!A32)","v":2},{"$f":"IF('SD Data Paste'!B32=\"\",\"\",'SD Data Paste'!B32)","v":"A"},31,{"$f":"IF('SD Data Paste'!E32=\"\",\"\",'SD Data Paste'!E32)","v":"Manthan Mali"},{"$f":"IF('SD Data Paste'!G32=\"\",\"\",'SD Data Paste'!G32)","v":"Suresh Kumar Mali"}]
[{"$f":"IF(Table1[विद्यार्थी का नाम]=\"\",\"\",ROWS($A$1:A32))","v":32},{"$f":"IF('SD Data Paste'!A33=\"\",\"\",'SD Data Paste'!A33)","v":2},{"$f":"IF('SD Data Paste'!B33=\"\",\"\",'SD Data Paste'!B33)","v":"A"},32,{"$f":"IF('SD Data Paste'!E33=\"\",\"\",'SD Data Paste'!E33)","v":"Mukesh Mali"},{"$f":"IF('SD Data Paste'!G33=\"\",\"\",'SD Data Paste'!G33)","v":"Jagdish Mali"}]
[{"$f":"IF(Table1[विद्यार्थी का नाम]=\"\",\"\",ROWS($A$1:A33))","v":33},{"$f":"IF('SD Data Paste'!A34=\"\",\"\",'SD Data Paste'!A34)","v":2},{"$f":"IF('SD Data Paste'!B34=\"\",\"\",'SD Data Paste'!B34)","v":"A"},33,{"$f":"IF('SD Data Paste'!E34=\"\",\"\",'SD Data Paste'!E34)","v":"Narayan Mali"},{"$f":"IF('SD Data Paste'!G34=\"\",\"\",'SD Data Paste'!G34)","v":"Ishwar Lal Mali"}]
[{"$f":"IF(Table1[विद्यार्थी का नाम]=\"\",\"\",ROWS($A$1:A34))","v":34},{"$f":"IF('SD Data Paste'!A35=\"\",\"\",'SD Data Paste'!A35)","v":2},{"$f":"IF('SD Data Paste'!B35=\"\",\"\",'SD Data Paste'!B35)","v":"A"},34,{"$f":"IF('SD Data Paste'!E35=\"\",\"\",'SD Data Paste'!E35)","v":"Pankaj Regar"},{"$f":"IF('SD Data Paste'!G35=\"\",\"\",'SD Data Paste'!G35)","v":"Laxman Lal Regar"}]
[{"$f":"IF(Table1[विद्यार्थी का नाम]=\"\",\"\",ROWS($A$1:A35))","v":35},{"$f":"IF('SD Data Paste'!A36=\"\",\"\",'SD Data Paste'!A36)","v":2},{"$f":"IF('SD Data Paste'!B36=\"\",\"\",'SD Data Paste'!B36)","v":"A"},35,{"$f":"IF('SD Data Paste'!E36=\"\",\"\",'SD Data Paste'!E36)","v":"Piyush Sen"},{"$f":"IF('SD Data Paste'!G36=\"\",\"\",'SD Data Paste'!G36)","v":"Mahendra Kumar Sen"}]
[{"$f":"IF(Table1[विद्यार्थी का नाम]=\"\",\"\",ROWS($A$1:A36))","v":36},{"$f":"IF('SD Data Paste'!A37=\"\",\"\",'SD Data Paste'!A37)","v":2},{"$f":"IF('SD Data Paste'!B37=\"\",\"\",'SD Data Paste'!B37)","v":"A"},36,{"$f":"IF('SD Data Paste'!E37=\"\",\"\",'SD Data Paste'!E37)","v":"Pooja Mali"},{"$f":"IF('SD Data Paste'!G37=\"\",\"\",'SD Data Paste'!G37)","v":"Babu Lal Mali"}]
[{"$f":"IF(Table1[विद्यार्थी का नाम]=\"\",\"\",ROWS($A$1:A37))","v":37},{"$f":"IF('SD Data Paste'!A38=\"\",\"\",'SD Data Paste'!A38)","v":2},{"$f":"IF('SD Data Paste'!B38=\"\",\"\",'SD Data Paste'!B38)","v":"A"},37,{"$f":"IF('SD Data Paste'!E38=\"\",\"\",'SD Data Paste'!E38)","v":"Purnima Mali"},{"$f":"IF('SD Data Paste'!G38=\"\",\"\",'SD Data Paste'!G38)","v":"Sunil Mali"}]
[{"$f":"IF(Table1[विद्यार्थी का नाम]=\"\",\"\",ROWS($A$1:A38))","v":38},{"$f":"IF('SD Data Paste'!A39=\"\",\"\",'SD Data Paste'!A39)","v":2},{"$f":"IF('SD Data Paste'!B39=\"\",\"\",'SD Data Paste'!B39)","v":"A"},38,{"$f":"IF('SD Data Paste'!E39=\"\",\"\",'SD Data Paste'!E39)","v":"Radhika Mali"},{"$f":"IF('SD Data Paste'!G39=\"\",\"\",'SD Data Paste'!G39)","v":"Mukesh Mali"}]
[{"$f":"IF(Table1[विद्यार्थी का नाम]=\"\",\"\",ROWS($A$1:A39))","v":39},{"$f":"IF('SD Data Paste'!A40=\"\",\"\",'SD Data Paste'!A40)","v":2},{"$f":"IF('SD Data Paste'!B40=\"\",\"\",'SD Data Paste'!B40)","v":"A"},39,{"$f":"IF('SD Data Paste'!E40=\"\",\"\",'SD Data Paste'!E40)","v":"Sidarth Kumar Sen"},{"$f":"IF('SD Data Paste'!G40=\"\",\"\",'SD Data Paste'!G40)","v":"Pradeep Kumar Sen"}]
[{"$f":"IF(Table1[विद्यार्थी का नाम]=\"\",\"\",ROWS($A$1:A40))","v":40},{"$f":"IF('SD Data Paste'!A41=\"\",\"\",'SD Data Paste'!A41)","v":2},{"$f":"IF('SD Data Paste'!B41=\"\",\"\",'SD Data Paste'!B41)","v":"A"},40,{"$f":"IF('SD Data Paste'!E41=\"\",\"\",'SD Data Paste'!E41)","v":"Siddhi Sen"},{"$f":"IF('SD Data Paste'!G41=\"\",\"\",'SD Data Paste'!G41)","v":"Prahalad Sen"}]
[{"$f":"IF(Table1[विद्यार्थी का नाम]=\"\",\"\",ROWS($A$1:A41))","v":41},{"$f":"IF('SD Data Paste'!A42=\"\",\"\",'SD Data Paste'!A42)","v":2},{"$f":"IF('SD Data Paste'!B42=\"\",\"\",'SD Data Paste'!B42)","v":"A"},41,{"$f":"IF('SD Data Paste'!E42=\"\",\"\",'SD Data Paste'!E42)","v":"Tarun Jalliya"},{"$f":"IF('SD Data Paste'!G42=\"\",\"\",'SD Data Paste'!G42)","v":"Mahendra Kumar Regar"}]
[{"$f":"IF(Table1[विद्यार्थी का नाम]=\"\",\"\",ROWS($A$1:A42))","v":42},{"$f":"IF('SD Data Paste'!A43=\"\",\"\",'SD Data Paste'!A43)","v":3},{"$f":"IF('SD Data Paste'!B43=\"\",\"\",'SD Data Paste'!B43)","v":"A"},42,{"$f":"IF('SD Data Paste'!E43=\"\",\"\",'SD Data Paste'!E43)","v":"AYSHA BANU"},{"$f":"IF('SD Data Paste'!G43=\"\",\"\",'SD Data Paste'!G43)","v":"MOHAMMAD JAVED"}]
[{"$f":"IF(Table1[विद्यार्थी का नाम]=\"\",\"\",ROWS($A$1:A43))","v":43},{"$f":"IF('SD Data Paste'!A44=\"\",\"\",'SD Data Paste'!A44)","v":3},{"$f":"IF('SD Data Paste'!B44=\"\",\"\",'SD Data Paste'!B44)","v":"A"},43,{"$f":"IF('SD Data Paste'!E44=\"\",\"\",'SD Data Paste'!E44)","v":"Basanti Mali"},{"$f":"IF('SD Data Paste'!G44=\"\",\"\",'SD Data Paste'!G44)","v":"Mukesh Mali"}]
[{"$f":"IF(Table1[विद्यार्थी का नाम]=\"\",\"\",ROWS($A$1:A44))","v":44},{"$f":"IF('SD Data Paste'!A45=\"\",\"\",'SD Data Paste'!A45)","v":3},{"$f":"IF('SD Data Paste'!B45=\"\",\"\",'SD Data Paste'!B45)","v":"A"},44,{"$f":"IF('SD Data Paste'!E45=\"\",\"\",'SD Data Paste'!E45)","v":"Bhawna Mali"},{"$f":"IF('SD Data Paste'!G45=\"\",\"\",'SD Data Paste'!G45)","v":"Vanna Lal Mali"}]
[{"$f":"IF(Table1[विद्यार्थी का नाम]=\"\",\"\",ROWS($A$1:A45))","v":45},{"$f":"IF('SD Data Paste'!A46=\"\",\"\",'SD Data Paste'!A46)","v":3},{"$f":"IF('SD Data Paste'!B46=\"\",\"\",'SD Data Paste'!B46)","v":"A"},45,{"$f":"IF('SD Data Paste'!E46=\"\",\"\",'SD Data Paste'!E46)","v":"Bhumika Mali"},{"$f":"IF('SD Data Paste'!G46=\"\",\"\",'SD Data Paste'!G46)","v":"Ramesh Chandra Mali"}]
[{"$f":"IF(Table1[विद्यार्थी का नाम]=\"\",\"\",ROWS($A$1:A46))","v":46},{"$f":"IF('SD Data Paste'!A47=\"\",\"\",'SD Data Paste'!A47)","v":3},{"$f":"IF('SD Data Paste'!B47=\"\",\"\",'SD Data Paste'!B47)","v":"A"},46,{"$f":"IF('SD Data Paste'!E47=\"\",\"\",'SD Data Paste'!E47)","v":"Bhupendra Mali"},{"$f":"IF('SD Data Paste'!G47=\"\",\"\",'SD Data Paste'!G47)","v":"Lahri Lal Mali"}]
[{"$f":"IF(Table1[विद्यार्थी का नाम]=\"\",\"\",ROWS($A$1:A47))","v":47},{"$f":"IF('SD Data Paste'!A48=\"\",\"\",'SD Data Paste'!A48)","v":3},{"$f":"IF('SD Data Paste'!B48=\"\",\"\",'SD Data Paste'!B48)","v":"A"},47,{"$f":"IF('SD Data Paste'!E48=\"\",\"\",'SD Data Paste'!E48)","v":"Deepak Mali"},{"$f":"IF('SD Data Paste'!G48=\"\",\"\",'SD Data Paste'!G48)","v":"Vinod Mali"}]
[{"$f":"IF(Table1[विद्यार्थी का नाम]=\"\",\"\",ROWS($A$1:A48))","v":48},{"$f":"IF('SD Data Paste'!A49=\"\",\"\",'SD Data Paste'!A49)","v":3},{"$f":"IF('SD Data Paste'!B49=\"\",\"\",'SD Data Paste'!B49)","v":"A"},48,{"$f":"IF('SD Data Paste'!E49=\"\",\"\",'SD Data Paste'!E49)","v":"DIMPLE MALI"},{"$f":"IF('SD Data Paste'!G49=\"\",\"\",'SD Data Paste'!G49)","v":"GANPAT LAL"}]
[{"$f":"IF(Table1[विद्यार्थी का नाम]=\"\",\"\",ROWS($A$1:A49))","v":49},{"$f":"IF('SD Data Paste'!A50=\"\",\"\",'SD Data Paste'!A50)","v":3},{"$f":"IF('SD Data Paste'!B50=\"\",\"\",'SD Data Paste'!B50)","v":"A"},49,{"$f":"IF('SD Data Paste'!E50=\"\",\"\",'SD Data Paste'!E50)","v":"Dungar Mali"},{"$f":"IF('SD Data Paste'!G50=\"\",\"\",'SD Data Paste'!G50)","v":"Omprakash Mali"}]
[{"$f":"IF(Table1[विद्यार्थी का नाम]=\"\",\"\",ROWS($A$1:A50))","v":50},{"$f":"IF('SD Data Paste'!A51=\"\",\"\",'SD Data Paste'!A51)","v":3},{"$f":"IF('SD Data Paste'!B51=\"\",\"\",'SD Data Paste'!B51)","v":"A"},50,{"$f":"IF('SD Data Paste'!E51=\"\",\"\",'SD Data Paste'!E51)","v":"Himmat Mali"},{"$f":"IF('SD Data Paste'!G51=\"\",\"\",'SD Data Paste'!G51)","v":"Madan Lal Mali"}]
[{"$f":"IF(Table1[विद्यार्थी का नाम]=\"\",\"\",ROWS($A$1:A51))","v":51},{"$f":"IF('SD Data Paste'!A52=\"\",\"\",'SD Data Paste'!A52)","v":3},{"$f":"IF('SD Data Paste'!B52=\"\",\"\",'SD Data Paste'!B52)","v":"A"},51,{"$f":"IF('SD Data Paste'!E52=\"\",\"\",'SD Data Paste'!E52)","v":"Jyoti Sen"},{"$f":"IF('SD Data Paste'!G52=\"\",\"\",'SD Data Paste'!G52)","v":"Ganpat Lal Sen"}]
[{"$f":"IF(Table1[विद्यार्थी का नाम]=\"\",\"\",ROWS($A$1:A52))","v":52},{"$f":"IF('SD Data Paste'!A53=\"\",\"\",'SD Data Paste'!A53)","v":3},{"$f":"IF('SD Data Paste'!B53=\"\",\"\",'SD Data Paste'!B53)","v":"A"},52,{"$f":"IF('SD Data Paste'!E53=\"\",\"\",'SD Data Paste'!E53)","v":"KHUSHI MALI"},{"$f":"IF('SD Data Paste'!G53=\"\",\"\",'SD Data Paste'!G53)","v":"KAILASH CHANDRA"}]
[{"$f":"IF(Table1[विद्यार्थी का नाम]=\"\",\"\",ROWS($A$1:A53))","v":53},{"$f":"IF('SD Data Paste'!A54=\"\",\"\",'SD Data Paste'!A54)","v":3},{"$f":"IF('SD Data Paste'!B54=\"\",\"\",'SD Data Paste'!B54)","v":"A"},53,{"$f":"IF('SD Data Paste'!E54=\"\",\"\",'SD Data Paste'!E54)","v":"KIRAN KUMARI"},{"$f":"IF('SD Data Paste'!G54=\"\",\"\",'SD Data Paste'!G54)","v":"VIJAY SINGH"}]
[{"$f":"IF(Table1[विद्यार्थी का नाम]=\"\",\"\",ROWS($A$1:A54))","v":54},{"$f":"IF('SD Data Paste'!A55=\"\",\"\",'SD Data Paste'!A55)","v":3},{"$f":"IF('SD Data Paste'!B55=\"\",\"\",'SD Data Paste'!B55)","v":"A"},54,{"$f":"IF('SD Data Paste'!E55=\"\",\"\",'SD Data Paste'!E55)","v":"Lakhan Lohar"},{"$f":"IF('SD Data Paste'!G55=\"\",\"\",'SD Data Paste'!G55)","v":"Suresh Lohar"}]
[{"$f":"IF(Table1[विद्यार्थी का नाम]=\"\",\"\",ROWS($A$1:A55))","v":55},{"$f":"IF('SD Data Paste'!A56=\"\",\"\",'SD Data Paste'!A56)","v":3},{"$f":"IF('SD Data Paste'!B56=\"\",\"\",'SD Data Paste'!B56)","v":"A"},55,{"$f":"IF('SD Data Paste'!E56=\"\",\"\",'SD Data Paste'!E56)","v":"Minakshi Mali"},{"$f":"IF('SD Data Paste'!G56=\"\",\"\",'SD Data Paste'!G56)","v":"Kailash Chandra Mali"}]
[{"$f":"IF(Table1[विद्यार्थी का नाम]=\"\",\"\",ROWS($A$1:A56))","v":56},{"$f":"IF('SD Data Paste'!A57=\"\",\"\",'SD Data Paste'!A57)","v":3},{"$f":"IF('SD Data Paste'!B57=\"\",\"\",'SD Data Paste'!B57)","v":"A"},56,{"$f":"IF('SD Data Paste'!E57=\"\",\"\",'SD Data Paste'!E57)","v":"Mohd Ashzad Raza"},{"$f":"IF('SD Data Paste'!G57=\"\",\"\",'SD Data Paste'!G57)","v":"Jamshed"}]
[{"$f":"IF(Table1[विद्यार्थी का नाम]=\"\",\"\",ROWS($A$1:A57))","v":57},{"$f":"IF('SD Data Paste'!A58=\"\",\"\",'SD Data Paste'!A58)","v":3},{"$f":"IF('SD Data Paste'!B58=\"\",\"\",'SD Data Paste'!B58)","v":"A"},57,{"$f":"IF('SD Data Paste'!E58=\"\",\"\",'SD Data Paste'!E58)","v":"Mukesh Regar"},{"$f":"IF('SD Data Paste'!G58=\"\",\"\",'SD Data Paste'!G58)","v":"Naina Lal"}]
[{"$f":"IF(Table1[विद्यार्थी का नाम]=\"\",\"\",ROWS($A$1:A58))","v":58},{"$f":"IF('SD Data Paste'!A59=\"\",\"\",'SD Data Paste'!A59)","v":3},{"$f":"IF('SD Data Paste'!B59=\"\",\"\",'SD Data Paste'!B59)","v":"A"},58,{"$f":"IF('SD Data Paste'!E59=\"\",\"\",'SD Data Paste'!E59)","v":"Nilesh Mali"},{"$f":"IF('SD Data Paste'!G59=\"\",\"\",'SD Data Paste'!G59)","v":"Babu Lal Mali"}]
[{"$f":"IF(Table1[विद्यार्थी का नाम]=\"\",\"\",ROWS($A$1:A59))","v":59},{"$f":"IF('SD Data Paste'!A60=\"\",\"\",'SD Data Paste'!A60)","v":3},{"$f":"IF('SD Data Paste'!B60=\"\",\"\",'SD Data Paste'!B60)","v":"A"},59,{"$f":"IF('SD Data Paste'!E60=\"\",\"\",'SD Data Paste'!E60)","v":"Nilesh Mali"},{"$f":"IF('SD Data Paste'!G60=\"\",\"\",'SD Data Paste'!G60)","v":"Kanhaiya Lal Mali"}]
[{"$f":"IF(Table1[विद्यार्थी का नाम]=\"\",\"\",ROWS($A$1:A60))","v":60},{"$f":"IF('SD Data Paste'!A61=\"\",\"\",'SD Data Paste'!A61)","v":3},{"$f":"IF('SD Data Paste'!B61=\"\",\"\",'SD Data Paste'!B61)","v":"A"},60,{"$f":"IF('SD Data Paste'!E61=\"\",\"\",'SD Data Paste'!E61)","v":"Palak Mali"},{"$f":"IF('SD Data Paste'!G61=\"\",\"\",'SD Data Paste'!G61)","v":"Suresh Kumar Mali"}]
[{"$f":"IF(Table1[विद्यार्थी का नाम]=\"\",\"\",ROWS($A$1:A61))","v":61},{"$f":"IF('SD Data Paste'!A62=\"\",\"\",'SD Data Paste'!A62)","v":3},{"$f":"IF('SD Data Paste'!B62=\"\",\"\",'SD Data Paste'!B62)","v":"A"},61,{"$f":"IF('SD Data Paste'!E62=\"\",\"\",'SD Data Paste'!E62)","v":"Phoola Lohar"},{"$f":"IF('SD Data Paste'!G62=\"\",\"\",'SD Data Paste'!G62)","v":"Ramesh Lal"}]
[{"$f":"IF(Table1[विद्यार्थी का नाम]=\"\",\"\",ROWS($A$1:A62))","v":62},{"$f":"IF('SD Data Paste'!A63=\"\",\"\",'SD Data Paste'!A63)","v":3},{"$f":"IF('SD Data Paste'!B63=\"\",\"\",'SD Data Paste'!B63)","v":"A"},62,{"$f":"IF('SD Data Paste'!E63=\"\",\"\",'SD Data Paste'!E63)","v":"Priyanka Solanki"},{"$f":"IF('SD Data Paste'!G63=\"\",\"\",'SD Data Paste'!G63)","v":"Kanti Lal Solanki"}]
[{"$f":"IF(Table1[विद्यार्थी का नाम]=\"\",\"\",ROWS($A$1:A63))","v":63},{"$f":"IF('SD Data Paste'!A64=\"\",\"\",'SD Data Paste'!A64)","v":3},{"$f":"IF('SD Data Paste'!B64=\"\",\"\",'SD Data Paste'!B64)","v":"A"},63,{"$f":"IF('SD Data Paste'!E64=\"\",\"\",'SD Data Paste'!E64)","v":"Tejal Mali"},{"$f":"IF('SD Data Paste'!G64=\"\",\"\",'SD Data Paste'!G64)","v":"Ishwar Lal Mali"}]
[{"$f":"IF(Table1[विद्यार्थी का नाम]=\"\",\"\",ROWS($A$1:A64))","v":64},{"$f":"IF('SD Data Paste'!A65=\"\",\"\",'SD Data Paste'!A65)","v":3},{"$f":"IF('SD Data Paste'!B65=\"\",\"\",'SD Data Paste'!B65)","v":"A"},64,{"$f":"IF('SD Data Paste'!E65=\"\",\"\",'SD Data Paste'!E65)","v":"Viraj Sen"},{"$f":"IF('SD Data Paste'!G65=\"\",\"\",'SD Data Paste'!G65)","v":"Mukesh Sen"}]
[{"$f":"IF(Table1[विद्यार्थी का नाम]=\"\",\"\",ROWS($A$1:A65))","v":65},{"$f":"IF('SD Data Paste'!A66=\"\",\"\",'SD Data Paste'!A66)","v":3},{"$f":"IF('SD Data Paste'!B66=\"\",\"\",'SD Data Paste'!B66)","v":"A"},65,{"$f":"IF('SD Data Paste'!E66=\"\",\"\",'SD Data Paste'!E66)","v":"Vishal Mali"},{"$f":"IF('SD Data Paste'!G66=\"\",\"\",'SD Data Paste'!G66)","v":"Vinod Kumar Mali"}]
[{"$f":"IF(Table1[विद्यार्थी का नाम]=\"\",\"\",ROWS($A$1:A66))","v":66},{"$f":"IF('SD Data Paste'!A67=\"\",\"\",'SD Data Paste'!A67)","v":3},{"$f":"IF('SD Data Paste'!B67=\"\",\"\",'SD Data Paste'!B67)","v":"A"},66,{"$f":"IF('SD Data Paste'!E67=\"\",\"\",'SD Data Paste'!E67)","v":"Yashwant Kumar Vaishnav"},{"$f":"IF('SD Data Paste'!G67=\"\",\"\",'SD Data Paste'!G67)","v":"Vinod Kumar Vaishnav"}]
[{"$f":"IF(Table1[विद्यार्थी का नाम]=\"\",\"\",ROWS($A$1:A67))","v":67},{"$f":"IF('SD Data Paste'!A68=\"\",\"\",'SD Data Paste'!A68)","v":4},{"$f":"IF('SD Data Paste'!B68=\"\",\"\",'SD Data Paste'!B68)","v":"A"},{"$f":"IF(D69=\"\",\"\",D69+1)","v":67},{"$f":"IF('SD Data Paste'!E68=\"\",\"\",'SD Data Paste'!E68)","v":"Bharath Mali"},{"$f":"IF('SD Data Paste'!G68=\"\",\"\",'SD Data Paste'!G68)","v":"Kalu Lal Mali"}]
[{"$f":"IF(Table1[विद्यार्थी का नाम]=\"\",\"\",ROWS($A$1:A68))","v":68},{"$f":"IF('SD Data Paste'!A69=\"\",\"\",'SD Data Paste'!A69)","v":4},{"$f":"IF('SD Data Paste'!B69=\"\",\"\",'SD Data Paste'!B69)","v":"A"},68,{"$f":"IF('SD Data Paste'!E69=\"\",\"\",'SD Data Paste'!E69)","v":"Bhupendra Mali"},{"$f":"IF('SD Data Paste'!G69=\"\",\"\",'SD Data Paste'!G69)","v":"Shanti Lal"}]
[{"$f":"IF(Table1[विद्यार्थी का नाम]=\"\",\"\",ROWS($A$1:A69))","v":69},{"$f":"IF('SD Data Paste'!A70=\"\",\"\",'SD Data Paste'!A70)","v":4},{"$f":"IF('SD Data Paste'!B70=\"\",\"\",'SD Data Paste'!B70)","v":"A"},69,{"$f":"IF('SD Data Paste'!E70=\"\",\"\",'SD Data Paste'!E70)","v":"Isika Sen"},{"$f":"IF('SD Data Paste'!G70=\"\",\"\",'SD Data Paste'!G70)","v":"Narendra Kumar Sen"}]
[{"$f":"IF(Table1[विद्यार्थी का नाम]=\"\",\"\",ROWS($A$1:A70))","v":70},{"$f":"IF('SD Data Paste'!A71=\"\",\"\",'SD Data Paste'!A71)","v":4},{"$f":"IF('SD Data Paste'!B71=\"\",\"\",'SD Data Paste'!B71)","v":"A"},70,{"$f":"IF('SD Data Paste'!E71=\"\",\"\",'SD Data Paste'!E71)","v":"JANVI KUMARI"},{"$f":"IF('SD Data Paste'!G71=\"\",\"\",'SD Data Paste'!G71)","v":"ARJUN SINGH RAWAT"}]
[{"$f":"IF(Table1[विद्यार्थी का नाम]=\"\",\"\",ROWS($A$1:A71))","v":71},{"$f":"IF('SD Data Paste'!A72=\"\",\"\",'SD Data Paste'!A72)","v":4},{"$f":"IF('SD Data Paste'!B72=\"\",\"\",'SD Data Paste'!B72)","v":"A"},71,{"$f":"IF('SD Data Paste'!E72=\"\",\"\",'SD Data Paste'!E72)","v":"JEEVIKA MALI"},{"$f":"IF('SD Data Paste'!G72=\"\",\"\",'SD Data Paste'!G72)","v":"AMBA LAL MALI"}]
[{"$f":"IF(Table1[विद्यार्थी का नाम]=\"\",\"\",ROWS($A$1:A72))","v":72},{"$f":"IF('SD Data Paste'!A73=\"\",\"\",'SD Data Paste'!A73)","v":4},{"$f":"IF('SD Data Paste'!B73=\"\",\"\",'SD Data Paste'!B73)","v":"A"},72,{"$f":"IF('SD Data Paste'!E73=\"\",\"\",'SD Data Paste'!E73)","v":"KHUSHWANT PRAJAPAT"},{"$f":"IF('SD Data Paste'!G73=\"\",\"\",'SD Data Paste'!G73)","v":"LAXMAN LAL PRAJAPAT"}]
[{"$f":"IF(Table1[विद्यार्थी का नाम]=\"\",\"\",ROWS($A$1:A73))","v":73},{"$f":"IF('SD Data Paste'!A74=\"\",\"\",'SD Data Paste'!A74)","v":4},{"$f":"IF('SD Data Paste'!B74=\"\",\"\",'SD Data Paste'!B74)","v":"A"},73,{"$f":"IF('SD Data Paste'!E74=\"\",\"\",'SD Data Paste'!E74)","v":"Komal"},{"$f":"IF('SD Data Paste'!G74=\"\",\"\",'SD Data Paste'!G74)","v":"Devi Lal Mali"}]
[{"$f":"IF(Table1[विद्यार्थी का नाम]=\"\",\"\",ROWS($A$1:A74))","v":74},{"$f":"IF('SD Data Paste'!A75=\"\",\"\",'SD Data Paste'!A75)","v":4},{"$f":"IF('SD Data Paste'!B75=\"\",\"\",'SD Data Paste'!B75)","v":"A"},74,{"$f":"IF('SD Data Paste'!E75=\"\",\"\",'SD Data Paste'!E75)","v":"LALITA LOHAR"},{"$f":"IF('SD Data Paste'!G75=\"\",\"\",'SD Data Paste'!G75)","v":"SURESH LOHAR"}]
[{"$f":"IF(Table1[विद्यार्थी का नाम]=\"\",\"\",ROWS($A$1:A75))","v":75},{"$f":"IF('SD Data Paste'!A76=\"\",\"\",'SD Data Paste'!A76)","v":4},{"$f":"IF('SD Data Paste'!B76=\"\",\"\",'SD Data Paste'!B76)","v":"A"},75,{"$f":"IF('SD Data Paste'!E76=\"\",\"\",'SD Data Paste'!E76)","v":"LOKENDR PAL SINGH"},{"$f":"IF('SD Data Paste'!G76=\"\",\"\",'SD Data Paste'!G76)","v":"LAL SINGH"}]
[{"$f":"IF(Table1[विद्यार्थी का नाम]=\"\",\"\",ROWS($A$1:A76))","v":76},{"$f":"IF('SD Data Paste'!A77=\"\",\"\",'SD Data Paste'!A77)","v":4},{"$f":"IF('SD Data Paste'!B77=\"\",\"\",'SD Data Paste'!B77)","v":"A"},76,{"$f":"IF('SD Data Paste'!E77=\"\",\"\",'SD Data Paste'!E77)","v":"Manisha Mali"},{"$f":"IF('SD Data Paste'!G77=\"\",\"\",'SD Data Paste'!G77)","v":"Dinesh Mali"}]
[{"$f":"IF(Table1[विद्यार्थी का नाम]=\"\",\"\",ROWS($A$1:A77))","v":77},{"$f":"IF('SD Data Paste'!A78=\"\",\"\",'SD Data Paste'!A78)","v":4},{"$f":"IF('SD Data Paste'!B78=\"\",\"\",'SD Data Paste'!B78)","v":"A"},77,{"$f":"IF('SD Data Paste'!E78=\"\",\"\",'SD Data Paste'!E78)","v":"NARGIS BANU"},{"$f":"IF('SD Data Paste'!G78=\"\",\"\",'SD Data Paste'!G78)","v":"NIYAAZ MOHAMMAD"}]
[{"$f":"IF(Table1[विद्यार्थी का नाम]=\"\",\"\",ROWS($A$1:A78))","v":78},{"$f":"IF('SD Data Paste'!A79=\"\",\"\",'SD Data Paste'!A79)","v":4},{"$f":"IF('SD Data Paste'!B79=\"\",\"\",'SD Data Paste'!B79)","v":"A"},78,{"$f":"IF('SD Data Paste'!E79=\"\",\"\",'SD Data Paste'!E79)","v":"Payal Mali"},{"$f":"IF('SD Data Paste'!G79=\"\",\"\",'SD Data Paste'!G79)","v":"Mahendra Kumar Mali"}]
[{"$f":"IF(Table1[विद्यार्थी का नाम]=\"\",\"\",ROWS($A$1:A79))","v":79},{"$f":"IF('SD Data Paste'!A80=\"\",\"\",'SD Data Paste'!A80)","v":4},{"$f":"IF('SD Data Paste'!B80=\"\",\"\",'SD Data Paste'!B80)","v":"A"},79,{"$f":"IF('SD Data Paste'!E80=\"\",\"\",'SD Data Paste'!E80)","v":"Pooja"},{"$f":"IF('SD Data Paste'!G80=\"\",\"\",'SD Data Paste'!G80)","v":"Lahri Lal"}]
[{"$f":"IF(Table1[विद्यार्थी का नाम]=\"\",\"\",ROWS($A$1:A80))","v":80},{"$f":"IF('SD Data Paste'!A81=\"\",\"\",'SD Data Paste'!A81)","v":4},{"$f":"IF('SD Data Paste'!B81=\"\",\"\",'SD Data Paste'!B81)","v":"A"},80,{"$f":"IF('SD Data Paste'!E81=\"\",\"\",'SD Data Paste'!E81)","v":"Praveen Mali"},{"$f":"IF('SD Data Paste'!G81=\"\",\"\",'SD Data Paste'!G81)","v":"Roshan Lal Mali"}]
[{"$f":"IF(Table1[विद्यार्थी का नाम]=\"\",\"\",ROWS($A$1:A81))","v":81},{"$f":"IF('SD Data Paste'!A82=\"\",\"\",'SD Data Paste'!A82)","v":4},{"$f":"IF('SD Data Paste'!B82=\"\",\"\",'SD Data Paste'!B82)","v":"A"},81,{"$f":"IF('SD Data Paste'!E82=\"\",\"\",'SD Data Paste'!E82)","v":"Shibjeet Sarakar"},{"$f":"IF('SD Data Paste'!G82=\"\",\"\",'SD Data Paste'!G82)","v":"Prabhas Sarakar"}]
[{"$f":"IF(Table1[विद्यार्थी का नाम]=\"\",\"\",ROWS($A$1:A82))","v":82},{"$f":"IF('SD Data Paste'!A83=\"\",\"\",'SD Data Paste'!A83)","v":4},{"$f":"IF('SD Data Paste'!B83=\"\",\"\",'SD Data Paste'!B83)","v":"A"},82,{"$f":"IF('SD Data Paste'!E83=\"\",\"\",'SD Data Paste'!E83)","v":"Shrvan Kumar Sen"},{"$f":"IF('SD Data Paste'!G83=\"\",\"\",'SD Data Paste'!G83)","v":"Ganpat Lal Sen"}]
[{"$f":"IF(Table1[विद्यार्थी का नाम]=\"\",\"\",ROWS($A$1:A83))","v":83},{"$f":"IF('SD Data Paste'!A84=\"\",\"\",'SD Data Paste'!A84)","v":4},{"$f":"IF('SD Data Paste'!B84=\"\",\"\",'SD Data Paste'!B84)","v":"A"},83,{"$f":"IF('SD Data Paste'!E84=\"\",\"\",'SD Data Paste'!E84)","v":"Tanisha Mali"},{"$f":"IF('SD Data Paste'!G84=\"\",\"\",'SD Data Paste'!G84)","v":"Omprakash Mali"}]
[{"$f":"IF(Table1[विद्यार्थी का नाम]=\"\",\"\",ROWS($A$1:A84))","v":84},{"$f":"IF('SD Data Paste'!A85=\"\",\"\",'SD Data Paste'!A85)","v":4},{"$f":"IF('SD Data Paste'!B85=\"\",\"\",'SD Data Paste'!B85)","v":"A"},84,{"$f":"IF('SD Data Paste'!E85=\"\",\"\",'SD Data Paste'!E85)","v":"Vijendra Mali"},{"$f":"IF('SD Data Paste'!G85=\"\",\"\",'SD Data Paste'!G85)","v":"Ladu Lal Mali"}]
[{"$f":"IF(Table1[विद्यार्थी का नाम]=\"\",\"\",ROWS($A$1:A85))","v":85},{"$f":"IF('SD Data Paste'!A86=\"\",\"\",'SD Data Paste'!A86)","v":4},{"$f":"IF('SD Data Paste'!B86=\"\",\"\",'SD Data Paste'!B86)","v":"A"},85,{"$f":"IF('SD Data Paste'!E86=\"\",\"\",'SD Data Paste'!E86)","v":"Virat Mali"},{"$f":"IF('SD Data Paste'!G86=\"\",\"\",'SD Data Paste'!G86)","v":"Jagdish Mali"}]
[{"$f":"IF(Table1[विद्यार्थी का नाम]=\"\",\"\",ROWS($A$1:A86))","v":86},{"$f":"IF('SD Data Paste'!A87=\"\",\"\",'SD Data Paste'!A87)","v":5},{"$f":"IF('SD Data Paste'!B87=\"\",\"\",'SD Data Paste'!B87)","v":"A"},86,{"$f":"IF('SD Data Paste'!E87=\"\",\"\",'SD Data Paste'!E87)","v":"AARUSHI MALI"},{"$f":"IF('SD Data Paste'!G87=\"\",\"\",'SD Data Paste'!G87)","v":"KAILASH CHANDRA MALI"}]
[{"$f":"IF(Table1[विद्यार्थी का नाम]=\"\",\"\",ROWS($A$1:A87))","v":87},{"$f":"IF('SD Data Paste'!A88=\"\",\"\",'SD Data Paste'!A88)","v":5},{"$f":"IF('SD Data Paste'!B88=\"\",\"\",'SD Data Paste'!B88)","v":"A"},87,{"$f":"IF('SD Data Paste'!E88=\"\",\"\",'SD Data Paste'!E88)","v":"Bhavesh Kumar Sen"},{"$f":"IF('SD Data Paste'!G88=\"\",\"\",'SD Data Paste'!G88)","v":"Mukesh Kumar Sen"}]
[{"$f":"IF(Table1[विद्यार्थी का नाम]=\"\",\"\",ROWS($A$1:A88))","v":88},{"$f":"IF('SD Data Paste'!A89=\"\",\"\",'SD Data Paste'!A89)","v":5},{"$f":"IF('SD Data Paste'!B89=\"\",\"\",'SD Data Paste'!B89)","v":"A"},88,{"$f":"IF('SD Data Paste'!E89=\"\",\"\",'SD Data Paste'!E89)","v":"BHAVESH LOHAR"},{"$f":"IF('SD Data Paste'!G89=\"\",\"\",'SD Data Paste'!G89)","v":"GOVIND LAL LOHAR"}]
[{"$f":"IF(Table1[विद्यार्थी का नाम]=\"\",\"\",ROWS($A$1:A89))","v":89},{"$f":"IF('SD Data Paste'!A90=\"\",\"\",'SD Data Paste'!A90)","v":5},{"$f":"IF('SD Data Paste'!B90=\"\",\"\",'SD Data Paste'!B90)","v":"A"},89,{"$f":"IF('SD Data Paste'!E90=\"\",\"\",'SD Data Paste'!E90)","v":"BHAVESH MALI"},{"$f":"IF('SD Data Paste'!G90=\"\",\"\",'SD Data Paste'!G90)","v":"KAILASH MALI"}]
[{"$f":"IF(Table1[विद्यार्थी का नाम]=\"\",\"\",ROWS($A$1:A90))","v":90},{"$f":"IF('SD Data Paste'!A91=\"\",\"\",'SD Data Paste'!A91)","v":5},{"$f":"IF('SD Data Paste'!B91=\"\",\"\",'SD Data Paste'!B91)","v":"A"},90,{"$f":"IF('SD Data Paste'!E91=\"\",\"\",'SD Data Paste'!E91)","v":"BHAVESH MALI"},{"$f":"IF('SD Data Paste'!G91=\"\",\"\",'SD Data Paste'!G91)","v":"BHANWAR LAL MALI"}]
[{"$f":"IF(Table1[विद्यार्थी का नाम]=\"\",\"\",ROWS($A$1:A91))","v":91},{"$f":"IF('SD Data Paste'!A92=\"\",\"\",'SD Data Paste'!A92)","v":5},{"$f":"IF('SD Data Paste'!B92=\"\",\"\",'SD Data Paste'!B92)","v":"A"},91,{"$f":"IF('SD Data Paste'!E92=\"\",\"\",'SD Data Paste'!E92)","v":"BHAWESH PRAJAPAT"},{"$f":"IF('SD Data Paste'!G92=\"\",\"\",'SD Data Paste'!G92)","v":"LAXMAN LAL"}]
[{"$f":"IF(Table1[विद्यार्थी का नाम]=\"\",\"\",ROWS($A$1:A92))","v":92},{"$f":"IF('SD Data Paste'!A93=\"\",\"\",'SD Data Paste'!A93)","v":5},{"$f":"IF('SD Data Paste'!B93=\"\",\"\",'SD Data Paste'!B93)","v":"A"},92,{"$f":"IF('SD Data Paste'!E93=\"\",\"\",'SD Data Paste'!E93)","v":"CHETANA TAILOR"},{"$f":"IF('SD Data Paste'!G93=\"\",\"\",'SD Data Paste'!G93)","v":"DEVI LAL"}]
[{"$f":"IF(Table1[विद्यार्थी का नाम]=\"\",\"\",ROWS($A$1:A93))","v":93},{"$f":"IF('SD Data Paste'!A94=\"\",\"\",'SD Data Paste'!A94)","v":5},{"$f":"IF('SD Data Paste'!B94=\"\",\"\",'SD Data Paste'!B94)","v":"A"},93,{"$f":"IF('SD Data Paste'!E94=\"\",\"\",'SD Data Paste'!E94)","v":"Kanhaiya Sukhwal"},{"$f":"IF('SD Data Paste'!G94=\"\",\"\",'SD Data Paste'!G94)","v":"Satya Narayan Sukhwal"}]
[{"$f":"IF(Table1[विद्यार्थी का नाम]=\"\",\"\",ROWS($A$1:A94))","v":94},{"$f":"IF('SD Data Paste'!A95=\"\",\"\",'SD Data Paste'!A95)","v":5},{"$f":"IF('SD Data Paste'!B95=\"\",\"\",'SD Data Paste'!B95)","v":"A"},94,{"$f":"IF('SD Data Paste'!E95=\"\",\"\",'SD Data Paste'!E95)","v":"Kavyansh Singh Panvar"},{"$f":"IF('SD Data Paste'!G95=\"\",\"\",'SD Data Paste'!G95)","v":"Karan Singh"}]
[{"$f":"IF(Table1[विद्यार्थी का नाम]=\"\",\"\",ROWS($A$1:A95))","v":95},{"$f":"IF('SD Data Paste'!A96=\"\",\"\",'SD Data Paste'!A96)","v":5},{"$f":"IF('SD Data Paste'!B96=\"\",\"\",'SD Data Paste'!B96)","v":"A"},95,{"$f":"IF('SD Data Paste'!E96=\"\",\"\",'SD Data Paste'!E96)","v":"Khushal Prajapat"},{"$f":"IF('SD Data Paste'!G96=\"\",\"\",'SD Data Paste'!G96)","v":"Dinesh Prajapat"}]
[{"$f":"IF(Table1[विद्यार्थी का नाम]=\"\",\"\",ROWS($A$1:A96))","v":96},{"$f":"IF('SD Data Paste'!A97=\"\",\"\",'SD Data Paste'!A97)","v":5},{"$f":"IF('SD Data Paste'!B97=\"\",\"\",'SD Data Paste'!B97)","v":"A"},96,{"$f":"IF('SD Data Paste'!E97=\"\",\"\",'SD Data Paste'!E97)","v":"KHUSHI LOHAR"},{"$f":"IF('SD Data Paste'!G97=\"\",\"\",'SD Data Paste'!G97)","v":"BHAWER LAL"}]
[{"$f":"IF(Table1[विद्यार्थी का नाम]=\"\",\"\",ROWS($A$1:A97))","v":97},{"$f":"IF('SD Data Paste'!A98=\"\",\"\",'SD Data Paste'!A98)","v":5},{"$f":"IF('SD Data Paste'!B98=\"\",\"\",'SD Data Paste'!B98)","v":"A"},97,{"$f":"IF('SD Data Paste'!E98=\"\",\"\",'SD Data Paste'!E98)","v":"KRISHNA KUMARI"},{"$f":"IF('SD Data Paste'!G98=\"\",\"\",'SD Data Paste'!G98)","v":"VIJAY SINGH"}]
[{"$f":"IF(Table1[विद्यार्थी का नाम]=\"\",\"\",ROWS($A$1:A98))","v":98},{"$f":"IF('SD Data Paste'!A99=\"\",\"\",'SD Data Paste'!A99)","v":5},{"$f":"IF('SD Data Paste'!B99=\"\",\"\",'SD Data Paste'!B99)","v":"A"},98,{"$f":"IF('SD Data Paste'!E99=\"\",\"\",'SD Data Paste'!E99)","v":"Mayank Sen"},{"$f":"IF('SD Data Paste'!G99=\"\",\"\",'SD Data Paste'!G99)","v":"Lalit Kumar Sen"}]
[{"$f":"IF(Table1[विद्यार्थी का नाम]=\"\",\"\",ROWS($A$1:A99))","v":99},{"$f":"IF('SD Data Paste'!A100=\"\",\"\",'SD Data Paste'!A100)","v":5},{"$f":"IF('SD Data Paste'!B100=\"\",\"\",'SD Data Paste'!B100)","v":"A"},99,{"$f":"IF('SD Data Paste'!E100=\"\",\"\",'SD Data Paste'!E100)","v":"Niharika"},{"$f":"IF('SD Data Paste'!G100=\"\",\"\",'SD Data Paste'!G100)","v":"Kishan Lal"}]
[{"$f":"IF(Table1[विद्यार्थी का नाम]=\"\",\"\",ROWS($A$1:A100))","v":100},{"$f":"IF('SD Data Paste'!A101=\"\",\"\",'SD Data Paste'!A101)","v":5},{"$f":"IF('SD Data Paste'!B101=\"\",\"\",'SD Data Paste'!B101)","v":"A"},100,{"$f":"IF('SD Data Paste'!E101=\"\",\"\",'SD Data Paste'!E101)","v":"NIRMA MALI"},{"$f":"IF('SD Data Paste'!G101=\"\",\"\",'SD Data Paste'!G101)","v":"KANARAM MALI"}]
[{"$f":"IF(Table1[विद्यार्थी का नाम]=\"\",\"\",ROWS($A$1:A101))","v":101},{"$f":"IF('SD Data Paste'!A102=\"\",\"\",'SD Data Paste'!A102)","v":5},{"$f":"IF('SD Data Paste'!B102=\"\",\"\",'SD Data Paste'!B102)","v":"A"},101,{"$f":"IF('SD Data Paste'!E102=\"\",\"\",'SD Data Paste'!E102)","v":"Pooja Lohar"},{"$f":"IF('SD Data Paste'!G102=\"\",\"\",'SD Data Paste'!G102)","v":"Sohan Lal"}]
[{"$f":"IF(Table1[विद्यार्थी का नाम]=\"\",\"\",ROWS($A$1:A102))","v":102},{"$f":"IF('SD Data Paste'!A103=\"\",\"\",'SD Data Paste'!A103)","v":5},{"$f":"IF('SD Data Paste'!B103=\"\",\"\",'SD Data Paste'!B103)","v":"A"},102,{"$f":"IF('SD Data Paste'!E103=\"\",\"\",'SD Data Paste'!E103)","v":"POONAM MALI"},{"$f":"IF('SD Data Paste'!G103=\"\",\"\",'SD Data Paste'!G103)","v":"RAMESH MALI"}]
[{"$f":"IF(Table1[विद्यार्थी का नाम]=\"\",\"\",ROWS($A$1:A103))","v":103},{"$f":"IF('SD Data Paste'!A104=\"\",\"\",'SD Data Paste'!A104)","v":5},{"$f":"IF('SD Data Paste'!B104=\"\",\"\",'SD Data Paste'!B104)","v":"A"},103,{"$f":"IF('SD Data Paste'!E104=\"\",\"\",'SD Data Paste'!E104)","v":"Poornima Chouhan"},{"$f":"IF('SD Data Paste'!G104=\"\",\"\",'SD Data Paste'!G104)","v":"Pratap Singh Chouhan"}]
[{"$f":"IF(Table1[विद्यार्थी का नाम]=\"\",\"\",ROWS($A$1:A104))","v":104},{"$f":"IF('SD Data Paste'!A105=\"\",\"\",'SD Data Paste'!A105)","v":5},{"$f":"IF('SD Data Paste'!B105=\"\",\"\",'SD Data Paste'!B105)","v":"A"},104,{"$f":"IF('SD Data Paste'!E105=\"\",\"\",'SD Data Paste'!E105)","v":"Praveen Prajapat"},{"$f":"IF('SD Data Paste'!G105=\"\",\"\",'SD Data Paste'!G105)","v":"Ashok Prajapat"}]
[{"$f":"IF(Table1[विद्यार्थी का नाम]=\"\",\"\",ROWS($A$1:A105))","v":105},{"$f":"IF('SD Data Paste'!A106=\"\",\"\",'SD Data Paste'!A106)","v":5},{"$f":"IF('SD Data Paste'!B106=\"\",\"\",'SD Data Paste'!B106)","v":"A"},105,{"$f":"IF('SD Data Paste'!E106=\"\",\"\",'SD Data Paste'!E106)","v":"SANJANA MALI"},{"$f":"IF('SD Data Paste'!G106=\"\",\"\",'SD Data Paste'!G106)","v":"AMBA LAL MALI"}]
[{"$f":"IF(Table1[विद्यार्थी का नाम]=\"\",\"\",ROWS($A$1:A106))","v":106},{"$f":"IF('SD Data Paste'!A107=\"\",\"\",'SD Data Paste'!A107)","v":5},{"$f":"IF('SD Data Paste'!B107=\"\",\"\",'SD Data Paste'!B107)","v":"A"},106,{"$f":"IF('SD Data Paste'!E107=\"\",\"\",'SD Data Paste'!E107)","v":"Sumitra Mali"},{"$f":"IF('SD Data Paste'!G107=\"\",\"\",'SD Data Paste'!G107)","v":"Madan Lal Mali"}]
[{"$f":"IF(Table1[विद्यार्थी का नाम]=\"\",\"\",ROWS($A$1:A107))","v":107},{"$f":"IF('SD Data Paste'!A108=\"\",\"\",'SD Data Paste'!A108)","v":5},{"$f":"IF('SD Data Paste'!B108=\"\",\"\",'SD Data Paste'!B108)","v":"A"},107,{"$f":"IF('SD Data Paste'!E108=\"\",\"\",'SD Data Paste'!E108)","v":"Yashshree"},{"$f":"IF('SD Data Paste'!G108=\"\",\"\",'SD Data Paste'!G108)","v":"Pannalal"}]
[{"$f":"IF(Table1[विद्यार्थी का नाम]=\"\",\"\",ROWS($A$1:A108))","v":108},{"$f":"IF('SD Data Paste'!A109=\"\",\"\",'SD Data Paste'!A109)","v":6},{"$f":"IF('SD Data Paste'!B109=\"\",\"\",'SD Data Paste'!B109)","v":"A"},108,{"$f":"IF('SD Data Paste'!E109=\"\",\"\",'SD Data Paste'!E109)","v":"AFREEN BANU"},{"$f":"IF('SD Data Paste'!G109=\"\",\"\",'SD Data Paste'!G109)","v":"NIYAAZ MOHAMMAD"}]
[{"$f":"IF(Table1[विद्यार्थी का नाम]=\"\",\"\",ROWS($A$1:A109))","v":109},{"$f":"IF('SD Data Paste'!A110=\"\",\"\",'SD Data Paste'!A110)","v":6},{"$f":"IF('SD Data Paste'!B110=\"\",\"\",'SD Data Paste'!B110)","v":"A"},109,{"$f":"IF('SD Data Paste'!E110=\"\",\"\",'SD Data Paste'!E110)","v":"APSARA BANU"},{"$f":"IF('SD Data Paste'!G110=\"\",\"\",'SD Data Paste'!G110)","v":"TAHIR MOHAMMAD"}]
[{"$f":"IF(Table1[विद्यार्थी का नाम]=\"\",\"\",ROWS($A$1:A110))","v":110},{"$f":"IF('SD Data Paste'!A111=\"\",\"\",'SD Data Paste'!A111)","v":6},{"$f":"IF('SD Data Paste'!B111=\"\",\"\",'SD Data Paste'!B111)","v":"A"},110,{"$f":"IF('SD Data Paste'!E111=\"\",\"\",'SD Data Paste'!E111)","v":"BANTI SINGH"},{"$f":"IF('SD Data Paste'!G111=\"\",\"\",'SD Data Paste'!G111)","v":"MOTI SINGH"}]
[{"$f":"IF(Table1[विद्यार्थी का नाम]=\"\",\"\",ROWS($A$1:A111))","v":111},{"$f":"IF('SD Data Paste'!A112=\"\",\"\",'SD Data Paste'!A112)","v":6},{"$f":"IF('SD Data Paste'!B112=\"\",\"\",'SD Data Paste'!B112)","v":"A"},111,{"$f":"IF('SD Data Paste'!E112=\"\",\"\",'SD Data Paste'!E112)","v":"BHAGYAWATI MALI"},{"$f":"IF('SD Data Paste'!G112=\"\",\"\",'SD Data Paste'!G112)","v":"RAMESH MALI"}]
[{"$f":"IF(Table1[विद्यार्थी का नाम]=\"\",\"\",ROWS($A$1:A112))","v":112},{"$f":"IF('SD Data Paste'!A113=\"\",\"\",'SD Data Paste'!A113)","v":6},{"$f":"IF('SD Data Paste'!B113=\"\",\"\",'SD Data Paste'!B113)","v":"A"},112,{"$f":"IF('SD Data Paste'!E113=\"\",\"\",'SD Data Paste'!E113)","v":"DHARMESH LOHAR"},{"$f":"IF('SD Data Paste'!G113=\"\",\"\",'SD Data Paste'!G113)","v":"BHANWAR LAL"}]
[{"$f":"IF(Table1[विद्यार्थी का नाम]=\"\",\"\",ROWS($A$1:A113))","v":113},{"$f":"IF('SD Data Paste'!A114=\"\",\"\",'SD Data Paste'!A114)","v":6},{"$f":"IF('SD Data Paste'!B114=\"\",\"\",'SD Data Paste'!B114)","v":"A"},113,{"$f":"IF('SD Data Paste'!E114=\"\",\"\",'SD Data Paste'!E114)","v":"JAMANA KUMARI"},{"$f":"IF('SD Data Paste'!G114=\"\",\"\",'SD Data Paste'!G114)","v":"VIJAY SINGH"}]
[{"$f":"IF(Table1[विद्यार्थी का नाम]=\"\",\"\",ROWS($A$1:A114))","v":114},{"$f":"IF('SD Data Paste'!A115=\"\",\"\",'SD Data Paste'!A115)","v":6},{"$f":"IF('SD Data Paste'!B115=\"\",\"\",'SD Data Paste'!B115)","v":"A"},114,{"$f":"IF('SD Data Paste'!E115=\"\",\"\",'SD Data Paste'!E115)","v":"Jitendra Mali"},{"$f":"IF('SD Data Paste'!G115=\"\",\"\",'SD Data Paste'!G115)","v":"Shayam Lal Mali"}]
[{"$f":"IF(Table1[विद्यार्थी का नाम]=\"\",\"\",ROWS($A$1:A115))","v":115},{"$f":"IF('SD Data Paste'!A116=\"\",\"\",'SD Data Paste'!A116)","v":6},{"$f":"IF('SD Data Paste'!B116=\"\",\"\",'SD Data Paste'!B116)","v":"A"},115,{"$f":"IF('SD Data Paste'!E116=\"\",\"\",'SD Data Paste'!E116)","v":"Jyoti Mali"},{"$f":"IF('SD Data Paste'!G116=\"\",\"\",'SD Data Paste'!G116)","v":"Shanti Lal"}]
[{"$f":"IF(Table1[विद्यार्थी का नाम]=\"\",\"\",ROWS($A$1:A116))","v":116},{"$f":"IF('SD Data Paste'!A117=\"\",\"\",'SD Data Paste'!A117)","v":6},{"$f":"IF('SD Data Paste'!B117=\"\",\"\",'SD Data Paste'!B117)","v":"A"},116,{"$f":"IF('SD Data Paste'!E117=\"\",\"\",'SD Data Paste'!E117)","v":"Kushal Prajapat"},{"$f":"IF('SD Data Paste'!G117=\"\",\"\",'SD Data Paste'!G117)","v":"Shanti Lal"}]
[{"$f":"IF(Table1[विद्यार्थी का नाम]=\"\",\"\",ROWS($A$1:A117))","v":117},{"$f":"IF('SD Data Paste'!A118=\"\",\"\",'SD Data Paste'!A118)","v":6},{"$f":"IF('SD Data Paste'!B118=\"\",\"\",'SD Data Paste'!B118)","v":"A"},117,{"$f":"IF('SD Data Paste'!E118=\"\",\"\",'SD Data Paste'!E118)","v":"LAXMI CHOUHAN"},{"$f":"IF('SD Data Paste'!G118=\"\",\"\",'SD Data Paste'!G118)","v":"RAJENDRA SINGH CHOUHAN"}]
[{"$f":"IF(Table1[विद्यार्थी का नाम]=\"\",\"\",ROWS($A$1:A118))","v":118},{"$f":"IF('SD Data Paste'!A119=\"\",\"\",'SD Data Paste'!A119)","v":6},{"$f":"IF('SD Data Paste'!B119=\"\",\"\",'SD Data Paste'!B119)","v":"A"},118,{"$f":"IF('SD Data Paste'!E119=\"\",\"\",'SD Data Paste'!E119)","v":"MAHINUR BANU"},{"$f":"IF('SD Data Paste'!G119=\"\",\"\",'SD Data Paste'!G119)","v":"JAMIL MOHAMMAD"}]
[{"$f":"IF(Table1[विद्यार्थी का नाम]=\"\",\"\",ROWS($A$1:A119))","v":119},{"$f":"IF('SD Data Paste'!A120=\"\",\"\",'SD Data Paste'!A120)","v":6},{"$f":"IF('SD Data Paste'!B120=\"\",\"\",'SD Data Paste'!B120)","v":"A"},119,{"$f":"IF('SD Data Paste'!E120=\"\",\"\",'SD Data Paste'!E120)","v":"MAYA MALI"},{"$f":"IF('SD Data Paste'!G120=\"\",\"\",'SD Data Paste'!G120)","v":"DINESH MALI"}]
[{"$f":"IF(Table1[विद्यार्थी का नाम]=\"\",\"\",ROWS($A$1:A120))","v":120},{"$f":"IF('SD Data Paste'!A121=\"\",\"\",'SD Data Paste'!A121)","v":6},{"$f":"IF('SD Data Paste'!B121=\"\",\"\",'SD Data Paste'!B121)","v":"A"},120,{"$f":"IF('SD Data Paste'!E121=\"\",\"\",'SD Data Paste'!E121)","v":"MOHAMMAD BABAR"},{"$f":"IF('SD Data Paste'!G121=\"\",\"\",'SD Data Paste'!G121)","v":"MUJJAMIL HUSAIN"}]
[{"$f":"IF(Table1[विद्यार्थी का नाम]=\"\",\"\",ROWS($A$1:A121))","v":121},{"$f":"IF('SD Data Paste'!A122=\"\",\"\",'SD Data Paste'!A122)","v":6},{"$f":"IF('SD Data Paste'!B122=\"\",\"\",'SD Data Paste'!B122)","v":"A"},121,{"$f":"IF('SD Data Paste'!E122=\"\",\"\",'SD Data Paste'!E122)","v":"Mohammad Hussain"},{"$f":"IF('SD Data Paste'!G122=\"\",\"\",'SD Data Paste'!G122)","v":"Rashid Mohammad"}]
[{"$f":"IF(Table1[विद्यार्थी का नाम]=\"\",\"\",ROWS($A$1:A122))","v":122},{"$f":"IF('SD Data Paste'!A123=\"\",\"\",'SD Data Paste'!A123)","v":6},{"$f":"IF('SD Data Paste'!B123=\"\",\"\",'SD Data Paste'!B123)","v":"A"},122,{"$f":"IF('SD Data Paste'!E123=\"\",\"\",'SD Data Paste'!E123)","v":"PHOOLWANTI REGAR"},{"$f":"IF('SD Data Paste'!G123=\"\",\"\",'SD Data Paste'!G123)","v":"LAXMAN REGAR"}]
[{"$f":"IF(Table1[विद्यार्थी का नाम]=\"\",\"\",ROWS($A$1:A123))","v":123},{"$f":"IF('SD Data Paste'!A124=\"\",\"\",'SD Data Paste'!A124)","v":6},{"$f":"IF('SD Data Paste'!B124=\"\",\"\",'SD Data Paste'!B124)","v":"A"},123,{"$f":"IF('SD Data Paste'!E124=\"\",\"\",'SD Data Paste'!E124)","v":"PREM SINGH"},{"$f":"IF('SD Data Paste'!G124=\"\",\"\",'SD Data Paste'!G124)","v":"LAL SINGH"}]
[{"$f":"IF(Table1[विद्यार्थी का नाम]=\"\",\"\",ROWS($A$1:A124))","v":124},{"$f":"IF('SD Data Paste'!A125=\"\",\"\",'SD Data Paste'!A125)","v":6},{"$f":"IF('SD Data Paste'!B125=\"\",\"\",'SD Data Paste'!B125)","v":"A"},124,{"$f":"IF('SD Data Paste'!E125=\"\",\"\",'SD Data Paste'!E125)","v":"PRIYA MALI"},{"$f":"IF('SD Data Paste'!G125=\"\",\"\",'SD Data Paste'!G125)","v":"KALU LAL"}]
[{"$f":"IF(Table1[विद्यार्थी का नाम]=\"\",\"\",ROWS($A$1:A125))","v":125},{"$f":"IF('SD Data Paste'!A126=\"\",\"\",'SD Data Paste'!A126)","v":6},{"$f":"IF('SD Data Paste'!B126=\"\",\"\",'SD Data Paste'!B126)","v":"A"},125,{"$f":"IF('SD Data Paste'!E126=\"\",\"\",'SD Data Paste'!E126)","v":"Rahul Lohar"},{"$f":"IF('SD Data Paste'!G126=\"\",\"\",'SD Data Paste'!G126)","v":"Girdhari Lal"}]
[{"$f":"IF(Table1[विद्यार्थी का नाम]=\"\",\"\",ROWS($A$1:A126))","v":126},{"$f":"IF('SD Data Paste'!A127=\"\",\"\",'SD Data Paste'!A127)","v":6},{"$f":"IF('SD Data Paste'!B127=\"\",\"\",'SD Data Paste'!B127)","v":"A"},126,{"$f":"IF('SD Data Paste'!E127=\"\",\"\",'SD Data Paste'!E127)","v":"Shubh Ved"},{"$f":"IF('SD Data Paste'!G127=\"\",\"\",'SD Data Paste'!G127)","v":"Mukesh Ved"}]
[{"$f":"IF(Table1[विद्यार्थी का नाम]=\"\",\"\",ROWS($A$1:A127))","v":127},{"$f":"IF('SD Data Paste'!A128=\"\",\"\",'SD Data Paste'!A128)","v":6},{"$f":"IF('SD Data Paste'!B128=\"\",\"\",'SD Data Paste'!B128)","v":"A"},127,{"$f":"IF('SD Data Paste'!E128=\"\",\"\",'SD Data Paste'!E128)","v":"Sonu Mali"},{"$f":"IF('SD Data Paste'!G128=\"\",\"\",'SD Data Paste'!G128)","v":"Omprakash Mali"}]
[{"$f":"IF(Table1[विद्यार्थी का नाम]=\"\",\"\",ROWS($A$1:A128))","v":128},{"$f":"IF('SD Data Paste'!A129=\"\",\"\",'SD Data Paste'!A129)","v":6},{"$f":"IF('SD Data Paste'!B129=\"\",\"\",'SD Data Paste'!B129)","v":"A"},128,{"$f":"IF('SD Data Paste'!E129=\"\",\"\",'SD Data Paste'!E129)","v":"VAISHALI KUMARI"},{"$f":"IF('SD Data Paste'!G129=\"\",\"\",'SD Data Paste'!G129)","v":"PREM SINGH"}]
[{"$f":"IF(Table1[विद्यार्थी का नाम]=\"\",\"\",ROWS($A$1:A129))","v":129},{"$f":"IF('SD Data Paste'!A130=\"\",\"\",'SD Data Paste'!A130)","v":6},{"$f":"IF('SD Data Paste'!B130=\"\",\"\",'SD Data Paste'!B130)","v":"A"},129,{"$f":"IF('SD Data Paste'!E130=\"\",\"\",'SD Data Paste'!E130)","v":"Yash Sen"},{"$f":"IF('SD Data Paste'!G130=\"\",\"\",'SD Data Paste'!G130)","v":"Lalit Kumar Sen"}]
[{"$f":"IF(Table1[विद्यार्थी का नाम]=\"\",\"\",ROWS($A$1:A130))","v":130},{"$f":"IF('SD Data Paste'!A131=\"\",\"\",'SD Data Paste'!A131)","v":7},{"$f":"IF('SD Data Paste'!B131=\"\",\"\",'SD Data Paste'!B131)","v":"A"},130,{"$f":"IF('SD Data Paste'!E131=\"\",\"\",'SD Data Paste'!E131)","v":"Abhijeet Sarakar"},{"$f":"IF('SD Data Paste'!G131=\"\",\"\",'SD Data Paste'!G131)","v":"Prabhas Sarakar"}]
[{"$f":"IF(Table1[विद्यार्थी का नाम]=\"\",\"\",ROWS($A$1:A131))","v":131},{"$f":"IF('SD Data Paste'!A132=\"\",\"\",'SD Data Paste'!A132)","v":7},{"$f":"IF('SD Data Paste'!B132=\"\",\"\",'SD Data Paste'!B132)","v":"A"},{"$f":"IF(D133=\"\",\"\",D133+1)","v":131},{"$f":"IF('SD Data Paste'!E132=\"\",\"\",'SD Data Paste'!E132)","v":"ALEENA BANU"},{"$f":"IF('SD Data Paste'!G132=\"\",\"\",'SD Data Paste'!G132)","v":"RAISH HUSEN"}]
[{"$f":"IF(Table1[विद्यार्थी का नाम]=\"\",\"\",ROWS($A$1:A132))","v":132},{"$f":"IF('SD Data Paste'!A133=\"\",\"\",'SD Data Paste'!A133)","v":7},{"$f":"IF('SD Data Paste'!B133=\"\",\"\",'SD Data Paste'!B133)","v":"A"},132,{"$f":"IF('SD Data Paste'!E133=\"\",\"\",'SD Data Paste'!E133)","v":"Bhawani Singh Rathore"},{"$f":"IF('SD Data Paste'!G133=\"\",\"\",'SD Data Paste'!G133)","v":"Prahlad Singh Rathore"}]
[{"$f":"IF(Table1[विद्यार्थी का नाम]=\"\",\"\",ROWS($A$1:A133))","v":133},{"$f":"IF('SD Data Paste'!A134=\"\",\"\",'SD Data Paste'!A134)","v":7},{"$f":"IF('SD Data Paste'!B134=\"\",\"\",'SD Data Paste'!B134)","v":"A"},133,{"$f":"IF('SD Data Paste'!E134=\"\",\"\",'SD Data Paste'!E134)","v":"Bhawesh Regar"},{"$f":"IF('SD Data Paste'!G134=\"\",\"\",'SD Data Paste'!G134)","v":"Bhagwan Lal Regar"}]
[{"$f":"IF(Table1[विद्यार्थी का नाम]=\"\",\"\",ROWS($A$1:A134))","v":134},{"$f":"IF('SD Data Paste'!A135=\"\",\"\",'SD Data Paste'!A135)","v":7},{"$f":"IF('SD Data Paste'!B135=\"\",\"\",'SD Data Paste'!B135)","v":"A"},134,{"$f":"IF('SD Data Paste'!E135=\"\",\"\",'SD Data Paste'!E135)","v":"Chetan Mali"},{"$f":"IF('SD Data Paste'!G135=\"\",\"\",'SD Data Paste'!G135)","v":"Suresh Mali"}]
[{"$f":"IF(Table1[विद्यार्थी का नाम]=\"\",\"\",ROWS($A$1:A135))","v":135},{"$f":"IF('SD Data Paste'!A136=\"\",\"\",'SD Data Paste'!A136)","v":7},{"$f":"IF('SD Data Paste'!B136=\"\",\"\",'SD Data Paste'!B136)","v":"A"},135,{"$f":"IF('SD Data Paste'!E136=\"\",\"\",'SD Data Paste'!E136)","v":"Deepak Regar"},{"$f":"IF('SD Data Paste'!G136=\"\",\"\",'SD Data Paste'!G136)","v":"Jethumal Regar"}]
[{"$f":"IF(Table1[विद्यार्थी का नाम]=\"\",\"\",ROWS($A$1:A136))","v":136},{"$f":"IF('SD Data Paste'!A137=\"\",\"\",'SD Data Paste'!A137)","v":7},{"$f":"IF('SD Data Paste'!B137=\"\",\"\",'SD Data Paste'!B137)","v":"A"},136,{"$f":"IF('SD Data Paste'!E137=\"\",\"\",'SD Data Paste'!E137)","v":"DIMPAL MALI"},{"$f":"IF('SD Data Paste'!G137=\"\",\"\",'SD Data Paste'!G137)","v":"AMBA LAL MALI"}]
[{"$f":"IF(Table1[विद्यार्थी का नाम]=\"\",\"\",ROWS($A$1:A137))","v":137},{"$f":"IF('SD Data Paste'!A138=\"\",\"\",'SD Data Paste'!A138)","v":7},{"$f":"IF('SD Data Paste'!B138=\"\",\"\",'SD Data Paste'!B138)","v":"A"},137,{"$f":"IF('SD Data Paste'!E138=\"\",\"\",'SD Data Paste'!E138)","v":"GAYATRI REGAR"},{"$f":"IF('SD Data Paste'!G138=\"\",\"\",'SD Data Paste'!G138)","v":"LAXMAN LAL REGAR"}]
[{"$f":"IF(Table1[विद्यार्थी का नाम]=\"\",\"\",ROWS($A$1:A138))","v":138},{"$f":"IF('SD Data Paste'!A139=\"\",\"\",'SD Data Paste'!A139)","v":7},{"$f":"IF('SD Data Paste'!B139=\"\",\"\",'SD Data Paste'!B139)","v":"A"},138,{"$f":"IF('SD Data Paste'!E139=\"\",\"\",'SD Data Paste'!E139)","v":"KARAN SINGH"},{"$f":"IF('SD Data Paste'!G139=\"\",\"\",'SD Data Paste'!G139)","v":"ARJUN SINGH"}]
[{"$f":"IF(Table1[विद्यार्थी का नाम]=\"\",\"\",ROWS($A$1:A139))","v":139},{"$f":"IF('SD Data Paste'!A140=\"\",\"\",'SD Data Paste'!A140)","v":7},{"$f":"IF('SD Data Paste'!B140=\"\",\"\",'SD Data Paste'!B140)","v":"A"},139,{"$f":"IF('SD Data Paste'!E140=\"\",\"\",'SD Data Paste'!E140)","v":"Khushi Sen"},{"$f":"IF('SD Data Paste'!G140=\"\",\"\",'SD Data Paste'!G140)","v":"Narendra Kumar Sen"}]
[{"$f":"IF(Table1[विद्यार्थी का नाम]=\"\",\"\",ROWS($A$1:A140))","v":140},{"$f":"IF('SD Data Paste'!A141=\"\",\"\",'SD Data Paste'!A141)","v":7},{"$f":"IF('SD Data Paste'!B141=\"\",\"\",'SD Data Paste'!B141)","v":"A"},140,{"$f":"IF('SD Data Paste'!E141=\"\",\"\",'SD Data Paste'!E141)","v":"KOMAL MALI"},{"$f":"IF('SD Data Paste'!G141=\"\",\"\",'SD Data Paste'!G141)","v":"KALU LAL MALI"}]
[{"$f":"IF(Table1[विद्यार्थी का नाम]=\"\",\"\",ROWS($A$1:A141))","v":141},{"$f":"IF('SD Data Paste'!A142=\"\",\"\",'SD Data Paste'!A142)","v":7},{"$f":"IF('SD Data Paste'!B142=\"\",\"\",'SD Data Paste'!B142)","v":"A"},141,{"$f":"IF('SD Data Paste'!E142=\"\",\"\",'SD Data Paste'!E142)","v":"KULDEEP LOHAR"},{"$f":"IF('SD Data Paste'!G142=\"\",\"\",'SD Data Paste'!G142)","v":"MANGI LAL"}]
[{"$f":"IF(Table1[विद्यार्थी का नाम]=\"\",\"\",ROWS($A$1:A142))","v":142},{"$f":"IF('SD Data Paste'!A143=\"\",\"\",'SD Data Paste'!A143)","v":7},{"$f":"IF('SD Data Paste'!B143=\"\",\"\",'SD Data Paste'!B143)","v":"A"},142,{"$f":"IF('SD Data Paste'!E143=\"\",\"\",'SD Data Paste'!E143)","v":"Mahesh Mali"},{"$f":"IF('SD Data Paste'!G143=\"\",\"\",'SD Data Paste'!G143)","v":"Shyam Lal Mali"}]
[{"$f":"IF(Table1[विद्यार्थी का नाम]=\"\",\"\",ROWS($A$1:A143))","v":143},{"$f":"IF('SD Data Paste'!A144=\"\",\"\",'SD Data Paste'!A144)","v":7},{"$f":"IF('SD Data Paste'!B144=\"\",\"\",'SD Data Paste'!B144)","v":"A"},143,{"$f":"IF('SD Data Paste'!E144=\"\",\"\",'SD Data Paste'!E144)","v":"MANISHA MALI"},{"$f":"IF('SD Data Paste'!G144=\"\",\"\",'SD Data Paste'!G144)","v":"JAGDISH MALI"}]
[{"$f":"IF(Table1[विद्यार्थी का नाम]=\"\",\"\",ROWS($A$1:A144))","v":144},{"$f":"IF('SD Data Paste'!A145=\"\",\"\",'SD Data Paste'!A145)","v":7},{"$f":"IF('SD Data Paste'!B145=\"\",\"\",'SD Data Paste'!B145)","v":"A"},144,{"$f":"IF('SD Data Paste'!E145=\"\",\"\",'SD Data Paste'!E145)","v":"Narpat Singh Ratnawat"},{"$f":"IF('SD Data Paste'!G145=\"\",\"\",'SD Data Paste'!G145)","v":"Sumer Singh Ratnawat"}]
[{"$f":"IF(Table1[विद्यार्थी का नाम]=\"\",\"\",ROWS($A$1:A145))","v":145},{"$f":"IF('SD Data Paste'!A146=\"\",\"\",'SD Data Paste'!A146)","v":7},{"$f":"IF('SD Data Paste'!B146=\"\",\"\",'SD Data Paste'!B146)","v":"A"},145,{"$f":"IF('SD Data Paste'!E146=\"\",\"\",'SD Data Paste'!E146)","v":"NAVED KHAN"},{"$f":"IF('SD Data Paste'!G146=\"\",\"\",'SD Data Paste'!G146)","v":"NAEEM KHAN"}]
[{"$f":"IF(Table1[विद्यार्थी का नाम]=\"\",\"\",ROWS($A$1:A146))","v":146},{"$f":"IF('SD Data Paste'!A147=\"\",\"\",'SD Data Paste'!A147)","v":7},{"$f":"IF('SD Data Paste'!B147=\"\",\"\",'SD Data Paste'!B147)","v":"A"},146,{"$f":"IF('SD Data Paste'!E147=\"\",\"\",'SD Data Paste'!E147)","v":"NAYADA BANU"},{"$f":"IF('SD Data Paste'!G147=\"\",\"\",'SD Data Paste'!G147)","v":"TAHIR MOHAMMAD"}]
[{"$f":"IF(Table1[विद्यार्थी का नाम]=\"\",\"\",ROWS($A$1:A147))","v":147},{"$f":"IF('SD Data Paste'!A148=\"\",\"\",'SD Data Paste'!A148)","v":7},{"$f":"IF('SD Data Paste'!B148=\"\",\"\",'SD Data Paste'!B148)","v":"A"},147,{"$f":"IF('SD Data Paste'!E148=\"\",\"\",'SD Data Paste'!E148)","v":"Neha Vaishnav"},{"$f":"IF('SD Data Paste'!G148=\"\",\"\",'SD Data Paste'!G148)","v":"Vinod Kumar Vaishnav"}]
[{"$f":"IF(Table1[विद्यार्थी का नाम]=\"\",\"\",ROWS($A$1:A148))","v":148},{"$f":"IF('SD Data Paste'!A149=\"\",\"\",'SD Data Paste'!A149)","v":7},{"$f":"IF('SD Data Paste'!B149=\"\",\"\",'SD Data Paste'!B149)","v":"A"},148,{"$f":"IF('SD Data Paste'!E149=\"\",\"\",'SD Data Paste'!E149)","v":"OM PRAKASH MALI"},{"$f":"IF('SD Data Paste'!G149=\"\",\"\",'SD Data Paste'!G149)","v":"BHERU LAL MALI"}]
[{"$f":"IF(Table1[विद्यार्थी का नाम]=\"\",\"\",ROWS($A$1:A149))","v":149},{"$f":"IF('SD Data Paste'!A150=\"\",\"\",'SD Data Paste'!A150)","v":7},{"$f":"IF('SD Data Paste'!B150=\"\",\"\",'SD Data Paste'!B150)","v":"A"},149,{"$f":"IF('SD Data Paste'!E150=\"\",\"\",'SD Data Paste'!E150)","v":"POOJA MALI"},{"$f":"IF('SD Data Paste'!G150=\"\",\"\",'SD Data Paste'!G150)","v":"KAILASH MALI"}]
[{"$f":"IF(Table1[विद्यार्थी का नाम]=\"\",\"\",ROWS($A$1:A150))","v":150},{"$f":"IF('SD Data Paste'!A151=\"\",\"\",'SD Data Paste'!A151)","v":7},{"$f":"IF('SD Data Paste'!B151=\"\",\"\",'SD Data Paste'!B151)","v":"A"},150,{"$f":"IF('SD Data Paste'!E151=\"\",\"\",'SD Data Paste'!E151)","v":"POOJA RAWAT"},{"$f":"IF('SD Data Paste'!G151=\"\",\"\",'SD Data Paste'!G151)","v":"GHISU SINGH RAWAT"}]
[{"$f":"IF(Table1[विद्यार्थी का नाम]=\"\",\"\",ROWS($A$1:A151))","v":151},{"$f":"IF('SD Data Paste'!A152=\"\",\"\",'SD Data Paste'!A152)","v":7},{"$f":"IF('SD Data Paste'!B152=\"\",\"\",'SD Data Paste'!B152)","v":"A"},151,{"$f":"IF('SD Data Paste'!E152=\"\",\"\",'SD Data Paste'!E152)","v":"PRATAP SINGH"},{"$f":"IF('SD Data Paste'!G152=\"\",\"\",'SD Data Paste'!G152)","v":"KHIM SINGH"}]
[{"$f":"IF(Table1[विद्यार्थी का नाम]=\"\",\"\",ROWS($A$1:A152))","v":152},{"$f":"IF('SD Data Paste'!A153=\"\",\"\",'SD Data Paste'!A153)","v":7},{"$f":"IF('SD Data Paste'!B153=\"\",\"\",'SD Data Paste'!B153)","v":"A"},152,{"$f":"IF('SD Data Paste'!E153=\"\",\"\",'SD Data Paste'!E153)","v":"PRAVIN KUMAR KHATIK"},{"$f":"IF('SD Data Paste'!G153=\"\",\"\",'SD Data Paste'!G153)","v":"ARJUN LAL"}]
[{"$f":"IF(Table1[विद्यार्थी का नाम]=\"\",\"\",ROWS($A$1:A153))","v":153},{"$f":"IF('SD Data Paste'!A154=\"\",\"\",'SD Data Paste'!A154)","v":7},{"$f":"IF('SD Data Paste'!B154=\"\",\"\",'SD Data Paste'!B154)","v":"A"},153,{"$f":"IF('SD Data Paste'!E154=\"\",\"\",'SD Data Paste'!E154)","v":"Rahul Jingar"},{"$f":"IF('SD Data Paste'!G154=\"\",\"\",'SD Data Paste'!G154)","v":"Omprakash Jingar"}]
[{"$f":"IF(Table1[विद्यार्थी का नाम]=\"\",\"\",ROWS($A$1:A154))","v":154},{"$f":"IF('SD Data Paste'!A155=\"\",\"\",'SD Data Paste'!A155)","v":7},{"$f":"IF('SD Data Paste'!B155=\"\",\"\",'SD Data Paste'!B155)","v":"A"},154,{"$f":"IF('SD Data Paste'!E155=\"\",\"\",'SD Data Paste'!E155)","v":"RIJA PARVEEN"},{"$f":"IF('SD Data Paste'!G155=\"\",\"\",'SD Data Paste'!G155)","v":"ZUBAIR AHMED"}]
[{"$f":"IF(Table1[विद्यार्थी का नाम]=\"\",\"\",ROWS($A$1:A155))","v":155},{"$f":"IF('SD Data Paste'!A156=\"\",\"\",'SD Data Paste'!A156)","v":7},{"$f":"IF('SD Data Paste'!B156=\"\",\"\",'SD Data Paste'!B156)","v":"A"},155,{"$f":"IF('SD Data Paste'!E156=\"\",\"\",'SD Data Paste'!E156)","v":"SATYAPAL SINGH"},{"$f":"IF('SD Data Paste'!G156=\"\",\"\",'SD Data Paste'!G156)","v":"PREM SINGH"}]
[{"$f":"IF(Table1[विद्यार्थी का नाम]=\"\",\"\",ROWS($A$1:A156))","v":156},{"$f":"IF('SD Data Paste'!A157=\"\",\"\",'SD Data Paste'!A157)","v":7},{"$f":"IF('SD Data Paste'!B157=\"\",\"\",'SD Data Paste'!B157)","v":"A"},156,{"$f":"IF('SD Data Paste'!E157=\"\",\"\",'SD Data Paste'!E157)","v":"SHRAWAN SINGH"},{"$f":"IF('SD Data Paste'!G157=\"\",\"\",'SD Data Paste'!G157)","v":"KHIM SINGH"}]
[{"$f":"IF(Table1[विद्यार्थी का नाम]=\"\",\"\",ROWS($A$1:A157))","v":157},{"$f":"IF('SD Data Paste'!A158=\"\",\"\",'SD Data Paste'!A158)","v":7},{"$f":"IF('SD Data Paste'!B158=\"\",\"\",'SD Data Paste'!B158)","v":"A"},157,{"$f":"IF('SD Data Paste'!E158=\"\",\"\",'SD Data Paste'!E158)","v":"YOGITA VED"},{"$f":"IF('SD Data Paste'!G158=\"\",\"\",'SD Data Paste'!G158)","v":"HARISH VED"}]
[{"$f":"IF(Table1[विद्यार्थी का नाम]=\"\",\"\",ROWS($A$1:A158))","v":158},{"$f":"IF('SD Data Paste'!A159=\"\",\"\",'SD Data Paste'!A159)","v":8},{"$f":"IF('SD Data Paste'!B159=\"\",\"\",'SD Data Paste'!B159)","v":"A"},158,{"$f":"IF('SD Data Paste'!E159=\"\",\"\",'SD Data Paste'!E159)","v":"AAYAN HUSEN"},{"$f":"IF('SD Data Paste'!G159=\"\",\"\",'SD Data Paste'!G159)","v":"RAESH HUSEN"}]
[{"$f":"IF(Table1[विद्यार्थी का नाम]=\"\",\"\",ROWS($A$1:A159))","v":159},{"$f":"IF('SD Data Paste'!A160=\"\",\"\",'SD Data Paste'!A160)","v":8},{"$f":"IF('SD Data Paste'!B160=\"\",\"\",'SD Data Paste'!B160)","v":"A"},159,{"$f":"IF('SD Data Paste'!E160=\"\",\"\",'SD Data Paste'!E160)","v":"Ankit Kumar Prajapat"},{"$f":"IF('SD Data Paste'!G160=\"\",\"\",'SD Data Paste'!G160)","v":"Shanti Lal"}]
[{"$f":"IF(Table1[विद्यार्थी का नाम]=\"\",\"\",ROWS($A$1:A160))","v":160},{"$f":"IF('SD Data Paste'!A161=\"\",\"\",'SD Data Paste'!A161)","v":8},{"$f":"IF('SD Data Paste'!B161=\"\",\"\",'SD Data Paste'!B161)","v":"A"},160,{"$f":"IF('SD Data Paste'!E161=\"\",\"\",'SD Data Paste'!E161)","v":"Ankush Jain"},{"$f":"IF('SD Data Paste'!G161=\"\",\"\",'SD Data Paste'!G161)","v":"Parasmal Jain"}]
[{"$f":"IF(Table1[विद्यार्थी का नाम]=\"\",\"\",ROWS($A$1:A161))","v":161},{"$f":"IF('SD Data Paste'!A162=\"\",\"\",'SD Data Paste'!A162)","v":8},{"$f":"IF('SD Data Paste'!B162=\"\",\"\",'SD Data Paste'!B162)","v":"A"},161,{"$f":"IF('SD Data Paste'!E162=\"\",\"\",'SD Data Paste'!E162)","v":"Bhupendra Mali"},{"$f":"IF('SD Data Paste'!G162=\"\",\"\",'SD Data Paste'!G162)","v":"Prakash Mali"}]
[{"$f":"IF(Table1[विद्यार्थी का नाम]=\"\",\"\",ROWS($A$1:A162))","v":162},{"$f":"IF('SD Data Paste'!A163=\"\",\"\",'SD Data Paste'!A163)","v":8},{"$f":"IF('SD Data Paste'!B163=\"\",\"\",'SD Data Paste'!B163)","v":"A"},162,{"$f":"IF('SD Data Paste'!E163=\"\",\"\",'SD Data Paste'!E163)","v":"Chirag Chouhan"},{"$f":"IF('SD Data Paste'!G163=\"\",\"\",'SD Data Paste'!G163)","v":"Chandra Prakash"}]
[{"$f":"IF(Table1[विद्यार्थी का नाम]=\"\",\"\",ROWS($A$1:A163))","v":163},{"$f":"IF('SD Data Paste'!A164=\"\",\"\",'SD Data Paste'!A164)","v":8},{"$f":"IF('SD Data Paste'!B164=\"\",\"\",'SD Data Paste'!B164)","v":"A"},163,{"$f":"IF('SD Data Paste'!E164=\"\",\"\",'SD Data Paste'!E164)","v":"DEVENDRA KUMAR REGAR"},{"$f":"IF('SD Data Paste'!G164=\"\",\"\",'SD Data Paste'!G164)","v":"SANGRAM LAL REGAR"}]
[{"$f":"IF(Table1[विद्यार्थी का नाम]=\"\",\"\",ROWS($A$1:A164))","v":164},{"$f":"IF('SD Data Paste'!A165=\"\",\"\",'SD Data Paste'!A165)","v":8},{"$f":"IF('SD Data Paste'!B165=\"\",\"\",'SD Data Paste'!B165)","v":"A"},164,{"$f":"IF('SD Data Paste'!E165=\"\",\"\",'SD Data Paste'!E165)","v":"DIMPAL KANWAR"},{"$f":"IF('SD Data Paste'!G165=\"\",\"\",'SD Data Paste'!G165)","v":"BHAGWAT SINGH"}]
[{"$f":"IF(Table1[विद्यार्थी का नाम]=\"\",\"\",ROWS($A$1:A165))","v":165},{"$f":"IF('SD Data Paste'!A166=\"\",\"\",'SD Data Paste'!A166)","v":8},{"$f":"IF('SD Data Paste'!B166=\"\",\"\",'SD Data Paste'!B166)","v":"A"},165,{"$f":"IF('SD Data Paste'!E166=\"\",\"\",'SD Data Paste'!E166)","v":"DIMPAL LUHAR"},{"$f":"IF('SD Data Paste'!G166=\"\",\"\",'SD Data Paste'!G166)","v":"GOVIND LUHAR"}]
[{"$f":"IF(Table1[विद्यार्थी का नाम]=\"\",\"\",ROWS($A$1:A166))","v":166},{"$f":"IF('SD Data Paste'!A167=\"\",\"\",'SD Data Paste'!A167)","v":8},{"$f":"IF('SD Data Paste'!B167=\"\",\"\",'SD Data Paste'!B167)","v":"A"},166,{"$f":"IF('SD Data Paste'!E167=\"\",\"\",'SD Data Paste'!E167)","v":"Goirav Singh Chouhan"},{"$f":"IF('SD Data Paste'!G167=\"\",\"\",'SD Data Paste'!G167)","v":"Mukesh Singh Chouhan"}]
[{"$f":"IF(Table1[विद्यार्थी का नाम]=\"\",\"\",ROWS($A$1:A167))","v":167},{"$f":"IF('SD Data Paste'!A168=\"\",\"\",'SD Data Paste'!A168)","v":8},{"$f":"IF('SD Data Paste'!B168=\"\",\"\",'SD Data Paste'!B168)","v":"A"},167,{"$f":"IF('SD Data Paste'!E168=\"\",\"\",'SD Data Paste'!E168)","v":"HANSRAJ PRAJAPAT"},{"$f":"IF('SD Data Paste'!G168=\"\",\"\",'SD Data Paste'!G168)","v":"HIRA LAL PRAJAPAT"}]
[{"$f":"IF(Table1[विद्यार्थी का नाम]=\"\",\"\",ROWS($A$1:A168))","v":168},{"$f":"IF('SD Data Paste'!A169=\"\",\"\",'SD Data Paste'!A169)","v":8},{"$f":"IF('SD Data Paste'!B169=\"\",\"\",'SD Data Paste'!B169)","v":"A"},168,{"$f":"IF('SD Data Paste'!E169=\"\",\"\",'SD Data Paste'!E169)","v":"HITESH CHANDEL"},{"$f":"IF('SD Data Paste'!G169=\"\",\"\",'SD Data Paste'!G169)","v":"RAJU LAL CHANDEL"}]
[{"$f":"IF(Table1[विद्यार्थी का नाम]=\"\",\"\",ROWS($A$1:A169))","v":169},{"$f":"IF('SD Data Paste'!A170=\"\",\"\",'SD Data Paste'!A170)","v":8},{"$f":"IF('SD Data Paste'!B170=\"\",\"\",'SD Data Paste'!B170)","v":"A"},169,{"$f":"IF('SD Data Paste'!E170=\"\",\"\",'SD Data Paste'!E170)","v":"Hitesh Joshi"},{"$f":"IF('SD Data Paste'!G170=\"\",\"\",'SD Data Paste'!G170)","v":"Tejmal Joshi"}]
[{"$f":"IF(Table1[विद्यार्थी का नाम]=\"\",\"\",ROWS($A$1:A170))","v":170},{"$f":"IF('SD Data Paste'!A171=\"\",\"\",'SD Data Paste'!A171)","v":8},{"$f":"IF('SD Data Paste'!B171=\"\",\"\",'SD Data Paste'!B171)","v":"A"},170,{"$f":"IF('SD Data Paste'!E171=\"\",\"\",'SD Data Paste'!E171)","v":"ISHWAR MALI"},{"$f":"IF('SD Data Paste'!G171=\"\",\"\",'SD Data Paste'!G171)","v":"MOHAN LAL MALI"}]
[{"$f":"IF(Table1[विद्यार्थी का नाम]=\"\",\"\",ROWS($A$1:A171))","v":171},{"$f":"IF('SD Data Paste'!A172=\"\",\"\",'SD Data Paste'!A172)","v":8},{"$f":"IF('SD Data Paste'!B172=\"\",\"\",'SD Data Paste'!B172)","v":"A"},171,{"$f":"IF('SD Data Paste'!E172=\"\",\"\",'SD Data Paste'!E172)","v":"KHUSHBU MALI"},{"$f":"IF('SD Data Paste'!G172=\"\",\"\",'SD Data Paste'!G172)","v":"DINESH MALI"}]
[{"$f":"IF(Table1[विद्यार्थी का नाम]=\"\",\"\",ROWS($A$1:A172))","v":172},{"$f":"IF('SD Data Paste'!A173=\"\",\"\",'SD Data Paste'!A173)","v":8},{"$f":"IF('SD Data Paste'!B173=\"\",\"\",'SD Data Paste'!B173)","v":"A"},172,{"$f":"IF('SD Data Paste'!E173=\"\",\"\",'SD Data Paste'!E173)","v":"KHUSHBU REGAR"},{"$f":"IF('SD Data Paste'!G173=\"\",\"\",'SD Data Paste'!G173)","v":"RAM LAL REGAR"}]
[{"$f":"IF(Table1[विद्यार्थी का नाम]=\"\",\"\",ROWS($A$1:A173))","v":173},{"$f":"IF('SD Data Paste'!A174=\"\",\"\",'SD Data Paste'!A174)","v":8},{"$f":"IF('SD Data Paste'!B174=\"\",\"\",'SD Data Paste'!B174)","v":"A"},173,{"$f":"IF('SD Data Paste'!E174=\"\",\"\",'SD Data Paste'!E174)","v":"KHUSHI SOLANKI"},{"$f":"IF('SD Data Paste'!G174=\"\",\"\",'SD Data Paste'!G174)","v":"KANTI LAL SOLANKI"}]
[{"$f":"IF(Table1[विद्यार्थी का नाम]=\"\",\"\",ROWS($A$1:A174))","v":174},{"$f":"IF('SD Data Paste'!A175=\"\",\"\",'SD Data Paste'!A175)","v":8},{"$f":"IF('SD Data Paste'!B175=\"\",\"\",'SD Data Paste'!B175)","v":"A"},174,{"$f":"IF('SD Data Paste'!E175=\"\",\"\",'SD Data Paste'!E175)","v":"KISHAN MALI"},{"$f":"IF('SD Data Paste'!G175=\"\",\"\",'SD Data Paste'!G175)","v":"RANA JI MALI"}]
[{"$f":"IF(Table1[विद्यार्थी का नाम]=\"\",\"\",ROWS($A$1:A175))","v":175},{"$f":"IF('SD Data Paste'!A176=\"\",\"\",'SD Data Paste'!A176)","v":8},{"$f":"IF('SD Data Paste'!B176=\"\",\"\",'SD Data Paste'!B176)","v":"A"},175,{"$f":"IF('SD Data Paste'!E176=\"\",\"\",'SD Data Paste'!E176)","v":"KOMAL CHAUHAN"},{"$f":"IF('SD Data Paste'!G176=\"\",\"\",'SD Data Paste'!G176)","v":"DEVENDRA SINGH CHAUHAN"}]
[{"$f":"IF(Table1[विद्यार्थी का नाम]=\"\",\"\",ROWS($A$1:A176))","v":176},{"$f":"IF('SD Data Paste'!A177=\"\",\"\",'SD Data Paste'!A177)","v":8},{"$f":"IF('SD Data Paste'!B177=\"\",\"\",'SD Data Paste'!B177)","v":"A"},176,{"$f":"IF('SD Data Paste'!E177=\"\",\"\",'SD Data Paste'!E177)","v":"KRISHNA MALI"},{"$f":"IF('SD Data Paste'!G177=\"\",\"\",'SD Data Paste'!G177)","v":"VINOD MALI"}]
[{"$f":"IF(Table1[विद्यार्थी का नाम]=\"\",\"\",ROWS($A$1:A177))","v":177},{"$f":"IF('SD Data Paste'!A178=\"\",\"\",'SD Data Paste'!A178)","v":8},{"$f":"IF('SD Data Paste'!B178=\"\",\"\",'SD Data Paste'!B178)","v":"A"},177,{"$f":"IF('SD Data Paste'!E178=\"\",\"\",'SD Data Paste'!E178)","v":"Mahadev Mali"},{"$f":"IF('SD Data Paste'!G178=\"\",\"\",'SD Data Paste'!G178)","v":"Suresh Mali"}]
[{"$f":"IF(Table1[विद्यार्थी का नाम]=\"\",\"\",ROWS($A$1:A178))","v":178},{"$f":"IF('SD Data Paste'!A179=\"\",\"\",'SD Data Paste'!A179)","v":8},{"$f":"IF('SD Data Paste'!B179=\"\",\"\",'SD Data Paste'!B179)","v":"A"},178,{"$f":"IF('SD Data Paste'!E179=\"\",\"\",'SD Data Paste'!E179)","v":"Maya Rager"},{"$f":"IF('SD Data Paste'!G179=\"\",\"\",'SD Data Paste'!G179)","v":"Nena Lal Rager"}]
[{"$f":"IF(Table1[विद्यार्थी का नाम]=\"\",\"\",ROWS($A$1:A179))","v":179},{"$f":"IF('SD Data Paste'!A180=\"\",\"\",'SD Data Paste'!A180)","v":8},{"$f":"IF('SD Data Paste'!B180=\"\",\"\",'SD Data Paste'!B180)","v":"A"},179,{"$f":"IF('SD Data Paste'!E180=\"\",\"\",'SD Data Paste'!E180)","v":"NARESH MALI"},{"$f":"IF('SD Data Paste'!G180=\"\",\"\",'SD Data Paste'!G180)","v":"OMPRAKASH MALI"}]
[{"$f":"IF(Table1[विद्यार्थी का नाम]=\"\",\"\",ROWS($A$1:A180))","v":180},{"$f":"IF('SD Data Paste'!A181=\"\",\"\",'SD Data Paste'!A181)","v":8},{"$f":"IF('SD Data Paste'!B181=\"\",\"\",'SD Data Paste'!B181)","v":"A"},180,{"$f":"IF('SD Data Paste'!E181=\"\",\"\",'SD Data Paste'!E181)","v":"Pathan Sijan Azad Khan"},{"$f":"IF('SD Data Paste'!G181=\"\",\"\",'SD Data Paste'!G181)","v":"Azad Khan"}]
[{"$f":"IF(Table1[विद्यार्थी का नाम]=\"\",\"\",ROWS($A$1:A181))","v":181},{"$f":"IF('SD Data Paste'!A182=\"\",\"\",'SD Data Paste'!A182)","v":8},{"$f":"IF('SD Data Paste'!B182=\"\",\"\",'SD Data Paste'!B182)","v":"A"},181,{"$f":"IF('SD Data Paste'!E182=\"\",\"\",'SD Data Paste'!E182)","v":"PAWAN MEWARA"},{"$f":"IF('SD Data Paste'!G182=\"\",\"\",'SD Data Paste'!G182)","v":"GOPI LAL MEWARA"}]
[{"$f":"IF(Table1[विद्यार्थी का नाम]=\"\",\"\",ROWS($A$1:A182))","v":182},{"$f":"IF('SD Data Paste'!A183=\"\",\"\",'SD Data Paste'!A183)","v":8},{"$f":"IF('SD Data Paste'!B183=\"\",\"\",'SD Data Paste'!B183)","v":"A"},182,{"$f":"IF('SD Data Paste'!E183=\"\",\"\",'SD Data Paste'!E183)","v":"Pradeep"},{"$f":"IF('SD Data Paste'!G183=\"\",\"\",'SD Data Paste'!G183)","v":"Rakesh Ved"}]
[{"$f":"IF(Table1[विद्यार्थी का नाम]=\"\",\"\",ROWS($A$1:A183))","v":183},{"$f":"IF('SD Data Paste'!A184=\"\",\"\",'SD Data Paste'!A184)","v":8},{"$f":"IF('SD Data Paste'!B184=\"\",\"\",'SD Data Paste'!B184)","v":"A"},183,{"$f":"IF('SD Data Paste'!E184=\"\",\"\",'SD Data Paste'!E184)","v":"PRAKASH CHAND"},{"$f":"IF('SD Data Paste'!G184=\"\",\"\",'SD Data Paste'!G184)","v":"HARI LAL"}]
[{"$f":"IF(Table1[विद्यार्थी का नाम]=\"\",\"\",ROWS($A$1:A184))","v":184},{"$f":"IF('SD Data Paste'!A185=\"\",\"\",'SD Data Paste'!A185)","v":8},{"$f":"IF('SD Data Paste'!B185=\"\",\"\",'SD Data Paste'!B185)","v":"A"},184,{"$f":"IF('SD Data Paste'!E185=\"\",\"\",'SD Data Paste'!E185)","v":"PREM SINGH RAWAT"},{"$f":"IF('SD Data Paste'!G185=\"\",\"\",'SD Data Paste'!G185)","v":"TRILOK SINGH"}]
[{"$f":"IF(Table1[विद्यार्थी का नाम]=\"\",\"\",ROWS($A$1:A185))","v":185},{"$f":"IF('SD Data Paste'!A186=\"\",\"\",'SD Data Paste'!A186)","v":8},{"$f":"IF('SD Data Paste'!B186=\"\",\"\",'SD Data Paste'!B186)","v":"A"},185,{"$f":"IF('SD Data Paste'!E186=\"\",\"\",'SD Data Paste'!E186)","v":"Prosen Sarkar"},{"$f":"IF('SD Data Paste'!G186=\"\",\"\",'SD Data Paste'!G186)","v":"Prabhas Sarkar"}]
[{"$f":"IF(Table1[विद्यार्थी का नाम]=\"\",\"\",ROWS($A$1:A186))","v":186},{"$f":"IF('SD Data Paste'!A187=\"\",\"\",'SD Data Paste'!A187)","v":8},{"$f":"IF('SD Data Paste'!B187=\"\",\"\",'SD Data Paste'!B187)","v":"A"},186,{"$f":"IF('SD Data Paste'!E187=\"\",\"\",'SD Data Paste'!E187)","v":"RAHUL MALI"},{"$f":"IF('SD Data Paste'!G187=\"\",\"\",'SD Data Paste'!G187)","v":"RANA JI MALI"}]
[{"$f":"IF(Table1[विद्यार्थी का नाम]=\"\",\"\",ROWS($A$1:A187))","v":187},{"$f":"IF('SD Data Paste'!A188=\"\",\"\",'SD Data Paste'!A188)","v":8},{"$f":"IF('SD Data Paste'!B188=\"\",\"\",'SD Data Paste'!B188)","v":"A"},187,{"$f":"IF('SD Data Paste'!E188=\"\",\"\",'SD Data Paste'!E188)","v":"RAJU SINGH"},{"$f":"IF('SD Data Paste'!G188=\"\",\"\",'SD Data Paste'!G188)","v":"BHANWAR SINGH"}]
[{"$f":"IF(Table1[विद्यार्थी का नाम]=\"\",\"\",ROWS($A$1:A188))","v":188},{"$f":"IF('SD Data Paste'!A189=\"\",\"\",'SD Data Paste'!A189)","v":8},{"$f":"IF('SD Data Paste'!B189=\"\",\"\",'SD Data Paste'!B189)","v":"A"},188,{"$f":"IF('SD Data Paste'!E189=\"\",\"\",'SD Data Paste'!E189)","v":"RAKESH SINGH"},{"$f":"IF('SD Data Paste'!G189=\"\",\"\",'SD Data Paste'!G189)","v":"MOTI SINGH"}]
[{"$f":"IF(Table1[विद्यार्थी का नाम]=\"\",\"\",ROWS($A$1:A189))","v":189},{"$f":"IF('SD Data Paste'!A190=\"\",\"\",'SD Data Paste'!A190)","v":8},{"$f":"IF('SD Data Paste'!B190=\"\",\"\",'SD Data Paste'!B190)","v":"A"},189,{"$f":"IF('SD Data Paste'!E190=\"\",\"\",'SD Data Paste'!E190)","v":"Ramesh Chandra Salvi"},{"$f":"IF('SD Data Paste'!G190=\"\",\"\",'SD Data Paste'!G190)","v":"Sohan Lal Salvi"}]
[{"$f":"IF(Table1[विद्यार्थी का नाम]=\"\",\"\",ROWS($A$1:A190))","v":190},{"$f":"IF('SD Data Paste'!A191=\"\",\"\",'SD Data Paste'!A191)","v":8},{"$f":"IF('SD Data Paste'!B191=\"\",\"\",'SD Data Paste'!B191)","v":"A"},190,{"$f":"IF('SD Data Paste'!E191=\"\",\"\",'SD Data Paste'!E191)","v":"REKHA MALI"},{"$f":"IF('SD Data Paste'!G191=\"\",\"\",'SD Data Paste'!G191)","v":"GOPAL MALI"}]
[{"$f":"IF(Table1[विद्यार्थी का नाम]=\"\",\"\",ROWS($A$1:A191))","v":191},{"$f":"IF('SD Data Paste'!A192=\"\",\"\",'SD Data Paste'!A192)","v":8},{"$f":"IF('SD Data Paste'!B192=\"\",\"\",'SD Data Paste'!B192)","v":"A"},191,{"$f":"IF('SD Data Paste'!E192=\"\",\"\",'SD Data Paste'!E192)","v":"SHANKAR LAL GURJAR"},{"$f":"IF('SD Data Paste'!G192=\"\",\"\",'SD Data Paste'!G192)","v":"TILOK GURJAR"}]
[{"$f":"IF(Table1[विद्यार्थी का नाम]=\"\",\"\",ROWS($A$1:A192))","v":192},{"$f":"IF('SD Data Paste'!A193=\"\",\"\",'SD Data Paste'!A193)","v":8},{"$f":"IF('SD Data Paste'!B193=\"\",\"\",'SD Data Paste'!B193)","v":"A"},192,{"$f":"IF('SD Data Paste'!E193=\"\",\"\",'SD Data Paste'!E193)","v":"Sonu Mali"},{"$f":"IF('SD Data Paste'!G193=\"\",\"\",'SD Data Paste'!G193)","v":"Kailash Mali"}]
[{"$f":"IF(Table1[विद्यार्थी का नाम]=\"\",\"\",ROWS($A$1:A193))","v":193},{"$f":"IF('SD Data Paste'!A194=\"\",\"\",'SD Data Paste'!A194)","v":8},{"$f":"IF('SD Data Paste'!B194=\"\",\"\",'SD Data Paste'!B194)","v":"A"},193,{"$f":"IF('SD Data Paste'!E194=\"\",\"\",'SD Data Paste'!E194)","v":"TEJ SINGH"},{"$f":"IF('SD Data Paste'!G194=\"\",\"\",'SD Data Paste'!G194)","v":"NARAYAN SINGH"}]
[{"$f":"IF(Table1[विद्यार्थी का नाम]=\"\",\"\",ROWS($A$1:A194))","v":194},{"$f":"IF('SD Data Paste'!A195=\"\",\"\",'SD Data Paste'!A195)","v":8},{"$f":"IF('SD Data Paste'!B195=\"\",\"\",'SD Data Paste'!B195)","v":"A"},194,{"$f":"IF('SD Data Paste'!E195=\"\",\"\",'SD Data Paste'!E195)","v":"TOKIR"},{"$f":"IF('SD Data Paste'!G195=\"\",\"\",'SD Data Paste'!G195)","v":"TAHIR MOHAMMAD"}]
[{"$f":"IF(Table1[विद्यार्थी का नाम]=\"\",\"\",ROWS($A$1:A195))","v":195},{"$f":"IF('SD Data Paste'!A196=\"\",\"\",'SD Data Paste'!A196)","v":8},{"$f":"IF('SD Data Paste'!B196=\"\",\"\",'SD Data Paste'!B196)","v":"A"},{"$f":"IF(D197=\"\",\"\",D197+1)","v":195},{"$f":"IF('SD Data Paste'!E196=\"\",\"\",'SD Data Paste'!E196)","v":"VARSHA MALI"},{"$f":"IF('SD Data Paste'!G196=\"\",\"\",'SD Data Paste'!G196)","v":"HARISH MALI"}]
[{"$f":"IF(Table1[विद्यार्थी का नाम]=\"\",\"\",ROWS($A$1:A196))","v":196},{"$f":"IF('SD Data Paste'!A197=\"\",\"\",'SD Data Paste'!A197)","v":8},{"$f":"IF('SD Data Paste'!B197=\"\",\"\",'SD Data Paste'!B197)","v":"A"},196,{"$f":"IF('SD Data Paste'!E197=\"\",\"\",'SD Data Paste'!E197)","v":"Yamuna Sukhwal"},{"$f":"IF('SD Data Paste'!G197=\"\",\"\",'SD Data Paste'!G197)","v":"Satya Narayan"}]
[{"$f":"IF(Table1[विद्यार्थी का नाम]=\"\",\"\",ROWS($A$1:A197))","v":197},{"$f":"IF('SD Data Paste'!A198=\"\",\"\",'SD Data Paste'!A198)","v":9},{"$f":"IF('SD Data Paste'!B198=\"\",\"\",'SD Data Paste'!B198)","v":"A"},197,{"$f":"IF('SD Data Paste'!E198=\"\",\"\",'SD Data Paste'!E198)","v":"AFTAB KHAN"},{"$f":"IF('SD Data Paste'!G198=\"\",\"\",'SD Data Paste'!G198)","v":"IRSHAD AHMED"}]
[{"$f":"IF(Table1[विद्यार्थी का नाम]=\"\",\"\",ROWS($A$1:A198))","v":198},{"$f":"IF('SD Data Paste'!A199=\"\",\"\",'SD Data Paste'!A199)","v":9},{"$f":"IF('SD Data Paste'!B199=\"\",\"\",'SD Data Paste'!B199)","v":"A"},198,{"$f":"IF('SD Data Paste'!E199=\"\",\"\",'SD Data Paste'!E199)","v":"Alfej Khan"},{"$f":"IF('SD Data Paste'!G199=\"\",\"\",'SD Data Paste'!G199)","v":"Azad Khan"}]
[{"$f":"IF(Table1[विद्यार्थी का नाम]=\"\",\"\",ROWS($A$1:A199))","v":199},{"$f":"IF('SD Data Paste'!A200=\"\",\"\",'SD Data Paste'!A200)","v":9},{"$f":"IF('SD Data Paste'!B200=\"\",\"\",'SD Data Paste'!B200)","v":"A"},199,{"$f":"IF('SD Data Paste'!E200=\"\",\"\",'SD Data Paste'!E200)","v":"AMRIT RAWAL"},{"$f":"IF('SD Data Paste'!G200=\"\",\"\",'SD Data Paste'!G200)","v":"PARAS RAWAL"}]
[{"$f":"IF(Table1[विद्यार्थी का नाम]=\"\",\"\",ROWS($A$1:A200))","v":200},{"$f":"IF('SD Data Paste'!A201=\"\",\"\",'SD Data Paste'!A201)","v":9},{"$f":"IF('SD Data Paste'!B201=\"\",\"\",'SD Data Paste'!B201)","v":"A"},200,{"$f":"IF('SD Data Paste'!E201=\"\",\"\",'SD Data Paste'!E201)","v":"ANIL KUMAR NAT"},{"$f":"IF('SD Data Paste'!G201=\"\",\"\",'SD Data Paste'!G201)","v":"BHERU LAL NAT"}]
[{"$f":"IF(Table1[विद्यार्थी का नाम]=\"\",\"\",ROWS($A$1:A201))","v":201},{"$f":"IF('SD Data Paste'!A202=\"\",\"\",'SD Data Paste'!A202)","v":9},{"$f":"IF('SD Data Paste'!B202=\"\",\"\",'SD Data Paste'!B202)","v":"A"},201,{"$f":"IF('SD Data Paste'!E202=\"\",\"\",'SD Data Paste'!E202)","v":"ANISH HUSSAIN"},{"$f":"IF('SD Data Paste'!G202=\"\",\"\",'SD Data Paste'!G202)","v":"HAKIM SHA"}]
[{"$f":"IF(Table1[विद्यार्थी का नाम]=\"\",\"\",ROWS($A$1:A202))","v":202},{"$f":"IF('SD Data Paste'!A203=\"\",\"\",'SD Data Paste'!A203)","v":9},{"$f":"IF('SD Data Paste'!B203=\"\",\"\",'SD Data Paste'!B203)","v":"A"},202,{"$f":"IF('SD Data Paste'!E203=\"\",\"\",'SD Data Paste'!E203)","v":"ARJUN LOUHAR"},{"$f":"IF('SD Data Paste'!G203=\"\",\"\",'SD Data Paste'!G203)","v":"DEVI LAL LOUHAR"}]
[{"$f":"IF(Table1[विद्यार्थी का नाम]=\"\",\"\",ROWS($A$1:A203))","v":203},{"$f":"IF('SD Data Paste'!A204=\"\",\"\",'SD Data Paste'!A204)","v":9},{"$f":"IF('SD Data Paste'!B204=\"\",\"\",'SD Data Paste'!B204)","v":"A"},203,{"$f":"IF('SD Data Paste'!E204=\"\",\"\",'SD Data Paste'!E204)","v":"ARVIND KALAL"},{"$f":"IF('SD Data Paste'!G204=\"\",\"\",'SD Data Paste'!G204)","v":"INDRAMAL KALAL"}]
[{"$f":"IF(Table1[विद्यार्थी का नाम]=\"\",\"\",ROWS($A$1:A204))","v":204},{"$f":"IF('SD Data Paste'!A205=\"\",\"\",'SD Data Paste'!A205)","v":9},{"$f":"IF('SD Data Paste'!B205=\"\",\"\",'SD Data Paste'!B205)","v":"A"},204,{"$f":"IF('SD Data Paste'!E205=\"\",\"\",'SD Data Paste'!E205)","v":"BABU SINGH"},{"$f":"IF('SD Data Paste'!G205=\"\",\"\",'SD Data Paste'!G205)","v":"LAXMAN SINGH"}]
[{"$f":"IF(Table1[विद्यार्थी का नाम]=\"\",\"\",ROWS($A$1:A205))","v":205},{"$f":"IF('SD Data Paste'!A206=\"\",\"\",'SD Data Paste'!A206)","v":9},{"$f":"IF('SD Data Paste'!B206=\"\",\"\",'SD Data Paste'!B206)","v":"A"},205,{"$f":"IF('SD Data Paste'!E206=\"\",\"\",'SD Data Paste'!E206)","v":"BHAIRU SINGH"},{"$f":"IF('SD Data Paste'!G206=\"\",\"\",'SD Data Paste'!G206)","v":"GHEESA SINGH"}]
[{"$f":"IF(Table1[विद्यार्थी का नाम]=\"\",\"\",ROWS($A$1:A206))","v":206},{"$f":"IF('SD Data Paste'!A207=\"\",\"\",'SD Data Paste'!A207)","v":9},{"$f":"IF('SD Data Paste'!B207=\"\",\"\",'SD Data Paste'!B207)","v":"A"},206,{"$f":"IF('SD Data Paste'!E207=\"\",\"\",'SD Data Paste'!E207)","v":"BHAIRU SINGH"},{"$f":"IF('SD Data Paste'!G207=\"\",\"\",'SD Data Paste'!G207)","v":"NAINA SINGH"}]
[{"$f":"IF(Table1[विद्यार्थी का नाम]=\"\",\"\",ROWS($A$1:A207))","v":207},{"$f":"IF('SD Data Paste'!A208=\"\",\"\",'SD Data Paste'!A208)","v":9},{"$f":"IF('SD Data Paste'!B208=\"\",\"\",'SD Data Paste'!B208)","v":"A"},207,{"$f":"IF('SD Data Paste'!E208=\"\",\"\",'SD Data Paste'!E208)","v":"BHAVESH GURJAR"},{"$f":"IF('SD Data Paste'!G208=\"\",\"\",'SD Data Paste'!G208)","v":"NARAYAN LAL GURJAR"}]
[{"$f":"IF(Table1[विद्यार्थी का नाम]=\"\",\"\",ROWS($A$1:A208))","v":208},{"$f":"IF('SD Data Paste'!A209=\"\",\"\",'SD Data Paste'!A209)","v":9},{"$f":"IF('SD Data Paste'!B209=\"\",\"\",'SD Data Paste'!B209)","v":"A"},208,{"$f":"IF('SD Data Paste'!E209=\"\",\"\",'SD Data Paste'!E209)","v":"BHAVESH MALI"},{"$f":"IF('SD Data Paste'!G209=\"\",\"\",'SD Data Paste'!G209)","v":"KAILASH MALI"}]
[{"$f":"IF(Table1[विद्यार्थी का नाम]=\"\",\"\",ROWS($A$1:A209))","v":209},{"$f":"IF('SD Data Paste'!A210=\"\",\"\",'SD Data Paste'!A210)","v":9},{"$f":"IF('SD Data Paste'!B210=\"\",\"\",'SD Data Paste'!B210)","v":"A"},209,{"$f":"IF('SD Data Paste'!E210=\"\",\"\",'SD Data Paste'!E210)","v":"BHAVESH REGAR"},{"$f":"IF('SD Data Paste'!G210=\"\",\"\",'SD Data Paste'!G210)","v":"SHOBHA LAL REGAR"}]
[{"$f":"IF(Table1[विद्यार्थी का नाम]=\"\",\"\",ROWS($A$1:A210))","v":210},{"$f":"IF('SD Data Paste'!A211=\"\",\"\",'SD Data Paste'!A211)","v":9},{"$f":"IF('SD Data Paste'!B211=\"\",\"\",'SD Data Paste'!B211)","v":"A"},210,{"$f":"IF('SD Data Paste'!E211=\"\",\"\",'SD Data Paste'!E211)","v":"CHANDRA PRAKASH SALVI"},{"$f":"IF('SD Data Paste'!G211=\"\",\"\",'SD Data Paste'!G211)","v":"CHANDAN MAL SALVI"}]
[{"$f":"IF(Table1[विद्यार्थी का नाम]=\"\",\"\",ROWS($A$1:A211))","v":211},{"$f":"IF('SD Data Paste'!A212=\"\",\"\",'SD Data Paste'!A212)","v":9},{"$f":"IF('SD Data Paste'!B212=\"\",\"\",'SD Data Paste'!B212)","v":"A"},211,{"$f":"IF('SD Data Paste'!E212=\"\",\"\",'SD Data Paste'!E212)","v":"CHETAN PRAJAPAT"},{"$f":"IF('SD Data Paste'!G212=\"\",\"\",'SD Data Paste'!G212)","v":"CHAND MAL"}]
[{"$f":"IF(Table1[विद्यार्थी का नाम]=\"\",\"\",ROWS($A$1:A212))","v":212},{"$f":"IF('SD Data Paste'!A213=\"\",\"\",'SD Data Paste'!A213)","v":9},{"$f":"IF('SD Data Paste'!B213=\"\",\"\",'SD Data Paste'!B213)","v":"A"},212,{"$f":"IF('SD Data Paste'!E213=\"\",\"\",'SD Data Paste'!E213)","v":"CHHOTU LAL NAT"},{"$f":"IF('SD Data Paste'!G213=\"\",\"\",'SD Data Paste'!G213)","v":"MADAN LAL NAT"}]
[{"$f":"IF(Table1[विद्यार्थी का नाम]=\"\",\"\",ROWS($A$1:A213))","v":213},{"$f":"IF('SD Data Paste'!A214=\"\",\"\",'SD Data Paste'!A214)","v":9},{"$f":"IF('SD Data Paste'!B214=\"\",\"\",'SD Data Paste'!B214)","v":"A"},213,{"$f":"IF('SD Data Paste'!E214=\"\",\"\",'SD Data Paste'!E214)","v":"DAKSHRAJ SINGH CHUNDAWAT"},{"$f":"IF('SD Data Paste'!G214=\"\",\"\",'SD Data Paste'!G214)","v":"RAJENDRA SINGH CHUNDAWAT"}]
[{"$f":"IF(Table1[विद्यार्थी का नाम]=\"\",\"\",ROWS($A$1:A214))","v":214},{"$f":"IF('SD Data Paste'!A215=\"\",\"\",'SD Data Paste'!A215)","v":9},{"$f":"IF('SD Data Paste'!B215=\"\",\"\",'SD Data Paste'!B215)","v":"A"},214,{"$f":"IF('SD Data Paste'!E215=\"\",\"\",'SD Data Paste'!E215)","v":"DAL CHAND"},{"$f":"IF('SD Data Paste'!G215=\"\",\"\",'SD Data Paste'!G215)","v":"KALU RAM"}]
[{"$f":"IF(Table1[विद्यार्थी का नाम]=\"\",\"\",ROWS($A$1:A215))","v":215},{"$f":"IF('SD Data Paste'!A216=\"\",\"\",'SD Data Paste'!A216)","v":9},{"$f":"IF('SD Data Paste'!B216=\"\",\"\",'SD Data Paste'!B216)","v":"A"},215,{"$f":"IF('SD Data Paste'!E216=\"\",\"\",'SD Data Paste'!E216)","v":"Deepak Salvi"},{"$f":"IF('SD Data Paste'!G216=\"\",\"\",'SD Data Paste'!G216)","v":"Dinesh Chandra"}]
[{"$f":"IF(Table1[विद्यार्थी का नाम]=\"\",\"\",ROWS($A$1:A216))","v":216},{"$f":"IF('SD Data Paste'!A217=\"\",\"\",'SD Data Paste'!A217)","v":9},{"$f":"IF('SD Data Paste'!B217=\"\",\"\",'SD Data Paste'!B217)","v":"A"},216,{"$f":"IF('SD Data Paste'!E217=\"\",\"\",'SD Data Paste'!E217)","v":"Devendra Kumar Soni"},{"$f":"IF('SD Data Paste'!G217=\"\",\"\",'SD Data Paste'!G217)","v":"Dal Chand Soni"}]
[{"$f":"IF(Table1[विद्यार्थी का नाम]=\"\",\"\",ROWS($A$1:A217))","v":217},{"$f":"IF('SD Data Paste'!A218=\"\",\"\",'SD Data Paste'!A218)","v":9},{"$f":"IF('SD Data Paste'!B218=\"\",\"\",'SD Data Paste'!B218)","v":"A"},217,{"$f":"IF('SD Data Paste'!E218=\"\",\"\",'SD Data Paste'!E218)","v":"DEVENDRA SINGH"},{"$f":"IF('SD Data Paste'!G218=\"\",\"\",'SD Data Paste'!G218)","v":"MOHAN SINGH"}]
[{"$f":"IF(Table1[विद्यार्थी का नाम]=\"\",\"\",ROWS($A$1:A218))","v":218},{"$f":"IF('SD Data Paste'!A219=\"\",\"\",'SD Data Paste'!A219)","v":9},{"$f":"IF('SD Data Paste'!B219=\"\",\"\",'SD Data Paste'!B219)","v":"A"},218,{"$f":"IF('SD Data Paste'!E219=\"\",\"\",'SD Data Paste'!E219)","v":"Devkinandan Gurjar"},{"$f":"IF('SD Data Paste'!G219=\"\",\"\",'SD Data Paste'!G219)","v":"Prahlad Gurjar"}]
[{"$f":"IF(Table1[विद्यार्थी का नाम]=\"\",\"\",ROWS($A$1:A219))","v":219},{"$f":"IF('SD Data Paste'!A220=\"\",\"\",'SD Data Paste'!A220)","v":9},{"$f":"IF('SD Data Paste'!B220=\"\",\"\",'SD Data Paste'!B220)","v":"A"},219,{"$f":"IF('SD Data Paste'!E220=\"\",\"\",'SD Data Paste'!E220)","v":"DILEEP SINGH"},{"$f":"IF('SD Data Paste'!G220=\"\",\"\",'SD Data Paste'!G220)","v":"CHANDAN SINGH"}]
[{"$f":"IF(Table1[विद्यार्थी का नाम]=\"\",\"\",ROWS($A$1:A220))","v":220},{"$f":"IF('SD Data Paste'!A221=\"\",\"\",'SD Data Paste'!A221)","v":9},{"$f":"IF('SD Data Paste'!B221=\"\",\"\",'SD Data Paste'!B221)","v":"A"},220,{"$f":"IF('SD Data Paste'!E221=\"\",\"\",'SD Data Paste'!E221)","v":"GANPAT SINGH"},{"$f":"IF('SD Data Paste'!G221=\"\",\"\",'SD Data Paste'!G221)","v":"ISHWAR SINGH"}]
[{"$f":"IF(Table1[विद्यार्थी का नाम]=\"\",\"\",ROWS($A$1:A221))","v":221},{"$f":"IF('SD Data Paste'!A222=\"\",\"\",'SD Data Paste'!A222)","v":9},{"$f":"IF('SD Data Paste'!B222=\"\",\"\",'SD Data Paste'!B222)","v":"A"},221,{"$f":"IF('SD Data Paste'!E222=\"\",\"\",'SD Data Paste'!E222)","v":"GANSHYAM BHIL"},{"$f":"IF('SD Data Paste'!G222=\"\",\"\",'SD Data Paste'!G222)","v":"PURAN LAL BHIL"}]
[{"$f":"IF(Table1[विद्यार्थी का नाम]=\"\",\"\",ROWS($A$1:A222))","v":222},{"$f":"IF('SD Data Paste'!A223=\"\",\"\",'SD Data Paste'!A223)","v":9},{"$f":"IF('SD Data Paste'!B223=\"\",\"\",'SD Data Paste'!B223)","v":"A"},222,{"$f":"IF('SD Data Paste'!E223=\"\",\"\",'SD Data Paste'!E223)","v":"GEHARI LAL SALVI"},{"$f":"IF('SD Data Paste'!G223=\"\",\"\",'SD Data Paste'!G223)","v":"BHURA LAL"}]
[{"$f":"IF(Table1[विद्यार्थी का नाम]=\"\",\"\",ROWS($A$1:A223))","v":223},{"$f":"IF('SD Data Paste'!A224=\"\",\"\",'SD Data Paste'!A224)","v":9},{"$f":"IF('SD Data Paste'!B224=\"\",\"\",'SD Data Paste'!B224)","v":"A"},223,{"$f":"IF('SD Data Paste'!E224=\"\",\"\",'SD Data Paste'!E224)","v":"GOVIND LAL SALVI"},{"$f":"IF('SD Data Paste'!G224=\"\",\"\",'SD Data Paste'!G224)","v":"NAINA RAM"}]
[{"$f":"IF(Table1[विद्यार्थी का नाम]=\"\",\"\",ROWS($A$1:A224))","v":224},{"$f":"IF('SD Data Paste'!A225=\"\",\"\",'SD Data Paste'!A225)","v":9},{"$f":"IF('SD Data Paste'!B225=\"\",\"\",'SD Data Paste'!B225)","v":"A"},224,{"$f":"IF('SD Data Paste'!E225=\"\",\"\",'SD Data Paste'!E225)","v":"HEMANT KUMAR SALVI"},{"$f":"IF('SD Data Paste'!G225=\"\",\"\",'SD Data Paste'!G225)","v":"NARAYAN LAL"}]
[{"$f":"IF(Table1[विद्यार्थी का नाम]=\"\",\"\",ROWS($A$1:A225))","v":225},{"$f":"IF('SD Data Paste'!A226=\"\",\"\",'SD Data Paste'!A226)","v":9},{"$f":"IF('SD Data Paste'!B226=\"\",\"\",'SD Data Paste'!B226)","v":"A"},225,{"$f":"IF('SD Data Paste'!E226=\"\",\"\",'SD Data Paste'!E226)","v":"HEMRAJ MALI"},{"$f":"IF('SD Data Paste'!G226=\"\",\"\",'SD Data Paste'!G226)","v":"PYARE LAL MALI"}]
[{"$f":"IF(Table1[विद्यार्थी का नाम]=\"\",\"\",ROWS($A$1:A226))","v":226},{"$f":"IF('SD Data Paste'!A227=\"\",\"\",'SD Data Paste'!A227)","v":9},{"$f":"IF('SD Data Paste'!B227=\"\",\"\",'SD Data Paste'!B227)","v":"A"},226,{"$f":"IF('SD Data Paste'!E227=\"\",\"\",'SD Data Paste'!E227)","v":"HIMANSHU SALVI"},{"$f":"IF('SD Data Paste'!G227=\"\",\"\",'SD Data Paste'!G227)","v":"BHANWARLAL SALVI"}]
[{"$f":"IF(Table1[विद्यार्थी का नाम]=\"\",\"\",ROWS($A$1:A227))","v":227},{"$f":"IF('SD Data Paste'!A228=\"\",\"\",'SD Data Paste'!A228)","v":9},{"$f":"IF('SD Data Paste'!B228=\"\",\"\",'SD Data Paste'!B228)","v":"A"},227,{"$f":"IF('SD Data Paste'!E228=\"\",\"\",'SD Data Paste'!E228)","v":"HIMESH VED"},{"$f":"IF('SD Data Paste'!G228=\"\",\"\",'SD Data Paste'!G228)","v":"KANHAIYA LAL"}]
[{"$f":"IF(Table1[विद्यार्थी का नाम]=\"\",\"\",ROWS($A$1:A228))","v":228},{"$f":"IF('SD Data Paste'!A229=\"\",\"\",'SD Data Paste'!A229)","v":9},{"$f":"IF('SD Data Paste'!B229=\"\",\"\",'SD Data Paste'!B229)","v":"A"},228,{"$f":"IF('SD Data Paste'!E229=\"\",\"\",'SD Data Paste'!E229)","v":"HITESH KUMAR SALVI"},{"$f":"IF('SD Data Paste'!G229=\"\",\"\",'SD Data Paste'!G229)","v":"CHANDAN MAL"}]
[{"$f":"IF(Table1[विद्यार्थी का नाम]=\"\",\"\",ROWS($A$1:A229))","v":229},{"$f":"IF('SD Data Paste'!A230=\"\",\"\",'SD Data Paste'!A230)","v":9},{"$f":"IF('SD Data Paste'!B230=\"\",\"\",'SD Data Paste'!B230)","v":"A"},229,{"$f":"IF('SD Data Paste'!E230=\"\",\"\",'SD Data Paste'!E230)","v":"Hitesh Regar"},{"$f":"IF('SD Data Paste'!G230=\"\",\"\",'SD Data Paste'!G230)","v":"Hajari Lal"}]
[{"$f":"IF(Table1[विद्यार्थी का नाम]=\"\",\"\",ROWS($A$1:A230))","v":230},{"$f":"IF('SD Data Paste'!A231=\"\",\"\",'SD Data Paste'!A231)","v":9},{"$f":"IF('SD Data Paste'!B231=\"\",\"\",'SD Data Paste'!B231)","v":"A"},230,{"$f":"IF('SD Data Paste'!E231=\"\",\"\",'SD Data Paste'!E231)","v":"INDAR SINGH"},{"$f":"IF('SD Data Paste'!G231=\"\",\"\",'SD Data Paste'!G231)","v":"SOHAN SINGH"}]
[{"$f":"IF(Table1[विद्यार्थी का नाम]=\"\",\"\",ROWS($A$1:A231))","v":231},{"$f":"IF('SD Data Paste'!A232=\"\",\"\",'SD Data Paste'!A232)","v":9},{"$f":"IF('SD Data Paste'!B232=\"\",\"\",'SD Data Paste'!B232)","v":"A"},231,{"$f":"IF('SD Data Paste'!E232=\"\",\"\",'SD Data Paste'!E232)","v":"ISHWAR SINGH"},{"$f":"IF('SD Data Paste'!G232=\"\",\"\",'SD Data Paste'!G232)","v":"UDAY SINGH"}]
[{"$f":"IF(Table1[विद्यार्थी का नाम]=\"\",\"\",ROWS($A$1:A232))","v":232},{"$f":"IF('SD Data Paste'!A233=\"\",\"\",'SD Data Paste'!A233)","v":9},{"$f":"IF('SD Data Paste'!B233=\"\",\"\",'SD Data Paste'!B233)","v":"A"},232,{"$f":"IF('SD Data Paste'!E233=\"\",\"\",'SD Data Paste'!E233)","v":"JABBAR HUSSAIN"},{"$f":"IF('SD Data Paste'!G233=\"\",\"\",'SD Data Paste'!G233)","v":"MUSTAK"}]
[{"$f":"IF(Table1[विद्यार्थी का नाम]=\"\",\"\",ROWS($A$1:A233))","v":233},{"$f":"IF('SD Data Paste'!A234=\"\",\"\",'SD Data Paste'!A234)","v":9},{"$f":"IF('SD Data Paste'!B234=\"\",\"\",'SD Data Paste'!B234)","v":"A"},233,{"$f":"IF('SD Data Paste'!E234=\"\",\"\",'SD Data Paste'!E234)","v":"JAGDISH SINGH"},{"$f":"IF('SD Data Paste'!G234=\"\",\"\",'SD Data Paste'!G234)","v":"GOPAL SINGH"}]
[{"$f":"IF(Table1[विद्यार्थी का नाम]=\"\",\"\",ROWS($A$1:A234))","v":234},{"$f":"IF('SD Data Paste'!A235=\"\",\"\",'SD Data Paste'!A235)","v":9},{"$f":"IF('SD Data Paste'!B235=\"\",\"\",'SD Data Paste'!B235)","v":"A"},234,{"$f":"IF('SD Data Paste'!E235=\"\",\"\",'SD Data Paste'!E235)","v":"JAI SINGH SOLANKI"},{"$f":"IF('SD Data Paste'!G235=\"\",\"\",'SD Data Paste'!G235)","v":"CHAIN SINGH SOLANKI"}]
[{"$f":"IF(Table1[विद्यार्थी का नाम]=\"\",\"\",ROWS($A$1:A235))","v":235},{"$f":"IF('SD Data Paste'!A236=\"\",\"\",'SD Data Paste'!A236)","v":9},{"$f":"IF('SD Data Paste'!B236=\"\",\"\",'SD Data Paste'!B236)","v":"A"},235,{"$f":"IF('SD Data Paste'!E236=\"\",\"\",'SD Data Paste'!E236)","v":"Jashwant Regar"},{"$f":"IF('SD Data Paste'!G236=\"\",\"\",'SD Data Paste'!G236)","v":"Ratan Lal Regar"}]
[{"$f":"IF(Table1[विद्यार्थी का नाम]=\"\",\"\",ROWS($A$1:A236))","v":236},{"$f":"IF('SD Data Paste'!A237=\"\",\"\",'SD Data Paste'!A237)","v":9},{"$f":"IF('SD Data Paste'!B237=\"\",\"\",'SD Data Paste'!B237)","v":"A"},236,{"$f":"IF('SD Data Paste'!E237=\"\",\"\",'SD Data Paste'!E237)","v":"JASWANT LAL SALVI"},{"$f":"IF('SD Data Paste'!G237=\"\",\"\",'SD Data Paste'!G237)","v":"BHADA RAM"}]
[{"$f":"IF(Table1[विद्यार्थी का नाम]=\"\",\"\",ROWS($A$1:A237))","v":237},{"$f":"IF('SD Data Paste'!A238=\"\",\"\",'SD Data Paste'!A238)","v":9},{"$f":"IF('SD Data Paste'!B238=\"\",\"\",'SD Data Paste'!B238)","v":"A"},237,{"$f":"IF('SD Data Paste'!E238=\"\",\"\",'SD Data Paste'!E238)","v":"JASWANT SINGH"},{"$f":"IF('SD Data Paste'!G238=\"\",\"\",'SD Data Paste'!G238)","v":"GOPAL SINGH"}]
[{"$f":"IF(Table1[विद्यार्थी का नाम]=\"\",\"\",ROWS($A$1:A238))","v":238},{"$f":"IF('SD Data Paste'!A239=\"\",\"\",'SD Data Paste'!A239)","v":9},{"$f":"IF('SD Data Paste'!B239=\"\",\"\",'SD Data Paste'!B239)","v":"A"},238,{"$f":"IF('SD Data Paste'!E239=\"\",\"\",'SD Data Paste'!E239)","v":"JITENDRA NATH"},{"$f":"IF('SD Data Paste'!G239=\"\",\"\",'SD Data Paste'!G239)","v":"LADU NATH"}]
[{"$f":"IF(Table1[विद्यार्थी का नाम]=\"\",\"\",ROWS($A$1:A239))","v":239},{"$f":"IF('SD Data Paste'!A240=\"\",\"\",'SD Data Paste'!A240)","v":9},{"$f":"IF('SD Data Paste'!B240=\"\",\"\",'SD Data Paste'!B240)","v":"A"},239,{"$f":"IF('SD Data Paste'!E240=\"\",\"\",'SD Data Paste'!E240)","v":"KAILASH DAS"},{"$f":"IF('SD Data Paste'!G240=\"\",\"\",'SD Data Paste'!G240)","v":"ARJUN DAS"}]
[{"$f":"IF(Table1[विद्यार्थी का नाम]=\"\",\"\",ROWS($A$1:A240))","v":240},{"$f":"IF('SD Data Paste'!A241=\"\",\"\",'SD Data Paste'!A241)","v":9},{"$f":"IF('SD Data Paste'!B241=\"\",\"\",'SD Data Paste'!B241)","v":"A"},240,{"$f":"IF('SD Data Paste'!E241=\"\",\"\",'SD Data Paste'!E241)","v":"KAILASH SINGH"},{"$f":"IF('SD Data Paste'!G241=\"\",\"\",'SD Data Paste'!G241)","v":"VARAD SINGH"}]
[{"$f":"IF(Table1[विद्यार्थी का नाम]=\"\",\"\",ROWS($A$1:A241))","v":241},{"$f":"IF('SD Data Paste'!A242=\"\",\"\",'SD Data Paste'!A242)","v":9},{"$f":"IF('SD Data Paste'!B242=\"\",\"\",'SD Data Paste'!B242)","v":"A"},241,{"$f":"IF('SD Data Paste'!E242=\"\",\"\",'SD Data Paste'!E242)","v":"KAMLESH MALI"},{"$f":"IF('SD Data Paste'!G242=\"\",\"\",'SD Data Paste'!G242)","v":"KAILASH MALI"}]
[{"$f":"IF(Table1[विद्यार्थी का नाम]=\"\",\"\",ROWS($A$1:A242))","v":242},{"$f":"IF('SD Data Paste'!A243=\"\",\"\",'SD Data Paste'!A243)","v":9},{"$f":"IF('SD Data Paste'!B243=\"\",\"\",'SD Data Paste'!B243)","v":"A"},242,{"$f":"IF('SD Data Paste'!E243=\"\",\"\",'SD Data Paste'!E243)","v":"KAMLESH SINGH RAWAT"},{"$f":"IF('SD Data Paste'!G243=\"\",\"\",'SD Data Paste'!G243)","v":"RANJEET SINGH"}]
[{"$f":"IF(Table1[विद्यार्थी का नाम]=\"\",\"\",ROWS($A$1:A243))","v":243},{"$f":"IF('SD Data Paste'!A244=\"\",\"\",'SD Data Paste'!A244)","v":9},{"$f":"IF('SD Data Paste'!B244=\"\",\"\",'SD Data Paste'!B244)","v":"A"},243,{"$f":"IF('SD Data Paste'!E244=\"\",\"\",'SD Data Paste'!E244)","v":"KAMLESH VAN"},{"$f":"IF('SD Data Paste'!G244=\"\",\"\",'SD Data Paste'!G244)","v":"LAXMAN VAN"}]
[{"$f":"IF(Table1[विद्यार्थी का नाम]=\"\",\"\",ROWS($A$1:A244))","v":244},{"$f":"IF('SD Data Paste'!A245=\"\",\"\",'SD Data Paste'!A245)","v":9},{"$f":"IF('SD Data Paste'!B245=\"\",\"\",'SD Data Paste'!B245)","v":"A"},244,{"$f":"IF('SD Data Paste'!E245=\"\",\"\",'SD Data Paste'!E245)","v":"KARTIK PURI"},{"$f":"IF('SD Data Paste'!G245=\"\",\"\",'SD Data Paste'!G245)","v":"PARAS PURI"}]
[{"$f":"IF(Table1[विद्यार्थी का नाम]=\"\",\"\",ROWS($A$1:A245))","v":245},{"$f":"IF('SD Data Paste'!A246=\"\",\"\",'SD Data Paste'!A246)","v":9},{"$f":"IF('SD Data Paste'!B246=\"\",\"\",'SD Data Paste'!B246)","v":"A"},245,{"$f":"IF('SD Data Paste'!E246=\"\",\"\",'SD Data Paste'!E246)","v":"Kishan Mali"},{"$f":"IF('SD Data Paste'!G246=\"\",\"\",'SD Data Paste'!G246)","v":"Devi Lal Mali"}]
[{"$f":"IF(Table1[विद्यार्थी का नाम]=\"\",\"\",ROWS($A$1:A246))","v":246},{"$f":"IF('SD Data Paste'!A247=\"\",\"\",'SD Data Paste'!A247)","v":9},{"$f":"IF('SD Data Paste'!B247=\"\",\"\",'SD Data Paste'!B247)","v":"A"},246,{"$f":"IF('SD Data Paste'!E247=\"\",\"\",'SD Data Paste'!E247)","v":"Krishnapal Singh Chundawat"},{"$f":"IF('SD Data Paste'!G247=\"\",\"\",'SD Data Paste'!G247)","v":"Ram Singh Chundawat"}]
[{"$f":"IF(Table1[विद्यार्थी का नाम]=\"\",\"\",ROWS($A$1:A247))","v":247},{"$f":"IF('SD Data Paste'!A248=\"\",\"\",'SD Data Paste'!A248)","v":9},{"$f":"IF('SD Data Paste'!B248=\"\",\"\",'SD Data Paste'!B248)","v":"A"},247,{"$f":"IF('SD Data Paste'!E248=\"\",\"\",'SD Data Paste'!E248)","v":"KULDEEP SINGH"},{"$f":"IF('SD Data Paste'!G248=\"\",\"\",'SD Data Paste'!G248)","v":"GOPAL SINGH"}]
[{"$f":"IF(Table1[विद्यार्थी का नाम]=\"\",\"\",ROWS($A$1:A248))","v":248},{"$f":"IF('SD Data Paste'!A249=\"\",\"\",'SD Data Paste'!A249)","v":9},{"$f":"IF('SD Data Paste'!B249=\"\",\"\",'SD Data Paste'!B249)","v":"A"},248,{"$f":"IF('SD Data Paste'!E249=\"\",\"\",'SD Data Paste'!E249)","v":"KULDEEP SOLANKI"},{"$f":"IF('SD Data Paste'!G249=\"\",\"\",'SD Data Paste'!G249)","v":"RADHESHYAM SOLANKI"}]
[{"$f":"IF(Table1[विद्यार्थी का नाम]=\"\",\"\",ROWS($A$1:A249))","v":249},{"$f":"IF('SD Data Paste'!A250=\"\",\"\",'SD Data Paste'!A250)","v":9},{"$f":"IF('SD Data Paste'!B250=\"\",\"\",'SD Data Paste'!B250)","v":"A"},249,{"$f":"IF('SD Data Paste'!E250=\"\",\"\",'SD Data Paste'!E250)","v":"LAKHAN SINGH"},{"$f":"IF('SD Data Paste'!G250=\"\",\"\",'SD Data Paste'!G250)","v":"KISHAN SINGH"}]
[{"$f":"IF(Table1[विद्यार्थी का नाम]=\"\",\"\",ROWS($A$1:A250))","v":250},{"$f":"IF('SD Data Paste'!A251=\"\",\"\",'SD Data Paste'!A251)","v":9},{"$f":"IF('SD Data Paste'!B251=\"\",\"\",'SD Data Paste'!B251)","v":"A"},250,{"$f":"IF('SD Data Paste'!E251=\"\",\"\",'SD Data Paste'!E251)","v":"LAL SINGH"},{"$f":"IF('SD Data Paste'!G251=\"\",\"\",'SD Data Paste'!G251)","v":"KUSHAL SINGH"}]
[{"$f":"IF(Table1[विद्यार्थी का नाम]=\"\",\"\",ROWS($A$1:A251))","v":251},{"$f":"IF('SD Data Paste'!A252=\"\",\"\",'SD Data Paste'!A252)","v":9},{"$f":"IF('SD Data Paste'!B252=\"\",\"\",'SD Data Paste'!B252)","v":"A"},251,{"$f":"IF('SD Data Paste'!E252=\"\",\"\",'SD Data Paste'!E252)","v":"LALIT KALAL"},{"$f":"IF('SD Data Paste'!G252=\"\",\"\",'SD Data Paste'!G252)","v":"YASHWANT KALAL"}]
[{"$f":"IF(Table1[विद्यार्थी का नाम]=\"\",\"\",ROWS($A$1:A252))","v":252},{"$f":"IF('SD Data Paste'!A253=\"\",\"\",'SD Data Paste'!A253)","v":9},{"$f":"IF('SD Data Paste'!B253=\"\",\"\",'SD Data Paste'!B253)","v":"A"},252,{"$f":"IF('SD Data Paste'!E253=\"\",\"\",'SD Data Paste'!E253)","v":"Lalit Kalal"},{"$f":"IF('SD Data Paste'!G253=\"\",\"\",'SD Data Paste'!G253)","v":"Shivlal Kalal"}]
[{"$f":"IF(Table1[विद्यार्थी का नाम]=\"\",\"\",ROWS($A$1:A253))","v":253},{"$f":"IF('SD Data Paste'!A254=\"\",\"\",'SD Data Paste'!A254)","v":9},{"$f":"IF('SD Data Paste'!B254=\"\",\"\",'SD Data Paste'!B254)","v":"A"},253,{"$f":"IF('SD Data Paste'!E254=\"\",\"\",'SD Data Paste'!E254)","v":"LAXMAN LAL"},{"$f":"IF('SD Data Paste'!G254=\"\",\"\",'SD Data Paste'!G254)","v":"PURANMAL"}]
[{"$f":"IF(Table1[विद्यार्थी का नाम]=\"\",\"\",ROWS($A$1:A254))","v":254},{"$f":"IF('SD Data Paste'!A255=\"\",\"\",'SD Data Paste'!A255)","v":9},{"$f":"IF('SD Data Paste'!B255=\"\",\"\",'SD Data Paste'!B255)","v":"A"},254,{"$f":"IF('SD Data Paste'!E255=\"\",\"\",'SD Data Paste'!E255)","v":"LOKESH BAROLIYA"},{"$f":"IF('SD Data Paste'!G255=\"\",\"\",'SD Data Paste'!G255)","v":"SHANKAR LAL BAROLIYA"}]
[{"$f":"IF(Table1[विद्यार्थी का नाम]=\"\",\"\",ROWS($A$1:A255))","v":255},{"$f":"IF('SD Data Paste'!A256=\"\",\"\",'SD Data Paste'!A256)","v":9},{"$f":"IF('SD Data Paste'!B256=\"\",\"\",'SD Data Paste'!B256)","v":"A"},255,{"$f":"IF('SD Data Paste'!E256=\"\",\"\",'SD Data Paste'!E256)","v":"Lokesh Kalal"},{"$f":"IF('SD Data Paste'!G256=\"\",\"\",'SD Data Paste'!G256)","v":"Dalchand Kalal"}]
[{"$f":"IF(Table1[विद्यार्थी का नाम]=\"\",\"\",ROWS($A$1:A256))","v":256},{"$f":"IF('SD Data Paste'!A257=\"\",\"\",'SD Data Paste'!A257)","v":9},{"$f":"IF('SD Data Paste'!B257=\"\",\"\",'SD Data Paste'!B257)","v":"A"},256,{"$f":"IF('SD Data Paste'!E257=\"\",\"\",'SD Data Paste'!E257)","v":"LOKESH KUMAR"},{"$f":"IF('SD Data Paste'!G257=\"\",\"\",'SD Data Paste'!G257)","v":"GOKUL RAM"}]
[{"$f":"IF(Table1[विद्यार्थी का नाम]=\"\",\"\",ROWS($A$1:A257))","v":257},{"$f":"IF('SD Data Paste'!A258=\"\",\"\",'SD Data Paste'!A258)","v":9},{"$f":"IF('SD Data Paste'!B258=\"\",\"\",'SD Data Paste'!B258)","v":"A"},257,{"$f":"IF('SD Data Paste'!E258=\"\",\"\",'SD Data Paste'!E258)","v":"LOKESH KUMAR"},{"$f":"IF('SD Data Paste'!G258=\"\",\"\",'SD Data Paste'!G258)","v":"DEVI LAL"}]
[{"$f":"IF(Table1[विद्यार्थी का नाम]=\"\",\"\",ROWS($A$1:A258))","v":258},{"$f":"IF('SD Data Paste'!A259=\"\",\"\",'SD Data Paste'!A259)","v":9},{"$f":"IF('SD Data Paste'!B259=\"\",\"\",'SD Data Paste'!B259)","v":"A"},258,{"$f":"IF('SD Data Paste'!E259=\"\",\"\",'SD Data Paste'!E259)","v":"LOKESH KUMAR GURJAR"},{"$f":"IF('SD Data Paste'!G259=\"\",\"\",'SD Data Paste'!G259)","v":"DHARM CHAND GURJAR"}]
[{"$f":"IF(Table1[विद्यार्थी का नाम]=\"\",\"\",ROWS($A$1:A259))","v":259},{"$f":"IF('SD Data Paste'!A260=\"\",\"\",'SD Data Paste'!A260)","v":9},{"$f":"IF('SD Data Paste'!B260=\"\",\"\",'SD Data Paste'!B260)","v":"B"},{"$f":"IF(D261=\"\",\"\",D261+1)","v":259},{"$f":"IF('SD Data Paste'!E260=\"\",\"\",'SD Data Paste'!E260)","v":"MADAN SINGH"},{"$f":"IF('SD Data Paste'!G260=\"\",\"\",'SD Data Paste'!G260)","v":"TARU SINGH"}]
[{"$f":"IF(Table1[विद्यार्थी का नाम]=\"\",\"\",ROWS($A$1:A260))","v":260},{"$f":"IF('SD Data Paste'!A261=\"\",\"\",'SD Data Paste'!A261)","v":9},{"$f":"IF('SD Data Paste'!B261=\"\",\"\",'SD Data Paste'!B261)","v":"B"},260,{"$f":"IF('SD Data Paste'!E261=\"\",\"\",'SD Data Paste'!E261)","v":"MAHAVEER SINGH"},{"$f":"IF('SD Data Paste'!G261=\"\",\"\",'SD Data Paste'!G261)","v":"RAJENDRA SINGH"}]
[{"$f":"IF(Table1[विद्यार्थी का नाम]=\"\",\"\",ROWS($A$1:A261))","v":261},{"$f":"IF('SD Data Paste'!A262=\"\",\"\",'SD Data Paste'!A262)","v":9},{"$f":"IF('SD Data Paste'!B262=\"\",\"\",'SD Data Paste'!B262)","v":"B"},261,{"$f":"IF('SD Data Paste'!E262=\"\",\"\",'SD Data Paste'!E262)","v":"MAHENDRA SINGH"},{"$f":"IF('SD Data Paste'!G262=\"\",\"\",'SD Data Paste'!G262)","v":"DEVI SINGH"}]
[{"$f":"IF(Table1[विद्यार्थी का नाम]=\"\",\"\",ROWS($A$1:A262))","v":262},{"$f":"IF('SD Data Paste'!A263=\"\",\"\",'SD Data Paste'!A263)","v":9},{"$f":"IF('SD Data Paste'!B263=\"\",\"\",'SD Data Paste'!B263)","v":"B"},262,{"$f":"IF('SD Data Paste'!E263=\"\",\"\",'SD Data Paste'!E263)","v":"MAHESH CHANDRA SARGARA"},{"$f":"IF('SD Data Paste'!G263=\"\",\"\",'SD Data Paste'!G263)","v":"RAJKUMAR SARGARA"}]
[{"$f":"IF(Table1[विद्यार्थी का नाम]=\"\",\"\",ROWS($A$1:A263))","v":263},{"$f":"IF('SD Data Paste'!A264=\"\",\"\",'SD Data Paste'!A264)","v":9},{"$f":"IF('SD Data Paste'!B264=\"\",\"\",'SD Data Paste'!B264)","v":"B"},263,{"$f":"IF('SD Data Paste'!E264=\"\",\"\",'SD Data Paste'!E264)","v":"MANEESH KUMAR"},{"$f":"IF('SD Data Paste'!G264=\"\",\"\",'SD Data Paste'!G264)","v":"KAILASH CHANDRA PRAJAPAT"}]
[{"$f":"IF(Table1[विद्यार्थी का नाम]=\"\",\"\",ROWS($A$1:A264))","v":264},{"$f":"IF('SD Data Paste'!A265=\"\",\"\",'SD Data Paste'!A265)","v":9},{"$f":"IF('SD Data Paste'!B265=\"\",\"\",'SD Data Paste'!B265)","v":"B"},264,{"$f":"IF('SD Data Paste'!E265=\"\",\"\",'SD Data Paste'!E265)","v":"Manish Khatik"},{"$f":"IF('SD Data Paste'!G265=\"\",\"\",'SD Data Paste'!G265)","v":"Mukesh Kumar Khatik"}]
[{"$f":"IF(Table1[विद्यार्थी का नाम]=\"\",\"\",ROWS($A$1:A265))","v":265},{"$f":"IF('SD Data Paste'!A266=\"\",\"\",'SD Data Paste'!A266)","v":9},{"$f":"IF('SD Data Paste'!B266=\"\",\"\",'SD Data Paste'!B266)","v":"B"},265,{"$f":"IF('SD Data Paste'!E266=\"\",\"\",'SD Data Paste'!E266)","v":"MANISH MEWARA"},{"$f":"IF('SD Data Paste'!G266=\"\",\"\",'SD Data Paste'!G266)","v":"DHARM CHAND"}]
[{"$f":"IF(Table1[विद्यार्थी का नाम]=\"\",\"\",ROWS($A$1:A266))","v":266},{"$f":"IF('SD Data Paste'!A267=\"\",\"\",'SD Data Paste'!A267)","v":9},{"$f":"IF('SD Data Paste'!B267=\"\",\"\",'SD Data Paste'!B267)","v":"B"},266,{"$f":"IF('SD Data Paste'!E267=\"\",\"\",'SD Data Paste'!E267)","v":"MANISH REGAR"},{"$f":"IF('SD Data Paste'!G267=\"\",\"\",'SD Data Paste'!G267)","v":"SURESH REGAR"}]
[{"$f":"IF(Table1[विद्यार्थी का नाम]=\"\",\"\",ROWS($A$1:A267))","v":267},{"$f":"IF('SD Data Paste'!A268=\"\",\"\",'SD Data Paste'!A268)","v":9},{"$f":"IF('SD Data Paste'!B268=\"\",\"\",'SD Data Paste'!B268)","v":"B"},267,{"$f":"IF('SD Data Paste'!E268=\"\",\"\",'SD Data Paste'!E268)","v":"MANISH SINGH"},{"$f":"IF('SD Data Paste'!G268=\"\",\"\",'SD Data Paste'!G268)","v":"VIJAY SINGH"}]
[{"$f":"IF(Table1[विद्यार्थी का नाम]=\"\",\"\",ROWS($A$1:A268))","v":268},{"$f":"IF('SD Data Paste'!A269=\"\",\"\",'SD Data Paste'!A269)","v":9},{"$f":"IF('SD Data Paste'!B269=\"\",\"\",'SD Data Paste'!B269)","v":"B"},268,{"$f":"IF('SD Data Paste'!E269=\"\",\"\",'SD Data Paste'!E269)","v":"MOHIT KUMAR SALVI"},{"$f":"IF('SD Data Paste'!G269=\"\",\"\",'SD Data Paste'!G269)","v":"MANGI LAL"}]
[{"$f":"IF(Table1[विद्यार्थी का नाम]=\"\",\"\",ROWS($A$1:A269))","v":269},{"$f":"IF('SD Data Paste'!A270=\"\",\"\",'SD Data Paste'!A270)","v":9},{"$f":"IF('SD Data Paste'!B270=\"\",\"\",'SD Data Paste'!B270)","v":"B"},269,{"$f":"IF('SD Data Paste'!E270=\"\",\"\",'SD Data Paste'!E270)","v":"MUKESH GURJAR"},{"$f":"IF('SD Data Paste'!G270=\"\",\"\",'SD Data Paste'!G270)","v":"MANGI LAL GURJAR"}]
[{"$f":"IF(Table1[विद्यार्थी का नाम]=\"\",\"\",ROWS($A$1:A270))","v":270},{"$f":"IF('SD Data Paste'!A271=\"\",\"\",'SD Data Paste'!A271)","v":9},{"$f":"IF('SD Data Paste'!B271=\"\",\"\",'SD Data Paste'!B271)","v":"B"},270,{"$f":"IF('SD Data Paste'!E271=\"\",\"\",'SD Data Paste'!E271)","v":"MUKESH SINGH"},{"$f":"IF('SD Data Paste'!G271=\"\",\"\",'SD Data Paste'!G271)","v":"KISHAN SINGH"}]
[{"$f":"IF(Table1[विद्यार्थी का नाम]=\"\",\"\",ROWS($A$1:A271))","v":271},{"$f":"IF('SD Data Paste'!A272=\"\",\"\",'SD Data Paste'!A272)","v":9},{"$f":"IF('SD Data Paste'!B272=\"\",\"\",'SD Data Paste'!B272)","v":"B"},271,{"$f":"IF('SD Data Paste'!E272=\"\",\"\",'SD Data Paste'!E272)","v":"NAINA RAWAT"},{"$f":"IF('SD Data Paste'!G272=\"\",\"\",'SD Data Paste'!G272)","v":"GOPAL SINGH"}]
[{"$f":"IF(Table1[विद्यार्थी का नाम]=\"\",\"\",ROWS($A$1:A272))","v":272},{"$f":"IF('SD Data Paste'!A273=\"\",\"\",'SD Data Paste'!A273)","v":9},{"$f":"IF('SD Data Paste'!B273=\"\",\"\",'SD Data Paste'!B273)","v":"B"},272,{"$f":"IF('SD Data Paste'!E273=\"\",\"\",'SD Data Paste'!E273)","v":"Naitik Singh"},{"$f":"IF('SD Data Paste'!G273=\"\",\"\",'SD Data Paste'!G273)","v":"Bheru Singh"}]
[{"$f":"IF(Table1[विद्यार्थी का नाम]=\"\",\"\",ROWS($A$1:A273))","v":273},{"$f":"IF('SD Data Paste'!A274=\"\",\"\",'SD Data Paste'!A274)","v":9},{"$f":"IF('SD Data Paste'!B274=\"\",\"\",'SD Data Paste'!B274)","v":"B"},273,{"$f":"IF('SD Data Paste'!E274=\"\",\"\",'SD Data Paste'!E274)","v":"NARAYAN SINGH"},{"$f":"IF('SD Data Paste'!G274=\"\",\"\",'SD Data Paste'!G274)","v":"BHANWAR SINGH"}]
[{"$f":"IF(Table1[विद्यार्थी का नाम]=\"\",\"\",ROWS($A$1:A274))","v":274},{"$f":"IF('SD Data Paste'!A275=\"\",\"\",'SD Data Paste'!A275)","v":9},{"$f":"IF('SD Data Paste'!B275=\"\",\"\",'SD Data Paste'!B275)","v":"B"},274,{"$f":"IF('SD Data Paste'!E275=\"\",\"\",'SD Data Paste'!E275)","v":"NARENDRA KUMAR SALVI"},{"$f":"IF('SD Data Paste'!G275=\"\",\"\",'SD Data Paste'!G275)","v":"GHISA RAM"}]
[{"$f":"IF(Table1[विद्यार्थी का नाम]=\"\",\"\",ROWS($A$1:A275))","v":275},{"$f":"IF('SD Data Paste'!A276=\"\",\"\",'SD Data Paste'!A276)","v":9},{"$f":"IF('SD Data Paste'!B276=\"\",\"\",'SD Data Paste'!B276)","v":"B"},275,{"$f":"IF('SD Data Paste'!E276=\"\",\"\",'SD Data Paste'!E276)","v":"NARENDRA SINGH"},{"$f":"IF('SD Data Paste'!G276=\"\",\"\",'SD Data Paste'!G276)","v":"GOPAL SINGH"}]
[{"$f":"IF(Table1[विद्यार्थी का नाम]=\"\",\"\",ROWS($A$1:A276))","v":276},{"$f":"IF('SD Data Paste'!A277=\"\",\"\",'SD Data Paste'!A277)","v":9},{"$f":"IF('SD Data Paste'!B277=\"\",\"\",'SD Data Paste'!B277)","v":"B"},276,{"$f":"IF('SD Data Paste'!E277=\"\",\"\",'SD Data Paste'!E277)","v":"NARENDRA SINGH"},{"$f":"IF('SD Data Paste'!G277=\"\",\"\",'SD Data Paste'!G277)","v":"TAARU SINGH"}]
[{"$f":"IF(Table1[विद्यार्थी का नाम]=\"\",\"\",ROWS($A$1:A277))","v":277},{"$f":"IF('SD Data Paste'!A278=\"\",\"\",'SD Data Paste'!A278)","v":9},{"$f":"IF('SD Data Paste'!B278=\"\",\"\",'SD Data Paste'!B278)","v":"B"},277,{"$f":"IF('SD Data Paste'!E278=\"\",\"\",'SD Data Paste'!E278)","v":"NARESH KUMAR"},{"$f":"IF('SD Data Paste'!G278=\"\",\"\",'SD Data Paste'!G278)","v":"PRATAP RAM"}]
[{"$f":"IF(Table1[विद्यार्थी का नाम]=\"\",\"\",ROWS($A$1:A278))","v":278},{"$f":"IF('SD Data Paste'!A279=\"\",\"\",'SD Data Paste'!A279)","v":9},{"$f":"IF('SD Data Paste'!B279=\"\",\"\",'SD Data Paste'!B279)","v":"B"},278,{"$f":"IF('SD Data Paste'!E279=\"\",\"\",'SD Data Paste'!E279)","v":"NAVEEN TIWARI"},{"$f":"IF('SD Data Paste'!G279=\"\",\"\",'SD Data Paste'!G279)","v":"CHETAN PRAKASH TIWARI"}]
[{"$f":"IF(Table1[विद्यार्थी का नाम]=\"\",\"\",ROWS($A$1:A279))","v":279},{"$f":"IF('SD Data Paste'!A280=\"\",\"\",'SD Data Paste'!A280)","v":9},{"$f":"IF('SD Data Paste'!B280=\"\",\"\",'SD Data Paste'!B280)","v":"B"},279,{"$f":"IF('SD Data Paste'!E280=\"\",\"\",'SD Data Paste'!E280)","v":"NAVNEET REGAR"},{"$f":"IF('SD Data Paste'!G280=\"\",\"\",'SD Data Paste'!G280)","v":"MOHAN LAL"}]
[{"$f":"IF(Table1[विद्यार्थी का नाम]=\"\",\"\",ROWS($A$1:A280))","v":280},{"$f":"IF('SD Data Paste'!A281=\"\",\"\",'SD Data Paste'!A281)","v":9},{"$f":"IF('SD Data Paste'!B281=\"\",\"\",'SD Data Paste'!B281)","v":"B"},280,{"$f":"IF('SD Data Paste'!E281=\"\",\"\",'SD Data Paste'!E281)","v":"Nikhil Singh"},{"$f":"IF('SD Data Paste'!G281=\"\",\"\",'SD Data Paste'!G281)","v":"Ramesh Singh"}]
[{"$f":"IF(Table1[विद्यार्थी का नाम]=\"\",\"\",ROWS($A$1:A281))","v":281},{"$f":"IF('SD Data Paste'!A282=\"\",\"\",'SD Data Paste'!A282)","v":9},{"$f":"IF('SD Data Paste'!B282=\"\",\"\",'SD Data Paste'!B282)","v":"B"},281,{"$f":"IF('SD Data Paste'!E282=\"\",\"\",'SD Data Paste'!E282)","v":"NILESH MEWARA"},{"$f":"IF('SD Data Paste'!G282=\"\",\"\",'SD Data Paste'!G282)","v":"NARAYAN LAL"}]
[{"$f":"IF(Table1[विद्यार्थी का नाम]=\"\",\"\",ROWS($A$1:A282))","v":282},{"$f":"IF('SD Data Paste'!A283=\"\",\"\",'SD Data Paste'!A283)","v":9},{"$f":"IF('SD Data Paste'!B283=\"\",\"\",'SD Data Paste'!B283)","v":"B"},282,{"$f":"IF('SD Data Paste'!E283=\"\",\"\",'SD Data Paste'!E283)","v":"NILESH SALVI"},{"$f":"IF('SD Data Paste'!G283=\"\",\"\",'SD Data Paste'!G283)","v":"DHARAM CHAND SALVI"}]
[{"$f":"IF(Table1[विद्यार्थी का नाम]=\"\",\"\",ROWS($A$1:A283))","v":283},{"$f":"IF('SD Data Paste'!A284=\"\",\"\",'SD Data Paste'!A284)","v":9},{"$f":"IF('SD Data Paste'!B284=\"\",\"\",'SD Data Paste'!B284)","v":"B"},283,{"$f":"IF('SD Data Paste'!E284=\"\",\"\",'SD Data Paste'!E284)","v":"NILESH SALVI"},{"$f":"IF('SD Data Paste'!G284=\"\",\"\",'SD Data Paste'!G284)","v":"SHRVANLAL SALVI"}]
[{"$f":"IF(Table1[विद्यार्थी का नाम]=\"\",\"\",ROWS($A$1:A284))","v":284},{"$f":"IF('SD Data Paste'!A285=\"\",\"\",'SD Data Paste'!A285)","v":9},{"$f":"IF('SD Data Paste'!B285=\"\",\"\",'SD Data Paste'!B285)","v":"B"},284,{"$f":"IF('SD Data Paste'!E285=\"\",\"\",'SD Data Paste'!E285)","v":"Nitesh Kumar"},{"$f":"IF('SD Data Paste'!G285=\"\",\"\",'SD Data Paste'!G285)","v":"Nemi Chand"}]
[{"$f":"IF(Table1[विद्यार्थी का नाम]=\"\",\"\",ROWS($A$1:A285))","v":285},{"$f":"IF('SD Data Paste'!A286=\"\",\"\",'SD Data Paste'!A286)","v":9},{"$f":"IF('SD Data Paste'!B286=\"\",\"\",'SD Data Paste'!B286)","v":"B"},285,{"$f":"IF('SD Data Paste'!E286=\"\",\"\",'SD Data Paste'!E286)","v":"OM NATH"},{"$f":"IF('SD Data Paste'!G286=\"\",\"\",'SD Data Paste'!G286)","v":"MANGU NATH"}]
[{"$f":"IF(Table1[विद्यार्थी का नाम]=\"\",\"\",ROWS($A$1:A286))","v":286},{"$f":"IF('SD Data Paste'!A287=\"\",\"\",'SD Data Paste'!A287)","v":9},{"$f":"IF('SD Data Paste'!B287=\"\",\"\",'SD Data Paste'!B287)","v":"B"},286,{"$f":"IF('SD Data Paste'!E287=\"\",\"\",'SD Data Paste'!E287)","v":"PIYUSH GURJAR"},{"$f":"IF('SD Data Paste'!G287=\"\",\"\",'SD Data Paste'!G287)","v":"HARDEV GURJAR"}]
[{"$f":"IF(Table1[विद्यार्थी का नाम]=\"\",\"\",ROWS($A$1:A287))","v":287},{"$f":"IF('SD Data Paste'!A288=\"\",\"\",'SD Data Paste'!A288)","v":9},{"$f":"IF('SD Data Paste'!B288=\"\",\"\",'SD Data Paste'!B288)","v":"B"},287,{"$f":"IF('SD Data Paste'!E288=\"\",\"\",'SD Data Paste'!E288)","v":"POONAM CHAND"},{"$f":"IF('SD Data Paste'!G288=\"\",\"\",'SD Data Paste'!G288)","v":"PYARE LAL"}]
[{"$f":"IF(Table1[विद्यार्थी का नाम]=\"\",\"\",ROWS($A$1:A288))","v":288},{"$f":"IF('SD Data Paste'!A289=\"\",\"\",'SD Data Paste'!A289)","v":9},{"$f":"IF('SD Data Paste'!B289=\"\",\"\",'SD Data Paste'!B289)","v":"B"},288,{"$f":"IF('SD Data Paste'!E289=\"\",\"\",'SD Data Paste'!E289)","v":"PRABHU SINGH KANAWAT"},{"$f":"IF('SD Data Paste'!G289=\"\",\"\",'SD Data Paste'!G289)","v":"RANJEET SINGH KANAWAT"}]
[{"$f":"IF(Table1[विद्यार्थी का नाम]=\"\",\"\",ROWS($A$1:A289))","v":289},{"$f":"IF('SD Data Paste'!A290=\"\",\"\",'SD Data Paste'!A290)","v":9},{"$f":"IF('SD Data Paste'!B290=\"\",\"\",'SD Data Paste'!B290)","v":"B"},289,{"$f":"IF('SD Data Paste'!E290=\"\",\"\",'SD Data Paste'!E290)","v":"PRADEEP SINGH RAWAT"},{"$f":"IF('SD Data Paste'!G290=\"\",\"\",'SD Data Paste'!G290)","v":"BHEEM SINGH"}]
[{"$f":"IF(Table1[विद्यार्थी का नाम]=\"\",\"\",ROWS($A$1:A290))","v":290},{"$f":"IF('SD Data Paste'!A291=\"\",\"\",'SD Data Paste'!A291)","v":9},{"$f":"IF('SD Data Paste'!B291=\"\",\"\",'SD Data Paste'!B291)","v":"B"},290,{"$f":"IF('SD Data Paste'!E291=\"\",\"\",'SD Data Paste'!E291)","v":"PRAHLAD PRAJAPAT"},{"$f":"IF('SD Data Paste'!G291=\"\",\"\",'SD Data Paste'!G291)","v":"SRI SHESH MAL PRAJAPAT"}]
[{"$f":"IF(Table1[विद्यार्थी का नाम]=\"\",\"\",ROWS($A$1:A291))","v":291},{"$f":"IF('SD Data Paste'!A292=\"\",\"\",'SD Data Paste'!A292)","v":9},{"$f":"IF('SD Data Paste'!B292=\"\",\"\",'SD Data Paste'!B292)","v":"B"},291,{"$f":"IF('SD Data Paste'!E292=\"\",\"\",'SD Data Paste'!E292)","v":"PRAKASH KUMAR SALVI"},{"$f":"IF('SD Data Paste'!G292=\"\",\"\",'SD Data Paste'!G292)","v":"KASTUR LAL"}]
[{"$f":"IF(Table1[विद्यार्थी का नाम]=\"\",\"\",ROWS($A$1:A292))","v":292},{"$f":"IF('SD Data Paste'!A293=\"\",\"\",'SD Data Paste'!A293)","v":9},{"$f":"IF('SD Data Paste'!B293=\"\",\"\",'SD Data Paste'!B293)","v":"B"},292,{"$f":"IF('SD Data Paste'!E293=\"\",\"\",'SD Data Paste'!E293)","v":"Praveen"},{"$f":"IF('SD Data Paste'!G293=\"\",\"\",'SD Data Paste'!G293)","v":"Jagdish Chandra"}]
[{"$f":"IF(Table1[विद्यार्थी का नाम]=\"\",\"\",ROWS($A$1:A293))","v":293},{"$f":"IF('SD Data Paste'!A294=\"\",\"\",'SD Data Paste'!A294)","v":9},{"$f":"IF('SD Data Paste'!B294=\"\",\"\",'SD Data Paste'!B294)","v":"B"},293,{"$f":"IF('SD Data Paste'!E294=\"\",\"\",'SD Data Paste'!E294)","v":"Raghav Vaishnav"},{"$f":"IF('SD Data Paste'!G294=\"\",\"\",'SD Data Paste'!G294)","v":"Rajesh Vaishnav"}]
[{"$f":"IF(Table1[विद्यार्थी का नाम]=\"\",\"\",ROWS($A$1:A294))","v":294},{"$f":"IF('SD Data Paste'!A295=\"\",\"\",'SD Data Paste'!A295)","v":9},{"$f":"IF('SD Data Paste'!B295=\"\",\"\",'SD Data Paste'!B295)","v":"B"},294,{"$f":"IF('SD Data Paste'!E295=\"\",\"\",'SD Data Paste'!E295)","v":"Rahul Kumar Regar"},{"$f":"IF('SD Data Paste'!G295=\"\",\"\",'SD Data Paste'!G295)","v":"Pyara Lal Regar"}]
[{"$f":"IF(Table1[विद्यार्थी का नाम]=\"\",\"\",ROWS($A$1:A295))","v":295},{"$f":"IF('SD Data Paste'!A296=\"\",\"\",'SD Data Paste'!A296)","v":9},{"$f":"IF('SD Data Paste'!B296=\"\",\"\",'SD Data Paste'!B296)","v":"B"},295,{"$f":"IF('SD Data Paste'!E296=\"\",\"\",'SD Data Paste'!E296)","v":"RAHUL MALI"},{"$f":"IF('SD Data Paste'!G296=\"\",\"\",'SD Data Paste'!G296)","v":"BHERU LAL MALI"}]
[{"$f":"IF(Table1[विद्यार्थी का नाम]=\"\",\"\",ROWS($A$1:A296))","v":296},{"$f":"IF('SD Data Paste'!A297=\"\",\"\",'SD Data Paste'!A297)","v":9},{"$f":"IF('SD Data Paste'!B297=\"\",\"\",'SD Data Paste'!B297)","v":"B"},296,{"$f":"IF('SD Data Paste'!E297=\"\",\"\",'SD Data Paste'!E297)","v":"RAHUL MALI"},{"$f":"IF('SD Data Paste'!G297=\"\",\"\",'SD Data Paste'!G297)","v":"RAMESH LAL MALI"}]
[{"$f":"IF(Table1[विद्यार्थी का नाम]=\"\",\"\",ROWS($A$1:A297))","v":297},{"$f":"IF('SD Data Paste'!A298=\"\",\"\",'SD Data Paste'!A298)","v":9},{"$f":"IF('SD Data Paste'!B298=\"\",\"\",'SD Data Paste'!B298)","v":"B"},297,{"$f":"IF('SD Data Paste'!E298=\"\",\"\",'SD Data Paste'!E298)","v":"RAJENDRA SINGH"},{"$f":"IF('SD Data Paste'!G298=\"\",\"\",'SD Data Paste'!G298)","v":"KALYAN SINGH"}]
[{"$f":"IF(Table1[विद्यार्थी का नाम]=\"\",\"\",ROWS($A$1:A298))","v":298},{"$f":"IF('SD Data Paste'!A299=\"\",\"\",'SD Data Paste'!A299)","v":9},{"$f":"IF('SD Data Paste'!B299=\"\",\"\",'SD Data Paste'!B299)","v":"B"},298,{"$f":"IF('SD Data Paste'!E299=\"\",\"\",'SD Data Paste'!E299)","v":"Raju Mali"},{"$f":"IF('SD Data Paste'!G299=\"\",\"\",'SD Data Paste'!G299)","v":"Shyam Lal Mali"}]
[{"$f":"IF(Table1[विद्यार्थी का नाम]=\"\",\"\",ROWS($A$1:A299))","v":299},{"$f":"IF('SD Data Paste'!A300=\"\",\"\",'SD Data Paste'!A300)","v":9},{"$f":"IF('SD Data Paste'!B300=\"\",\"\",'SD Data Paste'!B300)","v":"B"},299,{"$f":"IF('SD Data Paste'!E300=\"\",\"\",'SD Data Paste'!E300)","v":"RAJU VAN"},{"$f":"IF('SD Data Paste'!G300=\"\",\"\",'SD Data Paste'!G300)","v":"SAMANDER VAN"}]
[{"$f":"IF(Table1[विद्यार्थी का नाम]=\"\",\"\",ROWS($A$1:A300))","v":300},{"$f":"IF('SD Data Paste'!A301=\"\",\"\",'SD Data Paste'!A301)","v":9},{"$f":"IF('SD Data Paste'!B301=\"\",\"\",'SD Data Paste'!B301)","v":"B"},300,{"$f":"IF('SD Data Paste'!E301=\"\",\"\",'SD Data Paste'!E301)","v":"Ramesh Singh"},{"$f":"IF('SD Data Paste'!G301=\"\",\"\",'SD Data Paste'!G301)","v":"Sohan Singh"}]
[{"$f":"IF(Table1[विद्यार्थी का नाम]=\"\",\"\",ROWS($A$1:A301))","v":301},{"$f":"IF('SD Data Paste'!A302=\"\",\"\",'SD Data Paste'!A302)","v":9},{"$f":"IF('SD Data Paste'!B302=\"\",\"\",'SD Data Paste'!B302)","v":"B"},301,{"$f":"IF('SD Data Paste'!E302=\"\",\"\",'SD Data Paste'!E302)","v":"Ravi Bharti Goswami"},{"$f":"IF('SD Data Paste'!G302=\"\",\"\",'SD Data Paste'!G302)","v":"Suresh Bharti Goswami"}]
[{"$f":"IF(Table1[विद्यार्थी का नाम]=\"\",\"\",ROWS($A$1:A302))","v":302},{"$f":"IF('SD Data Paste'!A303=\"\",\"\",'SD Data Paste'!A303)","v":9},{"$f":"IF('SD Data Paste'!B303=\"\",\"\",'SD Data Paste'!B303)","v":"B"},302,{"$f":"IF('SD Data Paste'!E303=\"\",\"\",'SD Data Paste'!E303)","v":"RAVINDRA SINGH"},{"$f":"IF('SD Data Paste'!G303=\"\",\"\",'SD Data Paste'!G303)","v":"MADAN SINGH"}]
[{"$f":"IF(Table1[विद्यार्थी का नाम]=\"\",\"\",ROWS($A$1:A303))","v":303},{"$f":"IF('SD Data Paste'!A304=\"\",\"\",'SD Data Paste'!A304)","v":9},{"$f":"IF('SD Data Paste'!B304=\"\",\"\",'SD Data Paste'!B304)","v":"B"},303,{"$f":"IF('SD Data Paste'!E304=\"\",\"\",'SD Data Paste'!E304)","v":"RAVINDRA SINGH RATHORE"},{"$f":"IF('SD Data Paste'!G304=\"\",\"\",'SD Data Paste'!G304)","v":"SHANKAR SINGH RATHORE"}]
[{"$f":"IF(Table1[विद्यार्थी का नाम]=\"\",\"\",ROWS($A$1:A304))","v":304},{"$f":"IF('SD Data Paste'!A305=\"\",\"\",'SD Data Paste'!A305)","v":9},{"$f":"IF('SD Data Paste'!B305=\"\",\"\",'SD Data Paste'!B305)","v":"B"},304,{"$f":"IF('SD Data Paste'!E305=\"\",\"\",'SD Data Paste'!E305)","v":"Rohit Gurjar"},{"$f":"IF('SD Data Paste'!G305=\"\",\"\",'SD Data Paste'!G305)","v":"Bhanwar Gurjar"}]
[{"$f":"IF(Table1[विद्यार्थी का नाम]=\"\",\"\",ROWS($A$1:A305))","v":305},{"$f":"IF('SD Data Paste'!A306=\"\",\"\",'SD Data Paste'!A306)","v":9},{"$f":"IF('SD Data Paste'!B306=\"\",\"\",'SD Data Paste'!B306)","v":"B"},305,{"$f":"IF('SD Data Paste'!E306=\"\",\"\",'SD Data Paste'!E306)","v":"Sachin Singh Tank"},{"$f":"IF('SD Data Paste'!G306=\"\",\"\",'SD Data Paste'!G306)","v":"Ajay Singh Tank"}]
[{"$f":"IF(Table1[विद्यार्थी का नाम]=\"\",\"\",ROWS($A$1:A306))","v":306},{"$f":"IF('SD Data Paste'!A307=\"\",\"\",'SD Data Paste'!A307)","v":9},{"$f":"IF('SD Data Paste'!B307=\"\",\"\",'SD Data Paste'!B307)","v":"B"},306,{"$f":"IF('SD Data Paste'!E307=\"\",\"\",'SD Data Paste'!E307)","v":"SADDAM HUSSAIN"},{"$f":"IF('SD Data Paste'!G307=\"\",\"\",'SD Data Paste'!G307)","v":"KHURSHID AHAMED"}]
[{"$f":"IF(Table1[विद्यार्थी का नाम]=\"\",\"\",ROWS($A$1:A307))","v":307},{"$f":"IF('SD Data Paste'!A308=\"\",\"\",'SD Data Paste'!A308)","v":9},{"$f":"IF('SD Data Paste'!B308=\"\",\"\",'SD Data Paste'!B308)","v":"B"},307,{"$f":"IF('SD Data Paste'!E308=\"\",\"\",'SD Data Paste'!E308)","v":"SAGAR SINGH"},{"$f":"IF('SD Data Paste'!G308=\"\",\"\",'SD Data Paste'!G308)","v":"MAHENDRA SINGH"}]
[{"$f":"IF(Table1[विद्यार्थी का नाम]=\"\",\"\",ROWS($A$1:A308))","v":308},{"$f":"IF('SD Data Paste'!A309=\"\",\"\",'SD Data Paste'!A309)","v":9},{"$f":"IF('SD Data Paste'!B309=\"\",\"\",'SD Data Paste'!B309)","v":"B"},308,{"$f":"IF('SD Data Paste'!E309=\"\",\"\",'SD Data Paste'!E309)","v":"SANJAY KALAL"},{"$f":"IF('SD Data Paste'!G309=\"\",\"\",'SD Data Paste'!G309)","v":"PRAKASH CHANDRA KALAL"}]
[{"$f":"IF(Table1[विद्यार्थी का नाम]=\"\",\"\",ROWS($A$1:A309))","v":309},{"$f":"IF('SD Data Paste'!A310=\"\",\"\",'SD Data Paste'!A310)","v":9},{"$f":"IF('SD Data Paste'!B310=\"\",\"\",'SD Data Paste'!B310)","v":"B"},309,{"$f":"IF('SD Data Paste'!E310=\"\",\"\",'SD Data Paste'!E310)","v":"Shahjan Sheikh"},{"$f":"IF('SD Data Paste'!G310=\"\",\"\",'SD Data Paste'!G310)","v":"Firojkha Sheikh"}]
[{"$f":"IF(Table1[विद्यार्थी का नाम]=\"\",\"\",ROWS($A$1:A310))","v":310},{"$f":"IF('SD Data Paste'!A311=\"\",\"\",'SD Data Paste'!A311)","v":9},{"$f":"IF('SD Data Paste'!B311=\"\",\"\",'SD Data Paste'!B311)","v":"B"},310,{"$f":"IF('SD Data Paste'!E311=\"\",\"\",'SD Data Paste'!E311)","v":"Shahnawaj Sheikh"},{"$f":"IF('SD Data Paste'!G311=\"\",\"\",'SD Data Paste'!G311)","v":"Abdul Hamid Sheikh"}]
[{"$f":"IF(Table1[विद्यार्थी का नाम]=\"\",\"\",ROWS($A$1:A311))","v":311},{"$f":"IF('SD Data Paste'!A312=\"\",\"\",'SD Data Paste'!A312)","v":9},{"$f":"IF('SD Data Paste'!B312=\"\",\"\",'SD Data Paste'!B312)","v":"B"},311,{"$f":"IF('SD Data Paste'!E312=\"\",\"\",'SD Data Paste'!E312)","v":"SHORYAWARDHAN SINGH KANAWAT"},{"$f":"IF('SD Data Paste'!G312=\"\",\"\",'SD Data Paste'!G312)","v":"HEMANT SINGH"}]
[{"$f":"IF(Table1[विद्यार्थी का नाम]=\"\",\"\",ROWS($A$1:A312))","v":312},{"$f":"IF('SD Data Paste'!A313=\"\",\"\",'SD Data Paste'!A313)","v":9},{"$f":"IF('SD Data Paste'!B313=\"\",\"\",'SD Data Paste'!B313)","v":"B"},312,{"$f":"IF('SD Data Paste'!E313=\"\",\"\",'SD Data Paste'!E313)","v":"SHUBHAM KUMAR HARIJAN"},{"$f":"IF('SD Data Paste'!G313=\"\",\"\",'SD Data Paste'!G313)","v":"RAMESH CHANDRA HARIJAN"}]
[{"$f":"IF(Table1[विद्यार्थी का नाम]=\"\",\"\",ROWS($A$1:A313))","v":313},{"$f":"IF('SD Data Paste'!A314=\"\",\"\",'SD Data Paste'!A314)","v":9},{"$f":"IF('SD Data Paste'!B314=\"\",\"\",'SD Data Paste'!B314)","v":"B"},313,{"$f":"IF('SD Data Paste'!E314=\"\",\"\",'SD Data Paste'!E314)","v":"Suraj Regar"},{"$f":"IF('SD Data Paste'!G314=\"\",\"\",'SD Data Paste'!G314)","v":"Suresh Regar"}]
[{"$f":"IF(Table1[विद्यार्थी का नाम]=\"\",\"\",ROWS($A$1:A314))","v":314},{"$f":"IF('SD Data Paste'!A315=\"\",\"\",'SD Data Paste'!A315)","v":9},{"$f":"IF('SD Data Paste'!B315=\"\",\"\",'SD Data Paste'!B315)","v":"B"},314,{"$f":"IF('SD Data Paste'!E315=\"\",\"\",'SD Data Paste'!E315)","v":"Tejas Gandhi"},{"$f":"IF('SD Data Paste'!G315=\"\",\"\",'SD Data Paste'!G315)","v":"Hastimal Gandhi"}]
[{"$f":"IF(Table1[विद्यार्थी का नाम]=\"\",\"\",ROWS($A$1:A315))","v":315},{"$f":"IF('SD Data Paste'!A316=\"\",\"\",'SD Data Paste'!A316)","v":9},{"$f":"IF('SD Data Paste'!B316=\"\",\"\",'SD Data Paste'!B316)","v":"B"},315,{"$f":"IF('SD Data Paste'!E316=\"\",\"\",'SD Data Paste'!E316)","v":"TEJPAL SINGH"},{"$f":"IF('SD Data Paste'!G316=\"\",\"\",'SD Data Paste'!G316)","v":"MOHAN SINGH"}]
[{"$f":"IF(Table1[विद्यार्थी का नाम]=\"\",\"\",ROWS($A$1:A316))","v":316},{"$f":"IF('SD Data Paste'!A317=\"\",\"\",'SD Data Paste'!A317)","v":9},{"$f":"IF('SD Data Paste'!B317=\"\",\"\",'SD Data Paste'!B317)","v":"B"},316,{"$f":"IF('SD Data Paste'!E317=\"\",\"\",'SD Data Paste'!E317)","v":"VIJAY LAL KALAL"},{"$f":"IF('SD Data Paste'!G317=\"\",\"\",'SD Data Paste'!G317)","v":"GOPI LAL KALAL"}]
[{"$f":"IF(Table1[विद्यार्थी का नाम]=\"\",\"\",ROWS($A$1:A317))","v":317},{"$f":"IF('SD Data Paste'!A318=\"\",\"\",'SD Data Paste'!A318)","v":9},{"$f":"IF('SD Data Paste'!B318=\"\",\"\",'SD Data Paste'!B318)","v":"B"},317,{"$f":"IF('SD Data Paste'!E318=\"\",\"\",'SD Data Paste'!E318)","v":"VIKAS DADVARIYA"},{"$f":"IF('SD Data Paste'!G318=\"\",\"\",'SD Data Paste'!G318)","v":"MADAN LAL DADVARIYA"}]
[{"$f":"IF(Table1[विद्यार्थी का नाम]=\"\",\"\",ROWS($A$1:A318))","v":318},{"$f":"IF('SD Data Paste'!A319=\"\",\"\",'SD Data Paste'!A319)","v":9},{"$f":"IF('SD Data Paste'!B319=\"\",\"\",'SD Data Paste'!B319)","v":"B"},318,{"$f":"IF('SD Data Paste'!E319=\"\",\"\",'SD Data Paste'!E319)","v":"VIKRAM SINGH"},{"$f":"IF('SD Data Paste'!G319=\"\",\"\",'SD Data Paste'!G319)","v":"TILOK SINGH"}]
[{"$f":"IF(Table1[विद्यार्थी का नाम]=\"\",\"\",ROWS($A$1:A319))","v":319},{"$f":"IF('SD Data Paste'!A320=\"\",\"\",'SD Data Paste'!A320)","v":9},{"$f":"IF('SD Data Paste'!B320=\"\",\"\",'SD Data Paste'!B320)","v":"B"},319,{"$f":"IF('SD Data Paste'!E320=\"\",\"\",'SD Data Paste'!E320)","v":"VINOD SALVI"},{"$f":"IF('SD Data Paste'!G320=\"\",\"\",'SD Data Paste'!G320)","v":"NENA RAM"}]
[{"$f":"IF(Table1[विद्यार्थी का नाम]=\"\",\"\",ROWS($A$1:A320))","v":320},{"$f":"IF('SD Data Paste'!A321=\"\",\"\",'SD Data Paste'!A321)","v":9},{"$f":"IF('SD Data Paste'!B321=\"\",\"\",'SD Data Paste'!B321)","v":"B"},320,{"$f":"IF('SD Data Paste'!E321=\"\",\"\",'SD Data Paste'!E321)","v":"VINOD SINGH"},{"$f":"IF('SD Data Paste'!G321=\"\",\"\",'SD Data Paste'!G321)","v":"MADAN SINGH"}]
[{"$f":"IF(Table1[विद्यार्थी का नाम]=\"\",\"\",ROWS($A$1:A321))","v":321},{"$f":"IF('SD Data Paste'!A322=\"\",\"\",'SD Data Paste'!A322)","v":9},{"$f":"IF('SD Data Paste'!B322=\"\",\"\",'SD Data Paste'!B322)","v":"B"},321,{"$f":"IF('SD Data Paste'!E322=\"\",\"\",'SD Data Paste'!E322)","v":"Virendra Singh"},{"$f":"IF('SD Data Paste'!G322=\"\",\"\",'SD Data Paste'!G322)","v":"Pooran Singh"}]
[{"$f":"IF(Table1[विद्यार्थी का नाम]=\"\",\"\",ROWS($A$1:A322))","v":322},{"$f":"IF('SD Data Paste'!A323=\"\",\"\",'SD Data Paste'!A323)","v":9},{"$f":"IF('SD Data Paste'!B323=\"\",\"\",'SD Data Paste'!B323)","v":"B"},322,{"$f":"IF('SD Data Paste'!E323=\"\",\"\",'SD Data Paste'!E323)","v":"VISHNU VAISHNAV"},{"$f":"IF('SD Data Paste'!G323=\"\",\"\",'SD Data Paste'!G323)","v":"KAILASH VAISHNAV"}]
[{"$f":"IF(Table1[विद्यार्थी का नाम]=\"\",\"\",ROWS($A$1:A323))","v":323},{"$f":"IF('SD Data Paste'!A324=\"\",\"\",'SD Data Paste'!A324)","v":9},{"$f":"IF('SD Data Paste'!B324=\"\",\"\",'SD Data Paste'!B324)","v":"B"},{"$f":"IF(D325=\"\",\"\",D325+1)","v":323},{"$f":"IF('SD Data Paste'!E324=\"\",\"\",'SD Data Paste'!E324)","v":"YASH GIRI GOSWAMI"},{"$f":"IF('SD Data Paste'!G324=\"\",\"\",'SD Data Paste'!G324)","v":"GIRIRAJ GIRI GOSWAMI"}]
[{"$f":"IF(Table1[विद्यार्थी का नाम]=\"\",\"\",ROWS($A$1:A324))","v":324},{"$f":"IF('SD Data Paste'!A325=\"\",\"\",'SD Data Paste'!A325)","v":9},{"$f":"IF('SD Data Paste'!B325=\"\",\"\",'SD Data Paste'!B325)","v":"B"},324,{"$f":"IF('SD Data Paste'!E325=\"\",\"\",'SD Data Paste'!E325)","v":"Yashwant Regar"},{"$f":"IF('SD Data Paste'!G325=\"\",\"\",'SD Data Paste'!G325)","v":"Pintu Kumar"}]
[{"$f":"IF(Table1[विद्यार्थी का नाम]=\"\",\"\",ROWS($A$1:A325))","v":325},{"$f":"IF('SD Data Paste'!A326=\"\",\"\",'SD Data Paste'!A326)","v":9},{"$f":"IF('SD Data Paste'!B326=\"\",\"\",'SD Data Paste'!B326)","v":"B"},325,{"$f":"IF('SD Data Paste'!E326=\"\",\"\",'SD Data Paste'!E326)","v":"YASHWANT SINGH"},{"$f":"IF('SD Data Paste'!G326=\"\",\"\",'SD Data Paste'!G326)","v":"PREM SINGH"}]
[{"$f":"IF(Table1[विद्यार्थी का नाम]=\"\",\"\",ROWS($A$1:A326))","v":326},{"$f":"IF('SD Data Paste'!A327=\"\",\"\",'SD Data Paste'!A327)","v":10},{"$f":"IF('SD Data Paste'!B327=\"\",\"\",'SD Data Paste'!B327)","v":"A"},326,{"$f":"IF('SD Data Paste'!E327=\"\",\"\",'SD Data Paste'!E327)","v":"ANUP KAHAR"},{"$f":"IF('SD Data Paste'!G327=\"\",\"\",'SD Data Paste'!G327)","v":"SOHAN LAL KAHAR"}]
[{"$f":"IF(Table1[विद्यार्थी का नाम]=\"\",\"\",ROWS($A$1:A327))","v":327},{"$f":"IF('SD Data Paste'!A328=\"\",\"\",'SD Data Paste'!A328)","v":10},{"$f":"IF('SD Data Paste'!B328=\"\",\"\",'SD Data Paste'!B328)","v":"A"},327,{"$f":"IF('SD Data Paste'!E328=\"\",\"\",'SD Data Paste'!E328)","v":"Anurag Suman"},{"$f":"IF('SD Data Paste'!G328=\"\",\"\",'SD Data Paste'!G328)","v":"Rajendra Kumar Suman"}]
[{"$f":"IF(Table1[विद्यार्थी का नाम]=\"\",\"\",ROWS($A$1:A328))","v":328},{"$f":"IF('SD Data Paste'!A329=\"\",\"\",'SD Data Paste'!A329)","v":10},{"$f":"IF('SD Data Paste'!B329=\"\",\"\",'SD Data Paste'!B329)","v":"A"},328,{"$f":"IF('SD Data Paste'!E329=\"\",\"\",'SD Data Paste'!E329)","v":"ARJUN SINGH"},{"$f":"IF('SD Data Paste'!G329=\"\",\"\",'SD Data Paste'!G329)","v":"GOPAL SINGH"}]
[{"$f":"IF(Table1[विद्यार्थी का नाम]=\"\",\"\",ROWS($A$1:A329))","v":329},{"$f":"IF('SD Data Paste'!A330=\"\",\"\",'SD Data Paste'!A330)","v":10},{"$f":"IF('SD Data Paste'!B330=\"\",\"\",'SD Data Paste'!B330)","v":"A"},329,{"$f":"IF('SD Data Paste'!E330=\"\",\"\",'SD Data Paste'!E330)","v":"BABLU KALAL"},{"$f":"IF('SD Data Paste'!G330=\"\",\"\",'SD Data Paste'!G330)","v":"NARAYAN LAL KALAL"}]
[{"$f":"IF(Table1[विद्यार्थी का नाम]=\"\",\"\",ROWS($A$1:A330))","v":330},{"$f":"IF('SD Data Paste'!A331=\"\",\"\",'SD Data Paste'!A331)","v":10},{"$f":"IF('SD Data Paste'!B331=\"\",\"\",'SD Data Paste'!B331)","v":"A"},330,{"$f":"IF('SD Data Paste'!E331=\"\",\"\",'SD Data Paste'!E331)","v":"BAHADUR RAWAL"},{"$f":"IF('SD Data Paste'!G331=\"\",\"\",'SD Data Paste'!G331)","v":"PARAS RAWAL"}]
[{"$f":"IF(Table1[विद्यार्थी का नाम]=\"\",\"\",ROWS($A$1:A331))","v":331},{"$f":"IF('SD Data Paste'!A332=\"\",\"\",'SD Data Paste'!A332)","v":10},{"$f":"IF('SD Data Paste'!B332=\"\",\"\",'SD Data Paste'!B332)","v":"A"},331,{"$f":"IF('SD Data Paste'!E332=\"\",\"\",'SD Data Paste'!E332)","v":"BHAIRU LAL RAYKA"},{"$f":"IF('SD Data Paste'!G332=\"\",\"\",'SD Data Paste'!G332)","v":"GANPAT LAL RAYKA"}]
[{"$f":"IF(Table1[विद्यार्थी का नाम]=\"\",\"\",ROWS($A$1:A332))","v":332},{"$f":"IF('SD Data Paste'!A333=\"\",\"\",'SD Data Paste'!A333)","v":10},{"$f":"IF('SD Data Paste'!B333=\"\",\"\",'SD Data Paste'!B333)","v":"A"},332,{"$f":"IF('SD Data Paste'!E333=\"\",\"\",'SD Data Paste'!E333)","v":"BHARAT KUMAR"},{"$f":"IF('SD Data Paste'!G333=\"\",\"\",'SD Data Paste'!G333)","v":"DEVI LAL"}]
[{"$f":"IF(Table1[विद्यार्थी का नाम]=\"\",\"\",ROWS($A$1:A333))","v":333},{"$f":"IF('SD Data Paste'!A334=\"\",\"\",'SD Data Paste'!A334)","v":10},{"$f":"IF('SD Data Paste'!B334=\"\",\"\",'SD Data Paste'!B334)","v":"A"},333,{"$f":"IF('SD Data Paste'!E334=\"\",\"\",'SD Data Paste'!E334)","v":"BHARAT KUMAR MALI"},{"$f":"IF('SD Data Paste'!G334=\"\",\"\",'SD Data Paste'!G334)","v":"MOHAN LAL MALI"}]
[{"$f":"IF(Table1[विद्यार्थी का नाम]=\"\",\"\",ROWS($A$1:A334))","v":334},{"$f":"IF('SD Data Paste'!A335=\"\",\"\",'SD Data Paste'!A335)","v":10},{"$f":"IF('SD Data Paste'!B335=\"\",\"\",'SD Data Paste'!B335)","v":"A"},334,{"$f":"IF('SD Data Paste'!E335=\"\",\"\",'SD Data Paste'!E335)","v":"BHAVESH MEWARA"},{"$f":"IF('SD Data Paste'!G335=\"\",\"\",'SD Data Paste'!G335)","v":"SOHAN LAL"}]
[{"$f":"IF(Table1[विद्यार्थी का नाम]=\"\",\"\",ROWS($A$1:A335))","v":335},{"$f":"IF('SD Data Paste'!A336=\"\",\"\",'SD Data Paste'!A336)","v":10},{"$f":"IF('SD Data Paste'!B336=\"\",\"\",'SD Data Paste'!B336)","v":"A"},335,{"$f":"IF('SD Data Paste'!E336=\"\",\"\",'SD Data Paste'!E336)","v":"Bhavesh Mewara"},{"$f":"IF('SD Data Paste'!G336=\"\",\"\",'SD Data Paste'!G336)","v":"Jagannath Mewara"}]
[{"$f":"IF(Table1[विद्यार्थी का नाम]=\"\",\"\",ROWS($A$1:A336))","v":336},{"$f":"IF('SD Data Paste'!A337=\"\",\"\",'SD Data Paste'!A337)","v":10},{"$f":"IF('SD Data Paste'!B337=\"\",\"\",'SD Data Paste'!B337)","v":"A"},336,{"$f":"IF('SD Data Paste'!E337=\"\",\"\",'SD Data Paste'!E337)","v":"Bhavesh Suthar"},{"$f":"IF('SD Data Paste'!G337=\"\",\"\",'SD Data Paste'!G337)","v":"Ramesh Lal Suthar"}]
[{"$f":"IF(Table1[विद्यार्थी का नाम]=\"\",\"\",ROWS($A$1:A337))","v":337},{"$f":"IF('SD Data Paste'!A338=\"\",\"\",'SD Data Paste'!A338)","v":10},{"$f":"IF('SD Data Paste'!B338=\"\",\"\",'SD Data Paste'!B338)","v":"A"},337,{"$f":"IF('SD Data Paste'!E338=\"\",\"\",'SD Data Paste'!E338)","v":"BHUPENDRA SINGH RAWAT"},{"$f":"IF('SD Data Paste'!G338=\"\",\"\",'SD Data Paste'!G338)","v":"MADAN SINGH"}]
[{"$f":"IF(Table1[विद्यार्थी का नाम]=\"\",\"\",ROWS($A$1:A338))","v":338},{"$f":"IF('SD Data Paste'!A339=\"\",\"\",'SD Data Paste'!A339)","v":10},{"$f":"IF('SD Data Paste'!B339=\"\",\"\",'SD Data Paste'!B339)","v":"A"},338,{"$f":"IF('SD Data Paste'!E339=\"\",\"\",'SD Data Paste'!E339)","v":"Chanderpal Singh"},{"$f":"IF('SD Data Paste'!G339=\"\",\"\",'SD Data Paste'!G339)","v":"Dunger Singh"}]
[{"$f":"IF(Table1[विद्यार्थी का नाम]=\"\",\"\",ROWS($A$1:A339))","v":339},{"$f":"IF('SD Data Paste'!A340=\"\",\"\",'SD Data Paste'!A340)","v":10},{"$f":"IF('SD Data Paste'!B340=\"\",\"\",'SD Data Paste'!B340)","v":"A"},339,{"$f":"IF('SD Data Paste'!E340=\"\",\"\",'SD Data Paste'!E340)","v":"CHHOTU LAL GAWARIYA"},{"$f":"IF('SD Data Paste'!G340=\"\",\"\",'SD Data Paste'!G340)","v":"MITHA LAL"}]
[{"$f":"IF(Table1[विद्यार्थी का नाम]=\"\",\"\",ROWS($A$1:A340))","v":340},{"$f":"IF('SD Data Paste'!A341=\"\",\"\",'SD Data Paste'!A341)","v":10},{"$f":"IF('SD Data Paste'!B341=\"\",\"\",'SD Data Paste'!B341)","v":"A"},340,{"$f":"IF('SD Data Paste'!E341=\"\",\"\",'SD Data Paste'!E341)","v":"Chitransh Deshantry"},{"$f":"IF('SD Data Paste'!G341=\"\",\"\",'SD Data Paste'!G341)","v":"Paresh Kumar Deshantry"}]
[{"$f":"IF(Table1[विद्यार्थी का नाम]=\"\",\"\",ROWS($A$1:A341))","v":341},{"$f":"IF('SD Data Paste'!A342=\"\",\"\",'SD Data Paste'!A342)","v":10},{"$f":"IF('SD Data Paste'!B342=\"\",\"\",'SD Data Paste'!B342)","v":"A"},341,{"$f":"IF('SD Data Paste'!E342=\"\",\"\",'SD Data Paste'!E342)","v":"DAGAR SINGH"},{"$f":"IF('SD Data Paste'!G342=\"\",\"\",'SD Data Paste'!G342)","v":"BHAGWAN SINGH"}]
[{"$f":"IF(Table1[विद्यार्थी का नाम]=\"\",\"\",ROWS($A$1:A342))","v":342},{"$f":"IF('SD Data Paste'!A343=\"\",\"\",'SD Data Paste'!A343)","v":10},{"$f":"IF('SD Data Paste'!B343=\"\",\"\",'SD Data Paste'!B343)","v":"A"},342,{"$f":"IF('SD Data Paste'!E343=\"\",\"\",'SD Data Paste'!E343)","v":"DALVEER SINGH"},{"$f":"IF('SD Data Paste'!G343=\"\",\"\",'SD Data Paste'!G343)","v":"KHEEM SINGH"}]
[{"$f":"IF(Table1[विद्यार्थी का नाम]=\"\",\"\",ROWS($A$1:A343))","v":343},{"$f":"IF('SD Data Paste'!A344=\"\",\"\",'SD Data Paste'!A344)","v":10},{"$f":"IF('SD Data Paste'!B344=\"\",\"\",'SD Data Paste'!B344)","v":"A"},343,{"$f":"IF('SD Data Paste'!E344=\"\",\"\",'SD Data Paste'!E344)","v":"DAU SINGH"},{"$f":"IF('SD Data Paste'!G344=\"\",\"\",'SD Data Paste'!G344)","v":"JETHU SINGH"}]
[{"$f":"IF(Table1[विद्यार्थी का नाम]=\"\",\"\",ROWS($A$1:A344))","v":344},{"$f":"IF('SD Data Paste'!A345=\"\",\"\",'SD Data Paste'!A345)","v":10},{"$f":"IF('SD Data Paste'!B345=\"\",\"\",'SD Data Paste'!B345)","v":"A"},344,{"$f":"IF('SD Data Paste'!E345=\"\",\"\",'SD Data Paste'!E345)","v":"Deepak Kumar Mali"},{"$f":"IF('SD Data Paste'!G345=\"\",\"\",'SD Data Paste'!G345)","v":"Suresh Chandra Mali"}]
[{"$f":"IF(Table1[विद्यार्थी का नाम]=\"\",\"\",ROWS($A$1:A345))","v":345},{"$f":"IF('SD Data Paste'!A346=\"\",\"\",'SD Data Paste'!A346)","v":10},{"$f":"IF('SD Data Paste'!B346=\"\",\"\",'SD Data Paste'!B346)","v":"A"},345,{"$f":"IF('SD Data Paste'!E346=\"\",\"\",'SD Data Paste'!E346)","v":"Deepanshu Regar"},{"$f":"IF('SD Data Paste'!G346=\"\",\"\",'SD Data Paste'!G346)","v":"Ladu Lal Regar"}]
[{"$f":"IF(Table1[विद्यार्थी का नाम]=\"\",\"\",ROWS($A$1:A346))","v":346},{"$f":"IF('SD Data Paste'!A347=\"\",\"\",'SD Data Paste'!A347)","v":10},{"$f":"IF('SD Data Paste'!B347=\"\",\"\",'SD Data Paste'!B347)","v":"A"},346,{"$f":"IF('SD Data Paste'!E347=\"\",\"\",'SD Data Paste'!E347)","v":"DEVENDRA GURJAR"},{"$f":"IF('SD Data Paste'!G347=\"\",\"\",'SD Data Paste'!G347)","v":"KANHAIYA LAL"}]
[{"$f":"IF(Table1[विद्यार्थी का नाम]=\"\",\"\",ROWS($A$1:A347))","v":347},{"$f":"IF('SD Data Paste'!A348=\"\",\"\",'SD Data Paste'!A348)","v":10},{"$f":"IF('SD Data Paste'!B348=\"\",\"\",'SD Data Paste'!B348)","v":"A"},347,{"$f":"IF('SD Data Paste'!E348=\"\",\"\",'SD Data Paste'!E348)","v":"DEVENDRA KUMAR KHATIK"},{"$f":"IF('SD Data Paste'!G348=\"\",\"\",'SD Data Paste'!G348)","v":"ARJUN LAL"}]
[{"$f":"IF(Table1[विद्यार्थी का नाम]=\"\",\"\",ROWS($A$1:A348))","v":348},{"$f":"IF('SD Data Paste'!A349=\"\",\"\",'SD Data Paste'!A349)","v":10},{"$f":"IF('SD Data Paste'!B349=\"\",\"\",'SD Data Paste'!B349)","v":"A"},348,{"$f":"IF('SD Data Paste'!E349=\"\",\"\",'SD Data Paste'!E349)","v":"DHARMESH KALAL"},{"$f":"IF('SD Data Paste'!G349=\"\",\"\",'SD Data Paste'!G349)","v":"KHUMAN LAL KALAL"}]
[{"$f":"IF(Table1[विद्यार्थी का नाम]=\"\",\"\",ROWS($A$1:A349))","v":349},{"$f":"IF('SD Data Paste'!A350=\"\",\"\",'SD Data Paste'!A350)","v":10},{"$f":"IF('SD Data Paste'!B350=\"\",\"\",'SD Data Paste'!B350)","v":"A"},349,{"$f":"IF('SD Data Paste'!E350=\"\",\"\",'SD Data Paste'!E350)","v":"DHARMVEER NATH"},{"$f":"IF('SD Data Paste'!G350=\"\",\"\",'SD Data Paste'!G350)","v":"SUA NATH"}]
[{"$f":"IF(Table1[विद्यार्थी का नाम]=\"\",\"\",ROWS($A$1:A350))","v":350},{"$f":"IF('SD Data Paste'!A351=\"\",\"\",'SD Data Paste'!A351)","v":10},{"$f":"IF('SD Data Paste'!B351=\"\",\"\",'SD Data Paste'!B351)","v":"A"},350,{"$f":"IF('SD Data Paste'!E351=\"\",\"\",'SD Data Paste'!E351)","v":"DUNGAR SINGH"},{"$f":"IF('SD Data Paste'!G351=\"\",\"\",'SD Data Paste'!G351)","v":"MOHAN SINGH"}]
[{"$f":"IF(Table1[विद्यार्थी का नाम]=\"\",\"\",ROWS($A$1:A351))","v":351},{"$f":"IF('SD Data Paste'!A352=\"\",\"\",'SD Data Paste'!A352)","v":10},{"$f":"IF('SD Data Paste'!B352=\"\",\"\",'SD Data Paste'!B352)","v":"A"},351,{"$f":"IF('SD Data Paste'!E352=\"\",\"\",'SD Data Paste'!E352)","v":"DUNGAR SINGH"},{"$f":"IF('SD Data Paste'!G352=\"\",\"\",'SD Data Paste'!G352)","v":"KHEEM SINGH"}]
[{"$f":"IF(Table1[विद्यार्थी का नाम]=\"\",\"\",ROWS($A$1:A352))","v":352},{"$f":"IF('SD Data Paste'!A353=\"\",\"\",'SD Data Paste'!A353)","v":10},{"$f":"IF('SD Data Paste'!B353=\"\",\"\",'SD Data Paste'!B353)","v":"A"},352,{"$f":"IF('SD Data Paste'!E353=\"\",\"\",'SD Data Paste'!E353)","v":"GANPAT SINGH"},{"$f":"IF('SD Data Paste'!G353=\"\",\"\",'SD Data Paste'!G353)","v":"LAXMAN SINGH"}]
[{"$f":"IF(Table1[विद्यार्थी का नाम]=\"\",\"\",ROWS($A$1:A353))","v":353},{"$f":"IF('SD Data Paste'!A354=\"\",\"\",'SD Data Paste'!A354)","v":10},{"$f":"IF('SD Data Paste'!B354=\"\",\"\",'SD Data Paste'!B354)","v":"A"},353,{"$f":"IF('SD Data Paste'!E354=\"\",\"\",'SD Data Paste'!E354)","v":"GAURAV MALI"},{"$f":"IF('SD Data Paste'!G354=\"\",\"\",'SD Data Paste'!G354)","v":"KAILASH MALI"}]
[{"$f":"IF(Table1[विद्यार्थी का नाम]=\"\",\"\",ROWS($A$1:A354))","v":354},{"$f":"IF('SD Data Paste'!A355=\"\",\"\",'SD Data Paste'!A355)","v":10},{"$f":"IF('SD Data Paste'!B355=\"\",\"\",'SD Data Paste'!B355)","v":"A"},354,{"$f":"IF('SD Data Paste'!E355=\"\",\"\",'SD Data Paste'!E355)","v":"GIRIRAJ GAWARIYA"},{"$f":"IF('SD Data Paste'!G355=\"\",\"\",'SD Data Paste'!G355)","v":"GOVIND GAWARIYA"}]
[{"$f":"IF(Table1[विद्यार्थी का नाम]=\"\",\"\",ROWS($A$1:A355))","v":355},{"$f":"IF('SD Data Paste'!A356=\"\",\"\",'SD Data Paste'!A356)","v":10},{"$f":"IF('SD Data Paste'!B356=\"\",\"\",'SD Data Paste'!B356)","v":"A"},355,{"$f":"IF('SD Data Paste'!E356=\"\",\"\",'SD Data Paste'!E356)","v":"Gopal Lal Gurjar"},{"$f":"IF('SD Data Paste'!G356=\"\",\"\",'SD Data Paste'!G356)","v":"Nenalal Gurjar"}]
[{"$f":"IF(Table1[विद्यार्थी का नाम]=\"\",\"\",ROWS($A$1:A356))","v":356},{"$f":"IF('SD Data Paste'!A357=\"\",\"\",'SD Data Paste'!A357)","v":10},{"$f":"IF('SD Data Paste'!B357=\"\",\"\",'SD Data Paste'!B357)","v":"A"},356,{"$f":"IF('SD Data Paste'!E357=\"\",\"\",'SD Data Paste'!E357)","v":"GOVIND MALI"},{"$f":"IF('SD Data Paste'!G357=\"\",\"\",'SD Data Paste'!G357)","v":"MADAN LAL MALI"}]
[{"$f":"IF(Table1[विद्यार्थी का नाम]=\"\",\"\",ROWS($A$1:A357))","v":357},{"$f":"IF('SD Data Paste'!A358=\"\",\"\",'SD Data Paste'!A358)","v":10},{"$f":"IF('SD Data Paste'!B358=\"\",\"\",'SD Data Paste'!B358)","v":"A"},357,{"$f":"IF('SD Data Paste'!E358=\"\",\"\",'SD Data Paste'!E358)","v":"Govind Nath Yogi"},{"$f":"IF('SD Data Paste'!G358=\"\",\"\",'SD Data Paste'!G358)","v":"Bhairu Nath Yogi"}]
[{"$f":"IF(Table1[विद्यार्थी का नाम]=\"\",\"\",ROWS($A$1:A358))","v":358},{"$f":"IF('SD Data Paste'!A359=\"\",\"\",'SD Data Paste'!A359)","v":10},{"$f":"IF('SD Data Paste'!B359=\"\",\"\",'SD Data Paste'!B359)","v":"A"},358,{"$f":"IF('SD Data Paste'!E359=\"\",\"\",'SD Data Paste'!E359)","v":"HEMANT SINGH RAWAT"},{"$f":"IF('SD Data Paste'!G359=\"\",\"\",'SD Data Paste'!G359)","v":"HARI SINGH"}]
[{"$f":"IF(Table1[विद्यार्थी का नाम]=\"\",\"\",ROWS($A$1:A359))","v":359},{"$f":"IF('SD Data Paste'!A360=\"\",\"\",'SD Data Paste'!A360)","v":10},{"$f":"IF('SD Data Paste'!B360=\"\",\"\",'SD Data Paste'!B360)","v":"A"},359,{"$f":"IF('SD Data Paste'!E360=\"\",\"\",'SD Data Paste'!E360)","v":"HEMENDRA"},{"$f":"IF('SD Data Paste'!G360=\"\",\"\",'SD Data Paste'!G360)","v":"LAXMAN LAL KALAL"}]
[{"$f":"IF(Table1[विद्यार्थी का नाम]=\"\",\"\",ROWS($A$1:A360))","v":360},{"$f":"IF('SD Data Paste'!A361=\"\",\"\",'SD Data Paste'!A361)","v":10},{"$f":"IF('SD Data Paste'!B361=\"\",\"\",'SD Data Paste'!B361)","v":"A"},360,{"$f":"IF('SD Data Paste'!E361=\"\",\"\",'SD Data Paste'!E361)","v":"HEMENDRA SEN"},{"$f":"IF('SD Data Paste'!G361=\"\",\"\",'SD Data Paste'!G361)","v":"BANSI LAL SEN"}]
[{"$f":"IF(Table1[विद्यार्थी का नाम]=\"\",\"\",ROWS($A$1:A361))","v":361},{"$f":"IF('SD Data Paste'!A362=\"\",\"\",'SD Data Paste'!A362)","v":10},{"$f":"IF('SD Data Paste'!B362=\"\",\"\",'SD Data Paste'!B362)","v":"A"},361,{"$f":"IF('SD Data Paste'!E362=\"\",\"\",'SD Data Paste'!E362)","v":"Hemraj Regar"},{"$f":"IF('SD Data Paste'!G362=\"\",\"\",'SD Data Paste'!G362)","v":"Nena Lal Regar"}]
[{"$f":"IF(Table1[विद्यार्थी का नाम]=\"\",\"\",ROWS($A$1:A362))","v":362},{"$f":"IF('SD Data Paste'!A363=\"\",\"\",'SD Data Paste'!A363)","v":10},{"$f":"IF('SD Data Paste'!B363=\"\",\"\",'SD Data Paste'!B363)","v":"A"},362,{"$f":"IF('SD Data Paste'!E363=\"\",\"\",'SD Data Paste'!E363)","v":"HINDRAJ SINGH PANWAR"},{"$f":"IF('SD Data Paste'!G363=\"\",\"\",'SD Data Paste'!G363)","v":"DWARKA SINGH PANWAR"}]
[{"$f":"IF(Table1[विद्यार्थी का नाम]=\"\",\"\",ROWS($A$1:A363))","v":363},{"$f":"IF('SD Data Paste'!A364=\"\",\"\",'SD Data Paste'!A364)","v":10},{"$f":"IF('SD Data Paste'!B364=\"\",\"\",'SD Data Paste'!B364)","v":"A"},363,{"$f":"IF('SD Data Paste'!E364=\"\",\"\",'SD Data Paste'!E364)","v":"JAGDISH CHANDRA"},{"$f":"IF('SD Data Paste'!G364=\"\",\"\",'SD Data Paste'!G364)","v":"DEVI LAL"}]
[{"$f":"IF(Table1[विद्यार्थी का नाम]=\"\",\"\",ROWS($A$1:A364))","v":364},{"$f":"IF('SD Data Paste'!A365=\"\",\"\",'SD Data Paste'!A365)","v":10},{"$f":"IF('SD Data Paste'!B365=\"\",\"\",'SD Data Paste'!B365)","v":"A"},364,{"$f":"IF('SD Data Paste'!E365=\"\",\"\",'SD Data Paste'!E365)","v":"JASRAJ NAT"},{"$f":"IF('SD Data Paste'!G365=\"\",\"\",'SD Data Paste'!G365)","v":"GOPAL LAL NAT"}]
[{"$f":"IF(Table1[विद्यार्थी का नाम]=\"\",\"\",ROWS($A$1:A365))","v":365},{"$f":"IF('SD Data Paste'!A366=\"\",\"\",'SD Data Paste'!A366)","v":10},{"$f":"IF('SD Data Paste'!B366=\"\",\"\",'SD Data Paste'!B366)","v":"A"},365,{"$f":"IF('SD Data Paste'!E366=\"\",\"\",'SD Data Paste'!E366)","v":"JEETU SINGH"},{"$f":"IF('SD Data Paste'!G366=\"\",\"\",'SD Data Paste'!G366)","v":"KISHAN SINGH"}]
[{"$f":"IF(Table1[विद्यार्थी का नाम]=\"\",\"\",ROWS($A$1:A366))","v":366},{"$f":"IF('SD Data Paste'!A367=\"\",\"\",'SD Data Paste'!A367)","v":10},{"$f":"IF('SD Data Paste'!B367=\"\",\"\",'SD Data Paste'!B367)","v":"A"},366,{"$f":"IF('SD Data Paste'!E367=\"\",\"\",'SD Data Paste'!E367)","v":"KAILASH SINGH"},{"$f":"IF('SD Data Paste'!G367=\"\",\"\",'SD Data Paste'!G367)","v":"BHANWAR SINGH"}]
[{"$f":"IF(Table1[विद्यार्थी का नाम]=\"\",\"\",ROWS($A$1:A367))","v":367},{"$f":"IF('SD Data Paste'!A368=\"\",\"\",'SD Data Paste'!A368)","v":10},{"$f":"IF('SD Data Paste'!B368=\"\",\"\",'SD Data Paste'!B368)","v":"A"},367,{"$f":"IF('SD Data Paste'!E368=\"\",\"\",'SD Data Paste'!E368)","v":"KAMLESH REGAR"},{"$f":"IF('SD Data Paste'!G368=\"\",\"\",'SD Data Paste'!G368)","v":"PARASMAL REGAR"}]
[{"$f":"IF(Table1[विद्यार्थी का नाम]=\"\",\"\",ROWS($A$1:A368))","v":368},{"$f":"IF('SD Data Paste'!A369=\"\",\"\",'SD Data Paste'!A369)","v":10},{"$f":"IF('SD Data Paste'!B369=\"\",\"\",'SD Data Paste'!B369)","v":"A"},368,{"$f":"IF('SD Data Paste'!E369=\"\",\"\",'SD Data Paste'!E369)","v":"Kamlesh Guvariya"},{"$f":"IF('SD Data Paste'!G369=\"\",\"\",'SD Data Paste'!G369)","v":"Lakha Ram Guvariya"}]
[{"$f":"IF(Table1[विद्यार्थी का नाम]=\"\",\"\",ROWS($A$1:A369))","v":369},{"$f":"IF('SD Data Paste'!A370=\"\",\"\",'SD Data Paste'!A370)","v":10},{"$f":"IF('SD Data Paste'!B370=\"\",\"\",'SD Data Paste'!B370)","v":"A"},369,{"$f":"IF('SD Data Paste'!E370=\"\",\"\",'SD Data Paste'!E370)","v":"Kamlesh Khatik"},{"$f":"IF('SD Data Paste'!G370=\"\",\"\",'SD Data Paste'!G370)","v":"Mukesh Kumar Khatik"}]
[{"$f":"IF(Table1[विद्यार्थी का नाम]=\"\",\"\",ROWS($A$1:A370))","v":370},{"$f":"IF('SD Data Paste'!A371=\"\",\"\",'SD Data Paste'!A371)","v":10},{"$f":"IF('SD Data Paste'!B371=\"\",\"\",'SD Data Paste'!B371)","v":"A"},370,{"$f":"IF('SD Data Paste'!E371=\"\",\"\",'SD Data Paste'!E371)","v":"KAMLESH SINGH"},{"$f":"IF('SD Data Paste'!G371=\"\",\"\",'SD Data Paste'!G371)","v":"BHERU SINGH"}]
[{"$f":"IF(Table1[विद्यार्थी का नाम]=\"\",\"\",ROWS($A$1:A371))","v":371},{"$f":"IF('SD Data Paste'!A372=\"\",\"\",'SD Data Paste'!A372)","v":10},{"$f":"IF('SD Data Paste'!B372=\"\",\"\",'SD Data Paste'!B372)","v":"A"},371,{"$f":"IF('SD Data Paste'!E372=\"\",\"\",'SD Data Paste'!E372)","v":"KARAN GAWARIYA"},{"$f":"IF('SD Data Paste'!G372=\"\",\"\",'SD Data Paste'!G372)","v":"BHURA LAL GAWARIYA"}]
[{"$f":"IF(Table1[विद्यार्थी का नाम]=\"\",\"\",ROWS($A$1:A372))","v":372},{"$f":"IF('SD Data Paste'!A373=\"\",\"\",'SD Data Paste'!A373)","v":10},{"$f":"IF('SD Data Paste'!B373=\"\",\"\",'SD Data Paste'!B373)","v":"A"},372,{"$f":"IF('SD Data Paste'!E373=\"\",\"\",'SD Data Paste'!E373)","v":"KISHAN JOSHI"},{"$f":"IF('SD Data Paste'!G373=\"\",\"\",'SD Data Paste'!G373)","v":"RADHE SHYAM JOSHI"}]
[{"$f":"IF(Table1[विद्यार्थी का नाम]=\"\",\"\",ROWS($A$1:A373))","v":373},{"$f":"IF('SD Data Paste'!A374=\"\",\"\",'SD Data Paste'!A374)","v":10},{"$f":"IF('SD Data Paste'!B374=\"\",\"\",'SD Data Paste'!B374)","v":"A"},373,{"$f":"IF('SD Data Paste'!E374=\"\",\"\",'SD Data Paste'!E374)","v":"KISHAN LAL REGAR"},{"$f":"IF('SD Data Paste'!G374=\"\",\"\",'SD Data Paste'!G374)","v":"BHANWAR LAL REGAR"}]
[{"$f":"IF(Table1[विद्यार्थी का नाम]=\"\",\"\",ROWS($A$1:A374))","v":374},{"$f":"IF('SD Data Paste'!A375=\"\",\"\",'SD Data Paste'!A375)","v":10},{"$f":"IF('SD Data Paste'!B375=\"\",\"\",'SD Data Paste'!B375)","v":"A"},374,{"$f":"IF('SD Data Paste'!E375=\"\",\"\",'SD Data Paste'!E375)","v":"KISHOR KAHAR"},{"$f":"IF('SD Data Paste'!G375=\"\",\"\",'SD Data Paste'!G375)","v":"GOVIND LAL KAHAR"}]
[{"$f":"IF(Table1[विद्यार्थी का नाम]=\"\",\"\",ROWS($A$1:A375))","v":375},{"$f":"IF('SD Data Paste'!A376=\"\",\"\",'SD Data Paste'!A376)","v":10},{"$f":"IF('SD Data Paste'!B376=\"\",\"\",'SD Data Paste'!B376)","v":"A"},375,{"$f":"IF('SD Data Paste'!E376=\"\",\"\",'SD Data Paste'!E376)","v":"KISHOR NATH"},{"$f":"IF('SD Data Paste'!G376=\"\",\"\",'SD Data Paste'!G376)","v":"LADU NATH"}]
[{"$f":"IF(Table1[विद्यार्थी का नाम]=\"\",\"\",ROWS($A$1:A376))","v":376},{"$f":"IF('SD Data Paste'!A377=\"\",\"\",'SD Data Paste'!A377)","v":10},{"$f":"IF('SD Data Paste'!B377=\"\",\"\",'SD Data Paste'!B377)","v":"A"},376,{"$f":"IF('SD Data Paste'!E377=\"\",\"\",'SD Data Paste'!E377)","v":"KISHOR SINGH"},{"$f":"IF('SD Data Paste'!G377=\"\",\"\",'SD Data Paste'!G377)","v":"TILOK SINGH"}]
[{"$f":"IF(Table1[विद्यार्थी का नाम]=\"\",\"\",ROWS($A$1:A377))","v":377},{"$f":"IF('SD Data Paste'!A378=\"\",\"\",'SD Data Paste'!A378)","v":10},{"$f":"IF('SD Data Paste'!B378=\"\",\"\",'SD Data Paste'!B378)","v":"A"},377,{"$f":"IF('SD Data Paste'!E378=\"\",\"\",'SD Data Paste'!E378)","v":"Lavish Jeengar"},{"$f":"IF('SD Data Paste'!G378=\"\",\"\",'SD Data Paste'!G378)","v":"Paras Jeengar"}]
[{"$f":"IF(Table1[विद्यार्थी का नाम]=\"\",\"\",ROWS($A$1:A378))","v":378},{"$f":"IF('SD Data Paste'!A379=\"\",\"\",'SD Data Paste'!A379)","v":10},{"$f":"IF('SD Data Paste'!B379=\"\",\"\",'SD Data Paste'!B379)","v":"A"},378,{"$f":"IF('SD Data Paste'!E379=\"\",\"\",'SD Data Paste'!E379)","v":"LOKESH MALI"},{"$f":"IF('SD Data Paste'!G379=\"\",\"\",'SD Data Paste'!G379)","v":"TARU MALI"}]
[{"$f":"IF(Table1[विद्यार्थी का नाम]=\"\",\"\",ROWS($A$1:A379))","v":379},{"$f":"IF('SD Data Paste'!A380=\"\",\"\",'SD Data Paste'!A380)","v":10},{"$f":"IF('SD Data Paste'!B380=\"\",\"\",'SD Data Paste'!B380)","v":"B"},379,{"$f":"IF('SD Data Paste'!E380=\"\",\"\",'SD Data Paste'!E380)","v":"BANTI MOHAMMAD"},{"$f":"IF('SD Data Paste'!G380=\"\",\"\",'SD Data Paste'!G380)","v":"SADDIK MOHAMMAD"}]
[{"$f":"IF(Table1[विद्यार्थी का नाम]=\"\",\"\",ROWS($A$1:A380))","v":380},{"$f":"IF('SD Data Paste'!A381=\"\",\"\",'SD Data Paste'!A381)","v":10},{"$f":"IF('SD Data Paste'!B381=\"\",\"\",'SD Data Paste'!B381)","v":"B"},380,{"$f":"IF('SD Data Paste'!E381=\"\",\"\",'SD Data Paste'!E381)","v":"MADAN REGAR"},{"$f":"IF('SD Data Paste'!G381=\"\",\"\",'SD Data Paste'!G381)","v":"KESHU LAL REGAR"}]
[{"$f":"IF(Table1[विद्यार्थी का नाम]=\"\",\"\",ROWS($A$1:A381))","v":381},{"$f":"IF('SD Data Paste'!A382=\"\",\"\",'SD Data Paste'!A382)","v":10},{"$f":"IF('SD Data Paste'!B382=\"\",\"\",'SD Data Paste'!B382)","v":"B"},381,{"$f":"IF('SD Data Paste'!E382=\"\",\"\",'SD Data Paste'!E382)","v":"MAHAVEER SINGH"},{"$f":"IF('SD Data Paste'!G382=\"\",\"\",'SD Data Paste'!G382)","v":"GOPAL SINGH"}]
[{"$f":"IF(Table1[विद्यार्थी का नाम]=\"\",\"\",ROWS($A$1:A382))","v":382},{"$f":"IF('SD Data Paste'!A383=\"\",\"\",'SD Data Paste'!A383)","v":10},{"$f":"IF('SD Data Paste'!B383=\"\",\"\",'SD Data Paste'!B383)","v":"B"},382,{"$f":"IF('SD Data Paste'!E383=\"\",\"\",'SD Data Paste'!E383)","v":"MAHENDRA LAL LOHAR"},{"$f":"IF('SD Data Paste'!G383=\"\",\"\",'SD Data Paste'!G383)","v":"SURESH LAL LOHAR"}]
[{"$f":"IF(Table1[विद्यार्थी का नाम]=\"\",\"\",ROWS($A$1:A383))","v":383},{"$f":"IF('SD Data Paste'!A384=\"\",\"\",'SD Data Paste'!A384)","v":10},{"$f":"IF('SD Data Paste'!B384=\"\",\"\",'SD Data Paste'!B384)","v":"B"},383,{"$f":"IF('SD Data Paste'!E384=\"\",\"\",'SD Data Paste'!E384)","v":"MAHENDRA SINGH"},{"$f":"IF('SD Data Paste'!G384=\"\",\"\",'SD Data Paste'!G384)","v":"BABU SINGH"}]
[{"$f":"IF(Table1[विद्यार्थी का नाम]=\"\",\"\",ROWS($A$1:A384))","v":384},{"$f":"IF('SD Data Paste'!A385=\"\",\"\",'SD Data Paste'!A385)","v":10},{"$f":"IF('SD Data Paste'!B385=\"\",\"\",'SD Data Paste'!B385)","v":"B"},384,{"$f":"IF('SD Data Paste'!E385=\"\",\"\",'SD Data Paste'!E385)","v":"MAHENDRA SINGH"},{"$f":"IF('SD Data Paste'!G385=\"\",\"\",'SD Data Paste'!G385)","v":"TEJ SINGH"}]
[{"$f":"IF(Table1[विद्यार्थी का नाम]=\"\",\"\",ROWS($A$1:A385))","v":385},{"$f":"IF('SD Data Paste'!A386=\"\",\"\",'SD Data Paste'!A386)","v":10},{"$f":"IF('SD Data Paste'!B386=\"\",\"\",'SD Data Paste'!B386)","v":"B"},385,{"$f":"IF('SD Data Paste'!E386=\"\",\"\",'SD Data Paste'!E386)","v":"MAHESH REGAR"},{"$f":"IF('SD Data Paste'!G386=\"\",\"\",'SD Data Paste'!G386)","v":"PRABHU LAL REGAR"}]
[{"$f":"IF(Table1[विद्यार्थी का नाम]=\"\",\"\",ROWS($A$1:A386))","v":386},{"$f":"IF('SD Data Paste'!A387=\"\",\"\",'SD Data Paste'!A387)","v":10},{"$f":"IF('SD Data Paste'!B387=\"\",\"\",'SD Data Paste'!B387)","v":"B"},386,{"$f":"IF('SD Data Paste'!E387=\"\",\"\",'SD Data Paste'!E387)","v":"MANOHAR SINGH"},{"$f":"IF('SD Data Paste'!G387=\"\",\"\",'SD Data Paste'!G387)","v":"KHUMAN SINGH"}]
[{"$f":"IF(Table1[विद्यार्थी का नाम]=\"\",\"\",ROWS($A$1:A387))","v":387},{"$f":"IF('SD Data Paste'!A388=\"\",\"\",'SD Data Paste'!A388)","v":10},{"$f":"IF('SD Data Paste'!B388=\"\",\"\",'SD Data Paste'!B388)","v":"B"},{"$f":"IF(D389=\"\",\"\",D389+1)","v":387},{"$f":"IF('SD Data Paste'!E388=\"\",\"\",'SD Data Paste'!E388)","v":"MAYUR KUMAR"},{"$f":"IF('SD Data Paste'!G388=\"\",\"\",'SD Data Paste'!G388)","v":"PARAS KUMAR PRAJAPAT"}]
[{"$f":"IF(Table1[विद्यार्थी का नाम]=\"\",\"\",ROWS($A$1:A388))","v":388},{"$f":"IF('SD Data Paste'!A389=\"\",\"\",'SD Data Paste'!A389)","v":10},{"$f":"IF('SD Data Paste'!B389=\"\",\"\",'SD Data Paste'!B389)","v":"B"},388,{"$f":"IF('SD Data Paste'!E389=\"\",\"\",'SD Data Paste'!E389)","v":"MOHAMMAD ABRAJ"},{"$f":"IF('SD Data Paste'!G389=\"\",\"\",'SD Data Paste'!G389)","v":"GANEE MOHAMMAD"}]
[{"$f":"IF(Table1[विद्यार्थी का नाम]=\"\",\"\",ROWS($A$1:A389))","v":389},{"$f":"IF('SD Data Paste'!A390=\"\",\"\",'SD Data Paste'!A390)","v":10},{"$f":"IF('SD Data Paste'!B390=\"\",\"\",'SD Data Paste'!B390)","v":"B"},389,{"$f":"IF('SD Data Paste'!E390=\"\",\"\",'SD Data Paste'!E390)","v":"MOHAMMAD FIROJ HASAMI"},{"$f":"IF('SD Data Paste'!G390=\"\",\"\",'SD Data Paste'!G390)","v":"NASIB ALI"}]
[{"$f":"IF(Table1[विद्यार्थी का नाम]=\"\",\"\",ROWS($A$1:A390))","v":390},{"$f":"IF('SD Data Paste'!A391=\"\",\"\",'SD Data Paste'!A391)","v":10},{"$f":"IF('SD Data Paste'!B391=\"\",\"\",'SD Data Paste'!B391)","v":"B"},390,{"$f":"IF('SD Data Paste'!E391=\"\",\"\",'SD Data Paste'!E391)","v":"MONU SHARMA"},{"$f":"IF('SD Data Paste'!G391=\"\",\"\",'SD Data Paste'!G391)","v":"RAKESH KUMAR SHARMA"}]
[{"$f":"IF(Table1[विद्यार्थी का नाम]=\"\",\"\",ROWS($A$1:A391))","v":391},{"$f":"IF('SD Data Paste'!A392=\"\",\"\",'SD Data Paste'!A392)","v":10},{"$f":"IF('SD Data Paste'!B392=\"\",\"\",'SD Data Paste'!B392)","v":"B"},391,{"$f":"IF('SD Data Paste'!E392=\"\",\"\",'SD Data Paste'!E392)","v":"NARENDRA KUMAR SALVI"},{"$f":"IF('SD Data Paste'!G392=\"\",\"\",'SD Data Paste'!G392)","v":"BHERU LAL SALVI"}]
[{"$f":"IF(Table1[विद्यार्थी का नाम]=\"\",\"\",ROWS($A$1:A392))","v":392},{"$f":"IF('SD Data Paste'!A393=\"\",\"\",'SD Data Paste'!A393)","v":10},{"$f":"IF('SD Data Paste'!B393=\"\",\"\",'SD Data Paste'!B393)","v":"B"},392,{"$f":"IF('SD Data Paste'!E393=\"\",\"\",'SD Data Paste'!E393)","v":"NARESH KUMAR GURJAR"},{"$f":"IF('SD Data Paste'!G393=\"\",\"\",'SD Data Paste'!G393)","v":"MANGI LAL"}]
[{"$f":"IF(Table1[विद्यार्थी का नाम]=\"\",\"\",ROWS($A$1:A393))","v":393},{"$f":"IF('SD Data Paste'!A394=\"\",\"\",'SD Data Paste'!A394)","v":10},{"$f":"IF('SD Data Paste'!B394=\"\",\"\",'SD Data Paste'!B394)","v":"B"},393,{"$f":"IF('SD Data Paste'!E394=\"\",\"\",'SD Data Paste'!E394)","v":"NIKHIL KUMAR HARIJAN"},{"$f":"IF('SD Data Paste'!G394=\"\",\"\",'SD Data Paste'!G394)","v":"LALIT KUMAR"}]
[{"$f":"IF(Table1[विद्यार्थी का नाम]=\"\",\"\",ROWS($A$1:A394))","v":394},{"$f":"IF('SD Data Paste'!A395=\"\",\"\",'SD Data Paste'!A395)","v":10},{"$f":"IF('SD Data Paste'!B395=\"\",\"\",'SD Data Paste'!B395)","v":"B"},394,{"$f":"IF('SD Data Paste'!E395=\"\",\"\",'SD Data Paste'!E395)","v":"NIRMAL KUMAR SALVI"},{"$f":"IF('SD Data Paste'!G395=\"\",\"\",'SD Data Paste'!G395)","v":"LAXMAN LAL"}]
[{"$f":"IF(Table1[विद्यार्थी का नाम]=\"\",\"\",ROWS($A$1:A395))","v":395},{"$f":"IF('SD Data Paste'!A396=\"\",\"\",'SD Data Paste'!A396)","v":10},{"$f":"IF('SD Data Paste'!B396=\"\",\"\",'SD Data Paste'!B396)","v":"B"},395,{"$f":"IF('SD Data Paste'!E396=\"\",\"\",'SD Data Paste'!E396)","v":"NUVESH VAN"},{"$f":"IF('SD Data Paste'!G396=\"\",\"\",'SD Data Paste'!G396)","v":"LAXMAN VAN"}]
[{"$f":"IF(Table1[विद्यार्थी का नाम]=\"\",\"\",ROWS($A$1:A396))","v":396},{"$f":"IF('SD Data Paste'!A397=\"\",\"\",'SD Data Paste'!A397)","v":10},{"$f":"IF('SD Data Paste'!B397=\"\",\"\",'SD Data Paste'!B397)","v":"B"},396,{"$f":"IF('SD Data Paste'!E397=\"\",\"\",'SD Data Paste'!E397)","v":"PANKAJ REGAR"},{"$f":"IF('SD Data Paste'!G397=\"\",\"\",'SD Data Paste'!G397)","v":"BHAGWAN LAL"}]
[{"$f":"IF(Table1[विद्यार्थी का नाम]=\"\",\"\",ROWS($A$1:A397))","v":397},{"$f":"IF('SD Data Paste'!A398=\"\",\"\",'SD Data Paste'!A398)","v":10},{"$f":"IF('SD Data Paste'!B398=\"\",\"\",'SD Data Paste'!B398)","v":"B"},397,{"$f":"IF('SD Data Paste'!E398=\"\",\"\",'SD Data Paste'!E398)","v":"Pawan Chandel"},{"$f":"IF('SD Data Paste'!G398=\"\",\"\",'SD Data Paste'!G398)","v":"Govind Chandel"}]
[{"$f":"IF(Table1[विद्यार्थी का नाम]=\"\",\"\",ROWS($A$1:A398))","v":398},{"$f":"IF('SD Data Paste'!A399=\"\",\"\",'SD Data Paste'!A399)","v":10},{"$f":"IF('SD Data Paste'!B399=\"\",\"\",'SD Data Paste'!B399)","v":"B"},398,{"$f":"IF('SD Data Paste'!E399=\"\",\"\",'SD Data Paste'!E399)","v":"PAWAN KUMAR REGAR"},{"$f":"IF('SD Data Paste'!G399=\"\",\"\",'SD Data Paste'!G399)","v":"SURESH CHANDRA REGAR"}]
[{"$f":"IF(Table1[विद्यार्थी का नाम]=\"\",\"\",ROWS($A$1:A399))","v":399},{"$f":"IF('SD Data Paste'!A400=\"\",\"\",'SD Data Paste'!A400)","v":10},{"$f":"IF('SD Data Paste'!B400=\"\",\"\",'SD Data Paste'!B400)","v":"B"},399,{"$f":"IF('SD Data Paste'!E400=\"\",\"\",'SD Data Paste'!E400)","v":"PRAHLAD REGAR"},{"$f":"IF('SD Data Paste'!G400=\"\",\"\",'SD Data Paste'!G400)","v":"VIJAY RAM REGAR"}]
[{"$f":"IF(Table1[विद्यार्थी का नाम]=\"\",\"\",ROWS($A$1:A400))","v":400},{"$f":"IF('SD Data Paste'!A401=\"\",\"\",'SD Data Paste'!A401)","v":10},{"$f":"IF('SD Data Paste'!B401=\"\",\"\",'SD Data Paste'!B401)","v":"B"},400,{"$f":"IF('SD Data Paste'!E401=\"\",\"\",'SD Data Paste'!E401)","v":"PRAKASH KALAL"},{"$f":"IF('SD Data Paste'!G401=\"\",\"\",'SD Data Paste'!G401)","v":"BHERU LAL KALAL"}]
[{"$f":"IF(Table1[विद्यार्थी का नाम]=\"\",\"\",ROWS($A$1:A401))","v":401},{"$f":"IF('SD Data Paste'!A402=\"\",\"\",'SD Data Paste'!A402)","v":10},{"$f":"IF('SD Data Paste'!B402=\"\",\"\",'SD Data Paste'!B402)","v":"B"},401,{"$f":"IF('SD Data Paste'!E402=\"\",\"\",'SD Data Paste'!E402)","v":"PRAKASH SINGH"},{"$f":"IF('SD Data Paste'!G402=\"\",\"\",'SD Data Paste'!G402)","v":"TEJ SINGH"}]
[{"$f":"IF(Table1[विद्यार्थी का नाम]=\"\",\"\",ROWS($A$1:A402))","v":402},{"$f":"IF('SD Data Paste'!A403=\"\",\"\",'SD Data Paste'!A403)","v":10},{"$f":"IF('SD Data Paste'!B403=\"\",\"\",'SD Data Paste'!B403)","v":"B"},402,{"$f":"IF('SD Data Paste'!E403=\"\",\"\",'SD Data Paste'!E403)","v":"PRAVEEN KUMAR REGAR"},{"$f":"IF('SD Data Paste'!G403=\"\",\"\",'SD Data Paste'!G403)","v":"PREM LAL REGAR"}]
[{"$f":"IF(Table1[विद्यार्थी का नाम]=\"\",\"\",ROWS($A$1:A403))","v":403},{"$f":"IF('SD Data Paste'!A404=\"\",\"\",'SD Data Paste'!A404)","v":10},{"$f":"IF('SD Data Paste'!B404=\"\",\"\",'SD Data Paste'!B404)","v":"B"},403,{"$f":"IF('SD Data Paste'!E404=\"\",\"\",'SD Data Paste'!E404)","v":"PRINCE KUMAR REGAR"},{"$f":"IF('SD Data Paste'!G404=\"\",\"\",'SD Data Paste'!G404)","v":"KISHAN LAL"}]
[{"$f":"IF(Table1[विद्यार्थी का नाम]=\"\",\"\",ROWS($A$1:A404))","v":404},{"$f":"IF('SD Data Paste'!A405=\"\",\"\",'SD Data Paste'!A405)","v":10},{"$f":"IF('SD Data Paste'!B405=\"\",\"\",'SD Data Paste'!B405)","v":"B"},404,{"$f":"IF('SD Data Paste'!E405=\"\",\"\",'SD Data Paste'!E405)","v":"Priyadarshan Singh"},{"$f":"IF('SD Data Paste'!G405=\"\",\"\",'SD Data Paste'!G405)","v":"Pratap Singh Chouhan"}]
[{"$f":"IF(Table1[विद्यार्थी का नाम]=\"\",\"\",ROWS($A$1:A405))","v":405},{"$f":"IF('SD Data Paste'!A406=\"\",\"\",'SD Data Paste'!A406)","v":10},{"$f":"IF('SD Data Paste'!B406=\"\",\"\",'SD Data Paste'!B406)","v":"B"},405,{"$f":"IF('SD Data Paste'!E406=\"\",\"\",'SD Data Paste'!E406)","v":"Priyanshu Vaishnav"},{"$f":"IF('SD Data Paste'!G406=\"\",\"\",'SD Data Paste'!G406)","v":"Dilkhush Vaishnav"}]
[{"$f":"IF(Table1[विद्यार्थी का नाम]=\"\",\"\",ROWS($A$1:A406))","v":406},{"$f":"IF('SD Data Paste'!A407=\"\",\"\",'SD Data Paste'!A407)","v":10},{"$f":"IF('SD Data Paste'!B407=\"\",\"\",'SD Data Paste'!B407)","v":"B"},406,{"$f":"IF('SD Data Paste'!E407=\"\",\"\",'SD Data Paste'!E407)","v":"PUROSHATTAM DAS VAISHNAV"},{"$f":"IF('SD Data Paste'!G407=\"\",\"\",'SD Data Paste'!G407)","v":"SHANKAR DAS"}]
[{"$f":"IF(Table1[विद्यार्थी का नाम]=\"\",\"\",ROWS($A$1:A407))","v":407},{"$f":"IF('SD Data Paste'!A408=\"\",\"\",'SD Data Paste'!A408)","v":10},{"$f":"IF('SD Data Paste'!B408=\"\",\"\",'SD Data Paste'!B408)","v":"B"},407,{"$f":"IF('SD Data Paste'!E408=\"\",\"\",'SD Data Paste'!E408)","v":"RAHUL MALI"},{"$f":"IF('SD Data Paste'!G408=\"\",\"\",'SD Data Paste'!G408)","v":"KANHAIYA LAL MALI"}]
[{"$f":"IF(Table1[विद्यार्थी का नाम]=\"\",\"\",ROWS($A$1:A408))","v":408},{"$f":"IF('SD Data Paste'!A409=\"\",\"\",'SD Data Paste'!A409)","v":10},{"$f":"IF('SD Data Paste'!B409=\"\",\"\",'SD Data Paste'!B409)","v":"B"},408,{"$f":"IF('SD Data Paste'!E409=\"\",\"\",'SD Data Paste'!E409)","v":"RAHUL MALI"},{"$f":"IF('SD Data Paste'!G409=\"\",\"\",'SD Data Paste'!G409)","v":"BHERU LAL"}]
[{"$f":"IF(Table1[विद्यार्थी का नाम]=\"\",\"\",ROWS($A$1:A409))","v":409},{"$f":"IF('SD Data Paste'!A410=\"\",\"\",'SD Data Paste'!A410)","v":10},{"$f":"IF('SD Data Paste'!B410=\"\",\"\",'SD Data Paste'!B410)","v":"B"},409,{"$f":"IF('SD Data Paste'!E410=\"\",\"\",'SD Data Paste'!E410)","v":"RAHUL PRAJAPAT"},{"$f":"IF('SD Data Paste'!G410=\"\",\"\",'SD Data Paste'!G410)","v":"GANGA RAM"}]
[{"$f":"IF(Table1[विद्यार्थी का नाम]=\"\",\"\",ROWS($A$1:A410))","v":410},{"$f":"IF('SD Data Paste'!A411=\"\",\"\",'SD Data Paste'!A411)","v":10},{"$f":"IF('SD Data Paste'!B411=\"\",\"\",'SD Data Paste'!B411)","v":"B"},410,{"$f":"IF('SD Data Paste'!E411=\"\",\"\",'SD Data Paste'!E411)","v":"RAJENDRA KUMAR REGAR"},{"$f":"IF('SD Data Paste'!G411=\"\",\"\",'SD Data Paste'!G411)","v":"JAGDISH CHANDRA"}]
[{"$f":"IF(Table1[विद्यार्थी का नाम]=\"\",\"\",ROWS($A$1:A411))","v":411},{"$f":"IF('SD Data Paste'!A412=\"\",\"\",'SD Data Paste'!A412)","v":10},{"$f":"IF('SD Data Paste'!B412=\"\",\"\",'SD Data Paste'!B412)","v":"B"},411,{"$f":"IF('SD Data Paste'!E412=\"\",\"\",'SD Data Paste'!E412)","v":"Rajendra Singh"},{"$f":"IF('SD Data Paste'!G412=\"\",\"\",'SD Data Paste'!G412)","v":"Khuman Singh"}]
[{"$f":"IF(Table1[विद्यार्थी का नाम]=\"\",\"\",ROWS($A$1:A412))","v":412},{"$f":"IF('SD Data Paste'!A413=\"\",\"\",'SD Data Paste'!A413)","v":10},{"$f":"IF('SD Data Paste'!B413=\"\",\"\",'SD Data Paste'!B413)","v":"B"},412,{"$f":"IF('SD Data Paste'!E413=\"\",\"\",'SD Data Paste'!E413)","v":"RAKESH DASANA"},{"$f":"IF('SD Data Paste'!G413=\"\",\"\",'SD Data Paste'!G413)","v":"BHANWAR LAL BHIL"}]
[{"$f":"IF(Table1[विद्यार्थी का नाम]=\"\",\"\",ROWS($A$1:A413))","v":413},{"$f":"IF('SD Data Paste'!A414=\"\",\"\",'SD Data Paste'!A414)","v":10},{"$f":"IF('SD Data Paste'!B414=\"\",\"\",'SD Data Paste'!B414)","v":"B"},413,{"$f":"IF('SD Data Paste'!E414=\"\",\"\",'SD Data Paste'!E414)","v":"RAMESH SINGH"},{"$f":"IF('SD Data Paste'!G414=\"\",\"\",'SD Data Paste'!G414)","v":"LUMB SINGH"}]
[{"$f":"IF(Table1[विद्यार्थी का नाम]=\"\",\"\",ROWS($A$1:A414))","v":414},{"$f":"IF('SD Data Paste'!A415=\"\",\"\",'SD Data Paste'!A415)","v":10},{"$f":"IF('SD Data Paste'!B415=\"\",\"\",'SD Data Paste'!B415)","v":"B"},414,{"$f":"IF('SD Data Paste'!E415=\"\",\"\",'SD Data Paste'!E415)","v":"SAAGAR KUMAR REGAR"},{"$f":"IF('SD Data Paste'!G415=\"\",\"\",'SD Data Paste'!G415)","v":"MOHAN LAL REGAR"}]
[{"$f":"IF(Table1[विद्यार्थी का नाम]=\"\",\"\",ROWS($A$1:A415))","v":415},{"$f":"IF('SD Data Paste'!A416=\"\",\"\",'SD Data Paste'!A416)","v":10},{"$f":"IF('SD Data Paste'!B416=\"\",\"\",'SD Data Paste'!B416)","v":"B"},415,{"$f":"IF('SD Data Paste'!E416=\"\",\"\",'SD Data Paste'!E416)","v":"SANTOSH SINGH RAWAT"},{"$f":"IF('SD Data Paste'!G416=\"\",\"\",'SD Data Paste'!G416)","v":"MADAN SINGH RAWAT"}]
[{"$f":"IF(Table1[विद्यार्थी का नाम]=\"\",\"\",ROWS($A$1:A416))","v":416},{"$f":"IF('SD Data Paste'!A417=\"\",\"\",'SD Data Paste'!A417)","v":10},{"$f":"IF('SD Data Paste'!B417=\"\",\"\",'SD Data Paste'!B417)","v":"B"},416,{"$f":"IF('SD Data Paste'!E417=\"\",\"\",'SD Data Paste'!E417)","v":"SHIV KUMAR VAISHNAV"},{"$f":"IF('SD Data Paste'!G417=\"\",\"\",'SD Data Paste'!G417)","v":"SHANTI DAS VAISHNAV"}]
[{"$f":"IF(Table1[विद्यार्थी का नाम]=\"\",\"\",ROWS($A$1:A417))","v":417},{"$f":"IF('SD Data Paste'!A418=\"\",\"\",'SD Data Paste'!A418)","v":10},{"$f":"IF('SD Data Paste'!B418=\"\",\"\",'SD Data Paste'!B418)","v":"B"},417,{"$f":"IF('SD Data Paste'!E418=\"\",\"\",'SD Data Paste'!E418)","v":"SHRAWAN SINGH"},{"$f":"IF('SD Data Paste'!G418=\"\",\"\",'SD Data Paste'!G418)","v":"BABU SINGH"}]
[{"$f":"IF(Table1[विद्यार्थी का नाम]=\"\",\"\",ROWS($A$1:A418))","v":418},{"$f":"IF('SD Data Paste'!A419=\"\",\"\",'SD Data Paste'!A419)","v":10},{"$f":"IF('SD Data Paste'!B419=\"\",\"\",'SD Data Paste'!B419)","v":"B"},418,{"$f":"IF('SD Data Paste'!E419=\"\",\"\",'SD Data Paste'!E419)","v":"SHUBHAM KUMAR YATI"},{"$f":"IF('SD Data Paste'!G419=\"\",\"\",'SD Data Paste'!G419)","v":"JAGDISH CHANDRA YATI"}]
[{"$f":"IF(Table1[विद्यार्थी का नाम]=\"\",\"\",ROWS($A$1:A419))","v":419},{"$f":"IF('SD Data Paste'!A420=\"\",\"\",'SD Data Paste'!A420)","v":10},{"$f":"IF('SD Data Paste'!B420=\"\",\"\",'SD Data Paste'!B420)","v":"B"},419,{"$f":"IF('SD Data Paste'!E420=\"\",\"\",'SD Data Paste'!E420)","v":"SHYAM SINGH"},{"$f":"IF('SD Data Paste'!G420=\"\",\"\",'SD Data Paste'!G420)","v":"DINESH SINGH"}]
[{"$f":"IF(Table1[विद्यार्थी का नाम]=\"\",\"\",ROWS($A$1:A420))","v":420},{"$f":"IF('SD Data Paste'!A421=\"\",\"\",'SD Data Paste'!A421)","v":10},{"$f":"IF('SD Data Paste'!B421=\"\",\"\",'SD Data Paste'!B421)","v":"B"},420,{"$f":"IF('SD Data Paste'!E421=\"\",\"\",'SD Data Paste'!E421)","v":"SOHAN SINGH"},{"$f":"IF('SD Data Paste'!G421=\"\",\"\",'SD Data Paste'!G421)","v":"KISHAN SINGH"}]
[{"$f":"IF(Table1[विद्यार्थी का नाम]=\"\",\"\",ROWS($A$1:A421))","v":421},{"$f":"IF('SD Data Paste'!A422=\"\",\"\",'SD Data Paste'!A422)","v":10},{"$f":"IF('SD Data Paste'!B422=\"\",\"\",'SD Data Paste'!B422)","v":"B"},421,{"$f":"IF('SD Data Paste'!E422=\"\",\"\",'SD Data Paste'!E422)","v":"SUBHAM SUTHAR"},{"$f":"IF('SD Data Paste'!G422=\"\",\"\",'SD Data Paste'!G422)","v":"BHAGWATI LAL SUTHAR"}]
[{"$f":"IF(Table1[विद्यार्थी का नाम]=\"\",\"\",ROWS($A$1:A422))","v":422},{"$f":"IF('SD Data Paste'!A423=\"\",\"\",'SD Data Paste'!A423)","v":10},{"$f":"IF('SD Data Paste'!B423=\"\",\"\",'SD Data Paste'!B423)","v":"B"},422,{"$f":"IF('SD Data Paste'!E423=\"\",\"\",'SD Data Paste'!E423)","v":"Sunny Singh Tank"},{"$f":"IF('SD Data Paste'!G423=\"\",\"\",'SD Data Paste'!G423)","v":"Ajay Singh Tank"}]
[{"$f":"IF(Table1[विद्यार्थी का नाम]=\"\",\"\",ROWS($A$1:A423))","v":423},{"$f":"IF('SD Data Paste'!A424=\"\",\"\",'SD Data Paste'!A424)","v":10},{"$f":"IF('SD Data Paste'!B424=\"\",\"\",'SD Data Paste'!B424)","v":"B"},423,{"$f":"IF('SD Data Paste'!E424=\"\",\"\",'SD Data Paste'!E424)","v":"TARU SINGH"},{"$f":"IF('SD Data Paste'!G424=\"\",\"\",'SD Data Paste'!G424)","v":"SHANKAR SINGH"}]
[{"$f":"IF(Table1[विद्यार्थी का नाम]=\"\",\"\",ROWS($A$1:A424))","v":424},{"$f":"IF('SD Data Paste'!A425=\"\",\"\",'SD Data Paste'!A425)","v":10},{"$f":"IF('SD Data Paste'!B425=\"\",\"\",'SD Data Paste'!B425)","v":"B"},424,{"$f":"IF('SD Data Paste'!E425=\"\",\"\",'SD Data Paste'!E425)","v":"TARU SINGH"},{"$f":"IF('SD Data Paste'!G425=\"\",\"\",'SD Data Paste'!G425)","v":"RAJU SINGH"}]
[{"$f":"IF(Table1[विद्यार्थी का नाम]=\"\",\"\",ROWS($A$1:A425))","v":425},{"$f":"IF('SD Data Paste'!A426=\"\",\"\",'SD Data Paste'!A426)","v":10},{"$f":"IF('SD Data Paste'!B426=\"\",\"\",'SD Data Paste'!B426)","v":"B"},425,{"$f":"IF('SD Data Paste'!E426=\"\",\"\",'SD Data Paste'!E426)","v":"TARUN SINGH"},{"$f":"IF('SD Data Paste'!G426=\"\",\"\",'SD Data Paste'!G426)","v":"BHANWAR SINGH"}]
[{"$f":"IF(Table1[विद्यार्थी का नाम]=\"\",\"\",ROWS($A$1:A426))","v":426},{"$f":"IF('SD Data Paste'!A427=\"\",\"\",'SD Data Paste'!A427)","v":10},{"$f":"IF('SD Data Paste'!B427=\"\",\"\",'SD Data Paste'!B427)","v":"B"},426,{"$f":"IF('SD Data Paste'!E427=\"\",\"\",'SD Data Paste'!E427)","v":"Tejpal Singh"},{"$f":"IF('SD Data Paste'!G427=\"\",\"\",'SD Data Paste'!G427)","v":"Gopal Singh"}]
[{"$f":"IF(Table1[विद्यार्थी का नाम]=\"\",\"\",ROWS($A$1:A427))","v":427},{"$f":"IF('SD Data Paste'!A428=\"\",\"\",'SD Data Paste'!A428)","v":10},{"$f":"IF('SD Data Paste'!B428=\"\",\"\",'SD Data Paste'!B428)","v":"B"},427,{"$f":"IF('SD Data Paste'!E428=\"\",\"\",'SD Data Paste'!E428)","v":"Toshif Khan"},{"$f":"IF('SD Data Paste'!G428=\"\",\"\",'SD Data Paste'!G428)","v":"Shabir Khan"}]
[{"$f":"IF(Table1[विद्यार्थी का नाम]=\"\",\"\",ROWS($A$1:A428))","v":428},{"$f":"IF('SD Data Paste'!A429=\"\",\"\",'SD Data Paste'!A429)","v":10},{"$f":"IF('SD Data Paste'!B429=\"\",\"\",'SD Data Paste'!B429)","v":"B"},428,{"$f":"IF('SD Data Paste'!E429=\"\",\"\",'SD Data Paste'!E429)","v":"Usman Harun"},{"$f":"IF('SD Data Paste'!G429=\"\",\"\",'SD Data Paste'!G429)","v":"Aslam Mohammad"}]
[{"$f":"IF(Table1[विद्यार्थी का नाम]=\"\",\"\",ROWS($A$1:A429))","v":429},{"$f":"IF('SD Data Paste'!A430=\"\",\"\",'SD Data Paste'!A430)","v":10},{"$f":"IF('SD Data Paste'!B430=\"\",\"\",'SD Data Paste'!B430)","v":"B"},429,{"$f":"IF('SD Data Paste'!E430=\"\",\"\",'SD Data Paste'!E430)","v":"VIJENDRA SINGH RAWAT"},{"$f":"IF('SD Data Paste'!G430=\"\",\"\",'SD Data Paste'!G430)","v":"DOULAT SINGH RAWAT"}]
[{"$f":"IF(Table1[विद्यार्थी का नाम]=\"\",\"\",ROWS($A$1:A430))","v":430},{"$f":"IF('SD Data Paste'!A431=\"\",\"\",'SD Data Paste'!A431)","v":10},{"$f":"IF('SD Data Paste'!B431=\"\",\"\",'SD Data Paste'!B431)","v":"B"},430,{"$f":"IF('SD Data Paste'!E431=\"\",\"\",'SD Data Paste'!E431)","v":"VIKRAM SINGH"},{"$f":"IF('SD Data Paste'!G431=\"\",\"\",'SD Data Paste'!G431)","v":"PREM SINGH"}]
[{"$f":"IF(Table1[विद्यार्थी का नाम]=\"\",\"\",ROWS($A$1:A431))","v":431},{"$f":"IF('SD Data Paste'!A432=\"\",\"\",'SD Data Paste'!A432)","v":10},{"$f":"IF('SD Data Paste'!B432=\"\",\"\",'SD Data Paste'!B432)","v":"B"},431,{"$f":"IF('SD Data Paste'!E432=\"\",\"\",'SD Data Paste'!E432)","v":"VINOD SALVI"},{"$f":"IF('SD Data Paste'!G432=\"\",\"\",'SD Data Paste'!G432)","v":"BHANWAR LAL SALVI"}]
[{"$f":"IF(Table1[विद्यार्थी का नाम]=\"\",\"\",ROWS($A$1:A432))","v":432},{"$f":"IF('SD Data Paste'!A433=\"\",\"\",'SD Data Paste'!A433)","v":10},{"$f":"IF('SD Data Paste'!B433=\"\",\"\",'SD Data Paste'!B433)","v":"B"},432,{"$f":"IF('SD Data Paste'!E433=\"\",\"\",'SD Data Paste'!E433)","v":"Virendra Gawariya"},{"$f":"IF('SD Data Paste'!G433=\"\",\"\",'SD Data Paste'!G433)","v":"Hemraj Gawariya"}]
[{"$f":"IF(Table1[विद्यार्थी का नाम]=\"\",\"\",ROWS($A$1:A433))","v":433},{"$f":"IF('SD Data Paste'!A434=\"\",\"\",'SD Data Paste'!A434)","v":10},{"$f":"IF('SD Data Paste'!B434=\"\",\"\",'SD Data Paste'!B434)","v":"B"},433,{"$f":"IF('SD Data Paste'!E434=\"\",\"\",'SD Data Paste'!E434)","v":"VIRENDRA SINGH"},{"$f":"IF('SD Data Paste'!G434=\"\",\"\",'SD Data Paste'!G434)","v":"PARBHU SINGH"}]
[{"$f":"IF(Table1[विद्यार्थी का नाम]=\"\",\"\",ROWS($A$1:A434))","v":434},{"$f":"IF('SD Data Paste'!A435=\"\",\"\",'SD Data Paste'!A435)","v":10},{"$f":"IF('SD Data Paste'!B435=\"\",\"\",'SD Data Paste'!B435)","v":"B"},434,{"$f":"IF('SD Data Paste'!E435=\"\",\"\",'SD Data Paste'!E435)","v":"Vishal Soni"},{"$f":"IF('SD Data Paste'!G435=\"\",\"\",'SD Data Paste'!G435)","v":"Dal Chand Soni"}]
[{"$f":"IF(Table1[विद्यार्थी का नाम]=\"\",\"\",ROWS($A$1:A435))","v":435},{"$f":"IF('SD Data Paste'!A436=\"\",\"\",'SD Data Paste'!A436)","v":10},{"$f":"IF('SD Data Paste'!B436=\"\",\"\",'SD Data Paste'!B436)","v":"B"},435,{"$f":"IF('SD Data Paste'!E436=\"\",\"\",'SD Data Paste'!E436)","v":"YASHPAL SALVI"},{"$f":"IF('SD Data Paste'!G436=\"\",\"\",'SD Data Paste'!G436)","v":"JEEVA RAM SALVI"}]
[{"$f":"IF(Table1[विद्यार्थी का नाम]=\"\",\"\",ROWS($A$1:A436))","v":436},{"$f":"IF('SD Data Paste'!A437=\"\",\"\",'SD Data Paste'!A437)","v":10},{"$f":"IF('SD Data Paste'!B437=\"\",\"\",'SD Data Paste'!B437)","v":"B"},436,{"$f":"IF('SD Data Paste'!E437=\"\",\"\",'SD Data Paste'!E437)","v":"Yuvraj Singh Rathore"},{"$f":"IF('SD Data Paste'!G437=\"\",\"\",'SD Data Paste'!G437)","v":"Rajendra Singh Rathore"}]
[{"$f":"IF(Table1[विद्यार्थी का नाम]=\"\",\"\",ROWS($A$1:A437))","v":437},{"$f":"IF('SD Data Paste'!A438=\"\",\"\",'SD Data Paste'!A438)","v":11},{"$f":"IF('SD Data Paste'!B438=\"\",\"\",'SD Data Paste'!B438)","v":"A"},437,{"$f":"IF('SD Data Paste'!E438=\"\",\"\",'SD Data Paste'!E438)","v":"BHAVESH KUMAR GURJAR"},{"$f":"IF('SD Data Paste'!G438=\"\",\"\",'SD Data Paste'!G438)","v":"PRAKASH CHANDRA GURJAR"}]
[{"$f":"IF(Table1[विद्यार्थी का नाम]=\"\",\"\",ROWS($A$1:A438))","v":438},{"$f":"IF('SD Data Paste'!A439=\"\",\"\",'SD Data Paste'!A439)","v":11},{"$f":"IF('SD Data Paste'!B439=\"\",\"\",'SD Data Paste'!B439)","v":"A"},438,{"$f":"IF('SD Data Paste'!E439=\"\",\"\",'SD Data Paste'!E439)","v":"Chetan Mali"},{"$f":"IF('SD Data Paste'!G439=\"\",\"\",'SD Data Paste'!G439)","v":"Pyare Lal Mali"}]
[{"$f":"IF(Table1[विद्यार्थी का नाम]=\"\",\"\",ROWS($A$1:A439))","v":439},{"$f":"IF('SD Data Paste'!A440=\"\",\"\",'SD Data Paste'!A440)","v":11},{"$f":"IF('SD Data Paste'!B440=\"\",\"\",'SD Data Paste'!B440)","v":"A"},439,{"$f":"IF('SD Data Paste'!E440=\"\",\"\",'SD Data Paste'!E440)","v":"DINESH REGER"},{"$f":"IF('SD Data Paste'!G440=\"\",\"\",'SD Data Paste'!G440)","v":"CHUNNI LAL REGAR"}]
[{"$f":"IF(Table1[विद्यार्थी का नाम]=\"\",\"\",ROWS($A$1:A440))","v":440},{"$f":"IF('SD Data Paste'!A441=\"\",\"\",'SD Data Paste'!A441)","v":11},{"$f":"IF('SD Data Paste'!B441=\"\",\"\",'SD Data Paste'!B441)","v":"A"},440,{"$f":"IF('SD Data Paste'!E441=\"\",\"\",'SD Data Paste'!E441)","v":"HEMANT SALVI"},{"$f":"IF('SD Data Paste'!G441=\"\",\"\",'SD Data Paste'!G441)","v":"TULSIRAM SALVI"}]
[{"$f":"IF(Table1[विद्यार्थी का नाम]=\"\",\"\",ROWS($A$1:A441))","v":441},{"$f":"IF('SD Data Paste'!A442=\"\",\"\",'SD Data Paste'!A442)","v":11},{"$f":"IF('SD Data Paste'!B442=\"\",\"\",'SD Data Paste'!B442)","v":"A"},441,{"$f":"IF('SD Data Paste'!E442=\"\",\"\",'SD Data Paste'!E442)","v":"MUKESH SINGH"},{"$f":"IF('SD Data Paste'!G442=\"\",\"\",'SD Data Paste'!G442)","v":"AMAR SINGH"}]
[{"$f":"IF(Table1[विद्यार्थी का नाम]=\"\",\"\",ROWS($A$1:A442))","v":442},{"$f":"IF('SD Data Paste'!A443=\"\",\"\",'SD Data Paste'!A443)","v":11},{"$f":"IF('SD Data Paste'!B443=\"\",\"\",'SD Data Paste'!B443)","v":"A"},442,{"$f":"IF('SD Data Paste'!E443=\"\",\"\",'SD Data Paste'!E443)","v":"Radheshyam Jatoliya"},{"$f":"IF('SD Data Paste'!G443=\"\",\"\",'SD Data Paste'!G443)","v":"Goverdhan Jatoliya"}]
[{"$f":"IF(Table1[विद्यार्थी का नाम]=\"\",\"\",ROWS($A$1:A443))","v":443},{"$f":"IF('SD Data Paste'!A444=\"\",\"\",'SD Data Paste'!A444)","v":11},{"$f":"IF('SD Data Paste'!B444=\"\",\"\",'SD Data Paste'!B444)","v":"A"},443,{"$f":"IF('SD Data Paste'!E444=\"\",\"\",'SD Data Paste'!E444)","v":"RAJENDRA SINGH"},{"$f":"IF('SD Data Paste'!G444=\"\",\"\",'SD Data Paste'!G444)","v":"LAXMAN SINGH"}]
[{"$f":"IF(Table1[विद्यार्थी का नाम]=\"\",\"\",ROWS($A$1:A444))","v":444},{"$f":"IF('SD Data Paste'!A445=\"\",\"\",'SD Data Paste'!A445)","v":11},{"$f":"IF('SD Data Paste'!B445=\"\",\"\",'SD Data Paste'!B445)","v":"A"},444,{"$f":"IF('SD Data Paste'!E445=\"\",\"\",'SD Data Paste'!E445)","v":"SURESH SINGH"},{"$f":"IF('SD Data Paste'!G445=\"\",\"\",'SD Data Paste'!G445)","v":"LAXMAN SINGH"}]
[{"$f":"IF(Table1[विद्यार्थी का नाम]=\"\",\"\",ROWS($A$1:A445))","v":445},{"$f":"IF('SD Data Paste'!A446=\"\",\"\",'SD Data Paste'!A446)","v":11},{"$f":"IF('SD Data Paste'!B446=\"\",\"\",'SD Data Paste'!B446)","v":"A"},445,{"$f":"IF('SD Data Paste'!E446=\"\",\"\",'SD Data Paste'!E446)","v":"SURYA PRATAP SINGH CHUNDAWAT"},{"$f":"IF('SD Data Paste'!G446=\"\",\"\",'SD Data Paste'!G446)","v":"KIRAN SINGH CHUNDAWAT"}]
[{"$f":"IF(Table1[विद्यार्थी का नाम]=\"\",\"\",ROWS($A$1:A446))","v":446},{"$f":"IF('SD Data Paste'!A447=\"\",\"\",'SD Data Paste'!A447)","v":11},{"$f":"IF('SD Data Paste'!B447=\"\",\"\",'SD Data Paste'!B447)","v":"B"},446,{"$f":"IF('SD Data Paste'!E447=\"\",\"\",'SD Data Paste'!E447)","v":"ARSIL HUSAIN"},{"$f":"IF('SD Data Paste'!G447=\"\",\"\",'SD Data Paste'!G447)","v":"MUZAMMIL HUSAIN"}]
[{"$f":"IF(Table1[विद्यार्थी का नाम]=\"\",\"\",ROWS($A$1:A447))","v":447},{"$f":"IF('SD Data Paste'!A448=\"\",\"\",'SD Data Paste'!A448)","v":11},{"$f":"IF('SD Data Paste'!B448=\"\",\"\",'SD Data Paste'!B448)","v":"B"},447,{"$f":"IF('SD Data Paste'!E448=\"\",\"\",'SD Data Paste'!E448)","v":"ASHOK KALAL"},{"$f":"IF('SD Data Paste'!G448=\"\",\"\",'SD Data Paste'!G448)","v":"MANGI LAL KALAL"}]
[{"$f":"IF(Table1[विद्यार्थी का नाम]=\"\",\"\",ROWS($A$1:A448))","v":448},{"$f":"IF('SD Data Paste'!A449=\"\",\"\",'SD Data Paste'!A449)","v":11},{"$f":"IF('SD Data Paste'!B449=\"\",\"\",'SD Data Paste'!B449)","v":"B"},448,{"$f":"IF('SD Data Paste'!E449=\"\",\"\",'SD Data Paste'!E449)","v":"ASHOK SINGH"},{"$f":"IF('SD Data Paste'!G449=\"\",\"\",'SD Data Paste'!G449)","v":"PRAKASH SINGH"}]
[{"$f":"IF(Table1[विद्यार्थी का नाम]=\"\",\"\",ROWS($A$1:A449))","v":449},{"$f":"IF('SD Data Paste'!A450=\"\",\"\",'SD Data Paste'!A450)","v":11},{"$f":"IF('SD Data Paste'!B450=\"\",\"\",'SD Data Paste'!B450)","v":"B"},449,{"$f":"IF('SD Data Paste'!E450=\"\",\"\",'SD Data Paste'!E450)","v":"ASHOK SINGH RAWAT"},{"$f":"IF('SD Data Paste'!G450=\"\",\"\",'SD Data Paste'!G450)","v":"MOHAN SINGH"}]
[{"$f":"IF(Table1[विद्यार्थी का नाम]=\"\",\"\",ROWS($A$1:A450))","v":450},{"$f":"IF('SD Data Paste'!A451=\"\",\"\",'SD Data Paste'!A451)","v":11},{"$f":"IF('SD Data Paste'!B451=\"\",\"\",'SD Data Paste'!B451)","v":"B"},450,{"$f":"IF('SD Data Paste'!E451=\"\",\"\",'SD Data Paste'!E451)","v":"BHERU LAL"},{"$f":"IF('SD Data Paste'!G451=\"\",\"\",'SD Data Paste'!G451)","v":"BHADA RAM"}]
[{"$f":"IF(Table1[विद्यार्थी का नाम]=\"\",\"\",ROWS($A$1:A451))","v":451},{"$f":"IF('SD Data Paste'!A452=\"\",\"\",'SD Data Paste'!A452)","v":11},{"$f":"IF('SD Data Paste'!B452=\"\",\"\",'SD Data Paste'!B452)","v":"B"},{"$f":"IF(D453=\"\",\"\",D453+1)","v":451},{"$f":"IF('SD Data Paste'!E452=\"\",\"\",'SD Data Paste'!E452)","v":"BHUPESH KUMAR SALVI"},{"$f":"IF('SD Data Paste'!G452=\"\",\"\",'SD Data Paste'!G452)","v":"KISHAN LAL SALVI"}]
[{"$f":"IF(Table1[विद्यार्थी का नाम]=\"\",\"\",ROWS($A$1:A452))","v":452},{"$f":"IF('SD Data Paste'!A453=\"\",\"\",'SD Data Paste'!A453)","v":11},{"$f":"IF('SD Data Paste'!B453=\"\",\"\",'SD Data Paste'!B453)","v":"B"},452,{"$f":"IF('SD Data Paste'!E453=\"\",\"\",'SD Data Paste'!E453)","v":"CHANDRA SINGH"},{"$f":"IF('SD Data Paste'!G453=\"\",\"\",'SD Data Paste'!G453)","v":"HEERA SINGH"}]
[{"$f":"IF(Table1[विद्यार्थी का नाम]=\"\",\"\",ROWS($A$1:A453))","v":453},{"$f":"IF('SD Data Paste'!A454=\"\",\"\",'SD Data Paste'!A454)","v":11},{"$f":"IF('SD Data Paste'!B454=\"\",\"\",'SD Data Paste'!B454)","v":"B"},453,{"$f":"IF('SD Data Paste'!E454=\"\",\"\",'SD Data Paste'!E454)","v":"CHETAN KUMAR GURJAR"},{"$f":"IF('SD Data Paste'!G454=\"\",\"\",'SD Data Paste'!G454)","v":"DHARM CHAND GURJAR"}]
[{"$f":"IF(Table1[विद्यार्थी का नाम]=\"\",\"\",ROWS($A$1:A454))","v":454},{"$f":"IF('SD Data Paste'!A455=\"\",\"\",'SD Data Paste'!A455)","v":11},{"$f":"IF('SD Data Paste'!B455=\"\",\"\",'SD Data Paste'!B455)","v":"B"},454,{"$f":"IF('SD Data Paste'!E455=\"\",\"\",'SD Data Paste'!E455)","v":"DHANNA SINGH"},{"$f":"IF('SD Data Paste'!G455=\"\",\"\",'SD Data Paste'!G455)","v":"MADHU SINGH"}]
[{"$f":"IF(Table1[विद्यार्थी का नाम]=\"\",\"\",ROWS($A$1:A455))","v":455},{"$f":"IF('SD Data Paste'!A456=\"\",\"\",'SD Data Paste'!A456)","v":11},{"$f":"IF('SD Data Paste'!B456=\"\",\"\",'SD Data Paste'!B456)","v":"B"},455,{"$f":"IF('SD Data Paste'!E456=\"\",\"\",'SD Data Paste'!E456)","v":"DHEERAJ NATH"},{"$f":"IF('SD Data Paste'!G456=\"\",\"\",'SD Data Paste'!G456)","v":"CHHITAR NATH"}]
[{"$f":"IF(Table1[विद्यार्थी का नाम]=\"\",\"\",ROWS($A$1:A456))","v":456},{"$f":"IF('SD Data Paste'!A457=\"\",\"\",'SD Data Paste'!A457)","v":11},{"$f":"IF('SD Data Paste'!B457=\"\",\"\",'SD Data Paste'!B457)","v":"B"},456,{"$f":"IF('SD Data Paste'!E457=\"\",\"\",'SD Data Paste'!E457)","v":"DINESH GURJAR"},{"$f":"IF('SD Data Paste'!G457=\"\",\"\",'SD Data Paste'!G457)","v":"KANHEYA LAL GURJAR"}]
[{"$f":"IF(Table1[विद्यार्थी का नाम]=\"\",\"\",ROWS($A$1:A457))","v":457},{"$f":"IF('SD Data Paste'!A458=\"\",\"\",'SD Data Paste'!A458)","v":11},{"$f":"IF('SD Data Paste'!B458=\"\",\"\",'SD Data Paste'!B458)","v":"B"},457,{"$f":"IF('SD Data Paste'!E458=\"\",\"\",'SD Data Paste'!E458)","v":"GOVIND LAL LOHAR"},{"$f":"IF('SD Data Paste'!G458=\"\",\"\",'SD Data Paste'!G458)","v":"DEVI LAL"}]
[{"$f":"IF(Table1[विद्यार्थी का नाम]=\"\",\"\",ROWS($A$1:A458))","v":458},{"$f":"IF('SD Data Paste'!A459=\"\",\"\",'SD Data Paste'!A459)","v":11},{"$f":"IF('SD Data Paste'!B459=\"\",\"\",'SD Data Paste'!B459)","v":"B"},458,{"$f":"IF('SD Data Paste'!E459=\"\",\"\",'SD Data Paste'!E459)","v":"GOVIND NANGARACHI"},{"$f":"IF('SD Data Paste'!G459=\"\",\"\",'SD Data Paste'!G459)","v":"MANGI LAL NANGARACHI"}]
[{"$f":"IF(Table1[विद्यार्थी का नाम]=\"\",\"\",ROWS($A$1:A459))","v":459},{"$f":"IF('SD Data Paste'!A460=\"\",\"\",'SD Data Paste'!A460)","v":11},{"$f":"IF('SD Data Paste'!B460=\"\",\"\",'SD Data Paste'!B460)","v":"B"},459,{"$f":"IF('SD Data Paste'!E460=\"\",\"\",'SD Data Paste'!E460)","v":"GURU RAJVEER SINGH"},{"$f":"IF('SD Data Paste'!G460=\"\",\"\",'SD Data Paste'!G460)","v":"BHAGWAT SINGH PANWAR"}]
[{"$f":"IF(Table1[विद्यार्थी का नाम]=\"\",\"\",ROWS($A$1:A460))","v":460},{"$f":"IF('SD Data Paste'!A461=\"\",\"\",'SD Data Paste'!A461)","v":11},{"$f":"IF('SD Data Paste'!B461=\"\",\"\",'SD Data Paste'!B461)","v":"B"},460,{"$f":"IF('SD Data Paste'!E461=\"\",\"\",'SD Data Paste'!E461)","v":"HEMENDRA KUMAR"},{"$f":"IF('SD Data Paste'!G461=\"\",\"\",'SD Data Paste'!G461)","v":"KAILASH CHANDRA"}]
[{"$f":"IF(Table1[विद्यार्थी का नाम]=\"\",\"\",ROWS($A$1:A461))","v":461},{"$f":"IF('SD Data Paste'!A462=\"\",\"\",'SD Data Paste'!A462)","v":11},{"$f":"IF('SD Data Paste'!B462=\"\",\"\",'SD Data Paste'!B462)","v":"B"},461,{"$f":"IF('SD Data Paste'!E462=\"\",\"\",'SD Data Paste'!E462)","v":"INDRA SINGH"},{"$f":"IF('SD Data Paste'!G462=\"\",\"\",'SD Data Paste'!G462)","v":"NAIN SINGH"}]
[{"$f":"IF(Table1[विद्यार्थी का नाम]=\"\",\"\",ROWS($A$1:A462))","v":462},{"$f":"IF('SD Data Paste'!A463=\"\",\"\",'SD Data Paste'!A463)","v":11},{"$f":"IF('SD Data Paste'!B463=\"\",\"\",'SD Data Paste'!B463)","v":"B"},462,{"$f":"IF('SD Data Paste'!E463=\"\",\"\",'SD Data Paste'!E463)","v":"JISHAN KHAN"},{"$f":"IF('SD Data Paste'!G463=\"\",\"\",'SD Data Paste'!G463)","v":"JAKIR HUSSAIN PATHAN"}]
[{"$f":"IF(Table1[विद्यार्थी का नाम]=\"\",\"\",ROWS($A$1:A463))","v":463},{"$f":"IF('SD Data Paste'!A464=\"\",\"\",'SD Data Paste'!A464)","v":11},{"$f":"IF('SD Data Paste'!B464=\"\",\"\",'SD Data Paste'!B464)","v":"B"},463,{"$f":"IF('SD Data Paste'!E464=\"\",\"\",'SD Data Paste'!E464)","v":"JITENDRA SINGH"},{"$f":"IF('SD Data Paste'!G464=\"\",\"\",'SD Data Paste'!G464)","v":"BHAN SINGH"}]
[{"$f":"IF(Table1[विद्यार्थी का नाम]=\"\",\"\",ROWS($A$1:A464))","v":464},{"$f":"IF('SD Data Paste'!A465=\"\",\"\",'SD Data Paste'!A465)","v":11},{"$f":"IF('SD Data Paste'!B465=\"\",\"\",'SD Data Paste'!B465)","v":"B"},464,{"$f":"IF('SD Data Paste'!E465=\"\",\"\",'SD Data Paste'!E465)","v":"KAILASH CHANDRA KAHAR"},{"$f":"IF('SD Data Paste'!G465=\"\",\"\",'SD Data Paste'!G465)","v":"GANESH LAL KAHAR"}]
[{"$f":"IF(Table1[विद्यार्थी का नाम]=\"\",\"\",ROWS($A$1:A465))","v":465},{"$f":"IF('SD Data Paste'!A466=\"\",\"\",'SD Data Paste'!A466)","v":11},{"$f":"IF('SD Data Paste'!B466=\"\",\"\",'SD Data Paste'!B466)","v":"B"},465,{"$f":"IF('SD Data Paste'!E466=\"\",\"\",'SD Data Paste'!E466)","v":"KAILASH SINGH PANWAR"},{"$f":"IF('SD Data Paste'!G466=\"\",\"\",'SD Data Paste'!G466)","v":"GOPAL SINGH"}]
[{"$f":"IF(Table1[विद्यार्थी का नाम]=\"\",\"\",ROWS($A$1:A466))","v":466},{"$f":"IF('SD Data Paste'!A467=\"\",\"\",'SD Data Paste'!A467)","v":11},{"$f":"IF('SD Data Paste'!B467=\"\",\"\",'SD Data Paste'!B467)","v":"B"},466,{"$f":"IF('SD Data Paste'!E467=\"\",\"\",'SD Data Paste'!E467)","v":"Kamlesh Regar"},{"$f":"IF('SD Data Paste'!G467=\"\",\"\",'SD Data Paste'!G467)","v":"Gehari Lal Regar"}]
[{"$f":"IF(Table1[विद्यार्थी का नाम]=\"\",\"\",ROWS($A$1:A467))","v":467},{"$f":"IF('SD Data Paste'!A468=\"\",\"\",'SD Data Paste'!A468)","v":11},{"$f":"IF('SD Data Paste'!B468=\"\",\"\",'SD Data Paste'!B468)","v":"B"},467,{"$f":"IF('SD Data Paste'!E468=\"\",\"\",'SD Data Paste'!E468)","v":"KISHOR KUMAR SALVI"},{"$f":"IF('SD Data Paste'!G468=\"\",\"\",'SD Data Paste'!G468)","v":"LAXMAN LAL SALVI"}]
[{"$f":"IF(Table1[विद्यार्थी का नाम]=\"\",\"\",ROWS($A$1:A468))","v":468},{"$f":"IF('SD Data Paste'!A469=\"\",\"\",'SD Data Paste'!A469)","v":11},{"$f":"IF('SD Data Paste'!B469=\"\",\"\",'SD Data Paste'!B469)","v":"B"},468,{"$f":"IF('SD Data Paste'!E469=\"\",\"\",'SD Data Paste'!E469)","v":"KOSHLENDRA SINGH BALLA"},{"$f":"IF('SD Data Paste'!G469=\"\",\"\",'SD Data Paste'!G469)","v":"MANOHAR SINGH BALLA"}]
[{"$f":"IF(Table1[विद्यार्थी का नाम]=\"\",\"\",ROWS($A$1:A469))","v":469},{"$f":"IF('SD Data Paste'!A470=\"\",\"\",'SD Data Paste'!A470)","v":11},{"$f":"IF('SD Data Paste'!B470=\"\",\"\",'SD Data Paste'!B470)","v":"B"},469,{"$f":"IF('SD Data Paste'!E470=\"\",\"\",'SD Data Paste'!E470)","v":"LALIT KUMAR SALVI"},{"$f":"IF('SD Data Paste'!G470=\"\",\"\",'SD Data Paste'!G470)","v":"KISHAN LAL SALVI"}]
[{"$f":"IF(Table1[विद्यार्थी का नाम]=\"\",\"\",ROWS($A$1:A470))","v":470},{"$f":"IF('SD Data Paste'!A471=\"\",\"\",'SD Data Paste'!A471)","v":11},{"$f":"IF('SD Data Paste'!B471=\"\",\"\",'SD Data Paste'!B471)","v":"B"},470,{"$f":"IF('SD Data Paste'!E471=\"\",\"\",'SD Data Paste'!E471)","v":"Mohammed Rehan Raza"},{"$f":"IF('SD Data Paste'!G471=\"\",\"\",'SD Data Paste'!G471)","v":"Fayaz Mohammed"}]
[{"$f":"IF(Table1[विद्यार्थी का नाम]=\"\",\"\",ROWS($A$1:A471))","v":471},{"$f":"IF('SD Data Paste'!A472=\"\",\"\",'SD Data Paste'!A472)","v":11},{"$f":"IF('SD Data Paste'!B472=\"\",\"\",'SD Data Paste'!B472)","v":"B"},471,{"$f":"IF('SD Data Paste'!E472=\"\",\"\",'SD Data Paste'!E472)","v":"NARAYAN SINGH"},{"$f":"IF('SD Data Paste'!G472=\"\",\"\",'SD Data Paste'!G472)","v":"RAM SINGH"}]
[{"$f":"IF(Table1[विद्यार्थी का नाम]=\"\",\"\",ROWS($A$1:A472))","v":472},{"$f":"IF('SD Data Paste'!A473=\"\",\"\",'SD Data Paste'!A473)","v":11},{"$f":"IF('SD Data Paste'!B473=\"\",\"\",'SD Data Paste'!B473)","v":"B"},472,{"$f":"IF('SD Data Paste'!E473=\"\",\"\",'SD Data Paste'!E473)","v":"NARENDRA KUMAR SALVI"},{"$f":"IF('SD Data Paste'!G473=\"\",\"\",'SD Data Paste'!G473)","v":"KALU RAM SALVI"}]
[{"$f":"IF(Table1[विद्यार्थी का नाम]=\"\",\"\",ROWS($A$1:A473))","v":473},{"$f":"IF('SD Data Paste'!A474=\"\",\"\",'SD Data Paste'!A474)","v":11},{"$f":"IF('SD Data Paste'!B474=\"\",\"\",'SD Data Paste'!B474)","v":"B"},473,{"$f":"IF('SD Data Paste'!E474=\"\",\"\",'SD Data Paste'!E474)","v":"NARESH KUMAR REGAR"},{"$f":"IF('SD Data Paste'!G474=\"\",\"\",'SD Data Paste'!G474)","v":"RAM LAL REGAR"}]
[{"$f":"IF(Table1[विद्यार्थी का नाम]=\"\",\"\",ROWS($A$1:A474))","v":474},{"$f":"IF('SD Data Paste'!A475=\"\",\"\",'SD Data Paste'!A475)","v":11},{"$f":"IF('SD Data Paste'!B475=\"\",\"\",'SD Data Paste'!B475)","v":"B"},474,{"$f":"IF('SD Data Paste'!E475=\"\",\"\",'SD Data Paste'!E475)","v":"NARESH MALI"},{"$f":"IF('SD Data Paste'!G475=\"\",\"\",'SD Data Paste'!G475)","v":"BHERU LAL"}]
[{"$f":"IF(Table1[विद्यार्थी का नाम]=\"\",\"\",ROWS($A$1:A475))","v":475},{"$f":"IF('SD Data Paste'!A476=\"\",\"\",'SD Data Paste'!A476)","v":11},{"$f":"IF('SD Data Paste'!B476=\"\",\"\",'SD Data Paste'!B476)","v":"B"},475,{"$f":"IF('SD Data Paste'!E476=\"\",\"\",'SD Data Paste'!E476)","v":"PRAHLAD LOHAR"},{"$f":"IF('SD Data Paste'!G476=\"\",\"\",'SD Data Paste'!G476)","v":"SHANKAR LAL"}]
[{"$f":"IF(Table1[विद्यार्थी का नाम]=\"\",\"\",ROWS($A$1:A476))","v":476},{"$f":"IF('SD Data Paste'!A477=\"\",\"\",'SD Data Paste'!A477)","v":11},{"$f":"IF('SD Data Paste'!B477=\"\",\"\",'SD Data Paste'!B477)","v":"B"},476,{"$f":"IF('SD Data Paste'!E477=\"\",\"\",'SD Data Paste'!E477)","v":"PRAKASH SINGH"},{"$f":"IF('SD Data Paste'!G477=\"\",\"\",'SD Data Paste'!G477)","v":"PADAM SINGH"}]
[{"$f":"IF(Table1[विद्यार्थी का नाम]=\"\",\"\",ROWS($A$1:A477))","v":477},{"$f":"IF('SD Data Paste'!A478=\"\",\"\",'SD Data Paste'!A478)","v":11},{"$f":"IF('SD Data Paste'!B478=\"\",\"\",'SD Data Paste'!B478)","v":"B"},477,{"$f":"IF('SD Data Paste'!E478=\"\",\"\",'SD Data Paste'!E478)","v":"PRAVEEN BADARIYA"},{"$f":"IF('SD Data Paste'!G478=\"\",\"\",'SD Data Paste'!G478)","v":"SURESH BADARIYA"}]
[{"$f":"IF(Table1[विद्यार्थी का नाम]=\"\",\"\",ROWS($A$1:A478))","v":478},{"$f":"IF('SD Data Paste'!A479=\"\",\"\",'SD Data Paste'!A479)","v":11},{"$f":"IF('SD Data Paste'!B479=\"\",\"\",'SD Data Paste'!B479)","v":"B"},478,{"$f":"IF('SD Data Paste'!E479=\"\",\"\",'SD Data Paste'!E479)","v":"Rahul Mali"},{"$f":"IF('SD Data Paste'!G479=\"\",\"\",'SD Data Paste'!G479)","v":"Ummed Lal Mali"}]
[{"$f":"IF(Table1[विद्यार्थी का नाम]=\"\",\"\",ROWS($A$1:A479))","v":479},{"$f":"IF('SD Data Paste'!A480=\"\",\"\",'SD Data Paste'!A480)","v":11},{"$f":"IF('SD Data Paste'!B480=\"\",\"\",'SD Data Paste'!B480)","v":"B"},479,{"$f":"IF('SD Data Paste'!E480=\"\",\"\",'SD Data Paste'!E480)","v":"ROHIT SUTHAR"},{"$f":"IF('SD Data Paste'!G480=\"\",\"\",'SD Data Paste'!G480)","v":"LADU LAL"}]
[{"$f":"IF(Table1[विद्यार्थी का नाम]=\"\",\"\",ROWS($A$1:A480))","v":480},{"$f":"IF('SD Data Paste'!A481=\"\",\"\",'SD Data Paste'!A481)","v":11},{"$f":"IF('SD Data Paste'!B481=\"\",\"\",'SD Data Paste'!B481)","v":"B"},480,{"$f":"IF('SD Data Paste'!E481=\"\",\"\",'SD Data Paste'!E481)","v":"Sarfaraj Khan"},{"$f":"IF('SD Data Paste'!G481=\"\",\"\",'SD Data Paste'!G481)","v":"Rustam Khan"}]
[{"$f":"IF(Table1[विद्यार्थी का नाम]=\"\",\"\",ROWS($A$1:A481))","v":481},{"$f":"IF('SD Data Paste'!A482=\"\",\"\",'SD Data Paste'!A482)","v":11},{"$f":"IF('SD Data Paste'!B482=\"\",\"\",'SD Data Paste'!B482)","v":"B"},481,{"$f":"IF('SD Data Paste'!E482=\"\",\"\",'SD Data Paste'!E482)","v":"SHAILENDRA SINGH TANK"},{"$f":"IF('SD Data Paste'!G482=\"\",\"\",'SD Data Paste'!G482)","v":"VIKRAM SINGH"}]
[{"$f":"IF(Table1[विद्यार्थी का नाम]=\"\",\"\",ROWS($A$1:A482))","v":482},{"$f":"IF('SD Data Paste'!A483=\"\",\"\",'SD Data Paste'!A483)","v":11},{"$f":"IF('SD Data Paste'!B483=\"\",\"\",'SD Data Paste'!B483)","v":"B"},482,{"$f":"IF('SD Data Paste'!E483=\"\",\"\",'SD Data Paste'!E483)","v":"SUNIL KAHAR"},{"$f":"IF('SD Data Paste'!G483=\"\",\"\",'SD Data Paste'!G483)","v":"SHANKAR LAL KAHAR"}]
[{"$f":"IF(Table1[विद्यार्थी का नाम]=\"\",\"\",ROWS($A$1:A483))","v":483},{"$f":"IF('SD Data Paste'!A484=\"\",\"\",'SD Data Paste'!A484)","v":11},{"$f":"IF('SD Data Paste'!B484=\"\",\"\",'SD Data Paste'!B484)","v":"B"},483,{"$f":"IF('SD Data Paste'!E484=\"\",\"\",'SD Data Paste'!E484)","v":"VIJAY KUMAR SALVI"},{"$f":"IF('SD Data Paste'!G484=\"\",\"\",'SD Data Paste'!G484)","v":"KISHAN LAL"}]
[{"$f":"IF(Table1[विद्यार्थी का नाम]=\"\",\"\",ROWS($A$1:A484))","v":484},{"$f":"IF('SD Data Paste'!A485=\"\",\"\",'SD Data Paste'!A485)","v":11},{"$f":"IF('SD Data Paste'!B485=\"\",\"\",'SD Data Paste'!B485)","v":"B"},484,{"$f":"IF('SD Data Paste'!E485=\"\",\"\",'SD Data Paste'!E485)","v":"Vijay Naraniya"},{"$f":"IF('SD Data Paste'!G485=\"\",\"\",'SD Data Paste'!G485)","v":"Gopal Naraniya"}]
[{"$f":"IF(Table1[विद्यार्थी का नाम]=\"\",\"\",ROWS($A$1:A485))","v":485},{"$f":"IF('SD Data Paste'!A486=\"\",\"\",'SD Data Paste'!A486)","v":11},{"$f":"IF('SD Data Paste'!B486=\"\",\"\",'SD Data Paste'!B486)","v":"B"},485,{"$f":"IF('SD Data Paste'!E486=\"\",\"\",'SD Data Paste'!E486)","v":"VIKAS GURJAR"},{"$f":"IF('SD Data Paste'!G486=\"\",\"\",'SD Data Paste'!G486)","v":"SHANKAR LAL GURJAR"}]
[{"$f":"IF(Table1[विद्यार्थी का नाम]=\"\",\"\",ROWS($A$1:A486))","v":486},{"$f":"IF('SD Data Paste'!A487=\"\",\"\",'SD Data Paste'!A487)","v":11},{"$f":"IF('SD Data Paste'!B487=\"\",\"\",'SD Data Paste'!B487)","v":"B"},486,{"$f":"IF('SD Data Paste'!E487=\"\",\"\",'SD Data Paste'!E487)","v":"VINOD SEN"},{"$f":"IF('SD Data Paste'!G487=\"\",\"\",'SD Data Paste'!G487)","v":"BANSHI LAL SEN"}]
[{"$f":"IF(Table1[विद्यार्थी का नाम]=\"\",\"\",ROWS($A$1:A487))","v":487},{"$f":"IF('SD Data Paste'!A488=\"\",\"\",'SD Data Paste'!A488)","v":11},{"$f":"IF('SD Data Paste'!B488=\"\",\"\",'SD Data Paste'!B488)","v":"B"},487,{"$f":"IF('SD Data Paste'!E488=\"\",\"\",'SD Data Paste'!E488)","v":"VISHNU LOHAR"},{"$f":"IF('SD Data Paste'!G488=\"\",\"\",'SD Data Paste'!G488)","v":"SURESH CHANDRA LOHAR"}]
[{"$f":"IF(Table1[विद्यार्थी का नाम]=\"\",\"\",ROWS($A$1:A488))","v":488},{"$f":"IF('SD Data Paste'!A489=\"\",\"\",'SD Data Paste'!A489)","v":11},{"$f":"IF('SD Data Paste'!B489=\"\",\"\",'SD Data Paste'!B489)","v":"B"},488,{"$f":"IF('SD Data Paste'!E489=\"\",\"\",'SD Data Paste'!E489)","v":"YOGESH REGAR"},{"$f":"IF('SD Data Paste'!G489=\"\",\"\",'SD Data Paste'!G489)","v":"KALYAN MAL REGAR"}]
[{"$f":"IF(Table1[विद्यार्थी का नाम]=\"\",\"\",ROWS($A$1:A489))","v":489},{"$f":"IF('SD Data Paste'!A490=\"\",\"\",'SD Data Paste'!A490)","v":11},{"$f":"IF('SD Data Paste'!B490=\"\",\"\",'SD Data Paste'!B490)","v":"C"},489,{"$f":"IF('SD Data Paste'!E490=\"\",\"\",'SD Data Paste'!E490)","v":"BHAGWAN LAL BHIL"},{"$f":"IF('SD Data Paste'!G490=\"\",\"\",'SD Data Paste'!G490)","v":"BHERU LAL BHIL"}]
[{"$f":"IF(Table1[विद्यार्थी का नाम]=\"\",\"\",ROWS($A$1:A490))","v":490},{"$f":"IF('SD Data Paste'!A491=\"\",\"\",'SD Data Paste'!A491)","v":11},{"$f":"IF('SD Data Paste'!B491=\"\",\"\",'SD Data Paste'!B491)","v":"C"},490,{"$f":"IF('SD Data Paste'!E491=\"\",\"\",'SD Data Paste'!E491)","v":"BHAVESH SALVI"},{"$f":"IF('SD Data Paste'!G491=\"\",\"\",'SD Data Paste'!G491)","v":"DEVI LAL"}]
[{"$f":"IF(Table1[विद्यार्थी का नाम]=\"\",\"\",ROWS($A$1:A491))","v":491},{"$f":"IF('SD Data Paste'!A492=\"\",\"\",'SD Data Paste'!A492)","v":11},{"$f":"IF('SD Data Paste'!B492=\"\",\"\",'SD Data Paste'!B492)","v":"C"},491,{"$f":"IF('SD Data Paste'!E492=\"\",\"\",'SD Data Paste'!E492)","v":"CHHAGAN SINGH"},{"$f":"IF('SD Data Paste'!G492=\"\",\"\",'SD Data Paste'!G492)","v":"VANNA SINGH"}]
[{"$f":"IF(Table1[विद्यार्थी का नाम]=\"\",\"\",ROWS($A$1:A492))","v":492},{"$f":"IF('SD Data Paste'!A493=\"\",\"\",'SD Data Paste'!A493)","v":11},{"$f":"IF('SD Data Paste'!B493=\"\",\"\",'SD Data Paste'!B493)","v":"C"},492,{"$f":"IF('SD Data Paste'!E493=\"\",\"\",'SD Data Paste'!E493)","v":"Dheeraj Singh Chouhan"},{"$f":"IF('SD Data Paste'!G493=\"\",\"\",'SD Data Paste'!G493)","v":"Kamal Singh Chouhan"}]
[{"$f":"IF(Table1[विद्यार्थी का नाम]=\"\",\"\",ROWS($A$1:A493))","v":493},{"$f":"IF('SD Data Paste'!A494=\"\",\"\",'SD Data Paste'!A494)","v":11},{"$f":"IF('SD Data Paste'!B494=\"\",\"\",'SD Data Paste'!B494)","v":"C"},493,{"$f":"IF('SD Data Paste'!E494=\"\",\"\",'SD Data Paste'!E494)","v":"Gopal Salvi"},{"$f":"IF('SD Data Paste'!G494=\"\",\"\",'SD Data Paste'!G494)","v":"Madan Lal Salvi"}]
[{"$f":"IF(Table1[विद्यार्थी का नाम]=\"\",\"\",ROWS($A$1:A494))","v":494},{"$f":"IF('SD Data Paste'!A495=\"\",\"\",'SD Data Paste'!A495)","v":11},{"$f":"IF('SD Data Paste'!B495=\"\",\"\",'SD Data Paste'!B495)","v":"C"},494,{"$f":"IF('SD Data Paste'!E495=\"\",\"\",'SD Data Paste'!E495)","v":"HARDAYAL SINGH"},{"$f":"IF('SD Data Paste'!G495=\"\",\"\",'SD Data Paste'!G495)","v":"BHERU SINGH"}]
[{"$f":"IF(Table1[विद्यार्थी का नाम]=\"\",\"\",ROWS($A$1:A495))","v":495},{"$f":"IF('SD Data Paste'!A496=\"\",\"\",'SD Data Paste'!A496)","v":11},{"$f":"IF('SD Data Paste'!B496=\"\",\"\",'SD Data Paste'!B496)","v":"C"},495,{"$f":"IF('SD Data Paste'!E496=\"\",\"\",'SD Data Paste'!E496)","v":"ISHWAR LAL GURJAR"},{"$f":"IF('SD Data Paste'!G496=\"\",\"\",'SD Data Paste'!G496)","v":"UDAI LAL"}]
[{"$f":"IF(Table1[विद्यार्थी का नाम]=\"\",\"\",ROWS($A$1:A496))","v":496},{"$f":"IF('SD Data Paste'!A497=\"\",\"\",'SD Data Paste'!A497)","v":11},{"$f":"IF('SD Data Paste'!B497=\"\",\"\",'SD Data Paste'!B497)","v":"C"},496,{"$f":"IF('SD Data Paste'!E497=\"\",\"\",'SD Data Paste'!E497)","v":"Jaiprakash Salvi"},{"$f":"IF('SD Data Paste'!G497=\"\",\"\",'SD Data Paste'!G497)","v":"Kalu Ram"}]
[{"$f":"IF(Table1[विद्यार्थी का नाम]=\"\",\"\",ROWS($A$1:A497))","v":497},{"$f":"IF('SD Data Paste'!A498=\"\",\"\",'SD Data Paste'!A498)","v":11},{"$f":"IF('SD Data Paste'!B498=\"\",\"\",'SD Data Paste'!B498)","v":"C"},497,{"$f":"IF('SD Data Paste'!E498=\"\",\"\",'SD Data Paste'!E498)","v":"JAVED AKHATAR"},{"$f":"IF('SD Data Paste'!G498=\"\",\"\",'SD Data Paste'!G498)","v":"MUSTAK MOHAMMAD"}]
[{"$f":"IF(Table1[विद्यार्थी का नाम]=\"\",\"\",ROWS($A$1:A498))","v":498},{"$f":"IF('SD Data Paste'!A499=\"\",\"\",'SD Data Paste'!A499)","v":11},{"$f":"IF('SD Data Paste'!B499=\"\",\"\",'SD Data Paste'!B499)","v":"C"},498,{"$f":"IF('SD Data Paste'!E499=\"\",\"\",'SD Data Paste'!E499)","v":"JEEVAN SINGH"},{"$f":"IF('SD Data Paste'!G499=\"\",\"\",'SD Data Paste'!G499)","v":"MOHAN SINGH"}]
[{"$f":"IF(Table1[विद्यार्थी का नाम]=\"\",\"\",ROWS($A$1:A499))","v":499},{"$f":"IF('SD Data Paste'!A500=\"\",\"\",'SD Data Paste'!A500)","v":11},{"$f":"IF('SD Data Paste'!B500=\"\",\"\",'SD Data Paste'!B500)","v":"C"},499,{"$f":"IF('SD Data Paste'!E500=\"\",\"\",'SD Data Paste'!E500)","v":"KALYAN SINGH"},{"$f":"IF('SD Data Paste'!G500=\"\",\"\",'SD Data Paste'!G500)","v":"VANNA SINGH"}]
[{"$f":"IF(Table1[विद्यार्थी का नाम]=\"\",\"\",ROWS($A$1:A500))","v":500},{"$f":"IF('SD Data Paste'!A501=\"\",\"\",'SD Data Paste'!A501)","v":11},{"$f":"IF('SD Data Paste'!B501=\"\",\"\",'SD Data Paste'!B501)","v":"C"},500,{"$f":"IF('SD Data Paste'!E501=\"\",\"\",'SD Data Paste'!E501)","v":"KAMLESH NATH JOGI"},{"$f":"IF('SD Data Paste'!G501=\"\",\"\",'SD Data Paste'!G501)","v":"BALU NATH JOGI"}]
[{"$f":"IF(Table1[विद्यार्थी का नाम]=\"\",\"\",ROWS($A$1:A501))","v":501},{"$f":"IF('SD Data Paste'!A502=\"\",\"\",'SD Data Paste'!A502)","v":11},{"$f":"IF('SD Data Paste'!B502=\"\",\"\",'SD Data Paste'!B502)","v":"C"},501,{"$f":"IF('SD Data Paste'!E502=\"\",\"\",'SD Data Paste'!E502)","v":"KISHAN LAL GURJAR"},{"$f":"IF('SD Data Paste'!G502=\"\",\"\",'SD Data Paste'!G502)","v":"UDAI LAL"}]
[{"$f":"IF(Table1[विद्यार्थी का नाम]=\"\",\"\",ROWS($A$1:A502))","v":502},{"$f":"IF('SD Data Paste'!A503=\"\",\"\",'SD Data Paste'!A503)","v":11},{"$f":"IF('SD Data Paste'!B503=\"\",\"\",'SD Data Paste'!B503)","v":"C"},502,{"$f":"IF('SD Data Paste'!E503=\"\",\"\",'SD Data Paste'!E503)","v":"Laxman Lal Suthar"},{"$f":"IF('SD Data Paste'!G503=\"\",\"\",'SD Data Paste'!G503)","v":"Panna Lal Suthar"}]
[{"$f":"IF(Table1[विद्यार्थी का नाम]=\"\",\"\",ROWS($A$1:A503))","v":503},{"$f":"IF('SD Data Paste'!A504=\"\",\"\",'SD Data Paste'!A504)","v":11},{"$f":"IF('SD Data Paste'!B504=\"\",\"\",'SD Data Paste'!B504)","v":"C"},503,{"$f":"IF('SD Data Paste'!E504=\"\",\"\",'SD Data Paste'!E504)","v":"LOKESH KUMAR SALVI"},{"$f":"IF('SD Data Paste'!G504=\"\",\"\",'SD Data Paste'!G504)","v":"BHANWAR LAL SALVI"}]
[{"$f":"IF(Table1[विद्यार्थी का नाम]=\"\",\"\",ROWS($A$1:A504))","v":504},{"$f":"IF('SD Data Paste'!A505=\"\",\"\",'SD Data Paste'!A505)","v":11},{"$f":"IF('SD Data Paste'!B505=\"\",\"\",'SD Data Paste'!B505)","v":"C"},504,{"$f":"IF('SD Data Paste'!E505=\"\",\"\",'SD Data Paste'!E505)","v":"Manish Salvi"},{"$f":"IF('SD Data Paste'!G505=\"\",\"\",'SD Data Paste'!G505)","v":"Devi Lal Salvi"}]
[{"$f":"IF(Table1[विद्यार्थी का नाम]=\"\",\"\",ROWS($A$1:A505))","v":505},{"$f":"IF('SD Data Paste'!A506=\"\",\"\",'SD Data Paste'!A506)","v":11},{"$f":"IF('SD Data Paste'!B506=\"\",\"\",'SD Data Paste'!B506)","v":"C"},505,{"$f":"IF('SD Data Paste'!E506=\"\",\"\",'SD Data Paste'!E506)","v":"MOHAN SINGH BALLA"},{"$f":"IF('SD Data Paste'!G506=\"\",\"\",'SD Data Paste'!G506)","v":"MADAN SINGH BALLA"}]
[{"$f":"IF(Table1[विद्यार्थी का नाम]=\"\",\"\",ROWS($A$1:A506))","v":506},{"$f":"IF('SD Data Paste'!A507=\"\",\"\",'SD Data Paste'!A507)","v":11},{"$f":"IF('SD Data Paste'!B507=\"\",\"\",'SD Data Paste'!B507)","v":"C"},506,{"$f":"IF('SD Data Paste'!E507=\"\",\"\",'SD Data Paste'!E507)","v":"MUKESH SINGH"},{"$f":"IF('SD Data Paste'!G507=\"\",\"\",'SD Data Paste'!G507)","v":"MOHAN SINGH"}]
[{"$f":"IF(Table1[विद्यार्थी का नाम]=\"\",\"\",ROWS($A$1:A507))","v":507},{"$f":"IF('SD Data Paste'!A508=\"\",\"\",'SD Data Paste'!A508)","v":11},{"$f":"IF('SD Data Paste'!B508=\"\",\"\",'SD Data Paste'!B508)","v":"C"},507,{"$f":"IF('SD Data Paste'!E508=\"\",\"\",'SD Data Paste'!E508)","v":"NAHID RAJA"},{"$f":"IF('SD Data Paste'!G508=\"\",\"\",'SD Data Paste'!G508)","v":"AZAD MOHMMAD"}]
[{"$f":"IF(Table1[विद्यार्थी का नाम]=\"\",\"\",ROWS($A$1:A508))","v":508},{"$f":"IF('SD Data Paste'!A509=\"\",\"\",'SD Data Paste'!A509)","v":11},{"$f":"IF('SD Data Paste'!B509=\"\",\"\",'SD Data Paste'!B509)","v":"C"},508,{"$f":"IF('SD Data Paste'!E509=\"\",\"\",'SD Data Paste'!E509)","v":"NARAYAN LAL"},{"$f":"IF('SD Data Paste'!G509=\"\",\"\",'SD Data Paste'!G509)","v":"RAM LAL"}]
[{"$f":"IF(Table1[विद्यार्थी का नाम]=\"\",\"\",ROWS($A$1:A509))","v":509},{"$f":"IF('SD Data Paste'!A510=\"\",\"\",'SD Data Paste'!A510)","v":11},{"$f":"IF('SD Data Paste'!B510=\"\",\"\",'SD Data Paste'!B510)","v":"C"},509,{"$f":"IF('SD Data Paste'!E510=\"\",\"\",'SD Data Paste'!E510)","v":"NARAYAN LAL REGAR"},{"$f":"IF('SD Data Paste'!G510=\"\",\"\",'SD Data Paste'!G510)","v":"MOOLA RAM REGAR"}]
[{"$f":"IF(Table1[विद्यार्थी का नाम]=\"\",\"\",ROWS($A$1:A510))","v":510},{"$f":"IF('SD Data Paste'!A511=\"\",\"\",'SD Data Paste'!A511)","v":11},{"$f":"IF('SD Data Paste'!B511=\"\",\"\",'SD Data Paste'!B511)","v":"C"},510,{"$f":"IF('SD Data Paste'!E511=\"\",\"\",'SD Data Paste'!E511)","v":"NEN SINGH"},{"$f":"IF('SD Data Paste'!G511=\"\",\"\",'SD Data Paste'!G511)","v":"JAWAN SINGH"}]
[{"$f":"IF(Table1[विद्यार्थी का नाम]=\"\",\"\",ROWS($A$1:A511))","v":511},{"$f":"IF('SD Data Paste'!A512=\"\",\"\",'SD Data Paste'!A512)","v":11},{"$f":"IF('SD Data Paste'!B512=\"\",\"\",'SD Data Paste'!B512)","v":"C"},511,{"$f":"IF('SD Data Paste'!E512=\"\",\"\",'SD Data Paste'!E512)","v":"Nikhil Salvi"},{"$f":"IF('SD Data Paste'!G512=\"\",\"\",'SD Data Paste'!G512)","v":"Kailash Chandra"}]
[{"$f":"IF(Table1[विद्यार्थी का नाम]=\"\",\"\",ROWS($A$1:A512))","v":512},{"$f":"IF('SD Data Paste'!A513=\"\",\"\",'SD Data Paste'!A513)","v":11},{"$f":"IF('SD Data Paste'!B513=\"\",\"\",'SD Data Paste'!B513)","v":"C"},512,{"$f":"IF('SD Data Paste'!E513=\"\",\"\",'SD Data Paste'!E513)","v":"PRABHU LAL"},{"$f":"IF('SD Data Paste'!G513=\"\",\"\",'SD Data Paste'!G513)","v":"NARAYAN LAL"}]
[{"$f":"IF(Table1[विद्यार्थी का नाम]=\"\",\"\",ROWS($A$1:A513))","v":513},{"$f":"IF('SD Data Paste'!A514=\"\",\"\",'SD Data Paste'!A514)","v":11},{"$f":"IF('SD Data Paste'!B514=\"\",\"\",'SD Data Paste'!B514)","v":"C"},513,{"$f":"IF('SD Data Paste'!E514=\"\",\"\",'SD Data Paste'!E514)","v":"PRAKASH CHANDRA BHIL"},{"$f":"IF('SD Data Paste'!G514=\"\",\"\",'SD Data Paste'!G514)","v":"PANNA LAL BHIL"}]
[{"$f":"IF(Table1[विद्यार्थी का नाम]=\"\",\"\",ROWS($A$1:A514))","v":514},{"$f":"IF('SD Data Paste'!A515=\"\",\"\",'SD Data Paste'!A515)","v":11},{"$f":"IF('SD Data Paste'!B515=\"\",\"\",'SD Data Paste'!B515)","v":"C"},514,{"$f":"IF('SD Data Paste'!E515=\"\",\"\",'SD Data Paste'!E515)","v":"PRAKASH GURJAR"},{"$f":"IF('SD Data Paste'!G515=\"\",\"\",'SD Data Paste'!G515)","v":"MOOL CHAND GURJAR"}]
[{"$f":"IF(Table1[विद्यार्थी का नाम]=\"\",\"\",ROWS($A$1:A515))","v":515},{"$f":"IF('SD Data Paste'!A516=\"\",\"\",'SD Data Paste'!A516)","v":11},{"$f":"IF('SD Data Paste'!B516=\"\",\"\",'SD Data Paste'!B516)","v":"C"},{"$f":"IF(D517=\"\",\"\",D517+1)","v":515},{"$f":"IF('SD Data Paste'!E516=\"\",\"\",'SD Data Paste'!E516)","v":"PRAMOD VED"},{"$f":"IF('SD Data Paste'!G516=\"\",\"\",'SD Data Paste'!G516)","v":"MURLIDHAR VED"}]
[{"$f":"IF(Table1[विद्यार्थी का नाम]=\"\",\"\",ROWS($A$1:A516))","v":516},{"$f":"IF('SD Data Paste'!A517=\"\",\"\",'SD Data Paste'!A517)","v":11},{"$f":"IF('SD Data Paste'!B517=\"\",\"\",'SD Data Paste'!B517)","v":"C"},516,{"$f":"IF('SD Data Paste'!E517=\"\",\"\",'SD Data Paste'!E517)","v":"PRAVEEN SINGH"},{"$f":"IF('SD Data Paste'!G517=\"\",\"\",'SD Data Paste'!G517)","v":"TARU SINGH"}]
[{"$f":"IF(Table1[विद्यार्थी का नाम]=\"\",\"\",ROWS($A$1:A517))","v":517},{"$f":"IF('SD Data Paste'!A518=\"\",\"\",'SD Data Paste'!A518)","v":11},{"$f":"IF('SD Data Paste'!B518=\"\",\"\",'SD Data Paste'!B518)","v":"C"},517,{"$f":"IF('SD Data Paste'!E518=\"\",\"\",'SD Data Paste'!E518)","v":"RAHUL GUVARIYA"},{"$f":"IF('SD Data Paste'!G518=\"\",\"\",'SD Data Paste'!G518)","v":"JAGDISH CHANDRA"}]
[{"$f":"IF(Table1[विद्यार्थी का नाम]=\"\",\"\",ROWS($A$1:A518))","v":518},{"$f":"IF('SD Data Paste'!A519=\"\",\"\",'SD Data Paste'!A519)","v":11},{"$f":"IF('SD Data Paste'!B519=\"\",\"\",'SD Data Paste'!B519)","v":"C"},518,{"$f":"IF('SD Data Paste'!E519=\"\",\"\",'SD Data Paste'!E519)","v":"RAJENDRA NATH JOGI"},{"$f":"IF('SD Data Paste'!G519=\"\",\"\",'SD Data Paste'!G519)","v":"NARAYAN NATH JOGI"}]
[{"$f":"IF(Table1[विद्यार्थी का नाम]=\"\",\"\",ROWS($A$1:A519))","v":519},{"$f":"IF('SD Data Paste'!A520=\"\",\"\",'SD Data Paste'!A520)","v":11},{"$f":"IF('SD Data Paste'!B520=\"\",\"\",'SD Data Paste'!B520)","v":"C"},519,{"$f":"IF('SD Data Paste'!E520=\"\",\"\",'SD Data Paste'!E520)","v":"RAMESHWAR LAL"},{"$f":"IF('SD Data Paste'!G520=\"\",\"\",'SD Data Paste'!G520)","v":"RATAN LAL"}]
[{"$f":"IF(Table1[विद्यार्थी का नाम]=\"\",\"\",ROWS($A$1:A520))","v":520},{"$f":"IF('SD Data Paste'!A521=\"\",\"\",'SD Data Paste'!A521)","v":11},{"$f":"IF('SD Data Paste'!B521=\"\",\"\",'SD Data Paste'!B521)","v":"C"},520,{"$f":"IF('SD Data Paste'!E521=\"\",\"\",'SD Data Paste'!E521)","v":"RAVI KUMAR YATI"},{"$f":"IF('SD Data Paste'!G521=\"\",\"\",'SD Data Paste'!G521)","v":"CHANDRA PRAKASH YATI"}]
[{"$f":"IF(Table1[विद्यार्थी का नाम]=\"\",\"\",ROWS($A$1:A521))","v":521},{"$f":"IF('SD Data Paste'!A522=\"\",\"\",'SD Data Paste'!A522)","v":11},{"$f":"IF('SD Data Paste'!B522=\"\",\"\",'SD Data Paste'!B522)","v":"C"},521,{"$f":"IF('SD Data Paste'!E522=\"\",\"\",'SD Data Paste'!E522)","v":"Rohit Prajapat"},{"$f":"IF('SD Data Paste'!G522=\"\",\"\",'SD Data Paste'!G522)","v":"Om prakash"}]
[{"$f":"IF(Table1[विद्यार्थी का नाम]=\"\",\"\",ROWS($A$1:A522))","v":522},{"$f":"IF('SD Data Paste'!A523=\"\",\"\",'SD Data Paste'!A523)","v":11},{"$f":"IF('SD Data Paste'!B523=\"\",\"\",'SD Data Paste'!B523)","v":"C"},522,{"$f":"IF('SD Data Paste'!E523=\"\",\"\",'SD Data Paste'!E523)","v":"SAJJAN SINGH"},{"$f":"IF('SD Data Paste'!G523=\"\",\"\",'SD Data Paste'!G523)","v":"TILOK SINGH"}]
[{"$f":"IF(Table1[विद्यार्थी का नाम]=\"\",\"\",ROWS($A$1:A523))","v":523},{"$f":"IF('SD Data Paste'!A524=\"\",\"\",'SD Data Paste'!A524)","v":11},{"$f":"IF('SD Data Paste'!B524=\"\",\"\",'SD Data Paste'!B524)","v":"C"},523,{"$f":"IF('SD Data Paste'!E524=\"\",\"\",'SD Data Paste'!E524)","v":"SUMIT KUMAR HARIJAN"},{"$f":"IF('SD Data Paste'!G524=\"\",\"\",'SD Data Paste'!G524)","v":"LALIT KUMAR"}]
[{"$f":"IF(Table1[विद्यार्थी का नाम]=\"\",\"\",ROWS($A$1:A524))","v":524},{"$f":"IF('SD Data Paste'!A525=\"\",\"\",'SD Data Paste'!A525)","v":11},{"$f":"IF('SD Data Paste'!B525=\"\",\"\",'SD Data Paste'!B525)","v":"C"},524,{"$f":"IF('SD Data Paste'!E525=\"\",\"\",'SD Data Paste'!E525)","v":"VAHID MOHAMMAD"},{"$f":"IF('SD Data Paste'!G525=\"\",\"\",'SD Data Paste'!G525)","v":"FAIYAJ MOHAMMAD"}]
[{"$f":"IF(Table1[विद्यार्थी का नाम]=\"\",\"\",ROWS($A$1:A525))","v":525},{"$f":"IF('SD Data Paste'!A526=\"\",\"\",'SD Data Paste'!A526)","v":11},{"$f":"IF('SD Data Paste'!B526=\"\",\"\",'SD Data Paste'!B526)","v":"C"},525,{"$f":"IF('SD Data Paste'!E526=\"\",\"\",'SD Data Paste'!E526)","v":"VIJESH PURI GOSWAMI"},{"$f":"IF('SD Data Paste'!G526=\"\",\"\",'SD Data Paste'!G526)","v":"CHATAR PURI GOSWAMI"}]
[{"$f":"IF(Table1[विद्यार्थी का नाम]=\"\",\"\",ROWS($A$1:A526))","v":526},{"$f":"IF('SD Data Paste'!A527=\"\",\"\",'SD Data Paste'!A527)","v":11},{"$f":"IF('SD Data Paste'!B527=\"\",\"\",'SD Data Paste'!B527)","v":"C"},526,{"$f":"IF('SD Data Paste'!E527=\"\",\"\",'SD Data Paste'!E527)","v":"VIPESH KUMAR"},{"$f":"IF('SD Data Paste'!G527=\"\",\"\",'SD Data Paste'!G527)","v":"RODI LAL"}]
[{"$f":"IF(Table1[विद्यार्थी का नाम]=\"\",\"\",ROWS($A$1:A527))","v":527},{"$f":"IF('SD Data Paste'!A528=\"\",\"\",'SD Data Paste'!A528)","v":11},{"$f":"IF('SD Data Paste'!B528=\"\",\"\",'SD Data Paste'!B528)","v":"C"},527,{"$f":"IF('SD Data Paste'!E528=\"\",\"\",'SD Data Paste'!E528)","v":"VIRENDRA SINGH"},{"$f":"IF('SD Data Paste'!G528=\"\",\"\",'SD Data Paste'!G528)","v":"PRATAP SINGH"}]
[{"$f":"IF(Table1[विद्यार्थी का नाम]=\"\",\"\",ROWS($A$1:A528))","v":528},{"$f":"IF('SD Data Paste'!A529=\"\",\"\",'SD Data Paste'!A529)","v":11},{"$f":"IF('SD Data Paste'!B529=\"\",\"\",'SD Data Paste'!B529)","v":"C"},528,{"$f":"IF('SD Data Paste'!E529=\"\",\"\",'SD Data Paste'!E529)","v":"VISHNU REGAR"},{"$f":"IF('SD Data Paste'!G529=\"\",\"\",'SD Data Paste'!G529)","v":"PYARE LALREGAR"}]
[{"$f":"IF(Table1[विद्यार्थी का नाम]=\"\",\"\",ROWS($A$1:A529))","v":529},{"$f":"IF('SD Data Paste'!A530=\"\",\"\",'SD Data Paste'!A530)","v":11},{"$f":"IF('SD Data Paste'!B530=\"\",\"\",'SD Data Paste'!B530)","v":"D"},529,{"$f":"IF('SD Data Paste'!E530=\"\",\"\",'SD Data Paste'!E530)","v":"AKASH BHARTI"},{"$f":"IF('SD Data Paste'!G530=\"\",\"\",'SD Data Paste'!G530)","v":"MUKESH BHARTI"}]
[{"$f":"IF(Table1[विद्यार्थी का नाम]=\"\",\"\",ROWS($A$1:A530))","v":530},{"$f":"IF('SD Data Paste'!A531=\"\",\"\",'SD Data Paste'!A531)","v":11},{"$f":"IF('SD Data Paste'!B531=\"\",\"\",'SD Data Paste'!B531)","v":"D"},530,{"$f":"IF('SD Data Paste'!E531=\"\",\"\",'SD Data Paste'!E531)","v":"BHAGWAT SINGH RATHOR"},{"$f":"IF('SD Data Paste'!G531=\"\",\"\",'SD Data Paste'!G531)","v":"KAILASH SINGH RATHOR"}]
[{"$f":"IF(Table1[विद्यार्थी का नाम]=\"\",\"\",ROWS($A$1:A531))","v":531},{"$f":"IF('SD Data Paste'!A532=\"\",\"\",'SD Data Paste'!A532)","v":11},{"$f":"IF('SD Data Paste'!B532=\"\",\"\",'SD Data Paste'!B532)","v":"D"},531,{"$f":"IF('SD Data Paste'!E532=\"\",\"\",'SD Data Paste'!E532)","v":"BHARAT SINGH"},{"$f":"IF('SD Data Paste'!G532=\"\",\"\",'SD Data Paste'!G532)","v":"NARAYAN SINGH"}]
[{"$f":"IF(Table1[विद्यार्थी का नाम]=\"\",\"\",ROWS($A$1:A532))","v":532},{"$f":"IF('SD Data Paste'!A533=\"\",\"\",'SD Data Paste'!A533)","v":11},{"$f":"IF('SD Data Paste'!B533=\"\",\"\",'SD Data Paste'!B533)","v":"D"},532,{"$f":"IF('SD Data Paste'!E533=\"\",\"\",'SD Data Paste'!E533)","v":"Bhavesh Mali"},{"$f":"IF('SD Data Paste'!G533=\"\",\"\",'SD Data Paste'!G533)","v":"Mitha Lal"}]
[{"$f":"IF(Table1[विद्यार्थी का नाम]=\"\",\"\",ROWS($A$1:A533))","v":533},{"$f":"IF('SD Data Paste'!A534=\"\",\"\",'SD Data Paste'!A534)","v":11},{"$f":"IF('SD Data Paste'!B534=\"\",\"\",'SD Data Paste'!B534)","v":"D"},533,{"$f":"IF('SD Data Paste'!E534=\"\",\"\",'SD Data Paste'!E534)","v":"Bhawani Shankar Vaishnav"},{"$f":"IF('SD Data Paste'!G534=\"\",\"\",'SD Data Paste'!G534)","v":"Liladhar Vaishnav"}]
[{"$f":"IF(Table1[विद्यार्थी का नाम]=\"\",\"\",ROWS($A$1:A534))","v":534},{"$f":"IF('SD Data Paste'!A535=\"\",\"\",'SD Data Paste'!A535)","v":11},{"$f":"IF('SD Data Paste'!B535=\"\",\"\",'SD Data Paste'!B535)","v":"D"},534,{"$f":"IF('SD Data Paste'!E535=\"\",\"\",'SD Data Paste'!E535)","v":"Chirag Khatik"},{"$f":"IF('SD Data Paste'!G535=\"\",\"\",'SD Data Paste'!G535)","v":"Rajmal Khatik"}]
[{"$f":"IF(Table1[विद्यार्थी का नाम]=\"\",\"\",ROWS($A$1:A535))","v":535},{"$f":"IF('SD Data Paste'!A536=\"\",\"\",'SD Data Paste'!A536)","v":11},{"$f":"IF('SD Data Paste'!B536=\"\",\"\",'SD Data Paste'!B536)","v":"D"},535,{"$f":"IF('SD Data Paste'!E536=\"\",\"\",'SD Data Paste'!E536)","v":"DEVENDRA GURJAR"},{"$f":"IF('SD Data Paste'!G536=\"\",\"\",'SD Data Paste'!G536)","v":"BHERU LAL GURJAR"}]
[{"$f":"IF(Table1[विद्यार्थी का नाम]=\"\",\"\",ROWS($A$1:A536))","v":536},{"$f":"IF('SD Data Paste'!A537=\"\",\"\",'SD Data Paste'!A537)","v":11},{"$f":"IF('SD Data Paste'!B537=\"\",\"\",'SD Data Paste'!B537)","v":"D"},536,{"$f":"IF('SD Data Paste'!E537=\"\",\"\",'SD Data Paste'!E537)","v":"DHARMESH KUMAR REGAR"},{"$f":"IF('SD Data Paste'!G537=\"\",\"\",'SD Data Paste'!G537)","v":"MAHENDRA KUMAR REGAR"}]
[{"$f":"IF(Table1[विद्यार्थी का नाम]=\"\",\"\",ROWS($A$1:A537))","v":537},{"$f":"IF('SD Data Paste'!A538=\"\",\"\",'SD Data Paste'!A538)","v":11},{"$f":"IF('SD Data Paste'!B538=\"\",\"\",'SD Data Paste'!B538)","v":"D"},537,{"$f":"IF('SD Data Paste'!E538=\"\",\"\",'SD Data Paste'!E538)","v":"DURGESH KUMAR"},{"$f":"IF('SD Data Paste'!G538=\"\",\"\",'SD Data Paste'!G538)","v":"BHANWAR LAL"}]
[{"$f":"IF(Table1[विद्यार्थी का नाम]=\"\",\"\",ROWS($A$1:A538))","v":538},{"$f":"IF('SD Data Paste'!A539=\"\",\"\",'SD Data Paste'!A539)","v":11},{"$f":"IF('SD Data Paste'!B539=\"\",\"\",'SD Data Paste'!B539)","v":"D"},538,{"$f":"IF('SD Data Paste'!E539=\"\",\"\",'SD Data Paste'!E539)","v":"Gajendra Singh"},{"$f":"IF('SD Data Paste'!G539=\"\",\"\",'SD Data Paste'!G539)","v":"Pooran Singh"}]
[{"$f":"IF(Table1[विद्यार्थी का नाम]=\"\",\"\",ROWS($A$1:A539))","v":539},{"$f":"IF('SD Data Paste'!A540=\"\",\"\",'SD Data Paste'!A540)","v":11},{"$f":"IF('SD Data Paste'!B540=\"\",\"\",'SD Data Paste'!B540)","v":"D"},539,{"$f":"IF('SD Data Paste'!E540=\"\",\"\",'SD Data Paste'!E540)","v":"GHANSHYAM SINGH CHUNDAWAT"},{"$f":"IF('SD Data Paste'!G540=\"\",\"\",'SD Data Paste'!G540)","v":"BHAGWAN SINGH CHUNDAWAT"}]
[{"$f":"IF(Table1[विद्यार्थी का नाम]=\"\",\"\",ROWS($A$1:A540))","v":540},{"$f":"IF('SD Data Paste'!A541=\"\",\"\",'SD Data Paste'!A541)","v":11},{"$f":"IF('SD Data Paste'!B541=\"\",\"\",'SD Data Paste'!B541)","v":"D"},540,{"$f":"IF('SD Data Paste'!E541=\"\",\"\",'SD Data Paste'!E541)","v":"HIMMAT MALI"},{"$f":"IF('SD Data Paste'!G541=\"\",\"\",'SD Data Paste'!G541)","v":"PRATAP MALI"}]
[{"$f":"IF(Table1[विद्यार्थी का नाम]=\"\",\"\",ROWS($A$1:A541))","v":541},{"$f":"IF('SD Data Paste'!A542=\"\",\"\",'SD Data Paste'!A542)","v":11},{"$f":"IF('SD Data Paste'!B542=\"\",\"\",'SD Data Paste'!B542)","v":"D"},541,{"$f":"IF('SD Data Paste'!E542=\"\",\"\",'SD Data Paste'!E542)","v":"MOHAMMAD MUJAHID KHAN"},{"$f":"IF('SD Data Paste'!G542=\"\",\"\",'SD Data Paste'!G542)","v":"IRFAN MOHAMMAD"}]
[{"$f":"IF(Table1[विद्यार्थी का नाम]=\"\",\"\",ROWS($A$1:A542))","v":542},{"$f":"IF('SD Data Paste'!A543=\"\",\"\",'SD Data Paste'!A543)","v":11},{"$f":"IF('SD Data Paste'!B543=\"\",\"\",'SD Data Paste'!B543)","v":"D"},542,{"$f":"IF('SD Data Paste'!E543=\"\",\"\",'SD Data Paste'!E543)","v":"RAJ MERUTHA"},{"$f":"IF('SD Data Paste'!G543=\"\",\"\",'SD Data Paste'!G543)","v":"BHERU LAL"}]
[{"$f":"IF(Table1[विद्यार्थी का नाम]=\"\",\"\",ROWS($A$1:A543))","v":543},{"$f":"IF('SD Data Paste'!A544=\"\",\"\",'SD Data Paste'!A544)","v":11},{"$f":"IF('SD Data Paste'!B544=\"\",\"\",'SD Data Paste'!B544)","v":"D"},543,{"$f":"IF('SD Data Paste'!E544=\"\",\"\",'SD Data Paste'!E544)","v":"RAJU SINGH"},{"$f":"IF('SD Data Paste'!G544=\"\",\"\",'SD Data Paste'!G544)","v":"HARI SINGH"}]
[{"$f":"IF(Table1[विद्यार्थी का नाम]=\"\",\"\",ROWS($A$1:A544))","v":544},{"$f":"IF('SD Data Paste'!A545=\"\",\"\",'SD Data Paste'!A545)","v":11},{"$f":"IF('SD Data Paste'!B545=\"\",\"\",'SD Data Paste'!B545)","v":"D"},544,{"$f":"IF('SD Data Paste'!E545=\"\",\"\",'SD Data Paste'!E545)","v":"Vishal Kumar"},{"$f":"IF('SD Data Paste'!G545=\"\",\"\",'SD Data Paste'!G545)","v":"Nemi Chand"}]
[{"$f":"IF(Table1[विद्यार्थी का नाम]=\"\",\"\",ROWS($A$1:A545))","v":545},{"$f":"IF('SD Data Paste'!A546=\"\",\"\",'SD Data Paste'!A546)","v":12},{"$f":"IF('SD Data Paste'!B546=\"\",\"\",'SD Data Paste'!B546)","v":"A"},545,{"$f":"IF('SD Data Paste'!E546=\"\",\"\",'SD Data Paste'!E546)","v":"Aditya Sharma"},{"$f":"IF('SD Data Paste'!G546=\"\",\"\",'SD Data Paste'!G546)","v":"Kamal Sharma"}]
[{"$f":"IF(Table1[विद्यार्थी का नाम]=\"\",\"\",ROWS($A$1:A546))","v":546},{"$f":"IF('SD Data Paste'!A547=\"\",\"\",'SD Data Paste'!A547)","v":12},{"$f":"IF('SD Data Paste'!B547=\"\",\"\",'SD Data Paste'!B547)","v":"A"},546,{"$f":"IF('SD Data Paste'!E547=\"\",\"\",'SD Data Paste'!E547)","v":"ARPIT MEWARA"},{"$f":"IF('SD Data Paste'!G547=\"\",\"\",'SD Data Paste'!G547)","v":"VIJAY KUMAR MEWARA"}]
[{"$f":"IF(Table1[विद्यार्थी का नाम]=\"\",\"\",ROWS($A$1:A547))","v":547},{"$f":"IF('SD Data Paste'!A548=\"\",\"\",'SD Data Paste'!A548)","v":12},{"$f":"IF('SD Data Paste'!B548=\"\",\"\",'SD Data Paste'!B548)","v":"A"},547,{"$f":"IF('SD Data Paste'!E548=\"\",\"\",'SD Data Paste'!E548)","v":"ASHOK KUMAR GANWARIYA"},{"$f":"IF('SD Data Paste'!G548=\"\",\"\",'SD Data Paste'!G548)","v":"MISHRI LAL"}]
[{"$f":"IF(Table1[विद्यार्थी का नाम]=\"\",\"\",ROWS($A$1:A548))","v":548},{"$f":"IF('SD Data Paste'!A549=\"\",\"\",'SD Data Paste'!A549)","v":12},{"$f":"IF('SD Data Paste'!B549=\"\",\"\",'SD Data Paste'!B549)","v":"A"},548,{"$f":"IF('SD Data Paste'!E549=\"\",\"\",'SD Data Paste'!E549)","v":"BHARAT SINGH"},{"$f":"IF('SD Data Paste'!G549=\"\",\"\",'SD Data Paste'!G549)","v":"MAHENDRA SINGH CHUNDAWAT"}]
[{"$f":"IF(Table1[विद्यार्थी का नाम]=\"\",\"\",ROWS($A$1:A549))","v":549},{"$f":"IF('SD Data Paste'!A550=\"\",\"\",'SD Data Paste'!A550)","v":12},{"$f":"IF('SD Data Paste'!B550=\"\",\"\",'SD Data Paste'!B550)","v":"A"},549,{"$f":"IF('SD Data Paste'!E550=\"\",\"\",'SD Data Paste'!E550)","v":"BHARATENDU HARISHCHANDRA VAISHNAV"},{"$f":"IF('SD Data Paste'!G550=\"\",\"\",'SD Data Paste'!G550)","v":"SHANKAR DAS VAISHNAV"}]
[{"$f":"IF(Table1[विद्यार्थी का नाम]=\"\",\"\",ROWS($A$1:A550))","v":550},{"$f":"IF('SD Data Paste'!A551=\"\",\"\",'SD Data Paste'!A551)","v":12},{"$f":"IF('SD Data Paste'!B551=\"\",\"\",'SD Data Paste'!B551)","v":"A"},550,{"$f":"IF('SD Data Paste'!E551=\"\",\"\",'SD Data Paste'!E551)","v":"CHANDAN SINGH CHUNDAWAT"},{"$f":"IF('SD Data Paste'!G551=\"\",\"\",'SD Data Paste'!G551)","v":"SURENDRA SINGH"}]
[{"$f":"IF(Table1[विद्यार्थी का नाम]=\"\",\"\",ROWS($A$1:A551))","v":551},{"$f":"IF('SD Data Paste'!A552=\"\",\"\",'SD Data Paste'!A552)","v":12},{"$f":"IF('SD Data Paste'!B552=\"\",\"\",'SD Data Paste'!B552)","v":"A"},551,{"$f":"IF('SD Data Paste'!E552=\"\",\"\",'SD Data Paste'!E552)","v":"Dasharath Singh"},{"$f":"IF('SD Data Paste'!G552=\"\",\"\",'SD Data Paste'!G552)","v":"Kan Singh"}]
[{"$f":"IF(Table1[विद्यार्थी का नाम]=\"\",\"\",ROWS($A$1:A552))","v":552},{"$f":"IF('SD Data Paste'!A553=\"\",\"\",'SD Data Paste'!A553)","v":12},{"$f":"IF('SD Data Paste'!B553=\"\",\"\",'SD Data Paste'!B553)","v":"A"},552,{"$f":"IF('SD Data Paste'!E553=\"\",\"\",'SD Data Paste'!E553)","v":"DHARMA RAM GURJAR"},{"$f":"IF('SD Data Paste'!G553=\"\",\"\",'SD Data Paste'!G553)","v":"SUKH LAL GURJAR"}]
[{"$f":"IF(Table1[विद्यार्थी का नाम]=\"\",\"\",ROWS($A$1:A553))","v":553},{"$f":"IF('SD Data Paste'!A554=\"\",\"\",'SD Data Paste'!A554)","v":12},{"$f":"IF('SD Data Paste'!B554=\"\",\"\",'SD Data Paste'!B554)","v":"A"},553,{"$f":"IF('SD Data Paste'!E554=\"\",\"\",'SD Data Paste'!E554)","v":"Gopal"},{"$f":"IF('SD Data Paste'!G554=\"\",\"\",'SD Data Paste'!G554)","v":"Amar Singh"}]
[{"$f":"IF(Table1[विद्यार्थी का नाम]=\"\",\"\",ROWS($A$1:A554))","v":554},{"$f":"IF('SD Data Paste'!A555=\"\",\"\",'SD Data Paste'!A555)","v":12},{"$f":"IF('SD Data Paste'!B555=\"\",\"\",'SD Data Paste'!B555)","v":"A"},554,{"$f":"IF('SD Data Paste'!E555=\"\",\"\",'SD Data Paste'!E555)","v":"Hansraj Singh"},{"$f":"IF('SD Data Paste'!G555=\"\",\"\",'SD Data Paste'!G555)","v":"Prakash Singh"}]
[{"$f":"IF(Table1[विद्यार्थी का नाम]=\"\",\"\",ROWS($A$1:A555))","v":555},{"$f":"IF('SD Data Paste'!A556=\"\",\"\",'SD Data Paste'!A556)","v":12},{"$f":"IF('SD Data Paste'!B556=\"\",\"\",'SD Data Paste'!B556)","v":"A"},555,{"$f":"IF('SD Data Paste'!E556=\"\",\"\",'SD Data Paste'!E556)","v":"Heena Mewara"},{"$f":"IF('SD Data Paste'!G556=\"\",\"\",'SD Data Paste'!G556)","v":"Shankar Lal"}]
[{"$f":"IF(Table1[विद्यार्थी का नाम]=\"\",\"\",ROWS($A$1:A556))","v":556},{"$f":"IF('SD Data Paste'!A557=\"\",\"\",'SD Data Paste'!A557)","v":12},{"$f":"IF('SD Data Paste'!B557=\"\",\"\",'SD Data Paste'!B557)","v":"A"},556,{"$f":"IF('SD Data Paste'!E557=\"\",\"\",'SD Data Paste'!E557)","v":"Hemant Singh"},{"$f":"IF('SD Data Paste'!G557=\"\",\"\",'SD Data Paste'!G557)","v":"Vinod Singh"}]
[{"$f":"IF(Table1[विद्यार्थी का नाम]=\"\",\"\",ROWS($A$1:A557))","v":557},{"$f":"IF('SD Data Paste'!A558=\"\",\"\",'SD Data Paste'!A558)","v":12},{"$f":"IF('SD Data Paste'!B558=\"\",\"\",'SD Data Paste'!B558)","v":"A"},557,{"$f":"IF('SD Data Paste'!E558=\"\",\"\",'SD Data Paste'!E558)","v":"Hemendra Singh"},{"$f":"IF('SD Data Paste'!G558=\"\",\"\",'SD Data Paste'!G558)","v":"Girdhari Singh"}]
[{"$f":"IF(Table1[विद्यार्थी का नाम]=\"\",\"\",ROWS($A$1:A558))","v":558},{"$f":"IF('SD Data Paste'!A559=\"\",\"\",'SD Data Paste'!A559)","v":12},{"$f":"IF('SD Data Paste'!B559=\"\",\"\",'SD Data Paste'!B559)","v":"A"},558,{"$f":"IF('SD Data Paste'!E559=\"\",\"\",'SD Data Paste'!E559)","v":"HEMENDRA SINGH"},{"$f":"IF('SD Data Paste'!G559=\"\",\"\",'SD Data Paste'!G559)","v":"BHANWAR SINGH"}]
[{"$f":"IF(Table1[विद्यार्थी का नाम]=\"\",\"\",ROWS($A$1:A559))","v":559},{"$f":"IF('SD Data Paste'!A560=\"\",\"\",'SD Data Paste'!A560)","v":12},{"$f":"IF('SD Data Paste'!B560=\"\",\"\",'SD Data Paste'!B560)","v":"A"},559,{"$f":"IF('SD Data Paste'!E560=\"\",\"\",'SD Data Paste'!E560)","v":"JITENDRA KUMAR"},{"$f":"IF('SD Data Paste'!G560=\"\",\"\",'SD Data Paste'!G560)","v":"RAMESH CHANDRA"}]
[{"$f":"IF(Table1[विद्यार्थी का नाम]=\"\",\"\",ROWS($A$1:A560))","v":560},{"$f":"IF('SD Data Paste'!A561=\"\",\"\",'SD Data Paste'!A561)","v":12},{"$f":"IF('SD Data Paste'!B561=\"\",\"\",'SD Data Paste'!B561)","v":"A"},560,{"$f":"IF('SD Data Paste'!E561=\"\",\"\",'SD Data Paste'!E561)","v":"JYOTI REGAR"},{"$f":"IF('SD Data Paste'!G561=\"\",\"\",'SD Data Paste'!G561)","v":"KAMLESH REGAR"}]
[{"$f":"IF(Table1[विद्यार्थी का नाम]=\"\",\"\",ROWS($A$1:A561))","v":561},{"$f":"IF('SD Data Paste'!A562=\"\",\"\",'SD Data Paste'!A562)","v":12},{"$f":"IF('SD Data Paste'!B562=\"\",\"\",'SD Data Paste'!B562)","v":"A"},561,{"$f":"IF('SD Data Paste'!E562=\"\",\"\",'SD Data Paste'!E562)","v":"KRISHNA KUMARI"},{"$f":"IF('SD Data Paste'!G562=\"\",\"\",'SD Data Paste'!G562)","v":"LAXMAN SINGH"}]
[{"$f":"IF(Table1[विद्यार्थी का नाम]=\"\",\"\",ROWS($A$1:A562))","v":562},{"$f":"IF('SD Data Paste'!A563=\"\",\"\",'SD Data Paste'!A563)","v":12},{"$f":"IF('SD Data Paste'!B563=\"\",\"\",'SD Data Paste'!B563)","v":"A"},562,{"$f":"IF('SD Data Paste'!E563=\"\",\"\",'SD Data Paste'!E563)","v":"LABHDATT SINGH"},{"$f":"IF('SD Data Paste'!G563=\"\",\"\",'SD Data Paste'!G563)","v":"BHAGWAN SINGH"}]
[{"$f":"IF(Table1[विद्यार्थी का नाम]=\"\",\"\",ROWS($A$1:A563))","v":563},{"$f":"IF('SD Data Paste'!A564=\"\",\"\",'SD Data Paste'!A564)","v":12},{"$f":"IF('SD Data Paste'!B564=\"\",\"\",'SD Data Paste'!B564)","v":"A"},563,{"$f":"IF('SD Data Paste'!E564=\"\",\"\",'SD Data Paste'!E564)","v":"LAVINA SEVANI"},{"$f":"IF('SD Data Paste'!G564=\"\",\"\",'SD Data Paste'!G564)","v":"DAULAT RAM SEVANI"}]
[{"$f":"IF(Table1[विद्यार्थी का नाम]=\"\",\"\",ROWS($A$1:A564))","v":564},{"$f":"IF('SD Data Paste'!A565=\"\",\"\",'SD Data Paste'!A565)","v":12},{"$f":"IF('SD Data Paste'!B565=\"\",\"\",'SD Data Paste'!B565)","v":"A"},564,{"$f":"IF('SD Data Paste'!E565=\"\",\"\",'SD Data Paste'!E565)","v":"LAXMAN LAL"},{"$f":"IF('SD Data Paste'!G565=\"\",\"\",'SD Data Paste'!G565)","v":"JAMNA LAL"}]
[{"$f":"IF(Table1[विद्यार्थी का नाम]=\"\",\"\",ROWS($A$1:A565))","v":565},{"$f":"IF('SD Data Paste'!A566=\"\",\"\",'SD Data Paste'!A566)","v":12},{"$f":"IF('SD Data Paste'!B566=\"\",\"\",'SD Data Paste'!B566)","v":"A"},565,{"$f":"IF('SD Data Paste'!E566=\"\",\"\",'SD Data Paste'!E566)","v":"MAMTA RAV"},{"$f":"IF('SD Data Paste'!G566=\"\",\"\",'SD Data Paste'!G566)","v":"SATYANARAYAN RAV"}]
[{"$f":"IF(Table1[विद्यार्थी का नाम]=\"\",\"\",ROWS($A$1:A566))","v":566},{"$f":"IF('SD Data Paste'!A567=\"\",\"\",'SD Data Paste'!A567)","v":12},{"$f":"IF('SD Data Paste'!B567=\"\",\"\",'SD Data Paste'!B567)","v":"A"},566,{"$f":"IF('SD Data Paste'!E567=\"\",\"\",'SD Data Paste'!E567)","v":"MANA RAM MALI"},{"$f":"IF('SD Data Paste'!G567=\"\",\"\",'SD Data Paste'!G567)","v":"TILOK MALI"}]
[{"$f":"IF(Table1[विद्यार्थी का नाम]=\"\",\"\",ROWS($A$1:A567))","v":567},{"$f":"IF('SD Data Paste'!A568=\"\",\"\",'SD Data Paste'!A568)","v":12},{"$f":"IF('SD Data Paste'!B568=\"\",\"\",'SD Data Paste'!B568)","v":"A"},567,{"$f":"IF('SD Data Paste'!E568=\"\",\"\",'SD Data Paste'!E568)","v":"Mansi Chauhan"},{"$f":"IF('SD Data Paste'!G568=\"\",\"\",'SD Data Paste'!G568)","v":"Kulwant Singh Chauhan"}]
[{"$f":"IF(Table1[विद्यार्थी का नाम]=\"\",\"\",ROWS($A$1:A568))","v":568},{"$f":"IF('SD Data Paste'!A569=\"\",\"\",'SD Data Paste'!A569)","v":12},{"$f":"IF('SD Data Paste'!B569=\"\",\"\",'SD Data Paste'!B569)","v":"A"},568,{"$f":"IF('SD Data Paste'!E569=\"\",\"\",'SD Data Paste'!E569)","v":"Maya Regar"},{"$f":"IF('SD Data Paste'!G569=\"\",\"\",'SD Data Paste'!G569)","v":"Sawai Ram"}]
[{"$f":"IF(Table1[विद्यार्थी का नाम]=\"\",\"\",ROWS($A$1:A569))","v":569},{"$f":"IF('SD Data Paste'!A570=\"\",\"\",'SD Data Paste'!A570)","v":12},{"$f":"IF('SD Data Paste'!B570=\"\",\"\",'SD Data Paste'!B570)","v":"A"},569,{"$f":"IF('SD Data Paste'!E570=\"\",\"\",'SD Data Paste'!E570)","v":"NARESH VAISHNAV"},{"$f":"IF('SD Data Paste'!G570=\"\",\"\",'SD Data Paste'!G570)","v":"JAGDISH VAISHNAV"}]
[{"$f":"IF(Table1[विद्यार्थी का नाम]=\"\",\"\",ROWS($A$1:A570))","v":570},{"$f":"IF('SD Data Paste'!A571=\"\",\"\",'SD Data Paste'!A571)","v":12},{"$f":"IF('SD Data Paste'!B571=\"\",\"\",'SD Data Paste'!B571)","v":"A"},570,{"$f":"IF('SD Data Paste'!E571=\"\",\"\",'SD Data Paste'!E571)","v":"NAVEEN PRAKASH SINGH"},{"$f":"IF('SD Data Paste'!G571=\"\",\"\",'SD Data Paste'!G571)","v":"PANNA SINGH"}]
[{"$f":"IF(Table1[विद्यार्थी का नाम]=\"\",\"\",ROWS($A$1:A571))","v":571},{"$f":"IF('SD Data Paste'!A572=\"\",\"\",'SD Data Paste'!A572)","v":12},{"$f":"IF('SD Data Paste'!B572=\"\",\"\",'SD Data Paste'!B572)","v":"A"},571,{"$f":"IF('SD Data Paste'!E572=\"\",\"\",'SD Data Paste'!E572)","v":"NEELU KANWAR"},{"$f":"IF('SD Data Paste'!G572=\"\",\"\",'SD Data Paste'!G572)","v":"LAHAR SINGH"}]
[{"$f":"IF(Table1[विद्यार्थी का नाम]=\"\",\"\",ROWS($A$1:A572))","v":572},{"$f":"IF('SD Data Paste'!A573=\"\",\"\",'SD Data Paste'!A573)","v":12},{"$f":"IF('SD Data Paste'!B573=\"\",\"\",'SD Data Paste'!B573)","v":"A"},572,{"$f":"IF('SD Data Paste'!E573=\"\",\"\",'SD Data Paste'!E573)","v":"PAWAN KUMAR REGAR"},{"$f":"IF('SD Data Paste'!G573=\"\",\"\",'SD Data Paste'!G573)","v":"SURESH RAM REGAR"}]
[{"$f":"IF(Table1[विद्यार्थी का नाम]=\"\",\"\",ROWS($A$1:A573))","v":573},{"$f":"IF('SD Data Paste'!A574=\"\",\"\",'SD Data Paste'!A574)","v":12},{"$f":"IF('SD Data Paste'!B574=\"\",\"\",'SD Data Paste'!B574)","v":"A"},573,{"$f":"IF('SD Data Paste'!E574=\"\",\"\",'SD Data Paste'!E574)","v":"PRAKASH CHANDRA KALAL"},{"$f":"IF('SD Data Paste'!G574=\"\",\"\",'SD Data Paste'!G574)","v":"DALCHAND KALAL"}]
[{"$f":"IF(Table1[विद्यार्थी का नाम]=\"\",\"\",ROWS($A$1:A574))","v":574},{"$f":"IF('SD Data Paste'!A575=\"\",\"\",'SD Data Paste'!A575)","v":12},{"$f":"IF('SD Data Paste'!B575=\"\",\"\",'SD Data Paste'!B575)","v":"A"},574,{"$f":"IF('SD Data Paste'!E575=\"\",\"\",'SD Data Paste'!E575)","v":"PRAKASH NATH"},{"$f":"IF('SD Data Paste'!G575=\"\",\"\",'SD Data Paste'!G575)","v":"MOOL NATH"}]
[{"$f":"IF(Table1[विद्यार्थी का नाम]=\"\",\"\",ROWS($A$1:A575))","v":575},{"$f":"IF('SD Data Paste'!A576=\"\",\"\",'SD Data Paste'!A576)","v":12},{"$f":"IF('SD Data Paste'!B576=\"\",\"\",'SD Data Paste'!B576)","v":"A"},575,{"$f":"IF('SD Data Paste'!E576=\"\",\"\",'SD Data Paste'!E576)","v":"Prathviraj Singh"},{"$f":"IF('SD Data Paste'!G576=\"\",\"\",'SD Data Paste'!G576)","v":"Surendra Singh"}]
[{"$f":"IF(Table1[विद्यार्थी का नाम]=\"\",\"\",ROWS($A$1:A576))","v":576},{"$f":"IF('SD Data Paste'!A577=\"\",\"\",'SD Data Paste'!A577)","v":12},{"$f":"IF('SD Data Paste'!B577=\"\",\"\",'SD Data Paste'!B577)","v":"A"},576,{"$f":"IF('SD Data Paste'!E577=\"\",\"\",'SD Data Paste'!E577)","v":"RADHESHYAM SUTHAR"},{"$f":"IF('SD Data Paste'!G577=\"\",\"\",'SD Data Paste'!G577)","v":"SHANTI LAL SUTHAR"}]
[{"$f":"IF(Table1[विद्यार्थी का नाम]=\"\",\"\",ROWS($A$1:A577))","v":577},{"$f":"IF('SD Data Paste'!A578=\"\",\"\",'SD Data Paste'!A578)","v":12},{"$f":"IF('SD Data Paste'!B578=\"\",\"\",'SD Data Paste'!B578)","v":"A"},577,{"$f":"IF('SD Data Paste'!E578=\"\",\"\",'SD Data Paste'!E578)","v":"Rahnuma Parvin"},{"$f":"IF('SD Data Paste'!G578=\"\",\"\",'SD Data Paste'!G578)","v":"Ahsan Mohmmad Chhipa"}]
[{"$f":"IF(Table1[विद्यार्थी का नाम]=\"\",\"\",ROWS($A$1:A578))","v":578},{"$f":"IF('SD Data Paste'!A579=\"\",\"\",'SD Data Paste'!A579)","v":12},{"$f":"IF('SD Data Paste'!B579=\"\",\"\",'SD Data Paste'!B579)","v":"A"},578,{"$f":"IF('SD Data Paste'!E579=\"\",\"\",'SD Data Paste'!E579)","v":"Rahul Kumar"},{"$f":"IF('SD Data Paste'!G579=\"\",\"\",'SD Data Paste'!G579)","v":"Bheru Lal"}]
[{"$f":"IF(Table1[विद्यार्थी का नाम]=\"\",\"\",ROWS($A$1:A579))","v":579},{"$f":"IF('SD Data Paste'!A580=\"\",\"\",'SD Data Paste'!A580)","v":12},{"$f":"IF('SD Data Paste'!B580=\"\",\"\",'SD Data Paste'!B580)","v":"A"},{"$f":"IF(D581=\"\",\"\",D581+1)","v":579},{"$f":"IF('SD Data Paste'!E580=\"\",\"\",'SD Data Paste'!E580)","v":"RAHUL LOHAR"},{"$f":"IF('SD Data Paste'!G580=\"\",\"\",'SD Data Paste'!G580)","v":"BANSI LAL LOHAR"}]
[{"$f":"IF(Table1[विद्यार्थी का नाम]=\"\",\"\",ROWS($A$1:A580))","v":580},{"$f":"IF('SD Data Paste'!A581=\"\",\"\",'SD Data Paste'!A581)","v":12},{"$f":"IF('SD Data Paste'!B581=\"\",\"\",'SD Data Paste'!B581)","v":"A"},580,{"$f":"IF('SD Data Paste'!E581=\"\",\"\",'SD Data Paste'!E581)","v":"Rahul Singh"},{"$f":"IF('SD Data Paste'!G581=\"\",\"\",'SD Data Paste'!G581)","v":"Kan Singh"}]
[{"$f":"IF(Table1[विद्यार्थी का नाम]=\"\",\"\",ROWS($A$1:A581))","v":581},{"$f":"IF('SD Data Paste'!A582=\"\",\"\",'SD Data Paste'!A582)","v":12},{"$f":"IF('SD Data Paste'!B582=\"\",\"\",'SD Data Paste'!B582)","v":"A"},581,{"$f":"IF('SD Data Paste'!E582=\"\",\"\",'SD Data Paste'!E582)","v":"RAKESH SINGH"},{"$f":"IF('SD Data Paste'!G582=\"\",\"\",'SD Data Paste'!G582)","v":"KESHAR SINGH"}]
[{"$f":"IF(Table1[विद्यार्थी का नाम]=\"\",\"\",ROWS($A$1:A582))","v":582},{"$f":"IF('SD Data Paste'!A583=\"\",\"\",'SD Data Paste'!A583)","v":12},{"$f":"IF('SD Data Paste'!B583=\"\",\"\",'SD Data Paste'!B583)","v":"A"},582,{"$f":"IF('SD Data Paste'!E583=\"\",\"\",'SD Data Paste'!E583)","v":"Ravindra Singh"},{"$f":"IF('SD Data Paste'!G583=\"\",\"\",'SD Data Paste'!G583)","v":"Sultan Singh Chouhan"}]
[{"$f":"IF(Table1[विद्यार्थी का नाम]=\"\",\"\",ROWS($A$1:A583))","v":583},{"$f":"IF('SD Data Paste'!A584=\"\",\"\",'SD Data Paste'!A584)","v":12},{"$f":"IF('SD Data Paste'!B584=\"\",\"\",'SD Data Paste'!B584)","v":"A"},583,{"$f":"IF('SD Data Paste'!E584=\"\",\"\",'SD Data Paste'!E584)","v":"SATISH LOHAR"},{"$f":"IF('SD Data Paste'!G584=\"\",\"\",'SD Data Paste'!G584)","v":"GOVIND LAL"}]
[{"$f":"IF(Table1[विद्यार्थी का नाम]=\"\",\"\",ROWS($A$1:A584))","v":584},{"$f":"IF('SD Data Paste'!A585=\"\",\"\",'SD Data Paste'!A585)","v":12},{"$f":"IF('SD Data Paste'!B585=\"\",\"\",'SD Data Paste'!B585)","v":"A"},584,{"$f":"IF('SD Data Paste'!E585=\"\",\"\",'SD Data Paste'!E585)","v":"Shrvan Lal Regar"},{"$f":"IF('SD Data Paste'!G585=\"\",\"\",'SD Data Paste'!G585)","v":"Ratan Lal regar"}]
[{"$f":"IF(Table1[विद्यार्थी का नाम]=\"\",\"\",ROWS($A$1:A585))","v":585},{"$f":"IF('SD Data Paste'!A586=\"\",\"\",'SD Data Paste'!A586)","v":12},{"$f":"IF('SD Data Paste'!B586=\"\",\"\",'SD Data Paste'!B586)","v":"A"},585,{"$f":"IF('SD Data Paste'!E586=\"\",\"\",'SD Data Paste'!E586)","v":"Swati Chouhan"},{"$f":"IF('SD Data Paste'!G586=\"\",\"\",'SD Data Paste'!G586)","v":"Ajab Singh"}]
[{"$f":"IF(Table1[विद्यार्थी का नाम]=\"\",\"\",ROWS($A$1:A586))","v":586},{"$f":"IF('SD Data Paste'!A587=\"\",\"\",'SD Data Paste'!A587)","v":12},{"$f":"IF('SD Data Paste'!B587=\"\",\"\",'SD Data Paste'!B587)","v":"A"},586,{"$f":"IF('SD Data Paste'!E587=\"\",\"\",'SD Data Paste'!E587)","v":"Yash Soni"},{"$f":"IF('SD Data Paste'!G587=\"\",\"\",'SD Data Paste'!G587)","v":"Narendra Kumar"}]
[{"$f":"IF(Table1[विद्यार्थी का नाम]=\"\",\"\",ROWS($A$1:A587))","v":587},{"$f":"IF('SD Data Paste'!A588=\"\",\"\",'SD Data Paste'!A588)","v":12},{"$f":"IF('SD Data Paste'!B588=\"\",\"\",'SD Data Paste'!B588)","v":"A"},587,{"$f":"IF('SD Data Paste'!E588=\"\",\"\",'SD Data Paste'!E588)","v":"YUDDHVEER SINGH"},{"$f":"IF('SD Data Paste'!G588=\"\",\"\",'SD Data Paste'!G588)","v":"KISHAN SINGH"}]
[{"$f":"IF(Table1[विद्यार्थी का नाम]=\"\",\"\",ROWS($A$1:A588))","v":588},{"$f":"IF('SD Data Paste'!A589=\"\",\"\",'SD Data Paste'!A589)","v":12},{"$f":"IF('SD Data Paste'!B589=\"\",\"\",'SD Data Paste'!B589)","v":"B"},588,{"$f":"IF('SD Data Paste'!E589=\"\",\"\",'SD Data Paste'!E589)","v":"MEWADA RAHUL UDAY LAL"},{"$f":"IF('SD Data Paste'!G589=\"\",\"\",'SD Data Paste'!G589)","v":"MEWADA UDAY LAL"}]
[{"$f":"IF(Table1[विद्यार्थी का नाम]=\"\",\"\",ROWS($A$1:A589))","v":589},{"$f":"IF('SD Data Paste'!A590=\"\",\"\",'SD Data Paste'!A590)","v":12},{"$f":"IF('SD Data Paste'!B590=\"\",\"\",'SD Data Paste'!B590)","v":"C"},589,{"$f":"IF('SD Data Paste'!E590=\"\",\"\",'SD Data Paste'!E590)","v":"ANIL REGAR"},{"$f":"IF('SD Data Paste'!G590=\"\",\"\",'SD Data Paste'!G590)","v":"CHUNNI LAL REGAR"}]
[{"$f":"IF(Table1[विद्यार्थी का नाम]=\"\",\"\",ROWS($A$1:A590))","v":590},{"$f":"IF('SD Data Paste'!A591=\"\",\"\",'SD Data Paste'!A591)","v":12},{"$f":"IF('SD Data Paste'!B591=\"\",\"\",'SD Data Paste'!B591)","v":"C"},590,{"$f":"IF('SD Data Paste'!E591=\"\",\"\",'SD Data Paste'!E591)","v":"Ankit Rodiwal"},{"$f":"IF('SD Data Paste'!G591=\"\",\"\",'SD Data Paste'!G591)","v":"Jagdish Prasad"}]
[{"$f":"IF(Table1[विद्यार्थी का नाम]=\"\",\"\",ROWS($A$1:A591))","v":591},{"$f":"IF('SD Data Paste'!A592=\"\",\"\",'SD Data Paste'!A592)","v":12},{"$f":"IF('SD Data Paste'!B592=\"\",\"\",'SD Data Paste'!B592)","v":"C"},591,{"$f":"IF('SD Data Paste'!E592=\"\",\"\",'SD Data Paste'!E592)","v":"ARJUN SINGH"},{"$f":"IF('SD Data Paste'!G592=\"\",\"\",'SD Data Paste'!G592)","v":"MITHU SINGH"}]
[{"$f":"IF(Table1[विद्यार्थी का नाम]=\"\",\"\",ROWS($A$1:A592))","v":592},{"$f":"IF('SD Data Paste'!A593=\"\",\"\",'SD Data Paste'!A593)","v":12},{"$f":"IF('SD Data Paste'!B593=\"\",\"\",'SD Data Paste'!B593)","v":"C"},592,{"$f":"IF('SD Data Paste'!E593=\"\",\"\",'SD Data Paste'!E593)","v":"Arun Babel"},{"$f":"IF('SD Data Paste'!G593=\"\",\"\",'SD Data Paste'!G593)","v":"Ladu Lal Babel"}]
[{"$f":"IF(Table1[विद्यार्थी का नाम]=\"\",\"\",ROWS($A$1:A593))","v":593},{"$f":"IF('SD Data Paste'!A594=\"\",\"\",'SD Data Paste'!A594)","v":12},{"$f":"IF('SD Data Paste'!B594=\"\",\"\",'SD Data Paste'!B594)","v":"C"},593,{"$f":"IF('SD Data Paste'!E594=\"\",\"\",'SD Data Paste'!E594)","v":"ASHOK SINGH"},{"$f":"IF('SD Data Paste'!G594=\"\",\"\",'SD Data Paste'!G594)","v":"MITHU SINGH"}]
[{"$f":"IF(Table1[विद्यार्थी का नाम]=\"\",\"\",ROWS($A$1:A594))","v":594},{"$f":"IF('SD Data Paste'!A595=\"\",\"\",'SD Data Paste'!A595)","v":12},{"$f":"IF('SD Data Paste'!B595=\"\",\"\",'SD Data Paste'!B595)","v":"C"},594,{"$f":"IF('SD Data Paste'!E595=\"\",\"\",'SD Data Paste'!E595)","v":"Bharat Kumar"},{"$f":"IF('SD Data Paste'!G595=\"\",\"\",'SD Data Paste'!G595)","v":"Kishan Lal"}]
[{"$f":"IF(Table1[विद्यार्थी का नाम]=\"\",\"\",ROWS($A$1:A595))","v":595},{"$f":"IF('SD Data Paste'!A596=\"\",\"\",'SD Data Paste'!A596)","v":12},{"$f":"IF('SD Data Paste'!B596=\"\",\"\",'SD Data Paste'!B596)","v":"C"},595,{"$f":"IF('SD Data Paste'!E596=\"\",\"\",'SD Data Paste'!E596)","v":"BHAVESH GEHLOT"},{"$f":"IF('SD Data Paste'!G596=\"\",\"\",'SD Data Paste'!G596)","v":"KESHAR SINGH"}]
[{"$f":"IF(Table1[विद्यार्थी का नाम]=\"\",\"\",ROWS($A$1:A596))","v":596},{"$f":"IF('SD Data Paste'!A597=\"\",\"\",'SD Data Paste'!A597)","v":12},{"$f":"IF('SD Data Paste'!B597=\"\",\"\",'SD Data Paste'!B597)","v":"C"},596,{"$f":"IF('SD Data Paste'!E597=\"\",\"\",'SD Data Paste'!E597)","v":"BHUPENDRA BHAT"},{"$f":"IF('SD Data Paste'!G597=\"\",\"\",'SD Data Paste'!G597)","v":"SHANKAR LAL BHAT"}]
[{"$f":"IF(Table1[विद्यार्थी का नाम]=\"\",\"\",ROWS($A$1:A597))","v":597},{"$f":"IF('SD Data Paste'!A598=\"\",\"\",'SD Data Paste'!A598)","v":12},{"$f":"IF('SD Data Paste'!B598=\"\",\"\",'SD Data Paste'!B598)","v":"C"},597,{"$f":"IF('SD Data Paste'!E598=\"\",\"\",'SD Data Paste'!E598)","v":"Chandresh Mewara"},{"$f":"IF('SD Data Paste'!G598=\"\",\"\",'SD Data Paste'!G598)","v":"Navratan Mewara"}]
[{"$f":"IF(Table1[विद्यार्थी का नाम]=\"\",\"\",ROWS($A$1:A598))","v":598},{"$f":"IF('SD Data Paste'!A599=\"\",\"\",'SD Data Paste'!A599)","v":12},{"$f":"IF('SD Data Paste'!B599=\"\",\"\",'SD Data Paste'!B599)","v":"C"},598,{"$f":"IF('SD Data Paste'!E599=\"\",\"\",'SD Data Paste'!E599)","v":"DEEPAK KUMAR KHATIK"},{"$f":"IF('SD Data Paste'!G599=\"\",\"\",'SD Data Paste'!G599)","v":"KAILASH CHANDRA"}]
[{"$f":"IF(Table1[विद्यार्थी का नाम]=\"\",\"\",ROWS($A$1:A599))","v":599},{"$f":"IF('SD Data Paste'!A600=\"\",\"\",'SD Data Paste'!A600)","v":12},{"$f":"IF('SD Data Paste'!B600=\"\",\"\",'SD Data Paste'!B600)","v":"C"},599,{"$f":"IF('SD Data Paste'!E600=\"\",\"\",'SD Data Paste'!E600)","v":"DEVENDRA REGAR"},{"$f":"IF('SD Data Paste'!G600=\"\",\"\",'SD Data Paste'!G600)","v":"CHHAGAN LAL"}]
[{"$f":"IF(Table1[विद्यार्थी का नाम]=\"\",\"\",ROWS($A$1:A600))","v":600},{"$f":"IF('SD Data Paste'!A601=\"\",\"\",'SD Data Paste'!A601)","v":12},{"$f":"IF('SD Data Paste'!B601=\"\",\"\",'SD Data Paste'!B601)","v":"C"},600,{"$f":"IF('SD Data Paste'!E601=\"\",\"\",'SD Data Paste'!E601)","v":"DHARMA NATH"},{"$f":"IF('SD Data Paste'!G601=\"\",\"\",'SD Data Paste'!G601)","v":"SOHAN NATH"}]
[{"$f":"IF(Table1[विद्यार्थी का नाम]=\"\",\"\",ROWS($A$1:A601))","v":601},{"$f":"IF('SD Data Paste'!A602=\"\",\"\",'SD Data Paste'!A602)","v":12},{"$f":"IF('SD Data Paste'!B602=\"\",\"\",'SD Data Paste'!B602)","v":"C"},601,{"$f":"IF('SD Data Paste'!E602=\"\",\"\",'SD Data Paste'!E602)","v":"DINESH KUMAR GURJAR"},{"$f":"IF('SD Data Paste'!G602=\"\",\"\",'SD Data Paste'!G602)","v":"BHAIRU LAL GURJAR"}]
[{"$f":"IF(Table1[विद्यार्थी का नाम]=\"\",\"\",ROWS($A$1:A602))","v":602},{"$f":"IF('SD Data Paste'!A603=\"\",\"\",'SD Data Paste'!A603)","v":12},{"$f":"IF('SD Data Paste'!B603=\"\",\"\",'SD Data Paste'!B603)","v":"C"},602,{"$f":"IF('SD Data Paste'!E603=\"\",\"\",'SD Data Paste'!E603)","v":"GOVIND SALVI"},{"$f":"IF('SD Data Paste'!G603=\"\",\"\",'SD Data Paste'!G603)","v":"ASHA RAM"}]
[{"$f":"IF(Table1[विद्यार्थी का नाम]=\"\",\"\",ROWS($A$1:A603))","v":603},{"$f":"IF('SD Data Paste'!A604=\"\",\"\",'SD Data Paste'!A604)","v":12},{"$f":"IF('SD Data Paste'!B604=\"\",\"\",'SD Data Paste'!B604)","v":"C"},603,{"$f":"IF('SD Data Paste'!E604=\"\",\"\",'SD Data Paste'!E604)","v":"HEM NATH"},{"$f":"IF('SD Data Paste'!G604=\"\",\"\",'SD Data Paste'!G604)","v":"MANGU NATH"}]
[{"$f":"IF(Table1[विद्यार्थी का नाम]=\"\",\"\",ROWS($A$1:A604))","v":604},{"$f":"IF('SD Data Paste'!A605=\"\",\"\",'SD Data Paste'!A605)","v":12},{"$f":"IF('SD Data Paste'!B605=\"\",\"\",'SD Data Paste'!B605)","v":"C"},604,{"$f":"IF('SD Data Paste'!E605=\"\",\"\",'SD Data Paste'!E605)","v":"HITESH KUMAR SALVI"},{"$f":"IF('SD Data Paste'!G605=\"\",\"\",'SD Data Paste'!G605)","v":"GEHARI LAL"}]
[{"$f":"IF(Table1[विद्यार्थी का नाम]=\"\",\"\",ROWS($A$1:A605))","v":605},{"$f":"IF('SD Data Paste'!A606=\"\",\"\",'SD Data Paste'!A606)","v":12},{"$f":"IF('SD Data Paste'!B606=\"\",\"\",'SD Data Paste'!B606)","v":"C"},605,{"$f":"IF('SD Data Paste'!E606=\"\",\"\",'SD Data Paste'!E606)","v":"INDRA MAL"},{"$f":"IF('SD Data Paste'!G606=\"\",\"\",'SD Data Paste'!G606)","v":"BHANWAR LAL REGAR"}]
[{"$f":"IF(Table1[विद्यार्थी का नाम]=\"\",\"\",ROWS($A$1:A606))","v":606},{"$f":"IF('SD Data Paste'!A607=\"\",\"\",'SD Data Paste'!A607)","v":12},{"$f":"IF('SD Data Paste'!B607=\"\",\"\",'SD Data Paste'!B607)","v":"C"},606,{"$f":"IF('SD Data Paste'!E607=\"\",\"\",'SD Data Paste'!E607)","v":"ISHWAR LAL YATI"},{"$f":"IF('SD Data Paste'!G607=\"\",\"\",'SD Data Paste'!G607)","v":"CHANDRA PRAKASH"}]
[{"$f":"IF(Table1[विद्यार्थी का नाम]=\"\",\"\",ROWS($A$1:A607))","v":607},{"$f":"IF('SD Data Paste'!A608=\"\",\"\",'SD Data Paste'!A608)","v":12},{"$f":"IF('SD Data Paste'!B608=\"\",\"\",'SD Data Paste'!B608)","v":"C"},607,{"$f":"IF('SD Data Paste'!E608=\"\",\"\",'SD Data Paste'!E608)","v":"JASWANT SINGH"},{"$f":"IF('SD Data Paste'!G608=\"\",\"\",'SD Data Paste'!G608)","v":"ARJUN SINGH"}]
[{"$f":"IF(Table1[विद्यार्थी का नाम]=\"\",\"\",ROWS($A$1:A608))","v":608},{"$f":"IF('SD Data Paste'!A609=\"\",\"\",'SD Data Paste'!A609)","v":12},{"$f":"IF('SD Data Paste'!B609=\"\",\"\",'SD Data Paste'!B609)","v":"C"},608,{"$f":"IF('SD Data Paste'!E609=\"\",\"\",'SD Data Paste'!E609)","v":"Kamlesh Regar"},{"$f":"IF('SD Data Paste'!G609=\"\",\"\",'SD Data Paste'!G609)","v":"Prakash Regar"}]
[{"$f":"IF(Table1[विद्यार्थी का नाम]=\"\",\"\",ROWS($A$1:A609))","v":609},{"$f":"IF('SD Data Paste'!A610=\"\",\"\",'SD Data Paste'!A610)","v":12},{"$f":"IF('SD Data Paste'!B610=\"\",\"\",'SD Data Paste'!B610)","v":"C"},609,{"$f":"IF('SD Data Paste'!E610=\"\",\"\",'SD Data Paste'!E610)","v":"KARAN SANSI"},{"$f":"IF('SD Data Paste'!G610=\"\",\"\",'SD Data Paste'!G610)","v":"SHIV LAL SANSI"}]
[{"$f":"IF(Table1[विद्यार्थी का नाम]=\"\",\"\",ROWS($A$1:A610))","v":610},{"$f":"IF('SD Data Paste'!A611=\"\",\"\",'SD Data Paste'!A611)","v":12},{"$f":"IF('SD Data Paste'!B611=\"\",\"\",'SD Data Paste'!B611)","v":"C"},610,{"$f":"IF('SD Data Paste'!E611=\"\",\"\",'SD Data Paste'!E611)","v":"KARAN SINGH RAWAT"},{"$f":"IF('SD Data Paste'!G611=\"\",\"\",'SD Data Paste'!G611)","v":"CHOON SINGH"}]
[{"$f":"IF(Table1[विद्यार्थी का नाम]=\"\",\"\",ROWS($A$1:A611))","v":611},{"$f":"IF('SD Data Paste'!A612=\"\",\"\",'SD Data Paste'!A612)","v":12},{"$f":"IF('SD Data Paste'!B612=\"\",\"\",'SD Data Paste'!B612)","v":"C"},611,{"$f":"IF('SD Data Paste'!E612=\"\",\"\",'SD Data Paste'!E612)","v":"Kavesh Joshi"},{"$f":"IF('SD Data Paste'!G612=\"\",\"\",'SD Data Paste'!G612)","v":"Rajesh Joshi"}]
[{"$f":"IF(Table1[विद्यार्थी का नाम]=\"\",\"\",ROWS($A$1:A612))","v":612},{"$f":"IF('SD Data Paste'!A613=\"\",\"\",'SD Data Paste'!A613)","v":12},{"$f":"IF('SD Data Paste'!B613=\"\",\"\",'SD Data Paste'!B613)","v":"C"},612,{"$f":"IF('SD Data Paste'!E613=\"\",\"\",'SD Data Paste'!E613)","v":"Khushwant Vyas"},{"$f":"IF('SD Data Paste'!G613=\"\",\"\",'SD Data Paste'!G613)","v":"Satya Narayan"}]
[{"$f":"IF(Table1[विद्यार्थी का नाम]=\"\",\"\",ROWS($A$1:A613))","v":613},{"$f":"IF('SD Data Paste'!A614=\"\",\"\",'SD Data Paste'!A614)","v":12},{"$f":"IF('SD Data Paste'!B614=\"\",\"\",'SD Data Paste'!B614)","v":"C"},613,{"$f":"IF('SD Data Paste'!E614=\"\",\"\",'SD Data Paste'!E614)","v":"Kushal Singh Chundawat"},{"$f":"IF('SD Data Paste'!G614=\"\",\"\",'SD Data Paste'!G614)","v":"Shal Singh"}]
[{"$f":"IF(Table1[विद्यार्थी का नाम]=\"\",\"\",ROWS($A$1:A614))","v":614},{"$f":"IF('SD Data Paste'!A615=\"\",\"\",'SD Data Paste'!A615)","v":12},{"$f":"IF('SD Data Paste'!B615=\"\",\"\",'SD Data Paste'!B615)","v":"C"},614,{"$f":"IF('SD Data Paste'!E615=\"\",\"\",'SD Data Paste'!E615)","v":"LAXMAN LAL SALVI"},{"$f":"IF('SD Data Paste'!G615=\"\",\"\",'SD Data Paste'!G615)","v":"SHANKAR LAL SALVI"}]
[{"$f":"IF(Table1[विद्यार्थी का नाम]=\"\",\"\",ROWS($A$1:A615))","v":615},{"$f":"IF('SD Data Paste'!A616=\"\",\"\",'SD Data Paste'!A616)","v":12},{"$f":"IF('SD Data Paste'!B616=\"\",\"\",'SD Data Paste'!B616)","v":"C"},615,{"$f":"IF('SD Data Paste'!E616=\"\",\"\",'SD Data Paste'!E616)","v":"LOKENDRA SINGH"},{"$f":"IF('SD Data Paste'!G616=\"\",\"\",'SD Data Paste'!G616)","v":"FATEH SINGH"}]
[{"$f":"IF(Table1[विद्यार्थी का नाम]=\"\",\"\",ROWS($A$1:A616))","v":616},{"$f":"IF('SD Data Paste'!A617=\"\",\"\",'SD Data Paste'!A617)","v":12},{"$f":"IF('SD Data Paste'!B617=\"\",\"\",'SD Data Paste'!B617)","v":"C"},616,{"$f":"IF('SD Data Paste'!E617=\"\",\"\",'SD Data Paste'!E617)","v":"LOKESH KUMAR KHOKHAWAT"},{"$f":"IF('SD Data Paste'!G617=\"\",\"\",'SD Data Paste'!G617)","v":"RAMESH CHANDRA"}]
[{"$f":"IF(Table1[विद्यार्थी का नाम]=\"\",\"\",ROWS($A$1:A617))","v":617},{"$f":"IF('SD Data Paste'!A618=\"\",\"\",'SD Data Paste'!A618)","v":12},{"$f":"IF('SD Data Paste'!B618=\"\",\"\",'SD Data Paste'!B618)","v":"C"},617,{"$f":"IF('SD Data Paste'!E618=\"\",\"\",'SD Data Paste'!E618)","v":"LOKESH KUMAR SALVI"},{"$f":"IF('SD Data Paste'!G618=\"\",\"\",'SD Data Paste'!G618)","v":"PRAKASH CHANDR SALVI"}]
[{"$f":"IF(Table1[विद्यार्थी का नाम]=\"\",\"\",ROWS($A$1:A618))","v":618},{"$f":"IF('SD Data Paste'!A619=\"\",\"\",'SD Data Paste'!A619)","v":12},{"$f":"IF('SD Data Paste'!B619=\"\",\"\",'SD Data Paste'!B619)","v":"C"},618,{"$f":"IF('SD Data Paste'!E619=\"\",\"\",'SD Data Paste'!E619)","v":"LOKESH SINGH"},{"$f":"IF('SD Data Paste'!G619=\"\",\"\",'SD Data Paste'!G619)","v":"PREM SINGH"}]
[{"$f":"IF(Table1[विद्यार्थी का नाम]=\"\",\"\",ROWS($A$1:A619))","v":619},{"$f":"IF('SD Data Paste'!A620=\"\",\"\",'SD Data Paste'!A620)","v":12},{"$f":"IF('SD Data Paste'!B620=\"\",\"\",'SD Data Paste'!B620)","v":"C"},619,{"$f":"IF('SD Data Paste'!E620=\"\",\"\",'SD Data Paste'!E620)","v":"MAHIPAL SINGH"},{"$f":"IF('SD Data Paste'!G620=\"\",\"\",'SD Data Paste'!G620)","v":"PARTAP SINGH"}]
[{"$f":"IF(Table1[विद्यार्थी का नाम]=\"\",\"\",ROWS($A$1:A620))","v":620},{"$f":"IF('SD Data Paste'!A621=\"\",\"\",'SD Data Paste'!A621)","v":12},{"$f":"IF('SD Data Paste'!B621=\"\",\"\",'SD Data Paste'!B621)","v":"C"},620,{"$f":"IF('SD Data Paste'!E621=\"\",\"\",'SD Data Paste'!E621)","v":"MANOHAR SINGH"},{"$f":"IF('SD Data Paste'!G621=\"\",\"\",'SD Data Paste'!G621)","v":"KHEEM SINGH"}]
[{"$f":"IF(Table1[विद्यार्थी का नाम]=\"\",\"\",ROWS($A$1:A621))","v":621},{"$f":"IF('SD Data Paste'!A622=\"\",\"\",'SD Data Paste'!A622)","v":12},{"$f":"IF('SD Data Paste'!B622=\"\",\"\",'SD Data Paste'!B622)","v":"C"},621,{"$f":"IF('SD Data Paste'!E622=\"\",\"\",'SD Data Paste'!E622)","v":"MANOJ KUMAR KHATIK"},{"$f":"IF('SD Data Paste'!G622=\"\",\"\",'SD Data Paste'!G622)","v":"DOLA RAM"}]
[{"$f":"IF(Table1[विद्यार्थी का नाम]=\"\",\"\",ROWS($A$1:A622))","v":622},{"$f":"IF('SD Data Paste'!A623=\"\",\"\",'SD Data Paste'!A623)","v":12},{"$f":"IF('SD Data Paste'!B623=\"\",\"\",'SD Data Paste'!B623)","v":"C"},622,{"$f":"IF('SD Data Paste'!E623=\"\",\"\",'SD Data Paste'!E623)","v":"Mayank Sharma"},{"$f":"IF('SD Data Paste'!G623=\"\",\"\",'SD Data Paste'!G623)","v":"Sanjay Kumar Sharma"}]
[{"$f":"IF(Table1[विद्यार्थी का नाम]=\"\",\"\",ROWS($A$1:A623))","v":623},{"$f":"IF('SD Data Paste'!A624=\"\",\"\",'SD Data Paste'!A624)","v":12},{"$f":"IF('SD Data Paste'!B624=\"\",\"\",'SD Data Paste'!B624)","v":"C"},623,{"$f":"IF('SD Data Paste'!E624=\"\",\"\",'SD Data Paste'!E624)","v":"Mehul Anand"},{"$f":"IF('SD Data Paste'!G624=\"\",\"\",'SD Data Paste'!G624)","v":"Prakash Chandra"}]
[{"$f":"IF(Table1[विद्यार्थी का नाम]=\"\",\"\",ROWS($A$1:A624))","v":624},{"$f":"IF('SD Data Paste'!A625=\"\",\"\",'SD Data Paste'!A625)","v":12},{"$f":"IF('SD Data Paste'!B625=\"\",\"\",'SD Data Paste'!B625)","v":"C"},624,{"$f":"IF('SD Data Paste'!E625=\"\",\"\",'SD Data Paste'!E625)","v":"Mohammad Arif"},{"$f":"IF('SD Data Paste'!G625=\"\",\"\",'SD Data Paste'!G625)","v":"Nabi Baksh"}]
[{"$f":"IF(Table1[विद्यार्थी का नाम]=\"\",\"\",ROWS($A$1:A625))","v":625},{"$f":"IF('SD Data Paste'!A626=\"\",\"\",'SD Data Paste'!A626)","v":12},{"$f":"IF('SD Data Paste'!B626=\"\",\"\",'SD Data Paste'!B626)","v":"C"},625,{"$f":"IF('SD Data Paste'!E626=\"\",\"\",'SD Data Paste'!E626)","v":"MOHMMAD BILAL"},{"$f":"IF('SD Data Paste'!G626=\"\",\"\",'SD Data Paste'!G626)","v":"PARVEJ MOHAMMAD"}]
[{"$f":"IF(Table1[विद्यार्थी का नाम]=\"\",\"\",ROWS($A$1:A626))","v":626},{"$f":"IF('SD Data Paste'!A627=\"\",\"\",'SD Data Paste'!A627)","v":12},{"$f":"IF('SD Data Paste'!B627=\"\",\"\",'SD Data Paste'!B627)","v":"C"},626,{"$f":"IF('SD Data Paste'!E627=\"\",\"\",'SD Data Paste'!E627)","v":"NARESH SUTHAR"},{"$f":"IF('SD Data Paste'!G627=\"\",\"\",'SD Data Paste'!G627)","v":"DEVILAL"}]
[{"$f":"IF(Table1[विद्यार्थी का नाम]=\"\",\"\",ROWS($A$1:A627))","v":627},{"$f":"IF('SD Data Paste'!A628=\"\",\"\",'SD Data Paste'!A628)","v":12},{"$f":"IF('SD Data Paste'!B628=\"\",\"\",'SD Data Paste'!B628)","v":"C"},627,{"$f":"IF('SD Data Paste'!E628=\"\",\"\",'SD Data Paste'!E628)","v":"Pradeep Kumar"},{"$f":"IF('SD Data Paste'!G628=\"\",\"\",'SD Data Paste'!G628)","v":"Dilip Kumar"}]
[{"$f":"IF(Table1[विद्यार्थी का नाम]=\"\",\"\",ROWS($A$1:A628))","v":628},{"$f":"IF('SD Data Paste'!A629=\"\",\"\",'SD Data Paste'!A629)","v":12},{"$f":"IF('SD Data Paste'!B629=\"\",\"\",'SD Data Paste'!B629)","v":"C"},628,{"$f":"IF('SD Data Paste'!E629=\"\",\"\",'SD Data Paste'!E629)","v":"Prakash Chandra"},{"$f":"IF('SD Data Paste'!G629=\"\",\"\",'SD Data Paste'!G629)","v":"Kishan Lal Regar"}]
[{"$f":"IF(Table1[विद्यार्थी का नाम]=\"\",\"\",ROWS($A$1:A629))","v":629},{"$f":"IF('SD Data Paste'!A630=\"\",\"\",'SD Data Paste'!A630)","v":12},{"$f":"IF('SD Data Paste'!B630=\"\",\"\",'SD Data Paste'!B630)","v":"C"},629,{"$f":"IF('SD Data Paste'!E630=\"\",\"\",'SD Data Paste'!E630)","v":"PRATAP SINGH"},{"$f":"IF('SD Data Paste'!G630=\"\",\"\",'SD Data Paste'!G630)","v":"GHEESA SINGH"}]
[{"$f":"IF(Table1[विद्यार्थी का नाम]=\"\",\"\",ROWS($A$1:A630))","v":630},{"$f":"IF('SD Data Paste'!A631=\"\",\"\",'SD Data Paste'!A631)","v":12},{"$f":"IF('SD Data Paste'!B631=\"\",\"\",'SD Data Paste'!B631)","v":"C"},630,{"$f":"IF('SD Data Paste'!E631=\"\",\"\",'SD Data Paste'!E631)","v":"Prem Sahu"},{"$f":"IF('SD Data Paste'!G631=\"\",\"\",'SD Data Paste'!G631)","v":"Roshan Sahu"}]
[{"$f":"IF(Table1[विद्यार्थी का नाम]=\"\",\"\",ROWS($A$1:A631))","v":631},{"$f":"IF('SD Data Paste'!A632=\"\",\"\",'SD Data Paste'!A632)","v":12},{"$f":"IF('SD Data Paste'!B632=\"\",\"\",'SD Data Paste'!B632)","v":"C"},631,{"$f":"IF('SD Data Paste'!E632=\"\",\"\",'SD Data Paste'!E632)","v":"RADHASHAYAM SALVI"},{"$f":"IF('SD Data Paste'!G632=\"\",\"\",'SD Data Paste'!G632)","v":"BHURA RAM"}]
[{"$f":"IF(Table1[विद्यार्थी का नाम]=\"\",\"\",ROWS($A$1:A632))","v":632},{"$f":"IF('SD Data Paste'!A633=\"\",\"\",'SD Data Paste'!A633)","v":12},{"$f":"IF('SD Data Paste'!B633=\"\",\"\",'SD Data Paste'!B633)","v":"C"},632,{"$f":"IF('SD Data Paste'!E633=\"\",\"\",'SD Data Paste'!E633)","v":"RAHUL CHANDEL"},{"$f":"IF('SD Data Paste'!G633=\"\",\"\",'SD Data Paste'!G633)","v":"GOVIND LAL CHANDEL"}]
[{"$f":"IF(Table1[विद्यार्थी का नाम]=\"\",\"\",ROWS($A$1:A633))","v":633},{"$f":"IF('SD Data Paste'!A634=\"\",\"\",'SD Data Paste'!A634)","v":12},{"$f":"IF('SD Data Paste'!B634=\"\",\"\",'SD Data Paste'!B634)","v":"C"},633,{"$f":"IF('SD Data Paste'!E634=\"\",\"\",'SD Data Paste'!E634)","v":"RAKESH NATH"},{"$f":"IF('SD Data Paste'!G634=\"\",\"\",'SD Data Paste'!G634)","v":"BHERU NATH"}]
[{"$f":"IF(Table1[विद्यार्थी का नाम]=\"\",\"\",ROWS($A$1:A634))","v":634},{"$f":"IF('SD Data Paste'!A635=\"\",\"\",'SD Data Paste'!A635)","v":12},{"$f":"IF('SD Data Paste'!B635=\"\",\"\",'SD Data Paste'!B635)","v":"C"},634,{"$f":"IF('SD Data Paste'!E635=\"\",\"\",'SD Data Paste'!E635)","v":"RUDRA PRATAP SINGH"},{"$f":"IF('SD Data Paste'!G635=\"\",\"\",'SD Data Paste'!G635)","v":"SHIV SINGH"}]
[{"$f":"IF(Table1[विद्यार्थी का नाम]=\"\",\"\",ROWS($A$1:A635))","v":635},{"$f":"IF('SD Data Paste'!A636=\"\",\"\",'SD Data Paste'!A636)","v":12},{"$f":"IF('SD Data Paste'!B636=\"\",\"\",'SD Data Paste'!B636)","v":"C"},635,{"$f":"IF('SD Data Paste'!E636=\"\",\"\",'SD Data Paste'!E636)","v":"Saiyyad Kasim"},{"$f":"IF('SD Data Paste'!G636=\"\",\"\",'SD Data Paste'!G636)","v":"Shakeel Mohammad"}]
[{"$f":"IF(Table1[विद्यार्थी का नाम]=\"\",\"\",ROWS($A$1:A636))","v":636},{"$f":"IF('SD Data Paste'!A637=\"\",\"\",'SD Data Paste'!A637)","v":12},{"$f":"IF('SD Data Paste'!B637=\"\",\"\",'SD Data Paste'!B637)","v":"C"},636,{"$f":"IF('SD Data Paste'!E637=\"\",\"\",'SD Data Paste'!E637)","v":"SHIVRAJ SINGH CHOUHAN"},{"$f":"IF('SD Data Paste'!G637=\"\",\"\",'SD Data Paste'!G637)","v":"DEVENDRA SINGH CHOUHAN"}]
[{"$f":"IF(Table1[विद्यार्थी का नाम]=\"\",\"\",ROWS($A$1:A637))","v":637},{"$f":"IF('SD Data Paste'!A638=\"\",\"\",'SD Data Paste'!A638)","v":12},{"$f":"IF('SD Data Paste'!B638=\"\",\"\",'SD Data Paste'!B638)","v":"C"},637,{"$f":"IF('SD Data Paste'!E638=\"\",\"\",'SD Data Paste'!E638)","v":"Sudarshan Kumar Bareth"},{"$f":"IF('SD Data Paste'!G638=\"\",\"\",'SD Data Paste'!G638)","v":"Suresh Chandra Bareth"}]
[{"$f":"IF(Table1[विद्यार्थी का नाम]=\"\",\"\",ROWS($A$1:A638))","v":638},{"$f":"IF('SD Data Paste'!A639=\"\",\"\",'SD Data Paste'!A639)","v":12},{"$f":"IF('SD Data Paste'!B639=\"\",\"\",'SD Data Paste'!B639)","v":"C"},638,{"$f":"IF('SD Data Paste'!E639=\"\",\"\",'SD Data Paste'!E639)","v":"SUNIL KUMAR"},{"$f":"IF('SD Data Paste'!G639=\"\",\"\",'SD Data Paste'!G639)","v":"NOLARAM"}]
[{"$f":"IF(Table1[विद्यार्थी का नाम]=\"\",\"\",ROWS($A$1:A639))","v":639},{"$f":"IF('SD Data Paste'!A640=\"\",\"\",'SD Data Paste'!A640)","v":12},{"$f":"IF('SD Data Paste'!B640=\"\",\"\",'SD Data Paste'!B640)","v":"C"},639,{"$f":"IF('SD Data Paste'!E640=\"\",\"\",'SD Data Paste'!E640)","v":"SURESH SINGH"},{"$f":"IF('SD Data Paste'!G640=\"\",\"\",'SD Data Paste'!G640)","v":"JETHU SINGH"}]
[{"$f":"IF(Table1[विद्यार्थी का नाम]=\"\",\"\",ROWS($A$1:A640))","v":640},{"$f":"IF('SD Data Paste'!A641=\"\",\"\",'SD Data Paste'!A641)","v":12},{"$f":"IF('SD Data Paste'!B641=\"\",\"\",'SD Data Paste'!B641)","v":"C"},640,{"$f":"IF('SD Data Paste'!E641=\"\",\"\",'SD Data Paste'!E641)","v":"TIKAM SINGH TANK"},{"$f":"IF('SD Data Paste'!G641=\"\",\"\",'SD Data Paste'!G641)","v":"VIKRAM SINGH"}]
[{"$f":"IF(Table1[विद्यार्थी का नाम]=\"\",\"\",ROWS($A$1:A641))","v":641},{"$f":"IF('SD Data Paste'!A642=\"\",\"\",'SD Data Paste'!A642)","v":12},{"$f":"IF('SD Data Paste'!B642=\"\",\"\",'SD Data Paste'!B642)","v":"C"},641,{"$f":"IF('SD Data Paste'!E642=\"\",\"\",'SD Data Paste'!E642)","v":"VIKAS NATH"},{"$f":"IF('SD Data Paste'!G642=\"\",\"\",'SD Data Paste'!G642)","v":"SUKHA NATH"}]
[{"$f":"IF(Table1[विद्यार्थी का नाम]=\"\",\"\",ROWS($A$1:A642))","v":642},{"$f":"IF('SD Data Paste'!A643=\"\",\"\",'SD Data Paste'!A643)","v":12},{"$f":"IF('SD Data Paste'!B643=\"\",\"\",'SD Data Paste'!B643)","v":"C"},642,{"$f":"IF('SD Data Paste'!E643=\"\",\"\",'SD Data Paste'!E643)","v":"VIKRAM SINGH"},{"$f":"IF('SD Data Paste'!G643=\"\",\"\",'SD Data Paste'!G643)","v":"RATAN SINGH"}]
[{"$f":"IF(Table1[विद्यार्थी का नाम]=\"\",\"\",ROWS($A$1:A643))","v":643},{"$f":"IF('SD Data Paste'!A644=\"\",\"\",'SD Data Paste'!A644)","v":12},{"$f":"IF('SD Data Paste'!B644=\"\",\"\",'SD Data Paste'!B644)","v":"C"},{"$f":"IF(D645=\"\",\"\",D645+1)","v":643},{"$f":"IF('SD Data Paste'!E644=\"\",\"\",'SD Data Paste'!E644)","v":"VIKRAM SINGH"},{"$f":"IF('SD Data Paste'!G644=\"\",\"\",'SD Data Paste'!G644)","v":"MANGAL SINGH"}]
[{"$f":"IF(Table1[विद्यार्थी का नाम]=\"\",\"\",ROWS($A$1:A644))","v":644},{"$f":"IF('SD Data Paste'!A645=\"\",\"\",'SD Data Paste'!A645)","v":12},{"$f":"IF('SD Data Paste'!B645=\"\",\"\",'SD Data Paste'!B645)","v":"C"},644,{"$f":"IF('SD Data Paste'!E645=\"\",\"\",'SD Data Paste'!E645)","v":"Vinod Nath"},{"$f":"IF('SD Data Paste'!G645=\"\",\"\",'SD Data Paste'!G645)","v":"Mohan Nath"}]
[{"$f":"IF(Table1[विद्यार्थी का नाम]=\"\",\"\",ROWS($A$1:A645))","v":645},{"$f":"IF('SD Data Paste'!A646=\"\",\"\",'SD Data Paste'!A646)","v":12},{"$f":"IF('SD Data Paste'!B646=\"\",\"\",'SD Data Paste'!B646)","v":"C"},645,{"$f":"IF('SD Data Paste'!E646=\"\",\"\",'SD Data Paste'!E646)","v":"Vishal Joshi"},{"$f":"IF('SD Data Paste'!G646=\"\",\"\",'SD Data Paste'!G646)","v":"Ram Chandra Joshi"}]
[{"$f":"IF(Table1[विद्यार्थी का नाम]=\"\",\"\",ROWS($A$1:A646))","v":646},{"$f":"IF('SD Data Paste'!A647=\"\",\"\",'SD Data Paste'!A647)","v":12},{"$f":"IF('SD Data Paste'!B647=\"\",\"\",'SD Data Paste'!B647)","v":"C"},646,{"$f":"IF('SD Data Paste'!E647=\"\",\"\",'SD Data Paste'!E647)","v":"VISHAN REGAR"},{"$f":"IF('SD Data Paste'!G647=\"\",\"\",'SD Data Paste'!G647)","v":"PEMA RAM REGAR"}]
[{"$f":"IF(Table1[विद्यार्थी का नाम]=\"\",\"\",ROWS($A$1:A647))","v":647},{"$f":"IF('SD Data Paste'!A648=\"\",\"\",'SD Data Paste'!A648)","v":12},{"$f":"IF('SD Data Paste'!B648=\"\",\"\",'SD Data Paste'!B648)","v":"C"},647,{"$f":"IF('SD Data Paste'!E648=\"\",\"\",'SD Data Paste'!E648)","v":"Vishanu Regar"},{"$f":"IF('SD Data Paste'!G648=\"\",\"\",'SD Data Paste'!G648)","v":"Prakash Regar"}]
[{"$f":"IF(Table1[विद्यार्थी का नाम]=\"\",\"\",ROWS($A$1:A648))","v":648},{"$f":"IF('SD Data Paste'!A649=\"\",\"\",'SD Data Paste'!A649)","v":12},{"$f":"IF('SD Data Paste'!B649=\"\",\"\",'SD Data Paste'!B649)","v":"C"},648,{"$f":"IF('SD Data Paste'!E649=\"\",\"\",'SD Data Paste'!E649)","v":"VISHNU REGAR"},{"$f":"IF('SD Data Paste'!G649=\"\",\"\",'SD Data Paste'!G649)","v":"BHERU LAL REGAR"}]
[{"$f":"IF(Table1[विद्यार्थी का नाम]=\"\",\"\",ROWS($A$1:A649))","v":649},{"$f":"IF('SD Data Paste'!A650=\"\",\"\",'SD Data Paste'!A650)","v":12},{"$f":"IF('SD Data Paste'!B650=\"\",\"\",'SD Data Paste'!B650)","v":"C"},649,{"$f":"IF('SD Data Paste'!E650=\"\",\"\",'SD Data Paste'!E650)","v":"Vishwajeet Singh Panwar"},{"$f":"IF('SD Data Paste'!G650=\"\",\"\",'SD Data Paste'!G650)","v":"Dharam Singh Panwar"}]
[{"$f":"IF(Table1[विद्यार्थी का नाम]=\"\",\"\",ROWS($A$1:A650))","v":650},{"$f":"IF('SD Data Paste'!A651=\"\",\"\",'SD Data Paste'!A651)","v":12},{"$f":"IF('SD Data Paste'!B651=\"\",\"\",'SD Data Paste'!B651)","v":"C"},650,{"$f":"IF('SD Data Paste'!E651=\"\",\"\",'SD Data Paste'!E651)","v":"Vivek Ved"},{"$f":"IF('SD Data Paste'!G651=\"\",\"\",'SD Data Paste'!G651)","v":"Mukesh Ved"}]
[{"$f":"IF(Table1[विद्यार्थी का नाम]=\"\",\"\",ROWS($A$1:A651))","v":651},{"$f":"IF('SD Data Paste'!A652=\"\",\"\",'SD Data Paste'!A652)","v":12},{"$f":"IF('SD Data Paste'!B652=\"\",\"\",'SD Data Paste'!B652)","v":"C"},651,{"$f":"IF('SD Data Paste'!E652=\"\",\"\",'SD Data Paste'!E652)","v":"YASH DILIP KUMAR SEN"},{"$f":"IF('SD Data Paste'!G652=\"\",\"\",'SD Data Paste'!G652)","v":"DILIP KUMAR"}]
[{"$f":"IF(Table1[विद्यार्थी का नाम]=\"\",\"\",ROWS($A$1:A652))","v":652},{"$f":"IF('SD Data Paste'!A653=\"\",\"\",'SD Data Paste'!A653)","v":12},{"$f":"IF('SD Data Paste'!B653=\"\",\"\",'SD Data Paste'!B653)","v":"C"},652,{"$f":"IF('SD Data Paste'!E653=\"\",\"\",'SD Data Paste'!E653)","v":"Yasin Mohmmad"},{"$f":"IF('SD Data Paste'!G653=\"\",\"\",'SD Data Paste'!G653)","v":"Salim Mohmmad"}]
[{"$f":"IF(Table1[विद्यार्थी का नाम]=\"\",\"\",ROWS($A$1:A653))","v":653},{"$f":"IF('SD Data Paste'!A654=\"\",\"\",'SD Data Paste'!A654)","v":12},{"$f":"IF('SD Data Paste'!B654=\"\",\"\",'SD Data Paste'!B654)","v":"D"},653,{"$f":"IF('SD Data Paste'!E654=\"\",\"\",'SD Data Paste'!E654)","v":"Aakash Gayari"},{"$f":"IF('SD Data Paste'!G654=\"\",\"\",'SD Data Paste'!G654)","v":"Mangi Lal Gayari"}]
[{"$f":"IF(Table1[विद्यार्थी का नाम]=\"\",\"\",ROWS($A$1:A654))","v":654},{"$f":"IF('SD Data Paste'!A655=\"\",\"\",'SD Data Paste'!A655)","v":12},{"$f":"IF('SD Data Paste'!B655=\"\",\"\",'SD Data Paste'!B655)","v":"D"},654,{"$f":"IF('SD Data Paste'!E655=\"\",\"\",'SD Data Paste'!E655)","v":"AJAY SEN"},{"$f":"IF('SD Data Paste'!G655=\"\",\"\",'SD Data Paste'!G655)","v":"SURESH SEN"}]
[{"$f":"IF(Table1[विद्यार्थी का नाम]=\"\",\"\",ROWS($A$1:A655))","v":655},{"$f":"IF('SD Data Paste'!A656=\"\",\"\",'SD Data Paste'!A656)","v":12},{"$f":"IF('SD Data Paste'!B656=\"\",\"\",'SD Data Paste'!B656)","v":"D"},655,{"$f":"IF('SD Data Paste'!E656=\"\",\"\",'SD Data Paste'!E656)","v":"ARBAZ KHAN"},{"$f":"IF('SD Data Paste'!G656=\"\",\"\",'SD Data Paste'!G656)","v":"ASLAM MOHAMMAD"}]
[{"$f":"IF(Table1[विद्यार्थी का नाम]=\"\",\"\",ROWS($A$1:A656))","v":656},{"$f":"IF('SD Data Paste'!A657=\"\",\"\",'SD Data Paste'!A657)","v":12},{"$f":"IF('SD Data Paste'!B657=\"\",\"\",'SD Data Paste'!B657)","v":"D"},656,{"$f":"IF('SD Data Paste'!E657=\"\",\"\",'SD Data Paste'!E657)","v":"Devendra Singh"},{"$f":"IF('SD Data Paste'!G657=\"\",\"\",'SD Data Paste'!G657)","v":"Nahar Singh Rathore"}]
[{"$f":"IF(Table1[विद्यार्थी का नाम]=\"\",\"\",ROWS($A$1:A657))","v":657},{"$f":"IF('SD Data Paste'!A658=\"\",\"\",'SD Data Paste'!A658)","v":12},{"$f":"IF('SD Data Paste'!B658=\"\",\"\",'SD Data Paste'!B658)","v":"D"},657,{"$f":"IF('SD Data Paste'!E658=\"\",\"\",'SD Data Paste'!E658)","v":"GAHARI LAL GURJAR"},{"$f":"IF('SD Data Paste'!G658=\"\",\"\",'SD Data Paste'!G658)","v":"KALU JI GURJAR"}]
[{"$f":"IF(Table1[विद्यार्थी का नाम]=\"\",\"\",ROWS($A$1:A658))","v":658},{"$f":"IF('SD Data Paste'!A659=\"\",\"\",'SD Data Paste'!A659)","v":12},{"$f":"IF('SD Data Paste'!B659=\"\",\"\",'SD Data Paste'!B659)","v":"D"},658,{"$f":"IF('SD Data Paste'!E659=\"\",\"\",'SD Data Paste'!E659)","v":"Harshvardhan Panwar"},{"$f":"IF('SD Data Paste'!G659=\"\",\"\",'SD Data Paste'!G659)","v":"Rajendra Singh Panwar"}]
[{"$f":"IF(Table1[विद्यार्थी का नाम]=\"\",\"\",ROWS($A$1:A659))","v":659},{"$f":"IF('SD Data Paste'!A660=\"\",\"\",'SD Data Paste'!A660)","v":12},{"$f":"IF('SD Data Paste'!B660=\"\",\"\",'SD Data Paste'!B660)","v":"D"},659,{"$f":"IF('SD Data Paste'!E660=\"\",\"\",'SD Data Paste'!E660)","v":"Himanshu Vaishnav"},{"$f":"IF('SD Data Paste'!G660=\"\",\"\",'SD Data Paste'!G660)","v":"Dilkhush Vaishnav"}]
[{"$f":"IF(Table1[विद्यार्थी का नाम]=\"\",\"\",ROWS($A$1:A660))","v":660},{"$f":"IF('SD Data Paste'!A661=\"\",\"\",'SD Data Paste'!A661)","v":12},{"$f":"IF('SD Data Paste'!B661=\"\",\"\",'SD Data Paste'!B661)","v":"D"},660,{"$f":"IF('SD Data Paste'!E661=\"\",\"\",'SD Data Paste'!E661)","v":"ISHANT PURI"},{"$f":"IF('SD Data Paste'!G661=\"\",\"\",'SD Data Paste'!G661)","v":"SURESH PURI"}]
[{"$f":"IF(Table1[विद्यार्थी का नाम]=\"\",\"\",ROWS($A$1:A661))","v":661},{"$f":"IF('SD Data Paste'!A662=\"\",\"\",'SD Data Paste'!A662)","v":12},{"$f":"IF('SD Data Paste'!B662=\"\",\"\",'SD Data Paste'!B662)","v":"D"},661,{"$f":"IF('SD Data Paste'!E662=\"\",\"\",'SD Data Paste'!E662)","v":"JEEVRAJ GURJAR"},{"$f":"IF('SD Data Paste'!G662=\"\",\"\",'SD Data Paste'!G662)","v":"UDAI LAL GURJAR"}]
[{"$f":"IF(Table1[विद्यार्थी का नाम]=\"\",\"\",ROWS($A$1:A662))","v":662},{"$f":"IF('SD Data Paste'!A663=\"\",\"\",'SD Data Paste'!A663)","v":12},{"$f":"IF('SD Data Paste'!B663=\"\",\"\",'SD Data Paste'!B663)","v":"D"},662,{"$f":"IF('SD Data Paste'!E663=\"\",\"\",'SD Data Paste'!E663)","v":"KHUSHAL CHANDEL"},{"$f":"IF('SD Data Paste'!G663=\"\",\"\",'SD Data Paste'!G663)","v":"TULSI RAM KHATIK"}]
[{"$f":"IF(Table1[विद्यार्थी का नाम]=\"\",\"\",ROWS($A$1:A663))","v":663},{"$f":"IF('SD Data Paste'!A664=\"\",\"\",'SD Data Paste'!A664)","v":12},{"$f":"IF('SD Data Paste'!B664=\"\",\"\",'SD Data Paste'!B664)","v":"D"},663,{"$f":"IF('SD Data Paste'!E664=\"\",\"\",'SD Data Paste'!E664)","v":"LALIT DIDWANIYA"},{"$f":"IF('SD Data Paste'!G664=\"\",\"\",'SD Data Paste'!G664)","v":"SHANKAR LAL DIDWANIYA"}]
[{"$f":"IF(Table1[विद्यार्थी का नाम]=\"\",\"\",ROWS($A$1:A664))","v":664},{"$f":"IF('SD Data Paste'!A665=\"\",\"\",'SD Data Paste'!A665)","v":12},{"$f":"IF('SD Data Paste'!B665=\"\",\"\",'SD Data Paste'!B665)","v":"D"},664,{"$f":"IF('SD Data Paste'!E665=\"\",\"\",'SD Data Paste'!E665)","v":"MOHAMMAD JUNAID"},{"$f":"IF('SD Data Paste'!G665=\"\",\"\",'SD Data Paste'!G665)","v":"NASIB ALI HASAMI"}]
[{"$f":"IF(Table1[विद्यार्थी का नाम]=\"\",\"\",ROWS($A$1:A665))","v":665},{"$f":"IF('SD Data Paste'!A666=\"\",\"\",'SD Data Paste'!A666)","v":12},{"$f":"IF('SD Data Paste'!B666=\"\",\"\",'SD Data Paste'!B666)","v":"D"},665,{"$f":"IF('SD Data Paste'!E666=\"\",\"\",'SD Data Paste'!E666)","v":"Monu Joshi"},{"$f":"IF('SD Data Paste'!G666=\"\",\"\",'SD Data Paste'!G666)","v":"Rajesh Kumar"}]
[{"$f":"IF(Table1[विद्यार्थी का नाम]=\"\",\"\",ROWS($A$1:A666))","v":666},{"$f":"IF('SD Data Paste'!A667=\"\",\"\",'SD Data Paste'!A667)","v":12},{"$f":"IF('SD Data Paste'!B667=\"\",\"\",'SD Data Paste'!B667)","v":"D"},666,{"$f":"IF('SD Data Paste'!E667=\"\",\"\",'SD Data Paste'!E667)","v":"MUKESH GURJAR"},{"$f":"IF('SD Data Paste'!G667=\"\",\"\",'SD Data Paste'!G667)","v":"SUKHDEV GURJAR"}]
[{"$f":"IF(Table1[विद्यार्थी का नाम]=\"\",\"\",ROWS($A$1:A667))","v":667},{"$f":"IF('SD Data Paste'!A668=\"\",\"\",'SD Data Paste'!A668)","v":12},{"$f":"IF('SD Data Paste'!B668=\"\",\"\",'SD Data Paste'!B668)","v":"D"},667,{"$f":"IF('SD Data Paste'!E668=\"\",\"\",'SD Data Paste'!E668)","v":"Rahul Mali"},{"$f":"IF('SD Data Paste'!G668=\"\",\"\",'SD Data Paste'!G668)","v":"Jagdish Mali"}]
[{"$f":"IF(Table1[विद्यार्थी का नाम]=\"\",\"\",ROWS($A$1:A668))","v":668},{"$f":"IF('SD Data Paste'!A669=\"\",\"\",'SD Data Paste'!A669)","v":12},{"$f":"IF('SD Data Paste'!B669=\"\",\"\",'SD Data Paste'!B669)","v":"D"},668,{"$f":"IF('SD Data Paste'!E669=\"\",\"\",'SD Data Paste'!E669)","v":"SANWARIYA LOHAR"},{"$f":"IF('SD Data Paste'!G669=\"\",\"\",'SD Data Paste'!G669)","v":"SOHAN LAL LOHAR"}]
[{"$f":"IF(Table1[विद्यार्थी का नाम]=\"\",\"\",ROWS($A$1:A669))","v":669},{"$f":"IF('SD Data Paste'!A670=\"\",\"\",'SD Data Paste'!A670)","v":12},{"$f":"IF('SD Data Paste'!B670=\"\",\"\",'SD Data Paste'!B670)","v":"D"},669,{"$f":"IF('SD Data Paste'!E670=\"\",\"\",'SD Data Paste'!E670)","v":"Shelendra Singh"},{"$f":"IF('SD Data Paste'!G670=\"\",\"\",'SD Data Paste'!G670)","v":"Gopal Singh"}]
[{"$f":"IF(Table1[विद्यार्थी का नाम]=\"\",\"\",ROWS($A$1:A670))","v":670},{"$f":"IF('SD Data Paste'!A671=\"\",\"\",'SD Data Paste'!A671)","v":12},{"$f":"IF('SD Data Paste'!B671=\"\",\"\",'SD Data Paste'!B671)","v":"D"},670,{"$f":"IF('SD Data Paste'!E671=\"\",\"\",'SD Data Paste'!E671)","v":"SIDHARTH JOSHI"},{"$f":"IF('SD Data Paste'!G671=\"\",\"\",'SD Data Paste'!G671)","v":"RANJEET JOSHI"}]
[{"$f":"IF(Table1[विद्यार्थी का नाम]=\"\",\"\",ROWS($A$1:A671))","v":671},{"$f":"IF('SD Data Paste'!A672=\"\",\"\",'SD Data Paste'!A672)","v":12},{"$f":"IF('SD Data Paste'!B672=\"\",\"\",'SD Data Paste'!B672)","v":"D"},671,{"$f":"IF('SD Data Paste'!E672=\"\",\"\",'SD Data Paste'!E672)","v":"TARUN KUMAR JEENGAR"},{"$f":"IF('SD Data Paste'!G672=\"\",\"\",'SD Data Paste'!G672)","v":"SHOBHA LAL JEENGAR"}]
[{"$f":"IF(Table1[विद्यार्थी का नाम]=\"\",\"\",ROWS($A$1:A672))","v":672},{"$f":"IF('SD Data Paste'!A673=\"\",\"\",'SD Data Paste'!A673)","v":12},{"$f":"IF('SD Data Paste'!B673=\"\",\"\",'SD Data Paste'!B673)","v":"D"},672,{"$f":"IF('SD Data Paste'!E673=\"\",\"\",'SD Data Paste'!E673)","v":"TILOK SINGH"},{"$f":"IF('SD Data Paste'!G673=\"\",\"\",'SD Data Paste'!G673)","v":"SOHAN SINGH"}]
[{"$f":"IF(Table1[विद्यार्थी का नाम]=\"\",\"\",ROWS($A$1:A673))","v":673},{"$f":"IF('SD Data Paste'!A674=\"\",\"\",'SD Data Paste'!A674)","v":12},{"$f":"IF('SD Data Paste'!B674=\"\",\"\",'SD Data Paste'!B674)","v":"D"},673,{"$f":"IF('SD Data Paste'!E674=\"\",\"\",'SD Data Paste'!E674)","v":"VISHAL PANWAR"},{"$f":"IF('SD Data Paste'!G674=\"\",\"\",'SD Data Paste'!G674)","v":"AJAY SINGH"}]
[{"$f":"IF(Table1[विद्यार्थी का नाम]=\"\",\"\",ROWS($A$1:A674))","v":""},{"$f":"IF('SD Data Paste'!A675=\"\",\"\",'SD Data Paste'!A675)","v":""},{"$f":"IF('SD Data Paste'!B675=\"\",\"\",'SD Data Paste'!B675)","v":""},674,{"$f":"IF('SD Data Paste'!E675=\"\",\"\",'SD Data Paste'!E675)","v":""},{"$f":"IF('SD Data Paste'!G675=\"\",\"\",'SD Data Paste'!G675)","v":""}]
[{"$f":"IF(Table1[विद्यार्थी का नाम]=\"\",\"\",ROWS($A$1:A675))","v":""},{"$f":"IF('SD Data Paste'!A676=\"\",\"\",'SD Data Paste'!A676)","v":""},{"$f":"IF('SD Data Paste'!B676=\"\",\"\",'SD Data Paste'!B676)","v":""},675,{"$f":"IF('SD Data Paste'!E676=\"\",\"\",'SD Data Paste'!E676)","v":""},{"$f":"IF('SD Data Paste'!G676=\"\",\"\",'SD Data Paste'!G676)","v":""}]
[{"$f":"IF(Table1[विद्यार्थी का नाम]=\"\",\"\",ROWS($A$1:A676))","v":""},{"$f":"IF('SD Data Paste'!A677=\"\",\"\",'SD Data Paste'!A677)","v":""},{"$f":"IF('SD Data Paste'!B677=\"\",\"\",'SD Data Paste'!B677)","v":""},676,{"$f":"IF('SD Data Paste'!E677=\"\",\"\",'SD Data Paste'!E677)","v":""},{"$f":"IF('SD Data Paste'!G677=\"\",\"\",'SD Data Paste'!G677)","v":""}]
[{"$f":"IF(Table1[विद्यार्थी का नाम]=\"\",\"\",ROWS($A$1:A677))","v":""},{"$f":"IF('SD Data Paste'!A678=\"\",\"\",'SD Data Paste'!A678)","v":""},{"$f":"IF('SD Data Paste'!B678=\"\",\"\",'SD Data Paste'!B678)","v":""},677,{"$f":"IF('SD Data Paste'!E678=\"\",\"\",'SD Data Paste'!E678)","v":""},{"$f":"IF('SD Data Paste'!G678=\"\",\"\",'SD Data Paste'!G678)","v":""}]
[{"$f":"IF(Table1[विद्यार्थी का नाम]=\"\",\"\",ROWS($A$1:A678))","v":""},{"$f":"IF('SD Data Paste'!A679=\"\",\"\",'SD Data Paste'!A679)","v":""},{"$f":"IF('SD Data Paste'!B679=\"\",\"\",'SD Data Paste'!B679)","v":""},678,{"$f":"IF('SD Data Paste'!E679=\"\",\"\",'SD Data Paste'!E679)","v":""},{"$f":"IF('SD Data Paste'!G679=\"\",\"\",'SD Data Paste'!G679)","v":""}]
[{"$f":"IF(Table1[विद्यार्थी का नाम]=\"\",\"\",ROWS($A$1:A679))","v":""},{"$f":"IF('SD Data Paste'!A680=\"\",\"\",'SD Data Paste'!A680)","v":""},{"$f":"IF('SD Data Paste'!B680=\"\",\"\",'SD Data Paste'!B680)","v":""},679,{"$f":"IF('SD Data Paste'!E680=\"\",\"\",'SD Data Paste'!E680)","v":""},{"$f":"IF('SD Data Paste'!G680=\"\",\"\",'SD Data Paste'!G680)","v":""}]
[{"$f":"IF(Table1[विद्यार्थी का नाम]=\"\",\"\",ROWS($A$1:A680))","v":""},{"$f":"IF('SD Data Paste'!A681=\"\",\"\",'SD Data Paste'!A681)","v":""},{"$f":"IF('SD Data Paste'!B681=\"\",\"\",'SD Data Paste'!B681)","v":""},680,{"$f":"IF('SD Data Paste'!E681=\"\",\"\",'SD Data Paste'!E681)","v":""},{"$f":"IF('SD Data Paste'!G681=\"\",\"\",'SD Data Paste'!G681)","v":""}]
[{"$f":"IF(Table1[विद्यार्थी का नाम]=\"\",\"\",ROWS($A$1:A681))","v":""},{"$f":"IF('SD Data Paste'!A682=\"\",\"\",'SD Data Paste'!A682)","v":""},{"$f":"IF('SD Data Paste'!B682=\"\",\"\",'SD Data Paste'!B682)","v":""},681,{"$f":"IF('SD Data Paste'!E682=\"\",\"\",'SD Data Paste'!E682)","v":""},{"$f":"IF('SD Data Paste'!G682=\"\",\"\",'SD Data Paste'!G682)","v":""}]
[{"$f":"IF(Table1[विद्यार्थी का नाम]=\"\",\"\",ROWS($A$1:A682))","v":""},{"$f":"IF('SD Data Paste'!A683=\"\",\"\",'SD Data Paste'!A683)","v":""},{"$f":"IF('SD Data Paste'!B683=\"\",\"\",'SD Data Paste'!B683)","v":""},682,{"$f":"IF('SD Data Paste'!E683=\"\",\"\",'SD Data Paste'!E683)","v":""},{"$f":"IF('SD Data Paste'!G683=\"\",\"\",'SD Data Paste'!G683)","v":""}]
[{"$f":"IF(Table1[विद्यार्थी का नाम]=\"\",\"\",ROWS($A$1:A683))","v":""},{"$f":"IF('SD Data Paste'!A684=\"\",\"\",'SD Data Paste'!A684)","v":""},{"$f":"IF('SD Data Paste'!B684=\"\",\"\",'SD Data Paste'!B684)","v":""},683,{"$f":"IF('SD Data Paste'!E684=\"\",\"\",'SD Data Paste'!E684)","v":""},{"$f":"IF('SD Data Paste'!G684=\"\",\"\",'SD Data Paste'!G684)","v":""}]
[{"$f":"IF(Table1[विद्यार्थी का नाम]=\"\",\"\",ROWS($A$1:A684))","v":""},{"$f":"IF('SD Data Paste'!A685=\"\",\"\",'SD Data Paste'!A685)","v":""},{"$f":"IF('SD Data Paste'!B685=\"\",\"\",'SD Data Paste'!B685)","v":""},684,{"$f":"IF('SD Data Paste'!E685=\"\",\"\",'SD Data Paste'!E685)","v":""},{"$f":"IF('SD Data Paste'!G685=\"\",\"\",'SD Data Paste'!G685)","v":""}]
[{"$f":"IF(Table1[विद्यार्थी का नाम]=\"\",\"\",ROWS($A$1:A685))","v":""},{"$f":"IF('SD Data Paste'!A686=\"\",\"\",'SD Data Paste'!A686)","v":""},{"$f":"IF('SD Data Paste'!B686=\"\",\"\",'SD Data Paste'!B686)","v":""},685,{"$f":"IF('SD Data Paste'!E686=\"\",\"\",'SD Data Paste'!E686)","v":""},{"$f":"IF('SD Data Paste'!G686=\"\",\"\",'SD Data Paste'!G686)","v":""}]
[{"$f":"IF(Table1[विद्यार्थी का नाम]=\"\",\"\",ROWS($A$1:A686))","v":""},{"$f":"IF('SD Data Paste'!A687=\"\",\"\",'SD Data Paste'!A687)","v":""},{"$f":"IF('SD Data Paste'!B687=\"\",\"\",'SD Data Paste'!B687)","v":""},686,{"$f":"IF('SD Data Paste'!E687=\"\",\"\",'SD Data Paste'!E687)","v":""},{"$f":"IF('SD Data Paste'!G687=\"\",\"\",'SD Data Paste'!G687)","v":""}]
[{"$f":"IF(Table1[विद्यार्थी का नाम]=\"\",\"\",ROWS($A$1:A687))","v":""},{"$f":"IF('SD Data Paste'!A688=\"\",\"\",'SD Data Paste'!A688)","v":""},{"$f":"IF('SD Data Paste'!B688=\"\",\"\",'SD Data Paste'!B688)","v":""},687,{"$f":"IF('SD Data Paste'!E688=\"\",\"\",'SD Data Paste'!E688)","v":""},{"$f":"IF('SD Data Paste'!G688=\"\",\"\",'SD Data Paste'!G688)","v":""}]
[{"$f":"IF(Table1[विद्यार्थी का नाम]=\"\",\"\",ROWS($A$1:A688))","v":""},{"$f":"IF('SD Data Paste'!A689=\"\",\"\",'SD Data Paste'!A689)","v":""},{"$f":"IF('SD Data Paste'!B689=\"\",\"\",'SD Data Paste'!B689)","v":""},688,{"$f":"IF('SD Data Paste'!E689=\"\",\"\",'SD Data Paste'!E689)","v":""},{"$f":"IF('SD Data Paste'!G689=\"\",\"\",'SD Data Paste'!G689)","v":""}]
[{"$f":"IF(Table1[विद्यार्थी का नाम]=\"\",\"\",ROWS($A$1:A689))","v":""},{"$f":"IF('SD Data Paste'!A690=\"\",\"\",'SD Data Paste'!A690)","v":""},{"$f":"IF('SD Data Paste'!B690=\"\",\"\",'SD Data Paste'!B690)","v":""},689,{"$f":"IF('SD Data Paste'!E690=\"\",\"\",'SD Data Paste'!E690)","v":""},{"$f":"IF('SD Data Paste'!G690=\"\",\"\",'SD Data Paste'!G690)","v":""}]
[{"$f":"IF(Table1[विद्यार्थी का नाम]=\"\",\"\",ROWS($A$1:A690))","v":""},{"$f":"IF('SD Data Paste'!A691=\"\",\"\",'SD Data Paste'!A691)","v":""},{"$f":"IF('SD Data Paste'!B691=\"\",\"\",'SD Data Paste'!B691)","v":""},690,{"$f":"IF('SD Data Paste'!E691=\"\",\"\",'SD Data Paste'!E691)","v":""},{"$f":"IF('SD Data Paste'!G691=\"\",\"\",'SD Data Paste'!G691)","v":""}]
[{"$f":"IF(Table1[विद्यार्थी का नाम]=\"\",\"\",ROWS($A$1:A691))","v":""},{"$f":"IF('SD Data Paste'!A692=\"\",\"\",'SD Data Paste'!A692)","v":""},{"$f":"IF('SD Data Paste'!B692=\"\",\"\",'SD Data Paste'!B692)","v":""},691,{"$f":"IF('SD Data Paste'!E692=\"\",\"\",'SD Data Paste'!E692)","v":""},{"$f":"IF('SD Data Paste'!G692=\"\",\"\",'SD Data Paste'!G692)","v":""}]
[{"$f":"IF(Table1[विद्यार्थी का नाम]=\"\",\"\",ROWS($A$1:A692))","v":""},{"$f":"IF('SD Data Paste'!A693=\"\",\"\",'SD Data Paste'!A693)","v":""},{"$f":"IF('SD Data Paste'!B693=\"\",\"\",'SD Data Paste'!B693)","v":""},692,{"$f":"IF('SD Data Paste'!E693=\"\",\"\",'SD Data Paste'!E693)","v":""},{"$f":"IF('SD Data Paste'!G693=\"\",\"\",'SD Data Paste'!G693)","v":""}]
[{"$f":"IF(Table1[विद्यार्थी का नाम]=\"\",\"\",ROWS($A$1:A693))","v":""},{"$f":"IF('SD Data Paste'!A694=\"\",\"\",'SD Data Paste'!A694)","v":""},{"$f":"IF('SD Data Paste'!B694=\"\",\"\",'SD Data Paste'!B694)","v":""},693,{"$f":"IF('SD Data Paste'!E694=\"\",\"\",'SD Data Paste'!E694)","v":""},{"$f":"IF('SD Data Paste'!G694=\"\",\"\",'SD Data Paste'!G694)","v":""}]
[{"$f":"IF(Table1[विद्यार्थी का नाम]=\"\",\"\",ROWS($A$1:A694))","v":""},{"$f":"IF('SD Data Paste'!A695=\"\",\"\",'SD Data Paste'!A695)","v":""},{"$f":"IF('SD Data Paste'!B695=\"\",\"\",'SD Data Paste'!B695)","v":""},694,{"$f":"IF('SD Data Paste'!E695=\"\",\"\",'SD Data Paste'!E695)","v":""},{"$f":"IF('SD Data Paste'!G695=\"\",\"\",'SD Data Paste'!G695)","v":""}]
[{"$f":"IF(Table1[विद्यार्थी का नाम]=\"\",\"\",ROWS($A$1:A695))","v":""},{"$f":"IF('SD Data Paste'!A696=\"\",\"\",'SD Data Paste'!A696)","v":""},{"$f":"IF('SD Data Paste'!B696=\"\",\"\",'SD Data Paste'!B696)","v":""},695,{"$f":"IF('SD Data Paste'!E696=\"\",\"\",'SD Data Paste'!E696)","v":""},{"$f":"IF('SD Data Paste'!G696=\"\",\"\",'SD Data Paste'!G696)","v":""}]
[{"$f":"IF(Table1[विद्यार्थी का नाम]=\"\",\"\",ROWS($A$1:A696))","v":""},{"$f":"IF('SD Data Paste'!A697=\"\",\"\",'SD Data Paste'!A697)","v":""},{"$f":"IF('SD Data Paste'!B697=\"\",\"\",'SD Data Paste'!B697)","v":""},696,{"$f":"IF('SD Data Paste'!E697=\"\",\"\",'SD Data Paste'!E697)","v":""},{"$f":"IF('SD Data Paste'!G697=\"\",\"\",'SD Data Paste'!G697)","v":""}]
[{"$f":"IF(Table1[विद्यार्थी का नाम]=\"\",\"\",ROWS($A$1:A697))","v":""},{"$f":"IF('SD Data Paste'!A698=\"\",\"\",'SD Data Paste'!A698)","v":""},{"$f":"IF('SD Data Paste'!B698=\"\",\"\",'SD Data Paste'!B698)","v":""},697,{"$f":"IF('SD Data Paste'!E698=\"\",\"\",'SD Data Paste'!E698)","v":""},{"$f":"IF('SD Data Paste'!G698=\"\",\"\",'SD Data Paste'!G698)","v":""}]
[{"$f":"IF(Table1[विद्यार्थी का नाम]=\"\",\"\",ROWS($A$1:A698))","v":""},{"$f":"IF('SD Data Paste'!A699=\"\",\"\",'SD Data Paste'!A699)","v":""},{"$f":"IF('SD Data Paste'!B699=\"\",\"\",'SD Data Paste'!B699)","v":""},698,{"$f":"IF('SD Data Paste'!E699=\"\",\"\",'SD Data Paste'!E699)","v":""},{"$f":"IF('SD Data Paste'!G699=\"\",\"\",'SD Data Paste'!G699)","v":""}]
[{"$f":"IF(Table1[विद्यार्थी का नाम]=\"\",\"\",ROWS($A$1:A699))","v":""},{"$f":"IF('SD Data Paste'!A700=\"\",\"\",'SD Data Paste'!A700)","v":""},{"$f":"IF('SD Data Paste'!B700=\"\",\"\",'SD Data Paste'!B700)","v":""},699,{"$f":"IF('SD Data Paste'!E700=\"\",\"\",'SD Data Paste'!E700)","v":""},{"$f":"IF('SD Data Paste'!G700=\"\",\"\",'SD Data Paste'!G700)","v":""}]
[{"$f":"IF(Table1[विद्यार्थी का नाम]=\"\",\"\",ROWS($A$1:A700))","v":""},{"$f":"IF('SD Data Paste'!A701=\"\",\"\",'SD Data Paste'!A701)","v":""},{"$f":"IF('SD Data Paste'!B701=\"\",\"\",'SD Data Paste'!B701)","v":""},700,{"$f":"IF('SD Data Paste'!E701=\"\",\"\",'SD Data Paste'!E701)","v":""},{"$f":"IF('SD Data Paste'!G701=\"\",\"\",'SD Data Paste'!G701)","v":""}]
[{"$f":"IF(Table1[विद्यार्थी का नाम]=\"\",\"\",ROWS($A$1:A701))","v":""},{"$f":"IF('SD Data Paste'!A702=\"\",\"\",'SD Data Paste'!A702)","v":""},{"$f":"IF('SD Data Paste'!B702=\"\",\"\",'SD Data Paste'!B702)","v":""},701,{"$f":"IF('SD Data Paste'!E702=\"\",\"\",'SD Data Paste'!E702)","v":""},{"$f":"IF('SD Data Paste'!G702=\"\",\"\",'SD Data Paste'!G702)","v":""}]
[{"$f":"IF(Table1[विद्यार्थी का नाम]=\"\",\"\",ROWS($A$1:A702))","v":""},{"$f":"IF('SD Data Paste'!A703=\"\",\"\",'SD Data Paste'!A703)","v":""},{"$f":"IF('SD Data Paste'!B703=\"\",\"\",'SD Data Paste'!B703)","v":""},702,{"$f":"IF('SD Data Paste'!E703=\"\",\"\",'SD Data Paste'!E703)","v":""},{"$f":"IF('SD Data Paste'!G703=\"\",\"\",'SD Data Paste'!G703)","v":""}]
[{"$f":"IF(Table1[विद्यार्थी का नाम]=\"\",\"\",ROWS($A$1:A703))","v":""},{"$f":"IF('SD Data Paste'!A704=\"\",\"\",'SD Data Paste'!A704)","v":""},{"$f":"IF('SD Data Paste'!B704=\"\",\"\",'SD Data Paste'!B704)","v":""},703,{"$f":"IF('SD Data Paste'!E704=\"\",\"\",'SD Data Paste'!E704)","v":""},{"$f":"IF('SD Data Paste'!G704=\"\",\"\",'SD Data Paste'!G704)","v":""}]
[{"$f":"IF(Table1[विद्यार्थी का नाम]=\"\",\"\",ROWS($A$1:A704))","v":""},{"$f":"IF('SD Data Paste'!A705=\"\",\"\",'SD Data Paste'!A705)","v":""},{"$f":"IF('SD Data Paste'!B705=\"\",\"\",'SD Data Paste'!B705)","v":""},704,{"$f":"IF('SD Data Paste'!E705=\"\",\"\",'SD Data Paste'!E705)","v":""},{"$f":"IF('SD Data Paste'!G705=\"\",\"\",'SD Data Paste'!G705)","v":""}]
[{"$f":"IF(Table1[विद्यार्थी का नाम]=\"\",\"\",ROWS($A$1:A705))","v":""},{"$f":"IF('SD Data Paste'!A706=\"\",\"\",'SD Data Paste'!A706)","v":""},{"$f":"IF('SD Data Paste'!B706=\"\",\"\",'SD Data Paste'!B706)","v":""},705,{"$f":"IF('SD Data Paste'!E706=\"\",\"\",'SD Data Paste'!E706)","v":""},{"$f":"IF('SD Data Paste'!G706=\"\",\"\",'SD Data Paste'!G706)","v":""}]
[{"$f":"IF(Table1[विद्यार्थी का नाम]=\"\",\"\",ROWS($A$1:A706))","v":""},{"$f":"IF('SD Data Paste'!A707=\"\",\"\",'SD Data Paste'!A707)","v":""},{"$f":"IF('SD Data Paste'!B707=\"\",\"\",'SD Data Paste'!B707)","v":""},706,{"$f":"IF('SD Data Paste'!E707=\"\",\"\",'SD Data Paste'!E707)","v":""},{"$f":"IF('SD Data Paste'!G707=\"\",\"\",'SD Data Paste'!G707)","v":""}]
[{"$f":"IF(Table1[विद्यार्थी का नाम]=\"\",\"\",ROWS($A$1:A707))","v":""},{"$f":"IF('SD Data Paste'!A708=\"\",\"\",'SD Data Paste'!A708)","v":""},{"$f":"IF('SD Data Paste'!B708=\"\",\"\",'SD Data Paste'!B708)","v":""},{"$f":"IF(D709=\"\",\"\",D709+1)","v":707},{"$f":"IF('SD Data Paste'!E708=\"\",\"\",'SD Data Paste'!E708)","v":""},{"$f":"IF('SD Data Paste'!G708=\"\",\"\",'SD Data Paste'!G708)","v":""}]
[{"$f":"IF(Table1[विद्यार्थी का नाम]=\"\",\"\",ROWS($A$1:A708))","v":""},{"$f":"IF('SD Data Paste'!A709=\"\",\"\",'SD Data Paste'!A709)","v":""},{"$f":"IF('SD Data Paste'!B709=\"\",\"\",'SD Data Paste'!B709)","v":""},708,{"$f":"IF('SD Data Paste'!E709=\"\",\"\",'SD Data Paste'!E709)","v":""},{"$f":"IF('SD Data Paste'!G709=\"\",\"\",'SD Data Paste'!G709)","v":""}]
[{"$f":"IF(Table1[विद्यार्थी का नाम]=\"\",\"\",ROWS($A$1:A709))","v":""},{"$f":"IF('SD Data Paste'!A710=\"\",\"\",'SD Data Paste'!A710)","v":""},{"$f":"IF('SD Data Paste'!B710=\"\",\"\",'SD Data Paste'!B710)","v":""},709,{"$f":"IF('SD Data Paste'!E710=\"\",\"\",'SD Data Paste'!E710)","v":""},{"$f":"IF('SD Data Paste'!G710=\"\",\"\",'SD Data Paste'!G710)","v":""}]
[{"$f":"IF(Table1[विद्यार्थी का नाम]=\"\",\"\",ROWS($A$1:A710))","v":""},{"$f":"IF('SD Data Paste'!A711=\"\",\"\",'SD Data Paste'!A711)","v":""},{"$f":"IF('SD Data Paste'!B711=\"\",\"\",'SD Data Paste'!B711)","v":""},710,{"$f":"IF('SD Data Paste'!E711=\"\",\"\",'SD Data Paste'!E711)","v":""},{"$f":"IF('SD Data Paste'!G711=\"\",\"\",'SD Data Paste'!G711)","v":""}]
[{"$f":"IF(Table1[विद्यार्थी का नाम]=\"\",\"\",ROWS($A$1:A711))","v":""},{"$f":"IF('SD Data Paste'!A712=\"\",\"\",'SD Data Paste'!A712)","v":""},{"$f":"IF('SD Data Paste'!B712=\"\",\"\",'SD Data Paste'!B712)","v":""},711,{"$f":"IF('SD Data Paste'!E712=\"\",\"\",'SD Data Paste'!E712)","v":""},{"$f":"IF('SD Data Paste'!G712=\"\",\"\",'SD Data Paste'!G712)","v":""}]
[{"$f":"IF(Table1[विद्यार्थी का नाम]=\"\",\"\",ROWS($A$1:A712))","v":""},{"$f":"IF('SD Data Paste'!A713=\"\",\"\",'SD Data Paste'!A713)","v":""},{"$f":"IF('SD Data Paste'!B713=\"\",\"\",'SD Data Paste'!B713)","v":""},712,{"$f":"IF('SD Data Paste'!E713=\"\",\"\",'SD Data Paste'!E713)","v":""},{"$f":"IF('SD Data Paste'!G713=\"\",\"\",'SD Data Paste'!G713)","v":""}]
[{"$f":"IF(Table1[विद्यार्थी का नाम]=\"\",\"\",ROWS($A$1:A713))","v":""},{"$f":"IF('SD Data Paste'!A714=\"\",\"\",'SD Data Paste'!A714)","v":""},{"$f":"IF('SD Data Paste'!B714=\"\",\"\",'SD Data Paste'!B714)","v":""},713,{"$f":"IF('SD Data Paste'!E714=\"\",\"\",'SD Data Paste'!E714)","v":""},{"$f":"IF('SD Data Paste'!G714=\"\",\"\",'SD Data Paste'!G714)","v":""}]
[{"$f":"IF(Table1[विद्यार्थी का नाम]=\"\",\"\",ROWS($A$1:A714))","v":""},{"$f":"IF('SD Data Paste'!A715=\"\",\"\",'SD Data Paste'!A715)","v":""},{"$f":"IF('SD Data Paste'!B715=\"\",\"\",'SD Data Paste'!B715)","v":""},714,{"$f":"IF('SD Data Paste'!E715=\"\",\"\",'SD Data Paste'!E715)","v":""},{"$f":"IF('SD Data Paste'!G715=\"\",\"\",'SD Data Paste'!G715)","v":""}]
[{"$f":"IF(Table1[विद्यार्थी का नाम]=\"\",\"\",ROWS($A$1:A715))","v":""},{"$f":"IF('SD Data Paste'!A716=\"\",\"\",'SD Data Paste'!A716)","v":""},{"$f":"IF('SD Data Paste'!B716=\"\",\"\",'SD Data Paste'!B716)","v":""},715,{"$f":"IF('SD Data Paste'!E716=\"\",\"\",'SD Data Paste'!E716)","v":""},{"$f":"IF('SD Data Paste'!G716=\"\",\"\",'SD Data Paste'!G716)","v":""}]
[{"$f":"IF(Table1[विद्यार्थी का नाम]=\"\",\"\",ROWS($A$1:A716))","v":""},{"$f":"IF('SD Data Paste'!A717=\"\",\"\",'SD Data Paste'!A717)","v":""},{"$f":"IF('SD Data Paste'!B717=\"\",\"\",'SD Data Paste'!B717)","v":""},716,{"$f":"IF('SD Data Paste'!E717=\"\",\"\",'SD Data Paste'!E717)","v":""},{"$f":"IF('SD Data Paste'!G717=\"\",\"\",'SD Data Paste'!G717)","v":""}]
[{"$f":"IF(Table1[विद्यार्थी का नाम]=\"\",\"\",ROWS($A$1:A717))","v":""},{"$f":"IF('SD Data Paste'!A718=\"\",\"\",'SD Data Paste'!A718)","v":""},{"$f":"IF('SD Data Paste'!B718=\"\",\"\",'SD Data Paste'!B718)","v":""},717,{"$f":"IF('SD Data Paste'!E718=\"\",\"\",'SD Data Paste'!E718)","v":""},{"$f":"IF('SD Data Paste'!G718=\"\",\"\",'SD Data Paste'!G718)","v":""}]
[{"$f":"IF(Table1[विद्यार्थी का नाम]=\"\",\"\",ROWS($A$1:A718))","v":""},{"$f":"IF('SD Data Paste'!A719=\"\",\"\",'SD Data Paste'!A719)","v":""},{"$f":"IF('SD Data Paste'!B719=\"\",\"\",'SD Data Paste'!B719)","v":""},718,{"$f":"IF('SD Data Paste'!E719=\"\",\"\",'SD Data Paste'!E719)","v":""},{"$f":"IF('SD Data Paste'!G719=\"\",\"\",'SD Data Paste'!G719)","v":""}]
[{"$f":"IF(Table1[विद्यार्थी का नाम]=\"\",\"\",ROWS($A$1:A719))","v":""},{"$f":"IF('SD Data Paste'!A720=\"\",\"\",'SD Data Paste'!A720)","v":""},{"$f":"IF('SD Data Paste'!B720=\"\",\"\",'SD Data Paste'!B720)","v":""},719,{"$f":"IF('SD Data Paste'!E720=\"\",\"\",'SD Data Paste'!E720)","v":""},{"$f":"IF('SD Data Paste'!G720=\"\",\"\",'SD Data Paste'!G720)","v":""}]
[{"$f":"IF(Table1[विद्यार्थी का नाम]=\"\",\"\",ROWS($A$1:A720))","v":""},{"$f":"IF('SD Data Paste'!A721=\"\",\"\",'SD Data Paste'!A721)","v":""},{"$f":"IF('SD Data Paste'!B721=\"\",\"\",'SD Data Paste'!B721)","v":""},720,{"$f":"IF('SD Data Paste'!E721=\"\",\"\",'SD Data Paste'!E721)","v":""},{"$f":"IF('SD Data Paste'!G721=\"\",\"\",'SD Data Paste'!G721)","v":""}]
[{"$f":"IF(Table1[विद्यार्थी का नाम]=\"\",\"\",ROWS($A$1:A721))","v":""},{"$f":"IF('SD Data Paste'!A722=\"\",\"\",'SD Data Paste'!A722)","v":""},{"$f":"IF('SD Data Paste'!B722=\"\",\"\",'SD Data Paste'!B722)","v":""},721,{"$f":"IF('SD Data Paste'!E722=\"\",\"\",'SD Data Paste'!E722)","v":""},{"$f":"IF('SD Data Paste'!G722=\"\",\"\",'SD Data Paste'!G722)","v":""}]
[{"$f":"IF(Table1[विद्यार्थी का नाम]=\"\",\"\",ROWS($A$1:A722))","v":""},{"$f":"IF('SD Data Paste'!A723=\"\",\"\",'SD Data Paste'!A723)","v":""},{"$f":"IF('SD Data Paste'!B723=\"\",\"\",'SD Data Paste'!B723)","v":""},722,{"$f":"IF('SD Data Paste'!E723=\"\",\"\",'SD Data Paste'!E723)","v":""},{"$f":"IF('SD Data Paste'!G723=\"\",\"\",'SD Data Paste'!G723)","v":""}]
[{"$f":"IF(Table1[विद्यार्थी का नाम]=\"\",\"\",ROWS($A$1:A723))","v":""},{"$f":"IF('SD Data Paste'!A724=\"\",\"\",'SD Data Paste'!A724)","v":""},{"$f":"IF('SD Data Paste'!B724=\"\",\"\",'SD Data Paste'!B724)","v":""},723,{"$f":"IF('SD Data Paste'!E724=\"\",\"\",'SD Data Paste'!E724)","v":""},{"$f":"IF('SD Data Paste'!G724=\"\",\"\",'SD Data Paste'!G724)","v":""}]
[{"$f":"IF(Table1[विद्यार्थी का नाम]=\"\",\"\",ROWS($A$1:A724))","v":""},{"$f":"IF('SD Data Paste'!A725=\"\",\"\",'SD Data Paste'!A725)","v":""},{"$f":"IF('SD Data Paste'!B725=\"\",\"\",'SD Data Paste'!B725)","v":""},724,{"$f":"IF('SD Data Paste'!E725=\"\",\"\",'SD Data Paste'!E725)","v":""},{"$f":"IF('SD Data Paste'!G725=\"\",\"\",'SD Data Paste'!G725)","v":""}]
[{"$f":"IF(Table1[विद्यार्थी का नाम]=\"\",\"\",ROWS($A$1:A725))","v":""},{"$f":"IF('SD Data Paste'!A726=\"\",\"\",'SD Data Paste'!A726)","v":""},{"$f":"IF('SD Data Paste'!B726=\"\",\"\",'SD Data Paste'!B726)","v":""},725,{"$f":"IF('SD Data Paste'!E726=\"\",\"\",'SD Data Paste'!E726)","v":""},{"$f":"IF('SD Data Paste'!G726=\"\",\"\",'SD Data Paste'!G726)","v":""}]
[{"$f":"IF(Table1[विद्यार्थी का नाम]=\"\",\"\",ROWS($A$1:A726))","v":""},{"$f":"IF('SD Data Paste'!A727=\"\",\"\",'SD Data Paste'!A727)","v":""},{"$f":"IF('SD Data Paste'!B727=\"\",\"\",'SD Data Paste'!B727)","v":""},726,{"$f":"IF('SD Data Paste'!E727=\"\",\"\",'SD Data Paste'!E727)","v":""},{"$f":"IF('SD Data Paste'!G727=\"\",\"\",'SD Data Paste'!G727)","v":""}]
[{"$f":"IF(Table1[विद्यार्थी का नाम]=\"\",\"\",ROWS($A$1:A727))","v":""},{"$f":"IF('SD Data Paste'!A728=\"\",\"\",'SD Data Paste'!A728)","v":""},{"$f":"IF('SD Data Paste'!B728=\"\",\"\",'SD Data Paste'!B728)","v":""},727,{"$f":"IF('SD Data Paste'!E728=\"\",\"\",'SD Data Paste'!E728)","v":""},{"$f":"IF('SD Data Paste'!G728=\"\",\"\",'SD Data Paste'!G728)","v":""}]
[{"$f":"IF(Table1[विद्यार्थी का नाम]=\"\",\"\",ROWS($A$1:A728))","v":""},{"$f":"IF('SD Data Paste'!A729=\"\",\"\",'SD Data Paste'!A729)","v":""},{"$f":"IF('SD Data Paste'!B729=\"\",\"\",'SD Data Paste'!B729)","v":""},728,{"$f":"IF('SD Data Paste'!E729=\"\",\"\",'SD Data Paste'!E729)","v":""},{"$f":"IF('SD Data Paste'!G729=\"\",\"\",'SD Data Paste'!G729)","v":""}]
[{"$f":"IF(Table1[विद्यार्थी का नाम]=\"\",\"\",ROWS($A$1:A729))","v":""},{"$f":"IF('SD Data Paste'!A730=\"\",\"\",'SD Data Paste'!A730)","v":""},{"$f":"IF('SD Data Paste'!B730=\"\",\"\",'SD Data Paste'!B730)","v":""},729,{"$f":"IF('SD Data Paste'!E730=\"\",\"\",'SD Data Paste'!E730)","v":""},{"$f":"IF('SD Data Paste'!G730=\"\",\"\",'SD Data Paste'!G730)","v":""}]
[{"$f":"IF(Table1[विद्यार्थी का नाम]=\"\",\"\",ROWS($A$1:A730))","v":""},{"$f":"IF('SD Data Paste'!A731=\"\",\"\",'SD Data Paste'!A731)","v":""},{"$f":"IF('SD Data Paste'!B731=\"\",\"\",'SD Data Paste'!B731)","v":""},730,{"$f":"IF('SD Data Paste'!E731=\"\",\"\",'SD Data Paste'!E731)","v":""},{"$f":"IF('SD Data Paste'!G731=\"\",\"\",'SD Data Paste'!G731)","v":""}]
[{"$f":"IF(Table1[विद्यार्थी का नाम]=\"\",\"\",ROWS($A$1:A731))","v":""},{"$f":"IF('SD Data Paste'!A732=\"\",\"\",'SD Data Paste'!A732)","v":""},{"$f":"IF('SD Data Paste'!B732=\"\",\"\",'SD Data Paste'!B732)","v":""},731,{"$f":"IF('SD Data Paste'!E732=\"\",\"\",'SD Data Paste'!E732)","v":""},{"$f":"IF('SD Data Paste'!G732=\"\",\"\",'SD Data Paste'!G732)","v":""}]
[{"$f":"IF(Table1[विद्यार्थी का नाम]=\"\",\"\",ROWS($A$1:A732))","v":""},{"$f":"IF('SD Data Paste'!A733=\"\",\"\",'SD Data Paste'!A733)","v":""},{"$f":"IF('SD Data Paste'!B733=\"\",\"\",'SD Data Paste'!B733)","v":""},732,{"$f":"IF('SD Data Paste'!E733=\"\",\"\",'SD Data Paste'!E733)","v":""},{"$f":"IF('SD Data Paste'!G733=\"\",\"\",'SD Data Paste'!G733)","v":""}]
[{"$f":"IF(Table1[विद्यार्थी का नाम]=\"\",\"\",ROWS($A$1:A733))","v":""},{"$f":"IF('SD Data Paste'!A734=\"\",\"\",'SD Data Paste'!A734)","v":""},{"$f":"IF('SD Data Paste'!B734=\"\",\"\",'SD Data Paste'!B734)","v":""},733,{"$f":"IF('SD Data Paste'!E734=\"\",\"\",'SD Data Paste'!E734)","v":""},{"$f":"IF('SD Data Paste'!G734=\"\",\"\",'SD Data Paste'!G734)","v":""}]
[{"$f":"IF(Table1[विद्यार्थी का नाम]=\"\",\"\",ROWS($A$1:A734))","v":""},{"$f":"IF('SD Data Paste'!A735=\"\",\"\",'SD Data Paste'!A735)","v":""},{"$f":"IF('SD Data Paste'!B735=\"\",\"\",'SD Data Paste'!B735)","v":""},734,{"$f":"IF('SD Data Paste'!E735=\"\",\"\",'SD Data Paste'!E735)","v":""},{"$f":"IF('SD Data Paste'!G735=\"\",\"\",'SD Data Paste'!G735)","v":""}]
[{"$f":"IF(Table1[विद्यार्थी का नाम]=\"\",\"\",ROWS($A$1:A735))","v":""},{"$f":"IF('SD Data Paste'!A736=\"\",\"\",'SD Data Paste'!A736)","v":""},{"$f":"IF('SD Data Paste'!B736=\"\",\"\",'SD Data Paste'!B736)","v":""},735,{"$f":"IF('SD Data Paste'!E736=\"\",\"\",'SD Data Paste'!E736)","v":""},{"$f":"IF('SD Data Paste'!G736=\"\",\"\",'SD Data Paste'!G736)","v":""}]
[{"$f":"IF(Table1[विद्यार्थी का नाम]=\"\",\"\",ROWS($A$1:A736))","v":""},{"$f":"IF('SD Data Paste'!A737=\"\",\"\",'SD Data Paste'!A737)","v":""},{"$f":"IF('SD Data Paste'!B737=\"\",\"\",'SD Data Paste'!B737)","v":""},736,{"$f":"IF('SD Data Paste'!E737=\"\",\"\",'SD Data Paste'!E737)","v":""},{"$f":"IF('SD Data Paste'!G737=\"\",\"\",'SD Data Paste'!G737)","v":""}]
[{"$f":"IF(Table1[विद्यार्थी का नाम]=\"\",\"\",ROWS($A$1:A737))","v":""},{"$f":"IF('SD Data Paste'!A738=\"\",\"\",'SD Data Paste'!A738)","v":""},{"$f":"IF('SD Data Paste'!B738=\"\",\"\",'SD Data Paste'!B738)","v":""},737,{"$f":"IF('SD Data Paste'!E738=\"\",\"\",'SD Data Paste'!E738)","v":""},{"$f":"IF('SD Data Paste'!G738=\"\",\"\",'SD Data Paste'!G738)","v":""}]
[{"$f":"IF(Table1[विद्यार्थी का नाम]=\"\",\"\",ROWS($A$1:A738))","v":""},{"$f":"IF('SD Data Paste'!A739=\"\",\"\",'SD Data Paste'!A739)","v":""},{"$f":"IF('SD Data Paste'!B739=\"\",\"\",'SD Data Paste'!B739)","v":""},738,{"$f":"IF('SD Data Paste'!E739=\"\",\"\",'SD Data Paste'!E739)","v":""},{"$f":"IF('SD Data Paste'!G739=\"\",\"\",'SD Data Paste'!G739)","v":""}]
[{"$f":"IF(Table1[विद्यार्थी का नाम]=\"\",\"\",ROWS($A$1:A739))","v":""},{"$f":"IF('SD Data Paste'!A740=\"\",\"\",'SD Data Paste'!A740)","v":""},{"$f":"IF('SD Data Paste'!B740=\"\",\"\",'SD Data Paste'!B740)","v":""},739,{"$f":"IF('SD Data Paste'!E740=\"\",\"\",'SD Data Paste'!E740)","v":""},{"$f":"IF('SD Data Paste'!G740=\"\",\"\",'SD Data Paste'!G740)","v":""}]
[{"$f":"IF(Table1[विद्यार्थी का नाम]=\"\",\"\",ROWS($A$1:A740))","v":""},{"$f":"IF('SD Data Paste'!A741=\"\",\"\",'SD Data Paste'!A741)","v":""},{"$f":"IF('SD Data Paste'!B741=\"\",\"\",'SD Data Paste'!B741)","v":""},740,{"$f":"IF('SD Data Paste'!E741=\"\",\"\",'SD Data Paste'!E741)","v":""},{"$f":"IF('SD Data Paste'!G741=\"\",\"\",'SD Data Paste'!G741)","v":""}]
[{"$f":"IF(Table1[विद्यार्थी का नाम]=\"\",\"\",ROWS($A$1:A741))","v":""},{"$f":"IF('SD Data Paste'!A742=\"\",\"\",'SD Data Paste'!A742)","v":""},{"$f":"IF('SD Data Paste'!B742=\"\",\"\",'SD Data Paste'!B742)","v":""},741,{"$f":"IF('SD Data Paste'!E742=\"\",\"\",'SD Data Paste'!E742)","v":""},{"$f":"IF('SD Data Paste'!G742=\"\",\"\",'SD Data Paste'!G742)","v":""}]
[{"$f":"IF(Table1[विद्यार्थी का नाम]=\"\",\"\",ROWS($A$1:A742))","v":""},{"$f":"IF('SD Data Paste'!A743=\"\",\"\",'SD Data Paste'!A743)","v":""},{"$f":"IF('SD Data Paste'!B743=\"\",\"\",'SD Data Paste'!B743)","v":""},742,{"$f":"IF('SD Data Paste'!E743=\"\",\"\",'SD Data Paste'!E743)","v":""},{"$f":"IF('SD Data Paste'!G743=\"\",\"\",'SD Data Paste'!G743)","v":""}]
[{"$f":"IF(Table1[विद्यार्थी का नाम]=\"\",\"\",ROWS($A$1:A743))","v":""},{"$f":"IF('SD Data Paste'!A744=\"\",\"\",'SD Data Paste'!A744)","v":""},{"$f":"IF('SD Data Paste'!B744=\"\",\"\",'SD Data Paste'!B744)","v":""},743,{"$f":"IF('SD Data Paste'!E744=\"\",\"\",'SD Data Paste'!E744)","v":""},{"$f":"IF('SD Data Paste'!G744=\"\",\"\",'SD Data Paste'!G744)","v":""}]
[{"$f":"IF(Table1[विद्यार्थी का नाम]=\"\",\"\",ROWS($A$1:A744))","v":""},{"$f":"IF('SD Data Paste'!A745=\"\",\"\",'SD Data Paste'!A745)","v":""},{"$f":"IF('SD Data Paste'!B745=\"\",\"\",'SD Data Paste'!B745)","v":""},744,{"$f":"IF('SD Data Paste'!E745=\"\",\"\",'SD Data Paste'!E745)","v":""},{"$f":"IF('SD Data Paste'!G745=\"\",\"\",'SD Data Paste'!G745)","v":""}]
[{"$f":"IF(Table1[विद्यार्थी का नाम]=\"\",\"\",ROWS($A$1:A745))","v":""},{"$f":"IF('SD Data Paste'!A746=\"\",\"\",'SD Data Paste'!A746)","v":""},{"$f":"IF('SD Data Paste'!B746=\"\",\"\",'SD Data Paste'!B746)","v":""},745,{"$f":"IF('SD Data Paste'!E746=\"\",\"\",'SD Data Paste'!E746)","v":""},{"$f":"IF('SD Data Paste'!G746=\"\",\"\",'SD Data Paste'!G746)","v":""}]
[{"$f":"IF(Table1[विद्यार्थी का नाम]=\"\",\"\",ROWS($A$1:A746))","v":""},{"$f":"IF('SD Data Paste'!A747=\"\",\"\",'SD Data Paste'!A747)","v":""},{"$f":"IF('SD Data Paste'!B747=\"\",\"\",'SD Data Paste'!B747)","v":""},746,{"$f":"IF('SD Data Paste'!E747=\"\",\"\",'SD Data Paste'!E747)","v":""},{"$f":"IF('SD Data Paste'!G747=\"\",\"\",'SD Data Paste'!G747)","v":""}]
[{"$f":"IF(Table1[विद्यार्थी का नाम]=\"\",\"\",ROWS($A$1:A747))","v":""},{"$f":"IF('SD Data Paste'!A748=\"\",\"\",'SD Data Paste'!A748)","v":""},{"$f":"IF('SD Data Paste'!B748=\"\",\"\",'SD Data Paste'!B748)","v":""},747,{"$f":"IF('SD Data Paste'!E748=\"\",\"\",'SD Data Paste'!E748)","v":""},{"$f":"IF('SD Data Paste'!G748=\"\",\"\",'SD Data Paste'!G748)","v":""}]
[{"$f":"IF(Table1[विद्यार्थी का नाम]=\"\",\"\",ROWS($A$1:A748))","v":""},{"$f":"IF('SD Data Paste'!A749=\"\",\"\",'SD Data Paste'!A749)","v":""},{"$f":"IF('SD Data Paste'!B749=\"\",\"\",'SD Data Paste'!B749)","v":""},748,{"$f":"IF('SD Data Paste'!E749=\"\",\"\",'SD Data Paste'!E749)","v":""},{"$f":"IF('SD Data Paste'!G749=\"\",\"\",'SD Data Paste'!G749)","v":""}]
[{"$f":"IF(Table1[विद्यार्थी का नाम]=\"\",\"\",ROWS($A$1:A749))","v":""},{"$f":"IF('SD Data Paste'!A750=\"\",\"\",'SD Data Paste'!A750)","v":""},{"$f":"IF('SD Data Paste'!B750=\"\",\"\",'SD Data Paste'!B750)","v":""},749,{"$f":"IF('SD Data Paste'!E750=\"\",\"\",'SD Data Paste'!E750)","v":""},{"$f":"IF('SD Data Paste'!G750=\"\",\"\",'SD Data Paste'!G750)","v":""}]
[{"$f":"IF(Table1[विद्यार्थी का नाम]=\"\",\"\",ROWS($A$1:A750))","v":""},{"$f":"IF('SD Data Paste'!A751=\"\",\"\",'SD Data Paste'!A751)","v":""},{"$f":"IF('SD Data Paste'!B751=\"\",\"\",'SD Data Paste'!B751)","v":""},750,{"$f":"IF('SD Data Paste'!E751=\"\",\"\",'SD Data Paste'!E751)","v":""},{"$f":"IF('SD Data Paste'!G751=\"\",\"\",'SD Data Paste'!G751)","v":""}]
[{"$f":"IF(Table1[विद्यार्थी का नाम]=\"\",\"\",ROWS($A$1:A751))","v":""},{"$f":"IF('SD Data Paste'!A752=\"\",\"\",'SD Data Paste'!A752)","v":""},{"$f":"IF('SD Data Paste'!B752=\"\",\"\",'SD Data Paste'!B752)","v":""},751,{"$f":"IF('SD Data Paste'!E752=\"\",\"\",'SD Data Paste'!E752)","v":""},{"$f":"IF('SD Data Paste'!G752=\"\",\"\",'SD Data Paste'!G752)","v":""}]
[{"$f":"IF(Table1[विद्यार्थी का नाम]=\"\",\"\",ROWS($A$1:A752))","v":""},{"$f":"IF('SD Data Paste'!A753=\"\",\"\",'SD Data Paste'!A753)","v":""},{"$f":"IF('SD Data Paste'!B753=\"\",\"\",'SD Data Paste'!B753)","v":""},752,{"$f":"IF('SD Data Paste'!E753=\"\",\"\",'SD Data Paste'!E753)","v":""},{"$f":"IF('SD Data Paste'!G753=\"\",\"\",'SD Data Paste'!G753)","v":""}]
[{"$f":"IF(Table1[विद्यार्थी का नाम]=\"\",\"\",ROWS($A$1:A753))","v":""},{"$f":"IF('SD Data Paste'!A754=\"\",\"\",'SD Data Paste'!A754)","v":""},{"$f":"IF('SD Data Paste'!B754=\"\",\"\",'SD Data Paste'!B754)","v":""},753,{"$f":"IF('SD Data Paste'!E754=\"\",\"\",'SD Data Paste'!E754)","v":""},{"$f":"IF('SD Data Paste'!G754=\"\",\"\",'SD Data Paste'!G754)","v":""}]
[{"$f":"IF(Table1[विद्यार्थी का नाम]=\"\",\"\",ROWS($A$1:A754))","v":""},{"$f":"IF('SD Data Paste'!A755=\"\",\"\",'SD Data Paste'!A755)","v":""},{"$f":"IF('SD Data Paste'!B755=\"\",\"\",'SD Data Paste'!B755)","v":""},754,{"$f":"IF('SD Data Paste'!E755=\"\",\"\",'SD Data Paste'!E755)","v":""},{"$f":"IF('SD Data Paste'!G755=\"\",\"\",'SD Data Paste'!G755)","v":""}]
[{"$f":"IF(Table1[विद्यार्थी का नाम]=\"\",\"\",ROWS($A$1:A755))","v":""},{"$f":"IF('SD Data Paste'!A756=\"\",\"\",'SD Data Paste'!A756)","v":""},{"$f":"IF('SD Data Paste'!B756=\"\",\"\",'SD Data Paste'!B756)","v":""},755,{"$f":"IF('SD Data Paste'!E756=\"\",\"\",'SD Data Paste'!E756)","v":""},{"$f":"IF('SD Data Paste'!G756=\"\",\"\",'SD Data Paste'!G756)","v":""}]
[{"$f":"IF(Table1[विद्यार्थी का नाम]=\"\",\"\",ROWS($A$1:A756))","v":""},{"$f":"IF('SD Data Paste'!A757=\"\",\"\",'SD Data Paste'!A757)","v":""},{"$f":"IF('SD Data Paste'!B757=\"\",\"\",'SD Data Paste'!B757)","v":""},756,{"$f":"IF('SD Data Paste'!E757=\"\",\"\",'SD Data Paste'!E757)","v":""},{"$f":"IF('SD Data Paste'!G757=\"\",\"\",'SD Data Paste'!G757)","v":""}]
[{"$f":"IF(Table1[विद्यार्थी का नाम]=\"\",\"\",ROWS($A$1:A757))","v":""},{"$f":"IF('SD Data Paste'!A758=\"\",\"\",'SD Data Paste'!A758)","v":""},{"$f":"IF('SD Data Paste'!B758=\"\",\"\",'SD Data Paste'!B758)","v":""},757,{"$f":"IF('SD Data Paste'!E758=\"\",\"\",'SD Data Paste'!E758)","v":""},{"$f":"IF('SD Data Paste'!G758=\"\",\"\",'SD Data Paste'!G758)","v":""}]
[{"$f":"IF(Table1[विद्यार्थी का नाम]=\"\",\"\",ROWS($A$1:A758))","v":""},{"$f":"IF('SD Data Paste'!A759=\"\",\"\",'SD Data Paste'!A759)","v":""},{"$f":"IF('SD Data Paste'!B759=\"\",\"\",'SD Data Paste'!B759)","v":""},758,{"$f":"IF('SD Data Paste'!E759=\"\",\"\",'SD Data Paste'!E759)","v":""},{"$f":"IF('SD Data Paste'!G759=\"\",\"\",'SD Data Paste'!G759)","v":""}]
[{"$f":"IF(Table1[विद्यार्थी का नाम]=\"\",\"\",ROWS($A$1:A759))","v":""},{"$f":"IF('SD Data Paste'!A760=\"\",\"\",'SD Data Paste'!A760)","v":""},{"$f":"IF('SD Data Paste'!B760=\"\",\"\",'SD Data Paste'!B760)","v":""},759,{"$f":"IF('SD Data Paste'!E760=\"\",\"\",'SD Data Paste'!E760)","v":""},{"$f":"IF('SD Data Paste'!G760=\"\",\"\",'SD Data Paste'!G760)","v":""}]
[{"$f":"IF(Table1[विद्यार्थी का नाम]=\"\",\"\",ROWS($A$1:A760))","v":""},{"$f":"IF('SD Data Paste'!A761=\"\",\"\",'SD Data Paste'!A761)","v":""},{"$f":"IF('SD Data Paste'!B761=\"\",\"\",'SD Data Paste'!B761)","v":""},760,{"$f":"IF('SD Data Paste'!E761=\"\",\"\",'SD Data Paste'!E761)","v":""},{"$f":"IF('SD Data Paste'!G761=\"\",\"\",'SD Data Paste'!G761)","v":""}]
[{"$f":"IF(Table1[विद्यार्थी का नाम]=\"\",\"\",ROWS($A$1:A761))","v":""},{"$f":"IF('SD Data Paste'!A762=\"\",\"\",'SD Data Paste'!A762)","v":""},{"$f":"IF('SD Data Paste'!B762=\"\",\"\",'SD Data Paste'!B762)","v":""},761,{"$f":"IF('SD Data Paste'!E762=\"\",\"\",'SD Data Paste'!E762)","v":""},{"$f":"IF('SD Data Paste'!G762=\"\",\"\",'SD Data Paste'!G762)","v":""}]
[{"$f":"IF(Table1[विद्यार्थी का नाम]=\"\",\"\",ROWS($A$1:A762))","v":""},{"$f":"IF('SD Data Paste'!A763=\"\",\"\",'SD Data Paste'!A763)","v":""},{"$f":"IF('SD Data Paste'!B763=\"\",\"\",'SD Data Paste'!B763)","v":""},762,{"$f":"IF('SD Data Paste'!E763=\"\",\"\",'SD Data Paste'!E763)","v":""},{"$f":"IF('SD Data Paste'!G763=\"\",\"\",'SD Data Paste'!G763)","v":""}]
[{"$f":"IF(Table1[विद्यार्थी का नाम]=\"\",\"\",ROWS($A$1:A763))","v":""},{"$f":"IF('SD Data Paste'!A764=\"\",\"\",'SD Data Paste'!A764)","v":""},{"$f":"IF('SD Data Paste'!B764=\"\",\"\",'SD Data Paste'!B764)","v":""},763,{"$f":"IF('SD Data Paste'!E764=\"\",\"\",'SD Data Paste'!E764)","v":""},{"$f":"IF('SD Data Paste'!G764=\"\",\"\",'SD Data Paste'!G764)","v":""}]
[{"$f":"IF(Table1[विद्यार्थी का नाम]=\"\",\"\",ROWS($A$1:A764))","v":""},{"$f":"IF('SD Data Paste'!A765=\"\",\"\",'SD Data Paste'!A765)","v":""},{"$f":"IF('SD Data Paste'!B765=\"\",\"\",'SD Data Paste'!B765)","v":""},764,{"$f":"IF('SD Data Paste'!E765=\"\",\"\",'SD Data Paste'!E765)","v":""},{"$f":"IF('SD Data Paste'!G765=\"\",\"\",'SD Data Paste'!G765)","v":""}]
[{"$f":"IF(Table1[विद्यार्थी का नाम]=\"\",\"\",ROWS($A$1:A765))","v":""},{"$f":"IF('SD Data Paste'!A766=\"\",\"\",'SD Data Paste'!A766)","v":""},{"$f":"IF('SD Data Paste'!B766=\"\",\"\",'SD Data Paste'!B766)","v":""},765,{"$f":"IF('SD Data Paste'!E766=\"\",\"\",'SD Data Paste'!E766)","v":""},{"$f":"IF('SD Data Paste'!G766=\"\",\"\",'SD Data Paste'!G766)","v":""}]
[{"$f":"IF(Table1[विद्यार्थी का नाम]=\"\",\"\",ROWS($A$1:A766))","v":""},{"$f":"IF('SD Data Paste'!A767=\"\",\"\",'SD Data Paste'!A767)","v":""},{"$f":"IF('SD Data Paste'!B767=\"\",\"\",'SD Data Paste'!B767)","v":""},766,{"$f":"IF('SD Data Paste'!E767=\"\",\"\",'SD Data Paste'!E767)","v":""},{"$f":"IF('SD Data Paste'!G767=\"\",\"\",'SD Data Paste'!G767)","v":""}]
[{"$f":"IF(Table1[विद्यार्थी का नाम]=\"\",\"\",ROWS($A$1:A767))","v":""},{"$f":"IF('SD Data Paste'!A768=\"\",\"\",'SD Data Paste'!A768)","v":""},{"$f":"IF('SD Data Paste'!B768=\"\",\"\",'SD Data Paste'!B768)","v":""},767,{"$f":"IF('SD Data Paste'!E768=\"\",\"\",'SD Data Paste'!E768)","v":""},{"$f":"IF('SD Data Paste'!G768=\"\",\"\",'SD Data Paste'!G768)","v":""}]
[{"$f":"IF(Table1[विद्यार्थी का नाम]=\"\",\"\",ROWS($A$1:A768))","v":""},{"$f":"IF('SD Data Paste'!A769=\"\",\"\",'SD Data Paste'!A769)","v":""},{"$f":"IF('SD Data Paste'!B769=\"\",\"\",'SD Data Paste'!B769)","v":""},768,{"$f":"IF('SD Data Paste'!E769=\"\",\"\",'SD Data Paste'!E769)","v":""},{"$f":"IF('SD Data Paste'!G769=\"\",\"\",'SD Data Paste'!G769)","v":""}]
[{"$f":"IF(Table1[विद्यार्थी का नाम]=\"\",\"\",ROWS($A$1:A769))","v":""},{"$f":"IF('SD Data Paste'!A770=\"\",\"\",'SD Data Paste'!A770)","v":""},{"$f":"IF('SD Data Paste'!B770=\"\",\"\",'SD Data Paste'!B770)","v":""},769,{"$f":"IF('SD Data Paste'!E770=\"\",\"\",'SD Data Paste'!E770)","v":""},{"$f":"IF('SD Data Paste'!G770=\"\",\"\",'SD Data Paste'!G770)","v":""}]
[{"$f":"IF(Table1[विद्यार्थी का नाम]=\"\",\"\",ROWS($A$1:A770))","v":""},{"$f":"IF('SD Data Paste'!A771=\"\",\"\",'SD Data Paste'!A771)","v":""},{"$f":"IF('SD Data Paste'!B771=\"\",\"\",'SD Data Paste'!B771)","v":""},770,{"$f":"IF('SD Data Paste'!E771=\"\",\"\",'SD Data Paste'!E771)","v":""},{"$f":"IF('SD Data Paste'!G771=\"\",\"\",'SD Data Paste'!G771)","v":""}]
[{"$f":"IF(Table1[विद्यार्थी का नाम]=\"\",\"\",ROWS($A$1:A771))","v":""},{"$f":"IF('SD Data Paste'!A772=\"\",\"\",'SD Data Paste'!A772)","v":""},{"$f":"IF('SD Data Paste'!B772=\"\",\"\",'SD Data Paste'!B772)","v":""},{"$f":"IF(D773=\"\",\"\",D773+1)","v":771},{"$f":"IF('SD Data Paste'!E772=\"\",\"\",'SD Data Paste'!E772)","v":""},{"$f":"IF('SD Data Paste'!G772=\"\",\"\",'SD Data Paste'!G772)","v":""}]
[{"$f":"IF(Table1[विद्यार्थी का नाम]=\"\",\"\",ROWS($A$1:A772))","v":""},{"$f":"IF('SD Data Paste'!A773=\"\",\"\",'SD Data Paste'!A773)","v":""},{"$f":"IF('SD Data Paste'!B773=\"\",\"\",'SD Data Paste'!B773)","v":""},772,{"$f":"IF('SD Data Paste'!E773=\"\",\"\",'SD Data Paste'!E773)","v":""},{"$f":"IF('SD Data Paste'!G773=\"\",\"\",'SD Data Paste'!G773)","v":""}]
[{"$f":"IF(Table1[विद्यार्थी का नाम]=\"\",\"\",ROWS($A$1:A773))","v":""},{"$f":"IF('SD Data Paste'!A774=\"\",\"\",'SD Data Paste'!A774)","v":""},{"$f":"IF('SD Data Paste'!B774=\"\",\"\",'SD Data Paste'!B774)","v":""},773,{"$f":"IF('SD Data Paste'!E774=\"\",\"\",'SD Data Paste'!E774)","v":""},{"$f":"IF('SD Data Paste'!G774=\"\",\"\",'SD Data Paste'!G774)","v":""}]
[{"$f":"IF(Table1[विद्यार्थी का नाम]=\"\",\"\",ROWS($A$1:A774))","v":""},{"$f":"IF('SD Data Paste'!A775=\"\",\"\",'SD Data Paste'!A775)","v":""},{"$f":"IF('SD Data Paste'!B775=\"\",\"\",'SD Data Paste'!B775)","v":""},774,{"$f":"IF('SD Data Paste'!E775=\"\",\"\",'SD Data Paste'!E775)","v":""},{"$f":"IF('SD Data Paste'!G775=\"\",\"\",'SD Data Paste'!G775)","v":""}]
[{"$f":"IF(Table1[विद्यार्थी का नाम]=\"\",\"\",ROWS($A$1:A775))","v":""},{"$f":"IF('SD Data Paste'!A776=\"\",\"\",'SD Data Paste'!A776)","v":""},{"$f":"IF('SD Data Paste'!B776=\"\",\"\",'SD Data Paste'!B776)","v":""},775,{"$f":"IF('SD Data Paste'!E776=\"\",\"\",'SD Data Paste'!E776)","v":""},{"$f":"IF('SD Data Paste'!G776=\"\",\"\",'SD Data Paste'!G776)","v":""}]
[{"$f":"IF(Table1[विद्यार्थी का नाम]=\"\",\"\",ROWS($A$1:A776))","v":""},{"$f":"IF('SD Data Paste'!A777=\"\",\"\",'SD Data Paste'!A777)","v":""},{"$f":"IF('SD Data Paste'!B777=\"\",\"\",'SD Data Paste'!B777)","v":""},776,{"$f":"IF('SD Data Paste'!E777=\"\",\"\",'SD Data Paste'!E777)","v":""},{"$f":"IF('SD Data Paste'!G777=\"\",\"\",'SD Data Paste'!G777)","v":""}]
[{"$f":"IF(Table1[विद्यार्थी का नाम]=\"\",\"\",ROWS($A$1:A777))","v":""},{"$f":"IF('SD Data Paste'!A778=\"\",\"\",'SD Data Paste'!A778)","v":""},{"$f":"IF('SD Data Paste'!B778=\"\",\"\",'SD Data Paste'!B778)","v":""},777,{"$f":"IF('SD Data Paste'!E778=\"\",\"\",'SD Data Paste'!E778)","v":""},{"$f":"IF('SD Data Paste'!G778=\"\",\"\",'SD Data Paste'!G778)","v":""}]
[{"$f":"IF(Table1[विद्यार्थी का नाम]=\"\",\"\",ROWS($A$1:A778))","v":""},{"$f":"IF('SD Data Paste'!A779=\"\",\"\",'SD Data Paste'!A779)","v":""},{"$f":"IF('SD Data Paste'!B779=\"\",\"\",'SD Data Paste'!B779)","v":""},778,{"$f":"IF('SD Data Paste'!E779=\"\",\"\",'SD Data Paste'!E779)","v":""},{"$f":"IF('SD Data Paste'!G779=\"\",\"\",'SD Data Paste'!G779)","v":""}]
[{"$f":"IF(Table1[विद्यार्थी का नाम]=\"\",\"\",ROWS($A$1:A779))","v":""},{"$f":"IF('SD Data Paste'!A780=\"\",\"\",'SD Data Paste'!A780)","v":""},{"$f":"IF('SD Data Paste'!B780=\"\",\"\",'SD Data Paste'!B780)","v":""},779,{"$f":"IF('SD Data Paste'!E780=\"\",\"\",'SD Data Paste'!E780)","v":""},{"$f":"IF('SD Data Paste'!G780=\"\",\"\",'SD Data Paste'!G780)","v":""}]
[{"$f":"IF(Table1[विद्यार्थी का नाम]=\"\",\"\",ROWS($A$1:A780))","v":""},{"$f":"IF('SD Data Paste'!A781=\"\",\"\",'SD Data Paste'!A781)","v":""},{"$f":"IF('SD Data Paste'!B781=\"\",\"\",'SD Data Paste'!B781)","v":""},780,{"$f":"IF('SD Data Paste'!E781=\"\",\"\",'SD Data Paste'!E781)","v":""},{"$f":"IF('SD Data Paste'!G781=\"\",\"\",'SD Data Paste'!G781)","v":""}]
[{"$f":"IF(Table1[विद्यार्थी का नाम]=\"\",\"\",ROWS($A$1:A781))","v":""},{"$f":"IF('SD Data Paste'!A782=\"\",\"\",'SD Data Paste'!A782)","v":""},{"$f":"IF('SD Data Paste'!B782=\"\",\"\",'SD Data Paste'!B782)","v":""},781,{"$f":"IF('SD Data Paste'!E782=\"\",\"\",'SD Data Paste'!E782)","v":""},{"$f":"IF('SD Data Paste'!G782=\"\",\"\",'SD Data Paste'!G782)","v":""}]
[{"$f":"IF(Table1[विद्यार्थी का नाम]=\"\",\"\",ROWS($A$1:A782))","v":""},{"$f":"IF('SD Data Paste'!A783=\"\",\"\",'SD Data Paste'!A783)","v":""},{"$f":"IF('SD Data Paste'!B783=\"\",\"\",'SD Data Paste'!B783)","v":""},782,{"$f":"IF('SD Data Paste'!E783=\"\",\"\",'SD Data Paste'!E783)","v":""},{"$f":"IF('SD Data Paste'!G783=\"\",\"\",'SD Data Paste'!G783)","v":""}]
[{"$f":"IF(Table1[विद्यार्थी का नाम]=\"\",\"\",ROWS($A$1:A783))","v":""},{"$f":"IF('SD Data Paste'!A784=\"\",\"\",'SD Data Paste'!A784)","v":""},{"$f":"IF('SD Data Paste'!B784=\"\",\"\",'SD Data Paste'!B784)","v":""},783,{"$f":"IF('SD Data Paste'!E784=\"\",\"\",'SD Data Paste'!E784)","v":""},{"$f":"IF('SD Data Paste'!G784=\"\",\"\",'SD Data Paste'!G784)","v":""}]
[{"$f":"IF(Table1[विद्यार्थी का नाम]=\"\",\"\",ROWS($A$1:A784))","v":""},{"$f":"IF('SD Data Paste'!A785=\"\",\"\",'SD Data Paste'!A785)","v":""},{"$f":"IF('SD Data Paste'!B785=\"\",\"\",'SD Data Paste'!B785)","v":""},784,{"$f":"IF('SD Data Paste'!E785=\"\",\"\",'SD Data Paste'!E785)","v":""},{"$f":"IF('SD Data Paste'!G785=\"\",\"\",'SD Data Paste'!G785)","v":""}]
[{"$f":"IF(Table1[विद्यार्थी का नाम]=\"\",\"\",ROWS($A$1:A785))","v":""},{"$f":"IF('SD Data Paste'!A786=\"\",\"\",'SD Data Paste'!A786)","v":""},{"$f":"IF('SD Data Paste'!B786=\"\",\"\",'SD Data Paste'!B786)","v":""},785,{"$f":"IF('SD Data Paste'!E786=\"\",\"\",'SD Data Paste'!E786)","v":""},{"$f":"IF('SD Data Paste'!G786=\"\",\"\",'SD Data Paste'!G786)","v":""}]
[{"$f":"IF(Table1[विद्यार्थी का नाम]=\"\",\"\",ROWS($A$1:A786))","v":""},{"$f":"IF('SD Data Paste'!A787=\"\",\"\",'SD Data Paste'!A787)","v":""},{"$f":"IF('SD Data Paste'!B787=\"\",\"\",'SD Data Paste'!B787)","v":""},786,{"$f":"IF('SD Data Paste'!E787=\"\",\"\",'SD Data Paste'!E787)","v":""},{"$f":"IF('SD Data Paste'!G787=\"\",\"\",'SD Data Paste'!G787)","v":""}]
[{"$f":"IF(Table1[विद्यार्थी का नाम]=\"\",\"\",ROWS($A$1:A787))","v":""},{"$f":"IF('SD Data Paste'!A788=\"\",\"\",'SD Data Paste'!A788)","v":""},{"$f":"IF('SD Data Paste'!B788=\"\",\"\",'SD Data Paste'!B788)","v":""},787,{"$f":"IF('SD Data Paste'!E788=\"\",\"\",'SD Data Paste'!E788)","v":""},{"$f":"IF('SD Data Paste'!G788=\"\",\"\",'SD Data Paste'!G788)","v":""}]
[{"$f":"IF(Table1[विद्यार्थी का नाम]=\"\",\"\",ROWS($A$1:A788))","v":""},{"$f":"IF('SD Data Paste'!A789=\"\",\"\",'SD Data Paste'!A789)","v":""},{"$f":"IF('SD Data Paste'!B789=\"\",\"\",'SD Data Paste'!B789)","v":""},788,{"$f":"IF('SD Data Paste'!E789=\"\",\"\",'SD Data Paste'!E789)","v":""},{"$f":"IF('SD Data Paste'!G789=\"\",\"\",'SD Data Paste'!G789)","v":""}]
[{"$f":"IF(Table1[विद्यार्थी का नाम]=\"\",\"\",ROWS($A$1:A789))","v":""},{"$f":"IF('SD Data Paste'!A790=\"\",\"\",'SD Data Paste'!A790)","v":""},{"$f":"IF('SD Data Paste'!B790=\"\",\"\",'SD Data Paste'!B790)","v":""},789,{"$f":"IF('SD Data Paste'!E790=\"\",\"\",'SD Data Paste'!E790)","v":""},{"$f":"IF('SD Data Paste'!G790=\"\",\"\",'SD Data Paste'!G790)","v":""}]
[{"$f":"IF(Table1[विद्यार्थी का नाम]=\"\",\"\",ROWS($A$1:A790))","v":""},{"$f":"IF('SD Data Paste'!A791=\"\",\"\",'SD Data Paste'!A791)","v":""},{"$f":"IF('SD Data Paste'!B791=\"\",\"\",'SD Data Paste'!B791)","v":""},790,{"$f":"IF('SD Data Paste'!E791=\"\",\"\",'SD Data Paste'!E791)","v":""},{"$f":"IF('SD Data Paste'!G791=\"\",\"\",'SD Data Paste'!G791)","v":""}]
[{"$f":"IF(Table1[विद्यार्थी का नाम]=\"\",\"\",ROWS($A$1:A791))","v":""},{"$f":"IF('SD Data Paste'!A792=\"\",\"\",'SD Data Paste'!A792)","v":""},{"$f":"IF('SD Data Paste'!B792=\"\",\"\",'SD Data Paste'!B792)","v":""},791,{"$f":"IF('SD Data Paste'!E792=\"\",\"\",'SD Data Paste'!E792)","v":""},{"$f":"IF('SD Data Paste'!G792=\"\",\"\",'SD Data Paste'!G792)","v":""}]
[{"$f":"IF(Table1[विद्यार्थी का नाम]=\"\",\"\",ROWS($A$1:A792))","v":""},{"$f":"IF('SD Data Paste'!A793=\"\",\"\",'SD Data Paste'!A793)","v":""},{"$f":"IF('SD Data Paste'!B793=\"\",\"\",'SD Data Paste'!B793)","v":""},792,{"$f":"IF('SD Data Paste'!E793=\"\",\"\",'SD Data Paste'!E793)","v":""},{"$f":"IF('SD Data Paste'!G793=\"\",\"\",'SD Data Paste'!G793)","v":""}]
[{"$f":"IF(Table1[विद्यार्थी का नाम]=\"\",\"\",ROWS($A$1:A793))","v":""},{"$f":"IF('SD Data Paste'!A794=\"\",\"\",'SD Data Paste'!A794)","v":""},{"$f":"IF('SD Data Paste'!B794=\"\",\"\",'SD Data Paste'!B794)","v":""},793,{"$f":"IF('SD Data Paste'!E794=\"\",\"\",'SD Data Paste'!E794)","v":""},{"$f":"IF('SD Data Paste'!G794=\"\",\"\",'SD Data Paste'!G794)","v":""}]
[{"$f":"IF(Table1[विद्यार्थी का नाम]=\"\",\"\",ROWS($A$1:A794))","v":""},{"$f":"IF('SD Data Paste'!A795=\"\",\"\",'SD Data Paste'!A795)","v":""},{"$f":"IF('SD Data Paste'!B795=\"\",\"\",'SD Data Paste'!B795)","v":""},794,{"$f":"IF('SD Data Paste'!E795=\"\",\"\",'SD Data Paste'!E795)","v":""},{"$f":"IF('SD Data Paste'!G795=\"\",\"\",'SD Data Paste'!G795)","v":""}]
[{"$f":"IF(Table1[विद्यार्थी का नाम]=\"\",\"\",ROWS($A$1:A795))","v":""},{"$f":"IF('SD Data Paste'!A796=\"\",\"\",'SD Data Paste'!A796)","v":""},{"$f":"IF('SD Data Paste'!B796=\"\",\"\",'SD Data Paste'!B796)","v":""},795,{"$f":"IF('SD Data Paste'!E796=\"\",\"\",'SD Data Paste'!E796)","v":""},{"$f":"IF('SD Data Paste'!G796=\"\",\"\",'SD Data Paste'!G796)","v":""}]
[{"$f":"IF(Table1[विद्यार्थी का नाम]=\"\",\"\",ROWS($A$1:A796))","v":""},{"$f":"IF('SD Data Paste'!A797=\"\",\"\",'SD Data Paste'!A797)","v":""},{"$f":"IF('SD Data Paste'!B797=\"\",\"\",'SD Data Paste'!B797)","v":""},796,{"$f":"IF('SD Data Paste'!E797=\"\",\"\",'SD Data Paste'!E797)","v":""},{"$f":"IF('SD Data Paste'!G797=\"\",\"\",'SD Data Paste'!G797)","v":""}]
[{"$f":"IF(Table1[विद्यार्थी का नाम]=\"\",\"\",ROWS($A$1:A797))","v":""},{"$f":"IF('SD Data Paste'!A798=\"\",\"\",'SD Data Paste'!A798)","v":""},{"$f":"IF('SD Data Paste'!B798=\"\",\"\",'SD Data Paste'!B798)","v":""},797,{"$f":"IF('SD Data Paste'!E798=\"\",\"\",'SD Data Paste'!E798)","v":""},{"$f":"IF('SD Data Paste'!G798=\"\",\"\",'SD Data Paste'!G798)","v":""}]
[{"$f":"IF(Table1[विद्यार्थी का नाम]=\"\",\"\",ROWS($A$1:A798))","v":""},{"$f":"IF('SD Data Paste'!A799=\"\",\"\",'SD Data Paste'!A799)","v":""},{"$f":"IF('SD Data Paste'!B799=\"\",\"\",'SD Data Paste'!B799)","v":""},798,{"$f":"IF('SD Data Paste'!E799=\"\",\"\",'SD Data Paste'!E799)","v":""},{"$f":"IF('SD Data Paste'!G799=\"\",\"\",'SD Data Paste'!G799)","v":""}]
[{"$f":"IF(Table1[विद्यार्थी का नाम]=\"\",\"\",ROWS($A$1:A799))","v":""},{"$f":"IF('SD Data Paste'!A800=\"\",\"\",'SD Data Paste'!A800)","v":""},{"$f":"IF('SD Data Paste'!B800=\"\",\"\",'SD Data Paste'!B800)","v":""},799,{"$f":"IF('SD Data Paste'!E800=\"\",\"\",'SD Data Paste'!E800)","v":""},{"$f":"IF('SD Data Paste'!G800=\"\",\"\",'SD Data Paste'!G800)","v":""}]
[{"$f":"IF(Table1[विद्यार्थी का नाम]=\"\",\"\",ROWS($A$1:A800))","v":""},{"$f":"IF('SD Data Paste'!A801=\"\",\"\",'SD Data Paste'!A801)","v":""},{"$f":"IF('SD Data Paste'!B801=\"\",\"\",'SD Data Paste'!B801)","v":""},800,{"$f":"IF('SD Data Paste'!E801=\"\",\"\",'SD Data Paste'!E801)","v":""},{"$f":"IF('SD Data Paste'!G801=\"\",\"\",'SD Data Paste'!G801)","v":""}]
[{"$f":"IF(Table1[विद्यार्थी का नाम]=\"\",\"\",ROWS($A$1:A801))","v":""},{"$f":"IF('SD Data Paste'!A802=\"\",\"\",'SD Data Paste'!A802)","v":""},{"$f":"IF('SD Data Paste'!B802=\"\",\"\",'SD Data Paste'!B802)","v":""},801,{"$f":"IF('SD Data Paste'!E802=\"\",\"\",'SD Data Paste'!E802)","v":""},{"$f":"IF('SD Data Paste'!G802=\"\",\"\",'SD Data Paste'!G802)","v":""}]
[{"$f":"IF(Table1[विद्यार्थी का नाम]=\"\",\"\",ROWS($A$1:A802))","v":""},{"$f":"IF('SD Data Paste'!A803=\"\",\"\",'SD Data Paste'!A803)","v":""},{"$f":"IF('SD Data Paste'!B803=\"\",\"\",'SD Data Paste'!B803)","v":""},802,{"$f":"IF('SD Data Paste'!E803=\"\",\"\",'SD Data Paste'!E803)","v":""},{"$f":"IF('SD Data Paste'!G803=\"\",\"\",'SD Data Paste'!G803)","v":""}]
[{"$f":"IF(Table1[विद्यार्थी का नाम]=\"\",\"\",ROWS($A$1:A803))","v":""},{"$f":"IF('SD Data Paste'!A804=\"\",\"\",'SD Data Paste'!A804)","v":""},{"$f":"IF('SD Data Paste'!B804=\"\",\"\",'SD Data Paste'!B804)","v":""},803,{"$f":"IF('SD Data Paste'!E804=\"\",\"\",'SD Data Paste'!E804)","v":""},{"$f":"IF('SD Data Paste'!G804=\"\",\"\",'SD Data Paste'!G804)","v":""}]
[{"$f":"IF(Table1[विद्यार्थी का नाम]=\"\",\"\",ROWS($A$1:A804))","v":""},{"$f":"IF('SD Data Paste'!A805=\"\",\"\",'SD Data Paste'!A805)","v":""},{"$f":"IF('SD Data Paste'!B805=\"\",\"\",'SD Data Paste'!B805)","v":""},804,{"$f":"IF('SD Data Paste'!E805=\"\",\"\",'SD Data Paste'!E805)","v":""},{"$f":"IF('SD Data Paste'!G805=\"\",\"\",'SD Data Paste'!G805)","v":""}]
[{"$f":"IF(Table1[विद्यार्थी का नाम]=\"\",\"\",ROWS($A$1:A805))","v":""},{"$f":"IF('SD Data Paste'!A806=\"\",\"\",'SD Data Paste'!A806)","v":""},{"$f":"IF('SD Data Paste'!B806=\"\",\"\",'SD Data Paste'!B806)","v":""},805,{"$f":"IF('SD Data Paste'!E806=\"\",\"\",'SD Data Paste'!E806)","v":""},{"$f":"IF('SD Data Paste'!G806=\"\",\"\",'SD Data Paste'!G806)","v":""}]
[{"$f":"IF(Table1[विद्यार्थी का नाम]=\"\",\"\",ROWS($A$1:A806))","v":""},{"$f":"IF('SD Data Paste'!A807=\"\",\"\",'SD Data Paste'!A807)","v":""},{"$f":"IF('SD Data Paste'!B807=\"\",\"\",'SD Data Paste'!B807)","v":""},806,{"$f":"IF('SD Data Paste'!E807=\"\",\"\",'SD Data Paste'!E807)","v":""},{"$f":"IF('SD Data Paste'!G807=\"\",\"\",'SD Data Paste'!G807)","v":""}]
[{"$f":"IF(Table1[विद्यार्थी का नाम]=\"\",\"\",ROWS($A$1:A807))","v":""},{"$f":"IF('SD Data Paste'!A808=\"\",\"\",'SD Data Paste'!A808)","v":""},{"$f":"IF('SD Data Paste'!B808=\"\",\"\",'SD Data Paste'!B808)","v":""},807,{"$f":"IF('SD Data Paste'!E808=\"\",\"\",'SD Data Paste'!E808)","v":""},{"$f":"IF('SD Data Paste'!G808=\"\",\"\",'SD Data Paste'!G808)","v":""}]
[{"$f":"IF(Table1[विद्यार्थी का नाम]=\"\",\"\",ROWS($A$1:A808))","v":""},{"$f":"IF('SD Data Paste'!A809=\"\",\"\",'SD Data Paste'!A809)","v":""},{"$f":"IF('SD Data Paste'!B809=\"\",\"\",'SD Data Paste'!B809)","v":""},808,{"$f":"IF('SD Data Paste'!E809=\"\",\"\",'SD Data Paste'!E809)","v":""},{"$f":"IF('SD Data Paste'!G809=\"\",\"\",'SD Data Paste'!G809)","v":""}]
[{"$f":"IF(Table1[विद्यार्थी का नाम]=\"\",\"\",ROWS($A$1:A809))","v":""},{"$f":"IF('SD Data Paste'!A810=\"\",\"\",'SD Data Paste'!A810)","v":""},{"$f":"IF('SD Data Paste'!B810=\"\",\"\",'SD Data Paste'!B810)","v":""},809,{"$f":"IF('SD Data Paste'!E810=\"\",\"\",'SD Data Paste'!E810)","v":""},{"$f":"IF('SD Data Paste'!G810=\"\",\"\",'SD Data Paste'!G810)","v":""}]
[{"$f":"IF(Table1[विद्यार्थी का नाम]=\"\",\"\",ROWS($A$1:A810))","v":""},{"$f":"IF('SD Data Paste'!A811=\"\",\"\",'SD Data Paste'!A811)","v":""},{"$f":"IF('SD Data Paste'!B811=\"\",\"\",'SD Data Paste'!B811)","v":""},810,{"$f":"IF('SD Data Paste'!E811=\"\",\"\",'SD Data Paste'!E811)","v":""},{"$f":"IF('SD Data Paste'!G811=\"\",\"\",'SD Data Paste'!G811)","v":""}]
[{"$f":"IF(Table1[विद्यार्थी का नाम]=\"\",\"\",ROWS($A$1:A811))","v":""},{"$f":"IF('SD Data Paste'!A812=\"\",\"\",'SD Data Paste'!A812)","v":""},{"$f":"IF('SD Data Paste'!B812=\"\",\"\",'SD Data Paste'!B812)","v":""},811,{"$f":"IF('SD Data Paste'!E812=\"\",\"\",'SD Data Paste'!E812)","v":""},{"$f":"IF('SD Data Paste'!G812=\"\",\"\",'SD Data Paste'!G812)","v":""}]
[{"$f":"IF(Table1[विद्यार्थी का नाम]=\"\",\"\",ROWS($A$1:A812))","v":""},{"$f":"IF('SD Data Paste'!A813=\"\",\"\",'SD Data Paste'!A813)","v":""},{"$f":"IF('SD Data Paste'!B813=\"\",\"\",'SD Data Paste'!B813)","v":""},812,{"$f":"IF('SD Data Paste'!E813=\"\",\"\",'SD Data Paste'!E813)","v":""},{"$f":"IF('SD Data Paste'!G813=\"\",\"\",'SD Data Paste'!G813)","v":""}]
[{"$f":"IF(Table1[विद्यार्थी का नाम]=\"\",\"\",ROWS($A$1:A813))","v":""},{"$f":"IF('SD Data Paste'!A814=\"\",\"\",'SD Data Paste'!A814)","v":""},{"$f":"IF('SD Data Paste'!B814=\"\",\"\",'SD Data Paste'!B814)","v":""},813,{"$f":"IF('SD Data Paste'!E814=\"\",\"\",'SD Data Paste'!E814)","v":""},{"$f":"IF('SD Data Paste'!G814=\"\",\"\",'SD Data Paste'!G814)","v":""}]
[{"$f":"IF(Table1[विद्यार्थी का नाम]=\"\",\"\",ROWS($A$1:A814))","v":""},{"$f":"IF('SD Data Paste'!A815=\"\",\"\",'SD Data Paste'!A815)","v":""},{"$f":"IF('SD Data Paste'!B815=\"\",\"\",'SD Data Paste'!B815)","v":""},814,{"$f":"IF('SD Data Paste'!E815=\"\",\"\",'SD Data Paste'!E815)","v":""},{"$f":"IF('SD Data Paste'!G815=\"\",\"\",'SD Data Paste'!G815)","v":""}]
[{"$f":"IF(Table1[विद्यार्थी का नाम]=\"\",\"\",ROWS($A$1:A815))","v":""},{"$f":"IF('SD Data Paste'!A816=\"\",\"\",'SD Data Paste'!A816)","v":""},{"$f":"IF('SD Data Paste'!B816=\"\",\"\",'SD Data Paste'!B816)","v":""},815,{"$f":"IF('SD Data Paste'!E816=\"\",\"\",'SD Data Paste'!E816)","v":""},{"$f":"IF('SD Data Paste'!G816=\"\",\"\",'SD Data Paste'!G816)","v":""}]
[{"$f":"IF(Table1[विद्यार्थी का नाम]=\"\",\"\",ROWS($A$1:A816))","v":""},{"$f":"IF('SD Data Paste'!A817=\"\",\"\",'SD Data Paste'!A817)","v":""},{"$f":"IF('SD Data Paste'!B817=\"\",\"\",'SD Data Paste'!B817)","v":""},816,{"$f":"IF('SD Data Paste'!E817=\"\",\"\",'SD Data Paste'!E817)","v":""},{"$f":"IF('SD Data Paste'!G817=\"\",\"\",'SD Data Paste'!G817)","v":""}]
[{"$f":"IF(Table1[विद्यार्थी का नाम]=\"\",\"\",ROWS($A$1:A817))","v":""},{"$f":"IF('SD Data Paste'!A818=\"\",\"\",'SD Data Paste'!A818)","v":""},{"$f":"IF('SD Data Paste'!B818=\"\",\"\",'SD Data Paste'!B818)","v":""},817,{"$f":"IF('SD Data Paste'!E818=\"\",\"\",'SD Data Paste'!E818)","v":""},{"$f":"IF('SD Data Paste'!G818=\"\",\"\",'SD Data Paste'!G818)","v":""}]
[{"$f":"IF(Table1[विद्यार्थी का नाम]=\"\",\"\",ROWS($A$1:A818))","v":""},{"$f":"IF('SD Data Paste'!A819=\"\",\"\",'SD Data Paste'!A819)","v":""},{"$f":"IF('SD Data Paste'!B819=\"\",\"\",'SD Data Paste'!B819)","v":""},818,{"$f":"IF('SD Data Paste'!E819=\"\",\"\",'SD Data Paste'!E819)","v":""},{"$f":"IF('SD Data Paste'!G819=\"\",\"\",'SD Data Paste'!G819)","v":""}]
[{"$f":"IF(Table1[विद्यार्थी का नाम]=\"\",\"\",ROWS($A$1:A819))","v":""},{"$f":"IF('SD Data Paste'!A820=\"\",\"\",'SD Data Paste'!A820)","v":""},{"$f":"IF('SD Data Paste'!B820=\"\",\"\",'SD Data Paste'!B820)","v":""},819,{"$f":"IF('SD Data Paste'!E820=\"\",\"\",'SD Data Paste'!E820)","v":""},{"$f":"IF('SD Data Paste'!G820=\"\",\"\",'SD Data Paste'!G820)","v":""}]
[{"$f":"IF(Table1[विद्यार्थी का नाम]=\"\",\"\",ROWS($A$1:A820))","v":""},{"$f":"IF('SD Data Paste'!A821=\"\",\"\",'SD Data Paste'!A821)","v":""},{"$f":"IF('SD Data Paste'!B821=\"\",\"\",'SD Data Paste'!B821)","v":""},820,{"$f":"IF('SD Data Paste'!E821=\"\",\"\",'SD Data Paste'!E821)","v":""},{"$f":"IF('SD Data Paste'!G821=\"\",\"\",'SD Data Paste'!G821)","v":""}]
[{"$f":"IF(Table1[विद्यार्थी का नाम]=\"\",\"\",ROWS($A$1:A821))","v":""},{"$f":"IF('SD Data Paste'!A822=\"\",\"\",'SD Data Paste'!A822)","v":""},{"$f":"IF('SD Data Paste'!B822=\"\",\"\",'SD Data Paste'!B822)","v":""},821,{"$f":"IF('SD Data Paste'!E822=\"\",\"\",'SD Data Paste'!E822)","v":""},{"$f":"IF('SD Data Paste'!G822=\"\",\"\",'SD Data Paste'!G822)","v":""}]
[{"$f":"IF(Table1[विद्यार्थी का नाम]=\"\",\"\",ROWS($A$1:A822))","v":""},{"$f":"IF('SD Data Paste'!A823=\"\",\"\",'SD Data Paste'!A823)","v":""},{"$f":"IF('SD Data Paste'!B823=\"\",\"\",'SD Data Paste'!B823)","v":""},822,{"$f":"IF('SD Data Paste'!E823=\"\",\"\",'SD Data Paste'!E823)","v":""},{"$f":"IF('SD Data Paste'!G823=\"\",\"\",'SD Data Paste'!G823)","v":""}]
[{"$f":"IF(Table1[विद्यार्थी का नाम]=\"\",\"\",ROWS($A$1:A823))","v":""},{"$f":"IF('SD Data Paste'!A824=\"\",\"\",'SD Data Paste'!A824)","v":""},{"$f":"IF('SD Data Paste'!B824=\"\",\"\",'SD Data Paste'!B824)","v":""},823,{"$f":"IF('SD Data Paste'!E824=\"\",\"\",'SD Data Paste'!E824)","v":""},{"$f":"IF('SD Data Paste'!G824=\"\",\"\",'SD Data Paste'!G824)","v":""}]
[{"$f":"IF(Table1[विद्यार्थी का नाम]=\"\",\"\",ROWS($A$1:A824))","v":""},{"$f":"IF('SD Data Paste'!A825=\"\",\"\",'SD Data Paste'!A825)","v":""},{"$f":"IF('SD Data Paste'!B825=\"\",\"\",'SD Data Paste'!B825)","v":""},824,{"$f":"IF('SD Data Paste'!E825=\"\",\"\",'SD Data Paste'!E825)","v":""},{"$f":"IF('SD Data Paste'!G825=\"\",\"\",'SD Data Paste'!G825)","v":""}]
[{"$f":"IF(Table1[विद्यार्थी का नाम]=\"\",\"\",ROWS($A$1:A825))","v":""},{"$f":"IF('SD Data Paste'!A826=\"\",\"\",'SD Data Paste'!A826)","v":""},{"$f":"IF('SD Data Paste'!B826=\"\",\"\",'SD Data Paste'!B826)","v":""},825,{"$f":"IF('SD Data Paste'!E826=\"\",\"\",'SD Data Paste'!E826)","v":""},{"$f":"IF('SD Data Paste'!G826=\"\",\"\",'SD Data Paste'!G826)","v":""}]
[{"$f":"IF(Table1[विद्यार्थी का नाम]=\"\",\"\",ROWS($A$1:A826))","v":""},{"$f":"IF('SD Data Paste'!A827=\"\",\"\",'SD Data Paste'!A827)","v":""},{"$f":"IF('SD Data Paste'!B827=\"\",\"\",'SD Data Paste'!B827)","v":""},826,{"$f":"IF('SD Data Paste'!E827=\"\",\"\",'SD Data Paste'!E827)","v":""},{"$f":"IF('SD Data Paste'!G827=\"\",\"\",'SD Data Paste'!G827)","v":""}]
[{"$f":"IF(Table1[विद्यार्थी का नाम]=\"\",\"\",ROWS($A$1:A827))","v":""},{"$f":"IF('SD Data Paste'!A828=\"\",\"\",'SD Data Paste'!A828)","v":""},{"$f":"IF('SD Data Paste'!B828=\"\",\"\",'SD Data Paste'!B828)","v":""},827,{"$f":"IF('SD Data Paste'!E828=\"\",\"\",'SD Data Paste'!E828)","v":""},{"$f":"IF('SD Data Paste'!G828=\"\",\"\",'SD Data Paste'!G828)","v":""}]
[{"$f":"IF(Table1[विद्यार्थी का नाम]=\"\",\"\",ROWS($A$1:A828))","v":""},{"$f":"IF('SD Data Paste'!A829=\"\",\"\",'SD Data Paste'!A829)","v":""},{"$f":"IF('SD Data Paste'!B829=\"\",\"\",'SD Data Paste'!B829)","v":""},828,{"$f":"IF('SD Data Paste'!E829=\"\",\"\",'SD Data Paste'!E829)","v":""},{"$f":"IF('SD Data Paste'!G829=\"\",\"\",'SD Data Paste'!G829)","v":""}]
[{"$f":"IF(Table1[विद्यार्थी का नाम]=\"\",\"\",ROWS($A$1:A829))","v":""},{"$f":"IF('SD Data Paste'!A830=\"\",\"\",'SD Data Paste'!A830)","v":""},{"$f":"IF('SD Data Paste'!B830=\"\",\"\",'SD Data Paste'!B830)","v":""},829,{"$f":"IF('SD Data Paste'!E830=\"\",\"\",'SD Data Paste'!E830)","v":""},{"$f":"IF('SD Data Paste'!G830=\"\",\"\",'SD Data Paste'!G830)","v":""}]
[{"$f":"IF(Table1[विद्यार्थी का नाम]=\"\",\"\",ROWS($A$1:A830))","v":""},{"$f":"IF('SD Data Paste'!A831=\"\",\"\",'SD Data Paste'!A831)","v":""},{"$f":"IF('SD Data Paste'!B831=\"\",\"\",'SD Data Paste'!B831)","v":""},830,{"$f":"IF('SD Data Paste'!E831=\"\",\"\",'SD Data Paste'!E831)","v":""},{"$f":"IF('SD Data Paste'!G831=\"\",\"\",'SD Data Paste'!G831)","v":""}]
[{"$f":"IF(Table1[विद्यार्थी का नाम]=\"\",\"\",ROWS($A$1:A831))","v":""},{"$f":"IF('SD Data Paste'!A832=\"\",\"\",'SD Data Paste'!A832)","v":""},{"$f":"IF('SD Data Paste'!B832=\"\",\"\",'SD Data Paste'!B832)","v":""},831,{"$f":"IF('SD Data Paste'!E832=\"\",\"\",'SD Data Paste'!E832)","v":""},{"$f":"IF('SD Data Paste'!G832=\"\",\"\",'SD Data Paste'!G832)","v":""}]
[{"$f":"IF(Table1[विद्यार्थी का नाम]=\"\",\"\",ROWS($A$1:A832))","v":""},{"$f":"IF('SD Data Paste'!A833=\"\",\"\",'SD Data Paste'!A833)","v":""},{"$f":"IF('SD Data Paste'!B833=\"\",\"\",'SD Data Paste'!B833)","v":""},832,{"$f":"IF('SD Data Paste'!E833=\"\",\"\",'SD Data Paste'!E833)","v":""},{"$f":"IF('SD Data Paste'!G833=\"\",\"\",'SD Data Paste'!G833)","v":""}]
[{"$f":"IF(Table1[विद्यार्थी का नाम]=\"\",\"\",ROWS($A$1:A833))","v":""},{"$f":"IF('SD Data Paste'!A834=\"\",\"\",'SD Data Paste'!A834)","v":""},{"$f":"IF('SD Data Paste'!B834=\"\",\"\",'SD Data Paste'!B834)","v":""},833,{"$f":"IF('SD Data Paste'!E834=\"\",\"\",'SD Data Paste'!E834)","v":""},{"$f":"IF('SD Data Paste'!G834=\"\",\"\",'SD Data Paste'!G834)","v":""}]
[{"$f":"IF(Table1[विद्यार्थी का नाम]=\"\",\"\",ROWS($A$1:A834))","v":""},{"$f":"IF('SD Data Paste'!A835=\"\",\"\",'SD Data Paste'!A835)","v":""},{"$f":"IF('SD Data Paste'!B835=\"\",\"\",'SD Data Paste'!B835)","v":""},834,{"$f":"IF('SD Data Paste'!E835=\"\",\"\",'SD Data Paste'!E835)","v":""},{"$f":"IF('SD Data Paste'!G835=\"\",\"\",'SD Data Paste'!G835)","v":""}]
[{"$f":"IF(Table1[विद्यार्थी का नाम]=\"\",\"\",ROWS($A$1:A835))","v":""},{"$f":"IF('SD Data Paste'!A836=\"\",\"\",'SD Data Paste'!A836)","v":""},{"$f":"IF('SD Data Paste'!B836=\"\",\"\",'SD Data Paste'!B836)","v":""},{"$f":"IF(D837=\"\",\"\",D837+1)","v":835},{"$f":"IF('SD Data Paste'!E836=\"\",\"\",'SD Data Paste'!E836)","v":""},{"$f":"IF('SD Data Paste'!G836=\"\",\"\",'SD Data Paste'!G836)","v":""}]
[{"$f":"IF(Table1[विद्यार्थी का नाम]=\"\",\"\",ROWS($A$1:A836))","v":""},{"$f":"IF('SD Data Paste'!A837=\"\",\"\",'SD Data Paste'!A837)","v":""},{"$f":"IF('SD Data Paste'!B837=\"\",\"\",'SD Data Paste'!B837)","v":""},836,{"$f":"IF('SD Data Paste'!E837=\"\",\"\",'SD Data Paste'!E837)","v":""},{"$f":"IF('SD Data Paste'!G837=\"\",\"\",'SD Data Paste'!G837)","v":""}]
[{"$f":"IF(Table1[विद्यार्थी का नाम]=\"\",\"\",ROWS($A$1:A837))","v":""},{"$f":"IF('SD Data Paste'!A838=\"\",\"\",'SD Data Paste'!A838)","v":""},{"$f":"IF('SD Data Paste'!B838=\"\",\"\",'SD Data Paste'!B838)","v":""},837,{"$f":"IF('SD Data Paste'!E838=\"\",\"\",'SD Data Paste'!E838)","v":""},{"$f":"IF('SD Data Paste'!G838=\"\",\"\",'SD Data Paste'!G838)","v":""}]
[{"$f":"IF(Table1[विद्यार्थी का नाम]=\"\",\"\",ROWS($A$1:A838))","v":""},{"$f":"IF('SD Data Paste'!A839=\"\",\"\",'SD Data Paste'!A839)","v":""},{"$f":"IF('SD Data Paste'!B839=\"\",\"\",'SD Data Paste'!B839)","v":""},838,{"$f":"IF('SD Data Paste'!E839=\"\",\"\",'SD Data Paste'!E839)","v":""},{"$f":"IF('SD Data Paste'!G839=\"\",\"\",'SD Data Paste'!G839)","v":""}]
[{"$f":"IF(Table1[विद्यार्थी का नाम]=\"\",\"\",ROWS($A$1:A839))","v":""},{"$f":"IF('SD Data Paste'!A840=\"\",\"\",'SD Data Paste'!A840)","v":""},{"$f":"IF('SD Data Paste'!B840=\"\",\"\",'SD Data Paste'!B840)","v":""},839,{"$f":"IF('SD Data Paste'!E840=\"\",\"\",'SD Data Paste'!E840)","v":""},{"$f":"IF('SD Data Paste'!G840=\"\",\"\",'SD Data Paste'!G840)","v":""}]
[{"$f":"IF(Table1[विद्यार्थी का नाम]=\"\",\"\",ROWS($A$1:A840))","v":""},{"$f":"IF('SD Data Paste'!A841=\"\",\"\",'SD Data Paste'!A841)","v":""},{"$f":"IF('SD Data Paste'!B841=\"\",\"\",'SD Data Paste'!B841)","v":""},840,{"$f":"IF('SD Data Paste'!E841=\"\",\"\",'SD Data Paste'!E841)","v":""},{"$f":"IF('SD Data Paste'!G841=\"\",\"\",'SD Data Paste'!G841)","v":""}]
[{"$f":"IF(Table1[विद्यार्थी का नाम]=\"\",\"\",ROWS($A$1:A841))","v":""},{"$f":"IF('SD Data Paste'!A842=\"\",\"\",'SD Data Paste'!A842)","v":""},{"$f":"IF('SD Data Paste'!B842=\"\",\"\",'SD Data Paste'!B842)","v":""},841,{"$f":"IF('SD Data Paste'!E842=\"\",\"\",'SD Data Paste'!E842)","v":""},{"$f":"IF('SD Data Paste'!G842=\"\",\"\",'SD Data Paste'!G842)","v":""}]
[{"$f":"IF(Table1[विद्यार्थी का नाम]=\"\",\"\",ROWS($A$1:A842))","v":""},{"$f":"IF('SD Data Paste'!A843=\"\",\"\",'SD Data Paste'!A843)","v":""},{"$f":"IF('SD Data Paste'!B843=\"\",\"\",'SD Data Paste'!B843)","v":""},842,{"$f":"IF('SD Data Paste'!E843=\"\",\"\",'SD Data Paste'!E843)","v":""},{"$f":"IF('SD Data Paste'!G843=\"\",\"\",'SD Data Paste'!G843)","v":""}]
[{"$f":"IF(Table1[विद्यार्थी का नाम]=\"\",\"\",ROWS($A$1:A843))","v":""},{"$f":"IF('SD Data Paste'!A844=\"\",\"\",'SD Data Paste'!A844)","v":""},{"$f":"IF('SD Data Paste'!B844=\"\",\"\",'SD Data Paste'!B844)","v":""},843,{"$f":"IF('SD Data Paste'!E844=\"\",\"\",'SD Data Paste'!E844)","v":""},{"$f":"IF('SD Data Paste'!G844=\"\",\"\",'SD Data Paste'!G844)","v":""}]
[{"$f":"IF(Table1[विद्यार्थी का नाम]=\"\",\"\",ROWS($A$1:A844))","v":""},{"$f":"IF('SD Data Paste'!A845=\"\",\"\",'SD Data Paste'!A845)","v":""},{"$f":"IF('SD Data Paste'!B845=\"\",\"\",'SD Data Paste'!B845)","v":""},844,{"$f":"IF('SD Data Paste'!E845=\"\",\"\",'SD Data Paste'!E845)","v":""},{"$f":"IF('SD Data Paste'!G845=\"\",\"\",'SD Data Paste'!G845)","v":""}]
[{"$f":"IF(Table1[विद्यार्थी का नाम]=\"\",\"\",ROWS($A$1:A845))","v":""},{"$f":"IF('SD Data Paste'!A846=\"\",\"\",'SD Data Paste'!A846)","v":""},{"$f":"IF('SD Data Paste'!B846=\"\",\"\",'SD Data Paste'!B846)","v":""},845,{"$f":"IF('SD Data Paste'!E846=\"\",\"\",'SD Data Paste'!E846)","v":""},{"$f":"IF('SD Data Paste'!G846=\"\",\"\",'SD Data Paste'!G846)","v":""}]
[{"$f":"IF(Table1[विद्यार्थी का नाम]=\"\",\"\",ROWS($A$1:A846))","v":""},{"$f":"IF('SD Data Paste'!A847=\"\",\"\",'SD Data Paste'!A847)","v":""},{"$f":"IF('SD Data Paste'!B847=\"\",\"\",'SD Data Paste'!B847)","v":""},846,{"$f":"IF('SD Data Paste'!E847=\"\",\"\",'SD Data Paste'!E847)","v":""},{"$f":"IF('SD Data Paste'!G847=\"\",\"\",'SD Data Paste'!G847)","v":""}]
[{"$f":"IF(Table1[विद्यार्थी का नाम]=\"\",\"\",ROWS($A$1:A847))","v":""},{"$f":"IF('SD Data Paste'!A848=\"\",\"\",'SD Data Paste'!A848)","v":""},{"$f":"IF('SD Data Paste'!B848=\"\",\"\",'SD Data Paste'!B848)","v":""},847,{"$f":"IF('SD Data Paste'!E848=\"\",\"\",'SD Data Paste'!E848)","v":""},{"$f":"IF('SD Data Paste'!G848=\"\",\"\",'SD Data Paste'!G848)","v":""}]
[{"$f":"IF(Table1[विद्यार्थी का नाम]=\"\",\"\",ROWS($A$1:A848))","v":""},{"$f":"IF('SD Data Paste'!A849=\"\",\"\",'SD Data Paste'!A849)","v":""},{"$f":"IF('SD Data Paste'!B849=\"\",\"\",'SD Data Paste'!B849)","v":""},848,{"$f":"IF('SD Data Paste'!E849=\"\",\"\",'SD Data Paste'!E849)","v":""},{"$f":"IF('SD Data Paste'!G849=\"\",\"\",'SD Data Paste'!G849)","v":""}]
[{"$f":"IF(Table1[विद्यार्थी का नाम]=\"\",\"\",ROWS($A$1:A849))","v":""},{"$f":"IF('SD Data Paste'!A850=\"\",\"\",'SD Data Paste'!A850)","v":""},{"$f":"IF('SD Data Paste'!B850=\"\",\"\",'SD Data Paste'!B850)","v":""},849,{"$f":"IF('SD Data Paste'!E850=\"\",\"\",'SD Data Paste'!E850)","v":""},{"$f":"IF('SD Data Paste'!G850=\"\",\"\",'SD Data Paste'!G850)","v":""}]
[{"$f":"IF(Table1[विद्यार्थी का नाम]=\"\",\"\",ROWS($A$1:A850))","v":""},{"$f":"IF('SD Data Paste'!A851=\"\",\"\",'SD Data Paste'!A851)","v":""},{"$f":"IF('SD Data Paste'!B851=\"\",\"\",'SD Data Paste'!B851)","v":""},850,{"$f":"IF('SD Data Paste'!E851=\"\",\"\",'SD Data Paste'!E851)","v":""},{"$f":"IF('SD Data Paste'!G851=\"\",\"\",'SD Data Paste'!G851)","v":""}]
[{"$f":"IF(Table1[विद्यार्थी का नाम]=\"\",\"\",ROWS($A$1:A851))","v":""},{"$f":"IF('SD Data Paste'!A852=\"\",\"\",'SD Data Paste'!A852)","v":""},{"$f":"IF('SD Data Paste'!B852=\"\",\"\",'SD Data Paste'!B852)","v":""},851,{"$f":"IF('SD Data Paste'!E852=\"\",\"\",'SD Data Paste'!E852)","v":""},{"$f":"IF('SD Data Paste'!G852=\"\",\"\",'SD Data Paste'!G852)","v":""}]
[{"$f":"IF(Table1[विद्यार्थी का नाम]=\"\",\"\",ROWS($A$1:A852))","v":""},{"$f":"IF('SD Data Paste'!A853=\"\",\"\",'SD Data Paste'!A853)","v":""},{"$f":"IF('SD Data Paste'!B853=\"\",\"\",'SD Data Paste'!B853)","v":""},852,{"$f":"IF('SD Data Paste'!E853=\"\",\"\",'SD Data Paste'!E853)","v":""},{"$f":"IF('SD Data Paste'!G853=\"\",\"\",'SD Data Paste'!G853)","v":""}]
[{"$f":"IF(Table1[विद्यार्थी का नाम]=\"\",\"\",ROWS($A$1:A853))","v":""},{"$f":"IF('SD Data Paste'!A854=\"\",\"\",'SD Data Paste'!A854)","v":""},{"$f":"IF('SD Data Paste'!B854=\"\",\"\",'SD Data Paste'!B854)","v":""},853,{"$f":"IF('SD Data Paste'!E854=\"\",\"\",'SD Data Paste'!E854)","v":""},{"$f":"IF('SD Data Paste'!G854=\"\",\"\",'SD Data Paste'!G854)","v":""}]
[{"$f":"IF(Table1[विद्यार्थी का नाम]=\"\",\"\",ROWS($A$1:A854))","v":""},{"$f":"IF('SD Data Paste'!A855=\"\",\"\",'SD Data Paste'!A855)","v":""},{"$f":"IF('SD Data Paste'!B855=\"\",\"\",'SD Data Paste'!B855)","v":""},854,{"$f":"IF('SD Data Paste'!E855=\"\",\"\",'SD Data Paste'!E855)","v":""},{"$f":"IF('SD Data Paste'!G855=\"\",\"\",'SD Data Paste'!G855)","v":""}]
[{"$f":"IF(Table1[विद्यार्थी का नाम]=\"\",\"\",ROWS($A$1:A855))","v":""},{"$f":"IF('SD Data Paste'!A856=\"\",\"\",'SD Data Paste'!A856)","v":""},{"$f":"IF('SD Data Paste'!B856=\"\",\"\",'SD Data Paste'!B856)","v":""},855,{"$f":"IF('SD Data Paste'!E856=\"\",\"\",'SD Data Paste'!E856)","v":""},{"$f":"IF('SD Data Paste'!G856=\"\",\"\",'SD Data Paste'!G856)","v":""}]
[{"$f":"IF(Table1[विद्यार्थी का नाम]=\"\",\"\",ROWS($A$1:A856))","v":""},{"$f":"IF('SD Data Paste'!A857=\"\",\"\",'SD Data Paste'!A857)","v":""},{"$f":"IF('SD Data Paste'!B857=\"\",\"\",'SD Data Paste'!B857)","v":""},856,{"$f":"IF('SD Data Paste'!E857=\"\",\"\",'SD Data Paste'!E857)","v":""},{"$f":"IF('SD Data Paste'!G857=\"\",\"\",'SD Data Paste'!G857)","v":""}]
[{"$f":"IF(Table1[विद्यार्थी का नाम]=\"\",\"\",ROWS($A$1:A857))","v":""},{"$f":"IF('SD Data Paste'!A858=\"\",\"\",'SD Data Paste'!A858)","v":""},{"$f":"IF('SD Data Paste'!B858=\"\",\"\",'SD Data Paste'!B858)","v":""},857,{"$f":"IF('SD Data Paste'!E858=\"\",\"\",'SD Data Paste'!E858)","v":""},{"$f":"IF('SD Data Paste'!G858=\"\",\"\",'SD Data Paste'!G858)","v":""}]
[{"$f":"IF(Table1[विद्यार्थी का नाम]=\"\",\"\",ROWS($A$1:A858))","v":""},{"$f":"IF('SD Data Paste'!A859=\"\",\"\",'SD Data Paste'!A859)","v":""},{"$f":"IF('SD Data Paste'!B859=\"\",\"\",'SD Data Paste'!B859)","v":""},858,{"$f":"IF('SD Data Paste'!E859=\"\",\"\",'SD Data Paste'!E859)","v":""},{"$f":"IF('SD Data Paste'!G859=\"\",\"\",'SD Data Paste'!G859)","v":""}]
[{"$f":"IF(Table1[विद्यार्थी का नाम]=\"\",\"\",ROWS($A$1:A859))","v":""},{"$f":"IF('SD Data Paste'!A860=\"\",\"\",'SD Data Paste'!A860)","v":""},{"$f":"IF('SD Data Paste'!B860=\"\",\"\",'SD Data Paste'!B860)","v":""},859,{"$f":"IF('SD Data Paste'!E860=\"\",\"\",'SD Data Paste'!E860)","v":""},{"$f":"IF('SD Data Paste'!G860=\"\",\"\",'SD Data Paste'!G860)","v":""}]
[{"$f":"IF(Table1[विद्यार्थी का नाम]=\"\",\"\",ROWS($A$1:A860))","v":""},{"$f":"IF('SD Data Paste'!A861=\"\",\"\",'SD Data Paste'!A861)","v":""},{"$f":"IF('SD Data Paste'!B861=\"\",\"\",'SD Data Paste'!B861)","v":""},860,{"$f":"IF('SD Data Paste'!E861=\"\",\"\",'SD Data Paste'!E861)","v":""},{"$f":"IF('SD Data Paste'!G861=\"\",\"\",'SD Data Paste'!G861)","v":""}]
[{"$f":"IF(Table1[विद्यार्थी का नाम]=\"\",\"\",ROWS($A$1:A861))","v":""},{"$f":"IF('SD Data Paste'!A862=\"\",\"\",'SD Data Paste'!A862)","v":""},{"$f":"IF('SD Data Paste'!B862=\"\",\"\",'SD Data Paste'!B862)","v":""},861,{"$f":"IF('SD Data Paste'!E862=\"\",\"\",'SD Data Paste'!E862)","v":""},{"$f":"IF('SD Data Paste'!G862=\"\",\"\",'SD Data Paste'!G862)","v":""}]
[{"$f":"IF(Table1[विद्यार्थी का नाम]=\"\",\"\",ROWS($A$1:A862))","v":""},{"$f":"IF('SD Data Paste'!A863=\"\",\"\",'SD Data Paste'!A863)","v":""},{"$f":"IF('SD Data Paste'!B863=\"\",\"\",'SD Data Paste'!B863)","v":""},862,{"$f":"IF('SD Data Paste'!E863=\"\",\"\",'SD Data Paste'!E863)","v":""},{"$f":"IF('SD Data Paste'!G863=\"\",\"\",'SD Data Paste'!G863)","v":""}]
[{"$f":"IF(Table1[विद्यार्थी का नाम]=\"\",\"\",ROWS($A$1:A863))","v":""},{"$f":"IF('SD Data Paste'!A864=\"\",\"\",'SD Data Paste'!A864)","v":""},{"$f":"IF('SD Data Paste'!B864=\"\",\"\",'SD Data Paste'!B864)","v":""},863,{"$f":"IF('SD Data Paste'!E864=\"\",\"\",'SD Data Paste'!E864)","v":""},{"$f":"IF('SD Data Paste'!G864=\"\",\"\",'SD Data Paste'!G864)","v":""}]
[{"$f":"IF(Table1[विद्यार्थी का नाम]=\"\",\"\",ROWS($A$1:A864))","v":""},{"$f":"IF('SD Data Paste'!A865=\"\",\"\",'SD Data Paste'!A865)","v":""},{"$f":"IF('SD Data Paste'!B865=\"\",\"\",'SD Data Paste'!B865)","v":""},864,{"$f":"IF('SD Data Paste'!E865=\"\",\"\",'SD Data Paste'!E865)","v":""},{"$f":"IF('SD Data Paste'!G865=\"\",\"\",'SD Data Paste'!G865)","v":""}]
[{"$f":"IF(Table1[विद्यार्थी का नाम]=\"\",\"\",ROWS($A$1:A865))","v":""},{"$f":"IF('SD Data Paste'!A866=\"\",\"\",'SD Data Paste'!A866)","v":""},{"$f":"IF('SD Data Paste'!B866=\"\",\"\",'SD Data Paste'!B866)","v":""},865,{"$f":"IF('SD Data Paste'!E866=\"\",\"\",'SD Data Paste'!E866)","v":""},{"$f":"IF('SD Data Paste'!G866=\"\",\"\",'SD Data Paste'!G866)","v":""}]
[{"$f":"IF(Table1[विद्यार्थी का नाम]=\"\",\"\",ROWS($A$1:A866))","v":""},{"$f":"IF('SD Data Paste'!A867=\"\",\"\",'SD Data Paste'!A867)","v":""},{"$f":"IF('SD Data Paste'!B867=\"\",\"\",'SD Data Paste'!B867)","v":""},866,{"$f":"IF('SD Data Paste'!E867=\"\",\"\",'SD Data Paste'!E867)","v":""},{"$f":"IF('SD Data Paste'!G867=\"\",\"\",'SD Data Paste'!G867)","v":""}]
[{"$f":"IF(Table1[विद्यार्थी का नाम]=\"\",\"\",ROWS($A$1:A867))","v":""},{"$f":"IF('SD Data Paste'!A868=\"\",\"\",'SD Data Paste'!A868)","v":""},{"$f":"IF('SD Data Paste'!B868=\"\",\"\",'SD Data Paste'!B868)","v":""},867,{"$f":"IF('SD Data Paste'!E868=\"\",\"\",'SD Data Paste'!E868)","v":""},{"$f":"IF('SD Data Paste'!G868=\"\",\"\",'SD Data Paste'!G868)","v":""}]
[{"$f":"IF(Table1[विद्यार्थी का नाम]=\"\",\"\",ROWS($A$1:A868))","v":""},{"$f":"IF('SD Data Paste'!A869=\"\",\"\",'SD Data Paste'!A869)","v":""},{"$f":"IF('SD Data Paste'!B869=\"\",\"\",'SD Data Paste'!B869)","v":""},868,{"$f":"IF('SD Data Paste'!E869=\"\",\"\",'SD Data Paste'!E869)","v":""},{"$f":"IF('SD Data Paste'!G869=\"\",\"\",'SD Data Paste'!G869)","v":""}]
[{"$f":"IF(Table1[विद्यार्थी का नाम]=\"\",\"\",ROWS($A$1:A869))","v":""},{"$f":"IF('SD Data Paste'!A870=\"\",\"\",'SD Data Paste'!A870)","v":""},{"$f":"IF('SD Data Paste'!B870=\"\",\"\",'SD Data Paste'!B870)","v":""},869,{"$f":"IF('SD Data Paste'!E870=\"\",\"\",'SD Data Paste'!E870)","v":""},{"$f":"IF('SD Data Paste'!G870=\"\",\"\",'SD Data Paste'!G870)","v":""}]
[{"$f":"IF(Table1[विद्यार्थी का नाम]=\"\",\"\",ROWS($A$1:A870))","v":""},{"$f":"IF('SD Data Paste'!A871=\"\",\"\",'SD Data Paste'!A871)","v":""},{"$f":"IF('SD Data Paste'!B871=\"\",\"\",'SD Data Paste'!B871)","v":""},870,{"$f":"IF('SD Data Paste'!E871=\"\",\"\",'SD Data Paste'!E871)","v":""},{"$f":"IF('SD Data Paste'!G871=\"\",\"\",'SD Data Paste'!G871)","v":""}]
[{"$f":"IF(Table1[विद्यार्थी का नाम]=\"\",\"\",ROWS($A$1:A871))","v":""},{"$f":"IF('SD Data Paste'!A872=\"\",\"\",'SD Data Paste'!A872)","v":""},{"$f":"IF('SD Data Paste'!B872=\"\",\"\",'SD Data Paste'!B872)","v":""},871,{"$f":"IF('SD Data Paste'!E872=\"\",\"\",'SD Data Paste'!E872)","v":""},{"$f":"IF('SD Data Paste'!G872=\"\",\"\",'SD Data Paste'!G872)","v":""}]
[{"$f":"IF(Table1[विद्यार्थी का नाम]=\"\",\"\",ROWS($A$1:A872))","v":""},{"$f":"IF('SD Data Paste'!A873=\"\",\"\",'SD Data Paste'!A873)","v":""},{"$f":"IF('SD Data Paste'!B873=\"\",\"\",'SD Data Paste'!B873)","v":""},872,{"$f":"IF('SD Data Paste'!E873=\"\",\"\",'SD Data Paste'!E873)","v":""},{"$f":"IF('SD Data Paste'!G873=\"\",\"\",'SD Data Paste'!G873)","v":""}]
[{"$f":"IF(Table1[विद्यार्थी का नाम]=\"\",\"\",ROWS($A$1:A873))","v":""},{"$f":"IF('SD Data Paste'!A874=\"\",\"\",'SD Data Paste'!A874)","v":""},{"$f":"IF('SD Data Paste'!B874=\"\",\"\",'SD Data Paste'!B874)","v":""},873,{"$f":"IF('SD Data Paste'!E874=\"\",\"\",'SD Data Paste'!E874)","v":""},{"$f":"IF('SD Data Paste'!G874=\"\",\"\",'SD Data Paste'!G874)","v":""}]
[{"$f":"IF(Table1[विद्यार्थी का नाम]=\"\",\"\",ROWS($A$1:A874))","v":""},{"$f":"IF('SD Data Paste'!A875=\"\",\"\",'SD Data Paste'!A875)","v":""},{"$f":"IF('SD Data Paste'!B875=\"\",\"\",'SD Data Paste'!B875)","v":""},874,{"$f":"IF('SD Data Paste'!E875=\"\",\"\",'SD Data Paste'!E875)","v":""},{"$f":"IF('SD Data Paste'!G875=\"\",\"\",'SD Data Paste'!G875)","v":""}]
[{"$f":"IF(Table1[विद्यार्थी का नाम]=\"\",\"\",ROWS($A$1:A875))","v":""},{"$f":"IF('SD Data Paste'!A876=\"\",\"\",'SD Data Paste'!A876)","v":""},{"$f":"IF('SD Data Paste'!B876=\"\",\"\",'SD Data Paste'!B876)","v":""},875,{"$f":"IF('SD Data Paste'!E876=\"\",\"\",'SD Data Paste'!E876)","v":""},{"$f":"IF('SD Data Paste'!G876=\"\",\"\",'SD Data Paste'!G876)","v":""}]
[{"$f":"IF(Table1[विद्यार्थी का नाम]=\"\",\"\",ROWS($A$1:A876))","v":""},{"$f":"IF('SD Data Paste'!A877=\"\",\"\",'SD Data Paste'!A877)","v":""},{"$f":"IF('SD Data Paste'!B877=\"\",\"\",'SD Data Paste'!B877)","v":""},876,{"$f":"IF('SD Data Paste'!E877=\"\",\"\",'SD Data Paste'!E877)","v":""},{"$f":"IF('SD Data Paste'!G877=\"\",\"\",'SD Data Paste'!G877)","v":""}]
[{"$f":"IF(Table1[विद्यार्थी का नाम]=\"\",\"\",ROWS($A$1:A877))","v":""},{"$f":"IF('SD Data Paste'!A878=\"\",\"\",'SD Data Paste'!A878)","v":""},{"$f":"IF('SD Data Paste'!B878=\"\",\"\",'SD Data Paste'!B878)","v":""},877,{"$f":"IF('SD Data Paste'!E878=\"\",\"\",'SD Data Paste'!E878)","v":""},{"$f":"IF('SD Data Paste'!G878=\"\",\"\",'SD Data Paste'!G878)","v":""}]
[{"$f":"IF(Table1[विद्यार्थी का नाम]=\"\",\"\",ROWS($A$1:A878))","v":""},{"$f":"IF('SD Data Paste'!A879=\"\",\"\",'SD Data Paste'!A879)","v":""},{"$f":"IF('SD Data Paste'!B879=\"\",\"\",'SD Data Paste'!B879)","v":""},878,{"$f":"IF('SD Data Paste'!E879=\"\",\"\",'SD Data Paste'!E879)","v":""},{"$f":"IF('SD Data Paste'!G879=\"\",\"\",'SD Data Paste'!G879)","v":""}]
[{"$f":"IF(Table1[विद्यार्थी का नाम]=\"\",\"\",ROWS($A$1:A879))","v":""},{"$f":"IF('SD Data Paste'!A880=\"\",\"\",'SD Data Paste'!A880)","v":""},{"$f":"IF('SD Data Paste'!B880=\"\",\"\",'SD Data Paste'!B880)","v":""},879,{"$f":"IF('SD Data Paste'!E880=\"\",\"\",'SD Data Paste'!E880)","v":""},{"$f":"IF('SD Data Paste'!G880=\"\",\"\",'SD Data Paste'!G880)","v":""}]
[{"$f":"IF(Table1[विद्यार्थी का नाम]=\"\",\"\",ROWS($A$1:A880))","v":""},{"$f":"IF('SD Data Paste'!A881=\"\",\"\",'SD Data Paste'!A881)","v":""},{"$f":"IF('SD Data Paste'!B881=\"\",\"\",'SD Data Paste'!B881)","v":""},880,{"$f":"IF('SD Data Paste'!E881=\"\",\"\",'SD Data Paste'!E881)","v":""},{"$f":"IF('SD Data Paste'!G881=\"\",\"\",'SD Data Paste'!G881)","v":""}]
[{"$f":"IF(Table1[विद्यार्थी का नाम]=\"\",\"\",ROWS($A$1:A881))","v":""},{"$f":"IF('SD Data Paste'!A882=\"\",\"\",'SD Data Paste'!A882)","v":""},{"$f":"IF('SD Data Paste'!B882=\"\",\"\",'SD Data Paste'!B882)","v":""},881,{"$f":"IF('SD Data Paste'!E882=\"\",\"\",'SD Data Paste'!E882)","v":""},{"$f":"IF('SD Data Paste'!G882=\"\",\"\",'SD Data Paste'!G882)","v":""}]
[{"$f":"IF(Table1[विद्यार्थी का नाम]=\"\",\"\",ROWS($A$1:A882))","v":""},{"$f":"IF('SD Data Paste'!A883=\"\",\"\",'SD Data Paste'!A883)","v":""},{"$f":"IF('SD Data Paste'!B883=\"\",\"\",'SD Data Paste'!B883)","v":""},882,{"$f":"IF('SD Data Paste'!E883=\"\",\"\",'SD Data Paste'!E883)","v":""},{"$f":"IF('SD Data Paste'!G883=\"\",\"\",'SD Data Paste'!G883)","v":""}]
[{"$f":"IF(Table1[विद्यार्थी का नाम]=\"\",\"\",ROWS($A$1:A883))","v":""},{"$f":"IF('SD Data Paste'!A884=\"\",\"\",'SD Data Paste'!A884)","v":""},{"$f":"IF('SD Data Paste'!B884=\"\",\"\",'SD Data Paste'!B884)","v":""},883,{"$f":"IF('SD Data Paste'!E884=\"\",\"\",'SD Data Paste'!E884)","v":""},{"$f":"IF('SD Data Paste'!G884=\"\",\"\",'SD Data Paste'!G884)","v":""}]
[{"$f":"IF(Table1[विद्यार्थी का नाम]=\"\",\"\",ROWS($A$1:A884))","v":""},{"$f":"IF('SD Data Paste'!A885=\"\",\"\",'SD Data Paste'!A885)","v":""},{"$f":"IF('SD Data Paste'!B885=\"\",\"\",'SD Data Paste'!B885)","v":""},884,{"$f":"IF('SD Data Paste'!E885=\"\",\"\",'SD Data Paste'!E885)","v":""},{"$f":"IF('SD Data Paste'!G885=\"\",\"\",'SD Data Paste'!G885)","v":""}]
[{"$f":"IF(Table1[विद्यार्थी का नाम]=\"\",\"\",ROWS($A$1:A885))","v":""},{"$f":"IF('SD Data Paste'!A886=\"\",\"\",'SD Data Paste'!A886)","v":""},{"$f":"IF('SD Data Paste'!B886=\"\",\"\",'SD Data Paste'!B886)","v":""},885,{"$f":"IF('SD Data Paste'!E886=\"\",\"\",'SD Data Paste'!E886)","v":""},{"$f":"IF('SD Data Paste'!G886=\"\",\"\",'SD Data Paste'!G886)","v":""}]
[{"$f":"IF(Table1[विद्यार्थी का नाम]=\"\",\"\",ROWS($A$1:A886))","v":""},{"$f":"IF('SD Data Paste'!A887=\"\",\"\",'SD Data Paste'!A887)","v":""},{"$f":"IF('SD Data Paste'!B887=\"\",\"\",'SD Data Paste'!B887)","v":""},886,{"$f":"IF('SD Data Paste'!E887=\"\",\"\",'SD Data Paste'!E887)","v":""},{"$f":"IF('SD Data Paste'!G887=\"\",\"\",'SD Data Paste'!G887)","v":""}]
[{"$f":"IF(Table1[विद्यार्थी का नाम]=\"\",\"\",ROWS($A$1:A887))","v":""},{"$f":"IF('SD Data Paste'!A888=\"\",\"\",'SD Data Paste'!A888)","v":""},{"$f":"IF('SD Data Paste'!B888=\"\",\"\",'SD Data Paste'!B888)","v":""},887,{"$f":"IF('SD Data Paste'!E888=\"\",\"\",'SD Data Paste'!E888)","v":""},{"$f":"IF('SD Data Paste'!G888=\"\",\"\",'SD Data Paste'!G888)","v":""}]
[{"$f":"IF(Table1[विद्यार्थी का नाम]=\"\",\"\",ROWS($A$1:A888))","v":""},{"$f":"IF('SD Data Paste'!A889=\"\",\"\",'SD Data Paste'!A889)","v":""},{"$f":"IF('SD Data Paste'!B889=\"\",\"\",'SD Data Paste'!B889)","v":""},888,{"$f":"IF('SD Data Paste'!E889=\"\",\"\",'SD Data Paste'!E889)","v":""},{"$f":"IF('SD Data Paste'!G889=\"\",\"\",'SD Data Paste'!G889)","v":""}]
[{"$f":"IF(Table1[विद्यार्थी का नाम]=\"\",\"\",ROWS($A$1:A889))","v":""},{"$f":"IF('SD Data Paste'!A890=\"\",\"\",'SD Data Paste'!A890)","v":""},{"$f":"IF('SD Data Paste'!B890=\"\",\"\",'SD Data Paste'!B890)","v":""},889,{"$f":"IF('SD Data Paste'!E890=\"\",\"\",'SD Data Paste'!E890)","v":""},{"$f":"IF('SD Data Paste'!G890=\"\",\"\",'SD Data Paste'!G890)","v":""}]
[{"$f":"IF(Table1[विद्यार्थी का नाम]=\"\",\"\",ROWS($A$1:A890))","v":""},{"$f":"IF('SD Data Paste'!A891=\"\",\"\",'SD Data Paste'!A891)","v":""},{"$f":"IF('SD Data Paste'!B891=\"\",\"\",'SD Data Paste'!B891)","v":""},890,{"$f":"IF('SD Data Paste'!E891=\"\",\"\",'SD Data Paste'!E891)","v":""},{"$f":"IF('SD Data Paste'!G891=\"\",\"\",'SD Data Paste'!G891)","v":""}]
[{"$f":"IF(Table1[विद्यार्थी का नाम]=\"\",\"\",ROWS($A$1:A891))","v":""},{"$f":"IF('SD Data Paste'!A892=\"\",\"\",'SD Data Paste'!A892)","v":""},{"$f":"IF('SD Data Paste'!B892=\"\",\"\",'SD Data Paste'!B892)","v":""},891,{"$f":"IF('SD Data Paste'!E892=\"\",\"\",'SD Data Paste'!E892)","v":""},{"$f":"IF('SD Data Paste'!G892=\"\",\"\",'SD Data Paste'!G892)","v":""}]
[{"$f":"IF(Table1[विद्यार्थी का नाम]=\"\",\"\",ROWS($A$1:A892))","v":""},{"$f":"IF('SD Data Paste'!A893=\"\",\"\",'SD Data Paste'!A893)","v":""},{"$f":"IF('SD Data Paste'!B893=\"\",\"\",'SD Data Paste'!B893)","v":""},892,{"$f":"IF('SD Data Paste'!E893=\"\",\"\",'SD Data Paste'!E893)","v":""},{"$f":"IF('SD Data Paste'!G893=\"\",\"\",'SD Data Paste'!G893)","v":""}]
[{"$f":"IF(Table1[विद्यार्थी का नाम]=\"\",\"\",ROWS($A$1:A893))","v":""},{"$f":"IF('SD Data Paste'!A894=\"\",\"\",'SD Data Paste'!A894)","v":""},{"$f":"IF('SD Data Paste'!B894=\"\",\"\",'SD Data Paste'!B894)","v":""},893,{"$f":"IF('SD Data Paste'!E894=\"\",\"\",'SD Data Paste'!E894)","v":""},{"$f":"IF('SD Data Paste'!G894=\"\",\"\",'SD Data Paste'!G894)","v":""}]
[{"$f":"IF(Table1[विद्यार्थी का नाम]=\"\",\"\",ROWS($A$1:A894))","v":""},{"$f":"IF('SD Data Paste'!A895=\"\",\"\",'SD Data Paste'!A895)","v":""},{"$f":"IF('SD Data Paste'!B895=\"\",\"\",'SD Data Paste'!B895)","v":""},894,{"$f":"IF('SD Data Paste'!E895=\"\",\"\",'SD Data Paste'!E895)","v":""},{"$f":"IF('SD Data Paste'!G895=\"\",\"\",'SD Data Paste'!G895)","v":""}]
[{"$f":"IF(Table1[विद्यार्थी का नाम]=\"\",\"\",ROWS($A$1:A895))","v":""},{"$f":"IF('SD Data Paste'!A896=\"\",\"\",'SD Data Paste'!A896)","v":""},{"$f":"IF('SD Data Paste'!B896=\"\",\"\",'SD Data Paste'!B896)","v":""},895,{"$f":"IF('SD Data Paste'!E896=\"\",\"\",'SD Data Paste'!E896)","v":""},{"$f":"IF('SD Data Paste'!G896=\"\",\"\",'SD Data Paste'!G896)","v":""}]
[{"$f":"IF(Table1[विद्यार्थी का नाम]=\"\",\"\",ROWS($A$1:A896))","v":""},{"$f":"IF('SD Data Paste'!A897=\"\",\"\",'SD Data Paste'!A897)","v":""},{"$f":"IF('SD Data Paste'!B897=\"\",\"\",'SD Data Paste'!B897)","v":""},896,{"$f":"IF('SD Data Paste'!E897=\"\",\"\",'SD Data Paste'!E897)","v":""},{"$f":"IF('SD Data Paste'!G897=\"\",\"\",'SD Data Paste'!G897)","v":""}]
[{"$f":"IF(Table1[विद्यार्थी का नाम]=\"\",\"\",ROWS($A$1:A897))","v":""},{"$f":"IF('SD Data Paste'!A898=\"\",\"\",'SD Data Paste'!A898)","v":""},{"$f":"IF('SD Data Paste'!B898=\"\",\"\",'SD Data Paste'!B898)","v":""},897,{"$f":"IF('SD Data Paste'!E898=\"\",\"\",'SD Data Paste'!E898)","v":""},{"$f":"IF('SD Data Paste'!G898=\"\",\"\",'SD Data Paste'!G898)","v":""}]
[{"$f":"IF(Table1[विद्यार्थी का नाम]=\"\",\"\",ROWS($A$1:A898))","v":""},{"$f":"IF('SD Data Paste'!A899=\"\",\"\",'SD Data Paste'!A899)","v":""},{"$f":"IF('SD Data Paste'!B899=\"\",\"\",'SD Data Paste'!B899)","v":""},898,{"$f":"IF('SD Data Paste'!E899=\"\",\"\",'SD Data Paste'!E899)","v":""},{"$f":"IF('SD Data Paste'!G899=\"\",\"\",'SD Data Paste'!G899)","v":""}]
[{"$f":"IF(Table1[विद्यार्थी का नाम]=\"\",\"\",ROWS($A$1:A899))","v":""},{"$f":"IF('SD Data Paste'!A900=\"\",\"\",'SD Data Paste'!A900)","v":""},{"$f":"IF('SD Data Paste'!B900=\"\",\"\",'SD Data Paste'!B900)","v":""},{"$f":"IF(D901=\"\",\"\",D901+1)","v":899},{"$f":"IF('SD Data Paste'!E900=\"\",\"\",'SD Data Paste'!E900)","v":""},{"$f":"IF('SD Data Paste'!G900=\"\",\"\",'SD Data Paste'!G900)","v":""}]
[{"$f":"IF(Table1[विद्यार्थी का नाम]=\"\",\"\",ROWS($A$1:A900))","v":""},{"$f":"IF('SD Data Paste'!A901=\"\",\"\",'SD Data Paste'!A901)","v":""},{"$f":"IF('SD Data Paste'!B901=\"\",\"\",'SD Data Paste'!B901)","v":""},900,{"$f":"IF('SD Data Paste'!E901=\"\",\"\",'SD Data Paste'!E901)","v":""},{"$f":"IF('SD Data Paste'!G901=\"\",\"\",'SD Data Paste'!G901)","v":""}]
[{"$f":"IF(Table1[विद्यार्थी का नाम]=\"\",\"\",ROWS($A$1:A901))","v":""},{"$f":"IF('SD Data Paste'!A902=\"\",\"\",'SD Data Paste'!A902)","v":""},{"$f":"IF('SD Data Paste'!B902=\"\",\"\",'SD Data Paste'!B902)","v":""},901,{"$f":"IF('SD Data Paste'!E902=\"\",\"\",'SD Data Paste'!E902)","v":""},{"$f":"IF('SD Data Paste'!G902=\"\",\"\",'SD Data Paste'!G902)","v":""}]
[{"$f":"IF(Table1[विद्यार्थी का नाम]=\"\",\"\",ROWS($A$1:A902))","v":""},{"$f":"IF('SD Data Paste'!A903=\"\",\"\",'SD Data Paste'!A903)","v":""},{"$f":"IF('SD Data Paste'!B903=\"\",\"\",'SD Data Paste'!B903)","v":""},902,{"$f":"IF('SD Data Paste'!E903=\"\",\"\",'SD Data Paste'!E903)","v":""},{"$f":"IF('SD Data Paste'!G903=\"\",\"\",'SD Data Paste'!G903)","v":""}]
[{"$f":"IF(Table1[विद्यार्थी का नाम]=\"\",\"\",ROWS($A$1:A903))","v":""},{"$f":"IF('SD Data Paste'!A904=\"\",\"\",'SD Data Paste'!A904)","v":""},{"$f":"IF('SD Data Paste'!B904=\"\",\"\",'SD Data Paste'!B904)","v":""},903,{"$f":"IF('SD Data Paste'!E904=\"\",\"\",'SD Data Paste'!E904)","v":""},{"$f":"IF('SD Data Paste'!G904=\"\",\"\",'SD Data Paste'!G904)","v":""}]
[{"$f":"IF(Table1[विद्यार्थी का नाम]=\"\",\"\",ROWS($A$1:A904))","v":""},{"$f":"IF('SD Data Paste'!A905=\"\",\"\",'SD Data Paste'!A905)","v":""},{"$f":"IF('SD Data Paste'!B905=\"\",\"\",'SD Data Paste'!B905)","v":""},904,{"$f":"IF('SD Data Paste'!E905=\"\",\"\",'SD Data Paste'!E905)","v":""},{"$f":"IF('SD Data Paste'!G905=\"\",\"\",'SD Data Paste'!G905)","v":""}]
[{"$f":"IF(Table1[विद्यार्थी का नाम]=\"\",\"\",ROWS($A$1:A905))","v":""},{"$f":"IF('SD Data Paste'!A906=\"\",\"\",'SD Data Paste'!A906)","v":""},{"$f":"IF('SD Data Paste'!B906=\"\",\"\",'SD Data Paste'!B906)","v":""},905,{"$f":"IF('SD Data Paste'!E906=\"\",\"\",'SD Data Paste'!E906)","v":""},{"$f":"IF('SD Data Paste'!G906=\"\",\"\",'SD Data Paste'!G906)","v":""}]
[{"$f":"IF(Table1[विद्यार्थी का नाम]=\"\",\"\",ROWS($A$1:A906))","v":""},{"$f":"IF('SD Data Paste'!A907=\"\",\"\",'SD Data Paste'!A907)","v":""},{"$f":"IF('SD Data Paste'!B907=\"\",\"\",'SD Data Paste'!B907)","v":""},906,{"$f":"IF('SD Data Paste'!E907=\"\",\"\",'SD Data Paste'!E907)","v":""},{"$f":"IF('SD Data Paste'!G907=\"\",\"\",'SD Data Paste'!G907)","v":""}]
[{"$f":"IF(Table1[विद्यार्थी का नाम]=\"\",\"\",ROWS($A$1:A907))","v":""},{"$f":"IF('SD Data Paste'!A908=\"\",\"\",'SD Data Paste'!A908)","v":""},{"$f":"IF('SD Data Paste'!B908=\"\",\"\",'SD Data Paste'!B908)","v":""},907,{"$f":"IF('SD Data Paste'!E908=\"\",\"\",'SD Data Paste'!E908)","v":""},{"$f":"IF('SD Data Paste'!G908=\"\",\"\",'SD Data Paste'!G908)","v":""}]
[{"$f":"IF(Table1[विद्यार्थी का नाम]=\"\",\"\",ROWS($A$1:A908))","v":""},{"$f":"IF('SD Data Paste'!A909=\"\",\"\",'SD Data Paste'!A909)","v":""},{"$f":"IF('SD Data Paste'!B909=\"\",\"\",'SD Data Paste'!B909)","v":""},908,{"$f":"IF('SD Data Paste'!E909=\"\",\"\",'SD Data Paste'!E909)","v":""},{"$f":"IF('SD Data Paste'!G909=\"\",\"\",'SD Data Paste'!G909)","v":""}]
[{"$f":"IF(Table1[विद्यार्थी का नाम]=\"\",\"\",ROWS($A$1:A909))","v":""},{"$f":"IF('SD Data Paste'!A910=\"\",\"\",'SD Data Paste'!A910)","v":""},{"$f":"IF('SD Data Paste'!B910=\"\",\"\",'SD Data Paste'!B910)","v":""},909,{"$f":"IF('SD Data Paste'!E910=\"\",\"\",'SD Data Paste'!E910)","v":""},{"$f":"IF('SD Data Paste'!G910=\"\",\"\",'SD Data Paste'!G910)","v":""}]
[{"$f":"IF(Table1[विद्यार्थी का नाम]=\"\",\"\",ROWS($A$1:A910))","v":""},{"$f":"IF('SD Data Paste'!A911=\"\",\"\",'SD Data Paste'!A911)","v":""},{"$f":"IF('SD Data Paste'!B911=\"\",\"\",'SD Data Paste'!B911)","v":""},910,{"$f":"IF('SD Data Paste'!E911=\"\",\"\",'SD Data Paste'!E911)","v":""},{"$f":"IF('SD Data Paste'!G911=\"\",\"\",'SD Data Paste'!G911)","v":""}]
[{"$f":"IF(Table1[विद्यार्थी का नाम]=\"\",\"\",ROWS($A$1:A911))","v":""},{"$f":"IF('SD Data Paste'!A912=\"\",\"\",'SD Data Paste'!A912)","v":""},{"$f":"IF('SD Data Paste'!B912=\"\",\"\",'SD Data Paste'!B912)","v":""},911,{"$f":"IF('SD Data Paste'!E912=\"\",\"\",'SD Data Paste'!E912)","v":""},{"$f":"IF('SD Data Paste'!G912=\"\",\"\",'SD Data Paste'!G912)","v":""}]
[{"$f":"IF(Table1[विद्यार्थी का नाम]=\"\",\"\",ROWS($A$1:A912))","v":""},{"$f":"IF('SD Data Paste'!A913=\"\",\"\",'SD Data Paste'!A913)","v":""},{"$f":"IF('SD Data Paste'!B913=\"\",\"\",'SD Data Paste'!B913)","v":""},912,{"$f":"IF('SD Data Paste'!E913=\"\",\"\",'SD Data Paste'!E913)","v":""},{"$f":"IF('SD Data Paste'!G913=\"\",\"\",'SD Data Paste'!G913)","v":""}]
[{"$f":"IF(Table1[विद्यार्थी का नाम]=\"\",\"\",ROWS($A$1:A913))","v":""},{"$f":"IF('SD Data Paste'!A914=\"\",\"\",'SD Data Paste'!A914)","v":""},{"$f":"IF('SD Data Paste'!B914=\"\",\"\",'SD Data Paste'!B914)","v":""},913,{"$f":"IF('SD Data Paste'!E914=\"\",\"\",'SD Data Paste'!E914)","v":""},{"$f":"IF('SD Data Paste'!G914=\"\",\"\",'SD Data Paste'!G914)","v":""}]
[{"$f":"IF(Table1[विद्यार्थी का नाम]=\"\",\"\",ROWS($A$1:A914))","v":""},{"$f":"IF('SD Data Paste'!A915=\"\",\"\",'SD Data Paste'!A915)","v":""},{"$f":"IF('SD Data Paste'!B915=\"\",\"\",'SD Data Paste'!B915)","v":""},914,{"$f":"IF('SD Data Paste'!E915=\"\",\"\",'SD Data Paste'!E915)","v":""},{"$f":"IF('SD Data Paste'!G915=\"\",\"\",'SD Data Paste'!G915)","v":""}]
[{"$f":"IF(Table1[विद्यार्थी का नाम]=\"\",\"\",ROWS($A$1:A915))","v":""},{"$f":"IF('SD Data Paste'!A916=\"\",\"\",'SD Data Paste'!A916)","v":""},{"$f":"IF('SD Data Paste'!B916=\"\",\"\",'SD Data Paste'!B916)","v":""},915,{"$f":"IF('SD Data Paste'!E916=\"\",\"\",'SD Data Paste'!E916)","v":""},{"$f":"IF('SD Data Paste'!G916=\"\",\"\",'SD Data Paste'!G916)","v":""}]
[{"$f":"IF(Table1[विद्यार्थी का नाम]=\"\",\"\",ROWS($A$1:A916))","v":""},{"$f":"IF('SD Data Paste'!A917=\"\",\"\",'SD Data Paste'!A917)","v":""},{"$f":"IF('SD Data Paste'!B917=\"\",\"\",'SD Data Paste'!B917)","v":""},916,{"$f":"IF('SD Data Paste'!E917=\"\",\"\",'SD Data Paste'!E917)","v":""},{"$f":"IF('SD Data Paste'!G917=\"\",\"\",'SD Data Paste'!G917)","v":""}]
[{"$f":"IF(Table1[विद्यार्थी का नाम]=\"\",\"\",ROWS($A$1:A917))","v":""},{"$f":"IF('SD Data Paste'!A918=\"\",\"\",'SD Data Paste'!A918)","v":""},{"$f":"IF('SD Data Paste'!B918=\"\",\"\",'SD Data Paste'!B918)","v":""},917,{"$f":"IF('SD Data Paste'!E918=\"\",\"\",'SD Data Paste'!E918)","v":""},{"$f":"IF('SD Data Paste'!G918=\"\",\"\",'SD Data Paste'!G918)","v":""}]
[{"$f":"IF(Table1[विद्यार्थी का नाम]=\"\",\"\",ROWS($A$1:A918))","v":""},{"$f":"IF('SD Data Paste'!A919=\"\",\"\",'SD Data Paste'!A919)","v":""},{"$f":"IF('SD Data Paste'!B919=\"\",\"\",'SD Data Paste'!B919)","v":""},918,{"$f":"IF('SD Data Paste'!E919=\"\",\"\",'SD Data Paste'!E919)","v":""},{"$f":"IF('SD Data Paste'!G919=\"\",\"\",'SD Data Paste'!G919)","v":""}]
[{"$f":"IF(Table1[विद्यार्थी का नाम]=\"\",\"\",ROWS($A$1:A919))","v":""},{"$f":"IF('SD Data Paste'!A920=\"\",\"\",'SD Data Paste'!A920)","v":""},{"$f":"IF('SD Data Paste'!B920=\"\",\"\",'SD Data Paste'!B920)","v":""},919,{"$f":"IF('SD Data Paste'!E920=\"\",\"\",'SD Data Paste'!E920)","v":""},{"$f":"IF('SD Data Paste'!G920=\"\",\"\",'SD Data Paste'!G920)","v":""}]
[{"$f":"IF(Table1[विद्यार्थी का नाम]=\"\",\"\",ROWS($A$1:A920))","v":""},{"$f":"IF('SD Data Paste'!A921=\"\",\"\",'SD Data Paste'!A921)","v":""},{"$f":"IF('SD Data Paste'!B921=\"\",\"\",'SD Data Paste'!B921)","v":""},920,{"$f":"IF('SD Data Paste'!E921=\"\",\"\",'SD Data Paste'!E921)","v":""},{"$f":"IF('SD Data Paste'!G921=\"\",\"\",'SD Data Paste'!G921)","v":""}]
[{"$f":"IF(Table1[विद्यार्थी का नाम]=\"\",\"\",ROWS($A$1:A921))","v":""},{"$f":"IF('SD Data Paste'!A922=\"\",\"\",'SD Data Paste'!A922)","v":""},{"$f":"IF('SD Data Paste'!B922=\"\",\"\",'SD Data Paste'!B922)","v":""},921,{"$f":"IF('SD Data Paste'!E922=\"\",\"\",'SD Data Paste'!E922)","v":""},{"$f":"IF('SD Data Paste'!G922=\"\",\"\",'SD Data Paste'!G922)","v":""}]
[{"$f":"IF(Table1[विद्यार्थी का नाम]=\"\",\"\",ROWS($A$1:A922))","v":""},{"$f":"IF('SD Data Paste'!A923=\"\",\"\",'SD Data Paste'!A923)","v":""},{"$f":"IF('SD Data Paste'!B923=\"\",\"\",'SD Data Paste'!B923)","v":""},922,{"$f":"IF('SD Data Paste'!E923=\"\",\"\",'SD Data Paste'!E923)","v":""},{"$f":"IF('SD Data Paste'!G923=\"\",\"\",'SD Data Paste'!G923)","v":""}]
[{"$f":"IF(Table1[विद्यार्थी का नाम]=\"\",\"\",ROWS($A$1:A923))","v":""},{"$f":"IF('SD Data Paste'!A924=\"\",\"\",'SD Data Paste'!A924)","v":""},{"$f":"IF('SD Data Paste'!B924=\"\",\"\",'SD Data Paste'!B924)","v":""},923,{"$f":"IF('SD Data Paste'!E924=\"\",\"\",'SD Data Paste'!E924)","v":""},{"$f":"IF('SD Data Paste'!G924=\"\",\"\",'SD Data Paste'!G924)","v":""}]
[{"$f":"IF(Table1[विद्यार्थी का नाम]=\"\",\"\",ROWS($A$1:A924))","v":""},{"$f":"IF('SD Data Paste'!A925=\"\",\"\",'SD Data Paste'!A925)","v":""},{"$f":"IF('SD Data Paste'!B925=\"\",\"\",'SD Data Paste'!B925)","v":""},924,{"$f":"IF('SD Data Paste'!E925=\"\",\"\",'SD Data Paste'!E925)","v":""},{"$f":"IF('SD Data Paste'!G925=\"\",\"\",'SD Data Paste'!G925)","v":""}]
[{"$f":"IF(Table1[विद्यार्थी का नाम]=\"\",\"\",ROWS($A$1:A925))","v":""},{"$f":"IF('SD Data Paste'!A926=\"\",\"\",'SD Data Paste'!A926)","v":""},{"$f":"IF('SD Data Paste'!B926=\"\",\"\",'SD Data Paste'!B926)","v":""},925,{"$f":"IF('SD Data Paste'!E926=\"\",\"\",'SD Data Paste'!E926)","v":""},{"$f":"IF('SD Data Paste'!G926=\"\",\"\",'SD Data Paste'!G926)","v":""}]
[{"$f":"IF(Table1[विद्यार्थी का नाम]=\"\",\"\",ROWS($A$1:A926))","v":""},{"$f":"IF('SD Data Paste'!A927=\"\",\"\",'SD Data Paste'!A927)","v":""},{"$f":"IF('SD Data Paste'!B927=\"\",\"\",'SD Data Paste'!B927)","v":""},926,{"$f":"IF('SD Data Paste'!E927=\"\",\"\",'SD Data Paste'!E927)","v":""},{"$f":"IF('SD Data Paste'!G927=\"\",\"\",'SD Data Paste'!G927)","v":""}]
[{"$f":"IF(Table1[विद्यार्थी का नाम]=\"\",\"\",ROWS($A$1:A927))","v":""},{"$f":"IF('SD Data Paste'!A928=\"\",\"\",'SD Data Paste'!A928)","v":""},{"$f":"IF('SD Data Paste'!B928=\"\",\"\",'SD Data Paste'!B928)","v":""},927,{"$f":"IF('SD Data Paste'!E928=\"\",\"\",'SD Data Paste'!E928)","v":""},{"$f":"IF('SD Data Paste'!G928=\"\",\"\",'SD Data Paste'!G928)","v":""}]
[{"$f":"IF(Table1[विद्यार्थी का नाम]=\"\",\"\",ROWS($A$1:A928))","v":""},{"$f":"IF('SD Data Paste'!A929=\"\",\"\",'SD Data Paste'!A929)","v":""},{"$f":"IF('SD Data Paste'!B929=\"\",\"\",'SD Data Paste'!B929)","v":""},928,{"$f":"IF('SD Data Paste'!E929=\"\",\"\",'SD Data Paste'!E929)","v":""},{"$f":"IF('SD Data Paste'!G929=\"\",\"\",'SD Data Paste'!G929)","v":""}]
[{"$f":"IF(Table1[विद्यार्थी का नाम]=\"\",\"\",ROWS($A$1:A929))","v":""},{"$f":"IF('SD Data Paste'!A930=\"\",\"\",'SD Data Paste'!A930)","v":""},{"$f":"IF('SD Data Paste'!B930=\"\",\"\",'SD Data Paste'!B930)","v":""},929,{"$f":"IF('SD Data Paste'!E930=\"\",\"\",'SD Data Paste'!E930)","v":""},{"$f":"IF('SD Data Paste'!G930=\"\",\"\",'SD Data Paste'!G930)","v":""}]
[{"$f":"IF(Table1[विद्यार्थी का नाम]=\"\",\"\",ROWS($A$1:A930))","v":""},{"$f":"IF('SD Data Paste'!A931=\"\",\"\",'SD Data Paste'!A931)","v":""},{"$f":"IF('SD Data Paste'!B931=\"\",\"\",'SD Data Paste'!B931)","v":""},930,{"$f":"IF('SD Data Paste'!E931=\"\",\"\",'SD Data Paste'!E931)","v":""},{"$f":"IF('SD Data Paste'!G931=\"\",\"\",'SD Data Paste'!G931)","v":""}]
[{"$f":"IF(Table1[विद्यार्थी का नाम]=\"\",\"\",ROWS($A$1:A931))","v":""},{"$f":"IF('SD Data Paste'!A932=\"\",\"\",'SD Data Paste'!A932)","v":""},{"$f":"IF('SD Data Paste'!B932=\"\",\"\",'SD Data Paste'!B932)","v":""},931,{"$f":"IF('SD Data Paste'!E932=\"\",\"\",'SD Data Paste'!E932)","v":""},{"$f":"IF('SD Data Paste'!G932=\"\",\"\",'SD Data Paste'!G932)","v":""}]
[{"$f":"IF(Table1[विद्यार्थी का नाम]=\"\",\"\",ROWS($A$1:A932))","v":""},{"$f":"IF('SD Data Paste'!A933=\"\",\"\",'SD Data Paste'!A933)","v":""},{"$f":"IF('SD Data Paste'!B933=\"\",\"\",'SD Data Paste'!B933)","v":""},932,{"$f":"IF('SD Data Paste'!E933=\"\",\"\",'SD Data Paste'!E933)","v":""},{"$f":"IF('SD Data Paste'!G933=\"\",\"\",'SD Data Paste'!G933)","v":""}]
[{"$f":"IF(Table1[विद्यार्थी का नाम]=\"\",\"\",ROWS($A$1:A933))","v":""},{"$f":"IF('SD Data Paste'!A934=\"\",\"\",'SD Data Paste'!A934)","v":""},{"$f":"IF('SD Data Paste'!B934=\"\",\"\",'SD Data Paste'!B934)","v":""},933,{"$f":"IF('SD Data Paste'!E934=\"\",\"\",'SD Data Paste'!E934)","v":""},{"$f":"IF('SD Data Paste'!G934=\"\",\"\",'SD Data Paste'!G934)","v":""}]
[{"$f":"IF(Table1[विद्यार्थी का नाम]=\"\",\"\",ROWS($A$1:A934))","v":""},{"$f":"IF('SD Data Paste'!A935=\"\",\"\",'SD Data Paste'!A935)","v":""},{"$f":"IF('SD Data Paste'!B935=\"\",\"\",'SD Data Paste'!B935)","v":""},934,{"$f":"IF('SD Data Paste'!E935=\"\",\"\",'SD Data Paste'!E935)","v":""},{"$f":"IF('SD Data Paste'!G935=\"\",\"\",'SD Data Paste'!G935)","v":""}]
[{"$f":"IF(Table1[विद्यार्थी का नाम]=\"\",\"\",ROWS($A$1:A935))","v":""},{"$f":"IF('SD Data Paste'!A936=\"\",\"\",'SD Data Paste'!A936)","v":""},{"$f":"IF('SD Data Paste'!B936=\"\",\"\",'SD Data Paste'!B936)","v":""},935,{"$f":"IF('SD Data Paste'!E936=\"\",\"\",'SD Data Paste'!E936)","v":""},{"$f":"IF('SD Data Paste'!G936=\"\",\"\",'SD Data Paste'!G936)","v":""}]
[{"$f":"IF(Table1[विद्यार्थी का नाम]=\"\",\"\",ROWS($A$1:A936))","v":""},{"$f":"IF('SD Data Paste'!A937=\"\",\"\",'SD Data Paste'!A937)","v":""},{"$f":"IF('SD Data Paste'!B937=\"\",\"\",'SD Data Paste'!B937)","v":""},936,{"$f":"IF('SD Data Paste'!E937=\"\",\"\",'SD Data Paste'!E937)","v":""},{"$f":"IF('SD Data Paste'!G937=\"\",\"\",'SD Data Paste'!G937)","v":""}]
[{"$f":"IF(Table1[विद्यार्थी का नाम]=\"\",\"\",ROWS($A$1:A937))","v":""},{"$f":"IF('SD Data Paste'!A938=\"\",\"\",'SD Data Paste'!A938)","v":""},{"$f":"IF('SD Data Paste'!B938=\"\",\"\",'SD Data Paste'!B938)","v":""},937,{"$f":"IF('SD Data Paste'!E938=\"\",\"\",'SD Data Paste'!E938)","v":""},{"$f":"IF('SD Data Paste'!G938=\"\",\"\",'SD Data Paste'!G938)","v":""}]
[{"$f":"IF(Table1[विद्यार्थी का नाम]=\"\",\"\",ROWS($A$1:A938))","v":""},{"$f":"IF('SD Data Paste'!A939=\"\",\"\",'SD Data Paste'!A939)","v":""},{"$f":"IF('SD Data Paste'!B939=\"\",\"\",'SD Data Paste'!B939)","v":""},938,{"$f":"IF('SD Data Paste'!E939=\"\",\"\",'SD Data Paste'!E939)","v":""},{"$f":"IF('SD Data Paste'!G939=\"\",\"\",'SD Data Paste'!G939)","v":""}]
[{"$f":"IF(Table1[विद्यार्थी का नाम]=\"\",\"\",ROWS($A$1:A939))","v":""},{"$f":"IF('SD Data Paste'!A940=\"\",\"\",'SD Data Paste'!A940)","v":""},{"$f":"IF('SD Data Paste'!B940=\"\",\"\",'SD Data Paste'!B940)","v":""},939,{"$f":"IF('SD Data Paste'!E940=\"\",\"\",'SD Data Paste'!E940)","v":""},{"$f":"IF('SD Data Paste'!G940=\"\",\"\",'SD Data Paste'!G940)","v":""}]
[{"$f":"IF(Table1[विद्यार्थी का नाम]=\"\",\"\",ROWS($A$1:A940))","v":""},{"$f":"IF('SD Data Paste'!A941=\"\",\"\",'SD Data Paste'!A941)","v":""},{"$f":"IF('SD Data Paste'!B941=\"\",\"\",'SD Data Paste'!B941)","v":""},940,{"$f":"IF('SD Data Paste'!E941=\"\",\"\",'SD Data Paste'!E941)","v":""},{"$f":"IF('SD Data Paste'!G941=\"\",\"\",'SD Data Paste'!G941)","v":""}]
[{"$f":"IF(Table1[विद्यार्थी का नाम]=\"\",\"\",ROWS($A$1:A941))","v":""},{"$f":"IF('SD Data Paste'!A942=\"\",\"\",'SD Data Paste'!A942)","v":""},{"$f":"IF('SD Data Paste'!B942=\"\",\"\",'SD Data Paste'!B942)","v":""},941,{"$f":"IF('SD Data Paste'!E942=\"\",\"\",'SD Data Paste'!E942)","v":""},{"$f":"IF('SD Data Paste'!G942=\"\",\"\",'SD Data Paste'!G942)","v":""}]
[{"$f":"IF(Table1[विद्यार्थी का नाम]=\"\",\"\",ROWS($A$1:A942))","v":""},{"$f":"IF('SD Data Paste'!A943=\"\",\"\",'SD Data Paste'!A943)","v":""},{"$f":"IF('SD Data Paste'!B943=\"\",\"\",'SD Data Paste'!B943)","v":""},942,{"$f":"IF('SD Data Paste'!E943=\"\",\"\",'SD Data Paste'!E943)","v":""},{"$f":"IF('SD Data Paste'!G943=\"\",\"\",'SD Data Paste'!G943)","v":""}]
[{"$f":"IF(Table1[विद्यार्थी का नाम]=\"\",\"\",ROWS($A$1:A943))","v":""},{"$f":"IF('SD Data Paste'!A944=\"\",\"\",'SD Data Paste'!A944)","v":""},{"$f":"IF('SD Data Paste'!B944=\"\",\"\",'SD Data Paste'!B944)","v":""},943,{"$f":"IF('SD Data Paste'!E944=\"\",\"\",'SD Data Paste'!E944)","v":""},{"$f":"IF('SD Data Paste'!G944=\"\",\"\",'SD Data Paste'!G944)","v":""}]
[{"$f":"IF(Table1[विद्यार्थी का नाम]=\"\",\"\",ROWS($A$1:A944))","v":""},{"$f":"IF('SD Data Paste'!A945=\"\",\"\",'SD Data Paste'!A945)","v":""},{"$f":"IF('SD Data Paste'!B945=\"\",\"\",'SD Data Paste'!B945)","v":""},944,{"$f":"IF('SD Data Paste'!E945=\"\",\"\",'SD Data Paste'!E945)","v":""},{"$f":"IF('SD Data Paste'!G945=\"\",\"\",'SD Data Paste'!G945)","v":""}]
[{"$f":"IF(Table1[विद्यार्थी का नाम]=\"\",\"\",ROWS($A$1:A945))","v":""},{"$f":"IF('SD Data Paste'!A946=\"\",\"\",'SD Data Paste'!A946)","v":""},{"$f":"IF('SD Data Paste'!B946=\"\",\"\",'SD Data Paste'!B946)","v":""},945,{"$f":"IF('SD Data Paste'!E946=\"\",\"\",'SD Data Paste'!E946)","v":""},{"$f":"IF('SD Data Paste'!G946=\"\",\"\",'SD Data Paste'!G946)","v":""}]
[{"$f":"IF(Table1[विद्यार्थी का नाम]=\"\",\"\",ROWS($A$1:A946))","v":""},{"$f":"IF('SD Data Paste'!A947=\"\",\"\",'SD Data Paste'!A947)","v":""},{"$f":"IF('SD Data Paste'!B947=\"\",\"\",'SD Data Paste'!B947)","v":""},946,{"$f":"IF('SD Data Paste'!E947=\"\",\"\",'SD Data Paste'!E947)","v":""},{"$f":"IF('SD Data Paste'!G947=\"\",\"\",'SD Data Paste'!G947)","v":""}]
[{"$f":"IF(Table1[विद्यार्थी का नाम]=\"\",\"\",ROWS($A$1:A947))","v":""},{"$f":"IF('SD Data Paste'!A948=\"\",\"\",'SD Data Paste'!A948)","v":""},{"$f":"IF('SD Data Paste'!B948=\"\",\"\",'SD Data Paste'!B948)","v":""},947,{"$f":"IF('SD Data Paste'!E948=\"\",\"\",'SD Data Paste'!E948)","v":""},{"$f":"IF('SD Data Paste'!G948=\"\",\"\",'SD Data Paste'!G948)","v":""}]
[{"$f":"IF(Table1[विद्यार्थी का नाम]=\"\",\"\",ROWS($A$1:A948))","v":""},{"$f":"IF('SD Data Paste'!A949=\"\",\"\",'SD Data Paste'!A949)","v":""},{"$f":"IF('SD Data Paste'!B949=\"\",\"\",'SD Data Paste'!B949)","v":""},948,{"$f":"IF('SD Data Paste'!E949=\"\",\"\",'SD Data Paste'!E949)","v":""},{"$f":"IF('SD Data Paste'!G949=\"\",\"\",'SD Data Paste'!G949)","v":""}]
[{"$f":"IF(Table1[विद्यार्थी का नाम]=\"\",\"\",ROWS($A$1:A949))","v":""},{"$f":"IF('SD Data Paste'!A950=\"\",\"\",'SD Data Paste'!A950)","v":""},{"$f":"IF('SD Data Paste'!B950=\"\",\"\",'SD Data Paste'!B950)","v":""},949,{"$f":"IF('SD Data Paste'!E950=\"\",\"\",'SD Data Paste'!E950)","v":""},{"$f":"IF('SD Data Paste'!G950=\"\",\"\",'SD Data Paste'!G950)","v":""}]
[{"$f":"IF(Table1[विद्यार्थी का नाम]=\"\",\"\",ROWS($A$1:A950))","v":""},{"$f":"IF('SD Data Paste'!A951=\"\",\"\",'SD Data Paste'!A951)","v":""},{"$f":"IF('SD Data Paste'!B951=\"\",\"\",'SD Data Paste'!B951)","v":""},950,{"$f":"IF('SD Data Paste'!E951=\"\",\"\",'SD Data Paste'!E951)","v":""},{"$f":"IF('SD Data Paste'!G951=\"\",\"\",'SD Data Paste'!G951)","v":""}]
[{"$f":"IF(Table1[विद्यार्थी का नाम]=\"\",\"\",ROWS($A$1:A951))","v":""},{"$f":"IF('SD Data Paste'!A952=\"\",\"\",'SD Data Paste'!A952)","v":""},{"$f":"IF('SD Data Paste'!B952=\"\",\"\",'SD Data Paste'!B952)","v":""},951,{"$f":"IF('SD Data Paste'!E952=\"\",\"\",'SD Data Paste'!E952)","v":""},{"$f":"IF('SD Data Paste'!G952=\"\",\"\",'SD Data Paste'!G952)","v":""}]
[{"$f":"IF(Table1[विद्यार्थी का नाम]=\"\",\"\",ROWS($A$1:A952))","v":""},{"$f":"IF('SD Data Paste'!A953=\"\",\"\",'SD Data Paste'!A953)","v":""},{"$f":"IF('SD Data Paste'!B953=\"\",\"\",'SD Data Paste'!B953)","v":""},952,{"$f":"IF('SD Data Paste'!E953=\"\",\"\",'SD Data Paste'!E953)","v":""},{"$f":"IF('SD Data Paste'!G953=\"\",\"\",'SD Data Paste'!G953)","v":""}]
[{"$f":"IF(Table1[विद्यार्थी का नाम]=\"\",\"\",ROWS($A$1:A953))","v":""},{"$f":"IF('SD Data Paste'!A954=\"\",\"\",'SD Data Paste'!A954)","v":""},{"$f":"IF('SD Data Paste'!B954=\"\",\"\",'SD Data Paste'!B954)","v":""},953,{"$f":"IF('SD Data Paste'!E954=\"\",\"\",'SD Data Paste'!E954)","v":""},{"$f":"IF('SD Data Paste'!G954=\"\",\"\",'SD Data Paste'!G954)","v":""}]
[{"$f":"IF(Table1[विद्यार्थी का नाम]=\"\",\"\",ROWS($A$1:A954))","v":""},{"$f":"IF('SD Data Paste'!A955=\"\",\"\",'SD Data Paste'!A955)","v":""},{"$f":"IF('SD Data Paste'!B955=\"\",\"\",'SD Data Paste'!B955)","v":""},954,{"$f":"IF('SD Data Paste'!E955=\"\",\"\",'SD Data Paste'!E955)","v":""},{"$f":"IF('SD Data Paste'!G955=\"\",\"\",'SD Data Paste'!G955)","v":""}]
[{"$f":"IF(Table1[विद्यार्थी का नाम]=\"\",\"\",ROWS($A$1:A955))","v":""},{"$f":"IF('SD Data Paste'!A956=\"\",\"\",'SD Data Paste'!A956)","v":""},{"$f":"IF('SD Data Paste'!B956=\"\",\"\",'SD Data Paste'!B956)","v":""},955,{"$f":"IF('SD Data Paste'!E956=\"\",\"\",'SD Data Paste'!E956)","v":""},{"$f":"IF('SD Data Paste'!G956=\"\",\"\",'SD Data Paste'!G956)","v":""}]
[{"$f":"IF(Table1[विद्यार्थी का नाम]=\"\",\"\",ROWS($A$1:A956))","v":""},{"$f":"IF('SD Data Paste'!A957=\"\",\"\",'SD Data Paste'!A957)","v":""},{"$f":"IF('SD Data Paste'!B957=\"\",\"\",'SD Data Paste'!B957)","v":""},956,{"$f":"IF('SD Data Paste'!E957=\"\",\"\",'SD Data Paste'!E957)","v":""},{"$f":"IF('SD Data Paste'!G957=\"\",\"\",'SD Data Paste'!G957)","v":""}]
[{"$f":"IF(Table1[विद्यार्थी का नाम]=\"\",\"\",ROWS($A$1:A957))","v":""},{"$f":"IF('SD Data Paste'!A958=\"\",\"\",'SD Data Paste'!A958)","v":""},{"$f":"IF('SD Data Paste'!B958=\"\",\"\",'SD Data Paste'!B958)","v":""},957,{"$f":"IF('SD Data Paste'!E958=\"\",\"\",'SD Data Paste'!E958)","v":""},{"$f":"IF('SD Data Paste'!G958=\"\",\"\",'SD Data Paste'!G958)","v":""}]
[{"$f":"IF(Table1[विद्यार्थी का नाम]=\"\",\"\",ROWS($A$1:A958))","v":""},{"$f":"IF('SD Data Paste'!A959=\"\",\"\",'SD Data Paste'!A959)","v":""},{"$f":"IF('SD Data Paste'!B959=\"\",\"\",'SD Data Paste'!B959)","v":""},958,{"$f":"IF('SD Data Paste'!E959=\"\",\"\",'SD Data Paste'!E959)","v":""},{"$f":"IF('SD Data Paste'!G959=\"\",\"\",'SD Data Paste'!G959)","v":""}]
[{"$f":"IF(Table1[विद्यार्थी का नाम]=\"\",\"\",ROWS($A$1:A959))","v":""},{"$f":"IF('SD Data Paste'!A960=\"\",\"\",'SD Data Paste'!A960)","v":""},{"$f":"IF('SD Data Paste'!B960=\"\",\"\",'SD Data Paste'!B960)","v":""},959,{"$f":"IF('SD Data Paste'!E960=\"\",\"\",'SD Data Paste'!E960)","v":""},{"$f":"IF('SD Data Paste'!G960=\"\",\"\",'SD Data Paste'!G960)","v":""}]
[{"$f":"IF(Table1[विद्यार्थी का नाम]=\"\",\"\",ROWS($A$1:A960))","v":""},{"$f":"IF('SD Data Paste'!A961=\"\",\"\",'SD Data Paste'!A961)","v":""},{"$f":"IF('SD Data Paste'!B961=\"\",\"\",'SD Data Paste'!B961)","v":""},960,{"$f":"IF('SD Data Paste'!E961=\"\",\"\",'SD Data Paste'!E961)","v":""},{"$f":"IF('SD Data Paste'!G961=\"\",\"\",'SD Data Paste'!G961)","v":""}]
[{"$f":"IF(Table1[विद्यार्थी का नाम]=\"\",\"\",ROWS($A$1:A961))","v":""},{"$f":"IF('SD Data Paste'!A962=\"\",\"\",'SD Data Paste'!A962)","v":""},{"$f":"IF('SD Data Paste'!B962=\"\",\"\",'SD Data Paste'!B962)","v":""},961,{"$f":"IF('SD Data Paste'!E962=\"\",\"\",'SD Data Paste'!E962)","v":""},{"$f":"IF('SD Data Paste'!G962=\"\",\"\",'SD Data Paste'!G962)","v":""}]
[{"$f":"IF(Table1[विद्यार्थी का नाम]=\"\",\"\",ROWS($A$1:A962))","v":""},{"$f":"IF('SD Data Paste'!A963=\"\",\"\",'SD Data Paste'!A963)","v":""},{"$f":"IF('SD Data Paste'!B963=\"\",\"\",'SD Data Paste'!B963)","v":""},962,{"$f":"IF('SD Data Paste'!E963=\"\",\"\",'SD Data Paste'!E963)","v":""},{"$f":"IF('SD Data Paste'!G963=\"\",\"\",'SD Data Paste'!G963)","v":""}]
[{"$f":"IF(Table1[विद्यार्थी का नाम]=\"\",\"\",ROWS($A$1:A963))","v":""},{"$f":"IF('SD Data Paste'!A964=\"\",\"\",'SD Data Paste'!A964)","v":""},{"$f":"IF('SD Data Paste'!B964=\"\",\"\",'SD Data Paste'!B964)","v":""},{"$f":"IF(D965=\"\",\"\",D965+1)","v":963},{"$f":"IF('SD Data Paste'!E964=\"\",\"\",'SD Data Paste'!E964)","v":""},{"$f":"IF('SD Data Paste'!G964=\"\",\"\",'SD Data Paste'!G964)","v":""}]
[{"$f":"IF(Table1[विद्यार्थी का नाम]=\"\",\"\",ROWS($A$1:A964))","v":""},{"$f":"IF('SD Data Paste'!A965=\"\",\"\",'SD Data Paste'!A965)","v":""},{"$f":"IF('SD Data Paste'!B965=\"\",\"\",'SD Data Paste'!B965)","v":""},964,{"$f":"IF('SD Data Paste'!E965=\"\",\"\",'SD Data Paste'!E965)","v":""},{"$f":"IF('SD Data Paste'!G965=\"\",\"\",'SD Data Paste'!G965)","v":""}]
[{"$f":"IF(Table1[विद्यार्थी का नाम]=\"\",\"\",ROWS($A$1:A965))","v":""},{"$f":"IF('SD Data Paste'!A966=\"\",\"\",'SD Data Paste'!A966)","v":""},{"$f":"IF('SD Data Paste'!B966=\"\",\"\",'SD Data Paste'!B966)","v":""},965,{"$f":"IF('SD Data Paste'!E966=\"\",\"\",'SD Data Paste'!E966)","v":""},{"$f":"IF('SD Data Paste'!G966=\"\",\"\",'SD Data Paste'!G966)","v":""}]
[{"$f":"IF(Table1[विद्यार्थी का नाम]=\"\",\"\",ROWS($A$1:A966))","v":""},{"$f":"IF('SD Data Paste'!A967=\"\",\"\",'SD Data Paste'!A967)","v":""},{"$f":"IF('SD Data Paste'!B967=\"\",\"\",'SD Data Paste'!B967)","v":""},966,{"$f":"IF('SD Data Paste'!E967=\"\",\"\",'SD Data Paste'!E967)","v":""},{"$f":"IF('SD Data Paste'!G967=\"\",\"\",'SD Data Paste'!G967)","v":""}]
[{"$f":"IF(Table1[विद्यार्थी का नाम]=\"\",\"\",ROWS($A$1:A967))","v":""},{"$f":"IF('SD Data Paste'!A968=\"\",\"\",'SD Data Paste'!A968)","v":""},{"$f":"IF('SD Data Paste'!B968=\"\",\"\",'SD Data Paste'!B968)","v":""},967,{"$f":"IF('SD Data Paste'!E968=\"\",\"\",'SD Data Paste'!E968)","v":""},{"$f":"IF('SD Data Paste'!G968=\"\",\"\",'SD Data Paste'!G968)","v":""}]
[{"$f":"IF(Table1[विद्यार्थी का नाम]=\"\",\"\",ROWS($A$1:A968))","v":""},{"$f":"IF('SD Data Paste'!A969=\"\",\"\",'SD Data Paste'!A969)","v":""},{"$f":"IF('SD Data Paste'!B969=\"\",\"\",'SD Data Paste'!B969)","v":""},968,{"$f":"IF('SD Data Paste'!E969=\"\",\"\",'SD Data Paste'!E969)","v":""},{"$f":"IF('SD Data Paste'!G969=\"\",\"\",'SD Data Paste'!G969)","v":""}]
[{"$f":"IF(Table1[विद्यार्थी का नाम]=\"\",\"\",ROWS($A$1:A969))","v":""},{"$f":"IF('SD Data Paste'!A970=\"\",\"\",'SD Data Paste'!A970)","v":""},{"$f":"IF('SD Data Paste'!B970=\"\",\"\",'SD Data Paste'!B970)","v":""},969,{"$f":"IF('SD Data Paste'!E970=\"\",\"\",'SD Data Paste'!E970)","v":""},{"$f":"IF('SD Data Paste'!G970=\"\",\"\",'SD Data Paste'!G970)","v":""}]
[{"$f":"IF(Table1[विद्यार्थी का नाम]=\"\",\"\",ROWS($A$1:A970))","v":""},{"$f":"IF('SD Data Paste'!A971=\"\",\"\",'SD Data Paste'!A971)","v":""},{"$f":"IF('SD Data Paste'!B971=\"\",\"\",'SD Data Paste'!B971)","v":""},970,{"$f":"IF('SD Data Paste'!E971=\"\",\"\",'SD Data Paste'!E971)","v":""},{"$f":"IF('SD Data Paste'!G971=\"\",\"\",'SD Data Paste'!G971)","v":""}]
[{"$f":"IF(Table1[विद्यार्थी का नाम]=\"\",\"\",ROWS($A$1:A971))","v":""},{"$f":"IF('SD Data Paste'!A972=\"\",\"\",'SD Data Paste'!A972)","v":""},{"$f":"IF('SD Data Paste'!B972=\"\",\"\",'SD Data Paste'!B972)","v":""},971,{"$f":"IF('SD Data Paste'!E972=\"\",\"\",'SD Data Paste'!E972)","v":""},{"$f":"IF('SD Data Paste'!G972=\"\",\"\",'SD Data Paste'!G972)","v":""}]
[{"$f":"IF(Table1[विद्यार्थी का नाम]=\"\",\"\",ROWS($A$1:A972))","v":""},{"$f":"IF('SD Data Paste'!A973=\"\",\"\",'SD Data Paste'!A973)","v":""},{"$f":"IF('SD Data Paste'!B973=\"\",\"\",'SD Data Paste'!B973)","v":""},972,{"$f":"IF('SD Data Paste'!E973=\"\",\"\",'SD Data Paste'!E973)","v":""},{"$f":"IF('SD Data Paste'!G973=\"\",\"\",'SD Data Paste'!G973)","v":""}]
[{"$f":"IF(Table1[विद्यार्थी का नाम]=\"\",\"\",ROWS($A$1:A973))","v":""},{"$f":"IF('SD Data Paste'!A974=\"\",\"\",'SD Data Paste'!A974)","v":""},{"$f":"IF('SD Data Paste'!B974=\"\",\"\",'SD Data Paste'!B974)","v":""},973,{"$f":"IF('SD Data Paste'!E974=\"\",\"\",'SD Data Paste'!E974)","v":""},{"$f":"IF('SD Data Paste'!G974=\"\",\"\",'SD Data Paste'!G974)","v":""}]
[{"$f":"IF(Table1[विद्यार्थी का नाम]=\"\",\"\",ROWS($A$1:A974))","v":""},{"$f":"IF('SD Data Paste'!A975=\"\",\"\",'SD Data Paste'!A975)","v":""},{"$f":"IF('SD Data Paste'!B975=\"\",\"\",'SD Data Paste'!B975)","v":""},974,{"$f":"IF('SD Data Paste'!E975=\"\",\"\",'SD Data Paste'!E975)","v":""},{"$f":"IF('SD Data Paste'!G975=\"\",\"\",'SD Data Paste'!G975)","v":""}]
[{"$f":"IF(Table1[विद्यार्थी का नाम]=\"\",\"\",ROWS($A$1:A975))","v":""},{"$f":"IF('SD Data Paste'!A976=\"\",\"\",'SD Data Paste'!A976)","v":""},{"$f":"IF('SD Data Paste'!B976=\"\",\"\",'SD Data Paste'!B976)","v":""},975,{"$f":"IF('SD Data Paste'!E976=\"\",\"\",'SD Data Paste'!E976)","v":""},{"$f":"IF('SD Data Paste'!G976=\"\",\"\",'SD Data Paste'!G976)","v":""}]
[{"$f":"IF(Table1[विद्यार्थी का नाम]=\"\",\"\",ROWS($A$1:A976))","v":""},{"$f":"IF('SD Data Paste'!A977=\"\",\"\",'SD Data Paste'!A977)","v":""},{"$f":"IF('SD Data Paste'!B977=\"\",\"\",'SD Data Paste'!B977)","v":""},976,{"$f":"IF('SD Data Paste'!E977=\"\",\"\",'SD Data Paste'!E977)","v":""},{"$f":"IF('SD Data Paste'!G977=\"\",\"\",'SD Data Paste'!G977)","v":""}]
[{"$f":"IF(Table1[विद्यार्थी का नाम]=\"\",\"\",ROWS($A$1:A977))","v":""},{"$f":"IF('SD Data Paste'!A978=\"\",\"\",'SD Data Paste'!A978)","v":""},{"$f":"IF('SD Data Paste'!B978=\"\",\"\",'SD Data Paste'!B978)","v":""},977,{"$f":"IF('SD Data Paste'!E978=\"\",\"\",'SD Data Paste'!E978)","v":""},{"$f":"IF('SD Data Paste'!G978=\"\",\"\",'SD Data Paste'!G978)","v":""}]
[{"$f":"IF(Table1[विद्यार्थी का नाम]=\"\",\"\",ROWS($A$1:A978))","v":""},{"$f":"IF('SD Data Paste'!A979=\"\",\"\",'SD Data Paste'!A979)","v":""},{"$f":"IF('SD Data Paste'!B979=\"\",\"\",'SD Data Paste'!B979)","v":""},978,{"$f":"IF('SD Data Paste'!E979=\"\",\"\",'SD Data Paste'!E979)","v":""},{"$f":"IF('SD Data Paste'!G979=\"\",\"\",'SD Data Paste'!G979)","v":""}]
[{"$f":"IF(Table1[विद्यार्थी का नाम]=\"\",\"\",ROWS($A$1:A979))","v":""},{"$f":"IF('SD Data Paste'!A980=\"\",\"\",'SD Data Paste'!A980)","v":""},{"$f":"IF('SD Data Paste'!B980=\"\",\"\",'SD Data Paste'!B980)","v":""},979,{"$f":"IF('SD Data Paste'!E980=\"\",\"\",'SD Data Paste'!E980)","v":""},{"$f":"IF('SD Data Paste'!G980=\"\",\"\",'SD Data Paste'!G980)","v":""}]
[{"$f":"IF(Table1[विद्यार्थी का नाम]=\"\",\"\",ROWS($A$1:A980))","v":""},{"$f":"IF('SD Data Paste'!A981=\"\",\"\",'SD Data Paste'!A981)","v":""},{"$f":"IF('SD Data Paste'!B981=\"\",\"\",'SD Data Paste'!B981)","v":""},980,{"$f":"IF('SD Data Paste'!E981=\"\",\"\",'SD Data Paste'!E981)","v":""},{"$f":"IF('SD Data Paste'!G981=\"\",\"\",'SD Data Paste'!G981)","v":""}]
[{"$f":"IF(Table1[विद्यार्थी का नाम]=\"\",\"\",ROWS($A$1:A981))","v":""},{"$f":"IF('SD Data Paste'!A982=\"\",\"\",'SD Data Paste'!A982)","v":""},{"$f":"IF('SD Data Paste'!B982=\"\",\"\",'SD Data Paste'!B982)","v":""},981,{"$f":"IF('SD Data Paste'!E982=\"\",\"\",'SD Data Paste'!E982)","v":""},{"$f":"IF('SD Data Paste'!G982=\"\",\"\",'SD Data Paste'!G982)","v":""}]
[{"$f":"IF(Table1[विद्यार्थी का नाम]=\"\",\"\",ROWS($A$1:A982))","v":""},{"$f":"IF('SD Data Paste'!A983=\"\",\"\",'SD Data Paste'!A983)","v":""},{"$f":"IF('SD Data Paste'!B983=\"\",\"\",'SD Data Paste'!B983)","v":""},982,{"$f":"IF('SD Data Paste'!E983=\"\",\"\",'SD Data Paste'!E983)","v":""},{"$f":"IF('SD Data Paste'!G983=\"\",\"\",'SD Data Paste'!G983)","v":""}]
[{"$f":"IF(Table1[विद्यार्थी का नाम]=\"\",\"\",ROWS($A$1:A983))","v":""},{"$f":"IF('SD Data Paste'!A984=\"\",\"\",'SD Data Paste'!A984)","v":""},{"$f":"IF('SD Data Paste'!B984=\"\",\"\",'SD Data Paste'!B984)","v":""},983,{"$f":"IF('SD Data Paste'!E984=\"\",\"\",'SD Data Paste'!E984)","v":""},{"$f":"IF('SD Data Paste'!G984=\"\",\"\",'SD Data Paste'!G984)","v":""}]
[{"$f":"IF(Table1[विद्यार्थी का नाम]=\"\",\"\",ROWS($A$1:A984))","v":""},{"$f":"IF('SD Data Paste'!A985=\"\",\"\",'SD Data Paste'!A985)","v":""},{"$f":"IF('SD Data Paste'!B985=\"\",\"\",'SD Data Paste'!B985)","v":""},984,{"$f":"IF('SD Data Paste'!E985=\"\",\"\",'SD Data Paste'!E985)","v":""},{"$f":"IF('SD Data Paste'!G985=\"\",\"\",'SD Data Paste'!G985)","v":""}]
[{"$f":"IF(Table1[विद्यार्थी का नाम]=\"\",\"\",ROWS($A$1:A985))","v":""},{"$f":"IF('SD Data Paste'!A986=\"\",\"\",'SD Data Paste'!A986)","v":""},{"$f":"IF('SD Data Paste'!B986=\"\",\"\",'SD Data Paste'!B986)","v":""},985,{"$f":"IF('SD Data Paste'!E986=\"\",\"\",'SD Data Paste'!E986)","v":""},{"$f":"IF('SD Data Paste'!G986=\"\",\"\",'SD Data Paste'!G986)","v":""}]
[{"$f":"IF(Table1[विद्यार्थी का नाम]=\"\",\"\",ROWS($A$1:A986))","v":""},{"$f":"IF('SD Data Paste'!A987=\"\",\"\",'SD Data Paste'!A987)","v":""},{"$f":"IF('SD Data Paste'!B987=\"\",\"\",'SD Data Paste'!B987)","v":""},986,{"$f":"IF('SD Data Paste'!E987=\"\",\"\",'SD Data Paste'!E987)","v":""},{"$f":"IF('SD Data Paste'!G987=\"\",\"\",'SD Data Paste'!G987)","v":""}]
[{"$f":"IF(Table1[विद्यार्थी का नाम]=\"\",\"\",ROWS($A$1:A987))","v":""},{"$f":"IF('SD Data Paste'!A988=\"\",\"\",'SD Data Paste'!A988)","v":""},{"$f":"IF('SD Data Paste'!B988=\"\",\"\",'SD Data Paste'!B988)","v":""},987,{"$f":"IF('SD Data Paste'!E988=\"\",\"\",'SD Data Paste'!E988)","v":""},{"$f":"IF('SD Data Paste'!G988=\"\",\"\",'SD Data Paste'!G988)","v":""}]
[{"$f":"IF(Table1[विद्यार्थी का नाम]=\"\",\"\",ROWS($A$1:A988))","v":""},{"$f":"IF('SD Data Paste'!A989=\"\",\"\",'SD Data Paste'!A989)","v":""},{"$f":"IF('SD Data Paste'!B989=\"\",\"\",'SD Data Paste'!B989)","v":""},988,{"$f":"IF('SD Data Paste'!E989=\"\",\"\",'SD Data Paste'!E989)","v":""},{"$f":"IF('SD Data Paste'!G989=\"\",\"\",'SD Data Paste'!G989)","v":""}]
[{"$f":"IF(Table1[विद्यार्थी का नाम]=\"\",\"\",ROWS($A$1:A989))","v":""},{"$f":"IF('SD Data Paste'!A990=\"\",\"\",'SD Data Paste'!A990)","v":""},{"$f":"IF('SD Data Paste'!B990=\"\",\"\",'SD Data Paste'!B990)","v":""},989,{"$f":"IF('SD Data Paste'!E990=\"\",\"\",'SD Data Paste'!E990)","v":""},{"$f":"IF('SD Data Paste'!G990=\"\",\"\",'SD Data Paste'!G990)","v":""}]
[{"$f":"IF(Table1[विद्यार्थी का नाम]=\"\",\"\",ROWS($A$1:A990))","v":""},{"$f":"IF('SD Data Paste'!A991=\"\",\"\",'SD Data Paste'!A991)","v":""},{"$f":"IF('SD Data Paste'!B991=\"\",\"\",'SD Data Paste'!B991)","v":""},990,{"$f":"IF('SD Data Paste'!E991=\"\",\"\",'SD Data Paste'!E991)","v":""},{"$f":"IF('SD Data Paste'!G991=\"\",\"\",'SD Data Paste'!G991)","v":""}]
[{"$f":"IF(Table1[विद्यार्थी का नाम]=\"\",\"\",ROWS($A$1:A991))","v":""},{"$f":"IF('SD Data Paste'!A992=\"\",\"\",'SD Data Paste'!A992)","v":""},{"$f":"IF('SD Data Paste'!B992=\"\",\"\",'SD Data Paste'!B992)","v":""},991,{"$f":"IF('SD Data Paste'!E992=\"\",\"\",'SD Data Paste'!E992)","v":""},{"$f":"IF('SD Data Paste'!G992=\"\",\"\",'SD Data Paste'!G992)","v":""}]
[{"$f":"IF(Table1[विद्यार्थी का नाम]=\"\",\"\",ROWS($A$1:A992))","v":""},{"$f":"IF('SD Data Paste'!A993=\"\",\"\",'SD Data Paste'!A993)","v":""},{"$f":"IF('SD Data Paste'!B993=\"\",\"\",'SD Data Paste'!B993)","v":""},992,{"$f":"IF('SD Data Paste'!E993=\"\",\"\",'SD Data Paste'!E993)","v":""},{"$f":"IF('SD Data Paste'!G993=\"\",\"\",'SD Data Paste'!G993)","v":""}]
[{"$f":"IF(Table1[विद्यार्थी का नाम]=\"\",\"\",ROWS($A$1:A993))","v":""},{"$f":"IF('SD Data Paste'!A994=\"\",\"\",'SD Data Paste'!A994)","v":""},{"$f":"IF('SD Data Paste'!B994=\"\",\"\",'SD Data Paste'!B994)","v":""},993,{"$f":"IF('SD Data Paste'!E994=\"\",\"\",'SD Data Paste'!E994)","v":""},{"$f":"IF('SD Data Paste'!G994=\"\",\"\",'SD Data Paste'!G994)","v":""}]
[{"$f":"IF(Table1[विद्यार्थी का नाम]=\"\",\"\",ROWS($A$1:A994))","v":""},{"$f":"IF('SD Data Paste'!A995=\"\",\"\",'SD Data Paste'!A995)","v":""},{"$f":"IF('SD Data Paste'!B995=\"\",\"\",'SD Data Paste'!B995)","v":""},994,{"$f":"IF('SD Data Paste'!E995=\"\",\"\",'SD Data Paste'!E995)","v":""},{"$f":"IF('SD Data Paste'!G995=\"\",\"\",'SD Data Paste'!G995)","v":""}]
[{"$f":"IF(Table1[विद्यार्थी का नाम]=\"\",\"\",ROWS($A$1:A995))","v":""},{"$f":"IF('SD Data Paste'!A996=\"\",\"\",'SD Data Paste'!A996)","v":""},{"$f":"IF('SD Data Paste'!B996=\"\",\"\",'SD Data Paste'!B996)","v":""},995,{"$f":"IF('SD Data Paste'!E996=\"\",\"\",'SD Data Paste'!E996)","v":""},{"$f":"IF('SD Data Paste'!G996=\"\",\"\",'SD Data Paste'!G996)","v":""}]
[{"$f":"IF(Table1[विद्यार्थी का नाम]=\"\",\"\",ROWS($A$1:A996))","v":""},{"$f":"IF('SD Data Paste'!A997=\"\",\"\",'SD Data Paste'!A997)","v":""},{"$f":"IF('SD Data Paste'!B997=\"\",\"\",'SD Data Paste'!B997)","v":""},996,{"$f":"IF('SD Data Paste'!E997=\"\",\"\",'SD Data Paste'!E997)","v":""},{"$f":"IF('SD Data Paste'!G997=\"\",\"\",'SD Data Paste'!G997)","v":""}]
[{"$f":"IF(Table1[विद्यार्थी का नाम]=\"\",\"\",ROWS($A$1:A997))","v":""},{"$f":"IF('SD Data Paste'!A998=\"\",\"\",'SD Data Paste'!A998)","v":""},{"$f":"IF('SD Data Paste'!B998=\"\",\"\",'SD Data Paste'!B998)","v":""},997,{"$f":"IF('SD Data Paste'!E998=\"\",\"\",'SD Data Paste'!E998)","v":""},{"$f":"IF('SD Data Paste'!G998=\"\",\"\",'SD Data Paste'!G998)","v":""}]
[{"$f":"IF(Table1[विद्यार्थी का नाम]=\"\",\"\",ROWS($A$1:A998))","v":""},{"$f":"IF('SD Data Paste'!A999=\"\",\"\",'SD Data Paste'!A999)","v":""},{"$f":"IF('SD Data Paste'!B999=\"\",\"\",'SD Data Paste'!B999)","v":""},998,{"$f":"IF('SD Data Paste'!E999=\"\",\"\",'SD Data Paste'!E999)","v":""},{"$f":"IF('SD Data Paste'!G999=\"\",\"\",'SD Data Paste'!G999)","v":""}]
[{"$f":"IF(Table1[विद्यार्थी का नाम]=\"\",\"\",ROWS($A$1:A999))","v":""},{"$f":"IF('SD Data Paste'!A1000=\"\",\"\",'SD Data Paste'!A1000)","v":""},{"$f":"IF('SD Data Paste'!B1000=\"\",\"\",'SD Data Paste'!B1000)","v":""},999,{"$f":"IF('SD Data Paste'!E1000=\"\",\"\",'SD Data Paste'!E1000)","v":""},{"$f":"IF('SD Data Paste'!G1000=\"\",\"\",'SD Data Paste'!G1000)","v":""}]
[{"$f":"IF(Table1[विद्यार्थी का नाम]=\"\",\"\",ROWS($A$1:A1000))","v":""},{"$f":"IF('SD Data Paste'!A1001=\"\",\"\",'SD Data Paste'!A1001)","v":""},{"$f":"IF('SD Data Paste'!B1001=\"\",\"\",'SD Data Paste'!B1001)","v":""},1000,{"$f":"IF('SD Data Paste'!E1001=\"\",\"\",'SD Data Paste'!E1001)","v":""},{"$f":"IF('SD Data Paste'!G1001=\"\",\"\",'SD Data Paste'!G1001)","v":""}]
[{"$f":"IF(Table1[विद्यार्थी का नाम]=\"\",\"\",ROWS($A$1:A1001))","v":""},{"$f":"IF('SD Data Paste'!A1002=\"\",\"\",'SD Data Paste'!A1002)","v":""},{"$f":"IF('SD Data Paste'!B1002=\"\",\"\",'SD Data Paste'!B1002)","v":""},1001,{"$f":"IF('SD Data Paste'!E1002=\"\",\"\",'SD Data Paste'!E1002)","v":""},{"$f":"IF('SD Data Paste'!G1002=\"\",\"\",'SD Data Paste'!G1002)","v":""}]
[{"$f":"IF(Table1[विद्यार्थी का नाम]=\"\",\"\",ROWS($A$1:A1002))","v":""},{"$f":"IF('SD Data Paste'!A1003=\"\",\"\",'SD Data Paste'!A1003)","v":""},{"$f":"IF('SD Data Paste'!B1003=\"\",\"\",'SD Data Paste'!B1003)","v":""},1002,{"$f":"IF('SD Data Paste'!E1003=\"\",\"\",'SD Data Paste'!E1003)","v":""},{"$f":"IF('SD Data Paste'!G1003=\"\",\"\",'SD Data Paste'!G1003)","v":""}]
[{"$f":"IF(Table1[विद्यार्थी का नाम]=\"\",\"\",ROWS($A$1:A1003))","v":""},{"$f":"IF('SD Data Paste'!A1004=\"\",\"\",'SD Data Paste'!A1004)","v":""},{"$f":"IF('SD Data Paste'!B1004=\"\",\"\",'SD Data Paste'!B1004)","v":""},1003,{"$f":"IF('SD Data Paste'!E1004=\"\",\"\",'SD Data Paste'!E1004)","v":""},{"$f":"IF('SD Data Paste'!G1004=\"\",\"\",'SD Data Paste'!G1004)","v":""}]
[{"$f":"IF(Table1[विद्यार्थी का नाम]=\"\",\"\",ROWS($A$1:A1004))","v":""},{"$f":"IF('SD Data Paste'!A1005=\"\",\"\",'SD Data Paste'!A1005)","v":""},{"$f":"IF('SD Data Paste'!B1005=\"\",\"\",'SD Data Paste'!B1005)","v":""},1004,{"$f":"IF('SD Data Paste'!E1005=\"\",\"\",'SD Data Paste'!E1005)","v":""},{"$f":"IF('SD Data Paste'!G1005=\"\",\"\",'SD Data Paste'!G1005)","v":""}]
[{"$f":"IF(Table1[विद्यार्थी का नाम]=\"\",\"\",ROWS($A$1:A1005))","v":""},{"$f":"IF('SD Data Paste'!A1006=\"\",\"\",'SD Data Paste'!A1006)","v":""},{"$f":"IF('SD Data Paste'!B1006=\"\",\"\",'SD Data Paste'!B1006)","v":""},1005,{"$f":"IF('SD Data Paste'!E1006=\"\",\"\",'SD Data Paste'!E1006)","v":""},{"$f":"IF('SD Data Paste'!G1006=\"\",\"\",'SD Data Paste'!G1006)","v":""}]
[{"$f":"IF(Table1[विद्यार्थी का नाम]=\"\",\"\",ROWS($A$1:A1006))","v":""},{"$f":"IF('SD Data Paste'!A1007=\"\",\"\",'SD Data Paste'!A1007)","v":""},{"$f":"IF('SD Data Paste'!B1007=\"\",\"\",'SD Data Paste'!B1007)","v":""},1006,{"$f":"IF('SD Data Paste'!E1007=\"\",\"\",'SD Data Paste'!E1007)","v":""},{"$f":"IF('SD Data Paste'!G1007=\"\",\"\",'SD Data Paste'!G1007)","v":""}]
[{"$f":"IF(Table1[विद्यार्थी का नाम]=\"\",\"\",ROWS($A$1:A1007))","v":""},{"$f":"IF('SD Data Paste'!A1008=\"\",\"\",'SD Data Paste'!A1008)","v":""},{"$f":"IF('SD Data Paste'!B1008=\"\",\"\",'SD Data Paste'!B1008)","v":""},1007,{"$f":"IF('SD Data Paste'!E1008=\"\",\"\",'SD Data Paste'!E1008)","v":""},{"$f":"IF('SD Data Paste'!G1008=\"\",\"\",'SD Data Paste'!G1008)","v":""}]
[{"$f":"IF(Table1[विद्यार्थी का नाम]=\"\",\"\",ROWS($A$1:A1008))","v":""},{"$f":"IF('SD Data Paste'!A1009=\"\",\"\",'SD Data Paste'!A1009)","v":""},{"$f":"IF('SD Data Paste'!B1009=\"\",\"\",'SD Data Paste'!B1009)","v":""},1008,{"$f":"IF('SD Data Paste'!E1009=\"\",\"\",'SD Data Paste'!E1009)","v":""},{"$f":"IF('SD Data Paste'!G1009=\"\",\"\",'SD Data Paste'!G1009)","v":""}]
[{"$f":"IF(Table1[विद्यार्थी का नाम]=\"\",\"\",ROWS($A$1:A1009))","v":""},{"$f":"IF('SD Data Paste'!A1010=\"\",\"\",'SD Data Paste'!A1010)","v":""},{"$f":"IF('SD Data Paste'!B1010=\"\",\"\",'SD Data Paste'!B1010)","v":""},1009,{"$f":"IF('SD Data Paste'!E1010=\"\",\"\",'SD Data Paste'!E1010)","v":""},{"$f":"IF('SD Data Paste'!G1010=\"\",\"\",'SD Data Paste'!G1010)","v":""}]
[{"$f":"IF(Table1[विद्यार्थी का नाम]=\"\",\"\",ROWS($A$1:A1010))","v":""},{"$f":"IF('SD Data Paste'!A1011=\"\",\"\",'SD Data Paste'!A1011)","v":""},{"$f":"IF('SD Data Paste'!B1011=\"\",\"\",'SD Data Paste'!B1011)","v":""},1010,{"$f":"IF('SD Data Paste'!E1011=\"\",\"\",'SD Data Paste'!E1011)","v":""},{"$f":"IF('SD Data Paste'!G1011=\"\",\"\",'SD Data Paste'!G1011)","v":""}]
[{"$f":"IF(Table1[विद्यार्थी का नाम]=\"\",\"\",ROWS($A$1:A1011))","v":""},{"$f":"IF('SD Data Paste'!A1012=\"\",\"\",'SD Data Paste'!A1012)","v":""},{"$f":"IF('SD Data Paste'!B1012=\"\",\"\",'SD Data Paste'!B1012)","v":""},1011,{"$f":"IF('SD Data Paste'!E1012=\"\",\"\",'SD Data Paste'!E1012)","v":""},{"$f":"IF('SD Data Paste'!G1012=\"\",\"\",'SD Data Paste'!G1012)","v":""}]
[{"$f":"IF(Table1[विद्यार्थी का नाम]=\"\",\"\",ROWS($A$1:A1012))","v":""},{"$f":"IF('SD Data Paste'!A1013=\"\",\"\",'SD Data Paste'!A1013)","v":""},{"$f":"IF('SD Data Paste'!B1013=\"\",\"\",'SD Data Paste'!B1013)","v":""},1012,{"$f":"IF('SD Data Paste'!E1013=\"\",\"\",'SD Data Paste'!E1013)","v":""},{"$f":"IF('SD Data Paste'!G1013=\"\",\"\",'SD Data Paste'!G1013)","v":""}]
[{"$f":"IF(Table1[विद्यार्थी का नाम]=\"\",\"\",ROWS($A$1:A1013))","v":""},{"$f":"IF('SD Data Paste'!A1014=\"\",\"\",'SD Data Paste'!A1014)","v":""},{"$f":"IF('SD Data Paste'!B1014=\"\",\"\",'SD Data Paste'!B1014)","v":""},1013,{"$f":"IF('SD Data Paste'!E1014=\"\",\"\",'SD Data Paste'!E1014)","v":""},{"$f":"IF('SD Data Paste'!G1014=\"\",\"\",'SD Data Paste'!G1014)","v":""}]
[{"$f":"IF(Table1[विद्यार्थी का नाम]=\"\",\"\",ROWS($A$1:A1014))","v":""},{"$f":"IF('SD Data Paste'!A1015=\"\",\"\",'SD Data Paste'!A1015)","v":""},{"$f":"IF('SD Data Paste'!B1015=\"\",\"\",'SD Data Paste'!B1015)","v":""},1014,{"$f":"IF('SD Data Paste'!E1015=\"\",\"\",'SD Data Paste'!E1015)","v":""},{"$f":"IF('SD Data Paste'!G1015=\"\",\"\",'SD Data Paste'!G1015)","v":""}]
[{"$f":"IF(Table1[विद्यार्थी का नाम]=\"\",\"\",ROWS($A$1:A1015))","v":""},{"$f":"IF('SD Data Paste'!A1016=\"\",\"\",'SD Data Paste'!A1016)","v":""},{"$f":"IF('SD Data Paste'!B1016=\"\",\"\",'SD Data Paste'!B1016)","v":""},1015,{"$f":"IF('SD Data Paste'!E1016=\"\",\"\",'SD Data Paste'!E1016)","v":""},{"$f":"IF('SD Data Paste'!G1016=\"\",\"\",'SD Data Paste'!G1016)","v":""}]
[{"$f":"IF(Table1[विद्यार्थी का नाम]=\"\",\"\",ROWS($A$1:A1016))","v":""},{"$f":"IF('SD Data Paste'!A1017=\"\",\"\",'SD Data Paste'!A1017)","v":""},{"$f":"IF('SD Data Paste'!B1017=\"\",\"\",'SD Data Paste'!B1017)","v":""},1016,{"$f":"IF('SD Data Paste'!E1017=\"\",\"\",'SD Data Paste'!E1017)","v":""},{"$f":"IF('SD Data Paste'!G1017=\"\",\"\",'SD Data Paste'!G1017)","v":""}]
[{"$f":"IF(Table1[विद्यार्थी का नाम]=\"\",\"\",ROWS($A$1:A1017))","v":""},{"$f":"IF('SD Data Paste'!A1018=\"\",\"\",'SD Data Paste'!A1018)","v":""},{"$f":"IF('SD Data Paste'!B1018=\"\",\"\",'SD Data Paste'!B1018)","v":""},1017,{"$f":"IF('SD Data Paste'!E1018=\"\",\"\",'SD Data Paste'!E1018)","v":""},{"$f":"IF('SD Data Paste'!G1018=\"\",\"\",'SD Data Paste'!G1018)","v":""}]
[{"$f":"IF(Table1[विद्यार्थी का नाम]=\"\",\"\",ROWS($A$1:A1018))","v":""},{"$f":"IF('SD Data Paste'!A1019=\"\",\"\",'SD Data Paste'!A1019)","v":""},{"$f":"IF('SD Data Paste'!B1019=\"\",\"\",'SD Data Paste'!B1019)","v":""},1018,{"$f":"IF('SD Data Paste'!E1019=\"\",\"\",'SD Data Paste'!E1019)","v":""},{"$f":"IF('SD Data Paste'!G1019=\"\",\"\",'SD Data Paste'!G1019)","v":""}]
[{"$f":"IF(Table1[विद्यार्थी का नाम]=\"\",\"\",ROWS($A$1:A1019))","v":""},{"$f":"IF('SD Data Paste'!A1020=\"\",\"\",'SD Data Paste'!A1020)","v":""},{"$f":"IF('SD Data Paste'!B1020=\"\",\"\",'SD Data Paste'!B1020)","v":""},1019,{"$f":"IF('SD Data Paste'!E1020=\"\",\"\",'SD Data Paste'!E1020)","v":""},{"$f":"IF('SD Data Paste'!G1020=\"\",\"\",'SD Data Paste'!G1020)","v":""}]
[{"$f":"IF(Table1[विद्यार्थी का नाम]=\"\",\"\",ROWS($A$1:A1020))","v":""},{"$f":"IF('SD Data Paste'!A1021=\"\",\"\",'SD Data Paste'!A1021)","v":""},{"$f":"IF('SD Data Paste'!B1021=\"\",\"\",'SD Data Paste'!B1021)","v":""},1020,{"$f":"IF('SD Data Paste'!E1021=\"\",\"\",'SD Data Paste'!E1021)","v":""},{"$f":"IF('SD Data Paste'!G1021=\"\",\"\",'SD Data Paste'!G1021)","v":""}]
[{"$f":"IF(Table1[विद्यार्थी का नाम]=\"\",\"\",ROWS($A$1:A1021))","v":""},{"$f":"IF('SD Data Paste'!A1022=\"\",\"\",'SD Data Paste'!A1022)","v":""},{"$f":"IF('SD Data Paste'!B1022=\"\",\"\",'SD Data Paste'!B1022)","v":""},1021,{"$f":"IF('SD Data Paste'!E1022=\"\",\"\",'SD Data Paste'!E1022)","v":""},{"$f":"IF('SD Data Paste'!G1022=\"\",\"\",'SD Data Paste'!G1022)","v":""}]
[{"$f":"IF(Table1[विद्यार्थी का नाम]=\"\",\"\",ROWS($A$1:A1022))","v":""},{"$f":"IF('SD Data Paste'!A1023=\"\",\"\",'SD Data Paste'!A1023)","v":""},{"$f":"IF('SD Data Paste'!B1023=\"\",\"\",'SD Data Paste'!B1023)","v":""},1022,{"$f":"IF('SD Data Paste'!E1023=\"\",\"\",'SD Data Paste'!E1023)","v":""},{"$f":"IF('SD Data Paste'!G1023=\"\",\"\",'SD Data Paste'!G1023)","v":""}]
[{"$f":"IF(Table1[विद्यार्थी का नाम]=\"\",\"\",ROWS($A$1:A1023))","v":""},{"$f":"IF('SD Data Paste'!A1024=\"\",\"\",'SD Data Paste'!A1024)","v":""},{"$f":"IF('SD Data Paste'!B1024=\"\",\"\",'SD Data Paste'!B1024)","v":""},1023,{"$f":"IF('SD Data Paste'!E1024=\"\",\"\",'SD Data Paste'!E1024)","v":""},{"$f":"IF('SD Data Paste'!G1024=\"\",\"\",'SD Data Paste'!G1024)","v":""}]
[{"$f":"IF(Table1[विद्यार्थी का नाम]=\"\",\"\",ROWS($A$1:A1024))","v":""},{"$f":"IF('SD Data Paste'!A1025=\"\",\"\",'SD Data Paste'!A1025)","v":""},{"$f":"IF('SD Data Paste'!B1025=\"\",\"\",'SD Data Paste'!B1025)","v":""},1024,{"$f":"IF('SD Data Paste'!E1025=\"\",\"\",'SD Data Paste'!E1025)","v":""},{"$f":"IF('SD Data Paste'!G1025=\"\",\"\",'SD Data Paste'!G1025)","v":""}]
[{"$f":"IF(Table1[विद्यार्थी का नाम]=\"\",\"\",ROWS($A$1:A1025))","v":""},{"$f":"IF('SD Data Paste'!A1026=\"\",\"\",'SD Data Paste'!A1026)","v":""},{"$f":"IF('SD Data Paste'!B1026=\"\",\"\",'SD Data Paste'!B1026)","v":""},1025,{"$f":"IF('SD Data Paste'!E1026=\"\",\"\",'SD Data Paste'!E1026)","v":""},{"$f":"IF('SD Data Paste'!G1026=\"\",\"\",'SD Data Paste'!G1026)","v":""}]
[{"$f":"IF(Table1[विद्यार्थी का नाम]=\"\",\"\",ROWS($A$1:A1026))","v":""},{"$f":"IF('SD Data Paste'!A1027=\"\",\"\",'SD Data Paste'!A1027)","v":""},{"$f":"IF('SD Data Paste'!B1027=\"\",\"\",'SD Data Paste'!B1027)","v":""},1026,{"$f":"IF('SD Data Paste'!E1027=\"\",\"\",'SD Data Paste'!E1027)","v":""},{"$f":"IF('SD Data Paste'!G1027=\"\",\"\",'SD Data Paste'!G1027)","v":""}]
[{"$f":"IF(Table1[विद्यार्थी का नाम]=\"\",\"\",ROWS($A$1:A1027))","v":""},{"$f":"IF('SD Data Paste'!A1028=\"\",\"\",'SD Data Paste'!A1028)","v":""},{"$f":"IF('SD Data Paste'!B1028=\"\",\"\",'SD Data Paste'!B1028)","v":""},{"$f":"IF(D1029=\"\",\"\",D1029+1)","v":1027},{"$f":"IF('SD Data Paste'!E1028=\"\",\"\",'SD Data Paste'!E1028)","v":""},{"$f":"IF('SD Data Paste'!G1028=\"\",\"\",'SD Data Paste'!G1028)","v":""}]
[{"$f":"IF(Table1[विद्यार्थी का नाम]=\"\",\"\",ROWS($A$1:A1028))","v":""},{"$f":"IF('SD Data Paste'!A1029=\"\",\"\",'SD Data Paste'!A1029)","v":""},{"$f":"IF('SD Data Paste'!B1029=\"\",\"\",'SD Data Paste'!B1029)","v":""},1028,{"$f":"IF('SD Data Paste'!E1029=\"\",\"\",'SD Data Paste'!E1029)","v":""},{"$f":"IF('SD Data Paste'!G1029=\"\",\"\",'SD Data Paste'!G1029)","v":""}]
[{"$f":"IF(Table1[विद्यार्थी का नाम]=\"\",\"\",ROWS($A$1:A1029))","v":""},{"$f":"IF('SD Data Paste'!A1030=\"\",\"\",'SD Data Paste'!A1030)","v":""},{"$f":"IF('SD Data Paste'!B1030=\"\",\"\",'SD Data Paste'!B1030)","v":""},1029,{"$f":"IF('SD Data Paste'!E1030=\"\",\"\",'SD Data Paste'!E1030)","v":""},{"$f":"IF('SD Data Paste'!G1030=\"\",\"\",'SD Data Paste'!G1030)","v":""}]
[{"$f":"IF(Table1[विद्यार्थी का नाम]=\"\",\"\",ROWS($A$1:A1030))","v":""},{"$f":"IF('SD Data Paste'!A1031=\"\",\"\",'SD Data Paste'!A1031)","v":""},{"$f":"IF('SD Data Paste'!B1031=\"\",\"\",'SD Data Paste'!B1031)","v":""},1030,{"$f":"IF('SD Data Paste'!E1031=\"\",\"\",'SD Data Paste'!E1031)","v":""},{"$f":"IF('SD Data Paste'!G1031=\"\",\"\",'SD Data Paste'!G1031)","v":""}]
[{"$f":"IF(Table1[विद्यार्थी का नाम]=\"\",\"\",ROWS($A$1:A1031))","v":""},{"$f":"IF('SD Data Paste'!A1032=\"\",\"\",'SD Data Paste'!A1032)","v":""},{"$f":"IF('SD Data Paste'!B1032=\"\",\"\",'SD Data Paste'!B1032)","v":""},1031,{"$f":"IF('SD Data Paste'!E1032=\"\",\"\",'SD Data Paste'!E1032)","v":""},{"$f":"IF('SD Data Paste'!G1032=\"\",\"\",'SD Data Paste'!G1032)","v":""}]
[{"$f":"IF(Table1[विद्यार्थी का नाम]=\"\",\"\",ROWS($A$1:A1032))","v":""},{"$f":"IF('SD Data Paste'!A1033=\"\",\"\",'SD Data Paste'!A1033)","v":""},{"$f":"IF('SD Data Paste'!B1033=\"\",\"\",'SD Data Paste'!B1033)","v":""},1032,{"$f":"IF('SD Data Paste'!E1033=\"\",\"\",'SD Data Paste'!E1033)","v":""},{"$f":"IF('SD Data Paste'!G1033=\"\",\"\",'SD Data Paste'!G1033)","v":""}]
[{"$f":"IF(Table1[विद्यार्थी का नाम]=\"\",\"\",ROWS($A$1:A1033))","v":""},{"$f":"IF('SD Data Paste'!A1034=\"\",\"\",'SD Data Paste'!A1034)","v":""},{"$f":"IF('SD Data Paste'!B1034=\"\",\"\",'SD Data Paste'!B1034)","v":""},1033,{"$f":"IF('SD Data Paste'!E1034=\"\",\"\",'SD Data Paste'!E1034)","v":""},{"$f":"IF('SD Data Paste'!G1034=\"\",\"\",'SD Data Paste'!G1034)","v":""}]
[{"$f":"IF(Table1[विद्यार्थी का नाम]=\"\",\"\",ROWS($A$1:A1034))","v":""},{"$f":"IF('SD Data Paste'!A1035=\"\",\"\",'SD Data Paste'!A1035)","v":""},{"$f":"IF('SD Data Paste'!B1035=\"\",\"\",'SD Data Paste'!B1035)","v":""},1034,{"$f":"IF('SD Data Paste'!E1035=\"\",\"\",'SD Data Paste'!E1035)","v":""},{"$f":"IF('SD Data Paste'!G1035=\"\",\"\",'SD Data Paste'!G1035)","v":""}]
[{"$f":"IF(Table1[विद्यार्थी का नाम]=\"\",\"\",ROWS($A$1:A1035))","v":""},{"$f":"IF('SD Data Paste'!A1036=\"\",\"\",'SD Data Paste'!A1036)","v":""},{"$f":"IF('SD Data Paste'!B1036=\"\",\"\",'SD Data Paste'!B1036)","v":""},1035,{"$f":"IF('SD Data Paste'!E1036=\"\",\"\",'SD Data Paste'!E1036)","v":""},{"$f":"IF('SD Data Paste'!G1036=\"\",\"\",'SD Data Paste'!G1036)","v":""}]
[{"$f":"IF(Table1[विद्यार्थी का नाम]=\"\",\"\",ROWS($A$1:A1036))","v":""},{"$f":"IF('SD Data Paste'!A1037=\"\",\"\",'SD Data Paste'!A1037)","v":""},{"$f":"IF('SD Data Paste'!B1037=\"\",\"\",'SD Data Paste'!B1037)","v":""},1036,{"$f":"IF('SD Data Paste'!E1037=\"\",\"\",'SD Data Paste'!E1037)","v":""},{"$f":"IF('SD Data Paste'!G1037=\"\",\"\",'SD Data Paste'!G1037)","v":""}]
[{"$f":"IF(Table1[विद्यार्थी का नाम]=\"\",\"\",ROWS($A$1:A1037))","v":""},{"$f":"IF('SD Data Paste'!A1038=\"\",\"\",'SD Data Paste'!A1038)","v":""},{"$f":"IF('SD Data Paste'!B1038=\"\",\"\",'SD Data Paste'!B1038)","v":""},1037,{"$f":"IF('SD Data Paste'!E1038=\"\",\"\",'SD Data Paste'!E1038)","v":""},{"$f":"IF('SD Data Paste'!G1038=\"\",\"\",'SD Data Paste'!G1038)","v":""}]
[{"$f":"IF(Table1[विद्यार्थी का नाम]=\"\",\"\",ROWS($A$1:A1038))","v":""},{"$f":"IF('SD Data Paste'!A1039=\"\",\"\",'SD Data Paste'!A1039)","v":""},{"$f":"IF('SD Data Paste'!B1039=\"\",\"\",'SD Data Paste'!B1039)","v":""},1038,{"$f":"IF('SD Data Paste'!E1039=\"\",\"\",'SD Data Paste'!E1039)","v":""},{"$f":"IF('SD Data Paste'!G1039=\"\",\"\",'SD Data Paste'!G1039)","v":""}]
[{"$f":"IF(Table1[विद्यार्थी का नाम]=\"\",\"\",ROWS($A$1:A1039))","v":""},{"$f":"IF('SD Data Paste'!A1040=\"\",\"\",'SD Data Paste'!A1040)","v":""},{"$f":"IF('SD Data Paste'!B1040=\"\",\"\",'SD Data Paste'!B1040)","v":""},1039,{"$f":"IF('SD Data Paste'!E1040=\"\",\"\",'SD Data Paste'!E1040)","v":""},{"$f":"IF('SD Data Paste'!G1040=\"\",\"\",'SD Data Paste'!G1040)","v":""}]
[{"$f":"IF(Table1[विद्यार्थी का नाम]=\"\",\"\",ROWS($A$1:A1040))","v":""},{"$f":"IF('SD Data Paste'!A1041=\"\",\"\",'SD Data Paste'!A1041)","v":""},{"$f":"IF('SD Data Paste'!B1041=\"\",\"\",'SD Data Paste'!B1041)","v":""},1040,{"$f":"IF('SD Data Paste'!E1041=\"\",\"\",'SD Data Paste'!E1041)","v":""},{"$f":"IF('SD Data Paste'!G1041=\"\",\"\",'SD Data Paste'!G1041)","v":""}]
[{"$f":"IF(Table1[विद्यार्थी का नाम]=\"\",\"\",ROWS($A$1:A1041))","v":""},{"$f":"IF('SD Data Paste'!A1042=\"\",\"\",'SD Data Paste'!A1042)","v":""},{"$f":"IF('SD Data Paste'!B1042=\"\",\"\",'SD Data Paste'!B1042)","v":""},1041,{"$f":"IF('SD Data Paste'!E1042=\"\",\"\",'SD Data Paste'!E1042)","v":""},{"$f":"IF('SD Data Paste'!G1042=\"\",\"\",'SD Data Paste'!G1042)","v":""}]
[{"$f":"IF(Table1[विद्यार्थी का नाम]=\"\",\"\",ROWS($A$1:A1042))","v":""},{"$f":"IF('SD Data Paste'!A1043=\"\",\"\",'SD Data Paste'!A1043)","v":""},{"$f":"IF('SD Data Paste'!B1043=\"\",\"\",'SD Data Paste'!B1043)","v":""},1042,{"$f":"IF('SD Data Paste'!E1043=\"\",\"\",'SD Data Paste'!E1043)","v":""},{"$f":"IF('SD Data Paste'!G1043=\"\",\"\",'SD Data Paste'!G1043)","v":""}]
[{"$f":"IF(Table1[विद्यार्थी का नाम]=\"\",\"\",ROWS($A$1:A1043))","v":""},{"$f":"IF('SD Data Paste'!A1044=\"\",\"\",'SD Data Paste'!A1044)","v":""},{"$f":"IF('SD Data Paste'!B1044=\"\",\"\",'SD Data Paste'!B1044)","v":""},1043,{"$f":"IF('SD Data Paste'!E1044=\"\",\"\",'SD Data Paste'!E1044)","v":""},{"$f":"IF('SD Data Paste'!G1044=\"\",\"\",'SD Data Paste'!G1044)","v":""}]
[{"$f":"IF(Table1[विद्यार्थी का नाम]=\"\",\"\",ROWS($A$1:A1044))","v":""},{"$f":"IF('SD Data Paste'!A1045=\"\",\"\",'SD Data Paste'!A1045)","v":""},{"$f":"IF('SD Data Paste'!B1045=\"\",\"\",'SD Data Paste'!B1045)","v":""},1044,{"$f":"IF('SD Data Paste'!E1045=\"\",\"\",'SD Data Paste'!E1045)","v":""},{"$f":"IF('SD Data Paste'!G1045=\"\",\"\",'SD Data Paste'!G1045)","v":""}]
[{"$f":"IF(Table1[विद्यार्थी का नाम]=\"\",\"\",ROWS($A$1:A1045))","v":""},{"$f":"IF('SD Data Paste'!A1046=\"\",\"\",'SD Data Paste'!A1046)","v":""},{"$f":"IF('SD Data Paste'!B1046=\"\",\"\",'SD Data Paste'!B1046)","v":""},1045,{"$f":"IF('SD Data Paste'!E1046=\"\",\"\",'SD Data Paste'!E1046)","v":""},{"$f":"IF('SD Data Paste'!G1046=\"\",\"\",'SD Data Paste'!G1046)","v":""}]
[{"$f":"IF(Table1[विद्यार्थी का नाम]=\"\",\"\",ROWS($A$1:A1046))","v":""},{"$f":"IF('SD Data Paste'!A1047=\"\",\"\",'SD Data Paste'!A1047)","v":""},{"$f":"IF('SD Data Paste'!B1047=\"\",\"\",'SD Data Paste'!B1047)","v":""},1046,{"$f":"IF('SD Data Paste'!E1047=\"\",\"\",'SD Data Paste'!E1047)","v":""},{"$f":"IF('SD Data Paste'!G1047=\"\",\"\",'SD Data Paste'!G1047)","v":""}]
[{"$f":"IF(Table1[विद्यार्थी का नाम]=\"\",\"\",ROWS($A$1:A1047))","v":""},{"$f":"IF('SD Data Paste'!A1048=\"\",\"\",'SD Data Paste'!A1048)","v":""},{"$f":"IF('SD Data Paste'!B1048=\"\",\"\",'SD Data Paste'!B1048)","v":""},1047,{"$f":"IF('SD Data Paste'!E1048=\"\",\"\",'SD Data Paste'!E1048)","v":""},{"$f":"IF('SD Data Paste'!G1048=\"\",\"\",'SD Data Paste'!G1048)","v":""}]
[{"$f":"IF(Table1[विद्यार्थी का नाम]=\"\",\"\",ROWS($A$1:A1048))","v":""},{"$f":"IF('SD Data Paste'!A1049=\"\",\"\",'SD Data Paste'!A1049)","v":""},{"$f":"IF('SD Data Paste'!B1049=\"\",\"\",'SD Data Paste'!B1049)","v":""},1048,{"$f":"IF('SD Data Paste'!E1049=\"\",\"\",'SD Data Paste'!E1049)","v":""},{"$f":"IF('SD Data Paste'!G1049=\"\",\"\",'SD Data Paste'!G1049)","v":""}]
[{"$f":"IF(Table1[विद्यार्थी का नाम]=\"\",\"\",ROWS($A$1:A1049))","v":""},{"$f":"IF('SD Data Paste'!A1050=\"\",\"\",'SD Data Paste'!A1050)","v":""},{"$f":"IF('SD Data Paste'!B1050=\"\",\"\",'SD Data Paste'!B1050)","v":""},1049,{"$f":"IF('SD Data Paste'!E1050=\"\",\"\",'SD Data Paste'!E1050)","v":""},{"$f":"IF('SD Data Paste'!G1050=\"\",\"\",'SD Data Paste'!G1050)","v":""}]
[{"$f":"IF(Table1[विद्यार्थी का नाम]=\"\",\"\",ROWS($A$1:A1050))","v":""},{"$f":"IF('SD Data Paste'!A1051=\"\",\"\",'SD Data Paste'!A1051)","v":""},{"$f":"IF('SD Data Paste'!B1051=\"\",\"\",'SD Data Paste'!B1051)","v":""},1050,{"$f":"IF('SD Data Paste'!E1051=\"\",\"\",'SD Data Paste'!E1051)","v":""},{"$f":"IF('SD Data Paste'!G1051=\"\",\"\",'SD Data Paste'!G1051)","v":""}]
[{"$f":"IF(Table1[विद्यार्थी का नाम]=\"\",\"\",ROWS($A$1:A1051))","v":""},{"$f":"IF('SD Data Paste'!A1052=\"\",\"\",'SD Data Paste'!A1052)","v":""},{"$f":"IF('SD Data Paste'!B1052=\"\",\"\",'SD Data Paste'!B1052)","v":""},1051,{"$f":"IF('SD Data Paste'!E1052=\"\",\"\",'SD Data Paste'!E1052)","v":""},{"$f":"IF('SD Data Paste'!G1052=\"\",\"\",'SD Data Paste'!G1052)","v":""}]
[{"$f":"IF(Table1[विद्यार्थी का नाम]=\"\",\"\",ROWS($A$1:A1052))","v":""},{"$f":"IF('SD Data Paste'!A1053=\"\",\"\",'SD Data Paste'!A1053)","v":""},{"$f":"IF('SD Data Paste'!B1053=\"\",\"\",'SD Data Paste'!B1053)","v":""},1052,{"$f":"IF('SD Data Paste'!E1053=\"\",\"\",'SD Data Paste'!E1053)","v":""},{"$f":"IF('SD Data Paste'!G1053=\"\",\"\",'SD Data Paste'!G1053)","v":""}]
[{"$f":"IF(Table1[विद्यार्थी का नाम]=\"\",\"\",ROWS($A$1:A1053))","v":""},{"$f":"IF('SD Data Paste'!A1054=\"\",\"\",'SD Data Paste'!A1054)","v":""},{"$f":"IF('SD Data Paste'!B1054=\"\",\"\",'SD Data Paste'!B1054)","v":""},1053,{"$f":"IF('SD Data Paste'!E1054=\"\",\"\",'SD Data Paste'!E1054)","v":""},{"$f":"IF('SD Data Paste'!G1054=\"\",\"\",'SD Data Paste'!G1054)","v":""}]
[{"$f":"IF(Table1[विद्यार्थी का नाम]=\"\",\"\",ROWS($A$1:A1054))","v":""},{"$f":"IF('SD Data Paste'!A1055=\"\",\"\",'SD Data Paste'!A1055)","v":""},{"$f":"IF('SD Data Paste'!B1055=\"\",\"\",'SD Data Paste'!B1055)","v":""},1054,{"$f":"IF('SD Data Paste'!E1055=\"\",\"\",'SD Data Paste'!E1055)","v":""},{"$f":"IF('SD Data Paste'!G1055=\"\",\"\",'SD Data Paste'!G1055)","v":""}]
[{"$f":"IF(Table1[विद्यार्थी का नाम]=\"\",\"\",ROWS($A$1:A1055))","v":""},{"$f":"IF('SD Data Paste'!A1056=\"\",\"\",'SD Data Paste'!A1056)","v":""},{"$f":"IF('SD Data Paste'!B1056=\"\",\"\",'SD Data Paste'!B1056)","v":""},1055,{"$f":"IF('SD Data Paste'!E1056=\"\",\"\",'SD Data Paste'!E1056)","v":""},{"$f":"IF('SD Data Paste'!G1056=\"\",\"\",'SD Data Paste'!G1056)","v":""}]
[{"$f":"IF(Table1[विद्यार्थी का नाम]=\"\",\"\",ROWS($A$1:A1056))","v":""},{"$f":"IF('SD Data Paste'!A1057=\"\",\"\",'SD Data Paste'!A1057)","v":""},{"$f":"IF('SD Data Paste'!B1057=\"\",\"\",'SD Data Paste'!B1057)","v":""},1056,{"$f":"IF('SD Data Paste'!E1057=\"\",\"\",'SD Data Paste'!E1057)","v":""},{"$f":"IF('SD Data Paste'!G1057=\"\",\"\",'SD Data Paste'!G1057)","v":""}]
[{"$f":"IF(Table1[विद्यार्थी का नाम]=\"\",\"\",ROWS($A$1:A1057))","v":""},{"$f":"IF('SD Data Paste'!A1058=\"\",\"\",'SD Data Paste'!A1058)","v":""},{"$f":"IF('SD Data Paste'!B1058=\"\",\"\",'SD Data Paste'!B1058)","v":""},1057,{"$f":"IF('SD Data Paste'!E1058=\"\",\"\",'SD Data Paste'!E1058)","v":""},{"$f":"IF('SD Data Paste'!G1058=\"\",\"\",'SD Data Paste'!G1058)","v":""}]
[{"$f":"IF(Table1[विद्यार्थी का नाम]=\"\",\"\",ROWS($A$1:A1058))","v":""},{"$f":"IF('SD Data Paste'!A1059=\"\",\"\",'SD Data Paste'!A1059)","v":""},{"$f":"IF('SD Data Paste'!B1059=\"\",\"\",'SD Data Paste'!B1059)","v":""},1058,{"$f":"IF('SD Data Paste'!E1059=\"\",\"\",'SD Data Paste'!E1059)","v":""},{"$f":"IF('SD Data Paste'!G1059=\"\",\"\",'SD Data Paste'!G1059)","v":""}]
[{"$f":"IF(Table1[विद्यार्थी का नाम]=\"\",\"\",ROWS($A$1:A1059))","v":""},{"$f":"IF('SD Data Paste'!A1060=\"\",\"\",'SD Data Paste'!A1060)","v":""},{"$f":"IF('SD Data Paste'!B1060=\"\",\"\",'SD Data Paste'!B1060)","v":""},1059,{"$f":"IF('SD Data Paste'!E1060=\"\",\"\",'SD Data Paste'!E1060)","v":""},{"$f":"IF('SD Data Paste'!G1060=\"\",\"\",'SD Data Paste'!G1060)","v":""}]
[{"$f":"IF(Table1[विद्यार्थी का नाम]=\"\",\"\",ROWS($A$1:A1060))","v":""},{"$f":"IF('SD Data Paste'!A1061=\"\",\"\",'SD Data Paste'!A1061)","v":""},{"$f":"IF('SD Data Paste'!B1061=\"\",\"\",'SD Data Paste'!B1061)","v":""},1060,{"$f":"IF('SD Data Paste'!E1061=\"\",\"\",'SD Data Paste'!E1061)","v":""},{"$f":"IF('SD Data Paste'!G1061=\"\",\"\",'SD Data Paste'!G1061)","v":""}]
[{"$f":"IF(Table1[विद्यार्थी का नाम]=\"\",\"\",ROWS($A$1:A1061))","v":""},{"$f":"IF('SD Data Paste'!A1062=\"\",\"\",'SD Data Paste'!A1062)","v":""},{"$f":"IF('SD Data Paste'!B1062=\"\",\"\",'SD Data Paste'!B1062)","v":""},1061,{"$f":"IF('SD Data Paste'!E1062=\"\",\"\",'SD Data Paste'!E1062)","v":""},{"$f":"IF('SD Data Paste'!G1062=\"\",\"\",'SD Data Paste'!G1062)","v":""}]
[{"$f":"IF(Table1[विद्यार्थी का नाम]=\"\",\"\",ROWS($A$1:A1062))","v":""},{"$f":"IF('SD Data Paste'!A1063=\"\",\"\",'SD Data Paste'!A1063)","v":""},{"$f":"IF('SD Data Paste'!B1063=\"\",\"\",'SD Data Paste'!B1063)","v":""},1062,{"$f":"IF('SD Data Paste'!E1063=\"\",\"\",'SD Data Paste'!E1063)","v":""},{"$f":"IF('SD Data Paste'!G1063=\"\",\"\",'SD Data Paste'!G1063)","v":""}]
[{"$f":"IF(Table1[विद्यार्थी का नाम]=\"\",\"\",ROWS($A$1:A1063))","v":""},{"$f":"IF('SD Data Paste'!A1064=\"\",\"\",'SD Data Paste'!A1064)","v":""},{"$f":"IF('SD Data Paste'!B1064=\"\",\"\",'SD Data Paste'!B1064)","v":""},1063,{"$f":"IF('SD Data Paste'!E1064=\"\",\"\",'SD Data Paste'!E1064)","v":""},{"$f":"IF('SD Data Paste'!G1064=\"\",\"\",'SD Data Paste'!G1064)","v":""}]
[{"$f":"IF(Table1[विद्यार्थी का नाम]=\"\",\"\",ROWS($A$1:A1064))","v":""},{"$f":"IF('SD Data Paste'!A1065=\"\",\"\",'SD Data Paste'!A1065)","v":""},{"$f":"IF('SD Data Paste'!B1065=\"\",\"\",'SD Data Paste'!B1065)","v":""},1064,{"$f":"IF('SD Data Paste'!E1065=\"\",\"\",'SD Data Paste'!E1065)","v":""},{"$f":"IF('SD Data Paste'!G1065=\"\",\"\",'SD Data Paste'!G1065)","v":""}]
[{"$f":"IF(Table1[विद्यार्थी का नाम]=\"\",\"\",ROWS($A$1:A1065))","v":""},{"$f":"IF('SD Data Paste'!A1066=\"\",\"\",'SD Data Paste'!A1066)","v":""},{"$f":"IF('SD Data Paste'!B1066=\"\",\"\",'SD Data Paste'!B1066)","v":""},1065,{"$f":"IF('SD Data Paste'!E1066=\"\",\"\",'SD Data Paste'!E1066)","v":""},{"$f":"IF('SD Data Paste'!G1066=\"\",\"\",'SD Data Paste'!G1066)","v":""}]
[{"$f":"IF(Table1[विद्यार्थी का नाम]=\"\",\"\",ROWS($A$1:A1066))","v":""},{"$f":"IF('SD Data Paste'!A1067=\"\",\"\",'SD Data Paste'!A1067)","v":""},{"$f":"IF('SD Data Paste'!B1067=\"\",\"\",'SD Data Paste'!B1067)","v":""},1066,{"$f":"IF('SD Data Paste'!E1067=\"\",\"\",'SD Data Paste'!E1067)","v":""},{"$f":"IF('SD Data Paste'!G1067=\"\",\"\",'SD Data Paste'!G1067)","v":""}]
[{"$f":"IF(Table1[विद्यार्थी का नाम]=\"\",\"\",ROWS($A$1:A1067))","v":""},{"$f":"IF('SD Data Paste'!A1068=\"\",\"\",'SD Data Paste'!A1068)","v":""},{"$f":"IF('SD Data Paste'!B1068=\"\",\"\",'SD Data Paste'!B1068)","v":""},1067,{"$f":"IF('SD Data Paste'!E1068=\"\",\"\",'SD Data Paste'!E1068)","v":""},{"$f":"IF('SD Data Paste'!G1068=\"\",\"\",'SD Data Paste'!G1068)","v":""}]
[{"$f":"IF(Table1[विद्यार्थी का नाम]=\"\",\"\",ROWS($A$1:A1068))","v":""},{"$f":"IF('SD Data Paste'!A1069=\"\",\"\",'SD Data Paste'!A1069)","v":""},{"$f":"IF('SD Data Paste'!B1069=\"\",\"\",'SD Data Paste'!B1069)","v":""},1068,{"$f":"IF('SD Data Paste'!E1069=\"\",\"\",'SD Data Paste'!E1069)","v":""},{"$f":"IF('SD Data Paste'!G1069=\"\",\"\",'SD Data Paste'!G1069)","v":""}]
[{"$f":"IF(Table1[विद्यार्थी का नाम]=\"\",\"\",ROWS($A$1:A1069))","v":""},{"$f":"IF('SD Data Paste'!A1070=\"\",\"\",'SD Data Paste'!A1070)","v":""},{"$f":"IF('SD Data Paste'!B1070=\"\",\"\",'SD Data Paste'!B1070)","v":""},1069,{"$f":"IF('SD Data Paste'!E1070=\"\",\"\",'SD Data Paste'!E1070)","v":""},{"$f":"IF('SD Data Paste'!G1070=\"\",\"\",'SD Data Paste'!G1070)","v":""}]
[{"$f":"IF(Table1[विद्यार्थी का नाम]=\"\",\"\",ROWS($A$1:A1070))","v":""},{"$f":"IF('SD Data Paste'!A1071=\"\",\"\",'SD Data Paste'!A1071)","v":""},{"$f":"IF('SD Data Paste'!B1071=\"\",\"\",'SD Data Paste'!B1071)","v":""},1070,{"$f":"IF('SD Data Paste'!E1071=\"\",\"\",'SD Data Paste'!E1071)","v":""},{"$f":"IF('SD Data Paste'!G1071=\"\",\"\",'SD Data Paste'!G1071)","v":""}]
[{"$f":"IF(Table1[विद्यार्थी का नाम]=\"\",\"\",ROWS($A$1:A1071))","v":""},{"$f":"IF('SD Data Paste'!A1072=\"\",\"\",'SD Data Paste'!A1072)","v":""},{"$f":"IF('SD Data Paste'!B1072=\"\",\"\",'SD Data Paste'!B1072)","v":""},1071,{"$f":"IF('SD Data Paste'!E1072=\"\",\"\",'SD Data Paste'!E1072)","v":""},{"$f":"IF('SD Data Paste'!G1072=\"\",\"\",'SD Data Paste'!G1072)","v":""}]
[{"$f":"IF(Table1[विद्यार्थी का नाम]=\"\",\"\",ROWS($A$1:A1072))","v":""},{"$f":"IF('SD Data Paste'!A1073=\"\",\"\",'SD Data Paste'!A1073)","v":""},{"$f":"IF('SD Data Paste'!B1073=\"\",\"\",'SD Data Paste'!B1073)","v":""},1072,{"$f":"IF('SD Data Paste'!E1073=\"\",\"\",'SD Data Paste'!E1073)","v":""},{"$f":"IF('SD Data Paste'!G1073=\"\",\"\",'SD Data Paste'!G1073)","v":""}]
[{"$f":"IF(Table1[विद्यार्थी का नाम]=\"\",\"\",ROWS($A$1:A1073))","v":""},{"$f":"IF('SD Data Paste'!A1074=\"\",\"\",'SD Data Paste'!A1074)","v":""},{"$f":"IF('SD Data Paste'!B1074=\"\",\"\",'SD Data Paste'!B1074)","v":""},1073,{"$f":"IF('SD Data Paste'!E1074=\"\",\"\",'SD Data Paste'!E1074)","v":""},{"$f":"IF('SD Data Paste'!G1074=\"\",\"\",'SD Data Paste'!G1074)","v":""}]
[{"$f":"IF(Table1[विद्यार्थी का नाम]=\"\",\"\",ROWS($A$1:A1074))","v":""},{"$f":"IF('SD Data Paste'!A1075=\"\",\"\",'SD Data Paste'!A1075)","v":""},{"$f":"IF('SD Data Paste'!B1075=\"\",\"\",'SD Data Paste'!B1075)","v":""},1074,{"$f":"IF('SD Data Paste'!E1075=\"\",\"\",'SD Data Paste'!E1075)","v":""},{"$f":"IF('SD Data Paste'!G1075=\"\",\"\",'SD Data Paste'!G1075)","v":""}]
[{"$f":"IF(Table1[विद्यार्थी का नाम]=\"\",\"\",ROWS($A$1:A1075))","v":""},{"$f":"IF('SD Data Paste'!A1076=\"\",\"\",'SD Data Paste'!A1076)","v":""},{"$f":"IF('SD Data Paste'!B1076=\"\",\"\",'SD Data Paste'!B1076)","v":""},1075,{"$f":"IF('SD Data Paste'!E1076=\"\",\"\",'SD Data Paste'!E1076)","v":""},{"$f":"IF('SD Data Paste'!G1076=\"\",\"\",'SD Data Paste'!G1076)","v":""}]
[{"$f":"IF(Table1[विद्यार्थी का नाम]=\"\",\"\",ROWS($A$1:A1076))","v":""},{"$f":"IF('SD Data Paste'!A1077=\"\",\"\",'SD Data Paste'!A1077)","v":""},{"$f":"IF('SD Data Paste'!B1077=\"\",\"\",'SD Data Paste'!B1077)","v":""},1076,{"$f":"IF('SD Data Paste'!E1077=\"\",\"\",'SD Data Paste'!E1077)","v":""},{"$f":"IF('SD Data Paste'!G1077=\"\",\"\",'SD Data Paste'!G1077)","v":""}]
[{"$f":"IF(Table1[विद्यार्थी का नाम]=\"\",\"\",ROWS($A$1:A1077))","v":""},{"$f":"IF('SD Data Paste'!A1078=\"\",\"\",'SD Data Paste'!A1078)","v":""},{"$f":"IF('SD Data Paste'!B1078=\"\",\"\",'SD Data Paste'!B1078)","v":""},1077,{"$f":"IF('SD Data Paste'!E1078=\"\",\"\",'SD Data Paste'!E1078)","v":""},{"$f":"IF('SD Data Paste'!G1078=\"\",\"\",'SD Data Paste'!G1078)","v":""}]
[{"$f":"IF(Table1[विद्यार्थी का नाम]=\"\",\"\",ROWS($A$1:A1078))","v":""},{"$f":"IF('SD Data Paste'!A1079=\"\",\"\",'SD Data Paste'!A1079)","v":""},{"$f":"IF('SD Data Paste'!B1079=\"\",\"\",'SD Data Paste'!B1079)","v":""},1078,{"$f":"IF('SD Data Paste'!E1079=\"\",\"\",'SD Data Paste'!E1079)","v":""},{"$f":"IF('SD Data Paste'!G1079=\"\",\"\",'SD Data Paste'!G1079)","v":""}]
[{"$f":"IF(Table1[विद्यार्थी का नाम]=\"\",\"\",ROWS($A$1:A1079))","v":""},{"$f":"IF('SD Data Paste'!A1080=\"\",\"\",'SD Data Paste'!A1080)","v":""},{"$f":"IF('SD Data Paste'!B1080=\"\",\"\",'SD Data Paste'!B1080)","v":""},1079,{"$f":"IF('SD Data Paste'!E1080=\"\",\"\",'SD Data Paste'!E1080)","v":""},{"$f":"IF('SD Data Paste'!G1080=\"\",\"\",'SD Data Paste'!G1080)","v":""}]
[{"$f":"IF(Table1[विद्यार्थी का नाम]=\"\",\"\",ROWS($A$1:A1080))","v":""},{"$f":"IF('SD Data Paste'!A1081=\"\",\"\",'SD Data Paste'!A1081)","v":""},{"$f":"IF('SD Data Paste'!B1081=\"\",\"\",'SD Data Paste'!B1081)","v":""},1080,{"$f":"IF('SD Data Paste'!E1081=\"\",\"\",'SD Data Paste'!E1081)","v":""},{"$f":"IF('SD Data Paste'!G1081=\"\",\"\",'SD Data Paste'!G1081)","v":""}]
[{"$f":"IF(Table1[विद्यार्थी का नाम]=\"\",\"\",ROWS($A$1:A1081))","v":""},{"$f":"IF('SD Data Paste'!A1082=\"\",\"\",'SD Data Paste'!A1082)","v":""},{"$f":"IF('SD Data Paste'!B1082=\"\",\"\",'SD Data Paste'!B1082)","v":""},1081,{"$f":"IF('SD Data Paste'!E1082=\"\",\"\",'SD Data Paste'!E1082)","v":""},{"$f":"IF('SD Data Paste'!G1082=\"\",\"\",'SD Data Paste'!G1082)","v":""}]
[{"$f":"IF(Table1[विद्यार्थी का नाम]=\"\",\"\",ROWS($A$1:A1082))","v":""},{"$f":"IF('SD Data Paste'!A1083=\"\",\"\",'SD Data Paste'!A1083)","v":""},{"$f":"IF('SD Data Paste'!B1083=\"\",\"\",'SD Data Paste'!B1083)","v":""},1082,{"$f":"IF('SD Data Paste'!E1083=\"\",\"\",'SD Data Paste'!E1083)","v":""},{"$f":"IF('SD Data Paste'!G1083=\"\",\"\",'SD Data Paste'!G1083)","v":""}]
[{"$f":"IF(Table1[विद्यार्थी का नाम]=\"\",\"\",ROWS($A$1:A1083))","v":""},{"$f":"IF('SD Data Paste'!A1084=\"\",\"\",'SD Data Paste'!A1084)","v":""},{"$f":"IF('SD Data Paste'!B1084=\"\",\"\",'SD Data Paste'!B1084)","v":""},1083,{"$f":"IF('SD Data Paste'!E1084=\"\",\"\",'SD Data Paste'!E1084)","v":""},{"$f":"IF('SD Data Paste'!G1084=\"\",\"\",'SD Data Paste'!G1084)","v":""}]
[{"$f":"IF(Table1[विद्यार्थी का नाम]=\"\",\"\",ROWS($A$1:A1084))","v":""},{"$f":"IF('SD Data Paste'!A1085=\"\",\"\",'SD Data Paste'!A1085)","v":""},{"$f":"IF('SD Data Paste'!B1085=\"\",\"\",'SD Data Paste'!B1085)","v":""},1084,{"$f":"IF('SD Data Paste'!E1085=\"\",\"\",'SD Data Paste'!E1085)","v":""},{"$f":"IF('SD Data Paste'!G1085=\"\",\"\",'SD Data Paste'!G1085)","v":""}]
[{"$f":"IF(Table1[विद्यार्थी का नाम]=\"\",\"\",ROWS($A$1:A1085))","v":""},{"$f":"IF('SD Data Paste'!A1086=\"\",\"\",'SD Data Paste'!A1086)","v":""},{"$f":"IF('SD Data Paste'!B1086=\"\",\"\",'SD Data Paste'!B1086)","v":""},1085,{"$f":"IF('SD Data Paste'!E1086=\"\",\"\",'SD Data Paste'!E1086)","v":""},{"$f":"IF('SD Data Paste'!G1086=\"\",\"\",'SD Data Paste'!G1086)","v":""}]
[{"$f":"IF(Table1[विद्यार्थी का नाम]=\"\",\"\",ROWS($A$1:A1086))","v":""},{"$f":"IF('SD Data Paste'!A1087=\"\",\"\",'SD Data Paste'!A1087)","v":""},{"$f":"IF('SD Data Paste'!B1087=\"\",\"\",'SD Data Paste'!B1087)","v":""},1086,{"$f":"IF('SD Data Paste'!E1087=\"\",\"\",'SD Data Paste'!E1087)","v":""},{"$f":"IF('SD Data Paste'!G1087=\"\",\"\",'SD Data Paste'!G1087)","v":""}]
[{"$f":"IF(Table1[विद्यार्थी का नाम]=\"\",\"\",ROWS($A$1:A1087))","v":""},{"$f":"IF('SD Data Paste'!A1088=\"\",\"\",'SD Data Paste'!A1088)","v":""},{"$f":"IF('SD Data Paste'!B1088=\"\",\"\",'SD Data Paste'!B1088)","v":""},1087,{"$f":"IF('SD Data Paste'!E1088=\"\",\"\",'SD Data Paste'!E1088)","v":""},{"$f":"IF('SD Data Paste'!G1088=\"\",\"\",'SD Data Paste'!G1088)","v":""}]
[{"$f":"IF(Table1[विद्यार्थी का नाम]=\"\",\"\",ROWS($A$1:A1088))","v":""},{"$f":"IF('SD Data Paste'!A1089=\"\",\"\",'SD Data Paste'!A1089)","v":""},{"$f":"IF('SD Data Paste'!B1089=\"\",\"\",'SD Data Paste'!B1089)","v":""},1088,{"$f":"IF('SD Data Paste'!E1089=\"\",\"\",'SD Data Paste'!E1089)","v":""},{"$f":"IF('SD Data Paste'!G1089=\"\",\"\",'SD Data Paste'!G1089)","v":""}]
[{"$f":"IF(Table1[विद्यार्थी का नाम]=\"\",\"\",ROWS($A$1:A1089))","v":""},{"$f":"IF('SD Data Paste'!A1090=\"\",\"\",'SD Data Paste'!A1090)","v":""},{"$f":"IF('SD Data Paste'!B1090=\"\",\"\",'SD Data Paste'!B1090)","v":""},1089,{"$f":"IF('SD Data Paste'!E1090=\"\",\"\",'SD Data Paste'!E1090)","v":""},{"$f":"IF('SD Data Paste'!G1090=\"\",\"\",'SD Data Paste'!G1090)","v":""}]
[{"$f":"IF(Table1[विद्यार्थी का नाम]=\"\",\"\",ROWS($A$1:A1090))","v":""},{"$f":"IF('SD Data Paste'!A1091=\"\",\"\",'SD Data Paste'!A1091)","v":""},{"$f":"IF('SD Data Paste'!B1091=\"\",\"\",'SD Data Paste'!B1091)","v":""},1090,{"$f":"IF('SD Data Paste'!E1091=\"\",\"\",'SD Data Paste'!E1091)","v":""},{"$f":"IF('SD Data Paste'!G1091=\"\",\"\",'SD Data Paste'!G1091)","v":""}]
[{"$f":"IF(Table1[विद्यार्थी का नाम]=\"\",\"\",ROWS($A$1:A1091))","v":""},{"$f":"IF('SD Data Paste'!A1092=\"\",\"\",'SD Data Paste'!A1092)","v":""},{"$f":"IF('SD Data Paste'!B1092=\"\",\"\",'SD Data Paste'!B1092)","v":""},{"$f":"IF(D1093=\"\",\"\",D1093+1)","v":1091},{"$f":"IF('SD Data Paste'!E1092=\"\",\"\",'SD Data Paste'!E1092)","v":""},{"$f":"IF('SD Data Paste'!G1092=\"\",\"\",'SD Data Paste'!G1092)","v":""}]
[{"$f":"IF(Table1[विद्यार्थी का नाम]=\"\",\"\",ROWS($A$1:A1092))","v":""},{"$f":"IF('SD Data Paste'!A1093=\"\",\"\",'SD Data Paste'!A1093)","v":""},{"$f":"IF('SD Data Paste'!B1093=\"\",\"\",'SD Data Paste'!B1093)","v":""},1092,{"$f":"IF('SD Data Paste'!E1093=\"\",\"\",'SD Data Paste'!E1093)","v":""},{"$f":"IF('SD Data Paste'!G1093=\"\",\"\",'SD Data Paste'!G1093)","v":""}]
[{"$f":"IF(Table1[विद्यार्थी का नाम]=\"\",\"\",ROWS($A$1:A1093))","v":""},{"$f":"IF('SD Data Paste'!A1094=\"\",\"\",'SD Data Paste'!A1094)","v":""},{"$f":"IF('SD Data Paste'!B1094=\"\",\"\",'SD Data Paste'!B1094)","v":""},1093,{"$f":"IF('SD Data Paste'!E1094=\"\",\"\",'SD Data Paste'!E1094)","v":""},{"$f":"IF('SD Data Paste'!G1094=\"\",\"\",'SD Data Paste'!G1094)","v":""}]
[{"$f":"IF(Table1[विद्यार्थी का नाम]=\"\",\"\",ROWS($A$1:A1094))","v":""},{"$f":"IF('SD Data Paste'!A1095=\"\",\"\",'SD Data Paste'!A1095)","v":""},{"$f":"IF('SD Data Paste'!B1095=\"\",\"\",'SD Data Paste'!B1095)","v":""},1094,{"$f":"IF('SD Data Paste'!E1095=\"\",\"\",'SD Data Paste'!E1095)","v":""},{"$f":"IF('SD Data Paste'!G1095=\"\",\"\",'SD Data Paste'!G1095)","v":""}]
[{"$f":"IF(Table1[विद्यार्थी का नाम]=\"\",\"\",ROWS($A$1:A1095))","v":""},{"$f":"IF('SD Data Paste'!A1096=\"\",\"\",'SD Data Paste'!A1096)","v":""},{"$f":"IF('SD Data Paste'!B1096=\"\",\"\",'SD Data Paste'!B1096)","v":""},1095,{"$f":"IF('SD Data Paste'!E1096=\"\",\"\",'SD Data Paste'!E1096)","v":""},{"$f":"IF('SD Data Paste'!G1096=\"\",\"\",'SD Data Paste'!G1096)","v":""}]
[{"$f":"IF(Table1[विद्यार्थी का नाम]=\"\",\"\",ROWS($A$1:A1096))","v":""},{"$f":"IF('SD Data Paste'!A1097=\"\",\"\",'SD Data Paste'!A1097)","v":""},{"$f":"IF('SD Data Paste'!B1097=\"\",\"\",'SD Data Paste'!B1097)","v":""},1096,{"$f":"IF('SD Data Paste'!E1097=\"\",\"\",'SD Data Paste'!E1097)","v":""},{"$f":"IF('SD Data Paste'!G1097=\"\",\"\",'SD Data Paste'!G1097)","v":""}]
[{"$f":"IF(Table1[विद्यार्थी का नाम]=\"\",\"\",ROWS($A$1:A1097))","v":""},{"$f":"IF('SD Data Paste'!A1098=\"\",\"\",'SD Data Paste'!A1098)","v":""},{"$f":"IF('SD Data Paste'!B1098=\"\",\"\",'SD Data Paste'!B1098)","v":""},1097,{"$f":"IF('SD Data Paste'!E1098=\"\",\"\",'SD Data Paste'!E1098)","v":""},{"$f":"IF('SD Data Paste'!G1098=\"\",\"\",'SD Data Paste'!G1098)","v":""}]
[{"$f":"IF(Table1[विद्यार्थी का नाम]=\"\",\"\",ROWS($A$1:A1098))","v":""},{"$f":"IF('SD Data Paste'!A1099=\"\",\"\",'SD Data Paste'!A1099)","v":""},{"$f":"IF('SD Data Paste'!B1099=\"\",\"\",'SD Data Paste'!B1099)","v":""},1098,{"$f":"IF('SD Data Paste'!E1099=\"\",\"\",'SD Data Paste'!E1099)","v":""},{"$f":"IF('SD Data Paste'!G1099=\"\",\"\",'SD Data Paste'!G1099)","v":""}]
[{"$f":"IF(Table1[विद्यार्थी का नाम]=\"\",\"\",ROWS($A$1:A1099))","v":""},{"$f":"IF('SD Data Paste'!A1100=\"\",\"\",'SD Data Paste'!A1100)","v":""},{"$f":"IF('SD Data Paste'!B1100=\"\",\"\",'SD Data Paste'!B1100)","v":""},1099,{"$f":"IF('SD Data Paste'!E1100=\"\",\"\",'SD Data Paste'!E1100)","v":""},{"$f":"IF('SD Data Paste'!G1100=\"\",\"\",'SD Data Paste'!G1100)","v":""}]
[{"$f":"IF(Table1[विद्यार्थी का नाम]=\"\",\"\",ROWS($A$1:A1100))","v":""},{"$f":"IF('SD Data Paste'!A1101=\"\",\"\",'SD Data Paste'!A1101)","v":""},{"$f":"IF('SD Data Paste'!B1101=\"\",\"\",'SD Data Paste'!B1101)","v":""},1100,{"$f":"IF('SD Data Paste'!E1101=\"\",\"\",'SD Data Paste'!E1101)","v":""},{"$f":"IF('SD Data Paste'!G1101=\"\",\"\",'SD Data Paste'!G1101)","v":""}]
[{"$f":"IF(Table1[विद्यार्थी का नाम]=\"\",\"\",ROWS($A$1:A1101))","v":""},{"$f":"IF('SD Data Paste'!A1102=\"\",\"\",'SD Data Paste'!A1102)","v":""},{"$f":"IF('SD Data Paste'!B1102=\"\",\"\",'SD Data Paste'!B1102)","v":""},1101,{"$f":"IF('SD Data Paste'!E1102=\"\",\"\",'SD Data Paste'!E1102)","v":""},{"$f":"IF('SD Data Paste'!G1102=\"\",\"\",'SD Data Paste'!G1102)","v":""}]
[{"$f":"IF(Table1[विद्यार्थी का नाम]=\"\",\"\",ROWS($A$1:A1102))","v":""},{"$f":"IF('SD Data Paste'!A1103=\"\",\"\",'SD Data Paste'!A1103)","v":""},{"$f":"IF('SD Data Paste'!B1103=\"\",\"\",'SD Data Paste'!B1103)","v":""},1102,{"$f":"IF('SD Data Paste'!E1103=\"\",\"\",'SD Data Paste'!E1103)","v":""},{"$f":"IF('SD Data Paste'!G1103=\"\",\"\",'SD Data Paste'!G1103)","v":""}]
[{"$f":"IF(Table1[विद्यार्थी का नाम]=\"\",\"\",ROWS($A$1:A1103))","v":""},{"$f":"IF('SD Data Paste'!A1104=\"\",\"\",'SD Data Paste'!A1104)","v":""},{"$f":"IF('SD Data Paste'!B1104=\"\",\"\",'SD Data Paste'!B1104)","v":""},1103,{"$f":"IF('SD Data Paste'!E1104=\"\",\"\",'SD Data Paste'!E1104)","v":""},{"$f":"IF('SD Data Paste'!G1104=\"\",\"\",'SD Data Paste'!G1104)","v":""}]
[{"$f":"IF(Table1[विद्यार्थी का नाम]=\"\",\"\",ROWS($A$1:A1104))","v":""},{"$f":"IF('SD Data Paste'!A1105=\"\",\"\",'SD Data Paste'!A1105)","v":""},{"$f":"IF('SD Data Paste'!B1105=\"\",\"\",'SD Data Paste'!B1105)","v":""},1104,{"$f":"IF('SD Data Paste'!E1105=\"\",\"\",'SD Data Paste'!E1105)","v":""},{"$f":"IF('SD Data Paste'!G1105=\"\",\"\",'SD Data Paste'!G1105)","v":""}]
[{"$f":"IF(Table1[विद्यार्थी का नाम]=\"\",\"\",ROWS($A$1:A1105))","v":""},{"$f":"IF('SD Data Paste'!A1106=\"\",\"\",'SD Data Paste'!A1106)","v":""},{"$f":"IF('SD Data Paste'!B1106=\"\",\"\",'SD Data Paste'!B1106)","v":""},1105,{"$f":"IF('SD Data Paste'!E1106=\"\",\"\",'SD Data Paste'!E1106)","v":""},{"$f":"IF('SD Data Paste'!G1106=\"\",\"\",'SD Data Paste'!G1106)","v":""}]
[{"$f":"IF(Table1[विद्यार्थी का नाम]=\"\",\"\",ROWS($A$1:A1106))","v":""},{"$f":"IF('SD Data Paste'!A1107=\"\",\"\",'SD Data Paste'!A1107)","v":""},{"$f":"IF('SD Data Paste'!B1107=\"\",\"\",'SD Data Paste'!B1107)","v":""},1106,{"$f":"IF('SD Data Paste'!E1107=\"\",\"\",'SD Data Paste'!E1107)","v":""},{"$f":"IF('SD Data Paste'!G1107=\"\",\"\",'SD Data Paste'!G1107)","v":""}]
[{"$f":"IF(Table1[विद्यार्थी का नाम]=\"\",\"\",ROWS($A$1:A1107))","v":""},{"$f":"IF('SD Data Paste'!A1108=\"\",\"\",'SD Data Paste'!A1108)","v":""},{"$f":"IF('SD Data Paste'!B1108=\"\",\"\",'SD Data Paste'!B1108)","v":""},1107,{"$f":"IF('SD Data Paste'!E1108=\"\",\"\",'SD Data Paste'!E1108)","v":""},{"$f":"IF('SD Data Paste'!G1108=\"\",\"\",'SD Data Paste'!G1108)","v":""}]
[{"$f":"IF(Table1[विद्यार्थी का नाम]=\"\",\"\",ROWS($A$1:A1108))","v":""},{"$f":"IF('SD Data Paste'!A1109=\"\",\"\",'SD Data Paste'!A1109)","v":""},{"$f":"IF('SD Data Paste'!B1109=\"\",\"\",'SD Data Paste'!B1109)","v":""},1108,{"$f":"IF('SD Data Paste'!E1109=\"\",\"\",'SD Data Paste'!E1109)","v":""},{"$f":"IF('SD Data Paste'!G1109=\"\",\"\",'SD Data Paste'!G1109)","v":""}]
[{"$f":"IF(Table1[विद्यार्थी का नाम]=\"\",\"\",ROWS($A$1:A1109))","v":""},{"$f":"IF('SD Data Paste'!A1110=\"\",\"\",'SD Data Paste'!A1110)","v":""},{"$f":"IF('SD Data Paste'!B1110=\"\",\"\",'SD Data Paste'!B1110)","v":""},1109,{"$f":"IF('SD Data Paste'!E1110=\"\",\"\",'SD Data Paste'!E1110)","v":""},{"$f":"IF('SD Data Paste'!G1110=\"\",\"\",'SD Data Paste'!G1110)","v":""}]
[{"$f":"IF(Table1[विद्यार्थी का नाम]=\"\",\"\",ROWS($A$1:A1110))","v":""},{"$f":"IF('SD Data Paste'!A1111=\"\",\"\",'SD Data Paste'!A1111)","v":""},{"$f":"IF('SD Data Paste'!B1111=\"\",\"\",'SD Data Paste'!B1111)","v":""},1110,{"$f":"IF('SD Data Paste'!E1111=\"\",\"\",'SD Data Paste'!E1111)","v":""},{"$f":"IF('SD Data Paste'!G1111=\"\",\"\",'SD Data Paste'!G1111)","v":""}]
[{"$f":"IF(Table1[विद्यार्थी का नाम]=\"\",\"\",ROWS($A$1:A1111))","v":""},{"$f":"IF('SD Data Paste'!A1112=\"\",\"\",'SD Data Paste'!A1112)","v":""},{"$f":"IF('SD Data Paste'!B1112=\"\",\"\",'SD Data Paste'!B1112)","v":""},1111,{"$f":"IF('SD Data Paste'!E1112=\"\",\"\",'SD Data Paste'!E1112)","v":""},{"$f":"IF('SD Data Paste'!G1112=\"\",\"\",'SD Data Paste'!G1112)","v":""}]
[{"$f":"IF(Table1[विद्यार्थी का नाम]=\"\",\"\",ROWS($A$1:A1112))","v":""},{"$f":"IF('SD Data Paste'!A1113=\"\",\"\",'SD Data Paste'!A1113)","v":""},{"$f":"IF('SD Data Paste'!B1113=\"\",\"\",'SD Data Paste'!B1113)","v":""},1112,{"$f":"IF('SD Data Paste'!E1113=\"\",\"\",'SD Data Paste'!E1113)","v":""},{"$f":"IF('SD Data Paste'!G1113=\"\",\"\",'SD Data Paste'!G1113)","v":""}]
[{"$f":"IF(Table1[विद्यार्थी का नाम]=\"\",\"\",ROWS($A$1:A1113))","v":""},{"$f":"IF('SD Data Paste'!A1114=\"\",\"\",'SD Data Paste'!A1114)","v":""},{"$f":"IF('SD Data Paste'!B1114=\"\",\"\",'SD Data Paste'!B1114)","v":""},1113,{"$f":"IF('SD Data Paste'!E1114=\"\",\"\",'SD Data Paste'!E1114)","v":""},{"$f":"IF('SD Data Paste'!G1114=\"\",\"\",'SD Data Paste'!G1114)","v":""}]
[{"$f":"IF(Table1[विद्यार्थी का नाम]=\"\",\"\",ROWS($A$1:A1114))","v":""},{"$f":"IF('SD Data Paste'!A1115=\"\",\"\",'SD Data Paste'!A1115)","v":""},{"$f":"IF('SD Data Paste'!B1115=\"\",\"\",'SD Data Paste'!B1115)","v":""},1114,{"$f":"IF('SD Data Paste'!E1115=\"\",\"\",'SD Data Paste'!E1115)","v":""},{"$f":"IF('SD Data Paste'!G1115=\"\",\"\",'SD Data Paste'!G1115)","v":""}]
[{"$f":"IF(Table1[विद्यार्थी का नाम]=\"\",\"\",ROWS($A$1:A1115))","v":""},{"$f":"IF('SD Data Paste'!A1116=\"\",\"\",'SD Data Paste'!A1116)","v":""},{"$f":"IF('SD Data Paste'!B1116=\"\",\"\",'SD Data Paste'!B1116)","v":""},1115,{"$f":"IF('SD Data Paste'!E1116=\"\",\"\",'SD Data Paste'!E1116)","v":""},{"$f":"IF('SD Data Paste'!G1116=\"\",\"\",'SD Data Paste'!G1116)","v":""}]
[{"$f":"IF(Table1[विद्यार्थी का नाम]=\"\",\"\",ROWS($A$1:A1116))","v":""},{"$f":"IF('SD Data Paste'!A1117=\"\",\"\",'SD Data Paste'!A1117)","v":""},{"$f":"IF('SD Data Paste'!B1117=\"\",\"\",'SD Data Paste'!B1117)","v":""},1116,{"$f":"IF('SD Data Paste'!E1117=\"\",\"\",'SD Data Paste'!E1117)","v":""},{"$f":"IF('SD Data Paste'!G1117=\"\",\"\",'SD Data Paste'!G1117)","v":""}]
[{"$f":"IF(Table1[विद्यार्थी का नाम]=\"\",\"\",ROWS($A$1:A1117))","v":""},{"$f":"IF('SD Data Paste'!A1118=\"\",\"\",'SD Data Paste'!A1118)","v":""},{"$f":"IF('SD Data Paste'!B1118=\"\",\"\",'SD Data Paste'!B1118)","v":""},1117,{"$f":"IF('SD Data Paste'!E1118=\"\",\"\",'SD Data Paste'!E1118)","v":""},{"$f":"IF('SD Data Paste'!G1118=\"\",\"\",'SD Data Paste'!G1118)","v":""}]
[{"$f":"IF(Table1[विद्यार्थी का नाम]=\"\",\"\",ROWS($A$1:A1118))","v":""},{"$f":"IF('SD Data Paste'!A1119=\"\",\"\",'SD Data Paste'!A1119)","v":""},{"$f":"IF('SD Data Paste'!B1119=\"\",\"\",'SD Data Paste'!B1119)","v":""},1118,{"$f":"IF('SD Data Paste'!E1119=\"\",\"\",'SD Data Paste'!E1119)","v":""},{"$f":"IF('SD Data Paste'!G1119=\"\",\"\",'SD Data Paste'!G1119)","v":""}]
[{"$f":"IF(Table1[विद्यार्थी का नाम]=\"\",\"\",ROWS($A$1:A1119))","v":""},{"$f":"IF('SD Data Paste'!A1120=\"\",\"\",'SD Data Paste'!A1120)","v":""},{"$f":"IF('SD Data Paste'!B1120=\"\",\"\",'SD Data Paste'!B1120)","v":""},1119,{"$f":"IF('SD Data Paste'!E1120=\"\",\"\",'SD Data Paste'!E1120)","v":""},{"$f":"IF('SD Data Paste'!G1120=\"\",\"\",'SD Data Paste'!G1120)","v":""}]
[{"$f":"IF(Table1[विद्यार्थी का नाम]=\"\",\"\",ROWS($A$1:A1120))","v":""},{"$f":"IF('SD Data Paste'!A1121=\"\",\"\",'SD Data Paste'!A1121)","v":""},{"$f":"IF('SD Data Paste'!B1121=\"\",\"\",'SD Data Paste'!B1121)","v":""},1120,{"$f":"IF('SD Data Paste'!E1121=\"\",\"\",'SD Data Paste'!E1121)","v":""},{"$f":"IF('SD Data Paste'!G1121=\"\",\"\",'SD Data Paste'!G1121)","v":""}]
[{"$f":"IF(Table1[विद्यार्थी का नाम]=\"\",\"\",ROWS($A$1:A1121))","v":""},{"$f":"IF('SD Data Paste'!A1122=\"\",\"\",'SD Data Paste'!A1122)","v":""},{"$f":"IF('SD Data Paste'!B1122=\"\",\"\",'SD Data Paste'!B1122)","v":""},1121,{"$f":"IF('SD Data Paste'!E1122=\"\",\"\",'SD Data Paste'!E1122)","v":""},{"$f":"IF('SD Data Paste'!G1122=\"\",\"\",'SD Data Paste'!G1122)","v":""}]
[{"$f":"IF(Table1[विद्यार्थी का नाम]=\"\",\"\",ROWS($A$1:A1122))","v":""},{"$f":"IF('SD Data Paste'!A1123=\"\",\"\",'SD Data Paste'!A1123)","v":""},{"$f":"IF('SD Data Paste'!B1123=\"\",\"\",'SD Data Paste'!B1123)","v":""},1122,{"$f":"IF('SD Data Paste'!E1123=\"\",\"\",'SD Data Paste'!E1123)","v":""},{"$f":"IF('SD Data Paste'!G1123=\"\",\"\",'SD Data Paste'!G1123)","v":""}]
[{"$f":"IF(Table1[विद्यार्थी का नाम]=\"\",\"\",ROWS($A$1:A1123))","v":""},{"$f":"IF('SD Data Paste'!A1124=\"\",\"\",'SD Data Paste'!A1124)","v":""},{"$f":"IF('SD Data Paste'!B1124=\"\",\"\",'SD Data Paste'!B1124)","v":""},1123,{"$f":"IF('SD Data Paste'!E1124=\"\",\"\",'SD Data Paste'!E1124)","v":""},{"$f":"IF('SD Data Paste'!G1124=\"\",\"\",'SD Data Paste'!G1124)","v":""}]
[{"$f":"IF(Table1[विद्यार्थी का नाम]=\"\",\"\",ROWS($A$1:A1124))","v":""},{"$f":"IF('SD Data Paste'!A1125=\"\",\"\",'SD Data Paste'!A1125)","v":""},{"$f":"IF('SD Data Paste'!B1125=\"\",\"\",'SD Data Paste'!B1125)","v":""},1124,{"$f":"IF('SD Data Paste'!E1125=\"\",\"\",'SD Data Paste'!E1125)","v":""},{"$f":"IF('SD Data Paste'!G1125=\"\",\"\",'SD Data Paste'!G1125)","v":""}]
[{"$f":"IF(Table1[विद्यार्थी का नाम]=\"\",\"\",ROWS($A$1:A1125))","v":""},{"$f":"IF('SD Data Paste'!A1126=\"\",\"\",'SD Data Paste'!A1126)","v":""},{"$f":"IF('SD Data Paste'!B1126=\"\",\"\",'SD Data Paste'!B1126)","v":""},1125,{"$f":"IF('SD Data Paste'!E1126=\"\",\"\",'SD Data Paste'!E1126)","v":""},{"$f":"IF('SD Data Paste'!G1126=\"\",\"\",'SD Data Paste'!G1126)","v":""}]
[{"$f":"IF(Table1[विद्यार्थी का नाम]=\"\",\"\",ROWS($A$1:A1126))","v":""},{"$f":"IF('SD Data Paste'!A1127=\"\",\"\",'SD Data Paste'!A1127)","v":""},{"$f":"IF('SD Data Paste'!B1127=\"\",\"\",'SD Data Paste'!B1127)","v":""},1126,{"$f":"IF('SD Data Paste'!E1127=\"\",\"\",'SD Data Paste'!E1127)","v":""},{"$f":"IF('SD Data Paste'!G1127=\"\",\"\",'SD Data Paste'!G1127)","v":""}]
[{"$f":"IF(Table1[विद्यार्थी का नाम]=\"\",\"\",ROWS($A$1:A1127))","v":""},{"$f":"IF('SD Data Paste'!A1128=\"\",\"\",'SD Data Paste'!A1128)","v":""},{"$f":"IF('SD Data Paste'!B1128=\"\",\"\",'SD Data Paste'!B1128)","v":""},1127,{"$f":"IF('SD Data Paste'!E1128=\"\",\"\",'SD Data Paste'!E1128)","v":""},{"$f":"IF('SD Data Paste'!G1128=\"\",\"\",'SD Data Paste'!G1128)","v":""}]
[{"$f":"IF(Table1[विद्यार्थी का नाम]=\"\",\"\",ROWS($A$1:A1128))","v":""},{"$f":"IF('SD Data Paste'!A1129=\"\",\"\",'SD Data Paste'!A1129)","v":""},{"$f":"IF('SD Data Paste'!B1129=\"\",\"\",'SD Data Paste'!B1129)","v":""},1128,{"$f":"IF('SD Data Paste'!E1129=\"\",\"\",'SD Data Paste'!E1129)","v":""},{"$f":"IF('SD Data Paste'!G1129=\"\",\"\",'SD Data Paste'!G1129)","v":""}]
[{"$f":"IF(Table1[विद्यार्थी का नाम]=\"\",\"\",ROWS($A$1:A1129))","v":""},{"$f":"IF('SD Data Paste'!A1130=\"\",\"\",'SD Data Paste'!A1130)","v":""},{"$f":"IF('SD Data Paste'!B1130=\"\",\"\",'SD Data Paste'!B1130)","v":""},1129,{"$f":"IF('SD Data Paste'!E1130=\"\",\"\",'SD Data Paste'!E1130)","v":""},{"$f":"IF('SD Data Paste'!G1130=\"\",\"\",'SD Data Paste'!G1130)","v":""}]
[{"$f":"IF(Table1[विद्यार्थी का नाम]=\"\",\"\",ROWS($A$1:A1130))","v":""},{"$f":"IF('SD Data Paste'!A1131=\"\",\"\",'SD Data Paste'!A1131)","v":""},{"$f":"IF('SD Data Paste'!B1131=\"\",\"\",'SD Data Paste'!B1131)","v":""},1130,{"$f":"IF('SD Data Paste'!E1131=\"\",\"\",'SD Data Paste'!E1131)","v":""},{"$f":"IF('SD Data Paste'!G1131=\"\",\"\",'SD Data Paste'!G1131)","v":""}]
[{"$f":"IF(Table1[विद्यार्थी का नाम]=\"\",\"\",ROWS($A$1:A1131))","v":""},{"$f":"IF('SD Data Paste'!A1132=\"\",\"\",'SD Data Paste'!A1132)","v":""},{"$f":"IF('SD Data Paste'!B1132=\"\",\"\",'SD Data Paste'!B1132)","v":""},1131,{"$f":"IF('SD Data Paste'!E1132=\"\",\"\",'SD Data Paste'!E1132)","v":""},{"$f":"IF('SD Data Paste'!G1132=\"\",\"\",'SD Data Paste'!G1132)","v":""}]
[{"$f":"IF(Table1[विद्यार्थी का नाम]=\"\",\"\",ROWS($A$1:A1132))","v":""},{"$f":"IF('SD Data Paste'!A1133=\"\",\"\",'SD Data Paste'!A1133)","v":""},{"$f":"IF('SD Data Paste'!B1133=\"\",\"\",'SD Data Paste'!B1133)","v":""},1132,{"$f":"IF('SD Data Paste'!E1133=\"\",\"\",'SD Data Paste'!E1133)","v":""},{"$f":"IF('SD Data Paste'!G1133=\"\",\"\",'SD Data Paste'!G1133)","v":""}]
[{"$f":"IF(Table1[विद्यार्थी का नाम]=\"\",\"\",ROWS($A$1:A1133))","v":""},{"$f":"IF('SD Data Paste'!A1134=\"\",\"\",'SD Data Paste'!A1134)","v":""},{"$f":"IF('SD Data Paste'!B1134=\"\",\"\",'SD Data Paste'!B1134)","v":""},1133,{"$f":"IF('SD Data Paste'!E1134=\"\",\"\",'SD Data Paste'!E1134)","v":""},{"$f":"IF('SD Data Paste'!G1134=\"\",\"\",'SD Data Paste'!G1134)","v":""}]
[{"$f":"IF(Table1[विद्यार्थी का नाम]=\"\",\"\",ROWS($A$1:A1134))","v":""},{"$f":"IF('SD Data Paste'!A1135=\"\",\"\",'SD Data Paste'!A1135)","v":""},{"$f":"IF('SD Data Paste'!B1135=\"\",\"\",'SD Data Paste'!B1135)","v":""},1134,{"$f":"IF('SD Data Paste'!E1135=\"\",\"\",'SD Data Paste'!E1135)","v":""},{"$f":"IF('SD Data Paste'!G1135=\"\",\"\",'SD Data Paste'!G1135)","v":""}]
[{"$f":"IF(Table1[विद्यार्थी का नाम]=\"\",\"\",ROWS($A$1:A1135))","v":""},{"$f":"IF('SD Data Paste'!A1136=\"\",\"\",'SD Data Paste'!A1136)","v":""},{"$f":"IF('SD Data Paste'!B1136=\"\",\"\",'SD Data Paste'!B1136)","v":""},1135,{"$f":"IF('SD Data Paste'!E1136=\"\",\"\",'SD Data Paste'!E1136)","v":""},{"$f":"IF('SD Data Paste'!G1136=\"\",\"\",'SD Data Paste'!G1136)","v":""}]
[{"$f":"IF(Table1[विद्यार्थी का नाम]=\"\",\"\",ROWS($A$1:A1136))","v":""},{"$f":"IF('SD Data Paste'!A1137=\"\",\"\",'SD Data Paste'!A1137)","v":""},{"$f":"IF('SD Data Paste'!B1137=\"\",\"\",'SD Data Paste'!B1137)","v":""},1136,{"$f":"IF('SD Data Paste'!E1137=\"\",\"\",'SD Data Paste'!E1137)","v":""},{"$f":"IF('SD Data Paste'!G1137=\"\",\"\",'SD Data Paste'!G1137)","v":""}]
[{"$f":"IF(Table1[विद्यार्थी का नाम]=\"\",\"\",ROWS($A$1:A1137))","v":""},{"$f":"IF('SD Data Paste'!A1138=\"\",\"\",'SD Data Paste'!A1138)","v":""},{"$f":"IF('SD Data Paste'!B1138=\"\",\"\",'SD Data Paste'!B1138)","v":""},1137,{"$f":"IF('SD Data Paste'!E1138=\"\",\"\",'SD Data Paste'!E1138)","v":""},{"$f":"IF('SD Data Paste'!G1138=\"\",\"\",'SD Data Paste'!G1138)","v":""}]
[{"$f":"IF(Table1[विद्यार्थी का नाम]=\"\",\"\",ROWS($A$1:A1138))","v":""},{"$f":"IF('SD Data Paste'!A1139=\"\",\"\",'SD Data Paste'!A1139)","v":""},{"$f":"IF('SD Data Paste'!B1139=\"\",\"\",'SD Data Paste'!B1139)","v":""},1138,{"$f":"IF('SD Data Paste'!E1139=\"\",\"\",'SD Data Paste'!E1139)","v":""},{"$f":"IF('SD Data Paste'!G1139=\"\",\"\",'SD Data Paste'!G1139)","v":""}]
[{"$f":"IF(Table1[विद्यार्थी का नाम]=\"\",\"\",ROWS($A$1:A1139))","v":""},{"$f":"IF('SD Data Paste'!A1140=\"\",\"\",'SD Data Paste'!A1140)","v":""},{"$f":"IF('SD Data Paste'!B1140=\"\",\"\",'SD Data Paste'!B1140)","v":""},1139,{"$f":"IF('SD Data Paste'!E1140=\"\",\"\",'SD Data Paste'!E1140)","v":""},{"$f":"IF('SD Data Paste'!G1140=\"\",\"\",'SD Data Paste'!G1140)","v":""}]
[{"$f":"IF(Table1[विद्यार्थी का नाम]=\"\",\"\",ROWS($A$1:A1140))","v":""},{"$f":"IF('SD Data Paste'!A1141=\"\",\"\",'SD Data Paste'!A1141)","v":""},{"$f":"IF('SD Data Paste'!B1141=\"\",\"\",'SD Data Paste'!B1141)","v":""},1140,{"$f":"IF('SD Data Paste'!E1141=\"\",\"\",'SD Data Paste'!E1141)","v":""},{"$f":"IF('SD Data Paste'!G1141=\"\",\"\",'SD Data Paste'!G1141)","v":""}]
[{"$f":"IF(Table1[विद्यार्थी का नाम]=\"\",\"\",ROWS($A$1:A1141))","v":""},{"$f":"IF('SD Data Paste'!A1142=\"\",\"\",'SD Data Paste'!A1142)","v":""},{"$f":"IF('SD Data Paste'!B1142=\"\",\"\",'SD Data Paste'!B1142)","v":""},1141,{"$f":"IF('SD Data Paste'!E1142=\"\",\"\",'SD Data Paste'!E1142)","v":""},{"$f":"IF('SD Data Paste'!G1142=\"\",\"\",'SD Data Paste'!G1142)","v":""}]
[{"$f":"IF(Table1[विद्यार्थी का नाम]=\"\",\"\",ROWS($A$1:A1142))","v":""},{"$f":"IF('SD Data Paste'!A1143=\"\",\"\",'SD Data Paste'!A1143)","v":""},{"$f":"IF('SD Data Paste'!B1143=\"\",\"\",'SD Data Paste'!B1143)","v":""},1142,{"$f":"IF('SD Data Paste'!E1143=\"\",\"\",'SD Data Paste'!E1143)","v":""},{"$f":"IF('SD Data Paste'!G1143=\"\",\"\",'SD Data Paste'!G1143)","v":""}]
[{"$f":"IF(Table1[विद्यार्थी का नाम]=\"\",\"\",ROWS($A$1:A1143))","v":""},{"$f":"IF('SD Data Paste'!A1144=\"\",\"\",'SD Data Paste'!A1144)","v":""},{"$f":"IF('SD Data Paste'!B1144=\"\",\"\",'SD Data Paste'!B1144)","v":""},1143,{"$f":"IF('SD Data Paste'!E1144=\"\",\"\",'SD Data Paste'!E1144)","v":""},{"$f":"IF('SD Data Paste'!G1144=\"\",\"\",'SD Data Paste'!G1144)","v":""}]
[{"$f":"IF(Table1[विद्यार्थी का नाम]=\"\",\"\",ROWS($A$1:A1144))","v":""},{"$f":"IF('SD Data Paste'!A1145=\"\",\"\",'SD Data Paste'!A1145)","v":""},{"$f":"IF('SD Data Paste'!B1145=\"\",\"\",'SD Data Paste'!B1145)","v":""},1144,{"$f":"IF('SD Data Paste'!E1145=\"\",\"\",'SD Data Paste'!E1145)","v":""},{"$f":"IF('SD Data Paste'!G1145=\"\",\"\",'SD Data Paste'!G1145)","v":""}]
[{"$f":"IF(Table1[विद्यार्थी का नाम]=\"\",\"\",ROWS($A$1:A1145))","v":""},{"$f":"IF('SD Data Paste'!A1146=\"\",\"\",'SD Data Paste'!A1146)","v":""},{"$f":"IF('SD Data Paste'!B1146=\"\",\"\",'SD Data Paste'!B1146)","v":""},1145,{"$f":"IF('SD Data Paste'!E1146=\"\",\"\",'SD Data Paste'!E1146)","v":""},{"$f":"IF('SD Data Paste'!G1146=\"\",\"\",'SD Data Paste'!G1146)","v":""}]
[{"$f":"IF(Table1[विद्यार्थी का नाम]=\"\",\"\",ROWS($A$1:A1146))","v":""},{"$f":"IF('SD Data Paste'!A1147=\"\",\"\",'SD Data Paste'!A1147)","v":""},{"$f":"IF('SD Data Paste'!B1147=\"\",\"\",'SD Data Paste'!B1147)","v":""},1146,{"$f":"IF('SD Data Paste'!E1147=\"\",\"\",'SD Data Paste'!E1147)","v":""},{"$f":"IF('SD Data Paste'!G1147=\"\",\"\",'SD Data Paste'!G1147)","v":""}]
[{"$f":"IF(Table1[विद्यार्थी का नाम]=\"\",\"\",ROWS($A$1:A1147))","v":""},{"$f":"IF('SD Data Paste'!A1148=\"\",\"\",'SD Data Paste'!A1148)","v":""},{"$f":"IF('SD Data Paste'!B1148=\"\",\"\",'SD Data Paste'!B1148)","v":""},1147,{"$f":"IF('SD Data Paste'!E1148=\"\",\"\",'SD Data Paste'!E1148)","v":""},{"$f":"IF('SD Data Paste'!G1148=\"\",\"\",'SD Data Paste'!G1148)","v":""}]
[{"$f":"IF(Table1[विद्यार्थी का नाम]=\"\",\"\",ROWS($A$1:A1148))","v":""},{"$f":"IF('SD Data Paste'!A1149=\"\",\"\",'SD Data Paste'!A1149)","v":""},{"$f":"IF('SD Data Paste'!B1149=\"\",\"\",'SD Data Paste'!B1149)","v":""},1148,{"$f":"IF('SD Data Paste'!E1149=\"\",\"\",'SD Data Paste'!E1149)","v":""},{"$f":"IF('SD Data Paste'!G1149=\"\",\"\",'SD Data Paste'!G1149)","v":""}]
[{"$f":"IF(Table1[विद्यार्थी का नाम]=\"\",\"\",ROWS($A$1:A1149))","v":""},{"$f":"IF('SD Data Paste'!A1150=\"\",\"\",'SD Data Paste'!A1150)","v":""},{"$f":"IF('SD Data Paste'!B1150=\"\",\"\",'SD Data Paste'!B1150)","v":""},1149,{"$f":"IF('SD Data Paste'!E1150=\"\",\"\",'SD Data Paste'!E1150)","v":""},{"$f":"IF('SD Data Paste'!G1150=\"\",\"\",'SD Data Paste'!G1150)","v":""}]
[{"$f":"IF(Table1[विद्यार्थी का नाम]=\"\",\"\",ROWS($A$1:A1150))","v":""},{"$f":"IF('SD Data Paste'!A1151=\"\",\"\",'SD Data Paste'!A1151)","v":""},{"$f":"IF('SD Data Paste'!B1151=\"\",\"\",'SD Data Paste'!B1151)","v":""},1150,{"$f":"IF('SD Data Paste'!E1151=\"\",\"\",'SD Data Paste'!E1151)","v":""},{"$f":"IF('SD Data Paste'!G1151=\"\",\"\",'SD Data Paste'!G1151)","v":""}]
[{"$f":"IF(Table1[विद्यार्थी का नाम]=\"\",\"\",ROWS($A$1:A1151))","v":""},{"$f":"IF('SD Data Paste'!A1152=\"\",\"\",'SD Data Paste'!A1152)","v":""},{"$f":"IF('SD Data Paste'!B1152=\"\",\"\",'SD Data Paste'!B1152)","v":""},1151,{"$f":"IF('SD Data Paste'!E1152=\"\",\"\",'SD Data Paste'!E1152)","v":""},{"$f":"IF('SD Data Paste'!G1152=\"\",\"\",'SD Data Paste'!G1152)","v":""}]
[{"$f":"IF(Table1[विद्यार्थी का नाम]=\"\",\"\",ROWS($A$1:A1152))","v":""},{"$f":"IF('SD Data Paste'!A1153=\"\",\"\",'SD Data Paste'!A1153)","v":""},{"$f":"IF('SD Data Paste'!B1153=\"\",\"\",'SD Data Paste'!B1153)","v":""},1152,{"$f":"IF('SD Data Paste'!E1153=\"\",\"\",'SD Data Paste'!E1153)","v":""},{"$f":"IF('SD Data Paste'!G1153=\"\",\"\",'SD Data Paste'!G1153)","v":""}]
[{"$f":"IF(Table1[विद्यार्थी का नाम]=\"\",\"\",ROWS($A$1:A1153))","v":""},{"$f":"IF('SD Data Paste'!A1154=\"\",\"\",'SD Data Paste'!A1154)","v":""},{"$f":"IF('SD Data Paste'!B1154=\"\",\"\",'SD Data Paste'!B1154)","v":""},1153,{"$f":"IF('SD Data Paste'!E1154=\"\",\"\",'SD Data Paste'!E1154)","v":""},{"$f":"IF('SD Data Paste'!G1154=\"\",\"\",'SD Data Paste'!G1154)","v":""}]
[{"$f":"IF(Table1[विद्यार्थी का नाम]=\"\",\"\",ROWS($A$1:A1154))","v":""},{"$f":"IF('SD Data Paste'!A1155=\"\",\"\",'SD Data Paste'!A1155)","v":""},{"$f":"IF('SD Data Paste'!B1155=\"\",\"\",'SD Data Paste'!B1155)","v":""},1154,{"$f":"IF('SD Data Paste'!E1155=\"\",\"\",'SD Data Paste'!E1155)","v":""},{"$f":"IF('SD Data Paste'!G1155=\"\",\"\",'SD Data Paste'!G1155)","v":""}]
[{"$f":"IF(Table1[विद्यार्थी का नाम]=\"\",\"\",ROWS($A$1:A1155))","v":""},{"$f":"IF('SD Data Paste'!A1156=\"\",\"\",'SD Data Paste'!A1156)","v":""},{"$f":"IF('SD Data Paste'!B1156=\"\",\"\",'SD Data Paste'!B1156)","v":""},{"$f":"IF(D1157=\"\",\"\",D1157+1)","v":1155},{"$f":"IF('SD Data Paste'!E1156=\"\",\"\",'SD Data Paste'!E1156)","v":""},{"$f":"IF('SD Data Paste'!G1156=\"\",\"\",'SD Data Paste'!G1156)","v":""}]
[{"$f":"IF(Table1[विद्यार्थी का नाम]=\"\",\"\",ROWS($A$1:A1156))","v":""},{"$f":"IF('SD Data Paste'!A1157=\"\",\"\",'SD Data Paste'!A1157)","v":""},{"$f":"IF('SD Data Paste'!B1157=\"\",\"\",'SD Data Paste'!B1157)","v":""},1156,{"$f":"IF('SD Data Paste'!E1157=\"\",\"\",'SD Data Paste'!E1157)","v":""},{"$f":"IF('SD Data Paste'!G1157=\"\",\"\",'SD Data Paste'!G1157)","v":""}]
[{"$f":"IF(Table1[विद्यार्थी का नाम]=\"\",\"\",ROWS($A$1:A1157))","v":""},{"$f":"IF('SD Data Paste'!A1158=\"\",\"\",'SD Data Paste'!A1158)","v":""},{"$f":"IF('SD Data Paste'!B1158=\"\",\"\",'SD Data Paste'!B1158)","v":""},1157,{"$f":"IF('SD Data Paste'!E1158=\"\",\"\",'SD Data Paste'!E1158)","v":""},{"$f":"IF('SD Data Paste'!G1158=\"\",\"\",'SD Data Paste'!G1158)","v":""}]
[{"$f":"IF(Table1[विद्यार्थी का नाम]=\"\",\"\",ROWS($A$1:A1158))","v":""},{"$f":"IF('SD Data Paste'!A1159=\"\",\"\",'SD Data Paste'!A1159)","v":""},{"$f":"IF('SD Data Paste'!B1159=\"\",\"\",'SD Data Paste'!B1159)","v":""},1158,{"$f":"IF('SD Data Paste'!E1159=\"\",\"\",'SD Data Paste'!E1159)","v":""},{"$f":"IF('SD Data Paste'!G1159=\"\",\"\",'SD Data Paste'!G1159)","v":""}]
[{"$f":"IF(Table1[विद्यार्थी का नाम]=\"\",\"\",ROWS($A$1:A1159))","v":""},{"$f":"IF('SD Data Paste'!A1160=\"\",\"\",'SD Data Paste'!A1160)","v":""},{"$f":"IF('SD Data Paste'!B1160=\"\",\"\",'SD Data Paste'!B1160)","v":""},1159,{"$f":"IF('SD Data Paste'!E1160=\"\",\"\",'SD Data Paste'!E1160)","v":""},{"$f":"IF('SD Data Paste'!G1160=\"\",\"\",'SD Data Paste'!G1160)","v":""}]
[{"$f":"IF(Table1[विद्यार्थी का नाम]=\"\",\"\",ROWS($A$1:A1160))","v":""},{"$f":"IF('SD Data Paste'!A1161=\"\",\"\",'SD Data Paste'!A1161)","v":""},{"$f":"IF('SD Data Paste'!B1161=\"\",\"\",'SD Data Paste'!B1161)","v":""},1160,{"$f":"IF('SD Data Paste'!E1161=\"\",\"\",'SD Data Paste'!E1161)","v":""},{"$f":"IF('SD Data Paste'!G1161=\"\",\"\",'SD Data Paste'!G1161)","v":""}]
[{"$f":"IF(Table1[विद्यार्थी का नाम]=\"\",\"\",ROWS($A$1:A1161))","v":""},{"$f":"IF('SD Data Paste'!A1162=\"\",\"\",'SD Data Paste'!A1162)","v":""},{"$f":"IF('SD Data Paste'!B1162=\"\",\"\",'SD Data Paste'!B1162)","v":""},1161,{"$f":"IF('SD Data Paste'!E1162=\"\",\"\",'SD Data Paste'!E1162)","v":""},{"$f":"IF('SD Data Paste'!G1162=\"\",\"\",'SD Data Paste'!G1162)","v":""}]
[{"$f":"IF(Table1[विद्यार्थी का नाम]=\"\",\"\",ROWS($A$1:A1162))","v":""},{"$f":"IF('SD Data Paste'!A1163=\"\",\"\",'SD Data Paste'!A1163)","v":""},{"$f":"IF('SD Data Paste'!B1163=\"\",\"\",'SD Data Paste'!B1163)","v":""},1162,{"$f":"IF('SD Data Paste'!E1163=\"\",\"\",'SD Data Paste'!E1163)","v":""},{"$f":"IF('SD Data Paste'!G1163=\"\",\"\",'SD Data Paste'!G1163)","v":""}]
[{"$f":"IF(Table1[विद्यार्थी का नाम]=\"\",\"\",ROWS($A$1:A1163))","v":""},{"$f":"IF('SD Data Paste'!A1164=\"\",\"\",'SD Data Paste'!A1164)","v":""},{"$f":"IF('SD Data Paste'!B1164=\"\",\"\",'SD Data Paste'!B1164)","v":""},1163,{"$f":"IF('SD Data Paste'!E1164=\"\",\"\",'SD Data Paste'!E1164)","v":""},{"$f":"IF('SD Data Paste'!G1164=\"\",\"\",'SD Data Paste'!G1164)","v":""}]
[{"$f":"IF(Table1[विद्यार्थी का नाम]=\"\",\"\",ROWS($A$1:A1164))","v":""},{"$f":"IF('SD Data Paste'!A1165=\"\",\"\",'SD Data Paste'!A1165)","v":""},{"$f":"IF('SD Data Paste'!B1165=\"\",\"\",'SD Data Paste'!B1165)","v":""},1164,{"$f":"IF('SD Data Paste'!E1165=\"\",\"\",'SD Data Paste'!E1165)","v":""},{"$f":"IF('SD Data Paste'!G1165=\"\",\"\",'SD Data Paste'!G1165)","v":""}]
[{"$f":"IF(Table1[विद्यार्थी का नाम]=\"\",\"\",ROWS($A$1:A1165))","v":""},{"$f":"IF('SD Data Paste'!A1166=\"\",\"\",'SD Data Paste'!A1166)","v":""},{"$f":"IF('SD Data Paste'!B1166=\"\",\"\",'SD Data Paste'!B1166)","v":""},1165,{"$f":"IF('SD Data Paste'!E1166=\"\",\"\",'SD Data Paste'!E1166)","v":""},{"$f":"IF('SD Data Paste'!G1166=\"\",\"\",'SD Data Paste'!G1166)","v":""}]
[{"$f":"IF(Table1[विद्यार्थी का नाम]=\"\",\"\",ROWS($A$1:A1166))","v":""},{"$f":"IF('SD Data Paste'!A1167=\"\",\"\",'SD Data Paste'!A1167)","v":""},{"$f":"IF('SD Data Paste'!B1167=\"\",\"\",'SD Data Paste'!B1167)","v":""},1166,{"$f":"IF('SD Data Paste'!E1167=\"\",\"\",'SD Data Paste'!E1167)","v":""},{"$f":"IF('SD Data Paste'!G1167=\"\",\"\",'SD Data Paste'!G1167)","v":""}]
[{"$f":"IF(Table1[विद्यार्थी का नाम]=\"\",\"\",ROWS($A$1:A1167))","v":""},{"$f":"IF('SD Data Paste'!A1168=\"\",\"\",'SD Data Paste'!A1168)","v":""},{"$f":"IF('SD Data Paste'!B1168=\"\",\"\",'SD Data Paste'!B1168)","v":""},1167,{"$f":"IF('SD Data Paste'!E1168=\"\",\"\",'SD Data Paste'!E1168)","v":""},{"$f":"IF('SD Data Paste'!G1168=\"\",\"\",'SD Data Paste'!G1168)","v":""}]
[{"$f":"IF(Table1[विद्यार्थी का नाम]=\"\",\"\",ROWS($A$1:A1168))","v":""},{"$f":"IF('SD Data Paste'!A1169=\"\",\"\",'SD Data Paste'!A1169)","v":""},{"$f":"IF('SD Data Paste'!B1169=\"\",\"\",'SD Data Paste'!B1169)","v":""},1168,{"$f":"IF('SD Data Paste'!E1169=\"\",\"\",'SD Data Paste'!E1169)","v":""},{"$f":"IF('SD Data Paste'!G1169=\"\",\"\",'SD Data Paste'!G1169)","v":""}]
[{"$f":"IF(Table1[विद्यार्थी का नाम]=\"\",\"\",ROWS($A$1:A1169))","v":""},{"$f":"IF('SD Data Paste'!A1170=\"\",\"\",'SD Data Paste'!A1170)","v":""},{"$f":"IF('SD Data Paste'!B1170=\"\",\"\",'SD Data Paste'!B1170)","v":""},1169,{"$f":"IF('SD Data Paste'!E1170=\"\",\"\",'SD Data Paste'!E1170)","v":""},{"$f":"IF('SD Data Paste'!G1170=\"\",\"\",'SD Data Paste'!G1170)","v":""}]
[{"$f":"IF(Table1[विद्यार्थी का नाम]=\"\",\"\",ROWS($A$1:A1170))","v":""},{"$f":"IF('SD Data Paste'!A1171=\"\",\"\",'SD Data Paste'!A1171)","v":""},{"$f":"IF('SD Data Paste'!B1171=\"\",\"\",'SD Data Paste'!B1171)","v":""},1170,{"$f":"IF('SD Data Paste'!E1171=\"\",\"\",'SD Data Paste'!E1171)","v":""},{"$f":"IF('SD Data Paste'!G1171=\"\",\"\",'SD Data Paste'!G1171)","v":""}]
[{"$f":"IF(Table1[विद्यार्थी का नाम]=\"\",\"\",ROWS($A$1:A1171))","v":""},{"$f":"IF('SD Data Paste'!A1172=\"\",\"\",'SD Data Paste'!A1172)","v":""},{"$f":"IF('SD Data Paste'!B1172=\"\",\"\",'SD Data Paste'!B1172)","v":""},1171,{"$f":"IF('SD Data Paste'!E1172=\"\",\"\",'SD Data Paste'!E1172)","v":""},{"$f":"IF('SD Data Paste'!G1172=\"\",\"\",'SD Data Paste'!G1172)","v":""}]
[{"$f":"IF(Table1[विद्यार्थी का नाम]=\"\",\"\",ROWS($A$1:A1172))","v":""},{"$f":"IF('SD Data Paste'!A1173=\"\",\"\",'SD Data Paste'!A1173)","v":""},{"$f":"IF('SD Data Paste'!B1173=\"\",\"\",'SD Data Paste'!B1173)","v":""},1172,{"$f":"IF('SD Data Paste'!E1173=\"\",\"\",'SD Data Paste'!E1173)","v":""},{"$f":"IF('SD Data Paste'!G1173=\"\",\"\",'SD Data Paste'!G1173)","v":""}]
[{"$f":"IF(Table1[विद्यार्थी का नाम]=\"\",\"\",ROWS($A$1:A1173))","v":""},{"$f":"IF('SD Data Paste'!A1174=\"\",\"\",'SD Data Paste'!A1174)","v":""},{"$f":"IF('SD Data Paste'!B1174=\"\",\"\",'SD Data Paste'!B1174)","v":""},1173,{"$f":"IF('SD Data Paste'!E1174=\"\",\"\",'SD Data Paste'!E1174)","v":""},{"$f":"IF('SD Data Paste'!G1174=\"\",\"\",'SD Data Paste'!G1174)","v":""}]
[{"$f":"IF(Table1[विद्यार्थी का नाम]=\"\",\"\",ROWS($A$1:A1174))","v":""},{"$f":"IF('SD Data Paste'!A1175=\"\",\"\",'SD Data Paste'!A1175)","v":""},{"$f":"IF('SD Data Paste'!B1175=\"\",\"\",'SD Data Paste'!B1175)","v":""},1174,{"$f":"IF('SD Data Paste'!E1175=\"\",\"\",'SD Data Paste'!E1175)","v":""},{"$f":"IF('SD Data Paste'!G1175=\"\",\"\",'SD Data Paste'!G1175)","v":""}]
[{"$f":"IF(Table1[विद्यार्थी का नाम]=\"\",\"\",ROWS($A$1:A1175))","v":""},{"$f":"IF('SD Data Paste'!A1176=\"\",\"\",'SD Data Paste'!A1176)","v":""},{"$f":"IF('SD Data Paste'!B1176=\"\",\"\",'SD Data Paste'!B1176)","v":""},1175,{"$f":"IF('SD Data Paste'!E1176=\"\",\"\",'SD Data Paste'!E1176)","v":""},{"$f":"IF('SD Data Paste'!G1176=\"\",\"\",'SD Data Paste'!G1176)","v":""}]
[{"$f":"IF(Table1[विद्यार्थी का नाम]=\"\",\"\",ROWS($A$1:A1176))","v":""},{"$f":"IF('SD Data Paste'!A1177=\"\",\"\",'SD Data Paste'!A1177)","v":""},{"$f":"IF('SD Data Paste'!B1177=\"\",\"\",'SD Data Paste'!B1177)","v":""},1176,{"$f":"IF('SD Data Paste'!E1177=\"\",\"\",'SD Data Paste'!E1177)","v":""},{"$f":"IF('SD Data Paste'!G1177=\"\",\"\",'SD Data Paste'!G1177)","v":""}]
[{"$f":"IF(Table1[विद्यार्थी का नाम]=\"\",\"\",ROWS($A$1:A1177))","v":""},{"$f":"IF('SD Data Paste'!A1178=\"\",\"\",'SD Data Paste'!A1178)","v":""},{"$f":"IF('SD Data Paste'!B1178=\"\",\"\",'SD Data Paste'!B1178)","v":""},1177,{"$f":"IF('SD Data Paste'!E1178=\"\",\"\",'SD Data Paste'!E1178)","v":""},{"$f":"IF('SD Data Paste'!G1178=\"\",\"\",'SD Data Paste'!G1178)","v":""}]
[{"$f":"IF(Table1[विद्यार्थी का नाम]=\"\",\"\",ROWS($A$1:A1178))","v":""},{"$f":"IF('SD Data Paste'!A1179=\"\",\"\",'SD Data Paste'!A1179)","v":""},{"$f":"IF('SD Data Paste'!B1179=\"\",\"\",'SD Data Paste'!B1179)","v":""},1178,{"$f":"IF('SD Data Paste'!E1179=\"\",\"\",'SD Data Paste'!E1179)","v":""},{"$f":"IF('SD Data Paste'!G1179=\"\",\"\",'SD Data Paste'!G1179)","v":""}]
[{"$f":"IF(Table1[विद्यार्थी का नाम]=\"\",\"\",ROWS($A$1:A1179))","v":""},{"$f":"IF('SD Data Paste'!A1180=\"\",\"\",'SD Data Paste'!A1180)","v":""},{"$f":"IF('SD Data Paste'!B1180=\"\",\"\",'SD Data Paste'!B1180)","v":""},1179,{"$f":"IF('SD Data Paste'!E1180=\"\",\"\",'SD Data Paste'!E1180)","v":""},{"$f":"IF('SD Data Paste'!G1180=\"\",\"\",'SD Data Paste'!G1180)","v":""}]
[{"$f":"IF(Table1[विद्यार्थी का नाम]=\"\",\"\",ROWS($A$1:A1180))","v":""},{"$f":"IF('SD Data Paste'!A1181=\"\",\"\",'SD Data Paste'!A1181)","v":""},{"$f":"IF('SD Data Paste'!B1181=\"\",\"\",'SD Data Paste'!B1181)","v":""},1180,{"$f":"IF('SD Data Paste'!E1181=\"\",\"\",'SD Data Paste'!E1181)","v":""},{"$f":"IF('SD Data Paste'!G1181=\"\",\"\",'SD Data Paste'!G1181)","v":""}]
[{"$f":"IF(Table1[विद्यार्थी का नाम]=\"\",\"\",ROWS($A$1:A1181))","v":""},{"$f":"IF('SD Data Paste'!A1182=\"\",\"\",'SD Data Paste'!A1182)","v":""},{"$f":"IF('SD Data Paste'!B1182=\"\",\"\",'SD Data Paste'!B1182)","v":""},1181,{"$f":"IF('SD Data Paste'!E1182=\"\",\"\",'SD Data Paste'!E1182)","v":""},{"$f":"IF('SD Data Paste'!G1182=\"\",\"\",'SD Data Paste'!G1182)","v":""}]
[{"$f":"IF(Table1[विद्यार्थी का नाम]=\"\",\"\",ROWS($A$1:A1182))","v":""},{"$f":"IF('SD Data Paste'!A1183=\"\",\"\",'SD Data Paste'!A1183)","v":""},{"$f":"IF('SD Data Paste'!B1183=\"\",\"\",'SD Data Paste'!B1183)","v":""},1182,{"$f":"IF('SD Data Paste'!E1183=\"\",\"\",'SD Data Paste'!E1183)","v":""},{"$f":"IF('SD Data Paste'!G1183=\"\",\"\",'SD Data Paste'!G1183)","v":""}]
[{"$f":"IF(Table1[विद्यार्थी का नाम]=\"\",\"\",ROWS($A$1:A1183))","v":""},{"$f":"IF('SD Data Paste'!A1184=\"\",\"\",'SD Data Paste'!A1184)","v":""},{"$f":"IF('SD Data Paste'!B1184=\"\",\"\",'SD Data Paste'!B1184)","v":""},1183,{"$f":"IF('SD Data Paste'!E1184=\"\",\"\",'SD Data Paste'!E1184)","v":""},{"$f":"IF('SD Data Paste'!G1184=\"\",\"\",'SD Data Paste'!G1184)","v":""}]
[{"$f":"IF(Table1[विद्यार्थी का नाम]=\"\",\"\",ROWS($A$1:A1184))","v":""},{"$f":"IF('SD Data Paste'!A1185=\"\",\"\",'SD Data Paste'!A1185)","v":""},{"$f":"IF('SD Data Paste'!B1185=\"\",\"\",'SD Data Paste'!B1185)","v":""},1184,{"$f":"IF('SD Data Paste'!E1185=\"\",\"\",'SD Data Paste'!E1185)","v":""},{"$f":"IF('SD Data Paste'!G1185=\"\",\"\",'SD Data Paste'!G1185)","v":""}]
[{"$f":"IF(Table1[विद्यार्थी का नाम]=\"\",\"\",ROWS($A$1:A1185))","v":""},{"$f":"IF('SD Data Paste'!A1186=\"\",\"\",'SD Data Paste'!A1186)","v":""},{"$f":"IF('SD Data Paste'!B1186=\"\",\"\",'SD Data Paste'!B1186)","v":""},1185,{"$f":"IF('SD Data Paste'!E1186=\"\",\"\",'SD Data Paste'!E1186)","v":""},{"$f":"IF('SD Data Paste'!G1186=\"\",\"\",'SD Data Paste'!G1186)","v":""}]
[{"$f":"IF(Table1[विद्यार्थी का नाम]=\"\",\"\",ROWS($A$1:A1186))","v":""},{"$f":"IF('SD Data Paste'!A1187=\"\",\"\",'SD Data Paste'!A1187)","v":""},{"$f":"IF('SD Data Paste'!B1187=\"\",\"\",'SD Data Paste'!B1187)","v":""},1186,{"$f":"IF('SD Data Paste'!E1187=\"\",\"\",'SD Data Paste'!E1187)","v":""},{"$f":"IF('SD Data Paste'!G1187=\"\",\"\",'SD Data Paste'!G1187)","v":""}]
[{"$f":"IF(Table1[विद्यार्थी का नाम]=\"\",\"\",ROWS($A$1:A1187))","v":""},{"$f":"IF('SD Data Paste'!A1188=\"\",\"\",'SD Data Paste'!A1188)","v":""},{"$f":"IF('SD Data Paste'!B1188=\"\",\"\",'SD Data Paste'!B1188)","v":""},1187,{"$f":"IF('SD Data Paste'!E1188=\"\",\"\",'SD Data Paste'!E1188)","v":""},{"$f":"IF('SD Data Paste'!G1188=\"\",\"\",'SD Data Paste'!G1188)","v":""}]
[{"$f":"IF(Table1[विद्यार्थी का नाम]=\"\",\"\",ROWS($A$1:A1188))","v":""},{"$f":"IF('SD Data Paste'!A1189=\"\",\"\",'SD Data Paste'!A1189)","v":""},{"$f":"IF('SD Data Paste'!B1189=\"\",\"\",'SD Data Paste'!B1189)","v":""},1188,{"$f":"IF('SD Data Paste'!E1189=\"\",\"\",'SD Data Paste'!E1189)","v":""},{"$f":"IF('SD Data Paste'!G1189=\"\",\"\",'SD Data Paste'!G1189)","v":""}]
[{"$f":"IF(Table1[विद्यार्थी का नाम]=\"\",\"\",ROWS($A$1:A1189))","v":""},{"$f":"IF('SD Data Paste'!A1190=\"\",\"\",'SD Data Paste'!A1190)","v":""},{"$f":"IF('SD Data Paste'!B1190=\"\",\"\",'SD Data Paste'!B1190)","v":""},1189,{"$f":"IF('SD Data Paste'!E1190=\"\",\"\",'SD Data Paste'!E1190)","v":""},{"$f":"IF('SD Data Paste'!G1190=\"\",\"\",'SD Data Paste'!G1190)","v":""}]
[{"$f":"IF(Table1[विद्यार्थी का नाम]=\"\",\"\",ROWS($A$1:A1190))","v":""},{"$f":"IF('SD Data Paste'!A1191=\"\",\"\",'SD Data Paste'!A1191)","v":""},{"$f":"IF('SD Data Paste'!B1191=\"\",\"\",'SD Data Paste'!B1191)","v":""},1190,{"$f":"IF('SD Data Paste'!E1191=\"\",\"\",'SD Data Paste'!E1191)","v":""},{"$f":"IF('SD Data Paste'!G1191=\"\",\"\",'SD Data Paste'!G1191)","v":""}]
[{"$f":"IF(Table1[विद्यार्थी का नाम]=\"\",\"\",ROWS($A$1:A1191))","v":""},{"$f":"IF('SD Data Paste'!A1192=\"\",\"\",'SD Data Paste'!A1192)","v":""},{"$f":"IF('SD Data Paste'!B1192=\"\",\"\",'SD Data Paste'!B1192)","v":""},1191,{"$f":"IF('SD Data Paste'!E1192=\"\",\"\",'SD Data Paste'!E1192)","v":""},{"$f":"IF('SD Data Paste'!G1192=\"\",\"\",'SD Data Paste'!G1192)","v":""}]
[{"$f":"IF(Table1[विद्यार्थी का नाम]=\"\",\"\",ROWS($A$1:A1192))","v":""},{"$f":"IF('SD Data Paste'!A1193=\"\",\"\",'SD Data Paste'!A1193)","v":""},{"$f":"IF('SD Data Paste'!B1193=\"\",\"\",'SD Data Paste'!B1193)","v":""},1192,{"$f":"IF('SD Data Paste'!E1193=\"\",\"\",'SD Data Paste'!E1193)","v":""},{"$f":"IF('SD Data Paste'!G1193=\"\",\"\",'SD Data Paste'!G1193)","v":""}]
[{"$f":"IF(Table1[विद्यार्थी का नाम]=\"\",\"\",ROWS($A$1:A1193))","v":""},{"$f":"IF('SD Data Paste'!A1194=\"\",\"\",'SD Data Paste'!A1194)","v":""},{"$f":"IF('SD Data Paste'!B1194=\"\",\"\",'SD Data Paste'!B1194)","v":""},1193,{"$f":"IF('SD Data Paste'!E1194=\"\",\"\",'SD Data Paste'!E1194)","v":""},{"$f":"IF('SD Data Paste'!G1194=\"\",\"\",'SD Data Paste'!G1194)","v":""}]
[{"$f":"IF(Table1[विद्यार्थी का नाम]=\"\",\"\",ROWS($A$1:A1194))","v":""},{"$f":"IF('SD Data Paste'!A1195=\"\",\"\",'SD Data Paste'!A1195)","v":""},{"$f":"IF('SD Data Paste'!B1195=\"\",\"\",'SD Data Paste'!B1195)","v":""},1194,{"$f":"IF('SD Data Paste'!E1195=\"\",\"\",'SD Data Paste'!E1195)","v":""},{"$f":"IF('SD Data Paste'!G1195=\"\",\"\",'SD Data Paste'!G1195)","v":""}]
[{"$f":"IF(Table1[विद्यार्थी का नाम]=\"\",\"\",ROWS($A$1:A1195))","v":""},{"$f":"IF('SD Data Paste'!A1196=\"\",\"\",'SD Data Paste'!A1196)","v":""},{"$f":"IF('SD Data Paste'!B1196=\"\",\"\",'SD Data Paste'!B1196)","v":""},1195,{"$f":"IF('SD Data Paste'!E1196=\"\",\"\",'SD Data Paste'!E1196)","v":""},{"$f":"IF('SD Data Paste'!G1196=\"\",\"\",'SD Data Paste'!G1196)","v":""}]
[{"$f":"IF(Table1[विद्यार्थी का नाम]=\"\",\"\",ROWS($A$1:A1196))","v":""},{"$f":"IF('SD Data Paste'!A1197=\"\",\"\",'SD Data Paste'!A1197)","v":""},{"$f":"IF('SD Data Paste'!B1197=\"\",\"\",'SD Data Paste'!B1197)","v":""},1196,{"$f":"IF('SD Data Paste'!E1197=\"\",\"\",'SD Data Paste'!E1197)","v":""},{"$f":"IF('SD Data Paste'!G1197=\"\",\"\",'SD Data Paste'!G1197)","v":""}]
[{"$f":"IF(Table1[विद्यार्थी का नाम]=\"\",\"\",ROWS($A$1:A1197))","v":""},{"$f":"IF('SD Data Paste'!A1198=\"\",\"\",'SD Data Paste'!A1198)","v":""},{"$f":"IF('SD Data Paste'!B1198=\"\",\"\",'SD Data Paste'!B1198)","v":""},1197,{"$f":"IF('SD Data Paste'!E1198=\"\",\"\",'SD Data Paste'!E1198)","v":""},{"$f":"IF('SD Data Paste'!G1198=\"\",\"\",'SD Data Paste'!G1198)","v":""}]
[{"$f":"IF(Table1[विद्यार्थी का नाम]=\"\",\"\",ROWS($A$1:A1198))","v":""},{"$f":"IF('SD Data Paste'!A1199=\"\",\"\",'SD Data Paste'!A1199)","v":""},{"$f":"IF('SD Data Paste'!B1199=\"\",\"\",'SD Data Paste'!B1199)","v":""},1198,{"$f":"IF('SD Data Paste'!E1199=\"\",\"\",'SD Data Paste'!E1199)","v":""},{"$f":"IF('SD Data Paste'!G1199=\"\",\"\",'SD Data Paste'!G1199)","v":""}]
[{"$f":"IF(Table1[विद्यार्थी का नाम]=\"\",\"\",ROWS($A$1:A1199))","v":""},{"$f":"IF('SD Data Paste'!A1200=\"\",\"\",'SD Data Paste'!A1200)","v":""},{"$f":"IF('SD Data Paste'!B1200=\"\",\"\",'SD Data Paste'!B1200)","v":""},1199,{"$f":"IF('SD Data Paste'!E1200=\"\",\"\",'SD Data Paste'!E1200)","v":""},{"$f":"IF('SD Data Paste'!G1200=\"\",\"\",'SD Data Paste'!G1200)","v":""}]
[{"$f":"IF(Table1[विद्यार्थी का नाम]=\"\",\"\",ROWS($A$1:A1200))","v":""},{"$f":"IF('SD Data Paste'!A1201=\"\",\"\",'SD Data Paste'!A1201)","v":""},{"$f":"IF('SD Data Paste'!B1201=\"\",\"\",'SD Data Paste'!B1201)","v":""},1200,{"$f":"IF('SD Data Paste'!E1201=\"\",\"\",'SD Data Paste'!E1201)","v":""},{"$f":"IF('SD Data Paste'!G1201=\"\",\"\",'SD Data Paste'!G1201)","v":""}]
[{"$f":"IF(Table1[विद्यार्थी का नाम]=\"\",\"\",ROWS($A$1:A1201))","v":""},{"$f":"IF('SD Data Paste'!A1202=\"\",\"\",'SD Data Paste'!A1202)","v":""},{"$f":"IF('SD Data Paste'!B1202=\"\",\"\",'SD Data Paste'!B1202)","v":""},1201,{"$f":"IF('SD Data Paste'!E1202=\"\",\"\",'SD Data Paste'!E1202)","v":""},{"$f":"IF('SD Data Paste'!G1202=\"\",\"\",'SD Data Paste'!G1202)","v":""}]
[{"$f":"IF(Table1[विद्यार्थी का नाम]=\"\",\"\",ROWS($A$1:A1202))","v":""},{"$f":"IF('SD Data Paste'!A1203=\"\",\"\",'SD Data Paste'!A1203)","v":""},{"$f":"IF('SD Data Paste'!B1203=\"\",\"\",'SD Data Paste'!B1203)","v":""},1202,{"$f":"IF('SD Data Paste'!E1203=\"\",\"\",'SD Data Paste'!E1203)","v":""},{"$f":"IF('SD Data Paste'!G1203=\"\",\"\",'SD Data Paste'!G1203)","v":""}]
[{"$f":"IF(Table1[विद्यार्थी का नाम]=\"\",\"\",ROWS($A$1:A1203))","v":""},{"$f":"IF('SD Data Paste'!A1204=\"\",\"\",'SD Data Paste'!A1204)","v":""},{"$f":"IF('SD Data Paste'!B1204=\"\",\"\",'SD Data Paste'!B1204)","v":""},1203,{"$f":"IF('SD Data Paste'!E1204=\"\",\"\",'SD Data Paste'!E1204)","v":""},{"$f":"IF('SD Data Paste'!G1204=\"\",\"\",'SD Data Paste'!G1204)","v":""}]
[{"$f":"IF(Table1[विद्यार्थी का नाम]=\"\",\"\",ROWS($A$1:A1204))","v":""},{"$f":"IF('SD Data Paste'!A1205=\"\",\"\",'SD Data Paste'!A1205)","v":""},{"$f":"IF('SD Data Paste'!B1205=\"\",\"\",'SD Data Paste'!B1205)","v":""},1204,{"$f":"IF('SD Data Paste'!E1205=\"\",\"\",'SD Data Paste'!E1205)","v":""},{"$f":"IF('SD Data Paste'!G1205=\"\",\"\",'SD Data Paste'!G1205)","v":""}]
[{"$f":"IF(Table1[विद्यार्थी का नाम]=\"\",\"\",ROWS($A$1:A1205))","v":""},{"$f":"IF('SD Data Paste'!A1206=\"\",\"\",'SD Data Paste'!A1206)","v":""},{"$f":"IF('SD Data Paste'!B1206=\"\",\"\",'SD Data Paste'!B1206)","v":""},1205,{"$f":"IF('SD Data Paste'!E1206=\"\",\"\",'SD Data Paste'!E1206)","v":""},{"$f":"IF('SD Data Paste'!G1206=\"\",\"\",'SD Data Paste'!G1206)","v":""}]
[{"$f":"IF(Table1[विद्यार्थी का नाम]=\"\",\"\",ROWS($A$1:A1206))","v":""},{"$f":"IF('SD Data Paste'!A1207=\"\",\"\",'SD Data Paste'!A1207)","v":""},{"$f":"IF('SD Data Paste'!B1207=\"\",\"\",'SD Data Paste'!B1207)","v":""},1206,{"$f":"IF('SD Data Paste'!E1207=\"\",\"\",'SD Data Paste'!E1207)","v":""},{"$f":"IF('SD Data Paste'!G1207=\"\",\"\",'SD Data Paste'!G1207)","v":""}]
[{"$f":"IF(Table1[विद्यार्थी का नाम]=\"\",\"\",ROWS($A$1:A1207))","v":""},{"$f":"IF('SD Data Paste'!A1208=\"\",\"\",'SD Data Paste'!A1208)","v":""},{"$f":"IF('SD Data Paste'!B1208=\"\",\"\",'SD Data Paste'!B1208)","v":""},1207,{"$f":"IF('SD Data Paste'!E1208=\"\",\"\",'SD Data Paste'!E1208)","v":""},{"$f":"IF('SD Data Paste'!G1208=\"\",\"\",'SD Data Paste'!G1208)","v":""}]
[{"$f":"IF(Table1[विद्यार्थी का नाम]=\"\",\"\",ROWS($A$1:A1208))","v":""},{"$f":"IF('SD Data Paste'!A1209=\"\",\"\",'SD Data Paste'!A1209)","v":""},{"$f":"IF('SD Data Paste'!B1209=\"\",\"\",'SD Data Paste'!B1209)","v":""},1208,{"$f":"IF('SD Data Paste'!E1209=\"\",\"\",'SD Data Paste'!E1209)","v":""},{"$f":"IF('SD Data Paste'!G1209=\"\",\"\",'SD Data Paste'!G1209)","v":""}]
[{"$f":"IF(Table1[विद्यार्थी का नाम]=\"\",\"\",ROWS($A$1:A1209))","v":""},{"$f":"IF('SD Data Paste'!A1210=\"\",\"\",'SD Data Paste'!A1210)","v":""},{"$f":"IF('SD Data Paste'!B1210=\"\",\"\",'SD Data Paste'!B1210)","v":""},1209,{"$f":"IF('SD Data Paste'!E1210=\"\",\"\",'SD Data Paste'!E1210)","v":""},{"$f":"IF('SD Data Paste'!G1210=\"\",\"\",'SD Data Paste'!G1210)","v":""}]
[{"$f":"IF(Table1[विद्यार्थी का नाम]=\"\",\"\",ROWS($A$1:A1210))","v":""},{"$f":"IF('SD Data Paste'!A1211=\"\",\"\",'SD Data Paste'!A1211)","v":""},{"$f":"IF('SD Data Paste'!B1211=\"\",\"\",'SD Data Paste'!B1211)","v":""},1210,{"$f":"IF('SD Data Paste'!E1211=\"\",\"\",'SD Data Paste'!E1211)","v":""},{"$f":"IF('SD Data Paste'!G1211=\"\",\"\",'SD Data Paste'!G1211)","v":""}]
[{"$f":"IF(Table1[विद्यार्थी का नाम]=\"\",\"\",ROWS($A$1:A1211))","v":""},{"$f":"IF('SD Data Paste'!A1212=\"\",\"\",'SD Data Paste'!A1212)","v":""},{"$f":"IF('SD Data Paste'!B1212=\"\",\"\",'SD Data Paste'!B1212)","v":""},1211,{"$f":"IF('SD Data Paste'!E1212=\"\",\"\",'SD Data Paste'!E1212)","v":""},{"$f":"IF('SD Data Paste'!G1212=\"\",\"\",'SD Data Paste'!G1212)","v":""}]
[{"$f":"IF(Table1[विद्यार्थी का नाम]=\"\",\"\",ROWS($A$1:A1212))","v":""},{"$f":"IF('SD Data Paste'!A1213=\"\",\"\",'SD Data Paste'!A1213)","v":""},{"$f":"IF('SD Data Paste'!B1213=\"\",\"\",'SD Data Paste'!B1213)","v":""},1212,{"$f":"IF('SD Data Paste'!E1213=\"\",\"\",'SD Data Paste'!E1213)","v":""},{"$f":"IF('SD Data Paste'!G1213=\"\",\"\",'SD Data Paste'!G1213)","v":""}]
[{"$f":"IF(Table1[विद्यार्थी का नाम]=\"\",\"\",ROWS($A$1:A1213))","v":""},{"$f":"IF('SD Data Paste'!A1214=\"\",\"\",'SD Data Paste'!A1214)","v":""},{"$f":"IF('SD Data Paste'!B1214=\"\",\"\",'SD Data Paste'!B1214)","v":""},1213,{"$f":"IF('SD Data Paste'!E1214=\"\",\"\",'SD Data Paste'!E1214)","v":""},{"$f":"IF('SD Data Paste'!G1214=\"\",\"\",'SD Data Paste'!G1214)","v":""}]
[{"$f":"IF(Table1[विद्यार्थी का नाम]=\"\",\"\",ROWS($A$1:A1214))","v":""},{"$f":"IF('SD Data Paste'!A1215=\"\",\"\",'SD Data Paste'!A1215)","v":""},{"$f":"IF('SD Data Paste'!B1215=\"\",\"\",'SD Data Paste'!B1215)","v":""},1214,{"$f":"IF('SD Data Paste'!E1215=\"\",\"\",'SD Data Paste'!E1215)","v":""},{"$f":"IF('SD Data Paste'!G1215=\"\",\"\",'SD Data Paste'!G1215)","v":""}]
[{"$f":"IF(Table1[विद्यार्थी का नाम]=\"\",\"\",ROWS($A$1:A1215))","v":""},{"$f":"IF('SD Data Paste'!A1216=\"\",\"\",'SD Data Paste'!A1216)","v":""},{"$f":"IF('SD Data Paste'!B1216=\"\",\"\",'SD Data Paste'!B1216)","v":""},1215,{"$f":"IF('SD Data Paste'!E1216=\"\",\"\",'SD Data Paste'!E1216)","v":""},{"$f":"IF('SD Data Paste'!G1216=\"\",\"\",'SD Data Paste'!G1216)","v":""}]
[{"$f":"IF(Table1[विद्यार्थी का नाम]=\"\",\"\",ROWS($A$1:A1216))","v":""},{"$f":"IF('SD Data Paste'!A1217=\"\",\"\",'SD Data Paste'!A1217)","v":""},{"$f":"IF('SD Data Paste'!B1217=\"\",\"\",'SD Data Paste'!B1217)","v":""},1216,{"$f":"IF('SD Data Paste'!E1217=\"\",\"\",'SD Data Paste'!E1217)","v":""},{"$f":"IF('SD Data Paste'!G1217=\"\",\"\",'SD Data Paste'!G1217)","v":""}]
[{"$f":"IF(Table1[विद्यार्थी का नाम]=\"\",\"\",ROWS($A$1:A1217))","v":""},{"$f":"IF('SD Data Paste'!A1218=\"\",\"\",'SD Data Paste'!A1218)","v":""},{"$f":"IF('SD Data Paste'!B1218=\"\",\"\",'SD Data Paste'!B1218)","v":""},1217,{"$f":"IF('SD Data Paste'!E1218=\"\",\"\",'SD Data Paste'!E1218)","v":""},{"$f":"IF('SD Data Paste'!G1218=\"\",\"\",'SD Data Paste'!G1218)","v":""}]
[{"$f":"IF(Table1[विद्यार्थी का नाम]=\"\",\"\",ROWS($A$1:A1218))","v":""},{"$f":"IF('SD Data Paste'!A1219=\"\",\"\",'SD Data Paste'!A1219)","v":""},{"$f":"IF('SD Data Paste'!B1219=\"\",\"\",'SD Data Paste'!B1219)","v":""},1218,{"$f":"IF('SD Data Paste'!E1219=\"\",\"\",'SD Data Paste'!E1219)","v":""},{"$f":"IF('SD Data Paste'!G1219=\"\",\"\",'SD Data Paste'!G1219)","v":""}]
[{"$f":"IF(Table1[विद्यार्थी का नाम]=\"\",\"\",ROWS($A$1:A1219))","v":""},{"$f":"IF('SD Data Paste'!A1220=\"\",\"\",'SD Data Paste'!A1220)","v":""},{"$f":"IF('SD Data Paste'!B1220=\"\",\"\",'SD Data Paste'!B1220)","v":""},{"$f":"IF(D1221=\"\",\"\",D1221+1)","v":1219},{"$f":"IF('SD Data Paste'!E1220=\"\",\"\",'SD Data Paste'!E1220)","v":""},{"$f":"IF('SD Data Paste'!G1220=\"\",\"\",'SD Data Paste'!G1220)","v":""}]
[{"$f":"IF(Table1[विद्यार्थी का नाम]=\"\",\"\",ROWS($A$1:A1220))","v":""},{"$f":"IF('SD Data Paste'!A1221=\"\",\"\",'SD Data Paste'!A1221)","v":""},{"$f":"IF('SD Data Paste'!B1221=\"\",\"\",'SD Data Paste'!B1221)","v":""},1220,{"$f":"IF('SD Data Paste'!E1221=\"\",\"\",'SD Data Paste'!E1221)","v":""},{"$f":"IF('SD Data Paste'!G1221=\"\",\"\",'SD Data Paste'!G1221)","v":""}]
[{"$f":"IF(Table1[विद्यार्थी का नाम]=\"\",\"\",ROWS($A$1:A1221))","v":""},{"$f":"IF('SD Data Paste'!A1222=\"\",\"\",'SD Data Paste'!A1222)","v":""},{"$f":"IF('SD Data Paste'!B1222=\"\",\"\",'SD Data Paste'!B1222)","v":""},1221,{"$f":"IF('SD Data Paste'!E1222=\"\",\"\",'SD Data Paste'!E1222)","v":""},{"$f":"IF('SD Data Paste'!G1222=\"\",\"\",'SD Data Paste'!G1222)","v":""}]
[{"$f":"IF(Table1[विद्यार्थी का नाम]=\"\",\"\",ROWS($A$1:A1222))","v":""},{"$f":"IF('SD Data Paste'!A1223=\"\",\"\",'SD Data Paste'!A1223)","v":""},{"$f":"IF('SD Data Paste'!B1223=\"\",\"\",'SD Data Paste'!B1223)","v":""},1222,{"$f":"IF('SD Data Paste'!E1223=\"\",\"\",'SD Data Paste'!E1223)","v":""},{"$f":"IF('SD Data Paste'!G1223=\"\",\"\",'SD Data Paste'!G1223)","v":""}]
[{"$f":"IF(Table1[विद्यार्थी का नाम]=\"\",\"\",ROWS($A$1:A1223))","v":""},{"$f":"IF('SD Data Paste'!A1224=\"\",\"\",'SD Data Paste'!A1224)","v":""},{"$f":"IF('SD Data Paste'!B1224=\"\",\"\",'SD Data Paste'!B1224)","v":""},1223,{"$f":"IF('SD Data Paste'!E1224=\"\",\"\",'SD Data Paste'!E1224)","v":""},{"$f":"IF('SD Data Paste'!G1224=\"\",\"\",'SD Data Paste'!G1224)","v":""}]
[{"$f":"IF(Table1[विद्यार्थी का नाम]=\"\",\"\",ROWS($A$1:A1224))","v":""},{"$f":"IF('SD Data Paste'!A1225=\"\",\"\",'SD Data Paste'!A1225)","v":""},{"$f":"IF('SD Data Paste'!B1225=\"\",\"\",'SD Data Paste'!B1225)","v":""},1224,{"$f":"IF('SD Data Paste'!E1225=\"\",\"\",'SD Data Paste'!E1225)","v":""},{"$f":"IF('SD Data Paste'!G1225=\"\",\"\",'SD Data Paste'!G1225)","v":""}]
[{"$f":"IF(Table1[विद्यार्थी का नाम]=\"\",\"\",ROWS($A$1:A1225))","v":""},{"$f":"IF('SD Data Paste'!A1226=\"\",\"\",'SD Data Paste'!A1226)","v":""},{"$f":"IF('SD Data Paste'!B1226=\"\",\"\",'SD Data Paste'!B1226)","v":""},1225,{"$f":"IF('SD Data Paste'!E1226=\"\",\"\",'SD Data Paste'!E1226)","v":""},{"$f":"IF('SD Data Paste'!G1226=\"\",\"\",'SD Data Paste'!G1226)","v":""}]
[{"$f":"IF(Table1[विद्यार्थी का नाम]=\"\",\"\",ROWS($A$1:A1226))","v":""},{"$f":"IF('SD Data Paste'!A1227=\"\",\"\",'SD Data Paste'!A1227)","v":""},{"$f":"IF('SD Data Paste'!B1227=\"\",\"\",'SD Data Paste'!B1227)","v":""},1226,{"$f":"IF('SD Data Paste'!E1227=\"\",\"\",'SD Data Paste'!E1227)","v":""},{"$f":"IF('SD Data Paste'!G1227=\"\",\"\",'SD Data Paste'!G1227)","v":""}]
[{"$f":"IF(Table1[विद्यार्थी का नाम]=\"\",\"\",ROWS($A$1:A1227))","v":""},{"$f":"IF('SD Data Paste'!A1228=\"\",\"\",'SD Data Paste'!A1228)","v":""},{"$f":"IF('SD Data Paste'!B1228=\"\",\"\",'SD Data Paste'!B1228)","v":""},1227,{"$f":"IF('SD Data Paste'!E1228=\"\",\"\",'SD Data Paste'!E1228)","v":""},{"$f":"IF('SD Data Paste'!G1228=\"\",\"\",'SD Data Paste'!G1228)","v":""}]
[{"$f":"IF(Table1[विद्यार्थी का नाम]=\"\",\"\",ROWS($A$1:A1228))","v":""},{"$f":"IF('SD Data Paste'!A1229=\"\",\"\",'SD Data Paste'!A1229)","v":""},{"$f":"IF('SD Data Paste'!B1229=\"\",\"\",'SD Data Paste'!B1229)","v":""},1228,{"$f":"IF('SD Data Paste'!E1229=\"\",\"\",'SD Data Paste'!E1229)","v":""},{"$f":"IF('SD Data Paste'!G1229=\"\",\"\",'SD Data Paste'!G1229)","v":""}]
[{"$f":"IF(Table1[विद्यार्थी का नाम]=\"\",\"\",ROWS($A$1:A1229))","v":""},{"$f":"IF('SD Data Paste'!A1230=\"\",\"\",'SD Data Paste'!A1230)","v":""},{"$f":"IF('SD Data Paste'!B1230=\"\",\"\",'SD Data Paste'!B1230)","v":""},1229,{"$f":"IF('SD Data Paste'!E1230=\"\",\"\",'SD Data Paste'!E1230)","v":""},{"$f":"IF('SD Data Paste'!G1230=\"\",\"\",'SD Data Paste'!G1230)","v":""}]
[{"$f":"IF(Table1[विद्यार्थी का नाम]=\"\",\"\",ROWS($A$1:A1230))","v":""},{"$f":"IF('SD Data Paste'!A1231=\"\",\"\",'SD Data Paste'!A1231)","v":""},{"$f":"IF('SD Data Paste'!B1231=\"\",\"\",'SD Data Paste'!B1231)","v":""},1230,{"$f":"IF('SD Data Paste'!E1231=\"\",\"\",'SD Data Paste'!E1231)","v":""},{"$f":"IF('SD Data Paste'!G1231=\"\",\"\",'SD Data Paste'!G1231)","v":""}]
[{"$f":"IF(Table1[विद्यार्थी का नाम]=\"\",\"\",ROWS($A$1:A1231))","v":""},{"$f":"IF('SD Data Paste'!A1232=\"\",\"\",'SD Data Paste'!A1232)","v":""},{"$f":"IF('SD Data Paste'!B1232=\"\",\"\",'SD Data Paste'!B1232)","v":""},1231,{"$f":"IF('SD Data Paste'!E1232=\"\",\"\",'SD Data Paste'!E1232)","v":""},{"$f":"IF('SD Data Paste'!G1232=\"\",\"\",'SD Data Paste'!G1232)","v":""}]
[{"$f":"IF(Table1[विद्यार्थी का नाम]=\"\",\"\",ROWS($A$1:A1232))","v":""},{"$f":"IF('SD Data Paste'!A1233=\"\",\"\",'SD Data Paste'!A1233)","v":""},{"$f":"IF('SD Data Paste'!B1233=\"\",\"\",'SD Data Paste'!B1233)","v":""},1232,{"$f":"IF('SD Data Paste'!E1233=\"\",\"\",'SD Data Paste'!E1233)","v":""},{"$f":"IF('SD Data Paste'!G1233=\"\",\"\",'SD Data Paste'!G1233)","v":""}]
[{"$f":"IF(Table1[विद्यार्थी का नाम]=\"\",\"\",ROWS($A$1:A1233))","v":""},{"$f":"IF('SD Data Paste'!A1234=\"\",\"\",'SD Data Paste'!A1234)","v":""},{"$f":"IF('SD Data Paste'!B1234=\"\",\"\",'SD Data Paste'!B1234)","v":""},1233,{"$f":"IF('SD Data Paste'!E1234=\"\",\"\",'SD Data Paste'!E1234)","v":""},{"$f":"IF('SD Data Paste'!G1234=\"\",\"\",'SD Data Paste'!G1234)","v":""}]
[{"$f":"IF(Table1[विद्यार्थी का नाम]=\"\",\"\",ROWS($A$1:A1234))","v":""},{"$f":"IF('SD Data Paste'!A1235=\"\",\"\",'SD Data Paste'!A1235)","v":""},{"$f":"IF('SD Data Paste'!B1235=\"\",\"\",'SD Data Paste'!B1235)","v":""},1234,{"$f":"IF('SD Data Paste'!E1235=\"\",\"\",'SD Data Paste'!E1235)","v":""},{"$f":"IF('SD Data Paste'!G1235=\"\",\"\",'SD Data Paste'!G1235)","v":""}]
[{"$f":"IF(Table1[विद्यार्थी का नाम]=\"\",\"\",ROWS($A$1:A1235))","v":""},{"$f":"IF('SD Data Paste'!A1236=\"\",\"\",'SD Data Paste'!A1236)","v":""},{"$f":"IF('SD Data Paste'!B1236=\"\",\"\",'SD Data Paste'!B1236)","v":""},1235,{"$f":"IF('SD Data Paste'!E1236=\"\",\"\",'SD Data Paste'!E1236)","v":""},{"$f":"IF('SD Data Paste'!G1236=\"\",\"\",'SD Data Paste'!G1236)","v":""}]
[{"$f":"IF(Table1[विद्यार्थी का नाम]=\"\",\"\",ROWS($A$1:A1236))","v":""},{"$f":"IF('SD Data Paste'!A1237=\"\",\"\",'SD Data Paste'!A1237)","v":""},{"$f":"IF('SD Data Paste'!B1237=\"\",\"\",'SD Data Paste'!B1237)","v":""},1236,{"$f":"IF('SD Data Paste'!E1237=\"\",\"\",'SD Data Paste'!E1237)","v":""},{"$f":"IF('SD Data Paste'!G1237=\"\",\"\",'SD Data Paste'!G1237)","v":""}]
[{"$f":"IF(Table1[विद्यार्थी का नाम]=\"\",\"\",ROWS($A$1:A1237))","v":""},{"$f":"IF('SD Data Paste'!A1238=\"\",\"\",'SD Data Paste'!A1238)","v":""},{"$f":"IF('SD Data Paste'!B1238=\"\",\"\",'SD Data Paste'!B1238)","v":""},1237,{"$f":"IF('SD Data Paste'!E1238=\"\",\"\",'SD Data Paste'!E1238)","v":""},{"$f":"IF('SD Data Paste'!G1238=\"\",\"\",'SD Data Paste'!G1238)","v":""}]
[{"$f":"IF(Table1[विद्यार्थी का नाम]=\"\",\"\",ROWS($A$1:A1238))","v":""},{"$f":"IF('SD Data Paste'!A1239=\"\",\"\",'SD Data Paste'!A1239)","v":""},{"$f":"IF('SD Data Paste'!B1239=\"\",\"\",'SD Data Paste'!B1239)","v":""},1238,{"$f":"IF('SD Data Paste'!E1239=\"\",\"\",'SD Data Paste'!E1239)","v":""},{"$f":"IF('SD Data Paste'!G1239=\"\",\"\",'SD Data Paste'!G1239)","v":""}]
[{"$f":"IF(Table1[विद्यार्थी का नाम]=\"\",\"\",ROWS($A$1:A1239))","v":""},{"$f":"IF('SD Data Paste'!A1240=\"\",\"\",'SD Data Paste'!A1240)","v":""},{"$f":"IF('SD Data Paste'!B1240=\"\",\"\",'SD Data Paste'!B1240)","v":""},1239,{"$f":"IF('SD Data Paste'!E1240=\"\",\"\",'SD Data Paste'!E1240)","v":""},{"$f":"IF('SD Data Paste'!G1240=\"\",\"\",'SD Data Paste'!G1240)","v":""}]
[{"$f":"IF(Table1[विद्यार्थी का नाम]=\"\",\"\",ROWS($A$1:A1240))","v":""},{"$f":"IF('SD Data Paste'!A1241=\"\",\"\",'SD Data Paste'!A1241)","v":""},{"$f":"IF('SD Data Paste'!B1241=\"\",\"\",'SD Data Paste'!B1241)","v":""},1240,{"$f":"IF('SD Data Paste'!E1241=\"\",\"\",'SD Data Paste'!E1241)","v":""},{"$f":"IF('SD Data Paste'!G1241=\"\",\"\",'SD Data Paste'!G1241)","v":""}]
[{"$f":"IF(Table1[विद्यार्थी का नाम]=\"\",\"\",ROWS($A$1:A1241))","v":""},{"$f":"IF('SD Data Paste'!A1242=\"\",\"\",'SD Data Paste'!A1242)","v":""},{"$f":"IF('SD Data Paste'!B1242=\"\",\"\",'SD Data Paste'!B1242)","v":""},1241,{"$f":"IF('SD Data Paste'!E1242=\"\",\"\",'SD Data Paste'!E1242)","v":""},{"$f":"IF('SD Data Paste'!G1242=\"\",\"\",'SD Data Paste'!G1242)","v":""}]
[{"$f":"IF(Table1[विद्यार्थी का नाम]=\"\",\"\",ROWS($A$1:A1242))","v":""},{"$f":"IF('SD Data Paste'!A1243=\"\",\"\",'SD Data Paste'!A1243)","v":""},{"$f":"IF('SD Data Paste'!B1243=\"\",\"\",'SD Data Paste'!B1243)","v":""},1242,{"$f":"IF('SD Data Paste'!E1243=\"\",\"\",'SD Data Paste'!E1243)","v":""},{"$f":"IF('SD Data Paste'!G1243=\"\",\"\",'SD Data Paste'!G1243)","v":""}]
[{"$f":"IF(Table1[विद्यार्थी का नाम]=\"\",\"\",ROWS($A$1:A1243))","v":""},{"$f":"IF('SD Data Paste'!A1244=\"\",\"\",'SD Data Paste'!A1244)","v":""},{"$f":"IF('SD Data Paste'!B1244=\"\",\"\",'SD Data Paste'!B1244)","v":""},1243,{"$f":"IF('SD Data Paste'!E1244=\"\",\"\",'SD Data Paste'!E1244)","v":""},{"$f":"IF('SD Data Paste'!G1244=\"\",\"\",'SD Data Paste'!G1244)","v":""}]
[{"$f":"IF(Table1[विद्यार्थी का नाम]=\"\",\"\",ROWS($A$1:A1244))","v":""},{"$f":"IF('SD Data Paste'!A1245=\"\",\"\",'SD Data Paste'!A1245)","v":""},{"$f":"IF('SD Data Paste'!B1245=\"\",\"\",'SD Data Paste'!B1245)","v":""},1244,{"$f":"IF('SD Data Paste'!E1245=\"\",\"\",'SD Data Paste'!E1245)","v":""},{"$f":"IF('SD Data Paste'!G1245=\"\",\"\",'SD Data Paste'!G1245)","v":""}]
[{"$f":"IF(Table1[विद्यार्थी का नाम]=\"\",\"\",ROWS($A$1:A1245))","v":""},{"$f":"IF('SD Data Paste'!A1246=\"\",\"\",'SD Data Paste'!A1246)","v":""},{"$f":"IF('SD Data Paste'!B1246=\"\",\"\",'SD Data Paste'!B1246)","v":""},1245,{"$f":"IF('SD Data Paste'!E1246=\"\",\"\",'SD Data Paste'!E1246)","v":""},{"$f":"IF('SD Data Paste'!G1246=\"\",\"\",'SD Data Paste'!G1246)","v":""}]
[{"$f":"IF(Table1[विद्यार्थी का नाम]=\"\",\"\",ROWS($A$1:A1246))","v":""},{"$f":"IF('SD Data Paste'!A1247=\"\",\"\",'SD Data Paste'!A1247)","v":""},{"$f":"IF('SD Data Paste'!B1247=\"\",\"\",'SD Data Paste'!B1247)","v":""},1246,{"$f":"IF('SD Data Paste'!E1247=\"\",\"\",'SD Data Paste'!E1247)","v":""},{"$f":"IF('SD Data Paste'!G1247=\"\",\"\",'SD Data Paste'!G1247)","v":""}]
[{"$f":"IF(Table1[विद्यार्थी का नाम]=\"\",\"\",ROWS($A$1:A1247))","v":""},{"$f":"IF('SD Data Paste'!A1248=\"\",\"\",'SD Data Paste'!A1248)","v":""},{"$f":"IF('SD Data Paste'!B1248=\"\",\"\",'SD Data Paste'!B1248)","v":""},1247,{"$f":"IF('SD Data Paste'!E1248=\"\",\"\",'SD Data Paste'!E1248)","v":""},{"$f":"IF('SD Data Paste'!G1248=\"\",\"\",'SD Data Paste'!G1248)","v":""}]
[{"$f":"IF(Table1[विद्यार्थी का नाम]=\"\",\"\",ROWS($A$1:A1248))","v":""},{"$f":"IF('SD Data Paste'!A1249=\"\",\"\",'SD Data Paste'!A1249)","v":""},{"$f":"IF('SD Data Paste'!B1249=\"\",\"\",'SD Data Paste'!B1249)","v":""},1248,{"$f":"IF('SD Data Paste'!E1249=\"\",\"\",'SD Data Paste'!E1249)","v":""},{"$f":"IF('SD Data Paste'!G1249=\"\",\"\",'SD Data Paste'!G1249)","v":""}]
[{"$f":"IF(Table1[विद्यार्थी का नाम]=\"\",\"\",ROWS($A$1:A1249))","v":""},{"$f":"IF('SD Data Paste'!A1250=\"\",\"\",'SD Data Paste'!A1250)","v":""},{"$f":"IF('SD Data Paste'!B1250=\"\",\"\",'SD Data Paste'!B1250)","v":""},1249,{"$f":"IF('SD Data Paste'!E1250=\"\",\"\",'SD Data Paste'!E1250)","v":""},{"$f":"IF('SD Data Paste'!G1250=\"\",\"\",'SD Data Paste'!G1250)","v":""}]
[{"$f":"IF(Table1[विद्यार्थी का नाम]=\"\",\"\",ROWS($A$1:A1250))","v":""},{"$f":"IF('SD Data Paste'!A1251=\"\",\"\",'SD Data Paste'!A1251)","v":""},{"$f":"IF('SD Data Paste'!B1251=\"\",\"\",'SD Data Paste'!B1251)","v":""},1250,{"$f":"IF('SD Data Paste'!E1251=\"\",\"\",'SD Data Paste'!E1251)","v":""},{"$f":"IF('SD Data Paste'!G1251=\"\",\"\",'SD Data Paste'!G1251)","v":""}]
[{"$f":"IF(Table1[विद्यार्थी का नाम]=\"\",\"\",ROWS($A$1:A1251))","v":""},{"$f":"IF('SD Data Paste'!A1252=\"\",\"\",'SD Data Paste'!A1252)","v":""},{"$f":"IF('SD Data Paste'!B1252=\"\",\"\",'SD Data Paste'!B1252)","v":""},1251,{"$f":"IF('SD Data Paste'!E1252=\"\",\"\",'SD Data Paste'!E1252)","v":""},{"$f":"IF('SD Data Paste'!G1252=\"\",\"\",'SD Data Paste'!G1252)","v":""}]
[{"$f":"IF(Table1[विद्यार्थी का नाम]=\"\",\"\",ROWS($A$1:A1252))","v":""},{"$f":"IF('SD Data Paste'!A1253=\"\",\"\",'SD Data Paste'!A1253)","v":""},{"$f":"IF('SD Data Paste'!B1253=\"\",\"\",'SD Data Paste'!B1253)","v":""},1252,{"$f":"IF('SD Data Paste'!E1253=\"\",\"\",'SD Data Paste'!E1253)","v":""},{"$f":"IF('SD Data Paste'!G1253=\"\",\"\",'SD Data Paste'!G1253)","v":""}]
[{"$f":"IF(Table1[विद्यार्थी का नाम]=\"\",\"\",ROWS($A$1:A1253))","v":""},{"$f":"IF('SD Data Paste'!A1254=\"\",\"\",'SD Data Paste'!A1254)","v":""},{"$f":"IF('SD Data Paste'!B1254=\"\",\"\",'SD Data Paste'!B1254)","v":""},1253,{"$f":"IF('SD Data Paste'!E1254=\"\",\"\",'SD Data Paste'!E1254)","v":""},{"$f":"IF('SD Data Paste'!G1254=\"\",\"\",'SD Data Paste'!G1254)","v":""}]
[{"$f":"IF(Table1[विद्यार्थी का नाम]=\"\",\"\",ROWS($A$1:A1254))","v":""},{"$f":"IF('SD Data Paste'!A1255=\"\",\"\",'SD Data Paste'!A1255)","v":""},{"$f":"IF('SD Data Paste'!B1255=\"\",\"\",'SD Data Paste'!B1255)","v":""},1254,{"$f":"IF('SD Data Paste'!E1255=\"\",\"\",'SD Data Paste'!E1255)","v":""},{"$f":"IF('SD Data Paste'!G1255=\"\",\"\",'SD Data Paste'!G1255)","v":""}]
[{"$f":"IF(Table1[विद्यार्थी का नाम]=\"\",\"\",ROWS($A$1:A1255))","v":""},{"$f":"IF('SD Data Paste'!A1256=\"\",\"\",'SD Data Paste'!A1256)","v":""},{"$f":"IF('SD Data Paste'!B1256=\"\",\"\",'SD Data Paste'!B1256)","v":""},1255,{"$f":"IF('SD Data Paste'!E1256=\"\",\"\",'SD Data Paste'!E1256)","v":""},{"$f":"IF('SD Data Paste'!G1256=\"\",\"\",'SD Data Paste'!G1256)","v":""}]
[{"$f":"IF(Table1[विद्यार्थी का नाम]=\"\",\"\",ROWS($A$1:A1256))","v":""},{"$f":"IF('SD Data Paste'!A1257=\"\",\"\",'SD Data Paste'!A1257)","v":""},{"$f":"IF('SD Data Paste'!B1257=\"\",\"\",'SD Data Paste'!B1257)","v":""},1256,{"$f":"IF('SD Data Paste'!E1257=\"\",\"\",'SD Data Paste'!E1257)","v":""},{"$f":"IF('SD Data Paste'!G1257=\"\",\"\",'SD Data Paste'!G1257)","v":""}]
[{"$f":"IF(Table1[विद्यार्थी का नाम]=\"\",\"\",ROWS($A$1:A1257))","v":""},{"$f":"IF('SD Data Paste'!A1258=\"\",\"\",'SD Data Paste'!A1258)","v":""},{"$f":"IF('SD Data Paste'!B1258=\"\",\"\",'SD Data Paste'!B1258)","v":""},1257,{"$f":"IF('SD Data Paste'!E1258=\"\",\"\",'SD Data Paste'!E1258)","v":""},{"$f":"IF('SD Data Paste'!G1258=\"\",\"\",'SD Data Paste'!G1258)","v":""}]
[{"$f":"IF(Table1[विद्यार्थी का नाम]=\"\",\"\",ROWS($A$1:A1258))","v":""},{"$f":"IF('SD Data Paste'!A1259=\"\",\"\",'SD Data Paste'!A1259)","v":""},{"$f":"IF('SD Data Paste'!B1259=\"\",\"\",'SD Data Paste'!B1259)","v":""},1258,{"$f":"IF('SD Data Paste'!E1259=\"\",\"\",'SD Data Paste'!E1259)","v":""},{"$f":"IF('SD Data Paste'!G1259=\"\",\"\",'SD Data Paste'!G1259)","v":""}]
[{"$f":"IF(Table1[विद्यार्थी का नाम]=\"\",\"\",ROWS($A$1:A1259))","v":""},{"$f":"IF('SD Data Paste'!A1260=\"\",\"\",'SD Data Paste'!A1260)","v":""},{"$f":"IF('SD Data Paste'!B1260=\"\",\"\",'SD Data Paste'!B1260)","v":""},1259,{"$f":"IF('SD Data Paste'!E1260=\"\",\"\",'SD Data Paste'!E1260)","v":""},{"$f":"IF('SD Data Paste'!G1260=\"\",\"\",'SD Data Paste'!G1260)","v":""}]
[{"$f":"IF(Table1[विद्यार्थी का नाम]=\"\",\"\",ROWS($A$1:A1260))","v":""},{"$f":"IF('SD Data Paste'!A1261=\"\",\"\",'SD Data Paste'!A1261)","v":""},{"$f":"IF('SD Data Paste'!B1261=\"\",\"\",'SD Data Paste'!B1261)","v":""},1260,{"$f":"IF('SD Data Paste'!E1261=\"\",\"\",'SD Data Paste'!E1261)","v":""},{"$f":"IF('SD Data Paste'!G1261=\"\",\"\",'SD Data Paste'!G1261)","v":""}]
[{"$f":"IF(Table1[विद्यार्थी का नाम]=\"\",\"\",ROWS($A$1:A1261))","v":""},{"$f":"IF('SD Data Paste'!A1262=\"\",\"\",'SD Data Paste'!A1262)","v":""},{"$f":"IF('SD Data Paste'!B1262=\"\",\"\",'SD Data Paste'!B1262)","v":""},1261,{"$f":"IF('SD Data Paste'!E1262=\"\",\"\",'SD Data Paste'!E1262)","v":""},{"$f":"IF('SD Data Paste'!G1262=\"\",\"\",'SD Data Paste'!G1262)","v":""}]
[{"$f":"IF(Table1[विद्यार्थी का नाम]=\"\",\"\",ROWS($A$1:A1262))","v":""},{"$f":"IF('SD Data Paste'!A1263=\"\",\"\",'SD Data Paste'!A1263)","v":""},{"$f":"IF('SD Data Paste'!B1263=\"\",\"\",'SD Data Paste'!B1263)","v":""},1262,{"$f":"IF('SD Data Paste'!E1263=\"\",\"\",'SD Data Paste'!E1263)","v":""},{"$f":"IF('SD Data Paste'!G1263=\"\",\"\",'SD Data Paste'!G1263)","v":""}]
[{"$f":"IF(Table1[विद्यार्थी का नाम]=\"\",\"\",ROWS($A$1:A1263))","v":""},{"$f":"IF('SD Data Paste'!A1264=\"\",\"\",'SD Data Paste'!A1264)","v":""},{"$f":"IF('SD Data Paste'!B1264=\"\",\"\",'SD Data Paste'!B1264)","v":""},1263,{"$f":"IF('SD Data Paste'!E1264=\"\",\"\",'SD Data Paste'!E1264)","v":""},{"$f":"IF('SD Data Paste'!G1264=\"\",\"\",'SD Data Paste'!G1264)","v":""}]
[{"$f":"IF(Table1[विद्यार्थी का नाम]=\"\",\"\",ROWS($A$1:A1264))","v":""},{"$f":"IF('SD Data Paste'!A1265=\"\",\"\",'SD Data Paste'!A1265)","v":""},{"$f":"IF('SD Data Paste'!B1265=\"\",\"\",'SD Data Paste'!B1265)","v":""},1264,{"$f":"IF('SD Data Paste'!E1265=\"\",\"\",'SD Data Paste'!E1265)","v":""},{"$f":"IF('SD Data Paste'!G1265=\"\",\"\",'SD Data Paste'!G1265)","v":""}]
[{"$f":"IF(Table1[विद्यार्थी का नाम]=\"\",\"\",ROWS($A$1:A1265))","v":""},{"$f":"IF('SD Data Paste'!A1266=\"\",\"\",'SD Data Paste'!A1266)","v":""},{"$f":"IF('SD Data Paste'!B1266=\"\",\"\",'SD Data Paste'!B1266)","v":""},1265,{"$f":"IF('SD Data Paste'!E1266=\"\",\"\",'SD Data Paste'!E1266)","v":""},{"$f":"IF('SD Data Paste'!G1266=\"\",\"\",'SD Data Paste'!G1266)","v":""}]
[{"$f":"IF(Table1[विद्यार्थी का नाम]=\"\",\"\",ROWS($A$1:A1266))","v":""},{"$f":"IF('SD Data Paste'!A1267=\"\",\"\",'SD Data Paste'!A1267)","v":""},{"$f":"IF('SD Data Paste'!B1267=\"\",\"\",'SD Data Paste'!B1267)","v":""},1266,{"$f":"IF('SD Data Paste'!E1267=\"\",\"\",'SD Data Paste'!E1267)","v":""},{"$f":"IF('SD Data Paste'!G1267=\"\",\"\",'SD Data Paste'!G1267)","v":""}]
[{"$f":"IF(Table1[विद्यार्थी का नाम]=\"\",\"\",ROWS($A$1:A1267))","v":""},{"$f":"IF('SD Data Paste'!A1268=\"\",\"\",'SD Data Paste'!A1268)","v":""},{"$f":"IF('SD Data Paste'!B1268=\"\",\"\",'SD Data Paste'!B1268)","v":""},1267,{"$f":"IF('SD Data Paste'!E1268=\"\",\"\",'SD Data Paste'!E1268)","v":""},{"$f":"IF('SD Data Paste'!G1268=\"\",\"\",'SD Data Paste'!G1268)","v":""}]
[{"$f":"IF(Table1[विद्यार्थी का नाम]=\"\",\"\",ROWS($A$1:A1268))","v":""},{"$f":"IF('SD Data Paste'!A1269=\"\",\"\",'SD Data Paste'!A1269)","v":""},{"$f":"IF('SD Data Paste'!B1269=\"\",\"\",'SD Data Paste'!B1269)","v":""},1268,{"$f":"IF('SD Data Paste'!E1269=\"\",\"\",'SD Data Paste'!E1269)","v":""},{"$f":"IF('SD Data Paste'!G1269=\"\",\"\",'SD Data Paste'!G1269)","v":""}]
[{"$f":"IF(Table1[विद्यार्थी का नाम]=\"\",\"\",ROWS($A$1:A1269))","v":""},{"$f":"IF('SD Data Paste'!A1270=\"\",\"\",'SD Data Paste'!A1270)","v":""},{"$f":"IF('SD Data Paste'!B1270=\"\",\"\",'SD Data Paste'!B1270)","v":""},1269,{"$f":"IF('SD Data Paste'!E1270=\"\",\"\",'SD Data Paste'!E1270)","v":""},{"$f":"IF('SD Data Paste'!G1270=\"\",\"\",'SD Data Paste'!G1270)","v":""}]
[{"$f":"IF(Table1[विद्यार्थी का नाम]=\"\",\"\",ROWS($A$1:A1270))","v":""},{"$f":"IF('SD Data Paste'!A1271=\"\",\"\",'SD Data Paste'!A1271)","v":""},{"$f":"IF('SD Data Paste'!B1271=\"\",\"\",'SD Data Paste'!B1271)","v":""},1270,{"$f":"IF('SD Data Paste'!E1271=\"\",\"\",'SD Data Paste'!E1271)","v":""},{"$f":"IF('SD Data Paste'!G1271=\"\",\"\",'SD Data Paste'!G1271)","v":""}]
[{"$f":"IF(Table1[विद्यार्थी का नाम]=\"\",\"\",ROWS($A$1:A1271))","v":""},{"$f":"IF('SD Data Paste'!A1272=\"\",\"\",'SD Data Paste'!A1272)","v":""},{"$f":"IF('SD Data Paste'!B1272=\"\",\"\",'SD Data Paste'!B1272)","v":""},1271,{"$f":"IF('SD Data Paste'!E1272=\"\",\"\",'SD Data Paste'!E1272)","v":""},{"$f":"IF('SD Data Paste'!G1272=\"\",\"\",'SD Data Paste'!G1272)","v":""}]
[{"$f":"IF(Table1[विद्यार्थी का नाम]=\"\",\"\",ROWS($A$1:A1272))","v":""},{"$f":"IF('SD Data Paste'!A1273=\"\",\"\",'SD Data Paste'!A1273)","v":""},{"$f":"IF('SD Data Paste'!B1273=\"\",\"\",'SD Data Paste'!B1273)","v":""},1272,{"$f":"IF('SD Data Paste'!E1273=\"\",\"\",'SD Data Paste'!E1273)","v":""},{"$f":"IF('SD Data Paste'!G1273=\"\",\"\",'SD Data Paste'!G1273)","v":""}]
[{"$f":"IF(Table1[विद्यार्थी का नाम]=\"\",\"\",ROWS($A$1:A1273))","v":""},{"$f":"IF('SD Data Paste'!A1274=\"\",\"\",'SD Data Paste'!A1274)","v":""},{"$f":"IF('SD Data Paste'!B1274=\"\",\"\",'SD Data Paste'!B1274)","v":""},1273,{"$f":"IF('SD Data Paste'!E1274=\"\",\"\",'SD Data Paste'!E1274)","v":""},{"$f":"IF('SD Data Paste'!G1274=\"\",\"\",'SD Data Paste'!G1274)","v":""}]
[{"$f":"IF(Table1[विद्यार्थी का नाम]=\"\",\"\",ROWS($A$1:A1274))","v":""},{"$f":"IF('SD Data Paste'!A1275=\"\",\"\",'SD Data Paste'!A1275)","v":""},{"$f":"IF('SD Data Paste'!B1275=\"\",\"\",'SD Data Paste'!B1275)","v":""},1274,{"$f":"IF('SD Data Paste'!E1275=\"\",\"\",'SD Data Paste'!E1275)","v":""},{"$f":"IF('SD Data Paste'!G1275=\"\",\"\",'SD Data Paste'!G1275)","v":""}]
[{"$f":"IF(Table1[विद्यार्थी का नाम]=\"\",\"\",ROWS($A$1:A1275))","v":""},{"$f":"IF('SD Data Paste'!A1276=\"\",\"\",'SD Data Paste'!A1276)","v":""},{"$f":"IF('SD Data Paste'!B1276=\"\",\"\",'SD Data Paste'!B1276)","v":""},1275,{"$f":"IF('SD Data Paste'!E1276=\"\",\"\",'SD Data Paste'!E1276)","v":""},{"$f":"IF('SD Data Paste'!G1276=\"\",\"\",'SD Data Paste'!G1276)","v":""}]
[{"$f":"IF(Table1[विद्यार्थी का नाम]=\"\",\"\",ROWS($A$1:A1276))","v":""},{"$f":"IF('SD Data Paste'!A1277=\"\",\"\",'SD Data Paste'!A1277)","v":""},{"$f":"IF('SD Data Paste'!B1277=\"\",\"\",'SD Data Paste'!B1277)","v":""},1276,{"$f":"IF('SD Data Paste'!E1277=\"\",\"\",'SD Data Paste'!E1277)","v":""},{"$f":"IF('SD Data Paste'!G1277=\"\",\"\",'SD Data Paste'!G1277)","v":""}]
[{"$f":"IF(Table1[विद्यार्थी का नाम]=\"\",\"\",ROWS($A$1:A1277))","v":""},{"$f":"IF('SD Data Paste'!A1278=\"\",\"\",'SD Data Paste'!A1278)","v":""},{"$f":"IF('SD Data Paste'!B1278=\"\",\"\",'SD Data Paste'!B1278)","v":""},1277,{"$f":"IF('SD Data Paste'!E1278=\"\",\"\",'SD Data Paste'!E1278)","v":""},{"$f":"IF('SD Data Paste'!G1278=\"\",\"\",'SD Data Paste'!G1278)","v":""}]
[{"$f":"IF(Table1[विद्यार्थी का नाम]=\"\",\"\",ROWS($A$1:A1278))","v":""},{"$f":"IF('SD Data Paste'!A1279=\"\",\"\",'SD Data Paste'!A1279)","v":""},{"$f":"IF('SD Data Paste'!B1279=\"\",\"\",'SD Data Paste'!B1279)","v":""},1278,{"$f":"IF('SD Data Paste'!E1279=\"\",\"\",'SD Data Paste'!E1279)","v":""},{"$f":"IF('SD Data Paste'!G1279=\"\",\"\",'SD Data Paste'!G1279)","v":""}]
[{"$f":"IF(Table1[विद्यार्थी का नाम]=\"\",\"\",ROWS($A$1:A1279))","v":""},{"$f":"IF('SD Data Paste'!A1280=\"\",\"\",'SD Data Paste'!A1280)","v":""},{"$f":"IF('SD Data Paste'!B1280=\"\",\"\",'SD Data Paste'!B1280)","v":""},1279,{"$f":"IF('SD Data Paste'!E1280=\"\",\"\",'SD Data Paste'!E1280)","v":""},{"$f":"IF('SD Data Paste'!G1280=\"\",\"\",'SD Data Paste'!G1280)","v":""}]
[{"$f":"IF(Table1[विद्यार्थी का नाम]=\"\",\"\",ROWS($A$1:A1280))","v":""},{"$f":"IF('SD Data Paste'!A1281=\"\",\"\",'SD Data Paste'!A1281)","v":""},{"$f":"IF('SD Data Paste'!B1281=\"\",\"\",'SD Data Paste'!B1281)","v":""},1280,{"$f":"IF('SD Data Paste'!E1281=\"\",\"\",'SD Data Paste'!E1281)","v":""},{"$f":"IF('SD Data Paste'!G1281=\"\",\"\",'SD Data Paste'!G1281)","v":""}]
[{"$f":"IF(Table1[विद्यार्थी का नाम]=\"\",\"\",ROWS($A$1:A1281))","v":""},{"$f":"IF('SD Data Paste'!A1282=\"\",\"\",'SD Data Paste'!A1282)","v":""},{"$f":"IF('SD Data Paste'!B1282=\"\",\"\",'SD Data Paste'!B1282)","v":""},1281,{"$f":"IF('SD Data Paste'!E1282=\"\",\"\",'SD Data Paste'!E1282)","v":""},{"$f":"IF('SD Data Paste'!G1282=\"\",\"\",'SD Data Paste'!G1282)","v":""}]
[{"$f":"IF(Table1[विद्यार्थी का नाम]=\"\",\"\",ROWS($A$1:A1282))","v":""},{"$f":"IF('SD Data Paste'!A1283=\"\",\"\",'SD Data Paste'!A1283)","v":""},{"$f":"IF('SD Data Paste'!B1283=\"\",\"\",'SD Data Paste'!B1283)","v":""},1282,{"$f":"IF('SD Data Paste'!E1283=\"\",\"\",'SD Data Paste'!E1283)","v":""},{"$f":"IF('SD Data Paste'!G1283=\"\",\"\",'SD Data Paste'!G1283)","v":""}]
[{"$f":"IF(Table1[विद्यार्थी का नाम]=\"\",\"\",ROWS($A$1:A1283))","v":""},{"$f":"IF('SD Data Paste'!A1284=\"\",\"\",'SD Data Paste'!A1284)","v":""},{"$f":"IF('SD Data Paste'!B1284=\"\",\"\",'SD Data Paste'!B1284)","v":""},{"$f":"IF(D1285=\"\",\"\",D1285+1)","v":1283},{"$f":"IF('SD Data Paste'!E1284=\"\",\"\",'SD Data Paste'!E1284)","v":""},{"$f":"IF('SD Data Paste'!G1284=\"\",\"\",'SD Data Paste'!G1284)","v":""}]
[{"$f":"IF(Table1[विद्यार्थी का नाम]=\"\",\"\",ROWS($A$1:A1284))","v":""},{"$f":"IF('SD Data Paste'!A1285=\"\",\"\",'SD Data Paste'!A1285)","v":""},{"$f":"IF('SD Data Paste'!B1285=\"\",\"\",'SD Data Paste'!B1285)","v":""},1284,{"$f":"IF('SD Data Paste'!E1285=\"\",\"\",'SD Data Paste'!E1285)","v":""},{"$f":"IF('SD Data Paste'!G1285=\"\",\"\",'SD Data Paste'!G1285)","v":""}]
[{"$f":"IF(Table1[विद्यार्थी का नाम]=\"\",\"\",ROWS($A$1:A1285))","v":""},{"$f":"IF('SD Data Paste'!A1286=\"\",\"\",'SD Data Paste'!A1286)","v":""},{"$f":"IF('SD Data Paste'!B1286=\"\",\"\",'SD Data Paste'!B1286)","v":""},1285,{"$f":"IF('SD Data Paste'!E1286=\"\",\"\",'SD Data Paste'!E1286)","v":""},{"$f":"IF('SD Data Paste'!G1286=\"\",\"\",'SD Data Paste'!G1286)","v":""}]
[{"$f":"IF(Table1[विद्यार्थी का नाम]=\"\",\"\",ROWS($A$1:A1286))","v":""},{"$f":"IF('SD Data Paste'!A1287=\"\",\"\",'SD Data Paste'!A1287)","v":""},{"$f":"IF('SD Data Paste'!B1287=\"\",\"\",'SD Data Paste'!B1287)","v":""},1286,{"$f":"IF('SD Data Paste'!E1287=\"\",\"\",'SD Data Paste'!E1287)","v":""},{"$f":"IF('SD Data Paste'!G1287=\"\",\"\",'SD Data Paste'!G1287)","v":""}]
[{"$f":"IF(Table1[विद्यार्थी का नाम]=\"\",\"\",ROWS($A$1:A1287))","v":""},{"$f":"IF('SD Data Paste'!A1288=\"\",\"\",'SD Data Paste'!A1288)","v":""},{"$f":"IF('SD Data Paste'!B1288=\"\",\"\",'SD Data Paste'!B1288)","v":""},1287,{"$f":"IF('SD Data Paste'!E1288=\"\",\"\",'SD Data Paste'!E1288)","v":""},{"$f":"IF('SD Data Paste'!G1288=\"\",\"\",'SD Data Paste'!G1288)","v":""}]
[{"$f":"IF(Table1[विद्यार्थी का नाम]=\"\",\"\",ROWS($A$1:A1288))","v":""},{"$f":"IF('SD Data Paste'!A1289=\"\",\"\",'SD Data Paste'!A1289)","v":""},{"$f":"IF('SD Data Paste'!B1289=\"\",\"\",'SD Data Paste'!B1289)","v":""},1288,{"$f":"IF('SD Data Paste'!E1289=\"\",\"\",'SD Data Paste'!E1289)","v":""},{"$f":"IF('SD Data Paste'!G1289=\"\",\"\",'SD Data Paste'!G1289)","v":""}]
[{"$f":"IF(Table1[विद्यार्थी का नाम]=\"\",\"\",ROWS($A$1:A1289))","v":""},{"$f":"IF('SD Data Paste'!A1290=\"\",\"\",'SD Data Paste'!A1290)","v":""},{"$f":"IF('SD Data Paste'!B1290=\"\",\"\",'SD Data Paste'!B1290)","v":""},1289,{"$f":"IF('SD Data Paste'!E1290=\"\",\"\",'SD Data Paste'!E1290)","v":""},{"$f":"IF('SD Data Paste'!G1290=\"\",\"\",'SD Data Paste'!G1290)","v":""}]
[{"$f":"IF(Table1[विद्यार्थी का नाम]=\"\",\"\",ROWS($A$1:A1290))","v":""},{"$f":"IF('SD Data Paste'!A1291=\"\",\"\",'SD Data Paste'!A1291)","v":""},{"$f":"IF('SD Data Paste'!B1291=\"\",\"\",'SD Data Paste'!B1291)","v":""},1290,{"$f":"IF('SD Data Paste'!E1291=\"\",\"\",'SD Data Paste'!E1291)","v":""},{"$f":"IF('SD Data Paste'!G1291=\"\",\"\",'SD Data Paste'!G1291)","v":""}]
[{"$f":"IF(Table1[विद्यार्थी का नाम]=\"\",\"\",ROWS($A$1:A1291))","v":""},{"$f":"IF('SD Data Paste'!A1292=\"\",\"\",'SD Data Paste'!A1292)","v":""},{"$f":"IF('SD Data Paste'!B1292=\"\",\"\",'SD Data Paste'!B1292)","v":""},1291,{"$f":"IF('SD Data Paste'!E1292=\"\",\"\",'SD Data Paste'!E1292)","v":""},{"$f":"IF('SD Data Paste'!G1292=\"\",\"\",'SD Data Paste'!G1292)","v":""}]
[{"$f":"IF(Table1[विद्यार्थी का नाम]=\"\",\"\",ROWS($A$1:A1292))","v":""},{"$f":"IF('SD Data Paste'!A1293=\"\",\"\",'SD Data Paste'!A1293)","v":""},{"$f":"IF('SD Data Paste'!B1293=\"\",\"\",'SD Data Paste'!B1293)","v":""},1292,{"$f":"IF('SD Data Paste'!E1293=\"\",\"\",'SD Data Paste'!E1293)","v":""},{"$f":"IF('SD Data Paste'!G1293=\"\",\"\",'SD Data Paste'!G1293)","v":""}]
[{"$f":"IF(Table1[विद्यार्थी का नाम]=\"\",\"\",ROWS($A$1:A1293))","v":""},{"$f":"IF('SD Data Paste'!A1294=\"\",\"\",'SD Data Paste'!A1294)","v":""},{"$f":"IF('SD Data Paste'!B1294=\"\",\"\",'SD Data Paste'!B1294)","v":""},1293,{"$f":"IF('SD Data Paste'!E1294=\"\",\"\",'SD Data Paste'!E1294)","v":""},{"$f":"IF('SD Data Paste'!G1294=\"\",\"\",'SD Data Paste'!G1294)","v":""}]
[{"$f":"IF(Table1[विद्यार्थी का नाम]=\"\",\"\",ROWS($A$1:A1294))","v":""},{"$f":"IF('SD Data Paste'!A1295=\"\",\"\",'SD Data Paste'!A1295)","v":""},{"$f":"IF('SD Data Paste'!B1295=\"\",\"\",'SD Data Paste'!B1295)","v":""},1294,{"$f":"IF('SD Data Paste'!E1295=\"\",\"\",'SD Data Paste'!E1295)","v":""},{"$f":"IF('SD Data Paste'!G1295=\"\",\"\",'SD Data Paste'!G1295)","v":""}]
[{"$f":"IF(Table1[विद्यार्थी का नाम]=\"\",\"\",ROWS($A$1:A1295))","v":""},{"$f":"IF('SD Data Paste'!A1296=\"\",\"\",'SD Data Paste'!A1296)","v":""},{"$f":"IF('SD Data Paste'!B1296=\"\",\"\",'SD Data Paste'!B1296)","v":""},1295,{"$f":"IF('SD Data Paste'!E1296=\"\",\"\",'SD Data Paste'!E1296)","v":""},{"$f":"IF('SD Data Paste'!G1296=\"\",\"\",'SD Data Paste'!G1296)","v":""}]
[{"$f":"IF(Table1[विद्यार्थी का नाम]=\"\",\"\",ROWS($A$1:A1296))","v":""},{"$f":"IF('SD Data Paste'!A1297=\"\",\"\",'SD Data Paste'!A1297)","v":""},{"$f":"IF('SD Data Paste'!B1297=\"\",\"\",'SD Data Paste'!B1297)","v":""},1296,{"$f":"IF('SD Data Paste'!E1297=\"\",\"\",'SD Data Paste'!E1297)","v":""},{"$f":"IF('SD Data Paste'!G1297=\"\",\"\",'SD Data Paste'!G1297)","v":""}]
[{"$f":"IF(Table1[विद्यार्थी का नाम]=\"\",\"\",ROWS($A$1:A1297))","v":""},{"$f":"IF('SD Data Paste'!A1298=\"\",\"\",'SD Data Paste'!A1298)","v":""},{"$f":"IF('SD Data Paste'!B1298=\"\",\"\",'SD Data Paste'!B1298)","v":""},1297,{"$f":"IF('SD Data Paste'!E1298=\"\",\"\",'SD Data Paste'!E1298)","v":""},{"$f":"IF('SD Data Paste'!G1298=\"\",\"\",'SD Data Paste'!G1298)","v":""}]
[{"$f":"IF(Table1[विद्यार्थी का नाम]=\"\",\"\",ROWS($A$1:A1298))","v":""},{"$f":"IF('SD Data Paste'!A1299=\"\",\"\",'SD Data Paste'!A1299)","v":""},{"$f":"IF('SD Data Paste'!B1299=\"\",\"\",'SD Data Paste'!B1299)","v":""},1298,{"$f":"IF('SD Data Paste'!E1299=\"\",\"\",'SD Data Paste'!E1299)","v":""},{"$f":"IF('SD Data Paste'!G1299=\"\",\"\",'SD Data Paste'!G1299)","v":""}]
[{"$f":"IF(Table1[विद्यार्थी का नाम]=\"\",\"\",ROWS($A$1:A1299))","v":""},{"$f":"IF('SD Data Paste'!A1300=\"\",\"\",'SD Data Paste'!A1300)","v":""},{"$f":"IF('SD Data Paste'!B1300=\"\",\"\",'SD Data Paste'!B1300)","v":""},1299,{"$f":"IF('SD Data Paste'!E1300=\"\",\"\",'SD Data Paste'!E1300)","v":""},{"$f":"IF('SD Data Paste'!G1300=\"\",\"\",'SD Data Paste'!G1300)","v":""}]
[{"$f":"IF(Table1[विद्यार्थी का नाम]=\"\",\"\",ROWS($A$1:A1300))","v":""},{"$f":"IF('SD Data Paste'!A1301=\"\",\"\",'SD Data Paste'!A1301)","v":""},{"$f":"IF('SD Data Paste'!B1301=\"\",\"\",'SD Data Paste'!B1301)","v":""},1300,{"$f":"IF('SD Data Paste'!E1301=\"\",\"\",'SD Data Paste'!E1301)","v":""},{"$f":"IF('SD Data Paste'!G1301=\"\",\"\",'SD Data Paste'!G1301)","v":""}]
[{"$f":"IF(Table1[विद्यार्थी का नाम]=\"\",\"\",ROWS($A$1:A1301))","v":""},{"$f":"IF('SD Data Paste'!A1302=\"\",\"\",'SD Data Paste'!A1302)","v":""},{"$f":"IF('SD Data Paste'!B1302=\"\",\"\",'SD Data Paste'!B1302)","v":""},1301,{"$f":"IF('SD Data Paste'!E1302=\"\",\"\",'SD Data Paste'!E1302)","v":""},{"$f":"IF('SD Data Paste'!G1302=\"\",\"\",'SD Data Paste'!G1302)","v":""}]
[{"$f":"IF(Table1[विद्यार्थी का नाम]=\"\",\"\",ROWS($A$1:A1302))","v":""},{"$f":"IF('SD Data Paste'!A1303=\"\",\"\",'SD Data Paste'!A1303)","v":""},{"$f":"IF('SD Data Paste'!B1303=\"\",\"\",'SD Data Paste'!B1303)","v":""},1302,{"$f":"IF('SD Data Paste'!E1303=\"\",\"\",'SD Data Paste'!E1303)","v":""},{"$f":"IF('SD Data Paste'!G1303=\"\",\"\",'SD Data Paste'!G1303)","v":""}]
[{"$f":"IF(Table1[विद्यार्थी का नाम]=\"\",\"\",ROWS($A$1:A1303))","v":""},{"$f":"IF('SD Data Paste'!A1304=\"\",\"\",'SD Data Paste'!A1304)","v":""},{"$f":"IF('SD Data Paste'!B1304=\"\",\"\",'SD Data Paste'!B1304)","v":""},1303,{"$f":"IF('SD Data Paste'!E1304=\"\",\"\",'SD Data Paste'!E1304)","v":""},{"$f":"IF('SD Data Paste'!G1304=\"\",\"\",'SD Data Paste'!G1304)","v":""}]
[{"$f":"IF(Table1[विद्यार्थी का नाम]=\"\",\"\",ROWS($A$1:A1304))","v":""},{"$f":"IF('SD Data Paste'!A1305=\"\",\"\",'SD Data Paste'!A1305)","v":""},{"$f":"IF('SD Data Paste'!B1305=\"\",\"\",'SD Data Paste'!B1305)","v":""},1304,{"$f":"IF('SD Data Paste'!E1305=\"\",\"\",'SD Data Paste'!E1305)","v":""},{"$f":"IF('SD Data Paste'!G1305=\"\",\"\",'SD Data Paste'!G1305)","v":""}]
[{"$f":"IF(Table1[विद्यार्थी का नाम]=\"\",\"\",ROWS($A$1:A1305))","v":""},{"$f":"IF('SD Data Paste'!A1306=\"\",\"\",'SD Data Paste'!A1306)","v":""},{"$f":"IF('SD Data Paste'!B1306=\"\",\"\",'SD Data Paste'!B1306)","v":""},1305,{"$f":"IF('SD Data Paste'!E1306=\"\",\"\",'SD Data Paste'!E1306)","v":""},{"$f":"IF('SD Data Paste'!G1306=\"\",\"\",'SD Data Paste'!G1306)","v":""}]
[{"$f":"IF(Table1[विद्यार्थी का नाम]=\"\",\"\",ROWS($A$1:A1306))","v":""},{"$f":"IF('SD Data Paste'!A1307=\"\",\"\",'SD Data Paste'!A1307)","v":""},{"$f":"IF('SD Data Paste'!B1307=\"\",\"\",'SD Data Paste'!B1307)","v":""},1306,{"$f":"IF('SD Data Paste'!E1307=\"\",\"\",'SD Data Paste'!E1307)","v":""},{"$f":"IF('SD Data Paste'!G1307=\"\",\"\",'SD Data Paste'!G1307)","v":""}]
[{"$f":"IF(Table1[विद्यार्थी का नाम]=\"\",\"\",ROWS($A$1:A1307))","v":""},{"$f":"IF('SD Data Paste'!A1308=\"\",\"\",'SD Data Paste'!A1308)","v":""},{"$f":"IF('SD Data Paste'!B1308=\"\",\"\",'SD Data Paste'!B1308)","v":""},1307,{"$f":"IF('SD Data Paste'!E1308=\"\",\"\",'SD Data Paste'!E1308)","v":""},{"$f":"IF('SD Data Paste'!G1308=\"\",\"\",'SD Data Paste'!G1308)","v":""}]
[{"$f":"IF(Table1[विद्यार्थी का नाम]=\"\",\"\",ROWS($A$1:A1308))","v":""},{"$f":"IF('SD Data Paste'!A1309=\"\",\"\",'SD Data Paste'!A1309)","v":""},{"$f":"IF('SD Data Paste'!B1309=\"\",\"\",'SD Data Paste'!B1309)","v":""},1308,{"$f":"IF('SD Data Paste'!E1309=\"\",\"\",'SD Data Paste'!E1309)","v":""},{"$f":"IF('SD Data Paste'!G1309=\"\",\"\",'SD Data Paste'!G1309)","v":""}]
[{"$f":"IF(Table1[विद्यार्थी का नाम]=\"\",\"\",ROWS($A$1:A1309))","v":""},{"$f":"IF('SD Data Paste'!A1310=\"\",\"\",'SD Data Paste'!A1310)","v":""},{"$f":"IF('SD Data Paste'!B1310=\"\",\"\",'SD Data Paste'!B1310)","v":""},1309,{"$f":"IF('SD Data Paste'!E1310=\"\",\"\",'SD Data Paste'!E1310)","v":""},{"$f":"IF('SD Data Paste'!G1310=\"\",\"\",'SD Data Paste'!G1310)","v":""}]
[{"$f":"IF(Table1[विद्यार्थी का नाम]=\"\",\"\",ROWS($A$1:A1310))","v":""},{"$f":"IF('SD Data Paste'!A1311=\"\",\"\",'SD Data Paste'!A1311)","v":""},{"$f":"IF('SD Data Paste'!B1311=\"\",\"\",'SD Data Paste'!B1311)","v":""},1310,{"$f":"IF('SD Data Paste'!E1311=\"\",\"\",'SD Data Paste'!E1311)","v":""},{"$f":"IF('SD Data Paste'!G1311=\"\",\"\",'SD Data Paste'!G1311)","v":""}]
[{"$f":"IF(Table1[विद्यार्थी का नाम]=\"\",\"\",ROWS($A$1:A1311))","v":""},{"$f":"IF('SD Data Paste'!A1312=\"\",\"\",'SD Data Paste'!A1312)","v":""},{"$f":"IF('SD Data Paste'!B1312=\"\",\"\",'SD Data Paste'!B1312)","v":""},1311,{"$f":"IF('SD Data Paste'!E1312=\"\",\"\",'SD Data Paste'!E1312)","v":""},{"$f":"IF('SD Data Paste'!G1312=\"\",\"\",'SD Data Paste'!G1312)","v":""}]
[{"$f":"IF(Table1[विद्यार्थी का नाम]=\"\",\"\",ROWS($A$1:A1312))","v":""},{"$f":"IF('SD Data Paste'!A1313=\"\",\"\",'SD Data Paste'!A1313)","v":""},{"$f":"IF('SD Data Paste'!B1313=\"\",\"\",'SD Data Paste'!B1313)","v":""},1312,{"$f":"IF('SD Data Paste'!E1313=\"\",\"\",'SD Data Paste'!E1313)","v":""},{"$f":"IF('SD Data Paste'!G1313=\"\",\"\",'SD Data Paste'!G1313)","v":""}]
[{"$f":"IF(Table1[विद्यार्थी का नाम]=\"\",\"\",ROWS($A$1:A1313))","v":""},{"$f":"IF('SD Data Paste'!A1314=\"\",\"\",'SD Data Paste'!A1314)","v":""},{"$f":"IF('SD Data Paste'!B1314=\"\",\"\",'SD Data Paste'!B1314)","v":""},1313,{"$f":"IF('SD Data Paste'!E1314=\"\",\"\",'SD Data Paste'!E1314)","v":""},{"$f":"IF('SD Data Paste'!G1314=\"\",\"\",'SD Data Paste'!G1314)","v":""}]
[{"$f":"IF(Table1[विद्यार्थी का नाम]=\"\",\"\",ROWS($A$1:A1314))","v":""},{"$f":"IF('SD Data Paste'!A1315=\"\",\"\",'SD Data Paste'!A1315)","v":""},{"$f":"IF('SD Data Paste'!B1315=\"\",\"\",'SD Data Paste'!B1315)","v":""},1314,{"$f":"IF('SD Data Paste'!E1315=\"\",\"\",'SD Data Paste'!E1315)","v":""},{"$f":"IF('SD Data Paste'!G1315=\"\",\"\",'SD Data Paste'!G1315)","v":""}]
[{"$f":"IF(Table1[विद्यार्थी का नाम]=\"\",\"\",ROWS($A$1:A1315))","v":""},{"$f":"IF('SD Data Paste'!A1316=\"\",\"\",'SD Data Paste'!A1316)","v":""},{"$f":"IF('SD Data Paste'!B1316=\"\",\"\",'SD Data Paste'!B1316)","v":""},1315,{"$f":"IF('SD Data Paste'!E1316=\"\",\"\",'SD Data Paste'!E1316)","v":""},{"$f":"IF('SD Data Paste'!G1316=\"\",\"\",'SD Data Paste'!G1316)","v":""}]
[{"$f":"IF(Table1[विद्यार्थी का नाम]=\"\",\"\",ROWS($A$1:A1316))","v":""},{"$f":"IF('SD Data Paste'!A1317=\"\",\"\",'SD Data Paste'!A1317)","v":""},{"$f":"IF('SD Data Paste'!B1317=\"\",\"\",'SD Data Paste'!B1317)","v":""},1316,{"$f":"IF('SD Data Paste'!E1317=\"\",\"\",'SD Data Paste'!E1317)","v":""},{"$f":"IF('SD Data Paste'!G1317=\"\",\"\",'SD Data Paste'!G1317)","v":""}]
[{"$f":"IF(Table1[विद्यार्थी का नाम]=\"\",\"\",ROWS($A$1:A1317))","v":""},{"$f":"IF('SD Data Paste'!A1318=\"\",\"\",'SD Data Paste'!A1318)","v":""},{"$f":"IF('SD Data Paste'!B1318=\"\",\"\",'SD Data Paste'!B1318)","v":""},1317,{"$f":"IF('SD Data Paste'!E1318=\"\",\"\",'SD Data Paste'!E1318)","v":""},{"$f":"IF('SD Data Paste'!G1318=\"\",\"\",'SD Data Paste'!G1318)","v":""}]
[{"$f":"IF(Table1[विद्यार्थी का नाम]=\"\",\"\",ROWS($A$1:A1318))","v":""},{"$f":"IF('SD Data Paste'!A1319=\"\",\"\",'SD Data Paste'!A1319)","v":""},{"$f":"IF('SD Data Paste'!B1319=\"\",\"\",'SD Data Paste'!B1319)","v":""},1318,{"$f":"IF('SD Data Paste'!E1319=\"\",\"\",'SD Data Paste'!E1319)","v":""},{"$f":"IF('SD Data Paste'!G1319=\"\",\"\",'SD Data Paste'!G1319)","v":""}]
[{"$f":"IF(Table1[विद्यार्थी का नाम]=\"\",\"\",ROWS($A$1:A1319))","v":""},{"$f":"IF('SD Data Paste'!A1320=\"\",\"\",'SD Data Paste'!A1320)","v":""},{"$f":"IF('SD Data Paste'!B1320=\"\",\"\",'SD Data Paste'!B1320)","v":""},1319,{"$f":"IF('SD Data Paste'!E1320=\"\",\"\",'SD Data Paste'!E1320)","v":""},{"$f":"IF('SD Data Paste'!G1320=\"\",\"\",'SD Data Paste'!G1320)","v":""}]
[{"$f":"IF(Table1[विद्यार्थी का नाम]=\"\",\"\",ROWS($A$1:A1320))","v":""},{"$f":"IF('SD Data Paste'!A1321=\"\",\"\",'SD Data Paste'!A1321)","v":""},{"$f":"IF('SD Data Paste'!B1321=\"\",\"\",'SD Data Paste'!B1321)","v":""},1320,{"$f":"IF('SD Data Paste'!E1321=\"\",\"\",'SD Data Paste'!E1321)","v":""},{"$f":"IF('SD Data Paste'!G1321=\"\",\"\",'SD Data Paste'!G1321)","v":""}]
[{"$f":"IF(Table1[विद्यार्थी का नाम]=\"\",\"\",ROWS($A$1:A1321))","v":""},{"$f":"IF('SD Data Paste'!A1322=\"\",\"\",'SD Data Paste'!A1322)","v":""},{"$f":"IF('SD Data Paste'!B1322=\"\",\"\",'SD Data Paste'!B1322)","v":""},1321,{"$f":"IF('SD Data Paste'!E1322=\"\",\"\",'SD Data Paste'!E1322)","v":""},{"$f":"IF('SD Data Paste'!G1322=\"\",\"\",'SD Data Paste'!G1322)","v":""}]
[{"$f":"IF(Table1[विद्यार्थी का नाम]=\"\",\"\",ROWS($A$1:A1322))","v":""},{"$f":"IF('SD Data Paste'!A1323=\"\",\"\",'SD Data Paste'!A1323)","v":""},{"$f":"IF('SD Data Paste'!B1323=\"\",\"\",'SD Data Paste'!B1323)","v":""},1322,{"$f":"IF('SD Data Paste'!E1323=\"\",\"\",'SD Data Paste'!E1323)","v":""},{"$f":"IF('SD Data Paste'!G1323=\"\",\"\",'SD Data Paste'!G1323)","v":""}]
[{"$f":"IF(Table1[विद्यार्थी का नाम]=\"\",\"\",ROWS($A$1:A1323))","v":""},{"$f":"IF('SD Data Paste'!A1324=\"\",\"\",'SD Data Paste'!A1324)","v":""},{"$f":"IF('SD Data Paste'!B1324=\"\",\"\",'SD Data Paste'!B1324)","v":""},1323,{"$f":"IF('SD Data Paste'!E1324=\"\",\"\",'SD Data Paste'!E1324)","v":""},{"$f":"IF('SD Data Paste'!G1324=\"\",\"\",'SD Data Paste'!G1324)","v":""}]
[{"$f":"IF(Table1[विद्यार्थी का नाम]=\"\",\"\",ROWS($A$1:A1324))","v":""},{"$f":"IF('SD Data Paste'!A1325=\"\",\"\",'SD Data Paste'!A1325)","v":""},{"$f":"IF('SD Data Paste'!B1325=\"\",\"\",'SD Data Paste'!B1325)","v":""},1324,{"$f":"IF('SD Data Paste'!E1325=\"\",\"\",'SD Data Paste'!E1325)","v":""},{"$f":"IF('SD Data Paste'!G1325=\"\",\"\",'SD Data Paste'!G1325)","v":""}]
[{"$f":"IF(Table1[विद्यार्थी का नाम]=\"\",\"\",ROWS($A$1:A1325))","v":""},{"$f":"IF('SD Data Paste'!A1326=\"\",\"\",'SD Data Paste'!A1326)","v":""},{"$f":"IF('SD Data Paste'!B1326=\"\",\"\",'SD Data Paste'!B1326)","v":""},1325,{"$f":"IF('SD Data Paste'!E1326=\"\",\"\",'SD Data Paste'!E1326)","v":""},{"$f":"IF('SD Data Paste'!G1326=\"\",\"\",'SD Data Paste'!G1326)","v":""}]
[{"$f":"IF(Table1[विद्यार्थी का नाम]=\"\",\"\",ROWS($A$1:A1326))","v":""},{"$f":"IF('SD Data Paste'!A1327=\"\",\"\",'SD Data Paste'!A1327)","v":""},{"$f":"IF('SD Data Paste'!B1327=\"\",\"\",'SD Data Paste'!B1327)","v":""},1326,{"$f":"IF('SD Data Paste'!E1327=\"\",\"\",'SD Data Paste'!E1327)","v":""},{"$f":"IF('SD Data Paste'!G1327=\"\",\"\",'SD Data Paste'!G1327)","v":""}]
[{"$f":"IF(Table1[विद्यार्थी का नाम]=\"\",\"\",ROWS($A$1:A1327))","v":""},{"$f":"IF('SD Data Paste'!A1328=\"\",\"\",'SD Data Paste'!A1328)","v":""},{"$f":"IF('SD Data Paste'!B1328=\"\",\"\",'SD Data Paste'!B1328)","v":""},1327,{"$f":"IF('SD Data Paste'!E1328=\"\",\"\",'SD Data Paste'!E1328)","v":""},{"$f":"IF('SD Data Paste'!G1328=\"\",\"\",'SD Data Paste'!G1328)","v":""}]
[{"$f":"IF(Table1[विद्यार्थी का नाम]=\"\",\"\",ROWS($A$1:A1328))","v":""},{"$f":"IF('SD Data Paste'!A1329=\"\",\"\",'SD Data Paste'!A1329)","v":""},{"$f":"IF('SD Data Paste'!B1329=\"\",\"\",'SD Data Paste'!B1329)","v":""},1328,{"$f":"IF('SD Data Paste'!E1329=\"\",\"\",'SD Data Paste'!E1329)","v":""},{"$f":"IF('SD Data Paste'!G1329=\"\",\"\",'SD Data Paste'!G1329)","v":""}]
[{"$f":"IF(Table1[विद्यार्थी का नाम]=\"\",\"\",ROWS($A$1:A1329))","v":""},{"$f":"IF('SD Data Paste'!A1330=\"\",\"\",'SD Data Paste'!A1330)","v":""},{"$f":"IF('SD Data Paste'!B1330=\"\",\"\",'SD Data Paste'!B1330)","v":""},1329,{"$f":"IF('SD Data Paste'!E1330=\"\",\"\",'SD Data Paste'!E1330)","v":""},{"$f":"IF('SD Data Paste'!G1330=\"\",\"\",'SD Data Paste'!G1330)","v":""}]
[{"$f":"IF(Table1[विद्यार्थी का नाम]=\"\",\"\",ROWS($A$1:A1330))","v":""},{"$f":"IF('SD Data Paste'!A1331=\"\",\"\",'SD Data Paste'!A1331)","v":""},{"$f":"IF('SD Data Paste'!B1331=\"\",\"\",'SD Data Paste'!B1331)","v":""},1330,{"$f":"IF('SD Data Paste'!E1331=\"\",\"\",'SD Data Paste'!E1331)","v":""},{"$f":"IF('SD Data Paste'!G1331=\"\",\"\",'SD Data Paste'!G1331)","v":""}]
[{"$f":"IF(Table1[विद्यार्थी का नाम]=\"\",\"\",ROWS($A$1:A1331))","v":""},{"$f":"IF('SD Data Paste'!A1332=\"\",\"\",'SD Data Paste'!A1332)","v":""},{"$f":"IF('SD Data Paste'!B1332=\"\",\"\",'SD Data Paste'!B1332)","v":""},1331,{"$f":"IF('SD Data Paste'!E1332=\"\",\"\",'SD Data Paste'!E1332)","v":""},{"$f":"IF('SD Data Paste'!G1332=\"\",\"\",'SD Data Paste'!G1332)","v":""}]
[{"$f":"IF(Table1[विद्यार्थी का नाम]=\"\",\"\",ROWS($A$1:A1332))","v":""},{"$f":"IF('SD Data Paste'!A1333=\"\",\"\",'SD Data Paste'!A1333)","v":""},{"$f":"IF('SD Data Paste'!B1333=\"\",\"\",'SD Data Paste'!B1333)","v":""},1332,{"$f":"IF('SD Data Paste'!E1333=\"\",\"\",'SD Data Paste'!E1333)","v":""},{"$f":"IF('SD Data Paste'!G1333=\"\",\"\",'SD Data Paste'!G1333)","v":""}]
[{"$f":"IF(Table1[विद्यार्थी का नाम]=\"\",\"\",ROWS($A$1:A1333))","v":""},{"$f":"IF('SD Data Paste'!A1334=\"\",\"\",'SD Data Paste'!A1334)","v":""},{"$f":"IF('SD Data Paste'!B1334=\"\",\"\",'SD Data Paste'!B1334)","v":""},1333,{"$f":"IF('SD Data Paste'!E1334=\"\",\"\",'SD Data Paste'!E1334)","v":""},{"$f":"IF('SD Data Paste'!G1334=\"\",\"\",'SD Data Paste'!G1334)","v":""}]
[{"$f":"IF(Table1[विद्यार्थी का नाम]=\"\",\"\",ROWS($A$1:A1334))","v":""},{"$f":"IF('SD Data Paste'!A1335=\"\",\"\",'SD Data Paste'!A1335)","v":""},{"$f":"IF('SD Data Paste'!B1335=\"\",\"\",'SD Data Paste'!B1335)","v":""},1334,{"$f":"IF('SD Data Paste'!E1335=\"\",\"\",'SD Data Paste'!E1335)","v":""},{"$f":"IF('SD Data Paste'!G1335=\"\",\"\",'SD Data Paste'!G1335)","v":""}]
[{"$f":"IF(Table1[विद्यार्थी का नाम]=\"\",\"\",ROWS($A$1:A1335))","v":""},{"$f":"IF('SD Data Paste'!A1336=\"\",\"\",'SD Data Paste'!A1336)","v":""},{"$f":"IF('SD Data Paste'!B1336=\"\",\"\",'SD Data Paste'!B1336)","v":""},1335,{"$f":"IF('SD Data Paste'!E1336=\"\",\"\",'SD Data Paste'!E1336)","v":""},{"$f":"IF('SD Data Paste'!G1336=\"\",\"\",'SD Data Paste'!G1336)","v":""}]
[{"$f":"IF(Table1[विद्यार्थी का नाम]=\"\",\"\",ROWS($A$1:A1336))","v":""},{"$f":"IF('SD Data Paste'!A1337=\"\",\"\",'SD Data Paste'!A1337)","v":""},{"$f":"IF('SD Data Paste'!B1337=\"\",\"\",'SD Data Paste'!B1337)","v":""},1336,{"$f":"IF('SD Data Paste'!E1337=\"\",\"\",'SD Data Paste'!E1337)","v":""},{"$f":"IF('SD Data Paste'!G1337=\"\",\"\",'SD Data Paste'!G1337)","v":""}]
[{"$f":"IF(Table1[विद्यार्थी का नाम]=\"\",\"\",ROWS($A$1:A1337))","v":""},{"$f":"IF('SD Data Paste'!A1338=\"\",\"\",'SD Data Paste'!A1338)","v":""},{"$f":"IF('SD Data Paste'!B1338=\"\",\"\",'SD Data Paste'!B1338)","v":""},1337,{"$f":"IF('SD Data Paste'!E1338=\"\",\"\",'SD Data Paste'!E1338)","v":""},{"$f":"IF('SD Data Paste'!G1338=\"\",\"\",'SD Data Paste'!G1338)","v":""}]
[{"$f":"IF(Table1[विद्यार्थी का नाम]=\"\",\"\",ROWS($A$1:A1338))","v":""},{"$f":"IF('SD Data Paste'!A1339=\"\",\"\",'SD Data Paste'!A1339)","v":""},{"$f":"IF('SD Data Paste'!B1339=\"\",\"\",'SD Data Paste'!B1339)","v":""},1338,{"$f":"IF('SD Data Paste'!E1339=\"\",\"\",'SD Data Paste'!E1339)","v":""},{"$f":"IF('SD Data Paste'!G1339=\"\",\"\",'SD Data Paste'!G1339)","v":""}]
[{"$f":"IF(Table1[विद्यार्थी का नाम]=\"\",\"\",ROWS($A$1:A1339))","v":""},{"$f":"IF('SD Data Paste'!A1340=\"\",\"\",'SD Data Paste'!A1340)","v":""},{"$f":"IF('SD Data Paste'!B1340=\"\",\"\",'SD Data Paste'!B1340)","v":""},1339,{"$f":"IF('SD Data Paste'!E1340=\"\",\"\",'SD Data Paste'!E1340)","v":""},{"$f":"IF('SD Data Paste'!G1340=\"\",\"\",'SD Data Paste'!G1340)","v":""}]
[{"$f":"IF(Table1[विद्यार्थी का नाम]=\"\",\"\",ROWS($A$1:A1340))","v":""},{"$f":"IF('SD Data Paste'!A1341=\"\",\"\",'SD Data Paste'!A1341)","v":""},{"$f":"IF('SD Data Paste'!B1341=\"\",\"\",'SD Data Paste'!B1341)","v":""},1340,{"$f":"IF('SD Data Paste'!E1341=\"\",\"\",'SD Data Paste'!E1341)","v":""},{"$f":"IF('SD Data Paste'!G1341=\"\",\"\",'SD Data Paste'!G1341)","v":""}]
[{"$f":"IF(Table1[विद्यार्थी का नाम]=\"\",\"\",ROWS($A$1:A1341))","v":""},{"$f":"IF('SD Data Paste'!A1342=\"\",\"\",'SD Data Paste'!A1342)","v":""},{"$f":"IF('SD Data Paste'!B1342=\"\",\"\",'SD Data Paste'!B1342)","v":""},1341,{"$f":"IF('SD Data Paste'!E1342=\"\",\"\",'SD Data Paste'!E1342)","v":""},{"$f":"IF('SD Data Paste'!G1342=\"\",\"\",'SD Data Paste'!G1342)","v":""}]
[{"$f":"IF(Table1[विद्यार्थी का नाम]=\"\",\"\",ROWS($A$1:A1342))","v":""},{"$f":"IF('SD Data Paste'!A1343=\"\",\"\",'SD Data Paste'!A1343)","v":""},{"$f":"IF('SD Data Paste'!B1343=\"\",\"\",'SD Data Paste'!B1343)","v":""},1342,{"$f":"IF('SD Data Paste'!E1343=\"\",\"\",'SD Data Paste'!E1343)","v":""},{"$f":"IF('SD Data Paste'!G1343=\"\",\"\",'SD Data Paste'!G1343)","v":""}]
[{"$f":"IF(Table1[विद्यार्थी का नाम]=\"\",\"\",ROWS($A$1:A1343))","v":""},{"$f":"IF('SD Data Paste'!A1344=\"\",\"\",'SD Data Paste'!A1344)","v":""},{"$f":"IF('SD Data Paste'!B1344=\"\",\"\",'SD Data Paste'!B1344)","v":""},1343,{"$f":"IF('SD Data Paste'!E1344=\"\",\"\",'SD Data Paste'!E1344)","v":""},{"$f":"IF('SD Data Paste'!G1344=\"\",\"\",'SD Data Paste'!G1344)","v":""}]
[{"$f":"IF(Table1[विद्यार्थी का नाम]=\"\",\"\",ROWS($A$1:A1344))","v":""},{"$f":"IF('SD Data Paste'!A1345=\"\",\"\",'SD Data Paste'!A1345)","v":""},{"$f":"IF('SD Data Paste'!B1345=\"\",\"\",'SD Data Paste'!B1345)","v":""},1344,{"$f":"IF('SD Data Paste'!E1345=\"\",\"\",'SD Data Paste'!E1345)","v":""},{"$f":"IF('SD Data Paste'!G1345=\"\",\"\",'SD Data Paste'!G1345)","v":""}]
[{"$f":"IF(Table1[विद्यार्थी का नाम]=\"\",\"\",ROWS($A$1:A1345))","v":""},{"$f":"IF('SD Data Paste'!A1346=\"\",\"\",'SD Data Paste'!A1346)","v":""},{"$f":"IF('SD Data Paste'!B1346=\"\",\"\",'SD Data Paste'!B1346)","v":""},1345,{"$f":"IF('SD Data Paste'!E1346=\"\",\"\",'SD Data Paste'!E1346)","v":""},{"$f":"IF('SD Data Paste'!G1346=\"\",\"\",'SD Data Paste'!G1346)","v":""}]
[{"$f":"IF(Table1[विद्यार्थी का नाम]=\"\",\"\",ROWS($A$1:A1346))","v":""},{"$f":"IF('SD Data Paste'!A1347=\"\",\"\",'SD Data Paste'!A1347)","v":""},{"$f":"IF('SD Data Paste'!B1347=\"\",\"\",'SD Data Paste'!B1347)","v":""},1346,{"$f":"IF('SD Data Paste'!E1347=\"\",\"\",'SD Data Paste'!E1347)","v":""},{"$f":"IF('SD Data Paste'!G1347=\"\",\"\",'SD Data Paste'!G1347)","v":""}]
[{"$f":"IF(Table1[विद्यार्थी का नाम]=\"\",\"\",ROWS($A$1:A1347))","v":""},{"$f":"IF('SD Data Paste'!A1348=\"\",\"\",'SD Data Paste'!A1348)","v":""},{"$f":"IF('SD Data Paste'!B1348=\"\",\"\",'SD Data Paste'!B1348)","v":""},{"$f":"IF(D1349=\"\",\"\",D1349+1)","v":1347},{"$f":"IF('SD Data Paste'!E1348=\"\",\"\",'SD Data Paste'!E1348)","v":""},{"$f":"IF('SD Data Paste'!G1348=\"\",\"\",'SD Data Paste'!G1348)","v":""}]
[{"$f":"IF(Table1[विद्यार्थी का नाम]=\"\",\"\",ROWS($A$1:A1348))","v":""},{"$f":"IF('SD Data Paste'!A1349=\"\",\"\",'SD Data Paste'!A1349)","v":""},{"$f":"IF('SD Data Paste'!B1349=\"\",\"\",'SD Data Paste'!B1349)","v":""},1348,{"$f":"IF('SD Data Paste'!E1349=\"\",\"\",'SD Data Paste'!E1349)","v":""},{"$f":"IF('SD Data Paste'!G1349=\"\",\"\",'SD Data Paste'!G1349)","v":""}]
[{"$f":"IF(Table1[विद्यार्थी का नाम]=\"\",\"\",ROWS($A$1:A1349))","v":""},{"$f":"IF('SD Data Paste'!A1350=\"\",\"\",'SD Data Paste'!A1350)","v":""},{"$f":"IF('SD Data Paste'!B1350=\"\",\"\",'SD Data Paste'!B1350)","v":""},1349,{"$f":"IF('SD Data Paste'!E1350=\"\",\"\",'SD Data Paste'!E1350)","v":""},{"$f":"IF('SD Data Paste'!G1350=\"\",\"\",'SD Data Paste'!G1350)","v":""}]
[{"$f":"IF(Table1[विद्यार्थी का नाम]=\"\",\"\",ROWS($A$1:A1350))","v":""},{"$f":"IF('SD Data Paste'!A1351=\"\",\"\",'SD Data Paste'!A1351)","v":""},{"$f":"IF('SD Data Paste'!B1351=\"\",\"\",'SD Data Paste'!B1351)","v":""},1350,{"$f":"IF('SD Data Paste'!E1351=\"\",\"\",'SD Data Paste'!E1351)","v":""},{"$f":"IF('SD Data Paste'!G1351=\"\",\"\",'SD Data Paste'!G1351)","v":""}]
[{"$f":"IF(Table1[विद्यार्थी का नाम]=\"\",\"\",ROWS($A$1:A1351))","v":""},{"$f":"IF('SD Data Paste'!A1352=\"\",\"\",'SD Data Paste'!A1352)","v":""},{"$f":"IF('SD Data Paste'!B1352=\"\",\"\",'SD Data Paste'!B1352)","v":""},1351,{"$f":"IF('SD Data Paste'!E1352=\"\",\"\",'SD Data Paste'!E1352)","v":""},{"$f":"IF('SD Data Paste'!G1352=\"\",\"\",'SD Data Paste'!G1352)","v":""}]
[{"$f":"IF(Table1[विद्यार्थी का नाम]=\"\",\"\",ROWS($A$1:A1352))","v":""},{"$f":"IF('SD Data Paste'!A1353=\"\",\"\",'SD Data Paste'!A1353)","v":""},{"$f":"IF('SD Data Paste'!B1353=\"\",\"\",'SD Data Paste'!B1353)","v":""},1352,{"$f":"IF('SD Data Paste'!E1353=\"\",\"\",'SD Data Paste'!E1353)","v":""},{"$f":"IF('SD Data Paste'!G1353=\"\",\"\",'SD Data Paste'!G1353)","v":""}]
[{"$f":"IF(Table1[विद्यार्थी का नाम]=\"\",\"\",ROWS($A$1:A1353))","v":""},{"$f":"IF('SD Data Paste'!A1354=\"\",\"\",'SD Data Paste'!A1354)","v":""},{"$f":"IF('SD Data Paste'!B1354=\"\",\"\",'SD Data Paste'!B1354)","v":""},1353,{"$f":"IF('SD Data Paste'!E1354=\"\",\"\",'SD Data Paste'!E1354)","v":""},{"$f":"IF('SD Data Paste'!G1354=\"\",\"\",'SD Data Paste'!G1354)","v":""}]
[{"$f":"IF(Table1[विद्यार्थी का नाम]=\"\",\"\",ROWS($A$1:A1354))","v":""},{"$f":"IF('SD Data Paste'!A1355=\"\",\"\",'SD Data Paste'!A1355)","v":""},{"$f":"IF('SD Data Paste'!B1355=\"\",\"\",'SD Data Paste'!B1355)","v":""},1354,{"$f":"IF('SD Data Paste'!E1355=\"\",\"\",'SD Data Paste'!E1355)","v":""},{"$f":"IF('SD Data Paste'!G1355=\"\",\"\",'SD Data Paste'!G1355)","v":""}]
[{"$f":"IF(Table1[विद्यार्थी का नाम]=\"\",\"\",ROWS($A$1:A1355))","v":""},{"$f":"IF('SD Data Paste'!A1356=\"\",\"\",'SD Data Paste'!A1356)","v":""},{"$f":"IF('SD Data Paste'!B1356=\"\",\"\",'SD Data Paste'!B1356)","v":""},1355,{"$f":"IF('SD Data Paste'!E1356=\"\",\"\",'SD Data Paste'!E1356)","v":""},{"$f":"IF('SD Data Paste'!G1356=\"\",\"\",'SD Data Paste'!G1356)","v":""}]
[{"$f":"IF(Table1[विद्यार्थी का नाम]=\"\",\"\",ROWS($A$1:A1356))","v":""},{"$f":"IF('SD Data Paste'!A1357=\"\",\"\",'SD Data Paste'!A1357)","v":""},{"$f":"IF('SD Data Paste'!B1357=\"\",\"\",'SD Data Paste'!B1357)","v":""},1356,{"$f":"IF('SD Data Paste'!E1357=\"\",\"\",'SD Data Paste'!E1357)","v":""},{"$f":"IF('SD Data Paste'!G1357=\"\",\"\",'SD Data Paste'!G1357)","v":""}]
[{"$f":"IF(Table1[विद्यार्थी का नाम]=\"\",\"\",ROWS($A$1:A1357))","v":""},{"$f":"IF('SD Data Paste'!A1358=\"\",\"\",'SD Data Paste'!A1358)","v":""},{"$f":"IF('SD Data Paste'!B1358=\"\",\"\",'SD Data Paste'!B1358)","v":""},1357,{"$f":"IF('SD Data Paste'!E1358=\"\",\"\",'SD Data Paste'!E1358)","v":""},{"$f":"IF('SD Data Paste'!G1358=\"\",\"\",'SD Data Paste'!G1358)","v":""}]
[{"$f":"IF(Table1[विद्यार्थी का नाम]=\"\",\"\",ROWS($A$1:A1358))","v":""},{"$f":"IF('SD Data Paste'!A1359=\"\",\"\",'SD Data Paste'!A1359)","v":""},{"$f":"IF('SD Data Paste'!B1359=\"\",\"\",'SD Data Paste'!B1359)","v":""},1358,{"$f":"IF('SD Data Paste'!E1359=\"\",\"\",'SD Data Paste'!E1359)","v":""},{"$f":"IF('SD Data Paste'!G1359=\"\",\"\",'SD Data Paste'!G1359)","v":""}]
[{"$f":"IF(Table1[विद्यार्थी का नाम]=\"\",\"\",ROWS($A$1:A1359))","v":""},{"$f":"IF('SD Data Paste'!A1360=\"\",\"\",'SD Data Paste'!A1360)","v":""},{"$f":"IF('SD Data Paste'!B1360=\"\",\"\",'SD Data Paste'!B1360)","v":""},1359,{"$f":"IF('SD Data Paste'!E1360=\"\",\"\",'SD Data Paste'!E1360)","v":""},{"$f":"IF('SD Data Paste'!G1360=\"\",\"\",'SD Data Paste'!G1360)","v":""}]
[{"$f":"IF(Table1[विद्यार्थी का नाम]=\"\",\"\",ROWS($A$1:A1360))","v":""},{"$f":"IF('SD Data Paste'!A1361=\"\",\"\",'SD Data Paste'!A1361)","v":""},{"$f":"IF('SD Data Paste'!B1361=\"\",\"\",'SD Data Paste'!B1361)","v":""},1360,{"$f":"IF('SD Data Paste'!E1361=\"\",\"\",'SD Data Paste'!E1361)","v":""},{"$f":"IF('SD Data Paste'!G1361=\"\",\"\",'SD Data Paste'!G1361)","v":""}]
[{"$f":"IF(Table1[विद्यार्थी का नाम]=\"\",\"\",ROWS($A$1:A1361))","v":""},{"$f":"IF('SD Data Paste'!A1362=\"\",\"\",'SD Data Paste'!A1362)","v":""},{"$f":"IF('SD Data Paste'!B1362=\"\",\"\",'SD Data Paste'!B1362)","v":""},1361,{"$f":"IF('SD Data Paste'!E1362=\"\",\"\",'SD Data Paste'!E1362)","v":""},{"$f":"IF('SD Data Paste'!G1362=\"\",\"\",'SD Data Paste'!G1362)","v":""}]
[{"$f":"IF(Table1[विद्यार्थी का नाम]=\"\",\"\",ROWS($A$1:A1362))","v":""},{"$f":"IF('SD Data Paste'!A1363=\"\",\"\",'SD Data Paste'!A1363)","v":""},{"$f":"IF('SD Data Paste'!B1363=\"\",\"\",'SD Data Paste'!B1363)","v":""},1362,{"$f":"IF('SD Data Paste'!E1363=\"\",\"\",'SD Data Paste'!E1363)","v":""},{"$f":"IF('SD Data Paste'!G1363=\"\",\"\",'SD Data Paste'!G1363)","v":""}]
[{"$f":"IF(Table1[विद्यार्थी का नाम]=\"\",\"\",ROWS($A$1:A1363))","v":""},{"$f":"IF('SD Data Paste'!A1364=\"\",\"\",'SD Data Paste'!A1364)","v":""},{"$f":"IF('SD Data Paste'!B1364=\"\",\"\",'SD Data Paste'!B1364)","v":""},1363,{"$f":"IF('SD Data Paste'!E1364=\"\",\"\",'SD Data Paste'!E1364)","v":""},{"$f":"IF('SD Data Paste'!G1364=\"\",\"\",'SD Data Paste'!G1364)","v":""}]
[{"$f":"IF(Table1[विद्यार्थी का नाम]=\"\",\"\",ROWS($A$1:A1364))","v":""},{"$f":"IF('SD Data Paste'!A1365=\"\",\"\",'SD Data Paste'!A1365)","v":""},{"$f":"IF('SD Data Paste'!B1365=\"\",\"\",'SD Data Paste'!B1365)","v":""},1364,{"$f":"IF('SD Data Paste'!E1365=\"\",\"\",'SD Data Paste'!E1365)","v":""},{"$f":"IF('SD Data Paste'!G1365=\"\",\"\",'SD Data Paste'!G1365)","v":""}]
[{"$f":"IF(Table1[विद्यार्थी का नाम]=\"\",\"\",ROWS($A$1:A1365))","v":""},{"$f":"IF('SD Data Paste'!A1366=\"\",\"\",'SD Data Paste'!A1366)","v":""},{"$f":"IF('SD Data Paste'!B1366=\"\",\"\",'SD Data Paste'!B1366)","v":""},1365,{"$f":"IF('SD Data Paste'!E1366=\"\",\"\",'SD Data Paste'!E1366)","v":""},{"$f":"IF('SD Data Paste'!G1366=\"\",\"\",'SD Data Paste'!G1366)","v":""}]
[{"$f":"IF(Table1[विद्यार्थी का नाम]=\"\",\"\",ROWS($A$1:A1366))","v":""},{"$f":"IF('SD Data Paste'!A1367=\"\",\"\",'SD Data Paste'!A1367)","v":""},{"$f":"IF('SD Data Paste'!B1367=\"\",\"\",'SD Data Paste'!B1367)","v":""},1366,{"$f":"IF('SD Data Paste'!E1367=\"\",\"\",'SD Data Paste'!E1367)","v":""},{"$f":"IF('SD Data Paste'!G1367=\"\",\"\",'SD Data Paste'!G1367)","v":""}]
[{"$f":"IF(Table1[विद्यार्थी का नाम]=\"\",\"\",ROWS($A$1:A1367))","v":""},{"$f":"IF('SD Data Paste'!A1368=\"\",\"\",'SD Data Paste'!A1368)","v":""},{"$f":"IF('SD Data Paste'!B1368=\"\",\"\",'SD Data Paste'!B1368)","v":""},1367,{"$f":"IF('SD Data Paste'!E1368=\"\",\"\",'SD Data Paste'!E1368)","v":""},{"$f":"IF('SD Data Paste'!G1368=\"\",\"\",'SD Data Paste'!G1368)","v":""}]
[{"$f":"IF(Table1[विद्यार्थी का नाम]=\"\",\"\",ROWS($A$1:A1368))","v":""},{"$f":"IF('SD Data Paste'!A1369=\"\",\"\",'SD Data Paste'!A1369)","v":""},{"$f":"IF('SD Data Paste'!B1369=\"\",\"\",'SD Data Paste'!B1369)","v":""},1368,{"$f":"IF('SD Data Paste'!E1369=\"\",\"\",'SD Data Paste'!E1369)","v":""},{"$f":"IF('SD Data Paste'!G1369=\"\",\"\",'SD Data Paste'!G1369)","v":""}]
[{"$f":"IF(Table1[विद्यार्थी का नाम]=\"\",\"\",ROWS($A$1:A1369))","v":""},{"$f":"IF('SD Data Paste'!A1370=\"\",\"\",'SD Data Paste'!A1370)","v":""},{"$f":"IF('SD Data Paste'!B1370=\"\",\"\",'SD Data Paste'!B1370)","v":""},1369,{"$f":"IF('SD Data Paste'!E1370=\"\",\"\",'SD Data Paste'!E1370)","v":""},{"$f":"IF('SD Data Paste'!G1370=\"\",\"\",'SD Data Paste'!G1370)","v":""}]
[{"$f":"IF(Table1[विद्यार्थी का नाम]=\"\",\"\",ROWS($A$1:A1370))","v":""},{"$f":"IF('SD Data Paste'!A1371=\"\",\"\",'SD Data Paste'!A1371)","v":""},{"$f":"IF('SD Data Paste'!B1371=\"\",\"\",'SD Data Paste'!B1371)","v":""},1370,{"$f":"IF('SD Data Paste'!E1371=\"\",\"\",'SD Data Paste'!E1371)","v":""},{"$f":"IF('SD Data Paste'!G1371=\"\",\"\",'SD Data Paste'!G1371)","v":""}]
[{"$f":"IF(Table1[विद्यार्थी का नाम]=\"\",\"\",ROWS($A$1:A1371))","v":""},{"$f":"IF('SD Data Paste'!A1372=\"\",\"\",'SD Data Paste'!A1372)","v":""},{"$f":"IF('SD Data Paste'!B1372=\"\",\"\",'SD Data Paste'!B1372)","v":""},1371,{"$f":"IF('SD Data Paste'!E1372=\"\",\"\",'SD Data Paste'!E1372)","v":""},{"$f":"IF('SD Data Paste'!G1372=\"\",\"\",'SD Data Paste'!G1372)","v":""}]
[{"$f":"IF(Table1[विद्यार्थी का नाम]=\"\",\"\",ROWS($A$1:A1372))","v":""},{"$f":"IF('SD Data Paste'!A1373=\"\",\"\",'SD Data Paste'!A1373)","v":""},{"$f":"IF('SD Data Paste'!B1373=\"\",\"\",'SD Data Paste'!B1373)","v":""},1372,{"$f":"IF('SD Data Paste'!E1373=\"\",\"\",'SD Data Paste'!E1373)","v":""},{"$f":"IF('SD Data Paste'!G1373=\"\",\"\",'SD Data Paste'!G1373)","v":""}]
[{"$f":"IF(Table1[विद्यार्थी का नाम]=\"\",\"\",ROWS($A$1:A1373))","v":""},{"$f":"IF('SD Data Paste'!A1374=\"\",\"\",'SD Data Paste'!A1374)","v":""},{"$f":"IF('SD Data Paste'!B1374=\"\",\"\",'SD Data Paste'!B1374)","v":""},1373,{"$f":"IF('SD Data Paste'!E1374=\"\",\"\",'SD Data Paste'!E1374)","v":""},{"$f":"IF('SD Data Paste'!G1374=\"\",\"\",'SD Data Paste'!G1374)","v":""}]
[{"$f":"IF(Table1[विद्यार्थी का नाम]=\"\",\"\",ROWS($A$1:A1374))","v":""},{"$f":"IF('SD Data Paste'!A1375=\"\",\"\",'SD Data Paste'!A1375)","v":""},{"$f":"IF('SD Data Paste'!B1375=\"\",\"\",'SD Data Paste'!B1375)","v":""},1374,{"$f":"IF('SD Data Paste'!E1375=\"\",\"\",'SD Data Paste'!E1375)","v":""},{"$f":"IF('SD Data Paste'!G1375=\"\",\"\",'SD Data Paste'!G1375)","v":""}]
[{"$f":"IF(Table1[विद्यार्थी का नाम]=\"\",\"\",ROWS($A$1:A1375))","v":""},{"$f":"IF('SD Data Paste'!A1376=\"\",\"\",'SD Data Paste'!A1376)","v":""},{"$f":"IF('SD Data Paste'!B1376=\"\",\"\",'SD Data Paste'!B1376)","v":""},1375,{"$f":"IF('SD Data Paste'!E1376=\"\",\"\",'SD Data Paste'!E1376)","v":""},{"$f":"IF('SD Data Paste'!G1376=\"\",\"\",'SD Data Paste'!G1376)","v":""}]
[{"$f":"IF(Table1[विद्यार्थी का नाम]=\"\",\"\",ROWS($A$1:A1376))","v":""},{"$f":"IF('SD Data Paste'!A1377=\"\",\"\",'SD Data Paste'!A1377)","v":""},{"$f":"IF('SD Data Paste'!B1377=\"\",\"\",'SD Data Paste'!B1377)","v":""},1376,{"$f":"IF('SD Data Paste'!E1377=\"\",\"\",'SD Data Paste'!E1377)","v":""},{"$f":"IF('SD Data Paste'!G1377=\"\",\"\",'SD Data Paste'!G1377)","v":""}]
[{"$f":"IF(Table1[विद्यार्थी का नाम]=\"\",\"\",ROWS($A$1:A1377))","v":""},{"$f":"IF('SD Data Paste'!A1378=\"\",\"\",'SD Data Paste'!A1378)","v":""},{"$f":"IF('SD Data Paste'!B1378=\"\",\"\",'SD Data Paste'!B1378)","v":""},1377,{"$f":"IF('SD Data Paste'!E1378=\"\",\"\",'SD Data Paste'!E1378)","v":""},{"$f":"IF('SD Data Paste'!G1378=\"\",\"\",'SD Data Paste'!G1378)","v":""}]
[{"$f":"IF(Table1[विद्यार्थी का नाम]=\"\",\"\",ROWS($A$1:A1378))","v":""},{"$f":"IF('SD Data Paste'!A1379=\"\",\"\",'SD Data Paste'!A1379)","v":""},{"$f":"IF('SD Data Paste'!B1379=\"\",\"\",'SD Data Paste'!B1379)","v":""},1378,{"$f":"IF('SD Data Paste'!E1379=\"\",\"\",'SD Data Paste'!E1379)","v":""},{"$f":"IF('SD Data Paste'!G1379=\"\",\"\",'SD Data Paste'!G1379)","v":""}]
[{"$f":"IF(Table1[विद्यार्थी का नाम]=\"\",\"\",ROWS($A$1:A1379))","v":""},{"$f":"IF('SD Data Paste'!A1380=\"\",\"\",'SD Data Paste'!A1380)","v":""},{"$f":"IF('SD Data Paste'!B1380=\"\",\"\",'SD Data Paste'!B1380)","v":""},1379,{"$f":"IF('SD Data Paste'!E1380=\"\",\"\",'SD Data Paste'!E1380)","v":""},{"$f":"IF('SD Data Paste'!G1380=\"\",\"\",'SD Data Paste'!G1380)","v":""}]
[{"$f":"IF(Table1[विद्यार्थी का नाम]=\"\",\"\",ROWS($A$1:A1380))","v":""},{"$f":"IF('SD Data Paste'!A1381=\"\",\"\",'SD Data Paste'!A1381)","v":""},{"$f":"IF('SD Data Paste'!B1381=\"\",\"\",'SD Data Paste'!B1381)","v":""},1380,{"$f":"IF('SD Data Paste'!E1381=\"\",\"\",'SD Data Paste'!E1381)","v":""},{"$f":"IF('SD Data Paste'!G1381=\"\",\"\",'SD Data Paste'!G1381)","v":""}]
[{"$f":"IF(Table1[विद्यार्थी का नाम]=\"\",\"\",ROWS($A$1:A1381))","v":""},{"$f":"IF('SD Data Paste'!A1382=\"\",\"\",'SD Data Paste'!A1382)","v":""},{"$f":"IF('SD Data Paste'!B1382=\"\",\"\",'SD Data Paste'!B1382)","v":""},1381,{"$f":"IF('SD Data Paste'!E1382=\"\",\"\",'SD Data Paste'!E1382)","v":""},{"$f":"IF('SD Data Paste'!G1382=\"\",\"\",'SD Data Paste'!G1382)","v":""}]
[{"$f":"IF(Table1[विद्यार्थी का नाम]=\"\",\"\",ROWS($A$1:A1382))","v":""},{"$f":"IF('SD Data Paste'!A1383=\"\",\"\",'SD Data Paste'!A1383)","v":""},{"$f":"IF('SD Data Paste'!B1383=\"\",\"\",'SD Data Paste'!B1383)","v":""},1382,{"$f":"IF('SD Data Paste'!E1383=\"\",\"\",'SD Data Paste'!E1383)","v":""},{"$f":"IF('SD Data Paste'!G1383=\"\",\"\",'SD Data Paste'!G1383)","v":""}]
[{"$f":"IF(Table1[विद्यार्थी का नाम]=\"\",\"\",ROWS($A$1:A1383))","v":""},{"$f":"IF('SD Data Paste'!A1384=\"\",\"\",'SD Data Paste'!A1384)","v":""},{"$f":"IF('SD Data Paste'!B1384=\"\",\"\",'SD Data Paste'!B1384)","v":""},1383,{"$f":"IF('SD Data Paste'!E1384=\"\",\"\",'SD Data Paste'!E1384)","v":""},{"$f":"IF('SD Data Paste'!G1384=\"\",\"\",'SD Data Paste'!G1384)","v":""}]
[{"$f":"IF(Table1[विद्यार्थी का नाम]=\"\",\"\",ROWS($A$1:A1384))","v":""},{"$f":"IF('SD Data Paste'!A1385=\"\",\"\",'SD Data Paste'!A1385)","v":""},{"$f":"IF('SD Data Paste'!B1385=\"\",\"\",'SD Data Paste'!B1385)","v":""},1384,{"$f":"IF('SD Data Paste'!E1385=\"\",\"\",'SD Data Paste'!E1385)","v":""},{"$f":"IF('SD Data Paste'!G1385=\"\",\"\",'SD Data Paste'!G1385)","v":""}]
[{"$f":"IF(Table1[विद्यार्थी का नाम]=\"\",\"\",ROWS($A$1:A1385))","v":""},{"$f":"IF('SD Data Paste'!A1386=\"\",\"\",'SD Data Paste'!A1386)","v":""},{"$f":"IF('SD Data Paste'!B1386=\"\",\"\",'SD Data Paste'!B1386)","v":""},1385,{"$f":"IF('SD Data Paste'!E1386=\"\",\"\",'SD Data Paste'!E1386)","v":""},{"$f":"IF('SD Data Paste'!G1386=\"\",\"\",'SD Data Paste'!G1386)","v":""}]
[{"$f":"IF(Table1[विद्यार्थी का नाम]=\"\",\"\",ROWS($A$1:A1386))","v":""},{"$f":"IF('SD Data Paste'!A1387=\"\",\"\",'SD Data Paste'!A1387)","v":""},{"$f":"IF('SD Data Paste'!B1387=\"\",\"\",'SD Data Paste'!B1387)","v":""},1386,{"$f":"IF('SD Data Paste'!E1387=\"\",\"\",'SD Data Paste'!E1387)","v":""},{"$f":"IF('SD Data Paste'!G1387=\"\",\"\",'SD Data Paste'!G1387)","v":""}]
[{"$f":"IF(Table1[विद्यार्थी का नाम]=\"\",\"\",ROWS($A$1:A1387))","v":""},{"$f":"IF('SD Data Paste'!A1388=\"\",\"\",'SD Data Paste'!A1388)","v":""},{"$f":"IF('SD Data Paste'!B1388=\"\",\"\",'SD Data Paste'!B1388)","v":""},1387,{"$f":"IF('SD Data Paste'!E1388=\"\",\"\",'SD Data Paste'!E1388)","v":""},{"$f":"IF('SD Data Paste'!G1388=\"\",\"\",'SD Data Paste'!G1388)","v":""}]
[{"$f":"IF(Table1[विद्यार्थी का नाम]=\"\",\"\",ROWS($A$1:A1388))","v":""},{"$f":"IF('SD Data Paste'!A1389=\"\",\"\",'SD Data Paste'!A1389)","v":""},{"$f":"IF('SD Data Paste'!B1389=\"\",\"\",'SD Data Paste'!B1389)","v":""},1388,{"$f":"IF('SD Data Paste'!E1389=\"\",\"\",'SD Data Paste'!E1389)","v":""},{"$f":"IF('SD Data Paste'!G1389=\"\",\"\",'SD Data Paste'!G1389)","v":""}]
[{"$f":"IF(Table1[विद्यार्थी का नाम]=\"\",\"\",ROWS($A$1:A1389))","v":""},{"$f":"IF('SD Data Paste'!A1390=\"\",\"\",'SD Data Paste'!A1390)","v":""},{"$f":"IF('SD Data Paste'!B1390=\"\",\"\",'SD Data Paste'!B1390)","v":""},1389,{"$f":"IF('SD Data Paste'!E1390=\"\",\"\",'SD Data Paste'!E1390)","v":""},{"$f":"IF('SD Data Paste'!G1390=\"\",\"\",'SD Data Paste'!G1390)","v":""}]
[{"$f":"IF(Table1[विद्यार्थी का नाम]=\"\",\"\",ROWS($A$1:A1390))","v":""},{"$f":"IF('SD Data Paste'!A1391=\"\",\"\",'SD Data Paste'!A1391)","v":""},{"$f":"IF('SD Data Paste'!B1391=\"\",\"\",'SD Data Paste'!B1391)","v":""},1390,{"$f":"IF('SD Data Paste'!E1391=\"\",\"\",'SD Data Paste'!E1391)","v":""},{"$f":"IF('SD Data Paste'!G1391=\"\",\"\",'SD Data Paste'!G1391)","v":""}]
[{"$f":"IF(Table1[विद्यार्थी का नाम]=\"\",\"\",ROWS($A$1:A1391))","v":""},{"$f":"IF('SD Data Paste'!A1392=\"\",\"\",'SD Data Paste'!A1392)","v":""},{"$f":"IF('SD Data Paste'!B1392=\"\",\"\",'SD Data Paste'!B1392)","v":""},1391,{"$f":"IF('SD Data Paste'!E1392=\"\",\"\",'SD Data Paste'!E1392)","v":""},{"$f":"IF('SD Data Paste'!G1392=\"\",\"\",'SD Data Paste'!G1392)","v":""}]
[{"$f":"IF(Table1[विद्यार्थी का नाम]=\"\",\"\",ROWS($A$1:A1392))","v":""},{"$f":"IF('SD Data Paste'!A1393=\"\",\"\",'SD Data Paste'!A1393)","v":""},{"$f":"IF('SD Data Paste'!B1393=\"\",\"\",'SD Data Paste'!B1393)","v":""},1392,{"$f":"IF('SD Data Paste'!E1393=\"\",\"\",'SD Data Paste'!E1393)","v":""},{"$f":"IF('SD Data Paste'!G1393=\"\",\"\",'SD Data Paste'!G1393)","v":""}]
[{"$f":"IF(Table1[विद्यार्थी का नाम]=\"\",\"\",ROWS($A$1:A1393))","v":""},{"$f":"IF('SD Data Paste'!A1394=\"\",\"\",'SD Data Paste'!A1394)","v":""},{"$f":"IF('SD Data Paste'!B1394=\"\",\"\",'SD Data Paste'!B1394)","v":""},1393,{"$f":"IF('SD Data Paste'!E1394=\"\",\"\",'SD Data Paste'!E1394)","v":""},{"$f":"IF('SD Data Paste'!G1394=\"\",\"\",'SD Data Paste'!G1394)","v":""}]
[{"$f":"IF(Table1[विद्यार्थी का नाम]=\"\",\"\",ROWS($A$1:A1394))","v":""},{"$f":"IF('SD Data Paste'!A1395=\"\",\"\",'SD Data Paste'!A1395)","v":""},{"$f":"IF('SD Data Paste'!B1395=\"\",\"\",'SD Data Paste'!B1395)","v":""},1394,{"$f":"IF('SD Data Paste'!E1395=\"\",\"\",'SD Data Paste'!E1395)","v":""},{"$f":"IF('SD Data Paste'!G1395=\"\",\"\",'SD Data Paste'!G1395)","v":""}]
[{"$f":"IF(Table1[विद्यार्थी का नाम]=\"\",\"\",ROWS($A$1:A1395))","v":""},{"$f":"IF('SD Data Paste'!A1396=\"\",\"\",'SD Data Paste'!A1396)","v":""},{"$f":"IF('SD Data Paste'!B1396=\"\",\"\",'SD Data Paste'!B1396)","v":""},1395,{"$f":"IF('SD Data Paste'!E1396=\"\",\"\",'SD Data Paste'!E1396)","v":""},{"$f":"IF('SD Data Paste'!G1396=\"\",\"\",'SD Data Paste'!G1396)","v":""}]
[{"$f":"IF(Table1[विद्यार्थी का नाम]=\"\",\"\",ROWS($A$1:A1396))","v":""},{"$f":"IF('SD Data Paste'!A1397=\"\",\"\",'SD Data Paste'!A1397)","v":""},{"$f":"IF('SD Data Paste'!B1397=\"\",\"\",'SD Data Paste'!B1397)","v":""},1396,{"$f":"IF('SD Data Paste'!E1397=\"\",\"\",'SD Data Paste'!E1397)","v":""},{"$f":"IF('SD Data Paste'!G1397=\"\",\"\",'SD Data Paste'!G1397)","v":""}]
[{"$f":"IF(Table1[विद्यार्थी का नाम]=\"\",\"\",ROWS($A$1:A1397))","v":""},{"$f":"IF('SD Data Paste'!A1398=\"\",\"\",'SD Data Paste'!A1398)","v":""},{"$f":"IF('SD Data Paste'!B1398=\"\",\"\",'SD Data Paste'!B1398)","v":""},1397,{"$f":"IF('SD Data Paste'!E1398=\"\",\"\",'SD Data Paste'!E1398)","v":""},{"$f":"IF('SD Data Paste'!G1398=\"\",\"\",'SD Data Paste'!G1398)","v":""}]
[{"$f":"IF(Table1[विद्यार्थी का नाम]=\"\",\"\",ROWS($A$1:A1398))","v":""},{"$f":"IF('SD Data Paste'!A1399=\"\",\"\",'SD Data Paste'!A1399)","v":""},{"$f":"IF('SD Data Paste'!B1399=\"\",\"\",'SD Data Paste'!B1399)","v":""},1398,{"$f":"IF('SD Data Paste'!E1399=\"\",\"\",'SD Data Paste'!E1399)","v":""},{"$f":"IF('SD Data Paste'!G1399=\"\",\"\",'SD Data Paste'!G1399)","v":""}]
[{"$f":"IF(Table1[विद्यार्थी का नाम]=\"\",\"\",ROWS($A$1:A1399))","v":""},{"$f":"IF('SD Data Paste'!A1400=\"\",\"\",'SD Data Paste'!A1400)","v":""},{"$f":"IF('SD Data Paste'!B1400=\"\",\"\",'SD Data Paste'!B1400)","v":""},1399,{"$f":"IF('SD Data Paste'!E1400=\"\",\"\",'SD Data Paste'!E1400)","v":""},{"$f":"IF('SD Data Paste'!G1400=\"\",\"\",'SD Data Paste'!G1400)","v":""}]
[{"$f":"IF(Table1[विद्यार्थी का नाम]=\"\",\"\",ROWS($A$1:A1400))","v":""},{"$f":"IF('SD Data Paste'!A1401=\"\",\"\",'SD Data Paste'!A1401)","v":""},{"$f":"IF('SD Data Paste'!B1401=\"\",\"\",'SD Data Paste'!B1401)","v":""},1400,{"$f":"IF('SD Data Paste'!E1401=\"\",\"\",'SD Data Paste'!E1401)","v":""},{"$f":"IF('SD Data Paste'!G1401=\"\",\"\",'SD Data Paste'!G1401)","v":""}]
[{"$f":"IF(Table1[विद्यार्थी का नाम]=\"\",\"\",ROWS($A$1:A1401))","v":""},{"$f":"IF('SD Data Paste'!A1402=\"\",\"\",'SD Data Paste'!A1402)","v":""},{"$f":"IF('SD Data Paste'!B1402=\"\",\"\",'SD Data Paste'!B1402)","v":""},1401,{"$f":"IF('SD Data Paste'!E1402=\"\",\"\",'SD Data Paste'!E1402)","v":""},{"$f":"IF('SD Data Paste'!G1402=\"\",\"\",'SD Data Paste'!G1402)","v":""}]
[{"$f":"IF(Table1[विद्यार्थी का नाम]=\"\",\"\",ROWS($A$1:A1402))","v":""},{"$f":"IF('SD Data Paste'!A1403=\"\",\"\",'SD Data Paste'!A1403)","v":""},{"$f":"IF('SD Data Paste'!B1403=\"\",\"\",'SD Data Paste'!B1403)","v":""},1402,{"$f":"IF('SD Data Paste'!E1403=\"\",\"\",'SD Data Paste'!E1403)","v":""},{"$f":"IF('SD Data Paste'!G1403=\"\",\"\",'SD Data Paste'!G1403)","v":""}]
[{"$f":"IF(Table1[विद्यार्थी का नाम]=\"\",\"\",ROWS($A$1:A1403))","v":""},{"$f":"IF('SD Data Paste'!A1404=\"\",\"\",'SD Data Paste'!A1404)","v":""},{"$f":"IF('SD Data Paste'!B1404=\"\",\"\",'SD Data Paste'!B1404)","v":""},1403,{"$f":"IF('SD Data Paste'!E1404=\"\",\"\",'SD Data Paste'!E1404)","v":""},{"$f":"IF('SD Data Paste'!G1404=\"\",\"\",'SD Data Paste'!G1404)","v":""}]
[{"$f":"IF(Table1[विद्यार्थी का नाम]=\"\",\"\",ROWS($A$1:A1404))","v":""},{"$f":"IF('SD Data Paste'!A1405=\"\",\"\",'SD Data Paste'!A1405)","v":""},{"$f":"IF('SD Data Paste'!B1405=\"\",\"\",'SD Data Paste'!B1405)","v":""},1404,{"$f":"IF('SD Data Paste'!E1405=\"\",\"\",'SD Data Paste'!E1405)","v":""},{"$f":"IF('SD Data Paste'!G1405=\"\",\"\",'SD Data Paste'!G1405)","v":""}]
[{"$f":"IF(Table1[विद्यार्थी का नाम]=\"\",\"\",ROWS($A$1:A1405))","v":""},{"$f":"IF('SD Data Paste'!A1406=\"\",\"\",'SD Data Paste'!A1406)","v":""},{"$f":"IF('SD Data Paste'!B1406=\"\",\"\",'SD Data Paste'!B1406)","v":""},1405,{"$f":"IF('SD Data Paste'!E1406=\"\",\"\",'SD Data Paste'!E1406)","v":""},{"$f":"IF('SD Data Paste'!G1406=\"\",\"\",'SD Data Paste'!G1406)","v":""}]
[{"$f":"IF(Table1[विद्यार्थी का नाम]=\"\",\"\",ROWS($A$1:A1406))","v":""},{"$f":"IF('SD Data Paste'!A1407=\"\",\"\",'SD Data Paste'!A1407)","v":""},{"$f":"IF('SD Data Paste'!B1407=\"\",\"\",'SD Data Paste'!B1407)","v":""},1406,{"$f":"IF('SD Data Paste'!E1407=\"\",\"\",'SD Data Paste'!E1407)","v":""},{"$f":"IF('SD Data Paste'!G1407=\"\",\"\",'SD Data Paste'!G1407)","v":""}]
[{"$f":"IF(Table1[विद्यार्थी का नाम]=\"\",\"\",ROWS($A$1:A1407))","v":""},{"$f":"IF('SD Data Paste'!A1408=\"\",\"\",'SD Data Paste'!A1408)","v":""},{"$f":"IF('SD Data Paste'!B1408=\"\",\"\",'SD Data Paste'!B1408)","v":""},1407,{"$f":"IF('SD Data Paste'!E1408=\"\",\"\",'SD Data Paste'!E1408)","v":""},{"$f":"IF('SD Data Paste'!G1408=\"\",\"\",'SD Data Paste'!G1408)","v":""}]
[{"$f":"IF(Table1[विद्यार्थी का नाम]=\"\",\"\",ROWS($A$1:A1408))","v":""},{"$f":"IF('SD Data Paste'!A1409=\"\",\"\",'SD Data Paste'!A1409)","v":""},{"$f":"IF('SD Data Paste'!B1409=\"\",\"\",'SD Data Paste'!B1409)","v":""},1408,{"$f":"IF('SD Data Paste'!E1409=\"\",\"\",'SD Data Paste'!E1409)","v":""},{"$f":"IF('SD Data Paste'!G1409=\"\",\"\",'SD Data Paste'!G1409)","v":""}]
[{"$f":"IF(Table1[विद्यार्थी का नाम]=\"\",\"\",ROWS($A$1:A1409))","v":""},{"$f":"IF('SD Data Paste'!A1410=\"\",\"\",'SD Data Paste'!A1410)","v":""},{"$f":"IF('SD Data Paste'!B1410=\"\",\"\",'SD Data Paste'!B1410)","v":""},1409,{"$f":"IF('SD Data Paste'!E1410=\"\",\"\",'SD Data Paste'!E1410)","v":""},{"$f":"IF('SD Data Paste'!G1410=\"\",\"\",'SD Data Paste'!G1410)","v":""}]
[{"$f":"IF(Table1[विद्यार्थी का नाम]=\"\",\"\",ROWS($A$1:A1410))","v":""},{"$f":"IF('SD Data Paste'!A1411=\"\",\"\",'SD Data Paste'!A1411)","v":""},{"$f":"IF('SD Data Paste'!B1411=\"\",\"\",'SD Data Paste'!B1411)","v":""},1410,{"$f":"IF('SD Data Paste'!E1411=\"\",\"\",'SD Data Paste'!E1411)","v":""},{"$f":"IF('SD Data Paste'!G1411=\"\",\"\",'SD Data Paste'!G1411)","v":""}]
[{"$f":"IF(Table1[विद्यार्थी का नाम]=\"\",\"\",ROWS($A$1:A1411))","v":""},{"$f":"IF('SD Data Paste'!A1412=\"\",\"\",'SD Data Paste'!A1412)","v":""},{"$f":"IF('SD Data Paste'!B1412=\"\",\"\",'SD Data Paste'!B1412)","v":""},{"$f":"IF(D1413=\"\",\"\",D1413+1)","v":1411},{"$f":"IF('SD Data Paste'!E1412=\"\",\"\",'SD Data Paste'!E1412)","v":""},{"$f":"IF('SD Data Paste'!G1412=\"\",\"\",'SD Data Paste'!G1412)","v":""}]
[{"$f":"IF(Table1[विद्यार्थी का नाम]=\"\",\"\",ROWS($A$1:A1412))","v":""},{"$f":"IF('SD Data Paste'!A1413=\"\",\"\",'SD Data Paste'!A1413)","v":""},{"$f":"IF('SD Data Paste'!B1413=\"\",\"\",'SD Data Paste'!B1413)","v":""},1412,{"$f":"IF('SD Data Paste'!E1413=\"\",\"\",'SD Data Paste'!E1413)","v":""},{"$f":"IF('SD Data Paste'!G1413=\"\",\"\",'SD Data Paste'!G1413)","v":""}]
[{"$f":"IF(Table1[विद्यार्थी का नाम]=\"\",\"\",ROWS($A$1:A1413))","v":""},{"$f":"IF('SD Data Paste'!A1414=\"\",\"\",'SD Data Paste'!A1414)","v":""},{"$f":"IF('SD Data Paste'!B1414=\"\",\"\",'SD Data Paste'!B1414)","v":""},1413,{"$f":"IF('SD Data Paste'!E1414=\"\",\"\",'SD Data Paste'!E1414)","v":""},{"$f":"IF('SD Data Paste'!G1414=\"\",\"\",'SD Data Paste'!G1414)","v":""}]
[{"$f":"IF(Table1[विद्यार्थी का नाम]=\"\",\"\",ROWS($A$1:A1414))","v":""},{"$f":"IF('SD Data Paste'!A1415=\"\",\"\",'SD Data Paste'!A1415)","v":""},{"$f":"IF('SD Data Paste'!B1415=\"\",\"\",'SD Data Paste'!B1415)","v":""},1414,{"$f":"IF('SD Data Paste'!E1415=\"\",\"\",'SD Data Paste'!E1415)","v":""},{"$f":"IF('SD Data Paste'!G1415=\"\",\"\",'SD Data Paste'!G1415)","v":""}]
[{"$f":"IF(Table1[विद्यार्थी का नाम]=\"\",\"\",ROWS($A$1:A1415))","v":""},{"$f":"IF('SD Data Paste'!A1416=\"\",\"\",'SD Data Paste'!A1416)","v":""},{"$f":"IF('SD Data Paste'!B1416=\"\",\"\",'SD Data Paste'!B1416)","v":""},1415,{"$f":"IF('SD Data Paste'!E1416=\"\",\"\",'SD Data Paste'!E1416)","v":""},{"$f":"IF('SD Data Paste'!G1416=\"\",\"\",'SD Data Paste'!G1416)","v":""}]
[{"$f":"IF(Table1[विद्यार्थी का नाम]=\"\",\"\",ROWS($A$1:A1416))","v":""},{"$f":"IF('SD Data Paste'!A1417=\"\",\"\",'SD Data Paste'!A1417)","v":""},{"$f":"IF('SD Data Paste'!B1417=\"\",\"\",'SD Data Paste'!B1417)","v":""},1416,{"$f":"IF('SD Data Paste'!E1417=\"\",\"\",'SD Data Paste'!E1417)","v":""},{"$f":"IF('SD Data Paste'!G1417=\"\",\"\",'SD Data Paste'!G1417)","v":""}]
[{"$f":"IF(Table1[विद्यार्थी का नाम]=\"\",\"\",ROWS($A$1:A1417))","v":""},{"$f":"IF('SD Data Paste'!A1418=\"\",\"\",'SD Data Paste'!A1418)","v":""},{"$f":"IF('SD Data Paste'!B1418=\"\",\"\",'SD Data Paste'!B1418)","v":""},1417,{"$f":"IF('SD Data Paste'!E1418=\"\",\"\",'SD Data Paste'!E1418)","v":""},{"$f":"IF('SD Data Paste'!G1418=\"\",\"\",'SD Data Paste'!G1418)","v":""}]
[{"$f":"IF(Table1[विद्यार्थी का नाम]=\"\",\"\",ROWS($A$1:A1418))","v":""},{"$f":"IF('SD Data Paste'!A1419=\"\",\"\",'SD Data Paste'!A1419)","v":""},{"$f":"IF('SD Data Paste'!B1419=\"\",\"\",'SD Data Paste'!B1419)","v":""},1418,{"$f":"IF('SD Data Paste'!E1419=\"\",\"\",'SD Data Paste'!E1419)","v":""},{"$f":"IF('SD Data Paste'!G1419=\"\",\"\",'SD Data Paste'!G1419)","v":""}]
[{"$f":"IF(Table1[विद्यार्थी का नाम]=\"\",\"\",ROWS($A$1:A1419))","v":""},{"$f":"IF('SD Data Paste'!A1420=\"\",\"\",'SD Data Paste'!A1420)","v":""},{"$f":"IF('SD Data Paste'!B1420=\"\",\"\",'SD Data Paste'!B1420)","v":""},1419,{"$f":"IF('SD Data Paste'!E1420=\"\",\"\",'SD Data Paste'!E1420)","v":""},{"$f":"IF('SD Data Paste'!G1420=\"\",\"\",'SD Data Paste'!G1420)","v":""}]
[{"$f":"IF(Table1[विद्यार्थी का नाम]=\"\",\"\",ROWS($A$1:A1420))","v":""},{"$f":"IF('SD Data Paste'!A1421=\"\",\"\",'SD Data Paste'!A1421)","v":""},{"$f":"IF('SD Data Paste'!B1421=\"\",\"\",'SD Data Paste'!B1421)","v":""},1420,{"$f":"IF('SD Data Paste'!E1421=\"\",\"\",'SD Data Paste'!E1421)","v":""},{"$f":"IF('SD Data Paste'!G1421=\"\",\"\",'SD Data Paste'!G1421)","v":""}]
[{"$f":"IF(Table1[विद्यार्थी का नाम]=\"\",\"\",ROWS($A$1:A1421))","v":""},{"$f":"IF('SD Data Paste'!A1422=\"\",\"\",'SD Data Paste'!A1422)","v":""},{"$f":"IF('SD Data Paste'!B1422=\"\",\"\",'SD Data Paste'!B1422)","v":""},1421,{"$f":"IF('SD Data Paste'!E1422=\"\",\"\",'SD Data Paste'!E1422)","v":""},{"$f":"IF('SD Data Paste'!G1422=\"\",\"\",'SD Data Paste'!G1422)","v":""}]
[{"$f":"IF(Table1[विद्यार्थी का नाम]=\"\",\"\",ROWS($A$1:A1422))","v":""},{"$f":"IF('SD Data Paste'!A1423=\"\",\"\",'SD Data Paste'!A1423)","v":""},{"$f":"IF('SD Data Paste'!B1423=\"\",\"\",'SD Data Paste'!B1423)","v":""},1422,{"$f":"IF('SD Data Paste'!E1423=\"\",\"\",'SD Data Paste'!E1423)","v":""},{"$f":"IF('SD Data Paste'!G1423=\"\",\"\",'SD Data Paste'!G1423)","v":""}]
[{"$f":"IF(Table1[विद्यार्थी का नाम]=\"\",\"\",ROWS($A$1:A1423))","v":""},{"$f":"IF('SD Data Paste'!A1424=\"\",\"\",'SD Data Paste'!A1424)","v":""},{"$f":"IF('SD Data Paste'!B1424=\"\",\"\",'SD Data Paste'!B1424)","v":""},1423,{"$f":"IF('SD Data Paste'!E1424=\"\",\"\",'SD Data Paste'!E1424)","v":""},{"$f":"IF('SD Data Paste'!G1424=\"\",\"\",'SD Data Paste'!G1424)","v":""}]
[{"$f":"IF(Table1[विद्यार्थी का नाम]=\"\",\"\",ROWS($A$1:A1424))","v":""},{"$f":"IF('SD Data Paste'!A1425=\"\",\"\",'SD Data Paste'!A1425)","v":""},{"$f":"IF('SD Data Paste'!B1425=\"\",\"\",'SD Data Paste'!B1425)","v":""},1424,{"$f":"IF('SD Data Paste'!E1425=\"\",\"\",'SD Data Paste'!E1425)","v":""},{"$f":"IF('SD Data Paste'!G1425=\"\",\"\",'SD Data Paste'!G1425)","v":""}]
[{"$f":"IF(Table1[विद्यार्थी का नाम]=\"\",\"\",ROWS($A$1:A1425))","v":""},{"$f":"IF('SD Data Paste'!A1426=\"\",\"\",'SD Data Paste'!A1426)","v":""},{"$f":"IF('SD Data Paste'!B1426=\"\",\"\",'SD Data Paste'!B1426)","v":""},1425,{"$f":"IF('SD Data Paste'!E1426=\"\",\"\",'SD Data Paste'!E1426)","v":""},{"$f":"IF('SD Data Paste'!G1426=\"\",\"\",'SD Data Paste'!G1426)","v":""}]
[{"$f":"IF(Table1[विद्यार्थी का नाम]=\"\",\"\",ROWS($A$1:A1426))","v":""},{"$f":"IF('SD Data Paste'!A1427=\"\",\"\",'SD Data Paste'!A1427)","v":""},{"$f":"IF('SD Data Paste'!B1427=\"\",\"\",'SD Data Paste'!B1427)","v":""},1426,{"$f":"IF('SD Data Paste'!E1427=\"\",\"\",'SD Data Paste'!E1427)","v":""},{"$f":"IF('SD Data Paste'!G1427=\"\",\"\",'SD Data Paste'!G1427)","v":""}]
[{"$f":"IF(Table1[विद्यार्थी का नाम]=\"\",\"\",ROWS($A$1:A1427))","v":""},{"$f":"IF('SD Data Paste'!A1428=\"\",\"\",'SD Data Paste'!A1428)","v":""},{"$f":"IF('SD Data Paste'!B1428=\"\",\"\",'SD Data Paste'!B1428)","v":""},1427,{"$f":"IF('SD Data Paste'!E1428=\"\",\"\",'SD Data Paste'!E1428)","v":""},{"$f":"IF('SD Data Paste'!G1428=\"\",\"\",'SD Data Paste'!G1428)","v":""}]
[{"$f":"IF(Table1[विद्यार्थी का नाम]=\"\",\"\",ROWS($A$1:A1428))","v":""},{"$f":"IF('SD Data Paste'!A1429=\"\",\"\",'SD Data Paste'!A1429)","v":""},{"$f":"IF('SD Data Paste'!B1429=\"\",\"\",'SD Data Paste'!B1429)","v":""},1428,{"$f":"IF('SD Data Paste'!E1429=\"\",\"\",'SD Data Paste'!E1429)","v":""},{"$f":"IF('SD Data Paste'!G1429=\"\",\"\",'SD Data Paste'!G1429)","v":""}]
[{"$f":"IF(Table1[विद्यार्थी का नाम]=\"\",\"\",ROWS($A$1:A1429))","v":""},{"$f":"IF('SD Data Paste'!A1430=\"\",\"\",'SD Data Paste'!A1430)","v":""},{"$f":"IF('SD Data Paste'!B1430=\"\",\"\",'SD Data Paste'!B1430)","v":""},1429,{"$f":"IF('SD Data Paste'!E1430=\"\",\"\",'SD Data Paste'!E1430)","v":""},{"$f":"IF('SD Data Paste'!G1430=\"\",\"\",'SD Data Paste'!G1430)","v":""}]
[{"$f":"IF(Table1[विद्यार्थी का नाम]=\"\",\"\",ROWS($A$1:A1430))","v":""},{"$f":"IF('SD Data Paste'!A1431=\"\",\"\",'SD Data Paste'!A1431)","v":""},{"$f":"IF('SD Data Paste'!B1431=\"\",\"\",'SD Data Paste'!B1431)","v":""},1430,{"$f":"IF('SD Data Paste'!E1431=\"\",\"\",'SD Data Paste'!E1431)","v":""},{"$f":"IF('SD Data Paste'!G1431=\"\",\"\",'SD Data Paste'!G1431)","v":""}]
[{"$f":"IF(Table1[विद्यार्थी का नाम]=\"\",\"\",ROWS($A$1:A1431))","v":""},{"$f":"IF('SD Data Paste'!A1432=\"\",\"\",'SD Data Paste'!A1432)","v":""},{"$f":"IF('SD Data Paste'!B1432=\"\",\"\",'SD Data Paste'!B1432)","v":""},1431,{"$f":"IF('SD Data Paste'!E1432=\"\",\"\",'SD Data Paste'!E1432)","v":""},{"$f":"IF('SD Data Paste'!G1432=\"\",\"\",'SD Data Paste'!G1432)","v":""}]
[{"$f":"IF(Table1[विद्यार्थी का नाम]=\"\",\"\",ROWS($A$1:A1432))","v":""},{"$f":"IF('SD Data Paste'!A1433=\"\",\"\",'SD Data Paste'!A1433)","v":""},{"$f":"IF('SD Data Paste'!B1433=\"\",\"\",'SD Data Paste'!B1433)","v":""},1432,{"$f":"IF('SD Data Paste'!E1433=\"\",\"\",'SD Data Paste'!E1433)","v":""},{"$f":"IF('SD Data Paste'!G1433=\"\",\"\",'SD Data Paste'!G1433)","v":""}]
[{"$f":"IF(Table1[विद्यार्थी का नाम]=\"\",\"\",ROWS($A$1:A1433))","v":""},{"$f":"IF('SD Data Paste'!A1434=\"\",\"\",'SD Data Paste'!A1434)","v":""},{"$f":"IF('SD Data Paste'!B1434=\"\",\"\",'SD Data Paste'!B1434)","v":""},1433,{"$f":"IF('SD Data Paste'!E1434=\"\",\"\",'SD Data Paste'!E1434)","v":""},{"$f":"IF('SD Data Paste'!G1434=\"\",\"\",'SD Data Paste'!G1434)","v":""}]
[{"$f":"IF(Table1[विद्यार्थी का नाम]=\"\",\"\",ROWS($A$1:A1434))","v":""},{"$f":"IF('SD Data Paste'!A1435=\"\",\"\",'SD Data Paste'!A1435)","v":""},{"$f":"IF('SD Data Paste'!B1435=\"\",\"\",'SD Data Paste'!B1435)","v":""},1434,{"$f":"IF('SD Data Paste'!E1435=\"\",\"\",'SD Data Paste'!E1435)","v":""},{"$f":"IF('SD Data Paste'!G1435=\"\",\"\",'SD Data Paste'!G1435)","v":""}]
[{"$f":"IF(Table1[विद्यार्थी का नाम]=\"\",\"\",ROWS($A$1:A1435))","v":""},{"$f":"IF('SD Data Paste'!A1436=\"\",\"\",'SD Data Paste'!A1436)","v":""},{"$f":"IF('SD Data Paste'!B1436=\"\",\"\",'SD Data Paste'!B1436)","v":""},1435,{"$f":"IF('SD Data Paste'!E1436=\"\",\"\",'SD Data Paste'!E1436)","v":""},{"$f":"IF('SD Data Paste'!G1436=\"\",\"\",'SD Data Paste'!G1436)","v":""}]
[{"$f":"IF(Table1[विद्यार्थी का नाम]=\"\",\"\",ROWS($A$1:A1436))","v":""},{"$f":"IF('SD Data Paste'!A1437=\"\",\"\",'SD Data Paste'!A1437)","v":""},{"$f":"IF('SD Data Paste'!B1437=\"\",\"\",'SD Data Paste'!B1437)","v":""},1436,{"$f":"IF('SD Data Paste'!E1437=\"\",\"\",'SD Data Paste'!E1437)","v":""},{"$f":"IF('SD Data Paste'!G1437=\"\",\"\",'SD Data Paste'!G1437)","v":""}]
[{"$f":"IF(Table1[विद्यार्थी का नाम]=\"\",\"\",ROWS($A$1:A1437))","v":""},{"$f":"IF('SD Data Paste'!A1438=\"\",\"\",'SD Data Paste'!A1438)","v":""},{"$f":"IF('SD Data Paste'!B1438=\"\",\"\",'SD Data Paste'!B1438)","v":""},1437,{"$f":"IF('SD Data Paste'!E1438=\"\",\"\",'SD Data Paste'!E1438)","v":""},{"$f":"IF('SD Data Paste'!G1438=\"\",\"\",'SD Data Paste'!G1438)","v":""}]
[{"$f":"IF(Table1[विद्यार्थी का नाम]=\"\",\"\",ROWS($A$1:A1438))","v":""},{"$f":"IF('SD Data Paste'!A1439=\"\",\"\",'SD Data Paste'!A1439)","v":""},{"$f":"IF('SD Data Paste'!B1439=\"\",\"\",'SD Data Paste'!B1439)","v":""},1438,{"$f":"IF('SD Data Paste'!E1439=\"\",\"\",'SD Data Paste'!E1439)","v":""},{"$f":"IF('SD Data Paste'!G1439=\"\",\"\",'SD Data Paste'!G1439)","v":""}]
[{"$f":"IF(Table1[विद्यार्थी का नाम]=\"\",\"\",ROWS($A$1:A1439))","v":""},{"$f":"IF('SD Data Paste'!A1440=\"\",\"\",'SD Data Paste'!A1440)","v":""},{"$f":"IF('SD Data Paste'!B1440=\"\",\"\",'SD Data Paste'!B1440)","v":""},1439,{"$f":"IF('SD Data Paste'!E1440=\"\",\"\",'SD Data Paste'!E1440)","v":""},{"$f":"IF('SD Data Paste'!G1440=\"\",\"\",'SD Data Paste'!G1440)","v":""}]
[{"$f":"IF(Table1[विद्यार्थी का नाम]=\"\",\"\",ROWS($A$1:A1440))","v":""},{"$f":"IF('SD Data Paste'!A1441=\"\",\"\",'SD Data Paste'!A1441)","v":""},{"$f":"IF('SD Data Paste'!B1441=\"\",\"\",'SD Data Paste'!B1441)","v":""},1440,{"$f":"IF('SD Data Paste'!E1441=\"\",\"\",'SD Data Paste'!E1441)","v":""},{"$f":"IF('SD Data Paste'!G1441=\"\",\"\",'SD Data Paste'!G1441)","v":""}]
[{"$f":"IF(Table1[विद्यार्थी का नाम]=\"\",\"\",ROWS($A$1:A1441))","v":""},{"$f":"IF('SD Data Paste'!A1442=\"\",\"\",'SD Data Paste'!A1442)","v":""},{"$f":"IF('SD Data Paste'!B1442=\"\",\"\",'SD Data Paste'!B1442)","v":""},1441,{"$f":"IF('SD Data Paste'!E1442=\"\",\"\",'SD Data Paste'!E1442)","v":""},{"$f":"IF('SD Data Paste'!G1442=\"\",\"\",'SD Data Paste'!G1442)","v":""}]
[{"$f":"IF(Table1[विद्यार्थी का नाम]=\"\",\"\",ROWS($A$1:A1442))","v":""},{"$f":"IF('SD Data Paste'!A1443=\"\",\"\",'SD Data Paste'!A1443)","v":""},{"$f":"IF('SD Data Paste'!B1443=\"\",\"\",'SD Data Paste'!B1443)","v":""},1442,{"$f":"IF('SD Data Paste'!E1443=\"\",\"\",'SD Data Paste'!E1443)","v":""},{"$f":"IF('SD Data Paste'!G1443=\"\",\"\",'SD Data Paste'!G1443)","v":""}]
[{"$f":"IF(Table1[विद्यार्थी का नाम]=\"\",\"\",ROWS($A$1:A1443))","v":""},{"$f":"IF('SD Data Paste'!A1444=\"\",\"\",'SD Data Paste'!A1444)","v":""},{"$f":"IF('SD Data Paste'!B1444=\"\",\"\",'SD Data Paste'!B1444)","v":""},1443,{"$f":"IF('SD Data Paste'!E1444=\"\",\"\",'SD Data Paste'!E1444)","v":""},{"$f":"IF('SD Data Paste'!G1444=\"\",\"\",'SD Data Paste'!G1444)","v":""}]
[{"$f":"IF(Table1[विद्यार्थी का नाम]=\"\",\"\",ROWS($A$1:A1444))","v":""},{"$f":"IF('SD Data Paste'!A1445=\"\",\"\",'SD Data Paste'!A1445)","v":""},{"$f":"IF('SD Data Paste'!B1445=\"\",\"\",'SD Data Paste'!B1445)","v":""},1444,{"$f":"IF('SD Data Paste'!E1445=\"\",\"\",'SD Data Paste'!E1445)","v":""},{"$f":"IF('SD Data Paste'!G1445=\"\",\"\",'SD Data Paste'!G1445)","v":""}]
[{"$f":"IF(Table1[विद्यार्थी का नाम]=\"\",\"\",ROWS($A$1:A1445))","v":""},{"$f":"IF('SD Data Paste'!A1446=\"\",\"\",'SD Data Paste'!A1446)","v":""},{"$f":"IF('SD Data Paste'!B1446=\"\",\"\",'SD Data Paste'!B1446)","v":""},1445,{"$f":"IF('SD Data Paste'!E1446=\"\",\"\",'SD Data Paste'!E1446)","v":""},{"$f":"IF('SD Data Paste'!G1446=\"\",\"\",'SD Data Paste'!G1446)","v":""}]
[{"$f":"IF(Table1[विद्यार्थी का नाम]=\"\",\"\",ROWS($A$1:A1446))","v":""},{"$f":"IF('SD Data Paste'!A1447=\"\",\"\",'SD Data Paste'!A1447)","v":""},{"$f":"IF('SD Data Paste'!B1447=\"\",\"\",'SD Data Paste'!B1447)","v":""},1446,{"$f":"IF('SD Data Paste'!E1447=\"\",\"\",'SD Data Paste'!E1447)","v":""},{"$f":"IF('SD Data Paste'!G1447=\"\",\"\",'SD Data Paste'!G1447)","v":""}]
[{"$f":"IF(Table1[विद्यार्थी का नाम]=\"\",\"\",ROWS($A$1:A1447))","v":""},{"$f":"IF('SD Data Paste'!A1448=\"\",\"\",'SD Data Paste'!A1448)","v":""},{"$f":"IF('SD Data Paste'!B1448=\"\",\"\",'SD Data Paste'!B1448)","v":""},1447,{"$f":"IF('SD Data Paste'!E1448=\"\",\"\",'SD Data Paste'!E1448)","v":""},{"$f":"IF('SD Data Paste'!G1448=\"\",\"\",'SD Data Paste'!G1448)","v":""}]
[{"$f":"IF(Table1[विद्यार्थी का नाम]=\"\",\"\",ROWS($A$1:A1448))","v":""},{"$f":"IF('SD Data Paste'!A1449=\"\",\"\",'SD Data Paste'!A1449)","v":""},{"$f":"IF('SD Data Paste'!B1449=\"\",\"\",'SD Data Paste'!B1449)","v":""},1448,{"$f":"IF('SD Data Paste'!E1449=\"\",\"\",'SD Data Paste'!E1449)","v":""},{"$f":"IF('SD Data Paste'!G1449=\"\",\"\",'SD Data Paste'!G1449)","v":""}]
[{"$f":"IF(Table1[विद्यार्थी का नाम]=\"\",\"\",ROWS($A$1:A1449))","v":""},{"$f":"IF('SD Data Paste'!A1450=\"\",\"\",'SD Data Paste'!A1450)","v":""},{"$f":"IF('SD Data Paste'!B1450=\"\",\"\",'SD Data Paste'!B1450)","v":""},1449,{"$f":"IF('SD Data Paste'!E1450=\"\",\"\",'SD Data Paste'!E1450)","v":""},{"$f":"IF('SD Data Paste'!G1450=\"\",\"\",'SD Data Paste'!G1450)","v":""}]
[{"$f":"IF(Table1[विद्यार्थी का नाम]=\"\",\"\",ROWS($A$1:A1450))","v":""},{"$f":"IF('SD Data Paste'!A1451=\"\",\"\",'SD Data Paste'!A1451)","v":""},{"$f":"IF('SD Data Paste'!B1451=\"\",\"\",'SD Data Paste'!B1451)","v":""},1450,{"$f":"IF('SD Data Paste'!E1451=\"\",\"\",'SD Data Paste'!E1451)","v":""},{"$f":"IF('SD Data Paste'!G1451=\"\",\"\",'SD Data Paste'!G1451)","v":""}]
[{"$f":"IF(Table1[विद्यार्थी का नाम]=\"\",\"\",ROWS($A$1:A1451))","v":""},{"$f":"IF('SD Data Paste'!A1452=\"\",\"\",'SD Data Paste'!A1452)","v":""},{"$f":"IF('SD Data Paste'!B1452=\"\",\"\",'SD Data Paste'!B1452)","v":""},1451,{"$f":"IF('SD Data Paste'!E1452=\"\",\"\",'SD Data Paste'!E1452)","v":""},{"$f":"IF('SD Data Paste'!G1452=\"\",\"\",'SD Data Paste'!G1452)","v":""}]
[{"$f":"IF(Table1[विद्यार्थी का नाम]=\"\",\"\",ROWS($A$1:A1452))","v":""},{"$f":"IF('SD Data Paste'!A1453=\"\",\"\",'SD Data Paste'!A1453)","v":""},{"$f":"IF('SD Data Paste'!B1453=\"\",\"\",'SD Data Paste'!B1453)","v":""},1452,{"$f":"IF('SD Data Paste'!E1453=\"\",\"\",'SD Data Paste'!E1453)","v":""},{"$f":"IF('SD Data Paste'!G1453=\"\",\"\",'SD Data Paste'!G1453)","v":""}]
[{"$f":"IF(Table1[विद्यार्थी का नाम]=\"\",\"\",ROWS($A$1:A1453))","v":""},{"$f":"IF('SD Data Paste'!A1454=\"\",\"\",'SD Data Paste'!A1454)","v":""},{"$f":"IF('SD Data Paste'!B1454=\"\",\"\",'SD Data Paste'!B1454)","v":""},1453,{"$f":"IF('SD Data Paste'!E1454=\"\",\"\",'SD Data Paste'!E1454)","v":""},{"$f":"IF('SD Data Paste'!G1454=\"\",\"\",'SD Data Paste'!G1454)","v":""}]
[{"$f":"IF(Table1[विद्यार्थी का नाम]=\"\",\"\",ROWS($A$1:A1454))","v":""},{"$f":"IF('SD Data Paste'!A1455=\"\",\"\",'SD Data Paste'!A1455)","v":""},{"$f":"IF('SD Data Paste'!B1455=\"\",\"\",'SD Data Paste'!B1455)","v":""},1454,{"$f":"IF('SD Data Paste'!E1455=\"\",\"\",'SD Data Paste'!E1455)","v":""},{"$f":"IF('SD Data Paste'!G1455=\"\",\"\",'SD Data Paste'!G1455)","v":""}]
[{"$f":"IF(Table1[विद्यार्थी का नाम]=\"\",\"\",ROWS($A$1:A1455))","v":""},{"$f":"IF('SD Data Paste'!A1456=\"\",\"\",'SD Data Paste'!A1456)","v":""},{"$f":"IF('SD Data Paste'!B1456=\"\",\"\",'SD Data Paste'!B1456)","v":""},1455,{"$f":"IF('SD Data Paste'!E1456=\"\",\"\",'SD Data Paste'!E1456)","v":""},{"$f":"IF('SD Data Paste'!G1456=\"\",\"\",'SD Data Paste'!G1456)","v":""}]
[{"$f":"IF(Table1[विद्यार्थी का नाम]=\"\",\"\",ROWS($A$1:A1456))","v":""},{"$f":"IF('SD Data Paste'!A1457=\"\",\"\",'SD Data Paste'!A1457)","v":""},{"$f":"IF('SD Data Paste'!B1457=\"\",\"\",'SD Data Paste'!B1457)","v":""},1456,{"$f":"IF('SD Data Paste'!E1457=\"\",\"\",'SD Data Paste'!E1457)","v":""},{"$f":"IF('SD Data Paste'!G1457=\"\",\"\",'SD Data Paste'!G1457)","v":""}]
[{"$f":"IF(Table1[विद्यार्थी का नाम]=\"\",\"\",ROWS($A$1:A1457))","v":""},{"$f":"IF('SD Data Paste'!A1458=\"\",\"\",'SD Data Paste'!A1458)","v":""},{"$f":"IF('SD Data Paste'!B1458=\"\",\"\",'SD Data Paste'!B1458)","v":""},1457,{"$f":"IF('SD Data Paste'!E1458=\"\",\"\",'SD Data Paste'!E1458)","v":""},{"$f":"IF('SD Data Paste'!G1458=\"\",\"\",'SD Data Paste'!G1458)","v":""}]
[{"$f":"IF(Table1[विद्यार्थी का नाम]=\"\",\"\",ROWS($A$1:A1458))","v":""},{"$f":"IF('SD Data Paste'!A1459=\"\",\"\",'SD Data Paste'!A1459)","v":""},{"$f":"IF('SD Data Paste'!B1459=\"\",\"\",'SD Data Paste'!B1459)","v":""},1458,{"$f":"IF('SD Data Paste'!E1459=\"\",\"\",'SD Data Paste'!E1459)","v":""},{"$f":"IF('SD Data Paste'!G1459=\"\",\"\",'SD Data Paste'!G1459)","v":""}]
[{"$f":"IF(Table1[विद्यार्थी का नाम]=\"\",\"\",ROWS($A$1:A1459))","v":""},{"$f":"IF('SD Data Paste'!A1460=\"\",\"\",'SD Data Paste'!A1460)","v":""},{"$f":"IF('SD Data Paste'!B1460=\"\",\"\",'SD Data Paste'!B1460)","v":""},1459,{"$f":"IF('SD Data Paste'!E1460=\"\",\"\",'SD Data Paste'!E1460)","v":""},{"$f":"IF('SD Data Paste'!G1460=\"\",\"\",'SD Data Paste'!G1460)","v":""}]
[{"$f":"IF(Table1[विद्यार्थी का नाम]=\"\",\"\",ROWS($A$1:A1460))","v":""},{"$f":"IF('SD Data Paste'!A1461=\"\",\"\",'SD Data Paste'!A1461)","v":""},{"$f":"IF('SD Data Paste'!B1461=\"\",\"\",'SD Data Paste'!B1461)","v":""},1460,{"$f":"IF('SD Data Paste'!E1461=\"\",\"\",'SD Data Paste'!E1461)","v":""},{"$f":"IF('SD Data Paste'!G1461=\"\",\"\",'SD Data Paste'!G1461)","v":""}]
[{"$f":"IF(Table1[विद्यार्थी का नाम]=\"\",\"\",ROWS($A$1:A1461))","v":""},{"$f":"IF('SD Data Paste'!A1462=\"\",\"\",'SD Data Paste'!A1462)","v":""},{"$f":"IF('SD Data Paste'!B1462=\"\",\"\",'SD Data Paste'!B1462)","v":""},1461,{"$f":"IF('SD Data Paste'!E1462=\"\",\"\",'SD Data Paste'!E1462)","v":""},{"$f":"IF('SD Data Paste'!G1462=\"\",\"\",'SD Data Paste'!G1462)","v":""}]
[{"$f":"IF(Table1[विद्यार्थी का नाम]=\"\",\"\",ROWS($A$1:A1462))","v":""},{"$f":"IF('SD Data Paste'!A1463=\"\",\"\",'SD Data Paste'!A1463)","v":""},{"$f":"IF('SD Data Paste'!B1463=\"\",\"\",'SD Data Paste'!B1463)","v":""},1462,{"$f":"IF('SD Data Paste'!E1463=\"\",\"\",'SD Data Paste'!E1463)","v":""},{"$f":"IF('SD Data Paste'!G1463=\"\",\"\",'SD Data Paste'!G1463)","v":""}]
[{"$f":"IF(Table1[विद्यार्थी का नाम]=\"\",\"\",ROWS($A$1:A1463))","v":""},{"$f":"IF('SD Data Paste'!A1464=\"\",\"\",'SD Data Paste'!A1464)","v":""},{"$f":"IF('SD Data Paste'!B1464=\"\",\"\",'SD Data Paste'!B1464)","v":""},1463,{"$f":"IF('SD Data Paste'!E1464=\"\",\"\",'SD Data Paste'!E1464)","v":""},{"$f":"IF('SD Data Paste'!G1464=\"\",\"\",'SD Data Paste'!G1464)","v":""}]
[{"$f":"IF(Table1[विद्यार्थी का नाम]=\"\",\"\",ROWS($A$1:A1464))","v":""},{"$f":"IF('SD Data Paste'!A1465=\"\",\"\",'SD Data Paste'!A1465)","v":""},{"$f":"IF('SD Data Paste'!B1465=\"\",\"\",'SD Data Paste'!B1465)","v":""},1464,{"$f":"IF('SD Data Paste'!E1465=\"\",\"\",'SD Data Paste'!E1465)","v":""},{"$f":"IF('SD Data Paste'!G1465=\"\",\"\",'SD Data Paste'!G1465)","v":""}]
[{"$f":"IF(Table1[विद्यार्थी का नाम]=\"\",\"\",ROWS($A$1:A1465))","v":""},{"$f":"IF('SD Data Paste'!A1466=\"\",\"\",'SD Data Paste'!A1466)","v":""},{"$f":"IF('SD Data Paste'!B1466=\"\",\"\",'SD Data Paste'!B1466)","v":""},1465,{"$f":"IF('SD Data Paste'!E1466=\"\",\"\",'SD Data Paste'!E1466)","v":""},{"$f":"IF('SD Data Paste'!G1466=\"\",\"\",'SD Data Paste'!G1466)","v":""}]
[{"$f":"IF(Table1[विद्यार्थी का नाम]=\"\",\"\",ROWS($A$1:A1466))","v":""},{"$f":"IF('SD Data Paste'!A1467=\"\",\"\",'SD Data Paste'!A1467)","v":""},{"$f":"IF('SD Data Paste'!B1467=\"\",\"\",'SD Data Paste'!B1467)","v":""},1466,{"$f":"IF('SD Data Paste'!E1467=\"\",\"\",'SD Data Paste'!E1467)","v":""},{"$f":"IF('SD Data Paste'!G1467=\"\",\"\",'SD Data Paste'!G1467)","v":""}]
[{"$f":"IF(Table1[विद्यार्थी का नाम]=\"\",\"\",ROWS($A$1:A1467))","v":""},{"$f":"IF('SD Data Paste'!A1468=\"\",\"\",'SD Data Paste'!A1468)","v":""},{"$f":"IF('SD Data Paste'!B1468=\"\",\"\",'SD Data Paste'!B1468)","v":""},1467,{"$f":"IF('SD Data Paste'!E1468=\"\",\"\",'SD Data Paste'!E1468)","v":""},{"$f":"IF('SD Data Paste'!G1468=\"\",\"\",'SD Data Paste'!G1468)","v":""}]
[{"$f":"IF(Table1[विद्यार्थी का नाम]=\"\",\"\",ROWS($A$1:A1468))","v":""},{"$f":"IF('SD Data Paste'!A1469=\"\",\"\",'SD Data Paste'!A1469)","v":""},{"$f":"IF('SD Data Paste'!B1469=\"\",\"\",'SD Data Paste'!B1469)","v":""},1468,{"$f":"IF('SD Data Paste'!E1469=\"\",\"\",'SD Data Paste'!E1469)","v":""},{"$f":"IF('SD Data Paste'!G1469=\"\",\"\",'SD Data Paste'!G1469)","v":""}]
[{"$f":"IF(Table1[विद्यार्थी का नाम]=\"\",\"\",ROWS($A$1:A1469))","v":""},{"$f":"IF('SD Data Paste'!A1470=\"\",\"\",'SD Data Paste'!A1470)","v":""},{"$f":"IF('SD Data Paste'!B1470=\"\",\"\",'SD Data Paste'!B1470)","v":""},1469,{"$f":"IF('SD Data Paste'!E1470=\"\",\"\",'SD Data Paste'!E1470)","v":""},{"$f":"IF('SD Data Paste'!G1470=\"\",\"\",'SD Data Paste'!G1470)","v":""}]
[{"$f":"IF(Table1[विद्यार्थी का नाम]=\"\",\"\",ROWS($A$1:A1470))","v":""},{"$f":"IF('SD Data Paste'!A1471=\"\",\"\",'SD Data Paste'!A1471)","v":""},{"$f":"IF('SD Data Paste'!B1471=\"\",\"\",'SD Data Paste'!B1471)","v":""},1470,{"$f":"IF('SD Data Paste'!E1471=\"\",\"\",'SD Data Paste'!E1471)","v":""},{"$f":"IF('SD Data Paste'!G1471=\"\",\"\",'SD Data Paste'!G1471)","v":""}]
[{"$f":"IF(Table1[विद्यार्थी का नाम]=\"\",\"\",ROWS($A$1:A1471))","v":""},{"$f":"IF('SD Data Paste'!A1472=\"\",\"\",'SD Data Paste'!A1472)","v":""},{"$f":"IF('SD Data Paste'!B1472=\"\",\"\",'SD Data Paste'!B1472)","v":""},1471,{"$f":"IF('SD Data Paste'!E1472=\"\",\"\",'SD Data Paste'!E1472)","v":""},{"$f":"IF('SD Data Paste'!G1472=\"\",\"\",'SD Data Paste'!G1472)","v":""}]
[{"$f":"IF(Table1[विद्यार्थी का नाम]=\"\",\"\",ROWS($A$1:A1472))","v":""},{"$f":"IF('SD Data Paste'!A1473=\"\",\"\",'SD Data Paste'!A1473)","v":""},{"$f":"IF('SD Data Paste'!B1473=\"\",\"\",'SD Data Paste'!B1473)","v":""},1472,{"$f":"IF('SD Data Paste'!E1473=\"\",\"\",'SD Data Paste'!E1473)","v":""},{"$f":"IF('SD Data Paste'!G1473=\"\",\"\",'SD Data Paste'!G1473)","v":""}]
[{"$f":"IF(Table1[विद्यार्थी का नाम]=\"\",\"\",ROWS($A$1:A1473))","v":""},{"$f":"IF('SD Data Paste'!A1474=\"\",\"\",'SD Data Paste'!A1474)","v":""},{"$f":"IF('SD Data Paste'!B1474=\"\",\"\",'SD Data Paste'!B1474)","v":""},1473,{"$f":"IF('SD Data Paste'!E1474=\"\",\"\",'SD Data Paste'!E1474)","v":""},{"$f":"IF('SD Data Paste'!G1474=\"\",\"\",'SD Data Paste'!G1474)","v":""}]
[{"$f":"IF(Table1[विद्यार्थी का नाम]=\"\",\"\",ROWS($A$1:A1474))","v":""},{"$f":"IF('SD Data Paste'!A1475=\"\",\"\",'SD Data Paste'!A1475)","v":""},{"$f":"IF('SD Data Paste'!B1475=\"\",\"\",'SD Data Paste'!B1475)","v":""},1474,{"$f":"IF('SD Data Paste'!E1475=\"\",\"\",'SD Data Paste'!E1475)","v":""},{"$f":"IF('SD Data Paste'!G1475=\"\",\"\",'SD Data Paste'!G1475)","v":""}]
[{"$f":"IF(Table1[विद्यार्थी का नाम]=\"\",\"\",ROWS($A$1:A1475))","v":""},{"$f":"IF('SD Data Paste'!A1476=\"\",\"\",'SD Data Paste'!A1476)","v":""},{"$f":"IF('SD Data Paste'!B1476=\"\",\"\",'SD Data Paste'!B1476)","v":""},{"$f":"IF(D1477=\"\",\"\",D1477+1)","v":1475},{"$f":"IF('SD Data Paste'!E1476=\"\",\"\",'SD Data Paste'!E1476)","v":""},{"$f":"IF('SD Data Paste'!G1476=\"\",\"\",'SD Data Paste'!G1476)","v":""}]
[{"$f":"IF(Table1[विद्यार्थी का नाम]=\"\",\"\",ROWS($A$1:A1476))","v":""},{"$f":"IF('SD Data Paste'!A1477=\"\",\"\",'SD Data Paste'!A1477)","v":""},{"$f":"IF('SD Data Paste'!B1477=\"\",\"\",'SD Data Paste'!B1477)","v":""},1476,{"$f":"IF('SD Data Paste'!E1477=\"\",\"\",'SD Data Paste'!E1477)","v":""},{"$f":"IF('SD Data Paste'!G1477=\"\",\"\",'SD Data Paste'!G1477)","v":""}]
[{"$f":"IF(Table1[विद्यार्थी का नाम]=\"\",\"\",ROWS($A$1:A1477))","v":""},{"$f":"IF('SD Data Paste'!A1478=\"\",\"\",'SD Data Paste'!A1478)","v":""},{"$f":"IF('SD Data Paste'!B1478=\"\",\"\",'SD Data Paste'!B1478)","v":""},1477,{"$f":"IF('SD Data Paste'!E1478=\"\",\"\",'SD Data Paste'!E1478)","v":""},{"$f":"IF('SD Data Paste'!G1478=\"\",\"\",'SD Data Paste'!G1478)","v":""}]
[{"$f":"IF(Table1[विद्यार्थी का नाम]=\"\",\"\",ROWS($A$1:A1478))","v":""},{"$f":"IF('SD Data Paste'!A1479=\"\",\"\",'SD Data Paste'!A1479)","v":""},{"$f":"IF('SD Data Paste'!B1479=\"\",\"\",'SD Data Paste'!B1479)","v":""},1478,{"$f":"IF('SD Data Paste'!E1479=\"\",\"\",'SD Data Paste'!E1479)","v":""},{"$f":"IF('SD Data Paste'!G1479=\"\",\"\",'SD Data Paste'!G1479)","v":""}]
[{"$f":"IF(Table1[विद्यार्थी का नाम]=\"\",\"\",ROWS($A$1:A1479))","v":""},{"$f":"IF('SD Data Paste'!A1480=\"\",\"\",'SD Data Paste'!A1480)","v":""},{"$f":"IF('SD Data Paste'!B1480=\"\",\"\",'SD Data Paste'!B1480)","v":""},1479,{"$f":"IF('SD Data Paste'!E1480=\"\",\"\",'SD Data Paste'!E1480)","v":""},{"$f":"IF('SD Data Paste'!G1480=\"\",\"\",'SD Data Paste'!G1480)","v":""}]
[{"$f":"IF(Table1[विद्यार्थी का नाम]=\"\",\"\",ROWS($A$1:A1480))","v":""},{"$f":"IF('SD Data Paste'!A1481=\"\",\"\",'SD Data Paste'!A1481)","v":""},{"$f":"IF('SD Data Paste'!B1481=\"\",\"\",'SD Data Paste'!B1481)","v":""},1480,{"$f":"IF('SD Data Paste'!E1481=\"\",\"\",'SD Data Paste'!E1481)","v":""},{"$f":"IF('SD Data Paste'!G1481=\"\",\"\",'SD Data Paste'!G1481)","v":""}]
[{"$f":"IF(Table1[विद्यार्थी का नाम]=\"\",\"\",ROWS($A$1:A1481))","v":""},{"$f":"IF('SD Data Paste'!A1482=\"\",\"\",'SD Data Paste'!A1482)","v":""},{"$f":"IF('SD Data Paste'!B1482=\"\",\"\",'SD Data Paste'!B1482)","v":""},1481,{"$f":"IF('SD Data Paste'!E1482=\"\",\"\",'SD Data Paste'!E1482)","v":""},{"$f":"IF('SD Data Paste'!G1482=\"\",\"\",'SD Data Paste'!G1482)","v":""}]
[{"$f":"IF(Table1[विद्यार्थी का नाम]=\"\",\"\",ROWS($A$1:A1482))","v":""},{"$f":"IF('SD Data Paste'!A1483=\"\",\"\",'SD Data Paste'!A1483)","v":""},{"$f":"IF('SD Data Paste'!B1483=\"\",\"\",'SD Data Paste'!B1483)","v":""},1482,{"$f":"IF('SD Data Paste'!E1483=\"\",\"\",'SD Data Paste'!E1483)","v":""},{"$f":"IF('SD Data Paste'!G1483=\"\",\"\",'SD Data Paste'!G1483)","v":""}]
[{"$f":"IF(Table1[विद्यार्थी का नाम]=\"\",\"\",ROWS($A$1:A1483))","v":""},{"$f":"IF('SD Data Paste'!A1484=\"\",\"\",'SD Data Paste'!A1484)","v":""},{"$f":"IF('SD Data Paste'!B1484=\"\",\"\",'SD Data Paste'!B1484)","v":""},1483,{"$f":"IF('SD Data Paste'!E1484=\"\",\"\",'SD Data Paste'!E1484)","v":""},{"$f":"IF('SD Data Paste'!G1484=\"\",\"\",'SD Data Paste'!G1484)","v":""}]
[{"$f":"IF(Table1[विद्यार्थी का नाम]=\"\",\"\",ROWS($A$1:A1484))","v":""},{"$f":"IF('SD Data Paste'!A1485=\"\",\"\",'SD Data Paste'!A1485)","v":""},{"$f":"IF('SD Data Paste'!B1485=\"\",\"\",'SD Data Paste'!B1485)","v":""},1484,{"$f":"IF('SD Data Paste'!E1485=\"\",\"\",'SD Data Paste'!E1485)","v":""},{"$f":"IF('SD Data Paste'!G1485=\"\",\"\",'SD Data Paste'!G1485)","v":""}]
[{"$f":"IF(Table1[विद्यार्थी का नाम]=\"\",\"\",ROWS($A$1:A1485))","v":""},{"$f":"IF('SD Data Paste'!A1486=\"\",\"\",'SD Data Paste'!A1486)","v":""},{"$f":"IF('SD Data Paste'!B1486=\"\",\"\",'SD Data Paste'!B1486)","v":""},1485,{"$f":"IF('SD Data Paste'!E1486=\"\",\"\",'SD Data Paste'!E1486)","v":""},{"$f":"IF('SD Data Paste'!G1486=\"\",\"\",'SD Data Paste'!G1486)","v":""}]
[{"$f":"IF(Table1[विद्यार्थी का नाम]=\"\",\"\",ROWS($A$1:A1486))","v":""},{"$f":"IF('SD Data Paste'!A1487=\"\",\"\",'SD Data Paste'!A1487)","v":""},{"$f":"IF('SD Data Paste'!B1487=\"\",\"\",'SD Data Paste'!B1487)","v":""},1486,{"$f":"IF('SD Data Paste'!E1487=\"\",\"\",'SD Data Paste'!E1487)","v":""},{"$f":"IF('SD Data Paste'!G1487=\"\",\"\",'SD Data Paste'!G1487)","v":""}]
[{"$f":"IF(Table1[विद्यार्थी का नाम]=\"\",\"\",ROWS($A$1:A1487))","v":""},{"$f":"IF('SD Data Paste'!A1488=\"\",\"\",'SD Data Paste'!A1488)","v":""},{"$f":"IF('SD Data Paste'!B1488=\"\",\"\",'SD Data Paste'!B1488)","v":""},1487,{"$f":"IF('SD Data Paste'!E1488=\"\",\"\",'SD Data Paste'!E1488)","v":""},{"$f":"IF('SD Data Paste'!G1488=\"\",\"\",'SD Data Paste'!G1488)","v":""}]
[{"$f":"IF(Table1[विद्यार्थी का नाम]=\"\",\"\",ROWS($A$1:A1488))","v":""},{"$f":"IF('SD Data Paste'!A1489=\"\",\"\",'SD Data Paste'!A1489)","v":""},{"$f":"IF('SD Data Paste'!B1489=\"\",\"\",'SD Data Paste'!B1489)","v":""},1488,{"$f":"IF('SD Data Paste'!E1489=\"\",\"\",'SD Data Paste'!E1489)","v":""},{"$f":"IF('SD Data Paste'!G1489=\"\",\"\",'SD Data Paste'!G1489)","v":""}]
[{"$f":"IF(Table1[विद्यार्थी का नाम]=\"\",\"\",ROWS($A$1:A1489))","v":""},{"$f":"IF('SD Data Paste'!A1490=\"\",\"\",'SD Data Paste'!A1490)","v":""},{"$f":"IF('SD Data Paste'!B1490=\"\",\"\",'SD Data Paste'!B1490)","v":""},1489,{"$f":"IF('SD Data Paste'!E1490=\"\",\"\",'SD Data Paste'!E1490)","v":""},{"$f":"IF('SD Data Paste'!G1490=\"\",\"\",'SD Data Paste'!G1490)","v":""}]
[{"$f":"IF(Table1[विद्यार्थी का नाम]=\"\",\"\",ROWS($A$1:A1490))","v":""},{"$f":"IF('SD Data Paste'!A1491=\"\",\"\",'SD Data Paste'!A1491)","v":""},{"$f":"IF('SD Data Paste'!B1491=\"\",\"\",'SD Data Paste'!B1491)","v":""},1490,{"$f":"IF('SD Data Paste'!E1491=\"\",\"\",'SD Data Paste'!E1491)","v":""},{"$f":"IF('SD Data Paste'!G1491=\"\",\"\",'SD Data Paste'!G1491)","v":""}]
[{"$f":"IF(Table1[विद्यार्थी का नाम]=\"\",\"\",ROWS($A$1:A1491))","v":""},{"$f":"IF('SD Data Paste'!A1492=\"\",\"\",'SD Data Paste'!A1492)","v":""},{"$f":"IF('SD Data Paste'!B1492=\"\",\"\",'SD Data Paste'!B1492)","v":""},1491,{"$f":"IF('SD Data Paste'!E1492=\"\",\"\",'SD Data Paste'!E1492)","v":""},{"$f":"IF('SD Data Paste'!G1492=\"\",\"\",'SD Data Paste'!G1492)","v":""}]
[{"$f":"IF(Table1[विद्यार्थी का नाम]=\"\",\"\",ROWS($A$1:A1492))","v":""},{"$f":"IF('SD Data Paste'!A1493=\"\",\"\",'SD Data Paste'!A1493)","v":""},{"$f":"IF('SD Data Paste'!B1493=\"\",\"\",'SD Data Paste'!B1493)","v":""},1492,{"$f":"IF('SD Data Paste'!E1493=\"\",\"\",'SD Data Paste'!E1493)","v":""},{"$f":"IF('SD Data Paste'!G1493=\"\",\"\",'SD Data Paste'!G1493)","v":""}]
[{"$f":"IF(Table1[विद्यार्थी का नाम]=\"\",\"\",ROWS($A$1:A1493))","v":""},{"$f":"IF('SD Data Paste'!A1494=\"\",\"\",'SD Data Paste'!A1494)","v":""},{"$f":"IF('SD Data Paste'!B1494=\"\",\"\",'SD Data Paste'!B1494)","v":""},1493,{"$f":"IF('SD Data Paste'!E1494=\"\",\"\",'SD Data Paste'!E1494)","v":""},{"$f":"IF('SD Data Paste'!G1494=\"\",\"\",'SD Data Paste'!G1494)","v":""}]
[{"$f":"IF(Table1[विद्यार्थी का नाम]=\"\",\"\",ROWS($A$1:A1494))","v":""},{"$f":"IF('SD Data Paste'!A1495=\"\",\"\",'SD Data Paste'!A1495)","v":""},{"$f":"IF('SD Data Paste'!B1495=\"\",\"\",'SD Data Paste'!B1495)","v":""},1494,{"$f":"IF('SD Data Paste'!E1495=\"\",\"\",'SD Data Paste'!E1495)","v":""},{"$f":"IF('SD Data Paste'!G1495=\"\",\"\",'SD Data Paste'!G1495)","v":""}]
[{"$f":"IF(Table1[विद्यार्थी का नाम]=\"\",\"\",ROWS($A$1:A1495))","v":""},{"$f":"IF('SD Data Paste'!A1496=\"\",\"\",'SD Data Paste'!A1496)","v":""},{"$f":"IF('SD Data Paste'!B1496=\"\",\"\",'SD Data Paste'!B1496)","v":""},1495,{"$f":"IF('SD Data Paste'!E1496=\"\",\"\",'SD Data Paste'!E1496)","v":""},{"$f":"IF('SD Data Paste'!G1496=\"\",\"\",'SD Data Paste'!G1496)","v":""}]
[{"$f":"IF(Table1[विद्यार्थी का नाम]=\"\",\"\",ROWS($A$1:A1496))","v":""},{"$f":"IF('SD Data Paste'!A1497=\"\",\"\",'SD Data Paste'!A1497)","v":""},{"$f":"IF('SD Data Paste'!B1497=\"\",\"\",'SD Data Paste'!B1497)","v":""},1496,{"$f":"IF('SD Data Paste'!E1497=\"\",\"\",'SD Data Paste'!E1497)","v":""},{"$f":"IF('SD Data Paste'!G1497=\"\",\"\",'SD Data Paste'!G1497)","v":""}]
[{"$f":"IF(Table1[विद्यार्थी का नाम]=\"\",\"\",ROWS($A$1:A1497))","v":""},{"$f":"IF('SD Data Paste'!A1498=\"\",\"\",'SD Data Paste'!A1498)","v":""},{"$f":"IF('SD Data Paste'!B1498=\"\",\"\",'SD Data Paste'!B1498)","v":""},1497,{"$f":"IF('SD Data Paste'!E1498=\"\",\"\",'SD Data Paste'!E1498)","v":""},{"$f":"IF('SD Data Paste'!G1498=\"\",\"\",'SD Data Paste'!G1498)","v":""}]
[{"$f":"IF(Table1[विद्यार्थी का नाम]=\"\",\"\",ROWS($A$1:A1498))","v":""},{"$f":"IF('SD Data Paste'!A1499=\"\",\"\",'SD Data Paste'!A1499)","v":""},{"$f":"IF('SD Data Paste'!B1499=\"\",\"\",'SD Data Paste'!B1499)","v":""},1498,{"$f":"IF('SD Data Paste'!E1499=\"\",\"\",'SD Data Paste'!E1499)","v":""},{"$f":"IF('SD Data Paste'!G1499=\"\",\"\",'SD Data Paste'!G1499)","v":""}]
[{"$f":"IF(Table1[विद्यार्थी का नाम]=\"\",\"\",ROWS($A$1:A1499))","v":""},{"$f":"IF('SD Data Paste'!A1500=\"\",\"\",'SD Data Paste'!A1500)","v":""},{"$f":"IF('SD Data Paste'!B1500=\"\",\"\",'SD Data Paste'!B1500)","v":""},1499,{"$f":"IF('SD Data Paste'!E1500=\"\",\"\",'SD Data Paste'!E1500)","v":""},{"$f":"IF('SD Data Paste'!G1500=\"\",\"\",'SD Data Paste'!G1500)","v":""}]
[{"$f":"IF(Table1[विद्यार्थी का नाम]=\"\",\"\",ROWS($A$1:A1500))","v":""},{"$f":"IF('SD Data Paste'!A1501=\"\",\"\",'SD Data Paste'!A1501)","v":""},{"$f":"IF('SD Data Paste'!B1501=\"\",\"\",'SD Data Paste'!B1501)","v":""},1500,{"$f":"IF('SD Data Paste'!E1501=\"\",\"\",'SD Data Paste'!E1501)","v":""},{"$f":"IF('SD Data Paste'!G1501=\"\",\"\",'SD Data Paste'!G1501)","v":""}]
[{"$f":"IF(Table1[विद्यार्थी का नाम]=\"\",\"\",ROWS($A$1:A1501))","v":""},{"$f":"IF('SD Data Paste'!A1502=\"\",\"\",'SD Data Paste'!A1502)","v":""},{"$f":"IF('SD Data Paste'!B1502=\"\",\"\",'SD Data Paste'!B1502)","v":""},1501,{"$f":"IF('SD Data Paste'!E1502=\"\",\"\",'SD Data Paste'!E1502)","v":""},{"$f":"IF('SD Data Paste'!G1502=\"\",\"\",'SD Data Paste'!G1502)","v":""}]
[{"$f":"IF(Table1[विद्यार्थी का नाम]=\"\",\"\",ROWS($A$1:A1502))","v":""},{"$f":"IF('SD Data Paste'!A1503=\"\",\"\",'SD Data Paste'!A1503)","v":""},{"$f":"IF('SD Data Paste'!B1503=\"\",\"\",'SD Data Paste'!B1503)","v":""},1502,{"$f":"IF('SD Data Paste'!E1503=\"\",\"\",'SD Data Paste'!E1503)","v":""},{"$f":"IF('SD Data Paste'!G1503=\"\",\"\",'SD Data Paste'!G1503)","v":""}]
[{"$f":"IF(Table1[विद्यार्थी का नाम]=\"\",\"\",ROWS($A$1:A1503))","v":""},{"$f":"IF('SD Data Paste'!A1504=\"\",\"\",'SD Data Paste'!A1504)","v":""},{"$f":"IF('SD Data Paste'!B1504=\"\",\"\",'SD Data Paste'!B1504)","v":""},1503,{"$f":"IF('SD Data Paste'!E1504=\"\",\"\",'SD Data Paste'!E1504)","v":""},{"$f":"IF('SD Data Paste'!G1504=\"\",\"\",'SD Data Paste'!G1504)","v":""}]
[{"$f":"IF(Table1[विद्यार्थी का नाम]=\"\",\"\",ROWS($A$1:A1504))","v":""},{"$f":"IF('SD Data Paste'!A1505=\"\",\"\",'SD Data Paste'!A1505)","v":""},{"$f":"IF('SD Data Paste'!B1505=\"\",\"\",'SD Data Paste'!B1505)","v":""},1504,{"$f":"IF('SD Data Paste'!E1505=\"\",\"\",'SD Data Paste'!E1505)","v":""},{"$f":"IF('SD Data Paste'!G1505=\"\",\"\",'SD Data Paste'!G1505)","v":""}]
[{"$f":"IF(Table1[विद्यार्थी का नाम]=\"\",\"\",ROWS($A$1:A1505))","v":""},{"$f":"IF('SD Data Paste'!A1506=\"\",\"\",'SD Data Paste'!A1506)","v":""},{"$f":"IF('SD Data Paste'!B1506=\"\",\"\",'SD Data Paste'!B1506)","v":""},1505,{"$f":"IF('SD Data Paste'!E1506=\"\",\"\",'SD Data Paste'!E1506)","v":""},{"$f":"IF('SD Data Paste'!G1506=\"\",\"\",'SD Data Paste'!G1506)","v":""}]
[{"$f":"IF(Table1[विद्यार्थी का नाम]=\"\",\"\",ROWS($A$1:A1506))","v":""},{"$f":"IF('SD Data Paste'!A1507=\"\",\"\",'SD Data Paste'!A1507)","v":""},{"$f":"IF('SD Data Paste'!B1507=\"\",\"\",'SD Data Paste'!B1507)","v":""},1506,{"$f":"IF('SD Data Paste'!E1507=\"\",\"\",'SD Data Paste'!E1507)","v":""},{"$f":"IF('SD Data Paste'!G1507=\"\",\"\",'SD Data Paste'!G1507)","v":""}]
[{"$f":"IF(Table1[विद्यार्थी का नाम]=\"\",\"\",ROWS($A$1:A1507))","v":""},{"$f":"IF('SD Data Paste'!A1508=\"\",\"\",'SD Data Paste'!A1508)","v":""},{"$f":"IF('SD Data Paste'!B1508=\"\",\"\",'SD Data Paste'!B1508)","v":""},1507,{"$f":"IF('SD Data Paste'!E1508=\"\",\"\",'SD Data Paste'!E1508)","v":""},{"$f":"IF('SD Data Paste'!G1508=\"\",\"\",'SD Data Paste'!G1508)","v":""}]
[{"$f":"IF(Table1[विद्यार्थी का नाम]=\"\",\"\",ROWS($A$1:A1508))","v":""},{"$f":"IF('SD Data Paste'!A1509=\"\",\"\",'SD Data Paste'!A1509)","v":""},{"$f":"IF('SD Data Paste'!B1509=\"\",\"\",'SD Data Paste'!B1509)","v":""},1508,{"$f":"IF('SD Data Paste'!E1509=\"\",\"\",'SD Data Paste'!E1509)","v":""},{"$f":"IF('SD Data Paste'!G1509=\"\",\"\",'SD Data Paste'!G1509)","v":""}]
[{"$f":"IF(Table1[विद्यार्थी का नाम]=\"\",\"\",ROWS($A$1:A1509))","v":""},{"$f":"IF('SD Data Paste'!A1510=\"\",\"\",'SD Data Paste'!A1510)","v":""},{"$f":"IF('SD Data Paste'!B1510=\"\",\"\",'SD Data Paste'!B1510)","v":""},1509,{"$f":"IF('SD Data Paste'!E1510=\"\",\"\",'SD Data Paste'!E1510)","v":""},{"$f":"IF('SD Data Paste'!G1510=\"\",\"\",'SD Data Paste'!G1510)","v":""}]
[{"$f":"IF(Table1[विद्यार्थी का नाम]=\"\",\"\",ROWS($A$1:A1510))","v":""},{"$f":"IF('SD Data Paste'!A1511=\"\",\"\",'SD Data Paste'!A1511)","v":""},{"$f":"IF('SD Data Paste'!B1511=\"\",\"\",'SD Data Paste'!B1511)","v":""},1510,{"$f":"IF('SD Data Paste'!E1511=\"\",\"\",'SD Data Paste'!E1511)","v":""},{"$f":"IF('SD Data Paste'!G1511=\"\",\"\",'SD Data Paste'!G1511)","v":""}]
[{"$f":"IF(Table1[विद्यार्थी का नाम]=\"\",\"\",ROWS($A$1:A1511))","v":""},{"$f":"IF('SD Data Paste'!A1512=\"\",\"\",'SD Data Paste'!A1512)","v":""},{"$f":"IF('SD Data Paste'!B1512=\"\",\"\",'SD Data Paste'!B1512)","v":""},1511,{"$f":"IF('SD Data Paste'!E1512=\"\",\"\",'SD Data Paste'!E1512)","v":""},{"$f":"IF('SD Data Paste'!G1512=\"\",\"\",'SD Data Paste'!G1512)","v":""}]
[{"$f":"IF(Table1[विद्यार्थी का नाम]=\"\",\"\",ROWS($A$1:A1512))","v":""},{"$f":"IF('SD Data Paste'!A1513=\"\",\"\",'SD Data Paste'!A1513)","v":""},{"$f":"IF('SD Data Paste'!B1513=\"\",\"\",'SD Data Paste'!B1513)","v":""},1512,{"$f":"IF('SD Data Paste'!E1513=\"\",\"\",'SD Data Paste'!E1513)","v":""},{"$f":"IF('SD Data Paste'!G1513=\"\",\"\",'SD Data Paste'!G1513)","v":""}]
[{"$f":"IF(Table1[विद्यार्थी का नाम]=\"\",\"\",ROWS($A$1:A1513))","v":""},{"$f":"IF('SD Data Paste'!A1514=\"\",\"\",'SD Data Paste'!A1514)","v":""},{"$f":"IF('SD Data Paste'!B1514=\"\",\"\",'SD Data Paste'!B1514)","v":""},1513,{"$f":"IF('SD Data Paste'!E1514=\"\",\"\",'SD Data Paste'!E1514)","v":""},{"$f":"IF('SD Data Paste'!G1514=\"\",\"\",'SD Data Paste'!G1514)","v":""}]
[{"$f":"IF(Table1[विद्यार्थी का नाम]=\"\",\"\",ROWS($A$1:A1514))","v":""},{"$f":"IF('SD Data Paste'!A1515=\"\",\"\",'SD Data Paste'!A1515)","v":""},{"$f":"IF('SD Data Paste'!B1515=\"\",\"\",'SD Data Paste'!B1515)","v":""},1514,{"$f":"IF('SD Data Paste'!E1515=\"\",\"\",'SD Data Paste'!E1515)","v":""},{"$f":"IF('SD Data Paste'!G1515=\"\",\"\",'SD Data Paste'!G1515)","v":""}]
[{"$f":"IF(Table1[विद्यार्थी का नाम]=\"\",\"\",ROWS($A$1:A1515))","v":""},{"$f":"IF('SD Data Paste'!A1516=\"\",\"\",'SD Data Paste'!A1516)","v":""},{"$f":"IF('SD Data Paste'!B1516=\"\",\"\",'SD Data Paste'!B1516)","v":""},1515,{"$f":"IF('SD Data Paste'!E1516=\"\",\"\",'SD Data Paste'!E1516)","v":""},{"$f":"IF('SD Data Paste'!G1516=\"\",\"\",'SD Data Paste'!G1516)","v":""}]
[{"$f":"IF(Table1[विद्यार्थी का नाम]=\"\",\"\",ROWS($A$1:A1516))","v":""},{"$f":"IF('SD Data Paste'!A1517=\"\",\"\",'SD Data Paste'!A1517)","v":""},{"$f":"IF('SD Data Paste'!B1517=\"\",\"\",'SD Data Paste'!B1517)","v":""},1516,{"$f":"IF('SD Data Paste'!E1517=\"\",\"\",'SD Data Paste'!E1517)","v":""},{"$f":"IF('SD Data Paste'!G1517=\"\",\"\",'SD Data Paste'!G1517)","v":""}]
[{"$f":"IF(Table1[विद्यार्थी का नाम]=\"\",\"\",ROWS($A$1:A1517))","v":""},{"$f":"IF('SD Data Paste'!A1518=\"\",\"\",'SD Data Paste'!A1518)","v":""},{"$f":"IF('SD Data Paste'!B1518=\"\",\"\",'SD Data Paste'!B1518)","v":""},1517,{"$f":"IF('SD Data Paste'!E1518=\"\",\"\",'SD Data Paste'!E1518)","v":""},{"$f":"IF('SD Data Paste'!G1518=\"\",\"\",'SD Data Paste'!G1518)","v":""}]
[{"$f":"IF(Table1[विद्यार्थी का नाम]=\"\",\"\",ROWS($A$1:A1518))","v":""},{"$f":"IF('SD Data Paste'!A1519=\"\",\"\",'SD Data Paste'!A1519)","v":""},{"$f":"IF('SD Data Paste'!B1519=\"\",\"\",'SD Data Paste'!B1519)","v":""},1518,{"$f":"IF('SD Data Paste'!E1519=\"\",\"\",'SD Data Paste'!E1519)","v":""},{"$f":"IF('SD Data Paste'!G1519=\"\",\"\",'SD Data Paste'!G1519)","v":""}]
[{"$f":"IF(Table1[विद्यार्थी का नाम]=\"\",\"\",ROWS($A$1:A1519))","v":""},{"$f":"IF('SD Data Paste'!A1520=\"\",\"\",'SD Data Paste'!A1520)","v":""},{"$f":"IF('SD Data Paste'!B1520=\"\",\"\",'SD Data Paste'!B1520)","v":""},1519,{"$f":"IF('SD Data Paste'!E1520=\"\",\"\",'SD Data Paste'!E1520)","v":""},{"$f":"IF('SD Data Paste'!G1520=\"\",\"\",'SD Data Paste'!G1520)","v":""}]
[{"$f":"IF(Table1[विद्यार्थी का नाम]=\"\",\"\",ROWS($A$1:A1520))","v":""},{"$f":"IF('SD Data Paste'!A1521=\"\",\"\",'SD Data Paste'!A1521)","v":""},{"$f":"IF('SD Data Paste'!B1521=\"\",\"\",'SD Data Paste'!B1521)","v":""},1520,{"$f":"IF('SD Data Paste'!E1521=\"\",\"\",'SD Data Paste'!E1521)","v":""},{"$f":"IF('SD Data Paste'!G1521=\"\",\"\",'SD Data Paste'!G1521)","v":""}]
[{"$f":"IF(Table1[विद्यार्थी का नाम]=\"\",\"\",ROWS($A$1:A1521))","v":""},{"$f":"IF('SD Data Paste'!A1522=\"\",\"\",'SD Data Paste'!A1522)","v":""},{"$f":"IF('SD Data Paste'!B1522=\"\",\"\",'SD Data Paste'!B1522)","v":""},1521,{"$f":"IF('SD Data Paste'!E1522=\"\",\"\",'SD Data Paste'!E1522)","v":""},{"$f":"IF('SD Data Paste'!G1522=\"\",\"\",'SD Data Paste'!G1522)","v":""}]
[{"$f":"IF(Table1[विद्यार्थी का नाम]=\"\",\"\",ROWS($A$1:A1522))","v":""},{"$f":"IF('SD Data Paste'!A1523=\"\",\"\",'SD Data Paste'!A1523)","v":""},{"$f":"IF('SD Data Paste'!B1523=\"\",\"\",'SD Data Paste'!B1523)","v":""},1522,{"$f":"IF('SD Data Paste'!E1523=\"\",\"\",'SD Data Paste'!E1523)","v":""},{"$f":"IF('SD Data Paste'!G1523=\"\",\"\",'SD Data Paste'!G1523)","v":""}]
[{"$f":"IF(Table1[विद्यार्थी का नाम]=\"\",\"\",ROWS($A$1:A1523))","v":""},{"$f":"IF('SD Data Paste'!A1524=\"\",\"\",'SD Data Paste'!A1524)","v":""},{"$f":"IF('SD Data Paste'!B1524=\"\",\"\",'SD Data Paste'!B1524)","v":""},1523,{"$f":"IF('SD Data Paste'!E1524=\"\",\"\",'SD Data Paste'!E1524)","v":""},{"$f":"IF('SD Data Paste'!G1524=\"\",\"\",'SD Data Paste'!G1524)","v":""}]
[{"$f":"IF(Table1[विद्यार्थी का नाम]=\"\",\"\",ROWS($A$1:A1524))","v":""},{"$f":"IF('SD Data Paste'!A1525=\"\",\"\",'SD Data Paste'!A1525)","v":""},{"$f":"IF('SD Data Paste'!B1525=\"\",\"\",'SD Data Paste'!B1525)","v":""},1524,{"$f":"IF('SD Data Paste'!E1525=\"\",\"\",'SD Data Paste'!E1525)","v":""},{"$f":"IF('SD Data Paste'!G1525=\"\",\"\",'SD Data Paste'!G1525)","v":""}]
[{"$f":"IF(Table1[विद्यार्थी का नाम]=\"\",\"\",ROWS($A$1:A1525))","v":""},{"$f":"IF('SD Data Paste'!A1526=\"\",\"\",'SD Data Paste'!A1526)","v":""},{"$f":"IF('SD Data Paste'!B1526=\"\",\"\",'SD Data Paste'!B1526)","v":""},1525,{"$f":"IF('SD Data Paste'!E1526=\"\",\"\",'SD Data Paste'!E1526)","v":""},{"$f":"IF('SD Data Paste'!G1526=\"\",\"\",'SD Data Paste'!G1526)","v":""}]
[{"$f":"IF(Table1[विद्यार्थी का नाम]=\"\",\"\",ROWS($A$1:A1526))","v":""},{"$f":"IF('SD Data Paste'!A1527=\"\",\"\",'SD Data Paste'!A1527)","v":""},{"$f":"IF('SD Data Paste'!B1527=\"\",\"\",'SD Data Paste'!B1527)","v":""},1526,{"$f":"IF('SD Data Paste'!E1527=\"\",\"\",'SD Data Paste'!E1527)","v":""},{"$f":"IF('SD Data Paste'!G1527=\"\",\"\",'SD Data Paste'!G1527)","v":""}]
[{"$f":"IF(Table1[विद्यार्थी का नाम]=\"\",\"\",ROWS($A$1:A1527))","v":""},{"$f":"IF('SD Data Paste'!A1528=\"\",\"\",'SD Data Paste'!A1528)","v":""},{"$f":"IF('SD Data Paste'!B1528=\"\",\"\",'SD Data Paste'!B1528)","v":""},1527,{"$f":"IF('SD Data Paste'!E1528=\"\",\"\",'SD Data Paste'!E1528)","v":""},{"$f":"IF('SD Data Paste'!G1528=\"\",\"\",'SD Data Paste'!G1528)","v":""}]
[{"$f":"IF(Table1[विद्यार्थी का नाम]=\"\",\"\",ROWS($A$1:A1528))","v":""},{"$f":"IF('SD Data Paste'!A1529=\"\",\"\",'SD Data Paste'!A1529)","v":""},{"$f":"IF('SD Data Paste'!B1529=\"\",\"\",'SD Data Paste'!B1529)","v":""},1528,{"$f":"IF('SD Data Paste'!E1529=\"\",\"\",'SD Data Paste'!E1529)","v":""},{"$f":"IF('SD Data Paste'!G1529=\"\",\"\",'SD Data Paste'!G1529)","v":""}]
[{"$f":"IF(Table1[विद्यार्थी का नाम]=\"\",\"\",ROWS($A$1:A1529))","v":""},{"$f":"IF('SD Data Paste'!A1530=\"\",\"\",'SD Data Paste'!A1530)","v":""},{"$f":"IF('SD Data Paste'!B1530=\"\",\"\",'SD Data Paste'!B1530)","v":""},1529,{"$f":"IF('SD Data Paste'!E1530=\"\",\"\",'SD Data Paste'!E1530)","v":""},{"$f":"IF('SD Data Paste'!G1530=\"\",\"\",'SD Data Paste'!G1530)","v":""}]
[{"$f":"IF(Table1[विद्यार्थी का नाम]=\"\",\"\",ROWS($A$1:A1530))","v":""},{"$f":"IF('SD Data Paste'!A1531=\"\",\"\",'SD Data Paste'!A1531)","v":""},{"$f":"IF('SD Data Paste'!B1531=\"\",\"\",'SD Data Paste'!B1531)","v":""},1530,{"$f":"IF('SD Data Paste'!E1531=\"\",\"\",'SD Data Paste'!E1531)","v":""},{"$f":"IF('SD Data Paste'!G1531=\"\",\"\",'SD Data Paste'!G1531)","v":""}]
[{"$f":"IF(Table1[विद्यार्थी का नाम]=\"\",\"\",ROWS($A$1:A1531))","v":""},{"$f":"IF('SD Data Paste'!A1532=\"\",\"\",'SD Data Paste'!A1532)","v":""},{"$f":"IF('SD Data Paste'!B1532=\"\",\"\",'SD Data Paste'!B1532)","v":""},1531,{"$f":"IF('SD Data Paste'!E1532=\"\",\"\",'SD Data Paste'!E1532)","v":""},{"$f":"IF('SD Data Paste'!G1532=\"\",\"\",'SD Data Paste'!G1532)","v":""}]
[{"$f":"IF(Table1[विद्यार्थी का नाम]=\"\",\"\",ROWS($A$1:A1532))","v":""},{"$f":"IF('SD Data Paste'!A1533=\"\",\"\",'SD Data Paste'!A1533)","v":""},{"$f":"IF('SD Data Paste'!B1533=\"\",\"\",'SD Data Paste'!B1533)","v":""},1532,{"$f":"IF('SD Data Paste'!E1533=\"\",\"\",'SD Data Paste'!E1533)","v":""},{"$f":"IF('SD Data Paste'!G1533=\"\",\"\",'SD Data Paste'!G1533)","v":""}]
[{"$f":"IF(Table1[विद्यार्थी का नाम]=\"\",\"\",ROWS($A$1:A1533))","v":""},{"$f":"IF('SD Data Paste'!A1534=\"\",\"\",'SD Data Paste'!A1534)","v":""},{"$f":"IF('SD Data Paste'!B1534=\"\",\"\",'SD Data Paste'!B1534)","v":""},1533,{"$f":"IF('SD Data Paste'!E1534=\"\",\"\",'SD Data Paste'!E1534)","v":""},{"$f":"IF('SD Data Paste'!G1534=\"\",\"\",'SD Data Paste'!G1534)","v":""}]
[{"$f":"IF(Table1[विद्यार्थी का नाम]=\"\",\"\",ROWS($A$1:A1534))","v":""},{"$f":"IF('SD Data Paste'!A1535=\"\",\"\",'SD Data Paste'!A1535)","v":""},{"$f":"IF('SD Data Paste'!B1535=\"\",\"\",'SD Data Paste'!B1535)","v":""},1534,{"$f":"IF('SD Data Paste'!E1535=\"\",\"\",'SD Data Paste'!E1535)","v":""},{"$f":"IF('SD Data Paste'!G1535=\"\",\"\",'SD Data Paste'!G1535)","v":""}]
[{"$f":"IF(Table1[विद्यार्थी का नाम]=\"\",\"\",ROWS($A$1:A1535))","v":""},{"$f":"IF('SD Data Paste'!A1536=\"\",\"\",'SD Data Paste'!A1536)","v":""},{"$f":"IF('SD Data Paste'!B1536=\"\",\"\",'SD Data Paste'!B1536)","v":""},1535,{"$f":"IF('SD Data Paste'!E1536=\"\",\"\",'SD Data Paste'!E1536)","v":""},{"$f":"IF('SD Data Paste'!G1536=\"\",\"\",'SD Data Paste'!G1536)","v":""}]
[{"$f":"IF(Table1[विद्यार्थी का नाम]=\"\",\"\",ROWS($A$1:A1536))","v":""},{"$f":"IF('SD Data Paste'!A1537=\"\",\"\",'SD Data Paste'!A1537)","v":""},{"$f":"IF('SD Data Paste'!B1537=\"\",\"\",'SD Data Paste'!B1537)","v":""},1536,{"$f":"IF('SD Data Paste'!E1537=\"\",\"\",'SD Data Paste'!E1537)","v":""},{"$f":"IF('SD Data Paste'!G1537=\"\",\"\",'SD Data Paste'!G1537)","v":""}]
[{"$f":"IF(Table1[विद्यार्थी का नाम]=\"\",\"\",ROWS($A$1:A1537))","v":""},{"$f":"IF('SD Data Paste'!A1538=\"\",\"\",'SD Data Paste'!A1538)","v":""},{"$f":"IF('SD Data Paste'!B1538=\"\",\"\",'SD Data Paste'!B1538)","v":""},1537,{"$f":"IF('SD Data Paste'!E1538=\"\",\"\",'SD Data Paste'!E1538)","v":""},{"$f":"IF('SD Data Paste'!G1538=\"\",\"\",'SD Data Paste'!G1538)","v":""}]
[{"$f":"IF(Table1[विद्यार्थी का नाम]=\"\",\"\",ROWS($A$1:A1538))","v":""},{"$f":"IF('SD Data Paste'!A1539=\"\",\"\",'SD Data Paste'!A1539)","v":""},{"$f":"IF('SD Data Paste'!B1539=\"\",\"\",'SD Data Paste'!B1539)","v":""},1538,{"$f":"IF('SD Data Paste'!E1539=\"\",\"\",'SD Data Paste'!E1539)","v":""},{"$f":"IF('SD Data Paste'!G1539=\"\",\"\",'SD Data Paste'!G1539)","v":""}]
[{"$f":"IF(Table1[विद्यार्थी का नाम]=\"\",\"\",ROWS($A$1:A1539))","v":""},{"$f":"IF('SD Data Paste'!A1540=\"\",\"\",'SD Data Paste'!A1540)","v":""},{"$f":"IF('SD Data Paste'!B1540=\"\",\"\",'SD Data Paste'!B1540)","v":""},{"$f":"IF(D1541=\"\",\"\",D1541+1)","v":1539},{"$f":"IF('SD Data Paste'!E1540=\"\",\"\",'SD Data Paste'!E1540)","v":""},{"$f":"IF('SD Data Paste'!G1540=\"\",\"\",'SD Data Paste'!G1540)","v":""}]
[{"$f":"IF(Table1[विद्यार्थी का नाम]=\"\",\"\",ROWS($A$1:A1540))","v":""},{"$f":"IF('SD Data Paste'!A1541=\"\",\"\",'SD Data Paste'!A1541)","v":""},{"$f":"IF('SD Data Paste'!B1541=\"\",\"\",'SD Data Paste'!B1541)","v":""},1540,{"$f":"IF('SD Data Paste'!E1541=\"\",\"\",'SD Data Paste'!E1541)","v":""},{"$f":"IF('SD Data Paste'!G1541=\"\",\"\",'SD Data Paste'!G1541)","v":""}]
[{"$f":"IF(Table1[विद्यार्थी का नाम]=\"\",\"\",ROWS($A$1:A1541))","v":""},{"$f":"IF('SD Data Paste'!A1542=\"\",\"\",'SD Data Paste'!A1542)","v":""},{"$f":"IF('SD Data Paste'!B1542=\"\",\"\",'SD Data Paste'!B1542)","v":""},1541,{"$f":"IF('SD Data Paste'!E1542=\"\",\"\",'SD Data Paste'!E1542)","v":""},{"$f":"IF('SD Data Paste'!G1542=\"\",\"\",'SD Data Paste'!G1542)","v":""}]
[{"$f":"IF(Table1[विद्यार्थी का नाम]=\"\",\"\",ROWS($A$1:A1542))","v":""},{"$f":"IF('SD Data Paste'!A1543=\"\",\"\",'SD Data Paste'!A1543)","v":""},{"$f":"IF('SD Data Paste'!B1543=\"\",\"\",'SD Data Paste'!B1543)","v":""},1542,{"$f":"IF('SD Data Paste'!E1543=\"\",\"\",'SD Data Paste'!E1543)","v":""},{"$f":"IF('SD Data Paste'!G1543=\"\",\"\",'SD Data Paste'!G1543)","v":""}]
[{"$f":"IF(Table1[विद्यार्थी का नाम]=\"\",\"\",ROWS($A$1:A1543))","v":""},{"$f":"IF('SD Data Paste'!A1544=\"\",\"\",'SD Data Paste'!A1544)","v":""},{"$f":"IF('SD Data Paste'!B1544=\"\",\"\",'SD Data Paste'!B1544)","v":""},1543,{"$f":"IF('SD Data Paste'!E1544=\"\",\"\",'SD Data Paste'!E1544)","v":""},{"$f":"IF('SD Data Paste'!G1544=\"\",\"\",'SD Data Paste'!G1544)","v":""}]
[{"$f":"IF(Table1[विद्यार्थी का नाम]=\"\",\"\",ROWS($A$1:A1544))","v":""},{"$f":"IF('SD Data Paste'!A1545=\"\",\"\",'SD Data Paste'!A1545)","v":""},{"$f":"IF('SD Data Paste'!B1545=\"\",\"\",'SD Data Paste'!B1545)","v":""},1544,{"$f":"IF('SD Data Paste'!E1545=\"\",\"\",'SD Data Paste'!E1545)","v":""},{"$f":"IF('SD Data Paste'!G1545=\"\",\"\",'SD Data Paste'!G1545)","v":""}]
[{"$f":"IF(Table1[विद्यार्थी का नाम]=\"\",\"\",ROWS($A$1:A1545))","v":""},{"$f":"IF('SD Data Paste'!A1546=\"\",\"\",'SD Data Paste'!A1546)","v":""},{"$f":"IF('SD Data Paste'!B1546=\"\",\"\",'SD Data Paste'!B1546)","v":""},1545,{"$f":"IF('SD Data Paste'!E1546=\"\",\"\",'SD Data Paste'!E1546)","v":""},{"$f":"IF('SD Data Paste'!G1546=\"\",\"\",'SD Data Paste'!G1546)","v":""}]
[{"$f":"IF(Table1[विद्यार्थी का नाम]=\"\",\"\",ROWS($A$1:A1546))","v":""},{"$f":"IF('SD Data Paste'!A1547=\"\",\"\",'SD Data Paste'!A1547)","v":""},{"$f":"IF('SD Data Paste'!B1547=\"\",\"\",'SD Data Paste'!B1547)","v":""},1546,{"$f":"IF('SD Data Paste'!E1547=\"\",\"\",'SD Data Paste'!E1547)","v":""},{"$f":"IF('SD Data Paste'!G1547=\"\",\"\",'SD Data Paste'!G1547)","v":""}]
[{"$f":"IF(Table1[विद्यार्थी का नाम]=\"\",\"\",ROWS($A$1:A1547))","v":""},{"$f":"IF('SD Data Paste'!A1548=\"\",\"\",'SD Data Paste'!A1548)","v":""},{"$f":"IF('SD Data Paste'!B1548=\"\",\"\",'SD Data Paste'!B1548)","v":""},1547,{"$f":"IF('SD Data Paste'!E1548=\"\",\"\",'SD Data Paste'!E1548)","v":""},{"$f":"IF('SD Data Paste'!G1548=\"\",\"\",'SD Data Paste'!G1548)","v":""}]
[{"$f":"IF(Table1[विद्यार्थी का नाम]=\"\",\"\",ROWS($A$1:A1548))","v":""},{"$f":"IF('SD Data Paste'!A1549=\"\",\"\",'SD Data Paste'!A1549)","v":""},{"$f":"IF('SD Data Paste'!B1549=\"\",\"\",'SD Data Paste'!B1549)","v":""},1548,{"$f":"IF('SD Data Paste'!E1549=\"\",\"\",'SD Data Paste'!E1549)","v":""},{"$f":"IF('SD Data Paste'!G1549=\"\",\"\",'SD Data Paste'!G1549)","v":""}]
[{"$f":"IF(Table1[विद्यार्थी का नाम]=\"\",\"\",ROWS($A$1:A1549))","v":""},{"$f":"IF('SD Data Paste'!A1550=\"\",\"\",'SD Data Paste'!A1550)","v":""},{"$f":"IF('SD Data Paste'!B1550=\"\",\"\",'SD Data Paste'!B1550)","v":""},1549,{"$f":"IF('SD Data Paste'!E1550=\"\",\"\",'SD Data Paste'!E1550)","v":""},{"$f":"IF('SD Data Paste'!G1550=\"\",\"\",'SD Data Paste'!G1550)","v":""}]
[{"$f":"IF(Table1[विद्यार्थी का नाम]=\"\",\"\",ROWS($A$1:A1550))","v":""},{"$f":"IF('SD Data Paste'!A1551=\"\",\"\",'SD Data Paste'!A1551)","v":""},{"$f":"IF('SD Data Paste'!B1551=\"\",\"\",'SD Data Paste'!B1551)","v":""},1550,{"$f":"IF('SD Data Paste'!E1551=\"\",\"\",'SD Data Paste'!E1551)","v":""},{"$f":"IF('SD Data Paste'!G1551=\"\",\"\",'SD Data Paste'!G1551)","v":""}]
[{"$f":"IF(Table1[विद्यार्थी का नाम]=\"\",\"\",ROWS($A$1:A1551))","v":""},{"$f":"IF('SD Data Paste'!A1552=\"\",\"\",'SD Data Paste'!A1552)","v":""},{"$f":"IF('SD Data Paste'!B1552=\"\",\"\",'SD Data Paste'!B1552)","v":""},1551,{"$f":"IF('SD Data Paste'!E1552=\"\",\"\",'SD Data Paste'!E1552)","v":""},{"$f":"IF('SD Data Paste'!G1552=\"\",\"\",'SD Data Paste'!G1552)","v":""}]
[{"$f":"IF(Table1[विद्यार्थी का नाम]=\"\",\"\",ROWS($A$1:A1552))","v":""},{"$f":"IF('SD Data Paste'!A1553=\"\",\"\",'SD Data Paste'!A1553)","v":""},{"$f":"IF('SD Data Paste'!B1553=\"\",\"\",'SD Data Paste'!B1553)","v":""},1552,{"$f":"IF('SD Data Paste'!E1553=\"\",\"\",'SD Data Paste'!E1553)","v":""},{"$f":"IF('SD Data Paste'!G1553=\"\",\"\",'SD Data Paste'!G1553)","v":""}]
[{"$f":"IF(Table1[विद्यार्थी का नाम]=\"\",\"\",ROWS($A$1:A1553))","v":""},{"$f":"IF('SD Data Paste'!A1554=\"\",\"\",'SD Data Paste'!A1554)","v":""},{"$f":"IF('SD Data Paste'!B1554=\"\",\"\",'SD Data Paste'!B1554)","v":""},1553,{"$f":"IF('SD Data Paste'!E1554=\"\",\"\",'SD Data Paste'!E1554)","v":""},{"$f":"IF('SD Data Paste'!G1554=\"\",\"\",'SD Data Paste'!G1554)","v":""}]
[{"$f":"IF(Table1[विद्यार्थी का नाम]=\"\",\"\",ROWS($A$1:A1554))","v":""},{"$f":"IF('SD Data Paste'!A1555=\"\",\"\",'SD Data Paste'!A1555)","v":""},{"$f":"IF('SD Data Paste'!B1555=\"\",\"\",'SD Data Paste'!B1555)","v":""},1554,{"$f":"IF('SD Data Paste'!E1555=\"\",\"\",'SD Data Paste'!E1555)","v":""},{"$f":"IF('SD Data Paste'!G1555=\"\",\"\",'SD Data Paste'!G1555)","v":""}]
[{"$f":"IF(Table1[विद्यार्थी का नाम]=\"\",\"\",ROWS($A$1:A1555))","v":""},{"$f":"IF('SD Data Paste'!A1556=\"\",\"\",'SD Data Paste'!A1556)","v":""},{"$f":"IF('SD Data Paste'!B1556=\"\",\"\",'SD Data Paste'!B1556)","v":""},1555,{"$f":"IF('SD Data Paste'!E1556=\"\",\"\",'SD Data Paste'!E1556)","v":""},{"$f":"IF('SD Data Paste'!G1556=\"\",\"\",'SD Data Paste'!G1556)","v":""}]
[{"$f":"IF(Table1[विद्यार्थी का नाम]=\"\",\"\",ROWS($A$1:A1556))","v":""},{"$f":"IF('SD Data Paste'!A1557=\"\",\"\",'SD Data Paste'!A1557)","v":""},{"$f":"IF('SD Data Paste'!B1557=\"\",\"\",'SD Data Paste'!B1557)","v":""},1556,{"$f":"IF('SD Data Paste'!E1557=\"\",\"\",'SD Data Paste'!E1557)","v":""},{"$f":"IF('SD Data Paste'!G1557=\"\",\"\",'SD Data Paste'!G1557)","v":""}]
[{"$f":"IF(Table1[विद्यार्थी का नाम]=\"\",\"\",ROWS($A$1:A1557))","v":""},{"$f":"IF('SD Data Paste'!A1558=\"\",\"\",'SD Data Paste'!A1558)","v":""},{"$f":"IF('SD Data Paste'!B1558=\"\",\"\",'SD Data Paste'!B1558)","v":""},1557,{"$f":"IF('SD Data Paste'!E1558=\"\",\"\",'SD Data Paste'!E1558)","v":""},{"$f":"IF('SD Data Paste'!G1558=\"\",\"\",'SD Data Paste'!G1558)","v":""}]
[{"$f":"IF(Table1[विद्यार्थी का नाम]=\"\",\"\",ROWS($A$1:A1558))","v":""},{"$f":"IF('SD Data Paste'!A1559=\"\",\"\",'SD Data Paste'!A1559)","v":""},{"$f":"IF('SD Data Paste'!B1559=\"\",\"\",'SD Data Paste'!B1559)","v":""},1558,{"$f":"IF('SD Data Paste'!E1559=\"\",\"\",'SD Data Paste'!E1559)","v":""},{"$f":"IF('SD Data Paste'!G1559=\"\",\"\",'SD Data Paste'!G1559)","v":""}]
[{"$f":"IF(Table1[विद्यार्थी का नाम]=\"\",\"\",ROWS($A$1:A1559))","v":""},{"$f":"IF('SD Data Paste'!A1560=\"\",\"\",'SD Data Paste'!A1560)","v":""},{"$f":"IF('SD Data Paste'!B1560=\"\",\"\",'SD Data Paste'!B1560)","v":""},1559,{"$f":"IF('SD Data Paste'!E1560=\"\",\"\",'SD Data Paste'!E1560)","v":""},{"$f":"IF('SD Data Paste'!G1560=\"\",\"\",'SD Data Paste'!G1560)","v":""}]
[{"$f":"IF(Table1[विद्यार्थी का नाम]=\"\",\"\",ROWS($A$1:A1560))","v":""},{"$f":"IF('SD Data Paste'!A1561=\"\",\"\",'SD Data Paste'!A1561)","v":""},{"$f":"IF('SD Data Paste'!B1561=\"\",\"\",'SD Data Paste'!B1561)","v":""},1560,{"$f":"IF('SD Data Paste'!E1561=\"\",\"\",'SD Data Paste'!E1561)","v":""},{"$f":"IF('SD Data Paste'!G1561=\"\",\"\",'SD Data Paste'!G1561)","v":""}]
[{"$f":"IF(Table1[विद्यार्थी का नाम]=\"\",\"\",ROWS($A$1:A1561))","v":""},{"$f":"IF('SD Data Paste'!A1562=\"\",\"\",'SD Data Paste'!A1562)","v":""},{"$f":"IF('SD Data Paste'!B1562=\"\",\"\",'SD Data Paste'!B1562)","v":""},1561,{"$f":"IF('SD Data Paste'!E1562=\"\",\"\",'SD Data Paste'!E1562)","v":""},{"$f":"IF('SD Data Paste'!G1562=\"\",\"\",'SD Data Paste'!G1562)","v":""}]
[{"$f":"IF(Table1[विद्यार्थी का नाम]=\"\",\"\",ROWS($A$1:A1562))","v":""},{"$f":"IF('SD Data Paste'!A1563=\"\",\"\",'SD Data Paste'!A1563)","v":""},{"$f":"IF('SD Data Paste'!B1563=\"\",\"\",'SD Data Paste'!B1563)","v":""},1562,{"$f":"IF('SD Data Paste'!E1563=\"\",\"\",'SD Data Paste'!E1563)","v":""},{"$f":"IF('SD Data Paste'!G1563=\"\",\"\",'SD Data Paste'!G1563)","v":""}]
[{"$f":"IF(Table1[विद्यार्थी का नाम]=\"\",\"\",ROWS($A$1:A1563))","v":""},{"$f":"IF('SD Data Paste'!A1564=\"\",\"\",'SD Data Paste'!A1564)","v":""},{"$f":"IF('SD Data Paste'!B1564=\"\",\"\",'SD Data Paste'!B1564)","v":""},1563,{"$f":"IF('SD Data Paste'!E1564=\"\",\"\",'SD Data Paste'!E1564)","v":""},{"$f":"IF('SD Data Paste'!G1564=\"\",\"\",'SD Data Paste'!G1564)","v":""}]
[{"$f":"IF(Table1[विद्यार्थी का नाम]=\"\",\"\",ROWS($A$1:A1564))","v":""},{"$f":"IF('SD Data Paste'!A1565=\"\",\"\",'SD Data Paste'!A1565)","v":""},{"$f":"IF('SD Data Paste'!B1565=\"\",\"\",'SD Data Paste'!B1565)","v":""},1564,{"$f":"IF('SD Data Paste'!E1565=\"\",\"\",'SD Data Paste'!E1565)","v":""},{"$f":"IF('SD Data Paste'!G1565=\"\",\"\",'SD Data Paste'!G1565)","v":""}]
[{"$f":"IF(Table1[विद्यार्थी का नाम]=\"\",\"\",ROWS($A$1:A1565))","v":""},{"$f":"IF('SD Data Paste'!A1566=\"\",\"\",'SD Data Paste'!A1566)","v":""},{"$f":"IF('SD Data Paste'!B1566=\"\",\"\",'SD Data Paste'!B1566)","v":""},1565,{"$f":"IF('SD Data Paste'!E1566=\"\",\"\",'SD Data Paste'!E1566)","v":""},{"$f":"IF('SD Data Paste'!G1566=\"\",\"\",'SD Data Paste'!G1566)","v":""}]
[{"$f":"IF(Table1[विद्यार्थी का नाम]=\"\",\"\",ROWS($A$1:A1566))","v":""},{"$f":"IF('SD Data Paste'!A1567=\"\",\"\",'SD Data Paste'!A1567)","v":""},{"$f":"IF('SD Data Paste'!B1567=\"\",\"\",'SD Data Paste'!B1567)","v":""},1566,{"$f":"IF('SD Data Paste'!E1567=\"\",\"\",'SD Data Paste'!E1567)","v":""},{"$f":"IF('SD Data Paste'!G1567=\"\",\"\",'SD Data Paste'!G1567)","v":""}]
[{"$f":"IF(Table1[विद्यार्थी का नाम]=\"\",\"\",ROWS($A$1:A1567))","v":""},{"$f":"IF('SD Data Paste'!A1568=\"\",\"\",'SD Data Paste'!A1568)","v":""},{"$f":"IF('SD Data Paste'!B1568=\"\",\"\",'SD Data Paste'!B1568)","v":""},1567,{"$f":"IF('SD Data Paste'!E1568=\"\",\"\",'SD Data Paste'!E1568)","v":""},{"$f":"IF('SD Data Paste'!G1568=\"\",\"\",'SD Data Paste'!G1568)","v":""}]
[{"$f":"IF(Table1[विद्यार्थी का नाम]=\"\",\"\",ROWS($A$1:A1568))","v":""},{"$f":"IF('SD Data Paste'!A1569=\"\",\"\",'SD Data Paste'!A1569)","v":""},{"$f":"IF('SD Data Paste'!B1569=\"\",\"\",'SD Data Paste'!B1569)","v":""},1568,{"$f":"IF('SD Data Paste'!E1569=\"\",\"\",'SD Data Paste'!E1569)","v":""},{"$f":"IF('SD Data Paste'!G1569=\"\",\"\",'SD Data Paste'!G1569)","v":""}]
[{"$f":"IF(Table1[विद्यार्थी का नाम]=\"\",\"\",ROWS($A$1:A1569))","v":""},{"$f":"IF('SD Data Paste'!A1570=\"\",\"\",'SD Data Paste'!A1570)","v":""},{"$f":"IF('SD Data Paste'!B1570=\"\",\"\",'SD Data Paste'!B1570)","v":""},1569,{"$f":"IF('SD Data Paste'!E1570=\"\",\"\",'SD Data Paste'!E1570)","v":""},{"$f":"IF('SD Data Paste'!G1570=\"\",\"\",'SD Data Paste'!G1570)","v":""}]
[{"$f":"IF(Table1[विद्यार्थी का नाम]=\"\",\"\",ROWS($A$1:A1570))","v":""},{"$f":"IF('SD Data Paste'!A1571=\"\",\"\",'SD Data Paste'!A1571)","v":""},{"$f":"IF('SD Data Paste'!B1571=\"\",\"\",'SD Data Paste'!B1571)","v":""},1570,{"$f":"IF('SD Data Paste'!E1571=\"\",\"\",'SD Data Paste'!E1571)","v":""},{"$f":"IF('SD Data Paste'!G1571=\"\",\"\",'SD Data Paste'!G1571)","v":""}]
[{"$f":"IF(Table1[विद्यार्थी का नाम]=\"\",\"\",ROWS($A$1:A1571))","v":""},{"$f":"IF('SD Data Paste'!A1572=\"\",\"\",'SD Data Paste'!A1572)","v":""},{"$f":"IF('SD Data Paste'!B1572=\"\",\"\",'SD Data Paste'!B1572)","v":""},1571,{"$f":"IF('SD Data Paste'!E1572=\"\",\"\",'SD Data Paste'!E1572)","v":""},{"$f":"IF('SD Data Paste'!G1572=\"\",\"\",'SD Data Paste'!G1572)","v":""}]
[{"$f":"IF(Table1[विद्यार्थी का नाम]=\"\",\"\",ROWS($A$1:A1572))","v":""},{"$f":"IF('SD Data Paste'!A1573=\"\",\"\",'SD Data Paste'!A1573)","v":""},{"$f":"IF('SD Data Paste'!B1573=\"\",\"\",'SD Data Paste'!B1573)","v":""},1572,{"$f":"IF('SD Data Paste'!E1573=\"\",\"\",'SD Data Paste'!E1573)","v":""},{"$f":"IF('SD Data Paste'!G1573=\"\",\"\",'SD Data Paste'!G1573)","v":""}]
[{"$f":"IF(Table1[विद्यार्थी का नाम]=\"\",\"\",ROWS($A$1:A1573))","v":""},{"$f":"IF('SD Data Paste'!A1574=\"\",\"\",'SD Data Paste'!A1574)","v":""},{"$f":"IF('SD Data Paste'!B1574=\"\",\"\",'SD Data Paste'!B1574)","v":""},1573,{"$f":"IF('SD Data Paste'!E1574=\"\",\"\",'SD Data Paste'!E1574)","v":""},{"$f":"IF('SD Data Paste'!G1574=\"\",\"\",'SD Data Paste'!G1574)","v":""}]
[{"$f":"IF(Table1[विद्यार्थी का नाम]=\"\",\"\",ROWS($A$1:A1574))","v":""},{"$f":"IF('SD Data Paste'!A1575=\"\",\"\",'SD Data Paste'!A1575)","v":""},{"$f":"IF('SD Data Paste'!B1575=\"\",\"\",'SD Data Paste'!B1575)","v":""},1574,{"$f":"IF('SD Data Paste'!E1575=\"\",\"\",'SD Data Paste'!E1575)","v":""},{"$f":"IF('SD Data Paste'!G1575=\"\",\"\",'SD Data Paste'!G1575)","v":""}]
[{"$f":"IF(Table1[विद्यार्थी का नाम]=\"\",\"\",ROWS($A$1:A1575))","v":""},{"$f":"IF('SD Data Paste'!A1576=\"\",\"\",'SD Data Paste'!A1576)","v":""},{"$f":"IF('SD Data Paste'!B1576=\"\",\"\",'SD Data Paste'!B1576)","v":""},1575,{"$f":"IF('SD Data Paste'!E1576=\"\",\"\",'SD Data Paste'!E1576)","v":""},{"$f":"IF('SD Data Paste'!G1576=\"\",\"\",'SD Data Paste'!G1576)","v":""}]
[{"$f":"IF(Table1[विद्यार्थी का नाम]=\"\",\"\",ROWS($A$1:A1576))","v":""},{"$f":"IF('SD Data Paste'!A1577=\"\",\"\",'SD Data Paste'!A1577)","v":""},{"$f":"IF('SD Data Paste'!B1577=\"\",\"\",'SD Data Paste'!B1577)","v":""},1576,{"$f":"IF('SD Data Paste'!E1577=\"\",\"\",'SD Data Paste'!E1577)","v":""},{"$f":"IF('SD Data Paste'!G1577=\"\",\"\",'SD Data Paste'!G1577)","v":""}]
[{"$f":"IF(Table1[विद्यार्थी का नाम]=\"\",\"\",ROWS($A$1:A1577))","v":""},{"$f":"IF('SD Data Paste'!A1578=\"\",\"\",'SD Data Paste'!A1578)","v":""},{"$f":"IF('SD Data Paste'!B1578=\"\",\"\",'SD Data Paste'!B1578)","v":""},1577,{"$f":"IF('SD Data Paste'!E1578=\"\",\"\",'SD Data Paste'!E1578)","v":""},{"$f":"IF('SD Data Paste'!G1578=\"\",\"\",'SD Data Paste'!G1578)","v":""}]
[{"$f":"IF(Table1[विद्यार्थी का नाम]=\"\",\"\",ROWS($A$1:A1578))","v":""},{"$f":"IF('SD Data Paste'!A1579=\"\",\"\",'SD Data Paste'!A1579)","v":""},{"$f":"IF('SD Data Paste'!B1579=\"\",\"\",'SD Data Paste'!B1579)","v":""},1578,{"$f":"IF('SD Data Paste'!E1579=\"\",\"\",'SD Data Paste'!E1579)","v":""},{"$f":"IF('SD Data Paste'!G1579=\"\",\"\",'SD Data Paste'!G1579)","v":""}]
[{"$f":"IF(Table1[विद्यार्थी का नाम]=\"\",\"\",ROWS($A$1:A1579))","v":""},{"$f":"IF('SD Data Paste'!A1580=\"\",\"\",'SD Data Paste'!A1580)","v":""},{"$f":"IF('SD Data Paste'!B1580=\"\",\"\",'SD Data Paste'!B1580)","v":""},1579,{"$f":"IF('SD Data Paste'!E1580=\"\",\"\",'SD Data Paste'!E1580)","v":""},{"$f":"IF('SD Data Paste'!G1580=\"\",\"\",'SD Data Paste'!G1580)","v":""}]
[{"$f":"IF(Table1[विद्यार्थी का नाम]=\"\",\"\",ROWS($A$1:A1580))","v":""},{"$f":"IF('SD Data Paste'!A1581=\"\",\"\",'SD Data Paste'!A1581)","v":""},{"$f":"IF('SD Data Paste'!B1581=\"\",\"\",'SD Data Paste'!B1581)","v":""},1580,{"$f":"IF('SD Data Paste'!E1581=\"\",\"\",'SD Data Paste'!E1581)","v":""},{"$f":"IF('SD Data Paste'!G1581=\"\",\"\",'SD Data Paste'!G1581)","v":""}]
[{"$f":"IF(Table1[विद्यार्थी का नाम]=\"\",\"\",ROWS($A$1:A1581))","v":""},{"$f":"IF('SD Data Paste'!A1582=\"\",\"\",'SD Data Paste'!A1582)","v":""},{"$f":"IF('SD Data Paste'!B1582=\"\",\"\",'SD Data Paste'!B1582)","v":""},1581,{"$f":"IF('SD Data Paste'!E1582=\"\",\"\",'SD Data Paste'!E1582)","v":""},{"$f":"IF('SD Data Paste'!G1582=\"\",\"\",'SD Data Paste'!G1582)","v":""}]
[{"$f":"IF(Table1[विद्यार्थी का नाम]=\"\",\"\",ROWS($A$1:A1582))","v":""},{"$f":"IF('SD Data Paste'!A1583=\"\",\"\",'SD Data Paste'!A1583)","v":""},{"$f":"IF('SD Data Paste'!B1583=\"\",\"\",'SD Data Paste'!B1583)","v":""},1582,{"$f":"IF('SD Data Paste'!E1583=\"\",\"\",'SD Data Paste'!E1583)","v":""},{"$f":"IF('SD Data Paste'!G1583=\"\",\"\",'SD Data Paste'!G1583)","v":""}]
[{"$f":"IF(Table1[विद्यार्थी का नाम]=\"\",\"\",ROWS($A$1:A1583))","v":""},{"$f":"IF('SD Data Paste'!A1584=\"\",\"\",'SD Data Paste'!A1584)","v":""},{"$f":"IF('SD Data Paste'!B1584=\"\",\"\",'SD Data Paste'!B1584)","v":""},1583,{"$f":"IF('SD Data Paste'!E1584=\"\",\"\",'SD Data Paste'!E1584)","v":""},{"$f":"IF('SD Data Paste'!G1584=\"\",\"\",'SD Data Paste'!G1584)","v":""}]
[{"$f":"IF(Table1[विद्यार्थी का नाम]=\"\",\"\",ROWS($A$1:A1584))","v":""},{"$f":"IF('SD Data Paste'!A1585=\"\",\"\",'SD Data Paste'!A1585)","v":""},{"$f":"IF('SD Data Paste'!B1585=\"\",\"\",'SD Data Paste'!B1585)","v":""},1584,{"$f":"IF('SD Data Paste'!E1585=\"\",\"\",'SD Data Paste'!E1585)","v":""},{"$f":"IF('SD Data Paste'!G1585=\"\",\"\",'SD Data Paste'!G1585)","v":""}]
[{"$f":"IF(Table1[विद्यार्थी का नाम]=\"\",\"\",ROWS($A$1:A1585))","v":""},{"$f":"IF('SD Data Paste'!A1586=\"\",\"\",'SD Data Paste'!A1586)","v":""},{"$f":"IF('SD Data Paste'!B1586=\"\",\"\",'SD Data Paste'!B1586)","v":""},1585,{"$f":"IF('SD Data Paste'!E1586=\"\",\"\",'SD Data Paste'!E1586)","v":""},{"$f":"IF('SD Data Paste'!G1586=\"\",\"\",'SD Data Paste'!G1586)","v":""}]
[{"$f":"IF(Table1[विद्यार्थी का नाम]=\"\",\"\",ROWS($A$1:A1586))","v":""},{"$f":"IF('SD Data Paste'!A1587=\"\",\"\",'SD Data Paste'!A1587)","v":""},{"$f":"IF('SD Data Paste'!B1587=\"\",\"\",'SD Data Paste'!B1587)","v":""},1586,{"$f":"IF('SD Data Paste'!E1587=\"\",\"\",'SD Data Paste'!E1587)","v":""},{"$f":"IF('SD Data Paste'!G1587=\"\",\"\",'SD Data Paste'!G1587)","v":""}]
[{"$f":"IF(Table1[विद्यार्थी का नाम]=\"\",\"\",ROWS($A$1:A1587))","v":""},{"$f":"IF('SD Data Paste'!A1588=\"\",\"\",'SD Data Paste'!A1588)","v":""},{"$f":"IF('SD Data Paste'!B1588=\"\",\"\",'SD Data Paste'!B1588)","v":""},1587,{"$f":"IF('SD Data Paste'!E1588=\"\",\"\",'SD Data Paste'!E1588)","v":""},{"$f":"IF('SD Data Paste'!G1588=\"\",\"\",'SD Data Paste'!G1588)","v":""}]
[{"$f":"IF(Table1[विद्यार्थी का नाम]=\"\",\"\",ROWS($A$1:A1588))","v":""},{"$f":"IF('SD Data Paste'!A1589=\"\",\"\",'SD Data Paste'!A1589)","v":""},{"$f":"IF('SD Data Paste'!B1589=\"\",\"\",'SD Data Paste'!B1589)","v":""},1588,{"$f":"IF('SD Data Paste'!E1589=\"\",\"\",'SD Data Paste'!E1589)","v":""},{"$f":"IF('SD Data Paste'!G1589=\"\",\"\",'SD Data Paste'!G1589)","v":""}]
[{"$f":"IF(Table1[विद्यार्थी का नाम]=\"\",\"\",ROWS($A$1:A1589))","v":""},{"$f":"IF('SD Data Paste'!A1590=\"\",\"\",'SD Data Paste'!A1590)","v":""},{"$f":"IF('SD Data Paste'!B1590=\"\",\"\",'SD Data Paste'!B1590)","v":""},1589,{"$f":"IF('SD Data Paste'!E1590=\"\",\"\",'SD Data Paste'!E1590)","v":""},{"$f":"IF('SD Data Paste'!G1590=\"\",\"\",'SD Data Paste'!G1590)","v":""}]
[{"$f":"IF(Table1[विद्यार्थी का नाम]=\"\",\"\",ROWS($A$1:A1590))","v":""},{"$f":"IF('SD Data Paste'!A1591=\"\",\"\",'SD Data Paste'!A1591)","v":""},{"$f":"IF('SD Data Paste'!B1591=\"\",\"\",'SD Data Paste'!B1591)","v":""},1590,{"$f":"IF('SD Data Paste'!E1591=\"\",\"\",'SD Data Paste'!E1591)","v":""},{"$f":"IF('SD Data Paste'!G1591=\"\",\"\",'SD Data Paste'!G1591)","v":""}]
[{"$f":"IF(Table1[विद्यार्थी का नाम]=\"\",\"\",ROWS($A$1:A1591))","v":""},{"$f":"IF('SD Data Paste'!A1592=\"\",\"\",'SD Data Paste'!A1592)","v":""},{"$f":"IF('SD Data Paste'!B1592=\"\",\"\",'SD Data Paste'!B1592)","v":""},1591,{"$f":"IF('SD Data Paste'!E1592=\"\",\"\",'SD Data Paste'!E1592)","v":""},{"$f":"IF('SD Data Paste'!G1592=\"\",\"\",'SD Data Paste'!G1592)","v":""}]
[{"$f":"IF(Table1[विद्यार्थी का नाम]=\"\",\"\",ROWS($A$1:A1592))","v":""},{"$f":"IF('SD Data Paste'!A1593=\"\",\"\",'SD Data Paste'!A1593)","v":""},{"$f":"IF('SD Data Paste'!B1593=\"\",\"\",'SD Data Paste'!B1593)","v":""},1592,{"$f":"IF('SD Data Paste'!E1593=\"\",\"\",'SD Data Paste'!E1593)","v":""},{"$f":"IF('SD Data Paste'!G1593=\"\",\"\",'SD Data Paste'!G1593)","v":""}]
[{"$f":"IF(Table1[विद्यार्थी का नाम]=\"\",\"\",ROWS($A$1:A1593))","v":""},{"$f":"IF('SD Data Paste'!A1594=\"\",\"\",'SD Data Paste'!A1594)","v":""},{"$f":"IF('SD Data Paste'!B1594=\"\",\"\",'SD Data Paste'!B1594)","v":""},1593,{"$f":"IF('SD Data Paste'!E1594=\"\",\"\",'SD Data Paste'!E1594)","v":""},{"$f":"IF('SD Data Paste'!G1594=\"\",\"\",'SD Data Paste'!G1594)","v":""}]
[{"$f":"IF(Table1[विद्यार्थी का नाम]=\"\",\"\",ROWS($A$1:A1594))","v":""},{"$f":"IF('SD Data Paste'!A1595=\"\",\"\",'SD Data Paste'!A1595)","v":""},{"$f":"IF('SD Data Paste'!B1595=\"\",\"\",'SD Data Paste'!B1595)","v":""},1594,{"$f":"IF('SD Data Paste'!E1595=\"\",\"\",'SD Data Paste'!E1595)","v":""},{"$f":"IF('SD Data Paste'!G1595=\"\",\"\",'SD Data Paste'!G1595)","v":""}]
[{"$f":"IF(Table1[विद्यार्थी का नाम]=\"\",\"\",ROWS($A$1:A1595))","v":""},{"$f":"IF('SD Data Paste'!A1596=\"\",\"\",'SD Data Paste'!A1596)","v":""},{"$f":"IF('SD Data Paste'!B1596=\"\",\"\",'SD Data Paste'!B1596)","v":""},1595,{"$f":"IF('SD Data Paste'!E1596=\"\",\"\",'SD Data Paste'!E1596)","v":""},{"$f":"IF('SD Data Paste'!G1596=\"\",\"\",'SD Data Paste'!G1596)","v":""}]
[{"$f":"IF(Table1[विद्यार्थी का नाम]=\"\",\"\",ROWS($A$1:A1596))","v":""},{"$f":"IF('SD Data Paste'!A1597=\"\",\"\",'SD Data Paste'!A1597)","v":""},{"$f":"IF('SD Data Paste'!B1597=\"\",\"\",'SD Data Paste'!B1597)","v":""},1596,{"$f":"IF('SD Data Paste'!E1597=\"\",\"\",'SD Data Paste'!E1597)","v":""},{"$f":"IF('SD Data Paste'!G1597=\"\",\"\",'SD Data Paste'!G1597)","v":""}]
[{"$f":"IF(Table1[विद्यार्थी का नाम]=\"\",\"\",ROWS($A$1:A1597))","v":""},{"$f":"IF('SD Data Paste'!A1598=\"\",\"\",'SD Data Paste'!A1598)","v":""},{"$f":"IF('SD Data Paste'!B1598=\"\",\"\",'SD Data Paste'!B1598)","v":""},1597,{"$f":"IF('SD Data Paste'!E1598=\"\",\"\",'SD Data Paste'!E1598)","v":""},{"$f":"IF('SD Data Paste'!G1598=\"\",\"\",'SD Data Paste'!G1598)","v":""}]
[{"$f":"IF(Table1[विद्यार्थी का नाम]=\"\",\"\",ROWS($A$1:A1598))","v":""},{"$f":"IF('SD Data Paste'!A1599=\"\",\"\",'SD Data Paste'!A1599)","v":""},{"$f":"IF('SD Data Paste'!B1599=\"\",\"\",'SD Data Paste'!B1599)","v":""},1598,{"$f":"IF('SD Data Paste'!E1599=\"\",\"\",'SD Data Paste'!E1599)","v":""},{"$f":"IF('SD Data Paste'!G1599=\"\",\"\",'SD Data Paste'!G1599)","v":""}]
[{"$f":"IF(Table1[विद्यार्थी का नाम]=\"\",\"\",ROWS($A$1:A1599))","v":""},{"$f":"IF('SD Data Paste'!A1600=\"\",\"\",'SD Data Paste'!A1600)","v":""},{"$f":"IF('SD Data Paste'!B1600=\"\",\"\",'SD Data Paste'!B1600)","v":""},1599,{"$f":"IF('SD Data Paste'!E1600=\"\",\"\",'SD Data Paste'!E1600)","v":""},{"$f":"IF('SD Data Paste'!G1600=\"\",\"\",'SD Data Paste'!G1600)","v":""}]
[{"$f":"IF(Table1[विद्यार्थी का नाम]=\"\",\"\",ROWS($A$1:A1600))","v":""},{"$f":"IF('SD Data Paste'!A1601=\"\",\"\",'SD Data Paste'!A1601)","v":""},{"$f":"IF('SD Data Paste'!B1601=\"\",\"\",'SD Data Paste'!B1601)","v":""},1600,{"$f":"IF('SD Data Paste'!E1601=\"\",\"\",'SD Data Paste'!E1601)","v":""},{"$f":"IF('SD Data Paste'!G1601=\"\",\"\",'SD Data Paste'!G1601)","v":""}]
[{"$f":"IF(Table1[विद्यार्थी का नाम]=\"\",\"\",ROWS($A$1:A1601))","v":""},{"$f":"IF('SD Data Paste'!A1602=\"\",\"\",'SD Data Paste'!A1602)","v":""},{"$f":"IF('SD Data Paste'!B1602=\"\",\"\",'SD Data Paste'!B1602)","v":""},1601,{"$f":"IF('SD Data Paste'!E1602=\"\",\"\",'SD Data Paste'!E1602)","v":""},{"$f":"IF('SD Data Paste'!G1602=\"\",\"\",'SD Data Paste'!G1602)","v":""}]
[{"$f":"IF(Table1[विद्यार्थी का नाम]=\"\",\"\",ROWS($A$1:A1602))","v":""},{"$f":"IF('SD Data Paste'!A1603=\"\",\"\",'SD Data Paste'!A1603)","v":""},{"$f":"IF('SD Data Paste'!B1603=\"\",\"\",'SD Data Paste'!B1603)","v":""},1602,{"$f":"IF('SD Data Paste'!E1603=\"\",\"\",'SD Data Paste'!E1603)","v":""},{"$f":"IF('SD Data Paste'!G1603=\"\",\"\",'SD Data Paste'!G1603)","v":""}]
[{"$f":"IF(Table1[विद्यार्थी का नाम]=\"\",\"\",ROWS($A$1:A1603))","v":""},{"$f":"IF('SD Data Paste'!A1604=\"\",\"\",'SD Data Paste'!A1604)","v":""},{"$f":"IF('SD Data Paste'!B1604=\"\",\"\",'SD Data Paste'!B1604)","v":""},{"$f":"IF(D1605=\"\",\"\",D1605+1)","v":1603},{"$f":"IF('SD Data Paste'!E1604=\"\",\"\",'SD Data Paste'!E1604)","v":""},{"$f":"IF('SD Data Paste'!G1604=\"\",\"\",'SD Data Paste'!G1604)","v":""}]
[{"$f":"IF(Table1[विद्यार्थी का नाम]=\"\",\"\",ROWS($A$1:A1604))","v":""},{"$f":"IF('SD Data Paste'!A1605=\"\",\"\",'SD Data Paste'!A1605)","v":""},{"$f":"IF('SD Data Paste'!B1605=\"\",\"\",'SD Data Paste'!B1605)","v":""},1604,{"$f":"IF('SD Data Paste'!E1605=\"\",\"\",'SD Data Paste'!E1605)","v":""},{"$f":"IF('SD Data Paste'!G1605=\"\",\"\",'SD Data Paste'!G1605)","v":""}]
[{"$f":"IF(Table1[विद्यार्थी का नाम]=\"\",\"\",ROWS($A$1:A1605))","v":""},{"$f":"IF('SD Data Paste'!A1606=\"\",\"\",'SD Data Paste'!A1606)","v":""},{"$f":"IF('SD Data Paste'!B1606=\"\",\"\",'SD Data Paste'!B1606)","v":""},1605,{"$f":"IF('SD Data Paste'!E1606=\"\",\"\",'SD Data Paste'!E1606)","v":""},{"$f":"IF('SD Data Paste'!G1606=\"\",\"\",'SD Data Paste'!G1606)","v":""}]
[{"$f":"IF(Table1[विद्यार्थी का नाम]=\"\",\"\",ROWS($A$1:A1606))","v":""},{"$f":"IF('SD Data Paste'!A1607=\"\",\"\",'SD Data Paste'!A1607)","v":""},{"$f":"IF('SD Data Paste'!B1607=\"\",\"\",'SD Data Paste'!B1607)","v":""},1606,{"$f":"IF('SD Data Paste'!E1607=\"\",\"\",'SD Data Paste'!E1607)","v":""},{"$f":"IF('SD Data Paste'!G1607=\"\",\"\",'SD Data Paste'!G1607)","v":""}]
[{"$f":"IF(Table1[विद्यार्थी का नाम]=\"\",\"\",ROWS($A$1:A1607))","v":""},{"$f":"IF('SD Data Paste'!A1608=\"\",\"\",'SD Data Paste'!A1608)","v":""},{"$f":"IF('SD Data Paste'!B1608=\"\",\"\",'SD Data Paste'!B1608)","v":""},1607,{"$f":"IF('SD Data Paste'!E1608=\"\",\"\",'SD Data Paste'!E1608)","v":""},{"$f":"IF('SD Data Paste'!G1608=\"\",\"\",'SD Data Paste'!G1608)","v":""}]
[{"$f":"IF(Table1[विद्यार्थी का नाम]=\"\",\"\",ROWS($A$1:A1608))","v":""},{"$f":"IF('SD Data Paste'!A1609=\"\",\"\",'SD Data Paste'!A1609)","v":""},{"$f":"IF('SD Data Paste'!B1609=\"\",\"\",'SD Data Paste'!B1609)","v":""},1608,{"$f":"IF('SD Data Paste'!E1609=\"\",\"\",'SD Data Paste'!E1609)","v":""},{"$f":"IF('SD Data Paste'!G1609=\"\",\"\",'SD Data Paste'!G1609)","v":""}]
[{"$f":"IF(Table1[विद्यार्थी का नाम]=\"\",\"\",ROWS($A$1:A1609))","v":""},{"$f":"IF('SD Data Paste'!A1610=\"\",\"\",'SD Data Paste'!A1610)","v":""},{"$f":"IF('SD Data Paste'!B1610=\"\",\"\",'SD Data Paste'!B1610)","v":""},1609,{"$f":"IF('SD Data Paste'!E1610=\"\",\"\",'SD Data Paste'!E1610)","v":""},{"$f":"IF('SD Data Paste'!G1610=\"\",\"\",'SD Data Paste'!G1610)","v":""}]
[{"$f":"IF(Table1[विद्यार्थी का नाम]=\"\",\"\",ROWS($A$1:A1610))","v":""},{"$f":"IF('SD Data Paste'!A1611=\"\",\"\",'SD Data Paste'!A1611)","v":""},{"$f":"IF('SD Data Paste'!B1611=\"\",\"\",'SD Data Paste'!B1611)","v":""},1610,{"$f":"IF('SD Data Paste'!E1611=\"\",\"\",'SD Data Paste'!E1611)","v":""},{"$f":"IF('SD Data Paste'!G1611=\"\",\"\",'SD Data Paste'!G1611)","v":""}]
[{"$f":"IF(Table1[विद्यार्थी का नाम]=\"\",\"\",ROWS($A$1:A1611))","v":""},{"$f":"IF('SD Data Paste'!A1612=\"\",\"\",'SD Data Paste'!A1612)","v":""},{"$f":"IF('SD Data Paste'!B1612=\"\",\"\",'SD Data Paste'!B1612)","v":""},1611,{"$f":"IF('SD Data Paste'!E1612=\"\",\"\",'SD Data Paste'!E1612)","v":""},{"$f":"IF('SD Data Paste'!G1612=\"\",\"\",'SD Data Paste'!G1612)","v":""}]
[{"$f":"IF(Table1[विद्यार्थी का नाम]=\"\",\"\",ROWS($A$1:A1612))","v":""},{"$f":"IF('SD Data Paste'!A1613=\"\",\"\",'SD Data Paste'!A1613)","v":""},{"$f":"IF('SD Data Paste'!B1613=\"\",\"\",'SD Data Paste'!B1613)","v":""},1612,{"$f":"IF('SD Data Paste'!E1613=\"\",\"\",'SD Data Paste'!E1613)","v":""},{"$f":"IF('SD Data Paste'!G1613=\"\",\"\",'SD Data Paste'!G1613)","v":""}]
[{"$f":"IF(Table1[विद्यार्थी का नाम]=\"\",\"\",ROWS($A$1:A1613))","v":""},{"$f":"IF('SD Data Paste'!A1614=\"\",\"\",'SD Data Paste'!A1614)","v":""},{"$f":"IF('SD Data Paste'!B1614=\"\",\"\",'SD Data Paste'!B1614)","v":""},1613,{"$f":"IF('SD Data Paste'!E1614=\"\",\"\",'SD Data Paste'!E1614)","v":""},{"$f":"IF('SD Data Paste'!G1614=\"\",\"\",'SD Data Paste'!G1614)","v":""}]
[{"$f":"IF(Table1[विद्यार्थी का नाम]=\"\",\"\",ROWS($A$1:A1614))","v":""},{"$f":"IF('SD Data Paste'!A1615=\"\",\"\",'SD Data Paste'!A1615)","v":""},{"$f":"IF('SD Data Paste'!B1615=\"\",\"\",'SD Data Paste'!B1615)","v":""},1614,{"$f":"IF('SD Data Paste'!E1615=\"\",\"\",'SD Data Paste'!E1615)","v":""},{"$f":"IF('SD Data Paste'!G1615=\"\",\"\",'SD Data Paste'!G1615)","v":""}]
[{"$f":"IF(Table1[विद्यार्थी का नाम]=\"\",\"\",ROWS($A$1:A1615))","v":""},{"$f":"IF('SD Data Paste'!A1616=\"\",\"\",'SD Data Paste'!A1616)","v":""},{"$f":"IF('SD Data Paste'!B1616=\"\",\"\",'SD Data Paste'!B1616)","v":""},1615,{"$f":"IF('SD Data Paste'!E1616=\"\",\"\",'SD Data Paste'!E1616)","v":""},{"$f":"IF('SD Data Paste'!G1616=\"\",\"\",'SD Data Paste'!G1616)","v":""}]
[{"$f":"IF(Table1[विद्यार्थी का नाम]=\"\",\"\",ROWS($A$1:A1616))","v":""},{"$f":"IF('SD Data Paste'!A1617=\"\",\"\",'SD Data Paste'!A1617)","v":""},{"$f":"IF('SD Data Paste'!B1617=\"\",\"\",'SD Data Paste'!B1617)","v":""},1616,{"$f":"IF('SD Data Paste'!E1617=\"\",\"\",'SD Data Paste'!E1617)","v":""},{"$f":"IF('SD Data Paste'!G1617=\"\",\"\",'SD Data Paste'!G1617)","v":""}]
[{"$f":"IF(Table1[विद्यार्थी का नाम]=\"\",\"\",ROWS($A$1:A1617))","v":""},{"$f":"IF('SD Data Paste'!A1618=\"\",\"\",'SD Data Paste'!A1618)","v":""},{"$f":"IF('SD Data Paste'!B1618=\"\",\"\",'SD Data Paste'!B1618)","v":""},1617,{"$f":"IF('SD Data Paste'!E1618=\"\",\"\",'SD Data Paste'!E1618)","v":""},{"$f":"IF('SD Data Paste'!G1618=\"\",\"\",'SD Data Paste'!G1618)","v":""}]
[{"$f":"IF(Table1[विद्यार्थी का नाम]=\"\",\"\",ROWS($A$1:A1618))","v":""},{"$f":"IF('SD Data Paste'!A1619=\"\",\"\",'SD Data Paste'!A1619)","v":""},{"$f":"IF('SD Data Paste'!B1619=\"\",\"\",'SD Data Paste'!B1619)","v":""},1618,{"$f":"IF('SD Data Paste'!E1619=\"\",\"\",'SD Data Paste'!E1619)","v":""},{"$f":"IF('SD Data Paste'!G1619=\"\",\"\",'SD Data Paste'!G1619)","v":""}]
[{"$f":"IF(Table1[विद्यार्थी का नाम]=\"\",\"\",ROWS($A$1:A1619))","v":""},{"$f":"IF('SD Data Paste'!A1620=\"\",\"\",'SD Data Paste'!A1620)","v":""},{"$f":"IF('SD Data Paste'!B1620=\"\",\"\",'SD Data Paste'!B1620)","v":""},1619,{"$f":"IF('SD Data Paste'!E1620=\"\",\"\",'SD Data Paste'!E1620)","v":""},{"$f":"IF('SD Data Paste'!G1620=\"\",\"\",'SD Data Paste'!G1620)","v":""}]
[{"$f":"IF(Table1[विद्यार्थी का नाम]=\"\",\"\",ROWS($A$1:A1620))","v":""},{"$f":"IF('SD Data Paste'!A1621=\"\",\"\",'SD Data Paste'!A1621)","v":""},{"$f":"IF('SD Data Paste'!B1621=\"\",\"\",'SD Data Paste'!B1621)","v":""},1620,{"$f":"IF('SD Data Paste'!E1621=\"\",\"\",'SD Data Paste'!E1621)","v":""},{"$f":"IF('SD Data Paste'!G1621=\"\",\"\",'SD Data Paste'!G1621)","v":""}]
[{"$f":"IF(Table1[विद्यार्थी का नाम]=\"\",\"\",ROWS($A$1:A1621))","v":""},{"$f":"IF('SD Data Paste'!A1622=\"\",\"\",'SD Data Paste'!A1622)","v":""},{"$f":"IF('SD Data Paste'!B1622=\"\",\"\",'SD Data Paste'!B1622)","v":""},1621,{"$f":"IF('SD Data Paste'!E1622=\"\",\"\",'SD Data Paste'!E1622)","v":""},{"$f":"IF('SD Data Paste'!G1622=\"\",\"\",'SD Data Paste'!G1622)","v":""}]
[{"$f":"IF(Table1[विद्यार्थी का नाम]=\"\",\"\",ROWS($A$1:A1622))","v":""},{"$f":"IF('SD Data Paste'!A1623=\"\",\"\",'SD Data Paste'!A1623)","v":""},{"$f":"IF('SD Data Paste'!B1623=\"\",\"\",'SD Data Paste'!B1623)","v":""},1622,{"$f":"IF('SD Data Paste'!E1623=\"\",\"\",'SD Data Paste'!E1623)","v":""},{"$f":"IF('SD Data Paste'!G1623=\"\",\"\",'SD Data Paste'!G1623)","v":""}]
[{"$f":"IF(Table1[विद्यार्थी का नाम]=\"\",\"\",ROWS($A$1:A1623))","v":""},{"$f":"IF('SD Data Paste'!A1624=\"\",\"\",'SD Data Paste'!A1624)","v":""},{"$f":"IF('SD Data Paste'!B1624=\"\",\"\",'SD Data Paste'!B1624)","v":""},1623,{"$f":"IF('SD Data Paste'!E1624=\"\",\"\",'SD Data Paste'!E1624)","v":""},{"$f":"IF('SD Data Paste'!G1624=\"\",\"\",'SD Data Paste'!G1624)","v":""}]
[{"$f":"IF(Table1[विद्यार्थी का नाम]=\"\",\"\",ROWS($A$1:A1624))","v":""},{"$f":"IF('SD Data Paste'!A1625=\"\",\"\",'SD Data Paste'!A1625)","v":""},{"$f":"IF('SD Data Paste'!B1625=\"\",\"\",'SD Data Paste'!B1625)","v":""},1624,{"$f":"IF('SD Data Paste'!E1625=\"\",\"\",'SD Data Paste'!E1625)","v":""},{"$f":"IF('SD Data Paste'!G1625=\"\",\"\",'SD Data Paste'!G1625)","v":""}]
[{"$f":"IF(Table1[विद्यार्थी का नाम]=\"\",\"\",ROWS($A$1:A1625))","v":""},{"$f":"IF('SD Data Paste'!A1626=\"\",\"\",'SD Data Paste'!A1626)","v":""},{"$f":"IF('SD Data Paste'!B1626=\"\",\"\",'SD Data Paste'!B1626)","v":""},1625,{"$f":"IF('SD Data Paste'!E1626=\"\",\"\",'SD Data Paste'!E1626)","v":""},{"$f":"IF('SD Data Paste'!G1626=\"\",\"\",'SD Data Paste'!G1626)","v":""}]
[{"$f":"IF(Table1[विद्यार्थी का नाम]=\"\",\"\",ROWS($A$1:A1626))","v":""},{"$f":"IF('SD Data Paste'!A1627=\"\",\"\",'SD Data Paste'!A1627)","v":""},{"$f":"IF('SD Data Paste'!B1627=\"\",\"\",'SD Data Paste'!B1627)","v":""},1626,{"$f":"IF('SD Data Paste'!E1627=\"\",\"\",'SD Data Paste'!E1627)","v":""},{"$f":"IF('SD Data Paste'!G1627=\"\",\"\",'SD Data Paste'!G1627)","v":""}]
[{"$f":"IF(Table1[विद्यार्थी का नाम]=\"\",\"\",ROWS($A$1:A1627))","v":""},{"$f":"IF('SD Data Paste'!A1628=\"\",\"\",'SD Data Paste'!A1628)","v":""},{"$f":"IF('SD Data Paste'!B1628=\"\",\"\",'SD Data Paste'!B1628)","v":""},1627,{"$f":"IF('SD Data Paste'!E1628=\"\",\"\",'SD Data Paste'!E1628)","v":""},{"$f":"IF('SD Data Paste'!G1628=\"\",\"\",'SD Data Paste'!G1628)","v":""}]
[{"$f":"IF(Table1[विद्यार्थी का नाम]=\"\",\"\",ROWS($A$1:A1628))","v":""},{"$f":"IF('SD Data Paste'!A1629=\"\",\"\",'SD Data Paste'!A1629)","v":""},{"$f":"IF('SD Data Paste'!B1629=\"\",\"\",'SD Data Paste'!B1629)","v":""},1628,{"$f":"IF('SD Data Paste'!E1629=\"\",\"\",'SD Data Paste'!E1629)","v":""},{"$f":"IF('SD Data Paste'!G1629=\"\",\"\",'SD Data Paste'!G1629)","v":""}]
[{"$f":"IF(Table1[विद्यार्थी का नाम]=\"\",\"\",ROWS($A$1:A1629))","v":""},{"$f":"IF('SD Data Paste'!A1630=\"\",\"\",'SD Data Paste'!A1630)","v":""},{"$f":"IF('SD Data Paste'!B1630=\"\",\"\",'SD Data Paste'!B1630)","v":""},1629,{"$f":"IF('SD Data Paste'!E1630=\"\",\"\",'SD Data Paste'!E1630)","v":""},{"$f":"IF('SD Data Paste'!G1630=\"\",\"\",'SD Data Paste'!G1630)","v":""}]
[{"$f":"IF(Table1[विद्यार्थी का नाम]=\"\",\"\",ROWS($A$1:A1630))","v":""},{"$f":"IF('SD Data Paste'!A1631=\"\",\"\",'SD Data Paste'!A1631)","v":""},{"$f":"IF('SD Data Paste'!B1631=\"\",\"\",'SD Data Paste'!B1631)","v":""},1630,{"$f":"IF('SD Data Paste'!E1631=\"\",\"\",'SD Data Paste'!E1631)","v":""},{"$f":"IF('SD Data Paste'!G1631=\"\",\"\",'SD Data Paste'!G1631)","v":""}]
[{"$f":"IF(Table1[विद्यार्थी का नाम]=\"\",\"\",ROWS($A$1:A1631))","v":""},{"$f":"IF('SD Data Paste'!A1632=\"\",\"\",'SD Data Paste'!A1632)","v":""},{"$f":"IF('SD Data Paste'!B1632=\"\",\"\",'SD Data Paste'!B1632)","v":""},1631,{"$f":"IF('SD Data Paste'!E1632=\"\",\"\",'SD Data Paste'!E1632)","v":""},{"$f":"IF('SD Data Paste'!G1632=\"\",\"\",'SD Data Paste'!G1632)","v":""}]
[{"$f":"IF(Table1[विद्यार्थी का नाम]=\"\",\"\",ROWS($A$1:A1632))","v":""},{"$f":"IF('SD Data Paste'!A1633=\"\",\"\",'SD Data Paste'!A1633)","v":""},{"$f":"IF('SD Data Paste'!B1633=\"\",\"\",'SD Data Paste'!B1633)","v":""},1632,{"$f":"IF('SD Data Paste'!E1633=\"\",\"\",'SD Data Paste'!E1633)","v":""},{"$f":"IF('SD Data Paste'!G1633=\"\",\"\",'SD Data Paste'!G1633)","v":""}]
[{"$f":"IF(Table1[विद्यार्थी का नाम]=\"\",\"\",ROWS($A$1:A1633))","v":""},{"$f":"IF('SD Data Paste'!A1634=\"\",\"\",'SD Data Paste'!A1634)","v":""},{"$f":"IF('SD Data Paste'!B1634=\"\",\"\",'SD Data Paste'!B1634)","v":""},1633,{"$f":"IF('SD Data Paste'!E1634=\"\",\"\",'SD Data Paste'!E1634)","v":""},{"$f":"IF('SD Data Paste'!G1634=\"\",\"\",'SD Data Paste'!G1634)","v":""}]
[{"$f":"IF(Table1[विद्यार्थी का नाम]=\"\",\"\",ROWS($A$1:A1634))","v":""},{"$f":"IF('SD Data Paste'!A1635=\"\",\"\",'SD Data Paste'!A1635)","v":""},{"$f":"IF('SD Data Paste'!B1635=\"\",\"\",'SD Data Paste'!B1635)","v":""},1634,{"$f":"IF('SD Data Paste'!E1635=\"\",\"\",'SD Data Paste'!E1635)","v":""},{"$f":"IF('SD Data Paste'!G1635=\"\",\"\",'SD Data Paste'!G1635)","v":""}]
[{"$f":"IF(Table1[विद्यार्थी का नाम]=\"\",\"\",ROWS($A$1:A1635))","v":""},{"$f":"IF('SD Data Paste'!A1636=\"\",\"\",'SD Data Paste'!A1636)","v":""},{"$f":"IF('SD Data Paste'!B1636=\"\",\"\",'SD Data Paste'!B1636)","v":""},1635,{"$f":"IF('SD Data Paste'!E1636=\"\",\"\",'SD Data Paste'!E1636)","v":""},{"$f":"IF('SD Data Paste'!G1636=\"\",\"\",'SD Data Paste'!G1636)","v":""}]
[{"$f":"IF(Table1[विद्यार्थी का नाम]=\"\",\"\",ROWS($A$1:A1636))","v":""},{"$f":"IF('SD Data Paste'!A1637=\"\",\"\",'SD Data Paste'!A1637)","v":""},{"$f":"IF('SD Data Paste'!B1637=\"\",\"\",'SD Data Paste'!B1637)","v":""},1636,{"$f":"IF('SD Data Paste'!E1637=\"\",\"\",'SD Data Paste'!E1637)","v":""},{"$f":"IF('SD Data Paste'!G1637=\"\",\"\",'SD Data Paste'!G1637)","v":""}]
[{"$f":"IF(Table1[विद्यार्थी का नाम]=\"\",\"\",ROWS($A$1:A1637))","v":""},{"$f":"IF('SD Data Paste'!A1638=\"\",\"\",'SD Data Paste'!A1638)","v":""},{"$f":"IF('SD Data Paste'!B1638=\"\",\"\",'SD Data Paste'!B1638)","v":""},1637,{"$f":"IF('SD Data Paste'!E1638=\"\",\"\",'SD Data Paste'!E1638)","v":""},{"$f":"IF('SD Data Paste'!G1638=\"\",\"\",'SD Data Paste'!G1638)","v":""}]
[{"$f":"IF(Table1[विद्यार्थी का नाम]=\"\",\"\",ROWS($A$1:A1638))","v":""},{"$f":"IF('SD Data Paste'!A1639=\"\",\"\",'SD Data Paste'!A1639)","v":""},{"$f":"IF('SD Data Paste'!B1639=\"\",\"\",'SD Data Paste'!B1639)","v":""},1638,{"$f":"IF('SD Data Paste'!E1639=\"\",\"\",'SD Data Paste'!E1639)","v":""},{"$f":"IF('SD Data Paste'!G1639=\"\",\"\",'SD Data Paste'!G1639)","v":""}]
[{"$f":"IF(Table1[विद्यार्थी का नाम]=\"\",\"\",ROWS($A$1:A1639))","v":""},{"$f":"IF('SD Data Paste'!A1640=\"\",\"\",'SD Data Paste'!A1640)","v":""},{"$f":"IF('SD Data Paste'!B1640=\"\",\"\",'SD Data Paste'!B1640)","v":""},1639,{"$f":"IF('SD Data Paste'!E1640=\"\",\"\",'SD Data Paste'!E1640)","v":""},{"$f":"IF('SD Data Paste'!G1640=\"\",\"\",'SD Data Paste'!G1640)","v":""}]
[{"$f":"IF(Table1[विद्यार्थी का नाम]=\"\",\"\",ROWS($A$1:A1640))","v":""},{"$f":"IF('SD Data Paste'!A1641=\"\",\"\",'SD Data Paste'!A1641)","v":""},{"$f":"IF('SD Data Paste'!B1641=\"\",\"\",'SD Data Paste'!B1641)","v":""},1640,{"$f":"IF('SD Data Paste'!E1641=\"\",\"\",'SD Data Paste'!E1641)","v":""},{"$f":"IF('SD Data Paste'!G1641=\"\",\"\",'SD Data Paste'!G1641)","v":""}]
[{"$f":"IF(Table1[विद्यार्थी का नाम]=\"\",\"\",ROWS($A$1:A1641))","v":""},{"$f":"IF('SD Data Paste'!A1642=\"\",\"\",'SD Data Paste'!A1642)","v":""},{"$f":"IF('SD Data Paste'!B1642=\"\",\"\",'SD Data Paste'!B1642)","v":""},1641,{"$f":"IF('SD Data Paste'!E1642=\"\",\"\",'SD Data Paste'!E1642)","v":""},{"$f":"IF('SD Data Paste'!G1642=\"\",\"\",'SD Data Paste'!G1642)","v":""}]
[{"$f":"IF(Table1[विद्यार्थी का नाम]=\"\",\"\",ROWS($A$1:A1642))","v":""},{"$f":"IF('SD Data Paste'!A1643=\"\",\"\",'SD Data Paste'!A1643)","v":""},{"$f":"IF('SD Data Paste'!B1643=\"\",\"\",'SD Data Paste'!B1643)","v":""},1642,{"$f":"IF('SD Data Paste'!E1643=\"\",\"\",'SD Data Paste'!E1643)","v":""},{"$f":"IF('SD Data Paste'!G1643=\"\",\"\",'SD Data Paste'!G1643)","v":""}]
[{"$f":"IF(Table1[विद्यार्थी का नाम]=\"\",\"\",ROWS($A$1:A1643))","v":""},{"$f":"IF('SD Data Paste'!A1644=\"\",\"\",'SD Data Paste'!A1644)","v":""},{"$f":"IF('SD Data Paste'!B1644=\"\",\"\",'SD Data Paste'!B1644)","v":""},1643,{"$f":"IF('SD Data Paste'!E1644=\"\",\"\",'SD Data Paste'!E1644)","v":""},{"$f":"IF('SD Data Paste'!G1644=\"\",\"\",'SD Data Paste'!G1644)","v":""}]
[{"$f":"IF(Table1[विद्यार्थी का नाम]=\"\",\"\",ROWS($A$1:A1644))","v":""},{"$f":"IF('SD Data Paste'!A1645=\"\",\"\",'SD Data Paste'!A1645)","v":""},{"$f":"IF('SD Data Paste'!B1645=\"\",\"\",'SD Data Paste'!B1645)","v":""},1644,{"$f":"IF('SD Data Paste'!E1645=\"\",\"\",'SD Data Paste'!E1645)","v":""},{"$f":"IF('SD Data Paste'!G1645=\"\",\"\",'SD Data Paste'!G1645)","v":""}]
[{"$f":"IF(Table1[विद्यार्थी का नाम]=\"\",\"\",ROWS($A$1:A1645))","v":""},{"$f":"IF('SD Data Paste'!A1646=\"\",\"\",'SD Data Paste'!A1646)","v":""},{"$f":"IF('SD Data Paste'!B1646=\"\",\"\",'SD Data Paste'!B1646)","v":""},1645,{"$f":"IF('SD Data Paste'!E1646=\"\",\"\",'SD Data Paste'!E1646)","v":""},{"$f":"IF('SD Data Paste'!G1646=\"\",\"\",'SD Data Paste'!G1646)","v":""}]
[{"$f":"IF(Table1[विद्यार्थी का नाम]=\"\",\"\",ROWS($A$1:A1646))","v":""},{"$f":"IF('SD Data Paste'!A1647=\"\",\"\",'SD Data Paste'!A1647)","v":""},{"$f":"IF('SD Data Paste'!B1647=\"\",\"\",'SD Data Paste'!B1647)","v":""},1646,{"$f":"IF('SD Data Paste'!E1647=\"\",\"\",'SD Data Paste'!E1647)","v":""},{"$f":"IF('SD Data Paste'!G1647=\"\",\"\",'SD Data Paste'!G1647)","v":""}]
[{"$f":"IF(Table1[विद्यार्थी का नाम]=\"\",\"\",ROWS($A$1:A1647))","v":""},{"$f":"IF('SD Data Paste'!A1648=\"\",\"\",'SD Data Paste'!A1648)","v":""},{"$f":"IF('SD Data Paste'!B1648=\"\",\"\",'SD Data Paste'!B1648)","v":""},1647,{"$f":"IF('SD Data Paste'!E1648=\"\",\"\",'SD Data Paste'!E1648)","v":""},{"$f":"IF('SD Data Paste'!G1648=\"\",\"\",'SD Data Paste'!G1648)","v":""}]
[{"$f":"IF(Table1[विद्यार्थी का नाम]=\"\",\"\",ROWS($A$1:A1648))","v":""},{"$f":"IF('SD Data Paste'!A1649=\"\",\"\",'SD Data Paste'!A1649)","v":""},{"$f":"IF('SD Data Paste'!B1649=\"\",\"\",'SD Data Paste'!B1649)","v":""},1648,{"$f":"IF('SD Data Paste'!E1649=\"\",\"\",'SD Data Paste'!E1649)","v":""},{"$f":"IF('SD Data Paste'!G1649=\"\",\"\",'SD Data Paste'!G1649)","v":""}]
[{"$f":"IF(Table1[विद्यार्थी का नाम]=\"\",\"\",ROWS($A$1:A1649))","v":""},{"$f":"IF('SD Data Paste'!A1650=\"\",\"\",'SD Data Paste'!A1650)","v":""},{"$f":"IF('SD Data Paste'!B1650=\"\",\"\",'SD Data Paste'!B1650)","v":""},1649,{"$f":"IF('SD Data Paste'!E1650=\"\",\"\",'SD Data Paste'!E1650)","v":""},{"$f":"IF('SD Data Paste'!G1650=\"\",\"\",'SD Data Paste'!G1650)","v":""}]
[{"$f":"IF(Table1[विद्यार्थी का नाम]=\"\",\"\",ROWS($A$1:A1650))","v":""},{"$f":"IF('SD Data Paste'!A1651=\"\",\"\",'SD Data Paste'!A1651)","v":""},{"$f":"IF('SD Data Paste'!B1651=\"\",\"\",'SD Data Paste'!B1651)","v":""},1650,{"$f":"IF('SD Data Paste'!E1651=\"\",\"\",'SD Data Paste'!E1651)","v":""},{"$f":"IF('SD Data Paste'!G1651=\"\",\"\",'SD Data Paste'!G1651)","v":""}]
[{"$f":"IF(Table1[विद्यार्थी का नाम]=\"\",\"\",ROWS($A$1:A1651))","v":""},{"$f":"IF('SD Data Paste'!A1652=\"\",\"\",'SD Data Paste'!A1652)","v":""},{"$f":"IF('SD Data Paste'!B1652=\"\",\"\",'SD Data Paste'!B1652)","v":""},1651,{"$f":"IF('SD Data Paste'!E1652=\"\",\"\",'SD Data Paste'!E1652)","v":""},{"$f":"IF('SD Data Paste'!G1652=\"\",\"\",'SD Data Paste'!G1652)","v":""}]
[{"$f":"IF(Table1[विद्यार्थी का नाम]=\"\",\"\",ROWS($A$1:A1652))","v":""},{"$f":"IF('SD Data Paste'!A1653=\"\",\"\",'SD Data Paste'!A1653)","v":""},{"$f":"IF('SD Data Paste'!B1653=\"\",\"\",'SD Data Paste'!B1653)","v":""},1652,{"$f":"IF('SD Data Paste'!E1653=\"\",\"\",'SD Data Paste'!E1653)","v":""},{"$f":"IF('SD Data Paste'!G1653=\"\",\"\",'SD Data Paste'!G1653)","v":""}]
[{"$f":"IF(Table1[विद्यार्थी का नाम]=\"\",\"\",ROWS($A$1:A1653))","v":""},{"$f":"IF('SD Data Paste'!A1654=\"\",\"\",'SD Data Paste'!A1654)","v":""},{"$f":"IF('SD Data Paste'!B1654=\"\",\"\",'SD Data Paste'!B1654)","v":""},1653,{"$f":"IF('SD Data Paste'!E1654=\"\",\"\",'SD Data Paste'!E1654)","v":""},{"$f":"IF('SD Data Paste'!G1654=\"\",\"\",'SD Data Paste'!G1654)","v":""}]
[{"$f":"IF(Table1[विद्यार्थी का नाम]=\"\",\"\",ROWS($A$1:A1654))","v":""},{"$f":"IF('SD Data Paste'!A1655=\"\",\"\",'SD Data Paste'!A1655)","v":""},{"$f":"IF('SD Data Paste'!B1655=\"\",\"\",'SD Data Paste'!B1655)","v":""},1654,{"$f":"IF('SD Data Paste'!E1655=\"\",\"\",'SD Data Paste'!E1655)","v":""},{"$f":"IF('SD Data Paste'!G1655=\"\",\"\",'SD Data Paste'!G1655)","v":""}]
[{"$f":"IF(Table1[विद्यार्थी का नाम]=\"\",\"\",ROWS($A$1:A1655))","v":""},{"$f":"IF('SD Data Paste'!A1656=\"\",\"\",'SD Data Paste'!A1656)","v":""},{"$f":"IF('SD Data Paste'!B1656=\"\",\"\",'SD Data Paste'!B1656)","v":""},1655,{"$f":"IF('SD Data Paste'!E1656=\"\",\"\",'SD Data Paste'!E1656)","v":""},{"$f":"IF('SD Data Paste'!G1656=\"\",\"\",'SD Data Paste'!G1656)","v":""}]
[{"$f":"IF(Table1[विद्यार्थी का नाम]=\"\",\"\",ROWS($A$1:A1656))","v":""},{"$f":"IF('SD Data Paste'!A1657=\"\",\"\",'SD Data Paste'!A1657)","v":""},{"$f":"IF('SD Data Paste'!B1657=\"\",\"\",'SD Data Paste'!B1657)","v":""},1656,{"$f":"IF('SD Data Paste'!E1657=\"\",\"\",'SD Data Paste'!E1657)","v":""},{"$f":"IF('SD Data Paste'!G1657=\"\",\"\",'SD Data Paste'!G1657)","v":""}]
[{"$f":"IF(Table1[विद्यार्थी का नाम]=\"\",\"\",ROWS($A$1:A1657))","v":""},{"$f":"IF('SD Data Paste'!A1658=\"\",\"\",'SD Data Paste'!A1658)","v":""},{"$f":"IF('SD Data Paste'!B1658=\"\",\"\",'SD Data Paste'!B1658)","v":""},1657,{"$f":"IF('SD Data Paste'!E1658=\"\",\"\",'SD Data Paste'!E1658)","v":""},{"$f":"IF('SD Data Paste'!G1658=\"\",\"\",'SD Data Paste'!G1658)","v":""}]
[{"$f":"IF(Table1[विद्यार्थी का नाम]=\"\",\"\",ROWS($A$1:A1658))","v":""},{"$f":"IF('SD Data Paste'!A1659=\"\",\"\",'SD Data Paste'!A1659)","v":""},{"$f":"IF('SD Data Paste'!B1659=\"\",\"\",'SD Data Paste'!B1659)","v":""},1658,{"$f":"IF('SD Data Paste'!E1659=\"\",\"\",'SD Data Paste'!E1659)","v":""},{"$f":"IF('SD Data Paste'!G1659=\"\",\"\",'SD Data Paste'!G1659)","v":""}]
[{"$f":"IF(Table1[विद्यार्थी का नाम]=\"\",\"\",ROWS($A$1:A1659))","v":""},{"$f":"IF('SD Data Paste'!A1660=\"\",\"\",'SD Data Paste'!A1660)","v":""},{"$f":"IF('SD Data Paste'!B1660=\"\",\"\",'SD Data Paste'!B1660)","v":""},1659,{"$f":"IF('SD Data Paste'!E1660=\"\",\"\",'SD Data Paste'!E1660)","v":""},{"$f":"IF('SD Data Paste'!G1660=\"\",\"\",'SD Data Paste'!G1660)","v":""}]
[{"$f":"IF(Table1[विद्यार्थी का नाम]=\"\",\"\",ROWS($A$1:A1660))","v":""},{"$f":"IF('SD Data Paste'!A1661=\"\",\"\",'SD Data Paste'!A1661)","v":""},{"$f":"IF('SD Data Paste'!B1661=\"\",\"\",'SD Data Paste'!B1661)","v":""},1660,{"$f":"IF('SD Data Paste'!E1661=\"\",\"\",'SD Data Paste'!E1661)","v":""},{"$f":"IF('SD Data Paste'!G1661=\"\",\"\",'SD Data Paste'!G1661)","v":""}]
[{"$f":"IF(Table1[विद्यार्थी का नाम]=\"\",\"\",ROWS($A$1:A1661))","v":""},{"$f":"IF('SD Data Paste'!A1662=\"\",\"\",'SD Data Paste'!A1662)","v":""},{"$f":"IF('SD Data Paste'!B1662=\"\",\"\",'SD Data Paste'!B1662)","v":""},1661,{"$f":"IF('SD Data Paste'!E1662=\"\",\"\",'SD Data Paste'!E1662)","v":""},{"$f":"IF('SD Data Paste'!G1662=\"\",\"\",'SD Data Paste'!G1662)","v":""}]
[{"$f":"IF(Table1[विद्यार्थी का नाम]=\"\",\"\",ROWS($A$1:A1662))","v":""},{"$f":"IF('SD Data Paste'!A1663=\"\",\"\",'SD Data Paste'!A1663)","v":""},{"$f":"IF('SD Data Paste'!B1663=\"\",\"\",'SD Data Paste'!B1663)","v":""},1662,{"$f":"IF('SD Data Paste'!E1663=\"\",\"\",'SD Data Paste'!E1663)","v":""},{"$f":"IF('SD Data Paste'!G1663=\"\",\"\",'SD Data Paste'!G1663)","v":""}]
[{"$f":"IF(Table1[विद्यार्थी का नाम]=\"\",\"\",ROWS($A$1:A1663))","v":""},{"$f":"IF('SD Data Paste'!A1664=\"\",\"\",'SD Data Paste'!A1664)","v":""},{"$f":"IF('SD Data Paste'!B1664=\"\",\"\",'SD Data Paste'!B1664)","v":""},1663,{"$f":"IF('SD Data Paste'!E1664=\"\",\"\",'SD Data Paste'!E1664)","v":""},{"$f":"IF('SD Data Paste'!G1664=\"\",\"\",'SD Data Paste'!G1664)","v":""}]
[{"$f":"IF(Table1[विद्यार्थी का नाम]=\"\",\"\",ROWS($A$1:A1664))","v":""},{"$f":"IF('SD Data Paste'!A1665=\"\",\"\",'SD Data Paste'!A1665)","v":""},{"$f":"IF('SD Data Paste'!B1665=\"\",\"\",'SD Data Paste'!B1665)","v":""},1664,{"$f":"IF('SD Data Paste'!E1665=\"\",\"\",'SD Data Paste'!E1665)","v":""},{"$f":"IF('SD Data Paste'!G1665=\"\",\"\",'SD Data Paste'!G1665)","v":""}]
[{"$f":"IF(Table1[विद्यार्थी का नाम]=\"\",\"\",ROWS($A$1:A1665))","v":""},{"$f":"IF('SD Data Paste'!A1666=\"\",\"\",'SD Data Paste'!A1666)","v":""},{"$f":"IF('SD Data Paste'!B1666=\"\",\"\",'SD Data Paste'!B1666)","v":""},1665,{"$f":"IF('SD Data Paste'!E1666=\"\",\"\",'SD Data Paste'!E1666)","v":""},{"$f":"IF('SD Data Paste'!G1666=\"\",\"\",'SD Data Paste'!G1666)","v":""}]
[{"$f":"IF(Table1[विद्यार्थी का नाम]=\"\",\"\",ROWS($A$1:A1666))","v":""},{"$f":"IF('SD Data Paste'!A1667=\"\",\"\",'SD Data Paste'!A1667)","v":""},{"$f":"IF('SD Data Paste'!B1667=\"\",\"\",'SD Data Paste'!B1667)","v":""},1666,{"$f":"IF('SD Data Paste'!E1667=\"\",\"\",'SD Data Paste'!E1667)","v":""},{"$f":"IF('SD Data Paste'!G1667=\"\",\"\",'SD Data Paste'!G1667)","v":""}]
[{"$f":"IF(Table1[विद्यार्थी का नाम]=\"\",\"\",ROWS($A$1:A1667))","v":""},{"$f":"IF('SD Data Paste'!A1668=\"\",\"\",'SD Data Paste'!A1668)","v":""},{"$f":"IF('SD Data Paste'!B1668=\"\",\"\",'SD Data Paste'!B1668)","v":""},{"$f":"IF(D1669=\"\",\"\",D1669+1)","v":1667},{"$f":"IF('SD Data Paste'!E1668=\"\",\"\",'SD Data Paste'!E1668)","v":""},{"$f":"IF('SD Data Paste'!G1668=\"\",\"\",'SD Data Paste'!G1668)","v":""}]
[{"$f":"IF(Table1[विद्यार्थी का नाम]=\"\",\"\",ROWS($A$1:A1668))","v":""},{"$f":"IF('SD Data Paste'!A1669=\"\",\"\",'SD Data Paste'!A1669)","v":""},{"$f":"IF('SD Data Paste'!B1669=\"\",\"\",'SD Data Paste'!B1669)","v":""},1668,{"$f":"IF('SD Data Paste'!E1669=\"\",\"\",'SD Data Paste'!E1669)","v":""},{"$f":"IF('SD Data Paste'!G1669=\"\",\"\",'SD Data Paste'!G1669)","v":""}]
[{"$f":"IF(Table1[विद्यार्थी का नाम]=\"\",\"\",ROWS($A$1:A1669))","v":""},{"$f":"IF('SD Data Paste'!A1670=\"\",\"\",'SD Data Paste'!A1670)","v":""},{"$f":"IF('SD Data Paste'!B1670=\"\",\"\",'SD Data Paste'!B1670)","v":""},1669,{"$f":"IF('SD Data Paste'!E1670=\"\",\"\",'SD Data Paste'!E1670)","v":""},{"$f":"IF('SD Data Paste'!G1670=\"\",\"\",'SD Data Paste'!G1670)","v":""}]
[{"$f":"IF(Table1[विद्यार्थी का नाम]=\"\",\"\",ROWS($A$1:A1670))","v":""},{"$f":"IF('SD Data Paste'!A1671=\"\",\"\",'SD Data Paste'!A1671)","v":""},{"$f":"IF('SD Data Paste'!B1671=\"\",\"\",'SD Data Paste'!B1671)","v":""},1670,{"$f":"IF('SD Data Paste'!E1671=\"\",\"\",'SD Data Paste'!E1671)","v":""},{"$f":"IF('SD Data Paste'!G1671=\"\",\"\",'SD Data Paste'!G1671)","v":""}]
[{"$f":"IF(Table1[विद्यार्थी का नाम]=\"\",\"\",ROWS($A$1:A1671))","v":""},{"$f":"IF('SD Data Paste'!A1672=\"\",\"\",'SD Data Paste'!A1672)","v":""},{"$f":"IF('SD Data Paste'!B1672=\"\",\"\",'SD Data Paste'!B1672)","v":""},1671,{"$f":"IF('SD Data Paste'!E1672=\"\",\"\",'SD Data Paste'!E1672)","v":""},{"$f":"IF('SD Data Paste'!G1672=\"\",\"\",'SD Data Paste'!G1672)","v":""}]
[{"$f":"IF(Table1[विद्यार्थी का नाम]=\"\",\"\",ROWS($A$1:A1672))","v":""},{"$f":"IF('SD Data Paste'!A1673=\"\",\"\",'SD Data Paste'!A1673)","v":""},{"$f":"IF('SD Data Paste'!B1673=\"\",\"\",'SD Data Paste'!B1673)","v":""},1672,{"$f":"IF('SD Data Paste'!E1673=\"\",\"\",'SD Data Paste'!E1673)","v":""},{"$f":"IF('SD Data Paste'!G1673=\"\",\"\",'SD Data Paste'!G1673)","v":""}]
[{"$f":"IF(Table1[विद्यार्थी का नाम]=\"\",\"\",ROWS($A$1:A1673))","v":""},{"$f":"IF('SD Data Paste'!A1674=\"\",\"\",'SD Data Paste'!A1674)","v":""},{"$f":"IF('SD Data Paste'!B1674=\"\",\"\",'SD Data Paste'!B1674)","v":""},1673,{"$f":"IF('SD Data Paste'!E1674=\"\",\"\",'SD Data Paste'!E1674)","v":""},{"$f":"IF('SD Data Paste'!G1674=\"\",\"\",'SD Data Paste'!G1674)","v":""}]
[{"$f":"IF(Table1[विद्यार्थी का नाम]=\"\",\"\",ROWS($A$1:A1674))","v":""},{"$f":"IF('SD Data Paste'!A1675=\"\",\"\",'SD Data Paste'!A1675)","v":""},{"$f":"IF('SD Data Paste'!B1675=\"\",\"\",'SD Data Paste'!B1675)","v":""},1674,{"$f":"IF('SD Data Paste'!E1675=\"\",\"\",'SD Data Paste'!E1675)","v":""},{"$f":"IF('SD Data Paste'!G1675=\"\",\"\",'SD Data Paste'!G1675)","v":""}]
[{"$f":"IF(Table1[विद्यार्थी का नाम]=\"\",\"\",ROWS($A$1:A1675))","v":""},{"$f":"IF('SD Data Paste'!A1676=\"\",\"\",'SD Data Paste'!A1676)","v":""},{"$f":"IF('SD Data Paste'!B1676=\"\",\"\",'SD Data Paste'!B1676)","v":""},1675,{"$f":"IF('SD Data Paste'!E1676=\"\",\"\",'SD Data Paste'!E1676)","v":""},{"$f":"IF('SD Data Paste'!G1676=\"\",\"\",'SD Data Paste'!G1676)","v":""}]
[{"$f":"IF(Table1[विद्यार्थी का नाम]=\"\",\"\",ROWS($A$1:A1676))","v":""},{"$f":"IF('SD Data Paste'!A1677=\"\",\"\",'SD Data Paste'!A1677)","v":""},{"$f":"IF('SD Data Paste'!B1677=\"\",\"\",'SD Data Paste'!B1677)","v":""},1676,{"$f":"IF('SD Data Paste'!E1677=\"\",\"\",'SD Data Paste'!E1677)","v":""},{"$f":"IF('SD Data Paste'!G1677=\"\",\"\",'SD Data Paste'!G1677)","v":""}]
[{"$f":"IF(Table1[विद्यार्थी का नाम]=\"\",\"\",ROWS($A$1:A1677))","v":""},{"$f":"IF('SD Data Paste'!A1678=\"\",\"\",'SD Data Paste'!A1678)","v":""},{"$f":"IF('SD Data Paste'!B1678=\"\",\"\",'SD Data Paste'!B1678)","v":""},1677,{"$f":"IF('SD Data Paste'!E1678=\"\",\"\",'SD Data Paste'!E1678)","v":""},{"$f":"IF('SD Data Paste'!G1678=\"\",\"\",'SD Data Paste'!G1678)","v":""}]
[{"$f":"IF(Table1[विद्यार्थी का नाम]=\"\",\"\",ROWS($A$1:A1678))","v":""},{"$f":"IF('SD Data Paste'!A1679=\"\",\"\",'SD Data Paste'!A1679)","v":""},{"$f":"IF('SD Data Paste'!B1679=\"\",\"\",'SD Data Paste'!B1679)","v":""},1678,{"$f":"IF('SD Data Paste'!E1679=\"\",\"\",'SD Data Paste'!E1679)","v":""},{"$f":"IF('SD Data Paste'!G1679=\"\",\"\",'SD Data Paste'!G1679)","v":""}]
[{"$f":"IF(Table1[विद्यार्थी का नाम]=\"\",\"\",ROWS($A$1:A1679))","v":""},{"$f":"IF('SD Data Paste'!A1680=\"\",\"\",'SD Data Paste'!A1680)","v":""},{"$f":"IF('SD Data Paste'!B1680=\"\",\"\",'SD Data Paste'!B1680)","v":""},1679,{"$f":"IF('SD Data Paste'!E1680=\"\",\"\",'SD Data Paste'!E1680)","v":""},{"$f":"IF('SD Data Paste'!G1680=\"\",\"\",'SD Data Paste'!G1680)","v":""}]
[{"$f":"IF(Table1[विद्यार्थी का नाम]=\"\",\"\",ROWS($A$1:A1680))","v":""},{"$f":"IF('SD Data Paste'!A1681=\"\",\"\",'SD Data Paste'!A1681)","v":""},{"$f":"IF('SD Data Paste'!B1681=\"\",\"\",'SD Data Paste'!B1681)","v":""},1680,{"$f":"IF('SD Data Paste'!E1681=\"\",\"\",'SD Data Paste'!E1681)","v":""},{"$f":"IF('SD Data Paste'!G1681=\"\",\"\",'SD Data Paste'!G1681)","v":""}]
[{"$f":"IF(Table1[विद्यार्थी का नाम]=\"\",\"\",ROWS($A$1:A1681))","v":""},{"$f":"IF('SD Data Paste'!A1682=\"\",\"\",'SD Data Paste'!A1682)","v":""},{"$f":"IF('SD Data Paste'!B1682=\"\",\"\",'SD Data Paste'!B1682)","v":""},1681,{"$f":"IF('SD Data Paste'!E1682=\"\",\"\",'SD Data Paste'!E1682)","v":""},{"$f":"IF('SD Data Paste'!G1682=\"\",\"\",'SD Data Paste'!G1682)","v":""}]
[{"$f":"IF(Table1[विद्यार्थी का नाम]=\"\",\"\",ROWS($A$1:A1682))","v":""},{"$f":"IF('SD Data Paste'!A1683=\"\",\"\",'SD Data Paste'!A1683)","v":""},{"$f":"IF('SD Data Paste'!B1683=\"\",\"\",'SD Data Paste'!B1683)","v":""},1682,{"$f":"IF('SD Data Paste'!E1683=\"\",\"\",'SD Data Paste'!E1683)","v":""},{"$f":"IF('SD Data Paste'!G1683=\"\",\"\",'SD Data Paste'!G1683)","v":""}]
[{"$f":"IF(Table1[विद्यार्थी का नाम]=\"\",\"\",ROWS($A$1:A1683))","v":""},{"$f":"IF('SD Data Paste'!A1684=\"\",\"\",'SD Data Paste'!A1684)","v":""},{"$f":"IF('SD Data Paste'!B1684=\"\",\"\",'SD Data Paste'!B1684)","v":""},1683,{"$f":"IF('SD Data Paste'!E1684=\"\",\"\",'SD Data Paste'!E1684)","v":""},{"$f":"IF('SD Data Paste'!G1684=\"\",\"\",'SD Data Paste'!G1684)","v":""}]
[{"$f":"IF(Table1[विद्यार्थी का नाम]=\"\",\"\",ROWS($A$1:A1684))","v":""},{"$f":"IF('SD Data Paste'!A1685=\"\",\"\",'SD Data Paste'!A1685)","v":""},{"$f":"IF('SD Data Paste'!B1685=\"\",\"\",'SD Data Paste'!B1685)","v":""},1684,{"$f":"IF('SD Data Paste'!E1685=\"\",\"\",'SD Data Paste'!E1685)","v":""},{"$f":"IF('SD Data Paste'!G1685=\"\",\"\",'SD Data Paste'!G1685)","v":""}]
[{"$f":"IF(Table1[विद्यार्थी का नाम]=\"\",\"\",ROWS($A$1:A1685))","v":""},{"$f":"IF('SD Data Paste'!A1686=\"\",\"\",'SD Data Paste'!A1686)","v":""},{"$f":"IF('SD Data Paste'!B1686=\"\",\"\",'SD Data Paste'!B1686)","v":""},1685,{"$f":"IF('SD Data Paste'!E1686=\"\",\"\",'SD Data Paste'!E1686)","v":""},{"$f":"IF('SD Data Paste'!G1686=\"\",\"\",'SD Data Paste'!G1686)","v":""}]
[{"$f":"IF(Table1[विद्यार्थी का नाम]=\"\",\"\",ROWS($A$1:A1686))","v":""},{"$f":"IF('SD Data Paste'!A1687=\"\",\"\",'SD Data Paste'!A1687)","v":""},{"$f":"IF('SD Data Paste'!B1687=\"\",\"\",'SD Data Paste'!B1687)","v":""},1686,{"$f":"IF('SD Data Paste'!E1687=\"\",\"\",'SD Data Paste'!E1687)","v":""},{"$f":"IF('SD Data Paste'!G1687=\"\",\"\",'SD Data Paste'!G1687)","v":""}]
[{"$f":"IF(Table1[विद्यार्थी का नाम]=\"\",\"\",ROWS($A$1:A1687))","v":""},{"$f":"IF('SD Data Paste'!A1688=\"\",\"\",'SD Data Paste'!A1688)","v":""},{"$f":"IF('SD Data Paste'!B1688=\"\",\"\",'SD Data Paste'!B1688)","v":""},1687,{"$f":"IF('SD Data Paste'!E1688=\"\",\"\",'SD Data Paste'!E1688)","v":""},{"$f":"IF('SD Data Paste'!G1688=\"\",\"\",'SD Data Paste'!G1688)","v":""}]
[{"$f":"IF(Table1[विद्यार्थी का नाम]=\"\",\"\",ROWS($A$1:A1688))","v":""},{"$f":"IF('SD Data Paste'!A1689=\"\",\"\",'SD Data Paste'!A1689)","v":""},{"$f":"IF('SD Data Paste'!B1689=\"\",\"\",'SD Data Paste'!B1689)","v":""},1688,{"$f":"IF('SD Data Paste'!E1689=\"\",\"\",'SD Data Paste'!E1689)","v":""},{"$f":"IF('SD Data Paste'!G1689=\"\",\"\",'SD Data Paste'!G1689)","v":""}]
[{"$f":"IF(Table1[विद्यार्थी का नाम]=\"\",\"\",ROWS($A$1:A1689))","v":""},{"$f":"IF('SD Data Paste'!A1690=\"\",\"\",'SD Data Paste'!A1690)","v":""},{"$f":"IF('SD Data Paste'!B1690=\"\",\"\",'SD Data Paste'!B1690)","v":""},1689,{"$f":"IF('SD Data Paste'!E1690=\"\",\"\",'SD Data Paste'!E1690)","v":""},{"$f":"IF('SD Data Paste'!G1690=\"\",\"\",'SD Data Paste'!G1690)","v":""}]
[{"$f":"IF(Table1[विद्यार्थी का नाम]=\"\",\"\",ROWS($A$1:A1690))","v":""},{"$f":"IF('SD Data Paste'!A1691=\"\",\"\",'SD Data Paste'!A1691)","v":""},{"$f":"IF('SD Data Paste'!B1691=\"\",\"\",'SD Data Paste'!B1691)","v":""},1690,{"$f":"IF('SD Data Paste'!E1691=\"\",\"\",'SD Data Paste'!E1691)","v":""},{"$f":"IF('SD Data Paste'!G1691=\"\",\"\",'SD Data Paste'!G1691)","v":""}]
[{"$f":"IF(Table1[विद्यार्थी का नाम]=\"\",\"\",ROWS($A$1:A1691))","v":""},{"$f":"IF('SD Data Paste'!A1692=\"\",\"\",'SD Data Paste'!A1692)","v":""},{"$f":"IF('SD Data Paste'!B1692=\"\",\"\",'SD Data Paste'!B1692)","v":""},1691,{"$f":"IF('SD Data Paste'!E1692=\"\",\"\",'SD Data Paste'!E1692)","v":""},{"$f":"IF('SD Data Paste'!G1692=\"\",\"\",'SD Data Paste'!G1692)","v":""}]
[{"$f":"IF(Table1[विद्यार्थी का नाम]=\"\",\"\",ROWS($A$1:A1692))","v":""},{"$f":"IF('SD Data Paste'!A1693=\"\",\"\",'SD Data Paste'!A1693)","v":""},{"$f":"IF('SD Data Paste'!B1693=\"\",\"\",'SD Data Paste'!B1693)","v":""},1692,{"$f":"IF('SD Data Paste'!E1693=\"\",\"\",'SD Data Paste'!E1693)","v":""},{"$f":"IF('SD Data Paste'!G1693=\"\",\"\",'SD Data Paste'!G1693)","v":""}]
[{"$f":"IF(Table1[विद्यार्थी का नाम]=\"\",\"\",ROWS($A$1:A1693))","v":""},{"$f":"IF('SD Data Paste'!A1694=\"\",\"\",'SD Data Paste'!A1694)","v":""},{"$f":"IF('SD Data Paste'!B1694=\"\",\"\",'SD Data Paste'!B1694)","v":""},1693,{"$f":"IF('SD Data Paste'!E1694=\"\",\"\",'SD Data Paste'!E1694)","v":""},{"$f":"IF('SD Data Paste'!G1694=\"\",\"\",'SD Data Paste'!G1694)","v":""}]
[{"$f":"IF(Table1[विद्यार्थी का नाम]=\"\",\"\",ROWS($A$1:A1694))","v":""},{"$f":"IF('SD Data Paste'!A1695=\"\",\"\",'SD Data Paste'!A1695)","v":""},{"$f":"IF('SD Data Paste'!B1695=\"\",\"\",'SD Data Paste'!B1695)","v":""},1694,{"$f":"IF('SD Data Paste'!E1695=\"\",\"\",'SD Data Paste'!E1695)","v":""},{"$f":"IF('SD Data Paste'!G1695=\"\",\"\",'SD Data Paste'!G1695)","v":""}]
[{"$f":"IF(Table1[विद्यार्थी का नाम]=\"\",\"\",ROWS($A$1:A1695))","v":""},{"$f":"IF('SD Data Paste'!A1696=\"\",\"\",'SD Data Paste'!A1696)","v":""},{"$f":"IF('SD Data Paste'!B1696=\"\",\"\",'SD Data Paste'!B1696)","v":""},1695,{"$f":"IF('SD Data Paste'!E1696=\"\",\"\",'SD Data Paste'!E1696)","v":""},{"$f":"IF('SD Data Paste'!G1696=\"\",\"\",'SD Data Paste'!G1696)","v":""}]
[{"$f":"IF(Table1[विद्यार्थी का नाम]=\"\",\"\",ROWS($A$1:A1696))","v":""},{"$f":"IF('SD Data Paste'!A1697=\"\",\"\",'SD Data Paste'!A1697)","v":""},{"$f":"IF('SD Data Paste'!B1697=\"\",\"\",'SD Data Paste'!B1697)","v":""},1696,{"$f":"IF('SD Data Paste'!E1697=\"\",\"\",'SD Data Paste'!E1697)","v":""},{"$f":"IF('SD Data Paste'!G1697=\"\",\"\",'SD Data Paste'!G1697)","v":""}]
[{"$f":"IF(Table1[विद्यार्थी का नाम]=\"\",\"\",ROWS($A$1:A1697))","v":""},{"$f":"IF('SD Data Paste'!A1698=\"\",\"\",'SD Data Paste'!A1698)","v":""},{"$f":"IF('SD Data Paste'!B1698=\"\",\"\",'SD Data Paste'!B1698)","v":""},1697,{"$f":"IF('SD Data Paste'!E1698=\"\",\"\",'SD Data Paste'!E1698)","v":""},{"$f":"IF('SD Data Paste'!G1698=\"\",\"\",'SD Data Paste'!G1698)","v":""}]
[{"$f":"IF(Table1[विद्यार्थी का नाम]=\"\",\"\",ROWS($A$1:A1698))","v":""},{"$f":"IF('SD Data Paste'!A1699=\"\",\"\",'SD Data Paste'!A1699)","v":""},{"$f":"IF('SD Data Paste'!B1699=\"\",\"\",'SD Data Paste'!B1699)","v":""},1698,{"$f":"IF('SD Data Paste'!E1699=\"\",\"\",'SD Data Paste'!E1699)","v":""},{"$f":"IF('SD Data Paste'!G1699=\"\",\"\",'SD Data Paste'!G1699)","v":""}]
[{"$f":"IF(Table1[विद्यार्थी का नाम]=\"\",\"\",ROWS($A$1:A1699))","v":""},{"$f":"IF('SD Data Paste'!A1700=\"\",\"\",'SD Data Paste'!A1700)","v":""},{"$f":"IF('SD Data Paste'!B1700=\"\",\"\",'SD Data Paste'!B1700)","v":""},1699,{"$f":"IF('SD Data Paste'!E1700=\"\",\"\",'SD Data Paste'!E1700)","v":""},{"$f":"IF('SD Data Paste'!G1700=\"\",\"\",'SD Data Paste'!G1700)","v":""}]
[{"$f":"IF(Table1[विद्यार्थी का नाम]=\"\",\"\",ROWS($A$1:A1700))","v":""},{"$f":"IF('SD Data Paste'!A1701=\"\",\"\",'SD Data Paste'!A1701)","v":""},{"$f":"IF('SD Data Paste'!B1701=\"\",\"\",'SD Data Paste'!B1701)","v":""},1700,{"$f":"IF('SD Data Paste'!E1701=\"\",\"\",'SD Data Paste'!E1701)","v":""},{"$f":"IF('SD Data Paste'!G1701=\"\",\"\",'SD Data Paste'!G1701)","v":""}]
[{"$f":"IF(Table1[विद्यार्थी का नाम]=\"\",\"\",ROWS($A$1:A1701))","v":""},{"$f":"IF('SD Data Paste'!A1702=\"\",\"\",'SD Data Paste'!A1702)","v":""},{"$f":"IF('SD Data Paste'!B1702=\"\",\"\",'SD Data Paste'!B1702)","v":""},1701,{"$f":"IF('SD Data Paste'!E1702=\"\",\"\",'SD Data Paste'!E1702)","v":""},{"$f":"IF('SD Data Paste'!G1702=\"\",\"\",'SD Data Paste'!G1702)","v":""}]
[{"$f":"IF(Table1[विद्यार्थी का नाम]=\"\",\"\",ROWS($A$1:A1702))","v":""},{"$f":"IF('SD Data Paste'!A1703=\"\",\"\",'SD Data Paste'!A1703)","v":""},{"$f":"IF('SD Data Paste'!B1703=\"\",\"\",'SD Data Paste'!B1703)","v":""},1702,{"$f":"IF('SD Data Paste'!E1703=\"\",\"\",'SD Data Paste'!E1703)","v":""},{"$f":"IF('SD Data Paste'!G1703=\"\",\"\",'SD Data Paste'!G1703)","v":""}]
[{"$f":"IF(Table1[विद्यार्थी का नाम]=\"\",\"\",ROWS($A$1:A1703))","v":""},{"$f":"IF('SD Data Paste'!A1704=\"\",\"\",'SD Data Paste'!A1704)","v":""},{"$f":"IF('SD Data Paste'!B1704=\"\",\"\",'SD Data Paste'!B1704)","v":""},1703,{"$f":"IF('SD Data Paste'!E1704=\"\",\"\",'SD Data Paste'!E1704)","v":""},{"$f":"IF('SD Data Paste'!G1704=\"\",\"\",'SD Data Paste'!G1704)","v":""}]
[{"$f":"IF(Table1[विद्यार्थी का नाम]=\"\",\"\",ROWS($A$1:A1704))","v":""},{"$f":"IF('SD Data Paste'!A1705=\"\",\"\",'SD Data Paste'!A1705)","v":""},{"$f":"IF('SD Data Paste'!B1705=\"\",\"\",'SD Data Paste'!B1705)","v":""},1704,{"$f":"IF('SD Data Paste'!E1705=\"\",\"\",'SD Data Paste'!E1705)","v":""},{"$f":"IF('SD Data Paste'!G1705=\"\",\"\",'SD Data Paste'!G1705)","v":""}]
[{"$f":"IF(Table1[विद्यार्थी का नाम]=\"\",\"\",ROWS($A$1:A1705))","v":""},{"$f":"IF('SD Data Paste'!A1706=\"\",\"\",'SD Data Paste'!A1706)","v":""},{"$f":"IF('SD Data Paste'!B1706=\"\",\"\",'SD Data Paste'!B1706)","v":""},1705,{"$f":"IF('SD Data Paste'!E1706=\"\",\"\",'SD Data Paste'!E1706)","v":""},{"$f":"IF('SD Data Paste'!G1706=\"\",\"\",'SD Data Paste'!G1706)","v":""}]
[{"$f":"IF(Table1[विद्यार्थी का नाम]=\"\",\"\",ROWS($A$1:A1706))","v":""},{"$f":"IF('SD Data Paste'!A1707=\"\",\"\",'SD Data Paste'!A1707)","v":""},{"$f":"IF('SD Data Paste'!B1707=\"\",\"\",'SD Data Paste'!B1707)","v":""},1706,{"$f":"IF('SD Data Paste'!E1707=\"\",\"\",'SD Data Paste'!E1707)","v":""},{"$f":"IF('SD Data Paste'!G1707=\"\",\"\",'SD Data Paste'!G1707)","v":""}]
[{"$f":"IF(Table1[विद्यार्थी का नाम]=\"\",\"\",ROWS($A$1:A1707))","v":""},{"$f":"IF('SD Data Paste'!A1708=\"\",\"\",'SD Data Paste'!A1708)","v":""},{"$f":"IF('SD Data Paste'!B1708=\"\",\"\",'SD Data Paste'!B1708)","v":""},1707,{"$f":"IF('SD Data Paste'!E1708=\"\",\"\",'SD Data Paste'!E1708)","v":""},{"$f":"IF('SD Data Paste'!G1708=\"\",\"\",'SD Data Paste'!G1708)","v":""}]
[{"$f":"IF(Table1[विद्यार्थी का नाम]=\"\",\"\",ROWS($A$1:A1708))","v":""},{"$f":"IF('SD Data Paste'!A1709=\"\",\"\",'SD Data Paste'!A1709)","v":""},{"$f":"IF('SD Data Paste'!B1709=\"\",\"\",'SD Data Paste'!B1709)","v":""},1708,{"$f":"IF('SD Data Paste'!E1709=\"\",\"\",'SD Data Paste'!E1709)","v":""},{"$f":"IF('SD Data Paste'!G1709=\"\",\"\",'SD Data Paste'!G1709)","v":""}]
[{"$f":"IF(Table1[विद्यार्थी का नाम]=\"\",\"\",ROWS($A$1:A1709))","v":""},{"$f":"IF('SD Data Paste'!A1710=\"\",\"\",'SD Data Paste'!A1710)","v":""},{"$f":"IF('SD Data Paste'!B1710=\"\",\"\",'SD Data Paste'!B1710)","v":""},1709,{"$f":"IF('SD Data Paste'!E1710=\"\",\"\",'SD Data Paste'!E1710)","v":""},{"$f":"IF('SD Data Paste'!G1710=\"\",\"\",'SD Data Paste'!G1710)","v":""}]
[{"$f":"IF(Table1[विद्यार्थी का नाम]=\"\",\"\",ROWS($A$1:A1710))","v":""},{"$f":"IF('SD Data Paste'!A1711=\"\",\"\",'SD Data Paste'!A1711)","v":""},{"$f":"IF('SD Data Paste'!B1711=\"\",\"\",'SD Data Paste'!B1711)","v":""},1710,{"$f":"IF('SD Data Paste'!E1711=\"\",\"\",'SD Data Paste'!E1711)","v":""},{"$f":"IF('SD Data Paste'!G1711=\"\",\"\",'SD Data Paste'!G1711)","v":""}]
[{"$f":"IF(Table1[विद्यार्थी का नाम]=\"\",\"\",ROWS($A$1:A1711))","v":""},{"$f":"IF('SD Data Paste'!A1712=\"\",\"\",'SD Data Paste'!A1712)","v":""},{"$f":"IF('SD Data Paste'!B1712=\"\",\"\",'SD Data Paste'!B1712)","v":""},1711,{"$f":"IF('SD Data Paste'!E1712=\"\",\"\",'SD Data Paste'!E1712)","v":""},{"$f":"IF('SD Data Paste'!G1712=\"\",\"\",'SD Data Paste'!G1712)","v":""}]
[{"$f":"IF(Table1[विद्यार्थी का नाम]=\"\",\"\",ROWS($A$1:A1712))","v":""},{"$f":"IF('SD Data Paste'!A1713=\"\",\"\",'SD Data Paste'!A1713)","v":""},{"$f":"IF('SD Data Paste'!B1713=\"\",\"\",'SD Data Paste'!B1713)","v":""},1712,{"$f":"IF('SD Data Paste'!E1713=\"\",\"\",'SD Data Paste'!E1713)","v":""},{"$f":"IF('SD Data Paste'!G1713=\"\",\"\",'SD Data Paste'!G1713)","v":""}]
[{"$f":"IF(Table1[विद्यार्थी का नाम]=\"\",\"\",ROWS($A$1:A1713))","v":""},{"$f":"IF('SD Data Paste'!A1714=\"\",\"\",'SD Data Paste'!A1714)","v":""},{"$f":"IF('SD Data Paste'!B1714=\"\",\"\",'SD Data Paste'!B1714)","v":""},1713,{"$f":"IF('SD Data Paste'!E1714=\"\",\"\",'SD Data Paste'!E1714)","v":""},{"$f":"IF('SD Data Paste'!G1714=\"\",\"\",'SD Data Paste'!G1714)","v":""}]
[{"$f":"IF(Table1[विद्यार्थी का नाम]=\"\",\"\",ROWS($A$1:A1714))","v":""},{"$f":"IF('SD Data Paste'!A1715=\"\",\"\",'SD Data Paste'!A1715)","v":""},{"$f":"IF('SD Data Paste'!B1715=\"\",\"\",'SD Data Paste'!B1715)","v":""},1714,{"$f":"IF('SD Data Paste'!E1715=\"\",\"\",'SD Data Paste'!E1715)","v":""},{"$f":"IF('SD Data Paste'!G1715=\"\",\"\",'SD Data Paste'!G1715)","v":""}]
[{"$f":"IF(Table1[विद्यार्थी का नाम]=\"\",\"\",ROWS($A$1:A1715))","v":""},{"$f":"IF('SD Data Paste'!A1716=\"\",\"\",'SD Data Paste'!A1716)","v":""},{"$f":"IF('SD Data Paste'!B1716=\"\",\"\",'SD Data Paste'!B1716)","v":""},1715,{"$f":"IF('SD Data Paste'!E1716=\"\",\"\",'SD Data Paste'!E1716)","v":""},{"$f":"IF('SD Data Paste'!G1716=\"\",\"\",'SD Data Paste'!G1716)","v":""}]
[{"$f":"IF(Table1[विद्यार्थी का नाम]=\"\",\"\",ROWS($A$1:A1716))","v":""},{"$f":"IF('SD Data Paste'!A1717=\"\",\"\",'SD Data Paste'!A1717)","v":""},{"$f":"IF('SD Data Paste'!B1717=\"\",\"\",'SD Data Paste'!B1717)","v":""},1716,{"$f":"IF('SD Data Paste'!E1717=\"\",\"\",'SD Data Paste'!E1717)","v":""},{"$f":"IF('SD Data Paste'!G1717=\"\",\"\",'SD Data Paste'!G1717)","v":""}]
[{"$f":"IF(Table1[विद्यार्थी का नाम]=\"\",\"\",ROWS($A$1:A1717))","v":""},{"$f":"IF('SD Data Paste'!A1718=\"\",\"\",'SD Data Paste'!A1718)","v":""},{"$f":"IF('SD Data Paste'!B1718=\"\",\"\",'SD Data Paste'!B1718)","v":""},1717,{"$f":"IF('SD Data Paste'!E1718=\"\",\"\",'SD Data Paste'!E1718)","v":""},{"$f":"IF('SD Data Paste'!G1718=\"\",\"\",'SD Data Paste'!G1718)","v":""}]
[{"$f":"IF(Table1[विद्यार्थी का नाम]=\"\",\"\",ROWS($A$1:A1718))","v":""},{"$f":"IF('SD Data Paste'!A1719=\"\",\"\",'SD Data Paste'!A1719)","v":""},{"$f":"IF('SD Data Paste'!B1719=\"\",\"\",'SD Data Paste'!B1719)","v":""},1718,{"$f":"IF('SD Data Paste'!E1719=\"\",\"\",'SD Data Paste'!E1719)","v":""},{"$f":"IF('SD Data Paste'!G1719=\"\",\"\",'SD Data Paste'!G1719)","v":""}]
[{"$f":"IF(Table1[विद्यार्थी का नाम]=\"\",\"\",ROWS($A$1:A1719))","v":""},{"$f":"IF('SD Data Paste'!A1720=\"\",\"\",'SD Data Paste'!A1720)","v":""},{"$f":"IF('SD Data Paste'!B1720=\"\",\"\",'SD Data Paste'!B1720)","v":""},1719,{"$f":"IF('SD Data Paste'!E1720=\"\",\"\",'SD Data Paste'!E1720)","v":""},{"$f":"IF('SD Data Paste'!G1720=\"\",\"\",'SD Data Paste'!G1720)","v":""}]
[{"$f":"IF(Table1[विद्यार्थी का नाम]=\"\",\"\",ROWS($A$1:A1720))","v":""},{"$f":"IF('SD Data Paste'!A1721=\"\",\"\",'SD Data Paste'!A1721)","v":""},{"$f":"IF('SD Data Paste'!B1721=\"\",\"\",'SD Data Paste'!B1721)","v":""},1720,{"$f":"IF('SD Data Paste'!E1721=\"\",\"\",'SD Data Paste'!E1721)","v":""},{"$f":"IF('SD Data Paste'!G1721=\"\",\"\",'SD Data Paste'!G1721)","v":""}]
[{"$f":"IF(Table1[विद्यार्थी का नाम]=\"\",\"\",ROWS($A$1:A1721))","v":""},{"$f":"IF('SD Data Paste'!A1722=\"\",\"\",'SD Data Paste'!A1722)","v":""},{"$f":"IF('SD Data Paste'!B1722=\"\",\"\",'SD Data Paste'!B1722)","v":""},1721,{"$f":"IF('SD Data Paste'!E1722=\"\",\"\",'SD Data Paste'!E1722)","v":""},{"$f":"IF('SD Data Paste'!G1722=\"\",\"\",'SD Data Paste'!G1722)","v":""}]
[{"$f":"IF(Table1[विद्यार्थी का नाम]=\"\",\"\",ROWS($A$1:A1722))","v":""},{"$f":"IF('SD Data Paste'!A1723=\"\",\"\",'SD Data Paste'!A1723)","v":""},{"$f":"IF('SD Data Paste'!B1723=\"\",\"\",'SD Data Paste'!B1723)","v":""},1722,{"$f":"IF('SD Data Paste'!E1723=\"\",\"\",'SD Data Paste'!E1723)","v":""},{"$f":"IF('SD Data Paste'!G1723=\"\",\"\",'SD Data Paste'!G1723)","v":""}]
[{"$f":"IF(Table1[विद्यार्थी का नाम]=\"\",\"\",ROWS($A$1:A1723))","v":""},{"$f":"IF('SD Data Paste'!A1724=\"\",\"\",'SD Data Paste'!A1724)","v":""},{"$f":"IF('SD Data Paste'!B1724=\"\",\"\",'SD Data Paste'!B1724)","v":""},1723,{"$f":"IF('SD Data Paste'!E1724=\"\",\"\",'SD Data Paste'!E1724)","v":""},{"$f":"IF('SD Data Paste'!G1724=\"\",\"\",'SD Data Paste'!G1724)","v":""}]
[{"$f":"IF(Table1[विद्यार्थी का नाम]=\"\",\"\",ROWS($A$1:A1724))","v":""},{"$f":"IF('SD Data Paste'!A1725=\"\",\"\",'SD Data Paste'!A1725)","v":""},{"$f":"IF('SD Data Paste'!B1725=\"\",\"\",'SD Data Paste'!B1725)","v":""},1724,{"$f":"IF('SD Data Paste'!E1725=\"\",\"\",'SD Data Paste'!E1725)","v":""},{"$f":"IF('SD Data Paste'!G1725=\"\",\"\",'SD Data Paste'!G1725)","v":""}]
[{"$f":"IF(Table1[विद्यार्थी का नाम]=\"\",\"\",ROWS($A$1:A1725))","v":""},{"$f":"IF('SD Data Paste'!A1726=\"\",\"\",'SD Data Paste'!A1726)","v":""},{"$f":"IF('SD Data Paste'!B1726=\"\",\"\",'SD Data Paste'!B1726)","v":""},1725,{"$f":"IF('SD Data Paste'!E1726=\"\",\"\",'SD Data Paste'!E1726)","v":""},{"$f":"IF('SD Data Paste'!G1726=\"\",\"\",'SD Data Paste'!G1726)","v":""}]
[{"$f":"IF(Table1[विद्यार्थी का नाम]=\"\",\"\",ROWS($A$1:A1726))","v":""},{"$f":"IF('SD Data Paste'!A1727=\"\",\"\",'SD Data Paste'!A1727)","v":""},{"$f":"IF('SD Data Paste'!B1727=\"\",\"\",'SD Data Paste'!B1727)","v":""},1726,{"$f":"IF('SD Data Paste'!E1727=\"\",\"\",'SD Data Paste'!E1727)","v":""},{"$f":"IF('SD Data Paste'!G1727=\"\",\"\",'SD Data Paste'!G1727)","v":""}]
[{"$f":"IF(Table1[विद्यार्थी का नाम]=\"\",\"\",ROWS($A$1:A1727))","v":""},{"$f":"IF('SD Data Paste'!A1728=\"\",\"\",'SD Data Paste'!A1728)","v":""},{"$f":"IF('SD Data Paste'!B1728=\"\",\"\",'SD Data Paste'!B1728)","v":""},1727,{"$f":"IF('SD Data Paste'!E1728=\"\",\"\",'SD Data Paste'!E1728)","v":""},{"$f":"IF('SD Data Paste'!G1728=\"\",\"\",'SD Data Paste'!G1728)","v":""}]
[{"$f":"IF(Table1[विद्यार्थी का नाम]=\"\",\"\",ROWS($A$1:A1728))","v":""},{"$f":"IF('SD Data Paste'!A1729=\"\",\"\",'SD Data Paste'!A1729)","v":""},{"$f":"IF('SD Data Paste'!B1729=\"\",\"\",'SD Data Paste'!B1729)","v":""},1728,{"$f":"IF('SD Data Paste'!E1729=\"\",\"\",'SD Data Paste'!E1729)","v":""},{"$f":"IF('SD Data Paste'!G1729=\"\",\"\",'SD Data Paste'!G1729)","v":""}]
[{"$f":"IF(Table1[विद्यार्थी का नाम]=\"\",\"\",ROWS($A$1:A1729))","v":""},{"$f":"IF('SD Data Paste'!A1730=\"\",\"\",'SD Data Paste'!A1730)","v":""},{"$f":"IF('SD Data Paste'!B1730=\"\",\"\",'SD Data Paste'!B1730)","v":""},1729,{"$f":"IF('SD Data Paste'!E1730=\"\",\"\",'SD Data Paste'!E1730)","v":""},{"$f":"IF('SD Data Paste'!G1730=\"\",\"\",'SD Data Paste'!G1730)","v":""}]
[{"$f":"IF(Table1[विद्यार्थी का नाम]=\"\",\"\",ROWS($A$1:A1730))","v":""},{"$f":"IF('SD Data Paste'!A1731=\"\",\"\",'SD Data Paste'!A1731)","v":""},{"$f":"IF('SD Data Paste'!B1731=\"\",\"\",'SD Data Paste'!B1731)","v":""},1730,{"$f":"IF('SD Data Paste'!E1731=\"\",\"\",'SD Data Paste'!E1731)","v":""},{"$f":"IF('SD Data Paste'!G1731=\"\",\"\",'SD Data Paste'!G1731)","v":""}]
[{"$f":"IF(Table1[विद्यार्थी का नाम]=\"\",\"\",ROWS($A$1:A1731))","v":""},{"$f":"IF('SD Data Paste'!A1732=\"\",\"\",'SD Data Paste'!A1732)","v":""},{"$f":"IF('SD Data Paste'!B1732=\"\",\"\",'SD Data Paste'!B1732)","v":""},{"$f":"IF(D1733=\"\",\"\",D1733+1)","v":1731},{"$f":"IF('SD Data Paste'!E1732=\"\",\"\",'SD Data Paste'!E1732)","v":""},{"$f":"IF('SD Data Paste'!G1732=\"\",\"\",'SD Data Paste'!G1732)","v":""}]
[{"$f":"IF(Table1[विद्यार्थी का नाम]=\"\",\"\",ROWS($A$1:A1732))","v":""},{"$f":"IF('SD Data Paste'!A1733=\"\",\"\",'SD Data Paste'!A1733)","v":""},{"$f":"IF('SD Data Paste'!B1733=\"\",\"\",'SD Data Paste'!B1733)","v":""},1732,{"$f":"IF('SD Data Paste'!E1733=\"\",\"\",'SD Data Paste'!E1733)","v":""},{"$f":"IF('SD Data Paste'!G1733=\"\",\"\",'SD Data Paste'!G1733)","v":""}]
[{"$f":"IF(Table1[विद्यार्थी का नाम]=\"\",\"\",ROWS($A$1:A1733))","v":""},{"$f":"IF('SD Data Paste'!A1734=\"\",\"\",'SD Data Paste'!A1734)","v":""},{"$f":"IF('SD Data Paste'!B1734=\"\",\"\",'SD Data Paste'!B1734)","v":""},1733,{"$f":"IF('SD Data Paste'!E1734=\"\",\"\",'SD Data Paste'!E1734)","v":""},{"$f":"IF('SD Data Paste'!G1734=\"\",\"\",'SD Data Paste'!G1734)","v":""}]
[{"$f":"IF(Table1[विद्यार्थी का नाम]=\"\",\"\",ROWS($A$1:A1734))","v":""},{"$f":"IF('SD Data Paste'!A1735=\"\",\"\",'SD Data Paste'!A1735)","v":""},{"$f":"IF('SD Data Paste'!B1735=\"\",\"\",'SD Data Paste'!B1735)","v":""},1734,{"$f":"IF('SD Data Paste'!E1735=\"\",\"\",'SD Data Paste'!E1735)","v":""},{"$f":"IF('SD Data Paste'!G1735=\"\",\"\",'SD Data Paste'!G1735)","v":""}]
[{"$f":"IF(Table1[विद्यार्थी का नाम]=\"\",\"\",ROWS($A$1:A1735))","v":""},{"$f":"IF('SD Data Paste'!A1736=\"\",\"\",'SD Data Paste'!A1736)","v":""},{"$f":"IF('SD Data Paste'!B1736=\"\",\"\",'SD Data Paste'!B1736)","v":""},1735,{"$f":"IF('SD Data Paste'!E1736=\"\",\"\",'SD Data Paste'!E1736)","v":""},{"$f":"IF('SD Data Paste'!G1736=\"\",\"\",'SD Data Paste'!G1736)","v":""}]
[{"$f":"IF(Table1[विद्यार्थी का नाम]=\"\",\"\",ROWS($A$1:A1736))","v":""},{"$f":"IF('SD Data Paste'!A1737=\"\",\"\",'SD Data Paste'!A1737)","v":""},{"$f":"IF('SD Data Paste'!B1737=\"\",\"\",'SD Data Paste'!B1737)","v":""},1736,{"$f":"IF('SD Data Paste'!E1737=\"\",\"\",'SD Data Paste'!E1737)","v":""},{"$f":"IF('SD Data Paste'!G1737=\"\",\"\",'SD Data Paste'!G1737)","v":""}]
[{"$f":"IF(Table1[विद्यार्थी का नाम]=\"\",\"\",ROWS($A$1:A1737))","v":""},{"$f":"IF('SD Data Paste'!A1738=\"\",\"\",'SD Data Paste'!A1738)","v":""},{"$f":"IF('SD Data Paste'!B1738=\"\",\"\",'SD Data Paste'!B1738)","v":""},1737,{"$f":"IF('SD Data Paste'!E1738=\"\",\"\",'SD Data Paste'!E1738)","v":""},{"$f":"IF('SD Data Paste'!G1738=\"\",\"\",'SD Data Paste'!G1738)","v":""}]
[{"$f":"IF(Table1[विद्यार्थी का नाम]=\"\",\"\",ROWS($A$1:A1738))","v":""},{"$f":"IF('SD Data Paste'!A1739=\"\",\"\",'SD Data Paste'!A1739)","v":""},{"$f":"IF('SD Data Paste'!B1739=\"\",\"\",'SD Data Paste'!B1739)","v":""},1738,{"$f":"IF('SD Data Paste'!E1739=\"\",\"\",'SD Data Paste'!E1739)","v":""},{"$f":"IF('SD Data Paste'!G1739=\"\",\"\",'SD Data Paste'!G1739)","v":""}]
[{"$f":"IF(Table1[विद्यार्थी का नाम]=\"\",\"\",ROWS($A$1:A1739))","v":""},{"$f":"IF('SD Data Paste'!A1740=\"\",\"\",'SD Data Paste'!A1740)","v":""},{"$f":"IF('SD Data Paste'!B1740=\"\",\"\",'SD Data Paste'!B1740)","v":""},1739,{"$f":"IF('SD Data Paste'!E1740=\"\",\"\",'SD Data Paste'!E1740)","v":""},{"$f":"IF('SD Data Paste'!G1740=\"\",\"\",'SD Data Paste'!G1740)","v":""}]
[{"$f":"IF(Table1[विद्यार्थी का नाम]=\"\",\"\",ROWS($A$1:A1740))","v":""},{"$f":"IF('SD Data Paste'!A1741=\"\",\"\",'SD Data Paste'!A1741)","v":""},{"$f":"IF('SD Data Paste'!B1741=\"\",\"\",'SD Data Paste'!B1741)","v":""},1740,{"$f":"IF('SD Data Paste'!E1741=\"\",\"\",'SD Data Paste'!E1741)","v":""},{"$f":"IF('SD Data Paste'!G1741=\"\",\"\",'SD Data Paste'!G1741)","v":""}]
[{"$f":"IF(Table1[विद्यार्थी का नाम]=\"\",\"\",ROWS($A$1:A1741))","v":""},{"$f":"IF('SD Data Paste'!A1742=\"\",\"\",'SD Data Paste'!A1742)","v":""},{"$f":"IF('SD Data Paste'!B1742=\"\",\"\",'SD Data Paste'!B1742)","v":""},1741,{"$f":"IF('SD Data Paste'!E1742=\"\",\"\",'SD Data Paste'!E1742)","v":""},{"$f":"IF('SD Data Paste'!G1742=\"\",\"\",'SD Data Paste'!G1742)","v":""}]
[{"$f":"IF(Table1[विद्यार्थी का नाम]=\"\",\"\",ROWS($A$1:A1742))","v":""},{"$f":"IF('SD Data Paste'!A1743=\"\",\"\",'SD Data Paste'!A1743)","v":""},{"$f":"IF('SD Data Paste'!B1743=\"\",\"\",'SD Data Paste'!B1743)","v":""},1742,{"$f":"IF('SD Data Paste'!E1743=\"\",\"\",'SD Data Paste'!E1743)","v":""},{"$f":"IF('SD Data Paste'!G1743=\"\",\"\",'SD Data Paste'!G1743)","v":""}]
[{"$f":"IF(Table1[विद्यार्थी का नाम]=\"\",\"\",ROWS($A$1:A1743))","v":""},{"$f":"IF('SD Data Paste'!A1744=\"\",\"\",'SD Data Paste'!A1744)","v":""},{"$f":"IF('SD Data Paste'!B1744=\"\",\"\",'SD Data Paste'!B1744)","v":""},1743,{"$f":"IF('SD Data Paste'!E1744=\"\",\"\",'SD Data Paste'!E1744)","v":""},{"$f":"IF('SD Data Paste'!G1744=\"\",\"\",'SD Data Paste'!G1744)","v":""}]
[{"$f":"IF(Table1[विद्यार्थी का नाम]=\"\",\"\",ROWS($A$1:A1744))","v":""},{"$f":"IF('SD Data Paste'!A1745=\"\",\"\",'SD Data Paste'!A1745)","v":""},{"$f":"IF('SD Data Paste'!B1745=\"\",\"\",'SD Data Paste'!B1745)","v":""},1744,{"$f":"IF('SD Data Paste'!E1745=\"\",\"\",'SD Data Paste'!E1745)","v":""},{"$f":"IF('SD Data Paste'!G1745=\"\",\"\",'SD Data Paste'!G1745)","v":""}]
[{"$f":"IF(Table1[विद्यार्थी का नाम]=\"\",\"\",ROWS($A$1:A1745))","v":""},{"$f":"IF('SD Data Paste'!A1746=\"\",\"\",'SD Data Paste'!A1746)","v":""},{"$f":"IF('SD Data Paste'!B1746=\"\",\"\",'SD Data Paste'!B1746)","v":""},1745,{"$f":"IF('SD Data Paste'!E1746=\"\",\"\",'SD Data Paste'!E1746)","v":""},{"$f":"IF('SD Data Paste'!G1746=\"\",\"\",'SD Data Paste'!G1746)","v":""}]
[{"$f":"IF(Table1[विद्यार्थी का नाम]=\"\",\"\",ROWS($A$1:A1746))","v":""},{"$f":"IF('SD Data Paste'!A1747=\"\",\"\",'SD Data Paste'!A1747)","v":""},{"$f":"IF('SD Data Paste'!B1747=\"\",\"\",'SD Data Paste'!B1747)","v":""},1746,{"$f":"IF('SD Data Paste'!E1747=\"\",\"\",'SD Data Paste'!E1747)","v":""},{"$f":"IF('SD Data Paste'!G1747=\"\",\"\",'SD Data Paste'!G1747)","v":""}]
[{"$f":"IF(Table1[विद्यार्थी का नाम]=\"\",\"\",ROWS($A$1:A1747))","v":""},{"$f":"IF('SD Data Paste'!A1748=\"\",\"\",'SD Data Paste'!A1748)","v":""},{"$f":"IF('SD Data Paste'!B1748=\"\",\"\",'SD Data Paste'!B1748)","v":""},1747,{"$f":"IF('SD Data Paste'!E1748=\"\",\"\",'SD Data Paste'!E1748)","v":""},{"$f":"IF('SD Data Paste'!G1748=\"\",\"\",'SD Data Paste'!G1748)","v":""}]
[{"$f":"IF(Table1[विद्यार्थी का नाम]=\"\",\"\",ROWS($A$1:A1748))","v":""},{"$f":"IF('SD Data Paste'!A1749=\"\",\"\",'SD Data Paste'!A1749)","v":""},{"$f":"IF('SD Data Paste'!B1749=\"\",\"\",'SD Data Paste'!B1749)","v":""},1748,{"$f":"IF('SD Data Paste'!E1749=\"\",\"\",'SD Data Paste'!E1749)","v":""},{"$f":"IF('SD Data Paste'!G1749=\"\",\"\",'SD Data Paste'!G1749)","v":""}]
[{"$f":"IF(Table1[विद्यार्थी का नाम]=\"\",\"\",ROWS($A$1:A1749))","v":""},{"$f":"IF('SD Data Paste'!A1750=\"\",\"\",'SD Data Paste'!A1750)","v":""},{"$f":"IF('SD Data Paste'!B1750=\"\",\"\",'SD Data Paste'!B1750)","v":""},1749,{"$f":"IF('SD Data Paste'!E1750=\"\",\"\",'SD Data Paste'!E1750)","v":""},{"$f":"IF('SD Data Paste'!G1750=\"\",\"\",'SD Data Paste'!G1750)","v":""}]
[{"$f":"IF(Table1[विद्यार्थी का नाम]=\"\",\"\",ROWS($A$1:A1750))","v":""},{"$f":"IF('SD Data Paste'!A1751=\"\",\"\",'SD Data Paste'!A1751)","v":""},{"$f":"IF('SD Data Paste'!B1751=\"\",\"\",'SD Data Paste'!B1751)","v":""},1750,{"$f":"IF('SD Data Paste'!E1751=\"\",\"\",'SD Data Paste'!E1751)","v":""},{"$f":"IF('SD Data Paste'!G1751=\"\",\"\",'SD Data Paste'!G1751)","v":""}]
[{"$f":"IF(Table1[विद्यार्थी का नाम]=\"\",\"\",ROWS($A$1:A1751))","v":""},{"$f":"IF('SD Data Paste'!A1752=\"\",\"\",'SD Data Paste'!A1752)","v":""},{"$f":"IF('SD Data Paste'!B1752=\"\",\"\",'SD Data Paste'!B1752)","v":""},1751,{"$f":"IF('SD Data Paste'!E1752=\"\",\"\",'SD Data Paste'!E1752)","v":""},{"$f":"IF('SD Data Paste'!G1752=\"\",\"\",'SD Data Paste'!G1752)","v":""}]
[{"$f":"IF(Table1[विद्यार्थी का नाम]=\"\",\"\",ROWS($A$1:A1752))","v":""},{"$f":"IF('SD Data Paste'!A1753=\"\",\"\",'SD Data Paste'!A1753)","v":""},{"$f":"IF('SD Data Paste'!B1753=\"\",\"\",'SD Data Paste'!B1753)","v":""},1752,{"$f":"IF('SD Data Paste'!E1753=\"\",\"\",'SD Data Paste'!E1753)","v":""},{"$f":"IF('SD Data Paste'!G1753=\"\",\"\",'SD Data Paste'!G1753)","v":""}]
[{"$f":"IF(Table1[विद्यार्थी का नाम]=\"\",\"\",ROWS($A$1:A1753))","v":""},{"$f":"IF('SD Data Paste'!A1754=\"\",\"\",'SD Data Paste'!A1754)","v":""},{"$f":"IF('SD Data Paste'!B1754=\"\",\"\",'SD Data Paste'!B1754)","v":""},1753,{"$f":"IF('SD Data Paste'!E1754=\"\",\"\",'SD Data Paste'!E1754)","v":""},{"$f":"IF('SD Data Paste'!G1754=\"\",\"\",'SD Data Paste'!G1754)","v":""}]
[{"$f":"IF(Table1[विद्यार्थी का नाम]=\"\",\"\",ROWS($A$1:A1754))","v":""},{"$f":"IF('SD Data Paste'!A1755=\"\",\"\",'SD Data Paste'!A1755)","v":""},{"$f":"IF('SD Data Paste'!B1755=\"\",\"\",'SD Data Paste'!B1755)","v":""},1754,{"$f":"IF('SD Data Paste'!E1755=\"\",\"\",'SD Data Paste'!E1755)","v":""},{"$f":"IF('SD Data Paste'!G1755=\"\",\"\",'SD Data Paste'!G1755)","v":""}]
[{"$f":"IF(Table1[विद्यार्थी का नाम]=\"\",\"\",ROWS($A$1:A1755))","v":""},{"$f":"IF('SD Data Paste'!A1756=\"\",\"\",'SD Data Paste'!A1756)","v":""},{"$f":"IF('SD Data Paste'!B1756=\"\",\"\",'SD Data Paste'!B1756)","v":""},1755,{"$f":"IF('SD Data Paste'!E1756=\"\",\"\",'SD Data Paste'!E1756)","v":""},{"$f":"IF('SD Data Paste'!G1756=\"\",\"\",'SD Data Paste'!G1756)","v":""}]
[{"$f":"IF(Table1[विद्यार्थी का नाम]=\"\",\"\",ROWS($A$1:A1756))","v":""},{"$f":"IF('SD Data Paste'!A1757=\"\",\"\",'SD Data Paste'!A1757)","v":""},{"$f":"IF('SD Data Paste'!B1757=\"\",\"\",'SD Data Paste'!B1757)","v":""},1756,{"$f":"IF('SD Data Paste'!E1757=\"\",\"\",'SD Data Paste'!E1757)","v":""},{"$f":"IF('SD Data Paste'!G1757=\"\",\"\",'SD Data Paste'!G1757)","v":""}]
[{"$f":"IF(Table1[विद्यार्थी का नाम]=\"\",\"\",ROWS($A$1:A1757))","v":""},{"$f":"IF('SD Data Paste'!A1758=\"\",\"\",'SD Data Paste'!A1758)","v":""},{"$f":"IF('SD Data Paste'!B1758=\"\",\"\",'SD Data Paste'!B1758)","v":""},1757,{"$f":"IF('SD Data Paste'!E1758=\"\",\"\",'SD Data Paste'!E1758)","v":""},{"$f":"IF('SD Data Paste'!G1758=\"\",\"\",'SD Data Paste'!G1758)","v":""}]
[{"$f":"IF(Table1[विद्यार्थी का नाम]=\"\",\"\",ROWS($A$1:A1758))","v":""},{"$f":"IF('SD Data Paste'!A1759=\"\",\"\",'SD Data Paste'!A1759)","v":""},{"$f":"IF('SD Data Paste'!B1759=\"\",\"\",'SD Data Paste'!B1759)","v":""},1758,{"$f":"IF('SD Data Paste'!E1759=\"\",\"\",'SD Data Paste'!E1759)","v":""},{"$f":"IF('SD Data Paste'!G1759=\"\",\"\",'SD Data Paste'!G1759)","v":""}]
[{"$f":"IF(Table1[विद्यार्थी का नाम]=\"\",\"\",ROWS($A$1:A1759))","v":""},{"$f":"IF('SD Data Paste'!A1760=\"\",\"\",'SD Data Paste'!A1760)","v":""},{"$f":"IF('SD Data Paste'!B1760=\"\",\"\",'SD Data Paste'!B1760)","v":""},1759,{"$f":"IF('SD Data Paste'!E1760=\"\",\"\",'SD Data Paste'!E1760)","v":""},{"$f":"IF('SD Data Paste'!G1760=\"\",\"\",'SD Data Paste'!G1760)","v":""}]
[{"$f":"IF(Table1[विद्यार्थी का नाम]=\"\",\"\",ROWS($A$1:A1760))","v":""},{"$f":"IF('SD Data Paste'!A1761=\"\",\"\",'SD Data Paste'!A1761)","v":""},{"$f":"IF('SD Data Paste'!B1761=\"\",\"\",'SD Data Paste'!B1761)","v":""},1760,{"$f":"IF('SD Data Paste'!E1761=\"\",\"\",'SD Data Paste'!E1761)","v":""},{"$f":"IF('SD Data Paste'!G1761=\"\",\"\",'SD Data Paste'!G1761)","v":""}]
[{"$f":"IF(Table1[विद्यार्थी का नाम]=\"\",\"\",ROWS($A$1:A1761))","v":""},{"$f":"IF('SD Data Paste'!A1762=\"\",\"\",'SD Data Paste'!A1762)","v":""},{"$f":"IF('SD Data Paste'!B1762=\"\",\"\",'SD Data Paste'!B1762)","v":""},1761,{"$f":"IF('SD Data Paste'!E1762=\"\",\"\",'SD Data Paste'!E1762)","v":""},{"$f":"IF('SD Data Paste'!G1762=\"\",\"\",'SD Data Paste'!G1762)","v":""}]
[{"$f":"IF(Table1[विद्यार्थी का नाम]=\"\",\"\",ROWS($A$1:A1762))","v":""},{"$f":"IF('SD Data Paste'!A1763=\"\",\"\",'SD Data Paste'!A1763)","v":""},{"$f":"IF('SD Data Paste'!B1763=\"\",\"\",'SD Data Paste'!B1763)","v":""},1762,{"$f":"IF('SD Data Paste'!E1763=\"\",\"\",'SD Data Paste'!E1763)","v":""},{"$f":"IF('SD Data Paste'!G1763=\"\",\"\",'SD Data Paste'!G1763)","v":""}]
[{"$f":"IF(Table1[विद्यार्थी का नाम]=\"\",\"\",ROWS($A$1:A1763))","v":""},{"$f":"IF('SD Data Paste'!A1764=\"\",\"\",'SD Data Paste'!A1764)","v":""},{"$f":"IF('SD Data Paste'!B1764=\"\",\"\",'SD Data Paste'!B1764)","v":""},1763,{"$f":"IF('SD Data Paste'!E1764=\"\",\"\",'SD Data Paste'!E1764)","v":""},{"$f":"IF('SD Data Paste'!G1764=\"\",\"\",'SD Data Paste'!G1764)","v":""}]
[{"$f":"IF(Table1[विद्यार्थी का नाम]=\"\",\"\",ROWS($A$1:A1764))","v":""},{"$f":"IF('SD Data Paste'!A1765=\"\",\"\",'SD Data Paste'!A1765)","v":""},{"$f":"IF('SD Data Paste'!B1765=\"\",\"\",'SD Data Paste'!B1765)","v":""},1764,{"$f":"IF('SD Data Paste'!E1765=\"\",\"\",'SD Data Paste'!E1765)","v":""},{"$f":"IF('SD Data Paste'!G1765=\"\",\"\",'SD Data Paste'!G1765)","v":""}]
[{"$f":"IF(Table1[विद्यार्थी का नाम]=\"\",\"\",ROWS($A$1:A1765))","v":""},{"$f":"IF('SD Data Paste'!A1766=\"\",\"\",'SD Data Paste'!A1766)","v":""},{"$f":"IF('SD Data Paste'!B1766=\"\",\"\",'SD Data Paste'!B1766)","v":""},1765,{"$f":"IF('SD Data Paste'!E1766=\"\",\"\",'SD Data Paste'!E1766)","v":""},{"$f":"IF('SD Data Paste'!G1766=\"\",\"\",'SD Data Paste'!G1766)","v":""}]
[{"$f":"IF(Table1[विद्यार्थी का नाम]=\"\",\"\",ROWS($A$1:A1766))","v":""},{"$f":"IF('SD Data Paste'!A1767=\"\",\"\",'SD Data Paste'!A1767)","v":""},{"$f":"IF('SD Data Paste'!B1767=\"\",\"\",'SD Data Paste'!B1767)","v":""},1766,{"$f":"IF('SD Data Paste'!E1767=\"\",\"\",'SD Data Paste'!E1767)","v":""},{"$f":"IF('SD Data Paste'!G1767=\"\",\"\",'SD Data Paste'!G1767)","v":""}]
[{"$f":"IF(Table1[विद्यार्थी का नाम]=\"\",\"\",ROWS($A$1:A1767))","v":""},{"$f":"IF('SD Data Paste'!A1768=\"\",\"\",'SD Data Paste'!A1768)","v":""},{"$f":"IF('SD Data Paste'!B1768=\"\",\"\",'SD Data Paste'!B1768)","v":""},1767,{"$f":"IF('SD Data Paste'!E1768=\"\",\"\",'SD Data Paste'!E1768)","v":""},{"$f":"IF('SD Data Paste'!G1768=\"\",\"\",'SD Data Paste'!G1768)","v":""}]
[{"$f":"IF(Table1[विद्यार्थी का नाम]=\"\",\"\",ROWS($A$1:A1768))","v":""},{"$f":"IF('SD Data Paste'!A1769=\"\",\"\",'SD Data Paste'!A1769)","v":""},{"$f":"IF('SD Data Paste'!B1769=\"\",\"\",'SD Data Paste'!B1769)","v":""},1768,{"$f":"IF('SD Data Paste'!E1769=\"\",\"\",'SD Data Paste'!E1769)","v":""},{"$f":"IF('SD Data Paste'!G1769=\"\",\"\",'SD Data Paste'!G1769)","v":""}]
[{"$f":"IF(Table1[विद्यार्थी का नाम]=\"\",\"\",ROWS($A$1:A1769))","v":""},{"$f":"IF('SD Data Paste'!A1770=\"\",\"\",'SD Data Paste'!A1770)","v":""},{"$f":"IF('SD Data Paste'!B1770=\"\",\"\",'SD Data Paste'!B1770)","v":""},1769,{"$f":"IF('SD Data Paste'!E1770=\"\",\"\",'SD Data Paste'!E1770)","v":""},{"$f":"IF('SD Data Paste'!G1770=\"\",\"\",'SD Data Paste'!G1770)","v":""}]
[{"$f":"IF(Table1[विद्यार्थी का नाम]=\"\",\"\",ROWS($A$1:A1770))","v":""},{"$f":"IF('SD Data Paste'!A1771=\"\",\"\",'SD Data Paste'!A1771)","v":""},{"$f":"IF('SD Data Paste'!B1771=\"\",\"\",'SD Data Paste'!B1771)","v":""},1770,{"$f":"IF('SD Data Paste'!E1771=\"\",\"\",'SD Data Paste'!E1771)","v":""},{"$f":"IF('SD Data Paste'!G1771=\"\",\"\",'SD Data Paste'!G1771)","v":""}]
[{"$f":"IF(Table1[विद्यार्थी का नाम]=\"\",\"\",ROWS($A$1:A1771))","v":""},{"$f":"IF('SD Data Paste'!A1772=\"\",\"\",'SD Data Paste'!A1772)","v":""},{"$f":"IF('SD Data Paste'!B1772=\"\",\"\",'SD Data Paste'!B1772)","v":""},1771,{"$f":"IF('SD Data Paste'!E1772=\"\",\"\",'SD Data Paste'!E1772)","v":""},{"$f":"IF('SD Data Paste'!G1772=\"\",\"\",'SD Data Paste'!G1772)","v":""}]
[{"$f":"IF(Table1[विद्यार्थी का नाम]=\"\",\"\",ROWS($A$1:A1772))","v":""},{"$f":"IF('SD Data Paste'!A1773=\"\",\"\",'SD Data Paste'!A1773)","v":""},{"$f":"IF('SD Data Paste'!B1773=\"\",\"\",'SD Data Paste'!B1773)","v":""},1772,{"$f":"IF('SD Data Paste'!E1773=\"\",\"\",'SD Data Paste'!E1773)","v":""},{"$f":"IF('SD Data Paste'!G1773=\"\",\"\",'SD Data Paste'!G1773)","v":""}]
[{"$f":"IF(Table1[विद्यार्थी का नाम]=\"\",\"\",ROWS($A$1:A1773))","v":""},{"$f":"IF('SD Data Paste'!A1774=\"\",\"\",'SD Data Paste'!A1774)","v":""},{"$f":"IF('SD Data Paste'!B1774=\"\",\"\",'SD Data Paste'!B1774)","v":""},1773,{"$f":"IF('SD Data Paste'!E1774=\"\",\"\",'SD Data Paste'!E1774)","v":""},{"$f":"IF('SD Data Paste'!G1774=\"\",\"\",'SD Data Paste'!G1774)","v":""}]
[{"$f":"IF(Table1[विद्यार्थी का नाम]=\"\",\"\",ROWS($A$1:A1774))","v":""},{"$f":"IF('SD Data Paste'!A1775=\"\",\"\",'SD Data Paste'!A1775)","v":""},{"$f":"IF('SD Data Paste'!B1775=\"\",\"\",'SD Data Paste'!B1775)","v":""},1774,{"$f":"IF('SD Data Paste'!E1775=\"\",\"\",'SD Data Paste'!E1775)","v":""},{"$f":"IF('SD Data Paste'!G1775=\"\",\"\",'SD Data Paste'!G1775)","v":""}]
[{"$f":"IF(Table1[विद्यार्थी का नाम]=\"\",\"\",ROWS($A$1:A1775))","v":""},{"$f":"IF('SD Data Paste'!A1776=\"\",\"\",'SD Data Paste'!A1776)","v":""},{"$f":"IF('SD Data Paste'!B1776=\"\",\"\",'SD Data Paste'!B1776)","v":""},1775,{"$f":"IF('SD Data Paste'!E1776=\"\",\"\",'SD Data Paste'!E1776)","v":""},{"$f":"IF('SD Data Paste'!G1776=\"\",\"\",'SD Data Paste'!G1776)","v":""}]
[{"$f":"IF(Table1[विद्यार्थी का नाम]=\"\",\"\",ROWS($A$1:A1776))","v":""},{"$f":"IF('SD Data Paste'!A1777=\"\",\"\",'SD Data Paste'!A1777)","v":""},{"$f":"IF('SD Data Paste'!B1777=\"\",\"\",'SD Data Paste'!B1777)","v":""},1776,{"$f":"IF('SD Data Paste'!E1777=\"\",\"\",'SD Data Paste'!E1777)","v":""},{"$f":"IF('SD Data Paste'!G1777=\"\",\"\",'SD Data Paste'!G1777)","v":""}]
[{"$f":"IF(Table1[विद्यार्थी का नाम]=\"\",\"\",ROWS($A$1:A1777))","v":""},{"$f":"IF('SD Data Paste'!A1778=\"\",\"\",'SD Data Paste'!A1778)","v":""},{"$f":"IF('SD Data Paste'!B1778=\"\",\"\",'SD Data Paste'!B1778)","v":""},1777,{"$f":"IF('SD Data Paste'!E1778=\"\",\"\",'SD Data Paste'!E1778)","v":""},{"$f":"IF('SD Data Paste'!G1778=\"\",\"\",'SD Data Paste'!G1778)","v":""}]
[{"$f":"IF(Table1[विद्यार्थी का नाम]=\"\",\"\",ROWS($A$1:A1778))","v":""},{"$f":"IF('SD Data Paste'!A1779=\"\",\"\",'SD Data Paste'!A1779)","v":""},{"$f":"IF('SD Data Paste'!B1779=\"\",\"\",'SD Data Paste'!B1779)","v":""},1778,{"$f":"IF('SD Data Paste'!E1779=\"\",\"\",'SD Data Paste'!E1779)","v":""},{"$f":"IF('SD Data Paste'!G1779=\"\",\"\",'SD Data Paste'!G1779)","v":""}]
[{"$f":"IF(Table1[विद्यार्थी का नाम]=\"\",\"\",ROWS($A$1:A1779))","v":""},{"$f":"IF('SD Data Paste'!A1780=\"\",\"\",'SD Data Paste'!A1780)","v":""},{"$f":"IF('SD Data Paste'!B1780=\"\",\"\",'SD Data Paste'!B1780)","v":""},1779,{"$f":"IF('SD Data Paste'!E1780=\"\",\"\",'SD Data Paste'!E1780)","v":""},{"$f":"IF('SD Data Paste'!G1780=\"\",\"\",'SD Data Paste'!G1780)","v":""}]
[{"$f":"IF(Table1[विद्यार्थी का नाम]=\"\",\"\",ROWS($A$1:A1780))","v":""},{"$f":"IF('SD Data Paste'!A1781=\"\",\"\",'SD Data Paste'!A1781)","v":""},{"$f":"IF('SD Data Paste'!B1781=\"\",\"\",'SD Data Paste'!B1781)","v":""},1780,{"$f":"IF('SD Data Paste'!E1781=\"\",\"\",'SD Data Paste'!E1781)","v":""},{"$f":"IF('SD Data Paste'!G1781=\"\",\"\",'SD Data Paste'!G1781)","v":""}]
[{"$f":"IF(Table1[विद्यार्थी का नाम]=\"\",\"\",ROWS($A$1:A1781))","v":""},{"$f":"IF('SD Data Paste'!A1782=\"\",\"\",'SD Data Paste'!A1782)","v":""},{"$f":"IF('SD Data Paste'!B1782=\"\",\"\",'SD Data Paste'!B1782)","v":""},1781,{"$f":"IF('SD Data Paste'!E1782=\"\",\"\",'SD Data Paste'!E1782)","v":""},{"$f":"IF('SD Data Paste'!G1782=\"\",\"\",'SD Data Paste'!G1782)","v":""}]
[{"$f":"IF(Table1[विद्यार्थी का नाम]=\"\",\"\",ROWS($A$1:A1782))","v":""},{"$f":"IF('SD Data Paste'!A1783=\"\",\"\",'SD Data Paste'!A1783)","v":""},{"$f":"IF('SD Data Paste'!B1783=\"\",\"\",'SD Data Paste'!B1783)","v":""},1782,{"$f":"IF('SD Data Paste'!E1783=\"\",\"\",'SD Data Paste'!E1783)","v":""},{"$f":"IF('SD Data Paste'!G1783=\"\",\"\",'SD Data Paste'!G1783)","v":""}]
[{"$f":"IF(Table1[विद्यार्थी का नाम]=\"\",\"\",ROWS($A$1:A1783))","v":""},{"$f":"IF('SD Data Paste'!A1784=\"\",\"\",'SD Data Paste'!A1784)","v":""},{"$f":"IF('SD Data Paste'!B1784=\"\",\"\",'SD Data Paste'!B1784)","v":""},1783,{"$f":"IF('SD Data Paste'!E1784=\"\",\"\",'SD Data Paste'!E1784)","v":""},{"$f":"IF('SD Data Paste'!G1784=\"\",\"\",'SD Data Paste'!G1784)","v":""}]
[{"$f":"IF(Table1[विद्यार्थी का नाम]=\"\",\"\",ROWS($A$1:A1784))","v":""},{"$f":"IF('SD Data Paste'!A1785=\"\",\"\",'SD Data Paste'!A1785)","v":""},{"$f":"IF('SD Data Paste'!B1785=\"\",\"\",'SD Data Paste'!B1785)","v":""},1784,{"$f":"IF('SD Data Paste'!E1785=\"\",\"\",'SD Data Paste'!E1785)","v":""},{"$f":"IF('SD Data Paste'!G1785=\"\",\"\",'SD Data Paste'!G1785)","v":""}]
[{"$f":"IF(Table1[विद्यार्थी का नाम]=\"\",\"\",ROWS($A$1:A1785))","v":""},{"$f":"IF('SD Data Paste'!A1786=\"\",\"\",'SD Data Paste'!A1786)","v":""},{"$f":"IF('SD Data Paste'!B1786=\"\",\"\",'SD Data Paste'!B1786)","v":""},1785,{"$f":"IF('SD Data Paste'!E1786=\"\",\"\",'SD Data Paste'!E1786)","v":""},{"$f":"IF('SD Data Paste'!G1786=\"\",\"\",'SD Data Paste'!G1786)","v":""}]
[{"$f":"IF(Table1[विद्यार्थी का नाम]=\"\",\"\",ROWS($A$1:A1786))","v":""},{"$f":"IF('SD Data Paste'!A1787=\"\",\"\",'SD Data Paste'!A1787)","v":""},{"$f":"IF('SD Data Paste'!B1787=\"\",\"\",'SD Data Paste'!B1787)","v":""},1786,{"$f":"IF('SD Data Paste'!E1787=\"\",\"\",'SD Data Paste'!E1787)","v":""},{"$f":"IF('SD Data Paste'!G1787=\"\",\"\",'SD Data Paste'!G1787)","v":""}]
[{"$f":"IF(Table1[विद्यार्थी का नाम]=\"\",\"\",ROWS($A$1:A1787))","v":""},{"$f":"IF('SD Data Paste'!A1788=\"\",\"\",'SD Data Paste'!A1788)","v":""},{"$f":"IF('SD Data Paste'!B1788=\"\",\"\",'SD Data Paste'!B1788)","v":""},1787,{"$f":"IF('SD Data Paste'!E1788=\"\",\"\",'SD Data Paste'!E1788)","v":""},{"$f":"IF('SD Data Paste'!G1788=\"\",\"\",'SD Data Paste'!G1788)","v":""}]
[{"$f":"IF(Table1[विद्यार्थी का नाम]=\"\",\"\",ROWS($A$1:A1788))","v":""},{"$f":"IF('SD Data Paste'!A1789=\"\",\"\",'SD Data Paste'!A1789)","v":""},{"$f":"IF('SD Data Paste'!B1789=\"\",\"\",'SD Data Paste'!B1789)","v":""},1788,{"$f":"IF('SD Data Paste'!E1789=\"\",\"\",'SD Data Paste'!E1789)","v":""},{"$f":"IF('SD Data Paste'!G1789=\"\",\"\",'SD Data Paste'!G1789)","v":""}]
[{"$f":"IF(Table1[विद्यार्थी का नाम]=\"\",\"\",ROWS($A$1:A1789))","v":""},{"$f":"IF('SD Data Paste'!A1790=\"\",\"\",'SD Data Paste'!A1790)","v":""},{"$f":"IF('SD Data Paste'!B1790=\"\",\"\",'SD Data Paste'!B1790)","v":""},1789,{"$f":"IF('SD Data Paste'!E1790=\"\",\"\",'SD Data Paste'!E1790)","v":""},{"$f":"IF('SD Data Paste'!G1790=\"\",\"\",'SD Data Paste'!G1790)","v":""}]
[{"$f":"IF(Table1[विद्यार्थी का नाम]=\"\",\"\",ROWS($A$1:A1790))","v":""},{"$f":"IF('SD Data Paste'!A1791=\"\",\"\",'SD Data Paste'!A1791)","v":""},{"$f":"IF('SD Data Paste'!B1791=\"\",\"\",'SD Data Paste'!B1791)","v":""},1790,{"$f":"IF('SD Data Paste'!E1791=\"\",\"\",'SD Data Paste'!E1791)","v":""},{"$f":"IF('SD Data Paste'!G1791=\"\",\"\",'SD Data Paste'!G1791)","v":""}]
[{"$f":"IF(Table1[विद्यार्थी का नाम]=\"\",\"\",ROWS($A$1:A1791))","v":""},{"$f":"IF('SD Data Paste'!A1792=\"\",\"\",'SD Data Paste'!A1792)","v":""},{"$f":"IF('SD Data Paste'!B1792=\"\",\"\",'SD Data Paste'!B1792)","v":""},1791,{"$f":"IF('SD Data Paste'!E1792=\"\",\"\",'SD Data Paste'!E1792)","v":""},{"$f":"IF('SD Data Paste'!G1792=\"\",\"\",'SD Data Paste'!G1792)","v":""}]
[{"$f":"IF(Table1[विद्यार्थी का नाम]=\"\",\"\",ROWS($A$1:A1792))","v":""},{"$f":"IF('SD Data Paste'!A1793=\"\",\"\",'SD Data Paste'!A1793)","v":""},{"$f":"IF('SD Data Paste'!B1793=\"\",\"\",'SD Data Paste'!B1793)","v":""},1792,{"$f":"IF('SD Data Paste'!E1793=\"\",\"\",'SD Data Paste'!E1793)","v":""},{"$f":"IF('SD Data Paste'!G1793=\"\",\"\",'SD Data Paste'!G1793)","v":""}]
[{"$f":"IF(Table1[विद्यार्थी का नाम]=\"\",\"\",ROWS($A$1:A1793))","v":""},{"$f":"IF('SD Data Paste'!A1794=\"\",\"\",'SD Data Paste'!A1794)","v":""},{"$f":"IF('SD Data Paste'!B1794=\"\",\"\",'SD Data Paste'!B1794)","v":""},1793,{"$f":"IF('SD Data Paste'!E1794=\"\",\"\",'SD Data Paste'!E1794)","v":""},{"$f":"IF('SD Data Paste'!G1794=\"\",\"\",'SD Data Paste'!G1794)","v":""}]
[{"$f":"IF(Table1[विद्यार्थी का नाम]=\"\",\"\",ROWS($A$1:A1794))","v":""},{"$f":"IF('SD Data Paste'!A1795=\"\",\"\",'SD Data Paste'!A1795)","v":""},{"$f":"IF('SD Data Paste'!B1795=\"\",\"\",'SD Data Paste'!B1795)","v":""},1794,{"$f":"IF('SD Data Paste'!E1795=\"\",\"\",'SD Data Paste'!E1795)","v":""},{"$f":"IF('SD Data Paste'!G1795=\"\",\"\",'SD Data Paste'!G1795)","v":""}]
[{"$f":"IF(Table1[विद्यार्थी का नाम]=\"\",\"\",ROWS($A$1:A1795))","v":""},{"$f":"IF('SD Data Paste'!A1796=\"\",\"\",'SD Data Paste'!A1796)","v":""},{"$f":"IF('SD Data Paste'!B1796=\"\",\"\",'SD Data Paste'!B1796)","v":""},{"$f":"IF(D1797=\"\",\"\",D1797+1)","v":1795},{"$f":"IF('SD Data Paste'!E1796=\"\",\"\",'SD Data Paste'!E1796)","v":""},{"$f":"IF('SD Data Paste'!G1796=\"\",\"\",'SD Data Paste'!G1796)","v":""}]
[{"$f":"IF(Table1[विद्यार्थी का नाम]=\"\",\"\",ROWS($A$1:A1796))","v":""},{"$f":"IF('SD Data Paste'!A1797=\"\",\"\",'SD Data Paste'!A1797)","v":""},{"$f":"IF('SD Data Paste'!B1797=\"\",\"\",'SD Data Paste'!B1797)","v":""},1796,{"$f":"IF('SD Data Paste'!E1797=\"\",\"\",'SD Data Paste'!E1797)","v":""},{"$f":"IF('SD Data Paste'!G1797=\"\",\"\",'SD Data Paste'!G1797)","v":""}]
[{"$f":"IF(Table1[विद्यार्थी का नाम]=\"\",\"\",ROWS($A$1:A1797))","v":""},{"$f":"IF('SD Data Paste'!A1798=\"\",\"\",'SD Data Paste'!A1798)","v":""},{"$f":"IF('SD Data Paste'!B1798=\"\",\"\",'SD Data Paste'!B1798)","v":""},1797,{"$f":"IF('SD Data Paste'!E1798=\"\",\"\",'SD Data Paste'!E1798)","v":""},{"$f":"IF('SD Data Paste'!G1798=\"\",\"\",'SD Data Paste'!G1798)","v":""}]
[{"$f":"IF(Table1[विद्यार्थी का नाम]=\"\",\"\",ROWS($A$1:A1798))","v":""},{"$f":"IF('SD Data Paste'!A1799=\"\",\"\",'SD Data Paste'!A1799)","v":""},{"$f":"IF('SD Data Paste'!B1799=\"\",\"\",'SD Data Paste'!B1799)","v":""},1798,{"$f":"IF('SD Data Paste'!E1799=\"\",\"\",'SD Data Paste'!E1799)","v":""},{"$f":"IF('SD Data Paste'!G1799=\"\",\"\",'SD Data Paste'!G1799)","v":""}]
[{"$f":"IF(Table1[विद्यार्थी का नाम]=\"\",\"\",ROWS($A$1:A1799))","v":""},{"$f":"IF('SD Data Paste'!A1800=\"\",\"\",'SD Data Paste'!A1800)","v":""},{"$f":"IF('SD Data Paste'!B1800=\"\",\"\",'SD Data Paste'!B1800)","v":""},1799,{"$f":"IF('SD Data Paste'!E1800=\"\",\"\",'SD Data Paste'!E1800)","v":""},{"$f":"IF('SD Data Paste'!G1800=\"\",\"\",'SD Data Paste'!G1800)","v":""}]
[{"$f":"IF(Table1[विद्यार्थी का नाम]=\"\",\"\",ROWS($A$1:A1800))","v":""},{"$f":"IF('SD Data Paste'!A1801=\"\",\"\",'SD Data Paste'!A1801)","v":""},{"$f":"IF('SD Data Paste'!B1801=\"\",\"\",'SD Data Paste'!B1801)","v":""},1800,{"$f":"IF('SD Data Paste'!E1801=\"\",\"\",'SD Data Paste'!E1801)","v":""},{"$f":"IF('SD Data Paste'!G1801=\"\",\"\",'SD Data Paste'!G1801)","v":""}]
[{"$f":"IF(Table1[विद्यार्थी का नाम]=\"\",\"\",ROWS($A$1:A1801))","v":""},{"$f":"IF('SD Data Paste'!A1802=\"\",\"\",'SD Data Paste'!A1802)","v":""},{"$f":"IF('SD Data Paste'!B1802=\"\",\"\",'SD Data Paste'!B1802)","v":""},1801,{"$f":"IF('SD Data Paste'!E1802=\"\",\"\",'SD Data Paste'!E1802)","v":""},{"$f":"IF('SD Data Paste'!G1802=\"\",\"\",'SD Data Paste'!G1802)","v":""}]
[{"$f":"IF(Table1[विद्यार्थी का नाम]=\"\",\"\",ROWS($A$1:A1802))","v":""},{"$f":"IF('SD Data Paste'!A1803=\"\",\"\",'SD Data Paste'!A1803)","v":""},{"$f":"IF('SD Data Paste'!B1803=\"\",\"\",'SD Data Paste'!B1803)","v":""},1802,{"$f":"IF('SD Data Paste'!E1803=\"\",\"\",'SD Data Paste'!E1803)","v":""},{"$f":"IF('SD Data Paste'!G1803=\"\",\"\",'SD Data Paste'!G1803)","v":""}]
[{"$f":"IF(Table1[विद्यार्थी का नाम]=\"\",\"\",ROWS($A$1:A1803))","v":""},{"$f":"IF('SD Data Paste'!A1804=\"\",\"\",'SD Data Paste'!A1804)","v":""},{"$f":"IF('SD Data Paste'!B1804=\"\",\"\",'SD Data Paste'!B1804)","v":""},1803,{"$f":"IF('SD Data Paste'!E1804=\"\",\"\",'SD Data Paste'!E1804)","v":""},{"$f":"IF('SD Data Paste'!G1804=\"\",\"\",'SD Data Paste'!G1804)","v":""}]
[{"$f":"IF(Table1[विद्यार्थी का नाम]=\"\",\"\",ROWS($A$1:A1804))","v":""},{"$f":"IF('SD Data Paste'!A1805=\"\",\"\",'SD Data Paste'!A1805)","v":""},{"$f":"IF('SD Data Paste'!B1805=\"\",\"\",'SD Data Paste'!B1805)","v":""},1804,{"$f":"IF('SD Data Paste'!E1805=\"\",\"\",'SD Data Paste'!E1805)","v":""},{"$f":"IF('SD Data Paste'!G1805=\"\",\"\",'SD Data Paste'!G1805)","v":""}]
[{"$f":"IF(Table1[विद्यार्थी का नाम]=\"\",\"\",ROWS($A$1:A1805))","v":""},{"$f":"IF('SD Data Paste'!A1806=\"\",\"\",'SD Data Paste'!A1806)","v":""},{"$f":"IF('SD Data Paste'!B1806=\"\",\"\",'SD Data Paste'!B1806)","v":""},1805,{"$f":"IF('SD Data Paste'!E1806=\"\",\"\",'SD Data Paste'!E1806)","v":""},{"$f":"IF('SD Data Paste'!G1806=\"\",\"\",'SD Data Paste'!G1806)","v":""}]
[{"$f":"IF(Table1[विद्यार्थी का नाम]=\"\",\"\",ROWS($A$1:A1806))","v":""},{"$f":"IF('SD Data Paste'!A1807=\"\",\"\",'SD Data Paste'!A1807)","v":""},{"$f":"IF('SD Data Paste'!B1807=\"\",\"\",'SD Data Paste'!B1807)","v":""},1806,{"$f":"IF('SD Data Paste'!E1807=\"\",\"\",'SD Data Paste'!E1807)","v":""},{"$f":"IF('SD Data Paste'!G1807=\"\",\"\",'SD Data Paste'!G1807)","v":""}]
[{"$f":"IF(Table1[विद्यार्थी का नाम]=\"\",\"\",ROWS($A$1:A1807))","v":""},{"$f":"IF('SD Data Paste'!A1808=\"\",\"\",'SD Data Paste'!A1808)","v":""},{"$f":"IF('SD Data Paste'!B1808=\"\",\"\",'SD Data Paste'!B1808)","v":""},1807,{"$f":"IF('SD Data Paste'!E1808=\"\",\"\",'SD Data Paste'!E1808)","v":""},{"$f":"IF('SD Data Paste'!G1808=\"\",\"\",'SD Data Paste'!G1808)","v":""}]
[{"$f":"IF(Table1[विद्यार्थी का नाम]=\"\",\"\",ROWS($A$1:A1808))","v":""},{"$f":"IF('SD Data Paste'!A1809=\"\",\"\",'SD Data Paste'!A1809)","v":""},{"$f":"IF('SD Data Paste'!B1809=\"\",\"\",'SD Data Paste'!B1809)","v":""},1808,{"$f":"IF('SD Data Paste'!E1809=\"\",\"\",'SD Data Paste'!E1809)","v":""},{"$f":"IF('SD Data Paste'!G1809=\"\",\"\",'SD Data Paste'!G1809)","v":""}]
[{"$f":"IF(Table1[विद्यार्थी का नाम]=\"\",\"\",ROWS($A$1:A1809))","v":""},{"$f":"IF('SD Data Paste'!A1810=\"\",\"\",'SD Data Paste'!A1810)","v":""},{"$f":"IF('SD Data Paste'!B1810=\"\",\"\",'SD Data Paste'!B1810)","v":""},1809,{"$f":"IF('SD Data Paste'!E1810=\"\",\"\",'SD Data Paste'!E1810)","v":""},{"$f":"IF('SD Data Paste'!G1810=\"\",\"\",'SD Data Paste'!G1810)","v":""}]
[{"$f":"IF(Table1[विद्यार्थी का नाम]=\"\",\"\",ROWS($A$1:A1810))","v":""},{"$f":"IF('SD Data Paste'!A1811=\"\",\"\",'SD Data Paste'!A1811)","v":""},{"$f":"IF('SD Data Paste'!B1811=\"\",\"\",'SD Data Paste'!B1811)","v":""},1810,{"$f":"IF('SD Data Paste'!E1811=\"\",\"\",'SD Data Paste'!E1811)","v":""},{"$f":"IF('SD Data Paste'!G1811=\"\",\"\",'SD Data Paste'!G1811)","v":""}]
[{"$f":"IF(Table1[विद्यार्थी का नाम]=\"\",\"\",ROWS($A$1:A1811))","v":""},{"$f":"IF('SD Data Paste'!A1812=\"\",\"\",'SD Data Paste'!A1812)","v":""},{"$f":"IF('SD Data Paste'!B1812=\"\",\"\",'SD Data Paste'!B1812)","v":""},1811,{"$f":"IF('SD Data Paste'!E1812=\"\",\"\",'SD Data Paste'!E1812)","v":""},{"$f":"IF('SD Data Paste'!G1812=\"\",\"\",'SD Data Paste'!G1812)","v":""}]
[{"$f":"IF(Table1[विद्यार्थी का नाम]=\"\",\"\",ROWS($A$1:A1812))","v":""},{"$f":"IF('SD Data Paste'!A1813=\"\",\"\",'SD Data Paste'!A1813)","v":""},{"$f":"IF('SD Data Paste'!B1813=\"\",\"\",'SD Data Paste'!B1813)","v":""},1812,{"$f":"IF('SD Data Paste'!E1813=\"\",\"\",'SD Data Paste'!E1813)","v":""},{"$f":"IF('SD Data Paste'!G1813=\"\",\"\",'SD Data Paste'!G1813)","v":""}]
[{"$f":"IF(Table1[विद्यार्थी का नाम]=\"\",\"\",ROWS($A$1:A1813))","v":""},{"$f":"IF('SD Data Paste'!A1814=\"\",\"\",'SD Data Paste'!A1814)","v":""},{"$f":"IF('SD Data Paste'!B1814=\"\",\"\",'SD Data Paste'!B1814)","v":""},1813,{"$f":"IF('SD Data Paste'!E1814=\"\",\"\",'SD Data Paste'!E1814)","v":""},{"$f":"IF('SD Data Paste'!G1814=\"\",\"\",'SD Data Paste'!G1814)","v":""}]
[{"$f":"IF(Table1[विद्यार्थी का नाम]=\"\",\"\",ROWS($A$1:A1814))","v":""},{"$f":"IF('SD Data Paste'!A1815=\"\",\"\",'SD Data Paste'!A1815)","v":""},{"$f":"IF('SD Data Paste'!B1815=\"\",\"\",'SD Data Paste'!B1815)","v":""},1814,{"$f":"IF('SD Data Paste'!E1815=\"\",\"\",'SD Data Paste'!E1815)","v":""},{"$f":"IF('SD Data Paste'!G1815=\"\",\"\",'SD Data Paste'!G1815)","v":""}]
[{"$f":"IF(Table1[विद्यार्थी का नाम]=\"\",\"\",ROWS($A$1:A1815))","v":""},{"$f":"IF('SD Data Paste'!A1816=\"\",\"\",'SD Data Paste'!A1816)","v":""},{"$f":"IF('SD Data Paste'!B1816=\"\",\"\",'SD Data Paste'!B1816)","v":""},1815,{"$f":"IF('SD Data Paste'!E1816=\"\",\"\",'SD Data Paste'!E1816)","v":""},{"$f":"IF('SD Data Paste'!G1816=\"\",\"\",'SD Data Paste'!G1816)","v":""}]
[{"$f":"IF(Table1[विद्यार्थी का नाम]=\"\",\"\",ROWS($A$1:A1816))","v":""},{"$f":"IF('SD Data Paste'!A1817=\"\",\"\",'SD Data Paste'!A1817)","v":""},{"$f":"IF('SD Data Paste'!B1817=\"\",\"\",'SD Data Paste'!B1817)","v":""},1816,{"$f":"IF('SD Data Paste'!E1817=\"\",\"\",'SD Data Paste'!E1817)","v":""},{"$f":"IF('SD Data Paste'!G1817=\"\",\"\",'SD Data Paste'!G1817)","v":""}]
[{"$f":"IF(Table1[विद्यार्थी का नाम]=\"\",\"\",ROWS($A$1:A1817))","v":""},{"$f":"IF('SD Data Paste'!A1818=\"\",\"\",'SD Data Paste'!A1818)","v":""},{"$f":"IF('SD Data Paste'!B1818=\"\",\"\",'SD Data Paste'!B1818)","v":""},1817,{"$f":"IF('SD Data Paste'!E1818=\"\",\"\",'SD Data Paste'!E1818)","v":""},{"$f":"IF('SD Data Paste'!G1818=\"\",\"\",'SD Data Paste'!G1818)","v":""}]
[{"$f":"IF(Table1[विद्यार्थी का नाम]=\"\",\"\",ROWS($A$1:A1818))","v":""},{"$f":"IF('SD Data Paste'!A1819=\"\",\"\",'SD Data Paste'!A1819)","v":""},{"$f":"IF('SD Data Paste'!B1819=\"\",\"\",'SD Data Paste'!B1819)","v":""},1818,{"$f":"IF('SD Data Paste'!E1819=\"\",\"\",'SD Data Paste'!E1819)","v":""},{"$f":"IF('SD Data Paste'!G1819=\"\",\"\",'SD Data Paste'!G1819)","v":""}]
[{"$f":"IF(Table1[विद्यार्थी का नाम]=\"\",\"\",ROWS($A$1:A1819))","v":""},{"$f":"IF('SD Data Paste'!A1820=\"\",\"\",'SD Data Paste'!A1820)","v":""},{"$f":"IF('SD Data Paste'!B1820=\"\",\"\",'SD Data Paste'!B1820)","v":""},1819,{"$f":"IF('SD Data Paste'!E1820=\"\",\"\",'SD Data Paste'!E1820)","v":""},{"$f":"IF('SD Data Paste'!G1820=\"\",\"\",'SD Data Paste'!G1820)","v":""}]
[{"$f":"IF(Table1[विद्यार्थी का नाम]=\"\",\"\",ROWS($A$1:A1820))","v":""},{"$f":"IF('SD Data Paste'!A1821=\"\",\"\",'SD Data Paste'!A1821)","v":""},{"$f":"IF('SD Data Paste'!B1821=\"\",\"\",'SD Data Paste'!B1821)","v":""},1820,{"$f":"IF('SD Data Paste'!E1821=\"\",\"\",'SD Data Paste'!E1821)","v":""},{"$f":"IF('SD Data Paste'!G1821=\"\",\"\",'SD Data Paste'!G1821)","v":""}]
[{"$f":"IF(Table1[विद्यार्थी का नाम]=\"\",\"\",ROWS($A$1:A1821))","v":""},{"$f":"IF('SD Data Paste'!A1822=\"\",\"\",'SD Data Paste'!A1822)","v":""},{"$f":"IF('SD Data Paste'!B1822=\"\",\"\",'SD Data Paste'!B1822)","v":""},1821,{"$f":"IF('SD Data Paste'!E1822=\"\",\"\",'SD Data Paste'!E1822)","v":""},{"$f":"IF('SD Data Paste'!G1822=\"\",\"\",'SD Data Paste'!G1822)","v":""}]
[{"$f":"IF(Table1[विद्यार्थी का नाम]=\"\",\"\",ROWS($A$1:A1822))","v":""},{"$f":"IF('SD Data Paste'!A1823=\"\",\"\",'SD Data Paste'!A1823)","v":""},{"$f":"IF('SD Data Paste'!B1823=\"\",\"\",'SD Data Paste'!B1823)","v":""},1822,{"$f":"IF('SD Data Paste'!E1823=\"\",\"\",'SD Data Paste'!E1823)","v":""},{"$f":"IF('SD Data Paste'!G1823=\"\",\"\",'SD Data Paste'!G1823)","v":""}]
[{"$f":"IF(Table1[विद्यार्थी का नाम]=\"\",\"\",ROWS($A$1:A1823))","v":""},{"$f":"IF('SD Data Paste'!A1824=\"\",\"\",'SD Data Paste'!A1824)","v":""},{"$f":"IF('SD Data Paste'!B1824=\"\",\"\",'SD Data Paste'!B1824)","v":""},1823,{"$f":"IF('SD Data Paste'!E1824=\"\",\"\",'SD Data Paste'!E1824)","v":""},{"$f":"IF('SD Data Paste'!G1824=\"\",\"\",'SD Data Paste'!G1824)","v":""}]
[{"$f":"IF(Table1[विद्यार्थी का नाम]=\"\",\"\",ROWS($A$1:A1824))","v":""},{"$f":"IF('SD Data Paste'!A1825=\"\",\"\",'SD Data Paste'!A1825)","v":""},{"$f":"IF('SD Data Paste'!B1825=\"\",\"\",'SD Data Paste'!B1825)","v":""},1824,{"$f":"IF('SD Data Paste'!E1825=\"\",\"\",'SD Data Paste'!E1825)","v":""},{"$f":"IF('SD Data Paste'!G1825=\"\",\"\",'SD Data Paste'!G1825)","v":""}]
[{"$f":"IF(Table1[विद्यार्थी का नाम]=\"\",\"\",ROWS($A$1:A1825))","v":""},{"$f":"IF('SD Data Paste'!A1826=\"\",\"\",'SD Data Paste'!A1826)","v":""},{"$f":"IF('SD Data Paste'!B1826=\"\",\"\",'SD Data Paste'!B1826)","v":""},1825,{"$f":"IF('SD Data Paste'!E1826=\"\",\"\",'SD Data Paste'!E1826)","v":""},{"$f":"IF('SD Data Paste'!G1826=\"\",\"\",'SD Data Paste'!G1826)","v":""}]
[{"$f":"IF(Table1[विद्यार्थी का नाम]=\"\",\"\",ROWS($A$1:A1826))","v":""},{"$f":"IF('SD Data Paste'!A1827=\"\",\"\",'SD Data Paste'!A1827)","v":""},{"$f":"IF('SD Data Paste'!B1827=\"\",\"\",'SD Data Paste'!B1827)","v":""},1826,{"$f":"IF('SD Data Paste'!E1827=\"\",\"\",'SD Data Paste'!E1827)","v":""},{"$f":"IF('SD Data Paste'!G1827=\"\",\"\",'SD Data Paste'!G1827)","v":""}]
[{"$f":"IF(Table1[विद्यार्थी का नाम]=\"\",\"\",ROWS($A$1:A1827))","v":""},{"$f":"IF('SD Data Paste'!A1828=\"\",\"\",'SD Data Paste'!A1828)","v":""},{"$f":"IF('SD Data Paste'!B1828=\"\",\"\",'SD Data Paste'!B1828)","v":""},1827,{"$f":"IF('SD Data Paste'!E1828=\"\",\"\",'SD Data Paste'!E1828)","v":""},{"$f":"IF('SD Data Paste'!G1828=\"\",\"\",'SD Data Paste'!G1828)","v":""}]
[{"$f":"IF(Table1[विद्यार्थी का नाम]=\"\",\"\",ROWS($A$1:A1828))","v":""},{"$f":"IF('SD Data Paste'!A1829=\"\",\"\",'SD Data Paste'!A1829)","v":""},{"$f":"IF('SD Data Paste'!B1829=\"\",\"\",'SD Data Paste'!B1829)","v":""},1828,{"$f":"IF('SD Data Paste'!E1829=\"\",\"\",'SD Data Paste'!E1829)","v":""},{"$f":"IF('SD Data Paste'!G1829=\"\",\"\",'SD Data Paste'!G1829)","v":""}]
[{"$f":"IF(Table1[विद्यार्थी का नाम]=\"\",\"\",ROWS($A$1:A1829))","v":""},{"$f":"IF('SD Data Paste'!A1830=\"\",\"\",'SD Data Paste'!A1830)","v":""},{"$f":"IF('SD Data Paste'!B1830=\"\",\"\",'SD Data Paste'!B1830)","v":""},1829,{"$f":"IF('SD Data Paste'!E1830=\"\",\"\",'SD Data Paste'!E1830)","v":""},{"$f":"IF('SD Data Paste'!G1830=\"\",\"\",'SD Data Paste'!G1830)","v":""}]
[{"$f":"IF(Table1[विद्यार्थी का नाम]=\"\",\"\",ROWS($A$1:A1830))","v":""},{"$f":"IF('SD Data Paste'!A1831=\"\",\"\",'SD Data Paste'!A1831)","v":""},{"$f":"IF('SD Data Paste'!B1831=\"\",\"\",'SD Data Paste'!B1831)","v":""},1830,{"$f":"IF('SD Data Paste'!E1831=\"\",\"\",'SD Data Paste'!E1831)","v":""},{"$f":"IF('SD Data Paste'!G1831=\"\",\"\",'SD Data Paste'!G1831)","v":""}]
[{"$f":"IF(Table1[विद्यार्थी का नाम]=\"\",\"\",ROWS($A$1:A1831))","v":""},{"$f":"IF('SD Data Paste'!A1832=\"\",\"\",'SD Data Paste'!A1832)","v":""},{"$f":"IF('SD Data Paste'!B1832=\"\",\"\",'SD Data Paste'!B1832)","v":""},1831,{"$f":"IF('SD Data Paste'!E1832=\"\",\"\",'SD Data Paste'!E1832)","v":""},{"$f":"IF('SD Data Paste'!G1832=\"\",\"\",'SD Data Paste'!G1832)","v":""}]
[{"$f":"IF(Table1[विद्यार्थी का नाम]=\"\",\"\",ROWS($A$1:A1832))","v":""},{"$f":"IF('SD Data Paste'!A1833=\"\",\"\",'SD Data Paste'!A1833)","v":""},{"$f":"IF('SD Data Paste'!B1833=\"\",\"\",'SD Data Paste'!B1833)","v":""},1832,{"$f":"IF('SD Data Paste'!E1833=\"\",\"\",'SD Data Paste'!E1833)","v":""},{"$f":"IF('SD Data Paste'!G1833=\"\",\"\",'SD Data Paste'!G1833)","v":""}]
[{"$f":"IF(Table1[विद्यार्थी का नाम]=\"\",\"\",ROWS($A$1:A1833))","v":""},{"$f":"IF('SD Data Paste'!A1834=\"\",\"\",'SD Data Paste'!A1834)","v":""},{"$f":"IF('SD Data Paste'!B1834=\"\",\"\",'SD Data Paste'!B1834)","v":""},1833,{"$f":"IF('SD Data Paste'!E1834=\"\",\"\",'SD Data Paste'!E1834)","v":""},{"$f":"IF('SD Data Paste'!G1834=\"\",\"\",'SD Data Paste'!G1834)","v":""}]
[{"$f":"IF(Table1[विद्यार्थी का नाम]=\"\",\"\",ROWS($A$1:A1834))","v":""},{"$f":"IF('SD Data Paste'!A1835=\"\",\"\",'SD Data Paste'!A1835)","v":""},{"$f":"IF('SD Data Paste'!B1835=\"\",\"\",'SD Data Paste'!B1835)","v":""},1834,{"$f":"IF('SD Data Paste'!E1835=\"\",\"\",'SD Data Paste'!E1835)","v":""},{"$f":"IF('SD Data Paste'!G1835=\"\",\"\",'SD Data Paste'!G1835)","v":""}]
[{"$f":"IF(Table1[विद्यार्थी का नाम]=\"\",\"\",ROWS($A$1:A1835))","v":""},{"$f":"IF('SD Data Paste'!A1836=\"\",\"\",'SD Data Paste'!A1836)","v":""},{"$f":"IF('SD Data Paste'!B1836=\"\",\"\",'SD Data Paste'!B1836)","v":""},1835,{"$f":"IF('SD Data Paste'!E1836=\"\",\"\",'SD Data Paste'!E1836)","v":""},{"$f":"IF('SD Data Paste'!G1836=\"\",\"\",'SD Data Paste'!G1836)","v":""}]
[{"$f":"IF(Table1[विद्यार्थी का नाम]=\"\",\"\",ROWS($A$1:A1836))","v":""},{"$f":"IF('SD Data Paste'!A1837=\"\",\"\",'SD Data Paste'!A1837)","v":""},{"$f":"IF('SD Data Paste'!B1837=\"\",\"\",'SD Data Paste'!B1837)","v":""},1836,{"$f":"IF('SD Data Paste'!E1837=\"\",\"\",'SD Data Paste'!E1837)","v":""},{"$f":"IF('SD Data Paste'!G1837=\"\",\"\",'SD Data Paste'!G1837)","v":""}]
[{"$f":"IF(Table1[विद्यार्थी का नाम]=\"\",\"\",ROWS($A$1:A1837))","v":""},{"$f":"IF('SD Data Paste'!A1838=\"\",\"\",'SD Data Paste'!A1838)","v":""},{"$f":"IF('SD Data Paste'!B1838=\"\",\"\",'SD Data Paste'!B1838)","v":""},1837,{"$f":"IF('SD Data Paste'!E1838=\"\",\"\",'SD Data Paste'!E1838)","v":""},{"$f":"IF('SD Data Paste'!G1838=\"\",\"\",'SD Data Paste'!G1838)","v":""}]
[{"$f":"IF(Table1[विद्यार्थी का नाम]=\"\",\"\",ROWS($A$1:A1838))","v":""},{"$f":"IF('SD Data Paste'!A1839=\"\",\"\",'SD Data Paste'!A1839)","v":""},{"$f":"IF('SD Data Paste'!B1839=\"\",\"\",'SD Data Paste'!B1839)","v":""},1838,{"$f":"IF('SD Data Paste'!E1839=\"\",\"\",'SD Data Paste'!E1839)","v":""},{"$f":"IF('SD Data Paste'!G1839=\"\",\"\",'SD Data Paste'!G1839)","v":""}]
[{"$f":"IF(Table1[विद्यार्थी का नाम]=\"\",\"\",ROWS($A$1:A1839))","v":""},{"$f":"IF('SD Data Paste'!A1840=\"\",\"\",'SD Data Paste'!A1840)","v":""},{"$f":"IF('SD Data Paste'!B1840=\"\",\"\",'SD Data Paste'!B1840)","v":""},1839,{"$f":"IF('SD Data Paste'!E1840=\"\",\"\",'SD Data Paste'!E1840)","v":""},{"$f":"IF('SD Data Paste'!G1840=\"\",\"\",'SD Data Paste'!G1840)","v":""}]
[{"$f":"IF(Table1[विद्यार्थी का नाम]=\"\",\"\",ROWS($A$1:A1840))","v":""},{"$f":"IF('SD Data Paste'!A1841=\"\",\"\",'SD Data Paste'!A1841)","v":""},{"$f":"IF('SD Data Paste'!B1841=\"\",\"\",'SD Data Paste'!B1841)","v":""},1840,{"$f":"IF('SD Data Paste'!E1841=\"\",\"\",'SD Data Paste'!E1841)","v":""},{"$f":"IF('SD Data Paste'!G1841=\"\",\"\",'SD Data Paste'!G1841)","v":""}]
[{"$f":"IF(Table1[विद्यार्थी का नाम]=\"\",\"\",ROWS($A$1:A1841))","v":""},{"$f":"IF('SD Data Paste'!A1842=\"\",\"\",'SD Data Paste'!A1842)","v":""},{"$f":"IF('SD Data Paste'!B1842=\"\",\"\",'SD Data Paste'!B1842)","v":""},1841,{"$f":"IF('SD Data Paste'!E1842=\"\",\"\",'SD Data Paste'!E1842)","v":""},{"$f":"IF('SD Data Paste'!G1842=\"\",\"\",'SD Data Paste'!G1842)","v":""}]
[{"$f":"IF(Table1[विद्यार्थी का नाम]=\"\",\"\",ROWS($A$1:A1842))","v":""},{"$f":"IF('SD Data Paste'!A1843=\"\",\"\",'SD Data Paste'!A1843)","v":""},{"$f":"IF('SD Data Paste'!B1843=\"\",\"\",'SD Data Paste'!B1843)","v":""},1842,{"$f":"IF('SD Data Paste'!E1843=\"\",\"\",'SD Data Paste'!E1843)","v":""},{"$f":"IF('SD Data Paste'!G1843=\"\",\"\",'SD Data Paste'!G1843)","v":""}]
[{"$f":"IF(Table1[विद्यार्थी का नाम]=\"\",\"\",ROWS($A$1:A1843))","v":""},{"$f":"IF('SD Data Paste'!A1844=\"\",\"\",'SD Data Paste'!A1844)","v":""},{"$f":"IF('SD Data Paste'!B1844=\"\",\"\",'SD Data Paste'!B1844)","v":""},1843,{"$f":"IF('SD Data Paste'!E1844=\"\",\"\",'SD Data Paste'!E1844)","v":""},{"$f":"IF('SD Data Paste'!G1844=\"\",\"\",'SD Data Paste'!G1844)","v":""}]
[{"$f":"IF(Table1[विद्यार्थी का नाम]=\"\",\"\",ROWS($A$1:A1844))","v":""},{"$f":"IF('SD Data Paste'!A1845=\"\",\"\",'SD Data Paste'!A1845)","v":""},{"$f":"IF('SD Data Paste'!B1845=\"\",\"\",'SD Data Paste'!B1845)","v":""},1844,{"$f":"IF('SD Data Paste'!E1845=\"\",\"\",'SD Data Paste'!E1845)","v":""},{"$f":"IF('SD Data Paste'!G1845=\"\",\"\",'SD Data Paste'!G1845)","v":""}]
[{"$f":"IF(Table1[विद्यार्थी का नाम]=\"\",\"\",ROWS($A$1:A1845))","v":""},{"$f":"IF('SD Data Paste'!A1846=\"\",\"\",'SD Data Paste'!A1846)","v":""},{"$f":"IF('SD Data Paste'!B1846=\"\",\"\",'SD Data Paste'!B1846)","v":""},1845,{"$f":"IF('SD Data Paste'!E1846=\"\",\"\",'SD Data Paste'!E1846)","v":""},{"$f":"IF('SD Data Paste'!G1846=\"\",\"\",'SD Data Paste'!G1846)","v":""}]
[{"$f":"IF(Table1[विद्यार्थी का नाम]=\"\",\"\",ROWS($A$1:A1846))","v":""},{"$f":"IF('SD Data Paste'!A1847=\"\",\"\",'SD Data Paste'!A1847)","v":""},{"$f":"IF('SD Data Paste'!B1847=\"\",\"\",'SD Data Paste'!B1847)","v":""},1846,{"$f":"IF('SD Data Paste'!E1847=\"\",\"\",'SD Data Paste'!E1847)","v":""},{"$f":"IF('SD Data Paste'!G1847=\"\",\"\",'SD Data Paste'!G1847)","v":""}]
[{"$f":"IF(Table1[विद्यार्थी का नाम]=\"\",\"\",ROWS($A$1:A1847))","v":""},{"$f":"IF('SD Data Paste'!A1848=\"\",\"\",'SD Data Paste'!A1848)","v":""},{"$f":"IF('SD Data Paste'!B1848=\"\",\"\",'SD Data Paste'!B1848)","v":""},1847,{"$f":"IF('SD Data Paste'!E1848=\"\",\"\",'SD Data Paste'!E1848)","v":""},{"$f":"IF('SD Data Paste'!G1848=\"\",\"\",'SD Data Paste'!G1848)","v":""}]
[{"$f":"IF(Table1[विद्यार्थी का नाम]=\"\",\"\",ROWS($A$1:A1848))","v":""},{"$f":"IF('SD Data Paste'!A1849=\"\",\"\",'SD Data Paste'!A1849)","v":""},{"$f":"IF('SD Data Paste'!B1849=\"\",\"\",'SD Data Paste'!B1849)","v":""},1848,{"$f":"IF('SD Data Paste'!E1849=\"\",\"\",'SD Data Paste'!E1849)","v":""},{"$f":"IF('SD Data Paste'!G1849=\"\",\"\",'SD Data Paste'!G1849)","v":""}]
[{"$f":"IF(Table1[विद्यार्थी का नाम]=\"\",\"\",ROWS($A$1:A1849))","v":""},{"$f":"IF('SD Data Paste'!A1850=\"\",\"\",'SD Data Paste'!A1850)","v":""},{"$f":"IF('SD Data Paste'!B1850=\"\",\"\",'SD Data Paste'!B1850)","v":""},1849,{"$f":"IF('SD Data Paste'!E1850=\"\",\"\",'SD Data Paste'!E1850)","v":""},{"$f":"IF('SD Data Paste'!G1850=\"\",\"\",'SD Data Paste'!G1850)","v":""}]
[{"$f":"IF(Table1[विद्यार्थी का नाम]=\"\",\"\",ROWS($A$1:A1850))","v":""},{"$f":"IF('SD Data Paste'!A1851=\"\",\"\",'SD Data Paste'!A1851)","v":""},{"$f":"IF('SD Data Paste'!B1851=\"\",\"\",'SD Data Paste'!B1851)","v":""},1850,{"$f":"IF('SD Data Paste'!E1851=\"\",\"\",'SD Data Paste'!E1851)","v":""},{"$f":"IF('SD Data Paste'!G1851=\"\",\"\",'SD Data Paste'!G1851)","v":""}]
[{"$f":"IF(Table1[विद्यार्थी का नाम]=\"\",\"\",ROWS($A$1:A1851))","v":""},{"$f":"IF('SD Data Paste'!A1852=\"\",\"\",'SD Data Paste'!A1852)","v":""},{"$f":"IF('SD Data Paste'!B1852=\"\",\"\",'SD Data Paste'!B1852)","v":""},1851,{"$f":"IF('SD Data Paste'!E1852=\"\",\"\",'SD Data Paste'!E1852)","v":""},{"$f":"IF('SD Data Paste'!G1852=\"\",\"\",'SD Data Paste'!G1852)","v":""}]
[{"$f":"IF(Table1[विद्यार्थी का नाम]=\"\",\"\",ROWS($A$1:A1852))","v":""},{"$f":"IF('SD Data Paste'!A1853=\"\",\"\",'SD Data Paste'!A1853)","v":""},{"$f":"IF('SD Data Paste'!B1853=\"\",\"\",'SD Data Paste'!B1853)","v":""},1852,{"$f":"IF('SD Data Paste'!E1853=\"\",\"\",'SD Data Paste'!E1853)","v":""},{"$f":"IF('SD Data Paste'!G1853=\"\",\"\",'SD Data Paste'!G1853)","v":""}]
[{"$f":"IF(Table1[विद्यार्थी का नाम]=\"\",\"\",ROWS($A$1:A1853))","v":""},{"$f":"IF('SD Data Paste'!A1854=\"\",\"\",'SD Data Paste'!A1854)","v":""},{"$f":"IF('SD Data Paste'!B1854=\"\",\"\",'SD Data Paste'!B1854)","v":""},1853,{"$f":"IF('SD Data Paste'!E1854=\"\",\"\",'SD Data Paste'!E1854)","v":""},{"$f":"IF('SD Data Paste'!G1854=\"\",\"\",'SD Data Paste'!G1854)","v":""}]
[{"$f":"IF(Table1[विद्यार्थी का नाम]=\"\",\"\",ROWS($A$1:A1854))","v":""},{"$f":"IF('SD Data Paste'!A1855=\"\",\"\",'SD Data Paste'!A1855)","v":""},{"$f":"IF('SD Data Paste'!B1855=\"\",\"\",'SD Data Paste'!B1855)","v":""},1854,{"$f":"IF('SD Data Paste'!E1855=\"\",\"\",'SD Data Paste'!E1855)","v":""},{"$f":"IF('SD Data Paste'!G1855=\"\",\"\",'SD Data Paste'!G1855)","v":""}]
[{"$f":"IF(Table1[विद्यार्थी का नाम]=\"\",\"\",ROWS($A$1:A1855))","v":""},{"$f":"IF('SD Data Paste'!A1856=\"\",\"\",'SD Data Paste'!A1856)","v":""},{"$f":"IF('SD Data Paste'!B1856=\"\",\"\",'SD Data Paste'!B1856)","v":""},1855,{"$f":"IF('SD Data Paste'!E1856=\"\",\"\",'SD Data Paste'!E1856)","v":""},{"$f":"IF('SD Data Paste'!G1856=\"\",\"\",'SD Data Paste'!G1856)","v":""}]
[{"$f":"IF(Table1[विद्यार्थी का नाम]=\"\",\"\",ROWS($A$1:A1856))","v":""},{"$f":"IF('SD Data Paste'!A1857=\"\",\"\",'SD Data Paste'!A1857)","v":""},{"$f":"IF('SD Data Paste'!B1857=\"\",\"\",'SD Data Paste'!B1857)","v":""},1856,{"$f":"IF('SD Data Paste'!E1857=\"\",\"\",'SD Data Paste'!E1857)","v":""},{"$f":"IF('SD Data Paste'!G1857=\"\",\"\",'SD Data Paste'!G1857)","v":""}]
[{"$f":"IF(Table1[विद्यार्थी का नाम]=\"\",\"\",ROWS($A$1:A1857))","v":""},{"$f":"IF('SD Data Paste'!A1858=\"\",\"\",'SD Data Paste'!A1858)","v":""},{"$f":"IF('SD Data Paste'!B1858=\"\",\"\",'SD Data Paste'!B1858)","v":""},1857,{"$f":"IF('SD Data Paste'!E1858=\"\",\"\",'SD Data Paste'!E1858)","v":""},{"$f":"IF('SD Data Paste'!G1858=\"\",\"\",'SD Data Paste'!G1858)","v":""}]
[{"$f":"IF(Table1[विद्यार्थी का नाम]=\"\",\"\",ROWS($A$1:A1858))","v":""},{"$f":"IF('SD Data Paste'!A1859=\"\",\"\",'SD Data Paste'!A1859)","v":""},{"$f":"IF('SD Data Paste'!B1859=\"\",\"\",'SD Data Paste'!B1859)","v":""},1858,{"$f":"IF('SD Data Paste'!E1859=\"\",\"\",'SD Data Paste'!E1859)","v":""},{"$f":"IF('SD Data Paste'!G1859=\"\",\"\",'SD Data Paste'!G1859)","v":""}]
[{"$f":"IF(Table1[विद्यार्थी का नाम]=\"\",\"\",ROWS($A$1:A1859))","v":""},{"$f":"IF('SD Data Paste'!A1860=\"\",\"\",'SD Data Paste'!A1860)","v":""},{"$f":"IF('SD Data Paste'!B1860=\"\",\"\",'SD Data Paste'!B1860)","v":""},{"$f":"IF(D1861=\"\",\"\",D1861+1)","v":1859},{"$f":"IF('SD Data Paste'!E1860=\"\",\"\",'SD Data Paste'!E1860)","v":""},{"$f":"IF('SD Data Paste'!G1860=\"\",\"\",'SD Data Paste'!G1860)","v":""}]
[{"$f":"IF(Table1[विद्यार्थी का नाम]=\"\",\"\",ROWS($A$1:A1860))","v":""},{"$f":"IF('SD Data Paste'!A1861=\"\",\"\",'SD Data Paste'!A1861)","v":""},{"$f":"IF('SD Data Paste'!B1861=\"\",\"\",'SD Data Paste'!B1861)","v":""},1860,{"$f":"IF('SD Data Paste'!E1861=\"\",\"\",'SD Data Paste'!E1861)","v":""},{"$f":"IF('SD Data Paste'!G1861=\"\",\"\",'SD Data Paste'!G1861)","v":""}]
[{"$f":"IF(Table1[विद्यार्थी का नाम]=\"\",\"\",ROWS($A$1:A1861))","v":""},{"$f":"IF('SD Data Paste'!A1862=\"\",\"\",'SD Data Paste'!A1862)","v":""},{"$f":"IF('SD Data Paste'!B1862=\"\",\"\",'SD Data Paste'!B1862)","v":""},1861,{"$f":"IF('SD Data Paste'!E1862=\"\",\"\",'SD Data Paste'!E1862)","v":""},{"$f":"IF('SD Data Paste'!G1862=\"\",\"\",'SD Data Paste'!G1862)","v":""}]
[{"$f":"IF(Table1[विद्यार्थी का नाम]=\"\",\"\",ROWS($A$1:A1862))","v":""},{"$f":"IF('SD Data Paste'!A1863=\"\",\"\",'SD Data Paste'!A1863)","v":""},{"$f":"IF('SD Data Paste'!B1863=\"\",\"\",'SD Data Paste'!B1863)","v":""},1862,{"$f":"IF('SD Data Paste'!E1863=\"\",\"\",'SD Data Paste'!E1863)","v":""},{"$f":"IF('SD Data Paste'!G1863=\"\",\"\",'SD Data Paste'!G1863)","v":""}]
[{"$f":"IF(Table1[विद्यार्थी का नाम]=\"\",\"\",ROWS($A$1:A1863))","v":""},{"$f":"IF('SD Data Paste'!A1864=\"\",\"\",'SD Data Paste'!A1864)","v":""},{"$f":"IF('SD Data Paste'!B1864=\"\",\"\",'SD Data Paste'!B1864)","v":""},1863,{"$f":"IF('SD Data Paste'!E1864=\"\",\"\",'SD Data Paste'!E1864)","v":""},{"$f":"IF('SD Data Paste'!G1864=\"\",\"\",'SD Data Paste'!G1864)","v":""}]
[{"$f":"IF(Table1[विद्यार्थी का नाम]=\"\",\"\",ROWS($A$1:A1864))","v":""},{"$f":"IF('SD Data Paste'!A1865=\"\",\"\",'SD Data Paste'!A1865)","v":""},{"$f":"IF('SD Data Paste'!B1865=\"\",\"\",'SD Data Paste'!B1865)","v":""},1864,{"$f":"IF('SD Data Paste'!E1865=\"\",\"\",'SD Data Paste'!E1865)","v":""},{"$f":"IF('SD Data Paste'!G1865=\"\",\"\",'SD Data Paste'!G1865)","v":""}]
[{"$f":"IF(Table1[विद्यार्थी का नाम]=\"\",\"\",ROWS($A$1:A1865))","v":""},{"$f":"IF('SD Data Paste'!A1866=\"\",\"\",'SD Data Paste'!A1866)","v":""},{"$f":"IF('SD Data Paste'!B1866=\"\",\"\",'SD Data Paste'!B1866)","v":""},1865,{"$f":"IF('SD Data Paste'!E1866=\"\",\"\",'SD Data Paste'!E1866)","v":""},{"$f":"IF('SD Data Paste'!G1866=\"\",\"\",'SD Data Paste'!G1866)","v":""}]
[{"$f":"IF(Table1[विद्यार्थी का नाम]=\"\",\"\",ROWS($A$1:A1866))","v":""},{"$f":"IF('SD Data Paste'!A1867=\"\",\"\",'SD Data Paste'!A1867)","v":""},{"$f":"IF('SD Data Paste'!B1867=\"\",\"\",'SD Data Paste'!B1867)","v":""},1866,{"$f":"IF('SD Data Paste'!E1867=\"\",\"\",'SD Data Paste'!E1867)","v":""},{"$f":"IF('SD Data Paste'!G1867=\"\",\"\",'SD Data Paste'!G1867)","v":""}]
[{"$f":"IF(Table1[विद्यार्थी का नाम]=\"\",\"\",ROWS($A$1:A1867))","v":""},{"$f":"IF('SD Data Paste'!A1868=\"\",\"\",'SD Data Paste'!A1868)","v":""},{"$f":"IF('SD Data Paste'!B1868=\"\",\"\",'SD Data Paste'!B1868)","v":""},1867,{"$f":"IF('SD Data Paste'!E1868=\"\",\"\",'SD Data Paste'!E1868)","v":""},{"$f":"IF('SD Data Paste'!G1868=\"\",\"\",'SD Data Paste'!G1868)","v":""}]
[{"$f":"IF(Table1[विद्यार्थी का नाम]=\"\",\"\",ROWS($A$1:A1868))","v":""},{"$f":"IF('SD Data Paste'!A1869=\"\",\"\",'SD Data Paste'!A1869)","v":""},{"$f":"IF('SD Data Paste'!B1869=\"\",\"\",'SD Data Paste'!B1869)","v":""},1868,{"$f":"IF('SD Data Paste'!E1869=\"\",\"\",'SD Data Paste'!E1869)","v":""},{"$f":"IF('SD Data Paste'!G1869=\"\",\"\",'SD Data Paste'!G1869)","v":""}]
[{"$f":"IF(Table1[विद्यार्थी का नाम]=\"\",\"\",ROWS($A$1:A1869))","v":""},{"$f":"IF('SD Data Paste'!A1870=\"\",\"\",'SD Data Paste'!A1870)","v":""},{"$f":"IF('SD Data Paste'!B1870=\"\",\"\",'SD Data Paste'!B1870)","v":""},1869,{"$f":"IF('SD Data Paste'!E1870=\"\",\"\",'SD Data Paste'!E1870)","v":""},{"$f":"IF('SD Data Paste'!G1870=\"\",\"\",'SD Data Paste'!G1870)","v":""}]
[{"$f":"IF(Table1[विद्यार्थी का नाम]=\"\",\"\",ROWS($A$1:A1870))","v":""},{"$f":"IF('SD Data Paste'!A1871=\"\",\"\",'SD Data Paste'!A1871)","v":""},{"$f":"IF('SD Data Paste'!B1871=\"\",\"\",'SD Data Paste'!B1871)","v":""},1870,{"$f":"IF('SD Data Paste'!E1871=\"\",\"\",'SD Data Paste'!E1871)","v":""},{"$f":"IF('SD Data Paste'!G1871=\"\",\"\",'SD Data Paste'!G1871)","v":""}]
[{"$f":"IF(Table1[विद्यार्थी का नाम]=\"\",\"\",ROWS($A$1:A1871))","v":""},{"$f":"IF('SD Data Paste'!A1872=\"\",\"\",'SD Data Paste'!A1872)","v":""},{"$f":"IF('SD Data Paste'!B1872=\"\",\"\",'SD Data Paste'!B1872)","v":""},1871,{"$f":"IF('SD Data Paste'!E1872=\"\",\"\",'SD Data Paste'!E1872)","v":""},{"$f":"IF('SD Data Paste'!G1872=\"\",\"\",'SD Data Paste'!G1872)","v":""}]
[{"$f":"IF(Table1[विद्यार्थी का नाम]=\"\",\"\",ROWS($A$1:A1872))","v":""},{"$f":"IF('SD Data Paste'!A1873=\"\",\"\",'SD Data Paste'!A1873)","v":""},{"$f":"IF('SD Data Paste'!B1873=\"\",\"\",'SD Data Paste'!B1873)","v":""},1872,{"$f":"IF('SD Data Paste'!E1873=\"\",\"\",'SD Data Paste'!E1873)","v":""},{"$f":"IF('SD Data Paste'!G1873=\"\",\"\",'SD Data Paste'!G1873)","v":""}]
[{"$f":"IF(Table1[विद्यार्थी का नाम]=\"\",\"\",ROWS($A$1:A1873))","v":""},{"$f":"IF('SD Data Paste'!A1874=\"\",\"\",'SD Data Paste'!A1874)","v":""},{"$f":"IF('SD Data Paste'!B1874=\"\",\"\",'SD Data Paste'!B1874)","v":""},1873,{"$f":"IF('SD Data Paste'!E1874=\"\",\"\",'SD Data Paste'!E1874)","v":""},{"$f":"IF('SD Data Paste'!G1874=\"\",\"\",'SD Data Paste'!G1874)","v":""}]
[{"$f":"IF(Table1[विद्यार्थी का नाम]=\"\",\"\",ROWS($A$1:A1874))","v":""},{"$f":"IF('SD Data Paste'!A1875=\"\",\"\",'SD Data Paste'!A1875)","v":""},{"$f":"IF('SD Data Paste'!B1875=\"\",\"\",'SD Data Paste'!B1875)","v":""},1874,{"$f":"IF('SD Data Paste'!E1875=\"\",\"\",'SD Data Paste'!E1875)","v":""},{"$f":"IF('SD Data Paste'!G1875=\"\",\"\",'SD Data Paste'!G1875)","v":""}]
[{"$f":"IF(Table1[विद्यार्थी का नाम]=\"\",\"\",ROWS($A$1:A1875))","v":""},{"$f":"IF('SD Data Paste'!A1876=\"\",\"\",'SD Data Paste'!A1876)","v":""},{"$f":"IF('SD Data Paste'!B1876=\"\",\"\",'SD Data Paste'!B1876)","v":""},1875,{"$f":"IF('SD Data Paste'!E1876=\"\",\"\",'SD Data Paste'!E1876)","v":""},{"$f":"IF('SD Data Paste'!G1876=\"\",\"\",'SD Data Paste'!G1876)","v":""}]
[{"$f":"IF(Table1[विद्यार्थी का नाम]=\"\",\"\",ROWS($A$1:A1876))","v":""},{"$f":"IF('SD Data Paste'!A1877=\"\",\"\",'SD Data Paste'!A1877)","v":""},{"$f":"IF('SD Data Paste'!B1877=\"\",\"\",'SD Data Paste'!B1877)","v":""},1876,{"$f":"IF('SD Data Paste'!E1877=\"\",\"\",'SD Data Paste'!E1877)","v":""},{"$f":"IF('SD Data Paste'!G1877=\"\",\"\",'SD Data Paste'!G1877)","v":""}]
[{"$f":"IF(Table1[विद्यार्थी का नाम]=\"\",\"\",ROWS($A$1:A1877))","v":""},{"$f":"IF('SD Data Paste'!A1878=\"\",\"\",'SD Data Paste'!A1878)","v":""},{"$f":"IF('SD Data Paste'!B1878=\"\",\"\",'SD Data Paste'!B1878)","v":""},1877,{"$f":"IF('SD Data Paste'!E1878=\"\",\"\",'SD Data Paste'!E1878)","v":""},{"$f":"IF('SD Data Paste'!G1878=\"\",\"\",'SD Data Paste'!G1878)","v":""}]
[{"$f":"IF(Table1[विद्यार्थी का नाम]=\"\",\"\",ROWS($A$1:A1878))","v":""},{"$f":"IF('SD Data Paste'!A1879=\"\",\"\",'SD Data Paste'!A1879)","v":""},{"$f":"IF('SD Data Paste'!B1879=\"\",\"\",'SD Data Paste'!B1879)","v":""},1878,{"$f":"IF('SD Data Paste'!E1879=\"\",\"\",'SD Data Paste'!E1879)","v":""},{"$f":"IF('SD Data Paste'!G1879=\"\",\"\",'SD Data Paste'!G1879)","v":""}]
[{"$f":"IF(Table1[विद्यार्थी का नाम]=\"\",\"\",ROWS($A$1:A1879))","v":""},{"$f":"IF('SD Data Paste'!A1880=\"\",\"\",'SD Data Paste'!A1880)","v":""},{"$f":"IF('SD Data Paste'!B1880=\"\",\"\",'SD Data Paste'!B1880)","v":""},1879,{"$f":"IF('SD Data Paste'!E1880=\"\",\"\",'SD Data Paste'!E1880)","v":""},{"$f":"IF('SD Data Paste'!G1880=\"\",\"\",'SD Data Paste'!G1880)","v":""}]
[{"$f":"IF(Table1[विद्यार्थी का नाम]=\"\",\"\",ROWS($A$1:A1880))","v":""},{"$f":"IF('SD Data Paste'!A1881=\"\",\"\",'SD Data Paste'!A1881)","v":""},{"$f":"IF('SD Data Paste'!B1881=\"\",\"\",'SD Data Paste'!B1881)","v":""},1880,{"$f":"IF('SD Data Paste'!E1881=\"\",\"\",'SD Data Paste'!E1881)","v":""},{"$f":"IF('SD Data Paste'!G1881=\"\",\"\",'SD Data Paste'!G1881)","v":""}]
[{"$f":"IF(Table1[विद्यार्थी का नाम]=\"\",\"\",ROWS($A$1:A1881))","v":""},{"$f":"IF('SD Data Paste'!A1882=\"\",\"\",'SD Data Paste'!A1882)","v":""},{"$f":"IF('SD Data Paste'!B1882=\"\",\"\",'SD Data Paste'!B1882)","v":""},1881,{"$f":"IF('SD Data Paste'!E1882=\"\",\"\",'SD Data Paste'!E1882)","v":""},{"$f":"IF('SD Data Paste'!G1882=\"\",\"\",'SD Data Paste'!G1882)","v":""}]
[{"$f":"IF(Table1[विद्यार्थी का नाम]=\"\",\"\",ROWS($A$1:A1882))","v":""},{"$f":"IF('SD Data Paste'!A1883=\"\",\"\",'SD Data Paste'!A1883)","v":""},{"$f":"IF('SD Data Paste'!B1883=\"\",\"\",'SD Data Paste'!B1883)","v":""},1882,{"$f":"IF('SD Data Paste'!E1883=\"\",\"\",'SD Data Paste'!E1883)","v":""},{"$f":"IF('SD Data Paste'!G1883=\"\",\"\",'SD Data Paste'!G1883)","v":""}]
[{"$f":"IF(Table1[विद्यार्थी का नाम]=\"\",\"\",ROWS($A$1:A1883))","v":""},{"$f":"IF('SD Data Paste'!A1884=\"\",\"\",'SD Data Paste'!A1884)","v":""},{"$f":"IF('SD Data Paste'!B1884=\"\",\"\",'SD Data Paste'!B1884)","v":""},1883,{"$f":"IF('SD Data Paste'!E1884=\"\",\"\",'SD Data Paste'!E1884)","v":""},{"$f":"IF('SD Data Paste'!G1884=\"\",\"\",'SD Data Paste'!G1884)","v":""}]
[{"$f":"IF(Table1[विद्यार्थी का नाम]=\"\",\"\",ROWS($A$1:A1884))","v":""},{"$f":"IF('SD Data Paste'!A1885=\"\",\"\",'SD Data Paste'!A1885)","v":""},{"$f":"IF('SD Data Paste'!B1885=\"\",\"\",'SD Data Paste'!B1885)","v":""},1884,{"$f":"IF('SD Data Paste'!E1885=\"\",\"\",'SD Data Paste'!E1885)","v":""},{"$f":"IF('SD Data Paste'!G1885=\"\",\"\",'SD Data Paste'!G1885)","v":""}]
[{"$f":"IF(Table1[विद्यार्थी का नाम]=\"\",\"\",ROWS($A$1:A1885))","v":""},{"$f":"IF('SD Data Paste'!A1886=\"\",\"\",'SD Data Paste'!A1886)","v":""},{"$f":"IF('SD Data Paste'!B1886=\"\",\"\",'SD Data Paste'!B1886)","v":""},1885,{"$f":"IF('SD Data Paste'!E1886=\"\",\"\",'SD Data Paste'!E1886)","v":""},{"$f":"IF('SD Data Paste'!G1886=\"\",\"\",'SD Data Paste'!G1886)","v":""}]
[{"$f":"IF(Table1[विद्यार्थी का नाम]=\"\",\"\",ROWS($A$1:A1886))","v":""},{"$f":"IF('SD Data Paste'!A1887=\"\",\"\",'SD Data Paste'!A1887)","v":""},{"$f":"IF('SD Data Paste'!B1887=\"\",\"\",'SD Data Paste'!B1887)","v":""},1886,{"$f":"IF('SD Data Paste'!E1887=\"\",\"\",'SD Data Paste'!E1887)","v":""},{"$f":"IF('SD Data Paste'!G1887=\"\",\"\",'SD Data Paste'!G1887)","v":""}]
[{"$f":"IF(Table1[विद्यार्थी का नाम]=\"\",\"\",ROWS($A$1:A1887))","v":""},{"$f":"IF('SD Data Paste'!A1888=\"\",\"\",'SD Data Paste'!A1888)","v":""},{"$f":"IF('SD Data Paste'!B1888=\"\",\"\",'SD Data Paste'!B1888)","v":""},1887,{"$f":"IF('SD Data Paste'!E1888=\"\",\"\",'SD Data Paste'!E1888)","v":""},{"$f":"IF('SD Data Paste'!G1888=\"\",\"\",'SD Data Paste'!G1888)","v":""}]
[{"$f":"IF(Table1[विद्यार्थी का नाम]=\"\",\"\",ROWS($A$1:A1888))","v":""},{"$f":"IF('SD Data Paste'!A1889=\"\",\"\",'SD Data Paste'!A1889)","v":""},{"$f":"IF('SD Data Paste'!B1889=\"\",\"\",'SD Data Paste'!B1889)","v":""},1888,{"$f":"IF('SD Data Paste'!E1889=\"\",\"\",'SD Data Paste'!E1889)","v":""},{"$f":"IF('SD Data Paste'!G1889=\"\",\"\",'SD Data Paste'!G1889)","v":""}]
[{"$f":"IF(Table1[विद्यार्थी का नाम]=\"\",\"\",ROWS($A$1:A1889))","v":""},{"$f":"IF('SD Data Paste'!A1890=\"\",\"\",'SD Data Paste'!A1890)","v":""},{"$f":"IF('SD Data Paste'!B1890=\"\",\"\",'SD Data Paste'!B1890)","v":""},1889,{"$f":"IF('SD Data Paste'!E1890=\"\",\"\",'SD Data Paste'!E1890)","v":""},{"$f":"IF('SD Data Paste'!G1890=\"\",\"\",'SD Data Paste'!G1890)","v":""}]
[{"$f":"IF(Table1[विद्यार्थी का नाम]=\"\",\"\",ROWS($A$1:A1890))","v":""},{"$f":"IF('SD Data Paste'!A1891=\"\",\"\",'SD Data Paste'!A1891)","v":""},{"$f":"IF('SD Data Paste'!B1891=\"\",\"\",'SD Data Paste'!B1891)","v":""},1890,{"$f":"IF('SD Data Paste'!E1891=\"\",\"\",'SD Data Paste'!E1891)","v":""},{"$f":"IF('SD Data Paste'!G1891=\"\",\"\",'SD Data Paste'!G1891)","v":""}]
[{"$f":"IF(Table1[विद्यार्थी का नाम]=\"\",\"\",ROWS($A$1:A1891))","v":""},{"$f":"IF('SD Data Paste'!A1892=\"\",\"\",'SD Data Paste'!A1892)","v":""},{"$f":"IF('SD Data Paste'!B1892=\"\",\"\",'SD Data Paste'!B1892)","v":""},1891,{"$f":"IF('SD Data Paste'!E1892=\"\",\"\",'SD Data Paste'!E1892)","v":""},{"$f":"IF('SD Data Paste'!G1892=\"\",\"\",'SD Data Paste'!G1892)","v":""}]
[{"$f":"IF(Table1[विद्यार्थी का नाम]=\"\",\"\",ROWS($A$1:A1892))","v":""},{"$f":"IF('SD Data Paste'!A1893=\"\",\"\",'SD Data Paste'!A1893)","v":""},{"$f":"IF('SD Data Paste'!B1893=\"\",\"\",'SD Data Paste'!B1893)","v":""},1892,{"$f":"IF('SD Data Paste'!E1893=\"\",\"\",'SD Data Paste'!E1893)","v":""},{"$f":"IF('SD Data Paste'!G1893=\"\",\"\",'SD Data Paste'!G1893)","v":""}]
[{"$f":"IF(Table1[विद्यार्थी का नाम]=\"\",\"\",ROWS($A$1:A1893))","v":""},{"$f":"IF('SD Data Paste'!A1894=\"\",\"\",'SD Data Paste'!A1894)","v":""},{"$f":"IF('SD Data Paste'!B1894=\"\",\"\",'SD Data Paste'!B1894)","v":""},1893,{"$f":"IF('SD Data Paste'!E1894=\"\",\"\",'SD Data Paste'!E1894)","v":""},{"$f":"IF('SD Data Paste'!G1894=\"\",\"\",'SD Data Paste'!G1894)","v":""}]
[{"$f":"IF(Table1[विद्यार्थी का नाम]=\"\",\"\",ROWS($A$1:A1894))","v":""},{"$f":"IF('SD Data Paste'!A1895=\"\",\"\",'SD Data Paste'!A1895)","v":""},{"$f":"IF('SD Data Paste'!B1895=\"\",\"\",'SD Data Paste'!B1895)","v":""},1894,{"$f":"IF('SD Data Paste'!E1895=\"\",\"\",'SD Data Paste'!E1895)","v":""},{"$f":"IF('SD Data Paste'!G1895=\"\",\"\",'SD Data Paste'!G1895)","v":""}]
[{"$f":"IF(Table1[विद्यार्थी का नाम]=\"\",\"\",ROWS($A$1:A1895))","v":""},{"$f":"IF('SD Data Paste'!A1896=\"\",\"\",'SD Data Paste'!A1896)","v":""},{"$f":"IF('SD Data Paste'!B1896=\"\",\"\",'SD Data Paste'!B1896)","v":""},1895,{"$f":"IF('SD Data Paste'!E1896=\"\",\"\",'SD Data Paste'!E1896)","v":""},{"$f":"IF('SD Data Paste'!G1896=\"\",\"\",'SD Data Paste'!G1896)","v":""}]
[{"$f":"IF(Table1[विद्यार्थी का नाम]=\"\",\"\",ROWS($A$1:A1896))","v":""},{"$f":"IF('SD Data Paste'!A1897=\"\",\"\",'SD Data Paste'!A1897)","v":""},{"$f":"IF('SD Data Paste'!B1897=\"\",\"\",'SD Data Paste'!B1897)","v":""},1896,{"$f":"IF('SD Data Paste'!E1897=\"\",\"\",'SD Data Paste'!E1897)","v":""},{"$f":"IF('SD Data Paste'!G1897=\"\",\"\",'SD Data Paste'!G1897)","v":""}]
[{"$f":"IF(Table1[विद्यार्थी का नाम]=\"\",\"\",ROWS($A$1:A1897))","v":""},{"$f":"IF('SD Data Paste'!A1898=\"\",\"\",'SD Data Paste'!A1898)","v":""},{"$f":"IF('SD Data Paste'!B1898=\"\",\"\",'SD Data Paste'!B1898)","v":""},1897,{"$f":"IF('SD Data Paste'!E1898=\"\",\"\",'SD Data Paste'!E1898)","v":""},{"$f":"IF('SD Data Paste'!G1898=\"\",\"\",'SD Data Paste'!G1898)","v":""}]
[{"$f":"IF(Table1[विद्यार्थी का नाम]=\"\",\"\",ROWS($A$1:A1898))","v":""},{"$f":"IF('SD Data Paste'!A1899=\"\",\"\",'SD Data Paste'!A1899)","v":""},{"$f":"IF('SD Data Paste'!B1899=\"\",\"\",'SD Data Paste'!B1899)","v":""},1898,{"$f":"IF('SD Data Paste'!E1899=\"\",\"\",'SD Data Paste'!E1899)","v":""},{"$f":"IF('SD Data Paste'!G1899=\"\",\"\",'SD Data Paste'!G1899)","v":""}]
[{"$f":"IF(Table1[विद्यार्थी का नाम]=\"\",\"\",ROWS($A$1:A1899))","v":""},{"$f":"IF('SD Data Paste'!A1900=\"\",\"\",'SD Data Paste'!A1900)","v":""},{"$f":"IF('SD Data Paste'!B1900=\"\",\"\",'SD Data Paste'!B1900)","v":""},1899,{"$f":"IF('SD Data Paste'!E1900=\"\",\"\",'SD Data Paste'!E1900)","v":""},{"$f":"IF('SD Data Paste'!G1900=\"\",\"\",'SD Data Paste'!G1900)","v":""}]
[{"$f":"IF(Table1[विद्यार्थी का नाम]=\"\",\"\",ROWS($A$1:A1900))","v":""},{"$f":"IF('SD Data Paste'!A1901=\"\",\"\",'SD Data Paste'!A1901)","v":""},{"$f":"IF('SD Data Paste'!B1901=\"\",\"\",'SD Data Paste'!B1901)","v":""},1900,{"$f":"IF('SD Data Paste'!E1901=\"\",\"\",'SD Data Paste'!E1901)","v":""},{"$f":"IF('SD Data Paste'!G1901=\"\",\"\",'SD Data Paste'!G1901)","v":""}]
[{"$f":"IF(Table1[विद्यार्थी का नाम]=\"\",\"\",ROWS($A$1:A1901))","v":""},{"$f":"IF('SD Data Paste'!A1902=\"\",\"\",'SD Data Paste'!A1902)","v":""},{"$f":"IF('SD Data Paste'!B1902=\"\",\"\",'SD Data Paste'!B1902)","v":""},1901,{"$f":"IF('SD Data Paste'!E1902=\"\",\"\",'SD Data Paste'!E1902)","v":""},{"$f":"IF('SD Data Paste'!G1902=\"\",\"\",'SD Data Paste'!G1902)","v":""}]
[{"$f":"IF(Table1[विद्यार्थी का नाम]=\"\",\"\",ROWS($A$1:A1902))","v":""},{"$f":"IF('SD Data Paste'!A1903=\"\",\"\",'SD Data Paste'!A1903)","v":""},{"$f":"IF('SD Data Paste'!B1903=\"\",\"\",'SD Data Paste'!B1903)","v":""},1902,{"$f":"IF('SD Data Paste'!E1903=\"\",\"\",'SD Data Paste'!E1903)","v":""},{"$f":"IF('SD Data Paste'!G1903=\"\",\"\",'SD Data Paste'!G1903)","v":""}]
[{"$f":"IF(Table1[विद्यार्थी का नाम]=\"\",\"\",ROWS($A$1:A1903))","v":""},{"$f":"IF('SD Data Paste'!A1904=\"\",\"\",'SD Data Paste'!A1904)","v":""},{"$f":"IF('SD Data Paste'!B1904=\"\",\"\",'SD Data Paste'!B1904)","v":""},1903,{"$f":"IF('SD Data Paste'!E1904=\"\",\"\",'SD Data Paste'!E1904)","v":""},{"$f":"IF('SD Data Paste'!G1904=\"\",\"\",'SD Data Paste'!G1904)","v":""}]
[{"$f":"IF(Table1[विद्यार्थी का नाम]=\"\",\"\",ROWS($A$1:A1904))","v":""},{"$f":"IF('SD Data Paste'!A1905=\"\",\"\",'SD Data Paste'!A1905)","v":""},{"$f":"IF('SD Data Paste'!B1905=\"\",\"\",'SD Data Paste'!B1905)","v":""},1904,{"$f":"IF('SD Data Paste'!E1905=\"\",\"\",'SD Data Paste'!E1905)","v":""},{"$f":"IF('SD Data Paste'!G1905=\"\",\"\",'SD Data Paste'!G1905)","v":""}]
[{"$f":"IF(Table1[विद्यार्थी का नाम]=\"\",\"\",ROWS($A$1:A1905))","v":""},{"$f":"IF('SD Data Paste'!A1906=\"\",\"\",'SD Data Paste'!A1906)","v":""},{"$f":"IF('SD Data Paste'!B1906=\"\",\"\",'SD Data Paste'!B1906)","v":""},1905,{"$f":"IF('SD Data Paste'!E1906=\"\",\"\",'SD Data Paste'!E1906)","v":""},{"$f":"IF('SD Data Paste'!G1906=\"\",\"\",'SD Data Paste'!G1906)","v":""}]
[{"$f":"IF(Table1[विद्यार्थी का नाम]=\"\",\"\",ROWS($A$1:A1906))","v":""},{"$f":"IF('SD Data Paste'!A1907=\"\",\"\",'SD Data Paste'!A1907)","v":""},{"$f":"IF('SD Data Paste'!B1907=\"\",\"\",'SD Data Paste'!B1907)","v":""},1906,{"$f":"IF('SD Data Paste'!E1907=\"\",\"\",'SD Data Paste'!E1907)","v":""},{"$f":"IF('SD Data Paste'!G1907=\"\",\"\",'SD Data Paste'!G1907)","v":""}]
[{"$f":"IF(Table1[विद्यार्थी का नाम]=\"\",\"\",ROWS($A$1:A1907))","v":""},{"$f":"IF('SD Data Paste'!A1908=\"\",\"\",'SD Data Paste'!A1908)","v":""},{"$f":"IF('SD Data Paste'!B1908=\"\",\"\",'SD Data Paste'!B1908)","v":""},1907,{"$f":"IF('SD Data Paste'!E1908=\"\",\"\",'SD Data Paste'!E1908)","v":""},{"$f":"IF('SD Data Paste'!G1908=\"\",\"\",'SD Data Paste'!G1908)","v":""}]
[{"$f":"IF(Table1[विद्यार्थी का नाम]=\"\",\"\",ROWS($A$1:A1908))","v":""},{"$f":"IF('SD Data Paste'!A1909=\"\",\"\",'SD Data Paste'!A1909)","v":""},{"$f":"IF('SD Data Paste'!B1909=\"\",\"\",'SD Data Paste'!B1909)","v":""},1908,{"$f":"IF('SD Data Paste'!E1909=\"\",\"\",'SD Data Paste'!E1909)","v":""},{"$f":"IF('SD Data Paste'!G1909=\"\",\"\",'SD Data Paste'!G1909)","v":""}]
[{"$f":"IF(Table1[विद्यार्थी का नाम]=\"\",\"\",ROWS($A$1:A1909))","v":""},{"$f":"IF('SD Data Paste'!A1910=\"\",\"\",'SD Data Paste'!A1910)","v":""},{"$f":"IF('SD Data Paste'!B1910=\"\",\"\",'SD Data Paste'!B1910)","v":""},1909,{"$f":"IF('SD Data Paste'!E1910=\"\",\"\",'SD Data Paste'!E1910)","v":""},{"$f":"IF('SD Data Paste'!G1910=\"\",\"\",'SD Data Paste'!G1910)","v":""}]
[{"$f":"IF(Table1[विद्यार्थी का नाम]=\"\",\"\",ROWS($A$1:A1910))","v":""},{"$f":"IF('SD Data Paste'!A1911=\"\",\"\",'SD Data Paste'!A1911)","v":""},{"$f":"IF('SD Data Paste'!B1911=\"\",\"\",'SD Data Paste'!B1911)","v":""},1910,{"$f":"IF('SD Data Paste'!E1911=\"\",\"\",'SD Data Paste'!E1911)","v":""},{"$f":"IF('SD Data Paste'!G1911=\"\",\"\",'SD Data Paste'!G1911)","v":""}]
[{"$f":"IF(Table1[विद्यार्थी का नाम]=\"\",\"\",ROWS($A$1:A1911))","v":""},{"$f":"IF('SD Data Paste'!A1912=\"\",\"\",'SD Data Paste'!A1912)","v":""},{"$f":"IF('SD Data Paste'!B1912=\"\",\"\",'SD Data Paste'!B1912)","v":""},1911,{"$f":"IF('SD Data Paste'!E1912=\"\",\"\",'SD Data Paste'!E1912)","v":""},{"$f":"IF('SD Data Paste'!G1912=\"\",\"\",'SD Data Paste'!G1912)","v":""}]
[{"$f":"IF(Table1[विद्यार्थी का नाम]=\"\",\"\",ROWS($A$1:A1912))","v":""},{"$f":"IF('SD Data Paste'!A1913=\"\",\"\",'SD Data Paste'!A1913)","v":""},{"$f":"IF('SD Data Paste'!B1913=\"\",\"\",'SD Data Paste'!B1913)","v":""},1912,{"$f":"IF('SD Data Paste'!E1913=\"\",\"\",'SD Data Paste'!E1913)","v":""},{"$f":"IF('SD Data Paste'!G1913=\"\",\"\",'SD Data Paste'!G1913)","v":""}]
[{"$f":"IF(Table1[विद्यार्थी का नाम]=\"\",\"\",ROWS($A$1:A1913))","v":""},{"$f":"IF('SD Data Paste'!A1914=\"\",\"\",'SD Data Paste'!A1914)","v":""},{"$f":"IF('SD Data Paste'!B1914=\"\",\"\",'SD Data Paste'!B1914)","v":""},1913,{"$f":"IF('SD Data Paste'!E1914=\"\",\"\",'SD Data Paste'!E1914)","v":""},{"$f":"IF('SD Data Paste'!G1914=\"\",\"\",'SD Data Paste'!G1914)","v":""}]
[{"$f":"IF(Table1[विद्यार्थी का नाम]=\"\",\"\",ROWS($A$1:A1914))","v":""},{"$f":"IF('SD Data Paste'!A1915=\"\",\"\",'SD Data Paste'!A1915)","v":""},{"$f":"IF('SD Data Paste'!B1915=\"\",\"\",'SD Data Paste'!B1915)","v":""},1914,{"$f":"IF('SD Data Paste'!E1915=\"\",\"\",'SD Data Paste'!E1915)","v":""},{"$f":"IF('SD Data Paste'!G1915=\"\",\"\",'SD Data Paste'!G1915)","v":""}]
[{"$f":"IF(Table1[विद्यार्थी का नाम]=\"\",\"\",ROWS($A$1:A1915))","v":""},{"$f":"IF('SD Data Paste'!A1916=\"\",\"\",'SD Data Paste'!A1916)","v":""},{"$f":"IF('SD Data Paste'!B1916=\"\",\"\",'SD Data Paste'!B1916)","v":""},1915,{"$f":"IF('SD Data Paste'!E1916=\"\",\"\",'SD Data Paste'!E1916)","v":""},{"$f":"IF('SD Data Paste'!G1916=\"\",\"\",'SD Data Paste'!G1916)","v":""}]
[{"$f":"IF(Table1[विद्यार्थी का नाम]=\"\",\"\",ROWS($A$1:A1916))","v":""},{"$f":"IF('SD Data Paste'!A1917=\"\",\"\",'SD Data Paste'!A1917)","v":""},{"$f":"IF('SD Data Paste'!B1917=\"\",\"\",'SD Data Paste'!B1917)","v":""},1916,{"$f":"IF('SD Data Paste'!E1917=\"\",\"\",'SD Data Paste'!E1917)","v":""},{"$f":"IF('SD Data Paste'!G1917=\"\",\"\",'SD Data Paste'!G1917)","v":""}]
[{"$f":"IF(Table1[विद्यार्थी का नाम]=\"\",\"\",ROWS($A$1:A1917))","v":""},{"$f":"IF('SD Data Paste'!A1918=\"\",\"\",'SD Data Paste'!A1918)","v":""},{"$f":"IF('SD Data Paste'!B1918=\"\",\"\",'SD Data Paste'!B1918)","v":""},1917,{"$f":"IF('SD Data Paste'!E1918=\"\",\"\",'SD Data Paste'!E1918)","v":""},{"$f":"IF('SD Data Paste'!G1918=\"\",\"\",'SD Data Paste'!G1918)","v":""}]
[{"$f":"IF(Table1[विद्यार्थी का नाम]=\"\",\"\",ROWS($A$1:A1918))","v":""},{"$f":"IF('SD Data Paste'!A1919=\"\",\"\",'SD Data Paste'!A1919)","v":""},{"$f":"IF('SD Data Paste'!B1919=\"\",\"\",'SD Data Paste'!B1919)","v":""},1918,{"$f":"IF('SD Data Paste'!E1919=\"\",\"\",'SD Data Paste'!E1919)","v":""},{"$f":"IF('SD Data Paste'!G1919=\"\",\"\",'SD Data Paste'!G1919)","v":""}]
[{"$f":"IF(Table1[विद्यार्थी का नाम]=\"\",\"\",ROWS($A$1:A1919))","v":""},{"$f":"IF('SD Data Paste'!A1920=\"\",\"\",'SD Data Paste'!A1920)","v":""},{"$f":"IF('SD Data Paste'!B1920=\"\",\"\",'SD Data Paste'!B1920)","v":""},1919,{"$f":"IF('SD Data Paste'!E1920=\"\",\"\",'SD Data Paste'!E1920)","v":""},{"$f":"IF('SD Data Paste'!G1920=\"\",\"\",'SD Data Paste'!G1920)","v":""}]
[{"$f":"IF(Table1[विद्यार्थी का नाम]=\"\",\"\",ROWS($A$1:A1920))","v":""},{"$f":"IF('SD Data Paste'!A1921=\"\",\"\",'SD Data Paste'!A1921)","v":""},{"$f":"IF('SD Data Paste'!B1921=\"\",\"\",'SD Data Paste'!B1921)","v":""},1920,{"$f":"IF('SD Data Paste'!E1921=\"\",\"\",'SD Data Paste'!E1921)","v":""},{"$f":"IF('SD Data Paste'!G1921=\"\",\"\",'SD Data Paste'!G1921)","v":""}]
[{"$f":"IF(Table1[विद्यार्थी का नाम]=\"\",\"\",ROWS($A$1:A1921))","v":""},{"$f":"IF('SD Data Paste'!A1922=\"\",\"\",'SD Data Paste'!A1922)","v":""},{"$f":"IF('SD Data Paste'!B1922=\"\",\"\",'SD Data Paste'!B1922)","v":""},1921,{"$f":"IF('SD Data Paste'!E1922=\"\",\"\",'SD Data Paste'!E1922)","v":""},{"$f":"IF('SD Data Paste'!G1922=\"\",\"\",'SD Data Paste'!G1922)","v":""}]
[{"$f":"IF(Table1[विद्यार्थी का नाम]=\"\",\"\",ROWS($A$1:A1922))","v":""},{"$f":"IF('SD Data Paste'!A1923=\"\",\"\",'SD Data Paste'!A1923)","v":""},{"$f":"IF('SD Data Paste'!B1923=\"\",\"\",'SD Data Paste'!B1923)","v":""},1922,{"$f":"IF('SD Data Paste'!E1923=\"\",\"\",'SD Data Paste'!E1923)","v":""},{"$f":"IF('SD Data Paste'!G1923=\"\",\"\",'SD Data Paste'!G1923)","v":""}]
[{"$f":"IF(Table1[विद्यार्थी का नाम]=\"\",\"\",ROWS($A$1:A1923))","v":""},{"$f":"IF('SD Data Paste'!A1924=\"\",\"\",'SD Data Paste'!A1924)","v":""},{"$f":"IF('SD Data Paste'!B1924=\"\",\"\",'SD Data Paste'!B1924)","v":""},{"$f":"IF(D1925=\"\",\"\",D1925+1)","v":1923},{"$f":"IF('SD Data Paste'!E1924=\"\",\"\",'SD Data Paste'!E1924)","v":""},{"$f":"IF('SD Data Paste'!G1924=\"\",\"\",'SD Data Paste'!G1924)","v":""}]
[{"$f":"IF(Table1[विद्यार्थी का नाम]=\"\",\"\",ROWS($A$1:A1924))","v":""},{"$f":"IF('SD Data Paste'!A1925=\"\",\"\",'SD Data Paste'!A1925)","v":""},{"$f":"IF('SD Data Paste'!B1925=\"\",\"\",'SD Data Paste'!B1925)","v":""},1924,{"$f":"IF('SD Data Paste'!E1925=\"\",\"\",'SD Data Paste'!E1925)","v":""},{"$f":"IF('SD Data Paste'!G1925=\"\",\"\",'SD Data Paste'!G1925)","v":""}]
[{"$f":"IF(Table1[विद्यार्थी का नाम]=\"\",\"\",ROWS($A$1:A1925))","v":""},{"$f":"IF('SD Data Paste'!A1926=\"\",\"\",'SD Data Paste'!A1926)","v":""},{"$f":"IF('SD Data Paste'!B1926=\"\",\"\",'SD Data Paste'!B1926)","v":""},1925,{"$f":"IF('SD Data Paste'!E1926=\"\",\"\",'SD Data Paste'!E1926)","v":""},{"$f":"IF('SD Data Paste'!G1926=\"\",\"\",'SD Data Paste'!G1926)","v":""}]
[{"$f":"IF(Table1[विद्यार्थी का नाम]=\"\",\"\",ROWS($A$1:A1926))","v":""},{"$f":"IF('SD Data Paste'!A1927=\"\",\"\",'SD Data Paste'!A1927)","v":""},{"$f":"IF('SD Data Paste'!B1927=\"\",\"\",'SD Data Paste'!B1927)","v":""},1926,{"$f":"IF('SD Data Paste'!E1927=\"\",\"\",'SD Data Paste'!E1927)","v":""},{"$f":"IF('SD Data Paste'!G1927=\"\",\"\",'SD Data Paste'!G1927)","v":""}]
[{"$f":"IF(Table1[विद्यार्थी का नाम]=\"\",\"\",ROWS($A$1:A1927))","v":""},{"$f":"IF('SD Data Paste'!A1928=\"\",\"\",'SD Data Paste'!A1928)","v":""},{"$f":"IF('SD Data Paste'!B1928=\"\",\"\",'SD Data Paste'!B1928)","v":""},1927,{"$f":"IF('SD Data Paste'!E1928=\"\",\"\",'SD Data Paste'!E1928)","v":""},{"$f":"IF('SD Data Paste'!G1928=\"\",\"\",'SD Data Paste'!G1928)","v":""}]
[{"$f":"IF(Table1[विद्यार्थी का नाम]=\"\",\"\",ROWS($A$1:A1928))","v":""},{"$f":"IF('SD Data Paste'!A1929=\"\",\"\",'SD Data Paste'!A1929)","v":""},{"$f":"IF('SD Data Paste'!B1929=\"\",\"\",'SD Data Paste'!B1929)","v":""},1928,{"$f":"IF('SD Data Paste'!E1929=\"\",\"\",'SD Data Paste'!E1929)","v":""},{"$f":"IF('SD Data Paste'!G1929=\"\",\"\",'SD Data Paste'!G1929)","v":""}]
[{"$f":"IF(Table1[विद्यार्थी का नाम]=\"\",\"\",ROWS($A$1:A1929))","v":""},{"$f":"IF('SD Data Paste'!A1930=\"\",\"\",'SD Data Paste'!A1930)","v":""},{"$f":"IF('SD Data Paste'!B1930=\"\",\"\",'SD Data Paste'!B1930)","v":""},1929,{"$f":"IF('SD Data Paste'!E1930=\"\",\"\",'SD Data Paste'!E1930)","v":""},{"$f":"IF('SD Data Paste'!G1930=\"\",\"\",'SD Data Paste'!G1930)","v":""}]
[{"$f":"IF(Table1[विद्यार्थी का नाम]=\"\",\"\",ROWS($A$1:A1930))","v":""},{"$f":"IF('SD Data Paste'!A1931=\"\",\"\",'SD Data Paste'!A1931)","v":""},{"$f":"IF('SD Data Paste'!B1931=\"\",\"\",'SD Data Paste'!B1931)","v":""},1930,{"$f":"IF('SD Data Paste'!E1931=\"\",\"\",'SD Data Paste'!E1931)","v":""},{"$f":"IF('SD Data Paste'!G1931=\"\",\"\",'SD Data Paste'!G1931)","v":""}]
[{"$f":"IF(Table1[विद्यार्थी का नाम]=\"\",\"\",ROWS($A$1:A1931))","v":""},{"$f":"IF('SD Data Paste'!A1932=\"\",\"\",'SD Data Paste'!A1932)","v":""},{"$f":"IF('SD Data Paste'!B1932=\"\",\"\",'SD Data Paste'!B1932)","v":""},1931,{"$f":"IF('SD Data Paste'!E1932=\"\",\"\",'SD Data Paste'!E1932)","v":""},{"$f":"IF('SD Data Paste'!G1932=\"\",\"\",'SD Data Paste'!G1932)","v":""}]
[{"$f":"IF(Table1[विद्यार्थी का नाम]=\"\",\"\",ROWS($A$1:A1932))","v":""},{"$f":"IF('SD Data Paste'!A1933=\"\",\"\",'SD Data Paste'!A1933)","v":""},{"$f":"IF('SD Data Paste'!B1933=\"\",\"\",'SD Data Paste'!B1933)","v":""},1932,{"$f":"IF('SD Data Paste'!E1933=\"\",\"\",'SD Data Paste'!E1933)","v":""},{"$f":"IF('SD Data Paste'!G1933=\"\",\"\",'SD Data Paste'!G1933)","v":""}]
[{"$f":"IF(Table1[विद्यार्थी का नाम]=\"\",\"\",ROWS($A$1:A1933))","v":""},{"$f":"IF('SD Data Paste'!A1934=\"\",\"\",'SD Data Paste'!A1934)","v":""},{"$f":"IF('SD Data Paste'!B1934=\"\",\"\",'SD Data Paste'!B1934)","v":""},1933,{"$f":"IF('SD Data Paste'!E1934=\"\",\"\",'SD Data Paste'!E1934)","v":""},{"$f":"IF('SD Data Paste'!G1934=\"\",\"\",'SD Data Paste'!G1934)","v":""}]
[{"$f":"IF(Table1[विद्यार्थी का नाम]=\"\",\"\",ROWS($A$1:A1934))","v":""},{"$f":"IF('SD Data Paste'!A1935=\"\",\"\",'SD Data Paste'!A1935)","v":""},{"$f":"IF('SD Data Paste'!B1935=\"\",\"\",'SD Data Paste'!B1935)","v":""},1934,{"$f":"IF('SD Data Paste'!E1935=\"\",\"\",'SD Data Paste'!E1935)","v":""},{"$f":"IF('SD Data Paste'!G1935=\"\",\"\",'SD Data Paste'!G1935)","v":""}]
[{"$f":"IF(Table1[विद्यार्थी का नाम]=\"\",\"\",ROWS($A$1:A1935))","v":""},{"$f":"IF('SD Data Paste'!A1936=\"\",\"\",'SD Data Paste'!A1936)","v":""},{"$f":"IF('SD Data Paste'!B1936=\"\",\"\",'SD Data Paste'!B1936)","v":""},1935,{"$f":"IF('SD Data Paste'!E1936=\"\",\"\",'SD Data Paste'!E1936)","v":""},{"$f":"IF('SD Data Paste'!G1936=\"\",\"\",'SD Data Paste'!G1936)","v":""}]
[{"$f":"IF(Table1[विद्यार्थी का नाम]=\"\",\"\",ROWS($A$1:A1936))","v":""},{"$f":"IF('SD Data Paste'!A1937=\"\",\"\",'SD Data Paste'!A1937)","v":""},{"$f":"IF('SD Data Paste'!B1937=\"\",\"\",'SD Data Paste'!B1937)","v":""},1936,{"$f":"IF('SD Data Paste'!E1937=\"\",\"\",'SD Data Paste'!E1937)","v":""},{"$f":"IF('SD Data Paste'!G1937=\"\",\"\",'SD Data Paste'!G1937)","v":""}]
[{"$f":"IF(Table1[विद्यार्थी का नाम]=\"\",\"\",ROWS($A$1:A1937))","v":""},{"$f":"IF('SD Data Paste'!A1938=\"\",\"\",'SD Data Paste'!A1938)","v":""},{"$f":"IF('SD Data Paste'!B1938=\"\",\"\",'SD Data Paste'!B1938)","v":""},1937,{"$f":"IF('SD Data Paste'!E1938=\"\",\"\",'SD Data Paste'!E1938)","v":""},{"$f":"IF('SD Data Paste'!G1938=\"\",\"\",'SD Data Paste'!G1938)","v":""}]
[{"$f":"IF(Table1[विद्यार्थी का नाम]=\"\",\"\",ROWS($A$1:A1938))","v":""},{"$f":"IF('SD Data Paste'!A1939=\"\",\"\",'SD Data Paste'!A1939)","v":""},{"$f":"IF('SD Data Paste'!B1939=\"\",\"\",'SD Data Paste'!B1939)","v":""},1938,{"$f":"IF('SD Data Paste'!E1939=\"\",\"\",'SD Data Paste'!E1939)","v":""},{"$f":"IF('SD Data Paste'!G1939=\"\",\"\",'SD Data Paste'!G1939)","v":""}]
[{"$f":"IF(Table1[विद्यार्थी का नाम]=\"\",\"\",ROWS($A$1:A1939))","v":""},{"$f":"IF('SD Data Paste'!A1940=\"\",\"\",'SD Data Paste'!A1940)","v":""},{"$f":"IF('SD Data Paste'!B1940=\"\",\"\",'SD Data Paste'!B1940)","v":""},1939,{"$f":"IF('SD Data Paste'!E1940=\"\",\"\",'SD Data Paste'!E1940)","v":""},{"$f":"IF('SD Data Paste'!G1940=\"\",\"\",'SD Data Paste'!G1940)","v":""}]
[{"$f":"IF(Table1[विद्यार्थी का नाम]=\"\",\"\",ROWS($A$1:A1940))","v":""},{"$f":"IF('SD Data Paste'!A1941=\"\",\"\",'SD Data Paste'!A1941)","v":""},{"$f":"IF('SD Data Paste'!B1941=\"\",\"\",'SD Data Paste'!B1941)","v":""},1940,{"$f":"IF('SD Data Paste'!E1941=\"\",\"\",'SD Data Paste'!E1941)","v":""},{"$f":"IF('SD Data Paste'!G1941=\"\",\"\",'SD Data Paste'!G1941)","v":""}]
[{"$f":"IF(Table1[विद्यार्थी का नाम]=\"\",\"\",ROWS($A$1:A1941))","v":""},{"$f":"IF('SD Data Paste'!A1942=\"\",\"\",'SD Data Paste'!A1942)","v":""},{"$f":"IF('SD Data Paste'!B1942=\"\",\"\",'SD Data Paste'!B1942)","v":""},1941,{"$f":"IF('SD Data Paste'!E1942=\"\",\"\",'SD Data Paste'!E1942)","v":""},{"$f":"IF('SD Data Paste'!G1942=\"\",\"\",'SD Data Paste'!G1942)","v":""}]
[{"$f":"IF(Table1[विद्यार्थी का नाम]=\"\",\"\",ROWS($A$1:A1942))","v":""},{"$f":"IF('SD Data Paste'!A1943=\"\",\"\",'SD Data Paste'!A1943)","v":""},{"$f":"IF('SD Data Paste'!B1943=\"\",\"\",'SD Data Paste'!B1943)","v":""},1942,{"$f":"IF('SD Data Paste'!E1943=\"\",\"\",'SD Data Paste'!E1943)","v":""},{"$f":"IF('SD Data Paste'!G1943=\"\",\"\",'SD Data Paste'!G1943)","v":""}]
[{"$f":"IF(Table1[विद्यार्थी का नाम]=\"\",\"\",ROWS($A$1:A1943))","v":""},{"$f":"IF('SD Data Paste'!A1944=\"\",\"\",'SD Data Paste'!A1944)","v":""},{"$f":"IF('SD Data Paste'!B1944=\"\",\"\",'SD Data Paste'!B1944)","v":""},1943,{"$f":"IF('SD Data Paste'!E1944=\"\",\"\",'SD Data Paste'!E1944)","v":""},{"$f":"IF('SD Data Paste'!G1944=\"\",\"\",'SD Data Paste'!G1944)","v":""}]
[{"$f":"IF(Table1[विद्यार्थी का नाम]=\"\",\"\",ROWS($A$1:A1944))","v":""},{"$f":"IF('SD Data Paste'!A1945=\"\",\"\",'SD Data Paste'!A1945)","v":""},{"$f":"IF('SD Data Paste'!B1945=\"\",\"\",'SD Data Paste'!B1945)","v":""},1944,{"$f":"IF('SD Data Paste'!E1945=\"\",\"\",'SD Data Paste'!E1945)","v":""},{"$f":"IF('SD Data Paste'!G1945=\"\",\"\",'SD Data Paste'!G1945)","v":""}]
[{"$f":"IF(Table1[विद्यार्थी का नाम]=\"\",\"\",ROWS($A$1:A1945))","v":""},{"$f":"IF('SD Data Paste'!A1946=\"\",\"\",'SD Data Paste'!A1946)","v":""},{"$f":"IF('SD Data Paste'!B1946=\"\",\"\",'SD Data Paste'!B1946)","v":""},1945,{"$f":"IF('SD Data Paste'!E1946=\"\",\"\",'SD Data Paste'!E1946)","v":""},{"$f":"IF('SD Data Paste'!G1946=\"\",\"\",'SD Data Paste'!G1946)","v":""}]
[{"$f":"IF(Table1[विद्यार्थी का नाम]=\"\",\"\",ROWS($A$1:A1946))","v":""},{"$f":"IF('SD Data Paste'!A1947=\"\",\"\",'SD Data Paste'!A1947)","v":""},{"$f":"IF('SD Data Paste'!B1947=\"\",\"\",'SD Data Paste'!B1947)","v":""},1946,{"$f":"IF('SD Data Paste'!E1947=\"\",\"\",'SD Data Paste'!E1947)","v":""},{"$f":"IF('SD Data Paste'!G1947=\"\",\"\",'SD Data Paste'!G1947)","v":""}]
[{"$f":"IF(Table1[विद्यार्थी का नाम]=\"\",\"\",ROWS($A$1:A1947))","v":""},{"$f":"IF('SD Data Paste'!A1948=\"\",\"\",'SD Data Paste'!A1948)","v":""},{"$f":"IF('SD Data Paste'!B1948=\"\",\"\",'SD Data Paste'!B1948)","v":""},1947,{"$f":"IF('SD Data Paste'!E1948=\"\",\"\",'SD Data Paste'!E1948)","v":""},{"$f":"IF('SD Data Paste'!G1948=\"\",\"\",'SD Data Paste'!G1948)","v":""}]
[{"$f":"IF(Table1[विद्यार्थी का नाम]=\"\",\"\",ROWS($A$1:A1948))","v":""},{"$f":"IF('SD Data Paste'!A1949=\"\",\"\",'SD Data Paste'!A1949)","v":""},{"$f":"IF('SD Data Paste'!B1949=\"\",\"\",'SD Data Paste'!B1949)","v":""},1948,{"$f":"IF('SD Data Paste'!E1949=\"\",\"\",'SD Data Paste'!E1949)","v":""},{"$f":"IF('SD Data Paste'!G1949=\"\",\"\",'SD Data Paste'!G1949)","v":""}]
[{"$f":"IF(Table1[विद्यार्थी का नाम]=\"\",\"\",ROWS($A$1:A1949))","v":""},{"$f":"IF('SD Data Paste'!A1950=\"\",\"\",'SD Data Paste'!A1950)","v":""},{"$f":"IF('SD Data Paste'!B1950=\"\",\"\",'SD Data Paste'!B1950)","v":""},1949,{"$f":"IF('SD Data Paste'!E1950=\"\",\"\",'SD Data Paste'!E1950)","v":""},{"$f":"IF('SD Data Paste'!G1950=\"\",\"\",'SD Data Paste'!G1950)","v":""}]
[{"$f":"IF(Table1[विद्यार्थी का नाम]=\"\",\"\",ROWS($A$1:A1950))","v":""},{"$f":"IF('SD Data Paste'!A1951=\"\",\"\",'SD Data Paste'!A1951)","v":""},{"$f":"IF('SD Data Paste'!B1951=\"\",\"\",'SD Data Paste'!B1951)","v":""},1950,{"$f":"IF('SD Data Paste'!E1951=\"\",\"\",'SD Data Paste'!E1951)","v":""},{"$f":"IF('SD Data Paste'!G1951=\"\",\"\",'SD Data Paste'!G1951)","v":""}]
[{"$f":"IF(Table1[विद्यार्थी का नाम]=\"\",\"\",ROWS($A$1:A1951))","v":""},{"$f":"IF('SD Data Paste'!A1952=\"\",\"\",'SD Data Paste'!A1952)","v":""},{"$f":"IF('SD Data Paste'!B1952=\"\",\"\",'SD Data Paste'!B1952)","v":""},1951,{"$f":"IF('SD Data Paste'!E1952=\"\",\"\",'SD Data Paste'!E1952)","v":""},{"$f":"IF('SD Data Paste'!G1952=\"\",\"\",'SD Data Paste'!G1952)","v":""}]
[{"$f":"IF(Table1[विद्यार्थी का नाम]=\"\",\"\",ROWS($A$1:A1952))","v":""},{"$f":"IF('SD Data Paste'!A1953=\"\",\"\",'SD Data Paste'!A1953)","v":""},{"$f":"IF('SD Data Paste'!B1953=\"\",\"\",'SD Data Paste'!B1953)","v":""},1952,{"$f":"IF('SD Data Paste'!E1953=\"\",\"\",'SD Data Paste'!E1953)","v":""},{"$f":"IF('SD Data Paste'!G1953=\"\",\"\",'SD Data Paste'!G1953)","v":""}]
[{"$f":"IF(Table1[विद्यार्थी का नाम]=\"\",\"\",ROWS($A$1:A1953))","v":""},{"$f":"IF('SD Data Paste'!A1954=\"\",\"\",'SD Data Paste'!A1954)","v":""},{"$f":"IF('SD Data Paste'!B1954=\"\",\"\",'SD Data Paste'!B1954)","v":""},1953,{"$f":"IF('SD Data Paste'!E1954=\"\",\"\",'SD Data Paste'!E1954)","v":""},{"$f":"IF('SD Data Paste'!G1954=\"\",\"\",'SD Data Paste'!G1954)","v":""}]
[{"$f":"IF(Table1[विद्यार्थी का नाम]=\"\",\"\",ROWS($A$1:A1954))","v":""},{"$f":"IF('SD Data Paste'!A1955=\"\",\"\",'SD Data Paste'!A1955)","v":""},{"$f":"IF('SD Data Paste'!B1955=\"\",\"\",'SD Data Paste'!B1955)","v":""},1954,{"$f":"IF('SD Data Paste'!E1955=\"\",\"\",'SD Data Paste'!E1955)","v":""},{"$f":"IF('SD Data Paste'!G1955=\"\",\"\",'SD Data Paste'!G1955)","v":""}]
[{"$f":"IF(Table1[विद्यार्थी का नाम]=\"\",\"\",ROWS($A$1:A1955))","v":""},{"$f":"IF('SD Data Paste'!A1956=\"\",\"\",'SD Data Paste'!A1956)","v":""},{"$f":"IF('SD Data Paste'!B1956=\"\",\"\",'SD Data Paste'!B1956)","v":""},1955,{"$f":"IF('SD Data Paste'!E1956=\"\",\"\",'SD Data Paste'!E1956)","v":""},{"$f":"IF('SD Data Paste'!G1956=\"\",\"\",'SD Data Paste'!G1956)","v":""}]
[{"$f":"IF(Table1[विद्यार्थी का नाम]=\"\",\"\",ROWS($A$1:A1956))","v":""},{"$f":"IF('SD Data Paste'!A1957=\"\",\"\",'SD Data Paste'!A1957)","v":""},{"$f":"IF('SD Data Paste'!B1957=\"\",\"\",'SD Data Paste'!B1957)","v":""},1956,{"$f":"IF('SD Data Paste'!E1957=\"\",\"\",'SD Data Paste'!E1957)","v":""},{"$f":"IF('SD Data Paste'!G1957=\"\",\"\",'SD Data Paste'!G1957)","v":""}]
[{"$f":"IF(Table1[विद्यार्थी का नाम]=\"\",\"\",ROWS($A$1:A1957))","v":""},{"$f":"IF('SD Data Paste'!A1958=\"\",\"\",'SD Data Paste'!A1958)","v":""},{"$f":"IF('SD Data Paste'!B1958=\"\",\"\",'SD Data Paste'!B1958)","v":""},1957,{"$f":"IF('SD Data Paste'!E1958=\"\",\"\",'SD Data Paste'!E1958)","v":""},{"$f":"IF('SD Data Paste'!G1958=\"\",\"\",'SD Data Paste'!G1958)","v":""}]
[{"$f":"IF(Table1[विद्यार्थी का नाम]=\"\",\"\",ROWS($A$1:A1958))","v":""},{"$f":"IF('SD Data Paste'!A1959=\"\",\"\",'SD Data Paste'!A1959)","v":""},{"$f":"IF('SD Data Paste'!B1959=\"\",\"\",'SD Data Paste'!B1959)","v":""},1958,{"$f":"IF('SD Data Paste'!E1959=\"\",\"\",'SD Data Paste'!E1959)","v":""},{"$f":"IF('SD Data Paste'!G1959=\"\",\"\",'SD Data Paste'!G1959)","v":""}]
[{"$f":"IF(Table1[विद्यार्थी का नाम]=\"\",\"\",ROWS($A$1:A1959))","v":""},{"$f":"IF('SD Data Paste'!A1960=\"\",\"\",'SD Data Paste'!A1960)","v":""},{"$f":"IF('SD Data Paste'!B1960=\"\",\"\",'SD Data Paste'!B1960)","v":""},1959,{"$f":"IF('SD Data Paste'!E1960=\"\",\"\",'SD Data Paste'!E1960)","v":""},{"$f":"IF('SD Data Paste'!G1960=\"\",\"\",'SD Data Paste'!G1960)","v":""}]
[{"$f":"IF(Table1[विद्यार्थी का नाम]=\"\",\"\",ROWS($A$1:A1960))","v":""},{"$f":"IF('SD Data Paste'!A1961=\"\",\"\",'SD Data Paste'!A1961)","v":""},{"$f":"IF('SD Data Paste'!B1961=\"\",\"\",'SD Data Paste'!B1961)","v":""},1960,{"$f":"IF('SD Data Paste'!E1961=\"\",\"\",'SD Data Paste'!E1961)","v":""},{"$f":"IF('SD Data Paste'!G1961=\"\",\"\",'SD Data Paste'!G1961)","v":""}]
[{"$f":"IF(Table1[विद्यार्थी का नाम]=\"\",\"\",ROWS($A$1:A1961))","v":""},{"$f":"IF('SD Data Paste'!A1962=\"\",\"\",'SD Data Paste'!A1962)","v":""},{"$f":"IF('SD Data Paste'!B1962=\"\",\"\",'SD Data Paste'!B1962)","v":""},1961,{"$f":"IF('SD Data Paste'!E1962=\"\",\"\",'SD Data Paste'!E1962)","v":""},{"$f":"IF('SD Data Paste'!G1962=\"\",\"\",'SD Data Paste'!G1962)","v":""}]
[{"$f":"IF(Table1[विद्यार्थी का नाम]=\"\",\"\",ROWS($A$1:A1962))","v":""},{"$f":"IF('SD Data Paste'!A1963=\"\",\"\",'SD Data Paste'!A1963)","v":""},{"$f":"IF('SD Data Paste'!B1963=\"\",\"\",'SD Data Paste'!B1963)","v":""},1962,{"$f":"IF('SD Data Paste'!E1963=\"\",\"\",'SD Data Paste'!E1963)","v":""},{"$f":"IF('SD Data Paste'!G1963=\"\",\"\",'SD Data Paste'!G1963)","v":""}]
[{"$f":"IF(Table1[विद्यार्थी का नाम]=\"\",\"\",ROWS($A$1:A1963))","v":""},{"$f":"IF('SD Data Paste'!A1964=\"\",\"\",'SD Data Paste'!A1964)","v":""},{"$f":"IF('SD Data Paste'!B1964=\"\",\"\",'SD Data Paste'!B1964)","v":""},1963,{"$f":"IF('SD Data Paste'!E1964=\"\",\"\",'SD Data Paste'!E1964)","v":""},{"$f":"IF('SD Data Paste'!G1964=\"\",\"\",'SD Data Paste'!G1964)","v":""}]
[{"$f":"IF(Table1[विद्यार्थी का नाम]=\"\",\"\",ROWS($A$1:A1964))","v":""},{"$f":"IF('SD Data Paste'!A1965=\"\",\"\",'SD Data Paste'!A1965)","v":""},{"$f":"IF('SD Data Paste'!B1965=\"\",\"\",'SD Data Paste'!B1965)","v":""},1964,{"$f":"IF('SD Data Paste'!E1965=\"\",\"\",'SD Data Paste'!E1965)","v":""},{"$f":"IF('SD Data Paste'!G1965=\"\",\"\",'SD Data Paste'!G1965)","v":""}]
[{"$f":"IF(Table1[विद्यार्थी का नाम]=\"\",\"\",ROWS($A$1:A1965))","v":""},{"$f":"IF('SD Data Paste'!A1966=\"\",\"\",'SD Data Paste'!A1966)","v":""},{"$f":"IF('SD Data Paste'!B1966=\"\",\"\",'SD Data Paste'!B1966)","v":""},1965,{"$f":"IF('SD Data Paste'!E1966=\"\",\"\",'SD Data Paste'!E1966)","v":""},{"$f":"IF('SD Data Paste'!G1966=\"\",\"\",'SD Data Paste'!G1966)","v":""}]
[{"$f":"IF(Table1[विद्यार्थी का नाम]=\"\",\"\",ROWS($A$1:A1966))","v":""},{"$f":"IF('SD Data Paste'!A1967=\"\",\"\",'SD Data Paste'!A1967)","v":""},{"$f":"IF('SD Data Paste'!B1967=\"\",\"\",'SD Data Paste'!B1967)","v":""},1966,{"$f":"IF('SD Data Paste'!E1967=\"\",\"\",'SD Data Paste'!E1967)","v":""},{"$f":"IF('SD Data Paste'!G1967=\"\",\"\",'SD Data Paste'!G1967)","v":""}]
[{"$f":"IF(Table1[विद्यार्थी का नाम]=\"\",\"\",ROWS($A$1:A1967))","v":""},{"$f":"IF('SD Data Paste'!A1968=\"\",\"\",'SD Data Paste'!A1968)","v":""},{"$f":"IF('SD Data Paste'!B1968=\"\",\"\",'SD Data Paste'!B1968)","v":""},1967,{"$f":"IF('SD Data Paste'!E1968=\"\",\"\",'SD Data Paste'!E1968)","v":""},{"$f":"IF('SD Data Paste'!G1968=\"\",\"\",'SD Data Paste'!G1968)","v":""}]
[{"$f":"IF(Table1[विद्यार्थी का नाम]=\"\",\"\",ROWS($A$1:A1968))","v":""},{"$f":"IF('SD Data Paste'!A1969=\"\",\"\",'SD Data Paste'!A1969)","v":""},{"$f":"IF('SD Data Paste'!B1969=\"\",\"\",'SD Data Paste'!B1969)","v":""},1968,{"$f":"IF('SD Data Paste'!E1969=\"\",\"\",'SD Data Paste'!E1969)","v":""},{"$f":"IF('SD Data Paste'!G1969=\"\",\"\",'SD Data Paste'!G1969)","v":""}]
[{"$f":"IF(Table1[विद्यार्थी का नाम]=\"\",\"\",ROWS($A$1:A1969))","v":""},{"$f":"IF('SD Data Paste'!A1970=\"\",\"\",'SD Data Paste'!A1970)","v":""},{"$f":"IF('SD Data Paste'!B1970=\"\",\"\",'SD Data Paste'!B1970)","v":""},1969,{"$f":"IF('SD Data Paste'!E1970=\"\",\"\",'SD Data Paste'!E1970)","v":""},{"$f":"IF('SD Data Paste'!G1970=\"\",\"\",'SD Data Paste'!G1970)","v":""}]
[{"$f":"IF(Table1[विद्यार्थी का नाम]=\"\",\"\",ROWS($A$1:A1970))","v":""},{"$f":"IF('SD Data Paste'!A1971=\"\",\"\",'SD Data Paste'!A1971)","v":""},{"$f":"IF('SD Data Paste'!B1971=\"\",\"\",'SD Data Paste'!B1971)","v":""},1970,{"$f":"IF('SD Data Paste'!E1971=\"\",\"\",'SD Data Paste'!E1971)","v":""},{"$f":"IF('SD Data Paste'!G1971=\"\",\"\",'SD Data Paste'!G1971)","v":""}]
[{"$f":"IF(Table1[विद्यार्थी का नाम]=\"\",\"\",ROWS($A$1:A1971))","v":""},{"$f":"IF('SD Data Paste'!A1972=\"\",\"\",'SD Data Paste'!A1972)","v":""},{"$f":"IF('SD Data Paste'!B1972=\"\",\"\",'SD Data Paste'!B1972)","v":""},1971,{"$f":"IF('SD Data Paste'!E1972=\"\",\"\",'SD Data Paste'!E1972)","v":""},{"$f":"IF('SD Data Paste'!G1972=\"\",\"\",'SD Data Paste'!G1972)","v":""}]
[{"$f":"IF(Table1[विद्यार्थी का नाम]=\"\",\"\",ROWS($A$1:A1972))","v":""},{"$f":"IF('SD Data Paste'!A1973=\"\",\"\",'SD Data Paste'!A1973)","v":""},{"$f":"IF('SD Data Paste'!B1973=\"\",\"\",'SD Data Paste'!B1973)","v":""},1972,{"$f":"IF('SD Data Paste'!E1973=\"\",\"\",'SD Data Paste'!E1973)","v":""},{"$f":"IF('SD Data Paste'!G1973=\"\",\"\",'SD Data Paste'!G1973)","v":""}]
[{"$f":"IF(Table1[विद्यार्थी का नाम]=\"\",\"\",ROWS($A$1:A1973))","v":""},{"$f":"IF('SD Data Paste'!A1974=\"\",\"\",'SD Data Paste'!A1974)","v":""},{"$f":"IF('SD Data Paste'!B1974=\"\",\"\",'SD Data Paste'!B1974)","v":""},1973,{"$f":"IF('SD Data Paste'!E1974=\"\",\"\",'SD Data Paste'!E1974)","v":""},{"$f":"IF('SD Data Paste'!G1974=\"\",\"\",'SD Data Paste'!G1974)","v":""}]
[{"$f":"IF(Table1[विद्यार्थी का नाम]=\"\",\"\",ROWS($A$1:A1974))","v":""},{"$f":"IF('SD Data Paste'!A1975=\"\",\"\",'SD Data Paste'!A1975)","v":""},{"$f":"IF('SD Data Paste'!B1975=\"\",\"\",'SD Data Paste'!B1975)","v":""},1974,{"$f":"IF('SD Data Paste'!E1975=\"\",\"\",'SD Data Paste'!E1975)","v":""},{"$f":"IF('SD Data Paste'!G1975=\"\",\"\",'SD Data Paste'!G1975)","v":""}]
[{"$f":"IF(Table1[विद्यार्थी का नाम]=\"\",\"\",ROWS($A$1:A1975))","v":""},{"$f":"IF('SD Data Paste'!A1976=\"\",\"\",'SD Data Paste'!A1976)","v":""},{"$f":"IF('SD Data Paste'!B1976=\"\",\"\",'SD Data Paste'!B1976)","v":""},1975,{"$f":"IF('SD Data Paste'!E1976=\"\",\"\",'SD Data Paste'!E1976)","v":""},{"$f":"IF('SD Data Paste'!G1976=\"\",\"\",'SD Data Paste'!G1976)","v":""}]
[{"$f":"IF(Table1[विद्यार्थी का नाम]=\"\",\"\",ROWS($A$1:A1976))","v":""},{"$f":"IF('SD Data Paste'!A1977=\"\",\"\",'SD Data Paste'!A1977)","v":""},{"$f":"IF('SD Data Paste'!B1977=\"\",\"\",'SD Data Paste'!B1977)","v":""},1976,{"$f":"IF('SD Data Paste'!E1977=\"\",\"\",'SD Data Paste'!E1977)","v":""},{"$f":"IF('SD Data Paste'!G1977=\"\",\"\",'SD Data Paste'!G1977)","v":""}]
[{"$f":"IF(Table1[विद्यार्थी का नाम]=\"\",\"\",ROWS($A$1:A1977))","v":""},{"$f":"IF('SD Data Paste'!A1978=\"\",\"\",'SD Data Paste'!A1978)","v":""},{"$f":"IF('SD Data Paste'!B1978=\"\",\"\",'SD Data Paste'!B1978)","v":""},1977,{"$f":"IF('SD Data Paste'!E1978=\"\",\"\",'SD Data Paste'!E1978)","v":""},{"$f":"IF('SD Data Paste'!G1978=\"\",\"\",'SD Data Paste'!G1978)","v":""}]
[{"$f":"IF(Table1[विद्यार्थी का नाम]=\"\",\"\",ROWS($A$1:A1978))","v":""},{"$f":"IF('SD Data Paste'!A1979=\"\",\"\",'SD Data Paste'!A1979)","v":""},{"$f":"IF('SD Data Paste'!B1979=\"\",\"\",'SD Data Paste'!B1979)","v":""},1978,{"$f":"IF('SD Data Paste'!E1979=\"\",\"\",'SD Data Paste'!E1979)","v":""},{"$f":"IF('SD Data Paste'!G1979=\"\",\"\",'SD Data Paste'!G1979)","v":""}]
[{"$f":"IF(Table1[विद्यार्थी का नाम]=\"\",\"\",ROWS($A$1:A1979))","v":""},{"$f":"IF('SD Data Paste'!A1980=\"\",\"\",'SD Data Paste'!A1980)","v":""},{"$f":"IF('SD Data Paste'!B1980=\"\",\"\",'SD Data Paste'!B1980)","v":""},1979,{"$f":"IF('SD Data Paste'!E1980=\"\",\"\",'SD Data Paste'!E1980)","v":""},{"$f":"IF('SD Data Paste'!G1980=\"\",\"\",'SD Data Paste'!G1980)","v":""}]
[{"$f":"IF(Table1[विद्यार्थी का नाम]=\"\",\"\",ROWS($A$1:A1980))","v":""},{"$f":"IF('SD Data Paste'!A1981=\"\",\"\",'SD Data Paste'!A1981)","v":""},{"$f":"IF('SD Data Paste'!B1981=\"\",\"\",'SD Data Paste'!B1981)","v":""},1980,{"$f":"IF('SD Data Paste'!E1981=\"\",\"\",'SD Data Paste'!E1981)","v":""},{"$f":"IF('SD Data Paste'!G1981=\"\",\"\",'SD Data Paste'!G1981)","v":""}]
[{"$f":"IF(Table1[विद्यार्थी का नाम]=\"\",\"\",ROWS($A$1:A1981))","v":""},{"$f":"IF('SD Data Paste'!A1982=\"\",\"\",'SD Data Paste'!A1982)","v":""},{"$f":"IF('SD Data Paste'!B1982=\"\",\"\",'SD Data Paste'!B1982)","v":""},1981,{"$f":"IF('SD Data Paste'!E1982=\"\",\"\",'SD Data Paste'!E1982)","v":""},{"$f":"IF('SD Data Paste'!G1982=\"\",\"\",'SD Data Paste'!G1982)","v":""}]
[{"$f":"IF(Table1[विद्यार्थी का नाम]=\"\",\"\",ROWS($A$1:A1982))","v":""},{"$f":"IF('SD Data Paste'!A1983=\"\",\"\",'SD Data Paste'!A1983)","v":""},{"$f":"IF('SD Data Paste'!B1983=\"\",\"\",'SD Data Paste'!B1983)","v":""},1982,{"$f":"IF('SD Data Paste'!E1983=\"\",\"\",'SD Data Paste'!E1983)","v":""},{"$f":"IF('SD Data Paste'!G1983=\"\",\"\",'SD Data Paste'!G1983)","v":""}]
[{"$f":"IF(Table1[विद्यार्थी का नाम]=\"\",\"\",ROWS($A$1:A1983))","v":""},{"$f":"IF('SD Data Paste'!A1984=\"\",\"\",'SD Data Paste'!A1984)","v":""},{"$f":"IF('SD Data Paste'!B1984=\"\",\"\",'SD Data Paste'!B1984)","v":""},1983,{"$f":"IF('SD Data Paste'!E1984=\"\",\"\",'SD Data Paste'!E1984)","v":""},{"$f":"IF('SD Data Paste'!G1984=\"\",\"\",'SD Data Paste'!G1984)","v":""}]
[{"$f":"IF(Table1[विद्यार्थी का नाम]=\"\",\"\",ROWS($A$1:A1984))","v":""},{"$f":"IF('SD Data Paste'!A1985=\"\",\"\",'SD Data Paste'!A1985)","v":""},{"$f":"IF('SD Data Paste'!B1985=\"\",\"\",'SD Data Paste'!B1985)","v":""},1984,{"$f":"IF('SD Data Paste'!E1985=\"\",\"\",'SD Data Paste'!E1985)","v":""},{"$f":"IF('SD Data Paste'!G1985=\"\",\"\",'SD Data Paste'!G1985)","v":""}]
[{"$f":"IF(Table1[विद्यार्थी का नाम]=\"\",\"\",ROWS($A$1:A1985))","v":""},{"$f":"IF('SD Data Paste'!A1986=\"\",\"\",'SD Data Paste'!A1986)","v":""},{"$f":"IF('SD Data Paste'!B1986=\"\",\"\",'SD Data Paste'!B1986)","v":""},1985,{"$f":"IF('SD Data Paste'!E1986=\"\",\"\",'SD Data Paste'!E1986)","v":""},{"$f":"IF('SD Data Paste'!G1986=\"\",\"\",'SD Data Paste'!G1986)","v":""}]
[{"$f":"IF(Table1[विद्यार्थी का नाम]=\"\",\"\",ROWS($A$1:A1986))","v":""},{"$f":"IF('SD Data Paste'!A1987=\"\",\"\",'SD Data Paste'!A1987)","v":""},{"$f":"IF('SD Data Paste'!B1987=\"\",\"\",'SD Data Paste'!B1987)","v":""},1986,{"$f":"IF('SD Data Paste'!E1987=\"\",\"\",'SD Data Paste'!E1987)","v":""},{"$f":"IF('SD Data Paste'!G1987=\"\",\"\",'SD Data Paste'!G1987)","v":""}]
[{"$f":"IF(Table1[विद्यार्थी का नाम]=\"\",\"\",ROWS($A$1:A1987))","v":""},{"$f":"IF('SD Data Paste'!A1988=\"\",\"\",'SD Data Paste'!A1988)","v":""},{"$f":"IF('SD Data Paste'!B1988=\"\",\"\",'SD Data Paste'!B1988)","v":""},{"$f":"IF(D1989=\"\",\"\",D1989+1)","v":1987},{"$f":"IF('SD Data Paste'!E1988=\"\",\"\",'SD Data Paste'!E1988)","v":""},{"$f":"IF('SD Data Paste'!G1988=\"\",\"\",'SD Data Paste'!G1988)","v":""}]
[{"$f":"IF(Table1[विद्यार्थी का नाम]=\"\",\"\",ROWS($A$1:A1988))","v":""},{"$f":"IF('SD Data Paste'!A1989=\"\",\"\",'SD Data Paste'!A1989)","v":""},{"$f":"IF('SD Data Paste'!B1989=\"\",\"\",'SD Data Paste'!B1989)","v":""},1988,{"$f":"IF('SD Data Paste'!E1989=\"\",\"\",'SD Data Paste'!E1989)","v":""},{"$f":"IF('SD Data Paste'!G1989=\"\",\"\",'SD Data Paste'!G1989)","v":""}]
[{"$f":"IF(Table1[विद्यार्थी का नाम]=\"\",\"\",ROWS($A$1:A1989))","v":""},{"$f":"IF('SD Data Paste'!A1990=\"\",\"\",'SD Data Paste'!A1990)","v":""},{"$f":"IF('SD Data Paste'!B1990=\"\",\"\",'SD Data Paste'!B1990)","v":""},1989,{"$f":"IF('SD Data Paste'!E1990=\"\",\"\",'SD Data Paste'!E1990)","v":""},{"$f":"IF('SD Data Paste'!G1990=\"\",\"\",'SD Data Paste'!G1990)","v":""}]
[{"$f":"IF(Table1[विद्यार्थी का नाम]=\"\",\"\",ROWS($A$1:A1990))","v":""},{"$f":"IF('SD Data Paste'!A1991=\"\",\"\",'SD Data Paste'!A1991)","v":""},{"$f":"IF('SD Data Paste'!B1991=\"\",\"\",'SD Data Paste'!B1991)","v":""},1990,{"$f":"IF('SD Data Paste'!E1991=\"\",\"\",'SD Data Paste'!E1991)","v":""},{"$f":"IF('SD Data Paste'!G1991=\"\",\"\",'SD Data Paste'!G1991)","v":""}]
[{"$f":"IF(Table1[विद्यार्थी का नाम]=\"\",\"\",ROWS($A$1:A1991))","v":""},{"$f":"IF('SD Data Paste'!A1992=\"\",\"\",'SD Data Paste'!A1992)","v":""},{"$f":"IF('SD Data Paste'!B1992=\"\",\"\",'SD Data Paste'!B1992)","v":""},1991,{"$f":"IF('SD Data Paste'!E1992=\"\",\"\",'SD Data Paste'!E1992)","v":""},{"$f":"IF('SD Data Paste'!G1992=\"\",\"\",'SD Data Paste'!G1992)","v":""}]
[{"$f":"IF(Table1[विद्यार्थी का नाम]=\"\",\"\",ROWS($A$1:A1992))","v":""},{"$f":"IF('SD Data Paste'!A1993=\"\",\"\",'SD Data Paste'!A1993)","v":""},{"$f":"IF('SD Data Paste'!B1993=\"\",\"\",'SD Data Paste'!B1993)","v":""},1992,{"$f":"IF('SD Data Paste'!E1993=\"\",\"\",'SD Data Paste'!E1993)","v":""},{"$f":"IF('SD Data Paste'!G1993=\"\",\"\",'SD Data Paste'!G1993)","v":""}]
[{"$f":"IF(Table1[विद्यार्थी का नाम]=\"\",\"\",ROWS($A$1:A1993))","v":""},{"$f":"IF('SD Data Paste'!A1994=\"\",\"\",'SD Data Paste'!A1994)","v":""},{"$f":"IF('SD Data Paste'!B1994=\"\",\"\",'SD Data Paste'!B1994)","v":""},1993,{"$f":"IF('SD Data Paste'!E1994=\"\",\"\",'SD Data Paste'!E1994)","v":""},{"$f":"IF('SD Data Paste'!G1994=\"\",\"\",'SD Data Paste'!G1994)","v":""}]
[{"$f":"IF(Table1[विद्यार्थी का नाम]=\"\",\"\",ROWS($A$1:A1994))","v":""},{"$f":"IF('SD Data Paste'!A1995=\"\",\"\",'SD Data Paste'!A1995)","v":""},{"$f":"IF('SD Data Paste'!B1995=\"\",\"\",'SD Data Paste'!B1995)","v":""},1994,{"$f":"IF('SD Data Paste'!E1995=\"\",\"\",'SD Data Paste'!E1995)","v":""},{"$f":"IF('SD Data Paste'!G1995=\"\",\"\",'SD Data Paste'!G1995)","v":""}]
[{"$f":"IF(Table1[विद्यार्थी का नाम]=\"\",\"\",ROWS($A$1:A1995))","v":""},{"$f":"IF('SD Data Paste'!A1996=\"\",\"\",'SD Data Paste'!A1996)","v":""},{"$f":"IF('SD Data Paste'!B1996=\"\",\"\",'SD Data Paste'!B1996)","v":""},1995,{"$f":"IF('SD Data Paste'!E1996=\"\",\"\",'SD Data Paste'!E1996)","v":""},{"$f":"IF('SD Data Paste'!G1996=\"\",\"\",'SD Data Paste'!G1996)","v":""}]
[{"$f":"IF(Table1[विद्यार्थी का नाम]=\"\",\"\",ROWS($A$1:A1996))","v":""},{"$f":"IF('SD Data Paste'!A1997=\"\",\"\",'SD Data Paste'!A1997)","v":""},{"$f":"IF('SD Data Paste'!B1997=\"\",\"\",'SD Data Paste'!B1997)","v":""},1996,{"$f":"IF('SD Data Paste'!E1997=\"\",\"\",'SD Data Paste'!E1997)","v":""},{"$f":"IF('SD Data Paste'!G1997=\"\",\"\",'SD Data Paste'!G1997)","v":""}]
[{"$f":"IF(Table1[विद्यार्थी का नाम]=\"\",\"\",ROWS($A$1:A1997))","v":""},{"$f":"IF('SD Data Paste'!A1998=\"\",\"\",'SD Data Paste'!A1998)","v":""},{"$f":"IF('SD Data Paste'!B1998=\"\",\"\",'SD Data Paste'!B1998)","v":""},1997,{"$f":"IF('SD Data Paste'!E1998=\"\",\"\",'SD Data Paste'!E1998)","v":""},{"$f":"IF('SD Data Paste'!G1998=\"\",\"\",'SD Data Paste'!G1998)","v":""}]
[{"$f":"IF(Table1[विद्यार्थी का नाम]=\"\",\"\",ROWS($A$1:A1998))","v":""},{"$f":"IF('SD Data Paste'!A1999=\"\",\"\",'SD Data Paste'!A1999)","v":""},{"$f":"IF('SD Data Paste'!B1999=\"\",\"\",'SD Data Paste'!B1999)","v":""},1998,{"$f":"IF('SD Data Paste'!E1999=\"\",\"\",'SD Data Paste'!E1999)","v":""},{"$f":"IF('SD Data Paste'!G1999=\"\",\"\",'SD Data Paste'!G1999)","v":""}]
[{"$f":"IF(Table1[विद्यार्थी का नाम]=\"\",\"\",ROWS($A$1:A1999))","v":""},{"$f":"IF('SD Data Paste'!A2000=\"\",\"\",'SD Data Paste'!A2000)","v":""},{"$f":"IF('SD Data Paste'!B2000=\"\",\"\",'SD Data Paste'!B2000)","v":""},1999,{"$f":"IF('SD Data Paste'!E2000=\"\",\"\",'SD Data Paste'!E2000)","v":""},{"$f":"IF('SD Data Paste'!G2000=\"\",\"\",'SD Data Paste'!G2000)","v":""}]
[{"$f":"IF(Table1[विद्यार्थी का नाम]=\"\",\"\",ROWS($A$1:A2000))","v":""},{"$f":"IF('SD Data Paste'!A2001=\"\",\"\",'SD Data Paste'!A2001)","v":""},{"$f":"IF('SD Data Paste'!B2001=\"\",\"\",'SD Data Paste'!B2001)","v":""},2000,{"$f":"IF('SD Data Paste'!E2001=\"\",\"\",'SD Data Paste'!E2001)","v":""},{"$f":"IF('SD Data Paste'!G2001=\"\",\"\",'SD Data Paste'!G2001)","v":""}]
[{"$f":"IF(Table1[विद्यार्थी का नाम]=\"\",\"\",ROWS($A$1:A2001))","v":""},{"$f":"IF('SD Data Paste'!A2002=\"\",\"\",'SD Data Paste'!A2002)","v":""},{"$f":"IF('SD Data Paste'!B2002=\"\",\"\",'SD Data Paste'!B2002)","v":""},2001,{"$f":"IF('SD Data Paste'!E2002=\"\",\"\",'SD Data Paste'!E2002)","v":""},{"$f":"IF('SD Data Paste'!G2002=\"\",\"\",'SD Data Paste'!G2002)","v":""}]
[{"$f":"IF(Table1[विद्यार्थी का नाम]=\"\",\"\",ROWS($A$1:A2002))","v":""},{"$f":"IF('SD Data Paste'!A2003=\"\",\"\",'SD Data Paste'!A2003)","v":""},{"$f":"IF('SD Data Paste'!B2003=\"\",\"\",'SD Data Paste'!B2003)","v":""},2002,{"$f":"IF('SD Data Paste'!E2003=\"\",\"\",'SD Data Paste'!E2003)","v":""},{"$f":"IF('SD Data Paste'!G2003=\"\",\"\",'SD Data Paste'!G2003)","v":""}]
[{"$f":"IF(Table1[विद्यार्थी का नाम]=\"\",\"\",ROWS($A$1:A2003))","v":""},{"$f":"IF('SD Data Paste'!A2004=\"\",\"\",'SD Data Paste'!A2004)","v":""},{"$f":"IF('SD Data Paste'!B2004=\"\",\"\",'SD Data Paste'!B2004)","v":""},2003,{"$f":"IF('SD Data Paste'!E2004=\"\",\"\",'SD Data Paste'!E2004)","v":""},{"$f":"IF('SD Data Paste'!G2004=\"\",\"\",'SD Data Paste'!G2004)","v":""}]
[{"$f":"IF(Table1[विद्यार्थी का नाम]=\"\",\"\",ROWS($A$1:A2004))","v":""},{"$f":"IF('SD Data Paste'!A2005=\"\",\"\",'SD Data Paste'!A2005)","v":""},{"$f":"IF('SD Data Paste'!B2005=\"\",\"\",'SD Data Paste'!B2005)","v":""},2004,{"$f":"IF('SD Data Paste'!E2005=\"\",\"\",'SD Data Paste'!E2005)","v":""},{"$f":"IF('SD Data Paste'!G2005=\"\",\"\",'SD Data Paste'!G2005)","v":""}]
[{"$f":"IF(Table1[विद्यार्थी का नाम]=\"\",\"\",ROWS($A$1:A2005))","v":""},{"$f":"IF('SD Data Paste'!A2006=\"\",\"\",'SD Data Paste'!A2006)","v":""},{"$f":"IF('SD Data Paste'!B2006=\"\",\"\",'SD Data Paste'!B2006)","v":""},2005,{"$f":"IF('SD Data Paste'!E2006=\"\",\"\",'SD Data Paste'!E2006)","v":""},{"$f":"IF('SD Data Paste'!G2006=\"\",\"\",'SD Data Paste'!G2006)","v":""}]
[{"$f":"IF(Table1[विद्यार्थी का नाम]=\"\",\"\",ROWS($A$1:A2006))","v":""},{"$f":"IF('SD Data Paste'!A2007=\"\",\"\",'SD Data Paste'!A2007)","v":""},{"$f":"IF('SD Data Paste'!B2007=\"\",\"\",'SD Data Paste'!B2007)","v":""},2006,{"$f":"IF('SD Data Paste'!E2007=\"\",\"\",'SD Data Paste'!E2007)","v":""},{"$f":"IF('SD Data Paste'!G2007=\"\",\"\",'SD Data Paste'!G2007)","v":""}]
[{"$f":"IF(Table1[विद्यार्थी का नाम]=\"\",\"\",ROWS($A$1:A2007))","v":""},{"$f":"IF('SD Data Paste'!A2008=\"\",\"\",'SD Data Paste'!A2008)","v":""},{"$f":"IF('SD Data Paste'!B2008=\"\",\"\",'SD Data Paste'!B2008)","v":""},2007,{"$f":"IF('SD Data Paste'!E2008=\"\",\"\",'SD Data Paste'!E2008)","v":""},{"$f":"IF('SD Data Paste'!G2008=\"\",\"\",'SD Data Paste'!G2008)","v":""}]
[{"$f":"IF(Table1[विद्यार्थी का नाम]=\"\",\"\",ROWS($A$1:A2008))","v":""},{"$f":"IF('SD Data Paste'!A2009=\"\",\"\",'SD Data Paste'!A2009)","v":""},{"$f":"IF('SD Data Paste'!B2009=\"\",\"\",'SD Data Paste'!B2009)","v":""},2008,{"$f":"IF('SD Data Paste'!E2009=\"\",\"\",'SD Data Paste'!E2009)","v":""},{"$f":"IF('SD Data Paste'!G2009=\"\",\"\",'SD Data Paste'!G2009)","v":""}]
[{"$f":"IF(Table1[विद्यार्थी का नाम]=\"\",\"\",ROWS($A$1:A2009))","v":""},{"$f":"IF('SD Data Paste'!A2010=\"\",\"\",'SD Data Paste'!A2010)","v":""},{"$f":"IF('SD Data Paste'!B2010=\"\",\"\",'SD Data Paste'!B2010)","v":""},2009,{"$f":"IF('SD Data Paste'!E2010=\"\",\"\",'SD Data Paste'!E2010)","v":""},{"$f":"IF('SD Data Paste'!G2010=\"\",\"\",'SD Data Paste'!G2010)","v":""}]
[{"$f":"IF(Table1[विद्यार्थी का नाम]=\"\",\"\",ROWS($A$1:A2010))","v":""},{"$f":"IF('SD Data Paste'!A2011=\"\",\"\",'SD Data Paste'!A2011)","v":""},{"$f":"IF('SD Data Paste'!B2011=\"\",\"\",'SD Data Paste'!B2011)","v":""},2010,{"$f":"IF('SD Data Paste'!E2011=\"\",\"\",'SD Data Paste'!E2011)","v":""},{"$f":"IF('SD Data Paste'!G2011=\"\",\"\",'SD Data Paste'!G2011)","v":""}]
[{"$f":"IF(Table1[विद्यार्थी का नाम]=\"\",\"\",ROWS($A$1:A2011))","v":""},{"$f":"IF('SD Data Paste'!A2012=\"\",\"\",'SD Data Paste'!A2012)","v":""},{"$f":"IF('SD Data Paste'!B2012=\"\",\"\",'SD Data Paste'!B2012)","v":""},2011,{"$f":"IF('SD Data Paste'!E2012=\"\",\"\",'SD Data Paste'!E2012)","v":""},{"$f":"IF('SD Data Paste'!G2012=\"\",\"\",'SD Data Paste'!G2012)","v":""}]
[{"$f":"IF(Table1[विद्यार्थी का नाम]=\"\",\"\",ROWS($A$1:A2012))","v":""},{"$f":"IF('SD Data Paste'!A2013=\"\",\"\",'SD Data Paste'!A2013)","v":""},{"$f":"IF('SD Data Paste'!B2013=\"\",\"\",'SD Data Paste'!B2013)","v":""},2012,{"$f":"IF('SD Data Paste'!E2013=\"\",\"\",'SD Data Paste'!E2013)","v":""},{"$f":"IF('SD Data Paste'!G2013=\"\",\"\",'SD Data Paste'!G2013)","v":""}]
[{"$f":"IF(Table1[विद्यार्थी का नाम]=\"\",\"\",ROWS($A$1:A2013))","v":""},{"$f":"IF('SD Data Paste'!A2014=\"\",\"\",'SD Data Paste'!A2014)","v":""},{"$f":"IF('SD Data Paste'!B2014=\"\",\"\",'SD Data Paste'!B2014)","v":""},2013,{"$f":"IF('SD Data Paste'!E2014=\"\",\"\",'SD Data Paste'!E2014)","v":""},{"$f":"IF('SD Data Paste'!G2014=\"\",\"\",'SD Data Paste'!G2014)","v":""}]
[{"$f":"IF(Table1[विद्यार्थी का नाम]=\"\",\"\",ROWS($A$1:A2014))","v":""},{"$f":"IF('SD Data Paste'!A2015=\"\",\"\",'SD Data Paste'!A2015)","v":""},{"$f":"IF('SD Data Paste'!B2015=\"\",\"\",'SD Data Paste'!B2015)","v":""},2014,{"$f":"IF('SD Data Paste'!E2015=\"\",\"\",'SD Data Paste'!E2015)","v":""},{"$f":"IF('SD Data Paste'!G2015=\"\",\"\",'SD Data Paste'!G2015)","v":""}]
[{"$f":"IF(Table1[विद्यार्थी का नाम]=\"\",\"\",ROWS($A$1:A2015))","v":""},{"$f":"IF('SD Data Paste'!A2016=\"\",\"\",'SD Data Paste'!A2016)","v":""},{"$f":"IF('SD Data Paste'!B2016=\"\",\"\",'SD Data Paste'!B2016)","v":""},2015,{"$f":"IF('SD Data Paste'!E2016=\"\",\"\",'SD Data Paste'!E2016)","v":""},{"$f":"IF('SD Data Paste'!G2016=\"\",\"\",'SD Data Paste'!G2016)","v":""}]
[{"$f":"IF(Table1[विद्यार्थी का नाम]=\"\",\"\",ROWS($A$1:A2016))","v":""},{"$f":"IF('SD Data Paste'!A2017=\"\",\"\",'SD Data Paste'!A2017)","v":""},{"$f":"IF('SD Data Paste'!B2017=\"\",\"\",'SD Data Paste'!B2017)","v":""},2016,{"$f":"IF('SD Data Paste'!E2017=\"\",\"\",'SD Data Paste'!E2017)","v":""},{"$f":"IF('SD Data Paste'!G2017=\"\",\"\",'SD Data Paste'!G2017)","v":""}]
[{"$f":"IF(Table1[विद्यार्थी का नाम]=\"\",\"\",ROWS($A$1:A2017))","v":""},{"$f":"IF('SD Data Paste'!A2018=\"\",\"\",'SD Data Paste'!A2018)","v":""},{"$f":"IF('SD Data Paste'!B2018=\"\",\"\",'SD Data Paste'!B2018)","v":""},2017,{"$f":"IF('SD Data Paste'!E2018=\"\",\"\",'SD Data Paste'!E2018)","v":""},{"$f":"IF('SD Data Paste'!G2018=\"\",\"\",'SD Data Paste'!G2018)","v":""}]
[{"$f":"IF(Table1[विद्यार्थी का नाम]=\"\",\"\",ROWS($A$1:A2018))","v":""},{"$f":"IF('SD Data Paste'!A2019=\"\",\"\",'SD Data Paste'!A2019)","v":""},{"$f":"IF('SD Data Paste'!B2019=\"\",\"\",'SD Data Paste'!B2019)","v":""},2018,{"$f":"IF('SD Data Paste'!E2019=\"\",\"\",'SD Data Paste'!E2019)","v":""},{"$f":"IF('SD Data Paste'!G2019=\"\",\"\",'SD Data Paste'!G2019)","v":""}]
[{"$f":"IF(Table1[विद्यार्थी का नाम]=\"\",\"\",ROWS($A$1:A2019))","v":""},{"$f":"IF('SD Data Paste'!A2020=\"\",\"\",'SD Data Paste'!A2020)","v":""},{"$f":"IF('SD Data Paste'!B2020=\"\",\"\",'SD Data Paste'!B2020)","v":""},2019,{"$f":"IF('SD Data Paste'!E2020=\"\",\"\",'SD Data Paste'!E2020)","v":""},{"$f":"IF('SD Data Paste'!G2020=\"\",\"\",'SD Data Paste'!G2020)","v":""}]
[{"$f":"IF(Table1[विद्यार्थी का नाम]=\"\",\"\",ROWS($A$1:A2020))","v":""},{"$f":"IF('SD Data Paste'!A2021=\"\",\"\",'SD Data Paste'!A2021)","v":""},{"$f":"IF('SD Data Paste'!B2021=\"\",\"\",'SD Data Paste'!B2021)","v":""},2020,{"$f":"IF('SD Data Paste'!E2021=\"\",\"\",'SD Data Paste'!E2021)","v":""},{"$f":"IF('SD Data Paste'!G2021=\"\",\"\",'SD Data Paste'!G2021)","v":""}]
[{"$f":"IF(Table1[विद्यार्थी का नाम]=\"\",\"\",ROWS($A$1:A2021))","v":""},{"$f":"IF('SD Data Paste'!A2022=\"\",\"\",'SD Data Paste'!A2022)","v":""},{"$f":"IF('SD Data Paste'!B2022=\"\",\"\",'SD Data Paste'!B2022)","v":""},2021,{"$f":"IF('SD Data Paste'!E2022=\"\",\"\",'SD Data Paste'!E2022)","v":""},{"$f":"IF('SD Data Paste'!G2022=\"\",\"\",'SD Data Paste'!G2022)","v":""}]
[{"$f":"IF(Table1[विद्यार्थी का नाम]=\"\",\"\",ROWS($A$1:A2022))","v":""},{"$f":"IF('SD Data Paste'!A2023=\"\",\"\",'SD Data Paste'!A2023)","v":""},{"$f":"IF('SD Data Paste'!B2023=\"\",\"\",'SD Data Paste'!B2023)","v":""},2022,{"$f":"IF('SD Data Paste'!E2023=\"\",\"\",'SD Data Paste'!E2023)","v":""},{"$f":"IF('SD Data Paste'!G2023=\"\",\"\",'SD Data Paste'!G2023)","v":""}]
[{"$f":"IF(Table1[विद्यार्थी का नाम]=\"\",\"\",ROWS($A$1:A2023))","v":""},{"$f":"IF('SD Data Paste'!A2024=\"\",\"\",'SD Data Paste'!A2024)","v":""},{"$f":"IF('SD Data Paste'!B2024=\"\",\"\",'SD Data Paste'!B2024)","v":""},2023,{"$f":"IF('SD Data Paste'!E2024=\"\",\"\",'SD Data Paste'!E2024)","v":""},{"$f":"IF('SD Data Paste'!G2024=\"\",\"\",'SD Data Paste'!G2024)","v":""}]
[{"$f":"IF(Table1[विद्यार्थी का नाम]=\"\",\"\",ROWS($A$1:A2024))","v":""},{"$f":"IF('SD Data Paste'!A2025=\"\",\"\",'SD Data Paste'!A2025)","v":""},{"$f":"IF('SD Data Paste'!B2025=\"\",\"\",'SD Data Paste'!B2025)","v":""},2024,{"$f":"IF('SD Data Paste'!E2025=\"\",\"\",'SD Data Paste'!E2025)","v":""},{"$f":"IF('SD Data Paste'!G2025=\"\",\"\",'SD Data Paste'!G2025)","v":""}]
[{"$f":"IF(Table1[विद्यार्थी का नाम]=\"\",\"\",ROWS($A$1:A2025))","v":""},{"$f":"IF('SD Data Paste'!A2026=\"\",\"\",'SD Data Paste'!A2026)","v":""},{"$f":"IF('SD Data Paste'!B2026=\"\",\"\",'SD Data Paste'!B2026)","v":""},2025,{"$f":"IF('SD Data Paste'!E2026=\"\",\"\",'SD Data Paste'!E2026)","v":""},{"$f":"IF('SD Data Paste'!G2026=\"\",\"\",'SD Data Paste'!G2026)","v":""}]
[{"$f":"IF(Table1[विद्यार्थी का नाम]=\"\",\"\",ROWS($A$1:A2026))","v":""},{"$f":"IF('SD Data Paste'!A2027=\"\",\"\",'SD Data Paste'!A2027)","v":""},{"$f":"IF('SD Data Paste'!B2027=\"\",\"\",'SD Data Paste'!B2027)","v":""},2026,{"$f":"IF('SD Data Paste'!E2027=\"\",\"\",'SD Data Paste'!E2027)","v":""},{"$f":"IF('SD Data Paste'!G2027=\"\",\"\",'SD Data Paste'!G2027)","v":""}]
[{"$f":"IF(Table1[विद्यार्थी का नाम]=\"\",\"\",ROWS($A$1:A2027))","v":""},{"$f":"IF('SD Data Paste'!A2028=\"\",\"\",'SD Data Paste'!A2028)","v":""},{"$f":"IF('SD Data Paste'!B2028=\"\",\"\",'SD Data Paste'!B2028)","v":""},2027,{"$f":"IF('SD Data Paste'!E2028=\"\",\"\",'SD Data Paste'!E2028)","v":""},{"$f":"IF('SD Data Paste'!G2028=\"\",\"\",'SD Data Paste'!G2028)","v":""}]
[{"$f":"IF(Table1[विद्यार्थी का नाम]=\"\",\"\",ROWS($A$1:A2028))","v":""},{"$f":"IF('SD Data Paste'!A2029=\"\",\"\",'SD Data Paste'!A2029)","v":""},{"$f":"IF('SD Data Paste'!B2029=\"\",\"\",'SD Data Paste'!B2029)","v":""},2028,{"$f":"IF('SD Data Paste'!E2029=\"\",\"\",'SD Data Paste'!E2029)","v":""},{"$f":"IF('SD Data Paste'!G2029=\"\",\"\",'SD Data Paste'!G2029)","v":""}]
[{"$f":"IF(Table1[विद्यार्थी का नाम]=\"\",\"\",ROWS($A$1:A2029))","v":""},{"$f":"IF('SD Data Paste'!A2030=\"\",\"\",'SD Data Paste'!A2030)","v":""},{"$f":"IF('SD Data Paste'!B2030=\"\",\"\",'SD Data Paste'!B2030)","v":""},2029,{"$f":"IF('SD Data Paste'!E2030=\"\",\"\",'SD Data Paste'!E2030)","v":""},{"$f":"IF('SD Data Paste'!G2030=\"\",\"\",'SD Data Paste'!G2030)","v":""}]
[{"$f":"IF(Table1[विद्यार्थी का नाम]=\"\",\"\",ROWS($A$1:A2030))","v":""},{"$f":"IF('SD Data Paste'!A2031=\"\",\"\",'SD Data Paste'!A2031)","v":""},{"$f":"IF('SD Data Paste'!B2031=\"\",\"\",'SD Data Paste'!B2031)","v":""},2030,{"$f":"IF('SD Data Paste'!E2031=\"\",\"\",'SD Data Paste'!E2031)","v":""},{"$f":"IF('SD Data Paste'!G2031=\"\",\"\",'SD Data Paste'!G2031)","v":""}]
[{"$f":"IF(Table1[विद्यार्थी का नाम]=\"\",\"\",ROWS($A$1:A2031))","v":""},{"$f":"IF('SD Data Paste'!A2032=\"\",\"\",'SD Data Paste'!A2032)","v":""},{"$f":"IF('SD Data Paste'!B2032=\"\",\"\",'SD Data Paste'!B2032)","v":""},2031,{"$f":"IF('SD Data Paste'!E2032=\"\",\"\",'SD Data Paste'!E2032)","v":""},{"$f":"IF('SD Data Paste'!G2032=\"\",\"\",'SD Data Paste'!G2032)","v":""}]
[{"$f":"IF(Table1[विद्यार्थी का नाम]=\"\",\"\",ROWS($A$1:A2032))","v":""},{"$f":"IF('SD Data Paste'!A2033=\"\",\"\",'SD Data Paste'!A2033)","v":""},{"$f":"IF('SD Data Paste'!B2033=\"\",\"\",'SD Data Paste'!B2033)","v":""},2032,{"$f":"IF('SD Data Paste'!E2033=\"\",\"\",'SD Data Paste'!E2033)","v":""},{"$f":"IF('SD Data Paste'!G2033=\"\",\"\",'SD Data Paste'!G2033)","v":""}]
[{"$f":"IF(Table1[विद्यार्थी का नाम]=\"\",\"\",ROWS($A$1:A2033))","v":""},{"$f":"IF('SD Data Paste'!A2034=\"\",\"\",'SD Data Paste'!A2034)","v":""},{"$f":"IF('SD Data Paste'!B2034=\"\",\"\",'SD Data Paste'!B2034)","v":""},2033,{"$f":"IF('SD Data Paste'!E2034=\"\",\"\",'SD Data Paste'!E2034)","v":""},{"$f":"IF('SD Data Paste'!G2034=\"\",\"\",'SD Data Paste'!G2034)","v":""}]
[{"$f":"IF(Table1[विद्यार्थी का नाम]=\"\",\"\",ROWS($A$1:A2034))","v":""},{"$f":"IF('SD Data Paste'!A2035=\"\",\"\",'SD Data Paste'!A2035)","v":""},{"$f":"IF('SD Data Paste'!B2035=\"\",\"\",'SD Data Paste'!B2035)","v":""},2034,{"$f":"IF('SD Data Paste'!E2035=\"\",\"\",'SD Data Paste'!E2035)","v":""},{"$f":"IF('SD Data Paste'!G2035=\"\",\"\",'SD Data Paste'!G2035)","v":""}]
[{"$f":"IF(Table1[विद्यार्थी का नाम]=\"\",\"\",ROWS($A$1:A2035))","v":""},{"$f":"IF('SD Data Paste'!A2036=\"\",\"\",'SD Data Paste'!A2036)","v":""},{"$f":"IF('SD Data Paste'!B2036=\"\",\"\",'SD Data Paste'!B2036)","v":""},2035,{"$f":"IF('SD Data Paste'!E2036=\"\",\"\",'SD Data Paste'!E2036)","v":""},{"$f":"IF('SD Data Paste'!G2036=\"\",\"\",'SD Data Paste'!G2036)","v":""}]
[{"$f":"IF(Table1[विद्यार्थी का नाम]=\"\",\"\",ROWS($A$1:A2036))","v":""},{"$f":"IF('SD Data Paste'!A2037=\"\",\"\",'SD Data Paste'!A2037)","v":""},{"$f":"IF('SD Data Paste'!B2037=\"\",\"\",'SD Data Paste'!B2037)","v":""},2036,{"$f":"IF('SD Data Paste'!E2037=\"\",\"\",'SD Data Paste'!E2037)","v":""},{"$f":"IF('SD Data Paste'!G2037=\"\",\"\",'SD Data Paste'!G2037)","v":""}]
[{"$f":"IF(Table1[विद्यार्थी का नाम]=\"\",\"\",ROWS($A$1:A2037))","v":""},{"$f":"IF('SD Data Paste'!A2038=\"\",\"\",'SD Data Paste'!A2038)","v":""},{"$f":"IF('SD Data Paste'!B2038=\"\",\"\",'SD Data Paste'!B2038)","v":""},2037,{"$f":"IF('SD Data Paste'!E2038=\"\",\"\",'SD Data Paste'!E2038)","v":""},{"$f":"IF('SD Data Paste'!G2038=\"\",\"\",'SD Data Paste'!G2038)","v":""}]
[{"$f":"IF(Table1[विद्यार्थी का नाम]=\"\",\"\",ROWS($A$1:A2038))","v":""},{"$f":"IF('SD Data Paste'!A2039=\"\",\"\",'SD Data Paste'!A2039)","v":""},{"$f":"IF('SD Data Paste'!B2039=\"\",\"\",'SD Data Paste'!B2039)","v":""},2038,{"$f":"IF('SD Data Paste'!E2039=\"\",\"\",'SD Data Paste'!E2039)","v":""},{"$f":"IF('SD Data Paste'!G2039=\"\",\"\",'SD Data Paste'!G2039)","v":""}]
[{"$f":"IF(Table1[विद्यार्थी का नाम]=\"\",\"\",ROWS($A$1:A2039))","v":""},{"$f":"IF('SD Data Paste'!A2040=\"\",\"\",'SD Data Paste'!A2040)","v":""},{"$f":"IF('SD Data Paste'!B2040=\"\",\"\",'SD Data Paste'!B2040)","v":""},2039,{"$f":"IF('SD Data Paste'!E2040=\"\",\"\",'SD Data Paste'!E2040)","v":""},{"$f":"IF('SD Data Paste'!G2040=\"\",\"\",'SD Data Paste'!G2040)","v":""}]
[{"$f":"IF(Table1[विद्यार्थी का नाम]=\"\",\"\",ROWS($A$1:A2040))","v":""},{"$f":"IF('SD Data Paste'!A2041=\"\",\"\",'SD Data Paste'!A2041)","v":""},{"$f":"IF('SD Data Paste'!B2041=\"\",\"\",'SD Data Paste'!B2041)","v":""},2040,{"$f":"IF('SD Data Paste'!E2041=\"\",\"\",'SD Data Paste'!E2041)","v":""},{"$f":"IF('SD Data Paste'!G2041=\"\",\"\",'SD Data Paste'!G2041)","v":""}]
[{"$f":"IF(Table1[विद्यार्थी का नाम]=\"\",\"\",ROWS($A$1:A2041))","v":""},{"$f":"IF('SD Data Paste'!A2042=\"\",\"\",'SD Data Paste'!A2042)","v":""},{"$f":"IF('SD Data Paste'!B2042=\"\",\"\",'SD Data Paste'!B2042)","v":""},2041,{"$f":"IF('SD Data Paste'!E2042=\"\",\"\",'SD Data Paste'!E2042)","v":""},{"$f":"IF('SD Data Paste'!G2042=\"\",\"\",'SD Data Paste'!G2042)","v":""}]
[{"$f":"IF(Table1[विद्यार्थी का नाम]=\"\",\"\",ROWS($A$1:A2042))","v":""},{"$f":"IF('SD Data Paste'!A2043=\"\",\"\",'SD Data Paste'!A2043)","v":""},{"$f":"IF('SD Data Paste'!B2043=\"\",\"\",'SD Data Paste'!B2043)","v":""},2042,{"$f":"IF('SD Data Paste'!E2043=\"\",\"\",'SD Data Paste'!E2043)","v":""},{"$f":"IF('SD Data Paste'!G2043=\"\",\"\",'SD Data Paste'!G2043)","v":""}]
[{"$f":"IF(Table1[विद्यार्थी का नाम]=\"\",\"\",ROWS($A$1:A2043))","v":""},{"$f":"IF('SD Data Paste'!A2044=\"\",\"\",'SD Data Paste'!A2044)","v":""},{"$f":"IF('SD Data Paste'!B2044=\"\",\"\",'SD Data Paste'!B2044)","v":""},2043,{"$f":"IF('SD Data Paste'!E2044=\"\",\"\",'SD Data Paste'!E2044)","v":""},{"$f":"IF('SD Data Paste'!G2044=\"\",\"\",'SD Data Paste'!G2044)","v":""}]
[{"$f":"IF(Table1[विद्यार्थी का नाम]=\"\",\"\",ROWS($A$1:A2044))","v":""},{"$f":"IF('SD Data Paste'!A2045=\"\",\"\",'SD Data Paste'!A2045)","v":""},{"$f":"IF('SD Data Paste'!B2045=\"\",\"\",'SD Data Paste'!B2045)","v":""},2044,{"$f":"IF('SD Data Paste'!E2045=\"\",\"\",'SD Data Paste'!E2045)","v":""},{"$f":"IF('SD Data Paste'!G2045=\"\",\"\",'SD Data Paste'!G2045)","v":""}]
[{"$f":"IF(Table1[विद्यार्थी का नाम]=\"\",\"\",ROWS($A$1:A2045))","v":""},{"$f":"IF('SD Data Paste'!A2046=\"\",\"\",'SD Data Paste'!A2046)","v":""},{"$f":"IF('SD Data Paste'!B2046=\"\",\"\",'SD Data Paste'!B2046)","v":""},2045,{"$f":"IF('SD Data Paste'!E2046=\"\",\"\",'SD Data Paste'!E2046)","v":""},{"$f":"IF('SD Data Paste'!G2046=\"\",\"\",'SD Data Paste'!G2046)","v":""}]
[{"$f":"IF(Table1[विद्यार्थी का नाम]=\"\",\"\",ROWS($A$1:A2046))","v":""},{"$f":"IF('SD Data Paste'!A2047=\"\",\"\",'SD Data Paste'!A2047)","v":""},{"$f":"IF('SD Data Paste'!B2047=\"\",\"\",'SD Data Paste'!B2047)","v":""},2046,{"$f":"IF('SD Data Paste'!E2047=\"\",\"\",'SD Data Paste'!E2047)","v":""},{"$f":"IF('SD Data Paste'!G2047=\"\",\"\",'SD Data Paste'!G2047)","v":""}]
[{"$f":"IF(Table1[विद्यार्थी का नाम]=\"\",\"\",ROWS($A$1:A2047))","v":""},{"$f":"IF('SD Data Paste'!A2048=\"\",\"\",'SD Data Paste'!A2048)","v":""},{"$f":"IF('SD Data Paste'!B2048=\"\",\"\",'SD Data Paste'!B2048)","v":""},2047,{"$f":"IF('SD Data Paste'!E2048=\"\",\"\",'SD Data Paste'!E2048)","v":""},{"$f":"IF('SD Data Paste'!G2048=\"\",\"\",'SD Data Paste'!G2048)","v":""}]
[{"$f":"IF(Table1[विद्यार्थी का नाम]=\"\",\"\",ROWS($A$1:A2048))","v":""},{"$f":"IF('SD Data Paste'!A2049=\"\",\"\",'SD Data Paste'!A2049)","v":""},{"$f":"IF('SD Data Paste'!B2049=\"\",\"\",'SD Data Paste'!B2049)","v":""},2048,{"$f":"IF('SD Data Paste'!E2049=\"\",\"\",'SD Data Paste'!E2049)","v":""},{"$f":"IF('SD Data Paste'!G2049=\"\",\"\",'SD Data Paste'!G2049)","v":""}]
[{"$f":"IF(Table1[विद्यार्थी का नाम]=\"\",\"\",ROWS($A$1:A2049))","v":""},{"$f":"IF('SD Data Paste'!A2050=\"\",\"\",'SD Data Paste'!A2050)","v":""},{"$f":"IF('SD Data Paste'!B2050=\"\",\"\",'SD Data Paste'!B2050)","v":""},2049,{"$f":"IF('SD Data Paste'!E2050=\"\",\"\",'SD Data Paste'!E2050)","v":""},{"$f":"IF('SD Data Paste'!G2050=\"\",\"\",'SD Data Paste'!G2050)","v":""}]
[{"$f":"IF(Table1[विद्यार्थी का नाम]=\"\",\"\",ROWS($A$1:A2050))","v":""},{"$f":"IF('SD Data Paste'!A2051=\"\",\"\",'SD Data Paste'!A2051)","v":""},{"$f":"IF('SD Data Paste'!B2051=\"\",\"\",'SD Data Paste'!B2051)","v":""},2050,{"$f":"IF('SD Data Paste'!E2051=\"\",\"\",'SD Data Paste'!E2051)","v":""},{"$f":"IF('SD Data Paste'!G2051=\"\",\"\",'SD Data Paste'!G2051)","v":""}]
[{"$f":"IF(Table1[विद्यार्थी का नाम]=\"\",\"\",ROWS($A$1:A2051))","v":""},{"$f":"IF('SD Data Paste'!A2052=\"\",\"\",'SD Data Paste'!A2052)","v":""},{"$f":"IF('SD Data Paste'!B2052=\"\",\"\",'SD Data Paste'!B2052)","v":""},{"$f":"IF(D2053=\"\",\"\",D2053+1)","v":2051},{"$f":"IF('SD Data Paste'!E2052=\"\",\"\",'SD Data Paste'!E2052)","v":""},{"$f":"IF('SD Data Paste'!G2052=\"\",\"\",'SD Data Paste'!G2052)","v":""}]
[{"$f":"IF(Table1[विद्यार्थी का नाम]=\"\",\"\",ROWS($A$1:A2052))","v":""},{"$f":"IF('SD Data Paste'!A2053=\"\",\"\",'SD Data Paste'!A2053)","v":""},{"$f":"IF('SD Data Paste'!B2053=\"\",\"\",'SD Data Paste'!B2053)","v":""},2052,{"$f":"IF('SD Data Paste'!E2053=\"\",\"\",'SD Data Paste'!E2053)","v":""},{"$f":"IF('SD Data Paste'!G2053=\"\",\"\",'SD Data Paste'!G2053)","v":""}]
[{"$f":"IF(Table1[विद्यार्थी का नाम]=\"\",\"\",ROWS($A$1:A2053))","v":""},{"$f":"IF('SD Data Paste'!A2054=\"\",\"\",'SD Data Paste'!A2054)","v":""},{"$f":"IF('SD Data Paste'!B2054=\"\",\"\",'SD Data Paste'!B2054)","v":""},2053,{"$f":"IF('SD Data Paste'!E2054=\"\",\"\",'SD Data Paste'!E2054)","v":""},{"$f":"IF('SD Data Paste'!G2054=\"\",\"\",'SD Data Paste'!G2054)","v":""}]
[{"$f":"IF(Table1[विद्यार्थी का नाम]=\"\",\"\",ROWS($A$1:A2054))","v":""},{"$f":"IF('SD Data Paste'!A2055=\"\",\"\",'SD Data Paste'!A2055)","v":""},{"$f":"IF('SD Data Paste'!B2055=\"\",\"\",'SD Data Paste'!B2055)","v":""},2054,{"$f":"IF('SD Data Paste'!E2055=\"\",\"\",'SD Data Paste'!E2055)","v":""},{"$f":"IF('SD Data Paste'!G2055=\"\",\"\",'SD Data Paste'!G2055)","v":""}]
[{"$f":"IF(Table1[विद्यार्थी का नाम]=\"\",\"\",ROWS($A$1:A2055))","v":""},{"$f":"IF('SD Data Paste'!A2056=\"\",\"\",'SD Data Paste'!A2056)","v":""},{"$f":"IF('SD Data Paste'!B2056=\"\",\"\",'SD Data Paste'!B2056)","v":""},2055,{"$f":"IF('SD Data Paste'!E2056=\"\",\"\",'SD Data Paste'!E2056)","v":""},{"$f":"IF('SD Data Paste'!G2056=\"\",\"\",'SD Data Paste'!G2056)","v":""}]
[{"$f":"IF(Table1[विद्यार्थी का नाम]=\"\",\"\",ROWS($A$1:A2056))","v":""},{"$f":"IF('SD Data Paste'!A2057=\"\",\"\",'SD Data Paste'!A2057)","v":""},{"$f":"IF('SD Data Paste'!B2057=\"\",\"\",'SD Data Paste'!B2057)","v":""},2056,{"$f":"IF('SD Data Paste'!E2057=\"\",\"\",'SD Data Paste'!E2057)","v":""},{"$f":"IF('SD Data Paste'!G2057=\"\",\"\",'SD Data Paste'!G2057)","v":""}]
[{"$f":"IF(Table1[विद्यार्थी का नाम]=\"\",\"\",ROWS($A$1:A2057))","v":""},{"$f":"IF('SD Data Paste'!A2058=\"\",\"\",'SD Data Paste'!A2058)","v":""},{"$f":"IF('SD Data Paste'!B2058=\"\",\"\",'SD Data Paste'!B2058)","v":""},2057,{"$f":"IF('SD Data Paste'!E2058=\"\",\"\",'SD Data Paste'!E2058)","v":""},{"$f":"IF('SD Data Paste'!G2058=\"\",\"\",'SD Data Paste'!G2058)","v":""}]
[{"$f":"IF(Table1[विद्यार्थी का नाम]=\"\",\"\",ROWS($A$1:A2058))","v":""},{"$f":"IF('SD Data Paste'!A2059=\"\",\"\",'SD Data Paste'!A2059)","v":""},{"$f":"IF('SD Data Paste'!B2059=\"\",\"\",'SD Data Paste'!B2059)","v":""},2058,{"$f":"IF('SD Data Paste'!E2059=\"\",\"\",'SD Data Paste'!E2059)","v":""},{"$f":"IF('SD Data Paste'!G2059=\"\",\"\",'SD Data Paste'!G2059)","v":""}]
[{"$f":"IF(Table1[विद्यार्थी का नाम]=\"\",\"\",ROWS($A$1:A2059))","v":""},{"$f":"IF('SD Data Paste'!A2060=\"\",\"\",'SD Data Paste'!A2060)","v":""},{"$f":"IF('SD Data Paste'!B2060=\"\",\"\",'SD Data Paste'!B2060)","v":""},2059,{"$f":"IF('SD Data Paste'!E2060=\"\",\"\",'SD Data Paste'!E2060)","v":""},{"$f":"IF('SD Data Paste'!G2060=\"\",\"\",'SD Data Paste'!G2060)","v":""}]
[{"$f":"IF(Table1[विद्यार्थी का नाम]=\"\",\"\",ROWS($A$1:A2060))","v":""},{"$f":"IF('SD Data Paste'!A2061=\"\",\"\",'SD Data Paste'!A2061)","v":""},{"$f":"IF('SD Data Paste'!B2061=\"\",\"\",'SD Data Paste'!B2061)","v":""},2060,{"$f":"IF('SD Data Paste'!E2061=\"\",\"\",'SD Data Paste'!E2061)","v":""},{"$f":"IF('SD Data Paste'!G2061=\"\",\"\",'SD Data Paste'!G2061)","v":""}]
[{"$f":"IF(Table1[विद्यार्थी का नाम]=\"\",\"\",ROWS($A$1:A2061))","v":""},{"$f":"IF('SD Data Paste'!A2062=\"\",\"\",'SD Data Paste'!A2062)","v":""},{"$f":"IF('SD Data Paste'!B2062=\"\",\"\",'SD Data Paste'!B2062)","v":""},2061,{"$f":"IF('SD Data Paste'!E2062=\"\",\"\",'SD Data Paste'!E2062)","v":""},{"$f":"IF('SD Data Paste'!G2062=\"\",\"\",'SD Data Paste'!G2062)","v":""}]
[{"$f":"IF(Table1[विद्यार्थी का नाम]=\"\",\"\",ROWS($A$1:A2062))","v":""},{"$f":"IF('SD Data Paste'!A2063=\"\",\"\",'SD Data Paste'!A2063)","v":""},{"$f":"IF('SD Data Paste'!B2063=\"\",\"\",'SD Data Paste'!B2063)","v":""},2062,{"$f":"IF('SD Data Paste'!E2063=\"\",\"\",'SD Data Paste'!E2063)","v":""},{"$f":"IF('SD Data Paste'!G2063=\"\",\"\",'SD Data Paste'!G2063)","v":""}]
[{"$f":"IF(Table1[विद्यार्थी का नाम]=\"\",\"\",ROWS($A$1:A2063))","v":""},{"$f":"IF('SD Data Paste'!A2064=\"\",\"\",'SD Data Paste'!A2064)","v":""},{"$f":"IF('SD Data Paste'!B2064=\"\",\"\",'SD Data Paste'!B2064)","v":""},2063,{"$f":"IF('SD Data Paste'!E2064=\"\",\"\",'SD Data Paste'!E2064)","v":""},{"$f":"IF('SD Data Paste'!G2064=\"\",\"\",'SD Data Paste'!G2064)","v":""}]
[{"$f":"IF(Table1[विद्यार्थी का नाम]=\"\",\"\",ROWS($A$1:A2064))","v":""},{"$f":"IF('SD Data Paste'!A2065=\"\",\"\",'SD Data Paste'!A2065)","v":""},{"$f":"IF('SD Data Paste'!B2065=\"\",\"\",'SD Data Paste'!B2065)","v":""},2064,{"$f":"IF('SD Data Paste'!E2065=\"\",\"\",'SD Data Paste'!E2065)","v":""},{"$f":"IF('SD Data Paste'!G2065=\"\",\"\",'SD Data Paste'!G2065)","v":""}]
[{"$f":"IF(Table1[विद्यार्थी का नाम]=\"\",\"\",ROWS($A$1:A2065))","v":""},{"$f":"IF('SD Data Paste'!A2066=\"\",\"\",'SD Data Paste'!A2066)","v":""},{"$f":"IF('SD Data Paste'!B2066=\"\",\"\",'SD Data Paste'!B2066)","v":""},2065,{"$f":"IF('SD Data Paste'!E2066=\"\",\"\",'SD Data Paste'!E2066)","v":""},{"$f":"IF('SD Data Paste'!G2066=\"\",\"\",'SD Data Paste'!G2066)","v":""}]
[{"$f":"IF(Table1[विद्यार्थी का नाम]=\"\",\"\",ROWS($A$1:A2066))","v":""},{"$f":"IF('SD Data Paste'!A2067=\"\",\"\",'SD Data Paste'!A2067)","v":""},{"$f":"IF('SD Data Paste'!B2067=\"\",\"\",'SD Data Paste'!B2067)","v":""},2066,{"$f":"IF('SD Data Paste'!E2067=\"\",\"\",'SD Data Paste'!E2067)","v":""},{"$f":"IF('SD Data Paste'!G2067=\"\",\"\",'SD Data Paste'!G2067)","v":""}]
[{"$f":"IF(Table1[विद्यार्थी का नाम]=\"\",\"\",ROWS($A$1:A2067))","v":""},{"$f":"IF('SD Data Paste'!A2068=\"\",\"\",'SD Data Paste'!A2068)","v":""},{"$f":"IF('SD Data Paste'!B2068=\"\",\"\",'SD Data Paste'!B2068)","v":""},2067,{"$f":"IF('SD Data Paste'!E2068=\"\",\"\",'SD Data Paste'!E2068)","v":""},{"$f":"IF('SD Data Paste'!G2068=\"\",\"\",'SD Data Paste'!G2068)","v":""}]
[{"$f":"IF(Table1[विद्यार्थी का नाम]=\"\",\"\",ROWS($A$1:A2068))","v":""},{"$f":"IF('SD Data Paste'!A2069=\"\",\"\",'SD Data Paste'!A2069)","v":""},{"$f":"IF('SD Data Paste'!B2069=\"\",\"\",'SD Data Paste'!B2069)","v":""},2068,{"$f":"IF('SD Data Paste'!E2069=\"\",\"\",'SD Data Paste'!E2069)","v":""},{"$f":"IF('SD Data Paste'!G2069=\"\",\"\",'SD Data Paste'!G2069)","v":""}]
[{"$f":"IF(Table1[विद्यार्थी का नाम]=\"\",\"\",ROWS($A$1:A2069))","v":""},{"$f":"IF('SD Data Paste'!A2070=\"\",\"\",'SD Data Paste'!A2070)","v":""},{"$f":"IF('SD Data Paste'!B2070=\"\",\"\",'SD Data Paste'!B2070)","v":""},2069,{"$f":"IF('SD Data Paste'!E2070=\"\",\"\",'SD Data Paste'!E2070)","v":""},{"$f":"IF('SD Data Paste'!G2070=\"\",\"\",'SD Data Paste'!G2070)","v":""}]
[{"$f":"IF(Table1[विद्यार्थी का नाम]=\"\",\"\",ROWS($A$1:A2070))","v":""},{"$f":"IF('SD Data Paste'!A2071=\"\",\"\",'SD Data Paste'!A2071)","v":""},{"$f":"IF('SD Data Paste'!B2071=\"\",\"\",'SD Data Paste'!B2071)","v":""},2070,{"$f":"IF('SD Data Paste'!E2071=\"\",\"\",'SD Data Paste'!E2071)","v":""},{"$f":"IF('SD Data Paste'!G2071=\"\",\"\",'SD Data Paste'!G2071)","v":""}]
[{"$f":"IF(Table1[विद्यार्थी का नाम]=\"\",\"\",ROWS($A$1:A2071))","v":""},{"$f":"IF('SD Data Paste'!A2072=\"\",\"\",'SD Data Paste'!A2072)","v":""},{"$f":"IF('SD Data Paste'!B2072=\"\",\"\",'SD Data Paste'!B2072)","v":""},2071,{"$f":"IF('SD Data Paste'!E2072=\"\",\"\",'SD Data Paste'!E2072)","v":""},{"$f":"IF('SD Data Paste'!G2072=\"\",\"\",'SD Data Paste'!G2072)","v":""}]
[{"$f":"IF(Table1[विद्यार्थी का नाम]=\"\",\"\",ROWS($A$1:A2072))","v":""},{"$f":"IF('SD Data Paste'!A2073=\"\",\"\",'SD Data Paste'!A2073)","v":""},{"$f":"IF('SD Data Paste'!B2073=\"\",\"\",'SD Data Paste'!B2073)","v":""},2072,{"$f":"IF('SD Data Paste'!E2073=\"\",\"\",'SD Data Paste'!E2073)","v":""},{"$f":"IF('SD Data Paste'!G2073=\"\",\"\",'SD Data Paste'!G2073)","v":""}]
[{"$f":"IF(Table1[विद्यार्थी का नाम]=\"\",\"\",ROWS($A$1:A2073))","v":""},{"$f":"IF('SD Data Paste'!A2074=\"\",\"\",'SD Data Paste'!A2074)","v":""},{"$f":"IF('SD Data Paste'!B2074=\"\",\"\",'SD Data Paste'!B2074)","v":""},2073,{"$f":"IF('SD Data Paste'!E2074=\"\",\"\",'SD Data Paste'!E2074)","v":""},{"$f":"IF('SD Data Paste'!G2074=\"\",\"\",'SD Data Paste'!G2074)","v":""}]
[{"$f":"IF(Table1[विद्यार्थी का नाम]=\"\",\"\",ROWS($A$1:A2074))","v":""},{"$f":"IF('SD Data Paste'!A2075=\"\",\"\",'SD Data Paste'!A2075)","v":""},{"$f":"IF('SD Data Paste'!B2075=\"\",\"\",'SD Data Paste'!B2075)","v":""},2074,{"$f":"IF('SD Data Paste'!E2075=\"\",\"\",'SD Data Paste'!E2075)","v":""},{"$f":"IF('SD Data Paste'!G2075=\"\",\"\",'SD Data Paste'!G2075)","v":""}]
[{"$f":"IF(Table1[विद्यार्थी का नाम]=\"\",\"\",ROWS($A$1:A2075))","v":""},{"$f":"IF('SD Data Paste'!A2076=\"\",\"\",'SD Data Paste'!A2076)","v":""},{"$f":"IF('SD Data Paste'!B2076=\"\",\"\",'SD Data Paste'!B2076)","v":""},2075,{"$f":"IF('SD Data Paste'!E2076=\"\",\"\",'SD Data Paste'!E2076)","v":""},{"$f":"IF('SD Data Paste'!G2076=\"\",\"\",'SD Data Paste'!G2076)","v":""}]
[{"$f":"IF(Table1[विद्यार्थी का नाम]=\"\",\"\",ROWS($A$1:A2076))","v":""},{"$f":"IF('SD Data Paste'!A2077=\"\",\"\",'SD Data Paste'!A2077)","v":""},{"$f":"IF('SD Data Paste'!B2077=\"\",\"\",'SD Data Paste'!B2077)","v":""},2076,{"$f":"IF('SD Data Paste'!E2077=\"\",\"\",'SD Data Paste'!E2077)","v":""},{"$f":"IF('SD Data Paste'!G2077=\"\",\"\",'SD Data Paste'!G2077)","v":""}]
[{"$f":"IF(Table1[विद्यार्थी का नाम]=\"\",\"\",ROWS($A$1:A2077))","v":""},{"$f":"IF('SD Data Paste'!A2078=\"\",\"\",'SD Data Paste'!A2078)","v":""},{"$f":"IF('SD Data Paste'!B2078=\"\",\"\",'SD Data Paste'!B2078)","v":""},2077,{"$f":"IF('SD Data Paste'!E2078=\"\",\"\",'SD Data Paste'!E2078)","v":""},{"$f":"IF('SD Data Paste'!G2078=\"\",\"\",'SD Data Paste'!G2078)","v":""}]
[{"$f":"IF(Table1[विद्यार्थी का नाम]=\"\",\"\",ROWS($A$1:A2078))","v":""},{"$f":"IF('SD Data Paste'!A2079=\"\",\"\",'SD Data Paste'!A2079)","v":""},{"$f":"IF('SD Data Paste'!B2079=\"\",\"\",'SD Data Paste'!B2079)","v":""},2078,{"$f":"IF('SD Data Paste'!E2079=\"\",\"\",'SD Data Paste'!E2079)","v":""},{"$f":"IF('SD Data Paste'!G2079=\"\",\"\",'SD Data Paste'!G2079)","v":""}]
[{"$f":"IF(Table1[विद्यार्थी का नाम]=\"\",\"\",ROWS($A$1:A2079))","v":""},{"$f":"IF('SD Data Paste'!A2080=\"\",\"\",'SD Data Paste'!A2080)","v":""},{"$f":"IF('SD Data Paste'!B2080=\"\",\"\",'SD Data Paste'!B2080)","v":""},2079,{"$f":"IF('SD Data Paste'!E2080=\"\",\"\",'SD Data Paste'!E2080)","v":""},{"$f":"IF('SD Data Paste'!G2080=\"\",\"\",'SD Data Paste'!G2080)","v":""}]
[{"$f":"IF(Table1[विद्यार्थी का नाम]=\"\",\"\",ROWS($A$1:A2080))","v":""},{"$f":"IF('SD Data Paste'!A2081=\"\",\"\",'SD Data Paste'!A2081)","v":""},{"$f":"IF('SD Data Paste'!B2081=\"\",\"\",'SD Data Paste'!B2081)","v":""},2080,{"$f":"IF('SD Data Paste'!E2081=\"\",\"\",'SD Data Paste'!E2081)","v":""},{"$f":"IF('SD Data Paste'!G2081=\"\",\"\",'SD Data Paste'!G2081)","v":""}]
[{"$f":"IF(Table1[विद्यार्थी का नाम]=\"\",\"\",ROWS($A$1:A2081))","v":""},{"$f":"IF('SD Data Paste'!A2082=\"\",\"\",'SD Data Paste'!A2082)","v":""},{"$f":"IF('SD Data Paste'!B2082=\"\",\"\",'SD Data Paste'!B2082)","v":""},2081,{"$f":"IF('SD Data Paste'!E2082=\"\",\"\",'SD Data Paste'!E2082)","v":""},{"$f":"IF('SD Data Paste'!G2082=\"\",\"\",'SD Data Paste'!G2082)","v":""}]
[{"$f":"IF(Table1[विद्यार्थी का नाम]=\"\",\"\",ROWS($A$1:A2082))","v":""},{"$f":"IF('SD Data Paste'!A2083=\"\",\"\",'SD Data Paste'!A2083)","v":""},{"$f":"IF('SD Data Paste'!B2083=\"\",\"\",'SD Data Paste'!B2083)","v":""},2082,{"$f":"IF('SD Data Paste'!E2083=\"\",\"\",'SD Data Paste'!E2083)","v":""},{"$f":"IF('SD Data Paste'!G2083=\"\",\"\",'SD Data Paste'!G2083)","v":""}]
[{"$f":"IF(Table1[विद्यार्थी का नाम]=\"\",\"\",ROWS($A$1:A2083))","v":""},{"$f":"IF('SD Data Paste'!A2084=\"\",\"\",'SD Data Paste'!A2084)","v":""},{"$f":"IF('SD Data Paste'!B2084=\"\",\"\",'SD Data Paste'!B2084)","v":""},2083,{"$f":"IF('SD Data Paste'!E2084=\"\",\"\",'SD Data Paste'!E2084)","v":""},{"$f":"IF('SD Data Paste'!G2084=\"\",\"\",'SD Data Paste'!G2084)","v":""}]
[{"$f":"IF(Table1[विद्यार्थी का नाम]=\"\",\"\",ROWS($A$1:A2084))","v":""},{"$f":"IF('SD Data Paste'!A2085=\"\",\"\",'SD Data Paste'!A2085)","v":""},{"$f":"IF('SD Data Paste'!B2085=\"\",\"\",'SD Data Paste'!B2085)","v":""},2084,{"$f":"IF('SD Data Paste'!E2085=\"\",\"\",'SD Data Paste'!E2085)","v":""},{"$f":"IF('SD Data Paste'!G2085=\"\",\"\",'SD Data Paste'!G2085)","v":""}]
[{"$f":"IF(Table1[विद्यार्थी का नाम]=\"\",\"\",ROWS($A$1:A2085))","v":""},{"$f":"IF('SD Data Paste'!A2086=\"\",\"\",'SD Data Paste'!A2086)","v":""},{"$f":"IF('SD Data Paste'!B2086=\"\",\"\",'SD Data Paste'!B2086)","v":""},2085,{"$f":"IF('SD Data Paste'!E2086=\"\",\"\",'SD Data Paste'!E2086)","v":""},{"$f":"IF('SD Data Paste'!G2086=\"\",\"\",'SD Data Paste'!G2086)","v":""}]
[{"$f":"IF(Table1[विद्यार्थी का नाम]=\"\",\"\",ROWS($A$1:A2086))","v":""},{"$f":"IF('SD Data Paste'!A2087=\"\",\"\",'SD Data Paste'!A2087)","v":""},{"$f":"IF('SD Data Paste'!B2087=\"\",\"\",'SD Data Paste'!B2087)","v":""},2086,{"$f":"IF('SD Data Paste'!E2087=\"\",\"\",'SD Data Paste'!E2087)","v":""},{"$f":"IF('SD Data Paste'!G2087=\"\",\"\",'SD Data Paste'!G2087)","v":""}]
[{"$f":"IF(Table1[विद्यार्थी का नाम]=\"\",\"\",ROWS($A$1:A2087))","v":""},{"$f":"IF('SD Data Paste'!A2088=\"\",\"\",'SD Data Paste'!A2088)","v":""},{"$f":"IF('SD Data Paste'!B2088=\"\",\"\",'SD Data Paste'!B2088)","v":""},2087,{"$f":"IF('SD Data Paste'!E2088=\"\",\"\",'SD Data Paste'!E2088)","v":""},{"$f":"IF('SD Data Paste'!G2088=\"\",\"\",'SD Data Paste'!G2088)","v":""}]
[{"$f":"IF(Table1[विद्यार्थी का नाम]=\"\",\"\",ROWS($A$1:A2088))","v":""},{"$f":"IF('SD Data Paste'!A2089=\"\",\"\",'SD Data Paste'!A2089)","v":""},{"$f":"IF('SD Data Paste'!B2089=\"\",\"\",'SD Data Paste'!B2089)","v":""},2088,{"$f":"IF('SD Data Paste'!E2089=\"\",\"\",'SD Data Paste'!E2089)","v":""},{"$f":"IF('SD Data Paste'!G2089=\"\",\"\",'SD Data Paste'!G2089)","v":""}]
[{"$f":"IF(Table1[विद्यार्थी का नाम]=\"\",\"\",ROWS($A$1:A2089))","v":""},{"$f":"IF('SD Data Paste'!A2090=\"\",\"\",'SD Data Paste'!A2090)","v":""},{"$f":"IF('SD Data Paste'!B2090=\"\",\"\",'SD Data Paste'!B2090)","v":""},2089,{"$f":"IF('SD Data Paste'!E2090=\"\",\"\",'SD Data Paste'!E2090)","v":""},{"$f":"IF('SD Data Paste'!G2090=\"\",\"\",'SD Data Paste'!G2090)","v":""}]
[{"$f":"IF(Table1[विद्यार्थी का नाम]=\"\",\"\",ROWS($A$1:A2090))","v":""},{"$f":"IF('SD Data Paste'!A2091=\"\",\"\",'SD Data Paste'!A2091)","v":""},{"$f":"IF('SD Data Paste'!B2091=\"\",\"\",'SD Data Paste'!B2091)","v":""},2090,{"$f":"IF('SD Data Paste'!E2091=\"\",\"\",'SD Data Paste'!E2091)","v":""},{"$f":"IF('SD Data Paste'!G2091=\"\",\"\",'SD Data Paste'!G2091)","v":""}]
[{"$f":"IF(Table1[विद्यार्थी का नाम]=\"\",\"\",ROWS($A$1:A2091))","v":""},{"$f":"IF('SD Data Paste'!A2092=\"\",\"\",'SD Data Paste'!A2092)","v":""},{"$f":"IF('SD Data Paste'!B2092=\"\",\"\",'SD Data Paste'!B2092)","v":""},2091,{"$f":"IF('SD Data Paste'!E2092=\"\",\"\",'SD Data Paste'!E2092)","v":""},{"$f":"IF('SD Data Paste'!G2092=\"\",\"\",'SD Data Paste'!G2092)","v":""}]
[{"$f":"IF(Table1[विद्यार्थी का नाम]=\"\",\"\",ROWS($A$1:A2092))","v":""},{"$f":"IF('SD Data Paste'!A2093=\"\",\"\",'SD Data Paste'!A2093)","v":""},{"$f":"IF('SD Data Paste'!B2093=\"\",\"\",'SD Data Paste'!B2093)","v":""},2092,{"$f":"IF('SD Data Paste'!E2093=\"\",\"\",'SD Data Paste'!E2093)","v":""},{"$f":"IF('SD Data Paste'!G2093=\"\",\"\",'SD Data Paste'!G2093)","v":""}]
[{"$f":"IF(Table1[विद्यार्थी का नाम]=\"\",\"\",ROWS($A$1:A2093))","v":""},{"$f":"IF('SD Data Paste'!A2094=\"\",\"\",'SD Data Paste'!A2094)","v":""},{"$f":"IF('SD Data Paste'!B2094=\"\",\"\",'SD Data Paste'!B2094)","v":""},2093,{"$f":"IF('SD Data Paste'!E2094=\"\",\"\",'SD Data Paste'!E2094)","v":""},{"$f":"IF('SD Data Paste'!G2094=\"\",\"\",'SD Data Paste'!G2094)","v":""}]
[{"$f":"IF(Table1[विद्यार्थी का नाम]=\"\",\"\",ROWS($A$1:A2094))","v":""},{"$f":"IF('SD Data Paste'!A2095=\"\",\"\",'SD Data Paste'!A2095)","v":""},{"$f":"IF('SD Data Paste'!B2095=\"\",\"\",'SD Data Paste'!B2095)","v":""},2094,{"$f":"IF('SD Data Paste'!E2095=\"\",\"\",'SD Data Paste'!E2095)","v":""},{"$f":"IF('SD Data Paste'!G2095=\"\",\"\",'SD Data Paste'!G2095)","v":""}]
[{"$f":"IF(Table1[विद्यार्थी का नाम]=\"\",\"\",ROWS($A$1:A2095))","v":""},{"$f":"IF('SD Data Paste'!A2096=\"\",\"\",'SD Data Paste'!A2096)","v":""},{"$f":"IF('SD Data Paste'!B2096=\"\",\"\",'SD Data Paste'!B2096)","v":""},2095,{"$f":"IF('SD Data Paste'!E2096=\"\",\"\",'SD Data Paste'!E2096)","v":""},{"$f":"IF('SD Data Paste'!G2096=\"\",\"\",'SD Data Paste'!G2096)","v":""}]
[{"$f":"IF(Table1[विद्यार्थी का नाम]=\"\",\"\",ROWS($A$1:A2096))","v":""},{"$f":"IF('SD Data Paste'!A2097=\"\",\"\",'SD Data Paste'!A2097)","v":""},{"$f":"IF('SD Data Paste'!B2097=\"\",\"\",'SD Data Paste'!B2097)","v":""},2096,{"$f":"IF('SD Data Paste'!E2097=\"\",\"\",'SD Data Paste'!E2097)","v":""},{"$f":"IF('SD Data Paste'!G2097=\"\",\"\",'SD Data Paste'!G2097)","v":""}]
[{"$f":"IF(Table1[विद्यार्थी का नाम]=\"\",\"\",ROWS($A$1:A2097))","v":""},{"$f":"IF('SD Data Paste'!A2098=\"\",\"\",'SD Data Paste'!A2098)","v":""},{"$f":"IF('SD Data Paste'!B2098=\"\",\"\",'SD Data Paste'!B2098)","v":""},2097,{"$f":"IF('SD Data Paste'!E2098=\"\",\"\",'SD Data Paste'!E2098)","v":""},{"$f":"IF('SD Data Paste'!G2098=\"\",\"\",'SD Data Paste'!G2098)","v":""}]
[{"$f":"IF(Table1[विद्यार्थी का नाम]=\"\",\"\",ROWS($A$1:A2098))","v":""},{"$f":"IF('SD Data Paste'!A2099=\"\",\"\",'SD Data Paste'!A2099)","v":""},{"$f":"IF('SD Data Paste'!B2099=\"\",\"\",'SD Data Paste'!B2099)","v":""},2098,{"$f":"IF('SD Data Paste'!E2099=\"\",\"\",'SD Data Paste'!E2099)","v":""},{"$f":"IF('SD Data Paste'!G2099=\"\",\"\",'SD Data Paste'!G2099)","v":""}]
[{"$f":"IF(Table1[विद्यार्थी का नाम]=\"\",\"\",ROWS($A$1:A2099))","v":""},{"$f":"IF('SD Data Paste'!A2100=\"\",\"\",'SD Data Paste'!A2100)","v":""},{"$f":"IF('SD Data Paste'!B2100=\"\",\"\",'SD Data Paste'!B2100)","v":""},2099,{"$f":"IF('SD Data Paste'!E2100=\"\",\"\",'SD Data Paste'!E2100)","v":""},{"$f":"IF('SD Data Paste'!G2100=\"\",\"\",'SD Data Paste'!G2100)","v":""}]
[{"$f":"IF(Table1[विद्यार्थी का नाम]=\"\",\"\",ROWS($A$1:A2100))","v":""},{"$f":"IF('SD Data Paste'!A2101=\"\",\"\",'SD Data Paste'!A2101)","v":""},{"$f":"IF('SD Data Paste'!B2101=\"\",\"\",'SD Data Paste'!B2101)","v":""},2100,{"$f":"IF('SD Data Paste'!E2101=\"\",\"\",'SD Data Paste'!E2101)","v":""},{"$f":"IF('SD Data Paste'!G2101=\"\",\"\",'SD Data Paste'!G2101)","v":""}]
[{"$f":"IF(Table1[विद्यार्थी का नाम]=\"\",\"\",ROWS($A$1:A2101))","v":""},{"$f":"IF('SD Data Paste'!A2102=\"\",\"\",'SD Data Paste'!A2102)","v":""},{"$f":"IF('SD Data Paste'!B2102=\"\",\"\",'SD Data Paste'!B2102)","v":""},2101,{"$f":"IF('SD Data Paste'!E2102=\"\",\"\",'SD Data Paste'!E2102)","v":""},{"$f":"IF('SD Data Paste'!G2102=\"\",\"\",'SD Data Paste'!G2102)","v":""}]
[{"$f":"IF(Table1[विद्यार्थी का नाम]=\"\",\"\",ROWS($A$1:A2102))","v":""},{"$f":"IF('SD Data Paste'!A2103=\"\",\"\",'SD Data Paste'!A2103)","v":""},{"$f":"IF('SD Data Paste'!B2103=\"\",\"\",'SD Data Paste'!B2103)","v":""},2102,{"$f":"IF('SD Data Paste'!E2103=\"\",\"\",'SD Data Paste'!E2103)","v":""},{"$f":"IF('SD Data Paste'!G2103=\"\",\"\",'SD Data Paste'!G2103)","v":""}]
[{"$f":"IF(Table1[विद्यार्थी का नाम]=\"\",\"\",ROWS($A$1:A2103))","v":""},{"$f":"IF('SD Data Paste'!A2104=\"\",\"\",'SD Data Paste'!A2104)","v":""},{"$f":"IF('SD Data Paste'!B2104=\"\",\"\",'SD Data Paste'!B2104)","v":""},2103,{"$f":"IF('SD Data Paste'!E2104=\"\",\"\",'SD Data Paste'!E2104)","v":""},{"$f":"IF('SD Data Paste'!G2104=\"\",\"\",'SD Data Paste'!G2104)","v":""}]
[{"$f":"IF(Table1[विद्यार्थी का नाम]=\"\",\"\",ROWS($A$1:A2104))","v":""},{"$f":"IF('SD Data Paste'!A2105=\"\",\"\",'SD Data Paste'!A2105)","v":""},{"$f":"IF('SD Data Paste'!B2105=\"\",\"\",'SD Data Paste'!B2105)","v":""},2104,{"$f":"IF('SD Data Paste'!E2105=\"\",\"\",'SD Data Paste'!E2105)","v":""},{"$f":"IF('SD Data Paste'!G2105=\"\",\"\",'SD Data Paste'!G2105)","v":""}]
[{"$f":"IF(Table1[विद्यार्थी का नाम]=\"\",\"\",ROWS($A$1:A2105))","v":""},{"$f":"IF('SD Data Paste'!A2106=\"\",\"\",'SD Data Paste'!A2106)","v":""},{"$f":"IF('SD Data Paste'!B2106=\"\",\"\",'SD Data Paste'!B2106)","v":""},2105,{"$f":"IF('SD Data Paste'!E2106=\"\",\"\",'SD Data Paste'!E2106)","v":""},{"$f":"IF('SD Data Paste'!G2106=\"\",\"\",'SD Data Paste'!G2106)","v":""}]
[{"$f":"IF(Table1[विद्यार्थी का नाम]=\"\",\"\",ROWS($A$1:A2106))","v":""},{"$f":"IF('SD Data Paste'!A2107=\"\",\"\",'SD Data Paste'!A2107)","v":""},{"$f":"IF('SD Data Paste'!B2107=\"\",\"\",'SD Data Paste'!B2107)","v":""},2106,{"$f":"IF('SD Data Paste'!E2107=\"\",\"\",'SD Data Paste'!E2107)","v":""},{"$f":"IF('SD Data Paste'!G2107=\"\",\"\",'SD Data Paste'!G2107)","v":""}]
[{"$f":"IF(Table1[विद्यार्थी का नाम]=\"\",\"\",ROWS($A$1:A2107))","v":""},{"$f":"IF('SD Data Paste'!A2108=\"\",\"\",'SD Data Paste'!A2108)","v":""},{"$f":"IF('SD Data Paste'!B2108=\"\",\"\",'SD Data Paste'!B2108)","v":""},2107,{"$f":"IF('SD Data Paste'!E2108=\"\",\"\",'SD Data Paste'!E2108)","v":""},{"$f":"IF('SD Data Paste'!G2108=\"\",\"\",'SD Data Paste'!G2108)","v":""}]
[{"$f":"IF(Table1[विद्यार्थी का नाम]=\"\",\"\",ROWS($A$1:A2108))","v":""},{"$f":"IF('SD Data Paste'!A2109=\"\",\"\",'SD Data Paste'!A2109)","v":""},{"$f":"IF('SD Data Paste'!B2109=\"\",\"\",'SD Data Paste'!B2109)","v":""},2108,{"$f":"IF('SD Data Paste'!E2109=\"\",\"\",'SD Data Paste'!E2109)","v":""},{"$f":"IF('SD Data Paste'!G2109=\"\",\"\",'SD Data Paste'!G2109)","v":""}]
[{"$f":"IF(Table1[विद्यार्थी का नाम]=\"\",\"\",ROWS($A$1:A2109))","v":""},{"$f":"IF('SD Data Paste'!A2110=\"\",\"\",'SD Data Paste'!A2110)","v":""},{"$f":"IF('SD Data Paste'!B2110=\"\",\"\",'SD Data Paste'!B2110)","v":""},2109,{"$f":"IF('SD Data Paste'!E2110=\"\",\"\",'SD Data Paste'!E2110)","v":""},{"$f":"IF('SD Data Paste'!G2110=\"\",\"\",'SD Data Paste'!G2110)","v":""}]
[{"$f":"IF(Table1[विद्यार्थी का नाम]=\"\",\"\",ROWS($A$1:A2110))","v":""},{"$f":"IF('SD Data Paste'!A2111=\"\",\"\",'SD Data Paste'!A2111)","v":""},{"$f":"IF('SD Data Paste'!B2111=\"\",\"\",'SD Data Paste'!B2111)","v":""},2110,{"$f":"IF('SD Data Paste'!E2111=\"\",\"\",'SD Data Paste'!E2111)","v":""},{"$f":"IF('SD Data Paste'!G2111=\"\",\"\",'SD Data Paste'!G2111)","v":""}]
[{"$f":"IF(Table1[विद्यार्थी का नाम]=\"\",\"\",ROWS($A$1:A2111))","v":""},{"$f":"IF('SD Data Paste'!A2112=\"\",\"\",'SD Data Paste'!A2112)","v":""},{"$f":"IF('SD Data Paste'!B2112=\"\",\"\",'SD Data Paste'!B2112)","v":""},2111,{"$f":"IF('SD Data Paste'!E2112=\"\",\"\",'SD Data Paste'!E2112)","v":""},{"$f":"IF('SD Data Paste'!G2112=\"\",\"\",'SD Data Paste'!G2112)","v":""}]
[{"$f":"IF(Table1[विद्यार्थी का नाम]=\"\",\"\",ROWS($A$1:A2112))","v":""},{"$f":"IF('SD Data Paste'!A2113=\"\",\"\",'SD Data Paste'!A2113)","v":""},{"$f":"IF('SD Data Paste'!B2113=\"\",\"\",'SD Data Paste'!B2113)","v":""},2112,{"$f":"IF('SD Data Paste'!E2113=\"\",\"\",'SD Data Paste'!E2113)","v":""},{"$f":"IF('SD Data Paste'!G2113=\"\",\"\",'SD Data Paste'!G2113)","v":""}]
[{"$f":"IF(Table1[विद्यार्थी का नाम]=\"\",\"\",ROWS($A$1:A2113))","v":""},{"$f":"IF('SD Data Paste'!A2114=\"\",\"\",'SD Data Paste'!A2114)","v":""},{"$f":"IF('SD Data Paste'!B2114=\"\",\"\",'SD Data Paste'!B2114)","v":""},2113,{"$f":"IF('SD Data Paste'!E2114=\"\",\"\",'SD Data Paste'!E2114)","v":""},{"$f":"IF('SD Data Paste'!G2114=\"\",\"\",'SD Data Paste'!G2114)","v":""}]
[{"$f":"IF(Table1[विद्यार्थी का नाम]=\"\",\"\",ROWS($A$1:A2114))","v":""},{"$f":"IF('SD Data Paste'!A2115=\"\",\"\",'SD Data Paste'!A2115)","v":""},{"$f":"IF('SD Data Paste'!B2115=\"\",\"\",'SD Data Paste'!B2115)","v":""},2114,{"$f":"IF('SD Data Paste'!E2115=\"\",\"\",'SD Data Paste'!E2115)","v":""},{"$f":"IF('SD Data Paste'!G2115=\"\",\"\",'SD Data Paste'!G2115)","v":""}]
[{"$f":"IF(Table1[विद्यार्थी का नाम]=\"\",\"\",ROWS($A$1:A2115))","v":""},{"$f":"IF('SD Data Paste'!A2116=\"\",\"\",'SD Data Paste'!A2116)","v":""},{"$f":"IF('SD Data Paste'!B2116=\"\",\"\",'SD Data Paste'!B2116)","v":""},{"$f":"IF(D2117=\"\",\"\",D2117+1)","v":2115},{"$f":"IF('SD Data Paste'!E2116=\"\",\"\",'SD Data Paste'!E2116)","v":""},{"$f":"IF('SD Data Paste'!G2116=\"\",\"\",'SD Data Paste'!G2116)","v":""}]
[{"$f":"IF(Table1[विद्यार्थी का नाम]=\"\",\"\",ROWS($A$1:A2116))","v":""},{"$f":"IF('SD Data Paste'!A2117=\"\",\"\",'SD Data Paste'!A2117)","v":""},{"$f":"IF('SD Data Paste'!B2117=\"\",\"\",'SD Data Paste'!B2117)","v":""},2116,{"$f":"IF('SD Data Paste'!E2117=\"\",\"\",'SD Data Paste'!E2117)","v":""},{"$f":"IF('SD Data Paste'!G2117=\"\",\"\",'SD Data Paste'!G2117)","v":""}]
[{"$f":"IF(Table1[विद्यार्थी का नाम]=\"\",\"\",ROWS($A$1:A2117))","v":""},{"$f":"IF('SD Data Paste'!A2118=\"\",\"\",'SD Data Paste'!A2118)","v":""},{"$f":"IF('SD Data Paste'!B2118=\"\",\"\",'SD Data Paste'!B2118)","v":""},2117,{"$f":"IF('SD Data Paste'!E2118=\"\",\"\",'SD Data Paste'!E2118)","v":""},{"$f":"IF('SD Data Paste'!G2118=\"\",\"\",'SD Data Paste'!G2118)","v":""}]
[{"$f":"IF(Table1[विद्यार्थी का नाम]=\"\",\"\",ROWS($A$1:A2118))","v":""},{"$f":"IF('SD Data Paste'!A2119=\"\",\"\",'SD Data Paste'!A2119)","v":""},{"$f":"IF('SD Data Paste'!B2119=\"\",\"\",'SD Data Paste'!B2119)","v":""},2118,{"$f":"IF('SD Data Paste'!E2119=\"\",\"\",'SD Data Paste'!E2119)","v":""},{"$f":"IF('SD Data Paste'!G2119=\"\",\"\",'SD Data Paste'!G2119)","v":""}]
[{"$f":"IF(Table1[विद्यार्थी का नाम]=\"\",\"\",ROWS($A$1:A2119))","v":""},{"$f":"IF('SD Data Paste'!A2120=\"\",\"\",'SD Data Paste'!A2120)","v":""},{"$f":"IF('SD Data Paste'!B2120=\"\",\"\",'SD Data Paste'!B2120)","v":""},2119,{"$f":"IF('SD Data Paste'!E2120=\"\",\"\",'SD Data Paste'!E2120)","v":""},{"$f":"IF('SD Data Paste'!G2120=\"\",\"\",'SD Data Paste'!G2120)","v":""}]
[{"$f":"IF(Table1[विद्यार्थी का नाम]=\"\",\"\",ROWS($A$1:A2120))","v":""},{"$f":"IF('SD Data Paste'!A2121=\"\",\"\",'SD Data Paste'!A2121)","v":""},{"$f":"IF('SD Data Paste'!B2121=\"\",\"\",'SD Data Paste'!B2121)","v":""},2120,{"$f":"IF('SD Data Paste'!E2121=\"\",\"\",'SD Data Paste'!E2121)","v":""},{"$f":"IF('SD Data Paste'!G2121=\"\",\"\",'SD Data Paste'!G2121)","v":""}]
[{"$f":"IF(Table1[विद्यार्थी का नाम]=\"\",\"\",ROWS($A$1:A2121))","v":""},{"$f":"IF('SD Data Paste'!A2122=\"\",\"\",'SD Data Paste'!A2122)","v":""},{"$f":"IF('SD Data Paste'!B2122=\"\",\"\",'SD Data Paste'!B2122)","v":""},2121,{"$f":"IF('SD Data Paste'!E2122=\"\",\"\",'SD Data Paste'!E2122)","v":""},{"$f":"IF('SD Data Paste'!G2122=\"\",\"\",'SD Data Paste'!G2122)","v":""}]
[{"$f":"IF(Table1[विद्यार्थी का नाम]=\"\",\"\",ROWS($A$1:A2122))","v":""},{"$f":"IF('SD Data Paste'!A2123=\"\",\"\",'SD Data Paste'!A2123)","v":""},{"$f":"IF('SD Data Paste'!B2123=\"\",\"\",'SD Data Paste'!B2123)","v":""},2122,{"$f":"IF('SD Data Paste'!E2123=\"\",\"\",'SD Data Paste'!E2123)","v":""},{"$f":"IF('SD Data Paste'!G2123=\"\",\"\",'SD Data Paste'!G2123)","v":""}]
[{"$f":"IF(Table1[विद्यार्थी का नाम]=\"\",\"\",ROWS($A$1:A2123))","v":""},{"$f":"IF('SD Data Paste'!A2124=\"\",\"\",'SD Data Paste'!A2124)","v":""},{"$f":"IF('SD Data Paste'!B2124=\"\",\"\",'SD Data Paste'!B2124)","v":""},2123,{"$f":"IF('SD Data Paste'!E2124=\"\",\"\",'SD Data Paste'!E2124)","v":""},{"$f":"IF('SD Data Paste'!G2124=\"\",\"\",'SD Data Paste'!G2124)","v":""}]
[{"$f":"IF(Table1[विद्यार्थी का नाम]=\"\",\"\",ROWS($A$1:A2124))","v":""},{"$f":"IF('SD Data Paste'!A2125=\"\",\"\",'SD Data Paste'!A2125)","v":""},{"$f":"IF('SD Data Paste'!B2125=\"\",\"\",'SD Data Paste'!B2125)","v":""},2124,{"$f":"IF('SD Data Paste'!E2125=\"\",\"\",'SD Data Paste'!E2125)","v":""},{"$f":"IF('SD Data Paste'!G2125=\"\",\"\",'SD Data Paste'!G2125)","v":""}]
[{"$f":"IF(Table1[विद्यार्थी का नाम]=\"\",\"\",ROWS($A$1:A2125))","v":""},{"$f":"IF('SD Data Paste'!A2126=\"\",\"\",'SD Data Paste'!A2126)","v":""},{"$f":"IF('SD Data Paste'!B2126=\"\",\"\",'SD Data Paste'!B2126)","v":""},2125,{"$f":"IF('SD Data Paste'!E2126=\"\",\"\",'SD Data Paste'!E2126)","v":""},{"$f":"IF('SD Data Paste'!G2126=\"\",\"\",'SD Data Paste'!G2126)","v":""}]
[{"$f":"IF(Table1[विद्यार्थी का नाम]=\"\",\"\",ROWS($A$1:A2126))","v":""},{"$f":"IF('SD Data Paste'!A2127=\"\",\"\",'SD Data Paste'!A2127)","v":""},{"$f":"IF('SD Data Paste'!B2127=\"\",\"\",'SD Data Paste'!B2127)","v":""},2126,{"$f":"IF('SD Data Paste'!E2127=\"\",\"\",'SD Data Paste'!E2127)","v":""},{"$f":"IF('SD Data Paste'!G2127=\"\",\"\",'SD Data Paste'!G2127)","v":""}]
[{"$f":"IF(Table1[विद्यार्थी का नाम]=\"\",\"\",ROWS($A$1:A2127))","v":""},{"$f":"IF('SD Data Paste'!A2128=\"\",\"\",'SD Data Paste'!A2128)","v":""},{"$f":"IF('SD Data Paste'!B2128=\"\",\"\",'SD Data Paste'!B2128)","v":""},2127,{"$f":"IF('SD Data Paste'!E2128=\"\",\"\",'SD Data Paste'!E2128)","v":""},{"$f":"IF('SD Data Paste'!G2128=\"\",\"\",'SD Data Paste'!G2128)","v":""}]
[{"$f":"IF(Table1[विद्यार्थी का नाम]=\"\",\"\",ROWS($A$1:A2128))","v":""},{"$f":"IF('SD Data Paste'!A2129=\"\",\"\",'SD Data Paste'!A2129)","v":""},{"$f":"IF('SD Data Paste'!B2129=\"\",\"\",'SD Data Paste'!B2129)","v":""},2128,{"$f":"IF('SD Data Paste'!E2129=\"\",\"\",'SD Data Paste'!E2129)","v":""},{"$f":"IF('SD Data Paste'!G2129=\"\",\"\",'SD Data Paste'!G2129)","v":""}]
[{"$f":"IF(Table1[विद्यार्थी का नाम]=\"\",\"\",ROWS($A$1:A2129))","v":""},{"$f":"IF('SD Data Paste'!A2130=\"\",\"\",'SD Data Paste'!A2130)","v":""},{"$f":"IF('SD Data Paste'!B2130=\"\",\"\",'SD Data Paste'!B2130)","v":""},2129,{"$f":"IF('SD Data Paste'!E2130=\"\",\"\",'SD Data Paste'!E2130)","v":""},{"$f":"IF('SD Data Paste'!G2130=\"\",\"\",'SD Data Paste'!G2130)","v":""}]
[{"$f":"IF(Table1[विद्यार्थी का नाम]=\"\",\"\",ROWS($A$1:A2130))","v":""},{"$f":"IF('SD Data Paste'!A2131=\"\",\"\",'SD Data Paste'!A2131)","v":""},{"$f":"IF('SD Data Paste'!B2131=\"\",\"\",'SD Data Paste'!B2131)","v":""},2130,{"$f":"IF('SD Data Paste'!E2131=\"\",\"\",'SD Data Paste'!E2131)","v":""},{"$f":"IF('SD Data Paste'!G2131=\"\",\"\",'SD Data Paste'!G2131)","v":""}]
[{"$f":"IF(Table1[विद्यार्थी का नाम]=\"\",\"\",ROWS($A$1:A2131))","v":""},{"$f":"IF('SD Data Paste'!A2132=\"\",\"\",'SD Data Paste'!A2132)","v":""},{"$f":"IF('SD Data Paste'!B2132=\"\",\"\",'SD Data Paste'!B2132)","v":""},2131,{"$f":"IF('SD Data Paste'!E2132=\"\",\"\",'SD Data Paste'!E2132)","v":""},{"$f":"IF('SD Data Paste'!G2132=\"\",\"\",'SD Data Paste'!G2132)","v":""}]
[{"$f":"IF(Table1[विद्यार्थी का नाम]=\"\",\"\",ROWS($A$1:A2132))","v":""},{"$f":"IF('SD Data Paste'!A2133=\"\",\"\",'SD Data Paste'!A2133)","v":""},{"$f":"IF('SD Data Paste'!B2133=\"\",\"\",'SD Data Paste'!B2133)","v":""},2132,{"$f":"IF('SD Data Paste'!E2133=\"\",\"\",'SD Data Paste'!E2133)","v":""},{"$f":"IF('SD Data Paste'!G2133=\"\",\"\",'SD Data Paste'!G2133)","v":""}]
[{"$f":"IF(Table1[विद्यार्थी का नाम]=\"\",\"\",ROWS($A$1:A2133))","v":""},{"$f":"IF('SD Data Paste'!A2134=\"\",\"\",'SD Data Paste'!A2134)","v":""},{"$f":"IF('SD Data Paste'!B2134=\"\",\"\",'SD Data Paste'!B2134)","v":""},2133,{"$f":"IF('SD Data Paste'!E2134=\"\",\"\",'SD Data Paste'!E2134)","v":""},{"$f":"IF('SD Data Paste'!G2134=\"\",\"\",'SD Data Paste'!G2134)","v":""}]
[{"$f":"IF(Table1[विद्यार्थी का नाम]=\"\",\"\",ROWS($A$1:A2134))","v":""},{"$f":"IF('SD Data Paste'!A2135=\"\",\"\",'SD Data Paste'!A2135)","v":""},{"$f":"IF('SD Data Paste'!B2135=\"\",\"\",'SD Data Paste'!B2135)","v":""},2134,{"$f":"IF('SD Data Paste'!E2135=\"\",\"\",'SD Data Paste'!E2135)","v":""},{"$f":"IF('SD Data Paste'!G2135=\"\",\"\",'SD Data Paste'!G2135)","v":""}]
[{"$f":"IF(Table1[विद्यार्थी का नाम]=\"\",\"\",ROWS($A$1:A2135))","v":""},{"$f":"IF('SD Data Paste'!A2136=\"\",\"\",'SD Data Paste'!A2136)","v":""},{"$f":"IF('SD Data Paste'!B2136=\"\",\"\",'SD Data Paste'!B2136)","v":""},2135,{"$f":"IF('SD Data Paste'!E2136=\"\",\"\",'SD Data Paste'!E2136)","v":""},{"$f":"IF('SD Data Paste'!G2136=\"\",\"\",'SD Data Paste'!G2136)","v":""}]
[{"$f":"IF(Table1[विद्यार्थी का नाम]=\"\",\"\",ROWS($A$1:A2136))","v":""},{"$f":"IF('SD Data Paste'!A2137=\"\",\"\",'SD Data Paste'!A2137)","v":""},{"$f":"IF('SD Data Paste'!B2137=\"\",\"\",'SD Data Paste'!B2137)","v":""},2136,{"$f":"IF('SD Data Paste'!E2137=\"\",\"\",'SD Data Paste'!E2137)","v":""},{"$f":"IF('SD Data Paste'!G2137=\"\",\"\",'SD Data Paste'!G2137)","v":""}]
[{"$f":"IF(Table1[विद्यार्थी का नाम]=\"\",\"\",ROWS($A$1:A2137))","v":""},{"$f":"IF('SD Data Paste'!A2138=\"\",\"\",'SD Data Paste'!A2138)","v":""},{"$f":"IF('SD Data Paste'!B2138=\"\",\"\",'SD Data Paste'!B2138)","v":""},2137,{"$f":"IF('SD Data Paste'!E2138=\"\",\"\",'SD Data Paste'!E2138)","v":""},{"$f":"IF('SD Data Paste'!G2138=\"\",\"\",'SD Data Paste'!G2138)","v":""}]
[{"$f":"IF(Table1[विद्यार्थी का नाम]=\"\",\"\",ROWS($A$1:A2138))","v":""},{"$f":"IF('SD Data Paste'!A2139=\"\",\"\",'SD Data Paste'!A2139)","v":""},{"$f":"IF('SD Data Paste'!B2139=\"\",\"\",'SD Data Paste'!B2139)","v":""},2138,{"$f":"IF('SD Data Paste'!E2139=\"\",\"\",'SD Data Paste'!E2139)","v":""},{"$f":"IF('SD Data Paste'!G2139=\"\",\"\",'SD Data Paste'!G2139)","v":""}]
[{"$f":"IF(Table1[विद्यार्थी का नाम]=\"\",\"\",ROWS($A$1:A2139))","v":""},{"$f":"IF('SD Data Paste'!A2140=\"\",\"\",'SD Data Paste'!A2140)","v":""},{"$f":"IF('SD Data Paste'!B2140=\"\",\"\",'SD Data Paste'!B2140)","v":""},2139,{"$f":"IF('SD Data Paste'!E2140=\"\",\"\",'SD Data Paste'!E2140)","v":""},{"$f":"IF('SD Data Paste'!G2140=\"\",\"\",'SD Data Paste'!G2140)","v":""}]
[{"$f":"IF(Table1[विद्यार्थी का नाम]=\"\",\"\",ROWS($A$1:A2140))","v":""},{"$f":"IF('SD Data Paste'!A2141=\"\",\"\",'SD Data Paste'!A2141)","v":""},{"$f":"IF('SD Data Paste'!B2141=\"\",\"\",'SD Data Paste'!B2141)","v":""},2140,{"$f":"IF('SD Data Paste'!E2141=\"\",\"\",'SD Data Paste'!E2141)","v":""},{"$f":"IF('SD Data Paste'!G2141=\"\",\"\",'SD Data Paste'!G2141)","v":""}]
[{"$f":"IF(Table1[विद्यार्थी का नाम]=\"\",\"\",ROWS($A$1:A2141))","v":""},{"$f":"IF('SD Data Paste'!A2142=\"\",\"\",'SD Data Paste'!A2142)","v":""},{"$f":"IF('SD Data Paste'!B2142=\"\",\"\",'SD Data Paste'!B2142)","v":""},2141,{"$f":"IF('SD Data Paste'!E2142=\"\",\"\",'SD Data Paste'!E2142)","v":""},{"$f":"IF('SD Data Paste'!G2142=\"\",\"\",'SD Data Paste'!G2142)","v":""}]
[{"$f":"IF(Table1[विद्यार्थी का नाम]=\"\",\"\",ROWS($A$1:A2142))","v":""},{"$f":"IF('SD Data Paste'!A2143=\"\",\"\",'SD Data Paste'!A2143)","v":""},{"$f":"IF('SD Data Paste'!B2143=\"\",\"\",'SD Data Paste'!B2143)","v":""},2142,{"$f":"IF('SD Data Paste'!E2143=\"\",\"\",'SD Data Paste'!E2143)","v":""},{"$f":"IF('SD Data Paste'!G2143=\"\",\"\",'SD Data Paste'!G2143)","v":""}]
[{"$f":"IF(Table1[विद्यार्थी का नाम]=\"\",\"\",ROWS($A$1:A2143))","v":""},{"$f":"IF('SD Data Paste'!A2144=\"\",\"\",'SD Data Paste'!A2144)","v":""},{"$f":"IF('SD Data Paste'!B2144=\"\",\"\",'SD Data Paste'!B2144)","v":""},2143,{"$f":"IF('SD Data Paste'!E2144=\"\",\"\",'SD Data Paste'!E2144)","v":""},{"$f":"IF('SD Data Paste'!G2144=\"\",\"\",'SD Data Paste'!G2144)","v":""}]
[{"$f":"IF(Table1[विद्यार्थी का नाम]=\"\",\"\",ROWS($A$1:A2144))","v":""},{"$f":"IF('SD Data Paste'!A2145=\"\",\"\",'SD Data Paste'!A2145)","v":""},{"$f":"IF('SD Data Paste'!B2145=\"\",\"\",'SD Data Paste'!B2145)","v":""},2144,{"$f":"IF('SD Data Paste'!E2145=\"\",\"\",'SD Data Paste'!E2145)","v":""},{"$f":"IF('SD Data Paste'!G2145=\"\",\"\",'SD Data Paste'!G2145)","v":""}]
[{"$f":"IF(Table1[विद्यार्थी का नाम]=\"\",\"\",ROWS($A$1:A2145))","v":""},{"$f":"IF('SD Data Paste'!A2146=\"\",\"\",'SD Data Paste'!A2146)","v":""},{"$f":"IF('SD Data Paste'!B2146=\"\",\"\",'SD Data Paste'!B2146)","v":""},2145,{"$f":"IF('SD Data Paste'!E2146=\"\",\"\",'SD Data Paste'!E2146)","v":""},{"$f":"IF('SD Data Paste'!G2146=\"\",\"\",'SD Data Paste'!G2146)","v":""}]
[{"$f":"IF(Table1[विद्यार्थी का नाम]=\"\",\"\",ROWS($A$1:A2146))","v":""},{"$f":"IF('SD Data Paste'!A2147=\"\",\"\",'SD Data Paste'!A2147)","v":""},{"$f":"IF('SD Data Paste'!B2147=\"\",\"\",'SD Data Paste'!B2147)","v":""},2146,{"$f":"IF('SD Data Paste'!E2147=\"\",\"\",'SD Data Paste'!E2147)","v":""},{"$f":"IF('SD Data Paste'!G2147=\"\",\"\",'SD Data Paste'!G2147)","v":""}]
[{"$f":"IF(Table1[विद्यार्थी का नाम]=\"\",\"\",ROWS($A$1:A2147))","v":""},{"$f":"IF('SD Data Paste'!A2148=\"\",\"\",'SD Data Paste'!A2148)","v":""},{"$f":"IF('SD Data Paste'!B2148=\"\",\"\",'SD Data Paste'!B2148)","v":""},2147,{"$f":"IF('SD Data Paste'!E2148=\"\",\"\",'SD Data Paste'!E2148)","v":""},{"$f":"IF('SD Data Paste'!G2148=\"\",\"\",'SD Data Paste'!G2148)","v":""}]
[{"$f":"IF(Table1[विद्यार्थी का नाम]=\"\",\"\",ROWS($A$1:A2148))","v":""},{"$f":"IF('SD Data Paste'!A2149=\"\",\"\",'SD Data Paste'!A2149)","v":""},{"$f":"IF('SD Data Paste'!B2149=\"\",\"\",'SD Data Paste'!B2149)","v":""},2148,{"$f":"IF('SD Data Paste'!E2149=\"\",\"\",'SD Data Paste'!E2149)","v":""},{"$f":"IF('SD Data Paste'!G2149=\"\",\"\",'SD Data Paste'!G2149)","v":""}]
[{"$f":"IF(Table1[विद्यार्थी का नाम]=\"\",\"\",ROWS($A$1:A2149))","v":""},{"$f":"IF('SD Data Paste'!A2150=\"\",\"\",'SD Data Paste'!A2150)","v":""},{"$f":"IF('SD Data Paste'!B2150=\"\",\"\",'SD Data Paste'!B2150)","v":""},2149,{"$f":"IF('SD Data Paste'!E2150=\"\",\"\",'SD Data Paste'!E2150)","v":""},{"$f":"IF('SD Data Paste'!G2150=\"\",\"\",'SD Data Paste'!G2150)","v":""}]
[{"$f":"IF(Table1[विद्यार्थी का नाम]=\"\",\"\",ROWS($A$1:A2150))","v":""},{"$f":"IF('SD Data Paste'!A2151=\"\",\"\",'SD Data Paste'!A2151)","v":""},{"$f":"IF('SD Data Paste'!B2151=\"\",\"\",'SD Data Paste'!B2151)","v":""},2150,{"$f":"IF('SD Data Paste'!E2151=\"\",\"\",'SD Data Paste'!E2151)","v":""},{"$f":"IF('SD Data Paste'!G2151=\"\",\"\",'SD Data Paste'!G2151)","v":""}]
[{"$f":"IF(Table1[विद्यार्थी का नाम]=\"\",\"\",ROWS($A$1:A2151))","v":""},{"$f":"IF('SD Data Paste'!A2152=\"\",\"\",'SD Data Paste'!A2152)","v":""},{"$f":"IF('SD Data Paste'!B2152=\"\",\"\",'SD Data Paste'!B2152)","v":""},2151,{"$f":"IF('SD Data Paste'!E2152=\"\",\"\",'SD Data Paste'!E2152)","v":""},{"$f":"IF('SD Data Paste'!G2152=\"\",\"\",'SD Data Paste'!G2152)","v":""}]
[{"$f":"IF(Table1[विद्यार्थी का नाम]=\"\",\"\",ROWS($A$1:A2152))","v":""},{"$f":"IF('SD Data Paste'!A2153=\"\",\"\",'SD Data Paste'!A2153)","v":""},{"$f":"IF('SD Data Paste'!B2153=\"\",\"\",'SD Data Paste'!B2153)","v":""},2152,{"$f":"IF('SD Data Paste'!E2153=\"\",\"\",'SD Data Paste'!E2153)","v":""},{"$f":"IF('SD Data Paste'!G2153=\"\",\"\",'SD Data Paste'!G2153)","v":""}]
[{"$f":"IF(Table1[विद्यार्थी का नाम]=\"\",\"\",ROWS($A$1:A2153))","v":""},{"$f":"IF('SD Data Paste'!A2154=\"\",\"\",'SD Data Paste'!A2154)","v":""},{"$f":"IF('SD Data Paste'!B2154=\"\",\"\",'SD Data Paste'!B2154)","v":""},2153,{"$f":"IF('SD Data Paste'!E2154=\"\",\"\",'SD Data Paste'!E2154)","v":""},{"$f":"IF('SD Data Paste'!G2154=\"\",\"\",'SD Data Paste'!G2154)","v":""}]
[{"$f":"IF(Table1[विद्यार्थी का नाम]=\"\",\"\",ROWS($A$1:A2154))","v":""},{"$f":"IF('SD Data Paste'!A2155=\"\",\"\",'SD Data Paste'!A2155)","v":""},{"$f":"IF('SD Data Paste'!B2155=\"\",\"\",'SD Data Paste'!B2155)","v":""},2154,{"$f":"IF('SD Data Paste'!E2155=\"\",\"\",'SD Data Paste'!E2155)","v":""},{"$f":"IF('SD Data Paste'!G2155=\"\",\"\",'SD Data Paste'!G2155)","v":""}]
[{"$f":"IF(Table1[विद्यार्थी का नाम]=\"\",\"\",ROWS($A$1:A2155))","v":""},{"$f":"IF('SD Data Paste'!A2156=\"\",\"\",'SD Data Paste'!A2156)","v":""},{"$f":"IF('SD Data Paste'!B2156=\"\",\"\",'SD Data Paste'!B2156)","v":""},2155,{"$f":"IF('SD Data Paste'!E2156=\"\",\"\",'SD Data Paste'!E2156)","v":""},{"$f":"IF('SD Data Paste'!G2156=\"\",\"\",'SD Data Paste'!G2156)","v":""}]
[{"$f":"IF(Table1[विद्यार्थी का नाम]=\"\",\"\",ROWS($A$1:A2156))","v":""},{"$f":"IF('SD Data Paste'!A2157=\"\",\"\",'SD Data Paste'!A2157)","v":""},{"$f":"IF('SD Data Paste'!B2157=\"\",\"\",'SD Data Paste'!B2157)","v":""},2156,{"$f":"IF('SD Data Paste'!E2157=\"\",\"\",'SD Data Paste'!E2157)","v":""},{"$f":"IF('SD Data Paste'!G2157=\"\",\"\",'SD Data Paste'!G2157)","v":""}]
[{"$f":"IF(Table1[विद्यार्थी का नाम]=\"\",\"\",ROWS($A$1:A2157))","v":""},{"$f":"IF('SD Data Paste'!A2158=\"\",\"\",'SD Data Paste'!A2158)","v":""},{"$f":"IF('SD Data Paste'!B2158=\"\",\"\",'SD Data Paste'!B2158)","v":""},2157,{"$f":"IF('SD Data Paste'!E2158=\"\",\"\",'SD Data Paste'!E2158)","v":""},{"$f":"IF('SD Data Paste'!G2158=\"\",\"\",'SD Data Paste'!G2158)","v":""}]
[{"$f":"IF(Table1[विद्यार्थी का नाम]=\"\",\"\",ROWS($A$1:A2158))","v":""},{"$f":"IF('SD Data Paste'!A2159=\"\",\"\",'SD Data Paste'!A2159)","v":""},{"$f":"IF('SD Data Paste'!B2159=\"\",\"\",'SD Data Paste'!B2159)","v":""},2158,{"$f":"IF('SD Data Paste'!E2159=\"\",\"\",'SD Data Paste'!E2159)","v":""},{"$f":"IF('SD Data Paste'!G2159=\"\",\"\",'SD Data Paste'!G2159)","v":""}]
[{"$f":"IF(Table1[विद्यार्थी का नाम]=\"\",\"\",ROWS($A$1:A2159))","v":""},{"$f":"IF('SD Data Paste'!A2160=\"\",\"\",'SD Data Paste'!A2160)","v":""},{"$f":"IF('SD Data Paste'!B2160=\"\",\"\",'SD Data Paste'!B2160)","v":""},2159,{"$f":"IF('SD Data Paste'!E2160=\"\",\"\",'SD Data Paste'!E2160)","v":""},{"$f":"IF('SD Data Paste'!G2160=\"\",\"\",'SD Data Paste'!G2160)","v":""}]
[{"$f":"IF(Table1[विद्यार्थी का नाम]=\"\",\"\",ROWS($A$1:A2160))","v":""},{"$f":"IF('SD Data Paste'!A2161=\"\",\"\",'SD Data Paste'!A2161)","v":""},{"$f":"IF('SD Data Paste'!B2161=\"\",\"\",'SD Data Paste'!B2161)","v":""},2160,{"$f":"IF('SD Data Paste'!E2161=\"\",\"\",'SD Data Paste'!E2161)","v":""},{"$f":"IF('SD Data Paste'!G2161=\"\",\"\",'SD Data Paste'!G2161)","v":""}]
[{"$f":"IF(Table1[विद्यार्थी का नाम]=\"\",\"\",ROWS($A$1:A2161))","v":""},{"$f":"IF('SD Data Paste'!A2162=\"\",\"\",'SD Data Paste'!A2162)","v":""},{"$f":"IF('SD Data Paste'!B2162=\"\",\"\",'SD Data Paste'!B2162)","v":""},2161,{"$f":"IF('SD Data Paste'!E2162=\"\",\"\",'SD Data Paste'!E2162)","v":""},{"$f":"IF('SD Data Paste'!G2162=\"\",\"\",'SD Data Paste'!G2162)","v":""}]
[{"$f":"IF(Table1[विद्यार्थी का नाम]=\"\",\"\",ROWS($A$1:A2162))","v":""},{"$f":"IF('SD Data Paste'!A2163=\"\",\"\",'SD Data Paste'!A2163)","v":""},{"$f":"IF('SD Data Paste'!B2163=\"\",\"\",'SD Data Paste'!B2163)","v":""},2162,{"$f":"IF('SD Data Paste'!E2163=\"\",\"\",'SD Data Paste'!E2163)","v":""},{"$f":"IF('SD Data Paste'!G2163=\"\",\"\",'SD Data Paste'!G2163)","v":""}]
[{"$f":"IF(Table1[विद्यार्थी का नाम]=\"\",\"\",ROWS($A$1:A2163))","v":""},{"$f":"IF('SD Data Paste'!A2164=\"\",\"\",'SD Data Paste'!A2164)","v":""},{"$f":"IF('SD Data Paste'!B2164=\"\",\"\",'SD Data Paste'!B2164)","v":""},2163,{"$f":"IF('SD Data Paste'!E2164=\"\",\"\",'SD Data Paste'!E2164)","v":""},{"$f":"IF('SD Data Paste'!G2164=\"\",\"\",'SD Data Paste'!G2164)","v":""}]
[{"$f":"IF(Table1[विद्यार्थी का नाम]=\"\",\"\",ROWS($A$1:A2164))","v":""},{"$f":"IF('SD Data Paste'!A2165=\"\",\"\",'SD Data Paste'!A2165)","v":""},{"$f":"IF('SD Data Paste'!B2165=\"\",\"\",'SD Data Paste'!B2165)","v":""},2164,{"$f":"IF('SD Data Paste'!E2165=\"\",\"\",'SD Data Paste'!E2165)","v":""},{"$f":"IF('SD Data Paste'!G2165=\"\",\"\",'SD Data Paste'!G2165)","v":""}]
[{"$f":"IF(Table1[विद्यार्थी का नाम]=\"\",\"\",ROWS($A$1:A2165))","v":""},{"$f":"IF('SD Data Paste'!A2166=\"\",\"\",'SD Data Paste'!A2166)","v":""},{"$f":"IF('SD Data Paste'!B2166=\"\",\"\",'SD Data Paste'!B2166)","v":""},2165,{"$f":"IF('SD Data Paste'!E2166=\"\",\"\",'SD Data Paste'!E2166)","v":""},{"$f":"IF('SD Data Paste'!G2166=\"\",\"\",'SD Data Paste'!G2166)","v":""}]
[{"$f":"IF(Table1[विद्यार्थी का नाम]=\"\",\"\",ROWS($A$1:A2166))","v":""},{"$f":"IF('SD Data Paste'!A2167=\"\",\"\",'SD Data Paste'!A2167)","v":""},{"$f":"IF('SD Data Paste'!B2167=\"\",\"\",'SD Data Paste'!B2167)","v":""},2166,{"$f":"IF('SD Data Paste'!E2167=\"\",\"\",'SD Data Paste'!E2167)","v":""},{"$f":"IF('SD Data Paste'!G2167=\"\",\"\",'SD Data Paste'!G2167)","v":""}]
[{"$f":"IF(Table1[विद्यार्थी का नाम]=\"\",\"\",ROWS($A$1:A2167))","v":""},{"$f":"IF('SD Data Paste'!A2168=\"\",\"\",'SD Data Paste'!A2168)","v":""},{"$f":"IF('SD Data Paste'!B2168=\"\",\"\",'SD Data Paste'!B2168)","v":""},2167,{"$f":"IF('SD Data Paste'!E2168=\"\",\"\",'SD Data Paste'!E2168)","v":""},{"$f":"IF('SD Data Paste'!G2168=\"\",\"\",'SD Data Paste'!G2168)","v":""}]
[{"$f":"IF(Table1[विद्यार्थी का नाम]=\"\",\"\",ROWS($A$1:A2168))","v":""},{"$f":"IF('SD Data Paste'!A2169=\"\",\"\",'SD Data Paste'!A2169)","v":""},{"$f":"IF('SD Data Paste'!B2169=\"\",\"\",'SD Data Paste'!B2169)","v":""},2168,{"$f":"IF('SD Data Paste'!E2169=\"\",\"\",'SD Data Paste'!E2169)","v":""},{"$f":"IF('SD Data Paste'!G2169=\"\",\"\",'SD Data Paste'!G2169)","v":""}]
[{"$f":"IF(Table1[विद्यार्थी का नाम]=\"\",\"\",ROWS($A$1:A2169))","v":""},{"$f":"IF('SD Data Paste'!A2170=\"\",\"\",'SD Data Paste'!A2170)","v":""},{"$f":"IF('SD Data Paste'!B2170=\"\",\"\",'SD Data Paste'!B2170)","v":""},2169,{"$f":"IF('SD Data Paste'!E2170=\"\",\"\",'SD Data Paste'!E2170)","v":""},{"$f":"IF('SD Data Paste'!G2170=\"\",\"\",'SD Data Paste'!G2170)","v":""}]
[{"$f":"IF(Table1[विद्यार्थी का नाम]=\"\",\"\",ROWS($A$1:A2170))","v":""},{"$f":"IF('SD Data Paste'!A2171=\"\",\"\",'SD Data Paste'!A2171)","v":""},{"$f":"IF('SD Data Paste'!B2171=\"\",\"\",'SD Data Paste'!B2171)","v":""},2170,{"$f":"IF('SD Data Paste'!E2171=\"\",\"\",'SD Data Paste'!E2171)","v":""},{"$f":"IF('SD Data Paste'!G2171=\"\",\"\",'SD Data Paste'!G2171)","v":""}]
[{"$f":"IF(Table1[विद्यार्थी का नाम]=\"\",\"\",ROWS($A$1:A2171))","v":""},{"$f":"IF('SD Data Paste'!A2172=\"\",\"\",'SD Data Paste'!A2172)","v":""},{"$f":"IF('SD Data Paste'!B2172=\"\",\"\",'SD Data Paste'!B2172)","v":""},2171,{"$f":"IF('SD Data Paste'!E2172=\"\",\"\",'SD Data Paste'!E2172)","v":""},{"$f":"IF('SD Data Paste'!G2172=\"\",\"\",'SD Data Paste'!G2172)","v":""}]
[{"$f":"IF(Table1[विद्यार्थी का नाम]=\"\",\"\",ROWS($A$1:A2172))","v":""},{"$f":"IF('SD Data Paste'!A2173=\"\",\"\",'SD Data Paste'!A2173)","v":""},{"$f":"IF('SD Data Paste'!B2173=\"\",\"\",'SD Data Paste'!B2173)","v":""},2172,{"$f":"IF('SD Data Paste'!E2173=\"\",\"\",'SD Data Paste'!E2173)","v":""},{"$f":"IF('SD Data Paste'!G2173=\"\",\"\",'SD Data Paste'!G2173)","v":""}]
[{"$f":"IF(Table1[विद्यार्थी का नाम]=\"\",\"\",ROWS($A$1:A2173))","v":""},{"$f":"IF('SD Data Paste'!A2174=\"\",\"\",'SD Data Paste'!A2174)","v":""},{"$f":"IF('SD Data Paste'!B2174=\"\",\"\",'SD Data Paste'!B2174)","v":""},2173,{"$f":"IF('SD Data Paste'!E2174=\"\",\"\",'SD Data Paste'!E2174)","v":""},{"$f":"IF('SD Data Paste'!G2174=\"\",\"\",'SD Data Paste'!G2174)","v":""}]
[{"$f":"IF(Table1[विद्यार्थी का नाम]=\"\",\"\",ROWS($A$1:A2174))","v":""},{"$f":"IF('SD Data Paste'!A2175=\"\",\"\",'SD Data Paste'!A2175)","v":""},{"$f":"IF('SD Data Paste'!B2175=\"\",\"\",'SD Data Paste'!B2175)","v":""},2174,{"$f":"IF('SD Data Paste'!E2175=\"\",\"\",'SD Data Paste'!E2175)","v":""},{"$f":"IF('SD Data Paste'!G2175=\"\",\"\",'SD Data Paste'!G2175)","v":""}]
[{"$f":"IF(Table1[विद्यार्थी का नाम]=\"\",\"\",ROWS($A$1:A2175))","v":""},{"$f":"IF('SD Data Paste'!A2176=\"\",\"\",'SD Data Paste'!A2176)","v":""},{"$f":"IF('SD Data Paste'!B2176=\"\",\"\",'SD Data Paste'!B2176)","v":""},2175,{"$f":"IF('SD Data Paste'!E2176=\"\",\"\",'SD Data Paste'!E2176)","v":""},{"$f":"IF('SD Data Paste'!G2176=\"\",\"\",'SD Data Paste'!G2176)","v":""}]
[{"$f":"IF(Table1[विद्यार्थी का नाम]=\"\",\"\",ROWS($A$1:A2176))","v":""},{"$f":"IF('SD Data Paste'!A2177=\"\",\"\",'SD Data Paste'!A2177)","v":""},{"$f":"IF('SD Data Paste'!B2177=\"\",\"\",'SD Data Paste'!B2177)","v":""},2176,{"$f":"IF('SD Data Paste'!E2177=\"\",\"\",'SD Data Paste'!E2177)","v":""},{"$f":"IF('SD Data Paste'!G2177=\"\",\"\",'SD Data Paste'!G2177)","v":""}]
[{"$f":"IF(Table1[विद्यार्थी का नाम]=\"\",\"\",ROWS($A$1:A2177))","v":""},{"$f":"IF('SD Data Paste'!A2178=\"\",\"\",'SD Data Paste'!A2178)","v":""},{"$f":"IF('SD Data Paste'!B2178=\"\",\"\",'SD Data Paste'!B2178)","v":""},2177,{"$f":"IF('SD Data Paste'!E2178=\"\",\"\",'SD Data Paste'!E2178)","v":""},{"$f":"IF('SD Data Paste'!G2178=\"\",\"\",'SD Data Paste'!G2178)","v":""}]
[{"$f":"IF(Table1[विद्यार्थी का नाम]=\"\",\"\",ROWS($A$1:A2178))","v":""},{"$f":"IF('SD Data Paste'!A2179=\"\",\"\",'SD Data Paste'!A2179)","v":""},{"$f":"IF('SD Data Paste'!B2179=\"\",\"\",'SD Data Paste'!B2179)","v":""},2178,{"$f":"IF('SD Data Paste'!E2179=\"\",\"\",'SD Data Paste'!E2179)","v":""},{"$f":"IF('SD Data Paste'!G2179=\"\",\"\",'SD Data Paste'!G2179)","v":""}]
[{"$f":"IF(Table1[विद्यार्थी का नाम]=\"\",\"\",ROWS($A$1:A2179))","v":""},{"$f":"IF('SD Data Paste'!A2180=\"\",\"\",'SD Data Paste'!A2180)","v":""},{"$f":"IF('SD Data Paste'!B2180=\"\",\"\",'SD Data Paste'!B2180)","v":""},{"$f":"IF(D2181=\"\",\"\",D2181+1)","v":2179},{"$f":"IF('SD Data Paste'!E2180=\"\",\"\",'SD Data Paste'!E2180)","v":""},{"$f":"IF('SD Data Paste'!G2180=\"\",\"\",'SD Data Paste'!G2180)","v":""}]
[{"$f":"IF(Table1[विद्यार्थी का नाम]=\"\",\"\",ROWS($A$1:A2180))","v":""},{"$f":"IF('SD Data Paste'!A2181=\"\",\"\",'SD Data Paste'!A2181)","v":""},{"$f":"IF('SD Data Paste'!B2181=\"\",\"\",'SD Data Paste'!B2181)","v":""},2180,{"$f":"IF('SD Data Paste'!E2181=\"\",\"\",'SD Data Paste'!E2181)","v":""},{"$f":"IF('SD Data Paste'!G2181=\"\",\"\",'SD Data Paste'!G2181)","v":""}]
[{"$f":"IF(Table1[विद्यार्थी का नाम]=\"\",\"\",ROWS($A$1:A2181))","v":""},{"$f":"IF('SD Data Paste'!A2182=\"\",\"\",'SD Data Paste'!A2182)","v":""},{"$f":"IF('SD Data Paste'!B2182=\"\",\"\",'SD Data Paste'!B2182)","v":""},2181,{"$f":"IF('SD Data Paste'!E2182=\"\",\"\",'SD Data Paste'!E2182)","v":""},{"$f":"IF('SD Data Paste'!G2182=\"\",\"\",'SD Data Paste'!G2182)","v":""}]
[{"$f":"IF(Table1[विद्यार्थी का नाम]=\"\",\"\",ROWS($A$1:A2182))","v":""},{"$f":"IF('SD Data Paste'!A2183=\"\",\"\",'SD Data Paste'!A2183)","v":""},{"$f":"IF('SD Data Paste'!B2183=\"\",\"\",'SD Data Paste'!B2183)","v":""},2182,{"$f":"IF('SD Data Paste'!E2183=\"\",\"\",'SD Data Paste'!E2183)","v":""},{"$f":"IF('SD Data Paste'!G2183=\"\",\"\",'SD Data Paste'!G2183)","v":""}]
[{"$f":"IF(Table1[विद्यार्थी का नाम]=\"\",\"\",ROWS($A$1:A2183))","v":""},{"$f":"IF('SD Data Paste'!A2184=\"\",\"\",'SD Data Paste'!A2184)","v":""},{"$f":"IF('SD Data Paste'!B2184=\"\",\"\",'SD Data Paste'!B2184)","v":""},2183,{"$f":"IF('SD Data Paste'!E2184=\"\",\"\",'SD Data Paste'!E2184)","v":""},{"$f":"IF('SD Data Paste'!G2184=\"\",\"\",'SD Data Paste'!G2184)","v":""}]
[{"$f":"IF(Table1[विद्यार्थी का नाम]=\"\",\"\",ROWS($A$1:A2184))","v":""},{"$f":"IF('SD Data Paste'!A2185=\"\",\"\",'SD Data Paste'!A2185)","v":""},{"$f":"IF('SD Data Paste'!B2185=\"\",\"\",'SD Data Paste'!B2185)","v":""},2184,{"$f":"IF('SD Data Paste'!E2185=\"\",\"\",'SD Data Paste'!E2185)","v":""},{"$f":"IF('SD Data Paste'!G2185=\"\",\"\",'SD Data Paste'!G2185)","v":""}]
[{"$f":"IF(Table1[विद्यार्थी का नाम]=\"\",\"\",ROWS($A$1:A2185))","v":""},{"$f":"IF('SD Data Paste'!A2186=\"\",\"\",'SD Data Paste'!A2186)","v":""},{"$f":"IF('SD Data Paste'!B2186=\"\",\"\",'SD Data Paste'!B2186)","v":""},2185,{"$f":"IF('SD Data Paste'!E2186=\"\",\"\",'SD Data Paste'!E2186)","v":""},{"$f":"IF('SD Data Paste'!G2186=\"\",\"\",'SD Data Paste'!G2186)","v":""}]
[{"$f":"IF(Table1[विद्यार्थी का नाम]=\"\",\"\",ROWS($A$1:A2186))","v":""},{"$f":"IF('SD Data Paste'!A2187=\"\",\"\",'SD Data Paste'!A2187)","v":""},{"$f":"IF('SD Data Paste'!B2187=\"\",\"\",'SD Data Paste'!B2187)","v":""},2186,{"$f":"IF('SD Data Paste'!E2187=\"\",\"\",'SD Data Paste'!E2187)","v":""},{"$f":"IF('SD Data Paste'!G2187=\"\",\"\",'SD Data Paste'!G2187)","v":""}]
[{"$f":"IF(Table1[विद्यार्थी का नाम]=\"\",\"\",ROWS($A$1:A2187))","v":""},{"$f":"IF('SD Data Paste'!A2188=\"\",\"\",'SD Data Paste'!A2188)","v":""},{"$f":"IF('SD Data Paste'!B2188=\"\",\"\",'SD Data Paste'!B2188)","v":""},2187,{"$f":"IF('SD Data Paste'!E2188=\"\",\"\",'SD Data Paste'!E2188)","v":""},{"$f":"IF('SD Data Paste'!G2188=\"\",\"\",'SD Data Paste'!G2188)","v":""}]
[{"$f":"IF(Table1[विद्यार्थी का नाम]=\"\",\"\",ROWS($A$1:A2188))","v":""},{"$f":"IF('SD Data Paste'!A2189=\"\",\"\",'SD Data Paste'!A2189)","v":""},{"$f":"IF('SD Data Paste'!B2189=\"\",\"\",'SD Data Paste'!B2189)","v":""},2188,{"$f":"IF('SD Data Paste'!E2189=\"\",\"\",'SD Data Paste'!E2189)","v":""},{"$f":"IF('SD Data Paste'!G2189=\"\",\"\",'SD Data Paste'!G2189)","v":""}]
[{"$f":"IF(Table1[विद्यार्थी का नाम]=\"\",\"\",ROWS($A$1:A2189))","v":""},{"$f":"IF('SD Data Paste'!A2190=\"\",\"\",'SD Data Paste'!A2190)","v":""},{"$f":"IF('SD Data Paste'!B2190=\"\",\"\",'SD Data Paste'!B2190)","v":""},2189,{"$f":"IF('SD Data Paste'!E2190=\"\",\"\",'SD Data Paste'!E2190)","v":""},{"$f":"IF('SD Data Paste'!G2190=\"\",\"\",'SD Data Paste'!G2190)","v":""}]
[{"$f":"IF(Table1[विद्यार्थी का नाम]=\"\",\"\",ROWS($A$1:A2190))","v":""},{"$f":"IF('SD Data Paste'!A2191=\"\",\"\",'SD Data Paste'!A2191)","v":""},{"$f":"IF('SD Data Paste'!B2191=\"\",\"\",'SD Data Paste'!B2191)","v":""},2190,{"$f":"IF('SD Data Paste'!E2191=\"\",\"\",'SD Data Paste'!E2191)","v":""},{"$f":"IF('SD Data Paste'!G2191=\"\",\"\",'SD Data Paste'!G2191)","v":""}]
[{"$f":"IF(Table1[विद्यार्थी का नाम]=\"\",\"\",ROWS($A$1:A2191))","v":""},{"$f":"IF('SD Data Paste'!A2192=\"\",\"\",'SD Data Paste'!A2192)","v":""},{"$f":"IF('SD Data Paste'!B2192=\"\",\"\",'SD Data Paste'!B2192)","v":""},2191,{"$f":"IF('SD Data Paste'!E2192=\"\",\"\",'SD Data Paste'!E2192)","v":""},{"$f":"IF('SD Data Paste'!G2192=\"\",\"\",'SD Data Paste'!G2192)","v":""}]
[{"$f":"IF(Table1[विद्यार्थी का नाम]=\"\",\"\",ROWS($A$1:A2192))","v":""},{"$f":"IF('SD Data Paste'!A2193=\"\",\"\",'SD Data Paste'!A2193)","v":""},{"$f":"IF('SD Data Paste'!B2193=\"\",\"\",'SD Data Paste'!B2193)","v":""},2192,{"$f":"IF('SD Data Paste'!E2193=\"\",\"\",'SD Data Paste'!E2193)","v":""},{"$f":"IF('SD Data Paste'!G2193=\"\",\"\",'SD Data Paste'!G2193)","v":""}]
[{"$f":"IF(Table1[विद्यार्थी का नाम]=\"\",\"\",ROWS($A$1:A2193))","v":""},{"$f":"IF('SD Data Paste'!A2194=\"\",\"\",'SD Data Paste'!A2194)","v":""},{"$f":"IF('SD Data Paste'!B2194=\"\",\"\",'SD Data Paste'!B2194)","v":""},2193,{"$f":"IF('SD Data Paste'!E2194=\"\",\"\",'SD Data Paste'!E2194)","v":""},{"$f":"IF('SD Data Paste'!G2194=\"\",\"\",'SD Data Paste'!G2194)","v":""}]
[{"$f":"IF(Table1[विद्यार्थी का नाम]=\"\",\"\",ROWS($A$1:A2194))","v":""},{"$f":"IF('SD Data Paste'!A2195=\"\",\"\",'SD Data Paste'!A2195)","v":""},{"$f":"IF('SD Data Paste'!B2195=\"\",\"\",'SD Data Paste'!B2195)","v":""},2194,{"$f":"IF('SD Data Paste'!E2195=\"\",\"\",'SD Data Paste'!E2195)","v":""},{"$f":"IF('SD Data Paste'!G2195=\"\",\"\",'SD Data Paste'!G2195)","v":""}]
[{"$f":"IF(Table1[विद्यार्थी का नाम]=\"\",\"\",ROWS($A$1:A2195))","v":""},{"$f":"IF('SD Data Paste'!A2196=\"\",\"\",'SD Data Paste'!A2196)","v":""},{"$f":"IF('SD Data Paste'!B2196=\"\",\"\",'SD Data Paste'!B2196)","v":""},2195,{"$f":"IF('SD Data Paste'!E2196=\"\",\"\",'SD Data Paste'!E2196)","v":""},{"$f":"IF('SD Data Paste'!G2196=\"\",\"\",'SD Data Paste'!G2196)","v":""}]
[{"$f":"IF(Table1[विद्यार्थी का नाम]=\"\",\"\",ROWS($A$1:A2196))","v":""},{"$f":"IF('SD Data Paste'!A2197=\"\",\"\",'SD Data Paste'!A2197)","v":""},{"$f":"IF('SD Data Paste'!B2197=\"\",\"\",'SD Data Paste'!B2197)","v":""},2196,{"$f":"IF('SD Data Paste'!E2197=\"\",\"\",'SD Data Paste'!E2197)","v":""},{"$f":"IF('SD Data Paste'!G2197=\"\",\"\",'SD Data Paste'!G2197)","v":""}]
[{"$f":"IF(Table1[विद्यार्थी का नाम]=\"\",\"\",ROWS($A$1:A2197))","v":""},{"$f":"IF('SD Data Paste'!A2198=\"\",\"\",'SD Data Paste'!A2198)","v":""},{"$f":"IF('SD Data Paste'!B2198=\"\",\"\",'SD Data Paste'!B2198)","v":""},2197,{"$f":"IF('SD Data Paste'!E2198=\"\",\"\",'SD Data Paste'!E2198)","v":""},{"$f":"IF('SD Data Paste'!G2198=\"\",\"\",'SD Data Paste'!G2198)","v":""}]
[{"$f":"IF(Table1[विद्यार्थी का नाम]=\"\",\"\",ROWS($A$1:A2198))","v":""},{"$f":"IF('SD Data Paste'!A2199=\"\",\"\",'SD Data Paste'!A2199)","v":""},{"$f":"IF('SD Data Paste'!B2199=\"\",\"\",'SD Data Paste'!B2199)","v":""},2198,{"$f":"IF('SD Data Paste'!E2199=\"\",\"\",'SD Data Paste'!E2199)","v":""},{"$f":"IF('SD Data Paste'!G2199=\"\",\"\",'SD Data Paste'!G2199)","v":""}]
[{"$f":"IF(Table1[विद्यार्थी का नाम]=\"\",\"\",ROWS($A$1:A2199))","v":""},{"$f":"IF('SD Data Paste'!A2200=\"\",\"\",'SD Data Paste'!A2200)","v":""},{"$f":"IF('SD Data Paste'!B2200=\"\",\"\",'SD Data Paste'!B2200)","v":""},2199,{"$f":"IF('SD Data Paste'!E2200=\"\",\"\",'SD Data Paste'!E2200)","v":""},{"$f":"IF('SD Data Paste'!G2200=\"\",\"\",'SD Data Paste'!G2200)","v":""}]
[{"$f":"IF(Table1[विद्यार्थी का नाम]=\"\",\"\",ROWS($A$1:A2200))","v":""},{"$f":"IF('SD Data Paste'!A2201=\"\",\"\",'SD Data Paste'!A2201)","v":""},{"$f":"IF('SD Data Paste'!B2201=\"\",\"\",'SD Data Paste'!B2201)","v":""},2200,{"$f":"IF('SD Data Paste'!E2201=\"\",\"\",'SD Data Paste'!E2201)","v":""},{"$f":"IF('SD Data Paste'!G2201=\"\",\"\",'SD Data Paste'!G2201)","v":""}]
[{"$f":"IF(Table1[विद्यार्थी का नाम]=\"\",\"\",ROWS($A$1:A2201))","v":""},{"$f":"IF('SD Data Paste'!A2202=\"\",\"\",'SD Data Paste'!A2202)","v":""},{"$f":"IF('SD Data Paste'!B2202=\"\",\"\",'SD Data Paste'!B2202)","v":""},2201,{"$f":"IF('SD Data Paste'!E2202=\"\",\"\",'SD Data Paste'!E2202)","v":""},{"$f":"IF('SD Data Paste'!G2202=\"\",\"\",'SD Data Paste'!G2202)","v":""}]
[{"$f":"IF(Table1[विद्यार्थी का नाम]=\"\",\"\",ROWS($A$1:A2202))","v":""},{"$f":"IF('SD Data Paste'!A2203=\"\",\"\",'SD Data Paste'!A2203)","v":""},{"$f":"IF('SD Data Paste'!B2203=\"\",\"\",'SD Data Paste'!B2203)","v":""},2202,{"$f":"IF('SD Data Paste'!E2203=\"\",\"\",'SD Data Paste'!E2203)","v":""},{"$f":"IF('SD Data Paste'!G2203=\"\",\"\",'SD Data Paste'!G2203)","v":""}]
[{"$f":"IF(Table1[विद्यार्थी का नाम]=\"\",\"\",ROWS($A$1:A2203))","v":""},{"$f":"IF('SD Data Paste'!A2204=\"\",\"\",'SD Data Paste'!A2204)","v":""},{"$f":"IF('SD Data Paste'!B2204=\"\",\"\",'SD Data Paste'!B2204)","v":""},2203,{"$f":"IF('SD Data Paste'!E2204=\"\",\"\",'SD Data Paste'!E2204)","v":""},{"$f":"IF('SD Data Paste'!G2204=\"\",\"\",'SD Data Paste'!G2204)","v":""}]
[{"$f":"IF(Table1[विद्यार्थी का नाम]=\"\",\"\",ROWS($A$1:A2204))","v":""},{"$f":"IF('SD Data Paste'!A2205=\"\",\"\",'SD Data Paste'!A2205)","v":""},{"$f":"IF('SD Data Paste'!B2205=\"\",\"\",'SD Data Paste'!B2205)","v":""},2204,{"$f":"IF('SD Data Paste'!E2205=\"\",\"\",'SD Data Paste'!E2205)","v":""},{"$f":"IF('SD Data Paste'!G2205=\"\",\"\",'SD Data Paste'!G2205)","v":""}]
[{"$f":"IF(Table1[विद्यार्थी का नाम]=\"\",\"\",ROWS($A$1:A2205))","v":""},{"$f":"IF('SD Data Paste'!A2206=\"\",\"\",'SD Data Paste'!A2206)","v":""},{"$f":"IF('SD Data Paste'!B2206=\"\",\"\",'SD Data Paste'!B2206)","v":""},2205,{"$f":"IF('SD Data Paste'!E2206=\"\",\"\",'SD Data Paste'!E2206)","v":""},{"$f":"IF('SD Data Paste'!G2206=\"\",\"\",'SD Data Paste'!G2206)","v":""}]
[{"$f":"IF(Table1[विद्यार्थी का नाम]=\"\",\"\",ROWS($A$1:A2206))","v":""},{"$f":"IF('SD Data Paste'!A2207=\"\",\"\",'SD Data Paste'!A2207)","v":""},{"$f":"IF('SD Data Paste'!B2207=\"\",\"\",'SD Data Paste'!B2207)","v":""},2206,{"$f":"IF('SD Data Paste'!E2207=\"\",\"\",'SD Data Paste'!E2207)","v":""},{"$f":"IF('SD Data Paste'!G2207=\"\",\"\",'SD Data Paste'!G2207)","v":""}]
[{"$f":"IF(Table1[विद्यार्थी का नाम]=\"\",\"\",ROWS($A$1:A2207))","v":""},{"$f":"IF('SD Data Paste'!A2208=\"\",\"\",'SD Data Paste'!A2208)","v":""},{"$f":"IF('SD Data Paste'!B2208=\"\",\"\",'SD Data Paste'!B2208)","v":""},2207,{"$f":"IF('SD Data Paste'!E2208=\"\",\"\",'SD Data Paste'!E2208)","v":""},{"$f":"IF('SD Data Paste'!G2208=\"\",\"\",'SD Data Paste'!G2208)","v":""}]
[{"$f":"IF(Table1[विद्यार्थी का नाम]=\"\",\"\",ROWS($A$1:A2208))","v":""},{"$f":"IF('SD Data Paste'!A2209=\"\",\"\",'SD Data Paste'!A2209)","v":""},{"$f":"IF('SD Data Paste'!B2209=\"\",\"\",'SD Data Paste'!B2209)","v":""},2208,{"$f":"IF('SD Data Paste'!E2209=\"\",\"\",'SD Data Paste'!E2209)","v":""},{"$f":"IF('SD Data Paste'!G2209=\"\",\"\",'SD Data Paste'!G2209)","v":""}]
[{"$f":"IF(Table1[विद्यार्थी का नाम]=\"\",\"\",ROWS($A$1:A2209))","v":""},{"$f":"IF('SD Data Paste'!A2210=\"\",\"\",'SD Data Paste'!A2210)","v":""},{"$f":"IF('SD Data Paste'!B2210=\"\",\"\",'SD Data Paste'!B2210)","v":""},2209,{"$f":"IF('SD Data Paste'!E2210=\"\",\"\",'SD Data Paste'!E2210)","v":""},{"$f":"IF('SD Data Paste'!G2210=\"\",\"\",'SD Data Paste'!G2210)","v":""}]
[{"$f":"IF(Table1[विद्यार्थी का नाम]=\"\",\"\",ROWS($A$1:A2210))","v":""},{"$f":"IF('SD Data Paste'!A2211=\"\",\"\",'SD Data Paste'!A2211)","v":""},{"$f":"IF('SD Data Paste'!B2211=\"\",\"\",'SD Data Paste'!B2211)","v":""},2210,{"$f":"IF('SD Data Paste'!E2211=\"\",\"\",'SD Data Paste'!E2211)","v":""},{"$f":"IF('SD Data Paste'!G2211=\"\",\"\",'SD Data Paste'!G2211)","v":""}]
[{"$f":"IF(Table1[विद्यार्थी का नाम]=\"\",\"\",ROWS($A$1:A2211))","v":""},{"$f":"IF('SD Data Paste'!A2212=\"\",\"\",'SD Data Paste'!A2212)","v":""},{"$f":"IF('SD Data Paste'!B2212=\"\",\"\",'SD Data Paste'!B2212)","v":""},2211,{"$f":"IF('SD Data Paste'!E2212=\"\",\"\",'SD Data Paste'!E2212)","v":""},{"$f":"IF('SD Data Paste'!G2212=\"\",\"\",'SD Data Paste'!G2212)","v":""}]
[{"$f":"IF(Table1[विद्यार्थी का नाम]=\"\",\"\",ROWS($A$1:A2212))","v":""},{"$f":"IF('SD Data Paste'!A2213=\"\",\"\",'SD Data Paste'!A2213)","v":""},{"$f":"IF('SD Data Paste'!B2213=\"\",\"\",'SD Data Paste'!B2213)","v":""},2212,{"$f":"IF('SD Data Paste'!E2213=\"\",\"\",'SD Data Paste'!E2213)","v":""},{"$f":"IF('SD Data Paste'!G2213=\"\",\"\",'SD Data Paste'!G2213)","v":""}]
[{"$f":"IF(Table1[विद्यार्थी का नाम]=\"\",\"\",ROWS($A$1:A2213))","v":""},{"$f":"IF('SD Data Paste'!A2214=\"\",\"\",'SD Data Paste'!A2214)","v":""},{"$f":"IF('SD Data Paste'!B2214=\"\",\"\",'SD Data Paste'!B2214)","v":""},2213,{"$f":"IF('SD Data Paste'!E2214=\"\",\"\",'SD Data Paste'!E2214)","v":""},{"$f":"IF('SD Data Paste'!G2214=\"\",\"\",'SD Data Paste'!G2214)","v":""}]
[{"$f":"IF(Table1[विद्यार्थी का नाम]=\"\",\"\",ROWS($A$1:A2214))","v":""},{"$f":"IF('SD Data Paste'!A2215=\"\",\"\",'SD Data Paste'!A2215)","v":""},{"$f":"IF('SD Data Paste'!B2215=\"\",\"\",'SD Data Paste'!B2215)","v":""},2214,{"$f":"IF('SD Data Paste'!E2215=\"\",\"\",'SD Data Paste'!E2215)","v":""},{"$f":"IF('SD Data Paste'!G2215=\"\",\"\",'SD Data Paste'!G2215)","v":""}]
[{"$f":"IF(Table1[विद्यार्थी का नाम]=\"\",\"\",ROWS($A$1:A2215))","v":""},{"$f":"IF('SD Data Paste'!A2216=\"\",\"\",'SD Data Paste'!A2216)","v":""},{"$f":"IF('SD Data Paste'!B2216=\"\",\"\",'SD Data Paste'!B2216)","v":""},2215,{"$f":"IF('SD Data Paste'!E2216=\"\",\"\",'SD Data Paste'!E2216)","v":""},{"$f":"IF('SD Data Paste'!G2216=\"\",\"\",'SD Data Paste'!G2216)","v":""}]
[{"$f":"IF(Table1[विद्यार्थी का नाम]=\"\",\"\",ROWS($A$1:A2216))","v":""},{"$f":"IF('SD Data Paste'!A2217=\"\",\"\",'SD Data Paste'!A2217)","v":""},{"$f":"IF('SD Data Paste'!B2217=\"\",\"\",'SD Data Paste'!B2217)","v":""},2216,{"$f":"IF('SD Data Paste'!E2217=\"\",\"\",'SD Data Paste'!E2217)","v":""},{"$f":"IF('SD Data Paste'!G2217=\"\",\"\",'SD Data Paste'!G2217)","v":""}]
[{"$f":"IF(Table1[विद्यार्थी का नाम]=\"\",\"\",ROWS($A$1:A2217))","v":""},{"$f":"IF('SD Data Paste'!A2218=\"\",\"\",'SD Data Paste'!A2218)","v":""},{"$f":"IF('SD Data Paste'!B2218=\"\",\"\",'SD Data Paste'!B2218)","v":""},2217,{"$f":"IF('SD Data Paste'!E2218=\"\",\"\",'SD Data Paste'!E2218)","v":""},{"$f":"IF('SD Data Paste'!G2218=\"\",\"\",'SD Data Paste'!G2218)","v":""}]
[{"$f":"IF(Table1[विद्यार्थी का नाम]=\"\",\"\",ROWS($A$1:A2218))","v":""},{"$f":"IF('SD Data Paste'!A2219=\"\",\"\",'SD Data Paste'!A2219)","v":""},{"$f":"IF('SD Data Paste'!B2219=\"\",\"\",'SD Data Paste'!B2219)","v":""},2218,{"$f":"IF('SD Data Paste'!E2219=\"\",\"\",'SD Data Paste'!E2219)","v":""},{"$f":"IF('SD Data Paste'!G2219=\"\",\"\",'SD Data Paste'!G2219)","v":""}]
[{"$f":"IF(Table1[विद्यार्थी का नाम]=\"\",\"\",ROWS($A$1:A2219))","v":""},{"$f":"IF('SD Data Paste'!A2220=\"\",\"\",'SD Data Paste'!A2220)","v":""},{"$f":"IF('SD Data Paste'!B2220=\"\",\"\",'SD Data Paste'!B2220)","v":""},2219,{"$f":"IF('SD Data Paste'!E2220=\"\",\"\",'SD Data Paste'!E2220)","v":""},{"$f":"IF('SD Data Paste'!G2220=\"\",\"\",'SD Data Paste'!G2220)","v":""}]
[{"$f":"IF(Table1[विद्यार्थी का नाम]=\"\",\"\",ROWS($A$1:A2220))","v":""},{"$f":"IF('SD Data Paste'!A2221=\"\",\"\",'SD Data Paste'!A2221)","v":""},{"$f":"IF('SD Data Paste'!B2221=\"\",\"\",'SD Data Paste'!B2221)","v":""},2220,{"$f":"IF('SD Data Paste'!E2221=\"\",\"\",'SD Data Paste'!E2221)","v":""},{"$f":"IF('SD Data Paste'!G2221=\"\",\"\",'SD Data Paste'!G2221)","v":""}]
[{"$f":"IF(Table1[विद्यार्थी का नाम]=\"\",\"\",ROWS($A$1:A2221))","v":""},{"$f":"IF('SD Data Paste'!A2222=\"\",\"\",'SD Data Paste'!A2222)","v":""},{"$f":"IF('SD Data Paste'!B2222=\"\",\"\",'SD Data Paste'!B2222)","v":""},2221,{"$f":"IF('SD Data Paste'!E2222=\"\",\"\",'SD Data Paste'!E2222)","v":""},{"$f":"IF('SD Data Paste'!G2222=\"\",\"\",'SD Data Paste'!G2222)","v":""}]
[{"$f":"IF(Table1[विद्यार्थी का नाम]=\"\",\"\",ROWS($A$1:A2222))","v":""},{"$f":"IF('SD Data Paste'!A2223=\"\",\"\",'SD Data Paste'!A2223)","v":""},{"$f":"IF('SD Data Paste'!B2223=\"\",\"\",'SD Data Paste'!B2223)","v":""},2222,{"$f":"IF('SD Data Paste'!E2223=\"\",\"\",'SD Data Paste'!E2223)","v":""},{"$f":"IF('SD Data Paste'!G2223=\"\",\"\",'SD Data Paste'!G2223)","v":""}]
[{"$f":"IF(Table1[विद्यार्थी का नाम]=\"\",\"\",ROWS($A$1:A2223))","v":""},{"$f":"IF('SD Data Paste'!A2224=\"\",\"\",'SD Data Paste'!A2224)","v":""},{"$f":"IF('SD Data Paste'!B2224=\"\",\"\",'SD Data Paste'!B2224)","v":""},2223,{"$f":"IF('SD Data Paste'!E2224=\"\",\"\",'SD Data Paste'!E2224)","v":""},{"$f":"IF('SD Data Paste'!G2224=\"\",\"\",'SD Data Paste'!G2224)","v":""}]
[{"$f":"IF(Table1[विद्यार्थी का नाम]=\"\",\"\",ROWS($A$1:A2224))","v":""},{"$f":"IF('SD Data Paste'!A2225=\"\",\"\",'SD Data Paste'!A2225)","v":""},{"$f":"IF('SD Data Paste'!B2225=\"\",\"\",'SD Data Paste'!B2225)","v":""},2224,{"$f":"IF('SD Data Paste'!E2225=\"\",\"\",'SD Data Paste'!E2225)","v":""},{"$f":"IF('SD Data Paste'!G2225=\"\",\"\",'SD Data Paste'!G2225)","v":""}]
[{"$f":"IF(Table1[विद्यार्थी का नाम]=\"\",\"\",ROWS($A$1:A2225))","v":""},{"$f":"IF('SD Data Paste'!A2226=\"\",\"\",'SD Data Paste'!A2226)","v":""},{"$f":"IF('SD Data Paste'!B2226=\"\",\"\",'SD Data Paste'!B2226)","v":""},2225,{"$f":"IF('SD Data Paste'!E2226=\"\",\"\",'SD Data Paste'!E2226)","v":""},{"$f":"IF('SD Data Paste'!G2226=\"\",\"\",'SD Data Paste'!G2226)","v":""}]
[{"$f":"IF(Table1[विद्यार्थी का नाम]=\"\",\"\",ROWS($A$1:A2226))","v":""},{"$f":"IF('SD Data Paste'!A2227=\"\",\"\",'SD Data Paste'!A2227)","v":""},{"$f":"IF('SD Data Paste'!B2227=\"\",\"\",'SD Data Paste'!B2227)","v":""},2226,{"$f":"IF('SD Data Paste'!E2227=\"\",\"\",'SD Data Paste'!E2227)","v":""},{"$f":"IF('SD Data Paste'!G2227=\"\",\"\",'SD Data Paste'!G2227)","v":""}]
[{"$f":"IF(Table1[विद्यार्थी का नाम]=\"\",\"\",ROWS($A$1:A2227))","v":""},{"$f":"IF('SD Data Paste'!A2228=\"\",\"\",'SD Data Paste'!A2228)","v":""},{"$f":"IF('SD Data Paste'!B2228=\"\",\"\",'SD Data Paste'!B2228)","v":""},2227,{"$f":"IF('SD Data Paste'!E2228=\"\",\"\",'SD Data Paste'!E2228)","v":""},{"$f":"IF('SD Data Paste'!G2228=\"\",\"\",'SD Data Paste'!G2228)","v":""}]
[{"$f":"IF(Table1[विद्यार्थी का नाम]=\"\",\"\",ROWS($A$1:A2228))","v":""},{"$f":"IF('SD Data Paste'!A2229=\"\",\"\",'SD Data Paste'!A2229)","v":""},{"$f":"IF('SD Data Paste'!B2229=\"\",\"\",'SD Data Paste'!B2229)","v":""},2228,{"$f":"IF('SD Data Paste'!E2229=\"\",\"\",'SD Data Paste'!E2229)","v":""},{"$f":"IF('SD Data Paste'!G2229=\"\",\"\",'SD Data Paste'!G2229)","v":""}]
[{"$f":"IF(Table1[विद्यार्थी का नाम]=\"\",\"\",ROWS($A$1:A2229))","v":""},{"$f":"IF('SD Data Paste'!A2230=\"\",\"\",'SD Data Paste'!A2230)","v":""},{"$f":"IF('SD Data Paste'!B2230=\"\",\"\",'SD Data Paste'!B2230)","v":""},2229,{"$f":"IF('SD Data Paste'!E2230=\"\",\"\",'SD Data Paste'!E2230)","v":""},{"$f":"IF('SD Data Paste'!G2230=\"\",\"\",'SD Data Paste'!G2230)","v":""}]
[{"$f":"IF(Table1[विद्यार्थी का नाम]=\"\",\"\",ROWS($A$1:A2230))","v":""},{"$f":"IF('SD Data Paste'!A2231=\"\",\"\",'SD Data Paste'!A2231)","v":""},{"$f":"IF('SD Data Paste'!B2231=\"\",\"\",'SD Data Paste'!B2231)","v":""},2230,{"$f":"IF('SD Data Paste'!E2231=\"\",\"\",'SD Data Paste'!E2231)","v":""},{"$f":"IF('SD Data Paste'!G2231=\"\",\"\",'SD Data Paste'!G2231)","v":""}]
[{"$f":"IF(Table1[विद्यार्थी का नाम]=\"\",\"\",ROWS($A$1:A2231))","v":""},{"$f":"IF('SD Data Paste'!A2232=\"\",\"\",'SD Data Paste'!A2232)","v":""},{"$f":"IF('SD Data Paste'!B2232=\"\",\"\",'SD Data Paste'!B2232)","v":""},2231,{"$f":"IF('SD Data Paste'!E2232=\"\",\"\",'SD Data Paste'!E2232)","v":""},{"$f":"IF('SD Data Paste'!G2232=\"\",\"\",'SD Data Paste'!G2232)","v":""}]
[{"$f":"IF(Table1[विद्यार्थी का नाम]=\"\",\"\",ROWS($A$1:A2232))","v":""},{"$f":"IF('SD Data Paste'!A2233=\"\",\"\",'SD Data Paste'!A2233)","v":""},{"$f":"IF('SD Data Paste'!B2233=\"\",\"\",'SD Data Paste'!B2233)","v":""},2232,{"$f":"IF('SD Data Paste'!E2233=\"\",\"\",'SD Data Paste'!E2233)","v":""},{"$f":"IF('SD Data Paste'!G2233=\"\",\"\",'SD Data Paste'!G2233)","v":""}]
[{"$f":"IF(Table1[विद्यार्थी का नाम]=\"\",\"\",ROWS($A$1:A2233))","v":""},{"$f":"IF('SD Data Paste'!A2234=\"\",\"\",'SD Data Paste'!A2234)","v":""},{"$f":"IF('SD Data Paste'!B2234=\"\",\"\",'SD Data Paste'!B2234)","v":""},2233,{"$f":"IF('SD Data Paste'!E2234=\"\",\"\",'SD Data Paste'!E2234)","v":""},{"$f":"IF('SD Data Paste'!G2234=\"\",\"\",'SD Data Paste'!G2234)","v":""}]
[{"$f":"IF(Table1[विद्यार्थी का नाम]=\"\",\"\",ROWS($A$1:A2234))","v":""},{"$f":"IF('SD Data Paste'!A2235=\"\",\"\",'SD Data Paste'!A2235)","v":""},{"$f":"IF('SD Data Paste'!B2235=\"\",\"\",'SD Data Paste'!B2235)","v":""},2234,{"$f":"IF('SD Data Paste'!E2235=\"\",\"\",'SD Data Paste'!E2235)","v":""},{"$f":"IF('SD Data Paste'!G2235=\"\",\"\",'SD Data Paste'!G2235)","v":""}]
[{"$f":"IF(Table1[विद्यार्थी का नाम]=\"\",\"\",ROWS($A$1:A2235))","v":""},{"$f":"IF('SD Data Paste'!A2236=\"\",\"\",'SD Data Paste'!A2236)","v":""},{"$f":"IF('SD Data Paste'!B2236=\"\",\"\",'SD Data Paste'!B2236)","v":""},2235,{"$f":"IF('SD Data Paste'!E2236=\"\",\"\",'SD Data Paste'!E2236)","v":""},{"$f":"IF('SD Data Paste'!G2236=\"\",\"\",'SD Data Paste'!G2236)","v":""}]
[{"$f":"IF(Table1[विद्यार्थी का नाम]=\"\",\"\",ROWS($A$1:A2236))","v":""},{"$f":"IF('SD Data Paste'!A2237=\"\",\"\",'SD Data Paste'!A2237)","v":""},{"$f":"IF('SD Data Paste'!B2237=\"\",\"\",'SD Data Paste'!B2237)","v":""},2236,{"$f":"IF('SD Data Paste'!E2237=\"\",\"\",'SD Data Paste'!E2237)","v":""},{"$f":"IF('SD Data Paste'!G2237=\"\",\"\",'SD Data Paste'!G2237)","v":""}]
[{"$f":"IF(Table1[विद्यार्थी का नाम]=\"\",\"\",ROWS($A$1:A2237))","v":""},{"$f":"IF('SD Data Paste'!A2238=\"\",\"\",'SD Data Paste'!A2238)","v":""},{"$f":"IF('SD Data Paste'!B2238=\"\",\"\",'SD Data Paste'!B2238)","v":""},2237,{"$f":"IF('SD Data Paste'!E2238=\"\",\"\",'SD Data Paste'!E2238)","v":""},{"$f":"IF('SD Data Paste'!G2238=\"\",\"\",'SD Data Paste'!G2238)","v":""}]

{"sheet":"Score List 1 TO 8","index":3,"n_rows":196,"n_cols":12,"rows_kept":196,"merged":[[0,0,0,8],[1,0,1,8],[2,0,2,4],[2,7,2,8]]}
["अर्द्धवार्षिक परीक्षा / मिड टर्म मूल्यांकन सत्र 2021-22 ",{"$nulls":9},"कक्षा","सेक्शन"]
[{"$f":"'Student Data'!A1","v":"GOVT. SENIOR SECONDARY SCHOOL DEOGARH (222753)"},{"$nulls":9},3,"A"]
[{"$f":"\"कक्षा :: \"&K2&\" - \"&L2","v":"कक्षा :: 3 - A"},{"$nulls":5},"विषय ::"]
["क्र.सं.","कक्षा","सेक्शन","रोल नं.","विद्यार्थी का नाम",{"$f":"IF(K2<6,\"लिखित परीक्षा पेन पेपर टेस्ट 30 अंक\",\"लिखित परीक्षा पेन पेपर टेस्ट 42 अंक\")","v":"लिखित परीक्षा पेन पेपर टेस्ट 30 अंक"},"आंतरिक मूल्यांकन आधारित (कार्यपुस्तिका पूर्णता + वर्कशीट पोर्टफोलियो + क्विज आधारित)\n12 अंक",{"$f":"IF(K2<6,\"मौखिक परीक्षा 18 अंक\",\"मौखिक परीक्षा 06 अंक\")","v":"मौखिक परीक्षा 18 अंक"},"कुल योग\n60 अंक"]
[{"$f":"IF(E5=\"\",\"\",ROWS($A$1:A1))","v":1},3,"A",42,"AYSHA BANU"]
[{"$f":"IF(E6=\"\",\"\",ROWS($A$1:A2))","v":2},3,"A",43,"Basanti Mali"]
[{"$f":"IF(E7=\"\",\"\",ROWS($A$1:A3))","v":3},3,"A",44,"Bhawna Mali"]
[{"$f":"IF(E8=\"\",\"\",ROWS($A$1:A4))","v":4},3,"A",45,"Bhumika Mali"]
[{"$f":"IF(E9=\"\",\"\",ROWS($A$1:A5))","v":5},3,"A",46,"Bhupendra Mali"]
[{"$f":"IF(E10=\"\",\"\",ROWS($A$1:A6))","v":6},3,"A",47,"Deepak Mali"]
[{"$f":"IF(E11=\"\",\"\",ROWS($A$1:A7))","v":7},3,"A",48,"DIMPLE MALI"]
[{"$f":"IF(E12=\"\",\"\",ROWS($A$1:A8))","v":8},3,"A",49,"Dungar Mali"]
[{"$f":"IF(E13=\"\",\"\",ROWS($A$1:A9))","v":9},3,"A",50,"Himmat Mali"]
[{"$f":"IF(E14=\"\",\"\",ROWS($A$1:A10))","v":10},3,"A",51,"Jyoti Sen"]
[{"$f":"IF(E15=\"\",\"\",ROWS($A$1:A11))","v":11},3,"A",52,"KHUSHI MALI"]
[{"$f":"IF(E16=\"\",\"\",ROWS($A$1:A12))","v":12},3,"A",53,"KIRAN KUMARI"]
[{"$f":"IF(E17=\"\",\"\",ROWS($A$1:A13))","v":13},3,"A",54,"Lakhan Lohar"]
[{"$f":"IF(E18=\"\",\"\",ROWS($A$1:A14))","v":14},3,"A",55,"Minakshi Mali"]
[{"$f":"IF(E19=\"\",\"\",ROWS($A$1:A15))","v":15},3,"A",56,"Mohd Ashzad Raza"]
[{"$f":"IF(E20=\"\",\"\",ROWS($A$1:A16))","v":16},3,"A",57,"Mukesh Regar"]
[{"$f":"IF(E21=\"\",\"\",ROWS($A$1:A17))","v":17},3,"A",58,"Nilesh Mali"]
[{"$f":"IF(E22=\"\",\"\",ROWS($A$1:A18))","v":18},3,"A",59,"Nilesh Mali"]
[{"$f":"IF(E23=\"\",\"\",ROWS($A$1:A19))","v":19},3,"A",60,"Palak Mali"]
[{"$f":"IF(E24=\"\",\"\",ROWS($A$1:A20))","v":20},3,"A",61,"Phoola Lohar"]
[{"$f":"IF(E25=\"\",\"\",ROWS($A$1:A21))","v":21},3,"A",62,"Priyanka Solanki"]
[{"$f":"IF(E26=\"\",\"\",ROWS($A$1:A22))","v":22},3,"A",63,"Tejal Mali"]
[{"$f":"IF(E27=\"\",\"\",ROWS($A$1:A23))","v":23},3,"A",64,"Viraj Sen"]
[{"$f":"IF(E28=\"\",\"\",ROWS($A$1:A24))","v":24},3,"A",65,"Vishal Mali"]
[{"$f":"IF(E29=\"\",\"\",ROWS($A$1:A25))","v":25},3,"A",66,"Yashwant Kumar Vaishnav"]
[{"$f":"IF(E30=\"\",\"\",ROWS($A$1:A26))","v":""}]
[{"$f":"IF(E31=\"\",\"\",ROWS($A$1:A27))","v":""}]
[{"$f":"IF(E32=\"\",\"\",ROWS($A$1:A28))","v":""}]
[{"$f":"IF(E33=\"\",\"\",ROWS($A$1:A29))","v":""}]
[{"$f":"IF(E34=\"\",\"\",ROWS($A$1:A30))","v":""}]
[{"$f":"IF(E35=\"\",\"\",ROWS($A$1:A31))","v":""}]
[{"$f":"IF(E36=\"\",\"\",ROWS($A$1:A32))","v":""}]
[{"$f":"IF(E37=\"\",\"\",ROWS($A$1:A33))","v":""}]
[{"$f":"IF(E38=\"\",\"\",ROWS($A$1:A34))","v":""}]
[{"$f":"IF(E39=\"\",\"\",ROWS($A$1:A35))","v":""}]
[{"$f":"IF(E40=\"\",\"\",ROWS($A$1:A36))","v":""}]
[{"$f":"IF(E41=\"\",\"\",ROWS($A$1:A37))","v":""}]
[{"$f":"IF(E42=\"\",\"\",ROWS($A$1:A38))","v":""}]
[{"$f":"IF(E43=\"\",\"\",ROWS($A$1:A39))","v":""}]
[{"$f":"IF(E44=\"\",\"\",ROWS($A$1:A40))","v":""}]
[{"$f":"IF(E45=\"\",\"\",ROWS($A$1:A41))","v":""}]
[{"$f":"IF(E46=\"\",\"\",ROWS($A$1:A42))","v":""}]
[{"$f":"IF(E47=\"\",\"\",ROWS($A$1:A43))","v":""}]
[{"$f":"IF(E48=\"\",\"\",ROWS($A$1:A44))","v":""}]
[{"$f":"IF(E49=\"\",\"\",ROWS($A$1:A45))","v":""}]
[{"$f":"IF(E50=\"\",\"\",ROWS($A$1:A46))","v":""}]
[{"$f":"IF(E51=\"\",\"\",ROWS($A$1:A47))","v":""}]
[{"$f":"IF(E52=\"\",\"\",ROWS($A$1:A48))","v":""}]
[{"$f":"IF(E53=\"\",\"\",ROWS($A$1:A49))","v":""}]
[{"$f":"IF(E54=\"\",\"\",ROWS($A$1:A50))","v":""}]
[{"$f":"IF(E55=\"\",\"\",ROWS($A$1:A51))","v":""}]
[{"$f":"IF(E56=\"\",\"\",ROWS($A$1:A52))","v":""}]
[{"$f":"IF(E57=\"\",\"\",ROWS($A$1:A53))","v":""}]
[{"$f":"IF(E58=\"\",\"\",ROWS($A$1:A54))","v":""}]
[{"$f":"IF(E59=\"\",\"\",ROWS($A$1:A55))","v":""}]
[{"$f":"IF(E60=\"\",\"\",ROWS($A$1:A56))","v":""}]
[{"$f":"IF(E61=\"\",\"\",ROWS($A$1:A57))","v":""}]
[{"$f":"IF(E62=\"\",\"\",ROWS($A$1:A58))","v":""}]
[{"$f":"IF(E63=\"\",\"\",ROWS($A$1:A59))","v":""}]
[{"$f":"IF(E64=\"\",\"\",ROWS($A$1:A60))","v":""}]
[{"$f":"IF(E65=\"\",\"\",ROWS($A$1:A61))","v":""}]
[{"$f":"IF(E66=\"\",\"\",ROWS($A$1:A62))","v":""}]
[{"$f":"IF(E67=\"\",\"\",ROWS($A$1:A63))","v":""}]
[{"$f":"IF(E68=\"\",\"\",ROWS($A$1:A64))","v":""}]
[{"$f":"IF(E69=\"\",\"\",ROWS($A$1:A65))","v":""}]
[{"$f":"IF(E70=\"\",\"\",ROWS($A$1:A66))","v":""}]
[{"$f":"IF(E71=\"\",\"\",ROWS($A$1:A67))","v":""}]
[{"$f":"IF(E72=\"\",\"\",ROWS($A$1:A68))","v":""}]
[{"$f":"IF(E73=\"\",\"\",ROWS($A$1:A69))","v":""}]
[{"$f":"IF(E74=\"\",\"\",ROWS($A$1:A70))","v":""}]
[{"$f":"IF(E75=\"\",\"\",ROWS($A$1:A71))","v":""}]
[{"$f":"IF(E76=\"\",\"\",ROWS($A$1:A72))","v":""}]
[{"$f":"IF(E77=\"\",\"\",ROWS($A$1:A73))","v":""}]
[{"$f":"IF(E78=\"\",\"\",ROWS($A$1:A74))","v":""}]
[{"$f":"IF(E79=\"\",\"\",ROWS($A$1:A75))","v":""}]
[{"$f":"IF(E80=\"\",\"\",ROWS($A$1:A76))","v":""}]
[{"$f":"IF(E81=\"\",\"\",ROWS($A$1:A77))","v":""}]
[{"$f":"IF(E82=\"\",\"\",ROWS($A$1:A78))","v":""}]
[{"$f":"IF(E83=\"\",\"\",ROWS($A$1:A79))","v":""}]
[{"$f":"IF(E84=\"\",\"\",ROWS($A$1:A80))","v":""}]
[{"$f":"IF(E85=\"\",\"\",ROWS($A$1:A81))","v":""}]
[{"$f":"IF(E86=\"\",\"\",ROWS($A$1:A82))","v":""}]
[{"$f":"IF(E87=\"\",\"\",ROWS($A$1:A83))","v":""}]
[{"$f":"IF(E88=\"\",\"\",ROWS($A$1:A84))","v":""}]
[{"$f":"IF(E89=\"\",\"\",ROWS($A$1:A85))","v":""}]
[{"$f":"IF(E90=\"\",\"\",ROWS($A$1:A86))","v":""}]
[{"$f":"IF(E91=\"\",\"\",ROWS($A$1:A87))","v":""}]
[{"$f":"IF(E92=\"\",\"\",ROWS($A$1:A88))","v":""}]
[{"$f":"IF(E93=\"\",\"\",ROWS($A$1:A89))","v":""}]
[{"$f":"IF(E94=\"\",\"\",ROWS($A$1:A90))","v":""}]
[{"$f":"IF(E95=\"\",\"\",ROWS($A$1:A91))","v":""}]
[{"$f":"IF(E96=\"\",\"\",ROWS($A$1:A92))","v":""}]
[{"$f":"IF(E97=\"\",\"\",ROWS($A$1:A93))","v":""}]
[{"$f":"IF(E98=\"\",\"\",ROWS($A$1:A94))","v":""}]
[{"$f":"IF(E99=\"\",\"\",ROWS($A$1:A95))","v":""}]
[{"$f":"IF(E100=\"\",\"\",ROWS($A$1:A96))","v":""}]
[{"$f":"IF(E101=\"\",\"\",ROWS($A$1:A97))","v":""}]
[{"$f":"IF(E102=\"\",\"\",ROWS($A$1:A98))","v":""}]
[{"$f":"IF(E103=\"\",\"\",ROWS($A$1:A99))","v":""}]
[{"$f":"IF(E104=\"\",\"\",ROWS($A$1:A100))","v":""}]
[{"$f":"IF(E105=\"\",\"\",ROWS($A$1:A101))","v":""}]
[{"$f":"IF(E106=\"\",\"\",ROWS($A$1:A102))","v":""}]
[{"$f":"IF(E107=\"\",\"\",ROWS($A$1:A103))","v":""}]
[{"$f":"IF(E108=\"\",\"\",ROWS($A$1:A104))","v":""}]
[{"$f":"IF(E109=\"\",\"\",ROWS($A$1:A105))","v":""}]
[{"$f":"IF(E110=\"\",\"\",ROWS($A$1:A106))","v":""}]
[{"$f":"IF(E111=\"\",\"\",ROWS($A$1:A107))","v":""}]
[{"$f":"IF(E112=\"\",\"\",ROWS($A$1:A108))","v":""}]
[{"$f":"IF(E113=\"\",\"\",ROWS($A$1:A109))","v":""}]
[{"$f":"IF(E114=\"\",\"\",ROWS($A$1:A110))","v":""}]
[{"$f":"IF(E115=\"\",\"\",ROWS($A$1:A111))","v":""}]
[{"$f":"IF(E116=\"\",\"\",ROWS($A$1:A112))","v":""}]
[{"$f":"IF(E117=\"\",\"\",ROWS($A$1:A113))","v":""}]
[{"$f":"IF(E118=\"\",\"\",ROWS($A$1:A114))","v":""}]
[{"$f":"IF(E119=\"\",\"\",ROWS($A$1:A115))","v":""}]
[{"$f":"IF(E120=\"\",\"\",ROWS($A$1:A116))","v":""}]
[{"$f":"IF(E121=\"\",\"\",ROWS($A$1:A117))","v":""}]
[{"$f":"IF(E122=\"\",\"\",ROWS($A$1:A118))","v":""}]
[{"$f":"IF(E123=\"\",\"\",ROWS($A$1:A119))","v":""}]
[{"$f":"IF(E124=\"\",\"\",ROWS($A$1:A120))","v":""}]
[{"$f":"IF(E125=\"\",\"\",ROWS($A$1:A121))","v":""}]
[{"$f":"IF(E126=\"\",\"\",ROWS($A$1:A122))","v":""}]
[{"$f":"IF(E127=\"\",\"\",ROWS($A$1:A123))","v":""}]
[{"$f":"IF(E128=\"\",\"\",ROWS($A$1:A124))","v":""}]
[{"$f":"IF(E129=\"\",\"\",ROWS($A$1:A125))","v":""}]
[{"$f":"IF(E130=\"\",\"\",ROWS($A$1:A126))","v":""}]
[{"$f":"IF(E131=\"\",\"\",ROWS($A$1:A127))","v":""}]
[{"$f":"IF(E132=\"\",\"\",ROWS($A$1:A128))","v":""}]
[{"$f":"IF(E133=\"\",\"\",ROWS($A$1:A129))","v":""}]
[{"$f":"IF(E134=\"\",\"\",ROWS($A$1:A130))","v":""}]
[{"$f":"IF(E135=\"\",\"\",ROWS($A$1:A131))","v":""}]
[{"$f":"IF(E136=\"\",\"\",ROWS($A$1:A132))","v":""}]
[{"$f":"IF(E137=\"\",\"\",ROWS($A$1:A133))","v":""}]
[{"$f":"IF(E138=\"\",\"\",ROWS($A$1:A134))","v":""}]
[{"$f":"IF(E139=\"\",\"\",ROWS($A$1:A135))","v":""}]
[{"$f":"IF(E140=\"\",\"\",ROWS($A$1:A136))","v":""}]
[{"$f":"IF(E141=\"\",\"\",ROWS($A$1:A137))","v":""}]
[{"$f":"IF(E142=\"\",\"\",ROWS($A$1:A138))","v":""}]
[{"$f":"IF(E143=\"\",\"\",ROWS($A$1:A139))","v":""}]
[{"$f":"IF(E144=\"\",\"\",ROWS($A$1:A140))","v":""}]
[{"$f":"IF(E145=\"\",\"\",ROWS($A$1:A141))","v":""}]
[{"$f":"IF(E146=\"\",\"\",ROWS($A$1:A142))","v":""}]
[{"$f":"IF(E147=\"\",\"\",ROWS($A$1:A143))","v":""}]
[{"$f":"IF(E148=\"\",\"\",ROWS($A$1:A144))","v":""}]
[{"$f":"IF(E149=\"\",\"\",ROWS($A$1:A145))","v":""}]
[{"$f":"IF(E150=\"\",\"\",ROWS($A$1:A146))","v":""}]
[{"$f":"IF(E151=\"\",\"\",ROWS($A$1:A147))","v":""}]
[{"$f":"IF(E152=\"\",\"\",ROWS($A$1:A148))","v":""}]
[{"$f":"IF(E153=\"\",\"\",ROWS($A$1:A149))","v":""}]
[{"$f":"IF(E154=\"\",\"\",ROWS($A$1:A150))","v":""}]
[{"$f":"IF(E155=\"\",\"\",ROWS($A$1:A151))","v":""}]
[{"$f":"IF(E156=\"\",\"\",ROWS($A$1:A152))","v":""}]
[{"$f":"IF(E157=\"\",\"\",ROWS($A$1:A153))","v":""}]
[{"$f":"IF(E158=\"\",\"\",ROWS($A$1:A154))","v":""}]
[{"$f":"IF(E159=\"\",\"\",ROWS($A$1:A155))","v":""}]
[{"$f":"IF(E160=\"\",\"\",ROWS($A$1:A156))","v":""}]
[{"$f":"IF(E161=\"\",\"\",ROWS($A$1:A157))","v":""}]
[{"$f":"IF(E162=\"\",\"\",ROWS($A$1:A158))","v":""}]
[{"$f":"IF(E163=\"\",\"\",ROWS($A$1:A159))","v":""}]
[{"$f":"IF(E164=\"\",\"\",ROWS($A$1:A160))","v":""}]
[{"$f":"IF(E165=\"\",\"\",ROWS($A$1:A161))","v":""}]
[{"$f":"IF(E166=\"\",\"\",ROWS($A$1:A162))","v":""}]
[{"$f":"IF(E167=\"\",\"\",ROWS($A$1:A163))","v":""}]
[{"$f":"IF(E168=\"\",\"\",ROWS($A$1:A164))","v":""}]
[{"$f":"IF(E169=\"\",\"\",ROWS($A$1:A165))","v":""}]
[{"$f":"IF(E170=\"\",\"\",ROWS($A$1:A166))","v":""}]
[{"$f":"IF(E171=\"\",\"\",ROWS($A$1:A167))","v":""}]
[{"$f":"IF(E172=\"\",\"\",ROWS($A$1:A168))","v":""}]
[{"$f":"IF(E173=\"\",\"\",ROWS($A$1:A169))","v":""}]
[{"$f":"IF(E174=\"\",\"\",ROWS($A$1:A170))","v":""}]
[{"$f":"IF(E175=\"\",\"\",ROWS($A$1:A171))","v":""}]
[{"$f":"IF(E176=\"\",\"\",ROWS($A$1:A172))","v":""}]
[{"$f":"IF(E177=\"\",\"\",ROWS($A$1:A173))","v":""}]
[{"$f":"IF(E178=\"\",\"\",ROWS($A$1:A174))","v":""}]
[{"$f":"IF(E179=\"\",\"\",ROWS($A$1:A175))","v":""}]
[{"$f":"IF(E180=\"\",\"\",ROWS($A$1:A176))","v":""}]
[{"$f":"IF(E181=\"\",\"\",ROWS($A$1:A177))","v":""}]
[{"$f":"IF(E182=\"\",\"\",ROWS($A$1:A178))","v":""}]
[{"$f":"IF(E183=\"\",\"\",ROWS($A$1:A179))","v":""}]
[{"$f":"IF(E184=\"\",\"\",ROWS($A$1:A180))","v":""}]
[{"$f":"IF(E185=\"\",\"\",ROWS($A$1:A181))","v":""}]
[{"$f":"IF(E186=\"\",\"\",ROWS($A$1:A182))","v":""}]
[{"$f":"IF(E187=\"\",\"\",ROWS($A$1:A183))","v":""}]
[{"$f":"IF(E188=\"\",\"\",ROWS($A$1:A184))","v":""}]
[{"$f":"IF(E189=\"\",\"\",ROWS($A$1:A185))","v":""}]
[{"$f":"IF(E190=\"\",\"\",ROWS($A$1:A186))","v":""}]
[{"$f":"IF(E191=\"\",\"\",ROWS($A$1:A187))","v":""}]
[{"$f":"IF(E192=\"\",\"\",ROWS($A$1:A188))","v":""}]
[{"$f":"IF(E193=\"\",\"\",ROWS($A$1:A189))","v":""}]
[{"$f":"IF(E194=\"\",\"\",ROWS($A$1:A190))","v":""}]
[{"$f":"IF(E195=\"\",\"\",ROWS($A$1:A191))","v":""}]
[{"$f":"IF(E196=\"\",\"\",ROWS($A$1:A192))","v":""}]

{"sheet":"Score List 9 TO 10","index":4,"n_rows":196,"n_cols":11,"rows_kept":196,"merged":[[0,0,0,7],[1,0,1,7],[2,0,2,4],[2,6,2,7]]}
["अर्द्धवार्षिक परीक्षा / मिड टर्म मूल्यांकन सत्र 2021-22 ",{"$nulls":8},"कक्षा","सेक्शन"]
[{"$f":"'Student Data'!A1","v":"GOVT. SENIOR SECONDARY SCHOOL DEOGARH (222753)"},{"$nulls":8},10,"A"]
[{"$f":"\"कक्षा :: \"&J2&\" - \"&K2","v":"कक्षा :: 10 - A"},{"$nulls":4},"विषय ::"]
["क्र.सं.","कक्षा","सेक्शन","रोल नं.","विद्यार्थी का नाम","लिखित परीक्षा\n48 अंक","आंतरिक मूल्यांकन आधारित (वर्कशीट पोर्टफोलियो + क्विज आधारित)\n12 अंक","कुल योग\n60 अंक"]
[{"$f":"IF(E5=\"\",\"\",ROWS($A$1:A1))","v":1},10,"A",326,"ANUP KAHAR"]
[{"$f":"IF(E6=\"\",\"\",ROWS($A$1:A2))","v":2},10,"A",327,"Anurag Suman"]
[{"$f":"IF(E7=\"\",\"\",ROWS($A$1:A3))","v":3},10,"A",328,"ARJUN SINGH"]
[{"$f":"IF(E8=\"\",\"\",ROWS($A$1:A4))","v":4},10,"A",329,"BABLU KALAL"]
[{"$f":"IF(E9=\"\",\"\",ROWS($A$1:A5))","v":5},10,"A",330,"BAHADUR RAWAL"]
[{"$f":"IF(E10=\"\",\"\",ROWS($A$1:A6))","v":6},10,"A",331,"BHAIRU LAL RAYKA"]
[{"$f":"IF(E11=\"\",\"\",ROWS($A$1:A7))","v":7},10,"A",332,"BHARAT KUMAR"]
[{"$f":"IF(E12=\"\",\"\",ROWS($A$1:A8))","v":8},10,"A",333,"BHARAT KUMAR MALI"]
[{"$f":"IF(E13=\"\",\"\",ROWS($A$1:A9))","v":9},10,"A",334,"BHAVESH MEWARA"]
[{"$f":"IF(E14=\"\",\"\",ROWS($A$1:A10))","v":10},10,"A",335,"Bhavesh Mewara"]
[{"$f":"IF(E15=\"\",\"\",ROWS($A$1:A11))","v":11},10,"A",336,"Bhavesh Suthar"]
[{"$f":"IF(E16=\"\",\"\",ROWS($A$1:A12))","v":12},10,"A",337,"BHUPENDRA SINGH RAWAT"]
[{"$f":"IF(E17=\"\",\"\",ROWS($A$1:A13))","v":13},10,"A",338,"Chanderpal Singh"]
[{"$f":"IF(E18=\"\",\"\",ROWS($A$1:A14))","v":14},10,"A",339,"CHHOTU LAL GAWARIYA"]
[{"$f":"IF(E19=\"\",\"\",ROWS($A$1:A15))","v":15},10,"A",340,"Chitransh Deshantry"]
[{"$f":"IF(E20=\"\",\"\",ROWS($A$1:A16))","v":16},10,"A",341,"DAGAR SINGH"]
[{"$f":"IF(E21=\"\",\"\",ROWS($A$1:A17))","v":17},10,"A",342,"DALVEER SINGH"]
[{"$f":"IF(E22=\"\",\"\",ROWS($A$1:A18))","v":18},10,"A",343,"DAU SINGH"]
[{"$f":"IF(E23=\"\",\"\",ROWS($A$1:A19))","v":19},10,"A",344,"Deepak Kumar Mali"]
[{"$f":"IF(E24=\"\",\"\",ROWS($A$1:A20))","v":20},10,"A",345,"Deepanshu Regar"]
[{"$f":"IF(E25=\"\",\"\",ROWS($A$1:A21))","v":21},10,"A",346,"DEVENDRA GURJAR"]
[{"$f":"IF(E26=\"\",\"\",ROWS($A$1:A22))","v":22},10,"A",347,"DEVENDRA KUMAR KHATIK"]
[{"$f":"IF(E27=\"\",\"\",ROWS($A$1:A23))","v":23},10,"A",348,"DHARMESH KALAL"]
[{"$f":"IF(E28=\"\",\"\",ROWS($A$1:A24))","v":24},10,"A",349,"DHARMVEER NATH"]
[{"$f":"IF(E29=\"\",\"\",ROWS($A$1:A25))","v":25},10,"A",350,"DUNGAR SINGH"]
[{"$f":"IF(E30=\"\",\"\",ROWS($A$1:A26))","v":26},10,"A",351,"DUNGAR SINGH"]
[{"$f":"IF(E31=\"\",\"\",ROWS($A$1:A27))","v":27},10,"A",352,"GANPAT SINGH"]
[{"$f":"IF(E32=\"\",\"\",ROWS($A$1:A28))","v":28},10,"A",353,"GAURAV MALI"]
[{"$f":"IF(E33=\"\",\"\",ROWS($A$1:A29))","v":29},10,"A",354,"GIRIRAJ GAWARIYA"]
[{"$f":"IF(E34=\"\",\"\",ROWS($A$1:A30))","v":30},10,"A",355,"Gopal Lal Gurjar"]
[{"$f":"IF(E35=\"\",\"\",ROWS($A$1:A31))","v":31},10,"A",356,"GOVIND MALI"]
[{"$f":"IF(E36=\"\",\"\",ROWS($A$1:A32))","v":32},10,"A",357,"Govind Nath Yogi"]
[{"$f":"IF(E37=\"\",\"\",ROWS($A$1:A33))","v":33},10,"A",358,"HEMANT SINGH RAWAT"]
[{"$f":"IF(E38=\"\",\"\",ROWS($A$1:A34))","v":34},10,"A",359,"HEMENDRA"]
[{"$f":"IF(E39=\"\",\"\",ROWS($A$1:A35))","v":35},10,"A",360,"HEMENDRA SEN"]
[{"$f":"IF(E40=\"\",\"\",ROWS($A$1:A36))","v":36},10,"A",361,"Hemraj Regar"]
[{"$f":"IF(E41=\"\",\"\",ROWS($A$1:A37))","v":37},10,"A",362,"HINDRAJ SINGH PANWAR"]
[{"$f":"IF(E42=\"\",\"\",ROWS($A$1:A38))","v":38},10,"A",363,"JAGDISH CHANDRA"]
[{"$f":"IF(E43=\"\",\"\",ROWS($A$1:A39))","v":39},10,"A",364,"JASRAJ NAT"]
[{"$f":"IF(E44=\"\",\"\",ROWS($A$1:A40))","v":40},10,"A",365,"JEETU SINGH"]
[{"$f":"IF(E45=\"\",\"\",ROWS($A$1:A41))","v":41},10,"A",366,"KAILASH SINGH"]
[{"$f":"IF(E46=\"\",\"\",ROWS($A$1:A42))","v":42},10,"A",367,"KAMLESH REGAR"]
[{"$f":"IF(E47=\"\",\"\",ROWS($A$1:A43))","v":43},10,"A",368,"Kamlesh Guvariya"]
[{"$f":"IF(E48=\"\",\"\",ROWS($A$1:A44))","v":44},10,"A",369,"Kamlesh Khatik"]
[{"$f":"IF(E49=\"\",\"\",ROWS($A$1:A45))","v":45},10,"A",370,"KAMLESH SINGH"]
[{"$f":"IF(E50=\"\",\"\",ROWS($A$1:A46))","v":46},10,"A",371,"KARAN GAWARIYA"]
[{"$f":"IF(E51=\"\",\"\",ROWS($A$1:A47))","v":47},10,"A",372,"KISHAN JOSHI"]
[{"$f":"IF(E52=\"\",\"\",ROWS($A$1:A48))","v":48},10,"A",373,"KISHAN LAL REGAR"]
[{"$f":"IF(E53=\"\",\"\",ROWS($A$1:A49))","v":49},10,"A",374,"KISHOR KAHAR"]
[{"$f":"IF(E54=\"\",\"\",ROWS($A$1:A50))","v":50},10,"A",375,"KISHOR NATH"]
[{"$f":"IF(E55=\"\",\"\",ROWS($A$1:A51))","v":51},10,"A",376,"KISHOR SINGH"]
[{"$f":"IF(E56=\"\",\"\",ROWS($A$1:A52))","v":52},10,"A",377,"Lavish Jeengar"]
[{"$f":"IF(E57=\"\",\"\",ROWS($A$1:A53))","v":53},10,"A",378,"LOKESH MALI"]
[{"$f":"IF(E58=\"\",\"\",ROWS($A$1:A54))","v":""}]
[{"$f":"IF(E59=\"\",\"\",ROWS($A$1:A55))","v":""}]
[{"$f":"IF(E60=\"\",\"\",ROWS($A$1:A56))","v":""}]
[{"$f":"IF(E61=\"\",\"\",ROWS($A$1:A57))","v":""}]
[{"$f":"IF(E62=\"\",\"\",ROWS($A$1:A58))","v":""}]
[{"$f":"IF(E63=\"\",\"\",ROWS($A$1:A59))","v":""}]
[{"$f":"IF(E64=\"\",\"\",ROWS($A$1:A60))","v":""}]
[{"$f":"IF(E65=\"\",\"\",ROWS($A$1:A61))","v":""}]
[{"$f":"IF(E66=\"\",\"\",ROWS($A$1:A62))","v":""}]
[{"$f":"IF(E67=\"\",\"\",ROWS($A$1:A63))","v":""}]
[{"$f":"IF(E68=\"\",\"\",ROWS($A$1:A64))","v":""}]
[{"$f":"IF(E69=\"\",\"\",ROWS($A$1:A65))","v":""}]
[{"$f":"IF(E70=\"\",\"\",ROWS($A$1:A66))","v":""}]
[{"$f":"IF(E71=\"\",\"\",ROWS($A$1:A67))","v":""}]
[{"$f":"IF(E72=\"\",\"\",ROWS($A$1:A68))","v":""}]
[{"$f":"IF(E73=\"\",\"\",ROWS($A$1:A69))","v":""}]
[{"$f":"IF(E74=\"\",\"\",ROWS($A$1:A70))","v":""}]
[{"$f":"IF(E75=\"\",\"\",ROWS($A$1:A71))","v":""}]
[{"$f":"IF(E76=\"\",\"\",ROWS($A$1:A72))","v":""}]
[{"$f":"IF(E77=\"\",\"\",ROWS($A$1:A73))","v":""}]
[{"$f":"IF(E78=\"\",\"\",ROWS($A$1:A74))","v":""}]
[{"$f":"IF(E79=\"\",\"\",ROWS($A$1:A75))","v":""}]
[{"$f":"IF(E80=\"\",\"\",ROWS($A$1:A76))","v":""}]
[{"$f":"IF(E81=\"\",\"\",ROWS($A$1:A77))","v":""}]
[{"$f":"IF(E82=\"\",\"\",ROWS($A$1:A78))","v":""}]
[{"$f":"IF(E83=\"\",\"\",ROWS($A$1:A79))","v":""}]
[{"$f":"IF(E84=\"\",\"\",ROWS($A$1:A80))","v":""}]
[{"$f":"IF(E85=\"\",\"\",ROWS($A$1:A81))","v":""}]
[{"$f":"IF(E86=\"\",\"\",ROWS($A$1:A82))","v":""}]
[{"$f":"IF(E87=\"\",\"\",ROWS($A$1:A83))","v":""}]
[{"$f":"IF(E88=\"\",\"\",ROWS($A$1:A84))","v":""}]
[{"$f":"IF(E89=\"\",\"\",ROWS($A$1:A85))","v":""}]
[{"$f":"IF(E90=\"\",\"\",ROWS($A$1:A86))","v":""}]
[{"$f":"IF(E91=\"\",\"\",ROWS($A$1:A87))","v":""}]
[{"$f":"IF(E92=\"\",\"\",ROWS($A$1:A88))","v":""}]
[{"$f":"IF(E93=\"\",\"\",ROWS($A$1:A89))","v":""}]
[{"$f":"IF(E94=\"\",\"\",ROWS($A$1:A90))","v":""}]
[{"$f":"IF(E95=\"\",\"\",ROWS($A$1:A91))","v":""}]
[{"$f":"IF(E96=\"\",\"\",ROWS($A$1:A92))","v":""}]
[{"$f":"IF(E97=\"\",\"\",ROWS($A$1:A93))","v":""}]
[{"$f":"IF(E98=\"\",\"\",ROWS($A$1:A94))","v":""}]
[{"$f":"IF(E99=\"\",\"\",ROWS($A$1:A95))","v":""}]
[{"$f":"IF(E100=\"\",\"\",ROWS($A$1:A96))","v":""}]
[{"$f":"IF(E101=\"\",\"\",ROWS($A$1:A97))","v":""}]
[{"$f":"IF(E102=\"\",\"\",ROWS($A$1:A98))","v":""}]
[{"$f":"IF(E103=\"\",\"\",ROWS($A$1:A99))","v":""}]
[{"$f":"IF(E104=\"\",\"\",ROWS($A$1:A100))","v":""}]
[{"$f":"IF(E105=\"\",\"\",ROWS($A$1:A101))","v":""}]
[{"$f":"IF(E106=\"\",\"\",ROWS($A$1:A102))","v":""}]
[{"$f":"IF(E107=\"\",\"\",ROWS($A$1:A103))","v":""}]
[{"$f":"IF(E108=\"\",\"\",ROWS($A$1:A104))","v":""}]
[{"$f":"IF(E109=\"\",\"\",ROWS($A$1:A105))","v":""}]
[{"$f":"IF(E110=\"\",\"\",ROWS($A$1:A106))","v":""}]
[{"$f":"IF(E111=\"\",\"\",ROWS($A$1:A107))","v":""}]
[{"$f":"IF(E112=\"\",\"\",ROWS($A$1:A108))","v":""}]
[{"$f":"IF(E113=\"\",\"\",ROWS($A$1:A109))","v":""}]
[{"$f":"IF(E114=\"\",\"\",ROWS($A$1:A110))","v":""}]
[{"$f":"IF(E115=\"\",\"\",ROWS($A$1:A111))","v":""}]
[{"$f":"IF(E116=\"\",\"\",ROWS($A$1:A112))","v":""}]
[{"$f":"IF(E117=\"\",\"\",ROWS($A$1:A113))","v":""}]
[{"$f":"IF(E118=\"\",\"\",ROWS($A$1:A114))","v":""}]
[{"$f":"IF(E119=\"\",\"\",ROWS($A$1:A115))","v":""}]
[{"$f":"IF(E120=\"\",\"\",ROWS($A$1:A116))","v":""}]
[{"$f":"IF(E121=\"\",\"\",ROWS($A$1:A117))","v":""}]
[{"$f":"IF(E122=\"\",\"\",ROWS($A$1:A118))","v":""}]
[{"$f":"IF(E123=\"\",\"\",ROWS($A$1:A119))","v":""}]
[{"$f":"IF(E124=\"\",\"\",ROWS($A$1:A120))","v":""}]
[{"$f":"IF(E125=\"\",\"\",ROWS($A$1:A121))","v":""}]
[{"$f":"IF(E126=\"\",\"\",ROWS($A$1:A122))","v":""}]
[{"$f":"IF(E127=\"\",\"\",ROWS($A$1:A123))","v":""}]
[{"$f":"IF(E128=\"\",\"\",ROWS($A$1:A124))","v":""}]
[{"$f":"IF(E129=\"\",\"\",ROWS($A$1:A125))","v":""}]
[{"$f":"IF(E130=\"\",\"\",ROWS($A$1:A126))","v":""}]
[{"$f":"IF(E131=\"\",\"\",ROWS($A$1:A127))","v":""}]
[{"$f":"IF(E132=\"\",\"\",ROWS($A$1:A128))","v":""}]
[{"$f":"IF(E133=\"\",\"\",ROWS($A$1:A129))","v":""}]
[{"$f":"IF(E134=\"\",\"\",ROWS($A$1:A130))","v":""}]
[{"$f":"IF(E135=\"\",\"\",ROWS($A$1:A131))","v":""}]
[{"$f":"IF(E136=\"\",\"\",ROWS($A$1:A132))","v":""}]
[{"$f":"IF(E137=\"\",\"\",ROWS($A$1:A133))","v":""}]
[{"$f":"IF(E138=\"\",\"\",ROWS($A$1:A134))","v":""}]
[{"$f":"IF(E139=\"\",\"\",ROWS($A$1:A135))","v":""}]
[{"$f":"IF(E140=\"\",\"\",ROWS($A$1:A136))","v":""}]
[{"$f":"IF(E141=\"\",\"\",ROWS($A$1:A137))","v":""}]
[{"$f":"IF(E142=\"\",\"\",ROWS($A$1:A138))","v":""}]
[{"$f":"IF(E143=\"\",\"\",ROWS($A$1:A139))","v":""}]
[{"$f":"IF(E144=\"\",\"\",ROWS($A$1:A140))","v":""}]
[{"$f":"IF(E145=\"\",\"\",ROWS($A$1:A141))","v":""}]
[{"$f":"IF(E146=\"\",\"\",ROWS($A$1:A142))","v":""}]
[{"$f":"IF(E147=\"\",\"\",ROWS($A$1:A143))","v":""}]
[{"$f":"IF(E148=\"\",\"\",ROWS($A$1:A144))","v":""}]
[{"$f":"IF(E149=\"\",\"\",ROWS($A$1:A145))","v":""}]
[{"$f":"IF(E150=\"\",\"\",ROWS($A$1:A146))","v":""}]
[{"$f":"IF(E151=\"\",\"\",ROWS($A$1:A147))","v":""}]
[{"$f":"IF(E152=\"\",\"\",ROWS($A$1:A148))","v":""}]
[{"$f":"IF(E153=\"\",\"\",ROWS($A$1:A149))","v":""}]
[{"$f":"IF(E154=\"\",\"\",ROWS($A$1:A150))","v":""}]
[{"$f":"IF(E155=\"\",\"\",ROWS($A$1:A151))","v":""}]
[{"$f":"IF(E156=\"\",\"\",ROWS($A$1:A152))","v":""}]
[{"$f":"IF(E157=\"\",\"\",ROWS($A$1:A153))","v":""}]
[{"$f":"IF(E158=\"\",\"\",ROWS($A$1:A154))","v":""}]
[{"$f":"IF(E159=\"\",\"\",ROWS($A$1:A155))","v":""}]
[{"$f":"IF(E160=\"\",\"\",ROWS($A$1:A156))","v":""}]
[{"$f":"IF(E161=\"\",\"\",ROWS($A$1:A157))","v":""}]
[{"$f":"IF(E162=\"\",\"\",ROWS($A$1:A158))","v":""}]
[{"$f":"IF(E163=\"\",\"\",ROWS($A$1:A159))","v":""}]
[{"$f":"IF(E164=\"\",\"\",ROWS($A$1:A160))","v":""}]
[{"$f":"IF(E165=\"\",\"\",ROWS($A$1:A161))","v":""}]
[{"$f":"IF(E166=\"\",\"\",ROWS($A$1:A162))","v":""}]
[{"$f":"IF(E167=\"\",\"\",ROWS($A$1:A163))","v":""}]
[{"$f":"IF(E168=\"\",\"\",ROWS($A$1:A164))","v":""}]
[{"$f":"IF(E169=\"\",\"\",ROWS($A$1:A165))","v":""}]
[{"$f":"IF(E170=\"\",\"\",ROWS($A$1:A166))","v":""}]
[{"$f":"IF(E171=\"\",\"\",ROWS($A$1:A167))","v":""}]
[{"$f":"IF(E172=\"\",\"\",ROWS($A$1:A168))","v":""}]
[{"$f":"IF(E173=\"\",\"\",ROWS($A$1:A169))","v":""}]
[{"$f":"IF(E174=\"\",\"\",ROWS($A$1:A170))","v":""}]
[{"$f":"IF(E175=\"\",\"\",ROWS($A$1:A171))","v":""}]
[{"$f":"IF(E176=\"\",\"\",ROWS($A$1:A172))","v":""}]
[{"$f":"IF(E177=\"\",\"\",ROWS($A$1:A173))","v":""}]
[{"$f":"IF(E178=\"\",\"\",ROWS($A$1:A174))","v":""}]
[{"$f":"IF(E179=\"\",\"\",ROWS($A$1:A175))","v":""}]
[{"$f":"IF(E180=\"\",\"\",ROWS($A$1:A176))","v":""}]
[{"$f":"IF(E181=\"\",\"\",ROWS($A$1:A177))","v":""}]
[{"$f":"IF(E182=\"\",\"\",ROWS($A$1:A178))","v":""}]
[{"$f":"IF(E183=\"\",\"\",ROWS($A$1:A179))","v":""}]
[{"$f":"IF(E184=\"\",\"\",ROWS($A$1:A180))","v":""}]
[{"$f":"IF(E185=\"\",\"\",ROWS($A$1:A181))","v":""}]
[{"$f":"IF(E186=\"\",\"\",ROWS($A$1:A182))","v":""}]
[{"$f":"IF(E187=\"\",\"\",ROWS($A$1:A183))","v":""}]
[{"$f":"IF(E188=\"\",\"\",ROWS($A$1:A184))","v":""}]
[{"$f":"IF(E189=\"\",\"\",ROWS($A$1:A185))","v":""}]
[{"$f":"IF(E190=\"\",\"\",ROWS($A$1:A186))","v":""}]
[{"$f":"IF(E191=\"\",\"\",ROWS($A$1:A187))","v":""}]
[{"$f":"IF(E192=\"\",\"\",ROWS($A$1:A188))","v":""}]
[{"$f":"IF(E193=\"\",\"\",ROWS($A$1:A189))","v":""}]
[{"$f":"IF(E194=\"\",\"\",ROWS($A$1:A190))","v":""}]
[{"$f":"IF(E195=\"\",\"\",ROWS($A$1:A191))","v":""}]
[{"$f":"IF(E196=\"\",\"\",ROWS($A$1:A192))","v":""}]

{"sheet":"Score List 11 TO 12","index":5,"n_rows":196,"n_cols":12,"rows_kept":196,"merged":[[0,0,0,8],[1,0,1,8],[2,0,2,4],[2,7,2,8]]}
["अर्द्धवार्षिक परीक्षा / मिड टर्म मूल्यांकन सत्र 2021-22 ",{"$nulls":9},"कक्षा","सेक्शन"]
[{"$f":"'Student Data'!A1","v":"GOVT. SENIOR SECONDARY SCHOOL DEOGARH (222753)"},{"$nulls":9},12,"B"]
[{"$f":"\"कक्षा :: \"&K2&\" - \"&L2","v":"कक्षा :: 12 - B"},{"$nulls":5},"विषय ::"]
["क्र.सं.","कक्षा","सेक्शन","रोल नं.","विद्यार्थी का नाम","लिखित परीक्षा\nNon-Practical Subjects\n48 अंक\nPractical subjects\n34 अंक","आंतरिक मूल्यांकन\nNon-Practical Subjects\n12 अंक\nPractical subjects\n14 अंक","प्रायोगिक परीक्षा\n12 अंक","कुल योग\n60 अंक"]
[{"$f":"IF(E5=\"\",\"\",ROWS($A$1:A1))","v":1},12,"B",588,"MEWADA RAHUL UDAY LAL"]
[{"$f":"IF(E6=\"\",\"\",ROWS($A$1:A2))","v":""}]
[{"$f":"IF(E7=\"\",\"\",ROWS($A$1:A3))","v":""}]
[{"$f":"IF(E8=\"\",\"\",ROWS($A$1:A4))","v":""}]
[{"$f":"IF(E9=\"\",\"\",ROWS($A$1:A5))","v":""}]
[{"$f":"IF(E10=\"\",\"\",ROWS($A$1:A6))","v":""}]
[{"$f":"IF(E11=\"\",\"\",ROWS($A$1:A7))","v":""}]
[{"$f":"IF(E12=\"\",\"\",ROWS($A$1:A8))","v":""}]
[{"$f":"IF(E13=\"\",\"\",ROWS($A$1:A9))","v":""}]
[{"$f":"IF(E14=\"\",\"\",ROWS($A$1:A10))","v":""}]
[{"$f":"IF(E15=\"\",\"\",ROWS($A$1:A11))","v":""}]
[{"$f":"IF(E16=\"\",\"\",ROWS($A$1:A12))","v":""}]
[{"$f":"IF(E17=\"\",\"\",ROWS($A$1:A13))","v":""}]
[{"$f":"IF(E18=\"\",\"\",ROWS($A$1:A14))","v":""}]
[{"$f":"IF(E19=\"\",\"\",ROWS($A$1:A15))","v":""}]
[{"$f":"IF(E20=\"\",\"\",ROWS($A$1:A16))","v":""}]
[{"$f":"IF(E21=\"\",\"\",ROWS($A$1:A17))","v":""}]
[{"$f":"IF(E22=\"\",\"\",ROWS($A$1:A18))","v":""}]
[{"$f":"IF(E23=\"\",\"\",ROWS($A$1:A19))","v":""}]
[{"$f":"IF(E24=\"\",\"\",ROWS($A$1:A20))","v":""}]
[{"$f":"IF(E25=\"\",\"\",ROWS($A$1:A21))","v":""}]
[{"$f":"IF(E26=\"\",\"\",ROWS($A$1:A22))","v":""}]
[{"$f":"IF(E27=\"\",\"\",ROWS($A$1:A23))","v":""}]
[{"$f":"IF(E28=\"\",\"\",ROWS($A$1:A24))","v":""}]
[{"$f":"IF(E29=\"\",\"\",ROWS($A$1:A25))","v":""}]
[{"$f":"IF(E30=\"\",\"\",ROWS($A$1:A26))","v":""}]
[{"$f":"IF(E31=\"\",\"\",ROWS($A$1:A27))","v":""}]
[{"$f":"IF(E32=\"\",\"\",ROWS($A$1:A28))","v":""}]
[{"$f":"IF(E33=\"\",\"\",ROWS($A$1:A29))","v":""}]
[{"$f":"IF(E34=\"\",\"\",ROWS($A$1:A30))","v":""}]
[{"$f":"IF(E35=\"\",\"\",ROWS($A$1:A31))","v":""}]
[{"$f":"IF(E36=\"\",\"\",ROWS($A$1:A32))","v":""}]
[{"$f":"IF(E37=\"\",\"\",ROWS($A$1:A33))","v":""}]
[{"$f":"IF(E38=\"\",\"\",ROWS($A$1:A34))","v":""}]
[{"$f":"IF(E39=\"\",\"\",ROWS($A$1:A35))","v":""}]
[{"$f":"IF(E40=\"\",\"\",ROWS($A$1:A36))","v":""}]
[{"$f":"IF(E41=\"\",\"\",ROWS($A$1:A37))","v":""}]
[{"$f":"IF(E42=\"\",\"\",ROWS($A$1:A38))","v":""}]
[{"$f":"IF(E43=\"\",\"\",ROWS($A$1:A39))","v":""}]
[{"$f":"IF(E44=\"\",\"\",ROWS($A$1:A40))","v":""}]
[{"$f":"IF(E45=\"\",\"\",ROWS($A$1:A41))","v":""}]
[{"$f":"IF(E46=\"\",\"\",ROWS($A$1:A42))","v":""}]
[{"$f":"IF(E47=\"\",\"\",ROWS($A$1:A43))","v":""}]
[{"$f":"IF(E48=\"\",\"\",ROWS($A$1:A44))","v":""}]
[{"$f":"IF(E49=\"\",\"\",ROWS($A$1:A45))","v":""}]
[{"$f":"IF(E50=\"\",\"\",ROWS($A$1:A46))","v":""}]
[{"$f":"IF(E51=\"\",\"\",ROWS($A$1:A47))","v":""}]
[{"$f":"IF(E52=\"\",\"\",ROWS($A$1:A48))","v":""}]
[{"$f":"IF(E53=\"\",\"\",ROWS($A$1:A49))","v":""}]
[{"$f":"IF(E54=\"\",\"\",ROWS($A$1:A50))","v":""}]
[{"$f":"IF(E55=\"\",\"\",ROWS($A$1:A51))","v":""}]
[{"$f":"IF(E56=\"\",\"\",ROWS($A$1:A52))","v":""}]
[{"$f":"IF(E57=\"\",\"\",ROWS($A$1:A53))","v":""}]
[{"$f":"IF(E58=\"\",\"\",ROWS($A$1:A54))","v":""}]
[{"$f":"IF(E59=\"\",\"\",ROWS($A$1:A55))","v":""}]
[{"$f":"IF(E60=\"\",\"\",ROWS($A$1:A56))","v":""}]
[{"$f":"IF(E61=\"\",\"\",ROWS($A$1:A57))","v":""}]
[{"$f":"IF(E62=\"\",\"\",ROWS($A$1:A58))","v":""}]
[{"$f":"IF(E63=\"\",\"\",ROWS($A$1:A59))","v":""}]
[{"$f":"IF(E64=\"\",\"\",ROWS($A$1:A60))","v":""}]
[{"$f":"IF(E65=\"\",\"\",ROWS($A$1:A61))","v":""}]
[{"$f":"IF(E66=\"\",\"\",ROWS($A$1:A62))","v":""}]
[{"$f":"IF(E67=\"\",\"\",ROWS($A$1:A63))","v":""}]
[{"$f":"IF(E68=\"\",\"\",ROWS($A$1:A64))","v":""}]
[{"$f":"IF(E69=\"\",\"\",ROWS($A$1:A65))","v":""}]
[{"$f":"IF(E70=\"\",\"\",ROWS($A$1:A66))","v":""}]
[{"$f":"IF(E71=\"\",\"\",ROWS($A$1:A67))","v":""}]
[{"$f":"IF(E72=\"\",\"\",ROWS($A$1:A68))","v":""}]
[{"$f":"IF(E73=\"\",\"\",ROWS($A$1:A69))","v":""}]
[{"$f":"IF(E74=\"\",\"\",ROWS($A$1:A70))","v":""}]
[{"$f":"IF(E75=\"\",\"\",ROWS($A$1:A71))","v":""}]
[{"$f":"IF(E76=\"\",\"\",ROWS($A$1:A72))","v":""}]
[{"$f":"IF(E77=\"\",\"\",ROWS($A$1:A73))","v":""}]
[{"$f":"IF(E78=\"\",\"\",ROWS($A$1:A74))","v":""}]
[{"$f":"IF(E79=\"\",\"\",ROWS($A$1:A75))","v":""}]
[{"$f":"IF(E80=\"\",\"\",ROWS($A$1:A76))","v":""}]
[{"$f":"IF(E81=\"\",\"\",ROWS($A$1:A77))","v":""}]
[{"$f":"IF(E82=\"\",\"\",ROWS($A$1:A78))","v":""}]
[{"$f":"IF(E83=\"\",\"\",ROWS($A$1:A79))","v":""}]
[{"$f":"IF(E84=\"\",\"\",ROWS($A$1:A80))","v":""}]
[{"$f":"IF(E85=\"\",\"\",ROWS($A$1:A81))","v":""}]
[{"$f":"IF(E86=\"\",\"\",ROWS($A$1:A82))","v":""}]
[{"$f":"IF(E87=\"\",\"\",ROWS($A$1:A83))","v":""}]
[{"$f":"IF(E88=\"\",\"\",ROWS($A$1:A84))","v":""}]
[{"$f":"IF(E89=\"\",\"\",ROWS($A$1:A85))","v":""}]
[{"$f":"IF(E90=\"\",\"\",ROWS($A$1:A86))","v":""}]
[{"$f":"IF(E91=\"\",\"\",ROWS($A$1:A87))","v":""}]
[{"$f":"IF(E92=\"\",\"\",ROWS($A$1:A88))","v":""}]
[{"$f":"IF(E93=\"\",\"\",ROWS($A$1:A89))","v":""}]
[{"$f":"IF(E94=\"\",\"\",ROWS($A$1:A90))","v":""}]
[{"$f":"IF(E95=\"\",\"\",ROWS($A$1:A91))","v":""}]
[{"$f":"IF(E96=\"\",\"\",ROWS($A$1:A92))","v":""}]
[{"$f":"IF(E97=\"\",\"\",ROWS($A$1:A93))","v":""}]
[{"$f":"IF(E98=\"\",\"\",ROWS($A$1:A94))","v":""}]
[{"$f":"IF(E99=\"\",\"\",ROWS($A$1:A95))","v":""}]
[{"$f":"IF(E100=\"\",\"\",ROWS($A$1:A96))","v":""}]
[{"$f":"IF(E101=\"\",\"\",ROWS($A$1:A97))","v":""}]
[{"$f":"IF(E102=\"\",\"\",ROWS($A$1:A98))","v":""}]
[{"$f":"IF(E103=\"\",\"\",ROWS($A$1:A99))","v":""}]
[{"$f":"IF(E104=\"\",\"\",ROWS($A$1:A100))","v":""}]
[{"$f":"IF(E105=\"\",\"\",ROWS($A$1:A101))","v":""}]
[{"$f":"IF(E106=\"\",\"\",ROWS($A$1:A102))","v":""}]
[{"$f":"IF(E107=\"\",\"\",ROWS($A$1:A103))","v":""}]
[{"$f":"IF(E108=\"\",\"\",ROWS($A$1:A104))","v":""}]
[{"$f":"IF(E109=\"\",\"\",ROWS($A$1:A105))","v":""}]
[{"$f":"IF(E110=\"\",\"\",ROWS($A$1:A106))","v":""}]
[{"$f":"IF(E111=\"\",\"\",ROWS($A$1:A107))","v":""}]
[{"$f":"IF(E112=\"\",\"\",ROWS($A$1:A108))","v":""}]
[{"$f":"IF(E113=\"\",\"\",ROWS($A$1:A109))","v":""}]
[{"$f":"IF(E114=\"\",\"\",ROWS($A$1:A110))","v":""}]
[{"$f":"IF(E115=\"\",\"\",ROWS($A$1:A111))","v":""}]
[{"$f":"IF(E116=\"\",\"\",ROWS($A$1:A112))","v":""}]
[{"$f":"IF(E117=\"\",\"\",ROWS($A$1:A113))","v":""}]
[{"$f":"IF(E118=\"\",\"\",ROWS($A$1:A114))","v":""}]
[{"$f":"IF(E119=\"\",\"\",ROWS($A$1:A115))","v":""}]
[{"$f":"IF(E120=\"\",\"\",ROWS($A$1:A116))","v":""}]
[{"$f":"IF(E121=\"\",\"\",ROWS($A$1:A117))","v":""}]
[{"$f":"IF(E122=\"\",\"\",ROWS($A$1:A118))","v":""}]
[{"$f":"IF(E123=\"\",\"\",ROWS($A$1:A119))","v":""}]
[{"$f":"IF(E124=\"\",\"\",ROWS($A$1:A120))","v":""}]
[{"$f":"IF(E125=\"\",\"\",ROWS($A$1:A121))","v":""}]
[{"$f":"IF(E126=\"\",\"\",ROWS($A$1:A122))","v":""}]
[{"$f":"IF(E127=\"\",\"\",ROWS($A$1:A123))","v":""}]
[{"$f":"IF(E128=\"\",\"\",ROWS($A$1:A124))","v":""}]
[{"$f":"IF(E129=\"\",\"\",ROWS($A$1:A125))","v":""}]
[{"$f":"IF(E130=\"\",\"\",ROWS($A$1:A126))","v":""}]
[{"$f":"IF(E131=\"\",\"\",ROWS($A$1:A127))","v":""}]
[{"$f":"IF(E132=\"\",\"\",ROWS($A$1:A128))","v":""}]
[{"$f":"IF(E133=\"\",\"\",ROWS($A$1:A129))","v":""}]
[{"$f":"IF(E134=\"\",\"\",ROWS($A$1:A130))","v":""}]
[{"$f":"IF(E135=\"\",\"\",ROWS($A$1:A131))","v":""}]
[{"$f":"IF(E136=\"\",\"\",ROWS($A$1:A132))","v":""}]
[{"$f":"IF(E137=\"\",\"\",ROWS($A$1:A133))","v":""}]
[{"$f":"IF(E138=\"\",\"\",ROWS($A$1:A134))","v":""}]
[{"$f":"IF(E139=\"\",\"\",ROWS($A$1:A135))","v":""}]
[{"$f":"IF(E140=\"\",\"\",ROWS($A$1:A136))","v":""}]
[{"$f":"IF(E141=\"\",\"\",ROWS($A$1:A137))","v":""}]
[{"$f":"IF(E142=\"\",\"\",ROWS($A$1:A138))","v":""}]
[{"$f":"IF(E143=\"\",\"\",ROWS($A$1:A139))","v":""}]
[{"$f":"IF(E144=\"\",\"\",ROWS($A$1:A140))","v":""}]
[{"$f":"IF(E145=\"\",\"\",ROWS($A$1:A141))","v":""}]
[{"$f":"IF(E146=\"\",\"\",ROWS($A$1:A142))","v":""}]
[{"$f":"IF(E147=\"\",\"\",ROWS($A$1:A143))","v":""}]
[{"$f":"IF(E148=\"\",\"\",ROWS($A$1:A144))","v":""}]
[{"$f":"IF(E149=\"\",\"\",ROWS($A$1:A145))","v":""}]
[{"$f":"IF(E150=\"\",\"\",ROWS($A$1:A146))","v":""}]
[{"$f":"IF(E151=\"\",\"\",ROWS($A$1:A147))","v":""}]
[{"$f":"IF(E152=\"\",\"\",ROWS($A$1:A148))","v":""}]
[{"$f":"IF(E153=\"\",\"\",ROWS($A$1:A149))","v":""}]
[{"$f":"IF(E154=\"\",\"\",ROWS($A$1:A150))","v":""}]
[{"$f":"IF(E155=\"\",\"\",ROWS($A$1:A151))","v":""}]
[{"$f":"IF(E156=\"\",\"\",ROWS($A$1:A152))","v":""}]
[{"$f":"IF(E157=\"\",\"\",ROWS($A$1:A153))","v":""}]
[{"$f":"IF(E158=\"\",\"\",ROWS($A$1:A154))","v":""}]
[{"$f":"IF(E159=\"\",\"\",ROWS($A$1:A155))","v":""}]
[{"$f":"IF(E160=\"\",\"\",ROWS($A$1:A156))","v":""}]
[{"$f":"IF(E161=\"\",\"\",ROWS($A$1:A157))","v":""}]
[{"$f":"IF(E162=\"\",\"\",ROWS($A$1:A158))","v":""}]
[{"$f":"IF(E163=\"\",\"\",ROWS($A$1:A159))","v":""}]
[{"$f":"IF(E164=\"\",\"\",ROWS($A$1:A160))","v":""}]
[{"$f":"IF(E165=\"\",\"\",ROWS($A$1:A161))","v":""}]
[{"$f":"IF(E166=\"\",\"\",ROWS($A$1:A162))","v":""}]
[{"$f":"IF(E167=\"\",\"\",ROWS($A$1:A163))","v":""}]
[{"$f":"IF(E168=\"\",\"\",ROWS($A$1:A164))","v":""}]
[{"$f":"IF(E169=\"\",\"\",ROWS($A$1:A165))","v":""}]
[{"$f":"IF(E170=\"\",\"\",ROWS($A$1:A166))","v":""}]
[{"$f":"IF(E171=\"\",\"\",ROWS($A$1:A167))","v":""}]
[{"$f":"IF(E172=\"\",\"\",ROWS($A$1:A168))","v":""}]
[{"$f":"IF(E173=\"\",\"\",ROWS($A$1:A169))","v":""}]
[{"$f":"IF(E174=\"\",\"\",ROWS($A$1:A170))","v":""}]
[{"$f":"IF(E175=\"\",\"\",ROWS($A$1:A171))","v":""}]
[{"$f":"IF(E176=\"\",\"\",ROWS($A$1:A172))","v":""}]
[{"$f":"IF(E177=\"\",\"\",ROWS($A$1:A173))","v":""}]
[{"$f":"IF(E178=\"\",\"\",ROWS($A$1:A174))","v":""}]
[{"$f":"IF(E179=\"\",\"\",ROWS($A$1:A175))","v":""}]
[{"$f":"IF(E180=\"\",\"\",ROWS($A$1:A176))","v":""}]
[{"$f":"IF(E181=\"\",\"\",ROWS($A$1:A177))","v":""}]
[{"$f":"IF(E182=\"\",\"\",ROWS($A$1:A178))","v":""}]
[{"$f":"IF(E183=\"\",\"\",ROWS($A$1:A179))","v":""}]
[{"$f":"IF(E184=\"\",\"\",ROWS($A$1:A180))","v":""}]
[{"$f":"IF(E185=\"\",\"\",ROWS($A$1:A181))","v":""}]
[{"$f":"IF(E186=\"\",\"\",ROWS($A$1:A182))","v":""}]
[{"$f":"IF(E187=\"\",\"\",ROWS($A$1:A183))","v":""}]
[{"$f":"IF(E188=\"\",\"\",ROWS($A$1:A184))","v":""}]
[{"$f":"IF(E189=\"\",\"\",ROWS($A$1:A185))","v":""}]
[{"$f":"IF(E190=\"\",\"\",ROWS($A$1:A186))","v":""}]
[{"$f":"IF(E191=\"\",\"\",ROWS($A$1:A187))","v":""}]
[{"$f":"IF(E192=\"\",\"\",ROWS($A$1:A188))","v":""}]
[{"$f":"IF(E193=\"\",\"\",ROWS($A$1:A189))","v":""}]
[{"$f":"IF(E194=\"\",\"\",ROWS($A$1:A190))","v":""}]
[{"$f":"IF(E195=\"\",\"\",ROWS($A$1:A191))","v":""}]
[{"$f":"IF(E196=\"\",\"\",ROWS($A$1:A192))","v":""}]