Workbook
Name L_1: '7th pay chart'!$B$6:$B$45
Name L_10: '7th pay chart'!$K$6:$K$45
Name L_11: '7th pay chart'!$L$6:$L$45
Name L_12: '7th pay chart'!$M$6:$M$45
Name L_13: '7th pay chart'!$N$6:$N$45
Name L_14: '7th pay chart'!$O$6:$O$45
Name L_15: '7th pay chart'!$P$6:$P$45
Name L_16: '7th pay chart'!$Q$6:$Q$45
Name L_17: '7th pay chart'!$R$6:$R$45
Name L_18: '7th pay chart'!$S$6:$S$45
Name L_19: '7th pay chart'!$T$6:$T$45
Name L_2: '7th pay chart'!$C$6:$C$45
Name L_20: '7th pay chart'!$U$6:$U$45
Name L_21: '7th pay chart'!$V$6:$V$45
Name L_22: '7th pay chart'!$W$6:$W$45
Name L_23: '7th pay chart'!$X$6:$X$45
Name L_24: '7th pay chart'!$Y$6:$Y$45
Name L_3: '7th pay chart'!$D$6:$D$45
Name L_4: '7th pay chart'!$E$6:$E$45
Name L_5: '7th pay chart'!$F$6:$F$45
Name L_6: '7th pay chart'!$G$6:$G$45
Name L_7: '7th pay chart'!$H$6:$H$45
Name L_8: '7th pay chart'!$I$6:$I$45
Name L_9: '7th pay chart'!$J$6:$J$45
Name levels: '7th pay chart'!$B$5:$Y$5

Sheet Master
A1: iz/kkukpk;Z jktdh; mPp ek/;fed fo|ky;] nsox<+ ¼jktleUn½
A2: fo|ky; ds vkns'k Øekad | B2: jkmekfo@nsox<+@2021&22@56 | E2: fnukad & | F2: 44470
A3: midks"kkf/kdkjh | B3: nsox<+
A4: uke deZpkjh | B4: Jh vf'ouh dqekj
A5: in | B5: ofj"B v/;kid
A6: izFke fu;qfDr frfFk | B6: 41173
A7: Lohd`r ,lhih | B7: izFke
A8: Lohd`r ,lhih fnukad | B8: 44460
A9: ,lhih ls iwoZ ysoy o osru | B9: LEVEL | C9: L-11 | D9: BASIC | E9: 46500
A10: vkns'kdRrkZ vf/kdkjh | B10: mifuns'kd] mn;iqj
A11: vkns'k Øekad | B11: mfuf'k@ek/;-@vt-@,lhih@Qk@2012@280&300
A12: vkns'k fnukad | B12: 30 flrEcj 2021

Sheet ACP Order
A1: ="dk;kZy; "&Master!$A$1 -> dk;kZy; iz/kkukpk;Z jktdh; mPp ek/;fed fo|ky;] nsox<+ ¼jktleUn½
A2: Øekad & | B2: =Master!B2 -> jkmekfo@nsox<+@2021&22@56 | I2: fnukad & | J2: =Master!F2 -> 44470
A3: dk;kZy; vkns'k
A4: =CONCATENATE(" Jheku ",Master!$B$10," ds vkns'k Øekad &",Master!$B$11," fnukad ",Master!$B$12," rFkk jktLFkku flfoy lsok iqujhf{kr osrueku 2017 fnukad 30&10&2017 ,oa fnukad", "09&12&2017 ds izko/kkukuqlkj dkWye 5 esa vafdr ,lhih fnukad ls is eSfVªDl ysoy & ",RIGHT(H8,2)," esa osru fu/kkZj.k fd;k tkdj fuEu dkfeZd dks fu;ekuqlkj osru ,oa HkRrs Hkqxrku dh Lohd`fr iznku dh tkrh gS A") -> Jheku mifuns'kd] mn;iqj ds vkns'k Øekad &mfuf'k@ek/;-@vt-@,lhih@Qk@2012@280&300 fnukad 30 flrEcj 2021 rFkk jktLFkku flfoy lsok iqujhf{kr osrueku 2017 fnukad 30&10&2017 ,oa fnukad09&12&2017 ds izko/kkukuqlkj dkWye 5 esa vafdr ,lhih fnukad ls is eSfVªDl ysoy & 12 esa osru fu/kkZj.k fd;k tkdj fuEu dkfeZd dks fu;ekuqlkj osru ,oa HkRrs Hkqxrku dh Lohd`fr iznku dh tkrh gS A
A5: Ø-la- | B5: uke deZpkjh e; in | C5: izFke fu;qfDr frfFk | D5: Lohd`r ,lhih | E5: Lohd`r ,lhih fnukad | F5: ,lhih ls iwoZ osrueku o osru | H5: ,lhih Lohd`fr i'pkr~ fu;r osrueku o osru | J5: vxkeh osru o`f} fnukad
F6: LEVEL | G6: BASIC | H6: LEVEL | I6: BASIC | N6: 44742 | O6: 44743 | P6: 44378
A7: 1 | B7: 2 | C7: 3 | D7: 4 | E7: 5 | F7: 6 | G7: 7 | H7: 8 | I7: 9 | J7: 10
A8: 1 | B8: =IF(Master!B4&"] "&CHAR(10)&Master!B5="","",Master!B4&"] "&CHAR(10)&Master!B5) -> Jh vf'ouh dqekj] ofj"B v/;kid | C8: =IF(Master!B6="","",Master!B6) -> 41173 | D8: =IF(Master!B7="","""",Master!B7) -> izFke | E8: =IF(Master!B8="","",Master!B8) -> 44460 | F8: =Master!C9 -> L-11 | G8: =IF(Master!E9="","",Master!E9) -> 46500 | H8: L-12 | I8: =IF($H$8="L-24",SMALL(L_24,COUNTIF(L_24,"<"&$N$8)+1),IF($H$8="L-23",SMALL(L_23,COUNTIF(L_23,"<"&$N$8)+1),IF($H$8="L-23",SMALL(L_23,COUNTIF(L_23,"<"&$N$8)+1),IF($H$8="L-22",SMALL(L_22,COUNTIF(L_22,"<"&$N$8)+1),IF($H$8="L-21",SMALL(L_21,COUNTIF(L_21,"<"&$N$8)+1),IF($H$8="L-20",SMALL(L_20,COUNTIF(L_20,"<"&$N$8)+1),IF($H$8="L-19",SMALL(L_19,COUNTIF(L_19,"<"&$N$8)+1),IF($H$8="L-18",SMALL(L_18,COUNTIF(L_18,"<"&$N$8)+1),IF($H$8="L-17",SMALL(L_17,COUNTIF(L_17,"<"&$N$8)+1),IF($H$8="L-16",SMALL(L_16,COUNTIF(L_16,"<"&$N$8)+1),IF($H$8="L-15",SMALL(L_15,COUNTIF(L_15,"<"&$N$8)+1),IF($H$8="L-14",SMALL(L_14,COUNTIF(L_14,"<"&$N$8)+1),IF($H$8="L-13",SMALL(L_13,COUNTIF(L_13,"<"&$N$8)+1),IF($H$8="L-12",SMALL(L_12,COUNTIF(L_12,"<"&$N$8)+1),IF($H$8="L-11",SMALL(L_11,COUNTIF(L_11,"<"&$N$8)+1),IF($H$8="L-12",SMALL(L_12,COUNTIF(L_12,"<"&$N$8)+1),IF($H$8="L-11",SMALL(L_11,COUNTIF(L_11,"<"&$N$8)+1),IF($H$8="L-10",SMALL(L_10,COUNTIF(L_10,"<"&$N$8)+1),IF($H$8="L-9",SMALL(L_9,COUNTIF(L_9,"<"&$N$8)+1),IF($H$8="L-8",SMALL(L_8,COUNTIF(L_8,"<"&$N$8)+1),IF($H$8="L-7",SMALL(L_7,COUNTIF(L_7,"<"&$N$8)+1),IF($H$8="L-6",SMALL(L_6,COUNTIF(L_6,"<"&$N$8)+1),IF($H$8="L-5",SMALL(L_5,COUNTIF(L_5,"<"&$N$8)+1),IF($H$8="L-4",SMALL(L_4,COUNTIF(L_4,"<"&$N$8)+1),IF($H$8="L-3",SMALL(L_3,COUNTIF(L_3,"<"&$N$8)+1),IF($H$8="L-2",SMALL(L_2,COUNTIF(L_2,"<"&$N$8)+1),IF($H$8="L-1",SMALL(L_1,COUNTIF(L_1,"<"&$N$8)+1),""))))))))))))))))))))))))))) -> 48400 | J8: =IF(E8<N6,O6,P6) -> 44743 | N8: =MROUND(G8*103%,100) -> 47900
A9: 2
A10: 3
H12: =Master!$A$1 -> iz/kkukpk;Z jktdh; mPp ek/;fed fo|ky;] nsox<+ ¼jktleUn½
A14: =A2&" "&B2 -> Øekad & jkmekfo@nsox<+@2021&22@56 | I14: =I2 -> fnukad & | J14: =J2 -> 44470
A15: Ikzfrfyih %&
A16: ="1- Jheku~ midks"&"kkf/kdkjh egksn;] "&Master!B3 -> 1- Jheku~ midkskkf/kdkjh egksn;] nsox<+
A17: ="2- lacaf/kr dkfeZd "&Master!B4 -> 2- lacaf/kr dkfeZd Jh vf'ouh dqekj
A18: ="3- futh iaftdk lacaf/kr "&Master!$B$4 -> 3- futh iaftdk lacaf/kr Jh vf'ouh dqekj
A19: 4- ys[kk 'kk[kk dk;kZy; gktk A
A20: 5- jf{kr iaftdk A | H20: =Master!$A$1 -> iz/kkukpk;Z jktdh; mPp ek/;fed fo|ky;] nsox<+ ¼jktleUn½

Sheet 7th pay chart
A1: SCHEDULE-I PART-B RULE NO. 5 vi &vii PAY MATRIX OF STATE GOVT. SERVANTS
A2: Existing R.P.Band | B2: PB-1 5200-20200 | K2: PB-2 9300-34800 | O2: PB-3 15600-39100 | W2: PB-4 37400-67000
A3: Exist.G.P. | B3: 1700 | C3: 1750 | D3: 1900 | E3: 2000 | F3: 2400 | G3: 2400 | H3: 2400 | I3: 2800 | J3: 2800 | K3: 3600 | L3: 4200 | M3: 4800 | N3: 5400 | O3: 5400 | P3: 6000 | Q3: 6600 | R3: 6800 | S3: 7200 | T3: 7600 | U3: 8200 | V3: 8700 | W3: 8900 | X3: 9500 | Y3: 10000
A4: Exist.G.P.No | B4: 2 | C4: 3 | D4: 4 | E4: 5 | F4: 9 | G4: 9A | H4: 9B | I4: 10 | J4: 10A | K4: 11 | L4: 12 | M4: 14 | N4: 15 | O4: 15 | P4: 16 | Q4: 17 | R4: 18 | S4: 19 | T4: 20 | U4: 21 | V4: 22 | W4: 23 | X4: 23A | Y4: 24
A5: Levels → | B5: L-1 | C5: L-2 | D5: L-3 | E5: L-4 | F5: L-5 | G5: L-6 | H5: L-7 | I5: L-8 | J5: L-9 | K5: L-10 | L5: L-11 | M5: L-12 | N5: L-13 | O5: L-14 | P5: L-15 | Q5: L-16 | R5: L-17 | S5: L-18 | T5: L-19 | U5: L-20 | V5: L-21 | W5: L-22 | X5: L-23 | Y5: L-24
A6: 1 | B6: 17700 | C6: 17900 | D6: 18200 | E6: 19200 | F6: 20800 | G6: 21500 | H6: 22400 | I6: 26300 | J6: 28700 | K6: 33800 | L6: 37800 | M6: 44300 | N6: 53100 | O6: 56100 | P6: 60700 | Q6: 67300 | R6: 71000 | S6: 75300 | T6: 79900 | U6: 88900 | V6: 123100 | W6: 129700 | X6: 145800 | Y6: 148800
A7: 2 | B7: 18200 | C7: 18400 | D7: 18700 | E7: 19800 | F7: 21400 | G7: 22100 | H7: 23100 | I7: 27100 | J7: 29600 | K7: 34800 | L7: 38900 | M7: 45600 | N7: 54700 | O7: 57800 | P7: 62500 | Q7: 69300 | R7: 73100 | S7: 77600 | T7: 82300 | U7: 91600 | V7: 126800 | W7: 133600 | X7: 150200 | Y7: 153300
A8: 3 | B8: 18700 | C8: 19000 | D8: 19300 | E8: 20400 | F8: 22000 | G8: 22800 | H8: 23800 | I8: 27900 | J8: 30500 | K8: 35800 | L8: 40100 | M8: 47000 | N8: 56300 | O8: 59500 | P8: 64400 | Q8: 71400 | R8: 75300 | S8: 79900 | T8: 84800 | U8: 94300 | V8: 130600 | W8: 137600 | X8: 154700 | Y8: 157900
A9: 4 | B9: 19300 | C9: 19600 | D9: 19900 | E9: 21000 | F9: 22700 | G9: 23500 | H9: 24500 | I9: 28700 | J9: 31400 | K9: 36900 | L9: 41300 | M9: 48400 | N9: 58000 | O9: 61300 | P9: 66300 | Q9: 73500 | R9: 77600 | S9: 82300 | T9: 87300 | U9: 97100 | V9: 134500 | W9: 141700 | X9: 159300 | Y9: 162600
A10: 5 | B10: 19900 | C10: 20200 | D10: 20500 | E10: 21600 | F10: 23400 | G10: 24200 | H10: 25200 | I10: 29600 | J10: 32300 | K10: 38000 | L10: 42500 | M10: 49900 | N10: 59700 | O10: 63100 | P10: 68300 | Q10: 75700 | R10: 79900 | S10: 84800 | T10: 89900 | U10: 100000 | V10: 138500 | W10: 146000 | X10: 164100 | Y10: 167500
A11: 6 | B11: 20500 | C11: 20800 | D11: 21100 | E11: 22200 | F11: 24100 | G11: 24900 | H11: 26000 | I11: 30500 | J11: 33300 | K11: 39100 | L11: 43800 | M11: 51400 | N11: 61500 | O11: 65000 | P11: 70300 | Q11: 78000 | R11: 82300 | S11: 87300 | T11: 92600 | U11: 103000 | V11: 142700 | W11: 150400 | X11: 169000 | Y11: 172500
A12: 7 | B12: 21100 | C12: 21400 | D12: 21700 | E12: 22900 | F12: 24800 | G12: 25600 | H12: 26800 | I12: 31400 | J12: 34300 | K12: 40300 | L12: 45100 | M12: 52900 | N12: 63300 | O12: 67000 | P12: 72400 | Q12: 80300 | R12: 84800 | S12: 89900 | T12: 95400 | U12: 106100 | V12: 147000 | W12: 154900 | X12: 174100 | Y12: 177700
A13: 8 | B13: 21700 | C13: 22000 | D13: 22400 | E13: 23600 | F13: 25500 | G13: 26400 | H13: 27600 | I13: 32300 | J13: 35300 | K13: 41500 | L13: 46500 | M13: 54500 | N13: 65200 | O13: 69000 | P13: 74600 | Q13: 82700 | R13: 87300 | S13: 92600 | T13: 98300 | U13: 109300 | V13: 151400 | W13: 159500 | X13: 179300 | Y13: 183000
A14: 9 | B14: 22400 | C14: 22700 | D14: 23100 | E14: 24300 | F14: 26300 | G14: 27200 | H14: 28400 | I14: 33300 | J14: 36400 | K14: 42700 | L14: 47900 | M14: 56100 | N14: 67200 | O14: 71100 | P14: 76800 | Q14: 85200 | R14: 89900 | S14: 95400 | T14: 101200 | U14: 112600 | V14: 155900 | W14: 164300 | X14: 184700 | Y14: 188500
A15: 10 | B15: 23100 | C15: 23400 | D15: 23800 | E15: 25000 | F15: 27100 | G15: 28000 | H15: 29300 | I15: 34300 | J15: 37500 | K15: 44000 | L15: 49300 | M15: 57800 | N15: 69200 | O15: 73200 | P15: 79100 | Q15: 87800 | R15: 92600 | S15: 98300 | T15: 104200 | U15: 116000 | V15: 160600 | W15: 169200 | X15: 190200 | Y15: 194200
A16: 11 | B16: 23800 | C16: 24100 | D16: 24500 | E16: 25800 | F16: 27900 | G16: 28800 | H16: 30200 | I16: 35300 | J16: 38600 | K16: 45300 | L16: 50800 | M16: 59500 | N16: 71300 | O16: 75400 | P16: 81500 | Q16: 90400 | R16: 95400 | S16: 101200 | T16: 107300 | U16: 119500 | V16: 165400 | W16: 174300 | X16: 195900 | Y16: 200000
A17: 12 | B17: 24500 | C17: 24800 | D17: 25200 | E17: 26600 | F17: 28700 | G17: 29700 | H17: 31100 | I17: 36400 | J17: 39800 | K17: 46700 | L17: 52300 | M17: 61300 | N17: 73400 | O17: 77700 | P17: 83900 | Q17: 93100 | R17: 98300 | S17: 104200 | T17: 110500 | U17: 123100 | V17: 170400 | W17: 179500 | X17: 201800 | Y17: 206000
... A19: 14 | B19: 26000 | C19: 26300 | D19: 26800 | E19: 28200 | F19: 30500 | G19: 31500 | H19: 33000 | I19: 38600 | J19: 42200 | K19: 49500 | L19: 55500 | M19: 65000 | N19: 77900 | O19: 82400 | P19: 89000 | Q19: 98800 | R19: 104200 | S19: 110500 | T19: 117200 | U19: 130600 | V19: 180800 | W19: 190400 | X19: 214100 | Y19: 218600
A20: 15 | B20: 26800 | C20: 27100 | D20: 27600 | E20: 29000 | F20: 31400 | G20: 32400 | H20: 34000 | I20: 39800 | J20: 43500 | K20: 51000 | L20: 57200 | M20: 67000 | N20: 80200 | O20: 84900 | P20: 91700 | Q20: 101800 | R20: 107300 | S20: 113800 | T20: 120700 | U20: 134500 | V20: 186200 | W20: 196100
A21: 16 | B21: 27600 | C21: 27900 | D21: 28400 | E21: 29900 | F21: 32300 | G21: 33400 | H21: 35000 | I21: 41000 | J21: 44800 | K21: 52500 | L21: 58900 | M21: 69000 | N21: 82600 | O21: 87400 | P21: 94500 | Q21: 104900 | R21: 110500 | S21: 117200 | T21: 124300 | U21: 138500 | V21: 191800 | W21: 202000
A22: 17 | B22: 28400 | C22: 28700 | D22: 29300 | E22: 30800 | F22: 33300 | G22: 34400 | H22: 36100 | I22: 42200 | J22: 46100 | K22: 54100 | L22: 60700 | M22: 71100 | N22: 85100 | O22: 90000 | P22: 97300 | Q22: 108000 | R22: 113800 | S22: 120700 | T22: 128000 | U22: 142700 | V22: 197600 | W22: 208100
A23: 18 | B23: 29300 | C23: 29600 | D23: 30200 | E23: 31700 | F23: 34300 | G23: 35400 | H23: 37200 | I23: 43500 | J23: 47500 | K23: 55700 | L23: 62500 | M23: 73200 | N23: 87700 | O23: 92700 | P23: 100200 | Q23: 111200 | R23: 117200 | S23: 124300 | T23: 131800 | U23: 147000 | V23: 203500
A24: 19 | B24: 30200 | C24: 30500 | D24: 31100 | E24: 32700 | F24: 35300 | G24: 36500 | H24: 38300 | I24: 44800 | J24: 48900 | K24: 57400 | L24: 64400 | M24: 75400 | N24: 90300 | O24: 95500 | P24: 103200 | Q24: 114500 | R24: 120700 | S24: 128000 | T24: 135800 | U24: 151400
A25: 20 | B25: 31100 | C25: 31400 | D25: 32000 | E25: 33700 | F25: 36400 | G25: 37600 | H25: 39400 | I25: 46100 | J25: 50400 | K25: 59100 | L25: 66300 | M25: 77700 | N25: 93000 | O25: 98400 | P25: 106300 | Q25: 117900 | R25: 124300 | S25: 131800 | T25: 139900 | U25: 155900
A26: 21 | B26: 32000 | C26: 32300 | D26: 33000 | E26: 34700 | F26: 37500 | G26: 38700 | H26: 40600 | I26: 47500 | J26: 51900 | K26: 60900 | L26: 68300 | M26: 80000 | N26: 95800 | O26: 101400 | P26: 109500 | Q26: 121400 | R26: 128000 | S26: 135800 | T26: 144100 | U26: 160600
A27: 22 | B27: 33000 | C27: 33300 | D27: 34000 | E27: 35700 | F27: 38600 | G27: 39900 | H27: 41800 | I27: 48900 | J27: 53500 | K27: 62700 | L27: 70300 | M27: 82400 | N27: 98700 | O27: 104400 | P27: 112800 | Q27: 125000 | R27: 131800 | S27: 139900 | T27: 148400 | U27: 165400
A28: 23 | B28: 34000 | C28: 34300 | D28: 35000 | E28: 36800 | F28: 39800 | G28: 41100 | H28: 43100 | I28: 50400 | J28: 55100 | K28: 64600 | L28: 72400 | M28: 84900 | N28: 101700 | O28: 107500 | P28: 116200 | Q28: 128800 | R28: 135800 | S28: 144100 | T28: 152900 | U28: 170400
A29: 24 | B29: 35000 | C29: 35300 | D29: 36100 | E29: 37900 | F29: 41000 | G29: 42300 | H29: 44400 | I29: 51900 | J29: 56800 | K29: 66500 | L29: 74600 | M29: 87400 | N29: 104800 | O29: 110700 | P29: 119700 | Q29: 132700 | R29: 139900 | S29: 148400 | T29: 157500 | U29: 175500
A30: 25 | B30: 36100 | C30: 36400 | D30: 37200 | E30: 39000 | F30: 42200 | G30: 43600 | H30: 45700 | I30: 53500 | J30: 58500 | K30: 68500 | L30: 76800 | M30: 90000 | N30: 107900 | O30: 114000 | P30: 123300 | Q30: 136700 | R30: 144100 | S30: 152900 | T30: 162200 | U30: 180800
A31: 26 | B31: 37200 | C31: 37500 | D31: 38300 | E31: 40200 | F31: 43500 | G31: 44900 | H31: 47100 | I31: 55100 | J31: 60300 | K31: 70600 | L31: 79100 | M31: 92700 | N31: 111100 | O31: 117400 | P31: 127000 | Q31: 140800 | R31: 148400 | S31: 157500 | T31: 167100 | U31: 186200
A32: 27 | B32: 38300 | C32: 38600 | D32: 39400 | E32: 41400 | F32: 44800 | G32: 46200 | H32: 48500 | I32: 56800 | J32: 62100 | K32: 72700 | L32: 81500 | M32: 95500 | N32: 114400 | O32: 120900 | P32: 130800 | Q32: 145000 | R32: 152900 | S32: 162200 | T32: 172100 | U32: 191800
A33: 28 | B33: 39400 | C33: 39800 | D33: 40600 | E33: 42600 | F33: 46100 | G33: 47600 | H33: 50000 | I33: 58500 | J33: 64000 | K33: 74900 | L33: 83900 | M33: 98400 | N33: 117800 | O33: 124500 | P33: 134700 | Q33: 149400 | R33: 157500 | S33: 167100 | T33: 177300 | U33: 197600
A34: 29 | B34: 40600 | C34: 41000 | D34: 41800 | E34: 43900 | F34: 47500 | G34: 49000 | H34: 51500 | I34: 60300 | J34: 65900 | K34: 77100 | L34: 86400 | M34: 101400 | N34: 121300 | O34: 128200 | P34: 138700 | Q34: 153900 | R34: 162200 | S34: 172100 | T34: 182600 | U34: 203500
A35: 30 | B35: 41800 | C35: 42200 | D35: 43100 | E35: 45200 | F35: 48900 | G35: 50500 | H35: 53000 | I35: 62100 | J35: 67900 | K35: 79400 | L35: 89000 | M35: 104400 | N35: 124900 | O35: 132000 | P35: 142900 | Q35: 158500 | R35: 167100 | S35: 177300 | T35: 188100
A36: 31 | B36: 43100 | C36: 43500 | D36: 44400 | E36: 46600 | F36: 50400 | G36: 52000 | H36: 54600 | I36: 64000 | J36: 69900 | K36: 81800 | L36: 91700 | M36: 107500 | N36: 128600 | O36: 136000 | P36: 147200 | Q36: 163300 | R36: 172100 | S36: 182600 | T36: 193700
A37: 32 | B37: 44400 | C37: 44800 | D37: 45700 | E37: 48000 | F37: 51900 | G37: 53600 | H37: 56200 | I37: 65900 | J37: 72000 | K37: 84300 | L37: 94500 | M37: 110700 | N37: 132500 | O37: 140100 | P37: 151600 | Q37: 168200 | R37: 177300 | S37: 188100 | T37: 199500
A38: 33 | B38: 45700 | C38: 46100 | D38: 47100 | E38: 49400 | F38: 53500 | G38: 55200 | H38: 57900 | I38: 67900 | J38: 74200 | K38: 86800 | L38: 97300 | M38: 114000 | N38: 136500 | O38: 144300 | P38: 156100 | Q38: 173200 | R38: 182600 | S38: 193700
A39: 34 | B39: 47100 | C39: 47500 | D39: 48500 | E39: 50900 | F39: 55100 | G39: 56900 | H39: 59600 | I39: 69900 | J39: 76400 | K39: 89400 | L39: 100200 | M39: 117400 | N39: 140600 | O39: 148600 | P39: 160800 | Q39: 178400 | R39: 188100 | S39: 199500
A40: 35 | B40: 48500 | C40: 48900 | D40: 50000 | E40: 52400 | F40: 56800 | G40: 58600 | H40: 61400 | I40: 72000 | J40: 78700 | K40: 92100 | L40: 103200 | M40: 120900 | N40: 144800 | O40: 153100 | P40: 165600 | Q40: 183800 | R40: 193700
A41: 36 | B41: 50000 | C41: 50400 | D41: 51500 | E41: 54000 | F41: 58500 | G41: 60400 | H41: 63200 | I41: 74200 | J41: 81100 | K41: 94900 | L41: 106300 | M41: 124500 | N41: 149100 | O41: 157700 | P41: 170600 | Q41: 189300 | R41: 199500
...
