Workbook
Name Name_Employee: Table1[Name of Employee]
Name Post: Table2[Post @ Office]
Name Summary_tax: 'Summary All Staff'!$B$6:$K$321
Name Tax_Data: 'Tax Calculator'!$B$5:$AL$321

Sheet Intro
A1: सभी साथियों को नमस्कार
A2: आप सब की सहायतार्थ वित्तीय वर्ष 2021-22 के लिए
A3: आयकर की गणना
A4: केवल अपनी मार्च 2021 की बेसिक एवं कटौतियां डालते ही अपने आयकर की गणना कर सकते है |
A5: इस एक्सेल प्रोग्राम की सहायता से आप अपने पुरे स्टाफ की आयकर गणना कर सकते है |
A6: यह प्रोग्राम में आप को दोनों प्रकार के टैक्स की गणना करके बताएगा | (OLD and NEW)
A7: टोटल टैक्स कितना बनेगा |
A8: माहवार कितना टैक्स कटवाना है सब कुछ बस इस एक ही प्रोग्राम में |

Sheet Master
A1: Government Senior Secondary School, Deogarh (Rajsamand) | W1: समर्पित अवकाश, बोनस, DA arrear के लिए आप Tax Calculator वाली शीट में other वाले कॉलम में लिख देवे |
A2: Estimated Tax Calculation
B3: Old DA Rate | C3: 0.17 | E3: Old HRA Rate | H3: 0.08
B4: New DA Rate | C4: 0.28 | E4: New HRA Rate | H4: 0.09
A5: Sr.No. | B5: Name of Employee | C5: Employee ID | D5: Post | E5: Level | F5: GPF/NPS | G5: Probation | H5: Basic Of March 21 | J5: DA | K5: HRA | L5: Total | M5: 4 Months | N5: Basic Of July | O5: DA | P5: HRA | Q5: Total | R5: 8 Months | S5: NPS | T5: Gross | W5: Post @ Office | Z5: Level
A6: =IF(Table1[[#This Row],[Name of Employee]]="","",ROWS($A$1:A1)) -> 1 | B6: Ashwini Kumar Sharma | C6: RJNA201228008021 | D6: Lecturer | E6: L-12 | F6: NPS | G6: No | H6: 47000 | J6: =IF(Table1[[#This Row],[Probation]]="Yes",0,ROUND(Table1[[#This Row],[Basic Of March 21]]*$C$3,0)) -> 7990 | K6: =IF(Table1[[#This Row],[Probation]]="YES",0,ROUND(Table1[[#This Row],[Basic Of March 21]]*$H$3,0)) -> 3760 | L6: =SUM(J6:K6,Table1[[#This Row],[Basic Of March 21]]) -> 58750 | M6: =L6*4 -> 235000 | N6: =IF(Table1[[#This Row],[Probation]]="Yes",Table1[[#This Row],[Basic Of March 21]],MROUND(Table1[[#This Row],[Basic Of March 21]]*1.03,100)) -> 48400 | O6: =IF(Table1[[#This Row],[Probation]]="Yes",0,ROUND(N6*$C$4,0)) -> 13552 | P6: =IF(Table1[[#This Row],[Probation]]="Yes",0,ROUND(N6*$H$4,0)) -> 4356 | Q6: =SUM(N6:P6) -> 66308 | R6: =Q6*8 -> 530464 | S6: =IF(Table1[[#This Row],[GPF/NPS]]="GPF",0,ROUND(SUM(Table1[[#This Row],[Basic Of March 21]],J6)*10%,0)*4+ROUND(SUM(N6:O6)*10%,0)*8) -> 71556 | T6: =SUM(M6,R6:S6) -> 837020 | W6: Principal | Z6: L-1
A7: =IF(Table1[[#This Row],[Name of Employee]]="","",ROWS($A$1:A2)) -> 2 | B7: Aditya Jakhad | C7: RJNA201228008022 | D7: Teacher | E7: L-10 | F7: NPS | G7: Yes | H7: 14600 | J7: =IF(Table1[[#This Row],[Probation]]="Yes",0,ROUND(Table1[[#This Row],[Basic Of March 21]]*$C$3,0)) -> 0 | K7: =IF(Table1[[#This Row],[Probation]]="YES",0,ROUND(Table1[[#This Row],[Basic Of March 21]]*$H$3,0)) -> 0 | L7: =SUM(J7:K7,Table1[[#This Row],[Basic Of March 21]]) -> 14600 | M7: =L7*4 -> 58400 | N7: =IF(Table1[[#This Row],[Probation]]="Yes",Table1[[#This Row],[Basic Of March 21]],MROUND(Table1[[#This Row],[Basic Of March 21]]*1.03,100)) -> 14600 | O7: =IF(Table1[[#This Row],[Probation]]="Yes",0,ROUND(N7*$C$4,0)) -> 0 | P7: =IF(Table1[[#This Row],[Probation]]="Yes",0,ROUND(N7*$H$4,0)) -> 0 | Q7: =SUM(N7:P7) -> 14600 | R7: =Q7*8 -> 116800 | S7: =IF(Table1[[#This Row],[GPF/NPS]]="GPF",0,ROUND(SUM(Table1[[#This Row],[Basic Of March 21]],J7)*10%,0)*4+ROUND(SUM(N7:O7)*10%,0)*8) -> 17520 | T7: =SUM(M7,R7:S7) -> 192720 | W7: Lecturer | Z7: L-2
A8: =IF(Table1[[#This Row],[Name of Employee]]="","",ROWS($A$1:A3)) -> 3 | B8: Prakash Kumar Gaur | C8: RJNA201228008022 | D8: Lecturer | E8: L-12 | F8: NPS | G8: No | H8: 46500 | J8: =IF(Table1[[#This Row],[Probation]]="Yes",0,ROUND(Table1[[#This Row],[Basic Of March 21]]*$C$3,0)) -> 7905 | K8: =IF(Table1[[#This Row],[Probation]]="YES",0,ROUND(Table1[[#This Row],[Basic Of March 21]]*$H$3,0)) -> 3720 | L8: =SUM(J8:K8,Table1[[#This Row],[Basic Of March 21]]) -> 58125 | M8: =L8*4 -> 232500 | N8: =IF(Table1[[#This Row],[Probation]]="Yes",Table1[[#This Row],[Basic Of March 21]],MROUND(Table1[[#This Row],[Basic Of March 21]]*1.03,100)) -> 47900 | O8: =IF(Table1[[#This Row],[Probation]]="Yes",0,ROUND(N8*$C$4,0)) -> 13412 | P8: =IF(Table1[[#This Row],[Probation]]="Yes",0,ROUND(N8*$H$4,0)) -> 4311 | Q8: =SUM(N8:P8) -> 65623 | R8: =Q8*8 -> 524984 | S8: =IF(Table1[[#This Row],[GPF/NPS]]="GPF",0,ROUND(SUM(Table1[[#This Row],[Basic Of March 21]],J8)*10%,0)*4+ROUND(SUM(N8:O8)*10%,0)*8) -> 70812 | T8: =SUM(M8,R8:S8) -> 828296 | W8: Sr. Teacher | Z8: L-3
A9: =IF(Table1[[#This Row],[Name of Employee]]="","",ROWS($A$1:A4)) -> 4 | B9: Bheru Prasad Jangid | C9: RJNA201228008022 | D9: Principal | E9: L-16 | F9: NPS | G9: No | H9: 71300 | J9: =IF(Table1[[#This Row],[Probation]]="Yes",0,ROUND(Table1[[#This Row],[Basic Of March 21]]*$C$3,0)) -> 12121 | K9: =IF(Table1[[#This Row],[Probation]]="YES",0,ROUND(Table1[[#This Row],[Basic Of March 21]]*$H$3,0)) -> 5704 | L9: =SUM(J9:K9,Table1[[#This Row],[Basic Of March 21]]) -> 89125 | M9: =L9*4 -> 356500 | N9: =IF(Table1[[#This Row],[Probation]]="Yes",Table1[[#This Row],[Basic Of March 21]],MROUND(Table1[[#This Row],[Basic Of March 21]]*1.03,100)) -> 73400 | O9: =IF(Table1[[#This Row],[Probation]]="Yes",0,ROUND(N9*$C$4,0)) -> 20552 | P9: =IF(Table1[[#This Row],[Probation]]="Yes",0,ROUND(N9*$H$4,0)) -> 6606 | Q9: =SUM(N9:P9) -> 100558 | R9: =Q9*8 -> 804464 | S9: =IF(Table1[[#This Row],[GPF/NPS]]="GPF",0,ROUND(SUM(Table1[[#This Row],[Basic Of March 21]],J9)*10%,0)*4+ROUND(SUM(N9:O9)*10%,0)*8) -> 108528 | T9: =SUM(M9,R9:S9) -> 1269492 | W9: Teacher | Z9: L-4
A10: =IF(Table1[[#This Row],[Name of Employee]]="","",ROWS($A$1:A5)) -> 5 | B10: Meghraj Sharma | C10: RJNA198628017733 | D10: Principal | E10: L-13 | F10: GPF | G10: No | H10: 73400 | J10: =IF(Table1[[#This Row],[Probation]]="Yes",0,ROUND(Table1[[#This Row],[Basic Of March 21]]*$C$3,0)) -> 12478 | K10: =IF(Table1[[#This Row],[Probation]]="YES",0,ROUND(Table1[[#This Row],[Basic Of March 21]]*$H$3,0)) -> 5872 | L10: =SUM(J10:K10,Table1[[#This Row],[Basic Of March 21]]) -> 91750 | M10: =L10*4 -> 367000 | N10: =IF(Table1[[#This Row],[Probation]]="Yes",Table1[[#This Row],[Basic Of March 21]],MROUND(Table1[[#This Row],[Basic Of March 21]]*1.03,100)) -> 75600 | O10: =IF(Table1[[#This Row],[Probation]]="Yes",0,ROUND(N10*$C$4,0)) -> 21168 | P10: =IF(Table1[[#This Row],[Probation]]="Yes",0,ROUND(N10*$H$4,0)) -> 6804 | Q10: =SUM(N10:P10) -> 103572 | R10: =Q10*8 -> 828576 | S10: =IF(Table1[[#This Row],[GPF/NPS]]="GPF",0,ROUND(SUM(Table1[[#This Row],[Basic Of March 21]],J10)*10%,0)*4+ROUND(SUM(N10:O10)*10%,0)*8) -> 0 | T10: =SUM(M10,R10:S10) -> 1195576 | W10: Jr.Assistance | Z10: L-5
A11: =IF(Table1[[#This Row],[Name of Employee]]="","",ROWS($A$1:A6)) -> 6 | B11: C | J11: =IF(Table1[[#This Row],[Probation]]="Yes",0,ROUND(Table1[[#This Row],[Basic Of March 21]]*$C$3,0)) -> 0 | K11: =IF(Table1[[#This Row],[Probation]]="YES",0,ROUND(Table1[[#This Row],[Basic Of March 21]]*$H$3,0)) -> 0 | L11: =SUM(J11:K11,Table1[[#This Row],[Basic Of March 21]]) -> 0 | M11: =L11*4 -> 0 | N11: =IF(Table1[[#This Row],[Probation]]="Yes",Table1[[#This Row],[Basic Of March 21]],MROUND(Table1[[#This Row],[Basic Of March 21]]*1.03,100)) -> 0 | O11: =IF(Table1[[#This Row],[Probation]]="Yes",0,ROUND(N11*$C$4,0)) -> 0 | P11: =IF(Table1[[#This Row],[Probation]]="Yes",0,ROUND(N11*$H$4,0)) -> 0 | Q11: =SUM(N11:P11) -> 0 | R11: =Q11*8 -> 0 | S11: =IF(Table1[[#This Row],[GPF/NPS]]="GPF",0,ROUND(SUM(Table1[[#This Row],[Basic Of March 21]],J11)*10%,0)*4+ROUND(SUM(N11:O11)*10%,0)*8) -> 0 | T11: =SUM(M11,R11:S11) -> 0 | W11: Sr.Assistance | Z11: L-6
A12: =IF(Table1[[#This Row],[Name of Employee]]="","",ROWS($A$1:A7)) -> 7 | B12: D | J12: =IF(Table1[[#This Row],[Probation]]="Yes",0,ROUND(Table1[[#This Row],[Basic Of March 21]]*$C$3,0)) -> 0 | K12: =IF(Table1[[#This Row],[Probation]]="YES",0,ROUND(Table1[[#This Row],[Basic Of March 21]]*$H$3,0)) -> 0 | L12: =SUM(J12:K12,Table1[[#This Row],[Basic Of March 21]]) -> 0 | M12: =L12*4 -> 0 | N12: =IF(Table1[[#This Row],[Probation]]="Yes",Table1[[#This Row],[Basic Of March 21]],MROUND(Table1[[#This Row],[Basic Of March 21]]*1.03,100)) -> 0 | O12: =IF(Table1[[#This Row],[Probation]]="Yes",0,ROUND(N12*$C$4,0)) -> 0 | P12: =IF(Table1[[#This Row],[Probation]]="Yes",0,ROUND(N12*$H$4,0)) -> 0 | Q12: =SUM(N12:P12) -> 0 | R12: =Q12*8 -> 0 | S12: =IF(Table1[[#This Row],[GPF/NPS]]="GPF",0,ROUND(SUM(Table1[[#This Row],[Basic Of March 21]],J12)*10%,0)*4+ROUND(SUM(N12:O12)*10%,0)*8) -> 0 | T12: =SUM(M12,R12:S12) -> 0 | W12: Peon | Z12: L-7
A13: =IF(Table1[[#This Row],[Name of Employee]]="","",ROWS($A$1:A8)) -> 8 | B13: E | J13: =IF(Table1[[#This Row],[Probation]]="Yes",0,ROUND(Table1[[#This Row],[Basic Of March 21]]*$C$3,0)) -> 0 | K13: =IF(Table1[[#This Row],[Probation]]="YES",0,ROUND(Table1[[#This Row],[Basic Of March 21]]*$H$3,0)) -> 0 | L13: =SUM(J13:K13,Table1[[#This Row],[Basic Of March 21]]) -> 0 | M13: =L13*4 -> 0 | N13: =IF(Table1[[#This Row],[Probation]]="Yes",Table1[[#This Row],[Basic Of March 21]],MROUND(Table1[[#This Row],[Basic Of March 21]]*1.03,100)) -> 0 | O13: =IF(Table1[[#This Row],[Probation]]="Yes",0,ROUND(N13*$C$4,0)) -> 0 | P13: =IF(Table1[[#This Row],[Probation]]="Yes",0,ROUND(N13*$H$4,0)) -> 0 | Q13: =SUM(N13:P13) -> 0 | R13: =Q13*8 -> 0 | S13: =IF(Table1[[#This Row],[GPF/NPS]]="GPF",0,ROUND(SUM(Table1[[#This Row],[Basic Of March 21]],J13)*10%,0)*4+ROUND(SUM(N13:O13)*10%,0)*8) -> 0 | T13: =SUM(M13,R13:S13) -> 0 | W13: Prabodhak | Z13: L-8
A14: =IF(Table1[[#This Row],[Name of Employee]]="","",ROWS($A$1:A9)) -> 9 | B14: F | J14: =IF(Table1[[#This Row],[Probation]]="Yes",0,ROUND(Table1[[#This Row],[Basic Of March 21]]*$C$3,0)) -> 0 | K14: =IF(Table1[[#This Row],[Probation]]="YES",0,ROUND(Table1[[#This Row],[Basic Of March 21]]*$H$3,0)) -> 0 | L14: =SUM(J14:K14,Table1[[#This Row],[Basic Of March 21]]) -> 0 | M14: =L14*4 -> 0 | N14: =IF(Table1[[#This Row],[Probation]]="Yes",Table1[[#This Row],[Basic Of March 21]],MROUND(Table1[[#This Row],[Basic Of March 21]]*1.03,100)) -> 0 | O14: =IF(Table1[[#This Row],[Probation]]="Yes",0,ROUND(N14*$C$4,0)) -> 0 | P14: =IF(Table1[[#This Row],[Probation]]="Yes",0,ROUND(N14*$H$4,0)) -> 0 | Q14: =SUM(N14:P14) -> 0 | R14: =Q14*8 -> 0 | S14: =IF(Table1[[#This Row],[GPF/NPS]]="GPF",0,ROUND(SUM(Table1[[#This Row],[Basic Of March 21]],J14)*10%,0)*4+ROUND(SUM(N14:O14)*10%,0)*8) -> 0 | T14: =SUM(M14,R14:S14) -> 0 | W14: OA | Z14: L-9
A15: =IF(Table1[[#This Row],[Name of Employee]]="","",ROWS($A$1:A10)) -> 10 | B15: G | J15: =IF(Table1[[#This Row],[Probation]]="Yes",0,ROUND(Table1[[#This Row],[Basic Of March 21]]*$C$3,0)) -> 0 | K15: =IF(Table1[[#This Row],[Probation]]="YES",0,ROUND(Table1[[#This Row],[Basic Of March 21]]*$H$3,0)) -> 0 | L15: =SUM(J15:K15,Table1[[#This Row],[Basic Of March 21]]) -> 0 | M15: =L15*4 -> 0 | N15: =IF(Table1[[#This Row],[Probation]]="Yes",Table1[[#This Row],[Basic Of March 21]],MROUND(Table1[[#This Row],[Basic Of March 21]]*1.03,100)) -> 0 | O15: =IF(Table1[[#This Row],[Probation]]="Yes",0,ROUND(N15*$C$4,0)) -> 0 | P15: =IF(Table1[[#This Row],[Probation]]="Yes",0,ROUND(N15*$H$4,0)) -> 0 | Q15: =SUM(N15:P15) -> 0 | R15: =Q15*8 -> 0 | S15: =IF(Table1[[#This Row],[GPF/NPS]]="GPF",0,ROUND(SUM(Table1[[#This Row],[Basic Of March 21]],J15)*10%,0)*4+ROUND(SUM(N15:O15)*10%,0)*8) -> 0 | T15: =SUM(M15,R15:S15) -> 0 | W15: Other | Z15: L-10
A16: =IF(Table1[[#This Row],[Name of Employee]]="","",ROWS($A$1:A11)) -> 11 | B16: H | J16: =IF(Table1[[#This Row],[Probation]]="Yes",0,ROUND(Table1[[#This Row],[Basic Of March 21]]*$C$3,0)) -> 0 | K16: =IF(Table1[[#This Row],[Probation]]="YES",0,ROUND(Table1[[#This Row],[Basic Of March 21]]*$H$3,0)) -> 0 | L16: =SUM(J16:K16,Table1[[#This Row],[Basic Of March 21]]) -> 0 | M16: =L16*4 -> 0 | N16: =IF(Table1[[#This Row],[Probation]]="Yes",Table1[[#This Row],[Basic Of March 21]],MROUND(Table1[[#This Row],[Basic Of March 21]]*1.03,100)) -> 0 | O16: =IF(Table1[[#This Row],[Probation]]="Yes",0,ROUND(N16*$C$4,0)) -> 0 | P16: =IF(Table1[[#This Row],[Probation]]="Yes",0,ROUND(N16*$H$4,0)) -> 0 | Q16: =SUM(N16:P16) -> 0 | R16: =Q16*8 -> 0 | S16: =IF(Table1[[#This Row],[GPF/NPS]]="GPF",0,ROUND(SUM(Table1[[#This Row],[Basic Of March 21]],J16)*10%,0)*4+ROUND(SUM(N16:O16)*10%,0)*8) -> 0 | T16: =SUM(M16,R16:S16) -> 0 | W16: Other | Z16: L-11
A17: =IF(Table1[[#This Row],[Name of Employee]]="","",ROWS($A$1:A12)) -> 12 | B17: I | J17: =IF(Table1[[#This Row],[Probation]]="Yes",0,ROUND(Table1[[#This Row],[Basic Of March 21]]*$C$3,0)) -> 0 | K17: =IF(Table1[[#This Row],[Probation]]="YES",0,ROUND(Table1[[#This Row],[Basic Of March 21]]*$H$3,0)) -> 0 | L17: =SUM(J17:K17,Table1[[#This Row],[Basic Of March 21]]) -> 0 | M17: =L17*4 -> 0 | N17: =IF(Table1[[#This Row],[Probation]]="Yes",Table1[[#This Row],[Basic Of March 21]],MROUND(Table1[[#This Row],[Basic Of March 21]]*1.03,100)) -> 0 | O17: =IF(Table1[[#This Row],[Probation]]="Yes",0,ROUND(N17*$C$4,0)) -> 0 | P17: =IF(Table1[[#This Row],[Probation]]="Yes",0,ROUND(N17*$H$4,0)) -> 0 | Q17: =SUM(N17:P17) -> 0 | R17: =Q17*8 -> 0 | S17: =IF(Table1[[#This Row],[GPF/NPS]]="GPF",0,ROUND(SUM(Table1[[#This Row],[Basic Of March 21]],J17)*10%,0)*4+ROUND(SUM(N17:O17)*10%,0)*8) -> 0 | T17: =SUM(M17,R17:S17) -> 0 | W17: Other | Z17: L-12
A18: =IF(Table1[[#This Row],[Name of Employee]]="","",ROWS($A$1:A13)) -> 13 | B18: J | J18: =IF(Table1[[#This Row],[Probation]]="Yes",0,ROUND(Table1[[#This Row],[Basic Of March 21]]*$C$3,0)) -> 0 | K18: =IF(Table1[[#This Row],[Probation]]="YES",0,ROUND(Table1[[#This Row],[Basic Of March 21]]*$H$3,0)) -> 0 | L18: =SUM(J18:K18,Table1[[#This Row],[Basic Of March 21]]) -> 0 | M18: =L18*4 -> 0 | N18: =IF(Table1[[#This Row],[Probation]]="Yes",Table1[[#This Row],[Basic Of March 21]],MROUND(Table1[[#This Row],[Basic Of March 21]]*1.03,100)) -> 0 | O18: =IF(Table1[[#This Row],[Probation]]="Yes",0,ROUND(N18*$C$4,0)) -> 0 | P18: =IF(Table1[[#This Row],[Probation]]="Yes",0,ROUND(N18*$H$4,0)) -> 0 | Q18: =SUM(N18:P18) -> 0 | R18: =Q18*8 -> 0 | S18: =IF(Table1[[#This Row],[GPF/NPS]]="GPF",0,ROUND(SUM(Table1[[#This Row],[Basic Of March 21]],J18)*10%,0)*4+ROUND(SUM(N18:O18)*10%,0)*8) -> 0 | T18: =SUM(M18,R18:S18) -> 0 | W18: Other | Z18: L-13
A19: =IF(Table1[[#This Row],[Name of Employee]]="","",ROWS($A$1:A14)) -> 14 | B19: K | J19: =IF(Table1[[#This Row],[Probation]]="Yes",0,ROUND(Table1[[#This Row],[Basic Of March 21]]*$C$3,0)) -> 0 | K19: =IF(Table1[[#This Row],[Probation]]="YES",0,ROUND(Table1[[#This Row],[Basic Of March 21]]*$H$3,0)) -> 0 | L19: =SUM(J19:K19,Table1[[#This Row],[Basic Of March 21]]) -> 0 | M19: =L19*4 -> 0 | N19: =IF(Table1[[#This Row],[Probation]]="Yes",Table1[[#This Row],[Basic Of March 21]],MROUND(Table1[[#This Row],[Basic Of March 21]]*1.03,100)) -> 0 | O19: =IF(Table1[[#This Row],[Probation]]="Yes",0,ROUND(N19*$C$4,0)) -> 0 | P19: =IF(Table1[[#This Row],[Probation]]="Yes",0,ROUND(N19*$H$4,0)) -> 0 | Q19: =SUM(N19:P19) -> 0 | R19: =Q19*8 -> 0 | S19: =IF(Table1[[#This Row],[GPF/NPS]]="GPF",0,ROUND(SUM(Table1[[#This Row],[Basic Of March 21]],J19)*10%,0)*4+ROUND(SUM(N19:O19)*10%,0)*8) -> 0 | T19: =SUM(M19,R19:S19) -> 0 | W19: Other | Z19: L-14
A20: =IF(Table1[[#This Row],[Name of Employee]]="","",ROWS($A$1:A15)) -> 15 | B20: L | J20: =IF(Table1[[#This Row],[Probation]]="Yes",0,ROUND(Table1[[#This Row],[Basic Of March 21]]*$C$3,0)) -> 0 | K20: =IF(Table1[[#This Row],[Probation]]="YES",0,ROUND(Table1[[#This Row],[Basic Of March 21]]*$H$3,0)) -> 0 | L20: =SUM(J20:K20,Table1[[#This Row],[Basic Of March 21]]) -> 0 | M20: =L20*4 -> 0 | N20: =IF(Table1[[#This Row],[Probation]]="Yes",Table1[[#This Row],[Basic Of March 21]],MROUND(Table1[[#This Row],[Basic Of March 21]]*1.03,100)) -> 0 | O20: =IF(Table1[[#This Row],[Probation]]="Yes",0,ROUND(N20*$C$4,0)) -> 0 | P20: =IF(Table1[[#This Row],[Probation]]="Yes",0,ROUND(N20*$H$4,0)) -> 0 | Q20: =SUM(N20:P20) -> 0 | R20: =Q20*8 -> 0 | S20: =IF(Table1[[#This Row],[GPF/NPS]]="GPF",0,ROUND(SUM(Table1[[#This Row],[Basic Of March 21]],J20)*10%,0)*4+ROUND(SUM(N20:O20)*10%,0)*8) -> 0 | T20: =SUM(M20,R20:S20) -> 0 | W20: Other | Z20: L-15
A21: =IF(Table1[[#This Row],[Name of Employee]]="","",ROWS($A$1:A16)) -> 16 | B21: M | J21: =IF(Table1[[#This Row],[Probation]]="Yes",0,ROUND(Table1[[#This Row],[Basic Of March 21]]*$C$3,0)) -> 0 | K21: =IF(Table1[[#This Row],[Probation]]="YES",0,ROUND(Table1[[#This Row],[Basic Of March 21]]*$H$3,0)) -> 0 | L21: =SUM(J21:K21,Table1[[#This Row],[Basic Of March 21]]) -> 0 | M21: =L21*4 -> 0 | N21: =IF(Table1[[#This Row],[Probation]]="Yes",Table1[[#This Row],[Basic Of March 21]],MROUND(Table1[[#This Row],[Basic Of March 21]]*1.03,100)) -> 0 | O21: =IF(Table1[[#This Row],[Probation]]="Yes",0,ROUND(N21*$C$4,0)) -> 0 | P21: =IF(Table1[[#This Row],[Probation]]="Yes",0,ROUND(N21*$H$4,0)) -> 0 | Q21: =SUM(N21:P21) -> 0 | R21: =Q21*8 -> 0 | S21: =IF(Table1[[#This Row],[GPF/NPS]]="GPF",0,ROUND(SUM(Table1[[#This Row],[Basic Of March 21]],J21)*10%,0)*4+ROUND(SUM(N21:O21)*10%,0)*8) -> 0 | T21: =SUM(M21,R21:S21) -> 0 | W21: Other | Z21: L-16
A22: =IF(Table1[[#This Row],[Name of Employee]]="","",ROWS($A$1:A17)) -> 17 | B22: N | J22: =IF(Table1[[#This Row],[Probation]]="Yes",0,ROUND(Table1[[#This Row],[Basic Of March 21]]*$C$3,0)) -> 0 | K22: =IF(Table1[[#This Row],[Probation]]="YES",0,ROUND(Table1[[#This Row],[Basic Of March 21]]*$H$3,0)) -> 0 | L22: =SUM(J22:K22,Table1[[#This Row],[Basic Of March 21]]) -> 0 | M22: =L22*4 -> 0 | N22: =IF(Table1[[#This Row],[Probation]]="Yes",Table1[[#This Row],[Basic Of March 21]],MROUND(Table1[[#This Row],[Basic Of March 21]]*1.03,100)) -> 0 | O22: =IF(Table1[[#This Row],[Probation]]="Yes",0,ROUND(N22*$C$4,0)) -> 0 | P22: =IF(Table1[[#This Row],[Probation]]="Yes",0,ROUND(N22*$H$4,0)) -> 0 | Q22: =SUM(N22:P22) -> 0 | R22: =Q22*8 -> 0 | S22: =IF(Table1[[#This Row],[GPF/NPS]]="GPF",0,ROUND(SUM(Table1[[#This Row],[Basic Of March 21]],J22)*10%,0)*4+ROUND(SUM(N22:O22)*10%,0)*8) -> 0 | T22: =SUM(M22,R22:S22) -> 0 | W22: Other | Z22: L-17
... A27: =IF(Table1[[#This Row],[Name of Employee]]="","",ROWS($A$1:A22)) -> 22 | B27: S | J27: =IF(Table1[[#This Row],[Probation]]="Yes",0,ROUND(Table1[[#This Row],[Basic Of March 21]]*$C$3,0)) -> 0 | K27: =IF(Table1[[#This Row],[Probation]]="YES",0,ROUND(Table1[[#This Row],[Basic Of March 21]]*$H$3,0)) -> 0 | L27: =SUM(J27:K27,Table1[[#This Row],[Basic Of March 21]]) -> 0 | M27: =L27*4 -> 0 | N27: =IF(Table1[[#This Row],[Probation]]="Yes",Table1[[#This Row],[Basic Of March 21]],MROUND(Table1[[#This Row],[Basic Of March 21]]*1.03,100)) -> 0 | O27: =IF(Table1[[#This Row],[Probation]]="Yes",0,ROUND(N27*$C$4,0)) -> 0 | P27: =IF(Table1[[#This Row],[Probation]]="Yes",0,ROUND(N27*$H$4,0)) -> 0 | Q27: =SUM(N27:P27) -> 0 | R27: =Q27*8 -> 0 | S27: =IF(Table1[[#This Row],[GPF/NPS]]="GPF",0,ROUND(SUM(Table1[[#This Row],[Basic Of March 21]],J27)*10%,0)*4+ROUND(SUM(N27:O27)*10%,0)*8) -> 0 | T27: =SUM(M27,R27:S27) -> 0 | W27: Other | Z27: L-22
A28: =IF(Table1[[#This Row],[Name of Employee]]="","",ROWS($A$1:A23)) -> 23 | B28: T | J28: =IF(Table1[[#This Row],[Probation]]="Yes",0,ROUND(Table1[[#This Row],[Basic Of March 21]]*$C$3,0)) -> 0 | K28: =IF(Table1[[#This Row],[Probation]]="YES",0,ROUND(Table1[[#This Row],[Basic Of March 21]]*$H$3,0)) -> 0 | L28: =SUM(J28:K28,Table1[[#This Row],[Basic Of March 21]]) -> 0 | M28: =L28*4 -> 0 | N28: =IF(Table1[[#This Row],[Probation]]="Yes",Table1[[#This Row],[Basic Of March 21]],MROUND(Table1[[#This Row],[Basic Of March 21]]*1.03,100)) -> 0 | O28: =IF(Table1[[#This Row],[Probation]]="Yes",0,ROUND(N28*$C$4,0)) -> 0 | P28: =IF(Table1[[#This Row],[Probation]]="Yes",0,ROUND(N28*$H$4,0)) -> 0 | Q28: =SUM(N28:P28) -> 0 | R28: =Q28*8 -> 0 | S28: =IF(Table1[[#This Row],[GPF/NPS]]="GPF",0,ROUND(SUM(Table1[[#This Row],[Basic Of March 21]],J28)*10%,0)*4+ROUND(SUM(N28:O28)*10%,0)*8) -> 0 | T28: =SUM(M28,R28:S28) -> 0 | Z28: L-23
A29: =IF(Table1[[#This Row],[Name of Employee]]="","",ROWS($A$1:A24)) -> 24 | B29: U | J29: =IF(Table1[[#This Row],[Probation]]="Yes",0,ROUND(Table1[[#This Row],[Basic Of March 21]]*$C$3,0)) -> 0 | K29: =IF(Table1[[#This Row],[Probation]]="YES",0,ROUND(Table1[[#This Row],[Basic Of March 21]]*$H$3,0)) -> 0 | L29: =SUM(J29:K29,Table1[[#This Row],[Basic Of March 21]]) -> 0 | M29: =L29*4 -> 0 | N29: =IF(Table1[[#This Row],[Probation]]="Yes",Table1[[#This Row],[Basic Of March 21]],MROUND(Table1[[#This Row],[Basic Of March 21]]*1.03,100)) -> 0 | O29: =IF(Table1[[#This Row],[Probation]]="Yes",0,ROUND(N29*$C$4,0)) -> 0 | P29: =IF(Table1[[#This Row],[Probation]]="Yes",0,ROUND(N29*$H$4,0)) -> 0 | Q29: =SUM(N29:P29) -> 0 | R29: =Q29*8 -> 0 | S29: =IF(Table1[[#This Row],[GPF/NPS]]="GPF",0,ROUND(SUM(Table1[[#This Row],[Basic Of March 21]],J29)*10%,0)*4+ROUND(SUM(N29:O29)*10%,0)*8) -> 0 | T29: =SUM(M29,R29:S29) -> 0 | Z29: L-24
A30: =IF(Table1[[#This Row],[Name of Employee]]="","",ROWS($A$1:A25)) -> 25 | B30: V | J30: =IF(Table1[[#This Row],[Probation]]="Yes",0,ROUND(Table1[[#This Row],[Basic Of March 21]]*$C$3,0)) -> 0 | K30: =IF(Table1[[#This Row],[Probation]]="YES",0,ROUND(Table1[[#This Row],[Basic Of March 21]]*$H$3,0)) -> 0 | L30: =SUM(J30:K30,Table1[[#This Row],[Basic Of March 21]]) -> 0 | M30: =L30*4 -> 0 | N30: =IF(Table1[[#This Row],[Probation]]="Yes",Table1[[#This Row],[Basic Of March 21]],MROUND(Table1[[#This Row],[Basic Of March 21]]*1.03,100)) -> 0 | O30: =IF(Table1[[#This Row],[Probation]]="Yes",0,ROUND(N30*$C$4,0)) -> 0 | P30: =IF(Table1[[#This Row],[Probation]]="Yes",0,ROUND(N30*$H$4,0)) -> 0 | Q30: =SUM(N30:P30) -> 0 | R30: =Q30*8 -> 0 | S30: =IF(Table1[[#This Row],[GPF/NPS]]="GPF",0,ROUND(SUM(Table1[[#This Row],[Basic Of March 21]],J30)*10%,0)*4+ROUND(SUM(N30:O30)*10%,0)*8) -> 0 | T30: =SUM(M30,R30:S30) -> 0
A31: =IF(Table1[[#This Row],[Name of Employee]]="","",ROWS($A$1:A26)) -> 26 | B31: W | J31: =IF(Table1[[#This Row],[Probation]]="Yes",0,ROUND(Table1[[#This Row],[Basic Of March 21]]*$C$3,0)) -> 0 | K31: =IF(Table1[[#This Row],[Probation]]="YES",0,ROUND(Table1[[#This Row],[Basic Of March 21]]*$H$3,0)) -> 0 | L31: =SUM(J31:K31,Table1[[#This Row],[Basic Of March 21]]) -> 0 | M31: =L31*4 -> 0 | N31: =IF(Table1[[#This Row],[Probation]]="Yes",Table1[[#This Row],[Basic Of March 21]],MROUND(Table1[[#This Row],[Basic Of March 21]]*1.03,100)) -> 0 | O31: =IF(Table1[[#This Row],[Probation]]="Yes",0,ROUND(N31*$C$4,0)) -> 0 | P31: =IF(Table1[[#This Row],[Probation]]="Yes",0,ROUND(N31*$H$4,0)) -> 0 | Q31: =SUM(N31:P31) -> 0 | R31: =Q31*8 -> 0 | S31: =IF(Table1[[#This Row],[GPF/NPS]]="GPF",0,ROUND(SUM(Table1[[#This Row],[Basic Of March 21]],J31)*10%,0)*4+ROUND(SUM(N31:O31)*10%,0)*8) -> 0 | T31: =SUM(M31,R31:S31) -> 0
A32: =IF(Table1[[#This Row],[Name of Employee]]="","",ROWS($A$1:A27)) -> 27 | B32: X | J32: =IF(Table1[[#This Row],[Probation]]="Yes",0,ROUND(Table1[[#This Row],[Basic Of March 21]]*$C$3,0)) -> 0 | K32: =IF(Table1[[#This Row],[Probation]]="YES",0,ROUND(Table1[[#This Row],[Basic Of March 21]]*$H$3,0)) -> 0 | L32: =SUM(J32:K32,Table1[[#This Row],[Basic Of March 21]]) -> 0 | M32: =L32*4 -> 0 | N32: =IF(Table1[[#This Row],[Probation]]="Yes",Table1[[#This Row],[Basic Of March 21]],MROUND(Table1[[#This Row],[Basic Of March 21]]*1.03,100)) -> 0 | O32: =IF(Table1[[#This Row],[Probation]]="Yes",0,ROUND(N32*$C$4,0)) -> 0 | P32: =IF(Table1[[#This Row],[Probation]]="Yes",0,ROUND(N32*$H$4,0)) -> 0 | Q32: =SUM(N32:P32) -> 0 | R32: =Q32*8 -> 0 | S32: =IF(Table1[[#This Row],[GPF/NPS]]="GPF",0,ROUND(SUM(Table1[[#This Row],[Basic Of March 21]],J32)*10%,0)*4+ROUND(SUM(N32:O32)*10%,0)*8) -> 0 | T32: =SUM(M32,R32:S32) -> 0
A33: =IF(Table1[[#This Row],[Name of Employee]]="","",ROWS($A$1:A28)) -> 28 | B33: Y | J33: =IF(Table1[[#This Row],[Probation]]="Yes",0,ROUND(Table1[[#This Row],[Basic Of March 21]]*$C$3,0)) -> 0 | K33: =IF(Table1[[#This Row],[Probation]]="YES",0,ROUND(Table1[[#This Row],[Basic Of March 21]]*$H$3,0)) -> 0 | L33: =SUM(J33:K33,Table1[[#This Row],[Basic Of March 21]]) -> 0 | M33: =L33*4 -> 0 | N33: =IF(Table1[[#This Row],[Probation]]="Yes",Table1[[#This Row],[Basic Of March 21]],MROUND(Table1[[#This Row],[Basic Of March 21]]*1.03,100)) -> 0 | O33: =IF(Table1[[#This Row],[Probation]]="Yes",0,ROUND(N33*$C$4,0)) -> 0 | P33: =IF(Table1[[#This Row],[Probation]]="Yes",0,ROUND(N33*$H$4,0)) -> 0 | Q33: =SUM(N33:P33) -> 0 | R33: =Q33*8 -> 0 | S33: =IF(Table1[[#This Row],[GPF/NPS]]="GPF",0,ROUND(SUM(Table1[[#This Row],[Basic Of March 21]],J33)*10%,0)*4+ROUND(SUM(N33:O33)*10%,0)*8) -> 0 | T33: =SUM(M33,R33:S33) -> 0
A34: =IF(Table1[[#This Row],[Name of Employee]]="","",ROWS($A$1:A29)) -> 29 | B34: Z | J34: =IF(Table1[[#This Row],[Probation]]="Yes",0,ROUND(Table1[[#This Row],[Basic Of March 21]]*$C$3,0)) -> 0 | K34: =IF(Table1[[#This Row],[Probation]]="YES",0,ROUND(Table1[[#This Row],[Basic Of March 21]]*$H$3,0)) -> 0 | L34: =SUM(J34:K34,Table1[[#This Row],[Basic Of March 21]]) -> 0 | M34: =L34*4 -> 0 | N34: =IF(Table1[[#This Row],[Probation]]="Yes",Table1[[#This Row],[Basic Of March 21]],MROUND(Table1[[#This Row],[Basic Of March 21]]*1.03,100)) -> 0 | O34: =IF(Table1[[#This Row],[Probation]]="Yes",0,ROUND(N34*$C$4,0)) -> 0 | P34: =IF(Table1[[#This Row],[Probation]]="Yes",0,ROUND(N34*$H$4,0)) -> 0 | Q34: =SUM(N34:P34) -> 0 | R34: =Q34*8 -> 0 | S34: =IF(Table1[[#This Row],[GPF/NPS]]="GPF",0,ROUND(SUM(Table1[[#This Row],[Basic Of March 21]],J34)*10%,0)*4+ROUND(SUM(N34:O34)*10%,0)*8) -> 0 | T34: =SUM(M34,R34:S34) -> 0
A35: =IF(Table1[[#This Row],[Name of Employee]]="","",ROWS($A$1:A30)) -> 30 | B35: A | J35: =IF(Table1[[#This Row],[Probation]]="Yes",0,ROUND(Table1[[#This Row],[Basic Of March 21]]*$C$3,0)) -> 0 | K35: =IF(Table1[[#This Row],[Probation]]="YES",0,ROUND(Table1[[#This Row],[Basic Of March 21]]*$H$3,0)) -> 0 | L35: =SUM(J35:K35,Table1[[#This Row],[Basic Of March 21]]) -> 0 | M35: =L35*4 -> 0 | N35: =IF(Table1[[#This Row],[Probation]]="Yes",Table1[[#This Row],[Basic Of March 21]],MROUND(Table1[[#This Row],[Basic Of March 21]]*1.03,100)) -> 0 | O35: =IF(Table1[[#This Row],[Probation]]="Yes",0,ROUND(N35*$C$4,0)) -> 0 | P35: =IF(Table1[[#This Row],[Probation]]="Yes",0,ROUND(N35*$H$4,0)) -> 0 | Q35: =SUM(N35:P35) -> 0 | R35: =Q35*8 -> 0 | S35: =IF(Table1[[#This Row],[GPF/NPS]]="GPF",0,ROUND(SUM(Table1[[#This Row],[Basic Of March 21]],J35)*10%,0)*4+ROUND(SUM(N35:O35)*10%,0)*8) -> 0 | T35: =SUM(M35,R35:S35) -> 0
A36: =IF(Table1[[#This Row],[Name of Employee]]="","",ROWS($A$1:A31)) -> 31 | B36: B | J36: =IF(Table1[[#This Row],[Probation]]="Yes",0,ROUND(Table1[[#This Row],[Basic Of March 21]]*$C$3,0)) -> 0 | K36: =IF(Table1[[#This Row],[Probation]]="YES",0,ROUND(Table1[[#This Row],[Basic Of March 21]]*$H$3,0)) -> 0 | L36: =SUM(J36:K36,Table1[[#This Row],[Basic Of March 21]]) -> 0 | M36: =L36*4 -> 0 | N36: =IF(Table1[[#This Row],[Probation]]="Yes",Table1[[#This Row],[Basic Of March 21]],MROUND(Table1[[#This Row],[Basic Of March 21]]*1.03,100)) -> 0 | O36: =IF(Table1[[#This Row],[Probation]]="Yes",0,ROUND(N36*$C$4,0)) -> 0 | P36: =IF(Table1[[#This Row],[Probation]]="Yes",0,ROUND(N36*$H$4,0)) -> 0 | Q36: =SUM(N36:P36) -> 0 | R36: =Q36*8 -> 0 | S36: =IF(Table1[[#This Row],[GPF/NPS]]="GPF",0,ROUND(SUM(Table1[[#This Row],[Basic Of March 21]],J36)*10%,0)*4+ROUND(SUM(N36:O36)*10%,0)*8) -> 0 | T36: =SUM(M36,R36:S36) -> 0
A37: =IF(Table1[[#This Row],[Name of Employee]]="","",ROWS($A$1:A32)) -> 32 | B37: C | J37: =IF(Table1[[#This Row],[Probation]]="Yes",0,ROUND(Table1[[#This Row],[Basic Of March 21]]*$C$3,0)) -> 0 | K37: =IF(Table1[[#This Row],[Probation]]="YES",0,ROUND(Table1[[#This Row],[Basic Of March 21]]*$H$3,0)) -> 0 | L37: =SUM(J37:K37,Table1[[#This Row],[Basic Of March 21]]) -> 0 | M37: =L37*4 -> 0 | N37: =IF(Table1[[#This Row],[Probation]]="Yes",Table1[[#This Row],[Basic Of March 21]],MROUND(Table1[[#This Row],[Basic Of March 21]]*1.03,100)) -> 0 | O37: =IF(Table1[[#This Row],[Probation]]="Yes",0,ROUND(N37*$C$4,0)) -> 0 | P37: =IF(Table1[[#This Row],[Probation]]="Yes",0,ROUND(N37*$H$4,0)) -> 0 | Q37: =SUM(N37:P37) -> 0 | R37: =Q37*8 -> 0 | S37: =IF(Table1[[#This Row],[GPF/NPS]]="GPF",0,ROUND(SUM(Table1[[#This Row],[Basic Of March 21]],J37)*10%,0)*4+ROUND(SUM(N37:O37)*10%,0)*8) -> 0 | T37: =SUM(M37,R37:S37) -> 0
A38: =IF(Table1[[#This Row],[Name of Employee]]="","",ROWS($A$1:A33)) -> 33 | B38: D | J38: =IF(Table1[[#This Row],[Probation]]="Yes",0,ROUND(Table1[[#This Row],[Basic Of March 21]]*$C$3,0)) -> 0 | K38: =IF(Table1[[#This Row],[Probation]]="YES",0,ROUND(Table1[[#This Row],[Basic Of March 21]]*$H$3,0)) -> 0 | L38: =SUM(J38:K38,Table1[[#This Row],[Basic Of March 21]]) -> 0 | M38: =L38*4 -> 0 | N38: =IF(Table1[[#This Row],[Probation]]="Yes",Table1[[#This Row],[Basic Of March 21]],MROUND(Table1[[#This Row],[Basic Of March 21]]*1.03,100)) -> 0 | O38: =IF(Table1[[#This Row],[Probation]]="Yes",0,ROUND(N38*$C$4,0)) -> 0 | P38: =IF(Table1[[#This Row],[Probation]]="Yes",0,ROUND(N38*$H$4,0)) -> 0 | Q38: =SUM(N38:P38) -> 0 | R38: =Q38*8 -> 0 | S38: =IF(Table1[[#This Row],[GPF/NPS]]="GPF",0,ROUND(SUM(Table1[[#This Row],[Basic Of March 21]],J38)*10%,0)*4+ROUND(SUM(N38:O38)*10%,0)*8) -> 0 | T38: =SUM(M38,R38:S38) -> 0
A39: =IF(Table1[[#This Row],[Name of Employee]]="","",ROWS($A$1:A34)) -> 34 | B39: E | J39: =IF(Table1[[#This Row],[Probation]]="Yes",0,ROUND(Table1[[#This Row],[Basic Of March 21]]*$C$3,0)) -> 0 | K39: =IF(Table1[[#This Row],[Probation]]="YES",0,ROUND(Table1[[#This Row],[Basic Of March 21]]*$H$3,0)) -> 0 | L39: =SUM(J39:K39,Table1[[#This Row],[Basic Of March 21]]) -> 0 | M39: =L39*4 -> 0 | N39: =IF(Table1[[#This Row],[Probation]]="Yes",Table1[[#This Row],[Basic Of March 21]],MROUND(Table1[[#This Row],[Basic Of March 21]]*1.03,100)) -> 0 | O39: =IF(Table1[[#This Row],[Probation]]="Yes",0,ROUND(N39*$C$4,0)) -> 0 | P39: =IF(Table1[[#This Row],[Probation]]="Yes",0,ROUND(N39*$H$4,0)) -> 0 | Q39: =SUM(N39:P39) -> 0 | R39: =Q39*8 -> 0 | S39: =IF(Table1[[#This Row],[GPF/NPS]]="GPF",0,ROUND(SUM(Table1[[#This Row],[Basic Of March 21]],J39)*10%,0)*4+ROUND(SUM(N39:O39)*10%,0)*8) -> 0 | T39: =SUM(M39,R39:S39) -> 0
A40: =IF(Table1[[#This Row],[Name of Employee]]="","",ROWS($A$1:A35)) -> 35 | B40: F | J40: =IF(Table1[[#This Row],[Probation]]="Yes",0,ROUND(Table1[[#This Row],[Basic Of March 21]]*$C$3,0)) -> 0 | K40: =IF(Table1[[#This Row],[Probation]]="YES",0,ROUND(Table1[[#This Row],[Basic Of March 21]]*$H$3,0)) -> 0 | L40: =SUM(J40:K40,Table1[[#This Row],[Basic Of March 21]]) -> 0 | M40: =L40*4 -> 0 | N40: =IF(Table1[[#This Row],[Probation]]="Yes",Table1[[#This Row],[Basic Of March 21]],MROUND(Table1[[#This Row],[Basic Of March 21]]*1.03,100)) -> 0 | O40: =IF(Table1[[#This Row],[Probation]]="Yes",0,ROUND(N40*$C$4,0)) -> 0 | P40: =IF(Table1[[#This Row],[Probation]]="Yes",0,ROUND(N40*$H$4,0)) -> 0 | Q40: =SUM(N40:P40) -> 0 | R40: =Q40*8 -> 0 | S40: =IF(Table1[[#This Row],[GPF/NPS]]="GPF",0,ROUND(SUM(Table1[[#This Row],[Basic Of March 21]],J40)*10%,0)*4+ROUND(SUM(N40:O40)*10%,0)*8) -> 0 | T40: =SUM(M40,R40:S40) -> 0
A41: =IF(Table1[[#This Row],[Name of Employee]]="","",ROWS($A$1:A36)) -> 36 | B41: G | J41: =IF(Table1[[#This Row],[Probation]]="Yes",0,ROUND(Table1[[#This Row],[Basic Of March 21]]*$C$3,0)) -> 0 | K41: =IF(Table1[[#This Row],[Probation]]="YES",0,ROUND(Table1[[#This Row],[Basic Of March 21]]*$H$3,0)) -> 0 | L41: =SUM(J41:K41,Table1[[#This Row],[Basic Of March 21]]) -> 0 | M41: =L41*4 -> 0 | N41: =IF(Table1[[#This Row],[Probation]]="Yes",Table1[[#This Row],[Basic Of March 21]],MROUND(Table1[[#This Row],[Basic Of March 21]]*1.03,100)) -> 0 | O41: =IF(Table1[[#This Row],[Probation]]="Yes",0,ROUND(N41*$C$4,0)) -> 0 | P41: =IF(Table1[[#This Row],[Probation]]="Yes",0,ROUND(N41*$H$4,0)) -> 0 | Q41: =SUM(N41:P41) -> 0 | R41: =Q41*8 -> 0 | S41: =IF(Table1[[#This Row],[GPF/NPS]]="GPF",0,ROUND(SUM(Table1[[#This Row],[Basic Of March 21]],J41)*10%,0)*4+ROUND(SUM(N41:O41)*10%,0)*8) -> 0 | T41: =SUM(M41,R41:S41) -> 0
... A321: =IF(Table1[[#This Row],[Name of Employee]]="","",ROWS($A$1:A316)) -> 316 | B321: A | J321: =IF(Table1[[#This Row],[Probation]]="Yes",0,ROUND(Table1[[#This Row],[Basic Of March 21]]*$C$3,0)) -> 0 | K321: =IF(Table1[[#This Row],[Probation]]="YES",0,ROUND(Table1[[#This Row],[Basic Of March 21]]*$H$3,0)) -> 0 | L321: =SUM(J321:K321,Table1[[#This Row],[Basic Of March 21]]) -> 0 | M321: =L321*4 -> 0 | N321: =IF(Table1[[#This Row],[Probation]]="Yes",Table1[[#This Row],[Basic Of March 21]],MROUND(Table1[[#This Row],[Basic Of March 21]]*1.03,100)) -> 0 | O321: =IF(Table1[[#This Row],[Probation]]="Yes",0,ROUND(N321*$C$4,0)) -> 0 | P321: =IF(Table1[[#This Row],[Probation]]="Yes",0,ROUND(N321*$H$4,0)) -> 0 | Q321: =SUM(N321:P321) -> 0 | R321: =Q321*8 -> 0 | S321: =IF(Table1[[#This Row],[GPF/NPS]]="GPF",0,ROUND(SUM(Table1[[#This Row],[Basic Of March 21]],J321)*10%,0)*4+ROUND(SUM(N321:O321)*10%,0)*8) -> 0 | T321: =SUM(M321,R321:S321) -> 0

Sheet Tax Calculator
A1: =Master!A1 -> Government Senior Secondary School, Deogarh (Rajsamand) | U1: NO
A2: =Master!A2 -> Estimated Tax Calculation
A5: Sr.No. | B5: Name of Employee | C5: Gross Salary with Govt.NPS | D5: HRA Relief other Tax Free | E5: Satandard Deduction | F5: Home Loan Interest | G5: Other Income | H5: Gross Amount | I5: Deduction Under 80C (Max 1,50,000) | J5: Deduction Under 80CCD (2) | K5: Deduction Under 80CCD (1B) | L5: Deduction Above 150000 (80G etc.) | M5: Net Taxable Amount | N5: Total Tax | O5: Relief 87(A) | P5: Total Tax | Q5: Sess 4% | T5: Old Tax | U5: New Tax Basic | V5: Rebate | W5: New Tax Paybale Gross | AD5: New Tax | AE5: 87A | AG5: Sess | AH5: New Toatl Tax
A6: =IF(Table1[[#This Row],[Sr.No.]]="","",Table1[[#This Row],[Sr.No.]]) -> 1 | B6: =IF(Table1[[#This Row],[Name of Employee]]="","",Table1[[#This Row],[Name of Employee]]) -> Ashwini Kumar Sharma | C6: =IF(IF(Master!T6="","",Master!T6)=0,"",IF(Master!T6="","",Master!T6)) -> 837020 | E6: 50000 | H6: =SUM(C6,G6)-SUM(D6:F6) -> 787020 | J6: =IF(V6=0,"",V6) -> 71556 | M6: =ROUND(H6-SUM(I6:L6),-1) -> 715460 | N6: =SUM(AJ6:AL6) -> 55592 | O6: =IF(M6>500000,0,IF(AJ6<12501,AJ6,12500)) -> 0 | P6: =N6-O6 -> 55592 | Q6: =ROUND(P6*0.04,0) -> 2224 | T6: =SUM(P6:Q6) -> 57816 | U6: =SUM(C6,G6)-D6 -> 837020 | V6: =Master!S6 -> 71556 | W6: =ROUND(U6-V6,-1) -> 765460 | X6: =ROUND(IF(U1="NO",IF(W6<250001,0,IF(W6>500000,12500,((W6-250000)*0.05))),IF(W6<300001,0,IF(W6>500000,10000,((W6-300000)*0.05)))),0) -> 12500 | Y6: =IF(W6<500001,0,IF(W6>750000,25000,((W6-500000)*0.1))) -> 25000 | Z6: =IF(W6<750001,0,IF(W6>1000000,37500,((W6-750000)*0.15))) -> 2319 | AA6: =IF(W6<1000001,0,IF(W6>1250000,50000,((W6-1000000)*0.2))) -> 0 | AB6: =IF(W6<1250001,0,IF(W6>1500000,62500,((W6-1250000)*0.25))) -> 0 | AC6: =IF(W6<1500001,0,(W6-1500000)*0.3) -> 0 | AD6: =SUM(X6:AC6) -> 39819 | AE6: =IF(W6>500000,0,IF(X6<12501,X6,12500)) -> 0 | AF6: =AD6-AE6 -> 39819 | AG6: =ROUND(AF6*0.04,0) -> 1593 | AH6: =SUM(AF6:AG6) -> 41412 | AJ6: =ROUND(IF(M6<250001,0,IF(M6>500000,12500,((M6-250000)*0.05))),IF(M6<300001,0,IF(M6>500000,10000,((M6-300000)*0.05)))) -> 12500 | AK6: =IF(M6<500001,0,IF(M6>1000000,100000,((M6-500000)*0.2))) -> 43092 | AL6: =IF(M6<1000001,0,((M6-1000000)*0.3)) -> 0
A7: =IF(Table1[[#This Row],[Sr.No.]]="","",Table1[[#This Row],[Sr.No.]]) -> 2 | B7: =IF(Table1[[#This Row],[Name of Employee]]="","",Table1[[#This Row],[Name of Employee]]) -> Aditya Jakhad | C7: =IF(IF(Master!T7="","",Master!T7)=0,"",IF(Master!T7="","",Master!T7)) -> 192720 | E7: 50000 | H7: =SUM(C7,G7)-SUM(D7:F7) -> 142720 | J7: =IF(V7=0,"",V7) -> 17520 | M7: =ROUND(H7-SUM(I7:L7),-1) -> 125200 | N7: =SUM(AJ7:AL7) -> 0 | O7: =IF(M7>500000,0,IF(AJ7<12501,AJ7,12500)) -> 0 | P7: =N7-O7 -> 0 | Q7: =ROUND(P7*0.04,0) -> 0 | T7: =SUM(P7:Q7) -> 0 | U7: =SUM(C7,G7)-D7 -> 192720 | V7: =Master!S7 -> 17520 | W7: =ROUND(U7-V7,-1) -> 175200 | X7: =ROUND(IF(U2="NO",IF(W7<250001,0,IF(W7>500000,12500,((W7-250000)*0.05))),IF(W7<300001,0,IF(W7>500000,10000,((W7-300000)*0.05)))),0) -> 0 | Y7: =IF(W7<500001,0,IF(W7>750000,25000,((W7-500000)*0.1))) -> 0 | Z7: =IF(W7<750001,0,IF(W7>1000000,37500,((W7-750000)*0.15))) -> 0 | AA7: =IF(W7<1000001,0,IF(W7>1250000,50000,((W7-1000000)*0.2))) -> 0 | AB7: =IF(W7<1250001,0,IF(W7>1500000,62500,((W7-1250000)*0.25))) -> 0 | AC7: =IF(W7<1500001,0,(W7-1500000)*0.3) -> 0 | AD7: =SUM(X7:AC7) -> 0 | AE7: =IF(W7>500000,0,IF(X7<12501,X7,12500)) -> 0 | AF7: =AD7-AE7 -> 0 | AG7: =ROUND(AF7*0.04,0) -> 0 | AH7: =SUM(AF7:AG7) -> 0 | AJ7: =ROUND(IF(M7<250001,0,IF(M7>500000,12500,((M7-250000)*0.05))),IF(M7<300001,0,IF(M7>500000,10000,((M7-300000)*0.05)))) -> 0 | AK7: =IF(M7<500001,0,IF(M7>1000000,100000,((M7-500000)*0.2))) -> 0 | AL7: =IF(M7<1000001,0,((M7-1000000)*0.3)) -> 0
A8: =IF(Table1[[#This Row],[Sr.No.]]="","",Table1[[#This Row],[Sr.No.]]) -> 3 | B8: =IF(Table1[[#This Row],[Name of Employee]]="","",Table1[[#This Row],[Name of Employee]]) -> Prakash Kumar Gaur | C8: =IF(IF(Master!T8="","",Master!T8)=0,"",IF(Master!T8="","",Master!T8)) -> 828296 | E8: 50000 | H8: =SUM(C8,G8)-SUM(D8:F8) -> 778296 | J8: =IF(V8=0,"",V8) -> 70812 | M8: =ROUND(H8-SUM(I8:L8),-1) -> 707480 | N8: =SUM(AJ8:AL8) -> 53996 | O8: =IF(M8>500000,0,IF(AJ8<12501,AJ8,12500)) -> 0 | P8: =N8-O8 -> 53996 | Q8: =ROUND(P8*0.04,0) -> 2160 | T8: =SUM(P8:Q8) -> 56156 | U8: =SUM(C8,G8)-D8 -> 828296 | V8: =Master!S8 -> 70812 | W8: =ROUND(U8-V8,-1) -> 757480 | X8: =ROUND(IF(U3="NO",IF(W8<250001,0,IF(W8>500000,12500,((W8-250000)*0.05))),IF(W8<300001,0,IF(W8>500000,10000,((W8-300000)*0.05)))),0) -> 10000 | Y8: =IF(W8<500001,0,IF(W8>750000,25000,((W8-500000)*0.1))) -> 25000 | Z8: =IF(W8<750001,0,IF(W8>1000000,37500,((W8-750000)*0.15))) -> 1122 | AA8: =IF(W8<1000001,0,IF(W8>1250000,50000,((W8-1000000)*0.2))) -> 0 | AB8: =IF(W8<1250001,0,IF(W8>1500000,62500,((W8-1250000)*0.25))) -> 0 | AC8: =IF(W8<1500001,0,(W8-1500000)*0.3) -> 0 | AD8: =SUM(X8:AC8) -> 36122 | AE8: =IF(W8>500000,0,IF(X8<12501,X8,12500)) -> 0 | AF8: =AD8-AE8 -> 36122 | AG8: =ROUND(AF8*0.04,0) -> 1445 | AH8: =SUM(AF8:AG8) -> 37567 | AJ8: =ROUND(IF(M8<250001,0,IF(M8>500000,12500,((M8-250000)*0.05))),IF(M8<300001,0,IF(M8>500000,10000,((M8-300000)*0.05)))) -> 12500 | AK8: =IF(M8<500001,0,IF(M8>1000000,100000,((M8-500000)*0.2))) -> 41496 | AL8: =IF(M8<1000001,0,((M8-1000000)*0.3)) -> 0
A9: =IF(Table1[[#This Row],[Sr.No.]]="","",Table1[[#This Row],[Sr.No.]]) -> 4 | B9: =IF(Table1[[#This Row],[Name of Employee]]="","",Table1[[#This Row],[Name of Employee]]) -> Bheru Prasad Jangid | C9: =IF(IF(Master!T9="","",Master!T9)=0,"",IF(Master!T9="","",Master!T9)) -> 1269492 | E9: 50000 | H9: =SUM(C9,G9)-SUM(D9:F9) -> 1219492 | J9: =IF(V9=0,"",V9) -> 108528 | M9: =ROUND(H9-SUM(I9:L9),-1) -> 1110960 | N9: =SUM(AJ9:AL9) -> 145788 | O9: =IF(M9>500000,0,IF(AJ9<12501,AJ9,12500)) -> 0 | P9: =N9-O9 -> 145788 | Q9: =ROUND(P9*0.04,0) -> 5832 | T9: =SUM(P9:Q9) -> 151620 | U9: =SUM(C9,G9)-D9 -> 1269492 | V9: =Master!S9 -> 108528 | W9: =ROUND(U9-V9,-1) -> 1160960 | X9: =ROUND(IF(U4="NO",IF(W9<250001,0,IF(W9>500000,12500,((W9-250000)*0.05))),IF(W9<300001,0,IF(W9>500000,10000,((W9-300000)*0.05)))),0) -> 10000 | Y9: =IF(W9<500001,0,IF(W9>750000,25000,((W9-500000)*0.1))) -> 25000 | Z9: =IF(W9<750001,0,IF(W9>1000000,37500,((W9-750000)*0.15))) -> 37500 | AA9: =IF(W9<1000001,0,IF(W9>1250000,50000,((W9-1000000)*0.2))) -> 32192 | AB9: =IF(W9<1250001,0,IF(W9>1500000,62500,((W9-1250000)*0.25))) -> 0 | AC9: =IF(W9<1500001,0,(W9-1500000)*0.3) -> 0 | AD9: =SUM(X9:AC9) -> 104692 | AE9: =IF(W9>500000,0,IF(X9<12501,X9,12500)) -> 0 | AF9: =AD9-AE9 -> 104692 | AG9: =ROUND(AF9*0.04,0) -> 4188 | AH9: =SUM(AF9:AG9) -> 108880 | AJ9: =ROUND(IF(M9<250001,0,IF(M9>500000,12500,((M9-250000)*0.05))),IF(M9<300001,0,IF(M9>500000,10000,((M9-300000)*0.05)))) -> 12500 | AK9: =IF(M9<500001,0,IF(M9>1000000,100000,((M9-500000)*0.2))) -> 100000 | AL9: =IF(M9<1000001,0,((M9-1000000)*0.3)) -> 33288
A10: =IF(Table1[[#This Row],[Sr.No.]]="","",Table1[[#This Row],[Sr.No.]]) -> 5 | B10: =IF(Table1[[#This Row],[Name of Employee]]="","",Table1[[#This Row],[Name of Employee]]) -> Meghraj Sharma | C10: =IF(IF(Master!T10="","",Master!T10)=0,"",IF(Master!T10="","",Master!T10)) -> 1195576 | E10: 50000 | H10: =SUM(C10,G10)-SUM(D10:F10) -> 1145576 | J10: =IF(V10=0,"",V10) | M10: =ROUND(H10-SUM(I10:L10),-1) -> 1145580 | N10: =SUM(AJ10:AL10) -> 156174 | O10: =IF(M10>500000,0,IF(AJ10<12501,AJ10,12500)) -> 0 | P10: =N10-O10 -> 156174 | Q10: =ROUND(P10*0.04,0) -> 6247 | T10: =SUM(P10:Q10) -> 162421 | U10: =SUM(C10,G10)-D10 -> 1195576 | V10: =Master!S10 -> 0 | W10: =ROUND(U10-V10,-1) -> 1195580 | X10: =ROUND(IF(U5="NO",IF(W10<250001,0,IF(W10>500000,12500,((W10-250000)*0.05))),IF(W10<300001,0,IF(W10>500000,10000,((W10-300000)*0.05)))),0) -> 10000 | Y10: =IF(W10<500001,0,IF(W10>750000,25000,((W10-500000)*0.1))) -> 25000 | Z10: =IF(W10<750001,0,IF(W10>1000000,37500,((W10-750000)*0.15))) -> 37500 | AA10: =IF(W10<1000001,0,IF(W10>1250000,50000,((W10-1000000)*0.2))) -> 39116 | AB10: =IF(W10<1250001,0,IF(W10>1500000,62500,((W10-1250000)*0.25))) -> 0 | AC10: =IF(W10<1500001,0,(W10-1500000)*0.3) -> 0 | AD10: =SUM(X10:AC10) -> 111616 | AE10: =IF(W10>500000,0,IF(X10<12501,X10,12500)) -> 0 | AF10: =AD10-AE10 -> 111616 | AG10: =ROUND(AF10*0.04,0) -> 4465 | AH10: =SUM(AF10:AG10) -> 116081 | AJ10: =ROUND(IF(M10<250001,0,IF(M10>500000,12500,((M10-250000)*0.05))),IF(M10<300001,0,IF(M10>500000,10000,((M10-300000)*0.05)))) -> 12500 | AK10: =IF(M10<500001,0,IF(M10>1000000,100000,((M10-500000)*0.2))) -> 100000 | AL10: =IF(M10<1000001,0,((M10-1000000)*0.3)) -> 43674
A11: =IF(Table1[[#This Row],[Sr.No.]]="","",Table1[[#This Row],[Sr.No.]]) -> 6 | B11: =IF(Table1[[#This Row],[Name of Employee]]="","",Table1[[#This Row],[Name of Employee]]) -> C | C11: =IF(IF(Master!T11="","",Master!T11)=0,"",IF(Master!T11="","",Master!T11)) | E11: 50000 | H11: =SUM(C11,G11)-SUM(D11:F11) -> -50000 | J11: =IF(V11=0,"",V11) | M11: =ROUND(H11-SUM(I11:L11),-1) -> -50000 | N11: =SUM(AJ11:AL11) -> 0 | O11: =IF(M11>500000,0,IF(AJ11<12501,AJ11,12500)) -> 0 | P11: =N11-O11 -> 0 | Q11: =ROUND(P11*0.04,0) -> 0 | T11: =SUM(P11:Q11) -> 0 | U11: =SUM(C11,G11)-D11 -> 0 | V11: =Master!S11 -> 0 | W11: =ROUND(U11-V11,-1) -> 0 | X11: =ROUND(IF(U6="NO",IF(W11<250001,0,IF(W11>500000,12500,((W11-250000)*0.05))),IF(W11<300001,0,IF(W11>500000,10000,((W11-300000)*0.05)))),0) -> 0 | Y11: =IF(W11<500001,0,IF(W11>750000,25000,((W11-500000)*0.1))) -> 0 | Z11: =IF(W11<750001,0,IF(W11>1000000,37500,((W11-750000)*0.15))) -> 0 | AA11: =IF(W11<1000001,0,IF(W11>1250000,50000,((W11-1000000)*0.2))) -> 0 | AB11: =IF(W11<1250001,0,IF(W11>1500000,62500,((W11-1250000)*0.25))) -> 0 | AC11: =IF(W11<1500001,0,(W11-1500000)*0.3) -> 0 | AD11: =SUM(X11:AC11) -> 0 | AE11: =IF(W11>500000,0,IF(X11<12501,X11,12500)) -> 0 | AF11: =AD11-AE11 -> 0 | AG11: =ROUND(AF11*0.04,0) -> 0 | AH11: =SUM(AF11:AG11) -> 0 | AJ11: =ROUND(IF(M11<250001,0,IF(M11>500000,12500,((M11-250000)*0.05))),IF(M11<300001,0,IF(M11>500000,10000,((M11-300000)*0.05)))) -> 0 | AK11: =IF(M11<500001,0,IF(M11>1000000,100000,((M11-500000)*0.2))) -> 0 | AL11: =IF(M11<1000001,0,((M11-1000000)*0.3)) -> 0
A12: =IF(Table1[[#This Row],[Sr.No.]]="","",Table1[[#This Row],[Sr.No.]]) -> 7 | B12: =IF(Table1[[#This Row],[Name of Employee]]="","",Table1[[#This Row],[Name of Employee]]) -> D | C12: =IF(IF(Master!T12="","",Master!T12)=0,"",IF(Master!T12="","",Master!T12)) | E12: 50000 | H12: =SUM(C12,G12)-SUM(D12:F12) -> -50000 | J12: =IF(V12=0,"",V12) | M12: =ROUND(H12-SUM(I12:L12),-1) -> -50000 | N12: =SUM(AJ12:AL12) -> 0 | O12: =IF(M12>500000,0,IF(AJ12<12501,AJ12,12500)) -> 0 | P12: =N12-O12 -> 0 | Q12: =ROUND(P12*0.04,0) -> 0 | T12: =SUM(P12:Q12) -> 0 | U12: =SUM(C12,G12)-D12 -> 0 | V12: =Master!S12 -> 0 | W12: =ROUND(U12-V12,-1) -> 0 | X12: =ROUND(IF(U7="NO",IF(W12<250001,0,IF(W12>500000,12500,((W12-250000)*0.05))),IF(W12<300001,0,IF(W12>500000,10000,((W12-300000)*0.05)))),0) -> 0 | Y12: =IF(W12<500001,0,IF(W12>750000,25000,((W12-500000)*0.1))) -> 0 | Z12: =IF(W12<750001,0,IF(W12>1000000,37500,((W12-750000)*0.15))) -> 0 | AA12: =IF(W12<1000001,0,IF(W12>1250000,50000,((W12-1000000)*0.2))) -> 0 | AB12: =IF(W12<1250001,0,IF(W12>1500000,62500,((W12-1250000)*0.25))) -> 0 | AC12: =IF(W12<1500001,0,(W12-1500000)*0.3) -> 0 | AD12: =SUM(X12:AC12) -> 0 | AE12: =IF(W12>500000,0,IF(X12<12501,X12,12500)) -> 0 | AF12: =AD12-AE12 -> 0 | AG12: =ROUND(AF12*0.04,0) -> 0 | AH12: =SUM(AF12:AG12) -> 0 | AJ12: =ROUND(IF(M12<250001,0,IF(M12>500000,12500,((M12-250000)*0.05))),IF(M12<300001,0,IF(M12>500000,10000,((M12-300000)*0.05)))) -> 0 | AK12: =IF(M12<500001,0,IF(M12>1000000,100000,((M12-500000)*0.2))) -> 0 | AL12: =IF(M12<1000001,0,((M12-1000000)*0.3)) -> 0
A13: =IF(Table1[[#This Row],[Sr.No.]]="","",Table1[[#This Row],[Sr.No.]]) -> 8 | B13: =IF(Table1[[#This Row],[Name of Employee]]="","",Table1[[#This Row],[Name of Employee]]) -> E | C13: =IF(IF(Master!T13="","",Master!T13)=0,"",IF(Master!T13="","",Master!T13)) | E13: 50000 | H13: =SUM(C13,G13)-SUM(D13:F13) -> -50000 | J13: =IF(V13=0,"",V13) | M13: =ROUND(H13-SUM(I13:L13),-1) -> -50000 | N13: =SUM(AJ13:AL13) -> 0 | O13: =IF(M13>500000,0,IF(AJ13<12501,AJ13,12500)) -> 0 | P13: =N13-O13 -> 0 | Q13: =ROUND(P13*0.04,0) -> 0 | T13: =SUM(P13:Q13) -> 0 | U13: =SUM(C13,G13)-D13 -> 0 | V13: =Master!S13 -> 0 | W13: =ROUND(U13-V13,-1) -> 0 | X13: =ROUND(IF(U8="NO",IF(W13<250001,0,IF(W13>500000,12500,((W13-250000)*0.05))),IF(W13<300001,0,IF(W13>500000,10000,((W13-300000)*0.05)))),0) -> 0 | Y13: =IF(W13<500001,0,IF(W13>750000,25000,((W13-500000)*0.1))) -> 0 | Z13: =IF(W13<750001,0,IF(W13>1000000,37500,((W13-750000)*0.15))) -> 0 | AA13: =IF(W13<1000001,0,IF(W13>1250000,50000,((W13-1000000)*0.2))) -> 0 | AB13: =IF(W13<1250001,0,IF(W13>1500000,62500,((W13-1250000)*0.25))) -> 0 | AC13: =IF(W13<1500001,0,(W13-1500000)*0.3) -> 0 | AD13: =SUM(X13:AC13) -> 0 | AE13: =IF(W13>500000,0,IF(X13<12501,X13,12500)) -> 0 | AF13: =AD13-AE13 -> 0 | AG13: =ROUND(AF13*0.04,0) -> 0 | AH13: =SUM(AF13:AG13) -> 0 | AJ13: =ROUND(IF(M13<250001,0,IF(M13>500000,12500,((M13-250000)*0.05))),IF(M13<300001,0,IF(M13>500000,10000,((M13-300000)*0.05)))) -> 0 | AK13: =IF(M13<500001,0,IF(M13>1000000,100000,((M13-500000)*0.2))) -> 0 | AL13: =IF(M13<1000001,0,((M13-1000000)*0.3)) -> 0
A14: =IF(Table1[[#This Row],[Sr.No.]]="","",Table1[[#This Row],[Sr.No.]]) -> 9 | B14: =IF(Table1[[#This Row],[Name of Employee]]="","",Table1[[#This Row],[Name of Employee]]) -> F | C14: =IF(IF(Master!T14="","",Master!T14)=0,"",IF(Master!T14="","",Master!T14)) | E14: 50000 | H14: =SUM(C14,G14)-SUM(D14:F14) -> -50000 | J14: =IF(V14=0,"",V14) | M14: =ROUND(H14-SUM(I14:L14),-1) -> -50000 | N14: =SUM(AJ14:AL14) -> 0 | O14: =IF(M14>500000,0,IF(AJ14<12501,AJ14,12500)) -> 0 | P14: =N14-O14 -> 0 | Q14: =ROUND(P14*0.04,0) -> 0 | T14: =SUM(P14:Q14) -> 0 | U14: =SUM(C14,G14)-D14 -> 0 | V14: =Master!S14 -> 0 | W14: =ROUND(U14-V14,-1) -> 0 | X14: =ROUND(IF(U9="NO",IF(W14<250001,0,IF(W14>500000,12500,((W14-250000)*0.05))),IF(W14<300001,0,IF(W14>500000,10000,((W14-300000)*0.05)))),0) -> 0 | Y14: =IF(W14<500001,0,IF(W14>750000,25000,((W14-500000)*0.1))) -> 0 | Z14: =IF(W14<750001,0,IF(W14>1000000,37500,((W14-750000)*0.15))) -> 0 | AA14: =IF(W14<1000001,0,IF(W14>1250000,50000,((W14-1000000)*0.2))) -> 0 | AB14: =IF(W14<1250001,0,IF(W14>1500000,62500,((W14-1250000)*0.25))) -> 0 | AC14: =IF(W14<1500001,0,(W14-1500000)*0.3) -> 0 | AD14: =SUM(X14:AC14) -> 0 | AE14: =IF(W14>500000,0,IF(X14<12501,X14,12500)) -> 0 | AF14: =AD14-AE14 -> 0 | AG14: =ROUND(AF14*0.04,0) -> 0 | AH14: =SUM(AF14:AG14) -> 0 | AJ14: =ROUND(IF(M14<250001,0,IF(M14>500000,12500,((M14-250000)*0.05))),IF(M14<300001,0,IF(M14>500000,10000,((M14-300000)*0.05)))) -> 0 | AK14: =IF(M14<500001,0,IF(M14>1000000,100000,((M14-500000)*0.2))) -> 0 | AL14: =IF(M14<1000001,0,((M14-1000000)*0.3)) -> 0
A15: =IF(Table1[[#This Row],[Sr.No.]]="","",Table1[[#This Row],[Sr.No.]]) -> 10 | B15: =IF(Table1[[#This Row],[Name of Employee]]="","",Table1[[#This Row],[Name of Employee]]) -> G | C15: =IF(IF(Master!T15="","",Master!T15)=0,"",IF(Master!T15="","",Master!T15)) | E15: 50000 | H15: =SUM(C15,G15)-SUM(D15:F15) -> -50000 | J15: =IF(V15=0,"",V15) | M15: =ROUND(H15-SUM(I15:L15),-1) -> -50000 | N15: =SUM(AJ15:AL15) -> 0 | O15: =IF(M15>500000,0,IF(AJ15<12501,AJ15,12500)) -> 0 | P15: =N15-O15 -> 0 | Q15: =ROUND(P15*0.04,0) -> 0 | T15: =SUM(P15:Q15) -> 0 | U15: =SUM(C15,G15)-D15 -> 0 | V15: =Master!S15 -> 0 | W15: =ROUND(U15-V15,-1) -> 0 | X15: =ROUND(IF(U10="NO",IF(W15<250001,0,IF(W15>500000,12500,((W15-250000)*0.05))),IF(W15<300001,0,IF(W15>500000,10000,((W15-300000)*0.05)))),0) -> 0 | Y15: =IF(W15<500001,0,IF(W15>750000,25000,((W15-500000)*0.1))) -> 0 | Z15: =IF(W15<750001,0,IF(W15>1000000,37500,((W15-750000)*0.15))) -> 0 | AA15: =IF(W15<1000001,0,IF(W15>1250000,50000,((W15-1000000)*0.2))) -> 0 | AB15: =IF(W15<1250001,0,IF(W15>1500000,62500,((W15-1250000)*0.25))) -> 0 | AC15: =IF(W15<1500001,0,(W15-1500000)*0.3) -> 0 | AD15: =SUM(X15:AC15) -> 0 | AE15: =IF(W15>500000,0,IF(X15<12501,X15,12500)) -> 0 | AF15: =AD15-AE15 -> 0 | AG15: =ROUND(AF15*0.04,0) -> 0 | AH15: =SUM(AF15:AG15) -> 0 | AJ15: =ROUND(IF(M15<250001,0,IF(M15>500000,12500,((M15-250000)*0.05))),IF(M15<300001,0,IF(M15>500000,10000,((M15-300000)*0.05)))) -> 0 | AK15: =IF(M15<500001,0,IF(M15>1000000,100000,((M15-500000)*0.2))) -> 0 | AL15: =IF(M15<1000001,0,((M15-1000000)*0.3)) -> 0
A16: =IF(Table1[[#This Row],[Sr.No.]]="","",Table1[[#This Row],[Sr.No.]]) -> 11 | B16: =IF(Table1[[#This Row],[Name of Employee]]="","",Table1[[#This Row],[Name of Employee]]) -> H | C16: =IF(IF(Master!T16="","",Master!T16)=0,"",IF(Master!T16="","",Master!T16)) | E16: 50000 | H16: =SUM(C16,G16)-SUM(D16:F16) -> -50000 | J16: =IF(V16=0,"",V16) | M16: =ROUND(H16-SUM(I16:L16),-1) -> -50000 | N16: =SUM(AJ16:AL16) -> 0 | O16: =IF(M16>500000,0,IF(AJ16<12501,AJ16,12500)) -> 0 | P16: =N16-O16 -> 0 | Q16: =ROUND(P16*0.04,0) -> 0 | T16: =SUM(P16:Q16) -> 0 | U16: =SUM(C16,G16)-D16 -> 0 | V16: =Master!S16 -> 0 | W16: =ROUND(U16-V16,-1) -> 0 | X16: =ROUND(IF(U11="NO",IF(W16<250001,0,IF(W16>500000,12500,((W16-250000)*0.05))),IF(W16<300001,0,IF(W16>500000,10000,((W16-300000)*0.05)))),0) -> 0 | Y16: =IF(W16<500001,0,IF(W16>750000,25000,((W16-500000)*0.1))) -> 0 | Z16: =IF(W16<750001,0,IF(W16>1000000,37500,((W16-750000)*0.15))) -> 0 | AA16: =IF(W16<1000001,0,IF(W16>1250000,50000,((W16-1000000)*0.2))) -> 0 | AB16: =IF(W16<1250001,0,IF(W16>1500000,62500,((W16-1250000)*0.25))) -> 0 | AC16: =IF(W16<1500001,0,(W16-1500000)*0.3) -> 0 | AD16: =SUM(X16:AC16) -> 0 | AE16: =IF(W16>500000,0,IF(X16<12501,X16,12500)) -> 0 | AF16: =AD16-AE16 -> 0 | AG16: =ROUND(AF16*0.04,0) -> 0 | AH16: =SUM(AF16:AG16) -> 0 | AJ16: =ROUND(IF(M16<250001,0,IF(M16>500000,12500,((M16-250000)*0.05))),IF(M16<300001,0,IF(M16>500000,10000,((M16-300000)*0.05)))) -> 0 | AK16: =IF(M16<500001,0,IF(M16>1000000,100000,((M16-500000)*0.2))) -> 0 | AL16: =IF(M16<1000001,0,((M16-1000000)*0.3)) -> 0
A17: =IF(Table1[[#This Row],[Sr.No.]]="","",Table1[[#This Row],[Sr.No.]]) -> 12 | B17: =IF(Table1[[#This Row],[Name of Employee]]="","",Table1[[#This Row],[Name of Employee]]) -> I | C17: =IF(IF(Master!T17="","",Master!T17)=0,"",IF(Master!T17="","",Master!T17)) | E17: 50000 | H17: =SUM(C17,G17)-SUM(D17:F17) -> -50000 | J17: =IF(V17=0,"",V17) | M17: =ROUND(H17-SUM(I17:L17),-1) -> -50000 | N17: =SUM(AJ17:AL17) -> 0 | O17: =IF(M17>500000,0,IF(AJ17<12501,AJ17,12500)) -> 0 | P17: =N17-O17 -> 0 | Q17: =ROUND(P17*0.04,0) -> 0 | T17: =SUM(P17:Q17) -> 0 | U17: =SUM(C17,G17)-D17 -> 0 | V17: =Master!S17 -> 0 | W17: =ROUND(U17-V17,-1) -> 0 | X17: =ROUND(IF(U12="NO",IF(W17<250001,0,IF(W17>500000,12500,((W17-250000)*0.05))),IF(W17<300001,0,IF(W17>500000,10000,((W17-300000)*0.05)))),0) -> 0 | Y17: =IF(W17<500001,0,IF(W17>750000,25000,((W17-500000)*0.1))) -> 0 | Z17: =IF(W17<750001,0,IF(W17>1000000,37500,((W17-750000)*0.15))) -> 0 | AA17: =IF(W17<1000001,0,IF(W17>1250000,50000,((W17-1000000)*0.2))) -> 0 | AB17: =IF(W17<1250001,0,IF(W17>1500000,62500,((W17-1250000)*0.25))) -> 0 | AC17: =IF(W17<1500001,0,(W17-1500000)*0.3) -> 0 | AD17: =SUM(X17:AC17) -> 0 | AE17: =IF(W17>500000,0,IF(X17<12501,X17,12500)) -> 0 | AF17: =AD17-AE17 -> 0 | AG17: =ROUND(AF17*0.04,0) -> 0 | AH17: =SUM(AF17:AG17) -> 0 | AJ17: =ROUND(IF(M17<250001,0,IF(M17>500000,12500,((M17-250000)*0.05))),IF(M17<300001,0,IF(M17>500000,10000,((M17-300000)*0.05)))) -> 0 | AK17: =IF(M17<500001,0,IF(M17>1000000,100000,((M17-500000)*0.2))) -> 0 | AL17: =IF(M17<1000001,0,((M17-1000000)*0.3)) -> 0
... A321: =IF(Table1[[#This Row],[Sr.No.]]="","",Table1[[#This Row],[Sr.No.]]) -> 316 | B321: =IF(Table1[[#This Row],[Name of Employee]]="","",Table1[[#This Row],[Name of Employee]]) -> A | C321: =IF(IF(Master!T321="","",Master!T321)=0,"",IF(Master!T321="","",Master!T321)) | E321: 50000 | H321: =SUM(C321,G321)-SUM(D321:F321) -> -50000 | J321: =IF(V321=0,"",V321) | M321: =ROUND(H321-SUM(I321:L321),-1) -> -50000 | N321: =SUM(AJ321:AL321) -> 0 | O321: =IF(M321>500000,0,IF(AJ321<12501,AJ321,12500)) -> 0 | P321: =N321-O321 -> 0 | Q321: =ROUND(P321*0.04,0) -> 0 | T321: =SUM(P321:Q321) -> 0 | U321: =SUM(C321,G321)-D321 -> 0 | V321: =Master!S321 -> 0 | W321: =ROUND(U321-V321,-1) -> 0 | X321: =ROUND(IF(U316="NO",IF(W321<250001,0,IF(W321>500000,12500,((W321-250000)*0.05))),IF(W321<300001,0,IF(W321>500000,10000,((W321-300000)*0.05)))),0) -> 0 | Y321: =IF(W321<500001,0,IF(W321>750000,25000,((W321-500000)*0.1))) -> 0 | Z321: =IF(W321<750001,0,IF(W321>1000000,37500,((W321-750000)*0.15))) -> 0 | AA321: =IF(W321<1000001,0,IF(W321>1250000,50000,((W321-1000000)*0.2))) -> 0 | AB321: =IF(W321<1250001,0,IF(W321>1500000,62500,((W321-1250000)*0.25))) -> 0 | AC321: =IF(W321<1500001,0,(W321-1500000)*0.3) -> 0 | AD321: =SUM(X321:AC321) -> 0 | AE321: =IF(W321>500000,0,IF(X321<12501,X321,12500)) -> 0 | AF321: =AD321-AE321 -> 0 | AG321: =ROUND(AF321*0.04,0) -> 0 | AH321: =SUM(AF321:AG321) -> 0 | AJ321: =ROUND(IF(M321<250001,0,IF(M321>500000,12500,((M321-250000)*0.05))),IF(M321<300001,0,IF(M321>500000,10000,((M321-300000)*0.05)))) -> 0 | AK321: =IF(M321<500001,0,IF(M321>1000000,100000,((M321-500000)*0.2))) -> 0 | AL321: =IF(M321<1000001,0,((M321-1000000)*0.3)) -> 0

Sheet Summary All Staff
A1: =Master!A1 -> Government Senior Secondary School, Deogarh (Rajsamand)
A2: =Master!A2&" "&"For All Staff" -> Estimated Tax Calculation For All Staff
A4: Sr.No. | B4: Name of Employee | C4: Net Taxable Amount | E4: Total Tax | G4: You have to deposit monthly (in 10 Months) | I4: Deposite till Now | J4: Balance Tax have to deposit
C5: Old Regime | D5: New Regime | E5: Old Regime | F5: New Regime | G5: Old Regime | H5: New Regime | J5: Old Regime | K5: New Regime
A6: =IF('Tax Calculator'!A6="","",'Tax Calculator'!A6) -> 1 | B6: =IF('Tax Calculator'!B6="","",'Tax Calculator'!B6) -> Ashwini Kumar Sharma | C6: =IFERROR(VLOOKUP(B6,Tax_Data,12,0),"NoData") -> 715460 | D6: =IFERROR(VLOOKUP(B6,Tax_Data,22,0),"NoData") -> 765460 | E6: =IFERROR(VLOOKUP(B6,Tax_Data,19,0),"NoData") -> 57816 | F6: =IFERROR(VLOOKUP(B6,Tax_Data,33,0),"NoData") -> 41412 | G6: =ROUNDUP(E6/10,-2) -> 5800 | H6: =ROUNDUP(F6/10,-2) -> 4200 | I6: 500 | J6: =E6-I6 -> 57316 | K6: =F6-I6 -> 40912
A7: =IF('Tax Calculator'!A7="","",'Tax Calculator'!A7) -> 2 | B7: =IF('Tax Calculator'!B7="","",'Tax Calculator'!B7) -> Aditya Jakhad | C7: =IFERROR(VLOOKUP(B7,Tax_Data,12,0),"NoData") -> 125200 | D7: =IFERROR(VLOOKUP(B7,Tax_Data,22,0),"NoData") -> 175200 | E7: =IFERROR(VLOOKUP(B7,Tax_Data,19,0),"NoData") -> 0 | F7: =IFERROR(VLOOKUP(B7,Tax_Data,33,0),"NoData") -> 0 | G7: =ROUNDUP(E7/10,-2) -> 0 | H7: =ROUNDUP(F7/10,-2) -> 0 | I7: 1000 | J7: =E7-I7 -> -1000 | K7: =F7-I7 -> -1000
A8: =IF('Tax Calculator'!A8="","",'Tax Calculator'!A8) -> 3 | B8: =IF('Tax Calculator'!B8="","",'Tax Calculator'!B8) -> Prakash Kumar Gaur | C8: =IFERROR(VLOOKUP(B8,Tax_Data,12,0),"NoData") -> 707480 | D8: =IFERROR(VLOOKUP(B8,Tax_Data,22,0),"NoData") -> 757480 | E8: =IFERROR(VLOOKUP(B8,Tax_Data,19,0),"NoData") -> 56156 | F8: =IFERROR(VLOOKUP(B8,Tax_Data,33,0),"NoData") -> 37567 | G8: =ROUNDUP(E8/10,-2) -> 5700 | H8: =ROUNDUP(F8/10,-2) -> 3800 | J8: =E8-I8 -> 56156 | K8: =F8-I8 -> 37567
A9: =IF('Tax Calculator'!A9="","",'Tax Calculator'!A9) -> 4 | B9: =IF('Tax Calculator'!B9="","",'Tax Calculator'!B9) -> Bheru Prasad Jangid | C9: =IFERROR(VLOOKUP(B9,Tax_Data,12,0),"NoData") -> 1110960 | D9: =IFERROR(VLOOKUP(B9,Tax_Data,22,0),"NoData") -> 1160960 | E9: =IFERROR(VLOOKUP(B9,Tax_Data,19,0),"NoData") -> 151620 | F9: =IFERROR(VLOOKUP(B9,Tax_Data,33,0),"NoData") -> 108880 | G9: =ROUNDUP(E9/10,-2) -> 15200 | H9: =ROUNDUP(F9/10,-2) -> 10900 | J9: =E9-I9 -> 151620 | K9: =F9-I9 -> 108880
A10: =IF('Tax Calculator'!A10="","",'Tax Calculator'!A10) -> 5 | B10: =IF('Tax Calculator'!B10="","",'Tax Calculator'!B10) -> Meghraj Sharma | C10: =IFERROR(VLOOKUP(B10,Tax_Data,12,0),"NoData") -> 1145580 | D10: =IFERROR(VLOOKUP(B10,Tax_Data,22,0),"NoData") -> 1195580 | E10: =IFERROR(VLOOKUP(B10,Tax_Data,19,0),"NoData") -> 162421 | F10: =IFERROR(VLOOKUP(B10,Tax_Data,33,0),"NoData") -> 116081 | G10: =ROUNDUP(E10/10,-2) -> 16300 | H10: =ROUNDUP(F10/10,-2) -> 11700 | J10: =E10-I10 -> 162421 | K10: =F10-I10 -> 116081
A11: =IF('Tax Calculator'!A11="","",'Tax Calculator'!A11) -> 6 | B11: =IF('Tax Calculator'!B11="","",'Tax Calculator'!B11) -> C | C11: =IFERROR(VLOOKUP(B11,Tax_Data,12,0),"NoData") -> -50000 | D11: =IFERROR(VLOOKUP(B11,Tax_Data,22,0),"NoData") -> 0 | E11: =IFERROR(VLOOKUP(B11,Tax_Data,19,0),"NoData") -> 0 | F11: =IFERROR(VLOOKUP(B11,Tax_Data,33,0),"NoData") -> 0 | G11: =ROUNDUP(E11/10,-2) -> 0 | H11: =ROUNDUP(F11/10,-2) -> 0 | J11: =E11-I11 -> 0 | K11: =F11-I11 -> 0
A12: =IF('Tax Calculator'!A12="","",'Tax Calculator'!A12) -> 7 | B12: =IF('Tax Calculator'!B12="","",'Tax Calculator'!B12) -> D | C12: =IFERROR(VLOOKUP(B12,Tax_Data,12,0),"NoData") -> -50000 | D12: =IFERROR(VLOOKUP(B12,Tax_Data,22,0),"NoData") -> 0 | E12: =IFERROR(VLOOKUP(B12,Tax_Data,19,0),"NoData") -> 0 | F12: =IFERROR(VLOOKUP(B12,Tax_Data,33,0),"NoData") -> 0 | G12: =ROUNDUP(E12/10,-2) -> 0 | H12: =ROUNDUP(F12/10,-2) -> 0 | J12: =E12-I12 -> 0 | K12: =F12-I12 -> 0
A13: =IF('Tax Calculator'!A13="","",'Tax Calculator'!A13) -> 8 | B13: =IF('Tax Calculator'!B13="","",'Tax Calculator'!B13) -> E | C13: =IFERROR(VLOOKUP(B13,Tax_Data,12,0),"NoData") -> -50000 | D13: =IFERROR(VLOOKUP(B13,Tax_Data,22,0),"NoData") -> 0 | E13: =IFERROR(VLOOKUP(B13,Tax_Data,19,0),"NoData") -> 0 | F13: =IFERROR(VLOOKUP(B13,Tax_Data,33,0),"NoData") -> 0 | G13: =ROUNDUP(E13/10,-2) -> 0 | H13: =ROUNDUP(F13/10,-2) -> 0 | J13: =E13-I13 -> 0 | K13: =F13-I13 -> 0
A14: =IF('Tax Calculator'!A14="","",'Tax Calculator'!A14) -> 9 | B14: =IF('Tax Calculator'!B14="","",'Tax Calculator'!B14) -> F | C14: =IFERROR(VLOOKUP(B14,Tax_Data,12,0),"NoData") -> -50000 | D14: =IFERROR(VLOOKUP(B14,Tax_Data,22,0),"NoData") -> 0 | E14: =IFERROR(VLOOKUP(B14,Tax_Data,19,0),"NoData") -> 0 | F14: =IFERROR(VLOOKUP(B14,Tax_Data,33,0),"NoData") -> 0 | G14: =ROUNDUP(E14/10,-2) -> 0 | H14: =ROUNDUP(F14/10,-2) -> 0 | J14: =E14-I14 -> 0 | K14: =F14-I14 -> 0
A15: =IF('Tax Calculator'!A15="","",'Tax Calculator'!A15) -> 10 | B15: =IF('Tax Calculator'!B15="","",'Tax Calculator'!B15) -> G | C15: =IFERROR(VLOOKUP(B15,Tax_Data,12,0),"NoData") -> -50000 | D15: =IFERROR(VLOOKUP(B15,Tax_Data,22,0),"NoData") -> 0 | E15: =IFERROR(VLOOKUP(B15,Tax_Data,19,0),"NoData") -> 0 | F15: =IFERROR(VLOOKUP(B15,Tax_Data,33,0),"NoData") -> 0 | G15: =ROUNDUP(E15/10,-2) -> 0 | H15: =ROUNDUP(F15/10,-2) -> 0 | J15: =E15-I15 -> 0 | K15: =F15-I15 -> 0
A16: =IF('Tax Calculator'!A16="","",'Tax Calculator'!A16) -> 11 | B16: =IF('Tax Calculator'!B16="","",'Tax Calculator'!B16) -> H | C16: =IFERROR(VLOOKUP(B16,Tax_Data,12,0),"NoData") -> -50000 | D16: =IFERROR(VLOOKUP(B16,Tax_Data,22,0),"NoData") -> 0 | E16: =IFERROR(VLOOKUP(B16,Tax_Data,19,0),"NoData") -> 0 | F16: =IFERROR(VLOOKUP(B16,Tax_Data,33,0),"NoData") -> 0 | G16: =ROUNDUP(E16/10,-2) -> 0 | H16: =ROUNDUP(F16/10,-2) -> 0 | J16: =E16-I16 -> 0 | K16: =F16-I16 -> 0
