Workbook
Name Levels: Table4[[#All],[Levels]]
Name master_data: Table5[#All]
Name master_data_ga55: Table5[#All]
Name month_basic: Yearly!$B$8:$D$20
Name post_school: Table3[[#All],[विद्यालय में पोस्ट का विवरण]]
Name salary_data: Table1[#All]
Name surrender_month: Yearly!$B$9:$B$20

Sheet Master Data
A1: Government Senior Secondary School, Rooppura | P1: विद्यालय में पोस्ट का विवरण
A2: Employees Master Data | K2: Month | M2: 44013 | P2: प्रधानाचार्य
P3: उप प्रधानाचार्य
B4: DA Rate | C4: 0.17 | F4: HRA Rate | G4: 0.08 | K4: DDO Code | M4: 26887 | P4: प्रधानाध्यापक
P5: वरिष्ठ अध्यापक
A6: S.No. | B6: Name | C6: Designation | D6: Pay Scale | E6: GPF/CPFNo | F6: EMP ID | G6: A/C No | H6: PRAN No | I6: SI No. | J6: PAN | K6: Permanent / Probation | L6: Basic Of March 2020 | M6: Before 01-01-2004 | N6: Basic of rest Months | P6: व्याख्याता | R6: Levels
A7: =IF(Table5[[#This Row],[Name]]="","",ROWS($A$1:A1)) -> 1 | B7: PREM SINGH SHEKHAWAT | C7: व्याख्याता | D7: L-13 | E7: 123456 | F7: RJNA199828011935 | G7: 51046337793 | H7: 111111111111 | I7: 123456 | J7: ABCD1111E | K7: Permanent | L7: 73400 | M7: YES | N7: =IF(AND(Table5[[#This Row],[Permanent / Probation]]="Probation"),Table5[[#This Row],[Basic Of March 2020]],MROUND(Table5[[#This Row],[Basic Of March 2020]]*1.03,100)) -> 75600 | P7: प्रबोधक | R7: L-1
A8: =IF(Table5[[#This Row],[Name]]="","",ROWS($A$1:A2)) -> 2 | B8: ASHWINI KUMAR | C8: अध्यापक लेवेल 2 | D8: L-11 | E8: 123456 | F8: RJNA199828011935 | G8: 51046337793 | H8: 111111111111 | I8: 123456 | J8: ABCD1111E | K8: Permanent | L8: 43800 | M8: NO | N8: =IF(AND(Table5[[#This Row],[Permanent / Probation]]="Probation"),Table5[[#This Row],[Basic Of March 2020]],MROUND(Table5[[#This Row],[Basic Of March 2020]]*1.03,100)) -> 45100 | P8: अध्यापक लेवेल 1 | R8: L-2
A9: =IF(Table5[[#This Row],[Name]]="","",ROWS($A$1:A3)) -> 3 | B9: ADITYA JAKHAD | C9: कनिष्ठ सहायक | D9: L-5 | E9: 123456 | F9: RJNA199828011935 | G9: 51046337793 | H9: 111111111111 | I9: 123456 | J9: ABCD1111E | K9: Probation | L9: 14600 | M9: NO | N9: =IF(AND(Table5[[#This Row],[Permanent / Probation]]="Probation"),Table5[[#This Row],[Basic Of March 2020]],MROUND(Table5[[#This Row],[Basic Of March 2020]]*1.03,100)) -> 14600 | P9: अध्यापक लेवेल 2 | R9: L-3
A10: =IF(Table5[[#This Row],[Name]]="","",ROWS($A$1:A4)) | N10: =IF(AND(Table5[[#This Row],[Permanent / Probation]]="Probation"),Table5[[#This Row],[Basic Of March 2020]],MROUND(Table5[[#This Row],[Basic Of March 2020]]*1.03,100)) -> 0 | P10: कनिष्ठ सहायक | R10: L-4
A11: =IF(Table5[[#This Row],[Name]]="","",ROWS($A$1:A5)) | N11: =IF(AND(Table5[[#This Row],[Permanent / Probation]]="Probation"),Table5[[#This Row],[Basic Of March 2020]],MROUND(Table5[[#This Row],[Basic Of March 2020]]*1.03,100)) -> 0 | P11: वरिष्ठ सहायक | R11: L-5
A12: =IF(Table5[[#This Row],[Name]]="","",ROWS($A$1:A6)) | N12: =IF(AND(Table5[[#This Row],[Permanent / Probation]]="Probation"),Table5[[#This Row],[Basic Of March 2020]],MROUND(Table5[[#This Row],[Basic Of March 2020]]*1.03,100)) -> 0 | P12: सहायक प्रशासनिक अधिकारी | R12: L-6
A13: =IF(Table5[[#This Row],[Name]]="","",ROWS($A$1:A7)) | N13: =IF(AND(Table5[[#This Row],[Permanent / Probation]]="Probation"),Table5[[#This Row],[Basic Of March 2020]],MROUND(Table5[[#This Row],[Basic Of March 2020]]*1.03,100)) -> 0 | P13: सहायक कर्मचारी | R13: L-7
A14: =IF(Table5[[#This Row],[Name]]="","",ROWS($A$1:A8)) | N14: =IF(AND(Table5[[#This Row],[Permanent / Probation]]="Probation"),Table5[[#This Row],[Basic Of March 2020]],MROUND(Table5[[#This Row],[Basic Of March 2020]]*1.03,100)) -> 0 | P14: शा-शिक्षक | R14: L-8
A15: =IF(Table5[[#This Row],[Name]]="","",ROWS($A$1:A9)) | N15: =IF(AND(Table5[[#This Row],[Permanent / Probation]]="Probation"),Table5[[#This Row],[Basic Of March 2020]],MROUND(Table5[[#This Row],[Basic Of March 2020]]*1.03,100)) -> 0 | P15: वरिष्ठ शा-शिक्षक | R15: L-9
A16: =IF(Table5[[#This Row],[Name]]="","",ROWS($A$1:A10)) | N16: =IF(AND(Table5[[#This Row],[Permanent / Probation]]="Probation"),Table5[[#This Row],[Basic Of March 2020]],MROUND(Table5[[#This Row],[Basic Of March 2020]]*1.03,100)) -> 0 | P16: जमादार | R16: L-10
A17: =IF(Table5[[#This Row],[Name]]="","",ROWS($A$1:A11)) | N17: =IF(AND(Table5[[#This Row],[Permanent / Probation]]="Probation"),Table5[[#This Row],[Basic Of March 2020]],MROUND(Table5[[#This Row],[Basic Of March 2020]]*1.03,100)) -> 0 | P17: चतुर्थ श्रेणी कर्मचारी | R17: L-11
A18: =IF(Table5[[#This Row],[Name]]="","",ROWS($A$1:A12)) | N18: =IF(AND(Table5[[#This Row],[Permanent / Probation]]="Probation"),Table5[[#This Row],[Basic Of March 2020]],MROUND(Table5[[#This Row],[Basic Of March 2020]]*1.03,100)) -> 0 | P18: प्रयोगशाला सहायक | R18: L-12
A19: =IF(Table5[[#This Row],[Name]]="","",ROWS($A$1:A13)) | N19: =IF(AND(Table5[[#This Row],[Permanent / Probation]]="Probation"),Table5[[#This Row],[Basic Of March 2020]],MROUND(Table5[[#This Row],[Basic Of March 2020]]*1.03,100)) -> 0 | P19: पुस्तकालय अध्यक्ष | R19: L-13
A20: =IF(Table5[[#This Row],[Name]]="","",ROWS($A$1:A14)) | N20: =IF(AND(Table5[[#This Row],[Permanent / Probation]]="Probation"),Table5[[#This Row],[Basic Of March 2020]],MROUND(Table5[[#This Row],[Basic Of March 2020]]*1.03,100)) -> 0 | P20: other1 | R20: L-14
A21: =IF(Table5[[#This Row],[Name]]="","",ROWS($A$1:A15)) | N21: =IF(AND(Table5[[#This Row],[Permanent / Probation]]="Probation"),Table5[[#This Row],[Basic Of March 2020]],MROUND(Table5[[#This Row],[Basic Of March 2020]]*1.03,100)) -> 0 | P21: other2 | R21: L-15
... A23: =IF(Table5[[#This Row],[Name]]="","",ROWS($A$1:A17)) | N23: =IF(AND(Table5[[#This Row],[Permanent / Probation]]="Probation"),Table5[[#This Row],[Basic Of March 2020]],MROUND(Table5[[#This Row],[Basic Of March 2020]]*1.03,100)) -> 0 | P23: other4 | R23: L-17
A24: =IF(Table5[[#This Row],[Name]]="","",ROWS($A$1:A18)) | N24: =IF(AND(Table5[[#This Row],[Permanent / Probation]]="Probation"),Table5[[#This Row],[Basic Of March 2020]],MROUND(Table5[[#This Row],[Basic Of March 2020]]*1.03,100)) -> 0 | R24: L-18
A25: =IF(Table5[[#This Row],[Name]]="","",ROWS($A$1:A19)) | N25: =IF(AND(Table5[[#This Row],[Permanent / Probation]]="Probation"),Table5[[#This Row],[Basic Of March 2020]],MROUND(Table5[[#This Row],[Basic Of March 2020]]*1.03,100)) -> 0 | R25: L-19
A26: =IF(Table5[[#This Row],[Name]]="","",ROWS($A$1:A20)) | N26: =IF(AND(Table5[[#This Row],[Permanent / Probation]]="Probation"),Table5[[#This Row],[Basic Of March 2020]],MROUND(Table5[[#This Row],[Basic Of March 2020]]*1.03,100)) -> 0 | R26: L-20
A27: =IF(Table5[[#This Row],[Name]]="","",ROWS($A$1:A21)) | N27: =IF(AND(Table5[[#This Row],[Permanent / Probation]]="Probation"),Table5[[#This Row],[Basic Of March 2020]],MROUND(Table5[[#This Row],[Basic Of March 2020]]*1.03,100)) -> 0 | R27: L-21
A28: =IF(Table5[[#This Row],[Name]]="","",ROWS($A$1:A22)) | N28: =IF(AND(Table5[[#This Row],[Permanent / Probation]]="Probation"),Table5[[#This Row],[Basic Of March 2020]],MROUND(Table5[[#This Row],[Basic Of March 2020]]*1.03,100)) -> 0 | R28: L-22
A29: =IF(Table5[[#This Row],[Name]]="","",ROWS($A$1:A23)) | N29: =IF(AND(Table5[[#This Row],[Permanent / Probation]]="Probation"),Table5[[#This Row],[Basic Of March 2020]],MROUND(Table5[[#This Row],[Basic Of March 2020]]*1.03,100)) -> 0 | R29: L-23
A30: =IF(Table5[[#This Row],[Name]]="","",ROWS($A$1:A24)) | N30: =IF(AND(Table5[[#This Row],[Permanent / Probation]]="Probation"),Table5[[#This Row],[Basic Of March 2020]],MROUND(Table5[[#This Row],[Basic Of March 2020]]*1.03,100)) -> 0 | R30: L-24
A31: =IF(Table5[[#This Row],[Name]]="","",ROWS($A$1:A25)) | N31: =IF(AND(Table5[[#This Row],[Permanent / Probation]]="Probation"),Table5[[#This Row],[Basic Of March 2020]],MROUND(Table5[[#This Row],[Basic Of March 2020]]*1.03,100)) -> 0 | R31: L-25
A32: =IF(Table5[[#This Row],[Name]]="","",ROWS($A$1:A26)) | N32: =IF(AND(Table5[[#This Row],[Permanent / Probation]]="Probation"),Table5[[#This Row],[Basic Of March 2020]],MROUND(Table5[[#This Row],[Basic Of March 2020]]*1.03,100)) -> 0
A33: =IF(Table5[[#This Row],[Name]]="","",ROWS($A$1:A27)) | N33: =IF(AND(Table5[[#This Row],[Permanent / Probation]]="Probation"),Table5[[#This Row],[Basic Of March 2020]],MROUND(Table5[[#This Row],[Basic Of March 2020]]*1.03,100)) -> 0
A34: =IF(Table5[[#This Row],[Name]]="","",ROWS($A$1:A28)) | N34: =IF(AND(Table5[[#This Row],[Permanent / Probation]]="Probation"),Table5[[#This Row],[Basic Of March 2020]],MROUND(Table5[[#This Row],[Basic Of March 2020]]*1.03,100)) -> 0
A35: =IF(Table5[[#This Row],[Name]]="","",ROWS($A$1:A29)) | N35: =IF(AND(Table5[[#This Row],[Permanent / Probation]]="Probation"),Table5[[#This Row],[Basic Of March 2020]],MROUND(Table5[[#This Row],[Basic Of March 2020]]*1.03,100)) -> 0
A36: =IF(Table5[[#This Row],[Name]]="","",ROWS($A$1:A30)) | N36: =IF(AND(Table5[[#This Row],[Permanent / Probation]]="Probation"),Table5[[#This Row],[Basic Of March 2020]],MROUND(Table5[[#This Row],[Basic Of March 2020]]*1.03,100)) -> 0
A37: =IF(Table5[[#This Row],[Name]]="","",ROWS($A$1:A31)) | N37: =IF(AND(Table5[[#This Row],[Permanent / Probation]]="Probation"),Table5[[#This Row],[Basic Of March 2020]],MROUND(Table5[[#This Row],[Basic Of March 2020]]*1.03,100)) -> 0
A38: =IF(Table5[[#This Row],[Name]]="","",ROWS($A$1:A32)) | N38: =IF(AND(Table5[[#This Row],[Permanent / Probation]]="Probation"),Table5[[#This Row],[Basic Of March 2020]],MROUND(Table5[[#This Row],[Basic Of March 2020]]*1.03,100)) -> 0
A39: =IF(Table5[[#This Row],[Name]]="","",ROWS($A$1:A33)) | N39: =IF(AND(Table5[[#This Row],[Permanent / Probation]]="Probation"),Table5[[#This Row],[Basic Of March 2020]],MROUND(Table5[[#This Row],[Basic Of March 2020]]*1.03,100)) -> 0
A40: =IF(Table5[[#This Row],[Name]]="","",ROWS($A$1:A34)) | N40: =IF(AND(Table5[[#This Row],[Permanent / Probation]]="Probation"),Table5[[#This Row],[Basic Of March 2020]],MROUND(Table5[[#This Row],[Basic Of March 2020]]*1.03,100)) -> 0
A41: =IF(Table5[[#This Row],[Name]]="","",ROWS($A$1:A35)) | N41: =IF(AND(Table5[[#This Row],[Permanent / Probation]]="Probation"),Table5[[#This Row],[Basic Of March 2020]],MROUND(Table5[[#This Row],[Basic Of March 2020]]*1.03,100)) -> 0
...

Sheet Salary Data
A1: ='Master Data'!A1 -> Government Senior Secondary School, Rooppura
A2: Salary Data of Employees
A4: S.No. | B4: Employee Name | C4: Basic | D4: DA Rate | E4: HRA | F4: Wash All. | G4: Handi. All. | H4: CCA | I4: Gross Income | J4: ECPenF | K4: GPF | L4: SIP | M4: RPMF | N4: SIL | O4: ITax | P4: LIC | Q4: GPF Loan | R4: Other 1 | S4: Other 2 | T4: Total Deduction | U4: Net Salary | V4: TV No & Date | W4: Bill No. & Date | X4: Month
A5: =IF('Master Data'!A7="","",'Master Data'!A7) -> 1 | B5: =IF('Master Data'!B7="","",'Master Data'!B7) -> PREM SINGH SHEKHAWAT | D5: =IFERROR(IF(IF('Master Data'!K7="probation","",Table1[[#This Row],[Basic]]*'Master Data'!$C$4)=0,"",IF('Master Data'!K7="probation","",Table1[[#This Row],[Basic]]*'Master Data'!$C$4)),"") | E5: =IFERROR(IF(IF('Master Data'!K7="probation","",Table1[[#This Row],[Basic]]*'Master Data'!$G$4)=0,"",IF('Master Data'!K7="probation","",Table1[[#This Row],[Basic]]*'Master Data'!$G$4)),"") | I5: =IF(SUM(Table1[[#This Row],[Basic]:[CCA]])=0,"",SUM(Table1[[#This Row],[Basic]:[CCA]])) | J5: =IFERROR(ROUND(IF('Master Data'!M7="YES","",IF(SUM(Table1[[#This Row],[Basic]:[DA Rate]])*10%=0,"",SUM(Table1[[#This Row],[Basic]:[DA Rate]])*10%)),0),"") | T5: =IF(SUM(Table1[[#This Row],[ECPenF]:[Other 2]])=0,"",SUM(Table1[[#This Row],[ECPenF]:[Other 2]])) | U5: =IFERROR(Table1[[#This Row],[Gross Income]]-Table1[[#This Row],[Total Deduction]],"") | V5: 44606 & 05-08-2020 | W5: 39 & 29/07/2020 | X5: 43831
A6: =IF('Master Data'!A8="","",'Master Data'!A8) -> 2 | B6: =IF('Master Data'!B8="","",'Master Data'!B8) -> ASHWINI KUMAR | D6: =IFERROR(IF(IF('Master Data'!K8="probation","",Table1[[#This Row],[Basic]]*'Master Data'!$C$4)=0,"",IF('Master Data'!K8="probation","",Table1[[#This Row],[Basic]]*'Master Data'!$C$4)),"") | E6: =IFERROR(IF(IF('Master Data'!K8="probation","",Table1[[#This Row],[Basic]]*'Master Data'!$G$4)=0,"",IF('Master Data'!K8="probation","",Table1[[#This Row],[Basic]]*'Master Data'!$G$4)),"") | I6: =IF(SUM(Table1[[#This Row],[Basic]:[CCA]])=0,"",SUM(Table1[[#This Row],[Basic]:[CCA]])) | J6: =IFERROR(ROUND(IF('Master Data'!M8="YES","",IF(SUM(Table1[[#This Row],[Basic]:[DA Rate]])*10%=0,"",SUM(Table1[[#This Row],[Basic]:[DA Rate]])*10%)),0),"") | T6: =IF(SUM(Table1[[#This Row],[ECPenF]:[Other 2]])=0,"",SUM(Table1[[#This Row],[ECPenF]:[Other 2]])) | U6: =IFERROR(Table1[[#This Row],[Gross Income]]-Table1[[#This Row],[Total Deduction]],"") | V6: 44606 & 05-08-2020 | W6: 39 & 29/07/2020 | X6: 43862
A7: =IF('Master Data'!A9="","",'Master Data'!A9) -> 3 | B7: =IF('Master Data'!B9="","",'Master Data'!B9) -> ADITYA JAKHAD | D7: =IFERROR(IF(IF('Master Data'!K9="probation","",Table1[[#This Row],[Basic]]*'Master Data'!$C$4)=0,"",IF('Master Data'!K9="probation","",Table1[[#This Row],[Basic]]*'Master Data'!$C$4)),"") | E7: =IFERROR(IF(IF('Master Data'!K9="probation","",Table1[[#This Row],[Basic]]*'Master Data'!$G$4)=0,"",IF('Master Data'!K9="probation","",Table1[[#This Row],[Basic]]*'Master Data'!$G$4)),"") | I7: =IF(SUM(Table1[[#This Row],[Basic]:[CCA]])=0,"",SUM(Table1[[#This Row],[Basic]:[CCA]])) | J7: =IFERROR(ROUND(IF('Master Data'!M9="YES","",IF(SUM(Table1[[#This Row],[Basic]:[DA Rate]])*10%=0,"",SUM(Table1[[#This Row],[Basic]:[DA Rate]])*10%)),0),"") | T7: =IF(SUM(Table1[[#This Row],[ECPenF]:[Other 2]])=0,"",SUM(Table1[[#This Row],[ECPenF]:[Other 2]])) | U7: =IFERROR(Table1[[#This Row],[Gross Income]]-Table1[[#This Row],[Total Deduction]],"") | V7: 44606 & 05-08-2020 | W7: 39 & 29/07/2020 | X7: 43891
A8: =IF('Master Data'!A10="","",'Master Data'!A10) | B8: =IF('Master Data'!B10="","",'Master Data'!B10) | D8: =IFERROR(IF(IF('Master Data'!K10="probation","",Table1[[#This Row],[Basic]]*'Master Data'!$C$4)=0,"",IF('Master Data'!K10="probation","",Table1[[#This Row],[Basic]]*'Master Data'!$C$4)),"") | E8: =IFERROR(IF(IF('Master Data'!K10="probation","",Table1[[#This Row],[Basic]]*'Master Data'!$G$4)=0,"",IF('Master Data'!K10="probation","",Table1[[#This Row],[Basic]]*'Master Data'!$G$4)),"") | I8: =IF(SUM(Table1[[#This Row],[Basic]:[CCA]])=0,"",SUM(Table1[[#This Row],[Basic]:[CCA]])) | J8: =IFERROR(ROUND(IF('Master Data'!M10="YES","",IF(SUM(Table1[[#This Row],[Basic]:[DA Rate]])*10%=0,"",SUM(Table1[[#This Row],[Basic]:[DA Rate]])*10%)),0),"") | T8: =IF(SUM(Table1[[#This Row],[ECPenF]:[Other 2]])=0,"",SUM(Table1[[#This Row],[ECPenF]:[Other 2]])) | U8: =IFERROR(Table1[[#This Row],[Gross Income]]-Table1[[#This Row],[Total Deduction]],"")
A9: =IF('Master Data'!A11="","",'Master Data'!A11) | B9: =IF('Master Data'!B11="","",'Master Data'!B11) | D9: =IFERROR(IF(IF('Master Data'!K11="probation","",Table1[[#This Row],[Basic]]*'Master Data'!$C$4)=0,"",IF('Master Data'!K11="probation","",Table1[[#This Row],[Basic]]*'Master Data'!$C$4)),"") | E9: =IFERROR(IF(IF('Master Data'!K11="probation","",Table1[[#This Row],[Basic]]*'Master Data'!$G$4)=0,"",IF('Master Data'!K11="probation","",Table1[[#This Row],[Basic]]*'Master Data'!$G$4)),"") | I9: =IF(SUM(Table1[[#This Row],[Basic]:[CCA]])=0,"",SUM(Table1[[#This Row],[Basic]:[CCA]])) | J9: =IFERROR(ROUND(IF('Master Data'!M11="YES","",IF(SUM(Table1[[#This Row],[Basic]:[DA Rate]])*10%=0,"",SUM(Table1[[#This Row],[Basic]:[DA Rate]])*10%)),0),"") | T9: =IF(SUM(Table1[[#This Row],[ECPenF]:[Other 2]])=0,"",SUM(Table1[[#This Row],[ECPenF]:[Other 2]])) | U9: =IFERROR(Table1[[#This Row],[Gross Income]]-Table1[[#This Row],[Total Deduction]],"")
A10: =IF('Master Data'!A12="","",'Master Data'!A12) | B10: =IF('Master Data'!B12="","",'Master Data'!B12) | D10: =IFERROR(IF(IF('Master Data'!K12="probation","",Table1[[#This Row],[Basic]]*'Master Data'!$C$4)=0,"",IF('Master Data'!K12="probation","",Table1[[#This Row],[Basic]]*'Master Data'!$C$4)),"") | E10: =IFERROR(IF(IF('Master Data'!K12="probation","",Table1[[#This Row],[Basic]]*'Master Data'!$G$4)=0,"",IF('Master Data'!K12="probation","",Table1[[#This Row],[Basic]]*'Master Data'!$G$4)),"") | I10: =IF(SUM(Table1[[#This Row],[Basic]:[CCA]])=0,"",SUM(Table1[[#This Row],[Basic]:[CCA]])) | J10: =IFERROR(ROUND(IF('Master Data'!M12="YES","",IF(SUM(Table1[[#This Row],[Basic]:[DA Rate]])*10%=0,"",SUM(Table1[[#This Row],[Basic]:[DA Rate]])*10%)),0),"") | T10: =IF(SUM(Table1[[#This Row],[ECPenF]:[Other 2]])=0,"",SUM(Table1[[#This Row],[ECPenF]:[Other 2]])) | U10: =IFERROR(Table1[[#This Row],[Gross Income]]-Table1[[#This Row],[Total Deduction]],"")
A11: =IF('Master Data'!A13="","",'Master Data'!A13) | B11: =IF('Master Data'!B13="","",'Master Data'!B13) | D11: =IFERROR(IF(IF('Master Data'!K13="probation","",Table1[[#This Row],[Basic]]*'Master Data'!$C$4)=0,"",IF('Master Data'!K13="probation","",Table1[[#This Row],[Basic]]*'Master Data'!$C$4)),"") | E11: =IFERROR(IF(IF('Master Data'!K13="probation","",Table1[[#This Row],[Basic]]*'Master Data'!$G$4)=0,"",IF('Master Data'!K13="probation","",Table1[[#This Row],[Basic]]*'Master Data'!$G$4)),"") | I11: =IF(SUM(Table1[[#This Row],[Basic]:[CCA]])=0,"",SUM(Table1[[#This Row],[Basic]:[CCA]])) | J11: =IFERROR(ROUND(IF('Master Data'!M13="YES","",IF(SUM(Table1[[#This Row],[Basic]:[DA Rate]])*10%=0,"",SUM(Table1[[#This Row],[Basic]:[DA Rate]])*10%)),0),"") | T11: =IF(SUM(Table1[[#This Row],[ECPenF]:[Other 2]])=0,"",SUM(Table1[[#This Row],[ECPenF]:[Other 2]])) | U11: =IFERROR(Table1[[#This Row],[Gross Income]]-Table1[[#This Row],[Total Deduction]],"")
A12: =IF('Master Data'!A14="","",'Master Data'!A14) | B12: =IF('Master Data'!B14="","",'Master Data'!B14) | D12: =IFERROR(IF(IF('Master Data'!K14="probation","",Table1[[#This Row],[Basic]]*'Master Data'!$C$4)=0,"",IF('Master Data'!K14="probation","",Table1[[#This Row],[Basic]]*'Master Data'!$C$4)),"") | E12: =IFERROR(IF(IF('Master Data'!K14="probation","",Table1[[#This Row],[Basic]]*'Master Data'!$G$4)=0,"",IF('Master Data'!K14="probation","",Table1[[#This Row],[Basic]]*'Master Data'!$G$4)),"") | I12: =IF(SUM(Table1[[#This Row],[Basic]:[CCA]])=0,"",SUM(Table1[[#This Row],[Basic]:[CCA]])) | J12: =IFERROR(ROUND(IF('Master Data'!M14="YES","",IF(SUM(Table1[[#This Row],[Basic]:[DA Rate]])*10%=0,"",SUM(Table1[[#This Row],[Basic]:[DA Rate]])*10%)),0),"") | T12: =IF(SUM(Table1[[#This Row],[ECPenF]:[Other 2]])=0,"",SUM(Table1[[#This Row],[ECPenF]:[Other 2]])) | U12: =IFERROR(Table1[[#This Row],[Gross Income]]-Table1[[#This Row],[Total Deduction]],"")
A13: =IF('Master Data'!A15="","",'Master Data'!A15) | B13: =IF('Master Data'!B15="","",'Master Data'!B15) | D13: =IFERROR(IF(IF('Master Data'!K15="probation","",Table1[[#This Row],[Basic]]*'Master Data'!$C$4)=0,"",IF('Master Data'!K15="probation","",Table1[[#This Row],[Basic]]*'Master Data'!$C$4)),"") | E13: =IFERROR(IF(IF('Master Data'!K15="probation","",Table1[[#This Row],[Basic]]*'Master Data'!$G$4)=0,"",IF('Master Data'!K15="probation","",Table1[[#This Row],[Basic]]*'Master Data'!$G$4)),"") | I13: =IF(SUM(Table1[[#This Row],[Basic]:[CCA]])=0,"",SUM(Table1[[#This Row],[Basic]:[CCA]])) | J13: =IFERROR(ROUND(IF('Master Data'!M15="YES","",IF(SUM(Table1[[#This Row],[Basic]:[DA Rate]])*10%=0,"",SUM(Table1[[#This Row],[Basic]:[DA Rate]])*10%)),0),"") | T13: =IF(SUM(Table1[[#This Row],[ECPenF]:[Other 2]])=0,"",SUM(Table1[[#This Row],[ECPenF]:[Other 2]])) | U13: =IFERROR(Table1[[#This Row],[Gross Income]]-Table1[[#This Row],[Total Deduction]],"")
A14: =IF('Master Data'!A16="","",'Master Data'!A16) | B14: =IF('Master Data'!B16="","",'Master Data'!B16) | D14: =IFERROR(IF(IF('Master Data'!K16="probation","",Table1[[#This Row],[Basic]]*'Master Data'!$C$4)=0,"",IF('Master Data'!K16="probation","",Table1[[#This Row],[Basic]]*'Master Data'!$C$4)),"") | E14: =IFERROR(IF(IF('Master Data'!K16="probation","",Table1[[#This Row],[Basic]]*'Master Data'!$G$4)=0,"",IF('Master Data'!K16="probation","",Table1[[#This Row],[Basic]]*'Master Data'!$G$4)),"") | I14: =IF(SUM(Table1[[#This Row],[Basic]:[CCA]])=0,"",SUM(Table1[[#This Row],[Basic]:[CCA]])) | J14: =IFERROR(ROUND(IF('Master Data'!M16="YES","",IF(SUM(Table1[[#This Row],[Basic]:[DA Rate]])*10%=0,"",SUM(Table1[[#This Row],[Basic]:[DA Rate]])*10%)),0),"") | T14: =IF(SUM(Table1[[#This Row],[ECPenF]:[Other 2]])=0,"",SUM(Table1[[#This Row],[ECPenF]:[Other 2]])) | U14: =IFERROR(Table1[[#This Row],[Gross Income]]-Table1[[#This Row],[Total Deduction]],"")
A15: =IF('Master Data'!A17="","",'Master Data'!A17) | B15: =IF('Master Data'!B17="","",'Master Data'!B17) | D15: =IFERROR(IF(IF('Master Data'!K17="probation","",Table1[[#This Row],[Basic]]*'Master Data'!$C$4)=0,"",IF('Master Data'!K17="probation","",Table1[[#This Row],[Basic]]*'Master Data'!$C$4)),"") | E15: =IFERROR(IF(IF('Master Data'!K17="probation","",Table1[[#This Row],[Basic]]*'Master Data'!$G$4)=0,"",IF('Master Data'!K17="probation","",Table1[[#This Row],[Basic]]*'Master Data'!$G$4)),"") | I15: =IF(SUM(Table1[[#This Row],[Basic]:[CCA]])=0,"",SUM(Table1[[#This Row],[Basic]:[CCA]])) | J15: =IFERROR(ROUND(IF('Master Data'!M17="YES","",IF(SUM(Table1[[#This Row],[Basic]:[DA Rate]])*10%=0,"",SUM(Table1[[#This Row],[Basic]:[DA Rate]])*10%)),0),"") | T15: =IF(SUM(Table1[[#This Row],[ECPenF]:[Other 2]])=0,"",SUM(Table1[[#This Row],[ECPenF]:[Other 2]])) | U15: =IFERROR(Table1[[#This Row],[Gross Income]]-Table1[[#This Row],[Total Deduction]],"")
A16: =IF('Master Data'!A18="","",'Master Data'!A18) | B16: =IF('Master Data'!B18="","",'Master Data'!B18) | D16: =IFERROR(IF(IF('Master Data'!K18="probation","",Table1[[#This Row],[Basic]]*'Master Data'!$C$4)=0,"",IF('Master Data'!K18="probation","",Table1[[#This Row],[Basic]]*'Master Data'!$C$4)),"") | E16: =IFERROR(IF(IF('Master Data'!K18="probation","",Table1[[#This Row],[Basic]]*'Master Data'!$G$4)=0,"",IF('Master Data'!K18="probation","",Table1[[#This Row],[Basic]]*'Master Data'!$G$4)),"") | I16: =IF(SUM(Table1[[#This Row],[Basic]:[CCA]])=0,"",SUM(Table1[[#This Row],[Basic]:[CCA]])) | J16: =IFERROR(ROUND(IF('Master Data'!M18="YES","",IF(SUM(Table1[[#This Row],[Basic]:[DA Rate]])*10%=0,"",SUM(Table1[[#This Row],[Basic]:[DA Rate]])*10%)),0),"") | T16: =IF(SUM(Table1[[#This Row],[ECPenF]:[Other 2]])=0,"",SUM(Table1[[#This Row],[ECPenF]:[Other 2]])) | U16: =IFERROR(Table1[[#This Row],[Gross Income]]-Table1[[#This Row],[Total Deduction]],"")
A17: =IF('Master Data'!A19="","",'Master Data'!A19) | B17: =IF('Master Data'!B19="","",'Master Data'!B19) | D17: =IFERROR(IF(IF('Master Data'!K19="probation","",Table1[[#This Row],[Basic]]*'Master Data'!$C$4)=0,"",IF('Master Data'!K19="probation","",Table1[[#This Row],[Basic]]*'Master Data'!$C$4)),"") | E17: =IFERROR(IF(IF('Master Data'!K19="probation","",Table1[[#This Row],[Basic]]*'Master Data'!$G$4)=0,"",IF('Master Data'!K19="probation","",Table1[[#This Row],[Basic]]*'Master Data'!$G$4)),"") | I17: =IF(SUM(Table1[[#This Row],[Basic]:[CCA]])=0,"",SUM(Table1[[#This Row],[Basic]:[CCA]])) | J17: =IFERROR(ROUND(IF('Master Data'!M19="YES","",IF(SUM(Table1[[#This Row],[Basic]:[DA Rate]])*10%=0,"",SUM(Table1[[#This Row],[Basic]:[DA Rate]])*10%)),0),"") | T17: =IF(SUM(Table1[[#This Row],[ECPenF]:[Other 2]])=0,"",SUM(Table1[[#This Row],[ECPenF]:[Other 2]])) | U17: =IFERROR(Table1[[#This Row],[Gross Income]]-Table1[[#This Row],[Total Deduction]],"")
A18: =IF('Master Data'!A20="","",'Master Data'!A20) | B18: =IF('Master Data'!B20="","",'Master Data'!B20) | D18: =IFERROR(IF(IF('Master Data'!K20="probation","",Table1[[#This Row],[Basic]]*'Master Data'!$C$4)=0,"",IF('Master Data'!K20="probation","",Table1[[#This Row],[Basic]]*'Master Data'!$C$4)),"") | E18: =IFERROR(IF(IF('Master Data'!K20="probation","",Table1[[#This Row],[Basic]]*'Master Data'!$G$4)=0,"",IF('Master Data'!K20="probation","",Table1[[#This Row],[Basic]]*'Master Data'!$G$4)),"") | I18: =IF(SUM(Table1[[#This Row],[Basic]:[CCA]])=0,"",SUM(Table1[[#This Row],[Basic]:[CCA]])) | J18: =IFERROR(ROUND(IF('Master Data'!M20="YES","",IF(SUM(Table1[[#This Row],[Basic]:[DA Rate]])*10%=0,"",SUM(Table1[[#This Row],[Basic]:[DA Rate]])*10%)),0),"") | T18: =IF(SUM(Table1[[#This Row],[ECPenF]:[Other 2]])=0,"",SUM(Table1[[#This Row],[ECPenF]:[Other 2]])) | U18: =IFERROR(Table1[[#This Row],[Gross Income]]-Table1[[#This Row],[Total Deduction]],"")
A19: =IF('Master Data'!A21="","",'Master Data'!A21) | B19: =IF('Master Data'!B21="","",'Master Data'!B21) | D19: =IFERROR(IF(IF('Master Data'!K21="probation","",Table1[[#This Row],[Basic]]*'Master Data'!$C$4)=0,"",IF('Master Data'!K21="probation","",Table1[[#This Row],[Basic]]*'Master Data'!$C$4)),"") | E19: =IFERROR(IF(IF('Master Data'!K21="probation","",Table1[[#This Row],[Basic]]*'Master Data'!$G$4)=0,"",IF('Master Data'!K21="probation","",Table1[[#This Row],[Basic]]*'Master Data'!$G$4)),"") | I19: =IF(SUM(Table1[[#This Row],[Basic]:[CCA]])=0,"",SUM(Table1[[#This Row],[Basic]:[CCA]])) | J19: =IFERROR(ROUND(IF('Master Data'!M21="YES","",IF(SUM(Table1[[#This Row],[Basic]:[DA Rate]])*10%=0,"",SUM(Table1[[#This Row],[Basic]:[DA Rate]])*10%)),0),"") | T19: =IF(SUM(Table1[[#This Row],[ECPenF]:[Other 2]])=0,"",SUM(Table1[[#This Row],[ECPenF]:[Other 2]])) | U19: =IFERROR(Table1[[#This Row],[Gross Income]]-Table1[[#This Row],[Total Deduction]],"")
... A174: =IF('Master Data'!A176="","",'Master Data'!A176) | B174: =IF('Master Data'!B176="","",'Master Data'!B176) | D174: =IFERROR(IF(IF('Master Data'!K176="probation","",Table1[[#This Row],[Basic]]*'Master Data'!$C$4)=0,"",IF('Master Data'!K176="probation","",Table1[[#This Row],[Basic]]*'Master Data'!$C$4)),"") | E174: =IFERROR(IF(IF('Master Data'!K176="probation","",Table1[[#This Row],[Basic]]*'Master Data'!$G$4)=0,"",IF('Master Data'!K176="probation","",Table1[[#This Row],[Basic]]*'Master Data'!$G$4)),"") | I174: =IF(SUM(Table1[[#This Row],[Basic]:[CCA]])=0,"",SUM(Table1[[#This Row],[Basic]:[CCA]])) | J174: =IFERROR(ROUND(IF('Master Data'!M176="YES","",IF(SUM(Table1[[#This Row],[Basic]:[DA Rate]])*10%=0,"",SUM(Table1[[#This Row],[Basic]:[DA Rate]])*10%)),0),"") | T174: =IF(SUM(Table1[[#This Row],[ECPenF]:[Other 2]])=0,"",SUM(Table1[[#This Row],[ECPenF]:[Other 2]])) | U174: =IFERROR(Table1[[#This Row],[Gross Income]]-Table1[[#This Row],[Total Deduction]],"")

Sheet Pay Slip
A1: Employee Pay Slip
A3: DDO Code: | C3: ='Master Data'!A1&"-"&'Master Data'!M4 -> Government Senior Secondary School, Rooppura-26887 | M3: 1
A4: TV No & Date : | C4: =IFERROR(VLOOKUP($M$3,salary_data,22,0),"NA") -> 44606 & 05-08-2020 | E4: Bill No. & Date: | G4: =IFERROR(VLOOKUP($M$3,salary_data,23,0),"NA") -> 39 & 29/07/2020 | I4: Month: | J4: =IFERROR(VLOOKUP($M$3,salary_data,24,0),"NA") -> 43831
A6: Name: | B6: =VLOOKUP($M$3,master_data,2,0) -> PREM SINGH SHEKHAWAT | E6: Designation: | G6: =VLOOKUP($M$3,master_data,3,0) -> व्याख्याता | I6: Pay Scale | J6: =VLOOKUP($M$3,master_data,4,0) -> L-13
A8: GPF/CPFNo: | C8: =VLOOKUP($M$3,master_data,5,0) -> 123456 | E8: SI No. | F8: =VLOOKUP($M$3,master_data,9,0) -> 123456 | H8: PAN: | I8: =VLOOKUP($M$3,master_data,10,0) -> ABCD1111E
A10: PRAN No: | B10: =VLOOKUP($M$3,master_data,8,0) -> 111111111111 | E10: EMP ID: | F10: =VLOOKUP($M$3,master_data,6,0) -> RJNA199828011935
A12: A/C No: | B12: =VLOOKUP($M$3,master_data,7,0) -> 51046337793
A14: Earnings(Rs.) | F14: Deductions(Rs.)
A15: =Table1[[#Headers],[Basic]]&"-" -> Basic- | B15: =IFERROR(VLOOKUP($M$3,salary_data,3,0),"NA") -> 0 | E15: =Table1[[#Headers],[ECPenF]]&"-" -> ECPenF- | F15: =IFERROR(VLOOKUP($M$3,salary_data,10,0),"NA") | H15: =Table1[[#Headers],[LIC]]&"-" -> LIC- | I15: =IFERROR(VLOOKUP($M$3,salary_data,16,0),"NA") -> 0
A16: =Table1[[#Headers],[DA Rate]]&"-" -> DA Rate- | B16: =IFERROR(VLOOKUP($M$3,salary_data,4,0),"NA") | E16: =Table1[[#Headers],[GPF]]&"-" -> GPF- | F16: =IFERROR(VLOOKUP($M$3,salary_data,11,0),"NA") -> 0 | H16: =Table1[[#Headers],[GPF Loan]]&"-" -> GPF Loan- | I16: =IFERROR(VLOOKUP($M$3,salary_data,17,0),"NA") -> 0
A17: =Table1[[#Headers],[HRA]]&"-" -> HRA- | B17: =IFERROR(VLOOKUP($M$3,salary_data,5,0),"NA") | E17: =Table1[[#Headers],[SIP]]&"-" -> SIP- | F17: =IFERROR(VLOOKUP($M$3,salary_data,12,0),"NA") -> 0 | H17: =Table1[[#Headers],[Other 1]]&"-" -> Other 1- | I17: =IFERROR(VLOOKUP($M$3,salary_data,18,0),"NA") -> 0
A18: =Table1[[#Headers],[Wash All.]]&"-" -> Wash All.- | B18: =IFERROR(VLOOKUP($M$3,salary_data,6,0),"NA") -> 0 | E18: =Table1[[#Headers],[RPMF]]&"-" -> RPMF- | F18: =IFERROR(VLOOKUP($M$3,salary_data,13,0),"NA") -> 0 | H18: =Table1[[#Headers],[Other 2]]&"-" -> Other 2- | I18: =IFERROR(VLOOKUP($M$3,salary_data,19,0),"NA") -> 0
A19: =Table1[[#Headers],[Handi. All.]]&"-" -> Handi. All.- | B19: =IFERROR(VLOOKUP($M$3,salary_data,7,0),"NA") -> 0 | E19: =Table1[[#Headers],[SIL]]&"-" -> SIL- | F19: =IFERROR(VLOOKUP($M$3,salary_data,14,0),"NA") -> 0
A20: =Table1[[#Headers],[CCA]]&"-" -> CCA- | B20: =IFERROR(VLOOKUP($M$3,salary_data,8,0),"NA") -> 0 | E20: =Table1[[#Headers],[ITax]]&"-" -> ITax- | F20: =IFERROR(VLOOKUP($M$3,salary_data,15,0),"NA") -> 0
A22: Gross Pay: | B22: =IFERROR(VLOOKUP($M$3,salary_data,9,0),"NA") | D22: Total Deduction : | F22: =IFERROR(VLOOKUP($M$3,salary_data,20,0),"NA") | H22: Net Pay : | I22: =IFERROR(VLOOKUP($M$3,salary_data,21,0),"NA")
G50: Print Date:- | I50: =TODAY() -> 44060

Sheet Yearly
A1: ='Master Data'!A1 -> Government Senior Secondary School, Rooppura | Z1: 1
A2: Yearly Estimated Salary Data
A3: Employee Name :- | D3: =VLOOKUP($Z$1,master_data_ga55,2,0) -> PREM SINGH SHEKHAWAT | I3: Designation :- | L3: =VLOOKUP($Z$1,master_data_ga55,3,0) -> व्याख्याता | S3: PAN No. :- | U3: =VLOOKUP($Z$1,master_data_ga55,10,0) -> ABCD1111E
A4: SI No.:- | C4: =VLOOKUP($Z$1,master_data_ga55,9,0) -> 123456 | F4: GPF:- | H4: =VLOOKUP($Z$1,master_data_ga55,5,0) -> 123456 | K4: PRAN No. :- | M4: =VLOOKUP($Z$1,master_data_ga55,8,0) -> 111111111111 | S4: Bank A/C.:- | U4: =VLOOKUP($Z$1,master_data_ga55,7,0) -> 51046337793
A5: Either in probation or permanent:- | G5: =VLOOKUP($Z$1,master_data_ga55,11,0) -> Permanent | I5: Is before 01-01-2004:- | L5: =VLOOKUP($Z$1,master_data_ga55,13,0) -> YES | N5: Surrender Month:- | T5: Bonos:-
A7: वेतन जो दिया गया | L7: कटौतिया जो की गयी | X7: NET PAY
A8: S.N. | B8: Month | C8: Basic | D8: DA | E8: HRA | F8: Wash All. | G8: Handi. All. | H8: CCA | I8: NPS Gov. | J8: OTH. | K8: TOTAL | L8: SI | M8: Emp. NPS | N8: GPF | O8: RPMF | P8: L.I.C. | Q8: S.I. LOAN | R8: GPF LOAN | S8: G.I. + S. Tax | T8: Income Tax | U8: OTH. 1 | V8: OTH.2 | W8: Total Ded.
A9: 1 | B9: 43891 | D9: =IF($G$5="Probation","",IF(C9="","",ROUND(C9*'Master Data'!$C$4,0))) | E9: =IF($G$5="Probation","",IF(C9="","",ROUND(C9*'Master Data'!$G$4,0))) | F9: =IF(VLOOKUP($Z$1,salary_data,6,0)=0,"",VLOOKUP($Z$1,salary_data,6,0)) | G9: =IF(VLOOKUP($Z$1,salary_data,7,0)=0,"",VLOOKUP($Z$1,salary_data,7,0)) | H9: =IF(VLOOKUP($Z$1,salary_data,8,0)=0,"",VLOOKUP($Z$1,salary_data,8,0)) | I9: =IFERROR(IF(IF($L$5="YES","",IF(OR($L$5="NO",G5="Probation",),ROUND(C9*10%,0),ROUND(SUM(C9+D9)*10%,0)))=0,"",IF($L$5="YES","",IF(OR($L$5="NO",G5="Probation",),ROUND(C9*10%,0),ROUND(SUM(C9+D9)*10%,0)))),"") | K9: =IF(SUM(C9:J9)=0,"",SUM(C9:J9)) | M9: =IFERROR(IF(IF($L$5="YES","",IF(OR($L$5="NO",G5="Probation",),ROUND(C9*10%,0),ROUND(SUM(C9+D9)*10%,0)))=0,"",IF($L$5="YES","",IF(OR($L$5="NO",G5="Probation",),ROUND(C9*10%,0),ROUND(SUM(C9+D9)*10%,0)))),"") | W9: =IF(SUM(L9:V9)=0,"",SUM(L9:V9)) | X9: =IFERROR(K9-W9,"")
A10: 2 | B10: 43922 | D10: =IF($G$5="Probation","",IF(C10="","",ROUND(C10*'Master Data'!$C$4,0))) | E10: =IF($G$5="Probation","",IF(C10="","",ROUND(C10*'Master Data'!$G$4,0))) | F10: =IF(VLOOKUP($Z$1,salary_data,6,0)=0,"",VLOOKUP($Z$1,salary_data,6,0)) | G10: =IF(VLOOKUP($Z$1,salary_data,7,0)=0,"",VLOOKUP($Z$1,salary_data,7,0)) | H10: =IF(VLOOKUP($Z$1,salary_data,8,0)=0,"",VLOOKUP($Z$1,salary_data,8,0)) | I10: =IFERROR(IF(IF($L$5="YES","",IF(OR($L$5="NO",G6="Probation",),ROUND(C10*10%,0),ROUND(SUM(C10+D10)*10%,0)))=0,"",IF($L$5="YES","",IF(OR($L$5="NO",G6="Probation",),ROUND(C10*10%,0),ROUND(SUM(C10+D10)*10%,0)))),"") | K10: =IF(SUM(C10:J10)=0,"",SUM(C10:J10)) | M10: =IFERROR(IF(IF($L$5="YES","",IF(OR($L$5="NO",G6="Probation",),ROUND(C10*10%,0),ROUND(SUM(C10+D10)*10%,0)))=0,"",IF($L$5="YES","",IF(OR($L$5="NO",G6="Probation",),ROUND(C10*10%,0),ROUND(SUM(C10+D10)*10%,0)))),"") | S10: 220 | W10: =IF(SUM(L10:V10)=0,"",SUM(L10:V10)) -> 220 | X10: =IFERROR(K10-W10,"")
A11: 3 | B11: 43952 | D11: =IF($G$5="Probation","",IF(C11="","",ROUND(C11*'Master Data'!$C$4,0))) | E11: =IF($G$5="Probation","",IF(C11="","",ROUND(C11*'Master Data'!$G$4,0))) | F11: =IF(VLOOKUP($Z$1,salary_data,6,0)=0,"",VLOOKUP($Z$1,salary_data,6,0)) | G11: =IF(VLOOKUP($Z$1,salary_data,7,0)=0,"",VLOOKUP($Z$1,salary_data,7,0)) | H11: =IF(VLOOKUP($Z$1,salary_data,8,0)=0,"",VLOOKUP($Z$1,salary_data,8,0)) | I11: =IFERROR(IF(IF($L$5="YES","",IF(OR($L$5="NO",G7="Probation",),ROUND(C11*10%,0),ROUND(SUM(C11+D11)*10%,0)))=0,"",IF($L$5="YES","",IF(OR($L$5="NO",G7="Probation",),ROUND(C11*10%,0),ROUND(SUM(C11+D11)*10%,0)))),"") | K11: =IF(SUM(C11:J11)=0,"",SUM(C11:J11)) | M11: =IFERROR(IF(IF($L$5="YES","",IF(OR($L$5="NO",G7="Probation",),ROUND(C11*10%,0),ROUND(SUM(C11+D11)*10%,0)))=0,"",IF($L$5="YES","",IF(OR($L$5="NO",G7="Probation",),ROUND(C11*10%,0),ROUND(SUM(C11+D11)*10%,0)))),"") | W11: =IF(SUM(L11:V11)=0,"",SUM(L11:V11)) | X11: =IFERROR(K11-W11,"")
A12: 4 | B12: 43983 | D12: =IF($G$5="Probation","",IF(C12="","",ROUND(C12*'Master Data'!$C$4,0))) | E12: =IF($G$5="Probation","",IF(C12="","",ROUND(C12*'Master Data'!$G$4,0))) | F12: =IF(VLOOKUP($Z$1,salary_data,6,0)=0,"",VLOOKUP($Z$1,salary_data,6,0)) | G12: =IF(VLOOKUP($Z$1,salary_data,7,0)=0,"",VLOOKUP($Z$1,salary_data,7,0)) | H12: =IF(VLOOKUP($Z$1,salary_data,8,0)=0,"",VLOOKUP($Z$1,salary_data,8,0)) | I12: =IFERROR(IF(IF($L$5="YES","",IF(OR($L$5="NO",G8="Probation",),ROUND(C12*10%,0),ROUND(SUM(C12+D12)*10%,0)))=0,"",IF($L$5="YES","",IF(OR($L$5="NO",G8="Probation",),ROUND(C12*10%,0),ROUND(SUM(C12+D12)*10%,0)))),"") | K12: =IF(SUM(C12:J12)=0,"",SUM(C12:J12)) | M12: =IFERROR(IF(IF($L$5="YES","",IF(OR($L$5="NO",G8="Probation",),ROUND(C12*10%,0),ROUND(SUM(C12+D12)*10%,0)))=0,"",IF($L$5="YES","",IF(OR($L$5="NO",G8="Probation",),ROUND(C12*10%,0),ROUND(SUM(C12+D12)*10%,0)))),"") | W12: =IF(SUM(L12:V12)=0,"",SUM(L12:V12)) | X12: =IFERROR(K12-W12,"")
A13: 5 | B13: 44013 | D13: =IF($G$5="Probation","",IF(C13="","",ROUND(C13*'Master Data'!$C$4,0))) | E13: =IF($G$5="Probation","",IF(C13="","",ROUND(C13*'Master Data'!$G$4,0))) | F13: =IF(VLOOKUP($Z$1,salary_data,6,0)=0,"",VLOOKUP($Z$1,salary_data,6,0)) | G13: =IF(VLOOKUP($Z$1,salary_data,7,0)=0,"",VLOOKUP($Z$1,salary_data,7,0)) | H13: =IF(VLOOKUP($Z$1,salary_data,8,0)=0,"",VLOOKUP($Z$1,salary_data,8,0)) | I13: =IFERROR(IF(IF($L$5="YES","",IF(OR($L$5="NO",G9="Probation",),ROUND(C13*10%,0),ROUND(SUM(C13+D13)*10%,0)))=0,"",IF($L$5="YES","",IF(OR($L$5="NO",G9="Probation",),ROUND(C13*10%,0),ROUND(SUM(C13+D13)*10%,0)))),"") | K13: =IF(SUM(C13:J13)=0,"",SUM(C13:J13)) | M13: =IFERROR(IF(IF($L$5="YES","",IF(OR($L$5="NO",G9="Probation",),ROUND(C13*10%,0),ROUND(SUM(C13+D13)*10%,0)))=0,"",IF($L$5="YES","",IF(OR($L$5="NO",G9="Probation",),ROUND(C13*10%,0),ROUND(SUM(C13+D13)*10%,0)))),"") | W13: =IF(SUM(L13:V13)=0,"",SUM(L13:V13)) | X13: =IFERROR(K13-W13,"")
A14: 6 | B14: 44044 | D14: =IF($G$5="Probation","",IF(C14="","",ROUND(C14*'Master Data'!$C$4,0))) | E14: =IF($G$5="Probation","",IF(C14="","",ROUND(C14*'Master Data'!$G$4,0))) | F14: =IF(VLOOKUP($Z$1,salary_data,6,0)=0,"",VLOOKUP($Z$1,salary_data,6,0)) | G14: =IF(VLOOKUP($Z$1,salary_data,7,0)=0,"",VLOOKUP($Z$1,salary_data,7,0)) | H14: =IF(VLOOKUP($Z$1,salary_data,8,0)=0,"",VLOOKUP($Z$1,salary_data,8,0)) | I14: =IFERROR(IF(IF($L$5="YES","",IF(OR($L$5="NO",G10="Probation",),ROUND(C14*10%,0),ROUND(SUM(C14+D14)*10%,0)))=0,"",IF($L$5="YES","",IF(OR($L$5="NO",G10="Probation",),ROUND(C14*10%,0),ROUND(SUM(C14+D14)*10%,0)))),"") | K14: =IF(SUM(C14:J14)=0,"",SUM(C14:J14)) | M14: =IFERROR(IF(IF($L$5="YES","",IF(OR($L$5="NO",G10="Probation",),ROUND(C14*10%,0),ROUND(SUM(C14+D14)*10%,0)))=0,"",IF($L$5="YES","",IF(OR($L$5="NO",G10="Probation",),ROUND(C14*10%,0),ROUND(SUM(C14+D14)*10%,0)))),"") | W14: =IF(SUM(L14:V14)=0,"",SUM(L14:V14)) | X14: =IFERROR(K14-W14,"")
A15: 7 | B15: 44075 | D15: =IF($G$5="Probation","",IF(C15="","",ROUND(C15*'Master Data'!$C$4,0))) | E15: =IF($G$5="Probation","",IF(C15="","",ROUND(C15*'Master Data'!$G$4,0))) | F15: =IF(VLOOKUP($Z$1,salary_data,6,0)=0,"",VLOOKUP($Z$1,salary_data,6,0)) | G15: =IF(VLOOKUP($Z$1,salary_data,7,0)=0,"",VLOOKUP($Z$1,salary_data,7,0)) | H15: =IF(VLOOKUP($Z$1,salary_data,8,0)=0,"",VLOOKUP($Z$1,salary_data,8,0)) | I15: =IFERROR(IF(IF($L$5="YES","",IF(OR($L$5="NO",G11="Probation",),ROUND(C15*10%,0),ROUND(SUM(C15+D15)*10%,0)))=0,"",IF($L$5="YES","",IF(OR($L$5="NO",G11="Probation",),ROUND(C15*10%,0),ROUND(SUM(C15+D15)*10%,0)))),"") | K15: =IF(SUM(C15:J15)=0,"",SUM(C15:J15)) | M15: =IFERROR(IF(IF($L$5="YES","",IF(OR($L$5="NO",G11="Probation",),ROUND(C15*10%,0),ROUND(SUM(C15+D15)*10%,0)))=0,"",IF($L$5="YES","",IF(OR($L$5="NO",G11="Probation",),ROUND(C15*10%,0),ROUND(SUM(C15+D15)*10%,0)))),"") | W15: =IF(SUM(L15:V15)=0,"",SUM(L15:V15)) | X15: =IFERROR(K15-W15,"")
A16: 8 | B16: 44105 | D16: =IF($G$5="Probation","",IF(C16="","",ROUND(C16*'Master Data'!$C$4,0))) | E16: =IF($G$5="Probation","",IF(C16="","",ROUND(C16*'Master Data'!$G$4,0))) | F16: =IF(VLOOKUP($Z$1,salary_data,6,0)=0,"",VLOOKUP($Z$1,salary_data,6,0)) | G16: =IF(VLOOKUP($Z$1,salary_data,7,0)=0,"",VLOOKUP($Z$1,salary_data,7,0)) | H16: =IF(VLOOKUP($Z$1,salary_data,8,0)=0,"",VLOOKUP($Z$1,salary_data,8,0)) | I16: =IFERROR(IF(IF($L$5="YES","",IF(OR($L$5="NO",G12="Probation",),ROUND(C16*10%,0),ROUND(SUM(C16+D16)*10%,0)))=0,"",IF($L$5="YES","",IF(OR($L$5="NO",G12="Probation",),ROUND(C16*10%,0),ROUND(SUM(C16+D16)*10%,0)))),"") | K16: =IF(SUM(C16:J16)=0,"",SUM(C16:J16)) | M16: =IFERROR(IF(IF($L$5="YES","",IF(OR($L$5="NO",G12="Probation",),ROUND(C16*10%,0),ROUND(SUM(C16+D16)*10%,0)))=0,"",IF($L$5="YES","",IF(OR($L$5="NO",G12="Probation",),ROUND(C16*10%,0),ROUND(SUM(C16+D16)*10%,0)))),"") | W16: =IF(SUM(L16:V16)=0,"",SUM(L16:V16)) | X16: =IFERROR(K16-W16,"")
A17: 9 | B17: 44136 | D17: =IF($G$5="Probation","",IF(C17="","",ROUND(C17*'Master Data'!$C$4,0))) | E17: =IF($G$5="Probation","",IF(C17="","",ROUND(C17*'Master Data'!$G$4,0))) | F17: =IF(VLOOKUP($Z$1,salary_data,6,0)=0,"",VLOOKUP($Z$1,salary_data,6,0)) | G17: =IF(VLOOKUP($Z$1,salary_data,7,0)=0,"",VLOOKUP($Z$1,salary_data,7,0)) | H17: =IF(VLOOKUP($Z$1,salary_data,8,0)=0,"",VLOOKUP($Z$1,salary_data,8,0)) | I17: =IFERROR(IF(IF($L$5="YES","",IF(OR($L$5="NO",G13="Probation",),ROUND(C17*10%,0),ROUND(SUM(C17+D17)*10%,0)))=0,"",IF($L$5="YES","",IF(OR($L$5="NO",G13="Probation",),ROUND(C17*10%,0),ROUND(SUM(C17+D17)*10%,0)))),"") | K17: =IF(SUM(C17:J17)=0,"",SUM(C17:J17)) | M17: =IFERROR(IF(IF($L$5="YES","",IF(OR($L$5="NO",G13="Probation",),ROUND(C17*10%,0),ROUND(SUM(C17+D17)*10%,0)))=0,"",IF($L$5="YES","",IF(OR($L$5="NO",G13="Probation",),ROUND(C17*10%,0),ROUND(SUM(C17+D17)*10%,0)))),"") | W17: =IF(SUM(L17:V17)=0,"",SUM(L17:V17)) | X17: =IFERROR(K17-W17,"")
A18: 10 | B18: 44166 | D18: =IF($G$5="Probation","",IF(C18="","",ROUND(C18*'Master Data'!$C$4,0))) | E18: =IF($G$5="Probation","",IF(C18="","",ROUND(C18*'Master Data'!$G$4,0))) | F18: =IF(VLOOKUP($Z$1,salary_data,6,0)=0,"",VLOOKUP($Z$1,salary_data,6,0)) | G18: =IF(VLOOKUP($Z$1,salary_data,7,0)=0,"",VLOOKUP($Z$1,salary_data,7,0)) | H18: =IF(VLOOKUP($Z$1,salary_data,8,0)=0,"",VLOOKUP($Z$1,salary_data,8,0)) | I18: =IFERROR(IF(IF($L$5="YES","",IF(OR($L$5="NO",G14="Probation",),ROUND(C18*10%,0),ROUND(SUM(C18+D18)*10%,0)))=0,"",IF($L$5="YES","",IF(OR($L$5="NO",G14="Probation",),ROUND(C18*10%,0),ROUND(SUM(C18+D18)*10%,0)))),"") | K18: =IF(SUM(C18:J18)=0,"",SUM(C18:J18)) | M18: =IFERROR(IF(IF($L$5="YES","",IF(OR($L$5="NO",G14="Probation",),ROUND(C18*10%,0),ROUND(SUM(C18+D18)*10%,0)))=0,"",IF($L$5="YES","",IF(OR($L$5="NO",G14="Probation",),ROUND(C18*10%,0),ROUND(SUM(C18+D18)*10%,0)))),"") | W18: =IF(SUM(L18:V18)=0,"",SUM(L18:V18)) | X18: =IFERROR(K18-W18,"")
A19: 11 | B19: 44197 | D19: =IF($G$5="Probation","",IF(C19="","",ROUND(C19*'Master Data'!$C$4,0))) | E19: =IF($G$5="Probation","",IF(C19="","",ROUND(C19*'Master Data'!$G$4,0))) | F19: =IF(VLOOKUP($Z$1,salary_data,6,0)=0,"",VLOOKUP($Z$1,salary_data,6,0)) | G19: =IF(VLOOKUP($Z$1,salary_data,7,0)=0,"",VLOOKUP($Z$1,salary_data,7,0)) | H19: =IF(VLOOKUP($Z$1,salary_data,8,0)=0,"",VLOOKUP($Z$1,salary_data,8,0)) | I19: =IFERROR(IF(IF($L$5="YES","",IF(OR($L$5="NO",G15="Probation",),ROUND(C19*10%,0),ROUND(SUM(C19+D19)*10%,0)))=0,"",IF($L$5="YES","",IF(OR($L$5="NO",G15="Probation",),ROUND(C19*10%,0),ROUND(SUM(C19+D19)*10%,0)))),"") | K19: =IF(SUM(C19:J19)=0,"",SUM(C19:J19)) | M19: =IFERROR(IF(IF($L$5="YES","",IF(OR($L$5="NO",G15="Probation",),ROUND(C19*10%,0),ROUND(SUM(C19+D19)*10%,0)))=0,"",IF($L$5="YES","",IF(OR($L$5="NO",G15="Probation",),ROUND(C19*10%,0),ROUND(SUM(C19+D19)*10%,0)))),"") | W19: =IF(SUM(L19:V19)=0,"",SUM(L19:V19)) | X19: =IFERROR(K19-W19,"")
A20: 12 | B20: 44228 | D20: =IF($G$5="Probation","",IF(C20="","",ROUND(C20*'Master Data'!$C$4,0))) | E20: =IF($G$5="Probation","",IF(C20="","",ROUND(C20*'Master Data'!$G$4,0))) | F20: =IF(VLOOKUP($Z$1,salary_data,6,0)=0,"",VLOOKUP($Z$1,salary_data,6,0)) | G20: =IF(VLOOKUP($Z$1,salary_data,7,0)=0,"",VLOOKUP($Z$1,salary_data,7,0)) | H20: =IF(VLOOKUP($Z$1,salary_data,8,0)=0,"",VLOOKUP($Z$1,salary_data,8,0)) | I20: =IFERROR(IF(IF($L$5="YES","",IF(OR($L$5="NO",G16="Probation",),ROUND(C20*10%,0),ROUND(SUM(C20+D20)*10%,0)))=0,"",IF($L$5="YES","",IF(OR($L$5="NO",G16="Probation",),ROUND(C20*10%,0),ROUND(SUM(C20+D20)*10%,0)))),"") | K20: =IF(SUM(C20:J20)=0,"",SUM(C20:J20)) | M20: =IFERROR(IF(IF($L$5="YES","",IF(OR($L$5="NO",G16="Probation",),ROUND(C20*10%,0),ROUND(SUM(C20+D20)*10%,0)))=0,"",IF($L$5="YES","",IF(OR($L$5="NO",G16="Probation",),ROUND(C20*10%,0),ROUND(SUM(C20+D20)*10%,0)))),"") | W20: =IF(SUM(L20:V20)=0,"",SUM(L20:V20)) | X20: =IFERROR(K20-W20,"")
A22: 13 | B22: Bonus | K22: =IF($W$5="Yes",6774,0) -> 0 | W22: =SUM(L22:V22) -> 0 | X22: =K22-W22 -> 0
A23: 14 | B23: PL | C23: =IFERROR(ROUND(VLOOKUP($R$5,month_basic,2,0)/2,0),"") | D23: =IF($G$5="Probation","",IF($C$23="","",ROUND($C$23*'Master Data'!$C$4,0))) | K23: =SUM(C23:J23) -> 0 | W23: =SUM(L23:V23) -> 0 | X23: =K23-W23 -> 0
A24: 15 | B24: DA Arr. | K24: =SUM(C24:J24) -> 0 | W24: =SUM(L24:V24) -> 0 | X24: =K24-W24 -> 0
A25: 16 | B25: DA Arr. | K25: =SUM(C25:J25) -> 0 | W25: =SUM(L25:V25) -> 0 | X25: =K25-W25 -> 0
A26: 17 | B26: Arrear | K26: =SUM(C26:J26) -> 0 | W26: =SUM(L26:V26) -> 0 | X26: =K26-W26 -> 0
A27: TOTAL | C27: =SUM(C9:C20,C22:C26) -> 0 | D27: =SUM(D9:D20,D22:D26) -> 0 | E27: =SUM(E9:E20,E22:E26) -> 0 | F27: =SUM(F9:F20,F22:F26) -> 0 | G27: =SUM(G9:G20,G22:G26) -> 0 | H27: =SUM(H9:H20,H22:H26) -> 0 | I27: =SUM(I9:I20,I22:I26) -> 0 | J27: =SUM(J9:J20,J22:J26) -> 0 | ... X27: =SUM(X9:X20,X22:X26) -> 0
